Workbook
Name その他: '(参考)リスト'!$C$47
Name その他施設: '(参考)リスト'!$C$79:$C$83
Name 換気施設: '(参考)リスト'!$C$56:$C$60
Name 坑門: '(参考)リスト'!$C$31:$C$32
Name 照明施設: '(参考)リスト'!$C$52:$C$54
Name 天井板: '(参考)リスト'!$C$37:$C$39
Name 内装板: '(参考)リスト'!$C$34:$C$35
Name 非常用施設: '(参考)リスト'!$C$62:$C$77
Name 覆工: '(参考)リスト'!$C$16:$C$29
Name 路面: '(参考)リスト'!$C$41:$C$45

Sheet 点検様式作成フロー
A1: 点検様式作成フロ-
A3: 作成フロー図 | H3: 点検調書作成手順
H4: ①様式A-1～A-3（トンネル台帳）
H5: トンネル点検の実施にあたっては，現場点検作業に先行してトンネル情報を収集する。トンネル台帳（様式Ａ－1～様式Ａ－3）はトンネル完成後に作成され，維持管理の段階で引き継がれるが，関連資料等を確認したうえで，追加情報があれば必要に応じて追記することが望ましい。
H9: ②様式D-2-1、様式D-2-1´
H10: 現場点検作業を実施し，近接目視点検で確認した変状状況や補修履歴を忠実に変状展開図に転記する。
H12: ③様式D-1-1、様式D-1-2
H13: 変状展開図や撮影した写真等をもとに，対象トンネルの対策区分を決定し，対策区分がⅡ～Ⅳの変状および異常判定区分「×」を抽出し，写真台帳を作成する。
H16: ④様式B
H17: 写真台帳の作成と同時に，トンネルの構造を展開した位置図に変状写真位置を記録する。
H19: ⑤様式D-3
H20: 変状展開図ならびに写真台帳をもとに覆工スパンごとの変状展開図を作成し，変状発生状況をとりまとめる。
H22: ⑥様式E
H23: 近接目視または打音検査，触診ができていない箇所および近接目視によらない方法を講じた場所に対する調査結果を記録する。
... H33: ファイルは以下の分割規則に従う。 ※各ファイルとも （参考）リスト のシートを付けて保存すること。 ・様式A-1～A-3は同一ファイルとする。 ・様式B、D-1-1、D-1-2、D-2-1（もしくはD-2-1'）は別ファイルとする。 ・様式C-1-1、C-1-2、C-2は同一ファイルとする。 ・様式D-3、E、F、Gは同一ファイルとする。

Sheet 変状面積算出方法
A1: 変状面積算出方法
A26: 注1）外力による変状：ひび割れや圧ざの場合は変状の寸法を記録する。
A27: 例）ひび割れ：長さ（L）×最大ひび割れ幅（t）を記録する。 変形，移動，沈下：数値的な記載が可能な場合のみ記載する。
A28: 注2）材料劣化による：打音異常
A29: 例）うき，はく離（閉合ひび割れ）：変状範囲を包括する寸法（L×W） うき，はく離（ひび割れ沿い）：打音異常箇所を包括する寸法（L×W） 鋼材腐食（鉄筋腐食）：一括した対策が適当と考えられる範囲を包括する寸法（L×W）
A30: 注3）漏水による変状：漏水発生範囲を包括し，垂れ下がりの可能性がある側壁下端まで含めた寸法を，L×Wで記録する。打継ぎ目地沿いの 漏水については目地を跨いだ50cm幅を横幅とする。

Sheet 様式A-1
B2: ■トンネル台帳 トンネル諸元、非常用施設諸元 【様式A-1】 | S2: 施設ID | W2: 34.31550,131.99144
B3: フリガナ | D3: ホオテキトンネル | H3: 路線名 | J3: 秋掛錦線 | P3: 管理者名 | R3: 山口県岩国土木建築事務所 | W3: 緊急輸送道路 | Z3: 指定なし
B4: 名 称 | D4: 鴬笛トンネル | W4: 代替路の有無 | Z4: 無
B5: 所在地 | D5: 自 | E5: 岩国市錦町深川 | H5: 作成者 | K5: 株式会社エイト日本技術開発 岡根 三千夫 | P5: 作成年月日 | R5: 45651 | U5: トンネル延長 | X5: L= | Z5: 32 | AB5: ｍ
D6: 至 | E6: 岩国市錦町深川 | U6: ﾄﾝﾈﾙの分類 | X6: 陸上トンネル（その他）
B7: 起点 | C7: 緯度 | E7: 341849.55 | H7: 完成年月日 | K7: 昭和14年 | M7: 舗装 | O7: 種 別 | Q7: アスファルト舗装 | S7: トンネル非常用施設 | T7: 施設の内訳 | X7: 種別・方式 | Y7: 型式 | Z7: 個数 | AA7: 更新年度 | AE7: =INT(E7/10000) -> 34 | AF7: =INT(E7/100)-AE7*100 -> 18 | AG7: =E7-AE7*10000-AF7*100 -> 49.55 | AH7: =ROUND(AE7+AF7/60+AG7/60/60,5) -> 34.31376 | AI7: =TEXT(AH7,"0.00000") -> 34.31376
C8: 経度 | E8: 1315929.1 | H8: 供用年月日 | K8: 昭和14年 | O8: 厚 さ | T8: 通報設備 | U8: 通話型通報設備 | X8: - | Y8: - | Z8: - | AA8: - | AE8: =INT(E8/10000) -> 131 | AF8: =INT(E8/100)-AE8*100 -> 59 | AG8: =E8-AE8*10000-AF8*100 -> 29.1 | AH8: =ROUND(AE8+AF8/60+AG8/60/60,5) -> 131.99142 | AI8: =TEXT(AH8,"0.00000") -> 131.99142
B9: 終点 | C9: 緯度 | E9: 341850.97 | H9: トンネル区分 | O9: 面 積 | Q9: 108.8 | U9: 操作型通報設備 | X9: - | Y9: - | Z9: - | AA9: -
C10: 経度 | E10: 1315928.4 | H10: 内装種類 | O10: 更新年次 | U10: 自動通報設備 | X10: - | Y10: - | Z10: - | AA10: -
B11: 一般有料区分 | E11: 一般トンネル | H11: 天井板種類 | M11: 排水 | O11: 種 別 | T11: 警報設備 | U11: 非常警報設備 | X11: - | Y11: - | Z11: - | AA11: -
B12: 土かぶり | G12: m | H12: 坑門 | I12: 起点 | J12: 形式 | K12: 素吹き | O12: 更新年次 | T12: 消火設備 | U12: 消 火 器 | X12: - | Y12: - | Z12: - | AA12: -
B13: 内空断面積 | E13: 12.7 | G13: m2 | J13: 延長 | K13: 0 | L13: m | M13: 施設 | P13: 種別・方式 | Q13: 個数 | R13: 更新年次 | U13: 消火栓設備 | X13: - | Y13: - | Z13: - | AA13: -
B14: 交 通 量 | E14: 0 | G14: 台/日 | I14: 終点 | J14: 形式 | K14: 素吹き | M14: 道路附属物等 | N14: 照明 | P14: - | Q14: - | R14: - | T14: 避難誘導設備 | U14: 誘導表示設備 | X14: - | Y14: - | Z14: - | AA14: -
C15: 道 路 幅 | E15: 3.4 | G15: m | J15: 延長 | K15: 0 | L15: m | N15: 換気 | P15: 自然換気 | Q15: - | R15: - | U15: 避難情報提供設備 | X15: - | Y15: - | Z15: - | AA15: -
B16: 幅 員 | C16: 車 道 幅 | G16: m | H16: 竣工巻厚 | I16: アーチ | L16: cm | N16: 標識 | P16: - | Q16: - | R16: - | X16: - | Y16: - | Z16: - | AA16: -
G17: m | I17: 側 壁 | L17: cm | N17: 警報表示板 | P17: - | Q17: - | R17: - | U17: 避難通路 | X17: - | Y17: - | Z17: - | AA17: -
C18: 歩道等幅 | E18: 0 | G18: m | L18: cm | N18: 吸音板 | P18: - | Q18: - | R18: - | U18: 排煙設備 | X18: - | Y18: - | Z18: - | AA18: -
B19: 高さ | C19: 建築限界高 | G19: m | I19: インバート | L19: cm | T19: その他の設備 | U19: 給水栓設備 | X19: - | Y19: - | Z19: - | AA19: -
C20: 中央高 | E20: 4.1 | G20: m | H20: 半径 | I20: アーチ | L20: cm | U20: 無線通信補助設備 | X20: - | Y20: - | Z20: - | AA20: -
C21: 有効高 | G21: m | I21: 側 壁 | L21: cm | U21: 水噴霧設備 | X21: - | Y21: - | Z21: - | AA21: -
C22: 縦断勾配 | I22: インバート | L22: cm | U22: 監視設備 | X22: - | Y22: - | Z22: - | AA22: -
B23: 線 形 | C23: 直線区間長 | H23: 占用物件 | I23: 種 類 | K23: 寸 法 | M23: 管理者名 | Q23: 更新年次 | S23: 非常用施設 関連設備 | U23: 予備発電設備 | X23: - | Y23: - | Z23: - | AA23: -
C24: 曲線区間 | D24: 区間長 | F24: -
D25: 起点側ｸﾛｿｲﾄﾞ | F25: -
D26: 曲線半径 | F26: -
D27: 終点側ｸﾛｿｲﾄﾞ | F27: - | S27: その他 | U27: 非常駐車帯 | X27: - | Y27: - | Z27: - | AA27: -
B28: トンネル工法 | U28: 方向転換所 | X28: - | Y28: - | Z28: - | AA28: -
C29: ※緯度・経度については、秒の小数第二位の単位まで記入すること。

Sheet 様式A-2
B3: ■トンネル台帳 トンネル情報一覧表 【様式A-2】
B4: フリガナ | E4: ='様式A-1'!D3 -> ホオテキトンネル | J4: 路線名 | M4: ='様式A-1'!J3 -> 秋掛錦線 | S4: 作成者 | Y4: ='様式A-1'!K5 -> 株式会社エイト日本技術開発 岡根 三千夫 | AE4: 作成年月日 | AI4: ='様式A-1'!R5 -> 45651
B5: 名 称 | E5: ='様式A-1'!D4 -> 鴬笛トンネル | J5: 管理者名 | M5: ='様式A-1'!R3 -> 山口県岩国土木建築事務所
B6: 覆工 ｽﾊﾟﾝ 番号 | C6: ｽﾊﾟﾝ長 | D6: 追加距離 | F6: トンネル本体工 | K6: 照明施設 | O6: 非常用施設 | AE6: 換気施設 | AK6: その他附属物等
O7: 通報設備 | R7: 警報設備 | S7: 消火設備 | U7: 避難誘導設備 | Y7: その他の設備 | AC7: 特記事項
D8: 起点側 | E8: 終点側 | F8: 特記事項 | I8: 内装板 | J8: 天井板 | K8: 基本照明 | L8: 入口出口照明 | M8: 特記事項 | O8: 通話型通報設備 | P8: 操作型通報設備 | Q8: 自動通報設備 | R8: 非常警報設備 | S8: 消 火 器 | T8: 消火栓設備 | U8: 誘導表示設備 | V8: 避難情報提供設備 | W8: 避難通路 | X8: 排煙設備 | Y8: 給水栓設備 | Z8: 無線通信補助設備 | AA8: 水噴霧設備 | AB8: 監視設備 | AE8: JF | AF8: VI計 | AG8: CO計 | AH8: 風向 風速計 | AI8: 特記事項
C9: (m) | D9: (m) | E9: (m)
B10: PS | C10: 0 | D10: 0 | E10: 0 | F10: 坑門無し
B11: 1 | C11: 10 | D11: 0 | E11: 10 | F11: 吹付モルタル
B12: 2 | C12: 10 | D12: 10 | E12: 20 | F12: 吹付モルタル
B13: 3 | C13: 10 | D13: 20 | E13: 30 | F13: 吹付モルタル
B14: 4 | C14: 2 | D14: 30 | E14: 32 | F14: 吹付モルタル
B15: PE | C15: 0 | D15: 32 | E15: 32
B42: ※ 行が不足する場合は、適時、表の行を増やすこと。

Sheet 様式A-3
B3: ■トンネル台帳 トンネル記録（位置図、断面図、施工実績他）【様式A-3】
B4: フリガナ | E4: ='様式A-1'!D3 -> ホオテキトンネル | J4: 路線名 | M4: ='様式A-1'!J3 -> 秋掛錦線 | S4: 作成者 | W4: ='様式A-1'!K5 -> 株式会社エイト日本技術開発 岡根 三千夫 | AC4: 作成年月日 | AF4: ='様式A-1'!R5 -> 45651
B5: 名 称 | E5: ='様式A-1'!D4 -> 鴬笛トンネル | J5: 管理者名 | M5: ='様式A-1'!R3 -> 山口県岩国土木建築事務所
B6: 位置図・現況写真・標準断面図・地質縦断図・施工実績

Sheet 様式B
B2: ■定期点検記録様式 トンネル変状・異常箇所写真位置図 【様式B】 | N2: 定期点検年月日 | P2: 45594 | S2: 施設ID | V2: 34.31550,131.99144
B3: フリガナ | C3: ホオテキトンネル | G3: 路線名 | H3: 秋掛錦線 | K3: 管理者名 | L3: 山口県岩国土木建築事務所 | Q3: 定期点検実施者 | S3: 株式会社エイト日本技術開発 | V3: 起点 | W3: 緯度 | X3: 341849.55
B4: 名 称 | C4: 鴬笛トンネル | S4: 岡根 三千夫 | W4: 経度 | X4: 1315929.1
B5: 所在地 | C5: 自 | D5: 岩国市錦町深川 | G5: トンネル工法 | I5: その他 | L5: トンネル延長 | N5: L= | O5: 32 | P5: ｍ | Q5: 自専道 or 一般道 | S5: 代替路の有無 | V5: 終点 | W5: 緯度 | X5: 341850.97
C6: 至 | D6: 岩国市錦町深川 | G6: 建設年度 | I6: 昭和14年 | L6: 幅員 | N6: L= | O6: 3.4 | P6: ｍ | S6: 緊急輸送道路 | W6: 経度 | X6: 1315928.4
B7: トンネル毎 の健全性の 診断の区分 | D7: Ⅱ
G8: 変状・異常 箇所数合計 | I8: トンネル本体工 | J8: 材質劣化 | K8: Ⅱ | L8: 17 | N8: Ⅲ | O8: 0 | Q8: Ⅳ | R8: 0 | T8: 附属物等 の取付状態 | V8: ◯ （応急措置後) | X8: 0
J9: 漏水 | K9: Ⅱ | L9: 12 | N9: Ⅲ | O9: 0 | Q9: Ⅳ | R9: 0
V10: ✕ | X10: 0
J11: 外力 | K11: Ⅱ | L11: 0 | N11: 0 | O11: 0 | Q11: Ⅳ | R11: 0
B12: トンネル変状・異常箇所写真位置図
J29: 注１：本位置図は、見下げた状態で記載すること。 注２：覆工スパン番号は横断目地毎(矢板工法の場合は上半アーチの 横断目地毎)に設定すること。 | Q29: 注３：写真番号に付する変状番号は、各覆工スパンの変状に対して新たに確認された場合 は順次追加していくこと。 注４：横断目地の変状は前の覆工スパン番号で計上すること。 注５：１枚に収まらない場合は、複数枚に分けて作成すること。
C30: ※1 トンネル本体工の変状数は、材質劣化、漏水に起因するものは変状単位で、外力に起因するものはスパン単位で計上すること。
C31: ※2 トンネル本体工の変状に対しては、措置の必要性（Ⅱ～Ⅳ）について表記すること。また、点検前に実施された措置によりⅠと判定された箇所についても記載すること。
C32: ※3 附属物等の取付状態の○欄については、応急措置前に判定区分×とした箇所のうち応急措置により○判定とした箇所の数を記入すること。
C33: ※4 附属物等の異常番号は、本体工と番号が重複しないよう101番以降とする等の配慮を行い、分かりやすく記録すること。

Sheet 様式C-1-1
B2: ■定期点検記録様式 全スパン定期点検結果総括表（トンネル本体工） 【様式C-1-1】
B3: フリガナ | F3: ホオテキトンネル | I3: 路線名 | K3: 秋掛錦線 | O3: 定期点検実施者 | P3: 株式会社エイト日本技術開発 | T3: 定期点検年月日 | X3: 45594
B4: 名 称 | F4: 鴬笛トンネル | I4: 管理者名 | K4: 山口県岩国土木建築事務所 | P4: 岡根 三千夫
B5: 定期点検結果 | C5: 覆工 スパン 番号 | E5: 変状 番号 | F5: 距離 （m） | G5: 変状部位 | I5: 変 状 の 内 容 | O5: 前回定期点検時の状態 | P5: 今回定期点検結果 | T5: 措置履歴 | Y5: 対応方針 ・ 特記事項
G7: 対象箇所 | H7: 部位区分 | I7: 変状区分 | J7: 変状種類 | M7: 変状の発生範囲の規模 | N7: 前回定期点検時の変状の発生範囲及び規模 | O7: 対策区分 | P7: 対策区分 | R7: 調査の 要否 | S7: 措置の 要否 | T7: 実施 | U7: 措置の実施状況
P8: 応急措置前 | Q8: 応急措置後
C9: 1 | E9: 1 | F9: 3.4 | G9: 覆工 | H9: アーチ（左側） | I9: 材質劣化 | J9: うき・はく離 | M9: 0.9m×0.8m | N9: 0.2m×0.2m | O9: － | P9: － | Q9: Ⅰ | R9: 否 | S9: 否 | T9: 未 | U9: ― | Y9: 寸法変更
C10: 1 | E10: 2 | F10: 3.6 | G10: 覆工 | H10: アーチ（左側） | I10: 漏水 | J10: 漏水 | M10: 3.3m×2.1m | N10: － | O10: Ⅱb | P10: － | Q10: Ⅰ | R10: 否 | S10: 否 | T10: 未 | U10: ― | Y10: 判定見直し
C11: 1 | E11: 3 | F11: 5.3 | G11: 覆工 | H11: アーチ（左側） | I11: 漏水 | J11: 漏水 | M11: 0.8m×0.4m | N11: － | O11: Ⅱb | P11: － | Q11: Ⅰ | R11: 否 | S11: 否 | T11: 未 | U11: ― | Y11: 判定見直し
C12: 1 | E12: 4 | F12: 8.8 | G12: 覆工 | H12: アーチ（左側） | I12: 漏水 | J12: 漏水 | M12: 2.6m×0.5m | N12: － | O12: － | P12: － | Q12: Ⅰ | R12: 否 | S12: 否 | T12: 未 | U12: ―
C13: 1 | E13: 5 | F13: 7.8 | G13: 覆工 | H13: アーチ（左側） | I13: 漏水 | J13: 漏水 | M13: 3.7m×4.2m | N13: － | O13: Ⅱb | P13: － | Q13: Ⅰ | R13: 否 | S13: 否 | T13: 未 | U13: ― | Y13: 判定見直し
C14: 1 | E14: 6 | F14: 0 | G14: 覆工 | H14: アーチ（左側） | I14: 漏水 | J14: 漏水 | M14: 3.8m×3.9m | N14: － | O14: Ⅱb | P14: － | Q14: Ⅰ | R14: 否 | S14: 否 | T14: 未 | U14: ― | Y14: 判定見直し
C15: 1 | E15: 7 | F15: 2 | G15: 覆工 | H15: アーチ（左側） | I15: 漏水 | J15: 漏水 | M15: 4.1m×0.5m | N15: － | O15: － | P15: － | Q15: Ⅰ | R15: 否 | S15: 否 | T15: 未 | U15: ―
C16: 1 | E16: 8 | F16: 5 | G16: 覆工 | H16: アーチ（左側） | I16: 材質劣化 | J16: うき・はく離 | M16: 0.8m×0.7m | N16: － | O16: － | P16: － | Q16: Ⅱb | R16: 否 | S16: 要監視 | T16: 未 | U16: ―
C17: 1 | E17: 9 | F17: 2.2 | G17: 覆工 | H17: 側壁（右側） | I17: 漏水 | J17: 漏水 | M17: 2.1m×3.5m | N17: － | O17: Ⅱb | P17: － | Q17: Ⅰ | R17: 否 | S17: 否 | T17: 未 | U17: ― | Y17: 判定見直し
C18: 1 | E18: 10 | F18: 7.4 | G18: 覆工 | H18: アーチ（右側） | I18: 材質劣化 | J18: うき・はく離 | M18: 0.4m×0.5m | N18: 0.2m×0.2m | O18: － | P18: － | Q18: Ⅰ | R18: 否 | S18: 否 | T18: 未 | U18: ― | Y18: 寸法変更
C19: 1 | E19: 11 | F19: 8.6 | G19: 覆工 | H19: アーチ（右側） | I19: 材質劣化 | J19: うき・はく離 | M19: 0.7m×0.7m | N19: 0.2m×0.2m | O19: － | P19: － | Q19: Ⅰ | R19: 否 | S19: 否 | T19: 未 | U19: ― | Y19: 寸法変更
C20: 1 | E20: 12 | F20: 6.2 | G20: 覆工 | H20: アーチ（右側） | I20: 漏水 | J20: 漏水 | M20: 2.8m×3.6m | N20: － | O20: Ⅱb | P20: － | Q20: Ⅰ | R20: 否 | S20: 否 | T20: 未 | U20: ― | Y20: 判定見直し
C21: 1 | E21: 13 | F21: 9.5 | G21: 覆工 | H21: アーチ（右側） | I21: 材質劣化 | J21: うき・はく離 | M21: 0.7m×0.8m | N21: － | O21: － | P21: － | Q21: Ⅱb | R21: 否 | S21: 要監視 | T21: 未 | U21: ―
C22: 1 | E22: 14 | F22: 0 | G22: 路面 | H22: 車道 | I22: 漏水 | J22: その他 | M22: 0.3m×10.0m | N22: － | O22: － | P22: － | Q22: Ⅱb | R22: 否 | S22: 要監視 | T22: 未 | U22: ―
C23: 1 | E23: 15 | F23: 0 | G23: 路面 | H23: 車道 | I23: 漏水 | J23: その他 | M23: 0.3m×10.0m | N23: － | O23: － | P23: － | Q23: Ⅱb | R23: 否 | S23: 要監視 | T23: 未 | U23: ―
C24: 2 | E24: 1 | F24: 14 | G24: 覆工 | H24: アーチ（天端） | I24: 材質劣化 | J24: うき・はく離 | M24: 2.8m×1.7m | N24: 0.2m×0.2m、0.3m×0.3m | O24: Ⅱb | P24: － | Q24: Ⅰ | R24: 否 | S24: 否 | T24: 未 | U24: ― | Y24: 寸法変更、判定見直し
C25: 2 | E25: 2 | F25: 16 | G25: 覆工 | H25: アーチ（左側） | I25: 材質劣化 | J25: うき・はく離 | M25: 0.3m×0.4m | N25: － | O25: － | P25: － | Q25: Ⅱb | R25: 否 | S25: 要監視 | T25: 未 | U25: ―
C26: 2 | E26: 3 | F26: 11.5 | G26: 覆工 | H26: アーチ（右側） | I26: 材質劣化 | J26: うき・はく離 | M26: 0.7m×0.7m | N26: － | O26: － | P26: － | Q26: Ⅱb | R26: 否 | S26: 要監視 | T26: 未 | U26: ―
C27: 2 | E27: 4 | F27: 12.2 | G27: 覆工 | H27: 側壁（右側） | I27: 漏水 | J27: 漏水 | M27: 1.2m×2.1m | N27: － | O27: Ⅱb | P27: － | Q27: Ⅰ | R27: 否 | S27: 否 | T27: 未 | U27: ― | Y27: 判定見直し
C28: 2 | E28: 5 | F28: 10 | G28: 路面 | H28: 車道 | I28: 漏水 | J28: その他 | M28: 0.3m×10.0m | N28: － | O28: － | P28: － | Q28: Ⅱb | R28: 否 | S28: 要監視 | T28: 未 | U28: ―
C29: 2 | E29: 6 | F29: 10 | G29: 路面 | H29: 車道 | I29: 漏水 | J29: その他 | M29: 0.3m×10.0m | N29: － | O29: － | P29: － | Q29: Ⅱb | R29: 否 | S29: 要監視 | T29: 未 | U29: ―
C30: 3 | E30: 1 | F30: 22 | G30: 覆工 | H30: 側壁（左側） | I30: 材質劣化 | J30: うき・はく離 | M30: 0.2m×0.25m | N30: 0.1m×0.1m | O30: － | P30: － | Q30: Ⅰ | R30: 否 | S30: 否 | T30: 未 | U30: ― | Y30: 寸法変更
C31: 3 | E31: 2 | F31: 23.5 | G31: 覆工 | H31: アーチ（左側） | I31: 漏水 | J31: 漏水 | M31: 2.0m×3.2m | N31: － | O31: Ⅱb | P31: － | Q31: Ⅰ | R31: 否 | S31: 否 | T31: 未 | U31: ― | Y31: 判定見直し
C32: 3 | E32: 3 | F32: 27 | G32: 覆工 | H32: アーチ（左側） | I32: 漏水 | J32: 漏水 | M32: 2.9m×3.0m | N32: － | O32: Ⅱb | P32: - | Q32: Ⅰ | R32: 否 | S32: 否 | T32: 未 | U32: ― | Y32: 判定見直し
C33: 3 | E33: 4 | F33: 29.6 | G33: 覆工 | H33: アーチ（左側） | I33: 材質劣化 | J33: うき・はく離 | M33: 0.6m×0.6m | N33: － | O33: － | P33: － | Q33: Ⅱb | R33: 否 | S33: 要監視 | T33: 未 | U33: ―
C34: 3 | E34: 5 | F34: 21.5 | G34: 覆工 | H34: 側壁（右側） | I34: 漏水 | J34: 漏水 | M34: 0.5m×2.8m | N34: 0.1m×0.1m | O34: Ⅱb | P34: － | Q34: Ⅰ | R34: 否 | S34: 否 | T34: 未 | U34: ― | Y34: 寸法変更、判定見直し
C35: 3 | E35: 6 | F35: 28.3 | G35: 覆工 | H35: 側壁（右側） | I35: 材質劣化 | J35: うき・はく離 | M35: 1.2m×0.2m | N35: 1.2m×0.2m | O35: － | P35: － | Q35: Ⅰ | R35: 否 | S35: 否 | T35: 未 | U35: ―
C36: 3 | E36: 7 | F36: 28.8 | G36: 覆工 | H36: 側壁（右側） | I36: 材質劣化 | J36: うき・はく離 | M36: 1.0m×2.5m | N36: 1.2m×1.8m、1.2m×0.8m | O36: Ⅱb | P36: － | Q36: Ⅰ | R36: 否 | S36: 否 | T36: 未 | U36: ― | Y36: 寸法変更、判定見直し
C37: 3 | E37: 8 | F37: 20 | G37: 路面 | H37: 車道 | I37: 漏水 | J37: その他 | M37: 0.3m×10.0m | N37: － | O37: － | P37: － | Q37: Ⅱb | R37: 否 | S37: 要監視 | T37: 未 | U37: ―
C38: 3 | E38: 9 | F38: 20 | G38: 路面 | H38: 車道 | I38: 漏水 | J38: その他 | M38: 0.3m×10.0m | N38: － | O38: － | P38: － | Q38: Ⅱb | R38: 否 | S38: 要監視 | T38: 未 | U38: ―
C39: 4 | E39: 1 | F39: 30 | G39: 覆工 | H39: 側壁（左側） | I39: 漏水 | J39: 漏水 | M39: 2.6m×1.5m | N39: － | O39: Ⅱb | P39: － | Q39: Ⅰ | R39: 否 | S39: 否 | T39: 未 | U39: ― | Y39: 判定見直し
C40: ※ 対策区分（応急措置後）のⅡb～Ⅳについて記入すること。また、点検前に実施された措置によりⅠと判定された変状も記入すること。
C41: ※ 応急措置を実施しないで判定した変状の対策区分は、対策区分の応急措置後の欄に記入すること。
C42: ※ 変状の除去が不完全で、緊急対応が必要な場合は対応方針欄に記入すること。
...

Sheet 様式C-1-2
B2: ■定期点検記録様式 定期点検結果総括表（トンネル内附属物等の取付状態） 【様式C-1-2】
B3: フリガナ | F3: ホオテキトンネル | J3: 路線名 | K3: 秋掛錦線 | M3: 定期点検実施者 | O3: 株式会社エイト日本技術開発 | S3: 定期点検年月日 | W3: 45594
B4: 名 称 | F4: 鴬笛トンネル | J4: 管理者名 | K4: 山口県岩国土木建築事務所 | O4: 岡根 三千夫
B5: 定期点検結果 | C5: 覆工 スパン 番号 | E5: 異常 番号 | F5: 距離 （m） | G5: 異常部位 | J5: 異 常 の 内 容 | N5: 定期点検結果 | P5: 応急措置の 実施状況 | V5: 対応方針 ・ 特記事項
G6: 対象箇所 | I6: 部位区分 | J6: 異常種類 | L6: 異常の発生範囲の規模 | N6: 異常判定区分 | P6: 実施 | Q6: 応急措置の内容
N7: 応急措置前 | O7: 応急措置後
C42: ※ 異常判定区分×について記入すること。また、応急措置により○と判定された箇所も記入すること。
C43: ※ 応急措置を実施しないで判定した箇所の異常判定区分は、異常判定区分の応急措置後の欄に記入すること。
C44: ※ 異常の除去が不完全で、緊急対応が必要な場合は対応方針欄に記入すること。
C45: ※ １スパンの覆工に複数の異常がある場合は、異常箇所毎に記入すること。
C46: ※ 行が不足する場合は、適時、表の行を増やすこと。

Sheet 様式C-2
B2: ■定期点検記録様式 状態の把握の内容 【様式C-2】
B3: フリガナ | E3: ホオテキトンネル | H3: 路線名 | J3: 秋掛錦線 | M3: 定期点検実施者 | Q3: 株式会社エイト日本技術開発 | U3: 定期点検年月日 | X3: 45594
B4: 名 称 | E4: 鴬笛トンネル | H4: 管理者名 | J4: 山口県岩国土木建築事務所 | Q4: 岡根 三千夫
B5: 状態の把握の内容 | C5: 覆工スパン 番号 | E5: 変状 番号 | F5: 状態の把握の内容
F6: 年月日 | H6: 内容 | O6: 結果 | Y6: 対策区分の 判定
B22: 注）状態の把握において、微破壊・非破壊検査や各種試験等を実施した場合について記載する。
B23: ※ 行が不足する場合は、適時、表の行を増やすこと。

Sheet 様式D-1-1_001
B2: ■定期点検記録様式 変状写真台帳【様式D-1-1】 | R2: 施設ID | T2: 34.31550,131.99144
B3: フリガナ | E3: ホオテキトンネル | H3: 路 線 名 | J3: 秋掛錦線 | M3: 定期点検実施者 | P3: 株式会社エイト日本技術開発 | S3: 定期点検年月日 | U3: 45594
B4: 名 称 | E4: 鴬笛トンネル | H4: 管理者名 | J4: 山口県岩国土木建築事務所 | P4: 岡根 三千夫
B5: 写真 番号 | C5: 覆工スパン 番号 | E5: 1 | M5: 写真 番号 | N5: 覆工スパン 番号 | P5: 1
C6: 変状番号 | E6: 1 | N6: 変状番号 | P6: 2
B7: 変状 部位 | C7: 対象箇所 | E7: 覆工 | M7: 変状 部位 | N7: 対象箇所 | P7: 覆工
C8: 部位区分 | E8: アーチ（左側） | N8: 部位区分 | P8: アーチ（左側）
B9: 変状種類 | E9: うき・はく離 | M9: 変状種類 | P9: 漏水
B10: 対策 区分 | C10: 変状区分 | E10: 材質劣化 | M10: 対策 区分 | N10: 変状区分 | P10: 漏水
C11: 応急措置前 | E11: － | N11: 応急措置前 | P11: －
C12: 応急措置後 | E12: Ⅰ | N12: 応急措置後 | P12: Ⅰ
B13: 変状の発生範囲及び規模 | E13: 0.9m×0.8m 0.72㎡ | H13: 前回変状の発生範囲及び規模 | J13: 0.2m×0.2m | M13: 変状の発生範囲及び規模 | P13: 3.3m×2.1m 6.93㎡ | S13: 前回変状の発生範囲及び規模 | U13: ―
B14: 対策履歴 | E14: ― | H14: 実施状況（実施日） | J14: ― | M14: 対策履歴 | P14: ― | S14: 実施状況（実施日） | U14: ―
B15: メモ | E15: アーチのうき 進行性がないのでⅠ判定とする | M15: メモ | P15: アーチの遊離石灰 前回写真番号S1-2 進行性がないのでⅠ判定とする
B16: 写真 番号 | C16: 覆工スパン 番号 | E16: 1 | M16: 写真 番号 | N16: 覆工スパン 番号 | P16: 1
C17: 変状番号 | E17: 3 | N17: 変状番号 | P17: 4
B18: 変状 部位 | C18: 対象箇所 | E18: 覆工 | M18: 変状 部位 | N18: 対象箇所 | P18: 覆工
C19: 部位区分 | E19: アーチ（左側） | N19: 部位区分 | P19: アーチ（左側）
B20: 変状種類 | E20: 漏水 | M20: 変状種類 | P20: 漏水
B21: 対策 区分 | C21: 変状区分 | E21: 漏水 | M21: 対策 区分 | N21: 変状区分 | P21: 漏水
C22: 応急措置前 | E22: － | N22: 応急措置前 | P22: －
C23: 応急措置後 | E23: Ⅰ | N23: 応急措置後 | P23: Ⅰ
B24: 変状の発生範囲及び規模 | E24: 0.8m×0.4m 0.32㎡ | H24: 前回変状の発生範囲及び規模 | J24: ― | M24: 変状の発生範囲及び規模 | P24: 2.6m×0.5m 1.3㎡ | S24: 前回変状の発生範囲及び規模 | U24: ―
B25: 対策履歴 | E25: ― | H25: 実施状況（実施日） | J25: ― | M25: 対策履歴 | P25: ― | S25: 実施状況（実施日） | U25: ―
B26: メモ | E26: アーチの遊離石灰 前回写真番号S1-3 進行性がないのでⅠ判定とする | M26: メモ | P26: アーチのにじみ 進行性がないのでⅠ判定とする
C27: ※ 応急措置後の対策区分について添付すること。また、点検前に 実施された措置によりⅠと判定された箇所も添付すること。 | N27: ※ 変状の発生範囲の規模とは、対策を行う際に参考となる変状の長さや面積をいう。
N28: ※ 応急措置を実施しないで決定した変状の対策区分は、対策区分の応急措置後の欄に記入すること。
C29: ※ たたき落としを実施した場合は、実施後の写真を添付すること。 | N29: ※ 変状の発生範囲の規模は、面積・寸法を記載すること。(ひび割れ幅のみmmとし、その他をm表記とする)
C30: ※ 附属物の取付状態に関する異常写真は別途、任意の書式でとりまとめること。 | N30: ※ 構造用鋼材以外の異物に伴ううき・はく離については、メモ欄に異物の概要を記入すること。

Sheet 様式D-1-1_002
B2: ■定期点検記録様式 変状写真台帳【様式D-1-1】 | R2: 施設ID | T2: 34.31550,131.99144
B3: フリガナ | E3: ホオテキトンネル | H3: 路 線 名 | J3: 秋掛錦線 | M3: 定期点検実施者 | P3: 株式会社エイト日本技術開発 | S3: 定期点検年月日 | U3: 45594
B4: 名 称 | E4: 鴬笛トンネル | H4: 管理者名 | J4: 山口県岩国土木建築事務所 | P4: 岡根 三千夫
B5: 写真 番号 | C5: 覆工スパン 番号 | E5: 1 | M5: 写真 番号 | N5: 覆工スパン 番号 | P5: 1
C6: 変状番号 | E6: 5 | N6: 変状番号 | P6: 6
B7: 変状 部位 | C7: 対象箇所 | E7: 覆工 | M7: 変状 部位 | N7: 対象箇所 | P7: 覆工
C8: 部位区分 | E8: アーチ（左側） | N8: 部位区分 | P8: アーチ（左側）
B9: 変状種類 | E9: 漏水 | M9: 変状種類 | P9: 漏水
B10: 対策 区分 | C10: 変状区分 | E10: 漏水 | M10: 対策 区分 | N10: 変状区分 | P10: 漏水
C11: 応急措置前 | E11: － | N11: 応急措置前 | P11: －
C12: 応急措置後 | E12: Ⅰ | N12: 応急措置後 | P12: Ⅰ
B13: 変状の発生範囲及び規模 | E13: 3.7m×4.2m 15.54㎡ | H13: 前回変状の発生範囲及び規模 | J13: ― | M13: 変状の発生範囲及び規模 | P13: 3.8m×3.9m 14.82㎡ | S13: 前回変状の発生範囲及び規模 | U13: ―
B14: 対策履歴 | E14: ― | H14: 実施状況（実施日） | J14: ― | M14: 対策履歴 | P14: ― | S14: 実施状況（実施日） | U14: ―
B15: メモ | E15: アーチの遊離石灰 前回写真番号S1-4 進行性がないのでⅠ判定とする | M15: メモ | P15: アーチの遊離石灰 前回写真番号S1-1 進行性がないのでⅠ判定とする
B16: 写真 番号 | C16: 覆工スパン 番号 | E16: 1 | M16: 写真 番号 | N16: 覆工スパン 番号 | P16: 1
C17: 変状番号 | E17: 7 | N17: 変状番号 | P17: 8
B18: 変状 部位 | C18: 対象箇所 | E18: 覆工 | M18: 変状 部位 | N18: 対象箇所 | P18: 覆工
C19: 部位区分 | E19: アーチ（左側） | N19: 部位区分 | P19: アーチ（左側）
B20: 変状種類 | E20: 漏水 | M20: 変状種類 | P20: うき・はく離
B21: 対策 区分 | C21: 変状区分 | E21: 漏水 | M21: 対策 区分 | N21: 変状区分 | P21: 材質劣化
C22: 応急措置前 | E22: － | N22: 応急措置前 | P22: －
C23: 応急措置後 | E23: Ⅰ | N23: 応急措置後 | P23: Ⅱb
B24: 変状の発生範囲及び規模 | E24: 4.1m×0.5m 2.05㎡ | H24: 前回変状の発生範囲及び規模 | J24: ― | M24: 変状の発生範囲及び規模 | P24: 0.8m×0.7m 0.56㎡ | S24: 前回変状の発生範囲及び規模 | U24: ―
B25: 対策履歴 | E25: ― | H25: 実施状況（実施日） | J25: ― | M25: 対策履歴 | P25: ― | S25: 実施状況（実施日） | U25: ―
B26: メモ | E26: アーチのにじみ 進行性がないのでⅠ判定とする | M26: メモ | P26: アーチのうき 進行性の有無を把握する必要がある
C27: ※ 応急措置後の対策区分について添付すること。また、点検前に 実施された措置によりⅠと判定された箇所も添付すること。 | N27: ※ 変状の発生範囲の規模とは、対策を行う際に参考となる変状の長さや面積をいう。
N28: ※ 応急措置を実施しないで決定した変状の対策区分は、対策区分の応急措置後の欄に記入すること。
C29: ※ たたき落としを実施した場合は、実施後の写真を添付すること。 | N29: ※ 変状の発生範囲の規模は、面積・寸法を記載すること。(ひび割れ幅のみmmとし、その他をm表記とする)
C30: ※ 附属物の取付状態に関する異常写真は別途、任意の書式でとりまとめること。 | N30: ※ 構造用鋼材以外の異物に伴ううき・はく離については、メモ欄に異物の概要を記入すること。

Sheet 様式D-1-1_003
B2: ■定期点検記録様式 変状写真台帳【様式D-1-1】 | R2: 施設ID | T2: 34.31550,131.99144
B3: フリガナ | E3: ホオテキトンネル | H3: 路 線 名 | J3: 秋掛錦線 | M3: 定期点検実施者 | P3: 株式会社エイト日本技術開発 | S3: 定期点検年月日 | U3: 45594
B4: 名 称 | E4: 鴬笛トンネル | H4: 管理者名 | J4: 山口県岩国土木建築事務所 | P4: 岡根 三千夫
B5: 写真 番号 | C5: 覆工スパン 番号 | E5: 1 | M5: 写真 番号 | N5: 覆工スパン 番号 | P5: 1
C6: 変状番号 | E6: 9 | N6: 変状番号 | P6: 10
B7: 変状 部位 | C7: 対象箇所 | E7: 覆工 | M7: 変状 部位 | N7: 対象箇所 | P7: 覆工
C8: 部位区分 | E8: 側壁（右側） | N8: 部位区分 | P8: アーチ（右側）
B9: 変状種類 | E9: 漏水 | M9: 変状種類 | P9: うき・はく離
B10: 対策 区分 | C10: 変状区分 | E10: 漏水 | M10: 対策 区分 | N10: 変状区分 | P10: 材質劣化
C11: 応急措置前 | E11: － | N11: 応急措置前 | P11: －
C12: 応急措置後 | E12: Ⅰ | N12: 応急措置後 | P12: Ⅰ
B13: 変状の発生範囲及び規模 | E13: 2.1m×3.5m 7.35㎡ | H13: 前回変状の発生範囲及び規模 | J13: ― | M13: 変状の発生範囲及び規模 | P13: 0.4m×0.5m 0.2㎡ | S13: 前回変状の発生範囲及び規模 | U13: 0.2m×0.2m
B14: 対策履歴 | E14: ― | H14: 実施状況（実施日） | J14: ― | M14: 対策履歴 | P14: ― | S14: 実施状況（実施日） | U14: ―
B15: メモ | E15: 側壁の遊離石灰 前回写真番号S1-7 進行性がないのでⅠ判定とする | M15: メモ | P15: アーチのうき 進行性がないのでⅠ判定とする
B16: 写真 番号 | C16: 覆工スパン 番号 | E16: 1 | M16: 写真 番号 | N16: 覆工スパン 番号 | P16: 1
C17: 変状番号 | E17: 11 | N17: 変状番号 | P17: 12
B18: 変状 部位 | C18: 対象箇所 | E18: 覆工 | M18: 変状 部位 | N18: 対象箇所 | P18: 覆工
C19: 部位区分 | E19: アーチ（右側） | N19: 部位区分 | P19: アーチ（右側）
B20: 変状種類 | E20: うき・はく離 | M20: 変状種類 | P20: 漏水
B21: 対策 区分 | C21: 変状区分 | E21: 材質劣化 | M21: 対策 区分 | N21: 変状区分 | P21: 漏水
C22: 応急措置前 | E22: － | N22: 応急措置前 | P22: －
C23: 応急措置後 | E23: Ⅰ | N23: 応急措置後 | P23: Ⅰ
B24: 変状の発生範囲及び規模 | E24: 0.7m×0.7m 0.49㎡ | H24: 前回変状の発生範囲及び規模 | J24: 0.2m×0.2m | M24: 変状の発生範囲及び規模 | P24: 2.8m×3.6m 10.08㎡ | S24: 前回変状の発生範囲及び規模 | U24: ―
B25: 対策履歴 | E25: ― | H25: 実施状況（実施日） | J25: ― | M25: 対策履歴 | P25: ― | S25: 実施状況（実施日） | U25: ―
B26: メモ | E26: アーチのうき 進行性がないのでⅠ判定とする | M26: メモ | P26: アーチの遊離石灰 前回写真番号S1-8 進行性がないのでⅠ判定とする
C27: ※ 応急措置後の対策区分について添付すること。また、点検前に 実施された措置によりⅠと判定された箇所も添付すること。 | N27: ※ 変状の発生範囲の規模とは、対策を行う際に参考となる変状の長さや面積をいう。
N28: ※ 応急措置を実施しないで決定した変状の対策区分は、対策区分の応急措置後の欄に記入すること。
C29: ※ たたき落としを実施した場合は、実施後の写真を添付すること。 | N29: ※ 変状の発生範囲の規模は、面積・寸法を記載すること。(ひび割れ幅のみmmとし、その他をm表記とする)
C30: ※ 附属物の取付状態に関する異常写真は別途、任意の書式でとりまとめること。 | N30: ※ 構造用鋼材以外の異物に伴ううき・はく離については、メモ欄に異物の概要を記入すること。

Sheet 様式D-1-1_004
B2: ■定期点検記録様式 変状写真台帳【様式D-1-1】 | R2: 施設ID | T2: 34.31550,131.99144
B3: フリガナ | E3: ホオテキトンネル | H3: 路 線 名 | J3: 秋掛錦線 | M3: 定期点検実施者 | P3: 株式会社エイト日本技術開発 | S3: 定期点検年月日 | U3: 45594
B4: 名 称 | E4: 鴬笛トンネル | H4: 管理者名 | J4: 山口県岩国土木建築事務所 | P4: 岡根 三千夫
B5: 写真 番号 | C5: 覆工スパン 番号 | E5: 1 | M5: 写真 番号 | N5: 覆工スパン 番号 | P5: 1
C6: 変状番号 | E6: 13 | N6: 変状番号 | P6: 14
B7: 変状 部位 | C7: 対象箇所 | E7: 覆工 | M7: 変状 部位 | N7: 対象箇所 | P7: 路面
C8: 部位区分 | E8: アーチ（右側） | N8: 部位区分 | P8: 車道
B9: 変状種類 | E9: うき・はく離 | M9: 変状種類 | P9: その他
B10: 対策 区分 | C10: 変状区分 | E10: 材質劣化 | M10: 対策 区分 | N10: 変状区分 | P10: 漏水
C11: 応急措置前 | E11: － | N11: 応急措置前 | P11: －
C12: 応急措置後 | E12: Ⅱb | N12: 応急措置後 | P12: Ⅱb
B13: 変状の発生範囲及び規模 | E13: 0.7m×0.8m 0.56㎡ | H13: 前回変状の発生範囲及び規模 | J13: ― | M13: 変状の発生範囲及び規模 | P13: 0.3m×10.0m 3㎡ | S13: 前回変状の発生範囲及び規模 | U13: ―
B14: 対策履歴 | E14: ― | H14: 実施状況（実施日） | J14: ― | M14: 対策履歴 | P14: ― | S14: 実施状況（実施日） | U14: ―
B15: メモ | E15: アーチのうき 進行性の有無を把握する必要がある | M15: メモ | P15: 車道の土砂堆積 t=10㎜ 進行性の有無を把握する必要がある
B16: 写真 番号 | C16: 覆工スパン 番号 | E16: 1 | M16: 写真 番号 | N16: 覆工スパン 番号 | P16: 2
C17: 変状番号 | E17: 15 | N17: 変状番号 | P17: 1
B18: 変状 部位 | C18: 対象箇所 | E18: 路面 | M18: 変状 部位 | N18: 対象箇所 | P18: 覆工
C19: 部位区分 | E19: 車道 | N19: 部位区分 | P19: アーチ（天端）
B20: 変状種類 | E20: その他 | M20: 変状種類 | P20: うき・はく離
B21: 対策 区分 | C21: 変状区分 | E21: 漏水 | M21: 対策 区分 | N21: 変状区分 | P21: 材質劣化
C22: 応急措置前 | E22: － | N22: 応急措置前 | P22: －
C23: 応急措置後 | E23: Ⅱb | N23: 応急措置後 | P23: Ⅰ
B24: 変状の発生範囲及び規模 | E24: 0.3m×10.0m 3㎡ | H24: 前回変状の発生範囲及び規模 | J24: ― | M24: 変状の発生範囲及び規模 | P24: 2.8m×1.7m 4.76㎡ | S24: 前回変状の発生範囲及び規模 | U24: ―
B25: 対策履歴 | E25: ― | H25: 実施状況（実施日） | J25: ― | M25: 対策履歴 | P25: ― | S25: 実施状況（実施日） | U25: ―
B26: メモ | E26: 車道の土砂堆積 t=20㎜ 進行性の有無を把握する必要がある | M26: メモ | P26: アーチのうき 進行性がないのでⅠ判定とする 前回写真番号S1-11、S1-12
C27: ※ 応急措置後の対策区分について添付すること。また、点検前に 実施された措置によりⅠと判定された箇所も添付すること。 | N27: ※ 変状の発生範囲の規模とは、対策を行う際に参考となる変状の長さや面積をいう。
N28: ※ 応急措置を実施しないで決定した変状の対策区分は、対策区分の応急措置後の欄に記入すること。
C29: ※ たたき落としを実施した場合は、実施後の写真を添付すること。 | N29: ※ 変状の発生範囲の規模は、面積・寸法を記載すること。(ひび割れ幅のみmmとし、その他をm表記とする)
C30: ※ 附属物の取付状態に関する異常写真は別途、任意の書式でとりまとめること。 | N30: ※ 構造用鋼材以外の異物に伴ううき・はく離については、メモ欄に異物の概要を記入すること。

Sheet 様式D-1-1_005
B2: ■定期点検記録様式 変状写真台帳【様式D-1-1】 | R2: 施設ID | T2: 34.31550,131.99144
B3: フリガナ | E3: ホオテキトンネル | H3: 路 線 名 | J3: 秋掛錦線 | M3: 定期点検実施者 | P3: 株式会社エイト日本技術開発 | S3: 定期点検年月日 | U3: 45594
B4: 名 称 | E4: 鴬笛トンネル | H4: 管理者名 | J4: 山口県岩国土木建築事務所 | P4: 岡根 三千夫
B5: 写真 番号 | C5: 覆工スパン 番号 | E5: 2 | M5: 写真 番号 | N5: 覆工スパン 番号 | P5: 2
C6: 変状番号 | E6: 2 | N6: 変状番号 | P6: 3
B7: 変状 部位 | C7: 対象箇所 | E7: 覆工 | M7: 変状 部位 | N7: 対象箇所 | P7: 覆工
C8: 部位区分 | E8: アーチ（左側） | N8: 部位区分 | P8: アーチ（右側）
B9: 変状種類 | E9: うき・はく離 | M9: 変状種類 | P9: うき・はく離
B10: 対策 区分 | C10: 変状区分 | E10: 材質劣化 | M10: 対策 区分 | N10: 変状区分 | P10: 材質劣化
C11: 応急措置前 | E11: － | N11: 応急措置前 | P11: －
C12: 応急措置後 | E12: Ⅱb | N12: 応急措置後 | P12: Ⅱb
B13: 変状の発生範囲及び規模 | E13: 0.3m×0.4m 0.12㎡ | H13: 前回変状の発生範囲及び規模 | J13: ― | M13: 変状の発生範囲及び規模 | P13: 0.7m×0.7m 0.49㎡ | S13: 前回変状の発生範囲及び規模 | U13: ―
B14: 対策履歴 | E14: ― | H14: 実施状況（実施日） | J14: ― | M14: 対策履歴 | P14: ― | S14: 実施状況（実施日） | U14: ―
B15: メモ | E15: アーチのうき 進行性の有無を把握する必要がある | M15: メモ | P15: アーチのうき 進行性の有無を把握する必要がある
B16: 写真 番号 | C16: 覆工スパン 番号 | E16: 2 | M16: 写真 番号 | N16: 覆工スパン 番号 | P16: 2
C17: 変状番号 | E17: 4 | N17: 変状番号 | P17: 5
B18: 変状 部位 | C18: 対象箇所 | E18: 覆工 | M18: 変状 部位 | N18: 対象箇所 | P18: 路面
C19: 部位区分 | E19: 側壁（右側） | N19: 部位区分 | P19: 車道
B20: 変状種類 | E20: 漏水 | M20: 変状種類 | P20: 漏水
B21: 対策 区分 | C21: 変状区分 | E21: 漏水 | M21: 対策 区分 | N21: 変状区分
C22: 応急措置前 | E22: － | N22: 応急措置前 | P22: －
C23: 応急措置後 | E23: Ⅰ | N23: 応急措置後 | P23: Ⅱb
B24: 変状の発生範囲及び規模 | E24: 1.2m×2.1m 2.52㎡ | H24: 前回変状の発生範囲及び規模 | J24: ― | M24: 変状の発生範囲及び規模 | P24: 0.3m×10.0m 3㎡ | S24: 前回変状の発生範囲及び規模 | U24: ―
B25: 対策履歴 | E25: ― | H25: 実施状況（実施日） | J25: ― | M25: 対策履歴 | P25: ― | S25: 実施状況（実施日） | U25: ―
B26: メモ | E26: 側壁の遊離石灰 前回写真番号S1-9 進行性がないのでⅠ判定とする | M26: メモ | P26: 車道の土砂堆積 t=20㎜ 進行性の有無を把握する必要がある
C27: ※ 応急措置後の対策区分について添付すること。また、点検前に 実施された措置によりⅠと判定された箇所も添付すること。 | N27: ※ 変状の発生範囲の規模とは、対策を行う際に参考となる変状の長さや面積をいう。
N28: ※ 応急措置を実施しないで決定した変状の対策区分は、対策区分の応急措置後の欄に記入すること。
C29: ※ たたき落としを実施した場合は、実施後の写真を添付すること。 | N29: ※ 変状の発生範囲の規模は、面積・寸法を記載すること。(ひび割れ幅のみmmとし、その他をm表記とする)
C30: ※ 附属物の取付状態に関する異常写真は別途、任意の書式でとりまとめること。 | N30: ※ 構造用鋼材以外の異物に伴ううき・はく離については、メモ欄に異物の概要を記入すること。

Sheet 様式D-1-1_006
B2: ■定期点検記録様式 変状写真台帳【様式D-1-1】 | R2: 施設ID | T2: 34.31550,131.99144
B3: フリガナ | E3: ホオテキトンネル | H3: 路 線 名 | J3: 秋掛錦線 | M3: 定期点検実施者 | P3: 株式会社エイト日本技術開発 | S3: 定期点検年月日 | U3: 45594
B4: 名 称 | E4: 鴬笛トンネル | H4: 管理者名 | J4: 山口県岩国土木建築事務所 | P4: 岡根 三千夫
B5: 写真 番号 | C5: 覆工スパン 番号 | E5: 2 | M5: 写真 番号 | N5: 覆工スパン 番号 | P5: 3
C6: 変状番号 | E6: 6 | N6: 変状番号 | P6: 1
B7: 変状 部位 | C7: 対象箇所 | E7: 路面 | M7: 変状 部位 | N7: 対象箇所 | P7: 覆工
C8: 部位区分 | E8: 車道 | N8: 部位区分 | P8: 側壁（左側）
B9: 変状種類 | E9: その他 | M9: 変状種類 | P9: うき・はく離
B10: 対策 区分 | C10: 変状区分 | E10: 漏水 | M10: 対策 区分 | N10: 変状区分 | P10: 材質劣化
C11: 応急措置前 | E11: － | N11: 応急措置前 | P11: －
C12: 応急措置後 | E12: Ⅱb | N12: 応急措置後 | P12: Ⅰ
B13: 変状の発生範囲及び規模 | E13: 0.3m×10.0m 3㎡ | H13: 前回変状の発生範囲及び規模 | J13: ― | M13: 変状の発生範囲及び規模 | P13: 0.2m×0.25m 0.05㎡ | S13: 前回変状の発生範囲及び規模 | U13: 0.1m×0.1m
B14: 対策履歴 | E14: ― | H14: 実施状況（実施日） | J14: ― | M14: 対策履歴 | P14: ― | S14: 実施状況（実施日） | U14: ―
B15: メモ | E15: 車道の土砂堆積 t=20㎜ 進行性の有無を把握する必要がある | M15: メモ | P15: 側壁のうき 進行性がないのでⅠ判定とする
B16: 写真 番号 | C16: 覆工スパン 番号 | E16: 3 | M16: 写真 番号 | N16: 覆工スパン 番号 | P16: 3
C17: 変状番号 | E17: 2 | N17: 変状番号 | P17: 3
B18: 変状 部位 | C18: 対象箇所 | E18: 覆工 | M18: 変状 部位 | N18: 対象箇所 | P18: 覆工
C19: 部位区分 | E19: アーチ（左側） | N19: 部位区分 | P19: アーチ（左側）
B20: 変状種類 | E20: 漏水 | M20: 変状種類 | P20: 漏水
B21: 対策 区分 | C21: 変状区分 | E21: 漏水 | M21: 対策 区分 | N21: 変状区分 | P21: 漏水
C22: 応急措置前 | E22: － | N22: 応急措置前 | P22: －
C23: 応急措置後 | E23: Ⅰ | N23: 応急措置後 | P23: Ⅰ
B24: 変状の発生範囲及び規模 | E24: 2.0m×3.2m 6.4㎡ | H24: 前回変状の発生範囲及び規模 | J24: ― | M24: 変状の発生範囲及び規模 | P24: 2.9m×3.0m 8.7㎡ | S24: 前回変状の発生範囲及び規模 | U24: ―
B25: 対策履歴 | E25: ― | H25: 実施状況（実施日） | J25: ― | M25: 対策履歴 | P25: ― | S25: 実施状況（実施日） | U25: ―
B26: メモ | E26: アーチの遊離石灰 前回写真番号S1-5 進行性がないのでⅠ判定とする | M26: メモ | P26: アーチの遊離石灰 前回写真番号S1-6、S2-1 進行性がないのでⅠ判定とする
C27: ※ 応急措置後の対策区分について添付すること。また、点検前に 実施された措置によりⅠと判定された箇所も添付すること。 | N27: ※ 変状の発生範囲の規模とは、対策を行う際に参考となる変状の長さや面積をいう。
N28: ※ 応急措置を実施しないで決定した変状の対策区分は、対策区分の応急措置後の欄に記入すること。
C29: ※ たたき落としを実施した場合は、実施後の写真を添付すること。 | N29: ※ 変状の発生範囲の規模は、面積・寸法を記載すること。(ひび割れ幅のみmmとし、その他をm表記とする)
C30: ※ 附属物の取付状態に関する異常写真は別途、任意の書式でとりまとめること。 | N30: ※ 構造用鋼材以外の異物に伴ううき・はく離については、メモ欄に異物の概要を記入すること。

Sheet 様式D-1-1_007
B2: ■定期点検記録様式 変状写真台帳【様式D-1-1】 | R2: 施設ID | T2: 34.31550,131.99144
B3: フリガナ | E3: ホオテキトンネル | H3: 路 線 名 | J3: 秋掛錦線 | M3: 定期点検実施者 | P3: 株式会社エイト日本技術開発 | S3: 定期点検年月日 | U3: 45594
B4: 名 称 | E4: 鴬笛トンネル | H4: 管理者名 | J4: 山口県岩国土木建築事務所 | P4: 岡根 三千夫
B5: 写真 番号 | C5: 覆工スパン 番号 | E5: 3 | M5: 写真 番号 | N5: 覆工スパン 番号 | P5: 3
C6: 変状番号 | E6: 4 | N6: 変状番号 | P6: 5
B7: 変状 部位 | C7: 対象箇所 | E7: 覆工 | M7: 変状 部位 | N7: 対象箇所 | P7: 覆工
C8: 部位区分 | E8: アーチ（左側） | N8: 部位区分 | P8: 側壁（右側）
B9: 変状種類 | E9: うき・はく離 | M9: 変状種類 | P9: 漏水
B10: 対策 区分 | C10: 変状区分 | E10: 材質劣化 | M10: 対策 区分 | N10: 変状区分 | P10: 漏水
C11: 応急措置前 | E11: － | N11: 応急措置前 | P11: －
C12: 応急措置後 | E12: Ⅱb | N12: 応急措置後 | P12: Ⅰ
B13: 変状の発生範囲及び規模 | E13: 0.6m×0.6m 0.36㎡ | H13: 前回変状の発生範囲及び規模 | J13: ― | M13: 変状の発生範囲及び規模 | P13: 0.5m×2.8m 1.4㎡ | S13: 前回変状の発生範囲及び規模 | U13: 0.1m×0.1m
B14: 対策履歴 | E14: ― | H14: 実施状況（実施日） | J14: ― | M14: 対策履歴 | P14: ― | S14: 実施状況（実施日） | U14: ―
B15: メモ | E15: アーチのうき 進行性の有無を把握する必要がある | M15: メモ | P15: 側壁の遊離石灰 前回写真番号S1-10 進行性がないのでⅠ判定とする
B16: 写真 番号 | C16: 覆工スパン 番号 | E16: 3 | M16: 写真 番号 | N16: 覆工スパン 番号 | P16: 3
C17: 変状番号 | E17: 6 | N17: 変状番号 | P17: 7
B18: 変状 部位 | C18: 対象箇所 | E18: 覆工 | M18: 変状 部位 | N18: 対象箇所 | P18: 覆工
C19: 部位区分 | E19: 側壁（右側） | N19: 部位区分 | P19: 側壁（右側）
B20: 変状種類 | E20: うき・はく離 | M20: 変状種類 | P20: うき・はく離
B21: 対策 区分 | C21: 変状区分 | E21: 材質劣化 | M21: 対策 区分 | N21: 変状区分 | P21: 材質劣化
C22: 応急措置前 | E22: － | N22: 応急措置前 | P22: －
C23: 応急措置後 | E23: Ⅰ | N23: 応急措置後 | P23: Ⅰ
B24: 変状の発生範囲及び規模 | E24: 1.2m×0.2m 0.24㎡ | H24: 前回変状の発生範囲及び規模 | J24: 1.2m×0.2m | M24: 変状の発生範囲及び規模 | P24: 1.0m×2.5m 2.5㎡ | S24: 前回変状の発生範囲及び規模 | U24: 1.2m×1.8m、1.2m×0.8m
B25: 対策履歴 | E25: ― | H25: 実施状況（実施日） | J25: ― | M25: 対策履歴 | P25: ― | S25: 実施状況（実施日） | U25: ―
B26: メモ | E26: 側壁のうき 進行性がないのでⅠ判定とする | M26: メモ | P26: 側壁のうき 前回写真番号S2-2 進行性がないのでⅠ判定とする
C27: ※ 応急措置後の対策区分について添付すること。また、点検前に 実施された措置によりⅠと判定された箇所も添付すること。 | N27: ※ 変状の発生範囲の規模とは、対策を行う際に参考となる変状の長さや面積をいう。
N28: ※ 応急措置を実施しないで決定した変状の対策区分は、対策区分の応急措置後の欄に記入すること。
C29: ※ たたき落としを実施した場合は、実施後の写真を添付すること。 | N29: ※ 変状の発生範囲の規模は、面積・寸法を記載すること。(ひび割れ幅のみmmとし、その他をm表記とする)
C30: ※ 附属物の取付状態に関する異常写真は別途、任意の書式でとりまとめること。 | N30: ※ 構造用鋼材以外の異物に伴ううき・はく離については、メモ欄に異物の概要を記入すること。

Sheet 様式D-1-1_008
B2: ■定期点検記録様式 変状写真台帳【様式D-1-1】 | R2: 施設ID | T2: 34.31550,131.99144
B3: フリガナ | E3: ホオテキトンネル | H3: 路 線 名 | J3: 秋掛錦線 | M3: 定期点検実施者 | P3: 株式会社エイト日本技術開発 | S3: 定期点検年月日 | U3: 45594
B4: 名 称 | E4: 鴬笛トンネル | H4: 管理者名 | J4: 山口県岩国土木建築事務所 | P4: 岡根 三千夫
B5: 写真 番号 | C5: 覆工スパン 番号 | E5: 3 | M5: 写真 番号 | N5: 覆工スパン 番号 | P5: 3
C6: 変状番号 | E6: 8 | N6: 変状番号 | P6: 9
B7: 変状 部位 | C7: 対象箇所 | E7: 路面 | M7: 変状 部位 | N7: 対象箇所 | P7: 路面
C8: 部位区分 | E8: 車道 | N8: 部位区分 | P8: 車道
B9: 変状種類 | E9: その他 | M9: 変状種類 | P9: その他
B10: 対策 区分 | C10: 変状区分 | E10: 漏水 | M10: 対策 区分 | N10: 変状区分 | P10: 漏水
C11: 応急措置前 | E11: － | N11: 応急措置前 | P11: －
C12: 応急措置後 | E12: Ⅱb | N12: 応急措置後 | P12: Ⅱb
B13: 変状の発生範囲及び規模 | E13: 0.3m×10.0m 3㎡ | H13: 前回変状の発生範囲及び規模 | J13: ― | M13: 変状の発生範囲及び規模 | P13: 0.3m×10.0m 3㎡ | S13: 前回変状の発生範囲及び規模 | U13: ―
B14: 対策履歴 | E14: ― | H14: 実施状況（実施日） | J14: ― | M14: 対策履歴 | P14: ― | S14: 実施状況（実施日） | U14: ―
B15: メモ | E15: 車道の土砂堆積 t=30㎜ 進行性の有無を把握する必要がある | M15: メモ | P15: 車道の土砂堆積 t=50㎜ 進行性の有無を把握する必要がある
B16: 写真 番号 | C16: 覆工スパン 番号 | E16: 4 | M16: 写真 番号 | N16: 覆工スパン 番号 | P16: 4
C17: 変状番号 | E17: 1 | N17: 変状番号 | P17: 2
B18: 変状 部位 | C18: 対象箇所 | E18: 覆工 | M18: 変状 部位 | N18: 対象箇所 | P18: 覆工
C19: 部位区分 | E19: 側壁（左側） | N19: 部位区分 | P19: 横断目地（左側）
B20: 変状種類 | E20: 漏水 | M20: 変状種類 | P20: 漏水
B21: 対策 区分 | C21: 変状区分 | E21: 漏水 | M21: 対策 区分 | N21: 変状区分 | P21: 漏水
C22: 応急措置前 | E22: － | N22: 応急措置前 | P22: －
C23: 応急措置後 | E23: Ⅰ | N23: 応急措置後 | P23: Ⅰ
B24: 変状の発生範囲及び規模 | E24: 2.6m×1.5m 3.9㎡ | H24: 前回変状の発生範囲及び規模 | J24: ― | M24: 変状の発生範囲及び規模 | P24: 4.9m×0.7m 3.43㎡ | S24: 前回変状の発生範囲及び規模 | U24: ―
B25: 対策履歴 | E25: ― | H25: 実施状況（実施日） | J25: ― | M25: 対策履歴 | P25: ― | S25: 実施状況（実施日） | U25: ―
B26: メモ | E26: 側壁の遊離石灰 前回写真番号S2-1 にじみが見られなかった | M26: メモ | P26: 横断目地のにじみ 進行性がないのでⅠ判定とする 前回写真番号PE-1
C27: ※ 応急措置後の対策区分について添付すること。また、点検前に 実施された措置によりⅠと判定された箇所も添付すること。 | N27: ※ 変状の発生範囲の規模とは、対策を行う際に参考となる変状の長さや面積をいう。
N28: ※ 応急措置を実施しないで決定した変状の対策区分は、対策区分の応急措置後の欄に記入すること。
C29: ※ たたき落としを実施した場合は、実施後の写真を添付すること。 | N29: ※ 変状の発生範囲の規模は、面積・寸法を記載すること。(ひび割れ幅のみmmとし、その他をm表記とする)
C30: ※ 附属物の取付状態に関する異常写真は別途、任意の書式でとりまとめること。 | N30: ※ 構造用鋼材以外の異物に伴ううき・はく離については、メモ欄に異物の概要を記入すること。

Sheet 様式D-1-1_009
B2: ■定期点検記録様式 変状写真台帳【様式D-1-1】 | R2: 施設ID | T2: 34.31550,131.99144
B3: フリガナ | E3: ホオテキトンネル | H3: 路 線 名 | J3: 秋掛錦線 | M3: 定期点検実施者 | P3: 株式会社エイト日本技術開発 | S3: 定期点検年月日 | U3: 45594
B4: 名 称 | E4: 鴬笛トンネル | H4: 管理者名 | J4: 山口県岩国土木建築事務所 | P4: 岡根 三千夫
B5: 写真 番号 | C5: 覆工スパン 番号 | E5: 4 | M5: 写真 番号 | N5: 覆工スパン 番号 | P5: 4
C6: 変状番号 | E6: 3 | N6: 変状番号 | P6: 4
B7: 変状 部位 | C7: 対象箇所 | E7: 覆工 | M7: 変状 部位 | N7: 対象箇所 | P7: 覆工
C8: 部位区分 | E8: アーチ（左側） | N8: 部位区分 | P8: 横断目地（左側）
B9: 変状種類 | E9: うき・はく離 | M9: 変状種類 | P9: うき・はく離
B10: 対策 区分 | C10: 変状区分 | E10: 材質劣化 | M10: 対策 区分 | N10: 変状区分 | P10: 材質劣化
C11: 応急措置前 | E11: － | N11: 応急措置前 | P11: －
C12: 応急措置後 | E12: Ⅰ | N12: 応急措置後 | P12: Ⅱb
B13: 変状の発生範囲及び規模 | E13: 0.2m×1.3m 0.26㎡ | H13: 前回変状の発生範囲及び規模 | J13: 0.4m×0.7m | M13: 変状の発生範囲及び規模 | P13: 0.4m×0.2m 0.08㎡ | S13: 前回変状の発生範囲及び規模 | U13: ―
B14: 対策履歴 | E14: ― | H14: 実施状況（実施日） | J14: ― | M14: 対策履歴 | P14: ― | S14: 実施状況（実施日） | U14: ―
B15: メモ | E15: アーチのうき 進行性がないのでⅠ判定とする | M15: メモ | P15: 横断目地のうき 進行性の有無を把握する必要がある
B16: 写真 番号 | C16: 覆工スパン 番号 | E16: 4 | M16: 写真 番号 | N16: 覆工スパン 番号 | P16: 4
C17: 変状番号 | E17: 5 | N17: 変状番号 | P17: 6
B18: 変状 部位 | C18: 対象箇所 | E18: 覆工 | M18: 変状 部位 | N18: 対象箇所 | P18: 覆工
C19: 部位区分 | E19: 横断目地（右側） | N19: 部位区分 | P19: アーチ（右側）
B20: 変状種類 | E20: うき・はく離 | M20: 変状種類 | P20: うき・はく離
B21: 対策 区分 | C21: 変状区分 | E21: 材質劣化 | M21: 対策 区分 | N21: 変状区分 | P21: 材質劣化
C22: 応急措置前 | E22: － | N22: 応急措置前 | P22: －
C23: 応急措置後 | E23: Ⅰ | N23: 応急措置後 | P23: Ⅰ
B24: 変状の発生範囲及び規模 | E24: 0.9m×0.2m 0.18㎡ | H24: 前回変状の発生範囲及び規模 | J24: 0.7m×0.2m | M24: 変状の発生範囲及び規模 | P24: 0.5m×1.0m 0.5㎡ | S24: 前回変状の発生範囲及び規模 | U24: 0.5m×0.5m
B25: 対策履歴 | E25: ― | H25: 実施状況（実施日） | J25: ― | M25: 対策履歴 | P25: ― | S25: 実施状況（実施日） | U25: ―
B26: メモ | E26: 横断目地のうき 進行性がないのでⅠ判定とする | M26: メモ | P26: アーチのうき 進行性がないのでⅠ判定とする
C27: ※ 応急措置後の対策区分について添付すること。また、点検前に 実施された措置によりⅠと判定された箇所も添付すること。 | N27: ※ 変状の発生範囲の規模とは、対策を行う際に参考となる変状の長さや面積をいう。
N28: ※ 応急措置を実施しないで決定した変状の対策区分は、対策区分の応急措置後の欄に記入すること。
C29: ※ たたき落としを実施した場合は、実施後の写真を添付すること。 | N29: ※ 変状の発生範囲の規模は、面積・寸法を記載すること。(ひび割れ幅のみmmとし、その他をm表記とする)
C30: ※ 附属物の取付状態に関する異常写真は別途、任意の書式でとりまとめること。 | N30: ※ 構造用鋼材以外の異物に伴ううき・はく離については、メモ欄に異物の概要を記入すること。

Sheet 様式D-1-1_010
B2: ■定期点検記録様式 変状写真台帳【様式D-1-1】 | R2: 施設ID | T2: 34.31550,131.99144
B3: フリガナ | E3: ホオテキトンネル | H3: 路 線 名 | J3: 秋掛錦線 | M3: 定期点検実施者 | P3: 株式会社エイト日本技術開発 | S3: 定期点検年月日 | U3: 45594
B4: 名 称 | E4: 鴬笛トンネル | H4: 管理者名 | J4: 山口県岩国土木建築事務所 | P4: 岡根 三千夫
B5: 写真 番号 | C5: 覆工スパン 番号 | E5: 4 | M5: 写真 番号 | N5: 覆工スパン 番号 | P5: 4
C6: 変状番号 | E6: 7 | N6: 変状番号 | P6: 8
B7: 変状 部位 | C7: 対象箇所 | E7: 覆工 | M7: 変状 部位 | N7: 対象箇所 | P7: 覆工
C8: 部位区分 | E8: アーチ（右側） | N8: 部位区分 | P8: アーチ（右側）
B9: 変状種類 | E9: 漏水 | M9: 変状種類 | P9: うき・はく離
B10: 対策 区分 | C10: 変状区分 | E10: 漏水 | M10: 対策 区分 | N10: 変状区分 | P10: 材質劣化
C11: 応急措置前 | E11: － | N11: 応急措置前 | P11: －
C12: 応急措置後 | E12: Ⅰ | N12: 応急措置後 | P12: Ⅱb
B13: 変状の発生範囲及び規模 | E13: 3.7m×0.5m 1.85㎡ | H13: 前回変状の発生範囲及び規模 | J13: ― | M13: 変状の発生範囲及び規模 | P13: 1.1m×0.2m 0.22㎡ | S13: 前回変状の発生範囲及び規模 | U13: ―
B14: 対策履歴 | E14: ― | H14: 実施状況（実施日） | J14: ― | M14: 対策履歴 | P14: ― | S14: 実施状況（実施日） | U14: ―
B15: メモ | E15: アーチのにじみ 進行性がないのでⅠ判定とする 前回写真番号PE-2 | M15: メモ | P15: アーチのうき 進行性の有無を把握する必要がある
B16: 写真 番号 | C16: 覆工スパン 番号 | E16: 4 | M16: 写真 番号 | N16: 覆工スパン 番号 | P16: 4
C17: 変状番号 | E17: 9 | N17: 変状番号 | P17: 10
B18: 変状 部位 | C18: 対象箇所 | E18: 路面 | M18: 変状 部位 | N18: 対象箇所 | P18: 路面
C19: 部位区分 | E19: 車道 | N19: 部位区分 | P19: 車道
B20: 変状種類 | E20: その他 | M20: 変状種類 | P20: その他
B21: 対策 区分 | C21: 変状区分 | E21: 漏水 | M21: 対策 区分 | N21: 変状区分 | P21: 漏水
C22: 応急措置前 | E22: － | N22: 応急措置前 | P22: －
C23: 応急措置後 | E23: Ⅱb | N23: 応急措置後 | P23: Ⅱb
B24: 変状の発生範囲及び規模 | E24: 0.3m×10.0m 3㎡ | H24: 前回変状の発生範囲及び規模 | J24: ― | M24: 変状の発生範囲及び規模 | P24: 0.3m×10.0m 3㎡ | S24: 前回変状の発生範囲及び規模 | U24: ―
B25: 対策履歴 | E25: ― | H25: 実施状況（実施日） | J25: ― | M25: 対策履歴 | P25: ― | S25: 実施状況（実施日） | U25: ―
B26: メモ | E26: 車道の土砂堆積 t=20㎜ 進行性の有無を把握する必要がある | M26: メモ | P26: 車道の土砂堆積 t=20㎜ 進行性の有無を把握する必要がある
C27: ※ 応急措置後の対策区分について添付すること。また、点検前に 実施された措置によりⅠと判定された箇所も添付すること。 | N27: ※ 変状の発生範囲の規模とは、対策を行う際に参考となる変状の長さや面積をいう。
N28: ※ 応急措置を実施しないで決定した変状の対策区分は、対策区分の応急措置後の欄に記入すること。
C29: ※ たたき落としを実施した場合は、実施後の写真を添付すること。 | N29: ※ 変状の発生範囲の規模は、面積・寸法を記載すること。(ひび割れ幅のみmmとし、その他をm表記とする)
C30: ※ 附属物の取付状態に関する異常写真は別途、任意の書式でとりまとめること。 | N30: ※ 構造用鋼材以外の異物に伴ううき・はく離については、メモ欄に異物の概要を記入すること。

Sheet 様式D-1-2
B2: ■定期点検記録様式 異常写真台帳（トンネル内附属物等の取付状態） 【様式D-1-2】
B3: フリガナ | E3: ホオテキトンネル | I3: 路 線 名 | L3: 秋掛錦線 | O3: 定期点検実施者 | R3: 株式会社エイト日本技術開発 | U3: 定期点検年月日 | W3: 45594
B4: 名 称 | E4: 鴬笛トンネル | I4: 管理者名 | L4: 山口県岩国土木建築事務所 | R4: 岡根 三千夫
B5: 覆工スパン番号 | F5: 異常番号 | J5: 覆工スパン番号 | N5: 異常番号 | R5: 覆工スパン番号 | V5: 異常番号
B6: 対象箇所 | J6: 対象箇所 | R6: 対象箇所
B7: 部位区分 | F7: 異常の種類 | J7: 部位区分 | N7: 異常の種類 | R7: 部位区分 | V7: 異常の種類
B8: 異常判定区分 | E8: メモ | J8: 異常判定区分 | M8: メモ | R8: 異常判定区分 | U8: メモ
B22: 覆工スパン番号 | F22: 異常番号 | J22: 覆工スパン番号 | N22: 異常番号 | R22: 覆工スパン番号 | V22: 異常番号
B23: 対象箇所 | J23: 対象箇所 | R23: 対象箇所
B24: 部位区分 | F24: 異常の種類 | J24: 部位区分 | N24: 異常の種類 | R24: 部位区分 | V24: 異常の種類
B25: 異常判定区分 | E25: メモ | J25: 異常判定区分 | M25: メモ | R25: 異常判定区分 | U25: メモ
C39: ※ 異常判定区分×について記入すること。また、応急措置前に異常判定区分×とした箇所のうち応急措置により○と判定した箇所も記入すること。
C40: ※ 応急措置を実施した場合は、その実施状況が分かる写真を添付すること。
C41: ※ 変状数に準じてシートを追加すること。

Sheet 様式D-2-1
B3: ■定期点検記録様式 トンネル全体変状展開図 【様式D-2-1】
B4: フリガナ | E4: ホオテキトンネル | J4: 路線名 | M4: 秋掛錦線 | S4: 定期点検実施者 | W4: 株式会社エイト日本技術開発 | AC4: 定期点検年月日 | AF4: 45594
B5: 名 称 | E5: 鴬笛トンネル | J5: 管理者名 | M5: 山口県岩国土木建築事務所 | W5: 岡根 三千夫
B6: トンネル変状展開図 | C6: トンネル全体変状展開図
V18: 注１：本展開図は、見下げた状態で記載すること。 注２：覆工スパン番号は横断目地毎（矢板工法の場合は上半アーチ の横断目地毎)に設定すること。 注３：横断目地の変状は前の覆工スパン番号で計上すること。 注４：１枚に収まらない場合は、複数枚に分けて作成すること。

Sheet 様式D-2-1´
B3: ■定期点検記録様式 トンネル全体変状展開図（機器の活用時） 【様式D-2-1’】
B4: フリガナ | E4: ホオテキトンネル | J4: 路線名 | M4: 秋掛錦線 | S4: 定期点検実施者 | W4: 株式会社エイト日本技術開発 | AC4: 定期点検年月日 | AF4: 45594
B5: 名 称 | E5: 鴬笛トンネル | J5: 管理者名 | M5: 山口県岩国土木建築事務所 | W5: 岡根 三千夫
B6: トンネル変状展開図 | C6: トンネル全体変状展開図
V18: 注１：本展開図は、見下げた状態で記載すること。 注２：覆工スパン番号は横断目地毎（矢板工法の場合は上半アーチ の横断目地毎)に設定すること。 注３：横断目地の変状は前の覆工スパン番号で計上すること。 注４：１枚に収まらない場合は、複数枚に分けて作成すること。

Sheet 様式D-3_PS
AU1: 様式F用→ | AV1: 覆工スパン | AY1: 変 状 数 | BK1: 変 状 規 模
AV2: 番号 | AW2: 延長 （ｍ） | AX2: 健全性の診断の 区分 | AY2: 対策区分の判定 | BK2: 覆工スパン長（ｍ） | BO2: 変状の発生範囲の規模（㎡）
B3: ■定期点検記録様式 覆工スパン別変状詳細展開図 【様式D-3】 | AY3: 外力 | BC3: 材質劣化 | BG3: 漏水 | BK3: 外力 注2 | BO3: 材質劣化 | BS3: 漏水
B4: フリガナ | E4: ホオテキトンネル | K4: 路線名 | N4: 秋掛錦線 | T4: 定期点検実施者 | Y4: 株式会社エイト日本技術開発 | AG4: 定期点検年月日 | AK4: 45594 | AY4: Ⅳ | AZ4: Ⅲ | BA4: Ⅱa | BB4: Ⅱb | BC4: Ⅳ | BD4: Ⅲ | BE4: Ⅱa | BF4: Ⅱb | BG4: Ⅳ | BH4: Ⅲ | BI4: Ⅱa | BJ4: Ⅱb | BK4: Ⅳ | BL4: Ⅲ | BM4: Ⅱa | BN4: Ⅱb | BO4: Ⅳ | BP4: Ⅲ | BQ4: Ⅱa | BR4: Ⅱb | BS4: Ⅳ | BT4: Ⅲ | BU4: Ⅱa | BV4: Ⅱb
B5: 名 称 | E5: 鴬笛トンネル | K5: 管理者名 | N5: 山口県岩国土木建築事務所 | Y5: 岡根 三千夫 | AV5: =N7 -> PS | AW5: =R7 -> 0 | AX5: =AM35 -> 0 | AY5: =Y37 | AZ5: =Z37 | BA5: =AA37 | BB5: =AB37 | BC5: =AC37 -> 0 | BD5: =AD37 -> 0 | BE5: =AE37 -> 0 | BF5: =AF37 -> 0 | ... BJ5: =AJ37 -> 0 | BK5: =IF(Y37>0,R7,"") -> 0 | BL5: =IF(Y37>0,"",IF(Z37>0,R7,"")) | BM5: =IF(Y37+Z37>0,"",IF(AA37>0,R7,"")) -> #VALUE! | BN5: =IF(Y37+Z37+AA37>0,"",IF(AB37>0,R7,"")) -> #VALUE! | BO5: =AC35 -> 0 | BP5: =AD35 -> 0 | BQ5: =AE35 -> 0 | BR5: =AF35 -> 0 | BS5: =AG35 -> 0 | BT5: =AH35 -> 0 | BU5: =AI35 -> 0 | BV5: =AJ35 -> 0
B6: スパン別変状展開図 | K6: 【健全性判定集計表】
K7: スパン番号 | N7: PS | P7: スパン長 | R7: 0 | U7: 前回定期点検時の判定 | W7: 応急措置前の判定 | Y7: 対策区分毎の 変状の有無 | AC7: 対策区分毎の変状の発生範囲の規模(㎡) | AK7: 備考注2
K8: 変状番号 | L8: 対象箇所 | N8: 部位区分 | P8: 変状区分 | R8: 変状種類
Y9: 外力注1 | AC9: 材質劣化注1 | AG9: 漏水注1
Y10: Ⅳ | Z10: Ⅲ | AA10: Ⅱa | AB10: Ⅱb | AC10: Ⅳ | AD10: Ⅲ | AE10: Ⅱa | AF10: Ⅱb | AG10: Ⅳ | AH10: Ⅲ | AI10: Ⅱa | AJ10: Ⅱb
AQ11: =IF(P11="材質劣化",2,IF(P11="漏水",3,1)) -> 1 | AS11: =IF(Y11<>"",1,"")
AQ12: =IF(P12="材質劣化",2,IF(P12="漏水",3,1)) -> 1
AQ13: =IF(P13="材質劣化",2,IF(P13="漏水",3,1)) -> 1
AQ14: =IF(P14="材質劣化",2,IF(P14="漏水",3,1)) -> 1
AQ15: =IF(P15="材質劣化",2,IF(P15="漏水",3,1)) -> 1
AQ16: =IF(P16="材質劣化",2,IF(P16="漏水",3,1)) -> 1
AQ17: =IF(P17="材質劣化",2,IF(P17="漏水",3,1)) -> 1
AQ18: =IF(P18="材質劣化",2,IF(P18="漏水",3,1)) -> 1
AQ19: =IF(P19="材質劣化",2,IF(P19="漏水",3,1)) -> 1
AQ20: =IF(P20="材質劣化",2,IF(P20="漏水",3,1)) -> 1
AQ21: =IF(P21="材質劣化",2,IF(P21="漏水",3,1)) -> 1
AQ22: =IF(P22="材質劣化",2,IF(P22="漏水",3,1)) -> 1
AQ23: =IF(P23="材質劣化",2,IF(P23="漏水",3,1)) -> 1
... AQ27: =IF(P27="材質劣化",2,IF(P27="漏水",3,1)) -> 1
AQ28: =IF(P30="材質劣化",2,IF(P30="漏水",3,1)) -> 1
AQ29: =IF(P34="材質劣化",2,IF(P34="漏水",3,1)) -> 1
AQ30: =IF(P30="材質劣化",2,IF(P30="漏水",3,1)) -> 1
AQ31: =IF(P33="材質劣化",2,IF(P33="漏水",3,1)) -> 1
AQ32: =IF(P37="材質劣化",2,IF(P37="漏水",3,1)) -> 1
AQ33: =IF(P33="材質劣化",2,IF(P33="漏水",3,1)) -> 1
AQ34: =IF(P36="材質劣化",2,IF(P36="漏水",3,1)) -> 1
K35: 集計 判定 診断 | L35: 変状の発生規模合計(㎡) | Y35: － | AC35: =SUM(AC11:AC34) -> 0 | AD35: =SUM(AD11:AD34) -> 0 | AE35: =SUM(AE11:AE34) -> 0 | AF35: =SUM(AF11:AF34) -> 0 | AG35: =SUM(AG11:AG34) -> 0 | AH35: =SUM(AH11:AH34) -> 0 | AI35: =SUM(AI11:AI34) -> 0 | AJ35: =SUM(AJ11:AJ34) -> 0 | AK35: 覆工スパン単位の 健全性の 診断の区分
L36: 対策区分の 判定結果 | O36: 対策区分毎の変状数注3 | Y36: Ⅳ | Z36: Ⅲ | AA36: Ⅱa | AB36: Ⅱb | AC36: Ⅳ | AD36: Ⅲ | AE36: Ⅱa | AF36: Ⅱb | AG36: Ⅳ | AH36: Ⅲ | AI36: Ⅱa | AJ36: Ⅱb
Y37: =IF(COUNTIF(Y11:Y34,"〇")>0,"1"," ") | Z37: =IF(COUNTIF(Z11:Z34,"〇")>0,"1"," ") | AA37: =IF(COUNTIF(AA11:AA34,"〇")>0,"1"," ") | AB37: =IF(COUNTIF(AB11:AB34,"〇")>0,"1"," ") | AC37: =COUNTA(AC11:AC34) -> 0 | AD37: =COUNTA(AD11:AD34) -> 0 | AE37: =COUNTA(AE11:AE34) -> 0 | AF37: =COUNTA(AF11:AF34) -> 0 | AG37: =COUNTA(AG11:AG34) -> 0 | AH37: =COUNTA(AH11:AH34) -> 0 | AI37: =COUNTA(AI11:AI34) -> 0 | AJ37: =COUNTA(AJ11:AJ34) -> 0
K39: 所見
K43: 注1：誤記入防止のため、当該変状区分以外のセルは灰色表示とすること。
K44: 注2：応急措置を実施した場合は、その詳細を備考に記載すること。
K45: 注3：外力は覆工スパン単位、材質劣化、漏水は変状単位とすること。
B46: （以下、印刷不要）
B47: ※1：本シートは作成洩れのないよう、変状が無くても全スパン分を作成すること．また変状展開図は、様式D-2-1、様式D-2-1'と同じものを覆工スパン単位で拡大し掲載すること。
...

Sheet 様式D-3_S001
AU1: 様式F用→ | AV1: 覆工スパン | AY1: 変 状 数 | BK1: 変 状 規 模
AV2: 番号 | AW2: 延長 （ｍ） | AX2: 健全性の診断の 区分 | AY2: 対策区分の判定 | BK2: 覆工スパン長（ｍ） | BO2: 変状の発生範囲の規模（㎡）
B3: ■定期点検記録様式 覆工スパン別変状詳細展開図 【様式D-3】 | AY3: 外力 | BC3: 材質劣化 | BG3: 漏水 | BK3: 外力 注2 | BO3: 材質劣化 | BS3: 漏水
B4: フリガナ | E4: ホオテキトンネル | K4: 路線名 | N4: 秋掛錦線 | T4: 定期点検実施者 | Y4: 株式会社エイト日本技術開発 | AG4: 定期点検年月日 | AK4: 45594 | AY4: Ⅳ | AZ4: Ⅲ | BA4: Ⅱa | BB4: Ⅱb | BC4: Ⅳ | BD4: Ⅲ | BE4: Ⅱa | BF4: Ⅱb | BG4: Ⅳ | BH4: Ⅲ | BI4: Ⅱa | BJ4: Ⅱb | BK4: Ⅳ | BL4: Ⅲ | BM4: Ⅱa | BN4: Ⅱb | BO4: Ⅳ | BP4: Ⅲ | BQ4: Ⅱa | BR4: Ⅱb | BS4: Ⅳ | BT4: Ⅲ | BU4: Ⅱa | BV4: Ⅱb
B5: 名 称 | E5: 鴬笛トンネル | K5: 管理者名 | N5: 山口県岩国土木建築事務所 | Y5: 岡根 三千夫 | AV5: =N7 -> S1 | AW5: =R7 -> 10 | AX5: =AM35 -> 0 | AY5: =Y37 | AZ5: =Z37 | BA5: =AA37 | BB5: =AB37 | BC5: =AC37 -> 0 | BD5: =AD37 -> 0 | BE5: =AE37 -> 0 | BF5: =AF37 -> 2 | ... BJ5: =AJ37 -> 2 | BK5: =IF(Y37>0,R7,"") -> 10 | BL5: =IF(Y37>0,"",IF(Z37>0,R7,"")) | BM5: =IF(Y37+Z37>0,"",IF(AA37>0,R7,"")) -> #VALUE! | BN5: =IF(Y37+Z37+AA37>0,"",IF(AB37>0,R7,"")) -> #VALUE! | BO5: =AC35 -> 0 | BP5: =AD35 -> 0 | BQ5: =AE35 -> 0 | BR5: =AF35 -> 1.12 | BS5: =AG35 -> 0 | BT5: =AH35 -> 0 | BU5: =AI35 -> 0 | BV5: =AJ35 -> 6
B6: スパン別変状展開図 | K6: 【健全性判定集計表】
K7: スパン番号 | N7: S1 | P7: スパン長 | R7: 10 | U7: 前回定期点検時の判定 | W7: 応急措置前の判定 | Y7: 対策区分毎の 変状の有無 | AC7: 対策区分毎の変状の発生範囲の規模(㎡) | AK7: 備考注2
K8: 変状番号 | L8: 対象箇所 | N8: 部位区分 | P8: 変状区分 | R8: 変状種類
Y9: 外力注1 | AC9: 材質劣化注1 | AG9: 漏水注1
Y10: Ⅳ | Z10: Ⅲ | AA10: Ⅱa | AB10: Ⅱb | AC10: Ⅳ | AD10: Ⅲ | AE10: Ⅱa | AF10: Ⅱb | AG10: Ⅳ | AH10: Ⅲ | AI10: Ⅱa | AJ10: Ⅱb
K11: 1 | L11: 覆工 | N11: アーチ（左側） | P11: 材質劣化 | R11: うき・はく離 | U11: － | W11: － | AQ11: =IF(P11="材質劣化",2,IF(P11="漏水",3,1)) -> 2 | AS11: =IF(Y11<>"",1,"")
K12: 2 | L12: 覆工 | N12: アーチ（左側） | P12: 漏水 | R12: 漏水 | U12: Ⅱb | W12: － | AQ12: =IF(P12="材質劣化",2,IF(P12="漏水",3,1)) -> 3
K13: 3 | L13: 覆工 | N13: アーチ（左側） | P13: 漏水 | R13: 漏水 | U13: Ⅱb | W13: － | AQ13: =IF(P13="材質劣化",2,IF(P13="漏水",3,1)) -> 3
K14: 4 | L14: 覆工 | N14: アーチ（左側） | P14: 漏水 | R14: 漏水 | U14: － | W14: － | AQ14: =IF(P14="材質劣化",2,IF(P14="漏水",3,1)) -> 3
K15: 5 | L15: 覆工 | N15: アーチ（左側） | P15: 漏水 | R15: 漏水 | U15: Ⅱb | W15: － | AQ15: =IF(P15="材質劣化",2,IF(P15="漏水",3,1)) -> 3
K16: 6 | L16: 覆工 | N16: アーチ（左側） | P16: 漏水 | R16: 漏水 | U16: Ⅱb | W16: － | AQ16: =IF(P16="材質劣化",2,IF(P16="漏水",3,1)) -> 3
K17: 7 | L17: 覆工 | N17: アーチ（左側） | P17: 漏水 | R17: 漏水 | U17: － | W17: － | AQ17: =IF(P17="材質劣化",2,IF(P17="漏水",3,1)) -> 3
K18: 8 | L18: 覆工 | N18: アーチ（左側） | P18: 材質劣化 | R18: うき・はく離 | U18: － | W18: － | AF18: 0.56 | AQ18: =IF(P18="材質劣化",2,IF(P18="漏水",3,1)) -> 2
K19: 9 | L19: 覆工 | N19: 側壁（右側） | P19: 漏水 | R19: 漏水 | U19: Ⅱb | W19: － | AQ19: =IF(P19="材質劣化",2,IF(P19="漏水",3,1)) -> 3
K20: 10 | L20: 覆工 | N20: アーチ（右側） | P20: 材質劣化 | R20: うき・はく離 | U20: － | W20: － | AQ20: =IF(P20="材質劣化",2,IF(P20="漏水",3,1)) -> 2
K21: 11 | L21: 覆工 | N21: アーチ（右側） | P21: 材質劣化 | R21: うき・はく離 | U21: － | W21: － | AQ21: =IF(P21="材質劣化",2,IF(P21="漏水",3,1)) -> 2
K22: 12 | L22: 覆工 | N22: アーチ（右側） | P22: 漏水 | R22: 漏水 | U22: Ⅱb | W22: － | AQ22: =IF(P22="材質劣化",2,IF(P22="漏水",3,1)) -> 3
K23: 13 | L23: 覆工 | N23: アーチ（右側） | P23: 材質劣化 | R23: うき・はく離 | U23: － | W23: － | AF23: 0.56 | AQ23: =IF(P23="材質劣化",2,IF(P23="漏水",3,1)) -> 2
K24: 14 | L24: 路面 | N24: 車道 | P24: 漏水 | R24: その他 | U24: － | W24: － | AJ24: 3 | AQ24: =IF(P24="材質劣化",2,IF(P24="漏水",3,1)) -> 3
K25: 15 | L25: 路面 | N25: 車道 | P25: 漏水 | R25: その他 | U25: － | W25: － | AJ25: 3 | AQ25: =IF(P25="材質劣化",2,IF(P25="漏水",3,1)) -> 3
AQ26: =IF(P26="材質劣化",2,IF(P26="漏水",3,1)) -> 1
AQ27: =IF(P27="材質劣化",2,IF(P27="漏水",3,1)) -> 1
AQ28: =IF(P30="材質劣化",2,IF(P30="漏水",3,1)) -> 1
AQ29: =IF(P34="材質劣化",2,IF(P34="漏水",3,1)) -> 1
AQ30: =IF(P30="材質劣化",2,IF(P30="漏水",3,1)) -> 1
AQ31: =IF(P33="材質劣化",2,IF(P33="漏水",3,1)) -> 1
AQ32: =IF(P37="材質劣化",2,IF(P37="漏水",3,1)) -> 1
AQ33: =IF(P33="材質劣化",2,IF(P33="漏水",3,1)) -> 1
AQ34: =IF(P36="材質劣化",2,IF(P36="漏水",3,1)) -> 1
K35: 集計 判定 診断 | L35: 変状の発生規模合計(㎡) | Y35: － | AC35: =SUM(AC11:AC34) -> 0 | AD35: =SUM(AD11:AD34) -> 0 | AE35: =SUM(AE11:AE34) -> 0 | AF35: =SUM(AF11:AF34) -> 1.12 | AG35: =SUM(AG11:AG34) -> 0 | AH35: =SUM(AH11:AH34) -> 0 | AI35: =SUM(AI11:AI34) -> 0 | AJ35: =SUM(AJ11:AJ34) -> 6 | AK35: 覆工スパン単位の 健全性の 診断の区分
L36: 対策区分の 判定結果 | O36: 対策区分毎の変状数注3 | Y36: Ⅳ | Z36: Ⅲ | AA36: Ⅱa | AB36: Ⅱb | AC36: Ⅳ | AD36: Ⅲ | AE36: Ⅱa | AF36: Ⅱb | AG36: Ⅳ | AH36: Ⅲ | AI36: Ⅱa | AJ36: Ⅱb
Y37: =IF(COUNTIF(Y11:Y34,"〇")>0,"1"," ") | Z37: =IF(COUNTIF(Z11:Z34,"〇")>0,"1"," ") | AA37: =IF(COUNTIF(AA11:AA34,"〇")>0,"1"," ") | AB37: =IF(COUNTIF(AB11:AB34,"〇")>0,"1"," ") | AC37: =COUNTA(AC11:AC34) -> 0 | AD37: =COUNTA(AD11:AD34) -> 0 | AE37: =COUNTA(AE11:AE34) -> 0 | AF37: =COUNTA(AF11:AF34) -> 2 | AG37: =COUNTA(AG11:AG34) -> 0 | AH37: =COUNTA(AH11:AH34) -> 0 | AI37: =COUNTA(AI11:AI34) -> 0 | AJ37: =COUNTA(AJ11:AJ34) -> 2
K39: 所見
K43: 注1：誤記入防止のため、当該変状区分以外のセルは灰色表示とすること。
K44: 注2：応急措置を実施した場合は、その詳細を備考に記載すること。
...

Sheet 様式D-3_S002
AU1: 様式F用→ | AV1: 覆工スパン | AY1: 変 状 数 | BK1: 変 状 規 模
AV2: 番号 | AW2: 延長 （ｍ） | AX2: 健全性の診断の 区分 | AY2: 対策区分の判定 | BK2: 覆工スパン長（ｍ） | BO2: 変状の発生範囲の規模（㎡）
B3: ■定期点検記録様式 覆工スパン別変状詳細展開図 【様式D-3】 | AY3: 外力 | BC3: 材質劣化 | BG3: 漏水 | BK3: 外力 注2 | BO3: 材質劣化 | BS3: 漏水
B4: フリガナ | E4: ホオテキトンネル | K4: 路線名 | N4: 秋掛錦線 | T4: 定期点検実施者 | Y4: 株式会社エイト日本技術開発 | AG4: 定期点検年月日 | AK4: 45594 | AY4: Ⅳ | AZ4: Ⅲ | BA4: Ⅱa | BB4: Ⅱb | BC4: Ⅳ | BD4: Ⅲ | BE4: Ⅱa | BF4: Ⅱb | BG4: Ⅳ | BH4: Ⅲ | BI4: Ⅱa | BJ4: Ⅱb | BK4: Ⅳ | BL4: Ⅲ | BM4: Ⅱa | BN4: Ⅱb | BO4: Ⅳ | BP4: Ⅲ | BQ4: Ⅱa | BR4: Ⅱb | BS4: Ⅳ | BT4: Ⅲ | BU4: Ⅱa | BV4: Ⅱb
B5: 名 称 | E5: 鴬笛トンネル | K5: 管理者名 | N5: 山口県岩国土木建築事務所 | Y5: 岡根 三千夫 | AV5: =N7 -> S2 | AW5: =R7 -> 10 | AX5: =AM35 -> 0 | AY5: =Y37 | AZ5: =Z37 | BA5: =AA37 | BB5: =AB37 | BC5: =AC37 -> 0 | BD5: =AD37 -> 0 | BE5: =AE37 -> 0 | BF5: =AF37 -> 2 | ... BJ5: =AJ37 -> 2 | BK5: =IF(Y37>0,R7,"") -> 10 | BL5: =IF(Y37>0,"",IF(Z37>0,R7,"")) | BM5: =IF(Y37+Z37>0,"",IF(AA37>0,R7,"")) -> #VALUE! | BN5: =IF(Y37+Z37+AA37>0,"",IF(AB37>0,R7,"")) -> #VALUE! | BO5: =AC35 -> 0 | BP5: =AD35 -> 0 | BQ5: =AE35 -> 0 | BR5: =AF35 -> 0.61 | BS5: =AG35 -> 0 | BT5: =AH35 -> 0 | BU5: =AI35 -> 0 | BV5: =AJ35 -> 6
B6: スパン別変状展開図 | K6: 【健全性判定集計表】
K7: スパン番号 | N7: S2 | P7: スパン長 | R7: 10 | U7: 前回定期点検時の判定 | W7: 応急措置前の判定 | Y7: 対策区分毎の 変状の有無 | AC7: 対策区分毎の変状の発生範囲の規模(㎡) | AK7: 備考注2
K8: 変状番号 | L8: 対象箇所 | N8: 部位区分 | P8: 変状区分 | R8: 変状種類
Y9: 外力注1 | AC9: 材質劣化注1 | AG9: 漏水注1
Y10: Ⅳ | Z10: Ⅲ | AA10: Ⅱa | AB10: Ⅱb | AC10: Ⅳ | AD10: Ⅲ | AE10: Ⅱa | AF10: Ⅱb | AG10: Ⅳ | AH10: Ⅲ | AI10: Ⅱa | AJ10: Ⅱb
K11: 1 | L11: 覆工 | N11: アーチ（天端） | P11: 材質劣化 | R11: うき・はく離 | U11: Ⅱb | W11: － | AQ11: =IF(P11="材質劣化",2,IF(P11="漏水",3,1)) -> 2 | AS11: =IF(Y11<>"",1,"")
K12: 2 | L12: 覆工 | N12: アーチ（左側） | P12: 材質劣化 | R12: うき・はく離 | U12: － | W12: － | AF12: 0.12 | AQ12: =IF(P12="材質劣化",2,IF(P12="漏水",3,1)) -> 2
K13: 3 | L13: 覆工 | N13: アーチ（右側） | P13: 材質劣化 | R13: うき・はく離 | U13: － | W13: － | AF13: 0.49 | AQ13: =IF(P13="材質劣化",2,IF(P13="漏水",3,1)) -> 2
K14: 4 | L14: 覆工 | N14: 側壁（右側） | P14: 漏水 | R14: 漏水 | U14: Ⅱb | W14: － | AQ14: =IF(P14="材質劣化",2,IF(P14="漏水",3,1)) -> 3
K15: 5 | L15: 路面 | N15: 車道 | P15: 漏水 | R15: その他 | U15: － | W15: － | AJ15: 3 | AQ15: =IF(P15="材質劣化",2,IF(P15="漏水",3,1)) -> 3
K16: 6 | L16: 路面 | N16: 車道 | P16: 漏水 | R16: その他 | U16: － | W16: － | AJ16: 3 | AQ16: =IF(P16="材質劣化",2,IF(P16="漏水",3,1)) -> 3
AQ17: =IF(P17="材質劣化",2,IF(P17="漏水",3,1)) -> 1
AQ18: =IF(P18="材質劣化",2,IF(P18="漏水",3,1)) -> 1
AQ19: =IF(P19="材質劣化",2,IF(P19="漏水",3,1)) -> 1
AQ20: =IF(P20="材質劣化",2,IF(P20="漏水",3,1)) -> 1
AQ21: =IF(P21="材質劣化",2,IF(P21="漏水",3,1)) -> 1
AQ22: =IF(P22="材質劣化",2,IF(P22="漏水",3,1)) -> 1
AQ23: =IF(P23="材質劣化",2,IF(P23="漏水",3,1)) -> 1
AQ24: =IF(P24="材質劣化",2,IF(P24="漏水",3,1)) -> 1
AQ25: =IF(P25="材質劣化",2,IF(P25="漏水",3,1)) -> 1
AQ26: =IF(P26="材質劣化",2,IF(P26="漏水",3,1)) -> 1
AQ27: =IF(P27="材質劣化",2,IF(P27="漏水",3,1)) -> 1
AQ28: =IF(P30="材質劣化",2,IF(P30="漏水",3,1)) -> 1
AQ29: =IF(P34="材質劣化",2,IF(P34="漏水",3,1)) -> 1
AQ30: =IF(P30="材質劣化",2,IF(P30="漏水",3,1)) -> 1
AQ31: =IF(P33="材質劣化",2,IF(P33="漏水",3,1)) -> 1
AQ32: =IF(P37="材質劣化",2,IF(P37="漏水",3,1)) -> 1
AQ33: =IF(P33="材質劣化",2,IF(P33="漏水",3,1)) -> 1
AQ34: =IF(P36="材質劣化",2,IF(P36="漏水",3,1)) -> 1
K35: 集計 判定 診断 | L35: 変状の発生規模合計(㎡) | Y35: － | AC35: =SUM(AC11:AC34) -> 0 | AD35: =SUM(AD11:AD34) -> 0 | AE35: =SUM(AE11:AE34) -> 0 | AF35: =SUM(AF11:AF34) -> 0.61 | AG35: =SUM(AG11:AG34) -> 0 | AH35: =SUM(AH11:AH34) -> 0 | AI35: =SUM(AI11:AI34) -> 0 | AJ35: =SUM(AJ11:AJ34) -> 6 | AK35: 覆工スパン単位の 健全性の 診断の区分
L36: 対策区分の 判定結果 | O36: 対策区分毎の変状数注3 | Y36: Ⅳ | Z36: Ⅲ | AA36: Ⅱa | AB36: Ⅱb | AC36: Ⅳ | AD36: Ⅲ | AE36: Ⅱa | AF36: Ⅱb | AG36: Ⅳ | AH36: Ⅲ | AI36: Ⅱa | AJ36: Ⅱb
Y37: =IF(COUNTIF(Y11:Y34,"〇")>0,"1"," ") | Z37: =IF(COUNTIF(Z11:Z34,"〇")>0,"1"," ") | AA37: =IF(COUNTIF(AA11:AA34,"〇")>0,"1"," ") | AB37: =IF(COUNTIF(AB11:AB34,"〇")>0,"1"," ") | AC37: =COUNTA(AC11:AC34) -> 0 | AD37: =COUNTA(AD11:AD34) -> 0 | AE37: =COUNTA(AE11:AE34) -> 0 | AF37: =COUNTA(AF11:AF34) -> 2 | AG37: =COUNTA(AG11:AG34) -> 0 | AH37: =COUNTA(AH11:AH34) -> 0 | AI37: =COUNTA(AI11:AI34) -> 0 | AJ37: =COUNTA(AJ11:AJ34) -> 2
K39: 所見
K43: 注1：誤記入防止のため、当該変状区分以外のセルは灰色表示とすること。
K44: 注2：応急措置を実施した場合は、その詳細を備考に記載すること。
...

Sheet 様式D-3_S003
AU1: 様式F用→ | AV1: 覆工スパン | AY1: 変 状 数 | BK1: 変 状 規 模
AV2: 番号 | AW2: 延長 （ｍ） | AX2: 健全性の診断の 区分 | AY2: 対策区分の判定 | BK2: 覆工スパン長（ｍ） | BO2: 変状の発生範囲の規模（㎡）
B3: ■定期点検記録様式 覆工スパン別変状詳細展開図 【様式D-3】 | AY3: 外力 | BC3: 材質劣化 | BG3: 漏水 | BK3: 外力 注2 | BO3: 材質劣化 | BS3: 漏水
B4: フリガナ | E4: ホオテキトンネル | K4: 路線名 | N4: 秋掛錦線 | T4: 定期点検実施者 | Y4: 株式会社エイト日本技術開発 | AG4: 定期点検年月日 | AK4: 45594 | AY4: Ⅳ | AZ4: Ⅲ | BA4: Ⅱa | BB4: Ⅱb | BC4: Ⅳ | BD4: Ⅲ | BE4: Ⅱa | BF4: Ⅱb | BG4: Ⅳ | BH4: Ⅲ | BI4: Ⅱa | BJ4: Ⅱb | BK4: Ⅳ | BL4: Ⅲ | BM4: Ⅱa | BN4: Ⅱb | BO4: Ⅳ | BP4: Ⅲ | BQ4: Ⅱa | BR4: Ⅱb | BS4: Ⅳ | BT4: Ⅲ | BU4: Ⅱa | BV4: Ⅱb
B5: 名 称 | E5: 鴬笛トンネル | K5: 管理者名 | N5: 山口県岩国土木建築事務所 | Y5: 岡根 三千夫 | AV5: =N7 -> S3 | AW5: =R7 -> 10 | AX5: =AM35 -> 0 | AY5: =Y37 | AZ5: =Z37 | BA5: =AA37 | BB5: =AB37 | BC5: =AC37 -> 0 | BD5: =AD37 -> 0 | BE5: =AE37 -> 0 | BF5: =AF37 -> 1 | ... BJ5: =AJ37 -> 2 | BK5: =IF(Y37>0,R7,"") -> 10 | BL5: =IF(Y37>0,"",IF(Z37>0,R7,"")) | BM5: =IF(Y37+Z37>0,"",IF(AA37>0,R7,"")) -> #VALUE! | BN5: =IF(Y37+Z37+AA37>0,"",IF(AB37>0,R7,"")) -> #VALUE! | BO5: =AC35 -> 0 | BP5: =AD35 -> 0 | BQ5: =AE35 -> 0 | BR5: =AF35 -> 0.36 | BS5: =AG35 -> 0 | BT5: =AH35 -> 0 | BU5: =AI35 -> 0 | BV5: =AJ35 -> 6
B6: スパン別変状展開図 | K6: 【健全性判定集計表】
K7: スパン番号 | N7: S3 | P7: スパン長 | R7: 10 | U7: 前回定期点検時の判定 | W7: 応急措置前の判定 | Y7: 対策区分毎の 変状の有無 | AC7: 対策区分毎の変状の発生範囲の規模(㎡) | AK7: 備考注2
K8: 変状番号 | L8: 対象箇所 | N8: 部位区分 | P8: 変状区分 | R8: 変状種類
Y9: 外力注1 | AC9: 材質劣化注1 | AG9: 漏水注1
Y10: Ⅳ | Z10: Ⅲ | AA10: Ⅱa | AB10: Ⅱb | AC10: Ⅳ | AD10: Ⅲ | AE10: Ⅱa | AF10: Ⅱb | AG10: Ⅳ | AH10: Ⅲ | AI10: Ⅱa | AJ10: Ⅱb
K11: 1 | L11: 覆工 | N11: 側壁（左側） | P11: 材質劣化 | R11: うき・はく離 | U11: － | W11: － | AQ11: =IF(P11="材質劣化",2,IF(P11="漏水",3,1)) -> 2 | AS11: =IF(Y11<>"",1,"")
K12: 2 | L12: 覆工 | N12: アーチ（左側） | P12: 漏水 | R12: 漏水 | U12: Ⅱb | W12: － | AQ12: =IF(P12="材質劣化",2,IF(P12="漏水",3,1)) -> 3
K13: 3 | L13: 覆工 | N13: アーチ（左側） | P13: 漏水 | R13: 漏水 | U13: Ⅱb | W13: － | AQ13: =IF(P13="材質劣化",2,IF(P13="漏水",3,1)) -> 3
K14: 4 | L14: 覆工 | N14: アーチ（左側） | P14: 材質劣化 | R14: うき・はく離 | U14: － | W14: － | AF14: 0.36 | AQ14: =IF(P14="材質劣化",2,IF(P14="漏水",3,1)) -> 2
K15: 5 | L15: 覆工 | N15: 側壁（右側） | P15: 漏水 | R15: 漏水 | U15: Ⅱb | W15: － | AQ15: =IF(P15="材質劣化",2,IF(P15="漏水",3,1)) -> 3
K16: 6 | L16: 覆工 | N16: 側壁（右側） | P16: 材質劣化 | R16: うき・はく離 | U16: － | W16: － | AQ16: =IF(P16="材質劣化",2,IF(P16="漏水",3,1)) -> 2
K17: 7 | L17: 覆工 | N17: 側壁（右側） | P17: 材質劣化 | R17: うき・はく離 | U17: Ⅱb | W17: － | AQ17: =IF(P17="材質劣化",2,IF(P17="漏水",3,1)) -> 2
K18: 8 | L18: 路面 | N18: 車道 | P18: 漏水 | R18: その他 | U18: － | W18: － | AJ18: 3 | AQ18: =IF(P18="材質劣化",2,IF(P18="漏水",3,1)) -> 3
K19: 9 | L19: 路面 | N19: 車道 | P19: 漏水 | R19: その他 | U19: － | W19: － | AJ19: 3 | AQ19: =IF(P19="材質劣化",2,IF(P19="漏水",3,1)) -> 3
AQ20: =IF(P20="材質劣化",2,IF(P20="漏水",3,1)) -> 1
AQ21: =IF(P21="材質劣化",2,IF(P21="漏水",3,1)) -> 1
AQ22: =IF(P22="材質劣化",2,IF(P22="漏水",3,1)) -> 1
AQ23: =IF(P23="材質劣化",2,IF(P23="漏水",3,1)) -> 1
AQ24: =IF(P24="材質劣化",2,IF(P24="漏水",3,1)) -> 1
AQ25: =IF(P25="材質劣化",2,IF(P25="漏水",3,1)) -> 1
AQ26: =IF(P26="材質劣化",2,IF(P26="漏水",3,1)) -> 1
AQ27: =IF(P27="材質劣化",2,IF(P27="漏水",3,1)) -> 1
AQ28: =IF(P30="材質劣化",2,IF(P30="漏水",3,1)) -> 1
AQ29: =IF(P34="材質劣化",2,IF(P34="漏水",3,1)) -> 1
AQ30: =IF(P30="材質劣化",2,IF(P30="漏水",3,1)) -> 1
AQ31: =IF(P33="材質劣化",2,IF(P33="漏水",3,1)) -> 1
AQ32: =IF(P37="材質劣化",2,IF(P37="漏水",3,1)) -> 1
AQ33: =IF(P33="材質劣化",2,IF(P33="漏水",3,1)) -> 1
AQ34: =IF(P36="材質劣化",2,IF(P36="漏水",3,1)) -> 1
K35: 集計 判定 診断 | L35: 変状の発生規模合計(㎡) | Y35: － | AC35: =SUM(AC11:AC34) -> 0 | AD35: =SUM(AD11:AD34) -> 0 | AE35: =SUM(AE11:AE34) -> 0 | AF35: =SUM(AF11:AF34) -> 0.36 | AG35: =SUM(AG11:AG34) -> 0 | AH35: =SUM(AH11:AH34) -> 0 | AI35: =SUM(AI11:AI34) -> 0 | AJ35: =SUM(AJ11:AJ34) -> 6 | AK35: 覆工スパン単位の 健全性の 診断の区分
L36: 対策区分の 判定結果 | O36: 対策区分毎の変状数注3 | Y36: Ⅳ | Z36: Ⅲ | AA36: Ⅱa | AB36: Ⅱb | AC36: Ⅳ | AD36: Ⅲ | AE36: Ⅱa | AF36: Ⅱb | AG36: Ⅳ | AH36: Ⅲ | AI36: Ⅱa | AJ36: Ⅱb
Y37: =IF(COUNTIF(Y11:Y34,"〇")>0,"1"," ") | Z37: =IF(COUNTIF(Z11:Z34,"〇")>0,"1"," ") | AA37: =IF(COUNTIF(AA11:AA34,"〇")>0,"1"," ") | AB37: =IF(COUNTIF(AB11:AB34,"〇")>0,"1"," ") | AC37: =COUNTA(AC11:AC34) -> 0 | AD37: =COUNTA(AD11:AD34) -> 0 | AE37: =COUNTA(AE11:AE34) -> 0 | AF37: =COUNTA(AF11:AF34) -> 1 | AG37: =COUNTA(AG11:AG34) -> 0 | AH37: =COUNTA(AH11:AH34) -> 0 | AI37: =COUNTA(AI11:AI34) -> 0 | AJ37: =COUNTA(AJ11:AJ34) -> 2
K39: 所見
K43: 注1：誤記入防止のため、当該変状区分以外のセルは灰色表示とすること。
K44: 注2：応急措置を実施した場合は、その詳細を備考に記載すること。
...

Sheet 様式D-3_S004
AU1: 様式F用→ | AV1: 覆工スパン | AY1: 変 状 数 | BK1: 変 状 規 模
AV2: 番号 | AW2: 延長 （ｍ） | AX2: 健全性の診断の 区分 | AY2: 対策区分の判定 | BK2: 覆工スパン長（ｍ） | BO2: 変状の発生範囲の規模（㎡）
B3: ■定期点検記録様式 覆工スパン別変状詳細展開図 【様式D-3】 | AY3: 外力 | BC3: 材質劣化 | BG3: 漏水 | BK3: 外力 注2 | BO3: 材質劣化 | BS3: 漏水
B4: フリガナ | E4: ホオテキトンネル | K4: 路線名 | N4: 秋掛錦線 | T4: 定期点検実施者 | Y4: 株式会社エイト日本技術開発 | AG4: 定期点検年月日 | AK4: 45594 | AY4: Ⅳ | AZ4: Ⅲ | BA4: Ⅱa | BB4: Ⅱb | BC4: Ⅳ | BD4: Ⅲ | BE4: Ⅱa | BF4: Ⅱb | BG4: Ⅳ | BH4: Ⅲ | BI4: Ⅱa | BJ4: Ⅱb | BK4: Ⅳ | BL4: Ⅲ | BM4: Ⅱa | BN4: Ⅱb | BO4: Ⅳ | BP4: Ⅲ | BQ4: Ⅱa | BR4: Ⅱb | BS4: Ⅳ | BT4: Ⅲ | BU4: Ⅱa | BV4: Ⅱb
B5: 名 称 | E5: 鴬笛トンネル | K5: 管理者名 | N5: 山口県岩国土木建築事務所 | Y5: 岡根 三千夫 | AV5: =N7 -> S4 | AW5: =R7 -> 2 | AX5: =AM35 -> 0 | AY5: =Y37 | AZ5: =Z37 | BA5: =AA37 | BB5: =AB37 | BC5: =AC37 -> 0 | BD5: =AD37 -> 0 | BE5: =AE37 -> 0 | BF5: =AF37 -> 2 | ... BJ5: =AJ37 -> 2 | BK5: =IF(Y37>0,R7,"") -> 2 | BL5: =IF(Y37>0,"",IF(Z37>0,R7,"")) | BM5: =IF(Y37+Z37>0,"",IF(AA37>0,R7,"")) -> #VALUE! | BN5: =IF(Y37+Z37+AA37>0,"",IF(AB37>0,R7,"")) -> #VALUE! | BO5: =AC35 -> 0 | BP5: =AD35 -> 0 | BQ5: =AE35 -> 0 | BR5: =AF35 -> 0.3 | BS5: =AG35 -> 0 | BT5: =AH35 -> 0 | BU5: =AI35 -> 0 | BV5: =AJ35 -> 6
B6: スパン別変状展開図 | K6: 【健全性判定集計表】
K7: スパン番号 | N7: S4 | P7: スパン長 | R7: 2 | U7: 前回定期点検時の判定 | W7: 応急措置前の判定 | Y7: 対策区分毎の 変状の有無 | AC7: 対策区分毎の変状の発生範囲の規模(㎡) | AK7: 備考注2
K8: 変状番号 | L8: 対象箇所 | N8: 部位区分 | P8: 変状区分 | R8: 変状種類
Y9: 外力注1 | AC9: 材質劣化注1 | AG9: 漏水注1
Y10: Ⅳ | Z10: Ⅲ | AA10: Ⅱa | AB10: Ⅱb | AC10: Ⅳ | AD10: Ⅲ | AE10: Ⅱa | AF10: Ⅱb | AG10: Ⅳ | AH10: Ⅲ | AI10: Ⅱa | AJ10: Ⅱb
K11: 1 | L11: 覆工 | N11: 側壁（左側） | P11: 漏水 | R11: 漏水 | U11: Ⅱb | W11: － | AQ11: =IF(P11="材質劣化",2,IF(P11="漏水",3,1)) -> 3 | AS11: =IF(Y11<>"",1,"")
K12: 2 | L12: 覆工 | N12: 横断目地（左側） | P12: 漏水 | R12: 漏水 | U12: Ⅱb | W12: － | AQ12: =IF(P12="材質劣化",2,IF(P12="漏水",3,1)) -> 3
K13: 3 | L13: 覆工 | N13: アーチ（左側） | P13: 材質劣化 | R13: うき・はく離 | U13: - | W13: － | AQ13: =IF(P13="材質劣化",2,IF(P13="漏水",3,1)) -> 2
K14: 4 | L14: 覆工 | N14: 横断目地（左側） | P14: 材質劣化 | R14: うき・はく離 | U14: - | W14: － | AF14: 0.08 | AQ14: =IF(P14="材質劣化",2,IF(P14="漏水",3,1)) -> 2
K15: 5 | L15: 覆工 | N15: 横断目地（右側） | P15: 材質劣化 | R15: うき・はく離 | U15: - | W15: － | AQ15: =IF(P15="材質劣化",2,IF(P15="漏水",3,1)) -> 2
K16: 6 | L16: 覆工 | N16: アーチ（右側） | P16: 材質劣化 | R16: うき・はく離 | U16: - | W16: － | AQ16: =IF(P16="材質劣化",2,IF(P16="漏水",3,1)) -> 2
K17: 7 | L17: 覆工 | N17: アーチ（右側） | P17: 漏水 | R17: 漏水 | U17: Ⅱb | W17: － | AQ17: =IF(P17="材質劣化",2,IF(P17="漏水",3,1)) -> 3
K18: 8 | L18: 覆工 | N18: アーチ（右側） | P18: 材質劣化 | R18: うき・はく離 | U18: - | W18: － | AF18: 0.22 | AQ18: =IF(P18="材質劣化",2,IF(P18="漏水",3,1)) -> 2
K19: 9 | L19: 路面 | N19: 車道 | P19: 漏水 | R19: その他 | U19: - | W19: － | AJ19: 3 | AQ19: =IF(P19="材質劣化",2,IF(P19="漏水",3,1)) -> 3
K20: 10 | L20: 路面 | N20: 車道 | P20: 漏水 | R20: その他 | U20: - | W20: － | AJ20: 3 | AQ20: =IF(P20="材質劣化",2,IF(P20="漏水",3,1)) -> 3
AQ21: =IF(P21="材質劣化",2,IF(P21="漏水",3,1)) -> 1
AQ22: =IF(P22="材質劣化",2,IF(P22="漏水",3,1)) -> 1
AQ23: =IF(P23="材質劣化",2,IF(P23="漏水",3,1)) -> 1
AQ24: =IF(P24="材質劣化",2,IF(P24="漏水",3,1)) -> 1
AQ25: =IF(P25="材質劣化",2,IF(P25="漏水",3,1)) -> 1
AQ26: =IF(P26="材質劣化",2,IF(P26="漏水",3,1)) -> 1
AQ27: =IF(P27="材質劣化",2,IF(P27="漏水",3,1)) -> 1
AQ28: =IF(P30="材質劣化",2,IF(P30="漏水",3,1)) -> 1
AQ29: =IF(P34="材質劣化",2,IF(P34="漏水",3,1)) -> 1
AQ30: =IF(P30="材質劣化",2,IF(P30="漏水",3,1)) -> 1
AQ31: =IF(P33="材質劣化",2,IF(P33="漏水",3,1)) -> 1
AQ32: =IF(P37="材質劣化",2,IF(P37="漏水",3,1)) -> 1
AQ33: =IF(P33="材質劣化",2,IF(P33="漏水",3,1)) -> 1
AQ34: =IF(P36="材質劣化",2,IF(P36="漏水",3,1)) -> 1
K35: 集計 判定 診断 | L35: 変状の発生規模合計(㎡) | Y35: － | AC35: =SUM(AC11:AC34) -> 0 | AD35: =SUM(AD11:AD34) -> 0 | AE35: =SUM(AE11:AE34) -> 0 | AF35: =SUM(AF11:AF34) -> 0.3 | AG35: =SUM(AG11:AG34) -> 0 | AH35: =SUM(AH11:AH34) -> 0 | AI35: =SUM(AI11:AI34) -> 0 | AJ35: =SUM(AJ11:AJ34) -> 6 | AK35: 覆工スパン単位の 健全性の 診断の区分
L36: 対策区分の 判定結果 | O36: 対策区分毎の変状数注3 | Y36: Ⅳ | Z36: Ⅲ | AA36: Ⅱa | AB36: Ⅱb | AC36: Ⅳ | AD36: Ⅲ | AE36: Ⅱa | AF36: Ⅱb | AG36: Ⅳ | AH36: Ⅲ | AI36: Ⅱa | AJ36: Ⅱb
Y37: =IF(COUNTIF(Y11:Y34,"〇")>0,"1"," ") | Z37: =IF(COUNTIF(Z11:Z34,"〇")>0,"1"," ") | AA37: =IF(COUNTIF(AA11:AA34,"〇")>0,"1"," ") | AB37: =IF(COUNTIF(AB11:AB34,"〇")>0,"1"," ") | AC37: =COUNTA(AC11:AC34) -> 0 | AD37: =COUNTA(AD11:AD34) -> 0 | AE37: =COUNTA(AE11:AE34) -> 0 | AF37: =COUNTA(AF11:AF34) -> 2 | AG37: =COUNTA(AG11:AG34) -> 0 | AH37: =COUNTA(AH11:AH34) -> 0 | AI37: =COUNTA(AI11:AI34) -> 0 | AJ37: =COUNTA(AJ11:AJ34) -> 2
K39: 所見
K43: 注1：誤記入防止のため、当該変状区分以外のセルは灰色表示とすること。
K44: 注2：応急措置を実施した場合は、その詳細を備考に記載すること。
...

Sheet 様式D-3_PE
AU1: 様式F用→ | AV1: 覆工スパン | AY1: 変 状 数 | BK1: 変 状 規 模
AV2: 番号 | AW2: 延長 （ｍ） | AX2: 健全性の診断の 区分 | AY2: 対策区分の判定 | BK2: 覆工スパン長（ｍ） | BO2: 変状の発生範囲の規模（㎡）
B3: ■定期点検記録様式 覆工スパン別変状詳細展開図 【様式D-3】 | AY3: 外力 | BC3: 材質劣化 | BG3: 漏水 | BK3: 外力 注2 | BO3: 材質劣化 | BS3: 漏水
B4: フリガナ | E4: ホオテキトンネル | K4: 路線名 | N4: 秋掛錦線 | T4: 定期点検実施者 | Y4: 株式会社エイト日本技術開発 | AG4: 定期点検年月日 | AK4: 45594 | AY4: Ⅳ | AZ4: Ⅲ | BA4: Ⅱa | BB4: Ⅱb | BC4: Ⅳ | BD4: Ⅲ | BE4: Ⅱa | BF4: Ⅱb | BG4: Ⅳ | BH4: Ⅲ | BI4: Ⅱa | BJ4: Ⅱb | BK4: Ⅳ | BL4: Ⅲ | BM4: Ⅱa | BN4: Ⅱb | BO4: Ⅳ | BP4: Ⅲ | BQ4: Ⅱa | BR4: Ⅱb | BS4: Ⅳ | BT4: Ⅲ | BU4: Ⅱa | BV4: Ⅱb
