Workbook
Name Z_D77EBD73_782E_4A63_AC37_29D349B4D009_.wvu.Cols: '様式C-2'!$AA:$AA
Name Z_D77EBD73_782E_4A63_AC37_29D349B4D009_.wvu.PrintArea: '様式A-1'!$B$2:$AB$29
Name Z_D77EBD73_782E_4A63_AC37_29D349B4D009_.wvu.PrintArea: '様式A-2'!$B$3:$AN$89
Name Z_D77EBD73_782E_4A63_AC37_29D349B4D009_.wvu.PrintArea: '様式A-3'!$B$3:$AI$18
Name Z_D77EBD73_782E_4A63_AC37_29D349B4D009_.wvu.PrintArea: '様式B(トンネル様式1P001)'!$B$2:$Y$27
Name Z_D77EBD73_782E_4A63_AC37_29D349B4D009_.wvu.PrintArea: '様式B(トンネル様式1P001) (10)'!$B$2:$Y$27
Name Z_D77EBD73_782E_4A63_AC37_29D349B4D009_.wvu.PrintArea: '様式B(トンネル様式1P001) (11)'!$B$2:$Y$27
Name Z_D77EBD73_782E_4A63_AC37_29D349B4D009_.wvu.PrintArea: '様式B(トンネル様式1P001) (12)'!$B$2:$Y$27
Name Z_D77EBD73_782E_4A63_AC37_29D349B4D009_.wvu.PrintArea: '様式B(トンネル様式1P001) (13)'!$B$2:$Y$27
Name Z_D77EBD73_782E_4A63_AC37_29D349B4D009_.wvu.PrintArea: '様式B(トンネル様式1P001) (14)'!$B$2:$Y$27
Name Z_D77EBD73_782E_4A63_AC37_29D349B4D009_.wvu.PrintArea: '様式B(トンネル様式1P001) (15)'!$B$2:$Y$27
Name Z_D77EBD73_782E_4A63_AC37_29D349B4D009_.wvu.PrintArea: '様式B(トンネル様式1P001) (16)'!$B$2:$Y$27
Name Z_D77EBD73_782E_4A63_AC37_29D349B4D009_.wvu.PrintArea: '様式B(トンネル様式1P001) (17)'!$B$2:$Y$27
Name Z_D77EBD73_782E_4A63_AC37_29D349B4D009_.wvu.PrintArea: '様式B(トンネル様式1P001) (18)'!$B$2:$Y$27
Name Z_D77EBD73_782E_4A63_AC37_29D349B4D009_.wvu.PrintArea: '様式B(トンネル様式1P001) (19)'!$B$2:$Y$27
Name Z_D77EBD73_782E_4A63_AC37_29D349B4D009_.wvu.PrintArea: '様式B(トンネル様式1P001) (2)'!$B$2:$Y$27
Name Z_D77EBD73_782E_4A63_AC37_29D349B4D009_.wvu.PrintArea: '様式B(トンネル様式1P001) (20)'!$B$2:$Y$27
Name Z_D77EBD73_782E_4A63_AC37_29D349B4D009_.wvu.PrintArea: '様式B(トンネル様式1P001) (21)'!$B$2:$Y$27
Name Z_D77EBD73_782E_4A63_AC37_29D349B4D009_.wvu.PrintArea: '様式B(トンネル様式1P001) (3)'!$B$2:$Y$27
Name Z_D77EBD73_782E_4A63_AC37_29D349B4D009_.wvu.PrintArea: '様式B(トンネル様式1P001) (4)'!$B$2:$Y$27
Name Z_D77EBD73_782E_4A63_AC37_29D349B4D009_.wvu.PrintArea: '様式B(トンネル様式1P001) (5)'!$B$2:$Y$27
Name Z_D77EBD73_782E_4A63_AC37_29D349B4D009_.wvu.PrintArea: '様式B(トンネル様式1P001) (6)'!$B$2:$Y$27
Name Z_D77EBD73_782E_4A63_AC37_29D349B4D009_.wvu.PrintArea: '様式B(トンネル様式1P001) (7)'!$B$2:$Y$27
Name Z_D77EBD73_782E_4A63_AC37_29D349B4D009_.wvu.PrintArea: '様式B(トンネル様式1P001) (8)'!$B$2:$Y$27
Name Z_D77EBD73_782E_4A63_AC37_29D349B4D009_.wvu.PrintArea: '様式B(トンネル様式1P001) (9)'!$B$2:$Y$27
Name Z_D77EBD73_782E_4A63_AC37_29D349B4D009_.wvu.PrintArea: '様式C-1-1'!$B$2:$Y$43
Name Z_D77EBD73_782E_4A63_AC37_29D349B4D009_.wvu.PrintArea: '様式C-2'!$B$2:$Z$21
Name Z_D77EBD73_782E_4A63_AC37_29D349B4D009_.wvu.PrintArea: '様式D-1-1(トンネル様式2P001) P001'!$B$2:$W$40
Name Z_D77EBD73_782E_4A63_AC37_29D349B4D009_.wvu.PrintArea: '様式D-1-1(トンネル様式2P001) P002'!$B$2:$W$40
Name Z_D77EBD73_782E_4A63_AC37_29D349B4D009_.wvu.PrintArea: '様式D-1-1(トンネル様式2P001) P003'!$B$2:$W$40
Name Z_D77EBD73_782E_4A63_AC37_29D349B4D009_.wvu.PrintArea: '様式D-1-1(トンネル様式2P001) P004'!$B$2:$W$40
Name Z_D77EBD73_782E_4A63_AC37_29D349B4D009_.wvu.PrintArea: '様式D-1-1(トンネル様式2P001) P005'!$B$2:$W$40
Name Z_D77EBD73_782E_4A63_AC37_29D349B4D009_.wvu.PrintArea: '様式D-1-1(トンネル様式2P001) P006'!$B$2:$W$40
Name Z_D77EBD73_782E_4A63_AC37_29D349B4D009_.wvu.PrintArea: '様式D-1-1(トンネル様式2P001) P007'!$B$2:$W$40
Name Z_D77EBD73_782E_4A63_AC37_29D349B4D009_.wvu.PrintArea: '様式D-1-1(トンネル様式2P001) P008'!$B$2:$W$40
Name Z_D77EBD73_782E_4A63_AC37_29D349B4D009_.wvu.PrintArea: '様式D-1-1(トンネル様式2P001) P009'!$B$2:$W$40
Name Z_D77EBD73_782E_4A63_AC37_29D349B4D009_.wvu.PrintArea: '様式D-1-1(トンネル様式2P001) P010'!$B$2:$W$40
Name Z_D77EBD73_782E_4A63_AC37_29D349B4D009_.wvu.PrintArea: '様式D-1-1(トンネル様式2P001) P011'!$B$2:$W$40
Name Z_D77EBD73_782E_4A63_AC37_29D349B4D009_.wvu.PrintArea: '様式D-1-1(トンネル様式2P001) P012'!$B$2:$W$40
Name Z_D77EBD73_782E_4A63_AC37_29D349B4D009_.wvu.PrintArea: '様式D-1-1(トンネル様式2P001) P013'!$B$2:$W$40
Name Z_D77EBD73_782E_4A63_AC37_29D349B4D009_.wvu.PrintArea: '様式D-1-1(トンネル様式2P001) P014'!$B$2:$W$40
Name Z_D77EBD73_782E_4A63_AC37_29D349B4D009_.wvu.PrintArea: '様式D-1-1(トンネル様式2P001) P015'!$B$2:$W$40
Name Z_D77EBD73_782E_4A63_AC37_29D349B4D009_.wvu.PrintArea: '様式D-1-1(トンネル様式2P001) P016'!$B$2:$W$40
Name Z_D77EBD73_782E_4A63_AC37_29D349B4D009_.wvu.PrintArea: '様式D-1-1(トンネル様式2P001) P017'!$B$2:$W$40
Name Z_D77EBD73_782E_4A63_AC37_29D349B4D009_.wvu.PrintArea: '様式D-1-1(トンネル様式2P001) P018'!$B$2:$W$40
Name Z_D77EBD73_782E_4A63_AC37_29D349B4D009_.wvu.PrintArea: '様式D-1-1(トンネル様式2P001) P019'!$B$2:$W$40
Name Z_D77EBD73_782E_4A63_AC37_29D349B4D009_.wvu.PrintArea: '様式D-1-1(トンネル様式2P001) P020'!$B$2:$W$40
Name Z_D77EBD73_782E_4A63_AC37_29D349B4D009_.wvu.PrintArea: '様式D-1-1(トンネル様式2P001) P021'!$B$2:$W$40
Name Z_D77EBD73_782E_4A63_AC37_29D349B4D009_.wvu.PrintArea: '様式D-1-1(トンネル様式2P001) P022'!$B$2:$W$40
Name Z_D77EBD73_782E_4A63_AC37_29D349B4D009_.wvu.PrintArea: '様式D-1-1(トンネル様式2P001) P023'!$B$2:$W$40
Name Z_D77EBD73_782E_4A63_AC37_29D349B4D009_.wvu.PrintArea: '様式D-1-1(トンネル様式2P001) P024'!$B$2:$W$40
Name Z_D77EBD73_782E_4A63_AC37_29D349B4D009_.wvu.PrintArea: '様式D-1-1(トンネル様式2P001) P025'!$B$2:$W$40
Name Z_D77EBD73_782E_4A63_AC37_29D349B4D009_.wvu.PrintArea: '様式D-1-1(トンネル様式2P001) P026'!$B$2:$W$40
Name Z_D77EBD73_782E_4A63_AC37_29D349B4D009_.wvu.PrintArea: '様式D-1-1(トンネル様式2P001) P027'!$B$2:$W$40
Name Z_D77EBD73_782E_4A63_AC37_29D349B4D009_.wvu.PrintArea: '様式D-1-1(トンネル様式2P001) P028'!$B$2:$W$40
Name Z_D77EBD73_782E_4A63_AC37_29D349B4D009_.wvu.PrintArea: '様式D-1-1(トンネル様式2P001) P029'!$B$2:$W$40
Name Z_D77EBD73_782E_4A63_AC37_29D349B4D009_.wvu.PrintArea: '様式D-1-1(トンネル様式2P001) P030'!$B$2:$W$40
Name Z_D77EBD73_782E_4A63_AC37_29D349B4D009_.wvu.PrintArea: '様式D-1-1(トンネル様式2P001) P031'!$B$2:$W$40
Name Z_D77EBD73_782E_4A63_AC37_29D349B4D009_.wvu.PrintArea: '様式D-1-1(トンネル様式2P001) P032'!$B$2:$W$40
Name Z_D77EBD73_782E_4A63_AC37_29D349B4D009_.wvu.PrintArea: '様式D-1-1(トンネル様式2P001) P033'!$B$2:$W$40

Sheet 点検様式作成フロー
A1: 点検様式作成フロ-
A3: 作成フロー図 | H3: 点検調書作成手順
H4: ①様式A-1～A-3（トンネル台帳）
H5: トンネル点検の実施にあたっては，現場点検作業に先行してトンネル情報を収集する。トンネル台帳（様式Ａ－1～様式Ａ－3）はトンネル完成後に作成され，維持管理の段階で引き継がれるが，関連資料等を確認したうえで，追加情報があれば必要に応じて追記することが望ましい。
H9: ②様式D-2-1、様式D-2-1´
H10: 現場点検作業を実施し，近接目視点検で確認した変状状況や補修履歴を忠実に変状展開図に転記する
H12: ③様式D-1-1、様式D-1-2
H13: 変状展開図や撮影した写真等をもとに，対象トンネルの対策区分を判定し，対策区分の判定区分がⅡ～Ⅳの変状および異常判定区分「×」を抽出し，写真台帳を作成する
H16: ④様式B
H17: 写真台帳の作成と同時に，トンネルの構造を展開した位置図に変状写真位置を記録する
H19: ⑤様式D-3
H20: 変状展開図ならびに写真台帳をもとに覆工スパンごとの変状展開図を作成し，変状発生状況をとりまとめる
H22: ⑥様式E-1、様式E-2
H23: 様式Ｄ－1～様式Ｄ－3をもとに，健全性の診断結果を集計する
... H31: ファイルは以下の分割規則に従う。 ※各ファイルとも （参考）リスト のシートを付けて保存すること。 ・様式A-1～A-3は同一ファイルとする。 ・様式B、D-1-1、D-1-2、D-2-1（もしくはD-2-1'）、Eは別ファイルとする。 ・様式C-1-1,C-1-2、C-2は同一ファイルとする。 ・様式D-3、E、Fは同一ファイルとする。

Sheet 変状面積算出方法
A1: 変状面積算出方法
A26: 注1）外力による変状：ひび割れや圧ざの場合は変状の寸法を記録する。
A27: 例）ひび割れ：長さ（L）×最大ひび割れ幅（t）を記録する。 変形，移動，沈下：数値的な記載が可能な場合のみ記載する。
A28: 注2）材料劣化による：打音異常
A29: 例）うき，はく離（閉合ひび割れ）：変状範囲を包括する寸法（L×W） うき，はく離（ひび割れ沿い）：打音異常箇所を包括する寸法（L×W） 鋼材腐食（鉄筋腐食）：一括した対策が適当と考えられる範囲を包括する寸法（L×W）
A30: 注3）漏水による変状：漏水発生範囲を包括し，垂れ下がりの可能性がある側壁下端まで含めた寸法を，L×Wで記録する。打継ぎ目地沿いの 漏水については目地を跨いだ50cm幅を横幅とする。

Sheet 様式A-1
B2: ■トンネル台帳 トンネル諸元、非常用施設諸元 【様式A-1】 | S2: トンネルID
B3: フリガナ | D3: ホウベンザントンネル | H3: 路線名 | J3: 国道435号 | P3: 管理者名 | R3: 防府土木建設事務所山口支所 | W3: 緊急輸送道路 | Z3: 有
B4: 名 称 | D4: 鳳翩山トンネル | W4: 代替路の有無 | Z4: 有
B5: 所在地 | D5: 自 | E5: 山口県山口市吉敷 | H5: 作成者 | K5: 株式会社エイト日本技術開発 | P5: 作成年月日 | R5: 44445 | U5: トンネル延長 | X5: L= | Z5: 1030 | AB5: ｍ
D6: 至 | E6: 山口県美祢市美東町綾木 | U6: ﾄﾝﾈﾙの分類 | X6: 陸上トンネル（掘進工法）
B7: 起点 | C7: 緯度 | E7: 34°11′35.0″ | H7: 完成年月日 | K7: 平成3年 | M7: 舗装 | O7: 種 別 | Q7: コンクリート系 | S7: トンネル非常用施設 | T7: 施設の内訳 | X7: 種別・方式 | Y7: 型式 | Z7: 個数 | AA7: 更新年度 | AE7: =INT(E7/10000) -> #VALUE! | AF7: =INT(E7/100)-AE7*100 -> #VALUE! | AG7: =E7-AE7*10000-AF7*100 -> #VALUE! | AH7: =ROUND(AE7+AF7/60+AG7/60/60,5) -> #VALUE! | AI7: =TEXT(AH7,"0.00000") -> #VALUE!
C8: 経度 | E8: 131°24′23.0″ | H8: 供用年月日 | O8: 厚 さ | Q8: 25 | R8: ㎝ | T8: 通報設備 | U8: 通話型通報設備 | Z8: 5 | AE8: =INT(E8/10000) -> #VALUE! | AF8: =INT(E8/100)-AE8*100 -> #VALUE! | AG8: =E8-AE8*10000-AF8*100 -> #VALUE! | AH8: =ROUND(AE8+AF8/60+AG8/60/60,5) -> #VALUE! | AI8: =TEXT(AH8,"0.00000") -> #VALUE!
B9: 終点 | C9: 緯度 | E9: 34°11′36.9″ | H9: トンネル区分 | K9: B | O9: 面 積 | U9: 操作型通報設備 | Z9: 20
C10: 経度 | E10: 131°23′42.7″ | H10: 内装種類 | O10: 更新年次 | U10: 自動通報設備
B11: 一般有料区分 | E11: 無料 | H11: 天井板種類 | M11: 排水 | O11: 種 別 | Q11: U型暗梁排水 | T11: 警報設備 | U11: 非常警報設備
B12: 土かぶり | G12: m | H12: 坑門 | I12: 起点 | J12: 形式 | K12: 面壁型 | O12: 更新年次 | T12: 消火設備 | U12: 消 火 器 | Z12: 20
B13: 内空断面積 | G13: ㎡ | J13: 延長 | L13: m | M13: 施設 | P13: 種別・方式 | Q13: 個数 | R13: 更新年次 | U13: 消火栓設備
B14: 交 通 量 | E14: 10721 | G14: 台/日 | I14: 終点 | J14: 形式 | K14: 面壁型 | M14: 道路附属物等 | N14: 照明 | P14: LED | Q14: 107 | T14: 避難誘導設備 | U14: 誘導表示設備 | Z14: 42
C15: 道 路 幅 | E15: 9.3 | G15: m | J15: 延長 | L15: m | N15: 換気 | P15: 自然 | U15: 避難情報提供設備
B16: 幅 員 | C16: 車 道 幅 | E16: 3.5 | G16: m | H16: 竣工巻厚 | I16: アーチ | K16: 30 | L16: cm | N16: 標識
E17: 3.5 | G17: m | I17: 側 壁 | K17: 30 | L17: cm | N17: 警報表示板 | Q17: 1 | U17: 避難通路
C18: 歩道等幅 | E18: 2.3 | G18: m | K18: 30 | L18: cm | N18: 吸音板 | U18: 排煙設備
B19: 高さ | C19: 建築限界高 | E19: 4.5 | G19: m | I19: インバート | K19: 50 | L19: cm | T19: その他の設備 | U19: 給水栓設備
C20: 中央高 | E20: 6.5 | G20: m | H20: 半径 | I20: アーチ | K20: 490 | L20: cm | U20: 無線通信補助設備
C21: 有効高 | E21: 4.5 | G21: m | I21: 側 壁 | K21: 490 | L21: cm | U21: 水噴霧設備
C22: 縦断勾配 | E22: 0.3～1.0％ | I22: インバート | K22: 1131 | L22: cm | U22: 監視設備
B23: 線 形 | C23: 直線区間長 | E23: 1030 | H23: 占用物件 | I23: 種 類 | K23: 寸 法 | M23: 管理者名 | Q23: 更新年次 | S23: 非常用施設 関連設備 | U23: 予備発電設備
C24: 曲線区間 | D24: 区間長
D25: 起点側ｸﾛｿｲﾄﾞ
D26: 曲線半径
D27: 終点側ｸﾛｿｲﾄﾞ | S27: その他 | U27: 非常駐車帯 | Z27: 2
B28: トンネル工法 | E28: 山岳トンネル工法（NATM） | U28: 方向転換所
C29: ※緯度・経度については、秒の少数第二位の単位まで記入すること。（例；36度20分35.56秒の場合、362035.36と入力）

Sheet 様式A-2
B3: ■トンネル台帳 トンネル情報一覧表 【様式A-2】
B4: フリガナ | E4: ='様式A-1'!D3 -> ホウベンザントンネル | J4: 路線名 | M4: ='様式A-1'!J3 -> 国道435号 | S4: 作成者 | Y4: ='様式A-1'!K5 -> 株式会社エイト日本技術開発 | AE4: 作成年月日 | AI4: ='様式A-1'!R5 -> 44445
B5: 名 称 | E5: ='様式A-1'!D4 -> 鳳翩山トンネル | J5: 管理者名 | M5: ='様式A-1'!R3 -> 防府土木建設事務所山口支所
B6: 覆工 ｽﾊﾟﾝ 番号 | C6: ｽﾊﾟﾝ長 | D6: 追加距離 | F6: トンネル本体工 | K6: 照明施設 | O6: 非常用施設 | AE6: 換気施設 | AK6: その他附属物等
O7: ='様式A-1'!T8 -> 通報設備 | R7: ='様式A-1'!T11 -> 警報設備 | S7: ='様式A-1'!T12 -> 消火設備 | U7: ='様式A-1'!T14 -> 避難誘導設備 | Y7: ='様式A-1'!T19 -> その他の設備 | AC7: 特記事項
D8: 起点側 | E8: 終点側 | F8: 特記事項 | I8: 内装板 | J8: 天井板 | K8: 基本照明 | L8: 入口出口照明 | M8: 特記事項 | O8: ='様式A-1'!U8 -> 通話型通報設備 | P8: ='様式A-1'!U9 -> 操作型通報設備 | Q8: ='様式A-1'!U10 -> 自動通報設備 | R8: ='様式A-1'!U11 -> 非常警報設備 | S8: ='様式A-1'!U12 -> 消 火 器 | T8: ='様式A-1'!U13 -> 消火栓設備 | U8: ='様式A-1'!U14 -> 誘導表示設備 | V8: ='様式A-1'!U15 -> 避難情報提供設備 | W8: ='様式A-1'!U17 -> 避難通路 | X8: ='様式A-1'!U18 -> 排煙設備 | Y8: ='様式A-1'!U19 -> 給水栓設備 | Z8: ='様式A-1'!U20 -> 無線通信補助設備 | AA8: ='様式A-1'!U21 -> 水噴霧設備 | AB8: ='様式A-1'!U22 -> 監視設備 | AE8: JF | AF8: VI計 | AG8: CO計 | AH8: 風向 風速計 | AI8: 特記事項
C9: (m) | D9: (m) | E9: (m)
B10: PS | C10: 0 | D10: 0 | E10: 0 | F10: 坑門（面壁型）
B11: S1 | C11: 7.9 | D11: 0 | E11: =D11+C11 -> 7.9 | F11: 銘板(L) | K11: ○ | AK11: 非常電話案内板
B12: S2 | C12: 10.5 | D12: 7.9 | E12: =D12+C12 -> 18.4 | K12: ○
B13: S3 | C13: 10.55 | D13: =E12 -> 18.4 | E13: =D13+C13 -> 28.95 | K13: ○
B14: S4 | C14: 10.5 | D14: =E13 -> 28.95 | E14: =D14+C14 -> 39.45 | K14: ○ | P14: ① | R14: ① | S14: ① | U14: ○ | AK14: 非常電話案内板
B15: S5 | C15: 10.5 | D15: =E14 -> 39.45 | E15: =D15+C15 -> 49.95 | K15: ○
B16: S6 | C16: 10.5 | D16: =E15 -> 49.95 | E16: =D16+C16 -> 60.45 | K16: ○ | U16: ○ | AK16: 非常電話案内板
B17: S7 | C17: 10.5 | D17: =E16 -> 60.45 | E17: =D17+C17 -> 70.95 | K17: ○
B18: S8 | C18: 10.5 | D18: =E17 -> 70.95 | E18: =D18+C18 -> 81.45 | K18: ○ | O18: ① | P18: ② | S18: ②
B19: S9 | C19: 10.55 | D19: =E18 -> 81.45 | E19: =D19+C19 -> 92 | K19: ○
B20: S10 | C20: 10.55 | D20: =E19 -> 92 | E20: =D20+C20 -> 102.55 | K20: ○
B21: S11 | C21: 10.5 | D21: =E20 -> 102.55 | E21: =D21+C21 -> 113.05 | K21: ○ | U21: ○ | AK21: 非常電話案内板
B22: S12 | C22: 10.55 | D22: =E21 -> 113.05 | E22: =D22+C22 -> 123.6 | K22: ○
B23: S13 | C23: 10.5 | D23: =E22 -> 123.6 | E23: =D23+C23 -> 134.1 | K23: ○ | P23: ③ | S23: ③ | U23: ○ | AK23: 非常電話案内板
B24: S14 | C24: 10.5 | D24: =E23 -> 134.1 | E24: =D24+C24 -> 144.6 | K24: ○
B25: S15 | C25: 10.5 | D25: =E24 -> 144.6 | E25: =D25+C25 -> 155.1 | K25: ○ | U25: ○ | AK25: 非常電話案内板
B26: S16 | C26: 10.55 | D26: =E25 -> 155.1 | E26: =D26+C26 -> 165.65
B27: S17 | C27: 10.5 | D27: =E26 -> 165.65 | E27: =D27+C27 -> 176.15 | K27: ○
B28: S18 | C28: 10.5 | D28: =E27 -> 176.15 | E28: =D28+C28 -> 186.65 | K28: ○ | P28: ④ | S28: ④ | U28: ○ | AK28: 非常電話案内板
B29: S19 | C29: 10.55 | D29: =E28 -> 186.65 | E29: =D29+C29 -> 197.2 | K29: ○
B30: S20 | C30: 10.5 | D30: =E29 -> 197.2 | E30: =D30+C30 -> 207.7 | K30: ○ | U30: ○ | AK30: 非常電話案内板
B31: S21 | C31: 10.5 | D31: =E30 -> 207.7 | E31: =D31+C31 -> 218.2 | K31: ○ | U31: ○
B32: S22 | C32: 10.5 | D32: =E31 -> 218.2 | E32: =D32+C32 -> 228.7
B33: S23 | C33: 10.5 | D33: =E32 -> 228.7 | E33: =D33+C33 -> 239.2 | K33: ○ | P33: ⑤ | S33: ⑤ | U33: ○ | AK33: 非常電話案内板
B34: S24 | C34: 10.5 | D34: =E33 -> 239.2 | E34: =D34+C34 -> 249.7
B35: S25 | C35: 10.5 | D35: =E34 -> 249.7 | E35: =D35+C35 -> 260.2 | K35: ○ | U35: ○ | AK35: 非常電話案内板
B36: S26 | C36: 10.5 | D36: =E35 -> 260.2 | E36: =D36+C36 -> 270.7
B37: S27 | C37: 10.5 | D37: =E36 -> 270.7 | E37: =D37+C37 -> 281.2 | O37: ② | P37: ⑥ | S37: ⑥
B38: S28 | C38: 10.55 | D38: =E37 -> 281.2 | E38: =D38+C38 -> 291.75 | K38: ○
B39: S29 | C39: 10.5 | D39: =E38 -> 291.75 | E39: =D39+C39 -> 302.25
B40: S30 | C40: 10.55 | D40: =E39 -> 302.25 | E40: =D40+C40 -> 312.8 | K40: ○ | U40: ○ | AK40: 非常電話案内板
B41: S31 | C41: 10.5 | D41: =E40 -> 312.8 | E41: =D41+C41 -> 323.3
B42: S32 | C42: 10.55 | D42: =E41 -> 323.3 | E42: =D42+C42 -> 333.85 | K42: ○ | P42: ⑦ | S42: ⑦ | U42: ○ | AK42: 非常電話案内板
...

Sheet 様式A-3
B3: ■トンネル台帳 トンネル記録（位置図、断面図、施工実績他）【様式A-3】
B4: フリガナ | E4: ='様式A-1'!D3 -> ホウベンザントンネル | J4: 路線名 | M4: ='様式A-1'!J3 -> 国道435号 | S4: 作成者 | W4: ='様式A-1'!K5 -> 株式会社エイト日本技術開発 | AC4: 作成年月日 | AF4: ='様式A-1'!R5 -> 44445
B5: 名 称 | E5: ='様式A-1'!D4 -> 鳳翩山トンネル | J5: 管理者名 | M5: ='様式A-1'!R3 -> 防府土木建設事務所山口支所
B6: 位置図・現況写真・標準断面図・地質縦断図・施工実績
B20: ■トンネル台帳 トンネル記録（位置図、断面図、施工実績他）【様式A-3】
B21: フリガナ | E21: =E4 -> ホウベンザントンネル | J21: 路線名 | M21: =M4 -> 国道435号 | S21: 作成者 | W21: =W4 -> 株式会社エイト日本技術開発 | AC21: 作成年月日 | AF21: =AF4 -> 44445
B22: 名 称 | E22: =E5 -> 鳳翩山トンネル | J22: 管理者名 | M22: =M5 -> 防府土木建設事務所山口支所
B23: 位置図・現況写真・標準断面図・地質縦断図・施工実績
B37: ■トンネル台帳 トンネル記録（位置図、断面図、施工実績他）【様式A-3】
B38: フリガナ | E38: =E21 -> ホウベンザントンネル | J38: 路線名 | M38: =M21 -> 国道435号 | S38: 作成者 | W38: =W21 -> 株式会社エイト日本技術開発 | AC38: 作成年月日 | AF38: =AF4 -> 44445
B39: 名 称 | E39: =E22 -> 鳳翩山トンネル | J39: 管理者名 | M39: =M22 -> 防府土木建設事務所山口支所
B40: 位置図・現況写真・標準断面図・地質縦断図・施工実績

Sheet 様式B(トンネル様式1P001)
B2: ■定期点検記録様式 トンネル変状・異常箇所写真位置図 | T2: トンネルID | AA2: Ⅰ | AB2: あり | AC2: 陸上トンネル 掘進工法
B3: フリガナ | D3: ='様式A-1'!D3:G3 -> ホウベンザントンネル | H3: 路線名 | J3: ='様式A-1'!J3 -> 国道435号 | N3: 管理者名 | P3: ='様式A-1'!R3 -> 防府土木建設事務所山口支所 | T3: 緊急輸送道路 | V3: あり | AA3: Ⅱ | AB3: なし | AC3: 陸上トンネル 開削工法
B4: 名 称 | D4: ='様式A-1'!D4:G4 -> 鳳翩山トンネル | T4: 代替路の有無 | V4: あり | AA4: Ⅲ | AC4: 陸上トンネル その他
B5: 所在地 | D5: 自 | E5: ='様式A-1'!E5:G5 -> 山口県山口市吉敷 | H5: 定期点検業者 | K5: ='様式A-1'!K5:O6 -> 株式会社エイト日本技術開発 | O5: 定期点検年月日 | Q5: 44413 | T5: トンネル延長 | V5: L= | W5: 1030 | Y5: ｍ | AA5: Ⅳ | AC5: 水底トンネル 掘進工法
D6: 至 | E6: ='様式A-1'!E6:G6 -> 山口県美祢市美東町綾木 | H6: 定期点検者名 | K6: 榎田 敦之 | T6: ﾄﾝﾈﾙの分類 | V6: 陸上トンネル 掘進工法 | AC6: 水底トンネル 沈埋工法
B7: 起点 | C7: 緯度 | D7: 341135 | F7: 変状・異常 箇所数合計 | H7: トンネル 本体工 | J7: 材質劣化 | L7: Ⅱ | M7: 100 | N7: Ⅲ | O7: 1 | P7: Ⅳ | Q7: 0 | R7: トンネル毎 の健全性 | T7: Ⅲ | V7: 附属物の 取付状態 | W7: ◯ （応急措置後） | Y7: 0 | AC7: 水底トンネル 開削工法
AC8: 水底トンネル その他
C10: 経度 | D10: 1312423
J11: 漏水 | L11: Ⅱ | M11: 4 | N11: Ⅲ | O11: 0 | P11: Ⅳ | Q11: 0
B13: 終点 | C13: 緯度 | D13: 341136.9 | W13: ✕ | Y13: 5
J15: 外力 | L15: Ⅱ | M15: 5 | N15: Ⅲ | O15: 0 | P15: Ⅳ | Q15: 0 | AC15: 0
C16: 経度 | D16: 1312342.7
B19: トンネル変状・異常箇所写真位置図
P26: 注１：本位置図は、見下げた状態で記載すること。 注２：覆工スパン番号は横断目地毎(矢板工法の場合は上半アーチ の横断目地毎)に設定すること。 注３：写真番号に付する変状番号は、各覆工スパンの変状に対して新た に確認された場合は順次追加していくこと。 注４：横断目地の変状は前の覆工スパン番号で計上すること。 注５：１枚に収まらない場合は、複数枚に分けて作成すること。
C28: ※1 トンネル本体工の変状数は、材質劣化、漏水に起因するものは変状単位で、外力に起因するものはスパン単位で計上すること。
C29: ※2 本体工の変状に対しては、健全性の判定区分Ⅱ～Ⅳについて添付すること。また、点検前に実施された措置によりⅠと判定された箇所も添付すること。
C30: ※3 附属物の取付状態の○欄については、応急措置前に判定区分×とした箇所のうち応急措置により○判定とした箇所の数を記入すること。
C31: ※4 附属物の異常番号は、本体工と番号が重複しないよう101番以降とする等の配慮を行い、分かりやすく記録すること。

Sheet 様式B(トンネル様式1P001) (2)
B2: ■定期点検記録様式 トンネル変状・異常箇所写真位置図 | T2: トンネルID | AA2: Ⅰ | AB2: あり | AC2: 陸上トンネル 掘進工法
B3: フリガナ | D3: ='様式A-1'!D3:G3 -> ホウベンザントンネル | H3: 路線名 | J3: ='様式A-1'!J3 -> 国道435号 | N3: 管理者名 | P3: ='様式A-1'!R3 -> 防府土木建設事務所山口支所 | T3: 緊急輸送道路 | V3: あり | AA3: Ⅱ | AB3: なし | AC3: 陸上トンネル 開削工法
B4: 名 称 | D4: ='様式A-1'!D4:G4 -> 鳳翩山トンネル | T4: 代替路の有無 | V4: あり | AA4: Ⅲ | AC4: 陸上トンネル その他
B5: 所在地 | D5: 自 | E5: ='様式A-1'!E5:G5 -> 山口県山口市吉敷 | H5: 定期点検業者 | K5: ='様式A-1'!K5:O6 -> 株式会社エイト日本技術開発 | O5: 定期点検年月日 | Q5: 44413 | T5: トンネル延長 | V5: L= | W5: 1030 | Y5: ｍ | AA5: Ⅳ | AC5: 水底トンネル 掘進工法
D6: 至 | E6: ='様式A-1'!E6:G6 -> 山口県美祢市美東町綾木 | H6: 定期点検者名 | K6: 榎田 敦之 | T6: ﾄﾝﾈﾙの分類 | V6: 陸上トンネル 掘進工法 | AC6: 水底トンネル 沈埋工法
B7: 起点 | C7: 緯度 | D7: 341135 | F7: 変状・異常 箇所数合計 | H7: トンネル 本体工 | J7: 材質劣化 | L7: Ⅱ | M7: 100 | N7: Ⅲ | O7: 1 | P7: Ⅳ | Q7: 0 | R7: トンネル毎 の健全性 | T7: Ⅲ | V7: 附属物の 取付状態 | W7: ◯ （応急措置後） | Y7: 0 | AC7: 水底トンネル 開削工法
AC8: 水底トンネル その他
C10: 経度 | D10: 1312423
J11: 漏水 | L11: Ⅱ | M11: 4 | N11: Ⅲ | O11: 0 | P11: Ⅳ | Q11: 0
B13: 終点 | C13: 緯度 | D13: 341136.9 | W13: ✕ | Y13: 5
J15: 外力 | L15: Ⅱ | M15: 5 | N15: Ⅲ | O15: 0 | P15: Ⅳ | Q15: 0 | AC15: 0
C16: 経度 | D16: 1312342.7
B19: トンネル変状・異常箇所写真位置図
P26: 注１：本位置図は、見下げた状態で記載すること。 注２：覆工スパン番号は横断目地毎(矢板工法の場合は上半アーチ の横断目地毎)に設定すること。 注３：写真番号に付する変状番号は、各覆工スパンの変状に対して新た に確認された場合は順次追加していくこと。 注４：横断目地の変状は前の覆工スパン番号で計上すること。 注５：１枚に収まらない場合は、複数枚に分けて作成すること。
C28: ※1 トンネル本体工の変状数は、材質劣化、漏水に起因するものは変状単位で、外力に起因するものはスパン単位で計上すること。
C29: ※2 本体工の変状に対しては、健全性の判定区分Ⅱ～Ⅳについて添付すること。また、点検前に実施された措置によりⅠと判定された箇所も添付すること。
C30: ※3 附属物の取付状態の○欄については、応急措置前に判定区分×とした箇所のうち応急措置により○判定とした箇所の数を記入すること。
C31: ※4 附属物の異常番号は、本体工と番号が重複しないよう101番以降とする等の配慮を行い、分かりやすく記録すること。

Sheet 様式B(トンネル様式1P001) (3)
B2: ■定期点検記録様式 トンネル変状・異常箇所写真位置図 | T2: トンネルID | AA2: Ⅰ | AB2: あり | AC2: 陸上トンネル 掘進工法
B3: フリガナ | D3: ='様式A-1'!D3:G3 -> ホウベンザントンネル | H3: 路線名 | J3: ='様式A-1'!J3 -> 国道435号 | N3: 管理者名 | P3: ='様式A-1'!R3 -> 防府土木建設事務所山口支所 | T3: 緊急輸送道路 | V3: あり | AA3: Ⅱ | AB3: なし | AC3: 陸上トンネル 開削工法
B4: 名 称 | D4: ='様式A-1'!D4:G4 -> 鳳翩山トンネル | T4: 代替路の有無 | V4: あり | AA4: Ⅲ | AC4: 陸上トンネル その他
B5: 所在地 | D5: 自 | E5: ='様式A-1'!E5:G5 -> 山口県山口市吉敷 | H5: 定期点検業者 | K5: ='様式A-1'!K5:O6 -> 株式会社エイト日本技術開発 | O5: 定期点検年月日 | Q5: 44413 | T5: トンネル延長 | V5: L= | W5: 1030 | Y5: ｍ | AA5: Ⅳ | AC5: 水底トンネル 掘進工法
D6: 至 | E6: ='様式A-1'!E6:G6 -> 山口県美祢市美東町綾木 | H6: 定期点検者名 | K6: 榎田 敦之 | T6: ﾄﾝﾈﾙの分類 | V6: 陸上トンネル 掘進工法 | AC6: 水底トンネル 沈埋工法
B7: 起点 | C7: 緯度 | D7: 341135 | F7: 変状・異常 箇所数合計 | H7: トンネル 本体工 | J7: 材質劣化 | L7: Ⅱ | M7: 100 | N7: Ⅲ | O7: 1 | P7: Ⅳ | Q7: 0 | R7: トンネル毎 の健全性 | T7: Ⅲ | V7: 附属物の 取付状態 | W7: ◯ （応急措置後） | Y7: 0 | AC7: 水底トンネル 開削工法
AC8: 水底トンネル その他
C10: 経度 | D10: 1312423
J11: 漏水 | L11: Ⅱ | M11: 4 | N11: Ⅲ | O11: 0 | P11: Ⅳ | Q11: 0
B13: 終点 | C13: 緯度 | D13: 341136.9 | W13: ✕ | Y13: 5
J15: 外力 | L15: Ⅱ | M15: 5 | N15: Ⅲ | O15: 0 | P15: Ⅳ | Q15: 0 | AC15: 0
C16: 経度 | D16: 1312342.7
B19: トンネル変状・異常箇所写真位置図
P26: 注１：本位置図は、見下げた状態で記載すること。 注２：覆工スパン番号は横断目地毎(矢板工法の場合は上半アーチ の横断目地毎)に設定すること。 注３：写真番号に付する変状番号は、各覆工スパンの変状に対して新た に確認された場合は順次追加していくこと。 注４：横断目地の変状は前の覆工スパン番号で計上すること。 注５：１枚に収まらない場合は、複数枚に分けて作成すること。
C28: ※1 トンネル本体工の変状数は、材質劣化、漏水に起因するものは変状単位で、外力に起因するものはスパン単位で計上すること。
C29: ※2 本体工の変状に対しては、健全性の判定区分Ⅱ～Ⅳについて添付すること。また、点検前に実施された措置によりⅠと判定された箇所も添付すること。
C30: ※3 附属物の取付状態の○欄については、応急措置前に判定区分×とした箇所のうち応急措置により○判定とした箇所の数を記入すること。
C31: ※4 附属物の異常番号は、本体工と番号が重複しないよう101番以降とする等の配慮を行い、分かりやすく記録すること。

Sheet 様式B(トンネル様式1P001) (4)
B2: ■定期点検記録様式 トンネル変状・異常箇所写真位置図 | T2: トンネルID | AA2: Ⅰ | AB2: あり | AC2: 陸上トンネル 掘進工法
B3: フリガナ | D3: ='様式A-1'!D3:G3 -> ホウベンザントンネル | H3: 路線名 | J3: ='様式A-1'!J3 -> 国道435号 | N3: 管理者名 | P3: ='様式A-1'!R3 -> 防府土木建設事務所山口支所 | T3: 緊急輸送道路 | V3: あり | AA3: Ⅱ | AB3: なし | AC3: 陸上トンネル 開削工法
B4: 名 称 | D4: ='様式A-1'!D4:G4 -> 鳳翩山トンネル | T4: 代替路の有無 | V4: あり | AA4: Ⅲ | AC4: 陸上トンネル その他
B5: 所在地 | D5: 自 | E5: ='様式A-1'!E5:G5 -> 山口県山口市吉敷 | H5: 定期点検業者 | K5: ='様式A-1'!K5:O6 -> 株式会社エイト日本技術開発 | O5: 定期点検年月日 | Q5: 44413 | T5: トンネル延長 | V5: L= | W5: 1030 | Y5: ｍ | AA5: Ⅳ | AC5: 水底トンネル 掘進工法
D6: 至 | E6: ='様式A-1'!E6:G6 -> 山口県美祢市美東町綾木 | H6: 定期点検者名 | K6: 榎田 敦之 | T6: ﾄﾝﾈﾙの分類 | V6: 陸上トンネル 掘進工法 | AC6: 水底トンネル 沈埋工法
B7: 起点 | C7: 緯度 | D7: 341135 | F7: 変状・異常 箇所数合計 | H7: トンネル 本体工 | J7: 材質劣化 | L7: Ⅱ | M7: 100 | N7: Ⅲ | O7: 1 | P7: Ⅳ | Q7: 0 | R7: トンネル毎 の健全性 | T7: Ⅲ | V7: 附属物の 取付状態 | W7: ◯ （応急措置後） | Y7: 0 | AC7: 水底トンネル 開削工法
AC8: 水底トンネル その他
C10: 経度 | D10: 1312423
J11: 漏水 | L11: Ⅱ | M11: 4 | N11: Ⅲ | O11: 0 | P11: Ⅳ | Q11: 0
B13: 終点 | C13: 緯度 | D13: 341136.9 | W13: ✕ | Y13: 5
J15: 外力 | L15: Ⅱ | M15: 5 | N15: Ⅲ | O15: 0 | P15: Ⅳ | Q15: 0 | AC15: 0
C16: 経度 | D16: 1312342.7
B19: トンネル変状・異常箇所写真位置図
P26: 注１：本位置図は、見下げた状態で記載すること。 注２：覆工スパン番号は横断目地毎(矢板工法の場合は上半アーチ の横断目地毎)に設定すること。 注３：写真番号に付する変状番号は、各覆工スパンの変状に対して新た に確認された場合は順次追加していくこと。 注４：横断目地の変状は前の覆工スパン番号で計上すること。 注５：１枚に収まらない場合は、複数枚に分けて作成すること。
C28: ※1 トンネル本体工の変状数は、材質劣化、漏水に起因するものは変状単位で、外力に起因するものはスパン単位で計上すること。
C29: ※2 本体工の変状に対しては、健全性の判定区分Ⅱ～Ⅳについて添付すること。また、点検前に実施された措置によりⅠと判定された箇所も添付すること。
C30: ※3 附属物の取付状態の○欄については、応急措置前に判定区分×とした箇所のうち応急措置により○判定とした箇所の数を記入すること。
C31: ※4 附属物の異常番号は、本体工と番号が重複しないよう101番以降とする等の配慮を行い、分かりやすく記録すること。

Sheet 様式B(トンネル様式1P001) (5)
B2: ■定期点検記録様式 トンネル変状・異常箇所写真位置図 | T2: トンネルID | AA2: Ⅰ | AB2: あり | AC2: 陸上トンネル 掘進工法
B3: フリガナ | D3: ='様式A-1'!D3:G3 -> ホウベンザントンネル | H3: 路線名 | J3: ='様式A-1'!J3 -> 国道435号 | N3: 管理者名 | P3: ='様式A-1'!R3 -> 防府土木建設事務所山口支所 | T3: 緊急輸送道路 | V3: あり | AA3: Ⅱ | AB3: なし | AC3: 陸上トンネル 開削工法
B4: 名 称 | D4: ='様式A-1'!D4:G4 -> 鳳翩山トンネル | T4: 代替路の有無 | V4: あり | AA4: Ⅲ | AC4: 陸上トンネル その他
B5: 所在地 | D5: 自 | E5: ='様式A-1'!E5:G5 -> 山口県山口市吉敷 | H5: 定期点検業者 | K5: ='様式A-1'!K5:O6 -> 株式会社エイト日本技術開発 | O5: 定期点検年月日 | Q5: 44413 | T5: トンネル延長 | V5: L= | W5: 1030 | Y5: ｍ | AA5: Ⅳ | AC5: 水底トンネル 掘進工法
D6: 至 | E6: ='様式A-1'!E6:G6 -> 山口県美祢市美東町綾木 | H6: 定期点検者名 | K6: 榎田 敦之 | T6: ﾄﾝﾈﾙの分類 | V6: 陸上トンネル 掘進工法 | AC6: 水底トンネル 沈埋工法
B7: 起点 | C7: 緯度 | D7: 341135 | F7: 変状・異常 箇所数合計 | H7: トンネル 本体工 | J7: 材質劣化 | L7: Ⅱ | M7: 100 | N7: Ⅲ | O7: 1 | P7: Ⅳ | Q7: 0 | R7: トンネル毎 の健全性 | T7: Ⅲ | V7: 附属物の 取付状態 | W7: ◯ （応急措置後） | Y7: 0 | AC7: 水底トンネル 開削工法
AC8: 水底トンネル その他
C10: 経度 | D10: 1312423
J11: 漏水 | L11: Ⅱ | M11: 4 | N11: Ⅲ | O11: 0 | P11: Ⅳ | Q11: 0
B13: 終点 | C13: 緯度 | D13: 341136.9 | W13: ✕ | Y13: 5
J15: 外力 | L15: Ⅱ | M15: 5 | N15: Ⅲ | O15: 0 | P15: Ⅳ | Q15: 0 | AC15: 0
C16: 経度 | D16: 1312342.7
B19: トンネル変状・異常箇所写真位置図
P26: 注１：本位置図は、見下げた状態で記載すること。 注２：覆工スパン番号は横断目地毎(矢板工法の場合は上半アーチ の横断目地毎)に設定すること。 注３：写真番号に付する変状番号は、各覆工スパンの変状に対して新た に確認された場合は順次追加していくこと。 注４：横断目地の変状は前の覆工スパン番号で計上すること。 注５：１枚に収まらない場合は、複数枚に分けて作成すること。
C28: ※1 トンネル本体工の変状数は、材質劣化、漏水に起因するものは変状単位で、外力に起因するものはスパン単位で計上すること。
C29: ※2 本体工の変状に対しては、健全性の判定区分Ⅱ～Ⅳについて添付すること。また、点検前に実施された措置によりⅠと判定された箇所も添付すること。
C30: ※3 附属物の取付状態の○欄については、応急措置前に判定区分×とした箇所のうち応急措置により○判定とした箇所の数を記入すること。
C31: ※4 附属物の異常番号は、本体工と番号が重複しないよう101番以降とする等の配慮を行い、分かりやすく記録すること。

Sheet 様式B(トンネル様式1P001) (6)
B2: ■定期点検記録様式 トンネル変状・異常箇所写真位置図 | T2: トンネルID | AA2: Ⅰ | AB2: あり | AC2: 陸上トンネル 掘進工法
B3: フリガナ | D3: ='様式A-1'!D3:G3 -> ホウベンザントンネル | H3: 路線名 | J3: ='様式A-1'!J3 -> 国道435号 | N3: 管理者名 | P3: ='様式A-1'!R3 -> 防府土木建設事務所山口支所 | T3: 緊急輸送道路 | V3: あり | AA3: Ⅱ | AB3: なし | AC3: 陸上トンネル 開削工法
B4: 名 称 | D4: ='様式A-1'!D4:G4 -> 鳳翩山トンネル | T4: 代替路の有無 | V4: あり | AA4: Ⅲ | AC4: 陸上トンネル その他
B5: 所在地 | D5: 自 | E5: ='様式A-1'!E5:G5 -> 山口県山口市吉敷 | H5: 定期点検業者 | K5: ='様式A-1'!K5:O6 -> 株式会社エイト日本技術開発 | O5: 定期点検年月日 | Q5: 44413 | T5: トンネル延長 | V5: L= | W5: 1030 | Y5: ｍ | AA5: Ⅳ | AC5: 水底トンネル 掘進工法
D6: 至 | E6: ='様式A-1'!E6:G6 -> 山口県美祢市美東町綾木 | H6: 定期点検者名 | K6: 榎田 敦之 | T6: ﾄﾝﾈﾙの分類 | V6: 陸上トンネル 掘進工法 | AC6: 水底トンネル 沈埋工法
B7: 起点 | C7: 緯度 | D7: 341135 | F7: 変状・異常 箇所数合計 | H7: トンネル 本体工 | J7: 材質劣化 | L7: Ⅱ | M7: 100 | N7: Ⅲ | O7: 1 | P7: Ⅳ | Q7: 0 | R7: トンネル毎 の健全性 | T7: Ⅲ | V7: 附属物の 取付状態 | W7: ◯ （応急措置後） | Y7: 0 | AC7: 水底トンネル 開削工法
AC8: 水底トンネル その他
C10: 経度 | D10: 1312423
J11: 漏水 | L11: Ⅱ | M11: 4 | N11: Ⅲ | O11: 0 | P11: Ⅳ | Q11: 0
B13: 終点 | C13: 緯度 | D13: 341136.9 | W13: ✕ | Y13: 5
J15: 外力 | L15: Ⅱ | M15: 5 | N15: Ⅲ | O15: 0 | P15: Ⅳ | Q15: 0 | AC15: 0
C16: 経度 | D16: 1312342.7
B19: トンネル変状・異常箇所写真位置図
P26: 注１：本位置図は、見下げた状態で記載すること。 注２：覆工スパン番号は横断目地毎(矢板工法の場合は上半アーチ の横断目地毎)に設定すること。 注３：写真番号に付する変状番号は、各覆工スパンの変状に対して新た に確認された場合は順次追加していくこと。 注４：横断目地の変状は前の覆工スパン番号で計上すること。 注５：１枚に収まらない場合は、複数枚に分けて作成すること。
C28: ※1 トンネル本体工の変状数は、材質劣化、漏水に起因するものは変状単位で、外力に起因するものはスパン単位で計上すること。
C29: ※2 本体工の変状に対しては、健全性の判定区分Ⅱ～Ⅳについて添付すること。また、点検前に実施された措置によりⅠと判定された箇所も添付すること。
C30: ※3 附属物の取付状態の○欄については、応急措置前に判定区分×とした箇所のうち応急措置により○判定とした箇所の数を記入すること。
C31: ※4 附属物の異常番号は、本体工と番号が重複しないよう101番以降とする等の配慮を行い、分かりやすく記録すること。

Sheet 様式B(トンネル様式1P001) (7)
B2: ■定期点検記録様式 トンネル変状・異常箇所写真位置図 | T2: トンネルID | AA2: Ⅰ | AB2: あり | AC2: 陸上トンネル 掘進工法
B3: フリガナ | D3: ='様式A-1'!D3:G3 -> ホウベンザントンネル | H3: 路線名 | J3: ='様式A-1'!J3 -> 国道435号 | N3: 管理者名 | P3: ='様式A-1'!R3 -> 防府土木建設事務所山口支所 | T3: 緊急輸送道路 | V3: あり | AA3: Ⅱ | AB3: なし | AC3: 陸上トンネル 開削工法
B4: 名 称 | D4: ='様式A-1'!D4:G4 -> 鳳翩山トンネル | T4: 代替路の有無 | V4: あり | AA4: Ⅲ | AC4: 陸上トンネル その他
B5: 所在地 | D5: 自 | E5: ='様式A-1'!E5:G5 -> 山口県山口市吉敷 | H5: 定期点検業者 | K5: ='様式A-1'!K5:O6 -> 株式会社エイト日本技術開発 | O5: 定期点検年月日 | Q5: 44413 | T5: トンネル延長 | V5: L= | W5: 1030 | Y5: ｍ | AA5: Ⅳ | AC5: 水底トンネル 掘進工法
D6: 至 | E6: ='様式A-1'!E6:G6 -> 山口県美祢市美東町綾木 | H6: 定期点検者名 | K6: 榎田 敦之 | T6: ﾄﾝﾈﾙの分類 | V6: 陸上トンネル 掘進工法 | AC6: 水底トンネル 沈埋工法
B7: 起点 | C7: 緯度 | D7: 341135 | F7: 変状・異常 箇所数合計 | H7: トンネル 本体工 | J7: 材質劣化 | L7: Ⅱ | M7: 100 | N7: Ⅲ | O7: 1 | P7: Ⅳ | Q7: 0 | R7: トンネル毎 の健全性 | T7: Ⅲ | V7: 附属物の 取付状態 | W7: ◯ （応急措置後） | Y7: 0 | AC7: 水底トンネル 開削工法
AC8: 水底トンネル その他
C10: 経度 | D10: 1312423
J11: 漏水 | L11: Ⅱ | M11: 4 | N11: Ⅲ | O11: 0 | P11: Ⅳ | Q11: 0
B13: 終点 | C13: 緯度 | D13: 341136.9 | W13: ✕ | Y13: 5
J15: 外力 | L15: Ⅱ | M15: 5 | N15: Ⅲ | O15: 0 | P15: Ⅳ | Q15: 0 | AC15: 0
C16: 経度 | D16: 1312342.7
B19: トンネル変状・異常箇所写真位置図
P26: 注１：本位置図は、見下げた状態で記載すること。 注２：覆工スパン番号は横断目地毎(矢板工法の場合は上半アーチ の横断目地毎)に設定すること。 注３：写真番号に付する変状番号は、各覆工スパンの変状に対して新た に確認された場合は順次追加していくこと。 注４：横断目地の変状は前の覆工スパン番号で計上すること。 注５：１枚に収まらない場合は、複数枚に分けて作成すること。
C28: ※1 トンネル本体工の変状数は、材質劣化、漏水に起因するものは変状単位で、外力に起因するものはスパン単位で計上すること。
C29: ※2 本体工の変状に対しては、健全性の判定区分Ⅱ～Ⅳについて添付すること。また、点検前に実施された措置によりⅠと判定された箇所も添付すること。
C30: ※3 附属物の取付状態の○欄については、応急措置前に判定区分×とした箇所のうち応急措置により○判定とした箇所の数を記入すること。
C31: ※4 附属物の異常番号は、本体工と番号が重複しないよう101番以降とする等の配慮を行い、分かりやすく記録すること。

Sheet 様式B(トンネル様式1P001) (8)
B2: ■定期点検記録様式 トンネル変状・異常箇所写真位置図 | T2: トンネルID | AA2: Ⅰ | AB2: あり | AC2: 陸上トンネル 掘進工法
B3: フリガナ | D3: ='様式A-1'!D3:G3 -> ホウベンザントンネル | H3: 路線名 | J3: ='様式A-1'!J3 -> 国道435号 | N3: 管理者名 | P3: ='様式A-1'!R3 -> 防府土木建設事務所山口支所 | T3: 緊急輸送道路 | V3: あり | AA3: Ⅱ | AB3: なし | AC3: 陸上トンネル 開削工法
B4: 名 称 | D4: ='様式A-1'!D4:G4 -> 鳳翩山トンネル | T4: 代替路の有無 | V4: あり | AA4: Ⅲ | AC4: 陸上トンネル その他
B5: 所在地 | D5: 自 | E5: ='様式A-1'!E5:G5 -> 山口県山口市吉敷 | H5: 定期点検業者 | K5: ='様式A-1'!K5:O6 -> 株式会社エイト日本技術開発 | O5: 定期点検年月日 | Q5: 44413 | T5: トンネル延長 | V5: L= | W5: 1030 | Y5: ｍ | AA5: Ⅳ | AC5: 水底トンネル 掘進工法
D6: 至 | E6: ='様式A-1'!E6:G6 -> 山口県美祢市美東町綾木 | H6: 定期点検者名 | K6: 榎田 敦之 | T6: ﾄﾝﾈﾙの分類 | V6: 陸上トンネル 掘進工法 | AC6: 水底トンネル 沈埋工法
B7: 起点 | C7: 緯度 | D7: 341135 | F7: 変状・異常 箇所数合計 | H7: トンネル 本体工 | J7: 材質劣化 | L7: Ⅱ | M7: 100 | N7: Ⅲ | O7: 1 | P7: Ⅳ | Q7: 0 | R7: トンネル毎 の健全性 | T7: Ⅲ | V7: 附属物の 取付状態 | W7: ◯ （応急措置後） | Y7: 0 | AC7: 水底トンネル 開削工法
AC8: 水底トンネル その他
C10: 経度 | D10: 1312423
J11: 漏水 | L11: Ⅱ | M11: 4 | N11: Ⅲ | O11: 0 | P11: Ⅳ | Q11: 0
B13: 終点 | C13: 緯度 | D13: 341136.9 | W13: ✕ | Y13: 5
J15: 外力 | L15: Ⅱ | M15: 5 | N15: Ⅲ | O15: 0 | P15: Ⅳ | Q15: 0 | AC15: 0
C16: 経度 | D16: 1312342.7
B19: トンネル変状・異常箇所写真位置図
P26: 注１：本位置図は、見下げた状態で記載すること。 注２：覆工スパン番号は横断目地毎(矢板工法の場合は上半アーチ の横断目地毎)に設定すること。 注３：写真番号に付する変状番号は、各覆工スパンの変状に対して新た に確認された場合は順次追加していくこと。 注４：横断目地の変状は前の覆工スパン番号で計上すること。 注５：１枚に収まらない場合は、複数枚に分けて作成すること。
C28: ※1 トンネル本体工の変状数は、材質劣化、漏水に起因するものは変状単位で、外力に起因するものはスパン単位で計上すること。
C29: ※2 本体工の変状に対しては、健全性の判定区分Ⅱ～Ⅳについて添付すること。また、点検前に実施された措置によりⅠと判定された箇所も添付すること。
C30: ※3 附属物の取付状態の○欄については、応急措置前に判定区分×とした箇所のうち応急措置により○判定とした箇所の数を記入すること。
C31: ※4 附属物の異常番号は、本体工と番号が重複しないよう101番以降とする等の配慮を行い、分かりやすく記録すること。

Sheet 様式B(トンネル様式1P001) (9)
B2: ■定期点検記録様式 トンネル変状・異常箇所写真位置図 | T2: トンネルID | AA2: Ⅰ | AB2: あり | AC2: 陸上トンネル 掘進工法
B3: フリガナ | D3: ='様式A-1'!D3:G3 -> ホウベンザントンネル | H3: 路線名 | J3: ='様式A-1'!J3 -> 国道435号 | N3: 管理者名 | P3: ='様式A-1'!R3 -> 防府土木建設事務所山口支所 | T3: 緊急輸送道路 | V3: あり | AA3: Ⅱ | AB3: なし | AC3: 陸上トンネル 開削工法
B4: 名 称 | D4: ='様式A-1'!D4:G4 -> 鳳翩山トンネル | T4: 代替路の有無 | V4: あり | AA4: Ⅲ | AC4: 陸上トンネル その他
B5: 所在地 | D5: 自 | E5: ='様式A-1'!E5:G5 -> 山口県山口市吉敷 | H5: 定期点検業者 | K5: ='様式A-1'!K5:O6 -> 株式会社エイト日本技術開発 | O5: 定期点検年月日 | Q5: 44413 | T5: トンネル延長 | V5: L= | W5: 1030 | Y5: ｍ | AA5: Ⅳ | AC5: 水底トンネル 掘進工法
D6: 至 | E6: ='様式A-1'!E6:G6 -> 山口県美祢市美東町綾木 | H6: 定期点検者名 | K6: 榎田 敦之 | T6: ﾄﾝﾈﾙの分類 | V6: 陸上トンネル 掘進工法 | AC6: 水底トンネル 沈埋工法
B7: 起点 | C7: 緯度 | D7: 341135 | F7: 変状・異常 箇所数合計 | H7: トンネル 本体工 | J7: 材質劣化 | L7: Ⅱ | M7: 100 | N7: Ⅲ | O7: 1 | P7: Ⅳ | Q7: 0 | R7: トンネル毎 の健全性 | T7: Ⅲ | V7: 附属物の 取付状態 | W7: ◯ （応急措置後） | Y7: 0 | AC7: 水底トンネル 開削工法
AC8: 水底トンネル その他
C10: 経度 | D10: 1312423
J11: 漏水 | L11: Ⅱ | M11: 4 | N11: Ⅲ | O11: 0 | P11: Ⅳ | Q11: 0
B13: 終点 | C13: 緯度 | D13: 341136.9 | W13: ✕ | Y13: 5
J15: 外力 | L15: Ⅱ | M15: 5 | N15: Ⅲ | O15: 0 | P15: Ⅳ | Q15: 0 | AC15: 0
C16: 経度 | D16: 1312342.7
B19: トンネル変状・異常箇所写真位置図
P26: 注１：本位置図は、見下げた状態で記載すること。 注２：覆工スパン番号は横断目地毎(矢板工法の場合は上半アーチ の横断目地毎)に設定すること。 注３：写真番号に付する変状番号は、各覆工スパンの変状に対して新た に確認された場合は順次追加していくこと。 注４：横断目地の変状は前の覆工スパン番号で計上すること。 注５：１枚に収まらない場合は、複数枚に分けて作成すること。
C28: ※1 トンネル本体工の変状数は、材質劣化、漏水に起因するものは変状単位で、外力に起因するものはスパン単位で計上すること。
C29: ※2 本体工の変状に対しては、健全性の判定区分Ⅱ～Ⅳについて添付すること。また、点検前に実施された措置によりⅠと判定された箇所も添付すること。
C30: ※3 附属物の取付状態の○欄については、応急措置前に判定区分×とした箇所のうち応急措置により○判定とした箇所の数を記入すること。
C31: ※4 附属物の異常番号は、本体工と番号が重複しないよう101番以降とする等の配慮を行い、分かりやすく記録すること。

Sheet 様式B(トンネル様式1P001) (10)
B2: ■定期点検記録様式 トンネル変状・異常箇所写真位置図 | T2: トンネルID | AA2: Ⅰ | AB2: あり | AC2: 陸上トンネル 掘進工法
B3: フリガナ | D3: ='様式A-1'!D3:G3 -> ホウベンザントンネル | H3: 路線名 | J3: ='様式A-1'!J3 -> 国道435号 | N3: 管理者名 | P3: ='様式A-1'!R3 -> 防府土木建設事務所山口支所 | T3: 緊急輸送道路 | V3: あり | AA3: Ⅱ | AB3: なし | AC3: 陸上トンネル 開削工法
B4: 名 称 | D4: ='様式A-1'!D4:G4 -> 鳳翩山トンネル | T4: 代替路の有無 | V4: あり | AA4: Ⅲ | AC4: 陸上トンネル その他
B5: 所在地 | D5: 自 | E5: ='様式A-1'!E5:G5 -> 山口県山口市吉敷 | H5: 定期点検業者 | K5: ='様式A-1'!K5:O6 -> 株式会社エイト日本技術開発 | O5: 定期点検年月日 | Q5: 44413 | T5: トンネル延長 | V5: L= | W5: 1030 | Y5: ｍ | AA5: Ⅳ | AC5: 水底トンネル 掘進工法
D6: 至 | E6: ='様式A-1'!E6:G6 -> 山口県美祢市美東町綾木 | H6: 定期点検者名 | K6: 榎田 敦之 | T6: ﾄﾝﾈﾙの分類 | V6: 陸上トンネル 掘進工法 | AC6: 水底トンネル 沈埋工法
B7: 起点 | C7: 緯度 | D7: 341135 | F7: 変状・異常 箇所数合計 | H7: トンネル 本体工 | J7: 材質劣化 | L7: Ⅱ | M7: 100 | N7: Ⅲ | O7: 1 | P7: Ⅳ | Q7: 0 | R7: トンネル毎 の健全性 | T7: Ⅲ | V7: 附属物の 取付状態 | W7: ◯ （応急措置後） | Y7: 0 | AC7: 水底トンネル 開削工法
AC8: 水底トンネル その他
C10: 経度 | D10: 1312423
J11: 漏水 | L11: Ⅱ | M11: 4 | N11: Ⅲ | O11: 0 | P11: Ⅳ | Q11: 0
B13: 終点 | C13: 緯度 | D13: 341136.9 | W13: ✕ | Y13: 5
J15: 外力 | L15: Ⅱ | M15: 5 | N15: Ⅲ | O15: 0 | P15: Ⅳ | Q15: 0 | AC15: 0
C16: 経度 | D16: 1312342.7
B19: トンネル変状・異常箇所写真位置図
P26: 注１：本位置図は、見下げた状態で記載すること。 注２：覆工スパン番号は横断目地毎(矢板工法の場合は上半アーチ の横断目地毎)に設定すること。 注３：写真番号に付する変状番号は、各覆工スパンの変状に対して新た に確認された場合は順次追加していくこと。 注４：横断目地の変状は前の覆工スパン番号で計上すること。 注５：１枚に収まらない場合は、複数枚に分けて作成すること。
C28: ※1 トンネル本体工の変状数は、材質劣化、漏水に起因するものは変状単位で、外力に起因するものはスパン単位で計上すること。
C29: ※2 本体工の変状に対しては、健全性の判定区分Ⅱ～Ⅳについて添付すること。また、点検前に実施された措置によりⅠと判定された箇所も添付すること。
C30: ※3 附属物の取付状態の○欄については、応急措置前に判定区分×とした箇所のうち応急措置により○判定とした箇所の数を記入すること。
C31: ※4 附属物の異常番号は、本体工と番号が重複しないよう101番以降とする等の配慮を行い、分かりやすく記録すること。

Sheet 様式B(トンネル様式1P001) (11)
B2: ■定期点検記録様式 トンネル変状・異常箇所写真位置図 | T2: トンネルID | AA2: Ⅰ | AB2: あり | AC2: 陸上トンネル 掘進工法
B3: フリガナ | D3: ='様式A-1'!D3:G3 -> ホウベンザントンネル | H3: 路線名 | J3: ='様式A-1'!J3 -> 国道435号 | N3: 管理者名 | P3: ='様式A-1'!R3 -> 防府土木建設事務所山口支所 | T3: 緊急輸送道路 | V3: あり | AA3: Ⅱ | AB3: なし | AC3: 陸上トンネル 開削工法
B4: 名 称 | D4: ='様式A-1'!D4:G4 -> 鳳翩山トンネル | T4: 代替路の有無 | V4: あり | AA4: Ⅲ | AC4: 陸上トンネル その他
B5: 所在地 | D5: 自 | E5: ='様式A-1'!E5:G5 -> 山口県山口市吉敷 | H5: 定期点検業者 | K5: ='様式A-1'!K5:O6 -> 株式会社エイト日本技術開発 | O5: 定期点検年月日 | Q5: 44413 | T5: トンネル延長 | V5: L= | W5: 1030 | Y5: ｍ | AA5: Ⅳ | AC5: 水底トンネル 掘進工法
D6: 至 | E6: ='様式A-1'!E6:G6 -> 山口県美祢市美東町綾木 | H6: 定期点検者名 | K6: 榎田 敦之 | T6: ﾄﾝﾈﾙの分類 | V6: 陸上トンネル 掘進工法 | AC6: 水底トンネル 沈埋工法
B7: 起点 | C7: 緯度 | D7: 341135 | F7: 変状・異常 箇所数合計 | H7: トンネル 本体工 | J7: 材質劣化 | L7: Ⅱ | M7: 100 | N7: Ⅲ | O7: 1 | P7: Ⅳ | Q7: 0 | R7: トンネル毎 の健全性 | T7: Ⅲ | V7: 附属物の 取付状態 | W7: ◯ （応急措置後） | Y7: 0 | AC7: 水底トンネル 開削工法
AC8: 水底トンネル その他
C10: 経度 | D10: 1312423
J11: 漏水 | L11: Ⅱ | M11: 4 | N11: Ⅲ | O11: 0 | P11: Ⅳ | Q11: 0
B13: 終点 | C13: 緯度 | D13: 341136.9 | W13: ✕ | Y13: 5
J15: 外力 | L15: Ⅱ | M15: 5 | N15: Ⅲ | O15: 0 | P15: Ⅳ | Q15: 0 | AC15: 0
C16: 経度 | D16: 1312342.7
B19: トンネル変状・異常箇所写真位置図
P26: 注１：本位置図は、見下げた状態で記載すること。 注２：覆工スパン番号は横断目地毎(矢板工法の場合は上半アーチ の横断目地毎)に設定すること。 注３：写真番号に付する変状番号は、各覆工スパンの変状に対して新た に確認された場合は順次追加していくこと。 注４：横断目地の変状は前の覆工スパン番号で計上すること。 注５：１枚に収まらない場合は、複数枚に分けて作成すること。
C28: ※1 トンネル本体工の変状数は、材質劣化、漏水に起因するものは変状単位で、外力に起因するものはスパン単位で計上すること。
C29: ※2 本体工の変状に対しては、健全性の判定区分Ⅱ～Ⅳについて添付すること。また、点検前に実施された措置によりⅠと判定された箇所も添付すること。
C30: ※3 附属物の取付状態の○欄については、応急措置前に判定区分×とした箇所のうち応急措置により○判定とした箇所の数を記入すること。
C31: ※4 附属物の異常番号は、本体工と番号が重複しないよう101番以降とする等の配慮を行い、分かりやすく記録すること。

Sheet 様式B(トンネル様式1P001) (12)
B2: ■定期点検記録様式 トンネル変状・異常箇所写真位置図 | T2: トンネルID | AA2: Ⅰ | AB2: あり | AC2: 陸上トンネル 掘進工法
B3: フリガナ | D3: ='様式A-1'!D3:G3 -> ホウベンザントンネル | H3: 路線名 | J3: ='様式A-1'!J3 -> 国道435号 | N3: 管理者名 | P3: ='様式A-1'!R3 -> 防府土木建設事務所山口支所 | T3: 緊急輸送道路 | V3: あり | AA3: Ⅱ | AB3: なし | AC3: 陸上トンネル 開削工法
B4: 名 称 | D4: ='様式A-1'!D4:G4 -> 鳳翩山トンネル | T4: 代替路の有無 | V4: あり | AA4: Ⅲ | AC4: 陸上トンネル その他
B5: 所在地 | D5: 自 | E5: ='様式A-1'!E5:G5 -> 山口県山口市吉敷 | H5: 定期点検業者 | K5: ='様式A-1'!K5:O6 -> 株式会社エイト日本技術開発 | O5: 定期点検年月日 | Q5: 44413 | T5: トンネル延長 | V5: L= | W5: 1030 | Y5: ｍ | AA5: Ⅳ | AC5: 水底トンネル 掘進工法
D6: 至 | E6: ='様式A-1'!E6:G6 -> 山口県美祢市美東町綾木 | H6: 定期点検者名 | K6: 榎田 敦之 | T6: ﾄﾝﾈﾙの分類 | V6: 陸上トンネル 掘進工法 | AC6: 水底トンネル 沈埋工法
B7: 起点 | C7: 緯度 | D7: 341135 | F7: 変状・異常 箇所数合計 | H7: トンネル 本体工 | J7: 材質劣化 | L7: Ⅱ | M7: 100 | N7: Ⅲ | O7: 1 | P7: Ⅳ | Q7: 0 | R7: トンネル毎 の健全性 | T7: Ⅲ | V7: 附属物の 取付状態 | W7: ◯ （応急措置後） | Y7: 0 | AC7: 水底トンネル 開削工法
AC8: 水底トンネル その他
C10: 経度 | D10: 1312423
J11: 漏水 | L11: Ⅱ | M11: 4 | N11: Ⅲ | O11: 0 | P11: Ⅳ | Q11: 0
B13: 終点 | C13: 緯度 | D13: 341136.9 | W13: ✕ | Y13: 5
J15: 外力 | L15: Ⅱ | M15: 5 | N15: Ⅲ | O15: 0 | P15: Ⅳ | Q15: 0 | AC15: 0
C16: 経度 | D16: 1312342.7
B19: トンネル変状・異常箇所写真位置図
P26: 注１：本位置図は、見下げた状態で記載すること。 注２：覆工スパン番号は横断目地毎(矢板工法の場合は上半アーチ の横断目地毎)に設定すること。 注３：写真番号に付する変状番号は、各覆工スパンの変状に対して新た に確認された場合は順次追加していくこと。 注４：横断目地の変状は前の覆工スパン番号で計上すること。 注５：１枚に収まらない場合は、複数枚に分けて作成すること。
C28: ※1 トンネル本体工の変状数は、材質劣化、漏水に起因するものは変状単位で、外力に起因するものはスパン単位で計上すること。
C29: ※2 本体工の変状に対しては、健全性の判定区分Ⅱ～Ⅳについて添付すること。また、点検前に実施された措置によりⅠと判定された箇所も添付すること。
C30: ※3 附属物の取付状態の○欄については、応急措置前に判定区分×とした箇所のうち応急措置により○判定とした箇所の数を記入すること。
C31: ※4 附属物の異常番号は、本体工と番号が重複しないよう101番以降とする等の配慮を行い、分かりやすく記録すること。

Sheet 様式B(トンネル様式1P001) (13)
B2: ■定期点検記録様式 トンネル変状・異常箇所写真位置図 | T2: トンネルID | AA2: Ⅰ | AB2: あり | AC2: 陸上トンネル 掘進工法
B3: フリガナ | D3: ='様式A-1'!D3:G3 -> ホウベンザントンネル | H3: 路線名 | J3: ='様式A-1'!J3 -> 国道435号 | N3: 管理者名 | P3: ='様式A-1'!R3 -> 防府土木建設事務所山口支所 | T3: 緊急輸送道路 | V3: あり | AA3: Ⅱ | AB3: なし | AC3: 陸上トンネル 開削工法
B4: 名 称 | D4: ='様式A-1'!D4:G4 -> 鳳翩山トンネル | T4: 代替路の有無 | V4: あり | AA4: Ⅲ | AC4: 陸上トンネル その他
B5: 所在地 | D5: 自 | E5: ='様式A-1'!E5:G5 -> 山口県山口市吉敷 | H5: 定期点検業者 | K5: ='様式A-1'!K5:O6 -> 株式会社エイト日本技術開発 | O5: 定期点検年月日 | Q5: 44413 | T5: トンネル延長 | V5: L= | W5: 1030 | Y5: ｍ | AA5: Ⅳ | AC5: 水底トンネル 掘進工法
D6: 至 | E6: ='様式A-1'!E6:G6 -> 山口県美祢市美東町綾木 | H6: 定期点検者名 | K6: 榎田 敦之 | T6: ﾄﾝﾈﾙの分類 | V6: 陸上トンネル 掘進工法 | AC6: 水底トンネル 沈埋工法
B7: 起点 | C7: 緯度 | D7: 341135 | F7: 変状・異常 箇所数合計 | H7: トンネル 本体工 | J7: 材質劣化 | L7: Ⅱ | M7: 100 | N7: Ⅲ | O7: 1 | P7: Ⅳ | Q7: 0 | R7: トンネル毎 の健全性 | T7: Ⅲ | V7: 附属物の 取付状態 | W7: ◯ （応急措置後） | Y7: 0 | AC7: 水底トンネル 開削工法
AC8: 水底トンネル その他
C10: 経度 | D10: 1312423
J11: 漏水 | L11: Ⅱ | M11: 4 | N11: Ⅲ | O11: 0 | P11: Ⅳ | Q11: 0
B13: 終点 | C13: 緯度 | D13: 341136.9 | W13: ✕ | Y13: 5
J15: 外力 | L15: Ⅱ | M15: 5 | N15: Ⅲ | O15: 0 | P15: Ⅳ | Q15: 0 | AC15: 0
C16: 経度 | D16: 1312342.7
B19: トンネル変状・異常箇所写真位置図
P26: 注１：本位置図は、見下げた状態で記載すること。 注２：覆工スパン番号は横断目地毎(矢板工法の場合は上半アーチ の横断目地毎)に設定すること。 注３：写真番号に付する変状番号は、各覆工スパンの変状に対して新た に確認された場合は順次追加していくこと。 注４：横断目地の変状は前の覆工スパン番号で計上すること。 注５：１枚に収まらない場合は、複数枚に分けて作成すること。
C28: ※1 トンネル本体工の変状数は、材質劣化、漏水に起因するものは変状単位で、外力に起因するものはスパン単位で計上すること。
C29: ※2 本体工の変状に対しては、健全性の判定区分Ⅱ～Ⅳについて添付すること。また、点検前に実施された措置によりⅠと判定された箇所も添付すること。
C30: ※3 附属物の取付状態の○欄については、応急措置前に判定区分×とした箇所のうち応急措置により○判定とした箇所の数を記入すること。
C31: ※4 附属物の異常番号は、本体工と番号が重複しないよう101番以降とする等の配慮を行い、分かりやすく記録すること。

Sheet 様式B(トンネル様式1P001) (14)
B2: ■定期点検記録様式 トンネル変状・異常箇所写真位置図 | T2: トンネルID | AA2: Ⅰ | AB2: あり | AC2: 陸上トンネル 掘進工法
B3: フリガナ | D3: ='様式A-1'!D3:G3 -> ホウベンザントンネル | H3: 路線名 | J3: ='様式A-1'!J3 -> 国道435号 | N3: 管理者名 | P3: ='様式A-1'!R3 -> 防府土木建設事務所山口支所 | T3: 緊急輸送道路 | V3: あり | AA3: Ⅱ | AB3: なし | AC3: 陸上トンネル 開削工法
B4: 名 称 | D4: ='様式A-1'!D4:G4 -> 鳳翩山トンネル | T4: 代替路の有無 | V4: あり | AA4: Ⅲ | AC4: 陸上トンネル その他
B5: 所在地 | D5: 自 | E5: ='様式A-1'!E5:G5 -> 山口県山口市吉敷 | H5: 定期点検業者 | K5: ='様式A-1'!K5:O6 -> 株式会社エイト日本技術開発 | O5: 定期点検年月日 | Q5: 44413 | T5: トンネル延長 | V5: L= | W5: 1030 | Y5: ｍ | AA5: Ⅳ | AC5: 水底トンネル 掘進工法
D6: 至 | E6: ='様式A-1'!E6:G6 -> 山口県美祢市美東町綾木 | H6: 定期点検者名 | K6: 榎田 敦之 | T6: ﾄﾝﾈﾙの分類 | V6: 陸上トンネル 掘進工法 | AC6: 水底トンネル 沈埋工法
B7: 起点 | C7: 緯度 | D7: 341135 | F7: 変状・異常 箇所数合計 | H7: トンネル 本体工 | J7: 材質劣化 | L7: Ⅱ | M7: 100 | N7: Ⅲ | O7: 1 | P7: Ⅳ | Q7: 0 | R7: トンネル毎 の健全性 | T7: Ⅲ | V7: 附属物の 取付状態 | W7: ◯ （応急措置後） | Y7: 0 | AC7: 水底トンネル 開削工法
AC8: 水底トンネル その他
C10: 経度 | D10: 1312423
J11: 漏水 | L11: Ⅱ | M11: 4 | N11: Ⅲ | O11: 0 | P11: Ⅳ | Q11: 0
B13: 終点 | C13: 緯度 | D13: 341136.9 | W13: ✕ | Y13: 5
J15: 外力 | L15: Ⅱ | M15: 5 | N15: Ⅲ | O15: 0 | P15: Ⅳ | Q15: 0 | AC15: 0
C16: 経度 | D16: 1312342.7
B19: トンネル変状・異常箇所写真位置図
P26: 注１：本位置図は、見下げた状態で記載すること。 注２：覆工スパン番号は横断目地毎(矢板工法の場合は上半アーチ の横断目地毎)に設定すること。 注３：写真番号に付する変状番号は、各覆工スパンの変状に対して新た に確認された場合は順次追加していくこと。 注４：横断目地の変状は前の覆工スパン番号で計上すること。 注５：１枚に収まらない場合は、複数枚に分けて作成すること。
C28: ※1 トンネル本体工の変状数は、材質劣化、漏水に起因するものは変状単位で、外力に起因するものはスパン単位で計上すること。
C29: ※2 本体工の変状に対しては、健全性の判定区分Ⅱ～Ⅳについて添付すること。また、点検前に実施された措置によりⅠと判定された箇所も添付すること。
C30: ※3 附属物の取付状態の○欄については、応急措置前に判定区分×とした箇所のうち応急措置により○判定とした箇所の数を記入すること。
C31: ※4 附属物の異常番号は、本体工と番号が重複しないよう101番以降とする等の配慮を行い、分かりやすく記録すること。

Sheet 様式B(トンネル様式1P001) (15)
B2: ■定期点検記録様式 トンネル変状・異常箇所写真位置図 | T2: トンネルID | AA2: Ⅰ | AB2: あり | AC2: 陸上トンネル 掘進工法
B3: フリガナ | D3: ='様式A-1'!D3:G3 -> ホウベンザントンネル | H3: 路線名 | J3: ='様式A-1'!J3 -> 国道435号 | N3: 管理者名 | P3: ='様式A-1'!R3 -> 防府土木建設事務所山口支所 | T3: 緊急輸送道路 | V3: あり | AA3: Ⅱ | AB3: なし | AC3: 陸上トンネル 開削工法
B4: 名 称 | D4: ='様式A-1'!D4:G4 -> 鳳翩山トンネル | T4: 代替路の有無 | V4: あり | AA4: Ⅲ | AC4: 陸上トンネル その他
B5: 所在地 | D5: 自 | E5: ='様式A-1'!E5:G5 -> 山口県山口市吉敷 | H5: 定期点検業者 | K5: ='様式A-1'!K5:O6 -> 株式会社エイト日本技術開発 | O5: 定期点検年月日 | Q5: 44413 | T5: トンネル延長 | V5: L= | W5: 1030 | Y5: ｍ | AA5: Ⅳ | AC5: 水底トンネル 掘進工法
D6: 至 | E6: ='様式A-1'!E6:G6 -> 山口県美祢市美東町綾木 | H6: 定期点検者名 | K6: 榎田 敦之 | T6: ﾄﾝﾈﾙの分類 | V6: 陸上トンネル 掘進工法 | AC6: 水底トンネル 沈埋工法
B7: 起点 | C7: 緯度 | D7: 341135 | F7: 変状・異常 箇所数合計 | H7: トンネル 本体工 | J7: 材質劣化 | L7: Ⅱ | M7: 100 | N7: Ⅲ | O7: 1 | P7: Ⅳ | Q7: 0 | R7: トンネル毎 の健全性 | T7: Ⅲ | V7: 附属物の 取付状態 | W7: ◯ （応急措置後） | Y7: 0 | AC7: 水底トンネル 開削工法
AC8: 水底トンネル その他
C10: 経度 | D10: 1312423
J11: 漏水 | L11: Ⅱ | M11: 4 | N11: Ⅲ | O11: 0 | P11: Ⅳ | Q11: 0
B13: 終点 | C13: 緯度 | D13: 341136.9 | W13: ✕ | Y13: 5
J15: 外力 | L15: Ⅱ | M15: 5 | N15: Ⅲ | O15: 0 | P15: Ⅳ | Q15: 0 | AC15: 0
C16: 経度 | D16: 1312342.7
B19: トンネル変状・異常箇所写真位置図
P26: 注１：本位置図は、見下げた状態で記載すること。 注２：覆工スパン番号は横断目地毎(矢板工法の場合は上半アーチ の横断目地毎)に設定すること。 注３：写真番号に付する変状番号は、各覆工スパンの変状に対して新た に確認された場合は順次追加していくこと。 注４：横断目地の変状は前の覆工スパン番号で計上すること。 注５：１枚に収まらない場合は、複数枚に分けて作成すること。
C28: ※1 トンネル本体工の変状数は、材質劣化、漏水に起因するものは変状単位で、外力に起因するものはスパン単位で計上すること。
C29: ※2 本体工の変状に対しては、健全性の判定区分Ⅱ～Ⅳについて添付すること。また、点検前に実施された措置によりⅠと判定された箇所も添付すること。
C30: ※3 附属物の取付状態の○欄については、応急措置前に判定区分×とした箇所のうち応急措置により○判定とした箇所の数を記入すること。
C31: ※4 附属物の異常番号は、本体工と番号が重複しないよう101番以降とする等の配慮を行い、分かりやすく記録すること。

Sheet 様式B(トンネル様式1P001) (16)
B2: ■定期点検記録様式 トンネル変状・異常箇所写真位置図 | T2: トンネルID | AA2: Ⅰ | AB2: あり | AC2: 陸上トンネル 掘進工法
B3: フリガナ | D3: ='様式A-1'!D3:G3 -> ホウベンザントンネル | H3: 路線名 | J3: ='様式A-1'!J3 -> 国道435号 | N3: 管理者名 | P3: ='様式A-1'!R3 -> 防府土木建設事務所山口支所 | T3: 緊急輸送道路 | V3: あり | AA3: Ⅱ | AB3: なし | AC3: 陸上トンネル 開削工法
B4: 名 称 | D4: ='様式A-1'!D4:G4 -> 鳳翩山トンネル | T4: 代替路の有無 | V4: あり | AA4: Ⅲ | AC4: 陸上トンネル その他
B5: 所在地 | D5: 自 | E5: ='様式A-1'!E5:G5 -> 山口県山口市吉敷 | H5: 定期点検業者 | K5: ='様式A-1'!K5:O6 -> 株式会社エイト日本技術開発 | O5: 定期点検年月日 | Q5: 44413 | T5: トンネル延長 | V5: L= | W5: 1030 | Y5: ｍ | AA5: Ⅳ | AC5: 水底トンネル 掘進工法
D6: 至 | E6: ='様式A-1'!E6:G6 -> 山口県美祢市美東町綾木 | H6: 定期点検者名 | K6: 榎田 敦之 | T6: ﾄﾝﾈﾙの分類 | V6: 陸上トンネル 掘進工法 | AC6: 水底トンネル 沈埋工法
B7: 起点 | C7: 緯度 | D7: 341135 | F7: 変状・異常 箇所数合計 | H7: トンネル 本体工 | J7: 材質劣化 | L7: Ⅱ | M7: 100 | N7: Ⅲ | O7: 1 | P7: Ⅳ | Q7: 0 | R7: トンネル毎 の健全性 | T7: Ⅲ | V7: 附属物の 取付状態 | W7: ◯ （応急措置後） | Y7: 0 | AC7: 水底トンネル 開削工法
AC8: 水底トンネル その他
C10: 経度 | D10: 1312423
J11: 漏水 | L11: Ⅱ | M11: 4 | N11: Ⅲ | O11: 0 | P11: Ⅳ | Q11: 0
B13: 終点 | C13: 緯度 | D13: 341136.9 | W13: ✕ | Y13: 5
J15: 外力 | L15: Ⅱ | M15: 5 | N15: Ⅲ | O15: 0 | P15: Ⅳ | Q15: 0 | AC15: 0
C16: 経度 | D16: 1312342.7
B19: トンネル変状・異常箇所写真位置図
P26: 注１：本位置図は、見下げた状態で記載すること。 注２：覆工スパン番号は横断目地毎(矢板工法の場合は上半アーチ の横断目地毎)に設定すること。 注３：写真番号に付する変状番号は、各覆工スパンの変状に対して新た に確認された場合は順次追加していくこと。 注４：横断目地の変状は前の覆工スパン番号で計上すること。 注５：１枚に収まらない場合は、複数枚に分けて作成すること。
C28: ※1 トンネル本体工の変状数は、材質劣化、漏水に起因するものは変状単位で、外力に起因するものはスパン単位で計上すること。
C29: ※2 本体工の変状に対しては、健全性の判定区分Ⅱ～Ⅳについて添付すること。また、点検前に実施された措置によりⅠと判定された箇所も添付すること。
C30: ※3 附属物の取付状態の○欄については、応急措置前に判定区分×とした箇所のうち応急措置により○判定とした箇所の数を記入すること。
C31: ※4 附属物の異常番号は、本体工と番号が重複しないよう101番以降とする等の配慮を行い、分かりやすく記録すること。

Sheet 様式B(トンネル様式1P001) (17)
B2: ■定期点検記録様式 トンネル変状・異常箇所写真位置図 | T2: トンネルID | AA2: Ⅰ | AB2: あり | AC2: 陸上トンネル 掘進工法
B3: フリガナ | D3: ='様式A-1'!D3:G3 -> ホウベンザントンネル | H3: 路線名 | J3: ='様式A-1'!J3 -> 国道435号 | N3: 管理者名 | P3: ='様式A-1'!R3 -> 防府土木建設事務所山口支所 | T3: 緊急輸送道路 | V3: あり | AA3: Ⅱ | AB3: なし | AC3: 陸上トンネル 開削工法
B4: 名 称 | D4: ='様式A-1'!D4:G4 -> 鳳翩山トンネル | T4: 代替路の有無 | V4: あり | AA4: Ⅲ | AC4: 陸上トンネル その他
B5: 所在地 | D5: 自 | E5: ='様式A-1'!E5:G5 -> 山口県山口市吉敷 | H5: 定期点検業者 | K5: ='様式A-1'!K5:O6 -> 株式会社エイト日本技術開発 | O5: 定期点検年月日 | Q5: 44413 | T5: トンネル延長 | V5: L= | W5: 1030 | Y5: ｍ | AA5: Ⅳ | AC5: 水底トンネル 掘進工法
D6: 至 | E6: ='様式A-1'!E6:G6 -> 山口県美祢市美東町綾木 | H6: 定期点検者名 | K6: 榎田 敦之 | T6: ﾄﾝﾈﾙの分類 | V6: 陸上トンネル 掘進工法 | AC6: 水底トンネル 沈埋工法
B7: 起点 | C7: 緯度 | D7: 341135 | F7: 変状・異常 箇所数合計 | H7: トンネル 本体工 | J7: 材質劣化 | L7: Ⅱ | M7: 100 | N7: Ⅲ | O7: 1 | P7: Ⅳ | Q7: 0 | R7: トンネル毎 の健全性 | T7: Ⅲ | V7: 附属物の 取付状態 | W7: ◯ （応急措置後） | Y7: 0 | AC7: 水底トンネル 開削工法
AC8: 水底トンネル その他
C10: 経度 | D10: 1312423
J11: 漏水 | L11: Ⅱ | M11: 4 | N11: Ⅲ | O11: 0 | P11: Ⅳ | Q11: 0
B13: 終点 | C13: 緯度 | D13: 341136.9 | W13: ✕ | Y13: 5
J15: 外力 | L15: Ⅱ | M15: 5 | N15: Ⅲ | O15: 0 | P15: Ⅳ | Q15: 0 | AC15: 0
C16: 経度 | D16: 1312342.7
B19: トンネル変状・異常箇所写真位置図
P26: 注１：本位置図は、見下げた状態で記載すること。 注２：覆工スパン番号は横断目地毎(矢板工法の場合は上半アーチ の横断目地毎)に設定すること。 注３：写真番号に付する変状番号は、各覆工スパンの変状に対して新た に確認された場合は順次追加していくこと。 注４：横断目地の変状は前の覆工スパン番号で計上すること。 注５：１枚に収まらない場合は、複数枚に分けて作成すること。
C28: ※1 トンネル本体工の変状数は、材質劣化、漏水に起因するものは変状単位で、外力に起因するものはスパン単位で計上すること。
C29: ※2 本体工の変状に対しては、健全性の判定区分Ⅱ～Ⅳについて添付すること。また、点検前に実施された措置によりⅠと判定された箇所も添付すること。
C30: ※3 附属物の取付状態の○欄については、応急措置前に判定区分×とした箇所のうち応急措置により○判定とした箇所の数を記入すること。
C31: ※4 附属物の異常番号は、本体工と番号が重複しないよう101番以降とする等の配慮を行い、分かりやすく記録すること。

Sheet 様式B(トンネル様式1P001) (18)
B2: ■定期点検記録様式 トンネル変状・異常箇所写真位置図 | T2: トンネルID | AA2: Ⅰ | AB2: あり | AC2: 陸上トンネル 掘進工法
B3: フリガナ | D3: ='様式A-1'!D3:G3 -> ホウベンザントンネル | H3: 路線名 | J3: ='様式A-1'!J3 -> 国道435号 | N3: 管理者名 | P3: ='様式A-1'!R3 -> 防府土木建設事務所山口支所 | T3: 緊急輸送道路 | V3: あり | AA3: Ⅱ | AB3: なし | AC3: 陸上トンネル 開削工法
B4: 名 称 | D4: ='様式A-1'!D4:G4 -> 鳳翩山トンネル | T4: 代替路の有無 | V4: あり | AA4: Ⅲ | AC4: 陸上トンネル その他
B5: 所在地 | D5: 自 | E5: ='様式A-1'!E5:G5 -> 山口県山口市吉敷 | H5: 定期点検業者 | K5: ='様式A-1'!K5:O6 -> 株式会社エイト日本技術開発 | O5: 定期点検年月日 | Q5: 44413 | T5: トンネル延長 | V5: L= | W5: 1030 | Y5: ｍ | AA5: Ⅳ | AC5: 水底トンネル 掘進工法
D6: 至 | E6: ='様式A-1'!E6:G6 -> 山口県美祢市美東町綾木 | H6: 定期点検者名 | K6: 榎田 敦之 | T6: ﾄﾝﾈﾙの分類 | V6: 陸上トンネル 掘進工法 | AC6: 水底トンネル 沈埋工法
B7: 起点 | C7: 緯度 | D7: 341135 | F7: 変状・異常 箇所数合計 | H7: トンネル 本体工 | J7: 材質劣化 | L7: Ⅱ | M7: 100 | N7: Ⅲ | O7: 1 | P7: Ⅳ | Q7: 0 | R7: トンネル毎 の健全性 | T7: Ⅲ | V7: 附属物の 取付状態 | W7: ◯ （応急措置後） | Y7: 0 | AC7: 水底トンネル 開削工法
AC8: 水底トンネル その他
C10: 経度 | D10: 1312423
J11: 漏水 | L11: Ⅱ | M11: 4 | N11: Ⅲ | O11: 0 | P11: Ⅳ | Q11: 0
B13: 終点 | C13: 緯度 | D13: 341136.9 | W13: ✕ | Y13: 5
J15: 外力 | L15: Ⅱ | M15: 5 | N15: Ⅲ | O15: 0 | P15: Ⅳ | Q15: 0 | AC15: 0
C16: 経度 | D16: 1312342.7
B19: トンネル変状・異常箇所写真位置図
P26: 注１：本位置図は、見下げた状態で記載すること。 注２：覆工スパン番号は横断目地毎(矢板工法の場合は上半アーチ の横断目地毎)に設定すること。 注３：写真番号に付する変状番号は、各覆工スパンの変状に対して新た に確認された場合は順次追加していくこと。 注４：横断目地の変状は前の覆工スパン番号で計上すること。 注５：１枚に収まらない場合は、複数枚に分けて作成すること。
C28: ※1 トンネル本体工の変状数は、材質劣化、漏水に起因するものは変状単位で、外力に起因するものはスパン単位で計上すること。
C29: ※2 本体工の変状に対しては、健全性の判定区分Ⅱ～Ⅳについて添付すること。また、点検前に実施された措置によりⅠと判定された箇所も添付すること。
C30: ※3 附属物の取付状態の○欄については、応急措置前に判定区分×とした箇所のうち応急措置により○判定とした箇所の数を記入すること。
C31: ※4 附属物の異常番号は、本体工と番号が重複しないよう101番以降とする等の配慮を行い、分かりやすく記録すること。

Sheet 様式B(トンネル様式1P001) (19)
B2: ■定期点検記録様式 トンネル変状・異常箇所写真位置図 | T2: トンネルID | AA2: Ⅰ | AB2: あり | AC2: 陸上トンネル 掘進工法
B3: フリガナ | D3: ='様式A-1'!D3:G3 -> ホウベンザントンネル | H3: 路線名 | J3: ='様式A-1'!J3 -> 国道435号 | N3: 管理者名 | P3: ='様式A-1'!R3 -> 防府土木建設事務所山口支所 | T3: 緊急輸送道路 | V3: あり | AA3: Ⅱ | AB3: なし | AC3: 陸上トンネル 開削工法
B4: 名 称 | D4: ='様式A-1'!D4:G4 -> 鳳翩山トンネル | T4: 代替路の有無 | V4: あり | AA4: Ⅲ | AC4: 陸上トンネル その他
B5: 所在地 | D5: 自 | E5: ='様式A-1'!E5:G5 -> 山口県山口市吉敷 | H5: 定期点検業者 | K5: ='様式A-1'!K5:O6 -> 株式会社エイト日本技術開発 | O5: 定期点検年月日 | Q5: 44413 | T5: トンネル延長 | V5: L= | W5: 1030 | Y5: ｍ | AA5: Ⅳ | AC5: 水底トンネル 掘進工法
D6: 至 | E6: ='様式A-1'!E6:G6 -> 山口県美祢市美東町綾木 | H6: 定期点検者名 | K6: 榎田 敦之 | T6: ﾄﾝﾈﾙの分類 | V6: 陸上トンネル 掘進工法 | AC6: 水底トンネル 沈埋工法
B7: 起点 | C7: 緯度 | D7: 341135 | F7: 変状・異常 箇所数合計 | H7: トンネル 本体工 | J7: 材質劣化 | L7: Ⅱ | M7: 100 | N7: Ⅲ | O7: 1 | P7: Ⅳ | Q7: 0 | R7: トンネル毎 の健全性 | T7: Ⅲ | V7: 附属物の 取付状態 | W7: ◯ （応急措置後） | Y7: 0 | AC7: 水底トンネル 開削工法
AC8: 水底トンネル その他
C10: 経度 | D10: 1312423
J11: 漏水 | L11: Ⅱ | M11: 4 | N11: Ⅲ | O11: 0 | P11: Ⅳ | Q11: 0
B13: 終点 | C13: 緯度 | D13: 341136.9 | W13: ✕ | Y13: 5
J15: 外力 | L15: Ⅱ | M15: 5 | N15: Ⅲ | O15: 0 | P15: Ⅳ | Q15: 0 | AC15: 0
C16: 経度 | D16: 1312342.7
B19: トンネル変状・異常箇所写真位置図
P26: 注１：本位置図は、見下げた状態で記載すること。 注２：覆工スパン番号は横断目地毎(矢板工法の場合は上半アーチ の横断目地毎)に設定すること。 注３：写真番号に付する変状番号は、各覆工スパンの変状に対して新た に確認された場合は順次追加していくこと。 注４：横断目地の変状は前の覆工スパン番号で計上すること。 注５：１枚に収まらない場合は、複数枚に分けて作成すること。
C28: ※1 トンネル本体工の変状数は、材質劣化、漏水に起因するものは変状単位で、外力に起因するものはスパン単位で計上すること。
C29: ※2 本体工の変状に対しては、健全性の判定区分Ⅱ～Ⅳについて添付すること。また、点検前に実施された措置によりⅠと判定された箇所も添付すること。
C30: ※3 附属物の取付状態の○欄については、応急措置前に判定区分×とした箇所のうち応急措置により○判定とした箇所の数を記入すること。
C31: ※4 附属物の異常番号は、本体工と番号が重複しないよう101番以降とする等の配慮を行い、分かりやすく記録すること。

Sheet 様式B(トンネル様式1P001) (20)
B2: ■定期点検記録様式 トンネル変状・異常箇所写真位置図 | T2: トンネルID | AA2: Ⅰ | AB2: あり | AC2: 陸上トンネル 掘進工法
B3: フリガナ | D3: ='様式A-1'!D3:G3 -> ホウベンザントンネル | H3: 路線名 | J3: ='様式A-1'!J3 -> 国道435号 | N3: 管理者名 | P3: ='様式A-1'!R3 -> 防府土木建設事務所山口支所 | T3: 緊急輸送道路 | V3: あり | AA3: Ⅱ | AB3: なし | AC3: 陸上トンネル 開削工法
B4: 名 称 | D4: ='様式A-1'!D4:G4 -> 鳳翩山トンネル | T4: 代替路の有無 | V4: あり | AA4: Ⅲ | AC4: 陸上トンネル その他
B5: 所在地 | D5: 自 | E5: ='様式A-1'!E5:G5 -> 山口県山口市吉敷 | H5: 定期点検業者 | K5: ='様式A-1'!K5:O6 -> 株式会社エイト日本技術開発 | O5: 定期点検年月日 | Q5: 44413 | T5: トンネル延長 | V5: L= | W5: 1030 | Y5: ｍ | AA5: Ⅳ | AC5: 水底トンネル 掘進工法
D6: 至 | E6: ='様式A-1'!E6:G6 -> 山口県美祢市美東町綾木 | H6: 定期点検者名 | K6: 榎田 敦之 | T6: ﾄﾝﾈﾙの分類 | V6: 陸上トンネル 掘進工法 | AC6: 水底トンネル 沈埋工法
B7: 起点 | C7: 緯度 | D7: 341135 | F7: 変状・異常 箇所数合計 | H7: トンネル 本体工 | J7: 材質劣化 | L7: Ⅱ | M7: 100 | N7: Ⅲ | O7: 1 | P7: Ⅳ | Q7: 0 | R7: トンネル毎 の健全性 | T7: Ⅲ | V7: 附属物の 取付状態 | W7: ◯ （応急措置後） | Y7: 0 | AC7: 水底トンネル 開削工法
AC8: 水底トンネル その他
C10: 経度 | D10: 1312423
J11: 漏水 | L11: Ⅱ | M11: 4 | N11: Ⅲ | O11: 0 | P11: Ⅳ | Q11: 0
B13: 終点 | C13: 緯度 | D13: 341136.9 | W13: ✕ | Y13: 5
J15: 外力 | L15: Ⅱ | M15: 5 | N15: Ⅲ | O15: 0 | P15: Ⅳ | Q15: 0 | AC15: 0
C16: 経度 | D16: 1312342.7
B19: トンネル変状・異常箇所写真位置図
P26: 注１：本位置図は、見下げた状態で記載すること。 注２：覆工スパン番号は横断目地毎(矢板工法の場合は上半アーチ の横断目地毎)に設定すること。 注３：写真番号に付する変状番号は、各覆工スパンの変状に対して新た に確認された場合は順次追加していくこと。 注４：横断目地の変状は前の覆工スパン番号で計上すること。 注５：１枚に収まらない場合は、複数枚に分けて作成すること。
C28: ※1 トンネル本体工の変状数は、材質劣化、漏水に起因するものは変状単位で、外力に起因するものはスパン単位で計上すること。
C29: ※2 本体工の変状に対しては、健全性の判定区分Ⅱ～Ⅳについて添付すること。また、点検前に実施された措置によりⅠと判定された箇所も添付すること。
C30: ※3 附属物の取付状態の○欄については、応急措置前に判定区分×とした箇所のうち応急措置により○判定とした箇所の数を記入すること。
C31: ※4 附属物の異常番号は、本体工と番号が重複しないよう101番以降とする等の配慮を行い、分かりやすく記録すること。

Sheet 様式B(トンネル様式1P001) (21)
B2: ■定期点検記録様式 トンネル変状・異常箇所写真位置図 | T2: トンネルID | AA2: Ⅰ | AB2: あり | AC2: 陸上トンネル 掘進工法
B3: フリガナ | D3: ='様式A-1'!D3:G3 -> ホウベンザントンネル | H3: 路線名 | J3: ='様式A-1'!J3 -> 国道435号 | N3: 管理者名 | P3: ='様式A-1'!R3 -> 防府土木建設事務所山口支所 | T3: 緊急輸送道路 | V3: あり | AA3: Ⅱ | AB3: なし | AC3: 陸上トンネル 開削工法
B4: 名 称 | D4: ='様式A-1'!D4:G4 -> 鳳翩山トンネル | T4: 代替路の有無 | V4: あり | AA4: Ⅲ | AC4: 陸上トンネル その他
B5: 所在地 | D5: 自 | E5: ='様式A-1'!E5:G5 -> 山口県山口市吉敷 | H5: 定期点検業者 | K5: ='様式A-1'!K5:O6 -> 株式会社エイト日本技術開発 | O5: 定期点検年月日 | Q5: 44413 | T5: トンネル延長 | V5: L= | W5: 1030 | Y5: ｍ | AA5: Ⅳ | AC5: 水底トンネル 掘進工法
D6: 至 | E6: ='様式A-1'!E6:G6 -> 山口県美祢市美東町綾木 | H6: 定期点検者名 | K6: 榎田 敦之 | T6: ﾄﾝﾈﾙの分類 | V6: 陸上トンネル 掘進工法 | AC6: 水底トンネル 沈埋工法
B7: 起点 | C7: 緯度 | D7: 341135 | F7: 変状・異常 箇所数合計 | H7: トンネル 本体工 | J7: 材質劣化 | L7: Ⅱ | M7: 100 | N7: Ⅲ | O7: 1 | P7: Ⅳ | Q7: 0 | R7: トンネル毎 の健全性 | T7: Ⅲ | V7: 附属物の 取付状態 | W7: ◯ （応急措置後） | Y7: 0 | AC7: 水底トンネル 開削工法
AC8: 水底トンネル その他
C10: 経度 | D10: 1312423
J11: 漏水 | L11: Ⅱ | M11: 4 | N11: Ⅲ | O11: 0 | P11: Ⅳ | Q11: 0
B13: 終点 | C13: 緯度 | D13: 341136.9 | W13: ✕ | Y13: 5
J15: 外力 | L15: Ⅱ | M15: 5 | N15: Ⅲ | O15: 0 | P15: Ⅳ | Q15: 0 | AC15: 0
C16: 経度 | D16: 1312342.7
B19: トンネル変状・異常箇所写真位置図
P26: 注１：本位置図は、見下げた状態で記載すること。 注２：覆工スパン番号は横断目地毎(矢板工法の場合は上半アーチ の横断目地毎)に設定すること。 注３：写真番号に付する変状番号は、各覆工スパンの変状に対して新た に確認された場合は順次追加していくこと。 注４：横断目地の変状は前の覆工スパン番号で計上すること。 注５：１枚に収まらない場合は、複数枚に分けて作成すること。
C28: ※1 トンネル本体工の変状数は、材質劣化、漏水に起因するものは変状単位で、外力に起因するものはスパン単位で計上すること。
C29: ※2 本体工の変状に対しては、健全性の判定区分Ⅱ～Ⅳについて添付すること。また、点検前に実施された措置によりⅠと判定された箇所も添付すること。
C30: ※3 附属物の取付状態の○欄については、応急措置前に判定区分×とした箇所のうち応急措置により○判定とした箇所の数を記入すること。
C31: ※4 附属物の異常番号は、本体工と番号が重複しないよう101番以降とする等の配慮を行い、分かりやすく記録すること。

Sheet 様式C-1-1
B2: ■定期点検記録様式 全スパン定期点検結果総括表（トンネル本体工） 【様式C-1-1】
B3: フリガナ | F3: ホウベンザントンネル | I3: 路線名 | K3: ='様式B(トンネル様式1P001)'!J3 -> 国道435号 | O3: 定期点検業者 | Q3: ='様式B(トンネル様式1P001)'!K5 -> 株式会社エイト日本技術開発 | U3: 定期点検年月日 | Y3: ='様式B(トンネル様式1P001)'!Q5 -> 44413
B4: 名 称 | F4: 鳳翩山トンネル | I4: 管理者名 | K4: ='様式B(トンネル様式1P001)'!P3 -> 防府土木建設事務所山口支所 | O4: 定期点検者名 | Q4: 榎田 敦之
B5: 定期点検結果 | C5: 覆工 スパン 番号 | E5: 変状 番号 | F5: 距離 （m） | G5: 変状部位 | I5: 変 状 の 内 容 | O5: 前回定期点検時の状態 | Q5: 今回定期点検結果 | U5: 措置履歴 | Z5: 対応方針 ・ 特記事項
G7: 対象箇所 | H7: 部位区分 | I7: 変状区分 | J7: 変状種類 | M7: 変状の発生範囲の規模 | N7: 前回定期点検時 との比較 | O7: 状態 | P7: 健全性 | Q7: 対策区分 | S7: 調査の 要否 | T7: 措置の 要否 | U7: 実施 | V7: 措置の実施状況
Q8: 応急措置前 | R8: 応急措置後
C9: PS | E9: 1 | F9: 0 | G9: 覆工・坑門 | H9: 面壁・妻壁等 | I9: 材質劣化 | J9: 鋼材腐食 | M9: 0.1m×0.1m D=0.01m | N9: 進行が認められない | O9: Ⅱa | P9: Ⅱ | Q9: - | R9: Ⅱb | S9: 否 | T9: 要監視 | U9: 継続 | V9: 監視（日常巡視） | Z9: 判定変更
C10: PS | E10: 2 | F10: 0 | G10: 覆工・坑門 | H10: 面壁・妻壁等 | I10: 材質劣化 | J10: 鋼材腐食 | M10: 0.08m×0.08m D=0.01m | N10: 進行が認められない | O10: Ⅱa | P10: Ⅱ | Q10: - | R10: Ⅱb | S10: 否 | T10: 要監視 | U10: 継続 | V10: 監視（日常巡視） | Z10: 判定変更
C11: 1 | E11: 1 | F11: 2.5 | G11: 覆工・坑門 | H11: 側壁（右側） | I11: 材質劣化 | J11: 鋼材腐食 | M11: 0.05m×0.05m D=0.01m | N11: 進行が認められない | O11: Ⅱa | P11: Ⅱ | Q11: - | R11: Ⅱb | S11: 否 | T11: 要監視 | U11: 継続 | V11: 監視（日常巡視） | Z11: 判定変更
C12: 1 | E12: 2 | F12: 0.12 | G12: 覆工・坑門 | H12: 側壁（右側） | I12: 材質劣化 | J12: 鋼材腐食 | M12: 0.25m×0.5m D=0.02 | N12: 進行が認められない | O12: Ⅱa | P12: Ⅱ | Q12: - | R12: Ⅱb | S12: 否 | T12: 要監視 | U12: 継続 | V12: 監視（日常巡視） | Z12: 判定変更
C13: 1 | E13: 3 | F13: 2.1 | G13: 覆工・坑門 | H13: 側壁（右側） | I13: 材質劣化 | J13: 鋼材腐食 | M13: 0.03m×0.1m D=0.01m | N13: 進行が認められない | O13: Ⅱb | P13: Ⅱ | Q13: - | R13: Ⅱb | S13: 否 | T13: 要監視 | U13: 継続 | V13: 監視（日常巡視） | Z13: -
C14: 2 | E14: 1 | F14: 18.35 | G14: 覆工・坑門 | H14: アーチ（右側） | I14: 材質劣化 | J14: うき・はく離 | M14: 0.2m×0.05m | N14: 進行が認められない | O14: Ⅱa | P14: Ⅱ | Q14: - | R14: Ⅱa | S14: 否 | T14: 要監視 | U14: 継続 | V14: 監視（重点） | Z14: -
C15: 3 | E15: 1 | F15: 28.9 | G15: 覆工・坑門 | H15: アーチ（右側） | I15: 材質劣化 | J15: うき・はく離 | M15: 0.3m×0.05m | N15: 進行が認められない | O15: Ⅱa | P15: Ⅱ | Q15: - | R15: Ⅱa | S15: 否 | T15: 要監視 | U15: 継続 | V15: 監視（重点） | Z15: -
C16: 3 | E16: 2 | F16: 28.9 | G16: 覆工・坑門 | H16: アーチ（右側） | I16: 材質劣化 | J16: うき・はく離 | M16: 0.2m×0.05m | N16: 進行が認められない | O16: Ⅱa | P16: Ⅱ | Q16: - | R16: Ⅱa | S16: 否 | T16: 要監視 | U16: 継続 | V16: 監視（重点） | Z16: -
C17: 4 | E17: 1 | F17: 30.6 | G17: 覆工・坑門 | H17: アーチ（左側） | I17: 材質劣化 | J17: 鋼材腐食 | M17: 0.1m×0.03m D=0.005m | N17: 進行が認められない | O17: Ⅱa | P17: Ⅱ | Q17: - | R17: Ⅱb | S17: 否 | T17: 要監視 | U17: 継続 | V17: 監視（日常巡視） | Z17: 判定変更
C18: 4 | E18: 2 | F18: 37.6 | G18: 覆工・坑門 | H18: アーチ（左側） | I18: 材質劣化 | J18: 鋼材腐食 | M18: 0.1m×0.1m D=0.01m | N18: 進行が認められない | O18: Ⅱa | P18: Ⅱ | Q18: - | R18: Ⅱb | S18: 否 | T18: 要監視 | U18: 継続 | V18: 監視（日常巡視） | Z18: 判定変更
C19: 4 | E19: 3 | F19: 39.3 | G19: 覆工・坑門 | H19: アーチ（右側） | I19: 材質劣化 | J19: その他 | M19: 0.25m×0.15m D=0.01m | N19: 進行が認められない | O19: Ⅱb | P19: Ⅱ | Q19: - | R19: Ⅱb | S19: 否 | T19: 要監視 | U19: 継続 | V19: 監視（日常巡視） | Z19: -
C20: 5 | E20: 1 | F20: 41.2 | G20: 覆工・坑門 | H20: アーチ（右側） | I20: 材質劣化 | J20: 鋼材腐食 | M20: 0.1m×0.1m D=0.01m | N20: 進行が認められない | O20: Ⅱa | P20: Ⅱ | Q20: - | R20: Ⅱb | S20: 否 | T20: 要監視 | U20: 継続 | V20: 監視（日常巡視） | Z20: 判定変更
C21: 5 | E21: 2 | F21: 40.1 | G21: 覆工・坑門 | H21: 側壁（右側） | I21: 外力 | J21: ひび割れ | M21: 幅0.3mm 長さ9.1m | N21: 進行が認められない | O21: Ⅱb | P21: Ⅱ | Q21: - | R21: Ⅱb | S21: 否 | T21: 要監視 | U21: 継続 | V21: 監視（日常巡視） | Z21: -
C22: 6 | E22: 1 | F22: 60.4 | G22: 覆工・坑門 | H22: アーチ（左側） | I22: 材質劣化 | J22: うき・はく離 | M22: 0.35m×0.05m | N22: 進行が認められない | O22: Ⅱb | P22: Ⅱ | Q22: - | R22: Ⅱa | S22: 否 | T22: 要監視 | U22: 継続 | V22: 監視（重点） | Z22: -
... C39: 26 | E39: 1 | F39: 261.4 | G39: 覆工・坑門 | H39: アーチ（左側） | I39: 材質劣化 | J39: ひび割れ | M39: 幅0.5mm×長さ10.0m | N39: 進行が認められない | O39: Ⅱb | P39: Ⅱ | Q39: - | R39: Ⅰ | S39: 否 | T39: 否 | U39: - | V39: - | Z39: 判定変更
C40: ※ 対策区分（応急措置後）の判定区分Ⅱ～Ⅳについて記入すること。また、点検前に実施された措置によりⅠと判定された変状も記入すること。
C41: ※ 応急措置を実施しないで判定した変状の対策区分は、対策区分の応急措置後の欄に記入すること。
C42: ※ 変状の除去が不完全で、緊急対応が必要な場合は対応方針欄に記入すること。
C43: ※ １区間の覆工に複数の変状がある場合は、変状箇所毎に記入すること。
C44: ※ 措置・監視点検を行った場合には、措置履歴、特記事項に記録を残すこと。（実施年度も記載）
C45: ※ 行が不足する場合は、適時、表の行を増やすこと。
B46: 定期点検結果 | C46: 覆工 スパン 番号 | E46: 変状 番号 | F46: 距離 （m） | G46: 変状部位 | I46: 変 状 の 内 容 | O46: 前回定期点検時の状態 | Q46: 今回定期点検結果 | U46: 措置履歴 | Z46: 対応方針 ・ 特記事項
G48: 対象箇所 | H48: 部位区分 | I48: 変状区分 | J48: 変状種類 | M48: 変状の発生範囲の規模 | N48: 前回定期点検時 との比較 | O48: 状態 | P48: 健全性 | Q48: 対策区分 | S48: 調査の 要否 | T48: 措置の 要否 | U48: 実施 | V48: 措置の実施状況
Q49: 応急措置前 | R49: 応急措置後
C50: 26 | E50: 2 | F50: 270.65 | G50: 覆工・坑門 | H50: アーチ（右側） | I50: 材質劣化 | J50: うき・はく離 | M50: 0.5m×0.05m | N50: 進行が認められない | O50: Ⅱa | P50: Ⅱ | Q50: - | R50: Ⅱa | S50: 否 | T50: 要監視 | U50: 継続 | V50: 監視（重点） | Z50: -
C51: 26 | E51: 3 | F51: 270.65 | G51: 覆工・坑門 | H51: アーチ（右側） | I51: 材質劣化 | J51: うき・はく離 | M51: 0.4m×0.05m | N51: 進行が認められない | O51: Ⅱa | P51: Ⅱ | Q51: - | R51: Ⅱa | S51: 否 | T51: 要監視 | U51: 継続 | V51: 監視（重点） | Z51: -
C52: 26 | E52: 4 | F52: 270.65 | G52: 覆工・坑門 | H52: アーチ（右側） | I52: 材質劣化 | J52: うき・はく離 | M52: 0.4m×0.05m | N52: 進行が認められない | O52: Ⅱa | P52: Ⅱ | Q52: - | R52: Ⅱa | S52: 否 | T52: 要監視 | U52: 継続 | V52: 監視（重点） | Z52: -
C53: 27 | E53: 1 | F53: 270.7 | G53: 覆工・坑門 | H53: アーチ（左側） | I53: 材質劣化 | J53: ひび割れ | M53: 幅1.0mm×長さ11.0m | N53: 進行が認められない | O53: Ⅱb | P53: Ⅱ | Q53: - | R53: Ⅰ | S53: 否 | T53: 否 | U53: - | V53: - | Z53: 判定変更
C54: 28 | E54: 1 | F54: 281.2 | G54: 覆工・坑門 | H54: アーチ（左側） | I54: 材質劣化 | J54: うき・はく離 | M54: 0.15m×0.06m | N54: 進行が認められない | O54: Ⅱa | P54: Ⅱ | Q54: - | R54: Ⅱa | S54: 否 | T54: 要監視 | U54: 継続 | V54: 監視（重点） | Z54: -
C55: 28 | E55: 2 | F55: 281.2 | G55: 覆工・坑門 | H55: アーチ（左側） | I55: 材質劣化 | J55: ひび割れ | M55: 幅0.5mm×長さ10.5m | N55: 進行が認められない | O55: Ⅱb | P55: Ⅱ | Q55: - | R55: Ⅰ | S55: 否 | T55: 否 | U55: - | V55: - | Z55: 判定変更
C56: 29 | E56: 1 | F56: 295 | G56: 覆工・坑門 | H56: アーチ（左側） | I56: 材質劣化 | J56: ひび割れ | M56: 幅0.4mm×長さ7.0m | N56: 進行が認められない | O56: Ⅱb | P56: Ⅱ | Q56: - | R56: Ⅰ | S56: 否 | T56: 否 | U56: - | V56: - | Z56: 判定変更
C57: 30 | E57: 1 | F57: 302.3 | G57: 覆工・坑門 | H57: アーチ（左側） | I57: 材質劣化 | J57: ひび割れ | M57: 幅0.5mm×長さ10.5m | N57: 進行が認められない | O57: Ⅱb | P57: Ⅱ | Q57: - | R57: Ⅰ | S57: 否 | T57: 否 | U57: - | V57: - | Z57: 判定変更
C58: 30 | E58: 2 | F58: 312.75 | G58: 覆工・坑門 | H58: アーチ（左側） | I58: 材質劣化 | J58: うき・はく離 | M58: 0.2m×0.1m | N58: 新規確認 | O58: - | P58: - | Q58: - | R58: Ⅱa | S58: 否 | T58: 要監視 | U58: 未 | V58: 監視（重点） | Z58: -
C59: 30 | E59: 3 | F59: 307.5 | G59: 覆工・坑門 | H59: アーチ（右側） | I59: 材質劣化 | J59: 鋼材腐食 | M59: 0.08m×0.15m D=0.01m | N59: 進行が認められない | O59: Ⅱa | P59: Ⅱ | Q59: - | R59: Ⅱb | S59: 否 | T59: 要監視 | U59: 継続 | V59: 監視（日常巡視） | Z59: 判定変更
...

Sheet 様式C-1-2
B2: ■定期点検記録様式 定期点検結果総括表（トンネル内附属物等の取付状態） 【様式C-1-2】
B3: フリガナ | F3: ='様式C-1-1'!F3:H3 -> ホウベンザントンネル | J3: 路線名 | L3: ='様式C-1-1'!K3 -> 国道435号 | O3: 定期点検業者 | Q3: ='様式C-1-1'!Q3:T3 -> 株式会社エイト日本技術開発 | U3: 定期点検年月日 | Y3: ='様式C-1-1'!Y3:Z4 -> 44413
B4: 名 称 | F4: ='様式C-1-1'!F4:H4 -> 鳳翩山トンネル | J4: 管理者名 | L4: ='様式C-1-1'!K4 -> 防府土木建設事務所山口支所 | O4: 定期点検者名 | Q4: ='様式C-1-1'!Q4 -> 榎田 敦之
B5: 定期点検結果 | C5: 覆工 スパン 番号 | E5: 異常 番号 | F5: 距離 （m） | G5: 異常部位 | J5: 異 常 の 内 容 | P5: 定期点検結果 | R5: 応急措置の 実施状況 | X5: 対応方針 ・ 特記事項
G6: 対象箇所 | I6: 部位区分 | J6: 異常種類 | N6: 異常の発生範囲の規模 | P6: 異常判定区分 | R6: 実施 | S6: 応急措置の内容
P7: 応急措置前 | Q7: 応急措置後
C8: S1 | E8: 101 | F8: 0.25 | G8: その他施設 | H8: その他 | I8: 附属物本体 | J8: 変形，欠損 | N8: 1箇所 | P8: × | Q8: - | R8: 未 | S8: - | X8: -
C9: S20 | E9: 101 | F9: 202.33 | G9: その他施設 | H9: その他 | I9: 取付部材 | J9: 破断 | N9: 1箇所 | P9: × | Q9: - | R9: 未 | S9: - | X9: -
C10: S34 | E10: 101 | F10: 347.16 | G10: その他施設 | H10: その他 | I10: 附属物本体 | J10: 変形，欠損 | N10: 1箇所 | P10: × | Q10: - | R10: 未 | S10: - | X10: -
C11: S43 | E11: 101 | F11: 447.85 | G11: その他施設 | H11: その他 | I11: 附属物本体 | J11: 変形，欠損 | N11: 1箇所 | P11: × | Q11: - | R11: 未 | S11: - | X11: -
C12: S53 | E12: 101 | F12: 526.45 | G12: その他施設 | H12: その他 | I12: 附属物本体 | J12: 変形，欠損 | N12: 1箇所 | P12: × | Q12: - | R12: 未 | S12: - | X12: -
C39: ※ 異常判定区分×について記入すること。また、応急措置により○と判定された箇所も記入すること。
C40: ※ 応急措置を実施しないで判定した箇所の異常判定区分は、異常判定区分の応急措置後の欄に記入すること。
C41: ※ 異常の除去が不完全で、緊急対応が必要な場合は対応方針欄に記入すること。
C42: ※ １スパンの覆工に複数の異常がある場合は、異常箇所毎に記入すること。
C43: ※ 行が不足する場合は、適時、表の行を増やすこと。

Sheet 様式C-2
B2: ■定期点検記録様式 状態の把握の内容 【様式C-2】
B3: フリガナ | E3: ='様式C-1-2'!F3 -> ホウベンザントンネル | H3: 路線名 | J3: ='様式C-1-2'!L3 -> 国道435号 | M3: 定期点検業者 | R3: ='様式C-1-2'!Q3 -> 株式会社エイト日本技術開発 | U3: 定期点検年月日 | X3: ='様式C-1-2'!Y3 -> 44413
B4: 名 称 | E4: ='様式C-1-2'!F4 -> 鳳翩山トンネル | H4: 管理者名 | J4: ='様式C-1-2'!L4 -> 防府土木建設事務所山口支所 | M4: 定期点検者名 | R4: ='様式C-1-2'!Q4 -> 榎田 敦之
B5: 状態の把握の内容 | C5: 覆工スパン 番号 | E5: 変状 番号 | F5: 状態の把握の内容
F6: 年月日 | H6: 内容 | O6: 結果 | W6: 対策区分の 判定 | Y6: 健全性
B22: 注）状態の把握において、微破壊・非破壊検査や各種試験等を実施した場合について記載する。
B23: ※ 行が不足する場合は、適時、表の行を増やすこと。

Sheet 様式D-1-1(トンネル様式2P001) P001
B2: ■定期点検記録様式 変状写真台帳 | Y2: Ⅰ
B3: フリガナ | D3: ='様式C-2'!E3 -> ホウベンザントンネル | H3: 路線名 | J3: ='様式C-2'!J3:L3 -> 国道435号 | M3: 定期点検業者 | P3: ='様式C-2'!R3 -> 株式会社エイト日本技術開発 | S3: 定期点検年月日 | U3: ='様式C-2'!X3 -> 44413 | Y3: Ⅱ
B4: 名 称 | D4: ='様式C-2'!E4 -> 鳳翩山トンネル | H4: 管理者名 | J4: ='様式C-2'!J4:L4 -> 防府土木建設事務所山口支所 | M4: 定期点検者名 | P4: ='様式C-2'!R4 -> 榎田 敦之 | Y4: Ⅲ
B5: 写真 番号 | C5: 覆工 スパン 番号 | D5: PS | M5: 写真 番号 | N5: 覆工 スパン 番号 | O5: PS | Y5: Ⅳ
C7: 変状 番号 | D7: 1 | N7: 変状 番号 | O7: 2
B9: 変状 部位 | C9: 対象 箇所 | D9: 覆工・坑門 | M9: 変状 部位 | N9: 対象 箇所 | O9: 覆工・坑門
C11: 部位 区分 | D11: 面壁・妻壁等 | N11: 部位 区分 | O11: 面壁・妻壁等
B13: 変状区分 | D13: 材質劣化 | M13: 変状区分 | O13: 材質劣化
B14: 変状種類 | D14: 鋼材腐食 | M14: 変状種類 | O14: 鋼材腐食
B15: 健全性 | C15: 応急措置前 | E15: - | M15: 健全性 | N15: 応急措置前 | P15: -
C16: 応急措置後 | E16: Ⅱ | N16: 応急措置後 | P16: Ⅱ
B17: 変状の発生範囲の規模 | E17: 0.1m×0.1m D=0.01m 0.01㎡ | M17: 変状の発生範囲の規模 | P17: 0.08m×0.08m D=0.01m 0.0064㎡
B18: 前回定期点検時の状態 | E18: 鉄筋露出 0.1m×0.1m D=0.01m | M18: 前回定期点検時の状態 | P18: 鉄筋露出 0.08m×0.08m×0.01m
B19: 調査方針 | E19: - | M19: 調査方針 | P19: -
B20: 対策履歴 | E20: - | H20: 実施状況（実施日） | J20: - | M20: 対策履歴 | P20: - | S20: 実施状況（実施日） | U20: -
B21: メモ | D21: （Ⅱb） | M21: メモ | O21: （Ⅱb）
B22: 写真 番号 | C22: 覆工 スパン 番号 | D22: 1 | M22: 写真 番号 | N22: 覆工 スパン 番号 | O22: 1
C24: 変状 番号 | D24: 1 | N24: 変状 番号 | O24: 2
B26: 変状 部位 | C26: 対象 箇所 | D26: 覆工・坑門 | M26: 変状 部位 | N26: 対象 箇所 | O26: 覆工・坑門
C28: 部位 区分 | D28: 側壁（右側） | N28: 部位 区分 | O28: 側壁（右側）
B30: 変状区分 | D30: 材質劣化 | M30: 変状区分 | O30: 材質劣化
B31: 変状種類 | D31: 鋼材腐食 | M31: 変状種類 | O31: 鋼材腐食
B32: 健全性 | C32: 応急措置前 | E32: - | M32: 健全性 | N32: 応急措置前 | P32: -
C33: 応急措置後 | E33: Ⅱ | N33: 応急措置後 | P33: Ⅱ
B34: 変状の発生範囲の規模 | E34: 0.05m×0.05m D=0.01m 0.0025㎡ | M34: 変状の発生範囲の規模 | P34: 0.25m×0.5m D=0.02 0.125㎡
B35: 前回定期点検時の状態 | E35: 鉄筋露出 0.05m×0.05m×0.01m | M35: 前回定期点検時の状態 | P35: 鉄筋露出 0.25m×0.5m
B36: 調査方針 | E36: - | M36: 調査方針 | P36: -
B37: 対策履歴 | E37: - | H37: 実施状況（実施日） | J37: - | M37: 対策履歴 | P37: - | S37: 実施状況（実施日） | U37: -
B38: メモ | D38: （Ⅱb） | M38: メモ | O38: （Ⅱb）
C39: ※ 健全性（応急措置後）の判定区分Ⅱ～Ⅳについて添付すること。また、点検前に 実施された措置によりⅠと判定された箇所も添付すること。 | N39: ※ 変状の発生範囲の規模とは、対策を行う際に参考となる変状の長さや面積をいう。
N40: ※ 応急措置を実施しないで判定した変状の健全性は、健全性の応急措置後の欄に記入すること。
C41: ※ たたき落としを実施した場合は、実施後の写真を添付すること。 | N41: ※ 変状の発生範囲の規模は、面積・寸法を記載すること。
C42: ※ 附属物の取付状態に関する異常写真は別途、様式D-1-2でとりまとめること。 | N42: (ひび割れ幅のみmmとし、その他をm表記とする)
C43: ※ 変状数に準じてシートを追加すること。（１シートに１ページとすること。） | N43: ※ 構造用鋼材以外の異物に伴ううき・はく離については、メモ欄に異物の概要を記入すること。

Sheet 様式D-1-1(トンネル様式2P001) P002
