Workbook
Name Z_D77EBD73_782E_4A63_AC37_29D349B4D009_.wvu.Cols: '様式C-2'!$AA:$AA
Name Z_D77EBD73_782E_4A63_AC37_29D349B4D009_.wvu.PrintArea: '様式A-1'!$B$2:$AB$29
Name Z_D77EBD73_782E_4A63_AC37_29D349B4D009_.wvu.PrintArea: '様式A-2'!$B$3:$AN$89
Name Z_D77EBD73_782E_4A63_AC37_29D349B4D009_.wvu.PrintArea: '様式A-3'!$B$3:$AI$18
Name Z_D77EBD73_782E_4A63_AC37_29D349B4D009_.wvu.PrintArea: '様式B(トンネル様式1P001)'!$B$2:$Y$27
Name Z_D77EBD73_782E_4A63_AC37_29D349B4D009_.wvu.PrintArea: '様式B(トンネル様式1P001) (10)'!$B$2:$Y$27
Name Z_D77EBD73_782E_4A63_AC37_29D349B4D009_.wvu.PrintArea: '様式B(トンネル様式1P001) (11)'!$B$2:$Y$27
Name Z_D77EBD73_782E_4A63_AC37_29D349B4D009_.wvu.PrintArea: '様式B(トンネル様式1P001) (12)'!$B$2:$Y$27
Name Z_D77EBD73_782E_4A63_AC37_29D349B4D009_.wvu.PrintArea: '様式B(トンネル様式1P001) (13)'!$B$2:$Y$27
Name Z_D77EBD73_782E_4A63_AC37_29D349B4D009_.wvu.PrintArea: '様式B(トンネル様式1P001) (14)'!$B$2:$Y$27
Name Z_D77EBD73_782E_4A63_AC37_29D349B4D009_.wvu.PrintArea: '様式B(トンネル様式1P001) (15)'!$B$2:$Y$27
Name Z_D77EBD73_782E_4A63_AC37_29D349B4D009_.wvu.PrintArea: '様式B(トンネル様式1P001) (16)'!$B$2:$Y$27
Name Z_D77EBD73_782E_4A63_AC37_29D349B4D009_.wvu.PrintArea: '様式B(トンネル様式1P001) (17)'!$B$2:$Y$27
Name Z_D77EBD73_782E_4A63_AC37_29D349B4D009_.wvu.PrintArea: '様式B(トンネル様式1P001) (18)'!$B$2:$Y$27
Name Z_D77EBD73_782E_4A63_AC37_29D349B4D009_.wvu.PrintArea: '様式B(トンネル様式1P001) (19)'!$B$2:$Y$27
Name Z_D77EBD73_782E_4A63_AC37_29D349B4D009_.wvu.PrintArea: '様式B(トンネル様式1P001) (2)'!$B$2:$Y$27
Name Z_D77EBD73_782E_4A63_AC37_29D349B4D009_.wvu.PrintArea: '様式B(トンネル様式1P001) (20)'!$B$2:$Y$27
Name Z_D77EBD73_782E_4A63_AC37_29D349B4D009_.wvu.PrintArea: '様式B(トンネル様式1P001) (21)'!$B$2:$Y$27
Name Z_D77EBD73_782E_4A63_AC37_29D349B4D009_.wvu.PrintArea: '様式B(トンネル様式1P001) (3)'!$B$2:$Y$27
Name Z_D77EBD73_782E_4A63_AC37_29D349B4D009_.wvu.PrintArea: '様式B(トンネル様式1P001) (4)'!$B$2:$Y$27
Name Z_D77EBD73_782E_4A63_AC37_29D349B4D009_.wvu.PrintArea: '様式B(トンネル様式1P001) (5)'!$B$2:$Y$27
Name Z_D77EBD73_782E_4A63_AC37_29D349B4D009_.wvu.PrintArea: '様式B(トンネル様式1P001) (6)'!$B$2:$Y$27
Name Z_D77EBD73_782E_4A63_AC37_29D349B4D009_.wvu.PrintArea: '様式B(トンネル様式1P001) (7)'!$B$2:$Y$27
Name Z_D77EBD73_782E_4A63_AC37_29D349B4D009_.wvu.PrintArea: '様式B(トンネル様式1P001) (8)'!$B$2:$Y$27
Name Z_D77EBD73_782E_4A63_AC37_29D349B4D009_.wvu.PrintArea: '様式B(トンネル様式1P001) (9)'!$B$2:$Y$27
Name Z_D77EBD73_782E_4A63_AC37_29D349B4D009_.wvu.PrintArea: '様式C-1-1'!$B$2:$Y$43
Name Z_D77EBD73_782E_4A63_AC37_29D349B4D009_.wvu.PrintArea: '様式C-2'!$B$2:$Z$21
Name Z_D77EBD73_782E_4A63_AC37_29D349B4D009_.wvu.PrintArea: '様式D-1-1(トンネル様式2P001) P001'!$B$2:$W$40
Name Z_D77EBD73_782E_4A63_AC37_29D349B4D009_.wvu.PrintArea: '様式D-1-1(トンネル様式2P001) P002'!$B$2:$W$40
Name Z_D77EBD73_782E_4A63_AC37_29D349B4D009_.wvu.PrintArea: '様式D-1-1(トンネル様式2P001) P003'!$B$2:$W$40
Name Z_D77EBD73_782E_4A63_AC37_29D349B4D009_.wvu.PrintArea: '様式D-1-1(トンネル様式2P001) P004'!$B$2:$W$40
Name Z_D77EBD73_782E_4A63_AC37_29D349B4D009_.wvu.PrintArea: '様式D-1-1(トンネル様式2P001) P005'!$B$2:$W$40
Name Z_D77EBD73_782E_4A63_AC37_29D349B4D009_.wvu.PrintArea: '様式D-1-1(トンネル様式2P001) P006'!$B$2:$W$40
Name Z_D77EBD73_782E_4A63_AC37_29D349B4D009_.wvu.PrintArea: '様式D-1-1(トンネル様式2P001) P007'!$B$2:$W$40
Name Z_D77EBD73_782E_4A63_AC37_29D349B4D009_.wvu.PrintArea: '様式D-1-1(トンネル様式2P001) P008'!$B$2:$W$40
Name Z_D77EBD73_782E_4A63_AC37_29D349B4D009_.wvu.PrintArea: '様式D-1-1(トンネル様式2P001) P009'!$B$2:$W$40
Name Z_D77EBD73_782E_4A63_AC37_29D349B4D009_.wvu.PrintArea: '様式D-1-1(トンネル様式2P001) P010'!$B$2:$W$40
Name Z_D77EBD73_782E_4A63_AC37_29D349B4D009_.wvu.PrintArea: '様式D-1-1(トンネル様式2P001) P011'!$B$2:$W$40
Name Z_D77EBD73_782E_4A63_AC37_29D349B4D009_.wvu.PrintArea: '様式D-1-1(トンネル様式2P001) P012'!$B$2:$W$40
Name Z_D77EBD73_782E_4A63_AC37_29D349B4D009_.wvu.PrintArea: '様式D-1-1(トンネル様式2P001) P013'!$B$2:$W$40
Name Z_D77EBD73_782E_4A63_AC37_29D349B4D009_.wvu.PrintArea: '様式D-1-1(トンネル様式2P001) P014'!$B$2:$W$40
Name Z_D77EBD73_782E_4A63_AC37_29D349B4D009_.wvu.PrintArea: '様式D-1-1(トンネル様式2P001) P015'!$B$2:$W$40
Name Z_D77EBD73_782E_4A63_AC37_29D349B4D009_.wvu.PrintArea: '様式D-1-1(トンネル様式2P001) P016'!$B$2:$W$40
Name Z_D77EBD73_782E_4A63_AC37_29D349B4D009_.wvu.PrintArea: '様式D-1-1(トンネル様式2P001) P017'!$B$2:$W$40
Name Z_D77EBD73_782E_4A63_AC37_29D349B4D009_.wvu.PrintArea: '様式D-1-1(トンネル様式2P001) P018'!$B$2:$W$40
Name Z_D77EBD73_782E_4A63_AC37_29D349B4D009_.wvu.PrintArea: '様式D-1-1(トンネル様式2P001) P019'!$B$2:$W$40
Name Z_D77EBD73_782E_4A63_AC37_29D349B4D009_.wvu.PrintArea: '様式D-1-1(トンネル様式2P001) P020'!$B$2:$W$40
Name Z_D77EBD73_782E_4A63_AC37_29D349B4D009_.wvu.PrintArea: '様式D-1-1(トンネル様式2P001) P021'!$B$2:$W$40
Name Z_D77EBD73_782E_4A63_AC37_29D349B4D009_.wvu.PrintArea: '様式D-1-1(トンネル様式2P001) P022'!$B$2:$W$40
Name Z_D77EBD73_782E_4A63_AC37_29D349B4D009_.wvu.PrintArea: '様式D-1-1(トンネル様式2P001) P023'!$B$2:$W$40
Name Z_D77EBD73_782E_4A63_AC37_29D349B4D009_.wvu.PrintArea: '様式D-1-1(トンネル様式2P001) P024'!$B$2:$W$40
Name Z_D77EBD73_782E_4A63_AC37_29D349B4D009_.wvu.PrintArea: '様式D-1-1(トンネル様式2P001) P025'!$B$2:$W$40
Name Z_D77EBD73_782E_4A63_AC37_29D349B4D009_.wvu.PrintArea: '様式D-1-1(トンネル様式2P001) P026'!$B$2:$W$40
Name Z_D77EBD73_782E_4A63_AC37_29D349B4D009_.wvu.PrintArea: '様式D-1-1(トンネル様式2P001) P027'!$B$2:$W$40
Name Z_D77EBD73_782E_4A63_AC37_29D349B4D009_.wvu.PrintArea: '様式D-1-1(トンネル様式2P001) P028'!$B$2:$W$40
Name Z_D77EBD73_782E_4A63_AC37_29D349B4D009_.wvu.PrintArea: '様式D-1-1(トンネル様式2P001) P029'!$B$2:$W$40
Name Z_D77EBD73_782E_4A63_AC37_29D349B4D009_.wvu.PrintArea: '様式D-1-1(トンネル様式2P001) P030'!$B$2:$W$40
Name Z_D77EBD73_782E_4A63_AC37_29D349B4D009_.wvu.PrintArea: '様式D-1-1(トンネル様式2P001) P031'!$B$2:$W$40
Name Z_D77EBD73_782E_4A63_AC37_29D349B4D009_.wvu.PrintArea: '様式D-1-1(トンネル様式2P001) P032'!$B$2:$W$40
Name Z_D77EBD73_782E_4A63_AC37_29D349B4D009_.wvu.PrintArea: '様式D-1-1(トンネル様式2P001) P033'!$B$2:$W$40

Sheet 点検様式作成フロー
A1: 点検様式作成フロ-
A3: 作成フロー図 | H3: 点検調書作成手順
H4: ①様式A-1～A-3（トンネル台帳）
H5: トンネル点検の実施にあたっては，現場点検作業に先行してトンネル情報を収集する。トンネル台帳（様式Ａ－1～様式Ａ－3）はトンネル完成後に作成され，維持管理の段階で引き継がれるが，関連資料等を確認したうえで，追加情報があれば必要に応じて追記することが望ましい。
H9: ②様式D-2-1、様式D-2-1´
H10: 現場点検作業を実施し，近接目視点検で確認した変状状況や補修履歴を忠実に変状展開図に転記する
H12: ③様式D-1-1、様式D-1-2
H13: 変状展開図や撮影した写真等をもとに，対象トンネルの対策区分を判定し，対策区分の判定区分がⅡ～Ⅳの変状および異常判定区分「×」を抽出し，写真台帳を作成する
H16: ④様式B
H17: 写真台帳の作成と同時に，トンネルの構造を展開した位置図に変状写真位置を記録する
H19: ⑤様式D-3
H20: 変状展開図ならびに写真台帳をもとに覆工スパンごとの変状展開図を作成し，変状発生状況をとりまとめる
H22: ⑥様式E-1、様式E-2
H23: 様式Ｄ－1～様式Ｄ－3をもとに，健全性の診断結果を集計する
... H31: ファイルは以下の分割規則に従う。 ※各ファイルとも （参考）リスト のシートを付けて保存すること。 ・様式A-1～A-3は同一ファイルとする。 ・様式B、D-1-1、D-1-2、D-2-1（もしくはD-2-1'）、Eは別ファイルとする。 ・様式C-1-1,C-1-2、C-2は同一ファイルとする。 ・様式D-3、E、Fは同一ファイルとする。

Sheet 変状面積算出方法
A1: 変状面積算出方法
A26: 注1）外力による変状：ひび割れや圧ざの場合は変状の寸法を記録する。
A27: 例）ひび割れ：長さ（L）×最大ひび割れ幅（t）を記録する。 変形，移動，沈下：数値的な記載が可能な場合のみ記載する。
A28: 注2）材料劣化による：打音異常
A29: 例）うき，はく離（閉合ひび割れ）：変状範囲を包括する寸法（L×W） うき，はく離（ひび割れ沿い）：打音異常箇所を包括する寸法（L×W） 鋼材腐食（鉄筋腐食）：一括した対策が適当と考えられる範囲を包括する寸法（L×W）
A30: 注3）漏水による変状：漏水発生範囲を包括し，垂れ下がりの可能性がある側壁下端まで含めた寸法を，L×Wで記録する。打継ぎ目地沿いの 漏水については目地を跨いだ50cm幅を横幅とする。

Sheet 様式A-1
B2: ■トンネル台帳 トンネル諸元、非常用施設諸元 【様式A-1】 | S2: トンネルID
B3: フリガナ | D3: ホウベンザントンネル | H3: 路線名 | J3: 国道435号 | P3: 管理者名 | R3: 防府土木建設事務所山口支所 | W3: 緊急輸送道路 | Z3: 有
B4: 名 称 | D4: 鳳翩山トンネル | W4: 代替路の有無 | Z4: 有
B5: 所在地 | D5: 自 | E5: 山口県山口市吉敷 | H5: 作成者 | K5: 株式会社エイト日本技術開発 | P5: 作成年月日 | R5: 44445 | U5: トンネル延長 | X5: L= | Z5: 1030 | AB5: ｍ
D6: 至 | E6: 山口県美祢市美東町綾木 | U6: ﾄﾝﾈﾙの分類 | X6: 陸上トンネル（掘進工法）
B7: 起点 | C7: 緯度 | E7: 34°11′35.0″ | H7: 完成年月日 | K7: 平成3年 | M7: 舗装 | O7: 種 別 | Q7: コンクリート系 | S7: トンネル非常用施設 | T7: 施設の内訳 | X7: 種別・方式 | Y7: 型式 | Z7: 個数 | AA7: 更新年度 | AE7: =INT(E7/10000) -> #VALUE! | AF7: =INT(E7/100)-AE7*100 -> #VALUE! | AG7: =E7-AE7*10000-AF7*100 -> #VALUE! | AH7: =ROUND(AE7+AF7/60+AG7/60/60,5) -> #VALUE! | AI7: =TEXT(AH7,"0.00000") -> #VALUE!
C8: 経度 | E8: 131°24′23.0″ | H8: 供用年月日 | O8: 厚 さ | Q8: 25 | R8: ㎝ | T8: 通報設備 | U8: 通話型通報設備 | Z8: 5 | AE8: =INT(E8/10000) -> #VALUE! | AF8: =INT(E8/100)-AE8*100 -> #VALUE! | AG8: =E8-AE8*10000-AF8*100 -> #VALUE! | AH8: =ROUND(AE8+AF8/60+AG8/60/60,5) -> #VALUE! | AI8: =TEXT(AH8,"0.00000") -> #VALUE!
B9: 終点 | C9: 緯度 | E9: 34°11′36.9″ | H9: トンネル区分 | K9: B | O9: 面 積 | U9: 操作型通報設備 | Z9: 20
C10: 経度 | E10: 131°23′42.7″ | H10: 内装種類 | O10: 更新年次 | U10: 自動通報設備
B11: 一般有料区分 | E11: 無料 | H11: 天井板種類 | M11: 排水 | O11: 種 別 | Q11: U型暗梁排水 | T11: 警報設備 | U11: 非常警報設備
B12: 土かぶり | G12: m | H12: 坑門 | I12: 起点 | J12: 形式 | K12: 面壁型 | O12: 更新年次 | T12: 消火設備 | U12: 消 火 器 | Z12: 20
B13: 内空断面積 | G13: ㎡ | J13: 延長 | L13: m | M13: 施設 | P13: 種別・方式 | Q13: 個数 | R13: 更新年次 | U13: 消火栓設備
B14: 交 通 量 | E14: 10721 | G14: 台/日 | I14: 終点 | J14: 形式 | K14: 面壁型 | M14: 道路附属物等 | N14: 照明 | P14: LED | Q14: 107 | T14: 避難誘導設備 | U14: 誘導表示設備 | Z14: 42
C15: 道 路 幅 | E15: 9.3 | G15: m | J15: 延長 | L15: m | N15: 換気 | P15: 自然 | U15: 避難情報提供設備
B16: 幅 員 | C16: 車 道 幅 | E16: 3.5 | G16: m | H16: 竣工巻厚 | I16: アーチ | K16: 30 | L16: cm | N16: 標識
E17: 3.5 | G17: m | I17: 側 壁 | K17: 30 | L17: cm | N17: 警報表示板 | Q17: 1 | U17: 避難通路
C18: 歩道等幅 | E18: 2.3 | G18: m | K18: 30 | L18: cm | N18: 吸音板 | U18: 排煙設備
B19: 高さ | C19: 建築限界高 | E19: 4.5 | G19: m | I19: インバート | K19: 50 | L19: cm | T19: その他の設備 | U19: 給水栓設備
C20: 中央高 | E20: 6.5 | G20: m | H20: 半径 | I20: アーチ | K20: 490 | L20: cm | U20: 無線通信補助設備
C21: 有効高 | E21: 4.5 | G21: m | I21: 側 壁 | K21: 490 | L21: cm | U21: 水噴霧設備
C22: 縦断勾配 | E22: 0.3～1.0％ | I22: インバート | K22: 1131 | L22: cm | U22: 監視設備
B23: 線 形 | C23: 直線区間長 | E23: 1030 | H23: 占用物件 | I23: 種 類 | K23: 寸 法 | M23: 管理者名 | Q23: 更新年次 | S23: 非常用施設 関連設備 | U23: 予備発電設備
C24: 曲線区間 | D24: 区間長
D25: 起点側ｸﾛｿｲﾄﾞ
D26: 曲線半径
D27: 終点側ｸﾛｿｲﾄﾞ | S27: その他 | U27: 非常駐車帯 | Z27: 2
B28: トンネル工法 | E28: 山岳トンネル工法（NATM） | U28: 方向転換所
C29: ※緯度・経度については、秒の少数第二位の単位まで記入すること。（例；36度20分35.56秒の場合、362035.36と入力）

Sheet 様式A-2
B3: ■トンネル台帳 トンネル情報一覧表 【様式A-2】
B4: フリガナ | E4: ='様式A-1'!D3 -> ホウベンザントンネル | J4: 路線名 | M4: ='様式A-1'!J3 -> 国道435号 | S4: 作成者 | Y4: ='様式A-1'!K5 -> 株式会社エイト日本技術開発 | AE4: 作成年月日 | AI4: ='様式A-1'!R5 -> 44445
B5: 名 称 | E5: ='様式A-1'!D4 -> 鳳翩山トンネル | J5: 管理者名 | M5: ='様式A-1'!R3 -> 防府土木建設事務所山口支所
B6: 覆工 ｽﾊﾟﾝ 番号 | C6: ｽﾊﾟﾝ長 | D6: 追加距離 | F6: トンネル本体工 | K6: 照明施設 | O6: 非常用施設 | AE6: 換気施設 | AK6: その他附属物等
O7: ='様式A-1'!T8 -> 通報設備 | R7: ='様式A-1'!T11 -> 警報設備 | S7: ='様式A-1'!T12 -> 消火設備 | U7: ='様式A-1'!T14 -> 避難誘導設備 | Y7: ='様式A-1'!T19 -> その他の設備 | AC7: 特記事項
D8: 起点側 | E8: 終点側 | F8: 特記事項 | I8: 内装板 | J8: 天井板 | K8: 基本照明 | L8: 入口出口照明 | M8: 特記事項 | O8: ='様式A-1'!U8 -> 通話型通報設備 | P8: ='様式A-1'!U9 -> 操作型通報設備 | Q8: ='様式A-1'!U10 -> 自動通報設備 | R8: ='様式A-1'!U11 -> 非常警報設備 | S8: ='様式A-1'!U12 -> 消 火 器 | T8: ='様式A-1'!U13 -> 消火栓設備 | U8: ='様式A-1'!U14 -> 誘導表示設備 | V8: ='様式A-1'!U15 -> 避難情報提供設備 | W8: ='様式A-1'!U17 -> 避難通路 | X8: ='様式A-1'!U18 -> 排煙設備 | Y8: ='様式A-1'!U19 -> 給水栓設備 | Z8: ='様式A-1'!U20 -> 無線通信補助設備 | AA8: ='様式A-1'!U21 -> 水噴霧設備 | AB8: ='様式A-1'!U22 -> 監視設備 | AE8: JF | AF8: VI計 | AG8: CO計 | AH8: 風向 風速計 | AI8: 特記事項
C9: (m) | D9: (m) | E9: (m)
B10: PS | C10: 0 | D10: 0 | E10: 0 | F10: 坑門（面壁型）
B11: S1 | C11: 7.9 | D11: 0 | E11: =D11+C11 -> 7.9 | F11: 銘板(L) | K11: ○ | AK11: 非常電話案内板
B12: S2 | C12: 10.5 | D12: 7.9 | E12: =D12+C12 -> 18.4 | K12: ○
B13: S3 | C13: 10.55 | D13: =E12 -> 18.4 | E13: =D13+C13 -> 28.95 | K13: ○
B14: S4 | C14: 10.5 | D14: =E13 -> 28.95 | E14: =D14+C14 -> 39.45 | K14: ○ | P14: ① | R14: ① | S14: ① | U14: ○ | AK14: 非常電話案内板
B15: S5 | C15: 10.5 | D15: =E14 -> 39.45 | E15: =D15+C15 -> 49.95 | K15: ○
B16: S6 | C16: 10.5 | D16: =E15 -> 49.95 | E16: =D16+C16 -> 60.45 | K16: ○ | U16: ○ | AK16: 非常電話案内板
B17: S7 | C17: 10.5 | D17: =E16 -> 60.45 | E17: =D17+C17 -> 70.95 | K17: ○
B18: S8 | C18: 10.5 | D18: =E17 -> 70.95 | E18: =D18+C18 -> 81.45 | K18: ○ | O18: ① | P18: ② | S18: ②
B19: S9 | C19: 10.55 | D19: =E18 -> 81.45 | E19: =D19+C19 -> 92 | K19: ○
B20: S10 | C20: 10.55 | D20: =E19 -> 92 | E20: =D20+C20 -> 102.55 | K20: ○
B21: S11 | C21: 10.5 | D21: =E20 -> 102.55 | E21: =D21+C21 -> 113.05 | K21: ○ | U21: ○ | AK21: 非常電話案内板
B22: S12 | C22: 10.55 | D22: =E21 -> 113.05 | E22: =D22+C22 -> 123.6 | K22: ○
B23: S13 | C23: 10.5 | D23: =E22 -> 123.6 | E23: =D23+C23 -> 134.1 | K23: ○ | P23: ③ | S23: ③ | U23: ○ | AK23: 非常電話案内板
B24: S14 | C24: 10.5 | D24: =E23 -> 134.1 | E24: =D24+C24 -> 144.6 | K24: ○
B25: S15 | C25: 10.5 | D25: =E24 -> 144.6 | E25: =D25+C25 -> 155.1 | K25: ○ | U25: ○ | AK25: 非常電話案内板
B26: S16 | C26: 10.55 | D26: =E25 -> 155.1 | E26: =D26+C26 -> 165.65
B27: S17 | C27: 10.5 | D27: =E26 -> 165.65 | E27: =D27+C27 -> 176.15 | K27: ○
B28: S18 | C28: 10.5 | D28: =E27 -> 176.15 | E28: =D28+C28 -> 186.65 | K28: ○ | P28: ④ | S28: ④ | U28: ○ | AK28: 非常電話案内板
B29: S19 | C29: 10.55 | D29: =E28 -> 186.65 | E29: =D29+C29 -> 197.2 | K29: ○
B30: S20 | C30: 10.5 | D30: =E29 -> 197.2 | E30: =D30+C30 -> 207.7 | K30: ○ | U30: ○ | AK30: 非常電話案内板
B31: S21 | C31: 10.5 | D31: =E30 -> 207.7 | E31: =D31+C31 -> 218.2 | K31: ○ | U31: ○
B32: S22 | C32: 10.5 | D32: =E31 -> 218.2 | E32: =D32+C32 -> 228.7
B33: S23 | C33: 10.5 | D33: =E32 -> 228.7 | E33: =D33+C33 -> 239.2 | K33: ○ | P33: ⑤ | S33: ⑤ | U33: ○ | AK33: 非常電話案内板
B34: S24 | C34: 10.5 | D34: =E33 -> 239.2 | E34: =D34+C34 -> 249.7
B35: S25 | C35: 10.5 | D35: =E34 -> 249.7 | E35: =D35+C35 -> 260.2 | K35: ○ | U35: ○ | AK35: 非常電話案内板
B36: S26 | C36: 10.5 | D36: =E35 -> 260.2 | E36: =D36+C36 -> 270.7
B37: S27 | C37: 10.5 | D37: =E36 -> 270.7 | E37: =D37+C37 -> 281.2 | O37: ② | P37: ⑥ | S37: ⑥
B38: S28 | C38: 10.55 | D38: =E37 -> 281.2 | E38: =D38+C38 -> 291.75 | K38: ○
B39: S29 | C39: 10.5 | D39: =E38 -> 291.75 | E39: =D39+C39 -> 302.25
B40: S30 | C40: 10.55 | D40: =E39 -> 302.25 | E40: =D40+C40 -> 312.8 | K40: ○ | U40: ○ | AK40: 非常電話案内板
B41: S31 | C41: 10.5 | D41: =E40 -> 312.8 | E41: =D41+C41 -> 323.3
B42: S32 | C42: 10.55 | D42: =E41 -> 323.3 | E42: =D42+C42 -> 333.85 | K42: ○ | P42: ⑦ | S42: ⑦ | U42: ○ | AK42: 非常電話案内板
B43: S33 | C43: 10.5 | D43: =E42 -> 333.85 | E43: =D43+C43 -> 344.35
B44: S34 | C44: 10.5 | D44: =E43 -> 344.35 | E44: =D44+C44 -> 354.85 | K44: ○ | U44: ○ | AK44: 非常電話案内板
B45: S35 | C45: 10.5 | D45: =E44 -> 354.85 | E45: =D45+C45 -> 365.35
B46: S36 | C46: 10.55 | D46: =E45 -> 365.35 | E46: =D46+C46 -> 375.9 | K46: ○
B47: S37 | C47: 10.5 | D47: =E46 -> 375.9 | E47: =D47+C47 -> 386.4 | P47: ⑧ | S47: ⑧
B48: S38 | C48: 10.55 | D48: =E47 -> 386.4 | E48: =D48+C48 -> 396.95 | U48: ○ | AK48: 非常電話案内板
B49: S39 | C49: 10.55 | D49: =E48 -> 396.95 | E49: =D49+C49 -> 407.5 | K49: ○ | U49: ○
B50: S40 | C50: 10.15 | D50: =E49 -> 407.5 | E50: =D50+C50 -> 417.65
B51: S41 | C51: 10.2 | D51: =E50 -> 417.65 | E51: =D51+C51 -> 427.85 | K51: ○ | U51: ○ | AK51: 非常電話案内板
B52: S42 | C52: 10.2 | D52: =E51 -> 427.85 | E52: =D52+C52 -> 438.05 | P52: ⑨ | S52: ⑨
B53: S43 | C53: 10.15 | D53: =E52 -> 438.05 | E53: =D53+C53 -> 448.2 | K53: ○ | U53: ○ | AK53: 非常電話案内板
B54: S44 | C54: 6.5 | D54: =E53 -> 448.2 | E54: =D54+C54 -> 454.7 | F54: 非常駐車帯(L) | K54: ○
B55: S45 | C55: 6.45 | D55: =E54 -> 454.7 | E55: =D55+C55 -> 461.15 | F55: 非常駐車帯(L) | K55: ○
B56: S46 | C56: 6.4 | D56: =E55 -> 461.15 | E56: =D56+C56 -> 467.55 | F56: 非常駐車帯(L)
B57: S47 | C57: 6.4 | D57: =E56 -> 467.55 | E57: =D57+C57 -> 473.95 | F57: 非常駐車帯(L) | K57: ○ | O57: ③ | P57: ⑩ | S57: ⑩
B58: S48 | C58: 10.5 | D58: =E57 -> 473.95 | E58: =D58+C58 -> 484.45
B59: S49 | C59: 10.55 | D59: =E58 -> 484.45 | E59: =D59+C59 -> 495 | K59: ○ | U59: ○ | AK59: 非常電話案内板
B60: S50 | C60: 10.55 | D60: =E59 -> 495 | E60: =D60+C60 -> 505.55
B61: S51 | C61: 10.5 | D61: =E60 -> 505.55 | E61: =D61+C61 -> 516.05 | K61: ○ | U61: ○
B62: S52 | C62: 10.4 | D62: =E61 -> 516.05 | E62: =D62+C62 -> 526.45 | U62: ○ | AK62: 非常電話案内板
B63: S53 | C63: 6.5 | D63: =E62 -> 526.45 | E63: =D63+C63 -> 532.95 | F63: 非常駐車帯(R) | K63: ○ | P63: ⑪ | S63: ⑪
B64: S54 | C64: 6.4 | D64: =E63 -> 532.95 | E64: =D64+C64 -> 539.35 | F64: 非常駐車帯(R) | K64: ○
B65: S55 | C65: 6.4 | D65: =E64 -> 539.35 | E65: =D65+C65 -> 545.75 | F65: 非常駐車帯(R) | U65: ○ | AK65: 非常電話案内板
B66: S56 | C66: 6.45 | D66: =E65 -> 545.75 | E66: =D66+C66 -> 552.2 | F66: 非常駐車帯(R) | K66: ○
B67: S57 | C67: 10.5 | D67: =E66 -> 552.2 | E67: =D67+C67 -> 562.7 | K67: ○
B68: S58 | C68: 10.5 | D68: =E67 -> 562.7 | E68: =D68+C68 -> 573.2 | U68: ○
B69: S59 | C69: 10.5 | D69: =E68 -> 573.2 | E69: =D69+C69 -> 583.7 | P69: ⑫ | S69: ⑫ | AK69: 非常電話案内板
B70: S60 | C70: 10.5 | D70: =E69 -> 583.7 | E70: =D70+C70 -> 594.2 | K70: ○
B71: S61 | C71: 10.55 | D71: =E70 -> 594.2 | E71: =D71+C71 -> 604.75 | U71: ○ | AK71: 非常電話案内板
B72: S62 | C72: 10.5 | D72: =E71 -> 604.75 | E72: =D72+C72 -> 615.25 | K72: ○ | U72: ○
B73: S63 | C73: 10.5 | D73: =E72 -> 615.25 | E73: =D73+C73 -> 625.75
B74: S64 | C74: 10.5 | D74: =E73 -> 625.75 | E74: =D74+C74 -> 636.25 | K74: ○ | P74: ⑬ | S74: ⑬ | U74: ○ | AK74: 非常電話案内板
B75: S65 | C75: 10.5 | D75: =E74 -> 636.25 | E75: =D75+C75 -> 646.75
B76: S66 | C76: 10.5 | D76: =E75 -> 646.75 | E76: =D76+C76 -> 657.25 | K76: ○ | U76: ○ | AK76: 非常電話案内板
B77: S67 | C77: 10.5 | D77: =E76 -> 657.25 | E77: =D77+C77 -> 667.75
B78: S68 | C78: 10.5 | D78: =E77 -> 667.75 | E78: =D78+C78 -> 678.25 | K78: ○
B79: S69 | C79: 10.5 | D79: =E78 -> 678.25 | E79: =D79+C79 -> 688.75 | O79: ④ | P79: ⑭ | S79: ⑭
B80: S70 | C80: 10.5 | D80: =E79 -> 688.75 | E80: =D80+C80 -> 699.25
B81: S71 | C81: 10.5 | D81: =E80 -> 699.25 | E81: =D81+C81 -> 709.75 | K81: ○ | U81: ○ | AK81: 非常電話案内板
B82: S72 | C82: 10.55 | D82: =E81 -> 709.75 | E82: =D82+C82 -> 720.3
B83: S73 | C83: 10.5 | D83: =E82 -> 720.3 | E83: =D83+C83 -> 730.8 | K83: ○ | P83: ⑮ | S83: ⑮ | U83: ○ | AK83: 非常電話案内板
B84: S74 | C84: 10.5 | D84: =E83 -> 730.8 | E84: =D84+C84 -> 741.3
B85: S75 | C85: 10.5 | D85: =E84 -> 741.3 | E85: =D85+C85 -> 751.8 | K85: ○
B86: S76 | C86: 10.5 | D86: =E85 -> 751.8 | E86: =D86+C86 -> 762.3 | U86: ○ | AK86: 非常電話案内板
B87: S77 | C87: 10.5 | D87: =E86 -> 762.3 | E87: =D87+C87 -> 772.8 | K87: ○
B88: S78 | C88: 10.5 | D88: =E87 -> 772.8 | E88: =D88+C88 -> 783.3 | P88: ⑯ | S88: ⑯ | U88: ○ | AK88: 非常電話案内板
B89: S79 | C89: 10.5 | D89: =E88 -> 783.3 | E89: =D89+C89 -> 793.8
B90: S80 | C90: 10.5 | D90: =E89 -> 793.8 | E90: =D90+C90 -> 804.3 | K90: ○ | U90: ○ | AK90: 非常電話案内板
B91: S81 | C91: 10.5 | D91: =E90 -> 804.3 | E91: =D91+C91 -> 814.8 | U91: ○
B92: S82 | C92: 10.5 | D92: =E91 -> 814.8 | E92: =D92+C92 -> 825.3 | K92: ○
B93: S83 | C93: 10.5 | D93: =E92 -> 825.3 | E93: =D93+C93 -> 835.8 | K93: ○ | P93: ⑰ | S93: ⑰ | U93: ○ | AK93: 非常電話案内板
B94: S84 | C94: 10.5 | D94: =E93 -> 835.8 | E94: =D94+C94 -> 846.3 | K94: ○
B95: S85 | C95: 10.5 | D95: =E94 -> 846.3 | E95: =D95+C95 -> 856.8 | K95: ○ | U95: ○ | AK95: 非常電話案内板
B96: S86 | C96: 10.4 | D96: =E95 -> 856.8 | E96: =D96+C96 -> 867.2 | K96: ○
B97: S87 | C97: 10.4 | D97: =E96 -> 867.2 | E97: =D97+C97 -> 877.6 | K97: ○
B98: S88 | C98: 10.4 | D98: =E97 -> 877.6 | E98: =D98+C98 -> 888 | K98: ○ | O98: ⑤ | P98: ⑱ | S98: ⑱
B99: S89 | C99: 10.4 | D99: =E98 -> 888 | E99: =D99+C99 -> 898.4 | K99: ○
B100: S90 | C100: 10.4 | D100: =E99 -> 898.4 | E100: =D100+C100 -> 908.8 | K100: ○ | U100: ○ | AK100: 非常電話案内板
B101: S91 | C101: 10.4 | D101: =E100 -> 908.8 | E101: =D101+C101 -> 919.2 | K101: ○ | U101: ○
B102: S92 | C102: 10.4 | D102: =E101 -> 919.2 | E102: =D102+C102 -> 929.6 | K102: ○ | P102: ⑲ | S102: ⑲ | U102: ○ | AK102: 非常電話案内板
...

Sheet 様式A-3
B3: ■トンネル台帳 トンネル記録（位置図、断面図、施工実績他）【様式A-3】
B4: フリガナ | E4: ='様式A-1'!D3 -> ホウベンザントンネル | J4: 路線名 | M4: ='様式A-1'!J3 -> 国道435号 | S4: 作成者 | W4: ='様式A-1'!K5 -> 株式会社エイト日本技術開発 | AC4: 作成年月日 | AF4: ='様式A-1'!R5 -> 44445
B5: 名 称 | E5: ='様式A-1'!D4 -> 鳳翩山トンネル | J5: 管理者名 | M5: ='様式A-1'!R3 -> 防府土木建設事務所山口支所
B6: 位置図・現況写真・標準断面図・地質縦断図・施工実績
B20: ■トンネル台帳 トンネル記録（位置図、断面図、施工実績他）【様式A-3】
B21: フリガナ | E21: =E4 -> ホウベンザントンネル | J21: 路線名 | M21: =M4 -> 国道435号 | S21: 作成者 | W21: =W4 -> 株式会社エイト日本技術開発 | AC21: 作成年月日 | AF21: =AF4 -> 44445
B22: 名 称 | E22: =E5 -> 鳳翩山トンネル | J22: 管理者名 | M22: =M5 -> 防府土木建設事務所山口支所
B23: 位置図・現況写真・標準断面図・地質縦断図・施工実績
B37: ■トンネル台帳 トンネル記録（位置図、断面図、施工実績他）【様式A-3】
B38: フリガナ | E38: =E21 -> ホウベンザントンネル | J38: 路線名 | M38: =M21 -> 国道435号 | S38: 作成者 | W38: =W21 -> 株式会社エイト日本技術開発 | AC38: 作成年月日 | AF38: =AF4 -> 44445
B39: 名 称 | E39: =E22 -> 鳳翩山トンネル | J39: 管理者名 | M39: =M22 -> 防府土木建設事務所山口支所
B40: 位置図・現況写真・標準断面図・地質縦断図・施工実績

Sheet 様式B(トンネル様式1P001)
B2: ■定期点検記録様式 トンネル変状・異常箇所写真位置図 | T2: トンネルID | AA2: Ⅰ | AB2: あり | AC2: 陸上トンネル 掘進工法
B3: フリガナ | D3: ='様式A-1'!D3:G3 -> ホウベンザントンネル | H3: 路線名 | J3: ='様式A-1'!J3 -> 国道435号 | N3: 管理者名 | P3: ='様式A-1'!R3 -> 防府土木建設事務所山口支所 | T3: 緊急輸送道路 | V3: あり | AA3: Ⅱ | AB3: なし | AC3: 陸上トンネル 開削工法
B4: 名 称 | D4: ='様式A-1'!D4:G4 -> 鳳翩山トンネル | T4: 代替路の有無 | V4: あり | AA4: Ⅲ | AC4: 陸上トンネル その他
B5: 所在地 | D5: 自 | E5: ='様式A-1'!E5:G5 -> 山口県山口市吉敷 | H5: 定期点検業者 | K5: ='様式A-1'!K5:O6 -> 株式会社エイト日本技術開発 | O5: 定期点検年月日 | Q5: 44413 | T5: トンネル延長 | V5: L= | W5: 1030 | Y5: ｍ | AA5: Ⅳ | AC5: 水底トンネル 掘進工法
D6: 至 | E6: ='様式A-1'!E6:G6 -> 山口県美祢市美東町綾木 | H6: 定期点検者名 | K6: 榎田 敦之 | T6: ﾄﾝﾈﾙの分類 | V6: 陸上トンネル 掘進工法 | AC6: 水底トンネル 沈埋工法
B7: 起点 | C7: 緯度 | D7: 341135 | F7: 変状・異常 箇所数合計 | H7: トンネル 本体工 | J7: 材質劣化 | L7: Ⅱ | M7: 100 | N7: Ⅲ | O7: 1 | P7: Ⅳ | Q7: 0 | R7: トンネル毎 の健全性 | T7: Ⅲ | V7: 附属物の 取付状態 | W7: ◯ （応急措置後） | Y7: 0 | AC7: 水底トンネル 開削工法
AC8: 水底トンネル その他
C10: 経度 | D10: 1312423
J11: 漏水 | L11: Ⅱ | M11: 4 | N11: Ⅲ | O11: 0 | P11: Ⅳ | Q11: 0
B13: 終点 | C13: 緯度 | D13: 341136.9 | W13: ✕ | Y13: 5
J15: 外力 | L15: Ⅱ | M15: 5 | N15: Ⅲ | O15: 0 | P15: Ⅳ | Q15: 0 | AC15: 0
C16: 経度 | D16: 1312342.7
B19: トンネル変状・異常箇所写真位置図
P26: 注１：本位置図は、見下げた状態で記載すること。 注２：覆工スパン番号は横断目地毎(矢板工法の場合は上半アーチ の横断目地毎)に設定すること。 注３：写真番号に付する変状番号は、各覆工スパンの変状に対して新た に確認された場合は順次追加していくこと。 注４：横断目地の変状は前の覆工スパン番号で計上すること。 注５：１枚に収まらない場合は、複数枚に分けて作成すること。
C28: ※1 トンネル本体工の変状数は、材質劣化、漏水に起因するものは変状単位で、外力に起因するものはスパン単位で計上すること。
C29: ※2 本体工の変状に対しては、健全性の判定区分Ⅱ～Ⅳについて添付すること。また、点検前に実施された措置によりⅠと判定された箇所も添付すること。
C30: ※3 附属物の取付状態の○欄については、応急措置前に判定区分×とした箇所のうち応急措置により○判定とした箇所の数を記入すること。
C31: ※4 附属物の異常番号は、本体工と番号が重複しないよう101番以降とする等の配慮を行い、分かりやすく記録すること。

Sheet 様式B(トンネル様式1P001) (2)
B2: ■定期点検記録様式 トンネル変状・異常箇所写真位置図 | T2: トンネルID | AA2: Ⅰ | AB2: あり | AC2: 陸上トンネル 掘進工法
B3: フリガナ | D3: ='様式A-1'!D3:G3 -> ホウベンザントンネル | H3: 路線名 | J3: ='様式A-1'!J3 -> 国道435号 | N3: 管理者名 | P3: ='様式A-1'!R3 -> 防府土木建設事務所山口支所 | T3: 緊急輸送道路 | V3: あり | AA3: Ⅱ | AB3: なし | AC3: 陸上トンネル 開削工法
B4: 名 称 | D4: ='様式A-1'!D4:G4 -> 鳳翩山トンネル | T4: 代替路の有無 | V4: あり | AA4: Ⅲ | AC4: 陸上トンネル その他
B5: 所在地 | D5: 自 | E5: ='様式A-1'!E5:G5 -> 山口県山口市吉敷 | H5: 定期点検業者 | K5: ='様式A-1'!K5:O6 -> 株式会社エイト日本技術開発 | O5: 定期点検年月日 | Q5: 44413 | T5: トンネル延長 | V5: L= | W5: 1030 | Y5: ｍ | AA5: Ⅳ | AC5: 水底トンネル 掘進工法
D6: 至 | E6: ='様式A-1'!E6:G6 -> 山口県美祢市美東町綾木 | H6: 定期点検者名 | K6: 榎田 敦之 | T6: ﾄﾝﾈﾙの分類 | V6: 陸上トンネル 掘進工法 | AC6: 水底トンネル 沈埋工法
B7: 起点 | C7: 緯度 | D7: 341135 | F7: 変状・異常 箇所数合計 | H7: トンネル 本体工 | J7: 材質劣化 | L7: Ⅱ | M7: 100 | N7: Ⅲ | O7: 1 | P7: Ⅳ | Q7: 0 | R7: トンネル毎 の健全性 | T7: Ⅲ | V7: 附属物の 取付状態 | W7: ◯ （応急措置後） | Y7: 0 | AC7: 水底トンネル 開削工法
AC8: 水底トンネル その他
C10: 経度 | D10: 1312423
J11: 漏水 | L11: Ⅱ | M11: 4 | N11: Ⅲ | O11: 0 | P11: Ⅳ | Q11: 0
B13: 終点 | C13: 緯度 | D13: 341136.9 | W13: ✕ | Y13: 5
J15: 外力 | L15: Ⅱ | M15: 5 | N15: Ⅲ | O15: 0 | P15: Ⅳ | Q15: 0 | AC15: 0
C16: 経度 | D16: 1312342.7
B19: トンネル変状・異常箇所写真位置図
P26: 注１：本位置図は、見下げた状態で記載すること。 注２：覆工スパン番号は横断目地毎(矢板工法の場合は上半アーチ の横断目地毎)に設定すること。 注３：写真番号に付する変状番号は、各覆工スパンの変状に対して新た に確認された場合は順次追加していくこと。 注４：横断目地の変状は前の覆工スパン番号で計上すること。 注５：１枚に収まらない場合は、複数枚に分けて作成すること。
C28: ※1 トンネル本体工の変状数は、材質劣化、漏水に起因するものは変状単位で、外力に起因するものはスパン単位で計上すること。
C29: ※2 本体工の変状に対しては、健全性の判定区分Ⅱ～Ⅳについて添付すること。また、点検前に実施された措置によりⅠと判定された箇所も添付すること。
C30: ※3 附属物の取付状態の○欄については、応急措置前に判定区分×とした箇所のうち応急措置により○判定とした箇所の数を記入すること。
C31: ※4 附属物の異常番号は、本体工と番号が重複しないよう101番以降とする等の配慮を行い、分かりやすく記録すること。

Sheet 様式B(トンネル様式1P001) (3)
B2: ■定期点検記録様式 トンネル変状・異常箇所写真位置図 | T2: トンネルID | AA2: Ⅰ | AB2: あり | AC2: 陸上トンネル 掘進工法
B3: フリガナ | D3: ='様式A-1'!D3:G3 -> ホウベンザントンネル | H3: 路線名 | J3: ='様式A-1'!J3 -> 国道435号 | N3: 管理者名 | P3: ='様式A-1'!R3 -> 防府土木建設事務所山口支所 | T3: 緊急輸送道路 | V3: あり | AA3: Ⅱ | AB3: なし | AC3: 陸上トンネル 開削工法
B4: 名 称 | D4: ='様式A-1'!D4:G4 -> 鳳翩山トンネル | T4: 代替路の有無 | V4: あり | AA4: Ⅲ | AC4: 陸上トンネル その他
B5: 所在地 | D5: 自 | E5: ='様式A-1'!E5:G5 -> 山口県山口市吉敷 | H5: 定期点検業者 | K5: ='様式A-1'!K5:O6 -> 株式会社エイト日本技術開発 | O5: 定期点検年月日 | Q5: 44413 | T5: トンネル延長 | V5: L= | W5: 1030 | Y5: ｍ | AA5: Ⅳ | AC5: 水底トンネル 掘進工法
D6: 至 | E6: ='様式A-1'!E6:G6 -> 山口県美祢市美東町綾木 | H6: 定期点検者名 | K6: 榎田 敦之 | T6: ﾄﾝﾈﾙの分類 | V6: 陸上トンネル 掘進工法 | AC6: 水底トンネル 沈埋工法
B7: 起点 | C7: 緯度 | D7: 341135 | F7: 変状・異常 箇所数合計 | H7: トンネル 本体工 | J7: 材質劣化 | L7: Ⅱ | M7: 100 | N7: Ⅲ | O7: 1 | P7: Ⅳ | Q7: 0 | R7: トンネル毎 の健全性 | T7: Ⅲ | V7: 附属物の 取付状態 | W7: ◯ （応急措置後） | Y7: 0 | AC7: 水底トンネル 開削工法
AC8: 水底トンネル その他
C10: 経度 | D10: 1312423
J11: 漏水 | L11: Ⅱ | M11: 4 | N11: Ⅲ | O11: 0 | P11: Ⅳ | Q11: 0
B13: 終点 | C13: 緯度 | D13: 341136.9 | W13: ✕ | Y13: 5
J15: 外力 | L15: Ⅱ | M15: 5 | N15: Ⅲ | O15: 0 | P15: Ⅳ | Q15: 0 | AC15: 0
C16: 経度 | D16: 1312342.7
B19: トンネル変状・異常箇所写真位置図
P26: 注１：本位置図は、見下げた状態で記載すること。 注２：覆工スパン番号は横断目地毎(矢板工法の場合は上半アーチ の横断目地毎)に設定すること。 注３：写真番号に付する変状番号は、各覆工スパンの変状に対して新た に確認された場合は順次追加していくこと。 注４：横断目地の変状は前の覆工スパン番号で計上すること。 注５：１枚に収まらない場合は、複数枚に分けて作成すること。
C28: ※1 トンネル本体工の変状数は、材質劣化、漏水に起因するものは変状単位で、外力に起因するものはスパン単位で計上すること。
C29: ※2 本体工の変状に対しては、健全性の判定区分Ⅱ～Ⅳについて添付すること。また、点検前に実施された措置によりⅠと判定された箇所も添付すること。
C30: ※3 附属物の取付状態の○欄については、応急措置前に判定区分×とした箇所のうち応急措置により○判定とした箇所の数を記入すること。
C31: ※4 附属物の異常番号は、本体工と番号が重複しないよう101番以降とする等の配慮を行い、分かりやすく記録すること。

Sheet 様式B(トンネル様式1P001) (4)
B2: ■定期点検記録様式 トンネル変状・異常箇所写真位置図 | T2: トンネルID | AA2: Ⅰ | AB2: あり | AC2: 陸上トンネル 掘進工法
B3: フリガナ | D3: ='様式A-1'!D3:G3 -> ホウベンザントンネル | H3: 路線名 | J3: ='様式A-1'!J3 -> 国道435号 | N3: 管理者名 | P3: ='様式A-1'!R3 -> 防府土木建設事務所山口支所 | T3: 緊急輸送道路 | V3: あり | AA3: Ⅱ | AB3: なし | AC3: 陸上トンネル 開削工法
B4: 名 称 | D4: ='様式A-1'!D4:G4 -> 鳳翩山トンネル | T4: 代替路の有無 | V4: あり | AA4: Ⅲ | AC4: 陸上トンネル その他
B5: 所在地 | D5: 自 | E5: ='様式A-1'!E5:G5 -> 山口県山口市吉敷 | H5: 定期点検業者 | K5: ='様式A-1'!K5:O6 -> 株式会社エイト日本技術開発 | O5: 定期点検年月日 | Q5: 44413 | T5: トンネル延長 | V5: L= | W5: 1030 | Y5: ｍ | AA5: Ⅳ | AC5: 水底トンネル 掘進工法
D6: 至 | E6: ='様式A-1'!E6:G6 -> 山口県美祢市美東町綾木 | H6: 定期点検者名 | K6: 榎田 敦之 | T6: ﾄﾝﾈﾙの分類 | V6: 陸上トンネル 掘進工法 | AC6: 水底トンネル 沈埋工法
B7: 起点 | C7: 緯度 | D7: 341135 | F7: 変状・異常 箇所数合計 | H7: トンネル 本体工 | J7: 材質劣化 | L7: Ⅱ | M7: 100 | N7: Ⅲ | O7: 1 | P7: Ⅳ | Q7: 0 | R7: トンネル毎 の健全性 | T7: Ⅲ | V7: 附属物の 取付状態 | W7: ◯ （応急措置後） | Y7: 0 | AC7: 水底トンネル 開削工法
AC8: 水底トンネル その他
C10: 経度 | D10: 1312423
J11: 漏水 | L11: Ⅱ | M11: 4 | N11: Ⅲ | O11: 0 | P11: Ⅳ | Q11: 0
B13: 終点 | C13: 緯度 | D13: 341136.9 | W13: ✕ | Y13: 5
J15: 外力 | L15: Ⅱ | M15: 5 | N15: Ⅲ | O15: 0 | P15: Ⅳ | Q15: 0 | AC15: 0
C16: 経度 | D16: 1312342.7
B19: トンネル変状・異常箇所写真位置図
P26: 注１：本位置図は、見下げた状態で記載すること。 注２：覆工スパン番号は横断目地毎(矢板工法の場合は上半アーチ の横断目地毎)に設定すること。 注３：写真番号に付する変状番号は、各覆工スパンの変状に対して新た に確認された場合は順次追加していくこと。 注４：横断目地の変状は前の覆工スパン番号で計上すること。 注５：１枚に収まらない場合は、複数枚に分けて作成すること。
C28: ※1 トンネル本体工の変状数は、材質劣化、漏水に起因するものは変状単位で、外力に起因するものはスパン単位で計上すること。
C29: ※2 本体工の変状に対しては、健全性の判定区分Ⅱ～Ⅳについて添付すること。また、点検前に実施された措置によりⅠと判定された箇所も添付すること。
C30: ※3 附属物の取付状態の○欄については、応急措置前に判定区分×とした箇所のうち応急措置により○判定とした箇所の数を記入すること。
C31: ※4 附属物の異常番号は、本体工と番号が重複しないよう101番以降とする等の配慮を行い、分かりやすく記録すること。

Sheet 様式B(トンネル様式1P001) (5)
B2: ■定期点検記録様式 トンネル変状・異常箇所写真位置図 | T2: トンネルID | AA2: Ⅰ | AB2: あり | AC2: 陸上トンネル 掘進工法
B3: フリガナ | D3: ='様式A-1'!D3:G3 -> ホウベンザントンネル | H3: 路線名 | J3: ='様式A-1'!J3 -> 国道435号 | N3: 管理者名 | P3: ='様式A-1'!R3 -> 防府土木建設事務所山口支所 | T3: 緊急輸送道路 | V3: あり | AA3: Ⅱ | AB3: なし | AC3: 陸上トンネル 開削工法
B4: 名 称 | D4: ='様式A-1'!D4:G4 -> 鳳翩山トンネル | T4: 代替路の有無 | V4: あり | AA4: Ⅲ | AC4: 陸上トンネル その他
B5: 所在地 | D5: 自 | E5: ='様式A-1'!E5:G5 -> 山口県山口市吉敷 | H5: 定期点検業者 | K5: ='様式A-1'!K5:O6 -> 株式会社エイト日本技術開発 | O5: 定期点検年月日 | Q5: 44413 | T5: トンネル延長 | V5: L= | W5: 1030 | Y5: ｍ | AA5: Ⅳ | AC5: 水底トンネル 掘進工法
D6: 至 | E6: ='様式A-1'!E6:G6 -> 山口県美祢市美東町綾木 | H6: 定期点検者名 | K6: 榎田 敦之 | T6: ﾄﾝﾈﾙの分類 | V6: 陸上トンネル 掘進工法 | AC6: 水底トンネル 沈埋工法
B7: 起点 | C7: 緯度 | D7: 341135 | F7: 変状・異常 箇所数合計 | H7: トンネル 本体工 | J7: 材質劣化 | L7: Ⅱ | M7: 100 | N7: Ⅲ | O7: 1 | P7: Ⅳ | Q7: 0 | R7: トンネル毎 の健全性 | T7: Ⅲ | V7: 附属物の 取付状態 | W7: ◯ （応急措置後） | Y7: 0 | AC7: 水底トンネル 開削工法
AC8: 水底トンネル その他
C10: 経度 | D10: 1312423
J11: 漏水 | L11: Ⅱ | M11: 4 | N11: Ⅲ | O11: 0 | P11: Ⅳ | Q11: 0
B13: 終点 | C13: 緯度 | D13: 341136.9 | W13: ✕ | Y13: 5
J15: 外力 | L15: Ⅱ | M15: 5 | N15: Ⅲ | O15: 0 | P15: Ⅳ | Q15: 0 | AC15: 0
C16: 経度 | D16: 1312342.7
B19: トンネル変状・異常箇所写真位置図
P26: 注１：本位置図は、見下げた状態で記載すること。 注２：覆工スパン番号は横断目地毎(矢板工法の場合は上半アーチ の横断目地毎)に設定すること。 注３：写真番号に付する変状番号は、各覆工スパンの変状に対して新た に確認された場合は順次追加していくこと。 注４：横断目地の変状は前の覆工スパン番号で計上すること。 注５：１枚に収まらない場合は、複数枚に分けて作成すること。
C28: ※1 トンネル本体工の変状数は、材質劣化、漏水に起因するものは変状単位で、外力に起因するものはスパン単位で計上すること。
C29: ※2 本体工の変状に対しては、健全性の判定区分Ⅱ～Ⅳについて添付すること。また、点検前に実施された措置によりⅠと判定された箇所も添付すること。
C30: ※3 附属物の取付状態の○欄については、応急措置前に判定区分×とした箇所のうち応急措置により○判定とした箇所の数を記入すること。
C31: ※4 附属物の異常番号は、本体工と番号が重複しないよう101番以降とする等の配慮を行い、分かりやすく記録すること。

Sheet 様式B(トンネル様式1P001) (6)
B2: ■定期点検記録様式 トンネル変状・異常箇所写真位置図 | T2: トンネルID | AA2: Ⅰ | AB2: あり | AC2: 陸上トンネル 掘進工法
B3: フリガナ | D3: ='様式A-1'!D3:G3 -> ホウベンザントンネル | H3: 路線名 | J3: ='様式A-1'!J3 -> 国道435号 | N3: 管理者名 | P3: ='様式A-1'!R3 -> 防府土木建設事務所山口支所 | T3: 緊急輸送道路 | V3: あり | AA3: Ⅱ | AB3: なし | AC3: 陸上トンネル 開削工法
B4: 名 称 | D4: ='様式A-1'!D4:G4 -> 鳳翩山トンネル | T4: 代替路の有無 | V4: あり | AA4: Ⅲ | AC4: 陸上トンネル その他
B5: 所在地 | D5: 自 | E5: ='様式A-1'!E5:G5 -> 山口県山口市吉敷 | H5: 定期点検業者 | K5: ='様式A-1'!K5:O6 -> 株式会社エイト日本技術開発 | O5: 定期点検年月日 | Q5: 44413 | T5: トンネル延長 | V5: L= | W5: 1030 | Y5: ｍ | AA5: Ⅳ | AC5: 水底トンネル 掘進工法
D6: 至 | E6: ='様式A-1'!E6:G6 -> 山口県美祢市美東町綾木 | H6: 定期点検者名 | K6: 榎田 敦之 | T6: ﾄﾝﾈﾙの分類 | V6: 陸上トンネル 掘進工法 | AC6: 水底トンネル 沈埋工法
B7: 起点 | C7: 緯度 | D7: 341135 | F7: 変状・異常 箇所数合計 | H7: トンネル 本体工 | J7: 材質劣化 | L7: Ⅱ | M7: 100 | N7: Ⅲ | O7: 1 | P7: Ⅳ | Q7: 0 | R7: トンネル毎 の健全性 | T7: Ⅲ | V7: 附属物の 取付状態 | W7: ◯ （応急措置後） | Y7: 0 | AC7: 水底トンネル 開削工法
AC8: 水底トンネル その他
C10: 経度 | D10: 1312423
J11: 漏水 | L11: Ⅱ | M11: 4 | N11: Ⅲ | O11: 0 | P11: Ⅳ | Q11: 0
B13: 終点 | C13: 緯度 | D13: 341136.9 | W13: ✕ | Y13: 5
J15: 外力 | L15: Ⅱ | M15: 5 | N15: Ⅲ | O15: 0 | P15: Ⅳ | Q15: 0 | AC15: 0
C16: 経度 | D16: 1312342.7
B19: トンネル変状・異常箇所写真位置図
P26: 注１：本位置図は、見下げた状態で記載すること。 注２：覆工スパン番号は横断目地毎(矢板工法の場合は上半アーチ の横断目地毎)に設定すること。 注３：写真番号に付する変状番号は、各覆工スパンの変状に対して新た に確認された場合は順次追加していくこと。 注４：横断目地の変状は前の覆工スパン番号で計上すること。 注５：１枚に収まらない場合は、複数枚に分けて作成すること。
C28: ※1 トンネル本体工の変状数は、材質劣化、漏水に起因するものは変状単位で、外力に起因するものはスパン単位で計上すること。
C29: ※2 本体工の変状に対しては、健全性の判定区分Ⅱ～Ⅳについて添付すること。また、点検前に実施された措置によりⅠと判定された箇所も添付すること。
C30: ※3 附属物の取付状態の○欄については、応急措置前に判定区分×とした箇所のうち応急措置により○判定とした箇所の数を記入すること。
C31: ※4 附属物の異常番号は、本体工と番号が重複しないよう101番以降とする等の配慮を行い、分かりやすく記録すること。

Sheet 様式B(トンネル様式1P001) (7)
B2: ■定期点検記録様式 トンネル変状・異常箇所写真位置図 | T2: トンネルID | AA2: Ⅰ | AB2: あり | AC2: 陸上トンネル 掘進工法
B3: フリガナ | D3: ='様式A-1'!D3:G3 -> ホウベンザントンネル | H3: 路線名 | J3: ='様式A-1'!J3 -> 国道435号 | N3: 管理者名 | P3: ='様式A-1'!R3 -> 防府土木建設事務所山口支所 | T3: 緊急輸送道路 | V3: あり | AA3: Ⅱ | AB3: なし | AC3: 陸上トンネル 開削工法
B4: 名 称 | D4: ='様式A-1'!D4:G4 -> 鳳翩山トンネル | T4: 代替路の有無 | V4: あり | AA4: Ⅲ | AC4: 陸上トンネル その他
B5: 所在地 | D5: 自 | E5: ='様式A-1'!E5:G5 -> 山口県山口市吉敷 | H5: 定期点検業者 | K5: ='様式A-1'!K5:O6 -> 株式会社エイト日本技術開発 | O5: 定期点検年月日 | Q5: 44413 | T5: トンネル延長 | V5: L= | W5: 1030 | Y5: ｍ | AA5: Ⅳ | AC5: 水底トンネル 掘進工法
D6: 至 | E6: ='様式A-1'!E6:G6 -> 山口県美祢市美東町綾木 | H6: 定期点検者名 | K6: 榎田 敦之 | T6: ﾄﾝﾈﾙの分類 | V6: 陸上トンネル 掘進工法 | AC6: 水底トンネル 沈埋工法
B7: 起点 | C7: 緯度 | D7: 341135 | F7: 変状・異常 箇所数合計 | H7: トンネル 本体工 | J7: 材質劣化 | L7: Ⅱ | M7: 100 | N7: Ⅲ | O7: 1 | P7: Ⅳ | Q7: 0 | R7: トンネル毎 の健全性 | T7: Ⅲ | V7: 附属物の 取付状態 | W7: ◯ （応急措置後） | Y7: 0 | AC7: 水底トンネル 開削工法
AC8: 水底トンネル その他
C10: 経度 | D10: 1312423
J11: 漏水 | L11: Ⅱ | M11: 4 | N11: Ⅲ | O11: 0 | P11: Ⅳ | Q11: 0
B13: 終点 | C13: 緯度 | D13: 341136.9 | W13: ✕ | Y13: 5
J15: 外力 | L15: Ⅱ | M15: 5 | N15: Ⅲ | O15: 0 | P15: Ⅳ | Q15: 0 | AC15: 0
C16: 経度 | D16: 1312342.7
B19: トンネル変状・異常箇所写真位置図
P26: 注１：本位置図は、見下げた状態で記載すること。 注２：覆工スパン番号は横断目地毎(矢板工法の場合は上半アーチ の横断目地毎)に設定すること。 注３：写真番号に付する変状番号は、各覆工スパンの変状に対して新た に確認された場合は順次追加していくこと。 注４：横断目地の変状は前の覆工スパン番号で計上すること。 注５：１枚に収まらない場合は、複数枚に分けて作成すること。
C28: ※1 トンネル本体工の変状数は、材質劣化、漏水に起因するものは変状単位で、外力に起因するものはスパン単位で計上すること。
C29: ※2 本体工の変状に対しては、健全性の判定区分Ⅱ～Ⅳについて添付すること。また、点検前に実施された措置によりⅠと判定された箇所も添付すること。
C30: ※3 附属物の取付状態の○欄については、応急措置前に判定区分×とした箇所のうち応急措置により○判定とした箇所の数を記入すること。
C31: ※4 附属物の異常番号は、本体工と番号が重複しないよう101番以降とする等の配慮を行い、分かりやすく記録すること。

Sheet 様式B(トンネル様式1P001) (8)
B2: ■定期点検記録様式 トンネル変状・異常箇所写真位置図 | T2: トンネルID | AA2: Ⅰ | AB2: あり | AC2: 陸上トンネル 掘進工法
B3: フリガナ | D3: ='様式A-1'!D3:G3 -> ホウベンザントンネル | H3: 路線名 | J3: ='様式A-1'!J3 -> 国道435号 | N3: 管理者名 | P3: ='様式A-1'!R3 -> 防府土木建設事務所山口支所 | T3: 緊急輸送道路 | V3: あり | AA3: Ⅱ | AB3: なし | AC3: 陸上トンネル 開削工法
B4: 名 称 | D4: ='様式A-1'!D4:G4 -> 鳳翩山トンネル | T4: 代替路の有無 | V4: あり | AA4: Ⅲ | AC4: 陸上トンネル その他
B5: 所在地 | D5: 自 | E5: ='様式A-1'!E5:G5 -> 山口県山口市吉敷 | H5: 定期点検業者 | K5: ='様式A-1'!K5:O6 -> 株式会社エイト日本技術開発 | O5: 定期点検年月日 | Q5: 44413 | T5: トンネル延長 | V5: L= | W5: 1030 | Y5: ｍ | AA5: Ⅳ | AC5: 水底トンネル 掘進工法
D6: 至 | E6: ='様式A-1'!E6:G6 -> 山口県美祢市美東町綾木 | H6: 定期点検者名 | K6: 榎田 敦之 | T6: ﾄﾝﾈﾙの分類 | V6: 陸上トンネル 掘進工法 | AC6: 水底トンネル 沈埋工法
B7: 起点 | C7: 緯度 | D7: 341135 | F7: 変状・異常 箇所数合計 | H7: トンネル 本体工 | J7: 材質劣化 | L7: Ⅱ | M7: 100 | N7: Ⅲ | O7: 1 | P7: Ⅳ | Q7: 0 | R7: トンネル毎 の健全性 | T7: Ⅲ | V7: 附属物の 取付状態 | W7: ◯ （応急措置後） | Y7: 0 | AC7: 水底トンネル 開削工法
AC8: 水底トンネル その他
C10: 経度 | D10: 1312423
J11: 漏水 | L11: Ⅱ | M11: 4 | N11: Ⅲ | O11: 0 | P11: Ⅳ | Q11: 0
B13: 終点 | C13: 緯度 | D13: 341136.9 | W13: ✕ | Y13: 5
J15: 外力 | L15: Ⅱ | M15: 5 | N15: Ⅲ | O15: 0 | P15: Ⅳ | Q15: 0 | AC15: 0
C16: 経度 | D16: 1312342.7
B19: トンネル変状・異常箇所写真位置図
P26: 注１：本位置図は、見下げた状態で記載すること。 注２：覆工スパン番号は横断目地毎(矢板工法の場合は上半アーチ の横断目地毎)に設定すること。 注３：写真番号に付する変状番号は、各覆工スパンの変状に対して新た に確認された場合は順次追加していくこと。 注４：横断目地の変状は前の覆工スパン番号で計上すること。 注５：１枚に収まらない場合は、複数枚に分けて作成すること。
C28: ※1 トンネル本体工の変状数は、材質劣化、漏水に起因するものは変状単位で、外力に起因するものはスパン単位で計上すること。
C29: ※2 本体工の変状に対しては、健全性の判定区分Ⅱ～Ⅳについて添付すること。また、点検前に実施された措置によりⅠと判定された箇所も添付すること。
C30: ※3 附属物の取付状態の○欄については、応急措置前に判定区分×とした箇所のうち応急措置により○判定とした箇所の数を記入すること。
C31: ※4 附属物の異常番号は、本体工と番号が重複しないよう101番以降とする等の配慮を行い、分かりやすく記録すること。

Sheet 様式B(トンネル様式1P001) (9)
B2: ■定期点検記録様式 トンネル変状・異常箇所写真位置図 | T2: トンネルID | AA2: Ⅰ | AB2: あり | AC2: 陸上トンネル 掘進工法
B3: フリガナ | D3: ='様式A-1'!D3:G3 -> ホウベンザントンネル | H3: 路線名 | J3: ='様式A-1'!J3 -> 国道435号 | N3: 管理者名 | P3: ='様式A-1'!R3 -> 防府土木建設事務所山口支所 | T3: 緊急輸送道路 | V3: あり | AA3: Ⅱ | AB3: なし | AC3: 陸上トンネル 開削工法
B4: 名 称 | D4: ='様式A-1'!D4:G4 -> 鳳翩山トンネル | T4: 代替路の有無 | V4: あり | AA4: Ⅲ | AC4: 陸上トンネル その他
B5: 所在地 | D5: 自 | E5: ='様式A-1'!E5:G5 -> 山口県山口市吉敷 | H5: 定期点検業者 | K5: ='様式A-1'!K5:O6 -> 株式会社エイト日本技術開発 | O5: 定期点検年月日 | Q5: 44413 | T5: トンネル延長 | V5: L= | W5: 1030 | Y5: ｍ | AA5: Ⅳ | AC5: 水底トンネル 掘進工法
D6: 至 | E6: ='様式A-1'!E6:G6 -> 山口県美祢市美東町綾木 | H6: 定期点検者名 | K6: 榎田 敦之 | T6: ﾄﾝﾈﾙの分類 | V6: 陸上トンネル 掘進工法 | AC6: 水底トンネル 沈埋工法
B7: 起点 | C7: 緯度 | D7: 341135 | F7: 変状・異常 箇所数合計 | H7: トンネル 本体工 | J7: 材質劣化 | L7: Ⅱ | M7: 100 | N7: Ⅲ | O7: 1 | P7: Ⅳ | Q7: 0 | R7: トンネル毎 の健全性 | T7: Ⅲ | V7: 附属物の 取付状態 | W7: ◯ （応急措置後） | Y7: 0 | AC7: 水底トンネル 開削工法
AC8: 水底トンネル その他
C10: 経度 | D10: 1312423
J11: 漏水 | L11: Ⅱ | M11: 4 | N11: Ⅲ | O11: 0 | P11: Ⅳ | Q11: 0
B13: 終点 | C13: 緯度 | D13: 341136.9 | W13: ✕ | Y13: 5
J15: 外力 | L15: Ⅱ | M15: 5 | N15: Ⅲ | O15: 0 | P15: Ⅳ | Q15: 0 | AC15: 0
C16: 経度 | D16: 1312342.7
B19: トンネル変状・異常箇所写真位置図
P26: 注１：本位置図は、見下げた状態で記載すること。 注２：覆工スパン番号は横断目地毎(矢板工法の場合は上半アーチ の横断目地毎)に設定すること。 注３：写真番号に付する変状番号は、各覆工スパンの変状に対して新た に確認された場合は順次追加していくこと。 注４：横断目地の変状は前の覆工スパン番号で計上すること。 注５：１枚に収まらない場合は、複数枚に分けて作成すること。
C28: ※1 トンネル本体工の変状数は、材質劣化、漏水に起因するものは変状単位で、外力に起因するものはスパン単位で計上すること。
C29: ※2 本体工の変状に対しては、健全性の判定区分Ⅱ～Ⅳについて添付すること。また、点検前に実施された措置によりⅠと判定された箇所も添付すること。
C30: ※3 附属物の取付状態の○欄については、応急措置前に判定区分×とした箇所のうち応急措置により○判定とした箇所の数を記入すること。
C31: ※4 附属物の異常番号は、本体工と番号が重複しないよう101番以降とする等の配慮を行い、分かりやすく記録すること。

Sheet 様式B(トンネル様式1P001) (10)
B2: ■定期点検記録様式 トンネル変状・異常箇所写真位置図 | T2: トンネルID | AA2: Ⅰ | AB2: あり | AC2: 陸上トンネル 掘進工法
B3: フリガナ | D3: ='様式A-1'!D3:G3 -> ホウベンザントンネル | H3: 路線名 | J3: ='様式A-1'!J3 -> 国道435号 | N3: 管理者名 | P3: ='様式A-1'!R3 -> 防府土木建設事務所山口支所 | T3: 緊急輸送道路 | V3: あり | AA3: Ⅱ | AB3: なし | AC3: 陸上トンネル 開削工法
B4: 名 称 | D4: ='様式A-1'!D4:G4 -> 鳳翩山トンネル | T4: 代替路の有無 | V4: あり | AA4: Ⅲ | AC4: 陸上トンネル その他
B5: 所在地 | D5: 自 | E5: ='様式A-1'!E5:G5 -> 山口県山口市吉敷 | H5: 定期点検業者 | K5: ='様式A-1'!K5:O6 -> 株式会社エイト日本技術開発 | O5: 定期点検年月日 | Q5: 44413 | T5: トンネル延長 | V5: L= | W5: 1030 | Y5: ｍ | AA5: Ⅳ | AC5: 水底トンネル 掘進工法
D6: 至 | E6: ='様式A-1'!E6:G6 -> 山口県美祢市美東町綾木 | H6: 定期点検者名 | K6: 榎田 敦之 | T6: ﾄﾝﾈﾙの分類 | V6: 陸上トンネル 掘進工法 | AC6: 水底トンネル 沈埋工法
B7: 起点 | C7: 緯度 | D7: 341135 | F7: 変状・異常 箇所数合計 | H7: トンネル 本体工 | J7: 材質劣化 | L7: Ⅱ | M7: 100 | N7: Ⅲ | O7: 1 | P7: Ⅳ | Q7: 0 | R7: トンネル毎 の健全性 | T7: Ⅲ | V7: 附属物の 取付状態 | W7: ◯ （応急措置後） | Y7: 0 | AC7: 水底トンネル 開削工法
AC8: 水底トンネル その他
C10: 経度 | D10: 1312423
J11: 漏水 | L11: Ⅱ | M11: 4 | N11: Ⅲ | O11: 0 | P11: Ⅳ | Q11: 0
B13: 終点 | C13: 緯度 | D13: 341136.9 | W13: ✕ | Y13: 5
J15: 外力 | L15: Ⅱ | M15: 5 | N15: Ⅲ | O15: 0 | P15: Ⅳ | Q15: 0 | AC15: 0
C16: 経度 | D16: 1312342.7
B19: トンネル変状・異常箇所写真位置図
P26: 注１：本位置図は、見下げた状態で記載すること。 注２：覆工スパン番号は横断目地毎(矢板工法の場合は上半アーチ の横断目地毎)に設定すること。 注３：写真番号に付する変状番号は、各覆工スパンの変状に対して新た に確認された場合は順次追加していくこと。 注４：横断目地の変状は前の覆工スパン番号で計上すること。 注５：１枚に収まらない場合は、複数枚に分けて作成すること。
C28: ※1 トンネル本体工の変状数は、材質劣化、漏水に起因するものは変状単位で、外力に起因するものはスパン単位で計上すること。
C29: ※2 本体工の変状に対しては、健全性の判定区分Ⅱ～Ⅳについて添付すること。また、点検前に実施された措置によりⅠと判定された箇所も添付すること。
C30: ※3 附属物の取付状態の○欄については、応急措置前に判定区分×とした箇所のうち応急措置により○判定とした箇所の数を記入すること。
C31: ※4 附属物の異常番号は、本体工と番号が重複しないよう101番以降とする等の配慮を行い、分かりやすく記録すること。

Sheet 様式B(トンネル様式1P001) (11)
B2: ■定期点検記録様式 トンネル変状・異常箇所写真位置図 | T2: トンネルID | AA2: Ⅰ | AB2: あり | AC2: 陸上トンネル 掘進工法
B3: フリガナ | D3: ='様式A-1'!D3:G3 -> ホウベンザントンネル | H3: 路線名 | J3: ='様式A-1'!J3 -> 国道435号 | N3: 管理者名 | P3: ='様式A-1'!R3 -> 防府土木建設事務所山口支所 | T3: 緊急輸送道路 | V3: あり | AA3: Ⅱ | AB3: なし | AC3: 陸上トンネル 開削工法
B4: 名 称 | D4: ='様式A-1'!D4:G4 -> 鳳翩山トンネル | T4: 代替路の有無 | V4: あり | AA4: Ⅲ | AC4: 陸上トンネル その他
B5: 所在地 | D5: 自 | E5: ='様式A-1'!E5:G5 -> 山口県山口市吉敷 | H5: 定期点検業者 | K5: ='様式A-1'!K5:O6 -> 株式会社エイト日本技術開発 | O5: 定期点検年月日 | Q5: 44413 | T5: トンネル延長 | V5: L= | W5: 1030 | Y5: ｍ | AA5: Ⅳ | AC5: 水底トンネル 掘進工法
D6: 至 | E6: ='様式A-1'!E6:G6 -> 山口県美祢市美東町綾木 | H6: 定期点検者名 | K6: 榎田 敦之 | T6: ﾄﾝﾈﾙの分類 | V6: 陸上トンネル 掘進工法 | AC6: 水底トンネル 沈埋工法
B7: 起点 | C7: 緯度 | D7: 341135 | F7: 変状・異常 箇所数合計 | H7: トンネル 本体工 | J7: 材質劣化 | L7: Ⅱ | M7: 100 | N7: Ⅲ | O7: 1 | P7: Ⅳ | Q7: 0 | R7: トンネル毎 の健全性 | T7: Ⅲ | V7: 附属物の 取付状態 | W7: ◯ （応急措置後） | Y7: 0 | AC7: 水底トンネル 開削工法
AC8: 水底トンネル その他
C10: 経度 | D10: 1312423
J11: 漏水 | L11: Ⅱ | M11: 4 | N11: Ⅲ | O11: 0 | P11: Ⅳ | Q11: 0
B13: 終点 | C13: 緯度 | D13: 341136.9 | W13: ✕ | Y13: 5
J15: 外力 | L15: Ⅱ | M15: 5 | N15: Ⅲ | O15: 0 | P15: Ⅳ | Q15: 0 | AC15: 0
C16: 経度 | D16: 1312342.7
B19: トンネル変状・異常箇所写真位置図
P26: 注１：本位置図は、見下げた状態で記載すること。 注２：覆工スパン番号は横断目地毎(矢板工法の場合は上半アーチ の横断目地毎)に設定すること。 注３：写真番号に付する変状番号は、各覆工スパンの変状に対して新た に確認された場合は順次追加していくこと。 注４：横断目地の変状は前の覆工スパン番号で計上すること。 注５：１枚に収まらない場合は、複数枚に分けて作成すること。
C28: ※1 トンネル本体工の変状数は、材質劣化、漏水に起因するものは変状単位で、外力に起因するものはスパン単位で計上すること。
C29: ※2 本体工の変状に対しては、健全性の判定区分Ⅱ～Ⅳについて添付すること。また、点検前に実施された措置によりⅠと判定された箇所も添付すること。
C30: ※3 附属物の取付状態の○欄については、応急措置前に判定区分×とした箇所のうち応急措置により○判定とした箇所の数を記入すること。
C31: ※4 附属物の異常番号は、本体工と番号が重複しないよう101番以降とする等の配慮を行い、分かりやすく記録すること。

Sheet 様式B(トンネル様式1P001) (12)
B2: ■定期点検記録様式 トンネル変状・異常箇所写真位置図 | T2: トンネルID | AA2: Ⅰ | AB2: あり | AC2: 陸上トンネル 掘進工法
B3: フリガナ | D3: ='様式A-1'!D3:G3 -> ホウベンザントンネル | H3: 路線名 | J3: ='様式A-1'!J3 -> 国道435号 | N3: 管理者名 | P3: ='様式A-1'!R3 -> 防府土木建設事務所山口支所 | T3: 緊急輸送道路 | V3: あり | AA3: Ⅱ | AB3: なし | AC3: 陸上トンネル 開削工法
B4: 名 称 | D4: ='様式A-1'!D4:G4 -> 鳳翩山トンネル | T4: 代替路の有無 | V4: あり | AA4: Ⅲ | AC4: 陸上トンネル その他
B5: 所在地 | D5: 自 | E5: ='様式A-1'!E5:G5 -> 山口県山口市吉敷 | H5: 定期点検業者 | K5: ='様式A-1'!K5:O6 -> 株式会社エイト日本技術開発 | O5: 定期点検年月日 | Q5: 44413 | T5: トンネル延長 | V5: L= | W5: 1030 | Y5: ｍ | AA5: Ⅳ | AC5: 水底トンネル 掘進工法
D6: 至 | E6: ='様式A-1'!E6:G6 -> 山口県美祢市美東町綾木 | H6: 定期点検者名 | K6: 榎田 敦之 | T6: ﾄﾝﾈﾙの分類 | V6: 陸上トンネル 掘進工法 | AC6: 水底トンネル 沈埋工法
B7: 起点 | C7: 緯度 | D7: 341135 | F7: 変状・異常 箇所数合計 | H7: トンネル 本体工 | J7: 材質劣化 | L7: Ⅱ | M7: 100 | N7: Ⅲ | O7: 1 | P7: Ⅳ | Q7: 0 | R7: トンネル毎 の健全性 | T7: Ⅲ | V7: 附属物の 取付状態 | W7: ◯ （応急措置後） | Y7: 0 | AC7: 水底トンネル 開削工法
AC8: 水底トンネル その他
C10: 経度 | D10: 1312423
J11: 漏水 | L11: Ⅱ | M11: 4 | N11: Ⅲ | O11: 0 | P11: Ⅳ | Q11: 0
B13: 終点 | C13: 緯度 | D13: 341136.9 | W13: ✕ | Y13: 5
J15: 外力 | L15: Ⅱ | M15: 5 | N15: Ⅲ | O15: 0 | P15: Ⅳ | Q15: 0 | AC15: 0
C16: 経度 | D16: 1312342.7
B19: トンネル変状・異常箇所写真位置図
P26: 注１：本位置図は、見下げた状態で記載すること。 注２：覆工スパン番号は横断目地毎(矢板工法の場合は上半アーチ の横断目地毎)に設定すること。 注３：写真番号に付する変状番号は、各覆工スパンの変状に対して新た に確認された場合は順次追加していくこと。 注４：横断目地の変状は前の覆工スパン番号で計上すること。 注５：１枚に収まらない場合は、複数枚に分けて作成すること。
C28: ※1 トンネル本体工の変状数は、材質劣化、漏水に起因するものは変状単位で、外力に起因するものはスパン単位で計上すること。
C29: ※2 本体工の変状に対しては、健全性の判定区分Ⅱ～Ⅳについて添付すること。また、点検前に実施された措置によりⅠと判定された箇所も添付すること。
C30: ※3 附属物の取付状態の○欄については、応急措置前に判定区分×とした箇所のうち応急措置により○判定とした箇所の数を記入すること。
C31: ※4 附属物の異常番号は、本体工と番号が重複しないよう101番以降とする等の配慮を行い、分かりやすく記録すること。

Sheet 様式B(トンネル様式1P001) (13)
B2: ■定期点検記録様式 トンネル変状・異常箇所写真位置図 | T2: トンネルID | AA2: Ⅰ | AB2: あり | AC2: 陸上トンネル 掘進工法
B3: フリガナ | D3: ='様式A-1'!D3:G3 -> ホウベンザントンネル | H3: 路線名 | J3: ='様式A-1'!J3 -> 国道435号 | N3: 管理者名 | P3: ='様式A-1'!R3 -> 防府土木建設事務所山口支所 | T3: 緊急輸送道路 | V3: あり | AA3: Ⅱ | AB3: なし | AC3: 陸上トンネル 開削工法
B4: 名 称 | D4: ='様式A-1'!D4:G4 -> 鳳翩山トンネル | T4: 代替路の有無 | V4: あり | AA4: Ⅲ | AC4: 陸上トンネル その他
B5: 所在地 | D5: 自 | E5: ='様式A-1'!E5:G5 -> 山口県山口市吉敷 | H5: 定期点検業者 | K5: ='様式A-1'!K5:O6 -> 株式会社エイト日本技術開発 | O5: 定期点検年月日 | Q5: 44413 | T5: トンネル延長 | V5: L= | W5: 1030 | Y5: ｍ | AA5: Ⅳ | AC5: 水底トンネル 掘進工法
D6: 至 | E6: ='様式A-1'!E6:G6 -> 山口県美祢市美東町綾木 | H6: 定期点検者名 | K6: 榎田 敦之 | T6: ﾄﾝﾈﾙの分類 | V6: 陸上トンネル 掘進工法 | AC6: 水底トンネル 沈埋工法
B7: 起点 | C7: 緯度 | D7: 341135 | F7: 変状・異常 箇所数合計 | H7: トンネル 本体工 | J7: 材質劣化 | L7: Ⅱ | M7: 100 | N7: Ⅲ | O7: 1 | P7: Ⅳ | Q7: 0 | R7: トンネル毎 の健全性 | T7: Ⅲ | V7: 附属物の 取付状態 | W7: ◯ （応急措置後） | Y7: 0 | AC7: 水底トンネル 開削工法
AC8: 水底トンネル その他
C10: 経度 | D10: 1312423
J11: 漏水 | L11: Ⅱ | M11: 4 | N11: Ⅲ | O11: 0 | P11: Ⅳ | Q11: 0
B13: 終点 | C13: 緯度 | D13: 341136.9 | W13: ✕ | Y13: 5
J15: 外力 | L15: Ⅱ | M15: 5 | N15: Ⅲ | O15: 0 | P15: Ⅳ | Q15: 0 | AC15: 0
C16: 経度 | D16: 1312342.7
B19: トンネル変状・異常箇所写真位置図
P26: 注１：本位置図は、見下げた状態で記載すること。 注２：覆工スパン番号は横断目地毎(矢板工法の場合は上半アーチ の横断目地毎)に設定すること。 注３：写真番号に付する変状番号は、各覆工スパンの変状に対して新た に確認された場合は順次追加していくこと。 注４：横断目地の変状は前の覆工スパン番号で計上すること。 注５：１枚に収まらない場合は、複数枚に分けて作成すること。
C28: ※1 トンネル本体工の変状数は、材質劣化、漏水に起因するものは変状単位で、外力に起因するものはスパン単位で計上すること。
C29: ※2 本体工の変状に対しては、健全性の判定区分Ⅱ～Ⅳについて添付すること。また、点検前に実施された措置によりⅠと判定された箇所も添付すること。
C30: ※3 附属物の取付状態の○欄については、応急措置前に判定区分×とした箇所のうち応急措置により○判定とした箇所の数を記入すること。
C31: ※4 附属物の異常番号は、本体工と番号が重複しないよう101番以降とする等の配慮を行い、分かりやすく記録すること。

Sheet 様式B(トンネル様式1P001) (14)
B2: ■定期点検記録様式 トンネル変状・異常箇所写真位置図 | T2: トンネルID | AA2: Ⅰ | AB2: あり | AC2: 陸上トンネル 掘進工法
B3: フリガナ | D3: ='様式A-1'!D3:G3 -> ホウベンザントンネル | H3: 路線名 | J3: ='様式A-1'!J3 -> 国道435号 | N3: 管理者名 | P3: ='様式A-1'!R3 -> 防府土木建設事務所山口支所 | T3: 緊急輸送道路 | V3: あり | AA3: Ⅱ | AB3: なし | AC3: 陸上トンネル 開削工法
B4: 名 称 | D4: ='様式A-1'!D4:G4 -> 鳳翩山トンネル | T4: 代替路の有無 | V4: あり | AA4: Ⅲ | AC4: 陸上トンネル その他
B5: 所在地 | D5: 自 | E5: ='様式A-1'!E5:G5 -> 山口県山口市吉敷 | H5: 定期点検業者 | K5: ='様式A-1'!K5:O6 -> 株式会社エイト日本技術開発 | O5: 定期点検年月日 | Q5: 44413 | T5: トンネル延長 | V5: L= | W5: 1030 | Y5: ｍ | AA5: Ⅳ | AC5: 水底トンネル 掘進工法
D6: 至 | E6: ='様式A-1'!E6:G6 -> 山口県美祢市美東町綾木 | H6: 定期点検者名 | K6: 榎田 敦之 | T6: ﾄﾝﾈﾙの分類 | V6: 陸上トンネル 掘進工法 | AC6: 水底トンネル 沈埋工法
B7: 起点 | C7: 緯度 | D7: 341135 | F7: 変状・異常 箇所数合計 | H7: トンネル 本体工 | J7: 材質劣化 | L7: Ⅱ | M7: 100 | N7: Ⅲ | O7: 1 | P7: Ⅳ | Q7: 0 | R7: トンネル毎 の健全性 | T7: Ⅲ | V7: 附属物の 取付状態 | W7: ◯ （応急措置後） | Y7: 0 | AC7: 水底トンネル 開削工法
AC8: 水底トンネル その他
C10: 経度 | D10: 1312423
J11: 漏水 | L11: Ⅱ | M11: 4 | N11: Ⅲ | O11: 0 | P11: Ⅳ | Q11: 0
B13: 終点 | C13: 緯度 | D13: 341136.9 | W13: ✕ | Y13: 5
J15: 外力 | L15: Ⅱ | M15: 5 | N15: Ⅲ | O15: 0 | P15: Ⅳ | Q15: 0 | AC15: 0
C16: 経度 | D16: 1312342.7
B19: トンネル変状・異常箇所写真位置図
P26: 注１：本位置図は、見下げた状態で記載すること。 注２：覆工スパン番号は横断目地毎(矢板工法の場合は上半アーチ の横断目地毎)に設定すること。 注３：写真番号に付する変状番号は、各覆工スパンの変状に対して新た に確認された場合は順次追加していくこと。 注４：横断目地の変状は前の覆工スパン番号で計上すること。 注５：１枚に収まらない場合は、複数枚に分けて作成すること。
C28: ※1 トンネル本体工の変状数は、材質劣化、漏水に起因するものは変状単位で、外力に起因するものはスパン単位で計上すること。
C29: ※2 本体工の変状に対しては、健全性の判定区分Ⅱ～Ⅳについて添付すること。また、点検前に実施された措置によりⅠと判定された箇所も添付すること。
C30: ※3 附属物の取付状態の○欄については、応急措置前に判定区分×とした箇所のうち応急措置により○判定とした箇所の数を記入すること。
C31: ※4 附属物の異常番号は、本体工と番号が重複しないよう101番以降とする等の配慮を行い、分かりやすく記録すること。

Sheet 様式B(トンネル様式1P001) (15)
B2: ■定期点検記録様式 トンネル変状・異常箇所写真位置図 | T2: トンネルID | AA2: Ⅰ | AB2: あり | AC2: 陸上トンネル 掘進工法
B3: フリガナ | D3: ='様式A-1'!D3:G3 -> ホウベンザントンネル | H3: 路線名 | J3: ='様式A-1'!J3 -> 国道435号 | N3: 管理者名 | P3: ='様式A-1'!R3 -> 防府土木建設事務所山口支所 | T3: 緊急輸送道路 | V3: あり | AA3: Ⅱ | AB3: なし | AC3: 陸上トンネル 開削工法
B4: 名 称 | D4: ='様式A-1'!D4:G4 -> 鳳翩山トンネル | T4: 代替路の有無 | V4: あり | AA4: Ⅲ | AC4: 陸上トンネル その他
B5: 所在地 | D5: 自 | E5: ='様式A-1'!E5:G5 -> 山口県山口市吉敷 | H5: 定期点検業者 | K5: ='様式A-1'!K5:O6 -> 株式会社エイト日本技術開発 | O5: 定期点検年月日 | Q5: 44413 | T5: トンネル延長 | V5: L= | W5: 1030 | Y5: ｍ | AA5: Ⅳ | AC5: 水底トンネル 掘進工法
D6: 至 | E6: ='様式A-1'!E6:G6 -> 山口県美祢市美東町綾木 | H6: 定期点検者名 | K6: 榎田 敦之 | T6: ﾄﾝﾈﾙの分類 | V6: 陸上トンネル 掘進工法 | AC6: 水底トンネル 沈埋工法
B7: 起点 | C7: 緯度 | D7: 341135 | F7: 変状・異常 箇所数合計 | H7: トンネル 本体工 | J7: 材質劣化 | L7: Ⅱ | M7: 100 | N7: Ⅲ | O7: 1 | P7: Ⅳ | Q7: 0 | R7: トンネル毎 の健全性 | T7: Ⅲ | V7: 附属物の 取付状態 | W7: ◯ （応急措置後） | Y7: 0 | AC7: 水底トンネル 開削工法
AC8: 水底トンネル その他
C10: 経度 | D10: 1312423
J11: 漏水 | L11: Ⅱ | M11: 4 | N11: Ⅲ | O11: 0 | P11: Ⅳ | Q11: 0
B13: 終点 | C13: 緯度 | D13: 341136.9 | W13: ✕ | Y13: 5
J15: 外力 | L15: Ⅱ | M15: 5 | N15: Ⅲ | O15: 0 | P15: Ⅳ | Q15: 0 | AC15: 0
C16: 経度 | D16: 1312342.7
B19: トンネル変状・異常箇所写真位置図
P26: 注１：本位置図は、見下げた状態で記載すること。 注２：覆工スパン番号は横断目地毎(矢板工法の場合は上半アーチ の横断目地毎)に設定すること。 注３：写真番号に付する変状番号は、各覆工スパンの変状に対して新た に確認された場合は順次追加していくこと。 注４：横断目地の変状は前の覆工スパン番号で計上すること。 注５：１枚に収まらない場合は、複数枚に分けて作成すること。
C28: ※1 トンネル本体工の変状数は、材質劣化、漏水に起因するものは変状単位で、外力に起因するものはスパン単位で計上すること。
C29: ※2 本体工の変状に対しては、健全性の判定区分Ⅱ～Ⅳについて添付すること。また、点検前に実施された措置によりⅠと判定された箇所も添付すること。
C30: ※3 附属物の取付状態の○欄については、応急措置前に判定区分×とした箇所のうち応急措置により○判定とした箇所の数を記入すること。
C31: ※4 附属物の異常番号は、本体工と番号が重複しないよう101番以降とする等の配慮を行い、分かりやすく記録すること。

Sheet 様式B(トンネル様式1P001) (16)
B2: ■定期点検記録様式 トンネル変状・異常箇所写真位置図 | T2: トンネルID | AA2: Ⅰ | AB2: あり | AC2: 陸上トンネル 掘進工法
B3: フリガナ | D3: ='様式A-1'!D3:G3 -> ホウベンザントンネル | H3: 路線名 | J3: ='様式A-1'!J3 -> 国道435号 | N3: 管理者名 | P3: ='様式A-1'!R3 -> 防府土木建設事務所山口支所 | T3: 緊急輸送道路 | V3: あり | AA3: Ⅱ | AB3: なし | AC3: 陸上トンネル 開削工法
B4: 名 称 | D4: ='様式A-1'!D4:G4 -> 鳳翩山トンネル | T4: 代替路の有無 | V4: あり | AA4: Ⅲ | AC4: 陸上トンネル その他
B5: 所在地 | D5: 自 | E5: ='様式A-1'!E5:G5 -> 山口県山口市吉敷 | H5: 定期点検業者 | K5: ='様式A-1'!K5:O6 -> 株式会社エイト日本技術開発 | O5: 定期点検年月日 | Q5: 44413 | T5: トンネル延長 | V5: L= | W5: 1030 | Y5: ｍ | AA5: Ⅳ | AC5: 水底トンネル 掘進工法
D6: 至 | E6: ='様式A-1'!E6:G6 -> 山口県美祢市美東町綾木 | H6: 定期点検者名 | K6: 榎田 敦之 | T6: ﾄﾝﾈﾙの分類 | V6: 陸上トンネル 掘進工法 | AC6: 水底トンネル 沈埋工法
B7: 起点 | C7: 緯度 | D7: 341135 | F7: 変状・異常 箇所数合計 | H7: トンネル 本体工 | J7: 材質劣化 | L7: Ⅱ | M7: 100 | N7: Ⅲ | O7: 1 | P7: Ⅳ | Q7: 0 | R7: トンネル毎 の健全性 | T7: Ⅲ | V7: 附属物の 取付状態 | W7: ◯ （応急措置後） | Y7: 0 | AC7: 水底トンネル 開削工法
AC8: 水底トンネル その他
C10: 経度 | D10: 1312423
J11: 漏水 | L11: Ⅱ | M11: 4 | N11: Ⅲ | O11: 0 | P11: Ⅳ | Q11: 0
B13: 終点 | C13: 緯度 | D13: 341136.9 | W13: ✕ | Y13: 5
J15: 外力 | L15: Ⅱ | M15: 5 | N15: Ⅲ | O15: 0 | P15: Ⅳ | Q15: 0 | AC15: 0
C16: 経度 | D16: 1312342.7
B19: トンネル変状・異常箇所写真位置図
P26: 注１：本位置図は、見下げた状態で記載すること。 注２：覆工スパン番号は横断目地毎(矢板工法の場合は上半アーチ の横断目地毎)に設定すること。 注３：写真番号に付する変状番号は、各覆工スパンの変状に対して新た に確認された場合は順次追加していくこと。 注４：横断目地の変状は前の覆工スパン番号で計上すること。 注５：１枚に収まらない場合は、複数枚に分けて作成すること。
C28: ※1 トンネル本体工の変状数は、材質劣化、漏水に起因するものは変状単位で、外力に起因するものはスパン単位で計上すること。
C29: ※2 本体工の変状に対しては、健全性の判定区分Ⅱ～Ⅳについて添付すること。また、点検前に実施された措置によりⅠと判定された箇所も添付すること。
C30: ※3 附属物の取付状態の○欄については、応急措置前に判定区分×とした箇所のうち応急措置により○判定とした箇所の数を記入すること。
C31: ※4 附属物の異常番号は、本体工と番号が重複しないよう101番以降とする等の配慮を行い、分かりやすく記録すること。

Sheet 様式B(トンネル様式1P001) (17)
B2: ■定期点検記録様式 トンネル変状・異常箇所写真位置図 | T2: トンネルID | AA2: Ⅰ | AB2: あり | AC2: 陸上トンネル 掘進工法
B3: フリガナ | D3: ='様式A-1'!D3:G3 -> ホウベンザントンネル | H3: 路線名 | J3: ='様式A-1'!J3 -> 国道435号 | N3: 管理者名 | P3: ='様式A-1'!R3 -> 防府土木建設事務所山口支所 | T3: 緊急輸送道路 | V3: あり | AA3: Ⅱ | AB3: なし | AC3: 陸上トンネル 開削工法
B4: 名 称 | D4: ='様式A-1'!D4:G4 -> 鳳翩山トンネル | T4: 代替路の有無 | V4: あり | AA4: Ⅲ | AC4: 陸上トンネル その他
B5: 所在地 | D5: 自 | E5: ='様式A-1'!E5:G5 -> 山口県山口市吉敷 | H5: 定期点検業者 | K5: ='様式A-1'!K5:O6 -> 株式会社エイト日本技術開発 | O5: 定期点検年月日 | Q5: 44413 | T5: トンネル延長 | V5: L= | W5: 1030 | Y5: ｍ | AA5: Ⅳ | AC5: 水底トンネル 掘進工法
D6: 至 | E6: ='様式A-1'!E6:G6 -> 山口県美祢市美東町綾木 | H6: 定期点検者名 | K6: 榎田 敦之 | T6: ﾄﾝﾈﾙの分類 | V6: 陸上トンネル 掘進工法 | AC6: 水底トンネル 沈埋工法
B7: 起点 | C7: 緯度 | D7: 341135 | F7: 変状・異常 箇所数合計 | H7: トンネル 本体工 | J7: 材質劣化 | L7: Ⅱ | M7: 100 | N7: Ⅲ | O7: 1 | P7: Ⅳ | Q7: 0 | R7: トンネル毎 の健全性 | T7: Ⅲ | V7: 附属物の 取付状態 | W7: ◯ （応急措置後） | Y7: 0 | AC7: 水底トンネル 開削工法
AC8: 水底トンネル その他
C10: 経度 | D10: 1312423
J11: 漏水 | L11: Ⅱ | M11: 4 | N11: Ⅲ | O11: 0 | P11: Ⅳ | Q11: 0
B13: 終点 | C13: 緯度 | D13: 341136.9 | W13: ✕ | Y13: 5
J15: 外力 | L15: Ⅱ | M15: 5 | N15: Ⅲ | O15: 0 | P15: Ⅳ | Q15: 0 | AC15: 0
C16: 経度 | D16: 1312342.7
B19: トンネル変状・異常箇所写真位置図
P26: 注１：本位置図は、見下げた状態で記載すること。 注２：覆工スパン番号は横断目地毎(矢板工法の場合は上半アーチ の横断目地毎)に設定すること。 注３：写真番号に付する変状番号は、各覆工スパンの変状に対して新た に確認された場合は順次追加していくこと。 注４：横断目地の変状は前の覆工スパン番号で計上すること。 注５：１枚に収まらない場合は、複数枚に分けて作成すること。
C28: ※1 トンネル本体工の変状数は、材質劣化、漏水に起因するものは変状単位で、外力に起因するものはスパン単位で計上すること。
C29: ※2 本体工の変状に対しては、健全性の判定区分Ⅱ～Ⅳについて添付すること。また、点検前に実施された措置によりⅠと判定された箇所も添付すること。
C30: ※3 附属物の取付状態の○欄については、応急措置前に判定区分×とした箇所のうち応急措置により○判定とした箇所の数を記入すること。
C31: ※4 附属物の異常番号は、本体工と番号が重複しないよう101番以降とする等の配慮を行い、分かりやすく記録すること。

Sheet 様式B(トンネル様式1P001) (18)
B2: ■定期点検記録様式 トンネル変状・異常箇所写真位置図 | T2: トンネルID | AA2: Ⅰ | AB2: あり | AC2: 陸上トンネル 掘進工法
B3: フリガナ | D3: ='様式A-1'!D3:G3 -> ホウベンザントンネル | H3: 路線名 | J3: ='様式A-1'!J3 -> 国道435号 | N3: 管理者名 | P3: ='様式A-1'!R3 -> 防府土木建設事務所山口支所 | T3: 緊急輸送道路 | V3: あり | AA3: Ⅱ | AB3: なし | AC3: 陸上トンネル 開削工法
B4: 名 称 | D4: ='様式A-1'!D4:G4 -> 鳳翩山トンネル | T4: 代替路の有無 | V4: あり | AA4: Ⅲ | AC4: 陸上トンネル その他
B5: 所在地 | D5: 自 | E5: ='様式A-1'!E5:G5 -> 山口県山口市吉敷 | H5: 定期点検業者 | K5: ='様式A-1'!K5:O6 -> 株式会社エイト日本技術開発 | O5: 定期点検年月日 | Q5: 44413 | T5: トンネル延長 | V5: L= | W5: 1030 | Y5: ｍ | AA5: Ⅳ | AC5: 水底トンネル 掘進工法
D6: 至 | E6: ='様式A-1'!E6:G6 -> 山口県美祢市美東町綾木 | H6: 定期点検者名 | K6: 榎田 敦之 | T6: ﾄﾝﾈﾙの分類 | V6: 陸上トンネル 掘進工法 | AC6: 水底トンネル 沈埋工法
B7: 起点 | C7: 緯度 | D7: 341135 | F7: 変状・異常 箇所数合計 | H7: トンネル 本体工 | J7: 材質劣化 | L7: Ⅱ | M7: 100 | N7: Ⅲ | O7: 1 | P7: Ⅳ | Q7: 0 | R7: トンネル毎 の健全性 | T7: Ⅲ | V7: 附属物の 取付状態 | W7: ◯ （応急措置後） | Y7: 0 | AC7: 水底トンネル 開削工法
AC8: 水底トンネル その他
C10: 経度 | D10: 1312423
J11: 漏水 | L11: Ⅱ | M11: 4 | N11: Ⅲ | O11: 0 | P11: Ⅳ | Q11: 0
B13: 終点 | C13: 緯度 | D13: 341136.9 | W13: ✕ | Y13: 5
J15: 外力 | L15: Ⅱ | M15: 5 | N15: Ⅲ | O15: 0 | P15: Ⅳ | Q15: 0 | AC15: 0
C16: 経度 | D16: 1312342.7
B19: トンネル変状・異常箇所写真位置図
P26: 注１：本位置図は、見下げた状態で記載すること。 注２：覆工スパン番号は横断目地毎(矢板工法の場合は上半アーチ の横断目地毎)に設定すること。 注３：写真番号に付する変状番号は、各覆工スパンの変状に対して新た に確認された場合は順次追加していくこと。 注４：横断目地の変状は前の覆工スパン番号で計上すること。 注５：１枚に収まらない場合は、複数枚に分けて作成すること。
C28: ※1 トンネル本体工の変状数は、材質劣化、漏水に起因するものは変状単位で、外力に起因するものはスパン単位で計上すること。
C29: ※2 本体工の変状に対しては、健全性の判定区分Ⅱ～Ⅳについて添付すること。また、点検前に実施された措置によりⅠと判定された箇所も添付すること。
C30: ※3 附属物の取付状態の○欄については、応急措置前に判定区分×とした箇所のうち応急措置により○判定とした箇所の数を記入すること。
C31: ※4 附属物の異常番号は、本体工と番号が重複しないよう101番以降とする等の配慮を行い、分かりやすく記録すること。

Sheet 様式B(トンネル様式1P001) (19)
B2: ■定期点検記録様式 トンネル変状・異常箇所写真位置図 | T2: トンネルID | AA2: Ⅰ | AB2: あり | AC2: 陸上トンネル 掘進工法
B3: フリガナ | D3: ='様式A-1'!D3:G3 -> ホウベンザントンネル | H3: 路線名 | J3: ='様式A-1'!J3 -> 国道435号 | N3: 管理者名 | P3: ='様式A-1'!R3 -> 防府土木建設事務所山口支所 | T3: 緊急輸送道路 | V3: あり | AA3: Ⅱ | AB3: なし | AC3: 陸上トンネル 開削工法
B4: 名 称 | D4: ='様式A-1'!D4:G4 -> 鳳翩山トンネル | T4: 代替路の有無 | V4: あり | AA4: Ⅲ | AC4: 陸上トンネル その他
B5: 所在地 | D5: 自 | E5: ='様式A-1'!E5:G5 -> 山口県山口市吉敷 | H5: 定期点検業者 | K5: ='様式A-1'!K5:O6 -> 株式会社エイト日本技術開発 | O5: 定期点検年月日 | Q5: 44413 | T5: トンネル延長 | V5: L= | W5: 1030 | Y5: ｍ | AA5: Ⅳ | AC5: 水底トンネル 掘進工法
D6: 至 | E6: ='様式A-1'!E6:G6 -> 山口県美祢市美東町綾木 | H6: 定期点検者名 | K6: 榎田 敦之 | T6: ﾄﾝﾈﾙの分類 | V6: 陸上トンネル 掘進工法 | AC6: 水底トンネル 沈埋工法
B7: 起点 | C7: 緯度 | D7: 341135 | F7: 変状・異常 箇所数合計 | H7: トンネル 本体工 | J7: 材質劣化 | L7: Ⅱ | M7: 100 | N7: Ⅲ | O7: 1 | P7: Ⅳ | Q7: 0 | R7: トンネル毎 の健全性 | T7: Ⅲ | V7: 附属物の 取付状態 | W7: ◯ （応急措置後） | Y7: 0 | AC7: 水底トンネル 開削工法
AC8: 水底トンネル その他
C10: 経度 | D10: 1312423
J11: 漏水 | L11: Ⅱ | M11: 4 | N11: Ⅲ | O11: 0 | P11: Ⅳ | Q11: 0
B13: 終点 | C13: 緯度 | D13: 341136.9 | W13: ✕ | Y13: 5
J15: 外力 | L15: Ⅱ | M15: 5 | N15: Ⅲ | O15: 0 | P15: Ⅳ | Q15: 0 | AC15: 0
C16: 経度 | D16: 1312342.7
B19: トンネル変状・異常箇所写真位置図
P26: 注１：本位置図は、見下げた状態で記載すること。 注２：覆工スパン番号は横断目地毎(矢板工法の場合は上半アーチ の横断目地毎)に設定すること。 注３：写真番号に付する変状番号は、各覆工スパンの変状に対して新た に確認された場合は順次追加していくこと。 注４：横断目地の変状は前の覆工スパン番号で計上すること。 注５：１枚に収まらない場合は、複数枚に分けて作成すること。
C28: ※1 トンネル本体工の変状数は、材質劣化、漏水に起因するものは変状単位で、外力に起因するものはスパン単位で計上すること。
C29: ※2 本体工の変状に対しては、健全性の判定区分Ⅱ～Ⅳについて添付すること。また、点検前に実施された措置によりⅠと判定された箇所も添付すること。
C30: ※3 附属物の取付状態の○欄については、応急措置前に判定区分×とした箇所のうち応急措置により○判定とした箇所の数を記入すること。
C31: ※4 附属物の異常番号は、本体工と番号が重複しないよう101番以降とする等の配慮を行い、分かりやすく記録すること。

Sheet 様式B(トンネル様式1P001) (20)
B2: ■定期点検記録様式 トンネル変状・異常箇所写真位置図 | T2: トンネルID | AA2: Ⅰ | AB2: あり | AC2: 陸上トンネル 掘進工法
B3: フリガナ | D3: ='様式A-1'!D3:G3 -> ホウベンザントンネル | H3: 路線名 | J3: ='様式A-1'!J3 -> 国道435号 | N3: 管理者名 | P3: ='様式A-1'!R3 -> 防府土木建設事務所山口支所 | T3: 緊急輸送道路 | V3: あり | AA3: Ⅱ | AB3: なし | AC3: 陸上トンネル 開削工法
B4: 名 称 | D4: ='様式A-1'!D4:G4 -> 鳳翩山トンネル | T4: 代替路の有無 | V4: あり | AA4: Ⅲ | AC4: 陸上トンネル その他
B5: 所在地 | D5: 自 | E5: ='様式A-1'!E5:G5 -> 山口県山口市吉敷 | H5: 定期点検業者 | K5: ='様式A-1'!K5:O6 -> 株式会社エイト日本技術開発 | O5: 定期点検年月日 | Q5: 44413 | T5: トンネル延長 | V5: L= | W5: 1030 | Y5: ｍ | AA5: Ⅳ | AC5: 水底トンネル 掘進工法
D6: 至 | E6: ='様式A-1'!E6:G6 -> 山口県美祢市美東町綾木 | H6: 定期点検者名 | K6: 榎田 敦之 | T6: ﾄﾝﾈﾙの分類 | V6: 陸上トンネル 掘進工法 | AC6: 水底トンネル 沈埋工法
B7: 起点 | C7: 緯度 | D7: 341135 | F7: 変状・異常 箇所数合計 | H7: トンネル 本体工 | J7: 材質劣化 | L7: Ⅱ | M7: 100 | N7: Ⅲ | O7: 1 | P7: Ⅳ | Q7: 0 | R7: トンネル毎 の健全性 | T7: Ⅲ | V7: 附属物の 取付状態 | W7: ◯ （応急措置後） | Y7: 0 | AC7: 水底トンネル 開削工法
AC8: 水底トンネル その他
C10: 経度 | D10: 1312423
J11: 漏水 | L11: Ⅱ | M11: 4 | N11: Ⅲ | O11: 0 | P11: Ⅳ | Q11: 0
B13: 終点 | C13: 緯度 | D13: 341136.9 | W13: ✕ | Y13: 5
J15: 外力 | L15: Ⅱ | M15: 5 | N15: Ⅲ | O15: 0 | P15: Ⅳ | Q15: 0 | AC15: 0
C16: 経度 | D16: 1312342.7
B19: トンネル変状・異常箇所写真位置図
P26: 注１：本位置図は、見下げた状態で記載すること。 注２：覆工スパン番号は横断目地毎(矢板工法の場合は上半アーチ の横断目地毎)に設定すること。 注３：写真番号に付する変状番号は、各覆工スパンの変状に対して新た に確認された場合は順次追加していくこと。 注４：横断目地の変状は前の覆工スパン番号で計上すること。 注５：１枚に収まらない場合は、複数枚に分けて作成すること。
C28: ※1 トンネル本体工の変状数は、材質劣化、漏水に起因するものは変状単位で、外力に起因するものはスパン単位で計上すること。
C29: ※2 本体工の変状に対しては、健全性の判定区分Ⅱ～Ⅳについて添付すること。また、点検前に実施された措置によりⅠと判定された箇所も添付すること。
C30: ※3 附属物の取付状態の○欄については、応急措置前に判定区分×とした箇所のうち応急措置により○判定とした箇所の数を記入すること。
C31: ※4 附属物の異常番号は、本体工と番号が重複しないよう101番以降とする等の配慮を行い、分かりやすく記録すること。

Sheet 様式B(トンネル様式1P001) (21)
B2: ■定期点検記録様式 トンネル変状・異常箇所写真位置図 | T2: トンネルID | AA2: Ⅰ | AB2: あり | AC2: 陸上トンネル 掘進工法
B3: フリガナ | D3: ='様式A-1'!D3:G3 -> ホウベンザントンネル | H3: 路線名 | J3: ='様式A-1'!J3 -> 国道435号 | N3: 管理者名 | P3: ='様式A-1'!R3 -> 防府土木建設事務所山口支所 | T3: 緊急輸送道路 | V3: あり | AA3: Ⅱ | AB3: なし | AC3: 陸上トンネル 開削工法
B4: 名 称 | D4: ='様式A-1'!D4:G4 -> 鳳翩山トンネル | T4: 代替路の有無 | V4: あり | AA4: Ⅲ | AC4: 陸上トンネル その他
B5: 所在地 | D5: 自 | E5: ='様式A-1'!E5:G5 -> 山口県山口市吉敷 | H5: 定期点検業者 | K5: ='様式A-1'!K5:O6 -> 株式会社エイト日本技術開発 | O5: 定期点検年月日 | Q5: 44413 | T5: トンネル延長 | V5: L= | W5: 1030 | Y5: ｍ | AA5: Ⅳ | AC5: 水底トンネル 掘進工法
D6: 至 | E6: ='様式A-1'!E6:G6 -> 山口県美祢市美東町綾木 | H6: 定期点検者名 | K6: 榎田 敦之 | T6: ﾄﾝﾈﾙの分類 | V6: 陸上トンネル 掘進工法 | AC6: 水底トンネル 沈埋工法
B7: 起点 | C7: 緯度 | D7: 341135 | F7: 変状・異常 箇所数合計 | H7: トンネル 本体工 | J7: 材質劣化 | L7: Ⅱ | M7: 100 | N7: Ⅲ | O7: 1 | P7: Ⅳ | Q7: 0 | R7: トンネル毎 の健全性 | T7: Ⅲ | V7: 附属物の 取付状態 | W7: ◯ （応急措置後） | Y7: 0 | AC7: 水底トンネル 開削工法
AC8: 水底トンネル その他
C10: 経度 | D10: 1312423
J11: 漏水 | L11: Ⅱ | M11: 4 | N11: Ⅲ | O11: 0 | P11: Ⅳ | Q11: 0
B13: 終点 | C13: 緯度 | D13: 341136.9 | W13: ✕ | Y13: 5
J15: 外力 | L15: Ⅱ | M15: 5 | N15: Ⅲ | O15: 0 | P15: Ⅳ | Q15: 0 | AC15: 0
C16: 経度 | D16: 1312342.7
B19: トンネル変状・異常箇所写真位置図
P26: 注１：本位置図は、見下げた状態で記載すること。 注２：覆工スパン番号は横断目地毎(矢板工法の場合は上半アーチ の横断目地毎)に設定すること。 注３：写真番号に付する変状番号は、各覆工スパンの変状に対して新た に確認された場合は順次追加していくこと。 注４：横断目地の変状は前の覆工スパン番号で計上すること。 注５：１枚に収まらない場合は、複数枚に分けて作成すること。
C28: ※1 トンネル本体工の変状数は、材質劣化、漏水に起因するものは変状単位で、外力に起因するものはスパン単位で計上すること。
C29: ※2 本体工の変状に対しては、健全性の判定区分Ⅱ～Ⅳについて添付すること。また、点検前に実施された措置によりⅠと判定された箇所も添付すること。
C30: ※3 附属物の取付状態の○欄については、応急措置前に判定区分×とした箇所のうち応急措置により○判定とした箇所の数を記入すること。
C31: ※4 附属物の異常番号は、本体工と番号が重複しないよう101番以降とする等の配慮を行い、分かりやすく記録すること。

Sheet 様式C-1-1
B2: ■定期点検記録様式 全スパン定期点検結果総括表（トンネル本体工） 【様式C-1-1】
B3: フリガナ | F3: ホウベンザントンネル | I3: 路線名 | K3: ='様式B(トンネル様式1P001)'!J3 -> 国道435号 | O3: 定期点検業者 | Q3: ='様式B(トンネル様式1P001)'!K5 -> 株式会社エイト日本技術開発 | U3: 定期点検年月日 | Y3: ='様式B(トンネル様式1P001)'!Q5 -> 44413
B4: 名 称 | F4: 鳳翩山トンネル | I4: 管理者名 | K4: ='様式B(トンネル様式1P001)'!P3 -> 防府土木建設事務所山口支所 | O4: 定期点検者名 | Q4: 榎田 敦之
B5: 定期点検結果 | C5: 覆工 スパン 番号 | E5: 変状 番号 | F5: 距離 （m） | G5: 変状部位 | I5: 変 状 の 内 容 | O5: 前回定期点検時の状態 | Q5: 今回定期点検結果 | U5: 措置履歴 | Z5: 対応方針 ・ 特記事項
G7: 対象箇所 | H7: 部位区分 | I7: 変状区分 | J7: 変状種類 | M7: 変状の発生範囲の規模 | N7: 前回定期点検時 との比較 | O7: 状態 | P7: 健全性 | Q7: 対策区分 | S7: 調査の 要否 | T7: 措置の 要否 | U7: 実施 | V7: 措置の実施状況
Q8: 応急措置前 | R8: 応急措置後
C9: PS | E9: 1 | F9: 0 | G9: 覆工・坑門 | H9: 面壁・妻壁等 | I9: 材質劣化 | J9: 鋼材腐食 | M9: 0.1m×0.1m D=0.01m | N9: 進行が認められない | O9: Ⅱa | P9: Ⅱ | Q9: - | R9: Ⅱb | S9: 否 | T9: 要監視 | U9: 継続 | V9: 監視（日常巡視） | Z9: 判定変更
C10: PS | E10: 2 | F10: 0 | G10: 覆工・坑門 | H10: 面壁・妻壁等 | I10: 材質劣化 | J10: 鋼材腐食 | M10: 0.08m×0.08m D=0.01m | N10: 進行が認められない | O10: Ⅱa | P10: Ⅱ | Q10: - | R10: Ⅱb | S10: 否 | T10: 要監視 | U10: 継続 | V10: 監視（日常巡視） | Z10: 判定変更
C11: 1 | E11: 1 | F11: 2.5 | G11: 覆工・坑門 | H11: 側壁（右側） | I11: 材質劣化 | J11: 鋼材腐食 | M11: 0.05m×0.05m D=0.01m | N11: 進行が認められない | O11: Ⅱa | P11: Ⅱ | Q11: - | R11: Ⅱb | S11: 否 | T11: 要監視 | U11: 継続 | V11: 監視（日常巡視） | Z11: 判定変更
C12: 1 | E12: 2 | F12: 0.12 | G12: 覆工・坑門 | H12: 側壁（右側） | I12: 材質劣化 | J12: 鋼材腐食 | M12: 0.25m×0.5m D=0.02 | N12: 進行が認められない | O12: Ⅱa | P12: Ⅱ | Q12: - | R12: Ⅱb | S12: 否 | T12: 要監視 | U12: 継続 | V12: 監視（日常巡視） | Z12: 判定変更
C13: 1 | E13: 3 | F13: 2.1 | G13: 覆工・坑門 | H13: 側壁（右側） | I13: 材質劣化 | J13: 鋼材腐食 | M13: 0.03m×0.1m D=0.01m | N13: 進行が認められない | O13: Ⅱb | P13: Ⅱ | Q13: - | R13: Ⅱb | S13: 否 | T13: 要監視 | U13: 継続 | V13: 監視（日常巡視） | Z13: -
C14: 2 | E14: 1 | F14: 18.35 | G14: 覆工・坑門 | H14: アーチ（右側） | I14: 材質劣化 | J14: うき・はく離 | M14: 0.2m×0.05m | N14: 進行が認められない | O14: Ⅱa | P14: Ⅱ | Q14: - | R14: Ⅱa | S14: 否 | T14: 要監視 | U14: 継続 | V14: 監視（重点） | Z14: -
C15: 3 | E15: 1 | F15: 28.9 | G15: 覆工・坑門 | H15: アーチ（右側） | I15: 材質劣化 | J15: うき・はく離 | M15: 0.3m×0.05m | N15: 進行が認められない | O15: Ⅱa | P15: Ⅱ | Q15: - | R15: Ⅱa | S15: 否 | T15: 要監視 | U15: 継続 | V15: 監視（重点） | Z15: -
C16: 3 | E16: 2 | F16: 28.9 | G16: 覆工・坑門 | H16: アーチ（右側） | I16: 材質劣化 | J16: うき・はく離 | M16: 0.2m×0.05m | N16: 進行が認められない | O16: Ⅱa | P16: Ⅱ | Q16: - | R16: Ⅱa | S16: 否 | T16: 要監視 | U16: 継続 | V16: 監視（重点） | Z16: -
C17: 4 | E17: 1 | F17: 30.6 | G17: 覆工・坑門 | H17: アーチ（左側） | I17: 材質劣化 | J17: 鋼材腐食 | M17: 0.1m×0.03m D=0.005m | N17: 進行が認められない | O17: Ⅱa | P17: Ⅱ | Q17: - | R17: Ⅱb | S17: 否 | T17: 要監視 | U17: 継続 | V17: 監視（日常巡視） | Z17: 判定変更
C18: 4 | E18: 2 | F18: 37.6 | G18: 覆工・坑門 | H18: アーチ（左側） | I18: 材質劣化 | J18: 鋼材腐食 | M18: 0.1m×0.1m D=0.01m | N18: 進行が認められない | O18: Ⅱa | P18: Ⅱ | Q18: - | R18: Ⅱb | S18: 否 | T18: 要監視 | U18: 継続 | V18: 監視（日常巡視） | Z18: 判定変更
C19: 4 | E19: 3 | F19: 39.3 | G19: 覆工・坑門 | H19: アーチ（右側） | I19: 材質劣化 | J19: その他 | M19: 0.25m×0.15m D=0.01m | N19: 進行が認められない | O19: Ⅱb | P19: Ⅱ | Q19: - | R19: Ⅱb | S19: 否 | T19: 要監視 | U19: 継続 | V19: 監視（日常巡視） | Z19: -
C20: 5 | E20: 1 | F20: 41.2 | G20: 覆工・坑門 | H20: アーチ（右側） | I20: 材質劣化 | J20: 鋼材腐食 | M20: 0.1m×0.1m D=0.01m | N20: 進行が認められない | O20: Ⅱa | P20: Ⅱ | Q20: - | R20: Ⅱb | S20: 否 | T20: 要監視 | U20: 継続 | V20: 監視（日常巡視） | Z20: 判定変更
C21: 5 | E21: 2 | F21: 40.1 | G21: 覆工・坑門 | H21: 側壁（右側） | I21: 外力 | J21: ひび割れ | M21: 幅0.3mm 長さ9.1m | N21: 進行が認められない | O21: Ⅱb | P21: Ⅱ | Q21: - | R21: Ⅱb | S21: 否 | T21: 要監視 | U21: 継続 | V21: 監視（日常巡視） | Z21: -
C22: 6 | E22: 1 | F22: 60.4 | G22: 覆工・坑門 | H22: アーチ（左側） | I22: 材質劣化 | J22: うき・はく離 | M22: 0.35m×0.05m | N22: 進行が認められない | O22: Ⅱb | P22: Ⅱ | Q22: - | R22: Ⅱa | S22: 否 | T22: 要監視 | U22: 継続 | V22: 監視（重点） | Z22: -
... C39: 26 | E39: 1 | F39: 261.4 | G39: 覆工・坑門 | H39: アーチ（左側） | I39: 材質劣化 | J39: ひび割れ | M39: 幅0.5mm×長さ10.0m | N39: 進行が認められない | O39: Ⅱb | P39: Ⅱ | Q39: - | R39: Ⅰ | S39: 否 | T39: 否 | U39: - | V39: - | Z39: 判定変更
C40: ※ 対策区分（応急措置後）の判定区分Ⅱ～Ⅳについて記入すること。また、点検前に実施された措置によりⅠと判定された変状も記入すること。
C41: ※ 応急措置を実施しないで判定した変状の対策区分は、対策区分の応急措置後の欄に記入すること。
C42: ※ 変状の除去が不完全で、緊急対応が必要な場合は対応方針欄に記入すること。
C43: ※ １区間の覆工に複数の変状がある場合は、変状箇所毎に記入すること。
C44: ※ 措置・監視点検を行った場合には、措置履歴、特記事項に記録を残すこと。（実施年度も記載）
C45: ※ 行が不足する場合は、適時、表の行を増やすこと。
B46: 定期点検結果 | C46: 覆工 スパン 番号 | E46: 変状 番号 | F46: 距離 （m） | G46: 変状部位 | I46: 変 状 の 内 容 | O46: 前回定期点検時の状態 | Q46: 今回定期点検結果 | U46: 措置履歴 | Z46: 対応方針 ・ 特記事項
G48: 対象箇所 | H48: 部位区分 | I48: 変状区分 | J48: 変状種類 | M48: 変状の発生範囲の規模 | N48: 前回定期点検時 との比較 | O48: 状態 | P48: 健全性 | Q48: 対策区分 | S48: 調査の 要否 | T48: 措置の 要否 | U48: 実施 | V48: 措置の実施状況
Q49: 応急措置前 | R49: 応急措置後
C50: 26 | E50: 2 | F50: 270.65 | G50: 覆工・坑門 | H50: アーチ（右側） | I50: 材質劣化 | J50: うき・はく離 | M50: 0.5m×0.05m | N50: 進行が認められない | O50: Ⅱa | P50: Ⅱ | Q50: - | R50: Ⅱa | S50: 否 | T50: 要監視 | U50: 継続 | V50: 監視（重点） | Z50: -
C51: 26 | E51: 3 | F51: 270.65 | G51: 覆工・坑門 | H51: アーチ（右側） | I51: 材質劣化 | J51: うき・はく離 | M51: 0.4m×0.05m | N51: 進行が認められない | O51: Ⅱa | P51: Ⅱ | Q51: - | R51: Ⅱa | S51: 否 | T51: 要監視 | U51: 継続 | V51: 監視（重点） | Z51: -
C52: 26 | E52: 4 | F52: 270.65 | G52: 覆工・坑門 | H52: アーチ（右側） | I52: 材質劣化 | J52: うき・はく離 | M52: 0.4m×0.05m | N52: 進行が認められない | O52: Ⅱa | P52: Ⅱ | Q52: - | R52: Ⅱa | S52: 否 | T52: 要監視 | U52: 継続 | V52: 監視（重点） | Z52: -
C53: 27 | E53: 1 | F53: 270.7 | G53: 覆工・坑門 | H53: アーチ（左側） | I53: 材質劣化 | J53: ひび割れ | M53: 幅1.0mm×長さ11.0m | N53: 進行が認められない | O53: Ⅱb | P53: Ⅱ | Q53: - | R53: Ⅰ | S53: 否 | T53: 否 | U53: - | V53: - | Z53: 判定変更
C54: 28 | E54: 1 | F54: 281.2 | G54: 覆工・坑門 | H54: アーチ（左側） | I54: 材質劣化 | J54: うき・はく離 | M54: 0.15m×0.06m | N54: 進行が認められない | O54: Ⅱa | P54: Ⅱ | Q54: - | R54: Ⅱa | S54: 否 | T54: 要監視 | U54: 継続 | V54: 監視（重点） | Z54: -
C55: 28 | E55: 2 | F55: 281.2 | G55: 覆工・坑門 | H55: アーチ（左側） | I55: 材質劣化 | J55: ひび割れ | M55: 幅0.5mm×長さ10.5m | N55: 進行が認められない | O55: Ⅱb | P55: Ⅱ | Q55: - | R55: Ⅰ | S55: 否 | T55: 否 | U55: - | V55: - | Z55: 判定変更
C56: 29 | E56: 1 | F56: 295 | G56: 覆工・坑門 | H56: アーチ（左側） | I56: 材質劣化 | J56: ひび割れ | M56: 幅0.4mm×長さ7.0m | N56: 進行が認められない | O56: Ⅱb | P56: Ⅱ | Q56: - | R56: Ⅰ | S56: 否 | T56: 否 | U56: - | V56: - | Z56: 判定変更
C57: 30 | E57: 1 | F57: 302.3 | G57: 覆工・坑門 | H57: アーチ（左側） | I57: 材質劣化 | J57: ひび割れ | M57: 幅0.5mm×長さ10.5m | N57: 進行が認められない | O57: Ⅱb | P57: Ⅱ | Q57: - | R57: Ⅰ | S57: 否 | T57: 否 | U57: - | V57: - | Z57: 判定変更
C58: 30 | E58: 2 | F58: 312.75 | G58: 覆工・坑門 | H58: アーチ（左側） | I58: 材質劣化 | J58: うき・はく離 | M58: 0.2m×0.1m | N58: 新規確認 | O58: - | P58: - | Q58: - | R58: Ⅱa | S58: 否 | T58: 要監視 | U58: 未 | V58: 監視（重点） | Z58: -
C59: 30 | E59: 3 | F59: 307.5 | G59: 覆工・坑門 | H59: アーチ（右側） | I59: 材質劣化 | J59: 鋼材腐食 | M59: 0.08m×0.15m D=0.01m | N59: 進行が認められない | O59: Ⅱa | P59: Ⅱ | Q59: - | R59: Ⅱb | S59: 否 | T59: 要監視 | U59: 継続 | V59: 監視（日常巡視） | Z59: 判定変更
C60: 31 | E60: 1 | F60: 312.8 | G60: 覆工・坑門 | H60: アーチ（左側） | I60: 材質劣化 | J60: ひび割れ | M60: 幅0.5mm×長さ11.0m | N60: 進行が認められない | O60: Ⅱb | P60: Ⅱ | Q60: - | R60: Ⅰ | S60: 否 | T60: 否 | U60: - | V60: - | Z60: 判定変更
C61: 31 | E61: 2 | F61: 323.25 | G61: 覆工・坑門 | H61: アーチ（左側） | I61: 材質劣化 | J61: その他 | M61: 0.35m×0.05m | N61: 進行が認められない | O61: Ⅱb | P61: Ⅱ | Q61: - | R61: Ⅱb | S61: 否 | T61: 要監視 | U61: 継続 | V61: 監視（日常巡視） | Z61: -
... C80: 43 | E80: 1 | F80: 438.05 | G80: 覆工・坑門 | H80: アーチ（左側） | I80: 材質劣化 | J80: 鋼材腐食 | M80: 0.05m×0.15m D=0.01m | N80: 進行が認められない | O80: Ⅱa | P80: Ⅱ | Q80: - | R80: Ⅱb | S80: 否 | T80: 要監視 | U80: 継続 | V80: 監視（日常巡視） | Z80: 判定変更
C81: ※ 対策区分（応急措置後）の判定区分Ⅱ～Ⅳについて記入すること。また、点検前に実施された措置によりⅠと判定された変状も記入すること。
C82: ※ 応急措置を実施しないで判定した変状の対策区分は、対策区分の応急措置後の欄に記入すること。
C83: ※ 変状の除去が不完全で、緊急対応が必要な場合は対応方針欄に記入すること。
C84: ※ １区間の覆工に複数の変状がある場合は、変状箇所毎に記入すること。
C85: ※ 措置・監視点検を行った場合には、措置履歴、特記事項に記録を残すこと。（実施年度も記載）
C86: ※ 行が不足する場合は、適時、表の行を増やすこと。
B87: 定期点検結果 | C87: 覆工 スパン 番号 | E87: 変状 番号 | F87: 距離 （m） | G87: 変状部位 | I87: 変 状 の 内 容 | O87: 前回定期点検時の状態 | Q87: 今回定期点検結果 | U87: 措置履歴 | Z87: 対応方針 ・ 特記事項
G89: 対象箇所 | H89: 部位区分 | I89: 変状区分 | J89: 変状種類 | M89: 変状の発生範囲の規模 | N89: 前回定期点検時 との比較 | O89: 状態 | P89: 健全性 | Q89: 対策区分 | S89: 調査の 要否 | T89: 措置の 要否 | U89: 実施 | V89: 措置の実施状況
Q90: 応急措置前 | R90: 応急措置後
C91: 43 | E91: 2 | F91: 438.1 | G91: 覆工・坑門 | H91: アーチ（右側） | I91: 材質劣化 | J91: ひび割れ | M91: 幅0.6mm×長さ5.9m | N91: 進行が認められない | O91: Ⅱb | P91: Ⅱ | Q91: - | R91: Ⅰ | S91: 否 | T91: 否 | U91: - | V91: - | Z91: 判定変更
C92: 43 | E92: 3 | F92: 448.16 | G92: 覆工・坑門 | H92: 側壁（右側） | I92: 材質劣化 | J92: うき・はく離 | M92: 1.0m×0.04m | N92: 進行が認められない | O92: Ⅱa | P92: Ⅱ | Q92: - | R92: Ⅱb | S92: 否 | T92: 要監視 | U92: 継続 | V92: 監視（日常巡視） | Z92: -
C93: 44 | E93: 1 | F93: 420.7 | G93: 覆工・坑門 | H93: アーチ（左側） | I93: 材質劣化 | J93: ひび割れ | M93: 幅1.0mm×長さ6.5m | N93: 進行が認められない | O93: Ⅱb | P93: Ⅱ | Q93: - | R93: Ⅰ | S93: 否 | T93: 否 | U93: - | V93: - | Z93: 判定変更
C94: 46 | E94: 1 | F94: 462.31 | G94: 覆工・坑門 | H94: アーチ（左側） | I94: 材質劣化 | J94: うき・はく離 | M94: 0.15m×0.5m | N94: 進行が認められない | O94: Ⅱa | P94: Ⅱ | Q94: - | R94: Ⅱa | S94: 否 | T94: 要監視 | U94: 継続 | V94: 監視（重点） | Z94: -
C95: 46 | E95: 2 | F95: 461.15 | G95: 覆工・坑門 | H95: アーチ（左側） | I95: 材質劣化 | J95: ひび割れ | M95: 幅1.0mm×長さ6.5m | N95: 進行が認められない | O95: Ⅱb | P95: Ⅱ | Q95: - | R95: Ⅰ | S95: 否 | T95: 否 | U95: - | V95: - | Z95: 判定変更
C96: 46 | E96: 3 | F96: 467.05 | G96: 覆工・坑門 | H96: アーチ（左側） | I96: 材質劣化 | J96: うき・はく離 | M96: 0.06m×0.2m | N96: 進行が認められない | O96: Ⅱa | P96: Ⅱ | Q96: - | R96: Ⅱa | S96: 否 | T96: 要監視 | U96: 継続 | V96: 監視（重点） | Z96: -
C97: 46 | E97: 4 | F97: 467.48 | G97: 覆工・坑門 | H97: アーチ（右側） | I97: 材質劣化 | J97: その他 | M97: 0.25m×0.07m | N97: 進行が認められない | O97: Ⅱb | P97: Ⅱ | Q97: - | R97: Ⅱb | S97: 否 | T97: 要監視 | U97: 継続 | V97: 監視（日常巡視） | Z97: -
C98: 46 | E98: 5 | F98: 467.48 | G98: 覆工・坑門 | H98: アーチ（右側） | I98: 材質劣化 | J98: うき・はく離 | M98: 0.3m×0.1m | N98: 進行が認められない | O98: Ⅱa | P98: Ⅱ | Q98: - | R98: Ⅱa | S98: 否 | T98: 要監視 | U98: 継続 | V98: 監視（重点） | Z98: -
C99: 47 | E99: 1 | F99: 469.53 | G99: 覆工・坑門 | H99: 側壁（左側） | I99: 材質劣化 | J99: うき・はく離 | M99: 0.1m×0.2m | N99: 進行が認められない | O99: Ⅱa | P99: Ⅱ | Q99: - | R99: Ⅱb | S99: 否 | T99: 要監視 | U99: 継続 | V99: 監視（日常巡視） | Z99: -
C100: 47 | E100: 2 | F100: 471.52 | G100: 覆工・坑門 | H100: 側壁（左側） | I100: 材質劣化 | J100: うき・はく離 | M100: 0.7m×0.3m | N100: 進行が認められない | O100: Ⅱa | P100: Ⅱ | Q100: - | R100: Ⅱb | S100: 否 | T100: 要監視 | U100: 継続 | V100: 監視（日常巡視） | Z100: -
C101: 48 | E101: 1 | F101: 473.95 | G101: 覆工・坑門 | H101: アーチ（右側） | I101: 材質劣化 | J101: ひび割れ | M101: 幅0.7mm×長さ11.0m | N101: 進行が認められない | O101: Ⅱb | P101: Ⅱ | Q101: - | R101: Ⅰ | S101: 否 | T101: 否 | U101: - | V101: - | Z101: 判定変更
C102: 48 | E102: 2 | F102: 480 | G102: 覆工・坑門 | H102: アーチ（右側） | I102: 材質劣化 | J102: 鋼材腐食 | M102: 0.1m×0.15m D=0.01m | N102: 進行が認められない | O102: Ⅱa | P102: Ⅱ | Q102: - | R102: Ⅱb | S102: 否 | T102: 要監視 | U102: 継続 | V102: 監視（日常巡視） | Z102: 判定変更
... C121: 59 | E121: 1 | F121: 573.2 | G121: 覆工・坑門 | H121: アーチ（左側） | I121: 材質劣化 | J121: ひび割れ | M121: 幅0.4mm×長さ11.0m | N121: 進行が認められない | O121: Ⅱb | P121: Ⅱ | Q121: - | R121: Ⅰ | S121: 否 | T121: 否 | U121: - | V121: - | Z121: 判定変更
C122: ※ 対策区分（応急措置後）の判定区分Ⅱ～Ⅳについて記入すること。また、点検前に実施された措置によりⅠと判定された変状も記入すること。
C123: ※ 応急措置を実施しないで判定した変状の対策区分は、対策区分の応急措置後の欄に記入すること。
C124: ※ 変状の除去が不完全で、緊急対応が必要な場合は対応方針欄に記入すること。
C125: ※ １区間の覆工に複数の変状がある場合は、変状箇所毎に記入すること。
C126: ※ 措置・監視点検を行った場合には、措置履歴、特記事項に記録を残すこと。（実施年度も記載）
C127: ※ 行が不足する場合は、適時、表の行を増やすこと。
B128: 定期点検結果 | C128: 覆工 スパン 番号 | E128: 変状 番号 | F128: 距離 （m） | G128: 変状部位 | I128: 変 状 の 内 容 | O128: 前回定期点検時の状態 | Q128: 今回定期点検結果 | U128: 措置履歴 | Z128: 対応方針 ・ 特記事項
G130: 対象箇所 | H130: 部位区分 | I130: 変状区分 | J130: 変状種類 | M130: 変状の発生範囲の規模 | N130: 前回定期点検時 との比較 | O130: 状態 | P130: 健全性 | Q130: 対策区分 | S130: 調査の 要否 | T130: 措置の 要否 | U130: 実施 | V130: 措置の実施状況
Q131: 応急措置前 | R131: 応急措置後
C132: 60 | E132: 1 | F132: 583.7 | G132: 覆工・坑門 | H132: アーチ（右側） | I132: 材質劣化 | J132: ひび割れ | M132: 幅0.5mm×長さ11.0m | N132: 進行が認められない | O132: Ⅱb | P132: Ⅱ | Q132: - | R132: Ⅰ | S132: 否 | T132: 否 | U132: - | V132: - | Z132: 判定変更
C133: 60 | E133: 2 | F133: 593.45 | G133: 覆工・坑門 | H133: アーチ（右側） | I133: 漏水 | J133: 漏水 | M133: 7.0m×1.5m | N133: 進行が認められない | O133: Ⅱb | P133: Ⅱ | Q133: - | R133: Ⅱb | S133: 否 | T133: 要監視 | U133: 継続 | V133: 監視（日常巡視） | Z133: -
C134: 62 | E134: 1 | F134: 613.39 | G134: 覆工・坑門 | H134: アーチ（左側） | I134: 漏水 | J134: 漏水 | M134: 8.2m×1.8m | N134: 進行が認められない | O134: Ⅱb | P134: Ⅱ | Q134: - | R134: Ⅱb | S134: 否 | T134: 要監視 | U134: 継続 | V134: 監視（日常巡視） | Z134: -
C135: 63 | E135: 1 | F135: 615.52 | G135: 覆工・坑門 | H135: アーチ（左側） | I135: 材質劣化 | J135: その他 | M135: 0.5m×1.9m | N135: 進行が認められない | O135: Ⅱb | P135: Ⅱ | Q135: - | R135: Ⅱb | S135: 否 | T135: 要監視 | U135: 継続 | V135: 監視（日常巡視） | Z135: -
C136: 63 | E136: 2 | F136: 615.25 | G136: 覆工・坑門 | H136: アーチ（左側） | I136: 材質劣化 | J136: ひび割れ | M136: 幅0.6mm×長さ11.0m | N136: 進行が認められない | O136: Ⅱb | P136: Ⅱ | Q136: - | R136: Ⅰ | S136: 否 | T136: 否 | U136: - | V136: - | Z136: 判定変更
C137: 64 | E137: 1 | F137: 625.57 | G137: 覆工・坑門 | H137: アーチ（左側） | I137: 材質劣化 | J137: うき・はく離 | M137: 2.6m×1.0m | N137: 新規確認 | O137: - | P137: - | Q137: - | R137: Ⅱb | S137: 否 | T137: 要監視 | U137: 未 | V137: 監視（日常巡視） | Z137: -
C138: 64 | E138: 2 | F138: 631.58 | G138: 覆工・坑門 | H138: アーチ（左側） | I138: 材質劣化 | J138: うき・はく離 | M138: 0.05m×0.4m | N138: 進行が認められない | O138: Ⅱa | P138: Ⅱ | Q138: - | R138: Ⅱa | S138: 否 | T138: 要監視 | U138: 継続 | V138: 監視（重点） | Z138: -
C139: 64 | E139: 3 | F139: 626.5 | G139: 覆工・坑門 | H139: アーチ（左側） | I139: 材質劣化 | J139: ひび割れ | M139: 幅0.5mm×長さ10.5m | N139: 進行が認められない | O139: Ⅱb | P139: Ⅱ | Q139: - | R139: Ⅰ | S139: 否 | T139: 否 | U139: - | V139: - | Z139: 判定変更
C140: 65 | E140: 1 | F140: 636.25 | G140: 覆工・坑門 | H140: アーチ（左側） | I140: 材質劣化 | J140: ひび割れ | M140: 幅0.4mm×長さ6.6m | N140: 進行が認められない | O140: Ⅱb | P140: Ⅱ | Q140: - | R140: Ⅰ | S140: 否 | T140: 否 | U140: - | V140: - | Z140: 判定変更
C141: 66 | E141: 1 | F141: 648.5 | G141: 覆工・坑門 | H141: アーチ（左側） | I141: 材質劣化 | J141: 鋼材腐食 | M141: 0.05m×0.05m D=0.01m | N141: 進行が認められない | O141: Ⅱa | P141: Ⅱ | Q141: - | R141: Ⅱb | S141: 否 | T141: 要監視 | U141: 継続 | V141: 監視（日常巡視） | Z141: 判定変更
C142: 66 | E142: 2 | F142: 646.75 | G142: 覆工・坑門 | H142: アーチ（左側） | I142: 材質劣化 | J142: うき・はく離 | M142: 2.8m×1.3m | N142: 新規確認 | O142: - | P142: - | Q142: - | R142: Ⅱb | S142: 否 | T142: 要監視 | U142: 未 | V142: 監視（日常巡視） | Z142: -
C143: 66 | E143: 3 | F143: 646.75 | G143: 覆工・坑門 | H143: 側壁（右側） | I143: 漏水 | J143: 漏水 | M143: 1.5m×1.3m | N143: 新規確認 | O143: - | P143: - | Q143: - | R143: Ⅱb | S143: 否 | T143: 要監視 | U143: 未 | V143: 監視（日常巡視） | Z143: -
... C162: 80 | E162: 1 | F162: 793.8 | G162: 覆工・坑門 | H162: アーチ（左側） | I162: 材質劣化 | J162: ひび割れ | M162: 幅1.0mm×長さ11.0m | N162: 進行が認められない | O162: Ⅱb | P162: Ⅱ | Q162: - | R162: Ⅰ | S162: 否 | T162: 否 | U162: - | V162: - | Z162: 判定変更
C163: ※ 対策区分（応急措置後）の判定区分Ⅱ～Ⅳについて記入すること。また、点検前に実施された措置によりⅠと判定された変状も記入すること。
C164: ※ 応急措置を実施しないで判定した変状の対策区分は、対策区分の応急措置後の欄に記入すること。
C165: ※ 変状の除去が不完全で、緊急対応が必要な場合は対応方針欄に記入すること。
C166: ※ １区間の覆工に複数の変状がある場合は、変状箇所毎に記入すること。
C167: ※ 措置・監視点検を行った場合には、措置履歴、特記事項に記録を残すこと。（実施年度も記載）
C168: ※ 行が不足する場合は、適時、表の行を増やすこと。
B169: 定期点検結果 | C169: 覆工 スパン 番号 | E169: 変状 番号 | F169: 距離 （m） | G169: 変状部位 | I169: 変 状 の 内 容 | O169: 前回定期点検時の状態 | Q169: 今回定期点検結果 | U169: 措置履歴 | Z169: 対応方針 ・ 特記事項
G171: 対象箇所 | H171: 部位区分 | I171: 変状区分 | J171: 変状種類 | M171: 変状の発生範囲の規模 | N171: 前回定期点検時 との比較 | O171: 状態 | P171: 健全性 | Q171: 対策区分 | S171: 調査の 要否 | T171: 措置の 要否 | U171: 実施 | V171: 措置の実施状況
Q172: 応急措置前 | R172: 応急措置後
C173: 84 | E173: 1 | F173: 835.8 | G173: 覆工・坑門 | H173: アーチ（左側） | I173: 材質劣化 | J173: ひび割れ | M173: 幅0.3mm×長さ9.2m | N173: 進行が認められない | O173: Ⅱb | P173: Ⅱ | Q173: - | R173: Ⅰ | S173: 否 | T173: 否 | U173: - | V173: - | Z173: 判定変更
C174: 85 | E174: 1 | F174: 846.3 | G174: 覆工・坑門 | H174: 側壁（右側） | I174: 材質劣化 | J174: うき・はく離 | M174: 0.45m×0.03m | N174: 進行が認められない | O174: Ⅱa | P174: Ⅱ | Q174: - | R174: Ⅱb | S174: 否 | T174: 要監視 | U174: 継続 | V174: 監視（日常巡視） | Z174: -
C175: 87 | E175: 1 | F175: 877.24 | G175: 覆工・坑門 | H175: アーチ（右側） | I175: 材質劣化 | J175: ひび割れ | M175: 2.0m×0.5m | N175: 進行が認められない | O175: Ⅱb | P175: Ⅱ | Q175: - | R175: Ⅱb | S175: 否 | T175: 要監視 | U175: 継続 | V175: 監視（日常巡視） | Z175: -
C176: 88 | E176: 1 | F176: 880 | G176: 覆工・坑門 | H176: 側壁（左側） | I176: 材質劣化 | J176: 鋼材腐食 | M176: 0.15m×0.01m D=0.002m 2か所 | N176: 進行が認められない | O176: Ⅱa | P176: Ⅱ | Q176: - | R176: Ⅱb | S176: 否 | T176: 要監視 | U176: 継続 | V176: 監視（日常巡視） | Z176: 判定変更
...

Sheet 様式C-1-2
B2: ■定期点検記録様式 定期点検結果総括表（トンネル内附属物等の取付状態） 【様式C-1-2】
B3: フリガナ | F3: ='様式C-1-1'!F3:H3 -> ホウベンザントンネル | J3: 路線名 | L3: ='様式C-1-1'!K3 -> 国道435号 | O3: 定期点検業者 | Q3: ='様式C-1-1'!Q3:T3 -> 株式会社エイト日本技術開発 | U3: 定期点検年月日 | Y3: ='様式C-1-1'!Y3:Z4 -> 44413
B4: 名 称 | F4: ='様式C-1-1'!F4:H4 -> 鳳翩山トンネル | J4: 管理者名 | L4: ='様式C-1-1'!K4 -> 防府土木建設事務所山口支所 | O4: 定期点検者名 | Q4: ='様式C-1-1'!Q4 -> 榎田 敦之
B5: 定期点検結果 | C5: 覆工 スパン 番号 | E5: 異常 番号 | F5: 距離 （m） | G5: 異常部位 | J5: 異 常 の 内 容 | P5: 定期点検結果 | R5: 応急措置の 実施状況 | X5: 対応方針 ・ 特記事項
G6: 対象箇所 | I6: 部位区分 | J6: 異常種類 | N6: 異常の発生範囲の規模 | P6: 異常判定区分 | R6: 実施 | S6: 応急措置の内容
P7: 応急措置前 | Q7: 応急措置後
C8: S1 | E8: 101 | F8: 0.25 | G8: その他施設 | H8: その他 | I8: 附属物本体 | J8: 変形，欠損 | N8: 1箇所 | P8: × | Q8: - | R8: 未 | S8: - | X8: -
C9: S20 | E9: 101 | F9: 202.33 | G9: その他施設 | H9: その他 | I9: 取付部材 | J9: 破断 | N9: 1箇所 | P9: × | Q9: - | R9: 未 | S9: - | X9: -
C10: S34 | E10: 101 | F10: 347.16 | G10: その他施設 | H10: その他 | I10: 附属物本体 | J10: 変形，欠損 | N10: 1箇所 | P10: × | Q10: - | R10: 未 | S10: - | X10: -
C11: S43 | E11: 101 | F11: 447.85 | G11: その他施設 | H11: その他 | I11: 附属物本体 | J11: 変形，欠損 | N11: 1箇所 | P11: × | Q11: - | R11: 未 | S11: - | X11: -
C12: S53 | E12: 101 | F12: 526.45 | G12: その他施設 | H12: その他 | I12: 附属物本体 | J12: 変形，欠損 | N12: 1箇所 | P12: × | Q12: - | R12: 未 | S12: - | X12: -
C39: ※ 異常判定区分×について記入すること。また、応急措置により○と判定された箇所も記入すること。
C40: ※ 応急措置を実施しないで判定した箇所の異常判定区分は、異常判定区分の応急措置後の欄に記入すること。
C41: ※ 異常の除去が不完全で、緊急対応が必要な場合は対応方針欄に記入すること。
C42: ※ １スパンの覆工に複数の異常がある場合は、異常箇所毎に記入すること。
C43: ※ 行が不足する場合は、適時、表の行を増やすこと。

Sheet 様式C-2
B2: ■定期点検記録様式 状態の把握の内容 【様式C-2】
B3: フリガナ | E3: ='様式C-1-2'!F3 -> ホウベンザントンネル | H3: 路線名 | J3: ='様式C-1-2'!L3 -> 国道435号 | M3: 定期点検業者 | R3: ='様式C-1-2'!Q3 -> 株式会社エイト日本技術開発 | U3: 定期点検年月日 | X3: ='様式C-1-2'!Y3 -> 44413
B4: 名 称 | E4: ='様式C-1-2'!F4 -> 鳳翩山トンネル | H4: 管理者名 | J4: ='様式C-1-2'!L4 -> 防府土木建設事務所山口支所 | M4: 定期点検者名 | R4: ='様式C-1-2'!Q4 -> 榎田 敦之
B5: 状態の把握の内容 | C5: 覆工スパン 番号 | E5: 変状 番号 | F5: 状態の把握の内容
F6: 年月日 | H6: 内容 | O6: 結果 | W6: 対策区分の 判定 | Y6: 健全性
B22: 注）状態の把握において、微破壊・非破壊検査や各種試験等を実施した場合について記載する。
B23: ※ 行が不足する場合は、適時、表の行を増やすこと。

Sheet 様式D-1-1(トンネル様式2P001) P001
B2: ■定期点検記録様式 変状写真台帳 | Y2: Ⅰ
B3: フリガナ | D3: ='様式C-2'!E3 -> ホウベンザントンネル | H3: 路線名 | J3: ='様式C-2'!J3:L3 -> 国道435号 | M3: 定期点検業者 | P3: ='様式C-2'!R3 -> 株式会社エイト日本技術開発 | S3: 定期点検年月日 | U3: ='様式C-2'!X3 -> 44413 | Y3: Ⅱ
B4: 名 称 | D4: ='様式C-2'!E4 -> 鳳翩山トンネル | H4: 管理者名 | J4: ='様式C-2'!J4:L4 -> 防府土木建設事務所山口支所 | M4: 定期点検者名 | P4: ='様式C-2'!R4 -> 榎田 敦之 | Y4: Ⅲ
B5: 写真 番号 | C5: 覆工 スパン 番号 | D5: PS | M5: 写真 番号 | N5: 覆工 スパン 番号 | O5: PS | Y5: Ⅳ
C7: 変状 番号 | D7: 1 | N7: 変状 番号 | O7: 2
B9: 変状 部位 | C9: 対象 箇所 | D9: 覆工・坑門 | M9: 変状 部位 | N9: 対象 箇所 | O9: 覆工・坑門
C11: 部位 区分 | D11: 面壁・妻壁等 | N11: 部位 区分 | O11: 面壁・妻壁等
B13: 変状区分 | D13: 材質劣化 | M13: 変状区分 | O13: 材質劣化
B14: 変状種類 | D14: 鋼材腐食 | M14: 変状種類 | O14: 鋼材腐食
B15: 健全性 | C15: 応急措置前 | E15: - | M15: 健全性 | N15: 応急措置前 | P15: -
C16: 応急措置後 | E16: Ⅱ | N16: 応急措置後 | P16: Ⅱ
B17: 変状の発生範囲の規模 | E17: 0.1m×0.1m D=0.01m 0.01㎡ | M17: 変状の発生範囲の規模 | P17: 0.08m×0.08m D=0.01m 0.0064㎡
B18: 前回定期点検時の状態 | E18: 鉄筋露出 0.1m×0.1m D=0.01m | M18: 前回定期点検時の状態 | P18: 鉄筋露出 0.08m×0.08m×0.01m
B19: 調査方針 | E19: - | M19: 調査方針 | P19: -
B20: 対策履歴 | E20: - | H20: 実施状況（実施日） | J20: - | M20: 対策履歴 | P20: - | S20: 実施状況（実施日） | U20: -
B21: メモ | D21: （Ⅱb） | M21: メモ | O21: （Ⅱb）
B22: 写真 番号 | C22: 覆工 スパン 番号 | D22: 1 | M22: 写真 番号 | N22: 覆工 スパン 番号 | O22: 1
C24: 変状 番号 | D24: 1 | N24: 変状 番号 | O24: 2
B26: 変状 部位 | C26: 対象 箇所 | D26: 覆工・坑門 | M26: 変状 部位 | N26: 対象 箇所 | O26: 覆工・坑門
C28: 部位 区分 | D28: 側壁（右側） | N28: 部位 区分 | O28: 側壁（右側）
B30: 変状区分 | D30: 材質劣化 | M30: 変状区分 | O30: 材質劣化
B31: 変状種類 | D31: 鋼材腐食 | M31: 変状種類 | O31: 鋼材腐食
B32: 健全性 | C32: 応急措置前 | E32: - | M32: 健全性 | N32: 応急措置前 | P32: -
C33: 応急措置後 | E33: Ⅱ | N33: 応急措置後 | P33: Ⅱ
B34: 変状の発生範囲の規模 | E34: 0.05m×0.05m D=0.01m 0.0025㎡ | M34: 変状の発生範囲の規模 | P34: 0.25m×0.5m D=0.02 0.125㎡
B35: 前回定期点検時の状態 | E35: 鉄筋露出 0.05m×0.05m×0.01m | M35: 前回定期点検時の状態 | P35: 鉄筋露出 0.25m×0.5m
B36: 調査方針 | E36: - | M36: 調査方針 | P36: -
B37: 対策履歴 | E37: - | H37: 実施状況（実施日） | J37: - | M37: 対策履歴 | P37: - | S37: 実施状況（実施日） | U37: -
B38: メモ | D38: （Ⅱb） | M38: メモ | O38: （Ⅱb）
C39: ※ 健全性（応急措置後）の判定区分Ⅱ～Ⅳについて添付すること。また、点検前に 実施された措置によりⅠと判定された箇所も添付すること。 | N39: ※ 変状の発生範囲の規模とは、対策を行う際に参考となる変状の長さや面積をいう。
N40: ※ 応急措置を実施しないで判定した変状の健全性は、健全性の応急措置後の欄に記入すること。
C41: ※ たたき落としを実施した場合は、実施後の写真を添付すること。 | N41: ※ 変状の発生範囲の規模は、面積・寸法を記載すること。
C42: ※ 附属物の取付状態に関する異常写真は別途、様式D-1-2でとりまとめること。 | N42: (ひび割れ幅のみmmとし、その他をm表記とする)
C43: ※ 変状数に準じてシートを追加すること。（１シートに１ページとすること。） | N43: ※ 構造用鋼材以外の異物に伴ううき・はく離については、メモ欄に異物の概要を記入すること。

Sheet 様式D-1-1(トンネル様式2P001) P002
B2: ■定期点検記録様式 変状写真台帳 | Y2: Ⅰ
B3: フリガナ | D3: ='様式C-2'!E3 -> ホウベンザントンネル | H3: 路線名 | J3: ='様式C-2'!J3:L3 -> 国道435号 | M3: 定期点検業者 | P3: ='様式C-2'!R3 -> 株式会社エイト日本技術開発 | S3: 定期点検年月日 | U3: ='様式C-2'!X3 -> 44413 | Y3: Ⅱ
B4: 名 称 | D4: ='様式C-2'!E4 -> 鳳翩山トンネル | H4: 管理者名 | J4: ='様式C-2'!J4:L4 -> 防府土木建設事務所山口支所 | M4: 定期点検者名 | P4: ='様式C-2'!R4 -> 榎田 敦之 | Y4: Ⅲ
B5: 写真 番号 | C5: 覆工 スパン 番号 | D5: 1 | M5: 写真 番号 | N5: 覆工 スパン 番号 | O5: 2 | Y5: Ⅳ
C7: 変状 番号 | D7: 3 | N7: 変状 番号 | O7: 1
B9: 変状 部位 | C9: 対象 箇所 | D9: 覆工・坑門 | M9: 変状 部位 | N9: 対象 箇所 | O9: 覆工・坑門
C11: 部位 区分 | D11: 側壁（右側） | N11: 部位 区分 | O11: アーチ（右側）
B13: 変状区分 | D13: 材質劣化 | M13: 変状区分 | O13: 材質劣化
B14: 変状種類 | D14: 鋼材腐食 | M14: 変状種類 | O14: うき・はく離
B15: 健全性 | C15: 応急措置前 | E15: - | M15: 健全性 | N15: 応急措置前 | P15: -
C16: 応急措置後 | E16: Ⅱ | N16: 応急措置後 | P16: Ⅱ
B17: 変状の発生範囲の規模 | E17: 0.03m×0.1m D=0.01m 0.003㎡ | M17: 変状の発生範囲の規模 | P17: 0.2m×0.05m 0.01㎡
B18: 前回定期点検時の状態 | E18: 鉄筋露出 0.03m×0.1m×0.01m | M18: 前回定期点検時の状態 | P18: うき 0.2m×0.05m
B19: 調査方針 | E19: - | M19: 調査方針 | P19: -
B20: 対策履歴 | E20: - | H20: 実施状況（実施日） | J20: - | M20: 対策履歴 | P20: - | S20: 実施状況（実施日） | U20: -
B21: メモ | D21: （Ⅱb） | M21: メモ | O21: （Ⅱa）
B22: 写真 番号 | C22: 覆工 スパン 番号 | D22: 3 | M22: 写真 番号 | N22: 覆工 スパン 番号 | O22: 3
C24: 変状 番号 | D24: 1 | N24: 変状 番号 | O24: 2
B26: 変状 部位 | C26: 対象 箇所 | D26: 覆工・坑門 | M26: 変状 部位 | N26: 対象 箇所 | O26: 覆工・坑門
C28: 部位 区分 | D28: アーチ（右側） | N28: 部位 区分 | O28: アーチ（右側）
B30: 変状区分 | D30: 材質劣化 | M30: 変状区分 | O30: 材質劣化
B31: 変状種類 | D31: うき・はく離 | M31: 変状種類 | O31: うき・はく離
B32: 健全性 | C32: 応急措置前 | E32: - | M32: 健全性 | N32: 応急措置前 | P32: -
C33: 応急措置後 | E33: Ⅱ | N33: 応急措置後 | P33: Ⅱ
B34: 変状の発生範囲の規模 | E34: 0.3m×0.05m 0.015㎡ | M34: 変状の発生範囲の規模 | P34: 0.2m×0.05m 0.01㎡
B35: 前回定期点検時の状態 | E35: うき 0.3m×0.05m | M35: 前回定期点検時の状態 | P35: うき 0.2m×0.05m
B36: 調査方針 | E36: - | M36: 調査方針 | P36: -
B37: 対策履歴 | E37: - | H37: 実施状況（実施日） | J37: - | M37: 対策履歴 | P37: - | S37: 実施状況（実施日） | U37: -
B38: メモ | D38: （Ⅱa） | M38: メモ | O38: （Ⅱa）
C39: ※ 健全性（応急措置後）の判定区分Ⅱ～Ⅳについて添付すること。また、点検前に 実施された措置によりⅠと判定された箇所も添付すること。 | N39: ※ 変状の発生範囲の規模とは、対策を行う際に参考となる変状の長さや面積をいう。
N40: ※ 応急措置を実施しないで判定した変状の健全性は、健全性の応急措置後の欄に記入すること。
C41: ※ たたき落としを実施した場合は、実施後の写真を添付すること。 | N41: ※ 変状の発生範囲の規模は、面積・寸法を記載すること。
C42: ※ 附属物の取付状態に関する異常写真は別途、様式D-1-2でとりまとめること。 | N42: (ひび割れ幅のみmmとし、その他をm表記とする)
C43: ※ 変状数に準じてシートを追加すること。（１シートに１ページとすること。） | N43: ※ 構造用鋼材以外の異物に伴ううき・はく離については、メモ欄に異物の概要を記入すること。

Sheet 様式D-1-1(トンネル様式2P001) P003
B2: ■定期点検記録様式 変状写真台帳 | Y2: Ⅰ
B3: フリガナ | D3: ='様式C-2'!E3 -> ホウベンザントンネル | H3: 路線名 | J3: ='様式C-2'!J3:L3 -> 国道435号 | M3: 定期点検業者 | P3: ='様式C-2'!R3 -> 株式会社エイト日本技術開発 | S3: 定期点検年月日 | U3: ='様式C-2'!X3 -> 44413 | Y3: Ⅱ
B4: 名 称 | D4: ='様式C-2'!E4 -> 鳳翩山トンネル | H4: 管理者名 | J4: ='様式C-2'!J4:L4 -> 防府土木建設事務所山口支所 | M4: 定期点検者名 | P4: ='様式C-2'!R4 -> 榎田 敦之 | Y4: Ⅲ
B5: 写真 番号 | C5: 覆工 スパン 番号 | D5: 4 | M5: 写真 番号 | N5: 覆工 スパン 番号 | O5: 4 | Y5: Ⅳ
C7: 変状 番号 | D7: 1 | N7: 変状 番号 | O7: 2
B9: 変状 部位 | C9: 対象 箇所 | D9: 覆工・坑門 | M9: 変状 部位 | N9: 対象 箇所 | O9: 覆工・坑門
C11: 部位 区分 | D11: アーチ（左側） | N11: 部位 区分 | O11: アーチ（左側）
B13: 変状区分 | D13: 材質劣化 | M13: 変状区分 | O13: 材質劣化
B14: 変状種類 | D14: 鋼材腐食 | M14: 変状種類 | O14: 鋼材腐食
B15: 健全性 | C15: 応急措置前 | E15: - | M15: 健全性 | N15: 応急措置前 | P15: -
C16: 応急措置後 | E16: Ⅱ | N16: 応急措置後 | P16: Ⅱ
B17: 変状の発生範囲の規模 | E17: 0.1m×0.03m D=0.005m 0.003㎡ | M17: 変状の発生範囲の規模 | P17: 0.1m×0.1m D=0.01m 0.01㎡
B18: 前回定期点検時の状態 | E18: 鉄筋露出 0.1m×0.03m×0.005m | M18: 前回定期点検時の状態 | P18: 鉄筋露出 0.1m×0.1m×0.01m
B19: 調査方針 | E19: - | M19: 調査方針 | P19: -
B20: 対策履歴 | E20: - | H20: 実施状況（実施日） | J20: - | M20: 対策履歴 | P20: - | S20: 実施状況（実施日） | U20: -
B21: メモ | D21: （Ⅱb） | M21: メモ | O21: （Ⅱb）
B22: 写真 番号 | C22: 覆工 スパン 番号 | D22: 4 | M22: 写真 番号 | N22: 覆工 スパン 番号 | O22: 5
C24: 変状 番号 | D24: 3 | N24: 変状 番号 | O24: 1
B26: 変状 部位 | C26: 対象 箇所 | D26: 覆工・坑門 | M26: 変状 部位 | N26: 対象 箇所 | O26: 覆工・坑門
C28: 部位 区分 | D28: アーチ（右側） | N28: 部位 区分 | O28: アーチ（右側）
B30: 変状区分 | D30: 材質劣化 | M30: 変状区分 | O30: 材質劣化
B31: 変状種類 | D31: その他 | M31: 変状種類 | O31: 鋼材腐食
B32: 健全性 | C32: 応急措置前 | E32: - | M32: 健全性 | N32: 応急措置前 | P32: -
C33: 応急措置後 | E33: Ⅱ | N33: 応急措置後 | P33: Ⅱ
B34: 変状の発生範囲の規模 | E34: 0.25m×0.15m D=0.01m 0.0375㎡ | M34: 変状の発生範囲の規模 | P34: 0.1m×0.1m D=0.01m 0.01㎡
B35: 前回定期点検時の状態 | E35: ジャンカ 0.25m×0.15m D=10mm | M35: 前回定期点検時の状態 | P35: 鉄筋露出 0.1m×0.1m×0.01m
B36: 調査方針 | E36: - | M36: 調査方針 | P36: -
B37: 対策履歴 | E37: - | H37: 実施状況（実施日） | J37: - | M37: 対策履歴 | P37: - | S37: 実施状況（実施日） | U37: -
B38: メモ | D38: 右アーチの骨材露出 （Ⅱb） | M38: メモ | O38: （Ⅱb）
C39: ※ 健全性（応急措置後）の判定区分Ⅱ～Ⅳについて添付すること。また、点検前に 実施された措置によりⅠと判定された箇所も添付すること。 | N39: ※ 変状の発生範囲の規模とは、対策を行う際に参考となる変状の長さや面積をいう。
N40: ※ 応急措置を実施しないで判定した変状の健全性は、健全性の応急措置後の欄に記入すること。
C41: ※ たたき落としを実施した場合は、実施後の写真を添付すること。 | N41: ※ 変状の発生範囲の規模は、面積・寸法を記載すること。
C42: ※ 附属物の取付状態に関する異常写真は別途、様式D-1-2でとりまとめること。 | N42: (ひび割れ幅のみmmとし、その他をm表記とする)
C43: ※ 変状数に準じてシートを追加すること。（１シートに１ページとすること。） | N43: ※ 構造用鋼材以外の異物に伴ううき・はく離については、メモ欄に異物の概要を記入すること。

Sheet 様式D-1-1(トンネル様式2P001) P004
B2: ■定期点検記録様式 変状写真台帳 | Y2: Ⅰ
B3: フリガナ | D3: ='様式C-2'!E3 -> ホウベンザントンネル | H3: 路線名 | J3: ='様式C-2'!J3:L3 -> 国道435号 | M3: 定期点検業者 | P3: ='様式C-2'!R3 -> 株式会社エイト日本技術開発 | S3: 定期点検年月日 | U3: ='様式C-2'!X3 -> 44413 | Y3: Ⅱ
B4: 名 称 | D4: ='様式C-2'!E4 -> 鳳翩山トンネル | H4: 管理者名 | J4: ='様式C-2'!J4:L4 -> 防府土木建設事務所山口支所 | M4: 定期点検者名 | P4: ='様式C-2'!R4 -> 榎田 敦之 | Y4: Ⅲ
B5: 写真 番号 | C5: 覆工 スパン 番号 | D5: 5 | M5: 写真 番号 | N5: 覆工 スパン 番号 | O5: 6 | Y5: Ⅳ
C7: 変状 番号 | D7: 2 | N7: 変状 番号 | O7: 1
B9: 変状 部位 | C9: 対象 箇所 | D9: 覆工・坑門 | M9: 変状 部位 | N9: 対象 箇所 | O9: 覆工・坑門
C11: 部位 区分 | D11: 側壁（右側） | N11: 部位 区分 | O11: アーチ（左側）
B13: 変状区分 | D13: 外力 | M13: 変状区分 | O13: 材質劣化
B14: 変状種類 | D14: ひび割れ | M14: 変状種類 | O14: うき・はく離
B15: 健全性 | C15: 応急措置前 | E15: - | M15: 健全性 | N15: 応急措置前 | P15: -
C16: 応急措置後 | E16: Ⅱ | N16: 応急措置後 | P16: Ⅱ
B17: 変状の発生範囲の規模 | E17: 幅0.3mm 長さ9.1m 0.00273㎡ | M17: 変状の発生範囲の規模 | P17: 0.35m×0.05m 0.0175㎡
B18: 前回定期点検時の状態 | E18: ひび割れ 幅0.3mm 長さ9.1m | M18: 前回定期点検時の状態 | P18: うき 0.35m×0.05m
B19: 調査方針 | E19: - | M19: 調査方針 | P19: -
B20: 対策履歴 | E20: - | H20: 実施状況（実施日） | J20: - | M20: 対策履歴 | P20: - | S20: 実施状況（実施日） | U20: -
B21: メモ | D21: （Ⅱb） | M21: メモ | O21: （Ⅱa）
B22: 写真 番号 | C22: 覆工 スパン 番号 | D22: 6 | M22: 写真 番号 | N22: 覆工 スパン 番号 | O22: 6
C24: 変状 番号 | D24: 2 | N24: 変状 番号 | O24: 3
B26: 変状 部位 | C26: 対象 箇所 | D26: 覆工・坑門 | M26: 変状 部位 | N26: 対象 箇所 | O26: 覆工・坑門
C28: 部位 区分 | D28: アーチ（右側） | N28: 部位 区分 | O28: 側壁（右側）
B30: 変状区分 | D30: 外力 | M30: 変状区分 | O30: 外力
B31: 変状種類 | D31: ひび割れ | M31: 変状種類 | O31: ひび割れ
B32: 健全性 | C32: 応急措置前 | E32: - | M32: 健全性 | N32: 応急措置前 | P32: -
C33: 応急措置後 | E33: Ⅱ | N33: 応急措置後 | P33: Ⅱ
B34: 変状の発生範囲の規模 | E34: 幅0.4mm 長さ5.2m 0.00208㎡ | M34: 変状の発生範囲の規模 | P34: 幅0.5mm 長さ5.4m 0.0027㎡
B35: 前回定期点検時の状態 | E35: ひび割れ 幅0.4mm 長さ5.2m | M35: 前回定期点検時の状態 | P35: ひび割れ 幅0.3mm 長さ5.4m
B36: 調査方針 | E36: - | M36: 調査方針 | P36: -
B37: 対策履歴 | E37: - | H37: 実施状況（実施日） | J37: - | M37: 対策履歴 | P37: - | S37: 実施状況（実施日） | U37: -
B38: メモ | D38: （Ⅱb） | M38: メモ | O38: （Ⅱb）
C39: ※ 健全性（応急措置後）の判定区分Ⅱ～Ⅳについて添付すること。また、点検前に 実施された措置によりⅠと判定された箇所も添付すること。 | N39: ※ 変状の発生範囲の規模とは、対策を行う際に参考となる変状の長さや面積をいう。
N40: ※ 応急措置を実施しないで判定した変状の健全性は、健全性の応急措置後の欄に記入すること。
C41: ※ たたき落としを実施した場合は、実施後の写真を添付すること。 | N41: ※ 変状の発生範囲の規模は、面積・寸法を記載すること。
C42: ※ 附属物の取付状態に関する異常写真は別途、様式D-1-2でとりまとめること。 | N42: (ひび割れ幅のみmmとし、その他をm表記とする)
C43: ※ 変状数に準じてシートを追加すること。（１シートに１ページとすること。） | N43: ※ 構造用鋼材以外の異物に伴ううき・はく離については、メモ欄に異物の概要を記入すること。

Sheet 様式D-1-1(トンネル様式2P001) P005
B2: ■定期点検記録様式 変状写真台帳 | Y2: Ⅰ
B3: フリガナ | D3: ='様式C-2'!E3 -> ホウベンザントンネル | H3: 路線名 | J3: ='様式C-2'!J3:L3 -> 国道435号 | M3: 定期点検業者 | P3: ='様式C-2'!R3 -> 株式会社エイト日本技術開発 | S3: 定期点検年月日 | U3: ='様式C-2'!X3 -> 44413 | Y3: Ⅱ
B4: 名 称 | D4: ='様式C-2'!E4 -> 鳳翩山トンネル | H4: 管理者名 | J4: ='様式C-2'!J4:L4 -> 防府土木建設事務所山口支所 | M4: 定期点検者名 | P4: ='様式C-2'!R4 -> 榎田 敦之 | Y4: Ⅲ
B5: 写真 番号 | C5: 覆工 スパン 番号 | D5: 9 | M5: 写真 番号 | N5: 覆工 スパン 番号 | O5: 12 | Y5: Ⅳ
C7: 変状 番号 | D7: 1 | N7: 変状 番号 | O7: 1
B9: 変状 部位 | C9: 対象 箇所 | D9: 覆工・坑門 | M9: 変状 部位 | N9: 対象 箇所 | O9: 覆工・坑門
C11: 部位 区分 | D11: アーチ（左側） | N11: 部位 区分 | O11: アーチ（右側）
B13: 変状区分 | D13: 材質劣化 | M13: 変状区分 | O13: 材質劣化
B14: 変状種類 | D14: 鋼材腐食 | M14: 変状種類 | O14: 鋼材腐食
B15: 健全性 | C15: 応急措置前 | E15: - | M15: 健全性 | N15: 応急措置前 | P15: -
C16: 応急措置後 | E16: Ⅱ | N16: 応急措置後 | P16: Ⅱ
B17: 変状の発生範囲の規模 | E17: 0.3m×0.08m D=0.01m ３か所 0.024㎡ | M17: 変状の発生範囲の規模 | P17: 0.15m×0.6m D=0.02m 0.09㎡
B18: 前回定期点検時の状態 | E18: 鉄筋露出 0.3m×0.08m×0.01m ３か所 | M18: 前回定期点検時の状態 | P18: 鉄筋露出 0.15m×0.6m×0.02m
B19: 調査方針 | E19: - | M19: 調査方針 | P19: -
B20: 対策履歴 | E20: - | H20: 実施状況（実施日） | J20: - | M20: 対策履歴 | P20: - | S20: 実施状況（実施日） | U20: -
B21: メモ | D21: 鋼材腐食 0.3m×0.08m D=0.01m,0.08m×0.25m D=0.01m,0.05m×0.1m D=0.1m （Ⅱb） | M21: メモ | O21: （Ⅱb）
B22: 写真 番号 | C22: 覆工 スパン 番号 | D22: 12 | M22: 写真 番号 | N22: 覆工 スパン 番号 | O22: 13
C24: 変状 番号 | D24: 2 | N24: 変状 番号 | O24: 1
B26: 変状 部位 | C26: 対象 箇所 | D26: 覆工・坑門 | M26: 変状 部位 | N26: 対象 箇所 | O26: 覆工・坑門
C28: 部位 区分 | D28: アーチ（右側） | N28: 部位 区分 | O28: アーチ（右側）
B30: 変状区分 | D30: 材質劣化 | M30: 変状区分 | O30: 材質劣化
B31: 変状種類 | D31: 鋼材腐食 | M31: 変状種類 | O31: 鋼材腐食
B32: 健全性 | C32: 応急措置前 | E32: - | M32: 健全性 | N32: 応急措置前 | P32: -
C33: 応急措置後 | E33: Ⅱ | N33: 応急措置後 | P33: Ⅱ
B34: 変状の発生範囲の規模 | E34: 0.05m×0.2m D=0.01m 0.01㎡ | M34: 変状の発生範囲の規模 | P34: 0.05m×0.2m D=0.01m 0.01㎡
B35: 前回定期点検時の状態 | E35: 鉄筋露出 0.05m×0.2m×0.01m | M35: 前回定期点検時の状態 | P35: 鉄筋露出 0.05m×0.2m×0.01m
B36: 調査方針 | E36: - | M36: 調査方針 | P36: -
B37: 対策履歴 | E37: - | H37: 実施状況（実施日） | J37: - | M37: 対策履歴 | P37: - | S37: 実施状況（実施日） | U37: -
B38: メモ | D38: （Ⅱb） | M38: メモ | O38: （Ⅱb）
C39: ※ 健全性（応急措置後）の判定区分Ⅱ～Ⅳについて添付すること。また、点検前に 実施された措置によりⅠと判定された箇所も添付すること。 | N39: ※ 変状の発生範囲の規模とは、対策を行う際に参考となる変状の長さや面積をいう。
N40: ※ 応急措置を実施しないで判定した変状の健全性は、健全性の応急措置後の欄に記入すること。
C41: ※ たたき落としを実施した場合は、実施後の写真を添付すること。 | N41: ※ 変状の発生範囲の規模は、面積・寸法を記載すること。
C42: ※ 附属物の取付状態に関する異常写真は別途、様式D-1-2でとりまとめること。 | N42: (ひび割れ幅のみmmとし、その他をm表記とする)
C43: ※ 変状数に準じてシートを追加すること。（１シートに１ページとすること。） | N43: ※ 構造用鋼材以外の異物に伴ううき・はく離については、メモ欄に異物の概要を記入すること。

Sheet 様式D-1-1(トンネル様式2P001) P006
B2: ■定期点検記録様式 変状写真台帳 | Y2: Ⅰ
B3: フリガナ | D3: ='様式C-2'!E3 -> ホウベンザントンネル | H3: 路線名 | J3: ='様式C-2'!J3:L3 -> 国道435号 | M3: 定期点検業者 | P3: ='様式C-2'!R3 -> 株式会社エイト日本技術開発 | S3: 定期点検年月日 | U3: ='様式C-2'!X3 -> 44413 | Y3: Ⅱ
B4: 名 称 | D4: ='様式C-2'!E4 -> 鳳翩山トンネル | H4: 管理者名 | J4: ='様式C-2'!J4:L4 -> 防府土木建設事務所山口支所 | M4: 定期点検者名 | P4: ='様式C-2'!R4 -> 榎田 敦之 | Y4: Ⅲ
B5: 写真 番号 | C5: 覆工 スパン 番号 | D5: 13 | M5: 写真 番号 | N5: 覆工 スパン 番号 | O5: 14 | Y5: Ⅳ
C7: 変状 番号 | D7: 2 | N7: 変状 番号 | O7: 1
B9: 変状 部位 | C9: 対象 箇所 | D9: 覆工・坑門 | M9: 変状 部位 | N9: 対象 箇所 | O9: 覆工・坑門
C11: 部位 区分 | D11: アーチ（右側） | N11: 部位 区分 | O11: アーチ（左側）
B13: 変状区分 | D13: 外力 | M13: 変状区分 | O13: 材質劣化
B14: 変状種類 | D14: ひび割れ | M14: 変状種類 | O14: ひび割れ
B15: 健全性 | C15: 応急措置前 | E15: - | M15: 健全性 | N15: 応急措置前 | P15: -
C16: 応急措置後 | E16: Ⅱ | N16: 応急措置後 | P16: Ⅱ
B17: 変状の発生範囲の規模 | E17: 幅0.4mm 長さ7.0m 0.0028㎡ | M17: 変状の発生範囲の規模 | P17: 1.0m×0.03m 0.03㎡
B18: 前回定期点検時の状態 | E18: ひび割れ 幅0.4mm×長さ7.0m | M18: 前回定期点検時の状態 | P18: ひび割れ 1.0m×0.3m
B19: 調査方針 | E19: - | M19: 調査方針 | P19: -
B20: 対策履歴 | E20: - | H20: 実施状況（実施日） | J20: - | M20: 対策履歴 | P20: - | S20: 実施状況（実施日） | U20: -
B21: メモ | D21: （Ⅱb） | M21: メモ | O21: 目地部の閉合ひび割れ打音異常なし W=0.5 （Ⅱb）
B22: 写真 番号 | C22: 覆工 スパン 番号 | D22: 19 | M22: 写真 番号 | N22: 覆工 スパン 番号 | O22: 20
C24: 変状 番号 | D24: 1 | N24: 変状 番号 | O24: 1
B26: 変状 部位 | C26: 対象 箇所 | D26: 覆工・坑門 | M26: 変状 部位 | N26: 対象 箇所 | O26: 覆工・坑門
C28: 部位 区分 | D28: アーチ（左側） | N28: 部位 区分 | O28: アーチ（全周）
B30: 変状区分 | D30: 外力 | M30: 変状区分 | O30: 材質劣化
B31: 変状種類 | D31: ひび割れ | M31: 変状種類 | O31: ひび割れ
B32: 健全性 | C32: 応急措置前 | E32: - | M32: 健全性 | N32: 応急措置前 | P32: -
C33: 応急措置後 | E33: Ⅱ | N33: 応急措置後 | P33: Ⅱ
B34: 変状の発生範囲の規模 | E34: 幅0.5mm×長さ7.7m 0.00385㎡ | M34: 変状の発生範囲の規模 | P34: 10.0m×0.9m 9㎡
B35: 前回定期点検時の状態 | E35: ひび割れ 幅0.5mm×長さ7.7m | M35: 前回定期点検時の状態 | P35: ひび割れ 7.5m×0.9m
B36: 調査方針 | E36: - | M36: 調査方針 | P36: -
B37: 対策履歴 | E37: - | H37: 実施状況（実施日） | J37: - | M37: 対策履歴 | P37: - | S37: 実施状況（実施日） | U37: -
B38: メモ | D38: （Ⅱb） | M38: メモ | O38: 目地部の閉合ひび割れ打音異常なし W=0.5 （Ⅱb）
C39: ※ 健全性（応急措置後）の判定区分Ⅱ～Ⅳについて添付すること。また、点検前に 実施された措置によりⅠと判定された箇所も添付すること。 | N39: ※ 変状の発生範囲の規模とは、対策を行う際に参考となる変状の長さや面積をいう。
N40: ※ 応急措置を実施しないで判定した変状の健全性は、健全性の応急措置後の欄に記入すること。
C41: ※ たたき落としを実施した場合は、実施後の写真を添付すること。 | N41: ※ 変状の発生範囲の規模は、面積・寸法を記載すること。
C42: ※ 附属物の取付状態に関する異常写真は別途、様式D-1-2でとりまとめること。 | N42: (ひび割れ幅のみmmとし、その他をm表記とする)
C43: ※ 変状数に準じてシートを追加すること。（１シートに１ページとすること。） | N43: ※ 構造用鋼材以外の異物に伴ううき・はく離については、メモ欄に異物の概要を記入すること。

Sheet 様式D-1-1(トンネル様式2P001) P007
B2: ■定期点検記録様式 変状写真台帳 | Y2: Ⅰ
B3: フリガナ | D3: ='様式C-2'!E3 -> ホウベンザントンネル | H3: 路線名 | J3: ='様式C-2'!J3:L3 -> 国道435号 | M3: 定期点検業者 | P3: ='様式C-2'!R3 -> 株式会社エイト日本技術開発 | S3: 定期点検年月日 | U3: ='様式C-2'!X3 -> 44413 | Y3: Ⅱ
B4: 名 称 | D4: ='様式C-2'!E4 -> 鳳翩山トンネル | H4: 管理者名 | J4: ='様式C-2'!J4:L4 -> 防府土木建設事務所山口支所 | M4: 定期点検者名 | P4: ='様式C-2'!R4 -> 榎田 敦之 | Y4: Ⅲ
B5: 写真 番号 | C5: 覆工 スパン 番号 | D5: 23 | M5: 写真 番号 | N5: 覆工 スパン 番号 | O5: 23 | Y5: Ⅳ
C7: 変状 番号 | D7: 1 | N7: 変状 番号 | O7: 2
B9: 変状 部位 | C9: 対象 箇所 | D9: 覆工・坑門 | M9: 変状 部位 | N9: 対象 箇所 | O9: 覆工・坑門
C11: 部位 区分 | D11: アーチ（左側） | N11: 部位 区分 | O11: アーチ（左側）
B13: 変状区分 | D13: 材質劣化 | M13: 変状区分 | O13: 材質劣化
B14: 変状種類 | D14: 鋼材腐食 | M14: 変状種類 | O14: 鋼材腐食
B15: 健全性 | C15: 応急措置前 | E15: - | M15: 健全性 | N15: 応急措置前 | P15: -
C16: 応急措置後 | E16: Ⅱ | N16: 応急措置後 | P16: Ⅱ
B17: 変状の発生範囲の規模 | E17: 0.05m×0.05m D=0.01m 0.0025㎡ | M17: 変状の発生範囲の規模 | P17: 0.05m×0.05m D=0.005m ２か所 0.0025㎡
B18: 前回定期点検時の状態 | E18: 鉄筋露出 0.05m×0.05m×0.01m | M18: 前回定期点検時の状態 | P18: 鉄筋露出 0.05m×0.05m×0.005m ２か所
B19: 調査方針 | E19: - | M19: 調査方針 | P19: -
B20: 対策履歴 | E20: - | H20: 実施状況（実施日） | J20: - | M20: 対策履歴 | P20: - | S20: 実施状況（実施日） | U20: -
B21: メモ | D21: （Ⅱb） | M21: メモ | O21: 鋼材腐食 0.05m×0.05m D=0.005m,0.05m×0.05m D=0.005m （Ⅱb）
B22: 写真 番号 | C22: 覆工 スパン 番号 | D22: 24 | M22: 写真 番号 | N22: 覆工 スパン 番号 | O22: 25
C24: 変状 番号 | D24: 1 | N24: 変状 番号 | O24: 1
B26: 変状 部位 | C26: 対象 箇所 | D26: 覆工・坑門 | M26: 変状 部位 | N26: 対象 箇所 | O26: 覆工・坑門
C28: 部位 区分 | D28: アーチ（右側） | N28: 部位 区分 | O28: アーチ（左側）
B30: 変状区分 | D30: 材質劣化 | M30: 変状区分 | O30: 材質劣化
B31: 変状種類 | D31: うき・はく離 | M31: 変状種類 | O31: 鋼材腐食
B32: 健全性 | C32: 応急措置前 | E32: - | M32: 健全性 | N32: 応急措置前 | P32: -
C33: 応急措置後 | E33: Ⅱ | N33: 応急措置後 | P33: Ⅱ
B34: 変状の発生範囲の規模 | E34: 0.7m×0.05m 0.035㎡ | M34: 変状の発生範囲の規模 | P34: 0.05m×0.05m D=0.005m 0.0025㎡
B35: 前回定期点検時の状態 | E35: うき 0.7m×0.05m | M35: 前回定期点検時の状態 | P35: 鉄筋露出 0.05m×0.05m×0.005m
B36: 調査方針 | E36: - | M36: 調査方針 | P36: -
B37: 対策履歴 | E37: - | H37: 実施状況（実施日） | J37: - | M37: 対策履歴 | P37: - | S37: 実施状況（実施日） | U37: -
B38: メモ | D38: （Ⅱa） | M38: メモ | O38: （Ⅱb）
C39: ※ 健全性（応急措置後）の判定区分Ⅱ～Ⅳについて添付すること。また、点検前に 実施された措置によりⅠと判定された箇所も添付すること。 | N39: ※ 変状の発生範囲の規模とは、対策を行う際に参考となる変状の長さや面積をいう。
N40: ※ 応急措置を実施しないで判定した変状の健全性は、健全性の応急措置後の欄に記入すること。
C41: ※ たたき落としを実施した場合は、実施後の写真を添付すること。 | N41: ※ 変状の発生範囲の規模は、面積・寸法を記載すること。
C42: ※ 附属物の取付状態に関する異常写真は別途、様式D-1-2でとりまとめること。 | N42: (ひび割れ幅のみmmとし、その他をm表記とする)
C43: ※ 変状数に準じてシートを追加すること。（１シートに１ページとすること。） | N43: ※ 構造用鋼材以外の異物に伴ううき・はく離については、メモ欄に異物の概要を記入すること。

Sheet 様式D-1-1(トンネル様式2P001) P008
B2: ■定期点検記録様式 変状写真台帳 | Y2: Ⅰ
B3: フリガナ | D3: ='様式C-2'!E3 -> ホウベンザントンネル | H3: 路線名 | J3: ='様式C-2'!J3:L3 -> 国道435号 | M3: 定期点検業者 | P3: ='様式C-2'!R3 -> 株式会社エイト日本技術開発 | S3: 定期点検年月日 | U3: ='様式C-2'!X3 -> 44413 | Y3: Ⅱ
B4: 名 称 | D4: ='様式C-2'!E4 -> 鳳翩山トンネル | H4: 管理者名 | J4: ='様式C-2'!J4:L4 -> 防府土木建設事務所山口支所 | M4: 定期点検者名 | P4: ='様式C-2'!R4 -> 榎田 敦之 | Y4: Ⅲ
B5: 写真 番号 | C5: 覆工 スパン 番号 | D5: 25 | M5: 写真 番号 | N5: 覆工 スパン 番号 | O5: 25 | Y5: Ⅳ
C7: 変状 番号 | D7: 2 | N7: 変状 番号 | O7: 3
B9: 変状 部位 | C9: 対象 箇所 | D9: 覆工・坑門 | M9: 変状 部位 | N9: 対象 箇所 | O9: 覆工・坑門
C11: 部位 区分 | D11: アーチ（右側） | N11: 部位 区分 | O11: アーチ（右側）
B13: 変状区分 | D13: 材質劣化 | M13: 変状区分 | O13: 材質劣化
B14: 変状種類 | D14: ひび割れ | M14: 変状種類 | O14: 鋼材腐食
B15: 健全性 | C15: 応急措置前 | E15: - | M15: 健全性 | N15: 応急措置前 | P15: -
C16: 応急措置後 | E16: Ⅰ | N16: 応急措置後 | P16: Ⅱ
B17: 変状の発生範囲の規模 | E17: 幅0.4mm×長さ7.2m 0.00288㎡ | M17: 変状の発生範囲の規模 | P17: 0.1m×0.1m D=0.005m 0.01㎡
B18: 前回定期点検時の状態 | E18: ひび割れ 幅0.4mm×長さ7.2m | M18: 前回定期点検時の状態 | P18: 鉄筋露出 0.1m×0.1m×0.005m
B19: 調査方針 | E19: - | M19: 調査方針 | P19: -
B20: 対策履歴 | E20: - | H20: 実施状況（実施日） | J20: - | M20: 対策履歴 | P20: - | S20: 実施状況（実施日） | U20: -
B21: メモ | D21: （Ⅰ） | M21: メモ | O21: （Ⅱb）
B22: 写真 番号 | C22: 覆工 スパン 番号 | D22: 26 | M22: 写真 番号 | N22: 覆工 スパン 番号 | O22: 26
C24: 変状 番号 | D24: 1 | N24: 変状 番号 | O24: 2
B26: 変状 部位 | C26: 対象 箇所 | D26: 覆工・坑門 | M26: 変状 部位 | N26: 対象 箇所 | O26: 覆工・坑門
C28: 部位 区分 | D28: アーチ（左側） | N28: 部位 区分 | O28: アーチ（右側）
B30: 変状区分 | D30: 材質劣化 | M30: 変状区分 | O30: 材質劣化
B31: 変状種類 | D31: ひび割れ | M31: 変状種類 | O31: うき・はく離
B32: 健全性 | C32: 応急措置前 | E32: - | M32: 健全性 | N32: 応急措置前 | P32: -
C33: 応急措置後 | E33: Ⅰ | N33: 応急措置後 | P33: Ⅱ
B34: 変状の発生範囲の規模 | E34: 幅0.5mm×長さ10.0m 0.005㎡ | M34: 変状の発生範囲の規模 | P34: 0.5m×0.05m 0.025㎡
B35: 前回定期点検時の状態 | E35: ひび割れ 幅0.5mm×長さ10.0m | M35: 前回定期点検時の状態 | P35: うき 0.5m×0.05m
B36: 調査方針 | E36: - | M36: 調査方針 | P36: -
B37: 対策履歴 | E37: - | H37: 実施状況（実施日） | J37: - | M37: 対策履歴 | P37: - | S37: 実施状況（実施日） | U37: -
B38: メモ | D38: （Ⅰ） | M38: メモ | O38: （Ⅱa）
C39: ※ 健全性（応急措置後）の判定区分Ⅱ～Ⅳについて添付すること。また、点検前に 実施された措置によりⅠと判定された箇所も添付すること。 | N39: ※ 変状の発生範囲の規模とは、対策を行う際に参考となる変状の長さや面積をいう。
N40: ※ 応急措置を実施しないで判定した変状の健全性は、健全性の応急措置後の欄に記入すること。
C41: ※ たたき落としを実施した場合は、実施後の写真を添付すること。 | N41: ※ 変状の発生範囲の規模は、面積・寸法を記載すること。
C42: ※ 附属物の取付状態に関する異常写真は別途、様式D-1-2でとりまとめること。 | N42: (ひび割れ幅のみmmとし、その他をm表記とする)
C43: ※ 変状数に準じてシートを追加すること。（１シートに１ページとすること。） | N43: ※ 構造用鋼材以外の異物に伴ううき・はく離については、メモ欄に異物の概要を記入すること。

Sheet 様式D-1-1(トンネル様式2P001) P009
B2: ■定期点検記録様式 変状写真台帳 | Y2: Ⅰ
B3: フリガナ | D3: ='様式C-2'!E3 -> ホウベンザントンネル | H3: 路線名 | J3: ='様式C-2'!J3:L3 -> 国道435号 | M3: 定期点検業者 | P3: ='様式C-2'!R3 -> 株式会社エイト日本技術開発 | S3: 定期点検年月日 | U3: ='様式C-2'!X3 -> 44413 | Y3: Ⅱ
B4: 名 称 | D4: ='様式C-2'!E4 -> 鳳翩山トンネル | H4: 管理者名 | J4: ='様式C-2'!J4:L4 -> 防府土木建設事務所山口支所 | M4: 定期点検者名 | P4: ='様式C-2'!R4 -> 榎田 敦之 | Y4: Ⅲ
B5: 写真 番号 | C5: 覆工 スパン 番号 | D5: 26 | M5: 写真 番号 | N5: 覆工 スパン 番号 | O5: 26 | Y5: Ⅳ
C7: 変状 番号 | D7: 3 | N7: 変状 番号 | O7: 4
B9: 変状 部位 | C9: 対象 箇所 | D9: 覆工・坑門 | M9: 変状 部位 | N9: 対象 箇所 | O9: 覆工・坑門
C11: 部位 区分 | D11: アーチ（右側） | N11: 部位 区分 | O11: アーチ（右側）
B13: 変状区分 | D13: 材質劣化 | M13: 変状区分 | O13: 材質劣化
B14: 変状種類 | D14: うき・はく離 | M14: 変状種類 | O14: うき・はく離
B15: 健全性 | C15: 応急措置前 | E15: - | M15: 健全性 | N15: 応急措置前 | P15: -
C16: 応急措置後 | E16: Ⅱ | N16: 応急措置後 | P16: Ⅱ
B17: 変状の発生範囲の規模 | E17: 0.4m×0.05m 0.02㎡ | M17: 変状の発生範囲の規模 | P17: 0.4m×0.05m 0.02㎡
B18: 前回定期点検時の状態 | E18: うき 0.4m×0.05m | M18: 前回定期点検時の状態 | P18: うき 0.4m×0.05m
B19: 調査方針 | E19: - | M19: 調査方針 | P19: -
B20: 対策履歴 | E20: - | H20: 実施状況（実施日） | J20: - | M20: 対策履歴 | P20: - | S20: 実施状況（実施日） | U20: -
B21: メモ | D21: （Ⅱa） | M21: メモ | O21: （Ⅱa）
B22: 写真 番号 | C22: 覆工 スパン 番号 | D22: 27 | M22: 写真 番号 | N22: 覆工 スパン 番号 | O22: 28
C24: 変状 番号 | D24: 1 | N24: 変状 番号 | O24: 1
B26: 変状 部位 | C26: 対象 箇所 | D26: 覆工・坑門 | M26: 変状 部位 | N26: 対象 箇所 | O26: 覆工・坑門
C28: 部位 区分 | D28: アーチ（左側） | N28: 部位 区分 | O28: アーチ（左側）
B30: 変状区分 | D30: 材質劣化 | M30: 変状区分 | O30: 材質劣化
B31: 変状種類 | D31: ひび割れ | M31: 変状種類 | O31: うき・はく離
B32: 健全性 | C32: 応急措置前 | E32: - | M32: 健全性 | N32: 応急措置前 | P32: -
C33: 応急措置後 | E33: Ⅰ | N33: 応急措置後 | P33: Ⅱ
B34: 変状の発生範囲の規模 | E34: 幅1.0mm×長さ11.0m 0.011㎡ | M34: 変状の発生範囲の規模 | P34: 0.15m×0.06m 0.009㎡
B35: 前回定期点検時の状態 | E35: ひび割れ 幅1.0mm×長さ11.0m | M35: 前回定期点検時の状態 | P35: うき 0.15m×0.06m
B36: 調査方針 | E36: - | M36: 調査方針 | P36: -
B37: 対策履歴 | E37: - | H37: 実施状況（実施日） | J37: - | M37: 対策履歴 | P37: - | S37: 実施状況（実施日） | U37: -
B38: メモ | D38: （Ⅰ） | M38: メモ | O38: （Ⅱa）
C39: ※ 健全性（応急措置後）の判定区分Ⅱ～Ⅳについて添付すること。また、点検前に 実施された措置によりⅠと判定された箇所も添付すること。 | N39: ※ 変状の発生範囲の規模とは、対策を行う際に参考となる変状の長さや面積をいう。
N40: ※ 応急措置を実施しないで判定した変状の健全性は、健全性の応急措置後の欄に記入すること。
C41: ※ たたき落としを実施した場合は、実施後の写真を添付すること。 | N41: ※ 変状の発生範囲の規模は、面積・寸法を記載すること。
C42: ※ 附属物の取付状態に関する異常写真は別途、様式D-1-2でとりまとめること。 | N42: (ひび割れ幅のみmmとし、その他をm表記とする)
C43: ※ 変状数に準じてシートを追加すること。（１シートに１ページとすること。） | N43: ※ 構造用鋼材以外の異物に伴ううき・はく離については、メモ欄に異物の概要を記入すること。

Sheet 様式D-1-1(トンネル様式2P001) P010
B2: ■定期点検記録様式 変状写真台帳 | Y2: Ⅰ
B3: フリガナ | D3: ='様式C-2'!E3 -> ホウベンザントンネル | H3: 路線名 | J3: ='様式C-2'!J3:L3 -> 国道435号 | M3: 定期点検業者 | P3: ='様式C-2'!R3 -> 株式会社エイト日本技術開発 | S3: 定期点検年月日 | U3: ='様式C-2'!X3 -> 44413 | Y3: Ⅱ
B4: 名 称 | D4: ='様式C-2'!E4 -> 鳳翩山トンネル | H4: 管理者名 | J4: ='様式C-2'!J4:L4 -> 防府土木建設事務所山口支所 | M4: 定期点検者名 | P4: ='様式C-2'!R4 -> 榎田 敦之 | Y4: Ⅲ
B5: 写真 番号 | C5: 覆工 スパン 番号 | D5: 28 | M5: 写真 番号 | N5: 覆工 スパン 番号 | O5: 29 | Y5: Ⅳ
C7: 変状 番号 | D7: 2 | N7: 変状 番号 | O7: 1
B9: 変状 部位 | C9: 対象 箇所 | D9: 覆工・坑門 | M9: 変状 部位 | N9: 対象 箇所 | O9: 覆工・坑門
C11: 部位 区分 | D11: アーチ（左側） | N11: 部位 区分 | O11: アーチ（左側）
B13: 変状区分 | D13: 材質劣化 | M13: 変状区分 | O13: 材質劣化
B14: 変状種類 | D14: ひび割れ | M14: 変状種類 | O14: ひび割れ
B15: 健全性 | C15: 応急措置前 | E15: - | M15: 健全性 | N15: 応急措置前 | P15: -
C16: 応急措置後 | E16: Ⅰ | N16: 応急措置後 | P16: Ⅰ
B17: 変状の発生範囲の規模 | E17: 幅0.5mm×長さ10.5m 0.00525㎡ | M17: 変状の発生範囲の規模 | P17: 幅0.4mm×長さ7.0m 0.0028㎡
B18: 前回定期点検時の状態 | E18: ひび割れ 幅0.5mm×長さ10.5m | M18: 前回定期点検時の状態 | P18: ひび割れ 幅0.4mm×長さ7.0m
B19: 調査方針 | E19: - | M19: 調査方針 | P19: -
B20: 対策履歴 | E20: - | H20: 実施状況（実施日） | J20: - | M20: 対策履歴 | P20: - | S20: 実施状況（実施日） | U20: -
B21: メモ | D21: （Ⅰ） | M21: メモ | O21: （Ⅰ）
B22: 写真 番号 | C22: 覆工 スパン 番号 | D22: 30 | M22: 写真 番号 | N22: 覆工 スパン 番号 | O22: 30
C24: 変状 番号 | D24: 1 | N24: 変状 番号 | O24: 2
B26: 変状 部位 | C26: 対象 箇所 | D26: 覆工・坑門 | M26: 変状 部位 | N26: 対象 箇所 | O26: 覆工・坑門
C28: 部位 区分 | D28: アーチ（左側） | N28: 部位 区分 | O28: アーチ（左側）
B30: 変状区分 | D30: 材質劣化 | M30: 変状区分 | O30: 材質劣化
B31: 変状種類 | D31: ひび割れ | M31: 変状種類 | O31: うき・はく離
B32: 健全性 | C32: 応急措置前 | E32: - | M32: 健全性 | N32: 応急措置前 | P32: -
C33: 応急措置後 | E33: Ⅰ | N33: 応急措置後 | P33: Ⅱ
B34: 変状の発生範囲の規模 | E34: 幅0.5mm×長さ10.5m 0.00525㎡ | M34: 変状の発生範囲の規模 | P34: 0.2m×0.1m 0.02㎡
B35: 前回定期点検時の状態 | E35: ひび割れ 幅0.5mm×長さ10.5m | M35: 前回定期点検時の状態 | P35: 新規
B36: 調査方針 | E36: - | M36: 調査方針 | P36: -
B37: 対策履歴 | E37: - | H37: 実施状況（実施日） | J37: - | M37: 対策履歴 | P37: - | S37: 実施状況（実施日） | U37: -
B38: メモ | D38: （Ⅰ） | M38: メモ | O38: （Ⅱa）
C39: ※ 健全性（応急措置後）の判定区分Ⅱ～Ⅳについて添付すること。また、点検前に 実施された措置によりⅠと判定された箇所も添付すること。 | N39: ※ 変状の発生範囲の規模とは、対策を行う際に参考となる変状の長さや面積をいう。
N40: ※ 応急措置を実施しないで判定した変状の健全性は、健全性の応急措置後の欄に記入すること。
C41: ※ たたき落としを実施した場合は、実施後の写真を添付すること。 | N41: ※ 変状の発生範囲の規模は、面積・寸法を記載すること。
C42: ※ 附属物の取付状態に関する異常写真は別途、様式D-1-2でとりまとめること。 | N42: (ひび割れ幅のみmmとし、その他をm表記とする)
C43: ※ 変状数に準じてシートを追加すること。（１シートに１ページとすること。） | N43: ※ 構造用鋼材以外の異物に伴ううき・はく離については、メモ欄に異物の概要を記入すること。

Sheet 様式D-1-1(トンネル様式2P001) P011
B2: ■定期点検記録様式 変状写真台帳 | Y2: Ⅰ
B3: フリガナ | D3: ='様式C-2'!E3 -> ホウベンザントンネル | H3: 路線名 | J3: ='様式C-2'!J3:L3 -> 国道435号 | M3: 定期点検業者 | P3: ='様式C-2'!R3 -> 株式会社エイト日本技術開発 | S3: 定期点検年月日 | U3: ='様式C-2'!X3 -> 44413 | Y3: Ⅱ
B4: 名 称 | D4: ='様式C-2'!E4 -> 鳳翩山トンネル | H4: 管理者名 | J4: ='様式C-2'!J4:L4 -> 防府土木建設事務所山口支所 | M4: 定期点検者名 | P4: ='様式C-2'!R4 -> 榎田 敦之 | Y4: Ⅲ
B5: 写真 番号 | C5: 覆工 スパン 番号 | D5: 30 | M5: 写真 番号 | N5: 覆工 スパン 番号 | O5: 31 | Y5: Ⅳ
C7: 変状 番号 | D7: 3 | N7: 変状 番号 | O7: 1
B9: 変状 部位 | C9: 対象 箇所 | D9: 覆工・坑門 | M9: 変状 部位 | N9: 対象 箇所 | O9: 覆工・坑門
C11: 部位 区分 | D11: アーチ（右側） | N11: 部位 区分 | O11: アーチ（左側）
B13: 変状区分 | D13: 材質劣化 | M13: 変状区分 | O13: 材質劣化
B14: 変状種類 | D14: 鋼材腐食 | M14: 変状種類 | O14: ひび割れ
B15: 健全性 | C15: 応急措置前 | E15: - | M15: 健全性 | N15: 応急措置前 | P15: -
C16: 応急措置後 | E16: Ⅱ | N16: 応急措置後 | P16: Ⅰ
B17: 変状の発生範囲の規模 | E17: 0.08m×0.15m D=0.01m 0.012㎡ | M17: 変状の発生範囲の規模 | P17: 幅0.5mm×長さ11.0m 0.0055㎡
B18: 前回定期点検時の状態 | E18: 鉄筋露出 0.08m×0.15m×0.01m | M18: 前回定期点検時の状態 | P18: ひび割れ 幅0.5mm×長さ11.0m
B19: 調査方針 | E19: - | M19: 調査方針 | P19: -
B20: 対策履歴 | E20: - | H20: 実施状況（実施日） | J20: - | M20: 対策履歴 | P20: - | S20: 実施状況（実施日） | U20: -
B21: メモ | D21: （Ⅱb） | M21: メモ | O21: （Ⅰ）
B22: 写真 番号 | C22: 覆工 スパン 番号 | D22: 31 | M22: 写真 番号 | N22: 覆工 スパン 番号 | O22: 31
C24: 変状 番号 | D24: 2 | N24: 変状 番号 | O24: 3
B26: 変状 部位 | C26: 対象 箇所 | D26: 覆工・坑門 | M26: 変状 部位 | N26: 対象 箇所 | O26: 覆工・坑門
C28: 部位 区分 | D28: アーチ（左側） | N28: 部位 区分 | O28: アーチ（右側）
B30: 変状区分 | D30: 材質劣化 | M30: 変状区分 | O30: 材質劣化
B31: 変状種類 | D31: その他 | M31: 変状種類 | O31: その他
B32: 健全性 | C32: 応急措置前 | E32: - | M32: 健全性 | N32: 応急措置前 | P32: -
C33: 応急措置後 | E33: Ⅱ | N33: 応急措置後 | P33: Ⅱ
B34: 変状の発生範囲の規模 | E34: 0.35m×0.05m 0.0175㎡ | M34: 変状の発生範囲の規模 | P34: 0.3m×0.05m D=0.01 0.015㎡
B35: 前回定期点検時の状態 | E35: 木片混入 0.35m×0.05m | M35: 前回定期点検時の状態 | P35: 新規
B36: 調査方針 | E36: - | M36: 調査方針 | P36: -
B37: 対策履歴 | E37: - | H37: 実施状況（実施日） | J37: - | M37: 対策履歴 | P37: - | S37: 実施状況（実施日） | U37: -
B38: メモ | D38: 左アーチの木片混入 （Ⅱb） | M38: メモ | O38: 右アーチの木片混入 （Ⅱb）
C39: ※ 健全性（応急措置後）の判定区分Ⅱ～Ⅳについて添付すること。また、点検前に 実施された措置によりⅠと判定された箇所も添付すること。 | N39: ※ 変状の発生範囲の規模とは、対策を行う際に参考となる変状の長さや面積をいう。
N40: ※ 応急措置を実施しないで判定した変状の健全性は、健全性の応急措置後の欄に記入すること。
C41: ※ たたき落としを実施した場合は、実施後の写真を添付すること。 | N41: ※ 変状の発生範囲の規模は、面積・寸法を記載すること。
C42: ※ 附属物の取付状態に関する異常写真は別途、様式D-1-2でとりまとめること。 | N42: (ひび割れ幅のみmmとし、その他をm表記とする)
C43: ※ 変状数に準じてシートを追加すること。（１シートに１ページとすること。） | N43: ※ 構造用鋼材以外の異物に伴ううき・はく離については、メモ欄に異物の概要を記入すること。

Sheet 様式D-1-1(トンネル様式2P001) P012
B2: ■定期点検記録様式 変状写真台帳 | Y2: Ⅰ
B3: フリガナ | D3: ='様式C-2'!E3 -> ホウベンザントンネル | H3: 路線名 | J3: ='様式C-2'!J3:L3 -> 国道435号 | M3: 定期点検業者 | P3: ='様式C-2'!R3 -> 株式会社エイト日本技術開発 | S3: 定期点検年月日 | U3: ='様式C-2'!X3 -> 44413 | Y3: Ⅱ
B4: 名 称 | D4: ='様式C-2'!E4 -> 鳳翩山トンネル | H4: 管理者名 | J4: ='様式C-2'!J4:L4 -> 防府土木建設事務所山口支所 | M4: 定期点検者名 | P4: ='様式C-2'!R4 -> 榎田 敦之 | Y4: Ⅲ
B5: 写真 番号 | C5: 覆工 スパン 番号 | D5: 32 | M5: 写真 番号 | N5: 覆工 スパン 番号 | O5: 32 | Y5: Ⅳ
C7: 変状 番号 | D7: 1 | N7: 変状 番号 | O7: 2
B9: 変状 部位 | C9: 対象 箇所 | D9: 覆工・坑門 | M9: 変状 部位 | N9: 対象 箇所 | O9: 覆工・坑門
C11: 部位 区分 | D11: アーチ（左側） | N11: 部位 区分 | O11: アーチ（左側）
B13: 変状区分 | D13: 材質劣化 | M13: 変状区分 | O13: 材質劣化
B14: 変状種類 | D14: 鋼材腐食 | M14: 変状種類 | O14: ひび割れ
B15: 健全性 | C15: 応急措置前 | E15: - | M15: 健全性 | N15: 応急措置前 | P15: -
C16: 応急措置後 | E16: Ⅱ | N16: 応急措置後 | P16: Ⅰ
B17: 変状の発生範囲の規模 | E17: 0.1m×0.1m D=0.01m 0.01㎡ | M17: 変状の発生範囲の規模 | P17: 幅0.5mm×長さ11.0m 0.0055㎡
B18: 前回定期点検時の状態 | E18: 鉄筋露出 0.1m×0.1m×0.01m | M18: 前回定期点検時の状態 | P18: ひび割れ 幅0.5mm×長さ11.0m
B19: 調査方針 | E19: - | M19: 調査方針 | P19: -
B20: 対策履歴 | E20: - | H20: 実施状況（実施日） | J20: - | M20: 対策履歴 | P20: - | S20: 実施状況（実施日） | U20: -
B21: メモ | D21: （Ⅱb） | M21: メモ | O21: （Ⅰ）
B22: 写真 番号 | C22: 覆工 スパン 番号 | D22: 33 | M22: 写真 番号 | N22: 覆工 スパン 番号 | O22: 34
C24: 変状 番号 | D24: 1 | N24: 変状 番号 | O24: 1
B26: 変状 部位 | C26: 対象 箇所 | D26: 覆工・坑門 | M26: 変状 部位 | N26: 対象 箇所 | O26: 覆工・坑門
C28: 部位 区分 | D28: アーチ（左側） | N28: 部位 区分 | O28: アーチ（左側）
B30: 変状区分 | D30: 材質劣化 | M30: 変状区分 | O30: 材質劣化
B31: 変状種類 | D31: ひび割れ | M31: 変状種類 | O31: うき・はく離
B32: 健全性 | C32: 応急措置前 | E32: - | M32: 健全性 | N32: 応急措置前 | P32: Ⅳ
C33: 応急措置後 | E33: Ⅰ | N33: 応急措置後 | P33: Ⅱ
B34: 変状の発生範囲の規模 | E34: 幅1.0mm×長さ9.5m 0.0095㎡ | M34: 変状の発生範囲の規模 | P34: 0.7m×0.1m 0.07㎡
B35: 前回定期点検時の状態 | E35: ひび割れ 幅1.0mm×長さ9.5m | M35: 前回定期点検時の状態 | P35: はく離 0.4m×0.08m
B36: 調査方針 | E36: - | M36: 調査方針 | P36: -
B37: 対策履歴 | E37: - | H37: 実施状況（実施日） | J37: - | M37: 対策履歴 | P37: - | S37: 実施状況（実施日） | U37: -
B38: メモ | D38: （Ⅰ） | M38: メモ | O38: はく落内部にうき(一部撤去済み) （Ⅱa）
C39: ※ 健全性（応急措置後）の判定区分Ⅱ～Ⅳについて添付すること。また、点検前に 実施された措置によりⅠと判定された箇所も添付すること。 | N39: ※ 変状の発生範囲の規模とは、対策を行う際に参考となる変状の長さや面積をいう。
N40: ※ 応急措置を実施しないで判定した変状の健全性は、健全性の応急措置後の欄に記入すること。
C41: ※ たたき落としを実施した場合は、実施後の写真を添付すること。 | N41: ※ 変状の発生範囲の規模は、面積・寸法を記載すること。
C42: ※ 附属物の取付状態に関する異常写真は別途、様式D-1-2でとりまとめること。 | N42: (ひび割れ幅のみmmとし、その他をm表記とする)
C43: ※ 変状数に準じてシートを追加すること。（１シートに１ページとすること。） | N43: ※ 構造用鋼材以外の異物に伴ううき・はく離については、メモ欄に異物の概要を記入すること。

Sheet 様式D-1-1(トンネル様式2P001) P013
B2: ■定期点検記録様式 変状写真台帳 | Y2: Ⅰ
B3: フリガナ | D3: ='様式C-2'!E3 -> ホウベンザントンネル | H3: 路線名 | J3: ='様式C-2'!J3:L3 -> 国道435号 | M3: 定期点検業者 | P3: ='様式C-2'!R3 -> 株式会社エイト日本技術開発 | S3: 定期点検年月日 | U3: ='様式C-2'!X3 -> 44413 | Y3: Ⅱ
B4: 名 称 | D4: ='様式C-2'!E4 -> 鳳翩山トンネル | H4: 管理者名 | J4: ='様式C-2'!J4:L4 -> 防府土木建設事務所山口支所 | M4: 定期点検者名 | P4: ='様式C-2'!R4 -> 榎田 敦之 | Y4: Ⅲ
B5: 写真 番号 | C5: 覆工 スパン 番号 | D5: 34 | M5: 写真 番号 | N5: 覆工 スパン 番号 | O5: 34 | Y5: Ⅳ
C7: 変状 番号 | D7: 2 | N7: 変状 番号 | O7: 3
B9: 変状 部位 | C9: 対象 箇所 | D9: 覆工・坑門 | M9: 変状 部位 | N9: 対象 箇所 | O9: 覆工・坑門
C11: 部位 区分 | D11: アーチ（左側） | N11: 部位 区分 | O11: アーチ（右側）
B13: 変状区分 | D13: 材質劣化 | M13: 変状区分 | O13: 材質劣化
B14: 変状種類 | D14: ひび割れ | M14: 変状種類 | O14: うき・はく離
B15: 健全性 | C15: 応急措置前 | E15: - | M15: 健全性 | N15: 応急措置前 | P15: -
C16: 応急措置後 | E16: Ⅰ | N16: 応急措置後 | P16: Ⅱ
B17: 変状の発生範囲の規模 | E17: 幅0.5mm×長さ7.7m 0.00385㎡ | M17: 変状の発生範囲の規模 | P17: 0.4m×0.05m 0.02㎡
B18: 前回定期点検時の状態 | E18: ひび割れ 幅0.5mm×長さ7.7m | M18: 前回定期点検時の状態 | P18: うき・はく離 0.4m×0.05m
B19: 調査方針 | E19: - | M19: 調査方針 | P19: -
B20: 対策履歴 | E20: - | H20: 実施状況（実施日） | J20: - | M20: 対策履歴 | P20: - | S20: 実施状況（実施日） | U20: -
B21: メモ | D21: （Ⅰ） | M21: メモ | O21: （Ⅱa）
B22: 写真 番号 | C22: 覆工 スパン 番号 | D22: 35 | M22: 写真 番号 | N22: 覆工 スパン 番号 | O22: 36
C24: 変状 番号 | D24: 1 | N24: 変状 番号 | O24: 1
B26: 変状 部位 | C26: 対象 箇所 | D26: 覆工・坑門 | M26: 変状 部位 | N26: 対象 箇所 | O26: 覆工・坑門
C28: 部位 区分 | D28: アーチ（右側） | N28: 部位 区分 | O28: アーチ（左側）
B30: 変状区分 | D30: 材質劣化 | M30: 変状区分 | O30: 材質劣化
B31: 変状種類 | D31: ひび割れ | M31: 変状種類 | O31: うき・はく離
B32: 健全性 | C32: 応急措置前 | E32: - | M32: 健全性 | N32: 応急措置前 | P32: -
C33: 応急措置後 | E33: Ⅰ | N33: 応急措置後 | P33: Ⅱ
B34: 変状の発生範囲の規模 | E34: 幅0.3mm×長さ5.5m 0.00165㎡ | M34: 変状の発生範囲の規模 | P34: 0.4m×0.05m 0.02㎡
B35: 前回定期点検時の状態 | E35: ひび割れ 幅0.3mm×長さ5.5m | M35: 前回定期点検時の状態 | P35: うき 0.4m×0.05m
B36: 調査方針 | E36: - | M36: 調査方針 | P36: -
B37: 対策履歴 | E37: - | H37: 実施状況（実施日） | J37: - | M37: 対策履歴 | P37: - | S37: 実施状況（実施日） | U37: -
B38: メモ | D38: （Ⅰ） | M38: メモ | O38: （Ⅱa）
C39: ※ 健全性（応急措置後）の判定区分Ⅱ～Ⅳについて添付すること。また、点検前に 実施された措置によりⅠと判定された箇所も添付すること。 | N39: ※ 変状の発生範囲の規模とは、対策を行う際に参考となる変状の長さや面積をいう。
N40: ※ 応急措置を実施しないで判定した変状の健全性は、健全性の応急措置後の欄に記入すること。
C41: ※ たたき落としを実施した場合は、実施後の写真を添付すること。 | N41: ※ 変状の発生範囲の規模は、面積・寸法を記載すること。
C42: ※ 附属物の取付状態に関する異常写真は別途、様式D-1-2でとりまとめること。 | N42: (ひび割れ幅のみmmとし、その他をm表記とする)
C43: ※ 変状数に準じてシートを追加すること。（１シートに１ページとすること。） | N43: ※ 構造用鋼材以外の異物に伴ううき・はく離については、メモ欄に異物の概要を記入すること。

Sheet 様式D-1-1(トンネル様式2P001) P014
B2: ■定期点検記録様式 変状写真台帳 | Y2: Ⅰ
B3: フリガナ | D3: ='様式C-2'!E3 -> ホウベンザントンネル | H3: 路線名 | J3: ='様式C-2'!J3:L3 -> 国道435号 | M3: 定期点検業者 | P3: ='様式C-2'!R3 -> 株式会社エイト日本技術開発 | S3: 定期点検年月日 | U3: ='様式C-2'!X3 -> 44413 | Y3: Ⅱ
B4: 名 称 | D4: ='様式C-2'!E4 -> 鳳翩山トンネル | H4: 管理者名 | J4: ='様式C-2'!J4:L4 -> 防府土木建設事務所山口支所 | M4: 定期点検者名 | P4: ='様式C-2'!R4 -> 榎田 敦之 | Y4: Ⅲ
B5: 写真 番号 | C5: 覆工 スパン 番号 | D5: 36 | M5: 写真 番号 | N5: 覆工 スパン 番号 | O5: 36 | Y5: Ⅳ
C7: 変状 番号 | D7: 2 | N7: 変状 番号 | O7: 3
B9: 変状 部位 | C9: 対象 箇所 | D9: 覆工・坑門 | M9: 変状 部位 | N9: 対象 箇所 | O9: 覆工・坑門
C11: 部位 区分 | D11: アーチ（左側） | N11: 部位 区分 | O11: アーチ（天端）
B13: 変状区分 | D13: 材質劣化 | M13: 変状区分 | O13: 材質劣化
B14: 変状種類 | D14: うき・はく離 | M14: 変状種類 | O14: ひび割れ
B15: 健全性 | C15: 応急措置前 | E15: - | M15: 健全性 | N15: 応急措置前 | P15: -
C16: 応急措置後 | E16: Ⅱ | N16: 応急措置後 | P16: Ⅰ
B17: 変状の発生範囲の規模 | E17: 0.45m×0.05m 0.0225㎡ | M17: 変状の発生範囲の規模 | P17: 幅0.5mm×長さ11.0m 0.0055㎡
B18: 前回定期点検時の状態 | E18: うき 0.45m×0.05m | M18: 前回定期点検時の状態 | P18: ひび割れ 幅0.5mm×長さ11.0m
B19: 調査方針 | E19: - | M19: 調査方針 | P19: -
B20: 対策履歴 | E20: - | H20: 実施状況（実施日） | J20: - | M20: 対策履歴 | P20: - | S20: 実施状況（実施日） | U20: -
B21: メモ | D21: （Ⅱa） | M21: メモ | O21: （Ⅰ）
B22: 写真 番号 | C22: 覆工 スパン 番号 | D22: 36 | M22: 写真 番号 | N22: 覆工 スパン 番号 | O22: 36
C24: 変状 番号 | D24: 4 | N24: 変状 番号 | O24: 5
B26: 変状 部位 | C26: 対象 箇所 | D26: 覆工・坑門 | M26: 変状 部位 | N26: 対象 箇所 | O26: 覆工・坑門
C28: 部位 区分 | D28: アーチ（左側） | N28: 部位 区分 | O28: アーチ（右側）
B30: 変状区分 | D30: 材質劣化 | M30: 変状区分 | O30: 材質劣化
B31: 変状種類 | D31: その他 | M31: 変状種類 | O31: うき・はく離
B32: 健全性 | C32: 応急措置前 | E32: - | M32: 健全性 | N32: 応急措置前 | P32: -
C33: 応急措置後 | E33: Ⅰ | N33: 応急措置後 | P33: Ⅱ
B34: 変状の発生範囲の規模 | E34: 0.15m×0.05m 0.0075㎡ | M34: 変状の発生範囲の規模 | P34: 0.5m×0.05m 0.025㎡
B35: 前回定期点検時の状態 | E35: うき 0.15m×0.05m | M35: 前回定期点検時の状態 | P35: うき 0.5m×0.1m
B36: 調査方針 | E36: - | M36: 調査方針 | P36: -
B37: 対策履歴 | E37: - | H37: 実施状況（実施日） | J37: - | M37: 対策履歴 | P37: - | S37: 実施状況（実施日） | U37: -
B38: メモ | D38: はく落 撤去済み（Ⅰ） | M38: メモ | O38: （Ⅱa）
C39: ※ 健全性（応急措置後）の判定区分Ⅱ～Ⅳについて添付すること。また、点検前に 実施された措置によりⅠと判定された箇所も添付すること。 | N39: ※ 変状の発生範囲の規模とは、対策を行う際に参考となる変状の長さや面積をいう。
N40: ※ 応急措置を実施しないで判定した変状の健全性は、健全性の応急措置後の欄に記入すること。
C41: ※ たたき落としを実施した場合は、実施後の写真を添付すること。 | N41: ※ 変状の発生範囲の規模は、面積・寸法を記載すること。
C42: ※ 附属物の取付状態に関する異常写真は別途、様式D-1-2でとりまとめること。 | N42: (ひび割れ幅のみmmとし、その他をm表記とする)
C43: ※ 変状数に準じてシートを追加すること。（１シートに１ページとすること。） | N43: ※ 構造用鋼材以外の異物に伴ううき・はく離については、メモ欄に異物の概要を記入すること。

Sheet 様式D-1-1(トンネル様式2P001) P015
B2: ■定期点検記録様式 変状写真台帳 | Y2: Ⅰ
B3: フリガナ | D3: ='様式C-2'!E3 -> ホウベンザントンネル | H3: 路線名 | J3: ='様式C-2'!J3:L3 -> 国道435号 | M3: 定期点検業者 | P3: ='様式C-2'!R3 -> 株式会社エイト日本技術開発 | S3: 定期点検年月日 | U3: ='様式C-2'!X3 -> 44413 | Y3: Ⅱ
B4: 名 称 | D4: ='様式C-2'!E4 -> 鳳翩山トンネル | H4: 管理者名 | J4: ='様式C-2'!J4:L4 -> 防府土木建設事務所山口支所 | M4: 定期点検者名 | P4: ='様式C-2'!R4 -> 榎田 敦之 | Y4: Ⅲ
B5: 写真 番号 | C5: 覆工 スパン 番号 | D5: 37 | M5: 写真 番号 | N5: 覆工 スパン 番号 | O5: 39 | Y5: Ⅳ
C7: 変状 番号 | D7: 1 | N7: 変状 番号 | O7: 1
B9: 変状 部位 | C9: 対象 箇所 | D9: 覆工・坑門 | M9: 変状 部位 | N9: 対象 箇所 | O9: 覆工・坑門
C11: 部位 区分 | D11: アーチ（左側） | N11: 部位 区分 | O11: アーチ（左側）
B13: 変状区分 | D13: 材質劣化 | M13: 変状区分 | O13: 材質劣化
B14: 変状種類 | D14: うき・はく離 | M14: 変状種類 | O14: うき・はく離
B15: 健全性 | C15: 応急措置前 | E15: - | M15: 健全性 | N15: 応急措置前 | P15: -
C16: 応急措置後 | E16: Ⅱ | N16: 応急措置後 | P16: Ⅱ
B17: 変状の発生範囲の規模 | E17: 0.2m×0.05m 0.01㎡ | M17: 変状の発生範囲の規模 | P17: 0.05m×0.2m 0.01㎡
B18: 前回定期点検時の状態 | E18: うき 0.2m×0.05m | M18: 前回定期点検時の状態 | P18: 新規
B19: 調査方針 | E19: - | M19: 調査方針 | P19: -
B20: 対策履歴 | E20: - | H20: 実施状況（実施日） | J20: - | M20: 対策履歴 | P20: - | S20: 実施状況（実施日） | U20: -
B21: メモ | D21: （Ⅱa） | M21: メモ | O21: （Ⅱa）
B22: 写真 番号 | C22: 覆工 スパン 番号 | D22: 39 | M22: 写真 番号 | N22: 覆工 スパン 番号 | O22: 41
C24: 変状 番号 | D24: 2 | N24: 変状 番号 | O24: 1
B26: 変状 部位 | C26: 対象 箇所 | D26: 覆工・坑門 | M26: 変状 部位 | N26: 対象 箇所 | O26: 覆工・坑門
C28: 部位 区分 | D28: アーチ（左側） | N28: 部位 区分 | O28: アーチ（右側）
B30: 変状区分 | D30: 材質劣化 | M30: 変状区分 | O30: 材質劣化
B31: 変状種類 | D31: ひび割れ | M31: 変状種類 | O31: ひび割れ
B32: 健全性 | C32: 応急措置前 | E32: - | M32: 健全性 | N32: 応急措置前 | P32: -
C33: 応急措置後 | E33: Ⅰ | N33: 応急措置後 | P33: Ⅰ
B34: 変状の発生範囲の規模 | E34: 幅1.5mm×長さ11.0m 0.0165㎡ | M34: 変状の発生範囲の規模 | P34: 幅0.3mm×長さ5.8m 0.00174㎡
B35: 前回定期点検時の状態 | E35: ひび割れ 幅1.5mm×長さ11.0m | M35: 前回定期点検時の状態 | P35: ひび割れ 幅0.3mm×長さ5.8m
B36: 調査方針 | E36: - | M36: 調査方針 | P36: -
B37: 対策履歴 | E37: - | H37: 実施状況（実施日） | J37: - | M37: 対策履歴 | P37: - | S37: 実施状況（実施日） | U37: -
B38: メモ | D38: （Ⅰ） | M38: メモ | O38: （Ⅰ）
C39: ※ 健全性（応急措置後）の判定区分Ⅱ～Ⅳについて添付すること。また、点検前に 実施された措置によりⅠと判定された箇所も添付すること。 | N39: ※ 変状の発生範囲の規模とは、対策を行う際に参考となる変状の長さや面積をいう。
N40: ※ 応急措置を実施しないで判定した変状の健全性は、健全性の応急措置後の欄に記入すること。
C41: ※ たたき落としを実施した場合は、実施後の写真を添付すること。 | N41: ※ 変状の発生範囲の規模は、面積・寸法を記載すること。
C42: ※ 附属物の取付状態に関する異常写真は別途、様式D-1-2でとりまとめること。 | N42: (ひび割れ幅のみmmとし、その他をm表記とする)
C43: ※ 変状数に準じてシートを追加すること。（１シートに１ページとすること。） | N43: ※ 構造用鋼材以外の異物に伴ううき・はく離については、メモ欄に異物の概要を記入すること。

Sheet 様式D-1-1(トンネル様式2P001) P016
B2: ■定期点検記録様式 変状写真台帳 | Y2: Ⅰ
B3: フリガナ | D3: ='様式C-2'!E3 -> ホウベンザントンネル | H3: 路線名 | J3: ='様式C-2'!J3:L3 -> 国道435号 | M3: 定期点検業者 | P3: ='様式C-2'!R3 -> 株式会社エイト日本技術開発 | S3: 定期点検年月日 | U3: ='様式C-2'!X3 -> 44413 | Y3: Ⅱ
B4: 名 称 | D4: ='様式C-2'!E4 -> 鳳翩山トンネル | H4: 管理者名 | J4: ='様式C-2'!J4:L4 -> 防府土木建設事務所山口支所 | M4: 定期点検者名 | P4: ='様式C-2'!R4 -> 榎田 敦之 | Y4: Ⅲ
B5: 写真 番号 | C5: 覆工 スパン 番号 | D5: 42 | M5: 写真 番号 | N5: 覆工 スパン 番号 | O5: 43 | Y5: Ⅳ
C7: 変状 番号 | D7: 1 | N7: 変状 番号 | O7: 1
B9: 変状 部位 | C9: 対象 箇所 | D9: 覆工・坑門 | M9: 変状 部位 | N9: 対象 箇所 | O9: 覆工・坑門
C11: 部位 区分 | D11: アーチ（天端） | N11: 部位 区分 | O11: アーチ（左側）
B13: 変状区分 | D13: 材質劣化 | M13: 変状区分 | O13: 材質劣化
B14: 変状種類 | D14: ひび割れ | M14: 変状種類 | O14: 鋼材腐食
B15: 健全性 | C15: 応急措置前 | E15: - | M15: 健全性 | N15: 応急措置前 | P15: -
C16: 応急措置後 | E16: Ⅰ | N16: 応急措置後 | P16: Ⅱ
B17: 変状の発生範囲の規模 | E17: 幅0.3mm×長さ5.8m 0.00174㎡ | M17: 変状の発生範囲の規模 | P17: 0.05m×0.15m D=0.01m 0.0075㎡
B18: 前回定期点検時の状態 | E18: ひび割れ 幅0.3mm×長さ5.8m | M18: 前回定期点検時の状態 | P18: 鉄筋露出 0.05m×0.15m×0.01m
B19: 調査方針 | E19: - | M19: 調査方針 | P19: -
B20: 対策履歴 | E20: - | H20: 実施状況（実施日） | J20: - | M20: 対策履歴 | P20: - | S20: 実施状況（実施日） | U20: -
B21: メモ | D21: （Ⅰ） | M21: メモ | O21: （Ⅱb）
B22: 写真 番号 | C22: 覆工 スパン 番号 | D22: 43 | M22: 写真 番号 | N22: 覆工 スパン 番号 | O22: 43
C24: 変状 番号 | D24: 2 | N24: 変状 番号 | O24: 3
B26: 変状 部位 | C26: 対象 箇所 | D26: 覆工・坑門 | M26: 変状 部位 | N26: 対象 箇所 | O26: 覆工・坑門
C28: 部位 区分 | D28: アーチ（右側） | N28: 部位 区分 | O28: 側壁（右側）
B30: 変状区分 | D30: 材質劣化 | M30: 変状区分 | O30: 材質劣化
B31: 変状種類 | D31: ひび割れ | M31: 変状種類 | O31: うき・はく離
B32: 健全性 | C32: 応急措置前 | E32: - | M32: 健全性 | N32: 応急措置前 | P32: -
C33: 応急措置後 | E33: Ⅰ | N33: 応急措置後 | P33: Ⅱ
B34: 変状の発生範囲の規模 | E34: 幅0.6mm×長さ5.9m 0.00354㎡ | M34: 変状の発生範囲の規模 | P34: 1.0m×0.04m 0.04㎡
B35: 前回定期点検時の状態 | E35: ひび割れ 幅0.6mm×長さ5.9m | M35: 前回定期点検時の状態 | P35: うき 1.0m×0.04m
B36: 調査方針 | E36: - | M36: 調査方針 | P36: -
B37: 対策履歴 | E37: - | H37: 実施状況（実施日） | J37: - | M37: 対策履歴 | P37: - | S37: 実施状況（実施日） | U37: -
B38: メモ | D38: （Ⅰ） | M38: メモ | O38: （Ⅱb）
C39: ※ 健全性（応急措置後）の判定区分Ⅱ～Ⅳについて添付すること。また、点検前に 実施された措置によりⅠと判定された箇所も添付すること。 | N39: ※ 変状の発生範囲の規模とは、対策を行う際に参考となる変状の長さや面積をいう。
N40: ※ 応急措置を実施しないで判定した変状の健全性は、健全性の応急措置後の欄に記入すること。
C41: ※ たたき落としを実施した場合は、実施後の写真を添付すること。 | N41: ※ 変状の発生範囲の規模は、面積・寸法を記載すること。
C42: ※ 附属物の取付状態に関する異常写真は別途、様式D-1-2でとりまとめること。 | N42: (ひび割れ幅のみmmとし、その他をm表記とする)
C43: ※ 変状数に準じてシートを追加すること。（１シートに１ページとすること。） | N43: ※ 構造用鋼材以外の異物に伴ううき・はく離については、メモ欄に異物の概要を記入すること。

Sheet 様式D-1-1(トンネル様式2P001) P017
B2: ■定期点検記録様式 変状写真台帳 | Y2: Ⅰ
B3: フリガナ | D3: ='様式C-2'!E3 -> ホウベンザントンネル | H3: 路線名 | J3: ='様式C-2'!J3:L3 -> 国道435号 | M3: 定期点検業者 | P3: ='様式C-2'!R3 -> 株式会社エイト日本技術開発 | S3: 定期点検年月日 | U3: ='様式C-2'!X3 -> 44413 | Y3: Ⅱ
B4: 名 称 | D4: ='様式C-2'!E4 -> 鳳翩山トンネル | H4: 管理者名 | J4: ='様式C-2'!J4:L4 -> 防府土木建設事務所山口支所 | M4: 定期点検者名 | P4: ='様式C-2'!R4 -> 榎田 敦之 | Y4: Ⅲ
B5: 写真 番号 | C5: 覆工 スパン 番号 | D5: 44 | M5: 写真 番号 | N5: 覆工 スパン 番号 | O5: 46 | Y5: Ⅳ
C7: 変状 番号 | D7: 1 | N7: 変状 番号 | O7: 1
B9: 変状 部位 | C9: 対象 箇所 | D9: 覆工・坑門 | M9: 変状 部位 | N9: 対象 箇所 | O9: 覆工・坑門
C11: 部位 区分 | D11: アーチ（左側） | N11: 部位 区分 | O11: アーチ（左側）
B13: 変状区分 | D13: 材質劣化 | M13: 変状区分 | O13: 材質劣化
B14: 変状種類 | D14: ひび割れ | M14: 変状種類 | O14: うき・はく離
B15: 健全性 | C15: 応急措置前 | E15: - | M15: 健全性 | N15: 応急措置前 | P15: -
C16: 応急措置後 | E16: Ⅰ | N16: 応急措置後 | P16: Ⅱ
B17: 変状の発生範囲の規模 | E17: 幅1.0mm×長さ6.5m 0.0065㎡ | M17: 変状の発生範囲の規模 | P17: 0.15m×0.5m 0.075㎡
B18: 前回定期点検時の状態 | E18: ひび割れ 幅1.0mm×長さ6.5m | M18: 前回定期点検時の状態 | P18: うき 0.15m×0.5m
B19: 調査方針 | E19: - | M19: 調査方針 | P19: -
B20: 対策履歴 | E20: - | H20: 実施状況（実施日） | J20: - | M20: 対策履歴 | P20: - | S20: 実施状況（実施日） | U20: -
B21: メモ | D21: （Ⅰ） | M21: メモ | O21: （Ⅱa）
B22: 写真 番号 | C22: 覆工 スパン 番号 | D22: 46 | M22: 写真 番号 | N22: 覆工 スパン 番号 | O22: 46
C24: 変状 番号 | D24: 2 | N24: 変状 番号 | O24: 3
B26: 変状 部位 | C26: 対象 箇所 | D26: 覆工・坑門 | M26: 変状 部位 | N26: 対象 箇所 | O26: 覆工・坑門
C28: 部位 区分 | D28: アーチ（左側） | N28: 部位 区分 | O28: アーチ（左側）
B30: 変状区分 | D30: 材質劣化 | M30: 変状区分 | O30: 材質劣化
B31: 変状種類 | D31: ひび割れ | M31: 変状種類 | O31: うき・はく離
B32: 健全性 | C32: 応急措置前 | E32: - | M32: 健全性 | N32: 応急措置前 | P32: -
C33: 応急措置後 | E33: Ⅰ | N33: 応急措置後 | P33: Ⅱ
B34: 変状の発生範囲の規模 | E34: 幅1.0mm×長さ6.5m 0.0065㎡ | M34: 変状の発生範囲の規模 | P34: 0.06m×0.2m 0.012㎡
B35: 前回定期点検時の状態 | E35: ひび割れ 幅1.0mm×長さ6.5m | M35: 前回定期点検時の状態 | P35: うき 0.06m×0.2m
B36: 調査方針 | E36: - | M36: 調査方針 | P36: -
B37: 対策履歴 | E37: - | H37: 実施状況（実施日） | J37: - | M37: 対策履歴 | P37: - | S37: 実施状況（実施日） | U37: -
B38: メモ | D38: （Ⅰ） | M38: メモ | O38: （Ⅱa）
C39: ※ 健全性（応急措置後）の判定区分Ⅱ～Ⅳについて添付すること。また、点検前に 実施された措置によりⅠと判定された箇所も添付すること。 | N39: ※ 変状の発生範囲の規模とは、対策を行う際に参考となる変状の長さや面積をいう。
N40: ※ 応急措置を実施しないで判定した変状の健全性は、健全性の応急措置後の欄に記入すること。
C41: ※ たたき落としを実施した場合は、実施後の写真を添付すること。 | N41: ※ 変状の発生範囲の規模は、面積・寸法を記載すること。
C42: ※ 附属物の取付状態に関する異常写真は別途、様式D-1-2でとりまとめること。 | N42: (ひび割れ幅のみmmとし、その他をm表記とする)
C43: ※ 変状数に準じてシートを追加すること。（１シートに１ページとすること。） | N43: ※ 構造用鋼材以外の異物に伴ううき・はく離については、メモ欄に異物の概要を記入すること。

Sheet 様式D-1-1(トンネル様式2P001) P018
B2: ■定期点検記録様式 変状写真台帳 | Y2: Ⅰ
B3: フリガナ | D3: ='様式C-2'!E3 -> ホウベンザントンネル | H3: 路線名 | J3: ='様式C-2'!J3:L3 -> 国道435号 | M3: 定期点検業者 | P3: ='様式C-2'!R3 -> 株式会社エイト日本技術開発 | S3: 定期点検年月日 | U3: ='様式C-2'!X3 -> 44413 | Y3: Ⅱ
B4: 名 称 | D4: ='様式C-2'!E4 -> 鳳翩山トンネル | H4: 管理者名 | J4: ='様式C-2'!J4:L4 -> 防府土木建設事務所山口支所 | M4: 定期点検者名 | P4: ='様式C-2'!R4 -> 榎田 敦之 | Y4: Ⅲ
B5: 写真 番号 | C5: 覆工 スパン 番号 | D5: 46 | M5: 写真 番号 | N5: 覆工 スパン 番号 | O5: 46 | Y5: Ⅳ
C7: 変状 番号 | D7: 4 | N7: 変状 番号 | O7: 5
B9: 変状 部位 | C9: 対象 箇所 | D9: 覆工・坑門 | M9: 変状 部位 | N9: 対象 箇所 | O9: 覆工・坑門
C11: 部位 区分 | D11: アーチ（右側） | N11: 部位 区分 | O11: アーチ（右側）
B13: 変状区分 | D13: 材質劣化 | M13: 変状区分 | O13: 材質劣化
B14: 変状種類 | D14: その他 | M14: 変状種類 | O14: うき・はく離
B15: 健全性 | C15: 応急措置前 | E15: - | M15: 健全性 | N15: 応急措置前 | P15: -
C16: 応急措置後 | E16: Ⅱ | N16: 応急措置後 | P16: Ⅱ
B17: 変状の発生範囲の規模 | E17: 0.25m×0.07m 0.0175㎡ | M17: 変状の発生範囲の規模 | P17: 0.3m×0.1m 0.03㎡
B18: 前回定期点検時の状態 | E18: 木片混入 0.25m×0.07m | M18: 前回定期点検時の状態 | P18: うき 0.3m×0.1m
B19: 調査方針 | E19: - | M19: 調査方針 | P19: -
B20: 対策履歴 | E20: - | H20: 実施状況（実施日） | J20: - | M20: 対策履歴 | P20: - | S20: 実施状況（実施日） | U20: -
B21: メモ | D21: 右アーチの木片混入 （Ⅱb） | M21: メモ | O21: （Ⅱa）
B22: 写真 番号 | C22: 覆工 スパン 番号 | D22: 47 | M22: 写真 番号 | N22: 覆工 スパン 番号 | O22: 47
C24: 変状 番号 | D24: 1 | N24: 変状 番号 | O24: 2
B26: 変状 部位 | C26: 対象 箇所 | D26: 覆工・坑門 | M26: 変状 部位 | N26: 対象 箇所 | O26: 覆工・坑門
C28: 部位 区分 | D28: 側壁（左側） | N28: 部位 区分 | O28: 側壁（左側）
B30: 変状区分 | D30: 材質劣化 | M30: 変状区分 | O30: 材質劣化
B31: 変状種類 | D31: うき・はく離 | M31: 変状種類 | O31: うき・はく離
B32: 健全性 | C32: 応急措置前 | E32: - | M32: 健全性 | N32: 応急措置前 | P32: -
C33: 応急措置後 | E33: Ⅱ | N33: 応急措置後 | P33: Ⅱ
B34: 変状の発生範囲の規模 | E34: 0.1m×0.2m 0.02㎡ | M34: 変状の発生範囲の規模 | P34: 0.7m×0.3m 0.21㎡
B35: 前回定期点検時の状態 | E35: うき 0.1m×0.2m | M35: 前回定期点検時の状態 | P35: うき 0.7m×0.3m
B36: 調査方針 | E36: - | M36: 調査方針 | P36: -
B37: 対策履歴 | E37: - | H37: 実施状況（実施日） | J37: - | M37: 対策履歴 | P37: - | S37: 実施状況（実施日） | U37: -
B38: メモ | D38: （Ⅱb） | M38: メモ | O38: （Ⅱb）
C39: ※ 健全性（応急措置後）の判定区分Ⅱ～Ⅳについて添付すること。また、点検前に 実施された措置によりⅠと判定された箇所も添付すること。 | N39: ※ 変状の発生範囲の規模とは、対策を行う際に参考となる変状の長さや面積をいう。
N40: ※ 応急措置を実施しないで判定した変状の健全性は、健全性の応急措置後の欄に記入すること。
C41: ※ たたき落としを実施した場合は、実施後の写真を添付すること。 | N41: ※ 変状の発生範囲の規模は、面積・寸法を記載すること。
C42: ※ 附属物の取付状態に関する異常写真は別途、様式D-1-2でとりまとめること。 | N42: (ひび割れ幅のみmmとし、その他をm表記とする)
C43: ※ 変状数に準じてシートを追加すること。（１シートに１ページとすること。） | N43: ※ 構造用鋼材以外の異物に伴ううき・はく離については、メモ欄に異物の概要を記入すること。

Sheet 様式D-1-1(トンネル様式2P001) P019
B2: ■定期点検記録様式 変状写真台帳 | Y2: Ⅰ
B3: フリガナ | D3: ='様式C-2'!E3 -> ホウベンザントンネル | H3: 路線名 | J3: ='様式C-2'!J3:L3 -> 国道435号 | M3: 定期点検業者 | P3: ='様式C-2'!R3 -> 株式会社エイト日本技術開発 | S3: 定期点検年月日 | U3: ='様式C-2'!X3 -> 44413 | Y3: Ⅱ
B4: 名 称 | D4: ='様式C-2'!E4 -> 鳳翩山トンネル | H4: 管理者名 | J4: ='様式C-2'!J4:L4 -> 防府土木建設事務所山口支所 | M4: 定期点検者名 | P4: ='様式C-2'!R4 -> 榎田 敦之 | Y4: Ⅲ
B5: 写真 番号 | C5: 覆工 スパン 番号 | D5: 48 | M5: 写真 番号 | N5: 覆工 スパン 番号 | O5: 48 | Y5: Ⅳ
C7: 変状 番号 | D7: 1 | N7: 変状 番号 | O7: 2
B9: 変状 部位 | C9: 対象 箇所 | D9: 覆工・坑門 | M9: 変状 部位 | N9: 対象 箇所 | O9: 覆工・坑門
C11: 部位 区分 | D11: アーチ（右側） | N11: 部位 区分 | O11: アーチ（右側）
B13: 変状区分 | D13: 材質劣化 | M13: 変状区分 | O13: 材質劣化
B14: 変状種類 | D14: ひび割れ | M14: 変状種類 | O14: 鋼材腐食
B15: 健全性 | C15: 応急措置前 | E15: - | M15: 健全性 | N15: 応急措置前 | P15: -
C16: 応急措置後 | E16: Ⅰ | N16: 応急措置後 | P16: Ⅱ
B17: 変状の発生範囲の規模 | E17: 幅0.7mm×長さ11.0m 0.0077㎡ | M17: 変状の発生範囲の規模 | P17: 0.1m×0.15m D=0.01m 0.015㎡
B18: 前回定期点検時の状態 | E18: ひび割れ 幅0.7mm×長さ11.0m | M18: 前回定期点検時の状態 | P18: 鉄筋露出 0.1m×0.15m×0.01m
B19: 調査方針 | E19: - | M19: 調査方針 | P19: -
B20: 対策履歴 | E20: - | H20: 実施状況（実施日） | J20: - | M20: 対策履歴 | P20: - | S20: 実施状況（実施日） | U20: -
B21: メモ | D21: （Ⅰ） | M21: メモ | O21: （Ⅱb）
B22: 写真 番号 | C22: 覆工 スパン 番号 | D22: 48 | M22: 写真 番号 | N22: 覆工 スパン 番号 | O22: 49
C24: 変状 番号 | D24: 3 | N24: 変状 番号 | O24: 1
B26: 変状 部位 | C26: 対象 箇所 | D26: 覆工・坑門 | M26: 変状 部位 | N26: 対象 箇所 | O26: 覆工・坑門
C28: 部位 区分 | D28: 側壁（右側） | N28: 部位 区分 | O28: アーチ（左側）
B30: 変状区分 | D30: 材質劣化 | M30: 変状区分 | O30: 材質劣化
B31: 変状種類 | D31: うき・はく離 | M31: 変状種類 | O31: ひび割れ
B32: 健全性 | C32: 応急措置前 | E32: - | M32: 健全性 | N32: 応急措置前 | P32: -
C33: 応急措置後 | E33: Ⅱ | N33: 応急措置後 | P33: Ⅰ
B34: 変状の発生範囲の規模 | E34: 0.5m×0.05m 0.025㎡ | M34: 変状の発生範囲の規模 | P34: 幅0.7mm×長さ6.5m 0.00455㎡
B35: 前回定期点検時の状態 | E35: うき 0.5m×0.03m | M35: 前回定期点検時の状態 | P35: ひび割れ 幅0.7mm×長さ6.5m
B36: 調査方針 | E36: - | M36: 調査方針 | P36: -
B37: 対策履歴 | E37: - | H37: 実施状況（実施日） | J37: - | M37: 対策履歴 | P37: - | S37: 実施状況（実施日） | U37: -
B38: メモ | D38: （Ⅱb） | M38: メモ | O38: （Ⅰ）
C39: ※ 健全性（応急措置後）の判定区分Ⅱ～Ⅳについて添付すること。また、点検前に 実施された措置によりⅠと判定された箇所も添付すること。 | N39: ※ 変状の発生範囲の規模とは、対策を行う際に参考となる変状の長さや面積をいう。
N40: ※ 応急措置を実施しないで判定した変状の健全性は、健全性の応急措置後の欄に記入すること。
C41: ※ たたき落としを実施した場合は、実施後の写真を添付すること。 | N41: ※ 変状の発生範囲の規模は、面積・寸法を記載すること。
C42: ※ 附属物の取付状態に関する異常写真は別途、様式D-1-2でとりまとめること。 | N42: (ひび割れ幅のみmmとし、その他をm表記とする)
C43: ※ 変状数に準じてシートを追加すること。（１シートに１ページとすること。） | N43: ※ 構造用鋼材以外の異物に伴ううき・はく離については、メモ欄に異物の概要を記入すること。

Sheet 様式D-1-1(トンネル様式2P001) P020
B2: ■定期点検記録様式 変状写真台帳 | Y2: Ⅰ
B3: フリガナ | D3: ='様式C-2'!E3 -> ホウベンザントンネル | H3: 路線名 | J3: ='様式C-2'!J3:L3 -> 国道435号 | M3: 定期点検業者 | P3: ='様式C-2'!R3 -> 株式会社エイト日本技術開発 | S3: 定期点検年月日 | U3: ='様式C-2'!X3 -> 44413 | Y3: Ⅱ
B4: 名 称 | D4: ='様式C-2'!E4 -> 鳳翩山トンネル | H4: 管理者名 | J4: ='様式C-2'!J4:L4 -> 防府土木建設事務所山口支所 | M4: 定期点検者名 | P4: ='様式C-2'!R4 -> 榎田 敦之 | Y4: Ⅲ
B5: 写真 番号 | C5: 覆工 スパン 番号 | D5: 50 | M5: 写真 番号 | N5: 覆工 スパン 番号 | O5: 50 | Y5: Ⅳ
C7: 変状 番号 | D7: 1 | N7: 変状 番号 | O7: 2
B9: 変状 部位 | C9: 対象 箇所 | D9: 覆工・坑門 | M9: 変状 部位 | N9: 対象 箇所 | O9: 覆工・坑門
C11: 部位 区分 | D11: アーチ（左側） | N11: 部位 区分 | O11: アーチ（右側）
B13: 変状区分 | D13: 材質劣化 | M13: 変状区分 | O13: 材質劣化
B14: 変状種類 | D14: うき・はく離 | M14: 変状種類 | O14: ひび割れ
B15: 健全性 | C15: 応急措置前 | E15: - | M15: 健全性 | N15: 応急措置前 | P15: -
C16: 応急措置後 | E16: Ⅱ | N16: 応急措置後 | P16: Ⅰ
B17: 変状の発生範囲の規模 | E17: 0.3m×0.1m 0.03㎡ | M17: 変状の発生範囲の規模 | P17: 幅0.5mm×長さ10.0m 0.005㎡
B18: 前回定期点検時の状態 | E18: 新規 | M18: 前回定期点検時の状態 | P18: ひび割れ 幅0.5mm×長さ10.0m
B19: 調査方針 | E19: - | M19: 調査方針 | P19: -
B20: 対策履歴 | E20: - | H20: 実施状況（実施日） | J20: - | M20: 対策履歴 | P20: - | S20: 実施状況（実施日） | U20: -
B21: メモ | D21: （Ⅱa） | M21: メモ | O21: （Ⅰ）
B22: 写真 番号 | C22: 覆工 スパン 番号 | D22: 51 | M22: 写真 番号 | N22: 覆工 スパン 番号 | O22: 51
C24: 変状 番号 | D24: 1 | N24: 変状 番号 | O24: 2
B26: 変状 部位 | C26: 対象 箇所 | D26: 覆工・坑門 | M26: 変状 部位 | N26: 対象 箇所 | O26: 覆工・坑門
C28: 部位 区分 | D28: アーチ（左側） | N28: 部位 区分 | O28: アーチ（天端）
B30: 変状区分 | D30: 材質劣化 | M30: 変状区分 | O30: 材質劣化
B31: 変状種類 | D31: ひび割れ | M31: 変状種類 | O31: ひび割れ
B32: 健全性 | C32: 応急措置前 | E32: - | M32: 健全性 | N32: 応急措置前 | P32: -
C33: 応急措置後 | E33: Ⅱ | N33: 応急措置後 | P33: Ⅰ
B34: 変状の発生範囲の規模 | E34: 1.8m×0.1m 0.18㎡ | M34: 変状の発生範囲の規模 | P34: 幅0.5mm×長さ7.5m 0.00375㎡
B35: 前回定期点検時の状態 | E35: ひび割れ 1.5m×0.2m | M35: 前回定期点検時の状態 | P35: ひび割れ 幅0.5mm×長さ7.5m
B36: 調査方針 | E36: - | M36: 調査方針 | P36: -
B37: 対策履歴 | E37: - | H37: 実施状況（実施日） | J37: - | M37: 対策履歴 | P37: - | S37: 実施状況（実施日） | U37: -
B38: メモ | D38: 目地部の閉合ひび割れ打音異常なし W=0.5 （Ⅱb） | M38: メモ | O38: （Ⅰ）
C39: ※ 健全性（応急措置後）の判定区分Ⅱ～Ⅳについて添付すること。また、点検前に 実施された措置によりⅠと判定された箇所も添付すること。 | N39: ※ 変状の発生範囲の規模とは、対策を行う際に参考となる変状の長さや面積をいう。
N40: ※ 応急措置を実施しないで判定した変状の健全性は、健全性の応急措置後の欄に記入すること。
C41: ※ たたき落としを実施した場合は、実施後の写真を添付すること。 | N41: ※ 変状の発生範囲の規模は、面積・寸法を記載すること。
C42: ※ 附属物の取付状態に関する異常写真は別途、様式D-1-2でとりまとめること。 | N42: (ひび割れ幅のみmmとし、その他をm表記とする)
C43: ※ 変状数に準じてシートを追加すること。（１シートに１ページとすること。） | N43: ※ 構造用鋼材以外の異物に伴ううき・はく離については、メモ欄に異物の概要を記入すること。

Sheet 様式D-1-1(トンネル様式2P001) P021
B2: ■定期点検記録様式 変状写真台帳 | Y2: Ⅰ
B3: フリガナ | D3: ='様式C-2'!E3 -> ホウベンザントンネル | H3: 路線名 | J3: ='様式C-2'!J3:L3 -> 国道435号 | M3: 定期点検業者 | P3: ='様式C-2'!R3 -> 株式会社エイト日本技術開発 | S3: 定期点検年月日 | U3: ='様式C-2'!X3 -> 44413 | Y3: Ⅱ
B4: 名 称 | D4: ='様式C-2'!E4 -> 鳳翩山トンネル | H4: 管理者名 | J4: ='様式C-2'!J4:L4 -> 防府土木建設事務所山口支所 | M4: 定期点検者名 | P4: ='様式C-2'!R4 -> 榎田 敦之 | Y4: Ⅲ
B5: 写真 番号 | C5: 覆工 スパン 番号 | D5: 51 | M5: 写真 番号 | N5: 覆工 スパン 番号 | O5: 51 | Y5: Ⅳ
C7: 変状 番号 | D7: 3 | N7: 変状 番号 | O7: 4
B9: 変状 部位 | C9: 対象 箇所 | D9: 覆工・坑門 | M9: 変状 部位 | N9: 対象 箇所 | O9: 覆工・坑門
C11: 部位 区分 | D11: その他 | N11: 部位 区分 | O11: その他
B13: 変状区分 | D13: 材質劣化 | M13: 変状区分 | O13: 材質劣化
B14: 変状種類 | D14: その他 | M14: 変状種類 | O14: その他
B15: 健全性 | C15: 応急措置前 | E15: - | M15: 健全性 | N15: 応急措置前 | P15: -
C16: 応急措置後 | E16: Ⅱ | N16: 応急措置後 | P16: Ⅱ
B17: 変状の発生範囲の規模 | E17: 段差 25mm 0.32㎡ | M17: 変状の発生範囲の規模 | P17: 段差 25mm 0.32㎡
B18: 前回定期点検時の状態 | E18: 排水蓋変形 浮き上がり30mm 大きさ750mm×400mm | M18: 前回定期点検時の状態 | P18: その他 段差 25mm
B19: 調査方針 | E19: - | M19: 調査方針 | P19: -
B20: 対策履歴 | E20: - | H20: 実施状況（実施日） | J20: - | M20: 対策履歴 | P20: - | S20: 実施状況（実施日） | U20: -
B21: メモ | D21: 歩道の段差 （Ⅱb） | M21: メモ | O21: 監査歩路の段差 （Ⅱb）
B22: 写真 番号 | C22: 覆工 スパン 番号 | D22: 52 | M22: 写真 番号 | N22: 覆工 スパン 番号 | O22: 52
C24: 変状 番号 | D24: 1 | N24: 変状 番号 | O24: 2
B26: 変状 部位 | C26: 対象 箇所 | D26: 覆工・坑門 | M26: 変状 部位 | N26: 対象 箇所 | O26: 覆工・坑門
C28: 部位 区分 | D28: アーチ（左側） | N28: 部位 区分 | O28: アーチ（左側）
B30: 変状区分 | D30: 材質劣化 | M30: 変状区分 | O30: 材質劣化
B31: 変状種類 | D31: 鋼材腐食 | M31: 変状種類 | O31: 鋼材腐食
B32: 健全性 | C32: 応急措置前 | E32: - | M32: 健全性 | N32: 応急措置前 | P32: -
C33: 応急措置後 | E33: Ⅱ | N33: 応急措置後 | P33: Ⅱ
B34: 変状の発生範囲の規模 | E34: 0.05m×0.05m D=0.005m 0.0025㎡ | M34: 変状の発生範囲の規模 | P34: 0.1m×0.15m D=0.01m 0.015㎡
B35: 前回定期点検時の状態 | E35: 鉄筋露出 0.05m×0.05m×0.005m | M35: 前回定期点検時の状態 | P35: 鉄筋露出 0.1m×0.15m×0.01m
B36: 調査方針 | E36: - | M36: 調査方針 | P36: -
B37: 対策履歴 | E37: - | H37: 実施状況（実施日） | J37: - | M37: 対策履歴 | P37: - | S37: 実施状況（実施日） | U37: -
B38: メモ | D38: （Ⅱb） | M38: メモ | O38: （Ⅱb）
C39: ※ 健全性（応急措置後）の判定区分Ⅱ～Ⅳについて添付すること。また、点検前に 実施された措置によりⅠと判定された箇所も添付すること。 | N39: ※ 変状の発生範囲の規模とは、対策を行う際に参考となる変状の長さや面積をいう。
N40: ※ 応急措置を実施しないで判定した変状の健全性は、健全性の応急措置後の欄に記入すること。
C41: ※ たたき落としを実施した場合は、実施後の写真を添付すること。 | N41: ※ 変状の発生範囲の規模は、面積・寸法を記載すること。
C42: ※ 附属物の取付状態に関する異常写真は別途、様式D-1-2でとりまとめること。 | N42: (ひび割れ幅のみmmとし、その他をm表記とする)
C43: ※ 変状数に準じてシートを追加すること。（１シートに１ページとすること。） | N43: ※ 構造用鋼材以外の異物に伴ううき・はく離については、メモ欄に異物の概要を記入すること。

Sheet 様式D-1-1(トンネル様式2P001) P022
B2: ■定期点検記録様式 変状写真台帳 | Y2: Ⅰ
B3: フリガナ | D3: ='様式C-2'!E3 -> ホウベンザントンネル | H3: 路線名 | J3: ='様式C-2'!J3:L3 -> 国道435号 | M3: 定期点検業者 | P3: ='様式C-2'!R3 -> 株式会社エイト日本技術開発 | S3: 定期点検年月日 | U3: ='様式C-2'!X3 -> 44413 | Y3: Ⅱ
B4: 名 称 | D4: ='様式C-2'!E4 -> 鳳翩山トンネル | H4: 管理者名 | J4: ='様式C-2'!J4:L4 -> 防府土木建設事務所山口支所 | M4: 定期点検者名 | P4: ='様式C-2'!R4 -> 榎田 敦之 | Y4: Ⅲ
B5: 写真 番号 | C5: 覆工 スパン 番号 | D5: 52 | M5: 写真 番号 | N5: 覆工 スパン 番号 | O5: 52 | Y5: Ⅳ
C7: 変状 番号 | D7: 3 | N7: 変状 番号 | O7: 4
B9: 変状 部位 | C9: 対象 箇所 | D9: 覆工・坑門 | M9: 変状 部位 | N9: 対象 箇所 | O9: 覆工・坑門
C11: 部位 区分 | D11: アーチ（左側） | N11: 部位 区分 | O11: アーチ（天端）
B13: 変状区分 | D13: 材質劣化 | M13: 変状区分 | O13: 材質劣化
B14: 変状種類 | D14: うき・はく離 | M14: 変状種類 | O14: ひび割れ
B15: 健全性 | C15: 応急措置前 | E15: - | M15: 健全性 | N15: 応急措置前 | P15: -
C16: 応急措置後 | E16: Ⅱ | N16: 応急措置後 | P16: Ⅰ
B17: 変状の発生範囲の規模 | E17: 0.05m×0.2m 0.01㎡ | M17: 変状の発生範囲の規模 | P17: 幅1.0mm×長さ11.0m 0.011㎡
B18: 前回定期点検時の状態 | E18: うき 0.05m×0.2m | M18: 前回定期点検時の状態 | P18: ひび割れ 幅1.0mm×長さ11.0m
B19: 調査方針 | E19: - | M19: 調査方針 | P19: -
B20: 対策履歴 | E20: - | H20: 実施状況（実施日） | J20: - | M20: 対策履歴 | P20: - | S20: 実施状況（実施日） | U20: -
B21: メモ | D21: （Ⅱa） | M21: メモ | O21: （Ⅰ）
B22: 写真 番号 | C22: 覆工 スパン 番号 | D22: 54 | M22: 写真 番号 | N22: 覆工 スパン 番号 | O22: 54
C24: 変状 番号 | D24: 1 | N24: 変状 番号 | O24: 2
B26: 変状 部位 | C26: 対象 箇所 | D26: 覆工・坑門 | M26: 変状 部位 | N26: 対象 箇所 | O26: 覆工・坑門
C28: 部位 区分 | D28: アーチ（左側） | N28: 部位 区分 | O28: アーチ（右側）
B30: 変状区分 | D30: 材質劣化 | M30: 変状区分 | O30: 材質劣化
B31: 変状種類 | D31: うき・はく離 | M31: 変状種類 | O31: ひび割れ
B32: 健全性 | C32: 応急措置前 | E32: - | M32: 健全性 | N32: 応急措置前 | P32: -
C33: 応急措置後 | E33: Ⅱ | N33: 応急措置後 | P33: Ⅰ
B34: 変状の発生範囲の規模 | E34: 1.0m×0.05m 0.05㎡ | M34: 変状の発生範囲の規模 | P34: 幅1.0mm×長さ6.6m 0.0066㎡
B35: 前回定期点検時の状態 | E35: うき 1.0m×0.05m | M35: 前回定期点検時の状態 | P35: ひび割れ 幅1.0mm×長さ6.6m
B36: 調査方針 | E36: - | M36: 調査方針 | P36: -
B37: 対策履歴 | E37: - | H37: 実施状況（実施日） | J37: - | M37: 対策履歴 | P37: - | S37: 実施状況（実施日） | U37: -
B38: メモ | D38: （Ⅱa） | M38: メモ | O38: （Ⅰ）
C39: ※ 健全性（応急措置後）の判定区分Ⅱ～Ⅳについて添付すること。また、点検前に 実施された措置によりⅠと判定された箇所も添付すること。 | N39: ※ 変状の発生範囲の規模とは、対策を行う際に参考となる変状の長さや面積をいう。
N40: ※ 応急措置を実施しないで判定した変状の健全性は、健全性の応急措置後の欄に記入すること。
C41: ※ たたき落としを実施した場合は、実施後の写真を添付すること。 | N41: ※ 変状の発生範囲の規模は、面積・寸法を記載すること。
C42: ※ 附属物の取付状態に関する異常写真は別途、様式D-1-2でとりまとめること。 | N42: (ひび割れ幅のみmmとし、その他をm表記とする)
C43: ※ 変状数に準じてシートを追加すること。（１シートに１ページとすること。） | N43: ※ 構造用鋼材以外の異物に伴ううき・はく離については、メモ欄に異物の概要を記入すること。

Sheet 様式D-1-1(トンネル様式2P001) P023
B2: ■定期点検記録様式 変状写真台帳 | Y2: Ⅰ
B3: フリガナ | D3: ='様式C-2'!E3 -> ホウベンザントンネル | H3: 路線名 | J3: ='様式C-2'!J3:L3 -> 国道435号 | M3: 定期点検業者 | P3: ='様式C-2'!R3 -> 株式会社エイト日本技術開発 | S3: 定期点検年月日 | U3: ='様式C-2'!X3 -> 44413 | Y3: Ⅱ
B4: 名 称 | D4: ='様式C-2'!E4 -> 鳳翩山トンネル | H4: 管理者名 | J4: ='様式C-2'!J4:L4 -> 防府土木建設事務所山口支所 | M4: 定期点検者名 | P4: ='様式C-2'!R4 -> 榎田 敦之 | Y4: Ⅲ
B5: 写真 番号 | C5: 覆工 スパン 番号 | D5: 55 | M5: 写真 番号 | N5: 覆工 スパン 番号 | O5: 56 | Y5: Ⅳ
C7: 変状 番号 | D7: 1 | N7: 変状 番号 | O7: 1
B9: 変状 部位 | C9: 対象 箇所 | D9: 覆工・坑門 | M9: 変状 部位 | N9: 対象 箇所 | O9: 覆工・坑門
C11: 部位 区分 | D11: アーチ（天端） | N11: 部位 区分 | O11: アーチ（左側）
B13: 変状区分 | D13: 材質劣化 | M13: 変状区分 | O13: 外力
B14: 変状種類 | D14: ひび割れ | M14: 変状種類 | O14: ひび割れ
B15: 健全性 | C15: 応急措置前 | E15: - | M15: 健全性 | N15: 応急措置前 | P15: -
C16: 応急措置後 | E16: Ⅰ | N16: 応急措置後 | P16: Ⅱ
B17: 変状の発生範囲の規模 | E17: 幅0.5mm×長さ6.5m 0.00325㎡ | M17: 変状の発生範囲の規模 | P17: 幅0.35mm×長さ6.7m 0.002345㎡
B18: 前回定期点検時の状態 | E18: ひび割れ 幅0.5mm×長さ6.5m | M18: 前回定期点検時の状態 | P18: ひび割れ 幅0.35mm×長さ6.7m
B19: 調査方針 | E19: - | M19: 調査方針 | P19: -
B20: 対策履歴 | E20: - | H20: 実施状況（実施日） | J20: - | M20: 対策履歴 | P20: - | S20: 実施状況（実施日） | U20: -
B21: メモ | D21: （Ⅰ） | M21: メモ | O21: （Ⅱb）
B22: 写真 番号 | C22: 覆工 スパン 番号 | D22: 56 | M22: 写真 番号 | N22: 覆工 スパン 番号 | O22: 57
C24: 変状 番号 | D24: 2 | N24: 変状 番号 | O24: 1
B26: 変状 部位 | C26: 対象 箇所 | D26: 覆工・坑門 | M26: 変状 部位 | N26: 対象 箇所 | O26: 覆工・坑門
C28: 部位 区分 | D28: アーチ（右側） | N28: 部位 区分 | O28: アーチ（左側）
B30: 変状区分 | D30: 材質劣化 | M30: 変状区分 | O30: 材質劣化
B31: 変状種類 | D31: ひび割れ | M31: 変状種類 | O31: ひび割れ
B32: 健全性 | C32: 応急措置前 | E32: - | M32: 健全性 | N32: 応急措置前 | P32: -
C33: 応急措置後 | E33: Ⅰ | N33: 応急措置後 | P33: Ⅰ
B34: 変状の発生範囲の規模 | E34: 幅1.2mm×長さ6.5m 0.0078㎡ | M34: 変状の発生範囲の規模 | P34: 幅0.4mm×長さ8.7m 0.00348㎡
B35: 前回定期点検時の状態 | E35: ひび割れ 幅1.2mm×長さ6.5m | M35: 前回定期点検時の状態 | P35: ひび割れ 幅0.4mm×長さ8.7m
B36: 調査方針 | E36: - | M36: 調査方針 | P36: -
B37: 対策履歴 | E37: - | H37: 実施状況（実施日） | J37: - | M37: 対策履歴 | P37: - | S37: 実施状況（実施日） | U37: -
B38: メモ | D38: （Ⅰ） | M38: メモ | O38: （Ⅰ）
C39: ※ 健全性（応急措置後）の判定区分Ⅱ～Ⅳについて添付すること。また、点検前に 実施された措置によりⅠと判定された箇所も添付すること。 | N39: ※ 変状の発生範囲の規模とは、対策を行う際に参考となる変状の長さや面積をいう。
N40: ※ 応急措置を実施しないで判定した変状の健全性は、健全性の応急措置後の欄に記入すること。
C41: ※ たたき落としを実施した場合は、実施後の写真を添付すること。 | N41: ※ 変状の発生範囲の規模は、面積・寸法を記載すること。
C42: ※ 附属物の取付状態に関する異常写真は別途、様式D-1-2でとりまとめること。 | N42: (ひび割れ幅のみmmとし、その他をm表記とする)
C43: ※ 変状数に準じてシートを追加すること。（１シートに１ページとすること。） | N43: ※ 構造用鋼材以外の異物に伴ううき・はく離については、メモ欄に異物の概要を記入すること。

Sheet 様式D-1-1(トンネル様式2P001) P024
B2: ■定期点検記録様式 変状写真台帳 | Y2: Ⅰ
B3: フリガナ | D3: ='様式C-2'!E3 -> ホウベンザントンネル | H3: 路線名 | J3: ='様式C-2'!J3:L3 -> 国道435号 | M3: 定期点検業者 | P3: ='様式C-2'!R3 -> 株式会社エイト日本技術開発 | S3: 定期点検年月日 | U3: ='様式C-2'!X3 -> 44413 | Y3: Ⅱ
B4: 名 称 | D4: ='様式C-2'!E4 -> 鳳翩山トンネル | H4: 管理者名 | J4: ='様式C-2'!J4:L4 -> 防府土木建設事務所山口支所 | M4: 定期点検者名 | P4: ='様式C-2'!R4 -> 榎田 敦之 | Y4: Ⅲ
B5: 写真 番号 | C5: 覆工 スパン 番号 | D5: 59 | M5: 写真 番号 | N5: 覆工 スパン 番号 | O5: 60 | Y5: Ⅳ
C7: 変状 番号 | D7: 1 | N7: 変状 番号 | O7: 1
B9: 変状 部位 | C9: 対象 箇所 | D9: 覆工・坑門 | M9: 変状 部位 | N9: 対象 箇所 | O9: 覆工・坑門
C11: 部位 区分 | D11: アーチ（左側） | N11: 部位 区分 | O11: アーチ（右側）
B13: 変状区分 | D13: 材質劣化 | M13: 変状区分 | O13: 材質劣化
B14: 変状種類 | D14: ひび割れ | M14: 変状種類 | O14: ひび割れ
B15: 健全性 | C15: 応急措置前 | E15: - | M15: 健全性 | N15: 応急措置前 | P15: -
C16: 応急措置後 | E16: Ⅰ | N16: 応急措置後 | P16: Ⅰ
B17: 変状の発生範囲の規模 | E17: 幅0.4mm×長さ11.0m 0.0044㎡ | M17: 変状の発生範囲の規模 | P17: 幅0.5mm×長さ11.0m 0.0055㎡
B18: 前回定期点検時の状態 | E18: ひび割れ 幅0.4mm×長さ11.0m | M18: 前回定期点検時の状態 | P18: ひび割れ 幅0.5mm×長さ11.0m
B19: 調査方針 | E19: - | M19: 調査方針 | P19: -
B20: 対策履歴 | E20: - | H20: 実施状況（実施日） | J20: - | M20: 対策履歴 | P20: - | S20: 実施状況（実施日） | U20: -
B21: メモ | D21: （Ⅰ） | M21: メモ | O21: （Ⅰ）
B22: 写真 番号 | C22: 覆工 スパン 番号 | D22: 60 | M22: 写真 番号 | N22: 覆工 スパン 番号 | O22: 62
C24: 変状 番号 | D24: 2 | N24: 変状 番号 | O24: 1
B26: 変状 部位 | C26: 対象 箇所 | D26: 覆工・坑門 | M26: 変状 部位 | N26: 対象 箇所 | O26: 覆工・坑門
C28: 部位 区分 | D28: アーチ（右側） | N28: 部位 区分 | O28: アーチ（左側）
B30: 変状区分 | D30: 漏水 | M30: 変状区分 | O30: 漏水
B31: 変状種類 | D31: 漏水 | M31: 変状種類 | O31: 漏水
B32: 健全性 | C32: 応急措置前 | E32: - | M32: 健全性 | N32: 応急措置前 | P32: -
C33: 応急措置後 | E33: Ⅱ | N33: 応急措置後 | P33: Ⅱ
B34: 変状の発生範囲の規模 | E34: 7.0m×1.5m 10.5㎡ | M34: 変状の発生範囲の規模 | P34: 8.2m×1.8m 14.76㎡
B35: 前回定期点検時の状態 | E35: にじみ | M35: 前回定期点検時の状態 | P35: にじみ
B36: 調査方針 | E36: - | M36: 調査方針 | P36: -
B37: 対策履歴 | E37: - | H37: 実施状況（実施日） | J37: - | M37: 対策履歴 | P37: - | S37: 実施状況（実施日） | U37: -
B38: メモ | D38: （Ⅱb） | M38: メモ | O38: （Ⅱb）
C39: ※ 健全性（応急措置後）の判定区分Ⅱ～Ⅳについて添付すること。また、点検前に 実施された措置によりⅠと判定された箇所も添付すること。 | N39: ※ 変状の発生範囲の規模とは、対策を行う際に参考となる変状の長さや面積をいう。
N40: ※ 応急措置を実施しないで判定した変状の健全性は、健全性の応急措置後の欄に記入すること。
C41: ※ たたき落としを実施した場合は、実施後の写真を添付すること。 | N41: ※ 変状の発生範囲の規模は、面積・寸法を記載すること。
C42: ※ 附属物の取付状態に関する異常写真は別途、様式D-1-2でとりまとめること。 | N42: (ひび割れ幅のみmmとし、その他をm表記とする)
C43: ※ 変状数に準じてシートを追加すること。（１シートに１ページとすること。） | N43: ※ 構造用鋼材以外の異物に伴ううき・はく離については、メモ欄に異物の概要を記入すること。

Sheet 様式D-1-1(トンネル様式2P001) P025
B2: ■定期点検記録様式 変状写真台帳 | Y2: Ⅰ
B3: フリガナ | D3: ='様式C-2'!E3 -> ホウベンザントンネル | H3: 路線名 | J3: ='様式C-2'!J3:L3 -> 国道435号 | M3: 定期点検業者 | P3: ='様式C-2'!R3 -> 株式会社エイト日本技術開発 | S3: 定期点検年月日 | U3: ='様式C-2'!X3 -> 44413 | Y3: Ⅱ
B4: 名 称 | D4: ='様式C-2'!E4 -> 鳳翩山トンネル | H4: 管理者名 | J4: ='様式C-2'!J4:L4 -> 防府土木建設事務所山口支所 | M4: 定期点検者名 | P4: ='様式C-2'!R4 -> 榎田 敦之 | Y4: Ⅲ
B5: 写真 番号 | C5: 覆工 スパン 番号 | D5: 63 | M5: 写真 番号 | N5: 覆工 スパン 番号 | O5: 63 | Y5: Ⅳ
C7: 変状 番号 | D7: 1 | N7: 変状 番号 | O7: 2
B9: 変状 部位 | C9: 対象 箇所 | D9: 覆工・坑門 | M9: 変状 部位 | N9: 対象 箇所 | O9: 覆工・坑門
C11: 部位 区分 | D11: アーチ（左側） | N11: 部位 区分 | O11: アーチ（左側）
B13: 変状区分 | D13: 材質劣化 | M13: 変状区分 | O13: 材質劣化
B14: 変状種類 | D14: その他 | M14: 変状種類 | O14: ひび割れ
B15: 健全性 | C15: 応急措置前 | E15: - | M15: 健全性 | N15: 応急措置前 | P15: -
C16: 応急措置後 | E16: Ⅱ | N16: 応急措置後 | P16: Ⅰ
B17: 変状の発生範囲の規模 | E17: 0.5m×1.9m 0.95㎡ | M17: 変状の発生範囲の規模 | P17: 幅0.6mm×長さ11.0m 0.0066㎡
B18: 前回定期点検時の状態 | E18: ジャンカ 0.5m×1.6m | M18: 前回定期点検時の状態 | P18: ひび割れ 幅0.6mm×長さ11.0m
B19: 調査方針 | E19: - | M19: 調査方針 | P19: -
B20: 対策履歴 | E20: - | H20: 実施状況（実施日） | J20: - | M20: 対策履歴 | P20: - | S20: 実施状況（実施日） | U20: -
B21: メモ | D21: 左アーチの骨材露出 （Ⅱb） | M21: メモ | O21: （Ⅰ）
B22: 写真 番号 | C22: 覆工 スパン 番号 | D22: 64 | M22: 写真 番号 | N22: 覆工 スパン 番号 | O22: 64
C24: 変状 番号 | D24: 1 | N24: 変状 番号 | O24: 2
B26: 変状 部位 | C26: 対象 箇所 | D26: 覆工・坑門 | M26: 変状 部位 | N26: 対象 箇所 | O26: 覆工・坑門
C28: 部位 区分 | D28: アーチ（左側） | N28: 部位 区分 | O28: アーチ（左側）
B30: 変状区分 | D30: 材質劣化 | M30: 変状区分 | O30: 材質劣化
B31: 変状種類 | D31: うき・はく離 | M31: 変状種類 | O31: うき・はく離
B32: 健全性 | C32: 応急措置前 | E32: - | M32: 健全性 | N32: 応急措置前 | P32: -
C33: 応急措置後 | E33: Ⅱ | N33: 応急措置後 | P33: Ⅱ
B34: 変状の発生範囲の規模 | E34: 2.6m×1.0m 2.6㎡ | M34: 変状の発生範囲の規模 | P34: 0.05m×0.4m 0.02㎡
B35: 前回定期点検時の状態 | E35: 新規 | M35: 前回定期点検時の状態 | P35: うき 0.05m×0.4m
B36: 調査方針 | E36: - | M36: 調査方針 | P36: -
B37: 対策履歴 | E37: - | H37: 実施状況（実施日） | J37: - | M37: 対策履歴 | P37: - | S37: 実施状況（実施日） | U37: -
B38: メモ | D38: 背面空洞濁音あり （Ⅱb） | M38: メモ | O38: （Ⅱa）
C39: ※ 健全性（応急措置後）の判定区分Ⅱ～Ⅳについて添付すること。また、点検前に 実施された措置によりⅠと判定された箇所も添付すること。 | N39: ※ 変状の発生範囲の規模とは、対策を行う際に参考となる変状の長さや面積をいう。
N40: ※ 応急措置を実施しないで判定した変状の健全性は、健全性の応急措置後の欄に記入すること。
C41: ※ たたき落としを実施した場合は、実施後の写真を添付すること。 | N41: ※ 変状の発生範囲の規模は、面積・寸法を記載すること。
C42: ※ 附属物の取付状態に関する異常写真は別途、様式D-1-2でとりまとめること。 | N42: (ひび割れ幅のみmmとし、その他をm表記とする)
C43: ※ 変状数に準じてシートを追加すること。（１シートに１ページとすること。） | N43: ※ 構造用鋼材以外の異物に伴ううき・はく離については、メモ欄に異物の概要を記入すること。

Sheet 様式D-1-1(トンネル様式2P001) P026
B2: ■定期点検記録様式 変状写真台帳 | Y2: Ⅰ
B3: フリガナ | D3: ='様式C-2'!E3 -> ホウベンザントンネル | H3: 路線名 | J3: ='様式C-2'!J3:L3 -> 国道435号 | M3: 定期点検業者 | P3: ='様式C-2'!R3 -> 株式会社エイト日本技術開発 | S3: 定期点検年月日 | U3: ='様式C-2'!X3 -> 44413 | Y3: Ⅱ
B4: 名 称 | D4: ='様式C-2'!E4 -> 鳳翩山トンネル | H4: 管理者名 | J4: ='様式C-2'!J4:L4 -> 防府土木建設事務所山口支所 | M4: 定期点検者名 | P4: ='様式C-2'!R4 -> 榎田 敦之 | Y4: Ⅲ
B5: 写真 番号 | C5: 覆工 スパン 番号 | D5: 64 | M5: 写真 番号 | N5: 覆工 スパン 番号 | O5: 65 | Y5: Ⅳ
C7: 変状 番号 | D7: 3 | N7: 変状 番号 | O7: 1
B9: 変状 部位 | C9: 対象 箇所 | D9: 覆工・坑門 | M9: 変状 部位 | N9: 対象 箇所 | O9: 覆工・坑門
C11: 部位 区分 | D11: アーチ（左側） | N11: 部位 区分 | O11: アーチ（左側）
B13: 変状区分 | D13: 材質劣化 | M13: 変状区分 | O13: 材質劣化
B14: 変状種類 | D14: ひび割れ | M14: 変状種類 | O14: ひび割れ
B15: 健全性 | C15: 応急措置前 | E15: - | M15: 健全性 | N15: 応急措置前 | P15: -
C16: 応急措置後 | E16: Ⅰ | N16: 応急措置後 | P16: Ⅰ
B17: 変状の発生範囲の規模 | E17: 幅0.5mm×長さ10.5m 0.00525㎡ | M17: 変状の発生範囲の規模 | P17: 幅0.4mm×長さ6.6m 0.00264㎡
B18: 前回定期点検時の状態 | E18: ひび割れ 幅0.5mm×長さ10.5m | M18: 前回定期点検時の状態 | P18: ひび割れ 幅0.4mm×長さ6.6m
B19: 調査方針 | E19: - | M19: 調査方針 | P19: -
B20: 対策履歴 | E20: - | H20: 実施状況（実施日） | J20: - | M20: 対策履歴 | P20: - | S20: 実施状況（実施日） | U20: -
B21: メモ | D21: （Ⅰ） | M21: メモ | O21: （Ⅰ）
B22: 写真 番号 | C22: 覆工 スパン 番号 | D22: 66 | M22: 写真 番号 | N22: 覆工 スパン 番号 | O22: 66
C24: 変状 番号 | D24: 1 | N24: 変状 番号 | O24: 2
B26: 変状 部位 | C26: 対象 箇所 | D26: 覆工・坑門 | M26: 変状 部位 | N26: 対象 箇所 | O26: 覆工・坑門
C28: 部位 区分 | D28: アーチ（左側） | N28: 部位 区分 | O28: アーチ（左側）
B30: 変状区分 | D30: 材質劣化 | M30: 変状区分 | O30: 材質劣化
B31: 変状種類 | D31: 鋼材腐食 | M31: 変状種類 | O31: うき・はく離
B32: 健全性 | C32: 応急措置前 | E32: - | M32: 健全性 | N32: 応急措置前 | P32: -
C33: 応急措置後 | E33: Ⅱ | N33: 応急措置後 | P33: Ⅱ
B34: 変状の発生範囲の規模 | E34: 0.05m×0.05m D=0.01m 0.0025㎡ | M34: 変状の発生範囲の規模 | P34: 2.8m×1.3m 3.64㎡
B35: 前回定期点検時の状態 | E35: 鉄筋露出 0.05m×0.05m×0.01m | M35: 前回定期点検時の状態 | P35: 新規
B36: 調査方針 | E36: - | M36: 調査方針 | P36: -
B37: 対策履歴 | E37: - | H37: 実施状況（実施日） | J37: - | M37: 対策履歴 | P37: - | S37: 実施状況（実施日） | U37: -
B38: メモ | D38: （Ⅱb） | M38: メモ | O38: 背面空洞濁音あり （Ⅱb）
C39: ※ 健全性（応急措置後）の判定区分Ⅱ～Ⅳについて添付すること。また、点検前に 実施された措置によりⅠと判定された箇所も添付すること。 | N39: ※ 変状の発生範囲の規模とは、対策を行う際に参考となる変状の長さや面積をいう。
N40: ※ 応急措置を実施しないで判定した変状の健全性は、健全性の応急措置後の欄に記入すること。
C41: ※ たたき落としを実施した場合は、実施後の写真を添付すること。 | N41: ※ 変状の発生範囲の規模は、面積・寸法を記載すること。
C42: ※ 附属物の取付状態に関する異常写真は別途、様式D-1-2でとりまとめること。 | N42: (ひび割れ幅のみmmとし、その他をm表記とする)
C43: ※ 変状数に準じてシートを追加すること。（１シートに１ページとすること。） | N43: ※ 構造用鋼材以外の異物に伴ううき・はく離については、メモ欄に異物の概要を記入すること。

Sheet 様式D-1-1(トンネル様式2P001) P027
B2: ■定期点検記録様式 変状写真台帳 | Y2: Ⅰ
B3: フリガナ | D3: ='様式C-2'!E3 -> ホウベンザントンネル | H3: 路線名 | J3: ='様式C-2'!J3:L3 -> 国道435号 | M3: 定期点検業者 | P3: ='様式C-2'!R3 -> 株式会社エイト日本技術開発 | S3: 定期点検年月日 | U3: ='様式C-2'!X3 -> 44413 | Y3: Ⅱ
B4: 名 称 | D4: ='様式C-2'!E4 -> 鳳翩山トンネル | H4: 管理者名 | J4: ='様式C-2'!J4:L4 -> 防府土木建設事務所山口支所 | M4: 定期点検者名 | P4: ='様式C-2'!R4 -> 榎田 敦之 | Y4: Ⅲ
B5: 写真 番号 | C5: 覆工 スパン 番号 | D5: 66 | M5: 写真 番号 | N5: 覆工 スパン 番号 | O5: 66 | Y5: Ⅳ
C7: 変状 番号 | D7: 3 | N7: 変状 番号 | O7: 4
B9: 変状 部位 | C9: 対象 箇所 | D9: 覆工・坑門 | M9: 変状 部位 | N9: 対象 箇所 | O9: 覆工・坑門
C11: 部位 区分 | D11: 側壁（右側） | N11: 部位 区分 | O11: その他
B13: 変状区分 | D13: 漏水 | M13: 変状区分 | O13: 漏水
B14: 変状種類 | D14: 漏水 | M14: 変状種類 | O14: 滞水
B15: 健全性 | C15: 応急措置前 | E15: - | M15: 健全性 | N15: 応急措置前 | P15: -
C16: 応急措置後 | E16: Ⅱ | N16: 応急措置後 | P16: Ⅱ
B17: 変状の発生範囲の規模 | E17: 1.5m×1.3m 1.95㎡ | M17: 変状の発生範囲の規模 | P17: 0.7m×1.8m 1.26㎡
B18: 前回定期点検時の状態 | E18: 新規 | M18: 前回定期点検時の状態 | P18: 新規
B19: 調査方針 | E19: - | M19: 調査方針 | P19: -
B20: 対策履歴 | E20: - | H20: 実施状況（実施日） | J20: - | M20: 対策履歴 | P20: - | S20: 実施状況（実施日） | U20: -
B21: メモ | D21: （Ⅱb） | M21: メモ | O21: 監査歩路の滞水 （Ⅱb）
B22: 写真 番号 | C22: 覆工 スパン 番号 | D22: 67 | M22: 写真 番号 | N22: 覆工 スパン 番号 | O22: 67
C24: 変状 番号 | D24: 1 | N24: 変状 番号 | O24: 2
B26: 変状 部位 | C26: 対象 箇所 | D26: 覆工・坑門 | M26: 変状 部位 | N26: 対象 箇所 | O26: 覆工・坑門
C28: 部位 区分 | D28: 側壁（左側） | N28: 部位 区分 | O28: アーチ（左側）
B30: 変状区分 | D30: 材質劣化 | M30: 変状区分 | O30: 材質劣化
B31: 変状種類 | D31: うき・はく離 | M31: 変状種類 | O31: うき・はく離
B32: 健全性 | C32: 応急措置前 | E32: - | M32: 健全性 | N32: 応急措置前 | P32: -
C33: 応急措置後 | E33: Ⅱ | N33: 応急措置後 | P33: Ⅱ
B34: 変状の発生範囲の規模 | E34: 0.5m×0.05m 0.025㎡ | M34: 変状の発生範囲の規模 | P34: 0.95m×0.03m 0.0285㎡
B35: 前回定期点検時の状態 | E35: うき 0.5m×0.05m | M35: 前回定期点検時の状態 | P35: うき 0.95m×0.03m
B36: 調査方針 | E36: - | M36: 調査方針 | P36: -
B37: 対策履歴 | E37: - | H37: 実施状況（実施日） | J37: - | M37: 対策履歴 | P37: - | S37: 実施状況（実施日） | U37: -
B38: メモ | D38: （Ⅱb） | M38: メモ | O38: （Ⅱa）
C39: ※ 健全性（応急措置後）の判定区分Ⅱ～Ⅳについて添付すること。また、点検前に 実施された措置によりⅠと判定された箇所も添付すること。 | N39: ※ 変状の発生範囲の規模とは、対策を行う際に参考となる変状の長さや面積をいう。
N40: ※ 応急措置を実施しないで判定した変状の健全性は、健全性の応急措置後の欄に記入すること。
C41: ※ たたき落としを実施した場合は、実施後の写真を添付すること。 | N41: ※ 変状の発生範囲の規模は、面積・寸法を記載すること。
C42: ※ 附属物の取付状態に関する異常写真は別途、様式D-1-2でとりまとめること。 | N42: (ひび割れ幅のみmmとし、その他をm表記とする)
C43: ※ 変状数に準じてシートを追加すること。（１シートに１ページとすること。） | N43: ※ 構造用鋼材以外の異物に伴ううき・はく離については、メモ欄に異物の概要を記入すること。

Sheet 様式D-1-1(トンネル様式2P001) P028
B2: ■定期点検記録様式 変状写真台帳 | Y2: Ⅰ
B3: フリガナ | D3: ='様式C-2'!E3 -> ホウベンザントンネル | H3: 路線名 | J3: ='様式C-2'!J3:L3 -> 国道435号 | M3: 定期点検業者 | P3: ='様式C-2'!R3 -> 株式会社エイト日本技術開発 | S3: 定期点検年月日 | U3: ='様式C-2'!X3 -> 44413 | Y3: Ⅱ
B4: 名 称 | D4: ='様式C-2'!E4 -> 鳳翩山トンネル | H4: 管理者名 | J4: ='様式C-2'!J4:L4 -> 防府土木建設事務所山口支所 | M4: 定期点検者名 | P4: ='様式C-2'!R4 -> 榎田 敦之 | Y4: Ⅲ
B5: 写真 番号 | C5: 覆工 スパン 番号 | D5: 67 | M5: 写真 番号 | N5: 覆工 スパン 番号 | O5: 67 | Y5: Ⅳ
C7: 変状 番号 | D7: 3 | N7: 変状 番号 | O7: 4
B9: 変状 部位 | C9: 対象 箇所 | D9: 覆工・坑門 | M9: 変状 部位 | N9: 対象 箇所 | O9: 覆工・坑門
C11: 部位 区分 | D11: アーチ（左側） | N11: 部位 区分 | O11: アーチ（左側）
B13: 変状区分 | D13: 材質劣化 | M13: 変状区分 | O13: 材質劣化
B14: 変状種類 | D14: ひび割れ | M14: 変状種類 | O14: うき・はく離
B15: 健全性 | C15: 応急措置前 | E15: - | M15: 健全性 | N15: 応急措置前 | P15: -
C16: 応急措置後 | E16: Ⅰ | N16: 応急措置後 | P16: Ⅱ
B17: 変状の発生範囲の規模 | E17: 幅0.3mm×長さ7.3m 0.00219㎡ | M17: 変状の発生範囲の規模 | P17: 2.8m×1.3m 3.64㎡
B18: 前回定期点検時の状態 | E18: ひび割れ 幅0.3mm×長さ7.3m | M18: 前回定期点検時の状態 | P18: うき 2.8m×1.3m
B19: 調査方針 | E19: - | M19: 調査方針 | P19: -
B20: 対策履歴 | E20: - | H20: 実施状況（実施日） | J20: - | M20: 対策履歴 | P20: - | S20: 実施状況（実施日） | U20: -
B21: メモ | D21: （Ⅰ） | M21: メモ | O21: （Ⅱa）
B22: 写真 番号 | C22: 覆工 スパン 番号 | D22: 67 | M22: 写真 番号 | N22: 覆工 スパン 番号 | O22: 67
C24: 変状 番号 | D24: 5 | N24: 変状 番号 | O24: 6
B26: 変状 部位 | C26: 対象 箇所 | D26: 覆工・坑門 | M26: 変状 部位 | N26: 対象 箇所 | O26: 覆工・坑門
C28: 部位 区分 | D28: アーチ（右側） | N28: 部位 区分 | O28: アーチ（右側）
B30: 変状区分 | D30: 材質劣化 | M30: 変状区分 | O30: 材質劣化
B31: 変状種類 | D31: うき・はく離 | M31: 変状種類 | O31: うき・はく離
B32: 健全性 | C32: 応急措置前 | E32: - | M32: 健全性 | N32: 応急措置前 | P32: -
C33: 応急措置後 | E33: Ⅱ | N33: 応急措置後 | P33: Ⅱ
B34: 変状の発生範囲の規模 | E34: 0.4m×0.03m 0.012㎡ | M34: 変状の発生範囲の規模 | P34: 0.3m×0.03m 0.009㎡
B35: 前回定期点検時の状態 | E35: うき 0.4m×0.03m | M35: 前回定期点検時の状態 | P35: うき 0.3m×0.03m
B36: 調査方針 | E36: - | M36: 調査方針 | P36: -
B37: 対策履歴 | E37: - | H37: 実施状況（実施日） | J37: - | M37: 対策履歴 | P37: - | S37: 実施状況（実施日） | U37: -
B38: メモ | D38: （Ⅱa） | M38: メモ | O38: （Ⅱa）
C39: ※ 健全性（応急措置後）の判定区分Ⅱ～Ⅳについて添付すること。また、点検前に 実施された措置によりⅠと判定された箇所も添付すること。 | N39: ※ 変状の発生範囲の規模とは、対策を行う際に参考となる変状の長さや面積をいう。
N40: ※ 応急措置を実施しないで判定した変状の健全性は、健全性の応急措置後の欄に記入すること。
C41: ※ たたき落としを実施した場合は、実施後の写真を添付すること。 | N41: ※ 変状の発生範囲の規模は、面積・寸法を記載すること。
C42: ※ 附属物の取付状態に関する異常写真は別途、様式D-1-2でとりまとめること。 | N42: (ひび割れ幅のみmmとし、その他をm表記とする)
C43: ※ 変状数に準じてシートを追加すること。（１シートに１ページとすること。） | N43: ※ 構造用鋼材以外の異物に伴ううき・はく離については、メモ欄に異物の概要を記入すること。

Sheet 様式D-1-1(トンネル様式2P001) P029
B2: ■定期点検記録様式 変状写真台帳 | Y2: Ⅰ
B3: フリガナ | D3: ='様式C-2'!E3 -> ホウベンザントンネル | H3: 路線名 | J3: ='様式C-2'!J3:L3 -> 国道435号 | M3: 定期点検業者 | P3: ='様式C-2'!R3 -> 株式会社エイト日本技術開発 | S3: 定期点検年月日 | U3: ='様式C-2'!X3 -> 44413 | Y3: Ⅱ
B4: 名 称 | D4: ='様式C-2'!E4 -> 鳳翩山トンネル | H4: 管理者名 | J4: ='様式C-2'!J4:L4 -> 防府土木建設事務所山口支所 | M4: 定期点検者名 | P4: ='様式C-2'!R4 -> 榎田 敦之 | Y4: Ⅲ
B5: 写真 番号 | C5: 覆工 スパン 番号 | D5: 67 | M5: 写真 番号 | N5: 覆工 スパン 番号 | O5: 68 | Y5: Ⅳ
C7: 変状 番号 | D7: 7 | N7: 変状 番号 | O7: 1
B9: 変状 部位 | C9: 対象 箇所 | D9: 覆工・坑門 | M9: 変状 部位 | N9: 対象 箇所 | O9: 覆工・坑門
C11: 部位 区分 | D11: 側壁（右側） | N11: 部位 区分 | O11: アーチ（左側）
B13: 変状区分 | D13: 材質劣化 | M13: 変状区分 | O13: 材質劣化
B14: 変状種類 | D14: うき・はく離 | M14: 変状種類 | O14: ひび割れ
B15: 健全性 | C15: 応急措置前 | E15: - | M15: 健全性 | N15: 応急措置前 | P15: -
C16: 応急措置後 | E16: Ⅱ | N16: 応急措置後 | P16: Ⅰ
B17: 変状の発生範囲の規模 | E17: 1.2m×0.07m 0.084㎡ | M17: 変状の発生範囲の規模 | P17: 幅0.5mm×長さ11.0m 0.0055㎡
B18: 前回定期点検時の状態 | E18: うき 1.2m×0.07m | M18: 前回定期点検時の状態 | P18: 新規
B19: 調査方針 | E19: - | M19: 調査方針 | P19: -
B20: 対策履歴 | E20: - | H20: 実施状況（実施日） | J20: - | M20: 対策履歴 | P20: - | S20: 実施状況（実施日） | U20: -
B21: メモ | D21: （Ⅱb） | M21: メモ | O21: （Ⅰ）
B22: 写真 番号 | C22: 覆工 スパン 番号 | D22: 68 | M22: 写真 番号 | N22: 覆工 スパン 番号 | O22: 70
C24: 変状 番号 | D24: 2 | N24: 変状 番号 | O24: 1
B26: 変状 部位 | C26: 対象 箇所 | D26: 覆工・坑門 | M26: 変状 部位 | N26: 対象 箇所 | O26: 覆工・坑門
C28: 部位 区分 | D28: アーチ（天端） | N28: 部位 区分 | O28: アーチ（左側）
B30: 変状区分 | D30: 材質劣化 | M30: 変状区分 | O30: 材質劣化
B31: 変状種類 | D31: うき・はく離 | M31: 変状種類 | O31: うき・はく離
B32: 健全性 | C32: 応急措置前 | E32: - | M32: 健全性 | N32: 応急措置前 | P32: -
C33: 応急措置後 | E33: Ⅲ | N33: 応急措置後 | P33: Ⅱ
B34: 変状の発生範囲の規模 | E34: 1.0m×1.1m 1.1㎡ | M34: 変状の発生範囲の規模 | P34: 0.15m×0.05m 0.0075㎡
B35: 前回定期点検時の状態 | E35: うき 0.3m×0.8m | M35: 前回定期点検時の状態 | P35: 新規
B36: 調査方針 | E36: - | M36: 調査方針 | P36: -
B37: 対策履歴 | E37: - | H37: 実施状況（実施日） | J37: - | M37: 対策履歴 | P37: - | S37: 実施状況（実施日） | U37: -
B38: メモ | D38: 一部はく離を伴っており早急な対策が望まれる （Ⅲ） | M38: メモ | O38: （Ⅱa）
C39: ※ 健全性（応急措置後）の判定区分Ⅱ～Ⅳについて添付すること。また、点検前に 実施された措置によりⅠと判定された箇所も添付すること。 | N39: ※ 変状の発生範囲の規模とは、対策を行う際に参考となる変状の長さや面積をいう。
N40: ※ 応急措置を実施しないで判定した変状の健全性は、健全性の応急措置後の欄に記入すること。
C41: ※ たたき落としを実施した場合は、実施後の写真を添付すること。 | N41: ※ 変状の発生範囲の規模は、面積・寸法を記載すること。
C42: ※ 附属物の取付状態に関する異常写真は別途、様式D-1-2でとりまとめること。 | N42: (ひび割れ幅のみmmとし、その他をm表記とする)
C43: ※ 変状数に準じてシートを追加すること。（１シートに１ページとすること。） | N43: ※ 構造用鋼材以外の異物に伴ううき・はく離については、メモ欄に異物の概要を記入すること。

Sheet 様式D-1-1(トンネル様式2P001) P030
B2: ■定期点検記録様式 変状写真台帳 | Y2: Ⅰ
B3: フリガナ | D3: ='様式C-2'!E3 -> ホウベンザントンネル | H3: 路線名 | J3: ='様式C-2'!J3:L3 -> 国道435号 | M3: 定期点検業者 | P3: ='様式C-2'!R3 -> 株式会社エイト日本技術開発 | S3: 定期点検年月日 | U3: ='様式C-2'!X3 -> 44413 | Y3: Ⅱ
B4: 名 称 | D4: ='様式C-2'!E4 -> 鳳翩山トンネル | H4: 管理者名 | J4: ='様式C-2'!J4:L4 -> 防府土木建設事務所山口支所 | M4: 定期点検者名 | P4: ='様式C-2'!R4 -> 榎田 敦之 | Y4: Ⅲ
B5: 写真 番号 | C5: 覆工 スパン 番号 | D5: 73 | M5: 写真 番号 | N5: 覆工 スパン 番号 | O5: 73 | Y5: Ⅳ
C7: 変状 番号 | D7: 1 | N7: 変状 番号 | O7: 2
B9: 変状 部位 | C9: 対象 箇所 | D9: 覆工・坑門 | M9: 変状 部位 | N9: 対象 箇所 | O9: 覆工・坑門
C11: 部位 区分 | D11: アーチ（左側） | N11: 部位 区分 | O11: アーチ（左側）
B13: 変状区分 | D13: 材質劣化 | M13: 変状区分 | O13: 材質劣化
B14: 変状種類 | D14: その他 | M14: 変状種類 | O14: その他
B15: 健全性 | C15: 応急措置前 | E15: - | M15: 健全性 | N15: 応急措置前 | P15: -
C16: 応急措置後 | E16: Ⅱ | N16: 応急措置後 | P16: Ⅱ
B17: 変状の発生範囲の規模 | E17: 0.1m×0.5m 0.05㎡ | M17: 変状の発生範囲の規模 | P17: 0.2m×0.2m 0.04㎡
B18: 前回定期点検時の状態 | E18: ジャンカ 0.1m×0.5m | M18: 前回定期点検時の状態 | P18: ジャンカ 0.2m×0.2m
B19: 調査方針 | E19: - | M19: 調査方針 | P19: -
B20: 対策履歴 | E20: - | H20: 実施状況（実施日） | J20: - | M20: 対策履歴 | P20: - | S20: 実施状況（実施日） | U20: -
B21: メモ | D21: 左アーチの骨材露出 （Ⅱa） | M21: メモ | O21: 左アーチの骨材露出 （Ⅱb）
B22: 写真 番号 | C22: 覆工 スパン 番号 | D22: 75 | M22: 写真 番号 | N22: 覆工 スパン 番号 | O22: 76
C24: 変状 番号 | D24: 1 | N24: 変状 番号 | O24: 1
B26: 変状 部位 | C26: 対象 箇所 | D26: 覆工・坑門 | M26: 変状 部位 | N26: 対象 箇所 | O26: 覆工・坑門
C28: 部位 区分 | D28: アーチ（左側） | N28: 部位 区分 | O28: アーチ（右側）
B30: 変状区分 | D30: 材質劣化 | M30: 変状区分 | O30: 材質劣化
B31: 変状種類 | D31: うき・はく離 | M31: 変状種類 | O31: その他
B32: 健全性 | C32: 応急措置前 | E32: - | M32: 健全性 | N32: 応急措置前 | P32: -
C33: 応急措置後 | E33: Ⅱ | N33: 応急措置後 | P33: Ⅱ
B34: 変状の発生範囲の規模 | E34: 0.3m×0.05m 0.015㎡ | M34: 変状の発生範囲の規模 | P34: 0.2m×0.2m 0.04㎡
B35: 前回定期点検時の状態 | E35: 新規 | M35: 前回定期点検時の状態 | P35: ジャンカ 0.2m×0.2m
B36: 調査方針 | E36: - | M36: 調査方針 | P36: -
B37: 対策履歴 | E37: - | H37: 実施状況（実施日） | J37: - | M37: 対策履歴 | P37: - | S37: 実施状況（実施日） | U37: -
B38: メモ | D38: （Ⅱa） | M38: メモ | O38: 右アーチの骨材露出 （Ⅱb）
C39: ※ 健全性（応急措置後）の判定区分Ⅱ～Ⅳについて添付すること。また、点検前に 実施された措置によりⅠと判定された箇所も添付すること。 | N39: ※ 変状の発生範囲の規模とは、対策を行う際に参考となる変状の長さや面積をいう。
N40: ※ 応急措置を実施しないで判定した変状の健全性は、健全性の応急措置後の欄に記入すること。
C41: ※ たたき落としを実施した場合は、実施後の写真を添付すること。 | N41: ※ 変状の発生範囲の規模は、面積・寸法を記載すること。
C42: ※ 附属物の取付状態に関する異常写真は別途、様式D-1-2でとりまとめること。 | N42: (ひび割れ幅のみmmとし、その他をm表記とする)
C43: ※ 変状数に準じてシートを追加すること。（１シートに１ページとすること。） | N43: ※ 構造用鋼材以外の異物に伴ううき・はく離については、メモ欄に異物の概要を記入すること。

Sheet 様式D-1-1(トンネル様式2P001) P031
B2: ■定期点検記録様式 変状写真台帳 | Y2: Ⅰ
B3: フリガナ | D3: ='様式C-2'!E3 -> ホウベンザントンネル | H3: 路線名 | J3: ='様式C-2'!J3:L3 -> 国道435号 | M3: 定期点検業者 | P3: ='様式C-2'!R3 -> 株式会社エイト日本技術開発 | S3: 定期点検年月日 | U3: ='様式C-2'!X3 -> 44413 | Y3: Ⅱ
B4: 名 称 | D4: ='様式C-2'!E4 -> 鳳翩山トンネル | H4: 管理者名 | J4: ='様式C-2'!J4:L4 -> 防府土木建設事務所山口支所 | M4: 定期点検者名 | P4: ='様式C-2'!R4 -> 榎田 敦之 | Y4: Ⅲ
B5: 写真 番号 | C5: 覆工 スパン 番号 | D5: 78 | M5: 写真 番号 | N5: 覆工 スパン 番号 | O5: 79 | Y5: Ⅳ
C7: 変状 番号 | D7: 1 | N7: 変状 番号 | O7: 1
B9: 変状 部位 | C9: 対象 箇所 | D9: 覆工・坑門 | M9: 変状 部位 | N9: 対象 箇所 | O9: 覆工・坑門
C11: 部位 区分 | D11: アーチ（左側） | N11: 部位 区分 | O11: アーチ（左側）
B13: 変状区分 | D13: 材質劣化 | M13: 変状区分 | O13: 材質劣化
B14: 変状種類 | D14: ひび割れ | M14: 変状種類 | O14: うき・はく離
B15: 健全性 | C15: 応急措置前 | E15: - | M15: 健全性 | N15: 応急措置前 | P15: -
C16: 応急措置後 | E16: Ⅰ | N16: 応急措置後 | P16: Ⅱ
B17: 変状の発生範囲の規模 | E17: 幅0.9mm×長さ11.0m 0.0099㎡ | M17: 変状の発生範囲の規模 | P17: 0.7m×0.05m 0.035㎡
B18: 前回定期点検時の状態 | E18: ひび割れ 幅0.9mm×長さ11.0m | M18: 前回定期点検時の状態 | P18: 新規
B19: 調査方針 | E19: - | M19: 調査方針 | P19: -
B20: 対策履歴 | E20: - | H20: 実施状況（実施日） | J20: - | M20: 対策履歴 | P20: - | S20: 実施状況（実施日） | U20: -
B21: メモ | D21: （Ⅰ） | M21: メモ | O21: （Ⅱa）
B22: 写真 番号 | C22: 覆工 スパン 番号 | D22: 79 | M22: 写真 番号 | N22: 覆工 スパン 番号 | O22: 80
C24: 変状 番号 | D24: 2 | N24: 変状 番号 | O24: 1
B26: 変状 部位 | C26: 対象 箇所 | D26: 覆工・坑門 | M26: 変状 部位 | N26: 対象 箇所 | O26: 覆工・坑門
C28: 部位 区分 | D28: アーチ（左側） | N28: 部位 区分 | O28: アーチ（左側）
B30: 変状区分 | D30: 材質劣化 | M30: 変状区分 | O30: 材質劣化
B31: 変状種類 | D31: うき・はく離 | M31: 変状種類 | O31: ひび割れ
B32: 健全性 | C32: 応急措置前 | E32: - | M32: 健全性 | N32: 応急措置前 | P32: -
C33: 応急措置後 | E33: Ⅱ | N33: 応急措置後 | P33: Ⅰ
B34: 変状の発生範囲の規模 | E34: 0.2m×0.03m 0.006㎡ | M34: 変状の発生範囲の規模 | P34: 幅1.0mm×長さ11.0m 0.011㎡
B35: 前回定期点検時の状態 | E35: うき 0.2m×0.03m | M35: 前回定期点検時の状態 | P35: ひび割れ 幅1.0mm×長さ11.0m
B36: 調査方針 | E36: - | M36: 調査方針 | P36: -
B37: 対策履歴 | E37: - | H37: 実施状況（実施日） | J37: - | M37: 対策履歴 | P37: - | S37: 実施状況（実施日） | U37: -
B38: メモ | D38: （Ⅱa） | M38: メモ | O38: （Ⅰ）
C39: ※ 健全性（応急措置後）の判定区分Ⅱ～Ⅳについて添付すること。また、点検前に 実施された措置によりⅠと判定された箇所も添付すること。 | N39: ※ 変状の発生範囲の規模とは、対策を行う際に参考となる変状の長さや面積をいう。
N40: ※ 応急措置を実施しないで判定した変状の健全性は、健全性の応急措置後の欄に記入すること。
C41: ※ たたき落としを実施した場合は、実施後の写真を添付すること。 | N41: ※ 変状の発生範囲の規模は、面積・寸法を記載すること。
C42: ※ 附属物の取付状態に関する異常写真は別途、様式D-1-2でとりまとめること。 | N42: (ひび割れ幅のみmmとし、その他をm表記とする)
C43: ※ 変状数に準じてシートを追加すること。（１シートに１ページとすること。） | N43: ※ 構造用鋼材以外の異物に伴ううき・はく離については、メモ欄に異物の概要を記入すること。

Sheet 様式D-1-1(トンネル様式2P001) P032
B2: ■定期点検記録様式 変状写真台帳 | Y2: Ⅰ
B3: フリガナ | D3: ='様式C-2'!E3 -> ホウベンザントンネル | H3: 路線名 | J3: ='様式C-2'!J3:L3 -> 国道435号 | M3: 定期点検業者 | P3: ='様式C-2'!R3 -> 株式会社エイト日本技術開発 | S3: 定期点検年月日 | U3: ='様式C-2'!X3 -> 44413 | Y3: Ⅱ
B4: 名 称 | D4: ='様式C-2'!E4 -> 鳳翩山トンネル | H4: 管理者名 | J4: ='様式C-2'!J4:L4 -> 防府土木建設事務所山口支所 | M4: 定期点検者名 | P4: ='様式C-2'!R4 -> 榎田 敦之 | Y4: Ⅲ
B5: 写真 番号 | C5: 覆工 スパン 番号 | D5: 84 | M5: 写真 番号 | N5: 覆工 スパン 番号 | O5: 85 | Y5: Ⅳ
C7: 変状 番号 | D7: 1 | N7: 変状 番号 | O7: 1
B9: 変状 部位 | C9: 対象 箇所 | D9: 覆工・坑門 | M9: 変状 部位 | N9: 対象 箇所 | O9: 覆工・坑門
C11: 部位 区分 | D11: アーチ（左側） | N11: 部位 区分 | O11: 側壁（右側）
B13: 変状区分 | D13: 材質劣化 | M13: 変状区分 | O13: 材質劣化
B14: 変状種類 | D14: ひび割れ | M14: 変状種類 | O14: うき・はく離
B15: 健全性 | C15: 応急措置前 | E15: - | M15: 健全性 | N15: 応急措置前 | P15: -
C16: 応急措置後 | E16: Ⅰ | N16: 応急措置後 | P16: Ⅱ
B17: 変状の発生範囲の規模 | E17: 幅0.3mm×長さ9.2m 0.00276㎡ | M17: 変状の発生範囲の規模 | P17: 0.45m×0.03m 0.0135㎡
B18: 前回定期点検時の状態 | E18: ひび割れ 幅0.3mm×長さ9.2m | M18: 前回定期点検時の状態 | P18: うき 0.45m×0.03m
B19: 調査方針 | E19: - | M19: 調査方針 | P19: -
B20: 対策履歴 | E20: - | H20: 実施状況（実施日） | J20: - | M20: 対策履歴 | P20: - | S20: 実施状況（実施日） | U20: -
B21: メモ | D21: （Ⅰ） | M21: メモ | O21: （Ⅱb）
B22: 写真 番号 | C22: 覆工 スパン 番号 | D22: 87 | M22: 写真 番号 | N22: 覆工 スパン 番号 | O22: 88
C24: 変状 番号 | D24: 1 | N24: 変状 番号 | O24: 1
B26: 変状 部位 | C26: 対象 箇所 | D26: 覆工・坑門 | M26: 変状 部位 | N26: 対象 箇所 | O26: 覆工・坑門
C28: 部位 区分 | D28: アーチ（右側） | N28: 部位 区分 | O28: 側壁（左側）
B30: 変状区分 | D30: 材質劣化 | M30: 変状区分 | O30: 材質劣化
B31: 変状種類 | D31: ひび割れ | M31: 変状種類 | O31: 鋼材腐食
B32: 健全性 | C32: 応急措置前 | E32: - | M32: 健全性 | N32: 応急措置前 | P32: -
C33: 応急措置後 | E33: Ⅱ | N33: 応急措置後 | P33: Ⅱ
B34: 変状の発生範囲の規模 | E34: 2.0m×0.5m 1㎡ | M34: 変状の発生範囲の規模 | P34: 0.15m×0.01m D=0.002m 2か所 0.0015㎡
B35: 前回定期点検時の状態 | E35: うき 2.0m×0.5m | M35: 前回定期点検時の状態 | P35: 鉄筋露出 0.15m×0.01m×0.002m 2か所
B36: 調査方針 | E36: - | M36: 調査方針 | P36: -
B37: 対策履歴 | E37: - | H37: 実施状況（実施日） | J37: - | M37: 対策履歴 | P37: - | S37: 実施状況（実施日） | U37: -
B38: メモ | D38: 目地部の閉合ひび割れ打音異常なし W=0.4 （Ⅱb） | M38: メモ | O38: 鋼材腐食 0.15m×0.01m D=0.002m,0.15m×0.01m D=0.002m（Ⅱb）
C39: ※ 健全性（応急措置後）の判定区分Ⅱ～Ⅳについて添付すること。また、点検前に 実施された措置によりⅠと判定された箇所も添付すること。 | N39: ※ 変状の発生範囲の規模とは、対策を行う際に参考となる変状の長さや面積をいう。
N40: ※ 応急措置を実施しないで判定した変状の健全性は、健全性の応急措置後の欄に記入すること。
C41: ※ たたき落としを実施した場合は、実施後の写真を添付すること。 | N41: ※ 変状の発生範囲の規模は、面積・寸法を記載すること。
C42: ※ 附属物の取付状態に関する異常写真は別途、様式D-1-2でとりまとめること。 | N42: (ひび割れ幅のみmmとし、その他をm表記とする)
C43: ※ 変状数に準じてシートを追加すること。（１シートに１ページとすること。） | N43: ※ 構造用鋼材以外の異物に伴ううき・はく離については、メモ欄に異物の概要を記入すること。

Sheet 様式D-1-1(トンネル様式2P001) P033
B2: ■定期点検記録様式 変状写真台帳 | Y2: Ⅰ
B3: フリガナ | D3: ='様式C-2'!E3 -> ホウベンザントンネル | H3: 路線名 | J3: ='様式C-2'!J3:L3 -> 国道435号 | M3: 定期点検業者 | P3: ='様式C-2'!R3 -> 株式会社エイト日本技術開発 | S3: 定期点検年月日 | U3: ='様式C-2'!X3 -> 44413 | Y3: Ⅱ
B4: 名 称 | D4: ='様式C-2'!E4 -> 鳳翩山トンネル | H4: 管理者名 | J4: ='様式C-2'!J4:L4 -> 防府土木建設事務所山口支所 | M4: 定期点検者名 | P4: ='様式C-2'!R4 -> 榎田 敦之 | Y4: Ⅲ
B5: 写真 番号 | C5: 覆工 スパン 番号 | D5: 88 | M5: 写真 番号 | N5: 覆工 スパン 番号 | O5: 89 | Y5: Ⅳ
C7: 変状 番号 | D7: 2 | N7: 変状 番号 | O7: 1
B9: 変状 部位 | C9: 対象 箇所 | D9: 覆工・坑門 | M9: 変状 部位 | N9: 対象 箇所 | O9: 覆工・坑門
C11: 部位 区分 | D11: 側壁（左側） | N11: 部位 区分 | O11: アーチ（右側）
B13: 変状区分 | D13: 材質劣化 | M13: 変状区分 | O13: 材質劣化
B14: 変状種類 | D14: 鋼材腐食 | M14: 変状種類 | O14: ひび割れ
B15: 健全性 | C15: 応急措置前 | E15: - | M15: 健全性 | N15: 応急措置前 | P15: -
C16: 応急措置後 | E16: Ⅱ | N16: 応急措置後 | P16: Ⅰ
B17: 変状の発生範囲の規模 | E17: 0.1m×0.1m D=0.003m 0.01㎡ | M17: 変状の発生範囲の規模 | P17: 幅0.3mm×長さ6.8m 0.00204㎡
B18: 前回定期点検時の状態 | E18: 鉄筋露出 0.1m×0.1m×0.003m | M18: 前回定期点検時の状態 | P18: ひび割れ 幅0.3mm×長さ6.8m
B19: 調査方針 | E19: - | M19: 調査方針 | P19: -
B20: 対策履歴 | E20: - | H20: 実施状況（実施日） | J20: - | M20: 対策履歴 | P20: - | S20: 実施状況（実施日） | U20: -
B21: メモ | D21: （Ⅱb） | M21: メモ | O21: （Ⅰ）
B22: 写真 番号 | C22: 覆工 スパン 番号 | D22: 90 | M22: 写真 番号 | N22: 覆工 スパン 番号 | O22: 93
C24: 変状 番号 | D24: 1 | N24: 変状 番号 | O24: 1
B26: 変状 部位 | C26: 対象 箇所 | D26: 覆工・坑門 | M26: 変状 部位 | N26: 対象 箇所 | O26: 覆工・坑門
C28: 部位 区分 | D28: アーチ（左側） | N28: 部位 区分 | O28: アーチ（左側）
B30: 変状区分 | D30: 材質劣化 | M30: 変状区分 | O30: 材質劣化
B31: 変状種類 | D31: ひび割れ | M31: 変状種類 | O31: 鋼材腐食
B32: 健全性 | C32: 応急措置前 | E32: - | M32: 健全性 | N32: 応急措置前 | P32: -
C33: 応急措置後 | E33: Ⅰ | N33: 応急措置後 | P33: Ⅱ
B34: 変状の発生範囲の規模 | E34: 幅0.4mm×長さ6.2m 0.00248㎡ | M34: 変状の発生範囲の規模 | P34: 0.03m×0.03m D=0.003m 0.0009㎡
B35: 前回定期点検時の状態 | E35: ひび割れ 幅0.4mm×長さ6.2m | M35: 前回定期点検時の状態 | P35: 鉄筋露出 0.03m×0.03m×0.003m
B36: 調査方針 | E36: - | M36: 調査方針 | P36: -
B37: 対策履歴 | E37: - | H37: 実施状況（実施日） | J37: - | M37: 対策履歴 | P37: - | S37: 実施状況（実施日） | U37: -
B38: メモ | D38: （Ⅰ） | M38: メモ | O38: （Ⅱb）
C39: ※ 健全性（応急措置後）の判定区分Ⅱ～Ⅳについて添付すること。また、点検前に 実施された措置によりⅠと判定された箇所も添付すること。 | N39: ※ 変状の発生範囲の規模とは、対策を行う際に参考となる変状の長さや面積をいう。
N40: ※ 応急措置を実施しないで判定した変状の健全性は、健全性の応急措置後の欄に記入すること。
C41: ※ たたき落としを実施した場合は、実施後の写真を添付すること。 | N41: ※ 変状の発生範囲の規模は、面積・寸法を記載すること。
C42: ※ 附属物の取付状態に関する異常写真は別途、様式D-1-2でとりまとめること。 | N42: (ひび割れ幅のみmmとし、その他をm表記とする)
C43: ※ 変状数に準じてシートを追加すること。（１シートに１ページとすること。） | N43: ※ 構造用鋼材以外の異物に伴ううき・はく離については、メモ欄に異物の概要を記入すること。

Sheet 様式D-1-1(トンネル様式2P001) P034
B2: ■定期点検記録様式 変状写真台帳 | Y2: Ⅰ
B3: フリガナ | D3: ='様式C-2'!E3 -> ホウベンザントンネル | H3: 路線名 | J3: ='様式C-2'!J3:L3 -> 国道435号 | M3: 定期点検業者 | P3: ='様式C-2'!R3 -> 株式会社エイト日本技術開発 | S3: 定期点検年月日 | U3: ='様式C-2'!X3 -> 44413 | Y3: Ⅱ
B4: 名 称 | D4: ='様式C-2'!E4 -> 鳳翩山トンネル | H4: 管理者名 | J4: ='様式C-2'!J4:L4 -> 防府土木建設事務所山口支所 | M4: 定期点検者名 | P4: ='様式C-2'!R4 -> 榎田 敦之 | Y4: Ⅲ
B5: 写真 番号 | C5: 覆工 スパン 番号 | D5: 93 | M5: 写真 番号 | N5: 覆工 スパン 番号 | O5: 93 | Y5: Ⅳ
C7: 変状 番号 | D7: 2 | N7: 変状 番号 | O7: 3
B9: 変状 部位 | C9: 対象 箇所 | D9: 覆工・坑門 | M9: 変状 部位 | N9: 対象 箇所 | O9: 覆工・坑門
C11: 部位 区分 | D11: アーチ（左側） | N11: 部位 区分 | O11: アーチ（右側）
B13: 変状区分 | D13: 材質劣化 | M13: 変状区分 | O13: 材質劣化
B14: 変状種類 | D14: 鋼材腐食 | M14: 変状種類 | O14: 鋼材腐食
B15: 健全性 | C15: 応急措置前 | E15: - | M15: 健全性 | N15: 応急措置前 | P15: -
C16: 応急措置後 | E16: Ⅱ | N16: 応急措置後 | P16: Ⅱ
B17: 変状の発生範囲の規模 | E17: 0.05m×0.05m D=0.01m 0.0025㎡ | M17: 変状の発生範囲の規模 | P17: 0.05m×0.05m D=0.01m 0.0025㎡
B18: 前回定期点検時の状態 | E18: 鉄筋露出 0.05m×0.05m×0.01m | M18: 前回定期点検時の状態 | P18: 鉄筋露出 0.05m×0.05m×0.01m
B19: 調査方針 | E19: - | M19: 調査方針 | P19: -
B20: 対策履歴 | E20: - | H20: 実施状況（実施日） | J20: - | M20: 対策履歴 | P20: - | S20: 実施状況（実施日） | U20: -
B21: メモ | D21: （Ⅱb） | M21: メモ | O21: （Ⅱb）
B22: 写真 番号 | C22: 覆工 スパン 番号 | D22: 94 | M22: 写真 番号 | N22: 覆工 スパン 番号 | O22: 94
C24: 変状 番号 | D24: 1 | N24: 変状 番号 | O24: 2
B26: 変状 部位 | C26: 対象 箇所 | D26: 覆工・坑門 | M26: 変状 部位 | N26: 対象 箇所 | O26: 覆工・坑門
C28: 部位 区分 | D28: アーチ（右側） | N28: 部位 区分 | O28: 側壁（右側）
B30: 変状区分 | D30: 材質劣化 | M30: 変状区分 | O30: 材質劣化
B31: 変状種類 | D31: うき・はく離 | M31: 変状種類 | O31: 鋼材腐食
B32: 健全性 | C32: 応急措置前 | E32: - | M32: 健全性 | N32: 応急措置前 | P32: -
C33: 応急措置後 | E33: Ⅱ | N33: 応急措置後 | P33: Ⅱ
B34: 変状の発生範囲の規模 | E34: 0.2m×0.05m 0.01㎡ | M34: 変状の発生範囲の規模 | P34: 0.1m×0.15m D=0.02m ５か所 0.015㎡
B35: 前回定期点検時の状態 | E35: うき 0.2m×0.05m | M35: 前回定期点検時の状態 | P35: 鉄筋露出 0.1m×0.15m×0.02m ５か所
B36: 調査方針 | E36: - | M36: 調査方針 | P36: -
B37: 対策履歴 | E37: - | H37: 実施状況（実施日） | J37: - | M37: 対策履歴 | P37: - | S37: 実施状況（実施日） | U37: -
B38: メモ | D38: （Ⅱa） | M38: メモ | O38: 鋼材腐食 0.05m×0.05mD=0.01m,0.05m×0.05mD=0.01m,0.05m×0.05mD=0.005m,0.05m×0.05mD=0.005m,0.1m×0.15mD=0.02m （Ⅱb）
C39: ※ 健全性（応急措置後）の判定区分Ⅱ～Ⅳについて添付すること。また、点検前に 実施された措置によりⅠと判定された箇所も添付すること。 | N39: ※ 変状の発生範囲の規模とは、対策を行う際に参考となる変状の長さや面積をいう。
N40: ※ 応急措置を実施しないで判定した変状の健全性は、健全性の応急措置後の欄に記入すること。
C41: ※ たたき落としを実施した場合は、実施後の写真を添付すること。 | N41: ※ 変状の発生範囲の規模は、面積・寸法を記載すること。
C42: ※ 附属物の取付状態に関する異常写真は別途、様式D-1-2でとりまとめること。 | N42: (ひび割れ幅のみmmとし、その他をm表記とする)
C43: ※ 変状数に準じてシートを追加すること。（１シートに１ページとすること。） | N43: ※ 構造用鋼材以外の異物に伴ううき・はく離については、メモ欄に異物の概要を記入すること。

Sheet 様式D-1-1(トンネル様式2P001) P035
B2: ■定期点検記録様式 変状写真台帳 | Y2: Ⅰ
B3: フリガナ | D3: ='様式C-2'!E3 -> ホウベンザントンネル | H3: 路線名 | J3: ='様式C-2'!J3:L3 -> 国道435号 | M3: 定期点検業者 | P3: ='様式C-2'!R3 -> 株式会社エイト日本技術開発 | S3: 定期点検年月日 | U3: ='様式C-2'!X3 -> 44413 | Y3: Ⅱ
B4: 名 称 | D4: ='様式C-2'!E4 -> 鳳翩山トンネル | H4: 管理者名 | J4: ='様式C-2'!J4:L4 -> 防府土木建設事務所山口支所 | M4: 定期点検者名 | P4: ='様式C-2'!R4 -> 榎田 敦之 | Y4: Ⅲ
B5: 写真 番号 | C5: 覆工 スパン 番号 | D5: 95 | M5: 写真 番号 | N5: 覆工 スパン 番号 | O5: 96 | Y5: Ⅳ
C7: 変状 番号 | D7: 1 | N7: 変状 番号 | O7: 1
B9: 変状 部位 | C9: 対象 箇所 | D9: 覆工・坑門 | M9: 変状 部位 | N9: 対象 箇所 | O9: 覆工・坑門
C11: 部位 区分 | D11: 側壁（左側） | N11: 部位 区分 | O11: 側壁（右側）
B13: 変状区分 | D13: 材質劣化 | M13: 変状区分 | O13: 外力
B14: 変状種類 | D14: 鋼材腐食 | M14: 変状種類 | O14: ひび割れ
B15: 健全性 | C15: 応急措置前 | E15: - | M15: 健全性 | N15: 応急措置前 | P15: -
C16: 応急措置後 | E16: Ⅱ | N16: 応急措置後 | P16: Ⅱ
B17: 変状の発生範囲の規模 | E17: 0.15m×0.03m D=0.005m 0.0045㎡ | M17: 変状の発生範囲の規模 | P17: 幅0.3mm×長さ6.8m 0.00204㎡
B18: 前回定期点検時の状態 | E18: 鉄筋露出 0.15m×0.03m×0.005m | M18: 前回定期点検時の状態 | P18: ひび割れ 幅0.3mm×長さ6.8m
B19: 調査方針 | E19: - | M19: 調査方針 | P19: -
B20: 対策履歴 | E20: - | H20: 実施状況（実施日） | J20: - | M20: 対策履歴 | P20: - | S20: 実施状況（実施日） | U20: -
B21: メモ | D21: （Ⅱb） | M21: メモ | O21: （Ⅱb）
B22: 写真 番号 | C22: 覆工 スパン 番号 | D22: 97 | M22: 写真 番号 | N22: 覆工 スパン 番号 | O22: 97
C24: 変状 番号 | D24: 1 | N24: 変状 番号 | O24: 2
B26: 変状 部位 | C26: 対象 箇所 | D26: 覆工・坑門 | M26: 変状 部位 | N26: 対象 箇所 | O26: 覆工・坑門
C28: 部位 区分 | D28: アーチ（左側） | N28: 部位 区分 | O28: アーチ（左側）
B30: 変状区分 | D30: 材質劣化 | M30: 変状区分 | O30: 材質劣化
B31: 変状種類 | D31: 鋼材腐食 | M31: 変状種類 | O31: その他
B32: 健全性 | C32: 応急措置前 | E32: - | M32: 健全性 | N32: 応急措置前 | P32: -
C33: 応急措置後 | E33: Ⅱ | N33: 応急措置後 | P33: Ⅱ
B34: 変状の発生範囲の規模 | E34: 0.04m×0.04m D=0.003m ４か所 0.0016㎡ | M34: 変状の発生範囲の規模 | P34: 0.4m×0.3m D=0.005m 0.12㎡
B35: 前回定期点検時の状態 | E35: 鉄筋露出 0.04m×0.04m×0.003m ４か所 | M35: 前回定期点検時の状態 | P35: ジャンカ 0.4m×0.3m D=0.005m
B36: 調査方針 | E36: - | M36: 調査方針 | P36: -
B37: 対策履歴 | E37: - | H37: 実施状況（実施日） | J37: - | M37: 対策履歴 | P37: - | S37: 実施状況（実施日） | U37: -
B38: メモ | D38: 鋼材腐食 0.04m×0.04m×0.003m,0.04m×0.04m×0.003m,0.04m×0.04m×0.003m,0.04m×0.04m×0.003m （Ⅱb） | M38: メモ | O38: 左アーチの骨材露出 （Ⅱb）
C39: ※ 健全性（応急措置後）の判定区分Ⅱ～Ⅳについて添付すること。また、点検前に 実施された措置によりⅠと判定された箇所も添付すること。 | N39: ※ 変状の発生範囲の規模とは、対策を行う際に参考となる変状の長さや面積をいう。
N40: ※ 応急措置を実施しないで判定した変状の健全性は、健全性の応急措置後の欄に記入すること。
C41: ※ たたき落としを実施した場合は、実施後の写真を添付すること。 | N41: ※ 変状の発生範囲の規模は、面積・寸法を記載すること。
C42: ※ 附属物の取付状態に関する異常写真は別途、様式D-1-2でとりまとめること。 | N42: (ひび割れ幅のみmmとし、その他をm表記とする)
C43: ※ 変状数に準じてシートを追加すること。（１シートに１ページとすること。） | N43: ※ 構造用鋼材以外の異物に伴ううき・はく離については、メモ欄に異物の概要を記入すること。

Sheet 様式D-1-1(トンネル様式2P001) P036
B2: ■定期点検記録様式 変状写真台帳 | Y2: Ⅰ
B3: フリガナ | D3: ='様式C-2'!E3 -> ホウベンザントンネル | H3: 路線名 | J3: ='様式C-2'!J3:L3 -> 国道435号 | M3: 定期点検業者 | P3: ='様式C-2'!R3 -> 株式会社エイト日本技術開発 | S3: 定期点検年月日 | U3: ='様式C-2'!X3 -> 44413 | Y3: Ⅱ
B4: 名 称 | D4: ='様式C-2'!E4 -> 鳳翩山トンネル | H4: 管理者名 | J4: ='様式C-2'!J4:L4 -> 防府土木建設事務所山口支所 | M4: 定期点検者名 | P4: ='様式C-2'!R4 -> 榎田 敦之 | Y4: Ⅲ
B5: 写真 番号 | C5: 覆工 スパン 番号 | D5: 97 | M5: 写真 番号 | N5: 覆工 スパン 番号 | O5: 97 | Y5: Ⅳ
C7: 変状 番号 | D7: 3 | N7: 変状 番号 | O7: 4
B9: 変状 部位 | C9: 対象 箇所 | D9: 覆工・坑門 | M9: 変状 部位 | N9: 対象 箇所 | O9: 覆工・坑門
C11: 部位 区分 | D11: 側壁（右側） | N11: 部位 区分 | O11: 側壁（右側）
B13: 変状区分 | D13: 材質劣化 | M13: 変状区分 | O13: 材質劣化
B14: 変状種類 | D14: 鋼材腐食 | M14: 変状種類 | O14: 鋼材腐食
B15: 健全性 | C15: 応急措置前 | E15: - | M15: 健全性 | N15: 応急措置前 | P15: -
C16: 応急措置後 | E16: Ⅱ | N16: 応急措置後 | P16: Ⅱ
B17: 変状の発生範囲の規模 | E17: 0.05m×0.05m×0.005m 0.0025㎡ | M17: 変状の発生範囲の規模 | P17: 0.1m×0.15m×0.03m 0.015㎡
B18: 前回定期点検時の状態 | E18: 鉄筋露出 0.05m×0.05m×0.005m | M18: 前回定期点検時の状態 | P18: 鉄筋露出 0.1m×0.15m×0.03m
B19: 調査方針 | E19: - | M19: 調査方針 | P19: -
B20: 対策履歴 | E20: - | H20: 実施状況（実施日） | J20: - | M20: 対策履歴 | P20: - | S20: 実施状況（実施日） | U20: -
B21: メモ | D21: （Ⅱb） | M21: メモ | O21: （Ⅱb）
B22: 写真 番号 | C22: 覆工 スパン 番号 | D22: 97 | M22: 写真 番号 | N22: 覆工 スパン 番号 | O22: 98
C24: 変状 番号 | D24: 5 | N24: 変状 番号 | O24: 1
B26: 変状 部位 | C26: 対象 箇所 | D26: 覆工・坑門 | M26: 変状 部位 | N26: 対象 箇所 | O26: 覆工・坑門
C28: 部位 区分 | D28: アーチ（右側） | N28: 部位 区分 | O28: 側壁（右側）
B30: 変状区分 | D30: 材質劣化 | M30: 変状区分 | O30: 材質劣化
B31: 変状種類 | D31: 鋼材腐食 | M31: 変状種類 | O31: 鋼材腐食
B32: 健全性 | C32: 応急措置前 | E32: - | M32: 健全性 | N32: 応急措置前 | P32: -
C33: 応急措置後 | E33: Ⅱ | N33: 応急措置後 | P33: Ⅱ
B34: 変状の発生範囲の規模 | E34: 0.05m×0.3m×0.02m 0.015㎡ | M34: 変状の発生範囲の規模 | P34: 0.35m×0.15m×0.002m 3か所 0.0525㎡
B35: 前回定期点検時の状態 | E35: 鉄筋露出 0.05m×0.3m×0.02m | M35: 前回定期点検時の状態 | P35: 鉄筋露出 0.35m×0.15m×0.002m 3か所
B36: 調査方針 | E36: - | M36: 調査方針 | P36: -
B37: 対策履歴 | E37: - | H37: 実施状況（実施日） | J37: - | M37: 対策履歴 | P37: - | S37: 実施状況（実施日） | U37: -
B38: メモ | D38: （Ⅱb） | M38: メモ | O38: 鋼材腐食 0.35m×0.15m D=0.002m,0.1m×0.1m D=0.015m,0.1m×0.1m D=0.015m（Ⅱb）
C39: ※ 健全性（応急措置後）の判定区分Ⅱ～Ⅳについて添付すること。また、点検前に 実施された措置によりⅠと判定された箇所も添付すること。 | N39: ※ 変状の発生範囲の規模とは、対策を行う際に参考となる変状の長さや面積をいう。
N40: ※ 応急措置を実施しないで判定した変状の健全性は、健全性の応急措置後の欄に記入すること。
C41: ※ たたき落としを実施した場合は、実施後の写真を添付すること。 | N41: ※ 変状の発生範囲の規模は、面積・寸法を記載すること。
C42: ※ 附属物の取付状態に関する異常写真は別途、様式D-1-2でとりまとめること。 | N42: (ひび割れ幅のみmmとし、その他をm表記とする)
C43: ※ 変状数に準じてシートを追加すること。（１シートに１ページとすること。） | N43: ※ 構造用鋼材以外の異物に伴ううき・はく離については、メモ欄に異物の概要を記入すること。

Sheet 様式D-1-1(トンネル様式2P001) P037
B2: ■定期点検記録様式 変状写真台帳 | Y2: Ⅰ
B3: フリガナ | D3: ='様式C-2'!E3 -> ホウベンザントンネル | H3: 路線名 | J3: ='様式C-2'!J3:L3 -> 国道435号 | M3: 定期点検業者 | P3: ='様式C-2'!R3 -> 株式会社エイト日本技術開発 | S3: 定期点検年月日 | U3: ='様式C-2'!X3 -> 44413 | Y3: Ⅱ
B4: 名 称 | D4: ='様式C-2'!E4 -> 鳳翩山トンネル | H4: 管理者名 | J4: ='様式C-2'!J4:L4 -> 防府土木建設事務所山口支所 | M4: 定期点検者名 | P4: ='様式C-2'!R4 -> 榎田 敦之 | Y4: Ⅲ
B5: 写真 番号 | C5: 覆工 スパン 番号 | D5: 99 | M5: 写真 番号 | N5: 覆工 スパン 番号 | O5: 99 | Y5: Ⅳ
C7: 変状 番号 | D7: 1 | N7: 変状 番号 | O7: 2
B9: 変状 部位 | C9: 対象 箇所 | D9: 覆工・坑門 | M9: 変状 部位 | N9: 対象 箇所 | O9: 覆工・坑門
C11: 部位 区分 | D11: アーチ（左側） | N11: 部位 区分 | O11: アーチ（右側）
B13: 変状区分 | D13: 材質劣化 | M13: 変状区分 | O13: 材質劣化
B14: 変状種類 | D14: 鋼材腐食 | M14: 変状種類 | O14: うき・はく離
B15: 健全性 | C15: 応急措置前 | E15: - | M15: 健全性 | N15: 応急措置前 | P15: -
C16: 応急措置後 | E16: Ⅱ | N16: 応急措置後 | P16: Ⅱ
B17: 変状の発生範囲の規模 | E17: 0.2m×0.4m×0.01m 0.08㎡ | M17: 変状の発生範囲の規模 | P17: 0.35m×0.05m 0.0175㎡
B18: 前回定期点検時の状態 | E18: 鉄筋露出 0.2m×0.4m×0.01m | M18: 前回定期点検時の状態 | P18: うき 0.35m×0.06m
B19: 調査方針 | E19: - | M19: 調査方針 | P19: -
B20: 対策履歴 | E20: - | H20: 実施状況（実施日） | J20: - | M20: 対策履歴 | P20: - | S20: 実施状況（実施日） | U20: -
B21: メモ | D21: （Ⅱb） | M21: メモ | O21: （Ⅱa）
B22: 写真 番号 | C22: 覆工 スパン 番号 | D22: 99 | M22: 写真 番号 | N22: 覆工 スパン 番号 | O22: 99
C24: 変状 番号 | D24: 3 | N24: 変状 番号 | O24: 4
B26: 変状 部位 | C26: 対象 箇所 | D26: 覆工・坑門 | M26: 変状 部位 | N26: 対象 箇所 | O26: 覆工・坑門
C28: 部位 区分 | D28: アーチ（右側） | N28: 部位 区分 | O28: アーチ（右側）
B30: 変状区分 | D30: 材質劣化 | M30: 変状区分 | O30: 材質劣化
B31: 変状種類 | D31: うき・はく離 | M31: 変状種類 | O31: 鋼材腐食
B32: 健全性 | C32: 応急措置前 | E32: - | M32: 健全性 | N32: 応急措置前
C33: 応急措置後 | E33: Ⅱ | N33: 応急措置後 | P33: Ⅱ
B34: 変状の発生範囲の規模 | E34: 0.4m×0.1m 0.04㎡ | M34: 変状の発生範囲の規模 | P34: 0.2m×0.6m D=0.01m 0.12㎡
B35: 前回定期点検時の状態 | E35: うき 0.4m×0.1m | M35: 前回定期点検時の状態 | P35: 鉄筋露出 0.2m×0.6m×0.01m
B36: 調査方針 | E36: - | M36: 調査方針 | P36: -
B37: 対策履歴 | E37: - | H37: 実施状況（実施日） | J37: - | M37: 対策履歴 | P37: - | S37: 実施状況（実施日） | U37: -
B38: メモ | D38: （Ⅱa） | M38: メモ | O38: （Ⅱb）
C39: ※ 健全性（応急措置後）の判定区分Ⅱ～Ⅳについて添付すること。また、点検前に 実施された措置によりⅠと判定された箇所も添付すること。 | N39: ※ 変状の発生範囲の規模とは、対策を行う際に参考となる変状の長さや面積をいう。
N40: ※ 応急措置を実施しないで判定した変状の健全性は、健全性の応急措置後の欄に記入すること。
C41: ※ たたき落としを実施した場合は、実施後の写真を添付すること。 | N41: ※ 変状の発生範囲の規模は、面積・寸法を記載すること。
C42: ※ 附属物の取付状態に関する異常写真は別途、様式D-1-2でとりまとめること。 | N42: (ひび割れ幅のみmmとし、その他をm表記とする)
C43: ※ 変状数に準じてシートを追加すること。（１シートに１ページとすること。） | N43: ※ 構造用鋼材以外の異物に伴ううき・はく離については、メモ欄に異物の概要を記入すること。

Sheet 様式D-1-1(トンネル様式2P001) P038
B2: ■定期点検記録様式 変状写真台帳 | Y2: Ⅰ
B3: フリガナ | D3: ='様式C-2'!E3 -> ホウベンザントンネル | H3: 路線名 | J3: ='様式C-2'!J3:L3 -> 国道435号 | M3: 定期点検業者 | P3: ='様式C-2'!R3 -> 株式会社エイト日本技術開発 | S3: 定期点検年月日 | U3: ='様式C-2'!X3 -> 44413 | Y3: Ⅱ
B4: 名 称 | D4: ='様式C-2'!E4 -> 鳳翩山トンネル | H4: 管理者名 | J4: ='様式C-2'!J4:L4 -> 防府土木建設事務所山口支所 | M4: 定期点検者名 | P4: ='様式C-2'!R4 -> 榎田 敦之 | Y4: Ⅲ
B5: 写真 番号 | C5: 覆工 スパン 番号 | D5: 100 | M5: 写真 番号 | N5: 覆工 スパン 番号 | O5: 100 | Y5: Ⅳ
C7: 変状 番号 | D7: 1 | N7: 変状 番号 | O7: 2
B9: 変状 部位 | C9: 対象 箇所 | D9: 覆工・坑門 | M9: 変状 部位 | N9: 対象 箇所 | O9: 覆工・坑門
C11: 部位 区分 | D11: アーチ（右側） | N11: 部位 区分 | O11: アーチ（右側）
B13: 変状区分 | D13: 材質劣化 | M13: 変状区分 | O13: 材質劣化
B14: 変状種類 | D14: うき・はく離 | M14: 変状種類 | O14: うき・はく離
B15: 健全性 | C15: 応急措置前 | E15: - | M15: 健全性 | N15: 応急措置前 | P15: -
C16: 応急措置後 | E16: Ⅱ | N16: 応急措置後 | P16: Ⅱ
B17: 変状の発生範囲の規模 | E17: 0.3m×0.05m 0.015㎡ | M17: 変状の発生範囲の規模 | P17: 0.5m×0.05m 0.025㎡
B18: 前回定期点検時の状態 | E18: うき 0.3m×0.03m | M18: 前回定期点検時の状態 | P18: うき 0.5m×0.05m
B19: 調査方針 | E19: - | M19: 調査方針 | P19: -
B20: 対策履歴 | E20: - | H20: 実施状況（実施日） | J20: - | M20: 対策履歴 | P20: - | S20: 実施状況（実施日） | U20: -
B21: メモ | D21: （Ⅱa） | M21: メモ | O21: （Ⅱa）
B22: 写真 番号 | C22: 覆工 スパン 番号 | D22: 100 | M22: 写真 番号 | N22: 覆工 スパン 番号 | O22: 101
C24: 変状 番号 | D24: 3 | N24: 変状 番号 | O24: 1
B26: 変状 部位 | C26: 対象 箇所 | D26: 覆工・坑門 | M26: 変状 部位 | N26: 対象 箇所 | O26: その他
C28: 部位 区分 | D28: アーチ（右側） | N28: 部位 区分 | O28: その他
B30: 変状区分 | D30: 材質劣化 | M30: 変状区分 | O30: 材質劣化
B31: 変状種類 | D31: 鋼材腐食 | M31: 変状種類 | O31: その他
B32: 健全性 | C32: 応急措置前 | E32: - | M32: 健全性 | N32: 応急措置前 | P32: -
C33: 応急措置後 | E33: Ⅱ | N33: 応急措置後 | P33: Ⅱ
B34: 変状の発生範囲の規模 | E34: 0.05m×0.15m D=0.015m ２か所 0.0075㎡ | M34: 変状の発生範囲の規模 | P34: 段差 15mm 0.32㎡
B35: 前回定期点検時の状態 | E35: 鉄筋露出 0.05m×0.15m×0.015m ２か所 | M35: 前回定期点検時の状態 | P35: 出入り 15mm
B36: 調査方針 | E36: - | M36: 調査方針 | P36: -
B37: 対策履歴 | E37: - | H37: 実施状況（実施日） | J37: - | M37: 対策履歴 | P37: - | S37: 実施状況（実施日） | U37: -
B38: メモ | D38: 鋼材腐食 0.05m×0.15m D=0.015m,0.05m×0.05m D=0.003m,0.05m×0.05m D=0.003m （Ⅱb） | M38: メモ | O38: 監査歩路の段差 （Ⅱb）
C39: ※ 健全性（応急措置後）の判定区分Ⅱ～Ⅳについて添付すること。また、点検前に 実施された措置によりⅠと判定された箇所も添付すること。 | N39: ※ 変状の発生範囲の規模とは、対策を行う際に参考となる変状の長さや面積をいう。
N40: ※ 応急措置を実施しないで判定した変状の健全性は、健全性の応急措置後の欄に記入すること。
C41: ※ たたき落としを実施した場合は、実施後の写真を添付すること。 | N41: ※ 変状の発生範囲の規模は、面積・寸法を記載すること。
C42: ※ 附属物の取付状態に関する異常写真は別途、様式D-1-2でとりまとめること。 | N42: (ひび割れ幅のみmmとし、その他をm表記とする)
C43: ※ 変状数に準じてシートを追加すること。（１シートに１ページとすること。） | N43: ※ 構造用鋼材以外の異物に伴ううき・はく離については、メモ欄に異物の概要を記入すること。

Sheet 様式D-1-2
B2: ■定期点検記録様式 異常写真台帳（トンネル内附属物等の取付状態） 【様式D-1-2】
B3: フリガナ | E3: ホウベンザントンネル | I3: 路 線 名 | L3: 国道435号 | O3: 定期点検業者 | R3: 株式会社エイト日本技術開発 | U3: 定期点検年月日 | W3: 44413
B4: 名 称 | E4: 鳳翩山トンネル | I4: 管理者名 | L4: 防府土木建設事務所山口支所 | O4: 定期点検者名 | R4: 榎田 敦之
B5: 覆工スパン番号 | E5: S1 | F5: 異常番号 | I5: 101 | J5: 覆工スパン番号 | M5: S20 | N5: 異常番号 | Q5: 101 | R5: 覆工スパン番号 | U5: S34 | V5: 異常番号 | Y5: 101
B6: 対象箇所 | D6: その他施設 | E6: その他 | G6: 部位区分 | I6: 附属物本体 | J6: 対象箇所 | L6: その他施設 | M6: その他 | O6: 部位区分 | Q6: 取付部材 | R6: 対象箇所 | T6: その他施設 | U6: その他 | W6: 部位区分 | Y6: 附属物本体
B7: 異常の種類 | D7: 変形，欠損 | J7: 異常の種類 | L7: 破断 | R7: 異常の種類 | T7: 変形，欠損
B8: 異常判定区分 | D8: × | E8: メモ | F8: デリネータ欠損 | J8: 異常判定区分 | L8: × | M8: メモ | N8: 取付部材破断 | R8: 異常判定区分 | T8: × | U8: メモ | V8: デリネータ欠損
B9: IMG_0042 | J9: IMG_0193 | R9: IMG_0207
B22: 覆工スパン番号 | E22: S43 | F22: 異常番号 | I22: 101 | J22: 覆工スパン番号 | M22: S53 | N22: 異常番号 | Q22: 101 | R22: 覆工スパン番号 | V22: 異常番号
B23: 対象箇所 | D23: その他施設 | E23: その他 | G23: 部位区分 | I23: 附属物本体 | J23: 対象箇所 | L23: その他施設 | M23: その他 | O23: 部位区分 | Q23: 附属物本体 | R23: 対象箇所 | W23: 部位区分
B24: 異常の種類 | D24: 変形，欠損 | J24: 異常の種類 | L24: 変形，欠損 | R24: 異常の種類
B25: 異常判定区分 | D25: × | E25: メモ | F25: デリネータ欠損 | J25: 異常判定区分 | L25: × | M25: メモ | N25: デリネータ欠損 | R25: 異常判定区分 | U25: メモ
B26: IMG_0023
B39: 覆工スパン番号 | F39: 異常番号 | J39: 覆工スパン番号 | N39: 異常番号 | R39: 覆工スパン番号 | V39: 異常番号
B40: 対象箇所 | G40: 部位区分 | J40: 対象箇所 | O40: 部位区分 | R40: 対象箇所 | W40: 部位区分
B41: 異常の種類 | J41: 異常の種類 | R41: 異常の種類
B42: 異常判定区分 | E42: メモ | J42: 異常判定区分 | M42: メモ | R42: 異常判定区分 | U42: メモ
D56: ※ 異常判定区分×について記入すること。また、応急措置前に異常判定区分×とした箇所のうち応急措置により○と判定した箇所も記入すること。
D57: ※ 応急措置を実施した場合は、その実施状況が分かる写真を添付すること。
D58: ※ 画像データは100kb程度とする。 | L58: ※ 変状数に準じてシートを追加すること。（１シートに１ページとすること。）

Sheet 様式D-2-1
B3: ■定期点検記録様式 トンネル全体変状展開図 【様式D-2-1】
B4: フリガナ | E4: ='様式D-1-2'!E3:H3 -> ホウベンザントンネル | J4: 路線名 | M4: ='様式D-1-2'!L3 -> 国道435号 | S4: 定期点検業者 | W4: ='様式D-1-2'!R3 -> 株式会社エイト日本技術開発 | AC4: 定期点検年月日 | AF4: ='様式D-1-2'!W3 -> 44413
B5: 名 称 | E5: ='様式D-1-2'!E4:H4 -> 鳳翩山トンネル | J5: 管理者名 | M5: ='様式D-1-2'!L4 -> 防府土木建設事務所山口支所 | S5: 定期点検者名 | W5: ='様式D-1-2'!R4 -> 榎田 敦之
B6: トンネル変状展開図 | C6: トンネル全体変状展開図
V18: 注１：本展開図は、見下げた状態で記載すること。 注２：覆工スパン番号は横断目地毎（矢板工法の場合は上半アーチ の横断目地毎)に設定すること。 注３：横断目地の変状は前の覆工スパン番号で計上すること。 注４：１枚に収まらない場合は、複数枚に分けて作成すること。
B20: トンネル変状展開図 | C20: トンネル全体変状展開図
V32: 注１：本展開図は、見下げた状態で記載すること。 注２：覆工スパン番号は横断目地毎（矢板工法の場合は上半アーチ の横断目地毎)に設定すること。 注３：横断目地の変状は前の覆工スパン番号で計上すること。 注４：１枚に収まらない場合は、複数枚に分けて作成すること。
B34: トンネル変状展開図 | C34: トンネル全体変状展開図
V46: 注１：本展開図は、見下げた状態で記載すること。 注２：覆工スパン番号は横断目地毎（矢板工法の場合は上半アーチ の横断目地毎)に設定すること。 注３：横断目地の変状は前の覆工スパン番号で計上すること。 注４：１枚に収まらない場合は、複数枚に分けて作成すること。
B48: トンネル変状展開図 | C48: トンネル全体変状展開図
V60: 注１：本展開図は、見下げた状態で記載すること。 注２：覆工スパン番号は横断目地毎（矢板工法の場合は上半アーチ の横断目地毎)に設定すること。 注３：横断目地の変状は前の覆工スパン番号で計上すること。 注４：１枚に収まらない場合は、複数枚に分けて作成すること。
B62: トンネル変状展開図 | C62: トンネル全体変状展開図
V74: 注１：本展開図は、見下げた状態で記載すること。 注２：覆工スパン番号は横断目地毎（矢板工法の場合は上半アーチ の横断目地毎)に設定すること。 注３：横断目地の変状は前の覆工スパン番号で計上すること。 注４：１枚に収まらない場合は、複数枚に分けて作成すること。
B76: トンネル変状展開図 | C76: トンネル全体変状展開図
V88: 注１：本展開図は、見下げた状態で記載すること。 注２：覆工スパン番号は横断目地毎（矢板工法の場合は上半アーチ の横断目地毎)に設定すること。 注３：横断目地の変状は前の覆工スパン番号で計上すること。 注４：１枚に収まらない場合は、複数枚に分けて作成すること。
B90: トンネル変状展開図 | C90: トンネル全体変状展開図
V102: 注１：本展開図は、見下げた状態で記載すること。 注２：覆工スパン番号は横断目地毎（矢板工法の場合は上半アーチ の横断目地毎)に設定すること。 注３：横断目地の変状は前の覆工スパン番号で計上すること。 注４：１枚に収まらない場合は、複数枚に分けて作成すること。
B104: トンネル変状展開図 | C104: トンネル全体変状展開図
V116: 注１：本展開図は、見下げた状態で記載すること。 注２：覆工スパン番号は横断目地毎（矢板工法の場合は上半アーチ の横断目地毎)に設定すること。 注３：横断目地の変状は前の覆工スパン番号で計上すること。 注４：１枚に収まらない場合は、複数枚に分けて作成すること。
B118: トンネル変状展開図 | C118: トンネル全体変状展開図
V130: 注１：本展開図は、見下げた状態で記載すること。 注２：覆工スパン番号は横断目地毎（矢板工法の場合は上半アーチ の横断目地毎)に設定すること。 注３：横断目地の変状は前の覆工スパン番号で計上すること。 注４：１枚に収まらない場合は、複数枚に分けて作成すること。
B132: トンネル変状展開図 | C132: トンネル全体変状展開図
V144: 注１：本展開図は、見下げた状態で記載すること。 注２：覆工スパン番号は横断目地毎（矢板工法の場合は上半アーチ の横断目地毎)に設定すること。 注３：横断目地の変状は前の覆工スパン番号で計上すること。 注４：１枚に収まらない場合は、複数枚に分けて作成すること。
B146: トンネル変状展開図 | C146: トンネル全体変状展開図
V158: 注１：本展開図は、見下げた状態で記載すること。 注２：覆工スパン番号は横断目地毎（矢板工法の場合は上半アーチ の横断目地毎)に設定すること。 注３：横断目地の変状は前の覆工スパン番号で計上すること。 注４：１枚に収まらない場合は、複数枚に分けて作成すること。
B160: トンネル変状展開図 | C160: トンネル全体変状展開図
V172: 注１：本展開図は、見下げた状態で記載すること。 注２：覆工スパン番号は横断目地毎（矢板工法の場合は上半アーチ の横断目地毎)に設定すること。 注３：横断目地の変状は前の覆工スパン番号で計上すること。 注４：１枚に収まらない場合は、複数枚に分けて作成すること。
B174: トンネル変状展開図 | C174: トンネル全体変状展開図
V186: 注１：本展開図は、見下げた状態で記載すること。 注２：覆工スパン番号は横断目地毎（矢板工法の場合は上半アーチ の横断目地毎)に設定すること。 注３：横断目地の変状は前の覆工スパン番号で計上すること。 注４：１枚に収まらない場合は、複数枚に分けて作成すること。
B188: トンネル変状展開図 | C188: トンネル全体変状展開図
V200: 注１：本展開図は、見下げた状態で記載すること。 注２：覆工スパン番号は横断目地毎（矢板工法の場合は上半アーチ の横断目地毎)に設定すること。 注３：横断目地の変状は前の覆工スパン番号で計上すること。 注４：１枚に収まらない場合は、複数枚に分けて作成すること。
B202: トンネル変状展開図 | C202: トンネル全体変状展開図
V214: 注１：本展開図は、見下げた状態で記載すること。 注２：覆工スパン番号は横断目地毎（矢板工法の場合は上半アーチ の横断目地毎)に設定すること。 注３：横断目地の変状は前の覆工スパン番号で計上すること。 注４：１枚に収まらない場合は、複数枚に分けて作成すること。
B216: トンネル変状展開図 | C216: トンネル全体変状展開図
V228: 注１：本展開図は、見下げた状態で記載すること。 注２：覆工スパン番号は横断目地毎（矢板工法の場合は上半アーチ の横断目地毎)に設定すること。 注３：横断目地の変状は前の覆工スパン番号で計上すること。 注４：１枚に収まらない場合は、複数枚に分けて作成すること。
B230: トンネル変状展開図 | C230: トンネル全体変状展開図
V242: 注１：本展開図は、見下げた状態で記載すること。 注２：覆工スパン番号は横断目地毎（矢板工法の場合は上半アーチ の横断目地毎)に設定すること。 注３：横断目地の変状は前の覆工スパン番号で計上すること。 注４：１枚に収まらない場合は、複数枚に分けて作成すること。
B244: トンネル変状展開図 | C244: トンネル全体変状展開図
V256: 注１：本展開図は、見下げた状態で記載すること。 注２：覆工スパン番号は横断目地毎（矢板工法の場合は上半アーチ の横断目地毎)に設定すること。 注３：横断目地の変状は前の覆工スパン番号で計上すること。 注４：１枚に収まらない場合は、複数枚に分けて作成すること。
B258: トンネル変状展開図 | C258: トンネル全体変状展開図
V270: 注１：本展開図は、見下げた状態で記載すること。 注２：覆工スパン番号は横断目地毎（矢板工法の場合は上半アーチ の横断目地毎)に設定すること。 注３：横断目地の変状は前の覆工スパン番号で計上すること。 注４：１枚に収まらない場合は、複数枚に分けて作成すること。
B272: トンネル変状展開図 | C272: トンネル全体変状展開図
V284: 注１：本展開図は、見下げた状態で記載すること。 注２：覆工スパン番号は横断目地毎（矢板工法の場合は上半アーチ の横断目地毎)に設定すること。 注３：横断目地の変状は前の覆工スパン番号で計上すること。 注４：１枚に収まらない場合は、複数枚に分けて作成すること。
B286: トンネル変状展開図 | C286: トンネル全体変状展開図
V298: 注１：本展開図は、見下げた状態で記載すること。 注２：覆工スパン番号は横断目地毎（矢板工法の場合は上半アーチ の横断目地毎)に設定すること。 注３：横断目地の変状は前の覆工スパン番号で計上すること。 注４：１枚に収まらない場合は、複数枚に分けて作成すること。

Sheet 様式D-2-1´
B3: ■定期点検記録様式 トンネル全体変状展開図（機器の活用時） 【様式D-2-1’】
B4: フリガナ | E4: ='様式D-2-1'!E4:I4 -> ホウベンザントンネル | J4: 路線名 | M4: ='様式D-2-1'!M4:R4 -> 国道435号 | S4: 定期点検業者 | W4: ='様式D-2-1'!W4:AB4 -> 株式会社エイト日本技術開発 | AC4: 定期点検年月日 | AF4: ='様式D-2-1'!AF4:AI5 -> 44413
B5: 名 称 | E5: ='様式D-2-1'!E5:I5 -> 鳳翩山トンネル | J5: 管理者名 | M5: ='様式D-2-1'!M5:R5 -> 防府土木建設事務所山口支所 | S5: 定期点検者名 | W5: ='様式D-2-1'!W5:AB5 -> 榎田 敦之
B6: トンネル変状展開図 | C6: トンネル全体変状展開図
S18: 注１：本展開図は、見下げた状態で記載すること。 注２：覆工スパン番号は横断目地毎（矢板工法の場合は上半アーチの横断目地毎)に 設定すること。 注３：横断目地の変状は前の覆工スパン番号で計上すること。 注４：１枚に収まらない場合は、複数枚に分けて作成すること。 注５：覆工写真の画像サイズは500kb程度とすること。
B20: トンネル変状展開図 | C20: トンネル全体変状展開図
S32: 注１：本展開図は、見下げた状態で記載すること。 注２：覆工スパン番号は横断目地毎（矢板工法の場合は上半アーチの横断目地毎)に 設定すること。 注３：横断目地の変状は前の覆工スパン番号で計上すること。 注４：１枚に収まらない場合は、複数枚に分けて作成すること。 注５：覆工写真の画像サイズは500kb程度とすること。
B34: トンネル変状展開図 | C34: トンネル全体変状展開図
S46: 注１：本展開図は、見下げた状態で記載すること。 注２：覆工スパン番号は横断目地毎（矢板工法の場合は上半アーチの横断目地毎)に 設定すること。 注３：横断目地の変状は前の覆工スパン番号で計上すること。 注４：１枚に収まらない場合は、複数枚に分けて作成すること。 注５：覆工写真の画像サイズは500kb程度とすること。
B48: トンネル変状展開図 | C48: トンネル全体変状展開図
S60: 注１：本展開図は、見下げた状態で記載すること。 注２：覆工スパン番号は横断目地毎（矢板工法の場合は上半アーチの横断目地毎)に 設定すること。 注３：横断目地の変状は前の覆工スパン番号で計上すること。 注４：１枚に収まらない場合は、複数枚に分けて作成すること。 注５：覆工写真の画像サイズは500kb程度とすること。
B62: トンネル変状展開図 | C62: トンネル全体変状展開図
S74: 注１：本展開図は、見下げた状態で記載すること。 注２：覆工スパン番号は横断目地毎（矢板工法の場合は上半アーチの横断目地毎)に 設定すること。 注３：横断目地の変状は前の覆工スパン番号で計上すること。 注４：１枚に収まらない場合は、複数枚に分けて作成すること。 注５：覆工写真の画像サイズは500kb程度とすること。
B76: トンネル変状展開図 | C76: トンネル全体変状展開図
S88: 注１：本展開図は、見下げた状態で記載すること。 注２：覆工スパン番号は横断目地毎（矢板工法の場合は上半アーチの横断目地毎)に 設定すること。 注３：横断目地の変状は前の覆工スパン番号で計上すること。 注４：１枚に収まらない場合は、複数枚に分けて作成すること。 注５：覆工写真の画像サイズは500kb程度とすること。
B90: トンネル変状展開図 | C90: トンネル全体変状展開図
S102: 注１：本展開図は、見下げた状態で記載すること。 注２：覆工スパン番号は横断目地毎（矢板工法の場合は上半アーチの横断目地毎)に 設定すること。 注３：横断目地の変状は前の覆工スパン番号で計上すること。 注４：１枚に収まらない場合は、複数枚に分けて作成すること。 注５：覆工写真の画像サイズは500kb程度とすること。
B104: トンネル変状展開図 | C104: トンネル全体変状展開図
S116: 注１：本展開図は、見下げた状態で記載すること。 注２：覆工スパン番号は横断目地毎（矢板工法の場合は上半アーチの横断目地毎)に 設定すること。 注３：横断目地の変状は前の覆工スパン番号で計上すること。 注４：１枚に収まらない場合は、複数枚に分けて作成すること。 注５：覆工写真の画像サイズは500kb程度とすること。
B118: トンネル変状展開図 | C118: トンネル全体変状展開図
S130: 注１：本展開図は、見下げた状態で記載すること。 注２：覆工スパン番号は横断目地毎（矢板工法の場合は上半アーチの横断目地毎)に 設定すること。 注３：横断目地の変状は前の覆工スパン番号で計上すること。 注４：１枚に収まらない場合は、複数枚に分けて作成すること。 注５：覆工写真の画像サイズは500kb程度とすること。
B132: トンネル変状展開図 | C132: トンネル全体変状展開図
S144: 注１：本展開図は、見下げた状態で記載すること。 注２：覆工スパン番号は横断目地毎（矢板工法の場合は上半アーチの横断目地毎)に 設定すること。 注３：横断目地の変状は前の覆工スパン番号で計上すること。 注４：１枚に収まらない場合は、複数枚に分けて作成すること。 注５：覆工写真の画像サイズは500kb程度とすること。
B146: トンネル変状展開図 | C146: トンネル全体変状展開図
S158: 注１：本展開図は、見下げた状態で記載すること。 注２：覆工スパン番号は横断目地毎（矢板工法の場合は上半アーチの横断目地毎)に 設定すること。 注３：横断目地の変状は前の覆工スパン番号で計上すること。 注４：１枚に収まらない場合は、複数枚に分けて作成すること。 注５：覆工写真の画像サイズは500kb程度とすること。
B160: トンネル変状展開図 | C160: トンネル全体変状展開図
S172: 注１：本展開図は、見下げた状態で記載すること。 注２：覆工スパン番号は横断目地毎（矢板工法の場合は上半アーチの横断目地毎)に 設定すること。 注３：横断目地の変状は前の覆工スパン番号で計上すること。 注４：１枚に収まらない場合は、複数枚に分けて作成すること。 注５：覆工写真の画像サイズは500kb程度とすること。
B174: トンネル変状展開図 | C174: トンネル全体変状展開図
S186: 注１：本展開図は、見下げた状態で記載すること。 注２：覆工スパン番号は横断目地毎（矢板工法の場合は上半アーチの横断目地毎)に 設定すること。 注３：横断目地の変状は前の覆工スパン番号で計上すること。 注４：１枚に収まらない場合は、複数枚に分けて作成すること。 注５：覆工写真の画像サイズは500kb程度とすること。
B188: トンネル変状展開図 | C188: トンネル全体変状展開図
S200: 注１：本展開図は、見下げた状態で記載すること。 注２：覆工スパン番号は横断目地毎（矢板工法の場合は上半アーチの横断目地毎)に 設定すること。 注３：横断目地の変状は前の覆工スパン番号で計上すること。 注４：１枚に収まらない場合は、複数枚に分けて作成すること。 注５：覆工写真の画像サイズは500kb程度とすること。
B202: トンネル変状展開図 | C202: トンネル全体変状展開図
S214: 注１：本展開図は、見下げた状態で記載すること。 注２：覆工スパン番号は横断目地毎（矢板工法の場合は上半アーチの横断目地毎)に 設定すること。 注３：横断目地の変状は前の覆工スパン番号で計上すること。 注４：１枚に収まらない場合は、複数枚に分けて作成すること。 注５：覆工写真の画像サイズは500kb程度とすること。
B216: トンネル変状展開図 | C216: トンネル全体変状展開図
S228: 注１：本展開図は、見下げた状態で記載すること。 注２：覆工スパン番号は横断目地毎（矢板工法の場合は上半アーチの横断目地毎)に 設定すること。 注３：横断目地の変状は前の覆工スパン番号で計上すること。 注４：１枚に収まらない場合は、複数枚に分けて作成すること。 注５：覆工写真の画像サイズは500kb程度とすること。
B230: トンネル変状展開図 | C230: トンネル全体変状展開図
S242: 注１：本展開図は、見下げた状態で記載すること。 注２：覆工スパン番号は横断目地毎（矢板工法の場合は上半アーチの横断目地毎)に 設定すること。 注３：横断目地の変状は前の覆工スパン番号で計上すること。 注４：１枚に収まらない場合は、複数枚に分けて作成すること。 注５：覆工写真の画像サイズは500kb程度とすること。
B244: トンネル変状展開図 | C244: トンネル全体変状展開図
S256: 注１：本展開図は、見下げた状態で記載すること。 注２：覆工スパン番号は横断目地毎（矢板工法の場合は上半アーチの横断目地毎)に 設定すること。 注３：横断目地の変状は前の覆工スパン番号で計上すること。 注４：１枚に収まらない場合は、複数枚に分けて作成すること。 注５：覆工写真の画像サイズは500kb程度とすること。
B258: トンネル変状展開図 | C258: トンネル全体変状展開図
S270: 注１：本展開図は、見下げた状態で記載すること。 注２：覆工スパン番号は横断目地毎（矢板工法の場合は上半アーチの横断目地毎)に 設定すること。 注３：横断目地の変状は前の覆工スパン番号で計上すること。 注４：１枚に収まらない場合は、複数枚に分けて作成すること。 注５：覆工写真の画像サイズは500kb程度とすること。
B272: トンネル変状展開図 | C272: トンネル全体変状展開図
S284: 注１：本展開図は、見下げた状態で記載すること。 注２：覆工スパン番号は横断目地毎（矢板工法の場合は上半アーチの横断目地毎)に 設定すること。 注３：横断目地の変状は前の覆工スパン番号で計上すること。 注４：１枚に収まらない場合は、複数枚に分けて作成すること。 注５：覆工写真の画像サイズは500kb程度とすること。
B286: トンネル変状展開図 | C286: トンネル全体変状展開図
S298: 注１：本展開図は、見下げた状態で記載すること。 注２：覆工スパン番号は横断目地毎（矢板工法の場合は上半アーチの横断目地毎)に 設定すること。 注３：横断目地の変状は前の覆工スパン番号で計上すること。 注４：１枚に収まらない場合は、複数枚に分けて作成すること。 注５：覆工写真の画像サイズは500kb程度とすること。

Sheet 様式D-3_PS
AU1: 様式E-1リンク用→ | AV1: 覆工ｽﾊﾟﾝ 番号 | AW1: ｽﾊﾟﾝ 長 (m) | AX1: 変状数集計 | BS1: 覆工スパン毎の 健全性の診断 | BW1: 変状規模集計
AX2: 対策区分毎の変状数 | BJ2: 健全性の判定区分毎の変状数 | BW2: 覆工スパン長(m) | CA2: 対策区分毎の変状の発生範囲の規模(㎡）
B3: ■定期点検記録様式 覆工スパン別変状詳細展開図 【様式D-3】 | AX3: 外力 | BB3: 材質劣化 | BF3: 漏水 | BJ3: 外力 | BM3: 材質劣化 | BP3: 漏水 | BS3: 外力 | BT3: 材質劣化 | BU3: 漏水 | BV3: 健全性 | BW3: 外力※１ | CA3: 材質劣化 | CE3: 漏水
B4: フリガナ | E4: ='様式D-2-1´'!E4:I4 -> ホウベンザントンネル | K4: 路線名 | N4: ='様式D-2-1´'!M4 -> 国道435号 | T4: 定期点検業者 | Y4: ='様式D-2-1´'!W4 -> 株式会社エイト日本技術開発 | AG4: 定期点検年月日 | AK4: ='様式D-2-1´'!AF4 -> 44413 | AX4: Ⅳ | AY4: Ⅲ | AZ4: Ⅱa | BA4: Ⅱb | BB4: Ⅳ | BC4: Ⅲ | BD4: Ⅱa | BE4: Ⅱb | BF4: Ⅳ | BG4: Ⅲ | BH4: Ⅱa | BI4: Ⅱb | BJ4: Ⅳ | BK4: Ⅲ | BL4: Ⅱ | BM4: Ⅳ | BN4: Ⅲ | BO4: Ⅱ | BP4: Ⅳ | BQ4: Ⅲ | BR4: Ⅱ | BW4: Ⅳ | BX4: Ⅲ | BY4: Ⅱa | BZ4: Ⅱb | CA4: Ⅳ | CB4: Ⅲ | CC4: Ⅱa | CD4: Ⅱb | CE4: Ⅳ | CF4: Ⅲ | CG4: Ⅱa | CH4: Ⅱb
B5: 名 称 | E5: ='様式D-2-1´'!E5:I5 -> 鳳翩山トンネル | K5: 管理者名 | N5: ='様式D-2-1´'!M5 -> 防府土木建設事務所山口支所 | T5: 定期点検者名 | Y5: ='様式D-2-1´'!W5 -> 榎田 敦之 | AV5: =N7 -> PS | AW5: =R7 -> 0 | AX5: =+Y32 -> 0 | AY5: =+Z32 -> 0 | AZ5: =+AA32 -> 0 | BA5: =+AB32 -> 0 | BB5: =+AC32 -> 0 | BC5: =+AD32 -> 0 | BD5: =+AE32 -> 0 | BE5: =+AF32 -> 2 | ... BI5: =+AJ32 -> 0 | BJ5: =+Y35 -> 0 | BK5: =+Z35 -> 0 | BL5: =+AA35 -> 0 | BM5: =+AC35 -> 0 | BN5: =+AD35 -> 0 | BO5: =+AE35 -> 2 | BP5: =+AG35 -> 0 | BQ5: =+AH35 -> 0 | BR5: =+AI35 -> 0 | BS5: =+Y36 -> Ⅰ | BT5: =+AC36 -> Ⅱ | BU5: =+AG36 -> Ⅰ | BV5: =+Y37 -> Ⅱ | BW5: =IF(Y32>0,$R$7,"") | BX5: =IF(Z32>0,"",IF(AA32>0,$R$7,"")) | BY5: =IF(Y32+Z32>0,"",IF(AA32>0,$R$7,"")) | BZ5: =IF(Y32+Z32+AA32>0,"",IF(AB32>0,$R$7,"")) | CA5: =+AC31 -> 0 | CB5: =+AD31 -> 0 | CC5: =+AE31 -> 0 | CD5: =+AF31 -> 0.0164 | CE5: =+AG31 -> 0 | CF5: =+AH31 -> 0 | CG5: =+AI31 -> 0 | CH5: =+AJ31 -> 0
B6: スパン別変状展開図 | K6: 【健全性判定集計表】
K7: スパン番号 | N7: PS | P7: スパン長 | R7: 0 | U7: 前回定期点検時の健全性 | W7: 応急措置前の判定 | Y7: 対策区分毎の 変状の有無 | AC7: 対策区分毎の変状の発生範囲の規模(㎡) | AK7: 備考注2
K8: 変状番号 | L8: 対象箇所 | N8: 部位区分 | P8: 変状区分 | R8: 変状種類
Y9: 外力注1 | AC9: 材質劣化注1 | AG9: 漏水注1
Y10: Ⅳ | Z10: Ⅲ | AA10: Ⅱa | AB10: Ⅱb | AC10: Ⅳ | AD10: Ⅲ | AE10: Ⅱa | AF10: Ⅱb | AG10: Ⅳ | AH10: Ⅲ | AI10: Ⅱa | AJ10: Ⅱb
K11: 1 | L11: 覆工・坑門 | N11: 面壁・妻壁等 | P11: 材質劣化 | R11: 鋼材腐食 | U11: Ⅱ | W11: - | AF11: 0.01 | AQ11: =IF(P11="材質劣化",2,IF(P11="漏水",3,1)) -> 2
K12: 2 | L12: 覆工・坑門 | N12: 面壁・妻壁等 | P12: 材質劣化 | R12: 鋼材腐食 | U12: Ⅱ | W12: - | AF12: 0.0064 | AQ12: =IF(P12="材質劣化",2,IF(P12="漏水",3,1)) -> 2
AQ13: =IF(P13="材質劣化",2,IF(P13="漏水",3,1)) -> 1
AQ14: =IF(P14="材質劣化",2,IF(P14="漏水",3,1)) -> 1
AQ15: =IF(P15="材質劣化",2,IF(P15="漏水",3,1)) -> 1
AQ16: =IF(P16="材質劣化",2,IF(P16="漏水",3,1)) -> 1
AQ17: =IF(P17="材質劣化",2,IF(P17="漏水",3,1)) -> 1
AQ18: =IF(P18="材質劣化",2,IF(P18="漏水",3,1)) -> 1
AQ19: =IF(P19="材質劣化",2,IF(P19="漏水",3,1)) -> 1
AQ20: =IF(P20="材質劣化",2,IF(P20="漏水",3,1)) -> 1
AQ21: =IF(P21="材質劣化",2,IF(P21="漏水",3,1)) -> 1
AQ22: =IF(P22="材質劣化",2,IF(P22="漏水",3,1)) -> 1
AQ23: =IF(P23="材質劣化",2,IF(P23="漏水",3,1)) -> 1
AQ24: =IF(P24="材質劣化",2,IF(P24="漏水",3,1)) -> 1
... AQ30: =IF(P30="材質劣化",2,IF(P30="漏水",3,1)) -> 1
K31: 集計 ・ 判定 ・ 診断 | L31: 変状の発生規模合計(㎡) | Y31: － | AC31: =SUM(AC11:AC30) -> 0 | AD31: =SUM(AD11:AD30) -> 0 | AE31: =SUM(AE11:AE30) -> 0 | AF31: =SUM(AF11:AF30) -> 0.0164 | AG31: =SUM(AG11:AG30) -> 0 | AH31: =SUM(AH11:AH30) -> 0 | AI31: =SUM(AI11:AI30) -> 0 | AJ31: =SUM(AJ11:AJ30) -> 0 | AK31: 計
L32: 対策区分の 判定結果 | O32: 判定区分毎の変状数 | Y32: =COUNTIF(Y11:Y30,"○") -> 0 | Z32: =COUNTIF(Z11:Z30,"○") -> 0 | AA32: =COUNTIF(AA11:AA30,"○") -> 0 | AB32: =COUNTIF(AB11:AB30,"○") -> 0 | AC32: =COUNT(AC11:AC30) -> 0 | AD32: =COUNT(AD11:AD30) -> 0 | AE32: =COUNT(AE11:AE30) -> 0 | AF32: =COUNT(AF11:AF30) -> 2 | AG32: =COUNT(AG11:AG30) -> 0 | AH32: =COUNT(AH11:AH30) -> 0 | AI32: =COUNT(AI11:AI30) -> 0 | AJ32: =COUNT(AJ11:AJ30) -> 0
O33: 変状区分毎の判定区分注3 | Y33: =IF(Y32>0,"Ⅳ",IF(Z32>0,"Ⅲ",IF(AA32>0,"Ⅱa",IF(AB32>0,"Ⅱb","Ⅰ")))) -> Ⅰ | AC33: =IF(AC32>0,"Ⅳ",IF(AD32>0,"Ⅲ",IF(AE32>0,"Ⅱa",IF(AF32>0,"Ⅱb","Ⅰ")))) -> Ⅱb | AG33: =IF(AG32>0,"Ⅳ",IF(AH32>0,"Ⅲ",IF(AI32>0,"Ⅱa",IF(AJ32>0,"Ⅱb","Ⅰ")))) -> Ⅰ | AQ33: Ⅳ | AR33: Ⅲ | AS33: Ⅱ
L34: 健全性の 診断結果 | O34: 判定区分 | Y34: Ⅳ | Z34: Ⅲ | AA34: Ⅱ | AC34: Ⅳ | AD34: Ⅲ | AE34: Ⅱ | AG34: Ⅳ | AH34: Ⅲ | AI34: Ⅱ | AQ34: =+Y32+Z32 -> 0 | AS34: =+AA32+AB32 -> 0
O35: 判定区分毎の変状数注4 | Y35: =IF(Y32=0,0,1) -> 0 | Z35: =IF(Z32=0,0,1) -> 0 | AA35: =IF(AQ34=1,0,IF(AS34>0,1,0)) -> 0 | AC35: =+AC32 -> 0 | AD35: =AD32 -> 0 | AE35: =AE32+AF32 -> 2 | AG35: =AG32 -> 0 | AH35: =AH32 -> 0 | AI35: =AI32+AJ32 -> 0 | AQ35: =+Y32+AC35+AG35 -> 0 | AR35: =+Z32+AD35+AH35 -> 0 | AS35: =+AS34+AE35+AI35 -> 2
O36: 変状区分毎の判定区分注4 | Y36: =IF(Y32>0,"Ⅳ",IF(Z32>0,"Ⅲ",IF(AA32+AB32>0,"Ⅱ","Ⅰ"))) -> Ⅰ | AC36: =IF(AC32>0,"Ⅳ",IF(AD32>0,"Ⅲ",IF((AE32+AF32)>0,"Ⅱ","Ⅰ"))) -> Ⅱ | AG36: =IF(AG32>0,"Ⅳ",IF(AH32>0,"Ⅲ",IF((AI32+AJ32)>0,"Ⅱ","Ⅰ"))) -> Ⅰ | AQ36: =IF(AQ35>0,"Ⅳ",IF(AR35>0,"Ⅲ",IF(AS35>0,"Ⅱ","Ⅰ"))) -> Ⅱ
O37: 覆工スパン単位の判定区分注5 | Y37: =IF((Y35+AC35+AG35)>0,"Ⅳ",IF((Z35+AD35+AH35)>0,"Ⅲ",IF((AA35+AE35+AI35)>0,"Ⅱ","Ⅰ"))) -> Ⅱ
K38: 特記事項
K40: 注1：誤記入防止のため、当該変状区分以外のセルは灰色表示とすること。
K41: 注2：応急対策を実施した場合は、その詳細を備考に記載すること。
K42: 注3：変状区分毎での最も評価の厳しい判定区分。
K43: 注4：変状区分毎での最も評価の厳しい判定区分．外力は覆工スパン単位、材質劣化、漏水は変状単位で行う。
K44: 注5：覆工スパンの中で最も評価の厳しい健全性を採用し、その覆工スパン毎の健全性とする。
B46: ※1：本シートは作成洩れのないよう、変状が無くても全スパン分を作成すること．また変状展開図は、様式D-2-1、様式D-2-1'と同じものを覆工スパン単位で拡大し掲載すること。
B47: ※2：変状番号は、様式D-1-1で記入した番号と整合させること。
B48: ※3：対策区分毎の変状発生規模は、様式D-1-1に記載した面積を記入すること（ただし外力はスパン単位で評価するため対象外とし、備考欄に状況を記入）。
B49: ※4：本様式は覆工スパン毎に作成すること。
B50: ※5：変状数が多い場合は、適時、表の行を増やして覆工スパン毎に1枚のシートに収めること。また、1スパン１シートとし、スパンに合わせてシートを追加すること。
B51: ※6：対策区分毎の変状の発生範囲の規模とは，対策を行う際に参考となる変状の長さや面積であり，変状を包含する長さや面積とする。
B52: ※7：路面滞水は、変状面積に1を記載するとともに、備考にも内容を記載すること。

Sheet 様式D-3_001
AU1: 様式E-1リンク用→ | AV1: 覆工ｽﾊﾟﾝ 番号 | AW1: ｽﾊﾟﾝ 長 (m) | AX1: 変状数集計 | BS1: 覆工スパン毎の 健全性の診断 | BW1: 変状規模集計
AX2: 対策区分毎の変状数 | BJ2: 健全性の判定区分毎の変状数 | BW2: 覆工スパン長(m) | CA2: 対策区分毎の変状の発生範囲の規模(㎡）
B3: ■定期点検記録様式 覆工スパン別変状詳細展開図 【様式D-3】 | AX3: 外力 | BB3: 材質劣化 | BF3: 漏水 | BJ3: 外力 | BM3: 材質劣化 | BP3: 漏水 | BS3: 外力 | BT3: 材質劣化 | BU3: 漏水 | BV3: 健全性 | BW3: 外力※１ | CA3: 材質劣化 | CE3: 漏水
B4: フリガナ | E4: ='様式D-2-1´'!E4:I4 -> ホウベンザントンネル | K4: 路線名 | N4: ='様式D-2-1´'!M4 -> 国道435号 | T4: 定期点検業者 | Y4: ='様式D-2-1´'!W4 -> 株式会社エイト日本技術開発 | AG4: 定期点検年月日 | AK4: ='様式D-2-1´'!AF4 -> 44413 | AX4: Ⅳ | AY4: Ⅲ | AZ4: Ⅱa | BA4: Ⅱb | BB4: Ⅳ | BC4: Ⅲ | BD4: Ⅱa | BE4: Ⅱb | BF4: Ⅳ | BG4: Ⅲ | BH4: Ⅱa | BI4: Ⅱb | BJ4: Ⅳ | BK4: Ⅲ | BL4: Ⅱ | BM4: Ⅳ | BN4: Ⅲ | BO4: Ⅱ | BP4: Ⅳ | BQ4: Ⅲ | BR4: Ⅱ | BW4: Ⅳ | BX4: Ⅲ | BY4: Ⅱa | BZ4: Ⅱb | CA4: Ⅳ | CB4: Ⅲ | CC4: Ⅱa | CD4: Ⅱb | CE4: Ⅳ | CF4: Ⅲ | CG4: Ⅱa | CH4: Ⅱb
B5: 名 称 | E5: ='様式D-2-1´'!E5:I5 -> 鳳翩山トンネル | K5: 管理者名 | N5: ='様式D-2-1´'!M5 -> 防府土木建設事務所山口支所 | T5: 定期点検者名 | Y5: ='様式D-2-1´'!W5 -> 榎田 敦之 | AV5: =N7 -> 1 | AW5: =R7 -> 7.9000001 | AX5: =+Y32 -> 0 | AY5: =+Z32 -> 0 | AZ5: =+AA32 -> 0 | BA5: =+AB32 -> 0 | BB5: =+AC32 -> 0 | BC5: =+AD32 -> 0 | BD5: =+AE32 -> 0 | BE5: =+AF32 -> 3 | ... BI5: =+AJ32 -> 0 | BJ5: =+Y35 -> 0 | BK5: =+Z35 -> 0 | BL5: =+AA35 -> 0 | BM5: =+AC35 -> 0 | BN5: =+AD35 -> 0 | BO5: =+AE35 -> 3 | BP5: =+AG35 -> 0 | BQ5: =+AH35 -> 0 | BR5: =+AI35 -> 0 | BS5: =+Y36 -> Ⅰ | BT5: =+AC36 -> Ⅱ | BU5: =+AG36 -> Ⅰ | BV5: =+Y37 -> Ⅱ | BW5: =IF(Y32>0,$R$7,"") | BX5: =IF(Z32>0,"",IF(AA32>0,$R$7,"")) | BY5: =IF(Y32+Z32>0,"",IF(AA32>0,$R$7,"")) | BZ5: =IF(Y32+Z32+AA32>0,"",IF(AB32>0,$R$7,"")) | CA5: =+AC31 -> 0 | CB5: =+AD31 -> 0 | CC5: =+AE31 -> 0 | CD5: =+AF31 -> 0.1305 | CE5: =+AG31 -> 0 | CF5: =+AH31 -> 0 | CG5: =+AI31 -> 0 | CH5: =+AJ31 -> 0
B6: スパン別変状展開図 | K6: 【健全性判定集計表】
K7: スパン番号 | N7: 1 | P7: スパン長 | R7: 7.9000001 | U7: 前回定期点検時の健全性 | W7: 応急措置前の判定 | Y7: 対策区分毎の 変状の有無 | AC7: 対策区分毎の変状の発生範囲の規模(㎡) | AK7: 備考注2
K8: 変状番号 | L8: 対象箇所 | N8: 部位区分 | P8: 変状区分 | R8: 変状種類
Y9: 外力注1 | AC9: 材質劣化注1 | AG9: 漏水注1
Y10: Ⅳ | Z10: Ⅲ | AA10: Ⅱa | AB10: Ⅱb | AC10: Ⅳ | AD10: Ⅲ | AE10: Ⅱa | AF10: Ⅱb | AG10: Ⅳ | AH10: Ⅲ | AI10: Ⅱa | AJ10: Ⅱb
K11: 1 | L11: 覆工・坑門 | N11: 側壁（右側） | P11: 材質劣化 | R11: 鋼材腐食 | U11: Ⅱ | W11: - | AF11: 0.0025 | AQ11: =IF(P11="材質劣化",2,IF(P11="漏水",3,1)) -> 2
K12: 2 | L12: 覆工・坑門 | N12: 側壁（右側） | P12: 材質劣化 | R12: 鋼材腐食 | U12: Ⅱ | W12: - | AF12: 0.125 | AQ12: =IF(P12="材質劣化",2,IF(P12="漏水",3,1)) -> 2
K13: 3 | L13: 覆工・坑門 | N13: 側壁（右側） | P13: 材質劣化 | R13: 鋼材腐食 | U13: Ⅱ | W13: - | AF13: 0.003 | AQ13: =IF(P13="材質劣化",2,IF(P13="漏水",3,1)) -> 2
AQ14: =IF(P14="材質劣化",2,IF(P14="漏水",3,1)) -> 1
AQ15: =IF(P15="材質劣化",2,IF(P15="漏水",3,1)) -> 1
AQ16: =IF(P16="材質劣化",2,IF(P16="漏水",3,1)) -> 1
AQ17: =IF(P17="材質劣化",2,IF(P17="漏水",3,1)) -> 1
AQ18: =IF(P18="材質劣化",2,IF(P18="漏水",3,1)) -> 1
AQ19: =IF(P19="材質劣化",2,IF(P19="漏水",3,1)) -> 1
AQ20: =IF(P20="材質劣化",2,IF(P20="漏水",3,1)) -> 1
AQ21: =IF(P21="材質劣化",2,IF(P21="漏水",3,1)) -> 1
AQ22: =IF(P22="材質劣化",2,IF(P22="漏水",3,1)) -> 1
AQ23: =IF(P23="材質劣化",2,IF(P23="漏水",3,1)) -> 1
AQ24: =IF(P24="材質劣化",2,IF(P24="漏水",3,1)) -> 1
AQ25: =IF(P25="材質劣化",2,IF(P25="漏水",3,1)) -> 1
... AQ30: =IF(P30="材質劣化",2,IF(P30="漏水",3,1)) -> 1
K31: 集計 ・ 判定 ・ 診断 | L31: 変状の発生規模合計(㎡) | Y31: － | AC31: =SUM(AC11:AC30) -> 0 | AD31: =SUM(AD11:AD30) -> 0 | AE31: =SUM(AE11:AE30) -> 0 | AF31: =SUM(AF11:AF30) -> 0.1305 | AG31: =SUM(AG11:AG30) -> 0 | AH31: =SUM(AH11:AH30) -> 0 | AI31: =SUM(AI11:AI30) -> 0 | AJ31: =SUM(AJ11:AJ30) -> 0 | AK31: 計
L32: 対策区分の 判定結果 | O32: 判定区分毎の変状数 | Y32: =COUNTIF(Y11:Y30,"○") -> 0 | Z32: =COUNTIF(Z11:Z30,"○") -> 0 | AA32: =COUNTIF(AA11:AA30,"○") -> 0 | AB32: =COUNTIF(AB11:AB30,"○") -> 0 | AC32: =COUNT(AC11:AC30) -> 0 | AD32: =COUNT(AD11:AD30) -> 0 | AE32: =COUNT(AE11:AE30) -> 0 | AF32: =COUNT(AF11:AF30) -> 3 | AG32: =COUNT(AG11:AG30) -> 0 | AH32: =COUNT(AH11:AH30) -> 0 | AI32: =COUNT(AI11:AI30) -> 0 | AJ32: =COUNT(AJ11:AJ30) -> 0
O33: 変状区分毎の判定区分注3 | Y33: =IF(Y32>0,"Ⅳ",IF(Z32>0,"Ⅲ",IF(AA32>0,"Ⅱa",IF(AB32>0,"Ⅱb","Ⅰ")))) -> Ⅰ | AC33: =IF(AC32>0,"Ⅳ",IF(AD32>0,"Ⅲ",IF(AE32>0,"Ⅱa",IF(AF32>0,"Ⅱb","Ⅰ")))) -> Ⅱb | AG33: =IF(AG32>0,"Ⅳ",IF(AH32>0,"Ⅲ",IF(AI32>0,"Ⅱa",IF(AJ32>0,"Ⅱb","Ⅰ")))) -> Ⅰ | AQ33: Ⅳ | AR33: Ⅲ | AS33: Ⅱ
L34: 健全性の 診断結果 | O34: 判定区分 | Y34: Ⅳ | Z34: Ⅲ | AA34: Ⅱ | AC34: Ⅳ | AD34: Ⅲ | AE34: Ⅱ | AG34: Ⅳ | AH34: Ⅲ | AI34: Ⅱ | AQ34: =+Y32+Z32 -> 0 | AS34: =+AA32+AB32 -> 0
O35: 判定区分毎の変状数注4 | Y35: =IF(Y32=0,0,1) -> 0 | Z35: =IF(Z32=0,0,1) -> 0 | AA35: =IF(AQ34=1,0,IF(AS34>0,1,0)) -> 0 | AC35: =+AC32 -> 0 | AD35: =AD32 -> 0 | AE35: =AE32+AF32 -> 3 | AG35: =AG32 -> 0 | AH35: =AH32 -> 0 | AI35: =AI32+AJ32 -> 0 | AQ35: =+Y32+AC35+AG35 -> 0 | AR35: =+Z32+AD35+AH35 -> 0 | AS35: =+AS34+AE35+AI35 -> 3
O36: 変状区分毎の判定区分注4 | Y36: =IF(Y32>0,"Ⅳ",IF(Z32>0,"Ⅲ",IF(AA32+AB32>0,"Ⅱ","Ⅰ"))) -> Ⅰ | AC36: =IF(AC32>0,"Ⅳ",IF(AD32>0,"Ⅲ",IF((AE32+AF32)>0,"Ⅱ","Ⅰ"))) -> Ⅱ | AG36: =IF(AG32>0,"Ⅳ",IF(AH32>0,"Ⅲ",IF((AI32+AJ32)>0,"Ⅱ","Ⅰ"))) -> Ⅰ | AQ36: =IF(AQ35>0,"Ⅳ",IF(AR35>0,"Ⅲ",IF(AS35>0,"Ⅱ","Ⅰ"))) -> Ⅱ
O37: 覆工スパン単位の判定区分注5 | Y37: =IF((Y35+AC35+AG35)>0,"Ⅳ",IF((Z35+AD35+AH35)>0,"Ⅲ",IF((AA35+AE35+AI35)>0,"Ⅱ","Ⅰ"))) -> Ⅱ
K38: 特記事項
K40: 注1：誤記入防止のため、当該変状区分以外のセルは灰色表示とすること。
K41: 注2：応急対策を実施した場合は、その詳細を備考に記載すること。
K42: 注3：変状区分毎での最も評価の厳しい判定区分。
K43: 注4：変状区分毎での最も評価の厳しい判定区分．外力は覆工スパン単位、材質劣化、漏水は変状単位で行う。
K44: 注5：覆工スパンの中で最も評価の厳しい健全性を採用し、その覆工スパン毎の健全性とする。
B46: ※1：本シートは作成洩れのないよう、変状が無くても全スパン分を作成すること．また変状展開図は、様式D-2-1、様式D-2-1'と同じものを覆工スパン単位で拡大し掲載すること。
B47: ※2：変状番号は、様式D-1-1で記入した番号と整合させること。
B48: ※3：対策区分毎の変状発生規模は、様式D-1-1に記載した面積を記入すること（ただし外力はスパン単位で評価するため対象外とし、備考欄に状況を記入）。
B49: ※4：本様式は覆工スパン毎に作成すること。
B50: ※5：変状数が多い場合は、適時、表の行を増やして覆工スパン毎に1枚のシートに収めること。また、1スパン１シートとし、スパンに合わせてシートを追加すること。
B51: ※6：対策区分毎の変状の発生範囲の規模とは，対策を行う際に参考となる変状の長さや面積であり，変状を包含する長さや面積とする。
B52: ※7：路面滞水は、変状面積に1を記載するとともに、備考にも内容を記載すること。

Sheet 様式D-3_002
AU1: 様式E-1リンク用→ | AV1: 覆工ｽﾊﾟﾝ 番号 | AW1: ｽﾊﾟﾝ 長 (m) | AX1: 変状数集計 | BS1: 覆工スパン毎の 健全性の診断 | BW1: 変状規模集計
AX2: 対策区分毎の変状数 | BJ2: 健全性の判定区分毎の変状数 | BW2: 覆工スパン長(m) | CA2: 対策区分毎の変状の発生範囲の規模(㎡）
B3: ■定期点検記録様式 覆工スパン別変状詳細展開図 【様式D-3】 | AX3: 外力 | BB3: 材質劣化 | BF3: 漏水 | BJ3: 外力 | BM3: 材質劣化 | BP3: 漏水 | BS3: 外力 | BT3: 材質劣化 | BU3: 漏水 | BV3: 健全性 | BW3: 外力※１ | CA3: 材質劣化 | CE3: 漏水
B4: フリガナ | E4: ='様式D-2-1´'!E4:I4 -> ホウベンザントンネル | K4: 路線名 | N4: ='様式D-2-1´'!M4 -> 国道435号 | T4: 定期点検業者 | Y4: ='様式D-2-1´'!W4 -> 株式会社エイト日本技術開発 | AG4: 定期点検年月日 | AK4: ='様式D-2-1´'!AF4 -> 44413 | AX4: Ⅳ | AY4: Ⅲ | AZ4: Ⅱa | BA4: Ⅱb | BB4: Ⅳ | BC4: Ⅲ | BD4: Ⅱa | BE4: Ⅱb | BF4: Ⅳ | BG4: Ⅲ | BH4: Ⅱa | BI4: Ⅱb | BJ4: Ⅳ | BK4: Ⅲ | BL4: Ⅱ | BM4: Ⅳ | BN4: Ⅲ | BO4: Ⅱ | BP4: Ⅳ | BQ4: Ⅲ | BR4: Ⅱ | BW4: Ⅳ | BX4: Ⅲ | BY4: Ⅱa | BZ4: Ⅱb | CA4: Ⅳ | CB4: Ⅲ | CC4: Ⅱa | CD4: Ⅱb | CE4: Ⅳ | CF4: Ⅲ | CG4: Ⅱa | CH4: Ⅱb
B5: 名 称 | E5: ='様式D-2-1´'!E5:I5 -> 鳳翩山トンネル | K5: 管理者名 | N5: ='様式D-2-1´'!M5 -> 防府土木建設事務所山口支所 | T5: 定期点検者名 | Y5: ='様式D-2-1´'!W5 -> 榎田 敦之 | AV5: =N7 -> 2 | AW5: =R7 -> 10.5 | AX5: =+Y32 -> 0 | AY5: =+Z32 -> 0 | AZ5: =+AA32 -> 0 | BA5: =+AB32 -> 0 | BB5: =+AC32 -> 0 | BC5: =+AD32 -> 0 | BD5: =+AE32 -> 1 | BE5: =+AF32 -> 0 | ... BI5: =+AJ32 -> 0 | BJ5: =+Y35 -> 0 | BK5: =+Z35 -> 0 | BL5: =+AA35 -> 0 | BM5: =+AC35 -> 0 | BN5: =+AD35 -> 0 | BO5: =+AE35 -> 1 | BP5: =+AG35 -> 0 | BQ5: =+AH35 -> 0 | BR5: =+AI35 -> 0 | BS5: =+Y36 -> Ⅰ | BT5: =+AC36 -> Ⅱ | BU5: =+AG36 -> Ⅰ | BV5: =+Y37 -> Ⅱ | BW5: =IF(Y32>0,$R$7,"") | BX5: =IF(Z32>0,"",IF(AA32>0,$R$7,"")) | BY5: =IF(Y32+Z32>0,"",IF(AA32>0,$R$7,"")) | BZ5: =IF(Y32+Z32+AA32>0,"",IF(AB32>0,$R$7,"")) | CA5: =+AC31 -> 0 | CB5: =+AD31 -> 0 | CC5: =+AE31 -> 0.01 | CD5: =+AF31 -> 0 | CE5: =+AG31 -> 0 | CF5: =+AH31 -> 0 | CG5: =+AI31 -> 0 | CH5: =+AJ31 -> 0
B6: スパン別変状展開図 | K6: 【健全性判定集計表】
K7: スパン番号 | N7: 2 | P7: スパン長 | R7: 10.5 | U7: 前回定期点検時の健全性 | W7: 応急措置前の判定 | Y7: 対策区分毎の 変状の有無 | AC7: 対策区分毎の変状の発生範囲の規模(㎡) | AK7: 備考注2
K8: 変状番号 | L8: 対象箇所 | N8: 部位区分 | P8: 変状区分 | R8: 変状種類
Y9: 外力注1 | AC9: 材質劣化注1 | AG9: 漏水注1
Y10: Ⅳ | Z10: Ⅲ | AA10: Ⅱa | AB10: Ⅱb | AC10: Ⅳ | AD10: Ⅲ | AE10: Ⅱa | AF10: Ⅱb | AG10: Ⅳ | AH10: Ⅲ | AI10: Ⅱa | AJ10: Ⅱb
K11: 1 | L11: 覆工・坑門 | N11: アーチ（右側） | P11: 材質劣化 | R11: うき・はく離 | U11: Ⅱ | W11: - | AE11: 0.01 | AQ11: =IF(P11="材質劣化",2,IF(P11="漏水",3,1)) -> 2
AQ12: =IF(P12="材質劣化",2,IF(P12="漏水",3,1)) -> 1
AQ13: =IF(P13="材質劣化",2,IF(P13="漏水",3,1)) -> 1
AQ14: =IF(P14="材質劣化",2,IF(P14="漏水",3,1)) -> 1
AQ15: =IF(P15="材質劣化",2,IF(P15="漏水",3,1)) -> 1
AQ16: =IF(P16="材質劣化",2,IF(P16="漏水",3,1)) -> 1
AQ17: =IF(P17="材質劣化",2,IF(P17="漏水",3,1)) -> 1
AQ18: =IF(P18="材質劣化",2,IF(P18="漏水",3,1)) -> 1
AQ19: =IF(P19="材質劣化",2,IF(P19="漏水",3,1)) -> 1
AQ20: =IF(P20="材質劣化",2,IF(P20="漏水",3,1)) -> 1
AQ21: =IF(P21="材質劣化",2,IF(P21="漏水",3,1)) -> 1
AQ22: =IF(P22="材質劣化",2,IF(P22="漏水",3,1)) -> 1
AQ23: =IF(P23="材質劣化",2,IF(P23="漏水",3,1)) -> 1
... AQ30: =IF(P30="材質劣化",2,IF(P30="漏水",3,1)) -> 1
K31: 集計 ・ 判定 ・ 診断 | L31: 変状の発生規模合計(㎡) | Y31: － | AC31: =SUM(AC11:AC30) -> 0 | AD31: =SUM(AD11:AD30) -> 0 | AE31: =SUM(AE11:AE30) -> 0.01 | AF31: =SUM(AF11:AF30) -> 0 | AG31: =SUM(AG11:AG30) -> 0 | AH31: =SUM(AH11:AH30) -> 0 | AI31: =SUM(AI11:AI30) -> 0 | AJ31: =SUM(AJ11:AJ30) -> 0 | AK31: 計
L32: 対策区分の 判定結果 | O32: 判定区分毎の変状数 | Y32: =COUNTIF(Y11:Y30,"○") -> 0 | Z32: =COUNTIF(Z11:Z30,"○") -> 0 | AA32: =COUNTIF(AA11:AA30,"○") -> 0 | AB32: =COUNTIF(AB11:AB30,"○") -> 0 | AC32: =COUNT(AC11:AC30) -> 0 | AD32: =COUNT(AD11:AD30) -> 0 | AE32: =COUNT(AE11:AE30) -> 1 | AF32: =COUNT(AF11:AF30) -> 0 | AG32: =COUNT(AG11:AG30) -> 0 | AH32: =COUNT(AH11:AH30) -> 0 | AI32: =COUNT(AI11:AI30) -> 0 | AJ32: =COUNT(AJ11:AJ30) -> 0
O33: 変状区分毎の判定区分注3 | Y33: =IF(Y32>0,"Ⅳ",IF(Z32>0,"Ⅲ",IF(AA32>0,"Ⅱa",IF(AB32>0,"Ⅱb","Ⅰ")))) -> Ⅰ | AC33: =IF(AC32>0,"Ⅳ",IF(AD32>0,"Ⅲ",IF(AE32>0,"Ⅱa",IF(AF32>0,"Ⅱb","Ⅰ")))) -> Ⅱa | AG33: =IF(AG32>0,"Ⅳ",IF(AH32>0,"Ⅲ",IF(AI32>0,"Ⅱa",IF(AJ32>0,"Ⅱb","Ⅰ")))) -> Ⅰ | AQ33: Ⅳ | AR33: Ⅲ | AS33: Ⅱ
L34: 健全性の 診断結果 | O34: 判定区分 | Y34: Ⅳ | Z34: Ⅲ | AA34: Ⅱ | AC34: Ⅳ | AD34: Ⅲ | AE34: Ⅱ | AG34: Ⅳ | AH34: Ⅲ | AI34: Ⅱ | AQ34: =+Y32+Z32 -> 0 | AS34: =+AA32+AB32 -> 0
O35: 判定区分毎の変状数注4 | Y35: =IF(Y32=0,0,1) -> 0 | Z35: =IF(Z32=0,0,1) -> 0 | AA35: =IF(AQ34=1,0,IF(AS34>0,1,0)) -> 0 | AC35: =+AC32 -> 0 | AD35: =AD32 -> 0 | AE35: =AE32+AF32 -> 1 | AG35: =AG32 -> 0 | AH35: =AH32 -> 0 | AI35: =AI32+AJ32 -> 0 | AQ35: =+Y32+AC35+AG35 -> 0 | AR35: =+Z32+AD35+AH35 -> 0 | AS35: =+AS34+AE35+AI35 -> 1
O36: 変状区分毎の判定区分注4 | Y36: =IF(Y32>0,"Ⅳ",IF(Z32>0,"Ⅲ",IF(AA32+AB32>0,"Ⅱ","Ⅰ"))) -> Ⅰ | AC36: =IF(AC32>0,"Ⅳ",IF(AD32>0,"Ⅲ",IF((AE32+AF32)>0,"Ⅱ","Ⅰ"))) -> Ⅱ | AG36: =IF(AG32>0,"Ⅳ",IF(AH32>0,"Ⅲ",IF((AI32+AJ32)>0,"Ⅱ","Ⅰ"))) -> Ⅰ | AQ36: =IF(AQ35>0,"Ⅳ",IF(AR35>0,"Ⅲ",IF(AS35>0,"Ⅱ","Ⅰ"))) -> Ⅱ
O37: 覆工スパン単位の判定区分注5 | Y37: =IF((Y35+AC35+AG35)>0,"Ⅳ",IF((Z35+AD35+AH35)>0,"Ⅲ",IF((AA35+AE35+AI35)>0,"Ⅱ","Ⅰ"))) -> Ⅱ
K38: 特記事項
K40: 注1：誤記入防止のため、当該変状区分以外のセルは灰色表示とすること。
K41: 注2：応急対策を実施した場合は、その詳細を備考に記載すること。
K42: 注3：変状区分毎での最も評価の厳しい判定区分。
K43: 注4：変状区分毎での最も評価の厳しい判定区分．外力は覆工スパン単位、材質劣化、漏水は変状単位で行う。
K44: 注5：覆工スパンの中で最も評価の厳しい健全性を採用し、その覆工スパン毎の健全性とする。
B46: ※1：本シートは作成洩れのないよう、変状が無くても全スパン分を作成すること．また変状展開図は、様式D-2-1、様式D-2-1'と同じものを覆工スパン単位で拡大し掲載すること。
B47: ※2：変状番号は、様式D-1-1で記入した番号と整合させること。
B48: ※3：対策区分毎の変状発生規模は、様式D-1-1に記載した面積を記入すること（ただし外力はスパン単位で評価するため対象外とし、備考欄に状況を記入）。
B49: ※4：本様式は覆工スパン毎に作成すること。
B50: ※5：変状数が多い場合は、適時、表の行を増やして覆工スパン毎に1枚のシートに収めること。また、1スパン１シートとし、スパンに合わせてシートを追加すること。
B51: ※6：対策区分毎の変状の発生範囲の規模とは，対策を行う際に参考となる変状の長さや面積であり，変状を包含する長さや面積とする。
B52: ※7：路面滞水は、変状面積に1を記載するとともに、備考にも内容を記載すること。

Sheet 様式D-3_003
AU1: 様式E-1リンク用→ | AV1: 覆工ｽﾊﾟﾝ 番号 | AW1: ｽﾊﾟﾝ 長 (m) | AX1: 変状数集計 | BS1: 覆工スパン毎の 健全性の診断 | BW1: 変状規模集計
AX2: 対策区分毎の変状数 | BJ2: 健全性の判定区分毎の変状数 | BW2: 覆工スパン長(m) | CA2: 対策区分毎の変状の発生範囲の規模(㎡）
B3: ■定期点検記録様式 覆工スパン別変状詳細展開図 【様式D-3】 | AX3: 外力 | BB3: 材質劣化 | BF3: 漏水 | BJ3: 外力 | BM3: 材質劣化 | BP3: 漏水 | BS3: 外力 | BT3: 材質劣化 | BU3: 漏水 | BV3: 健全性 | BW3: 外力※１ | CA3: 材質劣化 | CE3: 漏水
B4: フリガナ | E4: ='様式D-2-1´'!E4:I4 -> ホウベンザントンネル | K4: 路線名 | N4: ='様式D-2-1´'!M4 -> 国道435号 | T4: 定期点検業者 | Y4: ='様式D-2-1´'!W4 -> 株式会社エイト日本技術開発 | AG4: 定期点検年月日 | AK4: ='様式D-2-1´'!AF4 -> 44413 | AX4: Ⅳ | AY4: Ⅲ | AZ4: Ⅱa | BA4: Ⅱb | BB4: Ⅳ | BC4: Ⅲ | BD4: Ⅱa | BE4: Ⅱb | BF4: Ⅳ | BG4: Ⅲ | BH4: Ⅱa | BI4: Ⅱb | BJ4: Ⅳ | BK4: Ⅲ | BL4: Ⅱ | BM4: Ⅳ | BN4: Ⅲ | BO4: Ⅱ | BP4: Ⅳ | BQ4: Ⅲ | BR4: Ⅱ | BW4: Ⅳ | BX4: Ⅲ | BY4: Ⅱa | BZ4: Ⅱb | CA4: Ⅳ | CB4: Ⅲ | CC4: Ⅱa | CD4: Ⅱb | CE4: Ⅳ | CF4: Ⅲ | CG4: Ⅱa | CH4: Ⅱb
B5: 名 称 | E5: ='様式D-2-1´'!E5:I5 -> 鳳翩山トンネル | K5: 管理者名 | N5: ='様式D-2-1´'!M5 -> 防府土木建設事務所山口支所 | T5: 定期点検者名 | Y5: ='様式D-2-1´'!W5 -> 榎田 敦之 | AV5: =N7 -> 3 | AW5: =R7 -> 10.6 | AX5: =+Y32 -> 0 | AY5: =+Z32 -> 0 | AZ5: =+AA32 -> 0 | BA5: =+AB32 -> 0 | BB5: =+AC32 -> 0 | BC5: =+AD32 -> 0 | BD5: =+AE32 -> 2 | BE5: =+AF32 -> 0 | ... BI5: =+AJ32 -> 0 | BJ5: =+Y35 -> 0 | BK5: =+Z35 -> 0 | BL5: =+AA35 -> 0 | BM5: =+AC35 -> 0 | BN5: =+AD35 -> 0 | BO5: =+AE35 -> 2 | BP5: =+AG35 -> 0 | BQ5: =+AH35 -> 0 | BR5: =+AI35 -> 0 | BS5: =+Y36 -> Ⅰ | BT5: =+AC36 -> Ⅱ | BU5: =+AG36 -> Ⅰ | BV5: =+Y37 -> Ⅱ | BW5: =IF(Y32>0,$R$7,"") | BX5: =IF(Z32>0,"",IF(AA32>0,$R$7,"")) | BY5: =IF(Y32+Z32>0,"",IF(AA32>0,$R$7,"")) | BZ5: =IF(Y32+Z32+AA32>0,"",IF(AB32>0,$R$7,"")) | CA5: =+AC31 -> 0 | CB5: =+AD31 -> 0 | CC5: =+AE31 -> 0.025 | CD5: =+AF31 -> 0 | CE5: =+AG31 -> 0 | CF5: =+AH31 -> 0 | CG5: =+AI31 -> 0 | CH5: =+AJ31 -> 0
B6: スパン別変状展開図 | K6: 【健全性判定集計表】
K7: スパン番号 | N7: 3 | P7: スパン長 | R7: 10.6 | U7: 前回定期点検時の健全性 | W7: 応急措置前の判定 | Y7: 対策区分毎の 変状の有無 | AC7: 対策区分毎の変状の発生範囲の規模(㎡) | AK7: 備考注2
K8: 変状番号 | L8: 対象箇所 | N8: 部位区分 | P8: 変状区分 | R8: 変状種類
Y9: 外力注1 | AC9: 材質劣化注1 | AG9: 漏水注1
Y10: Ⅳ | Z10: Ⅲ | AA10: Ⅱa | AB10: Ⅱb | AC10: Ⅳ | AD10: Ⅲ | AE10: Ⅱa | AF10: Ⅱb | AG10: Ⅳ | AH10: Ⅲ | AI10: Ⅱa | AJ10: Ⅱb
K11: 1 | L11: 覆工・坑門 | N11: アーチ（右側） | P11: 材質劣化 | R11: うき・はく離 | U11: Ⅱ | W11: - | AE11: 0.015 | AQ11: =IF(P11="材質劣化",2,IF(P11="漏水",3,1)) -> 2
K12: 2 | L12: 覆工・坑門 | N12: アーチ（右側） | P12: 材質劣化 | R12: うき・はく離 | U12: Ⅱ | W12: - | AE12: 0.01 | AQ12: =IF(P12="材質劣化",2,IF(P12="漏水",3,1)) -> 2
AQ13: =IF(P13="材質劣化",2,IF(P13="漏水",3,1)) -> 1
AQ14: =IF(P14="材質劣化",2,IF(P14="漏水",3,1)) -> 1
AQ15: =IF(P15="材質劣化",2,IF(P15="漏水",3,1)) -> 1
AQ16: =IF(P16="材質劣化",2,IF(P16="漏水",3,1)) -> 1
AQ17: =IF(P17="材質劣化",2,IF(P17="漏水",3,1)) -> 1
AQ18: =IF(P18="材質劣化",2,IF(P18="漏水",3,1)) -> 1
AQ19: =IF(P19="材質劣化",2,IF(P19="漏水",3,1)) -> 1
AQ20: =IF(P20="材質劣化",2,IF(P20="漏水",3,1)) -> 1
AQ21: =IF(P21="材質劣化",2,IF(P21="漏水",3,1)) -> 1
AQ22: =IF(P22="材質劣化",2,IF(P22="漏水",3,1)) -> 1
AQ23: =IF(P23="材質劣化",2,IF(P23="漏水",3,1)) -> 1
AQ24: =IF(P24="材質劣化",2,IF(P24="漏水",3,1)) -> 1
... AQ30: =IF(P30="材質劣化",2,IF(P30="漏水",3,1)) -> 1
K31: 集計 ・ 判定 ・ 診断 | L31: 変状の発生規模合計(㎡) | Y31: － | AC31: =SUM(AC11:AC30) -> 0 | AD31: =SUM(AD11:AD30) -> 0 | AE31: =SUM(AE11:AE30) -> 0.025 | AF31: =SUM(AF11:AF30) -> 0 | AG31: =SUM(AG11:AG30) -> 0 | AH31: =SUM(AH11:AH30) -> 0 | AI31: =SUM(AI11:AI30) -> 0 | AJ31: =SUM(AJ11:AJ30) -> 0 | AK31: 計
L32: 対策区分の 判定結果 | O32: 判定区分毎の変状数 | Y32: =COUNTIF(Y11:Y30,"○") -> 0 | Z32: =COUNTIF(Z11:Z30,"○") -> 0 | AA32: =COUNTIF(AA11:AA30,"○") -> 0 | AB32: =COUNTIF(AB11:AB30,"○") -> 0 | AC32: =COUNT(AC11:AC30) -> 0 | AD32: =COUNT(AD11:AD30) -> 0 | AE32: =COUNT(AE11:AE30) -> 2 | AF32: =COUNT(AF11:AF30) -> 0 | AG32: =COUNT(AG11:AG30) -> 0 | AH32: =COUNT(AH11:AH30) -> 0 | AI32: =COUNT(AI11:AI30) -> 0 | AJ32: =COUNT(AJ11:AJ30) -> 0
O33: 変状区分毎の判定区分注3 | Y33: =IF(Y32>0,"Ⅳ",IF(Z32>0,"Ⅲ",IF(AA32>0,"Ⅱa",IF(AB32>0,"Ⅱb","Ⅰ")))) -> Ⅰ | AC33: =IF(AC32>0,"Ⅳ",IF(AD32>0,"Ⅲ",IF(AE32>0,"Ⅱa",IF(AF32>0,"Ⅱb","Ⅰ")))) -> Ⅱa | AG33: =IF(AG32>0,"Ⅳ",IF(AH32>0,"Ⅲ",IF(AI32>0,"Ⅱa",IF(AJ32>0,"Ⅱb","Ⅰ")))) -> Ⅰ | AQ33: Ⅳ | AR33: Ⅲ | AS33: Ⅱ
L34: 健全性の 診断結果 | O34: 判定区分 | Y34: Ⅳ | Z34: Ⅲ | AA34: Ⅱ | AC34: Ⅳ | AD34: Ⅲ | AE34: Ⅱ | AG34: Ⅳ | AH34: Ⅲ | AI34: Ⅱ | AQ34: =+Y32+Z32 -> 0 | AS34: =+AA32+AB32 -> 0
O35: 判定区分毎の変状数注4 | Y35: =IF(Y32=0,0,1) -> 0 | Z35: =IF(Z32=0,0,1) -> 0 | AA35: =IF(AQ34=1,0,IF(AS34>0,1,0)) -> 0 | AC35: =+AC32 -> 0 | AD35: =AD32 -> 0 | AE35: =AE32+AF32 -> 2 | AG35: =AG32 -> 0 | AH35: =AH32 -> 0 | AI35: =AI32+AJ32 -> 0 | AQ35: =+Y32+AC35+AG35 -> 0 | AR35: =+Z32+AD35+AH35 -> 0 | AS35: =+AS34+AE35+AI35 -> 2
O36: 変状区分毎の判定区分注4 | Y36: =IF(Y32>0,"Ⅳ",IF(Z32>0,"Ⅲ",IF(AA32+AB32>0,"Ⅱ","Ⅰ"))) -> Ⅰ | AC36: =IF(AC32>0,"Ⅳ",IF(AD32>0,"Ⅲ",IF((AE32+AF32)>0,"Ⅱ","Ⅰ"))) -> Ⅱ | AG36: =IF(AG32>0,"Ⅳ",IF(AH32>0,"Ⅲ",IF((AI32+AJ32)>0,"Ⅱ","Ⅰ"))) -> Ⅰ | AQ36: =IF(AQ35>0,"Ⅳ",IF(AR35>0,"Ⅲ",IF(AS35>0,"Ⅱ","Ⅰ"))) -> Ⅱ
O37: 覆工スパン単位の判定区分注5 | Y37: =IF((Y35+AC35+AG35)>0,"Ⅳ",IF((Z35+AD35+AH35)>0,"Ⅲ",IF((AA35+AE35+AI35)>0,"Ⅱ","Ⅰ"))) -> Ⅱ
K38: 特記事項
K40: 注1：誤記入防止のため、当該変状区分以外のセルは灰色表示とすること。
K41: 注2：応急対策を実施した場合は、その詳細を備考に記載すること。
K42: 注3：変状区分毎での最も評価の厳しい判定区分。
K43: 注4：変状区分毎での最も評価の厳しい判定区分．外力は覆工スパン単位、材質劣化、漏水は変状単位で行う。
K44: 注5：覆工スパンの中で最も評価の厳しい健全性を採用し、その覆工スパン毎の健全性とする。
B46: ※1：本シートは作成洩れのないよう、変状が無くても全スパン分を作成すること．また変状展開図は、様式D-2-1、様式D-2-1'と同じものを覆工スパン単位で拡大し掲載すること。
B47: ※2：変状番号は、様式D-1-1で記入した番号と整合させること。
B48: ※3：対策区分毎の変状発生規模は、様式D-1-1に記載した面積を記入すること（ただし外力はスパン単位で評価するため対象外とし、備考欄に状況を記入）。
B49: ※4：本様式は覆工スパン毎に作成すること。
B50: ※5：変状数が多い場合は、適時、表の行を増やして覆工スパン毎に1枚のシートに収めること。また、1スパン１シートとし、スパンに合わせてシートを追加すること。
B51: ※6：対策区分毎の変状の発生範囲の規模とは，対策を行う際に参考となる変状の長さや面積であり，変状を包含する長さや面積とする。
B52: ※7：路面滞水は、変状面積に1を記載するとともに、備考にも内容を記載すること。

Sheet 様式D-3_004
AU1: 様式E-1リンク用→ | AV1: 覆工ｽﾊﾟﾝ 番号 | AW1: ｽﾊﾟﾝ 長 (m) | AX1: 変状数集計 | BS1: 覆工スパン毎の 健全性の診断 | BW1: 変状規模集計
AX2: 対策区分毎の変状数 | BJ2: 健全性の判定区分毎の変状数 | BW2: 覆工スパン長(m) | CA2: 対策区分毎の変状の発生範囲の規模(㎡）
B3: ■定期点検記録様式 覆工スパン別変状詳細展開図 【様式D-3】 | AX3: 外力 | BB3: 材質劣化 | BF3: 漏水 | BJ3: 外力 | BM3: 材質劣化 | BP3: 漏水 | BS3: 外力 | BT3: 材質劣化 | BU3: 漏水 | BV3: 健全性 | BW3: 外力※１ | CA3: 材質劣化 | CE3: 漏水
B4: フリガナ | E4: ='様式D-2-1´'!E4:I4 -> ホウベンザントンネル | K4: 路線名 | N4: ='様式D-2-1´'!M4 -> 国道435号 | T4: 定期点検業者 | Y4: ='様式D-2-1´'!W4 -> 株式会社エイト日本技術開発 | AG4: 定期点検年月日 | AK4: ='様式D-2-1´'!AF4 -> 44413 | AX4: Ⅳ | AY4: Ⅲ | AZ4: Ⅱa | BA4: Ⅱb | BB4: Ⅳ | BC4: Ⅲ | BD4: Ⅱa | BE4: Ⅱb | BF4: Ⅳ | BG4: Ⅲ | BH4: Ⅱa | BI4: Ⅱb | BJ4: Ⅳ | BK4: Ⅲ | BL4: Ⅱ | BM4: Ⅳ | BN4: Ⅲ | BO4: Ⅱ | BP4: Ⅳ | BQ4: Ⅲ | BR4: Ⅱ | BW4: Ⅳ | BX4: Ⅲ | BY4: Ⅱa | BZ4: Ⅱb | CA4: Ⅳ | CB4: Ⅲ | CC4: Ⅱa | CD4: Ⅱb | CE4: Ⅳ | CF4: Ⅲ | CG4: Ⅱa | CH4: Ⅱb
B5: 名 称 | E5: ='様式D-2-1´'!E5:I5 -> 鳳翩山トンネル | K5: 管理者名 | N5: ='様式D-2-1´'!M5 -> 防府土木建設事務所山口支所 | T5: 定期点検者名 | Y5: ='様式D-2-1´'!W5 -> 榎田 敦之 | AV5: =N7 -> 4 | AW5: =R7 -> 10.5 | AX5: =+Y32 -> 0 | AY5: =+Z32 -> 0 | AZ5: =+AA32 -> 0 | BA5: =+AB32 -> 0 | BB5: =+AC32 -> 0 | BC5: =+AD32 -> 0 | BD5: =+AE32 -> 0 | BE5: =+AF32 -> 3 | ... BI5: =+AJ32 -> 0 | BJ5: =+Y35 -> 0 | BK5: =+Z35 -> 0 | BL5: =+AA35 -> 0 | BM5: =+AC35 -> 0 | BN5: =+AD35 -> 0 | BO5: =+AE35 -> 3 | BP5: =+AG35 -> 0 | BQ5: =+AH35 -> 0 | BR5: =+AI35 -> 0 | BS5: =+Y36 -> Ⅰ | BT5: =+AC36 -> Ⅱ | BU5: =+AG36 -> Ⅰ | BV5: =+Y37 -> Ⅱ | BW5: =IF(Y32>0,$R$7,"") | BX5: =IF(Z32>0,"",IF(AA32>0,$R$7,"")) | BY5: =IF(Y32+Z32>0,"",IF(AA32>0,$R$7,"")) | BZ5: =IF(Y32+Z32+AA32>0,"",IF(AB32>0,$R$7,"")) | CA5: =+AC31 -> 0 | CB5: =+AD31 -> 0 | CC5: =+AE31 -> 0 | CD5: =+AF31 -> 0.0505 | CE5: =+AG31 -> 0 | CF5: =+AH31 -> 0 | CG5: =+AI31 -> 0 | CH5: =+AJ31 -> 0
B6: スパン別変状展開図 | K6: 【健全性判定集計表】
K7: スパン番号 | N7: 4 | P7: スパン長 | R7: 10.5 | U7: 前回定期点検時の健全性 | W7: 応急措置前の判定 | Y7: 対策区分毎の 変状の有無 | AC7: 対策区分毎の変状の発生範囲の規模(㎡) | AK7: 備考注2
K8: 変状番号 | L8: 対象箇所 | N8: 部位区分 | P8: 変状区分 | R8: 変状種類
Y9: 外力注1 | AC9: 材質劣化注1 | AG9: 漏水注1
Y10: Ⅳ | Z10: Ⅲ | AA10: Ⅱa | AB10: Ⅱb | AC10: Ⅳ | AD10: Ⅲ | AE10: Ⅱa | AF10: Ⅱb | AG10: Ⅳ | AH10: Ⅲ | AI10: Ⅱa | AJ10: Ⅱb
K11: 1 | L11: 覆工・坑門 | N11: アーチ（左側） | P11: 材質劣化 | R11: 鋼材腐食 | U11: Ⅱ | W11: - | AF11: 0.003 | AQ11: =IF(P11="材質劣化",2,IF(P11="漏水",3,1)) -> 2
K12: 2 | L12: 覆工・坑門 | N12: アーチ（左側） | P12: 材質劣化 | R12: 鋼材腐食 | U12: Ⅱ | W12: - | AF12: 0.01 | AQ12: =IF(P12="材質劣化",2,IF(P12="漏水",3,1)) -> 2
K13: 3 | L13: 覆工・坑門 | N13: アーチ（右側） | P13: 材質劣化 | R13: その他 | U13: Ⅱ | W13: - | AF13: 0.0375 | AQ13: =IF(P13="材質劣化",2,IF(P13="漏水",3,1)) -> 2
AQ14: =IF(P14="材質劣化",2,IF(P14="漏水",3,1)) -> 1
AQ15: =IF(P15="材質劣化",2,IF(P15="漏水",3,1)) -> 1
AQ16: =IF(P16="材質劣化",2,IF(P16="漏水",3,1)) -> 1
AQ17: =IF(P17="材質劣化",2,IF(P17="漏水",3,1)) -> 1
AQ18: =IF(P18="材質劣化",2,IF(P18="漏水",3,1)) -> 1
AQ19: =IF(P19="材質劣化",2,IF(P19="漏水",3,1)) -> 1
AQ20: =IF(P20="材質劣化",2,IF(P20="漏水",3,1)) -> 1
AQ21: =IF(P21="材質劣化",2,IF(P21="漏水",3,1)) -> 1
AQ22: =IF(P22="材質劣化",2,IF(P22="漏水",3,1)) -> 1
AQ23: =IF(P23="材質劣化",2,IF(P23="漏水",3,1)) -> 1
AQ24: =IF(P24="材質劣化",2,IF(P24="漏水",3,1)) -> 1
AQ25: =IF(P25="材質劣化",2,IF(P25="漏水",3,1)) -> 1
... AQ30: =IF(P30="材質劣化",2,IF(P30="漏水",3,1)) -> 1
K31: 集計 ・ 判定 ・ 診断 | L31: 変状の発生規模合計(㎡) | Y31: － | AC31: =SUM(AC11:AC30) -> 0 | AD31: =SUM(AD11:AD30) -> 0 | AE31: =SUM(AE11:AE30) -> 0 | AF31: =SUM(AF11:AF30) -> 0.0505 | AG31: =SUM(AG11:AG30) -> 0 | AH31: =SUM(AH11:AH30) -> 0 | AI31: =SUM(AI11:AI30) -> 0 | AJ31: =SUM(AJ11:AJ30) -> 0 | AK31: 計
L32: 対策区分の 判定結果 | O32: 判定区分毎の変状数 | Y32: =COUNTIF(Y11:Y30,"○") -> 0 | Z32: =COUNTIF(Z11:Z30,"○") -> 0 | AA32: =COUNTIF(AA11:AA30,"○") -> 0 | AB32: =COUNTIF(AB11:AB30,"○") -> 0 | AC32: =COUNT(AC11:AC30) -> 0 | AD32: =COUNT(AD11:AD30) -> 0 | AE32: =COUNT(AE11:AE30) -> 0 | AF32: =COUNT(AF11:AF30) -> 3 | AG32: =COUNT(AG11:AG30) -> 0 | AH32: =COUNT(AH11:AH30) -> 0 | AI32: =COUNT(AI11:AI30) -> 0 | AJ32: =COUNT(AJ11:AJ30) -> 0
O33: 変状区分毎の判定区分注3 | Y33: =IF(Y32>0,"Ⅳ",IF(Z32>0,"Ⅲ",IF(AA32>0,"Ⅱa",IF(AB32>0,"Ⅱb","Ⅰ")))) -> Ⅰ | AC33: =IF(AC32>0,"Ⅳ",IF(AD32>0,"Ⅲ",IF(AE32>0,"Ⅱa",IF(AF32>0,"Ⅱb","Ⅰ")))) -> Ⅱb | AG33: =IF(AG32>0,"Ⅳ",IF(AH32>0,"Ⅲ",IF(AI32>0,"Ⅱa",IF(AJ32>0,"Ⅱb","Ⅰ")))) -> Ⅰ | AQ33: Ⅳ | AR33: Ⅲ | AS33: Ⅱ
L34: 健全性の 診断結果 | O34: 判定区分 | Y34: Ⅳ | Z34: Ⅲ | AA34: Ⅱ | AC34: Ⅳ | AD34: Ⅲ | AE34: Ⅱ | AG34: Ⅳ | AH34: Ⅲ | AI34: Ⅱ | AQ34: =+Y32+Z32 -> 0 | AS34: =+AA32+AB32 -> 0
