Workbook
Name その他: '(参考)リスト'!$C$47
Name その他施設: '(参考)リスト'!$C$79:$C$83
Name 換気施設: '(参考)リスト'!$C$56:$C$60
Name 坑門: '(参考)リスト'!$C$31:$C$32
Name 照明施設: '(参考)リスト'!$C$52:$C$54
Name 対象箇所: [1]!テーブル1[対象箇所]
Name 天井板: '(参考)リスト'!$C$37:$C$39
Name 内装板: '(参考)リスト'!$C$34:$C$35
Name 非常用施設: '(参考)リスト'!$C$62:$C$77
Name 覆工: '(参考)リスト'!$C$16:$C$29
Name 路面: '(参考)リスト'!$C$41:$C$45

Sheet 様式A-1
B2: ■トンネル台帳 トンネル諸元、非常用施設諸元 【様式A-1】 | S2: 施設ID | W2: 34.16769,131.77531
B3: フリガナ | D3: (ﾀｶｾﾄﾝﾈﾙ) | H3: 路線名 | J3: 国道376号線 | P3: 管理者名 | R3: 周南土木建築事務所 | W3: 緊急輸送道路 | Z3: 一次
B4: 名 称 | D4: 高瀬トンネル | W4: 代替路の有無 | Z4: 有
B5: 所在地 | D5: 自 | E5: 周南市高瀬地内 | H5: 作成者 | K5: 基礎地盤コンサルタンツ株式会社 大谷 直毅 | P5: 作成年月日 | R5: 46080 | U5: トンネル延長 | X5: L= | Z5: 87 | AB5: ｍ
D6: 至 | E6: 周南市高瀬地内 | U6: ﾄﾝﾈﾙの分類 | X6: 陸上トンネル（掘進工法）
B7: 起点 | C7: 緯度 | E7: 34.16767 | H7: 完成年月日 | K7: 1978年 | M7: 舗装 | O7: 種 別 | Q7: コンクリート系 | S7: トンネル非常用施設 | T7: 施設の内訳 | X7: 種別・方式 | Y7: 型式 | Z7: 個数 | AA7: 更新年度 | AE7: =INT(E7/10000) -> 0 | AF7: =INT(E7/100)-AE7*100 -> 0 | AG7: =E7-AE7*10000-AF7*100 -> 34.16767 | AH7: =ROUND(AE7+AF7/60+AG7/60/60,5) -> 0.00949 | AI7: =TEXT(AH7,"0.00000") -> 0.00949
C8: 経度 | E8: 131.77536 | H8: 供用年月日 | K8: - | O8: 厚 さ | Q8: 25cm | T8: 通報設備 | U8: 通話型通報設備 | X8: - | Y8: - | Z8: - | AA8: - | AE8: =INT(E8/10000) -> 0 | AF8: =INT(E8/100)-AE8*100 -> 1 | AG8: =E8-AE8*10000-AF8*100 -> 31.77536 | AH8: =ROUND(AE8+AF8/60+AG8/60/60,5) -> 0.02549 | AI8: =TEXT(AH8,"0.00000") -> 0.02549
B9: 終点 | C9: 緯度 | E9: 34.16681 | H9: トンネル区分 | K9: D | O9: 面 積 | Q9: 565.6㎡ | U9: 操作型通報設備 | X9: - | Y9: - | Z9: - | AA9: -
C10: 経度 | E10: 131.77508 | H10: 内装種類 | K10: 覆工（内装なし） | O10: 更新年次 | Q10: - | U10: 自動通報設備 | X10: - | Y10: - | Z10: - | AA10: -
B11: 一般有料区分 | E11: 一般（無料） | H11: 天井板種類 | K11: 覆工（内装なし） | M11: 排水 | O11: 種 別 | Q11: 落蓋式U型側溝排水 | T11: 警報設備 | U11: 非常警報設備 | X11: - | Y11: - | Z11: - | AA11: -
B12: 土かぶり | E12: - | G12: m | H12: 坑門 | I12: 起点 | J12: 形式 | K12: 面壁 | O12: 更新年次 | Q12: - | T12: 消火設備 | U12: 消 火 器 | X12: - | Y12: - | Z12: - | AA12: -
B13: 内空断面積 | E13: 44 | G13: m2 | J13: 延長 | K13: 1 | L13: m | M13: 施設 | P13: 種別・方式 | Q13: 個数 | R13: 更新年次 | U13: 消火栓設備 | X13: - | Y13: - | Z13: - | AA13: -
B14: 交 通 量 | E14: 2611 | G14: 台/日 | I14: 終点 | J14: 形式 | K14: 面壁 | M14: 道路附属物等 | N14: 照明 | P14: - | Q14: - | R14: - | T14: 避難誘導設備 | U14: 誘導表示設備 | X14: - | Y14: - | Z14: - | AA14: -
C15: 道 路 幅 | E15: 8.2 | G15: m | J15: 延長 | K15: 1 | L15: m | N15: 換気 | P15: 自然排気 | Q15: - | R15: - | U15: 避難情報提供設備 | X15: - | Y15: - | Z15: - | AA15: -
B16: 幅 員 | C16: 車 道 幅 | E16: 2.75 | G16: m | H16: 竣工巻厚 | I16: アーチ | K16: 60 | L16: cm | N16: 標識 | P16: - | Q16: - | R16: - | X16: - | Y16: - | Z16: - | AA16: -
E17: 2.75 | G17: m | I17: 側 壁 | K17: 60 | L17: cm | N17: 警報表示板 | P17: - | Q17: - | R17: - | U17: 避難通路 | X17: - | Y17: - | Z17: - | AA17: -
C18: 歩道等幅 | E18: 1.7 | G18: m | K18: 60 | L18: cm | N18: 吸音板 | P18: - | Q18: - | R18: - | U18: 排煙設備 | X18: - | Y18: - | Z18: - | AA18: -
B19: 高さ | C19: 建築限界高 | E19: - | G19: m | I19: インバート | K19: - | L19: cm | T19: その他の設備 | U19: 給水栓設備 | X19: - | Y19: - | Z19: - | AA19: -
C20: 中央高 | E20: 6.3 | G20: m | H20: 半径 | I20: アーチ | K20: 410 | L20: cm | U20: 無線通信補助設備 | X20: - | Y20: - | Z20: - | AA20: -
C21: 有効高 | E21: 4.5 | G21: m | I21: 側 壁 | K21: 400 | L21: cm | U21: 水噴霧設備 | X21: - | Y21: - | Z21: - | AA21: -
C22: 縦断勾配 | E22: - | I22: インバート | K22: - | L22: cm | U22: 監視設備 | X22: - | Y22: - | Z22: - | AA22: -
B23: 線 形 | C23: 直線区間長 | E23: - | H23: 占用物件 | I23: 種 類 | K23: 寸 法 | M23: 管理者名 | Q23: 更新年次 | S23: 非常用施設 関連設備 | U23: 予備発電設備 | X23: - | Y23: - | Z23: - | AA23: -
C24: 曲線区間 | D24: 区間長 | F24: - | I24: - | K24: - | M24: - | Q24: -
D25: 起点側ｸﾛｿｲﾄﾞ | F25: - | I25: - | K25: - | M25: - | Q25: -
D26: 曲線半径 | F26: - | I26: - | K26: - | M26: - | Q26: -
D27: 終点側ｸﾛｿｲﾄﾞ | F27: - | I27: - | K27: - | M27: - | Q27: - | S27: その他 | U27: 非常駐車帯 | X27: - | Y27: - | Z27: - | AA27: -
B28: トンネル工法 | E28: 矢板工法 | U28: 方向転換所 | X28: - | Y28: - | Z28: - | AA28: -
C29: ※緯度・経度については、秒の小数第二位の単位まで記入すること。

Sheet 様式A-2
B3: ■トンネル台帳 トンネル情報一覧表 【様式A-2】
B4: フリガナ | E4: (ﾀｶｾﾄﾝﾈﾙ) | J4: 路線名 | M4: 国道376号線 | S4: 作成者 | Y4: 基礎地盤コンサルタンツ株式会社 大谷 直毅 | AE4: 作成年月日 | AI4: 46080
B5: 名 称 | E5: 高瀬トンネル | J5: 管理者名 | M5: 周南土木建築事務所
B6: 覆工 ｽﾊﾟﾝ 番号 | C6: ｽﾊﾟﾝ長 | D6: 追加距離 | F6: トンネル本体工 | K6: 照明施設 | O6: 非常用施設 | AE6: 換気施設 | AK6: その他附属物等
O7: 通報設備 | R7: 警報設備 | S7: 消火設備 | U7: 避難誘導設備 | Y7: その他の設備 | AC7: 特記事項
D8: 起点側 | E8: 終点側 | F8: 特記事項 | I8: 内装板 | J8: 天井板 | K8: 基本照明 | L8: 入口出口照明 | M8: 特記事項 | O8: 通話型通報設備 | P8: 操作型通報設備 | Q8: 自動通報設備 | R8: 非常警報設備 | S8: 消 火 器 | T8: 消火栓設備 | U8: 誘導表示設備 | V8: 避難情報提供設備 | W8: 避難通路 | X8: 排煙設備 | Y8: 給水栓設備 | Z8: 無線通信補助設備 | AA8: 水噴霧設備 | AB8: 監視設備 | AE8: JF | AF8: VI計 | AG8: CO計 | AH8: 風向 風速計 | AI8: 特記事項
C9: (m) | D9: (m) | E9: (m)
B10: PS | C10: 0 | D10: 0 | E10: 0
B11: S1 | C11: 3.7 | D11: 0 | E11: 3.7
B12: S2 | C12: 3.3 | D12: 3.7 | E12: 7
B13: S3 | C13: 7.8 | D13: 7 | E13: 14.8
B14: S4 | C14: 7.8 | D14: 14.8 | E14: 22.6
B15: S5 | C15: 7.8 | D15: 22.6 | E15: 30.4
B16: S6 | C16: 7.8 | D16: 30.4 | E16: 38.2
B17: S7 | C17: 7.7 | D17: 38.2 | E17: 45.9
B18: S8 | C18: 7.7 | D18: 45.9 | E18: 53.6
B19: S9 | C19: 7.5 | D19: 53.6 | E19: 61.1
B20: S10 | C20: 7.4 | D20: 61.1 | E20: 68.5
B21: S11 | C21: 7.5 | D21: 68.5 | E21: 76
... B24: PE | C24: 0 | D24: 87 | E24: 87
B46: ※ 行が不足する場合は、適時、表の行を増やすこと。

Sheet 様式A-3
B3: ■トンネル台帳 トンネル記録（位置図、断面図、施工実績他）【様式A-3】
B4: フリガナ | E4: (ﾀｶｾﾄﾝﾈﾙ) | J4: 路線名 | M4: 国道376号線 | S4: 作成者 | W4: 基礎地盤コンサルタンツ株式会社 大谷 直毅 | AC4: 作成年月日 | AF4: 46080
B5: 名 称 | E5: 高瀬トンネル | J5: 管理者名 | M5: 周南土木建築事務所
B6: 位置図・現況写真・標準断面図・地質縦断図・施工実績

Sheet 様式B_001
B2: ■定期点検記録様式 トンネル変状・異常箇所写真位置図 【様式B】 | N2: 定期点検年月日 | P2: 45944 | S2: 施設ID | V2: 34.16769,131.77531
B3: フリガナ | C3: (ﾀｶｾﾄﾝﾈﾙ) | G3: 路線名 | H3: 国道376号線 | K3: 管理者名 | L3: 周南土木建築事務所 | Q3: 定期点検実施者 | S3: 基礎地盤コンサルタンツ株式会社 | V3: 起点 | W3: 緯度 | X3: 34.167671
B4: 名 称 | C4: 高瀬トンネル | S4: 大谷 直毅 | W4: 経度 | X4: 131.77536
B5: 所在地 | C5: 自 | D5: 周南市高瀬地内 | G5: トンネル工法 | I5: 矢板工法 | L5: トンネル延長 | N5: L= | O5: 87 | P5: ｍ | Q5: 自専道 or 一般道 | R5: 一般道 | S5: 代替路の有無 | U5: 有 | V5: 終点 | W5: 緯度 | X5: 34.166809
C6: 至 | D6: 周南市高瀬地内 | G6: 建設年度 | I6: 1978年 | L6: 幅員 | N6: L= | O6: 8.2 | P6: ｍ | S6: 緊急輸送道路 | U6: 一次 | W6: 経度 | X6: 131.77509
B7: トンネル毎 の健全性の 診断の区分 | D7: Ⅲ
G8: 変状・異常 箇所数合計 | I8: トンネル本体工 | J8: 材質劣化 | K8: Ⅱ | L8: 51 | N8: Ⅲ | O8: 7 | Q8: Ⅳ | R8: 0 | T8: 附属物等 の取付状態 | V8: ◯ （応急措置後) | X8: 0
J9: 漏水 | K9: Ⅱ | L9: 10 | N9: Ⅲ | O9: 0 | Q9: Ⅳ | R9: 0
V10: ✕ | X10: 0
J11: 外力 | K11: Ⅱ | L11: 1 | N11: Ⅲ | O11: 0 | Q11: Ⅳ | R11: 0
B12: トンネル変状・異常箇所写真位置図
J29: 注１：本位置図は、見下げた状態で記載すること。 注２：覆工スパン番号は横断目地毎(矢板工法の場合は上半アーチの 横断目地毎)に設定すること。 | Q29: 注３：写真番号に付する変状番号は、各覆工スパンの変状に対して新たに確認された場合 は順次追加していくこと。 注４：横断目地の変状は前の覆工スパン番号で計上すること。 注５：１枚に収まらない場合は、複数枚に分けて作成すること。
C30: ※1 トンネル本体工の変状数は、材質劣化、漏水に起因するものは変状単位で、外力に起因するものはスパン単位で計上すること。
C31: ※2 トンネル本体工の変状に対しては、措置の必要性（Ⅱ～Ⅳ）について表記すること。また、点検前に実施された措置によりⅠと判定された箇所についても記載すること。
C32: ※3 附属物等の取付状態の○欄については、応急措置前に判定区分×とした箇所のうち応急措置により○判定とした箇所の数を記入すること。
C33: ※4 附属物等の異常番号は、本体工と番号が重複しないよう101番以降とする等の配慮を行い、分かりやすく記録すること。

Sheet 様式B_002
B2: ■定期点検記録様式 トンネル変状・異常箇所写真位置図 【様式B】 | N2: 定期点検年月日 | P2: 45944 | S2: 施設ID | V2: 34.16769,131.77531
B3: フリガナ | C3: (ﾀｶｾﾄﾝﾈﾙ) | G3: 路線名 | H3: 国道376号線 | K3: 管理者名 | L3: 周南土木建築事務所 | Q3: 定期点検実施者 | S3: 基礎地盤コンサルタンツ株式会社 | V3: 起点 | W3: 緯度 | X3: 34.167671
B4: 名 称 | C4: 高瀬トンネル | S4: 大谷 直毅 | W4: 経度 | X4: 131.77536
B5: 所在地 | C5: 自 | D5: 周南市高瀬地内 | G5: トンネル工法 | I5: 矢板工法 | L5: トンネル延長 | N5: L= | O5: 87 | P5: ｍ | Q5: 自専道 or 一般道 | R5: 一般道 | S5: 代替路の有無 | U5: 有 | V5: 終点 | W5: 緯度 | X5: 34.166809
C6: 至 | D6: 周南市高瀬地内 | G6: 建設年度 | I6: 1978年 | L6: 幅員 | N6: L= | O6: 8.2 | P6: ｍ | S6: 緊急輸送道路 | U6: 一次 | W6: 経度 | X6: 131.77509
B7: トンネル毎 の健全性の 診断の区分 | D7: Ⅲ
G8: 変状・異常 箇所数合計 | I8: トンネル本体工 | J8: 材質劣化 | K8: Ⅱ | L8: 51 | N8: Ⅲ | O8: 7 | Q8: Ⅳ | R8: 0 | T8: 附属物等 の取付状態 | V8: ◯ （応急措置後) | X8: 0
J9: 漏水 | K9: Ⅱ | L9: 10 | N9: Ⅲ | O9: 0 | Q9: Ⅳ | R9: 0
V10: ✕ | X10: 0
J11: 外力 | K11: Ⅱ | L11: 1 | N11: Ⅲ | O11: 0 | Q11: Ⅳ | R11: 0
B12: トンネル変状・異常箇所写真位置図
J29: 注１：本位置図は、見下げた状態で記載すること。 注２：覆工スパン番号は横断目地毎(矢板工法の場合は上半アーチの 横断目地毎)に設定すること。 | Q29: 注３：写真番号に付する変状番号は、各覆工スパンの変状に対して新たに確認された場合 は順次追加していくこと。 注４：横断目地の変状は前の覆工スパン番号で計上すること。 注５：１枚に収まらない場合は、複数枚に分けて作成すること。
C30: ※1 トンネル本体工の変状数は、材質劣化、漏水に起因するものは変状単位で、外力に起因するものはスパン単位で計上すること。
C31: ※2 トンネル本体工の変状に対しては、措置の必要性（Ⅱ～Ⅳ）について表記すること。また、点検前に実施された措置によりⅠと判定された箇所についても記載すること。
C32: ※3 附属物等の取付状態の○欄については、応急措置前に判定区分×とした箇所のうち応急措置により○判定とした箇所の数を記入すること。
C33: ※4 附属物等の異常番号は、本体工と番号が重複しないよう101番以降とする等の配慮を行い、分かりやすく記録すること。

Sheet 様式C-1-1_001
B2: ■定期点検記録様式 全スパン定期点検結果総括表（トンネル本体工） 【様式C-1-1】
B3: フリガナ | F3: (ﾀｶｾﾄﾝﾈﾙ) | I3: 路線名 | K3: 国道376号線 | O3: 定期点検実施者 | P3: 基礎地盤コンサルタンツ株式会社 | T3: 定期点検年月日 | X3: 45944
B4: 名 称 | F4: 高瀬トンネル | I4: 管理者名 | K4: 周南土木建築事務所 | P4: 大谷 直毅
B5: 定期点検結果 | C5: 覆工 スパン 番号 | E5: 変状 番号 | F5: 距離 （m） | G5: 変状部位 | I5: 変 状 の 内 容 | O5: 前回定期点検時の状態 | P5: 今回定期点検結果 | T5: 措置履歴 | Y5: 対応方針 ・ 特記事項
O6: 44099
G7: 対象箇所 | H7: 部位区分 | I7: 変状区分 | J7: 変状種類 | M7: 変状の発生範囲の規模 | N7: 前回定期点検時の変状の発生範囲及び規模 | O7: 対策区分 | P7: 対策区分 | R7: 調査の 要否 | S7: 措置の 要否 | T7: 実施 | U7: 措置の実施状況
P8: 応急措置前 | Q8: 応急措置後
C9: 1 | E9: 1 | F9: 0.9 | G9: 覆工 | H9: 水平打ち継ぎ目（左側） | I9: 材質劣化 | J9: うき・はく離 | M9: 0.15m×0.4m | N9: 0.15m×0.4m | O9: Ⅱb | P9: - | Q9: Ⅱb | R9: 否 | S9: 要監視 | T9: 継続 | U9: 監視(日常)
C10: 1 | E10: 2 | F10: 0.91 | G10: 覆工 | H10: アーチ（右側） | I10: 漏水 | J10: その他 | M10: - | N10: 8.6m×0.5m | O10: Ⅱa | P10: - | Q10: Ⅰ | R10: 否 | S10: 否 | T10: 未 | U10: -
C11: 1 | E11: 3 | F11: 3.13 | G11: 覆工 | H11: アーチ（右側） | I11: 材質劣化 | J11: その他 | M11: 0.2m×0.2m | N11: 0.2m×0.2m | O11: Ⅱb | P11: - | Q11: Ⅰ | R11: 否 | S11: 否 | T11: 未 | U11: - | Y11: 判定見直し
C12: 2 | E12: 1 | F12: 3.7 | G12: 覆工 | H12: 水平打ち継ぎ目（左側） | I12: 材質劣化 | J12: うき・はく離 | M12: 0.3m×3.3m | N12: 0.3m×3.3m | O12: Ⅱb | P12: - | Q12: Ⅱb | R12: 否 | S12: 要監視 | T12: 継続 | U12: 監視(日常)
C13: 2 | E13: 2 | F13: 4.15 | G13: 覆工 | H13: アーチ（右側） | I13: 材質劣化 | J13: 鋼材腐食 | M13: 0.1m×0.2m | N13: 0.1m×0.2m | O13: Ⅱb | P13: - | Q13: Ⅱb | R13: 否 | S13: 要監視 | T13: 継続 | U13: 監視(日常)
C14: 2 | E14: 3 | F14: 3.7 | G14: 覆工 | H14: 水平打ち継ぎ目（右側） | I14: 材質劣化 | J14: うき・はく離 | M14: 0.3m×3.3m | N14: 0.3m×3.3m | O14: Ⅱb | P14: - | Q14: Ⅱb | R14: 否 | S14: 要監視 | T14: 継続 | U14: 監視(日常)
C15: 2 | E15: 4 | F15: 6.98 | G15: 覆工 | H15: 横断目地（右側） | I15: 材質劣化 | J15: うき・はく離 | M15: 0.8m×0.05m | N15: 0.8m×0.05m | O15: Ⅱa | P15: - | Q15: Ⅱb | R15: 否 | S15: 要監視 | T15: 継続 | U15: 監視(日常) | Y15: 判定見直し
C16: 2 | E16: 5 | F16: 3.55 | G16: 路面 | H16: 監査歩路 | J16: その他 | M16: 5mm | N16: 5mm | O16: Ⅱb | R16: 否 | S16: 否 | U16: -
C17: 3 | E17: 1 | F17: 7 | G17: 覆工 | H17: 水平打ち継ぎ目（左側） | I17: 材質劣化 | J17: うき・はく離 | M17: 0.3m×6.3m | N17: 0.3m×6m | O17: Ⅱb | P17: - | Q17: Ⅱb | R17: 否 | S17: 要監視 | T17: 継続 | U17: 監視(日常) | Y17: 寸法変更
C18: 3 | E18: 2 | F18: 8.32 | G18: 覆工 | H18: アーチ（左側） | I18: 外力 | J18: 圧ざ、ひび割れ | M18: L=7.9m×W=0.9mm | N18: 幅0.9mm 長さ7.9m | O18: Ⅱb | P18: - | Q18: Ⅱb | R18: 否 | S18: 要監視 | T18: 継続 | U18: 監視(日常)
C19: 3 | E19: 3 | F19: 11.11 | G19: 覆工 | H19: アーチ（右側） | I19: 材質劣化 | J19: うき・はく離 | M19: 0.1m×0.1m | N19: 0.1m×0.1m | O19: Ⅱa | P19: - | Q19: Ⅲ | R19: 否 | S19: 要対策 | T19: 継続 | U19: 要対策 | Y19: 判定見直し
C20: 3 | E20: 4 | F20: 7.4 | G20: 覆工 | H20: アーチ（右側） | I20: 漏水 | J20: その他 | M20: - | N20: 8.4m×0.5m | O20: Ⅱa | P20: - | Q20: Ⅰ | R20: 否 | S20: 否 | T20: 未 | U20: -
C21: 3 | E21: 5 | F21: 9 | G21: 覆工 | H21: アーチ（全周） | I21: 漏水 | J21: 漏水 | M21: 8.4m×0.5m | N21: 8.4m×0.5m | O21: Ⅱa | P21: - | Q21: Ⅰ | R21: 否 | S21: 否 | T21: 済 | U21: 面導水工
C22: 3 | E22: 6 | F22: 9.37 | G22: 覆工 | H22: アーチ（全周） | I22: 漏水 | J22: 漏水 | M22: 0.7m×9.9m | N22: 0.7m×9.9m | O22: Ⅱb | P22: - | Q22: Ⅰ | R22: 否 | S22: 否 | T22: 済 | U22: 面導水工
C23: 3 | E23: 7 | F23: 7 | G23: 覆工 | H23: 水平打ち継ぎ目（右側） | I23: 材質劣化 | J23: うき・はく離 | M23: 0.3m×7.8m | N23: 0.3m×7.8m | O23: Ⅱb | P23: - | Q23: Ⅱb | R23: 否 | S23: 要監視 | T23: 継続 | U23: 監視(日常)
C24: 3 | E24: 8 | F24: 11.6 | G24: 覆工 | H24: アーチ（左側） | I24: 材質劣化 | J24: 圧ざ、ひび割れ | M24: 1.0ｍ×3.2ｍ | N24: - | O24: - | P24: - | Q24: Ⅱa | R24: 否 | S24: 要監視 | T24: 未 | U24: -
C25: 3 | E25: 9 | F25: 7 | G25: 覆工 | H25: 横断目地（右側） | I25: 材質劣化 | J25: うき・はく離 | M25: 0.1m×0.1m | N25: - | O25: - | P25: - | Q25: Ⅱb | R25: 否 | S25: 要監視 | T25: 未 | U25: -
C26: 4 | E26: 1 | F26: 16.24 | G26: 覆工 | H26: 側壁（左側） | I26: 漏水 | J26: その他 | M26: - | N26: 2.7m×1m | O26: Ⅱb | P26: - | Q26: Ⅰ | R26: 否 | S26: 否 | T26: 未 | U26: -
C27: 4 | E27: 2 | F27: 16.67 | G27: 覆工 | H27: アーチ（左側） | I27: 漏水 | J27: 漏水 | M27: 7.9m×0.5m | N27: 6.5m×0.6m(20mL/分) | O27: Ⅱa | P27: - | Q27: Ⅱb | R27: 否 | S27: 要監視 | T27: 継続 | U27: 監視(日常)
C28: 4 | E28: 3 | F28: 16.3 | G28: 覆工 | H28: 水平打ち継ぎ目（左側） | I28: 材質劣化 | J28: うき・はく離 | M28: 0.3m×6.3m | N28: 0.3m×6m | O28: Ⅱb | P28: - | Q28: Ⅱb | R28: 否 | S28: 要監視 | T28: 継続 | U28: 監視(日常) | Y28: 寸法変更
C29: 4 | E29: 4 | F29: 17.86 | G29: 覆工 | H29: アーチ（左側） | I29: 材質劣化 | J29: うき・はく離 | M29: 0.2m×0.3m | N29: 0.2m×0.3m | O29: Ⅱa | P29: - | Q29: Ⅰ | R29: 否 | S29: 否 | T29: 済 | U29: FRPネット工
C30: 4 | E30: 5 | F30: 17.85 | G30: 覆工 | H30: アーチ（左側） | I30: 材質劣化 | J30: うき・はく離 | M30: 0.2m×0.2m | N30: 0.2m×0.2m | O30: Ⅱa | P30: - | Q30: Ⅰ | R30: 否 | S30: 否 | T30: 済 | U30: FRPネット工
C31: 4 | E31: 6 | F31: 14.8 | G31: 覆工 | H31: 水平打ち継ぎ目（右側） | I31: 材質劣化 | J31: うき・はく離 | M31: 0.3m×7.8m | N31: 0.3m×7.8m | O31: Ⅱb | P31: - | Q31: Ⅱb | R31: 否 | S31: 要監視 | T31: 継続 | U31: 監視(日常)
C32: 4 | E32: 7 | F32: 14.86 | G32: 覆工 | H32: アーチ（右側） | I32: 材質劣化 | J32: 圧ざ、ひび割れ | M32: L=8.2m×W=0.8mm | N32: 幅0.8mm 長さ8.2m | O32: Ⅰ | P32: - | Q32: Ⅰ | R32: 否 | S32: 否 | T32: 未 | U32: - | Y32: 変状区分見直し
C33: 4 | E33: 8 | F33: 18.04 | G33: 覆工 | H33: アーチ（右側） | I33: 材質劣化 | J33: うき・はく離 | M33: 0.2m×0.3m | N33: 0.2m×0.3m | O33: Ⅱa | P33: - | Q33: Ⅰ | R33: 否 | S33: 否 | T33: 済 | U33: FRPネット工
C34: 4 | E34: 9 | F34: 22.6 | G34: 覆工 | H34: 横断目地（左側） | I34: 材質劣化 | J34: うき・はく離 | M34: 0.25m×0.05m | N34: - | O34: - | P34: - | Q34: Ⅲ | R34: 否 | S34: 要対策 | T34: 未 | U34: -
C35: 4 | E35: 10 | F35: 16.23 | G35: 覆工 | H35: アーチ（右側） | I35: 漏水 | J35: 漏水 | M35: 7.9m×1.7m | N35: - | O35: - | P35: - | Q35: Ⅱb | R35: 否 | S35: 要監視 | T35: 未 | U35: -
C36: 4 | E36: 11 | F36: 16.22 | G36: 覆工 | H36: 側壁（右側） | I36: 材質劣化 | J36: うき・はく離 | M36: 1.3m×0.1m | N36: 1.3m×0.1m | O36: Ⅱb | P36: - | Q36: Ⅱb | R36: 否 | S36: 要監視 | T36: 継続 | U36: 監視(日常)
C37: 4 | E37: 12 | F37: 20.71 | G37: 覆工 | H37: 側壁（右側） | I37: 材質劣化 | J37: うき・はく離 | M37: 0.8m×0.1m | N37: 0.8m×0.1m | O37: Ⅱb | P37: - | Q37: Ⅱb | R37: 否 | S37: 要監視 | T37: 継続 | U37: 監視(日常)
C38: 5 | E38: 1 | F38: 22.6 | G38: 覆工 | H38: 水平打ち継ぎ目（左側） | I38: 材質劣化 | J38: うき・はく離 | M38: 0.3m×7.8m | N38: 0.3m×7.8m | O38: Ⅱb | P38: - | Q38: Ⅱb | R38: 否 | S38: 要監視 | T38: 継続 | U38: 監視(日常)
C39: 5 | E39: 2 | F39: 22.6 | G39: 覆工 | H39: 水平打ち継ぎ目（右側） | I39: 材質劣化 | J39: うき・はく離 | M39: 0.3m×7.8m | N39: 0.3m×7.8m | O39: Ⅱb | P39: - | Q39: Ⅱb | R39: 否 | S39: 要監視 | T39: 継続 | U39: 監視(日常)
C40: 5 | E40: 3 | F40: 22.6 | G40: 覆工 | H40: アーチ（左側） | I40: 材質劣化 | J40: 圧ざ、ひび割れ | M40: 1.4ｍ×3.3ｍ | N40: - | O40: - | P40: - | Q40: Ⅱa | R40: 否 | S40: 要監視 | T40: 未 | U40: -
C41: 5 | E41: 4 | F41: 25.58 | G41: 覆工 | H41: アーチ（左側） | I41: 材質劣化 | J41: 圧ざ、ひび割れ | M41: 1.6m×4.8ｍ | N41: - | O41: - | P41: - | Q41: Ⅱa | R41: 否 | S41: 要監視 | T41: 未 | U41: -
C42: 5 | E42: 5 | F42: 22.6 | G42: 覆工 | H42: 横断目地（右側） | I42: 材質劣化 | J42: 圧ざ、ひび割れ | M42: 0.2m×0.05m | N42: - | O42: - | P42: - | Q42: Ⅱb | R42: 否 | S42: 要監視 | T42: 未 | U42: -
C43: ※ 対策区分（応急措置後）のⅡb～Ⅳについて記入すること。また、点検前に実施された措置によりⅠと判定された変状も記入すること。
C44: ※ 応急措置を実施しないで判定した変状の対策区分は、対策区分の応急措置後の欄に記入すること。
C45: ※ 変状の除去が不完全で、緊急対応が必要な場合は対応方針欄に記入すること。
C46: ※ １区間の覆工に複数の変状がある場合は、変状箇所毎に記入すること。
C47: ※ 措置・監視点検を行った場合には、措置履歴、特記事項に記録を残すこと。（実施年度も記載）
C48: ※ 行が不足する場合は、適時、表の行を増やすこと。

Sheet 様式C-1-1_002
B2: ■定期点検記録様式 全スパン定期点検結果総括表（トンネル本体工） 【様式C-1-1】
B3: フリガナ | F3: (ﾀｶｾﾄﾝﾈﾙ) | I3: 路線名 | K3: 国道376号線 | O3: 定期点検実施者 | P3: 基礎地盤コンサルタンツ株式会社 | T3: 定期点検年月日 | X3: 45944
B4: 名 称 | F4: 高瀬トンネル | I4: 管理者名 | K4: 周南土木建築事務所 | P4: 大谷 直毅
B5: 定期点検結果 | C5: 覆工 スパン 番号 | E5: 変状 番号 | F5: 距離 （m） | G5: 変状部位 | I5: 変 状 の 内 容 | O5: 前回定期点検時の状態 | P5: 今回定期点検結果 | T5: 措置履歴 | Y5: 対応方針 ・ 特記事項
O6: 44099
G7: 対象箇所 | H7: 部位区分 | I7: 変状区分 | J7: 変状種類 | M7: 変状の発生範囲の規模 | N7: 前回定期点検時の変状の発生範囲及び規模 | O7: 対策区分 | P7: 対策区分 | R7: 調査の 要否 | S7: 措置の 要否 | T7: 実施 | U7: 措置の実施状況
P8: 応急措置前 | Q8: 応急措置後
C9: 5 | E9: 6 | F9: 24.02 | G9: 覆工 | H9: 側壁（右側） | I9: 材質劣化 | J9: うき・はく離 | M9: 0.8m×0.1m | N9: 0.8m×0.1m | O9: Ⅱb | P9: - | Q9: Ⅱb | R9: 否 | S9: 要監視 | T9: 継続 | U9: 監視(日常)
C10: 5 | E10: 7 | F10: 28.57 | G10: 覆工 | H10: 側壁（右側） | I10: 材質劣化 | J10: うき・はく離 | M10: 1.3m×0.1m | N10: 1.3m×0.1m | O10: Ⅱb | P10: - | Q10: Ⅱb | R10: 否 | S10: 要監視 | T10: 継続 | U10: 監視(日常)
C11: 6 | E11: 1 | F11: 30.4 | G11: 覆工 | H11: 水平打ち継ぎ目（左側） | I11: 材質劣化 | J11: うき・はく離 | M11: 0.3m×7.8m | N11: 0.3m×7.8m | O11: Ⅱb | P11: - | Q11: Ⅱb | R11: 否 | S11: 要監視 | T11: 継続 | U11: 監視(日常)
C12: 6 | E12: 2 | F12: 34.18 | G12: 覆工 | H12: アーチ（左側） | I12: 材質劣化 | J12: 圧ざ、ひび割れ | M12: 1.4m×4.0m | N12: 幅1.2mm 長さ8.0m | O12: Ⅱb | P12: - | Q12: Ⅱb | R12: 否 | S12: 要監視 | T12: 継続 | U12: 監視(日常)
C13: 6 | E13: 3 | F13: 30.4 | G13: 覆工 | H13: 水平打ち継ぎ目（右側） | I13: 材質劣化 | J13: うき・はく離 | M13: 0.3m×7.8m | N13: 0.3m×7.8m | O13: Ⅱb | P13: - | Q13: Ⅱb | R13: 否 | S13: 要監視 | T13: 継続 | U13: 監視(日常)
C14: 6 | E14: 4 | F14: 36.25 | G14: 覆工 | H14: 側壁（右側） | I14: 漏水 | J14: 漏水 | M14: 2.8m×0.5m | N14: 2.3m×0.3m | O14: Ⅱb | P14: - | Q14: Ⅱb | R14: 否 | S14: 要監視 | T14: 継続 | U14: 監視(日常)
C15: 6 | E15: 5 | F15: 38.2 | G15: 覆工 | H15: 横断目地（右側） | I15: 材質劣化 | J15: うき・はく離 | M15: 0.25m×0.05m | N15: 0.25m×0.05m | O15: Ⅱb | P15: - | Q15: Ⅱb | R15: 否 | S15: 要監視 | T15: 継続 | U15: 監視(日常)
C16: 7 | E16: 1 | F16: 38.2 | G16: 覆工 | H16: 水平打ち継ぎ目（左側） | I16: 材質劣化 | J16: うき・はく離 | M16: 3.0m×7.7m | N16: 3m×7.7m | O16: Ⅱb | P16: - | Q16: Ⅱb | R16: 否 | S16: 要監視 | T16: 継続 | U16: 監視(日常)
C17: 7 | E17: 2 | F17: 41.3 | G17: 覆工 | H17: 側壁（左側） | I17: 漏水 | J17: 漏水 | M17: 2.5m×2.5m | N17: 2.7m×0.5m | O17: Ⅱb | P17: - | Q17: Ⅱb | R17: 否 | S17: 要監視 | T17: 継続 | U17: 監視(日常)
C18: 7 | E18: 3 | F18: 38.2 | G18: 覆工 | H18: 水平打ち継ぎ目（右側） | I18: 材質劣化 | J18: うき・はく離 | M18: 0.3m×7.7m | N18: 0.3m×7.7m | O18: Ⅱb | P18: - | Q18: Ⅱb | R18: 否 | S18: 要監視 | T18: 継続 | U18: 監視(日常)
C19: 7 | E19: 4 | F19: 45.9 | G19: 覆工 | H19: 横断目地（右側） | I19: 材質劣化 | J19: うき・はく離 | M19: 0.15m×0.05m | N19: 0.15m×0.05m | O19: Ⅱa | P19: - | Q19: Ⅲ | R19: 否 | S19: 要対策 | T19: 継続 | U19: 要対策 | Y19: 判定見直し
C20: 7 | E20: 5 | F20: 38.44 | G20: 路面 | H20: 車道 | J20: その他 | M20: 0.9m×0.2m | N20: 0.9m×0.2m | O20: Ⅰ | R20: 否 | S20: 否 | U20: -
C21: 7 | E21: 6 | F21: 39.74 | G21: 覆工 | H21: 側壁（左側） | I21: 材質劣化 | J21: うき・はく離 | M21: 2.1m×0.1m | N21: 2.1m×0.1m | O21: Ⅱb | P21: - | Q21: Ⅱb | R21: 否 | S21: 要監視 | T21: 継続 | U21: 監視(日常)
C22: 7 | E22: 7 | F22: 41.9 | G22: 覆工 | H22: アーチ（左側） | I22: 材質劣化 | J22: 圧ざ、ひび割れ | M22: 0.5ｍ×0.3ｍ | N22: - | O22: - | P22: - | Q22: Ⅱa | R22: 否 | S22: 要監視 | T22: 未 | U22: -
C23: 7 | E23: 8 | F23: 41.86 | G23: 覆工 | H23: アーチ（左側） | I23: 材質劣化 | J23: 圧ざ、ひび割れ | M23: 1.6ｍ×0.3ｍ | N23: - | O23: - | P23: - | Q23: Ⅱb | R23: 否 | S23: 要監視 | T23: 未 | U23: -
C24: 7 | E24: 9 | F24: 43.98 | G24: 覆工 | H24: アーチ（左側） | I24: 材質劣化 | J24: 圧ざ、ひび割れ | M24: 1.0ｍ×1.9ｍ | N24: - | O24: - | P24: - | Q24: Ⅱa | R24: 否 | S24: 要監視 | T24: 未 | U24: -
C25: 8 | E25: 1 | F25: 45.9 | G25: 覆工 | H25: 水平打ち継ぎ目（左側） | I25: 材質劣化 | J25: うき・はく離 | M25: 0.3m×7.7m | N25: 0.3m×7.7m | O25: Ⅱb | P25: - | Q25: Ⅱb | R25: 否 | S25: 要監視 | T25: 継続 | U25: 監視(日常)
C26: 8 | E26: 2 | F26: 53.57 | G26: 覆工 | H26: 横断目地（左側） | I26: 材質劣化 | J26: うき・はく離 | M26: 0.35m×0.05m | N26: 0.25m×0.05m | O26: Ⅱa | P26: - | Q26: Ⅱb | R26: 否 | S26: 要監視 | T26: 継続 | U26: 監視(日常) | Y26: 寸法変更 判定見直し
C27: 8 | E27: 3 | F27: 45.9 | G27: 覆工 | H27: 水平打ち継ぎ目（右側） | I27: 材質劣化 | J27: うき・はく離 | M27: 0.3m×7.7m | N27: 0.3m×7.7m | O27: Ⅱb | P27: - | Q27: Ⅱb | R27: 否 | S27: 要監視 | T27: 継続 | U27: 監視(日常)
C28: 9 | E28: 1 | F28: 53.6 | G28: 覆工 | H28: 水平打ち継ぎ目（左側） | I28: 材質劣化 | J28: うき・はく離 | M28: 0.3m×7.5m | N28: 0.3m×7.5m | O28: Ⅱb | P28: - | Q28: Ⅱb | R28: 否 | S28: 要監視 | T28: 継続 | U28: 監視(日常)
C29: 9 | E29: 2 | F29: 55.76 | G29: 覆工 | H29: アーチ（右側） | I29: 材質劣化 | J29: うき・はく離 | M29: 0.1m×0.1m | N29: 0.1m×0.1m | O29: Ⅱa | P29: - | Q29: Ⅲ | R29: 否 | S29: 要対策 | T29: 継続 | U29: 要対策 | Y29: 判定見直し
C30: 9 | E30: 3 | F30: 53.6 | G30: 覆工 | H30: 水平打ち継ぎ目（右側） | I30: 材質劣化 | J30: うき・はく離 | M30: 0.3m×7.7m | N30: 0.3m×7.7m | O30: Ⅱb | P30: - | Q30: Ⅱb | R30: 否 | S30: 要監視 | T30: 継続 | U30: 監視(日常)
C31: 9 | E31: 4 | F31: 60.54 | G31: 覆工 | H31: アーチ（天端） | I31: 漏水 | J31: 漏水 | M31: 8.1m×0.5m | N31: 8.1m×0.5m | O31: Ⅱa | P31: - | Q31: Ⅰ | R31: 否 | S31: 否 | T31: 済 | U31: 繊維シート工
C32: 9 | E32: 5 | F32: 58.56 | G32: 路面 | H32: 車道 | J32: その他 | M32: 0.7m×0.2m | N32: 0.7m×0.2m | O32: Ⅰ | R32: 否 | S32: 否 | U32: -
C33: 9 | E33: 6 | F33: 60.05 | G33: 覆工 | H33: 側壁（左側） | I33: 漏水 | J33: 漏水 | M33: 2.5m×1.4m | N33: - | O33: - | P33: - | Q33: Ⅱb | R33: 否 | S33: 要監視 | T33: 未 | U33: -
C34: 9 | E34: 7 | F34: 55.32 | G34: 覆工 | H34: 側壁（右側） | I34: 漏水 | J34: 漏水 | M34: 2.7m×0.6m | N34: - | O34: - | P34: - | Q34: Ⅱb | R34: 否 | S34: 要監視 | T34: 未 | U34: -
C35: 10 | E35: 1 | F35: 63.93 | G35: 覆工 | H35: アーチ（左側） | I35: 材質劣化 | J35: うき・はく離 | M35: 0.05m×0.05m | N35: 0.05m×0.05m | O35: Ⅱa | P35: - | Q35: Ⅲ | R35: 否 | S35: 要対策 | T35: 継続 | U35: 要対策 | Y35: 判定見直し
C36: 10 | E36: 2 | F36: 61.1 | G36: 覆工 | H36: 水平打ち継ぎ目（左側） | I36: 材質劣化 | J36: うき・はく離 | M36: 0.3m×7.4m | N36: 0.3m×7.4m | O36: Ⅱb | P36: - | Q36: Ⅱb | R36: 否 | S36: 要監視 | T36: 継続 | U36: 監視(日常)
C37: 10 | E37: 3 | F37: 62.14 | G37: 覆工 | H37: 側壁（左側） | I37: 漏水 | J37: 漏水 | M37: 3.8m×5.2m | N37: 3.3m×2.7m | O37: Ⅱb | P37: - | Q37: Ⅱb | R37: 否 | S37: 要監視 | T37: 継続 | U37: 監視(日常)
C38: 10 | E38: 4 | F38: 65.1 | G38: 覆工 | H38: アーチ（左側） | I38: 材質劣化 | J38: 鋼材腐食 | M38: 0.3m×0.4m | N38: 0.3m×0.4m | O38: Ⅱb | P38: - | Q38: Ⅱb | R38: 否 | S38: 要監視 | T38: 継続 | U38: 監視(日常)
C39: 10 | E39: 5 | F39: 61.15 | G39: 覆工 | H39: アーチ（右側） | I39: 漏水 | J39: その他 | M39: - | N39: 6.9m×0.5m | O39: Ⅱa | P39: - | Q39: Ⅰ | R39: 否 | S39: 否 | T39: 未 | U39: -
C40: 10 | E40: 6 | F40: 61.1 | G40: 覆工 | H40: 水平打ち継ぎ目（右側） | I40: 材質劣化 | J40: うき・はく離 | M40: 0.3m×7.4m | N40: 0.3m×7.4m | O40: Ⅱb | P40: - | Q40: Ⅱb | R40: 否 | S40: 要監視 | T40: 継続 | U40: 監視(日常)
C41: 10 | E41: 7 | F41: 68.47 | G41: 覆工 | H41: 横断目地（左側） | I41: 材質劣化 | J41: その他 | M41: 0.8m×0.05m | N41: 0.8m×0.05m | O41: Ⅱb | P41: - | Q41: Ⅰ | R41: 否 | S41: 否 | T41: 未 | U41: - | Y41: 判定見直し
C42: 10 | E42: 8 | F42: 68.5 | G42: 覆工 | H42: 横断目地（右側） | I42: 材質劣化 | J42: うき・はく離 | M42: 0.4m×0.05m | N42: 0.4m×0.05m | O42: Ⅱa | P42: - | Q42: Ⅲ | R42: 否 | S42: 要監視 | T42: 継続 | U42: 監視(重点)
C43: ※ 対策区分（応急措置後）のⅡb～Ⅳについて記入すること。また、点検前に実施された措置によりⅠと判定された変状も記入すること。
C44: ※ 応急措置を実施しないで判定した変状の対策区分は、対策区分の応急措置後の欄に記入すること。
C45: ※ 変状の除去が不完全で、緊急対応が必要な場合は対応方針欄に記入すること。
C46: ※ １区間の覆工に複数の変状がある場合は、変状箇所毎に記入すること。
C47: ※ 措置・監視点検を行った場合には、措置履歴、特記事項に記録を残すこと。（実施年度も記載）
C48: ※ 行が不足する場合は、適時、表の行を増やすこと。

Sheet 様式C-1-1_003
B2: ■定期点検記録様式 全スパン定期点検結果総括表（トンネル本体工） 【様式C-1-1】
B3: フリガナ | F3: (ﾀｶｾﾄﾝﾈﾙ) | I3: 路線名 | K3: 国道376号線 | O3: 定期点検実施者 | P3: 基礎地盤コンサルタンツ株式会社 | T3: 定期点検年月日 | X3: 45944
B4: 名 称 | F4: 高瀬トンネル | I4: 管理者名 | K4: 周南土木建築事務所 | P4: 大谷 直毅
B5: 定期点検結果 | C5: 覆工 スパン 番号 | E5: 変状 番号 | F5: 距離 （m） | G5: 変状部位 | I5: 変 状 の 内 容 | O5: 前回定期点検時の状態 | P5: 今回定期点検結果 | T5: 措置履歴 | Y5: 対応方針 ・ 特記事項
O6: 44099
G7: 対象箇所 | H7: 部位区分 | I7: 変状区分 | J7: 変状種類 | M7: 変状の発生範囲の規模 | N7: 前回定期点検時の変状の発生範囲及び規模 | O7: 対策区分 | P7: 対策区分 | R7: 調査の 要否 | S7: 措置の 要否 | T7: 実施 | U7: 措置の実施状況
P8: 応急措置前 | Q8: 応急措置後
C9: 10 | E9: 9 | F9: 65.79 | G9: 覆工 | H9: アーチ（左側） | I9: 材質劣化 | J9: 鋼材腐食 | M9: 0.35m×0.25m | N9: 0.35m×0.25m | O9: Ⅱb | P9: - | Q9: Ⅱb | R9: 否 | S9: 要監視 | T9: 継続 | U9: 監視(日常)
C10: 10 | E10: 10 | F10: 64.09 | G10: 覆工 | H10: アーチ（天端） | I10: 材質劣化 | J10: 圧ざ、ひび割れ | M10: 5.0m×4.4m | N10: - | O10: - | P10: - | Q10: Ⅱb | R10: 否 | S10: 要監視 | T10: 未 | U10: -
C11: 10 | E11: 11 | F11: 62.46 | G11: 覆工 | H11: 側壁（右側） | I11: 漏水 | J11: 漏水 | M11: 2.9m×1.6m | N11: - | O11: - | P11: - | Q11: Ⅱb | R11: 否 | S11: 要監視 | T11: 未 | U11: -
C12: 10 | E12: 12 | F12: 65.18 | G12: 覆工 | H12: 側壁（右側） | I12: 漏水 | J12: 漏水 | M12: 2.7m×1.9m | N12: - | O12: - | P12: - | Q12: Ⅱb | R12: 否 | S12: 要監視 | T12: 未 | U12: -
C13: 11 | E13: 1 | F13: 69.73 | G13: 覆工 | H13: 側壁（左側） | I13: 漏水 | J13: 漏水 | M13: 2.7m×0.5m | N13: 2.7m×0.5m | O13: Ⅱb | P13: - | Q13: Ⅱb | R13: 否 | S13: 要監視 | T13: 継続 | U13: 監視(日常)
C14: 11 | E14: 2 | F14: 68.5 | G14: 覆工 | H14: 水平打ち継ぎ目（左側） | I14: 材質劣化 | J14: うき・はく離 | M14: 0.3m×7.5m | N14: 0.3m×7.5m | O14: Ⅱb | P14: - | Q14: Ⅱb | R14: 否 | S14: 要監視 | T14: 継続 | U14: 監視(日常)
C15: 11 | E15: 3 | F15: 75.97 | G15: 覆工 | H15: 横断目地（天端） | I15: 材質劣化 | J15: その他 | M15: 3.2m×0.05m | N15: 3.2m×0.05m | O15: Ⅱb | P15: - | Q15: Ⅰ | R15: 否 | S15: 否 | T15: 未 | U15: - | Y15: 判定見直し
C16: 11 | E16: 4 | F16: 70.67 | G16: 覆工 | H16: アーチ（右側） | I16: 材質劣化 | J16: うき・はく離 | M16: 0.1m×0.1m | N16: 0.1m×0.1m | O16: Ⅱa | P16: - | Q16: Ⅲ | R16: 否 | S16: 要対策 | T16: 継続 | U16: 要対策 | Y16: 判定見直し
C17: 11 | E17: 5 | F17: 68.5 | G17: 覆工 | H17: 水平打ち継ぎ目（右側） | I17: 材質劣化 | J17: うき・はく離 | M17: 0.3m×7.5m | N17: 0.3m×7.5m | O17: Ⅱb | P17: - | Q17: Ⅱb | R17: 否 | S17: 要監視 | T17: 継続 | U17: 監視(日常)
C18: 11 | E18: 6 | F18: 69.8 | G18: 覆工 | H18: 側壁（左側） | I18: 材質劣化 | J18: うき・はく離 | M18: 0.2m×0.1m | N18: 0.2m×0.1m | O18: Ⅱb | P18: - | Q18: Ⅱb | R18: 否 | S18: 要監視 | T18: 継続 | U18: 監視(日常)
C19: 12 | E19: 1 | F19: 76 | G19: 覆工 | H19: 水平打ち継ぎ目（左側） | I19: 材質劣化 | J19: うき・はく離 | M19: 0.3m×6.5m | N19: 0.3m×6.5m | O19: Ⅱb | P19: - | Q19: Ⅱb | R19: 否 | S19: 要監視 | T19: 継続 | U19: 監視(日常)
C20: 12 | E20: 2 | F20: 76 | G20: 覆工 | H20: 水平打ち継ぎ目（右側） | I20: 材質劣化 | J20: うき・はく離 | M20: 0.3m×6.5m | N20: 0.3m×6.5m | O20: Ⅱb | P20: - | Q20: Ⅱb | R20: 否 | S20: 要監視 | T20: 継続 | U20: 監視(日常)
C21: 12 | E21: 3 | F21: 77.38 | G21: 覆工 | H21: 側壁（左側） | I21: 材質劣化 | J21: うき・はく離 | M21: 0.2m×0.05m | N21: 0.2m×0.05m | O21: Ⅱb | P21: - | Q21: Ⅱb | R21: 否 | S21: 要監視 | T21: 継続 | U21: 監視(日常)
C22: 12 | E22: 4 | F22: 78.91 | G22: 覆工 | H22: アーチ（左側） | I22: 材質劣化 | J22: 圧ざ、ひび割れ | M22: 0.5m×0.3m | N22: - | O22: - | P22: - | Q22: Ⅱb | R22: 否 | S22: 要監視 | T22: 未 | U22: -
C23: 12 | E23: 5 | F23: 79.54 | G23: 覆工 | H23: アーチ（右側） | I23: 材質劣化 | J23: 圧ざ、ひび割れ | M23: 0.9m×1.1m | N23: - | O23: - | P23: - | Q23: Ⅱa | R23: 否 | S23: 要監視 | T23: 未 | U23: -
C24: 13 | E24: 1 | F24: 82.5 | G24: 覆工 | H24: 水平打ち継ぎ目（左側） | I24: 材質劣化 | J24: うき・はく離 | M24: 0.15m×2.9m | N24: 0.15m×2.4m | O24: Ⅱb | P24: - | Q24: Ⅱb | R24: 否 | S24: 要監視 | T24: 継続 | U24: 監視(日常) | Y24: 寸法変更
C25: 13 | E25: 2 | F25: 83.85 | G25: 覆工 | H25: アーチ（右側） | I25: 漏水 | J25: その他 | M25: - | N25: 7.8m×0.5m | O25: Ⅱa | P25: - | Q25: Ⅰ | R25: 否 | S25: 否 | T25: 未 | U25: -
C26: 13 | E26: 3 | F26: 82.5 | G26: 覆工 | H26: 水平打ち継ぎ目（右側） | I26: 材質劣化 | J26: うき・はく離 | M26: 0.3m×2.9m | N26: 0.3m×2.9m | O26: Ⅱb | P26: - | Q26: Ⅱb | R26: 否 | S26: 要監視 | T26: 継続 | U26: 監視(日常)
C27: 13 | E27: 4 | F27: 82.5 | G27: 覆工 | H27: 水平打ち継ぎ目（右側） | I27: 材質劣化 | J27: うき・はく離 | M27: 0.15m×0.05m | N27: 0.15m×0.05m | O27: Ⅱb | P27: - | Q27: Ⅱb | R27: 否 | S27: 要監視 | T27: 継続 | U27: 監視(日常)
C43: ※ 対策区分（応急措置後）のⅡb～Ⅳについて記入すること。また、点検前に実施された措置によりⅠと判定された変状も記入すること。
C44: ※ 応急措置を実施しないで判定した変状の対策区分は、対策区分の応急措置後の欄に記入すること。
C45: ※ 変状の除去が不完全で、緊急対応が必要な場合は対応方針欄に記入すること。
C46: ※ １区間の覆工に複数の変状がある場合は、変状箇所毎に記入すること。
C47: ※ 措置・監視点検を行った場合には、措置履歴、特記事項に記録を残すこと。（実施年度も記載）
C48: ※ 行が不足する場合は、適時、表の行を増やすこと。

Sheet 様式C-1-2
B2: ■定期点検記録様式 定期点検結果総括表（トンネル内附属物等の取付状態） 【様式C-1-2】
B3: フリガナ | F3: (ﾀｶｾﾄﾝﾈﾙ) | J3: 路線名 | K3: 国道376号線 | M3: 定期点検実施者 | O3: 基礎地盤コンサルタンツ株式会社 | S3: 定期点検年月日 | W3: 45944
B4: 名 称 | F4: 高瀬トンネル | J4: 管理者名 | K4: 周南土木建築事務所 | O4: 大谷 直毅
B5: 定期点検結果 | C5: 覆工 スパン 番号 | E5: 異常 番号 | F5: 距離 （m） | G5: 異常部位 | J5: 異 常 の 内 容 | N5: 定期点検結果 | P5: 応急措置の 実施状況 | V5: 対応方針 ・ 特記事項
G6: 対象箇所 | I6: 部位区分 | J6: 異常種類 | L6: 異常の発生範囲の規模 | N6: 異常判定区分 | P6: 実施 | Q6: 応急措置の内容
N7: 応急措置前 | O7: 応急措置後
C42: ※ 異常判定区分×について記入すること。また、応急措置により○と判定された箇所も記入すること。
C43: ※ 応急措置を実施しないで判定した箇所の異常判定区分は、異常判定区分の応急措置後の欄に記入すること。
C44: ※ 異常の除去が不完全で、緊急対応が必要な場合は対応方針欄に記入すること。
C45: ※ １スパンの覆工に複数の異常がある場合は、異常箇所毎に記入すること。
C46: ※ 行が不足する場合は、適時、表の行を増やすこと。

Sheet 様式C-2
B2: ■定期点検記録様式 状態の把握の内容 【様式C-2】
B3: フリガナ | E3: (ﾀｶｾﾄﾝﾈﾙ) | H3: 路線名 | J3: 国道376号線 | M3: 定期点検実施者 | Q3: 基礎地盤コンサルタンツ株式会社 | U3: 定期点検年月日 | X3: 45944
B4: 名 称 | E4: 高瀬トンネル | H4: 管理者名 | J4: 周南土木建築事務所 | Q4: 大谷 直毅
B5: 状態の把握の内容 | C5: 覆工スパン 番号 | E5: 変状 番号 | F5: 状態の把握の内容
F6: 年月日 | H6: 内容 | O6: 結果 | Y6: 対策区分の 判定
B22: 注）状態の把握において、微破壊・非破壊検査や各種試験等を実施した場合について記載する。
B23: ※ 行が不足する場合は、適時、表の行を増やすこと。

Sheet 様式D-1-1_001
B2: ■定期点検記録様式 変状写真台帳【様式D-1-1】 | R2: 施設ID | T2: 34.16769,131.77531
B3: フリガナ | E3: (ﾀｶｾﾄﾝﾈﾙ) | H3: 路 線 名 | J3: 国道376号線 | M3: 定期点検実施者 | P3: 基礎地盤コンサルタンツ株式会社 | S3: 定期点検年月日 | U3: 45944
B4: 名 称 | E4: 高瀬トンネル | H4: 管理者名 | J4: 周南土木建築事務所 | P4: 大谷 直毅
B5: 写真 番号 | C5: 覆工スパン 番号 | E5: 1 | M5: 写真 番号 | N5: 覆工スパン 番号 | P5: 1
C6: 変状番号 | E6: 1 | N6: 変状番号 | P6: 2
B7: 変状 部位 | C7: 対象箇所 | E7: 覆工 | M7: 変状 部位 | N7: 対象箇所 | P7: 覆工
C8: 部位区分 | E8: 水平打ち継ぎ目（左側） | N8: 部位区分 | P8: アーチ（右側）
B9: 変状種類 | E9: うき・はく離 | M9: 変状種類 | P9: その他
B10: 対策 区分 | C10: 変状区分 | E10: 材質劣化 | M10: 対策 区分 | N10: 変状区分 | P10: 漏水
C11: 応急措置前 | E11: - | N11: 応急措置前 | P11: -
C12: 応急措置後 | E12: Ⅱb | N12: 応急措置後 | P12: Ⅰ
B13: 変状の発生範囲及び規模 | E13: 0.15m×0.4m | H13: 前回変状の発生範囲及び規模 | J13: うき 0.15m×0.4m | M13: 変状の発生範囲及び規模 | P13: - | S13: 前回変状の発生範囲及び規模 | U13: 滴水 8.6m×0.5m
B14: 対策履歴 | E14: - | H14: 実施状況（実施日） | J14: - | M14: 対策履歴 | P14: - | S14: 実施状況（実施日） | U14: -
B15: メモ | E15: 水平打ち継ぎ目のうき 経過観察が望まれる | M15: メモ | P15: アーチの遊離石灰 今回点検時漏水は確認されなかった
B16: 写真 番号 | C16: 覆工スパン 番号 | E16: 1 | M16: 写真 番号 | N16: 覆工スパン 番号 | P16: 2
C17: 変状番号 | E17: 3 | N17: 変状番号 | P17: 1
B18: 変状 部位 | C18: 対象箇所 | E18: 覆工 | M18: 変状 部位 | N18: 対象箇所 | P18: 覆工
C19: 部位区分 | E19: アーチ（右側） | N19: 部位区分 | P19: 水平打ち継ぎ目（左側）
B20: 変状種類 | E20: その他 | M20: 変状種類 | P20: うき・はく離
B21: 対策 区分 | C21: 変状区分 | E21: 材質劣化 | M21: 対策 区分 | N21: 変状区分 | P21: 材質劣化
C22: 応急措置前 | E22: - | N22: 応急措置前 | P22: -
C23: 応急措置後 | E23: Ⅰ | N23: 応急措置後 | P23: Ⅱb
B24: 変状の発生範囲及び規模 | E24: 0.2m×0.2m | H24: 前回変状の発生範囲及び規模 | J24: 豆板 0.2m×0.2m | M24: 変状の発生範囲及び規模 | P24: 0.3m×3.3m | S24: 前回変状の発生範囲及び規模 | U24: うき 0.3m×3.3m
B25: 対策履歴 | E25: - | H25: 実施状況（実施日） | J25: - | M25: 対策履歴 | P25: - | S25: 実施状況（実施日） | U25: -
B26: メモ | E26: アーチの骨材露出 骨材落下の可能性は低いことから判定見直し | M26: メモ | P26: 水平打ち継ぎ目のうき 経過観察が望まれる
C27: ※ 応急措置後の対策区分について添付すること。また、点検前に 実施された措置によりⅠと判定された箇所も添付すること。 | N27: ※ 変状の発生範囲の規模とは、対策を行う際に参考となる変状の長さや面積をいう。
N28: ※ 応急措置を実施しないで決定した変状の対策区分は、対策区分の応急措置後の欄に記入すること。
C29: ※ たたき落としを実施した場合は、実施後の写真を添付すること。 | N29: ※ 変状の発生範囲の規模は、面積・寸法を記載すること。(ひび割れ幅のみmmとし、その他をm表記とする)
C30: ※ 附属物の取付状態に関する異常写真は別途、任意の書式でとりまとめること。 | N30: ※ 構造用鋼材以外の異物に伴ううき・はく離については、メモ欄に異物の概要を記入すること。

Sheet 様式D-1-1_002
B2: ■定期点検記録様式 変状写真台帳【様式D-1-1】 | R2: 施設ID | T2: 34.16769,131.77531
B3: フリガナ | E3: (ﾀｶｾﾄﾝﾈﾙ) | H3: 路 線 名 | J3: 国道376号線 | M3: 定期点検実施者 | P3: 基礎地盤コンサルタンツ株式会社 | S3: 定期点検年月日 | U3: 45944
B4: 名 称 | E4: 高瀬トンネル | H4: 管理者名 | J4: 周南土木建築事務所 | P4: 大谷 直毅
B5: 写真 番号 | C5: 覆工スパン 番号 | E5: 2 | M5: 写真 番号 | N5: 覆工スパン 番号 | P5: 2
C6: 変状番号 | E6: 2 | N6: 変状番号 | P6: 3
B7: 変状 部位 | C7: 対象箇所 | E7: 覆工 | M7: 変状 部位 | N7: 対象箇所 | P7: 覆工
C8: 部位区分 | E8: アーチ（右側） | N8: 部位区分 | P8: 水平打ち継ぎ目（右側）
B9: 変状種類 | E9: 鋼材腐食 | M9: 変状種類 | P9: うき・はく離
B10: 対策 区分 | C10: 変状区分 | E10: 材質劣化 | M10: 対策 区分 | N10: 変状区分 | P10: 材質劣化
C11: 応急措置前 | E11: - | N11: 応急措置前 | P11: -
C12: 応急措置後 | E12: Ⅱb | N12: 応急措置後 | P12: Ⅱb
B13: 変状の発生範囲及び規模 | E13: 0.1m×0.2m | H13: 前回変状の発生範囲及び規模 | J13: 鋼材露出(はく落) 0.1m×0.2m | M13: 変状の発生範囲及び規模 | P13: 0.3m×3.3m | S13: 前回変状の発生範囲及び規模 | U13: うき 0.3m×3.3m
B14: 対策履歴 | E14: - | H14: 実施状況（実施日） | J14: - | M14: 対策履歴 | P14: - | S14: 実施状況（実施日） | U14: -
B15: メモ | E15: アーチの鋼材腐食 経過観察が望まれる | M15: メモ | P15: 水平打ち継ぎ目のうき 経過観察が望まれる
B16: 写真 番号 | C16: 覆工スパン 番号 | E16: 2 | M16: 写真 番号 | N16: 覆工スパン 番号 | P16: 2
C17: 変状番号 | E17: 4 | N17: 変状番号 | P17: 5
B18: 変状 部位 | C18: 対象箇所 | E18: 覆工 | M18: 変状 部位 | N18: 対象箇所 | P18: 路面
C19: 部位区分 | E19: 横断目地（右側） | N19: 部位区分 | P19: 監査歩路
B20: 変状種類 | E20: うき・はく離 | M20: 変状種類 | P20: その他
B21: 対策 区分 | C21: 変状区分 | E21: 材質劣化 | M21: 対策 区分 | N21: 変状区分
C22: 応急措置前 | E22: - | N22: 応急措置前
C23: 応急措置後 | E23: Ⅱb | N23: 応急措置後
B24: 変状の発生範囲及び規模 | E24: 0.8m×0.05m | H24: 前回変状の発生範囲及び規模 | J24: うき 0.8m×0.05m | M24: 変状の発生範囲及び規模 | P24: 5mm | S24: 前回変状の発生範囲及び規模 | U24: 段差 5mm
B25: 対策履歴 | E25: - | H25: 実施状況（実施日） | J25: - | M25: 対策履歴 | P25: - | S25: 実施状況（実施日） | U25: -
B26: メモ | E26: 横断目地のうき 経過観察が望まれる | M26: メモ | P26: 監査歩路の段差
C27: ※ 応急措置後の対策区分について添付すること。また、点検前に 実施された措置によりⅠと判定された箇所も添付すること。 | N27: ※ 変状の発生範囲の規模とは、対策を行う際に参考となる変状の長さや面積をいう。
N28: ※ 応急措置を実施しないで決定した変状の対策区分は、対策区分の応急措置後の欄に記入すること。
C29: ※ たたき落としを実施した場合は、実施後の写真を添付すること。 | N29: ※ 変状の発生範囲の規模は、面積・寸法を記載すること。(ひび割れ幅のみmmとし、その他をm表記とする)
C30: ※ 附属物の取付状態に関する異常写真は別途、任意の書式でとりまとめること。 | N30: ※ 構造用鋼材以外の異物に伴ううき・はく離については、メモ欄に異物の概要を記入すること。

Sheet 様式D-1-1_003
B2: ■定期点検記録様式 変状写真台帳【様式D-1-1】 | R2: 施設ID | T2: 34.16769,131.77531
B3: フリガナ | E3: (ﾀｶｾﾄﾝﾈﾙ) | H3: 路 線 名 | J3: 国道376号線 | M3: 定期点検実施者 | P3: 基礎地盤コンサルタンツ株式会社 | S3: 定期点検年月日 | U3: 45944
B4: 名 称 | E4: 高瀬トンネル | H4: 管理者名 | J4: 周南土木建築事務所 | P4: 大谷 直毅
B5: 写真 番号 | C5: 覆工スパン 番号 | E5: 3 | M5: 写真 番号 | N5: 覆工スパン 番号 | P5: 3
C6: 変状番号 | E6: 1 | N6: 変状番号 | P6: 2
B7: 変状 部位 | C7: 対象箇所 | E7: 覆工 | M7: 変状 部位 | N7: 対象箇所 | P7: 覆工
C8: 部位区分 | E8: 水平打ち継ぎ目（左側） | N8: 部位区分 | P8: アーチ（左側）
B9: 変状種類 | E9: うき・はく離 | M9: 変状種類 | P9: 圧ざ、ひび割れ
B10: 対策 区分 | C10: 変状区分 | E10: 材質劣化 | M10: 対策 区分 | N10: 変状区分 | P10: 外力
C11: 応急措置前 | E11: - | N11: 応急措置前 | P11: -
C12: 応急措置後 | E12: Ⅱb | N12: 応急措置後 | P12: Ⅱb
B13: 変状の発生範囲及び規模 | E13: 0.3m×6.3m | H13: 前回変状の発生範囲及び規模 | J13: うき 0.3m×6m | M13: 変状の発生範囲及び規模 | P13: L=7.9m×W=0.9mm | S13: 前回変状の発生範囲及び規模 | U13: ひび割れ 幅0.9mm 長さ7.9m
B14: 対策履歴 | E14: - | H14: 実施状況（実施日） | J14: - | M14: 対策履歴 | P14: - | S14: 実施状況（実施日） | U14: -
B15: メモ | E15: 水平打ち継ぎ目のうき 経過観察が望まれる | M15: メモ | P15: アーチのひび割れ 経過観察が望まれる
B16: 写真 番号 | C16: 覆工スパン 番号 | E16: 3 | M16: 写真 番号 | N16: 覆工スパン 番号 | P16: 3
C17: 変状番号 | E17: 3 | N17: 変状番号 | P17: 4
B18: 変状 部位 | C18: 対象箇所 | E18: 覆工 | M18: 変状 部位 | N18: 対象箇所 | P18: 覆工
C19: 部位区分 | E19: アーチ（右側） | N19: 部位区分 | P19: アーチ（右側）
B20: 変状種類 | E20: うき・はく離 | M20: 変状種類 | P20: その他
B21: 対策 区分 | C21: 変状区分 | E21: 材質劣化 | M21: 対策 区分 | N21: 変状区分 | P21: 漏水
C22: 応急措置前 | E22: - | N22: 応急措置前 | P22: -
C23: 応急措置後 | E23: Ⅲ | N23: 応急措置後 | P23: Ⅰ
B24: 変状の発生範囲及び規模 | E24: 0.1m×0.1m | H24: 前回変状の発生範囲及び規模 | J24: うき 0.1m×0.1m | M24: 変状の発生範囲及び規模 | P24: - | S24: 前回変状の発生範囲及び規模 | U24: 滴水 8.4m×0.5m
B25: 対策履歴 | E25: - | H25: 実施状況（実施日） | J25: - | M25: 対策履歴 | P25: - | S25: 実施状況（実施日） | U25: -
B26: メモ | E26: アーチの補修跡のうき 早急な対策が望まれる | M26: メモ | P26: アーチの遊離石灰 今回点検時漏水は確認されなかった
C27: ※ 応急措置後の対策区分について添付すること。また、点検前に 実施された措置によりⅠと判定された箇所も添付すること。 | N27: ※ 変状の発生範囲の規模とは、対策を行う際に参考となる変状の長さや面積をいう。
N28: ※ 応急措置を実施しないで決定した変状の対策区分は、対策区分の応急措置後の欄に記入すること。
C29: ※ たたき落としを実施した場合は、実施後の写真を添付すること。 | N29: ※ 変状の発生範囲の規模は、面積・寸法を記載すること。(ひび割れ幅のみmmとし、その他をm表記とする)
C30: ※ 附属物の取付状態に関する異常写真は別途、任意の書式でとりまとめること。 | N30: ※ 構造用鋼材以外の異物に伴ううき・はく離については、メモ欄に異物の概要を記入すること。

Sheet 様式D-1-1_004
B2: ■定期点検記録様式 変状写真台帳【様式D-1-1】 | R2: 施設ID | T2: 34.16769,131.77531
B3: フリガナ | E3: (ﾀｶｾﾄﾝﾈﾙ) | H3: 路 線 名 | J3: 国道376号線 | M3: 定期点検実施者 | P3: 基礎地盤コンサルタンツ株式会社 | S3: 定期点検年月日 | U3: 45944
B4: 名 称 | E4: 高瀬トンネル | H4: 管理者名 | J4: 周南土木建築事務所 | P4: 大谷 直毅
B5: 写真 番号 | C5: 覆工スパン 番号 | E5: 3 | M5: 写真 番号 | N5: 覆工スパン 番号 | P5: 3
C6: 変状番号 | E6: 5 | N6: 変状番号 | P6: 6
B7: 変状 部位 | C7: 対象箇所 | E7: 覆工 | M7: 変状 部位 | N7: 対象箇所 | P7: 覆工
C8: 部位区分 | E8: アーチ（全周） | N8: 部位区分 | P8: アーチ（全周）
B9: 変状種類 | E9: 漏水 | M9: 変状種類 | P9: 漏水
B10: 対策 区分 | C10: 変状区分 | E10: 漏水 | M10: 対策 区分 | N10: 変状区分 | P10: 漏水
C11: 応急措置前 | E11: - | N11: 応急措置前 | P11: -
C12: 応急措置後 | E12: Ⅰ | N12: 応急措置後 | P12: Ⅰ
B13: 変状の発生範囲及び規模 | E13: 8.4m×0.5m | H13: 前回変状の発生範囲及び規模 | J13: 滴水 8.4m×0.5m | M13: 変状の発生範囲及び規模 | P13: 0.7m×9.9m | S13: 前回変状の発生範囲及び規模 | U13: にじみ 0.7m×9.9m
B14: 対策履歴 | E14: 面導水工 | H14: 実施状況（実施日） | J14: - | M14: 対策履歴 | P14: 面導水工 | S14: 実施状況（実施日） | U14: -
B15: メモ | E15: 面導水工により補修済 | M15: メモ | P15: 面導水工により補修済
B16: 写真 番号 | C16: 覆工スパン 番号 | E16: 3 | M16: 写真 番号 | N16: 覆工スパン 番号 | P16: 3
C17: 変状番号 | E17: 7 | N17: 変状番号 | P17: 8
B18: 変状 部位 | C18: 対象箇所 | E18: 覆工 | M18: 変状 部位 | N18: 対象箇所 | P18: 覆工
C19: 部位区分 | E19: 水平打ち継ぎ目（右側） | N19: 部位区分 | P19: アーチ（左側）
B20: 変状種類 | E20: うき・はく離 | M20: 変状種類 | P20: 圧ざ、ひび割れ
B21: 対策 区分 | C21: 変状区分 | E21: 材質劣化 | M21: 対策 区分 | N21: 変状区分 | P21: 材質劣化
C22: 応急措置前 | E22: - | N22: 応急措置前 | P22: -
C23: 応急措置後 | E23: Ⅱb | N23: 応急措置後 | P23: Ⅱa
B24: 変状の発生範囲及び規模 | E24: 0.3m×7.8m | H24: 前回変状の発生範囲及び規模 | J24: うき 0.3m×7.8m | M24: 変状の発生範囲及び規模 | P24: 1.0ｍ×3.2ｍ | S24: 前回変状の発生範囲及び規模 | U24: 新規
B25: 対策履歴 | E25: - | H25: 実施状況（実施日） | J25: - | M25: 対策履歴 | P25: - | S25: 実施状況（実施日） | U25: -
B26: メモ | E26: 水平打ち継ぎ目のうき 経過観察が望まれる | M26: メモ | P26: アーチの規模の大きなブロック化 打音異常なし 計画的な対策が望まれる
C27: ※ 応急措置後の対策区分について添付すること。また、点検前に 実施された措置によりⅠと判定された箇所も添付すること。 | N27: ※ 変状の発生範囲の規模とは、対策を行う際に参考となる変状の長さや面積をいう。
N28: ※ 応急措置を実施しないで決定した変状の対策区分は、対策区分の応急措置後の欄に記入すること。
C29: ※ たたき落としを実施した場合は、実施後の写真を添付すること。 | N29: ※ 変状の発生範囲の規模は、面積・寸法を記載すること。(ひび割れ幅のみmmとし、その他をm表記とする)
C30: ※ 附属物の取付状態に関する異常写真は別途、任意の書式でとりまとめること。 | N30: ※ 構造用鋼材以外の異物に伴ううき・はく離については、メモ欄に異物の概要を記入すること。

Sheet 様式D-1-1_005
B2: ■定期点検記録様式 変状写真台帳【様式D-1-1】 | R2: 施設ID | T2: 34.16769,131.77531
B3: フリガナ | E3: (ﾀｶｾﾄﾝﾈﾙ) | H3: 路 線 名 | J3: 国道376号線 | M3: 定期点検実施者 | P3: 基礎地盤コンサルタンツ株式会社 | S3: 定期点検年月日 | U3: 45944
B4: 名 称 | E4: 高瀬トンネル | H4: 管理者名 | J4: 周南土木建築事務所 | P4: 大谷 直毅
B5: 写真 番号 | C5: 覆工スパン 番号 | E5: 3 | M5: 写真 番号 | N5: 覆工スパン 番号 | P5: 4
C6: 変状番号 | E6: 9 | N6: 変状番号 | P6: 1
B7: 変状 部位 | C7: 対象箇所 | E7: 覆工 | M7: 変状 部位 | N7: 対象箇所 | P7: 覆工
C8: 部位区分 | E8: 横断目地（右側） | N8: 部位区分 | P8: 側壁（左側）
B9: 変状種類 | E9: うき・はく離 | M9: 変状種類 | P9: その他
B10: 対策 区分 | C10: 変状区分 | E10: 材質劣化 | M10: 対策 区分 | N10: 変状区分 | P10: 漏水
C11: 応急措置前 | E11: - | N11: 応急措置前 | P11: -
C12: 応急措置後 | E12: Ⅱb | N12: 応急措置後 | P12: Ⅰ
B13: 変状の発生範囲及び規模 | E13: 0.1m×0.1m | H13: 前回変状の発生範囲及び規模 | J13: 新規 | M13: 変状の発生範囲及び規模 | P13: - | S13: 前回変状の発生範囲及び規模 | U13: にじみ 2.7m×1m
B14: 対策履歴 | E14: - | H14: 実施状況（実施日） | J14: - | M14: 対策履歴 | P14: - | S14: 実施状況（実施日） | U14: -
B15: メモ | E15: 横断目地のうき 経過観察が望まれる | M15: メモ | P15: 側壁の遊離石灰 今回点検時漏水は確認されなかった
B16: 写真 番号 | C16: 覆工スパン 番号 | E16: 4 | M16: 写真 番号 | N16: 覆工スパン 番号 | P16: 4
C17: 変状番号 | E17: 2 | N17: 変状番号 | P17: 3
B18: 変状 部位 | C18: 対象箇所 | E18: 覆工 | M18: 変状 部位 | N18: 対象箇所 | P18: 覆工
C19: 部位区分 | E19: アーチ（左側） | N19: 部位区分 | P19: 水平打ち継ぎ目（左側）
B20: 変状種類 | E20: 漏水 | M20: 変状種類 | P20: うき・はく離
B21: 対策 区分 | C21: 変状区分 | E21: 漏水 | M21: 対策 区分 | N21: 変状区分 | P21: 材質劣化
C22: 応急措置前 | E22: - | N22: 応急措置前 | P22: -
C23: 応急措置後 | E23: Ⅱb | N23: 応急措置後 | P23: Ⅱb
B24: 変状の発生範囲及び規模 | E24: 7.9m×0.5m | H24: 前回変状の発生範囲及び規模 | J24: 流下 6.5m×0.6m(20mL/分) | M24: 変状の発生範囲及び規模 | P24: 0.3m×6.3m | S24: 前回変状の発生範囲及び規模 | U24: うき 0.3m×6m
B25: 対策履歴 | E25: - | H25: 実施状況（実施日） | J25: - | M25: 対策履歴 | P25: - | S25: 実施状況（実施日） | U25: -
B26: メモ | E26: アーチのにじみ 経過観察が望まれる | M26: メモ | P26: 水平打ち継ぎ目のうき 経過観察が望まれる
C27: ※ 応急措置後の対策区分について添付すること。また、点検前に 実施された措置によりⅠと判定された箇所も添付すること。 | N27: ※ 変状の発生範囲の規模とは、対策を行う際に参考となる変状の長さや面積をいう。
N28: ※ 応急措置を実施しないで決定した変状の対策区分は、対策区分の応急措置後の欄に記入すること。
C29: ※ たたき落としを実施した場合は、実施後の写真を添付すること。 | N29: ※ 変状の発生範囲の規模は、面積・寸法を記載すること。(ひび割れ幅のみmmとし、その他をm表記とする)
C30: ※ 附属物の取付状態に関する異常写真は別途、任意の書式でとりまとめること。 | N30: ※ 構造用鋼材以外の異物に伴ううき・はく離については、メモ欄に異物の概要を記入すること。

Sheet 様式D-1-1_006
B2: ■定期点検記録様式 変状写真台帳【様式D-1-1】 | R2: 施設ID | T2: 34.16769,131.77531
B3: フリガナ | E3: (ﾀｶｾﾄﾝﾈﾙ) | H3: 路 線 名 | J3: 国道376号線 | M3: 定期点検実施者 | P3: 基礎地盤コンサルタンツ株式会社 | S3: 定期点検年月日 | U3: 45944
B4: 名 称 | E4: 高瀬トンネル | H4: 管理者名 | J4: 周南土木建築事務所 | P4: 大谷 直毅
B5: 写真 番号 | C5: 覆工スパン 番号 | E5: 4 | M5: 写真 番号 | N5: 覆工スパン 番号 | P5: 4
C6: 変状番号 | E6: 4 | N6: 変状番号 | P6: 5
B7: 変状 部位 | C7: 対象箇所 | E7: 覆工 | M7: 変状 部位 | N7: 対象箇所 | P7: 覆工
C8: 部位区分 | E8: アーチ（左側） | N8: 部位区分 | P8: アーチ（左側）
B9: 変状種類 | E9: うき・はく離 | M9: 変状種類 | P9: うき・はく離
B10: 対策 区分 | C10: 変状区分 | E10: 材質劣化 | M10: 対策 区分 | N10: 変状区分 | P10: 材質劣化
C11: 応急措置前 | E11: - | N11: 応急措置前 | P11: -
C12: 応急措置後 | E12: Ⅰ | N12: 応急措置後 | P12: Ⅰ
B13: 変状の発生範囲及び規模 | E13: 0.2m×0.3m | H13: 前回変状の発生範囲及び規模 | J13: うき 0.2m×0.3m | M13: 変状の発生範囲及び規模 | P13: 0.2m×0.2m | S13: 前回変状の発生範囲及び規模 | U13: うき 0.2m×0.2m
B14: 対策履歴 | E14: FRPネット工 | H14: 実施状況（実施日） | J14: - | M14: 対策履歴 | P14: FRPネット工 | S14: 実施状況（実施日） | U14: -
B15: メモ | E15: FRPネット工により補修済 | M15: メモ | P15: FRPネット工により補修済
B16: 写真 番号 | C16: 覆工スパン 番号 | E16: 4 | M16: 写真 番号 | N16: 覆工スパン 番号 | P16: 4
C17: 変状番号 | E17: 6 | N17: 変状番号 | P17: 7
B18: 変状 部位 | C18: 対象箇所 | E18: 覆工 | M18: 変状 部位 | N18: 対象箇所 | P18: 覆工
C19: 部位区分 | E19: 水平打ち継ぎ目（右側） | N19: 部位区分 | P19: アーチ（右側）
B20: 変状種類 | E20: うき・はく離 | M20: 変状種類 | P20: 圧ざ、ひび割れ
B21: 対策 区分 | C21: 変状区分 | E21: 材質劣化 | M21: 対策 区分 | N21: 変状区分 | P21: 材質劣化
C22: 応急措置前 | E22: - | N22: 応急措置前 | P22: -
C23: 応急措置後 | E23: Ⅱb | N23: 応急措置後 | P23: Ⅰ
B24: 変状の発生範囲及び規模 | E24: 0.3m×7.8m | H24: 前回変状の発生範囲及び規模 | J24: うき 0.3m×7.8m | M24: 変状の発生範囲及び規模 | P24: L=8.2m×W=0.8mm | S24: 前回変状の発生範囲及び規模 | U24: ひび割れ 幅0.8mm 長さ8.2m
B25: 対策履歴 | E25: - | H25: 実施状況（実施日） | J25: - | M25: 対策履歴 | P25: - | S25: 実施状況（実施日） | U25: -
B26: メモ | E26: 水平打ち継ぎ目のうき 経過観察が望まれる | M26: メモ | P26: アーチひび割れ 進行が認められないため変状区分見直し
C27: ※ 応急措置後の対策区分について添付すること。また、点検前に 実施された措置によりⅠと判定された箇所も添付すること。 | N27: ※ 変状の発生範囲の規模とは、対策を行う際に参考となる変状の長さや面積をいう。
N28: ※ 応急措置を実施しないで決定した変状の対策区分は、対策区分の応急措置後の欄に記入すること。
C29: ※ たたき落としを実施した場合は、実施後の写真を添付すること。 | N29: ※ 変状の発生範囲の規模は、面積・寸法を記載すること。(ひび割れ幅のみmmとし、その他をm表記とする)
C30: ※ 附属物の取付状態に関する異常写真は別途、任意の書式でとりまとめること。 | N30: ※ 構造用鋼材以外の異物に伴ううき・はく離については、メモ欄に異物の概要を記入すること。

Sheet 様式D-1-1_007
B2: ■定期点検記録様式 変状写真台帳【様式D-1-1】 | R2: 施設ID | T2: 34.16769,131.77531
B3: フリガナ | E3: (ﾀｶｾﾄﾝﾈﾙ) | H3: 路 線 名 | J3: 国道376号線 | M3: 定期点検実施者 | P3: 基礎地盤コンサルタンツ株式会社 | S3: 定期点検年月日 | U3: 45944
B4: 名 称 | E4: 高瀬トンネル | H4: 管理者名 | J4: 周南土木建築事務所 | P4: 大谷 直毅
B5: 写真 番号 | C5: 覆工スパン 番号 | E5: 4 | M5: 写真 番号 | N5: 覆工スパン 番号 | P5: 4
C6: 変状番号 | E6: 8 | N6: 変状番号 | P6: 9
B7: 変状 部位 | C7: 対象箇所 | E7: 覆工 | M7: 変状 部位 | N7: 対象箇所 | P7: 覆工
C8: 部位区分 | E8: アーチ（右側） | N8: 部位区分 | P8: 横断目地（左側）
B9: 変状種類 | E9: うき・はく離 | M9: 変状種類 | P9: うき・はく離
B10: 対策 区分 | C10: 変状区分 | E10: 材質劣化 | M10: 対策 区分 | N10: 変状区分 | P10: 材質劣化
C11: 応急措置前 | E11: - | N11: 応急措置前 | P11: -
C12: 応急措置後 | E12: Ⅰ | N12: 応急措置後 | P12: Ⅲ
B13: 変状の発生範囲及び規模 | E13: 0.2m×0.3m | H13: 前回変状の発生範囲及び規模 | J13: うき 0.2m×0.3m | M13: 変状の発生範囲及び規模 | P13: 0.25m×0.05m | S13: 前回変状の発生範囲及び規模 | U13: 新規
B14: 対策履歴 | E14: FRPネット工 | H14: 実施状況（実施日） | J14: - | M14: 対策履歴 | P14: - | S14: 実施状況（実施日） | U14: -
B15: メモ | E15: FRPネット工により補修済 | M15: メモ | P15: 横断目地のブロック化箇所のうき 早急な対策が望まれる
B16: 写真 番号 | C16: 覆工スパン 番号 | E16: 4 | M16: 写真 番号 | N16: 覆工スパン 番号 | P16: 4
C17: 変状番号 | E17: 10 | N17: 変状番号 | P17: 11
B18: 変状 部位 | C18: 対象箇所 | E18: 覆工 | M18: 変状 部位 | N18: 対象箇所 | P18: 覆工
C19: 部位区分 | E19: アーチ（右側） | N19: 部位区分 | P19: 側壁（右側）
B20: 変状種類 | E20: 漏水 | M20: 変状種類 | P20: うき・はく離
B21: 対策 区分 | C21: 変状区分 | E21: 漏水 | M21: 対策 区分 | N21: 変状区分 | P21: 材質劣化
C22: 応急措置前 | E22: - | N22: 応急措置前 | P22: -
C23: 応急措置後 | E23: Ⅱb | N23: 応急措置後 | P23: Ⅱb
B24: 変状の発生範囲及び規模 | E24: 7.9m×1.7m | H24: 前回変状の発生範囲及び規模 | J24: 新規 | M24: 変状の発生範囲及び規模 | P24: 1.3m×0.1m | S24: 前回変状の発生範囲及び規模 | U24: うき 1.3m×0.1m
B25: 対策履歴 | E25: - | H25: 実施状況（実施日） | J25: - | M25: 対策履歴 | P25: - | S25: 実施状況（実施日） | U25: -
B26: メモ | E26: アーチのにじみ 経過観察が望まれる | M26: メモ | P26: 側壁のうき 経過観察が望まれる
C27: ※ 応急措置後の対策区分について添付すること。また、点検前に 実施された措置によりⅠと判定された箇所も添付すること。 | N27: ※ 変状の発生範囲の規模とは、対策を行う際に参考となる変状の長さや面積をいう。
N28: ※ 応急措置を実施しないで決定した変状の対策区分は、対策区分の応急措置後の欄に記入すること。
C29: ※ たたき落としを実施した場合は、実施後の写真を添付すること。 | N29: ※ 変状の発生範囲の規模は、面積・寸法を記載すること。(ひび割れ幅のみmmとし、その他をm表記とする)
C30: ※ 附属物の取付状態に関する異常写真は別途、任意の書式でとりまとめること。 | N30: ※ 構造用鋼材以外の異物に伴ううき・はく離については、メモ欄に異物の概要を記入すること。

Sheet 様式D-1-1_008
B2: ■定期点検記録様式 変状写真台帳【様式D-1-1】 | R2: 施設ID | T2: 34.16769,131.77531
B3: フリガナ | E3: (ﾀｶｾﾄﾝﾈﾙ) | H3: 路 線 名 | J3: 国道376号線 | M3: 定期点検実施者 | P3: 基礎地盤コンサルタンツ株式会社 | S3: 定期点検年月日 | U3: 45944
B4: 名 称 | E4: 高瀬トンネル | H4: 管理者名 | J4: 周南土木建築事務所 | P4: 大谷 直毅
B5: 写真 番号 | C5: 覆工スパン 番号 | E5: 4 | M5: 写真 番号 | N5: 覆工スパン 番号 | P5: 5
C6: 変状番号 | E6: 12 | N6: 変状番号 | P6: 1
B7: 変状 部位 | C7: 対象箇所 | E7: 覆工 | M7: 変状 部位 | N7: 対象箇所 | P7: 覆工
C8: 部位区分 | E8: 側壁（右側） | N8: 部位区分 | P8: 水平打ち継ぎ目（左側）
B9: 変状種類 | E9: うき・はく離 | M9: 変状種類 | P9: うき・はく離
B10: 対策 区分 | C10: 変状区分 | E10: 材質劣化 | M10: 対策 区分 | N10: 変状区分 | P10: 材質劣化
C11: 応急措置前 | E11: - | N11: 応急措置前 | P11: -
C12: 応急措置後 | E12: Ⅱb | N12: 応急措置後 | P12: Ⅱb
B13: 変状の発生範囲及び規模 | E13: 0.8m×0.1m | H13: 前回変状の発生範囲及び規模 | J13: うき 0.8m×0.1m | M13: 変状の発生範囲及び規模 | P13: 0.3m×7.8m | S13: 前回変状の発生範囲及び規模 | U13: うき 0.3m×7.8m
B14: 対策履歴 | E14: - | H14: 実施状況（実施日） | J14: - | M14: 対策履歴 | P14: - | S14: 実施状況（実施日） | U14: -
B15: メモ | E15: 側壁のうき 経過観察が望まれる | M15: メモ | P15: 水平打ち継ぎ目のうき 経過観察が望まれる
B16: 写真 番号 | C16: 覆工スパン 番号 | E16: 5 | M16: 写真 番号 | N16: 覆工スパン 番号 | P16: 5
C17: 変状番号 | E17: 2 | N17: 変状番号 | P17: 3
B18: 変状 部位 | C18: 対象箇所 | E18: 覆工 | M18: 変状 部位 | N18: 対象箇所 | P18: 覆工
C19: 部位区分 | E19: 水平打ち継ぎ目（右側） | N19: 部位区分 | P19: アーチ（左側）
B20: 変状種類 | E20: うき・はく離 | M20: 変状種類 | P20: 圧ざ、ひび割れ
B21: 対策 区分 | C21: 変状区分 | E21: 材質劣化 | M21: 対策 区分 | N21: 変状区分 | P21: 材質劣化
C22: 応急措置前 | E22: - | N22: 応急措置前 | P22: -
C23: 応急措置後 | E23: Ⅱb | N23: 応急措置後 | P23: Ⅱa
B24: 変状の発生範囲及び規模 | E24: 0.3m×7.8m | H24: 前回変状の発生範囲及び規模 | J24: うき 0.3m×7.8m | M24: 変状の発生範囲及び規模 | P24: 1.4ｍ×3.3ｍ | S24: 前回変状の発生範囲及び規模 | U24: 新規
B25: 対策履歴 | E25: - | H25: 実施状況（実施日） | J25: - | M25: 対策履歴 | P25: - | S25: 実施状況（実施日） | U25: -
B26: メモ | E26: 水平打ち継ぎ目のうき 経過観察が望まれる | M26: メモ | P26: アーチの規模の大きなブロック化 打音異常なし 計画的な対策が望まれる
C27: ※ 応急措置後の対策区分について添付すること。また、点検前に 実施された措置によりⅠと判定された箇所も添付すること。 | N27: ※ 変状の発生範囲の規模とは、対策を行う際に参考となる変状の長さや面積をいう。
N28: ※ 応急措置を実施しないで決定した変状の対策区分は、対策区分の応急措置後の欄に記入すること。
C29: ※ たたき落としを実施した場合は、実施後の写真を添付すること。 | N29: ※ 変状の発生範囲の規模は、面積・寸法を記載すること。(ひび割れ幅のみmmとし、その他をm表記とする)
C30: ※ 附属物の取付状態に関する異常写真は別途、任意の書式でとりまとめること。 | N30: ※ 構造用鋼材以外の異物に伴ううき・はく離については、メモ欄に異物の概要を記入すること。

Sheet 様式D-1-1_009
B2: ■定期点検記録様式 変状写真台帳【様式D-1-1】 | R2: 施設ID | T2: 34.16769,131.77531
B3: フリガナ | E3: (ﾀｶｾﾄﾝﾈﾙ) | H3: 路 線 名 | J3: 国道376号線 | M3: 定期点検実施者 | P3: 基礎地盤コンサルタンツ株式会社 | S3: 定期点検年月日 | U3: 45944
B4: 名 称 | E4: 高瀬トンネル | H4: 管理者名 | J4: 周南土木建築事務所 | P4: 大谷 直毅
B5: 写真 番号 | C5: 覆工スパン 番号 | E5: 5 | M5: 写真 番号 | N5: 覆工スパン 番号 | P5: 5
C6: 変状番号 | E6: 4 | N6: 変状番号 | P6: 5
B7: 変状 部位 | C7: 対象箇所 | E7: 覆工 | M7: 変状 部位 | N7: 対象箇所 | P7: 覆工
C8: 部位区分 | E8: アーチ（左側） | N8: 部位区分 | P8: 横断目地（右側）
B9: 変状種類 | E9: 圧ざ、ひび割れ | M9: 変状種類 | P9: 圧ざ、ひび割れ
B10: 対策 区分 | C10: 変状区分 | E10: 材質劣化 | M10: 対策 区分 | N10: 変状区分 | P10: 材質劣化
C11: 応急措置前 | E11: - | N11: 応急措置前 | P11: -
C12: 応急措置後 | E12: Ⅱa | N12: 応急措置後 | P12: Ⅱb
B13: 変状の発生範囲及び規模 | E13: 1.6m×4.8ｍ | H13: 前回変状の発生範囲及び規模 | J13: 新規 | M13: 変状の発生範囲及び規模 | P13: 0.2m×0.05m | S13: 前回変状の発生範囲及び規模 | U13: 新規
B14: 対策履歴 | E14: - | H14: 実施状況（実施日） | J14: - | M14: 対策履歴 | P14: - | S14: 実施状況（実施日） | U14: -
B15: メモ | E15: アーチの規模の大きなブロック化 打音異常なし 計画的な対策が望まれる | M15: メモ | P15: 横断目地のブロック化が懸念されるひび割れ 経過観察が望まれる
B16: 写真 番号 | C16: 覆工スパン 番号 | E16: 5 | M16: 写真 番号 | N16: 覆工スパン 番号 | P16: 5
C17: 変状番号 | E17: 6 | N17: 変状番号 | P17: 7
B18: 変状 部位 | C18: 対象箇所 | E18: 覆工 | M18: 変状 部位 | N18: 対象箇所 | P18: 覆工
C19: 部位区分 | E19: 側壁（右側） | N19: 部位区分 | P19: 側壁（右側）
B20: 変状種類 | E20: うき・はく離 | M20: 変状種類 | P20: うき・はく離
B21: 対策 区分 | C21: 変状区分 | E21: 材質劣化 | M21: 対策 区分 | N21: 変状区分 | P21: 材質劣化
C22: 応急措置前 | E22: - | N22: 応急措置前 | P22: -
C23: 応急措置後 | E23: Ⅱb | N23: 応急措置後 | P23: Ⅱb
B24: 変状の発生範囲及び規模 | E24: 0.8m×0.1m | H24: 前回変状の発生範囲及び規模 | J24: うき 0.8m×0.1m | M24: 変状の発生範囲及び規模 | P24: 1.3m×0.1m | S24: 前回変状の発生範囲及び規模 | U24: うき 1.3m×0.1m
B25: 対策履歴 | E25: - | H25: 実施状況（実施日） | J25: - | M25: 対策履歴 | P25: - | S25: 実施状況（実施日） | U25: -
B26: メモ | E26: 側壁のうき 経過観察が望まれる | M26: メモ | P26: 側壁のうき 経過観察が望まれる
C27: ※ 応急措置後の対策区分について添付すること。また、点検前に 実施された措置によりⅠと判定された箇所も添付すること。 | N27: ※ 変状の発生範囲の規模とは、対策を行う際に参考となる変状の長さや面積をいう。
N28: ※ 応急措置を実施しないで決定した変状の対策区分は、対策区分の応急措置後の欄に記入すること。
C29: ※ たたき落としを実施した場合は、実施後の写真を添付すること。 | N29: ※ 変状の発生範囲の規模は、面積・寸法を記載すること。(ひび割れ幅のみmmとし、その他をm表記とする)
C30: ※ 附属物の取付状態に関する異常写真は別途、任意の書式でとりまとめること。 | N30: ※ 構造用鋼材以外の異物に伴ううき・はく離については、メモ欄に異物の概要を記入すること。

Sheet 様式D-1-1_010
B2: ■定期点検記録様式 変状写真台帳【様式D-1-1】 | R2: 施設ID | T2: 34.16769,131.77531
B3: フリガナ | E3: (ﾀｶｾﾄﾝﾈﾙ) | H3: 路 線 名 | J3: 国道376号線 | M3: 定期点検実施者 | P3: 基礎地盤コンサルタンツ株式会社 | S3: 定期点検年月日 | U3: 45944
B4: 名 称 | E4: 高瀬トンネル | H4: 管理者名 | J4: 周南土木建築事務所 | P4: 大谷 直毅
B5: 写真 番号 | C5: 覆工スパン 番号 | E5: 6 | M5: 写真 番号 | N5: 覆工スパン 番号 | P5: 6
C6: 変状番号 | E6: 1 | N6: 変状番号 | P6: 2
B7: 変状 部位 | C7: 対象箇所 | E7: 覆工 | M7: 変状 部位 | N7: 対象箇所 | P7: 覆工
C8: 部位区分 | E8: 水平打ち継ぎ目（左側） | N8: 部位区分 | P8: アーチ（左側）
B9: 変状種類 | E9: うき・はく離 | M9: 変状種類 | P9: 圧ざ、ひび割れ
B10: 対策 区分 | C10: 変状区分 | E10: 材質劣化 | M10: 対策 区分 | N10: 変状区分 | P10: 材質劣化
C11: 応急措置前 | E11: - | N11: 応急措置前 | P11: -
C12: 応急措置後 | E12: Ⅱb | N12: 応急措置後 | P12: Ⅱb
B13: 変状の発生範囲及び規模 | E13: 0.3m×7.8m | H13: 前回変状の発生範囲及び規模 | J13: うき 0.3m×7.8m | M13: 変状の発生範囲及び規模 | P13: 1.4m×4.0m | S13: 前回変状の発生範囲及び規模 | U13: ひび割れ 幅1.2mm 長さ8.0m
B14: 対策履歴 | E14: - | H14: 実施状況（実施日） | J14: - | M14: 対策履歴 | P14: - | S14: 実施状況（実施日） | U14: -
B15: メモ | E15: 水平打ち継ぎ目のうき 経過観察が望まれる | M15: メモ | P15: アーチのブロック化が懸念されるひび割れ 経過観察が望まれる
B16: 写真 番号 | C16: 覆工スパン 番号 | E16: 6 | M16: 写真 番号 | N16: 覆工スパン 番号 | P16: 6
C17: 変状番号 | E17: 3 | N17: 変状番号 | P17: 4
B18: 変状 部位 | C18: 対象箇所 | E18: 覆工 | M18: 変状 部位 | N18: 対象箇所 | P18: 覆工
C19: 部位区分 | E19: 水平打ち継ぎ目（右側） | N19: 部位区分 | P19: 側壁（右側）
B20: 変状種類 | E20: うき・はく離 | M20: 変状種類 | P20: 漏水
B21: 対策 区分 | C21: 変状区分 | E21: 材質劣化 | M21: 対策 区分 | N21: 変状区分 | P21: 漏水
C22: 応急措置前 | E22: - | N22: 応急措置前 | P22: -
C23: 応急措置後 | E23: Ⅱb | N23: 応急措置後 | P23: Ⅱb
B24: 変状の発生範囲及び規模 | E24: 0.3m×7.8m | H24: 前回変状の発生範囲及び規模 | J24: うき 0.3m×7.8m | M24: 変状の発生範囲及び規模 | P24: 2.8m×0.5m | S24: 前回変状の発生範囲及び規模 | U24: にじみ 2.3m×0.3m
B25: 対策履歴 | E25: - | H25: 実施状況（実施日） | J25: - | M25: 対策履歴 | P25: - | S25: 実施状況（実施日） | U25: -
B26: メモ | E26: 水平打ち継ぎ目のうき 経過観察が望まれる | M26: メモ | P26: 側壁のにじみ 経過観察が望まれる
C27: ※ 応急措置後の対策区分について添付すること。また、点検前に 実施された措置によりⅠと判定された箇所も添付すること。 | N27: ※ 変状の発生範囲の規模とは、対策を行う際に参考となる変状の長さや面積をいう。
N28: ※ 応急措置を実施しないで決定した変状の対策区分は、対策区分の応急措置後の欄に記入すること。
C29: ※ たたき落としを実施した場合は、実施後の写真を添付すること。 | N29: ※ 変状の発生範囲の規模は、面積・寸法を記載すること。(ひび割れ幅のみmmとし、その他をm表記とする)
C30: ※ 附属物の取付状態に関する異常写真は別途、任意の書式でとりまとめること。 | N30: ※ 構造用鋼材以外の異物に伴ううき・はく離については、メモ欄に異物の概要を記入すること。

Sheet 様式D-1-1_011
B2: ■定期点検記録様式 変状写真台帳【様式D-1-1】 | R2: 施設ID | T2: 34.16769,131.77531
B3: フリガナ | E3: (ﾀｶｾﾄﾝﾈﾙ) | H3: 路 線 名 | J3: 国道376号線 | M3: 定期点検実施者 | P3: 基礎地盤コンサルタンツ株式会社 | S3: 定期点検年月日 | U3: 45944
B4: 名 称 | E4: 高瀬トンネル | H4: 管理者名 | J4: 周南土木建築事務所 | P4: 大谷 直毅
B5: 写真 番号 | C5: 覆工スパン 番号 | E5: 6 | M5: 写真 番号 | N5: 覆工スパン 番号 | P5: 7
C6: 変状番号 | E6: 5 | N6: 変状番号 | P6: 1
B7: 変状 部位 | C7: 対象箇所 | E7: 覆工 | M7: 変状 部位 | N7: 対象箇所 | P7: 覆工
C8: 部位区分 | E8: 横断目地（右側） | N8: 部位区分 | P8: 水平打ち継ぎ目（左側）
B9: 変状種類 | E9: うき・はく離 | M9: 変状種類 | P9: うき・はく離
B10: 対策 区分 | C10: 変状区分 | E10: 材質劣化 | M10: 対策 区分 | N10: 変状区分 | P10: 材質劣化
C11: 応急措置前 | E11: - | N11: 応急措置前 | P11: -
C12: 応急措置後 | E12: Ⅱb | N12: 応急措置後 | P12: Ⅱb
B13: 変状の発生範囲及び規模 | E13: 0.25m×0.05m | H13: 前回変状の発生範囲及び規模 | J13: うき 0.25m×0.05m | M13: 変状の発生範囲及び規模 | P13: 3.0m×7.7m | S13: 前回変状の発生範囲及び規模 | U13: うき 3m×7.7m
B14: 対策履歴 | E14: - | H14: 実施状況（実施日） | J14: - | M14: 対策履歴 | P14: - | S14: 実施状況（実施日） | U14: -
B15: メモ | E15: 横断目地のうき 経過観察が望まれる | M15: メモ | P15: 水平打ち継ぎ目のうき 経過観察が望まれる
B16: 写真 番号 | C16: 覆工スパン 番号 | E16: 7 | M16: 写真 番号 | N16: 覆工スパン 番号 | P16: 7
C17: 変状番号 | E17: 2 | N17: 変状番号 | P17: 3
B18: 変状 部位 | C18: 対象箇所 | E18: 覆工 | M18: 変状 部位 | N18: 対象箇所 | P18: 覆工
C19: 部位区分 | E19: 側壁（左側） | N19: 部位区分 | P19: 水平打ち継ぎ目（右側）
B20: 変状種類 | E20: 漏水 | M20: 変状種類 | P20: うき・はく離
B21: 対策 区分 | C21: 変状区分 | E21: 漏水 | M21: 対策 区分 | N21: 変状区分 | P21: 材質劣化
C22: 応急措置前 | E22: - | N22: 応急措置前 | P22: -
C23: 応急措置後 | E23: Ⅱb | N23: 応急措置後 | P23: Ⅱb
B24: 変状の発生範囲及び規模 | E24: 2.5m×2.5m | H24: 前回変状の発生範囲及び規模 | J24: にじみ 2.7m×0.5m | M24: 変状の発生範囲及び規模 | P24: 0.3m×7.7m | S24: 前回変状の発生範囲及び規模 | U24: うき 0.3m×7.7m
B25: 対策履歴 | E25: - | H25: 実施状況（実施日） | J25: - | M25: 対策履歴 | P25: - | S25: 実施状況（実施日） | U25: -
B26: メモ | E26: 側壁のにじみ 経過観察が望まれる | M26: メモ | P26: 水平打ち継ぎ目のうき 経過観察が望まれる
C27: ※ 応急措置後の対策区分について添付すること。また、点検前に 実施された措置によりⅠと判定された箇所も添付すること。 | N27: ※ 変状の発生範囲の規模とは、対策を行う際に参考となる変状の長さや面積をいう。
N28: ※ 応急措置を実施しないで決定した変状の対策区分は、対策区分の応急措置後の欄に記入すること。
C29: ※ たたき落としを実施した場合は、実施後の写真を添付すること。 | N29: ※ 変状の発生範囲の規模は、面積・寸法を記載すること。(ひび割れ幅のみmmとし、その他をm表記とする)
C30: ※ 附属物の取付状態に関する異常写真は別途、任意の書式でとりまとめること。 | N30: ※ 構造用鋼材以外の異物に伴ううき・はく離については、メモ欄に異物の概要を記入すること。

Sheet 様式D-1-1_012
B2: ■定期点検記録様式 変状写真台帳【様式D-1-1】 | R2: 施設ID | T2: 34.16769,131.77531
B3: フリガナ | E3: (ﾀｶｾﾄﾝﾈﾙ) | H3: 路 線 名 | J3: 国道376号線 | M3: 定期点検実施者 | P3: 基礎地盤コンサルタンツ株式会社 | S3: 定期点検年月日 | U3: 45944
B4: 名 称 | E4: 高瀬トンネル | H4: 管理者名 | J4: 周南土木建築事務所 | P4: 大谷 直毅
B5: 写真 番号 | C5: 覆工スパン 番号 | E5: 7 | M5: 写真 番号 | N5: 覆工スパン 番号 | P5: 7
C6: 変状番号 | E6: 4 | N6: 変状番号 | P6: 5
B7: 変状 部位 | C7: 対象箇所 | E7: 覆工 | M7: 変状 部位 | N7: 対象箇所 | P7: 路面
C8: 部位区分 | E8: 横断目地（右側） | N8: 部位区分 | P8: 車道
B9: 変状種類 | E9: うき・はく離 | M9: 変状種類 | P9: その他
B10: 対策 区分 | C10: 変状区分 | E10: 材質劣化 | M10: 対策 区分 | N10: 変状区分
C11: 応急措置前 | E11: - | N11: 応急措置前
C12: 応急措置後 | E12: Ⅲ | N12: 応急措置後
B13: 変状の発生範囲及び規模 | E13: 0.15m×0.05m | H13: 前回変状の発生範囲及び規模 | J13: うき 0.15m×0.05m | M13: 変状の発生範囲及び規模 | P13: 0.9m×0.2m | S13: 前回変状の発生範囲及び規模 | U13: うき 0.9m×0.2m
B14: 対策履歴 | E14: - | H14: 実施状況（実施日） | J14: - | M14: 対策履歴 | P14: - | S14: 実施状況（実施日） | U14: -
B15: メモ | E15: 横断目地のブロック化箇所のうき 早急な対策が望まれる | M15: メモ | P15: 車道のうき
B16: 写真 番号 | C16: 覆工スパン 番号 | E16: 7 | M16: 写真 番号 | N16: 覆工スパン 番号 | P16: 7
C17: 変状番号 | E17: 6 | N17: 変状番号 | P17: 7
B18: 変状 部位 | C18: 対象箇所 | E18: 覆工 | M18: 変状 部位 | N18: 対象箇所 | P18: 覆工
C19: 部位区分 | E19: 側壁（左側） | N19: 部位区分 | P19: アーチ（左側）
B20: 変状種類 | E20: うき・はく離 | M20: 変状種類 | P20: 圧ざ、ひび割れ
B21: 対策 区分 | C21: 変状区分 | E21: 材質劣化 | M21: 対策 区分 | N21: 変状区分 | P21: 材質劣化
C22: 応急措置前 | E22: - | N22: 応急措置前 | P22: -
C23: 応急措置後 | E23: Ⅱb | N23: 応急措置後 | P23: Ⅱa
B24: 変状の発生範囲及び規模 | E24: 2.1m×0.1m | H24: 前回変状の発生範囲及び規模 | J24: うき 2.1m×0.1m | M24: 変状の発生範囲及び規模 | P24: 0.5ｍ×0.3ｍ | S24: 前回変状の発生範囲及び規模 | U24: 新規
B25: 対策履歴 | E25: - | H25: 実施状況（実施日） | J25: - | M25: 対策履歴 | P25: - | S25: 実施状況（実施日） | U25: -
B26: メモ | E26: 側壁のうき 経過観察が望まれる | M26: メモ | P26: アーチの規模の大きなブロック化 打音異常なし 計画的な対策が望まれる
C27: ※ 応急措置後の対策区分について添付すること。また、点検前に 実施された措置によりⅠと判定された箇所も添付すること。 | N27: ※ 変状の発生範囲の規模とは、対策を行う際に参考となる変状の長さや面積をいう。
N28: ※ 応急措置を実施しないで決定した変状の対策区分は、対策区分の応急措置後の欄に記入すること。
C29: ※ たたき落としを実施した場合は、実施後の写真を添付すること。 | N29: ※ 変状の発生範囲の規模は、面積・寸法を記載すること。(ひび割れ幅のみmmとし、その他をm表記とする)
C30: ※ 附属物の取付状態に関する異常写真は別途、任意の書式でとりまとめること。 | N30: ※ 構造用鋼材以外の異物に伴ううき・はく離については、メモ欄に異物の概要を記入すること。

Sheet 様式D-1-1_013
B2: ■定期点検記録様式 変状写真台帳【様式D-1-1】 | R2: 施設ID | T2: 34.16769,131.77531
B3: フリガナ | E3: (ﾀｶｾﾄﾝﾈﾙ) | H3: 路 線 名 | J3: 国道376号線 | M3: 定期点検実施者 | P3: 基礎地盤コンサルタンツ株式会社 | S3: 定期点検年月日 | U3: 45944
B4: 名 称 | E4: 高瀬トンネル | H4: 管理者名 | J4: 周南土木建築事務所 | P4: 大谷 直毅
B5: 写真 番号 | C5: 覆工スパン 番号 | E5: 7 | M5: 写真 番号 | N5: 覆工スパン 番号 | P5: 7
C6: 変状番号 | E6: 8 | N6: 変状番号 | P6: 9
B7: 変状 部位 | C7: 対象箇所 | E7: 覆工 | M7: 変状 部位 | N7: 対象箇所 | P7: 覆工
C8: 部位区分 | E8: アーチ（左側） | N8: 部位区分 | P8: アーチ（左側）
B9: 変状種類 | E9: 圧ざ、ひび割れ | M9: 変状種類 | P9: 圧ざ、ひび割れ
B10: 対策 区分 | C10: 変状区分 | E10: 材質劣化 | M10: 対策 区分 | N10: 変状区分 | P10: 材質劣化
C11: 応急措置前 | E11: - | N11: 応急措置前 | P11: -
C12: 応急措置後 | E12: Ⅱb | N12: 応急措置後 | P12: Ⅱa
B13: 変状の発生範囲及び規模 | E13: 1.6ｍ×0.3ｍ | H13: 前回変状の発生範囲及び規模 | J13: 新規 | M13: 変状の発生範囲及び規模 | P13: 1.0ｍ×1.9ｍ | S13: 前回変状の発生範囲及び規模 | U13: 新規
B14: 対策履歴 | E14: - | H14: 実施状況（実施日） | J14: - | M14: 対策履歴 | P14: - | S14: 実施状況（実施日） | U14: -
B15: メモ | E15: アーチのブロック化が懸念されるひび割れ 経過観察が望まれる | M15: メモ | P15: アーチの規模の大きなブロック化 打音異常なし 計画的な対策が望まれる
B16: 写真 番号 | C16: 覆工スパン 番号 | E16: 8 | M16: 写真 番号 | N16: 覆工スパン 番号 | P16: 8
C17: 変状番号 | E17: 1 | N17: 変状番号 | P17: 2
B18: 変状 部位 | C18: 対象箇所 | E18: 覆工 | M18: 変状 部位 | N18: 対象箇所 | P18: 覆工
C19: 部位区分 | E19: 水平打ち継ぎ目（左側） | N19: 部位区分 | P19: 横断目地（左側）
B20: 変状種類 | E20: うき・はく離 | M20: 変状種類 | P20: うき・はく離
B21: 対策 区分 | C21: 変状区分 | E21: 材質劣化 | M21: 対策 区分 | N21: 変状区分 | P21: 材質劣化
C22: 応急措置前 | E22: - | N22: 応急措置前 | P22: -
C23: 応急措置後 | E23: Ⅱb | N23: 応急措置後 | P23: Ⅱb
B24: 変状の発生範囲及び規模 | E24: 0.3m×7.7m | H24: 前回変状の発生範囲及び規模 | J24: うき 0.3m×7.7m | M24: 変状の発生範囲及び規模 | P24: 0.35m×0.05m | S24: 前回変状の発生範囲及び規模 | U24: うき 0.25m×0.05m
B25: 対策履歴 | E25: - | H25: 実施状況（実施日） | J25: - | M25: 対策履歴 | P25: - | S25: 実施状況（実施日） | U25: -
B26: メモ | E26: 水平打ち継ぎ目のうき 経過観察が望まれる | M26: メモ | P26: 横断目地のうき 経過観察が望まれる
C27: ※ 応急措置後の対策区分について添付すること。また、点検前に 実施された措置によりⅠと判定された箇所も添付すること。 | N27: ※ 変状の発生範囲の規模とは、対策を行う際に参考となる変状の長さや面積をいう。
N28: ※ 応急措置を実施しないで決定した変状の対策区分は、対策区分の応急措置後の欄に記入すること。
C29: ※ たたき落としを実施した場合は、実施後の写真を添付すること。 | N29: ※ 変状の発生範囲の規模は、面積・寸法を記載すること。(ひび割れ幅のみmmとし、その他をm表記とする)
C30: ※ 附属物の取付状態に関する異常写真は別途、任意の書式でとりまとめること。 | N30: ※ 構造用鋼材以外の異物に伴ううき・はく離については、メモ欄に異物の概要を記入すること。

Sheet 様式D-1-1_014
B2: ■定期点検記録様式 変状写真台帳【様式D-1-1】 | R2: 施設ID | T2: 34.16769,131.77531
B3: フリガナ | E3: (ﾀｶｾﾄﾝﾈﾙ) | H3: 路 線 名 | J3: 国道376号線 | M3: 定期点検実施者 | P3: 基礎地盤コンサルタンツ株式会社 | S3: 定期点検年月日 | U3: 45944
B4: 名 称 | E4: 高瀬トンネル | H4: 管理者名 | J4: 周南土木建築事務所 | P4: 大谷 直毅
B5: 写真 番号 | C5: 覆工スパン 番号 | E5: 8 | M5: 写真 番号 | N5: 覆工スパン 番号 | P5: 9
C6: 変状番号 | E6: 3 | N6: 変状番号 | P6: 1
B7: 変状 部位 | C7: 対象箇所 | E7: 覆工 | M7: 変状 部位 | N7: 対象箇所 | P7: 覆工
C8: 部位区分 | E8: 水平打ち継ぎ目（右側） | N8: 部位区分 | P8: 水平打ち継ぎ目（左側）
B9: 変状種類 | E9: うき・はく離 | M9: 変状種類 | P9: うき・はく離
B10: 対策 区分 | C10: 変状区分 | E10: 材質劣化 | M10: 対策 区分 | N10: 変状区分 | P10: 材質劣化
C11: 応急措置前 | E11: - | N11: 応急措置前 | P11: -
C12: 応急措置後 | E12: Ⅱb | N12: 応急措置後 | P12: Ⅱb
B13: 変状の発生範囲及び規模 | E13: 0.3m×7.7m | H13: 前回変状の発生範囲及び規模 | J13: うき 0.3m×7.7m | M13: 変状の発生範囲及び規模 | P13: 0.3m×7.5m | S13: 前回変状の発生範囲及び規模 | U13: うき 0.3m×7.5m
B14: 対策履歴 | E14: - | H14: 実施状況（実施日） | J14: - | M14: 対策履歴 | P14: - | S14: 実施状況（実施日） | U14: -
B15: メモ | E15: 水平打ち継ぎ目のうき 経過観察が望まれる | M15: メモ | P15: 水平打ち継ぎ目のうき 経過観察が望まれる
B16: 写真 番号 | C16: 覆工スパン 番号 | E16: 9 | M16: 写真 番号 | N16: 覆工スパン 番号 | P16: 9
C17: 変状番号 | E17: 2 | N17: 変状番号 | P17: 3
B18: 変状 部位 | C18: 対象箇所 | E18: 覆工 | M18: 変状 部位 | N18: 対象箇所 | P18: 覆工
C19: 部位区分 | E19: アーチ（右側） | N19: 部位区分 | P19: 水平打ち継ぎ目（右側）
B20: 変状種類 | E20: うき・はく離 | M20: 変状種類 | P20: うき・はく離
B21: 対策 区分 | C21: 変状区分 | E21: 材質劣化 | M21: 対策 区分 | N21: 変状区分 | P21: 材質劣化
C22: 応急措置前 | E22: - | N22: 応急措置前 | P22: -
C23: 応急措置後 | E23: Ⅲ | N23: 応急措置後 | P23: Ⅱb
B24: 変状の発生範囲及び規模 | E24: 0.1m×0.1m | H24: 前回変状の発生範囲及び規模 | J24: うき 0.1m×0.1m | M24: 変状の発生範囲及び規模 | P24: 0.3m×7.7m | S24: 前回変状の発生範囲及び規模 | U24: うき 0.3m×7.7m
B25: 対策履歴 | E25: - | H25: 実施状況（実施日） | J25: - | M25: 対策履歴 | P25: - | S25: 実施状況（実施日） | U25: -
B26: メモ | E26: アーチの補修跡のうき 早急な対策が望まれる | M26: メモ | P26: 水平打ち継ぎ目のうき 経過観察が望まれる
C27: ※ 応急措置後の対策区分について添付すること。また、点検前に 実施された措置によりⅠと判定された箇所も添付すること。 | N27: ※ 変状の発生範囲の規模とは、対策を行う際に参考となる変状の長さや面積をいう。
N28: ※ 応急措置を実施しないで決定した変状の対策区分は、対策区分の応急措置後の欄に記入すること。
C29: ※ たたき落としを実施した場合は、実施後の写真を添付すること。 | N29: ※ 変状の発生範囲の規模は、面積・寸法を記載すること。(ひび割れ幅のみmmとし、その他をm表記とする)
C30: ※ 附属物の取付状態に関する異常写真は別途、任意の書式でとりまとめること。 | N30: ※ 構造用鋼材以外の異物に伴ううき・はく離については、メモ欄に異物の概要を記入すること。

Sheet 様式D-1-1_015
B2: ■定期点検記録様式 変状写真台帳【様式D-1-1】 | R2: 施設ID | T2: 34.16769,131.77531
B3: フリガナ | E3: (ﾀｶｾﾄﾝﾈﾙ) | H3: 路 線 名 | J3: 国道376号線 | M3: 定期点検実施者 | P3: 基礎地盤コンサルタンツ株式会社 | S3: 定期点検年月日 | U3: 45944
B4: 名 称 | E4: 高瀬トンネル | H4: 管理者名 | J4: 周南土木建築事務所 | P4: 大谷 直毅
B5: 写真 番号 | C5: 覆工スパン 番号 | E5: 9 | M5: 写真 番号 | N5: 覆工スパン 番号 | P5: 9
C6: 変状番号 | E6: 4 | N6: 変状番号 | P6: 5
B7: 変状 部位 | C7: 対象箇所 | E7: 覆工 | M7: 変状 部位 | N7: 対象箇所 | P7: 路面
C8: 部位区分 | E8: アーチ（天端） | N8: 部位区分 | P8: 車道
B9: 変状種類 | E9: 漏水 | M9: 変状種類 | P9: その他
B10: 対策 区分 | C10: 変状区分 | E10: 漏水 | M10: 対策 区分 | N10: 変状区分
C11: 応急措置前 | E11: - | N11: 応急措置前
C12: 応急措置後 | E12: Ⅰ | N12: 応急措置後
B13: 変状の発生範囲及び規模 | E13: 8.1m×0.5m | H13: 前回変状の発生範囲及び規模 | J13: 滴水 8.1m×0.5m | M13: 変状の発生範囲及び規模 | P13: 0.7m×0.2m | S13: 前回変状の発生範囲及び規模 | U13: うき 0.7m×0.2m
B14: 対策履歴 | E14: 繊維シート工 | H14: 実施状況（実施日） | J14: - | M14: 対策履歴 | P14: - | S14: 実施状況（実施日） | U14: -
B15: メモ | E15: 繊維シート工により補修済 | M15: メモ | P15: 車道のうき
B16: 写真 番号 | C16: 覆工スパン 番号 | E16: 9 | M16: 写真 番号 | N16: 覆工スパン 番号 | P16: 9
C17: 変状番号 | E17: 6 | N17: 変状番号 | P17: 7
B18: 変状 部位 | C18: 対象箇所 | E18: 覆工 | M18: 変状 部位 | N18: 対象箇所 | P18: 覆工
C19: 部位区分 | E19: 側壁（左側） | N19: 部位区分 | P19: 側壁（右側）
B20: 変状種類 | E20: 漏水 | M20: 変状種類 | P20: 漏水
B21: 対策 区分 | C21: 変状区分 | E21: 漏水 | M21: 対策 区分 | N21: 変状区分 | P21: 漏水
C22: 応急措置前 | E22: - | N22: 応急措置前 | P22: -
C23: 応急措置後 | E23: Ⅱb | N23: 応急措置後 | P23: Ⅱb
B24: 変状の発生範囲及び規模 | E24: 2.5m×1.4m | H24: 前回変状の発生範囲及び規模 | J24: 新規 | M24: 変状の発生範囲及び規模 | P24: 2.7m×0.6m | S24: 前回変状の発生範囲及び規模 | U24: 新規
B25: 対策履歴 | E25: - | H25: 実施状況（実施日） | J25: - | M25: 対策履歴 | P25: - | S25: 実施状況（実施日） | U25: -
B26: メモ | E26: 側壁のにじみ 経過観察が望まれる | M26: メモ | P26: 側壁のにじみ 経過観察が望まれる
C27: ※ 応急措置後の対策区分について添付すること。また、点検前に 実施された措置によりⅠと判定された箇所も添付すること。 | N27: ※ 変状の発生範囲の規模とは、対策を行う際に参考となる変状の長さや面積をいう。
N28: ※ 応急措置を実施しないで決定した変状の対策区分は、対策区分の応急措置後の欄に記入すること。
C29: ※ たたき落としを実施した場合は、実施後の写真を添付すること。 | N29: ※ 変状の発生範囲の規模は、面積・寸法を記載すること。(ひび割れ幅のみmmとし、その他をm表記とする)
C30: ※ 附属物の取付状態に関する異常写真は別途、任意の書式でとりまとめること。 | N30: ※ 構造用鋼材以外の異物に伴ううき・はく離については、メモ欄に異物の概要を記入すること。

Sheet 様式D-1-1_016
B2: ■定期点検記録様式 変状写真台帳【様式D-1-1】 | R2: 施設ID | T2: 34.16769,131.77531
B3: フリガナ | E3: (ﾀｶｾﾄﾝﾈﾙ) | H3: 路 線 名 | J3: 国道376号線 | M3: 定期点検実施者 | P3: 基礎地盤コンサルタンツ株式会社 | S3: 定期点検年月日 | U3: 45944
B4: 名 称 | E4: 高瀬トンネル | H4: 管理者名 | J4: 周南土木建築事務所 | P4: 大谷 直毅
B5: 写真 番号 | C5: 覆工スパン 番号 | E5: 10 | M5: 写真 番号 | N5: 覆工スパン 番号 | P5: 10
C6: 変状番号 | E6: 1 | N6: 変状番号 | P6: 2
B7: 変状 部位 | C7: 対象箇所 | E7: 覆工 | M7: 変状 部位 | N7: 対象箇所 | P7: 覆工
C8: 部位区分 | E8: アーチ（左側） | N8: 部位区分 | P8: 水平打ち継ぎ目（左側）
B9: 変状種類 | E9: うき・はく離 | M9: 変状種類 | P9: うき・はく離
B10: 対策 区分 | C10: 変状区分 | E10: 材質劣化 | M10: 対策 区分 | N10: 変状区分 | P10: 材質劣化
C11: 応急措置前 | E11: - | N11: 応急措置前 | P11: -
C12: 応急措置後 | E12: Ⅲ | N12: 応急措置後 | P12: Ⅱb
B13: 変状の発生範囲及び規模 | E13: 0.05m×0.05m | H13: 前回変状の発生範囲及び規模 | J13: うき 0.05m×0.05m | M13: 変状の発生範囲及び規模 | P13: 0.3m×7.4m | S13: 前回変状の発生範囲及び規模 | U13: うき 0.3m×7.4m
B14: 対策履歴 | E14: - | H14: 実施状況（実施日） | J14: - | M14: 対策履歴 | P14: - | S14: 実施状況（実施日） | U14: -
B15: メモ | E15: アーチのひび割れ沿いの補修跡のうき 早急な対策が望まれる | M15: メモ | P15: 水平打ち継ぎ目のうき 経過観察が望まれる
B16: 写真 番号 | C16: 覆工スパン 番号 | E16: 10 | M16: 写真 番号 | N16: 覆工スパン 番号 | P16: 10
C17: 変状番号 | E17: 3 | N17: 変状番号 | P17: 4
B18: 変状 部位 | C18: 対象箇所 | E18: 覆工 | M18: 変状 部位 | N18: 対象箇所 | P18: 覆工
C19: 部位区分 | E19: 側壁（左側） | N19: 部位区分 | P19: アーチ（左側）
B20: 変状種類 | E20: 漏水 | M20: 変状種類 | P20: 鋼材腐食
B21: 対策 区分 | C21: 変状区分 | E21: 漏水 | M21: 対策 区分 | N21: 変状区分 | P21: 材質劣化
C22: 応急措置前 | E22: - | N22: 応急措置前 | P22: -
C23: 応急措置後 | E23: Ⅱb | N23: 応急措置後 | P23: Ⅱb
B24: 変状の発生範囲及び規模 | E24: 3.8m×5.2m | H24: 前回変状の発生範囲及び規模 | J24: にじみ 3.3m×2.7m | M24: 変状の発生範囲及び規模 | P24: 0.3m×0.4m | S24: 前回変状の発生範囲及び規模 | U24: 鋼材露出(はく落) 0.3m×0.4m
B25: 対策履歴 | E25: - | H25: 実施状況（実施日） | J25: - | M25: 対策履歴 | P25: - | S25: 実施状況（実施日） | U25: -
B26: メモ | E26: 側壁のにじみ 経過観察が望まれる | M26: メモ | P26: アーチの鋼材腐食 経過観察が望まれる
C27: ※ 応急措置後の対策区分について添付すること。また、点検前に 実施された措置によりⅠと判定された箇所も添付すること。 | N27: ※ 変状の発生範囲の規模とは、対策を行う際に参考となる変状の長さや面積をいう。
N28: ※ 応急措置を実施しないで決定した変状の対策区分は、対策区分の応急措置後の欄に記入すること。
C29: ※ たたき落としを実施した場合は、実施後の写真を添付すること。 | N29: ※ 変状の発生範囲の規模は、面積・寸法を記載すること。(ひび割れ幅のみmmとし、その他をm表記とする)
C30: ※ 附属物の取付状態に関する異常写真は別途、任意の書式でとりまとめること。 | N30: ※ 構造用鋼材以外の異物に伴ううき・はく離については、メモ欄に異物の概要を記入すること。

Sheet 様式D-1-1_017
B2: ■定期点検記録様式 変状写真台帳【様式D-1-1】 | R2: 施設ID | T2: 34.16769,131.77531
B3: フリガナ | E3: (ﾀｶｾﾄﾝﾈﾙ) | H3: 路 線 名 | J3: 国道376号線 | M3: 定期点検実施者 | P3: 基礎地盤コンサルタンツ株式会社 | S3: 定期点検年月日 | U3: 45944
B4: 名 称 | E4: 高瀬トンネル | H4: 管理者名 | J4: 周南土木建築事務所 | P4: 大谷 直毅
B5: 写真 番号 | C5: 覆工スパン 番号 | E5: 10 | M5: 写真 番号 | N5: 覆工スパン 番号 | P5: 10
C6: 変状番号 | E6: 5 | N6: 変状番号 | P6: 6
B7: 変状 部位 | C7: 対象箇所 | E7: 覆工 | M7: 変状 部位 | N7: 対象箇所 | P7: 覆工
C8: 部位区分 | E8: アーチ（右側） | N8: 部位区分 | P8: 水平打ち継ぎ目（右側）
B9: 変状種類 | E9: その他 | M9: 変状種類 | P9: うき・はく離
B10: 対策 区分 | C10: 変状区分 | E10: 漏水 | M10: 対策 区分 | N10: 変状区分 | P10: 材質劣化
C11: 応急措置前 | E11: - | N11: 応急措置前 | P11: -
C12: 応急措置後 | E12: Ⅰ | N12: 応急措置後 | P12: Ⅱb
B13: 変状の発生範囲及び規模 | E13: - | H13: 前回変状の発生範囲及び規模 | J13: 滴水 6.9m×0.5m | M13: 変状の発生範囲及び規模 | P13: 0.3m×7.4m | S13: 前回変状の発生範囲及び規模 | U13: うき 0.3m×7.4m
B14: 対策履歴 | E14: - | H14: 実施状況（実施日） | J14: - | M14: 対策履歴 | P14: - | S14: 実施状況（実施日） | U14: -
B15: メモ | E15: アーチの遊離石灰 今回点検時漏水は確認されなかった | M15: メモ | P15: 水平打ち継ぎ目のうき 経過観察が望まれる
B16: 写真 番号 | C16: 覆工スパン 番号 | E16: 10 | M16: 写真 番号 | N16: 覆工スパン 番号 | P16: 10
C17: 変状番号 | E17: 7 | N17: 変状番号 | P17: 8
B18: 変状 部位 | C18: 対象箇所 | E18: 覆工 | M18: 変状 部位 | N18: 対象箇所 | P18: 覆工
C19: 部位区分 | E19: 横断目地（左側） | N19: 部位区分 | P19: 横断目地（右側）
B20: 変状種類 | E20: その他 | M20: 変状種類 | P20: うき・はく離
B21: 対策 区分 | C21: 変状区分 | E21: 材質劣化 | M21: 対策 区分 | N21: 変状区分 | P21: 材質劣化
C22: 応急措置前 | E22: - | N22: 応急措置前 | P22: -
C23: 応急措置後 | E23: Ⅰ | N23: 応急措置後 | P23: Ⅲ
B24: 変状の発生範囲及び規模 | E24: 0.8m×0.05m | H24: 前回変状の発生範囲及び規模 | J24: 豆板 0.8m×0.05m | M24: 変状の発生範囲及び規模 | P24: 0.4m×0.05m | S24: 前回変状の発生範囲及び規模 | U24: うき 0.4m×0.05m
B25: 対策履歴 | E25: - | H25: 実施状況（実施日） | J25: - | M25: 対策履歴 | P25: - | S25: 実施状況（実施日） | U25: -
B26: メモ | E26: 横断目地の骨材露出 骨材落下の可能性は低いことから判定見直し | M26: メモ | P26: 横断目地のうき 計画的な対策が望まれる
C27: ※ 応急措置後の対策区分について添付すること。また、点検前に 実施された措置によりⅠと判定された箇所も添付すること。 | N27: ※ 変状の発生範囲の規模とは、対策を行う際に参考となる変状の長さや面積をいう。
N28: ※ 応急措置を実施しないで決定した変状の対策区分は、対策区分の応急措置後の欄に記入すること。
C29: ※ たたき落としを実施した場合は、実施後の写真を添付すること。 | N29: ※ 変状の発生範囲の規模は、面積・寸法を記載すること。(ひび割れ幅のみmmとし、その他をm表記とする)
C30: ※ 附属物の取付状態に関する異常写真は別途、任意の書式でとりまとめること。 | N30: ※ 構造用鋼材以外の異物に伴ううき・はく離については、メモ欄に異物の概要を記入すること。

Sheet 様式D-1-1_018
B2: ■定期点検記録様式 変状写真台帳【様式D-1-1】 | R2: 施設ID | T2: 34.16769,131.77531
B3: フリガナ | E3: (ﾀｶｾﾄﾝﾈﾙ) | H3: 路 線 名 | J3: 国道376号線 | M3: 定期点検実施者 | P3: 基礎地盤コンサルタンツ株式会社 | S3: 定期点検年月日 | U3: 45944
B4: 名 称 | E4: 高瀬トンネル | H4: 管理者名 | J4: 周南土木建築事務所 | P4: 大谷 直毅
B5: 写真 番号 | C5: 覆工スパン 番号 | E5: 10 | M5: 写真 番号 | N5: 覆工スパン 番号 | P5: 10
C6: 変状番号 | E6: 9 | N6: 変状番号 | P6: 10
B7: 変状 部位 | C7: 対象箇所 | E7: 覆工 | M7: 変状 部位 | N7: 対象箇所 | P7: 覆工
C8: 部位区分 | E8: アーチ（左側） | N8: 部位区分 | P8: アーチ（天端）
B9: 変状種類 | E9: 鋼材腐食 | M9: 変状種類 | P9: 圧ざ、ひび割れ
B10: 対策 区分 | C10: 変状区分 | E10: 材質劣化 | M10: 対策 区分 | N10: 変状区分 | P10: 材質劣化
C11: 応急措置前 | E11: - | N11: 応急措置前 | P11: -
C12: 応急措置後 | E12: Ⅱb | N12: 応急措置後 | P12: Ⅱb
B13: 変状の発生範囲及び規模 | E13: 0.35m×0.25m | H13: 前回変状の発生範囲及び規模 | J13: 鋼材露出 0.35m×0.25m | M13: 変状の発生範囲及び規模 | P13: 5.0m×4.4m | S13: 前回変状の発生範囲及び規模 | U13: 新規
B14: 対策履歴 | E14: - | H14: 実施状況（実施日） | J14: - | M14: 対策履歴 | P14: - | S14: 実施状況（実施日） | U14: -
B15: メモ | E15: アーチの鋼材腐食 経過観察が望まれる | M15: メモ | P15: アーチのブロック化が懸念されるひび割れ 経過観察が望まれる
B16: 写真 番号 | C16: 覆工スパン 番号 | E16: 10 | M16: 写真 番号 | N16: 覆工スパン 番号 | P16: 10
C17: 変状番号 | E17: 11 | N17: 変状番号 | P17: 12
B18: 変状 部位 | C18: 対象箇所 | E18: 覆工 | M18: 変状 部位 | N18: 対象箇所 | P18: 覆工
C19: 部位区分 | E19: 側壁（右側） | N19: 部位区分 | P19: 側壁（右側）
B20: 変状種類 | E20: 漏水 | M20: 変状種類 | P20: 漏水
B21: 対策 区分 | C21: 変状区分 | E21: 漏水 | M21: 対策 区分 | N21: 変状区分 | P21: 漏水
C22: 応急措置前 | E22: - | N22: 応急措置前 | P22: -
C23: 応急措置後 | E23: Ⅱb | N23: 応急措置後 | P23: Ⅱb
B24: 変状の発生範囲及び規模 | E24: 2.9m×1.6m | H24: 前回変状の発生範囲及び規模 | J24: 新規 | M24: 変状の発生範囲及び規模 | P24: 2.7m×1.9m | S24: 前回変状の発生範囲及び規模 | U24: 新規
B25: 対策履歴 | E25: - | H25: 実施状況（実施日） | J25: - | M25: 対策履歴 | P25: - | S25: 実施状況（実施日） | U25: -
B26: メモ | E26: 側壁のにじみ 経過観察が望まれる | M26: メモ | P26: 側壁のにじみ 経過観察が望まれる
C27: ※ 応急措置後の対策区分について添付すること。また、点検前に 実施された措置によりⅠと判定された箇所も添付すること。 | N27: ※ 変状の発生範囲の規模とは、対策を行う際に参考となる変状の長さや面積をいう。
N28: ※ 応急措置を実施しないで決定した変状の対策区分は、対策区分の応急措置後の欄に記入すること。
C29: ※ たたき落としを実施した場合は、実施後の写真を添付すること。 | N29: ※ 変状の発生範囲の規模は、面積・寸法を記載すること。(ひび割れ幅のみmmとし、その他をm表記とする)
C30: ※ 附属物の取付状態に関する異常写真は別途、任意の書式でとりまとめること。 | N30: ※ 構造用鋼材以外の異物に伴ううき・はく離については、メモ欄に異物の概要を記入すること。

Sheet 様式D-1-1_019
B2: ■定期点検記録様式 変状写真台帳【様式D-1-1】 | R2: 施設ID | T2: 34.16769,131.77531
B3: フリガナ | E3: (ﾀｶｾﾄﾝﾈﾙ) | H3: 路 線 名 | J3: 国道376号線 | M3: 定期点検実施者 | P3: 基礎地盤コンサルタンツ株式会社 | S3: 定期点検年月日 | U3: 45944
B4: 名 称 | E4: 高瀬トンネル | H4: 管理者名 | J4: 周南土木建築事務所 | P4: 大谷 直毅
B5: 写真 番号 | C5: 覆工スパン 番号 | E5: 11 | M5: 写真 番号 | N5: 覆工スパン 番号 | P5: 11
C6: 変状番号 | E6: 1 | N6: 変状番号 | P6: 2
B7: 変状 部位 | C7: 対象箇所 | E7: 覆工 | M7: 変状 部位 | N7: 対象箇所 | P7: 覆工
C8: 部位区分 | E8: 側壁（左側） | N8: 部位区分 | P8: 水平打ち継ぎ目（左側）
B9: 変状種類 | E9: 漏水 | M9: 変状種類 | P9: うき・はく離
B10: 対策 区分 | C10: 変状区分 | E10: 漏水 | M10: 対策 区分 | N10: 変状区分 | P10: 材質劣化
C11: 応急措置前 | E11: - | N11: 応急措置前 | P11: -
C12: 応急措置後 | E12: Ⅱb | N12: 応急措置後 | P12: Ⅱb
B13: 変状の発生範囲及び規模 | E13: 2.7m×0.5m | H13: 前回変状の発生範囲及び規模 | J13: にじみ 2.7m×0.5m | M13: 変状の発生範囲及び規模 | P13: 0.3m×7.5m | S13: 前回変状の発生範囲及び規模 | U13: うき 0.3m×7.5m
B14: 対策履歴 | E14: - | H14: 実施状況（実施日） | J14: - | M14: 対策履歴 | P14: - | S14: 実施状況（実施日） | U14: -
B15: メモ | E15: 側壁のにじみ 経過観察が望まれる | M15: メモ | P15: 水平打ち継ぎ目のうき 経過観察が望まれる
B16: 写真 番号 | C16: 覆工スパン 番号 | E16: 11 | M16: 写真 番号 | N16: 覆工スパン 番号 | P16: 11
C17: 変状番号 | E17: 3 | N17: 変状番号 | P17: 4
B18: 変状 部位 | C18: 対象箇所 | E18: 覆工 | M18: 変状 部位 | N18: 対象箇所 | P18: 覆工
C19: 部位区分 | E19: 横断目地（天端） | N19: 部位区分 | P19: アーチ（右側）
B20: 変状種類 | E20: その他 | M20: 変状種類 | P20: うき・はく離
B21: 対策 区分 | C21: 変状区分 | E21: 材質劣化 | M21: 対策 区分 | N21: 変状区分 | P21: 材質劣化
C22: 応急措置前 | E22: - | N22: 応急措置前 | P22: -
C23: 応急措置後 | E23: Ⅰ | N23: 応急措置後 | P23: Ⅲ
B24: 変状の発生範囲及び規模 | E24: 3.2m×0.05m | H24: 前回変状の発生範囲及び規模 | J24: 豆板 3.2m×0.05m | M24: 変状の発生範囲及び規模 | P24: 0.1m×0.1m | S24: 前回変状の発生範囲及び規模 | U24: うき 0.1m×0.1m
B25: 対策履歴 | E25: - | H25: 実施状況（実施日） | J25: - | M25: 対策履歴 | P25: - | S25: 実施状況（実施日） | U25: -
B26: メモ | E26: 横断目地の骨材露出 骨材落下の可能性は低いことから判定見直し | M26: メモ | P26: アーチの補修跡のうき 早急な対策が望まれる
C27: ※ 応急措置後の対策区分について添付すること。また、点検前に 実施された措置によりⅠと判定された箇所も添付すること。 | N27: ※ 変状の発生範囲の規模とは、対策を行う際に参考となる変状の長さや面積をいう。
N28: ※ 応急措置を実施しないで決定した変状の対策区分は、対策区分の応急措置後の欄に記入すること。
C29: ※ たたき落としを実施した場合は、実施後の写真を添付すること。 | N29: ※ 変状の発生範囲の規模は、面積・寸法を記載すること。(ひび割れ幅のみmmとし、その他をm表記とする)
C30: ※ 附属物の取付状態に関する異常写真は別途、任意の書式でとりまとめること。 | N30: ※ 構造用鋼材以外の異物に伴ううき・はく離については、メモ欄に異物の概要を記入すること。

Sheet 様式D-1-1_020
B2: ■定期点検記録様式 変状写真台帳【様式D-1-1】 | R2: 施設ID | T2: 34.16769,131.77531
B3: フリガナ | E3: (ﾀｶｾﾄﾝﾈﾙ) | H3: 路 線 名 | J3: 国道376号線 | M3: 定期点検実施者 | P3: 基礎地盤コンサルタンツ株式会社 | S3: 定期点検年月日 | U3: 45944
B4: 名 称 | E4: 高瀬トンネル | H4: 管理者名 | J4: 周南土木建築事務所 | P4: 大谷 直毅
B5: 写真 番号 | C5: 覆工スパン 番号 | E5: 11 | M5: 写真 番号 | N5: 覆工スパン 番号 | P5: 11
C6: 変状番号 | E6: 5 | N6: 変状番号 | P6: 6
B7: 変状 部位 | C7: 対象箇所 | E7: 覆工 | M7: 変状 部位 | N7: 対象箇所 | P7: 覆工
C8: 部位区分 | E8: 水平打ち継ぎ目（右側） | N8: 部位区分 | P8: 側壁（左側）
B9: 変状種類 | E9: うき・はく離 | M9: 変状種類 | P9: うき・はく離
B10: 対策 区分 | C10: 変状区分 | E10: 材質劣化 | M10: 対策 区分 | N10: 変状区分 | P10: 材質劣化
C11: 応急措置前 | E11: - | N11: 応急措置前 | P11: -
C12: 応急措置後 | E12: Ⅱb | N12: 応急措置後 | P12: Ⅱb
B13: 変状の発生範囲及び規模 | E13: 0.3m×7.5m | H13: 前回変状の発生範囲及び規模 | J13: うき 0.3m×7.5m | M13: 変状の発生範囲及び規模 | P13: 0.2m×0.1m | S13: 前回変状の発生範囲及び規模 | U13: うき 0.2m×0.1m
B14: 対策履歴 | E14: - | H14: 実施状況（実施日） | J14: - | M14: 対策履歴 | P14: - | S14: 実施状況（実施日） | U14: -
B15: メモ | E15: 水平打ち継ぎ目のうき 経過観察が望まれる | M15: メモ | P15: 側壁のうき 経過観察が望まれる
B16: 写真 番号 | C16: 覆工スパン 番号 | E16: 12 | M16: 写真 番号 | N16: 覆工スパン 番号 | P16: 12
C17: 変状番号 | E17: 1 | N17: 変状番号 | P17: 2
B18: 変状 部位 | C18: 対象箇所 | E18: 覆工 | M18: 変状 部位 | N18: 対象箇所 | P18: 覆工
C19: 部位区分 | E19: 水平打ち継ぎ目（左側） | N19: 部位区分 | P19: 水平打ち継ぎ目（右側）
B20: 変状種類 | E20: うき・はく離 | M20: 変状種類 | P20: うき・はく離
B21: 対策 区分 | C21: 変状区分 | E21: 材質劣化 | M21: 対策 区分 | N21: 変状区分 | P21: 材質劣化
C22: 応急措置前 | E22: - | N22: 応急措置前 | P22: -
C23: 応急措置後 | E23: Ⅱb | N23: 応急措置後 | P23: Ⅱb
B24: 変状の発生範囲及び規模 | E24: 0.3m×6.5m | H24: 前回変状の発生範囲及び規模 | J24: うき 0.3m×6.5m | M24: 変状の発生範囲及び規模 | P24: 0.3m×6.5m | S24: 前回変状の発生範囲及び規模 | U24: うき 0.3m×6.5m
B25: 対策履歴 | E25: - | H25: 実施状況（実施日） | J25: - | M25: 対策履歴 | P25: - | S25: 実施状況（実施日） | U25: -
B26: メモ | E26: 水平打ち継ぎ目のうき 経過観察が望まれる | M26: メモ | P26: 水平打ち継ぎ目のうき 経過観察が望まれる
C27: ※ 応急措置後の対策区分について添付すること。また、点検前に 実施された措置によりⅠと判定された箇所も添付すること。 | N27: ※ 変状の発生範囲の規模とは、対策を行う際に参考となる変状の長さや面積をいう。
N28: ※ 応急措置を実施しないで決定した変状の対策区分は、対策区分の応急措置後の欄に記入すること。
C29: ※ たたき落としを実施した場合は、実施後の写真を添付すること。 | N29: ※ 変状の発生範囲の規模は、面積・寸法を記載すること。(ひび割れ幅のみmmとし、その他をm表記とする)
C30: ※ 附属物の取付状態に関する異常写真は別途、任意の書式でとりまとめること。 | N30: ※ 構造用鋼材以外の異物に伴ううき・はく離については、メモ欄に異物の概要を記入すること。

Sheet 様式D-1-1_021
B2: ■定期点検記録様式 変状写真台帳【様式D-1-1】 | R2: 施設ID | T2: 34.16769,131.77531
B3: フリガナ | E3: (ﾀｶｾﾄﾝﾈﾙ) | H3: 路 線 名 | J3: 国道376号線 | M3: 定期点検実施者 | P3: 基礎地盤コンサルタンツ株式会社 | S3: 定期点検年月日 | U3: 45944
B4: 名 称 | E4: 高瀬トンネル | H4: 管理者名 | J4: 周南土木建築事務所 | P4: 大谷 直毅
B5: 写真 番号 | C5: 覆工スパン 番号 | E5: 12 | M5: 写真 番号 | N5: 覆工スパン 番号 | P5: 12
C6: 変状番号 | E6: 3 | N6: 変状番号 | P6: 4
B7: 変状 部位 | C7: 対象箇所 | E7: 覆工 | M7: 変状 部位 | N7: 対象箇所 | P7: 覆工
C8: 部位区分 | E8: 側壁（左側） | N8: 部位区分 | P8: アーチ（左側）
B9: 変状種類 | E9: うき・はく離 | M9: 変状種類 | P9: 圧ざ、ひび割れ
B10: 対策 区分 | C10: 変状区分 | E10: 材質劣化 | M10: 対策 区分 | N10: 変状区分 | P10: 材質劣化
C11: 応急措置前 | E11: - | N11: 応急措置前 | P11: -
C12: 応急措置後 | E12: Ⅱb | N12: 応急措置後 | P12: Ⅱb
B13: 変状の発生範囲及び規模 | E13: 0.2m×0.05m | H13: 前回変状の発生範囲及び規模 | J13: うき 0.2m×0.05m | M13: 変状の発生範囲及び規模 | P13: 0.5m×0.3m | S13: 前回変状の発生範囲及び規模 | U13: 新規
B14: 対策履歴 | E14: - | H14: 実施状況（実施日） | J14: - | M14: 対策履歴 | P14: - | S14: 実施状況（実施日） | U14: -
B15: メモ | E15: 側壁のうき 経過観察が望まれる | M15: メモ | P15: アーチのブロック化が懸念されるひび割れ 経過観察が望まれる
B16: 写真 番号 | C16: 覆工スパン 番号 | E16: 12 | M16: 写真 番号 | N16: 覆工スパン 番号 | P16: 13
C17: 変状番号 | E17: 5 | N17: 変状番号 | P17: 1
B18: 変状 部位 | C18: 対象箇所 | E18: 覆工 | M18: 変状 部位 | N18: 対象箇所 | P18: 覆工
C19: 部位区分 | E19: アーチ（右側） | N19: 部位区分 | P19: 水平打ち継ぎ目（左側）
B20: 変状種類 | E20: 圧ざ、ひび割れ | M20: 変状種類 | P20: うき・はく離
B21: 対策 区分 | C21: 変状区分 | E21: 材質劣化 | M21: 対策 区分 | N21: 変状区分 | P21: 材質劣化
C22: 応急措置前 | E22: - | N22: 応急措置前 | P22: -
C23: 応急措置後 | E23: Ⅱa | N23: 応急措置後 | P23: Ⅱb
B24: 変状の発生範囲及び規模 | E24: 0.9m×1.1m | H24: 前回変状の発生範囲及び規模 | J24: 新規 | M24: 変状の発生範囲及び規模 | P24: 0.15m×2.9m | S24: 前回変状の発生範囲及び規模 | U24: うき 0.15m×2.4m
B25: 対策履歴 | E25: - | H25: 実施状況（実施日） | J25: - | M25: 対策履歴 | P25: - | S25: 実施状況（実施日） | U25: -
B26: メモ | E26: アーチの規模の大きいブロック化 打音異常なし 計画的な対策が望まれる | M26: メモ | P26: 水平打ち継ぎ目のうき 経過観察が望まれる
C27: ※ 応急措置後の対策区分について添付すること。また、点検前に 実施された措置によりⅠと判定された箇所も添付すること。 | N27: ※ 変状の発生範囲の規模とは、対策を行う際に参考となる変状の長さや面積をいう。
N28: ※ 応急措置を実施しないで決定した変状の対策区分は、対策区分の応急措置後の欄に記入すること。
C29: ※ たたき落としを実施した場合は、実施後の写真を添付すること。 | N29: ※ 変状の発生範囲の規模は、面積・寸法を記載すること。(ひび割れ幅のみmmとし、その他をm表記とする)
C30: ※ 附属物の取付状態に関する異常写真は別途、任意の書式でとりまとめること。 | N30: ※ 構造用鋼材以外の異物に伴ううき・はく離については、メモ欄に異物の概要を記入すること。

Sheet 様式D-1-1_022
B2: ■定期点検記録様式 変状写真台帳【様式D-1-1】 | R2: 施設ID | T2: 34.16769,131.77531
B3: フリガナ | E3: (ﾀｶｾﾄﾝﾈﾙ) | H3: 路 線 名 | J3: 国道376号線 | M3: 定期点検実施者 | P3: 基礎地盤コンサルタンツ株式会社 | S3: 定期点検年月日 | U3: 45944
B4: 名 称 | E4: 高瀬トンネル | H4: 管理者名 | J4: 周南土木建築事務所 | P4: 大谷 直毅
B5: 写真 番号 | C5: 覆工スパン 番号 | E5: 13 | M5: 写真 番号 | N5: 覆工スパン 番号 | P5: 13
C6: 変状番号 | E6: 2 | N6: 変状番号 | P6: 3
B7: 変状 部位 | C7: 対象箇所 | E7: 覆工 | M7: 変状 部位 | N7: 対象箇所 | P7: 覆工
C8: 部位区分 | E8: アーチ（右側） | N8: 部位区分 | P8: 水平打ち継ぎ目（右側）
B9: 変状種類 | E9: その他 | M9: 変状種類 | P9: うき・はく離
B10: 対策 区分 | C10: 変状区分 | E10: 漏水 | M10: 対策 区分 | N10: 変状区分 | P10: 材質劣化
C11: 応急措置前 | E11: - | N11: 応急措置前 | P11: -
C12: 応急措置後 | E12: Ⅰ | N12: 応急措置後 | P12: Ⅱb
B13: 変状の発生範囲及び規模 | E13: - | H13: 前回変状の発生範囲及び規模 | J13: 滴水 7.8m×0.5m | M13: 変状の発生範囲及び規模 | P13: 0.3m×2.9m | S13: 前回変状の発生範囲及び規模 | U13: うき 0.3m×2.9m
B14: 対策履歴 | E14: - | H14: 実施状況（実施日） | J14: - | M14: 対策履歴 | P14: - | S14: 実施状況（実施日） | U14: -
B15: メモ | E15: アーチの遊離石灰 今回点検時漏水は確認されなかった | M15: メモ | P15: 水平打ち継ぎ目のうき 経過観察が望まれる
B16: 写真 番号 | C16: 覆工スパン 番号 | E16: 13 | M16: 写真 番号 | N16: 覆工スパン 番号
C17: 変状番号 | E17: 4 | N17: 変状番号
B18: 変状 部位 | C18: 対象箇所 | E18: 覆工 | M18: 変状 部位 | N18: 対象箇所
C19: 部位区分 | E19: 水平打ち継ぎ目（右側） | N19: 部位区分
B20: 変状種類 | E20: うき・はく離 | M20: 変状種類
B21: 対策 区分 | C21: 変状区分 | E21: 材質劣化 | M21: 対策 区分 | N21: 変状区分
C22: 応急措置前 | E22: - | N22: 応急措置前
C23: 応急措置後 | E23: Ⅱb | N23: 応急措置後
B24: 変状の発生範囲及び規模 | E24: 0.15m×0.05m | H24: 前回変状の発生範囲及び規模 | J24: うき 0.15m×0.05m | M24: 変状の発生範囲及び規模 | S24: 前回変状の発生範囲及び規模
B25: 対策履歴 | E25: - | H25: 実施状況（実施日） | J25: - | M25: 対策履歴 | S25: 実施状況（実施日）
B26: メモ | E26: 水平打ち継ぎ目のうき 経過観察が望まれる | M26: メモ
C27: ※ 応急措置後の対策区分について添付すること。また、点検前に 実施された措置によりⅠと判定された箇所も添付すること。 | N27: ※ 変状の発生範囲の規模とは、対策を行う際に参考となる変状の長さや面積をいう。
N28: ※ 応急措置を実施しないで決定した変状の対策区分は、対策区分の応急措置後の欄に記入すること。
C29: ※ たたき落としを実施した場合は、実施後の写真を添付すること。 | N29: ※ 変状の発生範囲の規模は、面積・寸法を記載すること。(ひび割れ幅のみmmとし、その他をm表記とする)
C30: ※ 附属物の取付状態に関する異常写真は別途、任意の書式でとりまとめること。 | N30: ※ 構造用鋼材以外の異物に伴ううき・はく離については、メモ欄に異物の概要を記入すること。

Sheet 様式D-1-2
B2: ■定期点検記録様式 異常写真台帳（トンネル内附属物等の取付状態） 【様式D-1-2】
B3: フリガナ | E3: (ﾀｶｾﾄﾝﾈﾙ) | I3: 路 線 名 | L3: 国道376号線 | O3: 定期点検実施者 | R3: 基礎地盤コンサルタンツ株式会社 | U3: 定期点検年月日 | W3: 45944
B4: 名 称 | E4: 高瀬トンネル | I4: 管理者名 | L4: 周南土木建築事務所 | R4: 大谷 直毅
B5: 覆工スパン番号 | F5: 異常番号 | J5: 覆工スパン番号 | N5: 異常番号 | R5: 覆工スパン番号 | V5: 異常番号
B6: 対象箇所 | J6: 対象箇所 | R6: 対象箇所
B7: 部位区分 | F7: 異常の種類 | J7: 部位区分 | N7: 異常の種類 | R7: 部位区分 | V7: 異常の種類
B8: 異常判定区分 | E8: メモ | J8: 異常判定区分 | M8: メモ | R8: 異常判定区分 | U8: メモ
B22: 覆工スパン番号 | F22: 異常番号 | J22: 覆工スパン番号 | N22: 異常番号 | R22: 覆工スパン番号 | V22: 異常番号
B23: 対象箇所 | J23: 対象箇所 | R23: 対象箇所
B24: 部位区分 | F24: 異常の種類 | J24: 部位区分 | N24: 異常の種類 | R24: 部位区分 | V24: 異常の種類
B25: 異常判定区分 | E25: メモ | J25: 異常判定区分 | M25: メモ | R25: 異常判定区分 | U25: メモ
C39: ※ 異常判定区分×について記入すること。また、応急措置前に異常判定区分×とした箇所のうち応急措置により○と判定した箇所も記入すること。
C40: ※ 応急措置を実施した場合は、その実施状況が分かる写真を添付すること。
C41: ※ 変状数に準じてシートを追加すること。

Sheet 様式D-2-1_001
B3: ■定期点検記録様式 トンネル全体変状展開図 【様式D-2-1】
B4: フリガナ | E4: (ﾀｶｾﾄﾝﾈﾙ) | J4: 路線名 | M4: 国道376号線 | S4: 定期点検実施者 | W4: 基礎地盤コンサルタンツ株式会社 | AC4: 定期点検年月日 | AF4: 45944
B5: 名 称 | E5: 高瀬トンネル | J5: 管理者名 | M5: 周南土木建築事務所 | W5: 大谷 直毅
B6: トンネル変状展開図 | C6: トンネル全体変状展開図
V18: 注１：本展開図は、見下げた状態で記載すること。 注２：覆工スパン番号は横断目地毎（矢板工法の場合は上半アーチ の横断目地毎)に設定すること。 注３：横断目地の変状は前の覆工スパン番号で計上すること。 注４：１枚に収まらない場合は、複数枚に分けて作成すること。

Sheet 様式D-2-1_002
B3: ■定期点検記録様式 トンネル全体変状展開図 【様式D-2-1】
B4: フリガナ | E4: (ﾀｶｾﾄﾝﾈﾙ) | J4: 路線名 | M4: 国道376号線 | S4: 定期点検実施者 | W4: 基礎地盤コンサルタンツ株式会社 | AC4: 定期点検年月日 | AF4: 45944
B5: 名 称 | E5: 高瀬トンネル | J5: 管理者名 | M5: 周南土木建築事務所 | W5: 大谷 直毅
B6: トンネル変状展開図 | C6: トンネル全体変状展開図
V18: 注１：本展開図は、見下げた状態で記載すること。 注２：覆工スパン番号は横断目地毎（矢板工法の場合は上半アーチ の横断目地毎)に設定すること。 注３：横断目地の変状は前の覆工スパン番号で計上すること。 注４：１枚に収まらない場合は、複数枚に分けて作成すること。

Sheet 様式D-2-1´_001
B3: ■定期点検記録様式 トンネル全体変状展開図（機器の活用時） 【様式D-2-1’】
B4: フリガナ | E4: (ﾀｶｾﾄﾝﾈﾙ) | J4: 路線名 | M4: 国道376号線 | S4: 定期点検実施者 | W4: 基礎地盤コンサルタンツ株式会社 | AC4: 定期点検年月日 | AF4: 45944
B5: 名 称 | E5: 高瀬トンネル | J5: 管理者名 | M5: 周南土木建築事務所 | W5: 大谷 直毅
B6: トンネル変状展開図 | C6: トンネル全体変状展開図
V18: 注１：本展開図は、見下げた状態で記載すること。 注２：覆工スパン番号は横断目地毎（矢板工法の場合は上半アーチ の横断目地毎)に設定すること。 注３：横断目地の変状は前の覆工スパン番号で計上すること。 注４：１枚に収まらない場合は、複数枚に分けて作成すること。

Sheet 様式D-2-1´_002
B3: ■定期点検記録様式 トンネル全体変状展開図（機器の活用時） 【様式D-2-1’】
B4: フリガナ | E4: (ﾀｶｾﾄﾝﾈﾙ) | J4: 路線名 | M4: 国道376号線 | S4: 定期点検実施者 | W4: 基礎地盤コンサルタンツ株式会社 | AC4: 定期点検年月日 | AF4: 45944
B5: 名 称 | E5: 高瀬トンネル | J5: 管理者名 | M5: 周南土木建築事務所 | W5: 大谷 直毅
B6: トンネル変状展開図 | C6: トンネル全体変状展開図
V18: 注１：本展開図は、見下げた状態で記載すること。 注２：覆工スパン番号は横断目地毎（矢板工法の場合は上半アーチ の横断目地毎)に設定すること。 注３：横断目地の変状は前の覆工スパン番号で計上すること。 注４：１枚に収まらない場合は、複数枚に分けて作成すること。

Sheet 様式D-3_PS
AU1: 様式F用→ | AV1: 覆工スパン | AY1: 変 状 数 | BK1: 変 状 規 模
AV2: 番号 | AW2: 延長 （ｍ） | AX2: 健全性の診断の 区分 | AY2: 対策区分の判定 | BK2: 覆工スパン長（ｍ） | BO2: 変状の発生範囲の規模（㎡）
B3: ■定期点検記録様式 覆工スパン別変状詳細展開図 【様式D-3】 | AY3: 外力 | BC3: 材質劣化 | BG3: 漏水 | BK3: 外力 注2 | BO3: 材質劣化 | BS3: 漏水
B4: フリガナ | E4: (ﾀｶｾﾄﾝﾈﾙ) | K4: 路線名 | N4: 国道376号線 | T4: 定期点検実施者 | Y4: 基礎地盤コンサルタンツ株式会社 | AG4: 定期点検年月日 | AK4: 45944 | AY4: Ⅳ | AZ4: Ⅲ | BA4: Ⅱa | BB4: Ⅱb | BC4: Ⅳ | BD4: Ⅲ | BE4: Ⅱa | BF4: Ⅱb | BG4: Ⅳ | BH4: Ⅲ | BI4: Ⅱa | BJ4: Ⅱb | BK4: Ⅳ | BL4: Ⅲ | BM4: Ⅱa | BN4: Ⅱb | BO4: Ⅳ | BP4: Ⅲ | BQ4: Ⅱa | BR4: Ⅱb | BS4: Ⅳ | BT4: Ⅲ | BU4: Ⅱa | BV4: Ⅱb
B5: 名 称 | E5: 高瀬トンネル | K5: 管理者名 | N5: 周南土木建築事務所 | Y5: 大谷 直毅 | AV5: =N7 -> PS | AW5: =R7 -> 0 | AX5: =AM35 -> Ⅰ | AY5: =Y37 -> 0 | AZ5: =Z37 -> 0 | BA5: =AA37 -> 0 | BB5: =AB37 -> 0 | BC5: =AC37 -> 0 | BD5: =AD37 -> 0 | BE5: =AE37 -> 0 | BF5: =AF37 -> 0 | ... BJ5: =AJ37 -> 0 | BK5: =IF(Y37>0,R7,) -> 0 | BL5: =IF(Y37>0,"",IF(Z37>0,R7,)) -> 0 | BM5: =IF(Y37+Z37>0,"",IF(AA37>0,R7,)) -> 0 | BN5: =IF(Y37+Z37+AA37>0,"",IF(AB37>0,R7,)) -> 0 | BO5: =AC35 -> 0 | BP5: =AD35 -> 0 | BQ5: =AE35 -> 0 | BR5: =AF35 -> 0 | BS5: =AG35 -> 0 | BT5: =AH35 -> 0 | BU5: =AI35 -> 0 | BV5: =AJ35 -> 0
B6: スパン別変状展開図 | K6: 【健全性判定集計表】
K7: スパン番号 | N7: PS | P7: スパン長 | R7: 0 | U7: 前回定期点検時の判定 | W7: 応急措置前の判定 | Y7: 対策区分毎の 変状の有無 | AC7: 対策区分毎の変状の発生範囲の規模(㎡) | AK7: 備考注2
K8: 変状番号 | L8: 対象箇所 | N8: 部位区分 | P8: 変状区分 | R8: 変状種類
Y9: 外力注1 | AC9: 材質劣化注1 | AG9: 漏水注1
Y10: Ⅳ | Z10: Ⅲ | AA10: Ⅱa | AB10: Ⅱb | AC10: Ⅳ | AD10: Ⅲ | AE10: Ⅱa | AF10: Ⅱb | AG10: Ⅳ | AH10: Ⅲ | AI10: Ⅱa | AJ10: Ⅱb
K11: 1 | AQ11: =IF(P11="材質劣化",2,IF(P11="漏水",3,1)) -> 1 | AS11: =IF(Y11<>"",1,"")
K12: 2 | AQ12: =IF(P12="材質劣化",2,IF(P12="漏水",3,1)) -> 1
K13: 3 | AQ13: =IF(P13="材質劣化",2,IF(P13="漏水",3,1)) -> 1
K14: 4 | AQ14: =IF(P14="材質劣化",2,IF(P14="漏水",3,1)) -> 1
K15: 5 | AQ15: =IF(P15="材質劣化",2,IF(P15="漏水",3,1)) -> 1
K16: 6 | AQ16: =IF(P16="材質劣化",2,IF(P16="漏水",3,1)) -> 1
K17: 7 | AQ17: =IF(P17="材質劣化",2,IF(P17="漏水",3,1)) -> 1
K18: 8 | AQ18: =IF(P18="材質劣化",2,IF(P18="漏水",3,1)) -> 1
K19: 9 | AQ19: =IF(P19="材質劣化",2,IF(P19="漏水",3,1)) -> 1
K20: 10 | AQ20: =IF(P20="材質劣化",2,IF(P20="漏水",3,1)) -> 1
K21: 11 | AQ21: =IF(P21="材質劣化",2,IF(P21="漏水",3,1)) -> 1
K22: 12 | AQ22: =IF(P22="材質劣化",2,IF(P22="漏水",3,1)) -> 1
K23: 13 | AQ23: =IF(P23="材質劣化",2,IF(P23="漏水",3,1)) -> 1
... K34: 24 | AQ34: =IF(P34="材質劣化",2,IF(P34="漏水",3,1)) -> 1
K35: 集計 判定 診断 | L35: 変状の発生規模合計(㎡) | Y35: － | AC35: =SUM(AC11:AC34) -> 0 | AD35: =SUM(AD11:AD34) -> 0 | AE35: =SUM(AE11:AE34) -> 0 | AF35: =SUM(AF11:AF34) -> 0 | AG35: =SUM(AG11:AG34) -> 0 | AH35: =SUM(AH11:AH34) -> 0 | AI35: =SUM(AI11:AI34) -> 0 | AJ35: =SUM(AJ11:AJ34) -> 0 | AK35: 覆工スパン単位の 健全性の 診断の区分 | AM35: =IF(Y37+AC37+AG37>0,"Ⅳ",IF(Z37+AD37+AH37>0,"Ⅲ",IF(AA37+AB37+AE37+AF37+AI37+AJ37>0,"Ⅱ","Ⅰ"))) -> Ⅰ
L36: 対策区分の 判定結果 | O36: 対策区分毎の変状数注3 | Y36: Ⅳ | Z36: Ⅲ | AA36: Ⅱa | AB36: Ⅱb | AC36: Ⅳ | AD36: Ⅲ | AE36: Ⅱa | AF36: Ⅱb | AG36: Ⅳ | AH36: Ⅲ | AI36: Ⅱa | AJ36: Ⅱb
Y37: =IF(COUNTIF(Y11:Y34,"〇")>0,1,0) -> 0 | Z37: =IF(COUNTIF(Z11:Z34,"〇")>0,1,0) -> 0 | AA37: =IF(COUNTIF(AA11:AA34,"〇")>0,1,0) -> 0 | AB37: =IF(COUNTIF(AB11:AB34,"〇")>0,1,0) -> 0 | AC37: =COUNTA(AC11:AC34) -> 0 | AD37: =COUNTA(AD11:AD34) -> 0 | AE37: =COUNTA(AE11:AE34) -> 0 | AF37: =COUNTA(AF11:AF34) -> 0 | AG37: =COUNTA(AG11:AG34) -> 0 | AH37: =COUNTA(AH11:AH34) -> 0 | AI37: =COUNTA(AI11:AI34) -> 0 | AJ37: =COUNTA(AJ11:AJ34) -> 0
K39: 所見
K43: 注1：誤記入防止のため、当該変状区分以外のセルは灰色表示とすること。
K44: 注2：応急措置を実施した場合は、その詳細を備考に記載すること。
K45: 注3：外力は覆工スパン単位、材質劣化、漏水は変状単位とすること。
B46: （以下、印刷不要）
B47: ※1：本シートは作成洩れのないよう、変状が無くても全スパン分を作成すること．また変状展開図は、様式D-2-1、様式D-2-1'と同じものを覆工スパン単位で拡大し掲載すること。
B48: ※2：変状番号は、様式D-1-1で記入した番号と整合させること。
B49: ※3：対策区分毎の変状発生規模は、様式D-1-1に記載した面積を記入すること（ただし外力はスパン単位で評価するため変状の有無の欄には面積でなく○を記入し、備考欄に状況を記入）。
B50: ※4：本様式は覆工スパン毎に作成すること。
B51: ※5：変状数が多い場合は、適時、表の行を増やして覆工スパン毎に1枚のシートに収めること。また、1スパン１シートとし、スパンに合わせてシートを追加すること。
B52: ※6：対策区分毎の変状の発生範囲の規模とは，対策を行う際に参考となる変状の長さや面積であり，変状を包含する長さや面積とする。
B53: ※7：対策範囲を示す発生範囲の規模を面積で記入することが妥当ではない変状は、発生範囲の規模の欄に○を記入するとともに、備考に内容を記入すること。

Sheet 様式D-3_S001
AU1: 様式F用→ | AV1: 覆工スパン | AY1: 変 状 数 | BK1: 変 状 規 模
AV2: 番号 | AW2: 延長 （ｍ） | AX2: 健全性の診断の 区分 | AY2: 対策区分の判定 | BK2: 覆工スパン長（ｍ） | BO2: 変状の発生範囲の規模（㎡）
B3: ■定期点検記録様式 覆工スパン別変状詳細展開図 【様式D-3】 | AY3: 外力 | BC3: 材質劣化 | BG3: 漏水 | BK3: 外力 注2 | BO3: 材質劣化 | BS3: 漏水
B4: フリガナ | E4: (ﾀｶｾﾄﾝﾈﾙ) | K4: 路線名 | N4: 国道376号線 | T4: 定期点検実施者 | Y4: 基礎地盤コンサルタンツ株式会社 | AG4: 定期点検年月日 | AK4: 45944 | AY4: Ⅳ | AZ4: Ⅲ | BA4: Ⅱa | BB4: Ⅱb | BC4: Ⅳ | BD4: Ⅲ | BE4: Ⅱa | BF4: Ⅱb | BG4: Ⅳ | BH4: Ⅲ | BI4: Ⅱa | BJ4: Ⅱb | BK4: Ⅳ | BL4: Ⅲ | BM4: Ⅱa | BN4: Ⅱb | BO4: Ⅳ | BP4: Ⅲ | BQ4: Ⅱa | BR4: Ⅱb | BS4: Ⅳ | BT4: Ⅲ | BU4: Ⅱa | BV4: Ⅱb
B5: 名 称 | E5: 高瀬トンネル | K5: 管理者名 | N5: 周南土木建築事務所 | Y5: 大谷 直毅 | AV5: =N7 -> 1 | AW5: =R7 -> 3.7 | AX5: =AM35 -> Ⅱ | AY5: =Y37 -> 0 | AZ5: =Z37 -> 0 | BA5: =AA37 -> 0 | BB5: =AB37 -> 0 | BC5: =AC37 -> 0 | BD5: =AD37 -> 0 | BE5: =AE37 -> 0 | BF5: =AF37 -> 1 | ... BJ5: =AJ37 -> 0 | BK5: =IF(Y37>0,R7,) -> 0 | BL5: =IF(Y37>0,"",IF(Z37>0,R7,)) -> 0 | BM5: =IF(Y37+Z37>0,"",IF(AA37>0,R7,)) -> 0 | BN5: =IF(Y37+Z37+AA37>0,"",IF(AB37>0,R7,)) -> 0 | BO5: =AC35 -> 0 | BP5: =AD35 -> 0 | BQ5: =AE35 -> 0 | BR5: =AF35 -> 0.06 | BS5: =AG35 -> 0 | BT5: =AH35 -> 0 | BU5: =AI35 -> 0 | BV5: =AJ35 -> 0
B6: スパン別変状展開図 | K6: 【健全性判定集計表】
K7: スパン番号 | N7: 1 | P7: スパン長 | R7: 3.7 | U7: 前回定期点検時の判定 | W7: 応急措置前の判定 | Y7: 対策区分毎の 変状の有無 | AC7: 対策区分毎の変状の発生範囲の規模(㎡) | AK7: 備考注2
K8: 変状番号 | L8: 対象箇所 | N8: 部位区分 | P8: 変状区分 | R8: 変状種類
Y9: 外力注1 | AC9: 材質劣化注1 | AG9: 漏水注1
Y10: Ⅳ | Z10: Ⅲ | AA10: Ⅱa | AB10: Ⅱb | AC10: Ⅳ | AD10: Ⅲ | AE10: Ⅱa | AF10: Ⅱb | AG10: Ⅳ | AH10: Ⅲ | AI10: Ⅱa | AJ10: Ⅱb
K11: 1 | L11: 覆工 | N11: 水平打ち継ぎ目（左側） | P11: 材質劣化 | R11: うき・はく離 | U11: Ⅱb | W11: - | AF11: 0.06 | AQ11: =IF(P11="材質劣化",2,IF(P11="漏水",3,1)) -> 2 | AS11: =IF(Y11<>"",1,"")
K12: 2 | L12: 覆工 | N12: アーチ（右側） | P12: 漏水 | R12: その他 | U12: Ⅱa | W12: - | AQ12: =IF(P12="材質劣化",2,IF(P12="漏水",3,1)) -> 3
K13: 3 | L13: 覆工 | N13: アーチ（右側） | P13: 材質劣化 | R13: その他 | U13: Ⅱb | W13: - | AQ13: =IF(P13="材質劣化",2,IF(P13="漏水",3,1)) -> 2
K14: 4 | AQ14: =IF(P14="材質劣化",2,IF(P14="漏水",3,1)) -> 1
K15: 5 | AQ15: =IF(P15="材質劣化",2,IF(P15="漏水",3,1)) -> 1
K16: 6 | AQ16: =IF(P16="材質劣化",2,IF(P16="漏水",3,1)) -> 1
K17: 7 | AQ17: =IF(P17="材質劣化",2,IF(P17="漏水",3,1)) -> 1
K18: 8 | AQ18: =IF(P18="材質劣化",2,IF(P18="漏水",3,1)) -> 1
K19: 9 | AQ19: =IF(P19="材質劣化",2,IF(P19="漏水",3,1)) -> 1
K20: 10 | AQ20: =IF(P20="材質劣化",2,IF(P20="漏水",3,1)) -> 1
K21: 11 | AQ21: =IF(P21="材質劣化",2,IF(P21="漏水",3,1)) -> 1
K22: 12 | AQ22: =IF(P22="材質劣化",2,IF(P22="漏水",3,1)) -> 1
K23: 13 | AQ23: =IF(P23="材質劣化",2,IF(P23="漏水",3,1)) -> 1
K24: 14 | AQ24: =IF(P24="材質劣化",2,IF(P24="漏水",3,1)) -> 1
K25: 15 | AQ25: =IF(P25="材質劣化",2,IF(P25="漏水",3,1)) -> 1
... K34: 24 | AQ34: =IF(P34="材質劣化",2,IF(P34="漏水",3,1)) -> 1
K35: 集計 判定 診断 | L35: 変状の発生規模合計(㎡) | Y35: － | AC35: =SUM(AC11:AC34) -> 0 | AD35: =SUM(AD11:AD34) -> 0 | AE35: =SUM(AE11:AE34) -> 0 | AF35: =SUM(AF11:AF34) -> 0.06 | AG35: =SUM(AG11:AG34) -> 0 | AH35: =SUM(AH11:AH34) -> 0 | AI35: =SUM(AI11:AI34) -> 0 | AJ35: =SUM(AJ11:AJ34) -> 0 | AK35: 覆工スパン単位の 健全性の 診断の区分 | AM35: =IF(Y37+AC37+AG37>0,"Ⅳ",IF(Z37+AD37+AH37>0,"Ⅲ",IF(AA37+AB37+AE37+AF37+AI37+AJ37>0,"Ⅱ","Ⅰ"))) -> Ⅱ
L36: 対策区分の 判定結果 | O36: 対策区分毎の変状数注3 | Y36: Ⅳ | Z36: Ⅲ | AA36: Ⅱa | AB36: Ⅱb | AC36: Ⅳ | AD36: Ⅲ | AE36: Ⅱa | AF36: Ⅱb | AG36: Ⅳ | AH36: Ⅲ | AI36: Ⅱa | AJ36: Ⅱb
Y37: =IF(COUNTIF(Y11:Y34,"〇")>0,1,0) -> 0 | Z37: =IF(COUNTIF(Z11:Z34,"〇")>0,1,0) -> 0 | AA37: =IF(COUNTIF(AA11:AA34,"〇")>0,1,0) -> 0 | AB37: =IF(COUNTIF(AB11:AB34,"〇")>0,1,0) -> 0 | AC37: =COUNTA(AC11:AC34) -> 0 | AD37: =COUNTA(AD11:AD34) -> 0 | AE37: =COUNTA(AE11:AE34) -> 0 | AF37: =COUNTA(AF11:AF34) -> 1 | AG37: =COUNTA(AG11:AG34) -> 0 | AH37: =COUNTA(AH11:AH34) -> 0 | AI37: =COUNTA(AI11:AI34) -> 0 | AJ37: =COUNTA(AJ11:AJ34) -> 0
K39: 所見
K43: 注1：誤記入防止のため、当該変状区分以外のセルは灰色表示とすること。
K44: 注2：応急措置を実施した場合は、その詳細を備考に記載すること。
K45: 注3：外力は覆工スパン単位、材質劣化、漏水は変状単位とすること。
B46: （以下、印刷不要）
B47: ※1：本シートは作成洩れのないよう、変状が無くても全スパン分を作成すること．また変状展開図は、様式D-2-1、様式D-2-1'と同じものを覆工スパン単位で拡大し掲載すること。
B48: ※2：変状番号は、様式D-1-1で記入した番号と整合させること。
B49: ※3：対策区分毎の変状発生規模は、様式D-1-1に記載した面積を記入すること（ただし外力はスパン単位で評価するため変状の有無の欄には面積でなく○を記入し、備考欄に状況を記入）。
B50: ※4：本様式は覆工スパン毎に作成すること。
B51: ※5：変状数が多い場合は、適時、表の行を増やして覆工スパン毎に1枚のシートに収めること。また、1スパン１シートとし、スパンに合わせてシートを追加すること。
B52: ※6：対策区分毎の変状の発生範囲の規模とは，対策を行う際に参考となる変状の長さや面積であり，変状を包含する長さや面積とする。
B53: ※7：対策範囲を示す発生範囲の規模を面積で記入することが妥当ではない変状は、発生範囲の規模の欄に○を記入するとともに、備考に内容を記入すること。

Sheet 様式D-3_S002
AU1: 様式F用→ | AV1: 覆工スパン | AY1: 変 状 数 | BK1: 変 状 規 模
AV2: 番号 | AW2: 延長 （ｍ） | AX2: 健全性の診断の 区分 | AY2: 対策区分の判定 | BK2: 覆工スパン長（ｍ） | BO2: 変状の発生範囲の規模（㎡）
B3: ■定期点検記録様式 覆工スパン別変状詳細展開図 【様式D-3】 | AY3: 外力 | BC3: 材質劣化 | BG3: 漏水 | BK3: 外力 注2 | BO3: 材質劣化 | BS3: 漏水
B4: フリガナ | E4: (ﾀｶｾﾄﾝﾈﾙ) | K4: 路線名 | N4: 国道376号線 | T4: 定期点検実施者 | Y4: 基礎地盤コンサルタンツ株式会社 | AG4: 定期点検年月日 | AK4: 45944 | AY4: Ⅳ | AZ4: Ⅲ | BA4: Ⅱa | BB4: Ⅱb | BC4: Ⅳ | BD4: Ⅲ | BE4: Ⅱa | BF4: Ⅱb | BG4: Ⅳ | BH4: Ⅲ | BI4: Ⅱa | BJ4: Ⅱb | BK4: Ⅳ | BL4: Ⅲ | BM4: Ⅱa | BN4: Ⅱb | BO4: Ⅳ | BP4: Ⅲ | BQ4: Ⅱa | BR4: Ⅱb | BS4: Ⅳ | BT4: Ⅲ | BU4: Ⅱa | BV4: Ⅱb
B5: 名 称 | E5: 高瀬トンネル | K5: 管理者名 | N5: 周南土木建築事務所 | Y5: 大谷 直毅 | AV5: =N7 -> 2 | AW5: =R7 -> 3.3 | AX5: =AM35 -> Ⅱ | AY5: =Y37 -> 0 | AZ5: =Z37 -> 0 | BA5: =AA37 -> 0 | BB5: =AB37 -> 0 | BC5: =AC37 -> 0 | BD5: =AD37 -> 0 | BE5: =AE37 -> 0 | BF5: =AF37 -> 4 | ... BJ5: =AJ37 -> 0 | BK5: =IF(Y37>0,R7,) -> 0 | BL5: =IF(Y37>0,"",IF(Z37>0,R7,)) -> 0 | BM5: =IF(Y37+Z37>0,"",IF(AA37>0,R7,)) -> 0 | BN5: =IF(Y37+Z37+AA37>0,"",IF(AB37>0,R7,)) -> 0 | BO5: =AC35 -> 0 | BP5: =AD35 -> 0 | BQ5: =AE35 -> 0 | BR5: =AF35 -> 2.04 | BS5: =AG35 -> 0 | BT5: =AH35 -> 0 | BU5: =AI35 -> 0 | BV5: =AJ35 -> 0
B6: スパン別変状展開図 | K6: 【健全性判定集計表】
K7: スパン番号 | N7: 2 | P7: スパン長 | R7: 3.3 | U7: 前回定期点検時の判定 | W7: 応急措置前の判定 | Y7: 対策区分毎の 変状の有無 | AC7: 対策区分毎の変状の発生範囲の規模(㎡) | AK7: 備考注2
K8: 変状番号 | L8: 対象箇所 | N8: 部位区分 | P8: 変状区分 | R8: 変状種類
Y9: 外力注1 | AC9: 材質劣化注1 | AG9: 漏水注1
Y10: Ⅳ | Z10: Ⅲ | AA10: Ⅱa | AB10: Ⅱb | AC10: Ⅳ | AD10: Ⅲ | AE10: Ⅱa | AF10: Ⅱb | AG10: Ⅳ | AH10: Ⅲ | AI10: Ⅱa | AJ10: Ⅱb
K11: 1 | L11: 覆工 | N11: 水平打ち継ぎ目（左側） | P11: 材質劣化 | R11: うき・はく離 | U11: Ⅱb | W11: - | AF11: 0.99 | AQ11: =IF(P11="材質劣化",2,IF(P11="漏水",3,1)) -> 2 | AS11: =IF(Y11<>"",1,"")
K12: 2 | L12: 覆工 | N12: アーチ（右側） | P12: 材質劣化 | R12: 鋼材腐食 | U12: Ⅱb | W12: - | AF12: 0.02 | AQ12: =IF(P12="材質劣化",2,IF(P12="漏水",3,1)) -> 2
K13: 3 | L13: 覆工 | N13: 水平打ち継ぎ目（右側） | P13: 材質劣化 | R13: うき・はく離 | U13: Ⅱb | W13: - | AF13: 0.99 | AQ13: =IF(P13="材質劣化",2,IF(P13="漏水",3,1)) -> 2
K14: 4 | L14: 覆工 | N14: 横断目地（右側） | P14: 材質劣化 | R14: うき・はく離 | U14: Ⅱa | W14: - | AF14: 0.04 | AQ14: =IF(P14="材質劣化",2,IF(P14="漏水",3,1)) -> 2
K15: 5 | L15: 路面 | N15: 監査歩路 | R15: その他 | U15: Ⅱb | AQ15: =IF(P15="材質劣化",2,IF(P15="漏水",3,1)) -> 1
K16: 6 | AQ16: =IF(P16="材質劣化",2,IF(P16="漏水",3,1)) -> 1
K17: 7 | AQ17: =IF(P17="材質劣化",2,IF(P17="漏水",3,1)) -> 1
K18: 8 | AQ18: =IF(P18="材質劣化",2,IF(P18="漏水",3,1)) -> 1
K19: 9 | AQ19: =IF(P19="材質劣化",2,IF(P19="漏水",3,1)) -> 1
K20: 10 | AQ20: =IF(P20="材質劣化",2,IF(P20="漏水",3,1)) -> 1
K21: 11 | AQ21: =IF(P21="材質劣化",2,IF(P21="漏水",3,1)) -> 1
K22: 12 | AQ22: =IF(P22="材質劣化",2,IF(P22="漏水",3,1)) -> 1
K23: 13 | AQ23: =IF(P23="材質劣化",2,IF(P23="漏水",3,1)) -> 1
K24: 14 | AQ24: =IF(P24="材質劣化",2,IF(P24="漏水",3,1)) -> 1
K25: 15 | AQ25: =IF(P25="材質劣化",2,IF(P25="漏水",3,1)) -> 1
K26: 16 | AQ26: =IF(P26="材質劣化",2,IF(P26="漏水",3,1)) -> 1
K27: 17 | AQ27: =IF(P27="材質劣化",2,IF(P27="漏水",3,1)) -> 1
... K34: 24 | AQ34: =IF(P34="材質劣化",2,IF(P34="漏水",3,1)) -> 1
K35: 集計 判定 診断 | L35: 変状の発生規模合計(㎡) | Y35: － | AC35: =SUM(AC11:AC34) -> 0 | AD35: =SUM(AD11:AD34) -> 0 | AE35: =SUM(AE11:AE34) -> 0 | AF35: =SUM(AF11:AF34) -> 2.04 | AG35: =SUM(AG11:AG34) -> 0 | AH35: =SUM(AH11:AH34) -> 0 | AI35: =SUM(AI11:AI34) -> 0 | AJ35: =SUM(AJ11:AJ34) -> 0 | AK35: 覆工スパン単位の 健全性の 診断の区分 | AM35: =IF(Y37+AC37+AG37>0,"Ⅳ",IF(Z37+AD37+AH37>0,"Ⅲ",IF(AA37+AB37+AE37+AF37+AI37+AJ37>0,"Ⅱ","Ⅰ"))) -> Ⅱ
L36: 対策区分の 判定結果 | O36: 対策区分毎の変状数注3 | Y36: Ⅳ | Z36: Ⅲ | AA36: Ⅱa | AB36: Ⅱb | AC36: Ⅳ | AD36: Ⅲ | AE36: Ⅱa | AF36: Ⅱb | AG36: Ⅳ | AH36: Ⅲ | AI36: Ⅱa | AJ36: Ⅱb
Y37: =IF(COUNTIF(Y11:Y34,"〇")>0,1,0) -> 0 | Z37: =IF(COUNTIF(Z11:Z34,"〇")>0,1,0) -> 0 | AA37: =IF(COUNTIF(AA11:AA34,"〇")>0,1,0) -> 0 | AB37: =IF(COUNTIF(AB11:AB34,"〇")>0,1,0) -> 0 | AC37: =COUNTA(AC11:AC34) -> 0 | AD37: =COUNTA(AD11:AD34) -> 0 | AE37: =COUNTA(AE11:AE34) -> 0 | AF37: =COUNTA(AF11:AF34) -> 4 | AG37: =COUNTA(AG11:AG34) -> 0 | AH37: =COUNTA(AH11:AH34) -> 0 | AI37: =COUNTA(AI11:AI34) -> 0 | AJ37: =COUNTA(AJ11:AJ34) -> 0
K39: 所見
K43: 注1：誤記入防止のため、当該変状区分以外のセルは灰色表示とすること。
K44: 注2：応急措置を実施した場合は、その詳細を備考に記載すること。
K45: 注3：外力は覆工スパン単位、材質劣化、漏水は変状単位とすること。
B46: （以下、印刷不要）
B47: ※1：本シートは作成洩れのないよう、変状が無くても全スパン分を作成すること．また変状展開図は、様式D-2-1、様式D-2-1'と同じものを覆工スパン単位で拡大し掲載すること。
B48: ※2：変状番号は、様式D-1-1で記入した番号と整合させること。
B49: ※3：対策区分毎の変状発生規模は、様式D-1-1に記載した面積を記入すること（ただし外力はスパン単位で評価するため変状の有無の欄には面積でなく○を記入し、備考欄に状況を記入）。
B50: ※4：本様式は覆工スパン毎に作成すること。
B51: ※5：変状数が多い場合は、適時、表の行を増やして覆工スパン毎に1枚のシートに収めること。また、1スパン１シートとし、スパンに合わせてシートを追加すること。
B52: ※6：対策区分毎の変状の発生範囲の規模とは，対策を行う際に参考となる変状の長さや面積であり，変状を包含する長さや面積とする。
B53: ※7：対策範囲を示す発生範囲の規模を面積で記入することが妥当ではない変状は、発生範囲の規模の欄に○を記入するとともに、備考に内容を記入すること。

Sheet 様式D-3_S003
AU1: 様式F用→ | AV1: 覆工スパン | AY1: 変 状 数 | BK1: 変 状 規 模
AV2: 番号 | AW2: 延長 （ｍ） | AX2: 健全性の診断の 区分 | AY2: 対策区分の判定 | BK2: 覆工スパン長（ｍ） | BO2: 変状の発生範囲の規模（㎡）
B3: ■定期点検記録様式 覆工スパン別変状詳細展開図 【様式D-3】 | AY3: 外力 | BC3: 材質劣化 | BG3: 漏水 | BK3: 外力 注2 | BO3: 材質劣化 | BS3: 漏水
B4: フリガナ | E4: (ﾀｶｾﾄﾝﾈﾙ) | K4: 路線名 | N4: 国道376号線 | T4: 定期点検実施者 | Y4: 基礎地盤コンサルタンツ株式会社 | AG4: 定期点検年月日 | AK4: 45944 | AY4: Ⅳ | AZ4: Ⅲ | BA4: Ⅱa | BB4: Ⅱb | BC4: Ⅳ | BD4: Ⅲ | BE4: Ⅱa | BF4: Ⅱb | BG4: Ⅳ | BH4: Ⅲ | BI4: Ⅱa | BJ4: Ⅱb | BK4: Ⅳ | BL4: Ⅲ | BM4: Ⅱa | BN4: Ⅱb | BO4: Ⅳ | BP4: Ⅲ | BQ4: Ⅱa | BR4: Ⅱb | BS4: Ⅳ | BT4: Ⅲ | BU4: Ⅱa | BV4: Ⅱb
B5: 名 称 | E5: 高瀬トンネル | K5: 管理者名 | N5: 周南土木建築事務所 | Y5: 大谷 直毅 | AV5: =N7 -> 3 | AW5: =R7 -> 7.8 | AX5: =AM35 -> Ⅲ | AY5: =Y37 -> 0 | AZ5: =Z37 -> 0 | BA5: =AA37 -> 0 | BB5: =AB37 -> 1 | BC5: =AC37 -> 0 | BD5: =AD37 -> 1 | BE5: =AE37 -> 1 | BF5: =AF37 -> 3 | ... BJ5: =AJ37 -> 0 | BK5: =IF(Y37>0,R7,) -> 0 | BL5: =IF(Y37>0,"",IF(Z37>0,R7,)) -> 0 | BM5: =IF(Y37+Z37>0,"",IF(AA37>0,R7,)) -> 0 | BN5: =IF(Y37+Z37+AA37>0,"",IF(AB37>0,R7,)) -> 7.8 | BO5: =AC35 -> 0 | BP5: =AD35 -> 0.01 | BQ5: =AE35 -> 0.0032 | BR5: =AF35 -> 4.24 | BS5: =AG35 -> 0 | BT5: =AH35 -> 0 | BU5: =AI35 -> 0 | BV5: =AJ35 -> 0
B6: スパン別変状展開図 | K6: 【健全性判定集計表】
K7: スパン番号 | N7: 3 | P7: スパン長 | R7: 7.8 | U7: 前回定期点検時の判定 | W7: 応急措置前の判定 | Y7: 対策区分毎の 変状の有無 | AC7: 対策区分毎の変状の発生範囲の規模(㎡) | AK7: 備考注2
K8: 変状番号 | L8: 対象箇所 | N8: 部位区分 | P8: 変状区分 | R8: 変状種類
Y9: 外力注1 | AC9: 材質劣化注1 | AG9: 漏水注1
Y10: Ⅳ | Z10: Ⅲ | AA10: Ⅱa | AB10: Ⅱb | AC10: Ⅳ | AD10: Ⅲ | AE10: Ⅱa | AF10: Ⅱb | AG10: Ⅳ | AH10: Ⅲ | AI10: Ⅱa | AJ10: Ⅱb
K11: 1 | L11: 覆工 | N11: 水平打ち継ぎ目（左側） | P11: 材質劣化 | R11: うき・はく離 | U11: Ⅱb | W11: - | AF11: 1.89 | AQ11: =IF(P11="材質劣化",2,IF(P11="漏水",3,1)) -> 2 | AS11: =IF(Y11<>"",1,"")
K12: 2 | L12: 覆工 | N12: アーチ（左側） | P12: 外力 | R12: 圧ざ、ひび割れ | U12: Ⅱb | W12: - | AB12: 〇 | AQ12: =IF(P12="材質劣化",2,IF(P12="漏水",3,1)) -> 1
K13: 3 | L13: 覆工 | N13: アーチ（右側） | P13: 材質劣化 | R13: うき・はく離 | U13: Ⅱa | W13: - | AD13: 0.01 | AQ13: =IF(P13="材質劣化",2,IF(P13="漏水",3,1)) -> 2
K14: 4 | L14: 覆工 | N14: アーチ（右側） | P14: 漏水 | R14: その他 | U14: Ⅱa | W14: - | AQ14: =IF(P14="材質劣化",2,IF(P14="漏水",3,1)) -> 3
K15: 5 | L15: 覆工 | N15: アーチ（全周） | P15: 漏水 | R15: 漏水 | U15: Ⅱa | W15: - | AQ15: =IF(P15="材質劣化",2,IF(P15="漏水",3,1)) -> 3
K16: 6 | L16: 覆工 | N16: アーチ（全周） | P16: 漏水 | R16: 漏水 | U16: Ⅱb | W16: - | AQ16: =IF(P16="材質劣化",2,IF(P16="漏水",3,1)) -> 3
K17: 7 | L17: 覆工 | N17: 水平打ち継ぎ目（右側） | P17: 材質劣化 | R17: うき・はく離 | U17: Ⅱb | W17: - | AF17: 2.34 | AQ17: =IF(P17="材質劣化",2,IF(P17="漏水",3,1)) -> 2
K18: 8 | L18: 覆工 | N18: アーチ（左側） | P18: 材質劣化 | R18: 圧ざ、ひび割れ | U18: - | W18: - | AE18: 0.0032 | AQ18: =IF(P18="材質劣化",2,IF(P18="漏水",3,1)) -> 2
K19: 9 | L19: 覆工 | N19: 横断目地（右側） | P19: 材質劣化 | R19: うき・はく離 | U19: - | W19: - | AF19: 0.01 | AQ19: =IF(P19="材質劣化",2,IF(P19="漏水",3,1)) -> 2
K20: 10 | AQ20: =IF(P20="材質劣化",2,IF(P20="漏水",3,1)) -> 1
K21: 11 | AQ21: =IF(P21="材質劣化",2,IF(P21="漏水",3,1)) -> 1
K22: 12 | AQ22: =IF(P22="材質劣化",2,IF(P22="漏水",3,1)) -> 1
K23: 13 | AQ23: =IF(P23="材質劣化",2,IF(P23="漏水",3,1)) -> 1
K24: 14 | AQ24: =IF(P24="材質劣化",2,IF(P24="漏水",3,1)) -> 1
K25: 15 | AQ25: =IF(P25="材質劣化",2,IF(P25="漏水",3,1)) -> 1
K26: 16 | AQ26: =IF(P26="材質劣化",2,IF(P26="漏水",3,1)) -> 1
K27: 17 | AQ27: =IF(P27="材質劣化",2,IF(P27="漏水",3,1)) -> 1
K28: 18 | AQ28: =IF(P28="材質劣化",2,IF(P28="漏水",3,1)) -> 1
K29: 19 | AQ29: =IF(P29="材質劣化",2,IF(P29="漏水",3,1)) -> 1
K30: 20 | AQ30: =IF(P30="材質劣化",2,IF(P30="漏水",3,1)) -> 1
K31: 21 | AQ31: =IF(P31="材質劣化",2,IF(P31="漏水",3,1)) -> 1
... K34: 24 | AQ34: =IF(P34="材質劣化",2,IF(P34="漏水",3,1)) -> 1
K35: 集計 判定 診断 | L35: 変状の発生規模合計(㎡) | Y35: － | AC35: =SUM(AC11:AC34) -> 0 | AD35: =SUM(AD11:AD34) -> 0.01 | AE35: =SUM(AE11:AE34) -> 0.0032 | AF35: =SUM(AF11:AF34) -> 4.24 | AG35: =SUM(AG11:AG34) -> 0 | AH35: =SUM(AH11:AH34) -> 0 | AI35: =SUM(AI11:AI34) -> 0 | AJ35: =SUM(AJ11:AJ34) -> 0 | AK35: 覆工スパン単位の 健全性の 診断の区分 | AM35: =IF(Y37+AC37+AG37>0,"Ⅳ",IF(Z37+AD37+AH37>0,"Ⅲ",IF(AA37+AB37+AE37+AF37+AI37+AJ37>0,"Ⅱ","Ⅰ"))) -> Ⅲ
L36: 対策区分の 判定結果 | O36: 対策区分毎の変状数注3 | Y36: Ⅳ | Z36: Ⅲ | AA36: Ⅱa | AB36: Ⅱb | AC36: Ⅳ | AD36: Ⅲ | AE36: Ⅱa | AF36: Ⅱb | AG36: Ⅳ | AH36: Ⅲ | AI36: Ⅱa | AJ36: Ⅱb
Y37: =IF(COUNTIF(Y11:Y34,"〇")>0,1,0) -> 0 | Z37: =IF(COUNTIF(Z11:Z34,"〇")>0,1,0) -> 0 | AA37: =IF(COUNTIF(AA11:AA34,"〇")>0,1,0) -> 0 | AB37: =IF(COUNTIF(AB11:AB34,"〇")>0,1,0) -> 1 | AC37: =COUNTA(AC11:AC34) -> 0 | AD37: =COUNTA(AD11:AD34) -> 1 | AE37: =COUNTA(AE11:AE34) -> 1 | AF37: =COUNTA(AF11:AF34) -> 3 | AG37: =COUNTA(AG11:AG34) -> 0 | AH37: =COUNTA(AH11:AH34) -> 0 | AI37: =COUNTA(AI11:AI34) -> 0 | AJ37: =COUNTA(AJ11:AJ34) -> 0
K39: 所見
K43: 注1：誤記入防止のため、当該変状区分以外のセルは灰色表示とすること。
K44: 注2：応急措置を実施した場合は、その詳細を備考に記載すること。
K45: 注3：外力は覆工スパン単位、材質劣化、漏水は変状単位とすること。
B46: （以下、印刷不要）
B47: ※1：本シートは作成洩れのないよう、変状が無くても全スパン分を作成すること．また変状展開図は、様式D-2-1、様式D-2-1'と同じものを覆工スパン単位で拡大し掲載すること。
B48: ※2：変状番号は、様式D-1-1で記入した番号と整合させること。
B49: ※3：対策区分毎の変状発生規模は、様式D-1-1に記載した面積を記入すること（ただし外力はスパン単位で評価するため変状の有無の欄には面積でなく○を記入し、備考欄に状況を記入）。
B50: ※4：本様式は覆工スパン毎に作成すること。
B51: ※5：変状数が多い場合は、適時、表の行を増やして覆工スパン毎に1枚のシートに収めること。また、1スパン１シートとし、スパンに合わせてシートを追加すること。
B52: ※6：対策区分毎の変状の発生範囲の規模とは，対策を行う際に参考となる変状の長さや面積であり，変状を包含する長さや面積とする。
B53: ※7：対策範囲を示す発生範囲の規模を面積で記入することが妥当ではない変状は、発生範囲の規模の欄に○を記入するとともに、備考に内容を記入すること。

Sheet 様式D-3_S004
AU1: 様式F用→ | AV1: 覆工スパン | AY1: 変 状 数 | BK1: 変 状 規 模
AV2: 番号 | AW2: 延長 （ｍ） | AX2: 健全性の診断の 区分 | AY2: 対策区分の判定 | BK2: 覆工スパン長（ｍ） | BO2: 変状の発生範囲の規模（㎡）
B3: ■定期点検記録様式 覆工スパン別変状詳細展開図 【様式D-3】 | AY3: 外力 | BC3: 材質劣化 | BG3: 漏水 | BK3: 外力 注2 | BO3: 材質劣化 | BS3: 漏水
B4: フリガナ | E4: (ﾀｶｾﾄﾝﾈﾙ) | K4: 路線名 | N4: 国道376号線 | T4: 定期点検実施者 | Y4: 基礎地盤コンサルタンツ株式会社 | AG4: 定期点検年月日 | AK4: 45944 | AY4: Ⅳ | AZ4: Ⅲ | BA4: Ⅱa | BB4: Ⅱb | BC4: Ⅳ | BD4: Ⅲ | BE4: Ⅱa | BF4: Ⅱb | BG4: Ⅳ | BH4: Ⅲ | BI4: Ⅱa | BJ4: Ⅱb | BK4: Ⅳ | BL4: Ⅲ | BM4: Ⅱa | BN4: Ⅱb | BO4: Ⅳ | BP4: Ⅲ | BQ4: Ⅱa | BR4: Ⅱb | BS4: Ⅳ | BT4: Ⅲ | BU4: Ⅱa | BV4: Ⅱb
B5: 名 称 | E5: 高瀬トンネル | K5: 管理者名 | N5: 周南土木建築事務所 | Y5: 大谷 直毅 | AV5: =N7 -> 4 | AW5: =R7 -> 7.8 | AX5: =AM35 -> Ⅲ | AY5: =Y37 -> 0 | AZ5: =Z37 -> 0 | BA5: =AA37 -> 0 | BB5: =AB37 -> 0 | BC5: =AC37 -> 0 | BD5: =AD37 -> 1 | BE5: =AE37 -> 0 | BF5: =AF37 -> 4 | ... BJ5: =AJ37 -> 2 | BK5: =IF(Y37>0,R7,) -> 0 | BL5: =IF(Y37>0,"",IF(Z37>0,R7,)) -> 0 | BM5: =IF(Y37+Z37>0,"",IF(AA37>0,R7,)) -> 0 | BN5: =IF(Y37+Z37+AA37>0,"",IF(AB37>0,R7,)) -> 0 | BO5: =AC35 -> 0 | BP5: =AD35 -> 0.0125 | BQ5: =AE35 -> 0 | BR5: =AF35 -> 4.44 | BS5: =AG35 -> 0 | BT5: =AH35 -> 0 | BU5: =AI35 -> 0 | BV5: =AJ35 -> 17.38
B6: スパン別変状展開図 | K6: 【健全性判定集計表】
K7: スパン番号 | N7: 4 | P7: スパン長 | R7: 7.8 | U7: 前回定期点検時の判定 | W7: 応急措置前の判定 | Y7: 対策区分毎の 変状の有無 | AC7: 対策区分毎の変状の発生範囲の規模(㎡) | AK7: 備考注2
K8: 変状番号 | L8: 対象箇所 | N8: 部位区分 | P8: 変状区分 | R8: 変状種類
Y9: 外力注1 | AC9: 材質劣化注1 | AG9: 漏水注1
Y10: Ⅳ | Z10: Ⅲ | AA10: Ⅱa | AB10: Ⅱb | AC10: Ⅳ | AD10: Ⅲ | AE10: Ⅱa | AF10: Ⅱb | AG10: Ⅳ | AH10: Ⅲ | AI10: Ⅱa | AJ10: Ⅱb
K11: 1 | L11: 覆工 | N11: 側壁（左側） | P11: 漏水 | R11: その他 | U11: Ⅱb | W11: - | AQ11: =IF(P11="材質劣化",2,IF(P11="漏水",3,1)) -> 3 | AS11: =IF(Y11<>"",1,"")
K12: 2 | L12: 覆工 | N12: アーチ（左側） | P12: 漏水 | R12: 漏水 | U12: Ⅱa | W12: - | AJ12: 3.95 | AQ12: =IF(P12="材質劣化",2,IF(P12="漏水",3,1)) -> 3
K13: 3 | L13: 覆工 | N13: 水平打ち継ぎ目（左側） | P13: 材質劣化 | R13: うき・はく離 | U13: Ⅱb | W13: - | AF13: 1.89 | AQ13: =IF(P13="材質劣化",2,IF(P13="漏水",3,1)) -> 2
K14: 4 | L14: 覆工 | N14: アーチ（左側） | P14: 材質劣化 | R14: うき・はく離 | U14: Ⅱa | W14: - | AQ14: =IF(P14="材質劣化",2,IF(P14="漏水",3,1)) -> 2
K15: 5 | L15: 覆工 | N15: アーチ（左側） | P15: 材質劣化 | R15: うき・はく離 | U15: Ⅱa | W15: - | AQ15: =IF(P15="材質劣化",2,IF(P15="漏水",3,1)) -> 2
K16: 6 | L16: 覆工 | N16: 水平打ち継ぎ目（右側） | P16: 材質劣化 | R16: うき・はく離 | U16: Ⅱb | W16: - | AF16: 2.34 | AQ16: =IF(P16="材質劣化",2,IF(P16="漏水",3,1)) -> 2
K17: 7 | L17: 覆工 | N17: アーチ（右側） | P17: 材質劣化 | R17: 圧ざ、ひび割れ | U17: Ⅰ | W17: - | AQ17: =IF(P17="材質劣化",2,IF(P17="漏水",3,1)) -> 2
K18: 8 | L18: 覆工 | N18: アーチ（右側） | P18: 材質劣化 | R18: うき・はく離 | U18: Ⅱa | W18: - | AQ18: =IF(P18="材質劣化",2,IF(P18="漏水",3,1)) -> 2
K19: 9 | L19: 覆工 | N19: 横断目地（左側） | P19: 材質劣化 | R19: うき・はく離 | U19: - | W19: - | AD19: 0.0125 | AQ19: =IF(P19="材質劣化",2,IF(P19="漏水",3,1)) -> 2
K20: 10 | L20: 覆工 | N20: アーチ（右側） | P20: 漏水 | R20: 漏水 | U20: - | W20: - | AJ20: 13.43 | AQ20: =IF(P20="材質劣化",2,IF(P20="漏水",3,1)) -> 3
K21: 11 | L21: 覆工 | N21: 側壁（右側） | P21: 材質劣化 | R21: うき・はく離 | U21: Ⅱb | W21: - | AF21: 0.13 | AQ21: =IF(P21="材質劣化",2,IF(P21="漏水",3,1)) -> 2
K22: 12 | L22: 覆工 | N22: 側壁（右側） | P22: 材質劣化 | R22: うき・はく離 | U22: Ⅱb | W22: - | AF22: 0.08 | AQ22: =IF(P22="材質劣化",2,IF(P22="漏水",3,1)) -> 2
K23: 13 | AQ23: =IF(P23="材質劣化",2,IF(P23="漏水",3,1)) -> 1
K24: 14 | AQ24: =IF(P24="材質劣化",2,IF(P24="漏水",3,1)) -> 1
K25: 15 | AQ25: =IF(P25="材質劣化",2,IF(P25="漏水",3,1)) -> 1
K26: 16 | AQ26: =IF(P26="材質劣化",2,IF(P26="漏水",3,1)) -> 1
K27: 17 | AQ27: =IF(P27="材質劣化",2,IF(P27="漏水",3,1)) -> 1
K28: 18 | AQ28: =IF(P28="材質劣化",2,IF(P28="漏水",3,1)) -> 1
K29: 19 | AQ29: =IF(P29="材質劣化",2,IF(P29="漏水",3,1)) -> 1
K30: 20 | AQ30: =IF(P30="材質劣化",2,IF(P30="漏水",3,1)) -> 1
K31: 21 | AQ31: =IF(P31="材質劣化",2,IF(P31="漏水",3,1)) -> 1
K32: 22 | AQ32: =IF(P32="材質劣化",2,IF(P32="漏水",3,1)) -> 1
K33: 23 | AQ33: =IF(P33="材質劣化",2,IF(P33="漏水",3,1)) -> 1
K34: 24 | AQ34: =IF(P34="材質劣化",2,IF(P34="漏水",3,1)) -> 1
K35: 集計 判定 診断 | L35: 変状の発生規模合計(㎡) | Y35: － | AC35: =SUM(AC11:AC34) -> 0 | AD35: =SUM(AD11:AD34) -> 0.0125 | AE35: =SUM(AE11:AE34) -> 0 | AF35: =SUM(AF11:AF34) -> 4.44 | AG35: =SUM(AG11:AG34) -> 0 | AH35: =SUM(AH11:AH34) -> 0 | AI35: =SUM(AI11:AI34) -> 0 | AJ35: =SUM(AJ11:AJ34) -> 17.38 | AK35: 覆工スパン単位の 健全性の 診断の区分 | AM35: =IF(Y37+AC37+AG37>0,"Ⅳ",IF(Z37+AD37+AH37>0,"Ⅲ",IF(AA37+AB37+AE37+AF37+AI37+AJ37>0,"Ⅱ","Ⅰ"))) -> Ⅲ
L36: 対策区分の 判定結果 | O36: 対策区分毎の変状数注3 | Y36: Ⅳ | Z36: Ⅲ | AA36: Ⅱa | AB36: Ⅱb | AC36: Ⅳ | AD36: Ⅲ | AE36: Ⅱa | AF36: Ⅱb | AG36: Ⅳ | AH36: Ⅲ | AI36: Ⅱa | AJ36: Ⅱb
Y37: =IF(COUNTIF(Y11:Y34,"〇")>0,1,0) -> 0 | Z37: =IF(COUNTIF(Z11:Z34,"〇")>0,1,0) -> 0 | AA37: =IF(COUNTIF(AA11:AA34,"〇")>0,1,0) -> 0 | AB37: =IF(COUNTIF(AB11:AB34,"〇")>0,1,0) -> 0 | AC37: =COUNTA(AC11:AC34) -> 0 | AD37: =COUNTA(AD11:AD34) -> 1 | AE37: =COUNTA(AE11:AE34) -> 0 | AF37: =COUNTA(AF11:AF34) -> 4 | AG37: =COUNTA(AG11:AG34) -> 0 | AH37: =COUNTA(AH11:AH34) -> 0 | AI37: =COUNTA(AI11:AI34) -> 0 | AJ37: =COUNTA(AJ11:AJ34) -> 2
K39: 所見
K43: 注1：誤記入防止のため、当該変状区分以外のセルは灰色表示とすること。
K44: 注2：応急措置を実施した場合は、その詳細を備考に記載すること。
K45: 注3：外力は覆工スパン単位、材質劣化、漏水は変状単位とすること。
B46: （以下、印刷不要）
B47: ※1：本シートは作成洩れのないよう、変状が無くても全スパン分を作成すること．また変状展開図は、様式D-2-1、様式D-2-1'と同じものを覆工スパン単位で拡大し掲載すること。
B48: ※2：変状番号は、様式D-1-1で記入した番号と整合させること。
B49: ※3：対策区分毎の変状発生規模は、様式D-1-1に記載した面積を記入すること（ただし外力はスパン単位で評価するため変状の有無の欄には面積でなく○を記入し、備考欄に状況を記入）。
B50: ※4：本様式は覆工スパン毎に作成すること。
B51: ※5：変状数が多い場合は、適時、表の行を増やして覆工スパン毎に1枚のシートに収めること。また、1スパン１シートとし、スパンに合わせてシートを追加すること。
B52: ※6：対策区分毎の変状の発生範囲の規模とは，対策を行う際に参考となる変状の長さや面積であり，変状を包含する長さや面積とする。
B53: ※7：対策範囲を示す発生範囲の規模を面積で記入することが妥当ではない変状は、発生範囲の規模の欄に○を記入するとともに、備考に内容を記入すること。

Sheet 様式D-3_S005
AU1: 様式F用→ | AV1: 覆工スパン | AY1: 変 状 数 | BK1: 変 状 規 模
AV2: 番号 | AW2: 延長 （ｍ） | AX2: 健全性の診断の 区分 | AY2: 対策区分の判定 | BK2: 覆工スパン長（ｍ） | BO2: 変状の発生範囲の規模（㎡）
B3: ■定期点検記録様式 覆工スパン別変状詳細展開図 【様式D-3】 | AY3: 外力 | BC3: 材質劣化 | BG3: 漏水 | BK3: 外力 注2 | BO3: 材質劣化 | BS3: 漏水
B4: フリガナ | E4: (ﾀｶｾﾄﾝﾈﾙ) | K4: 路線名 | N4: 国道376号線 | T4: 定期点検実施者 | Y4: 基礎地盤コンサルタンツ株式会社 | AG4: 定期点検年月日 | AK4: 45944 | AY4: Ⅳ | AZ4: Ⅲ | BA4: Ⅱa | BB4: Ⅱb | BC4: Ⅳ | BD4: Ⅲ | BE4: Ⅱa | BF4: Ⅱb | BG4: Ⅳ | BH4: Ⅲ | BI4: Ⅱa | BJ4: Ⅱb | BK4: Ⅳ | BL4: Ⅲ | BM4: Ⅱa | BN4: Ⅱb | BO4: Ⅳ | BP4: Ⅲ | BQ4: Ⅱa | BR4: Ⅱb | BS4: Ⅳ | BT4: Ⅲ | BU4: Ⅱa | BV4: Ⅱb
B5: 名 称 | E5: 高瀬トンネル | K5: 管理者名 | N5: 周南土木建築事務所 | Y5: 大谷 直毅 | AV5: =N7 -> 5 | AW5: =R7 -> 7.8 | AX5: =AM35 -> Ⅱ | AY5: =Y37 -> 0 | AZ5: =Z37 -> 0 | BA5: =AA37 -> 0 | BB5: =AB37 -> 0 | BC5: =AC37 -> 0 | BD5: =AD37 -> 0 | BE5: =AE37 -> 2 | BF5: =AF37 -> 5 | ... BJ5: =AJ37 -> 0 | BK5: =IF(Y37>0,R7,) -> 0 | BL5: =IF(Y37>0,"",IF(Z37>0,R7,)) -> 0 | BM5: =IF(Y37+Z37>0,"",IF(AA37>0,R7,)) -> 0 | BN5: =IF(Y37+Z37+AA37>0,"",IF(AB37>0,R7,)) -> 0 | BO5: =AC35 -> 0 | BP5: =AD35 -> 0 | BQ5: =AE35 -> 12.3 | BR5: =AF35 -> 4.9 | BS5: =AG35 -> 0 | BT5: =AH35 -> 0 | BU5: =AI35 -> 0 | BV5: =AJ35 -> 0
B6: スパン別変状展開図 | K6: 【健全性判定集計表】
K7: スパン番号 | N7: 5 | P7: スパン長 | R7: 7.8 | U7: 前回定期点検時の判定 | W7: 応急措置前の判定 | Y7: 対策区分毎の 変状の有無 | AC7: 対策区分毎の変状の発生範囲の規模(㎡) | AK7: 備考注2
K8: 変状番号 | L8: 対象箇所 | N8: 部位区分 | P8: 変状区分 | R8: 変状種類
Y9: 外力注1 | AC9: 材質劣化注1 | AG9: 漏水注1
Y10: Ⅳ | Z10: Ⅲ | AA10: Ⅱa | AB10: Ⅱb | AC10: Ⅳ | AD10: Ⅲ | AE10: Ⅱa | AF10: Ⅱb | AG10: Ⅳ | AH10: Ⅲ | AI10: Ⅱa | AJ10: Ⅱb
K11: 1 | L11: 覆工 | N11: 水平打ち継ぎ目（左側） | P11: 材質劣化 | R11: うき・はく離 | U11: Ⅱb | W11: - | AF11: 2.34 | AQ11: =IF(P11="材質劣化",2,IF(P11="漏水",3,1)) -> 2 | AS11: =IF(Y11<>"",1,"")
K12: 2 | L12: 覆工 | N12: 水平打ち継ぎ目（右側） | P12: 材質劣化 | R12: うき・はく離 | U12: Ⅱb | W12: - | AF12: 2.34 | AQ12: =IF(P12="材質劣化",2,IF(P12="漏水",3,1)) -> 2
K13: 3 | L13: 覆工 | N13: アーチ（左側） | P13: 材質劣化 | R13: 圧ざ、ひび割れ | U13: - | W13: - | AE13: 4.62 | AQ13: =IF(P13="材質劣化",2,IF(P13="漏水",3,1)) -> 2
K14: 4 | L14: 覆工 | N14: アーチ（左側） | P14: 材質劣化 | R14: 圧ざ、ひび割れ | U14: - | W14: - | AE14: 7.68 | AQ14: =IF(P14="材質劣化",2,IF(P14="漏水",3,1)) -> 2
K15: 5 | L15: 覆工 | N15: 横断目地（右側） | P15: 材質劣化 | R15: 圧ざ、ひび割れ | U15: - | W15: - | AF15: 0.01 | AQ15: =IF(P15="材質劣化",2,IF(P15="漏水",3,1)) -> 2
K16: 6 | L16: 覆工 | N16: 側壁（右側） | P16: 材質劣化 | R16: うき・はく離 | U16: Ⅱb | W16: - | AF16: 0.08 | AQ16: =IF(P16="材質劣化",2,IF(P16="漏水",3,1)) -> 2
K17: 7 | L17: 覆工 | N17: 側壁（右側） | P17: 材質劣化 | R17: うき・はく離 | U17: Ⅱb | W17: - | AF17: 0.13 | AQ17: =IF(P17="材質劣化",2,IF(P17="漏水",3,1)) -> 2
K18: 8 | AQ18: =IF(P18="材質劣化",2,IF(P18="漏水",3,1)) -> 1
K19: 9 | AQ19: =IF(P19="材質劣化",2,IF(P19="漏水",3,1)) -> 1
K20: 10 | AQ20: =IF(P20="材質劣化",2,IF(P20="漏水",3,1)) -> 1
K21: 11 | AQ21: =IF(P21="材質劣化",2,IF(P21="漏水",3,1)) -> 1
K22: 12 | AQ22: =IF(P22="材質劣化",2,IF(P22="漏水",3,1)) -> 1
K23: 13 | AQ23: =IF(P23="材質劣化",2,IF(P23="漏水",3,1)) -> 1
K24: 14 | AQ24: =IF(P24="材質劣化",2,IF(P24="漏水",3,1)) -> 1
K25: 15 | AQ25: =IF(P25="材質劣化",2,IF(P25="漏水",3,1)) -> 1
K26: 16 | AQ26: =IF(P26="材質劣化",2,IF(P26="漏水",3,1)) -> 1
K27: 17 | AQ27: =IF(P27="材質劣化",2,IF(P27="漏水",3,1)) -> 1
K28: 18 | AQ28: =IF(P28="材質劣化",2,IF(P28="漏水",3,1)) -> 1
K29: 19 | AQ29: =IF(P29="材質劣化",2,IF(P29="漏水",3,1)) -> 1
... K34: 24 | AQ34: =IF(P34="材質劣化",2,IF(P34="漏水",3,1)) -> 1
K35: 集計 判定 診断 | L35: 変状の発生規模合計(㎡) | Y35: － | AC35: =SUM(AC11:AC34) -> 0 | AD35: =SUM(AD11:AD34) -> 0 | AE35: =SUM(AE11:AE34) -> 12.3 | AF35: =SUM(AF11:AF34) -> 4.9 | AG35: =SUM(AG11:AG34) -> 0 | AH35: =SUM(AH11:AH34) -> 0 | AI35: =SUM(AI11:AI34) -> 0 | AJ35: =SUM(AJ11:AJ34) -> 0 | AK35: 覆工スパン単位の 健全性の 診断の区分 | AM35: =IF(Y37+AC37+AG37>0,"Ⅳ",IF(Z37+AD37+AH37>0,"Ⅲ",IF(AA37+AB37+AE37+AF37+AI37+AJ37>0,"Ⅱ","Ⅰ"))) -> Ⅱ
L36: 対策区分の 判定結果 | O36: 対策区分毎の変状数注3 | Y36: Ⅳ | Z36: Ⅲ | AA36: Ⅱa | AB36: Ⅱb | AC36: Ⅳ | AD36: Ⅲ | AE36: Ⅱa | AF36: Ⅱb | AG36: Ⅳ | AH36: Ⅲ | AI36: Ⅱa | AJ36: Ⅱb
Y37: =IF(COUNTIF(Y11:Y34,"〇")>0,1,0) -> 0 | Z37: =IF(COUNTIF(Z11:Z34,"〇")>0,1,0) -> 0 | AA37: =IF(COUNTIF(AA11:AA34,"〇")>0,1,0) -> 0 | AB37: =IF(COUNTIF(AB11:AB34,"〇")>0,1,0) -> 0 | AC37: =COUNTA(AC11:AC34) -> 0 | AD37: =COUNTA(AD11:AD34) -> 0 | AE37: =COUNTA(AE11:AE34) -> 2 | AF37: =COUNTA(AF11:AF34) -> 5 | AG37: =COUNTA(AG11:AG34) -> 0 | AH37: =COUNTA(AH11:AH34) -> 0 | AI37: =COUNTA(AI11:AI34) -> 0 | AJ37: =COUNTA(AJ11:AJ34) -> 0
K39: 所見
K43: 注1：誤記入防止のため、当該変状区分以外のセルは灰色表示とすること。
K44: 注2：応急措置を実施した場合は、その詳細を備考に記載すること。
K45: 注3：外力は覆工スパン単位、材質劣化、漏水は変状単位とすること。
B46: （以下、印刷不要）
B47: ※1：本シートは作成洩れのないよう、変状が無くても全スパン分を作成すること．また変状展開図は、様式D-2-1、様式D-2-1'と同じものを覆工スパン単位で拡大し掲載すること。
B48: ※2：変状番号は、様式D-1-1で記入した番号と整合させること。
B49: ※3：対策区分毎の変状発生規模は、様式D-1-1に記載した面積を記入すること（ただし外力はスパン単位で評価するため変状の有無の欄には面積でなく○を記入し、備考欄に状況を記入）。
B50: ※4：本様式は覆工スパン毎に作成すること。
B51: ※5：変状数が多い場合は、適時、表の行を増やして覆工スパン毎に1枚のシートに収めること。また、1スパン１シートとし、スパンに合わせてシートを追加すること。
B52: ※6：対策区分毎の変状の発生範囲の規模とは，対策を行う際に参考となる変状の長さや面積であり，変状を包含する長さや面積とする。
B53: ※7：対策範囲を示す発生範囲の規模を面積で記入することが妥当ではない変状は、発生範囲の規模の欄に○を記入するとともに、備考に内容を記入すること。

Sheet 様式D-3_S006
AU1: 様式F用→ | AV1: 覆工スパン | AY1: 変 状 数 | BK1: 変 状 規 模
AV2: 番号 | AW2: 延長 （ｍ） | AX2: 健全性の診断の 区分 | AY2: 対策区分の判定 | BK2: 覆工スパン長（ｍ） | BO2: 変状の発生範囲の規模（㎡）
B3: ■定期点検記録様式 覆工スパン別変状詳細展開図 【様式D-3】 | AY3: 外力 | BC3: 材質劣化 | BG3: 漏水 | BK3: 外力 注2 | BO3: 材質劣化 | BS3: 漏水
B4: フリガナ | E4: (ﾀｶｾﾄﾝﾈﾙ) | K4: 路線名 | N4: 国道376号線 | T4: 定期点検実施者 | Y4: 基礎地盤コンサルタンツ株式会社 | AG4: 定期点検年月日 | AK4: 45944 | AY4: Ⅳ | AZ4: Ⅲ | BA4: Ⅱa | BB4: Ⅱb | BC4: Ⅳ | BD4: Ⅲ | BE4: Ⅱa | BF4: Ⅱb | BG4: Ⅳ | BH4: Ⅲ | BI4: Ⅱa | BJ4: Ⅱb | BK4: Ⅳ | BL4: Ⅲ | BM4: Ⅱa | BN4: Ⅱb | BO4: Ⅳ | BP4: Ⅲ | BQ4: Ⅱa | BR4: Ⅱb | BS4: Ⅳ | BT4: Ⅲ | BU4: Ⅱa | BV4: Ⅱb
B5: 名 称 | E5: 高瀬トンネル | K5: 管理者名 | N5: 周南土木建築事務所 | Y5: 大谷 直毅 | AV5: =N7 -> 6 | AW5: =R7 -> 7.8 | AX5: =AM35 -> Ⅱ | AY5: =Y37 -> 0 | AZ5: =Z37 -> 0 | BA5: =AA37 -> 0 | BB5: =AB37 -> 0 | BC5: =AC37 -> 0 | BD5: =AD37 -> 0 | BE5: =AE37 -> 0 | BF5: =AF37 -> 4 | ... BJ5: =AJ37 -> 1 | BK5: =IF(Y37>0,R7,) -> 0 | BL5: =IF(Y37>0,"",IF(Z37>0,R7,)) -> 0 | BM5: =IF(Y37+Z37>0,"",IF(AA37>0,R7,)) -> 0 | BN5: =IF(Y37+Z37+AA37>0,"",IF(AB37>0,R7,)) -> 0 | BO5: =AC35 -> 0 | BP5: =AD35 -> 0 | BQ5: =AE35 -> 0 | BR5: =AF35 -> 10.2925 | BS5: =AG35 -> 0 | BT5: =AH35 -> 0 | BU5: =AI35 -> 0 | BV5: =AJ35 -> 1.4
B6: スパン別変状展開図 | K6: 【健全性判定集計表】
K7: スパン番号 | N7: 6 | P7: スパン長 | R7: 7.8 | U7: 前回定期点検時の判定 | W7: 応急措置前の判定 | Y7: 対策区分毎の 変状の有無 | AC7: 対策区分毎の変状の発生範囲の規模(㎡) | AK7: 備考注2
K8: 変状番号 | L8: 対象箇所 | N8: 部位区分 | P8: 変状区分 | R8: 変状種類
Y9: 外力注1 | AC9: 材質劣化注1 | AG9: 漏水注1
Y10: Ⅳ | Z10: Ⅲ | AA10: Ⅱa | AB10: Ⅱb | AC10: Ⅳ | AD10: Ⅲ | AE10: Ⅱa | AF10: Ⅱb | AG10: Ⅳ | AH10: Ⅲ | AI10: Ⅱa | AJ10: Ⅱb
K11: 1 | L11: 覆工 | N11: 水平打ち継ぎ目（左側） | P11: 材質劣化 | R11: うき・はく離 | U11: Ⅱb | W11: - | AF11: 2.34 | AQ11: =IF(P11="材質劣化",2,IF(P11="漏水",3,1)) -> 2 | AS11: =IF(Y11<>"",1,"")
K12: 2 | L12: 覆工 | N12: アーチ（左側） | P12: 材質劣化 | R12: 圧ざ、ひび割れ | U12: Ⅱb | W12: - | AF12: 5.6 | AQ12: =IF(P12="材質劣化",2,IF(P12="漏水",3,1)) -> 2
K13: 3 | L13: 覆工 | N13: 水平打ち継ぎ目（右側） | P13: 材質劣化 | R13: うき・はく離 | U13: Ⅱb | W13: - | AF13: 2.34 | AQ13: =IF(P13="材質劣化",2,IF(P13="漏水",3,1)) -> 2
K14: 4 | L14: 覆工 | N14: 側壁（右側） | P14: 漏水 | R14: 漏水 | U14: Ⅱb | W14: - | AJ14: 1.4 | AQ14: =IF(P14="材質劣化",2,IF(P14="漏水",3,1)) -> 3
K15: 5 | L15: 覆工 | N15: 横断目地（右側） | P15: 材質劣化 | R15: うき・はく離 | U15: Ⅱb | W15: - | AF15: 0.0125 | AQ15: =IF(P15="材質劣化",2,IF(P15="漏水",3,1)) -> 2
K16: 6 | AQ16: =IF(P16="材質劣化",2,IF(P16="漏水",3,1)) -> 1
K17: 7 | AQ17: =IF(P17="材質劣化",2,IF(P17="漏水",3,1)) -> 1
K18: 8 | AQ18: =IF(P18="材質劣化",2,IF(P18="漏水",3,1)) -> 1
K19: 9 | AQ19: =IF(P19="材質劣化",2,IF(P19="漏水",3,1)) -> 1
K20: 10 | AQ20: =IF(P20="材質劣化",2,IF(P20="漏水",3,1)) -> 1
K21: 11 | AQ21: =IF(P21="材質劣化",2,IF(P21="漏水",3,1)) -> 1
K22: 12 | AQ22: =IF(P22="材質劣化",2,IF(P22="漏水",3,1)) -> 1
K23: 13 | AQ23: =IF(P23="材質劣化",2,IF(P23="漏水",3,1)) -> 1
K24: 14 | AQ24: =IF(P24="材質劣化",2,IF(P24="漏水",3,1)) -> 1
K25: 15 | AQ25: =IF(P25="材質劣化",2,IF(P25="漏水",3,1)) -> 1
K26: 16 | AQ26: =IF(P26="材質劣化",2,IF(P26="漏水",3,1)) -> 1
K27: 17 | AQ27: =IF(P27="材質劣化",2,IF(P27="漏水",3,1)) -> 1
... K34: 24 | AQ34: =IF(P34="材質劣化",2,IF(P34="漏水",3,1)) -> 1
K35: 集計 判定 診断 | L35: 変状の発生規模合計(㎡) | Y35: － | AC35: =SUM(AC11:AC34) -> 0 | AD35: =SUM(AD11:AD34) -> 0 | AE35: =SUM(AE11:AE34) -> 0 | AF35: =SUM(AF11:AF34) -> 10.2925 | AG35: =SUM(AG11:AG34) -> 0 | AH35: =SUM(AH11:AH34) -> 0 | AI35: =SUM(AI11:AI34) -> 0 | AJ35: =SUM(AJ11:AJ34) -> 1.4 | AK35: 覆工スパン単位の 健全性の 診断の区分 | AM35: =IF(Y37+AC37+AG37>0,"Ⅳ",IF(Z37+AD37+AH37>0,"Ⅲ",IF(AA37+AB37+AE37+AF37+AI37+AJ37>0,"Ⅱ","Ⅰ"))) -> Ⅱ
L36: 対策区分の 判定結果 | O36: 対策区分毎の変状数注3 | Y36: Ⅳ | Z36: Ⅲ | AA36: Ⅱa | AB36: Ⅱb | AC36: Ⅳ | AD36: Ⅲ | AE36: Ⅱa | AF36: Ⅱb | AG36: Ⅳ | AH36: Ⅲ | AI36: Ⅱa | AJ36: Ⅱb
Y37: =IF(COUNTIF(Y11:Y34,"〇")>0,1,0) -> 0 | Z37: =IF(COUNTIF(Z11:Z34,"〇")>0,1,0) -> 0 | AA37: =IF(COUNTIF(AA11:AA34,"〇")>0,1,0) -> 0 | AB37: =IF(COUNTIF(AB11:AB34,"〇")>0,1,0) -> 0 | AC37: =COUNTA(AC11:AC34) -> 0 | AD37: =COUNTA(AD11:AD34) -> 0 | AE37: =COUNTA(AE11:AE34) -> 0 | AF37: =COUNTA(AF11:AF34) -> 4 | AG37: =COUNTA(AG11:AG34) -> 0 | AH37: =COUNTA(AH11:AH34) -> 0 | AI37: =COUNTA(AI11:AI34) -> 0 | AJ37: =COUNTA(AJ11:AJ34) -> 1
K39: 所見
K43: 注1：誤記入防止のため、当該変状区分以外のセルは灰色表示とすること。
K44: 注2：応急措置を実施した場合は、その詳細を備考に記載すること。
K45: 注3：外力は覆工スパン単位、材質劣化、漏水は変状単位とすること。
B46: （以下、印刷不要）
B47: ※1：本シートは作成洩れのないよう、変状が無くても全スパン分を作成すること．また変状展開図は、様式D-2-1、様式D-2-1'と同じものを覆工スパン単位で拡大し掲載すること。
B48: ※2：変状番号は、様式D-1-1で記入した番号と整合させること。
B49: ※3：対策区分毎の変状発生規模は、様式D-1-1に記載した面積を記入すること（ただし外力はスパン単位で評価するため変状の有無の欄には面積でなく○を記入し、備考欄に状況を記入）。
B50: ※4：本様式は覆工スパン毎に作成すること。
B51: ※5：変状数が多い場合は、適時、表の行を増やして覆工スパン毎に1枚のシートに収めること。また、1スパン１シートとし、スパンに合わせてシートを追加すること。
B52: ※6：対策区分毎の変状の発生範囲の規模とは，対策を行う際に参考となる変状の長さや面積であり，変状を包含する長さや面積とする。
B53: ※7：対策範囲を示す発生範囲の規模を面積で記入することが妥当ではない変状は、発生範囲の規模の欄に○を記入するとともに、備考に内容を記入すること。

Sheet 様式D-3_S007
AU1: 様式F用→ | AV1: 覆工スパン | AY1: 変 状 数 | BK1: 変 状 規 模
AV2: 番号 | AW2: 延長 （ｍ） | AX2: 健全性の診断の 区分 | AY2: 対策区分の判定 | BK2: 覆工スパン長（ｍ） | BO2: 変状の発生範囲の規模（㎡）
B3: ■定期点検記録様式 覆工スパン別変状詳細展開図 【様式D-3】 | AY3: 外力 | BC3: 材質劣化 | BG3: 漏水 | BK3: 外力 注2 | BO3: 材質劣化 | BS3: 漏水
B4: フリガナ | E4: (ﾀｶｾﾄﾝﾈﾙ) | K4: 路線名 | N4: 国道376号線 | T4: 定期点検実施者 | Y4: 基礎地盤コンサルタンツ株式会社 | AG4: 定期点検年月日 | AK4: 45944 | AY4: Ⅳ | AZ4: Ⅲ | BA4: Ⅱa | BB4: Ⅱb | BC4: Ⅳ | BD4: Ⅲ | BE4: Ⅱa | BF4: Ⅱb | BG4: Ⅳ | BH4: Ⅲ | BI4: Ⅱa | BJ4: Ⅱb | BK4: Ⅳ | BL4: Ⅲ | BM4: Ⅱa | BN4: Ⅱb | BO4: Ⅳ | BP4: Ⅲ | BQ4: Ⅱa | BR4: Ⅱb | BS4: Ⅳ | BT4: Ⅲ | BU4: Ⅱa | BV4: Ⅱb
B5: 名 称 | E5: 高瀬トンネル | K5: 管理者名 | N5: 周南土木建築事務所 | Y5: 大谷 直毅 | AV5: =N7 -> 7 | AW5: =R7 -> 7.7 | AX5: =AM35 -> Ⅲ | AY5: =Y37 -> 0 | AZ5: =Z37 -> 0 | BA5: =AA37 -> 0 | BB5: =AB37 -> 0 | BC5: =AC37 -> 0 | BD5: =AD37 -> 1 | BE5: =AE37 -> 2 | BF5: =AF37 -> 4 | ... BJ5: =AJ37 -> 1 | BK5: =IF(Y37>0,R7,) -> 0 | BL5: =IF(Y37>0,"",IF(Z37>0,R7,)) -> 0 | BM5: =IF(Y37+Z37>0,"",IF(AA37>0,R7,)) -> 0 | BN5: =IF(Y37+Z37+AA37>0,"",IF(AB37>0,R7,)) -> 0 | BO5: =AC35 -> 0 | BP5: =AD35 -> 0.0075 | BQ5: =AE35 -> 2.05 | BR5: =AF35 -> 29.14 | BS5: =AG35 -> 0 | BT5: =AH35 -> 0 | BU5: =AI35 -> 0 | BV5: =AJ35 -> 6.25
B6: スパン別変状展開図 | K6: 【健全性判定集計表】
K7: スパン番号 | N7: 7 | P7: スパン長 | R7: 7.7 | U7: 前回定期点検時の判定 | W7: 応急措置前の判定 | Y7: 対策区分毎の 変状の有無 | AC7: 対策区分毎の変状の発生範囲の規模(㎡) | AK7: 備考注2
K8: 変状番号 | L8: 対象箇所 | N8: 部位区分 | P8: 変状区分 | R8: 変状種類
Y9: 外力注1 | AC9: 材質劣化注1 | AG9: 漏水注1
Y10: Ⅳ | Z10: Ⅲ | AA10: Ⅱa | AB10: Ⅱb | AC10: Ⅳ | AD10: Ⅲ | AE10: Ⅱa | AF10: Ⅱb | AG10: Ⅳ | AH10: Ⅲ | AI10: Ⅱa | AJ10: Ⅱb
K11: 1 | L11: 覆工 | N11: 水平打ち継ぎ目（左側） | P11: 材質劣化 | R11: うき・はく離 | U11: Ⅱb | W11: - | AF11: 23.1 | AQ11: =IF(P11="材質劣化",2,IF(P11="漏水",3,1)) -> 2 | AS11: =IF(Y11<>"",1,"")
K12: 2 | L12: 覆工 | N12: 側壁（左側） | P12: 漏水 | R12: 漏水 | U12: Ⅱb | W12: - | AJ12: 6.25 | AQ12: =IF(P12="材質劣化",2,IF(P12="漏水",3,1)) -> 3
K13: 3 | L13: 覆工 | N13: 水平打ち継ぎ目（右側） | P13: 材質劣化 | R13: うき・はく離 | U13: Ⅱb | W13: - | AF13: 2.31 | AQ13: =IF(P13="材質劣化",2,IF(P13="漏水",3,1)) -> 2
K14: 4 | L14: 覆工 | N14: 横断目地（右側） | P14: 材質劣化 | R14: うき・はく離 | U14: Ⅱa | W14: - | AD14: 0.0075 | AQ14: =IF(P14="材質劣化",2,IF(P14="漏水",3,1)) -> 2
K15: 5 | L15: 路面 | N15: 車道 | R15: その他 | U15: Ⅰ | AQ15: =IF(P15="材質劣化",2,IF(P15="漏水",3,1)) -> 1
K16: 6 | L16: 覆工 | N16: 側壁（左側） | P16: 材質劣化 | R16: うき・はく離 | U16: Ⅱb | W16: - | AF16: 0.21 | AQ16: =IF(P16="材質劣化",2,IF(P16="漏水",3,1)) -> 2
K17: 7 | L17: 覆工 | N17: アーチ（左側） | P17: 材質劣化 | R17: 圧ざ、ひび割れ | U17: - | W17: - | AE17: 0.15 | AQ17: =IF(P17="材質劣化",2,IF(P17="漏水",3,1)) -> 2
K18: 8 | L18: 覆工 | N18: アーチ（左側） | P18: 材質劣化 | R18: 圧ざ、ひび割れ | U18: - | W18: - | AF18: 3.52 | AQ18: =IF(P18="材質劣化",2,IF(P18="漏水",3,1)) -> 2
K19: 9 | L19: 覆工 | N19: アーチ（左側） | P19: 材質劣化 | R19: 圧ざ、ひび割れ | U19: - | W19: - | AE19: 1.9 | AQ19: =IF(P19="材質劣化",2,IF(P19="漏水",3,1)) -> 2
K20: 10 | AQ20: =IF(P20="材質劣化",2,IF(P20="漏水",3,1)) -> 1
K21: 11 | AQ21: =IF(P21="材質劣化",2,IF(P21="漏水",3,1)) -> 1
K22: 12 | AQ22: =IF(P22="材質劣化",2,IF(P22="漏水",3,1)) -> 1
K23: 13 | AQ23: =IF(P23="材質劣化",2,IF(P23="漏水",3,1)) -> 1
K24: 14 | AQ24: =IF(P24="材質劣化",2,IF(P24="漏水",3,1)) -> 1
K25: 15 | AQ25: =IF(P25="材質劣化",2,IF(P25="漏水",3,1)) -> 1
K26: 16 | AQ26: =IF(P26="材質劣化",2,IF(P26="漏水",3,1)) -> 1
K27: 17 | AQ27: =IF(P27="材質劣化",2,IF(P27="漏水",3,1)) -> 1
K28: 18 | AQ28: =IF(P28="材質劣化",2,IF(P28="漏水",3,1)) -> 1
K29: 19 | AQ29: =IF(P29="材質劣化",2,IF(P29="漏水",3,1)) -> 1
K30: 20 | AQ30: =IF(P30="材質劣化",2,IF(P30="漏水",3,1)) -> 1
K31: 21 | AQ31: =IF(P31="材質劣化",2,IF(P31="漏水",3,1)) -> 1
... K34: 24 | AQ34: =IF(P34="材質劣化",2,IF(P34="漏水",3,1)) -> 1
K35: 集計 判定 診断 | L35: 変状の発生規模合計(㎡) | Y35: － | AC35: =SUM(AC11:AC34) -> 0 | AD35: =SUM(AD11:AD34) -> 0.0075 | AE35: =SUM(AE11:AE34) -> 2.05 | AF35: =SUM(AF11:AF34) -> 29.14 | AG35: =SUM(AG11:AG34) -> 0 | AH35: =SUM(AH11:AH34) -> 0 | AI35: =SUM(AI11:AI34) -> 0 | AJ35: =SUM(AJ11:AJ34) -> 6.25 | AK35: 覆工スパン単位の 健全性の 診断の区分 | AM35: =IF(Y37+AC37+AG37>0,"Ⅳ",IF(Z37+AD37+AH37>0,"Ⅲ",IF(AA37+AB37+AE37+AF37+AI37+AJ37>0,"Ⅱ","Ⅰ"))) -> Ⅲ
L36: 対策区分の 判定結果 | O36: 対策区分毎の変状数注3 | Y36: Ⅳ | Z36: Ⅲ | AA36: Ⅱa | AB36: Ⅱb | AC36: Ⅳ | AD36: Ⅲ | AE36: Ⅱa | AF36: Ⅱb | AG36: Ⅳ | AH36: Ⅲ | AI36: Ⅱa | AJ36: Ⅱb
Y37: =IF(COUNTIF(Y11:Y34,"〇")>0,1,0) -> 0 | Z37: =IF(COUNTIF(Z11:Z34,"〇")>0,1,0) -> 0 | AA37: =IF(COUNTIF(AA11:AA34,"〇")>0,1,0) -> 0 | AB37: =IF(COUNTIF(AB11:AB34,"〇")>0,1,0) -> 0 | AC37: =COUNTA(AC11:AC34) -> 0 | AD37: =COUNTA(AD11:AD34) -> 1 | AE37: =COUNTA(AE11:AE34) -> 2 | AF37: =COUNTA(AF11:AF34) -> 4 | AG37: =COUNTA(AG11:AG34) -> 0 | AH37: =COUNTA(AH11:AH34) -> 0 | AI37: =COUNTA(AI11:AI34) -> 0 | AJ37: =COUNTA(AJ11:AJ34) -> 1
K39: 所見
K43: 注1：誤記入防止のため、当該変状区分以外のセルは灰色表示とすること。
K44: 注2：応急措置を実施した場合は、その詳細を備考に記載すること。
K45: 注3：外力は覆工スパン単位、材質劣化、漏水は変状単位とすること。
B46: （以下、印刷不要）
B47: ※1：本シートは作成洩れのないよう、変状が無くても全スパン分を作成すること．また変状展開図は、様式D-2-1、様式D-2-1'と同じものを覆工スパン単位で拡大し掲載すること。
B48: ※2：変状番号は、様式D-1-1で記入した番号と整合させること。
B49: ※3：対策区分毎の変状発生規模は、様式D-1-1に記載した面積を記入すること（ただし外力はスパン単位で評価するため変状の有無の欄には面積でなく○を記入し、備考欄に状況を記入）。
B50: ※4：本様式は覆工スパン毎に作成すること。
B51: ※5：変状数が多い場合は、適時、表の行を増やして覆工スパン毎に1枚のシートに収めること。また、1スパン１シートとし、スパンに合わせてシートを追加すること。
B52: ※6：対策区分毎の変状の発生範囲の規模とは，対策を行う際に参考となる変状の長さや面積であり，変状を包含する長さや面積とする。
B53: ※7：対策範囲を示す発生範囲の規模を面積で記入することが妥当ではない変状は、発生範囲の規模の欄に○を記入するとともに、備考に内容を記入すること。

Sheet 様式D-3_S008
AU1: 様式F用→ | AV1: 覆工スパン | AY1: 変 状 数 | BK1: 変 状 規 模
AV2: 番号 | AW2: 延長 （ｍ） | AX2: 健全性の診断の 区分 | AY2: 対策区分の判定 | BK2: 覆工スパン長（ｍ） | BO2: 変状の発生範囲の規模（㎡）
B3: ■定期点検記録様式 覆工スパン別変状詳細展開図 【様式D-3】 | AY3: 外力 | BC3: 材質劣化 | BG3: 漏水 | BK3: 外力 注2 | BO3: 材質劣化 | BS3: 漏水
B4: フリガナ | E4: (ﾀｶｾﾄﾝﾈﾙ) | K4: 路線名 | N4: 国道376号線 | T4: 定期点検実施者 | Y4: 基礎地盤コンサルタンツ株式会社 | AG4: 定期点検年月日 | AK4: 45944 | AY4: Ⅳ | AZ4: Ⅲ | BA4: Ⅱa | BB4: Ⅱb | BC4: Ⅳ | BD4: Ⅲ | BE4: Ⅱa | BF4: Ⅱb | BG4: Ⅳ | BH4: Ⅲ | BI4: Ⅱa | BJ4: Ⅱb | BK4: Ⅳ | BL4: Ⅲ | BM4: Ⅱa | BN4: Ⅱb | BO4: Ⅳ | BP4: Ⅲ | BQ4: Ⅱa | BR4: Ⅱb | BS4: Ⅳ | BT4: Ⅲ | BU4: Ⅱa | BV4: Ⅱb
B5: 名 称 | E5: 高瀬トンネル | K5: 管理者名 | N5: 周南土木建築事務所 | Y5: 大谷 直毅 | AV5: =N7 -> 8 | AW5: =R7 -> 7.7 | AX5: =AM35 -> Ⅱ | AY5: =Y37 -> 0 | AZ5: =Z37 -> 0 | BA5: =AA37 -> 0 | BB5: =AB37 -> 0 | BC5: =AC37 -> 0 | BD5: =AD37 -> 0 | BE5: =AE37 -> 0 | BF5: =AF37 -> 3 | ... BJ5: =AJ37 -> 0 | BK5: =IF(Y37>0,R7,) -> 0 | BL5: =IF(Y37>0,"",IF(Z37>0,R7,)) -> 0 | BM5: =IF(Y37+Z37>0,"",IF(AA37>0,R7,)) -> 0 | BN5: =IF(Y37+Z37+AA37>0,"",IF(AB37>0,R7,)) -> 0 | BO5: =AC35 -> 0 | BP5: =AD35 -> 0 | BQ5: =AE35 -> 0 | BR5: =AF35 -> 4.6375 | BS5: =AG35 -> 0 | BT5: =AH35 -> 0 | BU5: =AI35 -> 0 | BV5: =AJ35 -> 0
B6: スパン別変状展開図 | K6: 【健全性判定集計表】
K7: スパン番号 | N7: 8 | P7: スパン長 | R7: 7.7 | U7: 前回定期点検時の判定 | W7: 応急措置前の判定 | Y7: 対策区分毎の 変状の有無 | AC7: 対策区分毎の変状の発生範囲の規模(㎡) | AK7: 備考注2
K8: 変状番号 | L8: 対象箇所 | N8: 部位区分 | P8: 変状区分 | R8: 変状種類
Y9: 外力注1 | AC9: 材質劣化注1 | AG9: 漏水注1
Y10: Ⅳ | Z10: Ⅲ | AA10: Ⅱa | AB10: Ⅱb | AC10: Ⅳ | AD10: Ⅲ | AE10: Ⅱa | AF10: Ⅱb | AG10: Ⅳ | AH10: Ⅲ | AI10: Ⅱa | AJ10: Ⅱb
K11: 1 | L11: 覆工 | N11: 水平打ち継ぎ目（左側） | P11: 材質劣化 | R11: うき・はく離 | U11: Ⅱb | W11: - | AF11: 2.31 | AQ11: =IF(P11="材質劣化",2,IF(P11="漏水",3,1)) -> 2 | AS11: =IF(Y11<>"",1,"")
K12: 2 | L12: 覆工 | N12: 横断目地（左側） | P12: 材質劣化 | R12: うき・はく離 | U12: Ⅱa | W12: - | AF12: 0.0175 | AQ12: =IF(P12="材質劣化",2,IF(P12="漏水",3,1)) -> 2
K13: 3 | L13: 覆工 | N13: 水平打ち継ぎ目（右側） | P13: 材質劣化 | R13: うき・はく離 | U13: Ⅱb | W13: - | AF13: 2.31 | AQ13: =IF(P13="材質劣化",2,IF(P13="漏水",3,1)) -> 2
K14: 4 | AQ14: =IF(P14="材質劣化",2,IF(P14="漏水",3,1)) -> 1
K15: 5 | AQ15: =IF(P15="材質劣化",2,IF(P15="漏水",3,1)) -> 1
K16: 6 | AQ16: =IF(P16="材質劣化",2,IF(P16="漏水",3,1)) -> 1
K17: 7 | AQ17: =IF(P17="材質劣化",2,IF(P17="漏水",3,1)) -> 1
K18: 8 | AQ18: =IF(P18="材質劣化",2,IF(P18="漏水",3,1)) -> 1
K19: 9 | AQ19: =IF(P19="材質劣化",2,IF(P19="漏水",3,1)) -> 1
K20: 10 | AQ20: =IF(P20="材質劣化",2,IF(P20="漏水",3,1)) -> 1
K21: 11 | AQ21: =IF(P21="材質劣化",2,IF(P21="漏水",3,1)) -> 1
K22: 12 | AQ22: =IF(P22="材質劣化",2,IF(P22="漏水",3,1)) -> 1
K23: 13 | AQ23: =IF(P23="材質劣化",2,IF(P23="漏水",3,1)) -> 1
K24: 14 | AQ24: =IF(P24="材質劣化",2,IF(P24="漏水",3,1)) -> 1
K25: 15 | AQ25: =IF(P25="材質劣化",2,IF(P25="漏水",3,1)) -> 1
... K34: 24 | AQ34: =IF(P34="材質劣化",2,IF(P34="漏水",3,1)) -> 1
K35: 集計 判定 診断 | L35: 変状の発生規模合計(㎡) | Y35: － | AC35: =SUM(AC11:AC34) -> 0 | AD35: =SUM(AD11:AD34) -> 0 | AE35: =SUM(AE11:AE34) -> 0 | AF35: =SUM(AF11:AF34) -> 4.6375 | AG35: =SUM(AG11:AG34) -> 0 | AH35: =SUM(AH11:AH34) -> 0 | AI35: =SUM(AI11:AI34) -> 0 | AJ35: =SUM(AJ11:AJ34) -> 0 | AK35: 覆工スパン単位の 健全性の 診断の区分 | AM35: =IF(Y37+AC37+AG37>0,"Ⅳ",IF(Z37+AD37+AH37>0,"Ⅲ",IF(AA37+AB37+AE37+AF37+AI37+AJ37>0,"Ⅱ","Ⅰ"))) -> Ⅱ
L36: 対策区分の 判定結果 | O36: 対策区分毎の変状数注3 | Y36: Ⅳ | Z36: Ⅲ | AA36: Ⅱa | AB36: Ⅱb | AC36: Ⅳ | AD36: Ⅲ | AE36: Ⅱa | AF36: Ⅱb | AG36: Ⅳ | AH36: Ⅲ | AI36: Ⅱa | AJ36: Ⅱb
Y37: =IF(COUNTIF(Y11:Y34,"〇")>0,1,0) -> 0 | Z37: =IF(COUNTIF(Z11:Z34,"〇")>0,1,0) -> 0 | AA37: =IF(COUNTIF(AA11:AA34,"〇")>0,1,0) -> 0 | AB37: =IF(COUNTIF(AB11:AB34,"〇")>0,1,0) -> 0 | AC37: =COUNTA(AC11:AC34) -> 0 | AD37: =COUNTA(AD11:AD34) -> 0 | AE37: =COUNTA(AE11:AE34) -> 0 | AF37: =COUNTA(AF11:AF34) -> 3 | AG37: =COUNTA(AG11:AG34) -> 0 | AH37: =COUNTA(AH11:AH34) -> 0 | AI37: =COUNTA(AI11:AI34) -> 0 | AJ37: =COUNTA(AJ11:AJ34) -> 0
K39: 所見
K43: 注1：誤記入防止のため、当該変状区分以外のセルは灰色表示とすること。
K44: 注2：応急措置を実施した場合は、その詳細を備考に記載すること。
K45: 注3：外力は覆工スパン単位、材質劣化、漏水は変状単位とすること。
B46: （以下、印刷不要）
B47: ※1：本シートは作成洩れのないよう、変状が無くても全スパン分を作成すること．また変状展開図は、様式D-2-1、様式D-2-1'と同じものを覆工スパン単位で拡大し掲載すること。
B48: ※2：変状番号は、様式D-1-1で記入した番号と整合させること。
B49: ※3：対策区分毎の変状発生規模は、様式D-1-1に記載した面積を記入すること（ただし外力はスパン単位で評価するため変状の有無の欄には面積でなく○を記入し、備考欄に状況を記入）。
B50: ※4：本様式は覆工スパン毎に作成すること。
B51: ※5：変状数が多い場合は、適時、表の行を増やして覆工スパン毎に1枚のシートに収めること。また、1スパン１シートとし、スパンに合わせてシートを追加すること。
B52: ※6：対策区分毎の変状の発生範囲の規模とは，対策を行う際に参考となる変状の長さや面積であり，変状を包含する長さや面積とする。
B53: ※7：対策範囲を示す発生範囲の規模を面積で記入することが妥当ではない変状は、発生範囲の規模の欄に○を記入するとともに、備考に内容を記入すること。

Sheet 様式D-3_S009
AU1: 様式F用→ | AV1: 覆工スパン | AY1: 変 状 数 | BK1: 変 状 規 模
AV2: 番号 | AW2: 延長 （ｍ） | AX2: 健全性の診断の 区分 | AY2: 対策区分の判定 | BK2: 覆工スパン長（ｍ） | BO2: 変状の発生範囲の規模（㎡）
B3: ■定期点検記録様式 覆工スパン別変状詳細展開図 【様式D-3】 | AY3: 外力 | BC3: 材質劣化 | BG3: 漏水 | BK3: 外力 注2 | BO3: 材質劣化 | BS3: 漏水
B4: フリガナ | E4: (ﾀｶｾﾄﾝﾈﾙ) | K4: 路線名 | N4: 国道376号線 | T4: 定期点検実施者 | Y4: 基礎地盤コンサルタンツ株式会社 | AG4: 定期点検年月日 | AK4: 45944 | AY4: Ⅳ | AZ4: Ⅲ | BA4: Ⅱa | BB4: Ⅱb | BC4: Ⅳ | BD4: Ⅲ | BE4: Ⅱa | BF4: Ⅱb | BG4: Ⅳ | BH4: Ⅲ | BI4: Ⅱa | BJ4: Ⅱb | BK4: Ⅳ | BL4: Ⅲ | BM4: Ⅱa | BN4: Ⅱb | BO4: Ⅳ | BP4: Ⅲ | BQ4: Ⅱa | BR4: Ⅱb | BS4: Ⅳ | BT4: Ⅲ | BU4: Ⅱa | BV4: Ⅱb
B5: 名 称 | E5: 高瀬トンネル | K5: 管理者名 | N5: 周南土木建築事務所 | Y5: 大谷 直毅 | AV5: =N7 -> 9 | AW5: =R7 -> 7.5 | AX5: =AM35 -> Ⅲ | AY5: =Y37 -> 0 | AZ5: =Z37 -> 0 | BA5: =AA37 -> 0 | BB5: =AB37 -> 0 | BC5: =AC37 -> 0 | BD5: =AD37 -> 1 | BE5: =AE37 -> 0 | BF5: =AF37 -> 2 | ... BJ5: =AJ37 -> 2 | BK5: =IF(Y37>0,R7,) -> 0 | BL5: =IF(Y37>0,"",IF(Z37>0,R7,)) -> 0 | BM5: =IF(Y37+Z37>0,"",IF(AA37>0,R7,)) -> 0 | BN5: =IF(Y37+Z37+AA37>0,"",IF(AB37>0,R7,)) -> 0 | BO5: =AC35 -> 0 | BP5: =AD35 -> 0.01 | BQ5: =AE35 -> 0 | BR5: =AF35 -> 4.56 | BS5: =AG35 -> 0 | BT5: =AH35 -> 0 | BU5: =AI35 -> 0 | BV5: =AJ35 -> 5.12
B6: スパン別変状展開図 | K6: 【健全性判定集計表】
K7: スパン番号 | N7: 9 | P7: スパン長 | R7: 7.5 | U7: 前回定期点検時の判定 | W7: 応急措置前の判定 | Y7: 対策区分毎の 変状の有無 | AC7: 対策区分毎の変状の発生範囲の規模(㎡) | AK7: 備考注2
K8: 変状番号 | L8: 対象箇所 | N8: 部位区分 | P8: 変状区分 | R8: 変状種類
Y9: 外力注1 | AC9: 材質劣化注1 | AG9: 漏水注1
Y10: Ⅳ | Z10: Ⅲ | AA10: Ⅱa | AB10: Ⅱb | AC10: Ⅳ | AD10: Ⅲ | AE10: Ⅱa | AF10: Ⅱb | AG10: Ⅳ | AH10: Ⅲ | AI10: Ⅱa | AJ10: Ⅱb
K11: 1 | L11: 覆工 | N11: 水平打ち継ぎ目（左側） | P11: 材質劣化 | R11: うき・はく離 | U11: Ⅱb | W11: - | AF11: 2.25 | AQ11: =IF(P11="材質劣化",2,IF(P11="漏水",3,1)) -> 2 | AS11: =IF(Y11<>"",1,"")
K12: 2 | L12: 覆工 | N12: アーチ（右側） | P12: 材質劣化 | R12: うき・はく離 | U12: Ⅱa | W12: - | AD12: 0.01 | AQ12: =IF(P12="材質劣化",2,IF(P12="漏水",3,1)) -> 2
K13: 3 | L13: 覆工 | N13: 水平打ち継ぎ目（右側） | P13: 材質劣化 | R13: うき・はく離 | U13: Ⅱb | W13: - | AF13: 2.31 | AQ13: =IF(P13="材質劣化",2,IF(P13="漏水",3,1)) -> 2
K14: 4 | L14: 覆工 | N14: アーチ（天端） | P14: 漏水 | R14: 漏水 | U14: Ⅱa | W14: - | AQ14: =IF(P14="材質劣化",2,IF(P14="漏水",3,1)) -> 3
K15: 5 | L15: 路面 | N15: 車道 | R15: その他 | U15: Ⅰ | AQ15: =IF(P15="材質劣化",2,IF(P15="漏水",3,1)) -> 1
K16: 6 | L16: 覆工 | N16: 側壁（左側） | P16: 漏水 | R16: 漏水 | U16: - | W16: - | AJ16: 3.5 | AQ16: =IF(P16="材質劣化",2,IF(P16="漏水",3,1)) -> 3
K17: 7 | L17: 覆工 | N17: 側壁（右側） | P17: 漏水 | R17: 漏水 | U17: - | W17: - | AJ17: 1.62 | AQ17: =IF(P17="材質劣化",2,IF(P17="漏水",3,1)) -> 3
K18: 8 | AQ18: =IF(P18="材質劣化",2,IF(P18="漏水",3,1)) -> 1
K19: 9 | AQ19: =IF(P19="材質劣化",2,IF(P19="漏水",3,1)) -> 1
K20: 10 | AQ20: =IF(P20="材質劣化",2,IF(P20="漏水",3,1)) -> 1
K21: 11 | AQ21: =IF(P21="材質劣化",2,IF(P21="漏水",3,1)) -> 1
K22: 12 | AQ22: =IF(P22="材質劣化",2,IF(P22="漏水",3,1)) -> 1
K23: 13 | AQ23: =IF(P23="材質劣化",2,IF(P23="漏水",3,1)) -> 1
K24: 14 | AQ24: =IF(P24="材質劣化",2,IF(P24="漏水",3,1)) -> 1
K25: 15 | AQ25: =IF(P25="材質劣化",2,IF(P25="漏水",3,1)) -> 1
K26: 16 | AQ26: =IF(P26="材質劣化",2,IF(P26="漏水",3,1)) -> 1
K27: 17 | AQ27: =IF(P27="材質劣化",2,IF(P27="漏水",3,1)) -> 1
K28: 18 | AQ28: =IF(P28="材質劣化",2,IF(P28="漏水",3,1)) -> 1
K29: 19 | AQ29: =IF(P29="材質劣化",2,IF(P29="漏水",3,1)) -> 1
... K34: 24 | AQ34: =IF(P34="材質劣化",2,IF(P34="漏水",3,1)) -> 1
K35: 集計 判定 診断 | L35: 変状の発生規模合計(㎡) | Y35: － | AC35: =SUM(AC11:AC34) -> 0 | AD35: =SUM(AD11:AD34) -> 0.01 | AE35: =SUM(AE11:AE34) -> 0 | AF35: =SUM(AF11:AF34) -> 4.56 | AG35: =SUM(AG11:AG34) -> 0 | AH35: =SUM(AH11:AH34) -> 0 | AI35: =SUM(AI11:AI34) -> 0 | AJ35: =SUM(AJ11:AJ34) -> 5.12 | AK35: 覆工スパン単位の 健全性の 診断の区分 | AM35: =IF(Y37+AC37+AG37>0,"Ⅳ",IF(Z37+AD37+AH37>0,"Ⅲ",IF(AA37+AB37+AE37+AF37+AI37+AJ37>0,"Ⅱ","Ⅰ"))) -> Ⅲ
L36: 対策区分の 判定結果 | O36: 対策区分毎の変状数注3 | Y36: Ⅳ | Z36: Ⅲ | AA36: Ⅱa | AB36: Ⅱb | AC36: Ⅳ | AD36: Ⅲ | AE36: Ⅱa | AF36: Ⅱb | AG36: Ⅳ | AH36: Ⅲ | AI36: Ⅱa | AJ36: Ⅱb
Y37: =IF(COUNTIF(Y11:Y34,"〇")>0,1,0) -> 0 | Z37: =IF(COUNTIF(Z11:Z34,"〇")>0,1,0) -> 0 | AA37: =IF(COUNTIF(AA11:AA34,"〇")>0,1,0) -> 0 | AB37: =IF(COUNTIF(AB11:AB34,"〇")>0,1,0) -> 0 | AC37: =COUNTA(AC11:AC34) -> 0 | AD37: =COUNTA(AD11:AD34) -> 1 | AE37: =COUNTA(AE11:AE34) -> 0 | AF37: =COUNTA(AF11:AF34) -> 2 | AG37: =COUNTA(AG11:AG34) -> 0 | AH37: =COUNTA(AH11:AH34) -> 0 | AI37: =COUNTA(AI11:AI34) -> 0 | AJ37: =COUNTA(AJ11:AJ34) -> 2
K39: 所見
K43: 注1：誤記入防止のため、当該変状区分以外のセルは灰色表示とすること。
K44: 注2：応急措置を実施した場合は、その詳細を備考に記載すること。
K45: 注3：外力は覆工スパン単位、材質劣化、漏水は変状単位とすること。
B46: （以下、印刷不要）
B47: ※1：本シートは作成洩れのないよう、変状が無くても全スパン分を作成すること．また変状展開図は、様式D-2-1、様式D-2-1'と同じものを覆工スパン単位で拡大し掲載すること。
B48: ※2：変状番号は、様式D-1-1で記入した番号と整合させること。
B49: ※3：対策区分毎の変状発生規模は、様式D-1-1に記載した面積を記入すること（ただし外力はスパン単位で評価するため変状の有無の欄には面積でなく○を記入し、備考欄に状況を記入）。
B50: ※4：本様式は覆工スパン毎に作成すること。
B51: ※5：変状数が多い場合は、適時、表の行を増やして覆工スパン毎に1枚のシートに収めること。また、1スパン１シートとし、スパンに合わせてシートを追加すること。
B52: ※6：対策区分毎の変状の発生範囲の規模とは，対策を行う際に参考となる変状の長さや面積であり，変状を包含する長さや面積とする。
B53: ※7：対策範囲を示す発生範囲の規模を面積で記入することが妥当ではない変状は、発生範囲の規模の欄に○を記入するとともに、備考に内容を記入すること。

Sheet 様式D-3_S010
AU1: 様式F用→ | AV1: 覆工スパン | AY1: 変 状 数 | BK1: 変 状 規 模
AV2: 番号 | AW2: 延長 （ｍ） | AX2: 健全性の診断の 区分 | AY2: 対策区分の判定 | BK2: 覆工スパン長（ｍ） | BO2: 変状の発生範囲の規模（㎡）
B3: ■定期点検記録様式 覆工スパン別変状詳細展開図 【様式D-3】 | AY3: 外力 | BC3: 材質劣化 | BG3: 漏水 | BK3: 外力 注2 | BO3: 材質劣化 | BS3: 漏水
B4: フリガナ | E4: (ﾀｶｾﾄﾝﾈﾙ) | K4: 路線名 | N4: 国道376号線 | T4: 定期点検実施者 | Y4: 基礎地盤コンサルタンツ株式会社 | AG4: 定期点検年月日 | AK4: 45944 | AY4: Ⅳ | AZ4: Ⅲ | BA4: Ⅱa | BB4: Ⅱb | BC4: Ⅳ | BD4: Ⅲ | BE4: Ⅱa | BF4: Ⅱb | BG4: Ⅳ | BH4: Ⅲ | BI4: Ⅱa | BJ4: Ⅱb | BK4: Ⅳ | BL4: Ⅲ | BM4: Ⅱa | BN4: Ⅱb | BO4: Ⅳ | BP4: Ⅲ | BQ4: Ⅱa | BR4: Ⅱb | BS4: Ⅳ | BT4: Ⅲ | BU4: Ⅱa | BV4: Ⅱb
B5: 名 称 | E5: 高瀬トンネル | K5: 管理者名 | N5: 周南土木建築事務所 | Y5: 大谷 直毅 | AV5: =N7 -> 10 | AW5: =R7 -> 7.4 | AX5: =AM35 -> Ⅲ | AY5: =Y37 -> 0 | AZ5: =Z37 -> 0 | BA5: =AA37 -> 0 | BB5: =AB37 -> 0 | BC5: =AC37 -> 0 | BD5: =AD37 -> 2 | BE5: =AE37 -> 0 | BF5: =AF37 -> 5 | ... BJ5: =AJ37 -> 3 | BK5: =IF(Y37>0,R7,) -> 0 | BL5: =IF(Y37>0,"",IF(Z37>0,R7,)) -> 0 | BM5: =IF(Y37+Z37>0,"",IF(AA37>0,R7,)) -> 0 | BN5: =IF(Y37+Z37+AA37>0,"",IF(AB37>0,R7,)) -> 0 | BO5: =AC35 -> 0 | BP5: =AD35 -> 0.0225 | BQ5: =AE35 -> 0 | BR5: =AF35 -> 26.6475 | BS5: =AG35 -> 0 | BT5: =AH35 -> 0 | BU5: =AI35 -> 0 | BV5: =AJ35 -> 29.53
B6: スパン別変状展開図 | K6: 【健全性判定集計表】
K7: スパン番号 | N7: 10 | P7: スパン長 | R7: 7.4 | U7: 前回定期点検時の判定 | W7: 応急措置前の判定 | Y7: 対策区分毎の 変状の有無 | AC7: 対策区分毎の変状の発生範囲の規模(㎡) | AK7: 備考注2
K8: 変状番号 | L8: 対象箇所 | N8: 部位区分 | P8: 変状区分 | R8: 変状種類
Y9: 外力注1 | AC9: 材質劣化注1 | AG9: 漏水注1
Y10: Ⅳ | Z10: Ⅲ | AA10: Ⅱa | AB10: Ⅱb | AC10: Ⅳ | AD10: Ⅲ | AE10: Ⅱa | AF10: Ⅱb | AG10: Ⅳ | AH10: Ⅲ | AI10: Ⅱa | AJ10: Ⅱb
K11: 1 | L11: 覆工 | N11: アーチ（左側） | P11: 材質劣化 | R11: うき・はく離 | U11: Ⅱa | W11: - | AD11: 0.0025 | AQ11: =IF(P11="材質劣化",2,IF(P11="漏水",3,1)) -> 2 | AS11: =IF(Y11<>"",1,"")
K12: 2 | L12: 覆工 | N12: 水平打ち継ぎ目（左側） | P12: 材質劣化 | R12: うき・はく離 | U12: Ⅱb | W12: - | AF12: 2.22 | AQ12: =IF(P12="材質劣化",2,IF(P12="漏水",3,1)) -> 2
K13: 3 | L13: 覆工 | N13: 側壁（左側） | P13: 漏水 | R13: 漏水 | U13: Ⅱb | W13: - | AJ13: 19.76 | AQ13: =IF(P13="材質劣化",2,IF(P13="漏水",3,1)) -> 3
K14: 4 | L14: 覆工 | N14: アーチ（左側） | P14: 材質劣化 | R14: 鋼材腐食 | U14: Ⅱb | W14: - | AF14: 0.12 | AQ14: =IF(P14="材質劣化",2,IF(P14="漏水",3,1)) -> 2
K15: 5 | L15: 覆工 | N15: アーチ（右側） | P15: 漏水 | R15: その他 | U15: Ⅱa | W15: - | AQ15: =IF(P15="材質劣化",2,IF(P15="漏水",3,1)) -> 3
K16: 6 | L16: 覆工 | N16: 水平打ち継ぎ目（右側） | P16: 材質劣化 | R16: うき・はく離 | U16: Ⅱb | W16: - | AF16: 2.22 | AQ16: =IF(P16="材質劣化",2,IF(P16="漏水",3,1)) -> 2
K17: 7 | L17: 覆工 | N17: 横断目地（左側） | P17: 材質劣化 | R17: その他 | U17: Ⅱb | W17: - | AQ17: =IF(P17="材質劣化",2,IF(P17="漏水",3,1)) -> 2
K18: 8 | L18: 覆工 | N18: 横断目地（右側） | P18: 材質劣化 | R18: うき・はく離 | U18: Ⅱa | W18: - | AD18: 0.02 | AQ18: =IF(P18="材質劣化",2,IF(P18="漏水",3,1)) -> 2
K19: 9 | L19: 覆工 | N19: アーチ（左側） | P19: 材質劣化 | R19: 鋼材腐食 | U19: Ⅱb | W19: - | AF19: 0.0875 | AQ19: =IF(P19="材質劣化",2,IF(P19="漏水",3,1)) -> 2
K20: 10 | L20: 覆工 | N20: アーチ（天端） | P20: 材質劣化 | R20: 圧ざ、ひび割れ | U20: - | W20: - | AF20: 22 | AQ20: =IF(P20="材質劣化",2,IF(P20="漏水",3,1)) -> 2
K21: 11 | L21: 覆工 | N21: 側壁（右側） | P21: 漏水 | R21: 漏水 | U21: - | W21: - | AJ21: 4.64 | AQ21: =IF(P21="材質劣化",2,IF(P21="漏水",3,1)) -> 3
K22: 12 | L22: 覆工 | N22: 側壁（右側） | P22: 漏水 | R22: 漏水 | U22: - | W22: - | AJ22: 5.13 | AQ22: =IF(P22="材質劣化",2,IF(P22="漏水",3,1)) -> 3
K23: 13 | AQ23: =IF(P23="材質劣化",2,IF(P23="漏水",3,1)) -> 1
K24: 14 | AQ24: =IF(P24="材質劣化",2,IF(P24="漏水",3,1)) -> 1
K25: 15 | AQ25: =IF(P25="材質劣化",2,IF(P25="漏水",3,1)) -> 1
K26: 16 | AQ26: =IF(P26="材質劣化",2,IF(P26="漏水",3,1)) -> 1
K27: 17 | AQ27: =IF(P27="材質劣化",2,IF(P27="漏水",3,1)) -> 1
K28: 18 | AQ28: =IF(P28="材質劣化",2,IF(P28="漏水",3,1)) -> 1
K29: 19 | AQ29: =IF(P29="材質劣化",2,IF(P29="漏水",3,1)) -> 1
K30: 20 | AQ30: =IF(P30="材質劣化",2,IF(P30="漏水",3,1)) -> 1
K31: 21 | AQ31: =IF(P31="材質劣化",2,IF(P31="漏水",3,1)) -> 1
K32: 22 | AQ32: =IF(P32="材質劣化",2,IF(P32="漏水",3,1)) -> 1
K33: 23 | AQ33: =IF(P33="材質劣化",2,IF(P33="漏水",3,1)) -> 1
K34: 24 | AQ34: =IF(P34="材質劣化",2,IF(P34="漏水",3,1)) -> 1
K35: 集計 判定 診断 | L35: 変状の発生規模合計(㎡) | Y35: － | AC35: =SUM(AC11:AC34) -> 0 | AD35: =SUM(AD11:AD34) -> 0.0225 | AE35: =SUM(AE11:AE34) -> 0 | AF35: =SUM(AF11:AF34) -> 26.6475 | AG35: =SUM(AG11:AG34) -> 0 | AH35: =SUM(AH11:AH34) -> 0 | AI35: =SUM(AI11:AI34) -> 0 | AJ35: =SUM(AJ11:AJ34) -> 29.53 | AK35: 覆工スパン単位の 健全性の 診断の区分 | AM35: =IF(Y37+AC37+AG37>0,"Ⅳ",IF(Z37+AD37+AH37>0,"Ⅲ",IF(AA37+AB37+AE37+AF37+AI37+AJ37>0,"Ⅱ","Ⅰ"))) -> Ⅲ
L36: 対策区分の 判定結果 | O36: 対策区分毎の変状数注3 | Y36: Ⅳ | Z36: Ⅲ | AA36: Ⅱa | AB36: Ⅱb | AC36: Ⅳ | AD36: Ⅲ | AE36: Ⅱa | AF36: Ⅱb | AG36: Ⅳ | AH36: Ⅲ | AI36: Ⅱa | AJ36: Ⅱb
Y37: =IF(COUNTIF(Y11:Y34,"〇")>0,1,0) -> 0 | Z37: =IF(COUNTIF(Z11:Z34,"〇")>0,1,0) -> 0 | AA37: =IF(COUNTIF(AA11:AA34,"〇")>0,1,0) -> 0 | AB37: =IF(COUNTIF(AB11:AB34,"〇")>0,1,0) -> 0 | AC37: =COUNTA(AC11:AC34) -> 0 | AD37: =COUNTA(AD11:AD34) -> 2 | AE37: =COUNTA(AE11:AE34) -> 0 | AF37: =COUNTA(AF11:AF34) -> 5 | AG37: =COUNTA(AG11:AG34) -> 0 | AH37: =COUNTA(AH11:AH34) -> 0 | AI37: =COUNTA(AI11:AI34) -> 0 | AJ37: =COUNTA(AJ11:AJ34) -> 3
K39: 所見
K43: 注1：誤記入防止のため、当該変状区分以外のセルは灰色表示とすること。
K44: 注2：応急措置を実施した場合は、その詳細を備考に記載すること。
K45: 注3：外力は覆工スパン単位、材質劣化、漏水は変状単位とすること。
B46: （以下、印刷不要）
B47: ※1：本シートは作成洩れのないよう、変状が無くても全スパン分を作成すること．また変状展開図は、様式D-2-1、様式D-2-1'と同じものを覆工スパン単位で拡大し掲載すること。
B48: ※2：変状番号は、様式D-1-1で記入した番号と整合させること。
B49: ※3：対策区分毎の変状発生規模は、様式D-1-1に記載した面積を記入すること（ただし外力はスパン単位で評価するため変状の有無の欄には面積でなく○を記入し、備考欄に状況を記入）。
B50: ※4：本様式は覆工スパン毎に作成すること。
B51: ※5：変状数が多い場合は、適時、表の行を増やして覆工スパン毎に1枚のシートに収めること。また、1スパン１シートとし、スパンに合わせてシートを追加すること。
B52: ※6：対策区分毎の変状の発生範囲の規模とは，対策を行う際に参考となる変状の長さや面積であり，変状を包含する長さや面積とする。
B53: ※7：対策範囲を示す発生範囲の規模を面積で記入することが妥当ではない変状は、発生範囲の規模の欄に○を記入するとともに、備考に内容を記入すること。

Sheet 様式D-3_S011
AU1: 様式F用→ | AV1: 覆工スパン | AY1: 変 状 数 | BK1: 変 状 規 模
AV2: 番号 | AW2: 延長 （ｍ） | AX2: 健全性の診断の 区分 | AY2: 対策区分の判定 | BK2: 覆工スパン長（ｍ） | BO2: 変状の発生範囲の規模（㎡）
B3: ■定期点検記録様式 覆工スパン別変状詳細展開図 【様式D-3】 | AY3: 外力 | BC3: 材質劣化 | BG3: 漏水 | BK3: 外力 注2 | BO3: 材質劣化 | BS3: 漏水
B4: フリガナ | E4: (ﾀｶｾﾄﾝﾈﾙ) | K4: 路線名 | N4: 国道376号線 | T4: 定期点検実施者 | Y4: 基礎地盤コンサルタンツ株式会社 | AG4: 定期点検年月日 | AK4: 45944 | AY4: Ⅳ | AZ4: Ⅲ | BA4: Ⅱa | BB4: Ⅱb | BC4: Ⅳ | BD4: Ⅲ | BE4: Ⅱa | BF4: Ⅱb | BG4: Ⅳ | BH4: Ⅲ | BI4: Ⅱa | BJ4: Ⅱb | BK4: Ⅳ | BL4: Ⅲ | BM4: Ⅱa | BN4: Ⅱb | BO4: Ⅳ | BP4: Ⅲ | BQ4: Ⅱa | BR4: Ⅱb | BS4: Ⅳ | BT4: Ⅲ | BU4: Ⅱa | BV4: Ⅱb
B5: 名 称 | E5: 高瀬トンネル | K5: 管理者名 | N5: 周南土木建築事務所 | Y5: 大谷 直毅 | AV5: =N7 -> 11 | AW5: =R7 -> 7.5 | AX5: =AM35 -> Ⅲ | AY5: =Y37 -> 0 | AZ5: =Z37 -> 0 | BA5: =AA37 -> 0 | BB5: =AB37 -> 0 | BC5: =AC37 -> 0 | BD5: =AD37 -> 1 | BE5: =AE37 -> 0 | BF5: =AF37 -> 3 | ... BJ5: =AJ37 -> 1 | BK5: =IF(Y37>0,R7,) -> 0 | BL5: =IF(Y37>0,"",IF(Z37>0,R7,)) -> 0 | BM5: =IF(Y37+Z37>0,"",IF(AA37>0,R7,)) -> 0 | BN5: =IF(Y37+Z37+AA37>0,"",IF(AB37>0,R7,)) -> 0 | BO5: =AC35 -> 0 | BP5: =AD35 -> 0.01 | BQ5: =AE35 -> 0 | BR5: =AF35 -> 4.52 | BS5: =AG35 -> 0 | BT5: =AH35 -> 0 | BU5: =AI35 -> 0 | BV5: =AJ35 -> 1.35
B6: スパン別変状展開図 | K6: 【健全性判定集計表】
K7: スパン番号 | N7: 11 | P7: スパン長 | R7: 7.5 | U7: 前回定期点検時の判定 | W7: 応急措置前の判定 | Y7: 対策区分毎の 変状の有無 | AC7: 対策区分毎の変状の発生範囲の規模(㎡) | AK7: 備考注2
K8: 変状番号 | L8: 対象箇所 | N8: 部位区分 | P8: 変状区分 | R8: 変状種類
Y9: 外力注1 | AC9: 材質劣化注1 | AG9: 漏水注1
Y10: Ⅳ | Z10: Ⅲ | AA10: Ⅱa | AB10: Ⅱb | AC10: Ⅳ | AD10: Ⅲ | AE10: Ⅱa | AF10: Ⅱb | AG10: Ⅳ | AH10: Ⅲ | AI10: Ⅱa | AJ10: Ⅱb
K11: 1 | L11: 覆工 | N11: 側壁（左側） | P11: 漏水 | R11: 漏水 | U11: Ⅱb | W11: - | AJ11: 1.35 | AQ11: =IF(P11="材質劣化",2,IF(P11="漏水",3,1)) -> 3 | AS11: =IF(Y11<>"",1,"")
K12: 2 | L12: 覆工 | N12: 水平打ち継ぎ目（左側） | P12: 材質劣化 | R12: うき・はく離 | U12: Ⅱb | W12: - | AF12: 2.25 | AQ12: =IF(P12="材質劣化",2,IF(P12="漏水",3,1)) -> 2
K13: 3 | L13: 覆工 | N13: 横断目地（天端） | P13: 材質劣化 | R13: その他 | U13: Ⅱb | W13: - | AQ13: =IF(P13="材質劣化",2,IF(P13="漏水",3,1)) -> 2
K14: 4 | L14: 覆工 | N14: アーチ（右側） | P14: 材質劣化 | R14: うき・はく離 | U14: Ⅱa | W14: - | AD14: 0.01 | AQ14: =IF(P14="材質劣化",2,IF(P14="漏水",3,1)) -> 2
K15: 5 | L15: 覆工 | N15: 水平打ち継ぎ目（右側） | P15: 材質劣化 | R15: うき・はく離 | U15: Ⅱb | W15: - | AF15: 2.25 | AQ15: =IF(P15="材質劣化",2,IF(P15="漏水",3,1)) -> 2
K16: 6 | L16: 覆工 | N16: 側壁（左側） | P16: 材質劣化 | R16: うき・はく離 | U16: Ⅱb | W16: - | AF16: 0.02 | AQ16: =IF(P16="材質劣化",2,IF(P16="漏水",3,1)) -> 2
K17: 7 | AQ17: =IF(P17="材質劣化",2,IF(P17="漏水",3,1)) -> 1
K18: 8 | AQ18: =IF(P18="材質劣化",2,IF(P18="漏水",3,1)) -> 1
K19: 9 | AQ19: =IF(P19="材質劣化",2,IF(P19="漏水",3,1)) -> 1
K20: 10 | AQ20: =IF(P20="材質劣化",2,IF(P20="漏水",3,1)) -> 1
K21: 11 | AQ21: =IF(P21="材質劣化",2,IF(P21="漏水",3,1)) -> 1
K22: 12 | AQ22: =IF(P22="材質劣化",2,IF(P22="漏水",3,1)) -> 1
K23: 13 | AQ23: =IF(P23="材質劣化",2,IF(P23="漏水",3,1)) -> 1
K24: 14 | AQ24: =IF(P24="材質劣化",2,IF(P24="漏水",3,1)) -> 1
K25: 15 | AQ25: =IF(P25="材質劣化",2,IF(P25="漏水",3,1)) -> 1
K26: 16 | AQ26: =IF(P26="材質劣化",2,IF(P26="漏水",3,1)) -> 1
K27: 17 | AQ27: =IF(P27="材質劣化",2,IF(P27="漏水",3,1)) -> 1
K28: 18 | AQ28: =IF(P28="材質劣化",2,IF(P28="漏水",3,1)) -> 1
... K34: 24 | AQ34: =IF(P34="材質劣化",2,IF(P34="漏水",3,1)) -> 1
K35: 集計 判定 診断 | L35: 変状の発生規模合計(㎡) | Y35: － | AC35: =SUM(AC11:AC34) -> 0 | AD35: =SUM(AD11:AD34) -> 0.01 | AE35: =SUM(AE11:AE34) -> 0 | AF35: =SUM(AF11:AF34) -> 4.52 | AG35: =SUM(AG11:AG34) -> 0 | AH35: =SUM(AH11:AH34) -> 0 | AI35: =SUM(AI11:AI34) -> 0 | AJ35: =SUM(AJ11:AJ34) -> 1.35 | AK35: 覆工スパン単位の 健全性の 診断の区分 | AM35: =IF(Y37+AC37+AG37>0,"Ⅳ",IF(Z37+AD37+AH37>0,"Ⅲ",IF(AA37+AB37+AE37+AF37+AI37+AJ37>0,"Ⅱ","Ⅰ"))) -> Ⅲ
L36: 対策区分の 判定結果 | O36: 対策区分毎の変状数注3 | Y36: Ⅳ | Z36: Ⅲ | AA36: Ⅱa | AB36: Ⅱb | AC36: Ⅳ | AD36: Ⅲ | AE36: Ⅱa | AF36: Ⅱb | AG36: Ⅳ | AH36: Ⅲ | AI36: Ⅱa | AJ36: Ⅱb
Y37: =IF(COUNTIF(Y11:Y34,"〇")>0,1,0) -> 0 | Z37: =IF(COUNTIF(Z11:Z34,"〇")>0,1,0) -> 0 | AA37: =IF(COUNTIF(AA11:AA34,"〇")>0,1,0) -> 0 | AB37: =IF(COUNTIF(AB11:AB34,"〇")>0,1,0) -> 0 | AC37: =COUNTA(AC11:AC34) -> 0 | AD37: =COUNTA(AD11:AD34) -> 1 | AE37: =COUNTA(AE11:AE34) -> 0 | AF37: =COUNTA(AF11:AF34) -> 3 | AG37: =COUNTA(AG11:AG34) -> 0 | AH37: =COUNTA(AH11:AH34) -> 0 | AI37: =COUNTA(AI11:AI34) -> 0 | AJ37: =COUNTA(AJ11:AJ34) -> 1
K39: 所見
K43: 注1：誤記入防止のため、当該変状区分以外のセルは灰色表示とすること。
K44: 注2：応急措置を実施した場合は、その詳細を備考に記載すること。
K45: 注3：外力は覆工スパン単位、材質劣化、漏水は変状単位とすること。
B46: （以下、印刷不要）
B47: ※1：本シートは作成洩れのないよう、変状が無くても全スパン分を作成すること．また変状展開図は、様式D-2-1、様式D-2-1'と同じものを覆工スパン単位で拡大し掲載すること。
B48: ※2：変状番号は、様式D-1-1で記入した番号と整合させること。
B49: ※3：対策区分毎の変状発生規模は、様式D-1-1に記載した面積を記入すること（ただし外力はスパン単位で評価するため変状の有無の欄には面積でなく○を記入し、備考欄に状況を記入）。
B50: ※4：本様式は覆工スパン毎に作成すること。
B51: ※5：変状数が多い場合は、適時、表の行を増やして覆工スパン毎に1枚のシートに収めること。また、1スパン１シートとし、スパンに合わせてシートを追加すること。
B52: ※6：対策区分毎の変状の発生範囲の規模とは，対策を行う際に参考となる変状の長さや面積であり，変状を包含する長さや面積とする。
B53: ※7：対策範囲を示す発生範囲の規模を面積で記入することが妥当ではない変状は、発生範囲の規模の欄に○を記入するとともに、備考に内容を記入すること。

Sheet 様式D-3_S012
AU1: 様式F用→ | AV1: 覆工スパン | AY1: 変 状 数 | BK1: 変 状 規 模
AV2: 番号 | AW2: 延長 （ｍ） | AX2: 健全性の診断の 区分 | AY2: 対策区分の判定 | BK2: 覆工スパン長（ｍ） | BO2: 変状の発生範囲の規模（㎡）
B3: ■定期点検記録様式 覆工スパン別変状詳細展開図 【様式D-3】 | AY3: 外力 | BC3: 材質劣化 | BG3: 漏水 | BK3: 外力 注2 | BO3: 材質劣化 | BS3: 漏水
B4: フリガナ | E4: (ﾀｶｾﾄﾝﾈﾙ) | K4: 路線名 | N4: 国道376号線 | T4: 定期点検実施者 | Y4: 基礎地盤コンサルタンツ株式会社 | AG4: 定期点検年月日 | AK4: 45944 | AY4: Ⅳ | AZ4: Ⅲ | BA4: Ⅱa | BB4: Ⅱb | BC4: Ⅳ | BD4: Ⅲ | BE4: Ⅱa | BF4: Ⅱb | BG4: Ⅳ | BH4: Ⅲ | BI4: Ⅱa | BJ4: Ⅱb | BK4: Ⅳ | BL4: Ⅲ | BM4: Ⅱa | BN4: Ⅱb | BO4: Ⅳ | BP4: Ⅲ | BQ4: Ⅱa | BR4: Ⅱb | BS4: Ⅳ | BT4: Ⅲ | BU4: Ⅱa | BV4: Ⅱb
B5: 名 称 | E5: 高瀬トンネル | K5: 管理者名 | N5: 周南土木建築事務所 | Y5: 大谷 直毅 | AV5: =N7 -> 12 | AW5: =R7 -> 6.5 | AX5: =AM35 -> Ⅱ | AY5: =Y37 -> 0 | AZ5: =Z37 -> 0 | BA5: =AA37 -> 0 | BB5: =AB37 -> 0 | BC5: =AC37 -> 0 | BD5: =AD37 -> 0 | BE5: =AE37 -> 1 | BF5: =AF37 -> 4 | ... BJ5: =AJ37 -> 0 | BK5: =IF(Y37>0,R7,) -> 0 | BL5: =IF(Y37>0,"",IF(Z37>0,R7,)) -> 0 | BM5: =IF(Y37+Z37>0,"",IF(AA37>0,R7,)) -> 0 | BN5: =IF(Y37+Z37+AA37>0,"",IF(AB37>0,R7,)) -> 0 | BO5: =AC35 -> 0 | BP5: =AD35 -> 0 | BQ5: =AE35 -> 0.99 | BR5: =AF35 -> 4.06 | BS5: =AG35 -> 0 | BT5: =AH35 -> 0 | BU5: =AI35 -> 0 | BV5: =AJ35 -> 0
B6: スパン別変状展開図 | K6: 【健全性判定集計表】
K7: スパン番号 | N7: 12 | P7: スパン長 | R7: 6.5 | U7: 前回定期点検時の判定 | W7: 応急措置前の判定 | Y7: 対策区分毎の 変状の有無 | AC7: 対策区分毎の変状の発生範囲の規模(㎡) | AK7: 備考注2
K8: 変状番号 | L8: 対象箇所 | N8: 部位区分 | P8: 変状区分 | R8: 変状種類
Y9: 外力注1 | AC9: 材質劣化注1 | AG9: 漏水注1
Y10: Ⅳ | Z10: Ⅲ | AA10: Ⅱa | AB10: Ⅱb | AC10: Ⅳ | AD10: Ⅲ | AE10: Ⅱa | AF10: Ⅱb | AG10: Ⅳ | AH10: Ⅲ | AI10: Ⅱa | AJ10: Ⅱb
K11: 1 | L11: 覆工 | N11: 水平打ち継ぎ目（左側） | P11: 材質劣化 | R11: うき・はく離 | U11: Ⅱb | W11: - | AF11: 1.95 | AQ11: =IF(P11="材質劣化",2,IF(P11="漏水",3,1)) -> 2 | AS11: =IF(Y11<>"",1,"")
K12: 2 | L12: 覆工 | N12: 水平打ち継ぎ目（右側） | P12: 材質劣化 | R12: うき・はく離 | U12: Ⅱb | W12: - | AF12: 1.95 | AQ12: =IF(P12="材質劣化",2,IF(P12="漏水",3,1)) -> 2
K13: 3 | L13: 覆工 | N13: 側壁（左側） | P13: 材質劣化 | R13: うき・はく離 | U13: Ⅱb | W13: - | AF13: 0.01 | AQ13: =IF(P13="材質劣化",2,IF(P13="漏水",3,1)) -> 2
K14: 4 | L14: 覆工 | N14: アーチ（左側） | P14: 材質劣化 | R14: 圧ざ、ひび割れ | U14: - | W14: - | AF14: 0.15 | AQ14: =IF(P14="材質劣化",2,IF(P14="漏水",3,1)) -> 2
K15: 5 | L15: 覆工 | N15: アーチ（右側） | P15: 材質劣化 | R15: 圧ざ、ひび割れ | U15: - | W15: - | AE15: 0.99 | AQ15: =IF(P15="材質劣化",2,IF(P15="漏水",3,1)) -> 2
K16: 6 | AQ16: =IF(P16="材質劣化",2,IF(P16="漏水",3,1)) -> 1
K17: 7 | AQ17: =IF(P17="材質劣化",2,IF(P17="漏水",3,1)) -> 1
K18: 8 | AQ18: =IF(P18="材質劣化",2,IF(P18="漏水",3,1)) -> 1
K19: 9 | AQ19: =IF(P19="材質劣化",2,IF(P19="漏水",3,1)) -> 1
K20: 10 | AQ20: =IF(P20="材質劣化",2,IF(P20="漏水",3,1)) -> 1
K21: 11 | AQ21: =IF(P21="材質劣化",2,IF(P21="漏水",3,1)) -> 1
K22: 12 | AQ22: =IF(P22="材質劣化",2,IF(P22="漏水",3,1)) -> 1
K23: 13 | AQ23: =IF(P23="材質劣化",2,IF(P23="漏水",3,1)) -> 1
K24: 14 | AQ24: =IF(P24="材質劣化",2,IF(P24="漏水",3,1)) -> 1
K25: 15 | AQ25: =IF(P25="材質劣化",2,IF(P25="漏水",3,1)) -> 1
K26: 16 | AQ26: =IF(P26="材質劣化",2,IF(P26="漏水",3,1)) -> 1
K27: 17 | AQ27: =IF(P27="材質劣化",2,IF(P27="漏水",3,1)) -> 1
... K34: 24 | AQ34: =IF(P34="材質劣化",2,IF(P34="漏水",3,1)) -> 1
K35: 集計 判定 診断 | L35: 変状の発生規模合計(㎡) | Y35: － | AC35: =SUM(AC11:AC34) -> 0 | AD35: =SUM(AD11:AD34) -> 0 | AE35: =SUM(AE11:AE34) -> 0.99 | AF35: =SUM(AF11:AF34) -> 4.06 | AG35: =SUM(AG11:AG34) -> 0 | AH35: =SUM(AH11:AH34) -> 0 | AI35: =SUM(AI11:AI34) -> 0 | AJ35: =SUM(AJ11:AJ34) -> 0 | AK35: 覆工スパン単位の 健全性の 診断の区分 | AM35: =IF(Y37+AC37+AG37>0,"Ⅳ",IF(Z37+AD37+AH37>0,"Ⅲ",IF(AA37+AB37+AE37+AF37+AI37+AJ37>0,"Ⅱ","Ⅰ"))) -> Ⅱ
L36: 対策区分の 判定結果 | O36: 対策区分毎の変状数注3 | Y36: Ⅳ | Z36: Ⅲ | AA36: Ⅱa | AB36: Ⅱb | AC36: Ⅳ | AD36: Ⅲ | AE36: Ⅱa | AF36: Ⅱb | AG36: Ⅳ | AH36: Ⅲ | AI36: Ⅱa | AJ36: Ⅱb
Y37: =IF(COUNTIF(Y11:Y34,"〇")>0,1,0) -> 0 | Z37: =IF(COUNTIF(Z11:Z34,"〇")>0,1,0) -> 0 | AA37: =IF(COUNTIF(AA11:AA34,"〇")>0,1,0) -> 0 | AB37: =IF(COUNTIF(AB11:AB34,"〇")>0,1,0) -> 0 | AC37: =COUNTA(AC11:AC34) -> 0 | AD37: =COUNTA(AD11:AD34) -> 0 | AE37: =COUNTA(AE11:AE34) -> 1 | AF37: =COUNTA(AF11:AF34) -> 4 | AG37: =COUNTA(AG11:AG34) -> 0 | AH37: =COUNTA(AH11:AH34) -> 0 | AI37: =COUNTA(AI11:AI34) -> 0 | AJ37: =COUNTA(AJ11:AJ34) -> 0
K39: 所見
K43: 注1：誤記入防止のため、当該変状区分以外のセルは灰色表示とすること。
K44: 注2：応急措置を実施した場合は、その詳細を備考に記載すること。
K45: 注3：外力は覆工スパン単位、材質劣化、漏水は変状単位とすること。
B46: （以下、印刷不要）
B47: ※1：本シートは作成洩れのないよう、変状が無くても全スパン分を作成すること．また変状展開図は、様式D-2-1、様式D-2-1'と同じものを覆工スパン単位で拡大し掲載すること。
B48: ※2：変状番号は、様式D-1-1で記入した番号と整合させること。
B49: ※3：対策区分毎の変状発生規模は、様式D-1-1に記載した面積を記入すること（ただし外力はスパン単位で評価するため変状の有無の欄には面積でなく○を記入し、備考欄に状況を記入）。
B50: ※4：本様式は覆工スパン毎に作成すること。
B51: ※5：変状数が多い場合は、適時、表の行を増やして覆工スパン毎に1枚のシートに収めること。また、1スパン１シートとし、スパンに合わせてシートを追加すること。
B52: ※6：対策区分毎の変状の発生範囲の規模とは，対策を行う際に参考となる変状の長さや面積であり，変状を包含する長さや面積とする。
B53: ※7：対策範囲を示す発生範囲の規模を面積で記入することが妥当ではない変状は、発生範囲の規模の欄に○を記入するとともに、備考に内容を記入すること。

Sheet 様式D-3_S013
AU1: 様式F用→ | AV1: 覆工スパン | AY1: 変 状 数 | BK1: 変 状 規 模
AV2: 番号 | AW2: 延長 （ｍ） | AX2: 健全性の診断の 区分 | AY2: 対策区分の判定 | BK2: 覆工スパン長（ｍ） | BO2: 変状の発生範囲の規模（㎡）
B3: ■定期点検記録様式 覆工スパン別変状詳細展開図 【様式D-3】 | AY3: 外力 | BC3: 材質劣化 | BG3: 漏水 | BK3: 外力 注2 | BO3: 材質劣化 | BS3: 漏水
B4: フリガナ | E4: (ﾀｶｾﾄﾝﾈﾙ) | K4: 路線名 | N4: 国道376号線 | T4: 定期点検実施者 | Y4: 基礎地盤コンサルタンツ株式会社 | AG4: 定期点検年月日 | AK4: 45944 | AY4: Ⅳ | AZ4: Ⅲ | BA4: Ⅱa | BB4: Ⅱb | BC4: Ⅳ | BD4: Ⅲ | BE4: Ⅱa | BF4: Ⅱb | BG4: Ⅳ | BH4: Ⅲ | BI4: Ⅱa | BJ4: Ⅱb | BK4: Ⅳ | BL4: Ⅲ | BM4: Ⅱa | BN4: Ⅱb | BO4: Ⅳ | BP4: Ⅲ | BQ4: Ⅱa | BR4: Ⅱb | BS4: Ⅳ | BT4: Ⅲ | BU4: Ⅱa | BV4: Ⅱb
B5: 名 称 | E5: 高瀬トンネル | K5: 管理者名 | N5: 周南土木建築事務所 | Y5: 大谷 直毅 | AV5: =N7 -> 13 | AW5: =R7 -> 4.5 | AX5: =AM35 -> Ⅱ | AY5: =Y37 -> 0 | AZ5: =Z37 -> 0 | BA5: =AA37 -> 0 | BB5: =AB37 -> 0 | BC5: =AC37 -> 0 | BD5: =AD37 -> 0 | BE5: =AE37 -> 0 | BF5: =AF37 -> 3 | ... BJ5: =AJ37 -> 0 | BK5: =IF(Y37>0,R7,) -> 0 | BL5: =IF(Y37>0,"",IF(Z37>0,R7,)) -> 0 | BM5: =IF(Y37+Z37>0,"",IF(AA37>0,R7,)) -> 0 | BN5: =IF(Y37+Z37+AA37>0,"",IF(AB37>0,R7,)) -> 0 | BO5: =AC35 -> 0 | BP5: =AD35 -> 0 | BQ5: =AE35 -> 0 | BR5: =AF35 -> 1.3125 | BS5: =AG35 -> 0 | BT5: =AH35 -> 0 | BU5: =AI35 -> 0 | BV5: =AJ35 -> 0
B6: スパン別変状展開図 | K6: 【健全性判定集計表】
K7: スパン番号 | N7: 13 | P7: スパン長 | R7: 4.5 | U7: 前回定期点検時の判定 | W7: 応急措置前の判定 | Y7: 対策区分毎の 変状の有無 | AC7: 対策区分毎の変状の発生範囲の規模(㎡) | AK7: 備考注2
K8: 変状番号 | L8: 対象箇所 | N8: 部位区分 | P8: 変状区分 | R8: 変状種類
Y9: 外力注1 | AC9: 材質劣化注1 | AG9: 漏水注1
Y10: Ⅳ | Z10: Ⅲ | AA10: Ⅱa | AB10: Ⅱb | AC10: Ⅳ | AD10: Ⅲ | AE10: Ⅱa | AF10: Ⅱb | AG10: Ⅳ | AH10: Ⅲ | AI10: Ⅱa | AJ10: Ⅱb
K11: 1 | L11: 覆工 | N11: 水平打ち継ぎ目（左側） | P11: 材質劣化 | R11: うき・はく離 | U11: Ⅱb | W11: - | AF11: 0.435 | AQ11: =IF(P11="材質劣化",2,IF(P11="漏水",3,1)) -> 2 | AS11: =IF(Y11<>"",1,"")
K12: 2 | L12: 覆工 | N12: アーチ（右側） | P12: 漏水 | R12: その他 | U12: Ⅱa | W12: - | AQ12: =IF(P12="材質劣化",2,IF(P12="漏水",3,1)) -> 3
K13: 3 | L13: 覆工 | N13: 水平打ち継ぎ目（右側） | P13: 材質劣化 | R13: うき・はく離 | U13: Ⅱb | W13: - | AF13: 0.87 | AQ13: =IF(P13="材質劣化",2,IF(P13="漏水",3,1)) -> 2
K14: 4 | L14: 覆工 | N14: 水平打ち継ぎ目（右側） | P14: 材質劣化 | R14: うき・はく離 | U14: Ⅱb | W14: - | AF14: 0.0075 | AQ14: =IF(P14="材質劣化",2,IF(P14="漏水",3,1)) -> 2
K15: 5 | AQ15: =IF(P15="材質劣化",2,IF(P15="漏水",3,1)) -> 1
K16: 6 | AQ16: =IF(P16="材質劣化",2,IF(P16="漏水",3,1)) -> 1
K17: 7 | AQ17: =IF(P17="材質劣化",2,IF(P17="漏水",3,1)) -> 1
K18: 8 | AQ18: =IF(P18="材質劣化",2,IF(P18="漏水",3,1)) -> 1
K19: 9 | AQ19: =IF(P19="材質劣化",2,IF(P19="漏水",3,1)) -> 1
K20: 10 | AQ20: =IF(P20="材質劣化",2,IF(P20="漏水",3,1)) -> 1
K21: 11 | AQ21: =IF(P21="材質劣化",2,IF(P21="漏水",3,1)) -> 1
K22: 12 | AQ22: =IF(P22="材質劣化",2,IF(P22="漏水",3,1)) -> 1
K23: 13 | AQ23: =IF(P23="材質劣化",2,IF(P23="漏水",3,1)) -> 1
K24: 14 | AQ24: =IF(P24="材質劣化",2,IF(P24="漏水",3,1)) -> 1
K25: 15 | AQ25: =IF(P25="材質劣化",2,IF(P25="漏水",3,1)) -> 1
K26: 16 | AQ26: =IF(P26="材質劣化",2,IF(P26="漏水",3,1)) -> 1
... K34: 24 | AQ34: =IF(P34="材質劣化",2,IF(P34="漏水",3,1)) -> 1
K35: 集計 判定 診断 | L35: 変状の発生規模合計(㎡) | Y35: － | AC35: =SUM(AC11:AC34) -> 0 | AD35: =SUM(AD11:AD34) -> 0 | AE35: =SUM(AE11:AE34) -> 0 | AF35: =SUM(AF11:AF34) -> 1.3125 | AG35: =SUM(AG11:AG34) -> 0 | AH35: =SUM(AH11:AH34) -> 0 | AI35: =SUM(AI11:AI34) -> 0 | AJ35: =SUM(AJ11:AJ34) -> 0 | AK35: 覆工スパン単位の 健全性の 診断の区分 | AM35: =IF(Y37+AC37+AG37>0,"Ⅳ",IF(Z37+AD37+AH37>0,"Ⅲ",IF(AA37+AB37+AE37+AF37+AI37+AJ37>0,"Ⅱ","Ⅰ"))) -> Ⅱ
L36: 対策区分の 判定結果 | O36: 対策区分毎の変状数注3 | Y36: Ⅳ | Z36: Ⅲ | AA36: Ⅱa | AB36: Ⅱb | AC36: Ⅳ | AD36: Ⅲ | AE36: Ⅱa | AF36: Ⅱb | AG36: Ⅳ | AH36: Ⅲ | AI36: Ⅱa | AJ36: Ⅱb
Y37: =IF(COUNTIF(Y11:Y34,"〇")>0,1,0) -> 0 | Z37: =IF(COUNTIF(Z11:Z34,"〇")>0,1,0) -> 0 | AA37: =IF(COUNTIF(AA11:AA34,"〇")>0,1,0) -> 0 | AB37: =IF(COUNTIF(AB11:AB34,"〇")>0,1,0) -> 0 | AC37: =COUNTA(AC11:AC34) -> 0 | AD37: =COUNTA(AD11:AD34) -> 0 | AE37: =COUNTA(AE11:AE34) -> 0 | AF37: =COUNTA(AF11:AF34) -> 3 | AG37: =COUNTA(AG11:AG34) -> 0 | AH37: =COUNTA(AH11:AH34) -> 0 | AI37: =COUNTA(AI11:AI34) -> 0 | AJ37: =COUNTA(AJ11:AJ34) -> 0
K39: 所見
K43: 注1：誤記入防止のため、当該変状区分以外のセルは灰色表示とすること。
K44: 注2：応急措置を実施した場合は、その詳細を備考に記載すること。
K45: 注3：外力は覆工スパン単位、材質劣化、漏水は変状単位とすること。
B46: （以下、印刷不要）
B47: ※1：本シートは作成洩れのないよう、変状が無くても全スパン分を作成すること．また変状展開図は、様式D-2-1、様式D-2-1'と同じものを覆工スパン単位で拡大し掲載すること。
B48: ※2：変状番号は、様式D-1-1で記入した番号と整合させること。
B49: ※3：対策区分毎の変状発生規模は、様式D-1-1に記載した面積を記入すること（ただし外力はスパン単位で評価するため変状の有無の欄には面積でなく○を記入し、備考欄に状況を記入）。
B50: ※4：本様式は覆工スパン毎に作成すること。
B51: ※5：変状数が多い場合は、適時、表の行を増やして覆工スパン毎に1枚のシートに収めること。また、1スパン１シートとし、スパンに合わせてシートを追加すること。
B52: ※6：対策区分毎の変状の発生範囲の規模とは，対策を行う際に参考となる変状の長さや面積であり，変状を包含する長さや面積とする。
B53: ※7：対策範囲を示す発生範囲の規模を面積で記入することが妥当ではない変状は、発生範囲の規模の欄に○を記入するとともに、備考に内容を記入すること。

Sheet 様式D-3_PE
AU1: 様式F用→ | AV1: 覆工スパン | AY1: 変 状 数 | BK1: 変 状 規 模
AV2: 番号 | AW2: 延長 （ｍ） | AX2: 健全性の診断の 区分 | AY2: 対策区分の判定 | BK2: 覆工スパン長（ｍ） | BO2: 変状の発生範囲の規模（㎡）
B3: ■定期点検記録様式 覆工スパン別変状詳細展開図 【様式D-3】 | AY3: 外力 | BC3: 材質劣化 | BG3: 漏水 | BK3: 外力 注2 | BO3: 材質劣化 | BS3: 漏水
B4: フリガナ | E4: (ﾀｶｾﾄﾝﾈﾙ) | K4: 路線名 | N4: 国道376号線 | T4: 定期点検実施者 | Y4: 基礎地盤コンサルタンツ株式会社 | AG4: 定期点検年月日 | AK4: 45944 | AY4: Ⅳ | AZ4: Ⅲ | BA4: Ⅱa | BB4: Ⅱb | BC4: Ⅳ | BD4: Ⅲ | BE4: Ⅱa | BF4: Ⅱb | BG4: Ⅳ | BH4: Ⅲ | BI4: Ⅱa | BJ4: Ⅱb | BK4: Ⅳ | BL4: Ⅲ | BM4: Ⅱa | BN4: Ⅱb | BO4: Ⅳ | BP4: Ⅲ | BQ4: Ⅱa | BR4: Ⅱb | BS4: Ⅳ | BT4: Ⅲ | BU4: Ⅱa | BV4: Ⅱb
B5: 名 称 | E5: 高瀬トンネル | K5: 管理者名 | N5: 周南土木建築事務所 | Y5: 大谷 直毅 | AV5: =N7 -> PE | AW5: =R7 -> 0 | AX5: =AM35 -> Ⅰ | AY5: =Y37 -> 0 | AZ5: =Z37 -> 0 | BA5: =AA37 -> 0 | BB5: =AB37 -> 0 | BC5: =AC37 -> 0 | BD5: =AD37 -> 0 | BE5: =AE37 -> 0 | BF5: =AF37 -> 0 | ... BJ5: =AJ37 -> 0 | BK5: =IF(Y37>0,R7,) -> 0 | BL5: =IF(Y37>0,"",IF(Z37>0,R7,)) -> 0 | BM5: =IF(Y37+Z37>0,"",IF(AA37>0,R7,)) -> 0 | BN5: =IF(Y37+Z37+AA37>0,"",IF(AB37>0,R7,)) -> 0 | BO5: =AC35 -> 0 | BP5: =AD35 -> 0 | BQ5: =AE35 -> 0 | BR5: =AF35 -> 0 | BS5: =AG35 -> 0 | BT5: =AH35 -> 0 | BU5: =AI35 -> 0 | BV5: =AJ35 -> 0
B6: スパン別変状展開図 | K6: 【健全性判定集計表】
K7: スパン番号 | N7: PE | P7: スパン長 | R7: 0 | U7: 前回定期点検時の判定 | W7: 応急措置前の判定 | Y7: 対策区分毎の 変状の有無 | AC7: 対策区分毎の変状の発生範囲の規模(㎡) | AK7: 備考注2
K8: 変状番号 | L8: 対象箇所 | N8: 部位区分 | P8: 変状区分 | R8: 変状種類
Y9: 外力注1 | AC9: 材質劣化注1 | AG9: 漏水注1
Y10: Ⅳ | Z10: Ⅲ | AA10: Ⅱa | AB10: Ⅱb | AC10: Ⅳ | AD10: Ⅲ | AE10: Ⅱa | AF10: Ⅱb | AG10: Ⅳ | AH10: Ⅲ | AI10: Ⅱa | AJ10: Ⅱb
K11: 1 | AQ11: =IF(P11="材質劣化",2,IF(P11="漏水",3,1)) -> 1 | AS11: =IF(Y11<>"",1,"")
K12: 2 | AQ12: =IF(P12="材質劣化",2,IF(P12="漏水",3,1)) -> 1
K13: 3 | AQ13: =IF(P13="材質劣化",2,IF(P13="漏水",3,1)) -> 1
K14: 4 | AQ14: =IF(P14="材質劣化",2,IF(P14="漏水",3,1)) -> 1
K15: 5 | AQ15: =IF(P15="材質劣化",2,IF(P15="漏水",3,1)) -> 1
K16: 6 | AQ16: =IF(P16="材質劣化",2,IF(P16="漏水",3,1)) -> 1
K17: 7 | AQ17: =IF(P17="材質劣化",2,IF(P17="漏水",3,1)) -> 1
K18: 8 | AQ18: =IF(P18="材質劣化",2,IF(P18="漏水",3,1)) -> 1
K19: 9 | AQ19: =IF(P19="材質劣化",2,IF(P19="漏水",3,1)) -> 1
K20: 10 | AQ20: =IF(P20="材質劣化",2,IF(P20="漏水",3,1)) -> 1
K21: 11 | AQ21: =IF(P21="材質劣化",2,IF(P21="漏水",3,1)) -> 1
K22: 12 | AQ22: =IF(P22="材質劣化",2,IF(P22="漏水",3,1)) -> 1
K23: 13 | AQ23: =IF(P23="材質劣化",2,IF(P23="漏水",3,1)) -> 1
... K34: 24 | AQ34: =IF(P34="材質劣化",2,IF(P34="漏水",3,1)) -> 1
K35: 集計 判定 診断 | L35: 変状の発生規模合計(㎡) | Y35: － | AC35: =SUM(AC11:AC34) -> 0 | AD35: =SUM(AD11:AD34) -> 0 | AE35: =SUM(AE11:AE34) -> 0 | AF35: =SUM(AF11:AF34) -> 0 | AG35: =SUM(AG11:AG34) -> 0 | AH35: =SUM(AH11:AH34) -> 0 | AI35: =SUM(AI11:AI34) -> 0 | AJ35: =SUM(AJ11:AJ34) -> 0 | AK35: 覆工スパン単位の 健全性の 診断の区分 | AM35: =IF(Y37+AC37+AG37>0,"Ⅳ",IF(Z37+AD37+AH37>0,"Ⅲ",IF(AA37+AB37+AE37+AF37+AI37+AJ37>0,"Ⅱ","Ⅰ"))) -> Ⅰ
L36: 対策区分の 判定結果 | O36: 対策区分毎の変状数注3 | Y36: Ⅳ | Z36: Ⅲ | AA36: Ⅱa | AB36: Ⅱb | AC36: Ⅳ | AD36: Ⅲ | AE36: Ⅱa | AF36: Ⅱb | AG36: Ⅳ | AH36: Ⅲ | AI36: Ⅱa | AJ36: Ⅱb
Y37: =IF(COUNTIF(Y11:Y34,"〇")>0,1,0) -> 0 | Z37: =IF(COUNTIF(Z11:Z34,"〇")>0,1,0) -> 0 | AA37: =IF(COUNTIF(AA11:AA34,"〇")>0,1,0) -> 0 | AB37: =IF(COUNTIF(AB11:AB34,"〇")>0,1,0) -> 0 | AC37: =COUNTA(AC11:AC34) -> 0 | AD37: =COUNTA(AD11:AD34) -> 0 | AE37: =COUNTA(AE11:AE34) -> 0 | AF37: =COUNTA(AF11:AF34) -> 0 | AG37: =COUNTA(AG11:AG34) -> 0 | AH37: =COUNTA(AH11:AH34) -> 0 | AI37: =COUNTA(AI11:AI34) -> 0 | AJ37: =COUNTA(AJ11:AJ34) -> 0
K39: 所見
K43: 注1：誤記入防止のため、当該変状区分以外のセルは灰色表示とすること。
K44: 注2：応急措置を実施した場合は、その詳細を備考に記載すること。
K45: 注3：外力は覆工スパン単位、材質劣化、漏水は変状単位とすること。
B46: （以下、印刷不要）
B47: ※1：本シートは作成洩れのないよう、変状が無くても全スパン分を作成すること．また変状展開図は、様式D-2-1、様式D-2-1'と同じものを覆工スパン単位で拡大し掲載すること。
B48: ※2：変状番号は、様式D-1-1で記入した番号と整合させること。
B49: ※3：対策区分毎の変状発生規模は、様式D-1-1に記載した面積を記入すること（ただし外力はスパン単位で評価するため変状の有無の欄には面積でなく○を記入し、備考欄に状況を記入）。
B50: ※4：本様式は覆工スパン毎に作成すること。
B51: ※5：変状数が多い場合は、適時、表の行を増やして覆工スパン毎に1枚のシートに収めること。また、1スパン１シートとし、スパンに合わせてシートを追加すること。
B52: ※6：対策区分毎の変状の発生範囲の規模とは，対策を行う際に参考となる変状の長さや面積であり，変状を包含する長さや面積とする。
B53: ※7：対策範囲を示す発生範囲の規模を面積で記入することが妥当ではない変状は、発生範囲の規模の欄に○を記入するとともに、備考に内容を記入すること。

Sheet 様式E
B2: ■定期点検記録様式 近接目視による状態の把握が不可能な箇所 【様式E】
B3: フリガナ | F3: (ﾀｶｾﾄﾝﾈﾙ) | U3: 路 線 名 | Z3: 国道376号線 | AI3: 定期点検実施者 | AO3: 基礎地盤コンサルタンツ株式会社 | AW3: 定期点検年月日 | BC3: 45944
B4: 名 称 | F4: 高瀬トンネル | U4: 管理者名 | Z4: 周南土木建築事務所 | AO4: 大谷 直毅
B5: 覆工スパン 番号 | H5: 対象箇所 | P5: 不可能な理由 | AN5: 対応策
D20: 注）近接目視又は打音、触診ができない箇所を記載する。現状の評価、日常の維持管理での注意点を記載する。
D21: ※ 数が多い場合は、適時、表の行を増やすこと。

Sheet 様式F
B1: ■定期点検記録様式 覆工スパン毎の変状数・変状規模の集計 【様式F】
B2: フリガナ | F2: (ﾀｶｾﾄﾝﾈﾙ) | L2: 路線名 | O2: 国道376号線 | T2: 定期点検実施者 | V2: 基礎地盤コンサルタンツ株式会社 | Y2: 定期点検 年月日 | Z2: 45944
B3: 名 称 | F3: 高瀬トンネル | L3: 管理者名 | O3: 周南土木建築事務所
B5: 【覆工スパン毎の変状数, 変状規模】
B6: 覆工スパン | E6: 変 状 数 | Q6: 変 状 規 模
B7: 番号 | C7: 延長 （ｍ） | D7: 健全性の診断の 区分 | E7: 対策区分の判定注1 | Q7: 覆工スパン長（ｍ） | U7: 変状の発生範囲の規模（㎡）
E8: 外力 | I8: 材質劣化 | M8: 漏水 | Q8: 外力 注2 | U8: 材質劣化 | Y8: 漏水
E9: Ⅳ | F9: Ⅲ | G9: Ⅱa | H9: Ⅱb | I9: Ⅳ | J9: Ⅲ | K9: Ⅱa | L9: Ⅱb | M9: Ⅳ | N9: Ⅲ | O9: Ⅱa | P9: Ⅱb | Q9: Ⅳ | R9: Ⅲ | S9: Ⅱa | T9: Ⅱb | U9: Ⅳ | V9: Ⅲ | W9: Ⅱa | X9: Ⅱb | Y9: Ⅳ | Z9: Ⅲ | AA9: Ⅱa | AB9: Ⅱb
B10: ='様式D-3_PS'!AV5 -> PS | C10: ='様式D-3_PS'!AW5 -> 0 | D10: ='様式D-3_PS'!AX5 -> Ⅰ | E10: ='様式D-3_PS'!AY5 -> 0 | F10: ='様式D-3_PS'!AZ5 -> 0 | G10: ='様式D-3_PS'!BA5 -> 0 | H10: ='様式D-3_PS'!BB5 -> 0 | I10: ='様式D-3_PS'!BC5 -> 0 | ... AB10: ='様式D-3_PS'!BV5 -> 0
B11: ='様式D-3_S001'!AV5 -> 1 | C11: ='様式D-3_S001'!AW5 -> 3.7 | D11: ='様式D-3_S001'!AX5 -> Ⅱ | E11: ='様式D-3_S001'!AY5 -> 0 | F11: ='様式D-3_S001'!AZ5 -> 0 | G11: ='様式D-3_S001'!BA5 -> 0 | H11: ='様式D-3_S001'!BB5 -> 0 | I11: ='様式D-3_S001'!BC5 -> 0 | ... AB11: ='様式D-3_S001'!BV5 -> 0
B12: ='様式D-3_S002'!AV5 -> 2 | C12: ='様式D-3_S002'!AW5 -> 3.3 | D12: ='様式D-3_S002'!AX5 -> Ⅱ | E12: ='様式D-3_S002'!AY5 -> 0 | F12: ='様式D-3_S002'!AZ5 -> 0 | G12: ='様式D-3_S002'!BA5 -> 0 | H12: ='様式D-3_S002'!BB5 -> 0 | I12: ='様式D-3_S002'!BC5 -> 0 | ... AB12: ='様式D-3_S002'!BV5 -> 0
B13: ='様式D-3_S003'!AV5 -> 3 | C13: ='様式D-3_S003'!AW5 -> 7.8 | D13: ='様式D-3_S003'!AX5 -> Ⅲ | E13: ='様式D-3_S003'!AY5 -> 0 | F13: ='様式D-3_S003'!AZ5 -> 0 | G13: ='様式D-3_S003'!BA5 -> 0 | H13: ='様式D-3_S003'!BB5 -> 1 | I13: ='様式D-3_S003'!BC5 -> 0 | ... AB13: ='様式D-3_S003'!BV5 -> 0
B14: ='様式D-3_S004'!AV5 -> 4 | C14: ='様式D-3_S004'!AW5 -> 7.8 | D14: ='様式D-3_S004'!AX5 -> Ⅲ | E14: ='様式D-3_S004'!AY5 -> 0 | F14: ='様式D-3_S004'!AZ5 -> 0 | G14: ='様式D-3_S004'!BA5 -> 0 | H14: ='様式D-3_S004'!BB5 -> 0 | I14: ='様式D-3_S004'!BC5 -> 0 | ... AB14: ='様式D-3_S004'!BV5 -> 17.38
B15: ='様式D-3_S005'!AV5 -> 5 | C15: ='様式D-3_S005'!AW5 -> 7.8 | D15: ='様式D-3_S005'!AX5 -> Ⅱ | E15: ='様式D-3_S005'!AY5 -> 0 | F15: ='様式D-3_S005'!AZ5 -> 0 | G15: ='様式D-3_S005'!BA5 -> 0 | H15: ='様式D-3_S005'!BB5 -> 0 | I15: ='様式D-3_S005'!BC5 -> 0 | ... AB15: ='様式D-3_S005'!BV5 -> 0
B16: ='様式D-3_S006'!AV5 -> 6 | C16: ='様式D-3_S006'!AW5 -> 7.8 | D16: ='様式D-3_S006'!AX5 -> Ⅱ | E16: ='様式D-3_S006'!AY5 -> 0 | F16: ='様式D-3_S006'!AZ5 -> 0 | G16: ='様式D-3_S006'!BA5 -> 0 | H16: ='様式D-3_S006'!BB5 -> 0 | I16: ='様式D-3_S006'!BC5 -> 0 | ... AB16: ='様式D-3_S006'!BV5 -> 1.4
B17: ='様式D-3_S007'!AV5 -> 7 | C17: ='様式D-3_S007'!AW5 -> 7.7 | D17: ='様式D-3_S007'!AX5 -> Ⅲ | E17: ='様式D-3_S007'!AY5 -> 0 | F17: ='様式D-3_S007'!AZ5 -> 0 | G17: ='様式D-3_S007'!BA5 -> 0 | H17: ='様式D-3_S007'!BB5 -> 0 | I17: ='様式D-3_S007'!BC5 -> 0 | ... AB17: ='様式D-3_S007'!BV5 -> 6.25
B18: ='様式D-3_S008'!AV5 -> 8 | C18: ='様式D-3_S008'!AW5 -> 7.7 | D18: ='様式D-3_S008'!AX5 -> Ⅱ | E18: ='様式D-3_S008'!AY5 -> 0 | F18: ='様式D-3_S008'!AZ5 -> 0 | G18: ='様式D-3_S008'!BA5 -> 0 | H18: ='様式D-3_S008'!BB5 -> 0 | I18: ='様式D-3_S008'!BC5 -> 0 | ... AB18: ='様式D-3_S008'!BV5 -> 0
B19: ='様式D-3_S009'!AV5 -> 9 | C19: ='様式D-3_S009'!AW5 -> 7.5 | D19: ='様式D-3_S009'!AX5 -> Ⅲ | E19: ='様式D-3_S009'!AY5 -> 0 | F19: ='様式D-3_S009'!AZ5 -> 0 | G19: ='様式D-3_S009'!BA5 -> 0 | H19: ='様式D-3_S009'!BB5 -> 0 | I19: ='様式D-3_S009'!BC5 -> 0 | ... AB19: ='様式D-3_S009'!BV5 -> 5.12
B20: ='様式D-3_S010'!AV5 -> 10 | C20: ='様式D-3_S010'!AW5 -> 7.4 | D20: ='様式D-3_S010'!AX5 -> Ⅲ | E20: ='様式D-3_S010'!AY5 -> 0 | F20: ='様式D-3_S010'!AZ5 -> 0 | G20: ='様式D-3_S010'!BA5 -> 0 | H20: ='様式D-3_S010'!BB5 -> 0 | I20: ='様式D-3_S010'!BC5 -> 0 | ... AB20: ='様式D-3_S010'!BV5 -> 29.53
B21: ='様式D-3_S011'!AV5 -> 11 | C21: ='様式D-3_S011'!AW5 -> 7.5 | D21: ='様式D-3_S011'!AX5 -> Ⅲ | E21: ='様式D-3_S011'!AY5 -> 0 | F21: ='様式D-3_S011'!AZ5 -> 0 | G21: ='様式D-3_S011'!BA5 -> 0 | H21: ='様式D-3_S011'!BB5 -> 0 | I21: ='様式D-3_S011'!BC5 -> 0 | ... AB21: ='様式D-3_S011'!BV5 -> 1.35
B22: ='様式D-3_S012'!AV5 -> 12 | C22: ='様式D-3_S012'!AW5 -> 6.5 | D22: ='様式D-3_S012'!AX5 -> Ⅱ | E22: ='様式D-3_S012'!AY5 -> 0 | F22: ='様式D-3_S012'!AZ5 -> 0 | G22: ='様式D-3_S012'!BA5 -> 0 | H22: ='様式D-3_S012'!BB5 -> 0 | I22: ='様式D-3_S012'!BC5 -> 0 | ... AB22: ='様式D-3_S012'!BV5 -> 0
B23: ='様式D-3_S013'!AV5 -> 13 | C23: ='様式D-3_S013'!AW5 -> 4.5 | D23: ='様式D-3_S013'!AX5 -> Ⅱ | E23: ='様式D-3_S013'!AY5 -> 0 | F23: ='様式D-3_S013'!AZ5 -> 0 | G23: ='様式D-3_S013'!BA5 -> 0 | H23: ='様式D-3_S013'!BB5 -> 0 | I23: ='様式D-3_S013'!BC5 -> 0 | ... AB23: ='様式D-3_S013'!BV5 -> 0
B24: ='様式D-3_PE'!AV5 -> PE | C24: ='様式D-3_PE'!AW5 -> 0 | D24: ='様式D-3_PE'!AX5 -> Ⅰ | E24: ='様式D-3_PE'!AY5 -> 0 | F24: ='様式D-3_PE'!AZ5 -> 0 | G24: ='様式D-3_PE'!BA5 -> 0 | H24: ='様式D-3_PE'!BB5 -> 0 | I24: ='様式D-3_PE'!BC5 -> 0 | ... AB24: ='様式D-3_PE'!BV5 -> 0
B44: 計 | E44: =SUM(E10:E43) -> 0 | F44: =SUM(F10:F43) -> 0 | G44: =SUM(G10:G43) -> 0 | H44: =SUM(H10:H43) -> 1 | I44: =SUM(I10:I43) -> 0 | J44: =SUM(J10:J43) -> 7 | K44: =SUM(K10:K43) -> 6 | L44: =SUM(L10:L43) -> 45 | ... AB44: =SUM(AB10:AB43) -> 61.03
G45: =G44+H44 -> 1 | K45: =K44+L44 -> 51 | O45: =O44+P44 -> 10
B46: 注１：外力は覆工スパン単位で診断するため、覆工スパンの中で最も評価の厳しい対策区分の判定の区分欄にのみスパン数1を、材質劣化、漏水はそれぞれの対策区分に変状数を記入すること。
B47: 注２：外力は覆工スパン単位で診断するため、覆工スパンの中で最も評価の厳しい対策区分の判定の区分欄にのみスパン長を記入すること。
B48: ※１：本様式は様式D‐3の集計結果を掲載すること。
B49: ※２：覆工スパン数が多い場合は、適時、表の行を増やしてトンネル毎に1枚のシートに収めること。
B50: ※３：本様式の集計結果に基づいて、様式Bのトンネル本体工における変状区分毎の対策区分の箇所を記載する。

Sheet 様式G
B2: ■定期点検記録様式 健全性の診断の区分に関する所見【様式G】 | U2: 施設ID | X2: 34.16769,131.77531
B3: フリガナ | E3: (ﾀｶｾﾄﾝﾈﾙ) | I3: 路線名 | L3: 国道376号線 | O3: 定期点検実施者 | R3: 基礎地盤コンサルタンツ株式会社 | U3: 定期点検年月日 | X3: 45944
B4: 名 称 | E4: 高瀬トンネル | I4: 管理者名 | L4: 周南土木建築事務所 | R4: 大谷 直毅
B5: 道路トンネルの健全性の診断の区分の所見
B6: 1.変状・異常の内容と部位・部材 ・S3のアーチ部に幅0.9mm、長さ7.9mのひび割れが確認された。 ・S3のアーチ部等に補修跡のうきやブロック化箇所のうきが確認された。 2.変状等の原因（推定） ・ひび割れは、幅0.9mmと比較的大きく、スパンを跨いでいることから、外力の可能性がある。進行性は認められない。 ・補修跡のうきやブロック化箇所のうきは、材質劣化（温度・乾燥収縮）や施工不良（不均一なコンクリートの打込み、締固め不足など）によるものと推測する。 3.施設の現状と次回定期点検まで及び将来における構造物の状態（推定） ・ひび割れの発生原因として外力の可能性が考えられるが、進行性は認められないことから、現状は安定していると推測される。 ・補修跡のうきやブロック化箇所のうきは、経年のうきの進行に伴うはく落の可能性がある。 4.措置の必要性の判断に関わる事項 ・補修跡のうきやブロック化箇所のうきは、覆工コンクリートの落下による第三者被害が発生する可能性があることから、落下防止対策が必要な状態である。 5.その他、次回定期点検への引継ぎ事項 ・S3のひび割れは、外力の可能性があることから、ひび割れ幅や長さを継続監視することが望ましい。

Sheet (参考)リスト
B4: 様式A～B
B5: トンネルの分類 | C5: トンネル工法 | D5: 自専道or一般道 | E5: 緊急輸送路 | F5: 代替路
B6: 陸上トンネル（掘進工法） | C6: 山岳トンネル工法（NATM） | D6: 自専道 | E6: 一次 | F6: 有
B7: 陸上トンネル（開削工法） | C7: 矢板工法 | D7: 一般道 | E7: 二次 | F7: 無
B8: 陸上トンネル（その他） | C8: 開削工法 | E8: 三次
B9: 水底トンネル（掘進工法） | C9: シールド工法 | E9: 市町村指定
B10: 水底トンネル（沈埋工法） | C10: その他 | E10: 指定なし
B11: 水底トンネル（開削工法） | C11: 不明
B12: 水底トンネル（その他）
B14: 様式C-1-1(本体工)、C-2、D-1-1、D-3
B15: 対象箇所 | C15: 部位区分 | D15: 変状区分 | E15: 変状種類 | F15: 対策区分 | G15: 健全性 | H15: 調査の要否 | I15: 措置の要否 | J15: 実施有無
B16: 覆工 | C16: アーチ（右側） | D16: 外力 | E16: 圧ざ、ひび割れ | F16: Ⅰ | G16: Ⅰ | H16: 要 | I16: 要監視 | J16: 未
B17: 坑門 | C17: アーチ（左側） | D17: 材質劣化 | E17: うき・はく離 | F17: Ⅱa | G17: Ⅱ | H17: 否 | I17: 要対策 | J17: 済
B18: 内装板 | C18: アーチ（天端） | D18: 漏水 | E18: 鋼材腐食 | F18: Ⅱb | G18: Ⅲ | I18: 否 | J18: 継続
B19: 天井板 | C19: アーチ（全周） | E19: 変形・移動 | F19: Ⅲ | G19: Ⅳ
B20: 路面 | C20: 側壁（右側） | E20: 沈下 | F20: Ⅳ | G20: －
B21: その他 | C21: 側壁（左側） | E21: 隆起 | F21: －
C22: 横断目地（右側） | E22: 巻厚の不足または減少、背面空洞
C23: 横断目地（左側） | E23: 補修・補強材の破損
C24: 横断目地（天端） | E24: 漏水
C25: 横断目地（全周） | E25: 滞水
C26: 水平打ち継ぎ目（右側） | E26: 土砂流出
C27: 水平打ち継ぎ目（左側） | E27: その他
C28: 面壁・妻壁等
C29: その他
C31: 面壁・妻壁等
C32: その他
C34: 側壁
C35: その他
C37: 車道側
C38: ダクト側
C39: その他
C41: 車道
C42: 歩道
C43: 監査歩路
... C47: その他
B50: 様式C-1-2（附属物）、D-1-2
B51: 施設の内訳 | C51: 対象箇所 | D51: 部位区分 | E51: 異常の種類 | F51: 異常判定区分 | G51: 実施有無
B52: 照明施設 | C52: 灯具 | D52: 附属物本体 | E52: 破断 | F52: ○ | G52: 未
B53: 換気施設 | C53: ケーブル本体 | D53: 取付部材 | E53: 緩み、脱落 | F53: × | G53: 済
B54: 非常用施設 | C54: ケーブル本体以外 | D54: ボルト・ナット，アンカー類 | E54: 亀裂 | G54: 継続
B55: その他施設 | E55: 腐食
C56: ジェットファン | E56: 変形，欠損
C57: VI計 | E57: がたつき
C58: CO計 | E58: その他
C59: 風向風速計
C60: その他
C62: 通話型通報設備
C63: 操作型通報設備
C64: 自動通報設備
C65: 非常警報設備
C66: 点 滅 灯
C67: 音信号発生器
C68: 消 火 器
C69: 消火栓設備
C70: 誘導表示施設
C71: 避難情報提供設備
... C83: その他
