Workbook
Name その他: '(参考)リスト'!$C$47
Name その他施設: '[1](参考)リスト'!#REF!
Name その他施設: '(参考)リスト'!$C$79:$C$83
Name 換気施設: '[1](参考)リスト'!#REF!
Name 換気施設: '(参考)リスト'!$C$56:$C$60
Name 坑門: '(参考)リスト'!$C$31:$C$32
Name 照明施設: '[1](参考)リスト'!#REF!
Name 照明施設: '(参考)リスト'!$C$52:$C$54
Name 対象箇所: [2]!テーブル1[対象箇所]
Name 天井板: '(参考)リスト'!$C$37:$C$39
Name 内装板: '(参考)リスト'!$C$34:$C$35
Name 非常用施設: '[1](参考)リスト'!#REF!
Name 非常用施設: '(参考)リスト'!$C$62:$C$77
Name 覆工: '(参考)リスト'!$C$16:$C$29
Name 路面: '(参考)リスト'!$C$41:$C$45

Sheet 点検様式作成フロー
A1: 点検様式作成フロ-
A3: 作成フロー図 | H3: 点検調書作成手順
H4: ①様式A-1～A-3（トンネル台帳）
H5: トンネル点検の実施にあたっては，現場点検作業に先行してトンネル情報を収集する。トンネル台帳（様式Ａ－1～様式Ａ－3）はトンネル完成後に作成され，維持管理の段階で引き継がれるが，関連資料等を確認したうえで，追加情報があれば必要に応じて追記することが望ましい。
H9: ②様式D-2-1、様式D-2-1´
H10: 現場点検作業を実施し，近接目視点検で確認した変状状況や補修履歴を忠実に変状展開図に転記する。
H12: ③様式D-1-1、様式D-1-2
H13: 変状展開図や撮影した写真等をもとに，対象トンネルの対策区分を決定し，対策区分がⅡ～Ⅳの変状および異常判定区分「×」を抽出し，写真台帳を作成する。
H16: ④様式B
H17: 写真台帳の作成と同時に，トンネルの構造を展開した位置図に変状写真位置を記録する。
H19: ⑤様式D-3
H20: 変状展開図ならびに写真台帳をもとに覆工スパンごとの変状展開図を作成し，変状発生状況をとりまとめる。
H22: ⑥様式E
H23: 近接目視または打音検査，触診ができていない箇所および近接目視によらない方法を講じた場所に対する調査結果を記録する。
... H33: すること。 ※各ファイルとも （参考）リスト のシートを付けて保存すること。

Sheet 変状面積算出方法
A1: 変状面積算出方法
A26: 注1）外力による変状：ひび割れや圧ざの場合は変状の寸法を記録する。
A27: 例）ひび割れ：長さ（L）×最大ひび割れ幅（t）を記録する。 変形，移動，沈下：数値的な記載が可能な場合のみ記載する。
A28: 注2）材料劣化による：打音異常
A29: 例）うき，はく離（閉合ひび割れ）：変状範囲を包括する寸法（L×W） うき，はく離（ひび割れ沿い）：打音異常箇所を包括する寸法（L×W） 鋼材腐食（鉄筋腐食）：一括した対策が適当と考えられる範囲を包括する寸法（L×W）
A30: 注3）漏水による変状：漏水発生範囲を包括し，垂れ下がりの可能性がある側壁下端まで含めた寸法を，L×Wで記録する。打継ぎ目地沿いの 漏水については目地を跨いだ50cm幅を横幅とする。

Sheet 記入の留意点
B2: トンネルDBでは、Excelに記載された文字や数値・配置された画像を自動的に読込みデータベースへ登録します。
B3: 記録様式へ記入の留意点を下記に示します。
B5: １．記録様式への記入
C6: ➤各セルに表示されるコメントに従って、様式A-1～様式Gのシートに、点検結果（テキスト入力、選択項目）を入力してください。
C7: ➤位置図(様式B)、変状写真(様式D-1-1)、異常写真(様式D-1-2)は記入した変状写真番号等に対応した画像を間違いないように貼り付けてください。
C8: ➤列や行の挿入削除は行わず、セルの位置がずれないようにしてください。データベースへ読み取り時にずれて取り込まれてしまいます。
B11: ２．画像ファイルの配置の注意点
C12: 登録に使用可能な画像ファイルの拡張子は「jpg」「jpeg」「png」の3種類のみです。
C13: 必ず、１か所に画像１枚のみを張り付けてください。エクセルの図形などのオブジェクトは使用しないでください。
C14: 張り付けた画像はエクセルのトリミング機能を使用しないでください。あらかじめ切り抜いた画像を利用してください。
C15: ※１ 画像の左上を必ずセルの内部に含め、はみ出ないようにしてください。
C16: ※２ 図の書式設定で「セルに合わせて移動やサイズを変更しない」のモードを使用しないでください。
C32: ※３ 「挿入」→「画像」→「セルの上に配置」してください。
B41: ３．シート名の連番について
C42: １ページに記載しきれない場合は、１シート内にページを増やすのではなくシート自体をコピーしシート名の末尾を連番にしてください。
C43: 対象様式
C44: 様式B
C45: 様式D-1-1
C46: 様式D-1-2
C47: 様式D-2-1
C48: 様式D-2-1´
C49: 様式D-3_S00 ※スパン名を記載
C50: 様式G
C52: 末尾の連番の形式例
C53: 様式B(1) 様式B(2) 様式B(3)
C54: 様式B_001 様式B_002 様式B_003
... C61: で示される要領を制限するものではありません。

Sheet 様式A-1
B2: ■トンネル台帳 トンネル諸元、非常用施設諸元 【様式A-1】 | S2: 施設ID | W2: 34.19214,132.18042
B3: フリガナ | D3: セキセキトンネル | H3: 路線名 | J3: 主要地方道岩国大竹線 | P3: 管理者名 | R3: 山口県岩国土木建築事務所 | W3: 緊急輸送道路 | Z3: 一次
B4: 名 称 | D4: 関々トンネル | W4: 代替路の有無 | Z4: 有
B5: 所在地 | D5: 自 | E5: 山口県岩国市関戸 | H5: 作成者 | K5: 復建調査設計㈱・小笠原洋 | P5: 作成年月日 | R5: 45965 | U5: トンネル延長 | X5: L= | Z5: 889 | AB5: ｍ
D6: 至 | E6: 山口県玖珂郡和木町関ヶ浜 | U6: ﾄﾝﾈﾙの分類 | X6: 陸上トンネル（その他）
B7: 起点 | C7: 緯度 | E7: 34.19214 | H7: 完成年月日 | K7: 2004年 | M7: 舗装 | O7: 種 別 | Q7: 普通コンクリート | S7: トンネル非常用施設 | T7: 施設の内訳 | X7: 種別・方式 | Y7: 型式 | Z7: 個数 | AA7: 更新年度 | AE7: =INT(E7/10000) -> 0 | AF7: =INT(E7/100)-AE7*100 -> 0 | AG7: =E7-AE7*10000-AF7*100 -> 34.19214 | AH7: =ROUND(AE7+AF7/60+AG7/60/60,5) -> 0.0095 | AI7: =TEXT(AH7,"0.00000") -> 0.00950
C8: 経度 | E8: 132.18052 | H8: 供用年月日 | K8: 2005年 | O8: 厚 さ | T8: 通報設備 | U8: 通話型通報設備 | Z8: 10 | AE8: =INT(E8/10000) -> 0 | AF8: =INT(E8/100)-AE8*100 -> 1 | AG8: =E8-AE8*10000-AF8*100 -> 32.18052 | AH8: =ROUND(AE8+AF8/60+AG8/60/60,5) -> 0.02561 | AI8: =TEXT(AH8,"0.00000") -> 0.02561
B9: 終点 | C9: 緯度 | E9: 34.197405 | H9: トンネル区分 | K9: B等級 | O9: 面 積 | U9: 操作型通報設備 | Z9: 18
C10: 経度 | E10: 132.18721 | H10: 内装種類 | K10: 覆工（内装なし） | O10: 更新年次 | U10: 自動通報設備
B11: 一般有料区分 | E11: 一般（無料） | H11: 天井板種類 | K11: 覆工（内装なし） | M11: 排水 | O11: 種 別 | Q11: 円型・暗渠排水 | T11: 警報設備 | U11: 非常警報設備
B12: 土かぶり | E12: 70 | G12: m | H12: 坑門 | I12: 起点 | J12: 形式 | K12: 面壁式 | O12: 更新年次 | T12: 消火設備 | U12: 消 火 器
B13: 内空断面積 | E13: 14935.2 | G13: m2 | J13: 延長 | L13: m | M13: 施設 | P13: 種別・方式 | Q13: 個数 | R13: 更新年次 | U13: 消火栓設備 | Z13: 18
B14: 交 通 量 | E14: 9082 | G14: 台/日 | I14: 終点 | J14: 形式 | K14: 面壁型 | M14: 道路附属物等 | N14: 照明 | P14: LED | Q14: 136 | T14: 避難誘導設備 | U14: 誘導表示設備 | Z14: 9
C15: 道 路 幅 | E15: 8.5 | G15: m | J15: 延長 | L15: m | N15: 換気 | U15: 避難情報提供設備
B16: 幅 員 | C16: 車 道 幅 | E16: 3.5 | G16: m | H16: 竣工巻厚 | I16: アーチ | K16: 30～35 | L16: cm | N16: 標識
E17: 3.5 | G17: m | I17: 側 壁 | K17: 30～35 | L17: cm | N17: 警報表示板 | U17: 避難通路
C18: 歩道等幅 | E18: 1.5 | G18: m | K18: 30～35 | L18: cm | N18: 吸音板 | U18: 排煙設備
B19: 高さ | C19: 建築限界高 | E19: 4.5 | G19: m | I19: インバート | K19: 50 | L19: cm | T19: その他の設備 | U19: 給水栓設備
C20: 中央高 | E20: 6 | G20: m | H20: 半径 | I20: アーチ | K20: 455 | L20: cm | U20: 無線通信補助設備
C21: 有効高 | E21: 4.7 | G21: m | I21: 側 壁 | K21: 910 | L21: cm | U21: 水噴霧設備
C22: 縦断勾配 | I22: インバート | K22: 1050 | L22: cm | U22: 監視設備
B23: 線 形 | C23: 直線区間長 | H23: 占用物件 | I23: 種 類 | K23: 寸 法 | M23: 管理者名 | Q23: 更新年次 | S23: 非常用施設 関連設備 | U23: 予備発電設備
C24: 曲線区間 | D24: 区間長
D25: 起点側ｸﾛｿｲﾄﾞ
D26: 曲線半径
D27: 終点側ｸﾛｿｲﾄﾞ | S27: その他 | U27: 非常駐車帯
B28: トンネル工法 | E28: 山岳トンネル工法（NATM） | U28: 方向転換所
C29: ※緯度・経度については、秒の小数第二位の単位まで記入すること。

Sheet 様式A-2
B3: ■トンネル台帳 トンネル情報一覧表 【様式A-2】
B4: フリガナ | E4: ='様式A-1'!$D$3 -> セキセキトンネル | J4: 路線名 | M4: ='様式A-1'!$J$3 -> 主要地方道岩国大竹線 | S4: 作成者 | Y4: ='様式A-1'!$K$5 -> 復建調査設計㈱・小笠原洋 | AE4: 作成年月日 | AI4: ='様式A-1'!$R$5 -> 45965
B5: 名 称 | E5: ='様式A-1'!$D$4 -> 関々トンネル | J5: 管理者名 | M5: ='様式A-1'!$R$3 -> 山口県岩国土木建築事務所
B6: 覆工 ｽﾊﾟﾝ 番号 | C6: ｽﾊﾟﾝ長 | D6: 追加距離 | F6: トンネル本体工 | K6: 照明施設 | O6: 非常用施設 | AE6: 換気施設 | AK6: その他附属物等
O7: 通報設備 | R7: 警報設備 | S7: 消火設備 | U7: 避難誘導設備 | Y7: その他の設備 | AC7: 特記事項
D8: 起点側 | E8: 終点側 | F8: 特記事項 | I8: 内装板 | J8: 天井板 | K8: 基本照明 | L8: 入口出口照明 | M8: 特記事項 | O8: 通話型通報設備 | P8: 操作型通報設備 | Q8: 自動通報設備 | R8: 非常警報設備 | S8: 消 火 器 | T8: 消火栓設備 | U8: 誘導表示設備 | V8: 避難情報提供設備 | W8: 避難通路 | X8: 排煙設備 | Y8: 給水栓設備 | Z8: 無線通信補助設備 | AA8: 水噴霧設備 | AB8: 監視設備 | AE8: JF | AF8: VI計 | AG8: CO計 | AH8: 風向 風速計 | AI8: 特記事項
C9: (m) | D9: (m) | E9: (m)
B10: PS | E10: =C10+D10 -> 0
B11: S1 | C11: 7.5 | D11: =E10 -> 0 | E11: =C11+D11 -> 7.5
B12: S2 | C12: 10.5 | D12: =E11 -> 7.5 | E12: =C12+D12 -> 18 | O12: ○ | S12: ○
B13: S3 | C13: 10.5 | D13: =E12 -> 18 | E13: =C13+D13 -> 28.5 | AK13: 電話表示板
B14: S4 | C14: 10.5 | D14: =E13 -> 28.5 | E14: =C14+D14 -> 39
B15: S5 | C15: 10.5 | D15: =E14 -> 39 | E15: =C15+D15 -> 49.5 | U15: ○ | AK15: 電話表示板
B16: S6 | C16: 10.5 | D16: =E15 -> 49.5 | E16: =C16+D16 -> 60 | AK16: 電光掲示板
B17: S7 | C17: 10.5 | D17: =E16 -> 60 | E17: =C17+D17 -> 70.5 | O17: ○ | S17: ○ | AK17: 電話表示板
B18: S8 | C18: 10.5 | D18: =E17 -> 70.5 | E18: =C18+D18 -> 81
B19: S9 | C19: 10.5 | D19: =E18 -> 81 | E19: =C19+D19 -> 91.5 | AK19: 電話表示板
B20: S10 | C20: 10.5 | D20: =E19 -> 91.5 | E20: =C20+D20 -> 102
B21: S11 | C21: 10.5 | D21: =E20 -> 102 | E21: =C21+D21 -> 112.5 | S21: ○ | AK21: 電話表示板
B22: S12 | C22: 10.5 | D22: =E21 -> 112.5 | E22: =C22+D22 -> 123 | AK22: 電話表示板
B23: S13 | C23: 10.5 | D23: =E22 -> 123 | E23: =C23+D23 -> 133.5
B24: S14 | C24: 10.5 | D24: =E23 -> 133.5 | E24: =C24+D24 -> 144 | AK24: 電話表示板
B25: S15 | C25: 10.5 | D25: =E24 -> 144 | E25: =C25+D25 -> 154.5 | U25: ○
B26: S16 | C26: 10.5 | D26: =E25 -> 154.5 | E26: =C26+D26 -> 165 | S26: ○ | AK26: 電話表示板
B27: S17 | C27: 10.5 | D27: =E26 -> 165 | E27: =C27+D27 -> 175.5
B28: S18 | C28: 10.5 | D28: =E27 -> 175.5 | E28: =C28+D28 -> 186 | AK28: 電話表示板
B29: S19 | C29: 10.5 | D29: =E28 -> 186 | E29: =C29+D29 -> 196.5 | AK29: 電話表示板
B30: S20 | C30: 10.5 | D30: =E29 -> 196.5 | E30: =C30+D30 -> 207
B31: S21 | C31: 10.5 | D31: =E30 -> 207 | E31: =C31+D31 -> 217.5 | O31: ○ | S31: ○ | AK31: 電話表示板
B32: S22 | C32: 10.5 | D32: =E31 -> 217.5 | E32: =C32+D32 -> 228
B33: S23 | C33: 10.5 | D33: =E32 -> 228 | E33: =C33+D33 -> 238.5 | AK33: 電話表示板
B34: S24 | C34: 10.5 | D34: =E33 -> 238.5 | E34: =C34+D34 -> 249 | U34: ○
B35: S25 | C35: 10.5 | D35: =E34 -> 249 | E35: =C35+D35 -> 259.5
B36: S26 | C36: 10.5 | D36: =E35 -> 259.5 | E36: =C36+D36 -> 270 | O36: ○ | S36: ○ | AK36: 電話表示板
B37: S27 | C37: 10.5 | D37: =E36 -> 270 | E37: =C37+D37 -> 280.5
B38: S28 | C38: 10.5 | D38: =E37 -> 280.5 | E38: =C38+D38 -> 291 | AK38: 電話表示板
B39: S29 | C39: 10.5 | D39: =E38 -> 291 | E39: =C39+D39 -> 301.5
B40: S30 | C40: 10.5 | D40: =E39 -> 301.5 | E40: =C40+D40 -> 312 | S40: ○ | AK40: 電話表示板
B41: S31 | C41: 10.5 | D41: =E40 -> 312 | E41: =C41+D41 -> 322.5 | AK41: 電話表示板
B42: S32 | C42: 10.5 | D42: =E41 -> 322.5 | E42: =C42+D42 -> 333 | AK42: 電話表示板
B43: S33 | C43: 10.5 | D43: =E42 -> 333 | E43: =C43+D43 -> 343.5 | AK43: 電話表示板
B44: S34 | C44: 10.5 | D44: =E43 -> 343.5 | E44: =C44+D44 -> 354 | U44: ○
B45: S35 | C45: 10.5 | D45: =E44 -> 354 | E45: =C45+D45 -> 364.5 | S45: ○ | AK45: 電話表示板
B46: S36 | C46: 10.5 | D46: =E45 -> 364.5 | E46: =C46+D46 -> 375
B47: S37 | C47: 10.5 | D47: =E46 -> 375 | E47: =C47+D47 -> 385.5 | AK47: 電話表示板
B48: S38 | C48: 10.5 | D48: =E47 -> 385.5 | E48: =C48+D48 -> 396
B49: S39 | C49: 10.5 | D49: =E48 -> 396 | E49: =C49+D49 -> 406.5 | O49: ○ | S49: ○ | AK49: 電話表示板
B50: S40 | C50: 10.5 | D50: =E49 -> 406.5 | E50: =C50+D50 -> 417
B51: S41 | C51: 10.5 | D51: =E50 -> 417 | E51: =C51+D51 -> 427.5
B52: S42 | C52: 10.5 | D52: =E51 -> 427.5 | E52: =C52+D52 -> 438 | AK52: 電話表示板
B53: S43 | C53: 10.5 | D53: =E52 -> 438 | E53: =C53+D53 -> 448.5 | U53: ○
B54: S44 | C54: 10.5 | D54: =E53 -> 448.5 | E54: =C54+D54 -> 459 | O54: ○ | S54: ○ | AK54: 電話表示板
B55: S45 | C55: 10.5 | D55: =E54 -> 459 | E55: =C55+D55 -> 469.5
B56: S46 | C56: 10.5 | D56: =E55 -> 469.5 | E56: =C56+D56 -> 480 | AK56: 電話表示板
B57: S47 | C57: 10.5 | D57: =E56 -> 480 | E57: =C57+D57 -> 490.5 | AK57: 電話表示板
B58: S48 | C58: 10.5 | D58: =E57 -> 490.5 | E58: =C58+D58 -> 501
B59: S49 | C59: 10.5 | D59: =E58 -> 501 | E59: =C59+D59 -> 511.5 | S59: ○ | AK59: 電話表示板
B60: S50 | C60: 10.5 | D60: =E59 -> 511.5 | E60: =C60+D60 -> 522
B61: S51 | C61: 10.5 | D61: =E60 -> 522 | E61: =C61+D61 -> 532.5 | AK61: 電話表示板
B62: S52 | C62: 10.5 | D62: =E61 -> 532.5 | E62: =C62+D62 -> 543 | U62: ○ | AK62: マンホール
B63: S53 | C63: 10.6 | D63: =E62 -> 543 | E63: =C63+D63 -> 553.6
B64: S54 | C64: 10.6 | D64: =E63 -> 553.6 | E64: =C64+D64 -> 564.2 | S64: ○ | AK64: 電話表示板
B65: S55 | C65: 10.6 | D65: =E64 -> 564.2 | E65: =C65+D65 -> 574.8
B66: S56 | C66: 10.6 | D66: =E65 -> 574.8 | E66: =C66+D66 -> 585.4 | AK66: 電話表示板
B67: S57 | C67: 10.6 | D67: =E66 -> 585.4 | E67: =C67+D67 -> 596
B68: S58 | C68: 10.6 | D68: =E67 -> 596 | E68: =C68+D68 -> 606.6 | O68: ○ | S68: ○ | AK68: 電話表示板
B69: S59 | C69: 10.6 | D69: =E68 -> 606.6 | E69: =C69+D69 -> 617.2
B70: S60 | C70: 10.6 | D70: =E69 -> 617.2 | E70: =C70+D70 -> 627.8
B71: S61 | C71: 10.6 | D71: =E70 -> 627.8 | E71: =C71+D71 -> 638.4 | AK71: 電話表示板
B72: S62 | C72: 10.6 | D72: =E71 -> 638.4 | E72: =C72+D72 -> 649 | U72: ○
B73: S63 | C73: 10.6 | D73: =E72 -> 649 | E73: =C73+D73 -> 659.6 | O73: ○ | S73: ○ | AK73: 電話表示板
B74: S64 | C74: 10.6 | D74: =E73 -> 659.6 | E74: =C74+D74 -> 670.2
B75: S65 | C75: 10.6 | D75: =E74 -> 670.2 | E75: =C75+D75 -> 680.8 | AK75: 電話表示板
B76: S66 | C76: 10.6 | D76: =E75 -> 680.8 | E76: =C76+D76 -> 691.4 | AK76: 電話表示板
B77: S67 | C77: 10.6 | D77: =E76 -> 691.4 | E77: =C77+D77 -> 702
B78: S68 | C78: 10.6 | D78: =E77 -> 702 | E78: =C78+D78 -> 712.6 | S78: ○ | AK78: 電話表示板
B79: S69 | C79: 10.6 | D79: =E78 -> 712.6 | E79: =C79+D79 -> 723.2
B80: S70 | C80: 10.6 | D80: =E79 -> 723.2 | E80: =C80+D80 -> 733.8 | AK80: 電話表示板
B81: S71 | C81: 10.6 | D81: =E80 -> 733.8 | E81: =C81+D81 -> 744.4 | U81: ○
B82: S72 | C82: 10.6 | D82: =E81 -> 744.4 | E82: =C82+D82 -> 755
B83: S73 | C83: 10.6 | D83: =E82 -> 755 | E83: =C83+D83 -> 765.6 | S83: ○ | AK83: 電話表示板
B84: S74 | C84: 10.6 | D84: =E83 -> 765.6 | E84: =C84+D84 -> 776.2
B85: S75 | C85: 10.6 | D85: =E84 -> 776.2 | E85: =C85+D85 -> 786.8 | AK85: 電話表示板
B86: S76 | C86: 10.6 | D86: =E85 -> 786.8 | E86: =C86+D86 -> 797.4
B87: S77 | C87: 10.6 | D87: =E86 -> 797.4 | E87: =C87+D87 -> 808 | O87: ○ | S87: ○
B88: S78 | C88: 10.5 | D88: =E87 -> 808 | E88: =C88+D88 -> 818.5 | AK88: 電話表示板
B89: S79 | C89: 10.5 | D89: =E88 -> 818.5 | E89: =C89+D89 -> 829 | AK89: 電光掲示板
B90: S80 | C90: 10.5 | D90: =E89 -> 829 | E90: =C90+D90 -> 839.5 | AK90: 電話表示板
B91: S81 | C91: 10.5 | D91: =E90 -> 839.5 | E91: =C91+D91 -> 850 | U91: ○
B92: S82 | C92: 10.5 | D92: =E91 -> 850 | E92: =C92+D92 -> 860.5 | O92: ○ | S92: ○ | AK92: 電話表示板
B93: S83 | C93: 10.5 | D93: =E92 -> 860.5 | E93: =C93+D93 -> 871
B94: S84 | C94: 10.5 | D94: =E93 -> 871 | E94: =C94+D94 -> 881.5
B95: S85 | C95: 7.5 | D95: =E94 -> 881.5 | E95: =C95+D95 -> 889
B96: PE | D96: =E95 -> 889 | E96: =+C96+D96 -> 889
B127: ※ 行が不足する場合は、適時、表の行を増やすこと。

Sheet 様式A-3
B3: ■トンネル台帳 トンネル記録（位置図、断面図、施工実績他）【様式A-3】
B4: フリガナ | E4: ='様式A-1'!$D$3 -> セキセキトンネル | J4: 路線名 | M4: ='様式A-1'!$J$3 -> 主要地方道岩国大竹線 | S4: 作成者 | W4: ='様式A-1'!$K$5 -> 復建調査設計㈱・小笠原洋 | AC4: 作成年月日 | AF4: ='様式A-1'!$R$5 -> 45965
B5: 名 称 | E5: ='様式A-1'!$D$4 -> 関々トンネル | J5: 管理者名 | M5: ='様式A-1'!$R$3 -> 山口県岩国土木建築事務所
B6: 位置図・現況写真・標準断面図・地質縦断図・施工実績

Sheet 様式B (1)
B2: ■定期点検記録様式 トンネル変状・異常箇所写真位置図 【様式B】 | N2: 定期点検年月日 | P2: 45853 | S2: 施設ID | V2: =+'様式A-1'!$W$2 -> 34.19214,132.18042
B3: フリガナ | C3: =+'様式A-1'!$D$3 -> セキセキトンネル | G3: 路線名 | H3: =+'様式A-1'!$J$3 -> 主要地方道岩国大竹線 | K3: 管理者名 | L3: =+'様式A-1'!$R$3 -> 山口県岩国土木建築事務所 | Q3: 定期点検実施者 | S3: 復建調査設計株式会社 | V3: 起点 | W3: 緯度 | X3: =+'様式A-1'!$E$7 -> 34.19214
B4: 名 称 | C4: =+'様式A-1'!$D$4 -> 関々トンネル | S4: 小笠原洋 | W4: 経度 | X4: =+'様式A-1'!$E$8 -> 132.18052
B5: 所在地 | C5: 自 | D5: =+'様式A-1'!$E$5 -> 山口県岩国市関戸 | G5: トンネル工法 | I5: 山岳トンネル工法（NATM） | L5: トンネル延長 | N5: L= | O5: =+'様式A-1'!$Z$5 -> 889 | P5: ｍ | Q5: 自専道 or 一般道 | R5: 一般道 | S5: 代替路の有無 | U5: 無 | V5: 終点 | W5: 緯度 | X5: =+'様式A-1'!$E$9 -> 34.197405
C6: 至 | D6: =+'様式A-1'!$E$6 -> 山口県玖珂郡和木町関ヶ浜 | G6: 建設年度 | I6: 2004年 | L6: 幅員 | N6: L= | O6: =+'様式A-1'!$E$15 -> 8.5 | P6: ｍ | S6: 緊急輸送道路 | U6: 指定なし | W6: 経度 | X6: =+'様式A-1'!$E$10 -> 132.18721
B7: トンネル毎 の健全性の 診断の区分 | D7: Ⅱ
G8: 変状・異常 箇所数合計 | I8: トンネル本体工 | J8: 材質劣化 | K8: Ⅱ | L8: 24 | N8: Ⅲ | O8: 0 | Q8: Ⅳ | R8: 0 | T8: 附属物等 の取付状態 | V8: ◯ （応急措置後)
J9: 漏水 | K9: Ⅱ | L9: 44 | N9: Ⅲ | O9: 0 | Q9: Ⅳ | R9: 0
V10: ✕ | X10: 1
J11: 外力 | K11: Ⅱ | L11: 13 | N11: Ⅲ | O11: 0 | Q11: Ⅳ | R11: 0
B12: トンネル変状・異常箇所写真位置図
J29: 注１：本位置図は、見下げた状態で記載すること。 注２：覆工スパン番号は横断目地毎(矢板工法の場合は上半アーチの 横断目地毎)に設定すること。 | Q29: 注３：写真番号に付する変状番号は、各覆工スパンの変状に対して新たに確認された場合 は順次追加していくこと。 注４：横断目地の変状は前の覆工スパン番号で計上すること。 注５：１枚に収まらない場合は、複数枚に分けて作成すること。
C30: ※1 トンネル本体工の変状数は、材質劣化、漏水に起因するものは変状単位で、外力に起因するものはスパン単位で計上すること。
C31: ※2 トンネル本体工の変状に対しては、措置の必要性（Ⅱ～Ⅳ）について表記すること。また、点検前に実施された措置によりⅠと判定された箇所についても記載すること。
C32: ※3 附属物等の取付状態の○欄については、応急措置前に判定区分×とした箇所のうち応急措置により○判定とした箇所の数を記入すること。
C33: ※4 附属物等の異常番号は、本体工と番号が重複しないよう101番以降とする等の配慮を行い、分かりやすく記録すること。

Sheet 様式B (2)
B2: ■定期点検記録様式 トンネル変状・異常箇所写真位置図 【様式B】 | N2: 定期点検年月日 | P2: =+'様式B (1)'!$P$2 -> 45853 | S2: 施設ID | V2: =+'様式A-1'!$W$2 -> 34.19214,132.18042
B3: フリガナ | C3: =+'様式A-1'!$D$3 -> セキセキトンネル | G3: 路線名 | H3: =+'様式A-1'!$J$3 -> 主要地方道岩国大竹線 | K3: 管理者名 | L3: =+'様式A-1'!$R$3 -> 山口県岩国土木建築事務所 | Q3: 定期点検実施者 | S3: ='様式B (1)'!$S$3 -> 復建調査設計株式会社 | V3: 起点 | W3: 緯度 | X3: =+'様式A-1'!$E$7 -> 34.19214
B4: 名 称 | C4: =+'様式A-1'!$D$4 -> 関々トンネル | S4: ='様式B (1)'!$S$4 -> 小笠原洋 | W4: 経度 | X4: =+'様式A-1'!$E$8 -> 132.18052
B5: 所在地 | C5: 自 | D5: =+'様式A-1'!$E$5 -> 山口県岩国市関戸 | G5: トンネル工法 | I5: ='様式B (1)'!$I$5 -> 山岳トンネル工法（NATM） | L5: トンネル延長 | N5: L= | O5: =+'様式A-1'!$Z$5 -> 889 | P5: ｍ | Q5: 自専道 or 一般道 | R5: ='様式B (1)'!$R$5 -> 一般道 | S5: 代替路の有無 | U5: ='様式B (1)'!$U$5 -> 無 | V5: 終点 | W5: 緯度 | X5: =+'様式A-1'!$E$9 -> 34.197405
C6: 至 | D6: =+'様式A-1'!$E$6 -> 山口県玖珂郡和木町関ヶ浜 | G6: 建設年度 | I6: ='様式B (1)'!$I$6 -> 2004年 | L6: 幅員 | N6: L= | O6: =+'様式A-1'!$E$15 -> 8.5 | P6: ｍ | S6: 緊急輸送道路 | U6: ='様式B (1)'!$U$6 -> 指定なし | W6: 経度 | X6: =+'様式A-1'!$E$10 -> 132.18721
B7: トンネル毎 の健全性の 診断の区分 | D7: ='様式B (1)'!$D$7 -> Ⅱ
G8: 変状・異常 箇所数合計 | I8: トンネル本体工 | J8: 材質劣化 | K8: Ⅱ | L8: ='様式B (1)'!$L$8 -> 24 | N8: Ⅲ | O8: ='様式B (1)'!$O$8 -> 0 | Q8: Ⅳ | R8: ='様式B (1)'!$R$8 -> 0 | T8: 附属物等 の取付状態 | V8: ◯ （応急措置後) | X8: ='様式B (1)'!$X$8 -> 0
J9: 漏水 | K9: Ⅱ | L9: ='様式B (1)'!$L$9 -> 44 | N9: Ⅲ | O9: ='様式B (1)'!$O$9 -> 0 | Q9: Ⅳ | R9: ='様式B (1)'!$R$9 -> 0
V10: ✕ | X10: ='様式B (1)'!$X$10 -> 1
J11: 外力 | K11: Ⅱ | L11: ='様式B (1)'!$L$11 -> 13 | N11: Ⅲ | O11: ='様式B (1)'!$O$11 -> 0 | Q11: Ⅳ | R11: ='様式B (1)'!$R$11 -> 0
B12: トンネル変状・異常箇所写真位置図
J29: 注１：本位置図は、見下げた状態で記載すること。 注２：覆工スパン番号は横断目地毎(矢板工法の場合は上半アーチの 横断目地毎)に設定すること。 | Q29: 注３：写真番号に付する変状番号は、各覆工スパンの変状に対して新たに確認された場合 は順次追加していくこと。 注４：横断目地の変状は前の覆工スパン番号で計上すること。 注５：１枚に収まらない場合は、複数枚に分けて作成すること。
C30: ※1 トンネル本体工の変状数は、材質劣化、漏水に起因するものは変状単位で、外力に起因するものはスパン単位で計上すること。
C31: ※2 トンネル本体工の変状に対しては、措置の必要性（Ⅱ～Ⅳ）について表記すること。また、点検前に実施された措置によりⅠと判定された箇所についても記載すること。
C32: ※3 附属物等の取付状態の○欄については、応急措置前に判定区分×とした箇所のうち応急措置により○判定とした箇所の数を記入すること。
C33: ※4 附属物等の異常番号は、本体工と番号が重複しないよう101番以降とする等の配慮を行い、分かりやすく記録すること。

Sheet 様式B (3)
B2: ■定期点検記録様式 トンネル変状・異常箇所写真位置図 【様式B】 | N2: 定期点検年月日 | P2: =+'様式B (1)'!$P$2 -> 45853 | S2: 施設ID | V2: =+'様式A-1'!$W$2 -> 34.19214,132.18042
B3: フリガナ | C3: =+'様式A-1'!$D$3 -> セキセキトンネル | G3: 路線名 | H3: =+'様式A-1'!$J$3 -> 主要地方道岩国大竹線 | K3: 管理者名 | L3: =+'様式A-1'!$R$3 -> 山口県岩国土木建築事務所 | Q3: 定期点検実施者 | S3: ='様式B (1)'!$S$3 -> 復建調査設計株式会社 | V3: 起点 | W3: 緯度 | X3: =+'様式A-1'!$E$7 -> 34.19214
B4: 名 称 | C4: =+'様式A-1'!$D$4 -> 関々トンネル | S4: ='様式B (1)'!$S$4 -> 小笠原洋 | W4: 経度 | X4: =+'様式A-1'!$E$8 -> 132.18052
B5: 所在地 | C5: 自 | D5: =+'様式A-1'!$E$5 -> 山口県岩国市関戸 | G5: トンネル工法 | I5: ='様式B (1)'!$I$5 -> 山岳トンネル工法（NATM） | L5: トンネル延長 | N5: L= | O5: =+'様式A-1'!$Z$5 -> 889 | P5: ｍ | Q5: 自専道 or 一般道 | R5: ='様式B (1)'!$R$5 -> 一般道 | S5: 代替路の有無 | U5: ='様式B (1)'!$U$5 -> 無 | V5: 終点 | W5: 緯度 | X5: =+'様式A-1'!$E$9 -> 34.197405
C6: 至 | D6: =+'様式A-1'!$E$6 -> 山口県玖珂郡和木町関ヶ浜 | G6: 建設年度 | I6: ='様式B (1)'!$I$6 -> 2004年 | L6: 幅員 | N6: L= | O6: =+'様式A-1'!$E$15 -> 8.5 | P6: ｍ | S6: 緊急輸送道路 | U6: ='様式B (1)'!$U$6 -> 指定なし | W6: 経度 | X6: =+'様式A-1'!$E$10 -> 132.18721
B7: トンネル毎 の健全性の 診断の区分 | D7: ='様式B (1)'!$D$7 -> Ⅱ
G8: 変状・異常 箇所数合計 | I8: トンネル本体工 | J8: 材質劣化 | K8: Ⅱ | L8: ='様式B (1)'!$L$8 -> 24 | N8: Ⅲ | O8: ='様式B (1)'!$O$8 -> 0 | Q8: Ⅳ | R8: ='様式B (1)'!$R$8 -> 0 | T8: 附属物等 の取付状態 | V8: ◯ （応急措置後) | X8: ='様式B (1)'!$X$8 -> 0
J9: 漏水 | K9: Ⅱ | L9: ='様式B (1)'!$L$9 -> 44 | N9: Ⅲ | O9: ='様式B (1)'!$O$9 -> 0 | Q9: Ⅳ | R9: ='様式B (1)'!$R$9 -> 0
V10: ✕ | X10: ='様式B (1)'!$X$10 -> 1
J11: 外力 | K11: Ⅱ | L11: ='様式B (1)'!$L$11 -> 13 | N11: Ⅲ | O11: ='様式B (1)'!$O$11 -> 0 | Q11: Ⅳ | R11: ='様式B (1)'!$R$11 -> 0
B12: トンネル変状・異常箇所写真位置図
J29: 注１：本位置図は、見下げた状態で記載すること。 注２：覆工スパン番号は横断目地毎(矢板工法の場合は上半アーチの 横断目地毎)に設定すること。 | Q29: 注３：写真番号に付する変状番号は、各覆工スパンの変状に対して新たに確認された場合 は順次追加していくこと。 注４：横断目地の変状は前の覆工スパン番号で計上すること。 注５：１枚に収まらない場合は、複数枚に分けて作成すること。
C30: ※1 トンネル本体工の変状数は、材質劣化、漏水に起因するものは変状単位で、外力に起因するものはスパン単位で計上すること。
C31: ※2 トンネル本体工の変状に対しては、措置の必要性（Ⅱ～Ⅳ）について表記すること。また、点検前に実施された措置によりⅠと判定された箇所についても記載すること。
C32: ※3 附属物等の取付状態の○欄については、応急措置前に判定区分×とした箇所のうち応急措置により○判定とした箇所の数を記入すること。
C33: ※4 附属物等の異常番号は、本体工と番号が重複しないよう101番以降とする等の配慮を行い、分かりやすく記録すること。

Sheet 様式B (4)
B2: ■定期点検記録様式 トンネル変状・異常箇所写真位置図 【様式B】 | N2: 定期点検年月日 | P2: =+'様式B (1)'!$P$2 -> 45853 | S2: 施設ID | V2: =+'様式A-1'!$W$2 -> 34.19214,132.18042
B3: フリガナ | C3: =+'様式A-1'!$D$3 -> セキセキトンネル | G3: 路線名 | H3: =+'様式A-1'!$J$3 -> 主要地方道岩国大竹線 | K3: 管理者名 | L3: =+'様式A-1'!$R$3 -> 山口県岩国土木建築事務所 | Q3: 定期点検実施者 | S3: ='様式B (1)'!$S$3 -> 復建調査設計株式会社 | V3: 起点 | W3: 緯度 | X3: =+'様式A-1'!$E$7 -> 34.19214
B4: 名 称 | C4: =+'様式A-1'!$D$4 -> 関々トンネル | S4: ='様式B (1)'!$S$4 -> 小笠原洋 | W4: 経度 | X4: =+'様式A-1'!$E$8 -> 132.18052
B5: 所在地 | C5: 自 | D5: =+'様式A-1'!$E$5 -> 山口県岩国市関戸 | G5: トンネル工法 | I5: ='様式B (1)'!$I$5 -> 山岳トンネル工法（NATM） | L5: トンネル延長 | N5: L= | O5: =+'様式A-1'!$Z$5 -> 889 | P5: ｍ | Q5: 自専道 or 一般道 | R5: ='様式B (1)'!$R$5 -> 一般道 | S5: 代替路の有無 | U5: ='様式B (1)'!$U$5 -> 無 | V5: 終点 | W5: 緯度 | X5: =+'様式A-1'!$E$9 -> 34.197405
C6: 至 | D6: =+'様式A-1'!$E$6 -> 山口県玖珂郡和木町関ヶ浜 | G6: 建設年度 | I6: ='様式B (1)'!$I$6 -> 2004年 | L6: 幅員 | N6: L= | O6: =+'様式A-1'!$E$15 -> 8.5 | P6: ｍ | S6: 緊急輸送道路 | U6: ='様式B (1)'!$U$6 -> 指定なし | W6: 経度 | X6: =+'様式A-1'!$E$10 -> 132.18721
B7: トンネル毎 の健全性の 診断の区分 | D7: ='様式B (1)'!$D$7 -> Ⅱ
G8: 変状・異常 箇所数合計 | I8: トンネル本体工 | J8: 材質劣化 | K8: Ⅱ | L8: ='様式B (1)'!$L$8 -> 24 | N8: Ⅲ | O8: ='様式B (1)'!$O$8 -> 0 | Q8: Ⅳ | R8: ='様式B (1)'!$R$8 -> 0 | T8: 附属物等 の取付状態 | V8: ◯ （応急措置後) | X8: ='様式B (1)'!$X$8 -> 0
J9: 漏水 | K9: Ⅱ | L9: ='様式B (1)'!$L$9 -> 44 | N9: Ⅲ | O9: ='様式B (1)'!$O$9 -> 0 | Q9: Ⅳ | R9: ='様式B (1)'!$R$9 -> 0
V10: ✕ | X10: ='様式B (1)'!$X$10 -> 1
J11: 外力 | K11: Ⅱ | L11: ='様式B (1)'!$L$11 -> 13 | N11: Ⅲ | O11: ='様式B (1)'!$O$11 -> 0 | Q11: Ⅳ | R11: ='様式B (1)'!$R$11 -> 0
B12: トンネル変状・異常箇所写真位置図
J29: 注１：本位置図は、見下げた状態で記載すること。 注２：覆工スパン番号は横断目地毎(矢板工法の場合は上半アーチの 横断目地毎)に設定すること。 | Q29: 注３：写真番号に付する変状番号は、各覆工スパンの変状に対して新たに確認された場合 は順次追加していくこと。 注４：横断目地の変状は前の覆工スパン番号で計上すること。 注５：１枚に収まらない場合は、複数枚に分けて作成すること。
C30: ※1 トンネル本体工の変状数は、材質劣化、漏水に起因するものは変状単位で、外力に起因するものはスパン単位で計上すること。
C31: ※2 トンネル本体工の変状に対しては、措置の必要性（Ⅱ～Ⅳ）について表記すること。また、点検前に実施された措置によりⅠと判定された箇所についても記載すること。
C32: ※3 附属物等の取付状態の○欄については、応急措置前に判定区分×とした箇所のうち応急措置により○判定とした箇所の数を記入すること。
C33: ※4 附属物等の異常番号は、本体工と番号が重複しないよう101番以降とする等の配慮を行い、分かりやすく記録すること。

Sheet 様式B (5)
B2: ■定期点検記録様式 トンネル変状・異常箇所写真位置図 【様式B】 | N2: 定期点検年月日 | P2: =+'様式B (1)'!$P$2 -> 45853 | S2: 施設ID | V2: =+'様式A-1'!$W$2 -> 34.19214,132.18042
B3: フリガナ | C3: =+'様式A-1'!$D$3 -> セキセキトンネル | G3: 路線名 | H3: =+'様式A-1'!$J$3 -> 主要地方道岩国大竹線 | K3: 管理者名 | L3: =+'様式A-1'!$R$3 -> 山口県岩国土木建築事務所 | Q3: 定期点検実施者 | S3: ='様式B (1)'!$S$3 -> 復建調査設計株式会社 | V3: 起点 | W3: 緯度 | X3: =+'様式A-1'!$E$7 -> 34.19214
B4: 名 称 | C4: =+'様式A-1'!$D$4 -> 関々トンネル | S4: ='様式B (1)'!$S$4 -> 小笠原洋 | W4: 経度 | X4: =+'様式A-1'!$E$8 -> 132.18052
B5: 所在地 | C5: 自 | D5: =+'様式A-1'!$E$5 -> 山口県岩国市関戸 | G5: トンネル工法 | I5: ='様式B (1)'!$I$5 -> 山岳トンネル工法（NATM） | L5: トンネル延長 | N5: L= | O5: =+'様式A-1'!$Z$5 -> 889 | P5: ｍ | Q5: 自専道 or 一般道 | R5: ='様式B (1)'!$R$5 -> 一般道 | S5: 代替路の有無 | U5: ='様式B (1)'!$U$5 -> 無 | V5: 終点 | W5: 緯度 | X5: =+'様式A-1'!$E$9 -> 34.197405
C6: 至 | D6: =+'様式A-1'!$E$6 -> 山口県玖珂郡和木町関ヶ浜 | G6: 建設年度 | I6: ='様式B (1)'!$I$6 -> 2004年 | L6: 幅員 | N6: L= | O6: =+'様式A-1'!$E$15 -> 8.5 | P6: ｍ | S6: 緊急輸送道路 | U6: ='様式B (1)'!$U$6 -> 指定なし | W6: 経度 | X6: =+'様式A-1'!$E$10 -> 132.18721
B7: トンネル毎 の健全性の 診断の区分 | D7: ='様式B (1)'!$D$7 -> Ⅱ
G8: 変状・異常 箇所数合計 | I8: トンネル本体工 | J8: 材質劣化 | K8: Ⅱ | L8: ='様式B (1)'!$L$8 -> 24 | N8: Ⅲ | O8: ='様式B (1)'!$O$8 -> 0 | Q8: Ⅳ | R8: ='様式B (1)'!$R$8 -> 0 | T8: 附属物等 の取付状態 | V8: ◯ （応急措置後) | X8: ='様式B (1)'!$X$8 -> 0
J9: 漏水 | K9: Ⅱ | L9: ='様式B (1)'!$L$9 -> 44 | N9: Ⅲ | O9: ='様式B (1)'!$O$9 -> 0 | Q9: Ⅳ | R9: ='様式B (1)'!$R$9 -> 0
V10: ✕ | X10: ='様式B (1)'!$X$10 -> 1
J11: 外力 | K11: Ⅱ | L11: ='様式B (1)'!$L$11 -> 13 | N11: Ⅲ | O11: ='様式B (1)'!$O$11 -> 0 | Q11: Ⅳ | R11: ='様式B (1)'!$R$11 -> 0
B12: トンネル変状・異常箇所写真位置図
J29: 注１：本位置図は、見下げた状態で記載すること。 注２：覆工スパン番号は横断目地毎(矢板工法の場合は上半アーチの 横断目地毎)に設定すること。 | Q29: 注３：写真番号に付する変状番号は、各覆工スパンの変状に対して新たに確認された場合 は順次追加していくこと。 注４：横断目地の変状は前の覆工スパン番号で計上すること。 注５：１枚に収まらない場合は、複数枚に分けて作成すること。
C30: ※1 トンネル本体工の変状数は、材質劣化、漏水に起因するものは変状単位で、外力に起因するものはスパン単位で計上すること。
C31: ※2 トンネル本体工の変状に対しては、措置の必要性（Ⅱ～Ⅳ）について表記すること。また、点検前に実施された措置によりⅠと判定された箇所についても記載すること。
C32: ※3 附属物等の取付状態の○欄については、応急措置前に判定区分×とした箇所のうち応急措置により○判定とした箇所の数を記入すること。
C33: ※4 附属物等の異常番号は、本体工と番号が重複しないよう101番以降とする等の配慮を行い、分かりやすく記録すること。

Sheet 様式B (6)
B2: ■定期点検記録様式 トンネル変状・異常箇所写真位置図 【様式B】 | N2: 定期点検年月日 | P2: =+'様式B (1)'!$P$2 -> 45853 | S2: 施設ID | V2: =+'様式A-1'!$W$2 -> 34.19214,132.18042
B3: フリガナ | C3: =+'様式A-1'!$D$3 -> セキセキトンネル | G3: 路線名 | H3: =+'様式A-1'!$J$3 -> 主要地方道岩国大竹線 | K3: 管理者名 | L3: =+'様式A-1'!$R$3 -> 山口県岩国土木建築事務所 | Q3: 定期点検実施者 | S3: ='様式B (1)'!$S$3 -> 復建調査設計株式会社 | V3: 起点 | W3: 緯度 | X3: =+'様式A-1'!$E$7 -> 34.19214
B4: 名 称 | C4: =+'様式A-1'!$D$4 -> 関々トンネル | S4: ='様式B (1)'!$S$4 -> 小笠原洋 | W4: 経度 | X4: =+'様式A-1'!$E$8 -> 132.18052
B5: 所在地 | C5: 自 | D5: =+'様式A-1'!$E$5 -> 山口県岩国市関戸 | G5: トンネル工法 | I5: ='様式B (1)'!$I$5 -> 山岳トンネル工法（NATM） | L5: トンネル延長 | N5: L= | O5: =+'様式A-1'!$Z$5 -> 889 | P5: ｍ | Q5: 自専道 or 一般道 | R5: ='様式B (1)'!$R$5 -> 一般道 | S5: 代替路の有無 | U5: ='様式B (1)'!$U$5 -> 無 | V5: 終点 | W5: 緯度 | X5: =+'様式A-1'!$E$9 -> 34.197405
C6: 至 | D6: =+'様式A-1'!$E$6 -> 山口県玖珂郡和木町関ヶ浜 | G6: 建設年度 | I6: ='様式B (1)'!$I$6 -> 2004年 | L6: 幅員 | N6: L= | O6: =+'様式A-1'!$E$15 -> 8.5 | P6: ｍ | S6: 緊急輸送道路 | U6: ='様式B (1)'!$U$6 -> 指定なし | W6: 経度 | X6: =+'様式A-1'!$E$10 -> 132.18721
B7: トンネル毎 の健全性の 診断の区分 | D7: ='様式B (1)'!$D$7 -> Ⅱ
G8: 変状・異常 箇所数合計 | I8: トンネル本体工 | J8: 材質劣化 | K8: Ⅱ | L8: ='様式B (1)'!$L$8 -> 24 | N8: Ⅲ | O8: ='様式B (1)'!$O$8 -> 0 | Q8: Ⅳ | R8: ='様式B (1)'!$R$8 -> 0 | T8: 附属物等 の取付状態 | V8: ◯ （応急措置後) | X8: ='様式B (1)'!$X$8 -> 0
J9: 漏水 | K9: Ⅱ | L9: ='様式B (1)'!$L$9 -> 44 | N9: Ⅲ | O9: ='様式B (1)'!$O$9 -> 0 | Q9: Ⅳ | R9: ='様式B (1)'!$R$9 -> 0
V10: ✕ | X10: ='様式B (1)'!$X$10 -> 1
J11: 外力 | K11: Ⅱ | L11: ='様式B (1)'!$L$11 -> 13 | N11: Ⅲ | O11: ='様式B (1)'!$O$11 -> 0 | Q11: Ⅳ | R11: ='様式B (1)'!$R$11 -> 0
B12: トンネル変状・異常箇所写真位置図
J29: 注１：本位置図は、見下げた状態で記載すること。 注２：覆工スパン番号は横断目地毎(矢板工法の場合は上半アーチの 横断目地毎)に設定すること。 | Q29: 注３：写真番号に付する変状番号は、各覆工スパンの変状に対して新たに確認された場合 は順次追加していくこと。 注４：横断目地の変状は前の覆工スパン番号で計上すること。 注５：１枚に収まらない場合は、複数枚に分けて作成すること。
C30: ※1 トンネル本体工の変状数は、材質劣化、漏水に起因するものは変状単位で、外力に起因するものはスパン単位で計上すること。
C31: ※2 トンネル本体工の変状に対しては、措置の必要性（Ⅱ～Ⅳ）について表記すること。また、点検前に実施された措置によりⅠと判定された箇所についても記載すること。
C32: ※3 附属物等の取付状態の○欄については、応急措置前に判定区分×とした箇所のうち応急措置により○判定とした箇所の数を記入すること。
C33: ※4 附属物等の異常番号は、本体工と番号が重複しないよう101番以降とする等の配慮を行い、分かりやすく記録すること。

Sheet 様式B (7)
B2: ■定期点検記録様式 トンネル変状・異常箇所写真位置図 【様式B】 | N2: 定期点検年月日 | P2: 45853 | S2: 施設ID | V2: =+'様式A-1'!$W$2 -> 34.19214,132.18042
B3: フリガナ | C3: =+'様式A-1'!$D$3 -> セキセキトンネル | G3: 路線名 | H3: =+'様式A-1'!$J$3 -> 主要地方道岩国大竹線 | K3: 管理者名 | L3: =+'様式A-1'!$R$3 -> 山口県岩国土木建築事務所 | Q3: 定期点検実施者 | S3: ='様式B (1)'!$S$3 -> 復建調査設計株式会社 | V3: 起点 | W3: 緯度 | X3: =+'様式A-1'!$E$7 -> 34.19214
B4: 名 称 | C4: =+'様式A-1'!$D$4 -> 関々トンネル | S4: ='様式B (1)'!$S$4 -> 小笠原洋 | W4: 経度 | X4: =+'様式A-1'!$E$8 -> 132.18052
B5: 所在地 | C5: 自 | D5: =+'様式A-1'!$E$5 -> 山口県岩国市関戸 | G5: トンネル工法 | I5: ='様式B (1)'!$I$5 -> 山岳トンネル工法（NATM） | L5: トンネル延長 | N5: L= | O5: =+'様式A-1'!$Z$5 -> 889 | P5: ｍ | Q5: 自専道 or 一般道 | R5: ='様式B (1)'!$R$5 -> 一般道 | S5: 代替路の有無 | U5: ='様式B (1)'!$U$5 -> 無 | V5: 終点 | W5: 緯度 | X5: =+'様式A-1'!$E$9 -> 34.197405
C6: 至 | D6: =+'様式A-1'!$E$6 -> 山口県玖珂郡和木町関ヶ浜 | G6: 建設年度 | I6: ='様式B (1)'!$I$6 -> 2004年 | L6: 幅員 | N6: L= | O6: =+'様式A-1'!$E$15 -> 8.5 | P6: ｍ | S6: 緊急輸送道路 | U6: ='様式B (1)'!$U$6 -> 指定なし | W6: 経度 | X6: =+'様式A-1'!$E$10 -> 132.18721
B7: トンネル毎 の健全性の 診断の区分 | D7: ='様式B (1)'!$D$7 -> Ⅱ
G8: 変状・異常 箇所数合計 | I8: トンネル本体工 | J8: 材質劣化 | K8: Ⅱ | L8: ='様式B (1)'!$L$8 -> 24 | N8: Ⅲ | O8: ='様式B (1)'!$O$8 -> 0 | Q8: Ⅳ | R8: ='様式B (1)'!$R$8 -> 0 | T8: 附属物等 の取付状態 | V8: ◯ （応急措置後) | X8: ='様式B (1)'!$X$8 -> 0
J9: 漏水 | K9: Ⅱ | L9: ='様式B (1)'!$L$9 -> 44 | N9: Ⅲ | O9: ='様式B (1)'!$O$9 -> 0 | Q9: Ⅳ | R9: ='様式B (1)'!$R$9 -> 0
V10: ✕ | X10: ='様式B (1)'!$X$10 -> 1
J11: 外力 | K11: Ⅱ | L11: ='様式B (1)'!$L$11 -> 13 | N11: Ⅲ | O11: ='様式B (1)'!$O$11 -> 0 | Q11: Ⅳ | R11: ='様式B (1)'!$R$11 -> 0
B12: トンネル変状・異常箇所写真位置図
J29: 注１：本位置図は、見下げた状態で記載すること。 注２：覆工スパン番号は横断目地毎(矢板工法の場合は上半アーチの 横断目地毎)に設定すること。 | Q29: 注３：写真番号に付する変状番号は、各覆工スパンの変状に対して新たに確認された場合 は順次追加していくこと。 注４：横断目地の変状は前の覆工スパン番号で計上すること。 注５：１枚に収まらない場合は、複数枚に分けて作成すること。
C30: ※1 トンネル本体工の変状数は、材質劣化、漏水に起因するものは変状単位で、外力に起因するものはスパン単位で計上すること。
C31: ※2 トンネル本体工の変状に対しては、措置の必要性（Ⅱ～Ⅳ）について表記すること。また、点検前に実施された措置によりⅠと判定された箇所についても記載すること。
C32: ※3 附属物等の取付状態の○欄については、応急措置前に判定区分×とした箇所のうち応急措置により○判定とした箇所の数を記入すること。
C33: ※4 附属物等の異常番号は、本体工と番号が重複しないよう101番以降とする等の配慮を行い、分かりやすく記録すること。

Sheet 様式B (8)
B2: ■定期点検記録様式 トンネル変状・異常箇所写真位置図 【様式B】 | N2: 定期点検年月日 | P2: 45853 | S2: 施設ID | V2: =+'様式A-1'!$W$2 -> 34.19214,132.18042
B3: フリガナ | C3: =+'様式A-1'!$D$3 -> セキセキトンネル | G3: 路線名 | H3: =+'様式A-1'!$J$3 -> 主要地方道岩国大竹線 | K3: 管理者名 | L3: =+'様式A-1'!$R$3 -> 山口県岩国土木建築事務所 | Q3: 定期点検実施者 | S3: ='様式B (1)'!$S$3 -> 復建調査設計株式会社 | V3: 起点 | W3: 緯度 | X3: =+'様式A-1'!$E$7 -> 34.19214
B4: 名 称 | C4: =+'様式A-1'!$D$4 -> 関々トンネル | S4: ='様式B (1)'!$S$4 -> 小笠原洋 | W4: 経度 | X4: =+'様式A-1'!$E$8 -> 132.18052
B5: 所在地 | C5: 自 | D5: =+'様式A-1'!$E$5 -> 山口県岩国市関戸 | G5: トンネル工法 | I5: ='様式B (1)'!$I$5 -> 山岳トンネル工法（NATM） | L5: トンネル延長 | N5: L= | O5: =+'様式A-1'!$Z$5 -> 889 | P5: ｍ | Q5: 自専道 or 一般道 | R5: ='様式B (1)'!$R$5 -> 一般道 | S5: 代替路の有無 | U5: ='様式B (1)'!$U$5 -> 無 | V5: 終点 | W5: 緯度 | X5: =+'様式A-1'!$E$9 -> 34.197405
C6: 至 | D6: =+'様式A-1'!$E$6 -> 山口県玖珂郡和木町関ヶ浜 | G6: 建設年度 | I6: ='様式B (1)'!$I$6 -> 2004年 | L6: 幅員 | N6: L= | O6: =+'様式A-1'!$E$15 -> 8.5 | P6: ｍ | S6: 緊急輸送道路 | U6: ='様式B (1)'!$U$6 -> 指定なし | W6: 経度 | X6: =+'様式A-1'!$E$10 -> 132.18721
B7: トンネル毎 の健全性の 診断の区分 | D7: ='様式B (1)'!$D$7 -> Ⅱ
G8: 変状・異常 箇所数合計 | I8: トンネル本体工 | J8: 材質劣化 | K8: Ⅱ | L8: ='様式B (1)'!$L$8 -> 24 | N8: Ⅲ | O8: ='様式B (1)'!$O$8 -> 0 | Q8: Ⅳ | R8: ='様式B (1)'!$R$8 -> 0 | T8: 附属物等 の取付状態 | V8: ◯ （応急措置後) | X8: ='様式B (1)'!$X$8 -> 0
J9: 漏水 | K9: Ⅱ | L9: ='様式B (1)'!$L$9 -> 44 | N9: Ⅲ | O9: ='様式B (1)'!$O$9 -> 0 | Q9: Ⅳ | R9: ='様式B (1)'!$R$9 -> 0
V10: ✕ | X10: ='様式B (1)'!$X$10 -> 1
J11: 外力 | K11: Ⅱ | L11: ='様式B (1)'!$L$11 -> 13 | N11: Ⅲ | O11: ='様式B (1)'!$O$11 -> 0 | Q11: Ⅳ | R11: ='様式B (1)'!$R$11 -> 0
B12: トンネル変状・異常箇所写真位置図
J29: 注１：本位置図は、見下げた状態で記載すること。 注２：覆工スパン番号は横断目地毎(矢板工法の場合は上半アーチの 横断目地毎)に設定すること。 | Q29: 注３：写真番号に付する変状番号は、各覆工スパンの変状に対して新たに確認された場合 は順次追加していくこと。 注４：横断目地の変状は前の覆工スパン番号で計上すること。 注５：１枚に収まらない場合は、複数枚に分けて作成すること。
C30: ※1 トンネル本体工の変状数は、材質劣化、漏水に起因するものは変状単位で、外力に起因するものはスパン単位で計上すること。
C31: ※2 トンネル本体工の変状に対しては、措置の必要性（Ⅱ～Ⅳ）について表記すること。また、点検前に実施された措置によりⅠと判定された箇所についても記載すること。
C32: ※3 附属物等の取付状態の○欄については、応急措置前に判定区分×とした箇所のうち応急措置により○判定とした箇所の数を記入すること。
C33: ※4 附属物等の異常番号は、本体工と番号が重複しないよう101番以降とする等の配慮を行い、分かりやすく記録すること。

Sheet 様式B (9)
B2: ■定期点検記録様式 トンネル変状・異常箇所写真位置図 【様式B】 | N2: 定期点検年月日 | P2: 45853 | S2: 施設ID | V2: =+'様式A-1'!$W$2 -> 34.19214,132.18042
B3: フリガナ | C3: =+'様式A-1'!$D$3 -> セキセキトンネル | G3: 路線名 | H3: =+'様式A-1'!$J$3 -> 主要地方道岩国大竹線 | K3: 管理者名 | L3: =+'様式A-1'!$R$3 -> 山口県岩国土木建築事務所 | Q3: 定期点検実施者 | S3: ='様式B (1)'!$S$3 -> 復建調査設計株式会社 | V3: 起点 | W3: 緯度 | X3: =+'様式A-1'!$E$7 -> 34.19214
B4: 名 称 | C4: =+'様式A-1'!$D$4 -> 関々トンネル | S4: ='様式B (1)'!$S$4 -> 小笠原洋 | W4: 経度 | X4: =+'様式A-1'!$E$8 -> 132.18052
B5: 所在地 | C5: 自 | D5: =+'様式A-1'!$E$5 -> 山口県岩国市関戸 | G5: トンネル工法 | I5: ='様式B (1)'!$I$5 -> 山岳トンネル工法（NATM） | L5: トンネル延長 | N5: L= | O5: =+'様式A-1'!$Z$5 -> 889 | P5: ｍ | Q5: 自専道 or 一般道 | R5: ='様式B (1)'!$R$5 -> 一般道 | S5: 代替路の有無 | U5: ='様式B (1)'!$U$5 -> 無 | V5: 終点 | W5: 緯度 | X5: =+'様式A-1'!$E$9 -> 34.197405
C6: 至 | D6: =+'様式A-1'!$E$6 -> 山口県玖珂郡和木町関ヶ浜 | G6: 建設年度 | I6: ='様式B (1)'!$I$6 -> 2004年 | L6: 幅員 | N6: L= | O6: =+'様式A-1'!$E$15 -> 8.5 | P6: ｍ | S6: 緊急輸送道路 | U6: ='様式B (1)'!$U$6 -> 指定なし | W6: 経度 | X6: =+'様式A-1'!$E$10 -> 132.18721
B7: トンネル毎 の健全性の 診断の区分 | D7: ='様式B (1)'!$D$7 -> Ⅱ
G8: 変状・異常 箇所数合計 | I8: トンネル本体工 | J8: 材質劣化 | K8: Ⅱ | L8: ='様式B (1)'!$L$8 -> 24 | N8: Ⅲ | O8: ='様式B (1)'!$O$8 -> 0 | Q8: Ⅳ | R8: ='様式B (1)'!$R$8 -> 0 | T8: 附属物等 の取付状態 | V8: ◯ （応急措置後) | X8: ='様式B (1)'!$X$8 -> 0
J9: 漏水 | K9: Ⅱ | L9: ='様式B (1)'!$L$9 -> 44 | N9: Ⅲ | O9: ='様式B (1)'!$O$9 -> 0 | Q9: Ⅳ | R9: ='様式B (1)'!$R$9 -> 0
V10: ✕ | X10: ='様式B (1)'!$X$10 -> 1
J11: 外力 | K11: Ⅱ | L11: ='様式B (1)'!$L$11 -> 13 | N11: Ⅲ | O11: ='様式B (1)'!$O$11 -> 0 | Q11: Ⅳ | R11: ='様式B (1)'!$R$11 -> 0
B12: トンネル変状・異常箇所写真位置図
J29: 注１：本位置図は、見下げた状態で記載すること。 注２：覆工スパン番号は横断目地毎(矢板工法の場合は上半アーチの 横断目地毎)に設定すること。 | Q29: 注３：写真番号に付する変状番号は、各覆工スパンの変状に対して新たに確認された場合 は順次追加していくこと。 注４：横断目地の変状は前の覆工スパン番号で計上すること。 注５：１枚に収まらない場合は、複数枚に分けて作成すること。
C30: ※1 トンネル本体工の変状数は、材質劣化、漏水に起因するものは変状単位で、外力に起因するものはスパン単位で計上すること。
C31: ※2 トンネル本体工の変状に対しては、措置の必要性（Ⅱ～Ⅳ）について表記すること。また、点検前に実施された措置によりⅠと判定された箇所についても記載すること。
C32: ※3 附属物等の取付状態の○欄については、応急措置前に判定区分×とした箇所のうち応急措置により○判定とした箇所の数を記入すること。
C33: ※4 附属物等の異常番号は、本体工と番号が重複しないよう101番以降とする等の配慮を行い、分かりやすく記録すること。

Sheet 様式B (10)
B2: ■定期点検記録様式 トンネル変状・異常箇所写真位置図 【様式B】 | N2: 定期点検年月日 | P2: 45853 | S2: 施設ID | V2: =+'様式A-1'!$W$2 -> 34.19214,132.18042
B3: フリガナ | C3: =+'様式A-1'!$D$3 -> セキセキトンネル | G3: 路線名 | H3: =+'様式A-1'!$J$3 -> 主要地方道岩国大竹線 | K3: 管理者名 | L3: =+'様式A-1'!$R$3 -> 山口県岩国土木建築事務所 | Q3: 定期点検実施者 | S3: ='様式B (1)'!$S$3 -> 復建調査設計株式会社 | V3: 起点 | W3: 緯度 | X3: =+'様式A-1'!$E$7 -> 34.19214
B4: 名 称 | C4: =+'様式A-1'!$D$4 -> 関々トンネル | S4: ='様式B (1)'!$S$4 -> 小笠原洋 | W4: 経度 | X4: =+'様式A-1'!$E$8 -> 132.18052
B5: 所在地 | C5: 自 | D5: =+'様式A-1'!$E$5 -> 山口県岩国市関戸 | G5: トンネル工法 | I5: ='様式B (1)'!$I$5 -> 山岳トンネル工法（NATM） | L5: トンネル延長 | N5: L= | O5: =+'様式A-1'!$Z$5 -> 889 | P5: ｍ | Q5: 自専道 or 一般道 | R5: ='様式B (1)'!$R$5 -> 一般道 | S5: 代替路の有無 | U5: ='様式B (1)'!$U$5 -> 無 | V5: 終点 | W5: 緯度 | X5: =+'様式A-1'!$E$9 -> 34.197405
C6: 至 | D6: =+'様式A-1'!$E$6 -> 山口県玖珂郡和木町関ヶ浜 | G6: 建設年度 | I6: ='様式B (1)'!$I$6 -> 2004年 | L6: 幅員 | N6: L= | O6: =+'様式A-1'!$E$15 -> 8.5 | P6: ｍ | S6: 緊急輸送道路 | U6: ='様式B (1)'!$U$6 -> 指定なし | W6: 経度 | X6: =+'様式A-1'!$E$10 -> 132.18721
B7: トンネル毎 の健全性の 診断の区分 | D7: ='様式B (1)'!$D$7 -> Ⅱ
G8: 変状・異常 箇所数合計 | I8: トンネル本体工 | J8: 材質劣化 | K8: Ⅱ | L8: ='様式B (1)'!$L$8 -> 24 | N8: Ⅲ | O8: ='様式B (1)'!$O$8 -> 0 | Q8: Ⅳ | R8: ='様式B (1)'!$R$8 -> 0 | T8: 附属物等 の取付状態 | V8: ◯ （応急措置後) | X8: ='様式B (1)'!$X$8 -> 0
J9: 漏水 | K9: Ⅱ | L9: ='様式B (1)'!$L$9 -> 44 | N9: Ⅲ | O9: ='様式B (1)'!$O$9 -> 0 | Q9: Ⅳ | R9: ='様式B (1)'!$R$9 -> 0
V10: ✕ | X10: ='様式B (1)'!$X$10 -> 1
J11: 外力 | K11: Ⅱ | L11: ='様式B (1)'!$L$11 -> 13 | N11: Ⅲ | O11: ='様式B (1)'!$O$11 -> 0 | Q11: Ⅳ | R11: ='様式B (1)'!$R$11 -> 0
B12: トンネル変状・異常箇所写真位置図
J29: 注１：本位置図は、見下げた状態で記載すること。 注２：覆工スパン番号は横断目地毎(矢板工法の場合は上半アーチの 横断目地毎)に設定すること。 | Q29: 注３：写真番号に付する変状番号は、各覆工スパンの変状に対して新たに確認された場合 は順次追加していくこと。 注４：横断目地の変状は前の覆工スパン番号で計上すること。 注５：１枚に収まらない場合は、複数枚に分けて作成すること。
C30: ※1 トンネル本体工の変状数は、材質劣化、漏水に起因するものは変状単位で、外力に起因するものはスパン単位で計上すること。
C31: ※2 トンネル本体工の変状に対しては、措置の必要性（Ⅱ～Ⅳ）について表記すること。また、点検前に実施された措置によりⅠと判定された箇所についても記載すること。
C32: ※3 附属物等の取付状態の○欄については、応急措置前に判定区分×とした箇所のうち応急措置により○判定とした箇所の数を記入すること。
C33: ※4 附属物等の異常番号は、本体工と番号が重複しないよう101番以降とする等の配慮を行い、分かりやすく記録すること。

Sheet 様式B (11)
B2: ■定期点検記録様式 トンネル変状・異常箇所写真位置図 【様式B】 | N2: 定期点検年月日 | P2: 45853 | S2: 施設ID | V2: =+'様式A-1'!$W$2 -> 34.19214,132.18042
B3: フリガナ | C3: =+'様式A-1'!$D$3 -> セキセキトンネル | G3: 路線名 | H3: =+'様式A-1'!$J$3 -> 主要地方道岩国大竹線 | K3: 管理者名 | L3: =+'様式A-1'!$R$3 -> 山口県岩国土木建築事務所 | Q3: 定期点検実施者 | S3: ='様式B (1)'!$S$3 -> 復建調査設計株式会社 | V3: 起点 | W3: 緯度 | X3: =+'様式A-1'!$E$7 -> 34.19214
B4: 名 称 | C4: =+'様式A-1'!$D$4 -> 関々トンネル | S4: ='様式B (1)'!$S$4 -> 小笠原洋 | W4: 経度 | X4: =+'様式A-1'!$E$8 -> 132.18052
B5: 所在地 | C5: 自 | D5: =+'様式A-1'!$E$5 -> 山口県岩国市関戸 | G5: トンネル工法 | I5: ='様式B (1)'!$I$5 -> 山岳トンネル工法（NATM） | L5: トンネル延長 | N5: L= | O5: =+'様式A-1'!$Z$5 -> 889 | P5: ｍ | Q5: 自専道 or 一般道 | R5: ='様式B (1)'!$R$5 -> 一般道 | S5: 代替路の有無 | U5: ='様式B (1)'!$U$5 -> 無 | V5: 終点 | W5: 緯度 | X5: =+'様式A-1'!$E$9 -> 34.197405
C6: 至 | D6: =+'様式A-1'!$E$6 -> 山口県玖珂郡和木町関ヶ浜 | G6: 建設年度 | I6: ='様式B (1)'!$I$6 -> 2004年 | L6: 幅員 | N6: L= | O6: =+'様式A-1'!$E$15 -> 8.5 | P6: ｍ | S6: 緊急輸送道路 | U6: ='様式B (1)'!$U$6 -> 指定なし | W6: 経度 | X6: =+'様式A-1'!$E$10 -> 132.18721
B7: トンネル毎 の健全性の 診断の区分 | D7: ='様式B (1)'!$D$7 -> Ⅱ
G8: 変状・異常 箇所数合計 | I8: トンネル本体工 | J8: 材質劣化 | K8: Ⅱ | L8: ='様式B (1)'!$L$8 -> 24 | N8: Ⅲ | O8: ='様式B (1)'!$O$8 -> 0 | Q8: Ⅳ | R8: ='様式B (1)'!$R$8 -> 0 | T8: 附属物等 の取付状態 | V8: ◯ （応急措置後) | X8: ='様式B (1)'!$X$8 -> 0
J9: 漏水 | K9: Ⅱ | L9: ='様式B (1)'!$L$9 -> 44 | N9: Ⅲ | O9: ='様式B (1)'!$O$9 -> 0 | Q9: Ⅳ | R9: ='様式B (1)'!$R$9 -> 0
V10: ✕ | X10: ='様式B (1)'!$X$10 -> 1
J11: 外力 | K11: Ⅱ | L11: ='様式B (1)'!$L$11 -> 13 | N11: Ⅲ | O11: ='様式B (1)'!$O$11 -> 0 | Q11: Ⅳ | R11: ='様式B (1)'!$R$11 -> 0
B12: トンネル変状・異常箇所写真位置図
J29: 注１：本位置図は、見下げた状態で記載すること。 注２：覆工スパン番号は横断目地毎(矢板工法の場合は上半アーチの 横断目地毎)に設定すること。 | Q29: 注３：写真番号に付する変状番号は、各覆工スパンの変状に対して新たに確認された場合 は順次追加していくこと。 注４：横断目地の変状は前の覆工スパン番号で計上すること。 注５：１枚に収まらない場合は、複数枚に分けて作成すること。
C30: ※1 トンネル本体工の変状数は、材質劣化、漏水に起因するものは変状単位で、外力に起因するものはスパン単位で計上すること。
C31: ※2 トンネル本体工の変状に対しては、措置の必要性（Ⅱ～Ⅳ）について表記すること。また、点検前に実施された措置によりⅠと判定された箇所についても記載すること。
C32: ※3 附属物等の取付状態の○欄については、応急措置前に判定区分×とした箇所のうち応急措置により○判定とした箇所の数を記入すること。
C33: ※4 附属物等の異常番号は、本体工と番号が重複しないよう101番以降とする等の配慮を行い、分かりやすく記録すること。

Sheet 様式B (12)
B2: ■定期点検記録様式 トンネル変状・異常箇所写真位置図 【様式B】 | N2: 定期点検年月日 | P2: 45853 | S2: 施設ID | V2: =+'様式A-1'!$W$2 -> 34.19214,132.18042
B3: フリガナ | C3: =+'様式A-1'!$D$3 -> セキセキトンネル | G3: 路線名 | H3: =+'様式A-1'!$J$3 -> 主要地方道岩国大竹線 | K3: 管理者名 | L3: =+'様式A-1'!$R$3 -> 山口県岩国土木建築事務所 | Q3: 定期点検実施者 | S3: ='様式B (1)'!$S$3 -> 復建調査設計株式会社 | V3: 起点 | W3: 緯度 | X3: =+'様式A-1'!$E$7 -> 34.19214
B4: 名 称 | C4: =+'様式A-1'!$D$4 -> 関々トンネル | S4: ='様式B (1)'!$S$4 -> 小笠原洋 | W4: 経度 | X4: =+'様式A-1'!$E$8 -> 132.18052
B5: 所在地 | C5: 自 | D5: =+'様式A-1'!$E$5 -> 山口県岩国市関戸 | G5: トンネル工法 | I5: ='様式B (1)'!$I$5 -> 山岳トンネル工法（NATM） | L5: トンネル延長 | N5: L= | O5: =+'様式A-1'!$Z$5 -> 889 | P5: ｍ | Q5: 自専道 or 一般道 | R5: ='様式B (1)'!$R$5 -> 一般道 | S5: 代替路の有無 | U5: ='様式B (1)'!$U$5 -> 無 | V5: 終点 | W5: 緯度 | X5: =+'様式A-1'!$E$9 -> 34.197405
C6: 至 | D6: =+'様式A-1'!$E$6 -> 山口県玖珂郡和木町関ヶ浜 | G6: 建設年度 | I6: ='様式B (1)'!$I$6 -> 2004年 | L6: 幅員 | N6: L= | O6: =+'様式A-1'!$E$15 -> 8.5 | P6: ｍ | S6: 緊急輸送道路 | U6: ='様式B (1)'!$U$6 -> 指定なし | W6: 経度 | X6: =+'様式A-1'!$E$10 -> 132.18721
B7: トンネル毎 の健全性の 診断の区分 | D7: ='様式B (1)'!$D$7 -> Ⅱ
G8: 変状・異常 箇所数合計 | I8: トンネル本体工 | J8: 材質劣化 | K8: Ⅱ | L8: ='様式B (1)'!$L$8 -> 24 | N8: Ⅲ | O8: ='様式B (1)'!$O$8 -> 0 | Q8: Ⅳ | R8: ='様式B (1)'!$R$8 -> 0 | T8: 附属物等 の取付状態 | V8: ◯ （応急措置後) | X8: ='様式B (1)'!$X$8 -> 0
J9: 漏水 | K9: Ⅱ | L9: ='様式B (1)'!$L$9 -> 44 | N9: Ⅲ | O9: ='様式B (1)'!$O$9 -> 0 | Q9: Ⅳ | R9: ='様式B (1)'!$R$9 -> 0
V10: ✕ | X10: ='様式B (1)'!$X$10 -> 1
J11: 外力 | K11: Ⅱ | L11: ='様式B (1)'!$L$11 -> 13 | N11: Ⅲ | O11: ='様式B (1)'!$O$11 -> 0 | Q11: Ⅳ | R11: ='様式B (1)'!$R$11 -> 0
B12: トンネル変状・異常箇所写真位置図
J29: 注１：本位置図は、見下げた状態で記載すること。 注２：覆工スパン番号は横断目地毎(矢板工法の場合は上半アーチの 横断目地毎)に設定すること。 | Q29: 注３：写真番号に付する変状番号は、各覆工スパンの変状に対して新たに確認された場合 は順次追加していくこと。 注４：横断目地の変状は前の覆工スパン番号で計上すること。 注５：１枚に収まらない場合は、複数枚に分けて作成すること。
C30: ※1 トンネル本体工の変状数は、材質劣化、漏水に起因するものは変状単位で、外力に起因するものはスパン単位で計上すること。
C31: ※2 トンネル本体工の変状に対しては、措置の必要性（Ⅱ～Ⅳ）について表記すること。また、点検前に実施された措置によりⅠと判定された箇所についても記載すること。
C32: ※3 附属物等の取付状態の○欄については、応急措置前に判定区分×とした箇所のうち応急措置により○判定とした箇所の数を記入すること。
C33: ※4 附属物等の異常番号は、本体工と番号が重複しないよう101番以降とする等の配慮を行い、分かりやすく記録すること。

Sheet 様式B (13)
B2: ■定期点検記録様式 トンネル変状・異常箇所写真位置図 【様式B】 | N2: 定期点検年月日 | P2: 45853 | S2: 施設ID | V2: =+'様式A-1'!$W$2 -> 34.19214,132.18042
B3: フリガナ | C3: =+'様式A-1'!$D$3 -> セキセキトンネル | G3: 路線名 | H3: =+'様式A-1'!$J$3 -> 主要地方道岩国大竹線 | K3: 管理者名 | L3: =+'様式A-1'!$R$3 -> 山口県岩国土木建築事務所 | Q3: 定期点検実施者 | S3: ='様式B (1)'!$S$3 -> 復建調査設計株式会社 | V3: 起点 | W3: 緯度 | X3: =+'様式A-1'!$E$7 -> 34.19214
B4: 名 称 | C4: =+'様式A-1'!$D$4 -> 関々トンネル | S4: ='様式B (1)'!$S$4 -> 小笠原洋 | W4: 経度 | X4: =+'様式A-1'!$E$8 -> 132.18052
B5: 所在地 | C5: 自 | D5: =+'様式A-1'!$E$5 -> 山口県岩国市関戸 | G5: トンネル工法 | I5: ='様式B (1)'!$I$5 -> 山岳トンネル工法（NATM） | L5: トンネル延長 | N5: L= | O5: =+'様式A-1'!$Z$5 -> 889 | P5: ｍ | Q5: 自専道 or 一般道 | R5: ='様式B (1)'!$R$5 -> 一般道 | S5: 代替路の有無 | U5: ='様式B (1)'!$U$5 -> 無 | V5: 終点 | W5: 緯度 | X5: =+'様式A-1'!$E$9 -> 34.197405
C6: 至 | D6: =+'様式A-1'!$E$6 -> 山口県玖珂郡和木町関ヶ浜 | G6: 建設年度 | I6: ='様式B (1)'!$I$6 -> 2004年 | L6: 幅員 | N6: L= | O6: =+'様式A-1'!$E$15 -> 8.5 | P6: ｍ | S6: 緊急輸送道路 | U6: ='様式B (1)'!$U$6 -> 指定なし | W6: 経度 | X6: =+'様式A-1'!$E$10 -> 132.18721
B7: トンネル毎 の健全性の 診断の区分 | D7: ='様式B (1)'!$D$7 -> Ⅱ
G8: 変状・異常 箇所数合計 | I8: トンネル本体工 | J8: 材質劣化 | K8: Ⅱ | L8: ='様式B (1)'!$L$8 -> 24 | N8: Ⅲ | O8: ='様式B (1)'!$O$8 -> 0 | Q8: Ⅳ | R8: ='様式B (1)'!$R$8 -> 0 | T8: 附属物等 の取付状態 | V8: ◯ （応急措置後) | X8: ='様式B (1)'!$X$8 -> 0
J9: 漏水 | K9: Ⅱ | L9: ='様式B (1)'!$L$9 -> 44 | N9: Ⅲ | O9: ='様式B (1)'!$O$9 -> 0 | Q9: Ⅳ | R9: ='様式B (1)'!$R$9 -> 0
V10: ✕ | X10: ='様式B (1)'!$X$10 -> 1
J11: 外力 | K11: Ⅱ | L11: ='様式B (1)'!$L$11 -> 13 | N11: Ⅲ | O11: ='様式B (1)'!$O$11 -> 0 | Q11: Ⅳ | R11: ='様式B (1)'!$R$11 -> 0
B12: トンネル変状・異常箇所写真位置図
J29: 注１：本位置図は、見下げた状態で記載すること。 注２：覆工スパン番号は横断目地毎(矢板工法の場合は上半アーチの 横断目地毎)に設定すること。 | Q29: 注３：写真番号に付する変状番号は、各覆工スパンの変状に対して新たに確認された場合 は順次追加していくこと。 注４：横断目地の変状は前の覆工スパン番号で計上すること。 注５：１枚に収まらない場合は、複数枚に分けて作成すること。
C30: ※1 トンネル本体工の変状数は、材質劣化、漏水に起因するものは変状単位で、外力に起因するものはスパン単位で計上すること。
C31: ※2 トンネル本体工の変状に対しては、措置の必要性（Ⅱ～Ⅳ）について表記すること。また、点検前に実施された措置によりⅠと判定された箇所についても記載すること。
C32: ※3 附属物等の取付状態の○欄については、応急措置前に判定区分×とした箇所のうち応急措置により○判定とした箇所の数を記入すること。
C33: ※4 附属物等の異常番号は、本体工と番号が重複しないよう101番以降とする等の配慮を行い、分かりやすく記録すること。

Sheet 様式C-1-1
B2: ■定期点検記録様式 全スパン定期点検結果総括表（トンネル本体工） 【様式C-1-1】
B3: フリガナ | F3: =+'様式A-1'!$D$3 -> セキセキトンネル | I3: 路線名 | K3: =+'様式A-1'!$J$3 -> 主要地方道岩国大竹線 | O3: 定期点検実施者 | P3: =+'様式B (1)'!$S$3 -> 復建調査設計株式会社 | T3: 定期点検年月日 | X3: =+'様式B (1)'!$P$2 -> 45853
B4: 名 称 | F4: =+'様式A-1'!$D$4 -> 関々トンネル | I4: 管理者名 | K4: =+'様式A-1'!$R$3 -> 山口県岩国土木建築事務所 | P4: =+'様式B (1)'!$S$4 -> 小笠原洋
B5: 定期点検結果 | C5: 覆工 スパン 番号 | E5: 変状 番号 | F5: 距離 （m） | G5: 変状部位 | I5: 変 状 の 内 容 | O5: 前回定期点検時の状態 | P5: 今回定期点検結果 | T5: 措置履歴 | Y5: 対応方針 ・ 特記事項
G7: 対象箇所 | H7: 部位区分 | I7: 変状区分 | J7: 変状種類 | M7: 変状の発生範囲の規模 | N7: 前回定期点検時の変状の発生範囲及び規模 | O7: 対策区分 | P7: 対策区分 | R7: 調査の 要否 | S7: 措置の 要否 | T7: 実施 | U7: 措置の実施状況
P8: 応急措置前 | Q8: 応急措置後
C9: S1 | E9: 1 | F9: 2.5 | G9: 覆工 | H9: アーチ（天端） | I9: 材質劣化 | J9: うき・はく離 | M9: 1.35m×2.7m | N9: 1.0m×2.5m | O9: Ⅱb | Q9: Ⅱb | R9: 否 | S9: 否 | T9: 継続 | U9: 監視(日常巡視) | Y9: 閉合ひび割れ
C10: S1 | E10: 2 | F10: 2.5 | G10: 路面 | H10: 側溝 | J10: その他 | M10: － | N10: 0.1m×7.5m | O10: Ⅱb | R10: 否 | S10: 否 | Y10: 土砂堆積
C11: S2 | E11: 1 | F11: 7.5 | G11: 路面 | H11: 側溝 | J11: その他 | M11: － | N11: 0.1m×10.5m | O11: Ⅱb | R11: 否 | S11: 否 | Y11: 土砂堆積
C12: S3 | E12: 1 | F12: 25.5 | G12: 覆工 | H12: 側壁（右側） | I12: 材質劣化 | J12: 鋼材腐食 | M12: 0.1m×0.1m | N12: 0.1m×0.1m | O12: Ⅱb | Q12: Ⅱb | R12: 否 | S12: 否 | T12: 継続 | U12: 監視(日常巡視)
C13: S3 | E13: 2 | F13: 18 | G13: 路面 | H13: 側溝 | J13: その他 | M13: － | N13: 0.1m×10.5m | O13: Ⅱb | R13: 否 | S13: 否 | Y13: 土砂堆積
C14: S3 | E14: 3 | F14: 18 | G14: 路面 | H14: 側溝 | J14: その他 | M14: － | N14: 0.1m×10.5m | O14: Ⅱb | R14: 否 | S14: 否 | Y14: 土砂堆積
C15: S4 | E15: 1 | F15: 28.5 | G15: 路面 | H15: 側溝 | J15: その他 | M15: － | N15: 0.1m×10.5m | O15: Ⅱb | R15: 否 | S15: 否 | Y15: 土砂堆積
C16: S4 | E16: 2 | F16: 28.5 | G16: 路面 | H16: 側溝 | J16: その他 | M16: － | N16: 0.1m×10.5m | O16: Ⅱb | R16: 否 | S16: 否 | Y16: 土砂堆積
C17: S5 | E17: 1 | F17: 39 | G17: 路面 | H17: 側溝 | J17: その他 | M17: － | N17: 0.1m×10.5m | O17: Ⅱb | R17: 否 | S17: 否 | Y17: 土砂堆積
C18: S5 | E18: 2 | F18: 39 | G18: 路面 | H18: 側溝 | J18: その他 | M18: － | N18: 0.1m×7.0m | O18: Ⅱb | R18: 否 | S18: 否 | Y18: 土砂堆積
C19: S6 | E19: 1 | F19: 49.5 | G19: 路面 | H19: 側溝 | J19: その他 | M19: － | N19: 0.1m×10.5m | O19: Ⅱb | R19: 否 | S19: 否 | Y19: 土砂堆積
C20: S7 | E20: 1 | F20: 60 | G20: 路面 | H20: 側溝 | J20: その他 | M20: － | N20: 0.1m×10.5m | O20: Ⅱb | R20: 否 | S20: 否 | Y20: 土砂堆積
C21: S8 | E21: 1 | F21: 70.5 | G21: 路面 | H21: 側溝 | J21: その他 | M21: － | N21: 0.1m×10.5m | O21: Ⅱb | R21: 否 | S21: 否 | Y21: 土砂堆積
C22: S9 | E22: 1 | F22: 86.5 | G22: 覆工 | H22: アーチ（右側） | I22: 材質劣化 | J22: 鋼材腐食 | M22: 0.05m×0.05m | N22: 0.05m×0.05m | O22: Ⅱb | Q22: Ⅱb | R22: 否 | S22: 否 | T22: 継続 | U22: 監視(日常巡視)
C23: S9 | E23: 2 | F23: 89 | G23: 覆工 | H23: 側壁（右側） | I23: 漏水 | J23: 漏水 | M23: 1.8m×1.7m | N23: 1.8m×1.5m | O23: Ⅱb | Q23: Ⅱb | R23: 否 | S23: 否 | T23: 継続 | U23: 監視(日常巡視) | Y23: 漏水跡
C24: S9 | E24: 3 | F24: 81 | G24: 路面 | H24: 側溝 | J24: その他 | M24: － | N24: 0.1m×10.5m | O24: Ⅱb | R24: 否 | S24: 否 | Y24: 土砂堆積
C25: S10 | E25: 1 | F25: 91.5 | G25: 覆工 | H25: 側壁（右側） | I25: 材質劣化 | J25: うき・はく離 | M25: 0.4m×0.1m | N25: 0.4m×0.1m | O25: Ⅱb | Q25: Ⅱb | R25: 否 | S25: 否 | T25: 継続 | U25: 監視(日常巡視) | Y25: 閉合ひび割れ
C26: S10 | E26: 2 | F26: 91.5 | G26: 路面 | H26: 側溝 | J26: その他 | M26: － | N26: 0.1m×10.5m | O26: Ⅱb | R26: 否 | S26: 否 | Y26: 土砂堆積
C27: S11 | E27: 1 | F27: 102.5 | G27: 覆工 | H27: 側壁（右側） | I27: 漏水 | J27: 漏水 | M27: 1.5m×0.4m | N27: 1.7m×1.1m | O27: Ⅱb | Q27: Ⅱb | R27: 否 | S27: 否 | T27: 継続 | U27: 監視(日常巡視)
C28: S11 | E28: 2 | F28: 102 | G28: 路面 | H28: 側溝 | J28: その他 | M28: － | N28: 0.1m×10.5m | O28: Ⅱb | R28: 否 | S28: 否 | Y28: 土砂堆積
C29: S12 | E29: 1 | F29: 112.5 | G29: 路面 | H29: 側溝 | J29: その他 | M29: － | N29: － | O29: － | R29: 否 | S29: 否 | Y29: 土砂堆積
C30: S12 | E30: 2 | F30: 112.5 | G30: 路面 | H30: 側溝 | J30: その他 | M30: － | N30: － | O30: － | R30: 否 | S30: 否 | Y30: 土砂堆積
C31: S13 | E31: 1 | F31: 123 | G31: 路面 | H31: 側溝 | J31: その他 | M31: － | N31: － | O31: － | R31: 否 | S31: 否 | Y31: 土砂堆積
C32: S13 | E32: 2 | F32: 123 | G32: 路面 | H32: 側溝 | J32: その他 | M32: － | N32: － | O32: － | R32: 否 | S32: 否 | Y32: 土砂堆積
C33: S14 | E33: 1 | F33: 133.5 | G33: 路面 | H33: 側溝 | J33: その他 | M33: － | N33: － | O33: － | R33: 否 | S33: 否 | Y33: 土砂堆積
C34: S15 | E34: 1 | F34: 144 | G34: 路面 | H34: 側溝 | J34: その他 | M34: － | N34: － | O34: － | R34: 否 | S34: 否 | Y34: 土砂堆積
C35: S16 | E35: 1 | F35: 154.5 | G35: 路面 | H35: 側溝 | J35: その他 | M35: － | N35: － | O35: － | R35: 否 | S35: 否 | Y35: 土砂堆積
C36: S17 | E36: 1 | F36: 165 | G36: 路面 | H36: 側溝 | J36: その他 | M36: － | N36: － | O36: － | R36: 否 | S36: 否 | Y36: 土砂堆積
C37: S18 | E37: 1 | F37: 175.5 | G37: 路面 | H37: 側溝 | J37: その他 | M37: － | N37: － | O37: － | R37: 否 | S37: 否 | Y37: 土砂堆積
C38: S19 | E38: 1 | F38: 186 | G38: 路面 | H38: 側溝 | J38: その他 | M38: － | N38: － | O38: － | R38: 否 | S38: 否 | Y38: 土砂堆積
C39: S20 | E39: 1 | F39: 199 | G39: 覆工 | H39: アーチ（右側） | I39: 材質劣化 | J39: 鋼材腐食 | M39: 0.05m×0.05m | N39: 0.05m×0.05m | O39: Ⅱb | Q39: Ⅱb | R39: 否 | S39: 否 | T39: 継続 | U39: 監視(日常巡視)
C40: S20 | E40: 2 | F40: 196.5 | G40: 覆工 | H40: 側壁（右側） | I40: 材質劣化 | J40: うき・はく離 | M40: 0.25m×0.1m | N40: 0.6m×0.1m | O40: Ⅱb | Q40: Ⅱb | R40: 否 | S40: 否 | T40: 継続 | U40: 監視(日常巡視) | Y40: 閉合ひび割れ
C41: S20 | E41: 3 | F41: 196.5 | G41: 路面 | H41: 側溝 | J41: その他 | M41: － | N41: － | O41: － | R41: 否 | S41: 否 | Y41: 土砂堆積
C42: S21 | E42: 1 | F42: 211 | G42: 覆工 | H42: 側壁（左側） | I42: 漏水 | J42: 漏水 | M42: 1.4m×4.3m | N42: 1.4m×0.5m、1.3m×0.2m、1.2m×0.1m、1.1m×0.3m、1.1m×0.5m、1.4m×1.3m | O42: Ⅱb | Q42: Ⅱb | R42: 否 | S42: 否 | T42: 継続 | U42: 監視(日常巡視) | Y42: 漏水跡
C43: ※ 対策区分（応急措置後）のⅡb～Ⅳについて記入すること。また、点検前に実施された措置によりⅠと判定された変状も記入すること。
C44: ※ 応急措置を実施しないで判定した変状の対策区分は、対策区分の応急措置後の欄に記入すること。
C45: ※ 変状の除去が不完全で、緊急対応が必要な場合は対応方針欄に記入すること。
C46: ※ １区間の覆工に複数の変状がある場合は、変状箇所毎に記入すること。
C47: ※ 措置・監視点検を行った場合には、措置履歴、特記事項に記録を残すこと。（実施年度も記載）
C48: ※ 行が不足する場合は、適時、表の行を増やすこと。
B49: ■定期点検記録様式 全スパン定期点検結果総括表（トンネル本体工） 【様式C-1-1】
B50: フリガナ | F50: =+'様式A-1'!$D$3 -> セキセキトンネル | I50: 路線名 | K50: =+'様式A-1'!$J$3 -> 主要地方道岩国大竹線 | O50: 定期点検実施者 | P50: =+'様式B (1)'!$S$3 -> 復建調査設計株式会社 | T50: 定期点検年月日 | X50: =+'様式B (1)'!$P$2 -> 45853
B51: 名 称 | F51: =+'様式A-1'!$D$4 -> 関々トンネル | I51: 管理者名 | K51: =+'様式A-1'!$R$3 -> 山口県岩国土木建築事務所 | P51: =+'様式B (1)'!$S$4 -> 小笠原洋
B52: 定期点検結果 | C52: 覆工 スパン 番号 | E52: 変状 番号 | F52: 距離 （m） | G52: 変状部位 | I52: 変 状 の 内 容 | O52: 前回定期点検時の状態 | P52: 今回定期点検結果 | T52: 措置履歴 | Y52: 対応方針 ・ 特記事項
G54: 対象箇所 | H54: 部位区分 | I54: 変状区分 | J54: 変状種類 | M54: 変状の発生範囲の規模 | N54: 前回定期点検時の変状の発生範囲及び規模 | O54: 対策区分 | P54: 対策区分 | R54: 調査の 要否 | S54: 措置の 要否 | T54: 実施 | U54: 措置の実施状況
P55: 応急措置前 | Q55: 応急措置後
C56: S21 | E56: 2 | F56: 207 | G56: 覆工 | H56: 側壁（左側） | I56: 外力 | J56: 圧ざ、ひび割れ | M56: 10.5m×0.8mm | N56: － | O56: － | Q56: Ⅱb | R56: 否 | S56: 否 | T56: 継続 | U56: 監視(日常巡視) | Y56: 幅0.8mm、長さ10.5m
C57: S21 | E57: 3 | F57: 207 | G57: 路面 | H57: 側溝 | J57: その他 | M57: － | N57: － | O57: － | R57: 否 | S57: 否 | Y57: 土砂堆積
C58: S22 | E58: 1 | F58: 222 | G58: 覆工 | H58: 側壁（左側） | I58: 漏水 | J58: 漏水 | M58: 1.1m×0.6m | N58: 1.0m×0.6m | O58: Ⅱb | Q58: Ⅱb | R58: 否 | S58: 否 | T58: 継続 | U58: 監視(日常巡視) | Y58: 漏水跡
C59: S22 | E59: 2 | F59: 217.5 | G59: 覆工 | H59: 側壁（左側） | I59: 外力 | J59: 圧ざ、ひび割れ | M59: 10.5m×0.8mm | N59: － | O59: － | Q59: Ⅱb | R59: 否 | S59: 否 | T59: 継続 | U59: 監視(日常巡視) | Y59: 幅0.8mm、長さ10.5m
C60: S22 | E60: 3 | F60: 222.5 | G60: 覆工 | H60: 側壁（左側） | I60: 漏水 | J60: 漏水 | M60: 2.3m×8.3m | N60: 2.0m×0.2m、2.0m×0.2m、1.7m×0.4m、1.2m×1.3m、1.5m×0.2m | O60: Ⅱb | Q60: Ⅱb | R60: 否 | S60: 否 | T60: 継続 | U60: 監視(日常巡視) | Y60: 漏水跡
C61: S22 | E61: 4 | F61: 228 | G61: 覆工 | H61: 横断目地（左側） | I61: 漏水 | J61: 漏水 | M61: 5.8m×0.5m | N61: 3.0m×0.1m | O61: Ⅱb | Q61: Ⅱb | R61: 否 | S61: 否 | T61: 継続 | U61: 監視(日常巡視)
C62: S22 | E62: 5 | F62: 217.5 | G62: 路面 | H62: 側溝 | J62: その他 | M62: － | N62: 0.1m×10.5m | O62: Ⅱb | R62: 否 | S62: 否 | Y62: 土砂堆積
C63: S22 | E63: 6 | F63: 217.5 | G63: 路面 | H63: 側溝 | J63: その他 | M63: － | N63: － | O63: － | R63: 否 | S63: 否 | Y63: 土砂堆積
C64: S23 | E64: 1 | F64: 228.5 | G64: 覆工 | H64: 側壁（左側） | I64: 漏水 | J64: 漏水 | M64: 2.2m×1.7m | N64: 2.0m×0.8m | O64: Ⅱb | Q64: Ⅱb | R64: 否 | S64: 否 | T64: 継続 | U64: 監視(日常巡視) | Y64: 漏水跡
C65: S23 | E65: 2 | F65: 230.5 | G65: 覆工 | H65: 側壁（左側） | I65: 漏水 | J65: 漏水 | M65: 1.9m×1.3m | N65: 1.9m×0.3m | O65: Ⅱb | Q65: Ⅱb | R65: 否 | S65: 否 | T65: 継続 | U65: 監視(日常巡視)
C66: S23 | E66: 3 | F66: 232 | G66: 覆工 | H66: 側壁（左側） | I66: 漏水 | J66: 漏水 | M66: 1.7m×0.9m | N66: 1.6m×0.5m | O66: Ⅱb | Q66: Ⅱb | R66: 否 | S66: 否 | T66: 継続 | U66: 監視(日常巡視) | Y66: 漏水跡
C67: S23 | E67: 4 | F67: 228 | G67: 覆工 | H67: 側壁（左側） | I67: 外力 | J67: 圧ざ、ひび割れ | M67: 10.5m×1.0mm | N67: － | O67: － | Q67: Ⅱb | R67: 否 | S67: 否 | T67: 継続 | U67: 監視(日常巡視) | Y67: 幅1.0mm、長さ10.5m
C68: S23 | E68: 5 | F68: 233 | G68: 覆工 | H68: 側壁（左側） | I68: 漏水 | J68: 漏水 | M68: 2.4m×0.5m | N68: 1.6m×0.9m | O68: Ⅱb | Q68: Ⅱb | R68: 否 | S68: 否 | T68: 継続 | U68: 監視(日常巡視)
C69: S23 | E69: 6 | F69: 235 | G69: 覆工 | H69: 側壁（左側） | I69: 漏水 | J69: 漏水 | M69: 1.9m×2.4m | N69: 1.5m×0.5m、1.9m×0.3m | O69: Ⅱb | Q69: Ⅱb | R69: 否 | S69: 否 | T69: 継続 | U69: 監視(日常巡視) | Y69: 漏水跡
C70: S23 | E70: 7 | F70: 228 | G70: 路面 | H70: 側溝 | J70: その他 | M70: － | N70: 0.1m×10.5m | O70: Ⅱb | R70: 否 | S70: 否 | Y70: 土砂堆積
C71: S23 | E71: 8 | F71: 228 | G71: 路面 | H71: 側溝 | J71: その他 | M71: － | N71: － | O71: － | R71: 否 | S71: 否 | Y71: 土砂堆積
C72: S24 | E72: 1 | F72: 243.5 | G72: 覆工 | H72: 側壁（左側） | I72: 漏水 | J72: 漏水 | M72: 1.5m×0.6m | N72: 1.5m×0.6m | O72: Ⅱb | Q72: Ⅱb | R72: 否 | S72: 否 | T72: 継続 | U72: 監視(日常巡視)
C73: S24 | E73: 2 | F73: 238.5 | G73: 覆工 | H73: 側壁（左側） | I73: 外力 | J73: 圧ざ、ひび割れ | M73: 10.5m×0.5mm | N73: － | O73: － | Q73: Ⅱb | R73: 否 | S73: 否 | T73: 継続 | U73: 監視(日常巡視) | Y73: 幅0.5mm、長さ10.5m
C74: S24 | E74: 3 | F74: 246 | G74: 覆工 | H74: 側壁（左側） | I74: 漏水 | J74: 漏水 | M74: 1.8m×0.8m | N74: 1.6m×0.3m | O74: Ⅱb | Q74: Ⅱb | R74: 否 | S74: 否 | T74: 継続 | U74: 監視(日常巡視) | Y74: 漏水跡
C75: S24 | E75: 4 | F75: 248 | G75: 覆工 | H75: 側壁（左側） | I75: 漏水 | J75: 漏水 | M75: 2.0m×1.7m | N75: 1.8m×1.0m、2.1m×0.9m | O75: Ⅱb | Q75: Ⅱb | R75: 否 | S75: 否 | T75: 継続 | U75: 監視(日常巡視)
C76: S24 | E76: 5 | F76: 238.5 | G76: 路面 | H76: 側溝 | J76: その他 | M76: － | N76: 0.1m×3.5m | O76: Ⅱb | R76: 否 | S76: 否 | Y76: 土砂堆積
C77: S24 | E77: 6 | F77: 238.5 | G77: 路面 | H77: 側溝 | J77: その他 | M77: － | N77: － | O77: － | R77: 否 | S77: 否 | Y77: 土砂堆積
C78: S25 | E78: 1 | F78: 253 | G78: 覆工 | H78: 側壁（左側） | I78: 漏水 | J78: 漏水 | M78: 1.9m×0.7m | N78: 1.6m×0.6m | O78: Ⅱb | Q78: Ⅱb | R78: 否 | S78: 否 | T78: 継続 | U78: 監視(日常巡視) | Y78: 漏水跡
C79: S25 | E79: 2 | F79: 249 | G79: 覆工 | H79: 側壁（左側） | I79: 外力 | J79: 圧ざ、ひび割れ | M79: 10.5m×0.4mm | N79: － | O79: － | Q79: Ⅱb | R79: 否 | S79: 否 | T79: 継続 | U79: 監視(日常巡視) | Y79: 幅0.4mm、長さ10.5m
C80: S25 | E80: 3 | F80: 255.5 | G80: 覆工 | H80: 側壁（左側） | I80: 漏水 | J80: 漏水 | M80: 1.8m×2.7m | N80: 1.7m×0.5m、1.7m×1.5m | O80: Ⅱb | Q80: Ⅱb | R80: 否 | S80: 否 | T80: 継続 | U80: 監視(日常巡視) | Y80: 漏水跡
C81: S25 | E81: 4 | F81: 259.5 | G81: 覆工 | H81: 横断目地（左側） | I81: 漏水 | J81: 漏水 | M81: 5.7m×0.5m | N81: 5.5m×0.1m | O81: Ⅱb | Q81: Ⅱb | R81: 否 | S81: 否 | T81: 継続 | U81: 監視(日常巡視) | Y81: 漏水跡
C82: S25 | E82: 5 | F82: 249 | G82: 路面 | H82: 側溝 | J82: その他 | M82: － | N82: － | O82: － | R82: 否 | S82: 否 | Y82: 土砂堆積
C83: S25 | E83: 6 | F83: 249 | G83: 路面 | H83: 側溝 | J83: その他 | M83: － | N83: － | O83: － | R83: 否 | S83: 否 | Y83: 土砂堆積
C84: S26 | E84: 1 | F84: 262 | G84: 覆工 | H84: アーチ（左側） | I84: 漏水 | J84: 漏水 | M84: 3.1m×4.3m | N84: 2.7m×1.5m | O84: Ⅱb | Q84: Ⅱb | R84: 否 | S84: 否 | T84: 継続 | U84: 監視(日常巡視) | Y84: 漏水跡
C85: S26 | E85: 2 | F85: 259.5 | G85: 覆工 | H85: 側壁（左側） | I85: 外力 | J85: 圧ざ、ひび割れ | M85: 10.5m×0.4mm | N85: － | O85: － | Q85: Ⅱb | R85: 否 | S85: 否 | T85: 継続 | U85: 監視(日常巡視) | Y85: 幅0.4mm、長さ10.5m
C86: S26 | E86: 3 | F86: 259.5 | G86: 路面 | H86: 側溝 | J86: その他 | M86: － | N86: － | O86: － | R86: 否 | S86: 否 | Y86: 土砂堆積
C87: S27 | E87: 1 | F87: 270.5 | G87: 覆工 | H87: 側壁（左側） | I87: 漏水 | J87: 漏水 | M87: 2.2m×1.3m | N87: 2.1m×0.3m、2.0m×0.2m | O87: Ⅱb | Q87: Ⅱb | R87: 否 | S87: 否 | T87: 継続 | U87: 監視(日常巡視) | Y87: 漏水跡
C88: S27 | E88: 2 | F88: 270 | G88: 覆工 | H88: 側壁（左側） | I88: 外力 | J88: 圧ざ、ひび割れ | M88: 10.5m×0.2mm | N88: － | O88: － | Q88: Ⅱb | R88: 否 | S88: 否 | T88: 継続 | U88: 監視(日常巡視) | Y88: 幅0.2mm、長さ10.5m
C89: S27 | E89: 3 | F89: 279.5 | G89: 覆工 | H89: 側壁（左側） | I89: 漏水 | J89: 漏水 | M89: 1.7m×0.6m | N89: 1.6m×0.4m | O89: Ⅱb | Q89: Ⅱb | R89: 否 | S89: 否 | T89: 継続 | U89: 監視(日常巡視) | Y89: 漏水跡
C90: ※ 対策区分（応急措置後）のⅡb～Ⅳについて記入すること。また、点検前に実施された措置によりⅠと判定された変状も記入すること。
C91: ※ 応急措置を実施しないで判定した変状の対策区分は、対策区分の応急措置後の欄に記入すること。
C92: ※ 変状の除去が不完全で、緊急対応が必要な場合は対応方針欄に記入すること。
C93: ※ １区間の覆工に複数の変状がある場合は、変状箇所毎に記入すること。
C94: ※ 措置・監視点検を行った場合には、措置履歴、特記事項に記録を残すこと。（実施年度も記載）
C95: ※ 行が不足する場合は、適時、表の行を増やすこと。
B96: ■定期点検記録様式 全スパン定期点検結果総括表（トンネル本体工） 【様式C-1-1】
B97: フリガナ | F97: =+'様式A-1'!$D$3 -> セキセキトンネル | I97: 路線名 | K97: =+'様式A-1'!$J$3 -> 主要地方道岩国大竹線 | O97: 定期点検実施者 | P97: =+'様式B (1)'!$S$3 -> 復建調査設計株式会社 | T97: 定期点検年月日 | X97: =+'様式B (1)'!$P$2 -> 45853
B98: 名 称 | F98: =+'様式A-1'!$D$4 -> 関々トンネル | I98: 管理者名 | K98: =+'様式A-1'!$R$3 -> 山口県岩国土木建築事務所 | P98: =+'様式B (1)'!$S$4 -> 小笠原洋
B99: 定期点検結果 | C99: 覆工 スパン 番号 | E99: 変状 番号 | F99: 距離 （m） | G99: 変状部位 | I99: 変 状 の 内 容 | O99: 前回定期点検時の状態 | P99: 今回定期点検結果 | T99: 措置履歴 | Y99: 対応方針 ・ 特記事項
G101: 対象箇所 | H101: 部位区分 | I101: 変状区分 | J101: 変状種類 | M101: 変状の発生範囲の規模 | N101: 前回定期点検時の変状の発生範囲及び規模 | O101: 対策区分 | P101: 対策区分 | R101: 調査の 要否 | S101: 措置の 要否 | T101: 実施 | U101: 措置の実施状況
P102: 応急措置前 | Q102: 応急措置後
C103: S27 | E103: 4 | F103: 270 | G103: 路面 | H103: 側溝 | J103: その他 | M103: － | N103: － | O103: － | R103: 否 | S103: 否 | Y103: 土砂堆積
C104: S28 | E104: 1 | F104: 280.5 | G104: 覆工 | H104: 側壁（左側） | I104: 外力 | J104: 圧ざ、ひび割れ | M104: 10.5m×0.5mm | N104: － | O104: － | Q104: Ⅱb | R104: 否 | S104: 否 | T104: 継続 | U104: 監視(日常巡視) | Y104: 幅0.5mm、長さ10.5m
...

Sheet 様式C-1-2
B2: ■定期点検記録様式 定期点検結果総括表（トンネル内附属物等の取付状態） 【様式C-1-2】
B3: フリガナ | F3: =+'様式A-1'!$D$3 -> セキセキトンネル | J3: 路線名 | K3: =+'様式A-1'!$J$3 -> 主要地方道岩国大竹線 | M3: 定期点検実施者 | O3: =+'様式B (1)'!$S$3 -> 復建調査設計株式会社 | S3: 定期点検年月日 | W3: =+'様式B (1)'!$P$2 -> 45853
B4: 名 称 | F4: =+'様式A-1'!$D$4 -> 関々トンネル | J4: 管理者名 | K4: =+'様式A-1'!$R$3 -> 山口県岩国土木建築事務所 | O4: =+'様式B (1)'!$S$4 -> 小笠原洋
B5: 定期点検結果 | C5: 覆工 スパン 番号 | E5: 異常 番号 | F5: 距離 （m） | G5: 異常部位 | J5: 異 常 の 内 容 | N5: 定期点検結果 | P5: 応急措置の 実施状況 | V5: 対応方針 ・ 特記事項
G6: 対象箇所 | I6: 部位区分 | J6: 異常種類 | L6: 異常の発生範囲の規模 | N6: 異常判定区分 | P6: 実施 | Q6: 応急措置の内容
N7: 応急措置前 | O7: 応急措置後
C8: 附S26 | E8: 1 | F8: 263 | G8: 非常用施設 | H8: 通話型通報設備 | I8: 附属物本体 | J8: 腐食 | L8: １箇所 | O8: × | P8: 未
C42: ※ 異常判定区分×について記入すること。また、応急措置により○と判定された箇所も記入すること。
C43: ※ 応急措置を実施しないで判定した箇所の異常判定区分は、異常判定区分の応急措置後の欄に記入すること。
C44: ※ 異常の除去が不完全で、緊急対応が必要な場合は対応方針欄に記入すること。
C45: ※ １スパンの覆工に複数の異常がある場合は、異常箇所毎に記入すること。
C46: ※ 行が不足する場合は、適時、表の行を増やすこと。

Sheet 様式C-2
B2: ■定期点検記録様式 状態の把握の内容 【様式C-2】
B3: フリガナ | E3: =+'様式A-1'!$D$3 -> セキセキトンネル | H3: 路線名 | J3: =+'様式A-1'!$J$3 -> 主要地方道岩国大竹線 | M3: 定期点検実施者 | Q3: =+'様式B (1)'!$S$3 -> 復建調査設計株式会社 | U3: 定期点検年月日 | X3: =+'様式B (1)'!$P$2 -> 45853
B4: 名 称 | E4: =+'様式A-1'!$D$4 -> 関々トンネル | H4: 管理者名 | J4: =+'様式A-1'!$R$3 -> 山口県岩国土木建築事務所 | Q4: =+'様式B (1)'!$S$4 -> 小笠原洋
B5: 状態の把握の内容 | C5: 覆工スパン 番号 | E5: 変状 番号 | F5: 状態の把握の内容
F6: 年月日 | H6: 内容 | O6: 結果 | Y6: 対策区分の 判定
B22: 注）状態の把握において、微破壊・非破壊検査や各種試験等を実施した場合について記載する。
B23: ※ 行が不足する場合は、適時、表の行を増やすこと。

Sheet 様式D-1-1 (1)
B2: ■定期点検記録様式 変状写真台帳【様式D-1-1】 | R2: 施設ID | T2: =+'様式A-1'!$W$2 -> 34.19214,132.18042
B3: フリガナ | E3: =+'様式A-1'!$D$3 -> セキセキトンネル | H3: 路 線 名 | J3: =+'様式A-1'!$J$3 -> 主要地方道岩国大竹線 | M3: 定期点検実施者 | P3: =+'様式B (1)'!$S$3 -> 復建調査設計株式会社 | S3: 定期点検年月日 | U3: =+'様式B (1)'!$P$2 -> 45853
B4: 名 称 | E4: =+'様式A-1'!$D$4 -> 関々トンネル | H4: 管理者名 | J4: =+'様式A-1'!$R$3 -> 山口県岩国土木建築事務所 | P4: =+'様式B (1)'!$S$4 -> 小笠原洋
B5: 写真 番号 | C5: 覆工スパン 番号 | E5: S1 | M5: 写真 番号 | N5: 覆工スパン 番号 | P5: S1
C6: 変状番号 | E6: 1 | N6: 変状番号 | P6: 2
B7: 変状 部位 | C7: 対象箇所 | E7: 覆工 | M7: 変状 部位 | N7: 対象箇所 | P7: 路面
C8: 部位区分 | E8: アーチ（天端） | N8: 部位区分 | P8: 側溝
B9: 変状種類 | E9: うき・はく離 | M9: 変状種類 | P9: その他
B10: 対策 区分 | C10: 変状区分 | E10: 材質劣化 | M10: 対策 区分 | N10: 変状区分
C11: 応急措置前 | N11: 応急措置前
C12: 応急措置後 | E12: Ⅱb | N12: 応急措置後
B13: 変状の発生範囲及び規模 | E13: 1.35m×2.7m | H13: 前回変状の発生範囲及び規模 | J13: 1.0m×2.5m | M13: 変状の発生範囲及び規模 | P13: － | S13: 前回変状の発生範囲及び規模 | U13: 0.1m×7.5m
B14: 対策履歴 | E14: 監視(日常巡視) | H14: 実施状況（実施日） | M14: 対策履歴 | S14: 実施状況（実施日）
B15: メモ | E15: 1.35m×2.7mの閉合してブロック化したひび割れ、打音異常なし、進行は確認されない （写真番号S1-1・前回Ⅱb判定） | M15: メモ | P15: 0.1m×7.5mの左側側溝の土砂堆積 （写真番号S1-2・前回Ⅱb判定）
B16: 写真 番号 | C16: 覆工スパン 番号 | E16: S2 | M16: 写真 番号 | N16: 覆工スパン 番号 | P16: S3
C17: 変状番号 | E17: 1 | N17: 変状番号 | P17: 1
B18: 変状 部位 | C18: 対象箇所 | E18: 路面 | M18: 変状 部位 | N18: 対象箇所 | P18: 覆工
C19: 部位区分 | E19: 側溝 | N19: 部位区分 | P19: 側壁（右側）
B20: 変状種類 | E20: その他 | M20: 変状種類 | P20: 鋼材腐食
B21: 対策 区分 | C21: 変状区分 | M21: 対策 区分 | N21: 変状区分 | P21: 材質劣化
C22: 応急措置前 | N22: 応急措置前
C23: 応急措置後 | N23: 応急措置後 | P23: Ⅱb
B24: 変状の発生範囲及び規模 | E24: － | H24: 前回変状の発生範囲及び規模 | J24: 0.1m×10.5m | M24: 変状の発生範囲及び規模 | P24: 0.1m×0.1m | S24: 前回変状の発生範囲及び規模 | U24: 0.1m×0.1m
B25: 対策履歴 | H25: 実施状況（実施日） | M25: 対策履歴 | P25: 監視(日常巡視) | S25: 実施状況（実施日）
B26: メモ | E26: 0.1m×10.5mの左側側溝の土砂堆積 （写真番号S2-1・前回Ⅱb判定） | M26: メモ | P26: 0.1m×0.1mの鋼材腐食、鋼材の表面的な錆び、構造鉄筋の可能性は低い （写真番号S3-1・前回Ⅱb判定）
C27: ※ 応急措置後の対策区分について添付すること。また、点検前に 実施された措置によりⅠと判定された箇所も添付すること。 | N27: ※ 変状の発生範囲の規模とは、対策を行う際に参考となる変状の長さや面積をいう。
N28: ※ 応急措置を実施しないで決定した変状の対策区分は、対策区分の応急措置後の欄に記入すること。
C29: ※ たたき落としを実施した場合は、実施後の写真を添付すること。 | N29: ※ 変状の発生範囲の規模は、面積・寸法を記載すること。(ひび割れ幅のみmmとし、その他をm表記とする)
C30: ※ 附属物の取付状態に関する異常写真は別途、任意の書式でとりまとめること。 | N30: ※ 構造用鋼材以外の異物に伴ううき・はく離については、メモ欄に異物の概要を記入すること。

Sheet 様式D-1-1 (2)
B2: ■定期点検記録様式 変状写真台帳【様式D-1-1】 | R2: 施設ID | T2: =+'様式A-1'!$W$2 -> 34.19214,132.18042
B3: フリガナ | E3: =+'様式A-1'!$D$3 -> セキセキトンネル | H3: 路 線 名 | J3: =+'様式A-1'!$J$3 -> 主要地方道岩国大竹線 | M3: 定期点検実施者 | P3: =+'様式B (1)'!$S$3 -> 復建調査設計株式会社 | S3: 定期点検年月日 | U3: =+'様式B (1)'!$P$2 -> 45853
B4: 名 称 | E4: =+'様式A-1'!$D$4 -> 関々トンネル | H4: 管理者名 | J4: =+'様式A-1'!$R$3 -> 山口県岩国土木建築事務所 | P4: =+'様式B (1)'!$S$4 -> 小笠原洋
B5: 写真 番号 | C5: 覆工スパン 番号 | E5: S3 | M5: 写真 番号 | N5: 覆工スパン 番号 | P5: S3
C6: 変状番号 | E6: 2 | N6: 変状番号 | P6: 3
B7: 変状 部位 | C7: 対象箇所 | E7: 路面 | M7: 変状 部位 | N7: 対象箇所 | P7: 路面
C8: 部位区分 | E8: 側溝 | N8: 部位区分 | P8: 側溝
B9: 変状種類 | E9: その他 | M9: 変状種類 | P9: その他
B10: 対策 区分 | C10: 変状区分 | M10: 対策 区分 | N10: 変状区分
C11: 応急措置前 | N11: 応急措置前
C12: 応急措置後 | N12: 応急措置後
B13: 変状の発生範囲及び規模 | E13: － | H13: 前回変状の発生範囲及び規模 | J13: 0.1m×10.5m | M13: 変状の発生範囲及び規模 | P13: － | S13: 前回変状の発生範囲及び規模 | U13: 0.1m×10.5m
B14: 対策履歴 | H14: 実施状況（実施日） | M14: 対策履歴 | S14: 実施状況（実施日）
B15: メモ | E15: 0.1m×10.5mの左側側溝の土砂堆積 （写真番号S3-2・前回Ⅱb判定） | M15: メモ | P15: 0.1m×10.5mの右側側溝の土砂堆積 （写真番号S3-3・前回Ⅱb判定）
B16: 写真 番号 | C16: 覆工スパン 番号 | E16: S4 | M16: 写真 番号 | N16: 覆工スパン 番号 | P16: S4
C17: 変状番号 | E17: 1 | N17: 変状番号 | P17: 2
B18: 変状 部位 | C18: 対象箇所 | E18: 路面 | M18: 変状 部位 | N18: 対象箇所 | P18: 路面
C19: 部位区分 | E19: 側溝 | N19: 部位区分 | P19: 側溝
B20: 変状種類 | E20: その他 | M20: 変状種類 | P20: その他
B21: 対策 区分 | C21: 変状区分 | M21: 対策 区分 | N21: 変状区分
C22: 応急措置前 | N22: 応急措置前
C23: 応急措置後 | N23: 応急措置後
B24: 変状の発生範囲及び規模 | E24: － | H24: 前回変状の発生範囲及び規模 | J24: 0.1m×10.5m | M24: 変状の発生範囲及び規模 | P24: － | S24: 前回変状の発生範囲及び規模 | U24: 0.1m×10.5m
B25: 対策履歴 | H25: 実施状況（実施日） | M25: 対策履歴 | S25: 実施状況（実施日）
B26: メモ | E26: 0.1m×10.5mの左側側溝の土砂堆積 （写真番号S4-1・前回Ⅱb判定） | M26: メモ | P26: 0.1m×10.5mの右側側溝の土砂堆積 （写真番号S4-2・前回Ⅱb判定）
C27: ※ 応急措置後の対策区分について添付すること。また、点検前に 実施された措置によりⅠと判定された箇所も添付すること。 | N27: ※ 変状の発生範囲の規模とは、対策を行う際に参考となる変状の長さや面積をいう。
N28: ※ 応急措置を実施しないで決定した変状の対策区分は、対策区分の応急措置後の欄に記入すること。
C29: ※ たたき落としを実施した場合は、実施後の写真を添付すること。 | N29: ※ 変状の発生範囲の規模は、面積・寸法を記載すること。(ひび割れ幅のみmmとし、その他をm表記とする)
C30: ※ 附属物の取付状態に関する異常写真は別途、任意の書式でとりまとめること。 | N30: ※ 構造用鋼材以外の異物に伴ううき・はく離については、メモ欄に異物の概要を記入すること。

Sheet 様式D-1-1 (3)
B2: ■定期点検記録様式 変状写真台帳【様式D-1-1】 | R2: 施設ID | T2: =+'様式A-1'!$W$2 -> 34.19214,132.18042
B3: フリガナ | E3: =+'様式A-1'!$D$3 -> セキセキトンネル | H3: 路 線 名 | J3: =+'様式A-1'!$J$3 -> 主要地方道岩国大竹線 | M3: 定期点検実施者 | P3: =+'様式B (1)'!$S$3 -> 復建調査設計株式会社 | S3: 定期点検年月日 | U3: =+'様式B (1)'!$P$2 -> 45853
B4: 名 称 | E4: =+'様式A-1'!$D$4 -> 関々トンネル | H4: 管理者名 | J4: =+'様式A-1'!$R$3 -> 山口県岩国土木建築事務所 | P4: =+'様式B (1)'!$S$4 -> 小笠原洋
B5: 写真 番号 | C5: 覆工スパン 番号 | E5: S5 | M5: 写真 番号 | N5: 覆工スパン 番号 | P5: S5
C6: 変状番号 | E6: 1 | N6: 変状番号 | P6: 2
B7: 変状 部位 | C7: 対象箇所 | E7: 路面 | M7: 変状 部位 | N7: 対象箇所 | P7: 路面
C8: 部位区分 | E8: 側溝 | N8: 部位区分 | P8: 側溝
B9: 変状種類 | E9: その他 | M9: 変状種類 | P9: その他
B10: 対策 区分 | C10: 変状区分 | M10: 対策 区分 | N10: 変状区分
C11: 応急措置前 | N11: 応急措置前
C12: 応急措置後 | N12: 応急措置後
B13: 変状の発生範囲及び規模 | E13: － | H13: 前回変状の発生範囲及び規模 | J13: 0.1m×10.5m | M13: 変状の発生範囲及び規模 | P13: － | S13: 前回変状の発生範囲及び規模 | U13: 0.1m×7.0m
B14: 対策履歴 | H14: 実施状況（実施日） | M14: 対策履歴 | S14: 実施状況（実施日）
B15: メモ | E15: 0.1m×10.5mの左側側溝の土砂堆積 （写真番号S5-1・前回Ⅱb判定） | M15: メモ | P15: 0.1m×10.5mの右側側溝の土砂堆積 （写真番号S5-2・前回Ⅱb判定）
B16: 写真 番号 | C16: 覆工スパン 番号 | E16: S6 | M16: 写真 番号 | N16: 覆工スパン 番号 | P16: S7
C17: 変状番号 | E17: 1 | N17: 変状番号 | P17: 1
B18: 変状 部位 | C18: 対象箇所 | E18: 路面 | M18: 変状 部位 | N18: 対象箇所 | P18: 路面
C19: 部位区分 | E19: 側溝 | N19: 部位区分 | P19: 側溝
B20: 変状種類 | E20: その他 | M20: 変状種類 | P20: その他
B21: 対策 区分 | C21: 変状区分 | M21: 対策 区分 | N21: 変状区分
C22: 応急措置前 | N22: 応急措置前
C23: 応急措置後 | N23: 応急措置後
B24: 変状の発生範囲及び規模 | E24: － | H24: 前回変状の発生範囲及び規模 | J24: 0.1m×10.5m | M24: 変状の発生範囲及び規模 | P24: － | S24: 前回変状の発生範囲及び規模 | U24: 0.1m×10.5m
B25: 対策履歴 | H25: 実施状況（実施日） | M25: 対策履歴 | S25: 実施状況（実施日）
B26: メモ | E26: 0.1m×10.5mの左側側溝の土砂堆積 （写真番号S6-1・前回Ⅱb判定） | M26: メモ | P26: 0.1m×10.5mの左側側溝の土砂堆積 （写真番号S7-1・前回Ⅱb判定）
C27: ※ 応急措置後の対策区分について添付すること。また、点検前に 実施された措置によりⅠと判定された箇所も添付すること。 | N27: ※ 変状の発生範囲の規模とは、対策を行う際に参考となる変状の長さや面積をいう。
N28: ※ 応急措置を実施しないで決定した変状の対策区分は、対策区分の応急措置後の欄に記入すること。
C29: ※ たたき落としを実施した場合は、実施後の写真を添付すること。 | N29: ※ 変状の発生範囲の規模は、面積・寸法を記載すること。(ひび割れ幅のみmmとし、その他をm表記とする)
C30: ※ 附属物の取付状態に関する異常写真は別途、任意の書式でとりまとめること。 | N30: ※ 構造用鋼材以外の異物に伴ううき・はく離については、メモ欄に異物の概要を記入すること。

Sheet 様式D-1-1 (4)
B2: ■定期点検記録様式 変状写真台帳【様式D-1-1】 | R2: 施設ID | T2: =+'様式A-1'!$W$2 -> 34.19214,132.18042
B3: フリガナ | E3: =+'様式A-1'!$D$3 -> セキセキトンネル | H3: 路 線 名 | J3: =+'様式A-1'!$J$3 -> 主要地方道岩国大竹線 | M3: 定期点検実施者 | P3: =+'様式B (1)'!$S$3 -> 復建調査設計株式会社 | S3: 定期点検年月日 | U3: =+'様式B (1)'!$P$2 -> 45853
B4: 名 称 | E4: =+'様式A-1'!$D$4 -> 関々トンネル | H4: 管理者名 | J4: =+'様式A-1'!$R$3 -> 山口県岩国土木建築事務所 | P4: =+'様式B (1)'!$S$4 -> 小笠原洋
B5: 写真 番号 | C5: 覆工スパン 番号 | E5: S8 | M5: 写真 番号 | N5: 覆工スパン 番号 | P5: S9
C6: 変状番号 | E6: 1 | N6: 変状番号 | P6: 1
B7: 変状 部位 | C7: 対象箇所 | E7: 路面 | M7: 変状 部位 | N7: 対象箇所 | P7: 覆工
C8: 部位区分 | E8: 側溝 | N8: 部位区分 | P8: アーチ（右側）
B9: 変状種類 | E9: その他 | M9: 変状種類 | P9: 鋼材腐食
B10: 対策 区分 | C10: 変状区分 | M10: 対策 区分 | N10: 変状区分 | P10: 材質劣化
C11: 応急措置前 | N11: 応急措置前
C12: 応急措置後 | N12: 応急措置後 | P12: Ⅱb
B13: 変状の発生範囲及び規模 | E13: － | H13: 前回変状の発生範囲及び規模 | J13: 0.1m×10.5m | M13: 変状の発生範囲及び規模 | P13: 0.05m×0.05m | S13: 前回変状の発生範囲及び規模 | U13: 0.05m×0.05m
B14: 対策履歴 | H14: 実施状況（実施日） | M14: 対策履歴 | P14: 監視(日常巡視) | S14: 実施状況（実施日）
B15: メモ | E15: 0.1m×10.5mの左側側溝の土砂堆積 （写真番号S8-1・前回Ⅱb判定） | M15: メモ | P15: 0.05m×0.05mの鋼材腐食、鋼材の表面的な錆び、構造鉄筋の可能性は低い （写真番号S9-1・前回Ⅱb判定）
B16: 写真 番号 | C16: 覆工スパン 番号 | E16: S9 | M16: 写真 番号 | N16: 覆工スパン 番号 | P16: S9
C17: 変状番号 | E17: 2 | N17: 変状番号 | P17: 3
B18: 変状 部位 | C18: 対象箇所 | E18: 覆工 | M18: 変状 部位 | N18: 対象箇所 | P18: 路面
C19: 部位区分 | E19: 側壁（右側） | N19: 部位区分 | P19: 側溝
B20: 変状種類 | E20: 漏水 | M20: 変状種類 | P20: その他
B21: 対策 区分 | C21: 変状区分 | E21: 漏水 | M21: 対策 区分 | N21: 変状区分
C22: 応急措置前 | N22: 応急措置前
C23: 応急措置後 | E23: Ⅱb | N23: 応急措置後
B24: 変状の発生範囲及び規模 | E24: 1.8m×1.7m | H24: 前回変状の発生範囲及び規模 | J24: 1.8m×1.5m | M24: 変状の発生範囲及び規模 | P24: － | S24: 前回変状の発生範囲及び規模 | U24: 0.1m×10.5m
B25: 対策履歴 | E25: 監視(日常巡視) | H25: 実施状況（実施日） | M25: 対策履歴 | S25: 実施状況（実施日）
B26: メモ | E26: ひび割れからの漏水跡 （写真番号S9-2・前回Ⅱb判定） | M26: メモ | P26: 0.1m×10.5mの左側側溝の土砂堆積 （写真番号S9-3・前回Ⅱb判定）
C27: ※ 応急措置後の対策区分について添付すること。また、点検前に 実施された措置によりⅠと判定された箇所も添付すること。 | N27: ※ 変状の発生範囲の規模とは、対策を行う際に参考となる変状の長さや面積をいう。
N28: ※ 応急措置を実施しないで決定した変状の対策区分は、対策区分の応急措置後の欄に記入すること。
C29: ※ たたき落としを実施した場合は、実施後の写真を添付すること。 | N29: ※ 変状の発生範囲の規模は、面積・寸法を記載すること。(ひび割れ幅のみmmとし、その他をm表記とする)
C30: ※ 附属物の取付状態に関する異常写真は別途、任意の書式でとりまとめること。 | N30: ※ 構造用鋼材以外の異物に伴ううき・はく離については、メモ欄に異物の概要を記入すること。

Sheet 様式D-1-1 (5)
B2: ■定期点検記録様式 変状写真台帳【様式D-1-1】 | R2: 施設ID | T2: =+'様式A-1'!$W$2 -> 34.19214,132.18042
B3: フリガナ | E3: =+'様式A-1'!$D$3 -> セキセキトンネル | H3: 路 線 名 | J3: =+'様式A-1'!$J$3 -> 主要地方道岩国大竹線 | M3: 定期点検実施者 | P3: =+'様式B (1)'!$S$3 -> 復建調査設計株式会社 | S3: 定期点検年月日 | U3: =+'様式B (1)'!$P$2 -> 45853
B4: 名 称 | E4: =+'様式A-1'!$D$4 -> 関々トンネル | H4: 管理者名 | J4: =+'様式A-1'!$R$3 -> 山口県岩国土木建築事務所 | P4: =+'様式B (1)'!$S$4 -> 小笠原洋
B5: 写真 番号 | C5: 覆工スパン 番号 | E5: S10 | M5: 写真 番号 | N5: 覆工スパン 番号 | P5: S10
C6: 変状番号 | E6: 1 | N6: 変状番号 | P6: 2
B7: 変状 部位 | C7: 対象箇所 | E7: 覆工 | M7: 変状 部位 | N7: 対象箇所 | P7: 路面
C8: 部位区分 | E8: 側壁（右側） | N8: 部位区分 | P8: 側溝
B9: 変状種類 | E9: うき・はく離 | M9: 変状種類 | P9: その他
B10: 対策 区分 | C10: 変状区分 | E10: 材質劣化 | M10: 対策 区分 | N10: 変状区分
C11: 応急措置前 | N11: 応急措置前
C12: 応急措置後 | E12: Ⅱb | N12: 応急措置後
B13: 変状の発生範囲及び規模 | E13: 0.4m×0.1m | H13: 前回変状の発生範囲及び規模 | J13: 0.4m×0.1m | M13: 変状の発生範囲及び規模 | P13: － | S13: 前回変状の発生範囲及び規模 | U13: 0.1m×10.5m
B14: 対策履歴 | E14: 監視(日常巡視) | H14: 実施状況（実施日） | M14: 対策履歴 | S14: 実施状況（実施日）
B15: メモ | E15: 0.4m×0.1mの横断方向目地に閉合してブロック化したひび割れ、打音異常なし、進行は確認されない （写真番号S10-1・前回Ⅱb判定） | M15: メモ | P15: 0.1m×10.5mの左側側溝の土砂堆積 （写真番号S10-2・前回Ⅱb判定）
B16: 写真 番号 | C16: 覆工スパン 番号 | E16: S11 | M16: 写真 番号 | N16: 覆工スパン 番号 | P16: S11
C17: 変状番号 | E17: 1 | N17: 変状番号 | P17: 2
B18: 変状 部位 | C18: 対象箇所 | E18: 覆工 | M18: 変状 部位 | N18: 対象箇所 | P18: 路面
C19: 部位区分 | E19: 側壁（右側） | N19: 部位区分 | P19: 側溝
B20: 変状種類 | E20: 漏水 | M20: 変状種類 | P20: その他
B21: 対策 区分 | C21: 変状区分 | E21: 漏水 | M21: 対策 区分 | N21: 変状区分
C22: 応急措置前 | N22: 応急措置前
C23: 応急措置後 | E23: Ⅱb | N23: 応急措置後
B24: 変状の発生範囲及び規模 | E24: 1.5m×0.4m | H24: 前回変状の発生範囲及び規模 | J24: 1.7m×1.1m | M24: 変状の発生範囲及び規模 | P24: － | S24: 前回変状の発生範囲及び規模 | U24: 0.1m×10.5m
B25: 対策履歴 | E25: 監視(日常巡視) | H25: 実施状況（実施日） | M25: 対策履歴 | S25: 実施状況（実施日）
B26: メモ | E26: 1.5m×0.4mのひび割れからの漏水、にじみ （写真番号S11-1・前回Ⅱb判定） | M26: メモ | P26: 0.1m×10.5mの左側側溝の土砂堆積 （写真番号S11-2・前回Ⅱb判定）
C27: ※ 応急措置後の対策区分について添付すること。また、点検前に 実施された措置によりⅠと判定された箇所も添付すること。 | N27: ※ 変状の発生範囲の規模とは、対策を行う際に参考となる変状の長さや面積をいう。
N28: ※ 応急措置を実施しないで決定した変状の対策区分は、対策区分の応急措置後の欄に記入すること。
C29: ※ たたき落としを実施した場合は、実施後の写真を添付すること。 | N29: ※ 変状の発生範囲の規模は、面積・寸法を記載すること。(ひび割れ幅のみmmとし、その他をm表記とする)
C30: ※ 附属物の取付状態に関する異常写真は別途、任意の書式でとりまとめること。 | N30: ※ 構造用鋼材以外の異物に伴ううき・はく離については、メモ欄に異物の概要を記入すること。

Sheet 様式D-1-1 (6)
B2: ■定期点検記録様式 変状写真台帳【様式D-1-1】 | R2: 施設ID | T2: =+'様式A-1'!$W$2 -> 34.19214,132.18042
B3: フリガナ | E3: =+'様式A-1'!$D$3 -> セキセキトンネル | H3: 路 線 名 | J3: =+'様式A-1'!$J$3 -> 主要地方道岩国大竹線 | M3: 定期点検実施者 | P3: =+'様式B (1)'!$S$3 -> 復建調査設計株式会社 | S3: 定期点検年月日 | U3: =+'様式B (1)'!$P$2 -> 45853
B4: 名 称 | E4: =+'様式A-1'!$D$4 -> 関々トンネル | H4: 管理者名 | J4: =+'様式A-1'!$R$3 -> 山口県岩国土木建築事務所 | P4: =+'様式B (1)'!$S$4 -> 小笠原洋
B5: 写真 番号 | C5: 覆工スパン 番号 | E5: S12 | M5: 写真 番号 | N5: 覆工スパン 番号 | P5: S12
C6: 変状番号 | E6: 1 | N6: 変状番号 | P6: 2
B7: 変状 部位 | C7: 対象箇所 | E7: 路面 | M7: 変状 部位 | N7: 対象箇所 | P7: 路面
C8: 部位区分 | E8: 側溝 | N8: 部位区分 | P8: 側溝
B9: 変状種類 | E9: その他 | M9: 変状種類 | P9: その他
B10: 対策 区分 | C10: 変状区分 | M10: 対策 区分 | N10: 変状区分
C11: 応急措置前 | N11: 応急措置前
C12: 応急措置後 | N12: 応急措置後
B13: 変状の発生範囲及び規模 | E13: － | H13: 前回変状の発生範囲及び規模 | J13: － | M13: 変状の発生範囲及び規模 | P13: － | S13: 前回変状の発生範囲及び規模 | U13: －
B14: 対策履歴 | H14: 実施状況（実施日） | M14: 対策履歴 | S14: 実施状況（実施日）
B15: メモ | E15: 0.1m×10.5mの左側側溝の土砂堆積 | M15: メモ | P15: 0.1m×10.5mの右側側溝の土砂堆積
B16: 写真 番号 | C16: 覆工スパン 番号 | E16: S13 | M16: 写真 番号 | N16: 覆工スパン 番号 | P16: S13
C17: 変状番号 | E17: 1 | N17: 変状番号 | P17: 2
B18: 変状 部位 | C18: 対象箇所 | E18: 路面 | M18: 変状 部位 | N18: 対象箇所 | P18: 路面
C19: 部位区分 | E19: 側溝 | N19: 部位区分 | P19: 側溝
B20: 変状種類 | E20: その他 | M20: 変状種類 | P20: その他
B21: 対策 区分 | C21: 変状区分 | M21: 対策 区分 | N21: 変状区分
C22: 応急措置前 | N22: 応急措置前
C23: 応急措置後 | N23: 応急措置後
B24: 変状の発生範囲及び規模 | E24: － | H24: 前回変状の発生範囲及び規模 | J24: － | M24: 変状の発生範囲及び規模 | P24: － | S24: 前回変状の発生範囲及び規模 | U24: －
B25: 対策履歴 | H25: 実施状況（実施日） | M25: 対策履歴 | S25: 実施状況（実施日）
B26: メモ | E26: 0.1m×10.5mの左側側溝の土砂堆積 | M26: メモ | P26: 0.1m×10.5mの右側側溝の土砂堆積
C27: ※ 応急措置後の対策区分について添付すること。また、点検前に 実施された措置によりⅠと判定された箇所も添付すること。 | N27: ※ 変状の発生範囲の規模とは、対策を行う際に参考となる変状の長さや面積をいう。
N28: ※ 応急措置を実施しないで決定した変状の対策区分は、対策区分の応急措置後の欄に記入すること。
C29: ※ たたき落としを実施した場合は、実施後の写真を添付すること。 | N29: ※ 変状の発生範囲の規模は、面積・寸法を記載すること。(ひび割れ幅のみmmとし、その他をm表記とする)
C30: ※ 附属物の取付状態に関する異常写真は別途、任意の書式でとりまとめること。 | N30: ※ 構造用鋼材以外の異物に伴ううき・はく離については、メモ欄に異物の概要を記入すること。

Sheet 様式D-1-1 (7)
B2: ■定期点検記録様式 変状写真台帳【様式D-1-1】 | R2: 施設ID | T2: =+'様式A-1'!$W$2 -> 34.19214,132.18042
B3: フリガナ | E3: =+'様式A-1'!$D$3 -> セキセキトンネル | H3: 路 線 名 | J3: =+'様式A-1'!$J$3 -> 主要地方道岩国大竹線 | M3: 定期点検実施者 | P3: =+'様式B (1)'!$S$3 -> 復建調査設計株式会社 | S3: 定期点検年月日 | U3: =+'様式B (1)'!$P$2 -> 45853
B4: 名 称 | E4: =+'様式A-1'!$D$4 -> 関々トンネル | H4: 管理者名 | J4: =+'様式A-1'!$R$3 -> 山口県岩国土木建築事務所 | P4: =+'様式B (1)'!$S$4 -> 小笠原洋
B5: 写真 番号 | C5: 覆工スパン 番号 | E5: S14 | M5: 写真 番号 | N5: 覆工スパン 番号 | P5: S15
C6: 変状番号 | E6: 1 | N6: 変状番号 | P6: 1
B7: 変状 部位 | C7: 対象箇所 | E7: 路面 | M7: 変状 部位 | N7: 対象箇所 | P7: 路面
C8: 部位区分 | E8: 側溝 | N8: 部位区分 | P8: 側溝
B9: 変状種類 | E9: その他 | M9: 変状種類 | P9: その他
B10: 対策 区分 | C10: 変状区分 | M10: 対策 区分 | N10: 変状区分
C11: 応急措置前 | N11: 応急措置前
C12: 応急措置後 | N12: 応急措置後
B13: 変状の発生範囲及び規模 | E13: － | H13: 前回変状の発生範囲及び規模 | J13: － | M13: 変状の発生範囲及び規模 | P13: － | S13: 前回変状の発生範囲及び規模 | U13: －
B14: 対策履歴 | H14: 実施状況（実施日） | M14: 対策履歴 | S14: 実施状況（実施日）
B15: メモ | E15: 0.1m×10.5mの右側側溝の土砂堆積 | M15: メモ | P15: 0.1m×10.5mの右側側溝の土砂堆積
B16: 写真 番号 | C16: 覆工スパン 番号 | E16: S16 | M16: 写真 番号 | N16: 覆工スパン 番号 | P16: S17
C17: 変状番号 | E17: 1 | N17: 変状番号 | P17: 1
B18: 変状 部位 | C18: 対象箇所 | E18: 路面 | M18: 変状 部位 | N18: 対象箇所 | P18: 路面
C19: 部位区分 | E19: 側溝 | N19: 部位区分 | P19: 側溝
B20: 変状種類 | E20: その他 | M20: 変状種類 | P20: その他
B21: 対策 区分 | C21: 変状区分 | M21: 対策 区分 | N21: 変状区分
C22: 応急措置前 | N22: 応急措置前
C23: 応急措置後 | N23: 応急措置後
B24: 変状の発生範囲及び規模 | E24: － | H24: 前回変状の発生範囲及び規模 | J24: － | M24: 変状の発生範囲及び規模 | P24: － | S24: 前回変状の発生範囲及び規模 | U24: －
B25: 対策履歴 | H25: 実施状況（実施日） | M25: 対策履歴 | S25: 実施状況（実施日）
B26: メモ | E26: 0.1m×10.5mの右側側溝の土砂堆積 | M26: メモ | P26: 0.1m×10.5mの右側側溝の土砂堆積
C27: ※ 応急措置後の対策区分について添付すること。また、点検前に 実施された措置によりⅠと判定された箇所も添付すること。 | N27: ※ 変状の発生範囲の規模とは、対策を行う際に参考となる変状の長さや面積をいう。
N28: ※ 応急措置を実施しないで決定した変状の対策区分は、対策区分の応急措置後の欄に記入すること。
C29: ※ たたき落としを実施した場合は、実施後の写真を添付すること。 | N29: ※ 変状の発生範囲の規模は、面積・寸法を記載すること。(ひび割れ幅のみmmとし、その他をm表記とする)
C30: ※ 附属物の取付状態に関する異常写真は別途、任意の書式でとりまとめること。 | N30: ※ 構造用鋼材以外の異物に伴ううき・はく離については、メモ欄に異物の概要を記入すること。

Sheet 様式D-1-1 (8)
B2: ■定期点検記録様式 変状写真台帳【様式D-1-1】 | R2: 施設ID | T2: =+'様式A-1'!$W$2 -> 34.19214,132.18042
B3: フリガナ | E3: =+'様式A-1'!$D$3 -> セキセキトンネル | H3: 路 線 名 | J3: =+'様式A-1'!$J$3 -> 主要地方道岩国大竹線 | M3: 定期点検実施者 | P3: =+'様式B (1)'!$S$3 -> 復建調査設計株式会社 | S3: 定期点検年月日 | U3: =+'様式B (1)'!$P$2 -> 45853
B4: 名 称 | E4: =+'様式A-1'!$D$4 -> 関々トンネル | H4: 管理者名 | J4: =+'様式A-1'!$R$3 -> 山口県岩国土木建築事務所 | P4: =+'様式B (1)'!$S$4 -> 小笠原洋
B5: 写真 番号 | C5: 覆工スパン 番号 | E5: S18 | M5: 写真 番号 | N5: 覆工スパン 番号 | P5: S19
C6: 変状番号 | E6: 1 | N6: 変状番号 | P6: 1
B7: 変状 部位 | C7: 対象箇所 | E7: 路面 | M7: 変状 部位 | N7: 対象箇所 | P7: 路面
C8: 部位区分 | E8: 側溝 | N8: 部位区分 | P8: 側溝
B9: 変状種類 | E9: その他 | M9: 変状種類 | P9: その他
B10: 対策 区分 | C10: 変状区分 | M10: 対策 区分 | N10: 変状区分
C11: 応急措置前 | N11: 応急措置前
C12: 応急措置後 | N12: 応急措置後
B13: 変状の発生範囲及び規模 | E13: － | H13: 前回変状の発生範囲及び規模 | J13: － | M13: 変状の発生範囲及び規模 | P13: － | S13: 前回変状の発生範囲及び規模 | U13: －
B14: 対策履歴 | H14: 実施状況（実施日） | M14: 対策履歴 | S14: 実施状況（実施日）
B15: メモ | E15: 0.1m×10.5mの右側側溝の土砂堆積 | M15: メモ | P15: 0.1m×10.5mの右側側溝の土砂堆積
B16: 写真 番号 | C16: 覆工スパン 番号 | E16: S20 | M16: 写真 番号 | N16: 覆工スパン 番号 | P16: S20
C17: 変状番号 | E17: 1 | N17: 変状番号 | P17: 2
B18: 変状 部位 | C18: 対象箇所 | E18: 覆工 | M18: 変状 部位 | N18: 対象箇所 | P18: 覆工
C19: 部位区分 | E19: アーチ（右側） | N19: 部位区分 | P19: 側壁（右側）
B20: 変状種類 | E20: 鋼材腐食 | M20: 変状種類 | P20: うき・はく離
B21: 対策 区分 | C21: 変状区分 | E21: 材質劣化 | M21: 対策 区分 | N21: 変状区分 | P21: 材質劣化
C22: 応急措置前 | N22: 応急措置前
C23: 応急措置後 | E23: Ⅱb | N23: 応急措置後 | P23: Ⅱb
B24: 変状の発生範囲及び規模 | E24: 0.05m×0.05m | H24: 前回変状の発生範囲及び規模 | J24: 0.05m×0.05m | M24: 変状の発生範囲及び規模 | P24: 0.25m×0.1m | S24: 前回変状の発生範囲及び規模 | U24: 0.6m×0.1m
B25: 対策履歴 | E25: 監視(日常巡視) | H25: 実施状況（実施日） | M25: 対策履歴 | P25: 監視(日常巡視) | S25: 実施状況（実施日）
B26: メモ | E26: 0.05m×0.05mの鋼材腐食、鋼材の表面的な錆び、構造鉄筋の可能性は低い （写真番号S20-1・前回Ⅱb判定） | M26: メモ | P26: 0.25m×0.1mの横断方向目地に閉合してブロック化したひび割れ、打音異常なし、進行は確認されない （写真番号S20-2・前回Ⅱb判定）
C27: ※ 応急措置後の対策区分について添付すること。また、点検前に 実施された措置によりⅠと判定された箇所も添付すること。 | N27: ※ 変状の発生範囲の規模とは、対策を行う際に参考となる変状の長さや面積をいう。
N28: ※ 応急措置を実施しないで決定した変状の対策区分は、対策区分の応急措置後の欄に記入すること。
C29: ※ たたき落としを実施した場合は、実施後の写真を添付すること。 | N29: ※ 変状の発生範囲の規模は、面積・寸法を記載すること。(ひび割れ幅のみmmとし、その他をm表記とする)
C30: ※ 附属物の取付状態に関する異常写真は別途、任意の書式でとりまとめること。 | N30: ※ 構造用鋼材以外の異物に伴ううき・はく離については、メモ欄に異物の概要を記入すること。

Sheet 様式D-1-1 (9)
B2: ■定期点検記録様式 変状写真台帳【様式D-1-1】 | R2: 施設ID | T2: =+'様式A-1'!$W$2 -> 34.19214,132.18042
B3: フリガナ | E3: =+'様式A-1'!$D$3 -> セキセキトンネル | H3: 路 線 名 | J3: =+'様式A-1'!$J$3 -> 主要地方道岩国大竹線 | M3: 定期点検実施者 | P3: =+'様式B (1)'!$S$3 -> 復建調査設計株式会社 | S3: 定期点検年月日 | U3: =+'様式B (1)'!$P$2 -> 45853
B4: 名 称 | E4: =+'様式A-1'!$D$4 -> 関々トンネル | H4: 管理者名 | J4: =+'様式A-1'!$R$3 -> 山口県岩国土木建築事務所 | P4: =+'様式B (1)'!$S$4 -> 小笠原洋
B5: 写真 番号 | C5: 覆工スパン 番号 | E5: S20 | M5: 写真 番号 | N5: 覆工スパン 番号 | P5: S21
C6: 変状番号 | E6: 3 | N6: 変状番号 | P6: 1
B7: 変状 部位 | C7: 対象箇所 | E7: 路面 | M7: 変状 部位 | N7: 対象箇所 | P7: 覆工
C8: 部位区分 | E8: 側溝 | N8: 部位区分 | P8: 側壁（左側）
B9: 変状種類 | E9: その他 | M9: 変状種類 | P9: 漏水
B10: 対策 区分 | C10: 変状区分 | M10: 対策 区分 | N10: 変状区分 | P10: 漏水
C11: 応急措置前 | N11: 応急措置前
C12: 応急措置後 | N12: 応急措置後 | P12: Ⅱb
B13: 変状の発生範囲及び規模 | E13: － | H13: 前回変状の発生範囲及び規模 | J13: － | M13: 変状の発生範囲及び規模 | P13: 1.4m×4.3m | S13: 前回変状の発生範囲及び規模 | U13: 1.4m×0.5m、1.3m×0.2m、1.2m×0.1m、1.1m×0.3m、1.1m×0.5m、1.4m×1.3m
B14: 対策履歴 | H14: 実施状況（実施日） | M14: 対策履歴 | P14: 監視(日常巡視) | S14: 実施状況（実施日）
B15: メモ | E15: 0.1m×10.5mの右側側溝の土砂堆積 | M15: メモ | P15: ひび割れからの漏水跡 （写真番号S21-1～S21-6・前回Ⅱb判定）
B16: 写真 番号 | C16: 覆工スパン 番号 | E16: S21 | M16: 写真 番号 | N16: 覆工スパン 番号 | P16: S21
C17: 変状番号 | E17: 2 | N17: 変状番号 | P17: 3
B18: 変状 部位 | C18: 対象箇所 | E18: 覆工 | M18: 変状 部位 | N18: 対象箇所 | P18: 路面
C19: 部位区分 | E19: 側壁（左側） | N19: 部位区分 | P19: 側溝
B20: 変状種類 | E20: 圧ざ、ひび割れ | M20: 変状種類 | P20: その他
B21: 対策 区分 | C21: 変状区分 | E21: 外力 | M21: 対策 区分 | N21: 変状区分
C22: 応急措置前 | N22: 応急措置前
C23: 応急措置後 | E23: Ⅱb | N23: 応急措置後
B24: 変状の発生範囲及び規模 | E24: 10.5m×0.8mm | H24: 前回変状の発生範囲及び規模 | J24: － | M24: 変状の発生範囲及び規模 | P24: － | S24: 前回変状の発生範囲及び規模 | U24: －
B25: 対策履歴 | E25: 監視(日常巡視) | H25: 実施状況（実施日） | M25: 対策履歴 | S25: 実施状況（実施日）
B26: メモ | E26: 幅0.8mm、長さ10.5mの縦断方向ひび割れ、外力作用の可能性あり | M26: メモ | P26: 0.1m×10.5mの右側側溝の土砂堆積
C27: ※ 応急措置後の対策区分について添付すること。また、点検前に 実施された措置によりⅠと判定された箇所も添付すること。 | N27: ※ 変状の発生範囲の規模とは、対策を行う際に参考となる変状の長さや面積をいう。
N28: ※ 応急措置を実施しないで決定した変状の対策区分は、対策区分の応急措置後の欄に記入すること。
C29: ※ たたき落としを実施した場合は、実施後の写真を添付すること。 | N29: ※ 変状の発生範囲の規模は、面積・寸法を記載すること。(ひび割れ幅のみmmとし、その他をm表記とする)
C30: ※ 附属物の取付状態に関する異常写真は別途、任意の書式でとりまとめること。 | N30: ※ 構造用鋼材以外の異物に伴ううき・はく離については、メモ欄に異物の概要を記入すること。

Sheet 様式D-1-1 (10)
B2: ■定期点検記録様式 変状写真台帳【様式D-1-1】 | R2: 施設ID | T2: =+'様式A-1'!$W$2 -> 34.19214,132.18042
B3: フリガナ | E3: =+'様式A-1'!$D$3 -> セキセキトンネル | H3: 路 線 名 | J3: =+'様式A-1'!$J$3 -> 主要地方道岩国大竹線 | M3: 定期点検実施者 | P3: =+'様式B (1)'!$S$3 -> 復建調査設計株式会社 | S3: 定期点検年月日 | U3: =+'様式B (1)'!$P$2 -> 45853
B4: 名 称 | E4: =+'様式A-1'!$D$4 -> 関々トンネル | H4: 管理者名 | J4: =+'様式A-1'!$R$3 -> 山口県岩国土木建築事務所 | P4: =+'様式B (1)'!$S$4 -> 小笠原洋
B5: 写真 番号 | C5: 覆工スパン 番号 | E5: S22 | M5: 写真 番号 | N5: 覆工スパン 番号 | P5: S22
C6: 変状番号 | E6: 1 | N6: 変状番号 | P6: 2
B7: 変状 部位 | C7: 対象箇所 | E7: 覆工 | M7: 変状 部位 | N7: 対象箇所 | P7: 覆工
C8: 部位区分 | E8: 側壁（左側） | N8: 部位区分 | P8: 側壁（左側）
B9: 変状種類 | E9: 漏水 | M9: 変状種類 | P9: 圧ざ、ひび割れ
B10: 対策 区分 | C10: 変状区分 | E10: 漏水 | M10: 対策 区分 | N10: 変状区分 | P10: 外力
C11: 応急措置前 | N11: 応急措置前
C12: 応急措置後 | E12: Ⅱb | N12: 応急措置後 | P12: Ⅱb
B13: 変状の発生範囲及び規模 | E13: 1.1m×0.6m | H13: 前回変状の発生範囲及び規模 | J13: 1.0m×0.6m | M13: 変状の発生範囲及び規模 | P13: 10.5m×0.8mm | S13: 前回変状の発生範囲及び規模 | U13: －
B14: 対策履歴 | E14: 監視(日常巡視) | H14: 実施状況（実施日） | M14: 対策履歴 | P14: 監視(日常巡視) | S14: 実施状況（実施日）
B15: メモ | E15: ひび割れからの漏水跡 （写真番号S22-4・前回Ⅱb判定） | M15: メモ | P15: 幅0.8mm、長さ10.5mの縦断方向ひび割れ、外力作用の可能性あり
B16: 写真 番号 | C16: 覆工スパン 番号 | E16: S22 | M16: 写真 番号 | N16: 覆工スパン 番号 | P16: S22
C17: 変状番号 | E17: 3 | N17: 変状番号 | P17: 4
B18: 変状 部位 | C18: 対象箇所 | E18: 覆工 | M18: 変状 部位 | N18: 対象箇所 | P18: 覆工
C19: 部位区分 | E19: 側壁（左側） | N19: 部位区分 | P19: 横断目地（左側）
B20: 変状種類 | E20: 漏水 | M20: 変状種類 | P20: 漏水
B21: 対策 区分 | C21: 変状区分 | E21: 漏水 | M21: 対策 区分 | N21: 変状区分 | P21: 漏水
C22: 応急措置前 | N22: 応急措置前
C23: 応急措置後 | E23: Ⅱb | N23: 応急措置後 | P23: Ⅱb
B24: 変状の発生範囲及び規模 | E24: 2.3m×8.3m | H24: 前回変状の発生範囲及び規模 | J24: 2.0m×0.2m、2.0m×0.2m、1.7m×0.4m、1.2m×1.3m、1.5m×0.2m | M24: 変状の発生範囲及び規模 | P24: 5.8m×0.5m | S24: 前回変状の発生範囲及び規模 | U24: 3.0m×0.1m
B25: 対策履歴 | E25: 監視(日常巡視) | H25: 実施状況（実施日） | M25: 対策履歴 | P25: 監視(日常巡視) | S25: 実施状況（実施日）
B26: メモ | E26: ひび割れからの漏水跡 （写真番号S22-1、S22-2、S22-3、S22-5、S22-6・前回Ⅱb判定） | M26: メモ | P26: 5.8m×0.5mの横断方向目地からの漏水、にじみ （写真番号S22-7・前回Ⅱb判定）
C27: ※ 応急措置後の対策区分について添付すること。また、点検前に 実施された措置によりⅠと判定された箇所も添付すること。 | N27: ※ 変状の発生範囲の規模とは、対策を行う際に参考となる変状の長さや面積をいう。
N28: ※ 応急措置を実施しないで決定した変状の対策区分は、対策区分の応急措置後の欄に記入すること。
C29: ※ たたき落としを実施した場合は、実施後の写真を添付すること。 | N29: ※ 変状の発生範囲の規模は、面積・寸法を記載すること。(ひび割れ幅のみmmとし、その他をm表記とする)
C30: ※ 附属物の取付状態に関する異常写真は別途、任意の書式でとりまとめること。 | N30: ※ 構造用鋼材以外の異物に伴ううき・はく離については、メモ欄に異物の概要を記入すること。

Sheet 様式D-1-1 (11)
B2: ■定期点検記録様式 変状写真台帳【様式D-1-1】 | R2: 施設ID | T2: =+'様式A-1'!$W$2 -> 34.19214,132.18042
B3: フリガナ | E3: =+'様式A-1'!$D$3 -> セキセキトンネル | H3: 路 線 名 | J3: =+'様式A-1'!$J$3 -> 主要地方道岩国大竹線 | M3: 定期点検実施者 | P3: =+'様式B (1)'!$S$3 -> 復建調査設計株式会社 | S3: 定期点検年月日 | U3: =+'様式B (1)'!$P$2 -> 45853
B4: 名 称 | E4: =+'様式A-1'!$D$4 -> 関々トンネル | H4: 管理者名 | J4: =+'様式A-1'!$R$3 -> 山口県岩国土木建築事務所 | P4: =+'様式B (1)'!$S$4 -> 小笠原洋
B5: 写真 番号 | C5: 覆工スパン 番号 | E5: S22 | M5: 写真 番号 | N5: 覆工スパン 番号 | P5: S22
C6: 変状番号 | E6: 5 | N6: 変状番号 | P6: 6
B7: 変状 部位 | C7: 対象箇所 | E7: 路面 | M7: 変状 部位 | N7: 対象箇所 | P7: 路面
C8: 部位区分 | E8: 側溝 | N8: 部位区分 | P8: 側溝
B9: 変状種類 | E9: その他 | M9: 変状種類 | P9: その他
B10: 対策 区分 | C10: 変状区分 | M10: 対策 区分 | N10: 変状区分
C11: 応急措置前 | N11: 応急措置前
C12: 応急措置後 | N12: 応急措置後
B13: 変状の発生範囲及び規模 | E13: － | H13: 前回変状の発生範囲及び規模 | J13: 0.1m×10.5m | M13: 変状の発生範囲及び規模 | P13: － | S13: 前回変状の発生範囲及び規模 | U13: －
B14: 対策履歴 | H14: 実施状況（実施日） | M14: 対策履歴 | S14: 実施状況（実施日）
B15: メモ | E15: 0.1m×10.5mの左側側溝の土砂堆積 （写真番号S22-8・前回Ⅱb判定） | M15: メモ | P15: 0.1m×10.5mの右側側溝の土砂堆積
B16: 写真 番号 | C16: 覆工スパン 番号 | E16: S23 | M16: 写真 番号 | N16: 覆工スパン 番号 | P16: S23
C17: 変状番号 | E17: 1 | N17: 変状番号 | P17: 2
B18: 変状 部位 | C18: 対象箇所 | E18: 覆工 | M18: 変状 部位 | N18: 対象箇所 | P18: 覆工
C19: 部位区分 | E19: 側壁（左側） | N19: 部位区分 | P19: 側壁（左側）
B20: 変状種類 | E20: 漏水 | M20: 変状種類 | P20: 漏水
B21: 対策 区分 | C21: 変状区分 | E21: 漏水 | M21: 対策 区分 | N21: 変状区分 | P21: 漏水
C22: 応急措置前 | N22: 応急措置前
C23: 応急措置後 | E23: Ⅱb | N23: 応急措置後 | P23: Ⅱb
B24: 変状の発生範囲及び規模 | E24: 2.2m×1.7m | H24: 前回変状の発生範囲及び規模 | J24: 2.0m×0.8m | M24: 変状の発生範囲及び規模 | P24: 1.9m×1.3m | S24: 前回変状の発生範囲及び規模 | U24: 1.9m×0.3m
B25: 対策履歴 | E25: 監視(日常巡視) | H25: 実施状況（実施日） | M25: 対策履歴 | P25: 監視(日常巡視) | S25: 実施状況（実施日）
B26: メモ | E26: ひび割れからの漏水跡 （写真番号S23-1・前回Ⅱb判定） | M26: メモ | P26: 1.9m×1.3mのひび割れからの漏水、にじみ （写真番号S23-2・前回Ⅱb判定）
C27: ※ 応急措置後の対策区分について添付すること。また、点検前に 実施された措置によりⅠと判定された箇所も添付すること。 | N27: ※ 変状の発生範囲の規模とは、対策を行う際に参考となる変状の長さや面積をいう。
N28: ※ 応急措置を実施しないで決定した変状の対策区分は、対策区分の応急措置後の欄に記入すること。
C29: ※ たたき落としを実施した場合は、実施後の写真を添付すること。 | N29: ※ 変状の発生範囲の規模は、面積・寸法を記載すること。(ひび割れ幅のみmmとし、その他をm表記とする)
C30: ※ 附属物の取付状態に関する異常写真は別途、任意の書式でとりまとめること。 | N30: ※ 構造用鋼材以外の異物に伴ううき・はく離については、メモ欄に異物の概要を記入すること。

Sheet 様式D-1-1 (12)
B2: ■定期点検記録様式 変状写真台帳【様式D-1-1】 | R2: 施設ID | T2: =+'様式A-1'!$W$2 -> 34.19214,132.18042
B3: フリガナ | E3: =+'様式A-1'!$D$3 -> セキセキトンネル | H3: 路 線 名 | J3: =+'様式A-1'!$J$3 -> 主要地方道岩国大竹線 | M3: 定期点検実施者 | P3: =+'様式B (1)'!$S$3 -> 復建調査設計株式会社 | S3: 定期点検年月日 | U3: =+'様式B (1)'!$P$2 -> 45853
B4: 名 称 | E4: =+'様式A-1'!$D$4 -> 関々トンネル | H4: 管理者名 | J4: =+'様式A-1'!$R$3 -> 山口県岩国土木建築事務所 | P4: =+'様式B (1)'!$S$4 -> 小笠原洋
B5: 写真 番号 | C5: 覆工スパン 番号 | E5: S23 | M5: 写真 番号 | N5: 覆工スパン 番号 | P5: S23
C6: 変状番号 | E6: 3 | N6: 変状番号 | P6: 4
B7: 変状 部位 | C7: 対象箇所 | E7: 覆工 | M7: 変状 部位 | N7: 対象箇所 | P7: 覆工
C8: 部位区分 | E8: 側壁（左側） | N8: 部位区分 | P8: 側壁（左側）
B9: 変状種類 | E9: 漏水 | M9: 変状種類 | P9: 圧ざ、ひび割れ
B10: 対策 区分 | C10: 変状区分 | E10: 漏水 | M10: 対策 区分 | N10: 変状区分 | P10: 外力
C11: 応急措置前 | N11: 応急措置前
C12: 応急措置後 | E12: Ⅱb | N12: 応急措置後 | P12: Ⅱb
B13: 変状の発生範囲及び規模 | E13: 1.7m×0.9m | H13: 前回変状の発生範囲及び規模 | J13: 1.6m×0.5m | M13: 変状の発生範囲及び規模 | P13: 10.5m×1.0mm | S13: 前回変状の発生範囲及び規模 | U13: －
B14: 対策履歴 | E14: 監視(日常巡視) | H14: 実施状況（実施日） | M14: 対策履歴 | P14: 監視(日常巡視) | S14: 実施状況（実施日）
B15: メモ | E15: ひび割れからの漏水跡 （写真番号S23-3・前回Ⅱb判定） | M15: メモ | P15: 幅1.0mm、長さ10.5mの縦断方向ひび割れ、外力作用の可能性あり
B16: 写真 番号 | C16: 覆工スパン 番号 | E16: S23 | M16: 写真 番号 | N16: 覆工スパン 番号 | P16: S23
C17: 変状番号 | E17: 5 | N17: 変状番号 | P17: 6
B18: 変状 部位 | C18: 対象箇所 | E18: 覆工 | M18: 変状 部位 | N18: 対象箇所 | P18: 覆工
C19: 部位区分 | E19: 側壁（左側） | N19: 部位区分 | P19: 側壁（左側）
B20: 変状種類 | E20: 漏水 | M20: 変状種類 | P20: 漏水
B21: 対策 区分 | C21: 変状区分 | E21: 漏水 | M21: 対策 区分 | N21: 変状区分 | P21: 漏水
C22: 応急措置前 | N22: 応急措置前
C23: 応急措置後 | E23: Ⅱb | N23: 応急措置後 | P23: Ⅱb
B24: 変状の発生範囲及び規模 | E24: 2.4m×0.5m | H24: 前回変状の発生範囲及び規模 | J24: 1.6m×0.9m | M24: 変状の発生範囲及び規模 | P24: 1.9m×2.4m | S24: 前回変状の発生範囲及び規模 | U24: 1.5m×0.5m、1.9m×0.3m
B25: 対策履歴 | E25: 監視(日常巡視) | H25: 実施状況（実施日） | M25: 対策履歴 | P25: 監視(日常巡視) | S25: 実施状況（実施日）
B26: メモ | E26: 2.4m×0.5mのひび割れからの漏水、にじみ （写真番号S23-4・前回Ⅱb判定） | M26: メモ | P26: ひび割れからの漏水跡 （写真番号S23-5、S23-6・前回Ⅱb判定）
C27: ※ 応急措置後の対策区分について添付すること。また、点検前に 実施された措置によりⅠと判定された箇所も添付すること。 | N27: ※ 変状の発生範囲の規模とは、対策を行う際に参考となる変状の長さや面積をいう。
N28: ※ 応急措置を実施しないで決定した変状の対策区分は、対策区分の応急措置後の欄に記入すること。
C29: ※ たたき落としを実施した場合は、実施後の写真を添付すること。 | N29: ※ 変状の発生範囲の規模は、面積・寸法を記載すること。(ひび割れ幅のみmmとし、その他をm表記とする)
C30: ※ 附属物の取付状態に関する異常写真は別途、任意の書式でとりまとめること。 | N30: ※ 構造用鋼材以外の異物に伴ううき・はく離については、メモ欄に異物の概要を記入すること。

Sheet 様式D-1-1 (13)
B2: ■定期点検記録様式 変状写真台帳【様式D-1-1】 | R2: 施設ID | T2: =+'様式A-1'!$W$2 -> 34.19214,132.18042
B3: フリガナ | E3: =+'様式A-1'!$D$3 -> セキセキトンネル | H3: 路 線 名 | J3: =+'様式A-1'!$J$3 -> 主要地方道岩国大竹線 | M3: 定期点検実施者 | P3: =+'様式B (1)'!$S$3 -> 復建調査設計株式会社 | S3: 定期点検年月日 | U3: =+'様式B (1)'!$P$2 -> 45853
B4: 名 称 | E4: =+'様式A-1'!$D$4 -> 関々トンネル | H4: 管理者名 | J4: =+'様式A-1'!$R$3 -> 山口県岩国土木建築事務所 | P4: =+'様式B (1)'!$S$4 -> 小笠原洋
B5: 写真 番号 | C5: 覆工スパン 番号 | E5: S23 | M5: 写真 番号 | N5: 覆工スパン 番号 | P5: S23
C6: 変状番号 | E6: 7 | N6: 変状番号 | P6: 8
B7: 変状 部位 | C7: 対象箇所 | E7: 路面 | M7: 変状 部位 | N7: 対象箇所 | P7: 路面
C8: 部位区分 | E8: 側溝 | N8: 部位区分 | P8: 側溝
B9: 変状種類 | E9: その他 | M9: 変状種類 | P9: その他
B10: 対策 区分 | C10: 変状区分 | M10: 対策 区分 | N10: 変状区分
C11: 応急措置前 | N11: 応急措置前
C12: 応急措置後 | N12: 応急措置後
B13: 変状の発生範囲及び規模 | E13: － | H13: 前回変状の発生範囲及び規模 | J13: 0.1m×10.5m | M13: 変状の発生範囲及び規模 | P13: － | S13: 前回変状の発生範囲及び規模 | U13: －
B14: 対策履歴 | H14: 実施状況（実施日） | M14: 対策履歴 | S14: 実施状況（実施日）
B15: メモ | E15: 0.1m×10.5mの左側側溝の土砂堆積 （写真番号S23-7・前回Ⅱb判定） | M15: メモ | P15: 0.1m×10.5mの右側側溝の土砂堆積
B16: 写真 番号 | C16: 覆工スパン 番号 | E16: S24 | M16: 写真 番号 | N16: 覆工スパン 番号 | P16: S24
C17: 変状番号 | E17: 1 | N17: 変状番号 | P17: 2
B18: 変状 部位 | C18: 対象箇所 | E18: 覆工 | M18: 変状 部位 | N18: 対象箇所 | P18: 覆工
C19: 部位区分 | E19: 側壁（左側） | N19: 部位区分 | P19: 側壁（左側）
B20: 変状種類 | E20: 漏水 | M20: 変状種類 | P20: 圧ざ、ひび割れ
B21: 対策 区分 | C21: 変状区分 | E21: 漏水 | M21: 対策 区分 | N21: 変状区分 | P21: 外力
C22: 応急措置前 | N22: 応急措置前
C23: 応急措置後 | E23: Ⅱb | N23: 応急措置後 | P23: Ⅱb
B24: 変状の発生範囲及び規模 | E24: 1.5m×0.6m | H24: 前回変状の発生範囲及び規模 | J24: 1.5m×0.6m | M24: 変状の発生範囲及び規模 | P24: 10.5m×0.5mm | S24: 前回変状の発生範囲及び規模 | U24: －
B25: 対策履歴 | E25: 監視(日常巡視) | H25: 実施状況（実施日） | M25: 対策履歴 | P25: 監視(日常巡視) | S25: 実施状況（実施日）
B26: メモ | E26: 1.5m×0.6mのひび割れからの漏水、にじみ （写真番号S24-1・前回Ⅱb判定） | M26: メモ | P26: 幅0.5mm、長さ10.5mの縦断方向ひび割れ、外力作用の可能性あり
C27: ※ 応急措置後の対策区分について添付すること。また、点検前に 実施された措置によりⅠと判定された箇所も添付すること。 | N27: ※ 変状の発生範囲の規模とは、対策を行う際に参考となる変状の長さや面積をいう。
N28: ※ 応急措置を実施しないで決定した変状の対策区分は、対策区分の応急措置後の欄に記入すること。
C29: ※ たたき落としを実施した場合は、実施後の写真を添付すること。 | N29: ※ 変状の発生範囲の規模は、面積・寸法を記載すること。(ひび割れ幅のみmmとし、その他をm表記とする)
C30: ※ 附属物の取付状態に関する異常写真は別途、任意の書式でとりまとめること。 | N30: ※ 構造用鋼材以外の異物に伴ううき・はく離については、メモ欄に異物の概要を記入すること。

Sheet 様式D-1-1 (14)
B2: ■定期点検記録様式 変状写真台帳【様式D-1-1】 | R2: 施設ID | T2: =+'様式A-1'!$W$2 -> 34.19214,132.18042
B3: フリガナ | E3: =+'様式A-1'!$D$3 -> セキセキトンネル | H3: 路 線 名 | J3: =+'様式A-1'!$J$3 -> 主要地方道岩国大竹線 | M3: 定期点検実施者 | P3: =+'様式B (1)'!$S$3 -> 復建調査設計株式会社 | S3: 定期点検年月日 | U3: =+'様式B (1)'!$P$2 -> 45853
B4: 名 称 | E4: =+'様式A-1'!$D$4 -> 関々トンネル | H4: 管理者名 | J4: =+'様式A-1'!$R$3 -> 山口県岩国土木建築事務所 | P4: =+'様式B (1)'!$S$4 -> 小笠原洋
B5: 写真 番号 | C5: 覆工スパン 番号 | E5: S24 | M5: 写真 番号 | N5: 覆工スパン 番号 | P5: S24
C6: 変状番号 | E6: 3 | N6: 変状番号 | P6: 4
B7: 変状 部位 | C7: 対象箇所 | E7: 覆工 | M7: 変状 部位 | N7: 対象箇所 | P7: 覆工
C8: 部位区分 | E8: 側壁（左側） | N8: 部位区分 | P8: 側壁（左側）
B9: 変状種類 | E9: 漏水 | M9: 変状種類 | P9: 漏水
B10: 対策 区分 | C10: 変状区分 | E10: 漏水 | M10: 対策 区分 | N10: 変状区分 | P10: 漏水
C11: 応急措置前 | N11: 応急措置前
C12: 応急措置後 | E12: Ⅱb | N12: 応急措置後 | P12: Ⅱb
B13: 変状の発生範囲及び規模 | E13: 1.8m×0.8m | H13: 前回変状の発生範囲及び規模 | J13: 1.6m×0.3m | M13: 変状の発生範囲及び規模 | P13: 2.0m×1.7m | S13: 前回変状の発生範囲及び規模 | U13: 1.8m×1.0m、2.1m×0.9m
B14: 対策履歴 | E14: 監視(日常巡視) | H14: 実施状況（実施日） | M14: 対策履歴 | P14: 監視(日常巡視) | S14: 実施状況（実施日）
B15: メモ | E15: ひび割れからの漏水跡 （写真番号S24-2・前回Ⅱb判定） | M15: メモ | P15: 2.0m×1.7mのひび割れからの漏水、にじみ （写真番号S24-3、S24-4・前回Ⅱb判定）
B16: 写真 番号 | C16: 覆工スパン 番号 | E16: S24 | M16: 写真 番号 | N16: 覆工スパン 番号 | P16: S24
C17: 変状番号 | E17: 5 | N17: 変状番号 | P17: 6
B18: 変状 部位 | C18: 対象箇所 | E18: 路面 | M18: 変状 部位 | N18: 対象箇所 | P18: 路面
C19: 部位区分 | E19: 側溝 | N19: 部位区分 | P19: 側溝
B20: 変状種類 | E20: その他 | M20: 変状種類 | P20: その他
B21: 対策 区分 | C21: 変状区分 | M21: 対策 区分 | N21: 変状区分
C22: 応急措置前 | N22: 応急措置前
C23: 応急措置後 | N23: 応急措置後
B24: 変状の発生範囲及び規模 | E24: － | H24: 前回変状の発生範囲及び規模 | J24: 0.1m×3.5m | M24: 変状の発生範囲及び規模 | P24: － | S24: 前回変状の発生範囲及び規模 | U24: －
B25: 対策履歴 | H25: 実施状況（実施日） | M25: 対策履歴 | S25: 実施状況（実施日）
B26: メモ | E26: 0.1m×10.5mの左側側溝の土砂堆積 （写真番号S24-5・前回Ⅱb判定） | M26: メモ | P26: 0.1m×10.5mの右側側溝の土砂堆積
C27: ※ 応急措置後の対策区分について添付すること。また、点検前に 実施された措置によりⅠと判定された箇所も添付すること。 | N27: ※ 変状の発生範囲の規模とは、対策を行う際に参考となる変状の長さや面積をいう。
N28: ※ 応急措置を実施しないで決定した変状の対策区分は、対策区分の応急措置後の欄に記入すること。
C29: ※ たたき落としを実施した場合は、実施後の写真を添付すること。 | N29: ※ 変状の発生範囲の規模は、面積・寸法を記載すること。(ひび割れ幅のみmmとし、その他をm表記とする)
C30: ※ 附属物の取付状態に関する異常写真は別途、任意の書式でとりまとめること。 | N30: ※ 構造用鋼材以外の異物に伴ううき・はく離については、メモ欄に異物の概要を記入すること。

Sheet 様式D-1-1 (15)
B2: ■定期点検記録様式 変状写真台帳【様式D-1-1】 | R2: 施設ID | T2: =+'様式A-1'!$W$2 -> 34.19214,132.18042
B3: フリガナ | E3: =+'様式A-1'!$D$3 -> セキセキトンネル | H3: 路 線 名 | J3: =+'様式A-1'!$J$3 -> 主要地方道岩国大竹線 | M3: 定期点検実施者 | P3: =+'様式B (1)'!$S$3 -> 復建調査設計株式会社 | S3: 定期点検年月日 | U3: =+'様式B (1)'!$P$2 -> 45853
B4: 名 称 | E4: =+'様式A-1'!$D$4 -> 関々トンネル | H4: 管理者名 | J4: =+'様式A-1'!$R$3 -> 山口県岩国土木建築事務所 | P4: =+'様式B (1)'!$S$4 -> 小笠原洋
B5: 写真 番号 | C5: 覆工スパン 番号 | E5: S25 | M5: 写真 番号 | N5: 覆工スパン 番号 | P5: S25
C6: 変状番号 | E6: 1 | N6: 変状番号 | P6: 2
B7: 変状 部位 | C7: 対象箇所 | E7: 覆工 | M7: 変状 部位 | N7: 対象箇所 | P7: 覆工
C8: 部位区分 | E8: 側壁（左側） | N8: 部位区分 | P8: 側壁（左側）
B9: 変状種類 | E9: 漏水 | M9: 変状種類 | P9: 圧ざ、ひび割れ
B10: 対策 区分 | C10: 変状区分 | E10: 漏水 | M10: 対策 区分 | N10: 変状区分 | P10: 外力
C11: 応急措置前 | N11: 応急措置前
C12: 応急措置後 | E12: Ⅱb | N12: 応急措置後 | P12: Ⅱb
B13: 変状の発生範囲及び規模 | E13: 1.9m×0.7m | H13: 前回変状の発生範囲及び規模 | J13: 1.6m×0.6m | M13: 変状の発生範囲及び規模 | P13: 10.5m×0.4mm | S13: 前回変状の発生範囲及び規模 | U13: －
B14: 対策履歴 | E14: 監視(日常巡視) | H14: 実施状況（実施日） | M14: 対策履歴 | P14: 監視(日常巡視) | S14: 実施状況（実施日）
B15: メモ | E15: ひび割れからの漏水跡 （写真番号S25-1・前回Ⅱb判定） | M15: メモ | P15: 幅0.4mm、長さ10.5mの縦断方向ひび割れ、外力作用の可能性あり
B16: 写真 番号 | C16: 覆工スパン 番号 | E16: S25 | M16: 写真 番号 | N16: 覆工スパン 番号 | P16: S25
C17: 変状番号 | E17: 3 | N17: 変状番号 | P17: 4
B18: 変状 部位 | C18: 対象箇所 | E18: 覆工 | M18: 変状 部位 | N18: 対象箇所 | P18: 覆工
C19: 部位区分 | E19: 側壁（左側） | N19: 部位区分 | P19: 横断目地（左側）
B20: 変状種類 | E20: 漏水 | M20: 変状種類 | P20: 漏水
B21: 対策 区分 | C21: 変状区分 | E21: 漏水 | M21: 対策 区分 | N21: 変状区分 | P21: 漏水
C22: 応急措置前 | N22: 応急措置前
C23: 応急措置後 | E23: Ⅱb | N23: 応急措置後 | P23: Ⅱb
B24: 変状の発生範囲及び規模 | E24: 1.8m×2.7m | H24: 前回変状の発生範囲及び規模 | J24: 1.7m×0.5m、1.7m×1.5m | M24: 変状の発生範囲及び規模 | P24: 5.7m×0.5m | S24: 前回変状の発生範囲及び規模 | U24: 5.5m×0.1m
B25: 対策履歴 | E25: 監視(日常巡視) | H25: 実施状況（実施日） | M25: 対策履歴 | P25: 監視(日常巡視) | S25: 実施状況（実施日）
B26: メモ | E26: ひび割れからの漏水跡 （写真番号S25-2、S25-3・前回Ⅱb判定） | M26: メモ | P26: 横断方向目地からの漏水跡 （写真番号S25-4・前回Ⅱb判定）
C27: ※ 応急措置後の対策区分について添付すること。また、点検前に 実施された措置によりⅠと判定された箇所も添付すること。 | N27: ※ 変状の発生範囲の規模とは、対策を行う際に参考となる変状の長さや面積をいう。
N28: ※ 応急措置を実施しないで決定した変状の対策区分は、対策区分の応急措置後の欄に記入すること。
C29: ※ たたき落としを実施した場合は、実施後の写真を添付すること。 | N29: ※ 変状の発生範囲の規模は、面積・寸法を記載すること。(ひび割れ幅のみmmとし、その他をm表記とする)
C30: ※ 附属物の取付状態に関する異常写真は別途、任意の書式でとりまとめること。 | N30: ※ 構造用鋼材以外の異物に伴ううき・はく離については、メモ欄に異物の概要を記入すること。

Sheet 様式D-1-1 (16)
B2: ■定期点検記録様式 変状写真台帳【様式D-1-1】 | R2: 施設ID | T2: =+'様式A-1'!$W$2 -> 34.19214,132.18042
B3: フリガナ | E3: =+'様式A-1'!$D$3 -> セキセキトンネル | H3: 路 線 名 | J3: =+'様式A-1'!$J$3 -> 主要地方道岩国大竹線 | M3: 定期点検実施者 | P3: =+'様式B (1)'!$S$3 -> 復建調査設計株式会社 | S3: 定期点検年月日 | U3: =+'様式B (1)'!$P$2 -> 45853
B4: 名 称 | E4: =+'様式A-1'!$D$4 -> 関々トンネル | H4: 管理者名 | J4: =+'様式A-1'!$R$3 -> 山口県岩国土木建築事務所 | P4: =+'様式B (1)'!$S$4 -> 小笠原洋
B5: 写真 番号 | C5: 覆工スパン 番号 | E5: S25 | M5: 写真 番号 | N5: 覆工スパン 番号 | P5: S25
C6: 変状番号 | E6: 5 | N6: 変状番号 | P6: 6
B7: 変状 部位 | C7: 対象箇所 | E7: 路面 | M7: 変状 部位 | N7: 対象箇所 | P7: 路面
C8: 部位区分 | E8: 側溝 | N8: 部位区分 | P8: 側溝
B9: 変状種類 | E9: その他 | M9: 変状種類 | P9: その他
B10: 対策 区分 | C10: 変状区分 | M10: 対策 区分 | N10: 変状区分
C11: 応急措置前 | N11: 応急措置前
C12: 応急措置後 | N12: 応急措置後
B13: 変状の発生範囲及び規模 | E13: － | H13: 前回変状の発生範囲及び規模 | J13: － | M13: 変状の発生範囲及び規模 | P13: － | S13: 前回変状の発生範囲及び規模 | U13: －
B14: 対策履歴 | H14: 実施状況（実施日） | M14: 対策履歴 | S14: 実施状況（実施日）
B15: メモ | E15: 0.1m×4.0mの左側側溝の土砂堆積 | M15: メモ | P15: 0.1m×10.5mの右側側溝の土砂堆積
B16: 写真 番号 | C16: 覆工スパン 番号 | E16: S26 | M16: 写真 番号 | N16: 覆工スパン 番号 | P16: S26
C17: 変状番号 | E17: 1 | N17: 変状番号 | P17: 2
B18: 変状 部位 | C18: 対象箇所 | E18: 覆工 | M18: 変状 部位 | N18: 対象箇所 | P18: 覆工
C19: 部位区分 | E19: アーチ（左側） | N19: 部位区分 | P19: 側壁（左側）
B20: 変状種類 | E20: 漏水 | M20: 変状種類 | P20: 圧ざ、ひび割れ
B21: 対策 区分 | C21: 変状区分 | E21: 漏水 | M21: 対策 区分 | N21: 変状区分 | P21: 外力
C22: 応急措置前 | N22: 応急措置前
C23: 応急措置後 | E23: Ⅱb | N23: 応急措置後 | P23: Ⅱb
B24: 変状の発生範囲及び規模 | E24: 3.1m×4.3m | H24: 前回変状の発生範囲及び規模 | J24: 2.7m×1.5m | M24: 変状の発生範囲及び規模 | P24: 10.5m×0.4mm | S24: 前回変状の発生範囲及び規模 | U24: －
B25: 対策履歴 | E25: 監視(日常巡視) | H25: 実施状況（実施日） | M25: 対策履歴 | P25: 監視(日常巡視) | S25: 実施状況（実施日）
B26: メモ | E26: ひび割れからの漏水跡 （写真番号S26-1・前回Ⅱb判定） | M26: メモ | P26: 幅0.4mm、長さ10.5mの縦断方向ひび割れ、外力作用の可能性あり
C27: ※ 応急措置後の対策区分について添付すること。また、点検前に 実施された措置によりⅠと判定された箇所も添付すること。 | N27: ※ 変状の発生範囲の規模とは、対策を行う際に参考となる変状の長さや面積をいう。
N28: ※ 応急措置を実施しないで決定した変状の対策区分は、対策区分の応急措置後の欄に記入すること。
C29: ※ たたき落としを実施した場合は、実施後の写真を添付すること。 | N29: ※ 変状の発生範囲の規模は、面積・寸法を記載すること。(ひび割れ幅のみmmとし、その他をm表記とする)
C30: ※ 附属物の取付状態に関する異常写真は別途、任意の書式でとりまとめること。 | N30: ※ 構造用鋼材以外の異物に伴ううき・はく離については、メモ欄に異物の概要を記入すること。

Sheet 様式D-1-1 (17)
B2: ■定期点検記録様式 変状写真台帳【様式D-1-1】 | R2: 施設ID | T2: =+'様式A-1'!$W$2 -> 34.19214,132.18042
B3: フリガナ | E3: =+'様式A-1'!$D$3 -> セキセキトンネル | H3: 路 線 名 | J3: =+'様式A-1'!$J$3 -> 主要地方道岩国大竹線 | M3: 定期点検実施者 | P3: =+'様式B (1)'!$S$3 -> 復建調査設計株式会社 | S3: 定期点検年月日 | U3: =+'様式B (1)'!$P$2 -> 45853
B4: 名 称 | E4: =+'様式A-1'!$D$4 -> 関々トンネル | H4: 管理者名 | J4: =+'様式A-1'!$R$3 -> 山口県岩国土木建築事務所 | P4: =+'様式B (1)'!$S$4 -> 小笠原洋
B5: 写真 番号 | C5: 覆工スパン 番号 | E5: S26 | M5: 写真 番号 | N5: 覆工スパン 番号 | P5: S27
C6: 変状番号 | E6: 3 | N6: 変状番号 | P6: 1
B7: 変状 部位 | C7: 対象箇所 | E7: 路面 | M7: 変状 部位 | N7: 対象箇所 | P7: 覆工
C8: 部位区分 | E8: 側溝 | N8: 部位区分 | P8: 側壁（左側）
B9: 変状種類 | E9: その他 | M9: 変状種類 | P9: 漏水
B10: 対策 区分 | C10: 変状区分 | M10: 対策 区分 | N10: 変状区分 | P10: 漏水
C11: 応急措置前 | N11: 応急措置前
C12: 応急措置後 | N12: 応急措置後 | P12: Ⅱb
B13: 変状の発生範囲及び規模 | E13: － | H13: 前回変状の発生範囲及び規模 | J13: － | M13: 変状の発生範囲及び規模 | P13: 2.2m×1.3m | S13: 前回変状の発生範囲及び規模 | U13: 2.1m×0.3m、2.0m×0.2m
B14: 対策履歴 | H14: 実施状況（実施日） | M14: 対策履歴 | P14: 監視(日常巡視) | S14: 実施状況（実施日）
B15: メモ | E15: 0.1m×10.5mの右側側溝の土砂堆積 | M15: メモ | P15: ひび割れからの漏水跡 （写真番号S27-1、S27-2・前回Ⅱb判定）
B16: 写真 番号 | C16: 覆工スパン 番号 | E16: S27 | M16: 写真 番号 | N16: 覆工スパン 番号 | P16: S27
C17: 変状番号 | E17: 2 | N17: 変状番号 | P17: 3
B18: 変状 部位 | C18: 対象箇所 | E18: 覆工 | M18: 変状 部位 | N18: 対象箇所 | P18: 覆工
C19: 部位区分 | E19: 側壁（左側） | N19: 部位区分 | P19: 側壁（左側）
B20: 変状種類 | E20: 圧ざ、ひび割れ | M20: 変状種類 | P20: 漏水
B21: 対策 区分 | C21: 変状区分 | E21: 外力 | M21: 対策 区分 | N21: 変状区分 | P21: 漏水
C22: 応急措置前 | N22: 応急措置前
C23: 応急措置後 | E23: Ⅱb | N23: 応急措置後 | P23: Ⅱb
B24: 変状の発生範囲及び規模 | E24: 10.5m×0.2mm | H24: 前回変状の発生範囲及び規模 | J24: － | M24: 変状の発生範囲及び規模 | P24: 1.7m×0.6m | S24: 前回変状の発生範囲及び規模 | U24: 1.6m×0.4m
B25: 対策履歴 | E25: 監視(日常巡視) | H25: 実施状況（実施日） | M25: 対策履歴 | P25: 監視(日常巡視) | S25: 実施状況（実施日）
B26: メモ | E26: 幅0.2mm、長さ10.5mの縦断方向ひび割れ、外力作用の可能性あり | M26: メモ | P26: ひび割れからの漏水跡 （写真番号S27-3・前回Ⅱb判定）
C27: ※ 応急措置後の対策区分について添付すること。また、点検前に 実施された措置によりⅠと判定された箇所も添付すること。 | N27: ※ 変状の発生範囲の規模とは、対策を行う際に参考となる変状の長さや面積をいう。
N28: ※ 応急措置を実施しないで決定した変状の対策区分は、対策区分の応急措置後の欄に記入すること。
C29: ※ たたき落としを実施した場合は、実施後の写真を添付すること。 | N29: ※ 変状の発生範囲の規模は、面積・寸法を記載すること。(ひび割れ幅のみmmとし、その他をm表記とする)
C30: ※ 附属物の取付状態に関する異常写真は別途、任意の書式でとりまとめること。 | N30: ※ 構造用鋼材以外の異物に伴ううき・はく離については、メモ欄に異物の概要を記入すること。

Sheet 様式D-1-1 (18)
B2: ■定期点検記録様式 変状写真台帳【様式D-1-1】 | R2: 施設ID | T2: =+'様式A-1'!$W$2 -> 34.19214,132.18042
B3: フリガナ | E3: =+'様式A-1'!$D$3 -> セキセキトンネル | H3: 路 線 名 | J3: =+'様式A-1'!$J$3 -> 主要地方道岩国大竹線 | M3: 定期点検実施者 | P3: =+'様式B (1)'!$S$3 -> 復建調査設計株式会社 | S3: 定期点検年月日 | U3: =+'様式B (1)'!$P$2 -> 45853
B4: 名 称 | E4: =+'様式A-1'!$D$4 -> 関々トンネル | H4: 管理者名 | J4: =+'様式A-1'!$R$3 -> 山口県岩国土木建築事務所 | P4: =+'様式B (1)'!$S$4 -> 小笠原洋
B5: 写真 番号 | C5: 覆工スパン 番号 | E5: S27 | M5: 写真 番号 | N5: 覆工スパン 番号 | P5: S28
C6: 変状番号 | E6: 4 | N6: 変状番号 | P6: 1
B7: 変状 部位 | C7: 対象箇所 | E7: 路面 | M7: 変状 部位 | N7: 対象箇所 | P7: 覆工
C8: 部位区分 | E8: 側溝 | N8: 部位区分 | P8: 側壁（左側）
B9: 変状種類 | E9: その他 | M9: 変状種類 | P9: 圧ざ、ひび割れ
B10: 対策 区分 | C10: 変状区分 | M10: 対策 区分 | N10: 変状区分 | P10: 外力
C11: 応急措置前 | N11: 応急措置前
C12: 応急措置後 | N12: 応急措置後 | P12: Ⅱb
B13: 変状の発生範囲及び規模 | E13: － | H13: 前回変状の発生範囲及び規模 | J13: － | M13: 変状の発生範囲及び規模 | P13: 10.5m×0.5mm | S13: 前回変状の発生範囲及び規模 | U13: －
B14: 対策履歴 | H14: 実施状況（実施日） | M14: 対策履歴 | P14: 監視(日常巡視) | S14: 実施状況（実施日）
B15: メモ | E15: 0.1m×10.5mの右側側溝の土砂堆積 | M15: メモ | P15: 幅0.5mm、長さ10.5mの縦断方向ひび割れ、外力作用の可能性あり
B16: 写真 番号 | C16: 覆工スパン 番号 | E16: S28 | M16: 写真 番号 | N16: 覆工スパン 番号 | P16: S28
C17: 変状番号 | E17: 2 | N17: 変状番号 | P17: 3
B18: 変状 部位 | C18: 対象箇所 | E18: 覆工 | M18: 変状 部位 | N18: 対象箇所 | P18: 覆工
C19: 部位区分 | E19: 側壁（左側） | N19: 部位区分 | P19: 側壁（左側）
B20: 変状種類 | E20: 漏水 | M20: 変状種類 | P20: 漏水
B21: 対策 区分 | C21: 変状区分 | E21: 漏水 | M21: 対策 区分 | N21: 変状区分 | P21: 漏水
C22: 応急措置前 | N22: 応急措置前
C23: 応急措置後 | E23: Ⅱb | N23: 応急措置後 | P23: Ⅱb
B24: 変状の発生範囲及び規模 | E24: 1.5m×0.5m | H24: 前回変状の発生範囲及び規模 | J24: 1.5m×0.2m | M24: 変状の発生範囲及び規模 | P24: 1.8m×0.6m | S24: 前回変状の発生範囲及び規模 | U24: 1.7m×0.6m
B25: 対策履歴 | E25: 監視(日常巡視) | H25: 実施状況（実施日） | M25: 対策履歴 | P25: 監視(日常巡視) | S25: 実施状況（実施日）
B26: メモ | E26: ひび割れからの漏水跡 （写真番号S28-1・前回Ⅱb判定） | M26: メモ | P26: ひび割れからの漏水跡 （写真番号S28-2・前回Ⅱb判定）
C27: ※ 応急措置後の対策区分について添付すること。また、点検前に 実施された措置によりⅠと判定された箇所も添付すること。 | N27: ※ 変状の発生範囲の規模とは、対策を行う際に参考となる変状の長さや面積をいう。
N28: ※ 応急措置を実施しないで決定した変状の対策区分は、対策区分の応急措置後の欄に記入すること。
C29: ※ たたき落としを実施した場合は、実施後の写真を添付すること。 | N29: ※ 変状の発生範囲の規模は、面積・寸法を記載すること。(ひび割れ幅のみmmとし、その他をm表記とする)
C30: ※ 附属物の取付状態に関する異常写真は別途、任意の書式でとりまとめること。 | N30: ※ 構造用鋼材以外の異物に伴ううき・はく離については、メモ欄に異物の概要を記入すること。

Sheet 様式D-1-1 (19)
B2: ■定期点検記録様式 変状写真台帳【様式D-1-1】 | R2: 施設ID | T2: =+'様式A-1'!$W$2 -> 34.19214,132.18042
B3: フリガナ | E3: =+'様式A-1'!$D$3 -> セキセキトンネル | H3: 路 線 名 | J3: =+'様式A-1'!$J$3 -> 主要地方道岩国大竹線 | M3: 定期点検実施者 | P3: =+'様式B (1)'!$S$3 -> 復建調査設計株式会社 | S3: 定期点検年月日 | U3: =+'様式B (1)'!$P$2 -> 45853
B4: 名 称 | E4: =+'様式A-1'!$D$4 -> 関々トンネル | H4: 管理者名 | J4: =+'様式A-1'!$R$3 -> 山口県岩国土木建築事務所 | P4: =+'様式B (1)'!$S$4 -> 小笠原洋
B5: 写真 番号 | C5: 覆工スパン 番号 | E5: S28 | M5: 写真 番号 | N5: 覆工スパン 番号 | P5: S28
C6: 変状番号 | E6: 4 | N6: 変状番号 | P6: 5
B7: 変状 部位 | C7: 対象箇所 | E7: 覆工 | M7: 変状 部位 | N7: 対象箇所 | P7: 路面
C8: 部位区分 | E8: 横断目地（全周） | N8: 部位区分 | P8: 側溝
B9: 変状種類 | E9: 漏水 | M9: 変状種類 | P9: その他
B10: 対策 区分 | C10: 変状区分 | E10: 漏水 | M10: 対策 区分 | N10: 変状区分
C11: 応急措置前 | N11: 応急措置前
C12: 応急措置後 | E12: Ⅱb | N12: 応急措置後
B13: 変状の発生範囲及び規模 | E13: 16.8m×0.5m | H13: 前回変状の発生範囲及び規模 | J13: 16.8m×0.5m | M13: 変状の発生範囲及び規模 | P13: － | S13: 前回変状の発生範囲及び規模 | U13: －
B14: 対策履歴 | E14: 監視(日常巡視) | H14: 実施状況（実施日） | M14: 対策履歴 | S14: 実施状況（実施日）
B15: メモ | E15: 16.8m×0.5mの横断方向目地からの漏水、にじみ （写真番号S28-3・前回Ⅱb判定） | M15: メモ | P15: 0.1m×10.5mの右側側溝の土砂堆積
B16: 写真 番号 | C16: 覆工スパン 番号 | E16: S29 | M16: 写真 番号 | N16: 覆工スパン 番号 | P16: S29
C17: 変状番号 | E17: 1 | N17: 変状番号 | P17: 2
B18: 変状 部位 | C18: 対象箇所 | E18: 覆工 | M18: 変状 部位 | N18: 対象箇所 | P18: 覆工
C19: 部位区分 | E19: アーチ（左側） | N19: 部位区分 | P19: 側壁（左側）
B20: 変状種類 | E20: 漏水 | M20: 変状種類 | P20: 圧ざ、ひび割れ
B21: 対策 区分 | C21: 変状区分 | E21: 漏水 | M21: 対策 区分 | N21: 変状区分 | P21: 外力
C22: 応急措置前 | N22: 応急措置前
C23: 応急措置後 | E23: Ⅱb | N23: 応急措置後 | P23: Ⅱb
B24: 変状の発生範囲及び規模 | E24: 3.0m×1.4m | H24: 前回変状の発生範囲及び規模 | J24: 2.9m×1.3m | M24: 変状の発生範囲及び規模 | P24: 10.5mm×0.7mm | S24: 前回変状の発生範囲及び規模 | U24: －
B25: 対策履歴 | E25: 監視(日常巡視) | H25: 実施状況（実施日） | M25: 対策履歴 | P25: 監視(日常巡視) | S25: 実施状況（実施日）
B26: メモ | E26: ひび割れからの漏水跡 （写真番号S29-1・前回Ⅱb判定） | M26: メモ | P26: 幅0.7mm、長さ10.5mの縦断方向ひび割れ、外力作用の可能性あり
C27: ※ 応急措置後の対策区分について添付すること。また、点検前に 実施された措置によりⅠと判定された箇所も添付すること。 | N27: ※ 変状の発生範囲の規模とは、対策を行う際に参考となる変状の長さや面積をいう。
N28: ※ 応急措置を実施しないで決定した変状の対策区分は、対策区分の応急措置後の欄に記入すること。
C29: ※ たたき落としを実施した場合は、実施後の写真を添付すること。 | N29: ※ 変状の発生範囲の規模は、面積・寸法を記載すること。(ひび割れ幅のみmmとし、その他をm表記とする)
C30: ※ 附属物の取付状態に関する異常写真は別途、任意の書式でとりまとめること。 | N30: ※ 構造用鋼材以外の異物に伴ううき・はく離については、メモ欄に異物の概要を記入すること。

Sheet 様式D-1-1 (20)
B2: ■定期点検記録様式 変状写真台帳【様式D-1-1】 | R2: 施設ID | T2: =+'様式A-1'!$W$2 -> 34.19214,132.18042
B3: フリガナ | E3: =+'様式A-1'!$D$3 -> セキセキトンネル | H3: 路 線 名 | J3: =+'様式A-1'!$J$3 -> 主要地方道岩国大竹線 | M3: 定期点検実施者 | P3: =+'様式B (1)'!$S$3 -> 復建調査設計株式会社 | S3: 定期点検年月日 | U3: =+'様式B (1)'!$P$2 -> 45853
B4: 名 称 | E4: =+'様式A-1'!$D$4 -> 関々トンネル | H4: 管理者名 | J4: =+'様式A-1'!$R$3 -> 山口県岩国土木建築事務所 | P4: =+'様式B (1)'!$S$4 -> 小笠原洋
B5: 写真 番号 | C5: 覆工スパン 番号 | E5: S29 | M5: 写真 番号 | N5: 覆工スパン 番号 | P5: S29
C6: 変状番号 | E6: 3 | N6: 変状番号 | P6: 4
B7: 変状 部位 | C7: 対象箇所 | E7: 覆工 | M7: 変状 部位 | N7: 対象箇所 | P7: 覆工
C8: 部位区分 | E8: アーチ（左側） | N8: 部位区分 | P8: 横断目地（左側）
B9: 変状種類 | E9: 漏水 | M9: 変状種類 | P9: 漏水
B10: 対策 区分 | C10: 変状区分 | E10: 漏水 | M10: 対策 区分 | N10: 変状区分 | P10: 漏水
C11: 応急措置前 | N11: 応急措置前
C12: 応急措置後 | E12: Ⅱb | N12: 応急措置後 | P12: Ⅱb
B13: 変状の発生範囲及び規模 | E13: 2.7m×1.3m | H13: 前回変状の発生範囲及び規模 | J13: 2.6m×1.6m | M13: 変状の発生範囲及び規模 | P13: 6.5m×0.5m | S13: 前回変状の発生範囲及び規模 | U13: 6.0m×0.1m
B14: 対策履歴 | E14: 監視(日常巡視) | H14: 実施状況（実施日） | M14: 対策履歴 | P14: 監視(日常巡視) | S14: 実施状況（実施日）
B15: メモ | E15: ひび割れからの漏水跡 （写真番号S29-2・前回Ⅱb判定） | M15: メモ | P15: 6.5m×0.5mの横断方向目地からの漏水、にじみ （写真番号S29-3・前回Ⅱb判定）
B16: 写真 番号 | C16: 覆工スパン 番号 | E16: S29 | M16: 写真 番号 | N16: 覆工スパン 番号 | P16: S29
C17: 変状番号 | E17: 5 | N17: 変状番号 | P17: 6
B18: 変状 部位 | C18: 対象箇所 | E18: 覆工 | M18: 変状 部位 | N18: 対象箇所 | P18: 路面
C19: 部位区分 | E19: 側壁（右側） | N19: 部位区分 | P19: 側溝
B20: 変状種類 | E20: うき・はく離 | M20: 変状種類 | P20: その他
B21: 対策 区分 | C21: 変状区分 | E21: 材質劣化 | M21: 対策 区分 | N21: 変状区分
C22: 応急措置前 | N22: 応急措置前
C23: 応急措置後 | E23: Ⅱb | N23: 応急措置後
B24: 変状の発生範囲及び規模 | E24: 1.3m×0.3m | H24: 前回変状の発生範囲及び規模 | J24: － | M24: 変状の発生範囲及び規模 | P24: － | S24: 前回変状の発生範囲及び規模 | U24: 0.1m×2.0m
B25: 対策履歴 | E25: 監視(日常巡視) | H25: 実施状況（実施日） | M25: 対策履歴 | S25: 実施状況（実施日）
B26: メモ | E26: 1.3m×0.3mの横断方向目地に閉合してブロック化したひび割れ、打音異常なし | M26: メモ | P26: 0.1m×10.5mの右側側溝の土砂堆積 （写真番号S29-4・前回Ⅱb判定）
C27: ※ 応急措置後の対策区分について添付すること。また、点検前に 実施された措置によりⅠと判定された箇所も添付すること。 | N27: ※ 変状の発生範囲の規模とは、対策を行う際に参考となる変状の長さや面積をいう。
N28: ※ 応急措置を実施しないで決定した変状の対策区分は、対策区分の応急措置後の欄に記入すること。
C29: ※ たたき落としを実施した場合は、実施後の写真を添付すること。 | N29: ※ 変状の発生範囲の規模は、面積・寸法を記載すること。(ひび割れ幅のみmmとし、その他をm表記とする)
C30: ※ 附属物の取付状態に関する異常写真は別途、任意の書式でとりまとめること。 | N30: ※ 構造用鋼材以外の異物に伴ううき・はく離については、メモ欄に異物の概要を記入すること。

Sheet 様式D-1-1 (21)
B2: ■定期点検記録様式 変状写真台帳【様式D-1-1】 | R2: 施設ID | T2: =+'様式A-1'!$W$2 -> 34.19214,132.18042
B3: フリガナ | E3: =+'様式A-1'!$D$3 -> セキセキトンネル | H3: 路 線 名 | J3: =+'様式A-1'!$J$3 -> 主要地方道岩国大竹線 | M3: 定期点検実施者 | P3: =+'様式B (1)'!$S$3 -> 復建調査設計株式会社 | S3: 定期点検年月日 | U3: =+'様式B (1)'!$P$2 -> 45853
B4: 名 称 | E4: =+'様式A-1'!$D$4 -> 関々トンネル | H4: 管理者名 | J4: =+'様式A-1'!$R$3 -> 山口県岩国土木建築事務所 | P4: =+'様式B (1)'!$S$4 -> 小笠原洋
B5: 写真 番号 | C5: 覆工スパン 番号 | E5: S30 | M5: 写真 番号 | N5: 覆工スパン 番号 | P5: S30
C6: 変状番号 | E6: 1 | N6: 変状番号 | P6: 2
B7: 変状 部位 | C7: 対象箇所 | E7: 覆工 | M7: 変状 部位 | N7: 対象箇所 | P7: 覆工
C8: 部位区分 | E8: アーチ（左側） | N8: 部位区分 | P8: アーチ（左側）
B9: 変状種類 | E9: うき・はく離 | M9: 変状種類 | P9: 圧ざ、ひび割れ
B10: 対策 区分 | C10: 変状区分 | E10: 材質劣化 | M10: 対策 区分 | N10: 変状区分 | P10: 外力
C11: 応急措置前 | N11: 応急措置前
C12: 応急措置後 | E12: Ⅱb | N12: 応急措置後 | P12: Ⅱb
B13: 変状の発生範囲及び規模 | E13: 0.35m×0.35m | H13: 前回変状の発生範囲及び規模 | J13: 0.2m×0.2m | M13: 変状の発生範囲及び規模 | P13: 8.0m×0.4mm | S13: 前回変状の発生範囲及び規模 | U13: －
B14: 対策履歴 | E14: 監視(日常巡視) | H14: 実施状況（実施日） | M14: 対策履歴 | P14: 監視(日常巡視) | S14: 実施状況（実施日）
B15: メモ | E15: 0.35m×0.35mの横断方向目地への閉合が懸念されるひび割れ、打音異常なし、進行は確認されない （写真番号S30-1・前回Ⅱa判定） | M15: メモ | P15: 幅0.4mm、長さ8.0mの縦断方向ひび割れ、外力作用の可能性あり
B16: 写真 番号 | C16: 覆工スパン 番号 | E16: S30 | M16: 写真 番号 | N16: 覆工スパン 番号 | P16: S30
C17: 変状番号 | E17: 3 | N17: 変状番号 | P17: 4
B18: 変状 部位 | C18: 対象箇所 | E18: 覆工 | M18: 変状 部位 | N18: 対象箇所 | P18: 覆工
C19: 部位区分 | E19: 横断目地（左側） | N19: 部位区分 | P19: 横断目地（右側）
B20: 変状種類 | E20: 漏水 | M20: 変状種類 | P20: 漏水
B21: 対策 区分 | C21: 変状区分 | E21: 漏水 | M21: 対策 区分 | N21: 変状区分 | P21: 漏水
C22: 応急措置前 | N22: 応急措置前
C23: 応急措置後 | E23: Ⅱb | N23: 応急措置後 | P23: Ⅱb
B24: 変状の発生範囲及び規模 | E24: 8.2m×0.5m | H24: 前回変状の発生範囲及び規模 | J24: － | M24: 変状の発生範囲及び規模 | P24: 6.2m×0.5m | S24: 前回変状の発生範囲及び規模 | U24: 6.0m×0.1m
B25: 対策履歴 | E25: 監視(日常巡視) | H25: 実施状況（実施日） | M25: 対策履歴 | P25: 監視(日常巡視) | S25: 実施状況（実施日）
B26: メモ | E26: 8.2m×0.5mの横断方向目地からの漏水、にじみ | M26: メモ | P26: 6.2m×0.5mの横断方向目地からの漏水、にじみ （写真番号S30-2・前回Ⅱb判定）
C27: ※ 応急措置後の対策区分について添付すること。また、点検前に 実施された措置によりⅠと判定された箇所も添付すること。 | N27: ※ 変状の発生範囲の規模とは、対策を行う際に参考となる変状の長さや面積をいう。
N28: ※ 応急措置を実施しないで決定した変状の対策区分は、対策区分の応急措置後の欄に記入すること。
C29: ※ たたき落としを実施した場合は、実施後の写真を添付すること。 | N29: ※ 変状の発生範囲の規模は、面積・寸法を記載すること。(ひび割れ幅のみmmとし、その他をm表記とする)
C30: ※ 附属物の取付状態に関する異常写真は別途、任意の書式でとりまとめること。 | N30: ※ 構造用鋼材以外の異物に伴ううき・はく離については、メモ欄に異物の概要を記入すること。

Sheet 様式D-1-1 (22)
B2: ■定期点検記録様式 変状写真台帳【様式D-1-1】 | R2: 施設ID | T2: =+'様式A-1'!$W$2 -> 34.19214,132.18042
B3: フリガナ | E3: =+'様式A-1'!$D$3 -> セキセキトンネル | H3: 路 線 名 | J3: =+'様式A-1'!$J$3 -> 主要地方道岩国大竹線 | M3: 定期点検実施者 | P3: =+'様式B (1)'!$S$3 -> 復建調査設計株式会社 | S3: 定期点検年月日 | U3: =+'様式B (1)'!$P$2 -> 45853
B4: 名 称 | E4: =+'様式A-1'!$D$4 -> 関々トンネル | H4: 管理者名 | J4: =+'様式A-1'!$R$3 -> 山口県岩国土木建築事務所 | P4: =+'様式B (1)'!$S$4 -> 小笠原洋
B5: 写真 番号 | C5: 覆工スパン 番号 | E5: S30 | M5: 写真 番号 | N5: 覆工スパン 番号 | P5: S30
C6: 変状番号 | E6: 5 | N6: 変状番号 | P6: 6
B7: 変状 部位 | C7: 対象箇所 | E7: 覆工 | M7: 変状 部位 | N7: 対象箇所 | P7: 路面
C8: 部位区分 | E8: 側壁（右側） | N8: 部位区分 | P8: 側溝
B9: 変状種類 | E9: うき・はく離 | M9: 変状種類 | P9: その他
B10: 対策 区分 | C10: 変状区分 | E10: 材質劣化 | M10: 対策 区分 | N10: 変状区分
C11: 応急措置前 | N11: 応急措置前
C12: 応急措置後 | E12: Ⅱb | N12: 応急措置後
B13: 変状の発生範囲及び規模 | E13: 1.6m×0.4m | H13: 前回変状の発生範囲及び規模 | J13: 1.3m×0.3m | M13: 変状の発生範囲及び規模 | P13: － | S13: 前回変状の発生範囲及び規模 | U13: 0.1m×10.5m
B14: 対策履歴 | E14: 監視(日常巡視) | H14: 実施状況（実施日） | M14: 対策履歴 | S14: 実施状況（実施日）
B15: メモ | E15: 1.6m×0.4mの横断方向目地に閉合してブロック化したひび割れ、打音異常なし、進行は確認されない （写真番号S30-3・前回Ⅱb判定） | M15: メモ | P15: 0.1m×3.7mの左側側溝の土砂堆積 （写真番号S30-4・前回Ⅱb判定）
B16: 写真 番号 | C16: 覆工スパン 番号 | E16: S30 | M16: 写真 番号 | N16: 覆工スパン 番号 | P16: S31
C17: 変状番号 | E17: 7 | N17: 変状番号 | P17: 1
B18: 変状 部位 | C18: 対象箇所 | E18: 路面 | M18: 変状 部位 | N18: 対象箇所 | P18: 覆工
C19: 部位区分 | E19: 側溝 | N19: 部位区分 | P19: アーチ（左側）
B20: 変状種類 | E20: その他 | M20: 変状種類 | P20: 圧ざ、ひび割れ
B21: 対策 区分 | C21: 変状区分 | M21: 対策 区分 | N21: 変状区分 | P21: 外力
C22: 応急措置前 | N22: 応急措置前
C23: 応急措置後 | N23: 応急措置後 | P23: Ⅱb
B24: 変状の発生範囲及び規模 | E24: － | H24: 前回変状の発生範囲及び規模 | J24: － | M24: 変状の発生範囲及び規模 | P24: 7.0m×0.8mm | S24: 前回変状の発生範囲及び規模 | U24: －
B25: 対策履歴 | H25: 実施状況（実施日） | M25: 対策履歴 | P25: 監視(日常巡視) | S25: 実施状況（実施日）
B26: メモ | E26: 0.1m×10.5mの右側側溝の土砂堆積 | M26: メモ | P26: 幅0.8mm、長さ7.0mの縦断方向ひび割れ、外力作用の可能性あり
C27: ※ 応急措置後の対策区分について添付すること。また、点検前に 実施された措置によりⅠと判定された箇所も添付すること。 | N27: ※ 変状の発生範囲の規模とは、対策を行う際に参考となる変状の長さや面積をいう。
N28: ※ 応急措置を実施しないで決定した変状の対策区分は、対策区分の応急措置後の欄に記入すること。
C29: ※ たたき落としを実施した場合は、実施後の写真を添付すること。 | N29: ※ 変状の発生範囲の規模は、面積・寸法を記載すること。(ひび割れ幅のみmmとし、その他をm表記とする)
C30: ※ 附属物の取付状態に関する異常写真は別途、任意の書式でとりまとめること。 | N30: ※ 構造用鋼材以外の異物に伴ううき・はく離については、メモ欄に異物の概要を記入すること。

Sheet 様式D-1-1 (23)
B2: ■定期点検記録様式 変状写真台帳【様式D-1-1】 | R2: 施設ID | T2: =+'様式A-1'!$W$2 -> 34.19214,132.18042
B3: フリガナ | E3: =+'様式A-1'!$D$3 -> セキセキトンネル | H3: 路 線 名 | J3: =+'様式A-1'!$J$3 -> 主要地方道岩国大竹線 | M3: 定期点検実施者 | P3: =+'様式B (1)'!$S$3 -> 復建調査設計株式会社 | S3: 定期点検年月日 | U3: =+'様式B (1)'!$P$2 -> 45853
B4: 名 称 | E4: =+'様式A-1'!$D$4 -> 関々トンネル | H4: 管理者名 | J4: =+'様式A-1'!$R$3 -> 山口県岩国土木建築事務所 | P4: =+'様式B (1)'!$S$4 -> 小笠原洋
B5: 写真 番号 | C5: 覆工スパン 番号 | E5: S31 | M5: 写真 番号 | N5: 覆工スパン 番号 | P5: S31
C6: 変状番号 | E6: 2 | N6: 変状番号 | P6: 3
B7: 変状 部位 | C7: 対象箇所 | E7: 覆工 | M7: 変状 部位 | N7: 対象箇所 | P7: 路面
C8: 部位区分 | E8: 横断目地（全周） | N8: 部位区分 | P8: 側溝
B9: 変状種類 | E9: 漏水 | M9: 変状種類 | P9: その他
B10: 対策 区分 | C10: 変状区分 | E10: 漏水 | M10: 対策 区分 | N10: 変状区分
C11: 応急措置前 | N11: 応急措置前
C12: 応急措置後 | E12: Ⅱb | N12: 応急措置後
B13: 変状の発生範囲及び規模 | E13: 16.8m×0.5m | H13: 前回変状の発生範囲及び規模 | J13: 7.0m×0.1m | M13: 変状の発生範囲及び規模 | P13: － | S13: 前回変状の発生範囲及び規模 | U13: 0.1m×10.5m
B14: 対策履歴 | E14: 監視(日常巡視) | H14: 実施状況（実施日） | M14: 対策履歴 | S14: 実施状況（実施日）
B15: メモ | E15: 16.8m×0.5mの横断方向目地からの漏水、にじみ （写真番号S31-1・前回Ⅱb判定） | M15: メモ | P15: 0.1m×4.4mの左側側溝の土砂堆積 （写真番号S31-2・前回Ⅱb判定）
B16: 写真 番号 | C16: 覆工スパン 番号 | E16: S31 | M16: 写真 番号 | N16: 覆工スパン 番号 | P16: S32
C17: 変状番号 | E17: 4 | N17: 変状番号 | P17: 1
B18: 変状 部位 | C18: 対象箇所 | E18: 路面 | M18: 変状 部位 | N18: 対象箇所 | P18: 覆工
C19: 部位区分 | E19: 側溝 | N19: 部位区分 | P19: 側壁（左側）
B20: 変状種類 | E20: その他 | M20: 変状種類 | P20: 漏水
B21: 対策 区分 | C21: 変状区分 | M21: 対策 区分 | N21: 変状区分 | P21: 漏水
C22: 応急措置前 | N22: 応急措置前
C23: 応急措置後 | N23: 応急措置後 | P23: Ⅱb
B24: 変状の発生範囲及び規模 | E24: － | H24: 前回変状の発生範囲及び規模 | J24: － | M24: 変状の発生範囲及び規模 | P24: 2.3m×1.7m | S24: 前回変状の発生範囲及び規模 | U24: 1.9m×0.2m
B25: 対策履歴 | H25: 実施状況（実施日） | M25: 対策履歴 | P25: 監視(日常巡視) | S25: 実施状況（実施日）
B26: メモ | E26: 0.1m×10.5mの右側側溝の土砂堆積 | M26: メモ | P26: ひび割れからの漏水跡 （写真番号S32-1・前回Ⅱb判定）
C27: ※ 応急措置後の対策区分について添付すること。また、点検前に 実施された措置によりⅠと判定された箇所も添付すること。 | N27: ※ 変状の発生範囲の規模とは、対策を行う際に参考となる変状の長さや面積をいう。
N28: ※ 応急措置を実施しないで決定した変状の対策区分は、対策区分の応急措置後の欄に記入すること。
C29: ※ たたき落としを実施した場合は、実施後の写真を添付すること。 | N29: ※ 変状の発生範囲の規模は、面積・寸法を記載すること。(ひび割れ幅のみmmとし、その他をm表記とする)
C30: ※ 附属物の取付状態に関する異常写真は別途、任意の書式でとりまとめること。 | N30: ※ 構造用鋼材以外の異物に伴ううき・はく離については、メモ欄に異物の概要を記入すること。

Sheet 様式D-1-1 (24)
B2: ■定期点検記録様式 変状写真台帳【様式D-1-1】 | R2: 施設ID | T2: =+'様式A-1'!$W$2 -> 34.19214,132.18042
B3: フリガナ | E3: =+'様式A-1'!$D$3 -> セキセキトンネル | H3: 路 線 名 | J3: =+'様式A-1'!$J$3 -> 主要地方道岩国大竹線 | M3: 定期点検実施者 | P3: =+'様式B (1)'!$S$3 -> 復建調査設計株式会社 | S3: 定期点検年月日 | U3: =+'様式B (1)'!$P$2 -> 45853
B4: 名 称 | E4: =+'様式A-1'!$D$4 -> 関々トンネル | H4: 管理者名 | J4: =+'様式A-1'!$R$3 -> 山口県岩国土木建築事務所 | P4: =+'様式B (1)'!$S$4 -> 小笠原洋
B5: 写真 番号 | C5: 覆工スパン 番号 | E5: S32 | M5: 写真 番号 | N5: 覆工スパン 番号 | P5: S32
C6: 変状番号 | E6: 2 | N6: 変状番号 | P6: 3
B7: 変状 部位 | C7: 対象箇所 | E7: 覆工 | M7: 変状 部位 | N7: 対象箇所 | P7: 覆工
C8: 部位区分 | E8: 側壁（左側） | N8: 部位区分 | P8: 横断目地（左側）
B9: 変状種類 | E9: 圧ざ、ひび割れ | M9: 変状種類 | P9: 漏水
B10: 対策 区分 | C10: 変状区分 | E10: 外力 | M10: 対策 区分 | N10: 変状区分 | P10: 漏水
C11: 応急措置前 | N11: 応急措置前
C12: 応急措置後 | E12: Ⅱb | N12: 応急措置後 | P12: Ⅱb
B13: 変状の発生範囲及び規模 | E13: 10.5m×1.5mm | H13: 前回変状の発生範囲及び規模 | J13: － | M13: 変状の発生範囲及び規模 | P13: 6.0m×0.5m | S13: 前回変状の発生範囲及び規模 | U13: 6.0m×0.1m
B14: 対策履歴 | E14: 監視(日常巡視) | H14: 実施状況（実施日） | M14: 対策履歴 | P14: 監視(日常巡視) | S14: 実施状況（実施日）
B15: メモ | E15: 最大幅1.5mm、長さ10.5mの縦断方向ひび割れ、外力作用の可能性あり | M15: メモ | P15: 横断方向目地からの漏水跡 （写真番号S32-2・前回Ⅱb判定）
B16: 写真 番号 | C16: 覆工スパン 番号 | E16: S32 | M16: 写真 番号 | N16: 覆工スパン 番号 | P16: S32
C17: 変状番号 | E17: 4 | N17: 変状番号 | P17: 5
B18: 変状 部位 | C18: 対象箇所 | E18: 覆工 | M18: 変状 部位 | N18: 対象箇所 | P18: 覆工
C19: 部位区分 | E19: アーチ（右側） | N19: 部位区分 | P19: アーチ（右側）
B20: 変状種類 | E20: 鋼材腐食 | M20: 変状種類 | P20: 漏水
B21: 対策 区分 | C21: 変状区分 | E21: 材質劣化 | M21: 対策 区分 | N21: 変状区分 | P21: 漏水
C22: 応急措置前 | N22: 応急措置前
C23: 応急措置後 | E23: Ⅱb | N23: 応急措置後 | P23: Ⅱb
B24: 変状の発生範囲及び規模 | E24: 0.05m×0.05m | H24: 前回変状の発生範囲及び規模 | J24: 0.05m×0.05m | M24: 変状の発生範囲及び規模 | P24: 2.4m×0.5m | S24: 前回変状の発生範囲及び規模 | U24: －
B25: 対策履歴 | E25: 監視(日常巡視) | H25: 実施状況（実施日） | M25: 対策履歴 | P25: 監視(日常巡視) | S25: 実施状況（実施日）
B26: メモ | E26: 0.05m×0.05mの鋼材腐食、鋼材の表面的な錆び、構造鉄筋の可能性は低い （写真番号S32-3・前回Ⅱb判定） | M26: メモ | P26: 2.4m×0.5mのひび割れからの漏水、にじみ
C27: ※ 応急措置後の対策区分について添付すること。また、点検前に 実施された措置によりⅠと判定された箇所も添付すること。 | N27: ※ 変状の発生範囲の規模とは、対策を行う際に参考となる変状の長さや面積をいう。
N28: ※ 応急措置を実施しないで決定した変状の対策区分は、対策区分の応急措置後の欄に記入すること。
C29: ※ たたき落としを実施した場合は、実施後の写真を添付すること。 | N29: ※ 変状の発生範囲の規模は、面積・寸法を記載すること。(ひび割れ幅のみmmとし、その他をm表記とする)
C30: ※ 附属物の取付状態に関する異常写真は別途、任意の書式でとりまとめること。 | N30: ※ 構造用鋼材以外の異物に伴ううき・はく離については、メモ欄に異物の概要を記入すること。

Sheet 様式D-1-1 (25)
B2: ■定期点検記録様式 変状写真台帳【様式D-1-1】 | R2: 施設ID | T2: =+'様式A-1'!$W$2 -> 34.19214,132.18042
B3: フリガナ | E3: =+'様式A-1'!$D$3 -> セキセキトンネル | H3: 路 線 名 | J3: =+'様式A-1'!$J$3 -> 主要地方道岩国大竹線 | M3: 定期点検実施者 | P3: =+'様式B (1)'!$S$3 -> 復建調査設計株式会社 | S3: 定期点検年月日 | U3: =+'様式B (1)'!$P$2 -> 45853
B4: 名 称 | E4: =+'様式A-1'!$D$4 -> 関々トンネル | H4: 管理者名 | J4: =+'様式A-1'!$R$3 -> 山口県岩国土木建築事務所 | P4: =+'様式B (1)'!$S$4 -> 小笠原洋
B5: 写真 番号 | C5: 覆工スパン 番号 | E5: S32 | M5: 写真 番号 | N5: 覆工スパン 番号 | P5: S33
C6: 変状番号 | E6: 6 | N6: 変状番号 | P6: 1
B7: 変状 部位 | C7: 対象箇所 | E7: 路面 | M7: 変状 部位 | N7: 対象箇所 | P7: 覆工
C8: 部位区分 | E8: 側溝 | N8: 部位区分 | P8: 側壁（左側）
B9: 変状種類 | E9: その他 | M9: 変状種類 | P9: 漏水
B10: 対策 区分 | C10: 変状区分 | M10: 対策 区分 | N10: 変状区分 | P10: 漏水
C11: 応急措置前 | N11: 応急措置前
C12: 応急措置後 | N12: 応急措置後 | P12: Ⅱb
B13: 変状の発生範囲及び規模 | E13: － | H13: 前回変状の発生範囲及び規模 | J13: 0.1m×10.5m | M13: 変状の発生範囲及び規模 | P13: 2.0m×1.4m | S13: 前回変状の発生範囲及び規模 | U13: 1.9m×1.0m
B14: 対策履歴 | H14: 実施状況（実施日） | M14: 対策履歴 | P14: 監視(日常巡視) | S14: 実施状況（実施日）
B15: メモ | E15: 0.1m×10.5mの右側側溝の土砂堆積 （写真番号S32-4・前回Ⅱb判定） | M15: メモ | P15: ひび割れからの漏水跡 （写真番号S33-1・前回Ⅱb判定）
B16: 写真 番号 | C16: 覆工スパン 番号 | E16: S33 | M16: 写真 番号 | N16: 覆工スパン 番号 | P16: S33
C17: 変状番号 | E17: 2 | N17: 変状番号 | P17: 3
B18: 変状 部位 | C18: 対象箇所 | E18: 覆工 | M18: 変状 部位 | N18: 対象箇所 | P18: 路面
C19: 部位区分 | E19: 側壁（左側） | N19: 部位区分 | P19: 側溝
B20: 変状種類 | E20: 圧ざ、ひび割れ | M20: 変状種類 | P20: その他
B21: 対策 区分 | C21: 変状区分 | E21: 外力 | M21: 対策 区分 | N21: 変状区分
C22: 応急措置前 | N22: 応急措置前
C23: 応急措置後 | E23: Ⅱb | N23: 応急措置後
B24: 変状の発生範囲及び規模 | E24: 10.5m×0.6mm | H24: 前回変状の発生範囲及び規模 | J24: － | M24: 変状の発生範囲及び規模 | P24: － | S24: 前回変状の発生範囲及び規模 | U24: 0.1m×10.5m
B25: 対策履歴 | E25: 監視(日常巡視) | H25: 実施状況（実施日） | M25: 対策履歴 | S25: 実施状況（実施日）
B26: メモ | E26: 幅0.6mm、長さ10.5mの縦断方向ひび割れ、外力作用の可能性あり | M26: メモ | P26: 0.1m×10.5mの右側側溝の土砂堆積 （写真番号S33-2・前回Ⅱb判定）
C27: ※ 応急措置後の対策区分について添付すること。また、点検前に 実施された措置によりⅠと判定された箇所も添付すること。 | N27: ※ 変状の発生範囲の規模とは、対策を行う際に参考となる変状の長さや面積をいう。
N28: ※ 応急措置を実施しないで決定した変状の対策区分は、対策区分の応急措置後の欄に記入すること。
C29: ※ たたき落としを実施した場合は、実施後の写真を添付すること。 | N29: ※ 変状の発生範囲の規模は、面積・寸法を記載すること。(ひび割れ幅のみmmとし、その他をm表記とする)
C30: ※ 附属物の取付状態に関する異常写真は別途、任意の書式でとりまとめること。 | N30: ※ 構造用鋼材以外の異物に伴ううき・はく離については、メモ欄に異物の概要を記入すること。

Sheet 様式D-1-1 (26)
B2: ■定期点検記録様式 変状写真台帳【様式D-1-1】 | R2: 施設ID | T2: =+'様式A-1'!$W$2 -> 34.19214,132.18042
B3: フリガナ | E3: =+'様式A-1'!$D$3 -> セキセキトンネル | H3: 路 線 名 | J3: =+'様式A-1'!$J$3 -> 主要地方道岩国大竹線 | M3: 定期点検実施者 | P3: =+'様式B (1)'!$S$3 -> 復建調査設計株式会社 | S3: 定期点検年月日 | U3: =+'様式B (1)'!$P$2 -> 45853
B4: 名 称 | E4: =+'様式A-1'!$D$4 -> 関々トンネル | H4: 管理者名 | J4: =+'様式A-1'!$R$3 -> 山口県岩国土木建築事務所 | P4: =+'様式B (1)'!$S$4 -> 小笠原洋
B5: 写真 番号 | C5: 覆工スパン 番号 | E5: S34 | M5: 写真 番号 | N5: 覆工スパン 番号 | P5: S34
C6: 変状番号 | E6: 1 | N6: 変状番号 | P6: 2
B7: 変状 部位 | C7: 対象箇所 | E7: 覆工 | M7: 変状 部位 | N7: 対象箇所 | P7: 路面
C8: 部位区分 | E8: アーチ（右側） | N8: 部位区分 | P8: 側溝
B9: 変状種類 | E9: 鋼材腐食 | M9: 変状種類 | P9: その他
B10: 対策 区分 | C10: 変状区分 | E10: 材質劣化 | M10: 対策 区分 | N10: 変状区分
C11: 応急措置前 | N11: 応急措置前
C12: 応急措置後 | E12: Ⅱb | N12: 応急措置後
B13: 変状の発生範囲及び規模 | E13: 0.05m×0.05m | H13: 前回変状の発生範囲及び規模 | J13: 0.05m×0.05m | M13: 変状の発生範囲及び規模 | P13: － | S13: 前回変状の発生範囲及び規模 | U13: 0.1m×3.0m
B14: 対策履歴 | E14: 監視(日常巡視) | H14: 実施状況（実施日） | M14: 対策履歴 | S14: 実施状況（実施日）
B15: メモ | E15: 0.05m×0.05mの鋼材腐食、鋼材の表面的な錆び、構造鉄筋の可能性は低い （写真番号S34-1・前回Ⅱb判定） | M15: メモ | P15: 0.1m×1.1mの左側側溝の土砂堆積 （写真番号S34-2・前回Ⅱb判定）
B16: 写真 番号 | C16: 覆工スパン 番号 | E16: S34 | M16: 写真 番号 | N16: 覆工スパン 番号 | P16: S35
C17: 変状番号 | E17: 3 | N17: 変状番号 | P17: 1
B18: 変状 部位 | C18: 対象箇所 | E18: 路面 | M18: 変状 部位 | N18: 対象箇所 | P18: 路面
C19: 部位区分 | E19: 側溝 | N19: 部位区分 | P19: 側溝
B20: 変状種類 | E20: その他 | M20: 変状種類 | P20: その他
B21: 対策 区分 | C21: 変状区分 | M21: 対策 区分 | N21: 変状区分
C22: 応急措置前 | N22: 応急措置前
C23: 応急措置後 | N23: 応急措置後
B24: 変状の発生範囲及び規模 | E24: － | H24: 前回変状の発生範囲及び規模 | J24: 0.1m×10.5m | M24: 変状の発生範囲及び規模 | P24: － | S24: 前回変状の発生範囲及び規模 | U24: 0.1m×10.5m
B25: 対策履歴 | H25: 実施状況（実施日） | M25: 対策履歴 | S25: 実施状況（実施日）
B26: メモ | E26: 0.1m×10.5mの右側側溝の土砂堆積 （写真番号S34-3・前回Ⅱb判定） | M26: メモ | P26: 0.1m×10.5mの左側側溝の土砂堆積 （写真番号S35-1・前回Ⅱb判定）
C27: ※ 応急措置後の対策区分について添付すること。また、点検前に 実施された措置によりⅠと判定された箇所も添付すること。 | N27: ※ 変状の発生範囲の規模とは、対策を行う際に参考となる変状の長さや面積をいう。
N28: ※ 応急措置を実施しないで決定した変状の対策区分は、対策区分の応急措置後の欄に記入すること。
C29: ※ たたき落としを実施した場合は、実施後の写真を添付すること。 | N29: ※ 変状の発生範囲の規模は、面積・寸法を記載すること。(ひび割れ幅のみmmとし、その他をm表記とする)
C30: ※ 附属物の取付状態に関する異常写真は別途、任意の書式でとりまとめること。 | N30: ※ 構造用鋼材以外の異物に伴ううき・はく離については、メモ欄に異物の概要を記入すること。

Sheet 様式D-1-1 (27)
B2: ■定期点検記録様式 変状写真台帳【様式D-1-1】 | R2: 施設ID | T2: =+'様式A-1'!$W$2 -> 34.19214,132.18042
B3: フリガナ | E3: =+'様式A-1'!$D$3 -> セキセキトンネル | H3: 路 線 名 | J3: =+'様式A-1'!$J$3 -> 主要地方道岩国大竹線 | M3: 定期点検実施者 | P3: =+'様式B (1)'!$S$3 -> 復建調査設計株式会社 | S3: 定期点検年月日 | U3: =+'様式B (1)'!$P$2 -> 45853
B4: 名 称 | E4: =+'様式A-1'!$D$4 -> 関々トンネル | H4: 管理者名 | J4: =+'様式A-1'!$R$3 -> 山口県岩国土木建築事務所 | P4: =+'様式B (1)'!$S$4 -> 小笠原洋
B5: 写真 番号 | C5: 覆工スパン 番号 | E5: S35 | M5: 写真 番号 | N5: 覆工スパン 番号 | P5: S36
C6: 変状番号 | E6: 2 | N6: 変状番号 | P6: 1
B7: 変状 部位 | C7: 対象箇所 | E7: 路面 | M7: 変状 部位 | N7: 対象箇所 | P7: 路面
C8: 部位区分 | E8: 側溝 | N8: 部位区分 | P8: 側溝
B9: 変状種類 | E9: その他 | M9: 変状種類 | P9: その他
B10: 対策 区分 | C10: 変状区分 | M10: 対策 区分 | N10: 変状区分
C11: 応急措置前 | N11: 応急措置前
C12: 応急措置後 | N12: 応急措置後
B13: 変状の発生範囲及び規模 | E13: － | H13: 前回変状の発生範囲及び規模 | J13: 0.1m×10.5m | M13: 変状の発生範囲及び規模 | P13: － | S13: 前回変状の発生範囲及び規模 | U13: 0.1m×10.5m
B14: 対策履歴 | H14: 実施状況（実施日） | M14: 対策履歴 | S14: 実施状況（実施日）
B15: メモ | E15: 0.1m×10.5mの右側側溝の土砂堆積 （写真番号S35-2・前回Ⅱb判定） | M15: メモ | P15: 0.1m×10.5mの左側側溝の土砂堆積 （写真番号S36-1・前回Ⅱb判定）
B16: 写真 番号 | C16: 覆工スパン 番号 | E16: S36 | M16: 写真 番号 | N16: 覆工スパン 番号 | P16: S37
C17: 変状番号 | E17: 2 | N17: 変状番号 | P17: 1
B18: 変状 部位 | C18: 対象箇所 | E18: 路面 | M18: 変状 部位 | N18: 対象箇所 | P18: 路面
C19: 部位区分 | E19: 側溝 | N19: 部位区分 | P19: 側溝
B20: 変状種類 | E20: その他 | M20: 変状種類 | P20: その他
B21: 対策 区分 | C21: 変状区分 | M21: 対策 区分 | N21: 変状区分
C22: 応急措置前 | N22: 応急措置前
C23: 応急措置後 | N23: 応急措置後
B24: 変状の発生範囲及び規模 | E24: － | H24: 前回変状の発生範囲及び規模 | J24: 0.1m×10.5m | M24: 変状の発生範囲及び規模 | P24: － | S24: 前回変状の発生範囲及び規模 | U24: 0.1m×7.5m
B25: 対策履歴 | H25: 実施状況（実施日） | M25: 対策履歴 | S25: 実施状況（実施日）
B26: メモ | E26: 0.1m×10.5mの右側側溝の土砂堆積 （写真番号S36-2・前回Ⅱb判定） | M26: メモ | P26: 0.1m×10.5mの左側側溝の土砂堆積 （写真番号S37-1・前回Ⅱb判定）
C27: ※ 応急措置後の対策区分について添付すること。また、点検前に 実施された措置によりⅠと判定された箇所も添付すること。 | N27: ※ 変状の発生範囲の規模とは、対策を行う際に参考となる変状の長さや面積をいう。
N28: ※ 応急措置を実施しないで決定した変状の対策区分は、対策区分の応急措置後の欄に記入すること。
C29: ※ たたき落としを実施した場合は、実施後の写真を添付すること。 | N29: ※ 変状の発生範囲の規模は、面積・寸法を記載すること。(ひび割れ幅のみmmとし、その他をm表記とする)
C30: ※ 附属物の取付状態に関する異常写真は別途、任意の書式でとりまとめること。 | N30: ※ 構造用鋼材以外の異物に伴ううき・はく離については、メモ欄に異物の概要を記入すること。

Sheet 様式D-1-1 (28)
B2: ■定期点検記録様式 変状写真台帳【様式D-1-1】 | R2: 施設ID | T2: =+'様式A-1'!$W$2 -> 34.19214,132.18042
B3: フリガナ | E3: =+'様式A-1'!$D$3 -> セキセキトンネル | H3: 路 線 名 | J3: =+'様式A-1'!$J$3 -> 主要地方道岩国大竹線 | M3: 定期点検実施者 | P3: =+'様式B (1)'!$S$3 -> 復建調査設計株式会社 | S3: 定期点検年月日 | U3: =+'様式B (1)'!$P$2 -> 45853
B4: 名 称 | E4: =+'様式A-1'!$D$4 -> 関々トンネル | H4: 管理者名 | J4: =+'様式A-1'!$R$3 -> 山口県岩国土木建築事務所 | P4: =+'様式B (1)'!$S$4 -> 小笠原洋
B5: 写真 番号 | C5: 覆工スパン 番号 | E5: S37 | M5: 写真 番号 | N5: 覆工スパン 番号 | P5: S38
C6: 変状番号 | E6: 2 | N6: 変状番号 | P6: 1
B7: 変状 部位 | C7: 対象箇所 | E7: 路面 | M7: 変状 部位 | N7: 対象箇所 | P7: 路面
C8: 部位区分 | E8: 側溝 | N8: 部位区分 | P8: 側溝
B9: 変状種類 | E9: その他 | M9: 変状種類 | P9: その他
B10: 対策 区分 | C10: 変状区分 | M10: 対策 区分 | N10: 変状区分
C11: 応急措置前 | N11: 応急措置前
C12: 応急措置後 | N12: 応急措置後
B13: 変状の発生範囲及び規模 | E13: － | H13: 前回変状の発生範囲及び規模 | J13: 0.1m×10.5m | M13: 変状の発生範囲及び規模 | P13: － | S13: 前回変状の発生範囲及び規模 | U13: 0.1m×10.5m
B14: 対策履歴 | H14: 実施状況（実施日） | M14: 対策履歴 | S14: 実施状況（実施日）
B15: メモ | E15: 0.1m×10.5mの右側側溝の土砂堆積 （写真番号S37-2・前回Ⅱb判定） | M15: メモ | P15: 0.1m×10.5mの右側側溝の土砂堆積 （写真番号S38-1・前回Ⅱb判定）
B16: 写真 番号 | C16: 覆工スパン 番号 | E16: S39 | M16: 写真 番号 | N16: 覆工スパン 番号 | P16: S40
C17: 変状番号 | E17: 1 | N17: 変状番号 | P17: 1
B18: 変状 部位 | C18: 対象箇所 | E18: 路面 | M18: 変状 部位 | N18: 対象箇所 | P18: 路面
C19: 部位区分 | E19: 側溝 | N19: 部位区分 | P19: 側溝
B20: 変状種類 | E20: その他 | M20: 変状種類 | P20: その他
B21: 対策 区分 | C21: 変状区分 | M21: 対策 区分 | N21: 変状区分
C22: 応急措置前 | N22: 応急措置前
C23: 応急措置後 | N23: 応急措置後
B24: 変状の発生範囲及び規模 | E24: － | H24: 前回変状の発生範囲及び規模 | J24: 0.1m×10.5m | M24: 変状の発生範囲及び規模 | P24: － | S24: 前回変状の発生範囲及び規模 | U24: 0.1m×10.5m
B25: 対策履歴 | H25: 実施状況（実施日） | M25: 対策履歴 | S25: 実施状況（実施日）
B26: メモ | E26: 0.1m×10.5mの右側側溝の土砂堆積 （写真番号S39-1・前回Ⅱb判定） | M26: メモ | P26: 0.1m×10.5mの右側側溝の土砂堆積 （写真番号S40-1・前回Ⅱb判定）
C27: ※ 応急措置後の対策区分について添付すること。また、点検前に 実施された措置によりⅠと判定された箇所も添付すること。 | N27: ※ 変状の発生範囲の規模とは、対策を行う際に参考となる変状の長さや面積をいう。
N28: ※ 応急措置を実施しないで決定した変状の対策区分は、対策区分の応急措置後の欄に記入すること。
C29: ※ たたき落としを実施した場合は、実施後の写真を添付すること。 | N29: ※ 変状の発生範囲の規模は、面積・寸法を記載すること。(ひび割れ幅のみmmとし、その他をm表記とする)
C30: ※ 附属物の取付状態に関する異常写真は別途、任意の書式でとりまとめること。 | N30: ※ 構造用鋼材以外の異物に伴ううき・はく離については、メモ欄に異物の概要を記入すること。

Sheet 様式D-1-1 (29)
B2: ■定期点検記録様式 変状写真台帳【様式D-1-1】 | R2: 施設ID | T2: =+'様式A-1'!$W$2 -> 34.19214,132.18042
B3: フリガナ | E3: =+'様式A-1'!$D$3 -> セキセキトンネル | H3: 路 線 名 | J3: =+'様式A-1'!$J$3 -> 主要地方道岩国大竹線 | M3: 定期点検実施者 | P3: =+'様式B (1)'!$S$3 -> 復建調査設計株式会社 | S3: 定期点検年月日 | U3: =+'様式B (1)'!$P$2 -> 45853
B4: 名 称 | E4: =+'様式A-1'!$D$4 -> 関々トンネル | H4: 管理者名 | J4: =+'様式A-1'!$R$3 -> 山口県岩国土木建築事務所 | P4: =+'様式B (1)'!$S$4 -> 小笠原洋
B5: 写真 番号 | C5: 覆工スパン 番号 | E5: S41 | M5: 写真 番号 | N5: 覆工スパン 番号 | P5: S42
C6: 変状番号 | E6: 1 | N6: 変状番号 | P6: 1
B7: 変状 部位 | C7: 対象箇所 | E7: 路面 | M7: 変状 部位 | N7: 対象箇所 | P7: 路面
C8: 部位区分 | E8: 側溝 | N8: 部位区分 | P8: 側溝
B9: 変状種類 | E9: その他 | M9: 変状種類 | P9: その他
B10: 対策 区分 | C10: 変状区分 | M10: 対策 区分 | N10: 変状区分
C11: 応急措置前 | N11: 応急措置前
C12: 応急措置後 | N12: 応急措置後
B13: 変状の発生範囲及び規模 | E13: － | H13: 前回変状の発生範囲及び規模 | J13: 0.1m×10.5m | M13: 変状の発生範囲及び規模 | P13: － | S13: 前回変状の発生範囲及び規模 | U13: 0.1m×3.0m
B14: 対策履歴 | H14: 実施状況（実施日） | M14: 対策履歴 | S14: 実施状況（実施日）
B15: メモ | E15: 0.1m×10.5mの右側側溝の土砂堆積 （写真番号S41-1・前回Ⅱb判定） | M15: メモ | P15: 0.1m×5.0mの左側側溝の土砂堆積 （写真番号S42-1・前回Ⅱb判定）
B16: 写真 番号 | C16: 覆工スパン 番号 | E16: S42 | M16: 写真 番号 | N16: 覆工スパン 番号 | P16: S43
C17: 変状番号 | E17: 2 | N17: 変状番号 | P17: 1
B18: 変状 部位 | C18: 対象箇所 | E18: 路面 | M18: 変状 部位 | N18: 対象箇所 | P18: 路面
C19: 部位区分 | E19: 側溝 | N19: 部位区分 | P19: 側溝
B20: 変状種類 | E20: その他 | M20: 変状種類 | P20: その他
B21: 対策 区分 | C21: 変状区分 | M21: 対策 区分 | N21: 変状区分
C22: 応急措置前 | N22: 応急措置前
C23: 応急措置後 | N23: 応急措置後
B24: 変状の発生範囲及び規模 | E24: － | H24: 前回変状の発生範囲及び規模 | J24: 0.1m×10.5m | M24: 変状の発生範囲及び規模 | P24: － | S24: 前回変状の発生範囲及び規模 | U24: 0.1m×5.5m
B25: 対策履歴 | H25: 実施状況（実施日） | M25: 対策履歴 | S25: 実施状況（実施日）
B26: メモ | E26: 0.1m×10.5mの右側側溝の土砂堆積 （写真番号S42-2・前回Ⅱb判定） | M26: メモ | P26: 0.1m×7.0mの左側側溝の土砂堆積 （写真番号S43-1・前回Ⅱb判定）
C27: ※ 応急措置後の対策区分について添付すること。また、点検前に 実施された措置によりⅠと判定された箇所も添付すること。 | N27: ※ 変状の発生範囲の規模とは、対策を行う際に参考となる変状の長さや面積をいう。
N28: ※ 応急措置を実施しないで決定した変状の対策区分は、対策区分の応急措置後の欄に記入すること。
C29: ※ たたき落としを実施した場合は、実施後の写真を添付すること。 | N29: ※ 変状の発生範囲の規模は、面積・寸法を記載すること。(ひび割れ幅のみmmとし、その他をm表記とする)
C30: ※ 附属物の取付状態に関する異常写真は別途、任意の書式でとりまとめること。 | N30: ※ 構造用鋼材以外の異物に伴ううき・はく離については、メモ欄に異物の概要を記入すること。

Sheet 様式D-1-1 (30)
B2: ■定期点検記録様式 変状写真台帳【様式D-1-1】 | R2: 施設ID | T2: =+'様式A-1'!$W$2 -> 34.19214,132.18042
B3: フリガナ | E3: =+'様式A-1'!$D$3 -> セキセキトンネル | H3: 路 線 名 | J3: =+'様式A-1'!$J$3 -> 主要地方道岩国大竹線 | M3: 定期点検実施者 | P3: =+'様式B (1)'!$S$3 -> 復建調査設計株式会社 | S3: 定期点検年月日 | U3: =+'様式B (1)'!$P$2 -> 45853
B4: 名 称 | E4: =+'様式A-1'!$D$4 -> 関々トンネル | H4: 管理者名 | J4: =+'様式A-1'!$R$3 -> 山口県岩国土木建築事務所 | P4: =+'様式B (1)'!$S$4 -> 小笠原洋
B5: 写真 番号 | C5: 覆工スパン 番号 | E5: S43 | M5: 写真 番号 | N5: 覆工スパン 番号 | P5: S44
C6: 変状番号 | E6: 2 | N6: 変状番号 | P6: 1
B7: 変状 部位 | C7: 対象箇所 | E7: 路面 | M7: 変状 部位 | N7: 対象箇所 | P7: 路面
C8: 部位区分 | E8: 側溝 | N8: 部位区分 | P8: 側溝
B9: 変状種類 | E9: その他 | M9: 変状種類 | P9: その他
B10: 対策 区分 | C10: 変状区分 | M10: 対策 区分 | N10: 変状区分
C11: 応急措置前 | N11: 応急措置前
C12: 応急措置後 | N12: 応急措置後
B13: 変状の発生範囲及び規模 | E13: － | H13: 前回変状の発生範囲及び規模 | J13: 0.1m×10.5m | M13: 変状の発生範囲及び規模 | P13: － | S13: 前回変状の発生範囲及び規模 | U13: 0.1m×10.5m
B14: 対策履歴 | H14: 実施状況（実施日） | M14: 対策履歴 | S14: 実施状況（実施日）
B15: メモ | E15: 0.1m×10.5mの右側側溝の土砂堆積 （写真番号S43-2・前回Ⅱb判定） | M15: メモ | P15: 0.1m×10.5mの右側側溝の土砂堆積 （写真番号S44-1・前回Ⅱb判定）
B16: 写真 番号 | C16: 覆工スパン 番号 | E16: S45 | M16: 写真 番号 | N16: 覆工スパン 番号 | P16: S46
C17: 変状番号 | E17: 1 | N17: 変状番号 | P17: 1
B18: 変状 部位 | C18: 対象箇所 | E18: 路面 | M18: 変状 部位 | N18: 対象箇所 | P18: 路面
C19: 部位区分 | E19: 側溝 | N19: 部位区分 | P19: 側溝
B20: 変状種類 | E20: その他 | M20: 変状種類 | P20: その他
B21: 対策 区分 | C21: 変状区分 | M21: 対策 区分 | N21: 変状区分
C22: 応急措置前 | N22: 応急措置前
C23: 応急措置後 | N23: 応急措置後
B24: 変状の発生範囲及び規模 | E24: － | H24: 前回変状の発生範囲及び規模 | J24: 0.1m×10.5m | M24: 変状の発生範囲及び規模 | P24: － | S24: 前回変状の発生範囲及び規模 | U24: 0.1m×8.5m
B25: 対策履歴 | H25: 実施状況（実施日） | M25: 対策履歴 | S25: 実施状況（実施日）
B26: メモ | E26: 0.1m×10.5mの右側側溝の土砂堆積 （写真番号S45-1・前回Ⅱb判定） | M26: メモ | P26: 0.1m×9.0mの左側側溝の土砂堆積 （写真番号S46-1・前回Ⅱb判定）
C27: ※ 応急措置後の対策区分について添付すること。また、点検前に 実施された措置によりⅠと判定された箇所も添付すること。 | N27: ※ 変状の発生範囲の規模とは、対策を行う際に参考となる変状の長さや面積をいう。
N28: ※ 応急措置を実施しないで決定した変状の対策区分は、対策区分の応急措置後の欄に記入すること。
C29: ※ たたき落としを実施した場合は、実施後の写真を添付すること。 | N29: ※ 変状の発生範囲の規模は、面積・寸法を記載すること。(ひび割れ幅のみmmとし、その他をm表記とする)
C30: ※ 附属物の取付状態に関する異常写真は別途、任意の書式でとりまとめること。 | N30: ※ 構造用鋼材以外の異物に伴ううき・はく離については、メモ欄に異物の概要を記入すること。

Sheet 様式D-1-1 (31)
B2: ■定期点検記録様式 変状写真台帳【様式D-1-1】 | R2: 施設ID | T2: =+'様式A-1'!$W$2 -> 34.19214,132.18042
B3: フリガナ | E3: =+'様式A-1'!$D$3 -> セキセキトンネル | H3: 路 線 名 | J3: =+'様式A-1'!$J$3 -> 主要地方道岩国大竹線 | M3: 定期点検実施者 | P3: =+'様式B (1)'!$S$3 -> 復建調査設計株式会社 | S3: 定期点検年月日 | U3: =+'様式B (1)'!$P$2 -> 45853
B4: 名 称 | E4: =+'様式A-1'!$D$4 -> 関々トンネル | H4: 管理者名 | J4: =+'様式A-1'!$R$3 -> 山口県岩国土木建築事務所 | P4: =+'様式B (1)'!$S$4 -> 小笠原洋
B5: 写真 番号 | C5: 覆工スパン 番号 | E5: S46 | M5: 写真 番号 | N5: 覆工スパン 番号 | P5: S47
C6: 変状番号 | E6: 2 | N6: 変状番号 | P6: 1
B7: 変状 部位 | C7: 対象箇所 | E7: 路面 | M7: 変状 部位 | N7: 対象箇所 | P7: 覆工
C8: 部位区分 | E8: 側溝 | N8: 部位区分 | P8: アーチ（右側）
B9: 変状種類 | E9: その他 | M9: 変状種類 | P9: 鋼材腐食
B10: 対策 区分 | C10: 変状区分 | M10: 対策 区分 | N10: 変状区分 | P10: 材質劣化
C11: 応急措置前 | N11: 応急措置前
C12: 応急措置後 | N12: 応急措置後 | P12: Ⅱb
B13: 変状の発生範囲及び規模 | E13: － | H13: 前回変状の発生範囲及び規模 | J13: 0.1m×10.5m | M13: 変状の発生範囲及び規模 | P13: 0.05m×0.25m | S13: 前回変状の発生範囲及び規模 | U13: 0.05m×0.25m
B14: 対策履歴 | H14: 実施状況（実施日） | M14: 対策履歴 | P14: 監視(日常巡視) | S14: 実施状況（実施日）
B15: メモ | E15: 0.1m×10.5mの右側側溝の土砂堆積 （写真番号S46-2・前回Ⅱb判定） | M15: メモ | P15: 0.05m×0.25mの鋼材腐食、鋼材の表面的な錆び、構造鉄筋の可能性は低い （写真番号S47-1・前回Ⅱb判定）
B16: 写真 番号 | C16: 覆工スパン 番号 | E16: S47 | M16: 写真 番号 | N16: 覆工スパン 番号 | P16: S47
C17: 変状番号 | E17: 2 | N17: 変状番号 | P17: 3
B18: 変状 部位 | C18: 対象箇所 | E18: 路面 | M18: 変状 部位 | N18: 対象箇所 | P18: 路面
C19: 部位区分 | E19: 側溝 | N19: 部位区分 | P19: 側溝
B20: 変状種類 | E20: その他 | M20: 変状種類 | P20: その他
B21: 対策 区分 | C21: 変状区分 | M21: 対策 区分 | N21: 変状区分
C22: 応急措置前 | N22: 応急措置前
C23: 応急措置後 | N23: 応急措置後
B24: 変状の発生範囲及び規模 | E24: － | H24: 前回変状の発生範囲及び規模 | J24: 0.1m×10.5m | M24: 変状の発生範囲及び規模 | P24: － | S24: 前回変状の発生範囲及び規模 | U24: 0.1m×10.5m
B25: 対策履歴 | H25: 実施状況（実施日） | M25: 対策履歴 | S25: 実施状況（実施日）
B26: メモ | E26: 0.1m×10.5mの左側側溝の土砂堆積 （写真番号S47-2・前回Ⅱb判定） | M26: メモ | P26: 0.1m×10.5mの右側側溝の土砂堆積 （写真番号S47-3・前回Ⅱb判定）
C27: ※ 応急措置後の対策区分について添付すること。また、点検前に 実施された措置によりⅠと判定された箇所も添付すること。 | N27: ※ 変状の発生範囲の規模とは、対策を行う際に参考となる変状の長さや面積をいう。
N28: ※ 応急措置を実施しないで決定した変状の対策区分は、対策区分の応急措置後の欄に記入すること。
C29: ※ たたき落としを実施した場合は、実施後の写真を添付すること。 | N29: ※ 変状の発生範囲の規模は、面積・寸法を記載すること。(ひび割れ幅のみmmとし、その他をm表記とする)
C30: ※ 附属物の取付状態に関する異常写真は別途、任意の書式でとりまとめること。 | N30: ※ 構造用鋼材以外の異物に伴ううき・はく離については、メモ欄に異物の概要を記入すること。

Sheet 様式D-1-1 (32)
B2: ■定期点検記録様式 変状写真台帳【様式D-1-1】 | R2: 施設ID | T2: =+'様式A-1'!$W$2 -> 34.19214,132.18042
B3: フリガナ | E3: =+'様式A-1'!$D$3 -> セキセキトンネル | H3: 路 線 名 | J3: =+'様式A-1'!$J$3 -> 主要地方道岩国大竹線 | M3: 定期点検実施者 | P3: =+'様式B (1)'!$S$3 -> 復建調査設計株式会社 | S3: 定期点検年月日 | U3: =+'様式B (1)'!$P$2 -> 45853
B4: 名 称 | E4: =+'様式A-1'!$D$4 -> 関々トンネル | H4: 管理者名 | J4: =+'様式A-1'!$R$3 -> 山口県岩国土木建築事務所 | P4: =+'様式B (1)'!$S$4 -> 小笠原洋
B5: 写真 番号 | C5: 覆工スパン 番号 | E5: S48 | M5: 写真 番号 | N5: 覆工スパン 番号 | P5: S48
C6: 変状番号 | E6: 1 | N6: 変状番号 | P6: 2
B7: 変状 部位 | C7: 対象箇所 | E7: 覆工 | M7: 変状 部位 | N7: 対象箇所 | P7: 路面
C8: 部位区分 | E8: アーチ（右側） | N8: 部位区分 | P8: 側溝
B9: 変状種類 | E9: 鋼材腐食 | M9: 変状種類 | P9: その他
B10: 対策 区分 | C10: 変状区分 | E10: 材質劣化 | M10: 対策 区分 | N10: 変状区分
C11: 応急措置前 | N11: 応急措置前
C12: 応急措置後 | E12: Ⅱb | N12: 応急措置後
B13: 変状の発生範囲及び規模 | E13: 0.1m×0.15m | H13: 前回変状の発生範囲及び規模 | J13: 0.05m×0.15m | M13: 変状の発生範囲及び規模 | P13: － | S13: 前回変状の発生範囲及び規模 | U13: 0.1m×10.5m
B14: 対策履歴 | E14: 監視(日常巡視) | H14: 実施状況（実施日） | M14: 対策履歴 | S14: 実施状況（実施日）
B15: メモ | E15: 0.1m×0.15mの鋼材腐食、鋼材の表面的な錆び、構造鉄筋の可能性は低い （写真番号S48-1・前回Ⅱb判定） | M15: メモ | P15: 0.1m×10.5mの左側側溝の土砂堆積 （写真番号S48-2・前回Ⅱb判定）
B16: 写真 番号 | C16: 覆工スパン 番号 | E16: S48 | M16: 写真 番号 | N16: 覆工スパン 番号 | P16: S49
C17: 変状番号 | E17: 3 | N17: 変状番号 | P17: 1
B18: 変状 部位 | C18: 対象箇所 | E18: 路面 | M18: 変状 部位 | N18: 対象箇所 | P18: 路面
C19: 部位区分 | E19: 側溝 | N19: 部位区分 | P19: 側溝
B20: 変状種類 | E20: その他 | M20: 変状種類 | P20: その他
B21: 対策 区分 | C21: 変状区分 | M21: 対策 区分 | N21: 変状区分
C22: 応急措置前 | N22: 応急措置前
C23: 応急措置後 | N23: 応急措置後
B24: 変状の発生範囲及び規模 | E24: － | H24: 前回変状の発生範囲及び規模 | J24: 0.1m×10.5m | M24: 変状の発生範囲及び規模 | P24: － | S24: 前回変状の発生範囲及び規模 | U24: 0.1m×7.5m
B25: 対策履歴 | H25: 実施状況（実施日） | M25: 対策履歴 | S25: 実施状況（実施日）
B26: メモ | E26: 0.1m×10.5mの右側側溝の土砂堆積 （写真番号S48-3・前回Ⅱb判定） | M26: メモ | P26: 0.1m×10.5mの左側側溝の土砂堆積 （写真番号S49-1・前回Ⅱb判定）
C27: ※ 応急措置後の対策区分について添付すること。また、点検前に 実施された措置によりⅠと判定された箇所も添付すること。 | N27: ※ 変状の発生範囲の規模とは、対策を行う際に参考となる変状の長さや面積をいう。
N28: ※ 応急措置を実施しないで決定した変状の対策区分は、対策区分の応急措置後の欄に記入すること。
C29: ※ たたき落としを実施した場合は、実施後の写真を添付すること。 | N29: ※ 変状の発生範囲の規模は、面積・寸法を記載すること。(ひび割れ幅のみmmとし、その他をm表記とする)
C30: ※ 附属物の取付状態に関する異常写真は別途、任意の書式でとりまとめること。 | N30: ※ 構造用鋼材以外の異物に伴ううき・はく離については、メモ欄に異物の概要を記入すること。

Sheet 様式D-1-1 (33)
B2: ■定期点検記録様式 変状写真台帳【様式D-1-1】 | R2: 施設ID | T2: =+'様式A-1'!$W$2 -> 34.19214,132.18042
B3: フリガナ | E3: =+'様式A-1'!$D$3 -> セキセキトンネル | H3: 路 線 名 | J3: =+'様式A-1'!$J$3 -> 主要地方道岩国大竹線 | M3: 定期点検実施者 | P3: =+'様式B (1)'!$S$3 -> 復建調査設計株式会社 | S3: 定期点検年月日 | U3: =+'様式B (1)'!$P$2 -> 45853
B4: 名 称 | E4: =+'様式A-1'!$D$4 -> 関々トンネル | H4: 管理者名 | J4: =+'様式A-1'!$R$3 -> 山口県岩国土木建築事務所 | P4: =+'様式B (1)'!$S$4 -> 小笠原洋
B5: 写真 番号 | C5: 覆工スパン 番号 | E5: S49 | M5: 写真 番号 | N5: 覆工スパン 番号 | P5: S50
C6: 変状番号 | E6: 2 | N6: 変状番号 | P6: 1
B7: 変状 部位 | C7: 対象箇所 | E7: 路面 | M7: 変状 部位 | N7: 対象箇所 | P7: 路面
C8: 部位区分 | E8: 側溝 | N8: 部位区分 | P8: 側溝
B9: 変状種類 | E9: その他 | M9: 変状種類 | P9: その他
B10: 対策 区分 | C10: 変状区分 | M10: 対策 区分 | N10: 変状区分
C11: 応急措置前 | N11: 応急措置前
C12: 応急措置後 | N12: 応急措置後
B13: 変状の発生範囲及び規模 | E13: － | H13: 前回変状の発生範囲及び規模 | J13: 0.1m×10.5m | M13: 変状の発生範囲及び規模 | P13: － | S13: 前回変状の発生範囲及び規模 | U13: 0.1m×10.5m
B14: 対策履歴 | H14: 実施状況（実施日） | M14: 対策履歴 | S14: 実施状況（実施日）
B15: メモ | E15: 0.1m×10.5mの右側側溝の土砂堆積 （写真番号S49-2・前回Ⅱb判定） | M15: メモ | P15: 0.1m×10.5mの右側側溝の土砂堆積 （写真番号S50-1・前回Ⅱb判定）
B16: 写真 番号 | C16: 覆工スパン 番号 | E16: S51 | M16: 写真 番号 | N16: 覆工スパン 番号 | P16: S52
C17: 変状番号 | E17: 1 | N17: 変状番号 | P17: 1
B18: 変状 部位 | C18: 対象箇所 | E18: 路面 | M18: 変状 部位 | N18: 対象箇所 | P18: 覆工
C19: 部位区分 | E19: 側溝 | N19: 部位区分 | P19: アーチ（左側）
B20: 変状種類 | E20: その他 | M20: 変状種類 | P20: 鋼材腐食
B21: 対策 区分 | C21: 変状区分 | M21: 対策 区分 | N21: 変状区分 | P21: 材質劣化
C22: 応急措置前 | N22: 応急措置前 | P22: Ⅲ
C23: 応急措置後 | N23: 応急措置後 | P23: Ⅱb
B24: 変状の発生範囲及び規模 | E24: － | H24: 前回変状の発生範囲及び規模 | J24: 0.1m×10.5m | M24: 変状の発生範囲及び規模 | P24: 0.2m×0.2m | S24: 前回変状の発生範囲及び規模 | U24: －
B25: 対策履歴 | H25: 実施状況（実施日） | M25: 対策履歴 | P25: 叩き落とし | S25: 実施状況（実施日） | U25: 45945
B26: メモ | E26: 0.1m×10.5mの右側側溝の土砂堆積 （写真番号S51-1・前回Ⅱb判定） | M26: メモ | P26: 0.2m×0.2mのうきをハンマーで叩き落とした、背面に鋼材腐食あり
C27: ※ 応急措置後の対策区分について添付すること。また、点検前に 実施された措置によりⅠと判定された箇所も添付すること。 | N27: ※ 変状の発生範囲の規模とは、対策を行う際に参考となる変状の長さや面積をいう。
N28: ※ 応急措置を実施しないで決定した変状の対策区分は、対策区分の応急措置後の欄に記入すること。
C29: ※ たたき落としを実施した場合は、実施後の写真を添付すること。 | N29: ※ 変状の発生範囲の規模は、面積・寸法を記載すること。(ひび割れ幅のみmmとし、その他をm表記とする)
C30: ※ 附属物の取付状態に関する異常写真は別途、任意の書式でとりまとめること。 | N30: ※ 構造用鋼材以外の異物に伴ううき・はく離については、メモ欄に異物の概要を記入すること。

Sheet 様式D-1-1 (34)
B2: ■定期点検記録様式 変状写真台帳【様式D-1-1】 | R2: 施設ID | T2: =+'様式A-1'!$W$2 -> 34.19214,132.18042
B3: フリガナ | E3: =+'様式A-1'!$D$3 -> セキセキトンネル | H3: 路 線 名 | J3: =+'様式A-1'!$J$3 -> 主要地方道岩国大竹線 | M3: 定期点検実施者 | P3: =+'様式B (1)'!$S$3 -> 復建調査設計株式会社 | S3: 定期点検年月日 | U3: =+'様式B (1)'!$P$2 -> 45853
B4: 名 称 | E4: =+'様式A-1'!$D$4 -> 関々トンネル | H4: 管理者名 | J4: =+'様式A-1'!$R$3 -> 山口県岩国土木建築事務所 | P4: =+'様式B (1)'!$S$4 -> 小笠原洋
B5: 写真 番号 | C5: 覆工スパン 番号 | E5: S52 | M5: 写真 番号 | N5: 覆工スパン 番号 | P5: S53
C6: 変状番号 | E6: 2 | N6: 変状番号 | P6: 1
B7: 変状 部位 | C7: 対象箇所 | E7: 路面 | M7: 変状 部位 | N7: 対象箇所 | P7: 路面
C8: 部位区分 | E8: 側溝 | N8: 部位区分 | P8: 側溝
B9: 変状種類 | E9: その他 | M9: 変状種類 | P9: その他
B10: 対策 区分 | C10: 変状区分 | M10: 対策 区分 | N10: 変状区分
C11: 応急措置前 | N11: 応急措置前
C12: 応急措置後 | N12: 応急措置後
B13: 変状の発生範囲及び規模 | E13: － | H13: 前回変状の発生範囲及び規模 | J13: 0.1m×10.5m | M13: 変状の発生範囲及び規模 | P13: － | S13: 前回変状の発生範囲及び規模 | U13: 0.1m×10.6m
B14: 対策履歴 | H14: 実施状況（実施日） | M14: 対策履歴 | S14: 実施状況（実施日）
B15: メモ | E15: 0.1m×10.5mの右側側溝の土砂堆積 （写真番号S52-1・前回Ⅱb判定） | M15: メモ | P15: 0.1m×10.6mの右側側溝の土砂堆積 （写真番号S53-2・前回Ⅱb判定）
B16: 写真 番号 | C16: 覆工スパン 番号 | E16: S54 | M16: 写真 番号 | N16: 覆工スパン 番号 | P16: S54
C17: 変状番号 | E17: 1 | N17: 変状番号 | P17: 2
B18: 変状 部位 | C18: 対象箇所 | E18: 覆工 | M18: 変状 部位 | N18: 対象箇所 | P18: 路面
C19: 部位区分 | E19: 側壁（右側） | N19: 部位区分 | P19: 側溝
B20: 変状種類 | E20: うき・はく離 | M20: 変状種類 | P20: その他
B21: 対策 区分 | C21: 変状区分 | E21: 材質劣化 | M21: 対策 区分 | N21: 変状区分
C22: 応急措置前 | N22: 応急措置前
C23: 応急措置後 | E23: Ⅱb | N23: 応急措置後
B24: 変状の発生範囲及び規模 | E24: 0.5m×0.1m | H24: 前回変状の発生範囲及び規模 | J24: 0.5m×0.1m | M24: 変状の発生範囲及び規模 | P24: － | S24: 前回変状の発生範囲及び規模 | U24: 0.1m×10.6m
B25: 対策履歴 | E25: 監視(日常巡視) | H25: 実施状況（実施日） | M25: 対策履歴 | S25: 実施状況（実施日）
B26: メモ | E26: 0.5m×0.1mの横断方向目地に閉合してブロック化したひび割れ、打音異常なし、進行は確認されない （写真番号S54-1・前回Ⅱb判定） | M26: メモ | P26: 0.1m×10.6mの右側側溝の土砂堆積 （写真番号S54-2・前回Ⅱb判定）
C27: ※ 応急措置後の対策区分について添付すること。また、点検前に 実施された措置によりⅠと判定された箇所も添付すること。 | N27: ※ 変状の発生範囲の規模とは、対策を行う際に参考となる変状の長さや面積をいう。
N28: ※ 応急措置を実施しないで決定した変状の対策区分は、対策区分の応急措置後の欄に記入すること。
C29: ※ たたき落としを実施した場合は、実施後の写真を添付すること。 | N29: ※ 変状の発生範囲の規模は、面積・寸法を記載すること。(ひび割れ幅のみmmとし、その他をm表記とする)
C30: ※ 附属物の取付状態に関する異常写真は別途、任意の書式でとりまとめること。 | N30: ※ 構造用鋼材以外の異物に伴ううき・はく離については、メモ欄に異物の概要を記入すること。

Sheet 様式D-1-1 (35)
B2: ■定期点検記録様式 変状写真台帳【様式D-1-1】 | R2: 施設ID | T2: =+'様式A-1'!$W$2 -> 34.19214,132.18042
B3: フリガナ | E3: =+'様式A-1'!$D$3 -> セキセキトンネル | H3: 路 線 名 | J3: =+'様式A-1'!$J$3 -> 主要地方道岩国大竹線 | M3: 定期点検実施者 | P3: =+'様式B (1)'!$S$3 -> 復建調査設計株式会社 | S3: 定期点検年月日 | U3: =+'様式B (1)'!$P$2 -> 45853
B4: 名 称 | E4: =+'様式A-1'!$D$4 -> 関々トンネル | H4: 管理者名 | J4: =+'様式A-1'!$R$3 -> 山口県岩国土木建築事務所 | P4: =+'様式B (1)'!$S$4 -> 小笠原洋
B5: 写真 番号 | C5: 覆工スパン 番号 | E5: S55 | M5: 写真 番号 | N5: 覆工スパン 番号 | P5: S55
C6: 変状番号 | E6: 1 | N6: 変状番号 | P6: 2
B7: 変状 部位 | C7: 対象箇所 | E7: 路面 | M7: 変状 部位 | N7: 対象箇所 | P7: 路面
C8: 部位区分 | E8: 側溝 | N8: 部位区分 | P8: 側溝
B9: 変状種類 | E9: その他 | M9: 変状種類 | P9: その他
B10: 対策 区分 | C10: 変状区分 | M10: 対策 区分 | N10: 変状区分
C11: 応急措置前 | N11: 応急措置前
C12: 応急措置後 | N12: 応急措置後
B13: 変状の発生範囲及び規模 | E13: － | H13: 前回変状の発生範囲及び規模 | J13: 0.1m×7.5m | M13: 変状の発生範囲及び規模 | P13: － | S13: 前回変状の発生範囲及び規模 | U13: 0.1m×10.6m
B14: 対策履歴 | H14: 実施状況（実施日） | M14: 対策履歴 | S14: 実施状況（実施日）
B15: メモ | E15: 0.1m×10.6mの左側側溝の土砂堆積 （写真番号S55-1・前回Ⅱb判定） | M15: メモ | P15: 0.1m×10.6mの右側側溝の土砂堆積 （写真番号S55-2・前回Ⅱb判定）
B16: 写真 番号 | C16: 覆工スパン 番号 | E16: S56 | M16: 写真 番号 | N16: 覆工スパン 番号 | P16: S56
C17: 変状番号 | E17: 1 | N17: 変状番号 | P17: 2
B18: 変状 部位 | C18: 対象箇所 | E18: 路面 | M18: 変状 部位 | N18: 対象箇所 | P18: 路面
C19: 部位区分 | E19: 側溝 | N19: 部位区分 | P19: 側溝
B20: 変状種類 | E20: その他 | M20: 変状種類 | P20: その他
B21: 対策 区分 | C21: 変状区分 | M21: 対策 区分 | N21: 変状区分
C22: 応急措置前 | N22: 応急措置前
C23: 応急措置後 | N23: 応急措置後
B24: 変状の発生範囲及び規模 | E24: － | H24: 前回変状の発生範囲及び規模 | J24: 0.1m×10.6m | M24: 変状の発生範囲及び規模 | P24: － | S24: 前回変状の発生範囲及び規模 | U24: 0.1m×10.6m
B25: 対策履歴 | H25: 実施状況（実施日） | M25: 対策履歴 | S25: 実施状況（実施日）
B26: メモ | E26: 0.1m×10.6mの左側側溝の土砂堆積 （写真番号S56-1・前回Ⅱb判定） | M26: メモ | P26: 0.1m×10.6mの右側側溝の土砂堆積 （写真番号S56-2・前回Ⅱb判定）
C27: ※ 応急措置後の対策区分について添付すること。また、点検前に 実施された措置によりⅠと判定された箇所も添付すること。 | N27: ※ 変状の発生範囲の規模とは、対策を行う際に参考となる変状の長さや面積をいう。
N28: ※ 応急措置を実施しないで決定した変状の対策区分は、対策区分の応急措置後の欄に記入すること。
C29: ※ たたき落としを実施した場合は、実施後の写真を添付すること。 | N29: ※ 変状の発生範囲の規模は、面積・寸法を記載すること。(ひび割れ幅のみmmとし、その他をm表記とする)
C30: ※ 附属物の取付状態に関する異常写真は別途、任意の書式でとりまとめること。 | N30: ※ 構造用鋼材以外の異物に伴ううき・はく離については、メモ欄に異物の概要を記入すること。

Sheet 様式D-1-1 (36)
B2: ■定期点検記録様式 変状写真台帳【様式D-1-1】 | R2: 施設ID | T2: =+'様式A-1'!$W$2 -> 34.19214,132.18042
B3: フリガナ | E3: =+'様式A-1'!$D$3 -> セキセキトンネル | H3: 路 線 名 | J3: =+'様式A-1'!$J$3 -> 主要地方道岩国大竹線 | M3: 定期点検実施者 | P3: =+'様式B (1)'!$S$3 -> 復建調査設計株式会社 | S3: 定期点検年月日 | U3: =+'様式B (1)'!$P$2 -> 45853
B4: 名 称 | E4: =+'様式A-1'!$D$4 -> 関々トンネル | H4: 管理者名 | J4: =+'様式A-1'!$R$3 -> 山口県岩国土木建築事務所 | P4: =+'様式B (1)'!$S$4 -> 小笠原洋
B5: 写真 番号 | C5: 覆工スパン 番号 | E5: S57 | M5: 写真 番号 | N5: 覆工スパン 番号 | P5: S57
C6: 変状番号 | E6: 1 | N6: 変状番号 | P6: 2
B7: 変状 部位 | C7: 対象箇所 | E7: 路面 | M7: 変状 部位 | N7: 対象箇所 | P7: 路面
C8: 部位区分 | E8: 側溝 | N8: 部位区分 | P8: 側溝
B9: 変状種類 | E9: その他 | M9: 変状種類 | P9: その他
B10: 対策 区分 | C10: 変状区分 | M10: 対策 区分 | N10: 変状区分
C11: 応急措置前 | N11: 応急措置前
C12: 応急措置後 | N12: 応急措置後
B13: 変状の発生範囲及び規模 | E13: － | H13: 前回変状の発生範囲及び規模 | J13: 0.1m×10.6m | M13: 変状の発生範囲及び規模 | P13: － | S13: 前回変状の発生範囲及び規模 | U13: 0.1m×10.6m
B14: 対策履歴 | H14: 実施状況（実施日） | M14: 対策履歴 | S14: 実施状況（実施日）
B15: メモ | E15: 0.1m×10.6mの左側側溝の土砂堆積 （写真番号S57-1・前回Ⅱb判定） | M15: メモ | P15: 0.1m×10.6mの右側側溝の土砂堆積 （写真番号S57-2・前回Ⅱb判定）
B16: 写真 番号 | C16: 覆工スパン 番号 | E16: S58 | M16: 写真 番号 | N16: 覆工スパン 番号 | P16: S58
C17: 変状番号 | E17: 1 | N17: 変状番号 | P17: 2
B18: 変状 部位 | C18: 対象箇所 | E18: 路面 | M18: 変状 部位 | N18: 対象箇所 | P18: 路面
C19: 部位区分 | E19: 側溝 | N19: 部位区分 | P19: 側溝
B20: 変状種類 | E20: その他 | M20: 変状種類 | P20: その他
B21: 対策 区分 | C21: 変状区分 | M21: 対策 区分 | N21: 変状区分
C22: 応急措置前 | N22: 応急措置前
C23: 応急措置後 | N23: 応急措置後
B24: 変状の発生範囲及び規模 | E24: － | H24: 前回変状の発生範囲及び規模 | J24: 0.1m×10.6m | M24: 変状の発生範囲及び規模 | P24: － | S24: 前回変状の発生範囲及び規模 | U24: 0.1m×10.6m
B25: 対策履歴 | H25: 実施状況（実施日） | M25: 対策履歴 | S25: 実施状況（実施日）
B26: メモ | E26: 0.1m×10.6mの左側側溝の土砂堆積 （写真番号S58-1・前回Ⅱb判定） | M26: メモ | P26: 0.1m×10.6mの右側側溝の土砂堆積 （写真番号S58-2・前回Ⅱb判定）
C27: ※ 応急措置後の対策区分について添付すること。また、点検前に 実施された措置によりⅠと判定された箇所も添付すること。 | N27: ※ 変状の発生範囲の規模とは、対策を行う際に参考となる変状の長さや面積をいう。
N28: ※ 応急措置を実施しないで決定した変状の対策区分は、対策区分の応急措置後の欄に記入すること。
C29: ※ たたき落としを実施した場合は、実施後の写真を添付すること。 | N29: ※ 変状の発生範囲の規模は、面積・寸法を記載すること。(ひび割れ幅のみmmとし、その他をm表記とする)
C30: ※ 附属物の取付状態に関する異常写真は別途、任意の書式でとりまとめること。 | N30: ※ 構造用鋼材以外の異物に伴ううき・はく離については、メモ欄に異物の概要を記入すること。

Sheet 様式D-1-1 (37)
B2: ■定期点検記録様式 変状写真台帳【様式D-1-1】 | R2: 施設ID | T2: =+'様式A-1'!$W$2 -> 34.19214,132.18042
B3: フリガナ | E3: =+'様式A-1'!$D$3 -> セキセキトンネル | H3: 路 線 名 | J3: =+'様式A-1'!$J$3 -> 主要地方道岩国大竹線 | M3: 定期点検実施者 | P3: =+'様式B (1)'!$S$3 -> 復建調査設計株式会社 | S3: 定期点検年月日 | U3: =+'様式B (1)'!$P$2 -> 45853
B4: 名 称 | E4: =+'様式A-1'!$D$4 -> 関々トンネル | H4: 管理者名 | J4: =+'様式A-1'!$R$3 -> 山口県岩国土木建築事務所 | P4: =+'様式B (1)'!$S$4 -> 小笠原洋
B5: 写真 番号 | C5: 覆工スパン 番号 | E5: S59 | M5: 写真 番号 | N5: 覆工スパン 番号 | P5: S60
C6: 変状番号 | E6: 1 | N6: 変状番号 | P6: 1
B7: 変状 部位 | C7: 対象箇所 | E7: 路面 | M7: 変状 部位 | N7: 対象箇所 | P7: 路面
C8: 部位区分 | E8: 側溝 | N8: 部位区分 | P8: 側溝
B9: 変状種類 | E9: その他 | M9: 変状種類 | P9: その他
B10: 対策 区分 | C10: 変状区分 | M10: 対策 区分 | N10: 変状区分
C11: 応急措置前 | N11: 応急措置前
C12: 応急措置後 | N12: 応急措置後
B13: 変状の発生範囲及び規模 | E13: － | H13: 前回変状の発生範囲及び規模 | J13: 0.1m×10.6m | M13: 変状の発生範囲及び規模 | P13: － | S13: 前回変状の発生範囲及び規模 | U13: 0.1m×10.6m
B14: 対策履歴 | H14: 実施状況（実施日） | M14: 対策履歴 | S14: 実施状況（実施日）
B15: メモ | E15: 0.1m×10.6mの右側側溝の土砂堆積 （写真番号S59-1・前回Ⅱb判定） | M15: メモ | P15: 0.1m×10.6mの右側側溝の土砂堆積 （写真番号S60-1・前回Ⅱb判定）
B16: 写真 番号 | C16: 覆工スパン 番号 | E16: S61 | M16: 写真 番号 | N16: 覆工スパン 番号 | P16: S61
C17: 変状番号 | E17: 1 | N17: 変状番号 | P17: 2
B18: 変状 部位 | C18: 対象箇所 | E18: 路面 | M18: 変状 部位 | N18: 対象箇所 | P18: 路面
C19: 部位区分 | E19: 側溝 | N19: 部位区分 | P19: 側溝
B20: 変状種類 | E20: その他 | M20: 変状種類 | P20: その他
B21: 対策 区分 | C21: 変状区分 | M21: 対策 区分 | N21: 変状区分
C22: 応急措置前 | N22: 応急措置前
C23: 応急措置後 | N23: 応急措置後
B24: 変状の発生範囲及び規模 | E24: － | H24: 前回変状の発生範囲及び規模 | J24: 0.1m×3.0m | M24: 変状の発生範囲及び規模 | P24: － | S24: 前回変状の発生範囲及び規模 | U24: 0.1m×10.6m
B25: 対策履歴 | H25: 実施状況（実施日） | M25: 対策履歴 | S25: 実施状況（実施日）
B26: メモ | E26: 0.1m×10.6mの左側側溝の土砂堆積 （写真番号S61-1・前回Ⅱb判定） | M26: メモ | P26: 0.1m×10.6mの右側側溝の土砂堆積 （写真番号S61-2・前回Ⅱb判定）
C27: ※ 応急措置後の対策区分について添付すること。また、点検前に 実施された措置によりⅠと判定された箇所も添付すること。 | N27: ※ 変状の発生範囲の規模とは、対策を行う際に参考となる変状の長さや面積をいう。
N28: ※ 応急措置を実施しないで決定した変状の対策区分は、対策区分の応急措置後の欄に記入すること。
C29: ※ たたき落としを実施した場合は、実施後の写真を添付すること。 | N29: ※ 変状の発生範囲の規模は、面積・寸法を記載すること。(ひび割れ幅のみmmとし、その他をm表記とする)
C30: ※ 附属物の取付状態に関する異常写真は別途、任意の書式でとりまとめること。 | N30: ※ 構造用鋼材以外の異物に伴ううき・はく離については、メモ欄に異物の概要を記入すること。

Sheet 様式D-1-1 (38)
B2: ■定期点検記録様式 変状写真台帳【様式D-1-1】 | R2: 施設ID | T2: =+'様式A-1'!$W$2 -> 34.19214,132.18042
B3: フリガナ | E3: =+'様式A-1'!$D$3 -> セキセキトンネル | H3: 路 線 名 | J3: =+'様式A-1'!$J$3 -> 主要地方道岩国大竹線 | M3: 定期点検実施者 | P3: =+'様式B (1)'!$S$3 -> 復建調査設計株式会社 | S3: 定期点検年月日 | U3: =+'様式B (1)'!$P$2 -> 45853
B4: 名 称 | E4: =+'様式A-1'!$D$4 -> 関々トンネル | H4: 管理者名 | J4: =+'様式A-1'!$R$3 -> 山口県岩国土木建築事務所 | P4: =+'様式B (1)'!$S$4 -> 小笠原洋
B5: 写真 番号 | C5: 覆工スパン 番号 | E5: S62 | M5: 写真 番号 | N5: 覆工スパン 番号 | P5: S62
C6: 変状番号 | E6: 1 | N6: 変状番号 | P6: 2
B7: 変状 部位 | C7: 対象箇所 | E7: 覆工 | M7: 変状 部位 | N7: 対象箇所 | P7: 路面
C8: 部位区分 | E8: 側壁（右側） | N8: 部位区分 | P8: 側溝
B9: 変状種類 | E9: うき・はく離 | M9: 変状種類 | P9: その他
B10: 対策 区分 | C10: 変状区分 | E10: 材質劣化 | M10: 対策 区分 | N10: 変状区分
C11: 応急措置前 | N11: 応急措置前
C12: 応急措置後 | E12: Ⅱb | N12: 応急措置後
B13: 変状の発生範囲及び規模 | E13: 0.35m×0.3m | H13: 前回変状の発生範囲及び規模 | J13: 0.35m×0.3m | M13: 変状の発生範囲及び規模 | P13: － | S13: 前回変状の発生範囲及び規模 | U13: 0.1m×10.6m
B14: 対策履歴 | E14: 監視(日常巡視) | H14: 実施状況（実施日） | M14: 対策履歴 | S14: 実施状況（実施日）
B15: メモ | E15: 0.35m×0.3mの覆工の打音異常部 （写真番号S62-1・前回Ⅱb判定） | M15: メモ | P15: 0.1m×10.6mの右側側溝の土砂堆積 （写真番号S62-2・前回Ⅱb判定）
B16: 写真 番号 | C16: 覆工スパン 番号 | E16: S63 | M16: 写真 番号 | N16: 覆工スパン 番号 | P16: S63
C17: 変状番号 | E17: 1 | N17: 変状番号 | P17: 2
B18: 変状 部位 | C18: 対象箇所 | E18: 覆工 | M18: 変状 部位 | N18: 対象箇所 | P18: 路面
C19: 部位区分 | E19: アーチ（右側） | N19: 部位区分 | P19: 側溝
B20: 変状種類 | E20: 鋼材腐食 | M20: 変状種類 | P20: その他
B21: 対策 区分 | C21: 変状区分 | E21: 材質劣化 | M21: 対策 区分 | N21: 変状区分
C22: 応急措置前 | N22: 応急措置前
C23: 応急措置後 | E23: Ⅱb | N23: 応急措置後
B24: 変状の発生範囲及び規模 | E24: 0.1m×0.1m | H24: 前回変状の発生範囲及び規模 | J24: 0.1m×0.1m | M24: 変状の発生範囲及び規模 | P24: － | S24: 前回変状の発生範囲及び規模 | U24: 0.1m×10.6m
B25: 対策履歴 | E25: 監視(日常巡視) | H25: 実施状況（実施日） | M25: 対策履歴 | S25: 実施状況（実施日）
B26: メモ | E26: 0.1m×0.1mの鋼材腐食、鋼材の表面的な錆び、構造鉄筋の可能性は低い （写真番号S63-1・前回Ⅱb判定） | M26: メモ | P26: 0.1m×10.6mの右側側溝の土砂堆積 （写真番号S63-2・前回Ⅱb判定）
C27: ※ 応急措置後の対策区分について添付すること。また、点検前に 実施された措置によりⅠと判定された箇所も添付すること。 | N27: ※ 変状の発生範囲の規模とは、対策を行う際に参考となる変状の長さや面積をいう。
N28: ※ 応急措置を実施しないで決定した変状の対策区分は、対策区分の応急措置後の欄に記入すること。
C29: ※ たたき落としを実施した場合は、実施後の写真を添付すること。 | N29: ※ 変状の発生範囲の規模は、面積・寸法を記載すること。(ひび割れ幅のみmmとし、その他をm表記とする)
C30: ※ 附属物の取付状態に関する異常写真は別途、任意の書式でとりまとめること。 | N30: ※ 構造用鋼材以外の異物に伴ううき・はく離については、メモ欄に異物の概要を記入すること。

Sheet 様式D-1-1 (39)
B2: ■定期点検記録様式 変状写真台帳【様式D-1-1】 | R2: 施設ID | T2: =+'様式A-1'!$W$2 -> 34.19214,132.18042
B3: フリガナ | E3: =+'様式A-1'!$D$3 -> セキセキトンネル | H3: 路 線 名 | J3: =+'様式A-1'!$J$3 -> 主要地方道岩国大竹線 | M3: 定期点検実施者 | P3: =+'様式B (1)'!$S$3 -> 復建調査設計株式会社 | S3: 定期点検年月日 | U3: =+'様式B (1)'!$P$2 -> 45853
B4: 名 称 | E4: =+'様式A-1'!$D$4 -> 関々トンネル | H4: 管理者名 | J4: =+'様式A-1'!$R$3 -> 山口県岩国土木建築事務所 | P4: =+'様式B (1)'!$S$4 -> 小笠原洋
B5: 写真 番号 | C5: 覆工スパン 番号 | E5: S64 | M5: 写真 番号 | N5: 覆工スパン 番号 | P5: S65
C6: 変状番号 | E6: 1 | N6: 変状番号 | P6: 1
B7: 変状 部位 | C7: 対象箇所 | E7: 路面 | M7: 変状 部位 | N7: 対象箇所 | P7: 路面
C8: 部位区分 | E8: 側溝 | N8: 部位区分 | P8: 側溝
B9: 変状種類 | E9: その他 | M9: 変状種類 | P9: その他
B10: 対策 区分 | C10: 変状区分 | M10: 対策 区分 | N10: 変状区分
C11: 応急措置前 | N11: 応急措置前
C12: 応急措置後 | N12: 応急措置後
B13: 変状の発生範囲及び規模 | E13: － | H13: 前回変状の発生範囲及び規模 | J13: 0.1m×10.6m | M13: 変状の発生範囲及び規模 | P13: － | S13: 前回変状の発生範囲及び規模 | U13: 0.1m×10.6m
B14: 対策履歴 | H14: 実施状況（実施日） | M14: 対策履歴 | S14: 実施状況（実施日）
B15: メモ | E15: 0.1m×10.6mの右側側溝の土砂堆積 （写真番号S64-1・前回Ⅱb判定） | M15: メモ | P15: 0.1m×10.6mの右側側溝の土砂堆積 （写真番号S65-1・前回Ⅱb判定）
B16: 写真 番号 | C16: 覆工スパン 番号 | E16: S66 | M16: 写真 番号 | N16: 覆工スパン 番号 | P16: S67
C17: 変状番号 | E17: 1 | N17: 変状番号 | P17: 1
B18: 変状 部位 | C18: 対象箇所 | E18: 路面 | M18: 変状 部位 | N18: 対象箇所 | P18: 路面
C19: 部位区分 | E19: 側溝 | N19: 部位区分 | P19: 側溝
B20: 変状種類 | E20: その他 | M20: 変状種類 | P20: その他
B21: 対策 区分 | C21: 変状区分 | M21: 対策 区分 | N21: 変状区分
C22: 応急措置前 | N22: 応急措置前
C23: 応急措置後 | N23: 応急措置後
B24: 変状の発生範囲及び規模 | E24: － | H24: 前回変状の発生範囲及び規模 | J24: 0.1m×10.6m | M24: 変状の発生範囲及び規模 | P24: － | S24: 前回変状の発生範囲及び規模 | U24: 0.1m×10.6m
B25: 対策履歴 | H25: 実施状況（実施日） | M25: 対策履歴 | S25: 実施状況（実施日）
B26: メモ | E26: 0.1m×10.6mの右側側溝の土砂堆積 （写真番号S66-1・前回Ⅱb判定） | M26: メモ | P26: 0.1m×10.6mの右側側溝の土砂堆積 （写真番号S67-1・前回Ⅱb判定）
C27: ※ 応急措置後の対策区分について添付すること。また、点検前に 実施された措置によりⅠと判定された箇所も添付すること。 | N27: ※ 変状の発生範囲の規模とは、対策を行う際に参考となる変状の長さや面積をいう。
N28: ※ 応急措置を実施しないで決定した変状の対策区分は、対策区分の応急措置後の欄に記入すること。
C29: ※ たたき落としを実施した場合は、実施後の写真を添付すること。 | N29: ※ 変状の発生範囲の規模は、面積・寸法を記載すること。(ひび割れ幅のみmmとし、その他をm表記とする)
C30: ※ 附属物の取付状態に関する異常写真は別途、任意の書式でとりまとめること。 | N30: ※ 構造用鋼材以外の異物に伴ううき・はく離については、メモ欄に異物の概要を記入すること。

Sheet 様式D-1-1 (40)
B2: ■定期点検記録様式 変状写真台帳【様式D-1-1】 | R2: 施設ID | T2: =+'様式A-1'!$W$2 -> 34.19214,132.18042
B3: フリガナ | E3: =+'様式A-1'!$D$3 -> セキセキトンネル | H3: 路 線 名 | J3: =+'様式A-1'!$J$3 -> 主要地方道岩国大竹線 | M3: 定期点検実施者 | P3: =+'様式B (1)'!$S$3 -> 復建調査設計株式会社 | S3: 定期点検年月日 | U3: =+'様式B (1)'!$P$2 -> 45853
B4: 名 称 | E4: =+'様式A-1'!$D$4 -> 関々トンネル | H4: 管理者名 | J4: =+'様式A-1'!$R$3 -> 山口県岩国土木建築事務所 | P4: =+'様式B (1)'!$S$4 -> 小笠原洋
B5: 写真 番号 | C5: 覆工スパン 番号 | E5: S68 | M5: 写真 番号 | N5: 覆工スパン 番号 | P5: S68
C6: 変状番号 | E6: 1 | N6: 変状番号 | P6: 2
B7: 変状 部位 | C7: 対象箇所 | E7: 覆工 | M7: 変状 部位 | N7: 対象箇所 | P7: 路面
C8: 部位区分 | E8: アーチ（左側） | N8: 部位区分 | P8: 側溝
B9: 変状種類 | E9: その他 | M9: 変状種類 | P9: その他
B10: 対策 区分 | C10: 変状区分 | E10: 材質劣化 | M10: 対策 区分 | N10: 変状区分
C11: 応急措置前 | N11: 応急措置前
C12: 応急措置後 | E12: Ⅱb | N12: 応急措置後
B13: 変状の発生範囲及び規模 | E13: 0.05m×0.05m | H13: 前回変状の発生範囲及び規模 | J13: 0.05m×0.05m | M13: 変状の発生範囲及び規模 | P13: － | S13: 前回変状の発生範囲及び規模 | U13: 0.1m×3.5m
B14: 対策履歴 | E14: 監視(日常巡視) | H14: 実施状況（実施日） | M14: 対策履歴 | S14: 実施状況（実施日）
B15: メモ | E15: 0.05m×0.05mの豆板（ジャンカ）、打音異常なし （写真番号S68-1・前回Ⅱb判定） | M15: メモ | P15: 0.1m×10.6mの左側側溝の土砂堆積 （写真番号S68-2・前回Ⅱb判定）
B16: 写真 番号 | C16: 覆工スパン 番号 | E16: S68 | M16: 写真 番号 | N16: 覆工スパン 番号 | P16: S69
C17: 変状番号 | E17: 3 | N17: 変状番号 | P17: 1
B18: 変状 部位 | C18: 対象箇所 | E18: 路面 | M18: 変状 部位 | N18: 対象箇所 | P18: 覆工
C19: 部位区分 | E19: 側溝 | N19: 部位区分 | P19: 側壁（右側）
B20: 変状種類 | E20: その他 | M20: 変状種類 | P20: うき・はく離
B21: 対策 区分 | C21: 変状区分 | M21: 対策 区分 | N21: 変状区分 | P21: 材質劣化
C22: 応急措置前 | N22: 応急措置前
C23: 応急措置後 | N23: 応急措置後 | P23: Ⅰ
B24: 変状の発生範囲及び規模 | E24: － | H24: 前回変状の発生範囲及び規模 | J24: 0.1m×10.6m | M24: 変状の発生範囲及び規模 | P24: 0.25m×0.6m | S24: 前回変状の発生範囲及び規模 | U24: 0.25m×0.6m
B25: 対策履歴 | H25: 実施状況（実施日） | M25: 対策履歴 | S25: 実施状況（実施日）
B26: メモ | E26: 0.1m×10.6mの右側側溝の土砂堆積 | M26: メモ | P26: 0.25m×0.6mの覆工のはく落、深さ30mm （写真番号S69-1・前回Ⅰ判定）
C27: ※ 応急措置後の対策区分について添付すること。また、点検前に 実施された措置によりⅠと判定された箇所も添付すること。 | N27: ※ 変状の発生範囲の規模とは、対策を行う際に参考となる変状の長さや面積をいう。
N28: ※ 応急措置を実施しないで決定した変状の対策区分は、対策区分の応急措置後の欄に記入すること。
C29: ※ たたき落としを実施した場合は、実施後の写真を添付すること。 | N29: ※ 変状の発生範囲の規模は、面積・寸法を記載すること。(ひび割れ幅のみmmとし、その他をm表記とする)
C30: ※ 附属物の取付状態に関する異常写真は別途、任意の書式でとりまとめること。 | N30: ※ 構造用鋼材以外の異物に伴ううき・はく離については、メモ欄に異物の概要を記入すること。

Sheet 様式D-1-1 (41)
B2: ■定期点検記録様式 変状写真台帳【様式D-1-1】 | R2: 施設ID | T2: =+'様式A-1'!$W$2 -> 34.19214,132.18042
B3: フリガナ | E3: =+'様式A-1'!$D$3 -> セキセキトンネル | H3: 路 線 名 | J3: =+'様式A-1'!$J$3 -> 主要地方道岩国大竹線 | M3: 定期点検実施者 | P3: =+'様式B (1)'!$S$3 -> 復建調査設計株式会社 | S3: 定期点検年月日 | U3: =+'様式B (1)'!$P$2 -> 45853
B4: 名 称 | E4: =+'様式A-1'!$D$4 -> 関々トンネル | H4: 管理者名 | J4: =+'様式A-1'!$R$3 -> 山口県岩国土木建築事務所 | P4: =+'様式B (1)'!$S$4 -> 小笠原洋
B5: 写真 番号 | C5: 覆工スパン 番号 | E5: S69 | M5: 写真 番号 | N5: 覆工スパン 番号 | P5: S69
C6: 変状番号 | E6: 2 | N6: 変状番号 | P6: 3
B7: 変状 部位 | C7: 対象箇所 | E7: 路面 | M7: 変状 部位 | N7: 対象箇所 | P7: 路面
C8: 部位区分 | E8: 側溝 | N8: 部位区分 | P8: 側溝
B9: 変状種類 | E9: その他 | M9: 変状種類 | P9: その他
B10: 対策 区分 | C10: 変状区分 | M10: 対策 区分 | N10: 変状区分
C11: 応急措置前 | N11: 応急措置前
C12: 応急措置後 | N12: 応急措置後
B13: 変状の発生範囲及び規模 | E13: － | H13: 前回変状の発生範囲及び規模 | J13: 0.1m×3.5m | M13: 変状の発生範囲及び規模 | P13: － | S13: 前回変状の発生範囲及び規模 | U13: 0.1m×10.6m
B14: 対策履歴 | H14: 実施状況（実施日） | M14: 対策履歴 | S14: 実施状況（実施日）
B15: メモ | E15: 0.1m×10.6mの左側側溝の土砂堆積 （写真番号S69-2・前回Ⅱb判定） | M15: メモ | P15: 0.1m×10.6mの右側側溝の土砂堆積 （写真番号S69-3・前回Ⅱb判定）
B16: 写真 番号 | C16: 覆工スパン 番号 | E16: S70 | M16: 写真 番号 | N16: 覆工スパン 番号 | P16: S70
C17: 変状番号 | E17: 1 | N17: 変状番号 | P17: 2
B18: 変状 部位 | C18: 対象箇所 | E18: 路面 | M18: 変状 部位 | N18: 対象箇所 | P18: 路面
C19: 部位区分 | E19: 側溝 | N19: 部位区分 | P19: 側溝
B20: 変状種類 | E20: その他 | M20: 変状種類 | P20: その他
B21: 対策 区分 | C21: 変状区分 | M21: 対策 区分 | N21: 変状区分
C22: 応急措置前 | N22: 応急措置前
C23: 応急措置後 | N23: 応急措置後
B24: 変状の発生範囲及び規模 | E24: － | H24: 前回変状の発生範囲及び規模 | J24: － | M24: 変状の発生範囲及び規模 | P24: － | S24: 前回変状の発生範囲及び規模 | U24: 0.1m×10.6m
B25: 対策履歴 | H25: 実施状況（実施日） | M25: 対策履歴 | S25: 実施状況（実施日）
B26: メモ | E26: 0.1m×10.6mの左側側溝の土砂堆積 | M26: メモ | P26: 0.1m×10.6mの右側側溝の土砂堆積 （写真番号S70-1・前回Ⅱb判定）
C27: ※ 応急措置後の対策区分について添付すること。また、点検前に 実施された措置によりⅠと判定された箇所も添付すること。 | N27: ※ 変状の発生範囲の規模とは、対策を行う際に参考となる変状の長さや面積をいう。
N28: ※ 応急措置を実施しないで決定した変状の対策区分は、対策区分の応急措置後の欄に記入すること。
C29: ※ たたき落としを実施した場合は、実施後の写真を添付すること。 | N29: ※ 変状の発生範囲の規模は、面積・寸法を記載すること。(ひび割れ幅のみmmとし、その他をm表記とする)
C30: ※ 附属物の取付状態に関する異常写真は別途、任意の書式でとりまとめること。 | N30: ※ 構造用鋼材以外の異物に伴ううき・はく離については、メモ欄に異物の概要を記入すること。

Sheet 様式D-1-1 (42)
B2: ■定期点検記録様式 変状写真台帳【様式D-1-1】 | R2: 施設ID | T2: =+'様式A-1'!$W$2 -> 34.19214,132.18042
B3: フリガナ | E3: =+'様式A-1'!$D$3 -> セキセキトンネル | H3: 路 線 名 | J3: =+'様式A-1'!$J$3 -> 主要地方道岩国大竹線 | M3: 定期点検実施者 | P3: =+'様式B (1)'!$S$3 -> 復建調査設計株式会社 | S3: 定期点検年月日 | U3: =+'様式B (1)'!$P$2 -> 45853
B4: 名 称 | E4: =+'様式A-1'!$D$4 -> 関々トンネル | H4: 管理者名 | J4: =+'様式A-1'!$R$3 -> 山口県岩国土木建築事務所 | P4: =+'様式B (1)'!$S$4 -> 小笠原洋
B5: 写真 番号 | C5: 覆工スパン 番号 | E5: S71 | M5: 写真 番号 | N5: 覆工スパン 番号 | P5: S71
C6: 変状番号 | E6: 1 | N6: 変状番号 | P6: 2
B7: 変状 部位 | C7: 対象箇所 | E7: 路面 | M7: 変状 部位 | N7: 対象箇所 | P7: 路面
C8: 部位区分 | E8: 側溝 | N8: 部位区分 | P8: 側溝
B9: 変状種類 | E9: その他 | M9: 変状種類 | P9: その他
B10: 対策 区分 | C10: 変状区分 | M10: 対策 区分 | N10: 変状区分
C11: 応急措置前 | N11: 応急措置前
C12: 応急措置後 | N12: 応急措置後
B13: 変状の発生範囲及び規模 | E13: － | H13: 前回変状の発生範囲及び規模 | J13: － | M13: 変状の発生範囲及び規模 | P13: － | S13: 前回変状の発生範囲及び規模 | U13: 0.1m×10.6m
B14: 対策履歴 | H14: 実施状況（実施日） | M14: 対策履歴 | S14: 実施状況（実施日）
B15: メモ | E15: 0.1m×2.0mの左側側溝の土砂堆積 | M15: メモ | P15: 0.1m×10.6mの右側側溝の土砂堆積 （写真番号S71-1・前回Ⅱb判定）
B16: 写真 番号 | C16: 覆工スパン 番号 | E16: S72 | M16: 写真 番号 | N16: 覆工スパン 番号 | P16: S72
C17: 変状番号 | E17: 1 | N17: 変状番号 | P17: 2
B18: 変状 部位 | C18: 対象箇所 | E18: 路面 | M18: 変状 部位 | N18: 対象箇所 | P18: 路面
C19: 部位区分 | E19: 側溝 | N19: 部位区分 | P19: 側溝
B20: 変状種類 | E20: その他 | M20: 変状種類 | P20: その他
B21: 対策 区分 | C21: 変状区分 | M21: 対策 区分 | N21: 変状区分
C22: 応急措置前 | N22: 応急措置前
C23: 応急措置後 | N23: 応急措置後
B24: 変状の発生範囲及び規模 | E24: － | H24: 前回変状の発生範囲及び規模 | J24: － | M24: 変状の発生範囲及び規模 | P24: － | S24: 前回変状の発生範囲及び規模 | U24: 0.1m×10.6m
B25: 対策履歴 | H25: 実施状況（実施日） | M25: 対策履歴 | S25: 実施状況（実施日）
B26: メモ | E26: 0.1m×3.0mの左側側溝の土砂堆積 | M26: メモ | P26: 0.1m×10.6mの右側側溝の土砂堆積 （写真番号S72-1・前回Ⅱb判定）
C27: ※ 応急措置後の対策区分について添付すること。また、点検前に 実施された措置によりⅠと判定された箇所も添付すること。 | N27: ※ 変状の発生範囲の規模とは、対策を行う際に参考となる変状の長さや面積をいう。
N28: ※ 応急措置を実施しないで決定した変状の対策区分は、対策区分の応急措置後の欄に記入すること。
C29: ※ たたき落としを実施した場合は、実施後の写真を添付すること。 | N29: ※ 変状の発生範囲の規模は、面積・寸法を記載すること。(ひび割れ幅のみmmとし、その他をm表記とする)
C30: ※ 附属物の取付状態に関する異常写真は別途、任意の書式でとりまとめること。 | N30: ※ 構造用鋼材以外の異物に伴ううき・はく離については、メモ欄に異物の概要を記入すること。

Sheet 様式D-1-1 (43)
B2: ■定期点検記録様式 変状写真台帳【様式D-1-1】 | R2: 施設ID | T2: =+'様式A-1'!$W$2 -> 34.19214,132.18042
B3: フリガナ | E3: =+'様式A-1'!$D$3 -> セキセキトンネル | H3: 路 線 名 | J3: =+'様式A-1'!$J$3 -> 主要地方道岩国大竹線 | M3: 定期点検実施者 | P3: =+'様式B (1)'!$S$3 -> 復建調査設計株式会社 | S3: 定期点検年月日 | U3: =+'様式B (1)'!$P$2 -> 45853
B4: 名 称 | E4: =+'様式A-1'!$D$4 -> 関々トンネル | H4: 管理者名 | J4: =+'様式A-1'!$R$3 -> 山口県岩国土木建築事務所 | P4: =+'様式B (1)'!$S$4 -> 小笠原洋
B5: 写真 番号 | C5: 覆工スパン 番号 | E5: S73 | M5: 写真 番号 | N5: 覆工スパン 番号 | P5: S74
C6: 変状番号 | E6: 1 | N6: 変状番号 | P6: 1
B7: 変状 部位 | C7: 対象箇所 | E7: 路面 | M7: 変状 部位 | N7: 対象箇所 | P7: 路面
C8: 部位区分 | E8: 側溝 | N8: 部位区分 | P8: 側溝
B9: 変状種類 | E9: その他 | M9: 変状種類 | P9: その他
B10: 対策 区分 | C10: 変状区分 | M10: 対策 区分 | N10: 変状区分
C11: 応急措置前 | N11: 応急措置前
C12: 応急措置後 | N12: 応急措置後
B13: 変状の発生範囲及び規模 | E13: － | H13: 前回変状の発生範囲及び規模 | J13: 0.1m×10.6m | M13: 変状の発生範囲及び規模 | P13: － | S13: 前回変状の発生範囲及び規模 | U13: 0.1m×10.6m
B14: 対策履歴 | H14: 実施状況（実施日） | M14: 対策履歴 | S14: 実施状況（実施日）
B15: メモ | E15: 0.1m×10.6mの右側側溝の土砂堆積 （写真番号S73-1・前回Ⅱb判定） | M15: メモ | P15: 0.1m×10.6mの右側側溝の土砂堆積 （写真番号S74-1・前回Ⅱb判定）
B16: 写真 番号 | C16: 覆工スパン 番号 | E16: S75 | M16: 写真 番号 | N16: 覆工スパン 番号 | P16: S75
C17: 変状番号 | E17: 1 | N17: 変状番号 | P17: 2
B18: 変状 部位 | C18: 対象箇所 | E18: 路面 | M18: 変状 部位 | N18: 対象箇所 | P18: 路面
C19: 部位区分 | E19: 側溝 | N19: 部位区分 | P19: 側溝
B20: 変状種類 | E20: その他 | M20: 変状種類 | P20: その他
B21: 対策 区分 | C21: 変状区分 | M21: 対策 区分 | N21: 変状区分
C22: 応急措置前 | N22: 応急措置前
C23: 応急措置後 | N23: 応急措置後
B24: 変状の発生範囲及び規模 | E24: － | H24: 前回変状の発生範囲及び規模 | J24: － | M24: 変状の発生範囲及び規模 | P24: － | S24: 前回変状の発生範囲及び規模 | U24: 0.1m×10.6m
B25: 対策履歴 | H25: 実施状況（実施日） | M25: 対策履歴 | S25: 実施状況（実施日）
B26: メモ | E26: 0.1m×10.6mの左側側溝の土砂堆積 | M26: メモ | P26: 0.1m×10.6mの右側側溝の土砂堆積 （写真番号S75-1・前回Ⅱb判定）
C27: ※ 応急措置後の対策区分について添付すること。また、点検前に 実施された措置によりⅠと判定された箇所も添付すること。 | N27: ※ 変状の発生範囲の規模とは、対策を行う際に参考となる変状の長さや面積をいう。
N28: ※ 応急措置を実施しないで決定した変状の対策区分は、対策区分の応急措置後の欄に記入すること。
C29: ※ たたき落としを実施した場合は、実施後の写真を添付すること。 | N29: ※ 変状の発生範囲の規模は、面積・寸法を記載すること。(ひび割れ幅のみmmとし、その他をm表記とする)
C30: ※ 附属物の取付状態に関する異常写真は別途、任意の書式でとりまとめること。 | N30: ※ 構造用鋼材以外の異物に伴ううき・はく離については、メモ欄に異物の概要を記入すること。

Sheet 様式D-1-1 (44)
B2: ■定期点検記録様式 変状写真台帳【様式D-1-1】 | R2: 施設ID | T2: =+'様式A-1'!$W$2 -> 34.19214,132.18042
B3: フリガナ | E3: =+'様式A-1'!$D$3 -> セキセキトンネル | H3: 路 線 名 | J3: =+'様式A-1'!$J$3 -> 主要地方道岩国大竹線 | M3: 定期点検実施者 | P3: =+'様式B (1)'!$S$3 -> 復建調査設計株式会社 | S3: 定期点検年月日 | U3: =+'様式B (1)'!$P$2 -> 45853
B4: 名 称 | E4: =+'様式A-1'!$D$4 -> 関々トンネル | H4: 管理者名 | J4: =+'様式A-1'!$R$3 -> 山口県岩国土木建築事務所 | P4: =+'様式B (1)'!$S$4 -> 小笠原洋
B5: 写真 番号 | C5: 覆工スパン 番号 | E5: S76 | M5: 写真 番号 | N5: 覆工スパン 番号 | P5: S76
C6: 変状番号 | E6: 1 | N6: 変状番号 | P6: 2
B7: 変状 部位 | C7: 対象箇所 | E7: 路面 | M7: 変状 部位 | N7: 対象箇所 | P7: 路面
C8: 部位区分 | E8: 側溝 | N8: 部位区分 | P8: 側溝
B9: 変状種類 | E9: その他 | M9: 変状種類 | P9: その他
B10: 対策 区分 | C10: 変状区分 | M10: 対策 区分 | N10: 変状区分
C11: 応急措置前 | N11: 応急措置前
C12: 応急措置後 | N12: 応急措置後
B13: 変状の発生範囲及び規模 | E13: － | H13: 前回変状の発生範囲及び規模 | J13: － | M13: 変状の発生範囲及び規模 | P13: － | S13: 前回変状の発生範囲及び規模 | U13: 0.1m×10.6m
B14: 対策履歴 | H14: 実施状況（実施日） | M14: 対策履歴 | S14: 実施状況（実施日）
B15: メモ | E15: 0.1m×10.6mの左側側溝の土砂堆積 | M15: メモ | P15: 0.1m×10.6mの右側側溝の土砂堆積 （写真番号S76-1・前回Ⅱb判定）
B16: 写真 番号 | C16: 覆工スパン 番号 | E16: S77 | M16: 写真 番号 | N16: 覆工スパン 番号 | P16: S78
C17: 変状番号 | E17: 1 | N17: 変状番号 | P17: 1
B18: 変状 部位 | C18: 対象箇所 | E18: 路面 | M18: 変状 部位 | N18: 対象箇所 | P18: 覆工
C19: 部位区分 | E19: 側溝 | N19: 部位区分 | P19: アーチ（左側）
B20: 変状種類 | E20: その他 | M20: 変状種類 | P20: 鋼材腐食
B21: 対策 区分 | C21: 変状区分 | M21: 対策 区分 | N21: 変状区分 | P21: 材質劣化
C22: 応急措置前 | N22: 応急措置前
C23: 応急措置後 | N23: 応急措置後 | P23: Ⅱb
B24: 変状の発生範囲及び規模 | E24: － | H24: 前回変状の発生範囲及び規模 | J24: 0.1m×10.6m | M24: 変状の発生範囲及び規模 | P24: 0.1m×0.1m | S24: 前回変状の発生範囲及び規模 | U24: 0.1m×0.1m
B25: 対策履歴 | H25: 実施状況（実施日） | M25: 対策履歴 | P25: 監視(日常巡視) | S25: 実施状況（実施日）
B26: メモ | E26: 0.1m×10.6mの右側側溝の土砂堆積 （写真番号S77-1・前回Ⅱb判定） | M26: メモ | P26: 0.1m×0.1mの鋼材腐食、鋼材の表面的な錆び、構造鉄筋の可能性は低い （写真番号S78-1・前回Ⅱb判定）
C27: ※ 応急措置後の対策区分について添付すること。また、点検前に 実施された措置によりⅠと判定された箇所も添付すること。 | N27: ※ 変状の発生範囲の規模とは、対策を行う際に参考となる変状の長さや面積をいう。
N28: ※ 応急措置を実施しないで決定した変状の対策区分は、対策区分の応急措置後の欄に記入すること。
C29: ※ たたき落としを実施した場合は、実施後の写真を添付すること。 | N29: ※ 変状の発生範囲の規模は、面積・寸法を記載すること。(ひび割れ幅のみmmとし、その他をm表記とする)
C30: ※ 附属物の取付状態に関する異常写真は別途、任意の書式でとりまとめること。 | N30: ※ 構造用鋼材以外の異物に伴ううき・はく離については、メモ欄に異物の概要を記入すること。

Sheet 様式D-1-1 (45)
B2: ■定期点検記録様式 変状写真台帳【様式D-1-1】 | R2: 施設ID | T2: =+'様式A-1'!$W$2 -> 34.19214,132.18042
B3: フリガナ | E3: =+'様式A-1'!$D$3 -> セキセキトンネル | H3: 路 線 名 | J3: =+'様式A-1'!$J$3 -> 主要地方道岩国大竹線 | M3: 定期点検実施者 | P3: =+'様式B (1)'!$S$3 -> 復建調査設計株式会社 | S3: 定期点検年月日 | U3: =+'様式B (1)'!$P$2 -> 45853
B4: 名 称 | E4: =+'様式A-1'!$D$4 -> 関々トンネル | H4: 管理者名 | J4: =+'様式A-1'!$R$3 -> 山口県岩国土木建築事務所 | P4: =+'様式B (1)'!$S$4 -> 小笠原洋
B5: 写真 番号 | C5: 覆工スパン 番号 | E5: S78 | M5: 写真 番号 | N5: 覆工スパン 番号 | P5: S79
C6: 変状番号 | E6: 2 | N6: 変状番号 | P6: 1
B7: 変状 部位 | C7: 対象箇所 | E7: 路面 | M7: 変状 部位 | N7: 対象箇所 | P7: 路面
C8: 部位区分 | E8: 側溝 | N8: 部位区分 | P8: 側溝
B9: 変状種類 | E9: その他 | M9: 変状種類 | P9: その他
B10: 対策 区分 | C10: 変状区分 | M10: 対策 区分 | N10: 変状区分
C11: 応急措置前 | N11: 応急措置前
C12: 応急措置後 | N12: 応急措置後
B13: 変状の発生範囲及び規模 | E13: － | H13: 前回変状の発生範囲及び規模 | J13: 0.1m×10.5m | M13: 変状の発生範囲及び規模 | P13: － | S13: 前回変状の発生範囲及び規模 | U13: 0.1m×10.5m
B14: 対策履歴 | H14: 実施状況（実施日） | M14: 対策履歴 | S14: 実施状況（実施日）
B15: メモ | E15: 0.1m×10.5mの右側側溝の土砂堆積 （写真番号S78-2・前回Ⅱb判定） | M15: メモ | P15: 0.1m×10.5mの右側側溝の土砂堆積 （写真番号S79-2・前回Ⅱb判定）
B16: 写真 番号 | C16: 覆工スパン 番号 | E16: S80 | M16: 写真 番号 | N16: 覆工スパン 番号 | P16: S80
C17: 変状番号 | E17: 1 | N17: 変状番号 | P17: 2
B18: 変状 部位 | C18: 対象箇所 | E18: 覆工 | M18: 変状 部位 | N18: 対象箇所 | P18: 覆工
C19: 部位区分 | E19: アーチ（左側） | N19: 部位区分 | P19: アーチ（左側）
B20: 変状種類 | E20: 鋼材腐食 | M20: 変状種類 | P20: 鋼材腐食
B21: 対策 区分 | C21: 変状区分 | E21: 材質劣化 | M21: 対策 区分 | N21: 変状区分 | P21: 材質劣化
C22: 応急措置前 | N22: 応急措置前
C23: 応急措置後 | E23: Ⅱb | N23: 応急措置後 | P23: Ⅱb
B24: 変状の発生範囲及び規模 | E24: 0.05m×0.25m | H24: 前回変状の発生範囲及び規模 | J24: 0.05m×0.25m | M24: 変状の発生範囲及び規模 | P24: 0.05m×0.1m | S24: 前回変状の発生範囲及び規模 | U24: 0.05m×0.1m
B25: 対策履歴 | E25: 監視(日常巡視) | H25: 実施状況（実施日） | M25: 対策履歴 | P25: 監視(日常巡視) | S25: 実施状況（実施日）
B26: メモ | E26: 0.05m×0.25mの鋼材腐食、鋼材の表面的な錆び、構造鉄筋の可能性は低い （写真番号S80-1・前回Ⅱb判定） | M26: メモ | P26: 0.05m×0.1mの鋼材腐食、鋼材の表面的な錆び、構造鉄筋の可能性は低い （写真番号S80-2・前回Ⅱb判定）
C27: ※ 応急措置後の対策区分について添付すること。また、点検前に 実施された措置によりⅠと判定された箇所も添付すること。 | N27: ※ 変状の発生範囲の規模とは、対策を行う際に参考となる変状の長さや面積をいう。
N28: ※ 応急措置を実施しないで決定した変状の対策区分は、対策区分の応急措置後の欄に記入すること。
C29: ※ たたき落としを実施した場合は、実施後の写真を添付すること。 | N29: ※ 変状の発生範囲の規模は、面積・寸法を記載すること。(ひび割れ幅のみmmとし、その他をm表記とする)
C30: ※ 附属物の取付状態に関する異常写真は別途、任意の書式でとりまとめること。 | N30: ※ 構造用鋼材以外の異物に伴ううき・はく離については、メモ欄に異物の概要を記入すること。

Sheet 様式D-1-1 (46)
B2: ■定期点検記録様式 変状写真台帳【様式D-1-1】 | R2: 施設ID | T2: =+'様式A-1'!$W$2 -> 34.19214,132.18042
B3: フリガナ | E3: =+'様式A-1'!$D$3 -> セキセキトンネル | H3: 路 線 名 | J3: =+'様式A-1'!$J$3 -> 主要地方道岩国大竹線 | M3: 定期点検実施者 | P3: =+'様式B (1)'!$S$3 -> 復建調査設計株式会社 | S3: 定期点検年月日 | U3: =+'様式B (1)'!$P$2 -> 45853
B4: 名 称 | E4: =+'様式A-1'!$D$4 -> 関々トンネル | H4: 管理者名 | J4: =+'様式A-1'!$R$3 -> 山口県岩国土木建築事務所 | P4: =+'様式B (1)'!$S$4 -> 小笠原洋
B5: 写真 番号 | C5: 覆工スパン 番号 | E5: S80 | M5: 写真 番号 | N5: 覆工スパン 番号 | P5: S80
C6: 変状番号 | E6: 3 | N6: 変状番号 | P6: 4
B7: 変状 部位 | C7: 対象箇所 | E7: 覆工 | M7: 変状 部位 | N7: 対象箇所 | P7: 覆工
C8: 部位区分 | E8: アーチ（左側） | N8: 部位区分 | P8: アーチ（左側）
B9: 変状種類 | E9: 鋼材腐食 | M9: 変状種類 | P9: 鋼材腐食
B10: 対策 区分 | C10: 変状区分 | E10: 材質劣化 | M10: 対策 区分 | N10: 変状区分 | P10: 材質劣化
C11: 応急措置前 | N11: 応急措置前
C12: 応急措置後 | E12: Ⅱb | N12: 応急措置後 | P12: Ⅱb
B13: 変状の発生範囲及び規模 | E13: 0.05m×0.3m | H13: 前回変状の発生範囲及び規模 | J13: 0.1m×0.3m | M13: 変状の発生範囲及び規模 | P13: 0.1m×0.05m | S13: 前回変状の発生範囲及び規模 | U13: －
B14: 対策履歴 | E14: 監視(日常巡視) | H14: 実施状況（実施日） | M14: 対策履歴 | P14: 監視(日常巡視) | S14: 実施状況（実施日）
B15: メモ | E15: 0.05m×0.3mの鋼材腐食、鋼材の表面的な錆び、構造鉄筋の可能性は低い （写真番号S80-3・前回Ⅱb判定） | M15: メモ | P15: 0.1m×0.05mの鋼材腐食、鋼材の表面的な錆び、構造鉄筋の可能性は低い
B16: 写真 番号 | C16: 覆工スパン 番号 | E16: S80 | M16: 写真 番号 | N16: 覆工スパン 番号 | P16: S80
C17: 変状番号 | E17: 5 | N17: 変状番号 | P17: 6
B18: 変状 部位 | C18: 対象箇所 | E18: 覆工 | M18: 変状 部位 | N18: 対象箇所 | P18: 路面
C19: 部位区分 | E19: アーチ（右側） | N19: 部位区分 | P19: 側溝
B20: 変状種類 | E20: うき・はく離 | M20: 変状種類 | P20: その他
B21: 対策 区分 | C21: 変状区分 | E21: 材質劣化 | M21: 対策 区分 | N21: 変状区分
C22: 応急措置前 | N22: 応急措置前
C23: 応急措置後 | E23: Ⅱb | N23: 応急措置後
B24: 変状の発生範囲及び規模 | E24: 1.1m×2.2m | H24: 前回変状の発生範囲及び規模 | J24: 1.0m×1.5m | M24: 変状の発生範囲及び規模 | P24: － | S24: 前回変状の発生範囲及び規模 | U24: 0.1m×10.5m
B25: 対策履歴 | E25: 監視(日常巡視) | H25: 実施状況（実施日） | M25: 対策履歴 | S25: 実施状況（実施日）
B26: メモ | E26: 1.1m×2.2mの閉合してブロック化したひび割れ、打音異常なし、進行は確認されない （写真番号S80-4・前回Ⅱa判定） | M26: メモ | P26: 0.1m×10.5mの右側側溝の土砂堆積 （写真番号S80-5・前回Ⅱb判定）
C27: ※ 応急措置後の対策区分について添付すること。また、点検前に 実施された措置によりⅠと判定された箇所も添付すること。 | N27: ※ 変状の発生範囲の規模とは、対策を行う際に参考となる変状の長さや面積をいう。
N28: ※ 応急措置を実施しないで決定した変状の対策区分は、対策区分の応急措置後の欄に記入すること。
C29: ※ たたき落としを実施した場合は、実施後の写真を添付すること。 | N29: ※ 変状の発生範囲の規模は、面積・寸法を記載すること。(ひび割れ幅のみmmとし、その他をm表記とする)
C30: ※ 附属物の取付状態に関する異常写真は別途、任意の書式でとりまとめること。 | N30: ※ 構造用鋼材以外の異物に伴ううき・はく離については、メモ欄に異物の概要を記入すること。

Sheet 様式D-1-1 (47)
B2: ■定期点検記録様式 変状写真台帳【様式D-1-1】 | R2: 施設ID | T2: =+'様式A-1'!$W$2 -> 34.19214,132.18042
B3: フリガナ | E3: =+'様式A-1'!$D$3 -> セキセキトンネル | H3: 路 線 名 | J3: =+'様式A-1'!$J$3 -> 主要地方道岩国大竹線 | M3: 定期点検実施者 | P3: =+'様式B (1)'!$S$3 -> 復建調査設計株式会社 | S3: 定期点検年月日 | U3: =+'様式B (1)'!$P$2 -> 45853
B4: 名 称 | E4: =+'様式A-1'!$D$4 -> 関々トンネル | H4: 管理者名 | J4: =+'様式A-1'!$R$3 -> 山口県岩国土木建築事務所 | P4: =+'様式B (1)'!$S$4 -> 小笠原洋
B5: 写真 番号 | C5: 覆工スパン 番号 | E5: S81 | M5: 写真 番号 | N5: 覆工スパン 番号 | P5: S81
C6: 変状番号 | E6: 1 | N6: 変状番号 | P6: 2
B7: 変状 部位 | C7: 対象箇所 | E7: 覆工 | M7: 変状 部位 | N7: 対象箇所 | P7: 覆工
C8: 部位区分 | E8: 横断目地（左側） | N8: 部位区分 | P8: 側壁（右側）
B9: 変状種類 | E9: 漏水 | M9: 変状種類 | P9: 漏水
B10: 対策 区分 | C10: 変状区分 | E10: 漏水 | M10: 対策 区分 | N10: 変状区分 | P10: 漏水
C11: 応急措置前 | N11: 応急措置前
C12: 応急措置後 | E12: Ⅱb | N12: 応急措置後 | P12: Ⅱb
B13: 変状の発生範囲及び規模 | E13: 4.5m×0.5m | H13: 前回変状の発生範囲及び規模 | J13: － | M13: 変状の発生範囲及び規模 | P13: 1.0m×1.1m | S13: 前回変状の発生範囲及び規模 | U13: 1.0m×1.0m
B14: 対策履歴 | E14: 監視(日常巡視) | H14: 実施状況（実施日） | M14: 対策履歴 | P14: 監視(日常巡視) | S14: 実施状況（実施日）
B15: メモ | E15: 4.5m×0.5mの横断方向目地からの漏水、にじみ | M15: メモ | P15: 1.0m×1.1mの誘導表示板の背面からの漏水、にじみ （写真番号S81-1・前回Ⅱb判定）
B16: 写真 番号 | C16: 覆工スパン 番号 | E16: S81 | M16: 写真 番号 | N16: 覆工スパン 番号 | P16: S81
C17: 変状番号 | E17: 3 | N17: 変状番号 | P17: 4
B18: 変状 部位 | C18: 対象箇所 | E18: 路面 | M18: 変状 部位 | N18: 対象箇所 | P18: 路面
C19: 部位区分 | E19: 側溝 | N19: 部位区分 | P19: 側溝
B20: 変状種類 | E20: その他 | M20: 変状種類 | P20: その他
B21: 対策 区分 | C21: 変状区分 | M21: 対策 区分 | N21: 変状区分
C22: 応急措置前 | N22: 応急措置前
C23: 応急措置後 | N23: 応急措置後
B24: 変状の発生範囲及び規模 | E24: － | H24: 前回変状の発生範囲及び規模 | J24: － | M24: 変状の発生範囲及び規模 | P24: － | S24: 前回変状の発生範囲及び規模 | U24: 0.1m×10.5m
B25: 対策履歴 | H25: 実施状況（実施日） | M25: 対策履歴 | S25: 実施状況（実施日）
B26: メモ | E26: 0.1m×10.5mの左側側溝の土砂堆積 | M26: メモ | P26: 0.1m×10.5mの右側側溝の土砂堆積 （写真番号S81-2・前回Ⅱb判定）
C27: ※ 応急措置後の対策区分について添付すること。また、点検前に 実施された措置によりⅠと判定された箇所も添付すること。 | N27: ※ 変状の発生範囲の規模とは、対策を行う際に参考となる変状の長さや面積をいう。
N28: ※ 応急措置を実施しないで決定した変状の対策区分は、対策区分の応急措置後の欄に記入すること。
C29: ※ たたき落としを実施した場合は、実施後の写真を添付すること。 | N29: ※ 変状の発生範囲の規模は、面積・寸法を記載すること。(ひび割れ幅のみmmとし、その他をm表記とする)
C30: ※ 附属物の取付状態に関する異常写真は別途、任意の書式でとりまとめること。 | N30: ※ 構造用鋼材以外の異物に伴ううき・はく離については、メモ欄に異物の概要を記入すること。

Sheet 様式D-1-1 (48)
B2: ■定期点検記録様式 変状写真台帳【様式D-1-1】 | R2: 施設ID | T2: =+'様式A-1'!$W$2 -> 34.19214,132.18042
B3: フリガナ | E3: =+'様式A-1'!$D$3 -> セキセキトンネル | H3: 路 線 名 | J3: =+'様式A-1'!$J$3 -> 主要地方道岩国大竹線 | M3: 定期点検実施者 | P3: =+'様式B (1)'!$S$3 -> 復建調査設計株式会社 | S3: 定期点検年月日 | U3: =+'様式B (1)'!$P$2 -> 45853
B4: 名 称 | E4: =+'様式A-1'!$D$4 -> 関々トンネル | H4: 管理者名 | J4: =+'様式A-1'!$R$3 -> 山口県岩国土木建築事務所 | P4: =+'様式B (1)'!$S$4 -> 小笠原洋
B5: 写真 番号 | C5: 覆工スパン 番号 | E5: S82 | M5: 写真 番号 | N5: 覆工スパン 番号 | P5: S83
C6: 変状番号 | E6: 1 | N6: 変状番号 | P6: 1
B7: 変状 部位 | C7: 対象箇所 | E7: 路面 | M7: 変状 部位 | N7: 対象箇所 | P7: 覆工
C8: 部位区分 | E8: 側溝 | N8: 部位区分 | P8: 横断目地（左側）
B9: 変状種類 | E9: その他 | M9: 変状種類 | P9: 漏水
B10: 対策 区分 | C10: 変状区分 | M10: 対策 区分 | N10: 変状区分 | P10: 漏水
C11: 応急措置前 | N11: 応急措置前
C12: 応急措置後 | N12: 応急措置後 | P12: Ⅱb
B13: 変状の発生範囲及び規模 | E13: － | H13: 前回変状の発生範囲及び規模 | J13: 0.1m×10.5m | M13: 変状の発生範囲及び規模 | P13: 0.8m×0.5m | S13: 前回変状の発生範囲及び規模 | U13: －
B14: 対策履歴 | H14: 実施状況（実施日） | M14: 対策履歴 | P14: 監視(日常巡視) | S14: 実施状況（実施日）
B15: メモ | E15: 0.1m×10.5mの右側側溝の土砂堆積 （写真番号S82-1・前回Ⅱb判定） | M15: メモ | P15: 0.8m×0.5mの横断方向目地からの漏水、にじみ
B16: 写真 番号 | C16: 覆工スパン 番号 | E16: S83 | M16: 写真 番号 | N16: 覆工スパン 番号 | P16: S84
C17: 変状番号 | E17: 2 | N17: 変状番号 | P17: 1
B18: 変状 部位 | C18: 対象箇所 | E18: 路面 | M18: 変状 部位 | N18: 対象箇所 | P18: 覆工
C19: 部位区分 | E19: 側溝 | N19: 部位区分 | P19: アーチ（左側）
B20: 変状種類 | E20: その他 | M20: 変状種類 | P20: 漏水
B21: 対策 区分 | C21: 変状区分 | M21: 対策 区分 | N21: 変状区分 | P21: 漏水
C22: 応急措置前 | N22: 応急措置前
C23: 応急措置後 | N23: 応急措置後 | P23: Ⅱb
B24: 変状の発生範囲及び規模 | E24: － | H24: 前回変状の発生範囲及び規模 | J24: － | M24: 変状の発生範囲及び規模 | P24: 3.4m×0.6m | S24: 前回変状の発生範囲及び規模 | U24: 3.4m×0.5m
B25: 対策履歴 | H25: 実施状況（実施日） | M25: 対策履歴 | P25: 監視(日常巡視) | S25: 実施状況（実施日）
B26: メモ | E26: 0.1m×10.5mの右側側溝の土砂堆積 | M26: メモ | P26: 3.4m×0.6mのひび割れからの漏水、にじみ （写真番号S84-1・前回Ⅱb判定）
C27: ※ 応急措置後の対策区分について添付すること。また、点検前に 実施された措置によりⅠと判定された箇所も添付すること。 | N27: ※ 変状の発生範囲の規模とは、対策を行う際に参考となる変状の長さや面積をいう。
N28: ※ 応急措置を実施しないで決定した変状の対策区分は、対策区分の応急措置後の欄に記入すること。
C29: ※ たたき落としを実施した場合は、実施後の写真を添付すること。 | N29: ※ 変状の発生範囲の規模は、面積・寸法を記載すること。(ひび割れ幅のみmmとし、その他をm表記とする)
C30: ※ 附属物の取付状態に関する異常写真は別途、任意の書式でとりまとめること。 | N30: ※ 構造用鋼材以外の異物に伴ううき・はく離については、メモ欄に異物の概要を記入すること。

Sheet 様式D-1-1 (49)
B2: ■定期点検記録様式 変状写真台帳【様式D-1-1】 | R2: 施設ID | T2: =+'様式A-1'!$W$2 -> 34.19214,132.18042
B3: フリガナ | E3: =+'様式A-1'!$D$3 -> セキセキトンネル | H3: 路 線 名 | J3: =+'様式A-1'!$J$3 -> 主要地方道岩国大竹線 | M3: 定期点検実施者 | P3: =+'様式B (1)'!$S$3 -> 復建調査設計株式会社 | S3: 定期点検年月日 | U3: =+'様式B (1)'!$P$2 -> 45853
B4: 名 称 | E4: =+'様式A-1'!$D$4 -> 関々トンネル | H4: 管理者名 | J4: =+'様式A-1'!$R$3 -> 山口県岩国土木建築事務所 | P4: =+'様式B (1)'!$S$4 -> 小笠原洋
B5: 写真 番号 | C5: 覆工スパン 番号 | E5: S84 | M5: 写真 番号 | N5: 覆工スパン 番号 | P5: S85
C6: 変状番号 | E6: 2 | N6: 変状番号 | P6: 1
B7: 変状 部位 | C7: 対象箇所 | E7: 覆工 | M7: 変状 部位 | N7: 対象箇所 | P7: 覆工
C8: 部位区分 | E8: 横断目地（左側） | N8: 部位区分 | P8: 側壁（左側）
B9: 変状種類 | E9: 漏水 | M9: 変状種類 | P9: 漏水
B10: 対策 区分 | C10: 変状区分 | E10: 漏水 | M10: 対策 区分 | N10: 変状区分 | P10: 漏水
C11: 応急措置前 | N11: 応急措置前
C12: 応急措置後 | E12: Ⅱb | N12: 応急措置後 | P12: Ⅱb
B13: 変状の発生範囲及び規模 | E13: 4.7m×0.5m | H13: 前回変状の発生範囲及び規模 | J13: － | M13: 変状の発生範囲及び規模 | P13: 1.0m×0.5m | S13: 前回変状の発生範囲及び規模 | U13: 1.2m×0.5m
B14: 対策履歴 | E14: 監視(日常巡視) | H14: 実施状況（実施日） | M14: 対策履歴 | P14: 監視(日常巡視) | S14: 実施状況（実施日）
B15: メモ | E15: 4.7m×0.5mの横断方向目地からの漏水、にじみ | M15: メモ | P15: 1.0m×0.5mのひび割れからの漏水、にじみ （写真番号S85-1・前回Ⅱb判定）
B16: 写真 番号 | C16: 覆工スパン 番号 | E16: S85 | M16: 写真 番号 | N16: 覆工スパン 番号 | P16: S85
C17: 変状番号 | E17: 2 | N17: 変状番号 | P17: 3
B18: 変状 部位 | C18: 対象箇所 | E18: 覆工 | M18: 変状 部位 | N18: 対象箇所 | P18: 覆工
C19: 部位区分 | E19: 側壁（左側） | N19: 部位区分 | P19: 側壁（左側）
B20: 変状種類 | E20: 漏水 | M20: 変状種類 | P20: 漏水
B21: 対策 区分 | C21: 変状区分 | E21: 漏水 | M21: 対策 区分 | N21: 変状区分 | P21: 漏水
C22: 応急措置前 | N22: 応急措置前
C23: 応急措置後 | E23: Ⅱb | N23: 応急措置後 | P23: Ⅱb
B24: 変状の発生範囲及び規模 | E24: 1.3m×0.5m | H24: 前回変状の発生範囲及び規模 | J24: 1.2m×0.4m | M24: 変状の発生範囲及び規模 | P24: 1.2m×0.5m | S24: 前回変状の発生範囲及び規模 | U24: 0.7m×0.5m
B25: 対策履歴 | E25: 監視(日常巡視) | H25: 実施状況（実施日） | M25: 対策履歴 | P25: 監視(日常巡視) | S25: 実施状況（実施日）
B26: メモ | E26: ひび割れからの漏水跡 （写真番号S85-2・前回Ⅱb判定） | M26: メモ | P26: 1.2m×0.5mのひび割れからの漏水、にじみ （写真番号S85-3・前回Ⅱb判定）
C27: ※ 応急措置後の対策区分について添付すること。また、点検前に 実施された措置によりⅠと判定された箇所も添付すること。 | N27: ※ 変状の発生範囲の規模とは、対策を行う際に参考となる変状の長さや面積をいう。
N28: ※ 応急措置を実施しないで決定した変状の対策区分は、対策区分の応急措置後の欄に記入すること。
C29: ※ たたき落としを実施した場合は、実施後の写真を添付すること。 | N29: ※ 変状の発生範囲の規模は、面積・寸法を記載すること。(ひび割れ幅のみmmとし、その他をm表記とする)
C30: ※ 附属物の取付状態に関する異常写真は別途、任意の書式でとりまとめること。 | N30: ※ 構造用鋼材以外の異物に伴ううき・はく離については、メモ欄に異物の概要を記入すること。

Sheet 様式D-1-1 (50)
B2: ■定期点検記録様式 変状写真台帳【様式D-1-1】 | R2: 施設ID | T2: =+'様式A-1'!$W$2 -> 34.19214,132.18042
B3: フリガナ | E3: =+'様式A-1'!$D$3 -> セキセキトンネル | H3: 路 線 名 | J3: =+'様式A-1'!$J$3 -> 主要地方道岩国大竹線 | M3: 定期点検実施者 | P3: =+'様式B (1)'!$S$3 -> 復建調査設計株式会社 | S3: 定期点検年月日 | U3: =+'様式B (1)'!$P$2 -> 45853
B4: 名 称 | E4: =+'様式A-1'!$D$4 -> 関々トンネル | H4: 管理者名 | J4: =+'様式A-1'!$R$3 -> 山口県岩国土木建築事務所 | P4: =+'様式B (1)'!$S$4 -> 小笠原洋
B5: 写真 番号 | C5: 覆工スパン 番号 | E5: S85 | M5: 写真 番号 | N5: 覆工スパン 番号 | P5: S85
C6: 変状番号 | E6: 4 | N6: 変状番号 | P6: 5
B7: 変状 部位 | C7: 対象箇所 | E7: 覆工 | M7: 変状 部位 | N7: 対象箇所 | P7: 覆工
C8: 部位区分 | E8: 側壁（左側） | N8: 部位区分 | P8: 側壁（左側）
B9: 変状種類 | E9: 漏水 | M9: 変状種類 | P9: 漏水
B10: 対策 区分 | C10: 変状区分 | E10: 漏水 | M10: 対策 区分 | N10: 変状区分 | P10: 漏水
C11: 応急措置前 | N11: 応急措置前
C12: 応急措置後 | E12: Ⅱb | N12: 応急措置後 | P12: Ⅱb
B13: 変状の発生範囲及び規模 | E13: 1.3m×0.5m | H13: 前回変状の発生範囲及び規模 | J13: 1.2m×0.3m | M13: 変状の発生範囲及び規模 | P13: 2.0m×0.5m | S13: 前回変状の発生範囲及び規模 | U13: 1.9m×0.3m
B14: 対策履歴 | E14: 監視(日常巡視) | H14: 実施状況（実施日） | M14: 対策履歴 | P14: 監視(日常巡視) | S14: 実施状況（実施日）
B15: メモ | E15: ひび割れからの漏水跡 （写真番号S85-4・前回Ⅱb判定） | M15: メモ | P15: ひび割れからの漏水跡 （写真番号S85-5・前回Ⅱb判定）
B16: 写真 番号 | C16: 覆工スパン 番号 | E16: PE | M16: 写真 番号 | N16: 覆工スパン 番号
C17: 変状番号 | E17: 1 | N17: 変状番号
B18: 変状 部位 | C18: 対象箇所 | E18: 坑門 | M18: 変状 部位 | N18: 対象箇所
C19: 部位区分 | E19: 面壁・妻壁等 | N19: 部位区分
B20: 変状種類 | E20: 漏水 | M20: 変状種類
B21: 対策 区分 | C21: 変状区分 | E21: 漏水 | M21: 対策 区分 | N21: 変状区分
C22: 応急措置前 | N22: 応急措置前
C23: 応急措置後 | E23: Ⅱb | N23: 応急措置後
B24: 変状の発生範囲及び規模 | E24: 7.6m×0.5m | H24: 前回変状の発生範囲及び規模 | J24: 0.3m×0.3m | M24: 変状の発生範囲及び規模 | S24: 前回変状の発生範囲及び規模
B25: 対策履歴 | E25: 監視(日常巡視) | H25: 実施状況（実施日） | M25: 対策履歴 | S25: 実施状況（実施日）
B26: メモ | E26: 銘板下からの漏水跡 （写真番号PE-1・前回Ⅱb判定） | M26: メモ
C27: ※ 応急措置後の対策区分について添付すること。また、点検前に 実施された措置によりⅠと判定された箇所も添付すること。 | N27: ※ 変状の発生範囲の規模とは、対策を行う際に参考となる変状の長さや面積をいう。
N28: ※ 応急措置を実施しないで決定した変状の対策区分は、対策区分の応急措置後の欄に記入すること。
C29: ※ たたき落としを実施した場合は、実施後の写真を添付すること。 | N29: ※ 変状の発生範囲の規模は、面積・寸法を記載すること。(ひび割れ幅のみmmとし、その他をm表記とする)
C30: ※ 附属物の取付状態に関する異常写真は別途、任意の書式でとりまとめること。 | N30: ※ 構造用鋼材以外の異物に伴ううき・はく離については、メモ欄に異物の概要を記入すること。

Sheet 様式D-1-2 (1)
B2: ■定期点検記録様式 異常写真台帳（トンネル内附属物等の取付状態） 【様式D-1-2】
B3: フリガナ | E3: =+'様式A-1'!$D$3 -> セキセキトンネル | I3: 路 線 名 | L3: =+'様式A-1'!$J$3 -> 主要地方道岩国大竹線 | O3: 定期点検実施者 | R3: =+'様式B (1)'!$S$3 -> 復建調査設計株式会社 | U3: 定期点検年月日 | W3: =+'様式B (1)'!$P$2 -> 45853
B4: 名 称 | E4: =+'様式A-1'!$D$4 -> 関々トンネル | I4: 管理者名 | L4: =+'様式A-1'!$R$3 -> 山口県岩国土木建築事務所 | R4: =+'様式B (1)'!$S$4 -> 小笠原洋
B5: 覆工スパン番号 | E5: 附S26 | F5: 異常番号 | I5: 1 | J5: 覆工スパン番号 | N5: 異常番号 | R5: 覆工スパン番号 | V5: 異常番号
B6: 対象箇所 | D6: 非常用施設 | E6: 通話型通報設備 | J6: 対象箇所 | R6: 対象箇所
B7: 部位区分 | D7: 附属物本体 | F7: 異常の種類 | H7: 腐食 | J7: 部位区分 | N7: 異常の種類 | R7: 部位区分 | V7: 異常の種類
B8: 異常判定区分 | D8: × | E8: メモ | F8: 電話ボックスの腐食 | J8: 異常判定区分 | M8: メモ | R8: 異常判定区分 | U8: メモ
B22: 覆工スパン番号 | F22: 異常番号 | J22: 覆工スパン番号 | N22: 異常番号 | R22: 覆工スパン番号 | V22: 異常番号
B23: 対象箇所 | J23: 対象箇所 | R23: 対象箇所
B24: 部位区分 | F24: 異常の種類 | J24: 部位区分 | N24: 異常の種類 | R24: 部位区分 | V24: 異常の種類
B25: 異常判定区分 | E25: メモ | J25: 異常判定区分 | M25: メモ | R25: 異常判定区分 | U25: メモ
C39: ※ 異常判定区分×について記入すること。また、応急措置前に異常判定区分×とした箇所のうち応急措置により○と判定した箇所も記入すること。
C40: ※ 応急措置を実施した場合は、その実施状況が分かる写真を添付すること。
C41: ※ 変状数に準じてシートを追加すること。

Sheet 様式D-2-1 (1)
B3: ■定期点検記録様式 トンネル全体変状展開図 【様式D-2-1】
B4: フリガナ | E4: =+'様式A-1'!$D$3 -> セキセキトンネル | J4: 路線名 | M4: =+'様式A-1'!$J$3 -> 主要地方道岩国大竹線 | S4: 定期点検実施者 | W4: =+'様式B (1)'!$S$3 -> 復建調査設計株式会社 | AC4: 定期点検年月日 | AF4: =+'様式B (1)'!$P$2 -> 45853
B5: 名 称 | E5: =+'様式A-1'!$D$4 -> 関々トンネル | J5: 管理者名 | M5: =+'様式A-1'!$R$3 -> 山口県岩国土木建築事務所 | W5: =+'様式B (1)'!$S$4 -> 小笠原洋
B6: トンネル変状展開図 | C6: トンネル全体変状展開図
V18: 注１：本展開図は、見下げた状態で記載すること。 注２：覆工スパン番号は横断目地毎（矢板工法の場合は上半アーチ の横断目地毎)に設定すること。 注３：横断目地の変状は前の覆工スパン番号で計上すること。 注４：１枚に収まらない場合は、複数枚に分けて作成すること。

Sheet 様式D-2-1 (2)
B3: ■定期点検記録様式 トンネル全体変状展開図 【様式D-2-1】
B4: フリガナ | E4: =+'様式A-1'!$D$3 -> セキセキトンネル | J4: 路線名 | M4: =+'様式A-1'!$J$3 -> 主要地方道岩国大竹線 | S4: 定期点検実施者 | W4: =+'様式B (1)'!$S$3 -> 復建調査設計株式会社 | AC4: 定期点検年月日 | AF4: =+'様式B (1)'!$P$2 -> 45853
B5: 名 称 | E5: =+'様式A-1'!$D$4 -> 関々トンネル | J5: 管理者名 | M5: =+'様式A-1'!$R$3 -> 山口県岩国土木建築事務所 | W5: =+'様式B (1)'!$S$4 -> 小笠原洋
B6: トンネル変状展開図 | C6: トンネル全体変状展開図
V18: 注１：本展開図は、見下げた状態で記載すること。 注２：覆工スパン番号は横断目地毎（矢板工法の場合は上半アーチ の横断目地毎)に設定すること。 注３：横断目地の変状は前の覆工スパン番号で計上すること。 注４：１枚に収まらない場合は、複数枚に分けて作成すること。

Sheet 様式D-2-1 (3)
B3: ■定期点検記録様式 トンネル全体変状展開図 【様式D-2-1】
B4: フリガナ | E4: =+'様式A-1'!$D$3 -> セキセキトンネル | J4: 路線名 | M4: =+'様式A-1'!$J$3 -> 主要地方道岩国大竹線 | S4: 定期点検実施者 | W4: =+'様式B (1)'!$S$3 -> 復建調査設計株式会社 | AC4: 定期点検年月日 | AF4: =+'様式B (1)'!$P$2 -> 45853
B5: 名 称 | E5: =+'様式A-1'!$D$4 -> 関々トンネル | J5: 管理者名 | M5: =+'様式A-1'!$R$3 -> 山口県岩国土木建築事務所 | W5: =+'様式B (1)'!$S$4 -> 小笠原洋
B6: トンネル変状展開図 | C6: トンネル全体変状展開図
V18: 注１：本展開図は、見下げた状態で記載すること。 注２：覆工スパン番号は横断目地毎（矢板工法の場合は上半アーチ の横断目地毎)に設定すること。 注３：横断目地の変状は前の覆工スパン番号で計上すること。 注４：１枚に収まらない場合は、複数枚に分けて作成すること。

Sheet 様式D-2-1 (4)
B3: ■定期点検記録様式 トンネル全体変状展開図 【様式D-2-1】
B4: フリガナ | E4: =+'様式A-1'!$D$3 -> セキセキトンネル | J4: 路線名 | M4: =+'様式A-1'!$J$3 -> 主要地方道岩国大竹線 | S4: 定期点検実施者 | W4: =+'様式B (1)'!$S$3 -> 復建調査設計株式会社 | AC4: 定期点検年月日 | AF4: =+'様式B (1)'!$P$2 -> 45853
B5: 名 称 | E5: =+'様式A-1'!$D$4 -> 関々トンネル | J5: 管理者名 | M5: =+'様式A-1'!$R$3 -> 山口県岩国土木建築事務所 | W5: =+'様式B (1)'!$S$4 -> 小笠原洋
B6: トンネル変状展開図 | C6: トンネル全体変状展開図
V18: 注１：本展開図は、見下げた状態で記載すること。 注２：覆工スパン番号は横断目地毎（矢板工法の場合は上半アーチ の横断目地毎)に設定すること。 注３：横断目地の変状は前の覆工スパン番号で計上すること。 注４：１枚に収まらない場合は、複数枚に分けて作成すること。

Sheet 様式D-2-1 (5)
B3: ■定期点検記録様式 トンネル全体変状展開図 【様式D-2-1】
B4: フリガナ | E4: =+'様式A-1'!$D$3 -> セキセキトンネル | J4: 路線名 | M4: =+'様式A-1'!$J$3 -> 主要地方道岩国大竹線 | S4: 定期点検実施者 | W4: =+'様式B (1)'!$S$3 -> 復建調査設計株式会社 | AC4: 定期点検年月日 | AF4: =+'様式B (1)'!$P$2 -> 45853
B5: 名 称 | E5: =+'様式A-1'!$D$4 -> 関々トンネル | J5: 管理者名 | M5: =+'様式A-1'!$R$3 -> 山口県岩国土木建築事務所 | W5: =+'様式B (1)'!$S$4 -> 小笠原洋
B6: トンネル変状展開図 | C6: トンネル全体変状展開図
V18: 注１：本展開図は、見下げた状態で記載すること。 注２：覆工スパン番号は横断目地毎（矢板工法の場合は上半アーチ の横断目地毎)に設定すること。 注３：横断目地の変状は前の覆工スパン番号で計上すること。 注４：１枚に収まらない場合は、複数枚に分けて作成すること。

Sheet 様式D-2-1 (6)
B3: ■定期点検記録様式 トンネル全体変状展開図 【様式D-2-1】
B4: フリガナ | E4: =+'様式A-1'!$D$3 -> セキセキトンネル | J4: 路線名 | M4: =+'様式A-1'!$J$3 -> 主要地方道岩国大竹線 | S4: 定期点検実施者 | W4: =+'様式B (1)'!$S$3 -> 復建調査設計株式会社 | AC4: 定期点検年月日 | AF4: =+'様式B (1)'!$P$2 -> 45853
B5: 名 称 | E5: =+'様式A-1'!$D$4 -> 関々トンネル | J5: 管理者名 | M5: =+'様式A-1'!$R$3 -> 山口県岩国土木建築事務所 | W5: =+'様式B (1)'!$S$4 -> 小笠原洋
B6: トンネル変状展開図 | C6: トンネル全体変状展開図
V18: 注１：本展開図は、見下げた状態で記載すること。 注２：覆工スパン番号は横断目地毎（矢板工法の場合は上半アーチ の横断目地毎)に設定すること。 注３：横断目地の変状は前の覆工スパン番号で計上すること。 注４：１枚に収まらない場合は、複数枚に分けて作成すること。

Sheet 様式D-2-1 (7)
B3: ■定期点検記録様式 トンネル全体変状展開図 【様式D-2-1】
B4: フリガナ | E4: =+'様式A-1'!$D$3 -> セキセキトンネル | J4: 路線名 | M4: =+'様式A-1'!$J$3 -> 主要地方道岩国大竹線 | S4: 定期点検実施者 | W4: =+'様式B (1)'!$S$3 -> 復建調査設計株式会社 | AC4: 定期点検年月日 | AF4: =+'様式B (1)'!$P$2 -> 45853
B5: 名 称 | E5: =+'様式A-1'!$D$4 -> 関々トンネル | J5: 管理者名 | M5: =+'様式A-1'!$R$3 -> 山口県岩国土木建築事務所 | W5: =+'様式B (1)'!$S$4 -> 小笠原洋
B6: トンネル変状展開図 | C6: トンネル全体変状展開図
V18: 注１：本展開図は、見下げた状態で記載すること。 注２：覆工スパン番号は横断目地毎（矢板工法の場合は上半アーチ の横断目地毎)に設定すること。 注３：横断目地の変状は前の覆工スパン番号で計上すること。 注４：１枚に収まらない場合は、複数枚に分けて作成すること。

Sheet 様式D-2-1 (8)
B3: ■定期点検記録様式 トンネル全体変状展開図 【様式D-2-1】
B4: フリガナ | E4: =+'様式A-1'!$D$3 -> セキセキトンネル | J4: 路線名 | M4: =+'様式A-1'!$J$3 -> 主要地方道岩国大竹線 | S4: 定期点検実施者 | W4: =+'様式B (1)'!$S$3 -> 復建調査設計株式会社 | AC4: 定期点検年月日 | AF4: =+'様式B (1)'!$P$2 -> 45853
B5: 名 称 | E5: =+'様式A-1'!$D$4 -> 関々トンネル | J5: 管理者名 | M5: =+'様式A-1'!$R$3 -> 山口県岩国土木建築事務所 | W5: =+'様式B (1)'!$S$4 -> 小笠原洋
B6: トンネル変状展開図 | C6: トンネル全体変状展開図
V18: 注１：本展開図は、見下げた状態で記載すること。 注２：覆工スパン番号は横断目地毎（矢板工法の場合は上半アーチ の横断目地毎)に設定すること。 注３：横断目地の変状は前の覆工スパン番号で計上すること。 注４：１枚に収まらない場合は、複数枚に分けて作成すること。

Sheet 様式D-2-1 (9)
B3: ■定期点検記録様式 トンネル全体変状展開図 【様式D-2-1】
B4: フリガナ | E4: =+'様式A-1'!$D$3 -> セキセキトンネル | J4: 路線名 | M4: =+'様式A-1'!$J$3 -> 主要地方道岩国大竹線 | S4: 定期点検実施者 | W4: =+'様式B (1)'!$S$3 -> 復建調査設計株式会社 | AC4: 定期点検年月日 | AF4: =+'様式B (1)'!$P$2 -> 45853
B5: 名 称 | E5: =+'様式A-1'!$D$4 -> 関々トンネル | J5: 管理者名 | M5: =+'様式A-1'!$R$3 -> 山口県岩国土木建築事務所 | W5: =+'様式B (1)'!$S$4 -> 小笠原洋
B6: トンネル変状展開図 | C6: トンネル全体変状展開図
V18: 注１：本展開図は、見下げた状態で記載すること。 注２：覆工スパン番号は横断目地毎（矢板工法の場合は上半アーチ の横断目地毎)に設定すること。 注３：横断目地の変状は前の覆工スパン番号で計上すること。 注４：１枚に収まらない場合は、複数枚に分けて作成すること。

Sheet 様式D-2-1 (10)
B3: ■定期点検記録様式 トンネル全体変状展開図 【様式D-2-1】
B4: フリガナ | E4: =+'様式A-1'!$D$3 -> セキセキトンネル | J4: 路線名 | M4: =+'様式A-1'!$J$3 -> 主要地方道岩国大竹線 | S4: 定期点検実施者 | W4: =+'様式B (1)'!$S$3 -> 復建調査設計株式会社 | AC4: 定期点検年月日 | AF4: =+'様式B (1)'!$P$2 -> 45853
B5: 名 称 | E5: =+'様式A-1'!$D$4 -> 関々トンネル | J5: 管理者名 | M5: =+'様式A-1'!$R$3 -> 山口県岩国土木建築事務所 | W5: =+'様式B (1)'!$S$4 -> 小笠原洋
B6: トンネル変状展開図 | C6: トンネル全体変状展開図
V18: 注１：本展開図は、見下げた状態で記載すること。 注２：覆工スパン番号は横断目地毎（矢板工法の場合は上半アーチ の横断目地毎)に設定すること。 注３：横断目地の変状は前の覆工スパン番号で計上すること。 注４：１枚に収まらない場合は、複数枚に分けて作成すること。

Sheet 様式D-2-1 (11)
B3: ■定期点検記録様式 トンネル全体変状展開図 【様式D-2-1】
B4: フリガナ | E4: =+'様式A-1'!$D$3 -> セキセキトンネル | J4: 路線名 | M4: =+'様式A-1'!$J$3 -> 主要地方道岩国大竹線 | S4: 定期点検実施者 | W4: =+'様式B (1)'!$S$3 -> 復建調査設計株式会社 | AC4: 定期点検年月日 | AF4: =+'様式B (1)'!$P$2 -> 45853
B5: 名 称 | E5: =+'様式A-1'!$D$4 -> 関々トンネル | J5: 管理者名 | M5: =+'様式A-1'!$R$3 -> 山口県岩国土木建築事務所 | W5: =+'様式B (1)'!$S$4 -> 小笠原洋
B6: トンネル変状展開図 | C6: トンネル全体変状展開図
V18: 注１：本展開図は、見下げた状態で記載すること。 注２：覆工スパン番号は横断目地毎（矢板工法の場合は上半アーチ の横断目地毎)に設定すること。 注３：横断目地の変状は前の覆工スパン番号で計上すること。 注４：１枚に収まらない場合は、複数枚に分けて作成すること。

Sheet 様式D-2-1 (12)
B3: ■定期点検記録様式 トンネル全体変状展開図 【様式D-2-1】
B4: フリガナ | E4: =+'様式A-1'!$D$3 -> セキセキトンネル | J4: 路線名 | M4: =+'様式A-1'!$J$3 -> 主要地方道岩国大竹線 | S4: 定期点検実施者 | W4: =+'様式B (1)'!$S$3 -> 復建調査設計株式会社 | AC4: 定期点検年月日 | AF4: =+'様式B (1)'!$P$2 -> 45853
B5: 名 称 | E5: =+'様式A-1'!$D$4 -> 関々トンネル | J5: 管理者名 | M5: =+'様式A-1'!$R$3 -> 山口県岩国土木建築事務所 | W5: =+'様式B (1)'!$S$4 -> 小笠原洋
B6: トンネル変状展開図 | C6: トンネル全体変状展開図
V18: 注１：本展開図は、見下げた状態で記載すること。 注２：覆工スパン番号は横断目地毎（矢板工法の場合は上半アーチ の横断目地毎)に設定すること。 注３：横断目地の変状は前の覆工スパン番号で計上すること。 注４：１枚に収まらない場合は、複数枚に分けて作成すること。

Sheet 様式D-2-1 (13)
B3: ■定期点検記録様式 トンネル全体変状展開図 【様式D-2-1】
B4: フリガナ | E4: =+'様式A-1'!$D$3 -> セキセキトンネル | J4: 路線名 | M4: =+'様式A-1'!$J$3 -> 主要地方道岩国大竹線 | S4: 定期点検実施者 | W4: =+'様式B (1)'!$S$3 -> 復建調査設計株式会社 | AC4: 定期点検年月日 | AF4: =+'様式B (1)'!$P$2 -> 45853
B5: 名 称 | E5: =+'様式A-1'!$D$4 -> 関々トンネル | J5: 管理者名 | M5: =+'様式A-1'!$R$3 -> 山口県岩国土木建築事務所 | W5: =+'様式B (1)'!$S$4 -> 小笠原洋
B6: トンネル変状展開図 | C6: トンネル全体変状展開図
V18: 注１：本展開図は、見下げた状態で記載すること。 注２：覆工スパン番号は横断目地毎（矢板工法の場合は上半アーチ の横断目地毎)に設定すること。 注３：横断目地の変状は前の覆工スパン番号で計上すること。 注４：１枚に収まらない場合は、複数枚に分けて作成すること。

Sheet 様式D-2-1´
B3: ■定期点検記録様式 トンネル全体変状展開図（機器の活用時） 【様式D-2-1’】
B4: フリガナ | E4: =+'様式A-1'!$D$3 -> セキセキトンネル | J4: 路線名 | M4: =+'様式A-1'!$J$3 -> 主要地方道岩国大竹線 | S4: 定期点検実施者 | W4: =+'様式B (1)'!$S$3 -> 復建調査設計株式会社 | AC4: 定期点検年月日 | AF4: =+'様式B (1)'!$P$2 -> 45853
B5: 名 称 | E5: =+'様式A-1'!$D$4 -> 関々トンネル | J5: 管理者名 | M5: =+'様式A-1'!$R$3 -> 山口県岩国土木建築事務所 | W5: =+'様式B (1)'!$S$4 -> 小笠原洋
B6: トンネル変状展開図 | C6: トンネル全体変状展開図
V18: 注１：本展開図は、見下げた状態で記載すること。 注２：覆工スパン番号は横断目地毎（矢板工法の場合は上半アーチ の横断目地毎)に設定すること。 注３：横断目地の変状は前の覆工スパン番号で計上すること。 注４：１枚に収まらない場合は、複数枚に分けて作成すること。

Sheet 様式D-3_PS
AU1: 様式F用→ | AV1: 覆工スパン | AY1: 変 状 数 | BK1: 変 状 規 模
AV2: 番号 | AW2: 延長 （ｍ） | AX2: 健全性の診断の 区分 | AY2: 対策区分の判定 | BK2: 覆工スパン長（ｍ） | BO2: 変状の発生範囲の規模（㎡）
B3: ■定期点検記録様式 覆工スパン別変状詳細展開図 【様式D-3】 | AY3: 外力 | BC3: 材質劣化 | BG3: 漏水 | BK3: 外力 注2 | BO3: 材質劣化 | BS3: 漏水
B4: フリガナ | E4: ='様式A-1'!$D$3 -> セキセキトンネル | K4: 路線名 | N4: ='様式A-1'!$J$3 -> 主要地方道岩国大竹線 | T4: 定期点検実施者 | Y4: =+'様式B (1)'!$S$3 -> 復建調査設計株式会社 | AG4: 定期点検年月日 | AK4: =+'様式B (1)'!$P$2 -> 45853 | AY4: Ⅳ | AZ4: Ⅲ | BA4: Ⅱa | BB4: Ⅱb | BC4: Ⅳ | BD4: Ⅲ | BE4: Ⅱa | BF4: Ⅱb | BG4: Ⅳ | BH4: Ⅲ | BI4: Ⅱa | BJ4: Ⅱb | BK4: Ⅳ | BL4: Ⅲ | BM4: Ⅱa | BN4: Ⅱb | BO4: Ⅳ | BP4: Ⅲ | BQ4: Ⅱa | BR4: Ⅱb | BS4: Ⅳ | BT4: Ⅲ | BU4: Ⅱa | BV4: Ⅱb
B5: 名 称 | E5: ='様式A-1'!$D$4 -> 関々トンネル | K5: 管理者名 | N5: ='様式A-1'!$R$3 -> 山口県岩国土木建築事務所 | Y5: =+'様式B (1)'!$S$4 -> 小笠原洋 | AV5: =N7 -> PS | AW5: =R7 -> 0 | AX5: =AM35 -> Ⅰ | AY5: =Y37 -> 0 | AZ5: =Z37 -> 0 | BA5: =AA37 -> 0 | BB5: =AB37 -> 0 | BC5: =AC37 -> 0 | BD5: =AD37 -> 0 | BE5: =AE37 -> 0 | BF5: =AF37 -> 0 | ... BJ5: =AJ37 -> 0 | BK5: =IF(Y37>0,R7,"") | BL5: =IF(Y37>0,"",IF(Z37>0,R7,"")) | BM5: =IF(Y37+Z37>0,"",IF(AA37>0,R7,"")) | BN5: =IF(Y37+Z37+AA37>0,"",IF(AB37>0,R7,"")) | BO5: =AC35 -> 0 | BP5: =AD35 -> 0 | BQ5: =AE35 -> 0 | BR5: =AF35 -> 0 | BS5: =AG35 -> 0 | BT5: =AH35 -> 0 | BU5: =AI35 -> 0 | BV5: =AJ35 -> 0
B6: スパン別変状展開図 | K6: 【健全性判定集計表】
K7: スパン番号 | N7: PS | P7: スパン長 | U7: 前回定期点検時の判定 | W7: 応急措置前の判定 | Y7: 対策区分毎の 変状の有無 | AC7: 対策区分毎の変状の発生範囲の規模(㎡) | AK7: 備考注2
K8: 変状番号 | L8: 対象箇所 | N8: 部位区分 | P8: 変状区分 | R8: 変状種類
Y9: 外力注1 | AC9: 材質劣化注1 | AG9: 漏水注1
Y10: Ⅳ | Z10: Ⅲ | AA10: Ⅱa | AB10: Ⅱb | AC10: Ⅳ | AD10: Ⅲ | AE10: Ⅱa | AF10: Ⅱb | AG10: Ⅳ | AH10: Ⅲ | AI10: Ⅱa | AJ10: Ⅱb
AQ11: =IF(P11="材質劣化",2,IF(P11="漏水",3,1)) -> 1 | AS11: =IF(Y11<>"",1,"")
AQ12: =IF(P12="材質劣化",2,IF(P12="漏水",3,1)) -> 1
AQ13: =IF(P13="材質劣化",2,IF(P13="漏水",3,1)) -> 1
AQ14: =IF(P14="材質劣化",2,IF(P14="漏水",3,1)) -> 1
AQ15: =IF(P15="材質劣化",2,IF(P15="漏水",3,1)) -> 1
AQ16: =IF(P16="材質劣化",2,IF(P16="漏水",3,1)) -> 1
AQ17: =IF(P17="材質劣化",2,IF(P17="漏水",3,1)) -> 1
AQ18: =IF(P18="材質劣化",2,IF(P18="漏水",3,1)) -> 1
AQ19: =IF(P19="材質劣化",2,IF(P19="漏水",3,1)) -> 1
AQ20: =IF(P20="材質劣化",2,IF(P20="漏水",3,1)) -> 1
AQ21: =IF(P21="材質劣化",2,IF(P21="漏水",3,1)) -> 1
AQ22: =IF(P22="材質劣化",2,IF(P22="漏水",3,1)) -> 1
AQ23: =IF(P23="材質劣化",2,IF(P23="漏水",3,1)) -> 1
... AQ27: =IF(P27="材質劣化",2,IF(P27="漏水",3,1)) -> 1
AQ28: =IF(P30="材質劣化",2,IF(P30="漏水",3,1)) -> 1
AQ29: =IF(P34="材質劣化",2,IF(P34="漏水",3,1)) -> 1
AQ30: =IF(P30="材質劣化",2,IF(P30="漏水",3,1)) -> 1
AQ31: =IF(P33="材質劣化",2,IF(P33="漏水",3,1)) -> 1
AQ32: =IF(P37="材質劣化",2,IF(P37="漏水",3,1)) -> 1
AQ33: =IF(P33="材質劣化",2,IF(P33="漏水",3,1)) -> 1
AQ34: =IF(P36="材質劣化",2,IF(P36="漏水",3,1)) -> 1
K35: 集計 判定 診断 | L35: 変状の発生規模合計(㎡) | Y35: － | AC35: =SUM(AC11:AC34) -> 0 | AD35: =SUM(AD11:AD34) -> 0 | AE35: =SUM(AE11:AE34) -> 0 | AF35: =SUM(AF11:AF34) -> 0 | AG35: =SUM(AG11:AG34) -> 0 | AH35: =SUM(AH11:AH34) -> 0 | AI35: =SUM(AI11:AI34) -> 0 | AJ35: =SUM(AJ11:AJ34) -> 0 | AK35: 覆工スパン単位の 健全性の 診断の区分 | AM35: Ⅰ
L36: 対策区分の 判定結果 | O36: 対策区分毎の変状数注3 | Y36: Ⅳ | Z36: Ⅲ | AA36: Ⅱa | AB36: Ⅱb | AC36: Ⅳ | AD36: Ⅲ | AE36: Ⅱa | AF36: Ⅱb | AG36: Ⅳ | AH36: Ⅲ | AI36: Ⅱa | AJ36: Ⅱb
Y37: =IF(COUNTIF(Y11:Y34,"○")>0,1,0) -> 0 | Z37: =IF(COUNTIF(Z11:Z34,"○")>0,1,0) -> 0 | AA37: =IF(COUNTIF(AA11:AA34,"○")>0,1,0) -> 0 | AB37: =IF(COUNTIF(AB11:AB34,"○")>0,1,0) -> 0 | AC37: =COUNTA(AC11:AC34) -> 0 | AD37: =COUNTA(AD11:AD34) -> 0 | AE37: =COUNTA(AE11:AE34) -> 0 | AF37: =COUNTA(AF11:AF34) -> 0 | AG37: =COUNTA(AG11:AG34) -> 0 | AH37: =COUNTA(AH11:AH34) -> 0 | AI37: =COUNTA(AI11:AI34) -> 0 | AJ37: =COUNTA(AJ11:AJ34) -> 0
K39: 所見
K43: 注1：誤記入防止のため、当該変状区分以外のセルは灰色表示とすること。
K44: 注2：応急措置を実施した場合は、その詳細を備考に記載すること。
K45: 注3：外力は覆工スパン単位、材質劣化、漏水は変状単位とすること。
B46: （以下、印刷不要）
B47: ※1：本シートは作成洩れのないよう、変状が無くても全スパン分を作成すること．また変状展開図は、様式D-2-1、様式D-2-1'と同じものを覆工スパン単位で拡大し掲載すること。
B48: ※2：変状番号は、様式D-1-1で記入した番号と整合させること。
B49: ※3：対策区分毎の変状発生規模は、様式D-1-1に記載した面積を記入すること（ただし外力はスパン単位で評価するため変状の有無の欄には面積でなく○を記入し、備考欄に状況を記入）。
B50: ※4：本様式は覆工スパン毎に作成すること。
B51: ※5：変状数が多い場合は、適時、表の行を増やして覆工スパン毎に1枚のシートに収めること。また、1スパン１シートとし、スパンに合わせてシートを追加すること。
B52: ※6：対策区分毎の変状の発生範囲の規模とは，対策を行う際に参考となる変状の長さや面積であり，変状を包含する長さや面積とする。
B53: ※7：対策範囲を示す発生範囲の規模を面積で記入することが妥当ではない変状は、発生範囲の規模の欄に○を記入するとともに、備考に内容を記入すること。

Sheet 様式D-3_S001
AU1: 様式F用→ | AV1: 覆工スパン | AY1: 変 状 数 | BK1: 変 状 規 模
AV2: 番号 | AW2: 延長 （ｍ） | AX2: 健全性の診断の 区分 | AY2: 対策区分の判定 | BK2: 覆工スパン長（ｍ） | BO2: 変状の発生範囲の規模（㎡）
B3: ■定期点検記録様式 覆工スパン別変状詳細展開図 【様式D-3】 | AY3: 外力 | BC3: 材質劣化 | BG3: 漏水 | BK3: 外力 注2 | BO3: 材質劣化 | BS3: 漏水
B4: フリガナ | E4: ='様式A-1'!$D$3 -> セキセキトンネル | K4: 路線名 | N4: ='様式A-1'!$J$3 -> 主要地方道岩国大竹線 | T4: 定期点検実施者 | Y4: =+'様式B (1)'!$S$3 -> 復建調査設計株式会社 | AG4: 定期点検年月日 | AK4: =+'様式B (1)'!$P$2 -> 45853 | AY4: Ⅳ | AZ4: Ⅲ | BA4: Ⅱa | BB4: Ⅱb | BC4: Ⅳ | BD4: Ⅲ | BE4: Ⅱa | BF4: Ⅱb | BG4: Ⅳ | BH4: Ⅲ | BI4: Ⅱa | BJ4: Ⅱb | BK4: Ⅳ | BL4: Ⅲ | BM4: Ⅱa | BN4: Ⅱb | BO4: Ⅳ | BP4: Ⅲ | BQ4: Ⅱa | BR4: Ⅱb | BS4: Ⅳ | BT4: Ⅲ | BU4: Ⅱa | BV4: Ⅱb
B5: 名 称 | E5: ='様式A-1'!$D$4 -> 関々トンネル | K5: 管理者名 | N5: ='様式A-1'!$R$3 -> 山口県岩国土木建築事務所 | Y5: =+'様式B (1)'!$S$4 -> 小笠原洋 | AV5: =N7 -> S001 | AW5: =R7 -> 7.5 | AX5: =AM35 -> Ⅱ | AY5: =Y37 -> 0 | AZ5: =Z37 -> 0 | BA5: =AA37 -> 0 | BB5: =AB37 -> 0 | BC5: =AC37 -> 0 | BD5: =AD37 -> 0 | BE5: =AE37 -> 0 | BF5: =AF37 -> 1 | ... BJ5: =AJ37 -> 0 | BK5: =IF(Y37>0,R7,"") | BL5: =IF(Y37>0,"",IF(Z37>0,R7,"")) | BM5: =IF(Y37+Z37>0,"",IF(AA37>0,R7,"")) | BN5: =IF(Y37+Z37+AA37>0,"",IF(AB37>0,R7,"")) | BO5: =AC35 -> 0 | BP5: =AD35 -> 0 | BQ5: =AE35 -> 0 | BR5: =AF35 -> 3.645 | BS5: =AG35 -> 0 | BT5: =AH35 -> 0 | BU5: =AI35 -> 0 | BV5: =AJ35 -> 0
B6: スパン別変状展開図 | K6: 【健全性判定集計表】
K7: スパン番号 | N7: S001 | P7: スパン長 | R7: 7.5 | U7: 前回定期点検時の判定 | W7: 応急措置前の判定 | Y7: 対策区分毎の 変状の有無 | AC7: 対策区分毎の変状の発生範囲の規模(㎡) | AK7: 備考注2
K8: 変状番号 | L8: 対象箇所 | N8: 部位区分 | P8: 変状区分 | R8: 変状種類
Y9: 外力注1 | AC9: 材質劣化注1 | AG9: 漏水注1
Y10: Ⅳ | Z10: Ⅲ | AA10: Ⅱa | AB10: Ⅱb | AC10: Ⅳ | AD10: Ⅲ | AE10: Ⅱa | AF10: Ⅱb | AG10: Ⅳ | AH10: Ⅲ | AI10: Ⅱa | AJ10: Ⅱb
K11: 1 | L11: 覆工 | N11: アーチ（天端） | P11: 材質劣化 | R11: うき・はく離 | U11: Ⅱb | W11: Ⅱb | AF11: 3.645 | AK11: 閉合ひび割れ | AQ11: =IF(P11="材質劣化",2,IF(P11="漏水",3,1)) -> 2 | AS11: =IF(Y11<>"",1,"")
K12: 2 | L12: 路面 | N12: 側溝 | R12: その他 | U12: Ⅱb | AK12: 土砂堆積 | AQ12: =IF(P12="材質劣化",2,IF(P12="漏水",3,1)) -> 1
AQ13: =IF(P13="材質劣化",2,IF(P13="漏水",3,1)) -> 1
AQ14: =IF(P14="材質劣化",2,IF(P14="漏水",3,1)) -> 1
AQ15: =IF(P15="材質劣化",2,IF(P15="漏水",3,1)) -> 1
AQ16: =IF(P16="材質劣化",2,IF(P16="漏水",3,1)) -> 1
AQ17: =IF(P17="材質劣化",2,IF(P17="漏水",3,1)) -> 1
AQ18: =IF(P18="材質劣化",2,IF(P18="漏水",3,1)) -> 1
AQ19: =IF(P19="材質劣化",2,IF(P19="漏水",3,1)) -> 1
AQ20: =IF(P20="材質劣化",2,IF(P20="漏水",3,1)) -> 1
AQ21: =IF(P21="材質劣化",2,IF(P21="漏水",3,1)) -> 1
AQ22: =IF(P22="材質劣化",2,IF(P22="漏水",3,1)) -> 1
AQ23: =IF(P23="材質劣化",2,IF(P23="漏水",3,1)) -> 1
AQ24: =IF(P24="材質劣化",2,IF(P24="漏水",3,1)) -> 1
... AQ27: =IF(P27="材質劣化",2,IF(P27="漏水",3,1)) -> 1
AQ28: =IF(P30="材質劣化",2,IF(P30="漏水",3,1)) -> 1
AQ29: =IF(P34="材質劣化",2,IF(P34="漏水",3,1)) -> 1
AQ30: =IF(P30="材質劣化",2,IF(P30="漏水",3,1)) -> 1
AQ31: =IF(P33="材質劣化",2,IF(P33="漏水",3,1)) -> 1
AQ32: =IF(P37="材質劣化",2,IF(P37="漏水",3,1)) -> 1
AQ33: =IF(P33="材質劣化",2,IF(P33="漏水",3,1)) -> 1
AQ34: =IF(P36="材質劣化",2,IF(P36="漏水",3,1)) -> 1
K35: 集計 判定 診断 | L35: 変状の発生規模合計(㎡) | Y35: － | AC35: =SUM(AC11:AC34) -> 0 | AD35: =SUM(AD11:AD34) -> 0 | AE35: =SUM(AE11:AE34) -> 0 | AF35: =SUM(AF11:AF34) -> 3.645 | AG35: =SUM(AG11:AG34) -> 0 | AH35: =SUM(AH11:AH34) -> 0 | AI35: =SUM(AI11:AI34) -> 0 | AJ35: =SUM(AJ11:AJ34) -> 0 | AK35: 覆工スパン単位の 健全性の 診断の区分 | AM35: Ⅱ
L36: 対策区分の 判定結果 | O36: 対策区分毎の変状数注3 | Y36: Ⅳ | Z36: Ⅲ | AA36: Ⅱa | AB36: Ⅱb | AC36: Ⅳ | AD36: Ⅲ | AE36: Ⅱa | AF36: Ⅱb | AG36: Ⅳ | AH36: Ⅲ | AI36: Ⅱa | AJ36: Ⅱb
Y37: =IF(COUNTIF(Y11:Y34,"○")>0,1,0) -> 0 | Z37: =IF(COUNTIF(Z11:Z34,"○")>0,1,0) -> 0 | AA37: =IF(COUNTIF(AA11:AA34,"○")>0,1,0) -> 0 | AB37: =IF(COUNTIF(AB11:AB34,"○")>0,1,0) -> 0 | AC37: =COUNTA(AC11:AC34) -> 0 | AD37: =COUNTA(AD11:AD34) -> 0 | AE37: =COUNTA(AE11:AE34) -> 0 | AF37: =COUNTA(AF11:AF34) -> 1 | AG37: =COUNTA(AG11:AG34) -> 0 | AH37: =COUNTA(AH11:AH34) -> 0 | AI37: =COUNTA(AI11:AI34) -> 0 | AJ37: =COUNTA(AJ11:AJ34) -> 0
K39: 所見
K43: 注1：誤記入防止のため、当該変状区分以外のセルは灰色表示とすること。
K44: 注2：応急措置を実施した場合は、その詳細を備考に記載すること。
K45: 注3：外力は覆工スパン単位、材質劣化、漏水は変状単位とすること。
B46: （以下、印刷不要）
B47: ※1：本シートは作成洩れのないよう、変状が無くても全スパン分を作成すること．また変状展開図は、様式D-2-1、様式D-2-1'と同じものを覆工スパン単位で拡大し掲載すること。
B48: ※2：変状番号は、様式D-1-1で記入した番号と整合させること。
B49: ※3：対策区分毎の変状発生規模は、様式D-1-1に記載した面積を記入すること（ただし外力はスパン単位で評価するため変状の有無の欄には面積でなく○を記入し、備考欄に状況を記入）。
B50: ※4：本様式は覆工スパン毎に作成すること。
B51: ※5：変状数が多い場合は、適時、表の行を増やして覆工スパン毎に1枚のシートに収めること。また、1スパン１シートとし、スパンに合わせてシートを追加すること。
B52: ※6：対策区分毎の変状の発生範囲の規模とは，対策を行う際に参考となる変状の長さや面積であり，変状を包含する長さや面積とする。
B53: ※7：対策範囲を示す発生範囲の規模を面積で記入することが妥当ではない変状は、発生範囲の規模の欄に○を記入するとともに、備考に内容を記入すること。

Sheet 様式D-3_S002
AU1: 様式F用→ | AV1: 覆工スパン | AY1: 変 状 数 | BK1: 変 状 規 模
AV2: 番号 | AW2: 延長 （ｍ） | AX2: 健全性の診断の 区分 | AY2: 対策区分の判定 | BK2: 覆工スパン長（ｍ） | BO2: 変状の発生範囲の規模（㎡）
B3: ■定期点検記録様式 覆工スパン別変状詳細展開図 【様式D-3】 | AY3: 外力 | BC3: 材質劣化 | BG3: 漏水 | BK3: 外力 注2 | BO3: 材質劣化 | BS3: 漏水
B4: フリガナ | E4: ='様式A-1'!$D$3 -> セキセキトンネル | K4: 路線名 | N4: ='様式A-1'!$J$3 -> 主要地方道岩国大竹線 | T4: 定期点検実施者 | Y4: =+'様式B (1)'!$S$3 -> 復建調査設計株式会社 | AG4: 定期点検年月日 | AK4: =+'様式B (1)'!$P$2 -> 45853 | AY4: Ⅳ | AZ4: Ⅲ | BA4: Ⅱa | BB4: Ⅱb | BC4: Ⅳ | BD4: Ⅲ | BE4: Ⅱa | BF4: Ⅱb | BG4: Ⅳ | BH4: Ⅲ | BI4: Ⅱa | BJ4: Ⅱb | BK4: Ⅳ | BL4: Ⅲ | BM4: Ⅱa | BN4: Ⅱb | BO4: Ⅳ | BP4: Ⅲ | BQ4: Ⅱa | BR4: Ⅱb | BS4: Ⅳ | BT4: Ⅲ | BU4: Ⅱa | BV4: Ⅱb
B5: 名 称 | E5: ='様式A-1'!$D$4 -> 関々トンネル | K5: 管理者名 | N5: ='様式A-1'!$R$3 -> 山口県岩国土木建築事務所 | Y5: =+'様式B (1)'!$S$4 -> 小笠原洋 | AV5: =N7 -> S002 | AW5: =R7 -> 10.5 | AX5: =AM35 -> Ⅱ | AY5: =Y37 -> 0 | AZ5: =Z37 -> 0 | BA5: =AA37 -> 0 | BB5: =AB37 -> 0 | BC5: =AC37 -> 0 | BD5: =AD37 -> 0 | BE5: =AE37 -> 0 | BF5: =AF37 -> 0 | ... BJ5: =AJ37 -> 0 | BK5: =IF(Y37>0,R7,"") | BL5: =IF(Y37>0,"",IF(Z37>0,R7,"")) | BM5: =IF(Y37+Z37>0,"",IF(AA37>0,R7,"")) | BN5: =IF(Y37+Z37+AA37>0,"",IF(AB37>0,R7,"")) | BO5: =AC35 -> 0 | BP5: =AD35 -> 0 | BQ5: =AE35 -> 0 | BR5: =AF35 -> 0 | BS5: =AG35 -> 0 | BT5: =AH35 -> 0 | BU5: =AI35 -> 0 | BV5: =AJ35 -> 0
B6: スパン別変状展開図 | K6: 【健全性判定集計表】
K7: スパン番号 | N7: S002 | P7: スパン長 | R7: 10.5 | U7: 前回定期点検時の判定 | W7: 応急措置前の判定 | Y7: 対策区分毎の 変状の有無 | AC7: 対策区分毎の変状の発生範囲の規模(㎡) | AK7: 備考注2
K8: 変状番号 | L8: 対象箇所 | N8: 部位区分 | P8: 変状区分 | R8: 変状種類
Y9: 外力注1 | AC9: 材質劣化注1 | AG9: 漏水注1
Y10: Ⅳ | Z10: Ⅲ | AA10: Ⅱa | AB10: Ⅱb | AC10: Ⅳ | AD10: Ⅲ | AE10: Ⅱa | AF10: Ⅱb | AG10: Ⅳ | AH10: Ⅲ | AI10: Ⅱa | AJ10: Ⅱb
K11: 1 | L11: 路面 | N11: 側溝 | R11: その他 | U11: Ⅱb | AK11: 土砂堆積 | AQ11: =IF(P11="材質劣化",2,IF(P11="漏水",3,1)) -> 1 | AS11: =IF(Y11<>"",1,"")
AQ12: =IF(P12="材質劣化",2,IF(P12="漏水",3,1)) -> 1
AQ13: =IF(P13="材質劣化",2,IF(P13="漏水",3,1)) -> 1
AQ14: =IF(P14="材質劣化",2,IF(P14="漏水",3,1)) -> 1
AQ15: =IF(P15="材質劣化",2,IF(P15="漏水",3,1)) -> 1
AQ16: =IF(P16="材質劣化",2,IF(P16="漏水",3,1)) -> 1
AQ17: =IF(P17="材質劣化",2,IF(P17="漏水",3,1)) -> 1
AQ18: =IF(P18="材質劣化",2,IF(P18="漏水",3,1)) -> 1
AQ19: =IF(P19="材質劣化",2,IF(P19="漏水",3,1)) -> 1
AQ20: =IF(P20="材質劣化",2,IF(P20="漏水",3,1)) -> 1
AQ21: =IF(P21="材質劣化",2,IF(P21="漏水",3,1)) -> 1
AQ22: =IF(P22="材質劣化",2,IF(P22="漏水",3,1)) -> 1
AQ23: =IF(P23="材質劣化",2,IF(P23="漏水",3,1)) -> 1
... AQ27: =IF(P27="材質劣化",2,IF(P27="漏水",3,1)) -> 1
AQ28: =IF(P30="材質劣化",2,IF(P30="漏水",3,1)) -> 1
AQ29: =IF(P34="材質劣化",2,IF(P34="漏水",3,1)) -> 1
AQ30: =IF(P30="材質劣化",2,IF(P30="漏水",3,1)) -> 1
AQ31: =IF(P33="材質劣化",2,IF(P33="漏水",3,1)) -> 1
AQ32: =IF(P37="材質劣化",2,IF(P37="漏水",3,1)) -> 1
AQ33: =IF(P33="材質劣化",2,IF(P33="漏水",3,1)) -> 1
AQ34: =IF(P36="材質劣化",2,IF(P36="漏水",3,1)) -> 1
K35: 集計 判定 診断 | L35: 変状の発生規模合計(㎡) | Y35: － | AC35: =SUM(AC11:AC34) -> 0 | AD35: =SUM(AD11:AD34) -> 0 | AE35: =SUM(AE11:AE34) -> 0 | AF35: =SUM(AF11:AF34) -> 0 | AG35: =SUM(AG11:AG34) -> 0 | AH35: =SUM(AH11:AH34) -> 0 | AI35: =SUM(AI11:AI34) -> 0 | AJ35: =SUM(AJ11:AJ34) -> 0 | AK35: 覆工スパン単位の 健全性の 診断の区分 | AM35: Ⅱ
L36: 対策区分の 判定結果 | O36: 対策区分毎の変状数注3 | Y36: Ⅳ | Z36: Ⅲ | AA36: Ⅱa | AB36: Ⅱb | AC36: Ⅳ | AD36: Ⅲ | AE36: Ⅱa | AF36: Ⅱb | AG36: Ⅳ | AH36: Ⅲ | AI36: Ⅱa | AJ36: Ⅱb
Y37: =IF(COUNTIF(Y11:Y34,"○")>0,1,0) -> 0 | Z37: =IF(COUNTIF(Z11:Z34,"○")>0,1,0) -> 0 | AA37: =IF(COUNTIF(AA11:AA34,"○")>0,1,0) -> 0 | AB37: =IF(COUNTIF(AB11:AB34,"○")>0,1,0) -> 0 | AC37: =COUNTA(AC11:AC34) -> 0 | AD37: =COUNTA(AD11:AD34) -> 0 | AE37: =COUNTA(AE11:AE34) -> 0 | AF37: =COUNTA(AF11:AF34) -> 0 | AG37: =COUNTA(AG11:AG34) -> 0 | AH37: =COUNTA(AH11:AH34) -> 0 | AI37: =COUNTA(AI11:AI34) -> 0 | AJ37: =COUNTA(AJ11:AJ34) -> 0
K39: 所見
K43: 注1：誤記入防止のため、当該変状区分以外のセルは灰色表示とすること。
K44: 注2：応急措置を実施した場合は、その詳細を備考に記載すること。
K45: 注3：外力は覆工スパン単位、材質劣化、漏水は変状単位とすること。
B46: （以下、印刷不要）
B47: ※1：本シートは作成洩れのないよう、変状が無くても全スパン分を作成すること．また変状展開図は、様式D-2-1、様式D-2-1'と同じものを覆工スパン単位で拡大し掲載すること。
B48: ※2：変状番号は、様式D-1-1で記入した番号と整合させること。
B49: ※3：対策区分毎の変状発生規模は、様式D-1-1に記載した面積を記入すること（ただし外力はスパン単位で評価するため変状の有無の欄には面積でなく○を記入し、備考欄に状況を記入）。
B50: ※4：本様式は覆工スパン毎に作成すること。
B51: ※5：変状数が多い場合は、適時、表の行を増やして覆工スパン毎に1枚のシートに収めること。また、1スパン１シートとし、スパンに合わせてシートを追加すること。
B52: ※6：対策区分毎の変状の発生範囲の規模とは，対策を行う際に参考となる変状の長さや面積であり，変状を包含する長さや面積とする。
B53: ※7：対策範囲を示す発生範囲の規模を面積で記入することが妥当ではない変状は、発生範囲の規模の欄に○を記入するとともに、備考に内容を記入すること。

Sheet 様式D-3_S003
AU1: 様式F用→ | AV1: 覆工スパン | AY1: 変 状 数 | BK1: 変 状 規 模
AV2: 番号 | AW2: 延長 （ｍ） | AX2: 健全性の診断の 区分 | AY2: 対策区分の判定 | BK2: 覆工スパン長（ｍ） | BO2: 変状の発生範囲の規模（㎡）
B3: ■定期点検記録様式 覆工スパン別変状詳細展開図 【様式D-3】 | AY3: 外力 | BC3: 材質劣化 | BG3: 漏水 | BK3: 外力 注2 | BO3: 材質劣化 | BS3: 漏水
B4: フリガナ | E4: ='様式A-1'!$D$3 -> セキセキトンネル | K4: 路線名 | N4: ='様式A-1'!$J$3 -> 主要地方道岩国大竹線 | T4: 定期点検実施者 | Y4: =+'様式B (1)'!$S$3 -> 復建調査設計株式会社 | AG4: 定期点検年月日 | AK4: =+'様式B (1)'!$P$2 -> 45853 | AY4: Ⅳ | AZ4: Ⅲ | BA4: Ⅱa | BB4: Ⅱb | BC4: Ⅳ | BD4: Ⅲ | BE4: Ⅱa | BF4: Ⅱb | BG4: Ⅳ | BH4: Ⅲ | BI4: Ⅱa | BJ4: Ⅱb | BK4: Ⅳ | BL4: Ⅲ | BM4: Ⅱa | BN4: Ⅱb | BO4: Ⅳ | BP4: Ⅲ | BQ4: Ⅱa | BR4: Ⅱb | BS4: Ⅳ | BT4: Ⅲ | BU4: Ⅱa | BV4: Ⅱb
B5: 名 称 | E5: ='様式A-1'!$D$4 -> 関々トンネル | K5: 管理者名 | N5: ='様式A-1'!$R$3 -> 山口県岩国土木建築事務所 | Y5: =+'様式B (1)'!$S$4 -> 小笠原洋 | AV5: =N7 -> S003 | AW5: =R7 -> 10.5 | AX5: =AM35 -> Ⅱ | AY5: =Y37 -> 0 | AZ5: =Z37 -> 0 | BA5: =AA37 -> 0 | BB5: =AB37 -> 0 | BC5: =AC37 -> 0 | BD5: =AD37 -> 0 | BE5: =AE37 -> 0 | BF5: =AF37 -> 1 | ... BJ5: =AJ37 -> 0 | BK5: =IF(Y37>0,R7,"") | BL5: =IF(Y37>0,"",IF(Z37>0,R7,"")) | BM5: =IF(Y37+Z37>0,"",IF(AA37>0,R7,"")) | BN5: =IF(Y37+Z37+AA37>0,"",IF(AB37>0,R7,"")) | BO5: =AC35 -> 0 | BP5: =AD35 -> 0 | BQ5: =AE35 -> 0 | BR5: =AF35 -> 0.01 | BS5: =AG35 -> 0 | BT5: =AH35 -> 0 | BU5: =AI35 -> 0 | BV5: =AJ35 -> 0
B6: スパン別変状展開図 | K6: 【健全性判定集計表】
K7: スパン番号 | N7: S003 | P7: スパン長 | R7: 10.5 | U7: 前回定期点検時の判定 | W7: 応急措置前の判定 | Y7: 対策区分毎の 変状の有無 | AC7: 対策区分毎の変状の発生範囲の規模(㎡) | AK7: 備考注2
K8: 変状番号 | L8: 対象箇所 | N8: 部位区分 | P8: 変状区分 | R8: 変状種類
Y9: 外力注1 | AC9: 材質劣化注1 | AG9: 漏水注1
Y10: Ⅳ | Z10: Ⅲ | AA10: Ⅱa | AB10: Ⅱb | AC10: Ⅳ | AD10: Ⅲ | AE10: Ⅱa | AF10: Ⅱb | AG10: Ⅳ | AH10: Ⅲ | AI10: Ⅱa | AJ10: Ⅱb
K11: 1 | L11: 覆工 | N11: 側壁（右側） | P11: 材質劣化 | R11: 鋼材腐食 | U11: Ⅱb | W11: Ⅱb | AF11: 0.01 | AQ11: =IF(P11="材質劣化",2,IF(P11="漏水",3,1)) -> 2 | AS11: =IF(Y11<>"",1,"")
K12: 2 | L12: 路面 | N12: 側溝 | R12: その他 | U12: Ⅱb | AK12: 土砂堆積 | AQ12: =IF(P12="材質劣化",2,IF(P12="漏水",3,1)) -> 1
K13: 3 | L13: 路面 | N13: 側溝 | R13: その他 | U13: Ⅱb | AK13: 土砂堆積 | AQ13: =IF(P13="材質劣化",2,IF(P13="漏水",3,1)) -> 1
AQ14: =IF(P14="材質劣化",2,IF(P14="漏水",3,1)) -> 1
AQ15: =IF(P15="材質劣化",2,IF(P15="漏水",3,1)) -> 1
AQ16: =IF(P16="材質劣化",2,IF(P16="漏水",3,1)) -> 1
AQ17: =IF(P17="材質劣化",2,IF(P17="漏水",3,1)) -> 1
AQ18: =IF(P18="材質劣化",2,IF(P18="漏水",3,1)) -> 1
AQ19: =IF(P19="材質劣化",2,IF(P19="漏水",3,1)) -> 1
AQ20: =IF(P20="材質劣化",2,IF(P20="漏水",3,1)) -> 1
AQ21: =IF(P21="材質劣化",2,IF(P21="漏水",3,1)) -> 1
AQ22: =IF(P22="材質劣化",2,IF(P22="漏水",3,1)) -> 1
AQ23: =IF(P23="材質劣化",2,IF(P23="漏水",3,1)) -> 1
AQ24: =IF(P24="材質劣化",2,IF(P24="漏水",3,1)) -> 1
AQ25: =IF(P25="材質劣化",2,IF(P25="漏水",3,1)) -> 1
... AQ27: =IF(P27="材質劣化",2,IF(P27="漏水",3,1)) -> 1
AQ28: =IF(P30="材質劣化",2,IF(P30="漏水",3,1)) -> 1
AQ29: =IF(P34="材質劣化",2,IF(P34="漏水",3,1)) -> 1
AQ30: =IF(P30="材質劣化",2,IF(P30="漏水",3,1)) -> 1
AQ31: =IF(P33="材質劣化",2,IF(P33="漏水",3,1)) -> 1
AQ32: =IF(P37="材質劣化",2,IF(P37="漏水",3,1)) -> 1
AQ33: =IF(P33="材質劣化",2,IF(P33="漏水",3,1)) -> 1
AQ34: =IF(P36="材質劣化",2,IF(P36="漏水",3,1)) -> 1
K35: 集計 判定 診断 | L35: 変状の発生規模合計(㎡) | Y35: － | AC35: =SUM(AC11:AC34) -> 0 | AD35: =SUM(AD11:AD34) -> 0 | AE35: =SUM(AE11:AE34) -> 0 | AF35: =SUM(AF11:AF34) -> 0.01 | AG35: =SUM(AG11:AG34) -> 0 | AH35: =SUM(AH11:AH34) -> 0 | AI35: =SUM(AI11:AI34) -> 0 | AJ35: =SUM(AJ11:AJ34) -> 0 | AK35: 覆工スパン単位の 健全性の 診断の区分 | AM35: Ⅱ
L36: 対策区分の 判定結果 | O36: 対策区分毎の変状数注3 | Y36: Ⅳ | Z36: Ⅲ | AA36: Ⅱa | AB36: Ⅱb | AC36: Ⅳ | AD36: Ⅲ | AE36: Ⅱa | AF36: Ⅱb | AG36: Ⅳ | AH36: Ⅲ | AI36: Ⅱa | AJ36: Ⅱb
Y37: =IF(COUNTIF(Y11:Y34,"○")>0,1,0) -> 0 | Z37: =IF(COUNTIF(Z11:Z34,"○")>0,1,0) -> 0 | AA37: =IF(COUNTIF(AA11:AA34,"○")>0,1,0) -> 0 | AB37: =IF(COUNTIF(AB11:AB34,"○")>0,1,0) -> 0 | AC37: =COUNTA(AC11:AC34) -> 0 | AD37: =COUNTA(AD11:AD34) -> 0 | AE37: =COUNTA(AE11:AE34) -> 0 | AF37: =COUNTA(AF11:AF34) -> 1 | AG37: =COUNTA(AG11:AG34) -> 0 | AH37: =COUNTA(AH11:AH34) -> 0 | AI37: =COUNTA(AI11:AI34) -> 0 | AJ37: =COUNTA(AJ11:AJ34) -> 0
K39: 所見
K43: 注1：誤記入防止のため、当該変状区分以外のセルは灰色表示とすること。
K44: 注2：応急措置を実施した場合は、その詳細を備考に記載すること。
K45: 注3：外力は覆工スパン単位、材質劣化、漏水は変状単位とすること。
B46: （以下、印刷不要）
B47: ※1：本シートは作成洩れのないよう、変状が無くても全スパン分を作成すること．また変状展開図は、様式D-2-1、様式D-2-1'と同じものを覆工スパン単位で拡大し掲載すること。
B48: ※2：変状番号は、様式D-1-1で記入した番号と整合させること。
B49: ※3：対策区分毎の変状発生規模は、様式D-1-1に記載した面積を記入すること（ただし外力はスパン単位で評価するため変状の有無の欄には面積でなく○を記入し、備考欄に状況を記入）。
B50: ※4：本様式は覆工スパン毎に作成すること。
B51: ※5：変状数が多い場合は、適時、表の行を増やして覆工スパン毎に1枚のシートに収めること。また、1スパン１シートとし、スパンに合わせてシートを追加すること。
B52: ※6：対策区分毎の変状の発生範囲の規模とは，対策を行う際に参考となる変状の長さや面積であり，変状を包含する長さや面積とする。
B53: ※7：対策範囲を示す発生範囲の規模を面積で記入することが妥当ではない変状は、発生範囲の規模の欄に○を記入するとともに、備考に内容を記入すること。

Sheet 様式D-3_S004
AU1: 様式F用→ | AV1: 覆工スパン | AY1: 変 状 数 | BK1: 変 状 規 模
AV2: 番号 | AW2: 延長 （ｍ） | AX2: 健全性の診断の 区分 | AY2: 対策区分の判定 | BK2: 覆工スパン長（ｍ） | BO2: 変状の発生範囲の規模（㎡）
B3: ■定期点検記録様式 覆工スパン別変状詳細展開図 【様式D-3】 | AY3: 外力 | BC3: 材質劣化 | BG3: 漏水 | BK3: 外力 注2 | BO3: 材質劣化 | BS3: 漏水
B4: フリガナ | E4: ='様式A-1'!$D$3 -> セキセキトンネル | K4: 路線名 | N4: ='様式A-1'!$J$3 -> 主要地方道岩国大竹線 | T4: 定期点検実施者 | Y4: =+'様式B (1)'!$S$3 -> 復建調査設計株式会社 | AG4: 定期点検年月日 | AK4: =+'様式B (1)'!$P$2 -> 45853 | AY4: Ⅳ | AZ4: Ⅲ | BA4: Ⅱa | BB4: Ⅱb | BC4: Ⅳ | BD4: Ⅲ | BE4: Ⅱa | BF4: Ⅱb | BG4: Ⅳ | BH4: Ⅲ | BI4: Ⅱa | BJ4: Ⅱb | BK4: Ⅳ | BL4: Ⅲ | BM4: Ⅱa | BN4: Ⅱb | BO4: Ⅳ | BP4: Ⅲ | BQ4: Ⅱa | BR4: Ⅱb | BS4: Ⅳ | BT4: Ⅲ | BU4: Ⅱa | BV4: Ⅱb
B5: 名 称 | E5: ='様式A-1'!$D$4 -> 関々トンネル | K5: 管理者名 | N5: ='様式A-1'!$R$3 -> 山口県岩国土木建築事務所 | Y5: =+'様式B (1)'!$S$4 -> 小笠原洋 | AV5: =N7 -> S004 | AW5: =R7 -> 10.5 | AX5: =AM35 -> Ⅱ | AY5: =Y37 -> 0 | AZ5: =Z37 -> 0 | BA5: =AA37 -> 0 | BB5: =AB37 -> 0 | BC5: =AC37 -> 0 | BD5: =AD37 -> 0 | BE5: =AE37 -> 0 | BF5: =AF37 -> 0 | ... BJ5: =AJ37 -> 0 | BK5: =IF(Y37>0,R7,"") | BL5: =IF(Y37>0,"",IF(Z37>0,R7,"")) | BM5: =IF(Y37+Z37>0,"",IF(AA37>0,R7,"")) | BN5: =IF(Y37+Z37+AA37>0,"",IF(AB37>0,R7,"")) | BO5: =AC35 -> 0 | BP5: =AD35 -> 0 | BQ5: =AE35 -> 0 | BR5: =AF35 -> 0 | BS5: =AG35 -> 0 | BT5: =AH35 -> 0 | BU5: =AI35 -> 0 | BV5: =AJ35 -> 0
B6: スパン別変状展開図 | K6: 【健全性判定集計表】
K7: スパン番号 | N7: S004 | P7: スパン長 | R7: 10.5 | U7: 前回定期点検時の判定 | W7: 応急措置前の判定 | Y7: 対策区分毎の 変状の有無 | AC7: 対策区分毎の変状の発生範囲の規模(㎡) | AK7: 備考注2
K8: 変状番号 | L8: 対象箇所 | N8: 部位区分 | P8: 変状区分 | R8: 変状種類
Y9: 外力注1 | AC9: 材質劣化注1 | AG9: 漏水注1
Y10: Ⅳ | Z10: Ⅲ | AA10: Ⅱa | AB10: Ⅱb | AC10: Ⅳ | AD10: Ⅲ | AE10: Ⅱa | AF10: Ⅱb | AG10: Ⅳ | AH10: Ⅲ | AI10: Ⅱa | AJ10: Ⅱb
K11: 1 | L11: 路面 | N11: 側溝 | R11: その他 | U11: Ⅱb | AK11: 土砂堆積 | AQ11: =IF(P11="材質劣化",2,IF(P11="漏水",3,1)) -> 1 | AS11: =IF(Y11<>"",1,"")
K12: 2 | L12: 路面 | N12: 側溝 | R12: その他 | U12: Ⅱb | AK12: 土砂堆積 | AQ12: =IF(P12="材質劣化",2,IF(P12="漏水",3,1)) -> 1
AQ13: =IF(P13="材質劣化",2,IF(P13="漏水",3,1)) -> 1
AQ14: =IF(P14="材質劣化",2,IF(P14="漏水",3,1)) -> 1
AQ15: =IF(P15="材質劣化",2,IF(P15="漏水",3,1)) -> 1
AQ16: =IF(P16="材質劣化",2,IF(P16="漏水",3,1)) -> 1
AQ17: =IF(P17="材質劣化",2,IF(P17="漏水",3,1)) -> 1
AQ18: =IF(P18="材質劣化",2,IF(P18="漏水",3,1)) -> 1
AQ19: =IF(P19="材質劣化",2,IF(P19="漏水",3,1)) -> 1
AQ20: =IF(P20="材質劣化",2,IF(P20="漏水",3,1)) -> 1
AQ21: =IF(P21="材質劣化",2,IF(P21="漏水",3,1)) -> 1
AQ22: =IF(P22="材質劣化",2,IF(P22="漏水",3,1)) -> 1
AQ23: =IF(P23="材質劣化",2,IF(P23="漏水",3,1)) -> 1
AQ24: =IF(P24="材質劣化",2,IF(P24="漏水",3,1)) -> 1
... AQ27: =IF(P27="材質劣化",2,IF(P27="漏水",3,1)) -> 1
AQ28: =IF(P30="材質劣化",2,IF(P30="漏水",3,1)) -> 1
AQ29: =IF(P34="材質劣化",2,IF(P34="漏水",3,1)) -> 1
AQ30: =IF(P30="材質劣化",2,IF(P30="漏水",3,1)) -> 1
AQ31: =IF(P33="材質劣化",2,IF(P33="漏水",3,1)) -> 1
AQ32: =IF(P37="材質劣化",2,IF(P37="漏水",3,1)) -> 1
AQ33: =IF(P33="材質劣化",2,IF(P33="漏水",3,1)) -> 1
AQ34: =IF(P36="材質劣化",2,IF(P36="漏水",3,1)) -> 1
K35: 集計 判定 診断 | L35: 変状の発生規模合計(㎡) | Y35: － | AC35: =SUM(AC11:AC34) -> 0 | AD35: =SUM(AD11:AD34) -> 0 | AE35: =SUM(AE11:AE34) -> 0 | AF35: =SUM(AF11:AF34) -> 0 | AG35: =SUM(AG11:AG34) -> 0 | AH35: =SUM(AH11:AH34) -> 0 | AI35: =SUM(AI11:AI34) -> 0 | AJ35: =SUM(AJ11:AJ34) -> 0 | AK35: 覆工スパン単位の 健全性の 診断の区分 | AM35: Ⅱ
L36: 対策区分の 判定結果 | O36: 対策区分毎の変状数注3 | Y36: Ⅳ | Z36: Ⅲ | AA36: Ⅱa | AB36: Ⅱb | AC36: Ⅳ | AD36: Ⅲ | AE36: Ⅱa | AF36: Ⅱb | AG36: Ⅳ | AH36: Ⅲ | AI36: Ⅱa | AJ36: Ⅱb
Y37: =IF(COUNTIF(Y11:Y34,"○")>0,1,0) -> 0 | Z37: =IF(COUNTIF(Z11:Z34,"○")>0,1,0) -> 0 | AA37: =IF(COUNTIF(AA11:AA34,"○")>0,1,0) -> 0 | AB37: =IF(COUNTIF(AB11:AB34,"○")>0,1,0) -> 0 | AC37: =COUNTA(AC11:AC34) -> 0 | AD37: =COUNTA(AD11:AD34) -> 0 | AE37: =COUNTA(AE11:AE34) -> 0 | AF37: =COUNTA(AF11:AF34) -> 0 | AG37: =COUNTA(AG11:AG34) -> 0 | AH37: =COUNTA(AH11:AH34) -> 0 | AI37: =COUNTA(AI11:AI34) -> 0 | AJ37: =COUNTA(AJ11:AJ34) -> 0
K39: 所見
K43: 注1：誤記入防止のため、当該変状区分以外のセルは灰色表示とすること。
K44: 注2：応急措置を実施した場合は、その詳細を備考に記載すること。
K45: 注3：外力は覆工スパン単位、材質劣化、漏水は変状単位とすること。
B46: （以下、印刷不要）
B47: ※1：本シートは作成洩れのないよう、変状が無くても全スパン分を作成すること．また変状展開図は、様式D-2-1、様式D-2-1'と同じものを覆工スパン単位で拡大し掲載すること。
B48: ※2：変状番号は、様式D-1-1で記入した番号と整合させること。
B49: ※3：対策区分毎の変状発生規模は、様式D-1-1に記載した面積を記入すること（ただし外力はスパン単位で評価するため変状の有無の欄には面積でなく○を記入し、備考欄に状況を記入）。
B50: ※4：本様式は覆工スパン毎に作成すること。
B51: ※5：変状数が多い場合は、適時、表の行を増やして覆工スパン毎に1枚のシートに収めること。また、1スパン１シートとし、スパンに合わせてシートを追加すること。
B52: ※6：対策区分毎の変状の発生範囲の規模とは，対策を行う際に参考となる変状の長さや面積であり，変状を包含する長さや面積とする。
B53: ※7：対策範囲を示す発生範囲の規模を面積で記入することが妥当ではない変状は、発生範囲の規模の欄に○を記入するとともに、備考に内容を記入すること。

Sheet 様式D-3_S005
AU1: 様式F用→ | AV1: 覆工スパン | AY1: 変 状 数 | BK1: 変 状 規 模
AV2: 番号 | AW2: 延長 （ｍ） | AX2: 健全性の診断の 区分 | AY2: 対策区分の判定 | BK2: 覆工スパン長（ｍ） | BO2: 変状の発生範囲の規模（㎡）
B3: ■定期点検記録様式 覆工スパン別変状詳細展開図 【様式D-3】 | AY3: 外力 | BC3: 材質劣化 | BG3: 漏水 | BK3: 外力 注2 | BO3: 材質劣化 | BS3: 漏水
B4: フリガナ | E4: ='様式A-1'!$D$3 -> セキセキトンネル | K4: 路線名 | N4: ='様式A-1'!$J$3 -> 主要地方道岩国大竹線 | T4: 定期点検実施者 | Y4: =+'様式B (1)'!$S$3 -> 復建調査設計株式会社 | AG4: 定期点検年月日 | AK4: =+'様式B (1)'!$P$2 -> 45853 | AY4: Ⅳ | AZ4: Ⅲ | BA4: Ⅱa | BB4: Ⅱb | BC4: Ⅳ | BD4: Ⅲ | BE4: Ⅱa | BF4: Ⅱb | BG4: Ⅳ | BH4: Ⅲ | BI4: Ⅱa | BJ4: Ⅱb | BK4: Ⅳ | BL4: Ⅲ | BM4: Ⅱa | BN4: Ⅱb | BO4: Ⅳ | BP4: Ⅲ | BQ4: Ⅱa | BR4: Ⅱb | BS4: Ⅳ | BT4: Ⅲ | BU4: Ⅱa | BV4: Ⅱb
B5: 名 称 | E5: ='様式A-1'!$D$4 -> 関々トンネル | K5: 管理者名 | N5: ='様式A-1'!$R$3 -> 山口県岩国土木建築事務所 | Y5: =+'様式B (1)'!$S$4 -> 小笠原洋 | AV5: =N7 -> S005 | AW5: =R7 -> 10.5 | AX5: =AM35 -> Ⅱ | AY5: =Y37 -> 0 | AZ5: =Z37 -> 0 | BA5: =AA37 -> 0 | BB5: =AB37 -> 0 | BC5: =AC37 -> 0 | BD5: =AD37 -> 0 | BE5: =AE37 -> 0 | BF5: =AF37 -> 0 | ... BJ5: =AJ37 -> 0 | BK5: =IF(Y37>0,R7,"") | BL5: =IF(Y37>0,"",IF(Z37>0,R7,"")) | BM5: =IF(Y37+Z37>0,"",IF(AA37>0,R7,"")) | BN5: =IF(Y37+Z37+AA37>0,"",IF(AB37>0,R7,"")) | BO5: =AC35 -> 0 | BP5: =AD35 -> 0 | BQ5: =AE35 -> 0 | BR5: =AF35 -> 0 | BS5: =AG35 -> 0 | BT5: =AH35 -> 0 | BU5: =AI35 -> 0 | BV5: =AJ35 -> 0
B6: スパン別変状展開図 | K6: 【健全性判定集計表】
K7: スパン番号 | N7: S005 | P7: スパン長 | R7: 10.5 | U7: 前回定期点検時の判定 | W7: 応急措置前の判定 | Y7: 対策区分毎の 変状の有無 | AC7: 対策区分毎の変状の発生範囲の規模(㎡) | AK7: 備考注2
K8: 変状番号 | L8: 対象箇所 | N8: 部位区分 | P8: 変状区分 | R8: 変状種類
Y9: 外力注1 | AC9: 材質劣化注1 | AG9: 漏水注1
Y10: Ⅳ | Z10: Ⅲ | AA10: Ⅱa | AB10: Ⅱb | AC10: Ⅳ | AD10: Ⅲ | AE10: Ⅱa | AF10: Ⅱb | AG10: Ⅳ | AH10: Ⅲ | AI10: Ⅱa | AJ10: Ⅱb
K11: 1 | L11: 路面 | N11: 側溝 | R11: その他 | U11: Ⅱb | AK11: 土砂堆積 | AQ11: =IF(P11="材質劣化",2,IF(P11="漏水",3,1)) -> 1 | AS11: =IF(Y11<>"",1,"")
K12: 2 | L12: 路面 | N12: 側溝 | R12: その他 | U12: Ⅱb | AK12: 土砂堆積 | AQ12: =IF(P12="材質劣化",2,IF(P12="漏水",3,1)) -> 1
AQ13: =IF(P13="材質劣化",2,IF(P13="漏水",3,1)) -> 1
AQ14: =IF(P14="材質劣化",2,IF(P14="漏水",3,1)) -> 1
AQ15: =IF(P15="材質劣化",2,IF(P15="漏水",3,1)) -> 1
AQ16: =IF(P16="材質劣化",2,IF(P16="漏水",3,1)) -> 1
AQ17: =IF(P17="材質劣化",2,IF(P17="漏水",3,1)) -> 1
AQ18: =IF(P18="材質劣化",2,IF(P18="漏水",3,1)) -> 1
AQ19: =IF(P19="材質劣化",2,IF(P19="漏水",3,1)) -> 1
AQ20: =IF(P20="材質劣化",2,IF(P20="漏水",3,1)) -> 1
AQ21: =IF(P21="材質劣化",2,IF(P21="漏水",3,1)) -> 1
AQ22: =IF(P22="材質劣化",2,IF(P22="漏水",3,1)) -> 1
AQ23: =IF(P23="材質劣化",2,IF(P23="漏水",3,1)) -> 1
AQ24: =IF(P24="材質劣化",2,IF(P24="漏水",3,1)) -> 1
... AQ27: =IF(P27="材質劣化",2,IF(P27="漏水",3,1)) -> 1
AQ28: =IF(P30="材質劣化",2,IF(P30="漏水",3,1)) -> 1
AQ29: =IF(P34="材質劣化",2,IF(P34="漏水",3,1)) -> 1
AQ30: =IF(P30="材質劣化",2,IF(P30="漏水",3,1)) -> 1
AQ31: =IF(P33="材質劣化",2,IF(P33="漏水",3,1)) -> 1
AQ32: =IF(P37="材質劣化",2,IF(P37="漏水",3,1)) -> 1
AQ33: =IF(P33="材質劣化",2,IF(P33="漏水",3,1)) -> 1
AQ34: =IF(P36="材質劣化",2,IF(P36="漏水",3,1)) -> 1
K35: 集計 判定 診断 | L35: 変状の発生規模合計(㎡) | Y35: － | AC35: =SUM(AC11:AC34) -> 0 | AD35: =SUM(AD11:AD34) -> 0 | AE35: =SUM(AE11:AE34) -> 0 | AF35: =SUM(AF11:AF34) -> 0 | AG35: =SUM(AG11:AG34) -> 0 | AH35: =SUM(AH11:AH34) -> 0 | AI35: =SUM(AI11:AI34) -> 0 | AJ35: =SUM(AJ11:AJ34) -> 0 | AK35: 覆工スパン単位の 健全性の 診断の区分 | AM35: Ⅱ
L36: 対策区分の 判定結果 | O36: 対策区分毎の変状数注3 | Y36: Ⅳ | Z36: Ⅲ | AA36: Ⅱa | AB36: Ⅱb | AC36: Ⅳ | AD36: Ⅲ | AE36: Ⅱa | AF36: Ⅱb | AG36: Ⅳ | AH36: Ⅲ | AI36: Ⅱa | AJ36: Ⅱb
Y37: =IF(COUNTIF(Y11:Y34,"○")>0,1,0) -> 0 | Z37: =IF(COUNTIF(Z11:Z34,"○")>0,1,0) -> 0 | AA37: =IF(COUNTIF(AA11:AA34,"○")>0,1,0) -> 0 | AB37: =IF(COUNTIF(AB11:AB34,"○")>0,1,0) -> 0 | AC37: =COUNTA(AC11:AC34) -> 0 | AD37: =COUNTA(AD11:AD34) -> 0 | AE37: =COUNTA(AE11:AE34) -> 0 | AF37: =COUNTA(AF11:AF34) -> 0 | AG37: =COUNTA(AG11:AG34) -> 0 | AH37: =COUNTA(AH11:AH34) -> 0 | AI37: =COUNTA(AI11:AI34) -> 0 | AJ37: =COUNTA(AJ11:AJ34) -> 0
K39: 所見
K43: 注1：誤記入防止のため、当該変状区分以外のセルは灰色表示とすること。
K44: 注2：応急措置を実施した場合は、その詳細を備考に記載すること。
K45: 注3：外力は覆工スパン単位、材質劣化、漏水は変状単位とすること。
B46: （以下、印刷不要）
B47: ※1：本シートは作成洩れのないよう、変状が無くても全スパン分を作成すること．また変状展開図は、様式D-2-1、様式D-2-1'と同じものを覆工スパン単位で拡大し掲載すること。
B48: ※2：変状番号は、様式D-1-1で記入した番号と整合させること。
B49: ※3：対策区分毎の変状発生規模は、様式D-1-1に記載した面積を記入すること（ただし外力はスパン単位で評価するため変状の有無の欄には面積でなく○を記入し、備考欄に状況を記入）。
B50: ※4：本様式は覆工スパン毎に作成すること。
B51: ※5：変状数が多い場合は、適時、表の行を増やして覆工スパン毎に1枚のシートに収めること。また、1スパン１シートとし、スパンに合わせてシートを追加すること。
B52: ※6：対策区分毎の変状の発生範囲の規模とは，対策を行う際に参考となる変状の長さや面積であり，変状を包含する長さや面積とする。
B53: ※7：対策範囲を示す発生範囲の規模を面積で記入することが妥当ではない変状は、発生範囲の規模の欄に○を記入するとともに、備考に内容を記入すること。

Sheet 様式D-3_S006
AU1: 様式F用→ | AV1: 覆工スパン | AY1: 変 状 数 | BK1: 変 状 規 模
AV2: 番号 | AW2: 延長 （ｍ） | AX2: 健全性の診断の 区分 | AY2: 対策区分の判定 | BK2: 覆工スパン長（ｍ） | BO2: 変状の発生範囲の規模（㎡）
B3: ■定期点検記録様式 覆工スパン別変状詳細展開図 【様式D-3】 | AY3: 外力 | BC3: 材質劣化 | BG3: 漏水 | BK3: 外力 注2 | BO3: 材質劣化 | BS3: 漏水
B4: フリガナ | E4: ='様式A-1'!$D$3 -> セキセキトンネル | K4: 路線名 | N4: ='様式A-1'!$J$3 -> 主要地方道岩国大竹線 | T4: 定期点検実施者 | Y4: =+'様式B (1)'!$S$3 -> 復建調査設計株式会社 | AG4: 定期点検年月日 | AK4: =+'様式B (1)'!$P$2 -> 45853 | AY4: Ⅳ | AZ4: Ⅲ | BA4: Ⅱa | BB4: Ⅱb | BC4: Ⅳ | BD4: Ⅲ | BE4: Ⅱa | BF4: Ⅱb | BG4: Ⅳ | BH4: Ⅲ | BI4: Ⅱa | BJ4: Ⅱb | BK4: Ⅳ | BL4: Ⅲ | BM4: Ⅱa | BN4: Ⅱb | BO4: Ⅳ | BP4: Ⅲ | BQ4: Ⅱa | BR4: Ⅱb | BS4: Ⅳ | BT4: Ⅲ | BU4: Ⅱa | BV4: Ⅱb
B5: 名 称 | E5: ='様式A-1'!$D$4 -> 関々トンネル | K5: 管理者名 | N5: ='様式A-1'!$R$3 -> 山口県岩国土木建築事務所 | Y5: =+'様式B (1)'!$S$4 -> 小笠原洋 | AV5: =N7 -> S006 | AW5: =R7 -> 10.5 | AX5: =AM35 -> Ⅱ | AY5: =Y37 -> 0 | AZ5: =Z37 -> 0 | BA5: =AA37 -> 0 | BB5: =AB37 -> 0 | BC5: =AC37 -> 0 | BD5: =AD37 -> 0 | BE5: =AE37 -> 0 | BF5: =AF37 -> 0 | ... BJ5: =AJ37 -> 0 | BK5: =IF(Y37>0,R7,"") | BL5: =IF(Y37>0,"",IF(Z37>0,R7,"")) | BM5: =IF(Y37+Z37>0,"",IF(AA37>0,R7,"")) | BN5: =IF(Y37+Z37+AA37>0,"",IF(AB37>0,R7,"")) | BO5: =AC35 -> 0 | BP5: =AD35 -> 0 | BQ5: =AE35 -> 0 | BR5: =AF35 -> 0 | BS5: =AG35 -> 0 | BT5: =AH35 -> 0 | BU5: =AI35 -> 0 | BV5: =AJ35 -> 0
B6: スパン別変状展開図 | K6: 【健全性判定集計表】
K7: スパン番号 | N7: S006 | P7: スパン長 | R7: 10.5 | U7: 前回定期点検時の判定 | W7: 応急措置前の判定 | Y7: 対策区分毎の 変状の有無 | AC7: 対策区分毎の変状の発生範囲の規模(㎡) | AK7: 備考注2
K8: 変状番号 | L8: 対象箇所 | N8: 部位区分 | P8: 変状区分 | R8: 変状種類
Y9: 外力注1 | AC9: 材質劣化注1 | AG9: 漏水注1
Y10: Ⅳ | Z10: Ⅲ | AA10: Ⅱa | AB10: Ⅱb | AC10: Ⅳ | AD10: Ⅲ | AE10: Ⅱa | AF10: Ⅱb | AG10: Ⅳ | AH10: Ⅲ | AI10: Ⅱa | AJ10: Ⅱb
K11: 1 | L11: 路面 | N11: 側溝 | R11: その他 | U11: Ⅱb | AK11: 土砂堆積 | AQ11: =IF(P11="材質劣化",2,IF(P11="漏水",3,1)) -> 1 | AS11: =IF(Y11<>"",1,"")
AQ12: =IF(P12="材質劣化",2,IF(P12="漏水",3,1)) -> 1
AQ13: =IF(P13="材質劣化",2,IF(P13="漏水",3,1)) -> 1
AQ14: =IF(P14="材質劣化",2,IF(P14="漏水",3,1)) -> 1
AQ15: =IF(P15="材質劣化",2,IF(P15="漏水",3,1)) -> 1
AQ16: =IF(P16="材質劣化",2,IF(P16="漏水",3,1)) -> 1
AQ17: =IF(P17="材質劣化",2,IF(P17="漏水",3,1)) -> 1
AQ18: =IF(P18="材質劣化",2,IF(P18="漏水",3,1)) -> 1
AQ19: =IF(P19="材質劣化",2,IF(P19="漏水",3,1)) -> 1
AQ20: =IF(P20="材質劣化",2,IF(P20="漏水",3,1)) -> 1
AQ21: =IF(P21="材質劣化",2,IF(P21="漏水",3,1)) -> 1
AQ22: =IF(P22="材質劣化",2,IF(P22="漏水",3,1)) -> 1
AQ23: =IF(P23="材質劣化",2,IF(P23="漏水",3,1)) -> 1
... AQ27: =IF(P27="材質劣化",2,IF(P27="漏水",3,1)) -> 1
AQ28: =IF(P30="材質劣化",2,IF(P30="漏水",3,1)) -> 1
AQ29: =IF(P34="材質劣化",2,IF(P34="漏水",3,1)) -> 1
AQ30: =IF(P30="材質劣化",2,IF(P30="漏水",3,1)) -> 1
AQ31: =IF(P33="材質劣化",2,IF(P33="漏水",3,1)) -> 1
AQ32: =IF(P37="材質劣化",2,IF(P37="漏水",3,1)) -> 1
AQ33: =IF(P33="材質劣化",2,IF(P33="漏水",3,1)) -> 1
AQ34: =IF(P36="材質劣化",2,IF(P36="漏水",3,1)) -> 1
K35: 集計 判定 診断 | L35: 変状の発生規模合計(㎡) | Y35: － | AC35: =SUM(AC11:AC34) -> 0 | AD35: =SUM(AD11:AD34) -> 0 | AE35: =SUM(AE11:AE34) -> 0 | AF35: =SUM(AF11:AF34) -> 0 | AG35: =SUM(AG11:AG34) -> 0 | AH35: =SUM(AH11:AH34) -> 0 | AI35: =SUM(AI11:AI34) -> 0 | AJ35: =SUM(AJ11:AJ34) -> 0 | AK35: 覆工スパン単位の 健全性の 診断の区分 | AM35: Ⅱ
L36: 対策区分の 判定結果 | O36: 対策区分毎の変状数注3 | Y36: Ⅳ | Z36: Ⅲ | AA36: Ⅱa | AB36: Ⅱb | AC36: Ⅳ | AD36: Ⅲ | AE36: Ⅱa | AF36: Ⅱb | AG36: Ⅳ | AH36: Ⅲ | AI36: Ⅱa | AJ36: Ⅱb
Y37: =IF(COUNTIF(Y11:Y34,"○")>0,1,0) -> 0 | Z37: =IF(COUNTIF(Z11:Z34,"○")>0,1,0) -> 0 | AA37: =IF(COUNTIF(AA11:AA34,"○")>0,1,0) -> 0 | AB37: =IF(COUNTIF(AB11:AB34,"○")>0,1,0) -> 0 | AC37: =COUNTA(AC11:AC34) -> 0 | AD37: =COUNTA(AD11:AD34) -> 0 | AE37: =COUNTA(AE11:AE34) -> 0 | AF37: =COUNTA(AF11:AF34) -> 0 | AG37: =COUNTA(AG11:AG34) -> 0 | AH37: =COUNTA(AH11:AH34) -> 0 | AI37: =COUNTA(AI11:AI34) -> 0 | AJ37: =COUNTA(AJ11:AJ34) -> 0
K39: 所見
K43: 注1：誤記入防止のため、当該変状区分以外のセルは灰色表示とすること。
K44: 注2：応急措置を実施した場合は、その詳細を備考に記載すること。
K45: 注3：外力は覆工スパン単位、材質劣化、漏水は変状単位とすること。
B46: （以下、印刷不要）
B47: ※1：本シートは作成洩れのないよう、変状が無くても全スパン分を作成すること．また変状展開図は、様式D-2-1、様式D-2-1'と同じものを覆工スパン単位で拡大し掲載すること。
B48: ※2：変状番号は、様式D-1-1で記入した番号と整合させること。
B49: ※3：対策区分毎の変状発生規模は、様式D-1-1に記載した面積を記入すること（ただし外力はスパン単位で評価するため変状の有無の欄には面積でなく○を記入し、備考欄に状況を記入）。
B50: ※4：本様式は覆工スパン毎に作成すること。
B51: ※5：変状数が多い場合は、適時、表の行を増やして覆工スパン毎に1枚のシートに収めること。また、1スパン１シートとし、スパンに合わせてシートを追加すること。
B52: ※6：対策区分毎の変状の発生範囲の規模とは，対策を行う際に参考となる変状の長さや面積であり，変状を包含する長さや面積とする。
B53: ※7：対策範囲を示す発生範囲の規模を面積で記入することが妥当ではない変状は、発生範囲の規模の欄に○を記入するとともに、備考に内容を記入すること。

Sheet 様式D-3_S007
AU1: 様式F用→ | AV1: 覆工スパン | AY1: 変 状 数 | BK1: 変 状 規 模
AV2: 番号 | AW2: 延長 （ｍ） | AX2: 健全性の診断の 区分 | AY2: 対策区分の判定 | BK2: 覆工スパン長（ｍ） | BO2: 変状の発生範囲の規模（㎡）
B3: ■定期点検記録様式 覆工スパン別変状詳細展開図 【様式D-3】 | AY3: 外力 | BC3: 材質劣化 | BG3: 漏水 | BK3: 外力 注2 | BO3: 材質劣化 | BS3: 漏水
