Workbook
Name その他: '(参考)リスト'!$C$47
Name その他施設: '[1](参考)リスト'!#REF!
Name その他施設: '(参考)リスト'!$C$79:$C$83
Name 換気施設: '[1](参考)リスト'!#REF!
Name 換気施設: '(参考)リスト'!$C$56:$C$60
Name 坑門: '(参考)リスト'!$C$31:$C$32
Name 照明施設: '[1](参考)リスト'!#REF!
Name 照明施設: '(参考)リスト'!$C$52:$C$54
Name 対象箇所: [2]!テーブル1[対象箇所]
Name 天井板: '(参考)リスト'!$C$37:$C$39
Name 内装板: '(参考)リスト'!$C$34:$C$35
Name 非常用施設: '[1](参考)リスト'!#REF!
Name 非常用施設: '(参考)リスト'!$C$62:$C$77
Name 覆工: '(参考)リスト'!$C$16:$C$29
Name 路面: '(参考)リスト'!$C$41:$C$45

Sheet 点検様式作成フロー
A1: 点検様式作成フロ-
A3: 作成フロー図 | H3: 点検調書作成手順
H4: ①様式A-1～A-3（トンネル台帳）
H5: トンネル点検の実施にあたっては，現場点検作業に先行してトンネル情報を収集する。トンネル台帳（様式Ａ－1～様式Ａ－3）はトンネル完成後に作成され，維持管理の段階で引き継がれるが，関連資料等を確認したうえで，追加情報があれば必要に応じて追記することが望ましい。
H9: ②様式D-2-1、様式D-2-1´
H10: 現場点検作業を実施し，近接目視点検で確認した変状状況や補修履歴を忠実に変状展開図に転記する。
H12: ③様式D-1-1、様式D-1-2
H13: 変状展開図や撮影した写真等をもとに，対象トンネルの対策区分を決定し，対策区分がⅡ～Ⅳの変状および異常判定区分「×」を抽出し，写真台帳を作成する。
H16: ④様式B
H17: 写真台帳の作成と同時に，トンネルの構造を展開した位置図に変状写真位置を記録する。
H19: ⑤様式D-3
H20: 変状展開図ならびに写真台帳をもとに覆工スパンごとの変状展開図を作成し，変状発生状況をとりまとめる。
H22: ⑥様式E
H23: 近接目視または打音検査，触診ができていない箇所および近接目視によらない方法を講じた場所に対する調査結果を記録する。
... H33: すること。 ※各ファイルとも （参考）リスト のシートを付けて保存すること。

Sheet 変状面積算出方法
A1: 変状面積算出方法
A26: 注1）外力による変状：ひび割れや圧ざの場合は変状の寸法を記録する。
A27: 例）ひび割れ：長さ（L）×最大ひび割れ幅（t）を記録する。 変形，移動，沈下：数値的な記載が可能な場合のみ記載する。
A28: 注2）材料劣化による：打音異常
A29: 例）うき，はく離（閉合ひび割れ）：変状範囲を包括する寸法（L×W） うき，はく離（ひび割れ沿い）：打音異常箇所を包括する寸法（L×W） 鋼材腐食（鉄筋腐食）：一括した対策が適当と考えられる範囲を包括する寸法（L×W）
A30: 注3）漏水による変状：漏水発生範囲を包括し，垂れ下がりの可能性がある側壁下端まで含めた寸法を，L×Wで記録する。打継ぎ目地沿いの 漏水については目地を跨いだ50cm幅を横幅とする。

Sheet 記入の留意点
B2: トンネルDBでは、Excelに記載された文字や数値・配置された画像を自動的に読込みデータベースへ登録します。
B3: 記録様式へ記入の留意点を下記に示します。
B5: １．記録様式への記入
C6: ➤各セルに表示されるコメントに従って、様式A-1～様式Gのシートに、点検結果（テキスト入力、選択項目）を入力してください。
C7: ➤位置図(様式B)、変状写真(様式D-1-1)、異常写真(様式D-1-2)は記入した変状写真番号等に対応した画像を間違いないように貼り付けてください。
C8: ➤列や行の挿入削除は行わず、セルの位置がずれないようにしてください。データベースへ読み取り時にずれて取り込まれてしまいます。
B11: ２．画像ファイルの配置の注意点
C12: 登録に使用可能な画像ファイルの拡張子は「jpg」「jpeg」「png」の3種類のみです。
C13: 必ず、１か所に画像１枚のみを張り付けてください。エクセルの図形などのオブジェクトは使用しないでください。
C14: 張り付けた画像はエクセルのトリミング機能を使用しないでください。あらかじめ切り抜いた画像を利用してください。
C15: ※１ 画像の左上を必ずセルの内部に含め、はみ出ないようにしてください。
C16: ※２ 図の書式設定で「セルに合わせて移動やサイズを変更しない」のモードを使用しないでください。
C32: ※３ 「挿入」→「画像」→「セルの上に配置」してください。
B41: ３．シート名の連番について
C42: １ページに記載しきれない場合は、１シート内にページを増やすのではなくシート自体をコピーしシート名の末尾を連番にしてください。
C43: 対象様式
C44: 様式B
C45: 様式D-1-1
C46: 様式D-1-2
C47: 様式D-2-1
C48: 様式D-2-1´
C49: 様式D-3_S00 ※スパン名を記載
C50: 様式G
C52: 末尾の連番の形式例
C53: 様式B(1) 様式B(2) 様式B(3)
C54: 様式B_001 様式B_002 様式B_003
... C61: で示される要領を制限するものではありません。

Sheet 様式A-1
B2: ■トンネル台帳 トンネル諸元、非常用施設諸元 【様式A-1】 | S2: 施設ID | W2: 34.19214,132.18042
B3: フリガナ | D3: セキセキトンネル | H3: 路線名 | J3: 主要地方道岩国大竹線 | P3: 管理者名 | R3: 山口県岩国土木建築事務所 | W3: 緊急輸送道路 | Z3: 一次
B4: 名 称 | D4: 関々トンネル | W4: 代替路の有無 | Z4: 有
B5: 所在地 | D5: 自 | E5: 山口県岩国市関戸 | H5: 作成者 | K5: 復建調査設計㈱・小笠原洋 | P5: 作成年月日 | R5: 45965 | U5: トンネル延長 | X5: L= | Z5: 889 | AB5: ｍ
D6: 至 | E6: 山口県玖珂郡和木町関ヶ浜 | U6: ﾄﾝﾈﾙの分類 | X6: 陸上トンネル（その他）
B7: 起点 | C7: 緯度 | E7: 34.19214 | H7: 完成年月日 | K7: 2004年 | M7: 舗装 | O7: 種 別 | Q7: 普通コンクリート | S7: トンネル非常用施設 | T7: 施設の内訳 | X7: 種別・方式 | Y7: 型式 | Z7: 個数 | AA7: 更新年度 | AE7: =INT(E7/10000) -> 0 | AF7: =INT(E7/100)-AE7*100 -> 0 | AG7: =E7-AE7*10000-AF7*100 -> 34.19214 | AH7: =ROUND(AE7+AF7/60+AG7/60/60,5) -> 0.0095 | AI7: =TEXT(AH7,"0.00000") -> 0.00950
C8: 経度 | E8: 132.18052 | H8: 供用年月日 | K8: 2005年 | O8: 厚 さ | T8: 通報設備 | U8: 通話型通報設備 | Z8: 10 | AE8: =INT(E8/10000) -> 0 | AF8: =INT(E8/100)-AE8*100 -> 1 | AG8: =E8-AE8*10000-AF8*100 -> 32.18052 | AH8: =ROUND(AE8+AF8/60+AG8/60/60,5) -> 0.02561 | AI8: =TEXT(AH8,"0.00000") -> 0.02561
B9: 終点 | C9: 緯度 | E9: 34.197405 | H9: トンネル区分 | K9: B等級 | O9: 面 積 | U9: 操作型通報設備 | Z9: 18
C10: 経度 | E10: 132.18721 | H10: 内装種類 | K10: 覆工（内装なし） | O10: 更新年次 | U10: 自動通報設備
B11: 一般有料区分 | E11: 一般（無料） | H11: 天井板種類 | K11: 覆工（内装なし） | M11: 排水 | O11: 種 別 | Q11: 円型・暗渠排水 | T11: 警報設備 | U11: 非常警報設備
B12: 土かぶり | E12: 70 | G12: m | H12: 坑門 | I12: 起点 | J12: 形式 | K12: 面壁式 | O12: 更新年次 | T12: 消火設備 | U12: 消 火 器
B13: 内空断面積 | E13: 14935.2 | G13: m2 | J13: 延長 | L13: m | M13: 施設 | P13: 種別・方式 | Q13: 個数 | R13: 更新年次 | U13: 消火栓設備 | Z13: 18
B14: 交 通 量 | E14: 9082 | G14: 台/日 | I14: 終点 | J14: 形式 | K14: 面壁型 | M14: 道路附属物等 | N14: 照明 | P14: LED | Q14: 136 | T14: 避難誘導設備 | U14: 誘導表示設備 | Z14: 9
C15: 道 路 幅 | E15: 8.5 | G15: m | J15: 延長 | L15: m | N15: 換気 | U15: 避難情報提供設備
B16: 幅 員 | C16: 車 道 幅 | E16: 3.5 | G16: m | H16: 竣工巻厚 | I16: アーチ | K16: 30～35 | L16: cm | N16: 標識
E17: 3.5 | G17: m | I17: 側 壁 | K17: 30～35 | L17: cm | N17: 警報表示板 | U17: 避難通路
C18: 歩道等幅 | E18: 1.5 | G18: m | K18: 30～35 | L18: cm | N18: 吸音板 | U18: 排煙設備
B19: 高さ | C19: 建築限界高 | E19: 4.5 | G19: m | I19: インバート | K19: 50 | L19: cm | T19: その他の設備 | U19: 給水栓設備
C20: 中央高 | E20: 6 | G20: m | H20: 半径 | I20: アーチ | K20: 455 | L20: cm | U20: 無線通信補助設備
C21: 有効高 | E21: 4.7 | G21: m | I21: 側 壁 | K21: 910 | L21: cm | U21: 水噴霧設備
C22: 縦断勾配 | I22: インバート | K22: 1050 | L22: cm | U22: 監視設備
B23: 線 形 | C23: 直線区間長 | H23: 占用物件 | I23: 種 類 | K23: 寸 法 | M23: 管理者名 | Q23: 更新年次 | S23: 非常用施設 関連設備 | U23: 予備発電設備
C24: 曲線区間 | D24: 区間長
D25: 起点側ｸﾛｿｲﾄﾞ
D26: 曲線半径
D27: 終点側ｸﾛｿｲﾄﾞ | S27: その他 | U27: 非常駐車帯
B28: トンネル工法 | E28: 山岳トンネル工法（NATM） | U28: 方向転換所
C29: ※緯度・経度については、秒の小数第二位の単位まで記入すること。

Sheet 様式A-2
B3: ■トンネル台帳 トンネル情報一覧表 【様式A-2】
B4: フリガナ | E4: ='様式A-1'!$D$3 -> セキセキトンネル | J4: 路線名 | M4: ='様式A-1'!$J$3 -> 主要地方道岩国大竹線 | S4: 作成者 | Y4: ='様式A-1'!$K$5 -> 復建調査設計㈱・小笠原洋 | AE4: 作成年月日 | AI4: ='様式A-1'!$R$5 -> 45965
B5: 名 称 | E5: ='様式A-1'!$D$4 -> 関々トンネル | J5: 管理者名 | M5: ='様式A-1'!$R$3 -> 山口県岩国土木建築事務所
B6: 覆工 ｽﾊﾟﾝ 番号 | C6: ｽﾊﾟﾝ長 | D6: 追加距離 | F6: トンネル本体工 | K6: 照明施設 | O6: 非常用施設 | AE6: 換気施設 | AK6: その他附属物等
O7: 通報設備 | R7: 警報設備 | S7: 消火設備 | U7: 避難誘導設備 | Y7: その他の設備 | AC7: 特記事項
D8: 起点側 | E8: 終点側 | F8: 特記事項 | I8: 内装板 | J8: 天井板 | K8: 基本照明 | L8: 入口出口照明 | M8: 特記事項 | O8: 通話型通報設備 | P8: 操作型通報設備 | Q8: 自動通報設備 | R8: 非常警報設備 | S8: 消 火 器 | T8: 消火栓設備 | U8: 誘導表示設備 | V8: 避難情報提供設備 | W8: 避難通路 | X8: 排煙設備 | Y8: 給水栓設備 | Z8: 無線通信補助設備 | AA8: 水噴霧設備 | AB8: 監視設備 | AE8: JF | AF8: VI計 | AG8: CO計 | AH8: 風向 風速計 | AI8: 特記事項
C9: (m) | D9: (m) | E9: (m)
B10: PS | E10: =C10+D10 -> 0
B11: S1 | C11: 7.5 | D11: =E10 -> 0 | E11: =C11+D11 -> 7.5
B12: S2 | C12: 10.5 | D12: =E11 -> 7.5 | E12: =C12+D12 -> 18 | O12: ○ | S12: ○
B13: S3 | C13: 10.5 | D13: =E12 -> 18 | E13: =C13+D13 -> 28.5 | AK13: 電話表示板
B14: S4 | C14: 10.5 | D14: =E13 -> 28.5 | E14: =C14+D14 -> 39
B15: S5 | C15: 10.5 | D15: =E14 -> 39 | E15: =C15+D15 -> 49.5 | U15: ○ | AK15: 電話表示板
B16: S6 | C16: 10.5 | D16: =E15 -> 49.5 | E16: =C16+D16 -> 60 | AK16: 電光掲示板
B17: S7 | C17: 10.5 | D17: =E16 -> 60 | E17: =C17+D17 -> 70.5 | O17: ○ | S17: ○ | AK17: 電話表示板
B18: S8 | C18: 10.5 | D18: =E17 -> 70.5 | E18: =C18+D18 -> 81
B19: S9 | C19: 10.5 | D19: =E18 -> 81 | E19: =C19+D19 -> 91.5 | AK19: 電話表示板
B20: S10 | C20: 10.5 | D20: =E19 -> 91.5 | E20: =C20+D20 -> 102
B21: S11 | C21: 10.5 | D21: =E20 -> 102 | E21: =C21+D21 -> 112.5 | S21: ○ | AK21: 電話表示板
B22: S12 | C22: 10.5 | D22: =E21 -> 112.5 | E22: =C22+D22 -> 123 | AK22: 電話表示板
B23: S13 | C23: 10.5 | D23: =E22 -> 123 | E23: =C23+D23 -> 133.5
B24: S14 | C24: 10.5 | D24: =E23 -> 133.5 | E24: =C24+D24 -> 144 | AK24: 電話表示板
B25: S15 | C25: 10.5 | D25: =E24 -> 144 | E25: =C25+D25 -> 154.5 | U25: ○
B26: S16 | C26: 10.5 | D26: =E25 -> 154.5 | E26: =C26+D26 -> 165 | S26: ○ | AK26: 電話表示板
B27: S17 | C27: 10.5 | D27: =E26 -> 165 | E27: =C27+D27 -> 175.5
B28: S18 | C28: 10.5 | D28: =E27 -> 175.5 | E28: =C28+D28 -> 186 | AK28: 電話表示板
B29: S19 | C29: 10.5 | D29: =E28 -> 186 | E29: =C29+D29 -> 196.5 | AK29: 電話表示板
B30: S20 | C30: 10.5 | D30: =E29 -> 196.5 | E30: =C30+D30 -> 207
B31: S21 | C31: 10.5 | D31: =E30 -> 207 | E31: =C31+D31 -> 217.5 | O31: ○ | S31: ○ | AK31: 電話表示板
B32: S22 | C32: 10.5 | D32: =E31 -> 217.5 | E32: =C32+D32 -> 228
B33: S23 | C33: 10.5 | D33: =E32 -> 228 | E33: =C33+D33 -> 238.5 | AK33: 電話表示板
B34: S24 | C34: 10.5 | D34: =E33 -> 238.5 | E34: =C34+D34 -> 249 | U34: ○
B35: S25 | C35: 10.5 | D35: =E34 -> 249 | E35: =C35+D35 -> 259.5
B36: S26 | C36: 10.5 | D36: =E35 -> 259.5 | E36: =C36+D36 -> 270 | O36: ○ | S36: ○ | AK36: 電話表示板
B37: S27 | C37: 10.5 | D37: =E36 -> 270 | E37: =C37+D37 -> 280.5
B38: S28 | C38: 10.5 | D38: =E37 -> 280.5 | E38: =C38+D38 -> 291 | AK38: 電話表示板
B39: S29 | C39: 10.5 | D39: =E38 -> 291 | E39: =C39+D39 -> 301.5
B40: S30 | C40: 10.5 | D40: =E39 -> 301.5 | E40: =C40+D40 -> 312 | S40: ○ | AK40: 電話表示板
B41: S31 | C41: 10.5 | D41: =E40 -> 312 | E41: =C41+D41 -> 322.5 | AK41: 電話表示板
B42: S32 | C42: 10.5 | D42: =E41 -> 322.5 | E42: =C42+D42 -> 333 | AK42: 電話表示板
...

Sheet 様式A-3
B3: ■トンネル台帳 トンネル記録（位置図、断面図、施工実績他）【様式A-3】
B4: フリガナ | E4: ='様式A-1'!$D$3 -> セキセキトンネル | J4: 路線名 | M4: ='様式A-1'!$J$3 -> 主要地方道岩国大竹線 | S4: 作成者 | W4: ='様式A-1'!$K$5 -> 復建調査設計㈱・小笠原洋 | AC4: 作成年月日 | AF4: ='様式A-1'!$R$5 -> 45965
B5: 名 称 | E5: ='様式A-1'!$D$4 -> 関々トンネル | J5: 管理者名 | M5: ='様式A-1'!$R$3 -> 山口県岩国土木建築事務所
B6: 位置図・現況写真・標準断面図・地質縦断図・施工実績

Sheet 様式B (1)
B2: ■定期点検記録様式 トンネル変状・異常箇所写真位置図 【様式B】 | N2: 定期点検年月日 | P2: 45853 | S2: 施設ID | V2: =+'様式A-1'!$W$2 -> 34.19214,132.18042
B3: フリガナ | C3: =+'様式A-1'!$D$3 -> セキセキトンネル | G3: 路線名 | H3: =+'様式A-1'!$J$3 -> 主要地方道岩国大竹線 | K3: 管理者名 | L3: =+'様式A-1'!$R$3 -> 山口県岩国土木建築事務所 | Q3: 定期点検実施者 | S3: 復建調査設計株式会社 | V3: 起点 | W3: 緯度 | X3: =+'様式A-1'!$E$7 -> 34.19214
B4: 名 称 | C4: =+'様式A-1'!$D$4 -> 関々トンネル | S4: 小笠原洋 | W4: 経度 | X4: =+'様式A-1'!$E$8 -> 132.18052
B5: 所在地 | C5: 自 | D5: =+'様式A-1'!$E$5 -> 山口県岩国市関戸 | G5: トンネル工法 | I5: 山岳トンネル工法（NATM） | L5: トンネル延長 | N5: L= | O5: =+'様式A-1'!$Z$5 -> 889 | P5: ｍ | Q5: 自専道 or 一般道 | R5: 一般道 | S5: 代替路の有無 | U5: 無 | V5: 終点 | W5: 緯度 | X5: =+'様式A-1'!$E$9 -> 34.197405
C6: 至 | D6: =+'様式A-1'!$E$6 -> 山口県玖珂郡和木町関ヶ浜 | G6: 建設年度 | I6: 2004年 | L6: 幅員 | N6: L= | O6: =+'様式A-1'!$E$15 -> 8.5 | P6: ｍ | S6: 緊急輸送道路 | U6: 指定なし | W6: 経度 | X6: =+'様式A-1'!$E$10 -> 132.18721
B7: トンネル毎 の健全性の 診断の区分 | D7: Ⅱ
G8: 変状・異常 箇所数合計 | I8: トンネル本体工 | J8: 材質劣化 | K8: Ⅱ | L8: 24 | N8: Ⅲ | O8: 0 | Q8: Ⅳ | R8: 0 | T8: 附属物等 の取付状態 | V8: ◯ （応急措置後)
J9: 漏水 | K9: Ⅱ | L9: 44 | N9: Ⅲ | O9: 0 | Q9: Ⅳ | R9: 0
V10: ✕ | X10: 1
J11: 外力 | K11: Ⅱ | L11: 13 | N11: Ⅲ | O11: 0 | Q11: Ⅳ | R11: 0
B12: トンネル変状・異常箇所写真位置図
J29: 注１：本位置図は、見下げた状態で記載すること。 注２：覆工スパン番号は横断目地毎(矢板工法の場合は上半アーチの 横断目地毎)に設定すること。 | Q29: 注３：写真番号に付する変状番号は、各覆工スパンの変状に対して新たに確認された場合 は順次追加していくこと。 注４：横断目地の変状は前の覆工スパン番号で計上すること。 注５：１枚に収まらない場合は、複数枚に分けて作成すること。
C30: ※1 トンネル本体工の変状数は、材質劣化、漏水に起因するものは変状単位で、外力に起因するものはスパン単位で計上すること。
C31: ※2 トンネル本体工の変状に対しては、措置の必要性（Ⅱ～Ⅳ）について表記すること。また、点検前に実施された措置によりⅠと判定された箇所についても記載すること。
C32: ※3 附属物等の取付状態の○欄については、応急措置前に判定区分×とした箇所のうち応急措置により○判定とした箇所の数を記入すること。
C33: ※4 附属物等の異常番号は、本体工と番号が重複しないよう101番以降とする等の配慮を行い、分かりやすく記録すること。

Sheet 様式B (2)
B2: ■定期点検記録様式 トンネル変状・異常箇所写真位置図 【様式B】 | N2: 定期点検年月日 | P2: =+'様式B (1)'!$P$2 -> 45853 | S2: 施設ID | V2: =+'様式A-1'!$W$2 -> 34.19214,132.18042
B3: フリガナ | C3: =+'様式A-1'!$D$3 -> セキセキトンネル | G3: 路線名 | H3: =+'様式A-1'!$J$3 -> 主要地方道岩国大竹線 | K3: 管理者名 | L3: =+'様式A-1'!$R$3 -> 山口県岩国土木建築事務所 | Q3: 定期点検実施者 | S3: ='様式B (1)'!$S$3 -> 復建調査設計株式会社 | V3: 起点 | W3: 緯度 | X3: =+'様式A-1'!$E$7 -> 34.19214
B4: 名 称 | C4: =+'様式A-1'!$D$4 -> 関々トンネル | S4: ='様式B (1)'!$S$4 -> 小笠原洋 | W4: 経度 | X4: =+'様式A-1'!$E$8 -> 132.18052
B5: 所在地 | C5: 自 | D5: =+'様式A-1'!$E$5 -> 山口県岩国市関戸 | G5: トンネル工法 | I5: ='様式B (1)'!$I$5 -> 山岳トンネル工法（NATM） | L5: トンネル延長 | N5: L= | O5: =+'様式A-1'!$Z$5 -> 889 | P5: ｍ | Q5: 自専道 or 一般道 | R5: ='様式B (1)'!$R$5 -> 一般道 | S5: 代替路の有無 | U5: ='様式B (1)'!$U$5 -> 無 | V5: 終点 | W5: 緯度 | X5: =+'様式A-1'!$E$9 -> 34.197405
C6: 至 | D6: =+'様式A-1'!$E$6 -> 山口県玖珂郡和木町関ヶ浜 | G6: 建設年度 | I6: ='様式B (1)'!$I$6 -> 2004年 | L6: 幅員 | N6: L= | O6: =+'様式A-1'!$E$15 -> 8.5 | P6: ｍ | S6: 緊急輸送道路 | U6: ='様式B (1)'!$U$6 -> 指定なし | W6: 経度 | X6: =+'様式A-1'!$E$10 -> 132.18721
B7: トンネル毎 の健全性の 診断の区分 | D7: ='様式B (1)'!$D$7 -> Ⅱ
G8: 変状・異常 箇所数合計 | I8: トンネル本体工 | J8: 材質劣化 | K8: Ⅱ | L8: ='様式B (1)'!$L$8 -> 24 | N8: Ⅲ | O8: ='様式B (1)'!$O$8 -> 0 | Q8: Ⅳ | R8: ='様式B (1)'!$R$8 -> 0 | T8: 附属物等 の取付状態 | V8: ◯ （応急措置後) | X8: ='様式B (1)'!$X$8 -> 0
J9: 漏水 | K9: Ⅱ | L9: ='様式B (1)'!$L$9 -> 44 | N9: Ⅲ | O9: ='様式B (1)'!$O$9 -> 0 | Q9: Ⅳ | R9: ='様式B (1)'!$R$9 -> 0
V10: ✕ | X10: ='様式B (1)'!$X$10 -> 1
J11: 外力 | K11: Ⅱ | L11: ='様式B (1)'!$L$11 -> 13 | N11: Ⅲ | O11: ='様式B (1)'!$O$11 -> 0 | Q11: Ⅳ | R11: ='様式B (1)'!$R$11 -> 0
B12: トンネル変状・異常箇所写真位置図
J29: 注１：本位置図は、見下げた状態で記載すること。 注２：覆工スパン番号は横断目地毎(矢板工法の場合は上半アーチの 横断目地毎)に設定すること。 | Q29: 注３：写真番号に付する変状番号は、各覆工スパンの変状に対して新たに確認された場合 は順次追加していくこと。 注４：横断目地の変状は前の覆工スパン番号で計上すること。 注５：１枚に収まらない場合は、複数枚に分けて作成すること。
C30: ※1 トンネル本体工の変状数は、材質劣化、漏水に起因するものは変状単位で、外力に起因するものはスパン単位で計上すること。
C31: ※2 トンネル本体工の変状に対しては、措置の必要性（Ⅱ～Ⅳ）について表記すること。また、点検前に実施された措置によりⅠと判定された箇所についても記載すること。
C32: ※3 附属物等の取付状態の○欄については、応急措置前に判定区分×とした箇所のうち応急措置により○判定とした箇所の数を記入すること。
C33: ※4 附属物等の異常番号は、本体工と番号が重複しないよう101番以降とする等の配慮を行い、分かりやすく記録すること。

Sheet 様式B (3)
B2: ■定期点検記録様式 トンネル変状・異常箇所写真位置図 【様式B】 | N2: 定期点検年月日 | P2: =+'様式B (1)'!$P$2 -> 45853 | S2: 施設ID | V2: =+'様式A-1'!$W$2 -> 34.19214,132.18042
B3: フリガナ | C3: =+'様式A-1'!$D$3 -> セキセキトンネル | G3: 路線名 | H3: =+'様式A-1'!$J$3 -> 主要地方道岩国大竹線 | K3: 管理者名 | L3: =+'様式A-1'!$R$3 -> 山口県岩国土木建築事務所 | Q3: 定期点検実施者 | S3: ='様式B (1)'!$S$3 -> 復建調査設計株式会社 | V3: 起点 | W3: 緯度 | X3: =+'様式A-1'!$E$7 -> 34.19214
B4: 名 称 | C4: =+'様式A-1'!$D$4 -> 関々トンネル | S4: ='様式B (1)'!$S$4 -> 小笠原洋 | W4: 経度 | X4: =+'様式A-1'!$E$8 -> 132.18052
B5: 所在地 | C5: 自 | D5: =+'様式A-1'!$E$5 -> 山口県岩国市関戸 | G5: トンネル工法 | I5: ='様式B (1)'!$I$5 -> 山岳トンネル工法（NATM） | L5: トンネル延長 | N5: L= | O5: =+'様式A-1'!$Z$5 -> 889 | P5: ｍ | Q5: 自専道 or 一般道 | R5: ='様式B (1)'!$R$5 -> 一般道 | S5: 代替路の有無 | U5: ='様式B (1)'!$U$5 -> 無 | V5: 終点 | W5: 緯度 | X5: =+'様式A-1'!$E$9 -> 34.197405
C6: 至 | D6: =+'様式A-1'!$E$6 -> 山口県玖珂郡和木町関ヶ浜 | G6: 建設年度 | I6: ='様式B (1)'!$I$6 -> 2004年 | L6: 幅員 | N6: L= | O6: =+'様式A-1'!$E$15 -> 8.5 | P6: ｍ | S6: 緊急輸送道路 | U6: ='様式B (1)'!$U$6 -> 指定なし | W6: 経度 | X6: =+'様式A-1'!$E$10 -> 132.18721
B7: トンネル毎 の健全性の 診断の区分 | D7: ='様式B (1)'!$D$7 -> Ⅱ
G8: 変状・異常 箇所数合計 | I8: トンネル本体工 | J8: 材質劣化 | K8: Ⅱ | L8: ='様式B (1)'!$L$8 -> 24 | N8: Ⅲ | O8: ='様式B (1)'!$O$8 -> 0 | Q8: Ⅳ | R8: ='様式B (1)'!$R$8 -> 0 | T8: 附属物等 の取付状態 | V8: ◯ （応急措置後) | X8: ='様式B (1)'!$X$8 -> 0
J9: 漏水 | K9: Ⅱ | L9: ='様式B (1)'!$L$9 -> 44 | N9: Ⅲ | O9: ='様式B (1)'!$O$9 -> 0 | Q9: Ⅳ | R9: ='様式B (1)'!$R$9 -> 0
V10: ✕ | X10: ='様式B (1)'!$X$10 -> 1
J11: 外力 | K11: Ⅱ | L11: ='様式B (1)'!$L$11 -> 13 | N11: Ⅲ | O11: ='様式B (1)'!$O$11 -> 0 | Q11: Ⅳ | R11: ='様式B (1)'!$R$11 -> 0
B12: トンネル変状・異常箇所写真位置図
J29: 注１：本位置図は、見下げた状態で記載すること。 注２：覆工スパン番号は横断目地毎(矢板工法の場合は上半アーチの 横断目地毎)に設定すること。 | Q29: 注３：写真番号に付する変状番号は、各覆工スパンの変状に対して新たに確認された場合 は順次追加していくこと。 注４：横断目地の変状は前の覆工スパン番号で計上すること。 注５：１枚に収まらない場合は、複数枚に分けて作成すること。
C30: ※1 トンネル本体工の変状数は、材質劣化、漏水に起因するものは変状単位で、外力に起因するものはスパン単位で計上すること。
C31: ※2 トンネル本体工の変状に対しては、措置の必要性（Ⅱ～Ⅳ）について表記すること。また、点検前に実施された措置によりⅠと判定された箇所についても記載すること。
C32: ※3 附属物等の取付状態の○欄については、応急措置前に判定区分×とした箇所のうち応急措置により○判定とした箇所の数を記入すること。
C33: ※4 附属物等の異常番号は、本体工と番号が重複しないよう101番以降とする等の配慮を行い、分かりやすく記録すること。

Sheet 様式B (4)
B2: ■定期点検記録様式 トンネル変状・異常箇所写真位置図 【様式B】 | N2: 定期点検年月日 | P2: =+'様式B (1)'!$P$2 -> 45853 | S2: 施設ID | V2: =+'様式A-1'!$W$2 -> 34.19214,132.18042
B3: フリガナ | C3: =+'様式A-1'!$D$3 -> セキセキトンネル | G3: 路線名 | H3: =+'様式A-1'!$J$3 -> 主要地方道岩国大竹線 | K3: 管理者名 | L3: =+'様式A-1'!$R$3 -> 山口県岩国土木建築事務所 | Q3: 定期点検実施者 | S3: ='様式B (1)'!$S$3 -> 復建調査設計株式会社 | V3: 起点 | W3: 緯度 | X3: =+'様式A-1'!$E$7 -> 34.19214
B4: 名 称 | C4: =+'様式A-1'!$D$4 -> 関々トンネル | S4: ='様式B (1)'!$S$4 -> 小笠原洋 | W4: 経度 | X4: =+'様式A-1'!$E$8 -> 132.18052
B5: 所在地 | C5: 自 | D5: =+'様式A-1'!$E$5 -> 山口県岩国市関戸 | G5: トンネル工法 | I5: ='様式B (1)'!$I$5 -> 山岳トンネル工法（NATM） | L5: トンネル延長 | N5: L= | O5: =+'様式A-1'!$Z$5 -> 889 | P5: ｍ | Q5: 自専道 or 一般道 | R5: ='様式B (1)'!$R$5 -> 一般道 | S5: 代替路の有無 | U5: ='様式B (1)'!$U$5 -> 無 | V5: 終点 | W5: 緯度 | X5: =+'様式A-1'!$E$9 -> 34.197405
C6: 至 | D6: =+'様式A-1'!$E$6 -> 山口県玖珂郡和木町関ヶ浜 | G6: 建設年度 | I6: ='様式B (1)'!$I$6 -> 2004年 | L6: 幅員 | N6: L= | O6: =+'様式A-1'!$E$15 -> 8.5 | P6: ｍ | S6: 緊急輸送道路 | U6: ='様式B (1)'!$U$6 -> 指定なし | W6: 経度 | X6: =+'様式A-1'!$E$10 -> 132.18721
B7: トンネル毎 の健全性の 診断の区分 | D7: ='様式B (1)'!$D$7 -> Ⅱ
G8: 変状・異常 箇所数合計 | I8: トンネル本体工 | J8: 材質劣化 | K8: Ⅱ | L8: ='様式B (1)'!$L$8 -> 24 | N8: Ⅲ | O8: ='様式B (1)'!$O$8 -> 0 | Q8: Ⅳ | R8: ='様式B (1)'!$R$8 -> 0 | T8: 附属物等 の取付状態 | V8: ◯ （応急措置後) | X8: ='様式B (1)'!$X$8 -> 0
J9: 漏水 | K9: Ⅱ | L9: ='様式B (1)'!$L$9 -> 44 | N9: Ⅲ | O9: ='様式B (1)'!$O$9 -> 0 | Q9: Ⅳ | R9: ='様式B (1)'!$R$9 -> 0
V10: ✕ | X10: ='様式B (1)'!$X$10 -> 1
J11: 外力 | K11: Ⅱ | L11: ='様式B (1)'!$L$11 -> 13 | N11: Ⅲ | O11: ='様式B (1)'!$O$11 -> 0 | Q11: Ⅳ | R11: ='様式B (1)'!$R$11 -> 0
B12: トンネル変状・異常箇所写真位置図
J29: 注１：本位置図は、見下げた状態で記載すること。 注２：覆工スパン番号は横断目地毎(矢板工法の場合は上半アーチの 横断目地毎)に設定すること。 | Q29: 注３：写真番号に付する変状番号は、各覆工スパンの変状に対して新たに確認された場合 は順次追加していくこと。 注４：横断目地の変状は前の覆工スパン番号で計上すること。 注５：１枚に収まらない場合は、複数枚に分けて作成すること。
C30: ※1 トンネル本体工の変状数は、材質劣化、漏水に起因するものは変状単位で、外力に起因するものはスパン単位で計上すること。
C31: ※2 トンネル本体工の変状に対しては、措置の必要性（Ⅱ～Ⅳ）について表記すること。また、点検前に実施された措置によりⅠと判定された箇所についても記載すること。
C32: ※3 附属物等の取付状態の○欄については、応急措置前に判定区分×とした箇所のうち応急措置により○判定とした箇所の数を記入すること。
C33: ※4 附属物等の異常番号は、本体工と番号が重複しないよう101番以降とする等の配慮を行い、分かりやすく記録すること。

Sheet 様式B (5)
B2: ■定期点検記録様式 トンネル変状・異常箇所写真位置図 【様式B】 | N2: 定期点検年月日 | P2: =+'様式B (1)'!$P$2 -> 45853 | S2: 施設ID | V2: =+'様式A-1'!$W$2 -> 34.19214,132.18042
B3: フリガナ | C3: =+'様式A-1'!$D$3 -> セキセキトンネル | G3: 路線名 | H3: =+'様式A-1'!$J$3 -> 主要地方道岩国大竹線 | K3: 管理者名 | L3: =+'様式A-1'!$R$3 -> 山口県岩国土木建築事務所 | Q3: 定期点検実施者 | S3: ='様式B (1)'!$S$3 -> 復建調査設計株式会社 | V3: 起点 | W3: 緯度 | X3: =+'様式A-1'!$E$7 -> 34.19214
B4: 名 称 | C4: =+'様式A-1'!$D$4 -> 関々トンネル | S4: ='様式B (1)'!$S$4 -> 小笠原洋 | W4: 経度 | X4: =+'様式A-1'!$E$8 -> 132.18052
B5: 所在地 | C5: 自 | D5: =+'様式A-1'!$E$5 -> 山口県岩国市関戸 | G5: トンネル工法 | I5: ='様式B (1)'!$I$5 -> 山岳トンネル工法（NATM） | L5: トンネル延長 | N5: L= | O5: =+'様式A-1'!$Z$5 -> 889 | P5: ｍ | Q5: 自専道 or 一般道 | R5: ='様式B (1)'!$R$5 -> 一般道 | S5: 代替路の有無 | U5: ='様式B (1)'!$U$5 -> 無 | V5: 終点 | W5: 緯度 | X5: =+'様式A-1'!$E$9 -> 34.197405
C6: 至 | D6: =+'様式A-1'!$E$6 -> 山口県玖珂郡和木町関ヶ浜 | G6: 建設年度 | I6: ='様式B (1)'!$I$6 -> 2004年 | L6: 幅員 | N6: L= | O6: =+'様式A-1'!$E$15 -> 8.5 | P6: ｍ | S6: 緊急輸送道路 | U6: ='様式B (1)'!$U$6 -> 指定なし | W6: 経度 | X6: =+'様式A-1'!$E$10 -> 132.18721
B7: トンネル毎 の健全性の 診断の区分 | D7: ='様式B (1)'!$D$7 -> Ⅱ
G8: 変状・異常 箇所数合計 | I8: トンネル本体工 | J8: 材質劣化 | K8: Ⅱ | L8: ='様式B (1)'!$L$8 -> 24 | N8: Ⅲ | O8: ='様式B (1)'!$O$8 -> 0 | Q8: Ⅳ | R8: ='様式B (1)'!$R$8 -> 0 | T8: 附属物等 の取付状態 | V8: ◯ （応急措置後) | X8: ='様式B (1)'!$X$8 -> 0
J9: 漏水 | K9: Ⅱ | L9: ='様式B (1)'!$L$9 -> 44 | N9: Ⅲ | O9: ='様式B (1)'!$O$9 -> 0 | Q9: Ⅳ | R9: ='様式B (1)'!$R$9 -> 0
V10: ✕ | X10: ='様式B (1)'!$X$10 -> 1
J11: 外力 | K11: Ⅱ | L11: ='様式B (1)'!$L$11 -> 13 | N11: Ⅲ | O11: ='様式B (1)'!$O$11 -> 0 | Q11: Ⅳ | R11: ='様式B (1)'!$R$11 -> 0
B12: トンネル変状・異常箇所写真位置図
J29: 注１：本位置図は、見下げた状態で記載すること。 注２：覆工スパン番号は横断目地毎(矢板工法の場合は上半アーチの 横断目地毎)に設定すること。 | Q29: 注３：写真番号に付する変状番号は、各覆工スパンの変状に対して新たに確認された場合 は順次追加していくこと。 注４：横断目地の変状は前の覆工スパン番号で計上すること。 注５：１枚に収まらない場合は、複数枚に分けて作成すること。
C30: ※1 トンネル本体工の変状数は、材質劣化、漏水に起因するものは変状単位で、外力に起因するものはスパン単位で計上すること。
C31: ※2 トンネル本体工の変状に対しては、措置の必要性（Ⅱ～Ⅳ）について表記すること。また、点検前に実施された措置によりⅠと判定された箇所についても記載すること。
C32: ※3 附属物等の取付状態の○欄については、応急措置前に判定区分×とした箇所のうち応急措置により○判定とした箇所の数を記入すること。
C33: ※4 附属物等の異常番号は、本体工と番号が重複しないよう101番以降とする等の配慮を行い、分かりやすく記録すること。

Sheet 様式B (6)
B2: ■定期点検記録様式 トンネル変状・異常箇所写真位置図 【様式B】 | N2: 定期点検年月日 | P2: =+'様式B (1)'!$P$2 -> 45853 | S2: 施設ID | V2: =+'様式A-1'!$W$2 -> 34.19214,132.18042
B3: フリガナ | C3: =+'様式A-1'!$D$3 -> セキセキトンネル | G3: 路線名 | H3: =+'様式A-1'!$J$3 -> 主要地方道岩国大竹線 | K3: 管理者名 | L3: =+'様式A-1'!$R$3 -> 山口県岩国土木建築事務所 | Q3: 定期点検実施者 | S3: ='様式B (1)'!$S$3 -> 復建調査設計株式会社 | V3: 起点 | W3: 緯度 | X3: =+'様式A-1'!$E$7 -> 34.19214
B4: 名 称 | C4: =+'様式A-1'!$D$4 -> 関々トンネル | S4: ='様式B (1)'!$S$4 -> 小笠原洋 | W4: 経度 | X4: =+'様式A-1'!$E$8 -> 132.18052
B5: 所在地 | C5: 自 | D5: =+'様式A-1'!$E$5 -> 山口県岩国市関戸 | G5: トンネル工法 | I5: ='様式B (1)'!$I$5 -> 山岳トンネル工法（NATM） | L5: トンネル延長 | N5: L= | O5: =+'様式A-1'!$Z$5 -> 889 | P5: ｍ | Q5: 自専道 or 一般道 | R5: ='様式B (1)'!$R$5 -> 一般道 | S5: 代替路の有無 | U5: ='様式B (1)'!$U$5 -> 無 | V5: 終点 | W5: 緯度 | X5: =+'様式A-1'!$E$9 -> 34.197405
C6: 至 | D6: =+'様式A-1'!$E$6 -> 山口県玖珂郡和木町関ヶ浜 | G6: 建設年度 | I6: ='様式B (1)'!$I$6 -> 2004年 | L6: 幅員 | N6: L= | O6: =+'様式A-1'!$E$15 -> 8.5 | P6: ｍ | S6: 緊急輸送道路 | U6: ='様式B (1)'!$U$6 -> 指定なし | W6: 経度 | X6: =+'様式A-1'!$E$10 -> 132.18721
B7: トンネル毎 の健全性の 診断の区分 | D7: ='様式B (1)'!$D$7 -> Ⅱ
G8: 変状・異常 箇所数合計 | I8: トンネル本体工 | J8: 材質劣化 | K8: Ⅱ | L8: ='様式B (1)'!$L$8 -> 24 | N8: Ⅲ | O8: ='様式B (1)'!$O$8 -> 0 | Q8: Ⅳ | R8: ='様式B (1)'!$R$8 -> 0 | T8: 附属物等 の取付状態 | V8: ◯ （応急措置後) | X8: ='様式B (1)'!$X$8 -> 0
J9: 漏水 | K9: Ⅱ | L9: ='様式B (1)'!$L$9 -> 44 | N9: Ⅲ | O9: ='様式B (1)'!$O$9 -> 0 | Q9: Ⅳ | R9: ='様式B (1)'!$R$9 -> 0
V10: ✕ | X10: ='様式B (1)'!$X$10 -> 1
J11: 外力 | K11: Ⅱ | L11: ='様式B (1)'!$L$11 -> 13 | N11: Ⅲ | O11: ='様式B (1)'!$O$11 -> 0 | Q11: Ⅳ | R11: ='様式B (1)'!$R$11 -> 0
B12: トンネル変状・異常箇所写真位置図
J29: 注１：本位置図は、見下げた状態で記載すること。 注２：覆工スパン番号は横断目地毎(矢板工法の場合は上半アーチの 横断目地毎)に設定すること。 | Q29: 注３：写真番号に付する変状番号は、各覆工スパンの変状に対して新たに確認された場合 は順次追加していくこと。 注４：横断目地の変状は前の覆工スパン番号で計上すること。 注５：１枚に収まらない場合は、複数枚に分けて作成すること。
C30: ※1 トンネル本体工の変状数は、材質劣化、漏水に起因するものは変状単位で、外力に起因するものはスパン単位で計上すること。
C31: ※2 トンネル本体工の変状に対しては、措置の必要性（Ⅱ～Ⅳ）について表記すること。また、点検前に実施された措置によりⅠと判定された箇所についても記載すること。
C32: ※3 附属物等の取付状態の○欄については、応急措置前に判定区分×とした箇所のうち応急措置により○判定とした箇所の数を記入すること。
C33: ※4 附属物等の異常番号は、本体工と番号が重複しないよう101番以降とする等の配慮を行い、分かりやすく記録すること。

Sheet 様式B (7)
B2: ■定期点検記録様式 トンネル変状・異常箇所写真位置図 【様式B】 | N2: 定期点検年月日 | P2: 45853 | S2: 施設ID | V2: =+'様式A-1'!$W$2 -> 34.19214,132.18042
B3: フリガナ | C3: =+'様式A-1'!$D$3 -> セキセキトンネル | G3: 路線名 | H3: =+'様式A-1'!$J$3 -> 主要地方道岩国大竹線 | K3: 管理者名 | L3: =+'様式A-1'!$R$3 -> 山口県岩国土木建築事務所 | Q3: 定期点検実施者 | S3: ='様式B (1)'!$S$3 -> 復建調査設計株式会社 | V3: 起点 | W3: 緯度 | X3: =+'様式A-1'!$E$7 -> 34.19214
B4: 名 称 | C4: =+'様式A-1'!$D$4 -> 関々トンネル | S4: ='様式B (1)'!$S$4 -> 小笠原洋 | W4: 経度 | X4: =+'様式A-1'!$E$8 -> 132.18052
B5: 所在地 | C5: 自 | D5: =+'様式A-1'!$E$5 -> 山口県岩国市関戸 | G5: トンネル工法 | I5: ='様式B (1)'!$I$5 -> 山岳トンネル工法（NATM） | L5: トンネル延長 | N5: L= | O5: =+'様式A-1'!$Z$5 -> 889 | P5: ｍ | Q5: 自専道 or 一般道 | R5: ='様式B (1)'!$R$5 -> 一般道 | S5: 代替路の有無 | U5: ='様式B (1)'!$U$5 -> 無 | V5: 終点 | W5: 緯度 | X5: =+'様式A-1'!$E$9 -> 34.197405
C6: 至 | D6: =+'様式A-1'!$E$6 -> 山口県玖珂郡和木町関ヶ浜 | G6: 建設年度 | I6: ='様式B (1)'!$I$6 -> 2004年 | L6: 幅員 | N6: L= | O6: =+'様式A-1'!$E$15 -> 8.5 | P6: ｍ | S6: 緊急輸送道路 | U6: ='様式B (1)'!$U$6 -> 指定なし | W6: 経度 | X6: =+'様式A-1'!$E$10 -> 132.18721
B7: トンネル毎 の健全性の 診断の区分 | D7: ='様式B (1)'!$D$7 -> Ⅱ
G8: 変状・異常 箇所数合計 | I8: トンネル本体工 | J8: 材質劣化 | K8: Ⅱ | L8: ='様式B (1)'!$L$8 -> 24 | N8: Ⅲ | O8: ='様式B (1)'!$O$8 -> 0 | Q8: Ⅳ | R8: ='様式B (1)'!$R$8 -> 0 | T8: 附属物等 の取付状態 | V8: ◯ （応急措置後) | X8: ='様式B (1)'!$X$8 -> 0
J9: 漏水 | K9: Ⅱ | L9: ='様式B (1)'!$L$9 -> 44 | N9: Ⅲ | O9: ='様式B (1)'!$O$9 -> 0 | Q9: Ⅳ | R9: ='様式B (1)'!$R$9 -> 0
V10: ✕ | X10: ='様式B (1)'!$X$10 -> 1
J11: 外力 | K11: Ⅱ | L11: ='様式B (1)'!$L$11 -> 13 | N11: Ⅲ | O11: ='様式B (1)'!$O$11 -> 0 | Q11: Ⅳ | R11: ='様式B (1)'!$R$11 -> 0
B12: トンネル変状・異常箇所写真位置図
J29: 注１：本位置図は、見下げた状態で記載すること。 注２：覆工スパン番号は横断目地毎(矢板工法の場合は上半アーチの 横断目地毎)に設定すること。 | Q29: 注３：写真番号に付する変状番号は、各覆工スパンの変状に対して新たに確認された場合 は順次追加していくこと。 注４：横断目地の変状は前の覆工スパン番号で計上すること。 注５：１枚に収まらない場合は、複数枚に分けて作成すること。
C30: ※1 トンネル本体工の変状数は、材質劣化、漏水に起因するものは変状単位で、外力に起因するものはスパン単位で計上すること。
C31: ※2 トンネル本体工の変状に対しては、措置の必要性（Ⅱ～Ⅳ）について表記すること。また、点検前に実施された措置によりⅠと判定された箇所についても記載すること。
C32: ※3 附属物等の取付状態の○欄については、応急措置前に判定区分×とした箇所のうち応急措置により○判定とした箇所の数を記入すること。
C33: ※4 附属物等の異常番号は、本体工と番号が重複しないよう101番以降とする等の配慮を行い、分かりやすく記録すること。

Sheet 様式B (8)
B2: ■定期点検記録様式 トンネル変状・異常箇所写真位置図 【様式B】 | N2: 定期点検年月日 | P2: 45853 | S2: 施設ID | V2: =+'様式A-1'!$W$2 -> 34.19214,132.18042
B3: フリガナ | C3: =+'様式A-1'!$D$3 -> セキセキトンネル | G3: 路線名 | H3: =+'様式A-1'!$J$3 -> 主要地方道岩国大竹線 | K3: 管理者名 | L3: =+'様式A-1'!$R$3 -> 山口県岩国土木建築事務所 | Q3: 定期点検実施者 | S3: ='様式B (1)'!$S$3 -> 復建調査設計株式会社 | V3: 起点 | W3: 緯度 | X3: =+'様式A-1'!$E$7 -> 34.19214
B4: 名 称 | C4: =+'様式A-1'!$D$4 -> 関々トンネル | S4: ='様式B (1)'!$S$4 -> 小笠原洋 | W4: 経度 | X4: =+'様式A-1'!$E$8 -> 132.18052
B5: 所在地 | C5: 自 | D5: =+'様式A-1'!$E$5 -> 山口県岩国市関戸 | G5: トンネル工法 | I5: ='様式B (1)'!$I$5 -> 山岳トンネル工法（NATM） | L5: トンネル延長 | N5: L= | O5: =+'様式A-1'!$Z$5 -> 889 | P5: ｍ | Q5: 自専道 or 一般道 | R5: ='様式B (1)'!$R$5 -> 一般道 | S5: 代替路の有無 | U5: ='様式B (1)'!$U$5 -> 無 | V5: 終点 | W5: 緯度 | X5: =+'様式A-1'!$E$9 -> 34.197405
C6: 至 | D6: =+'様式A-1'!$E$6 -> 山口県玖珂郡和木町関ヶ浜 | G6: 建設年度 | I6: ='様式B (1)'!$I$6 -> 2004年 | L6: 幅員 | N6: L= | O6: =+'様式A-1'!$E$15 -> 8.5 | P6: ｍ | S6: 緊急輸送道路 | U6: ='様式B (1)'!$U$6 -> 指定なし | W6: 経度 | X6: =+'様式A-1'!$E$10 -> 132.18721
B7: トンネル毎 の健全性の 診断の区分 | D7: ='様式B (1)'!$D$7 -> Ⅱ
G8: 変状・異常 箇所数合計 | I8: トンネル本体工 | J8: 材質劣化 | K8: Ⅱ | L8: ='様式B (1)'!$L$8 -> 24 | N8: Ⅲ | O8: ='様式B (1)'!$O$8 -> 0 | Q8: Ⅳ | R8: ='様式B (1)'!$R$8 -> 0 | T8: 附属物等 の取付状態 | V8: ◯ （応急措置後) | X8: ='様式B (1)'!$X$8 -> 0
J9: 漏水 | K9: Ⅱ | L9: ='様式B (1)'!$L$9 -> 44 | N9: Ⅲ | O9: ='様式B (1)'!$O$9 -> 0 | Q9: Ⅳ | R9: ='様式B (1)'!$R$9 -> 0
V10: ✕ | X10: ='様式B (1)'!$X$10 -> 1
J11: 外力 | K11: Ⅱ | L11: ='様式B (1)'!$L$11 -> 13 | N11: Ⅲ | O11: ='様式B (1)'!$O$11 -> 0 | Q11: Ⅳ | R11: ='様式B (1)'!$R$11 -> 0
B12: トンネル変状・異常箇所写真位置図
J29: 注１：本位置図は、見下げた状態で記載すること。 注２：覆工スパン番号は横断目地毎(矢板工法の場合は上半アーチの 横断目地毎)に設定すること。 | Q29: 注３：写真番号に付する変状番号は、各覆工スパンの変状に対して新たに確認された場合 は順次追加していくこと。 注４：横断目地の変状は前の覆工スパン番号で計上すること。 注５：１枚に収まらない場合は、複数枚に分けて作成すること。
C30: ※1 トンネル本体工の変状数は、材質劣化、漏水に起因するものは変状単位で、外力に起因するものはスパン単位で計上すること。
C31: ※2 トンネル本体工の変状に対しては、措置の必要性（Ⅱ～Ⅳ）について表記すること。また、点検前に実施された措置によりⅠと判定された箇所についても記載すること。
C32: ※3 附属物等の取付状態の○欄については、応急措置前に判定区分×とした箇所のうち応急措置により○判定とした箇所の数を記入すること。
C33: ※4 附属物等の異常番号は、本体工と番号が重複しないよう101番以降とする等の配慮を行い、分かりやすく記録すること。

Sheet 様式B (9)
B2: ■定期点検記録様式 トンネル変状・異常箇所写真位置図 【様式B】 | N2: 定期点検年月日 | P2: 45853 | S2: 施設ID | V2: =+'様式A-1'!$W$2 -> 34.19214,132.18042
B3: フリガナ | C3: =+'様式A-1'!$D$3 -> セキセキトンネル | G3: 路線名 | H3: =+'様式A-1'!$J$3 -> 主要地方道岩国大竹線 | K3: 管理者名 | L3: =+'様式A-1'!$R$3 -> 山口県岩国土木建築事務所 | Q3: 定期点検実施者 | S3: ='様式B (1)'!$S$3 -> 復建調査設計株式会社 | V3: 起点 | W3: 緯度 | X3: =+'様式A-1'!$E$7 -> 34.19214
B4: 名 称 | C4: =+'様式A-1'!$D$4 -> 関々トンネル | S4: ='様式B (1)'!$S$4 -> 小笠原洋 | W4: 経度 | X4: =+'様式A-1'!$E$8 -> 132.18052
B5: 所在地 | C5: 自 | D5: =+'様式A-1'!$E$5 -> 山口県岩国市関戸 | G5: トンネル工法 | I5: ='様式B (1)'!$I$5 -> 山岳トンネル工法（NATM） | L5: トンネル延長 | N5: L= | O5: =+'様式A-1'!$Z$5 -> 889 | P5: ｍ | Q5: 自専道 or 一般道 | R5: ='様式B (1)'!$R$5 -> 一般道 | S5: 代替路の有無 | U5: ='様式B (1)'!$U$5 -> 無 | V5: 終点 | W5: 緯度 | X5: =+'様式A-1'!$E$9 -> 34.197405
C6: 至 | D6: =+'様式A-1'!$E$6 -> 山口県玖珂郡和木町関ヶ浜 | G6: 建設年度 | I6: ='様式B (1)'!$I$6 -> 2004年 | L6: 幅員 | N6: L= | O6: =+'様式A-1'!$E$15 -> 8.5 | P6: ｍ | S6: 緊急輸送道路 | U6: ='様式B (1)'!$U$6 -> 指定なし | W6: 経度 | X6: =+'様式A-1'!$E$10 -> 132.18721
B7: トンネル毎 の健全性の 診断の区分 | D7: ='様式B (1)'!$D$7 -> Ⅱ
G8: 変状・異常 箇所数合計 | I8: トンネル本体工 | J8: 材質劣化 | K8: Ⅱ | L8: ='様式B (1)'!$L$8 -> 24 | N8: Ⅲ | O8: ='様式B (1)'!$O$8 -> 0 | Q8: Ⅳ | R8: ='様式B (1)'!$R$8 -> 0 | T8: 附属物等 の取付状態 | V8: ◯ （応急措置後) | X8: ='様式B (1)'!$X$8 -> 0
J9: 漏水 | K9: Ⅱ | L9: ='様式B (1)'!$L$9 -> 44 | N9: Ⅲ | O9: ='様式B (1)'!$O$9 -> 0 | Q9: Ⅳ | R9: ='様式B (1)'!$R$9 -> 0
V10: ✕ | X10: ='様式B (1)'!$X$10 -> 1
J11: 外力 | K11: Ⅱ | L11: ='様式B (1)'!$L$11 -> 13 | N11: Ⅲ | O11: ='様式B (1)'!$O$11 -> 0 | Q11: Ⅳ | R11: ='様式B (1)'!$R$11 -> 0
B12: トンネル変状・異常箇所写真位置図
J29: 注１：本位置図は、見下げた状態で記載すること。 注２：覆工スパン番号は横断目地毎(矢板工法の場合は上半アーチの 横断目地毎)に設定すること。 | Q29: 注３：写真番号に付する変状番号は、各覆工スパンの変状に対して新たに確認された場合 は順次追加していくこと。 注４：横断目地の変状は前の覆工スパン番号で計上すること。 注５：１枚に収まらない場合は、複数枚に分けて作成すること。
C30: ※1 トンネル本体工の変状数は、材質劣化、漏水に起因するものは変状単位で、外力に起因するものはスパン単位で計上すること。
C31: ※2 トンネル本体工の変状に対しては、措置の必要性（Ⅱ～Ⅳ）について表記すること。また、点検前に実施された措置によりⅠと判定された箇所についても記載すること。
C32: ※3 附属物等の取付状態の○欄については、応急措置前に判定区分×とした箇所のうち応急措置により○判定とした箇所の数を記入すること。
C33: ※4 附属物等の異常番号は、本体工と番号が重複しないよう101番以降とする等の配慮を行い、分かりやすく記録すること。

Sheet 様式B (10)
B2: ■定期点検記録様式 トンネル変状・異常箇所写真位置図 【様式B】 | N2: 定期点検年月日 | P2: 45853 | S2: 施設ID | V2: =+'様式A-1'!$W$2 -> 34.19214,132.18042
B3: フリガナ | C3: =+'様式A-1'!$D$3 -> セキセキトンネル | G3: 路線名 | H3: =+'様式A-1'!$J$3 -> 主要地方道岩国大竹線 | K3: 管理者名 | L3: =+'様式A-1'!$R$3 -> 山口県岩国土木建築事務所 | Q3: 定期点検実施者 | S3: ='様式B (1)'!$S$3 -> 復建調査設計株式会社 | V3: 起点 | W3: 緯度 | X3: =+'様式A-1'!$E$7 -> 34.19214
B4: 名 称 | C4: =+'様式A-1'!$D$4 -> 関々トンネル | S4: ='様式B (1)'!$S$4 -> 小笠原洋 | W4: 経度 | X4: =+'様式A-1'!$E$8 -> 132.18052
B5: 所在地 | C5: 自 | D5: =+'様式A-1'!$E$5 -> 山口県岩国市関戸 | G5: トンネル工法 | I5: ='様式B (1)'!$I$5 -> 山岳トンネル工法（NATM） | L5: トンネル延長 | N5: L= | O5: =+'様式A-1'!$Z$5 -> 889 | P5: ｍ | Q5: 自専道 or 一般道 | R5: ='様式B (1)'!$R$5 -> 一般道 | S5: 代替路の有無 | U5: ='様式B (1)'!$U$5 -> 無 | V5: 終点 | W5: 緯度 | X5: =+'様式A-1'!$E$9 -> 34.197405
C6: 至 | D6: =+'様式A-1'!$E$6 -> 山口県玖珂郡和木町関ヶ浜 | G6: 建設年度 | I6: ='様式B (1)'!$I$6 -> 2004年 | L6: 幅員 | N6: L= | O6: =+'様式A-1'!$E$15 -> 8.5 | P6: ｍ | S6: 緊急輸送道路 | U6: ='様式B (1)'!$U$6 -> 指定なし | W6: 経度 | X6: =+'様式A-1'!$E$10 -> 132.18721
B7: トンネル毎 の健全性の 診断の区分 | D7: ='様式B (1)'!$D$7 -> Ⅱ
G8: 変状・異常 箇所数合計 | I8: トンネル本体工 | J8: 材質劣化 | K8: Ⅱ | L8: ='様式B (1)'!$L$8 -> 24 | N8: Ⅲ | O8: ='様式B (1)'!$O$8 -> 0 | Q8: Ⅳ | R8: ='様式B (1)'!$R$8 -> 0 | T8: 附属物等 の取付状態 | V8: ◯ （応急措置後) | X8: ='様式B (1)'!$X$8 -> 0
J9: 漏水 | K9: Ⅱ | L9: ='様式B (1)'!$L$9 -> 44 | N9: Ⅲ | O9: ='様式B (1)'!$O$9 -> 0 | Q9: Ⅳ | R9: ='様式B (1)'!$R$9 -> 0
V10: ✕ | X10: ='様式B (1)'!$X$10 -> 1
J11: 外力 | K11: Ⅱ | L11: ='様式B (1)'!$L$11 -> 13 | N11: Ⅲ | O11: ='様式B (1)'!$O$11 -> 0 | Q11: Ⅳ | R11: ='様式B (1)'!$R$11 -> 0
B12: トンネル変状・異常箇所写真位置図
J29: 注１：本位置図は、見下げた状態で記載すること。 注２：覆工スパン番号は横断目地毎(矢板工法の場合は上半アーチの 横断目地毎)に設定すること。 | Q29: 注３：写真番号に付する変状番号は、各覆工スパンの変状に対して新たに確認された場合 は順次追加していくこと。 注４：横断目地の変状は前の覆工スパン番号で計上すること。 注５：１枚に収まらない場合は、複数枚に分けて作成すること。
C30: ※1 トンネル本体工の変状数は、材質劣化、漏水に起因するものは変状単位で、外力に起因するものはスパン単位で計上すること。
C31: ※2 トンネル本体工の変状に対しては、措置の必要性（Ⅱ～Ⅳ）について表記すること。また、点検前に実施された措置によりⅠと判定された箇所についても記載すること。
C32: ※3 附属物等の取付状態の○欄については、応急措置前に判定区分×とした箇所のうち応急措置により○判定とした箇所の数を記入すること。
C33: ※4 附属物等の異常番号は、本体工と番号が重複しないよう101番以降とする等の配慮を行い、分かりやすく記録すること。

Sheet 様式B (11)
B2: ■定期点検記録様式 トンネル変状・異常箇所写真位置図 【様式B】 | N2: 定期点検年月日 | P2: 45853 | S2: 施設ID | V2: =+'様式A-1'!$W$2 -> 34.19214,132.18042
B3: フリガナ | C3: =+'様式A-1'!$D$3 -> セキセキトンネル | G3: 路線名 | H3: =+'様式A-1'!$J$3 -> 主要地方道岩国大竹線 | K3: 管理者名 | L3: =+'様式A-1'!$R$3 -> 山口県岩国土木建築事務所 | Q3: 定期点検実施者 | S3: ='様式B (1)'!$S$3 -> 復建調査設計株式会社 | V3: 起点 | W3: 緯度 | X3: =+'様式A-1'!$E$7 -> 34.19214
B4: 名 称 | C4: =+'様式A-1'!$D$4 -> 関々トンネル | S4: ='様式B (1)'!$S$4 -> 小笠原洋 | W4: 経度 | X4: =+'様式A-1'!$E$8 -> 132.18052
B5: 所在地 | C5: 自 | D5: =+'様式A-1'!$E$5 -> 山口県岩国市関戸 | G5: トンネル工法 | I5: ='様式B (1)'!$I$5 -> 山岳トンネル工法（NATM） | L5: トンネル延長 | N5: L= | O5: =+'様式A-1'!$Z$5 -> 889 | P5: ｍ | Q5: 自専道 or 一般道 | R5: ='様式B (1)'!$R$5 -> 一般道 | S5: 代替路の有無 | U5: ='様式B (1)'!$U$5 -> 無 | V5: 終点 | W5: 緯度 | X5: =+'様式A-1'!$E$9 -> 34.197405
C6: 至 | D6: =+'様式A-1'!$E$6 -> 山口県玖珂郡和木町関ヶ浜 | G6: 建設年度 | I6: ='様式B (1)'!$I$6 -> 2004年 | L6: 幅員 | N6: L= | O6: =+'様式A-1'!$E$15 -> 8.5 | P6: ｍ | S6: 緊急輸送道路 | U6: ='様式B (1)'!$U$6 -> 指定なし | W6: 経度 | X6: =+'様式A-1'!$E$10 -> 132.18721
B7: トンネル毎 の健全性の 診断の区分 | D7: ='様式B (1)'!$D$7 -> Ⅱ
G8: 変状・異常 箇所数合計 | I8: トンネル本体工 | J8: 材質劣化 | K8: Ⅱ | L8: ='様式B (1)'!$L$8 -> 24 | N8: Ⅲ | O8: ='様式B (1)'!$O$8 -> 0 | Q8: Ⅳ | R8: ='様式B (1)'!$R$8 -> 0 | T8: 附属物等 の取付状態 | V8: ◯ （応急措置後) | X8: ='様式B (1)'!$X$8 -> 0
J9: 漏水 | K9: Ⅱ | L9: ='様式B (1)'!$L$9 -> 44 | N9: Ⅲ | O9: ='様式B (1)'!$O$9 -> 0 | Q9: Ⅳ | R9: ='様式B (1)'!$R$9 -> 0
V10: ✕ | X10: ='様式B (1)'!$X$10 -> 1
J11: 外力 | K11: Ⅱ | L11: ='様式B (1)'!$L$11 -> 13 | N11: Ⅲ | O11: ='様式B (1)'!$O$11 -> 0 | Q11: Ⅳ | R11: ='様式B (1)'!$R$11 -> 0
B12: トンネル変状・異常箇所写真位置図
J29: 注１：本位置図は、見下げた状態で記載すること。 注２：覆工スパン番号は横断目地毎(矢板工法の場合は上半アーチの 横断目地毎)に設定すること。 | Q29: 注３：写真番号に付する変状番号は、各覆工スパンの変状に対して新たに確認された場合 は順次追加していくこと。 注４：横断目地の変状は前の覆工スパン番号で計上すること。 注５：１枚に収まらない場合は、複数枚に分けて作成すること。
C30: ※1 トンネル本体工の変状数は、材質劣化、漏水に起因するものは変状単位で、外力に起因するものはスパン単位で計上すること。
C31: ※2 トンネル本体工の変状に対しては、措置の必要性（Ⅱ～Ⅳ）について表記すること。また、点検前に実施された措置によりⅠと判定された箇所についても記載すること。
C32: ※3 附属物等の取付状態の○欄については、応急措置前に判定区分×とした箇所のうち応急措置により○判定とした箇所の数を記入すること。
C33: ※4 附属物等の異常番号は、本体工と番号が重複しないよう101番以降とする等の配慮を行い、分かりやすく記録すること。

Sheet 様式B (12)
B2: ■定期点検記録様式 トンネル変状・異常箇所写真位置図 【様式B】 | N2: 定期点検年月日 | P2: 45853 | S2: 施設ID | V2: =+'様式A-1'!$W$2 -> 34.19214,132.18042
B3: フリガナ | C3: =+'様式A-1'!$D$3 -> セキセキトンネル | G3: 路線名 | H3: =+'様式A-1'!$J$3 -> 主要地方道岩国大竹線 | K3: 管理者名 | L3: =+'様式A-1'!$R$3 -> 山口県岩国土木建築事務所 | Q3: 定期点検実施者 | S3: ='様式B (1)'!$S$3 -> 復建調査設計株式会社 | V3: 起点 | W3: 緯度 | X3: =+'様式A-1'!$E$7 -> 34.19214
B4: 名 称 | C4: =+'様式A-1'!$D$4 -> 関々トンネル | S4: ='様式B (1)'!$S$4 -> 小笠原洋 | W4: 経度 | X4: =+'様式A-1'!$E$8 -> 132.18052
B5: 所在地 | C5: 自 | D5: =+'様式A-1'!$E$5 -> 山口県岩国市関戸 | G5: トンネル工法 | I5: ='様式B (1)'!$I$5 -> 山岳トンネル工法（NATM） | L5: トンネル延長 | N5: L= | O5: =+'様式A-1'!$Z$5 -> 889 | P5: ｍ | Q5: 自専道 or 一般道 | R5: ='様式B (1)'!$R$5 -> 一般道 | S5: 代替路の有無 | U5: ='様式B (1)'!$U$5 -> 無 | V5: 終点 | W5: 緯度 | X5: =+'様式A-1'!$E$9 -> 34.197405
C6: 至 | D6: =+'様式A-1'!$E$6 -> 山口県玖珂郡和木町関ヶ浜 | G6: 建設年度 | I6: ='様式B (1)'!$I$6 -> 2004年 | L6: 幅員 | N6: L= | O6: =+'様式A-1'!$E$15 -> 8.5 | P6: ｍ | S6: 緊急輸送道路 | U6: ='様式B (1)'!$U$6 -> 指定なし | W6: 経度 | X6: =+'様式A-1'!$E$10 -> 132.18721
B7: トンネル毎 の健全性の 診断の区分 | D7: ='様式B (1)'!$D$7 -> Ⅱ
G8: 変状・異常 箇所数合計 | I8: トンネル本体工 | J8: 材質劣化 | K8: Ⅱ | L8: ='様式B (1)'!$L$8 -> 24 | N8: Ⅲ | O8: ='様式B (1)'!$O$8 -> 0 | Q8: Ⅳ | R8: ='様式B (1)'!$R$8 -> 0 | T8: 附属物等 の取付状態 | V8: ◯ （応急措置後) | X8: ='様式B (1)'!$X$8 -> 0
J9: 漏水 | K9: Ⅱ | L9: ='様式B (1)'!$L$9 -> 44 | N9: Ⅲ | O9: ='様式B (1)'!$O$9 -> 0 | Q9: Ⅳ | R9: ='様式B (1)'!$R$9 -> 0
V10: ✕ | X10: ='様式B (1)'!$X$10 -> 1
J11: 外力 | K11: Ⅱ | L11: ='様式B (1)'!$L$11 -> 13 | N11: Ⅲ | O11: ='様式B (1)'!$O$11 -> 0 | Q11: Ⅳ | R11: ='様式B (1)'!$R$11 -> 0
B12: トンネル変状・異常箇所写真位置図
J29: 注１：本位置図は、見下げた状態で記載すること。 注２：覆工スパン番号は横断目地毎(矢板工法の場合は上半アーチの 横断目地毎)に設定すること。 | Q29: 注３：写真番号に付する変状番号は、各覆工スパンの変状に対して新たに確認された場合 は順次追加していくこと。 注４：横断目地の変状は前の覆工スパン番号で計上すること。 注５：１枚に収まらない場合は、複数枚に分けて作成すること。
C30: ※1 トンネル本体工の変状数は、材質劣化、漏水に起因するものは変状単位で、外力に起因するものはスパン単位で計上すること。
C31: ※2 トンネル本体工の変状に対しては、措置の必要性（Ⅱ～Ⅳ）について表記すること。また、点検前に実施された措置によりⅠと判定された箇所についても記載すること。
C32: ※3 附属物等の取付状態の○欄については、応急措置前に判定区分×とした箇所のうち応急措置により○判定とした箇所の数を記入すること。
C33: ※4 附属物等の異常番号は、本体工と番号が重複しないよう101番以降とする等の配慮を行い、分かりやすく記録すること。

Sheet 様式B (13)
B2: ■定期点検記録様式 トンネル変状・異常箇所写真位置図 【様式B】 | N2: 定期点検年月日 | P2: 45853 | S2: 施設ID | V2: =+'様式A-1'!$W$2 -> 34.19214,132.18042
B3: フリガナ | C3: =+'様式A-1'!$D$3 -> セキセキトンネル | G3: 路線名 | H3: =+'様式A-1'!$J$3 -> 主要地方道岩国大竹線 | K3: 管理者名 | L3: =+'様式A-1'!$R$3 -> 山口県岩国土木建築事務所 | Q3: 定期点検実施者 | S3: ='様式B (1)'!$S$3 -> 復建調査設計株式会社 | V3: 起点 | W3: 緯度 | X3: =+'様式A-1'!$E$7 -> 34.19214
B4: 名 称 | C4: =+'様式A-1'!$D$4 -> 関々トンネル | S4: ='様式B (1)'!$S$4 -> 小笠原洋 | W4: 経度 | X4: =+'様式A-1'!$E$8 -> 132.18052
B5: 所在地 | C5: 自 | D5: =+'様式A-1'!$E$5 -> 山口県岩国市関戸 | G5: トンネル工法 | I5: ='様式B (1)'!$I$5 -> 山岳トンネル工法（NATM） | L5: トンネル延長 | N5: L= | O5: =+'様式A-1'!$Z$5 -> 889 | P5: ｍ | Q5: 自専道 or 一般道 | R5: ='様式B (1)'!$R$5 -> 一般道 | S5: 代替路の有無 | U5: ='様式B (1)'!$U$5 -> 無 | V5: 終点 | W5: 緯度 | X5: =+'様式A-1'!$E$9 -> 34.197405
C6: 至 | D6: =+'様式A-1'!$E$6 -> 山口県玖珂郡和木町関ヶ浜 | G6: 建設年度 | I6: ='様式B (1)'!$I$6 -> 2004年 | L6: 幅員 | N6: L= | O6: =+'様式A-1'!$E$15 -> 8.5 | P6: ｍ | S6: 緊急輸送道路 | U6: ='様式B (1)'!$U$6 -> 指定なし | W6: 経度 | X6: =+'様式A-1'!$E$10 -> 132.18721
B7: トンネル毎 の健全性の 診断の区分 | D7: ='様式B (1)'!$D$7 -> Ⅱ
G8: 変状・異常 箇所数合計 | I8: トンネル本体工 | J8: 材質劣化 | K8: Ⅱ | L8: ='様式B (1)'!$L$8 -> 24 | N8: Ⅲ | O8: ='様式B (1)'!$O$8 -> 0 | Q8: Ⅳ | R8: ='様式B (1)'!$R$8 -> 0 | T8: 附属物等 の取付状態 | V8: ◯ （応急措置後) | X8: ='様式B (1)'!$X$8 -> 0
J9: 漏水 | K9: Ⅱ | L9: ='様式B (1)'!$L$9 -> 44 | N9: Ⅲ | O9: ='様式B (1)'!$O$9 -> 0 | Q9: Ⅳ | R9: ='様式B (1)'!$R$9 -> 0
V10: ✕ | X10: ='様式B (1)'!$X$10 -> 1
J11: 外力 | K11: Ⅱ | L11: ='様式B (1)'!$L$11 -> 13 | N11: Ⅲ | O11: ='様式B (1)'!$O$11 -> 0 | Q11: Ⅳ | R11: ='様式B (1)'!$R$11 -> 0
B12: トンネル変状・異常箇所写真位置図
J29: 注１：本位置図は、見下げた状態で記載すること。 注２：覆工スパン番号は横断目地毎(矢板工法の場合は上半アーチの 横断目地毎)に設定すること。 | Q29: 注３：写真番号に付する変状番号は、各覆工スパンの変状に対して新たに確認された場合 は順次追加していくこと。 注４：横断目地の変状は前の覆工スパン番号で計上すること。 注５：１枚に収まらない場合は、複数枚に分けて作成すること。
C30: ※1 トンネル本体工の変状数は、材質劣化、漏水に起因するものは変状単位で、外力に起因するものはスパン単位で計上すること。
C31: ※2 トンネル本体工の変状に対しては、措置の必要性（Ⅱ～Ⅳ）について表記すること。また、点検前に実施された措置によりⅠと判定された箇所についても記載すること。
C32: ※3 附属物等の取付状態の○欄については、応急措置前に判定区分×とした箇所のうち応急措置により○判定とした箇所の数を記入すること。
C33: ※4 附属物等の異常番号は、本体工と番号が重複しないよう101番以降とする等の配慮を行い、分かりやすく記録すること。

Sheet 様式C-1-1
B2: ■定期点検記録様式 全スパン定期点検結果総括表（トンネル本体工） 【様式C-1-1】
B3: フリガナ | F3: =+'様式A-1'!$D$3 -> セキセキトンネル | I3: 路線名 | K3: =+'様式A-1'!$J$3 -> 主要地方道岩国大竹線 | O3: 定期点検実施者 | P3: =+'様式B (1)'!$S$3 -> 復建調査設計株式会社 | T3: 定期点検年月日 | X3: =+'様式B (1)'!$P$2 -> 45853
B4: 名 称 | F4: =+'様式A-1'!$D$4 -> 関々トンネル | I4: 管理者名 | K4: =+'様式A-1'!$R$3 -> 山口県岩国土木建築事務所 | P4: =+'様式B (1)'!$S$4 -> 小笠原洋
B5: 定期点検結果 | C5: 覆工 スパン 番号 | E5: 変状 番号 | F5: 距離 （m） | G5: 変状部位 | I5: 変 状 の 内 容 | O5: 前回定期点検時の状態 | P5: 今回定期点検結果 | T5: 措置履歴 | Y5: 対応方針 ・ 特記事項
G7: 対象箇所 | H7: 部位区分 | I7: 変状区分 | J7: 変状種類 | M7: 変状の発生範囲の規模 | N7: 前回定期点検時の変状の発生範囲及び規模 | O7: 対策区分 | P7: 対策区分 | R7: 調査の 要否 | S7: 措置の 要否 | T7: 実施 | U7: 措置の実施状況
P8: 応急措置前 | Q8: 応急措置後
C9: S1 | E9: 1 | F9: 2.5 | G9: 覆工 | H9: アーチ（天端） | I9: 材質劣化 | J9: うき・はく離 | M9: 1.35m×2.7m | N9: 1.0m×2.5m | O9: Ⅱb | Q9: Ⅱb | R9: 否 | S9: 否 | T9: 継続 | U9: 監視(日常巡視) | Y9: 閉合ひび割れ
C10: S1 | E10: 2 | F10: 2.5 | G10: 路面 | H10: 側溝 | J10: その他 | M10: － | N10: 0.1m×7.5m | O10: Ⅱb | R10: 否 | S10: 否 | Y10: 土砂堆積
C11: S2 | E11: 1 | F11: 7.5 | G11: 路面 | H11: 側溝 | J11: その他 | M11: － | N11: 0.1m×10.5m | O11: Ⅱb | R11: 否 | S11: 否 | Y11: 土砂堆積
C12: S3 | E12: 1 | F12: 25.5 | G12: 覆工 | H12: 側壁（右側） | I12: 材質劣化 | J12: 鋼材腐食 | M12: 0.1m×0.1m | N12: 0.1m×0.1m | O12: Ⅱb | Q12: Ⅱb | R12: 否 | S12: 否 | T12: 継続 | U12: 監視(日常巡視)
C13: S3 | E13: 2 | F13: 18 | G13: 路面 | H13: 側溝 | J13: その他 | M13: － | N13: 0.1m×10.5m | O13: Ⅱb | R13: 否 | S13: 否 | Y13: 土砂堆積
C14: S3 | E14: 3 | F14: 18 | G14: 路面 | H14: 側溝 | J14: その他 | M14: － | N14: 0.1m×10.5m | O14: Ⅱb | R14: 否 | S14: 否 | Y14: 土砂堆積
C15: S4 | E15: 1 | F15: 28.5 | G15: 路面 | H15: 側溝 | J15: その他 | M15: － | N15: 0.1m×10.5m | O15: Ⅱb | R15: 否 | S15: 否 | Y15: 土砂堆積
C16: S4 | E16: 2 | F16: 28.5 | G16: 路面 | H16: 側溝 | J16: その他 | M16: － | N16: 0.1m×10.5m | O16: Ⅱb | R16: 否 | S16: 否 | Y16: 土砂堆積
C17: S5 | E17: 1 | F17: 39 | G17: 路面 | H17: 側溝 | J17: その他 | M17: － | N17: 0.1m×10.5m | O17: Ⅱb | R17: 否 | S17: 否 | Y17: 土砂堆積
C18: S5 | E18: 2 | F18: 39 | G18: 路面 | H18: 側溝 | J18: その他 | M18: － | N18: 0.1m×7.0m | O18: Ⅱb | R18: 否 | S18: 否 | Y18: 土砂堆積
C19: S6 | E19: 1 | F19: 49.5 | G19: 路面 | H19: 側溝 | J19: その他 | M19: － | N19: 0.1m×10.5m | O19: Ⅱb | R19: 否 | S19: 否 | Y19: 土砂堆積
C20: S7 | E20: 1 | F20: 60 | G20: 路面 | H20: 側溝 | J20: その他 | M20: － | N20: 0.1m×10.5m | O20: Ⅱb | R20: 否 | S20: 否 | Y20: 土砂堆積
C21: S8 | E21: 1 | F21: 70.5 | G21: 路面 | H21: 側溝 | J21: その他 | M21: － | N21: 0.1m×10.5m | O21: Ⅱb | R21: 否 | S21: 否 | Y21: 土砂堆積
C22: S9 | E22: 1 | F22: 86.5 | G22: 覆工 | H22: アーチ（右側） | I22: 材質劣化 | J22: 鋼材腐食 | M22: 0.05m×0.05m | N22: 0.05m×0.05m | O22: Ⅱb | Q22: Ⅱb | R22: 否 | S22: 否 | T22: 継続 | U22: 監視(日常巡視)
C23: S9 | E23: 2 | F23: 89 | G23: 覆工 | H23: 側壁（右側） | I23: 漏水 | J23: 漏水 | M23: 1.8m×1.7m | N23: 1.8m×1.5m | O23: Ⅱb | Q23: Ⅱb | R23: 否 | S23: 否 | T23: 継続 | U23: 監視(日常巡視) | Y23: 漏水跡
C24: S9 | E24: 3 | F24: 81 | G24: 路面 | H24: 側溝 | J24: その他 | M24: － | N24: 0.1m×10.5m | O24: Ⅱb | R24: 否 | S24: 否 | Y24: 土砂堆積
C25: S10 | E25: 1 | F25: 91.5 | G25: 覆工 | H25: 側壁（右側） | I25: 材質劣化 | J25: うき・はく離 | M25: 0.4m×0.1m | N25: 0.4m×0.1m | O25: Ⅱb | Q25: Ⅱb | R25: 否 | S25: 否 | T25: 継続 | U25: 監視(日常巡視) | Y25: 閉合ひび割れ
C26: S10 | E26: 2 | F26: 91.5 | G26: 路面 | H26: 側溝 | J26: その他 | M26: － | N26: 0.1m×10.5m | O26: Ⅱb | R26: 否 | S26: 否 | Y26: 土砂堆積
C27: S11 | E27: 1 | F27: 102.5 | G27: 覆工 | H27: 側壁（右側） | I27: 漏水 | J27: 漏水 | M27: 1.5m×0.4m | N27: 1.7m×1.1m | O27: Ⅱb | Q27: Ⅱb | R27: 否 | S27: 否 | T27: 継続 | U27: 監視(日常巡視)
C28: S11 | E28: 2 | F28: 102 | G28: 路面 | H28: 側溝 | J28: その他 | M28: － | N28: 0.1m×10.5m | O28: Ⅱb | R28: 否 | S28: 否 | Y28: 土砂堆積
C29: S12 | E29: 1 | F29: 112.5 | G29: 路面 | H29: 側溝 | J29: その他 | M29: － | N29: － | O29: － | R29: 否 | S29: 否 | Y29: 土砂堆積
C30: S12 | E30: 2 | F30: 112.5 | G30: 路面 | H30: 側溝 | J30: その他 | M30: － | N30: － | O30: － | R30: 否 | S30: 否 | Y30: 土砂堆積
C31: S13 | E31: 1 | F31: 123 | G31: 路面 | H31: 側溝 | J31: その他 | M31: － | N31: － | O31: － | R31: 否 | S31: 否 | Y31: 土砂堆積
C32: S13 | E32: 2 | F32: 123 | G32: 路面 | H32: 側溝 | J32: その他 | M32: － | N32: － | O32: － | R32: 否 | S32: 否 | Y32: 土砂堆積
C33: S14 | E33: 1 | F33: 133.5 | G33: 路面 | H33: 側溝 | J33: その他 | M33: － | N33: － | O33: － | R33: 否 | S33: 否 | Y33: 土砂堆積
C34: S15 | E34: 1 | F34: 144 | G34: 路面 | H34: 側溝 | J34: その他 | M34: － | N34: － | O34: － | R34: 否 | S34: 否 | Y34: 土砂堆積
C35: S16 | E35: 1 | F35: 154.5 | G35: 路面 | H35: 側溝 | J35: その他 | M35: － | N35: － | O35: － | R35: 否 | S35: 否 | Y35: 土砂堆積
C36: S17 | E36: 1 | F36: 165 | G36: 路面 | H36: 側溝 | J36: その他 | M36: － | N36: － | O36: － | R36: 否 | S36: 否 | Y36: 土砂堆積
C37: S18 | E37: 1 | F37: 175.5 | G37: 路面 | H37: 側溝 | J37: その他 | M37: － | N37: － | O37: － | R37: 否 | S37: 否 | Y37: 土砂堆積
C38: S19 | E38: 1 | F38: 186 | G38: 路面 | H38: 側溝 | J38: その他 | M38: － | N38: － | O38: － | R38: 否 | S38: 否 | Y38: 土砂堆積
C39: S20 | E39: 1 | F39: 199 | G39: 覆工 | H39: アーチ（右側） | I39: 材質劣化 | J39: 鋼材腐食 | M39: 0.05m×0.05m | N39: 0.05m×0.05m | O39: Ⅱb | Q39: Ⅱb | R39: 否 | S39: 否 | T39: 継続 | U39: 監視(日常巡視)
C40: S20 | E40: 2 | F40: 196.5 | G40: 覆工 | H40: 側壁（右側） | I40: 材質劣化 | J40: うき・はく離 | M40: 0.25m×0.1m | N40: 0.6m×0.1m | O40: Ⅱb | Q40: Ⅱb | R40: 否 | S40: 否 | T40: 継続 | U40: 監視(日常巡視) | Y40: 閉合ひび割れ
C41: S20 | E41: 3 | F41: 196.5 | G41: 路面 | H41: 側溝 | J41: その他 | M41: － | N41: － | O41: － | R41: 否 | S41: 否 | Y41: 土砂堆積
C42: S21 | E42: 1 | F42: 211 | G42: 覆工 | H42: 側壁（左側） | I42: 漏水 | J42: 漏水 | M42: 1.4m×4.3m | N42: 1.4m×0.5m、1.3m×0.2m、1.2m×0.1m、1.1m×0.3m、1.1m×0.5m、1.4m×1.3m | O42: Ⅱb | Q42: Ⅱb | R42: 否 | S42: 否 | T42: 継続 | U42: 監視(日常巡視) | Y42: 漏水跡
...

Sheet 様式C-1-2
B2: ■定期点検記録様式 定期点検結果総括表（トンネル内附属物等の取付状態） 【様式C-1-2】
B3: フリガナ | F3: =+'様式A-1'!$D$3 -> セキセキトンネル | J3: 路線名 | K3: =+'様式A-1'!$J$3 -> 主要地方道岩国大竹線 | M3: 定期点検実施者 | O3: =+'様式B (1)'!$S$3 -> 復建調査設計株式会社 | S3: 定期点検年月日 | W3: =+'様式B (1)'!$P$2 -> 45853
B4: 名 称 | F4: =+'様式A-1'!$D$4 -> 関々トンネル | J4: 管理者名 | K4: =+'様式A-1'!$R$3 -> 山口県岩国土木建築事務所 | O4: =+'様式B (1)'!$S$4 -> 小笠原洋
B5: 定期点検結果 | C5: 覆工 スパン 番号 | E5: 異常 番号 | F5: 距離 （m） | G5: 異常部位 | J5: 異 常 の 内 容 | N5: 定期点検結果 | P5: 応急措置の 実施状況 | V5: 対応方針 ・ 特記事項
G6: 対象箇所 | I6: 部位区分 | J6: 異常種類 | L6: 異常の発生範囲の規模 | N6: 異常判定区分 | P6: 実施 | Q6: 応急措置の内容
N7: 応急措置前 | O7: 応急措置後
C8: 附S26 | E8: 1 | F8: 263 | G8: 非常用施設 | H8: 通話型通報設備 | I8: 附属物本体 | J8: 腐食 | L8: １箇所 | O8: × | P8: 未
C42: ※ 異常判定区分×について記入すること。また、応急措置により○と判定された箇所も記入すること。
C43: ※ 応急措置を実施しないで判定した箇所の異常判定区分は、異常判定区分の応急措置後の欄に記入すること。
C44: ※ 異常の除去が不完全で、緊急対応が必要な場合は対応方針欄に記入すること。
C45: ※ １スパンの覆工に複数の異常がある場合は、異常箇所毎に記入すること。
C46: ※ 行が不足する場合は、適時、表の行を増やすこと。

Sheet 様式C-2
B2: ■定期点検記録様式 状態の把握の内容 【様式C-2】
B3: フリガナ | E3: =+'様式A-1'!$D$3 -> セキセキトンネル | H3: 路線名 | J3: =+'様式A-1'!$J$3 -> 主要地方道岩国大竹線 | M3: 定期点検実施者 | Q3: =+'様式B (1)'!$S$3 -> 復建調査設計株式会社 | U3: 定期点検年月日 | X3: =+'様式B (1)'!$P$2 -> 45853
B4: 名 称 | E4: =+'様式A-1'!$D$4 -> 関々トンネル | H4: 管理者名 | J4: =+'様式A-1'!$R$3 -> 山口県岩国土木建築事務所 | Q4: =+'様式B (1)'!$S$4 -> 小笠原洋
B5: 状態の把握の内容 | C5: 覆工スパン 番号 | E5: 変状 番号 | F5: 状態の把握の内容
F6: 年月日 | H6: 内容 | O6: 結果 | Y6: 対策区分の 判定
B22: 注）状態の把握において、微破壊・非破壊検査や各種試験等を実施した場合について記載する。
B23: ※ 行が不足する場合は、適時、表の行を増やすこと。

Sheet 様式D-1-1 (1)
B2: ■定期点検記録様式 変状写真台帳【様式D-1-1】 | R2: 施設ID | T2: =+'様式A-1'!$W$2 -> 34.19214,132.18042
B3: フリガナ | E3: =+'様式A-1'!$D$3 -> セキセキトンネル | H3: 路 線 名 | J3: =+'様式A-1'!$J$3 -> 主要地方道岩国大竹線 | M3: 定期点検実施者 | P3: =+'様式B (1)'!$S$3 -> 復建調査設計株式会社 | S3: 定期点検年月日 | U3: =+'様式B (1)'!$P$2 -> 45853
B4: 名 称 | E4: =+'様式A-1'!$D$4 -> 関々トンネル | H4: 管理者名 | J4: =+'様式A-1'!$R$3 -> 山口県岩国土木建築事務所 | P4: =+'様式B (1)'!$S$4 -> 小笠原洋
B5: 写真 番号 | C5: 覆工スパン 番号 | E5: S1 | M5: 写真 番号 | N5: 覆工スパン 番号 | P5: S1
C6: 変状番号 | E6: 1 | N6: 変状番号 | P6: 2
B7: 変状 部位 | C7: 対象箇所 | E7: 覆工 | M7: 変状 部位 | N7: 対象箇所 | P7: 路面
C8: 部位区分 | E8: アーチ（天端） | N8: 部位区分 | P8: 側溝
B9: 変状種類 | E9: うき・はく離 | M9: 変状種類 | P9: その他
B10: 対策 区分 | C10: 変状区分 | E10: 材質劣化 | M10: 対策 区分 | N10: 変状区分
C11: 応急措置前 | N11: 応急措置前
C12: 応急措置後 | E12: Ⅱb | N12: 応急措置後
B13: 変状の発生範囲及び規模 | E13: 1.35m×2.7m | H13: 前回変状の発生範囲及び規模 | J13: 1.0m×2.5m | M13: 変状の発生範囲及び規模 | P13: － | S13: 前回変状の発生範囲及び規模 | U13: 0.1m×7.5m
B14: 対策履歴 | E14: 監視(日常巡視) | H14: 実施状況（実施日） | M14: 対策履歴 | S14: 実施状況（実施日）
B15: メモ | E15: 1.35m×2.7mの閉合してブロック化したひび割れ、打音異常なし、進行は確認されない （写真番号S1-1・前回Ⅱb判定） | M15: メモ | P15: 0.1m×7.5mの左側側溝の土砂堆積 （写真番号S1-2・前回Ⅱb判定）
B16: 写真 番号 | C16: 覆工スパン 番号 | E16: S2 | M16: 写真 番号 | N16: 覆工スパン 番号 | P16: S3
C17: 変状番号 | E17: 1 | N17: 変状番号 | P17: 1
B18: 変状 部位 | C18: 対象箇所 | E18: 路面 | M18: 変状 部位 | N18: 対象箇所 | P18: 覆工
C19: 部位区分 | E19: 側溝 | N19: 部位区分 | P19: 側壁（右側）
B20: 変状種類 | E20: その他 | M20: 変状種類 | P20: 鋼材腐食
B21: 対策 区分 | C21: 変状区分 | M21: 対策 区分 | N21: 変状区分 | P21: 材質劣化
C22: 応急措置前 | N22: 応急措置前
C23: 応急措置後 | N23: 応急措置後 | P23: Ⅱb
B24: 変状の発生範囲及び規模 | E24: － | H24: 前回変状の発生範囲及び規模 | J24: 0.1m×10.5m | M24: 変状の発生範囲及び規模 | P24: 0.1m×0.1m | S24: 前回変状の発生範囲及び規模 | U24: 0.1m×0.1m
B25: 対策履歴 | H25: 実施状況（実施日） | M25: 対策履歴 | P25: 監視(日常巡視) | S25: 実施状況（実施日）
B26: メモ | E26: 0.1m×10.5mの左側側溝の土砂堆積 （写真番号S2-1・前回Ⅱb判定） | M26: メモ | P26: 0.1m×0.1mの鋼材腐食、鋼材の表面的な錆び、構造鉄筋の可能性は低い （写真番号S3-1・前回Ⅱb判定）
C27: ※ 応急措置後の対策区分について添付すること。また、点検前に 実施された措置によりⅠと判定された箇所も添付すること。 | N27: ※ 変状の発生範囲の規模とは、対策を行う際に参考となる変状の長さや面積をいう。
N28: ※ 応急措置を実施しないで決定した変状の対策区分は、対策区分の応急措置後の欄に記入すること。
C29: ※ たたき落としを実施した場合は、実施後の写真を添付すること。 | N29: ※ 変状の発生範囲の規模は、面積・寸法を記載すること。(ひび割れ幅のみmmとし、その他をm表記とする)
C30: ※ 附属物の取付状態に関する異常写真は別途、任意の書式でとりまとめること。 | N30: ※ 構造用鋼材以外の異物に伴ううき・はく離については、メモ欄に異物の概要を記入すること。

Sheet 様式D-1-1 (2)
B2: ■定期点検記録様式 変状写真台帳【様式D-1-1】 | R2: 施設ID | T2: =+'様式A-1'!$W$2 -> 34.19214,132.18042
B3: フリガナ | E3: =+'様式A-1'!$D$3 -> セキセキトンネル | H3: 路 線 名 | J3: =+'様式A-1'!$J$3 -> 主要地方道岩国大竹線 | M3: 定期点検実施者 | P3: =+'様式B (1)'!$S$3 -> 復建調査設計株式会社 | S3: 定期点検年月日 | U3: =+'様式B (1)'!$P$2 -> 45853
B4: 名 称 | E4: =+'様式A-1'!$D$4 -> 関々トンネル | H4: 管理者名 | J4: =+'様式A-1'!$R$3 -> 山口県岩国土木建築事務所 | P4: =+'様式B (1)'!$S$4 -> 小笠原洋
B5: 写真 番号 | C5: 覆工スパン 番号 | E5: S3 | M5: 写真 番号 | N5: 覆工スパン 番号 | P5: S3
C6: 変状番号 | E6: 2 | N6: 変状番号 | P6: 3
B7: 変状 部位 | C7: 対象箇所 | E7: 路面 | M7: 変状 部位 | N7: 対象箇所 | P7: 路面
C8: 部位区分 | E8: 側溝 | N8: 部位区分 | P8: 側溝
B9: 変状種類 | E9: その他 | M9: 変状種類 | P9: その他
B10: 対策 区分 | C10: 変状区分 | M10: 対策 区分 | N10: 変状区分
C11: 応急措置前 | N11: 応急措置前
C12: 応急措置後 | N12: 応急措置後
B13: 変状の発生範囲及び規模 | E13: － | H13: 前回変状の発生範囲及び規模 | J13: 0.1m×10.5m | M13: 変状の発生範囲及び規模 | P13: － | S13: 前回変状の発生範囲及び規模 | U13: 0.1m×10.5m
B14: 対策履歴 | H14: 実施状況（実施日） | M14: 対策履歴 | S14: 実施状況（実施日）
B15: メモ | E15: 0.1m×10.5mの左側側溝の土砂堆積 （写真番号S3-2・前回Ⅱb判定） | M15: メモ | P15: 0.1m×10.5mの右側側溝の土砂堆積 （写真番号S3-3・前回Ⅱb判定）
B16: 写真 番号 | C16: 覆工スパン 番号 | E16: S4 | M16: 写真 番号 | N16: 覆工スパン 番号 | P16: S4
C17: 変状番号 | E17: 1 | N17: 変状番号 | P17: 2
B18: 変状 部位 | C18: 対象箇所 | E18: 路面 | M18: 変状 部位 | N18: 対象箇所 | P18: 路面
C19: 部位区分 | E19: 側溝 | N19: 部位区分 | P19: 側溝
B20: 変状種類 | E20: その他 | M20: 変状種類 | P20: その他
B21: 対策 区分 | C21: 変状区分 | M21: 対策 区分 | N21: 変状区分
C22: 応急措置前 | N22: 応急措置前
C23: 応急措置後 | N23: 応急措置後
B24: 変状の発生範囲及び規模 | E24: － | H24: 前回変状の発生範囲及び規模 | J24: 0.1m×10.5m | M24: 変状の発生範囲及び規模 | P24: － | S24: 前回変状の発生範囲及び規模 | U24: 0.1m×10.5m
B25: 対策履歴 | H25: 実施状況（実施日） | M25: 対策履歴 | S25: 実施状況（実施日）
B26: メモ | E26: 0.1m×10.5mの左側側溝の土砂堆積 （写真番号S4-1・前回Ⅱb判定） | M26: メモ | P26: 0.1m×10.5mの右側側溝の土砂堆積 （写真番号S4-2・前回Ⅱb判定）
C27: ※ 応急措置後の対策区分について添付すること。また、点検前に 実施された措置によりⅠと判定された箇所も添付すること。 | N27: ※ 変状の発生範囲の規模とは、対策を行う際に参考となる変状の長さや面積をいう。
N28: ※ 応急措置を実施しないで決定した変状の対策区分は、対策区分の応急措置後の欄に記入すること。
C29: ※ たたき落としを実施した場合は、実施後の写真を添付すること。 | N29: ※ 変状の発生範囲の規模は、面積・寸法を記載すること。(ひび割れ幅のみmmとし、その他をm表記とする)
C30: ※ 附属物の取付状態に関する異常写真は別途、任意の書式でとりまとめること。 | N30: ※ 構造用鋼材以外の異物に伴ううき・はく離については、メモ欄に異物の概要を記入すること。

Sheet 様式D-1-1 (3)
B2: ■定期点検記録様式 変状写真台帳【様式D-1-1】 | R2: 施設ID | T2: =+'様式A-1'!$W$2 -> 34.19214,132.18042
B3: フリガナ | E3: =+'様式A-1'!$D$3 -> セキセキトンネル | H3: 路 線 名 | J3: =+'様式A-1'!$J$3 -> 主要地方道岩国大竹線 | M3: 定期点検実施者 | P3: =+'様式B (1)'!$S$3 -> 復建調査設計株式会社 | S3: 定期点検年月日 | U3: =+'様式B (1)'!$P$2 -> 45853
B4: 名 称 | E4: =+'様式A-1'!$D$4 -> 関々トンネル | H4: 管理者名 | J4: =+'様式A-1'!$R$3 -> 山口県岩国土木建築事務所 | P4: =+'様式B (1)'!$S$4 -> 小笠原洋
B5: 写真 番号 | C5: 覆工スパン 番号 | E5: S5 | M5: 写真 番号 | N5: 覆工スパン 番号 | P5: S5
C6: 変状番号 | E6: 1 | N6: 変状番号 | P6: 2
B7: 変状 部位 | C7: 対象箇所 | E7: 路面 | M7: 変状 部位 | N7: 対象箇所 | P7: 路面
C8: 部位区分 | E8: 側溝 | N8: 部位区分 | P8: 側溝
B9: 変状種類 | E9: その他 | M9: 変状種類 | P9: その他
B10: 対策 区分 | C10: 変状区分 | M10: 対策 区分 | N10: 変状区分
C11: 応急措置前 | N11: 応急措置前
C12: 応急措置後 | N12: 応急措置後
B13: 変状の発生範囲及び規模 | E13: － | H13: 前回変状の発生範囲及び規模 | J13: 0.1m×10.5m | M13: 変状の発生範囲及び規模 | P13: － | S13: 前回変状の発生範囲及び規模 | U13: 0.1m×7.0m
B14: 対策履歴 | H14: 実施状況（実施日） | M14: 対策履歴 | S14: 実施状況（実施日）
B15: メモ | E15: 0.1m×10.5mの左側側溝の土砂堆積 （写真番号S5-1・前回Ⅱb判定） | M15: メモ | P15: 0.1m×10.5mの右側側溝の土砂堆積 （写真番号S5-2・前回Ⅱb判定）
B16: 写真 番号 | C16: 覆工スパン 番号 | E16: S6 | M16: 写真 番号 | N16: 覆工スパン 番号 | P16: S7
C17: 変状番号 | E17: 1 | N17: 変状番号 | P17: 1
B18: 変状 部位 | C18: 対象箇所 | E18: 路面 | M18: 変状 部位 | N18: 対象箇所 | P18: 路面
C19: 部位区分 | E19: 側溝 | N19: 部位区分 | P19: 側溝
B20: 変状種類 | E20: その他 | M20: 変状種類 | P20: その他
B21: 対策 区分 | C21: 変状区分 | M21: 対策 区分 | N21: 変状区分
C22: 応急措置前 | N22: 応急措置前
C23: 応急措置後 | N23: 応急措置後
B24: 変状の発生範囲及び規模 | E24: － | H24: 前回変状の発生範囲及び規模 | J24: 0.1m×10.5m | M24: 変状の発生範囲及び規模 | P24: － | S24: 前回変状の発生範囲及び規模 | U24: 0.1m×10.5m
B25: 対策履歴 | H25: 実施状況（実施日） | M25: 対策履歴 | S25: 実施状況（実施日）
B26: メモ | E26: 0.1m×10.5mの左側側溝の土砂堆積 （写真番号S6-1・前回Ⅱb判定） | M26: メモ | P26: 0.1m×10.5mの左側側溝の土砂堆積 （写真番号S7-1・前回Ⅱb判定）
C27: ※ 応急措置後の対策区分について添付すること。また、点検前に 実施された措置によりⅠと判定された箇所も添付すること。 | N27: ※ 変状の発生範囲の規模とは、対策を行う際に参考となる変状の長さや面積をいう。
N28: ※ 応急措置を実施しないで決定した変状の対策区分は、対策区分の応急措置後の欄に記入すること。
C29: ※ たたき落としを実施した場合は、実施後の写真を添付すること。 | N29: ※ 変状の発生範囲の規模は、面積・寸法を記載すること。(ひび割れ幅のみmmとし、その他をm表記とする)
C30: ※ 附属物の取付状態に関する異常写真は別途、任意の書式でとりまとめること。 | N30: ※ 構造用鋼材以外の異物に伴ううき・はく離については、メモ欄に異物の概要を記入すること。

Sheet 様式D-1-1 (4)
B2: ■定期点検記録様式 変状写真台帳【様式D-1-1】 | R2: 施設ID | T2: =+'様式A-1'!$W$2 -> 34.19214,132.18042
B3: フリガナ | E3: =+'様式A-1'!$D$3 -> セキセキトンネル | H3: 路 線 名 | J3: =+'様式A-1'!$J$3 -> 主要地方道岩国大竹線 | M3: 定期点検実施者 | P3: =+'様式B (1)'!$S$3 -> 復建調査設計株式会社 | S3: 定期点検年月日 | U3: =+'様式B (1)'!$P$2 -> 45853
B4: 名 称 | E4: =+'様式A-1'!$D$4 -> 関々トンネル | H4: 管理者名 | J4: =+'様式A-1'!$R$3 -> 山口県岩国土木建築事務所 | P4: =+'様式B (1)'!$S$4 -> 小笠原洋
B5: 写真 番号 | C5: 覆工スパン 番号 | E5: S8 | M5: 写真 番号 | N5: 覆工スパン 番号 | P5: S9
C6: 変状番号 | E6: 1 | N6: 変状番号 | P6: 1
B7: 変状 部位 | C7: 対象箇所 | E7: 路面 | M7: 変状 部位 | N7: 対象箇所 | P7: 覆工
C8: 部位区分 | E8: 側溝 | N8: 部位区分 | P8: アーチ（右側）
B9: 変状種類 | E9: その他 | M9: 変状種類 | P9: 鋼材腐食
B10: 対策 区分 | C10: 変状区分 | M10: 対策 区分 | N10: 変状区分 | P10: 材質劣化
C11: 応急措置前 | N11: 応急措置前
C12: 応急措置後 | N12: 応急措置後 | P12: Ⅱb
B13: 変状の発生範囲及び規模 | E13: － | H13: 前回変状の発生範囲及び規模 | J13: 0.1m×10.5m | M13: 変状の発生範囲及び規模 | P13: 0.05m×0.05m | S13: 前回変状の発生範囲及び規模 | U13: 0.05m×0.05m
B14: 対策履歴 | H14: 実施状況（実施日） | M14: 対策履歴 | P14: 監視(日常巡視) | S14: 実施状況（実施日）
B15: メモ | E15: 0.1m×10.5mの左側側溝の土砂堆積 （写真番号S8-1・前回Ⅱb判定） | M15: メモ | P15: 0.05m×0.05mの鋼材腐食、鋼材の表面的な錆び、構造鉄筋の可能性は低い （写真番号S9-1・前回Ⅱb判定）
B16: 写真 番号 | C16: 覆工スパン 番号 | E16: S9 | M16: 写真 番号 | N16: 覆工スパン 番号 | P16: S9
C17: 変状番号 | E17: 2 | N17: 変状番号 | P17: 3
B18: 変状 部位 | C18: 対象箇所 | E18: 覆工 | M18: 変状 部位 | N18: 対象箇所 | P18: 路面
C19: 部位区分 | E19: 側壁（右側） | N19: 部位区分 | P19: 側溝
B20: 変状種類 | E20: 漏水 | M20: 変状種類 | P20: その他
B21: 対策 区分 | C21: 変状区分 | E21: 漏水 | M21: 対策 区分 | N21: 変状区分
C22: 応急措置前 | N22: 応急措置前
C23: 応急措置後 | E23: Ⅱb | N23: 応急措置後
B24: 変状の発生範囲及び規模 | E24: 1.8m×1.7m | H24: 前回変状の発生範囲及び規模 | J24: 1.8m×1.5m | M24: 変状の発生範囲及び規模 | P24: － | S24: 前回変状の発生範囲及び規模 | U24: 0.1m×10.5m
B25: 対策履歴 | E25: 監視(日常巡視) | H25: 実施状況（実施日） | M25: 対策履歴 | S25: 実施状況（実施日）
B26: メモ | E26: ひび割れからの漏水跡 （写真番号S9-2・前回Ⅱb判定） | M26: メモ | P26: 0.1m×10.5mの左側側溝の土砂堆積 （写真番号S9-3・前回Ⅱb判定）
C27: ※ 応急措置後の対策区分について添付すること。また、点検前に 実施された措置によりⅠと判定された箇所も添付すること。 | N27: ※ 変状の発生範囲の規模とは、対策を行う際に参考となる変状の長さや面積をいう。
N28: ※ 応急措置を実施しないで決定した変状の対策区分は、対策区分の応急措置後の欄に記入すること。
C29: ※ たたき落としを実施した場合は、実施後の写真を添付すること。 | N29: ※ 変状の発生範囲の規模は、面積・寸法を記載すること。(ひび割れ幅のみmmとし、その他をm表記とする)
C30: ※ 附属物の取付状態に関する異常写真は別途、任意の書式でとりまとめること。 | N30: ※ 構造用鋼材以外の異物に伴ううき・はく離については、メモ欄に異物の概要を記入すること。

Sheet 様式D-1-1 (5)
B2: ■定期点検記録様式 変状写真台帳【様式D-1-1】 | R2: 施設ID | T2: =+'様式A-1'!$W$2 -> 34.19214,132.18042
B3: フリガナ | E3: =+'様式A-1'!$D$3 -> セキセキトンネル | H3: 路 線 名 | J3: =+'様式A-1'!$J$3 -> 主要地方道岩国大竹線 | M3: 定期点検実施者 | P3: =+'様式B (1)'!$S$3 -> 復建調査設計株式会社 | S3: 定期点検年月日 | U3: =+'様式B (1)'!$P$2 -> 45853
B4: 名 称 | E4: =+'様式A-1'!$D$4 -> 関々トンネル | H4: 管理者名 | J4: =+'様式A-1'!$R$3 -> 山口県岩国土木建築事務所 | P4: =+'様式B (1)'!$S$4 -> 小笠原洋
B5: 写真 番号 | C5: 覆工スパン 番号 | E5: S10 | M5: 写真 番号 | N5: 覆工スパン 番号 | P5: S10
C6: 変状番号 | E6: 1 | N6: 変状番号 | P6: 2
B7: 変状 部位 | C7: 対象箇所 | E7: 覆工 | M7: 変状 部位 | N7: 対象箇所 | P7: 路面
C8: 部位区分 | E8: 側壁（右側） | N8: 部位区分 | P8: 側溝
B9: 変状種類 | E9: うき・はく離 | M9: 変状種類 | P9: その他
B10: 対策 区分 | C10: 変状区分 | E10: 材質劣化 | M10: 対策 区分 | N10: 変状区分
C11: 応急措置前 | N11: 応急措置前
C12: 応急措置後 | E12: Ⅱb | N12: 応急措置後
B13: 変状の発生範囲及び規模 | E13: 0.4m×0.1m | H13: 前回変状の発生範囲及び規模 | J13: 0.4m×0.1m | M13: 変状の発生範囲及び規模 | P13: － | S13: 前回変状の発生範囲及び規模 | U13: 0.1m×10.5m
B14: 対策履歴 | E14: 監視(日常巡視) | H14: 実施状況（実施日） | M14: 対策履歴 | S14: 実施状況（実施日）
B15: メモ | E15: 0.4m×0.1mの横断方向目地に閉合してブロック化したひび割れ、打音異常なし、進行は確認されない （写真番号S10-1・前回Ⅱb判定） | M15: メモ | P15: 0.1m×10.5mの左側側溝の土砂堆積 （写真番号S10-2・前回Ⅱb判定）
B16: 写真 番号 | C16: 覆工スパン 番号 | E16: S11 | M16: 写真 番号 | N16: 覆工スパン 番号 | P16: S11
C17: 変状番号 | E17: 1 | N17: 変状番号 | P17: 2
B18: 変状 部位 | C18: 対象箇所 | E18: 覆工 | M18: 変状 部位 | N18: 対象箇所 | P18: 路面
C19: 部位区分 | E19: 側壁（右側） | N19: 部位区分 | P19: 側溝
B20: 変状種類 | E20: 漏水 | M20: 変状種類 | P20: その他
B21: 対策 区分 | C21: 変状区分 | E21: 漏水 | M21: 対策 区分 | N21: 変状区分
C22: 応急措置前 | N22: 応急措置前
C23: 応急措置後 | E23: Ⅱb | N23: 応急措置後
B24: 変状の発生範囲及び規模 | E24: 1.5m×0.4m | H24: 前回変状の発生範囲及び規模 | J24: 1.7m×1.1m | M24: 変状の発生範囲及び規模 | P24: － | S24: 前回変状の発生範囲及び規模 | U24: 0.1m×10.5m
B25: 対策履歴 | E25: 監視(日常巡視) | H25: 実施状況（実施日） | M25: 対策履歴 | S25: 実施状況（実施日）
B26: メモ | E26: 1.5m×0.4mのひび割れからの漏水、にじみ （写真番号S11-1・前回Ⅱb判定） | M26: メモ | P26: 0.1m×10.5mの左側側溝の土砂堆積 （写真番号S11-2・前回Ⅱb判定）
C27: ※ 応急措置後の対策区分について添付すること。また、点検前に 実施された措置によりⅠと判定された箇所も添付すること。 | N27: ※ 変状の発生範囲の規模とは、対策を行う際に参考となる変状の長さや面積をいう。
N28: ※ 応急措置を実施しないで決定した変状の対策区分は、対策区分の応急措置後の欄に記入すること。
C29: ※ たたき落としを実施した場合は、実施後の写真を添付すること。 | N29: ※ 変状の発生範囲の規模は、面積・寸法を記載すること。(ひび割れ幅のみmmとし、その他をm表記とする)
C30: ※ 附属物の取付状態に関する異常写真は別途、任意の書式でとりまとめること。 | N30: ※ 構造用鋼材以外の異物に伴ううき・はく離については、メモ欄に異物の概要を記入すること。

Sheet 様式D-1-1 (6)
B2: ■定期点検記録様式 変状写真台帳【様式D-1-1】 | R2: 施設ID | T2: =+'様式A-1'!$W$2 -> 34.19214,132.18042
B3: フリガナ | E3: =+'様式A-1'!$D$3 -> セキセキトンネル | H3: 路 線 名 | J3: =+'様式A-1'!$J$3 -> 主要地方道岩国大竹線 | M3: 定期点検実施者 | P3: =+'様式B (1)'!$S$3 -> 復建調査設計株式会社 | S3: 定期点検年月日 | U3: =+'様式B (1)'!$P$2 -> 45853
B4: 名 称 | E4: =+'様式A-1'!$D$4 -> 関々トンネル | H4: 管理者名 | J4: =+'様式A-1'!$R$3 -> 山口県岩国土木建築事務所 | P4: =+'様式B (1)'!$S$4 -> 小笠原洋
B5: 写真 番号 | C5: 覆工スパン 番号 | E5: S12 | M5: 写真 番号 | N5: 覆工スパン 番号 | P5: S12
C6: 変状番号 | E6: 1 | N6: 変状番号 | P6: 2
B7: 変状 部位 | C7: 対象箇所 | E7: 路面 | M7: 変状 部位 | N7: 対象箇所 | P7: 路面
C8: 部位区分 | E8: 側溝 | N8: 部位区分 | P8: 側溝
B9: 変状種類 | E9: その他 | M9: 変状種類 | P9: その他
B10: 対策 区分 | C10: 変状区分 | M10: 対策 区分 | N10: 変状区分
C11: 応急措置前 | N11: 応急措置前
C12: 応急措置後 | N12: 応急措置後
B13: 変状の発生範囲及び規模 | E13: － | H13: 前回変状の発生範囲及び規模 | J13: － | M13: 変状の発生範囲及び規模 | P13: － | S13: 前回変状の発生範囲及び規模 | U13: －
B14: 対策履歴 | H14: 実施状況（実施日） | M14: 対策履歴 | S14: 実施状況（実施日）
B15: メモ | E15: 0.1m×10.5mの左側側溝の土砂堆積 | M15: メモ | P15: 0.1m×10.5mの右側側溝の土砂堆積
B16: 写真 番号 | C16: 覆工スパン 番号 | E16: S13 | M16: 写真 番号 | N16: 覆工スパン 番号 | P16: S13
C17: 変状番号 | E17: 1 | N17: 変状番号 | P17: 2
B18: 変状 部位 | C18: 対象箇所 | E18: 路面 | M18: 変状 部位 | N18: 対象箇所 | P18: 路面
C19: 部位区分 | E19: 側溝 | N19: 部位区分 | P19: 側溝
B20: 変状種類 | E20: その他 | M20: 変状種類 | P20: その他
B21: 対策 区分 | C21: 変状区分 | M21: 対策 区分 | N21: 変状区分
C22: 応急措置前 | N22: 応急措置前
C23: 応急措置後 | N23: 応急措置後
B24: 変状の発生範囲及び規模 | E24: － | H24: 前回変状の発生範囲及び規模 | J24: － | M24: 変状の発生範囲及び規模 | P24: － | S24: 前回変状の発生範囲及び規模 | U24: －
B25: 対策履歴 | H25: 実施状況（実施日） | M25: 対策履歴 | S25: 実施状況（実施日）
B26: メモ | E26: 0.1m×10.5mの左側側溝の土砂堆積 | M26: メモ | P26: 0.1m×10.5mの右側側溝の土砂堆積
C27: ※ 応急措置後の対策区分について添付すること。また、点検前に 実施された措置によりⅠと判定された箇所も添付すること。 | N27: ※ 変状の発生範囲の規模とは、対策を行う際に参考となる変状の長さや面積をいう。
N28: ※ 応急措置を実施しないで決定した変状の対策区分は、対策区分の応急措置後の欄に記入すること。
C29: ※ たたき落としを実施した場合は、実施後の写真を添付すること。 | N29: ※ 変状の発生範囲の規模は、面積・寸法を記載すること。(ひび割れ幅のみmmとし、その他をm表記とする)
C30: ※ 附属物の取付状態に関する異常写真は別途、任意の書式でとりまとめること。 | N30: ※ 構造用鋼材以外の異物に伴ううき・はく離については、メモ欄に異物の概要を記入すること。

Sheet 様式D-1-1 (7)
B2: ■定期点検記録様式 変状写真台帳【様式D-1-1】 | R2: 施設ID | T2: =+'様式A-1'!$W$2 -> 34.19214,132.18042
B3: フリガナ | E3: =+'様式A-1'!$D$3 -> セキセキトンネル | H3: 路 線 名 | J3: =+'様式A-1'!$J$3 -> 主要地方道岩国大竹線 | M3: 定期点検実施者 | P3: =+'様式B (1)'!$S$3 -> 復建調査設計株式会社 | S3: 定期点検年月日 | U3: =+'様式B (1)'!$P$2 -> 45853
B4: 名 称 | E4: =+'様式A-1'!$D$4 -> 関々トンネル | H4: 管理者名 | J4: =+'様式A-1'!$R$3 -> 山口県岩国土木建築事務所 | P4: =+'様式B (1)'!$S$4 -> 小笠原洋
B5: 写真 番号 | C5: 覆工スパン 番号 | E5: S14 | M5: 写真 番号 | N5: 覆工スパン 番号 | P5: S15
C6: 変状番号 | E6: 1 | N6: 変状番号 | P6: 1
B7: 変状 部位 | C7: 対象箇所 | E7: 路面 | M7: 変状 部位 | N7: 対象箇所 | P7: 路面
C8: 部位区分 | E8: 側溝 | N8: 部位区分 | P8: 側溝
B9: 変状種類 | E9: その他 | M9: 変状種類 | P9: その他
B10: 対策 区分 | C10: 変状区分 | M10: 対策 区分 | N10: 変状区分
C11: 応急措置前 | N11: 応急措置前
C12: 応急措置後 | N12: 応急措置後
B13: 変状の発生範囲及び規模 | E13: － | H13: 前回変状の発生範囲及び規模 | J13: － | M13: 変状の発生範囲及び規模 | P13: － | S13: 前回変状の発生範囲及び規模 | U13: －
B14: 対策履歴 | H14: 実施状況（実施日） | M14: 対策履歴 | S14: 実施状況（実施日）
B15: メモ | E15: 0.1m×10.5mの右側側溝の土砂堆積 | M15: メモ | P15: 0.1m×10.5mの右側側溝の土砂堆積
B16: 写真 番号 | C16: 覆工スパン 番号 | E16: S16 | M16: 写真 番号 | N16: 覆工スパン 番号 | P16: S17
C17: 変状番号 | E17: 1 | N17: 変状番号 | P17: 1
B18: 変状 部位 | C18: 対象箇所 | E18: 路面 | M18: 変状 部位 | N18: 対象箇所 | P18: 路面
C19: 部位区分 | E19: 側溝 | N19: 部位区分 | P19: 側溝
B20: 変状種類 | E20: その他 | M20: 変状種類 | P20: その他
B21: 対策 区分 | C21: 変状区分 | M21: 対策 区分 | N21: 変状区分
C22: 応急措置前 | N22: 応急措置前
C23: 応急措置後 | N23: 応急措置後
B24: 変状の発生範囲及び規模 | E24: － | H24: 前回変状の発生範囲及び規模 | J24: － | M24: 変状の発生範囲及び規模 | P24: － | S24: 前回変状の発生範囲及び規模 | U24: －
B25: 対策履歴 | H25: 実施状況（実施日） | M25: 対策履歴 | S25: 実施状況（実施日）
B26: メモ | E26: 0.1m×10.5mの右側側溝の土砂堆積 | M26: メモ | P26: 0.1m×10.5mの右側側溝の土砂堆積
C27: ※ 応急措置後の対策区分について添付すること。また、点検前に 実施された措置によりⅠと判定された箇所も添付すること。 | N27: ※ 変状の発生範囲の規模とは、対策を行う際に参考となる変状の長さや面積をいう。
N28: ※ 応急措置を実施しないで決定した変状の対策区分は、対策区分の応急措置後の欄に記入すること。
C29: ※ たたき落としを実施した場合は、実施後の写真を添付すること。 | N29: ※ 変状の発生範囲の規模は、面積・寸法を記載すること。(ひび割れ幅のみmmとし、その他をm表記とする)
C30: ※ 附属物の取付状態に関する異常写真は別途、任意の書式でとりまとめること。 | N30: ※ 構造用鋼材以外の異物に伴ううき・はく離については、メモ欄に異物の概要を記入すること。

Sheet 様式D-1-1 (8)
B2: ■定期点検記録様式 変状写真台帳【様式D-1-1】 | R2: 施設ID | T2: =+'様式A-1'!$W$2 -> 34.19214,132.18042
B3: フリガナ | E3: =+'様式A-1'!$D$3 -> セキセキトンネル | H3: 路 線 名 | J3: =+'様式A-1'!$J$3 -> 主要地方道岩国大竹線 | M3: 定期点検実施者 | P3: =+'様式B (1)'!$S$3 -> 復建調査設計株式会社 | S3: 定期点検年月日 | U3: =+'様式B (1)'!$P$2 -> 45853
B4: 名 称 | E4: =+'様式A-1'!$D$4 -> 関々トンネル | H4: 管理者名 | J4: =+'様式A-1'!$R$3 -> 山口県岩国土木建築事務所 | P4: =+'様式B (1)'!$S$4 -> 小笠原洋
B5: 写真 番号 | C5: 覆工スパン 番号 | E5: S18 | M5: 写真 番号 | N5: 覆工スパン 番号 | P5: S19
C6: 変状番号 | E6: 1 | N6: 変状番号 | P6: 1
B7: 変状 部位 | C7: 対象箇所 | E7: 路面 | M7: 変状 部位 | N7: 対象箇所 | P7: 路面
C8: 部位区分 | E8: 側溝 | N8: 部位区分 | P8: 側溝
B9: 変状種類 | E9: その他 | M9: 変状種類 | P9: その他
B10: 対策 区分 | C10: 変状区分 | M10: 対策 区分 | N10: 変状区分
C11: 応急措置前 | N11: 応急措置前
C12: 応急措置後 | N12: 応急措置後
B13: 変状の発生範囲及び規模 | E13: － | H13: 前回変状の発生範囲及び規模 | J13: － | M13: 変状の発生範囲及び規模 | P13: － | S13: 前回変状の発生範囲及び規模 | U13: －
B14: 対策履歴 | H14: 実施状況（実施日） | M14: 対策履歴 | S14: 実施状況（実施日）
B15: メモ | E15: 0.1m×10.5mの右側側溝の土砂堆積 | M15: メモ | P15: 0.1m×10.5mの右側側溝の土砂堆積
B16: 写真 番号 | C16: 覆工スパン 番号 | E16: S20 | M16: 写真 番号 | N16: 覆工スパン 番号 | P16: S20
C17: 変状番号 | E17: 1 | N17: 変状番号 | P17: 2
B18: 変状 部位 | C18: 対象箇所 | E18: 覆工 | M18: 変状 部位 | N18: 対象箇所 | P18: 覆工
C19: 部位区分 | E19: アーチ（右側） | N19: 部位区分 | P19: 側壁（右側）
B20: 変状種類 | E20: 鋼材腐食 | M20: 変状種類 | P20: うき・はく離
B21: 対策 区分 | C21: 変状区分 | E21: 材質劣化 | M21: 対策 区分 | N21: 変状区分 | P21: 材質劣化
C22: 応急措置前 | N22: 応急措置前
C23: 応急措置後 | E23: Ⅱb | N23: 応急措置後 | P23: Ⅱb
B24: 変状の発生範囲及び規模 | E24: 0.05m×0.05m | H24: 前回変状の発生範囲及び規模 | J24: 0.05m×0.05m | M24: 変状の発生範囲及び規模 | P24: 0.25m×0.1m | S24: 前回変状の発生範囲及び規模 | U24: 0.6m×0.1m
B25: 対策履歴 | E25: 監視(日常巡視) | H25: 実施状況（実施日） | M25: 対策履歴 | P25: 監視(日常巡視) | S25: 実施状況（実施日）
B26: メモ | E26: 0.05m×0.05mの鋼材腐食、鋼材の表面的な錆び、構造鉄筋の可能性は低い （写真番号S20-1・前回Ⅱb判定） | M26: メモ | P26: 0.25m×0.1mの横断方向目地に閉合してブロック化したひび割れ、打音異常なし、進行は確認されない （写真番号S20-2・前回Ⅱb判定）
C27: ※ 応急措置後の対策区分について添付すること。また、点検前に 実施された措置によりⅠと判定された箇所も添付すること。 | N27: ※ 変状の発生範囲の規模とは、対策を行う際に参考となる変状の長さや面積をいう。
N28: ※ 応急措置を実施しないで決定した変状の対策区分は、対策区分の応急措置後の欄に記入すること。
C29: ※ たたき落としを実施した場合は、実施後の写真を添付すること。 | N29: ※ 変状の発生範囲の規模は、面積・寸法を記載すること。(ひび割れ幅のみmmとし、その他をm表記とする)
C30: ※ 附属物の取付状態に関する異常写真は別途、任意の書式でとりまとめること。 | N30: ※ 構造用鋼材以外の異物に伴ううき・はく離については、メモ欄に異物の概要を記入すること。

Sheet 様式D-1-1 (9)
B2: ■定期点検記録様式 変状写真台帳【様式D-1-1】 | R2: 施設ID | T2: =+'様式A-1'!$W$2 -> 34.19214,132.18042
B3: フリガナ | E3: =+'様式A-1'!$D$3 -> セキセキトンネル | H3: 路 線 名 | J3: =+'様式A-1'!$J$3 -> 主要地方道岩国大竹線 | M3: 定期点検実施者 | P3: =+'様式B (1)'!$S$3 -> 復建調査設計株式会社 | S3: 定期点検年月日 | U3: =+'様式B (1)'!$P$2 -> 45853
B4: 名 称 | E4: =+'様式A-1'!$D$4 -> 関々トンネル | H4: 管理者名 | J4: =+'様式A-1'!$R$3 -> 山口県岩国土木建築事務所 | P4: =+'様式B (1)'!$S$4 -> 小笠原洋
B5: 写真 番号 | C5: 覆工スパン 番号 | E5: S20 | M5: 写真 番号 | N5: 覆工スパン 番号 | P5: S21
C6: 変状番号 | E6: 3 | N6: 変状番号 | P6: 1
B7: 変状 部位 | C7: 対象箇所 | E7: 路面 | M7: 変状 部位 | N7: 対象箇所 | P7: 覆工
C8: 部位区分 | E8: 側溝 | N8: 部位区分 | P8: 側壁（左側）
B9: 変状種類 | E9: その他 | M9: 変状種類 | P9: 漏水
B10: 対策 区分 | C10: 変状区分 | M10: 対策 区分 | N10: 変状区分 | P10: 漏水
C11: 応急措置前 | N11: 応急措置前
C12: 応急措置後 | N12: 応急措置後 | P12: Ⅱb
B13: 変状の発生範囲及び規模 | E13: － | H13: 前回変状の発生範囲及び規模 | J13: － | M13: 変状の発生範囲及び規模 | P13: 1.4m×4.3m | S13: 前回変状の発生範囲及び規模 | U13: 1.4m×0.5m、1.3m×0.2m、1.2m×0.1m、1.1m×0.3m、1.1m×0.5m、1.4m×1.3m
B14: 対策履歴 | H14: 実施状況（実施日） | M14: 対策履歴 | P14: 監視(日常巡視) | S14: 実施状況（実施日）
B15: メモ | E15: 0.1m×10.5mの右側側溝の土砂堆積 | M15: メモ | P15: ひび割れからの漏水跡 （写真番号S21-1～S21-6・前回Ⅱb判定）
B16: 写真 番号 | C16: 覆工スパン 番号 | E16: S21 | M16: 写真 番号 | N16: 覆工スパン 番号 | P16: S21
C17: 変状番号 | E17: 2 | N17: 変状番号 | P17: 3
B18: 変状 部位 | C18: 対象箇所 | E18: 覆工 | M18: 変状 部位 | N18: 対象箇所 | P18: 路面
C19: 部位区分 | E19: 側壁（左側） | N19: 部位区分 | P19: 側溝
B20: 変状種類 | E20: 圧ざ、ひび割れ | M20: 変状種類 | P20: その他
