Workbook
Name その他: '(参考)リスト'!$C$47
Name その他施設: '[1](参考)リスト'!#REF!
Name その他施設: '(参考)リスト'!$C$79:$C$83
Name 換気施設: '[1](参考)リスト'!#REF!
Name 換気施設: '(参考)リスト'!$C$56:$C$60
Name 坑門: '(参考)リスト'!$C$31:$C$32
Name 照明施設: '[1](参考)リスト'!#REF!
Name 照明施設: '(参考)リスト'!$C$52:$C$54
Name 対象箇所: [2]!テーブル1[対象箇所]
Name 天井板: '(参考)リスト'!$C$37:$C$39
Name 内装板: '(参考)リスト'!$C$34:$C$35
Name 非常用施設: '[1](参考)リスト'!#REF!
Name 非常用施設: '(参考)リスト'!$C$62:$C$77
Name 覆工: '(参考)リスト'!$C$16:$C$29
Name 路面: '(参考)リスト'!$C$41:$C$45

Sheet 点検様式作成フロー
A1: 点検様式作成フロ-
A3: 作成フロー図 | H3: 点検調書作成手順
H4: ①様式A-1～A-3（トンネル台帳）
H5: トンネル点検の実施にあたっては，現場点検作業に先行してトンネル情報を収集する。トンネル台帳（様式Ａ－1～様式Ａ－3）はトンネル完成後に作成され，維持管理の段階で引き継がれるが，関連資料等を確認したうえで，追加情報があれば必要に応じて追記することが望ましい。
H9: ②様式D-2-1、様式D-2-1´
H10: 現場点検作業を実施し，近接目視点検で確認した変状状況や補修履歴を忠実に変状展開図に転記する。
H12: ③様式D-1-1、様式D-1-2
H13: 変状展開図や撮影した写真等をもとに，対象トンネルの対策区分を決定し，対策区分がⅡ～Ⅳの変状および異常判定区分「×」を抽出し，写真台帳を作成する。
H16: ④様式B
H17: 写真台帳の作成と同時に，トンネルの構造を展開した位置図に変状写真位置を記録する。
H19: ⑤様式D-3
H20: 変状展開図ならびに写真台帳をもとに覆工スパンごとの変状展開図を作成し，変状発生状況をとりまとめる。
H22: ⑥様式E
H23: 近接目視または打音検査，触診ができていない箇所および近接目視によらない方法を講じた場所に対する調査結果を記録する。
... H33: すること。 ※各ファイルとも （参考）リスト のシートを付けて保存すること。

Sheet 変状面積算出方法
A1: 変状面積算出方法
A26: 注1）外力による変状：ひび割れや圧ざの場合は変状の寸法を記録する。
A27: 例）ひび割れ：長さ（L）×最大ひび割れ幅（t）を記録する。 変形，移動，沈下：数値的な記載が可能な場合のみ記載する。
A28: 注2）材料劣化による：打音異常
A29: 例）うき，はく離（閉合ひび割れ）：変状範囲を包括する寸法（L×W） うき，はく離（ひび割れ沿い）：打音異常箇所を包括する寸法（L×W） 鋼材腐食（鉄筋腐食）：一括した対策が適当と考えられる範囲を包括する寸法（L×W）
A30: 注3）漏水による変状：漏水発生範囲を包括し，垂れ下がりの可能性がある側壁下端まで含めた寸法を，L×Wで記録する。打継ぎ目地沿いの 漏水については目地を跨いだ50cm幅を横幅とする。

Sheet 記入の留意点
B2: トンネルDBでは、Excelに記載された文字や数値・配置された画像を自動的に読込みデータベースへ登録します。
B3: 記録様式へ記入の留意点を下記に示します。
B5: １．記録様式への記入
C6: ➤各セルに表示されるコメントに従って、様式A-1～様式Gのシートに、点検結果（テキスト入力、選択項目）を入力してください。
C7: ➤位置図(様式B)、変状写真(様式D-1-1)、異常写真(様式D-1-2)は記入した変状写真番号等に対応した画像を間違いないように貼り付けてください。
C8: ➤列や行の挿入削除は行わず、セルの位置がずれないようにしてください。データベースへ読み取り時にずれて取り込まれてしまいます。
B11: ２．画像ファイルの配置の注意点
C12: 登録に使用可能な画像ファイルの拡張子は「jpg」「jpeg」「png」の3種類のみです。
C13: 必ず、１か所に画像１枚のみを張り付けてください。エクセルの図形などのオブジェクトは使用しないでください。
C14: 張り付けた画像はエクセルのトリミング機能を使用しないでください。あらかじめ切り抜いた画像を利用してください。
C15: ※１ 画像の左上を必ずセルの内部に含め、はみ出ないようにしてください。
C16: ※２ 図の書式設定で「セルに合わせて移動やサイズを変更しない」のモードを使用しないでください。
C32: ※３ 「挿入」→「画像」→「セルの上に配置」してください。
B41: ３．シート名の連番について
C42: １ページに記載しきれない場合は、１シート内にページを増やすのではなくシート自体をコピーしシート名の末尾を連番にしてください。
C43: 対象様式
C44: 様式B
C45: 様式D-1-1
C46: 様式D-1-2
C47: 様式D-2-1
C48: 様式D-2-1´
C49: 様式D-3_S00 ※スパン名を記載
C50: 様式G
C52: 末尾の連番の形式例
C53: 様式B(1) 様式B(2) 様式B(3)
C54: 様式B_001 様式B_002 様式B_003
... C61: で示される要領を制限するものではありません。

Sheet 様式A-1
B2: ■トンネル台帳 トンネル諸元、非常用施設諸元 【様式A-1】 | S2: 施設ID | W2: 33.96722,130.91500
B3: フリガナ | D3: コンピラトンネル | H3: 路線名 | J3: 福浦港金比羅線 | P3: 管理者名 | R3: 山口県 下関土木建築事務所 | W3: 緊急輸送道路 | Z3: 指定なし
B4: 名 称 | D4: 金比羅トンネル | W4: 代替路の有無 | Z4: 有
B5: 所在地 | D5: 自 | E5: 下関市金比羅町 | H5: 作成者 | K5: アジア航測株式会社 | P5: 作成年月日 | R5: 46069 | U5: トンネル延長 | X5: L= | Z5: 265 | AB5: ｍ
D6: 至 | E6: 下関市金比羅町 | U6: ﾄﾝﾈﾙの分類 | X6: 陸上トンネル（掘進工法）
B7: 起点 | C7: 緯度 | E7: 33.96722 | H7: 完成年月日 | K7: 1975年 | M7: 舗装 | O7: 種 別 | Q7: セメント系 | S7: トンネル非常用施設 | T7: 施設の内訳 | X7: 種別・方式 | Y7: 型式 | Z7: 個数 | AA7: 更新年度
C8: 経度 | E8: 130.915 | H8: 供用年月日 | O8: 厚 さ | Q8: 0.25m | T8: 通報設備 | U8: 通話型通報設備
B9: 終点 | C9: 緯度 | E9: 33.96883 | H9: トンネル区分 | K9: 下線(本線) | O9: 面 積 | Q9: 2332㎡ | U9: 操作型通報設備
C10: 経度 | E10: 130.91758 | H10: 内装種類 | K10: パネル式 | O10: 更新年次 | U10: 自動通報設備
B11: 一般有料区分 | E11: 一般（無料） | H11: 天井板種類 | K11: 内装なし覆工 | M11: 排水 | O11: 種 別 | T11: 警報設備 | U11: 非常警報設備
B12: 土かぶり | G12: m | H12: 坑門 | I12: 起点 | J12: 形式 | K12: 面壁型 | O12: 更新年次 | T12: 消火設備 | U12: 消 火 器
B13: 内空断面積 | E13: 55.1 | G13: m2 | J13: 延長 | L13: m | M13: 施設 | P13: 種別・方式 | Q13: 個数 | R13: 更新年次 | U13: 消火栓設備
B14: 交 通 量 | G14: 台/日 | I14: 終点 | J14: 形式 | K14: 面壁型 | M14: 道路附属物等 | N14: 照明 | P14: LED | Q14: 84 | T14: 避難誘導設備 | U14: 誘導表示設備
C15: 道 路 幅 | E15: 8.8 | G15: m | J15: 延長 | L15: m | N15: 換気 | P15: 自然換気 | U15: 避難情報提供設備
B16: 幅 員 | C16: 車 道 幅 | E16: 3.4 | G16: m | H16: 竣工巻厚 | I16: アーチ | K16: 60～70 | L16: cm | N16: 標識
E17: 3.4 | G17: m | I17: 側 壁 | K17: 60～70 | L17: cm | N17: 警報表示板 | U17: 避難通路
C18: 歩道等幅 | E18: 2 | G18: m | L18: cm | N18: 吸音板 | U18: 排煙設備
B19: 高さ | C19: 建築限界高 | E19: 4.5 | G19: m | I19: インバート | K19: 50 | L19: cm | T19: その他の設備 | U19: 給水栓設備
C20: 中央高 | E20: 6.8 | G20: m | H20: 半径 | I20: アーチ | K20: 480 | L20: cm | U20: 無線通信補助設備
C21: 有効高 | E21: 4.5 | G21: m | I21: 側 壁 | L21: cm | U21: 水噴霧設備
C22: 縦断勾配 | I22: インバート | L22: cm | U22: 監視設備
B23: 線 形 | C23: 直線区間長 | H23: 占用物件 | I23: 種 類 | K23: 寸 法 | M23: 管理者名 | Q23: 更新年次 | S23: 非常用施設 関連設備 | U23: 予備発電設備
C24: 曲線区間 | D24: 区間長 | F24: -
D25: 起点側ｸﾛｿｲﾄﾞ | F25: -
D26: 曲線半径 | F26: -
D27: 終点側ｸﾛｿｲﾄﾞ | F27: - | S27: その他 | U27: 非常駐車帯
B28: トンネル工法 | E28: 矢板工法 | U28: 方向転換所
C29: ※緯度・経度については、秒の小数第二位の単位まで記入すること。

Sheet 様式A-2
B3: ■トンネル台帳 トンネル情報一覧表 【様式A-2】
B4: フリガナ | E4: ='様式A-1'!D3 -> コンピラトンネル | J4: 路線名 | M4: ='様式A-1'!J3 -> 福浦港金比羅線 | S4: 作成者 | Y4: ='様式A-1'!K5 -> アジア航測株式会社 | AE4: 作成年月日 | AI4: ='様式A-1'!R5 -> 46069
B5: 名 称 | E5: ='様式A-1'!D4 -> 金比羅トンネル | J5: 管理者名 | M5: ='様式A-1'!R3 -> 山口県 下関土木建築事務所
B6: 覆工 ｽﾊﾟﾝ 番号 | C6: ｽﾊﾟﾝ長 | D6: 追加距離 | F6: トンネル本体工 | K6: 照明施設 | O6: 非常用施設 | AE6: 換気施設 | AK6: その他附属物等
O7: 通報設備 | R7: 警報設備 | S7: 消火設備 | U7: 避難誘導設備 | Y7: その他の設備 | AC7: 特記事項
D8: 起点側 | E8: 終点側 | F8: 特記事項 | I8: 内装板 | J8: 天井板 | K8: 基本照明 | L8: 入口出口照明 | M8: 特記事項 | O8: 通話型通報設備 | P8: 操作型通報設備 | Q8: 自動通報設備 | R8: 非常警報設備 | S8: 消 火 器 | T8: 消火栓設備 | U8: 誘導表示設備 | V8: 避難情報提供設備 | W8: 避難通路 | X8: 排煙設備 | Y8: 給水栓設備 | Z8: 無線通信補助設備 | AA8: 水噴霧設備 | AB8: 監視設備 | AE8: JF | AF8: VI計 | AG8: CO計 | AH8: 風向 風速計 | AI8: 特記事項
C9: (m) | D9: (m) | E9: (m)
B10: PS | C10: 2.4 | D10: 0 | E10: =C10 -> 2.4 | F10: 坑門（面壁型） | I10: ○ | K10: ○
B11: 1 | C11: 4.5 | D11: =E10 -> 2.4 | E11: =C11+D11 -> 6.9 | I11: ○
B12: 2 | C12: 9 | D12: =E11 -> 6.9 | E12: =C12+D12 -> 15.9 | I12: ○ | K12: ○
B13: 3 | C13: 9 | D13: =E12 -> 15.9 | E13: =C13+D13 -> 24.9 | I13: ○ | K13: ○
B14: 4 | C14: 9 | D14: =E13 -> 24.9 | E14: =C14+D14 -> 33.9 | I14: ○ | K14: ○
B15: 5 | C15: 9 | D15: =E14 -> 33.9 | E15: =C15+D15 -> 42.9 | I15: ○ | K15: ○
B16: 6 | C16: 9 | D16: =E15 -> 42.9 | E16: =C16+D16 -> 51.9 | I16: ○ | K16: ○
B17: 7 | C17: 9 | D17: =E16 -> 51.9 | E17: =C17+D17 -> 60.9 | I17: ○ | K17: ○
B18: 8 | C18: 4.4 | D18: =E17 -> 60.9 | E18: =C18+D18 -> 65.3 | I18: ○ | K18: ○
B19: 9 | C19: 9 | D19: =E18 -> 65.3 | E19: =C19+D19 -> 74.3 | I19: ○ | K19: ○
B20: 10 | C20: 9 | D20: =E19 -> 74.3 | E20: =C20+D20 -> 83.3 | I20: ○ | K20: ○
B21: 11 | C21: 9 | D21: =E20 -> 83.3 | E21: =C21+D21 -> 92.3 | I21: ○ | K21: ○
B22: 12 | C22: 9 | D22: =E21 -> 92.3 | E22: =C22+D22 -> 101.3 | I22: ○ | K22: ○
B23: 13 | C23: 8.9 | D23: =E22 -> 101.3 | E23: =C23+D23 -> 110.2 | I23: ○ | K23: ○
... B41: 31 | C41: 6.8 | D41: =E40 -> 254.2 | E41: =C41+D41 -> 261 | I41: ○ | K41: ○
B42: PE | C42: 4 | D42: =E41 -> 261 | E42: =C42+D42 -> 265 | F42: 坑門（面壁型） | I42: ○ | K42: ○
B48: ※ 行が不足する場合は、適時、表の行を増やすこと。

Sheet 様式A-3
B3: ■トンネル台帳 トンネル記録（位置図、断面図、施工実績他）【様式A-3】
B4: フリガナ | E4: ='様式A-1'!D3 -> コンピラトンネル | J4: 路線名 | M4: ='様式A-1'!J3 -> 福浦港金比羅線 | S4: 作成者 | W4: ='様式A-1'!K5 -> アジア航測株式会社 | AC4: 作成年月日 | AF4: ='様式A-1'!R5 -> 46069
B5: 名 称 | E5: ='様式A-1'!D4 -> 金比羅トンネル | J5: 管理者名 | M5: ='様式A-1'!R3 -> 山口県 下関土木建築事務所
B6: 位置図・現況写真・標準断面図・地質縦断図・施工実績
B19: 位置図・現況写真・標準断面図・地質縦断図・施工実績

Sheet 様式B (1)
B2: ■定期点検記録様式 トンネル変状・異常箇所写真位置図 【様式B】 | N2: 定期点検年月日 | P2: 45903 | S2: 施設ID | V2: 33.96722,130.91500
B3: フリガナ | C3: ='様式A-1'!D3 -> コンピラトンネル | G3: 路線名 | H3: ='様式A-1'!J3 -> 福浦港金比羅線 | K3: 管理者名 | L3: ='様式A-1'!R3 -> 山口県 下関土木建築事務所 | Q3: 定期点検実施者 | S3: アジア航測株式会社 | V3: 起点 | W3: 緯度 | X3: 33.96722
B4: 名 称 | C4: ='様式A-1'!D4 -> 金比羅トンネル | S4: 飯田 琢巳 | W4: 経度 | X4: 130.91500
B5: 所在地 | C5: 自 | D5: ='様式A-1'!E5 -> 下関市金比羅町 | G5: トンネル工法 | I5: 矢板工法 | L5: トンネル延長 | N5: L= | O5: ='様式A-1'!Z5 -> 265 | P5: ｍ | Q5: 自専道 or 一般道 | R5: 一般道 | S5: 代替路の有無 | U5: 有 | V5: 終点 | W5: 緯度 | X5: 33.96883
C6: 至 | D6: ='様式A-1'!E6 -> 下関市金比羅町 | G6: 建設年度 | I6: ='様式A-1'!K7 -> 1975年 | L6: 幅員 | N6: L= | O6: ='様式A-1'!E15 -> 8.8 | P6: ｍ | S6: 緊急輸送道路 | W6: 経度 | X6: 130.91758
B7: トンネル毎 の健全性の 診断の区分 | D7: Ⅱ
G8: 変状・異常 箇所数合計 | I8: トンネル本体工 | J8: 材質劣化 | K8: Ⅱ | L8: 43 | N8: Ⅲ | O8: 0 | Q8: Ⅳ | R8: 0 | T8: 附属物等 の取付状態 | V8: ◯ （応急措置後)
J9: 漏水 | K9: Ⅱ | L9: 49 | N9: Ⅲ | O9: 0 | Q9: Ⅳ | R9: 0
V10: ✕ | X10: 3
J11: 外力 | K11: Ⅱ | L11: 2 | N11: Ⅲ | O11: 0 | Q11: Ⅳ | R11: 0
B12: トンネル変状・異常箇所写真位置図
J29: 注１：本位置図は、見下げた状態で記載すること。 注２：覆工スパン番号は横断目地毎(矢板工法の場合は上半アーチの 横断目地毎)に設定すること。 | Q29: 注３：写真番号に付する変状番号は、各覆工スパンの変状に対して新たに確認された場合 は順次追加していくこと。 注４：横断目地の変状は前の覆工スパン番号で計上すること。 注５：１枚に収まらない場合は、複数枚に分けて作成すること。
C30: ※1 トンネル本体工の変状数は、材質劣化、漏水に起因するものは変状単位で、外力に起因するものはスパン単位で計上すること。
C31: ※2 トンネル本体工の変状に対しては、措置の必要性（Ⅱ～Ⅳ）について表記すること。また、点検前に実施された措置によりⅠと判定された箇所についても記載すること。
C32: ※3 附属物等の取付状態の○欄については、応急措置前に判定区分×とした箇所のうち応急措置により○判定とした箇所の数を記入すること。
C33: ※4 附属物等の異常番号は、本体工と番号が重複しないよう101番以降とする等の配慮を行い、分かりやすく記録すること。

Sheet 様式B (2)
B2: ■定期点検記録様式 トンネル変状・異常箇所写真位置図 【様式B】 | N2: 定期点検年月日 | P2: ='様式B (1)'!P2 -> 45903 | S2: 施設ID | V2: 33.96722,130.91500
B3: フリガナ | C3: ='様式A-1'!D3 -> コンピラトンネル | G3: 路線名 | H3: ='様式A-1'!J3 -> 福浦港金比羅線 | K3: 管理者名 | L3: ='様式A-1'!R3 -> 山口県 下関土木建築事務所 | Q3: 定期点検実施者 | S3: アジア航測株式会社 | V3: 起点 | W3: 緯度 | X3: 33.96722
B4: 名 称 | C4: ='様式A-1'!D4 -> 金比羅トンネル | S4: 飯田 琢巳 | W4: 経度 | X4: 130.91500
B5: 所在地 | C5: 自 | D5: ='様式A-1'!E5 -> 下関市金比羅町 | G5: トンネル工法 | I5: 矢板工法 | L5: トンネル延長 | N5: L= | O5: ='様式A-1'!Z5 -> 265 | P5: ｍ | Q5: 自専道 or 一般道 | R5: 一般道 | S5: 代替路の有無 | U5: 有 | V5: 終点 | W5: 緯度 | X5: 33.96883
C6: 至 | D6: ='様式A-1'!E6 -> 下関市金比羅町 | G6: 建設年度 | I6: ='様式A-1'!K7 -> 1975年 | L6: 幅員 | N6: L= | O6: ='様式A-1'!E15 -> 8.8 | P6: ｍ | S6: 緊急輸送道路 | W6: 経度 | X6: 130.91758
B7: トンネル毎 の健全性の 診断の区分 | D7: Ⅱ
G8: 変状・異常 箇所数合計 | I8: トンネル本体工 | J8: 材質劣化 | K8: Ⅱ | L8: 43 | N8: Ⅲ | O8: 0 | Q8: Ⅳ | R8: 0 | T8: 附属物等 の取付状態 | V8: ◯ （応急措置後)
J9: 漏水 | K9: Ⅱ | L9: 49 | N9: Ⅲ | O9: 0 | Q9: Ⅳ | R9: 0
V10: ✕ | X10: 3
J11: 外力 | K11: Ⅱ | L11: 2 | N11: Ⅲ | O11: 0 | Q11: Ⅳ | R11: 0
B12: トンネル変状・異常箇所写真位置図
J29: 注１：本位置図は、見下げた状態で記載すること。 注２：覆工スパン番号は横断目地毎(矢板工法の場合は上半アーチの 横断目地毎)に設定すること。 | Q29: 注３：写真番号に付する変状番号は、各覆工スパンの変状に対して新たに確認された場合 は順次追加していくこと。 注４：横断目地の変状は前の覆工スパン番号で計上すること。 注５：１枚に収まらない場合は、複数枚に分けて作成すること。
C30: ※1 トンネル本体工の変状数は、材質劣化、漏水に起因するものは変状単位で、外力に起因するものはスパン単位で計上すること。
C31: ※2 トンネル本体工の変状に対しては、措置の必要性（Ⅱ～Ⅳ）について表記すること。また、点検前に実施された措置によりⅠと判定された箇所についても記載すること。
C32: ※3 附属物等の取付状態の○欄については、応急措置前に判定区分×とした箇所のうち応急措置により○判定とした箇所の数を記入すること。
C33: ※4 附属物等の異常番号は、本体工と番号が重複しないよう101番以降とする等の配慮を行い、分かりやすく記録すること。

Sheet 様式B (3)
B2: ■定期点検記録様式 トンネル変状・異常箇所写真位置図 【様式B】 | N2: 定期点検年月日 | P2: ='様式B (1)'!P2 -> 45903 | S2: 施設ID | V2: 33.96722,130.91500
B3: フリガナ | C3: ='様式A-1'!D3 -> コンピラトンネル | G3: 路線名 | H3: ='様式A-1'!J3 -> 福浦港金比羅線 | K3: 管理者名 | L3: ='様式A-1'!R3 -> 山口県 下関土木建築事務所 | Q3: 定期点検実施者 | S3: アジア航測株式会社 | V3: 起点 | W3: 緯度 | X3: 33.96722
B4: 名 称 | C4: ='様式A-1'!D4 -> 金比羅トンネル | S4: 飯田 琢巳 | W4: 経度 | X4: 130.91500
B5: 所在地 | C5: 自 | D5: ='様式A-1'!E5 -> 下関市金比羅町 | G5: トンネル工法 | I5: 矢板工法 | L5: トンネル延長 | N5: L= | O5: ='様式A-1'!Z5 -> 265 | P5: ｍ | Q5: 自専道 or 一般道 | R5: 一般道 | S5: 代替路の有無 | U5: 有 | V5: 終点 | W5: 緯度 | X5: 33.96883
C6: 至 | D6: ='様式A-1'!E6 -> 下関市金比羅町 | G6: 建設年度 | I6: ='様式A-1'!K7 -> 1975年 | L6: 幅員 | N6: L= | O6: ='様式A-1'!E15 -> 8.8 | P6: ｍ | S6: 緊急輸送道路 | W6: 経度 | X6: 130.91758
B7: トンネル毎 の健全性の 診断の区分 | D7: Ⅱ
G8: 変状・異常 箇所数合計 | I8: トンネル本体工 | J8: 材質劣化 | K8: Ⅱ | L8: 43 | N8: Ⅲ | O8: 0 | Q8: Ⅳ | R8: 0 | T8: 附属物等 の取付状態 | V8: ◯ （応急措置後)
J9: 漏水 | K9: Ⅱ | L9: 49 | N9: Ⅲ | O9: 0 | Q9: Ⅳ | R9: 0
V10: ✕ | X10: 3
J11: 外力 | K11: Ⅱ | L11: 2 | N11: Ⅲ | O11: 0 | Q11: Ⅳ | R11: 0
B12: トンネル変状・異常箇所写真位置図
J29: 注１：本位置図は、見下げた状態で記載すること。 注２：覆工スパン番号は横断目地毎(矢板工法の場合は上半アーチの 横断目地毎)に設定すること。 | Q29: 注３：写真番号に付する変状番号は、各覆工スパンの変状に対して新たに確認された場合 は順次追加していくこと。 注４：横断目地の変状は前の覆工スパン番号で計上すること。 注５：１枚に収まらない場合は、複数枚に分けて作成すること。
C30: ※1 トンネル本体工の変状数は、材質劣化、漏水に起因するものは変状単位で、外力に起因するものはスパン単位で計上すること。
C31: ※2 トンネル本体工の変状に対しては、措置の必要性（Ⅱ～Ⅳ）について表記すること。また、点検前に実施された措置によりⅠと判定された箇所についても記載すること。
C32: ※3 附属物等の取付状態の○欄については、応急措置前に判定区分×とした箇所のうち応急措置により○判定とした箇所の数を記入すること。
C33: ※4 附属物等の異常番号は、本体工と番号が重複しないよう101番以降とする等の配慮を行い、分かりやすく記録すること。

Sheet 様式B (4)
B2: ■定期点検記録様式 トンネル変状・異常箇所写真位置図 【様式B】 | N2: 定期点検年月日 | P2: ='様式B (1)'!P2 -> 45903 | S2: 施設ID | V2: ='様式A-1'!W2 -> 33.96722,130.91500
B3: フリガナ | C3: ='様式A-1'!D3 -> コンピラトンネル | G3: 路線名 | H3: ='様式A-1'!J3 -> 福浦港金比羅線 | K3: 管理者名 | L3: ='様式A-1'!R3 -> 山口県 下関土木建築事務所 | Q3: 定期点検実施者 | S3: アジア航測株式会社 | V3: 起点 | W3: 緯度 | X3: ='様式A-1'!E7 -> 33.96722
B4: 名 称 | C4: ='様式A-1'!D4 -> 金比羅トンネル | S4: 飯田 琢巳 | W4: 経度 | X4: ='様式A-1'!E8 -> 130.915
B5: 所在地 | C5: 自 | D5: ='様式A-1'!E5 -> 下関市金比羅町 | G5: トンネル工法 | I5: 矢板工法 | L5: トンネル延長 | N5: L= | O5: ='様式A-1'!Z5 -> 265 | P5: ｍ | Q5: 自専道 or 一般道 | R5: 一般道 | S5: 代替路の有無 | U5: 有 | V5: 終点 | W5: 緯度 | X5: ='様式A-1'!E9 -> 33.96883
C6: 至 | D6: ='様式A-1'!E6 -> 下関市金比羅町 | G6: 建設年度 | I6: ='様式A-1'!K7 -> 1975年 | L6: 幅員 | N6: L= | O6: ='様式A-1'!E15 -> 8.8 | P6: ｍ | S6: 緊急輸送道路 | W6: 経度 | X6: ='様式A-1'!E10 -> 130.91758
B7: トンネル毎 の健全性の 診断の区分 | D7: Ⅱ
G8: 変状・異常 箇所数合計 | I8: トンネル本体工 | J8: 材質劣化 | K8: Ⅱ | L8: 41 | N8: Ⅲ | O8: 0 | Q8: Ⅳ | R8: 0 | T8: 附属物等 の取付状態 | V8: ◯ （応急措置後)
J9: 漏水 | K9: Ⅱ | L9: 48 | N9: Ⅲ | O9: 0 | Q9: Ⅳ | R9: 0
V10: ✕ | X10: 1
J11: 外力 | K11: Ⅱ | L11: 2 | N11: Ⅲ | O11: 0 | Q11: Ⅳ | R11: 0
B12: トンネル変状・異常箇所写真位置図
J29: 注１：本位置図は、見下げた状態で記載すること。 注２：覆工スパン番号は横断目地毎(矢板工法の場合は上半アーチの 横断目地毎)に設定すること。 | Q29: 注３：写真番号に付する変状番号は、各覆工スパンの変状に対して新たに確認された場合 は順次追加していくこと。 注４：横断目地の変状は前の覆工スパン番号で計上すること。 注５：１枚に収まらない場合は、複数枚に分けて作成すること。
C30: ※1 トンネル本体工の変状数は、材質劣化、漏水に起因するものは変状単位で、外力に起因するものはスパン単位で計上すること。
C31: ※2 トンネル本体工の変状に対しては、措置の必要性（Ⅱ～Ⅳ）について表記すること。また、点検前に実施された措置によりⅠと判定された箇所についても記載すること。
C32: ※3 附属物等の取付状態の○欄については、応急措置前に判定区分×とした箇所のうち応急措置により○判定とした箇所の数を記入すること。
C33: ※4 附属物等の異常番号は、本体工と番号が重複しないよう101番以降とする等の配慮を行い、分かりやすく記録すること。

Sheet 様式C-1-1
B2: ■定期点検記録様式 全スパン定期点検結果総括表（トンネル本体工） 【様式C-1-1】
B3: フリガナ | F3: ='様式A-1'!D3 -> コンピラトンネル | I3: 路線名 | K3: ='様式A-1'!J3 -> 福浦港金比羅線 | O3: 定期点検実施者 | P3: ='様式B (1)'!S3 -> アジア航測株式会社 | T3: 定期点検年月日 | X3: ='様式B (1)'!P2 -> 45903
B4: 名 称 | F4: ='様式A-1'!D4 -> 金比羅トンネル | I4: 管理者名 | K4: ='様式A-1'!R3 -> 山口県 下関土木建築事務所 | P4: ='様式B (1)'!S4 -> 飯田 琢巳
C5: 覆工 スパン 番号 | E5: 変状 番号 | F5: 距離 （m） | G5: 変状部位 | I5: 変 状 の 内 容 | O5: 前回定期点検時の状態 | P5: 今回定期点検結果 | T5: 措置履歴 | Y5: 対応方針 ・ 特記事項
O6: 44268
G7: 対象箇所 | H7: 部位区分 | I7: 変状区分 | J7: 変状種類 | M7: 変状の発生範囲の規模 | N7: 前回定期点検時の変状の発生範囲及び規模 | O7: 対策区分 | P7: 対策区分 | R7: 調査の 要否 | S7: 措置の 要否 | T7: 実施 | U7: 措置の実施状況
P8: 応急措置前 | Q8: 応急措置後
B9: 定期点検結果 | C9: PS | E9: 1 | F9: 0 | G9: 坑門 | H9: 面壁・妻壁等 | I9: 漏水 | J9: 漏水 | M9: 2.88 | N9: - | O9: Ⅱb | P9: － | Q9: Ⅱb | R9: 否 | S9: 要監視 | T9: 未 | U9: － | Y9: 継続監視
C10: PS | E10: 2 | F10: 0 | G10: 坑門 | H10: 面壁・妻壁等 | I10: 材質劣化 | J10: うき・はく離 | M10: 0.02 | N10: 0.0075 | O10: Ⅱb | P10: － | Q10: Ⅰ | R10: 否 | S10: 否 | T10: 未 | U10: － | Y10: 判定見直し
C11: PS | E11: 3 | F11: 0 | G11: 坑門 | H11: 面壁・妻壁等 | I11: 材質劣化 | J11: 圧ざ、ひび割れ | M11: 0.06 | N11: 0.06 | O11: Ⅱb | P11: － | Q11: Ⅱb | R11: 否 | S11: 要監視 | T11: 未 | U11: － | Y11: 継続監視
C12: PS | E12: 4 | F12: 0 | G12: 覆工 | H12: アーチ（天端） | I12: 材質劣化 | J12: 圧ざ、ひび割れ | M12: 0.16 | N12: 0.26 | O12: Ⅱb | P12: － | Q12: Ⅱb | R12: 否 | S12: 要監視 | T12: 未 | U12: － | Y12: 継続監視
C13: PS | E13: 5 | F13: 0.1 | G13: 坑門 | H13: 面壁・妻壁等 | I13: 材質劣化 | J13: うき・はく離 | M13: 0.06 | N13: （新規確認） | O13: － | P13: － | Q13: Ⅱb | R13: 否 | S13: 要監視 | T13: 未 | U13: － | Y13: 監視
C14: S1 | E14: 1 | F14: 2.4 | G14: 覆工 | H14: アーチ（左側） | I14: 材質劣化 | J14: 圧ざ、ひび割れ | M14: 0.5 | N14: 0.5 | O14: Ⅱb | P14: － | Q14: Ⅱb | R14: 否 | S14: 要監視 | T14: 未 | U14: － | Y14: 継続監視
C15: S1 | E15: 2 | F15: 5.9 | G15: 覆工 | H15: アーチ（左側） | I15: 材質劣化 | J15: うき・はく離 | M15: 0.05 | N15: 0.05 | O15: Ⅱb | P15: － | Q15: Ⅰ | R15: 否 | S15: 否 | T15: 未 | U15: － | Y15: （補修済）
C16: S1 | E16: 3 | F16: 2.4 | G16: 覆工 | H16: アーチ（右側） | I16: 材質劣化 | J16: 圧ざ、ひび割れ | M16: 0.38 | N16: 0.36 | O16: Ⅱb | P16: － | Q16: Ⅱb | R16: 否 | S16: 要監視 | T16: 未 | U16: － | Y16: 継続監視
C17: S1 | E17: 4 | F17: 2.4 | G17: 覆工 | H17: 横断目地（右側） | I17: 材質劣化 | J17: うき・はく離 | M17: 0.01 | N17: 0.01 | O17: Ⅱb | P17: － | Q17: Ⅰ | R17: 否 | S17: 否 | T17: 未 | U17: － | Y17: （補修済）
C18: S2 | E18: 1 | F18: 10 | G18: 覆工 | H18: アーチ（左側） | I18: 材質劣化 | J18: 圧ざ、ひび割れ | M18: 0.58 | N18: 0.6 | O18: Ⅱb | P18: － | Q18: Ⅱb | R18: 否 | S18: 要監視 | T18: 未 | U18: － | Y18: 継続監視
C19: S2 | E19: 2 | F19: 6.9 | G19: 覆工 | H19: アーチ（天端） | I19: 材質劣化 | J19: うき・はく離 | M19: 0.375 | N19: 0.375 | O19: Ⅱb | P19: － | Q19: Ⅰ | R19: 否 | S19: 否 | T19: 未 | U19: － | Y19: （補修済）
C20: S2 | E20: 3 | F20: 10.7 | G20: 覆工 | H20: アーチ（左側） | I20: 材質劣化 | J20: うき・はく離 | M20: 0.0075 | N20: 0.0075 | O20: Ⅲ | P20: － | Q20: Ⅰ | R20: 否 | S20: 否 | T20: 未 | U20: － | Y20: （補修済）
C21: S2 | E21: 4 | F21: 12.1 | G21: 覆工 | H21: アーチ（左側） | I21: 材質劣化 | J21: うき・はく離 | M21: 0.005 | N21: 0.005 | O21: Ⅲ | P21: － | Q21: Ⅰ | R21: 否 | S21: 否 | T21: 未 | U21: － | Y21: （補修済）
C22: S2 | E22: 5 | F22: 13.4 | G22: 覆工 | H22: アーチ（左側） | I22: 材質劣化 | J22: うき・はく離 | M22: 0.0231 | N22: 0.015 | O22: Ⅲ | P22: － | Q22: Ⅰ | R22: 否 | S22: 否 | T22: 未 | U22: － | Y22: （補修済）
C23: S2 | E23: 6 | F23: 15.1 | G23: 覆工 | H23: アーチ（左側） | I23: 材質劣化 | J23: うき・はく離 | M23: 0.01 | N23: 0.01 | O23: Ⅲ | P23: － | Q23: Ⅰ | R23: 否 | S23: 否 | T23: 未 | U23: － | Y23: （補修済）
C24: S2 | E24: 7 | F24: 15.9 | G24: 覆工 | H24: 横断目地（左側） | I24: 材質劣化 | J24: うき・はく離 | M24: 0.135 | N24: 0.09 | O24: Ⅲ | P24: － | Q24: Ⅰ | R24: 否 | S24: 否 | T24: 未 | U24: － | Y24: （補修済）
C25: S2 | E25: 8 | F25: 6.9 | G25: 覆工 | H25: アーチ（右側） | I25: 外力 | J25: 変形・移動 | M25: 14mm | N25: 10～20mm | O25: Ⅱb | P25: － | Q25: Ⅱb | R25: 否 | S25: 要監視 | T25: 未 | U25: － | Y25: 継続監視
C26: S2 | E26: 9 | F26: 15.9 | G26: 覆工 | H26: アーチ（天端） | I26: 材質劣化 | J26: うき・はく離 | M26: 0.12 | N26: 0.12 | O26: Ⅱb | P26: － | Q26: Ⅰ | R26: 否 | S26: 否 | T26: 未 | U26: － | Y26: （補修済）
C27: S2 | E27: 10 | F27: 8.8 | G27: 覆工 | H27: アーチ（天端） | I27: 材質劣化 | J27: うき・はく離 | M27: 0.03 | N27: 0.03 | O27: Ⅱb | P27: － | Q27: Ⅰ | R27: 否 | S27: 否 | T27: 未 | U27: － | Y27: （補修済）
C28: S2 | E28: 11 | F28: 13.5 | G28: 覆工 | H28: アーチ（天端） | I28: 材質劣化 | J28: うき・はく離 | M28: 0.08 | N28: 0.03 | O28: Ⅲ | P28: － | Q28: Ⅰ | R28: 否 | S28: 否 | T28: 未 | U28: － | Y28: （補修済）
C29: S2 | E29: 12 | F29: 15.9 | G29: 覆工 | H29: アーチ（天端） | I29: 材質劣化 | J29: うき・はく離 | M29: 0.19 | N29: 0.21 | O29: Ⅱb | P29: － | Q29: Ⅰ | R29: 否 | S29: 否 | T29: 未 | U29: － | Y29: （補修済）
C30: S3 | E30: 1 | F30: 21.7 | G30: 覆工 | H30: アーチ（左側） | I30: 材質劣化 | J30: 圧ざ、ひび割れ | M30: 0.34 | N30: 0.34 | O30: Ⅱb | P30: － | Q30: Ⅱb | R30: 否 | S30: 要監視 | T30: 未 | U30: － | Y30: 継続監視
C31: S3 | E31: 2 | F31: 22.6 | G31: 覆工 | H31: アーチ（左側） | I31: 材質劣化 | J31: うき・はく離 | M31: 0.06 | N31: 0.06 | O31: Ⅱb | P31: － | Q31: Ⅰ | R31: 否 | S31: 否 | T31: 未 | U31: － | Y31: （補修済）
C32: S3 | E32: 3 | F32: 24.9 | G32: 覆工 | H32: 横断目地（左側） | I32: 材質劣化 | J32: うき・はく離 | M32: 0.0252 | N32: 0.02 | O32: Ⅱb | P32: － | Q32: Ⅰ | R32: 否 | S32: 否 | T32: 未 | U32: － | Y32: （補修済）
C33: S3 | E33: 4 | F33: 15.9 | G33: 覆工 | H33: アーチ（天端） | I33: 漏水 | J33: 漏水 | M33: 4.2 | N33: - | O33: Ⅱb | P33: － | Q33: Ⅱb | R33: 否 | S33: 要監視 | T33: 未 | U33: － | Y33: 継続監視
C34: S3 | E34: 5 | F34: 24.9 | G34: 覆工 | H34: 横断目地（天端） | I34: 材質劣化 | J34: うき・はく離 | M34: 0.32 | N34: 0.32 | O34: Ⅱb | P34: － | Q34: Ⅰ | R34: 否 | S34: 否 | T34: 未 | U34: － | Y34: （補修済）
C35: S3 | E35: 6 | F35: 17.9 | G35: 覆工 | H35: アーチ（天端） | I35: 材質劣化 | J35: うき・はく離 | M35: 0.01 | N35: 0.01 | O35: Ⅱb | P35: － | Q35: Ⅰ | R35: 否 | S35: 否 | T35: 未 | U35: － | Y35: （補修済）
C36: S3 | E36: 7 | F36: 19.3 | G36: 覆工 | H36: アーチ（右側） | I36: 材質劣化 | J36: 圧ざ、ひび割れ | M36: 0.48 | N36: 0.57 | O36: Ⅱb | P36: － | Q36: Ⅱb | R36: 否 | S36: 要監視 | T36: 未 | U36: － | Y36: 継続監視
C37: S3 | E37: 8 | F37: 21 | G37: 覆工 | H37: アーチ（右側） | I37: 漏水 | J37: 漏水 | M37: 3.35 | N37: - | O37: Ⅱb | P37: － | Q37: Ⅱb | R37: 否 | S37: 要監視 | T37: 未 | U37: － | Y37: 継続監視
C38: S4 | E38: 1 | F38: 24.9 | G38: 覆工 | H38: アーチ（左側） | I38: 材質劣化 | J38: 圧ざ、ひび割れ | M38: 0.62 | N38: 0.64 | O38: Ⅱb | P38: － | Q38: Ⅱb | R38: 否 | S38: 要監視 | T38: 未 | U38: － | Y38: 継続監視
C39: S4 | E39: 2 | F39: 24.9 | G39: 覆工 | H39: 横断目地（天端） | I39: 外力 | J39: 変形・移動 | M39: 26mm | N39: 10～15mm | O39: Ⅱb | P39: － | Q39: Ⅱb | R39: 否 | S39: 要監視 | T39: 未 | U39: － | Y39: 継続監視
C40: S4 | E40: 3 | F40: 30.6 | G40: 覆工 | H40: アーチ（左側） | I40: 漏水 | J40: 漏水 | M40: - | N40: - | O40: Ⅱa | P40: － | Q40: Ⅰ | R40: 否 | S40: 否 | T40: 未 | U40: － | Y40: （補修済）
C41: S4 | E41: 4 | F41: 24.9 | G41: 覆工 | H41: 横断目地（右側） | I41: 材質劣化 | J41: うき・はく離 | M41: 0.08 | N41: 0.08 | O41: Ⅱb | P41: － | Q41: Ⅰ | R41: 否 | S41: 否 | T41: 未 | U41: － | Y41: （補修済）
C42: ※ 対策区分（応急措置後）のⅡb～Ⅳについて記入すること。また、点検前に実施された措置によりⅠと判定された変状も記入すること。
C43: ※ 応急措置を実施しないで判定した変状の対策区分は、対策区分の応急措置後の欄に記入すること。
C44: ※ 変状の除去が不完全で、緊急対応が必要な場合は対応方針欄に記入すること。
C45: ※ １区間の覆工に複数の変状がある場合は、変状箇所毎に記入すること。
C46: ※ 措置・監視点検を行った場合には、措置履歴、特記事項に記録を残すこと。（実施年度も記載）
C47: ※ 行が不足する場合は、適時、表の行を増やすこと。

Sheet 様式C-1-1 (2)
B2: ■定期点検記録様式 全スパン定期点検結果総括表（トンネル本体工） 【様式C-1-1】
B3: フリガナ | F3: ='様式A-1'!D3 -> コンピラトンネル | I3: 路線名 | K3: ='様式A-1'!J3 -> 福浦港金比羅線 | O3: 定期点検実施者 | P3: ='様式B (1)'!S3 -> アジア航測株式会社 | T3: 定期点検年月日 | X3: ='様式B (1)'!P2 -> 45903
B4: 名 称 | F4: ='様式A-1'!D4 -> 金比羅トンネル | I4: 管理者名 | K4: ='様式A-1'!R3 -> 山口県 下関土木建築事務所 | P4: ='様式B (1)'!S4 -> 飯田 琢巳
C5: 覆工 スパン 番号 | E5: 変状 番号 | F5: 距離 （m） | G5: 変状部位 | I5: 変 状 の 内 容 | O5: 前回定期点検時の状態 | P5: 今回定期点検結果 | T5: 措置履歴 | Y5: 対応方針 ・ 特記事項
O6: 44268
G7: 対象箇所 | H7: 部位区分 | I7: 変状区分 | J7: 変状種類 | M7: 変状の発生範囲の規模 | N7: 前回定期点検時の変状の発生範囲及び規模 | O7: 対策区分 | P7: 対策区分 | R7: 調査の 要否 | S7: 措置の 要否 | T7: 実施 | U7: 措置の実施状況
P8: 応急措置前 | Q8: 応急措置後
B9: 定期点検結果 | C9: S4 | E9: 5 | F9: 25.8 | G9: 覆工 | H9: アーチ（右側） | I9: 材質劣化 | J9: 圧ざ、ひび割れ | M9: 0.12 | N9: 0.13 | O9: Ⅱb | P9: － | Q9: Ⅱb | R9: 否 | S9: 要監視 | T9: 未 | U9: － | Y9: 継続監視
C10: S4 | E10: 6 | F10: 28.4 | G10: 覆工 | H10: アーチ（右側） | I10: 漏水 | J10: 漏水 | M10: 3.3 | N10: - | O10: Ⅱb | P10: － | Q10: Ⅱb | R10: 否 | S10: 要監視 | T10: 未 | U10: － | Y10: 継続監視
C11: S5 | E11: 1 | F11: 35.8 | G11: 覆工 | H11: アーチ（左側） | I11: 漏水 | J11: 漏水 | M11: 4.68 | N11: - | O11: Ⅱb | P11: － | Q11: Ⅱb | R11: 否 | S11: 要監視 | T11: 未 | U11: － | Y11: 継続監視
C12: S5 | E12: 2 | F12: 35.5 | G12: 覆工 | H12: アーチ（左側） | I12: 漏水 | J12: 漏水 | M12: - | N12: - | O12: Ⅱa | P12: － | Q12: Ⅰ | R12: 否 | S12: 否 | T12: 未 | U12: － | Y12: （補修済）
C13: S5 | E13: 3 | F13: 39 | G13: 覆工 | H13: アーチ（左側） | I13: 漏水 | J13: 漏水 | M13: - | N13: - | O13: Ⅱa | P13: － | Q13: Ⅰ | R13: 否 | S13: 否 | T13: 未 | U13: － | Y13: （補修済）
C14: S5 | E14: 4 | F14: 42.9 | G14: 覆工 | H14: 横断目地（左側） | I14: 漏水 | J14: 漏水 | M14: - | N14: - | O14: Ⅱa | P14: － | Q14: Ⅰ | R14: 否 | S14: 否 | T14: 未 | U14: － | Y14: （補修済）
C15: S5 | E15: 5 | F15: 34.9 | G15: 覆工 | H15: アーチ（天端） | I15: 材質劣化 | J15: うき・はく離 | M15: 0.0144 | N15: 0.01 | O15: Ⅱb | P15: － | Q15: Ⅰ | R15: 否 | S15: 否 | T15: 未 | U15: － | Y15: （補修済）
C16: S5 | E16: 6 | F16: 33.9 | G16: 覆工 | H16: アーチ（右側） | I16: 材質劣化 | J16: 圧ざ、ひび割れ | M16: 0.54 | N16: 0.52 | O16: Ⅱb | P16: － | Q16: Ⅱb | R16: 否 | S16: 要監視 | T16: 未 | U16: － | Y16: 継続監視
C17: S5 | E17: 7 | F17: 39 | G17: 覆工 | H17: アーチ（右側） | I17: 漏水 | J17: 漏水 | M17: - | N17: - | O17: Ⅱa | P17: － | Q17: Ⅰ | R17: 否 | S17: 否 | T17: 未 | U17: － | Y17: （補修済）
C18: S6 | E18: 1 | F18: 42.9 | G18: 覆工 | H18: アーチ（左側） | I18: 材質劣化 | J18: 圧ざ、ひび割れ | M18: 0.66 | N18: 0.6 | O18: Ⅱb | P18: － | Q18: Ⅱb | R18: 否 | S18: 要監視 | T18: 未 | U18: － | Y18: 継続監視
C19: S6 | E19: 2 | F19: 43.8 | G19: 覆工 | H19: アーチ（左側） | I19: 材質劣化 | J19: うき・はく離 | M19: 0.02 | N19: 0.02 | O19: Ⅲ | P19: － | Q19: Ⅰ | R19: 否 | S19: 否 | T19: 未 | U19: － | Y19: （補修済）
C20: S6 | E20: 3 | F20: 45.2 | G20: 覆工 | H20: アーチ（左側） | I20: 漏水 | J20: 漏水 | M20: 3.55 | N20: - | O20: Ⅱb | P20: － | Q20: Ⅱb | R20: 否 | S20: 要監視 | T20: 未 | U20: － | Y20: 継続監視
C21: S6 | E21: 4 | F21: 46.2 | G21: 覆工 | H21: アーチ（左側） | I21: 材質劣化 | J21: うき・はく離 | M21: 0.0204 | N21: 0.015 | O21: Ⅲ | P21: － | Q21: Ⅰ | R21: 否 | S21: 否 | T21: 未 | U21: － | Y21: （補修済）
C22: S6 | E22: 5 | F22: 49.6 | G22: 覆工 | H22: アーチ（左側） | I22: 漏水 | J22: 漏水 | M22: 4.3 | N22: - | O22: Ⅱa | P22: － | Q22: Ⅱb | R22: 否 | S22: 要監視 | T22: 未 | U22: － | Y22: 継続監視
C23: S6 | E23: 6 | F23: 42.9 | G23: 覆工 | H23: 横断目地（右側） | I23: 漏水 | J23: 漏水 | M23: - | N23: - | O23: Ⅱa | P23: － | Q23: Ⅰ | R23: 否 | S23: 否 | T23: 未 | U23: － | Y23: （補修済）
C24: S6 | E24: 7 | F24: 49.4 | G24: 覆工 | H24: アーチ（右側） | I24: 漏水 | J24: 漏水 | M24: 2.55 | N24: - | O24: Ⅱb | P24: － | Q24: Ⅱb | R24: 否 | S24: 要監視 | T24: 未 | U24: － | Y24: 継続監視
C25: S6 | E25: 8 | F25: 44.6 | G25: 覆工 | H25: アーチ（右側） | I25: 漏水 | J25: 漏水 | M25: 4.81 | N25: - | O25: Ⅱb | P25: － | Q25: Ⅱb | R25: 否 | S25: 要監視 | T25: 未 | U25: － | Y25: 継続監視
C26: S7 | E26: 1 | F26: 51.9 | G26: 覆工 | H26: アーチ（左側） | I26: 漏水 | J26: 漏水 | M26: - | N26: - | O26: Ⅱa | P26: － | Q26: Ⅰ | R26: 否 | S26: 否 | T26: 未 | U26: － | Y26: （補修済）
C27: S7 | E27: 2 | F27: 54.5 | G27: 覆工 | H27: アーチ（左側） | I27: 材質劣化 | J27: 鋼材腐食 | M27: 0.07 | N27: 0.07 | O27: Ⅱb | P27: － | Q27: Ⅱb | R27: 否 | S27: 要監視 | T27: 未 | U27: － | Y27: 継続監視
C28: S7 | E28: 3 | F28: 57.9 | G28: 覆工 | H28: アーチ（左側） | I28: 材質劣化 | J28: 圧ざ、ひび割れ | M28: - | N28: 0.32 | O28: Ⅱb | P28: － | Q28: Ⅰ | R28: 否 | S28: 否 | T28: 未 | U28: － | Y28: （補修済）
C29: S7 | E29: 4 | F29: 59.5 | G29: 覆工 | H29: アーチ（左側） | I29: 材質劣化 | J29: 鋼材腐食 | M29: 0.0025 | N29: 0.0025 | O29: Ⅱb | P29: － | Q29: Ⅱb | R29: 否 | S29: 要監視 | T29: 未 | U29: － | Y29: 継続監視
C30: S7 | E30: 5 | F30: 56.8 | G30: 覆工 | H30: アーチ（右側） | I30: 材質劣化 | J30: 圧ざ、ひび割れ | M30: 0.6 | N30: 0.66 | O30: Ⅱb | P30: － | Q30: Ⅱb | R30: 否 | S30: 要監視 | T30: 未 | U30: － | Y30: 継続監視
C31: S7 | E31: 6 | F31: 60.9 | G31: 覆工 | H31: 横断目地（右側） | I31: 材質劣化 | J31: うき・はく離 | M31: 0.015 | N31: 0.015 | O31: Ⅱb | P31: － | Q31: Ⅰ | R31: 否 | S31: 否 | T31: 未 | U31: － | Y31: （補修済）
C32: S8 | E32: 1 | F32: 61.8 | G32: 覆工 | H32: アーチ（左側） | I32: 漏水 | J32: 漏水 | M32: 3.1 | N32: - | O32: Ⅱb | P32: － | Q32: Ⅱb | R32: 否 | S32: 要監視 | T32: 未 | U32: － | Y32: 継続監視
C33: S8 | E33: 2 | F33: 60.9 | G33: 覆工 | H33: アーチ（左側） | I33: 材質劣化 | J33: 圧ざ、ひび割れ | M33: 0.42 | N33: 0.43 | O33: Ⅱb | P33: － | Q33: Ⅱb | R33: 否 | S33: 要監視 | T33: 未 | U33: － | Y33: 継続監視
C34: S8 | E34: 3 | F34: 65.3 | G34: 覆工 | H34: 横断目地（左側） | I34: 材質劣化 | J34: うき・はく離 | M34: 0.36 | N34: 0.36 | O34: Ⅱb | P34: － | Q34: Ⅰ | R34: 否 | S34: 否 | T34: 未 | U34: － | Y34: （補修済）
C35: S8 | E35: 4 | F35: 65.3 | G35: 覆工 | H35: 横断目地（右側） | I35: 材質劣化 | J35: うき・はく離 | M35: 0.02 | N35: 0.02 | O35: Ⅱb | P35: － | Q35: Ⅰ | R35: 否 | S35: 否 | T35: 未 | U35: － | Y35: （補修済）
C36: S8 | E36: 5 | F36: 65.3 | G36: 覆工 | H36: アーチ（右側） | I36: 漏水 | J36: 漏水 | M36: - | N36: - | O36: Ⅱb | P36: － | Q36: Ⅰ | R36: 否 | S36: 否 | T36: 未 | U36: － | Y36: （補修済）
C37: S8 | E37: 6 | F37: 62 | G37: 覆工 | H37: アーチ（右側） | I37: 材質劣化 | J37: うき・はく離 | M37: 0.015 | N37: 0.01 | O37: Ⅱb | P37: － | Q37: Ⅰ | R37: 否 | S37: 否 | T37: 未 | U37: － | Y37: （補修済）
C38: S8 | E38: 7 | F38: 62.4 | G38: 覆工 | H38: アーチ（左側） | I38: 材質劣化 | J38: うき・はく離 | M38: 0.01 | N38: （新規確認） | O38: － | P38: － | Q38: Ⅱa | R38: 否 | S38: 要対策 | T38: 未 | U38: － | Y38: はく落防止工
C39: S9 | E39: 1 | F39: 65.6 | G39: 覆工 | H39: アーチ（左側） | I39: 材質劣化 | J39: うき・はく離 | M39: - | N39: 0.05 | O39: Ⅱb | P39: － | Q39: Ⅰ | R39: 否 | S39: 否 | T39: 未 | U39: － | Y39: （補修済）
C40: S9 | E40: 2 | F40: 65.8 | G40: 覆工 | H40: アーチ（全周） | I40: 材質劣化 | J40: 圧ざ、ひび割れ | M40: - | N40: 0.68 | O40: Ⅱb | P40: － | Q40: Ⅰ | R40: 否 | S40: 否 | T40: 未 | U40: － | Y40: （補修済）
C41: S9 | E41: 3 | F41: 67.5 | G41: 覆工 | H41: アーチ（天端） | I41: 材質劣化 | J41: うき・はく離 | M41: - | N41: 0.01 | O41: Ⅱb | P41: － | Q41: Ⅰ | R41: 否 | S41: 否 | T41: 未 | U41: － | Y41: （補修済）
C42: ※ 対策区分（応急措置後）のⅡb～Ⅳについて記入すること。また、点検前に実施された措置によりⅠと判定された変状も記入すること。
C43: ※ 応急措置を実施しないで判定した変状の対策区分は、対策区分の応急措置後の欄に記入すること。
C44: ※ 変状の除去が不完全で、緊急対応が必要な場合は対応方針欄に記入すること。
C45: ※ １区間の覆工に複数の変状がある場合は、変状箇所毎に記入すること。
C46: ※ 措置・監視点検を行った場合には、措置履歴、特記事項に記録を残すこと。（実施年度も記載）
C47: ※ 行が不足する場合は、適時、表の行を増やすこと。

Sheet 様式C-1-1 (3)
B2: ■定期点検記録様式 全スパン定期点検結果総括表（トンネル本体工） 【様式C-1-1】
B3: フリガナ | F3: ='様式A-1'!D3 -> コンピラトンネル | I3: 路線名 | K3: ='様式A-1'!J3 -> 福浦港金比羅線 | O3: 定期点検実施者 | P3: ='様式B (1)'!S3 -> アジア航測株式会社 | T3: 定期点検年月日 | X3: ='様式B (1)'!P2 -> 45903
B4: 名 称 | F4: ='様式A-1'!D4 -> 金比羅トンネル | I4: 管理者名 | K4: ='様式A-1'!R3 -> 山口県 下関土木建築事務所 | P4: ='様式B (1)'!S4 -> 飯田 琢巳
C5: 覆工 スパン 番号 | E5: 変状 番号 | F5: 距離 （m） | G5: 変状部位 | I5: 変 状 の 内 容 | O5: 前回定期点検時の状態 | P5: 今回定期点検結果 | T5: 措置履歴 | Y5: 対応方針 ・ 特記事項
O6: 44268
G7: 対象箇所 | H7: 部位区分 | I7: 変状区分 | J7: 変状種類 | M7: 変状の発生範囲の規模 | N7: 前回定期点検時の変状の発生範囲及び規模 | O7: 対策区分 | P7: 対策区分 | R7: 調査の 要否 | S7: 措置の 要否 | T7: 実施 | U7: 措置の実施状況
P8: 応急措置前 | Q8: 応急措置後
B9: 定期点検結果 | C9: S9 | E9: 4 | F9: 73.5 | G9: 覆工 | H9: アーチ（左側） | I9: 材質劣化 | J9: うき・はく離 | M9: - | N9: 0.105 | O9: Ⅱb | P9: － | Q9: Ⅰ | R9: 否 | S9: 否 | T9: 未 | U9: － | Y9: （補修済）
C10: S9 | E10: 5 | F10: 74.2 | G10: 覆工 | H10: アーチ（左側） | I10: 材質劣化 | J10: うき・はく離 | M10: - | N10: 0.06 | O10: Ⅱb | P10: － | Q10: Ⅰ | R10: 否 | S10: 否 | T10: 未 | U10: － | Y10: （補修済）
C11: S9 | E11: 6 | F11: 65.7 | G11: 覆工 | H11: アーチ（天端） | I11: 材質劣化 | J11: うき・はく離 | M11: - | N11: 0.02 | O11: Ⅱb | P11: － | Q11: Ⅰ | R11: 否 | S11: 否 | T11: 未 | U11: － | Y11: （補修済）
C12: S10 | E12: 1 | F12: 74.3 | G12: 覆工 | H12: 横断目地（天端） | I12: 材質劣化 | J12: うき・はく離 | M12: - | N12: 0.07 | O12: Ⅱb | P12: － | Q12: Ⅰ | R12: 否 | S12: 否 | T12: 未 | U12: － | Y12: （補修済）
C13: S10 | E13: 2 | F13: 76 | G13: 覆工 | H13: アーチ（天端） | I13: 材質劣化 | J13: うき・はく離 | M13: 0.02 | N13: 0.02 | O13: Ⅱb | P13: － | Q13: Ⅰ | R13: 否 | S13: 否 | T13: 未 | U13: － | Y13: （補修済）
C14: S10 | E14: 3 | F14: 79 | G14: 覆工 | H14: アーチ（天端） | I14: 材質劣化 | J14: 圧ざ、ひび割れ | M14: 0.33 | N14: 0.28 | O14: Ⅱb | P14: － | Q14: Ⅱb | R14: 否 | S14: 要監視 | T14: 未 | U14: － | Y14: 継続監視
C15: S10 | E15: 4 | F15: 83.3 | G15: 覆工 | H15: 横断目地（天端） | I15: 材質劣化 | J15: うき・はく離 | M15: 0.27 | N15: 0.27 | O15: Ⅲ | P15: － | Q15: Ⅰ | R15: 否 | S15: 否 | T15: 未 | U15: － | Y15: （補修済）
C16: S10 | E16: 5 | F16: 83.3 | G16: 覆工 | H16: 横断目地（左側） | I16: 材質劣化 | J16: うき・はく離 | M16: 0.075 | N16: 0.075 | O16: Ⅲ | P16: － | Q16: Ⅰ | R16: 否 | S16: 否 | T16: 未 | U16: － | Y16: （補修済）
C17: S10 | E17: 6 | F17: 83.3 | G17: 覆工 | H17: 横断目地（左側） | I17: 材質劣化 | J17: うき・はく離 | M17: 0.02 | N17: （新規確認） | O17: － | P17: － | Q17: Ⅱa | R17: 否 | S17: 要対策 | T17: 未 | U17: － | Y17: はく落防止工
C18: S11 | E18: 1 | F18: 90.3 | G18: 覆工 | H18: アーチ（左側） | I18: 漏水 | J18: 漏水 | M18: 2.6 | N18: - | O18: Ⅱb | P18: － | Q18: Ⅱb | R18: 否 | S18: 要監視 | T18: 未 | U18: － | Y18: 継続監視
C19: S11 | E19: 2 | F19: 83.3 | G19: 覆工 | H19: アーチ（天端） | I19: 材質劣化 | J19: うき・はく離 | M19: 0.186 | N19: 0.18 | O19: Ⅲ | P19: － | Q19: Ⅰ | R19: 否 | S19: 否 | T19: 未 | U19: － | Y19: （補修済）
C20: S11 | E20: 3 | F20: 85.1 | G20: 覆工 | H20: アーチ（天端） | I20: 材質劣化 | J20: うき・はく離 | M20: 0.02 | N20: 0.02 | O20: Ⅱb | P20: － | Q20: Ⅱb | R20: 否 | S20: 要監視 | T20: 未 | U20: － | Y20: 継続監視
C21: S11 | E21: 4 | F21: 88.5 | G21: 覆工 | H21: アーチ（天端） | I21: 漏水 | J21: 漏水 | M21: 4.3 | N21: - | O21: Ⅱa | P21: － | Q21: Ⅱa | R21: 否 | S21: 要対策 | T21: 未 | U21: － | Y21: 導水工施工
C22: S11 | E22: 5 | F22: 90.3 | G22: 覆工 | H22: アーチ（天端） | I22: 材質劣化 | J22: 圧ざ、ひび割れ | M22: 0.28 | N22: 0.33 | O22: Ⅱb | P22: － | Q22: Ⅱb | R22: 否 | S22: 要監視 | T22: 未 | U22: － | Y22: 継続監視
C23: S11 | E23: 6 | F23: 92.3 | G23: 覆工 | H23: アーチ（天端） | I23: 材質劣化 | J23: うき・はく離 | M23: 0.14 | N23: 0.14 | O23: Ⅱb | P23: － | Q23: Ⅰ | R23: 否 | S23: 否 | T23: 未 | U23: － | Y23: （補修済）
C24: S12 | E24: 1 | F24: 97.9 | G24: 覆工 | H24: アーチ（左側） | I24: 材質劣化 | J24: 圧ざ、ひび割れ | M24: 0.36 | N24: 0.36 | O24: Ⅱb | P24: － | Q24: Ⅱb | R24: 否 | S24: 要監視 | T24: 未 | U24: － | Y24: 継続監視
C25: S12 | E25: 2 | F25: 97 | G25: 覆工 | H25: アーチ（左側） | I25: 漏水 | J25: 漏水 | M25: 4.15 | N25: - | O25: Ⅱa | P25: － | Q25: Ⅱa | R25: 否 | S25: 要対策 | T25: 未 | U25: － | Y25: 導水工施工
C26: S12 | E26: 3 | F26: 101.3 | G26: 覆工 | H26: 横断目地（天端） | I26: 材質劣化 | J26: うき・はく離 | M26: 0.255 | N26: 0.285 | O26: Ⅱb | P26: － | Q26: Ⅰ | R26: 否 | S26: 否 | T26: 未 | U26: － | Y26: （補修済）
C27: S12 | E27: 4 | F27: 101.3 | G27: 覆工 | H27: アーチ（右側） | I27: 材質劣化 | J27: 圧ざ、ひび割れ | M27: 0.43 | N27: 0.49 | O27: Ⅱb | P27: － | Q27: Ⅱb | R27: 否 | S27: 要監視 | T27: 未 | U27: － | Y27: 継続監視
C28: S13 | E28: 1 | F28: 101.3 | G28: 覆工 | H28: 横断目地（左側） | I28: 材質劣化 | J28: うき・はく離 | M28: 0.66 | N28: 0.66 | O28: Ⅱb | P28: － | Q28: Ⅰ | R28: 否 | S28: 否 | T28: 未 | U28: － | Y28: （補修済）
C29: S13 | E29: 2 | F29: 104 | G29: 覆工 | H29: アーチ（左側） | I29: 漏水 | J29: 漏水 | M29: 10.4 | N29: - | O29: Ⅱb | P29: － | Q29: Ⅱb | R29: 否 | S29: 要監視 | T29: 未 | U29: － | Y29: 継続監視
C30: S13 | E30: 3 | F30: 106.7 | G30: 覆工 | H30: アーチ（天端） | I30: 材質劣化 | J30: 圧ざ、ひび割れ | M30: 0.27 | N30: 0.36 | O30: Ⅱb | P30: － | Q30: Ⅱb | R30: 否 | S30: 要監視 | T30: 未 | U30: － | Y30: 継続監視
C31: S13 | E31: 4 | F31: 104.2 | G31: 覆工 | H31: アーチ（天端） | I31: 材質劣化 | J31: うき・はく離 | M31: 0.04 | N31: 0.04 | O31: Ⅱb | P31: － | Q31: Ⅰ | R31: 否 | S31: 否 | T31: 未 | U31: － | Y31: （補修済）
C32: S13 | E32: 5 | F32: 110.2 | G32: 覆工 | H32: 横断目地（天端） | I32: 材質劣化 | J32: その他 | M32: - | N32: 0.02 | O32: Ⅱb | P32: － | Q32: Ⅰ | R32: 否 | S32: 否 | T32: 未 | U32: － | Y32: （補修済）
C33: S13 | E33: 6 | F33: 110.2 | G33: 覆工 | H33: 横断目地（天端） | I33: 材質劣化 | J33: うき・はく離 | M33: 0.09 | N33: 0.03 | O33: Ⅱb | P33: － | Q33: Ⅰ | R33: 否 | S33: 否 | T33: 未 | U33: － | Y33: （補修済）
C34: S13 | E34: 7 | F34: 104.3 | G34: 覆工 | H34: アーチ（右側） | I34: 漏水 | J34: 漏水 | M34: 3.2 | N34: - | O34: Ⅱb | P34: － | Q34: Ⅱb | R34: 否 | S34: 要監視 | T34: 未 | U34: － | Y34: 継続監視
C35: S14 | E35: 1 | F35: 110.2 | G35: 覆工 | H35: 横断目地（左側） | I35: 材質劣化 | J35: うき・はく離 | M35: 0.02 | N35: 0.02 | O35: Ⅲ | P35: － | Q35: Ⅰ | R35: 否 | S35: 否 | T35: 未 | U35: － | Y35: （補修済）
C36: S14 | E36: 2 | F36: 112.4 | G36: 覆工 | H36: アーチ（左側） | I36: 漏水 | J36: 漏水 | M36: 7.67 | N36: - | O36: Ⅱb | P36: － | Q36: Ⅱb | R36: 否 | S36: 要監視 | T36: 未 | U36: － | Y36: 継続監視
C37: S14 | E37: 3 | F37: 114.7 | G37: 覆工 | H37: アーチ（左側） | I37: 材質劣化 | J37: 圧ざ、ひび割れ | M37: 0.45 | N37: 0.45 | O37: Ⅱb | P37: － | Q37: Ⅱb | R37: 否 | S37: 要監視 | T37: 未 | U37: － | Y37: 継続監視
C38: S14 | E38: 4 | F38: 110.2 | G38: 覆工 | H38: 横断目地（天端） | I38: 材質劣化 | J38: うき・はく離 | M38: 0.21 | N38: 0.21 | O38: Ⅱb | P38: － | Q38: Ⅰ | R38: 否 | S38: 否 | T38: 未 | U38: － | Y38: （補修済）
C39: S14 | E39: 5 | F39: 111.8 | G39: 覆工 | H39: アーチ（天端） | I39: 材質劣化 | J39: うき・はく離 | M39: 0.0225 | N39: 0.0225 | O39: Ⅱb | P39: － | Q39: Ⅰ | R39: 否 | S39: 否 | T39: 未 | U39: － | Y39: （補修済）
C40: S14 | E40: 6 | F40: 115 | G40: 覆工 | H40: アーチ（天端） | I40: 材質劣化 | J40: うき・はく離 | M40: 0.01 | N40: 0.01 | O40: Ⅱb | P40: － | Q40: Ⅰ | R40: 否 | S40: 否 | T40: 未 | U40: － | Y40: （補修済）
C41: S14 | E41: 7 | F41: 119.1 | G41: 覆工 | H41: 横断目地（天端） | I41: 材質劣化 | J41: うき・はく離 | M41: 0.05 | N41: 0.05 | O41: Ⅱb | P41: － | Q41: Ⅰ | R41: 否 | S41: 否 | T41: 未 | U41: － | Y41: （補修済）
C42: ※ 対策区分（応急措置後）のⅡb～Ⅳについて記入すること。また、点検前に実施された措置によりⅠと判定された変状も記入すること。
C43: ※ 応急措置を実施しないで判定した変状の対策区分は、対策区分の応急措置後の欄に記入すること。
C44: ※ 変状の除去が不完全で、緊急対応が必要な場合は対応方針欄に記入すること。
C45: ※ １区間の覆工に複数の変状がある場合は、変状箇所毎に記入すること。
C46: ※ 措置・監視点検を行った場合には、措置履歴、特記事項に記録を残すこと。（実施年度も記載）
C47: ※ 行が不足する場合は、適時、表の行を増やすこと。

Sheet 様式C-1-1 (4)
B2: ■定期点検記録様式 全スパン定期点検結果総括表（トンネル本体工） 【様式C-1-1】
B3: フリガナ | F3: ='様式A-1'!D3 -> コンピラトンネル | I3: 路線名 | K3: ='様式A-1'!J3 -> 福浦港金比羅線 | O3: 定期点検実施者 | P3: ='様式B (1)'!S3 -> アジア航測株式会社 | T3: 定期点検年月日 | X3: ='様式B (1)'!P2 -> 45903
B4: 名 称 | F4: ='様式A-1'!D4 -> 金比羅トンネル | I4: 管理者名 | K4: ='様式A-1'!R3 -> 山口県 下関土木建築事務所 | P4: ='様式B (1)'!S4 -> 飯田 琢巳
C5: 覆工 スパン 番号 | E5: 変状 番号 | F5: 距離 （m） | G5: 変状部位 | I5: 変 状 の 内 容 | O5: 前回定期点検時の状態 | P5: 今回定期点検結果 | T5: 措置履歴 | Y5: 対応方針 ・ 特記事項
O6: 44268
G7: 対象箇所 | H7: 部位区分 | I7: 変状区分 | J7: 変状種類 | M7: 変状の発生範囲の規模 | N7: 前回定期点検時の変状の発生範囲及び規模 | O7: 対策区分 | P7: 対策区分 | R7: 調査の 要否 | S7: 措置の 要否 | T7: 実施 | U7: 措置の実施状況
P8: 応急措置前 | Q8: 応急措置後
B9: 定期点検結果 | C9: S14 | E9: 8 | F9: 110.2 | G9: 覆工 | H9: 横断目地（天端） | I9: 材質劣化 | J9: うき・はく離 | M9: 0.04 | N9: 0.04 | O9: Ⅱb | P9: － | Q9: Ⅰ | R9: 否 | S9: 否 | T9: 未 | U9: － | Y9: （補修済）
C10: S14 | E10: 9 | F10: 112.5 | G10: 覆工 | H10: アーチ（右側） | I10: 漏水 | J10: 漏水 | M10: 5.1 | N10: - | O10: Ⅱb | P10: － | Q10: Ⅱb | R10: 否 | S10: 要監視 | T10: 未 | U10: － | Y10: 継続監視
C11: S14 | E11: 10 | F11: 116.6 | G11: 覆工 | H11: アーチ（右側） | I11: 漏水 | J11: 漏水 | M11: 2.8 | N11: - | O11: Ⅱb | P11: － | Q11: Ⅱb | R11: 否 | S11: 要監視 | T11: 未 | U11: － | Y11: 継続監視
C12: S15 | E12: 1 | F12: 124.2 | G12: 覆工 | H12: アーチ（左側） | I12: 材質劣化 | J12: 圧ざ、ひび割れ | M12: 0.38 | N12: 0.37 | O12: Ⅱb | P12: － | Q12: Ⅱb | R12: 否 | S12: 要監視 | T12: 未 | U12: － | Y12: 継続監視
C13: S15 | E13: 2 | F13: 126.6 | G13: 覆工 | H13: アーチ（左側） | I13: 漏水 | J13: 漏水 | M13: 2.5 | N13: - | O13: Ⅱb | P13: － | Q13: Ⅱb | R13: 否 | S13: 要監視 | T13: 未 | U13: － | Y13: 継続監視
C14: S15 | E14: 3 | F14: 119.1 | G14: 覆工 | H14: 横断目地（右側） | I14: 材質劣化 | J14: うき・はく離 | M14: 0.05 | N14: 0.05 | O14: Ⅱb | P14: － | Q14: Ⅰ | R14: 否 | S14: 否 | T14: 未 | U14: － | Y14: （補修済）
C15: S15 | E15: 4 | F15: 128 | G15: 覆工 | H15: 横断目地（右側） | I15: 材質劣化 | J15: その他 | M15: 0.03 | N15: 0.03 | O15: Ⅱb | P15: － | Q15: Ⅰ | R15: 否 | S15: 否 | T15: 未 | U15: － | Y15: （補修済）
C16: S15 | E16: 5 | F16: 122.8 | G16: 覆工 | H16: アーチ（左側） | I16: 漏水 | J16: 漏水 | M16: 2.7 | N16: （新規確認） | O16: － | P16: － | Q16: Ⅱb | R16: 否 | S16: 要監視 | T16: 未 | U16: － | Y16: 監視
C17: S15 | E17: 6 | F17: 122.6 | G17: 覆工 | H17: アーチ（右側） | I17: 材質劣化 | J17: うき・はく離 | M17: 0.01 | N17: （新規確認） | O17: － | P17: － | Q17: Ⅱa | R17: 否 | S17: 要対策 | T17: 未 | U17: － | Y17: はく落防止工
C18: S16 | E18: 1 | F18: 129.9 | G18: 覆工 | H18: アーチ（左側） | I18: 漏水 | J18: 漏水 | M18: 5.7 | N18: - | O18: Ⅱb | P18: － | Q18: Ⅱb | R18: 否 | S18: 要監視 | T18: 未 | U18: － | Y18: 継続監視
C19: S16 | E19: 2 | F19: 130.9 | G19: 覆工 | H19: アーチ（左側） | I19: 材質劣化 | J19: 圧ざ、ひび割れ | M19: 0.24 | N19: 0.54 | O19: Ⅱb | P19: － | Q19: Ⅱb | R19: 否 | S19: 要監視 | T19: 未 | U19: － | Y19: 継続監視
C20: S16 | E20: 3 | F20: 131.2 | G20: 覆工 | H20: アーチ（左側） | I20: 漏水 | J20: 漏水 | M20: - | N20: - | O20: Ⅱa | P20: － | Q20: Ⅰ | R20: 否 | S20: 否 | T20: 未 | U20: － | Y20: （補修済）
C21: S16 | E21: 4 | F21: 130.3 | G21: 覆工 | H21: アーチ（右側） | I21: 漏水 | J21: 漏水 | M21: - | N21: - | O21: Ⅱa | P21: － | Q21: Ⅰ | R21: 否 | S21: 否 | T21: 未 | U21: － | Y21: （補修済）
C22: S16 | E22: 5 | F22: 135.3 | G22: 覆工 | H22: アーチ（天端） | I22: 漏水 | J22: 漏水 | M22: - | N22: - | O22: Ⅱa | P22: － | Q22: Ⅰ | R22: 否 | S22: 否 | T22: 未 | U22: － | Y22: （補修済）
C23: S16 | E23: 6 | F23: 128 | G23: 覆工 | H23: アーチ（右側） | I23: 材質劣化 | J23: 圧ざ、ひび割れ | M23: - | N23: 0.36 | O23: Ⅱb | P23: － | Q23: Ⅰ | R23: 否 | S23: 否 | T23: 未 | U23: － | Y23: （補修済）
C24: S17 | E24: 1 | F24: 137.5 | G24: 覆工 | H24: アーチ（左側） | I24: 材質劣化 | J24: 圧ざ、ひび割れ | M24: - | N24: 0.44 | O24: Ⅱb | P24: － | Q24: Ⅰ | R24: 否 | S24: 否 | T24: 未 | U24: － | Y24: （補修済）
C25: S17 | E25: 2 | F25: 137.4 | G25: 覆工 | H25: アーチ（左側） | I25: 漏水 | J25: 漏水 | M25: - | N25: - | O25: Ⅱb | P25: － | Q25: Ⅰ | R25: 否 | S25: 否 | T25: 未 | U25: － | Y25: （補修済）
C26: S17 | E26: 3 | F26: 145.7 | G26: 覆工 | H26: 横断目地（左側） | I26: 材質劣化 | J26: うき・はく離 | M26: - | N26: 0.03 | O26: Ⅱb | P26: － | Q26: Ⅰ | R26: 否 | S26: 否 | T26: 未 | U26: － | Y26: （補修済）
C27: S17 | E27: 4 | F27: 139.2 | G27: 覆工 | H27: アーチ（右側） | I27: 漏水 | J27: 漏水 | M27: - | N27: - | O27: Ⅱb | P27: － | Q27: Ⅰ | R27: 否 | S27: 否 | T27: 未 | U27: － | Y27: （補修済）
C28: S17 | E28: 5 | F28: 144.2 | G28: 覆工 | H28: アーチ（天端） | I28: 材質劣化 | J28: 鋼材腐食 | M28: - | N28: 0.18 | O28: Ⅱb | P28: － | Q28: Ⅰ | R28: 否 | S28: 否 | T28: 未 | U28: － | Y28: （補修済）
C29: S17 | E29: 6 | F29: 137.4 | G29: 覆工 | H29: アーチ（右側） | I29: 材質劣化 | J29: 圧ざ、ひび割れ | M29: - | N29: 0.34 | O29: Ⅱb | P29: － | Q29: Ⅰ | R29: 否 | S29: 否 | T29: 未 | U29: － | Y29: （補修済）
C30: S18 | E30: 1 | F30: 146.2 | G30: 覆工 | H30: アーチ（左側） | I30: 材質劣化 | J30: 圧ざ、ひび割れ | M30: - | N30: 0.3 | O30: Ⅱb | P30: － | Q30: Ⅰ | R30: 否 | S30: 否 | T30: 未 | U30: － | Y30: （補修済）
C31: S18 | E31: 2 | F31: 145.8 | G31: 覆工 | H31: アーチ（左側） | I31: 材質劣化 | J31: うき・はく離 | M31: - | N31: 1.44 | O31: Ⅲ | P31: － | Q31: Ⅰ | R31: 否 | S31: 否 | T31: 未 | U31: － | Y31: （補修済）
C32: S18 | E32: 3 | F32: 147.7 | G32: 覆工 | H32: アーチ（天端） | I32: 材質劣化 | J32: うき・はく離 | M32: - | N32: 0.01 | O32: Ⅱb | P32: － | Q32: Ⅰ | R32: 否 | S32: 否 | T32: 未 | U32: － | Y32: （補修済）
C33: S18 | E33: 4 | F33: 150.2 | G33: 覆工 | H33: アーチ（左側） | I33: 漏水 | J33: 漏水 | M33: - | N33: - | O33: Ⅱb | P33: － | Q33: Ⅰ | R33: 否 | S33: 否 | T33: 未 | U33: － | Y33: （補修済）
C34: S18 | E34: 5 | F34: 154.6 | G34: 覆工 | H34: 横断目地（天端） | I34: 漏水 | J34: 補修・補強材の破損 | M34: 0.03 | N34: 0.03 | O34: Ⅱb | P34: － | Q34: Ⅰ | R34: 否 | S34: 否 | T34: 未 | U34: － | Y34: （補修済）
C35: S18 | E35: 6 | F35: 154.5 | G35: 覆工 | H35: アーチ（天端） | I35: 材質劣化 | J35: その他 | M35: 0.02 | N35: 0.02 | O35: Ⅱb | P35: － | Q35: Ⅱb | R35: 否 | S35: 要監視 | T35: 未 | U35: － | Y35: 継続監視
C36: S18 | E36: 7 | F36: 146 | G36: 覆工 | H36: アーチ（右側） | I36: 材質劣化 | J36: 圧ざ、ひび割れ | M36: - | N36: 0.17 | O36: Ⅱb | P36: － | Q36: Ⅰ | R36: 否 | S36: 否 | T36: 未 | U36: － | Y36: （補修済）
C37: S19 | E37: 1 | F37: 155.3 | G37: 覆工 | H37: アーチ（左側） | I37: 漏水 | J37: 漏水 | M37: - | N37: - | O37: Ⅱa | P37: － | Q37: Ⅰ | R37: 否 | S37: 否 | T37: 未 | U37: － | Y37: （補修済）
C38: S19 | E38: 2 | F38: 158 | G38: 覆工 | H38: アーチ（右側） | I38: 材質劣化 | J38: 圧ざ、ひび割れ | M38: 0.31 | N38: 0.35 | O38: Ⅱb | P38: － | Q38: Ⅱb | R38: 否 | S38: 要監視 | T38: 未 | U38: － | Y38: 継続監視
C39: S19 | E39: 3 | F39: 159.2 | G39: 覆工 | H39: アーチ（右側） | I39: 漏水 | J39: 漏水 | M39: 6.03 | N39: - | O39: Ⅱb | P39: － | Q39: Ⅱb | R39: 否 | S39: 要監視 | T39: 未 | U39: － | Y39: 継続監視
C40: S20 | E40: 1 | F40: 163.7 | G40: 覆工 | H40: 横断目地（左側） | I40: 材質劣化 | J40: うき・はく離 | M40: 0.045 | N40: 0.03 | O40: Ⅱb | P40: － | Q40: Ⅱa | R40: 否 | S40: 要対策 | T40: 未 | U40: － | Y40: はく落防止工
C41: S20 | E41: 2 | F41: 169.5 | G41: 覆工 | H41: アーチ（左側） | I41: 材質劣化 | J41: 圧ざ、ひび割れ | M41: 0.24 | N41: 0.26 | O41: Ⅱb | P41: － | Q41: Ⅱb | R41: 否 | S41: 要監視 | T41: 未 | U41: － | Y41: 継続監視
C42: ※ 対策区分（応急措置後）のⅡb～Ⅳについて記入すること。また、点検前に実施された措置によりⅠと判定された変状も記入すること。
C43: ※ 応急措置を実施しないで判定した変状の対策区分は、対策区分の応急措置後の欄に記入すること。
C44: ※ 変状の除去が不完全で、緊急対応が必要な場合は対応方針欄に記入すること。
C45: ※ １区間の覆工に複数の変状がある場合は、変状箇所毎に記入すること。
C46: ※ 措置・監視点検を行った場合には、措置履歴、特記事項に記録を残すこと。（実施年度も記載）
C47: ※ 行が不足する場合は、適時、表の行を増やすこと。

Sheet 様式C-1-1 (5)
B2: ■定期点検記録様式 全スパン定期点検結果総括表（トンネル本体工） 【様式C-1-1】
B3: フリガナ | F3: ='様式A-1'!D3 -> コンピラトンネル | I3: 路線名 | K3: ='様式A-1'!J3 -> 福浦港金比羅線 | O3: 定期点検実施者 | P3: ='様式B (1)'!S3 -> アジア航測株式会社 | T3: 定期点検年月日 | X3: ='様式B (1)'!P2 -> 45903
B4: 名 称 | F4: ='様式A-1'!D4 -> 金比羅トンネル | I4: 管理者名 | K4: ='様式A-1'!R3 -> 山口県 下関土木建築事務所 | P4: ='様式B (1)'!S4 -> 飯田 琢巳
C5: 覆工 スパン 番号 | E5: 変状 番号 | F5: 距離 （m） | G5: 変状部位 | I5: 変 状 の 内 容 | O5: 前回定期点検時の状態 | P5: 今回定期点検結果 | T5: 措置履歴 | Y5: 対応方針 ・ 特記事項
O6: 44268
G7: 対象箇所 | H7: 部位区分 | I7: 変状区分 | J7: 変状種類 | M7: 変状の発生範囲の規模 | N7: 前回定期点検時の変状の発生範囲及び規模 | O7: 対策区分 | P7: 対策区分 | R7: 調査の 要否 | S7: 措置の 要否 | T7: 実施 | U7: 措置の実施状況
P8: 応急措置前 | Q8: 応急措置後
B9: 定期点検結果 | C9: S20 | E9: 3 | F9: 169.9 | G9: 覆工 | H9: アーチ（左側） | I9: 材質劣化 | J9: うき・はく離 | M9: 0.01 | N9: 0.01 | O9: Ⅱb | P9: － | Q9: Ⅰ | R9: 否 | S9: 否 | T9: 未 | U9: － | Y9: （補修済）
C10: S21 | E10: 1 | F10: 172.7 | G10: 覆工 | H10: 横断目地（左側） | I10: 材質劣化 | J10: うき・はく離 | M10: 0.025 | N10: 0.025 | O10: Ⅱb | P10: － | Q10: Ⅰ | R10: 否 | S10: 否 | T10: 未 | U10: － | Y10: （補修済）
C11: S21 | E11: 2 | F11: 174.4 | G11: 覆工 | H11: アーチ（左側） | I11: 材質劣化 | J11: うき・はく離 | M11: 0.01 | N11: 0.01 | O11: Ⅱb | P11: － | Q11: Ⅰ | R11: 否 | S11: 否 | T11: 未 | U11: － | Y11: （補修済）
C12: S21 | E12: 3 | F12: 177.2 | G12: 覆工 | H12: アーチ（天端） | I12: 漏水 | J12: 漏水 | M12: 4.25 | N12: - | O12: Ⅱb | P12: － | Q12: Ⅱb | R12: 否 | S12: 要監視 | T12: 未 | U12: － | Y12: 継続監視
C13: S21 | E13: 4 | F13: 181.6 | G13: 覆工 | H13: 横断目地（右側） | I13: 漏水 | J13: 漏水 | M13: 2.6 | N13: - | O13: Ⅱb | P13: － | Q13: Ⅱb | R13: 否 | S13: 要監視 | T13: 未 | U13: － | Y13: 継続監視
C14: S22 | E14: 1 | F14: 182.3 | G14: 覆工 | H14: アーチ（左側） | I14: 材質劣化 | J14: うき・はく離 | M14: 0.01 | N14: 0.01 | O14: Ⅱb | P14: － | Q14: Ⅰ | R14: 否 | S14: 否 | T14: 未 | U14: － | Y14: （補修済）
C15: S22 | E15: 2 | F15: 181.6 | G15: 覆工 | H15: 横断目地（天端） | I15: 材質劣化 | J15: うき・はく離 | M15: 0.01 | N15: 0.01 | O15: Ⅱb | P15: － | Q15: Ⅰ | R15: 否 | S15: 否 | T15: 未 | U15: － | Y15: （補修済）
C16: S22 | E16: 3 | F16: 186 | G16: 覆工 | H16: アーチ（左側） | I16: 材質劣化 | J16: 圧ざ、ひび割れ | M16: 0.61 | N16: 0.65 | O16: Ⅱb | P16: － | Q16: Ⅱb | R16: 否 | S16: 要監視 | T16: 未 | U16: － | Y16: 継続監視
C17: S22 | E17: 4 | F17: 181.6 | G17: 覆工 | H17: 横断目地（左側） | I17: 漏水 | J17: 漏水 | M17: 1.55 | N17: （新規確認） | O17: － | P17: － | Q17: Ⅱb | R17: 否 | S17: 要監視 | T17: 未 | U17: － | Y17: 監視
C18: S22 | E18: 5 | F18: 181.6 | G18: 覆工 | H18: 横断目地（左側） | I18: 材質劣化 | J18: うき・はく離 | M18: 0.0175 | N18: （新規確認） | O18: － | P18: － | Q18: Ⅱb | R18: 否 | S18: 要監視 | T18: 未 | U18: － | Y18: 継続監視
C19: S23 | E19: 1 | F19: 190.5 | G19: 覆工 | H19: 横断目地（左側） | I19: 漏水 | J19: 漏水 | M19: 3.45 | N19: - | O19: Ⅱb | P19: － | Q19: Ⅱb | R19: 否 | S19: 要監視 | T19: 未 | U19: － | Y19: 継続監視
C20: S23 | E20: 2 | F20: 193.4 | G20: 覆工 | H20: アーチ（左側） | I20: 材質劣化 | J20: 圧ざ、ひび割れ | M20: 0.48 | N20: 0.43 | O20: Ⅱb | P20: － | Q20: Ⅱb | R20: 否 | S20: 要監視 | T20: 未 | U20: － | Y20: 継続監視
C21: S23 | E21: 3 | F21: 199.4 | G21: 覆工 | H21: 横断目地（天端） | I21: 材質劣化 | J21: うき・はく離 | M21: 0.06 | N21: 0.08 | O21: Ⅲ | P21: － | Q21: Ⅰ | R21: 否 | S21: 否 | T21: 未 | U21: － | Y21: （補修済）
C22: S23 | E22: 4 | F22: 190.5 | G22: 覆工 | H22: 横断目地（右側） | I22: 漏水 | J22: 漏水 | M22: - | N22: - | O22: Ⅱa | P22: － | Q22: Ⅰ | R22: 否 | S22: 否 | T22: 未 | U22: － | Y22: （補修済）
C23: S23 | E23: 5 | F23: 197.5 | G23: 覆工 | H23: アーチ（右側） | I23: 漏水 | J23: 漏水 | M23: 4.95 | N23: - | O23: Ⅱb | P23: － | Q23: Ⅱb | R23: 否 | S23: 要監視 | T23: 未 | U23: － | Y23: 継続監視
C24: S23 | E24: 6 | F24: 194.5 | G24: 路面 | H24: 歩道 | J24: その他 | M24: 2.55 | N24: （新規確認） | O24: － | P24: － | R24: 否 | S24: 否 | U24: －
C25: S24 | E25: 1 | F25: 199.4 | G25: 覆工 | H25: 横断目地（左側） | I25: 材質劣化 | J25: うき・はく離 | M25: 0.005 | N25: 0.005 | O25: Ⅱb | P25: － | Q25: Ⅰ | R25: 否 | S25: 否 | T25: 未 | U25: － | Y25: （補修済）
C26: S24 | E26: 2 | F26: 201.7 | G26: 覆工 | H26: アーチ（左側） | I26: 材質劣化 | J26: うき・はく離 | M26: 0.01 | N26: 0.01 | O26: Ⅱb | P26: － | Q26: Ⅰ | R26: 否 | S26: 否 | T26: 未 | U26: － | Y26: （補修済）
C27: S24 | E27: 3 | F27: 201.6 | G27: 覆工 | H27: アーチ（左側） | I27: 漏水 | J27: 漏水 | M27: 8.2 | N27: - | O27: Ⅱa | P27: － | Q27: Ⅱb | R27: 否 | S27: 要監視 | T27: 未 | U27: － | Y27: 判定見直し
C28: S24 | E28: 4 | F28: 202.6 | G28: 覆工 | H28: アーチ（左側） | I28: 漏水 | J28: 漏水 | M28: 10.5 | N28: - | O28: Ⅱb | P28: － | Q28: Ⅱb | R28: 否 | S28: 要監視 | T28: 未 | U28: － | Y28: 継続監視
C29: S24 | E29: 5 | F29: 208.3 | G29: 覆工 | H29: 横断目地（天端） | I29: 材質劣化 | J29: うき・はく離 | M29: 0.005 | N29: 0.005 | O29: Ⅱb | P29: － | Q29: Ⅰ | R29: 否 | S29: 否 | T29: 未 | U29: － | Y29: （補修済）
C30: S24 | E30: 6 | F30: 202.9 | G30: 覆工 | H30: アーチ（右側） | I30: 漏水 | J30: 漏水 | M30: - | N30: - | O30: Ⅱa | P30: － | Q30: Ⅰ | R30: 否 | S30: 否 | T30: 未 | U30: － | Y30: （補修済）
C31: S24 | E31: 7 | F31: 204.8 | G31: 覆工 | H31: アーチ（右側） | I31: 漏水 | J31: 漏水 | M31: - | N31: - | O31: Ⅱb | P31: － | Q31: Ⅰ | R31: 否 | S31: 否 | T31: 未 | U31: － | Y31: （補修済）
C32: S24 | E32: 8 | F32: 205.9 | G32: 覆工 | H32: アーチ（右側） | I32: 漏水 | J32: 漏水 | M32: - | N32: - | O32: Ⅱa | P32: － | Q32: Ⅰ | R32: 否 | S32: 否 | T32: 未 | U32: － | Y32: （補修済）
C33: S24 | E33: 9 | F33: 207.1 | G33: 覆工 | H33: アーチ（右側） | I33: 材質劣化 | J33: うき・はく離 | M33: 0.01 | N33: 0.01 | O33: Ⅱb | P33: － | Q33: Ⅰ | R33: 否 | S33: 否 | T33: 未 | U33: － | Y33: （補修済）
C34: S24 | E34: 10 | F34: 200.7 | G34: 覆工 | H34: アーチ（左側） | I34: 漏水 | J34: 漏水 | M34: 2.35 | N34: （新規確認） | O34: － | P34: － | Q34: Ⅱb | R34: 否 | S34: 要監視 | T34: 未 | U34: － | Y34: 監視
C35: S24 | E35: 11 | F35: 199.4 | G35: 路面 | H35: 歩道 | J35: その他 | M35: 3.06 | N35: （新規確認） | O35: － | P35: － | R35: 否 | S35: 否 | U35: －
C36: S25 | E36: 1 | F36: 208.3 | G36: 覆工 | H36: アーチ（左側） | I36: 漏水 | J36: 漏水 | M36: 47.57 | N36: - | O36: Ⅱb | P36: － | Q36: Ⅱb | R36: 否 | S36: 要監視 | T36: 未 | U36: － | Y36: 継続監視
C37: S25 | E37: 2 | F37: 214 | G37: 覆工 | H37: アーチ（右側） | I37: 漏水 | J37: 漏水 | M37: 3.75 | N37: - | O37: Ⅱb | P37: － | Q37: Ⅱb | R37: 否 | S37: 要監視 | T37: 未 | U37: － | Y37: 継続監視
C38: S25 | E38: 3 | F38: 208.3 | G38: 覆工 | H38: アーチ（右側） | I38: 材質劣化 | J38: うき・はく離 | M38: 0.04 | N38: 0.05 | O38: Ⅱb | P38: － | Q38: Ⅰ | R38: 否 | S38: 否 | T38: 未 | U38: － | Y38: （補修済）
C39: S25 | E39: 4 | F39: 216 | G39: 覆工 | H39: アーチ（右側） | I39: 材質劣化 | J39: うき・はく離 | M39: 0.01 | N39: 0.01 | O39: Ⅱb | P39: － | Q39: Ⅰ | R39: 否 | S39: 否 | T39: 未 | U39: － | Y39: （補修済）
C40: S26 | E40: 1 | F40: 219.7 | G40: 覆工 | H40: アーチ（左側） | I40: 材質劣化 | J40: うき・はく離 | M40: 0.01 | N40: 0.01 | O40: Ⅱb | P40: － | Q40: Ⅰ | R40: 否 | S40: 否 | T40: 未 | U40: － | Y40: （補修済）
C41: S26 | E41: 2 | F41: 221.1 | G41: 覆工 | H41: アーチ（天端） | I41: 漏水 | J41: 漏水 | M41: 3.3 | N41: - | O41: Ⅱb | P41: － | Q41: Ⅱb | R41: 否 | S41: 要監視 | T41: 未 | U41: － | Y41: 継続監視
C42: ※ 対策区分（応急措置後）のⅡb～Ⅳについて記入すること。また、点検前に実施された措置によりⅠと判定された変状も記入すること。
C43: ※ 応急措置を実施しないで判定した変状の対策区分は、対策区分の応急措置後の欄に記入すること。
C44: ※ 変状の除去が不完全で、緊急対応が必要な場合は対応方針欄に記入すること。
C45: ※ １区間の覆工に複数の変状がある場合は、変状箇所毎に記入すること。
C46: ※ 措置・監視点検を行った場合には、措置履歴、特記事項に記録を残すこと。（実施年度も記載）
C47: ※ 行が不足する場合は、適時、表の行を増やすこと。

Sheet 様式C-1-1 (6)
B2: ■定期点検記録様式 全スパン定期点検結果総括表（トンネル本体工） 【様式C-1-1】
B3: フリガナ | F3: ='様式A-1'!D3 -> コンピラトンネル | I3: 路線名 | K3: ='様式A-1'!J3 -> 福浦港金比羅線 | O3: 定期点検実施者 | P3: ='様式B (1)'!S3 -> アジア航測株式会社 | T3: 定期点検年月日 | X3: ='様式B (1)'!P2 -> 45903
B4: 名 称 | F4: ='様式A-1'!D4 -> 金比羅トンネル | I4: 管理者名 | K4: ='様式A-1'!R3 -> 山口県 下関土木建築事務所 | P4: ='様式B (1)'!S4 -> 飯田 琢巳
C5: 覆工 スパン 番号 | E5: 変状 番号 | F5: 距離 （m） | G5: 変状部位 | I5: 変 状 の 内 容 | O5: 前回定期点検時の状態 | P5: 今回定期点検結果 | T5: 措置履歴 | Y5: 対応方針 ・ 特記事項
O6: 44268
G7: 対象箇所 | H7: 部位区分 | I7: 変状区分 | J7: 変状種類 | M7: 変状の発生範囲の規模 | N7: 前回定期点検時の変状の発生範囲及び規模 | O7: 対策区分 | P7: 対策区分 | R7: 調査の 要否 | S7: 措置の 要否 | T7: 実施 | U7: 措置の実施状況
P8: 応急措置前 | Q8: 応急措置後
B9: 定期点検結果 | C9: S26 | E9: 3 | F9: 223.8 | G9: 覆工 | H9: アーチ（天端） | I9: 漏水 | J9: 漏水 | M9: 4.3 | N9: - | O9: Ⅱb | P9: － | Q9: Ⅱb | R9: 否 | S9: 要監視 | T9: 未 | U9: － | Y9: 継続監視
C10: S26 | E10: 4 | F10: 225.8 | G10: 覆工 | H10: アーチ（天端） | I10: 材質劣化 | J10: うき・はく離 | M10: 0.0225 | N10: 0.0225 | O10: Ⅱb | P10: － | Q10: Ⅱa | R10: 否 | S10: 要対策 | T10: 未 | U10: － | Y10: はく落防止工
C11: S26 | E11: 5 | F11: 222.7 | G11: 覆工 | H11: アーチ（天端） | I11: 材質劣化 | J11: うき・はく離 | M11: 0.01 | N11: 0.01 | O11: Ⅱb | P11: － | Q11: Ⅰ | R11: 否 | S11: 否 | T11: 未 | U11: － | Y11: （補修済）
C12: S26 | E12: 6 | F12: 220.8 | G12: 路面 | H12: 歩道 | J12: その他 | M12: 2.73 | N12: （新規確認） | O12: － | P12: － | R12: 否 | S12: 否 | U12: －
C13: S27 | E13: 1 | F13: 228.8 | G13: 覆工 | H13: アーチ（天端） | I13: 漏水 | J13: 漏水 | M13: 4.2 | N13: - | O13: Ⅱb | P13: － | Q13: Ⅱb | R13: 否 | S13: 要監視 | T13: 未 | U13: － | Y13: 継続監視
C14: S27 | E14: 2 | F14: 231.9 | G14: 覆工 | H14: アーチ（天端） | I14: 材質劣化 | J14: うき・はく離 | M14: 0.06 | N14: 0.06 | O14: Ⅱb | P14: － | Q14: Ⅰ | R14: 否 | S14: 否 | T14: 未 | U14: － | Y14: （補修済）
C15: S27 | E15: 3 | F15: 233.5 | G15: 覆工 | H15: 横断目地（左側） | I15: 漏水 | J15: 漏水 | M15: 2.05 | N15: （新規確認） | O15: － | P15: － | Q15: Ⅱb | R15: 否 | S15: 要監視 | T15: 未 | U15: － | Y15: 監視
C16: S28 | E16: 1 | F16: 239.4 | G16: 覆工 | H16: 横断目地（左側） | I16: 漏水 | J16: 補修・補強材の破損 | M16: 0.08 | N16: 0.09 | O16: Ⅱb | P16: － | Q16: Ⅱb | R16: 否 | S16: 要監視 | T16: 未 | U16: － | Y16: 継続監視
C17: S28 | E17: 2 | F17: 239.4 | G17: 覆工 | H17: 横断目地（左側） | I17: 漏水 | J17: 漏水 | M17: 2.1 | N17: （新規確認） | O17: － | P17: － | Q17: Ⅱb | R17: 否 | S17: 要監視 | T17: 未 | U17: － | Y17: 監視
C18: S29 | E18: 1 | F18: 244.4 | G18: 覆工 | H18: アーチ（左側） | I18: 材質劣化 | J18: 圧ざ、ひび割れ | M18: 0.24 | N18: 0.19 | O18: Ⅱb | P18: － | Q18: Ⅱb | R18: 否 | S18: 要監視 | T18: 未 | U18: － | Y18: 継続監視
C19: S29 | E19: 2 | F19: 246.9 | G19: 覆工 | H19: 横断目地（左側） | I19: 漏水 | J19: 漏水 | M19: 1.85 | N19: - | O19: Ⅱb | P19: － | Q19: Ⅱb | R19: 否 | S19: 要監視 | T19: 未 | U19: － | Y19: 継続監視
C20: S29 | E20: 3 | F20: 239.4 | G20: 覆工 | H20: 横断目地（右側） | I20: 漏水 | J20: 漏水 | M20: 3.45 | N20: - | O20: Ⅱb | P20: － | Q20: Ⅱb | R20: 否 | S20: 要監視 | T20: 未 | U20: － | Y20: 継続監視
C21: S29 | E21: 4 | F21: 243.2 | G21: 覆工 | H21: アーチ（左側） | I21: 漏水 | J21: 漏水 | M21: 2.05 | N21: （新規確認） | O21: － | P21: － | Q21: Ⅱb | R21: 否 | S21: 要監視 | T21: 未 | U21: － | Y21: 監視
C22: S30 | E22: 1 | F22: 249.2 | G22: 覆工 | H22: アーチ（左側） | I22: 材質劣化 | J22: 圧ざ、ひび割れ | M22: 0.46 | N22: 0.47 | O22: Ⅱb | P22: － | Q22: Ⅱb | R22: 否 | S22: 要監視 | T22: 未 | U22: － | Y22: 継続監視
C23: S30 | E23: 2 | F23: 253.2 | G23: 覆工 | H23: アーチ（天端） | I23: 材質劣化 | J23: うき・はく離 | M23: 0.03 | N23: 0.03 | O23: Ⅱb | P23: － | Q23: Ⅰ | R23: 否 | S23: 否 | T23: 未 | U23: － | Y23: （補修済）
C24: S30 | E24: 3 | F24: 246.9 | G24: 覆工 | H24: 横断目地（右側） | I24: 漏水 | J24: 補修・補強材の破損 | M24: 0.22 | N24: 0.15 | O24: Ⅱb | P24: － | Q24: Ⅱb | R24: 否 | S24: 要監視 | T24: 未 | U24: － | Y24: 継続監視
C25: S30 | E25: 4 | F25: 250.8 | G25: 覆工 | H25: アーチ（右側） | I25: 材質劣化 | J25: うき・はく離 | M25: 0.01 | N25: 0.01 | O25: Ⅱb | P25: － | Q25: Ⅰ | R25: 否 | S25: 否 | T25: 未 | U25: － | Y25: （補修済）
C26: S30 | E26: 5 | F26: 254.2 | G26: 覆工 | H26: 横断目地（右側） | I26: 漏水 | J26: 補修・補強材の破損 | M26: 0.17 | N26: 0.17 | O26: Ⅱa | P26: － | Q26: Ⅰ | R26: 否 | S26: 否 | T26: 未 | U26: － | Y26: （補修済）
C27: S30 | E27: 6 | F27: 246.9 | G27: 覆工 | H27: 横断目地（右側） | I27: 漏水 | J27: 漏水 | M27: 3.3 | N27: （新規確認） | O27: － | P27: － | Q27: Ⅱb | R27: 否 | S27: 要監視 | T27: 未 | U27: － | Y27: 監視
C28: S31 | E28: 1 | F28: 254.2 | G28: 覆工 | H28: 横断目地（左側） | I28: 漏水 | J28: 補修・補強材の破損 | M28: 0.11 | N28: 0.125 | O28: Ⅱb | P28: － | Q28: Ⅱb | R28: 否 | S28: 要監視 | T28: 未 | U28: － | Y28: 継続監視
C29: S31 | E29: 2 | F29: 254.2 | G29: 覆工 | H29: 横断目地（左側） | I29: 漏水 | J29: 漏水 | M29: 2.45 | N29: - | O29: Ⅱb | P29: － | Q29: Ⅱb | R29: 否 | S29: 要監視 | T29: 未 | U29: － | Y29: 継続監視
C30: S31 | E30: 3 | F30: 261 | G30: 覆工 | H30: 横断目地（天端） | I30: 材質劣化 | J30: うき・はく離 | M30: 0.21 | N30: 0.21 | O30: Ⅲ | P30: － | Q30: Ⅰ | R30: 否 | S30: 否 | T30: 未 | U30: － | Y30: （補修済）
C31: S31 | E31: 4 | F31: 254.2 | G31: 覆工 | H31: 横断目地（天端） | I31: 漏水 | J31: 漏水 | M31: 4.35 | N31: - | O31: Ⅱa | P31: － | Q31: Ⅱa | R31: 否 | S31: 要対策 | T31: 未 | U31: － | Y31: 導水工施工
C32: S31 | E32: 5 | F32: 259.5 | G32: 覆工 | H32: アーチ（天端） | I32: 材質劣化 | J32: うき・はく離 | M32: 0.08 | N32: 0.08 | O32: Ⅱb | P32: － | Q32: Ⅰ | R32: 否 | S32: 否 | T32: 未 | U32: － | Y32: （補修済）
C33: S31 | E33: 6 | F33: 261 | G33: 覆工 | H33: 横断目地（右側） | I33: 漏水 | J33: 漏水 | M33: 3.35 | N33: - | O33: Ⅱb | P33: － | Q33: Ⅱb | R33: 否 | S33: 要監視 | T33: 未 | U33: － | Y33: 継続監視
C34: S31 | E34: 7 | F34: 254.2 | G34: 覆工 | H34: 横断目地（右側） | I34: 漏水 | J34: 漏水 | M34: 2.65 | N34: - | O34: Ⅱb | P34: － | Q34: Ⅱb | R34: 否 | S34: 要監視 | T34: 未 | U34: － | Y34: 継続監視
C35: S31 | E35: 8 | F35: 257.4 | G35: 覆工 | H35: アーチ（右側） | I35: 材質劣化 | J35: うき・はく離 | M35: 0.01 | N35: 0.01 | O35: Ⅱb | P35: － | Q35: Ⅰ | R35: 否 | S35: 否 | T35: 未 | U35: － | Y35: （補修済）
C36: PE | E36: 1 | F36: 261.8 | G36: 覆工 | H36: アーチ（左側） | I36: 材質劣化 | J36: 圧ざ、ひび割れ | M36: 0.24 | N36: 0.25 | O36: Ⅱb | P36: － | Q36: Ⅱb | R36: 否 | S36: 要監視 | T36: 未 | U36: － | Y36: 継続監視
C37: PE | E37: 2 | F37: 261 | G37: 覆工 | H37: アーチ（天端） | I37: 材質劣化 | J37: うき・はく離 | M37: 0.45 | N37: 0.45 | O37: Ⅲ | P37: － | Q37: Ⅰ | R37: 否 | S37: 否 | T37: 未 | U37: － | Y37: （補修済）
C38: PE | E38: 3 | F38: 262.2 | G38: 覆工 | H38: アーチ（右側） | I38: 材質劣化 | J38: 圧ざ、ひび割れ | M38: 0.17 | N38: 0.18 | O38: Ⅱb | P38: － | Q38: Ⅱb | R38: 否 | S38: 要監視 | T38: 未 | U38: － | Y38: 継続監視
C39: PE | E39: 4 | F39: 265 | G39: 坑門 | H39: 面壁・妻壁等 | I39: 材質劣化 | J39: 圧ざ、ひび割れ | M39: 0.08 | N39: 0.08 | O39: Ⅱb | P39: － | Q39: Ⅱb | R39: 否 | S39: 要監視 | T39: 未 | U39: － | Y39: 継続監視
C40: PE | E40: 5 | F40: 265 | G40: 坑門 | H40: 面壁・妻壁等 | I40: 材質劣化 | J40: その他 | M40: 0.01 | N40: 0.015 | O40: Ⅱb | P40: － | Q40: Ⅱb | R40: 否 | S40: 要監視 | T40: 未 | U40: － | Y40: 継続監視
C41: PE | E41: 6 | F41: 265 | G41: 坑門 | H41: 面壁・妻壁等 | I41: 漏水 | J41: 漏水 | M41: 0.5 | N41: - | O41: Ⅱb | P41: － | Q41: Ⅱb | R41: 否 | S41: 要監視 | T41: 未 | U41: － | Y41: 継続監視
C42: ※ 対策区分（応急措置後）のⅡb～Ⅳについて記入すること。また、点検前に実施された措置によりⅠと判定された変状も記入すること。
C43: ※ 応急措置を実施しないで判定した変状の対策区分は、対策区分の応急措置後の欄に記入すること。
C44: ※ 変状の除去が不完全で、緊急対応が必要な場合は対応方針欄に記入すること。
C45: ※ １区間の覆工に複数の変状がある場合は、変状箇所毎に記入すること。
C46: ※ 措置・監視点検を行った場合には、措置履歴、特記事項に記録を残すこと。（実施年度も記載）
C47: ※ 行が不足する場合は、適時、表の行を増やすこと。

Sheet 様式C-1-1 (7)
B2: ■定期点検記録様式 全スパン定期点検結果総括表（トンネル本体工） 【様式C-1-1】
B3: フリガナ | F3: ='様式A-1'!D3 -> コンピラトンネル | I3: 路線名 | K3: ='様式A-1'!J3 -> 福浦港金比羅線 | O3: 定期点検実施者 | P3: ='様式B (1)'!S3 -> アジア航測株式会社 | T3: 定期点検年月日 | X3: ='様式B (1)'!P2 -> 45903
B4: 名 称 | F4: ='様式A-1'!D4 -> 金比羅トンネル | I4: 管理者名 | K4: ='様式A-1'!R3 -> 山口県 下関土木建築事務所 | P4: ='様式B (1)'!S4 -> 飯田 琢巳
C5: 覆工 スパン 番号 | E5: 変状 番号 | F5: 距離 （m） | G5: 変状部位 | I5: 変 状 の 内 容 | O5: 前回定期点検時の状態 | P5: 今回定期点検結果 | T5: 措置履歴 | Y5: 対応方針 ・ 特記事項
O6: 44268
G7: 対象箇所 | H7: 部位区分 | I7: 変状区分 | J7: 変状種類 | M7: 変状の発生範囲の規模 | N7: 前回定期点検時の変状の発生範囲及び規模 | O7: 対策区分 | P7: 対策区分 | R7: 調査の 要否 | S7: 措置の 要否 | T7: 実施 | U7: 措置の実施状況
P8: 応急措置前 | Q8: 応急措置後
C9: PE | E9: 7 | F9: 265 | G9: 坑門 | H9: 面壁・妻壁等 | I9: 材質劣化 | J9: うき・はく離 | M9: 0.01 | N9: （新規確認） | O9: － | P9: － | Q9: Ⅱa | R9: 否 | S9: 要対策 | T9: 未 | U9: － | Y9: はく落防止工
C42: ※ 対策区分（応急措置後）のⅡb～Ⅳについて記入すること。また、点検前に実施された措置によりⅠと判定された変状も記入すること。
C43: ※ 応急措置を実施しないで判定した変状の対策区分は、対策区分の応急措置後の欄に記入すること。
C44: ※ 変状の除去が不完全で、緊急対応が必要な場合は対応方針欄に記入すること。
C45: ※ １区間の覆工に複数の変状がある場合は、変状箇所毎に記入すること。
C46: ※ 措置・監視点検を行った場合には、措置履歴、特記事項に記録を残すこと。（実施年度も記載）
C47: ※ 行が不足する場合は、適時、表の行を増やすこと。

Sheet 様式C-1-2
B2: ■定期点検記録様式 定期点検結果総括表（トンネル内附属物等の取付状態） 【様式C-1-2】
B3: フリガナ | F3: ='様式A-1'!D3 -> コンピラトンネル | J3: 路線名 | K3: ='様式A-1'!J3 -> 福浦港金比羅線 | M3: 定期点検実施者 | O3: ='様式B (1)'!S3 -> アジア航測株式会社 | S3: 定期点検年月日 | W3: ='様式B (1)'!P2 -> 45903
B4: 名 称 | F4: ='様式A-1'!D4 -> 金比羅トンネル | J4: 管理者名 | K4: ='様式A-1'!R3 -> 山口県 下関土木建築事務所 | O4: ='様式B (1)'!S4 -> 飯田 琢巳
B5: 定期点検結果 | C5: 覆工 スパン 番号 | E5: 異常 番号 | F5: 距離 （m） | G5: 異常部位 | J5: 異 常 の 内 容 | N5: 定期点検結果 | P5: 応急措置の 実施状況 | V5: 対応方針 ・ 特記事項
G6: 対象箇所 | I6: 部位区分 | J6: 異常種類 | L6: 異常の発生範囲の規模 | N6: 異常判定区分 | P6: 実施 | Q6: 応急措置の内容
N7: 応急措置前 | O7: 応急措置後
C8: S17 | E8: 101 | F8: 142.2 | G8: その他施設 | H8: その他 | I8: 附属物本体 | J8: 変形，欠損 | L8: 0.5m×0.4m | N8: × | P8: 未
C9: S31 | E9: 101 | F9: 254.2 | G9: 照明施設 | H9: 灯具 | I9: 附属物本体 | J9: 変形，欠損 | L9: 0.5m×1.3m | N9: × | P9: 未
C10: S31 | E10: 102 | F10: 254.2 | G10: 照明施設 | H10: 灯具 | I10: 取付部材 | J10: 変形，欠損 | L10: 1箇所 | N10: × | P10: 未
C44: ※ 異常判定区分×について記入すること。また、応急措置により○と判定された箇所も記入すること。
C45: ※ 応急措置を実施しないで判定した箇所の異常判定区分は、異常判定区分の応急措置後の欄に記入すること。
C46: ※ 異常の除去が不完全で、緊急対応が必要な場合は対応方針欄に記入すること。
C47: ※ １スパンの覆工に複数の異常がある場合は、異常箇所毎に記入すること。
C48: ※ 行が不足する場合は、適時、表の行を増やすこと。

Sheet 様式C-2
B2: ■定期点検記録様式 状態の把握の内容 【様式C-2】
B3: フリガナ | E3: ='様式A-1'!D3 -> コンピラトンネル | H3: 路線名 | J3: ='様式A-1'!J3:O4 -> 福浦港金比羅線 | M3: 定期点検実施者 | Q3: ='様式B (1)'!S3 -> アジア航測株式会社 | U3: 定期点検年月日 | X3: ='様式B (1)'!P2 -> 45903
B4: 名 称 | E4: ='様式A-1'!D4 -> 金比羅トンネル | H4: 管理者名 | J4: ='様式A-1'!R3 -> 山口県 下関土木建築事務所 | Q4: ='様式B (1)'!S4 -> 飯田 琢巳
B5: 状態の把握の内容 | C5: 覆工スパン 番号 | E5: 変状 番号 | F5: 状態の把握の内容
F6: 年月日 | H6: 内容 | O6: 結果 | Y6: 対策区分の 判定
B22: 注）状態の把握において、微破壊・非破壊検査や各種試験等を実施した場合について記載する。
B23: ※ 行が不足する場合は、適時、表の行を増やすこと。

Sheet 様式D-1-1 (1)
B2: ■定期点検記録様式 変状写真台帳【様式D-1-1】 | R2: 施設ID | T2: ='様式A-1'!W2 -> 33.96722,130.91500
B3: フリガナ | E3: ='様式A-1'!D3 -> コンピラトンネル | H3: 路 線 名 | J3: ='様式A-1'!J3:O4 -> 福浦港金比羅線 | M3: 定期点検実施者 | P3: ='様式B (1)'!S3 -> アジア航測株式会社 | S3: 定期点検年月日 | U3: ='様式B (1)'!P2 -> 45903
B4: 名 称 | E4: ='様式A-1'!D4 -> 金比羅トンネル | H4: 管理者名 | J4: ='様式A-1'!R3 -> 山口県 下関土木建築事務所 | P4: ='様式B (3)'!S4 -> 飯田 琢巳
B5: 写真 番号 | C5: 覆工スパン 番号 | E5: PS | M5: 写真 番号 | N5: 覆工スパン 番号 | P5: PS
C6: 変状番号 | E6: 1 | N6: 変状番号 | P6: 2
B7: 変状 部位 | C7: 対象箇所 | E7: 坑門 | M7: 変状 部位 | N7: 対象箇所 | P7: 坑門
C8: 部位区分 | E8: 面壁・妻壁等 | N8: 部位区分 | P8: 面壁・妻壁等
B9: 変状種類 | E9: 漏水 | M9: 変状種類 | P9: うき・はく離
B10: 対策 区分 | C10: 変状区分 | E10: 漏水 | M10: 対策 区分 | N10: 変状区分 | P10: 材質劣化
C11: 応急措置前 | E11: － | N11: 応急措置前 | P11: －
C12: 応急措置後 | E12: Ⅱb | N12: 応急措置後 | P12: Ⅰ
B13: 変状の発生範囲及び規模 | E13: 1.8m×1.6m | H13: 前回変状の発生範囲及び規模 | J13: － | M13: 変状の発生範囲及び規模 | P13: 0.1m×0.2m | S13: 前回変状の発生範囲及び規模 | U13: 0.15m×0.05m
B14: 対策履歴 | E14: － | H14: 実施状況（実施日） | J14: － | M14: 対策履歴 | P14: － | S14: 実施状況（実施日） | U14: －
B15: メモ | E15: 1.8m×1.6mの漏水（にじみ） 利用者にはほとんど影響はないが、日常巡視により監視を行う。 | M15: メモ | P15: 「うき・はく離」は現地確認で「はく落」になっているため、判定を見直し
B16: 写真 番号 | C16: 覆工スパン 番号 | E16: PS | M16: 写真 番号 | N16: 覆工スパン 番号 | P16: PS
C17: 変状番号 | E17: 3 | N17: 変状番号 | P17: 4
B18: 変状 部位 | C18: 対象箇所 | E18: 坑門 | M18: 変状 部位 | N18: 対象箇所 | P18: 覆工
C19: 部位区分 | E19: 面壁・妻壁等 | N19: 部位区分 | P19: アーチ（天端）
B20: 変状種類 | E20: 圧ざ、ひび割れ | M20: 変状種類 | P20: 圧ざ、ひび割れ
B21: 対策 区分 | C21: 変状区分 | E21: 材質劣化 | M21: 対策 区分 | N21: 変状区分 | P21: 材質劣化
C22: 応急措置前 | E22: － | N22: 応急措置前 | P22: －
C23: 応急措置後 | E23: Ⅱb | N23: 応急措置後 | P23: Ⅱb
B24: 変状の発生範囲及び規模 | E24: 幅0.5㎜ 長さ0.6m | H24: 前回変状の発生範囲及び規模 | J24: 幅0.6㎜ 長さ0.6m | M24: 変状の発生範囲及び規模 | P24: 幅0.8㎜ 長さ1.6m | S24: 前回変状の発生範囲及び規模 | U24: 幅0.8㎜ 長さ2.6m
B25: 対策履歴 | E25: － | H25: 実施状況（実施日） | J25: － | M25: 対策履歴 | P25: － | S25: 実施状況（実施日） | U25: －
B26: メモ | E26: 幅0.5㎜ 長さ0.6mのひび割れ 前回からの進行が見られないが、構造物の機能が低下する可能性があるため引き続いて監視を行う。 | M26: メモ | P26: 幅0.8㎜ 長さ1.6mのひび割れ 前回からの進行が見られないが、構造物の機能が低下する可能性があるため引き続いて監視を行う。
C27: ※ 応急措置後の対策区分について添付すること。また、点検前に 実施された措置によりⅠと判定された箇所も添付すること。 | N27: ※ 変状の発生範囲の規模とは、対策を行う際に参考となる変状の長さや面積をいう。
N28: ※ 応急措置を実施しないで決定した変状の対策区分は、対策区分の応急措置後の欄に記入すること。
C29: ※ たたき落としを実施した場合は、実施後の写真を添付すること。 | N29: ※ 変状の発生範囲の規模は、面積・寸法を記載すること。(ひび割れ幅のみmmとし、その他をm表記とする)
C30: ※ 附属物の取付状態に関する異常写真は別途、任意の書式でとりまとめること。 | N30: ※ 構造用鋼材以外の異物に伴ううき・はく離については、メモ欄に異物の概要を記入すること。

Sheet 様式D-1-1 (2)
B2: ■定期点検記録様式 変状写真台帳【様式D-1-1】 | R2: 施設ID | T2: ='様式A-1'!W2 -> 33.96722,130.91500
B3: フリガナ | E3: ='様式A-1'!D3 -> コンピラトンネル | H3: 路 線 名 | J3: ='様式A-1'!J3:O4 -> 福浦港金比羅線 | M3: 定期点検実施者 | P3: ='様式B (1)'!S3 -> アジア航測株式会社 | S3: 定期点検年月日 | U3: ='様式B (1)'!P2 -> 45903
B4: 名 称 | E4: ='様式A-1'!D4 -> 金比羅トンネル | H4: 管理者名 | J4: ='様式A-1'!R3 -> 山口県 下関土木建築事務所 | P4: ='様式B (3)'!S4 -> 飯田 琢巳
B5: 写真 番号 | C5: 覆工スパン 番号 | E5: PS | M5: 写真 番号 | N5: 覆工スパン 番号 | P5: S1
C6: 変状番号 | E6: 5 | N6: 変状番号 | P6: 1
B7: 変状 部位 | C7: 対象箇所 | E7: 坑門 | M7: 変状 部位 | N7: 対象箇所 | P7: 覆工
C8: 部位区分 | E8: 面壁・妻壁等 | N8: 部位区分 | P8: アーチ（左側）
B9: 変状種類 | E9: うき・はく離 | M9: 変状種類 | P9: 圧ざ、ひび割れ
B10: 対策 区分 | C10: 変状区分 | E10: 材質劣化 | M10: 対策 区分 | N10: 変状区分 | P10: 材質劣化
C11: 応急措置前 | E11: － | N11: 応急措置前 | P11: －
C12: 応急措置後 | E12: Ⅱb | N12: 応急措置後 | P12: Ⅱb
B13: 変状の発生範囲及び規模 | E13: 0.15m×0.4m | H13: 前回変状の発生範囲及び規模 | J13: 今回新規変状 | M13: 変状の発生範囲及び規模 | P13: 幅1.0㎜ 長さ5.0m | S13: 前回変状の発生範囲及び規模 | U13: 幅1.0㎜ 長さ5.0m
B14: 対策履歴 | E14: － | H14: 実施状況（実施日） | J14: － | M14: 対策履歴 | P14: － | S14: 実施状況（実施日） | U14: －
B15: メモ | E15: 0.15m×0.4mのうき・はく離 打音異常あり。将来的に落下の危険性は少ないが次回点検時も確認を要する。 | M15: メモ | P15: 幅1.0㎜ 長さ5.0mのひび割れ 前回からの進行が見られないが、構造物の機能が低下する可能性があるため引き続いて監視を行う。
B16: 写真 番号 | C16: 覆工スパン 番号 | E16: S1 | M16: 写真 番号 | N16: 覆工スパン 番号 | P16: S1
C17: 変状番号 | E17: 2 | N17: 変状番号 | P17: 3
B18: 変状 部位 | C18: 対象箇所 | E18: 覆工 | M18: 変状 部位 | N18: 対象箇所 | P18: 覆工
C19: 部位区分 | E19: アーチ（左側） | N19: 部位区分 | P19: アーチ（右側）
B20: 変状種類 | E20: うき・はく離 | M20: 変状種類 | P20: 圧ざ、ひび割れ
B21: 対策 区分 | C21: 変状区分 | E21: 材質劣化 | M21: 対策 区分 | N21: 変状区分 | P21: 材質劣化
C22: 応急措置前 | E22: － | N22: 応急措置前 | P22: －
C23: 応急措置後 | E23: Ⅰ | N23: 応急措置後 | P23: Ⅱb
B24: 変状の発生範囲及び規模 | E24: 0.1m×0.5m | H24: 前回変状の発生範囲及び規模 | J24: 0.1m×0.5m | M24: 変状の発生範囲及び規模 | P24: 幅1.0㎜ 長さ3.8m | S24: 前回変状の発生範囲及び規模 | U24: 幅1.0㎜ 長さ3.6m
B25: 対策履歴 | E25: － | H25: 実施状況（実施日） | J25: － | M25: 対策履歴 | P25: － | S25: 実施状況（実施日） | U25: －
B26: メモ | E26: うきは補修されているため、判定を見直し | M26: メモ | P26: 幅1.0㎜ 長さ3.8mのひび割れ 前回からの進行が見られないが、構造物の機能が低下する可能性があるため引き続いて監視を行う。
C27: ※ 応急措置後の対策区分について添付すること。また、点検前に 実施された措置によりⅠと判定された箇所も添付すること。 | N27: ※ 変状の発生範囲の規模とは、対策を行う際に参考となる変状の長さや面積をいう。
N28: ※ 応急措置を実施しないで決定した変状の対策区分は、対策区分の応急措置後の欄に記入すること。
C29: ※ たたき落としを実施した場合は、実施後の写真を添付すること。 | N29: ※ 変状の発生範囲の規模は、面積・寸法を記載すること。(ひび割れ幅のみmmとし、その他をm表記とする)
C30: ※ 附属物の取付状態に関する異常写真は別途、任意の書式でとりまとめること。 | N30: ※ 構造用鋼材以外の異物に伴ううき・はく離については、メモ欄に異物の概要を記入すること。

Sheet 様式D-1-1 (3)
B2: ■定期点検記録様式 変状写真台帳【様式D-1-1】 | R2: 施設ID | T2: ='様式A-1'!W2 -> 33.96722,130.91500
B3: フリガナ | E3: ='様式A-1'!D3 -> コンピラトンネル | H3: 路 線 名 | J3: ='様式A-1'!J3:O4 -> 福浦港金比羅線 | M3: 定期点検実施者 | P3: ='様式B (1)'!S3 -> アジア航測株式会社 | S3: 定期点検年月日 | U3: ='様式B (1)'!P2 -> 45903
B4: 名 称 | E4: ='様式A-1'!D4 -> 金比羅トンネル | H4: 管理者名 | J4: ='様式A-1'!R3 -> 山口県 下関土木建築事務所 | P4: ='様式B (3)'!S4 -> 飯田 琢巳
B5: 写真 番号 | C5: 覆工スパン 番号 | E5: S1 | M5: 写真 番号 | N5: 覆工スパン 番号 | P5: S2
C6: 変状番号 | E6: 4 | N6: 変状番号 | P6: 1
B7: 変状 部位 | C7: 対象箇所 | E7: 覆工 | M7: 変状 部位 | N7: 対象箇所 | P7: 覆工
C8: 部位区分 | E8: 横断目地（右側） | N8: 部位区分 | P8: アーチ（左側）
B9: 変状種類 | E9: うき・はく離 | M9: 変状種類 | P9: 圧ざ、ひび割れ
B10: 対策 区分 | C10: 変状区分 | E10: 材質劣化 | M10: 対策 区分 | N10: 変状区分 | P10: 材質劣化
C11: 応急措置前 | E11: － | N11: 応急措置前
C12: 応急措置後 | E12: Ⅰ | N12: 応急措置後 | P12: Ⅱb
B13: 変状の発生範囲及び規模 | E13: 0.2m×0.05m | H13: 前回変状の発生範囲及び規模 | J13: 0.2m×0.05m | M13: 変状の発生範囲及び規模 | P13: 幅4.0㎜ 長さ5.8m | S13: 前回変状の発生範囲及び規模 | U13: 幅4.0㎜ 長さ6.0m
B14: 対策履歴 | E14: － | H14: 実施状況（実施日） | J14: － | M14: 対策履歴 | P14: － | S14: 実施状況（実施日） | U14: －
B15: メモ | E15: うきは補修されているため、判定を見直し | M15: メモ | P15: 幅4.0㎜ 長さ5.8mのひび割れ 前回からの進行が見られないが、構造物の機能が低下する可能性があるため引き続いて監視を行う。
B16: 写真 番号 | C16: 覆工スパン 番号 | E16: S2 | M16: 写真 番号 | N16: 覆工スパン 番号 | P16: S2
C17: 変状番号 | E17: 2 | N17: 変状番号 | P17: 3
B18: 変状 部位 | C18: 対象箇所 | E18: 覆工 | M18: 変状 部位 | N18: 対象箇所 | P18: 覆工
C19: 部位区分 | E19: アーチ（天端） | N19: 部位区分 | P19: アーチ（左側）
B20: 変状種類 | E20: うき・はく離 | M20: 変状種類 | P20: うき・はく離
B21: 対策 区分 | C21: 変状区分 | E21: 材質劣化 | M21: 対策 区分 | N21: 変状区分 | P21: 材質劣化
C22: 応急措置前 | E22: － | N22: 応急措置前 | P22: －
C23: 応急措置後 | E23: Ⅰ | N23: 応急措置後 | P23: Ⅰ
B24: 変状の発生範囲及び規模 | E24: 2.5m×0.15m | H24: 前回変状の発生範囲及び規模 | J24: 2.5m×0.15m | M24: 変状の発生範囲及び規模 | P24: 0.05m×0.15m | S24: 前回変状の発生範囲及び規模 | U24: 0.05m×0.15m
B25: 対策履歴 | E25: － | H25: 実施状況（実施日） | J25: － | M25: 対策履歴 | P25: － | S25: 実施状況（実施日） | U25: －
B26: メモ | E26: うきは補修されているため、判定を見直し | M26: メモ | P26: うきは補修されているため、判定を見直し
C27: ※ 応急措置後の対策区分について添付すること。また、点検前に 実施された措置によりⅠと判定された箇所も添付すること。 | N27: ※ 変状の発生範囲の規模とは、対策を行う際に参考となる変状の長さや面積をいう。
N28: ※ 応急措置を実施しないで決定した変状の対策区分は、対策区分の応急措置後の欄に記入すること。
C29: ※ たたき落としを実施した場合は、実施後の写真を添付すること。 | N29: ※ 変状の発生範囲の規模は、面積・寸法を記載すること。(ひび割れ幅のみmmとし、その他をm表記とする)
C30: ※ 附属物の取付状態に関する異常写真は別途、任意の書式でとりまとめること。 | N30: ※ 構造用鋼材以外の異物に伴ううき・はく離については、メモ欄に異物の概要を記入すること。

Sheet 様式D-1-1 (4)
B2: ■定期点検記録様式 変状写真台帳【様式D-1-1】 | R2: 施設ID | T2: ='様式A-1'!W2 -> 33.96722,130.91500
B3: フリガナ | E3: ='様式A-1'!D3 -> コンピラトンネル | H3: 路 線 名 | J3: ='様式A-1'!J3:O4 -> 福浦港金比羅線 | M3: 定期点検実施者 | P3: ='様式B (1)'!S3 -> アジア航測株式会社 | S3: 定期点検年月日 | U3: ='様式B (1)'!P2 -> 45903
B4: 名 称 | E4: ='様式A-1'!D4 -> 金比羅トンネル | H4: 管理者名 | J4: ='様式A-1'!R3 -> 山口県 下関土木建築事務所 | P4: ='様式B (3)'!S4 -> 飯田 琢巳
B5: 写真 番号 | C5: 覆工スパン 番号 | E5: S2 | M5: 写真 番号 | N5: 覆工スパン 番号 | P5: Ｓ2
C6: 変状番号 | E6: 4 | N6: 変状番号 | P6: 5
B7: 変状 部位 | C7: 対象箇所 | E7: 覆工 | M7: 変状 部位 | N7: 対象箇所 | P7: 覆工
C8: 部位区分 | E8: アーチ（左側） | N8: 部位区分 | P8: アーチ（左側）
B9: 変状種類 | E9: うき・はく離 | M9: 変状種類 | P9: うき・はく離
B10: 対策 区分 | C10: 変状区分 | E10: 材質劣化 | M10: 対策 区分 | N10: 変状区分 | P10: 材質劣化
C11: 応急措置前 | E11: － | N11: 応急措置前 | P11: －
C12: 応急措置後 | E12: Ⅰ | N12: 応急措置後 | P12: Ⅰ
B13: 変状の発生範囲及び規模 | E13: 0.05m×0.1m | H13: 前回変状の発生範囲及び規模 | J13: 0.05m×0.1m | M13: 変状の発生範囲及び規模 | P13: 0.07m×0.33m | S13: 前回変状の発生範囲及び規模 | U13: 0.05m×0.3m
B14: 対策履歴 | E14: － | H14: 実施状況（実施日） | J14: － | M14: 対策履歴 | P14: － | S14: 実施状況（実施日） | U14: －
B15: メモ | E15: うきは補修されているため、判定を見直し | M15: メモ | P15: うきは補修されているため、判定を見直し
B16: 写真 番号 | C16: 覆工スパン 番号 | E16: S2 | M16: 写真 番号 | N16: 覆工スパン 番号 | P16: S2
C17: 変状番号 | E17: 6 | N17: 変状番号 | P17: 7
B18: 変状 部位 | C18: 対象箇所 | E18: 覆工 | M18: 変状 部位 | N18: 対象箇所 | P18: 覆工
C19: 部位区分 | E19: アーチ（左側） | N19: 部位区分 | P19: 横断目地（左側）
B20: 変状種類 | E20: うき・はく離 | M20: 変状種類 | P20: うき・はく離
B21: 対策 区分 | C21: 変状区分 | E21: 材質劣化 | M21: 対策 区分 | N21: 変状区分 | P21: 材質劣化
C22: 応急措置前 | E22: － | N22: 応急措置前 | P22: －
C23: 応急措置後 | E23: Ⅰ | N23: 応急措置後 | P23: Ⅰ
B24: 変状の発生範囲及び規模 | E24: 0.05m×0.2m | H24: 前回変状の発生範囲及び規模 | J24: 0.05m×0.2m | M24: 変状の発生範囲及び規模 | P24: 0.9m×0.15m | S24: 前回変状の発生範囲及び規模 | U24: 0.9m×0.1m
B25: 対策履歴 | E25: － | H25: 実施状況（実施日） | J25: － | M25: 対策履歴 | P25: － | S25: 実施状況（実施日） | U25: －
B26: メモ | E26: うきは補修されているため、判定を見直し | M26: メモ | P26: うきは補修されているため、判定を見直し
C27: ※ 応急措置後の対策区分について添付すること。また、点検前に 実施された措置によりⅠと判定された箇所も添付すること。 | N27: ※ 変状の発生範囲の規模とは、対策を行う際に参考となる変状の長さや面積をいう。
N28: ※ 応急措置を実施しないで決定した変状の対策区分は、対策区分の応急措置後の欄に記入すること。
C29: ※ たたき落としを実施した場合は、実施後の写真を添付すること。 | N29: ※ 変状の発生範囲の規模は、面積・寸法を記載すること。(ひび割れ幅のみmmとし、その他をm表記とする)
C30: ※ 附属物の取付状態に関する異常写真は別途、任意の書式でとりまとめること。 | N30: ※ 構造用鋼材以外の異物に伴ううき・はく離については、メモ欄に異物の概要を記入すること。

Sheet 様式D-1-1 (5)
B2: ■定期点検記録様式 変状写真台帳【様式D-1-1】 | R2: 施設ID | T2: ='様式A-1'!W2 -> 33.96722,130.91500
B3: フリガナ | E3: ='様式A-1'!D3 -> コンピラトンネル | H3: 路 線 名 | J3: ='様式A-1'!J3:O4 -> 福浦港金比羅線 | M3: 定期点検実施者 | P3: ='様式B (1)'!S3 -> アジア航測株式会社 | S3: 定期点検年月日 | U3: ='様式B (1)'!P2 -> 45903
B4: 名 称 | E4: ='様式A-1'!D4 -> 金比羅トンネル | H4: 管理者名 | J4: ='様式A-1'!R3 -> 山口県 下関土木建築事務所 | P4: ='様式B (3)'!S4 -> 飯田 琢巳
B5: 写真 番号 | C5: 覆工スパン 番号 | E5: S2 | M5: 写真 番号 | N5: 覆工スパン 番号 | P5: S2
C6: 変状番号 | E6: 8 | N6: 変状番号 | P6: 8
B7: 変状 部位 | C7: 対象箇所 | E7: 覆工 | M7: 変状 部位 | N7: 対象箇所 | P7: 覆工
C8: 部位区分 | E8: アーチ（右側） | N8: 部位区分 | P8: アーチ（右側）
B9: 変状種類 | E9: 変形・移動 | M9: 変状種類 | P9: 変形・移動
B10: 対策 区分 | C10: 変状区分 | E10: 外力 | M10: 対策 区分 | N10: 変状区分 | P10: 外力
C11: 応急措置前 | E11: － | N11: 応急措置前 | P11: －
C12: 応急措置後 | E12: Ⅱb | N12: 応急措置後 | P12: Ⅱb
B13: 変状の発生範囲及び規模 | E13: 14mm | H13: 前回変状の発生範囲及び規模 | J13: 10～20mm | M13: KARA | P13: 14mm | S13: 前回変状の発生範囲及び規模 | U13: 10～20mm
B14: 対策履歴 | E14: － | H14: 実施状況（実施日） | J14: － | M14: 対策履歴 | P14: － | S14: 実施状況（実施日） | U14: －
B15: メモ | E15: 14mmの段差、範囲は目地方向に1.5m程度 | M15: メモ | P15: 14mmの段差（近景）
B16: 写真 番号 | C16: 覆工スパン 番号 | E16: S2 | M16: 写真 番号 | N16: 覆工スパン 番号 | P16: S2
C17: 変状番号 | E17: 9 | N17: 変状番号 | P17: 10
B18: 変状 部位 | C18: 対象箇所 | E18: 覆工 | M18: 変状 部位 | N18: 対象箇所 | P18: 覆工
C19: 部位区分 | E19: アーチ（天端） | N19: 部位区分 | P19: アーチ（天端）
B20: 変状種類 | E20: うき・はく離 | M20: 変状種類 | P20: うき・はく離
B21: 対策 区分 | C21: 変状区分 | E21: 材質劣化 | M21: 対策 区分 | N21: 変状区分 | P21: 材質劣化
C22: 応急措置前 | E22: － | N22: 応急措置前 | P22: －
C23: 応急措置後 | E23: Ⅰ | N23: 応急措置後 | P23: Ⅰ
B24: 変状の発生範囲及び規模 | E24: 2.4m×0.05m | H24: 前回変状の発生範囲及び規模 | J24: 2.4m×0.05m | M24: 変状の発生範囲及び規模 | P24: 0.3m×0.1m | S24: 前回変状の発生範囲及び規模 | U24: 0.3m×0.1m
B25: 対策履歴 | E25: － | H25: 実施状況（実施日） | J25: － | M25: 対策履歴 | P25: － | S25: 実施状況（実施日） | U25: －
B26: メモ | E26: うきは補修されているため、判定を見直し | M26: メモ | P26: うきは補修されているため、判定を見直し
C27: ※ 応急措置後の対策区分について添付すること。また、点検前に 実施された措置によりⅠと判定された箇所も添付すること。 | N27: ※ 変状の発生範囲の規模とは、対策を行う際に参考となる変状の長さや面積をいう。
N28: ※ 応急措置を実施しないで決定した変状の対策区分は、対策区分の応急措置後の欄に記入すること。
C29: ※ たたき落としを実施した場合は、実施後の写真を添付すること。 | N29: ※ 変状の発生範囲の規模は、面積・寸法を記載すること。(ひび割れ幅のみmmとし、その他をm表記とする)
C30: ※ 附属物の取付状態に関する異常写真は別途、任意の書式でとりまとめること。 | N30: ※ 構造用鋼材以外の異物に伴ううき・はく離については、メモ欄に異物の概要を記入すること。

Sheet 様式D-1-1 (6)
B2: ■定期点検記録様式 変状写真台帳【様式D-1-1】 | R2: 施設ID | T2: ='様式A-1'!W2 -> 33.96722,130.91500
B3: フリガナ | E3: ='様式A-1'!D3 -> コンピラトンネル | H3: 路 線 名 | J3: ='様式A-1'!J3:O4 -> 福浦港金比羅線 | M3: 定期点検実施者 | P3: ='様式B (1)'!S3 -> アジア航測株式会社 | S3: 定期点検年月日 | U3: ='様式B (1)'!P2 -> 45903
B4: 名 称 | E4: ='様式A-1'!D4 -> 金比羅トンネル | H4: 管理者名 | J4: ='様式A-1'!R3 -> 山口県 下関土木建築事務所 | P4: ='様式B (3)'!S4 -> 飯田 琢巳
B5: 写真 番号 | C5: 覆工スパン 番号 | E5: S2 | M5: 写真 番号 | N5: 覆工スパン 番号 | P5: S2
C6: 変状番号 | E6: 11 | N6: 変状番号 | P6: 12
B7: 変状 部位 | C7: 対象箇所 | E7: 覆工 | M7: 変状 部位 | N7: 対象箇所 | P7: 覆工
C8: 部位区分 | E8: アーチ（天端） | N8: 部位区分 | P8: アーチ（天端）
B9: 変状種類 | E9: うき・はく離 | M9: 変状種類 | P9: うき・はく離
B10: 対策 区分 | C10: 変状区分 | E10: 材質劣化 | M10: 対策 区分 | N10: 変状区分 | P10: 材質劣化
C11: 応急措置前 | E11: － | N11: 応急措置前 | P11: －
C12: 応急措置後 | E12: Ⅰ | N12: 応急措置後 | P12: Ⅰ
B13: 変状の発生範囲及び規模 | E13: 0.1m×0.8m | H13: 前回変状の発生範囲及び規模 | J13: 0.1m×0.3m | M13: 変状の発生範囲及び規模 | P13: 1.9m×0.1m | S13: 前回変状の発生範囲及び規模 | U13: 2.1m×0.1m
B14: 対策履歴 | E14: － | H14: 実施状況（実施日） | J14: － | M14: 対策履歴 | P14: － | S14: 実施状況（実施日） | U14: －
B15: メモ | E15: うきは補修されているため、判定を見直し | M15: メモ | P15: うきは補修されているため、判定を見直し
B16: 写真 番号 | C16: 覆工スパン 番号 | E16: S3 | M16: 写真 番号 | N16: 覆工スパン 番号 | P16: S3
C17: 変状番号 | E17: 1 | N17: 変状番号 | P17: 2
B18: 変状 部位 | C18: 対象箇所 | E18: 覆工 | M18: 変状 部位 | N18: 対象箇所 | P18: 覆工
C19: 部位区分 | E19: アーチ（左側） | N19: 部位区分 | P19: アーチ（左側）
B20: 変状種類 | E20: 圧ざ、ひび割れ | M20: 変状種類 | P20: うき・はく離
B21: 対策 区分 | C21: 変状区分 | E21: 材質劣化 | M21: 対策 区分 | N21: 変状区分 | P21: 材質劣化
C22: 応急措置前 | E22: － | N22: 応急措置前 | P22: －
C23: 応急措置後 | E23: Ⅱb | N23: 応急措置後 | P23: Ⅰ
B24: 変状の発生範囲及び規模 | E24: 幅1.0㎜ 長さ3.4m | H24: 前回変状の発生範囲及び規模 | J24: 幅1.0㎜ 長さ3.4m | M24: 変状の発生範囲及び規模 | P24: 0.1m×0.6m | S24: 前回変状の発生範囲及び規模 | U24: 0.1m×0.6m
B25: 対策履歴 | E25: － | H25: 実施状況（実施日） | J25: － | M25: 対策履歴 | P25: － | S25: 実施状況（実施日） | U25: －
B26: メモ | E26: 幅1.0㎜ 長さ3.4mのひび割れ 前回からの進行が見られないが、構造物の機能が低下する可能性があるため引き続いて監視を行う。 | M26: メモ | P26: うきは補修されているため、判定を見直し
C27: ※ 応急措置後の対策区分について添付すること。また、点検前に 実施された措置によりⅠと判定された箇所も添付すること。 | N27: ※ 変状の発生範囲の規模とは、対策を行う際に参考となる変状の長さや面積をいう。
N28: ※ 応急措置を実施しないで決定した変状の対策区分は、対策区分の応急措置後の欄に記入すること。
C29: ※ たたき落としを実施した場合は、実施後の写真を添付すること。 | N29: ※ 変状の発生範囲の規模は、面積・寸法を記載すること。(ひび割れ幅のみmmとし、その他をm表記とする)
C30: ※ 附属物の取付状態に関する異常写真は別途、任意の書式でとりまとめること。 | N30: ※ 構造用鋼材以外の異物に伴ううき・はく離については、メモ欄に異物の概要を記入すること。

Sheet 様式D-1-1 (7)
B2: ■定期点検記録様式 変状写真台帳【様式D-1-1】 | R2: 施設ID | T2: ='様式A-1'!W2 -> 33.96722,130.91500
B3: フリガナ | E3: ='様式A-1'!D3 -> コンピラトンネル | H3: 路 線 名 | J3: ='様式A-1'!J3:O4 -> 福浦港金比羅線 | M3: 定期点検実施者 | P3: ='様式B (1)'!S3 -> アジア航測株式会社 | S3: 定期点検年月日 | U3: ='様式B (1)'!P2 -> 45903
B4: 名 称 | E4: ='様式A-1'!D4 -> 金比羅トンネル | H4: 管理者名 | J4: ='様式A-1'!R3 -> 山口県 下関土木建築事務所 | P4: ='様式B (3)'!S4 -> 飯田 琢巳
B5: 写真 番号 | C5: 覆工スパン 番号 | E5: S3 | M5: 写真 番号 | N5: 覆工スパン 番号 | P5: S3
C6: 変状番号 | E6: 3 | N6: 変状番号 | P6: 4
B7: 変状 部位 | C7: 対象箇所 | E7: 覆工 | M7: 変状 部位 | N7: 対象箇所 | P7: 覆工
C8: 部位区分 | E8: 横断目地（左側） | N8: 部位区分 | P8: アーチ（天端）
B9: 変状種類 | E9: うき・はく離 | M9: 変状種類 | P9: 漏水
B10: 対策 区分 | C10: 変状区分 | E10: 材質劣化 | M10: 対策 区分 | N10: 変状区分 | P10: 漏水
C11: 応急措置前 | E11: － | N11: 応急措置前 | P11: －
C12: 応急措置後 | E12: Ⅰ | N12: 応急措置後 | P12: Ⅱb
B13: 変状の発生範囲及び規模 | E13: 0.42m×0.06m | H13: 前回変状の発生範囲及び規模 | J13: 0.4m×0.05m | M13: 変状の発生範囲及び規模 | P13: 8.4m×0.5m | S13: 前回変状の発生範囲及び規模 | U13: －
B14: 対策履歴 | E14: － | H14: 実施状況（実施日） | J14: － | M14: 対策履歴 | P14: － | S14: 実施状況（実施日） | U14: －
B15: メモ | E15: うきは補修されているため、判定を見直し | M15: メモ | P15: 8.4m×0.5mの漏水跡 利用者にはほとんど影響はないが、日常巡視により監視を行う。
B16: 写真 番号 | C16: 覆工スパン 番号 | E16: S3 | M16: 写真 番号 | N16: 覆工スパン 番号 | P16: S3
C17: 変状番号 | E17: 5 | N17: 変状番号 | P17: 6
B18: 変状 部位 | C18: 対象箇所 | E18: 覆工 | M18: 変状 部位 | N18: 対象箇所 | P18: 覆工
C19: 部位区分 | E19: 横断目地（天端） | N19: 部位区分 | P19: アーチ（天端）
B20: 変状種類 | E20: うき・はく離 | M20: 変状種類 | P20: うき・はく離
B21: 対策 区分 | C21: 変状区分 | E21: 材質劣化 | M21: 対策 区分 | N21: 変状区分 | P21: 材質劣化
C22: 応急措置前 | E22: － | N22: 応急措置前 | P22: －
C23: 応急措置後 | E23: Ⅰ | N23: 応急措置後 | P23: Ⅰ
B24: 変状の発生範囲及び規模 | E24: 1.6m×0.2m | H24: 前回変状の発生範囲及び規模 | J24: 1.6m×0.2m | M24: 変状の発生範囲及び規模 | P24: 0.1m×0.1m | S24: 前回変状の発生範囲及び規模 | U24: 0.1m×0.1m
B25: 対策履歴 | E25: － | H25: 実施状況（実施日） | J25: － | M25: 対策履歴 | P25: － | S25: 実施状況（実施日） | U25: －
B26: メモ | E26: うきは補修されているため、判定を見直し | M26: メモ | P26: うきは補修されているため、判定を見直し
C27: ※ 応急措置後の対策区分について添付すること。また、点検前に 実施された措置によりⅠと判定された箇所も添付すること。 | N27: ※ 変状の発生範囲の規模とは、対策を行う際に参考となる変状の長さや面積をいう。
N28: ※ 応急措置を実施しないで決定した変状の対策区分は、対策区分の応急措置後の欄に記入すること。
C29: ※ たたき落としを実施した場合は、実施後の写真を添付すること。 | N29: ※ 変状の発生範囲の規模は、面積・寸法を記載すること。(ひび割れ幅のみmmとし、その他をm表記とする)
C30: ※ 附属物の取付状態に関する異常写真は別途、任意の書式でとりまとめること。 | N30: ※ 構造用鋼材以外の異物に伴ううき・はく離については、メモ欄に異物の概要を記入すること。

Sheet 様式D-1-1 (8)
B2: ■定期点検記録様式 変状写真台帳【様式D-1-1】 | R2: 施設ID | T2: ='様式A-1'!W2 -> 33.96722,130.91500
B3: フリガナ | E3: ='様式A-1'!D3 -> コンピラトンネル | H3: 路 線 名 | J3: ='様式A-1'!J3:O4 -> 福浦港金比羅線 | M3: 定期点検実施者 | P3: ='様式B (1)'!S3 -> アジア航測株式会社 | S3: 定期点検年月日 | U3: ='様式B (1)'!P2 -> 45903
B4: 名 称 | E4: ='様式A-1'!D4 -> 金比羅トンネル | H4: 管理者名 | J4: ='様式A-1'!R3 -> 山口県 下関土木建築事務所 | P4: ='様式B (3)'!S4 -> 飯田 琢巳
B5: 写真 番号 | C5: 覆工スパン 番号 | E5: S3 | M5: 写真 番号 | N5: 覆工スパン 番号 | P5: S3
C6: 変状番号 | E6: 7 | N6: 変状番号 | P6: 8
B7: 変状 部位 | C7: 対象箇所 | E7: 覆工 | M7: 変状 部位 | N7: 対象箇所 | P7: 覆工
C8: 部位区分 | E8: アーチ（右側） | N8: 部位区分 | P8: アーチ（右側）
B9: 変状種類 | E9: 圧ざ、ひび割れ | M9: 変状種類 | P9: 漏水
B10: 対策 区分 | C10: 変状区分 | E10: 材質劣化 | M10: 対策 区分 | N10: 変状区分 | P10: 漏水
C11: 応急措置前 | E11: － | N11: 応急措置前 | P11: －
C12: 応急措置後 | E12: Ⅱb | N12: 応急措置後 | P12: Ⅱb
B13: 変状の発生範囲及び規模 | E13: 幅1.0㎜ 長さ4.8m | H13: 前回変状の発生範囲及び規模 | J13: 幅0.9㎜ 長さ5.7m | M13: 変状の発生範囲及び規模 | P13: 6.7m×0.5m | S13: 前回変状の発生範囲及び規模 | U13: －
B14: 対策履歴 | E14: － | H14: 実施状況（実施日） | J14: － | M14: 対策履歴 | P14: － | S14: 実施状況（実施日） | U14: －
B15: メモ | E15: 幅1.0㎜ 長さ4.8mのひび割れ 前回からの進行が見られないが、構造物の機能が低下する可能性があるため引き続いて監視を行う。 | M15: メモ | P15: 6.7m×0.5mの漏水跡 利用者にはほとんど影響はないが、日常巡視により監視を行う。
B16: 写真 番号 | C16: 覆工スパン 番号 | E16: S4 | M16: 写真 番号 | N16: 覆工スパン 番号 | P16: S4
C17: 変状番号 | E17: 1 | N17: 変状番号 | P17: 2
B18: 変状 部位 | C18: 対象箇所 | E18: 覆工 | M18: 変状 部位 | N18: 対象箇所 | P18: 覆工
C19: 部位区分 | E19: アーチ（左側） | N19: 部位区分 | P19: 横断目地（天端）
B20: 変状種類 | E20: 圧ざ、ひび割れ | M20: 変状種類 | P20: 変形・移動
B21: 対策 区分 | C21: 変状区分 | E21: 材質劣化 | M21: 対策 区分 | N21: 変状区分 | P21: 外力
C22: 応急措置前 | E22: － | N22: 応急措置前 | P22: －
C23: 応急措置後 | E23: Ⅱb | N23: 応急措置後 | P23: Ⅱb
B24: 変状の発生範囲及び規模 | E24: 幅0.8㎜ 長さ6.2m | H24: 前回変状の発生範囲及び規模 | J24: 幅0.8㎜ 長さ6.4m | M24: 変状の発生範囲及び規模 | P24: 26mm | S24: 前回変状の発生範囲及び規模 | U24: 10～15mm
B25: 対策履歴 | E25: － | H25: 実施状況（実施日） | J25: － | M25: 対策履歴 | P25: － | S25: 実施状況（実施日） | U25: －
B26: メモ | E26: 幅0.8㎜ 長さ6.2mのひび割れ 前回からの進行が見られないが、構造物の機能が低下する可能性があるため引き続いて監視を行う。 | M26: メモ | P26: 26mmの段差、範囲は目地方向に1.0m程度（進行している）
C27: ※ 応急措置後の対策区分について添付すること。また、点検前に 実施された措置によりⅠと判定された箇所も添付すること。 | N27: ※ 変状の発生範囲の規模とは、対策を行う際に参考となる変状の長さや面積をいう。
N28: ※ 応急措置を実施しないで決定した変状の対策区分は、対策区分の応急措置後の欄に記入すること。
C29: ※ たたき落としを実施した場合は、実施後の写真を添付すること。 | N29: ※ 変状の発生範囲の規模は、面積・寸法を記載すること。(ひび割れ幅のみmmとし、その他をm表記とする)
C30: ※ 附属物の取付状態に関する異常写真は別途、任意の書式でとりまとめること。 | N30: ※ 構造用鋼材以外の異物に伴ううき・はく離については、メモ欄に異物の概要を記入すること。

Sheet 様式D-1-1 (9)
B2: ■定期点検記録様式 変状写真台帳【様式D-1-1】 | R2: 施設ID | T2: ='様式A-1'!W2 -> 33.96722,130.91500
B3: フリガナ | E3: ='様式A-1'!D3 -> コンピラトンネル | H3: 路 線 名 | J3: ='様式A-1'!J3:O4 -> 福浦港金比羅線 | M3: 定期点検実施者 | P3: ='様式B (1)'!S3 -> アジア航測株式会社 | S3: 定期点検年月日 | U3: ='様式B (1)'!P2 -> 45903
B4: 名 称 | E4: ='様式A-1'!D4 -> 金比羅トンネル | H4: 管理者名 | J4: ='様式A-1'!R3 -> 山口県 下関土木建築事務所 | P4: ='様式B (3)'!S4 -> 飯田 琢巳
B5: 写真 番号 | C5: 覆工スパン 番号 | E5: S4 | M5: 写真 番号 | N5: 覆工スパン 番号 | P5: S4
C6: 変状番号 | E6: 2 | N6: 変状番号 | P6: 3
B7: 変状 部位 | C7: 対象箇所 | E7: 覆工 | M7: 変状 部位 | N7: 対象箇所 | P7: 覆工
C8: 部位区分 | E8: 横断目地（天端） | N8: 部位区分 | P8: アーチ（左側）
B9: 変状種類 | E9: 変形・移動 | M9: 変状種類 | P9: 漏水
B10: 対策 区分 | C10: 変状区分 | E10: 外力 | M10: 対策 区分 | N10: 変状区分 | P10: 漏水
C11: 応急措置前 | E11: － | N11: 応急措置前 | P11: －
C12: 応急措置後 | E12: Ⅱb | N12: 応急措置後 | P12: Ⅰ
B13: 変状の発生範囲及び規模 | E13: 26mm | H13: 前回変状の発生範囲及び規模 | J13: 10～15mm | M13: 変状の発生範囲及び規模 | P13: － | S13: 前回変状の発生範囲及び規模 | U13: －
B14: 対策履歴 | E14: － | H14: 実施状況（実施日） | J14: － | M14: 対策履歴 | P14: － | S14: 実施状況（実施日） | U14: －
B15: メモ | E15: 26mmの段差（近景） | M15: メモ | P15: 漏水は補修されているため、判定を見直し
B16: 写真 番号 | C16: 覆工スパン 番号 | E16: S4 | M16: 写真 番号 | N16: 覆工スパン 番号 | P16: S4
C17: 変状番号 | E17: 4 | N17: 変状番号 | P17: 5
B18: 変状 部位 | C18: 対象箇所 | E18: 覆工 | M18: 変状 部位 | N18: 対象箇所 | P18: 覆工
C19: 部位区分 | E19: 横断目地（右側） | N19: 部位区分 | P19: アーチ（右側）
B20: 変状種類 | E20: うき・はく離 | M20: 変状種類 | P20: 圧ざ、ひび割れ
B21: 対策 区分 | C21: 変状区分 | E21: 材質劣化 | M21: 対策 区分 | N21: 変状区分 | P21: 材質劣化
C22: 応急措置前 | E22: － | N22: 応急措置前 | P22: －
C23: 応急措置後 | E23: Ⅰ | N23: 応急措置後 | P23: Ⅱb
B24: 変状の発生範囲及び規模 | E24: 0.4m×0.2m | H24: 前回変状の発生範囲及び規模 | J24: 0.4m×0.2m | M24: 変状の発生範囲及び規模 | P24: 幅0.6㎜ 長さ1.2m | S24: 前回変状の発生範囲及び規模 | U24: 幅0.6㎜ 長さ1.3m
B25: 対策履歴 | E25: － | H25: 実施状況（実施日） | J25: － | M25: 対策履歴 | P25: － | S25: 実施状況（実施日） | U25: －
B26: メモ | E26: うきは補修されているため、判定を見直し | M26: メモ | P26: 幅0.6㎜ 長さ1.2mのひび割れ 前回からの進行が見られないが、構造物の機能が低下する可能性があるため引き続いて監視を行う。
C27: ※ 応急措置後の対策区分について添付すること。また、点検前に 実施された措置によりⅠと判定された箇所も添付すること。 | N27: ※ 変状の発生範囲の規模とは、対策を行う際に参考となる変状の長さや面積をいう。
N28: ※ 応急措置を実施しないで決定した変状の対策区分は、対策区分の応急措置後の欄に記入すること。
C29: ※ たたき落としを実施した場合は、実施後の写真を添付すること。 | N29: ※ 変状の発生範囲の規模は、面積・寸法を記載すること。(ひび割れ幅のみmmとし、その他をm表記とする)
C30: ※ 附属物の取付状態に関する異常写真は別途、任意の書式でとりまとめること。 | N30: ※ 構造用鋼材以外の異物に伴ううき・はく離については、メモ欄に異物の概要を記入すること。

Sheet 様式D-1-1 (10)
B2: ■定期点検記録様式 変状写真台帳【様式D-1-1】 | R2: 施設ID | T2: ='様式A-1'!W2 -> 33.96722,130.91500
B3: フリガナ | E3: ='様式A-1'!D3 -> コンピラトンネル | H3: 路 線 名 | J3: ='様式A-1'!J3:O4 -> 福浦港金比羅線 | M3: 定期点検実施者 | P3: ='様式B (1)'!S3 -> アジア航測株式会社 | S3: 定期点検年月日 | U3: ='様式B (1)'!P2 -> 45903
B4: 名 称 | E4: ='様式A-1'!D4 -> 金比羅トンネル | H4: 管理者名 | J4: ='様式A-1'!R3 -> 山口県 下関土木建築事務所 | P4: ='様式B (3)'!S4 -> 飯田 琢巳
B5: 写真 番号 | C5: 覆工スパン 番号 | E5: S4 | M5: 写真 番号 | N5: 覆工スパン 番号 | P5: S5
C6: 変状番号 | E6: 6 | N6: 変状番号 | P6: 1
B7: 変状 部位 | C7: 対象箇所 | E7: 覆工 | M7: 変状 部位 | N7: 対象箇所 | P7: 覆工
C8: 部位区分 | E8: アーチ（右側） | N8: 部位区分 | P8: アーチ（左側）
B9: 変状種類 | E9: 漏水 | M9: 変状種類 | P9: 漏水
B10: 対策 区分 | C10: 変状区分 | E10: 漏水 | M10: 対策 区分 | N10: 変状区分 | P10: 漏水
C11: 応急措置前 | E11: － | N11: 応急措置前 | P11: －
C12: 応急措置後 | E12: Ⅱb | N12: 応急措置後 | P12: Ⅱb
B13: 変状の発生範囲及び規模 | E13: 6.6m×0.5m | H13: 前回変状の発生範囲及び規模 | J13: － | M13: 変状の発生範囲及び規模 | P13: 3.9m×1.2m | S13: 前回変状の発生範囲及び規模 | U13: －
B14: 対策履歴 | E14: － | H14: 実施状況（実施日） | J14: － | M14: 対策履歴 | P14: － | S14: 実施状況（実施日） | U14: －
B15: メモ | E15: 6.6m×0.5mの漏水（にじみ） 利用者にはほとんど影響はないが、日常巡視により監視を行う。 | M15: メモ | P15: 3.9m×1.2mの漏水（にじみ） 利用者にはほとんど影響はないが、日常巡視により監視を行う。
B16: 写真 番号 | C16: 覆工スパン 番号 | E16: S5 | M16: 写真 番号 | N16: 覆工スパン 番号 | P16: S5
C17: 変状番号 | E17: 2 | N17: 変状番号 | P17: 3
B18: 変状 部位 | C18: 対象箇所 | E18: 覆工 | M18: 変状 部位 | N18: 対象箇所 | P18: 覆工
C19: 部位区分 | E19: アーチ（左側） | N19: 部位区分 | P19: アーチ（左側）
B20: 変状種類 | E20: 漏水 | M20: 変状種類 | P20: 漏水
B21: 対策 区分 | C21: 変状区分 | E21: 漏水 | M21: 対策 区分 | N21: 変状区分 | P21: 漏水
C22: 応急措置前 | E22: － | N22: 応急措置前 | P22: －
C23: 応急措置後 | E23: Ⅰ | N23: 応急措置後 | P23: Ⅰ
B24: 変状の発生範囲及び規模 | E24: － | H24: 前回変状の発生範囲及び規模 | J24: － | M24: 変状の発生範囲及び規模 | P24: － | S24: 前回変状の発生範囲及び規模 | U24: －
B25: 対策履歴 | E25: － | H25: 実施状況（実施日） | J25: － | M25: 対策履歴 | P25: － | S25: 実施状況（実施日） | U25: －
B26: メモ | E26: 漏水は補修されているため、判定を見直し | M26: メモ | P26: 漏水は補修されているため、判定を見直し
C27: ※ 応急措置後の対策区分について添付すること。また、点検前に 実施された措置によりⅠと判定された箇所も添付すること。 | N27: ※ 変状の発生範囲の規模とは、対策を行う際に参考となる変状の長さや面積をいう。
N28: ※ 応急措置を実施しないで決定した変状の対策区分は、対策区分の応急措置後の欄に記入すること。
C29: ※ たたき落としを実施した場合は、実施後の写真を添付すること。 | N29: ※ 変状の発生範囲の規模は、面積・寸法を記載すること。(ひび割れ幅のみmmとし、その他をm表記とする)
C30: ※ 附属物の取付状態に関する異常写真は別途、任意の書式でとりまとめること。 | N30: ※ 構造用鋼材以外の異物に伴ううき・はく離については、メモ欄に異物の概要を記入すること。

Sheet 様式D-1-1 (11)
B2: ■定期点検記録様式 変状写真台帳【様式D-1-1】 | R2: 施設ID | T2: ='様式A-1'!W2 -> 33.96722,130.91500
B3: フリガナ | E3: ='様式A-1'!D3 -> コンピラトンネル | H3: 路 線 名 | J3: ='様式A-1'!J3:O4 -> 福浦港金比羅線 | M3: 定期点検実施者 | P3: ='様式B (1)'!S3 -> アジア航測株式会社 | S3: 定期点検年月日 | U3: ='様式B (1)'!P2 -> 45903
B4: 名 称 | E4: ='様式A-1'!D4 -> 金比羅トンネル | H4: 管理者名 | J4: ='様式A-1'!R3 -> 山口県 下関土木建築事務所 | P4: ='様式B (3)'!S4 -> 飯田 琢巳
B5: 写真 番号 | C5: 覆工スパン 番号 | E5: S5 | M5: 写真 番号 | N5: 覆工スパン 番号 | P5: S5
C6: 変状番号 | E6: 4 | N6: 変状番号 | P6: 5
B7: 変状 部位 | C7: 対象箇所 | E7: 覆工 | M7: 変状 部位 | N7: 対象箇所 | P7: 覆工
C8: 部位区分 | E8: 横断目地（左側） | N8: 部位区分 | P8: アーチ（天端）
B9: 変状種類 | E9: 漏水 | M9: 変状種類 | P9: うき・はく離
B10: 対策 区分 | C10: 変状区分 | E10: 漏水 | M10: 対策 区分 | N10: 変状区分 | P10: 材質劣化
C11: 応急措置前 | E11: － | N11: 応急措置前 | P11: －
C12: 応急措置後 | E12: Ⅰ | N12: 応急措置後 | P12: Ⅰ
B13: 変状の発生範囲及び規模 | E13: － | H13: 前回変状の発生範囲及び規模 | J13: － | M13: 変状の発生範囲及び規模 | P13: 0.12m×0.12m | S13: 前回変状の発生範囲及び規模 | U13: 0.1m×0.1m
B14: 対策履歴 | E14: － | H14: 実施状況（実施日） | J14: － | M14: 対策履歴 | P14: － | S14: 実施状況（実施日） | U14: －
B15: メモ | E15: 漏水は補修されているため、判定を見直し | M15: メモ | P15: うきは補修されているため、判定を見直し
B16: 写真 番号 | C16: 覆工スパン 番号 | E16: S5 | M16: 写真 番号 | N16: 覆工スパン 番号 | P16: S5
C17: 変状番号 | E17: 6 | N17: 変状番号 | P17: 7
B18: 変状 部位 | C18: 対象箇所 | E18: 覆工 | M18: 変状 部位 | N18: 対象箇所 | P18: 覆工
C19: 部位区分 | E19: アーチ（右側） | N19: 部位区分 | P19: アーチ（右側）
B20: 変状種類 | E20: 圧ざ、ひび割れ | M20: 変状種類 | P20: 漏水
B21: 対策 区分 | C21: 変状区分 | E21: 材質劣化 | M21: 対策 区分 | N21: 変状区分 | P21: 漏水
C22: 応急措置前 | E22: － | N22: 応急措置前 | P22: －
C23: 応急措置後 | E23: Ⅱb | N23: 応急措置後 | P23: Ⅰ
B24: 変状の発生範囲及び規模 | E24: 幅0.7㎜ 長さ5.4m | H24: 前回変状の発生範囲及び規模 | J24: 幅0.7㎜ 長さ5.2m | M24: 変状の発生範囲及び規模 | P24: － | S24: 前回変状の発生範囲及び規模 | U24: －
B25: 対策履歴 | E25: － | H25: 実施状況（実施日） | J25: － | M25: 対策履歴 | P25: － | S25: 実施状況（実施日） | U25: －
B26: メモ | E26: 幅0.7㎜ 長さ5.4mのひび割れ 前回からの進行が見られないが、構造物の機能が低下する可能性があるため引き続いて監視を行う。 | M26: メモ | P26: 漏水は補修されているため、判定を見直し
C27: ※ 応急措置後の対策区分について添付すること。また、点検前に 実施された措置によりⅠと判定された箇所も添付すること。 | N27: ※ 変状の発生範囲の規模とは、対策を行う際に参考となる変状の長さや面積をいう。
N28: ※ 応急措置を実施しないで決定した変状の対策区分は、対策区分の応急措置後の欄に記入すること。
C29: ※ たたき落としを実施した場合は、実施後の写真を添付すること。 | N29: ※ 変状の発生範囲の規模は、面積・寸法を記載すること。(ひび割れ幅のみmmとし、その他をm表記とする)
C30: ※ 附属物の取付状態に関する異常写真は別途、任意の書式でとりまとめること。 | N30: ※ 構造用鋼材以外の異物に伴ううき・はく離については、メモ欄に異物の概要を記入すること。

Sheet 様式D-1-1 (12)
B2: ■定期点検記録様式 変状写真台帳【様式D-1-1】 | R2: 施設ID | T2: ='様式A-1'!W2 -> 33.96722,130.91500
B3: フリガナ | E3: ='様式A-1'!D3 -> コンピラトンネル | H3: 路 線 名 | J3: ='様式A-1'!J3:O4 -> 福浦港金比羅線 | M3: 定期点検実施者 | P3: ='様式B (1)'!S3 -> アジア航測株式会社 | S3: 定期点検年月日 | U3: ='様式B (1)'!P2 -> 45903
B4: 名 称 | E4: ='様式A-1'!D4 -> 金比羅トンネル | H4: 管理者名 | J4: ='様式A-1'!R3 -> 山口県 下関土木建築事務所 | P4: ='様式B (3)'!S4 -> 飯田 琢巳
B5: 写真 番号 | C5: 覆工スパン 番号 | E5: S6 | M5: 写真 番号 | N5: 覆工スパン 番号 | P5: S6
C6: 変状番号 | E6: 1 | N6: 変状番号 | P6: 2
B7: 変状 部位 | C7: 対象箇所 | E7: 覆工 | M7: 変状 部位 | N7: 対象箇所 | P7: 覆工
C8: 部位区分 | E8: アーチ（左側） | N8: 部位区分 | P8: アーチ（左側）
B9: 変状種類 | E9: 圧ざ、ひび割れ | M9: 変状種類 | P9: うき・はく離
B10: 対策 区分 | C10: 変状区分 | E10: 材質劣化 | M10: 対策 区分 | N10: 変状区分 | P10: 材質劣化
C11: 応急措置前 | E11: － | N11: 応急措置前 | P11: －
C12: 応急措置後 | E12: Ⅱb | N12: 応急措置後 | P12: Ⅰ
B13: 変状の発生範囲及び規模 | E13: 幅2.0㎜ 長さ6.6m | H13: 前回変状の発生範囲及び規模 | J13: 幅2.0㎜ 長さ6.0m | M13: 変状の発生範囲及び規模 | P13: 0.1m×0.2m | S13: 前回変状の発生範囲及び規模 | U13: 0.1m×0.2m
B14: 対策履歴 | E14: － | H14: 実施状況（実施日） | J14: － | M14: 対策履歴 | P14: － | S14: 実施状況（実施日） | U14: －
B15: メモ | E15: 幅2.0㎜ 長さ6.6mのひび割れ 前回からの進行が見られないが、構造物の機能が低下する可能性があるため引き続いて監視を行う。 | M15: メモ | P15: うきは補修されているため、判定を見直し
B16: 写真 番号 | C16: 覆工スパン 番号 | E16: S6 | M16: 写真 番号 | N16: 覆工スパン 番号 | P16: S6
C17: 変状番号 | E17: 3 | N17: 変状番号 | P17: 4
B18: 変状 部位 | C18: 対象箇所 | E18: 覆工 | M18: 変状 部位 | N18: 対象箇所 | P18: 覆工
C19: 部位区分 | E19: アーチ（左側） | N19: 部位区分 | P19: アーチ（左側）
B20: 変状種類 | E20: 漏水 | M20: 変状種類 | P20: うき・はく離
B21: 対策 区分 | C21: 変状区分 | E21: 漏水 | M21: 対策 区分 | N21: 変状区分 | P21: 材質劣化
C22: 応急措置前 | E22: － | N22: 応急措置前 | P22: －
C23: 応急措置後 | E23: Ⅱb | N23: 応急措置後 | P23: Ⅰ
B24: 変状の発生範囲及び規模 | E24: 7.1m×0.5m | H24: 前回変状の発生範囲及び規模 | J24: － | M24: 変状の発生範囲及び規模 | P24: 0.12m×0.17m | S24: 前回変状の発生範囲及び規模 | U24: 0.1m×0.15m
B25: 対策履歴 | E25: － | H25: 実施状況（実施日） | J25: － | M25: 対策履歴 | P25: － | S25: 実施状況（実施日） | U25: －
B26: メモ | E26: 7.1m×0.5mの漏水跡 利用者にはほとんど影響はないが、日常巡視により監視を行う。 | M26: メモ | P26: うきは補修されているため、判定を見直し
C27: ※ 応急措置後の対策区分について添付すること。また、点検前に 実施された措置によりⅠと判定された箇所も添付すること。 | N27: ※ 変状の発生範囲の規模とは、対策を行う際に参考となる変状の長さや面積をいう。
N28: ※ 応急措置を実施しないで決定した変状の対策区分は、対策区分の応急措置後の欄に記入すること。
C29: ※ たたき落としを実施した場合は、実施後の写真を添付すること。 | N29: ※ 変状の発生範囲の規模は、面積・寸法を記載すること。(ひび割れ幅のみmmとし、その他をm表記とする)
C30: ※ 附属物の取付状態に関する異常写真は別途、任意の書式でとりまとめること。 | N30: ※ 構造用鋼材以外の異物に伴ううき・はく離については、メモ欄に異物の概要を記入すること。

Sheet 様式D-1-1 (13)
B2: ■定期点検記録様式 変状写真台帳【様式D-1-1】 | R2: 施設ID | T2: ='様式A-1'!W2 -> 33.96722,130.91500
B3: フリガナ | E3: ='様式A-1'!D3 -> コンピラトンネル | H3: 路 線 名 | J3: ='様式A-1'!J3:O4 -> 福浦港金比羅線 | M3: 定期点検実施者 | P3: ='様式B (1)'!S3 -> アジア航測株式会社 | S3: 定期点検年月日 | U3: ='様式B (1)'!P2 -> 45903
B4: 名 称 | E4: ='様式A-1'!D4 -> 金比羅トンネル | H4: 管理者名 | J4: ='様式A-1'!R3 -> 山口県 下関土木建築事務所 | P4: ='様式B (3)'!S4 -> 飯田 琢巳
B5: 写真 番号 | C5: 覆工スパン 番号 | E5: S6 | M5: 写真 番号 | N5: 覆工スパン 番号 | P5: S6
C6: 変状番号 | E6: 5 | N6: 変状番号 | P6: 6
B7: 変状 部位 | C7: 対象箇所 | E7: 覆工 | M7: 変状 部位 | N7: 対象箇所 | P7: 覆工
C8: 部位区分 | E8: アーチ（左側） | N8: 部位区分 | P8: 横断目地（右側）
B9: 変状種類 | E9: 漏水 | M9: 変状種類 | P9: 漏水
B10: 対策 区分 | C10: 変状区分 | E10: 漏水 | M10: 対策 区分 | N10: 変状区分 | P10: 漏水
C11: 応急措置前 | E11: － | N11: 応急措置前 | P11: －
C12: 応急措置後 | E12: Ⅱb | N12: 応急措置後 | P12: Ⅰ
B13: 変状の発生範囲及び規模 | E13: 8.6m×0.5m | H13: 前回変状の発生範囲及び規模 | J13: － | M13: 変状の発生範囲及び規模 | P13: － | S13: 前回変状の発生範囲及び規模 | U13: －
B14: 対策履歴 | E14: － | H14: 実施状況（実施日） | J14: － | M14: 対策履歴 | P14: － | S14: 実施状況（実施日） | U14: －
B15: メモ | E15: 漏水は一部補修されている。また前回の滴水はなく、漏水跡となっている。 利用者にはほとんど影響はないため、日常巡視により監視を行う。（判定を見直し） | M15: メモ | P15: 漏水は補修されているため、判定を見直し
B16: 写真 番号 | C16: 覆工スパン 番号 | E16: S6 | M16: 写真 番号 | N16: 覆工スパン 番号 | P16: S6
C17: 変状番号 | E17: 7 | N17: 変状番号 | P17: 8
B18: 変状 部位 | C18: 対象箇所 | E18: 覆工 | M18: 変状 部位 | N18: 対象箇所 | P18: 覆工
C19: 部位区分 | E19: アーチ（右側） | N19: 部位区分 | P19: アーチ（右側）
B20: 変状種類 | E20: 漏水 | M20: 変状種類 | P20: 漏水
B21: 対策 区分 | C21: 変状区分 | E21: 漏水 | M21: 対策 区分 | N21: 変状区分 | P21: 漏水
C22: 応急措置前 | E22: － | N22: 応急措置前 | P22: －
C23: 応急措置後 | E23: Ⅱb | N23: 応急措置後 | P23: Ⅱb
B24: 変状の発生範囲及び規模 | E24: 5.1m×0.5m | H24: 前回変状の発生範囲及び規模 | J24: － | M24: 変状の発生範囲及び規模 | P24: 3.7m×1.3m | S24: 前回変状の発生範囲及び規模 | U24: －
B25: 対策履歴 | E25: － | H25: 実施状況（実施日） | J25: － | M25: 対策履歴 | P25: － | S25: 実施状況（実施日） | U25: －
B26: メモ | E26: 5.1m×0.5mの漏水跡 利用者にはほとんど影響はないが、日常巡視により監視を行う。 | M26: メモ | P26: 3.7m×1.3mの漏水跡 利用者にはほとんど影響はないが、日常巡視により監視を行う。
C27: ※ 応急措置後の対策区分について添付すること。また、点検前に 実施された措置によりⅠと判定された箇所も添付すること。 | N27: ※ 変状の発生範囲の規模とは、対策を行う際に参考となる変状の長さや面積をいう。
N28: ※ 応急措置を実施しないで決定した変状の対策区分は、対策区分の応急措置後の欄に記入すること。
C29: ※ たたき落としを実施した場合は、実施後の写真を添付すること。 | N29: ※ 変状の発生範囲の規模は、面積・寸法を記載すること。(ひび割れ幅のみmmとし、その他をm表記とする)
C30: ※ 附属物の取付状態に関する異常写真は別途、任意の書式でとりまとめること。 | N30: ※ 構造用鋼材以外の異物に伴ううき・はく離については、メモ欄に異物の概要を記入すること。

Sheet 様式D-1-1 (14)
B2: ■定期点検記録様式 変状写真台帳【様式D-1-1】 | R2: 施設ID | T2: ='様式A-1'!W2 -> 33.96722,130.91500
B3: フリガナ | E3: ='様式A-1'!D3 -> コンピラトンネル | H3: 路 線 名 | J3: ='様式A-1'!J3:O4 -> 福浦港金比羅線 | M3: 定期点検実施者 | P3: ='様式B (1)'!S3 -> アジア航測株式会社 | S3: 定期点検年月日 | U3: ='様式B (1)'!P2 -> 45903
B4: 名 称 | E4: ='様式A-1'!D4 -> 金比羅トンネル | H4: 管理者名 | J4: ='様式A-1'!R3 -> 山口県 下関土木建築事務所 | P4: ='様式B (3)'!S4 -> 飯田 琢巳
B5: 写真 番号 | C5: 覆工スパン 番号 | E5: S7 | M5: 写真 番号 | N5: 覆工スパン 番号 | P5: S7
C6: 変状番号 | E6: 1 | N6: 変状番号 | P6: 2
B7: 変状 部位 | C7: 対象箇所 | E7: 覆工 | M7: 変状 部位 | N7: 対象箇所 | P7: 覆工
C8: 部位区分 | E8: アーチ（左側） | N8: 部位区分 | P8: アーチ（左側）
B9: 変状種類 | E9: 漏水 | M9: 変状種類 | P9: 鋼材腐食
B10: 対策 区分 | C10: 変状区分 | E10: 漏水 | M10: 対策 区分 | N10: 変状区分 | P10: 材質劣化
C11: 応急措置前 | E11: － | N11: 応急措置前 | P11: －
C12: 応急措置後 | E12: Ⅰ | N12: 応急措置後 | P12: Ⅱb
B13: 変状の発生範囲及び規模 | E13: － | H13: 前回変状の発生範囲及び規模 | J13: － | M13: 変状の発生範囲及び規模 | P13: 0.35m×0.2m | S13: 前回変状の発生範囲及び規模 | U13: 0.35m×0.2m
B14: 対策履歴 | E14: － | H14: 実施状況（実施日） | J14: － | M14: 対策履歴 | P14: － | S14: 実施状況（実施日） | U14: －
B15: メモ | E15: 漏水は補修されているため、判定を見直し | M15: メモ | P15: 0.35m×0.2mの鋼材腐食
B16: 写真 番号 | C16: 覆工スパン 番号 | E16: S7 | M16: 写真 番号 | N16: 覆工スパン 番号 | P16: S7
C17: 変状番号 | E17: 3 | N17: 変状番号 | P17: 4
B18: 変状 部位 | C18: 対象箇所 | E18: 覆工 | M18: 変状 部位 | N18: 対象箇所 | P18: 覆工
C19: 部位区分 | E19: アーチ（左側） | N19: 部位区分 | P19: アーチ（左側）
B20: 変状種類 | E20: 圧ざ、ひび割れ | M20: 変状種類 | P20: 鋼材腐食
B21: 対策 区分 | C21: 変状区分 | E21: 材質劣化 | M21: 対策 区分 | N21: 変状区分 | P21: 材質劣化
C22: 応急措置前 | E22: － | N22: 応急措置前 | P22: －
C23: 応急措置後 | E23: Ⅰ | N23: 応急措置後 | P23: Ⅱb
B24: 変状の発生範囲及び規模 | E24: － | H24: 前回変状の発生範囲及び規模 | J24: 幅1.0㎜ 長さ3.2m | M24: 変状の発生範囲及び規模 | P24: 0.05m×0.05m | S24: 前回変状の発生範囲及び規模 | U24: 0.05m×0.05m
B25: 対策履歴 | E25: － | H25: 実施状況（実施日） | J25: － | M25: 対策履歴 | P25: － | S25: 実施状況（実施日） | U25: －
B26: メモ | E26: ひび割れは補修されているため、判定を見直し | M26: メモ | P26: 0.05m×0.05mの鋼材腐食
C27: ※ 応急措置後の対策区分について添付すること。また、点検前に 実施された措置によりⅠと判定された箇所も添付すること。 | N27: ※ 変状の発生範囲の規模とは、対策を行う際に参考となる変状の長さや面積をいう。
N28: ※ 応急措置を実施しないで決定した変状の対策区分は、対策区分の応急措置後の欄に記入すること。
C29: ※ たたき落としを実施した場合は、実施後の写真を添付すること。 | N29: ※ 変状の発生範囲の規模は、面積・寸法を記載すること。(ひび割れ幅のみmmとし、その他をm表記とする)
C30: ※ 附属物の取付状態に関する異常写真は別途、任意の書式でとりまとめること。 | N30: ※ 構造用鋼材以外の異物に伴ううき・はく離については、メモ欄に異物の概要を記入すること。

Sheet 様式D-1-1 (15)
B2: ■定期点検記録様式 変状写真台帳【様式D-1-1】 | R2: 施設ID | T2: ='様式A-1'!W2 -> 33.96722,130.91500
B3: フリガナ | E3: ='様式A-1'!D3 -> コンピラトンネル | H3: 路 線 名 | J3: ='様式A-1'!J3:O4 -> 福浦港金比羅線 | M3: 定期点検実施者 | P3: ='様式B (1)'!S3 -> アジア航測株式会社 | S3: 定期点検年月日 | U3: ='様式B (1)'!P2 -> 45903
B4: 名 称 | E4: ='様式A-1'!D4 -> 金比羅トンネル | H4: 管理者名 | J4: ='様式A-1'!R3 -> 山口県 下関土木建築事務所 | P4: ='様式B (3)'!S4 -> 飯田 琢巳
B5: 写真 番号 | C5: 覆工スパン 番号 | E5: S7 | M5: 写真 番号 | N5: 覆工スパン 番号 | P5: S7
C6: 変状番号 | E6: 5 | N6: 変状番号 | P6: 6
B7: 変状 部位 | C7: 対象箇所 | E7: 覆工 | M7: 変状 部位 | N7: 対象箇所 | P7: 覆工
C8: 部位区分 | E8: アーチ（右側） | N8: 部位区分 | P8: 横断目地（右側）
B9: 変状種類 | E9: 圧ざ、ひび割れ | M9: 変状種類 | P9: うき・はく離
B10: 対策 区分 | C10: 変状区分 | E10: 材質劣化 | M10: 対策 区分 | N10: 変状区分 | P10: 材質劣化
C11: 応急措置前 | E11: － | N11: 応急措置前 | P11: －
C12: 応急措置後 | E12: Ⅱb | N12: 応急措置後 | P12: Ⅰ
B13: 変状の発生範囲及び規模 | E13: 幅0.7㎜ 長さ6.0m | H13: 前回変状の発生範囲及び規模 | J13: 幅0.7㎜ 長さ6.6m | M13: 変状の発生範囲及び規模 | P13: 0.15m×0.1m | S13: 前回変状の発生範囲及び規模 | U13: 0.15m×0.1m
B14: 対策履歴 | E14: － | H14: 実施状況（実施日） | J14: － | M14: 対策履歴 | P14: － | S14: 実施状況（実施日） | U14: －
B15: メモ | E15: 幅0.7㎜ 長さ6.0mのひび割れ 前回からの進行が見られないが、構造物の機能が低下する可能性があるため引き続いて監視を行う。 | M15: メモ | P15: うきは補修されているため、判定を見直し
B16: 写真 番号 | C16: 覆工スパン 番号 | E16: S8 | M16: 写真 番号 | N16: 覆工スパン 番号 | P16: S8
C17: 変状番号 | E17: 1 | N17: 変状番号 | P17: 2
B18: 変状 部位 | C18: 対象箇所 | E18: 覆工 | M18: 変状 部位 | N18: 対象箇所 | P18: 覆工
C19: 部位区分 | E19: アーチ（左側） | N19: 部位区分 | P19: アーチ（左側）
B20: 変状種類 | E20: 漏水 | M20: 変状種類 | P20: 圧ざ、ひび割れ
B21: 対策 区分 | C21: 変状区分 | E21: 漏水 | M21: 対策 区分 | N21: 変状区分 | P21: 材質劣化
C22: 応急措置前 | E22: － | N22: 応急措置前 | P22: －
C23: 応急措置後 | E23: Ⅱb | N23: 応急措置後 | P23: Ⅱb
B24: 変状の発生範囲及び規模 | E24: 6.2m×0.5m | H24: 前回変状の発生範囲及び規模 | J24: － | M24: 変状の発生範囲及び規模 | P24: 幅1.5㎜ 長さ4.2m | S24: 前回変状の発生範囲及び規模 | U24: 幅1.5㎜ 長さ4.3m
B25: 対策履歴 | E25: － | H25: 実施状況（実施日） | J25: － | M25: 対策履歴 | P25: － | S25: 実施状況（実施日） | U25: －
B26: メモ | E26: 6.2m×0.5mの漏水（にじみ） 利用者にはほとんど影響はないが、日常巡視により監視を行う。 | M26: メモ | P26: 幅1.5㎜ 長さ4.2mのひび割れ 前回からの進行が見られないが、構造物の機能が低下する可能性があるため引き続いて監視を行う。
C27: ※ 応急措置後の対策区分について添付すること。また、点検前に 実施された措置によりⅠと判定された箇所も添付すること。 | N27: ※ 変状の発生範囲の規模とは、対策を行う際に参考となる変状の長さや面積をいう。
N28: ※ 応急措置を実施しないで決定した変状の対策区分は、対策区分の応急措置後の欄に記入すること。
C29: ※ たたき落としを実施した場合は、実施後の写真を添付すること。 | N29: ※ 変状の発生範囲の規模は、面積・寸法を記載すること。(ひび割れ幅のみmmとし、その他をm表記とする)
C30: ※ 附属物の取付状態に関する異常写真は別途、任意の書式でとりまとめること。 | N30: ※ 構造用鋼材以外の異物に伴ううき・はく離については、メモ欄に異物の概要を記入すること。

Sheet 様式D-1-1 (16)
B2: ■定期点検記録様式 変状写真台帳【様式D-1-1】 | R2: 施設ID | T2: ='様式A-1'!W2 -> 33.96722,130.91500
B3: フリガナ | E3: ='様式A-1'!D3 -> コンピラトンネル | H3: 路 線 名 | J3: ='様式A-1'!J3:O4 -> 福浦港金比羅線 | M3: 定期点検実施者 | P3: ='様式B (1)'!S3 -> アジア航測株式会社 | S3: 定期点検年月日 | U3: ='様式B (1)'!P2 -> 45903
B4: 名 称 | E4: ='様式A-1'!D4 -> 金比羅トンネル | H4: 管理者名 | J4: ='様式A-1'!R3 -> 山口県 下関土木建築事務所 | P4: ='様式B (3)'!S4 -> 飯田 琢巳
B5: 写真 番号 | C5: 覆工スパン 番号 | E5: S8 | M5: 写真 番号 | N5: 覆工スパン 番号 | P5: S8
C6: 変状番号 | E6: 3 | N6: 変状番号 | P6: 4
B7: 変状 部位 | C7: 対象箇所 | E7: 覆工 | M7: 変状 部位 | N7: 対象箇所 | P7: 覆工
C8: 部位区分 | E8: 横断目地（左側） | N8: 部位区分 | P8: 横断目地（右側）
B9: 変状種類 | E9: うき・はく離 | M9: 変状種類 | P9: うき・はく離
B10: 対策 区分 | C10: 変状区分 | E10: 材質劣化 | M10: 対策 区分 | N10: 変状区分 | P10: 材質劣化
C11: 応急措置前 | E11: － | N11: 応急措置前 | P11: －
C12: 応急措置後 | E12: Ⅰ | N12: 応急措置後 | P12: Ⅰ
B13: 変状の発生範囲及び規模 | E13: 1.8m×0.2m | H13: 前回変状の発生範囲及び規模 | J13: 1.8m×0.2m | M13: 変状の発生範囲及び規模 | P13: 0.4m×0.05m | S13: 前回変状の発生範囲及び規模 | U13: 0.4m×0.05m
B14: 対策履歴 | E14: － | H14: 実施状況（実施日） | J14: － | M14: 対策履歴 | P14: － | S14: 実施状況（実施日） | U14: －
B15: メモ | E15: うきは補修されているため、判定を見直し | M15: メモ | P15: うきは補修されているため、判定を見直し
B16: 写真 番号 | C16: 覆工スパン 番号 | E16: S8 | M16: 写真 番号 | N16: 覆工スパン 番号 | P16: S8
C17: 変状番号 | E17: 5 | N17: 変状番号 | P17: 6
B18: 変状 部位 | C18: 対象箇所 | E18: 覆工 | M18: 変状 部位 | N18: 対象箇所 | P18: 覆工
C19: 部位区分 | E19: アーチ（右側） | N19: 部位区分 | P19: アーチ（右側）
B20: 変状種類 | E20: 漏水 | M20: 変状種類 | P20: うき・はく離
B21: 対策 区分 | C21: 変状区分 | E21: 漏水 | M21: 対策 区分 | N21: 変状区分 | P21: 材質劣化
C22: 応急措置前 | E22: － | N22: 応急措置前 | P22: －
C23: 応急措置後 | E23: Ⅰ | N23: 応急措置後 | P23: Ⅰ
B24: 変状の発生範囲及び規模 | E24: － | H24: 前回変状の発生範囲及び規模 | J24: － | M24: 変状の発生範囲及び規模 | P24: 0.15m×0.1m | S24: 前回変状の発生範囲及び規模 | U24: 0.1m×0.1m
B25: 対策履歴 | E25: － | H25: 実施状況（実施日） | J25: － | M25: 対策履歴 | P25: － | S25: 実施状況（実施日） | U25: －
B26: メモ | E26: 漏水は補修されているため、判定を見直し | M26: メモ | P26: うきは補修されているため、判定を見直し
C27: ※ 応急措置後の対策区分について添付すること。また、点検前に 実施された措置によりⅠと判定された箇所も添付すること。 | N27: ※ 変状の発生範囲の規模とは、対策を行う際に参考となる変状の長さや面積をいう。
N28: ※ 応急措置を実施しないで決定した変状の対策区分は、対策区分の応急措置後の欄に記入すること。
C29: ※ たたき落としを実施した場合は、実施後の写真を添付すること。 | N29: ※ 変状の発生範囲の規模は、面積・寸法を記載すること。(ひび割れ幅のみmmとし、その他をm表記とする)
C30: ※ 附属物の取付状態に関する異常写真は別途、任意の書式でとりまとめること。 | N30: ※ 構造用鋼材以外の異物に伴ううき・はく離については、メモ欄に異物の概要を記入すること。

Sheet 様式D-1-1 (17)
B2: ■定期点検記録様式 変状写真台帳【様式D-1-1】 | R2: 施設ID | T2: ='様式A-1'!W2 -> 33.96722,130.91500
B3: フリガナ | E3: ='様式A-1'!D3 -> コンピラトンネル | H3: 路 線 名 | J3: ='様式A-1'!J3:O4 -> 福浦港金比羅線 | M3: 定期点検実施者 | P3: ='様式B (1)'!S3 -> アジア航測株式会社 | S3: 定期点検年月日 | U3: ='様式B (1)'!P2 -> 45903
B4: 名 称 | E4: ='様式A-1'!D4 -> 金比羅トンネル | H4: 管理者名 | J4: ='様式A-1'!R3 -> 山口県 下関土木建築事務所 | P4: ='様式B (3)'!S4 -> 飯田 琢巳
B5: 写真 番号 | C5: 覆工スパン 番号 | E5: S8 | M5: 写真 番号 | N5: 覆工スパン 番号 | P5: S9
C6: 変状番号 | E6: 7 | N6: 変状番号 | P6: 1
B7: 変状 部位 | C7: 対象箇所 | E7: 覆工 | M7: 変状 部位 | N7: 対象箇所 | P7: 覆工
C8: 部位区分 | E8: アーチ（左側） | N8: 部位区分 | P8: アーチ（左側）
B9: 変状種類 | E9: うき・はく離 | M9: 変状種類 | P9: うき・はく離
B10: 対策 区分 | C10: 変状区分 | E10: 材質劣化 | M10: 対策 区分 | N10: 変状区分 | P10: 材質劣化
C11: 応急措置前 | E11: － | N11: 応急措置前 | P11: －
C12: 応急措置後 | E12: Ⅱa | N12: 応急措置後 | P12: Ⅰ
B13: 変状の発生範囲及び規模 | E13: 0.1m×0.1m | H13: 前回変状の発生範囲及び規模 | J13: 今回新規変状 | M13: 変状の発生範囲及び規模 | P13: － | S13: 前回変状の発生範囲及び規模 | U13: 0.2m×0.25m
B14: 対策履歴 | E14: － | H14: 実施状況（実施日） | J14: － | M14: 対策履歴 | P14: － | S14: 実施状況（実施日） | U14: －
B15: メモ | E15: 0.1m×0.1mのうき・はく離 打音異常あり。覆工上部のうきにより、重点的な監視を要する。 状況により計画的に対策を講じことが望ましい。 | M15: メモ | P15: うきは補修されているため、判定を見直し（スパン全体を補修済）
B16: 写真 番号 | C16: 覆工スパン 番号 | E16: S9 | M16: 写真 番号 | N16: 覆工スパン 番号 | P16: S9
C17: 変状番号 | E17: 2 | N17: 変状番号 | P17: 3
B18: 変状 部位 | C18: 対象箇所 | E18: 覆工 | M18: 変状 部位 | N18: 対象箇所 | P18: 覆工
C19: 部位区分 | E19: アーチ（全周） | N19: 部位区分 | P19: アーチ（天端）
B20: 変状種類 | E20: 圧ざ、ひび割れ | M20: 変状種類 | P20: うき・はく離
B21: 対策 区分 | C21: 変状区分 | E21: 材質劣化 | M21: 対策 区分 | N21: 変状区分 | P21: 材質劣化
C22: 応急措置前 | E22: － | N22: 応急措置前 | P22: －
C23: 応急措置後 | E23: Ⅰ | N23: 応急措置後 | P23: Ⅰ
B24: 変状の発生範囲及び規模 | E24: － | H24: 前回変状の発生範囲及び規模 | J24: 幅0.5㎜ 長さ6.8m他 | M24: 変状の発生範囲及び規模 | P24: － | S24: 前回変状の発生範囲及び規模 | U24: 0.1m×0.1m
B25: 対策履歴 | E25: － | H25: 実施状況（実施日） | J25: － | M25: 対策履歴 | P25: － | S25: 実施状況（実施日） | U25: －
B26: メモ | E26: ひび割れは補修されているため、判定を見直し（スパン全体を補修済） | M26: メモ | P26: うきは補修されているため、判定を見直し（スパン全体を補修済）
C27: ※ 応急措置後の対策区分について添付すること。また、点検前に 実施された措置によりⅠと判定された箇所も添付すること。 | N27: ※ 変状の発生範囲の規模とは、対策を行う際に参考となる変状の長さや面積をいう。
N28: ※ 応急措置を実施しないで決定した変状の対策区分は、対策区分の応急措置後の欄に記入すること。
C29: ※ たたき落としを実施した場合は、実施後の写真を添付すること。 | N29: ※ 変状の発生範囲の規模は、面積・寸法を記載すること。(ひび割れ幅のみmmとし、その他をm表記とする)
C30: ※ 附属物の取付状態に関する異常写真は別途、任意の書式でとりまとめること。 | N30: ※ 構造用鋼材以外の異物に伴ううき・はく離については、メモ欄に異物の概要を記入すること。

Sheet 様式D-1-1 (18)
B2: ■定期点検記録様式 変状写真台帳【様式D-1-1】 | R2: 施設ID | T2: ='様式A-1'!W2 -> 33.96722,130.91500
B3: フリガナ | E3: ='様式A-1'!D3 -> コンピラトンネル | H3: 路 線 名 | J3: ='様式A-1'!J3:O4 -> 福浦港金比羅線 | M3: 定期点検実施者 | P3: ='様式B (1)'!S3 -> アジア航測株式会社 | S3: 定期点検年月日 | U3: ='様式B (1)'!P2 -> 45903
B4: 名 称 | E4: ='様式A-1'!D4 -> 金比羅トンネル | H4: 管理者名 | J4: ='様式A-1'!R3 -> 山口県 下関土木建築事務所 | P4: ='様式B (3)'!S4 -> 飯田 琢巳
B5: 写真 番号 | C5: 覆工スパン 番号 | E5: S9 | M5: 写真 番号 | N5: 覆工スパン 番号 | P5: S9
C6: 変状番号 | E6: 4 | N6: 変状番号 | P6: 5
B7: 変状 部位 | C7: 対象箇所 | E7: 覆工 | M7: 変状 部位 | N7: 対象箇所 | P7: 覆工
C8: 部位区分 | E8: アーチ（左側） | N8: 部位区分 | P8: アーチ（左側）
B9: 変状種類 | E9: うき・はく離 | M9: 変状種類 | P9: うき・はく離
B10: 対策 区分 | C10: 変状区分 | E10: 材質劣化 | M10: 対策 区分 | N10: 変状区分 | P10: 材質劣化
C11: 応急措置前 | E11: － | N11: 応急措置前 | P11: －
C12: 応急措置後 | E12: Ⅰ | N12: 応急措置後 | P12: Ⅰ
B13: 変状の発生範囲及び規模 | E13: － | H13: 前回変状の発生範囲及び規模 | J13: 0.15m×0.7m | M13: 変状の発生範囲及び規模 | P13: － | S13: 前回変状の発生範囲及び規模 | U13: 0.6m×0.1m
B14: 対策履歴 | E14: － | H14: 実施状況（実施日） | J14: － | M14: 対策履歴 | P14: － | S14: 実施状況（実施日） | U14: －
B15: メモ | E15: うきは補修されているため、判定を見直し（スパン全体を補修済） | M15: メモ | P15: うきは補修されているため、判定を見直し（スパン全体を補修済）
B16: 写真 番号 | C16: 覆工スパン 番号 | E16: S9 | M16: 写真 番号 | N16: 覆工スパン 番号 | P16: S10
C17: 変状番号 | E17: 6 | N17: 変状番号 | P17: 1
B18: 変状 部位 | C18: 対象箇所 | E18: 覆工 | M18: 変状 部位 | N18: 対象箇所 | P18: 覆工
C19: 部位区分 | E19: アーチ（天端） | N19: 部位区分 | P19: 横断目地（天端）
B20: 変状種類 | E20: うき・はく離 | M20: 変状種類 | P20: うき・はく離
B21: 対策 区分 | C21: 変状区分 | E21: 材質劣化 | M21: 対策 区分 | N21: 変状区分 | P21: 材質劣化
C22: 応急措置前 | E22: － | N22: 応急措置前 | P22: －
C23: 応急措置後 | E23: Ⅰ | N23: 応急措置後 | P23: Ⅰ
B24: 変状の発生範囲及び規模 | E24: － | H24: 前回変状の発生範囲及び規模 | J24: 0.2m×0.1m | M24: 変状の発生範囲及び規模 | P24: － | S24: 前回変状の発生範囲及び規模 | U24: 0.7m×0.1m
B25: 対策履歴 | E25: － | H25: 実施状況（実施日） | J25: － | M25: 対策履歴 | P25: － | S25: 実施状況（実施日） | U25: －
B26: メモ | E26: うきは補修されているため、判定を見直し（スパン全体を補修済） | M26: メモ | P26: うきは補修されているため、判定を見直し
C27: ※ 応急措置後の対策区分について添付すること。また、点検前に 実施された措置によりⅠと判定された箇所も添付すること。 | N27: ※ 変状の発生範囲の規模とは、対策を行う際に参考となる変状の長さや面積をいう。
N28: ※ 応急措置を実施しないで決定した変状の対策区分は、対策区分の応急措置後の欄に記入すること。
C29: ※ たたき落としを実施した場合は、実施後の写真を添付すること。 | N29: ※ 変状の発生範囲の規模は、面積・寸法を記載すること。(ひび割れ幅のみmmとし、その他をm表記とする)
C30: ※ 附属物の取付状態に関する異常写真は別途、任意の書式でとりまとめること。 | N30: ※ 構造用鋼材以外の異物に伴ううき・はく離については、メモ欄に異物の概要を記入すること。

Sheet 様式D-1-1 (19)
B2: ■定期点検記録様式 変状写真台帳【様式D-1-1】 | R2: 施設ID | T2: ='様式A-1'!W2 -> 33.96722,130.91500
B3: フリガナ | E3: ='様式A-1'!D3 -> コンピラトンネル | H3: 路 線 名 | J3: ='様式A-1'!J3:O4 -> 福浦港金比羅線 | M3: 定期点検実施者 | P3: ='様式B (1)'!S3 -> アジア航測株式会社 | S3: 定期点検年月日 | U3: ='様式B (1)'!P2 -> 45903
B4: 名 称 | E4: ='様式A-1'!D4 -> 金比羅トンネル | H4: 管理者名 | J4: ='様式A-1'!R3 -> 山口県 下関土木建築事務所 | P4: ='様式B (3)'!S4 -> 飯田 琢巳
B5: 写真 番号 | C5: 覆工スパン 番号 | E5: S10 | M5: 写真 番号 | N5: 覆工スパン 番号 | P5: S10
C6: 変状番号 | E6: 2 | N6: 変状番号 | P6: 3
B7: 変状 部位 | C7: 対象箇所 | E7: 覆工 | M7: 変状 部位 | N7: 対象箇所 | P7: 覆工
C8: 部位区分 | E8: アーチ（天端） | N8: 部位区分 | P8: アーチ（天端）
B9: 変状種類 | E9: うき・はく離 | M9: 変状種類 | P9: 圧ざ、ひび割れ
B10: 対策 区分 | C10: 変状区分 | E10: 材質劣化 | M10: 対策 区分 | N10: 変状区分 | P10: 材質劣化
C11: 応急措置前 | E11: － | N11: 応急措置前 | P11: －
C12: 応急措置後 | E12: Ⅰ | N12: 応急措置後 | P12: Ⅱb
B13: 変状の発生範囲及び規模 | E13: 0.1m×0.2m | H13: 前回変状の発生範囲及び規模 | J13: 0.1m×0.1m×2箇所 | M13: 変状の発生範囲及び規模 | P13: 幅0.3㎜ 長さ3.3m | S13: 前回変状の発生範囲及び規模 | U13: 幅0.4㎜ 長さ2.8m
B14: 対策履歴 | E14: － | H14: 実施状況（実施日） | J14: － | M14: 対策履歴 | P14: － | S14: 実施状況（実施日） | U14: －
B15: メモ | E15: うきは補修されているため、判定を見直し | M15: メモ | P15: 幅0.3㎜ 長さ3.3mのひび割れ 前回からの進行が見られないが、構造物の機能が低下する可能性があるため引き続いて監視を行う。
B16: 写真 番号 | C16: 覆工スパン 番号 | E16: S10 | M16: 写真 番号 | N16: 覆工スパン 番号 | P16: S10
C17: 変状番号 | E17: 4 | N17: 変状番号 | P17: 5
B18: 変状 部位 | C18: 対象箇所 | E18: 覆工 | M18: 変状 部位 | N18: 対象箇所 | P18: 覆工
C19: 部位区分 | E19: 横断目地（天端） | N19: 部位区分 | P19: 横断目地（左側）
B20: 変状種類 | E20: うき・はく離 | M20: 変状種類 | P20: うき・はく離
B21: 対策 区分 | C21: 変状区分 | E21: 材質劣化 | M21: 対策 区分 | N21: 変状区分 | P21: 材質劣化
C22: 応急措置前 | E22: － | N22: 応急措置前 | P22: －
C23: 応急措置後 | E23: Ⅰ | N23: 応急措置後 | P23: Ⅰ
B24: 変状の発生範囲及び規模 | E24: 1.8m×0.15m | H24: 前回変状の発生範囲及び規模 | J24: 1.8m×0.15m | M24: 変状の発生範囲及び規模 | P24: 0.5m×0.15m | S24: 前回変状の発生範囲及び規模 | U24: 0.5m×0.15m
B25: 対策履歴 | E25: － | H25: 実施状況（実施日） | J25: － | M25: 対策履歴 | P25: － | S25: 実施状況（実施日） | U25: －
B26: メモ | E26: うきは補修されているため、判定を見直し | M26: メモ | P26: うきは補修されているため、判定を見直し
C27: ※ 応急措置後の対策区分について添付すること。また、点検前に 実施された措置によりⅠと判定された箇所も添付すること。 | N27: ※ 変状の発生範囲の規模とは、対策を行う際に参考となる変状の長さや面積をいう。
N28: ※ 応急措置を実施しないで決定した変状の対策区分は、対策区分の応急措置後の欄に記入すること。
C29: ※ たたき落としを実施した場合は、実施後の写真を添付すること。 | N29: ※ 変状の発生範囲の規模は、面積・寸法を記載すること。(ひび割れ幅のみmmとし、その他をm表記とする)
C30: ※ 附属物の取付状態に関する異常写真は別途、任意の書式でとりまとめること。 | N30: ※ 構造用鋼材以外の異物に伴ううき・はく離については、メモ欄に異物の概要を記入すること。

Sheet 様式D-1-1 (20)
B2: ■定期点検記録様式 変状写真台帳【様式D-1-1】 | R2: 施設ID | T2: ='様式A-1'!W2 -> 33.96722,130.91500
B3: フリガナ | E3: ='様式A-1'!D3 -> コンピラトンネル | H3: 路 線 名 | J3: ='様式A-1'!J3:O4 -> 福浦港金比羅線 | M3: 定期点検実施者 | P3: ='様式B (1)'!S3 -> アジア航測株式会社 | S3: 定期点検年月日 | U3: ='様式B (1)'!P2 -> 45903
B4: 名 称 | E4: ='様式A-1'!D4 -> 金比羅トンネル | H4: 管理者名 | J4: ='様式A-1'!R3 -> 山口県 下関土木建築事務所 | P4: ='様式B (3)'!S4 -> 飯田 琢巳
B5: 写真 番号 | C5: 覆工スパン 番号 | E5: S10 | M5: 写真 番号 | N5: 覆工スパン 番号 | P5: S11
C6: 変状番号 | E6: 6 | N6: 変状番号 | P6: 1
B7: 変状 部位 | C7: 対象箇所 | E7: 覆工 | M7: 変状 部位 | N7: 対象箇所 | P7: 覆工
C8: 部位区分 | E8: 横断目地（左側） | N8: 部位区分 | P8: アーチ（左側）
B9: 変状種類 | E9: うき・はく離 | M9: 変状種類 | P9: 漏水
B10: 対策 区分 | C10: 変状区分 | E10: 材質劣化 | M10: 対策 区分 | N10: 変状区分 | P10: 漏水
C11: 応急措置前 | E11: － | N11: 応急措置前 | P11: －
C12: 応急措置後 | E12: Ⅱa | N12: 応急措置後 | P12: Ⅱb
B13: 変状の発生範囲及び規模 | E13: 0.4m×0.05m | H13: 前回変状の発生範囲及び規模 | J13: 今回新規変状 | M13: 変状の発生範囲及び規模 | P13: 5.2m×0.5m | S13: 前回変状の発生範囲及び規模 | U13: －
B14: 対策履歴 | E14: － | H14: 実施状況（実施日） | J14: － | M14: 対策履歴 | P14: － | S14: 実施状況（実施日） | U14: －
B15: メモ | E15: 0.4m×0.05mのうき・はく離 打音異常あり。覆工上部のうきにより、重点的な監視を要する。 状況により計画的に対策を講じことが望ましい。 | M15: メモ | P15: 5.2m×0.5mの漏水跡 利用者にはほとんど影響はないが、日常巡視により監視を行う。
B16: 写真 番号 | C16: 覆工スパン 番号 | E16: S11 | M16: 写真 番号 | N16: 覆工スパン 番号 | P16: S11
C17: 変状番号 | E17: 2 | N17: 変状番号 | P17: 3
B18: 変状 部位 | C18: 対象箇所 | E18: 覆工 | M18: 変状 部位 | N18: 対象箇所 | P18: 覆工
C19: 部位区分 | E19: アーチ（天端） | N19: 部位区分 | P19: アーチ（天端）
B20: 変状種類 | E20: うき・はく離 | M20: 変状種類 | P20: うき・はく離
B21: 対策 区分 | C21: 変状区分 | E21: 材質劣化 | M21: 対策 区分 | N21: 変状区分 | P21: 材質劣化
C22: 応急措置前 | E22: － | N22: 応急措置前 | P22: －
C23: 応急措置後 | E23: Ⅰ | N23: 応急措置後 | P23: Ⅱb
B24: 変状の発生範囲及び規模 | E24: 0.62m×0.3m | H24: 前回変状の発生範囲及び規模 | J24: 0.6m×0.3m | M24: 変状の発生範囲及び規模 | P24: 0.1m×0.2m | S24: 前回変状の発生範囲及び規模 | U24: 0.1m×0.2m
B25: 対策履歴 | E25: － | H25: 実施状況（実施日） | J25: － | M25: 対策履歴 | P25: － | S25: 実施状況（実施日） | U25: －
B26: メモ | E26: うきは補修されているため、判定を見直し | M26: メモ | P26: うきは補修されているため、判定を見直し
C27: ※ 応急措置後の対策区分について添付すること。また、点検前に 実施された措置によりⅠと判定された箇所も添付すること。 | N27: ※ 変状の発生範囲の規模とは、対策を行う際に参考となる変状の長さや面積をいう。
N28: ※ 応急措置を実施しないで決定した変状の対策区分は、対策区分の応急措置後の欄に記入すること。
C29: ※ たたき落としを実施した場合は、実施後の写真を添付すること。 | N29: ※ 変状の発生範囲の規模は、面積・寸法を記載すること。(ひび割れ幅のみmmとし、その他をm表記とする)
C30: ※ 附属物の取付状態に関する異常写真は別途、任意の書式でとりまとめること。 | N30: ※ 構造用鋼材以外の異物に伴ううき・はく離については、メモ欄に異物の概要を記入すること。

Sheet 様式D-1-1 (21)
B2: ■定期点検記録様式 変状写真台帳【様式D-1-1】 | R2: 施設ID | T2: ='様式A-1'!W2 -> 33.96722,130.91500
B3: フリガナ | E3: ='様式A-1'!D3 -> コンピラトンネル | H3: 路 線 名 | J3: ='様式A-1'!J3:O4 -> 福浦港金比羅線 | M3: 定期点検実施者 | P3: ='様式B (1)'!S3 -> アジア航測株式会社 | S3: 定期点検年月日 | U3: ='様式B (1)'!P2 -> 45903
B4: 名 称 | E4: ='様式A-1'!D4 -> 金比羅トンネル | H4: 管理者名 | J4: ='様式A-1'!R3 -> 山口県 下関土木建築事務所 | P4: ='様式B (3)'!S4 -> 飯田 琢巳
B5: 写真 番号 | C5: 覆工スパン 番号 | E5: S11 | M5: 写真 番号 | N5: 覆工スパン 番号 | P5: S11
C6: 変状番号 | E6: 4 | N6: 変状番号 | P6: 5
B7: 変状 部位 | C7: 対象箇所 | E7: 覆工 | M7: 変状 部位 | N7: 対象箇所 | P7: 覆工
C8: 部位区分 | E8: アーチ（天端） | N8: 部位区分 | P8: アーチ（天端）
B9: 変状種類 | E9: 漏水 | M9: 変状種類 | P9: 圧ざ、ひび割れ
B10: 対策 区分 | C10: 変状区分 | E10: 漏水 | M10: 対策 区分 | N10: 変状区分 | P10: 材質劣化
C11: 応急措置前 | E11: － | N11: 応急措置前 | P11: －
C12: 応急措置後 | E12: Ⅱa | N12: 応急措置後 | P12: Ⅱb
B13: 変状の発生範囲及び規模 | E13: 8.6m×0.5m | H13: 前回変状の発生範囲及び規模 | J13: － | M13: 変状の発生範囲及び規模 | P13: 幅0.3㎜ 長さ2.8m | S13: 前回変状の発生範囲及び規模 | U13: 幅0.3㎜ 長さ3.3m
B14: 対策履歴 | E14: － | H14: 実施状況（実施日） | J14: － | M14: 対策履歴 | P14: － | S14: 実施状況（実施日） | U14: －
B15: メモ | E15: 8.6m×0.5mの漏水（遊離石灰を伴う） 引き続き重点的な監視を行い、状況により計画的に対策を講じことが望ましい。 | M15: メモ | P15: 幅0.3㎜ 長さ2.8mのひび割れ 前回からの進行が見られないが、構造物の機能が低下する可能性があるため引き続いて監視を行う。
B16: 写真 番号 | C16: 覆工スパン 番号 | E16: S11 | M16: 写真 番号 | N16: 覆工スパン 番号 | P16: S12
C17: 変状番号 | E17: 6 | N17: 変状番号 | P17: 1
B18: 変状 部位 | C18: 対象箇所 | E18: 覆工 | M18: 変状 部位 | N18: 対象箇所 | P18: 覆工
C19: 部位区分 | E19: アーチ（天端） | N19: 部位区分 | P19: アーチ（左側）
B20: 変状種類 | E20: うき・はく離 | M20: 変状種類 | P20: 圧ざ、ひび割れ
B21: 対策 区分 | C21: 変状区分 | E21: 材質劣化 | M21: 対策 区分 | N21: 変状区分 | P21: 材質劣化
C22: 応急措置前 | E22: － | N22: 応急措置前 | P22: －
C23: 応急措置後 | E23: Ⅰ | N23: 応急措置後 | P23: Ⅱb
B24: 変状の発生範囲及び規模 | E24: 1.4m×0.1m | H24: 前回変状の発生範囲及び規模 | J24: 1.4m×0.1m | M24: 変状の発生範囲及び規模 | P24: 幅0.9㎜ 長さ3.6m | S24: 前回変状の発生範囲及び規模 | U24: 幅0.9㎜ 長さ3.6m
B25: 対策履歴 | E25: － | H25: 実施状況（実施日） | J25: － | M25: 対策履歴 | P25: － | S25: 実施状況（実施日） | U25: －
B26: メモ | E26: うきは補修されているため、判定を見直し | M26: メモ | P26: 幅0.9㎜ 長さ3.6mのひび割れ 前回からの進行が見られないが、構造物の機能が低下する可能性があるため引き続いて監視を行う。
C27: ※ 応急措置後の対策区分について添付すること。また、点検前に 実施された措置によりⅠと判定された箇所も添付すること。 | N27: ※ 変状の発生範囲の規模とは、対策を行う際に参考となる変状の長さや面積をいう。
N28: ※ 応急措置を実施しないで決定した変状の対策区分は、対策区分の応急措置後の欄に記入すること。
C29: ※ たたき落としを実施した場合は、実施後の写真を添付すること。 | N29: ※ 変状の発生範囲の規模は、面積・寸法を記載すること。(ひび割れ幅のみmmとし、その他をm表記とする)
C30: ※ 附属物の取付状態に関する異常写真は別途、任意の書式でとりまとめること。 | N30: ※ 構造用鋼材以外の異物に伴ううき・はく離については、メモ欄に異物の概要を記入すること。

Sheet 様式D-1-1 (22)
B2: ■定期点検記録様式 変状写真台帳【様式D-1-1】 | R2: 施設ID | T2: ='様式A-1'!W2 -> 33.96722,130.91500
B3: フリガナ | E3: ='様式A-1'!D3 -> コンピラトンネル | H3: 路 線 名 | J3: ='様式A-1'!J3:O4 -> 福浦港金比羅線 | M3: 定期点検実施者 | P3: ='様式B (1)'!S3 -> アジア航測株式会社 | S3: 定期点検年月日 | U3: ='様式B (1)'!P2 -> 45903
B4: 名 称 | E4: ='様式A-1'!D4 -> 金比羅トンネル | H4: 管理者名 | J4: ='様式A-1'!R3 -> 山口県 下関土木建築事務所 | P4: ='様式B (3)'!S4 -> 飯田 琢巳
B5: 写真 番号 | C5: 覆工スパン 番号 | E5: S12 | M5: 写真 番号 | N5: 覆工スパン 番号 | P5: S12
C6: 変状番号 | E6: 2 | N6: 変状番号 | P6: 3
B7: 変状 部位 | C7: 対象箇所 | E7: 覆工 | M7: 変状 部位 | N7: 対象箇所 | P7: 覆工
C8: 部位区分 | E8: アーチ（左側） | N8: 部位区分 | P8: 横断目地（天端）
B9: 変状種類 | E9: 漏水 | M9: 変状種類 | P9: うき・はく離
B10: 対策 区分 | C10: 変状区分 | E10: 漏水 | M10: 対策 区分 | N10: 変状区分 | P10: 材質劣化
C11: 応急措置前 | E11: － | N11: 応急措置前 | P11: －
C12: 応急措置後 | E12: Ⅱa | N12: 応急措置後 | P12: Ⅰ
B13: 変状の発生範囲及び規模 | E13: 8.3m×0.5m | H13: 前回変状の発生範囲及び規模 | J13: － | M13: 変状の発生範囲及び規模 | P13: 1.7m×0.15m | S13: 前回変状の発生範囲及び規模 | U13: 1.9m×0.15m
B14: 対策履歴 | E14: － | H14: 実施状況（実施日） | J14: － | M14: 対策履歴 | P14: － | S14: 実施状況（実施日） | U14: －
B15: メモ | E15: 8.3m×0.5mの漏水（複数の漏水） 引き続き重点的な監視を行い、状況により計画的に対策を講じことが望ましい。 | M15: メモ | P15: うきは補修されているため、判定を見直し
B16: 写真 番号 | C16: 覆工スパン 番号 | E16: S12 | M16: 写真 番号 | N16: 覆工スパン 番号 | P16: S13
C17: 変状番号 | E17: 4 | N17: 変状番号 | P17: 1
B18: 変状 部位 | C18: 対象箇所 | E18: 覆工 | M18: 変状 部位 | N18: 対象箇所 | P18: 覆工
C19: 部位区分 | E19: アーチ（右側） | N19: 部位区分 | P19: 横断目地（左側）
B20: 変状種類 | E20: 圧ざ、ひび割れ | M20: 変状種類 | P20: うき・はく離
B21: 対策 区分 | C21: 変状区分 | E21: 材質劣化 | M21: 対策 区分 | N21: 変状区分 | P21: 材質劣化
C22: 応急措置前 | E22: － | N22: 応急措置前 | P22: －
C23: 応急措置後 | E23: Ⅱb | N23: 応急措置後 | P23: Ⅰ
B24: 変状の発生範囲及び規模 | E24: 幅0.3㎜ 長さ4.3m | H24: 前回変状の発生範囲及び規模 | J24: 幅0.3㎜ 長さ4.9m | M24: 変状の発生範囲及び規模 | P24: 2.2m×0.3m | S24: 前回変状の発生範囲及び規模 | U24: 2.2m×0.3m
B25: 対策履歴 | E25: － | H25: 実施状況（実施日） | J25: － | M25: 対策履歴 | P25: － | S25: 実施状況（実施日） | U25: －
B26: メモ | E26: 幅0.3㎜ 長さ4.3mのひび割れ 前回からの進行が見られないが、構造物の機能が低下する可能性があるため引き続いて監視を行う。 | M26: メモ | P26: うきは補修されているため、判定を見直し
C27: ※ 応急措置後の対策区分について添付すること。また、点検前に 実施された措置によりⅠと判定された箇所も添付すること。 | N27: ※ 変状の発生範囲の規模とは、対策を行う際に参考となる変状の長さや面積をいう。
N28: ※ 応急措置を実施しないで決定した変状の対策区分は、対策区分の応急措置後の欄に記入すること。
C29: ※ たたき落としを実施した場合は、実施後の写真を添付すること。 | N29: ※ 変状の発生範囲の規模は、面積・寸法を記載すること。(ひび割れ幅のみmmとし、その他をm表記とする)
C30: ※ 附属物の取付状態に関する異常写真は別途、任意の書式でとりまとめること。 | N30: ※ 構造用鋼材以外の異物に伴ううき・はく離については、メモ欄に異物の概要を記入すること。

Sheet 様式D-1-1 (23)
B2: ■定期点検記録様式 変状写真台帳【様式D-1-1】 | R2: 施設ID | T2: ='様式A-1'!W2 -> 33.96722,130.91500
B3: フリガナ | E3: ='様式A-1'!D3 -> コンピラトンネル | H3: 路 線 名 | J3: ='様式A-1'!J3:O4 -> 福浦港金比羅線 | M3: 定期点検実施者 | P3: ='様式B (1)'!S3 -> アジア航測株式会社 | S3: 定期点検年月日 | U3: ='様式B (1)'!P2 -> 45903
B4: 名 称 | E4: ='様式A-1'!D4 -> 金比羅トンネル | H4: 管理者名 | J4: ='様式A-1'!R3 -> 山口県 下関土木建築事務所 | P4: ='様式B (3)'!S4 -> 飯田 琢巳
B5: 写真 番号 | C5: 覆工スパン 番号 | E5: S13 | M5: 写真 番号 | N5: 覆工スパン 番号 | P5: S13
C6: 変状番号 | E6: 2 | N6: 変状番号 | P6: 3
B7: 変状 部位 | C7: 対象箇所 | E7: 覆工 | M7: 変状 部位 | N7: 対象箇所 | P7: 覆工
C8: 部位区分 | E8: アーチ（左側） | N8: 部位区分 | P8: アーチ（天端）
B9: 変状種類 | E9: 漏水 | M9: 変状種類 | P9: 圧ざ、ひび割れ
B10: 対策 区分 | C10: 変状区分 | E10: 漏水 | M10: 対策 区分 | N10: 変状区分 | P10: 材質劣化
C11: 応急措置前 | E11: － | N11: 応急措置前 | P11: －
C12: 応急措置後 | E12: Ⅱb | N12: 応急措置後 | P12: Ⅱb
B13: 変状の発生範囲及び規模 | E13: 5.2m×2.0m | H13: 前回変状の発生範囲及び規模 | J13: － | M13: 変状の発生範囲及び規模 | P13: 幅0.7㎜ 長さ2.7m | S13: 前回変状の発生範囲及び規模 | U13: 幅0.7㎜ 長さ3.6m
B14: 対策履歴 | E14: － | H14: 実施状況（実施日） | J14: － | M14: 対策履歴 | P14: － | S14: 実施状況（実施日） | U14: －
B15: メモ | E15: 5.2m×2.0mの漏水跡 利用者にはほとんど影響はないが、日常巡視により監視を行う。 | M15: メモ | P15: 幅0.7㎜ 長さ2.7mのひび割れ 前回からの進行が見られないが、構造物の機能が低下する可能性があるため引き続いて監視を行う。
B16: 写真 番号 | C16: 覆工スパン 番号 | E16: S13 | M16: 写真 番号 | N16: 覆工スパン 番号 | P16: S13
C17: 変状番号 | E17: 4 | N17: 変状番号 | P17: 5
B18: 変状 部位 | C18: 対象箇所 | E18: 覆工 | M18: 変状 部位 | N18: 対象箇所 | P18: 覆工
C19: 部位区分 | E19: アーチ（天端） | N19: 部位区分 | P19: 横断目地（天端）
B20: 変状種類 | E20: うき・はく離 | M20: 変状種類 | P20: その他
B21: 対策 区分 | C21: 変状区分 | E21: 材質劣化 | M21: 対策 区分 | N21: 変状区分 | P21: 材質劣化
C22: 応急措置前 | E22: － | N22: 応急措置前 | P22: －
C23: 応急措置後 | E23: Ⅰ | N23: 応急措置後 | P23: Ⅰ
B24: 変状の発生範囲及び規模 | E24: 0.2m×0.2m | H24: 前回変状の発生範囲及び規模 | J24: 0.2m×0.2m | M24: 変状の発生範囲及び規模 | P24: － | S24: 前回変状の発生範囲及び規模 | U24: 0.2m×0.1m
B25: 対策履歴 | E25: － | H25: 実施状況（実施日） | J25: － | M25: 対策履歴 | P25: － | S25: 実施状況（実施日） | U25: －
B26: メモ | E26: うきは補修されているため、判定を見直し | M26: メモ | P26: 目地沿いの異物（木片）は撤去済により、判定見直し
C27: ※ 応急措置後の対策区分について添付すること。また、点検前に 実施された措置によりⅠと判定された箇所も添付すること。 | N27: ※ 変状の発生範囲の規模とは、対策を行う際に参考となる変状の長さや面積をいう。
N28: ※ 応急措置を実施しないで決定した変状の対策区分は、対策区分の応急措置後の欄に記入すること。
C29: ※ たたき落としを実施した場合は、実施後の写真を添付すること。 | N29: ※ 変状の発生範囲の規模は、面積・寸法を記載すること。(ひび割れ幅のみmmとし、その他をm表記とする)
C30: ※ 附属物の取付状態に関する異常写真は別途、任意の書式でとりまとめること。 | N30: ※ 構造用鋼材以外の異物に伴ううき・はく離については、メモ欄に異物の概要を記入すること。

Sheet 様式D-1-1 (24)
B2: ■定期点検記録様式 変状写真台帳【様式D-1-1】 | R2: 施設ID | T2: ='様式A-1'!W2 -> 33.96722,130.91500
B3: フリガナ | E3: ='様式A-1'!D3 -> コンピラトンネル | H3: 路 線 名 | J3: ='様式A-1'!J3:O4 -> 福浦港金比羅線 | M3: 定期点検実施者 | P3: ='様式B (1)'!S3 -> アジア航測株式会社 | S3: 定期点検年月日 | U3: ='様式B (1)'!P2 -> 45903
B4: 名 称 | E4: ='様式A-1'!D4 -> 金比羅トンネル | H4: 管理者名 | J4: ='様式A-1'!R3 -> 山口県 下関土木建築事務所 | P4: ='様式B (3)'!S4 -> 飯田 琢巳
B5: 写真 番号 | C5: 覆工スパン 番号 | E5: S13 | M5: 写真 番号 | N5: 覆工スパン 番号 | P5: S13
C6: 変状番号 | E6: 6 | N6: 変状番号 | P6: 7
B7: 変状 部位 | C7: 対象箇所 | E7: 覆工 | M7: 変状 部位 | N7: 対象箇所 | P7: 覆工
C8: 部位区分 | E8: 横断目地（天端） | N8: 部位区分 | P8: アーチ（右側）
B9: 変状種類 | E9: うき・はく離 | M9: 変状種類 | P9: 漏水
B10: 対策 区分 | C10: 変状区分 | E10: 材質劣化 | M10: 対策 区分 | N10: 変状区分 | P10: 漏水
C11: 応急措置前 | E11: － | N11: 応急措置前 | P11: －
C12: 応急措置後 | E12: Ⅰ | N12: 応急措置後 | P12: Ⅱb
B13: 変状の発生範囲及び規模 | E13: 0.9m×0.1m | H13: 前回変状の発生範囲及び規模 | J13: 0.6m×0.05m | M13: 変状の発生範囲及び規模 | P13: 6.4m×0.5m | S13: 前回変状の発生範囲及び規模 | U13: －
B14: 対策履歴 | E14: － | H14: 実施状況（実施日） | J14: － | M14: 対策履歴 | P14: － | S14: 実施状況（実施日） | U14: －
B15: メモ | E15: うきは補修されているため、判定を見直し | M15: メモ | P15: 6.4m×0.5mの漏水跡 利用者にはほとんど影響はないが、日常巡視により監視を行う。
B16: 写真 番号 | C16: 覆工スパン 番号 | E16: S14 | M16: 写真 番号 | N16: 覆工スパン 番号 | P16: S14
C17: 変状番号 | E17: 1 | N17: 変状番号 | P17: 2
B18: 変状 部位 | C18: 対象箇所 | E18: 覆工 | M18: 変状 部位 | N18: 対象箇所 | P18: 覆工
C19: 部位区分 | E19: 横断目地（左側） | N19: 部位区分 | P19: アーチ（左側）
B20: 変状種類 | E20: うき・はく離 | M20: 変状種類 | P20: 漏水
B21: 対策 区分 | C21: 変状区分 | E21: 材質劣化 | M21: 対策 区分 | N21: 変状区分 | P21: 漏水
C22: 応急措置前 | E22: － | N22: 応急措置前 | P22: －
C23: 応急措置後 | E23: Ⅰ | N23: 応急措置後 | P23: Ⅱb
B24: 変状の発生範囲及び規模 | E24: 0.4m×0.05m | H24: 前回変状の発生範囲及び規模 | J24: 0.4m×0.05m | M24: 変状の発生範囲及び規模 | P24: 5.9m×1.3m | S24: 前回変状の発生範囲及び規模 | U24: －
B25: 対策履歴 | E25: － | H25: 実施状況（実施日） | J25: － | M25: 対策履歴 | P25: － | S25: 実施状況（実施日） | U25: －
B26: メモ | E26: うきは補修されているため、判定を見直し | M26: メモ | P26: 5.9m×1.3mの漏水 利用者にはほとんど影響はないが、日常巡視により監視を行う。
C27: ※ 応急措置後の対策区分について添付すること。また、点検前に 実施された措置によりⅠと判定された箇所も添付すること。 | N27: ※ 変状の発生範囲の規模とは、対策を行う際に参考となる変状の長さや面積をいう。
N28: ※ 応急措置を実施しないで決定した変状の対策区分は、対策区分の応急措置後の欄に記入すること。
C29: ※ たたき落としを実施した場合は、実施後の写真を添付すること。 | N29: ※ 変状の発生範囲の規模は、面積・寸法を記載すること。(ひび割れ幅のみmmとし、その他をm表記とする)
C30: ※ 附属物の取付状態に関する異常写真は別途、任意の書式でとりまとめること。 | N30: ※ 構造用鋼材以外の異物に伴ううき・はく離については、メモ欄に異物の概要を記入すること。

Sheet 様式D-1-1 (25)
B2: ■定期点検記録様式 変状写真台帳【様式D-1-1】 | R2: 施設ID | T2: ='様式A-1'!W2 -> 33.96722,130.91500
B3: フリガナ | E3: ='様式A-1'!D3 -> コンピラトンネル | H3: 路 線 名 | J3: ='様式A-1'!J3:O4 -> 福浦港金比羅線 | M3: 定期点検実施者 | P3: ='様式B (1)'!S3 -> アジア航測株式会社 | S3: 定期点検年月日 | U3: ='様式B (1)'!P2 -> 45903
B4: 名 称 | E4: ='様式A-1'!D4 -> 金比羅トンネル | H4: 管理者名 | J4: ='様式A-1'!R3 -> 山口県 下関土木建築事務所 | P4: ='様式B (3)'!S4 -> 飯田 琢巳
B5: 写真 番号 | C5: 覆工スパン 番号 | E5: S14 | M5: 写真 番号 | N5: 覆工スパン 番号 | P5: S14
C6: 変状番号 | E6: 3 | N6: 変状番号 | P6: 4
B7: 変状 部位 | C7: 対象箇所 | E7: 覆工 | M7: 変状 部位 | N7: 対象箇所 | P7: 覆工
C8: 部位区分 | E8: アーチ（左側） | N8: 部位区分 | P8: 横断目地（天端）
B9: 変状種類 | E9: 圧ざ、ひび割れ | M9: 変状種類 | P9: うき・はく離
B10: 対策 区分 | C10: 変状区分 | E10: 材質劣化 | M10: 対策 区分 | N10: 変状区分 | P10: 材質劣化
C11: 応急措置前 | E11: － | N11: 応急措置前 | P11: －
C12: 応急措置後 | E12: Ⅱb | N12: 応急措置後 | P12: Ⅰ
B13: 変状の発生範囲及び規模 | E13: 幅1.0㎜ 長さ4.5m | H13: 前回変状の発生範囲及び規模 | J13: 幅1.0㎜ 長さ4.5m | M13: 変状の発生範囲及び規模 | P13: 1.4m×0.15m | S13: 前回変状の発生範囲及び規模 | U13: 1.4m×0.15m
B14: 対策履歴 | E14: － | H14: 実施状況（実施日） | J14: － | M14: 対策履歴 | P14: － | S14: 実施状況（実施日） | U14: －
B15: メモ | E15: 幅1.0㎜ 長さ4.5mのひび割れ 前回からの進行が見られないが、構造物の機能が低下する可能性があるため引き続いて監視を行う。 | M15: メモ | P15: うきは補修されているため、判定を見直し
B16: 写真 番号 | C16: 覆工スパン 番号 | E16: S14 | M16: 写真 番号 | N16: 覆工スパン 番号 | P16: S14
C17: 変状番号 | E17: 5 | N17: 変状番号 | P17: 6
B18: 変状 部位 | C18: 対象箇所 | E18: 覆工 | M18: 変状 部位 | N18: 対象箇所 | P18: 覆工
C19: 部位区分 | E19: アーチ（天端） | N19: 部位区分 | P19: アーチ（天端）
B20: 変状種類 | E20: うき・はく離 | M20: 変状種類 | P20: うき・はく離
B21: 対策 区分 | C21: 変状区分 | E21: 材質劣化 | M21: 対策 区分 | N21: 変状区分 | P21: 材質劣化
C22: 応急措置前 | E22: － | N22: 応急措置前 | P22: －
C23: 応急措置後 | E23: Ⅰ | N23: 応急措置後 | P23: Ⅰ
B24: 変状の発生範囲及び規模 | E24: 0.15m×0.15m | H24: 前回変状の発生範囲及び規模 | J24: 0.15m×0.15m | M24: 変状の発生範囲及び規模 | P24: 0.1m×0.1m | S24: 前回変状の発生範囲及び規模 | U24: 0.1m×0.1m
B25: 対策履歴 | E25: － | H25: 実施状況（実施日） | J25: － | M25: 対策履歴 | P25: － | S25: 実施状況（実施日） | U25: －
B26: メモ | E26: うきは補修されているため、判定を見直し | M26: メモ | P26: うきは補修されているため、判定を見直し
C27: ※ 応急措置後の対策区分について添付すること。また、点検前に 実施された措置によりⅠと判定された箇所も添付すること。 | N27: ※ 変状の発生範囲の規模とは、対策を行う際に参考となる変状の長さや面積をいう。
N28: ※ 応急措置を実施しないで決定した変状の対策区分は、対策区分の応急措置後の欄に記入すること。
C29: ※ たたき落としを実施した場合は、実施後の写真を添付すること。 | N29: ※ 変状の発生範囲の規模は、面積・寸法を記載すること。(ひび割れ幅のみmmとし、その他をm表記とする)
C30: ※ 附属物の取付状態に関する異常写真は別途、任意の書式でとりまとめること。 | N30: ※ 構造用鋼材以外の異物に伴ううき・はく離については、メモ欄に異物の概要を記入すること。

Sheet 様式D-1-1 (26)
B2: ■定期点検記録様式 変状写真台帳【様式D-1-1】 | R2: 施設ID | T2: ='様式A-1'!W2 -> 33.96722,130.91500
B3: フリガナ | E3: ='様式A-1'!D3 -> コンピラトンネル | H3: 路 線 名 | J3: ='様式A-1'!J3:O4 -> 福浦港金比羅線 | M3: 定期点検実施者 | P3: ='様式B (1)'!S3 -> アジア航測株式会社 | S3: 定期点検年月日 | U3: ='様式B (1)'!P2 -> 45903
B4: 名 称 | E4: ='様式A-1'!D4 -> 金比羅トンネル | H4: 管理者名 | J4: ='様式A-1'!R3 -> 山口県 下関土木建築事務所 | P4: ='様式B (3)'!S4 -> 飯田 琢巳
B5: 写真 番号 | C5: 覆工スパン 番号 | E5: S14 | M5: 写真 番号 | N5: 覆工スパン 番号 | P5: S14
C6: 変状番号 | E6: 7 | N6: 変状番号 | P6: 8
B7: 変状 部位 | C7: 対象箇所 | E7: 覆工 | M7: 変状 部位 | N7: 対象箇所 | P7: 覆工
C8: 部位区分 | E8: 横断目地（天端） | N8: 部位区分 | P8: 横断目地（天端）
B9: 変状種類 | E9: うき・はく離 | M9: 変状種類 | P9: うき・はく離
B10: 対策 区分 | C10: 変状区分 | E10: 材質劣化 | M10: 対策 区分 | N10: 変状区分 | P10: 材質劣化
C11: 応急措置前 | E11: － | N11: 応急措置前 | P11: －
C12: 応急措置後 | E12: Ⅰ | N12: 応急措置後 | P12: Ⅰ
B13: 変状の発生範囲及び規模 | E13: 0.5m×0.1m | H13: 前回変状の発生範囲及び規模 | J13: 0.5m×0.1m | M13: 変状の発生範囲及び規模 | P13: 0.4m×0.1m | S13: 前回変状の発生範囲及び規模 | U13: 0.4m×0.1m
B14: 対策履歴 | E14: － | H14: 実施状況（実施日） | J14: － | M14: 対策履歴 | P14: － | S14: 実施状況（実施日） | U14: －
B15: メモ | E15: うきは補修されているため、判定を見直し | M15: メモ | P15: うきは補修されているため、判定を見直し
B16: 写真 番号 | C16: 覆工スパン 番号 | E16: S14 | M16: 写真 番号 | N16: 覆工スパン 番号 | P16: S14
C17: 変状番号 | E17: 9 | N17: 変状番号 | P17: 10
B18: 変状 部位 | C18: 対象箇所 | E18: 覆工 | M18: 変状 部位 | N18: 対象箇所 | P18: 覆工
C19: 部位区分 | E19: アーチ（右側） | N19: 部位区分 | P19: アーチ（右側）
B20: 変状種類 | E20: 漏水 | M20: 変状種類 | P20: 漏水
B21: 対策 区分 | C21: 変状区分 | E21: 漏水 | M21: 対策 区分 | N21: 変状区分 | P21: 漏水
C22: 応急措置前 | E22: － | N22: 応急措置前 | P22: －
C23: 応急措置後 | E23: Ⅱb | N23: 応急措置後 | P23: Ⅱb
B24: 変状の発生範囲及び規模 | E24: 5.1m×1.0m | H24: 前回変状の発生範囲及び規模 | J24: － | M24: 変状の発生範囲及び規模 | P24: 5.6m×0.5m | S24: 前回変状の発生範囲及び規模 | U24: －
B25: 対策履歴 | E25: － | H25: 実施状況（実施日） | J25: － | M25: 対策履歴 | P25: － | S25: 実施状況（実施日） | U25: －
B26: メモ | E26: 5.1m×1.0mの漏水跡 利用者にはほとんど影響はないが、日常巡視により監視を行う。 | M26: メモ | P26: 5.6m×0.5mの漏水跡 利用者にはほとんど影響はないが、日常巡視により監視を行う。
C27: ※ 応急措置後の対策区分について添付すること。また、点検前に 実施された措置によりⅠと判定された箇所も添付すること。 | N27: ※ 変状の発生範囲の規模とは、対策を行う際に参考となる変状の長さや面積をいう。
N28: ※ 応急措置を実施しないで決定した変状の対策区分は、対策区分の応急措置後の欄に記入すること。
C29: ※ たたき落としを実施した場合は、実施後の写真を添付すること。 | N29: ※ 変状の発生範囲の規模は、面積・寸法を記載すること。(ひび割れ幅のみmmとし、その他をm表記とする)
C30: ※ 附属物の取付状態に関する異常写真は別途、任意の書式でとりまとめること。 | N30: ※ 構造用鋼材以外の異物に伴ううき・はく離については、メモ欄に異物の概要を記入すること。

Sheet 様式D-1-1 (27)
B2: ■定期点検記録様式 変状写真台帳【様式D-1-1】 | R2: 施設ID | T2: ='様式A-1'!W2 -> 33.96722,130.91500
B3: フリガナ | E3: ='様式A-1'!D3 -> コンピラトンネル | H3: 路 線 名 | J3: ='様式A-1'!J3:O4 -> 福浦港金比羅線 | M3: 定期点検実施者 | P3: ='様式B (1)'!S3 -> アジア航測株式会社 | S3: 定期点検年月日 | U3: ='様式B (1)'!P2 -> 45903
B4: 名 称 | E4: ='様式A-1'!D4 -> 金比羅トンネル | H4: 管理者名 | J4: ='様式A-1'!R3 -> 山口県 下関土木建築事務所 | P4: ='様式B (3)'!S4 -> 飯田 琢巳
B5: 写真 番号 | C5: 覆工スパン 番号 | E5: S15 | M5: 写真 番号 | N5: 覆工スパン 番号 | P5: S15
C6: 変状番号 | E6: 1 | N6: 変状番号 | P6: 2
B7: 変状 部位 | C7: 対象箇所 | E7: 覆工 | M7: 変状 部位 | N7: 対象箇所 | P7: 覆工
C8: 部位区分 | E8: アーチ（左側） | N8: 部位区分 | P8: アーチ（左側）
B9: 変状種類 | E9: 圧ざ、ひび割れ | M9: 変状種類 | P9: 漏水
B10: 対策 区分 | C10: 変状区分 | E10: 材質劣化 | M10: 対策 区分 | N10: 変状区分 | P10: 漏水
C11: 応急措置前 | E11: － | N11: 応急措置前 | P11: －
C12: 応急措置後 | E12: Ⅱb | N12: 応急措置後 | P12: Ⅱb
B13: 変状の発生範囲及び規模 | E13: 幅1.0㎜ 長さ3.8m | H13: 前回変状の発生範囲及び規模 | J13: 幅1.1㎜ 長さ3.7m | M13: 変状の発生範囲及び規模 | P13: 5.0m×0.5m | S13: 前回変状の発生範囲及び規模 | U13: －
B14: 対策履歴 | E14: － | H14: 実施状況（実施日） | J14: － | M14: 対策履歴 | P14: － | S14: 実施状況（実施日） | U14: －
B15: メモ | E15: 幅1.0㎜ 長さ3.8mのひび割れ 前回からの進行が見られないが、構造物の機能が低下する可能性があるため引き続いて監視を行う。 | M15: メモ | P15: 5.0m×0.5mmの漏水（にじみ） 利用者にはほとんど影響はないが、日常巡視により監視を行う。
B16: 写真 番号 | C16: 覆工スパン 番号 | E16: S15 | M16: 写真 番号 | N16: 覆工スパン 番号 | P16: S15
C17: 変状番号 | E17: 3 | N17: 変状番号 | P17: 4
B18: 変状 部位 | C18: 対象箇所 | E18: 覆工 | M18: 変状 部位 | N18: 対象箇所 | P18: 覆工
C19: 部位区分 | E19: 横断目地（右側） | N19: 部位区分 | P19: 横断目地（右側）
B20: 変状種類 | E20: うき・はく離 | M20: 変状種類 | P20: その他
B21: 対策 区分 | C21: 変状区分 | E21: 材質劣化 | M21: 対策 区分 | N21: 変状区分 | P21: 材質劣化
C22: 応急措置前 | E22: － | N22: 応急措置前 | P22: －
C23: 応急措置後 | E23: Ⅰ | N23: 応急措置後 | P23: Ⅰ
B24: 変状の発生範囲及び規模 | E24: 0.5m×0.1m | H24: 前回変状の発生範囲及び規模 | J24: 0.5m×0.1m | M24: 変状の発生範囲及び規模 | P24: 0.3m×0.1m | S24: 前回変状の発生範囲及び規模 | U24: 0.3m×0.1m
B25: 対策履歴 | E25: － | H25: 実施状況（実施日） | J25: － | M25: 対策履歴 | P25: － | S25: 実施状況（実施日） | U25: －
B26: メモ | E26: うき・はく離は補修されているため、判定を見直し | M26: メモ | P26: 導水工は補修されているため、判定を見直し
C27: ※ 応急措置後の対策区分について添付すること。また、点検前に 実施された措置によりⅠと判定された箇所も添付すること。 | N27: ※ 変状の発生範囲の規模とは、対策を行う際に参考となる変状の長さや面積をいう。
N28: ※ 応急措置を実施しないで決定した変状の対策区分は、対策区分の応急措置後の欄に記入すること。
C29: ※ たたき落としを実施した場合は、実施後の写真を添付すること。 | N29: ※ 変状の発生範囲の規模は、面積・寸法を記載すること。(ひび割れ幅のみmmとし、その他をm表記とする)
C30: ※ 附属物の取付状態に関する異常写真は別途、任意の書式でとりまとめること。 | N30: ※ 構造用鋼材以外の異物に伴ううき・はく離については、メモ欄に異物の概要を記入すること。

Sheet 様式D-1-1 (28)
B2: ■定期点検記録様式 変状写真台帳【様式D-1-1】 | R2: 施設ID | T2: ='様式A-1'!W2 -> 33.96722,130.91500
B3: フリガナ | E3: ='様式A-1'!D3 -> コンピラトンネル | H3: 路 線 名 | J3: ='様式A-1'!J3:O4 -> 福浦港金比羅線 | M3: 定期点検実施者 | P3: ='様式B (1)'!S3 -> アジア航測株式会社 | S3: 定期点検年月日 | U3: ='様式B (1)'!P2 -> 45903
B4: 名 称 | E4: ='様式A-1'!D4 -> 金比羅トンネル | H4: 管理者名 | J4: ='様式A-1'!R3 -> 山口県 下関土木建築事務所 | P4: ='様式B (3)'!S4 -> 飯田 琢巳
B5: 写真 番号 | C5: 覆工スパン 番号 | E5: S15 | M5: 写真 番号 | N5: 覆工スパン 番号 | P5: S15
C6: 変状番号 | E6: 5 | N6: 変状番号 | P6: 6
B7: 変状 部位 | C7: 対象箇所 | E7: 覆工 | M7: 変状 部位 | N7: 対象箇所 | P7: 覆工
C8: 部位区分 | E8: アーチ（左側） | N8: 部位区分 | P8: アーチ（右側）
B9: 変状種類 | E9: 漏水 | M9: 変状種類 | P9: うき・はく離
B10: 対策 区分 | C10: 変状区分 | E10: 漏水 | M10: 対策 区分 | N10: 変状区分 | P10: 材質劣化
C11: 応急措置前 | E11: － | N11: 応急措置前 | P11: －
C12: 応急措置後 | E12: Ⅱb | N12: 応急措置後 | P12: Ⅱa
B13: 変状の発生範囲及び規模 | E13: 5.4m×0.5m | H13: 前回変状の発生範囲及び規模 | J13: 今回新規変状 | M13: 変状の発生範囲及び規模 | P13: 0.1m×0.1m | S13: 前回変状の発生範囲及び規模 | U13: 今回新規変状
B14: 対策履歴 | E14: － | H14: 実施状況（実施日） | J14: － | M14: 対策履歴 | P14: － | S14: 実施状況（実施日） | U14: －
B15: メモ | E15: 5.4m×0.5mの漏水（にじみ） 利用者にはほとんど影響はないが、日常巡視により監視を行う。 | M15: メモ | P15: 0.1m×0.1mのうき・はく離 打音異常あり。覆工上部のうきにより、重点的な監視を要する。 状況により計画的に対策を講じことが望ましい。
B16: 写真 番号 | C16: 覆工スパン 番号 | E16: S16 | M16: 写真 番号 | N16: 覆工スパン 番号 | P16: S16
C17: 変状番号 | E17: 1 | N17: 変状番号 | P17: 2
B18: 変状 部位 | C18: 対象箇所 | E18: 覆工 | M18: 変状 部位 | N18: 対象箇所 | P18: 覆工
C19: 部位区分 | E19: アーチ（左側） | N19: 部位区分 | P19: アーチ（左側）
B20: 変状種類 | E20: 漏水 | M20: 変状種類 | P20: 圧ざ、ひび割れ
B21: 対策 区分 | C21: 変状区分 | E21: 漏水 | M21: 対策 区分 | N21: 変状区分 | P21: 材質劣化
C22: 応急措置前 | E22: － | N22: 応急措置前 | P22: －
C23: 応急措置後 | E23: Ⅱb | N23: 応急措置後 | P23: Ⅱb
B24: 変状の発生範囲及び規模 | E24: 3.0m×1.9m | H24: 前回変状の発生範囲及び規模 | J24: － | M24: 変状の発生範囲及び規模 | P24: 幅0.7㎜ 長さ2.4m | S24: 前回変状の発生範囲及び規模 | U24: 幅0.7㎜ 長さ5.4m
B25: 対策履歴 | E25: － | H25: 実施状況（実施日） | J25: － | M25: 対策履歴 | P25: － | S25: 実施状況（実施日） | U25: －
B26: メモ | E26: 3.0m×1.9mの漏水跡 利用者にはほとんど影響はないが、日常巡視により監視を行う。 | M26: メモ | P26: 幅0.7㎜ 長さ2.4mのひび割れ（一部補修済） 前回からの進行が見られないが、構造物の機能が低下する可能性があるため引き続いて監視を行う。
C27: ※ 応急措置後の対策区分について添付すること。また、点検前に 実施された措置によりⅠと判定された箇所も添付すること。 | N27: ※ 変状の発生範囲の規模とは、対策を行う際に参考となる変状の長さや面積をいう。
N28: ※ 応急措置を実施しないで決定した変状の対策区分は、対策区分の応急措置後の欄に記入すること。
C29: ※ たたき落としを実施した場合は、実施後の写真を添付すること。 | N29: ※ 変状の発生範囲の規模は、面積・寸法を記載すること。(ひび割れ幅のみmmとし、その他をm表記とする)
C30: ※ 附属物の取付状態に関する異常写真は別途、任意の書式でとりまとめること。 | N30: ※ 構造用鋼材以外の異物に伴ううき・はく離については、メモ欄に異物の概要を記入すること。

Sheet 様式D-1-1 (29)
B2: ■定期点検記録様式 変状写真台帳【様式D-1-1】 | R2: 施設ID | T2: ='様式A-1'!W2 -> 33.96722,130.91500
B3: フリガナ | E3: ='様式A-1'!D3 -> コンピラトンネル | H3: 路 線 名 | J3: ='様式A-1'!J3:O4 -> 福浦港金比羅線 | M3: 定期点検実施者 | P3: ='様式B (1)'!S3 -> アジア航測株式会社 | S3: 定期点検年月日 | U3: ='様式B (1)'!P2 -> 45903
B4: 名 称 | E4: ='様式A-1'!D4 -> 金比羅トンネル | H4: 管理者名 | J4: ='様式A-1'!R3 -> 山口県 下関土木建築事務所 | P4: ='様式B (3)'!S4 -> 飯田 琢巳
B5: 写真 番号 | C5: 覆工スパン 番号 | E5: S16 | M5: 写真 番号 | N5: 覆工スパン 番号 | P5: S16
C6: 変状番号 | E6: 3 | N6: 変状番号 | P6: 4
B7: 変状 部位 | C7: 対象箇所 | E7: 覆工 | M7: 変状 部位 | N7: 対象箇所 | P7: 覆工
C8: 部位区分 | E8: アーチ（左側） | N8: 部位区分 | P8: アーチ（右側）
B9: 変状種類 | E9: 漏水 | M9: 変状種類 | P9: 漏水
B10: 対策 区分 | C10: 変状区分 | E10: 漏水 | M10: 対策 区分 | N10: 変状区分 | P10: 漏水
C11: 応急措置前 | E11: － | N11: 応急措置前 | P11: －
C12: 応急措置後 | E12: Ⅰ | N12: 応急措置後 | P12: Ⅰ
B13: 変状の発生範囲及び規模 | E13: － | H13: 前回変状の発生範囲及び規模 | J13: － | M13: 変状の発生範囲及び規模 | P13: － | S13: 前回変状の発生範囲及び規模 | U13: －
B14: 対策履歴 | E14: － | H14: 実施状況（実施日） | J14: － | M14: 対策履歴 | P14: － | S14: 実施状況（実施日） | U14: －
B15: メモ | E15: 漏水は補修されているため、判定を見直し | M15: メモ | P15: 漏水は補修されているため、判定を見直し
B16: 写真 番号 | C16: 覆工スパン 番号 | E16: S16 | M16: 写真 番号 | N16: 覆工スパン 番号 | P16: S16
C17: 変状番号 | E17: 5 | N17: 変状番号 | P17: 6
B18: 変状 部位 | C18: 対象箇所 | E18: 覆工 | M18: 変状 部位 | N18: 対象箇所 | P18: 覆工
C19: 部位区分 | E19: アーチ（天端） | N19: 部位区分 | P19: アーチ（右側）
B20: 変状種類 | E20: 漏水 | M20: 変状種類 | P20: 圧ざ、ひび割れ
B21: 対策 区分 | C21: 変状区分 | E21: 漏水 | M21: 対策 区分 | N21: 変状区分 | P21: 材質劣化
C22: 応急措置前 | E22: － | N22: 応急措置前 | P22: －
C23: 応急措置後 | E23: Ⅰ | N23: 応急措置後 | P23: Ⅰ
B24: 変状の発生範囲及び規模 | E24: － | H24: 前回変状の発生範囲及び規模 | J24: － | M24: 変状の発生範囲及び規模 | P24: － | S24: 前回変状の発生範囲及び規模 | U24: 幅0.3㎜ 長さ3.6m
B25: 対策履歴 | E25: － | H25: 実施状況（実施日） | J25: － | M25: 対策履歴 | P25: － | S25: 実施状況（実施日） | U25: －
B26: メモ | E26: 漏水は補修されているため、判定を見直し | M26: メモ | P26: ひび割れは補修されているため、判定を見直し
C27: ※ 応急措置後の対策区分について添付すること。また、点検前に 実施された措置によりⅠと判定された箇所も添付すること。 | N27: ※ 変状の発生範囲の規模とは、対策を行う際に参考となる変状の長さや面積をいう。
N28: ※ 応急措置を実施しないで決定した変状の対策区分は、対策区分の応急措置後の欄に記入すること。
C29: ※ たたき落としを実施した場合は、実施後の写真を添付すること。 | N29: ※ 変状の発生範囲の規模は、面積・寸法を記載すること。(ひび割れ幅のみmmとし、その他をm表記とする)
C30: ※ 附属物の取付状態に関する異常写真は別途、任意の書式でとりまとめること。 | N30: ※ 構造用鋼材以外の異物に伴ううき・はく離については、メモ欄に異物の概要を記入すること。

Sheet 様式D-1-1 (30)
B2: ■定期点検記録様式 変状写真台帳【様式D-1-1】 | R2: 施設ID | T2: ='様式A-1'!W2 -> 33.96722,130.91500
B3: フリガナ | E3: ='様式A-1'!D3 -> コンピラトンネル | H3: 路 線 名 | J3: ='様式A-1'!J3:O4 -> 福浦港金比羅線 | M3: 定期点検実施者 | P3: ='様式B (1)'!S3 -> アジア航測株式会社 | S3: 定期点検年月日 | U3: ='様式B (1)'!P2 -> 45903
B4: 名 称 | E4: ='様式A-1'!D4 -> 金比羅トンネル | H4: 管理者名 | J4: ='様式A-1'!R3 -> 山口県 下関土木建築事務所 | P4: ='様式B (3)'!S4 -> 飯田 琢巳
B5: 写真 番号 | C5: 覆工スパン 番号 | E5: S17 | M5: 写真 番号 | N5: 覆工スパン 番号 | P5: S17
C6: 変状番号 | E6: 1 | N6: 変状番号 | P6: 2
B7: 変状 部位 | C7: 対象箇所 | E7: 覆工 | M7: 変状 部位 | N7: 対象箇所 | P7: 覆工
C8: 部位区分 | E8: アーチ（左側） | N8: 部位区分 | P8: アーチ（左側）
B9: 変状種類 | E9: 圧ざ、ひび割れ | M9: 変状種類 | P9: 漏水
B10: 対策 区分 | C10: 変状区分 | E10: 材質劣化 | M10: 対策 区分 | N10: 変状区分 | P10: 漏水
C11: 応急措置前 | E11: － | N11: 応急措置前 | P11: －
C12: 応急措置後 | E12: Ⅰ | N12: 応急措置後 | P12: Ⅰ
B13: 変状の発生範囲及び規模 | E13: － | H13: 前回変状の発生範囲及び規模 | J13: 幅1.0㎜ 長さ4.4m | M13: 変状の発生範囲及び規模 | P13: － | S13: 前回変状の発生範囲及び規模 | U13: －
B14: 対策履歴 | E14: － | H14: 実施状況（実施日） | J14: － | M14: 対策履歴 | P14: － | S14: 実施状況（実施日） | U14: －
B15: メモ | E15: ひび割れは補修されているため、判定を見直し（スパン全体を補修済） | M15: メモ | P15: 漏水は補修されているため、判定を見直し（スパン全体を補修済）
B16: 写真 番号 | C16: 覆工スパン 番号 | E16: S17 | M16: 写真 番号 | N16: 覆工スパン 番号 | P16: S17
C17: 変状番号 | E17: 3 | N17: 変状番号 | P17: 4
B18: 変状 部位 | C18: 対象箇所 | E18: 覆工 | M18: 変状 部位 | N18: 対象箇所 | P18: 覆工
C19: 部位区分 | E19: 横断目地（左側） | N19: 部位区分 | P19: アーチ（右側）
B20: 変状種類 | E20: うき・はく離 | M20: 変状種類 | P20: 漏水
B21: 対策 区分 | C21: 変状区分 | E21: 材質劣化 | M21: 対策 区分 | N21: 変状区分 | P21: 漏水
C22: 応急措置前 | E22: － | N22: 応急措置前 | P22: －
C23: 応急措置後 | E23: Ⅰ | N23: 応急措置後 | P23: Ⅰ
B24: 変状の発生範囲及び規模 | E24: － | H24: 前回変状の発生範囲及び規模 | J24: 0.3m×0.1m | M24: 変状の発生範囲及び規模 | P24: － | S24: 前回変状の発生範囲及び規模 | U24: －
B25: 対策履歴 | E25: － | H25: 実施状況（実施日） | J25: － | M25: 対策履歴 | P25: － | S25: 実施状況（実施日） | U25: －
B26: メモ | E26: うきは補修されているため、判定を見直し（スパン全体を補修済） | M26: メモ | P26: 漏水は補修されているため、判定を見直し（スパン全体を補修済）
C27: ※ 応急措置後の対策区分について添付すること。また、点検前に 実施された措置によりⅠと判定された箇所も添付すること。 | N27: ※ 変状の発生範囲の規模とは、対策を行う際に参考となる変状の長さや面積をいう。
N28: ※ 応急措置を実施しないで決定した変状の対策区分は、対策区分の応急措置後の欄に記入すること。
C29: ※ たたき落としを実施した場合は、実施後の写真を添付すること。 | N29: ※ 変状の発生範囲の規模は、面積・寸法を記載すること。(ひび割れ幅のみmmとし、その他をm表記とする)
C30: ※ 附属物の取付状態に関する異常写真は別途、任意の書式でとりまとめること。 | N30: ※ 構造用鋼材以外の異物に伴ううき・はく離については、メモ欄に異物の概要を記入すること。

Sheet 様式D-1-1 (31)
B2: ■定期点検記録様式 変状写真台帳【様式D-1-1】 | R2: 施設ID | T2: ='様式A-1'!W2 -> 33.96722,130.91500
B3: フリガナ | E3: ='様式A-1'!D3 -> コンピラトンネル | H3: 路 線 名 | J3: ='様式A-1'!J3:O4 -> 福浦港金比羅線 | M3: 定期点検実施者 | P3: ='様式B (1)'!S3 -> アジア航測株式会社 | S3: 定期点検年月日 | U3: ='様式B (1)'!P2 -> 45903
B4: 名 称 | E4: ='様式A-1'!D4 -> 金比羅トンネル | H4: 管理者名 | J4: ='様式A-1'!R3 -> 山口県 下関土木建築事務所 | P4: ='様式B (3)'!S4 -> 飯田 琢巳
B5: 写真 番号 | C5: 覆工スパン 番号 | E5: S17 | M5: 写真 番号 | N5: 覆工スパン 番号 | P5: S17
C6: 変状番号 | E6: 5 | N6: 変状番号 | P6: 6
B7: 変状 部位 | C7: 対象箇所 | E7: 覆工 | M7: 変状 部位 | N7: 対象箇所 | P7: 覆工
C8: 部位区分 | E8: アーチ（天端） | N8: 部位区分 | P8: アーチ（右側）
B9: 変状種類 | E9: 鋼材腐食 | M9: 変状種類 | P9: 圧ざ、ひび割れ
B10: 対策 区分 | C10: 変状区分 | E10: 材質劣化 | M10: 対策 区分 | N10: 変状区分 | P10: 材質劣化
C11: 応急措置前 | E11: － | N11: 応急措置前 | P11: －
C12: 応急措置後 | E12: Ⅰ | N12: 応急措置後 | P12: Ⅰ
B13: 変状の発生範囲及び規模 | E13: － | H13: 前回変状の発生範囲及び規模 | J13: 0.3m×0.6m | M13: 変状の発生範囲及び規模 | P13: － | S13: 前回変状の発生範囲及び規模 | U13: 幅0.5㎜ 長さ3.4m
B14: 対策履歴 | E14: － | H14: 実施状況（実施日） | J14: － | M14: 対策履歴 | P14: － | S14: 実施状況（実施日） | U14: －
B15: メモ | E15: 鋼材腐食は補修されているため、判定を見直し（スパン全体を補修済） | M15: メモ | P15: ひび割れは補修されているため、判定を見直し（スパン全体を補修済）
B16: 写真 番号 | C16: 覆工スパン 番号 | E16: S18 | M16: 写真 番号 | N16: 覆工スパン 番号 | P16: S18
C17: 変状番号 | E17: 1 | N17: 変状番号 | P17: 2
B18: 変状 部位 | C18: 対象箇所 | E18: 覆工 | M18: 変状 部位 | N18: 対象箇所 | P18: 覆工
C19: 部位区分 | E19: アーチ（左側） | N19: 部位区分 | P19: アーチ（左側）
B20: 変状種類 | E20: 圧ざ、ひび割れ | M20: 変状種類 | P20: うき・はく離
B21: 対策 区分 | C21: 変状区分 | E21: 材質劣化 | M21: 対策 区分 | N21: 変状区分 | P21: 材質劣化
C22: 応急措置前 | E22: － | N22: 応急措置前 | P22: －
C23: 応急措置後 | E23: Ⅰ | N23: 応急措置後 | P23: Ⅰ
B24: 変状の発生範囲及び規模 | E24: － | H24: 前回変状の発生範囲及び規模 | J24: 幅0.8㎜ 長さ3.0m | M24: 変状の発生範囲及び規模 | P24: － | S24: 前回変状の発生範囲及び規模 | U24: 2.4m×0.6m
B25: 対策履歴 | E25: － | H25: 実施状況（実施日） | J25: － | M25: 対策履歴 | P25: － | S25: 実施状況（実施日） | U25: －
B26: メモ | E26: ひび割れは補修されているため、判定を見直し（スパン一部を補修済） | M26: メモ | P26: うきは補修されているため、判定を見直し
C27: ※ 応急措置後の対策区分について添付すること。また、点検前に 実施された措置によりⅠと判定された箇所も添付すること。 | N27: ※ 変状の発生範囲の規模とは、対策を行う際に参考となる変状の長さや面積をいう。
N28: ※ 応急措置を実施しないで決定した変状の対策区分は、対策区分の応急措置後の欄に記入すること。
C29: ※ たたき落としを実施した場合は、実施後の写真を添付すること。 | N29: ※ 変状の発生範囲の規模は、面積・寸法を記載すること。(ひび割れ幅のみmmとし、その他をm表記とする)
C30: ※ 附属物の取付状態に関する異常写真は別途、任意の書式でとりまとめること。 | N30: ※ 構造用鋼材以外の異物に伴ううき・はく離については、メモ欄に異物の概要を記入すること。

Sheet 様式D-1-1 (32)
B2: ■定期点検記録様式 変状写真台帳【様式D-1-1】 | R2: 施設ID | T2: ='様式A-1'!W2 -> 33.96722,130.91500
B3: フリガナ | E3: ='様式A-1'!D3 -> コンピラトンネル | H3: 路 線 名 | J3: ='様式A-1'!J3:O4 -> 福浦港金比羅線 | M3: 定期点検実施者 | P3: ='様式B (1)'!S3 -> アジア航測株式会社 | S3: 定期点検年月日 | U3: ='様式B (1)'!P2 -> 45903
B4: 名 称 | E4: ='様式A-1'!D4 -> 金比羅トンネル | H4: 管理者名 | J4: ='様式A-1'!R3 -> 山口県 下関土木建築事務所 | P4: ='様式B (3)'!S4 -> 飯田 琢巳
B5: 写真 番号 | C5: 覆工スパン 番号 | E5: S18 | M5: 写真 番号 | N5: 覆工スパン 番号 | P5: S18
C6: 変状番号 | E6: 3 | N6: 変状番号 | P6: 4
B7: 変状 部位 | C7: 対象箇所 | E7: 覆工 | M7: 変状 部位 | N7: 対象箇所 | P7: 覆工
C8: 部位区分 | E8: アーチ（天端） | N8: 部位区分 | P8: アーチ（左側）
B9: 変状種類 | E9: うき・はく離 | M9: 変状種類 | P9: 漏水
B10: 対策 区分 | C10: 変状区分 | E10: 材質劣化 | M10: 対策 区分 | N10: 変状区分 | P10: 漏水
C11: 応急措置前 | E11: － | N11: 応急措置前 | P11: －
C12: 応急措置後 | E12: Ⅰ | N12: 応急措置後 | P12: Ⅰ
B13: 変状の発生範囲及び規模 | E13: － | H13: 前回変状の発生範囲及び規模 | J13: 0.1m×0.1m | M13: 変状の発生範囲及び規模 | P13: － | S13: 前回変状の発生範囲及び規模 | U13: －
B14: 対策履歴 | E14: － | H14: 実施状況（実施日） | J14: － | M14: 対策履歴 | P14: － | S14: 実施状況（実施日） | U14: －
B15: メモ | E15: うきは補修されているため、判定を見直し | M15: メモ | P15: 漏水は補修されているため、判定を見直し
B16: 写真 番号 | C16: 覆工スパン 番号 | E16: S18 | M16: 写真 番号 | N16: 覆工スパン 番号 | P16: S18
C17: 変状番号 | E17: 5 | N17: 変状番号 | P17: 6
B18: 変状 部位 | C18: 対象箇所 | E18: 覆工 | M18: 変状 部位 | N18: 対象箇所 | P18: 覆工
C19: 部位区分 | E19: 横断目地（天端） | N19: 部位区分 | P19: アーチ（天端）
B20: 変状種類 | E20: 補修・補強材の破損 | M20: 変状種類 | P20: その他
B21: 対策 区分 | C21: 変状区分 | E21: 漏水 | M21: 対策 区分 | N21: 変状区分 | P21: 材質劣化
C22: 応急措置前 | E22: － | N22: 応急措置前 | P22: －
C23: 応急措置後 | E23: Ⅰ | N23: 応急措置後 | P23: Ⅱb
B24: 変状の発生範囲及び規模 | E24: 0.3m×0.1m | H24: 前回変状の発生範囲及び規模 | J24: 0.3m×0.1m | M24: 変状の発生範囲及び規模 | P24: 0.2m×0.1m | S24: 前回変状の発生範囲及び規模 | U24: 0.2m×0.1m
B25: 対策履歴 | E25: － | H25: 実施状況（実施日） | J25: － | M25: 対策履歴 | P25: － | S25: 実施状況（実施日） | U25: －
B26: メモ | E26: 導水工破損は補修されているため、判定を見直し | M26: メモ | P26: 0.15m×0.15mの異物混入（木材） 日常巡視により監視を行う。
C27: ※ 応急措置後の対策区分について添付すること。また、点検前に 実施された措置によりⅠと判定された箇所も添付すること。 | N27: ※ 変状の発生範囲の規模とは、対策を行う際に参考となる変状の長さや面積をいう。
N28: ※ 応急措置を実施しないで決定した変状の対策区分は、対策区分の応急措置後の欄に記入すること。
C29: ※ たたき落としを実施した場合は、実施後の写真を添付すること。 | N29: ※ 変状の発生範囲の規模は、面積・寸法を記載すること。(ひび割れ幅のみmmとし、その他をm表記とする)
C30: ※ 附属物の取付状態に関する異常写真は別途、任意の書式でとりまとめること。 | N30: ※ 構造用鋼材以外の異物に伴ううき・はく離については、メモ欄に異物の概要を記入すること。

Sheet 様式D-1-1 (33)
B2: ■定期点検記録様式 変状写真台帳【様式D-1-1】 | R2: 施設ID | T2: ='様式A-1'!W2 -> 33.96722,130.91500
B3: フリガナ | E3: ='様式A-1'!D3 -> コンピラトンネル | H3: 路 線 名 | J3: ='様式A-1'!J3:O4 -> 福浦港金比羅線 | M3: 定期点検実施者 | P3: ='様式B (1)'!S3 -> アジア航測株式会社 | S3: 定期点検年月日 | U3: ='様式B (1)'!P2 -> 45903
B4: 名 称 | E4: ='様式A-1'!D4 -> 金比羅トンネル | H4: 管理者名 | J4: ='様式A-1'!R3 -> 山口県 下関土木建築事務所 | P4: ='様式B (3)'!S4 -> 飯田 琢巳
B5: 写真 番号 | C5: 覆工スパン 番号 | E5: S18 | M5: 写真 番号 | N5: 覆工スパン 番号 | P5: S19
C6: 変状番号 | E6: 7 | N6: 変状番号 | P6: 1
B7: 変状 部位 | C7: 対象箇所 | E7: 覆工 | M7: 変状 部位 | N7: 対象箇所 | P7: 覆工
C8: 部位区分 | E8: アーチ（右側） | N8: 部位区分 | P8: アーチ（左側）
B9: 変状種類 | E9: 圧ざ、ひび割れ | M9: 変状種類 | P9: 漏水
B10: 対策 区分 | C10: 変状区分 | E10: 材質劣化 | M10: 対策 区分 | N10: 変状区分 | P10: 漏水
C11: 応急措置前 | E11: － | N11: 応急措置前 | P11: －
C12: 応急措置後 | E12: Ⅰ | N12: 応急措置後 | P12: Ⅰ
B13: 変状の発生範囲及び規模 | E13: － | H13: 前回変状の発生範囲及び規模 | J13: 幅0.5㎜ 長さ1.7m | M13: 変状の発生範囲及び規模 | P13: － | S13: 前回変状の発生範囲及び規模 | U13: －
B14: 対策履歴 | E14: － | H14: 実施状況（実施日） | J14: － | M14: 対策履歴 | P14: － | S14: 実施状況（実施日） | U14: －
B15: メモ | E15: ひび割れは補修されているため、判定を見直し | M15: メモ | P15: 漏水は補修されているため、判定を見直し
B16: 写真 番号 | C16: 覆工スパン 番号 | E16: S19 | M16: 写真 番号 | N16: 覆工スパン 番号 | P16: S19
C17: 変状番号 | E17: 2 | N17: 変状番号 | P17: 3
B18: 変状 部位 | C18: 対象箇所 | E18: 覆工 | M18: 変状 部位 | N18: 対象箇所 | P18: 覆工
C19: 部位区分 | E19: アーチ（右側） | N19: 部位区分 | P19: アーチ（右側）
B20: 変状種類 | E20: 圧ざ、ひび割れ | M20: 変状種類 | P20: 漏水
B21: 対策 区分 | C21: 変状区分 | E21: 材質劣化 | M21: 対策 区分 | N21: 変状区分 | P21: 漏水
C22: 応急措置前 | E22: － | N22: 応急措置前 | P22: －
C23: 応急措置後 | E23: Ⅱb | N23: 応急措置後 | P23: Ⅱb
B24: 変状の発生範囲及び規模 | E24: 幅0.3㎜ 長さ3.1m | H24: 前回変状の発生範囲及び規模 | J24: 幅0.3㎜ 長さ3.5m | M24: 変状の発生範囲及び規模 | P24: 6.7m×0.9m | S24: 前回変状の発生範囲及び規模 | U24: －
B25: 対策履歴 | E25: － | H25: 実施状況（実施日） | J25: － | M25: 対策履歴 | P25: － | S25: 実施状況（実施日） | U25: －
B26: メモ | E26: 幅0.3㎜ 長さ3.1mのひび割れ 前回からの進行が見られないが、構造物の機能が低下する可能性があるため引き続いて監視を行う。 | M26: メモ | P26: 6.7m×0.9mの漏水跡 利用者にはほとんど影響はないが、日常巡視により監視を行う。
C27: ※ 応急措置後の対策区分について添付すること。また、点検前に 実施された措置によりⅠと判定された箇所も添付すること。 | N27: ※ 変状の発生範囲の規模とは、対策を行う際に参考となる変状の長さや面積をいう。
N28: ※ 応急措置を実施しないで決定した変状の対策区分は、対策区分の応急措置後の欄に記入すること。
C29: ※ たたき落としを実施した場合は、実施後の写真を添付すること。 | N29: ※ 変状の発生範囲の規模は、面積・寸法を記載すること。(ひび割れ幅のみmmとし、その他をm表記とする)
C30: ※ 附属物の取付状態に関する異常写真は別途、任意の書式でとりまとめること。 | N30: ※ 構造用鋼材以外の異物に伴ううき・はく離については、メモ欄に異物の概要を記入すること。

Sheet 様式D-1-1 (34)
B2: ■定期点検記録様式 変状写真台帳【様式D-1-1】 | R2: 施設ID | T2: ='様式A-1'!W2 -> 33.96722,130.91500
B3: フリガナ | E3: ='様式A-1'!D3 -> コンピラトンネル | H3: 路 線 名 | J3: ='様式A-1'!J3:O4 -> 福浦港金比羅線 | M3: 定期点検実施者 | P3: ='様式B (1)'!S3 -> アジア航測株式会社 | S3: 定期点検年月日 | U3: ='様式B (1)'!P2 -> 45903
B4: 名 称 | E4: ='様式A-1'!D4 -> 金比羅トンネル | H4: 管理者名 | J4: ='様式A-1'!R3 -> 山口県 下関土木建築事務所 | P4: ='様式B (3)'!S4 -> 飯田 琢巳
B5: 写真 番号 | C5: 覆工スパン 番号 | E5: S20 | M5: 写真 番号 | N5: 覆工スパン 番号 | P5: S20
C6: 変状番号 | E6: 1 | N6: 変状番号 | P6: 2
B7: 変状 部位 | C7: 対象箇所 | E7: 覆工 | M7: 変状 部位 | N7: 対象箇所 | P7: 覆工
C8: 部位区分 | E8: 横断目地（左側） | N8: 部位区分 | P8: アーチ（左側）
B9: 変状種類 | E9: うき・はく離 | M9: 変状種類 | P9: 圧ざ、ひび割れ
B10: 対策 区分 | C10: 変状区分 | E10: 材質劣化 | M10: 対策 区分 | N10: 変状区分 | P10: 材質劣化
C11: 応急措置前 | E11: － | N11: 応急措置前 | P11: －
C12: 応急措置後 | E12: Ⅱa | N12: 応急措置後 | P12: Ⅱb
B13: 変状の発生範囲及び規模 | E13: 0.3m×0.15m | H13: 前回変状の発生範囲及び規模 | J13: 0.3m×0.1m | M13: 変状の発生範囲及び規模 | P13: 幅0.3㎜ 長さ2.4m | S13: 前回変状の発生範囲及び規模 | U13: 幅0.3㎜ 長さ2.6m
B14: 対策履歴 | E14: － | H14: 実施状況（実施日） | J14: － | M14: 対策履歴 | P14: － | S14: 実施状況（実施日） | U14: －
B15: メモ | E15: 0.3m×0.15mのうき・はく離 打音異常あり。覆工上部のうきにより、重点的な監視を要する。 状況により計画的に対策を講じことが望ましい。（判定見直し） | M15: メモ | P15: 幅0.3㎜ 長さ2.4mのひび割れ 前回からの進行が見られないが、構造物の機能が低下する可能性があるため引き続いて監視を行う。
B16: 写真 番号 | C16: 覆工スパン 番号 | E16: S20 | M16: 写真 番号 | N16: 覆工スパン 番号 | P16: S21
C17: 変状番号 | E17: 3 | N17: 変状番号 | P17: 1
B18: 変状 部位 | C18: 対象箇所 | E18: 覆工 | M18: 変状 部位 | N18: 対象箇所 | P18: 覆工
C19: 部位区分 | E19: アーチ（左側） | N19: 部位区分 | P19: 横断目地（左側）
B20: 変状種類 | E20: うき・はく離 | M20: 変状種類 | P20: うき・はく離
B21: 対策 区分 | C21: 変状区分 | E21: 材質劣化 | M21: 対策 区分 | N21: 変状区分 | P21: 材質劣化
C22: 応急措置前 | E22: － | N22: 応急措置前 | P22: －
C23: 応急措置後 | E23: Ⅰ | N23: 応急措置後 | P23: Ⅰ
B24: 変状の発生範囲及び規模 | E24: 0.1m×0.1m | H24: 前回変状の発生範囲及び規模 | J24: 0.1m×0.1m | M24: 変状の発生範囲及び規模 | P24: 0.5m×0.05m | S24: 前回変状の発生範囲及び規模 | U24: 0.5m×0.05m
B25: 対策履歴 | E25: － | H25: 実施状況（実施日） | J25: － | M25: 対策履歴 | P25: － | S25: 実施状況（実施日） | U25: －
B26: メモ | E26: うきは補修されているため、判定を見直し | M26: メモ | P26: うきは補修されているため、判定を見直し
C27: ※ 応急措置後の対策区分について添付すること。また、点検前に 実施された措置によりⅠと判定された箇所も添付すること。 | N27: ※ 変状の発生範囲の規模とは、対策を行う際に参考となる変状の長さや面積をいう。
N28: ※ 応急措置を実施しないで決定した変状の対策区分は、対策区分の応急措置後の欄に記入すること。
C29: ※ たたき落としを実施した場合は、実施後の写真を添付すること。 | N29: ※ 変状の発生範囲の規模は、面積・寸法を記載すること。(ひび割れ幅のみmmとし、その他をm表記とする)
C30: ※ 附属物の取付状態に関する異常写真は別途、任意の書式でとりまとめること。 | N30: ※ 構造用鋼材以外の異物に伴ううき・はく離については、メモ欄に異物の概要を記入すること。

Sheet 様式D-1-1 (35)
B2: ■定期点検記録様式 変状写真台帳【様式D-1-1】 | R2: 施設ID | T2: ='様式A-1'!W2 -> 33.96722,130.91500
B3: フリガナ | E3: ='様式A-1'!D3 -> コンピラトンネル | H3: 路 線 名 | J3: ='様式A-1'!J3:O4 -> 福浦港金比羅線 | M3: 定期点検実施者 | P3: ='様式B (1)'!S3 -> アジア航測株式会社 | S3: 定期点検年月日 | U3: ='様式B (1)'!P2 -> 45903
B4: 名 称 | E4: ='様式A-1'!D4 -> 金比羅トンネル | H4: 管理者名 | J4: ='様式A-1'!R3 -> 山口県 下関土木建築事務所 | P4: ='様式B (3)'!S4 -> 飯田 琢巳
B5: 写真 番号 | C5: 覆工スパン 番号 | E5: S21 | M5: 写真 番号 | N5: 覆工スパン 番号 | P5: S21
C6: 変状番号 | E6: 2 | N6: 変状番号 | P6: 3
B7: 変状 部位 | C7: 対象箇所 | E7: 覆工 | M7: 変状 部位 | N7: 対象箇所 | P7: 覆工
C8: 部位区分 | E8: アーチ（左側） | N8: 部位区分 | P8: アーチ（天端）
B9: 変状種類 | E9: うき・はく離 | M9: 変状種類 | P9: 漏水
B10: 対策 区分 | C10: 変状区分 | E10: 材質劣化 | M10: 対策 区分 | N10: 変状区分 | P10: 漏水
C11: 応急措置前 | E11: － | N11: 応急措置前 | P11: －
C12: 応急措置後 | E12: Ⅰ | N12: 応急措置後 | P12: Ⅱb
B13: 変状の発生範囲及び規模 | E13: 0.1m×0.1m | H13: 前回変状の発生範囲及び規模 | J13: 0.1m×0.1m | M13: 変状の発生範囲及び規模 | P13: 8.5m×0.5m | S13: 前回変状の発生範囲及び規模 | U13: －
B14: 対策履歴 | E14: － | H14: 実施状況（実施日） | J14: － | M14: 対策履歴 | P14: － | S14: 実施状況（実施日） | U14: －
B15: メモ | E15: うきは補修されているため、判定を見直し | M15: メモ | P15: 8.5m×0.5mの漏水（にじみ） 利用者にはほとんど影響はないが、日常巡視により監視を行う。
B16: 写真 番号 | C16: 覆工スパン 番号 | E16: S21 | M16: 写真 番号 | N16: 覆工スパン 番号 | P16: S22
C17: 変状番号 | E17: 4 | N17: 変状番号 | P17: 1
B18: 変状 部位 | C18: 対象箇所 | E18: 覆工 | M18: 変状 部位 | N18: 対象箇所 | P18: 覆工
C19: 部位区分 | E19: 横断目地（右側） | N19: 部位区分 | P19: アーチ（左側）
B20: 変状種類 | E20: 漏水 | M20: 変状種類 | P20: うき・はく離
B21: 対策 区分 | C21: 変状区分 | E21: 漏水 | M21: 対策 区分 | N21: 変状区分 | P21: 材質劣化
C22: 応急措置前 | E22: － | N22: 応急措置前 | P22: －
C23: 応急措置後 | E23: Ⅱb | N23: 応急措置後 | P23: Ⅰ
B24: 変状の発生範囲及び規模 | E24: 5.2m×0.5m | H24: 前回変状の発生範囲及び規模 | M24: 変状の発生範囲及び規模 | P24: 0.1m×0.1m | S24: 前回変状の発生範囲及び規模 | U24: 0.1m×0.1m
B25: 対策履歴 | E25: － | H25: 実施状況（実施日） | J25: － | M25: 対策履歴 | P25: － | S25: 実施状況（実施日） | U25: －
B26: メモ | E26: 5.2m×0.5mの漏水跡 利用者にはほとんど影響はないが、日常巡視により監視を行う。 | M26: メモ | P26: うきは補修されているため、判定を見直し
C27: ※ 応急措置後の対策区分について添付すること。また、点検前に 実施された措置によりⅠと判定された箇所も添付すること。 | N27: ※ 変状の発生範囲の規模とは、対策を行う際に参考となる変状の長さや面積をいう。
N28: ※ 応急措置を実施しないで決定した変状の対策区分は、対策区分の応急措置後の欄に記入すること。
C29: ※ たたき落としを実施した場合は、実施後の写真を添付すること。 | N29: ※ 変状の発生範囲の規模は、面積・寸法を記載すること。(ひび割れ幅のみmmとし、その他をm表記とする)
C30: ※ 附属物の取付状態に関する異常写真は別途、任意の書式でとりまとめること。 | N30: ※ 構造用鋼材以外の異物に伴ううき・はく離については、メモ欄に異物の概要を記入すること。

Sheet 様式D-1-1 (36)
B2: ■定期点検記録様式 変状写真台帳【様式D-1-1】 | R2: 施設ID | T2: ='様式A-1'!W2 -> 33.96722,130.91500
B3: フリガナ | E3: ='様式A-1'!D3 -> コンピラトンネル | H3: 路 線 名 | J3: ='様式A-1'!J3:O4 -> 福浦港金比羅線 | M3: 定期点検実施者 | P3: ='様式B (1)'!S3 -> アジア航測株式会社 | S3: 定期点検年月日 | U3: ='様式B (1)'!P2 -> 45903
B4: 名 称 | E4: ='様式A-1'!D4 -> 金比羅トンネル | H4: 管理者名 | J4: ='様式A-1'!R3 -> 山口県 下関土木建築事務所 | P4: ='様式B (3)'!S4 -> 飯田 琢巳
B5: 写真 番号 | C5: 覆工スパン 番号 | E5: S22 | M5: 写真 番号 | N5: 覆工スパン 番号 | P5: S22
C6: 変状番号 | E6: 2 | N6: 変状番号 | P6: 3
B7: 変状 部位 | C7: 対象箇所 | E7: 覆工 | M7: 変状 部位 | N7: 対象箇所 | P7: 覆工
C8: 部位区分 | E8: 横断目地（天端） | N8: 部位区分 | P8: アーチ（左側）
B9: 変状種類 | E9: うき・はく離 | M9: 変状種類 | P9: 圧ざ、ひび割れ
B10: 対策 区分 | C10: 変状区分 | E10: 材質劣化 | M10: 対策 区分 | N10: 変状区分 | P10: 材質劣化
C11: 応急措置前 | E11: － | N11: 応急措置前 | P11: －
C12: 応急措置後 | E12: Ⅰ | N12: 応急措置後 | P12: Ⅱb
B13: 変状の発生範囲及び規模 | E13: 0.1m×0.1m | H13: 前回変状の発生範囲及び規模 | J13: 0.1m×0.1m | M13: 変状の発生範囲及び規模 | P13: 幅1.0㎜ 長さ6.1m | S13: 前回変状の発生範囲及び規模 | U13: 幅1.0㎜ 長さ6.5m
B14: 対策履歴 | E14: － | H14: 実施状況（実施日） | J14: － | M14: 対策履歴 | P14: － | S14: 実施状況（実施日） | U14: －
B15: メモ | E15: うきは補修されているため、判定を見直し | M15: メモ | P15: 幅1.0㎜ 長さ6.1mのひび割れ 前回からの進行が見られないが、構造物の機能が低下する可能性があるため引き続いて監視を行う。
B16: 写真 番号 | C16: 覆工スパン 番号 | E16: S22 | M16: 写真 番号 | N16: 覆工スパン 番号 | P16: S22
C17: 変状番号 | E17: 4 | N17: 変状番号 | P17: 5
B18: 変状 部位 | C18: 対象箇所 | E18: 覆工 | M18: 変状 部位 | N18: 対象箇所 | P18: 覆工
C19: 部位区分 | E19: 横断目地（左側） | N19: 部位区分 | P19: 横断目地（左側）
B20: 変状種類 | E20: 漏水 | M20: 変状種類 | P20: うき・はく離
B21: 対策 区分 | C21: 変状区分 | E21: 漏水 | M21: 対策 区分 | N21: 変状区分 | P21: 材質劣化
C22: 応急措置前 | E22: － | N22: 応急措置前 | P22: －
C23: 応急措置後 | E23: Ⅱb | N23: 応急措置後 | P23: Ⅱb
B24: 変状の発生範囲及び規模 | E24: 3.1m×0.5m | H24: 前回変状の発生範囲及び規模 | J24: 今回新規変状 | M24: 変状の発生範囲及び規模 | P24: 0.35m×0.05m | S24: 前回変状の発生範囲及び規模 | U24: 今回新規変状
B25: 対策履歴 | E25: － | H25: 実施状況（実施日） | J25: － | M25: 対策履歴 | P25: － | S25: 実施状況（実施日） | U25: －
B26: メモ | E26: 3.1m×0.5mの漏水（にじみ） 利用者にはほとんど影響はないが、日常巡視により監視を行う。 | M26: メモ | P26: 0.35m×0.05mのうき・はく離 打音異常あり。うきは比較的安定しているため日常巡視にて監視を行う。
C27: ※ 応急措置後の対策区分について添付すること。また、点検前に 実施された措置によりⅠと判定された箇所も添付すること。 | N27: ※ 変状の発生範囲の規模とは、対策を行う際に参考となる変状の長さや面積をいう。
N28: ※ 応急措置を実施しないで決定した変状の対策区分は、対策区分の応急措置後の欄に記入すること。
C29: ※ たたき落としを実施した場合は、実施後の写真を添付すること。 | N29: ※ 変状の発生範囲の規模は、面積・寸法を記載すること。(ひび割れ幅のみmmとし、その他をm表記とする)
C30: ※ 附属物の取付状態に関する異常写真は別途、任意の書式でとりまとめること。 | N30: ※ 構造用鋼材以外の異物に伴ううき・はく離については、メモ欄に異物の概要を記入すること。

Sheet 様式D-1-1 (37)
B2: ■定期点検記録様式 変状写真台帳【様式D-1-1】 | R2: 施設ID | T2: ='様式A-1'!W2 -> 33.96722,130.91500
B3: フリガナ | E3: ='様式A-1'!D3 -> コンピラトンネル | H3: 路 線 名 | J3: ='様式A-1'!J3:O4 -> 福浦港金比羅線 | M3: 定期点検実施者 | P3: ='様式B (1)'!S3 -> アジア航測株式会社 | S3: 定期点検年月日 | U3: ='様式B (1)'!P2 -> 45903
B4: 名 称 | E4: ='様式A-1'!D4 -> 金比羅トンネル | H4: 管理者名 | J4: ='様式A-1'!R3 -> 山口県 下関土木建築事務所 | P4: ='様式B (3)'!S4 -> 飯田 琢巳
B5: 写真 番号 | C5: 覆工スパン 番号 | E5: S23 | M5: 写真 番号 | N5: 覆工スパン 番号 | P5: S23
C6: 変状番号 | E6: 1 | N6: 変状番号 | P6: 2
B7: 変状 部位 | C7: 対象箇所 | E7: 覆工 | M7: 変状 部位 | N7: 対象箇所 | P7: 覆工
C8: 部位区分 | E8: 横断目地（左側） | N8: 部位区分 | P8: アーチ（左側）
B9: 変状種類 | E9: 漏水 | M9: 変状種類 | P9: 圧ざ、ひび割れ
B10: 対策 区分 | C10: 変状区分 | E10: 漏水 | M10: 対策 区分 | N10: 変状区分 | P10: 材質劣化
C11: 応急措置前 | E11: － | N11: 応急措置前 | P11: －
C12: 応急措置後 | E12: Ⅱb | N12: 応急措置後 | P12: Ⅱb
B13: 変状の発生範囲及び規模 | E13: 6.9m×0.5m | H13: 前回変状の発生範囲及び規模 | J13: － | M13: 変状の発生範囲及び規模 | P13: 幅0.3㎜ 長さ4.8m | S13: 前回変状の発生範囲及び規模 | U13: 幅0.3㎜ 長さ4.3m
B14: 対策履歴 | E14: － | H14: 実施状況（実施日） | J14: － | M14: 対策履歴 | P14: － | S14: 実施状況（実施日） | U14: －
B15: メモ | E15: 6.9m×0.5mの漏水跡 利用者にはほとんど影響はないが、日常巡視により監視を行う。 | M15: メモ | P15: 幅0.3㎜ 長さ4.8mのひび割れ 前回からの進行が見られないが、構造物の機能が低下する可能性があるため引き続いて監視を行う。
B16: 写真 番号 | C16: 覆工スパン 番号 | E16: S23 | M16: 写真 番号 | N16: 覆工スパン 番号 | P16: S23
C17: 変状番号 | E17: 3 | N17: 変状番号 | P17: 4
B18: 変状 部位 | C18: 対象箇所 | E18: 覆工 | M18: 変状 部位 | N18: 対象箇所 | P18: 覆工
C19: 部位区分 | E19: 横断目地（天端） | N19: 部位区分 | P19: 横断目地（右側）
B20: 変状種類 | E20: うき・はく離 | M20: 変状種類 | P20: 漏水
B21: 対策 区分 | C21: 変状区分 | E21: 材質劣化 | M21: 対策 区分 | N21: 変状区分 | P21: 漏水
C22: 応急措置前 | E22: － | N22: 応急措置前 | P22: －
C23: 応急措置後 | E23: Ⅰ | N23: 応急措置後 | P23: Ⅰ
B24: 変状の発生範囲及び規模 | E24: 0.4m×0.15m | H24: 前回変状の発生範囲及び規模 | J24: 0.4m×0.2m | M24: 変状の発生範囲及び規模 | P24: － | S24: 前回変状の発生範囲及び規模 | U24: －
B25: 対策履歴 | E25: － | H25: 実施状況（実施日） | J25: － | M25: 対策履歴 | P25: － | S25: 実施状況（実施日） | U25: －
B26: メモ | E26: うきは補修されているため、判定を見直し | M26: メモ | P26: 漏水は補修されているため、判定を見直し
C27: ※ 応急措置後の対策区分について添付すること。また、点検前に 実施された措置によりⅠと判定された箇所も添付すること。 | N27: ※ 変状の発生範囲の規模とは、対策を行う際に参考となる変状の長さや面積をいう。
N28: ※ 応急措置を実施しないで決定した変状の対策区分は、対策区分の応急措置後の欄に記入すること。
C29: ※ たたき落としを実施した場合は、実施後の写真を添付すること。 | N29: ※ 変状の発生範囲の規模は、面積・寸法を記載すること。(ひび割れ幅のみmmとし、その他をm表記とする)
C30: ※ 附属物の取付状態に関する異常写真は別途、任意の書式でとりまとめること。 | N30: ※ 構造用鋼材以外の異物に伴ううき・はく離については、メモ欄に異物の概要を記入すること。

Sheet 様式D-1-1 (38)
B2: ■定期点検記録様式 変状写真台帳【様式D-1-1】 | R2: 施設ID | T2: ='様式A-1'!W2 -> 33.96722,130.91500
B3: フリガナ | E3: ='様式A-1'!D3 -> コンピラトンネル | H3: 路 線 名 | J3: ='様式A-1'!J3:O4 -> 福浦港金比羅線 | M3: 定期点検実施者 | P3: ='様式B (1)'!S3 -> アジア航測株式会社 | S3: 定期点検年月日 | U3: ='様式B (1)'!P2 -> 45903
B4: 名 称 | E4: ='様式A-1'!D4 -> 金比羅トンネル | H4: 管理者名 | J4: ='様式A-1'!R3 -> 山口県 下関土木建築事務所 | P4: ='様式B (3)'!S4 -> 飯田 琢巳
B5: 写真 番号 | C5: 覆工スパン 番号 | E5: S23 | M5: 写真 番号 | N5: 覆工スパン 番号 | P5: S23
C6: 変状番号 | E6: 5 | N6: 変状番号 | P6: 6
B7: 変状 部位 | C7: 対象箇所 | E7: 覆工 | M7: 変状 部位 | N7: 対象箇所 | P7: 路面
C8: 部位区分 | E8: アーチ（右側） | N8: 部位区分 | P8: 歩道
B9: 変状種類 | E9: 漏水 | M9: 変状種類 | P9: その他
B10: 対策 区分 | C10: 変状区分 | E10: 漏水 | M10: 対策 区分 | N10: 変状区分
C11: 応急措置前 | E11: － | N11: 応急措置前
C12: 応急措置後 | E12: Ⅱb | N12: 応急措置後
B13: 変状の発生範囲及び規模 | E13: 3.3m×1.5m | H13: 前回変状の発生範囲及び規模 | J13: － | M13: 変状の発生範囲及び規模 | P13: 0.5m×5.1m | S13: 前回変状の発生範囲及び規模 | U13: 今回新規変状
B14: 対策履歴 | E14: － | H14: 実施状況（実施日） | J14: － | M14: 対策履歴 | P14: － | S14: 実施状況（実施日） | U14: －
B15: メモ | E15: 3.3m×1.5mの漏水跡 利用者にはほとんど影響はないが、日常巡視により監視を行う。 | M15: メモ | P15: 0.5m×5.1mの滞水 内装板裏からの漏水による（トンネル本体の評価外）
B16: 写真 番号 | C16: 覆工スパン 番号 | E16: S24 | M16: 写真 番号 | N16: 覆工スパン 番号 | P16: S24
C17: 変状番号 | E17: 1 | N17: 変状番号 | P17: 2
B18: 変状 部位 | C18: 対象箇所 | E18: 覆工 | M18: 変状 部位 | N18: 対象箇所 | P18: 覆工
C19: 部位区分 | E19: 横断目地（左側） | N19: 部位区分 | P19: アーチ（左側）
B20: 変状種類 | E20: うき・はく離 | M20: 変状種類 | P20: うき・はく離
B21: 対策 区分 | C21: 変状区分 | E21: 材質劣化 | M21: 対策 区分 | N21: 変状区分 | P21: 材質劣化
C22: 応急措置前 | E22: － | N22: 応急措置前 | P22: －
C23: 応急措置後 | E23: Ⅰ | N23: 応急措置後 | P23: Ⅰ
B24: 変状の発生範囲及び規模 | E24: 0.1m×0.05m | H24: 前回変状の発生範囲及び規模 | J24: 0.1m×0.05m | M24: 変状の発生範囲及び規模 | P24: 0.1m×0.1m | S24: 前回変状の発生範囲及び規模 | U24: 0.1m×0.1m
B25: 対策履歴 | E25: － | H25: 実施状況（実施日） | J25: － | M25: 対策履歴 | P25: － | S25: 実施状況（実施日） | U25: －
B26: メモ | E26: うきは補修されているため、判定を見直し | M26: メモ | P26: うきは補修されているため、判定を見直し
C27: ※ 応急措置後の対策区分について添付すること。また、点検前に 実施された措置によりⅠと判定された箇所も添付すること。 | N27: ※ 変状の発生範囲の規模とは、対策を行う際に参考となる変状の長さや面積をいう。
N28: ※ 応急措置を実施しないで決定した変状の対策区分は、対策区分の応急措置後の欄に記入すること。
C29: ※ たたき落としを実施した場合は、実施後の写真を添付すること。 | N29: ※ 変状の発生範囲の規模は、面積・寸法を記載すること。(ひび割れ幅のみmmとし、その他をm表記とする)
C30: ※ 附属物の取付状態に関する異常写真は別途、任意の書式でとりまとめること。 | N30: ※ 構造用鋼材以外の異物に伴ううき・はく離については、メモ欄に異物の概要を記入すること。

Sheet 様式D-1-1 (39)
B2: ■定期点検記録様式 変状写真台帳【様式D-1-1】 | R2: 施設ID | T2: ='様式A-1'!W2 -> 33.96722,130.91500
B3: フリガナ | E3: ='様式A-1'!D3 -> コンピラトンネル | H3: 路 線 名 | J3: ='様式A-1'!J3:O4 -> 福浦港金比羅線 | M3: 定期点検実施者 | P3: ='様式B (1)'!S3 -> アジア航測株式会社 | S3: 定期点検年月日 | U3: ='様式B (1)'!P2 -> 45903
B4: 名 称 | E4: ='様式A-1'!D4 -> 金比羅トンネル | H4: 管理者名 | J4: ='様式A-1'!R3 -> 山口県 下関土木建築事務所 | P4: ='様式B (3)'!S4 -> 飯田 琢巳
B5: 写真 番号 | C5: 覆工スパン 番号 | E5: S24 | M5: 写真 番号 | N5: 覆工スパン 番号 | P5: S24
C6: 変状番号 | E6: 3 | N6: 変状番号 | P6: 4
B7: 変状 部位 | C7: 対象箇所 | E7: 覆工 | M7: 変状 部位 | N7: 対象箇所 | P7: 覆工
C8: 部位区分 | E8: アーチ（左側） | N8: 部位区分 | P8: アーチ（左側）
B9: 変状種類 | E9: 漏水 | M9: 変状種類 | P9: 漏水
B10: 対策 区分 | C10: 変状区分 | E10: 漏水 | M10: 対策 区分 | N10: 変状区分 | P10: 漏水
C11: 応急措置前 | E11: － | N11: 応急措置前 | P11: －
C12: 応急措置後 | E12: Ⅱb | N12: 応急措置後 | P12: Ⅱb
B13: 変状の発生範囲及び規模 | E13: 8.2m×1.0m | H13: 前回変状の発生範囲及び規模 | J13: － | M13: 変状の発生範囲及び規模 | P13: 4.2m×2.5m | S13: 前回変状の発生範囲及び規模 | U13: －
B14: 対策履歴 | E14: － | H14: 実施状況（実施日） | J14: － | M14: 対策履歴 | P14: － | S14: 実施状況（実施日） | U14: －
B15: メモ | E15: 8.2m×1.0mの漏水（にじみ） 利用者にはほとんど影響はないが、日常巡視により監視を行う。（判定の見直し） | M15: メモ | P15: 4.2m×2.5m漏水跡 利用者にはほとんど影響はないが、日常巡視により監視を行う。
B16: 写真 番号 | C16: 覆工スパン 番号 | E16: S24 | M16: 写真 番号 | N16: 覆工スパン 番号 | P16: S24
C17: 変状番号 | E17: 5 | N17: 変状番号 | P17: 6
B18: 変状 部位 | C18: 対象箇所 | E18: 覆工 | M18: 変状 部位 | N18: 対象箇所 | P18: 覆工
C19: 部位区分 | E19: 横断目地（天端） | N19: 部位区分 | P19: アーチ（右側）
B20: 変状種類 | E20: うき・はく離 | M20: 変状種類 | P20: 漏水
B21: 対策 区分 | C21: 変状区分 | E21: 材質劣化 | M21: 対策 区分 | N21: 変状区分 | P21: 漏水
C22: 応急措置前 | E22: － | N22: 応急措置前 | P22: －
C23: 応急措置後 | E23: Ⅰ | N23: 応急措置後 | P23: Ⅰ
B24: 変状の発生範囲及び規模 | E24: 0.1m×0.05m | H24: 前回変状の発生範囲及び規模 | J24: 0.1m×0.05m | M24: 変状の発生範囲及び規模 | P24: － | S24: 前回変状の発生範囲及び規模 | U24: －
B25: 対策履歴 | E25: － | H25: 実施状況（実施日） | J25: － | M25: 対策履歴 | P25: － | S25: 実施状況（実施日） | U25: －
B26: メモ | E26: うきは補修されているため、判定を見直し | M26: メモ | P26: 漏水は補修されているため、判定を見直し
C27: ※ 応急措置後の対策区分について添付すること。また、点検前に 実施された措置によりⅠと判定された箇所も添付すること。 | N27: ※ 変状の発生範囲の規模とは、対策を行う際に参考となる変状の長さや面積をいう。
N28: ※ 応急措置を実施しないで決定した変状の対策区分は、対策区分の応急措置後の欄に記入すること。
C29: ※ たたき落としを実施した場合は、実施後の写真を添付すること。 | N29: ※ 変状の発生範囲の規模は、面積・寸法を記載すること。(ひび割れ幅のみmmとし、その他をm表記とする)
C30: ※ 附属物の取付状態に関する異常写真は別途、任意の書式でとりまとめること。 | N30: ※ 構造用鋼材以外の異物に伴ううき・はく離については、メモ欄に異物の概要を記入すること。

Sheet 様式D-1-1 (40)
B2: ■定期点検記録様式 変状写真台帳【様式D-1-1】 | R2: 施設ID | T2: ='様式A-1'!W2 -> 33.96722,130.91500
B3: フリガナ | E3: ='様式A-1'!D3 -> コンピラトンネル | H3: 路 線 名 | J3: ='様式A-1'!J3:O4 -> 福浦港金比羅線 | M3: 定期点検実施者 | P3: ='様式B (1)'!S3 -> アジア航測株式会社 | S3: 定期点検年月日 | U3: ='様式B (1)'!P2 -> 45903
B4: 名 称 | E4: ='様式A-1'!D4 -> 金比羅トンネル | H4: 管理者名 | J4: ='様式A-1'!R3 -> 山口県 下関土木建築事務所 | P4: ='様式B (3)'!S4 -> 飯田 琢巳
B5: 写真 番号 | C5: 覆工スパン 番号 | E5: S24 | M5: 写真 番号 | N5: 覆工スパン 番号 | P5: S24
C6: 変状番号 | E6: 7 | N6: 変状番号 | P6: 8
B7: 変状 部位 | C7: 対象箇所 | E7: 覆工 | M7: 変状 部位 | N7: 対象箇所 | P7: 覆工
C8: 部位区分 | E8: アーチ（右側） | N8: 部位区分 | P8: アーチ（右側）
B9: 変状種類 | E9: 漏水 | M9: 変状種類 | P9: 漏水
B10: 対策 区分 | C10: 変状区分 | E10: 漏水 | M10: 対策 区分 | N10: 変状区分 | P10: 漏水
C11: 応急措置前 | E11: － | N11: 応急措置前 | P11: －
C12: 応急措置後 | E12: Ⅰ | N12: 応急措置後 | P12: Ⅰ
B13: 変状の発生範囲及び規模 | E13: － | H13: 前回変状の発生範囲及び規模 | J13: － | M13: 変状の発生範囲及び規模 | P13: － | S13: 前回変状の発生範囲及び規模 | U13: －
B14: 対策履歴 | E14: － | H14: 実施状況（実施日） | J14: － | M14: 対策履歴 | P14: － | S14: 実施状況（実施日） | U14: －
B15: メモ | E15: 漏水は補修されているため、判定を見直し | M15: メモ | P15: 漏水は補修されているため、判定を見直し
B16: 写真 番号 | C16: 覆工スパン 番号 | E16: S24 | M16: 写真 番号 | N16: 覆工スパン 番号 | P16: S24
C17: 変状番号 | E17: 9 | N17: 変状番号 | P17: 10
B18: 変状 部位 | C18: 対象箇所 | E18: 覆工 | M18: 変状 部位 | N18: 対象箇所 | P18: 覆工
C19: 部位区分 | E19: アーチ（右側） | N19: 部位区分 | P19: アーチ（左側）
B20: 変状種類 | E20: うき・はく離 | M20: 変状種類 | P20: 漏水
B21: 対策 区分 | C21: 変状区分 | E21: 材質劣化 | M21: 対策 区分 | N21: 変状区分 | P21: 漏水
C22: 応急措置前 | E22: － | N22: 応急措置前 | P22: －
C23: 応急措置後 | E23: Ⅰ | N23: 応急措置後 | P23: Ⅱb
B24: 変状の発生範囲及び規模 | E24: 0.1m×0.1m | H24: 前回変状の発生範囲及び規模 | J24: 0.1m×0.1m | M24: 変状の発生範囲及び規模 | P24: 4.7m×0.5m | S24: 前回変状の発生範囲及び規模 | U24: 今回新規変状
B25: 対策履歴 | E25: － | H25: 実施状況（実施日） | J25: － | M25: 対策履歴 | P25: － | S25: 実施状況（実施日） | U25: －
B26: メモ | E26: うきは補修されているため、判定を見直し | M26: メモ | P26: 4.7m×0.5mの漏水（にじみ） 利用者にはほとんど影響はないが、日常巡視により監視を行う。
C27: ※ 応急措置後の対策区分について添付すること。また、点検前に 実施された措置によりⅠと判定された箇所も添付すること。 | N27: ※ 変状の発生範囲の規模とは、対策を行う際に参考となる変状の長さや面積をいう。
N28: ※ 応急措置を実施しないで決定した変状の対策区分は、対策区分の応急措置後の欄に記入すること。
C29: ※ たたき落としを実施した場合は、実施後の写真を添付すること。 | N29: ※ 変状の発生範囲の規模は、面積・寸法を記載すること。(ひび割れ幅のみmmとし、その他をm表記とする)
C30: ※ 附属物の取付状態に関する異常写真は別途、任意の書式でとりまとめること。 | N30: ※ 構造用鋼材以外の異物に伴ううき・はく離については、メモ欄に異物の概要を記入すること。

Sheet 様式D-1-1 (41)
B2: ■定期点検記録様式 変状写真台帳【様式D-1-1】 | R2: 施設ID | T2: ='様式A-1'!W2 -> 33.96722,130.91500
B3: フリガナ | E3: ='様式A-1'!D3 -> コンピラトンネル | H3: 路 線 名 | J3: ='様式A-1'!J3:O4 -> 福浦港金比羅線 | M3: 定期点検実施者 | P3: ='様式B (1)'!S3 -> アジア航測株式会社 | S3: 定期点検年月日 | U3: ='様式B (1)'!P2 -> 45903
B4: 名 称 | E4: ='様式A-1'!D4 -> 金比羅トンネル | H4: 管理者名 | J4: ='様式A-1'!R3 -> 山口県 下関土木建築事務所 | P4: ='様式B (3)'!S4 -> 飯田 琢巳
B5: 写真 番号 | C5: 覆工スパン 番号 | E5: S24 | M5: 写真 番号 | N5: 覆工スパン 番号 | P5: S25
C6: 変状番号 | E6: 11 | N6: 変状番号 | P6: 1
B7: 変状 部位 | C7: 対象箇所 | E7: 路面 | M7: 変状 部位 | N7: 対象箇所 | P7: 覆工
C8: 部位区分 | E8: 歩道 | N8: 部位区分 | P8: アーチ（左側）
B9: 変状種類 | E9: その他 | M9: 変状種類 | P9: 漏水
B10: 対策 区分 | C10: 変状区分 | M10: 対策 区分 | N10: 変状区分 | P10: 漏水
C11: 応急措置前 | N11: 応急措置前 | P11: －
C12: 応急措置後 | N12: 応急措置後 | P12: Ⅱb
B13: 変状の発生範囲及び規模 | E13: 0.9m×3.4m | H13: 前回変状の発生範囲及び規模 | J13: 今回新規変状 | M13: 変状の発生範囲及び規模 | P13: 6.7m×7.1m | S13: 前回変状の発生範囲及び規模 | U13: －
B14: 対策履歴 | E14: － | H14: 実施状況（実施日） | J14: － | M14: 対策履歴 | P14: － | S14: 実施状況（実施日） | U14: －
B15: メモ | E15: 0.9m×3.4mの滞水 内装板裏からの漏水による（トンネル本体の評価外） | M15: メモ | P15: 6.7m×7.1mの漏水（にじみ） 利用者にはほとんど影響はないが、日常巡視により監視を行う。
B16: 写真 番号 | C16: 覆工スパン 番号 | E16: S25 | M16: 写真 番号 | N16: 覆工スパン 番号 | P16: S25
C17: 変状番号 | E17: 2 | N17: 変状番号 | P17: 3
B18: 変状 部位 | C18: 対象箇所 | E18: 覆工 | M18: 変状 部位 | N18: 対象箇所 | P18: 覆工
C19: 部位区分 | E19: アーチ（右側） | N19: 部位区分 | P19: アーチ（右側）
B20: 変状種類 | E20: 漏水 | M20: 変状種類 | P20: うき・はく離
B21: 対策 区分 | C21: 変状区分 | E21: 漏水 | M21: 対策 区分 | N21: 変状区分 | P21: 材質劣化
C22: 応急措置前 | E22: － | N22: 応急措置前 | P22: －
C23: 応急措置後 | E23: Ⅱb | N23: 応急措置後 | P23: Ⅰ
B24: 変状の発生範囲及び規模 | E24: 7.5m×0.5m | H24: 前回変状の発生範囲及び規模 | J24: － | M24: 変状の発生範囲及び規模 | P24: 0.4m×0.1m | S24: 前回変状の発生範囲及び規模 | U24: 0.5m×0.1m
B25: 対策履歴 | E25: － | H25: 実施状況（実施日） | J25: － | M25: 対策履歴 | P25: － | S25: 実施状況（実施日） | U25: －
B26: メモ | E26: 7.5m×0.5mの漏水（にじみ） 利用者にはほとんど影響はないが、日常巡視により監視を行う。 | M26: メモ | P26: うきは補修されているため、判定を見直し
C27: ※ 応急措置後の対策区分について添付すること。また、点検前に 実施された措置によりⅠと判定された箇所も添付すること。 | N27: ※ 変状の発生範囲の規模とは、対策を行う際に参考となる変状の長さや面積をいう。
N28: ※ 応急措置を実施しないで決定した変状の対策区分は、対策区分の応急措置後の欄に記入すること。
C29: ※ たたき落としを実施した場合は、実施後の写真を添付すること。 | N29: ※ 変状の発生範囲の規模は、面積・寸法を記載すること。(ひび割れ幅のみmmとし、その他をm表記とする)
C30: ※ 附属物の取付状態に関する異常写真は別途、任意の書式でとりまとめること。 | N30: ※ 構造用鋼材以外の異物に伴ううき・はく離については、メモ欄に異物の概要を記入すること。

Sheet 様式D-1-1 (42)
B2: ■定期点検記録様式 変状写真台帳【様式D-1-1】 | R2: 施設ID | T2: ='様式A-1'!W2 -> 33.96722,130.91500
B3: フリガナ | E3: ='様式A-1'!D3 -> コンピラトンネル | H3: 路 線 名 | J3: ='様式A-1'!J3:O4 -> 福浦港金比羅線 | M3: 定期点検実施者 | P3: ='様式B (1)'!S3 -> アジア航測株式会社 | S3: 定期点検年月日 | U3: ='様式B (1)'!P2 -> 45903
B4: 名 称 | E4: ='様式A-1'!D4 -> 金比羅トンネル | H4: 管理者名 | J4: ='様式A-1'!R3 -> 山口県 下関土木建築事務所 | P4: ='様式B (3)'!S4 -> 飯田 琢巳
B5: 写真 番号 | C5: 覆工スパン 番号 | E5: S25 | M5: 写真 番号 | N5: 覆工スパン 番号 | P5: S26
C6: 変状番号 | E6: 4 | N6: 変状番号 | P6: 1
B7: 変状 部位 | C7: 対象箇所 | E7: 覆工 | M7: 変状 部位 | N7: 対象箇所 | P7: 覆工
C8: 部位区分 | E8: アーチ（右側） | N8: 部位区分 | P8: アーチ（左側）
B9: 変状種類 | E9: うき・はく離 | M9: 変状種類 | P9: うき・はく離
B10: 対策 区分 | C10: 変状区分 | E10: 材質劣化 | M10: 対策 区分 | N10: 変状区分 | P10: 材質劣化
C11: 応急措置前 | E11: － | N11: 応急措置前 | P11: －
C12: 応急措置後 | E12: Ⅰ | N12: 応急措置後 | P12: Ⅰ
B13: 変状の発生範囲及び規模 | E13: 0.1m×0.1m | H13: 前回変状の発生範囲及び規模 | J13: 0.1m×0.1m | M13: 変状の発生範囲及び規模 | P13: 0.1m×0.1m | S13: 前回変状の発生範囲及び規模 | U13: 0.1m×0.1m
B14: 対策履歴 | E14: － | H14: 実施状況（実施日） | J14: － | M14: 対策履歴 | P14: － | S14: 実施状況（実施日） | U14: －
B15: メモ | E15: うきは補修されているため、判定を見直し | M15: メモ | P15: うきは補修されているため、判定を見直し
B16: 写真 番号 | C16: 覆工スパン 番号 | E16: S26 | M16: 写真 番号 | N16: 覆工スパン 番号 | P16: S26
C17: 変状番号 | E17: 2 | N17: 変状番号 | P17: 3
B18: 変状 部位 | C18: 対象箇所 | E18: 覆工 | M18: 変状 部位 | N18: 対象箇所 | P18: 覆工
C19: 部位区分 | E19: アーチ（天端） | N19: 部位区分 | P19: アーチ（天端）
B20: 変状種類 | E20: 漏水 | M20: 変状種類 | P20: 漏水
B21: 対策 区分 | C21: 変状区分 | E21: 漏水 | M21: 対策 区分 | N21: 変状区分 | P21: 漏水
C22: 応急措置前 | E22: － | N22: 応急措置前 | P22: －
C23: 応急措置後 | E23: Ⅱb | N23: 応急措置後 | P23: Ⅱb
B24: 変状の発生範囲及び規模 | E24: 6.6m×0.5m | H24: 前回変状の発生範囲及び規模 | J24: － | M24: 変状の発生範囲及び規模 | P24: 8.6m×0.5m | S24: 前回変状の発生範囲及び規模 | U24: －
B25: 対策履歴 | E25: － | H25: 実施状況（実施日） | J25: － | M25: 対策履歴 | P25: － | S25: 実施状況（実施日） | U25: －
B26: メモ | E26: 6.6m×0.5mの漏水（にじみ） 利用者にはほとんど影響はないが、日常巡視により監視を行う。 | M26: メモ | P26: 8.6m×0.5mの漏水跡 利用者にはほとんど影響はないが、日常巡視により監視を行う。
C27: ※ 応急措置後の対策区分について添付すること。また、点検前に 実施された措置によりⅠと判定された箇所も添付すること。 | N27: ※ 変状の発生範囲の規模とは、対策を行う際に参考となる変状の長さや面積をいう。
N28: ※ 応急措置を実施しないで決定した変状の対策区分は、対策区分の応急措置後の欄に記入すること。
C29: ※ たたき落としを実施した場合は、実施後の写真を添付すること。 | N29: ※ 変状の発生範囲の規模は、面積・寸法を記載すること。(ひび割れ幅のみmmとし、その他をm表記とする)
C30: ※ 附属物の取付状態に関する異常写真は別途、任意の書式でとりまとめること。 | N30: ※ 構造用鋼材以外の異物に伴ううき・はく離については、メモ欄に異物の概要を記入すること。

Sheet 様式D-1-1 (43)
B2: ■定期点検記録様式 変状写真台帳【様式D-1-1】 | R2: 施設ID | T2: ='様式A-1'!W2 -> 33.96722,130.91500
B3: フリガナ | E3: ='様式A-1'!D3 -> コンピラトンネル | H3: 路 線 名 | J3: ='様式A-1'!J3:O4 -> 福浦港金比羅線 | M3: 定期点検実施者 | P3: ='様式B (1)'!S3 -> アジア航測株式会社 | S3: 定期点検年月日 | U3: ='様式B (1)'!P2 -> 45903
B4: 名 称 | E4: ='様式A-1'!D4 -> 金比羅トンネル | H4: 管理者名 | J4: ='様式A-1'!R3 -> 山口県 下関土木建築事務所 | P4: ='様式B (3)'!S4 -> 飯田 琢巳
B5: 写真 番号 | C5: 覆工スパン 番号 | E5: S26 | M5: 写真 番号 | N5: 覆工スパン 番号 | P5: S26
C6: 変状番号 | E6: 4 | N6: 変状番号 | P6: 5
B7: 変状 部位 | C7: 対象箇所 | E7: 覆工 | M7: 変状 部位 | N7: 対象箇所 | P7: 覆工
C8: 部位区分 | E8: アーチ（天端） | N8: 部位区分 | P8: アーチ（天端）
B9: 変状種類 | E9: うき・はく離 | M9: 変状種類 | P9: うき・はく離
B10: 対策 区分 | C10: 変状区分 | E10: 材質劣化 | M10: 対策 区分 | N10: 変状区分 | P10: 材質劣化
C11: 応急措置前 | E11: － | N11: 応急措置前 | P11: －
C12: 応急措置後 | E12: Ⅱa | N12: 応急措置後 | P12: Ⅰ
B13: 変状の発生範囲及び規模 | E13: 0.15m×0.15m | H13: 前回変状の発生範囲及び規模 | J13: 0.15m×0.15m | M13: 変状の発生範囲及び規模 | P13: 0.1m×0.1m | S13: 前回変状の発生範囲及び規模 | U13: 0.1m×0.1m
B14: 対策履歴 | E14: － | H14: 実施状況（実施日） | J14: － | M14: 対策履歴 | P14: － | S14: 実施状況（実施日） | U14: －
B15: メモ | E15: 0.15m×0.15mのうき・はく離 打音異常あり。覆工上部のうきにより、重点的な監視を要する。 状況により計画的に対策を講じことが望ましい。 | M15: メモ | P15: うきは補修されているため、判定を見直し
B16: 写真 番号 | C16: 覆工スパン 番号 | E16: S26 | M16: 写真 番号 | N16: 覆工スパン 番号 | P16: S27
C17: 変状番号 | E17: 6 | N17: 変状番号 | P17: 1
B18: 変状 部位 | C18: 対象箇所 | E18: 路面 | M18: 変状 部位 | N18: 対象箇所 | P18: 覆工
C19: 部位区分 | E19: 歩道 | N19: 部位区分 | P19: アーチ（天端）
B20: 変状種類 | E20: その他 | M20: 変状種類 | P20: 漏水
B21: 対策 区分 | C21: 変状区分 | M21: 対策 区分 | N21: 変状区分 | P21: 漏水
C22: 応急措置前 | N22: 応急措置前 | P22: －
C23: 応急措置後 | N23: 応急措置後 | P23: Ⅱb
B24: 変状の発生範囲及び規模 | E24: 3.9m×0.7m | H24: 前回変状の発生範囲及び規模 | J24: 今回新規変状 | M24: 変状の発生範囲及び規模 | P24: 8.4m×0.5m | S24: 前回変状の発生範囲及び規模 | U24: －
B25: 対策履歴 | E25: － | H25: 実施状況（実施日） | J25: － | M25: 対策履歴 | P25: － | S25: 実施状況（実施日） | U25: －
B26: メモ | E26: 3.9m×0.7m滞水 内装板裏からの漏水による（トンネル本体の評価外） | M26: メモ | P26: 8.4m×0.5mの漏水（にじみ） 利用者にはほとんど影響はないが、日常巡視により監視を行う。
C27: ※ 応急措置後の対策区分について添付すること。また、点検前に 実施された措置によりⅠと判定された箇所も添付すること。 | N27: ※ 変状の発生範囲の規模とは、対策を行う際に参考となる変状の長さや面積をいう。
N28: ※ 応急措置を実施しないで決定した変状の対策区分は、対策区分の応急措置後の欄に記入すること。
C29: ※ たたき落としを実施した場合は、実施後の写真を添付すること。 | N29: ※ 変状の発生範囲の規模は、面積・寸法を記載すること。(ひび割れ幅のみmmとし、その他をm表記とする)
C30: ※ 附属物の取付状態に関する異常写真は別途、任意の書式でとりまとめること。 | N30: ※ 構造用鋼材以外の異物に伴ううき・はく離については、メモ欄に異物の概要を記入すること。

Sheet 様式D-1-1 (44)
B2: ■定期点検記録様式 変状写真台帳【様式D-1-1】 | R2: 施設ID | T2: ='様式A-1'!W2 -> 33.96722,130.91500
B3: フリガナ | E3: ='様式A-1'!D3 -> コンピラトンネル | H3: 路 線 名 | J3: ='様式A-1'!J3:O4 -> 福浦港金比羅線 | M3: 定期点検実施者 | P3: ='様式B (1)'!S3 -> アジア航測株式会社 | S3: 定期点検年月日 | U3: ='様式B (1)'!P2 -> 45903
B4: 名 称 | E4: ='様式A-1'!D4 -> 金比羅トンネル | H4: 管理者名 | J4: ='様式A-1'!R3 -> 山口県 下関土木建築事務所 | P4: ='様式B (3)'!S4 -> 飯田 琢巳
B5: 写真 番号 | C5: 覆工スパン 番号 | E5: S27 | M5: 写真 番号 | N5: 覆工スパン 番号 | P5: S27
C6: 変状番号 | E6: 2 | N6: 変状番号 | P6: 3
B7: 変状 部位 | C7: 対象箇所 | E7: 覆工 | M7: 変状 部位 | N7: 対象箇所 | P7: 覆工
C8: 部位区分 | E8: アーチ（天端） | N8: 部位区分 | P8: 横断目地（左側）
B9: 変状種類 | E9: うき・はく離 | M9: 変状種類 | P9: 漏水
B10: 対策 区分 | C10: 変状区分 | E10: 材質劣化 | M10: 対策 区分 | N10: 変状区分 | P10: 漏水
C11: 応急措置前 | E11: － | N11: 応急措置前 | P11: －
C12: 応急措置後 | E12: Ⅰ | N12: 応急措置後 | P12: Ⅱb
B13: 変状の発生範囲及び規模 | E13: 0.3m×0.2m | H13: 前回変状の発生範囲及び規模 | J13: 0.3m×0.2m | M13: 変状の発生範囲及び規模 | P13: 4.1m×0.5m | S13: 前回変状の発生範囲及び規模 | U13: 今回新規変状
B14: 対策履歴 | E14: － | H14: 実施状況（実施日） | J14: － | M14: 対策履歴 | P14: － | S14: 実施状況（実施日） | U14: －
B15: メモ | E15: うきは補修されているため、判定を見直し | M15: メモ | P15: 4.1m×0.5mの漏水（にじみ） 利用者にはほとんど影響はないが、日常巡視により監視を行う。
B16: 写真 番号 | C16: 覆工スパン 番号 | E16: S28 | M16: 写真 番号 | N16: 覆工スパン 番号 | P16: S28
C17: 変状番号 | E17: 1 | N17: 変状番号 | P17: 2
B18: 変状 部位 | C18: 対象箇所 | E18: 覆工 | M18: 変状 部位 | N18: 対象箇所 | P18: 覆工
C19: 部位区分 | E19: 横断目地（左側） | N19: 部位区分 | P19: 横断目地（左側）
B20: 変状種類 | E20: 補修・補強材の破損 | M20: 変状種類 | P20: 漏水
B21: 対策 区分 | C21: 変状区分 | E21: 漏水 | M21: 対策 区分 | N21: 変状区分 | P21: 漏水
C22: 応急措置前 | E22: － | N22: 応急措置前 | P22: －
C23: 応急措置後 | E23: Ⅱb | N23: 応急措置後 | P23: Ⅱb
B24: 変状の発生範囲及び規模 | E24: 0.15m×0.1m、0.3m×0.2m | H24: 前回変状の発生範囲及び規模 | J24: 0.1m×0.1m、0.3m×0.25m | M24: 変状の発生範囲及び規模 | P24: 4.2m×0.5m | S24: 前回変状の発生範囲及び規模 | U24: 今回新規変状
B25: 対策履歴 | E25: － | H25: 実施状況（実施日） | J25: － | M25: 対策履歴 | P25: － | S25: 実施状況（実施日） | U25: －
B26: メモ | E26: 0.15m×0.1m、0.3m×0.2mの導水工破損 日常巡視により監視を行う。 | M26: メモ | P26: 4.2m×0.5mの漏水（にじみ） 利用者にはほとんど影響はないが、日常巡視により監視を行う。
C27: ※ 応急措置後の対策区分について添付すること。また、点検前に 実施された措置によりⅠと判定された箇所も添付すること。 | N27: ※ 変状の発生範囲の規模とは、対策を行う際に参考となる変状の長さや面積をいう。
N28: ※ 応急措置を実施しないで決定した変状の対策区分は、対策区分の応急措置後の欄に記入すること。
C29: ※ たたき落としを実施した場合は、実施後の写真を添付すること。 | N29: ※ 変状の発生範囲の規模は、面積・寸法を記載すること。(ひび割れ幅のみmmとし、その他をm表記とする)
C30: ※ 附属物の取付状態に関する異常写真は別途、任意の書式でとりまとめること。 | N30: ※ 構造用鋼材以外の異物に伴ううき・はく離については、メモ欄に異物の概要を記入すること。

Sheet 様式D-1-1 (45)
B2: ■定期点検記録様式 変状写真台帳【様式D-1-1】 | R2: 施設ID | T2: ='様式A-1'!W2 -> 33.96722,130.91500
B3: フリガナ | E3: ='様式A-1'!D3 -> コンピラトンネル | H3: 路 線 名 | J3: ='様式A-1'!J3:O4 -> 福浦港金比羅線 | M3: 定期点検実施者 | P3: ='様式B (1)'!S3 -> アジア航測株式会社 | S3: 定期点検年月日 | U3: ='様式B (1)'!P2 -> 45903
B4: 名 称 | E4: ='様式A-1'!D4 -> 金比羅トンネル | H4: 管理者名 | J4: ='様式A-1'!R3 -> 山口県 下関土木建築事務所 | P4: ='様式B (3)'!S4 -> 飯田 琢巳
B5: 写真 番号 | C5: 覆工スパン 番号 | E5: S29 | M5: 写真 番号 | N5: 覆工スパン 番号 | P5: S29
C6: 変状番号 | E6: 1 | N6: 変状番号 | P6: 2
B7: 変状 部位 | C7: 対象箇所 | E7: 覆工 | M7: 変状 部位 | N7: 対象箇所 | P7: 覆工
C8: 部位区分 | E8: アーチ（左側） | N8: 部位区分 | P8: 横断目地（左側）
B9: 変状種類 | E9: 圧ざ、ひび割れ | M9: 変状種類 | P9: 漏水
B10: 対策 区分 | C10: 変状区分 | E10: 材質劣化 | M10: 対策 区分 | N10: 変状区分 | P10: 漏水
C11: 応急措置前 | E11: － | N11: 応急措置前 | P11: －
C12: 応急措置後 | E12: Ⅱb | N12: 応急措置後 | P12: Ⅱb
B13: 変状の発生範囲及び規模 | E13: 幅0.5㎜ 長さ2.4m | H13: 前回変状の発生範囲及び規模 | J13: 幅0.5㎜ 長さ1.9m | M13: 変状の発生範囲及び規模 | P13: 3.7m×0.5m | S13: 前回変状の発生範囲及び規模 | U13: －
B14: 対策履歴 | E14: － | H14: 実施状況（実施日） | J14: － | M14: 対策履歴 | P14: － | S14: 実施状況（実施日） | U14: －
B15: メモ | E15: 幅0.5㎜ 長さ2.4mのひび割れ 前回からの進行が見られないが、構造物の機能が低下する可能性があるため引き続いて監視を行う。 | M15: メモ | P15: 3.7m×0.5mの漏水跡 利用者にはほとんど影響はないが、日常巡視により監視を行う。
B16: 写真 番号 | C16: 覆工スパン 番号 | E16: S29 | M16: 写真 番号 | N16: 覆工スパン 番号 | P16: S29
C17: 変状番号 | E17: 3 | N17: 変状番号 | P17: 4
B18: 変状 部位 | C18: 対象箇所 | E18: 覆工 | M18: 変状 部位 | N18: 対象箇所 | P18: 覆工
C19: 部位区分 | E19: 横断目地（右側） | N19: 部位区分 | P19: アーチ（左側）
B20: 変状種類 | E20: 漏水 | M20: 変状種類 | P20: 漏水
B21: 対策 区分 | C21: 変状区分 | E21: 漏水 | M21: 対策 区分 | N21: 変状区分 | P21: 漏水
C22: 応急措置前 | E22: － | N22: 応急措置前 | P22: －
C23: 応急措置後 | E23: Ⅱb | N23: 応急措置後 | P23: Ⅱb
B24: 変状の発生範囲及び規模 | E24: 6.9m×0.5m | H24: 前回変状の発生範囲及び規模 | J24: － | M24: 変状の発生範囲及び規模 | P24: 4.1m×0.5m | S24: 前回変状の発生範囲及び規模 | U24: 今回新規変状
B25: 対策履歴 | E25: － | H25: 実施状況（実施日） | J25: － | M25: 対策履歴 | P25: － | S25: 実施状況（実施日） | U25: －
B26: メモ | E26: 6.9m×0.5mの漏水（にじみ） 利用者にはほとんど影響はないが、日常巡視により監視を行う。 | M26: メモ | P26: 4.1m×0.5mの漏水（にじみ） 利用者にはほとんど影響はないが、日常巡視により監視を行う。
C27: ※ 応急措置後の対策区分について添付すること。また、点検前に 実施された措置によりⅠと判定された箇所も添付すること。 | N27: ※ 変状の発生範囲の規模とは、対策を行う際に参考となる変状の長さや面積をいう。
N28: ※ 応急措置を実施しないで決定した変状の対策区分は、対策区分の応急措置後の欄に記入すること。
C29: ※ たたき落としを実施した場合は、実施後の写真を添付すること。 | N29: ※ 変状の発生範囲の規模は、面積・寸法を記載すること。(ひび割れ幅のみmmとし、その他をm表記とする)
C30: ※ 附属物の取付状態に関する異常写真は別途、任意の書式でとりまとめること。 | N30: ※ 構造用鋼材以外の異物に伴ううき・はく離については、メモ欄に異物の概要を記入すること。

Sheet 様式D-1-1 (46)
B2: ■定期点検記録様式 変状写真台帳【様式D-1-1】 | R2: 施設ID | T2: ='様式A-1'!W2 -> 33.96722,130.91500
B3: フリガナ | E3: ='様式A-1'!D3 -> コンピラトンネル | H3: 路 線 名 | J3: ='様式A-1'!J3:O4 -> 福浦港金比羅線 | M3: 定期点検実施者 | P3: ='様式B (1)'!S3 -> アジア航測株式会社 | S3: 定期点検年月日 | U3: ='様式B (1)'!P2 -> 45903
B4: 名 称 | E4: ='様式A-1'!D4 -> 金比羅トンネル | H4: 管理者名 | J4: ='様式A-1'!R3 -> 山口県 下関土木建築事務所 | P4: ='様式B (3)'!S4 -> 飯田 琢巳
B5: 写真 番号 | C5: 覆工スパン 番号 | E5: S30 | M5: 写真 番号 | N5: 覆工スパン 番号 | P5: S30
C6: 変状番号 | E6: 1 | N6: 変状番号 | P6: 2
B7: 変状 部位 | C7: 対象箇所 | E7: 覆工 | M7: 変状 部位 | N7: 対象箇所 | P7: 覆工
C8: 部位区分 | E8: アーチ（左側） | N8: 部位区分 | P8: アーチ（天端）
B9: 変状種類 | E9: 圧ざ、ひび割れ | M9: 変状種類 | P9: うき・はく離
B10: 対策 区分 | C10: 変状区分 | E10: 材質劣化 | M10: 対策 区分 | N10: 変状区分 | P10: 材質劣化
C11: 応急措置前 | E11: － | N11: 応急措置前 | P11: －
C12: 応急措置後 | E12: Ⅱb | N12: 応急措置後 | P12: Ⅰ
B13: 変状の発生範囲及び規模 | E13: 幅0.7㎜ 長さ4.6m | H13: 前回変状の発生範囲及び規模 | J13: 幅0.7㎜ 長さ4.7m | M13: 変状の発生範囲及び規模 | P13: 0.05m×0.6m | S13: 前回変状の発生範囲及び規模 | U13: 0.05m×0.6m
B14: 対策履歴 | E14: － | H14: 実施状況（実施日） | J14: － | M14: 対策履歴 | P14: － | S14: 実施状況（実施日） | U14: －
B15: メモ | E15: 幅0.7㎜ 長さ4.6mのひび割れ 前回からの進行が見られないが、構造物の機能が低下する可能性があるため引き続いて監視を行う。 | M15: メモ | P15: うきは補修されているため、判定を見直し
B16: 写真 番号 | C16: 覆工スパン 番号 | E16: S30 | M16: 写真 番号 | N16: 覆工スパン 番号 | P16: S30
C17: 変状番号 | E17: 3 | N17: 変状番号 | P17: 4
B18: 変状 部位 | C18: 対象箇所 | E18: 覆工 | M18: 変状 部位 | N18: 対象箇所 | P18: 覆工
C19: 部位区分 | E19: 横断目地（右側） | N19: 部位区分 | P19: アーチ（右側）
B20: 変状種類 | E20: 補修・補強材の破損 | M20: 変状種類 | P20: うき・はく離
B21: 対策 区分 | C21: 変状区分 | E21: 漏水 | M21: 対策 区分 | N21: 変状区分 | P21: 材質劣化
C22: 応急措置前 | E22: － | N22: 応急措置前 | P22: －
C23: 応急措置後 | E23: Ⅱb | N23: 応急措置後 | P23: Ⅰ
B24: 変状の発生範囲及び規模 | E24: 0.8m×0.2m、0.3m×0.2 | H24: 前回変状の発生範囲及び規模 | J24: 0.7m×0.1m、0.3m×0.25 | M24: 変状の発生範囲及び規模 | P24: 0.1m×0.1m | S24: 前回変状の発生範囲及び規模 | U24: 0.1m×0.1m
B25: 対策履歴 | E25: － | H25: 実施状況（実施日） | J25: － | M25: 対策履歴 | P25: － | S25: 実施状況（実施日） | U25: －
B26: メモ | E26: 0.8m×0.2m、0.3m×0.2の導水工破損 日常巡視により監視を行う。 | M26: メモ | P26: うきは補修されているため、判定を見直し
C27: ※ 応急措置後の対策区分について添付すること。また、点検前に 実施された措置によりⅠと判定された箇所も添付すること。 | N27: ※ 変状の発生範囲の規模とは、対策を行う際に参考となる変状の長さや面積をいう。
N28: ※ 応急措置を実施しないで決定した変状の対策区分は、対策区分の応急措置後の欄に記入すること。
C29: ※ たたき落としを実施した場合は、実施後の写真を添付すること。 | N29: ※ 変状の発生範囲の規模は、面積・寸法を記載すること。(ひび割れ幅のみmmとし、その他をm表記とする)
C30: ※ 附属物の取付状態に関する異常写真は別途、任意の書式でとりまとめること。 | N30: ※ 構造用鋼材以外の異物に伴ううき・はく離については、メモ欄に異物の概要を記入すること。

Sheet 様式D-1-1 (47)
B2: ■定期点検記録様式 変状写真台帳【様式D-1-1】 | R2: 施設ID | T2: ='様式A-1'!W2 -> 33.96722,130.91500
B3: フリガナ | E3: ='様式A-1'!D3 -> コンピラトンネル | H3: 路 線 名 | J3: ='様式A-1'!J3:O4 -> 福浦港金比羅線 | M3: 定期点検実施者 | P3: ='様式B (1)'!S3 -> アジア航測株式会社 | S3: 定期点検年月日 | U3: ='様式B (1)'!P2 -> 45903
B4: 名 称 | E4: ='様式A-1'!D4 -> 金比羅トンネル | H4: 管理者名 | J4: ='様式A-1'!R3 -> 山口県 下関土木建築事務所 | P4: ='様式B (3)'!S4 -> 飯田 琢巳
B5: 写真 番号 | C5: 覆工スパン 番号 | E5: S30 | M5: 写真 番号 | N5: 覆工スパン 番号 | P5: S30
C6: 変状番号 | E6: 5 | N6: 変状番号 | P6: 6
B7: 変状 部位 | C7: 対象箇所 | E7: 覆工 | M7: 変状 部位 | N7: 対象箇所 | P7: 覆工
C8: 部位区分 | E8: 横断目地（右側） | N8: 部位区分 | P8: 横断目地（右側）
B9: 変状種類 | E9: 補修・補強材の破損 | M9: 変状種類 | P9: 漏水
B10: 対策 区分 | C10: 変状区分 | E10: 漏水 | M10: 対策 区分 | N10: 変状区分 | P10: 漏水
C11: 応急措置前 | E11: － | N11: 応急措置前 | P11: －
C12: 応急措置後 | E12: Ⅰ | N12: 応急措置後 | P12: Ⅱb
B13: 変状の発生範囲及び規模 | E13: 1.0m×0.1m、0.3m×0.1、0.4m×0.1m | H13: 前回変状の発生範囲及び規模 | J13: 1.0m×0.1m、0.3m×0.1、0.4m×0.1m | M13: 変状の発生範囲及び規模 | P13: 6.6m×0.5m | S13: 前回変状の発生範囲及び規模 | U13: 今回新規変状
B14: 対策履歴 | E14: － | H14: 実施状況（実施日） | J14: － | M14: 対策履歴 | P14: － | S14: 実施状況（実施日） | U14: －
B15: メモ | E15: 導水工破損は補修されているため、判定を見直し | M15: メモ | P15: 6.6m×0.5mの漏水（にじみ） 利用者にはほとんど影響はないが、日常巡視により監視を行う。
B16: 写真 番号 | C16: 覆工スパン 番号 | E16: S31 | M16: 写真 番号 | N16: 覆工スパン 番号 | P16: S31
C17: 変状番号 | E17: 1 | N17: 変状番号 | P17: 2
B18: 変状 部位 | C18: 対象箇所 | E18: 覆工 | M18: 変状 部位 | N18: 対象箇所 | P18: 覆工
C19: 部位区分 | E19: 横断目地（左側） | N19: 部位区分 | P19: 横断目地（左側）
B20: 変状種類 | E20: 補修・補強材の破損 | M20: 変状種類 | P20: 漏水
B21: 対策 区分 | C21: 変状区分 | E21: 漏水 | M21: 対策 区分 | N21: 変状区分 | P21: 漏水
C22: 応急措置前 | E22: － | N22: 応急措置前 | P22: －
C23: 応急措置後 | E23: Ⅱb | N23: 応急措置後 | P23: Ⅱb
B24: 変状の発生範囲及び規模 | E24: 1.1m×0.1m | H24: 前回変状の発生範囲及び規模 | J24: 1.25m×0.1m | M24: 変状の発生範囲及び規模 | P24: 4.9m×0.5m | S24: 前回変状の発生範囲及び規模 | U24: －
B25: 対策履歴 | E25: － | H25: 実施状況（実施日） | J25: － | M25: 対策履歴 | P25: － | S25: 実施状況（実施日） | U25: －
B26: メモ | E26: 1.1m×0.1mの導水工破損 漏水なし、日常巡視により監視を行う。 | M26: メモ | P26: 4.9m×0.5mの漏水跡 利用者にはほとんど影響はないが、日常巡視により監視を行う。
C27: ※ 応急措置後の対策区分について添付すること。また、点検前に 実施された措置によりⅠと判定された箇所も添付すること。 | N27: ※ 変状の発生範囲の規模とは、対策を行う際に参考となる変状の長さや面積をいう。
N28: ※ 応急措置を実施しないで決定した変状の対策区分は、対策区分の応急措置後の欄に記入すること。
C29: ※ たたき落としを実施した場合は、実施後の写真を添付すること。 | N29: ※ 変状の発生範囲の規模は、面積・寸法を記載すること。(ひび割れ幅のみmmとし、その他をm表記とする)
C30: ※ 附属物の取付状態に関する異常写真は別途、任意の書式でとりまとめること。 | N30: ※ 構造用鋼材以外の異物に伴ううき・はく離については、メモ欄に異物の概要を記入すること。

Sheet 様式D-1-1 (48)
B2: ■定期点検記録様式 変状写真台帳【様式D-1-1】 | R2: 施設ID | T2: ='様式A-1'!W2 -> 33.96722,130.91500
B3: フリガナ | E3: ='様式A-1'!D3 -> コンピラトンネル | H3: 路 線 名 | J3: ='様式A-1'!J3:O4 -> 福浦港金比羅線 | M3: 定期点検実施者 | P3: ='様式B (1)'!S3 -> アジア航測株式会社 | S3: 定期点検年月日 | U3: ='様式B (1)'!P2 -> 45903
B4: 名 称 | E4: ='様式A-1'!D4 -> 金比羅トンネル | H4: 管理者名 | J4: ='様式A-1'!R3 -> 山口県 下関土木建築事務所 | P4: ='様式B (3)'!S4 -> 飯田 琢巳
B5: 写真 番号 | C5: 覆工スパン 番号 | E5: S31 | M5: 写真 番号 | N5: 覆工スパン 番号 | P5: S31
C6: 変状番号 | E6: 3 | N6: 変状番号 | P6: 4
B7: 変状 部位 | C7: 対象箇所 | E7: 覆工 | M7: 変状 部位 | N7: 対象箇所 | P7: 覆工
C8: 部位区分 | E8: 横断目地（天端） | N8: 部位区分 | P8: 横断目地（天端）
B9: 変状種類 | E9: うき・はく離 | M9: 変状種類 | P9: 漏水
B10: 対策 区分 | C10: 変状区分 | E10: 材質劣化 | M10: 対策 区分 | N10: 変状区分 | P10: 漏水
C11: 応急措置前 | E11: － | N11: 応急措置前 | P11: －
C12: 応急措置後 | E12: Ⅰ | N12: 応急措置後 | P12: Ⅱa
B13: 変状の発生範囲及び規模 | E13: 0.7m×0.3m | H13: 前回変状の発生範囲及び規模 | J13: 0.7m×0.3m | M13: 変状の発生範囲及び規模 | P13: 8.7m×0.5m（0.1ml/min） | S13: 前回変状の発生範囲及び規模 | U13: －
B14: 対策履歴 | E14: － | H14: 実施状況（実施日） | J14: － | M14: 対策履歴 | P14: － | S14: 実施状況（実施日） | U14: －
B15: メモ | E15: うきは補修されているため、判定を見直し | M15: メモ | P15: 8.7m×0.5mの漏水（滴水） 将来的に舗装面に滞水を生じ利用者の安全性を損なう可能性があるため、重点的な監視を要する。 状況により計画的に対策を講じことが望ましい。
B16: 写真 番号 | C16: 覆工スパン 番号 | E16: S31 | M16: 写真 番号 | N16: 覆工スパン 番号 | P16: S31
C17: 変状番号 | E17: 5 | N17: 変状番号 | P17: 6
B18: 変状 部位 | C18: 対象箇所 | E18: 覆工 | M18: 変状 部位 | N18: 対象箇所 | P18: 覆工
C19: 部位区分 | E19: アーチ（天端） | N19: 部位区分 | P19: 横断目地（右側）
B20: 変状種類 | E20: うき・はく離 | M20: 変状種類 | P20: 漏水
B21: 対策 区分 | C21: 変状区分 | E21: 材質劣化 | M21: 対策 区分 | N21: 変状区分 | P21: 漏水
C22: 応急措置前 | E22: － | N22: 応急措置前 | P22: －
C23: 応急措置後 | E23: Ⅰ | N23: 応急措置後 | P23: Ⅱb
B24: 変状の発生範囲及び規模 | E24: 0.2m×0.4m | H24: 前回変状の発生範囲及び規模 | J24: 0.2m×0.4m | M24: 変状の発生範囲及び規模 | P24: 6.7m×0.5m | S24: 前回変状の発生範囲及び規模 | U24: －
B25: 対策履歴 | E25: － | H25: 実施状況（実施日） | J25: － | M25: 対策履歴 | P25: － | S25: 実施状況（実施日） | U25: －
B26: メモ | E26: うきは補修されているため、判定を見直し | M26: メモ | P26: 6.7m×0.5mの漏水（にじみ） 利用者にはほとんど影響はないが、日常巡視により監視を行う。
C27: ※ 応急措置後の対策区分について添付すること。また、点検前に 実施された措置によりⅠと判定された箇所も添付すること。 | N27: ※ 変状の発生範囲の規模とは、対策を行う際に参考となる変状の長さや面積をいう。
N28: ※ 応急措置を実施しないで決定した変状の対策区分は、対策区分の応急措置後の欄に記入すること。
C29: ※ たたき落としを実施した場合は、実施後の写真を添付すること。 | N29: ※ 変状の発生範囲の規模は、面積・寸法を記載すること。(ひび割れ幅のみmmとし、その他をm表記とする)
C30: ※ 附属物の取付状態に関する異常写真は別途、任意の書式でとりまとめること。 | N30: ※ 構造用鋼材以外の異物に伴ううき・はく離については、メモ欄に異物の概要を記入すること。

Sheet 様式D-1-1 (49)
B2: ■定期点検記録様式 変状写真台帳【様式D-1-1】 | R2: 施設ID | T2: ='様式A-1'!W2 -> 33.96722,130.91500
B3: フリガナ | E3: ='様式A-1'!D3 -> コンピラトンネル | H3: 路 線 名 | J3: ='様式A-1'!J3:O4 -> 福浦港金比羅線 | M3: 定期点検実施者 | P3: ='様式B (1)'!S3 -> アジア航測株式会社 | S3: 定期点検年月日 | U3: ='様式B (1)'!P2 -> 45903
B4: 名 称 | E4: ='様式A-1'!D4 -> 金比羅トンネル | H4: 管理者名 | J4: ='様式A-1'!R3 -> 山口県 下関土木建築事務所 | P4: ='様式B (3)'!S4 -> 飯田 琢巳
B5: 写真 番号 | C5: 覆工スパン 番号 | E5: S31 | M5: 写真 番号 | N5: 覆工スパン 番号 | P5: S31
C6: 変状番号 | E6: 7 | N6: 変状番号 | P6: 8
B7: 変状 部位 | C7: 対象箇所 | E7: 覆工 | M7: 変状 部位 | N7: 対象箇所 | P7: 覆工
C8: 部位区分 | E8: 横断目地（右側） | N8: 部位区分 | P8: アーチ（右側）
B9: 変状種類 | E9: 漏水 | M9: 変状種類 | P9: うき・はく離
B10: 対策 区分 | C10: 変状区分 | E10: 漏水 | M10: 対策 区分 | N10: 変状区分 | P10: 材質劣化
C11: 応急措置前 | E11: － | N11: 応急措置前 | P11: －
C12: 応急措置後 | E12: Ⅱb | N12: 応急措置後 | P12: Ⅰ
B13: 変状の発生範囲及び規模 | E13: 5.3m×0.5m | H13: 前回変状の発生範囲及び規模 | J13: － | M13: 変状の発生範囲及び規模 | P13: 0.1m×0.1m | S13: 前回変状の発生範囲及び規模 | U13: 0.1m×0.1m
B14: 対策履歴 | E14: － | H14: 実施状況（実施日） | J14: － | M14: 対策履歴 | P14: － | S14: 実施状況（実施日） | U14: －
B15: メモ | E15: 5.3m×0.5mの漏水（にじみ） 利用者にはほとんど影響はないが、日常巡視により監視を行う。 | M15: メモ | P15: うきは補修されているため、判定を見直し
B16: 写真 番号 | C16: 覆工スパン 番号 | E16: PE | M16: 写真 番号 | N16: 覆工スパン 番号 | P16: PE
C17: 変状番号 | E17: 1 | N17: 変状番号 | P17: 2
B18: 変状 部位 | C18: 対象箇所 | E18: 覆工 | M18: 変状 部位 | N18: 対象箇所 | P18: 覆工
C19: 部位区分 | E19: アーチ（左側） | N19: 部位区分 | P19: アーチ（天端）
B20: 変状種類 | E20: 圧ざ、ひび割れ | M20: 変状種類 | P20: うき・はく離
B21: 対策 区分 | C21: 変状区分 | E21: 材質劣化 | M21: 対策 区分 | N21: 変状区分 | P21: 材質劣化
C22: 応急措置前 | E22: － | N22: 応急措置前 | P22: －
C23: 応急措置後 | E23: Ⅱb | N23: 応急措置後 | P23: Ⅰ
B24: 変状の発生範囲及び規模 | E24: 幅0.3㎜ 長さ2.4m | H24: 前回変状の発生範囲及び規模 | J24: 幅0.4㎜ 長さ2.5m | M24: 変状の発生範囲及び規模 | P24: 1.5m×0.3m | S24: 前回変状の発生範囲及び規模 | U24: 1.5m×0.3m
B25: 対策履歴 | E25: － | H25: 実施状況（実施日） | J25: － | M25: 対策履歴 | P25: － | S25: 実施状況（実施日） | U25: －
B26: メモ | E26: 幅0.3㎜ 長さ2.4mのひび割れ 前回からの進行が見られないが、構造物の機能が低下する可能性があるため引き続いて監視を行う。 | M26: メモ | P26: うきは補修されているため、判定を見直し
C27: ※ 応急措置後の対策区分について添付すること。また、点検前に 実施された措置によりⅠと判定された箇所も添付すること。 | N27: ※ 変状の発生範囲の規模とは、対策を行う際に参考となる変状の長さや面積をいう。
N28: ※ 応急措置を実施しないで決定した変状の対策区分は、対策区分の応急措置後の欄に記入すること。
C29: ※ たたき落としを実施した場合は、実施後の写真を添付すること。 | N29: ※ 変状の発生範囲の規模は、面積・寸法を記載すること。(ひび割れ幅のみmmとし、その他をm表記とする)
C30: ※ 附属物の取付状態に関する異常写真は別途、任意の書式でとりまとめること。 | N30: ※ 構造用鋼材以外の異物に伴ううき・はく離については、メモ欄に異物の概要を記入すること。

Sheet 様式D-1-1 (50)
B2: ■定期点検記録様式 変状写真台帳【様式D-1-1】 | R2: 施設ID | T2: ='様式A-1'!W2 -> 33.96722,130.91500
B3: フリガナ | E3: ='様式A-1'!D3 -> コンピラトンネル | H3: 路 線 名 | J3: ='様式A-1'!J3:O4 -> 福浦港金比羅線 | M3: 定期点検実施者 | P3: ='様式B (1)'!S3 -> アジア航測株式会社 | S3: 定期点検年月日 | U3: ='様式B (1)'!P2 -> 45903
B4: 名 称 | E4: ='様式A-1'!D4 -> 金比羅トンネル | H4: 管理者名 | J4: ='様式A-1'!R3 -> 山口県 下関土木建築事務所 | P4: ='様式B (3)'!S4 -> 飯田 琢巳
B5: 写真 番号 | C5: 覆工スパン 番号 | E5: PE | M5: 写真 番号 | N5: 覆工スパン 番号 | P5: PE
C6: 変状番号 | E6: 3 | N6: 変状番号 | P6: 4
B7: 変状 部位 | C7: 対象箇所 | E7: 覆工 | M7: 変状 部位 | N7: 対象箇所 | P7: 坑門
C8: 部位区分 | E8: アーチ（右側） | N8: 部位区分 | P8: 面壁・妻壁等
B9: 変状種類 | E9: 圧ざ、ひび割れ | M9: 変状種類 | P9: 圧ざ、ひび割れ
B10: 対策 区分 | C10: 変状区分 | E10: 材質劣化 | M10: 対策 区分 | N10: 変状区分 | P10: 材質劣化
C11: 応急措置前 | E11: － | N11: 応急措置前 | P11: －
C12: 応急措置後 | E12: Ⅱb | N12: 応急措置後 | P12: Ⅱb
B13: 変状の発生範囲及び規模 | E13: 幅1.0㎜ 長さ1.7m | H13: 前回変状の発生範囲及び規模 | J13: 幅1.1㎜ 長さ1.8m | M13: 変状の発生範囲及び規模 | P13: 幅2.0㎜ 長さ0.8m | S13: 前回変状の発生範囲及び規模 | U13: 幅2.0㎜ 長さ0.8m
B14: 対策履歴 | E14: － | H14: 実施状況（実施日） | J14: － | M14: 対策履歴 | P14: － | S14: 実施状況（実施日） | U14: －
B15: メモ | E15: 幅1.0㎜ 長さ1.7mのひび割れ 前回からの進行が見られないが、構造物の機能が低下する可能性があるため引き続いて監視を行う。 | M15: メモ | P15: 幅2.0㎜ 長さ0.8mのひび割れ 前回からの進行が見られないが、構造物の機能が低下する可能性があるため引き続いて監視を行う。
B16: 写真 番号 | C16: 覆工スパン 番号 | E16: PE | M16: 写真 番号 | N16: 覆工スパン 番号 | P16: PE
C17: 変状番号 | E17: 5 | N17: 変状番号 | P17: 6
B18: 変状 部位 | C18: 対象箇所 | E18: 坑門 | M18: 変状 部位 | N18: 対象箇所 | P18: 坑門
C19: 部位区分 | E19: 面壁・妻壁等 | N19: 部位区分 | P19: 面壁・妻壁等
B20: 変状種類 | E20: その他 | M20: 変状種類 | P20: 漏水
B21: 対策 区分 | C21: 変状区分 | E21: 材質劣化 | M21: 対策 区分 | N21: 変状区分 | P21: 漏水
C22: 応急措置前 | E22: － | N22: 応急措置前 | P22: －
C23: 応急措置後 | E23: Ⅱb | N23: 応急措置後 | P23: Ⅱb
B24: 変状の発生範囲及び規模 | E24: 0.2m×0.05m | H24: 前回変状の発生範囲及び規模 | J24: 0.3m×0.05m | M24: 変状の発生範囲及び規模 | P24: 1.0m×0.5m | S24: 前回変状の発生範囲及び規模 | U24: －
B25: 対策履歴 | E25: － | H25: 実施状況（実施日） | J25: － | M25: 対策履歴 | P25: － | S25: 実施状況（実施日） | U25: －
B26: メモ | E26: 0.2m×0.05mの異物混入（木材） 日常巡視により監視を行う。 | M26: メモ | P26: 1.0m×0.5mの漏水（にじみ） 利用者にはほとんど影響はないが、日常巡視により監視を行う。
C27: ※ 応急措置後の対策区分について添付すること。また、点検前に 実施された措置によりⅠと判定された箇所も添付すること。 | N27: ※ 変状の発生範囲の規模とは、対策を行う際に参考となる変状の長さや面積をいう。
N28: ※ 応急措置を実施しないで決定した変状の対策区分は、対策区分の応急措置後の欄に記入すること。
C29: ※ たたき落としを実施した場合は、実施後の写真を添付すること。 | N29: ※ 変状の発生範囲の規模は、面積・寸法を記載すること。(ひび割れ幅のみmmとし、その他をm表記とする)
C30: ※ 附属物の取付状態に関する異常写真は別途、任意の書式でとりまとめること。 | N30: ※ 構造用鋼材以外の異物に伴ううき・はく離については、メモ欄に異物の概要を記入すること。

Sheet 様式D-1-1 (51)
B2: ■定期点検記録様式 変状写真台帳【様式D-1-1】 | R2: 施設ID | T2: ='様式A-1'!W2 -> 33.96722,130.91500
B3: フリガナ | E3: ='様式A-1'!D3 -> コンピラトンネル | H3: 路 線 名 | J3: ='様式A-1'!J3:O4 -> 福浦港金比羅線 | M3: 定期点検実施者 | P3: ='様式B (1)'!S3 -> アジア航測株式会社 | S3: 定期点検年月日 | U3: ='様式B (1)'!P2 -> 45903
B4: 名 称 | E4: ='様式A-1'!D4 -> 金比羅トンネル | H4: 管理者名 | J4: ='様式A-1'!R3 -> 山口県 下関土木建築事務所 | P4: ='様式B (3)'!S4 -> 飯田 琢巳
B5: 写真 番号 | C5: 覆工スパン 番号 | E5: PE | M5: 写真 番号 | N5: 覆工スパン 番号
C6: 変状番号 | E6: 7 | N6: 変状番号
B7: 変状 部位 | C7: 対象箇所 | E7: 坑門 | M7: 変状 部位 | N7: 対象箇所
C8: 部位区分 | E8: 面壁・妻壁等 | N8: 部位区分
B9: 変状種類 | E9: うき・はく離 | M9: 変状種類
B10: 対策 区分 | C10: 変状区分 | E10: 材質劣化 | M10: 対策 区分 | N10: 変状区分
C11: 応急措置前 | E11: － | N11: 応急措置前
C12: 応急措置後 | E12: Ⅱa | N12: 応急措置後
B13: 変状の発生範囲及び規模 | E13: 0.1m×0.1m | H13: 前回変状の発生範囲及び規模 | J13: 今回新規変状 | M13: 変状の発生範囲及び規模 | S13: 前回変状の発生範囲及び規模
B14: 対策履歴 | E14: － | H14: 実施状況（実施日） | J14: － | M14: 対策履歴 | S14: 実施状況（実施日）
B15: メモ | E15: 0.1m×0.1mのうき・はく離 打音異常あり。変状位置が坑口直上のため重点的な監視を要する。 状況により計画的に対策を講じことが望ましい。 | M15: メモ
B16: 写真 番号 | C16: 覆工スパン 番号 | M16: 写真 番号 | N16: 覆工スパン 番号
C17: 変状番号 | N17: 変状番号
B18: 変状 部位 | C18: 対象箇所 | M18: 変状 部位 | N18: 対象箇所
C19: 部位区分 | N19: 部位区分
B20: 変状種類 | M20: 変状種類
B21: 対策 区分 | C21: 変状区分 | M21: 対策 区分 | N21: 変状区分
C22: 応急措置前 | N22: 応急措置前
C23: 応急措置後 | N23: 応急措置後
B24: 変状の発生範囲及び規模 | H24: 前回変状の発生範囲及び規模 | M24: 変状の発生範囲及び規模 | S24: 前回変状の発生範囲及び規模
B25: 対策履歴 | H25: 実施状況（実施日） | M25: 対策履歴 | S25: 実施状況（実施日）
B26: メモ | M26: メモ
C27: ※ 応急措置後の対策区分について添付すること。また、点検前に 実施された措置によりⅠと判定された箇所も添付すること。 | N27: ※ 変状の発生範囲の規模とは、対策を行う際に参考となる変状の長さや面積をいう。
N28: ※ 応急措置を実施しないで決定した変状の対策区分は、対策区分の応急措置後の欄に記入すること。
C29: ※ たたき落としを実施した場合は、実施後の写真を添付すること。 | N29: ※ 変状の発生範囲の規模は、面積・寸法を記載すること。(ひび割れ幅のみmmとし、その他をm表記とする)
C30: ※ 附属物の取付状態に関する異常写真は別途、任意の書式でとりまとめること。 | N30: ※ 構造用鋼材以外の異物に伴ううき・はく離については、メモ欄に異物の概要を記入すること。

Sheet 様式D-1-1 (52)
B2: ■定期点検記録様式 変状写真台帳【様式D-1-1】 | R2: 施設ID | T2: ='様式A-1'!W2 -> 33.96722,130.91500
B3: フリガナ | E3: ='様式A-1'!D3 -> コンピラトンネル | H3: 路 線 名 | J3: ='様式A-1'!J3:O4 -> 福浦港金比羅線 | M3: 定期点検実施者 | P3: ='様式B (1)'!S3 -> アジア航測株式会社 | S3: 定期点検年月日 | U3: ='様式B (1)'!P2 -> 45903
B4: 名 称 | E4: ='様式A-1'!D4 -> 金比羅トンネル | H4: 管理者名 | J4: ='様式A-1'!R3 -> 山口県 下関土木建築事務所 | P4: ='様式B (3)'!S4 -> 飯田 琢巳
B5: 写真 番号 | C5: 覆工スパン 番号 | M5: 写真 番号 | N5: 覆工スパン 番号
C6: 変状番号 | N6: 変状番号
B7: 変状 部位 | C7: 対象箇所 | E7: 覆工 | M7: 変状 部位 | N7: 対象箇所 | P7: 覆工
C8: 部位区分 | N8: 部位区分
B9: 変状種類 | M9: 変状種類
B10: 対策 区分 | C10: 変状区分 | M10: 対策 区分 | N10: 変状区分
C11: 応急措置前 | E11: － | N11: 応急措置前 | P11: －
C12: 応急措置後 | N12: 応急措置後
B13: 変状の発生範囲及び規模 | H13: 前回変状の発生範囲及び規模 | M13: 変状の発生範囲及び規模 | S13: 前回変状の発生範囲及び規模
B14: 対策履歴 | E14: － | H14: 実施状況（実施日） | J14: － | M14: 対策履歴 | P14: － | S14: 実施状況（実施日） | U14: －
B15: メモ | M15: メモ
B16: 写真 番号 | C16: 覆工スパン 番号 | M16: 写真 番号 | N16: 覆工スパン 番号
C17: 変状番号 | N17: 変状番号
B18: 変状 部位 | C18: 対象箇所 | E18: 覆工 | M18: 変状 部位 | N18: 対象箇所 | P18: 覆工
C19: 部位区分 | N19: 部位区分
B20: 変状種類 | M20: 変状種類
B21: 対策 区分 | C21: 変状区分 | M21: 対策 区分 | N21: 変状区分
C22: 応急措置前 | E22: － | N22: 応急措置前 | P22: －
C23: 応急措置後 | N23: 応急措置後
B24: 変状の発生範囲及び規模 | H24: 前回変状の発生範囲及び規模 | M24: 変状の発生範囲及び規模 | S24: 前回変状の発生範囲及び規模
B25: 対策履歴 | E25: － | H25: 実施状況（実施日） | J25: － | M25: 対策履歴 | P25: － | S25: 実施状況（実施日） | U25: －
B26: メモ | M26: メモ
C27: ※ 応急措置後の対策区分について添付すること。また、点検前に 実施された措置によりⅠと判定された箇所も添付すること。 | N27: ※ 変状の発生範囲の規模とは、対策を行う際に参考となる変状の長さや面積をいう。
N28: ※ 応急措置を実施しないで決定した変状の対策区分は、対策区分の応急措置後の欄に記入すること。
C29: ※ たたき落としを実施した場合は、実施後の写真を添付すること。 | N29: ※ 変状の発生範囲の規模は、面積・寸法を記載すること。(ひび割れ幅のみmmとし、その他をm表記とする)
C30: ※ 附属物の取付状態に関する異常写真は別途、任意の書式でとりまとめること。 | N30: ※ 構造用鋼材以外の異物に伴ううき・はく離については、メモ欄に異物の概要を記入すること。

Sheet 様式D-1-2 (1)
B2: ■定期点検記録様式 異常写真台帳（トンネル内附属物等の取付状態） 【様式D-1-2】
B3: フリガナ | E3: ='様式A-1'!D3 -> コンピラトンネル | I3: 路 線 名 | L3: ='様式A-1'!J3 -> 福浦港金比羅線 | O3: 定期点検実施者 | R3: ='様式B (1)'!S3 -> アジア航測株式会社 | U3: 定期点検年月日 | W3: ='様式B (1)'!P2 -> 45903
B4: 名 称 | E4: ='様式A-1'!D4 -> 金比羅トンネル | I4: 管理者名 | L4: ='様式A-1'!R3 -> 山口県 下関土木建築事務所 | R4: ='様式B (3)'!S4 -> 飯田 琢巳
B5: 覆工スパン番号 | E5: S17 | F5: 異常番号 | I5: 101 | J5: 覆工スパン番号 | M5: S31 | N5: 異常番号 | Q5: 101 | R5: 覆工スパン番号 | U5: S31 | V5: 異常番号 | Y5: 101
B6: 対象箇所 | D6: その他施設 | E6: その他 | J6: 対象箇所 | L6: 照明施設 | M6: 灯具 | R6: 対象箇所 | T6: 照明施設 | U6: 灯具
B7: 部位区分 | D7: 附属物本体 | F7: 異常の種類 | H7: 変形，欠損 | J7: 部位区分 | L7: 附属物本体 | N7: 異常の種類 | P7: 変形，欠損 | R7: 部位区分 | T7: 附属物本体 | V7: 異常の種類 | X7: 変形，欠損
B8: 異常判定区分 | D8: × | E8: メモ | F8: 内装板パネルの損傷（新規） | J8: 異常判定区分 | L8: × | M8: メモ | N8: 照明灯具の破損（ガラスなし） | R8: 異常判定区分 | T8: × | U8: メモ | V8: 照明灯具の変形
B22: 覆工スパン番号 | E22: S31 | F22: 異常番号 | I22: 102 | J22: 覆工スパン番号 | N22: 異常番号 | R22: 覆工スパン番号 | V22: 異常番号
B23: 対象箇所 | D23: 照明施設 | E23: 灯具 | J23: 対象箇所 | R23: 対象箇所
B24: 部位区分 | D24: 取付部材 | F24: 異常の種類 | H24: 変形，欠損 | J24: 部位区分 | N24: 異常の種類 | R24: 部位区分 | V24: 異常の種類
B25: 異常判定区分 | D25: × | E25: メモ | F25: 灯具取付部の変形 1箇所 | J25: 異常判定区分 | M25: メモ | R25: 異常判定区分 | U25: メモ
C39: ※ 異常判定区分×について記入すること。また、応急措置前に異常判定区分×とした箇所のうち応急措置により○と判定した箇所も記入すること。
C40: ※ 応急措置を実施した場合は、その実施状況が分かる写真を添付すること。
C41: ※ 変状数に準じてシートを追加すること。

Sheet 様式D-1-2 (2)
B2: ■定期点検記録様式 異常写真台帳（トンネル内附属物等の取付状態） 【様式D-1-2】
B3: フリガナ | E3: ='様式A-1'!D3 -> コンピラトンネル | I3: 路 線 名 | L3: ='様式A-1'!J3 -> 福浦港金比羅線 | O3: 定期点検実施者 | R3: ='様式B (1)'!S3 -> アジア航測株式会社 | U3: 定期点検年月日 | W3: ='様式B (1)'!P2 -> 45903
B4: 名 称 | E4: ='様式A-1'!D4 -> 金比羅トンネル | I4: 管理者名 | L4: ='様式A-1'!R3 -> 山口県 下関土木建築事務所 | R4: ='様式B (3)'!S4 -> 飯田 琢巳
B5: 覆工スパン番号 | F5: 異常番号 | J5: 覆工スパン番号 | N5: 異常番号 | R5: 覆工スパン番号 | V5: 異常番号
B6: 対象箇所 | J6: 対象箇所 | R6: 対象箇所
B7: 部位区分 | F7: 異常の種類 | J7: 部位区分 | N7: 異常の種類 | R7: 部位区分 | V7: 異常の種類
B8: 異常判定区分 | E8: メモ | J8: 異常判定区分 | M8: メモ | R8: 異常判定区分 | U8: メモ
B22: 覆工スパン番号 | F22: 異常番号 | J22: 覆工スパン番号 | N22: 異常番号 | R22: 覆工スパン番号 | V22: 異常番号
B23: 対象箇所 | J23: 対象箇所 | R23: 対象箇所
B24: 部位区分 | F24: 異常の種類 | J24: 部位区分 | N24: 異常の種類 | R24: 部位区分 | V24: 異常の種類
B25: 異常判定区分 | E25: メモ | J25: 異常判定区分 | M25: メモ | R25: 異常判定区分 | U25: メモ
C39: ※ 異常判定区分×について記入すること。また、応急措置前に異常判定区分×とした箇所のうち応急措置により○と判定した箇所も記入すること。
C40: ※ 応急措置を実施した場合は、その実施状況が分かる写真を添付すること。
C41: ※ 変状数に準じてシートを追加すること。

Sheet 様式D-2-1 (1)
B3: ■定期点検記録様式 トンネル全体変状展開図 【様式D-2-1】
B4: フリガナ | E4: ='様式A-1'!D3 -> コンピラトンネル | J4: 路線名 | M4: ='様式A-1'!J3 -> 福浦港金比羅線 | S4: 定期点検実施者 | W4: ='様式B (1)'!S3 -> アジア航測株式会社 | AC4: 定期点検年月日 | AF4: ='様式B (1)'!P2 -> 45903
B5: 名 称 | E5: ='様式A-1'!D4 -> 金比羅トンネル | J5: 管理者名 | M5: ='様式A-1'!R3 -> 山口県 下関土木建築事務所 | W5: ='様式B (1)'!S4 -> 飯田 琢巳
B6: トンネル変状展開図 | C6: トンネル全体変状展開図
V18: 注１：本展開図は、見下げた状態で記載すること。 注２：覆工スパン番号は横断目地毎（矢板工法の場合は上半アーチ の横断目地毎)に設定すること。 注３：横断目地の変状は前の覆工スパン番号で計上すること。 注４：１枚に収まらない場合は、複数枚に分けて作成すること。

Sheet 様式D-2-1 (2)
B3: ■定期点検記録様式 トンネル全体変状展開図 【様式D-2-1】
B4: フリガナ | E4: ='様式A-1'!D3 -> コンピラトンネル | J4: 路線名 | M4: ='様式A-1'!J3 -> 福浦港金比羅線 | S4: 定期点検実施者 | W4: ='様式B (1)'!S3 -> アジア航測株式会社 | AC4: 定期点検年月日 | AF4: ='様式B (1)'!P2 -> 45903
B5: 名 称 | E5: ='様式A-1'!D4 -> 金比羅トンネル | J5: 管理者名 | M5: ='様式A-1'!R3 -> 山口県 下関土木建築事務所 | W5: ='様式B (1)'!S4 -> 飯田 琢巳
B6: トンネル変状展開図 | C6: トンネル全体変状展開図
V18: 注１：本展開図は、見下げた状態で記載すること。 注２：覆工スパン番号は横断目地毎（矢板工法の場合は上半アーチ の横断目地毎)に設定すること。 注３：横断目地の変状は前の覆工スパン番号で計上すること。 注４：１枚に収まらない場合は、複数枚に分けて作成すること。

Sheet 様式D-2-1 (3)
B3: ■定期点検記録様式 トンネル全体変状展開図 【様式D-2-1】
B4: フリガナ | E4: ='様式A-1'!D3 -> コンピラトンネル | J4: 路線名 | M4: ='様式A-1'!J3 -> 福浦港金比羅線 | S4: 定期点検実施者 | W4: ='様式B (3)'!S3 -> アジア航測株式会社 | AC4: 定期点検年月日 | AF4: ='様式B (1)'!P2 -> 45903
B5: 名 称 | E5: ='様式A-1'!D4 -> 金比羅トンネル | J5: 管理者名 | M5: ='様式A-1'!R3 -> 山口県 下関土木建築事務所 | W5: ='様式B (1)'!S4 -> 飯田 琢巳
B6: トンネル変状展開図 | C6: トンネル全体変状展開図
V18: 注１：本展開図は、見下げた状態で記載すること。 注２：覆工スパン番号は横断目地毎（矢板工法の場合は上半アーチ の横断目地毎)に設定すること。 注３：横断目地の変状は前の覆工スパン番号で計上すること。 注４：１枚に収まらない場合は、複数枚に分けて作成すること。

Sheet 様式D-2-1 (4)
B3: ■定期点検記録様式 トンネル全体変状展開図 【様式D-2-1】
B4: フリガナ | E4: ='様式A-1'!D3 -> コンピラトンネル | J4: 路線名 | M4: ='様式A-1'!J3 -> 福浦港金比羅線 | S4: 定期点検実施者 | W4: ='様式B (3)'!S3 -> アジア航測株式会社 | AC4: 定期点検年月日 | AF4: ='様式B (1)'!P2 -> 45903
B5: 名 称 | E5: ='様式A-1'!D4 -> 金比羅トンネル | J5: 管理者名 | M5: ='様式A-1'!R3 -> 山口県 下関土木建築事務所 | W5: ='様式B (1)'!S4 -> 飯田 琢巳
B6: トンネル変状展開図 | C6: トンネル全体変状展開図
V18: 注１：本展開図は、見下げた状態で記載すること。 注２：覆工スパン番号は横断目地毎（矢板工法の場合は上半アーチ の横断目地毎)に設定すること。 注３：横断目地の変状は前の覆工スパン番号で計上すること。 注４：１枚に収まらない場合は、複数枚に分けて作成すること。

Sheet 様式D-2-1 (5)
B3: ■定期点検記録様式 トンネル全体変状展開図 【様式D-2-1】
B4: フリガナ | E4: ='様式A-1'!D3 -> コンピラトンネル | J4: 路線名 | M4: ='様式A-1'!J3 -> 福浦港金比羅線 | S4: 定期点検実施者 | W4: ='様式B (3)'!S3 -> アジア航測株式会社 | AC4: 定期点検年月日 | AF4: ='様式B (1)'!P2 -> 45903
B5: 名 称 | E5: ='様式A-1'!D4 -> 金比羅トンネル | J5: 管理者名 | M5: ='様式A-1'!R3 -> 山口県 下関土木建築事務所 | W5: ='様式B (1)'!S4 -> 飯田 琢巳
B6: トンネル変状展開図 | C6: トンネル全体変状展開図
V18: 注１：本展開図は、見下げた状態で記載すること。 注２：覆工スパン番号は横断目地毎（矢板工法の場合は上半アーチ の横断目地毎)に設定すること。 注３：横断目地の変状は前の覆工スパン番号で計上すること。 注４：１枚に収まらない場合は、複数枚に分けて作成すること。

Sheet 様式D-2-1´ (1)
B3: ■定期点検記録様式 トンネル全体変状展開図（機器の活用時） 【様式D-2-1’】
B4: フリガナ | E4: ='様式A-1'!D3 -> コンピラトンネル | J4: 路線名 | M4: ='様式A-1'!J3 -> 福浦港金比羅線 | S4: 定期点検実施者 | W4: ='様式B (1)'!S3 -> アジア航測株式会社 | AC4: 定期点検年月日 | AF4: ='様式B (1)'!P2 -> 45903
B5: 名 称 | E5: ='様式A-1'!D4 -> 金比羅トンネル | J5: 管理者名 | M5: ='様式A-1'!R3 -> 山口県 下関土木建築事務所 | W5: ='様式B (1)'!S4 -> 飯田 琢巳
B6: トンネル変状展開図 | C6: トンネル全体変状展開図
V18: 注１：本展開図は、見下げた状態で記載すること。 注２：覆工スパン番号は横断目地毎（矢板工法の場合は上半アーチ の横断目地毎)に設定すること。 注３：横断目地の変状は前の覆工スパン番号で計上すること。 注４：１枚に収まらない場合は、複数枚に分けて作成すること。

Sheet 様式D-2-1´ (2)
B3: ■定期点検記録様式 トンネル全体変状展開図（機器の活用時） 【様式D-2-1’】
B4: フリガナ | E4: ='様式A-1'!D3 -> コンピラトンネル | J4: 路線名 | M4: ='様式A-1'!J3 -> 福浦港金比羅線 | S4: 定期点検実施者 | W4: ='様式B (1)'!S3 -> アジア航測株式会社 | AC4: 定期点検年月日 | AF4: ='様式B (1)'!P2 -> 45903
B5: 名 称 | E5: ='様式A-1'!D4 -> 金比羅トンネル | J5: 管理者名 | M5: ='様式A-1'!R3 -> 山口県 下関土木建築事務所 | W5: ='様式B (1)'!S4 -> 飯田 琢巳
B6: トンネル変状展開図 | C6: トンネル全体変状展開図
V18: 注１：本展開図は、見下げた状態で記載すること。 注２：覆工スパン番号は横断目地毎（矢板工法の場合は上半アーチ の横断目地毎)に設定すること。 注３：横断目地の変状は前の覆工スパン番号で計上すること。 注４：１枚に収まらない場合は、複数枚に分けて作成すること。

Sheet 様式D-2-1´ (3)
B3: ■定期点検記録様式 トンネル全体変状展開図（機器の活用時） 【様式D-2-1’】
B4: フリガナ | E4: ='様式A-1'!D3 -> コンピラトンネル | J4: 路線名 | M4: ='様式A-1'!J3 -> 福浦港金比羅線 | S4: 定期点検実施者 | W4: ='様式B (1)'!S3 -> アジア航測株式会社 | AC4: 定期点検年月日 | AF4: ='様式B (1)'!P2 -> 45903
B5: 名 称 | E5: ='様式A-1'!D4 -> 金比羅トンネル | J5: 管理者名 | M5: ='様式A-1'!R3 -> 山口県 下関土木建築事務所 | W5: ='様式B (1)'!S4 -> 飯田 琢巳
B6: トンネル変状展開図 | C6: トンネル全体変状展開図
V18: 注１：本展開図は、見下げた状態で記載すること。 注２：覆工スパン番号は横断目地毎（矢板工法の場合は上半アーチ の横断目地毎)に設定すること。 注３：横断目地の変状は前の覆工スパン番号で計上すること。 注４：１枚に収まらない場合は、複数枚に分けて作成すること。

Sheet 様式D-2-1´ (6)
B3: ■定期点検記録様式 トンネル全体変状展開図（機器の活用時） 【様式D-2-1’】
B4: フリガナ | E4: ='様式A-1'!D3 -> コンピラトンネル | J4: 路線名 | M4: ='様式A-1'!J3 -> 福浦港金比羅線 | S4: 定期点検実施者 | W4: ='様式B (1)'!S3 -> アジア航測株式会社 | AC4: 定期点検年月日 | AF4: ='様式B (1)'!P2 -> 45903
B5: 名 称 | E5: ='様式A-1'!D4 -> 金比羅トンネル | J5: 管理者名 | M5: ='様式A-1'!R3 -> 山口県 下関土木建築事務所 | W5: ='様式B (1)'!S4 -> 飯田 琢巳
B6: トンネル変状展開図 | C6: トンネル全体変状展開図
V18: 注１：本展開図は、見下げた状態で記載すること。 注２：覆工スパン番号は横断目地毎（矢板工法の場合は上半アーチ の横断目地毎)に設定すること。 注３：横断目地の変状は前の覆工スパン番号で計上すること。 注４：１枚に収まらない場合は、複数枚に分けて作成すること。

Sheet 様式D-3_PS
AU1: 様式F用→ | AV1: 覆工スパン | AY1: 変 状 数 | BK1: 変 状 規 模
AV2: 番号 | AW2: 延長 （ｍ） | AX2: 健全性の診断の 区分 | AY2: 対策区分の判定 | BK2: 覆工スパン長（ｍ） | BO2: 変状の発生範囲の規模（㎡）
B3: ■定期点検記録様式 覆工スパン別変状詳細展開図 【様式D-3】 | AY3: 外力 | BC3: 材質劣化 | BG3: 漏水 | BK3: 外力 注2 | BO3: 材質劣化 | BS3: 漏水
B4: フリガナ | E4: ='様式A-1'!D3 -> コンピラトンネル | K4: 路線名 | N4: ='様式A-1'!J3 -> 福浦港金比羅線 | T4: 定期点検実施者 | Y4: ='様式B (1)'!S3 -> アジア航測株式会社 | AG4: 定期点検年月日 | AK4: ='様式B (1)'!P2 -> 45903 | AY4: Ⅳ | AZ4: Ⅲ | BA4: Ⅱa | BB4: Ⅱb | BC4: Ⅳ | BD4: Ⅲ | BE4: Ⅱa | BF4: Ⅱb | BG4: Ⅳ | BH4: Ⅲ | BI4: Ⅱa | BJ4: Ⅱb | BK4: Ⅳ | BL4: Ⅲ | BM4: Ⅱa | BN4: Ⅱb | BO4: Ⅳ | BP4: Ⅲ | BQ4: Ⅱa | BR4: Ⅱb | BS4: Ⅳ | BT4: Ⅲ | BU4: Ⅱa | BV4: Ⅱb
B5: 名 称 | E5: ='様式A-1'!D4 -> 金比羅トンネル | K5: 管理者名 | N5: ='様式A-1'!R3 -> 山口県 下関土木建築事務所 | Y5: ='様式B (1)'!S4 -> 飯田 琢巳 | AV5: =N7 -> PS | AW5: =R7 -> 2.4 | AX5: =AM35 -> Ⅱ | AY5: =Y37 -> 0 | AZ5: =Z37 -> 0 | BA5: =AA37 -> 0 | BB5: =AB37 -> 0 | BC5: =AC37 -> 0 | BD5: =AD37 -> 0 | BE5: =AE37 -> 0 | BF5: =AF37 -> 3 | ... BJ5: =AJ37 -> 1 | BK5: =IF(Y37>0,R7,"") | BL5: =IF(Y37>0,"",IF(Z37>0,R7,"")) | BM5: =IF(Y37+Z37>0,"",IF(AA37>0,R7,"")) | BN5: =IF(Y37+Z37+AA37>0,"",IF(AB37>0,R7,"")) | BO5: =AC35 -> 0 | BP5: =AD35 -> 0 | BQ5: =AE35 -> 0 | BR5: =AF35 -> 0.28 | BS5: =AG35 -> 0 | BT5: =AH35 -> 0 | BU5: =AI35 -> 0 | BV5: =AJ35 -> 2.88
B6: スパン別変状展開図 | K6: 【健全性判定集計表】
K7: スパン番号 | N7: PS | P7: スパン長 | R7: 2.4 | U7: 前回定期点検時の判定 | W7: 応急措置前の判定 | Y7: 対策区分毎の 変状の有無 | AC7: 対策区分毎の変状の発生範囲の規模(㎡) | AK7: 備考注2
K8: 変状番号 | L8: 対象箇所 | N8: 部位区分 | P8: 変状区分 | R8: 変状種類
Y9: 外力注1 | AC9: 材質劣化注1 | AG9: 漏水注1
Y10: Ⅳ | Z10: Ⅲ | AA10: Ⅱa | AB10: Ⅱb | AC10: Ⅳ | AD10: Ⅲ | AE10: Ⅱa | AF10: Ⅱb | AG10: Ⅳ | AH10: Ⅲ | AI10: Ⅱa | AJ10: Ⅱb
K11: 1 | L11: 坑門 | N11: 面壁・妻壁等 | P11: 漏水 | R11: 漏水 | U11: Ⅱb | W11: Ⅱb | AJ11: 2.88 | AQ11: =IF(P11="材質劣化",2,IF(P11="漏水",3,1)) -> 3 | AS11: =IF(Y11<>"",1,"")
K12: 2 | L12: 坑門 | N12: 面壁・妻壁等 | P12: 材質劣化 | R12: うき・はく離 | U12: Ⅱb | W12: Ⅰ | AK12: 判定見直し | AQ12: =IF(P12="材質劣化",2,IF(P12="漏水",3,1)) -> 2
K13: 3 | L13: 坑門 | N13: 面壁・妻壁等 | P13: 材質劣化 | R13: 圧ざ、ひび割れ | U13: Ⅱb | W13: Ⅱb | AF13: 0.06 | AQ13: =IF(P13="材質劣化",2,IF(P13="漏水",3,1)) -> 2
K14: 4 | L14: 覆工 | N14: アーチ（天端） | P14: 材質劣化 | R14: 圧ざ、ひび割れ | U14: Ⅱb | W14: Ⅱb | AF14: 0.16 | AQ14: =IF(P14="材質劣化",2,IF(P14="漏水",3,1)) -> 2
K15: 5 | L15: 坑門 | N15: 面壁・妻壁等 | P15: 材質劣化 | R15: うき・はく離 | U15: － | W15: Ⅱb | AF15: 0.06 | AK15: 新規確認 | AQ15: =IF(P15="材質劣化",2,IF(P15="漏水",3,1)) -> 2
AQ16: =IF(P16="材質劣化",2,IF(P16="漏水",3,1)) -> 1
AQ17: =IF(P17="材質劣化",2,IF(P17="漏水",3,1)) -> 1
AQ18: =IF(P18="材質劣化",2,IF(P18="漏水",3,1)) -> 1
AQ19: =IF(P19="材質劣化",2,IF(P19="漏水",3,1)) -> 1
AQ20: =IF(P20="材質劣化",2,IF(P20="漏水",3,1)) -> 1
AQ21: =IF(P21="材質劣化",2,IF(P21="漏水",3,1)) -> 1
AQ22: =IF(P22="材質劣化",2,IF(P22="漏水",3,1)) -> 1
AQ23: =IF(P23="材質劣化",2,IF(P23="漏水",3,1)) -> 1
AQ24: =IF(P24="材質劣化",2,IF(P24="漏水",3,1)) -> 1
AQ25: =IF(P25="材質劣化",2,IF(P25="漏水",3,1)) -> 1
AQ26: =IF(P26="材質劣化",2,IF(P26="漏水",3,1)) -> 1
AQ27: =IF(P27="材質劣化",2,IF(P27="漏水",3,1)) -> 1
AQ28: =IF(P30="材質劣化",2,IF(P30="漏水",3,1)) -> 1
AQ29: =IF(P34="材質劣化",2,IF(P34="漏水",3,1)) -> 1
AQ30: =IF(P30="材質劣化",2,IF(P30="漏水",3,1)) -> 1
AQ31: =IF(P33="材質劣化",2,IF(P33="漏水",3,1)) -> 1
AQ32: =IF(P37="材質劣化",2,IF(P37="漏水",3,1)) -> 1
AQ33: =IF(P33="材質劣化",2,IF(P33="漏水",3,1)) -> 1
AQ34: =IF(P36="材質劣化",2,IF(P36="漏水",3,1)) -> 1
K35: 集計 判定 診断 | L35: 変状の発生規模合計(㎡) | Y35: － | AC35: =SUM(AC11:AC34) -> 0 | AD35: =SUM(AD11:AD34) -> 0 | AE35: =SUM(AE11:AE34) -> 0 | AF35: =SUM(AF11:AF34) -> 0.28 | AG35: =SUM(AG11:AG34) -> 0 | AH35: =SUM(AH11:AH34) -> 0 | AI35: =SUM(AI11:AI34) -> 0 | AJ35: =SUM(AJ11:AJ34) -> 2.88 | AK35: 覆工スパン単位の 健全性の 診断の区分 | AM35: Ⅱ
L36: 対策区分の 判定結果 | O36: 対策区分毎の変状数注3 | Y36: Ⅳ | Z36: Ⅲ | AA36: Ⅱa | AB36: Ⅱb | AC36: Ⅳ | AD36: Ⅲ | AE36: Ⅱa | AF36: Ⅱb | AG36: Ⅳ | AH36: Ⅲ | AI36: Ⅱa | AJ36: Ⅱb
Y37: =IF(COUNTIF(Y11:Y34,"〇")>0,1,0) -> 0 | Z37: =IF(COUNTIF(Z11:Z34,"〇")>0,1,0) -> 0 | AA37: =IF(COUNTIF(AA11:AA34,"〇")>0,1,0) -> 0 | AB37: =IF(COUNTIF(AB11:AB34,"〇")>0,1,0) -> 0 | AC37: =COUNTA(AC11:AC34) -> 0 | AD37: =COUNTA(AD11:AD34) -> 0 | AE37: =COUNTA(AE11:AE34) -> 0 | AF37: =COUNTA(AF11:AF34) -> 3 | AG37: =COUNTA(AG11:AG34) -> 0 | AH37: =COUNTA(AH11:AH34) -> 0 | AI37: =COUNTA(AI11:AI34) -> 0 | AJ37: =COUNTA(AJ11:AJ34) -> 1
K39: 所見 | L39: 変状に顕著な進行は見られないが、監視により状況を見て補修することが望ましい。
K43: 注1：誤記入防止のため、当該変状区分以外のセルは灰色表示とすること。
K44: 注2：応急措置を実施した場合は、その詳細を備考に記載すること。
K45: 注3：外力は覆工スパン単位、材質劣化、漏水は変状単位とすること。
B46: （以下、印刷不要）
B47: ※1：本シートは作成洩れのないよう、変状が無くても全スパン分を作成すること．また変状展開図は、様式D-2-1、様式D-2-1'と同じものを覆工スパン単位で拡大し掲載すること。
B48: ※2：変状番号は、様式D-1-1で記入した番号と整合させること。
B49: ※3：対策区分毎の変状発生規模は、様式D-1-1に記載した面積を記入すること（ただし外力はスパン単位で評価するため変状の有無の欄には面積でなく○を記入し、備考欄に状況を記入）。
B50: ※4：本様式は覆工スパン毎に作成すること。
B51: ※5：変状数が多い場合は、適時、表の行を増やして覆工スパン毎に1枚のシートに収めること。また、1スパン１シートとし、スパンに合わせてシートを追加すること。
B52: ※6：対策区分毎の変状の発生範囲の規模とは，対策を行う際に参考となる変状の長さや面積であり，変状を包含する長さや面積とする。
B53: ※7：対策範囲を示す発生範囲の規模を面積で記入することが妥当ではない変状は、発生範囲の規模の欄に○を記入するとともに、備考に内容を記入すること。

Sheet 様式D-3_S01
AU1: 様式F用→ | AV1: 覆工スパン | AY1: 変 状 数 | BK1: 変 状 規 模
AV2: 番号 | AW2: 延長 （ｍ） | AX2: 健全性の診断の 区分 | AY2: 対策区分の判定 | BK2: 覆工スパン長（ｍ） | BO2: 変状の発生範囲の規模（㎡）
B3: ■定期点検記録様式 覆工スパン別変状詳細展開図 【様式D-3】 | AY3: 外力 | BC3: 材質劣化 | BG3: 漏水 | BK3: 外力 注2 | BO3: 材質劣化 | BS3: 漏水
B4: フリガナ | E4: ='様式A-1'!D3 -> コンピラトンネル | K4: 路線名 | N4: ='様式A-1'!J3 -> 福浦港金比羅線 | T4: 定期点検実施者 | Y4: ='様式B (1)'!S3 -> アジア航測株式会社 | AG4: 定期点検年月日 | AK4: ='様式B (1)'!P2 -> 45903 | AY4: Ⅳ | AZ4: Ⅲ | BA4: Ⅱa | BB4: Ⅱb | BC4: Ⅳ | BD4: Ⅲ | BE4: Ⅱa | BF4: Ⅱb | BG4: Ⅳ | BH4: Ⅲ | BI4: Ⅱa | BJ4: Ⅱb | BK4: Ⅳ | BL4: Ⅲ | BM4: Ⅱa | BN4: Ⅱb | BO4: Ⅳ | BP4: Ⅲ | BQ4: Ⅱa | BR4: Ⅱb | BS4: Ⅳ | BT4: Ⅲ | BU4: Ⅱa | BV4: Ⅱb
B5: 名 称 | E5: ='様式A-1'!D4 -> 金比羅トンネル | K5: 管理者名 | N5: ='様式A-1'!R3 -> 山口県 下関土木建築事務所 | Y5: ='様式B (1)'!S4 -> 飯田 琢巳 | AV5: =N7 -> S1 | AW5: =R7 -> 4.5 | AX5: =AM35 -> Ⅱ | AY5: =Y37 -> 0 | AZ5: =Z37 -> 0 | BA5: =AA37 -> 0 | BB5: =AB37 -> 0 | BC5: =AC37 -> 0 | BD5: =AD37 -> 0 | BE5: =AE37 -> 0 | BF5: =AF37 -> 2 | ... BJ5: =AJ37 -> 0 | BK5: =IF(Y37>0,R7,"") | BL5: =IF(Y37>0,"",IF(Z37>0,R7,"")) | BM5: =IF(Y37+Z37>0,"",IF(AA37>0,R7,"")) | BN5: =IF(Y37+Z37+AA37>0,"",IF(AB37>0,R7,"")) | BO5: =AC35 -> 0 | BP5: =AD35 -> 0 | BQ5: =AE35 -> 0 | BR5: =AF35 -> 0.43 | BS5: =AG35 -> 0 | BT5: =AH35 -> 0 | BU5: =AI35 -> 0 | BV5: =AJ35 -> 0
B6: スパン別変状展開図 | K6: 【健全性判定集計表】
K7: スパン番号 | N7: S1 | P7: スパン長 | R7: 4.5 | U7: 前回定期点検時の判定 | W7: 応急措置前の判定 | Y7: 対策区分毎の 変状の有無 | AC7: 対策区分毎の変状の発生範囲の規模(㎡) | AK7: 備考注2
K8: 変状番号 | L8: 対象箇所 | N8: 部位区分 | P8: 変状区分 | R8: 変状種類
Y9: 外力注1 | AC9: 材質劣化注1 | AG9: 漏水注1
Y10: Ⅳ | Z10: Ⅲ | AA10: Ⅱa | AB10: Ⅱb | AC10: Ⅳ | AD10: Ⅲ | AE10: Ⅱa | AF10: Ⅱb | AG10: Ⅳ | AH10: Ⅲ | AI10: Ⅱa | AJ10: Ⅱb
K11: 1 | L11: 覆工 | N11: アーチ（左側） | P11: 材質劣化 | R11: 圧ざ、ひび割れ | U11: Ⅱb | W11: Ⅱb | AF11: 0.05 | AQ11: =IF(P11="材質劣化",2,IF(P11="漏水",3,1)) -> 2 | AS11: =IF(Y11<>"",1,"")
K12: 2 | L12: 覆工 | N12: アーチ（左側） | P12: 材質劣化 | R12: うき・はく離 | U12: Ⅱb | W12: Ⅰ | AK12: 補修済 | AQ12: =IF(P12="材質劣化",2,IF(P12="漏水",3,1)) -> 2
K13: 3 | L13: 覆工 | N13: アーチ（右側） | P13: 材質劣化 | R13: 圧ざ、ひび割れ | U13: Ⅱb | W13: Ⅱb | AF13: 0.38 | AQ13: =IF(P13="材質劣化",2,IF(P13="漏水",3,1)) -> 2
K14: 4 | L14: 覆工 | N14: 横断目地（右側） | P14: 材質劣化 | R14: うき・はく離 | U14: Ⅱb | W14: Ⅰ | AK14: 補修済 | AQ14: =IF(P14="材質劣化",2,IF(P14="漏水",3,1)) -> 2
AQ15: =IF(P15="材質劣化",2,IF(P15="漏水",3,1)) -> 1
AQ16: =IF(P16="材質劣化",2,IF(P16="漏水",3,1)) -> 1
AQ17: =IF(P17="材質劣化",2,IF(P17="漏水",3,1)) -> 1
AQ18: =IF(P18="材質劣化",2,IF(P18="漏水",3,1)) -> 1
AQ19: =IF(P19="材質劣化",2,IF(P19="漏水",3,1)) -> 1
AQ20: =IF(P20="材質劣化",2,IF(P20="漏水",3,1)) -> 1
AQ21: =IF(P21="材質劣化",2,IF(P21="漏水",3,1)) -> 1
AQ22: =IF(P22="材質劣化",2,IF(P22="漏水",3,1)) -> 1
AQ23: =IF(P23="材質劣化",2,IF(P23="漏水",3,1)) -> 1
AQ24: =IF(P24="材質劣化",2,IF(P24="漏水",3,1)) -> 1
AQ25: =IF(P25="材質劣化",2,IF(P25="漏水",3,1)) -> 1
AQ26: =IF(P26="材質劣化",2,IF(P26="漏水",3,1)) -> 1
AQ27: =IF(P27="材質劣化",2,IF(P27="漏水",3,1)) -> 1
AQ28: =IF(P30="材質劣化",2,IF(P30="漏水",3,1)) -> 1
AQ29: =IF(P34="材質劣化",2,IF(P34="漏水",3,1)) -> 1
AQ30: =IF(P30="材質劣化",2,IF(P30="漏水",3,1)) -> 1
AQ31: =IF(P33="材質劣化",2,IF(P33="漏水",3,1)) -> 1
AQ32: =IF(P37="材質劣化",2,IF(P37="漏水",3,1)) -> 1
AQ33: =IF(P33="材質劣化",2,IF(P33="漏水",3,1)) -> 1
AQ34: =IF(P36="材質劣化",2,IF(P36="漏水",3,1)) -> 1
K35: 集計 判定 診断 | L35: 変状の発生規模合計(㎡) | Y35: － | AC35: =SUM(AC11:AC34) -> 0 | AD35: =SUM(AD11:AD34) -> 0 | AE35: =SUM(AE11:AE34) -> 0 | AF35: =SUM(AF11:AF34) -> 0.43 | AG35: =SUM(AG11:AG34) -> 0 | AH35: =SUM(AH11:AH34) -> 0 | AI35: =SUM(AI11:AI34) -> 0 | AJ35: =SUM(AJ11:AJ34) -> 0 | AK35: 覆工スパン単位の 健全性の 診断の区分 | AM35: Ⅱ
L36: 対策区分の 判定結果 | O36: 対策区分毎の変状数注3 | Y36: Ⅳ | Z36: Ⅲ | AA36: Ⅱa | AB36: Ⅱb | AC36: Ⅳ | AD36: Ⅲ | AE36: Ⅱa | AF36: Ⅱb | AG36: Ⅳ | AH36: Ⅲ | AI36: Ⅱa | AJ36: Ⅱb
Y37: =IF(COUNTIF(Y11:Y34,"〇")>0,1,0) -> 0 | Z37: =IF(COUNTIF(Z11:Z34,"〇")>0,1,0) -> 0 | AA37: =IF(COUNTIF(AA11:AA34,"〇")>0,1,0) -> 0 | AB37: =IF(COUNTIF(AB11:AB34,"〇")>0,1,0) -> 0 | AC37: =COUNTA(AC11:AC34) -> 0 | AD37: =COUNTA(AD11:AD34) -> 0 | AE37: =COUNTA(AE11:AE34) -> 0 | AF37: =COUNTA(AF11:AF34) -> 2 | AG37: =COUNTA(AG11:AG34) -> 0 | AH37: =COUNTA(AH11:AH34) -> 0 | AI37: =COUNTA(AI11:AI34) -> 0 | AJ37: =COUNTA(AJ11:AJ34) -> 0
K39: 所見 | L39: 変状の一部は補修されている。 未補修の変状は顕著な進行はみられないが、監視により状況を見て補修することが望ましい。
K43: 注1：誤記入防止のため、当該変状区分以外のセルは灰色表示とすること。
K44: 注2：応急措置を実施した場合は、その詳細を備考に記載すること。
K45: 注3：外力は覆工スパン単位、材質劣化、漏水は変状単位とすること。
B46: （以下、印刷不要）
B47: ※1：本シートは作成洩れのないよう、変状が無くても全スパン分を作成すること．また変状展開図は、様式D-2-1、様式D-2-1'と同じものを覆工スパン単位で拡大し掲載すること。
B48: ※2：変状番号は、様式D-1-1で記入した番号と整合させること。
B49: ※3：対策区分毎の変状発生規模は、様式D-1-1に記載した面積を記入すること（ただし外力はスパン単位で評価するため変状の有無の欄には面積でなく○を記入し、備考欄に状況を記入）。
B50: ※4：本様式は覆工スパン毎に作成すること。
B51: ※5：変状数が多い場合は、適時、表の行を増やして覆工スパン毎に1枚のシートに収めること。また、1スパン１シートとし、スパンに合わせてシートを追加すること。
B52: ※6：対策区分毎の変状の発生範囲の規模とは，対策を行う際に参考となる変状の長さや面積であり，変状を包含する長さや面積とする。
B53: ※7：対策範囲を示す発生範囲の規模を面積で記入することが妥当ではない変状は、発生範囲の規模の欄に○を記入するとともに、備考に内容を記入すること。

Sheet 様式D-3_S02
AU1: 様式F用→ | AV1: 覆工スパン | AY1: 変 状 数 | BK1: 変 状 規 模
AV2: 番号 | AW2: 延長 （ｍ） | AX2: 健全性の診断の 区分 | AY2: 対策区分の判定 | BK2: 覆工スパン長（ｍ） | BO2: 変状の発生範囲の規模（㎡）
B3: ■定期点検記録様式 覆工スパン別変状詳細展開図 【様式D-3】 | AY3: 外力 | BC3: 材質劣化 | BG3: 漏水 | BK3: 外力 注2 | BO3: 材質劣化 | BS3: 漏水
B4: フリガナ | E4: ='様式A-1'!D3 -> コンピラトンネル | K4: 路線名 | N4: ='様式A-1'!J3 -> 福浦港金比羅線 | T4: 定期点検実施者 | Y4: ='様式B (1)'!S3 -> アジア航測株式会社 | AG4: 定期点検年月日 | AK4: ='様式B (1)'!P2 -> 45903 | AY4: Ⅳ | AZ4: Ⅲ | BA4: Ⅱa | BB4: Ⅱb | BC4: Ⅳ | BD4: Ⅲ | BE4: Ⅱa | BF4: Ⅱb | BG4: Ⅳ | BH4: Ⅲ | BI4: Ⅱa | BJ4: Ⅱb | BK4: Ⅳ | BL4: Ⅲ | BM4: Ⅱa | BN4: Ⅱb | BO4: Ⅳ | BP4: Ⅲ | BQ4: Ⅱa | BR4: Ⅱb | BS4: Ⅳ | BT4: Ⅲ | BU4: Ⅱa | BV4: Ⅱb
B5: 名 称 | E5: ='様式A-1'!D4 -> 金比羅トンネル | K5: 管理者名 | N5: ='様式A-1'!R3 -> 山口県 下関土木建築事務所 | Y5: ='様式B (1)'!S4 -> 飯田 琢巳 | AV5: =N7 -> S2 | AW5: =R7 -> 9 | AX5: =AM35 -> Ⅱ | AY5: =Y37 -> 0 | AZ5: =Z37 -> 0 | BA5: =AA37 -> 0 | BB5: =AB37 -> 1 | BC5: =AC37 -> 0 | BD5: =AD37 -> 0 | BE5: =AE37 -> 0 | BF5: =AF37 -> 1 | ... BJ5: =AJ37 -> 0 | BK5: =IF(Y37>0,R7,"") | BL5: =IF(Y37>0,"",IF(Z37>0,R7,"")) | BM5: =IF(Y37+Z37>0,"",IF(AA37>0,R7,"")) | BN5: =IF(Y37+Z37+AA37>0,"",IF(AB37>0,R7,"")) -> 9 | BO5: =AC35 -> 0 | BP5: =AD35 -> 0 | BQ5: =AE35 -> 0 | BR5: =AF35 -> 0.58 | BS5: =AG35 -> 0 | BT5: =AH35 -> 0 | BU5: =AI35 -> 0 | BV5: =AJ35 -> 0
B6: スパン別変状展開図 | K6: 【健全性判定集計表】
K7: スパン番号 | N7: S2 | P7: スパン長 | R7: 9 | U7: 前回定期点検時の判定 | W7: 応急措置前の判定 | Y7: 対策区分毎の 変状の有無 | AC7: 対策区分毎の変状の発生範囲の規模(㎡) | AK7: 備考注2
K8: 変状番号 | L8: 対象箇所 | N8: 部位区分 | P8: 変状区分 | R8: 変状種類
Y9: 外力注1 | AC9: 材質劣化注1 | AG9: 漏水注1
Y10: Ⅳ | Z10: Ⅲ | AA10: Ⅱa | AB10: Ⅱb | AC10: Ⅳ | AD10: Ⅲ | AE10: Ⅱa | AF10: Ⅱb | AG10: Ⅳ | AH10: Ⅲ | AI10: Ⅱa | AJ10: Ⅱb
K11: 1 | L11: 覆工 | N11: アーチ（左側） | P11: 材質劣化 | R11: 圧ざ、ひび割れ | U11: Ⅱb | W11: Ⅱb | AF11: 0.58 | AQ11: =IF(P11="材質劣化",2,IF(P11="漏水",3,1)) -> 2 | AS11: =IF(Y11<>"",1,"")
K12: 2 | L12: 覆工 | N12: アーチ（天端） | P12: 材質劣化 | R12: うき・はく離 | U12: Ⅱb | W12: Ⅰ | AK12: 補修済 | AQ12: =IF(P12="材質劣化",2,IF(P12="漏水",3,1)) -> 2
K13: 3 | L13: 覆工 | N13: アーチ（左側） | P13: 材質劣化 | R13: うき・はく離 | U13: Ⅲ | W13: Ⅰ | AK13: 補修済 | AQ13: =IF(P13="材質劣化",2,IF(P13="漏水",3,1)) -> 2
K14: 4 | L14: 覆工 | N14: アーチ（左側） | P14: 材質劣化 | R14: うき・はく離 | U14: Ⅲ | W14: Ⅰ | AK14: 補修済 | AQ14: =IF(P14="材質劣化",2,IF(P14="漏水",3,1)) -> 2
K15: 5 | L15: 覆工 | N15: アーチ（左側） | P15: 材質劣化 | R15: うき・はく離 | U15: Ⅲ | W15: Ⅰ | AK15: 補修済 | AQ15: =IF(P15="材質劣化",2,IF(P15="漏水",3,1)) -> 2
K16: 6 | L16: 覆工 | N16: アーチ（左側） | P16: 材質劣化 | R16: うき・はく離 | U16: Ⅲ | W16: Ⅰ | AK16: 補修済 | AQ16: =IF(P16="材質劣化",2,IF(P16="漏水",3,1)) -> 2
K17: 7 | L17: 覆工 | N17: 横断目地（左側） | P17: 材質劣化 | R17: うき・はく離 | U17: Ⅲ | W17: Ⅰ | AK17: 補修済 | AQ17: =IF(P17="材質劣化",2,IF(P17="漏水",3,1)) -> 2
K18: 8 | L18: 覆工 | N18: アーチ（右側） | P18: 外力 | R18: 変形・移動 | U18: Ⅱb | W18: Ⅱb | AB18: 〇 | AK18: 段差14mm | AQ18: =IF(P18="材質劣化",2,IF(P18="漏水",3,1)) -> 1
K19: 9 | L19: 覆工 | N19: アーチ（天端） | P19: 材質劣化 | R19: うき・はく離 | U19: Ⅱb | W19: Ⅰ | AK19: 補修済 | AQ19: =IF(P19="材質劣化",2,IF(P19="漏水",3,1)) -> 2
K20: 10 | L20: 覆工 | N20: アーチ（天端） | P20: 材質劣化 | R20: うき・はく離 | U20: Ⅱb | W20: Ⅰ | AK20: 補修済 | AQ20: =IF(P20="材質劣化",2,IF(P20="漏水",3,1)) -> 2
K21: 11 | L21: 覆工 | N21: アーチ（天端） | P21: 材質劣化 | R21: うき・はく離 | U21: Ⅲ | W21: Ⅰ | AK21: 補修済 | AQ21: =IF(P21="材質劣化",2,IF(P21="漏水",3,1)) -> 2
K22: 12 | L22: 覆工 | N22: アーチ（天端） | P22: 材質劣化 | R22: うき・はく離 | U22: Ⅱb | W22: Ⅰ | AK22: 補修済 | AQ22: =IF(P22="材質劣化",2,IF(P22="漏水",3,1)) -> 2
AQ23: =IF(P23="材質劣化",2,IF(P23="漏水",3,1)) -> 1
AQ24: =IF(P24="材質劣化",2,IF(P24="漏水",3,1)) -> 1
AQ25: =IF(P25="材質劣化",2,IF(P25="漏水",3,1)) -> 1
AQ26: =IF(P26="材質劣化",2,IF(P26="漏水",3,1)) -> 1
AQ27: =IF(P27="材質劣化",2,IF(P27="漏水",3,1)) -> 1
AQ28: =IF(P30="材質劣化",2,IF(P30="漏水",3,1)) -> 1
AQ29: =IF(P34="材質劣化",2,IF(P34="漏水",3,1)) -> 1
AQ30: =IF(P30="材質劣化",2,IF(P30="漏水",3,1)) -> 1
AQ31: =IF(P33="材質劣化",2,IF(P33="漏水",3,1)) -> 1
AQ32: =IF(P37="材質劣化",2,IF(P37="漏水",3,1)) -> 1
AQ33: =IF(P33="材質劣化",2,IF(P33="漏水",3,1)) -> 1
AQ34: =IF(P36="材質劣化",2,IF(P36="漏水",3,1)) -> 1
K35: 集計 判定 診断 | L35: 変状の発生規模合計(㎡) | Y35: － | AC35: =SUM(AC11:AC34) -> 0 | AD35: =SUM(AD11:AD34) -> 0 | AE35: =SUM(AE11:AE34) -> 0 | AF35: =SUM(AF11:AF34) -> 0.58 | AG35: =SUM(AG11:AG34) -> 0 | AH35: =SUM(AH11:AH34) -> 0 | AI35: =SUM(AI11:AI34) -> 0 | AJ35: =SUM(AJ11:AJ34) -> 0 | AK35: 覆工スパン単位の 健全性の 診断の区分 | AM35: Ⅱ
L36: 対策区分の 判定結果 | O36: 対策区分毎の変状数注3 | Y36: Ⅳ | Z36: Ⅲ | AA36: Ⅱa | AB36: Ⅱb | AC36: Ⅳ | AD36: Ⅲ | AE36: Ⅱa | AF36: Ⅱb | AG36: Ⅳ | AH36: Ⅲ | AI36: Ⅱa | AJ36: Ⅱb
Y37: =IF(COUNTIF(Y11:Y34,"〇")>0,1,0) -> 0 | Z37: =IF(COUNTIF(Z11:Z34,"〇")>0,1,0) -> 0 | AA37: =IF(COUNTIF(AA11:AA34,"〇")>0,1,0) -> 0 | AB37: =IF(COUNTIF(AB11:AB34,"〇")>0,1,0) -> 1 | AC37: =COUNTA(AC11:AC34) -> 0 | AD37: =COUNTA(AD11:AD34) -> 0 | AE37: =COUNTA(AE11:AE34) -> 0 | AF37: =COUNTA(AF11:AF34) -> 1 | AG37: =COUNTA(AG11:AG34) -> 0 | AH37: =COUNTA(AH11:AH34) -> 0 | AI37: =COUNTA(AI11:AI34) -> 0 | AJ37: =COUNTA(AJ11:AJ34) -> 0
K39: 所見 | L39: 変状は概ね補修されている。 段差が見られるため、監視にて進行を確認していく必要がある。
K43: 注1：誤記入防止のため、当該変状区分以外のセルは灰色表示とすること。
K44: 注2：応急措置を実施した場合は、その詳細を備考に記載すること。
K45: 注3：外力は覆工スパン単位、材質劣化、漏水は変状単位とすること。
B46: （以下、印刷不要）
B47: ※1：本シートは作成洩れのないよう、変状が無くても全スパン分を作成すること．また変状展開図は、様式D-2-1、様式D-2-1'と同じものを覆工スパン単位で拡大し掲載すること。
B48: ※2：変状番号は、様式D-1-1で記入した番号と整合させること。
B49: ※3：対策区分毎の変状発生規模は、様式D-1-1に記載した面積を記入すること（ただし外力はスパン単位で評価するため変状の有無の欄には面積でなく○を記入し、備考欄に状況を記入）。
B50: ※4：本様式は覆工スパン毎に作成すること。
B51: ※5：変状数が多い場合は、適時、表の行を増やして覆工スパン毎に1枚のシートに収めること。また、1スパン１シートとし、スパンに合わせてシートを追加すること。
B52: ※6：対策区分毎の変状の発生範囲の規模とは，対策を行う際に参考となる変状の長さや面積であり，変状を包含する長さや面積とする。
B53: ※7：対策範囲を示す発生範囲の規模を面積で記入することが妥当ではない変状は、発生範囲の規模の欄に○を記入するとともに、備考に内容を記入すること。

Sheet 様式D-3_S03
AU1: 様式F用→ | AV1: 覆工スパン | AY1: 変 状 数 | BK1: 変 状 規 模
AV2: 番号 | AW2: 延長 （ｍ） | AX2: 健全性の診断の 区分 | AY2: 対策区分の判定 | BK2: 覆工スパン長（ｍ） | BO2: 変状の発生範囲の規模（㎡）
B3: ■定期点検記録様式 覆工スパン別変状詳細展開図 【様式D-3】 | AY3: 外力 | BC3: 材質劣化 | BG3: 漏水 | BK3: 外力 注2 | BO3: 材質劣化 | BS3: 漏水
B4: フリガナ | E4: ='様式A-1'!D3 -> コンピラトンネル | K4: 路線名 | N4: ='様式A-1'!J3 -> 福浦港金比羅線 | T4: 定期点検実施者 | Y4: ='様式B (1)'!S3 -> アジア航測株式会社 | AG4: 定期点検年月日 | AK4: ='様式B (1)'!P2 -> 45903 | AY4: Ⅳ | AZ4: Ⅲ | BA4: Ⅱa | BB4: Ⅱb | BC4: Ⅳ | BD4: Ⅲ | BE4: Ⅱa | BF4: Ⅱb | BG4: Ⅳ | BH4: Ⅲ | BI4: Ⅱa | BJ4: Ⅱb | BK4: Ⅳ | BL4: Ⅲ | BM4: Ⅱa | BN4: Ⅱb | BO4: Ⅳ | BP4: Ⅲ | BQ4: Ⅱa | BR4: Ⅱb | BS4: Ⅳ | BT4: Ⅲ | BU4: Ⅱa | BV4: Ⅱb
B5: 名 称 | E5: ='様式A-1'!D4 -> 金比羅トンネル | K5: 管理者名 | N5: ='様式A-1'!R3 -> 山口県 下関土木建築事務所 | Y5: ='様式B (1)'!S4 -> 飯田 琢巳 | AV5: =N7 -> S3 | AW5: =R7 -> 9 | AX5: =AM35 -> Ⅱ | AY5: =Y37 -> 0 | AZ5: =Z37 -> 0 | BA5: =AA37 -> 0 | BB5: =AB37 -> 0 | BC5: =AC37 -> 0 | BD5: =AD37 -> 0 | BE5: =AE37 -> 0 | BF5: =AF37 -> 2 | ... BJ5: =AJ37 -> 2 | BK5: =IF(Y37>0,R7,"") | BL5: =IF(Y37>0,"",IF(Z37>0,R7,"")) | BM5: =IF(Y37+Z37>0,"",IF(AA37>0,R7,"")) | BN5: =IF(Y37+Z37+AA37>0,"",IF(AB37>0,R7,"")) | BO5: =AC35 -> 0 | BP5: =AD35 -> 0 | BQ5: =AE35 -> 0 | BR5: =AF35 -> 0.82 | BS5: =AG35 -> 0 | BT5: =AH35 -> 0 | BU5: =AI35 -> 0 | BV5: =AJ35 -> 7.55
B6: スパン別変状展開図 | K6: 【健全性判定集計表】
K7: スパン番号 | N7: S3 | P7: スパン長 | R7: 9 | U7: 前回定期点検時の判定 | W7: 応急措置前の判定 | Y7: 対策区分毎の 変状の有無 | AC7: 対策区分毎の変状の発生範囲の規模(㎡) | AK7: 備考注2
K8: 変状番号 | L8: 対象箇所 | N8: 部位区分 | P8: 変状区分 | R8: 変状種類
Y9: 外力注1 | AC9: 材質劣化注1 | AG9: 漏水注1
Y10: Ⅳ | Z10: Ⅲ | AA10: Ⅱa | AB10: Ⅱb | AC10: Ⅳ | AD10: Ⅲ | AE10: Ⅱa | AF10: Ⅱb | AG10: Ⅳ | AH10: Ⅲ | AI10: Ⅱa | AJ10: Ⅱb
K11: 1 | L11: 覆工 | N11: アーチ（左側） | P11: 材質劣化 | R11: 圧ざ、ひび割れ | U11: Ⅱb | W11: Ⅱb | AF11: 0.34 | AQ11: =IF(P11="材質劣化",2,IF(P11="漏水",3,1)) -> 2 | AS11: =IF(Y11<>"",1,"")
K12: 2 | L12: 覆工 | N12: アーチ（左側） | P12: 材質劣化 | R12: うき・はく離 | U12: Ⅱb | W12: Ⅰ | AK12: 補修済 | AQ12: =IF(P12="材質劣化",2,IF(P12="漏水",3,1)) -> 2
K13: 3 | L13: 覆工 | N13: 横断目地（左側） | P13: 材質劣化 | R13: うき・はく離 | U13: Ⅱb | W13: Ⅰ | AK13: 補修済 | AQ13: =IF(P13="材質劣化",2,IF(P13="漏水",3,1)) -> 2
K14: 4 | L14: 覆工 | N14: アーチ（天端） | P14: 漏水 | R14: 漏水 | U14: Ⅱb | W14: Ⅱb | AJ14: 4.2 | AQ14: =IF(P14="材質劣化",2,IF(P14="漏水",3,1)) -> 3
K15: 5 | L15: 覆工 | N15: 横断目地（天端） | P15: 材質劣化 | R15: うき・はく離 | U15: Ⅱb | W15: Ⅰ | AK15: 補修済 | AQ15: =IF(P15="材質劣化",2,IF(P15="漏水",3,1)) -> 2
K16: 6 | L16: 覆工 | N16: アーチ（天端） | P16: 材質劣化 | R16: うき・はく離 | U16: Ⅱb | W16: Ⅰ | AK16: 補修済 | AQ16: =IF(P16="材質劣化",2,IF(P16="漏水",3,1)) -> 2
K17: 7 | L17: 覆工 | N17: アーチ（右側） | P17: 材質劣化 | R17: 圧ざ、ひび割れ | U17: Ⅱb | W17: Ⅱb | AF17: 0.48 | AQ17: =IF(P17="材質劣化",2,IF(P17="漏水",3,1)) -> 2
K18: 8 | L18: 覆工 | N18: アーチ（右側） | P18: 漏水 | R18: 漏水 | U18: Ⅱb | W18: Ⅱb | AJ18: 3.35 | AQ18: =IF(P18="材質劣化",2,IF(P18="漏水",3,1)) -> 3
AQ19: =IF(P19="材質劣化",2,IF(P19="漏水",3,1)) -> 1
AQ20: =IF(P20="材質劣化",2,IF(P20="漏水",3,1)) -> 1
AQ21: =IF(P21="材質劣化",2,IF(P21="漏水",3,1)) -> 1
AQ22: =IF(P22="材質劣化",2,IF(P22="漏水",3,1)) -> 1
AQ23: =IF(P23="材質劣化",2,IF(P23="漏水",3,1)) -> 1
AQ24: =IF(P24="材質劣化",2,IF(P24="漏水",3,1)) -> 1
AQ25: =IF(P25="材質劣化",2,IF(P25="漏水",3,1)) -> 1
AQ26: =IF(P26="材質劣化",2,IF(P26="漏水",3,1)) -> 1
AQ27: =IF(P27="材質劣化",2,IF(P27="漏水",3,1)) -> 1
AQ28: =IF(P30="材質劣化",2,IF(P30="漏水",3,1)) -> 1
AQ29: =IF(P34="材質劣化",2,IF(P34="漏水",3,1)) -> 1
AQ30: =IF(P30="材質劣化",2,IF(P30="漏水",3,1)) -> 1
AQ31: =IF(P33="材質劣化",2,IF(P33="漏水",3,1)) -> 1
AQ32: =IF(P37="材質劣化",2,IF(P37="漏水",3,1)) -> 1
AQ33: =IF(P33="材質劣化",2,IF(P33="漏水",3,1)) -> 1
AQ34: =IF(P36="材質劣化",2,IF(P36="漏水",3,1)) -> 1
