Workbook
Name その他: '(参考)リスト'!$C$45
Name その他施設: '(参考)リスト'!$C$76:$C$80
Name 外力: '(参考)リスト'!$E$16:$E$23
Name 換気施設: '(参考)リスト'!$C$55:$C$59
Name 坑門: '(参考)リスト'!$C$16:$C$29
Name 材質劣化: '(参考)リスト'!$E$25:$E$30
Name 照明施設: '(参考)リスト'!$C$51:$C$53
Name 対象箇所: [1]!テーブル1[対象箇所]
Name 対象箇所: [2]!テーブル1[対象箇所]
Name 対象箇所: [3]!テーブル1[対象箇所]
Name 対象箇所: [3]!テーブル1[対象箇所]
Name 対象箇所: [3]!テーブル1[対象箇所]
Name 対象箇所: [3]!テーブル1[対象箇所]
Name 対象箇所: [3]!テーブル1[対象箇所]
Name 対象箇所: [3]!テーブル1[対象箇所]
Name 対象箇所: [3]!テーブル1[対象箇所]
Name 対象箇所: [3]!テーブル1[対象箇所]
Name 対象箇所: [3]!テーブル1[対象箇所]
Name 対象箇所: [3]!テーブル1[対象箇所]
Name 対象箇所: [3]!テーブル1[対象箇所]
Name 対象箇所: [4]!テーブル1[対象箇所]
Name 対象箇所: [5]!テーブル1[対象箇所]
Name 対象箇所: [6]!テーブル1[対象箇所]
Name 対象箇所: [6]!テーブル1[対象箇所]
Name 対象箇所: [6]!テーブル1[対象箇所]
Name 対象箇所: [6]!テーブル1[対象箇所]
Name 対象箇所: [6]!テーブル1[対象箇所]
Name 対象箇所: [6]!テーブル1[対象箇所]
Name 対象箇所: [6]!テーブル1[対象箇所]
Name 対象箇所: [6]!テーブル1[対象箇所]
Name 対象箇所: [6]!テーブル1[対象箇所]
Name 対象箇所: [6]!テーブル1[対象箇所]
Name 対象箇所: [6]!テーブル1[対象箇所]
Name 対象箇所: [6]!テーブル1[対象箇所]
Name 対象箇所: [6]!テーブル1[対象箇所]
Name 対象箇所: [6]!テーブル1[対象箇所]
Name 対象箇所: [6]!テーブル1[対象箇所]
Name 対象箇所: [6]!テーブル1[対象箇所]
Name 対象箇所: [6]!テーブル1[対象箇所]
Name 対象箇所: [6]!テーブル1[対象箇所]
Name 対象箇所: テーブル1[対象箇所]
Name 天井板: '(参考)リスト'!$C$34:$C$36
Name 内装板: '(参考)リスト'!$C$31:$C$32
Name 非常用施設: '(参考)リスト'!$C$61:$C$74
Name 覆工: '(参考)リスト'!$C$16:$C$29
Name 覆工・坑門: '(参考)リスト'!$C$16:$C$29
Name 路面: '(参考)リスト'!$C$38:$C$43
Name 漏水: '(参考)リスト'!$E$32:$E$38

Sheet 様式A-1
B2: ■トンネル台帳 トンネル諸元、非常用施設諸元 【様式A-1】 | S2: トンネルID
B3: フリガナ | D3: ヤクオウジトンネル | H3: 路線名 | J3: 一般国道435号 | P3: 管理者名 | R3: 山口県宇部土木建築事務所 | W3: 緊急輸送道路 | Z3: 有
B4: 名 称 | D4: 薬王寺トンネル | W4: 代替路の有無 | Z4: 有
B5: 所在地 | D5: 自 | E5: 山口県美祢市美東町綾木 | H5: 作成者 | K5: 応用地質株式会社 | P5: 作成年月日 | R5: 44952 | U5: トンネル延長 | X5: L= | Z5: 165 | AB5: ｍ
D6: 至 | E6: 山口県美祢市美東町綾木 | U6: ﾄﾝﾈﾙの分類 | X6: 陸上トンネル（掘進工法）
B7: 起点 | C7: 緯度 | E7: 341244.9 | H7: 完成年月日 | K7: 平成4年 | M7: 舗装 | O7: 種 別 | Q7: コンクリート系 | S7: トンネル非常用施設 | T7: 施設の内訳 | X7: 種別・方式 | Y7: 型式 | Z7: 個数 | AA7: 更新年度 | AE7: =INT(E7/10000) -> 34 | AF7: =INT(E7/100)-AE7*100 -> 12 | AG7: =E7-AE7*10000-AF7*100 -> 44.9 | AH7: =ROUND(AE7+AF7/60+AG7/60/60,5) -> 34.21247 | AI7: =TEXT(AH7,"0.00000") -> 34.21247
C8: 経度 | E8: 1312210.7 | H8: 供用年月日 | O8: 厚 さ | T8: 通報設備 | U8: 通話型通報設備 | Z8: * | AE8: =INT(E8/10000) -> 131 | AF8: =INT(E8/100)-AE8*100 -> 22 | AG8: =E8-AE8*10000-AF8*100 -> 10.7 | AH8: =ROUND(AE8+AF8/60+AG8/60/60,5) -> 131.36964 | AI8: =TEXT(AH8,"0.00000") -> 131.36964
B9: 終点 | C9: 緯度 | E9: 341241 | H9: トンネル区分 | K9: D | O9: 面 積 | U9: 操作型通報設備 | Z9: *
C10: 経度 | E10: 1312206.8 | H10: 内装種類 | K10: 覆工（内装なし） | O10: 更新年次 | U10: 自動通報設備 | Z10: *
B11: 一般有料区分 | E11: 無料 | H11: 天井板種類 | K11: 覆工（内装なし） | M11: 排水 | O11: 種 別 | T11: 警報設備 | U11: 非常警報設備 | Z11: *
B12: 土かぶり | G12: m | H12: 坑門 | I12: 起点 | J12: 形式 | K12: 面壁型 | O12: 更新年次 | T12: 消火設備 | U12: 消 火 器 | Z12: *
B13: 内空断面積 | E13: 50.7 | G13: ㎡ | J13: 延長 | K13: 0 | L13: m | M13: 施設 | P13: 種別・方式 | Q13: 個数 | R13: 更新年次 | U13: 消火栓設備 | Z13: *
B14: 交 通 量 | E14: 6090 | G14: 台/日 | I14: 終点 | J14: 形式 | K14: 面壁型 | M14: 道路附属物等 | N14: 照明 | P14: LED | Q14: 41 | T14: 避難誘導設備 | U14: 誘導表示設備 | Z14: *
C15: 道 路 幅 | E15: 9.25 | G15: m | J15: 延長 | K15: 0 | L15: m | N15: 換気 | P15: 自然換気 | U15: 避難情報提供設備
B16: 幅 員 | C16: 車 道 幅 | E16: 3 | G16: m | H16: 竣工巻厚 | I16: アーチ | K16: - | L16: cm | N16: 標識
E17: 3 | G17: m | I17: 側 壁 | K17: - | L17: cm | N17: 警報表示板 | U17: 避難通路 | Z17: *
C18: 歩道等幅 | E18: 3.25 | G18: m | K18: - | L18: cm | N18: 吸音板 | U18: 排煙設備 | Z18: *
B19: 高さ | C19: 建築限界高 | E19: - | G19: m | I19: インバート | K19: - | L19: cm | T19: その他の設備 | U19: 給水栓設備 | Z19: *
C20: 中央高 | E20: - | G20: m | H20: 半径 | I20: アーチ | K20: - | L20: cm | U20: 無線通信補助設備 | Z20: *
C21: 有効高 | E21: 4.5 | G21: m | I21: 側 壁 | K21: - | L21: cm | U21: 水噴霧設備 | Z21: *
C22: 縦断勾配 | E22: - | I22: インバート | K22: - | L22: cm | U22: 監視設備 | Z22: *
B23: 線 形 | C23: 直線区間長 | E23: - | H23: 占用物件 | I23: 種 類 | K23: 寸 法 | M23: 管理者名 | Q23: 更新年次 | S23: 非常用施設 関連設備 | U23: 予備発電設備 | Z23: *
C24: 曲線区間 | D24: 区間長 | F24: -
D25: 起点側ｸﾛｿｲﾄﾞ | F25: -
D26: 曲線半径 | F26: -
D27: 終点側ｸﾛｿｲﾄﾞ | F27: - | S27: その他 | U27: 非常駐車帯 | Z27: *
B28: トンネル工法 | E28: 山岳トンネル工法（NATM） | U28: 方向転換所 | Z28: *
C29: ※緯度・経度については、秒の少数第二位の単位まで記入すること。（例；36度20分35.56秒の場合、362035.36と入力）

Sheet 様式A-2
B3: ■トンネル台帳 トンネル情報一覧表 【様式A-2】
B4: フリガナ | E4: ヤクオウジトンネル | J4: 路線名 | M4: 一般国道435号 | S4: 作成者 | Y4: 応用地質株式会社 | AE4: 作成年月日 | AI4: 44952
B5: 名 称 | E5: 薬王寺トンネル | J5: 管理者名 | M5: 山口県宇部土木建築事務所
B6: 覆工 ｽﾊﾟﾝ 番号 | C6: ｽﾊﾟﾝ長 | D6: 追加距離 | F6: トンネル本体工 | K6: 照明施設 | O6: 非常用施設 | AE6: 換気施設 | AK6: その他附属物等
O7: ='様式A-1'!T8 -> 通報設備 | R7: ='様式A-1'!T11 -> 警報設備 | S7: ='様式A-1'!T12 -> 消火設備 | U7: ='様式A-1'!T14 -> 避難誘導設備 | Y7: ='様式A-1'!T19 -> その他の設備 | AC7: 特記事項
D8: 起点側 | E8: 終点側 | F8: 特記事項 | I8: 内装板 | J8: 天井板 | K8: 基本照明 | L8: 入口出口照明 | M8: 特記事項 | O8: ='様式A-1'!U8 -> 通話型通報設備 | P8: ='様式A-1'!U9 -> 操作型通報設備 | Q8: ='様式A-1'!U10 -> 自動通報設備 | R8: ='様式A-1'!U11 -> 非常警報設備 | S8: ='様式A-1'!U12 -> 消 火 器 | T8: ='様式A-1'!U13 -> 消火栓設備 | U8: ='様式A-1'!U14 -> 誘導表示設備 | V8: ='様式A-1'!U15 -> 避難情報提供設備 | W8: ='様式A-1'!U17 -> 避難通路 | X8: ='様式A-1'!U18 -> 排煙設備 | Y8: ='様式A-1'!U19 -> 給水栓設備 | Z8: ='様式A-1'!U20 -> 無線通信補助設備 | AA8: ='様式A-1'!U21 -> 水噴霧設備 | AB8: ='様式A-1'!U22 -> 監視設備 | AE8: JF | AF8: VI計 | AG8: CO計 | AH8: 風向 風速計 | AI8: 特記事項
C9: (m) | D9: (m) | E9: (m)
B10: PS | C10: 0 | D10: 0 | E10: 0 | F10: 坑門（面壁型）
B11: 1 | C11: 5.1 | D11: 0 | E11: 5.1
B12: 2 | C12: 10.3 | D12: 5.1 | E12: 15.4 | K12: ○ | L12: ○
B13: 3 | C13: 10.3 | D13: 15.4 | E13: 25.7 | K13: ○ | L13: ○
B14: 4 | C14: 10.3 | D14: 25.7 | E14: 36 | L14: ○
B15: 5 | C15: 10.4 | D15: 36 | E15: 46.4 | K15: ○ | L15: ○
B16: 6 | C16: 10.3 | D16: 46.4 | E16: 56.7 | L16: ○
B17: 7 | C17: 10.3 | D17: 56.7 | E17: 67 | K17: ○ | L17: ○
B18: 8 | C18: 10.3 | D18: 67 | E18: 77.3 | L18: ○
B19: 9 | C19: 10.3 | D19: 77.3 | E19: 87.6 | K19: ○ | L19: ○
B20: 10 | C20: 10.3 | D20: 87.6 | E20: 97.9 | L20: ○
B21: 11 | C21: 10.3 | D21: 97.9 | E21: 108.2 | K21: ○ | L21: ○
B22: 12 | C22: 10.3 | D22: 108.2 | E22: 118.5 | L22: ○
B23: 13 | C23: 10.3 | D23: 118.5 | E23: 128.8 | K23: ○ | L23: ○
B24: 14 | C24: 10.3 | D24: 128.8 | E24: 139.1 | L24: ○
B25: 15 | C25: 10.3 | D25: 139.1 | E25: 149.4 | K25: ○ | L25: ○
B26: 16 | C26: 10.5 | D26: 149.4 | E26: 159.9 | K26: ○ | L26: ○
B27: 17 | C27: 5.1 | D27: 159.9 | E27: 165
B28: PE | C28: 0 | D28: 165 | E28: 165 | F28: 坑門（面壁型）
B50: ※ 行が不足する場合は、適時、表の行を増やすこと。

Sheet 様式A-3
B3: ■トンネル台帳 トンネル記録（位置図、断面図、施工実績他）【様式A-3】
B4: フリガナ | E4: ヤクオウジトンネル | J4: 路線名 | M4: 一般国道435号 | S4: 作成者 | W4: 応用地質株式会社 | AC4: 作成年月日 | AF4: 44952
B5: 名 称 | E5: 薬王寺トンネル | J5: 管理者名 | M5: 山口県宇部土木建築事務所
B6: 位置図・現況写真・標準断面図・地質縦断図・施工実績
B20: ■トンネル台帳 トンネル記録（位置図、断面図、施工実績他）【様式A-3】
B21: フリガナ | E21: ヤクオウジトンネル | J21: 路線名 | M21: 一般国道435号 | S21: 作成者 | W21: 応用地質株式会社 | AC21: 作成年月日 | AF21: 44952
B22: 名 称 | E22: 薬王寺トンネル | J22: 管理者名 | M22: 山口県宇部土木建築事務所
B23: 位置図・現況写真・標準断面図・地質縦断図・施工実績

Sheet 様式B(トンネル様式1P001)
B2: ■定期点検記録様式 トンネル変状・異常箇所写真位置図 【様式B】 | T2: トンネルID | AA2: Ⅰ | AB2: あり | AC2: 陸上トンネル 掘進工法
B3: フリガナ | D3: ヤクオウジトンネル | H3: 路線名 | J3: 一般国道435号 | N3: 管理者名 | P3: 山口県宇部土木建築事務所 | T3: 緊急輸送道路 | V3: あり | AA3: Ⅱ | AB3: なし | AC3: 陸上トンネル 開削工法
B4: 名 称 | D4: 薬王寺トンネル | T4: 代替路の有無 | V4: あり | AA4: Ⅲ | AC4: 陸上トンネル その他
B5: 所在地 | D5: 自 | E5: 山口県美祢市美東町綾木 | H5: 定期点検業者 | K5: 応用地質株式会社 | O5: 定期点検年月日 | Q5: 44862 | T5: トンネル延長 | V5: L= | W5: 165 | Y5: ｍ | AA5: Ⅳ | AC5: 水底トンネル 掘進工法
D6: 至 | E6: 山口県美祢市美東町綾木 | H6: 定期点検者名 | K6: 太田 裕之 | T6: ﾄﾝﾈﾙの分類 | V6: 陸上トンネル（掘進工法） | AC6: 水底トンネル 沈埋工法
B7: 起点 | C7: 緯度 | D7: 34°12′44.90″ | F7: 変状・異常 箇所数合計 | H7: トンネル 本体工 | J7: 材質劣化 | L7: Ⅱ | M7: 9 | N7: Ⅲ | O7: 0 | P7: Ⅳ | Q7: 0 | R7: トンネル毎 の健全性 | T7: Ⅱ | V7: 附属物の 取付状態 | W7: ◯ （応急措置後） | Y7: 0 | AC7: 水底トンネル 開削工法
AC8: 水底トンネル その他
C10: 経度 | D10: 131°22′10.70″
J11: 漏水 | L11: Ⅱ | M11: 0 | N11: Ⅲ | O11: 0 | P11: Ⅳ | Q11: 0
B13: 終点 | C13: 緯度 | D13: 34°12′41.00″ | W13: ✕ | Y13: 0
J15: 外力 | L15: Ⅱ | M15: 0 | N15: Ⅲ | O15: 0 | P15: Ⅳ | Q15: 0 | AC15: 0
C16: 経度 | D16: 131°22′06.80″
B19: トンネル変状・異常箇所写真位置図
P26: 注１：本位置図は、見下げた状態で記載すること。 注２：覆工スパン番号は横断目地毎(矢板工法の場合は上半アーチ の横断目地毎)に設定すること。 注３：写真番号に付する変状番号は、各覆工スパンの変状に対して新た に確認された場合は順次追加していくこと。 注４：横断目地の変状は前の覆工スパン番号で計上すること。 注５：１枚に収まらない場合は、複数枚に分けて作成すること。
C28: ※1 トンネル本体工の変状数は、材質劣化、漏水に起因するものは変状単位で、外力に起因するものはスパン単位で計上すること。
C29: ※2 本体工の変状に対しては、健全性の判定区分Ⅱ～Ⅳについて添付すること。また、点検前に実施された措置によりⅠと判定された箇所も添付すること。
C30: ※3 附属物の取付状態の○欄については、応急措置前に判定区分×とした箇所のうち応急措置により○判定とした箇所の数を記入すること。
C31: ※4 附属物の異常番号は、本体工と番号が重複しないよう101番以降とする等の配慮を行い、分かりやすく記録すること。
B33: ■定期点検記録様式 トンネル変状・異常箇所写真位置図 【様式B】 | T33: トンネルID | AA33: Ⅰ | AB33: あり | AC33: 陸上トンネル 掘進工法
B34: フリガナ | D34: ヤクオウジトンネル | H34: 路線名 | J34: 一般国道435号 | N34: 管理者名 | P34: 山口県宇部土木建築事務所 | T34: 緊急輸送道路 | V34: あり | AA34: Ⅱ | AB34: なし | AC34: 陸上トンネル 開削工法
B35: 名 称 | D35: 薬王寺トンネル | T35: 代替路の有無 | V35: あり | AA35: Ⅲ | AC35: 陸上トンネル その他
B36: 所在地 | D36: 自 | E36: 山口県美祢市美東町綾木 | H36: 定期点検業者 | K36: 応用地質株式会社 | O36: 定期点検年月日 | Q36: 44862 | T36: トンネル延長 | V36: L= | W36: 165 | Y36: ｍ | AA36: Ⅳ | AC36: 水底トンネル 掘進工法
D37: 至 | E37: 山口県美祢市美東町綾木 | H37: 定期点検者名 | K37: 太田 裕之 | T37: ﾄﾝﾈﾙの分類 | V37: 陸上トンネル（掘進工法） | AC37: 水底トンネル 沈埋工法
B38: 起点 | C38: 緯度 | D38: 34°12′44.90″ | F38: 変状・異常 箇所数合計 | H38: トンネル 本体工 | J38: 材質劣化 | L38: Ⅱ | M38: 9 | N38: Ⅲ | O38: 0 | P38: Ⅳ | Q38: 0 | R38: トンネル毎 の健全性 | T38: Ⅱ | V38: 附属物の 取付状態 | W38: ◯ （応急措置後） | Y38: 0 | AC38: 水底トンネル 開削工法
AC39: 水底トンネル その他
C41: 経度 | D41: 131°22′10.70″
J42: 漏水 | L42: Ⅱ | M42: 0 | N42: Ⅲ | O42: 0 | P42: Ⅳ | Q42: 0
B44: 終点 | C44: 緯度 | D44: 34°12′41.00″ | W44: ✕ | Y44: 0
J46: 外力 | L46: Ⅱ | M46: 0 | N46: Ⅲ | O46: 0 | P46: Ⅳ | Q46: 0 | AC46: 0
C47: 経度 | D47: 131°22′06.80″
B50: トンネル変状・異常箇所写真位置図
P57: 注１：本位置図は、見下げた状態で記載すること。 注２：覆工スパン番号は横断目地毎(矢板工法の場合は上半アーチ の横断目地毎)に設定すること。 注３：写真番号に付する変状番号は、各覆工スパンの変状に対して新た に確認された場合は順次追加していくこと。 注４：横断目地の変状は前の覆工スパン番号で計上すること。 注５：１枚に収まらない場合は、複数枚に分けて作成すること。
C59: ※1 トンネル本体工の変状数は、材質劣化、漏水に起因するものは変状単位で、外力に起因するものはスパン単位で計上すること。
C60: ※2 本体工の変状に対しては、健全性の判定区分Ⅱ～Ⅳについて添付すること。また、点検前に実施された措置によりⅠと判定された箇所も添付すること。
C61: ※3 附属物の取付状態の○欄については、応急措置前に判定区分×とした箇所のうち応急措置により○判定とした箇所の数を記入すること。
C62: ※4 附属物の異常番号は、本体工と番号が重複しないよう101番以降とする等の配慮を行い、分かりやすく記録すること。
B64: ■定期点検記録様式 トンネル変状・異常箇所写真位置図 【様式B】 | T64: トンネルID | AA64: Ⅰ | AB64: あり | AC64: 陸上トンネル 掘進工法
B65: フリガナ | D65: ヤクオウジトンネル | H65: 路線名 | J65: 一般国道435号 | N65: 管理者名 | P65: 山口県宇部土木建築事務所 | T65: 緊急輸送道路 | V65: あり | AA65: Ⅱ | AB65: なし | AC65: 陸上トンネル 開削工法
B66: 名 称 | D66: 薬王寺トンネル | T66: 代替路の有無 | V66: あり | AA66: Ⅲ | AC66: 陸上トンネル その他
B67: 所在地 | D67: 自 | E67: 山口県美祢市美東町綾木 | H67: 定期点検業者 | K67: 応用地質株式会社 | O67: 定期点検年月日 | Q67: 44862 | T67: トンネル延長 | V67: L= | W67: 165 | Y67: ｍ | AA67: Ⅳ | AC67: 水底トンネル 掘進工法
D68: 至 | E68: 山口県美祢市美東町綾木 | H68: 定期点検者名 | K68: 太田 裕之 | T68: ﾄﾝﾈﾙの分類 | V68: 陸上トンネル（掘進工法） | AC68: 水底トンネル 沈埋工法
B69: 起点 | C69: 緯度 | D69: 34°12′44.90″ | F69: 変状・異常 箇所数合計 | H69: トンネル 本体工 | J69: 材質劣化 | L69: Ⅱ | M69: 9 | N69: Ⅲ | O69: 0 | P69: Ⅳ | Q69: 0 | R69: トンネル毎 の健全性 | T69: Ⅱ | V69: 附属物の 取付状態 | W69: ◯ （応急措置後） | Y69: 0 | AC69: 水底トンネル 開削工法
AC70: 水底トンネル その他
C72: 経度 | D72: 131°22′10.70″
J73: 漏水 | L73: Ⅱ | M73: 0 | N73: Ⅲ | O73: 0 | P73: Ⅳ | Q73: 0
B75: 終点 | C75: 緯度 | D75: 34°12′41.00″ | W75: ✕ | Y75: 0
J77: 外力 | L77: Ⅱ | M77: 0 | N77: Ⅲ | O77: 0 | P77: Ⅳ | Q77: 0 | AC77: 0
C78: 経度 | D78: 131°22′06.80″
B81: トンネル変状・異常箇所写真位置図
P88: 注１：本位置図は、見下げた状態で記載すること。 注２：覆工スパン番号は横断目地毎(矢板工法の場合は上半アーチ の横断目地毎)に設定すること。 注３：写真番号に付する変状番号は、各覆工スパンの変状に対して新た に確認された場合は順次追加していくこと。 注４：横断目地の変状は前の覆工スパン番号で計上すること。 注５：１枚に収まらない場合は、複数枚に分けて作成すること。
C90: ※1 トンネル本体工の変状数は、材質劣化、漏水に起因するものは変状単位で、外力に起因するものはスパン単位で計上すること。
C91: ※2 本体工の変状に対しては、健全性の判定区分Ⅱ～Ⅳについて添付すること。また、点検前に実施された措置によりⅠと判定された箇所も添付すること。
C92: ※3 附属物の取付状態の○欄については、応急措置前に判定区分×とした箇所のうち応急措置により○判定とした箇所の数を記入すること。
C93: ※4 附属物の異常番号は、本体工と番号が重複しないよう101番以降とする等の配慮を行い、分かりやすく記録すること。

Sheet 様式C-1-1
B2: ■定期点検記録様式 全スパン定期点検結果総括表（トンネル本体工） 【様式C-1-1】
B3: フリガナ | F3: ヤクオウジトンネル | I3: 路線名 | K3: 一般国道435号 | O3: 定期点検業者 | Q3: 応用地質株式会社 | U3: 定期点検年月日 | Y3: 44862
B4: 名 称 | F4: 薬王寺トンネル | I4: 管理者名 | K4: 山口県宇部土木建築事務所 | O4: 定期点検者名 | Q4: 太田 裕之
B5: 定期点検結果 | C5: 覆工 スパン 番号 | E5: 変状 番号 | F5: 距離 （m） | G5: 変状部位 | I5: 変 状 の 内 容 | O5: 前回定期点検時の状態 | Q5: 今回定期点検結果 | U5: 措置履歴 | Z5: 対応方針 ・ 特記事項
O6: 201806
G7: 対象箇所 | H7: 部位区分 | I7: 変状区分 | J7: 変状種類 | M7: 変状の発生範囲の規模 | N7: 前回定期点検時 との比較 | O7: 状態 | P7: 健全性 | Q7: 対策区分 | S7: 調査の 要否 | T7: 措置の 要否 | U7: 実施 | V7: 措置の実施状況
Q8: 応急措置前 | R8: 応急措置後
C9: 3 | E9: 1 | F9: 20.4 | G9: 覆工・坑門 | H9: アーチ（天端） | I9: 材質劣化 | J9: うき・はく離 | M9: 0.05m×0.1m | N9: 対策済み | O9: 対策区分判定Ⅱa | P9: Ⅱ | Q9: － | R9: Ⅰ | S9: 否 | T9: 否 | U9: 済 | V9: はく落防止工(FRPネット) | Z9: －
C10: 3 | E10: 2 | F10: 23.7 | G10: 覆工・坑門 | H10: アーチ（天端） | I10: 材質劣化 | J10: うき・はく離 | M10: 0.05m×0.2m | N10: 対策済み | O10: 対策区分判定Ⅱa | P10: Ⅱ | Q10: － | R10: Ⅰ | S10: 否 | T10: 否 | U10: 済 | V10: はく落防止工(FRPネット) | Z10: －
C11: 3 | E11: 3 | F11: 22.8 | G11: 覆工・坑門 | H11: アーチ（右側） | I11: 材質劣化 | J11: 鋼材腐食 | M11: 0.1m×0.1m | N11: 同程度 | O11: 対策区分判定Ⅱb | P11: Ⅱ | Q11: － | R11: Ⅱb | S11: 否 | T11: 要監視 | U11: 継続 | V11: － | Z11: 日常巡視、防錆剤塗布
C12: 4 | E12: 1 | F12: 36 | G12: 覆工・坑門 | H12: 横断目地（左側） | I12: 材質劣化 | J12: うき・はく離 | M12: 0.4m×0.05m | N12: 同程度 | O12: 対策区分判定Ⅱb | P12: Ⅱ | Q12: － | R12: Ⅱb | S12: 否 | T12: 要監視 | U12: 継続 | V12: － | Z12: 日常巡視、浸透固化材塗布
C13: 4 | E13: 2 | F13: 30.4 | G13: 覆工・坑門 | H13: アーチ（天端） | I13: 材質劣化 | J13: うき・はく離 | M13: 0.2m×0.2m | N13: 対策済み | O13: 対策区分判定Ⅱa | P13: Ⅱ | Q13: － | R13: Ⅰ | S13: 否 | T13: 否 | U13: 済 | V13: はく落防止工(FRPネット) | Z13: －
C14: 4 | E14: 3 | F14: 31.2 | G14: 覆工・坑門 | H14: アーチ（天端） | I14: 材質劣化 | J14: うき・はく離 | M14: 0.05m×0.2m | N14: 対策不足 | O14: 対策区分判定Ⅱa | P14: Ⅱ | Q14: － | R14: Ⅱa | S14: 否 | T14: 要対策 | U14: 未 | V14: はく落防止工(FRPネット) | Z14: 計画的対策(剥落防止対策)
C15: 5 | E15: 1 | F15: 38.9 | G15: 覆工・坑門 | H15: アーチ（天端） | I15: 材質劣化 | J15: うき・はく離 | M15: 0.1m×0.2m | N15: 対策済み | O15: 対策区分判定Ⅱa | P15: Ⅱ | Q15: － | R15: Ⅰ | S15: 否 | T15: 否 | U15: 済 | V15: はく落防止工(FRPネット) | Z15: －
C16: 9 | E16: 1 | F16: 84.4 | G16: 覆工・坑門 | H16: アーチ（天端） | I16: 材質劣化 | J16: うき・はく離 | M16: 0.1m×0.2m他 | N16: 対策済み | O16: 対策区分判定Ⅱa | P16: Ⅱ | Q16: － | R16: Ⅰ | S16: 否 | T16: 否 | U16: 済 | V16: はく落防止工(FRPネット) | Z16: －
C17: 9 | E17: 2 | F17: 77.8 | G17: 覆工・坑門 | H17: アーチ（天端） | I17: 材質劣化 | J17: うき・はく離 | M17: 0.05m×0.2m | N17: 対策済み | O17: 対策区分判定Ⅱa | P17: Ⅱ | Q17: － | R17: Ⅰ | S17: 否 | T17: 否 | U17: 済 | V17: はく落防止工(FRPネット) | Z17: －
C18: 10 | E18: 1 | F18: 97.9 | G18: 覆工・坑門 | H18: 横断目地（左側） | I18: 材質劣化 | J18: うき・はく離 | M18: 0.4m×0.05m他 | N18: 対策済み | O18: 対策区分判定Ⅱb | P18: Ⅱ | Q18: － | R18: Ⅰ | S18: 否 | T18: 否 | U18: 済 | V18: はく落防止工(FRPネット) | Z18: －
C19: 10 | E19: 2 | F19: 88.3 | G19: 覆工・坑門 | H19: アーチ（天端） | I19: 材質劣化 | J19: うき・はく離 | M19: 0.05m×0.25m | N19: 同程度 | O19: 対策区分判定Ⅱa | P19: Ⅱ | Q19: Ⅱa | R19: Ⅰ | S19: 否 | T19: 否 | U19: － | V19: － | Z19: 今回点検時叩き落し実施
C20: 10 | E20: 3 | F20: 92.2 | G20: 覆工・坑門 | H20: アーチ（天端） | I20: 材質劣化 | J20: うき・はく離 | M20: 0.1×0.3m | N20: 対策済み | O20: － | P20: － | Q20: － | R20: Ⅰ | S20: 否 | T20: 否 | U20: 済 | V20: はく落防止工(FRPネット) | Z20: －
... C27: 17 | E27: 1 | F27: 160 | G27: 覆工・坑門 | H27: 横断目地（左側） | I27: 材質劣化 | J27: うき・はく離 | M27: 0.1m×0.05m | N27: 同程度 | O27: 対策区分判定Ⅰ | P27: Ⅰ | Q27: － | R27: Ⅰ | S27: 否 | T27: 否 | U27: － | V27: － | Z27: 前回点検時叩き落し箇所
C28: PE | E28: 1 | F28: 165 | G28: 覆工・坑門 | H28: 面壁・妻壁等 | I28: 材質劣化 | J28: うき・はく離 | M28: 0.15m×0.03m | N28: 新規確認 | O28: － | P28: － | Q28: － | R28: Ⅱb | S28: 否 | T28: 要監視 | U28: 継続 | V28: － | Z28: 日常巡視、浸透固化材塗布
C42: ※ 対策区分（応急措置後）の判定区分Ⅱ～Ⅳについて記入すること。また、点検前に実施された措置によりⅠと判定された変状も記入すること。
C43: ※ 応急措置を実施しないで判定した変状の対策区分は、対策区分の応急措置後の欄に記入すること。
C44: ※ 変状の除去が不完全で、緊急対応が必要な場合は対応方針欄に記入すること。
C45: ※ １区間の覆工に複数の変状がある場合は、変状箇所毎に記入すること。
C46: ※ 措置・監視点検を行った場合には、措置履歴、特記事項に記録を残すこと。（実施年度も記載）
C47: ※ 行が不足する場合は、適時、表の行を増やすこと。

Sheet 様式C-1-2
B2: ■定期点検記録様式 定期点検結果総括表（トンネル内附属物等の取付状態） 【様式C-1-2】
B3: フリガナ | F3: ヤクオウジトンネル | J3: 路線名 | L3: 一般国道435号 | O3: 定期点検業者 | Q3: 応用地質株式会社 | U3: 定期点検年月日 | Y3: 44862
B4: 名 称 | F4: 薬王寺トンネル | J4: 管理者名 | L4: 山口県宇部土木建築事務所 | O4: 定期点検者名 | Q4: 太田 裕之
B5: 定期点検結果 | C5: 覆工 スパン 番号 | E5: 異常 番号 | F5: 距離 （m） | G5: 異常部位 | J5: 異 常 の 内 容 | P5: 定期点検結果 | R5: 応急措置の 実施状況 | X5: 対応方針 ・ 特記事項
G6: 対象箇所 | I6: 部位区分 | J6: 異常種類 | N6: 異常の発生範囲の規模 | P6: 異常判定区分 | R6: 実施 | S6: 応急措置の内容
P7: 応急措置前 | Q7: 応急措置後
C39: ※ 異常判定区分×について記入すること。また、応急措置により○と判定された箇所も記入すること。
C40: ※ 応急措置を実施しないで判定した箇所の異常判定区分は、異常判定区分の応急措置後の欄に記入すること。
C41: ※ 異常の除去が不完全で、緊急対応が必要な場合は対応方針欄に記入すること。
C42: ※ １スパンの覆工に複数の異常がある場合は、異常箇所毎に記入すること。
C43: ※ 行が不足する場合は、適時、表の行を増やすこと。

Sheet 様式C-2
B2: ■定期点検記録様式 状態の把握の内容 【様式C-2】
B3: フリガナ | E3: ヤクオウジトンネル | H3: 路線名 | J3: 一般国道435号 | M3: 定期点検業者 | R3: 応用地質株式会社 | U3: 定期点検年月日 | X3: 44862
B4: 名 称 | E4: 薬王寺トンネル | H4: 管理者名 | J4: 山口県宇部土木建築事務所 | M4: 定期点検者名 | R4: 太田 裕之
B5: 状態の把握の内容 | C5: 覆工スパン 番号 | E5: 変状 番号 | F5: 状態の把握の内容
F6: 年月日 | H6: 内容 | O6: 結果 | W6: 対策区分の 判定 | Y6: 健全性
B22: 注）状態の把握において、微破壊・非破壊検査や各種試験等を実施した場合について記載する。
B23: ※ 行が不足する場合は、適時、表の行を増やすこと。

Sheet 様式D-1-1(トンネル様式2P001)
B2: ■定期点検記録様式 変状写真台帳 | Y2: Ⅰ
B3: フリガナ | D3: ヤクオウジトンネル | H3: 路線名 | J3: 一般国道435号 | M3: 定期点検業者 | P3: 応用地質株式会社 | S3: 定期点検年月日 | U3: 44862 | Y3: Ⅱ
B4: 名 称 | D4: 薬王寺トンネル | H4: 管理者名 | J4: 山口県宇部土木建築事務所 | M4: 定期点検者名 | P4: 太田 裕之 | Y4: Ⅲ
B5: 写真 番号 | C5: 覆工 スパン 番号 | D5: 3 | M5: 写真 番号 | N5: 覆工 スパン 番号 | O5: 3 | Y5: Ⅳ
Y6: －
C7: 変状 番号 | D7: 1 | N7: 変状 番号 | O7: 2
B9: 変状 部位 | C9: 対象 箇所 | D9: 覆工・坑門 | M9: 変状 部位 | N9: 対象 箇所 | O9: 覆工・坑門
C11: 部位 区分 | D11: アーチ（天端） | N11: 部位 区分 | O11: アーチ（天端）
B13: 変状区分 | D13: 材質劣化 | M13: 変状区分 | O13: 材質劣化
B14: 変状種類 | D14: うき・はく離 | M14: 変状種類 | O14: うき・はく離
B15: 健全性 | C15: 応急措置前 | E15: － | M15: 健全性 | N15: 応急措置前 | P15: －
C16: 応急措置後 | E16: Ⅰ | N16: 応急措置後 | P16: Ⅰ
B17: 変状の発生範囲の規模 | E17: 0.05m×0.1m | M17: 変状の発生範囲の規模 | P17: 0.05m×0.2m
B18: 前回定期点検時の状態 | E18: うき0.05m×0.1m(Ⅱa) | M18: 前回定期点検時の状態 | P18: うき0.05m×0.2m(Ⅱa)
B19: 調査方針 | E19: - | M19: 調査方針 | P19: -
B20: 対策履歴 | E20: はく落防止工(FRPネット) | H20: 実施状況（実施日） | J20: - | M20: 対策履歴 | P20: はく落防止工(FRPネット) | S20: 実施状況（実施日） | U20: -
B21: メモ | D21: - | M21: メモ | O21: -
B22: 写真 番号 | C22: 覆工 スパン 番号 | D22: 3 | M22: 写真 番号 | N22: 覆工 スパン 番号
C24: 変状 番号 | D24: 3 | N24: 変状 番号
B26: 変状 部位 | C26: 対象 箇所 | D26: 覆工・坑門 | M26: 変状 部位 | N26: 対象 箇所
C28: 部位 区分 | D28: アーチ（右側） | N28: 部位 区分
B30: 変状区分 | D30: 材質劣化 | M30: 変状区分
B31: 変状種類 | D31: 鋼材腐食 | M31: 変状種類
B32: 健全性 | C32: 応急措置前 | E32: － | M32: 健全性 | N32: 応急措置前
C33: 応急措置後 | E33: Ⅱ | N33: 応急措置後
B34: 変状の発生範囲の規模 | E34: 0.1m×0.1m | M34: 変状の発生範囲の規模
B35: 前回定期点検時の状態 | E35: 同程度 | M35: 前回定期点検時の状態
B36: 調査方針 | E36: - | M36: 調査方針
B37: 対策履歴 | E37: なし | H37: 実施状況（実施日） | J37: - | M37: 対策履歴 | S37: 実施状況（実施日）
B38: メモ | D38: 鋼材露出(深さ30mm)(Ⅱb)、部分的に露出した鋼材(表面的な腐食)に防錆剤塗布、周辺にうきなし | M38: メモ
C39: ※ 健全性（応急措置後）の判定区分Ⅱ～Ⅳについて添付すること。また、点検前に 実施された措置によりⅠと判定された箇所も添付すること。 | N39: ※ 変状の発生範囲の規模とは、対策を行う際に参考となる変状の長さや面積をいう。
N40: ※ 応急措置を実施しないで判定した変状の健全性は、健全性の応急措置後の欄に記入すること。
C41: ※ たたき落としを実施した場合は、実施後の写真を添付すること。 | N41: ※ 変状の発生範囲の規模は、面積・寸法を記載すること。
C42: ※ 附属物の取付状態に関する異常写真は別途、様式D-1-2でとりまとめること。 | N42: (ひび割れ幅のみmmとし、その他をm表記とする)
C43: ※ 変状数に準じてシートを追加すること。（１シートに１ページとすること。） | N43: ※ 構造用鋼材以外の異物に伴ううき・はく離については、メモ欄に異物の概要を記入すること。

Sheet 様式D-1-1(トンネル様式2P001) (2)
B2: ■定期点検記録様式 変状写真台帳 | Y2: Ⅰ
B3: フリガナ | D3: ヤクオウジトンネル | H3: 路線名 | J3: 一般国道435号 | M3: 定期点検業者 | P3: 応用地質株式会社 | S3: 定期点検年月日 | U3: 44862 | Y3: Ⅱ
B4: 名 称 | D4: 薬王寺トンネル | H4: 管理者名 | J4: 山口県宇部土木建築事務所 | M4: 定期点検者名 | P4: 太田 裕之 | Y4: Ⅲ
B5: 写真 番号 | C5: 覆工 スパン 番号 | D5: 4 | M5: 写真 番号 | N5: 覆工 スパン 番号 | O5: 4 | Y5: Ⅳ
Y6: －
C7: 変状 番号 | D7: 1 | N7: 変状 番号 | O7: 2
B9: 変状 部位 | C9: 対象 箇所 | D9: 覆工・坑門 | M9: 変状 部位 | N9: 対象 箇所 | O9: 覆工・坑門
C11: 部位 区分 | D11: 横断目地（左側） | N11: 部位 区分 | O11: アーチ（天端）
B13: 変状区分 | D13: 材質劣化 | M13: 変状区分 | O13: 材質劣化
B14: 変状種類 | D14: うき・はく離 | M14: 変状種類 | O14: うき・はく離
B15: 健全性 | C15: 応急措置前 | E15: － | M15: 健全性 | N15: 応急措置前 | P15: －
C16: 応急措置後 | E16: Ⅱ | N16: 応急措置後 | P16: Ⅰ
B17: 変状の発生範囲の規模 | E17: 0.4m×0.05m | M17: 変状の発生範囲の規模 | P17: 0.2m×0.2m
B18: 前回定期点検時の状態 | E18: 同程度 | M18: 前回定期点検時の状態 | P18: うき0.2m×0.2m(Ⅱa)
B19: 調査方針 | E19: - | M19: 調査方針 | P19: -
B20: 対策履歴 | E20: なし | H20: 実施状況（実施日） | J20: - | M20: 対策履歴 | P20: はく落防止工(FRPネット) | S20: 実施状況（実施日） | U20: -
B21: メモ | D21: 目地部のうき(Ⅱb)、浸透固化材塗布 | M21: メモ | O21: -
B22: 写真 番号 | C22: 覆工 スパン 番号 | D22: 4 | M22: 写真 番号 | N22: 覆工 スパン 番号
C24: 変状 番号 | D24: 3 | N24: 変状 番号
B26: 変状 部位 | C26: 対象 箇所 | D26: 覆工・坑門 | M26: 変状 部位 | N26: 対象 箇所
C28: 部位 区分 | D28: アーチ（天端） | N28: 部位 区分
B30: 変状区分 | D30: 材質劣化 | M30: 変状区分
B31: 変状種類 | D31: うき・はく離 | M31: 変状種類
B32: 健全性 | C32: 応急措置前 | E32: － | M32: 健全性 | N32: 応急措置前
C33: 応急措置後 | E33: Ⅱ | N33: 応急措置後
B34: 変状の発生範囲の規模 | E34: 0.05m×0.2m | M34: 変状の発生範囲の規模
B35: 前回定期点検時の状態 | E35: 同程度 | M35: 前回定期点検時の状態
B36: 調査方針 | E36: - | M36: 調査方針
B37: 対策履歴 | E37: はく落防止工(FRPネット) | H37: 実施状況（実施日） | J37: - | M37: 対策履歴 | S37: 実施状況（実施日）
B38: メモ | D38: ひび割れ沿いのうき(Ⅱa)、対策不足 | M38: メモ
C39: ※ 健全性（応急措置後）の判定区分Ⅱ～Ⅳについて添付すること。また、点検前に 実施された措置によりⅠと判定された箇所も添付すること。 | N39: ※ 変状の発生範囲の規模とは、対策を行う際に参考となる変状の長さや面積をいう。
N40: ※ 応急措置を実施しないで判定した変状の健全性は、健全性の応急措置後の欄に記入すること。
C41: ※ たたき落としを実施した場合は、実施後の写真を添付すること。 | N41: ※ 変状の発生範囲の規模は、面積・寸法を記載すること。
C42: ※ 附属物の取付状態に関する異常写真は別途、様式D-1-2でとりまとめること。 | N42: (ひび割れ幅のみmmとし、その他をm表記とする)
C43: ※ 変状数に準じてシートを追加すること。（１シートに１ページとすること。） | N43: ※ 構造用鋼材以外の異物に伴ううき・はく離については、メモ欄に異物の概要を記入すること。

Sheet 様式D-1-1(トンネル様式2P001) (3)
B2: ■定期点検記録様式 変状写真台帳 | Y2: Ⅰ
B3: フリガナ | D3: ヤクオウジトンネル | H3: 路線名 | J3: 一般国道435号 | M3: 定期点検業者 | P3: 応用地質株式会社 | S3: 定期点検年月日 | U3: 44862 | Y3: Ⅱ
B4: 名 称 | D4: 薬王寺トンネル | H4: 管理者名 | J4: 山口県宇部土木建築事務所 | M4: 定期点検者名 | P4: 太田 裕之 | Y4: Ⅲ
B5: 写真 番号 | C5: 覆工 スパン 番号 | D5: 5 | M5: 写真 番号 | N5: 覆工 スパン 番号 | Y5: Ⅳ
Y6: －
C7: 変状 番号 | D7: 1 | N7: 変状 番号
B9: 変状 部位 | C9: 対象 箇所 | D9: 覆工・坑門 | M9: 変状 部位 | N9: 対象 箇所
C11: 部位 区分 | D11: アーチ（天端） | N11: 部位 区分
B13: 変状区分 | D13: 材質劣化 | M13: 変状区分
B14: 変状種類 | D14: うき・はく離 | M14: 変状種類
B15: 健全性 | C15: 応急措置前 | E15: － | M15: 健全性 | N15: 応急措置前
C16: 応急措置後 | E16: Ⅰ | N16: 応急措置後
B17: 変状の発生範囲の規模 | E17: 0.1m×0.2m | M17: 変状の発生範囲の規模
B18: 前回定期点検時の状態 | E18: うき0.1m×0.2m(Ⅱa) | M18: 前回定期点検時の状態
B19: 調査方針 | E19: - | M19: 調査方針
B20: 対策履歴 | E20: はく落防止工(FRPネット) | H20: 実施状況（実施日） | J20: - | M20: 対策履歴 | S20: 実施状況（実施日）
B21: メモ | D21: - | M21: メモ
B22: 写真 番号 | C22: 覆工 スパン 番号 | M22: 写真 番号 | N22: 覆工 スパン 番号
C24: 変状 番号 | N24: 変状 番号
B26: 変状 部位 | C26: 対象 箇所 | M26: 変状 部位 | N26: 対象 箇所
C28: 部位 区分 | N28: 部位 区分
B30: 変状区分 | M30: 変状区分
B31: 変状種類 | M31: 変状種類
B32: 健全性 | C32: 応急措置前 | M32: 健全性 | N32: 応急措置前
C33: 応急措置後 | N33: 応急措置後
B34: 変状の発生範囲の規模 | M34: 変状の発生範囲の規模
B35: 前回定期点検時の状態 | M35: 前回定期点検時の状態
B36: 調査方針 | M36: 調査方針
B37: 対策履歴 | H37: 実施状況（実施日） | M37: 対策履歴 | S37: 実施状況（実施日）
B38: メモ | M38: メモ
C39: ※ 健全性（応急措置後）の判定区分Ⅱ～Ⅳについて添付すること。また、点検前に 実施された措置によりⅠと判定された箇所も添付すること。 | N39: ※ 変状の発生範囲の規模とは、対策を行う際に参考となる変状の長さや面積をいう。
N40: ※ 応急措置を実施しないで判定した変状の健全性は、健全性の応急措置後の欄に記入すること。
C41: ※ たたき落としを実施した場合は、実施後の写真を添付すること。 | N41: ※ 変状の発生範囲の規模は、面積・寸法を記載すること。
C42: ※ 附属物の取付状態に関する異常写真は別途、様式D-1-2でとりまとめること。 | N42: (ひび割れ幅のみmmとし、その他をm表記とする)
C43: ※ 変状数に準じてシートを追加すること。（１シートに１ページとすること。） | N43: ※ 構造用鋼材以外の異物に伴ううき・はく離については、メモ欄に異物の概要を記入すること。

Sheet 様式D-1-1(トンネル様式2P001) (4)
B2: ■定期点検記録様式 変状写真台帳 | Y2: Ⅰ
B3: フリガナ | D3: ヤクオウジトンネル | H3: 路線名 | J3: 一般国道435号 | M3: 定期点検業者 | P3: 応用地質株式会社 | S3: 定期点検年月日 | U3: 44862 | Y3: Ⅱ
B4: 名 称 | D4: 薬王寺トンネル | H4: 管理者名 | J4: 山口県宇部土木建築事務所 | M4: 定期点検者名 | P4: 太田 裕之 | Y4: Ⅲ
B5: 写真 番号 | C5: 覆工 スパン 番号 | D5: 9 | M5: 写真 番号 | N5: 覆工 スパン 番号 | O5: 9 | Y5: Ⅳ
Y6: －
C7: 変状 番号 | D7: 1 | N7: 変状 番号 | O7: 2
B9: 変状 部位 | C9: 対象 箇所 | D9: 覆工・坑門 | M9: 変状 部位 | N9: 対象 箇所 | O9: 覆工・坑門
C11: 部位 区分 | D11: アーチ（天端） | N11: 部位 区分 | O11: アーチ（天端）
B13: 変状区分 | D13: 材質劣化 | M13: 変状区分 | O13: 材質劣化
B14: 変状種類 | D14: うき・はく離 | M14: 変状種類 | O14: うき・はく離
B15: 健全性 | C15: 応急措置前 | E15: － | M15: 健全性 | N15: 応急措置前 | P15: －
C16: 応急措置後 | E16: Ⅰ | N16: 応急措置後 | P16: Ⅰ
B17: 変状の発生範囲の規模 | E17: 0.1m×0.2m他 | M17: 変状の発生範囲の規模 | P17: 0.05m×0.2m
B18: 前回定期点検時の状態 | E18: うき0.1m×0.2m(Ⅱa)他 | M18: 前回定期点検時の状態 | P18: うき0.05m×0.2m(Ⅱa)
B19: 調査方針 | E19: - | M19: 調査方針 | P19: -
B20: 対策履歴 | E20: はく落防止工(FRPネット) | H20: 実施状況（実施日） | J20: - | M20: 対策履歴 | P20: はく落防止工(FRPネット) | S20: 実施状況（実施日） | U20: -
B21: メモ | D21: - | M21: メモ | O21: -
B22: 写真 番号 | C22: 覆工 スパン 番号 | M22: 写真 番号 | N22: 覆工 スパン 番号
C24: 変状 番号 | N24: 変状 番号
B26: 変状 部位 | C26: 対象 箇所 | M26: 変状 部位 | N26: 対象 箇所
C28: 部位 区分 | N28: 部位 区分
B30: 変状区分 | M30: 変状区分
B31: 変状種類 | M31: 変状種類
B32: 健全性 | C32: 応急措置前 | M32: 健全性 | N32: 応急措置前
C33: 応急措置後 | N33: 応急措置後
B34: 変状の発生範囲の規模 | M34: 変状の発生範囲の規模
B35: 前回定期点検時の状態 | M35: 前回定期点検時の状態
B36: 調査方針 | M36: 調査方針
B37: 対策履歴 | H37: 実施状況（実施日） | M37: 対策履歴 | S37: 実施状況（実施日）
B38: メモ | M38: メモ
C39: ※ 健全性（応急措置後）の判定区分Ⅱ～Ⅳについて添付すること。また、点検前に 実施された措置によりⅠと判定された箇所も添付すること。 | N39: ※ 変状の発生範囲の規模とは、対策を行う際に参考となる変状の長さや面積をいう。
N40: ※ 応急措置を実施しないで判定した変状の健全性は、健全性の応急措置後の欄に記入すること。
C41: ※ たたき落としを実施した場合は、実施後の写真を添付すること。 | N41: ※ 変状の発生範囲の規模は、面積・寸法を記載すること。
C42: ※ 附属物の取付状態に関する異常写真は別途、様式D-1-2でとりまとめること。 | N42: (ひび割れ幅のみmmとし、その他をm表記とする)
C43: ※ 変状数に準じてシートを追加すること。（１シートに１ページとすること。） | N43: ※ 構造用鋼材以外の異物に伴ううき・はく離については、メモ欄に異物の概要を記入すること。

Sheet 様式D-1-1(トンネル様式2P001) (5)
B2: ■定期点検記録様式 変状写真台帳 | Y2: Ⅰ
B3: フリガナ | D3: ヤクオウジトンネル | H3: 路線名 | J3: 一般国道435号 | M3: 定期点検業者 | P3: 応用地質株式会社 | S3: 定期点検年月日 | U3: 44862 | Y3: Ⅱ
B4: 名 称 | D4: 薬王寺トンネル | H4: 管理者名 | J4: 山口県宇部土木建築事務所 | M4: 定期点検者名 | P4: 太田 裕之 | Y4: Ⅲ
B5: 写真 番号 | C5: 覆工 スパン 番号 | D5: 10 | M5: 写真 番号 | N5: 覆工 スパン 番号 | O5: 10 | Y5: Ⅳ
Y6: －
C7: 変状 番号 | D7: 1 | N7: 変状 番号 | O7: 2
B9: 変状 部位 | C9: 対象 箇所 | D9: 覆工・坑門 | M9: 変状 部位 | N9: 対象 箇所 | O9: 覆工・坑門
C11: 部位 区分 | D11: 横断目地（左側） | N11: 部位 区分 | O11: アーチ（天端）
B13: 変状区分 | D13: 材質劣化 | M13: 変状区分 | O13: 材質劣化
B14: 変状種類 | D14: うき・はく離 | M14: 変状種類 | O14: うき・はく離
B15: 健全性 | C15: 応急措置前 | E15: － | M15: 健全性 | N15: 応急措置前 | P15: Ⅱ
C16: 応急措置後 | E16: Ⅰ | N16: 応急措置後 | P16: Ⅰ
B17: 変状の発生範囲の規模 | E17: 0.4m×0.05m他 | M17: 変状の発生範囲の規模 | P17: 0.05m×0.25m
B18: 前回定期点検時の状態 | E18: うき0.4m×0.05m(Ⅱb)他 | M18: 前回定期点検時の状態 | P18: 同程度
B19: 調査方針 | E19: - | M19: 調査方針 | P19: -
B20: 対策履歴 | E20: はく落防止工(FRPネット) | H20: 実施状況（実施日） | J20: - | M20: 対策履歴 | P20: なし | S20: 実施状況（実施日） | U20: -
B21: メモ | D21: - | M21: メモ | O21: うき、今回点検時に叩き落とし実施(Ⅱa→Ⅰ、深さ40mm)、浸透固化材塗布
B22: 写真 番号 | C22: 覆工 スパン 番号 | D22: 10 | M22: 写真 番号 | N22: 覆工 スパン 番号 | O22: 10
C24: 変状 番号 | D24: 3 | N24: 変状 番号 | O24: 4
B26: 変状 部位 | C26: 対象 箇所 | D26: 覆工・坑門 | M26: 変状 部位 | N26: 対象 箇所 | O26: 覆工・坑門
C28: 部位 区分 | D28: アーチ（天端） | N28: 部位 区分 | O28: アーチ（天端）
B30: 変状区分 | D30: 材質劣化 | M30: 変状区分 | O30: 材質劣化
B31: 変状種類 | D31: うき・はく離 | M31: 変状種類 | O31: うき・はく離
B32: 健全性 | C32: 応急措置前 | E32: － | M32: 健全性 | N32: 応急措置前 | P32: －
C33: 応急措置後 | E33: Ⅰ | N33: 応急措置後 | P33: Ⅰ
B34: 変状の発生範囲の規模 | E34: 0.1×0.3m | M34: 変状の発生範囲の規模 | P34: 0.2m×0.4m
B35: 前回定期点検時の状態 | E35: うき0.1×0.3m(判定不明) | M35: 前回定期点検時の状態 | P35: うき0.2m×0.4m(判定不明)
B36: 調査方針 | E36: - | M36: 調査方針 | P36: -
B37: 対策履歴 | E37: はく落防止工(FRPネット) | H37: 実施状況（実施日） | J37: - | M37: 対策履歴 | P37: はく落防止工(FRPネット) | S37: 実施状況（実施日） | U37: -
B38: メモ | D38: - | M38: メモ | O38: -
C39: ※ 健全性（応急措置後）の判定区分Ⅱ～Ⅳについて添付すること。また、点検前に 実施された措置によりⅠと判定された箇所も添付すること。 | N39: ※ 変状の発生範囲の規模とは、対策を行う際に参考となる変状の長さや面積をいう。
N40: ※ 応急措置を実施しないで判定した変状の健全性は、健全性の応急措置後の欄に記入すること。
C41: ※ たたき落としを実施した場合は、実施後の写真を添付すること。 | N41: ※ 変状の発生範囲の規模は、面積・寸法を記載すること。
C42: ※ 附属物の取付状態に関する異常写真は別途、様式D-1-2でとりまとめること。 | N42: (ひび割れ幅のみmmとし、その他をm表記とする)
C43: ※ 変状数に準じてシートを追加すること。（１シートに１ページとすること。） | N43: ※ 構造用鋼材以外の異物に伴ううき・はく離については、メモ欄に異物の概要を記入すること。

Sheet 様式D-1-1(トンネル様式2P001) (6)
B2: ■定期点検記録様式 変状写真台帳 | Y2: Ⅰ
B3: フリガナ | D3: ヤクオウジトンネル | H3: 路線名 | J3: 一般国道435号 | M3: 定期点検業者 | P3: 応用地質株式会社 | S3: 定期点検年月日 | U3: 44862 | Y3: Ⅱ
B4: 名 称 | D4: 薬王寺トンネル | H4: 管理者名 | J4: 山口県宇部土木建築事務所 | M4: 定期点検者名 | P4: 太田 裕之 | Y4: Ⅲ
B5: 写真 番号 | C5: 覆工 スパン 番号 | D5: 12 | M5: 写真 番号 | N5: 覆工 スパン 番号 | Y5: Ⅳ
Y6: －
C7: 変状 番号 | D7: 1 | N7: 変状 番号
B9: 変状 部位 | C9: 対象 箇所 | D9: 覆工・坑門 | M9: 変状 部位 | N9: 対象 箇所
C11: 部位 区分 | D11: 横断目地（左側） | N11: 部位 区分
B13: 変状区分 | D13: 材質劣化 | M13: 変状区分
B14: 変状種類 | D14: うき・はく離 | M14: 変状種類
B15: 健全性 | C15: 応急措置前 | E15: － | M15: 健全性 | N15: 応急措置前
C16: 応急措置後 | E16: Ⅱ | N16: 応急措置後
B17: 変状の発生範囲の規模 | E17: 0.4m×0.05m | M17: 変状の発生範囲の規模
B18: 前回定期点検時の状態 | E18: 同程度 | M18: 前回定期点検時の状態
B19: 調査方針 | E19: - | M19: 調査方針
B20: 対策履歴 | E20: なし | H20: 実施状況（実施日） | J20: - | M20: 対策履歴 | S20: 実施状況（実施日）
B21: メモ | D21: 目地部のうき(Ⅱb)、浸透固化材塗布 | M21: メモ
B22: 写真 番号 | C22: 覆工 スパン 番号 | M22: 写真 番号 | N22: 覆工 スパン 番号
C24: 変状 番号 | N24: 変状 番号
B26: 変状 部位 | C26: 対象 箇所 | M26: 変状 部位 | N26: 対象 箇所
C28: 部位 区分 | N28: 部位 区分
B30: 変状区分 | M30: 変状区分
B31: 変状種類 | M31: 変状種類
B32: 健全性 | C32: 応急措置前 | M32: 健全性 | N32: 応急措置前
C33: 応急措置後 | N33: 応急措置後
B34: 変状の発生範囲の規模 | M34: 変状の発生範囲の規模
B35: 前回定期点検時の状態 | M35: 前回定期点検時の状態
B36: 調査方針 | M36: 調査方針
B37: 対策履歴 | H37: 実施状況（実施日） | M37: 対策履歴 | S37: 実施状況（実施日）
B38: メモ | M38: メモ
C39: ※ 健全性（応急措置後）の判定区分Ⅱ～Ⅳについて添付すること。また、点検前に 実施された措置によりⅠと判定された箇所も添付すること。 | N39: ※ 変状の発生範囲の規模とは、対策を行う際に参考となる変状の長さや面積をいう。
N40: ※ 応急措置を実施しないで判定した変状の健全性は、健全性の応急措置後の欄に記入すること。
C41: ※ たたき落としを実施した場合は、実施後の写真を添付すること。 | N41: ※ 変状の発生範囲の規模は、面積・寸法を記載すること。
C42: ※ 附属物の取付状態に関する異常写真は別途、様式D-1-2でとりまとめること。 | N42: (ひび割れ幅のみmmとし、その他をm表記とする)
C43: ※ 変状数に準じてシートを追加すること。（１シートに１ページとすること。） | N43: ※ 構造用鋼材以外の異物に伴ううき・はく離については、メモ欄に異物の概要を記入すること。

Sheet 様式D-1-1(トンネル様式2P001) (7)
B2: ■定期点検記録様式 変状写真台帳 | Y2: Ⅰ
B3: フリガナ | D3: ヤクオウジトンネル | H3: 路線名 | J3: 一般国道435号 | M3: 定期点検業者 | P3: 応用地質株式会社 | S3: 定期点検年月日 | U3: 44862 | Y3: Ⅱ
B4: 名 称 | D4: 薬王寺トンネル | H4: 管理者名 | J4: 山口県宇部土木建築事務所 | M4: 定期点検者名 | P4: 太田 裕之 | Y4: Ⅲ
B5: 写真 番号 | C5: 覆工 スパン 番号 | D5: 14 | M5: 写真 番号 | N5: 覆工 スパン 番号 | Y5: Ⅳ
Y6: －
C7: 変状 番号 | D7: 1 | N7: 変状 番号
B9: 変状 部位 | C9: 対象 箇所 | D9: 覆工・坑門 | M9: 変状 部位 | N9: 対象 箇所
C11: 部位 区分 | D11: アーチ（左側） | N11: 部位 区分
B13: 変状区分 | D13: 材質劣化 | M13: 変状区分
B14: 変状種類 | D14: 鋼材腐食 | M14: 変状種類
B15: 健全性 | C15: 応急措置前 | E15: － | M15: 健全性 | N15: 応急措置前
C16: 応急措置後 | E16: Ⅱ | N16: 応急措置後
B17: 変状の発生範囲の規模 | E17: 0.05m×0.05m | M17: 変状の発生範囲の規模
B18: 前回定期点検時の状態 | E18: はく落0.05m×0.05m(Ⅰ) | M18: 前回定期点検時の状態
B19: 調査方針 | E19: - | M19: 調査方針
B20: 対策履歴 | E20: なし | H20: 実施状況（実施日） | J20: - | M20: 対策履歴 | S20: 実施状況（実施日）
B21: メモ | D21: 鋼材露出(深さ10mm)(Ⅱb)、部分的に露出した鋼材(表面的な腐食)に防錆剤塗布、周辺にうきなし、進行性あり | M21: メモ
B22: 写真 番号 | C22: 覆工 スパン 番号 | M22: 写真 番号 | N22: 覆工 スパン 番号
C24: 変状 番号 | N24: 変状 番号
B26: 変状 部位 | C26: 対象 箇所 | M26: 変状 部位 | N26: 対象 箇所
C28: 部位 区分 | N28: 部位 区分
B30: 変状区分 | M30: 変状区分
B31: 変状種類 | M31: 変状種類
B32: 健全性 | C32: 応急措置前 | M32: 健全性 | N32: 応急措置前
C33: 応急措置後 | N33: 応急措置後
B34: 変状の発生範囲の規模 | M34: 変状の発生範囲の規模
B35: 前回定期点検時の状態 | M35: 前回定期点検時の状態
B36: 調査方針 | M36: 調査方針
B37: 対策履歴 | H37: 実施状況（実施日） | M37: 対策履歴 | S37: 実施状況（実施日）
B38: メモ | M38: メモ
C39: ※ 健全性（応急措置後）の判定区分Ⅱ～Ⅳについて添付すること。また、点検前に 実施された措置によりⅠと判定された箇所も添付すること。 | N39: ※ 変状の発生範囲の規模とは、対策を行う際に参考となる変状の長さや面積をいう。
N40: ※ 応急措置を実施しないで判定した変状の健全性は、健全性の応急措置後の欄に記入すること。
C41: ※ たたき落としを実施した場合は、実施後の写真を添付すること。 | N41: ※ 変状の発生範囲の規模は、面積・寸法を記載すること。
C42: ※ 附属物の取付状態に関する異常写真は別途、様式D-1-2でとりまとめること。 | N42: (ひび割れ幅のみmmとし、その他をm表記とする)
C43: ※ 変状数に準じてシートを追加すること。（１シートに１ページとすること。） | N43: ※ 構造用鋼材以外の異物に伴ううき・はく離については、メモ欄に異物の概要を記入すること。

Sheet 様式D-1-1(トンネル様式2P001) (8)
B2: ■定期点検記録様式 変状写真台帳 | Y2: Ⅰ
B3: フリガナ | D3: ヤクオウジトンネル | H3: 路線名 | J3: 一般国道435号 | M3: 定期点検業者 | P3: 応用地質株式会社 | S3: 定期点検年月日 | U3: 44862 | Y3: Ⅱ
B4: 名 称 | D4: 薬王寺トンネル | H4: 管理者名 | J4: 山口県宇部土木建築事務所 | M4: 定期点検者名 | P4: 太田 裕之 | Y4: Ⅲ
B5: 写真 番号 | C5: 覆工 スパン 番号 | D5: 15 | M5: 写真 番号 | N5: 覆工 スパン 番号 | Y5: Ⅳ
Y6: －
C7: 変状 番号 | D7: 1 | N7: 変状 番号
B9: 変状 部位 | C9: 対象 箇所 | D9: 覆工・坑門 | M9: 変状 部位 | N9: 対象 箇所
C11: 部位 区分 | D11: 横断目地（右側） | N11: 部位 区分
B13: 変状区分 | D13: 材質劣化 | M13: 変状区分
B14: 変状種類 | D14: 鋼材腐食 | M14: 変状種類
B15: 健全性 | C15: 応急措置前 | E15: － | M15: 健全性 | N15: 応急措置前
C16: 応急措置後 | E16: Ⅱ | N16: 応急措置後
B17: 変状の発生範囲の規模 | E17: 0.2m×0.05m | M17: 変状の発生範囲の規模
B18: 前回定期点検時の状態 | E18: はく落0.2m×0.05m(Ⅰ) | M18: 前回定期点検時の状態
B19: 調査方針 | E19: - | M19: 調査方針
B20: 対策履歴 | E20: なし | H20: 実施状況（実施日） | J20: - | M20: 対策履歴 | S20: 実施状況（実施日）
B21: メモ | D21: 鋼材露出(深さ10mm未満)(Ⅱb)、部分的に露出した鋼材(表面的な腐食)に防錆剤塗布、周辺にうきなし、進行性あり | M21: メモ
B22: 写真 番号 | C22: 覆工 スパン 番号 | M22: 写真 番号 | N22: 覆工 スパン 番号
C24: 変状 番号 | N24: 変状 番号
B26: 変状 部位 | C26: 対象 箇所 | M26: 変状 部位 | N26: 対象 箇所
C28: 部位 区分 | N28: 部位 区分
B30: 変状区分 | M30: 変状区分
B31: 変状種類 | M31: 変状種類
B32: 健全性 | C32: 応急措置前 | M32: 健全性 | N32: 応急措置前
C33: 応急措置後 | N33: 応急措置後
B34: 変状の発生範囲の規模 | M34: 変状の発生範囲の規模
B35: 前回定期点検時の状態 | M35: 前回定期点検時の状態
B36: 調査方針 | M36: 調査方針
B37: 対策履歴 | H37: 実施状況（実施日） | M37: 対策履歴 | S37: 実施状況（実施日）
B38: メモ | M38: メモ
C39: ※ 健全性（応急措置後）の判定区分Ⅱ～Ⅳについて添付すること。また、点検前に 実施された措置によりⅠと判定された箇所も添付すること。 | N39: ※ 変状の発生範囲の規模とは、対策を行う際に参考となる変状の長さや面積をいう。
N40: ※ 応急措置を実施しないで判定した変状の健全性は、健全性の応急措置後の欄に記入すること。
C41: ※ たたき落としを実施した場合は、実施後の写真を添付すること。 | N41: ※ 変状の発生範囲の規模は、面積・寸法を記載すること。
C42: ※ 附属物の取付状態に関する異常写真は別途、様式D-1-2でとりまとめること。 | N42: (ひび割れ幅のみmmとし、その他をm表記とする)
C43: ※ 変状数に準じてシートを追加すること。（１シートに１ページとすること。） | N43: ※ 構造用鋼材以外の異物に伴ううき・はく離については、メモ欄に異物の概要を記入すること。

Sheet 様式D-1-1(トンネル様式2P001) (9)
B2: ■定期点検記録様式 変状写真台帳 | Y2: Ⅰ
B3: フリガナ | D3: ヤクオウジトンネル | H3: 路線名 | J3: 一般国道435号 | M3: 定期点検業者 | P3: 応用地質株式会社 | S3: 定期点検年月日 | U3: 44862 | Y3: Ⅱ
B4: 名 称 | D4: 薬王寺トンネル | H4: 管理者名 | J4: 山口県宇部土木建築事務所 | M4: 定期点検者名 | P4: 太田 裕之 | Y4: Ⅲ
B5: 写真 番号 | C5: 覆工 スパン 番号 | D5: 16 | M5: 写真 番号 | N5: 覆工 スパン 番号 | O5: 16 | Y5: Ⅳ
Y6: －
C7: 変状 番号 | D7: 1 | N7: 変状 番号 | O7: 2
B9: 変状 部位 | C9: 対象 箇所 | D9: 覆工・坑門 | M9: 変状 部位 | N9: 対象 箇所 | O9: 覆工・坑門
C11: 部位 区分 | D11: 横断目地（左側） | N11: 部位 区分 | O11: 横断目地（天端）
B13: 変状区分 | D13: 材質劣化 | M13: 変状区分 | O13: 材質劣化
B14: 変状種類 | D14: うき・はく離 | M14: 変状種類 | O14: 鋼材腐食
B15: 健全性 | C15: 応急措置前 | E15: － | M15: 健全性 | N15: 応急措置前 | P15: －
C16: 応急措置後 | E16: Ⅱ | N16: 応急措置後 | P16: Ⅱ
B17: 変状の発生範囲の規模 | E17: 0.5m×0.05m | M17: 変状の発生範囲の規模 | P17: 0.4m×0.05m
B18: 前回定期点検時の状態 | E18: 同程度 | M18: 前回定期点検時の状態 | P18: 同程度
B19: 調査方針 | E19: - | M19: 調査方針 | P19: -
B20: 対策履歴 | E20: なし | H20: 実施状況（実施日） | J20: - | M20: 対策履歴 | P20: なし | S20: 実施状況（実施日） | U20: -
B21: メモ | D21: 目地部のうき(Ⅱb) | M21: メモ | O21: 鋼材露出(深さ50mm)(Ⅱb)、部分的に露出した鋼材(表面的な腐食)に防錆剤塗布、周辺にうきなし
B22: 写真 番号 | C22: 覆工 スパン 番号 | M22: 写真 番号 | N22: 覆工 スパン 番号
C24: 変状 番号 | N24: 変状 番号
B26: 変状 部位 | C26: 対象 箇所 | M26: 変状 部位 | N26: 対象 箇所
C28: 部位 区分 | N28: 部位 区分
B30: 変状区分 | M30: 変状区分
B31: 変状種類 | M31: 変状種類
B32: 健全性 | C32: 応急措置前 | M32: 健全性 | N32: 応急措置前
C33: 応急措置後 | N33: 応急措置後
B34: 変状の発生範囲の規模 | M34: 変状の発生範囲の規模
B35: 前回定期点検時の状態 | M35: 前回定期点検時の状態
B36: 調査方針 | M36: 調査方針
B37: 対策履歴 | H37: 実施状況（実施日） | M37: 対策履歴 | S37: 実施状況（実施日）
B38: メモ | M38: メモ
C39: ※ 健全性（応急措置後）の判定区分Ⅱ～Ⅳについて添付すること。また、点検前に 実施された措置によりⅠと判定された箇所も添付すること。 | N39: ※ 変状の発生範囲の規模とは、対策を行う際に参考となる変状の長さや面積をいう。
N40: ※ 応急措置を実施しないで判定した変状の健全性は、健全性の応急措置後の欄に記入すること。
C41: ※ たたき落としを実施した場合は、実施後の写真を添付すること。 | N41: ※ 変状の発生範囲の規模は、面積・寸法を記載すること。
C42: ※ 附属物の取付状態に関する異常写真は別途、様式D-1-2でとりまとめること。 | N42: (ひび割れ幅のみmmとし、その他をm表記とする)
C43: ※ 変状数に準じてシートを追加すること。（１シートに１ページとすること。） | N43: ※ 構造用鋼材以外の異物に伴ううき・はく離については、メモ欄に異物の概要を記入すること。

Sheet 様式D-1-1(トンネル様式2P001) (10)
B2: ■定期点検記録様式 変状写真台帳 | Y2: Ⅰ
B3: フリガナ | D3: ヤクオウジトンネル | H3: 路線名 | J3: 一般国道435号 | M3: 定期点検業者 | P3: 応用地質株式会社 | S3: 定期点検年月日 | U3: 44862 | Y3: Ⅱ
B4: 名 称 | D4: 薬王寺トンネル | H4: 管理者名 | J4: 山口県宇部土木建築事務所 | M4: 定期点検者名 | P4: 太田 裕之 | Y4: Ⅲ
B5: 写真 番号 | C5: 覆工 スパン 番号 | D5: 17 | M5: 写真 番号 | N5: 覆工 スパン 番号 | Y5: Ⅳ
Y6: －
C7: 変状 番号 | D7: 1 | N7: 変状 番号
B9: 変状 部位 | C9: 対象 箇所 | D9: 覆工・坑門 | M9: 変状 部位 | N9: 対象 箇所
C11: 部位 区分 | D11: 横断目地（左側） | N11: 部位 区分
B13: 変状区分 | D13: 材質劣化 | M13: 変状区分
B14: 変状種類 | D14: うき・はく離 | M14: 変状種類
B15: 健全性 | C15: 応急措置前 | E15: － | M15: 健全性 | N15: 応急措置前
C16: 応急措置後 | E16: Ⅰ | N16: 応急措置後
B17: 変状の発生範囲の規模 | E17: 0.1m×0.05m | M17: 変状の発生範囲の規模
B18: 前回定期点検時の状態 | E18: 同程度 | M18: 前回定期点検時の状態
B19: 調査方針 | E19: - | M19: 調査方針
B20: 対策履歴 | E20: なし | H20: 実施状況（実施日） | J20: - | M20: 対策履歴 | S20: 実施状況（実施日）
B21: メモ | D21: はく落、前回点検時叩き落とし箇所(深さ50mm)、浸透固化材塗布 | M21: メモ
B22: 写真 番号 | C22: 覆工 スパン 番号 | M22: 写真 番号 | N22: 覆工 スパン 番号
C24: 変状 番号 | N24: 変状 番号
B26: 変状 部位 | C26: 対象 箇所 | M26: 変状 部位 | N26: 対象 箇所
C28: 部位 区分 | N28: 部位 区分
B30: 変状区分 | M30: 変状区分
B31: 変状種類 | M31: 変状種類
B32: 健全性 | C32: 応急措置前 | M32: 健全性 | N32: 応急措置前
C33: 応急措置後 | N33: 応急措置後
B34: 変状の発生範囲の規模 | M34: 変状の発生範囲の規模
B35: 前回定期点検時の状態 | M35: 前回定期点検時の状態
B36: 調査方針 | M36: 調査方針
B37: 対策履歴 | H37: 実施状況（実施日） | M37: 対策履歴 | S37: 実施状況（実施日）
B38: メモ | M38: メモ
C39: ※ 健全性（応急措置後）の判定区分Ⅱ～Ⅳについて添付すること。また、点検前に 実施された措置によりⅠと判定された箇所も添付すること。 | N39: ※ 変状の発生範囲の規模とは、対策を行う際に参考となる変状の長さや面積をいう。
N40: ※ 応急措置を実施しないで判定した変状の健全性は、健全性の応急措置後の欄に記入すること。
C41: ※ たたき落としを実施した場合は、実施後の写真を添付すること。 | N41: ※ 変状の発生範囲の規模は、面積・寸法を記載すること。
C42: ※ 附属物の取付状態に関する異常写真は別途、様式D-1-2でとりまとめること。 | N42: (ひび割れ幅のみmmとし、その他をm表記とする)
C43: ※ 変状数に準じてシートを追加すること。（１シートに１ページとすること。） | N43: ※ 構造用鋼材以外の異物に伴ううき・はく離については、メモ欄に異物の概要を記入すること。

Sheet 様式D-1-1(トンネル様式2P001) (11)
B2: ■定期点検記録様式 変状写真台帳 | Y2: Ⅰ
B3: フリガナ | D3: ヤクオウジトンネル | H3: 路線名 | J3: 一般国道435号 | M3: 定期点検業者 | P3: 応用地質株式会社 | S3: 定期点検年月日 | U3: 44862 | Y3: Ⅱ
B4: 名 称 | D4: 薬王寺トンネル | H4: 管理者名 | J4: 山口県宇部土木建築事務所 | M4: 定期点検者名 | P4: 太田 裕之 | Y4: Ⅲ
B5: 写真 番号 | C5: 覆工 スパン 番号 | D5: PE | M5: 写真 番号 | N5: 覆工 スパン 番号 | Y5: Ⅳ
Y6: －
C7: 変状 番号 | D7: 1 | N7: 変状 番号
B9: 変状 部位 | C9: 対象 箇所 | D9: 覆工・坑門 | M9: 変状 部位 | N9: 対象 箇所
C11: 部位 区分 | D11: 面壁・妻壁等 | N11: 部位 区分
B13: 変状区分 | D13: 材質劣化 | M13: 変状区分
B14: 変状種類 | D14: うき・はく離 | M14: 変状種類
B15: 健全性 | C15: 応急措置前 | E15: － | M15: 健全性 | N15: 応急措置前
C16: 応急措置後 | E16: Ⅱ | N16: 応急措置後
B17: 変状の発生範囲の規模 | E17: 0.15m×0.03m | M17: 変状の発生範囲の規模
B18: 前回定期点検時の状態 | E18: なし | M18: 前回定期点検時の状態
B19: 調査方針 | E19: - | M19: 調査方針
B20: 対策履歴 | E20: なし | H20: 実施状況（実施日） | J20: - | M20: 対策履歴 | S20: 実施状況（実施日）
B21: メモ | D21: 銘板周辺のうき(Ⅱb)、浸透固化材塗布 | M21: メモ
B22: 写真 番号 | C22: 覆工 スパン 番号 | M22: 写真 番号 | N22: 覆工 スパン 番号
C24: 変状 番号 | N24: 変状 番号
B26: 変状 部位 | C26: 対象 箇所 | M26: 変状 部位 | N26: 対象 箇所
C28: 部位 区分 | N28: 部位 区分
B30: 変状区分 | M30: 変状区分
B31: 変状種類 | M31: 変状種類
B32: 健全性 | C32: 応急措置前 | M32: 健全性 | N32: 応急措置前
C33: 応急措置後 | N33: 応急措置後
B34: 変状の発生範囲の規模 | M34: 変状の発生範囲の規模
B35: 前回定期点検時の状態 | M35: 前回定期点検時の状態
B36: 調査方針 | M36: 調査方針
B37: 対策履歴 | H37: 実施状況（実施日） | M37: 対策履歴 | S37: 実施状況（実施日）
B38: メモ | M38: メモ
C39: ※ 健全性（応急措置後）の判定区分Ⅱ～Ⅳについて添付すること。また、点検前に 実施された措置によりⅠと判定された箇所も添付すること。 | N39: ※ 変状の発生範囲の規模とは、対策を行う際に参考となる変状の長さや面積をいう。
N40: ※ 応急措置を実施しないで判定した変状の健全性は、健全性の応急措置後の欄に記入すること。
C41: ※ たたき落としを実施した場合は、実施後の写真を添付すること。 | N41: ※ 変状の発生範囲の規模は、面積・寸法を記載すること。
C42: ※ 附属物の取付状態に関する異常写真は別途、様式D-1-2でとりまとめること。 | N42: (ひび割れ幅のみmmとし、その他をm表記とする)
C43: ※ 変状数に準じてシートを追加すること。（１シートに１ページとすること。） | N43: ※ 構造用鋼材以外の異物に伴ううき・はく離については、メモ欄に異物の概要を記入すること。

Sheet 様式D-1-2
B2: ■定期点検記録様式 異常写真台帳（トンネル内附属物等の取付状態） 【様式D-1-2】
B3: フリガナ | E3: ヤクオウジトンネル | I3: 路 線 名 | L3: 一般国道435号 | O3: 定期点検業者 | R3: 応用地質株式会社 | U3: 定期点検年月日 | W3: 44862
B4: 名 称 | E4: 薬王寺トンネル | I4: 管理者名 | L4: 山口県宇部土木建築事務所 | O4: 定期点検者名 | R4: 太田 裕之
B5: 覆工スパン番号 | F5: 異常番号 | J5: 覆工スパン番号 | N5: 異常番号 | R5: 覆工スパン番号 | V5: 異常番号
B6: 対象箇所 | G6: 部位区分 | J6: 対象箇所 | O6: 部位区分 | R6: 対象箇所 | W6: 部位区分
B7: 異常の種類 | J7: 異常の種類 | R7: 異常の種類
B8: 異常判定区分 | E8: メモ | J8: 異常判定区分 | M8: メモ | R8: 異常判定区分 | U8: メモ
B22: 覆工スパン番号 | F22: 異常番号 | J22: 覆工スパン番号 | N22: 異常番号 | R22: 覆工スパン番号 | V22: 異常番号
B23: 対象箇所 | G23: 部位区分 | J23: 対象箇所 | O23: 部位区分 | R23: 対象箇所 | W23: 部位区分
B24: 異常の種類 | J24: 異常の種類 | R24: 異常の種類
B25: 異常判定区分 | E25: メモ | J25: 異常判定区分 | M25: メモ | R25: 異常判定区分 | U25: メモ
B39: 覆工スパン番号 | F39: 異常番号 | J39: 覆工スパン番号 | N39: 異常番号 | R39: 覆工スパン番号 | V39: 異常番号
B40: 対象箇所 | G40: 部位区分 | J40: 対象箇所 | O40: 部位区分 | R40: 対象箇所 | W40: 部位区分
B41: 異常の種類 | J41: 異常の種類 | R41: 異常の種類
B42: 異常判定区分 | E42: メモ | J42: 異常判定区分 | M42: メモ | R42: 異常判定区分 | U42: メモ
D56: ※ 異常判定区分×について記入すること。また、応急措置前に異常判定区分×とした箇所のうち応急措置により○と判定した箇所も記入すること。
D57: ※ 応急措置を実施した場合は、その実施状況が分かる写真を添付すること。
D58: ※ 画像データは100kb程度とする。 | L58: ※ 変状数に準じてシートを追加すること。（１シートに１ページとすること。）

Sheet 様式D-2-1´
B3: ■定期点検記録様式 トンネル全体変状展開図（機器の活用時） 【様式D-2-1’】
B4: フリガナ | E4: ヤクオウジトンネル | J4: 路線名 | M4: 一般国道435号 | S4: 定期点検業者 | W4: 応用地質株式会社 | AC4: 定期点検年月日 | AF4: 44862
B5: 名 称 | E5: 薬王寺トンネル | J5: 管理者名 | M5: 山口県宇部土木建築事務所 | S5: 定期点検者名 | W5: 太田 裕之
B6: トンネル変状展開図 | C6: トンネル全体変状展開図
S18: 注１：本展開図は、見下げた状態で記載すること。 注２：覆工スパン番号は横断目地毎（矢板工法の場合は上半アーチの横断目地毎)に 設定すること。 注３：横断目地の変状は前の覆工スパン番号で計上すること。 注４：１枚に収まらない場合は、複数枚に分けて作成すること。 注５：覆工写真の画像サイズは500kb程度とすること。
B20: ■定期点検記録様式 トンネル全体変状展開図（機器の活用時） 【様式D-2-1’】
B21: フリガナ | E21: ヤクオウジトンネル | J21: 路線名 | M21: 一般国道435号 | S21: 定期点検業者 | W21: 応用地質株式会社 | AC21: 定期点検年月日 | AF21: 44862
B22: 名 称 | E22: 薬王寺トンネル | J22: 管理者名 | M22: 山口県宇部土木建築事務所 | S22: 定期点検者名 | W22: 太田 裕之
B23: トンネル変状展開図 | C23: トンネル全体変状展開図
S35: 注１：本展開図は、見下げた状態で記載すること。 注２：覆工スパン番号は横断目地毎（矢板工法の場合は上半アーチの横断目地毎)に 設定すること。 注３：横断目地の変状は前の覆工スパン番号で計上すること。 注４：１枚に収まらない場合は、複数枚に分けて作成すること。 注５：覆工写真の画像サイズは500kb程度とすること。

Sheet 様式D-3_PS
AU1: 様式Fリンク用→ | AV1: 覆工ｽﾊﾟﾝ 番号 | AW1: ｽﾊﾟﾝ 長 (m) | AX1: 変状数集計 | BS1: 覆工スパン毎の 健全性の診断 | BW1: 変状規模集計
AX2: 対策区分毎の変状数 | BJ2: 健全性の判定区分毎の変状数 | BW2: 覆工スパン長(m) | CA2: 対策区分毎の変状の発生範囲の規模(㎡）
B3: ■定期点検記録様式 覆工スパン別変状詳細展開図 【様式D-3】 | AX3: 外力 | BB3: 材質劣化 | BF3: 漏水 | BJ3: 外力 | BM3: 材質劣化 | BP3: 漏水 | BS3: 外力 | BT3: 材質劣化 | BU3: 漏水 | BV3: 健全性 | BW3: 外力※１ | CA3: 材質劣化 | CE3: 漏水
B4: フリガナ | E4: ヤクオウジトンネル | K4: 路線名 | N4: 一般国道435号 | T4: 定期点検業者 | Y4: 応用地質株式会社 | AG4: 定期点検年月日 | AK4: 44862 | AX4: Ⅳ | AY4: Ⅲ | AZ4: Ⅱa | BA4: Ⅱb | BB4: Ⅳ | BC4: Ⅲ | BD4: Ⅱa | BE4: Ⅱb | BF4: Ⅳ | BG4: Ⅲ | BH4: Ⅱa | BI4: Ⅱb | BJ4: Ⅳ | BK4: Ⅲ | BL4: Ⅱ | BM4: Ⅳ | BN4: Ⅲ | BO4: Ⅱ | BP4: Ⅳ | BQ4: Ⅲ | BR4: Ⅱ | BW4: Ⅳ | BX4: Ⅲ | BY4: Ⅱa | BZ4: Ⅱb | CA4: Ⅳ | CB4: Ⅲ | CC4: Ⅱa | CD4: Ⅱb | CE4: Ⅳ | CF4: Ⅲ | CG4: Ⅱa | CH4: Ⅱb
B5: 名 称 | E5: 薬王寺トンネル | K5: 管理者名 | N5: 山口県宇部土木建築事務所 | T5: 定期点検者名 | Y5: 太田 裕之 | AQ5: 〇 | AV5: =N7 -> PS | AW5: =R7 -> 0 | AX5: =+Y32 -> 0 | AY5: =+Z32 -> 0 | AZ5: =+AA32 -> 0 | BA5: =+AB32 -> 0 | BB5: =+AC32 -> 0 | BC5: =+AD32 -> 0 | BD5: =+AE32 -> 0 | BE5: =+AF32 -> 0 | ... BI5: =+AJ32 -> 0 | BJ5: =+Y35 -> 0 | BK5: =+Z35 -> 0 | BL5: =+AA35 -> 0 | BM5: =+AC35 -> 0 | BN5: =+AD35 -> 0 | BO5: =+AE35 -> 0 | BP5: =+AG35 -> 0 | BQ5: =+AH35 -> 0 | BR5: =+AI35 -> 0 | BS5: =+Y36 -> Ⅰ | BT5: =+AC36 -> Ⅰ | BU5: =+AG36 -> Ⅰ | BV5: =+Y37 -> Ⅰ | BW5: =IF(Y32>0,R7,"") | BX5: =IF(Z32>0,"",IF(AA32>0,R7,"")) | BY5: =IF(Y32+Z32>0,"",IF(AA32>0,R7,"")) | BZ5: =IF(Y32+Z32+AA32>0,"",IF(AB32>0,R7,"")) | CA5: =+AC31 -> 0 | CB5: =+AD31 -> 0 | CC5: =+AE31 -> 0 | CD5: =+AF31 -> 0 | CE5: =+AG31 -> 0 | CF5: =+AH31 -> 0 | CG5: =+AI31 -> 0 | CH5: =+AJ31 -> 0
B6: スパン別変状展開図 | K6: 【健全性判定集計表】
K7: スパン番号 | N7: PS | P7: スパン長 | R7: 0 | U7: 前回定期点検時の健全性 | W7: 応急措置前の判定 | Y7: 対策区分毎の 変状の有無 | AC7: 対策区分毎の変状の発生範囲の規模(㎡) | AK7: 備考注2
K8: 変状番号 | L8: 対象箇所 | N8: 部位区分 | P8: 変状区分 | R8: 変状種類
Y9: 外力注1 | AC9: 材質劣化注1 | AG9: 漏水注1
Y10: Ⅳ | Z10: Ⅲ | AA10: Ⅱa | AB10: Ⅱb | AC10: Ⅳ | AD10: Ⅲ | AE10: Ⅱa | AF10: Ⅱb | AG10: Ⅳ | AH10: Ⅲ | AI10: Ⅱa | AJ10: Ⅱb
AQ11: =IF(P11="外力",1,IF(P11="材質劣化",2,IF(P11="漏水",3,4))) -> 4
AQ12: =IF(P12="外力",1,IF(P12="材質劣化",2,IF(P12="漏水",3,4))) -> 4
AQ13: =IF(P13="外力",1,IF(P13="材質劣化",2,IF(P13="漏水",3,4))) -> 4
AQ14: =IF(P14="外力",1,IF(P14="材質劣化",2,IF(P14="漏水",3,4))) -> 4
AQ15: =IF(P15="外力",1,IF(P15="材質劣化",2,IF(P15="漏水",3,4))) -> 4
AQ16: =IF(P16="外力",1,IF(P16="材質劣化",2,IF(P16="漏水",3,4))) -> 4
AQ17: =IF(P17="外力",1,IF(P17="材質劣化",2,IF(P17="漏水",3,4))) -> 4
AQ18: =IF(P18="外力",1,IF(P18="材質劣化",2,IF(P18="漏水",3,4))) -> 4
AQ19: =IF(P19="外力",1,IF(P19="材質劣化",2,IF(P19="漏水",3,4))) -> 4
AQ20: =IF(P20="外力",1,IF(P20="材質劣化",2,IF(P20="漏水",3,4))) -> 4
AQ21: =IF(P21="外力",1,IF(P21="材質劣化",2,IF(P21="漏水",3,4))) -> 4
AQ22: =IF(P22="外力",1,IF(P22="材質劣化",2,IF(P22="漏水",3,4))) -> 4
... AQ30: =IF(P30="外力",1,IF(P30="材質劣化",2,IF(P30="漏水",3,4))) -> 4
K31: 集計 ・ 判定 ・ 診断 | L31: 変状の発生規模合計(㎡) | Y31: － | AC31: =SUM(AC11:AC30) -> 0 | AD31: =SUM(AD11:AD30) -> 0 | AE31: =SUM(AE11:AE30) -> 0 | AF31: =SUM(AF11:AF30) -> 0 | AG31: =SUM(AG11:AG30) -> 0 | AH31: =SUM(AH11:AH30) -> 0 | AI31: =SUM(AI11:AI30) -> 0 | AJ31: =SUM(AJ11:AJ30) -> 0 | AK31: 計
L32: 対策区分の 判定結果 | O32: 判定区分毎の変状数 | Y32: =COUNTIF(Y11:Y30,"〇") -> 0 | Z32: =COUNTIF(Z11:Z30,"〇") -> 0 | AA32: =COUNTIF(AA11:AA30,"〇") -> 0 | AB32: =COUNTIF(AB11:AB30,"〇") -> 0 | AC32: =COUNT(AC11:AC30) -> 0 | AD32: =COUNT(AD11:AD30) -> 0 | AE32: =COUNT(AE11:AE30) -> 0 | AF32: =COUNT(AF11:AF30) -> 0 | AG32: =COUNT(AG11:AG30) -> 0 | AH32: =COUNT(AH11:AH30) -> 0 | AI32: =COUNT(AI11:AI30) -> 0 | AJ32: =COUNT(AJ11:AJ30) -> 0
O33: 変状区分毎の判定区分注3 | Y33: =IF(Y32>0,"Ⅳ",IF(Z32>0,"Ⅲ",IF(AA32>0,"Ⅱa",IF(AB32>0,"Ⅱb","Ⅰ")))) -> Ⅰ | AC33: =IF(AC32>0,"Ⅳ",IF(AD32>0,"Ⅲ",IF(AE32>0,"Ⅱa",IF(AF32>0,"Ⅱb","Ⅰ")))) -> Ⅰ | AG33: =IF(AG32>0,"Ⅳ",IF(AH32>0,"Ⅲ",IF(AI32>0,"Ⅱa",IF(AJ32>0,"Ⅱb","Ⅰ")))) -> Ⅰ | AQ33: Ⅳ | AR33: Ⅲ | AS33: Ⅱ
L34: 健全性の 診断結果 | O34: 判定区分 | Y34: Ⅳ | Z34: Ⅲ | AA34: Ⅱ | AC34: Ⅳ | AD34: Ⅲ | AE34: Ⅱ | AG34: Ⅳ | AH34: Ⅲ | AI34: Ⅱ | AQ34: =+Y32+Z32 -> 0 | AS34: =+AA32+AB32 -> 0
O35: 判定区分毎の変状数注4 | Y35: =Y32 -> 0 | Z35: =Z32 -> 0 | AA35: =AA32+AB32 -> 0 | AC35: =+AC32 -> 0 | AD35: =AD32 -> 0 | AE35: =AE32+AF32 -> 0 | AG35: =AG32 -> 0 | AH35: =AH32 -> 0 | AI35: =AI32+AJ32 -> 0 | AQ35: =+Y32+AC35+AG35 -> 0 | AR35: =+Z32+AD35+AH35 -> 0 | AS35: =+AS34+AE35+AI35 -> 0
O36: 変状区分毎の判定区分注4 | Y36: =IF(Y35>=1,"Ⅳ",IF(Z35>=1,"Ⅲ",IF(AA35>=1,"Ⅱ","Ⅰ"))) -> Ⅰ | AC36: =IF(AC35>=1,"Ⅳ",IF(AD35>=1,"Ⅲ",IF(AE35>=1,"Ⅱ","Ⅰ"))) -> Ⅰ | AG36: =IF(AG35>=1,"Ⅳ",IF(AH35>=1,"Ⅲ",IF(AI35>=1,"Ⅱ","Ⅰ"))) -> Ⅰ | AQ36: =IF(AQ35>0,"Ⅳ",IF(AR35>0,"Ⅲ",IF(AS35>0,"Ⅱ","Ⅰ"))) -> Ⅰ
O37: 覆工スパン単位の判定区分注5 | Y37: =IF(COUNTIF(Y36:AJ36,"Ⅳ")>0,"Ⅳ",IF(COUNTIF(Y36:AJ36,"Ⅲ")>0,"Ⅲ",IF(COUNTIF(Y36:AJ36,"Ⅱ")>0,"Ⅱ","Ⅰ"))) -> Ⅰ
K38: 特記事項
K40: 注1：誤記入防止のため、当該変状区分以外のセルは灰色表示とすること。
K41: 注2：応急対策を実施した場合は、その詳細を備考に記載すること。
K42: 注3：変状区分毎での最も評価の厳しい判定区分。
K43: 注4：変状区分毎での最も評価の厳しい判定区分．外力は覆工スパン単位、材質劣化、漏水は変状単位で行う。
K44: 注5：覆工スパンの中で最も評価の厳しい健全性を採用し、その覆工スパン毎の健全性とする。
B46: ※1：本シートは作成洩れのないよう、変状が無くても全スパン分を作成すること．また変状展開図は、様式D-2-1、様式D-2-1'と同じものを覆工スパン単位で拡大し掲載すること。
B47: ※2：変状番号は、様式D-1-1で記入した番号と整合させること。
B48: ※3：対策区分毎の変状発生規模は、様式D-1-1に記載した面積を記入すること（ただし外力はスパン単位で評価するため対象外とし、備考欄に状況を記入）。
B49: ※4：本様式は覆工スパン毎に作成すること。
B50: ※5：変状数が多い場合は、適時、表の行を増やして覆工スパン毎に1枚のシートに収めること。また、1スパン１シートとし、スパンに合わせてシートを追加すること。
B51: ※6：対策区分毎の変状の発生範囲の規模とは，対策を行う際に参考となる変状の長さや面積であり，変状を包含する長さや面積とする。
B52: ※7：路面滞水は、変状面積に1を記載するとともに、備考にも内容を記載すること。

Sheet 様式D-3_S01
AU1: 様式Fリンク用→ | AV1: 覆工ｽﾊﾟﾝ 番号 | AW1: ｽﾊﾟﾝ 長 (m) | AX1: 変状数集計 | BS1: 覆工スパン毎の 健全性の診断 | BW1: 変状規模集計
AX2: 対策区分毎の変状数 | BJ2: 健全性の判定区分毎の変状数 | BW2: 覆工スパン長(m) | CA2: 対策区分毎の変状の発生範囲の規模(㎡）
B3: ■定期点検記録様式 覆工スパン別変状詳細展開図 【様式D-3】 | AX3: 外力 | BB3: 材質劣化 | BF3: 漏水 | BJ3: 外力 | BM3: 材質劣化 | BP3: 漏水 | BS3: 外力 | BT3: 材質劣化 | BU3: 漏水 | BV3: 健全性 | BW3: 外力※１ | CA3: 材質劣化 | CE3: 漏水
B4: フリガナ | E4: ヤクオウジトンネル | K4: 路線名 | N4: 一般国道435号 | T4: 定期点検業者 | Y4: 応用地質株式会社 | AG4: 定期点検年月日 | AK4: 44862 | AX4: Ⅳ | AY4: Ⅲ | AZ4: Ⅱa | BA4: Ⅱb | BB4: Ⅳ | BC4: Ⅲ | BD4: Ⅱa | BE4: Ⅱb | BF4: Ⅳ | BG4: Ⅲ | BH4: Ⅱa | BI4: Ⅱb | BJ4: Ⅳ | BK4: Ⅲ | BL4: Ⅱ | BM4: Ⅳ | BN4: Ⅲ | BO4: Ⅱ | BP4: Ⅳ | BQ4: Ⅲ | BR4: Ⅱ | BW4: Ⅳ | BX4: Ⅲ | BY4: Ⅱa | BZ4: Ⅱb | CA4: Ⅳ | CB4: Ⅲ | CC4: Ⅱa | CD4: Ⅱb | CE4: Ⅳ | CF4: Ⅲ | CG4: Ⅱa | CH4: Ⅱb
B5: 名 称 | E5: 薬王寺トンネル | K5: 管理者名 | N5: 山口県宇部土木建築事務所 | T5: 定期点検者名 | Y5: 太田 裕之 | AQ5: 〇 | AV5: =N7 -> 1 | AW5: =R7 -> 5.1 | AX5: =+Y32 -> 0 | AY5: =+Z32 -> 0 | AZ5: =+AA32 -> 0 | BA5: =+AB32 -> 0 | BB5: =+AC32 -> 0 | BC5: =+AD32 -> 0 | BD5: =+AE32 -> 0 | BE5: =+AF32 -> 0 | ... BI5: =+AJ32 -> 0 | BJ5: =+Y35 -> 0 | BK5: =+Z35 -> 0 | BL5: =+AA35 -> 0 | BM5: =+AC35 -> 0 | BN5: =+AD35 -> 0 | BO5: =+AE35 -> 0 | BP5: =+AG35 -> 0 | BQ5: =+AH35 -> 0 | BR5: =+AI35 -> 0 | BS5: =+Y36 -> Ⅰ | BT5: =+AC36 -> Ⅰ | BU5: =+AG36 -> Ⅰ | BV5: =+Y37 -> Ⅰ | BW5: =IF(Y32>0,R7,"") | BX5: =IF(Z32>0,"",IF(AA32>0,R7,"")) | BY5: =IF(Y32+Z32>0,"",IF(AA32>0,R7,"")) | BZ5: =IF(Y32+Z32+AA32>0,"",IF(AB32>0,R7,"")) | CA5: =+AC31 -> 0 | CB5: =+AD31 -> 0 | CC5: =+AE31 -> 0 | CD5: =+AF31 -> 0 | CE5: =+AG31 -> 0 | CF5: =+AH31 -> 0 | CG5: =+AI31 -> 0 | CH5: =+AJ31 -> 0
B6: スパン別変状展開図 | K6: 【健全性判定集計表】
K7: スパン番号 | N7: 1 | P7: スパン長 | R7: 5.1 | U7: 前回定期点検時の健全性 | W7: 応急措置前の判定 | Y7: 対策区分毎の 変状の有無 | AC7: 対策区分毎の変状の発生範囲の規模(㎡) | AK7: 備考注2
K8: 変状番号 | L8: 対象箇所 | N8: 部位区分 | P8: 変状区分 | R8: 変状種類
Y9: 外力注1 | AC9: 材質劣化注1 | AG9: 漏水注1
Y10: Ⅳ | Z10: Ⅲ | AA10: Ⅱa | AB10: Ⅱb | AC10: Ⅳ | AD10: Ⅲ | AE10: Ⅱa | AF10: Ⅱb | AG10: Ⅳ | AH10: Ⅲ | AI10: Ⅱa | AJ10: Ⅱb
AQ11: =IF(P11="外力",1,IF(P11="材質劣化",2,IF(P11="漏水",3,4))) -> 4
AQ12: =IF(P12="外力",1,IF(P12="材質劣化",2,IF(P12="漏水",3,4))) -> 4
AQ13: =IF(P13="外力",1,IF(P13="材質劣化",2,IF(P13="漏水",3,4))) -> 4
AQ14: =IF(P14="外力",1,IF(P14="材質劣化",2,IF(P14="漏水",3,4))) -> 4
AQ15: =IF(P15="外力",1,IF(P15="材質劣化",2,IF(P15="漏水",3,4))) -> 4
AQ16: =IF(P16="外力",1,IF(P16="材質劣化",2,IF(P16="漏水",3,4))) -> 4
AQ17: =IF(P17="外力",1,IF(P17="材質劣化",2,IF(P17="漏水",3,4))) -> 4
AQ18: =IF(P18="外力",1,IF(P18="材質劣化",2,IF(P18="漏水",3,4))) -> 4
AQ19: =IF(P19="外力",1,IF(P19="材質劣化",2,IF(P19="漏水",3,4))) -> 4
AQ20: =IF(P20="外力",1,IF(P20="材質劣化",2,IF(P20="漏水",3,4))) -> 4
AQ21: =IF(P21="外力",1,IF(P21="材質劣化",2,IF(P21="漏水",3,4))) -> 4
AQ22: =IF(P22="外力",1,IF(P22="材質劣化",2,IF(P22="漏水",3,4))) -> 4
... AQ30: =IF(P30="外力",1,IF(P30="材質劣化",2,IF(P30="漏水",3,4))) -> 4
K31: 集計 ・ 判定 ・ 診断 | L31: 変状の発生規模合計(㎡) | Y31: － | AC31: =SUM(AC11:AC30) -> 0 | AD31: =SUM(AD11:AD30) -> 0 | AE31: =SUM(AE11:AE30) -> 0 | AF31: =SUM(AF11:AF30) -> 0 | AG31: =SUM(AG11:AG30) -> 0 | AH31: =SUM(AH11:AH30) -> 0 | AI31: =SUM(AI11:AI30) -> 0 | AJ31: =SUM(AJ11:AJ30) -> 0 | AK31: 計
L32: 対策区分の 判定結果 | O32: 判定区分毎の変状数 | Y32: =COUNTIF(Y11:Y30,"〇") -> 0 | Z32: =COUNTIF(Z11:Z30,"〇") -> 0 | AA32: =COUNTIF(AA11:AA30,"〇") -> 0 | AB32: =COUNTIF(AB11:AB30,"〇") -> 0 | AC32: =COUNT(AC11:AC30) -> 0 | AD32: =COUNT(AD11:AD30) -> 0 | AE32: =COUNT(AE11:AE30) -> 0 | AF32: =COUNT(AF11:AF30) -> 0 | AG32: =COUNT(AG11:AG30) -> 0 | AH32: =COUNT(AH11:AH30) -> 0 | AI32: =COUNT(AI11:AI30) -> 0 | AJ32: =COUNT(AJ11:AJ30) -> 0
O33: 変状区分毎の判定区分注3 | Y33: =IF(Y32>0,"Ⅳ",IF(Z32>0,"Ⅲ",IF(AA32>0,"Ⅱa",IF(AB32>0,"Ⅱb","Ⅰ")))) -> Ⅰ | AC33: =IF(AC32>0,"Ⅳ",IF(AD32>0,"Ⅲ",IF(AE32>0,"Ⅱa",IF(AF32>0,"Ⅱb","Ⅰ")))) -> Ⅰ | AG33: =IF(AG32>0,"Ⅳ",IF(AH32>0,"Ⅲ",IF(AI32>0,"Ⅱa",IF(AJ32>0,"Ⅱb","Ⅰ")))) -> Ⅰ | AQ33: Ⅳ | AR33: Ⅲ | AS33: Ⅱ
L34: 健全性の 診断結果 | O34: 判定区分 | Y34: Ⅳ | Z34: Ⅲ | AA34: Ⅱ | AC34: Ⅳ | AD34: Ⅲ | AE34: Ⅱ | AG34: Ⅳ | AH34: Ⅲ | AI34: Ⅱ | AQ34: =+Y32+Z32 -> 0 | AS34: =+AA32+AB32 -> 0
O35: 判定区分毎の変状数注4 | Y35: =Y32 -> 0 | Z35: =Z32 -> 0 | AA35: =AA32+AB32 -> 0 | AC35: =+AC32 -> 0 | AD35: =AD32 -> 0 | AE35: =AE32+AF32 -> 0 | AG35: =AG32 -> 0 | AH35: =AH32 -> 0 | AI35: =AI32+AJ32 -> 0 | AQ35: =+Y32+AC35+AG35 -> 0 | AR35: =+Z32+AD35+AH35 -> 0 | AS35: =+AS34+AE35+AI35 -> 0
O36: 変状区分毎の判定区分注4 | Y36: =IF(Y35>=1,"Ⅳ",IF(Z35>=1,"Ⅲ",IF(AA35>=1,"Ⅱ","Ⅰ"))) -> Ⅰ | AC36: =IF(AC35>=1,"Ⅳ",IF(AD35>=1,"Ⅲ",IF(AE35>=1,"Ⅱ","Ⅰ"))) -> Ⅰ | AG36: =IF(AG35>=1,"Ⅳ",IF(AH35>=1,"Ⅲ",IF(AI35>=1,"Ⅱ","Ⅰ"))) -> Ⅰ | AQ36: =IF(AQ35>0,"Ⅳ",IF(AR35>0,"Ⅲ",IF(AS35>0,"Ⅱ","Ⅰ"))) -> Ⅰ
O37: 覆工スパン単位の判定区分注5 | Y37: =IF(COUNTIF(Y36:AJ36,"Ⅳ")>0,"Ⅳ",IF(COUNTIF(Y36:AJ36,"Ⅲ")>0,"Ⅲ",IF(COUNTIF(Y36:AJ36,"Ⅱ")>0,"Ⅱ","Ⅰ"))) -> Ⅰ
K38: 特記事項
K40: 注1：誤記入防止のため、当該変状区分以外のセルは灰色表示とすること。
K41: 注2：応急対策を実施した場合は、その詳細を備考に記載すること。
K42: 注3：変状区分毎での最も評価の厳しい判定区分。
K43: 注4：変状区分毎での最も評価の厳しい判定区分．外力は覆工スパン単位、材質劣化、漏水は変状単位で行う。
K44: 注5：覆工スパンの中で最も評価の厳しい健全性を採用し、その覆工スパン毎の健全性とする。
B46: ※1：本シートは作成洩れのないよう、変状が無くても全スパン分を作成すること．また変状展開図は、様式D-2-1、様式D-2-1'と同じものを覆工スパン単位で拡大し掲載すること。
B47: ※2：変状番号は、様式D-1-1で記入した番号と整合させること。
B48: ※3：対策区分毎の変状発生規模は、様式D-1-1に記載した面積を記入すること（ただし外力はスパン単位で評価するため対象外とし、備考欄に状況を記入）。
B49: ※4：本様式は覆工スパン毎に作成すること。
B50: ※5：変状数が多い場合は、適時、表の行を増やして覆工スパン毎に1枚のシートに収めること。また、1スパン１シートとし、スパンに合わせてシートを追加すること。
B51: ※6：対策区分毎の変状の発生範囲の規模とは，対策を行う際に参考となる変状の長さや面積であり，変状を包含する長さや面積とする。
B52: ※7：路面滞水は、変状面積に1を記載するとともに、備考にも内容を記載すること。

Sheet 様式D-3_S02
AU1: 様式Fリンク用→ | AV1: 覆工ｽﾊﾟﾝ 番号 | AW1: ｽﾊﾟﾝ 長 (m) | AX1: 変状数集計 | BS1: 覆工スパン毎の 健全性の診断 | BW1: 変状規模集計
AX2: 対策区分毎の変状数 | BJ2: 健全性の判定区分毎の変状数 | BW2: 覆工スパン長(m) | CA2: 対策区分毎の変状の発生範囲の規模(㎡）
B3: ■定期点検記録様式 覆工スパン別変状詳細展開図 【様式D-3】 | AX3: 外力 | BB3: 材質劣化 | BF3: 漏水 | BJ3: 外力 | BM3: 材質劣化 | BP3: 漏水 | BS3: 外力 | BT3: 材質劣化 | BU3: 漏水 | BV3: 健全性 | BW3: 外力※１ | CA3: 材質劣化 | CE3: 漏水
B4: フリガナ | E4: ヤクオウジトンネル | K4: 路線名 | N4: 一般国道435号 | T4: 定期点検業者 | Y4: 応用地質株式会社 | AG4: 定期点検年月日 | AK4: 44862 | AX4: Ⅳ | AY4: Ⅲ | AZ4: Ⅱa | BA4: Ⅱb | BB4: Ⅳ | BC4: Ⅲ | BD4: Ⅱa | BE4: Ⅱb | BF4: Ⅳ | BG4: Ⅲ | BH4: Ⅱa | BI4: Ⅱb | BJ4: Ⅳ | BK4: Ⅲ | BL4: Ⅱ | BM4: Ⅳ | BN4: Ⅲ | BO4: Ⅱ | BP4: Ⅳ | BQ4: Ⅲ | BR4: Ⅱ | BW4: Ⅳ | BX4: Ⅲ | BY4: Ⅱa | BZ4: Ⅱb | CA4: Ⅳ | CB4: Ⅲ | CC4: Ⅱa | CD4: Ⅱb | CE4: Ⅳ | CF4: Ⅲ | CG4: Ⅱa | CH4: Ⅱb
B5: 名 称 | E5: 薬王寺トンネル | K5: 管理者名 | N5: 山口県宇部土木建築事務所 | T5: 定期点検者名 | Y5: 太田 裕之 | AQ5: 〇 | AV5: =N7 -> 2 | AW5: =R7 -> 10.3 | AX5: =+Y32 -> 0 | AY5: =+Z32 -> 0 | AZ5: =+AA32 -> 0 | BA5: =+AB32 -> 0 | BB5: =+AC32 -> 0 | BC5: =+AD32 -> 0 | BD5: =+AE32 -> 0 | BE5: =+AF32 -> 0 | ... BI5: =+AJ32 -> 0 | BJ5: =+Y35 -> 0 | BK5: =+Z35 -> 0 | BL5: =+AA35 -> 0 | BM5: =+AC35 -> 0 | BN5: =+AD35 -> 0 | BO5: =+AE35 -> 0 | BP5: =+AG35 -> 0 | BQ5: =+AH35 -> 0 | BR5: =+AI35 -> 0 | BS5: =+Y36 -> Ⅰ | BT5: =+AC36 -> Ⅰ | BU5: =+AG36 -> Ⅰ | BV5: =+Y37 -> Ⅰ | BW5: =IF(Y32>0,R7,"") | BX5: =IF(Z32>0,"",IF(AA32>0,R7,"")) | BY5: =IF(Y32+Z32>0,"",IF(AA32>0,R7,"")) | BZ5: =IF(Y32+Z32+AA32>0,"",IF(AB32>0,R7,"")) | CA5: =+AC31 -> 0 | CB5: =+AD31 -> 0 | CC5: =+AE31 -> 0 | CD5: =+AF31 -> 0 | CE5: =+AG31 -> 0 | CF5: =+AH31 -> 0 | CG5: =+AI31 -> 0 | CH5: =+AJ31 -> 0
B6: スパン別変状展開図 | K6: 【健全性判定集計表】
K7: スパン番号 | N7: 2 | P7: スパン長 | R7: 10.3 | U7: 前回定期点検時の健全性 | W7: 応急措置前の判定 | Y7: 対策区分毎の 変状の有無 | AC7: 対策区分毎の変状の発生範囲の規模(㎡) | AK7: 備考注2
K8: 変状番号 | L8: 対象箇所 | N8: 部位区分 | P8: 変状区分 | R8: 変状種類
Y9: 外力注1 | AC9: 材質劣化注1 | AG9: 漏水注1
Y10: Ⅳ | Z10: Ⅲ | AA10: Ⅱa | AB10: Ⅱb | AC10: Ⅳ | AD10: Ⅲ | AE10: Ⅱa | AF10: Ⅱb | AG10: Ⅳ | AH10: Ⅲ | AI10: Ⅱa | AJ10: Ⅱb
AQ11: =IF(P11="外力",1,IF(P11="材質劣化",2,IF(P11="漏水",3,4))) -> 4
AQ12: =IF(P12="外力",1,IF(P12="材質劣化",2,IF(P12="漏水",3,4))) -> 4
AQ13: =IF(P13="外力",1,IF(P13="材質劣化",2,IF(P13="漏水",3,4))) -> 4
AQ14: =IF(P14="外力",1,IF(P14="材質劣化",2,IF(P14="漏水",3,4))) -> 4
AQ15: =IF(P15="外力",1,IF(P15="材質劣化",2,IF(P15="漏水",3,4))) -> 4
AQ16: =IF(P16="外力",1,IF(P16="材質劣化",2,IF(P16="漏水",3,4))) -> 4
AQ17: =IF(P17="外力",1,IF(P17="材質劣化",2,IF(P17="漏水",3,4))) -> 4
AQ18: =IF(P18="外力",1,IF(P18="材質劣化",2,IF(P18="漏水",3,4))) -> 4
AQ19: =IF(P19="外力",1,IF(P19="材質劣化",2,IF(P19="漏水",3,4))) -> 4
AQ20: =IF(P20="外力",1,IF(P20="材質劣化",2,IF(P20="漏水",3,4))) -> 4
AQ21: =IF(P21="外力",1,IF(P21="材質劣化",2,IF(P21="漏水",3,4))) -> 4
AQ22: =IF(P22="外力",1,IF(P22="材質劣化",2,IF(P22="漏水",3,4))) -> 4
... AQ30: =IF(P30="外力",1,IF(P30="材質劣化",2,IF(P30="漏水",3,4))) -> 4
K31: 集計 ・ 判定 ・ 診断 | L31: 変状の発生規模合計(㎡) | Y31: － | AC31: =SUM(AC11:AC30) -> 0 | AD31: =SUM(AD11:AD30) -> 0 | AE31: =SUM(AE11:AE30) -> 0 | AF31: =SUM(AF11:AF30) -> 0 | AG31: =SUM(AG11:AG30) -> 0 | AH31: =SUM(AH11:AH30) -> 0 | AI31: =SUM(AI11:AI30) -> 0 | AJ31: =SUM(AJ11:AJ30) -> 0 | AK31: 計
L32: 対策区分の 判定結果 | O32: 判定区分毎の変状数 | Y32: =COUNTIF(Y11:Y30,"〇") -> 0 | Z32: =COUNTIF(Z11:Z30,"〇") -> 0 | AA32: =COUNTIF(AA11:AA30,"〇") -> 0 | AB32: =COUNTIF(AB11:AB30,"〇") -> 0 | AC32: =COUNT(AC11:AC30) -> 0 | AD32: =COUNT(AD11:AD30) -> 0 | AE32: =COUNT(AE11:AE30) -> 0 | AF32: =COUNT(AF11:AF30) -> 0 | AG32: =COUNT(AG11:AG30) -> 0 | AH32: =COUNT(AH11:AH30) -> 0 | AI32: =COUNT(AI11:AI30) -> 0 | AJ32: =COUNT(AJ11:AJ30) -> 0
O33: 変状区分毎の判定区分注3 | Y33: =IF(Y32>0,"Ⅳ",IF(Z32>0,"Ⅲ",IF(AA32>0,"Ⅱa",IF(AB32>0,"Ⅱb","Ⅰ")))) -> Ⅰ | AC33: =IF(AC32>0,"Ⅳ",IF(AD32>0,"Ⅲ",IF(AE32>0,"Ⅱa",IF(AF32>0,"Ⅱb","Ⅰ")))) -> Ⅰ | AG33: =IF(AG32>0,"Ⅳ",IF(AH32>0,"Ⅲ",IF(AI32>0,"Ⅱa",IF(AJ32>0,"Ⅱb","Ⅰ")))) -> Ⅰ | AQ33: Ⅳ | AR33: Ⅲ | AS33: Ⅱ
L34: 健全性の 診断結果 | O34: 判定区分 | Y34: Ⅳ | Z34: Ⅲ | AA34: Ⅱ | AC34: Ⅳ | AD34: Ⅲ | AE34: Ⅱ | AG34: Ⅳ | AH34: Ⅲ | AI34: Ⅱ | AQ34: =+Y32+Z32 -> 0 | AS34: =+AA32+AB32 -> 0
O35: 判定区分毎の変状数注4 | Y35: =Y32 -> 0 | Z35: =Z32 -> 0 | AA35: =AA32+AB32 -> 0 | AC35: =+AC32 -> 0 | AD35: =AD32 -> 0 | AE35: =AE32+AF32 -> 0 | AG35: =AG32 -> 0 | AH35: =AH32 -> 0 | AI35: =AI32+AJ32 -> 0 | AQ35: =+Y32+AC35+AG35 -> 0 | AR35: =+Z32+AD35+AH35 -> 0 | AS35: =+AS34+AE35+AI35 -> 0
O36: 変状区分毎の判定区分注4 | Y36: =IF(Y35>=1,"Ⅳ",IF(Z35>=1,"Ⅲ",IF(AA35>=1,"Ⅱ","Ⅰ"))) -> Ⅰ | AC36: =IF(AC35>=1,"Ⅳ",IF(AD35>=1,"Ⅲ",IF(AE35>=1,"Ⅱ","Ⅰ"))) -> Ⅰ | AG36: =IF(AG35>=1,"Ⅳ",IF(AH35>=1,"Ⅲ",IF(AI35>=1,"Ⅱ","Ⅰ"))) -> Ⅰ | AQ36: =IF(AQ35>0,"Ⅳ",IF(AR35>0,"Ⅲ",IF(AS35>0,"Ⅱ","Ⅰ"))) -> Ⅰ
O37: 覆工スパン単位の判定区分注5 | Y37: =IF(COUNTIF(Y36:AJ36,"Ⅳ")>0,"Ⅳ",IF(COUNTIF(Y36:AJ36,"Ⅲ")>0,"Ⅲ",IF(COUNTIF(Y36:AJ36,"Ⅱ")>0,"Ⅱ","Ⅰ"))) -> Ⅰ
K38: 特記事項
K40: 注1：誤記入防止のため、当該変状区分以外のセルは灰色表示とすること。
K41: 注2：応急対策を実施した場合は、その詳細を備考に記載すること。
K42: 注3：変状区分毎での最も評価の厳しい判定区分。
K43: 注4：変状区分毎での最も評価の厳しい判定区分．外力は覆工スパン単位、材質劣化、漏水は変状単位で行う。
K44: 注5：覆工スパンの中で最も評価の厳しい健全性を採用し、その覆工スパン毎の健全性とする。
B46: ※1：本シートは作成洩れのないよう、変状が無くても全スパン分を作成すること．また変状展開図は、様式D-2-1、様式D-2-1'と同じものを覆工スパン単位で拡大し掲載すること。
B47: ※2：変状番号は、様式D-1-1で記入した番号と整合させること。
B48: ※3：対策区分毎の変状発生規模は、様式D-1-1に記載した面積を記入すること（ただし外力はスパン単位で評価するため対象外とし、備考欄に状況を記入）。
B49: ※4：本様式は覆工スパン毎に作成すること。
B50: ※5：変状数が多い場合は、適時、表の行を増やして覆工スパン毎に1枚のシートに収めること。また、1スパン１シートとし、スパンに合わせてシートを追加すること。
B51: ※6：対策区分毎の変状の発生範囲の規模とは，対策を行う際に参考となる変状の長さや面積であり，変状を包含する長さや面積とする。
B52: ※7：路面滞水は、変状面積に1を記載するとともに、備考にも内容を記載すること。

Sheet 様式D-3_S03
AU1: 様式Fリンク用→ | AV1: 覆工ｽﾊﾟﾝ 番号 | AW1: ｽﾊﾟﾝ 長 (m) | AX1: 変状数集計 | BS1: 覆工スパン毎の 健全性の診断 | BW1: 変状規模集計
AX2: 対策区分毎の変状数 | BJ2: 健全性の判定区分毎の変状数 | BW2: 覆工スパン長(m) | CA2: 対策区分毎の変状の発生範囲の規模(㎡）
B3: ■定期点検記録様式 覆工スパン別変状詳細展開図 【様式D-3】 | AX3: 外力 | BB3: 材質劣化 | BF3: 漏水 | BJ3: 外力 | BM3: 材質劣化 | BP3: 漏水 | BS3: 外力 | BT3: 材質劣化 | BU3: 漏水 | BV3: 健全性 | BW3: 外力※１ | CA3: 材質劣化 | CE3: 漏水
B4: フリガナ | E4: ヤクオウジトンネル | K4: 路線名 | N4: 一般国道435号 | T4: 定期点検業者 | Y4: 応用地質株式会社 | AG4: 定期点検年月日 | AK4: 44862 | AX4: Ⅳ | AY4: Ⅲ | AZ4: Ⅱa | BA4: Ⅱb | BB4: Ⅳ | BC4: Ⅲ | BD4: Ⅱa | BE4: Ⅱb | BF4: Ⅳ | BG4: Ⅲ | BH4: Ⅱa | BI4: Ⅱb | BJ4: Ⅳ | BK4: Ⅲ | BL4: Ⅱ | BM4: Ⅳ | BN4: Ⅲ | BO4: Ⅱ | BP4: Ⅳ | BQ4: Ⅲ | BR4: Ⅱ | BW4: Ⅳ | BX4: Ⅲ | BY4: Ⅱa | BZ4: Ⅱb | CA4: Ⅳ | CB4: Ⅲ | CC4: Ⅱa | CD4: Ⅱb | CE4: Ⅳ | CF4: Ⅲ | CG4: Ⅱa | CH4: Ⅱb
B5: 名 称 | E5: 薬王寺トンネル | K5: 管理者名 | N5: 山口県宇部土木建築事務所 | T5: 定期点検者名 | Y5: 太田 裕之 | AQ5: 〇 | AV5: =N7 -> 3 | AW5: =R7 -> 10.3 | AX5: =+Y32 -> 0 | AY5: =+Z32 -> 0 | AZ5: =+AA32 -> 0 | BA5: =+AB32 -> 0 | BB5: =+AC32 -> 0 | BC5: =+AD32 -> 0 | BD5: =+AE32 -> 0 | BE5: =+AF32 -> 1 | ... BI5: =+AJ32 -> 0 | BJ5: =+Y35 -> 0 | BK5: =+Z35 -> 0 | BL5: =+AA35 -> 0 | BM5: =+AC35 -> 0 | BN5: =+AD35 -> 0 | BO5: =+AE35 -> 1 | BP5: =+AG35 -> 0 | BQ5: =+AH35 -> 0 | BR5: =+AI35 -> 0 | BS5: =+Y36 -> Ⅰ | BT5: =+AC36 -> Ⅱ | BU5: =+AG36 -> Ⅰ | BV5: =+Y37 -> Ⅱ | BW5: =IF(Y32>0,R7,"") | BX5: =IF(Z32>0,"",IF(AA32>0,R7,"")) | BY5: =IF(Y32+Z32>0,"",IF(AA32>0,R7,"")) | BZ5: =IF(Y32+Z32+AA32>0,"",IF(AB32>0,R7,"")) | CA5: =+AC31 -> 0 | CB5: =+AD31 -> 0 | CC5: =+AE31 -> 0 | CD5: =+AF31 -> 0.01 | CE5: =+AG31 -> 0 | CF5: =+AH31 -> 0 | CG5: =+AI31 -> 0 | CH5: =+AJ31 -> 0
B6: スパン別変状展開図 | K6: 【健全性判定集計表】
K7: スパン番号 | N7: 3 | P7: スパン長 | R7: 10.3 | U7: 前回定期点検時の健全性 | W7: 応急措置前の判定 | Y7: 対策区分毎の 変状の有無 | AC7: 対策区分毎の変状の発生範囲の規模(㎡) | AK7: 備考注2
K8: 変状番号 | L8: 対象箇所 | N8: 部位区分 | P8: 変状区分 | R8: 変状種類
Y9: 外力注1 | AC9: 材質劣化注1 | AG9: 漏水注1
Y10: Ⅳ | Z10: Ⅲ | AA10: Ⅱa | AB10: Ⅱb | AC10: Ⅳ | AD10: Ⅲ | AE10: Ⅱa | AF10: Ⅱb | AG10: Ⅳ | AH10: Ⅲ | AI10: Ⅱa | AJ10: Ⅱb
K11: 1 | L11: 覆工・坑門 | N11: アーチ（天端） | P11: 材質劣化 | R11: うき・はく離 | U11: Ⅱ | W11: － | AK11: 対策済み | AQ11: =IF(P11="外力",1,IF(P11="材質劣化",2,IF(P11="漏水",3,4))) -> 2
K12: 2 | L12: 覆工・坑門 | N12: アーチ（天端） | P12: 材質劣化 | R12: うき・はく離 | U12: Ⅱ | W12: － | AK12: 対策済み | AQ12: =IF(P12="外力",1,IF(P12="材質劣化",2,IF(P12="漏水",3,4))) -> 2
K13: 3 | L13: 覆工・坑門 | N13: アーチ（右側） | P13: 材質劣化 | R13: 鋼材腐食 | U13: Ⅱ | W13: － | AF13: 0.01 | AQ13: =IF(P13="外力",1,IF(P13="材質劣化",2,IF(P13="漏水",3,4))) -> 2
AQ14: =IF(P14="外力",1,IF(P14="材質劣化",2,IF(P14="漏水",3,4))) -> 4
AQ15: =IF(P15="外力",1,IF(P15="材質劣化",2,IF(P15="漏水",3,4))) -> 4
AQ16: =IF(P16="外力",1,IF(P16="材質劣化",2,IF(P16="漏水",3,4))) -> 4
AQ17: =IF(P17="外力",1,IF(P17="材質劣化",2,IF(P17="漏水",3,4))) -> 4
AQ18: =IF(P18="外力",1,IF(P18="材質劣化",2,IF(P18="漏水",3,4))) -> 4
AQ19: =IF(P19="外力",1,IF(P19="材質劣化",2,IF(P19="漏水",3,4))) -> 4
AQ20: =IF(P20="外力",1,IF(P20="材質劣化",2,IF(P20="漏水",3,4))) -> 4
AQ21: =IF(P21="外力",1,IF(P21="材質劣化",2,IF(P21="漏水",3,4))) -> 4
AQ22: =IF(P22="外力",1,IF(P22="材質劣化",2,IF(P22="漏水",3,4))) -> 4
AQ23: =IF(P23="外力",1,IF(P23="材質劣化",2,IF(P23="漏水",3,4))) -> 4
AQ24: =IF(P24="外力",1,IF(P24="材質劣化",2,IF(P24="漏水",3,4))) -> 4
AQ25: =IF(P25="外力",1,IF(P25="材質劣化",2,IF(P25="漏水",3,4))) -> 4
... AQ30: =IF(P30="外力",1,IF(P30="材質劣化",2,IF(P30="漏水",3,4))) -> 4
K31: 集計 ・ 判定 ・ 診断 | L31: 変状の発生規模合計(㎡) | Y31: － | AC31: =SUM(AC11:AC30) -> 0 | AD31: =SUM(AD11:AD30) -> 0 | AE31: =SUM(AE11:AE30) -> 0 | AF31: =SUM(AF11:AF30) -> 0.01 | AG31: =SUM(AG11:AG30) -> 0 | AH31: =SUM(AH11:AH30) -> 0 | AI31: =SUM(AI11:AI30) -> 0 | AJ31: =SUM(AJ11:AJ30) -> 0 | AK31: 計
L32: 対策区分の 判定結果 | O32: 判定区分毎の変状数 | Y32: =COUNTIF(Y11:Y30,"〇") -> 0 | Z32: =COUNTIF(Z11:Z30,"〇") -> 0 | AA32: =COUNTIF(AA11:AA30,"〇") -> 0 | AB32: =COUNTIF(AB11:AB30,"〇") -> 0 | AC32: =COUNT(AC11:AC30) -> 0 | AD32: =COUNT(AD11:AD30) -> 0 | AE32: =COUNT(AE11:AE30) -> 0 | AF32: =COUNT(AF11:AF30) -> 1 | AG32: =COUNT(AG11:AG30) -> 0 | AH32: =COUNT(AH11:AH30) -> 0 | AI32: =COUNT(AI11:AI30) -> 0 | AJ32: =COUNT(AJ11:AJ30) -> 0
O33: 変状区分毎の判定区分注3 | Y33: =IF(Y32>0,"Ⅳ",IF(Z32>0,"Ⅲ",IF(AA32>0,"Ⅱa",IF(AB32>0,"Ⅱb","Ⅰ")))) -> Ⅰ | AC33: =IF(AC32>0,"Ⅳ",IF(AD32>0,"Ⅲ",IF(AE32>0,"Ⅱa",IF(AF32>0,"Ⅱb","Ⅰ")))) -> Ⅱb | AG33: =IF(AG32>0,"Ⅳ",IF(AH32>0,"Ⅲ",IF(AI32>0,"Ⅱa",IF(AJ32>0,"Ⅱb","Ⅰ")))) -> Ⅰ | AQ33: Ⅳ | AR33: Ⅲ | AS33: Ⅱ
L34: 健全性の 診断結果 | O34: 判定区分 | Y34: Ⅳ | Z34: Ⅲ | AA34: Ⅱ | AC34: Ⅳ | AD34: Ⅲ | AE34: Ⅱ | AG34: Ⅳ | AH34: Ⅲ | AI34: Ⅱ | AQ34: =+Y32+Z32 -> 0 | AS34: =+AA32+AB32 -> 0
O35: 判定区分毎の変状数注4 | Y35: =Y32 -> 0 | Z35: =Z32 -> 0 | AA35: =AA32+AB32 -> 0 | AC35: =+AC32 -> 0 | AD35: =AD32 -> 0 | AE35: =AE32+AF32 -> 1 | AG35: =AG32 -> 0 | AH35: =AH32 -> 0 | AI35: =AI32+AJ32 -> 0 | AQ35: =+Y32+AC35+AG35 -> 0 | AR35: =+Z32+AD35+AH35 -> 0 | AS35: =+AS34+AE35+AI35 -> 1
O36: 変状区分毎の判定区分注4 | Y36: =IF(Y35>=1,"Ⅳ",IF(Z35>=1,"Ⅲ",IF(AA35>=1,"Ⅱ","Ⅰ"))) -> Ⅰ | AC36: =IF(AC35>=1,"Ⅳ",IF(AD35>=1,"Ⅲ",IF(AE35>=1,"Ⅱ","Ⅰ"))) -> Ⅱ | AG36: =IF(AG35>=1,"Ⅳ",IF(AH35>=1,"Ⅲ",IF(AI35>=1,"Ⅱ","Ⅰ"))) -> Ⅰ | AQ36: =IF(AQ35>0,"Ⅳ",IF(AR35>0,"Ⅲ",IF(AS35>0,"Ⅱ","Ⅰ"))) -> Ⅱ
O37: 覆工スパン単位の判定区分注5 | Y37: =IF(COUNTIF(Y36:AJ36,"Ⅳ")>0,"Ⅳ",IF(COUNTIF(Y36:AJ36,"Ⅲ")>0,"Ⅲ",IF(COUNTIF(Y36:AJ36,"Ⅱ")>0,"Ⅱ","Ⅰ"))) -> Ⅱ
K38: 特記事項
K40: 注1：誤記入防止のため、当該変状区分以外のセルは灰色表示とすること。
K41: 注2：応急対策を実施した場合は、その詳細を備考に記載すること。
K42: 注3：変状区分毎での最も評価の厳しい判定区分。
K43: 注4：変状区分毎での最も評価の厳しい判定区分．外力は覆工スパン単位、材質劣化、漏水は変状単位で行う。
K44: 注5：覆工スパンの中で最も評価の厳しい健全性を採用し、その覆工スパン毎の健全性とする。
B46: ※1：本シートは作成洩れのないよう、変状が無くても全スパン分を作成すること．また変状展開図は、様式D-2-1、様式D-2-1'と同じものを覆工スパン単位で拡大し掲載すること。
B47: ※2：変状番号は、様式D-1-1で記入した番号と整合させること。
B48: ※3：対策区分毎の変状発生規模は、様式D-1-1に記載した面積を記入すること（ただし外力はスパン単位で評価するため対象外とし、備考欄に状況を記入）。
B49: ※4：本様式は覆工スパン毎に作成すること。
B50: ※5：変状数が多い場合は、適時、表の行を増やして覆工スパン毎に1枚のシートに収めること。また、1スパン１シートとし、スパンに合わせてシートを追加すること。
B51: ※6：対策区分毎の変状の発生範囲の規模とは，対策を行う際に参考となる変状の長さや面積であり，変状を包含する長さや面積とする。
B52: ※7：路面滞水は、変状面積に1を記載するとともに、備考にも内容を記載すること。

Sheet 様式D-3_S04
AU1: 様式Fリンク用→ | AV1: 覆工ｽﾊﾟﾝ 番号 | AW1: ｽﾊﾟﾝ 長 (m) | AX1: 変状数集計 | BS1: 覆工スパン毎の 健全性の診断 | BW1: 変状規模集計
AX2: 対策区分毎の変状数 | BJ2: 健全性の判定区分毎の変状数 | BW2: 覆工スパン長(m) | CA2: 対策区分毎の変状の発生範囲の規模(㎡）
B3: ■定期点検記録様式 覆工スパン別変状詳細展開図 【様式D-3】 | AX3: 外力 | BB3: 材質劣化 | BF3: 漏水 | BJ3: 外力 | BM3: 材質劣化 | BP3: 漏水 | BS3: 外力 | BT3: 材質劣化 | BU3: 漏水 | BV3: 健全性 | BW3: 外力※１ | CA3: 材質劣化 | CE3: 漏水
B4: フリガナ | E4: ヤクオウジトンネル | K4: 路線名 | N4: 一般国道435号 | T4: 定期点検業者 | Y4: 応用地質株式会社 | AG4: 定期点検年月日 | AK4: 44862 | AX4: Ⅳ | AY4: Ⅲ | AZ4: Ⅱa | BA4: Ⅱb | BB4: Ⅳ | BC4: Ⅲ | BD4: Ⅱa | BE4: Ⅱb | BF4: Ⅳ | BG4: Ⅲ | BH4: Ⅱa | BI4: Ⅱb | BJ4: Ⅳ | BK4: Ⅲ | BL4: Ⅱ | BM4: Ⅳ | BN4: Ⅲ | BO4: Ⅱ | BP4: Ⅳ | BQ4: Ⅲ | BR4: Ⅱ | BW4: Ⅳ | BX4: Ⅲ | BY4: Ⅱa | BZ4: Ⅱb | CA4: Ⅳ | CB4: Ⅲ | CC4: Ⅱa | CD4: Ⅱb | CE4: Ⅳ | CF4: Ⅲ | CG4: Ⅱa | CH4: Ⅱb
B5: 名 称 | E5: 薬王寺トンネル | K5: 管理者名 | N5: 山口県宇部土木建築事務所 | T5: 定期点検者名 | Y5: 太田 裕之 | AQ5: 〇 | AV5: =N7 -> 4 | AW5: =R7 -> 10.3 | AX5: =+Y32 -> 0 | AY5: =+Z32 -> 0 | AZ5: =+AA32 -> 0 | BA5: =+AB32 -> 0 | BB5: =+AC32 -> 0 | BC5: =+AD32 -> 0 | BD5: =+AE32 -> 1 | BE5: =+AF32 -> 1 | ... BI5: =+AJ32 -> 0 | BJ5: =+Y35 -> 0 | BK5: =+Z35 -> 0 | BL5: =+AA35 -> 0 | BM5: =+AC35 -> 0 | BN5: =+AD35 -> 0 | BO5: =+AE35 -> 2 | BP5: =+AG35 -> 0 | BQ5: =+AH35 -> 0 | BR5: =+AI35 -> 0 | BS5: =+Y36 -> Ⅰ | BT5: =+AC36 -> Ⅱ | BU5: =+AG36 -> Ⅰ | BV5: =+Y37 -> Ⅱ | BW5: =IF(Y32>0,R7,"") | BX5: =IF(Z32>0,"",IF(AA32>0,R7,"")) | BY5: =IF(Y32+Z32>0,"",IF(AA32>0,R7,"")) | BZ5: =IF(Y32+Z32+AA32>0,"",IF(AB32>0,R7,"")) | CA5: =+AC31 -> 0 | CB5: =+AD31 -> 0 | CC5: =+AE31 -> 0.01 | CD5: =+AF31 -> 0.02 | CE5: =+AG31 -> 0 | CF5: =+AH31 -> 0 | CG5: =+AI31 -> 0 | CH5: =+AJ31 -> 0
B6: スパン別変状展開図 | K6: 【健全性判定集計表】
K7: スパン番号 | N7: 4 | P7: スパン長 | R7: 10.3 | U7: 前回定期点検時の健全性 | W7: 応急措置前の判定 | Y7: 対策区分毎の 変状の有無 | AC7: 対策区分毎の変状の発生範囲の規模(㎡) | AK7: 備考注2
K8: 変状番号 | L8: 対象箇所 | N8: 部位区分 | P8: 変状区分 | R8: 変状種類
Y9: 外力注1 | AC9: 材質劣化注1 | AG9: 漏水注1
Y10: Ⅳ | Z10: Ⅲ | AA10: Ⅱa | AB10: Ⅱb | AC10: Ⅳ | AD10: Ⅲ | AE10: Ⅱa | AF10: Ⅱb | AG10: Ⅳ | AH10: Ⅲ | AI10: Ⅱa | AJ10: Ⅱb
K11: 1 | L11: 覆工・坑門 | N11: 横断目地（左側） | P11: 材質劣化 | R11: うき・はく離 | U11: Ⅱ | W11: － | AF11: 0.02 | AQ11: =IF(P11="外力",1,IF(P11="材質劣化",2,IF(P11="漏水",3,4))) -> 2
K12: 2 | L12: 覆工・坑門 | N12: アーチ（天端） | P12: 材質劣化 | R12: うき・はく離 | U12: Ⅱ | W12: － | AK12: 対策済み | AQ12: =IF(P12="外力",1,IF(P12="材質劣化",2,IF(P12="漏水",3,4))) -> 2
K13: 3 | L13: 覆工・坑門 | N13: アーチ（天端） | P13: 材質劣化 | R13: うき・はく離 | U13: Ⅱ | W13: － | AE13: 0.01 | AQ13: =IF(P13="外力",1,IF(P13="材質劣化",2,IF(P13="漏水",3,4))) -> 2
AQ14: =IF(P14="外力",1,IF(P14="材質劣化",2,IF(P14="漏水",3,4))) -> 4
AQ15: =IF(P15="外力",1,IF(P15="材質劣化",2,IF(P15="漏水",3,4))) -> 4
AQ16: =IF(P16="外力",1,IF(P16="材質劣化",2,IF(P16="漏水",3,4))) -> 4
AQ17: =IF(P17="外力",1,IF(P17="材質劣化",2,IF(P17="漏水",3,4))) -> 4
AQ18: =IF(P18="外力",1,IF(P18="材質劣化",2,IF(P18="漏水",3,4))) -> 4
AQ19: =IF(P19="外力",1,IF(P19="材質劣化",2,IF(P19="漏水",3,4))) -> 4
AQ20: =IF(P20="外力",1,IF(P20="材質劣化",2,IF(P20="漏水",3,4))) -> 4
AQ21: =IF(P21="外力",1,IF(P21="材質劣化",2,IF(P21="漏水",3,4))) -> 4
AQ22: =IF(P22="外力",1,IF(P22="材質劣化",2,IF(P22="漏水",3,4))) -> 4
AQ23: =IF(P23="外力",1,IF(P23="材質劣化",2,IF(P23="漏水",3,4))) -> 4
AQ24: =IF(P24="外力",1,IF(P24="材質劣化",2,IF(P24="漏水",3,4))) -> 4
AQ25: =IF(P25="外力",1,IF(P25="材質劣化",2,IF(P25="漏水",3,4))) -> 4
... AQ30: =IF(P30="外力",1,IF(P30="材質劣化",2,IF(P30="漏水",3,4))) -> 4
K31: 集計 ・ 判定 ・ 診断 | L31: 変状の発生規模合計(㎡) | Y31: － | AC31: =SUM(AC11:AC30) -> 0 | AD31: =SUM(AD11:AD30) -> 0 | AE31: =SUM(AE11:AE30) -> 0.01 | AF31: =SUM(AF11:AF30) -> 0.02 | AG31: =SUM(AG11:AG30) -> 0 | AH31: =SUM(AH11:AH30) -> 0 | AI31: =SUM(AI11:AI30) -> 0 | AJ31: =SUM(AJ11:AJ30) -> 0 | AK31: 計
L32: 対策区分の 判定結果 | O32: 判定区分毎の変状数 | Y32: =COUNTIF(Y11:Y30,"〇") -> 0 | Z32: =COUNTIF(Z11:Z30,"〇") -> 0 | AA32: =COUNTIF(AA11:AA30,"〇") -> 0 | AB32: =COUNTIF(AB11:AB30,"〇") -> 0 | AC32: =COUNT(AC11:AC30) -> 0 | AD32: =COUNT(AD11:AD30) -> 0 | AE32: =COUNT(AE11:AE30) -> 1 | AF32: =COUNT(AF11:AF30) -> 1 | AG32: =COUNT(AG11:AG30) -> 0 | AH32: =COUNT(AH11:AH30) -> 0 | AI32: =COUNT(AI11:AI30) -> 0 | AJ32: =COUNT(AJ11:AJ30) -> 0
O33: 変状区分毎の判定区分注3 | Y33: =IF(Y32>0,"Ⅳ",IF(Z32>0,"Ⅲ",IF(AA32>0,"Ⅱa",IF(AB32>0,"Ⅱb","Ⅰ")))) -> Ⅰ | AC33: =IF(AC32>0,"Ⅳ",IF(AD32>0,"Ⅲ",IF(AE32>0,"Ⅱa",IF(AF32>0,"Ⅱb","Ⅰ")))) -> Ⅱa | AG33: =IF(AG32>0,"Ⅳ",IF(AH32>0,"Ⅲ",IF(AI32>0,"Ⅱa",IF(AJ32>0,"Ⅱb","Ⅰ")))) -> Ⅰ | AQ33: Ⅳ | AR33: Ⅲ | AS33: Ⅱ
L34: 健全性の 診断結果 | O34: 判定区分 | Y34: Ⅳ | Z34: Ⅲ | AA34: Ⅱ | AC34: Ⅳ | AD34: Ⅲ | AE34: Ⅱ | AG34: Ⅳ | AH34: Ⅲ | AI34: Ⅱ | AQ34: =+Y32+Z32 -> 0 | AS34: =+AA32+AB32 -> 0
O35: 判定区分毎の変状数注4 | Y35: =Y32 -> 0 | Z35: =Z32 -> 0 | AA35: =AA32+AB32 -> 0 | AC35: =+AC32 -> 0 | AD35: =AD32 -> 0 | AE35: =AE32+AF32 -> 2 | AG35: =AG32 -> 0 | AH35: =AH32 -> 0 | AI35: =AI32+AJ32 -> 0 | AQ35: =+Y32+AC35+AG35 -> 0 | AR35: =+Z32+AD35+AH35 -> 0 | AS35: =+AS34+AE35+AI35 -> 2
O36: 変状区分毎の判定区分注4 | Y36: =IF(Y35>=1,"Ⅳ",IF(Z35>=1,"Ⅲ",IF(AA35>=1,"Ⅱ","Ⅰ"))) -> Ⅰ | AC36: =IF(AC35>=1,"Ⅳ",IF(AD35>=1,"Ⅲ",IF(AE35>=1,"Ⅱ","Ⅰ"))) -> Ⅱ | AG36: =IF(AG35>=1,"Ⅳ",IF(AH35>=1,"Ⅲ",IF(AI35>=1,"Ⅱ","Ⅰ"))) -> Ⅰ | AQ36: =IF(AQ35>0,"Ⅳ",IF(AR35>0,"Ⅲ",IF(AS35>0,"Ⅱ","Ⅰ"))) -> Ⅱ
O37: 覆工スパン単位の判定区分注5 | Y37: =IF(COUNTIF(Y36:AJ36,"Ⅳ")>0,"Ⅳ",IF(COUNTIF(Y36:AJ36,"Ⅲ")>0,"Ⅲ",IF(COUNTIF(Y36:AJ36,"Ⅱ")>0,"Ⅱ","Ⅰ"))) -> Ⅱ
K38: 特記事項
K40: 注1：誤記入防止のため、当該変状区分以外のセルは灰色表示とすること。
K41: 注2：応急対策を実施した場合は、その詳細を備考に記載すること。
K42: 注3：変状区分毎での最も評価の厳しい判定区分。
K43: 注4：変状区分毎での最も評価の厳しい判定区分．外力は覆工スパン単位、材質劣化、漏水は変状単位で行う。
K44: 注5：覆工スパンの中で最も評価の厳しい健全性を採用し、その覆工スパン毎の健全性とする。
B46: ※1：本シートは作成洩れのないよう、変状が無くても全スパン分を作成すること．また変状展開図は、様式D-2-1、様式D-2-1'と同じものを覆工スパン単位で拡大し掲載すること。
B47: ※2：変状番号は、様式D-1-1で記入した番号と整合させること。
B48: ※3：対策区分毎の変状発生規模は、様式D-1-1に記載した面積を記入すること（ただし外力はスパン単位で評価するため対象外とし、備考欄に状況を記入）。
B49: ※4：本様式は覆工スパン毎に作成すること。
B50: ※5：変状数が多い場合は、適時、表の行を増やして覆工スパン毎に1枚のシートに収めること。また、1スパン１シートとし、スパンに合わせてシートを追加すること。
B51: ※6：対策区分毎の変状の発生範囲の規模とは，対策を行う際に参考となる変状の長さや面積であり，変状を包含する長さや面積とする。
B52: ※7：路面滞水は、変状面積に1を記載するとともに、備考にも内容を記載すること。

Sheet 様式D-3_S05
AU1: 様式Fリンク用→ | AV1: 覆工ｽﾊﾟﾝ 番号 | AW1: ｽﾊﾟﾝ 長 (m) | AX1: 変状数集計 | BS1: 覆工スパン毎の 健全性の診断 | BW1: 変状規模集計
AX2: 対策区分毎の変状数 | BJ2: 健全性の判定区分毎の変状数 | BW2: 覆工スパン長(m) | CA2: 対策区分毎の変状の発生範囲の規模(㎡）
B3: ■定期点検記録様式 覆工スパン別変状詳細展開図 【様式D-3】 | AX3: 外力 | BB3: 材質劣化 | BF3: 漏水 | BJ3: 外力 | BM3: 材質劣化 | BP3: 漏水 | BS3: 外力 | BT3: 材質劣化 | BU3: 漏水 | BV3: 健全性 | BW3: 外力※１ | CA3: 材質劣化 | CE3: 漏水
B4: フリガナ | E4: ヤクオウジトンネル | K4: 路線名 | N4: 一般国道435号 | T4: 定期点検業者 | Y4: 応用地質株式会社 | AG4: 定期点検年月日 | AK4: 44862 | AX4: Ⅳ | AY4: Ⅲ | AZ4: Ⅱa | BA4: Ⅱb | BB4: Ⅳ | BC4: Ⅲ | BD4: Ⅱa | BE4: Ⅱb | BF4: Ⅳ | BG4: Ⅲ | BH4: Ⅱa | BI4: Ⅱb | BJ4: Ⅳ | BK4: Ⅲ | BL4: Ⅱ | BM4: Ⅳ | BN4: Ⅲ | BO4: Ⅱ | BP4: Ⅳ | BQ4: Ⅲ | BR4: Ⅱ | BW4: Ⅳ | BX4: Ⅲ | BY4: Ⅱa | BZ4: Ⅱb | CA4: Ⅳ | CB4: Ⅲ | CC4: Ⅱa | CD4: Ⅱb | CE4: Ⅳ | CF4: Ⅲ | CG4: Ⅱa | CH4: Ⅱb
B5: 名 称 | E5: 薬王寺トンネル | K5: 管理者名 | N5: 山口県宇部土木建築事務所 | T5: 定期点検者名 | Y5: 太田 裕之 | AQ5: 〇 | AV5: =N7 -> 5 | AW5: =R7 -> 10.4 | AX5: =+Y32 -> 0 | AY5: =+Z32 -> 0 | AZ5: =+AA32 -> 0 | BA5: =+AB32 -> 0 | BB5: =+AC32 -> 0 | BC5: =+AD32 -> 0 | BD5: =+AE32 -> 0 | BE5: =+AF32 -> 0 | ... BI5: =+AJ32 -> 0 | BJ5: =+Y35 -> 0 | BK5: =+Z35 -> 0 | BL5: =+AA35 -> 0 | BM5: =+AC35 -> 0 | BN5: =+AD35 -> 0 | BO5: =+AE35 -> 0 | BP5: =+AG35 -> 0 | BQ5: =+AH35 -> 0 | BR5: =+AI35 -> 0 | BS5: =+Y36 -> Ⅰ | BT5: =+AC36 -> Ⅰ | BU5: =+AG36 -> Ⅰ | BV5: =+Y37 -> Ⅰ | BW5: =IF(Y32>0,R7,"") | BX5: =IF(Z32>0,"",IF(AA32>0,R7,"")) | BY5: =IF(Y32+Z32>0,"",IF(AA32>0,R7,"")) | BZ5: =IF(Y32+Z32+AA32>0,"",IF(AB32>0,R7,"")) | CA5: =+AC31 -> 0 | CB5: =+AD31 -> 0 | CC5: =+AE31 -> 0 | CD5: =+AF31 -> 0 | CE5: =+AG31 -> 0 | CF5: =+AH31 -> 0 | CG5: =+AI31 -> 0 | CH5: =+AJ31 -> 0
B6: スパン別変状展開図 | K6: 【健全性判定集計表】
K7: スパン番号 | N7: 5 | P7: スパン長 | R7: 10.4 | U7: 前回定期点検時の健全性 | W7: 応急措置前の判定 | Y7: 対策区分毎の 変状の有無 | AC7: 対策区分毎の変状の発生範囲の規模(㎡) | AK7: 備考注2
K8: 変状番号 | L8: 対象箇所 | N8: 部位区分 | P8: 変状区分 | R8: 変状種類
Y9: 外力注1 | AC9: 材質劣化注1 | AG9: 漏水注1
Y10: Ⅳ | Z10: Ⅲ | AA10: Ⅱa | AB10: Ⅱb | AC10: Ⅳ | AD10: Ⅲ | AE10: Ⅱa | AF10: Ⅱb | AG10: Ⅳ | AH10: Ⅲ | AI10: Ⅱa | AJ10: Ⅱb
K11: 1 | L11: 覆工・坑門 | N11: アーチ（天端） | P11: 材質劣化 | R11: うき・はく離 | U11: Ⅱ | W11: － | AK11: 対策済み | AQ11: =IF(P11="外力",1,IF(P11="材質劣化",2,IF(P11="漏水",3,4))) -> 2
AQ12: =IF(P12="外力",1,IF(P12="材質劣化",2,IF(P12="漏水",3,4))) -> 4
AQ13: =IF(P13="外力",1,IF(P13="材質劣化",2,IF(P13="漏水",3,4))) -> 4
AQ14: =IF(P14="外力",1,IF(P14="材質劣化",2,IF(P14="漏水",3,4))) -> 4
AQ15: =IF(P15="外力",1,IF(P15="材質劣化",2,IF(P15="漏水",3,4))) -> 4
AQ16: =IF(P16="外力",1,IF(P16="材質劣化",2,IF(P16="漏水",3,4))) -> 4
AQ17: =IF(P17="外力",1,IF(P17="材質劣化",2,IF(P17="漏水",3,4))) -> 4
AQ18: =IF(P18="外力",1,IF(P18="材質劣化",2,IF(P18="漏水",3,4))) -> 4
AQ19: =IF(P19="外力",1,IF(P19="材質劣化",2,IF(P19="漏水",3,4))) -> 4
AQ20: =IF(P20="外力",1,IF(P20="材質劣化",2,IF(P20="漏水",3,4))) -> 4
AQ21: =IF(P21="外力",1,IF(P21="材質劣化",2,IF(P21="漏水",3,4))) -> 4
AQ22: =IF(P22="外力",1,IF(P22="材質劣化",2,IF(P22="漏水",3,4))) -> 4
AQ23: =IF(P23="外力",1,IF(P23="材質劣化",2,IF(P23="漏水",3,4))) -> 4
... AQ30: =IF(P30="外力",1,IF(P30="材質劣化",2,IF(P30="漏水",3,4))) -> 4
K31: 集計 ・ 判定 ・ 診断 | L31: 変状の発生規模合計(㎡) | Y31: － | AC31: =SUM(AC11:AC30) -> 0 | AD31: =SUM(AD11:AD30) -> 0 | AE31: =SUM(AE11:AE30) -> 0 | AF31: =SUM(AF11:AF30) -> 0 | AG31: =SUM(AG11:AG30) -> 0 | AH31: =SUM(AH11:AH30) -> 0 | AI31: =SUM(AI11:AI30) -> 0 | AJ31: =SUM(AJ11:AJ30) -> 0 | AK31: 計
L32: 対策区分の 判定結果 | O32: 判定区分毎の変状数 | Y32: =COUNTIF(Y11:Y30,"〇") -> 0 | Z32: =COUNTIF(Z11:Z30,"〇") -> 0 | AA32: =COUNTIF(AA11:AA30,"〇") -> 0 | AB32: =COUNTIF(AB11:AB30,"〇") -> 0 | AC32: =COUNT(AC11:AC30) -> 0 | AD32: =COUNT(AD11:AD30) -> 0 | AE32: =COUNT(AE11:AE30) -> 0 | AF32: =COUNT(AF11:AF30) -> 0 | AG32: =COUNT(AG11:AG30) -> 0 | AH32: =COUNT(AH11:AH30) -> 0 | AI32: =COUNT(AI11:AI30) -> 0 | AJ32: =COUNT(AJ11:AJ30) -> 0
O33: 変状区分毎の判定区分注3 | Y33: =IF(Y32>0,"Ⅳ",IF(Z32>0,"Ⅲ",IF(AA32>0,"Ⅱa",IF(AB32>0,"Ⅱb","Ⅰ")))) -> Ⅰ | AC33: =IF(AC32>0,"Ⅳ",IF(AD32>0,"Ⅲ",IF(AE32>0,"Ⅱa",IF(AF32>0,"Ⅱb","Ⅰ")))) -> Ⅰ | AG33: =IF(AG32>0,"Ⅳ",IF(AH32>0,"Ⅲ",IF(AI32>0,"Ⅱa",IF(AJ32>0,"Ⅱb","Ⅰ")))) -> Ⅰ | AQ33: Ⅳ | AR33: Ⅲ | AS33: Ⅱ
L34: 健全性の 診断結果 | O34: 判定区分 | Y34: Ⅳ | Z34: Ⅲ | AA34: Ⅱ | AC34: Ⅳ | AD34: Ⅲ | AE34: Ⅱ | AG34: Ⅳ | AH34: Ⅲ | AI34: Ⅱ | AQ34: =+Y32+Z32 -> 0 | AS34: =+AA32+AB32 -> 0
O35: 判定区分毎の変状数注4 | Y35: =Y32 -> 0 | Z35: =Z32 -> 0 | AA35: =AA32+AB32 -> 0 | AC35: =+AC32 -> 0 | AD35: =AD32 -> 0 | AE35: =AE32+AF32 -> 0 | AG35: =AG32 -> 0 | AH35: =AH32 -> 0 | AI35: =AI32+AJ32 -> 0 | AQ35: =+Y32+AC35+AG35 -> 0 | AR35: =+Z32+AD35+AH35 -> 0 | AS35: =+AS34+AE35+AI35 -> 0
O36: 変状区分毎の判定区分注4 | Y36: =IF(Y35>=1,"Ⅳ",IF(Z35>=1,"Ⅲ",IF(AA35>=1,"Ⅱ","Ⅰ"))) -> Ⅰ | AC36: =IF(AC35>=1,"Ⅳ",IF(AD35>=1,"Ⅲ",IF(AE35>=1,"Ⅱ","Ⅰ"))) -> Ⅰ | AG36: =IF(AG35>=1,"Ⅳ",IF(AH35>=1,"Ⅲ",IF(AI35>=1,"Ⅱ","Ⅰ"))) -> Ⅰ | AQ36: =IF(AQ35>0,"Ⅳ",IF(AR35>0,"Ⅲ",IF(AS35>0,"Ⅱ","Ⅰ"))) -> Ⅰ
O37: 覆工スパン単位の判定区分注5 | Y37: =IF(COUNTIF(Y36:AJ36,"Ⅳ")>0,"Ⅳ",IF(COUNTIF(Y36:AJ36,"Ⅲ")>0,"Ⅲ",IF(COUNTIF(Y36:AJ36,"Ⅱ")>0,"Ⅱ","Ⅰ"))) -> Ⅰ
K38: 特記事項
K40: 注1：誤記入防止のため、当該変状区分以外のセルは灰色表示とすること。
K41: 注2：応急対策を実施した場合は、その詳細を備考に記載すること。
K42: 注3：変状区分毎での最も評価の厳しい判定区分。
K43: 注4：変状区分毎での最も評価の厳しい判定区分．外力は覆工スパン単位、材質劣化、漏水は変状単位で行う。
K44: 注5：覆工スパンの中で最も評価の厳しい健全性を採用し、その覆工スパン毎の健全性とする。
B46: ※1：本シートは作成洩れのないよう、変状が無くても全スパン分を作成すること．また変状展開図は、様式D-2-1、様式D-2-1'と同じものを覆工スパン単位で拡大し掲載すること。
B47: ※2：変状番号は、様式D-1-1で記入した番号と整合させること。
B48: ※3：対策区分毎の変状発生規模は、様式D-1-1に記載した面積を記入すること（ただし外力はスパン単位で評価するため対象外とし、備考欄に状況を記入）。
B49: ※4：本様式は覆工スパン毎に作成すること。
B50: ※5：変状数が多い場合は、適時、表の行を増やして覆工スパン毎に1枚のシートに収めること。また、1スパン１シートとし、スパンに合わせてシートを追加すること。
B51: ※6：対策区分毎の変状の発生範囲の規模とは，対策を行う際に参考となる変状の長さや面積であり，変状を包含する長さや面積とする。
B52: ※7：路面滞水は、変状面積に1を記載するとともに、備考にも内容を記載すること。

Sheet 様式D-3_S06
AU1: 様式Fリンク用→ | AV1: 覆工ｽﾊﾟﾝ 番号 | AW1: ｽﾊﾟﾝ 長 (m) | AX1: 変状数集計 | BS1: 覆工スパン毎の 健全性の診断 | BW1: 変状規模集計
AX2: 対策区分毎の変状数 | BJ2: 健全性の判定区分毎の変状数 | BW2: 覆工スパン長(m) | CA2: 対策区分毎の変状の発生範囲の規模(㎡）
B3: ■定期点検記録様式 覆工スパン別変状詳細展開図 【様式D-3】 | AX3: 外力 | BB3: 材質劣化 | BF3: 漏水 | BJ3: 外力 | BM3: 材質劣化 | BP3: 漏水 | BS3: 外力 | BT3: 材質劣化 | BU3: 漏水 | BV3: 健全性 | BW3: 外力※１ | CA3: 材質劣化 | CE3: 漏水
B4: フリガナ | E4: ヤクオウジトンネル | K4: 路線名 | N4: 一般国道435号 | T4: 定期点検業者 | Y4: 応用地質株式会社 | AG4: 定期点検年月日 | AK4: 44862 | AX4: Ⅳ | AY4: Ⅲ | AZ4: Ⅱa | BA4: Ⅱb | BB4: Ⅳ | BC4: Ⅲ | BD4: Ⅱa | BE4: Ⅱb | BF4: Ⅳ | BG4: Ⅲ | BH4: Ⅱa | BI4: Ⅱb | BJ4: Ⅳ | BK4: Ⅲ | BL4: Ⅱ | BM4: Ⅳ | BN4: Ⅲ | BO4: Ⅱ | BP4: Ⅳ | BQ4: Ⅲ | BR4: Ⅱ | BW4: Ⅳ | BX4: Ⅲ | BY4: Ⅱa | BZ4: Ⅱb | CA4: Ⅳ | CB4: Ⅲ | CC4: Ⅱa | CD4: Ⅱb | CE4: Ⅳ | CF4: Ⅲ | CG4: Ⅱa | CH4: Ⅱb
B5: 名 称 | E5: 薬王寺トンネル | K5: 管理者名 | N5: 山口県宇部土木建築事務所 | T5: 定期点検者名 | Y5: 太田 裕之 | AQ5: 〇 | AV5: =N7 -> 6 | AW5: =R7 -> 10.3 | AX5: =+Y32 -> 0 | AY5: =+Z32 -> 0 | AZ5: =+AA32 -> 0 | BA5: =+AB32 -> 0 | BB5: =+AC32 -> 0 | BC5: =+AD32 -> 0 | BD5: =+AE32 -> 0 | BE5: =+AF32 -> 0 | ... BI5: =+AJ32 -> 0 | BJ5: =+Y35 -> 0 | BK5: =+Z35 -> 0 | BL5: =+AA35 -> 0 | BM5: =+AC35 -> 0 | BN5: =+AD35 -> 0 | BO5: =+AE35 -> 0 | BP5: =+AG35 -> 0 | BQ5: =+AH35 -> 0 | BR5: =+AI35 -> 0 | BS5: =+Y36 -> Ⅰ | BT5: =+AC36 -> Ⅰ | BU5: =+AG36 -> Ⅰ | BV5: =+Y37 -> Ⅰ | BW5: =IF(Y32>0,R7,"") | BX5: =IF(Z32>0,"",IF(AA32>0,R7,"")) | BY5: =IF(Y32+Z32>0,"",IF(AA32>0,R7,"")) | BZ5: =IF(Y32+Z32+AA32>0,"",IF(AB32>0,R7,"")) | CA5: =+AC31 -> 0 | CB5: =+AD31 -> 0 | CC5: =+AE31 -> 0 | CD5: =+AF31 -> 0 | CE5: =+AG31 -> 0 | CF5: =+AH31 -> 0 | CG5: =+AI31 -> 0 | CH5: =+AJ31 -> 0
B6: スパン別変状展開図 | K6: 【健全性判定集計表】
K7: スパン番号 | N7: 6 | P7: スパン長 | R7: 10.3 | U7: 前回定期点検時の健全性 | W7: 応急措置前の判定 | Y7: 対策区分毎の 変状の有無 | AC7: 対策区分毎の変状の発生範囲の規模(㎡) | AK7: 備考注2
K8: 変状番号 | L8: 対象箇所 | N8: 部位区分 | P8: 変状区分 | R8: 変状種類
Y9: 外力注1 | AC9: 材質劣化注1 | AG9: 漏水注1
Y10: Ⅳ | Z10: Ⅲ | AA10: Ⅱa | AB10: Ⅱb | AC10: Ⅳ | AD10: Ⅲ | AE10: Ⅱa | AF10: Ⅱb | AG10: Ⅳ | AH10: Ⅲ | AI10: Ⅱa | AJ10: Ⅱb
AQ11: =IF(P11="外力",1,IF(P11="材質劣化",2,IF(P11="漏水",3,4))) -> 4
AQ12: =IF(P12="外力",1,IF(P12="材質劣化",2,IF(P12="漏水",3,4))) -> 4
AQ13: =IF(P13="外力",1,IF(P13="材質劣化",2,IF(P13="漏水",3,4))) -> 4
AQ14: =IF(P14="外力",1,IF(P14="材質劣化",2,IF(P14="漏水",3,4))) -> 4
AQ15: =IF(P15="外力",1,IF(P15="材質劣化",2,IF(P15="漏水",3,4))) -> 4
AQ16: =IF(P16="外力",1,IF(P16="材質劣化",2,IF(P16="漏水",3,4))) -> 4
AQ17: =IF(P17="外力",1,IF(P17="材質劣化",2,IF(P17="漏水",3,4))) -> 4
AQ18: =IF(P18="外力",1,IF(P18="材質劣化",2,IF(P18="漏水",3,4))) -> 4
AQ19: =IF(P19="外力",1,IF(P19="材質劣化",2,IF(P19="漏水",3,4))) -> 4
AQ20: =IF(P20="外力",1,IF(P20="材質劣化",2,IF(P20="漏水",3,4))) -> 4
AQ21: =IF(P21="外力",1,IF(P21="材質劣化",2,IF(P21="漏水",3,4))) -> 4
AQ22: =IF(P22="外力",1,IF(P22="材質劣化",2,IF(P22="漏水",3,4))) -> 4
... AQ30: =IF(P30="外力",1,IF(P30="材質劣化",2,IF(P30="漏水",3,4))) -> 4
K31: 集計 ・ 判定 ・ 診断 | L31: 変状の発生規模合計(㎡) | Y31: － | AC31: =SUM(AC11:AC30) -> 0 | AD31: =SUM(AD11:AD30) -> 0 | AE31: =SUM(AE11:AE30) -> 0 | AF31: =SUM(AF11:AF30) -> 0 | AG31: =SUM(AG11:AG30) -> 0 | AH31: =SUM(AH11:AH30) -> 0 | AI31: =SUM(AI11:AI30) -> 0 | AJ31: =SUM(AJ11:AJ30) -> 0 | AK31: 計
L32: 対策区分の 判定結果 | O32: 判定区分毎の変状数 | Y32: =COUNTIF(Y11:Y30,"〇") -> 0 | Z32: =COUNTIF(Z11:Z30,"〇") -> 0 | AA32: =COUNTIF(AA11:AA30,"〇") -> 0 | AB32: =COUNTIF(AB11:AB30,"〇") -> 0 | AC32: =COUNT(AC11:AC30) -> 0 | AD32: =COUNT(AD11:AD30) -> 0 | AE32: =COUNT(AE11:AE30) -> 0 | AF32: =COUNT(AF11:AF30) -> 0 | AG32: =COUNT(AG11:AG30) -> 0 | AH32: =COUNT(AH11:AH30) -> 0 | AI32: =COUNT(AI11:AI30) -> 0 | AJ32: =COUNT(AJ11:AJ30) -> 0
O33: 変状区分毎の判定区分注3 | Y33: =IF(Y32>0,"Ⅳ",IF(Z32>0,"Ⅲ",IF(AA32>0,"Ⅱa",IF(AB32>0,"Ⅱb","Ⅰ")))) -> Ⅰ | AC33: =IF(AC32>0,"Ⅳ",IF(AD32>0,"Ⅲ",IF(AE32>0,"Ⅱa",IF(AF32>0,"Ⅱb","Ⅰ")))) -> Ⅰ | AG33: =IF(AG32>0,"Ⅳ",IF(AH32>0,"Ⅲ",IF(AI32>0,"Ⅱa",IF(AJ32>0,"Ⅱb","Ⅰ")))) -> Ⅰ | AQ33: Ⅳ | AR33: Ⅲ | AS33: Ⅱ
L34: 健全性の 診断結果 | O34: 判定区分 | Y34: Ⅳ | Z34: Ⅲ | AA34: Ⅱ | AC34: Ⅳ | AD34: Ⅲ | AE34: Ⅱ | AG34: Ⅳ | AH34: Ⅲ | AI34: Ⅱ | AQ34: =+Y32+Z32 -> 0 | AS34: =+AA32+AB32 -> 0
O35: 判定区分毎の変状数注4 | Y35: =Y32 -> 0 | Z35: =Z32 -> 0 | AA35: =AA32+AB32 -> 0 | AC35: =+AC32 -> 0 | AD35: =AD32 -> 0 | AE35: =AE32+AF32 -> 0 | AG35: =AG32 -> 0 | AH35: =AH32 -> 0 | AI35: =AI32+AJ32 -> 0 | AQ35: =+Y32+AC35+AG35 -> 0 | AR35: =+Z32+AD35+AH35 -> 0 | AS35: =+AS34+AE35+AI35 -> 0
O36: 変状区分毎の判定区分注4 | Y36: =IF(Y35>=1,"Ⅳ",IF(Z35>=1,"Ⅲ",IF(AA35>=1,"Ⅱ","Ⅰ"))) -> Ⅰ | AC36: =IF(AC35>=1,"Ⅳ",IF(AD35>=1,"Ⅲ",IF(AE35>=1,"Ⅱ","Ⅰ"))) -> Ⅰ | AG36: =IF(AG35>=1,"Ⅳ",IF(AH35>=1,"Ⅲ",IF(AI35>=1,"Ⅱ","Ⅰ"))) -> Ⅰ | AQ36: =IF(AQ35>0,"Ⅳ",IF(AR35>0,"Ⅲ",IF(AS35>0,"Ⅱ","Ⅰ"))) -> Ⅰ
O37: 覆工スパン単位の判定区分注5 | Y37: =IF(COUNTIF(Y36:AJ36,"Ⅳ")>0,"Ⅳ",IF(COUNTIF(Y36:AJ36,"Ⅲ")>0,"Ⅲ",IF(COUNTIF(Y36:AJ36,"Ⅱ")>0,"Ⅱ","Ⅰ"))) -> Ⅰ
K38: 特記事項
K40: 注1：誤記入防止のため、当該変状区分以外のセルは灰色表示とすること。
K41: 注2：応急対策を実施した場合は、その詳細を備考に記載すること。
K42: 注3：変状区分毎での最も評価の厳しい判定区分。
K43: 注4：変状区分毎での最も評価の厳しい判定区分．外力は覆工スパン単位、材質劣化、漏水は変状単位で行う。
K44: 注5：覆工スパンの中で最も評価の厳しい健全性を採用し、その覆工スパン毎の健全性とする。
B46: ※1：本シートは作成洩れのないよう、変状が無くても全スパン分を作成すること．また変状展開図は、様式D-2-1、様式D-2-1'と同じものを覆工スパン単位で拡大し掲載すること。
B47: ※2：変状番号は、様式D-1-1で記入した番号と整合させること。
B48: ※3：対策区分毎の変状発生規模は、様式D-1-1に記載した面積を記入すること（ただし外力はスパン単位で評価するため対象外とし、備考欄に状況を記入）。
B49: ※4：本様式は覆工スパン毎に作成すること。
B50: ※5：変状数が多い場合は、適時、表の行を増やして覆工スパン毎に1枚のシートに収めること。また、1スパン１シートとし、スパンに合わせてシートを追加すること。
B51: ※6：対策区分毎の変状の発生範囲の規模とは，対策を行う際に参考となる変状の長さや面積であり，変状を包含する長さや面積とする。
B52: ※7：路面滞水は、変状面積に1を記載するとともに、備考にも内容を記載すること。

Sheet 様式D-3_S07
AU1: 様式Fリンク用→ | AV1: 覆工ｽﾊﾟﾝ 番号 | AW1: ｽﾊﾟﾝ 長 (m) | AX1: 変状数集計 | BS1: 覆工スパン毎の 健全性の診断 | BW1: 変状規模集計
AX2: 対策区分毎の変状数 | BJ2: 健全性の判定区分毎の変状数 | BW2: 覆工スパン長(m) | CA2: 対策区分毎の変状の発生範囲の規模(㎡）
B3: ■定期点検記録様式 覆工スパン別変状詳細展開図 【様式D-3】 | AX3: 外力 | BB3: 材質劣化 | BF3: 漏水 | BJ3: 外力 | BM3: 材質劣化 | BP3: 漏水 | BS3: 外力 | BT3: 材質劣化 | BU3: 漏水 | BV3: 健全性 | BW3: 外力※１ | CA3: 材質劣化 | CE3: 漏水
B4: フリガナ | E4: ヤクオウジトンネル | K4: 路線名 | N4: 一般国道435号 | T4: 定期点検業者 | Y4: 応用地質株式会社 | AG4: 定期点検年月日 | AK4: 44862 | AX4: Ⅳ | AY4: Ⅲ | AZ4: Ⅱa | BA4: Ⅱb | BB4: Ⅳ | BC4: Ⅲ | BD4: Ⅱa | BE4: Ⅱb | BF4: Ⅳ | BG4: Ⅲ | BH4: Ⅱa | BI4: Ⅱb | BJ4: Ⅳ | BK4: Ⅲ | BL4: Ⅱ | BM4: Ⅳ | BN4: Ⅲ | BO4: Ⅱ | BP4: Ⅳ | BQ4: Ⅲ | BR4: Ⅱ | BW4: Ⅳ | BX4: Ⅲ | BY4: Ⅱa | BZ4: Ⅱb | CA4: Ⅳ | CB4: Ⅲ | CC4: Ⅱa | CD4: Ⅱb | CE4: Ⅳ | CF4: Ⅲ | CG4: Ⅱa | CH4: Ⅱb
B5: 名 称 | E5: 薬王寺トンネル | K5: 管理者名 | N5: 山口県宇部土木建築事務所 | T5: 定期点検者名 | Y5: 太田 裕之 | AQ5: 〇 | AV5: =N7 -> 7 | AW5: =R7 -> 10.3 | AX5: =+Y32 -> 0 | AY5: =+Z32 -> 0 | AZ5: =+AA32 -> 0 | BA5: =+AB32 -> 0 | BB5: =+AC32 -> 0 | BC5: =+AD32 -> 0 | BD5: =+AE32 -> 0 | BE5: =+AF32 -> 0 | ... BI5: =+AJ32 -> 0 | BJ5: =+Y35 -> 0 | BK5: =+Z35 -> 0 | BL5: =+AA35 -> 0 | BM5: =+AC35 -> 0 | BN5: =+AD35 -> 0 | BO5: =+AE35 -> 0 | BP5: =+AG35 -> 0 | BQ5: =+AH35 -> 0 | BR5: =+AI35 -> 0 | BS5: =+Y36 -> Ⅰ | BT5: =+AC36 -> Ⅰ | BU5: =+AG36 -> Ⅰ | BV5: =+Y37 -> Ⅰ | BW5: =IF(Y32>0,R7,"") | BX5: =IF(Z32>0,"",IF(AA32>0,R7,"")) | BY5: =IF(Y32+Z32>0,"",IF(AA32>0,R7,"")) | BZ5: =IF(Y32+Z32+AA32>0,"",IF(AB32>0,R7,"")) | CA5: =+AC31 -> 0 | CB5: =+AD31 -> 0 | CC5: =+AE31 -> 0 | CD5: =+AF31 -> 0 | CE5: =+AG31 -> 0 | CF5: =+AH31 -> 0 | CG5: =+AI31 -> 0 | CH5: =+AJ31 -> 0
B6: スパン別変状展開図 | K6: 【健全性判定集計表】
K7: スパン番号 | N7: 7 | P7: スパン長 | R7: 10.3 | U7: 前回定期点検時の健全性 | W7: 応急措置前の判定 | Y7: 対策区分毎の 変状の有無 | AC7: 対策区分毎の変状の発生範囲の規模(㎡) | AK7: 備考注2
K8: 変状番号 | L8: 対象箇所 | N8: 部位区分 | P8: 変状区分 | R8: 変状種類
Y9: 外力注1 | AC9: 材質劣化注1 | AG9: 漏水注1
Y10: Ⅳ | Z10: Ⅲ | AA10: Ⅱa | AB10: Ⅱb | AC10: Ⅳ | AD10: Ⅲ | AE10: Ⅱa | AF10: Ⅱb | AG10: Ⅳ | AH10: Ⅲ | AI10: Ⅱa | AJ10: Ⅱb
AQ11: =IF(P11="外力",1,IF(P11="材質劣化",2,IF(P11="漏水",3,4))) -> 4
AQ12: =IF(P12="外力",1,IF(P12="材質劣化",2,IF(P12="漏水",3,4))) -> 4
AQ13: =IF(P13="外力",1,IF(P13="材質劣化",2,IF(P13="漏水",3,4))) -> 4
AQ14: =IF(P14="外力",1,IF(P14="材質劣化",2,IF(P14="漏水",3,4))) -> 4
AQ15: =IF(P15="外力",1,IF(P15="材質劣化",2,IF(P15="漏水",3,4))) -> 4
AQ16: =IF(P16="外力",1,IF(P16="材質劣化",2,IF(P16="漏水",3,4))) -> 4
AQ17: =IF(P17="外力",1,IF(P17="材質劣化",2,IF(P17="漏水",3,4))) -> 4
AQ18: =IF(P18="外力",1,IF(P18="材質劣化",2,IF(P18="漏水",3,4))) -> 4
AQ19: =IF(P19="外力",1,IF(P19="材質劣化",2,IF(P19="漏水",3,4))) -> 4
AQ20: =IF(P20="外力",1,IF(P20="材質劣化",2,IF(P20="漏水",3,4))) -> 4
AQ21: =IF(P21="外力",1,IF(P21="材質劣化",2,IF(P21="漏水",3,4))) -> 4
AQ22: =IF(P22="外力",1,IF(P22="材質劣化",2,IF(P22="漏水",3,4))) -> 4
... AQ30: =IF(P30="外力",1,IF(P30="材質劣化",2,IF(P30="漏水",3,4))) -> 4
K31: 集計 ・ 判定 ・ 診断 | L31: 変状の発生規模合計(㎡) | Y31: － | AC31: =SUM(AC11:AC30) -> 0 | AD31: =SUM(AD11:AD30) -> 0 | AE31: =SUM(AE11:AE30) -> 0 | AF31: =SUM(AF11:AF30) -> 0 | AG31: =SUM(AG11:AG30) -> 0 | AH31: =SUM(AH11:AH30) -> 0 | AI31: =SUM(AI11:AI30) -> 0 | AJ31: =SUM(AJ11:AJ30) -> 0 | AK31: 計
L32: 対策区分の 判定結果 | O32: 判定区分毎の変状数 | Y32: =COUNTIF(Y11:Y30,"〇") -> 0 | Z32: =COUNTIF(Z11:Z30,"〇") -> 0 | AA32: =COUNTIF(AA11:AA30,"〇") -> 0 | AB32: =COUNTIF(AB11:AB30,"〇") -> 0 | AC32: =COUNT(AC11:AC30) -> 0 | AD32: =COUNT(AD11:AD30) -> 0 | AE32: =COUNT(AE11:AE30) -> 0 | AF32: =COUNT(AF11:AF30) -> 0 | AG32: =COUNT(AG11:AG30) -> 0 | AH32: =COUNT(AH11:AH30) -> 0 | AI32: =COUNT(AI11:AI30) -> 0 | AJ32: =COUNT(AJ11:AJ30) -> 0
O33: 変状区分毎の判定区分注3 | Y33: =IF(Y32>0,"Ⅳ",IF(Z32>0,"Ⅲ",IF(AA32>0,"Ⅱa",IF(AB32>0,"Ⅱb","Ⅰ")))) -> Ⅰ | AC33: =IF(AC32>0,"Ⅳ",IF(AD32>0,"Ⅲ",IF(AE32>0,"Ⅱa",IF(AF32>0,"Ⅱb","Ⅰ")))) -> Ⅰ | AG33: =IF(AG32>0,"Ⅳ",IF(AH32>0,"Ⅲ",IF(AI32>0,"Ⅱa",IF(AJ32>0,"Ⅱb","Ⅰ")))) -> Ⅰ | AQ33: Ⅳ | AR33: Ⅲ | AS33: Ⅱ
L34: 健全性の 診断結果 | O34: 判定区分 | Y34: Ⅳ | Z34: Ⅲ | AA34: Ⅱ | AC34: Ⅳ | AD34: Ⅲ | AE34: Ⅱ | AG34: Ⅳ | AH34: Ⅲ | AI34: Ⅱ | AQ34: =+Y32+Z32 -> 0 | AS34: =+AA32+AB32 -> 0
O35: 判定区分毎の変状数注4 | Y35: =Y32 -> 0 | Z35: =Z32 -> 0 | AA35: =AA32+AB32 -> 0 | AC35: =+AC32 -> 0 | AD35: =AD32 -> 0 | AE35: =AE32+AF32 -> 0 | AG35: =AG32 -> 0 | AH35: =AH32 -> 0 | AI35: =AI32+AJ32 -> 0 | AQ35: =+Y32+AC35+AG35 -> 0 | AR35: =+Z32+AD35+AH35 -> 0 | AS35: =+AS34+AE35+AI35 -> 0
O36: 変状区分毎の判定区分注4 | Y36: =IF(Y35>=1,"Ⅳ",IF(Z35>=1,"Ⅲ",IF(AA35>=1,"Ⅱ","Ⅰ"))) -> Ⅰ | AC36: =IF(AC35>=1,"Ⅳ",IF(AD35>=1,"Ⅲ",IF(AE35>=1,"Ⅱ","Ⅰ"))) -> Ⅰ | AG36: =IF(AG35>=1,"Ⅳ",IF(AH35>=1,"Ⅲ",IF(AI35>=1,"Ⅱ","Ⅰ"))) -> Ⅰ | AQ36: =IF(AQ35>0,"Ⅳ",IF(AR35>0,"Ⅲ",IF(AS35>0,"Ⅱ","Ⅰ"))) -> Ⅰ
O37: 覆工スパン単位の判定区分注5 | Y37: =IF(COUNTIF(Y36:AJ36,"Ⅳ")>0,"Ⅳ",IF(COUNTIF(Y36:AJ36,"Ⅲ")>0,"Ⅲ",IF(COUNTIF(Y36:AJ36,"Ⅱ")>0,"Ⅱ","Ⅰ"))) -> Ⅰ
K38: 特記事項
K40: 注1：誤記入防止のため、当該変状区分以外のセルは灰色表示とすること。
K41: 注2：応急対策を実施した場合は、その詳細を備考に記載すること。
K42: 注3：変状区分毎での最も評価の厳しい判定区分。
K43: 注4：変状区分毎での最も評価の厳しい判定区分．外力は覆工スパン単位、材質劣化、漏水は変状単位で行う。
K44: 注5：覆工スパンの中で最も評価の厳しい健全性を採用し、その覆工スパン毎の健全性とする。
B46: ※1：本シートは作成洩れのないよう、変状が無くても全スパン分を作成すること．また変状展開図は、様式D-2-1、様式D-2-1'と同じものを覆工スパン単位で拡大し掲載すること。
B47: ※2：変状番号は、様式D-1-1で記入した番号と整合させること。
B48: ※3：対策区分毎の変状発生規模は、様式D-1-1に記載した面積を記入すること（ただし外力はスパン単位で評価するため対象外とし、備考欄に状況を記入）。
B49: ※4：本様式は覆工スパン毎に作成すること。
B50: ※5：変状数が多い場合は、適時、表の行を増やして覆工スパン毎に1枚のシートに収めること。また、1スパン１シートとし、スパンに合わせてシートを追加すること。
B51: ※6：対策区分毎の変状の発生範囲の規模とは，対策を行う際に参考となる変状の長さや面積であり，変状を包含する長さや面積とする。
B52: ※7：路面滞水は、変状面積に1を記載するとともに、備考にも内容を記載すること。

Sheet 様式D-3_S08
AU1: 様式Fリンク用→ | AV1: 覆工ｽﾊﾟﾝ 番号 | AW1: ｽﾊﾟﾝ 長 (m) | AX1: 変状数集計 | BS1: 覆工スパン毎の 健全性の診断 | BW1: 変状規模集計
AX2: 対策区分毎の変状数 | BJ2: 健全性の判定区分毎の変状数 | BW2: 覆工スパン長(m) | CA2: 対策区分毎の変状の発生範囲の規模(㎡）
B3: ■定期点検記録様式 覆工スパン別変状詳細展開図 【様式D-3】 | AX3: 外力 | BB3: 材質劣化 | BF3: 漏水 | BJ3: 外力 | BM3: 材質劣化 | BP3: 漏水 | BS3: 外力 | BT3: 材質劣化 | BU3: 漏水 | BV3: 健全性 | BW3: 外力※１ | CA3: 材質劣化 | CE3: 漏水
B4: フリガナ | E4: ヤクオウジトンネル | K4: 路線名 | N4: 一般国道435号 | T4: 定期点検業者 | Y4: 応用地質株式会社 | AG4: 定期点検年月日 | AK4: 44862 | AX4: Ⅳ | AY4: Ⅲ | AZ4: Ⅱa | BA4: Ⅱb | BB4: Ⅳ | BC4: Ⅲ | BD4: Ⅱa | BE4: Ⅱb | BF4: Ⅳ | BG4: Ⅲ | BH4: Ⅱa | BI4: Ⅱb | BJ4: Ⅳ | BK4: Ⅲ | BL4: Ⅱ | BM4: Ⅳ | BN4: Ⅲ | BO4: Ⅱ | BP4: Ⅳ | BQ4: Ⅲ | BR4: Ⅱ | BW4: Ⅳ | BX4: Ⅲ | BY4: Ⅱa | BZ4: Ⅱb | CA4: Ⅳ | CB4: Ⅲ | CC4: Ⅱa | CD4: Ⅱb | CE4: Ⅳ | CF4: Ⅲ | CG4: Ⅱa | CH4: Ⅱb
B5: 名 称 | E5: 薬王寺トンネル | K5: 管理者名 | N5: 山口県宇部土木建築事務所 | T5: 定期点検者名 | Y5: 太田 裕之 | AQ5: 〇 | AV5: =N7 -> 8 | AW5: =R7 -> 10.3 | AX5: =+Y32 -> 0 | AY5: =+Z32 -> 0 | AZ5: =+AA32 -> 0 | BA5: =+AB32 -> 0 | BB5: =+AC32 -> 0 | BC5: =+AD32 -> 0 | BD5: =+AE32 -> 0 | BE5: =+AF32 -> 0 | ... BI5: =+AJ32 -> 0 | BJ5: =+Y35 -> 0 | BK5: =+Z35 -> 0 | BL5: =+AA35 -> 0 | BM5: =+AC35 -> 0 | BN5: =+AD35 -> 0 | BO5: =+AE35 -> 0 | BP5: =+AG35 -> 0 | BQ5: =+AH35 -> 0 | BR5: =+AI35 -> 0 | BS5: =+Y36 -> Ⅰ | BT5: =+AC36 -> Ⅰ | BU5: =+AG36 -> Ⅰ | BV5: =+Y37 -> Ⅰ | BW5: =IF(Y32>0,R7,"") | BX5: =IF(Z32>0,"",IF(AA32>0,R7,"")) | BY5: =IF(Y32+Z32>0,"",IF(AA32>0,R7,"")) | BZ5: =IF(Y32+Z32+AA32>0,"",IF(AB32>0,R7,"")) | CA5: =+AC31 -> 0 | CB5: =+AD31 -> 0 | CC5: =+AE31 -> 0 | CD5: =+AF31 -> 0 | CE5: =+AG31 -> 0 | CF5: =+AH31 -> 0 | CG5: =+AI31 -> 0 | CH5: =+AJ31 -> 0
B6: スパン別変状展開図 | K6: 【健全性判定集計表】
K7: スパン番号 | N7: 8 | P7: スパン長 | R7: 10.3 | U7: 前回定期点検時の健全性 | W7: 応急措置前の判定 | Y7: 対策区分毎の 変状の有無 | AC7: 対策区分毎の変状の発生範囲の規模(㎡) | AK7: 備考注2
K8: 変状番号 | L8: 対象箇所 | N8: 部位区分 | P8: 変状区分 | R8: 変状種類
Y9: 外力注1 | AC9: 材質劣化注1 | AG9: 漏水注1
Y10: Ⅳ | Z10: Ⅲ | AA10: Ⅱa | AB10: Ⅱb | AC10: Ⅳ | AD10: Ⅲ | AE10: Ⅱa | AF10: Ⅱb | AG10: Ⅳ | AH10: Ⅲ | AI10: Ⅱa | AJ10: Ⅱb
AQ11: =IF(P11="外力",1,IF(P11="材質劣化",2,IF(P11="漏水",3,4))) -> 4
AQ12: =IF(P12="外力",1,IF(P12="材質劣化",2,IF(P12="漏水",3,4))) -> 4
AQ13: =IF(P13="外力",1,IF(P13="材質劣化",2,IF(P13="漏水",3,4))) -> 4
AQ14: =IF(P14="外力",1,IF(P14="材質劣化",2,IF(P14="漏水",3,4))) -> 4
AQ15: =IF(P15="外力",1,IF(P15="材質劣化",2,IF(P15="漏水",3,4))) -> 4
AQ16: =IF(P16="外力",1,IF(P16="材質劣化",2,IF(P16="漏水",3,4))) -> 4
AQ17: =IF(P17="外力",1,IF(P17="材質劣化",2,IF(P17="漏水",3,4))) -> 4
AQ18: =IF(P18="外力",1,IF(P18="材質劣化",2,IF(P18="漏水",3,4))) -> 4
AQ19: =IF(P19="外力",1,IF(P19="材質劣化",2,IF(P19="漏水",3,4))) -> 4
AQ20: =IF(P20="外力",1,IF(P20="材質劣化",2,IF(P20="漏水",3,4))) -> 4
AQ21: =IF(P21="外力",1,IF(P21="材質劣化",2,IF(P21="漏水",3,4))) -> 4
AQ22: =IF(P22="外力",1,IF(P22="材質劣化",2,IF(P22="漏水",3,4))) -> 4
... AQ30: =IF(P30="外力",1,IF(P30="材質劣化",2,IF(P30="漏水",3,4))) -> 4
K31: 集計 ・ 判定 ・ 診断 | L31: 変状の発生規模合計(㎡) | Y31: － | AC31: =SUM(AC11:AC30) -> 0 | AD31: =SUM(AD11:AD30) -> 0 | AE31: =SUM(AE11:AE30) -> 0 | AF31: =SUM(AF11:AF30) -> 0 | AG31: =SUM(AG11:AG30) -> 0 | AH31: =SUM(AH11:AH30) -> 0 | AI31: =SUM(AI11:AI30) -> 0 | AJ31: =SUM(AJ11:AJ30) -> 0 | AK31: 計
L32: 対策区分の 判定結果 | O32: 判定区分毎の変状数 | Y32: =COUNTIF(Y11:Y30,"〇") -> 0 | Z32: =COUNTIF(Z11:Z30,"〇") -> 0 | AA32: =COUNTIF(AA11:AA30,"〇") -> 0 | AB32: =COUNTIF(AB11:AB30,"〇") -> 0 | AC32: =COUNT(AC11:AC30) -> 0 | AD32: =COUNT(AD11:AD30) -> 0 | AE32: =COUNT(AE11:AE30) -> 0 | AF32: =COUNT(AF11:AF30) -> 0 | AG32: =COUNT(AG11:AG30) -> 0 | AH32: =COUNT(AH11:AH30) -> 0 | AI32: =COUNT(AI11:AI30) -> 0 | AJ32: =COUNT(AJ11:AJ30) -> 0
O33: 変状区分毎の判定区分注3 | Y33: =IF(Y32>0,"Ⅳ",IF(Z32>0,"Ⅲ",IF(AA32>0,"Ⅱa",IF(AB32>0,"Ⅱb","Ⅰ")))) -> Ⅰ | AC33: =IF(AC32>0,"Ⅳ",IF(AD32>0,"Ⅲ",IF(AE32>0,"Ⅱa",IF(AF32>0,"Ⅱb","Ⅰ")))) -> Ⅰ | AG33: =IF(AG32>0,"Ⅳ",IF(AH32>0,"Ⅲ",IF(AI32>0,"Ⅱa",IF(AJ32>0,"Ⅱb","Ⅰ")))) -> Ⅰ | AQ33: Ⅳ | AR33: Ⅲ | AS33: Ⅱ
L34: 健全性の 診断結果 | O34: 判定区分 | Y34: Ⅳ | Z34: Ⅲ | AA34: Ⅱ | AC34: Ⅳ | AD34: Ⅲ | AE34: Ⅱ | AG34: Ⅳ | AH34: Ⅲ | AI34: Ⅱ | AQ34: =+Y32+Z32 -> 0 | AS34: =+AA32+AB32 -> 0
O35: 判定区分毎の変状数注4 | Y35: =Y32 -> 0 | Z35: =Z32 -> 0 | AA35: =AA32+AB32 -> 0 | AC35: =+AC32 -> 0 | AD35: =AD32 -> 0 | AE35: =AE32+AF32 -> 0 | AG35: =AG32 -> 0 | AH35: =AH32 -> 0 | AI35: =AI32+AJ32 -> 0 | AQ35: =+Y32+AC35+AG35 -> 0 | AR35: =+Z32+AD35+AH35 -> 0 | AS35: =+AS34+AE35+AI35 -> 0
O36: 変状区分毎の判定区分注4 | Y36: =IF(Y35>=1,"Ⅳ",IF(Z35>=1,"Ⅲ",IF(AA35>=1,"Ⅱ","Ⅰ"))) -> Ⅰ | AC36: =IF(AC35>=1,"Ⅳ",IF(AD35>=1,"Ⅲ",IF(AE35>=1,"Ⅱ","Ⅰ"))) -> Ⅰ | AG36: =IF(AG35>=1,"Ⅳ",IF(AH35>=1,"Ⅲ",IF(AI35>=1,"Ⅱ","Ⅰ"))) -> Ⅰ | AQ36: =IF(AQ35>0,"Ⅳ",IF(AR35>0,"Ⅲ",IF(AS35>0,"Ⅱ","Ⅰ"))) -> Ⅰ
O37: 覆工スパン単位の判定区分注5 | Y37: =IF(COUNTIF(Y36:AJ36,"Ⅳ")>0,"Ⅳ",IF(COUNTIF(Y36:AJ36,"Ⅲ")>0,"Ⅲ",IF(COUNTIF(Y36:AJ36,"Ⅱ")>0,"Ⅱ","Ⅰ"))) -> Ⅰ
K38: 特記事項
K40: 注1：誤記入防止のため、当該変状区分以外のセルは灰色表示とすること。
K41: 注2：応急対策を実施した場合は、その詳細を備考に記載すること。
K42: 注3：変状区分毎での最も評価の厳しい判定区分。
K43: 注4：変状区分毎での最も評価の厳しい判定区分．外力は覆工スパン単位、材質劣化、漏水は変状単位で行う。
K44: 注5：覆工スパンの中で最も評価の厳しい健全性を採用し、その覆工スパン毎の健全性とする。
B46: ※1：本シートは作成洩れのないよう、変状が無くても全スパン分を作成すること．また変状展開図は、様式D-2-1、様式D-2-1'と同じものを覆工スパン単位で拡大し掲載すること。
B47: ※2：変状番号は、様式D-1-1で記入した番号と整合させること。
B48: ※3：対策区分毎の変状発生規模は、様式D-1-1に記載した面積を記入すること（ただし外力はスパン単位で評価するため対象外とし、備考欄に状況を記入）。
B49: ※4：本様式は覆工スパン毎に作成すること。
B50: ※5：変状数が多い場合は、適時、表の行を増やして覆工スパン毎に1枚のシートに収めること。また、1スパン１シートとし、スパンに合わせてシートを追加すること。
B51: ※6：対策区分毎の変状の発生範囲の規模とは，対策を行う際に参考となる変状の長さや面積であり，変状を包含する長さや面積とする。
B52: ※7：路面滞水は、変状面積に1を記載するとともに、備考にも内容を記載すること。

Sheet 様式D-3_S09
AU1: 様式Fリンク用→ | AV1: 覆工ｽﾊﾟﾝ 番号 | AW1: ｽﾊﾟﾝ 長 (m) | AX1: 変状数集計 | BS1: 覆工スパン毎の 健全性の診断 | BW1: 変状規模集計
AX2: 対策区分毎の変状数 | BJ2: 健全性の判定区分毎の変状数 | BW2: 覆工スパン長(m) | CA2: 対策区分毎の変状の発生範囲の規模(㎡）
B3: ■定期点検記録様式 覆工スパン別変状詳細展開図 【様式D-3】 | AX3: 外力 | BB3: 材質劣化 | BF3: 漏水 | BJ3: 外力 | BM3: 材質劣化 | BP3: 漏水 | BS3: 外力 | BT3: 材質劣化 | BU3: 漏水 | BV3: 健全性 | BW3: 外力※１ | CA3: 材質劣化 | CE3: 漏水
B4: フリガナ | E4: ヤクオウジトンネル | K4: 路線名 | N4: 一般国道435号 | T4: 定期点検業者 | Y4: 応用地質株式会社 | AG4: 定期点検年月日 | AK4: 44862 | AX4: Ⅳ | AY4: Ⅲ | AZ4: Ⅱa | BA4: Ⅱb | BB4: Ⅳ | BC4: Ⅲ | BD4: Ⅱa | BE4: Ⅱb | BF4: Ⅳ | BG4: Ⅲ | BH4: Ⅱa | BI4: Ⅱb | BJ4: Ⅳ | BK4: Ⅲ | BL4: Ⅱ | BM4: Ⅳ | BN4: Ⅲ | BO4: Ⅱ | BP4: Ⅳ | BQ4: Ⅲ | BR4: Ⅱ | BW4: Ⅳ | BX4: Ⅲ | BY4: Ⅱa | BZ4: Ⅱb | CA4: Ⅳ | CB4: Ⅲ | CC4: Ⅱa | CD4: Ⅱb | CE4: Ⅳ | CF4: Ⅲ | CG4: Ⅱa | CH4: Ⅱb
B5: 名 称 | E5: 薬王寺トンネル | K5: 管理者名 | N5: 山口県宇部土木建築事務所 | T5: 定期点検者名 | Y5: 太田 裕之 | AQ5: 〇 | AV5: =N7 -> 9 | AW5: =R7 -> 10.3 | AX5: =+Y32 -> 0 | AY5: =+Z32 -> 0 | AZ5: =+AA32 -> 0 | BA5: =+AB32 -> 0 | BB5: =+AC32 -> 0 | BC5: =+AD32 -> 0 | BD5: =+AE32 -> 0 | BE5: =+AF32 -> 0 | ... BI5: =+AJ32 -> 0 | BJ5: =+Y35 -> 0 | BK5: =+Z35 -> 0 | BL5: =+AA35 -> 0 | BM5: =+AC35 -> 0 | BN5: =+AD35 -> 0 | BO5: =+AE35 -> 0 | BP5: =+AG35 -> 0 | BQ5: =+AH35 -> 0 | BR5: =+AI35 -> 0 | BS5: =+Y36 -> Ⅰ | BT5: =+AC36 -> Ⅰ | BU5: =+AG36 -> Ⅰ | BV5: =+Y37 -> Ⅰ | BW5: =IF(Y32>0,R7,"") | BX5: =IF(Z32>0,"",IF(AA32>0,R7,"")) | BY5: =IF(Y32+Z32>0,"",IF(AA32>0,R7,"")) | BZ5: =IF(Y32+Z32+AA32>0,"",IF(AB32>0,R7,"")) | CA5: =+AC31 -> 0 | CB5: =+AD31 -> 0 | CC5: =+AE31 -> 0 | CD5: =+AF31 -> 0 | CE5: =+AG31 -> 0 | CF5: =+AH31 -> 0 | CG5: =+AI31 -> 0 | CH5: =+AJ31 -> 0
B6: スパン別変状展開図 | K6: 【健全性判定集計表】
K7: スパン番号 | N7: 9 | P7: スパン長 | R7: 10.3 | U7: 前回定期点検時の健全性 | W7: 応急措置前の判定 | Y7: 対策区分毎の 変状の有無 | AC7: 対策区分毎の変状の発生範囲の規模(㎡) | AK7: 備考注2
K8: 変状番号 | L8: 対象箇所 | N8: 部位区分 | P8: 変状区分 | R8: 変状種類
Y9: 外力注1 | AC9: 材質劣化注1 | AG9: 漏水注1
Y10: Ⅳ | Z10: Ⅲ | AA10: Ⅱa | AB10: Ⅱb | AC10: Ⅳ | AD10: Ⅲ | AE10: Ⅱa | AF10: Ⅱb | AG10: Ⅳ | AH10: Ⅲ | AI10: Ⅱa | AJ10: Ⅱb
K11: 1 | L11: 覆工・坑門 | N11: アーチ（天端） | P11: 材質劣化 | R11: うき・はく離 | U11: Ⅱ | W11: － | AK11: 対策済み | AQ11: =IF(P11="外力",1,IF(P11="材質劣化",2,IF(P11="漏水",3,4))) -> 2
K12: 2 | L12: 覆工・坑門 | N12: アーチ（天端） | P12: 材質劣化 | R12: うき・はく離 | U12: Ⅱ | W12: － | AK12: 対策済み | AQ12: =IF(P12="外力",1,IF(P12="材質劣化",2,IF(P12="漏水",3,4))) -> 2
AQ13: =IF(P13="外力",1,IF(P13="材質劣化",2,IF(P13="漏水",3,4))) -> 4
AQ14: =IF(P14="外力",1,IF(P14="材質劣化",2,IF(P14="漏水",3,4))) -> 4
AQ15: =IF(P15="外力",1,IF(P15="材質劣化",2,IF(P15="漏水",3,4))) -> 4
AQ16: =IF(P16="外力",1,IF(P16="材質劣化",2,IF(P16="漏水",3,4))) -> 4
AQ17: =IF(P17="外力",1,IF(P17="材質劣化",2,IF(P17="漏水",3,4))) -> 4
AQ18: =IF(P18="外力",1,IF(P18="材質劣化",2,IF(P18="漏水",3,4))) -> 4
AQ19: =IF(P19="外力",1,IF(P19="材質劣化",2,IF(P19="漏水",3,4))) -> 4
AQ20: =IF(P20="外力",1,IF(P20="材質劣化",2,IF(P20="漏水",3,4))) -> 4
AQ21: =IF(P21="外力",1,IF(P21="材質劣化",2,IF(P21="漏水",3,4))) -> 4
AQ22: =IF(P22="外力",1,IF(P22="材質劣化",2,IF(P22="漏水",3,4))) -> 4
AQ23: =IF(P23="外力",1,IF(P23="材質劣化",2,IF(P23="漏水",3,4))) -> 4
AQ24: =IF(P24="外力",1,IF(P24="材質劣化",2,IF(P24="漏水",3,4))) -> 4
... AQ30: =IF(P30="外力",1,IF(P30="材質劣化",2,IF(P30="漏水",3,4))) -> 4
K31: 集計 ・ 判定 ・ 診断 | L31: 変状の発生規模合計(㎡) | Y31: － | AC31: =SUM(AC11:AC30) -> 0 | AD31: =SUM(AD11:AD30) -> 0 | AE31: =SUM(AE11:AE30) -> 0 | AF31: =SUM(AF11:AF30) -> 0 | AG31: =SUM(AG11:AG30) -> 0 | AH31: =SUM(AH11:AH30) -> 0 | AI31: =SUM(AI11:AI30) -> 0 | AJ31: =SUM(AJ11:AJ30) -> 0 | AK31: 計
L32: 対策区分の 判定結果 | O32: 判定区分毎の変状数 | Y32: =COUNTIF(Y11:Y30,"〇") -> 0 | Z32: =COUNTIF(Z11:Z30,"〇") -> 0 | AA32: =COUNTIF(AA11:AA30,"〇") -> 0 | AB32: =COUNTIF(AB11:AB30,"〇") -> 0 | AC32: =COUNT(AC11:AC30) -> 0 | AD32: =COUNT(AD11:AD30) -> 0 | AE32: =COUNT(AE11:AE30) -> 0 | AF32: =COUNT(AF11:AF30) -> 0 | AG32: =COUNT(AG11:AG30) -> 0 | AH32: =COUNT(AH11:AH30) -> 0 | AI32: =COUNT(AI11:AI30) -> 0 | AJ32: =COUNT(AJ11:AJ30) -> 0
O33: 変状区分毎の判定区分注3 | Y33: =IF(Y32>0,"Ⅳ",IF(Z32>0,"Ⅲ",IF(AA32>0,"Ⅱa",IF(AB32>0,"Ⅱb","Ⅰ")))) -> Ⅰ | AC33: =IF(AC32>0,"Ⅳ",IF(AD32>0,"Ⅲ",IF(AE32>0,"Ⅱa",IF(AF32>0,"Ⅱb","Ⅰ")))) -> Ⅰ | AG33: =IF(AG32>0,"Ⅳ",IF(AH32>0,"Ⅲ",IF(AI32>0,"Ⅱa",IF(AJ32>0,"Ⅱb","Ⅰ")))) -> Ⅰ | AQ33: Ⅳ | AR33: Ⅲ | AS33: Ⅱ
L34: 健全性の 診断結果 | O34: 判定区分 | Y34: Ⅳ | Z34: Ⅲ | AA34: Ⅱ | AC34: Ⅳ | AD34: Ⅲ | AE34: Ⅱ | AG34: Ⅳ | AH34: Ⅲ | AI34: Ⅱ | AQ34: =+Y32+Z32 -> 0 | AS34: =+AA32+AB32 -> 0
O35: 判定区分毎の変状数注4 | Y35: =Y32 -> 0 | Z35: =Z32 -> 0 | AA35: =AA32+AB32 -> 0 | AC35: =+AC32 -> 0 | AD35: =AD32 -> 0 | AE35: =AE32+AF32 -> 0 | AG35: =AG32 -> 0 | AH35: =AH32 -> 0 | AI35: =AI32+AJ32 -> 0 | AQ35: =+Y32+AC35+AG35 -> 0 | AR35: =+Z32+AD35+AH35 -> 0 | AS35: =+AS34+AE35+AI35 -> 0
O36: 変状区分毎の判定区分注4 | Y36: =IF(Y35>=1,"Ⅳ",IF(Z35>=1,"Ⅲ",IF(AA35>=1,"Ⅱ","Ⅰ"))) -> Ⅰ | AC36: =IF(AC35>=1,"Ⅳ",IF(AD35>=1,"Ⅲ",IF(AE35>=1,"Ⅱ","Ⅰ"))) -> Ⅰ | AG36: =IF(AG35>=1,"Ⅳ",IF(AH35>=1,"Ⅲ",IF(AI35>=1,"Ⅱ","Ⅰ"))) -> Ⅰ | AQ36: =IF(AQ35>0,"Ⅳ",IF(AR35>0,"Ⅲ",IF(AS35>0,"Ⅱ","Ⅰ"))) -> Ⅰ
O37: 覆工スパン単位の判定区分注5 | Y37: =IF(COUNTIF(Y36:AJ36,"Ⅳ")>0,"Ⅳ",IF(COUNTIF(Y36:AJ36,"Ⅲ")>0,"Ⅲ",IF(COUNTIF(Y36:AJ36,"Ⅱ")>0,"Ⅱ","Ⅰ"))) -> Ⅰ
K38: 特記事項
K40: 注1：誤記入防止のため、当該変状区分以外のセルは灰色表示とすること。
K41: 注2：応急対策を実施した場合は、その詳細を備考に記載すること。
K42: 注3：変状区分毎での最も評価の厳しい判定区分。
K43: 注4：変状区分毎での最も評価の厳しい判定区分．外力は覆工スパン単位、材質劣化、漏水は変状単位で行う。
K44: 注5：覆工スパンの中で最も評価の厳しい健全性を採用し、その覆工スパン毎の健全性とする。
B46: ※1：本シートは作成洩れのないよう、変状が無くても全スパン分を作成すること．また変状展開図は、様式D-2-1、様式D-2-1'と同じものを覆工スパン単位で拡大し掲載すること。
B47: ※2：変状番号は、様式D-1-1で記入した番号と整合させること。
B48: ※3：対策区分毎の変状発生規模は、様式D-1-1に記載した面積を記入すること（ただし外力はスパン単位で評価するため対象外とし、備考欄に状況を記入）。
B49: ※4：本様式は覆工スパン毎に作成すること。
B50: ※5：変状数が多い場合は、適時、表の行を増やして覆工スパン毎に1枚のシートに収めること。また、1スパン１シートとし、スパンに合わせてシートを追加すること。
B51: ※6：対策区分毎の変状の発生範囲の規模とは，対策を行う際に参考となる変状の長さや面積であり，変状を包含する長さや面積とする。
B52: ※7：路面滞水は、変状面積に1を記載するとともに、備考にも内容を記載すること。

Sheet 様式D-3_S10
AU1: 様式Fリンク用→ | AV1: 覆工ｽﾊﾟﾝ 番号 | AW1: ｽﾊﾟﾝ 長 (m) | AX1: 変状数集計 | BS1: 覆工スパン毎の 健全性の診断 | BW1: 変状規模集計
AX2: 対策区分毎の変状数 | BJ2: 健全性の判定区分毎の変状数 | BW2: 覆工スパン長(m) | CA2: 対策区分毎の変状の発生範囲の規模(㎡）
B3: ■定期点検記録様式 覆工スパン別変状詳細展開図 【様式D-3】 | AX3: 外力 | BB3: 材質劣化 | BF3: 漏水 | BJ3: 外力 | BM3: 材質劣化 | BP3: 漏水 | BS3: 外力 | BT3: 材質劣化 | BU3: 漏水 | BV3: 健全性 | BW3: 外力※１ | CA3: 材質劣化 | CE3: 漏水
B4: フリガナ | E4: ヤクオウジトンネル | K4: 路線名 | N4: 一般国道435号 | T4: 定期点検業者 | Y4: 応用地質株式会社 | AG4: 定期点検年月日 | AK4: 44862 | AX4: Ⅳ | AY4: Ⅲ | AZ4: Ⅱa | BA4: Ⅱb | BB4: Ⅳ | BC4: Ⅲ | BD4: Ⅱa | BE4: Ⅱb | BF4: Ⅳ | BG4: Ⅲ | BH4: Ⅱa | BI4: Ⅱb | BJ4: Ⅳ | BK4: Ⅲ | BL4: Ⅱ | BM4: Ⅳ | BN4: Ⅲ | BO4: Ⅱ | BP4: Ⅳ | BQ4: Ⅲ | BR4: Ⅱ | BW4: Ⅳ | BX4: Ⅲ | BY4: Ⅱa | BZ4: Ⅱb | CA4: Ⅳ | CB4: Ⅲ | CC4: Ⅱa | CD4: Ⅱb | CE4: Ⅳ | CF4: Ⅲ | CG4: Ⅱa | CH4: Ⅱb
B5: 名 称 | E5: 薬王寺トンネル | K5: 管理者名 | N5: 山口県宇部土木建築事務所 | T5: 定期点検者名 | Y5: 太田 裕之 | AQ5: 〇 | AV5: =N7 -> 10 | AW5: =R7 -> 10.3 | AX5: =+Y32 -> 0 | AY5: =+Z32 -> 0 | AZ5: =+AA32 -> 0 | BA5: =+AB32 -> 0 | BB5: =+AC32 -> 0 | BC5: =+AD32 -> 0 | BD5: =+AE32 -> 0 | BE5: =+AF32 -> 0 | ... BI5: =+AJ32 -> 0 | BJ5: =+Y35 -> 0 | BK5: =+Z35 -> 0 | BL5: =+AA35 -> 0 | BM5: =+AC35 -> 0 | BN5: =+AD35 -> 0 | BO5: =+AE35 -> 0 | BP5: =+AG35 -> 0 | BQ5: =+AH35 -> 0 | BR5: =+AI35 -> 0 | BS5: =+Y36 -> Ⅰ | BT5: =+AC36 -> Ⅰ | BU5: =+AG36 -> Ⅰ | BV5: =+Y37 -> Ⅰ | BW5: =IF(Y32>0,R7,"") | BX5: =IF(Z32>0,"",IF(AA32>0,R7,"")) | BY5: =IF(Y32+Z32>0,"",IF(AA32>0,R7,"")) | BZ5: =IF(Y32+Z32+AA32>0,"",IF(AB32>0,R7,"")) | CA5: =+AC31 -> 0 | CB5: =+AD31 -> 0 | CC5: =+AE31 -> 0 | CD5: =+AF31 -> 0 | CE5: =+AG31 -> 0 | CF5: =+AH31 -> 0 | CG5: =+AI31 -> 0 | CH5: =+AJ31 -> 0
B6: スパン別変状展開図 | K6: 【健全性判定集計表】
K7: スパン番号 | N7: 10 | P7: スパン長 | R7: 10.3 | U7: 前回定期点検時の健全性 | W7: 応急措置前の判定 | Y7: 対策区分毎の 変状の有無 | AC7: 対策区分毎の変状の発生範囲の規模(㎡) | AK7: 備考注2
K8: 変状番号 | L8: 対象箇所 | N8: 部位区分 | P8: 変状区分 | R8: 変状種類
Y9: 外力注1 | AC9: 材質劣化注1 | AG9: 漏水注1
Y10: Ⅳ | Z10: Ⅲ | AA10: Ⅱa | AB10: Ⅱb | AC10: Ⅳ | AD10: Ⅲ | AE10: Ⅱa | AF10: Ⅱb | AG10: Ⅳ | AH10: Ⅲ | AI10: Ⅱa | AJ10: Ⅱb
K11: 1 | L11: 覆工・坑門 | N11: 横断目地（左側） | P11: 材質劣化 | R11: うき・はく離 | U11: Ⅱ | W11: － | AK11: 対策済み | AQ11: =IF(P11="外力",1,IF(P11="材質劣化",2,IF(P11="漏水",3,4))) -> 2
K12: 2 | L12: 覆工・坑門 | N12: アーチ（天端） | P12: 材質劣化 | R12: うき・はく離 | U12: Ⅱ | W12: Ⅱa | AK12: 今回点検時叩き落し実施 | AQ12: =IF(P12="外力",1,IF(P12="材質劣化",2,IF(P12="漏水",3,4))) -> 2
K13: 3 | L13: 覆工・坑門 | N13: アーチ（天端） | P13: 材質劣化 | R13: うき・はく離 | U13: － | W13: － | AK13: 対策済み | AQ13: =IF(P13="外力",1,IF(P13="材質劣化",2,IF(P13="漏水",3,4))) -> 2
K14: 4 | L14: 覆工・坑門 | N14: アーチ（天端） | P14: 材質劣化 | R14: うき・はく離 | U14: － | W14: － | AK14: 対策済み | AQ14: =IF(P14="外力",1,IF(P14="材質劣化",2,IF(P14="漏水",3,4))) -> 2
AQ15: =IF(P15="外力",1,IF(P15="材質劣化",2,IF(P15="漏水",3,4))) -> 4
AQ16: =IF(P16="外力",1,IF(P16="材質劣化",2,IF(P16="漏水",3,4))) -> 4
AQ17: =IF(P17="外力",1,IF(P17="材質劣化",2,IF(P17="漏水",3,4))) -> 4
AQ18: =IF(P18="外力",1,IF(P18="材質劣化",2,IF(P18="漏水",3,4))) -> 4
AQ19: =IF(P19="外力",1,IF(P19="材質劣化",2,IF(P19="漏水",3,4))) -> 4
AQ20: =IF(P20="外力",1,IF(P20="材質劣化",2,IF(P20="漏水",3,4))) -> 4
AQ21: =IF(P21="外力",1,IF(P21="材質劣化",2,IF(P21="漏水",3,4))) -> 4
AQ22: =IF(P22="外力",1,IF(P22="材質劣化",2,IF(P22="漏水",3,4))) -> 4
AQ23: =IF(P23="外力",1,IF(P23="材質劣化",2,IF(P23="漏水",3,4))) -> 4
AQ24: =IF(P24="外力",1,IF(P24="材質劣化",2,IF(P24="漏水",3,4))) -> 4
AQ25: =IF(P25="外力",1,IF(P25="材質劣化",2,IF(P25="漏水",3,4))) -> 4
AQ26: =IF(P26="外力",1,IF(P26="材質劣化",2,IF(P26="漏水",3,4))) -> 4
... AQ30: =IF(P30="外力",1,IF(P30="材質劣化",2,IF(P30="漏水",3,4))) -> 4
K31: 集計 ・ 判定 ・ 診断 | L31: 変状の発生規模合計(㎡) | Y31: － | AC31: =SUM(AC11:AC30) -> 0 | AD31: =SUM(AD11:AD30) -> 0 | AE31: =SUM(AE11:AE30) -> 0 | AF31: =SUM(AF11:AF30) -> 0 | AG31: =SUM(AG11:AG30) -> 0 | AH31: =SUM(AH11:AH30) -> 0 | AI31: =SUM(AI11:AI30) -> 0 | AJ31: =SUM(AJ11:AJ30) -> 0 | AK31: 計
L32: 対策区分の 判定結果 | O32: 判定区分毎の変状数 | Y32: =COUNTIF(Y11:Y30,"〇") -> 0 | Z32: =COUNTIF(Z11:Z30,"〇") -> 0 | AA32: =COUNTIF(AA11:AA30,"〇") -> 0 | AB32: =COUNTIF(AB11:AB30,"〇") -> 0 | AC32: =COUNT(AC11:AC30) -> 0 | AD32: =COUNT(AD11:AD30) -> 0 | AE32: =COUNT(AE11:AE30) -> 0 | AF32: =COUNT(AF11:AF30) -> 0 | AG32: =COUNT(AG11:AG30) -> 0 | AH32: =COUNT(AH11:AH30) -> 0 | AI32: =COUNT(AI11:AI30) -> 0 | AJ32: =COUNT(AJ11:AJ30) -> 0
O33: 変状区分毎の判定区分注3 | Y33: =IF(Y32>0,"Ⅳ",IF(Z32>0,"Ⅲ",IF(AA32>0,"Ⅱa",IF(AB32>0,"Ⅱb","Ⅰ")))) -> Ⅰ | AC33: =IF(AC32>0,"Ⅳ",IF(AD32>0,"Ⅲ",IF(AE32>0,"Ⅱa",IF(AF32>0,"Ⅱb","Ⅰ")))) -> Ⅰ | AG33: =IF(AG32>0,"Ⅳ",IF(AH32>0,"Ⅲ",IF(AI32>0,"Ⅱa",IF(AJ32>0,"Ⅱb","Ⅰ")))) -> Ⅰ | AQ33: Ⅳ | AR33: Ⅲ | AS33: Ⅱ
L34: 健全性の 診断結果 | O34: 判定区分 | Y34: Ⅳ | Z34: Ⅲ | AA34: Ⅱ | AC34: Ⅳ | AD34: Ⅲ | AE34: Ⅱ | AG34: Ⅳ | AH34: Ⅲ | AI34: Ⅱ | AQ34: =+Y32+Z32 -> 0 | AS34: =+AA32+AB32 -> 0
O35: 判定区分毎の変状数注4 | Y35: =Y32 -> 0 | Z35: =Z32 -> 0 | AA35: =AA32+AB32 -> 0 | AC35: =+AC32 -> 0 | AD35: =AD32 -> 0 | AE35: =AE32+AF32 -> 0 | AG35: =AG32 -> 0 | AH35: =AH32 -> 0 | AI35: =AI32+AJ32 -> 0 | AQ35: =+Y32+AC35+AG35 -> 0 | AR35: =+Z32+AD35+AH35 -> 0 | AS35: =+AS34+AE35+AI35 -> 0
O36: 変状区分毎の判定区分注4 | Y36: =IF(Y35>=1,"Ⅳ",IF(Z35>=1,"Ⅲ",IF(AA35>=1,"Ⅱ","Ⅰ"))) -> Ⅰ | AC36: =IF(AC35>=1,"Ⅳ",IF(AD35>=1,"Ⅲ",IF(AE35>=1,"Ⅱ","Ⅰ"))) -> Ⅰ | AG36: =IF(AG35>=1,"Ⅳ",IF(AH35>=1,"Ⅲ",IF(AI35>=1,"Ⅱ","Ⅰ"))) -> Ⅰ | AQ36: =IF(AQ35>0,"Ⅳ",IF(AR35>0,"Ⅲ",IF(AS35>0,"Ⅱ","Ⅰ"))) -> Ⅰ
O37: 覆工スパン単位の判定区分注5 | Y37: =IF(COUNTIF(Y36:AJ36,"Ⅳ")>0,"Ⅳ",IF(COUNTIF(Y36:AJ36,"Ⅲ")>0,"Ⅲ",IF(COUNTIF(Y36:AJ36,"Ⅱ")>0,"Ⅱ","Ⅰ"))) -> Ⅰ
K38: 特記事項
K40: 注1：誤記入防止のため、当該変状区分以外のセルは灰色表示とすること。
K41: 注2：応急対策を実施した場合は、その詳細を備考に記載すること。
K42: 注3：変状区分毎での最も評価の厳しい判定区分。
K43: 注4：変状区分毎での最も評価の厳しい判定区分．外力は覆工スパン単位、材質劣化、漏水は変状単位で行う。
K44: 注5：覆工スパンの中で最も評価の厳しい健全性を採用し、その覆工スパン毎の健全性とする。
B46: ※1：本シートは作成洩れのないよう、変状が無くても全スパン分を作成すること．また変状展開図は、様式D-2-1、様式D-2-1'と同じものを覆工スパン単位で拡大し掲載すること。
B47: ※2：変状番号は、様式D-1-1で記入した番号と整合させること。
B48: ※3：対策区分毎の変状発生規模は、様式D-1-1に記載した面積を記入すること（ただし外力はスパン単位で評価するため対象外とし、備考欄に状況を記入）。
B49: ※4：本様式は覆工スパン毎に作成すること。
B50: ※5：変状数が多い場合は、適時、表の行を増やして覆工スパン毎に1枚のシートに収めること。また、1スパン１シートとし、スパンに合わせてシートを追加すること。
B51: ※6：対策区分毎の変状の発生範囲の規模とは，対策を行う際に参考となる変状の長さや面積であり，変状を包含する長さや面積とする。
B52: ※7：路面滞水は、変状面積に1を記載するとともに、備考にも内容を記載すること。

Sheet 様式D-3_S11
AU1: 様式Fリンク用→ | AV1: 覆工ｽﾊﾟﾝ 番号 | AW1: ｽﾊﾟﾝ 長 (m) | AX1: 変状数集計 | BS1: 覆工スパン毎の 健全性の診断 | BW1: 変状規模集計
AX2: 対策区分毎の変状数 | BJ2: 健全性の判定区分毎の変状数 | BW2: 覆工スパン長(m) | CA2: 対策区分毎の変状の発生範囲の規模(㎡）
B3: ■定期点検記録様式 覆工スパン別変状詳細展開図 【様式D-3】 | AX3: 外力 | BB3: 材質劣化 | BF3: 漏水 | BJ3: 外力 | BM3: 材質劣化 | BP3: 漏水 | BS3: 外力 | BT3: 材質劣化 | BU3: 漏水 | BV3: 健全性 | BW3: 外力※１ | CA3: 材質劣化 | CE3: 漏水
B4: フリガナ | E4: ヤクオウジトンネル | K4: 路線名 | N4: 一般国道435号 | T4: 定期点検業者 | Y4: 応用地質株式会社 | AG4: 定期点検年月日 | AK4: 44862 | AX4: Ⅳ | AY4: Ⅲ | AZ4: Ⅱa | BA4: Ⅱb | BB4: Ⅳ | BC4: Ⅲ | BD4: Ⅱa | BE4: Ⅱb | BF4: Ⅳ | BG4: Ⅲ | BH4: Ⅱa | BI4: Ⅱb | BJ4: Ⅳ | BK4: Ⅲ | BL4: Ⅱ | BM4: Ⅳ | BN4: Ⅲ | BO4: Ⅱ | BP4: Ⅳ | BQ4: Ⅲ | BR4: Ⅱ | BW4: Ⅳ | BX4: Ⅲ | BY4: Ⅱa | BZ4: Ⅱb | CA4: Ⅳ | CB4: Ⅲ | CC4: Ⅱa | CD4: Ⅱb | CE4: Ⅳ | CF4: Ⅲ | CG4: Ⅱa | CH4: Ⅱb
B5: 名 称 | E5: 薬王寺トンネル | K5: 管理者名 | N5: 山口県宇部土木建築事務所 | T5: 定期点検者名 | Y5: 太田 裕之 | AQ5: 〇 | AV5: =N7 -> 11 | AW5: =R7 -> 10.3 | AX5: =+Y32 -> 0 | AY5: =+Z32 -> 0 | AZ5: =+AA32 -> 0 | BA5: =+AB32 -> 0 | BB5: =+AC32 -> 0 | BC5: =+AD32 -> 0 | BD5: =+AE32 -> 0 | BE5: =+AF32 -> 0 | ... BI5: =+AJ32 -> 0 | BJ5: =+Y35 -> 0 | BK5: =+Z35 -> 0 | BL5: =+AA35 -> 0 | BM5: =+AC35 -> 0 | BN5: =+AD35 -> 0 | BO5: =+AE35 -> 0 | BP5: =+AG35 -> 0 | BQ5: =+AH35 -> 0 | BR5: =+AI35 -> 0 | BS5: =+Y36 -> Ⅰ | BT5: =+AC36 -> Ⅰ | BU5: =+AG36 -> Ⅰ | BV5: =+Y37 -> Ⅰ | BW5: =IF(Y32>0,R7,"") | BX5: =IF(Z32>0,"",IF(AA32>0,R7,"")) | BY5: =IF(Y32+Z32>0,"",IF(AA32>0,R7,"")) | BZ5: =IF(Y32+Z32+AA32>0,"",IF(AB32>0,R7,"")) | CA5: =+AC31 -> 0 | CB5: =+AD31 -> 0 | CC5: =+AE31 -> 0 | CD5: =+AF31 -> 0 | CE5: =+AG31 -> 0 | CF5: =+AH31 -> 0 | CG5: =+AI31 -> 0 | CH5: =+AJ31 -> 0
B6: スパン別変状展開図 | K6: 【健全性判定集計表】
K7: スパン番号 | N7: 11 | P7: スパン長 | R7: 10.3 | U7: 前回定期点検時の健全性 | W7: 応急措置前の判定 | Y7: 対策区分毎の 変状の有無 | AC7: 対策区分毎の変状の発生範囲の規模(㎡) | AK7: 備考注2
K8: 変状番号 | L8: 対象箇所 | N8: 部位区分 | P8: 変状区分 | R8: 変状種類
Y9: 外力注1 | AC9: 材質劣化注1 | AG9: 漏水注1
Y10: Ⅳ | Z10: Ⅲ | AA10: Ⅱa | AB10: Ⅱb | AC10: Ⅳ | AD10: Ⅲ | AE10: Ⅱa | AF10: Ⅱb | AG10: Ⅳ | AH10: Ⅲ | AI10: Ⅱa | AJ10: Ⅱb
AQ11: =IF(P11="外力",1,IF(P11="材質劣化",2,IF(P11="漏水",3,4))) -> 4
AQ12: =IF(P12="外力",1,IF(P12="材質劣化",2,IF(P12="漏水",3,4))) -> 4
AQ13: =IF(P13="外力",1,IF(P13="材質劣化",2,IF(P13="漏水",3,4))) -> 4
AQ14: =IF(P14="外力",1,IF(P14="材質劣化",2,IF(P14="漏水",3,4))) -> 4
AQ15: =IF(P15="外力",1,IF(P15="材質劣化",2,IF(P15="漏水",3,4))) -> 4
AQ16: =IF(P16="外力",1,IF(P16="材質劣化",2,IF(P16="漏水",3,4))) -> 4
AQ17: =IF(P17="外力",1,IF(P17="材質劣化",2,IF(P17="漏水",3,4))) -> 4
AQ18: =IF(P18="外力",1,IF(P18="材質劣化",2,IF(P18="漏水",3,4))) -> 4
AQ19: =IF(P19="外力",1,IF(P19="材質劣化",2,IF(P19="漏水",3,4))) -> 4
AQ20: =IF(P20="外力",1,IF(P20="材質劣化",2,IF(P20="漏水",3,4))) -> 4
AQ21: =IF(P21="外力",1,IF(P21="材質劣化",2,IF(P21="漏水",3,4))) -> 4
AQ22: =IF(P22="外力",1,IF(P22="材質劣化",2,IF(P22="漏水",3,4))) -> 4
... AQ30: =IF(P30="外力",1,IF(P30="材質劣化",2,IF(P30="漏水",3,4))) -> 4
K31: 集計 ・ 判定 ・ 診断 | L31: 変状の発生規模合計(㎡) | Y31: － | AC31: =SUM(AC11:AC30) -> 0 | AD31: =SUM(AD11:AD30) -> 0 | AE31: =SUM(AE11:AE30) -> 0 | AF31: =SUM(AF11:AF30) -> 0 | AG31: =SUM(AG11:AG30) -> 0 | AH31: =SUM(AH11:AH30) -> 0 | AI31: =SUM(AI11:AI30) -> 0 | AJ31: =SUM(AJ11:AJ30) -> 0 | AK31: 計
L32: 対策区分の 判定結果 | O32: 判定区分毎の変状数 | Y32: =COUNTIF(Y11:Y30,"〇") -> 0 | Z32: =COUNTIF(Z11:Z30,"〇") -> 0 | AA32: =COUNTIF(AA11:AA30,"〇") -> 0 | AB32: =COUNTIF(AB11:AB30,"〇") -> 0 | AC32: =COUNT(AC11:AC30) -> 0 | AD32: =COUNT(AD11:AD30) -> 0 | AE32: =COUNT(AE11:AE30) -> 0 | AF32: =COUNT(AF11:AF30) -> 0 | AG32: =COUNT(AG11:AG30) -> 0 | AH32: =COUNT(AH11:AH30) -> 0 | AI32: =COUNT(AI11:AI30) -> 0 | AJ32: =COUNT(AJ11:AJ30) -> 0
O33: 変状区分毎の判定区分注3 | Y33: =IF(Y32>0,"Ⅳ",IF(Z32>0,"Ⅲ",IF(AA32>0,"Ⅱa",IF(AB32>0,"Ⅱb","Ⅰ")))) -> Ⅰ | AC33: =IF(AC32>0,"Ⅳ",IF(AD32>0,"Ⅲ",IF(AE32>0,"Ⅱa",IF(AF32>0,"Ⅱb","Ⅰ")))) -> Ⅰ | AG33: =IF(AG32>0,"Ⅳ",IF(AH32>0,"Ⅲ",IF(AI32>0,"Ⅱa",IF(AJ32>0,"Ⅱb","Ⅰ")))) -> Ⅰ | AQ33: Ⅳ | AR33: Ⅲ | AS33: Ⅱ
L34: 健全性の 診断結果 | O34: 判定区分 | Y34: Ⅳ | Z34: Ⅲ | AA34: Ⅱ | AC34: Ⅳ | AD34: Ⅲ | AE34: Ⅱ | AG34: Ⅳ | AH34: Ⅲ | AI34: Ⅱ | AQ34: =+Y32+Z32 -> 0 | AS34: =+AA32+AB32 -> 0
O35: 判定区分毎の変状数注4 | Y35: =Y32 -> 0 | Z35: =Z32 -> 0 | AA35: =AA32+AB32 -> 0 | AC35: =+AC32 -> 0 | AD35: =AD32 -> 0 | AE35: =AE32+AF32 -> 0 | AG35: =AG32 -> 0 | AH35: =AH32 -> 0 | AI35: =AI32+AJ32 -> 0 | AQ35: =+Y32+AC35+AG35 -> 0 | AR35: =+Z32+AD35+AH35 -> 0 | AS35: =+AS34+AE35+AI35 -> 0
O36: 変状区分毎の判定区分注4 | Y36: =IF(Y35>=1,"Ⅳ",IF(Z35>=1,"Ⅲ",IF(AA35>=1,"Ⅱ","Ⅰ"))) -> Ⅰ | AC36: =IF(AC35>=1,"Ⅳ",IF(AD35>=1,"Ⅲ",IF(AE35>=1,"Ⅱ","Ⅰ"))) -> Ⅰ | AG36: =IF(AG35>=1,"Ⅳ",IF(AH35>=1,"Ⅲ",IF(AI35>=1,"Ⅱ","Ⅰ"))) -> Ⅰ | AQ36: =IF(AQ35>0,"Ⅳ",IF(AR35>0,"Ⅲ",IF(AS35>0,"Ⅱ","Ⅰ"))) -> Ⅰ
O37: 覆工スパン単位の判定区分注5 | Y37: =IF(COUNTIF(Y36:AJ36,"Ⅳ")>0,"Ⅳ",IF(COUNTIF(Y36:AJ36,"Ⅲ")>0,"Ⅲ",IF(COUNTIF(Y36:AJ36,"Ⅱ")>0,"Ⅱ","Ⅰ"))) -> Ⅰ
K38: 特記事項
K40: 注1：誤記入防止のため、当該変状区分以外のセルは灰色表示とすること。
K41: 注2：応急対策を実施した場合は、その詳細を備考に記載すること。
K42: 注3：変状区分毎での最も評価の厳しい判定区分。
K43: 注4：変状区分毎での最も評価の厳しい判定区分．外力は覆工スパン単位、材質劣化、漏水は変状単位で行う。
K44: 注5：覆工スパンの中で最も評価の厳しい健全性を採用し、その覆工スパン毎の健全性とする。
B46: ※1：本シートは作成洩れのないよう、変状が無くても全スパン分を作成すること．また変状展開図は、様式D-2-1、様式D-2-1'と同じものを覆工スパン単位で拡大し掲載すること。
B47: ※2：変状番号は、様式D-1-1で記入した番号と整合させること。
B48: ※3：対策区分毎の変状発生規模は、様式D-1-1に記載した面積を記入すること（ただし外力はスパン単位で評価するため対象外とし、備考欄に状況を記入）。
B49: ※4：本様式は覆工スパン毎に作成すること。
B50: ※5：変状数が多い場合は、適時、表の行を増やして覆工スパン毎に1枚のシートに収めること。また、1スパン１シートとし、スパンに合わせてシートを追加すること。
B51: ※6：対策区分毎の変状の発生範囲の規模とは，対策を行う際に参考となる変状の長さや面積であり，変状を包含する長さや面積とする。
B52: ※7：路面滞水は、変状面積に1を記載するとともに、備考にも内容を記載すること。

Sheet 様式D-3_S12
AU1: 様式Fリンク用→ | AV1: 覆工ｽﾊﾟﾝ 番号 | AW1: ｽﾊﾟﾝ 長 (m) | AX1: 変状数集計 | BS1: 覆工スパン毎の 健全性の診断 | BW1: 変状規模集計
AX2: 対策区分毎の変状数 | BJ2: 健全性の判定区分毎の変状数 | BW2: 覆工スパン長(m) | CA2: 対策区分毎の変状の発生範囲の規模(㎡）
B3: ■定期点検記録様式 覆工スパン別変状詳細展開図 【様式D-3】 | AX3: 外力 | BB3: 材質劣化 | BF3: 漏水 | BJ3: 外力 | BM3: 材質劣化 | BP3: 漏水 | BS3: 外力 | BT3: 材質劣化 | BU3: 漏水 | BV3: 健全性 | BW3: 外力※１ | CA3: 材質劣化 | CE3: 漏水
B4: フリガナ | E4: ヤクオウジトンネル | K4: 路線名 | N4: 一般国道435号 | T4: 定期点検業者 | Y4: 応用地質株式会社 | AG4: 定期点検年月日 | AK4: 44862 | AX4: Ⅳ | AY4: Ⅲ | AZ4: Ⅱa | BA4: Ⅱb | BB4: Ⅳ | BC4: Ⅲ | BD4: Ⅱa | BE4: Ⅱb | BF4: Ⅳ | BG4: Ⅲ | BH4: Ⅱa | BI4: Ⅱb | BJ4: Ⅳ | BK4: Ⅲ | BL4: Ⅱ | BM4: Ⅳ | BN4: Ⅲ | BO4: Ⅱ | BP4: Ⅳ | BQ4: Ⅲ | BR4: Ⅱ | BW4: Ⅳ | BX4: Ⅲ | BY4: Ⅱa | BZ4: Ⅱb | CA4: Ⅳ | CB4: Ⅲ | CC4: Ⅱa | CD4: Ⅱb | CE4: Ⅳ | CF4: Ⅲ | CG4: Ⅱa | CH4: Ⅱb
B5: 名 称 | E5: 薬王寺トンネル | K5: 管理者名 | N5: 山口県宇部土木建築事務所 | T5: 定期点検者名 | Y5: 太田 裕之 | AQ5: 〇 | AV5: =N7 -> 12 | AW5: =R7 -> 10.3 | AX5: =+Y32 -> 0 | AY5: =+Z32 -> 0 | AZ5: =+AA32 -> 0 | BA5: =+AB32 -> 0 | BB5: =+AC32 -> 0 | BC5: =+AD32 -> 0 | BD5: =+AE32 -> 0 | BE5: =+AF32 -> 1 | ... BI5: =+AJ32 -> 0 | BJ5: =+Y35 -> 0 | BK5: =+Z35 -> 0 | BL5: =+AA35 -> 0 | BM5: =+AC35 -> 0 | BN5: =+AD35 -> 0 | BO5: =+AE35 -> 1 | BP5: =+AG35 -> 0 | BQ5: =+AH35 -> 0 | BR5: =+AI35 -> 0 | BS5: =+Y36 -> Ⅰ | BT5: =+AC36 -> Ⅱ | BU5: =+AG36 -> Ⅰ | BV5: =+Y37 -> Ⅱ | BW5: =IF(Y32>0,R7,"") | BX5: =IF(Z32>0,"",IF(AA32>0,R7,"")) | BY5: =IF(Y32+Z32>0,"",IF(AA32>0,R7,"")) | BZ5: =IF(Y32+Z32+AA32>0,"",IF(AB32>0,R7,"")) | CA5: =+AC31 -> 0 | CB5: =+AD31 -> 0 | CC5: =+AE31 -> 0 | CD5: =+AF31 -> 0.02 | CE5: =+AG31 -> 0 | CF5: =+AH31 -> 0 | CG5: =+AI31 -> 0 | CH5: =+AJ31 -> 0
B6: スパン別変状展開図 | K6: 【健全性判定集計表】
K7: スパン番号 | N7: 12 | P7: スパン長 | R7: 10.3 | U7: 前回定期点検時の健全性 | W7: 応急措置前の判定 | Y7: 対策区分毎の 変状の有無 | AC7: 対策区分毎の変状の発生範囲の規模(㎡) | AK7: 備考注2
K8: 変状番号 | L8: 対象箇所 | N8: 部位区分 | P8: 変状区分 | R8: 変状種類
Y9: 外力注1 | AC9: 材質劣化注1 | AG9: 漏水注1
Y10: Ⅳ | Z10: Ⅲ | AA10: Ⅱa | AB10: Ⅱb | AC10: Ⅳ | AD10: Ⅲ | AE10: Ⅱa | AF10: Ⅱb | AG10: Ⅳ | AH10: Ⅲ | AI10: Ⅱa | AJ10: Ⅱb
K11: 1 | L11: 覆工・坑門 | N11: 横断目地（左側） | P11: 材質劣化 | R11: うき・はく離 | U11: Ⅱ | W11: － | AF11: 0.02 | AQ11: =IF(P11="外力",1,IF(P11="材質劣化",2,IF(P11="漏水",3,4))) -> 2
AQ12: =IF(P12="外力",1,IF(P12="材質劣化",2,IF(P12="漏水",3,4))) -> 4
AQ13: =IF(P13="外力",1,IF(P13="材質劣化",2,IF(P13="漏水",3,4))) -> 4
AQ14: =IF(P14="外力",1,IF(P14="材質劣化",2,IF(P14="漏水",3,4))) -> 4
AQ15: =IF(P15="外力",1,IF(P15="材質劣化",2,IF(P15="漏水",3,4))) -> 4
AQ16: =IF(P16="外力",1,IF(P16="材質劣化",2,IF(P16="漏水",3,4))) -> 4
AQ17: =IF(P17="外力",1,IF(P17="材質劣化",2,IF(P17="漏水",3,4))) -> 4
AQ18: =IF(P18="外力",1,IF(P18="材質劣化",2,IF(P18="漏水",3,4))) -> 4
AQ19: =IF(P19="外力",1,IF(P19="材質劣化",2,IF(P19="漏水",3,4))) -> 4
AQ20: =IF(P20="外力",1,IF(P20="材質劣化",2,IF(P20="漏水",3,4))) -> 4
AQ21: =IF(P21="外力",1,IF(P21="材質劣化",2,IF(P21="漏水",3,4))) -> 4
AQ22: =IF(P22="外力",1,IF(P22="材質劣化",2,IF(P22="漏水",3,4))) -> 4
AQ23: =IF(P23="外力",1,IF(P23="材質劣化",2,IF(P23="漏水",3,4))) -> 4
... AQ30: =IF(P30="外力",1,IF(P30="材質劣化",2,IF(P30="漏水",3,4))) -> 4
K31: 集計 ・ 判定 ・ 診断 | L31: 変状の発生規模合計(㎡) | Y31: － | AC31: =SUM(AC11:AC30) -> 0 | AD31: =SUM(AD11:AD30) -> 0 | AE31: =SUM(AE11:AE30) -> 0 | AF31: =SUM(AF11:AF30) -> 0.02 | AG31: =SUM(AG11:AG30) -> 0 | AH31: =SUM(AH11:AH30) -> 0 | AI31: =SUM(AI11:AI30) -> 0 | AJ31: =SUM(AJ11:AJ30) -> 0 | AK31: 計
L32: 対策区分の 判定結果 | O32: 判定区分毎の変状数 | Y32: =COUNTIF(Y11:Y30,"〇") -> 0 | Z32: =COUNTIF(Z11:Z30,"〇") -> 0 | AA32: =COUNTIF(AA11:AA30,"〇") -> 0 | AB32: =COUNTIF(AB11:AB30,"〇") -> 0 | AC32: =COUNT(AC11:AC30) -> 0 | AD32: =COUNT(AD11:AD30) -> 0 | AE32: =COUNT(AE11:AE30) -> 0 | AF32: =COUNT(AF11:AF30) -> 1 | AG32: =COUNT(AG11:AG30) -> 0 | AH32: =COUNT(AH11:AH30) -> 0 | AI32: =COUNT(AI11:AI30) -> 0 | AJ32: =COUNT(AJ11:AJ30) -> 0
O33: 変状区分毎の判定区分注3 | Y33: =IF(Y32>0,"Ⅳ",IF(Z32>0,"Ⅲ",IF(AA32>0,"Ⅱa",IF(AB32>0,"Ⅱb","Ⅰ")))) -> Ⅰ | AC33: =IF(AC32>0,"Ⅳ",IF(AD32>0,"Ⅲ",IF(AE32>0,"Ⅱa",IF(AF32>0,"Ⅱb","Ⅰ")))) -> Ⅱb | AG33: =IF(AG32>0,"Ⅳ",IF(AH32>0,"Ⅲ",IF(AI32>0,"Ⅱa",IF(AJ32>0,"Ⅱb","Ⅰ")))) -> Ⅰ | AQ33: Ⅳ | AR33: Ⅲ | AS33: Ⅱ
L34: 健全性の 診断結果 | O34: 判定区分 | Y34: Ⅳ | Z34: Ⅲ | AA34: Ⅱ | AC34: Ⅳ | AD34: Ⅲ | AE34: Ⅱ | AG34: Ⅳ | AH34: Ⅲ | AI34: Ⅱ | AQ34: =+Y32+Z32 -> 0 | AS34: =+AA32+AB32 -> 0
O35: 判定区分毎の変状数注4 | Y35: =Y32 -> 0 | Z35: =Z32 -> 0 | AA35: =AA32+AB32 -> 0 | AC35: =+AC32 -> 0 | AD35: =AD32 -> 0 | AE35: =AE32+AF32 -> 1 | AG35: =AG32 -> 0 | AH35: =AH32 -> 0 | AI35: =AI32+AJ32 -> 0 | AQ35: =+Y32+AC35+AG35 -> 0 | AR35: =+Z32+AD35+AH35 -> 0 | AS35: =+AS34+AE35+AI35 -> 1
O36: 変状区分毎の判定区分注4 | Y36: =IF(Y35>=1,"Ⅳ",IF(Z35>=1,"Ⅲ",IF(AA35>=1,"Ⅱ","Ⅰ"))) -> Ⅰ | AC36: =IF(AC35>=1,"Ⅳ",IF(AD35>=1,"Ⅲ",IF(AE35>=1,"Ⅱ","Ⅰ"))) -> Ⅱ | AG36: =IF(AG35>=1,"Ⅳ",IF(AH35>=1,"Ⅲ",IF(AI35>=1,"Ⅱ","Ⅰ"))) -> Ⅰ | AQ36: =IF(AQ35>0,"Ⅳ",IF(AR35>0,"Ⅲ",IF(AS35>0,"Ⅱ","Ⅰ"))) -> Ⅱ
O37: 覆工スパン単位の判定区分注5 | Y37: =IF(COUNTIF(Y36:AJ36,"Ⅳ")>0,"Ⅳ",IF(COUNTIF(Y36:AJ36,"Ⅲ")>0,"Ⅲ",IF(COUNTIF(Y36:AJ36,"Ⅱ")>0,"Ⅱ","Ⅰ"))) -> Ⅱ
K38: 特記事項
K40: 注1：誤記入防止のため、当該変状区分以外のセルは灰色表示とすること。
K41: 注2：応急対策を実施した場合は、その詳細を備考に記載すること。
K42: 注3：変状区分毎での最も評価の厳しい判定区分。
K43: 注4：変状区分毎での最も評価の厳しい判定区分．外力は覆工スパン単位、材質劣化、漏水は変状単位で行う。
K44: 注5：覆工スパンの中で最も評価の厳しい健全性を採用し、その覆工スパン毎の健全性とする。
B46: ※1：本シートは作成洩れのないよう、変状が無くても全スパン分を作成すること．また変状展開図は、様式D-2-1、様式D-2-1'と同じものを覆工スパン単位で拡大し掲載すること。
B47: ※2：変状番号は、様式D-1-1で記入した番号と整合させること。
B48: ※3：対策区分毎の変状発生規模は、様式D-1-1に記載した面積を記入すること（ただし外力はスパン単位で評価するため対象外とし、備考欄に状況を記入）。
B49: ※4：本様式は覆工スパン毎に作成すること。
B50: ※5：変状数が多い場合は、適時、表の行を増やして覆工スパン毎に1枚のシートに収めること。また、1スパン１シートとし、スパンに合わせてシートを追加すること。
B51: ※6：対策区分毎の変状の発生範囲の規模とは，対策を行う際に参考となる変状の長さや面積であり，変状を包含する長さや面積とする。
B52: ※7：路面滞水は、変状面積に1を記載するとともに、備考にも内容を記載すること。

Sheet 様式D-3_S13
AU1: 様式Fリンク用→ | AV1: 覆工ｽﾊﾟﾝ 番号 | AW1: ｽﾊﾟﾝ 長 (m) | AX1: 変状数集計 | BS1: 覆工スパン毎の 健全性の診断 | BW1: 変状規模集計
AX2: 対策区分毎の変状数 | BJ2: 健全性の判定区分毎の変状数 | BW2: 覆工スパン長(m) | CA2: 対策区分毎の変状の発生範囲の規模(㎡）
B3: ■定期点検記録様式 覆工スパン別変状詳細展開図 【様式D-3】 | AX3: 外力 | BB3: 材質劣化 | BF3: 漏水 | BJ3: 外力 | BM3: 材質劣化 | BP3: 漏水 | BS3: 外力 | BT3: 材質劣化 | BU3: 漏水 | BV3: 健全性 | BW3: 外力※１ | CA3: 材質劣化 | CE3: 漏水
B4: フリガナ | E4: ヤクオウジトンネル | K4: 路線名 | N4: 一般国道435号 | T4: 定期点検業者 | Y4: 応用地質株式会社 | AG4: 定期点検年月日 | AK4: 44862 | AX4: Ⅳ | AY4: Ⅲ | AZ4: Ⅱa | BA4: Ⅱb | BB4: Ⅳ | BC4: Ⅲ | BD4: Ⅱa | BE4: Ⅱb | BF4: Ⅳ | BG4: Ⅲ | BH4: Ⅱa | BI4: Ⅱb | BJ4: Ⅳ | BK4: Ⅲ | BL4: Ⅱ | BM4: Ⅳ | BN4: Ⅲ | BO4: Ⅱ | BP4: Ⅳ | BQ4: Ⅲ | BR4: Ⅱ | BW4: Ⅳ | BX4: Ⅲ | BY4: Ⅱa | BZ4: Ⅱb | CA4: Ⅳ | CB4: Ⅲ | CC4: Ⅱa | CD4: Ⅱb | CE4: Ⅳ | CF4: Ⅲ | CG4: Ⅱa | CH4: Ⅱb
B5: 名 称 | E5: 薬王寺トンネル | K5: 管理者名 | N5: 山口県宇部土木建築事務所 | T5: 定期点検者名 | Y5: 太田 裕之 | AQ5: 〇 | AV5: =N7 -> 13 | AW5: =R7 -> 10.3 | AX5: =+Y32 -> 0 | AY5: =+Z32 -> 0 | AZ5: =+AA32 -> 0 | BA5: =+AB32 -> 0 | BB5: =+AC32 -> 0 | BC5: =+AD32 -> 0 | BD5: =+AE32 -> 0 | BE5: =+AF32 -> 0 | ... BI5: =+AJ32 -> 0 | BJ5: =+Y35 -> 0 | BK5: =+Z35 -> 0 | BL5: =+AA35 -> 0 | BM5: =+AC35 -> 0 | BN5: =+AD35 -> 0 | BO5: =+AE35 -> 0 | BP5: =+AG35 -> 0 | BQ5: =+AH35 -> 0 | BR5: =+AI35 -> 0 | BS5: =+Y36 -> Ⅰ | BT5: =+AC36 -> Ⅰ | BU5: =+AG36 -> Ⅰ | BV5: =+Y37 -> Ⅰ | BW5: =IF(Y32>0,R7,"") | BX5: =IF(Z32>0,"",IF(AA32>0,R7,"")) | BY5: =IF(Y32+Z32>0,"",IF(AA32>0,R7,"")) | BZ5: =IF(Y32+Z32+AA32>0,"",IF(AB32>0,R7,"")) | CA5: =+AC31 -> 0 | CB5: =+AD31 -> 0 | CC5: =+AE31 -> 0 | CD5: =+AF31 -> 0 | CE5: =+AG31 -> 0 | CF5: =+AH31 -> 0 | CG5: =+AI31 -> 0 | CH5: =+AJ31 -> 0
B6: スパン別変状展開図 | K6: 【健全性判定集計表】
K7: スパン番号 | N7: 13 | P7: スパン長 | R7: 10.3 | U7: 前回定期点検時の健全性 | W7: 応急措置前の判定 | Y7: 対策区分毎の 変状の有無 | AC7: 対策区分毎の変状の発生範囲の規模(㎡) | AK7: 備考注2
K8: 変状番号 | L8: 対象箇所 | N8: 部位区分 | P8: 変状区分 | R8: 変状種類
Y9: 外力注1 | AC9: 材質劣化注1 | AG9: 漏水注1
Y10: Ⅳ | Z10: Ⅲ | AA10: Ⅱa | AB10: Ⅱb | AC10: Ⅳ | AD10: Ⅲ | AE10: Ⅱa | AF10: Ⅱb | AG10: Ⅳ | AH10: Ⅲ | AI10: Ⅱa | AJ10: Ⅱb
AQ11: =IF(P11="外力",1,IF(P11="材質劣化",2,IF(P11="漏水",3,4))) -> 4
AQ12: =IF(P12="外力",1,IF(P12="材質劣化",2,IF(P12="漏水",3,4))) -> 4
AQ13: =IF(P13="外力",1,IF(P13="材質劣化",2,IF(P13="漏水",3,4))) -> 4
AQ14: =IF(P14="外力",1,IF(P14="材質劣化",2,IF(P14="漏水",3,4))) -> 4
AQ15: =IF(P15="外力",1,IF(P15="材質劣化",2,IF(P15="漏水",3,4))) -> 4
AQ16: =IF(P16="外力",1,IF(P16="材質劣化",2,IF(P16="漏水",3,4))) -> 4
AQ17: =IF(P17="外力",1,IF(P17="材質劣化",2,IF(P17="漏水",3,4))) -> 4
AQ18: =IF(P18="外力",1,IF(P18="材質劣化",2,IF(P18="漏水",3,4))) -> 4
AQ19: =IF(P19="外力",1,IF(P19="材質劣化",2,IF(P19="漏水",3,4))) -> 4
AQ20: =IF(P20="外力",1,IF(P20="材質劣化",2,IF(P20="漏水",3,4))) -> 4
AQ21: =IF(P21="外力",1,IF(P21="材質劣化",2,IF(P21="漏水",3,4))) -> 4
AQ22: =IF(P22="外力",1,IF(P22="材質劣化",2,IF(P22="漏水",3,4))) -> 4
... AQ30: =IF(P30="外力",1,IF(P30="材質劣化",2,IF(P30="漏水",3,4))) -> 4
K31: 集計 ・ 判定 ・ 診断 | L31: 変状の発生規模合計(㎡) | Y31: － | AC31: =SUM(AC11:AC30) -> 0 | AD31: =SUM(AD11:AD30) -> 0 | AE31: =SUM(AE11:AE30) -> 0 | AF31: =SUM(AF11:AF30) -> 0 | AG31: =SUM(AG11:AG30) -> 0 | AH31: =SUM(AH11:AH30) -> 0 | AI31: =SUM(AI11:AI30) -> 0 | AJ31: =SUM(AJ11:AJ30) -> 0 | AK31: 計
L32: 対策区分の 判定結果 | O32: 判定区分毎の変状数 | Y32: =COUNTIF(Y11:Y30,"〇") -> 0 | Z32: =COUNTIF(Z11:Z30,"〇") -> 0 | AA32: =COUNTIF(AA11:AA30,"〇") -> 0 | AB32: =COUNTIF(AB11:AB30,"〇") -> 0 | AC32: =COUNT(AC11:AC30) -> 0 | AD32: =COUNT(AD11:AD30) -> 0 | AE32: =COUNT(AE11:AE30) -> 0 | AF32: =COUNT(AF11:AF30) -> 0 | AG32: =COUNT(AG11:AG30) -> 0 | AH32: =COUNT(AH11:AH30) -> 0 | AI32: =COUNT(AI11:AI30) -> 0 | AJ32: =COUNT(AJ11:AJ30) -> 0
O33: 変状区分毎の判定区分注3 | Y33: =IF(Y32>0,"Ⅳ",IF(Z32>0,"Ⅲ",IF(AA32>0,"Ⅱa",IF(AB32>0,"Ⅱb","Ⅰ")))) -> Ⅰ | AC33: =IF(AC32>0,"Ⅳ",IF(AD32>0,"Ⅲ",IF(AE32>0,"Ⅱa",IF(AF32>0,"Ⅱb","Ⅰ")))) -> Ⅰ | AG33: =IF(AG32>0,"Ⅳ",IF(AH32>0,"Ⅲ",IF(AI32>0,"Ⅱa",IF(AJ32>0,"Ⅱb","Ⅰ")))) -> Ⅰ | AQ33: Ⅳ | AR33: Ⅲ | AS33: Ⅱ
L34: 健全性の 診断結果 | O34: 判定区分 | Y34: Ⅳ | Z34: Ⅲ | AA34: Ⅱ | AC34: Ⅳ | AD34: Ⅲ | AE34: Ⅱ | AG34: Ⅳ | AH34: Ⅲ | AI34: Ⅱ | AQ34: =+Y32+Z32 -> 0 | AS34: =+AA32+AB32 -> 0
O35: 判定区分毎の変状数注4 | Y35: =Y32 -> 0 | Z35: =Z32 -> 0 | AA35: =AA32+AB32 -> 0 | AC35: =+AC32 -> 0 | AD35: =AD32 -> 0 | AE35: =AE32+AF32 -> 0 | AG35: =AG32 -> 0 | AH35: =AH32 -> 0 | AI35: =AI32+AJ32 -> 0 | AQ35: =+Y32+AC35+AG35 -> 0 | AR35: =+Z32+AD35+AH35 -> 0 | AS35: =+AS34+AE35+AI35 -> 0
O36: 変状区分毎の判定区分注4 | Y36: =IF(Y35>=1,"Ⅳ",IF(Z35>=1,"Ⅲ",IF(AA35>=1,"Ⅱ","Ⅰ"))) -> Ⅰ | AC36: =IF(AC35>=1,"Ⅳ",IF(AD35>=1,"Ⅲ",IF(AE35>=1,"Ⅱ","Ⅰ"))) -> Ⅰ | AG36: =IF(AG35>=1,"Ⅳ",IF(AH35>=1,"Ⅲ",IF(AI35>=1,"Ⅱ","Ⅰ"))) -> Ⅰ | AQ36: =IF(AQ35>0,"Ⅳ",IF(AR35>0,"Ⅲ",IF(AS35>0,"Ⅱ","Ⅰ"))) -> Ⅰ
O37: 覆工スパン単位の判定区分注5 | Y37: =IF(COUNTIF(Y36:AJ36,"Ⅳ")>0,"Ⅳ",IF(COUNTIF(Y36:AJ36,"Ⅲ")>0,"Ⅲ",IF(COUNTIF(Y36:AJ36,"Ⅱ")>0,"Ⅱ","Ⅰ"))) -> Ⅰ
K38: 特記事項
K40: 注1：誤記入防止のため、当該変状区分以外のセルは灰色表示とすること。
K41: 注2：応急対策を実施した場合は、その詳細を備考に記載すること。
K42: 注3：変状区分毎での最も評価の厳しい判定区分。
K43: 注4：変状区分毎での最も評価の厳しい判定区分．外力は覆工スパン単位、材質劣化、漏水は変状単位で行う。
K44: 注5：覆工スパンの中で最も評価の厳しい健全性を採用し、その覆工スパン毎の健全性とする。
B46: ※1：本シートは作成洩れのないよう、変状が無くても全スパン分を作成すること．また変状展開図は、様式D-2-1、様式D-2-1'と同じものを覆工スパン単位で拡大し掲載すること。
B47: ※2：変状番号は、様式D-1-1で記入した番号と整合させること。
B48: ※3：対策区分毎の変状発生規模は、様式D-1-1に記載した面積を記入すること（ただし外力はスパン単位で評価するため対象外とし、備考欄に状況を記入）。
B49: ※4：本様式は覆工スパン毎に作成すること。
B50: ※5：変状数が多い場合は、適時、表の行を増やして覆工スパン毎に1枚のシートに収めること。また、1スパン１シートとし、スパンに合わせてシートを追加すること。
B51: ※6：対策区分毎の変状の発生範囲の規模とは，対策を行う際に参考となる変状の長さや面積であり，変状を包含する長さや面積とする。
B52: ※7：路面滞水は、変状面積に1を記載するとともに、備考にも内容を記載すること。

Sheet 様式D-3_S14
AU1: 様式Fリンク用→ | AV1: 覆工ｽﾊﾟﾝ 番号 | AW1: ｽﾊﾟﾝ 長 (m) | AX1: 変状数集計 | BS1: 覆工スパン毎の 健全性の診断 | BW1: 変状規模集計
AX2: 対策区分毎の変状数 | BJ2: 健全性の判定区分毎の変状数 | BW2: 覆工スパン長(m) | CA2: 対策区分毎の変状の発生範囲の規模(㎡）
B3: ■定期点検記録様式 覆工スパン別変状詳細展開図 【様式D-3】 | AX3: 外力 | BB3: 材質劣化 | BF3: 漏水 | BJ3: 外力 | BM3: 材質劣化 | BP3: 漏水 | BS3: 外力 | BT3: 材質劣化 | BU3: 漏水 | BV3: 健全性 | BW3: 外力※１ | CA3: 材質劣化 | CE3: 漏水
B4: フリガナ | E4: ヤクオウジトンネル | K4: 路線名 | N4: 一般国道435号 | T4: 定期点検業者 | Y4: 応用地質株式会社 | AG4: 定期点検年月日 | AK4: 44862 | AX4: Ⅳ | AY4: Ⅲ | AZ4: Ⅱa | BA4: Ⅱb | BB4: Ⅳ | BC4: Ⅲ | BD4: Ⅱa | BE4: Ⅱb | BF4: Ⅳ | BG4: Ⅲ | BH4: Ⅱa | BI4: Ⅱb | BJ4: Ⅳ | BK4: Ⅲ | BL4: Ⅱ | BM4: Ⅳ | BN4: Ⅲ | BO4: Ⅱ | BP4: Ⅳ | BQ4: Ⅲ | BR4: Ⅱ | BW4: Ⅳ | BX4: Ⅲ | BY4: Ⅱa | BZ4: Ⅱb | CA4: Ⅳ | CB4: Ⅲ | CC4: Ⅱa | CD4: Ⅱb | CE4: Ⅳ | CF4: Ⅲ | CG4: Ⅱa | CH4: Ⅱb
B5: 名 称 | E5: 薬王寺トンネル | K5: 管理者名 | N5: 山口県宇部土木建築事務所 | T5: 定期点検者名 | Y5: 太田 裕之 | AQ5: 〇 | AV5: =N7 -> 14 | AW5: =R7 -> 10.3 | AX5: =+Y32 -> 0 | AY5: =+Z32 -> 0 | AZ5: =+AA32 -> 0 | BA5: =+AB32 -> 0 | BB5: =+AC32 -> 0 | BC5: =+AD32 -> 0 | BD5: =+AE32 -> 0 | BE5: =+AF32 -> 1 | ... BI5: =+AJ32 -> 0 | BJ5: =+Y35 -> 0 | BK5: =+Z35 -> 0 | BL5: =+AA35 -> 0 | BM5: =+AC35 -> 0 | BN5: =+AD35 -> 0 | BO5: =+AE35 -> 1 | BP5: =+AG35 -> 0 | BQ5: =+AH35 -> 0 | BR5: =+AI35 -> 0 | BS5: =+Y36 -> Ⅰ | BT5: =+AC36 -> Ⅱ | BU5: =+AG36 -> Ⅰ | BV5: =+Y37 -> Ⅱ | BW5: =IF(Y32>0,R7,"") | BX5: =IF(Z32>0,"",IF(AA32>0,R7,"")) | BY5: =IF(Y32+Z32>0,"",IF(AA32>0,R7,"")) | BZ5: =IF(Y32+Z32+AA32>0,"",IF(AB32>0,R7,"")) | CA5: =+AC31 -> 0 | CB5: =+AD31 -> 0 | CC5: =+AE31 -> 0 | CD5: =+AF31 -> 0.01 | CE5: =+AG31 -> 0 | CF5: =+AH31 -> 0 | CG5: =+AI31 -> 0 | CH5: =+AJ31 -> 0
B6: スパン別変状展開図 | K6: 【健全性判定集計表】
K7: スパン番号 | N7: 14 | P7: スパン長 | R7: 10.3 | U7: 前回定期点検時の健全性 | W7: 応急措置前の判定 | Y7: 対策区分毎の 変状の有無 | AC7: 対策区分毎の変状の発生範囲の規模(㎡) | AK7: 備考注2
K8: 変状番号 | L8: 対象箇所 | N8: 部位区分 | P8: 変状区分 | R8: 変状種類
Y9: 外力注1 | AC9: 材質劣化注1 | AG9: 漏水注1
Y10: Ⅳ | Z10: Ⅲ | AA10: Ⅱa | AB10: Ⅱb | AC10: Ⅳ | AD10: Ⅲ | AE10: Ⅱa | AF10: Ⅱb | AG10: Ⅳ | AH10: Ⅲ | AI10: Ⅱa | AJ10: Ⅱb
K11: 1 | L11: 覆工・坑門 | N11: アーチ（左側） | P11: 材質劣化 | R11: 鋼材腐食 | U11: Ⅰ | W11: － | AF11: 0.01 | AQ11: =IF(P11="外力",1,IF(P11="材質劣化",2,IF(P11="漏水",3,4))) -> 2
AQ12: =IF(P12="外力",1,IF(P12="材質劣化",2,IF(P12="漏水",3,4))) -> 4
AQ13: =IF(P13="外力",1,IF(P13="材質劣化",2,IF(P13="漏水",3,4))) -> 4
AQ14: =IF(P14="外力",1,IF(P14="材質劣化",2,IF(P14="漏水",3,4))) -> 4
AQ15: =IF(P15="外力",1,IF(P15="材質劣化",2,IF(P15="漏水",3,4))) -> 4
AQ16: =IF(P16="外力",1,IF(P16="材質劣化",2,IF(P16="漏水",3,4))) -> 4
AQ17: =IF(P17="外力",1,IF(P17="材質劣化",2,IF(P17="漏水",3,4))) -> 4
AQ18: =IF(P18="外力",1,IF(P18="材質劣化",2,IF(P18="漏水",3,4))) -> 4
AQ19: =IF(P19="外力",1,IF(P19="材質劣化",2,IF(P19="漏水",3,4))) -> 4
AQ20: =IF(P20="外力",1,IF(P20="材質劣化",2,IF(P20="漏水",3,4))) -> 4
AQ21: =IF(P21="外力",1,IF(P21="材質劣化",2,IF(P21="漏水",3,4))) -> 4
AQ22: =IF(P22="外力",1,IF(P22="材質劣化",2,IF(P22="漏水",3,4))) -> 4
AQ23: =IF(P23="外力",1,IF(P23="材質劣化",2,IF(P23="漏水",3,4))) -> 4
... AQ30: =IF(P30="外力",1,IF(P30="材質劣化",2,IF(P30="漏水",3,4))) -> 4
K31: 集計 ・ 判定 ・ 診断 | L31: 変状の発生規模合計(㎡) | Y31: － | AC31: =SUM(AC11:AC30) -> 0 | AD31: =SUM(AD11:AD30) -> 0 | AE31: =SUM(AE11:AE30) -> 0 | AF31: =SUM(AF11:AF30) -> 0.01 | AG31: =SUM(AG11:AG30) -> 0 | AH31: =SUM(AH11:AH30) -> 0 | AI31: =SUM(AI11:AI30) -> 0 | AJ31: =SUM(AJ11:AJ30) -> 0 | AK31: 計
L32: 対策区分の 判定結果 | O32: 判定区分毎の変状数 | Y32: =COUNTIF(Y11:Y30,"〇") -> 0 | Z32: =COUNTIF(Z11:Z30,"〇") -> 0 | AA32: =COUNTIF(AA11:AA30,"〇") -> 0 | AB32: =COUNTIF(AB11:AB30,"〇") -> 0 | AC32: =COUNT(AC11:AC30) -> 0 | AD32: =COUNT(AD11:AD30) -> 0 | AE32: =COUNT(AE11:AE30) -> 0 | AF32: =COUNT(AF11:AF30) -> 1 | AG32: =COUNT(AG11:AG30) -> 0 | AH32: =COUNT(AH11:AH30) -> 0 | AI32: =COUNT(AI11:AI30) -> 0 | AJ32: =COUNT(AJ11:AJ30) -> 0
O33: 変状区分毎の判定区分注3 | Y33: =IF(Y32>0,"Ⅳ",IF(Z32>0,"Ⅲ",IF(AA32>0,"Ⅱa",IF(AB32>0,"Ⅱb","Ⅰ")))) -> Ⅰ | AC33: =IF(AC32>0,"Ⅳ",IF(AD32>0,"Ⅲ",IF(AE32>0,"Ⅱa",IF(AF32>0,"Ⅱb","Ⅰ")))) -> Ⅱb | AG33: =IF(AG32>0,"Ⅳ",IF(AH32>0,"Ⅲ",IF(AI32>0,"Ⅱa",IF(AJ32>0,"Ⅱb","Ⅰ")))) -> Ⅰ | AQ33: Ⅳ | AR33: Ⅲ | AS33: Ⅱ
L34: 健全性の 診断結果 | O34: 判定区分 | Y34: Ⅳ | Z34: Ⅲ | AA34: Ⅱ | AC34: Ⅳ | AD34: Ⅲ | AE34: Ⅱ | AG34: Ⅳ | AH34: Ⅲ | AI34: Ⅱ | AQ34: =+Y32+Z32 -> 0 | AS34: =+AA32+AB32 -> 0
O35: 判定区分毎の変状数注4 | Y35: =Y32 -> 0 | Z35: =Z32 -> 0 | AA35: =AA32+AB32 -> 0 | AC35: =+AC32 -> 0 | AD35: =AD32 -> 0 | AE35: =AE32+AF32 -> 1 | AG35: =AG32 -> 0 | AH35: =AH32 -> 0 | AI35: =AI32+AJ32 -> 0 | AQ35: =+Y32+AC35+AG35 -> 0 | AR35: =+Z32+AD35+AH35 -> 0 | AS35: =+AS34+AE35+AI35 -> 1
O36: 変状区分毎の判定区分注4 | Y36: =IF(Y35>=1,"Ⅳ",IF(Z35>=1,"Ⅲ",IF(AA35>=1,"Ⅱ","Ⅰ"))) -> Ⅰ | AC36: =IF(AC35>=1,"Ⅳ",IF(AD35>=1,"Ⅲ",IF(AE35>=1,"Ⅱ","Ⅰ"))) -> Ⅱ | AG36: =IF(AG35>=1,"Ⅳ",IF(AH35>=1,"Ⅲ",IF(AI35>=1,"Ⅱ","Ⅰ"))) -> Ⅰ | AQ36: =IF(AQ35>0,"Ⅳ",IF(AR35>0,"Ⅲ",IF(AS35>0,"Ⅱ","Ⅰ"))) -> Ⅱ
O37: 覆工スパン単位の判定区分注5 | Y37: =IF(COUNTIF(Y36:AJ36,"Ⅳ")>0,"Ⅳ",IF(COUNTIF(Y36:AJ36,"Ⅲ")>0,"Ⅲ",IF(COUNTIF(Y36:AJ36,"Ⅱ")>0,"Ⅱ","Ⅰ"))) -> Ⅱ
K38: 特記事項
K40: 注1：誤記入防止のため、当該変状区分以外のセルは灰色表示とすること。
K41: 注2：応急対策を実施した場合は、その詳細を備考に記載すること。
K42: 注3：変状区分毎での最も評価の厳しい判定区分。
K43: 注4：変状区分毎での最も評価の厳しい判定区分．外力は覆工スパン単位、材質劣化、漏水は変状単位で行う。
K44: 注5：覆工スパンの中で最も評価の厳しい健全性を採用し、その覆工スパン毎の健全性とする。
B46: ※1：本シートは作成洩れのないよう、変状が無くても全スパン分を作成すること．また変状展開図は、様式D-2-1、様式D-2-1'と同じものを覆工スパン単位で拡大し掲載すること。
B47: ※2：変状番号は、様式D-1-1で記入した番号と整合させること。
B48: ※3：対策区分毎の変状発生規模は、様式D-1-1に記載した面積を記入すること（ただし外力はスパン単位で評価するため対象外とし、備考欄に状況を記入）。
B49: ※4：本様式は覆工スパン毎に作成すること。
B50: ※5：変状数が多い場合は、適時、表の行を増やして覆工スパン毎に1枚のシートに収めること。また、1スパン１シートとし、スパンに合わせてシートを追加すること。
B51: ※6：対策区分毎の変状の発生範囲の規模とは，対策を行う際に参考となる変状の長さや面積であり，変状を包含する長さや面積とする。
B52: ※7：路面滞水は、変状面積に1を記載するとともに、備考にも内容を記載すること。

Sheet 様式D-3_S15
AU1: 様式Fリンク用→ | AV1: 覆工ｽﾊﾟﾝ 番号 | AW1: ｽﾊﾟﾝ 長 (m) | AX1: 変状数集計 | BS1: 覆工スパン毎の 健全性の診断 | BW1: 変状規模集計
AX2: 対策区分毎の変状数 | BJ2: 健全性の判定区分毎の変状数 | BW2: 覆工スパン長(m) | CA2: 対策区分毎の変状の発生範囲の規模(㎡）
B3: ■定期点検記録様式 覆工スパン別変状詳細展開図 【様式D-3】 | AX3: 外力 | BB3: 材質劣化 | BF3: 漏水 | BJ3: 外力 | BM3: 材質劣化 | BP3: 漏水 | BS3: 外力 | BT3: 材質劣化 | BU3: 漏水 | BV3: 健全性 | BW3: 外力※１ | CA3: 材質劣化 | CE3: 漏水
B4: フリガナ | E4: ヤクオウジトンネル | K4: 路線名 | N4: 一般国道435号 | T4: 定期点検業者 | Y4: 応用地質株式会社 | AG4: 定期点検年月日 | AK4: 44862 | AX4: Ⅳ | AY4: Ⅲ | AZ4: Ⅱa | BA4: Ⅱb | BB4: Ⅳ | BC4: Ⅲ | BD4: Ⅱa | BE4: Ⅱb | BF4: Ⅳ | BG4: Ⅲ | BH4: Ⅱa | BI4: Ⅱb | BJ4: Ⅳ | BK4: Ⅲ | BL4: Ⅱ | BM4: Ⅳ | BN4: Ⅲ | BO4: Ⅱ | BP4: Ⅳ | BQ4: Ⅲ | BR4: Ⅱ | BW4: Ⅳ | BX4: Ⅲ | BY4: Ⅱa | BZ4: Ⅱb | CA4: Ⅳ | CB4: Ⅲ | CC4: Ⅱa | CD4: Ⅱb | CE4: Ⅳ | CF4: Ⅲ | CG4: Ⅱa | CH4: Ⅱb
B5: 名 称 | E5: 薬王寺トンネル | K5: 管理者名 | N5: 山口県宇部土木建築事務所 | T5: 定期点検者名 | Y5: 太田 裕之 | AQ5: 〇 | AV5: =N7 -> 15 | AW5: =R7 -> 10.3 | AX5: =+Y32 -> 0 | AY5: =+Z32 -> 0 | AZ5: =+AA32 -> 0 | BA5: =+AB32 -> 0 | BB5: =+AC32 -> 0 | BC5: =+AD32 -> 0 | BD5: =+AE32 -> 0 | BE5: =+AF32 -> 1 | ... BI5: =+AJ32 -> 0 | BJ5: =+Y35 -> 0 | BK5: =+Z35 -> 0 | BL5: =+AA35 -> 0 | BM5: =+AC35 -> 0 | BN5: =+AD35 -> 0 | BO5: =+AE35 -> 1 | BP5: =+AG35 -> 0 | BQ5: =+AH35 -> 0 | BR5: =+AI35 -> 0 | BS5: =+Y36 -> Ⅰ | BT5: =+AC36 -> Ⅱ | BU5: =+AG36 -> Ⅰ | BV5: =+Y37 -> Ⅱ | BW5: =IF(Y32>0,R7,"") | BX5: =IF(Z32>0,"",IF(AA32>0,R7,"")) | BY5: =IF(Y32+Z32>0,"",IF(AA32>0,R7,"")) | BZ5: =IF(Y32+Z32+AA32>0,"",IF(AB32>0,R7,"")) | CA5: =+AC31 -> 0 | CB5: =+AD31 -> 0 | CC5: =+AE31 -> 0 | CD5: =+AF31 -> 0.03 | CE5: =+AG31 -> 0 | CF5: =+AH31 -> 0 | CG5: =+AI31 -> 0 | CH5: =+AJ31 -> 0
B6: スパン別変状展開図 | K6: 【健全性判定集計表】
K7: スパン番号 | N7: 15 | P7: スパン長 | R7: 10.3 | U7: 前回定期点検時の健全性 | W7: 応急措置前の判定 | Y7: 対策区分毎の 変状の有無 | AC7: 対策区分毎の変状の発生範囲の規模(㎡) | AK7: 備考注2
K8: 変状番号 | L8: 対象箇所 | N8: 部位区分 | P8: 変状区分 | R8: 変状種類
Y9: 外力注1 | AC9: 材質劣化注1 | AG9: 漏水注1
Y10: Ⅳ | Z10: Ⅲ | AA10: Ⅱa | AB10: Ⅱb | AC10: Ⅳ | AD10: Ⅲ | AE10: Ⅱa | AF10: Ⅱb | AG10: Ⅳ | AH10: Ⅲ | AI10: Ⅱa | AJ10: Ⅱb
K11: 1 | L11: 覆工・坑門 | N11: 横断目地（右側） | P11: 材質劣化 | R11: 鋼材腐食 | U11: Ⅰ | W11: － | AF11: 0.03 | AQ11: =IF(P11="外力",1,IF(P11="材質劣化",2,IF(P11="漏水",3,4))) -> 2
AQ12: =IF(P12="外力",1,IF(P12="材質劣化",2,IF(P12="漏水",3,4))) -> 4
AQ13: =IF(P13="外力",1,IF(P13="材質劣化",2,IF(P13="漏水",3,4))) -> 4
AQ14: =IF(P14="外力",1,IF(P14="材質劣化",2,IF(P14="漏水",3,4))) -> 4
AQ15: =IF(P15="外力",1,IF(P15="材質劣化",2,IF(P15="漏水",3,4))) -> 4
AQ16: =IF(P16="外力",1,IF(P16="材質劣化",2,IF(P16="漏水",3,4))) -> 4
AQ17: =IF(P17="外力",1,IF(P17="材質劣化",2,IF(P17="漏水",3,4))) -> 4
AQ18: =IF(P18="外力",1,IF(P18="材質劣化",2,IF(P18="漏水",3,4))) -> 4
AQ19: =IF(P19="外力",1,IF(P19="材質劣化",2,IF(P19="漏水",3,4))) -> 4
AQ20: =IF(P20="外力",1,IF(P20="材質劣化",2,IF(P20="漏水",3,4))) -> 4
AQ21: =IF(P21="外力",1,IF(P21="材質劣化",2,IF(P21="漏水",3,4))) -> 4
AQ22: =IF(P22="外力",1,IF(P22="材質劣化",2,IF(P22="漏水",3,4))) -> 4
AQ23: =IF(P23="外力",1,IF(P23="材質劣化",2,IF(P23="漏水",3,4))) -> 4
... AQ30: =IF(P30="外力",1,IF(P30="材質劣化",2,IF(P30="漏水",3,4))) -> 4
K31: 集計 ・ 判定 ・ 診断 | L31: 変状の発生規模合計(㎡) | Y31: － | AC31: =SUM(AC11:AC30) -> 0 | AD31: =SUM(AD11:AD30) -> 0 | AE31: =SUM(AE11:AE30) -> 0 | AF31: =SUM(AF11:AF30) -> 0.03 | AG31: =SUM(AG11:AG30) -> 0 | AH31: =SUM(AH11:AH30) -> 0 | AI31: =SUM(AI11:AI30) -> 0 | AJ31: =SUM(AJ11:AJ30) -> 0 | AK31: 計
L32: 対策区分の 判定結果 | O32: 判定区分毎の変状数 | Y32: =COUNTIF(Y11:Y30,"〇") -> 0 | Z32: =COUNTIF(Z11:Z30,"〇") -> 0 | AA32: =COUNTIF(AA11:AA30,"〇") -> 0 | AB32: =COUNTIF(AB11:AB30,"〇") -> 0 | AC32: =COUNT(AC11:AC30) -> 0 | AD32: =COUNT(AD11:AD30) -> 0 | AE32: =COUNT(AE11:AE30) -> 0 | AF32: =COUNT(AF11:AF30) -> 1 | AG32: =COUNT(AG11:AG30) -> 0 | AH32: =COUNT(AH11:AH30) -> 0 | AI32: =COUNT(AI11:AI30) -> 0 | AJ32: =COUNT(AJ11:AJ30) -> 0
O33: 変状区分毎の判定区分注3 | Y33: =IF(Y32>0,"Ⅳ",IF(Z32>0,"Ⅲ",IF(AA32>0,"Ⅱa",IF(AB32>0,"Ⅱb","Ⅰ")))) -> Ⅰ | AC33: =IF(AC32>0,"Ⅳ",IF(AD32>0,"Ⅲ",IF(AE32>0,"Ⅱa",IF(AF32>0,"Ⅱb","Ⅰ")))) -> Ⅱb | AG33: =IF(AG32>0,"Ⅳ",IF(AH32>0,"Ⅲ",IF(AI32>0,"Ⅱa",IF(AJ32>0,"Ⅱb","Ⅰ")))) -> Ⅰ | AQ33: Ⅳ | AR33: Ⅲ | AS33: Ⅱ
L34: 健全性の 診断結果 | O34: 判定区分 | Y34: Ⅳ | Z34: Ⅲ | AA34: Ⅱ | AC34: Ⅳ | AD34: Ⅲ | AE34: Ⅱ | AG34: Ⅳ | AH34: Ⅲ | AI34: Ⅱ | AQ34: =+Y32+Z32 -> 0 | AS34: =+AA32+AB32 -> 0
O35: 判定区分毎の変状数注4 | Y35: =Y32 -> 0 | Z35: =Z32 -> 0 | AA35: =AA32+AB32 -> 0 | AC35: =+AC32 -> 0 | AD35: =AD32 -> 0 | AE35: =AE32+AF32 -> 1 | AG35: =AG32 -> 0 | AH35: =AH32 -> 0 | AI35: =AI32+AJ32 -> 0 | AQ35: =+Y32+AC35+AG35 -> 0 | AR35: =+Z32+AD35+AH35 -> 0 | AS35: =+AS34+AE35+AI35 -> 1
O36: 変状区分毎の判定区分注4 | Y36: =IF(Y35>=1,"Ⅳ",IF(Z35>=1,"Ⅲ",IF(AA35>=1,"Ⅱ","Ⅰ"))) -> Ⅰ | AC36: =IF(AC35>=1,"Ⅳ",IF(AD35>=1,"Ⅲ",IF(AE35>=1,"Ⅱ","Ⅰ"))) -> Ⅱ | AG36: =IF(AG35>=1,"Ⅳ",IF(AH35>=1,"Ⅲ",IF(AI35>=1,"Ⅱ","Ⅰ"))) -> Ⅰ | AQ36: =IF(AQ35>0,"Ⅳ",IF(AR35>0,"Ⅲ",IF(AS35>0,"Ⅱ","Ⅰ"))) -> Ⅱ
O37: 覆工スパン単位の判定区分注5 | Y37: =IF(COUNTIF(Y36:AJ36,"Ⅳ")>0,"Ⅳ",IF(COUNTIF(Y36:AJ36,"Ⅲ")>0,"Ⅲ",IF(COUNTIF(Y36:AJ36,"Ⅱ")>0,"Ⅱ","Ⅰ"))) -> Ⅱ
K38: 特記事項
K40: 注1：誤記入防止のため、当該変状区分以外のセルは灰色表示とすること。
K41: 注2：応急対策を実施した場合は、その詳細を備考に記載すること。
K42: 注3：変状区分毎での最も評価の厳しい判定区分。
K43: 注4：変状区分毎での最も評価の厳しい判定区分．外力は覆工スパン単位、材質劣化、漏水は変状単位で行う。
K44: 注5：覆工スパンの中で最も評価の厳しい健全性を採用し、その覆工スパン毎の健全性とする。
B46: ※1：本シートは作成洩れのないよう、変状が無くても全スパン分を作成すること．また変状展開図は、様式D-2-1、様式D-2-1'と同じものを覆工スパン単位で拡大し掲載すること。
B47: ※2：変状番号は、様式D-1-1で記入した番号と整合させること。
B48: ※3：対策区分毎の変状発生規模は、様式D-1-1に記載した面積を記入すること（ただし外力はスパン単位で評価するため対象外とし、備考欄に状況を記入）。
B49: ※4：本様式は覆工スパン毎に作成すること。
B50: ※5：変状数が多い場合は、適時、表の行を増やして覆工スパン毎に1枚のシートに収めること。また、1スパン１シートとし、スパンに合わせてシートを追加すること。
B51: ※6：対策区分毎の変状の発生範囲の規模とは，対策を行う際に参考となる変状の長さや面積であり，変状を包含する長さや面積とする。
B52: ※7：路面滞水は、変状面積に1を記載するとともに、備考にも内容を記載すること。

Sheet 様式D-3_S16
AU1: 様式Fリンク用→ | AV1: 覆工ｽﾊﾟﾝ 番号 | AW1: ｽﾊﾟﾝ 長 (m) | AX1: 変状数集計 | BS1: 覆工スパン毎の 健全性の診断 | BW1: 変状規模集計
AX2: 対策区分毎の変状数 | BJ2: 健全性の判定区分毎の変状数 | BW2: 覆工スパン長(m) | CA2: 対策区分毎の変状の発生範囲の規模(㎡）
B3: ■定期点検記録様式 覆工スパン別変状詳細展開図 【様式D-3】 | AX3: 外力 | BB3: 材質劣化 | BF3: 漏水 | BJ3: 外力 | BM3: 材質劣化 | BP3: 漏水 | BS3: 外力 | BT3: 材質劣化 | BU3: 漏水 | BV3: 健全性 | BW3: 外力※１ | CA3: 材質劣化 | CE3: 漏水
B4: フリガナ | E4: ヤクオウジトンネル | K4: 路線名 | N4: 一般国道435号 | T4: 定期点検業者 | Y4: 応用地質株式会社 | AG4: 定期点検年月日 | AK4: 44862 | AX4: Ⅳ | AY4: Ⅲ | AZ4: Ⅱa | BA4: Ⅱb | BB4: Ⅳ | BC4: Ⅲ | BD4: Ⅱa | BE4: Ⅱb | BF4: Ⅳ | BG4: Ⅲ | BH4: Ⅱa | BI4: Ⅱb | BJ4: Ⅳ | BK4: Ⅲ | BL4: Ⅱ | BM4: Ⅳ | BN4: Ⅲ | BO4: Ⅱ | BP4: Ⅳ | BQ4: Ⅲ | BR4: Ⅱ | BW4: Ⅳ | BX4: Ⅲ | BY4: Ⅱa | BZ4: Ⅱb | CA4: Ⅳ | CB4: Ⅲ | CC4: Ⅱa | CD4: Ⅱb | CE4: Ⅳ | CF4: Ⅲ | CG4: Ⅱa | CH4: Ⅱb
B5: 名 称 | E5: 薬王寺トンネル | K5: 管理者名 | N5: 山口県宇部土木建築事務所 | T5: 定期点検者名 | Y5: 太田 裕之 | AQ5: 〇 | AV5: =N7 -> 16 | AW5: =R7 -> 10.5 | AX5: =+Y32 -> 0 | AY5: =+Z32 -> 0 | AZ5: =+AA32 -> 0 | BA5: =+AB32 -> 0 | BB5: =+AC32 -> 0 | BC5: =+AD32 -> 0 | BD5: =+AE32 -> 0 | BE5: =+AF32 -> 2 | ... BI5: =+AJ32 -> 0 | BJ5: =+Y35 -> 0 | BK5: =+Z35 -> 0 | BL5: =+AA35 -> 0 | BM5: =+AC35 -> 0 | BN5: =+AD35 -> 0 | BO5: =+AE35 -> 2 | BP5: =+AG35 -> 0 | BQ5: =+AH35 -> 0 | BR5: =+AI35 -> 0 | BS5: =+Y36 -> Ⅰ | BT5: =+AC36 -> Ⅱ | BU5: =+AG36 -> Ⅰ | BV5: =+Y37 -> Ⅱ | BW5: =IF(Y32>0,R7,"") | BX5: =IF(Z32>0,"",IF(AA32>0,R7,"")) | BY5: =IF(Y32+Z32>0,"",IF(AA32>0,R7,"")) | BZ5: =IF(Y32+Z32+AA32>0,"",IF(AB32>0,R7,"")) | CA5: =+AC31 -> 0 | CB5: =+AD31 -> 0 | CC5: =+AE31 -> 0 | CD5: =+AF31 -> 0.05 | CE5: =+AG31 -> 0 | CF5: =+AH31 -> 0 | CG5: =+AI31 -> 0 | CH5: =+AJ31 -> 0
B6: スパン別変状展開図 | K6: 【健全性判定集計表】
K7: スパン番号 | N7: 16 | P7: スパン長 | R7: 10.5 | U7: 前回定期点検時の健全性 | W7: 応急措置前の判定 | Y7: 対策区分毎の 変状の有無 | AC7: 対策区分毎の変状の発生範囲の規模(㎡) | AK7: 備考注2
K8: 変状番号 | L8: 対象箇所 | N8: 部位区分 | P8: 変状区分 | R8: 変状種類
Y9: 外力注1 | AC9: 材質劣化注1 | AG9: 漏水注1
Y10: Ⅳ | Z10: Ⅲ | AA10: Ⅱa | AB10: Ⅱb | AC10: Ⅳ | AD10: Ⅲ | AE10: Ⅱa | AF10: Ⅱb | AG10: Ⅳ | AH10: Ⅲ | AI10: Ⅱa | AJ10: Ⅱb
K11: 1 | L11: 覆工・坑門 | N11: 横断目地（左側） | P11: 材質劣化 | R11: うき・はく離 | U11: Ⅱ | W11: － | AF11: 0.03 | AQ11: =IF(P11="外力",1,IF(P11="材質劣化",2,IF(P11="漏水",3,4))) -> 2
K12: 2 | L12: 覆工・坑門 | N12: 横断目地（天端） | P12: 材質劣化 | R12: 鋼材腐食 | U12: Ⅱ | W12: － | AF12: 0.02 | AQ12: =IF(P12="外力",1,IF(P12="材質劣化",2,IF(P12="漏水",3,4))) -> 2
AQ13: =IF(P13="外力",1,IF(P13="材質劣化",2,IF(P13="漏水",3,4))) -> 4
AQ14: =IF(P14="外力",1,IF(P14="材質劣化",2,IF(P14="漏水",3,4))) -> 4
AQ15: =IF(P15="外力",1,IF(P15="材質劣化",2,IF(P15="漏水",3,4))) -> 4
AQ16: =IF(P16="外力",1,IF(P16="材質劣化",2,IF(P16="漏水",3,4))) -> 4
AQ17: =IF(P17="外力",1,IF(P17="材質劣化",2,IF(P17="漏水",3,4))) -> 4
AQ18: =IF(P18="外力",1,IF(P18="材質劣化",2,IF(P18="漏水",3,4))) -> 4
AQ19: =IF(P19="外力",1,IF(P19="材質劣化",2,IF(P19="漏水",3,4))) -> 4
AQ20: =IF(P20="外力",1,IF(P20="材質劣化",2,IF(P20="漏水",3,4))) -> 4
AQ21: =IF(P21="外力",1,IF(P21="材質劣化",2,IF(P21="漏水",3,4))) -> 4
AQ22: =IF(P22="外力",1,IF(P22="材質劣化",2,IF(P22="漏水",3,4))) -> 4
AQ23: =IF(P23="外力",1,IF(P23="材質劣化",2,IF(P23="漏水",3,4))) -> 4
AQ24: =IF(P24="外力",1,IF(P24="材質劣化",2,IF(P24="漏水",3,4))) -> 4
... AQ30: =IF(P30="外力",1,IF(P30="材質劣化",2,IF(P30="漏水",3,4))) -> 4
K31: 集計 ・ 判定 ・ 診断 | L31: 変状の発生規模合計(㎡) | Y31: － | AC31: =SUM(AC11:AC30) -> 0 | AD31: =SUM(AD11:AD30) -> 0 | AE31: =SUM(AE11:AE30) -> 0 | AF31: =SUM(AF11:AF30) -> 0.05 | AG31: =SUM(AG11:AG30) -> 0 | AH31: =SUM(AH11:AH30) -> 0 | AI31: =SUM(AI11:AI30) -> 0 | AJ31: =SUM(AJ11:AJ30) -> 0 | AK31: 計
L32: 対策区分の 判定結果 | O32: 判定区分毎の変状数 | Y32: =COUNTIF(Y11:Y30,"〇") -> 0 | Z32: =COUNTIF(Z11:Z30,"〇") -> 0 | AA32: =COUNTIF(AA11:AA30,"〇") -> 0 | AB32: =COUNTIF(AB11:AB30,"〇") -> 0 | AC32: =COUNT(AC11:AC30) -> 0 | AD32: =COUNT(AD11:AD30) -> 0 | AE32: =COUNT(AE11:AE30) -> 0 | AF32: =COUNT(AF11:AF30) -> 2 | AG32: =COUNT(AG11:AG30) -> 0 | AH32: =COUNT(AH11:AH30) -> 0 | AI32: =COUNT(AI11:AI30) -> 0 | AJ32: =COUNT(AJ11:AJ30) -> 0
O33: 変状区分毎の判定区分注3 | Y33: =IF(Y32>0,"Ⅳ",IF(Z32>0,"Ⅲ",IF(AA32>0,"Ⅱa",IF(AB32>0,"Ⅱb","Ⅰ")))) -> Ⅰ | AC33: =IF(AC32>0,"Ⅳ",IF(AD32>0,"Ⅲ",IF(AE32>0,"Ⅱa",IF(AF32>0,"Ⅱb","Ⅰ")))) -> Ⅱb | AG33: =IF(AG32>0,"Ⅳ",IF(AH32>0,"Ⅲ",IF(AI32>0,"Ⅱa",IF(AJ32>0,"Ⅱb","Ⅰ")))) -> Ⅰ | AQ33: Ⅳ | AR33: Ⅲ | AS33: Ⅱ
L34: 健全性の 診断結果 | O34: 判定区分 | Y34: Ⅳ | Z34: Ⅲ | AA34: Ⅱ | AC34: Ⅳ | AD34: Ⅲ | AE34: Ⅱ | AG34: Ⅳ | AH34: Ⅲ | AI34: Ⅱ | AQ34: =+Y32+Z32 -> 0 | AS34: =+AA32+AB32 -> 0
O35: 判定区分毎の変状数注4 | Y35: =Y32 -> 0 | Z35: =Z32 -> 0 | AA35: =AA32+AB32 -> 0 | AC35: =+AC32 -> 0 | AD35: =AD32 -> 0 | AE35: =AE32+AF32 -> 2 | AG35: =AG32 -> 0 | AH35: =AH32 -> 0 | AI35: =AI32+AJ32 -> 0 | AQ35: =+Y32+AC35+AG35 -> 0 | AR35: =+Z32+AD35+AH35 -> 0 | AS35: =+AS34+AE35+AI35 -> 2
O36: 変状区分毎の判定区分注4 | Y36: =IF(Y35>=1,"Ⅳ",IF(Z35>=1,"Ⅲ",IF(AA35>=1,"Ⅱ","Ⅰ"))) -> Ⅰ | AC36: =IF(AC35>=1,"Ⅳ",IF(AD35>=1,"Ⅲ",IF(AE35>=1,"Ⅱ","Ⅰ"))) -> Ⅱ | AG36: =IF(AG35>=1,"Ⅳ",IF(AH35>=1,"Ⅲ",IF(AI35>=1,"Ⅱ","Ⅰ"))) -> Ⅰ | AQ36: =IF(AQ35>0,"Ⅳ",IF(AR35>0,"Ⅲ",IF(AS35>0,"Ⅱ","Ⅰ"))) -> Ⅱ
O37: 覆工スパン単位の判定区分注5 | Y37: =IF(COUNTIF(Y36:AJ36,"Ⅳ")>0,"Ⅳ",IF(COUNTIF(Y36:AJ36,"Ⅲ")>0,"Ⅲ",IF(COUNTIF(Y36:AJ36,"Ⅱ")>0,"Ⅱ","Ⅰ"))) -> Ⅱ
K38: 特記事項
K40: 注1：誤記入防止のため、当該変状区分以外のセルは灰色表示とすること。
K41: 注2：応急対策を実施した場合は、その詳細を備考に記載すること。
K42: 注3：変状区分毎での最も評価の厳しい判定区分。
K43: 注4：変状区分毎での最も評価の厳しい判定区分．外力は覆工スパン単位、材質劣化、漏水は変状単位で行う。
K44: 注5：覆工スパンの中で最も評価の厳しい健全性を採用し、その覆工スパン毎の健全性とする。
B46: ※1：本シートは作成洩れのないよう、変状が無くても全スパン分を作成すること．また変状展開図は、様式D-2-1、様式D-2-1'と同じものを覆工スパン単位で拡大し掲載すること。
B47: ※2：変状番号は、様式D-1-1で記入した番号と整合させること。
B48: ※3：対策区分毎の変状発生規模は、様式D-1-1に記載した面積を記入すること（ただし外力はスパン単位で評価するため対象外とし、備考欄に状況を記入）。
B49: ※4：本様式は覆工スパン毎に作成すること。
B50: ※5：変状数が多い場合は、適時、表の行を増やして覆工スパン毎に1枚のシートに収めること。また、1スパン１シートとし、スパンに合わせてシートを追加すること。
B51: ※6：対策区分毎の変状の発生範囲の規模とは，対策を行う際に参考となる変状の長さや面積であり，変状を包含する長さや面積とする。
B52: ※7：路面滞水は、変状面積に1を記載するとともに、備考にも内容を記載すること。

Sheet 様式D-3_S17
AU1: 様式Fリンク用→ | AV1: 覆工ｽﾊﾟﾝ 番号 | AW1: ｽﾊﾟﾝ 長 (m) | AX1: 変状数集計 | BS1: 覆工スパン毎の 健全性の診断 | BW1: 変状規模集計
AX2: 対策区分毎の変状数 | BJ2: 健全性の判定区分毎の変状数 | BW2: 覆工スパン長(m) | CA2: 対策区分毎の変状の発生範囲の規模(㎡）
B3: ■定期点検記録様式 覆工スパン別変状詳細展開図 【様式D-3】 | AX3: 外力 | BB3: 材質劣化 | BF3: 漏水 | BJ3: 外力 | BM3: 材質劣化 | BP3: 漏水 | BS3: 外力 | BT3: 材質劣化 | BU3: 漏水 | BV3: 健全性 | BW3: 外力※１ | CA3: 材質劣化 | CE3: 漏水
B4: フリガナ | E4: ヤクオウジトンネル | K4: 路線名 | N4: 一般国道435号 | T4: 定期点検業者 | Y4: 応用地質株式会社 | AG4: 定期点検年月日 | AK4: 44862 | AX4: Ⅳ | AY4: Ⅲ | AZ4: Ⅱa | BA4: Ⅱb | BB4: Ⅳ | BC4: Ⅲ | BD4: Ⅱa | BE4: Ⅱb | BF4: Ⅳ | BG4: Ⅲ | BH4: Ⅱa | BI4: Ⅱb | BJ4: Ⅳ | BK4: Ⅲ | BL4: Ⅱ | BM4: Ⅳ | BN4: Ⅲ | BO4: Ⅱ | BP4: Ⅳ | BQ4: Ⅲ | BR4: Ⅱ | BW4: Ⅳ | BX4: Ⅲ | BY4: Ⅱa | BZ4: Ⅱb | CA4: Ⅳ | CB4: Ⅲ | CC4: Ⅱa | CD4: Ⅱb | CE4: Ⅳ | CF4: Ⅲ | CG4: Ⅱa | CH4: Ⅱb
B5: 名 称 | E5: 薬王寺トンネル | K5: 管理者名 | N5: 山口県宇部土木建築事務所 | T5: 定期点検者名 | Y5: 太田 裕之 | AQ5: 〇 | AV5: =N7 -> 17 | AW5: =R7 -> 5.1 | AX5: =+Y32 -> 0 | AY5: =+Z32 -> 0 | AZ5: =+AA32 -> 0 | BA5: =+AB32 -> 0 | BB5: =+AC32 -> 0 | BC5: =+AD32 -> 0 | BD5: =+AE32 -> 0 | BE5: =+AF32 -> 0 | ... BI5: =+AJ32 -> 0 | BJ5: =+Y35 -> 0 | BK5: =+Z35 -> 0 | BL5: =+AA35 -> 0 | BM5: =+AC35 -> 0 | BN5: =+AD35 -> 0 | BO5: =+AE35 -> 0 | BP5: =+AG35 -> 0 | BQ5: =+AH35 -> 0 | BR5: =+AI35 -> 0 | BS5: =+Y36 -> Ⅰ | BT5: =+AC36 -> Ⅰ | BU5: =+AG36 -> Ⅰ | BV5: =+Y37 -> Ⅰ | BW5: =IF(Y32>0,R7,"") | BX5: =IF(Z32>0,"",IF(AA32>0,R7,"")) | BY5: =IF(Y32+Z32>0,"",IF(AA32>0,R7,"")) | BZ5: =IF(Y32+Z32+AA32>0,"",IF(AB32>0,R7,"")) | CA5: =+AC31 -> 0 | CB5: =+AD31 -> 0 | CC5: =+AE31 -> 0 | CD5: =+AF31 -> 0 | CE5: =+AG31 -> 0 | CF5: =+AH31 -> 0 | CG5: =+AI31 -> 0 | CH5: =+AJ31 -> 0
B6: スパン別変状展開図 | K6: 【健全性判定集計表】
K7: スパン番号 | N7: 17 | P7: スパン長 | R7: 5.1 | U7: 前回定期点検時の健全性 | W7: 応急措置前の判定 | Y7: 対策区分毎の 変状の有無 | AC7: 対策区分毎の変状の発生範囲の規模(㎡) | AK7: 備考注2
K8: 変状番号 | L8: 対象箇所 | N8: 部位区分 | P8: 変状区分 | R8: 変状種類
Y9: 外力注1 | AC9: 材質劣化注1 | AG9: 漏水注1
Y10: Ⅳ | Z10: Ⅲ | AA10: Ⅱa | AB10: Ⅱb | AC10: Ⅳ | AD10: Ⅲ | AE10: Ⅱa | AF10: Ⅱb | AG10: Ⅳ | AH10: Ⅲ | AI10: Ⅱa | AJ10: Ⅱb
K11: 1 | L11: 覆工・坑門 | N11: 横断目地（左側） | P11: 材質劣化 | R11: うき・はく離 | U11: Ⅰ | W11: － | AK11: 前回点検時叩き落し箇所 | AQ11: =IF(P11="外力",1,IF(P11="材質劣化",2,IF(P11="漏水",3,4))) -> 2
AQ12: =IF(P12="外力",1,IF(P12="材質劣化",2,IF(P12="漏水",3,4))) -> 4
AQ13: =IF(P13="外力",1,IF(P13="材質劣化",2,IF(P13="漏水",3,4))) -> 4
AQ14: =IF(P14="外力",1,IF(P14="材質劣化",2,IF(P14="漏水",3,4))) -> 4
AQ15: =IF(P15="外力",1,IF(P15="材質劣化",2,IF(P15="漏水",3,4))) -> 4
AQ16: =IF(P16="外力",1,IF(P16="材質劣化",2,IF(P16="漏水",3,4))) -> 4
AQ17: =IF(P17="外力",1,IF(P17="材質劣化",2,IF(P17="漏水",3,4))) -> 4
AQ18: =IF(P18="外力",1,IF(P18="材質劣化",2,IF(P18="漏水",3,4))) -> 4
AQ19: =IF(P19="外力",1,IF(P19="材質劣化",2,IF(P19="漏水",3,4))) -> 4
AQ20: =IF(P20="外力",1,IF(P20="材質劣化",2,IF(P20="漏水",3,4))) -> 4
AQ21: =IF(P21="外力",1,IF(P21="材質劣化",2,IF(P21="漏水",3,4))) -> 4
AQ22: =IF(P22="外力",1,IF(P22="材質劣化",2,IF(P22="漏水",3,4))) -> 4
AQ23: =IF(P23="外力",1,IF(P23="材質劣化",2,IF(P23="漏水",3,4))) -> 4
... AQ30: =IF(P30="外力",1,IF(P30="材質劣化",2,IF(P30="漏水",3,4))) -> 4
K31: 集計 ・ 判定 ・ 診断 | L31: 変状の発生規模合計(㎡) | Y31: － | AC31: =SUM(AC11:AC30) -> 0 | AD31: =SUM(AD11:AD30) -> 0 | AE31: =SUM(AE11:AE30) -> 0 | AF31: =SUM(AF11:AF30) -> 0 | AG31: =SUM(AG11:AG30) -> 0 | AH31: =SUM(AH11:AH30) -> 0 | AI31: =SUM(AI11:AI30) -> 0 | AJ31: =SUM(AJ11:AJ30) -> 0 | AK31: 計
L32: 対策区分の 判定結果 | O32: 判定区分毎の変状数 | Y32: =COUNTIF(Y11:Y30,"〇") -> 0 | Z32: =COUNTIF(Z11:Z30,"〇") -> 0 | AA32: =COUNTIF(AA11:AA30,"〇") -> 0 | AB32: =COUNTIF(AB11:AB30,"〇") -> 0 | AC32: =COUNT(AC11:AC30) -> 0 | AD32: =COUNT(AD11:AD30) -> 0 | AE32: =COUNT(AE11:AE30) -> 0 | AF32: =COUNT(AF11:AF30) -> 0 | AG32: =COUNT(AG11:AG30) -> 0 | AH32: =COUNT(AH11:AH30) -> 0 | AI32: =COUNT(AI11:AI30) -> 0 | AJ32: =COUNT(AJ11:AJ30) -> 0
O33: 変状区分毎の判定区分注3 | Y33: =IF(Y32>0,"Ⅳ",IF(Z32>0,"Ⅲ",IF(AA32>0,"Ⅱa",IF(AB32>0,"Ⅱb","Ⅰ")))) -> Ⅰ | AC33: =IF(AC32>0,"Ⅳ",IF(AD32>0,"Ⅲ",IF(AE32>0,"Ⅱa",IF(AF32>0,"Ⅱb","Ⅰ")))) -> Ⅰ | AG33: =IF(AG32>0,"Ⅳ",IF(AH32>0,"Ⅲ",IF(AI32>0,"Ⅱa",IF(AJ32>0,"Ⅱb","Ⅰ")))) -> Ⅰ | AQ33: Ⅳ | AR33: Ⅲ | AS33: Ⅱ
L34: 健全性の 診断結果 | O34: 判定区分 | Y34: Ⅳ | Z34: Ⅲ | AA34: Ⅱ | AC34: Ⅳ | AD34: Ⅲ | AE34: Ⅱ | AG34: Ⅳ | AH34: Ⅲ | AI34: Ⅱ | AQ34: =+Y32+Z32 -> 0 | AS34: =+AA32+AB32 -> 0
O35: 判定区分毎の変状数注4 | Y35: =Y32 -> 0 | Z35: =Z32 -> 0 | AA35: =AA32+AB32 -> 0 | AC35: =+AC32 -> 0 | AD35: =AD32 -> 0 | AE35: =AE32+AF32 -> 0 | AG35: =AG32 -> 0 | AH35: =AH32 -> 0 | AI35: =AI32+AJ32 -> 0 | AQ35: =+Y32+AC35+AG35 -> 0 | AR35: =+Z32+AD35+AH35 -> 0 | AS35: =+AS34+AE35+AI35 -> 0
O36: 変状区分毎の判定区分注4 | Y36: =IF(Y35>=1,"Ⅳ",IF(Z35>=1,"Ⅲ",IF(AA35>=1,"Ⅱ","Ⅰ"))) -> Ⅰ | AC36: =IF(AC35>=1,"Ⅳ",IF(AD35>=1,"Ⅲ",IF(AE35>=1,"Ⅱ","Ⅰ"))) -> Ⅰ | AG36: =IF(AG35>=1,"Ⅳ",IF(AH35>=1,"Ⅲ",IF(AI35>=1,"Ⅱ","Ⅰ"))) -> Ⅰ | AQ36: =IF(AQ35>0,"Ⅳ",IF(AR35>0,"Ⅲ",IF(AS35>0,"Ⅱ","Ⅰ"))) -> Ⅰ
O37: 覆工スパン単位の判定区分注5 | Y37: =IF(COUNTIF(Y36:AJ36,"Ⅳ")>0,"Ⅳ",IF(COUNTIF(Y36:AJ36,"Ⅲ")>0,"Ⅲ",IF(COUNTIF(Y36:AJ36,"Ⅱ")>0,"Ⅱ","Ⅰ"))) -> Ⅰ
K38: 特記事項
K40: 注1：誤記入防止のため、当該変状区分以外のセルは灰色表示とすること。
K41: 注2：応急対策を実施した場合は、その詳細を備考に記載すること。
K42: 注3：変状区分毎での最も評価の厳しい判定区分。
K43: 注4：変状区分毎での最も評価の厳しい判定区分．外力は覆工スパン単位、材質劣化、漏水は変状単位で行う。
K44: 注5：覆工スパンの中で最も評価の厳しい健全性を採用し、その覆工スパン毎の健全性とする。
B46: ※1：本シートは作成洩れのないよう、変状が無くても全スパン分を作成すること．また変状展開図は、様式D-2-1、様式D-2-1'と同じものを覆工スパン単位で拡大し掲載すること。
B47: ※2：変状番号は、様式D-1-1で記入した番号と整合させること。
B48: ※3：対策区分毎の変状発生規模は、様式D-1-1に記載した面積を記入すること（ただし外力はスパン単位で評価するため対象外とし、備考欄に状況を記入）。
B49: ※4：本様式は覆工スパン毎に作成すること。
B50: ※5：変状数が多い場合は、適時、表の行を増やして覆工スパン毎に1枚のシートに収めること。また、1スパン１シートとし、スパンに合わせてシートを追加すること。
B51: ※6：対策区分毎の変状の発生範囲の規模とは，対策を行う際に参考となる変状の長さや面積であり，変状を包含する長さや面積とする。
B52: ※7：路面滞水は、変状面積に1を記載するとともに、備考にも内容を記載すること。

Sheet 様式D-3_PE
AU1: 様式Fリンク用→ | AV1: 覆工ｽﾊﾟﾝ 番号 | AW1: ｽﾊﾟﾝ 長 (m) | AX1: 変状数集計 | BS1: 覆工スパン毎の 健全性の診断 | BW1: 変状規模集計
AX2: 対策区分毎の変状数 | BJ2: 健全性の判定区分毎の変状数 | BW2: 覆工スパン長(m) | CA2: 対策区分毎の変状の発生範囲の規模(㎡）
B3: ■定期点検記録様式 覆工スパン別変状詳細展開図 【様式D-3】 | AX3: 外力 | BB3: 材質劣化 | BF3: 漏水 | BJ3: 外力 | BM3: 材質劣化 | BP3: 漏水 | BS3: 外力 | BT3: 材質劣化 | BU3: 漏水 | BV3: 健全性 | BW3: 外力※１ | CA3: 材質劣化 | CE3: 漏水
B4: フリガナ | E4: ヤクオウジトンネル | K4: 路線名 | N4: 一般国道435号 | T4: 定期点検業者 | Y4: 応用地質株式会社 | AG4: 定期点検年月日 | AK4: 44862 | AX4: Ⅳ | AY4: Ⅲ | AZ4: Ⅱa | BA4: Ⅱb | BB4: Ⅳ | BC4: Ⅲ | BD4: Ⅱa | BE4: Ⅱb | BF4: Ⅳ | BG4: Ⅲ | BH4: Ⅱa | BI4: Ⅱb | BJ4: Ⅳ | BK4: Ⅲ | BL4: Ⅱ | BM4: Ⅳ | BN4: Ⅲ | BO4: Ⅱ | BP4: Ⅳ | BQ4: Ⅲ | BR4: Ⅱ | BW4: Ⅳ | BX4: Ⅲ | BY4: Ⅱa | BZ4: Ⅱb | CA4: Ⅳ | CB4: Ⅲ | CC4: Ⅱa | CD4: Ⅱb | CE4: Ⅳ | CF4: Ⅲ | CG4: Ⅱa | CH4: Ⅱb
B5: 名 称 | E5: 薬王寺トンネル | K5: 管理者名 | N5: 山口県宇部土木建築事務所 | T5: 定期点検者名 | Y5: 太田 裕之 | AQ5: 〇 | AV5: =N7 -> PE | AW5: =R7 -> 0 | AX5: =+Y32 -> 0 | AY5: =+Z32 -> 0 | AZ5: =+AA32 -> 0 | BA5: =+AB32 -> 0 | BB5: =+AC32 -> 0 | BC5: =+AD32 -> 0 | BD5: =+AE32 -> 0 | BE5: =+AF32 -> 1 | ... BI5: =+AJ32 -> 0 | BJ5: =+Y35 -> 0 | BK5: =+Z35 -> 0 | BL5: =+AA35 -> 0 | BM5: =+AC35 -> 0 | BN5: =+AD35 -> 0 | BO5: =+AE35 -> 1 | BP5: =+AG35 -> 0 | BQ5: =+AH35 -> 0 | BR5: =+AI35 -> 0 | BS5: =+Y36 -> Ⅰ | BT5: =+AC36 -> Ⅱ | BU5: =+AG36 -> Ⅰ | BV5: =+Y37 -> Ⅱ | BW5: =IF(Y32>0,R7,"") | BX5: =IF(Z32>0,"",IF(AA32>0,R7,"")) | BY5: =IF(Y32+Z32>0,"",IF(AA32>0,R7,"")) | BZ5: =IF(Y32+Z32+AA32>0,"",IF(AB32>0,R7,"")) | CA5: =+AC31 -> 0 | CB5: =+AD31 -> 0 | CC5: =+AE31 -> 0 | CD5: =+AF31 -> 0.01 | CE5: =+AG31 -> 0 | CF5: =+AH31 -> 0 | CG5: =+AI31 -> 0 | CH5: =+AJ31 -> 0
B6: スパン別変状展開図 | K6: 【健全性判定集計表】
K7: スパン番号 | N7: PE | P7: スパン長 | R7: 0 | U7: 前回定期点検時の健全性 | W7: 応急措置前の判定 | Y7: 対策区分毎の 変状の有無 | AC7: 対策区分毎の変状の発生範囲の規模(㎡) | AK7: 備考注2
K8: 変状番号 | L8: 対象箇所 | N8: 部位区分 | P8: 変状区分 | R8: 変状種類
Y9: 外力注1 | AC9: 材質劣化注1 | AG9: 漏水注1
Y10: Ⅳ | Z10: Ⅲ | AA10: Ⅱa | AB10: Ⅱb | AC10: Ⅳ | AD10: Ⅲ | AE10: Ⅱa | AF10: Ⅱb | AG10: Ⅳ | AH10: Ⅲ | AI10: Ⅱa | AJ10: Ⅱb
K11: 1 | L11: 覆工・坑門 | N11: 面壁・妻壁等 | P11: 材質劣化 | R11: うき・はく離 | U11: － | W11: － | AF11: 0.01 | AQ11: =IF(P11="外力",1,IF(P11="材質劣化",2,IF(P11="漏水",3,4))) -> 2
AQ12: =IF(P12="外力",1,IF(P12="材質劣化",2,IF(P12="漏水",3,4))) -> 4
AQ13: =IF(P13="外力",1,IF(P13="材質劣化",2,IF(P13="漏水",3,4))) -> 4
AQ14: =IF(P14="外力",1,IF(P14="材質劣化",2,IF(P14="漏水",3,4))) -> 4
AQ15: =IF(P15="外力",1,IF(P15="材質劣化",2,IF(P15="漏水",3,4))) -> 4
AQ16: =IF(P16="外力",1,IF(P16="材質劣化",2,IF(P16="漏水",3,4))) -> 4
AQ17: =IF(P17="外力",1,IF(P17="材質劣化",2,IF(P17="漏水",3,4))) -> 4
AQ18: =IF(P18="外力",1,IF(P18="材質劣化",2,IF(P18="漏水",3,4))) -> 4
AQ19: =IF(P19="外力",1,IF(P19="材質劣化",2,IF(P19="漏水",3,4))) -> 4
AQ20: =IF(P20="外力",1,IF(P20="材質劣化",2,IF(P20="漏水",3,4))) -> 4
AQ21: =IF(P21="外力",1,IF(P21="材質劣化",2,IF(P21="漏水",3,4))) -> 4
AQ22: =IF(P22="外力",1,IF(P22="材質劣化",2,IF(P22="漏水",3,4))) -> 4
AQ23: =IF(P23="外力",1,IF(P23="材質劣化",2,IF(P23="漏水",3,4))) -> 4
... AQ30: =IF(P30="外力",1,IF(P30="材質劣化",2,IF(P30="漏水",3,4))) -> 4
K31: 集計 ・ 判定 ・ 診断 | L31: 変状の発生規模合計(㎡) | Y31: － | AC31: =SUM(AC11:AC30) -> 0 | AD31: =SUM(AD11:AD30) -> 0 | AE31: =SUM(AE11:AE30) -> 0 | AF31: =SUM(AF11:AF30) -> 0.01 | AG31: =SUM(AG11:AG30) -> 0 | AH31: =SUM(AH11:AH30) -> 0 | AI31: =SUM(AI11:AI30) -> 0 | AJ31: =SUM(AJ11:AJ30) -> 0 | AK31: 計
L32: 対策区分の 判定結果 | O32: 判定区分毎の変状数 | Y32: =COUNTIF(Y11:Y30,"〇") -> 0 | Z32: =COUNTIF(Z11:Z30,"〇") -> 0 | AA32: =COUNTIF(AA11:AA30,"〇") -> 0 | AB32: =COUNTIF(AB11:AB30,"〇") -> 0 | AC32: =COUNT(AC11:AC30) -> 0 | AD32: =COUNT(AD11:AD30) -> 0 | AE32: =COUNT(AE11:AE30) -> 0 | AF32: =COUNT(AF11:AF30) -> 1 | AG32: =COUNT(AG11:AG30) -> 0 | AH32: =COUNT(AH11:AH30) -> 0 | AI32: =COUNT(AI11:AI30) -> 0 | AJ32: =COUNT(AJ11:AJ30) -> 0
O33: 変状区分毎の判定区分注3 | Y33: =IF(Y32>0,"Ⅳ",IF(Z32>0,"Ⅲ",IF(AA32>0,"Ⅱa",IF(AB32>0,"Ⅱb","Ⅰ")))) -> Ⅰ | AC33: =IF(AC32>0,"Ⅳ",IF(AD32>0,"Ⅲ",IF(AE32>0,"Ⅱa",IF(AF32>0,"Ⅱb","Ⅰ")))) -> Ⅱb | AG33: =IF(AG32>0,"Ⅳ",IF(AH32>0,"Ⅲ",IF(AI32>0,"Ⅱa",IF(AJ32>0,"Ⅱb","Ⅰ")))) -> Ⅰ | AQ33: Ⅳ | AR33: Ⅲ | AS33: Ⅱ
L34: 健全性の 診断結果 | O34: 判定区分 | Y34: Ⅳ | Z34: Ⅲ | AA34: Ⅱ | AC34: Ⅳ | AD34: Ⅲ | AE34: Ⅱ | AG34: Ⅳ | AH34: Ⅲ | AI34: Ⅱ | AQ34: =+Y32+Z32 -> 0 | AS34: =+AA32+AB32 -> 0
O35: 判定区分毎の変状数注4 | Y35: =Y32 -> 0 | Z35: =Z32 -> 0 | AA35: =AA32+AB32 -> 0 | AC35: =+AC32 -> 0 | AD35: =AD32 -> 0 | AE35: =AE32+AF32 -> 1 | AG35: =AG32 -> 0 | AH35: =AH32 -> 0 | AI35: =AI32+AJ32 -> 0 | AQ35: =+Y32+AC35+AG35 -> 0 | AR35: =+Z32+AD35+AH35 -> 0 | AS35: =+AS34+AE35+AI35 -> 1
O36: 変状区分毎の判定区分注4 | Y36: =IF(Y35>=1,"Ⅳ",IF(Z35>=1,"Ⅲ",IF(AA35>=1,"Ⅱ","Ⅰ"))) -> Ⅰ | AC36: =IF(AC35>=1,"Ⅳ",IF(AD35>=1,"Ⅲ",IF(AE35>=1,"Ⅱ","Ⅰ"))) -> Ⅱ | AG36: =IF(AG35>=1,"Ⅳ",IF(AH35>=1,"Ⅲ",IF(AI35>=1,"Ⅱ","Ⅰ"))) -> Ⅰ | AQ36: =IF(AQ35>0,"Ⅳ",IF(AR35>0,"Ⅲ",IF(AS35>0,"Ⅱ","Ⅰ"))) -> Ⅱ
O37: 覆工スパン単位の判定区分注5 | Y37: =IF(COUNTIF(Y36:AJ36,"Ⅳ")>0,"Ⅳ",IF(COUNTIF(Y36:AJ36,"Ⅲ")>0,"Ⅲ",IF(COUNTIF(Y36:AJ36,"Ⅱ")>0,"Ⅱ","Ⅰ"))) -> Ⅱ
K38: 特記事項
K40: 注1：誤記入防止のため、当該変状区分以外のセルは灰色表示とすること。
K41: 注2：応急対策を実施した場合は、その詳細を備考に記載すること。
K42: 注3：変状区分毎での最も評価の厳しい判定区分。
K43: 注4：変状区分毎での最も評価の厳しい判定区分．外力は覆工スパン単位、材質劣化、漏水は変状単位で行う。
K44: 注5：覆工スパンの中で最も評価の厳しい健全性を採用し、その覆工スパン毎の健全性とする。
B46: ※1：本シートは作成洩れのないよう、変状が無くても全スパン分を作成すること．また変状展開図は、様式D-2-1、様式D-2-1'と同じものを覆工スパン単位で拡大し掲載すること。
B47: ※2：変状番号は、様式D-1-1で記入した番号と整合させること。
B48: ※3：対策区分毎の変状発生規模は、様式D-1-1に記載した面積を記入すること（ただし外力はスパン単位で評価するため対象外とし、備考欄に状況を記入）。
B49: ※4：本様式は覆工スパン毎に作成すること。
B50: ※5：変状数が多い場合は、適時、表の行を増やして覆工スパン毎に1枚のシートに収めること。また、1スパン１シートとし、スパンに合わせてシートを追加すること。
B51: ※6：対策区分毎の変状の発生範囲の規模とは，対策を行う際に参考となる変状の長さや面積であり，変状を包含する長さや面積とする。
B52: ※7：路面滞水は、変状面積に1を記載するとともに、備考にも内容を記載すること。

Sheet 様式E
B2: ■定期点検記録様式 近接目視による状態の把握が不可能な箇所 【様式E】
B3: フリガナ | F3: ヤクオウジトンネル | U3: 路 線 名 | Z3: 一般国道435号 | AI3: 定期点検業者 | AO3: 応用地質株式会社 | AW3: 定期点検年月日 | BC3: 44862
B4: 名 称 | F4: 薬王寺トンネル | U4: 管理者名 | Z4: 山口県宇部土木建築事務所 | AI4: 定期点検者名 | AO4: 太田 裕之
B5: 覆工スパン 番号 | H5: 対象箇所 | P5: 不可能な理由 | AN5: 対応策
D20: 注）近接目視又は打音、触診ができない個所を記載する。現状の評価、日常の維持管理での注意点を記載する。
D21: ※ 数が多い場合は、適時、表の行を増やすこと。

Sheet 様式F
B1: ■診断調書 診断結果（変状単位・覆工スパン毎・トンネル毎） 【様式F】
B2: フリガナ | E2: ヤクオウジトンネル | K2: 路線名 | N2: 一般国道435号 | U2: 定期点検業者 | Y2: 応用地質株式会社 | AG2: 定期点検年月日 | AJ2: 44862
B3: 名 称 | E3: 薬王寺トンネル | K3: 管理者名 | N3: 山口県宇部土木建築事務所 | U3: 定期点検者名 | Y3: 太田 裕之
AG4: トンネル毎の 健全性 | AJ4: =IF(AT44=4,"Ⅳ",IF(AT44=3,"Ⅲ",IF(AT44=2,"Ⅱ","Ⅰ"))) -> Ⅱ
B5: 【覆工スパン毎の変状数, 健全性の診断, 変状規模】
B6: 覆工ｽﾊﾟﾝ番号 | C6: ｽﾊﾟﾝ長（ｍ） | D6: 変 状 数 | Y6: 覆工スパン毎の 健全性の診断 | AC6: 変 状 規 模 | AT6: 判定区分変換
D7: 対策区分の判定 | P7: 変状等の健全性の判断（変状単位） 注1 | AC7: 覆工スパン長（ｍ） | AG7: 変状の発生範囲の規模（㎡）
D8: 外力 | H8: 材質劣化 | L8: 漏水 | P8: 外力 | S8: 材質劣化 | V8: 漏水 | Y8: 外力 | Z8: 材質劣化 | AA8: 漏水 | AB8: 健全性 | AC8: 外力 注2 | AG8: 材質劣化 | AK8: 漏水
D9: Ⅳ | E9: Ⅲ | F9: Ⅱa | G9: Ⅱb | H9: Ⅳ | I9: Ⅲ | J9: Ⅱa | K9: Ⅱb | L9: Ⅳ | M9: Ⅲ | N9: Ⅱa | O9: Ⅱb | P9: Ⅳ | Q9: Ⅲ | R9: Ⅱ | S9: Ⅳ | T9: Ⅲ | U9: Ⅱ | V9: Ⅳ | W9: Ⅲ | X9: Ⅱ | AC9: Ⅳ | AD9: Ⅲ | AE9: Ⅱa | AF9: Ⅱb | AG9: Ⅳ | AH9: Ⅲ | AI9: Ⅱa | AJ9: Ⅱb | AK9: Ⅳ | AL9: Ⅲ | AM9: Ⅱa | AN9: Ⅱb | AO9: ｃ
B10: ='様式D-3_PS'!$AV$5 -> PS | C10: ='様式D-3_PS'!$AW$5 -> 0 | D10: ='様式D-3_PS'!$AX$5 -> 0 | E10: ='様式D-3_PS'!$AY$5 -> 0 | F10: ='様式D-3_PS'!$AZ$5 -> 0 | G10: ='様式D-3_PS'!$BA$5 -> 0 | H10: ='様式D-3_PS'!$BB$5 -> 0 | I10: ='様式D-3_PS'!$BC$5 -> 0 | J10: ='様式D-3_PS'!$BD$5 -> 0 | K10: ='様式D-3_PS'!$BE$5 -> 0 | L10: ='様式D-3_PS'!$BF$5 -> 0 | M10: ='様式D-3_PS'!$BG$5 -> 0 | N10: ='様式D-3_PS'!$BH$5 -> 0 | O10: ='様式D-3_PS'!$BI$5 -> 0 | P10: ='様式D-3_PS'!$BJ$5 -> 0 | Q10: ='様式D-3_PS'!$BK$5 -> 0 | R10: ='様式D-3_PS'!$BL$5 -> 0 | S10: ='様式D-3_PS'!$BM$5 -> 0 | T10: ='様式D-3_PS'!$BN$5 -> 0 | U10: ='様式D-3_PS'!$BO$5 -> 0 | V10: ='様式D-3_PS'!$BP$5 -> 0 | W10: ='様式D-3_PS'!$BQ$5 -> 0 | X10: ='様式D-3_PS'!$BR$5 -> 0 | Y10: ='様式D-3_PS'!$BS$5 -> Ⅰ | Z10: ='様式D-3_PS'!$BT$5 -> Ⅰ | AA10: ='様式D-3_PS'!$BU$5 -> Ⅰ | AB10: ='様式D-3_PS'!$BV$5 -> Ⅰ | AC10: ='様式D-3_PS'!$BW$5 | AD10: ='様式D-3_PS'!$BX$5 | AE10: ='様式D-3_PS'!$BY$5 | AF10: ='様式D-3_PS'!$BZ$5 | AG10: ='様式D-3_PS'!$CA$5 -> 0 | AH10: ='様式D-3_PS'!$CB$5 -> 0 | AI10: ='様式D-3_PS'!$CC$5 -> 0 | AJ10: ='様式D-3_PS'!$CD$5 -> 0 | AK10: ='様式D-3_PS'!$CE$5 -> 0 | AL10: ='様式D-3_PS'!$CF$5 -> 0 | AM10: ='様式D-3_PS'!$CG$5 -> 0 | AN10: ='様式D-3_PS'!$CH$5 -> 0 | AT10: =IF(AB10="Ⅳ",4,IF(AB10="Ⅲ",3,IF(AB10="Ⅱ",2,1))) -> 1
B11: ='様式D-3_S01'!$AV$5 -> 1 | C11: ='様式D-3_S01'!$AW$5 -> 5.1 | D11: ='様式D-3_S01'!$AX$5 -> 0 | E11: ='様式D-3_S01'!$AY$5 -> 0 | F11: ='様式D-3_S01'!$AZ$5 -> 0 | G11: ='様式D-3_S01'!$BA$5 -> 0 | H11: ='様式D-3_S01'!$BB$5 -> 0 | I11: ='様式D-3_S01'!$BC$5 -> 0 | J11: ='様式D-3_S01'!$BD$5 -> 0 | K11: ='様式D-3_S01'!$BE$5 -> 0 | L11: ='様式D-3_S01'!$BF$5 -> 0 | M11: ='様式D-3_S01'!$BG$5 -> 0 | N11: ='様式D-3_S01'!$BH$5 -> 0 | O11: ='様式D-3_S01'!$BI$5 -> 0 | P11: ='様式D-3_S01'!$BJ$5 -> 0 | Q11: ='様式D-3_S01'!$BK$5 -> 0 | R11: ='様式D-3_S01'!$BL$5 -> 0 | S11: ='様式D-3_S01'!$BM$5 -> 0 | T11: ='様式D-3_S01'!$BN$5 -> 0 | U11: ='様式D-3_S01'!$BO$5 -> 0 | V11: ='様式D-3_S01'!$BP$5 -> 0 | W11: ='様式D-3_S01'!$BQ$5 -> 0 | X11: ='様式D-3_S01'!$BR$5 -> 0 | Y11: ='様式D-3_S01'!$BS$5 -> Ⅰ | Z11: ='様式D-3_S01'!$BT$5 -> Ⅰ | AA11: ='様式D-3_S01'!$BU$5 -> Ⅰ | AB11: ='様式D-3_S01'!$BV$5 -> Ⅰ | AC11: ='様式D-3_S01'!$BW$5 | AD11: ='様式D-3_S01'!$BX$5 | AE11: ='様式D-3_S01'!$BY$5 | AF11: ='様式D-3_S01'!$BZ$5 | AG11: ='様式D-3_S01'!$CA$5 -> 0 | AH11: ='様式D-3_S01'!$CB$5 -> 0 | AI11: ='様式D-3_S01'!$CC$5 -> 0 | AJ11: ='様式D-3_S01'!$CD$5 -> 0 | AK11: ='様式D-3_S01'!$CE$5 -> 0 | AL11: ='様式D-3_S01'!$CF$5 -> 0 | AM11: ='様式D-3_S01'!$CG$5 -> 0 | AN11: ='様式D-3_S01'!$CH$5 -> 0 | AT11: =IF(AB11="Ⅳ",4,IF(AB11="Ⅲ",3,IF(AB11="Ⅱ",2,1))) -> 1
B12: ='様式D-3_S02'!$AV$5 -> 2 | C12: ='様式D-3_S02'!$AW$5 -> 10.3 | D12: ='様式D-3_S02'!$AX$5 -> 0 | E12: ='様式D-3_S02'!$AY$5 -> 0 | F12: ='様式D-3_S02'!$AZ$5 -> 0 | G12: ='様式D-3_S02'!$BA$5 -> 0 | H12: ='様式D-3_S02'!$BB$5 -> 0 | I12: ='様式D-3_S02'!$BC$5 -> 0 | J12: ='様式D-3_S02'!$BD$5 -> 0 | K12: ='様式D-3_S02'!$BE$5 -> 0 | L12: ='様式D-3_S02'!$BF$5 -> 0 | M12: ='様式D-3_S02'!$BG$5 -> 0 | N12: ='様式D-3_S02'!$BH$5 -> 0 | O12: ='様式D-3_S02'!$BI$5 -> 0 | P12: ='様式D-3_S02'!$BJ$5 -> 0 | Q12: ='様式D-3_S02'!$BK$5 -> 0 | R12: ='様式D-3_S02'!$BL$5 -> 0 | S12: ='様式D-3_S02'!$BM$5 -> 0 | T12: ='様式D-3_S02'!$BN$5 -> 0 | U12: ='様式D-3_S02'!$BO$5 -> 0 | V12: ='様式D-3_S02'!$BP$5 -> 0 | W12: ='様式D-3_S02'!$BQ$5 -> 0 | X12: ='様式D-3_S02'!$BR$5 -> 0 | Y12: ='様式D-3_S02'!$BS$5 -> Ⅰ | Z12: ='様式D-3_S02'!$BT$5 -> Ⅰ | AA12: ='様式D-3_S02'!$BU$5 -> Ⅰ | AB12: ='様式D-3_S02'!$BV$5 -> Ⅰ | AC12: ='様式D-3_S02'!$BW$5 | AD12: ='様式D-3_S02'!$BX$5 | AE12: ='様式D-3_S02'!$BY$5 | AF12: ='様式D-3_S02'!$BZ$5 | AG12: ='様式D-3_S02'!$CA$5 -> 0 | AH12: ='様式D-3_S02'!$CB$5 -> 0 | AI12: ='様式D-3_S02'!$CC$5 -> 0 | AJ12: ='様式D-3_S02'!$CD$5 -> 0 | AK12: ='様式D-3_S02'!$CE$5 -> 0 | AL12: ='様式D-3_S02'!$CF$5 -> 0 | AM12: ='様式D-3_S02'!$CG$5 -> 0 | AN12: ='様式D-3_S02'!$CH$5 -> 0 | AT12: =IF(AB12="Ⅳ",4,IF(AB12="Ⅲ",3,IF(AB12="Ⅱ",2,1))) -> 1
B13: ='様式D-3_S03'!$AV$5 -> 3 | C13: ='様式D-3_S03'!$AW$5 -> 10.3 | D13: ='様式D-3_S03'!$AX$5 -> 0 | E13: ='様式D-3_S03'!$AY$5 -> 0 | F13: ='様式D-3_S03'!$AZ$5 -> 0 | G13: ='様式D-3_S03'!$BA$5 -> 0 | H13: ='様式D-3_S03'!$BB$5 -> 0 | I13: ='様式D-3_S03'!$BC$5 -> 0 | J13: ='様式D-3_S03'!$BD$5 -> 0 | K13: ='様式D-3_S03'!$BE$5 -> 1 | L13: ='様式D-3_S03'!$BF$5 -> 0 | M13: ='様式D-3_S03'!$BG$5 -> 0 | N13: ='様式D-3_S03'!$BH$5 -> 0 | O13: ='様式D-3_S03'!$BI$5 -> 0 | P13: ='様式D-3_S03'!$BJ$5 -> 0 | Q13: ='様式D-3_S03'!$BK$5 -> 0 | R13: ='様式D-3_S03'!$BL$5 -> 0 | S13: ='様式D-3_S03'!$BM$5 -> 0 | T13: ='様式D-3_S03'!$BN$5 -> 0 | U13: ='様式D-3_S03'!$BO$5 -> 1 | V13: ='様式D-3_S03'!$BP$5 -> 0 | W13: ='様式D-3_S03'!$BQ$5 -> 0 | X13: ='様式D-3_S03'!$BR$5 -> 0 | Y13: ='様式D-3_S03'!$BS$5 -> Ⅰ | Z13: ='様式D-3_S03'!$BT$5 -> Ⅱ | AA13: ='様式D-3_S03'!$BU$5 -> Ⅰ | AB13: ='様式D-3_S03'!$BV$5 -> Ⅱ | AC13: ='様式D-3_S03'!$BW$5 | AD13: ='様式D-3_S03'!$BX$5 | AE13: ='様式D-3_S03'!$BY$5 | AF13: ='様式D-3_S03'!$BZ$5 | AG13: ='様式D-3_S03'!$CA$5 -> 0 | AH13: ='様式D-3_S03'!$CB$5 -> 0 | AI13: ='様式D-3_S03'!$CC$5 -> 0 | AJ13: ='様式D-3_S03'!$CD$5 -> 0.01 | AK13: ='様式D-3_S03'!$CE$5 -> 0 | AL13: ='様式D-3_S03'!$CF$5 -> 0 | AM13: ='様式D-3_S03'!$CG$5 -> 0 | AN13: ='様式D-3_S03'!$CH$5 -> 0 | AT13: =IF(AB13="Ⅳ",4,IF(AB13="Ⅲ",3,IF(AB13="Ⅱ",2,1))) -> 2
B14: ='様式D-3_S04'!$AV$5 -> 4 | C14: ='様式D-3_S04'!$AW$5 -> 10.3 | D14: ='様式D-3_S04'!$AX$5 -> 0 | E14: ='様式D-3_S04'!$AY$5 -> 0 | F14: ='様式D-3_S04'!$AZ$5 -> 0 | G14: ='様式D-3_S04'!$BA$5 -> 0 | H14: ='様式D-3_S04'!$BB$5 -> 0 | I14: ='様式D-3_S04'!$BC$5 -> 0 | J14: ='様式D-3_S04'!$BD$5 -> 1 | K14: ='様式D-3_S04'!$BE$5 -> 1 | L14: ='様式D-3_S04'!$BF$5 -> 0 | M14: ='様式D-3_S04'!$BG$5 -> 0 | N14: ='様式D-3_S04'!$BH$5 -> 0 | O14: ='様式D-3_S04'!$BI$5 -> 0 | P14: ='様式D-3_S04'!$BJ$5 -> 0 | Q14: ='様式D-3_S04'!$BK$5 -> 0 | R14: ='様式D-3_S04'!$BL$5 -> 0 | S14: ='様式D-3_S04'!$BM$5 -> 0 | T14: ='様式D-3_S04'!$BN$5 -> 0 | U14: ='様式D-3_S04'!$BO$5 -> 2 | V14: ='様式D-3_S04'!$BP$5 -> 0 | W14: ='様式D-3_S04'!$BQ$5 -> 0 | X14: ='様式D-3_S04'!$BR$5 -> 0 | Y14: ='様式D-3_S04'!$BS$5 -> Ⅰ | Z14: ='様式D-3_S04'!$BT$5 -> Ⅱ | AA14: ='様式D-3_S04'!$BU$5 -> Ⅰ | AB14: ='様式D-3_S04'!$BV$5 -> Ⅱ | AC14: ='様式D-3_S04'!$BW$5 | AD14: ='様式D-3_S04'!$BX$5 | AE14: ='様式D-3_S04'!$BY$5 | AF14: ='様式D-3_S04'!$BZ$5 | AG14: ='様式D-3_S04'!$CA$5 -> 0 | AH14: ='様式D-3_S04'!$CB$5 -> 0 | AI14: ='様式D-3_S04'!$CC$5 -> 0.01 | AJ14: ='様式D-3_S04'!$CD$5 -> 0.02 | AK14: ='様式D-3_S04'!$CE$5 -> 0 | AL14: ='様式D-3_S04'!$CF$5 -> 0 | AM14: ='様式D-3_S04'!$CG$5 -> 0 | AN14: ='様式D-3_S04'!$CH$5 -> 0 | AT14: =IF(AB14="Ⅳ",4,IF(AB14="Ⅲ",3,IF(AB14="Ⅱ",2,1))) -> 2
B15: ='様式D-3_S05'!$AV$5 -> 5 | C15: ='様式D-3_S05'!$AW$5 -> 10.4 | D15: ='様式D-3_S05'!$AX$5 -> 0 | E15: ='様式D-3_S05'!$AY$5 -> 0 | F15: ='様式D-3_S05'!$AZ$5 -> 0 | G15: ='様式D-3_S05'!$BA$5 -> 0 | H15: ='様式D-3_S05'!$BB$5 -> 0 | I15: ='様式D-3_S05'!$BC$5 -> 0 | J15: ='様式D-3_S05'!$BD$5 -> 0 | K15: ='様式D-3_S05'!$BE$5 -> 0 | L15: ='様式D-3_S05'!$BF$5 -> 0 | M15: ='様式D-3_S05'!$BG$5 -> 0 | N15: ='様式D-3_S05'!$BH$5 -> 0 | O15: ='様式D-3_S05'!$BI$5 -> 0 | P15: ='様式D-3_S05'!$BJ$5 -> 0 | Q15: ='様式D-3_S05'!$BK$5 -> 0 | R15: ='様式D-3_S05'!$BL$5 -> 0 | S15: ='様式D-3_S05'!$BM$5 -> 0 | T15: ='様式D-3_S05'!$BN$5 -> 0 | U15: ='様式D-3_S05'!$BO$5 -> 0 | V15: ='様式D-3_S05'!$BP$5 -> 0 | W15: ='様式D-3_S05'!$BQ$5 -> 0 | X15: ='様式D-3_S05'!$BR$5 -> 0 | Y15: ='様式D-3_S05'!$BS$5 -> Ⅰ | Z15: ='様式D-3_S05'!$BT$5 -> Ⅰ | AA15: ='様式D-3_S05'!$BU$5 -> Ⅰ | AB15: ='様式D-3_S05'!$BV$5 -> Ⅰ | AC15: ='様式D-3_S05'!$BW$5 | AD15: ='様式D-3_S05'!$BX$5 | AE15: ='様式D-3_S05'!$BY$5 | AF15: ='様式D-3_S05'!$BZ$5 | AG15: ='様式D-3_S05'!$CA$5 -> 0 | AH15: ='様式D-3_S05'!$CB$5 -> 0 | AI15: ='様式D-3_S05'!$CC$5 -> 0 | AJ15: ='様式D-3_S05'!$CD$5 -> 0 | AK15: ='様式D-3_S05'!$CE$5 -> 0 | AL15: ='様式D-3_S05'!$CF$5 -> 0 | AM15: ='様式D-3_S05'!$CG$5 -> 0 | AN15: ='様式D-3_S05'!$CH$5 -> 0 | AT15: =IF(AB15="Ⅳ",4,IF(AB15="Ⅲ",3,IF(AB15="Ⅱ",2,1))) -> 1
B16: ='様式D-3_S06'!$AV$5 -> 6 | C16: ='様式D-3_S06'!$AW$5 -> 10.3 | D16: ='様式D-3_S06'!$AX$5 -> 0 | E16: ='様式D-3_S06'!$AY$5 -> 0 | F16: ='様式D-3_S06'!$AZ$5 -> 0 | G16: ='様式D-3_S06'!$BA$5 -> 0 | H16: ='様式D-3_S06'!$BB$5 -> 0 | I16: ='様式D-3_S06'!$BC$5 -> 0 | J16: ='様式D-3_S06'!$BD$5 -> 0 | K16: ='様式D-3_S06'!$BE$5 -> 0 | L16: ='様式D-3_S06'!$BF$5 -> 0 | M16: ='様式D-3_S06'!$BG$5 -> 0 | N16: ='様式D-3_S06'!$BH$5 -> 0 | O16: ='様式D-3_S06'!$BI$5 -> 0 | P16: ='様式D-3_S06'!$BJ$5 -> 0 | Q16: ='様式D-3_S06'!$BK$5 -> 0 | R16: ='様式D-3_S06'!$BL$5 -> 0 | S16: ='様式D-3_S06'!$BM$5 -> 0 | T16: ='様式D-3_S06'!$BN$5 -> 0 | U16: ='様式D-3_S06'!$BO$5 -> 0 | V16: ='様式D-3_S06'!$BP$5 -> 0 | W16: ='様式D-3_S06'!$BQ$5 -> 0 | X16: ='様式D-3_S06'!$BR$5 -> 0 | Y16: ='様式D-3_S06'!$BS$5 -> Ⅰ | Z16: ='様式D-3_S06'!$BT$5 -> Ⅰ | AA16: ='様式D-3_S06'!$BU$5 -> Ⅰ | AB16: ='様式D-3_S06'!$BV$5 -> Ⅰ | AC16: ='様式D-3_S06'!$BW$5 | AD16: ='様式D-3_S06'!$BX$5 | AE16: ='様式D-3_S06'!$BY$5 | AF16: ='様式D-3_S06'!$BZ$5 | AG16: ='様式D-3_S06'!$CA$5 -> 0 | AH16: ='様式D-3_S06'!$CB$5 -> 0 | AI16: ='様式D-3_S06'!$CC$5 -> 0 | AJ16: ='様式D-3_S06'!$CD$5 -> 0 | AK16: ='様式D-3_S06'!$CE$5 -> 0 | AL16: ='様式D-3_S06'!$CF$5 -> 0 | AM16: ='様式D-3_S06'!$CG$5 -> 0 | AN16: ='様式D-3_S06'!$CH$5 -> 0 | AT16: =IF(AB16="Ⅳ",4,IF(AB16="Ⅲ",3,IF(AB16="Ⅱ",2,1))) -> 1
B17: ='様式D-3_S07'!$AV$5 -> 7 | C17: ='様式D-3_S07'!$AW$5 -> 10.3 | D17: ='様式D-3_S07'!$AX$5 -> 0 | E17: ='様式D-3_S07'!$AY$5 -> 0 | F17: ='様式D-3_S07'!$AZ$5 -> 0 | G17: ='様式D-3_S07'!$BA$5 -> 0 | H17: ='様式D-3_S07'!$BB$5 -> 0 | I17: ='様式D-3_S07'!$BC$5 -> 0 | J17: ='様式D-3_S07'!$BD$5 -> 0 | K17: ='様式D-3_S07'!$BE$5 -> 0 | L17: ='様式D-3_S07'!$BF$5 -> 0 | M17: ='様式D-3_S07'!$BG$5 -> 0 | N17: ='様式D-3_S07'!$BH$5 -> 0 | O17: ='様式D-3_S07'!$BI$5 -> 0 | P17: ='様式D-3_S07'!$BJ$5 -> 0 | Q17: ='様式D-3_S07'!$BK$5 -> 0 | R17: ='様式D-3_S07'!$BL$5 -> 0 | S17: ='様式D-3_S07'!$BM$5 -> 0 | T17: ='様式D-3_S07'!$BN$5 -> 0 | U17: ='様式D-3_S07'!$BO$5 -> 0 | V17: ='様式D-3_S07'!$BP$5 -> 0 | W17: ='様式D-3_S07'!$BQ$5 -> 0 | X17: ='様式D-3_S07'!$BR$5 -> 0 | Y17: ='様式D-3_S07'!$BS$5 -> Ⅰ | Z17: ='様式D-3_S07'!$BT$5 -> Ⅰ | AA17: ='様式D-3_S07'!$BU$5 -> Ⅰ | AB17: ='様式D-3_S07'!$BV$5 -> Ⅰ | AC17: ='様式D-3_S07'!$BW$5 | AD17: ='様式D-3_S07'!$BX$5 | AE17: ='様式D-3_S07'!$BY$5 | AF17: ='様式D-3_S07'!$BZ$5 | AG17: ='様式D-3_S07'!$CA$5 -> 0 | AH17: ='様式D-3_S07'!$CB$5 -> 0 | AI17: ='様式D-3_S07'!$CC$5 -> 0 | AJ17: ='様式D-3_S07'!$CD$5 -> 0 | AK17: ='様式D-3_S07'!$CE$5 -> 0 | AL17: ='様式D-3_S07'!$CF$5 -> 0 | AM17: ='様式D-3_S07'!$CG$5 -> 0 | AN17: ='様式D-3_S07'!$CH$5 -> 0 | AT17: =IF(AB17="Ⅳ",4,IF(AB17="Ⅲ",3,IF(AB17="Ⅱ",2,1))) -> 1
B18: ='様式D-3_S08'!$AV$5 -> 8 | C18: ='様式D-3_S08'!$AW$5 -> 10.3 | D18: ='様式D-3_S08'!$AX$5 -> 0 | E18: ='様式D-3_S08'!$AY$5 -> 0 | F18: ='様式D-3_S08'!$AZ$5 -> 0 | G18: ='様式D-3_S08'!$BA$5 -> 0 | H18: ='様式D-3_S08'!$BB$5 -> 0 | I18: ='様式D-3_S08'!$BC$5 -> 0 | J18: ='様式D-3_S08'!$BD$5 -> 0 | K18: ='様式D-3_S08'!$BE$5 -> 0 | L18: ='様式D-3_S08'!$BF$5 -> 0 | M18: ='様式D-3_S08'!$BG$5 -> 0 | N18: ='様式D-3_S08'!$BH$5 -> 0 | O18: ='様式D-3_S08'!$BI$5 -> 0 | P18: ='様式D-3_S08'!$BJ$5 -> 0 | Q18: ='様式D-3_S08'!$BK$5 -> 0 | R18: ='様式D-3_S08'!$BL$5 -> 0 | S18: ='様式D-3_S08'!$BM$5 -> 0 | T18: ='様式D-3_S08'!$BN$5 -> 0 | U18: ='様式D-3_S08'!$BO$5 -> 0 | V18: ='様式D-3_S08'!$BP$5 -> 0 | W18: ='様式D-3_S08'!$BQ$5 -> 0 | X18: ='様式D-3_S08'!$BR$5 -> 0 | Y18: ='様式D-3_S08'!$BS$5 -> Ⅰ | Z18: ='様式D-3_S08'!$BT$5 -> Ⅰ | AA18: ='様式D-3_S08'!$BU$5 -> Ⅰ | AB18: ='様式D-3_S08'!$BV$5 -> Ⅰ | AC18: ='様式D-3_S08'!$BW$5 | AD18: ='様式D-3_S08'!$BX$5 | AE18: ='様式D-3_S08'!$BY$5 | AF18: ='様式D-3_S08'!$BZ$5 | AG18: ='様式D-3_S08'!$CA$5 -> 0 | AH18: ='様式D-3_S08'!$CB$5 -> 0 | AI18: ='様式D-3_S08'!$CC$5 -> 0 | AJ18: ='様式D-3_S08'!$CD$5 -> 0 | AK18: ='様式D-3_S08'!$CE$5 -> 0 | AL18: ='様式D-3_S08'!$CF$5 -> 0 | AM18: ='様式D-3_S08'!$CG$5 -> 0 | AN18: ='様式D-3_S08'!$CH$5 -> 0 | AT18: =IF(AB18="Ⅳ",4,IF(AB18="Ⅲ",3,IF(AB18="Ⅱ",2,1))) -> 1
B19: ='様式D-3_S09'!$AV$5 -> 9 | C19: ='様式D-3_S09'!$AW$5 -> 10.3 | D19: ='様式D-3_S09'!$AX$5 -> 0 | E19: ='様式D-3_S09'!$AY$5 -> 0 | F19: ='様式D-3_S09'!$AZ$5 -> 0 | G19: ='様式D-3_S09'!$BA$5 -> 0 | H19: ='様式D-3_S09'!$BB$5 -> 0 | I19: ='様式D-3_S09'!$BC$5 -> 0 | J19: ='様式D-3_S09'!$BD$5 -> 0 | K19: ='様式D-3_S09'!$BE$5 -> 0 | L19: ='様式D-3_S09'!$BF$5 -> 0 | M19: ='様式D-3_S09'!$BG$5 -> 0 | N19: ='様式D-3_S09'!$BH$5 -> 0 | O19: ='様式D-3_S09'!$BI$5 -> 0 | P19: ='様式D-3_S09'!$BJ$5 -> 0 | Q19: ='様式D-3_S09'!$BK$5 -> 0 | R19: ='様式D-3_S09'!$BL$5 -> 0 | S19: ='様式D-3_S09'!$BM$5 -> 0 | T19: ='様式D-3_S09'!$BN$5 -> 0 | U19: ='様式D-3_S09'!$BO$5 -> 0 | V19: ='様式D-3_S09'!$BP$5 -> 0 | W19: ='様式D-3_S09'!$BQ$5 -> 0 | X19: ='様式D-3_S09'!$BR$5 -> 0 | Y19: ='様式D-3_S09'!$BS$5 -> Ⅰ | Z19: ='様式D-3_S09'!$BT$5 -> Ⅰ | AA19: ='様式D-3_S09'!$BU$5 -> Ⅰ | AB19: ='様式D-3_S09'!$BV$5 -> Ⅰ | AC19: ='様式D-3_S09'!$BW$5 | AD19: ='様式D-3_S09'!$BX$5 | AE19: ='様式D-3_S09'!$BY$5 | AF19: ='様式D-3_S09'!$BZ$5 | AG19: ='様式D-3_S09'!$CA$5 -> 0 | AH19: ='様式D-3_S09'!$CB$5 -> 0 | AI19: ='様式D-3_S09'!$CC$5 -> 0 | AJ19: ='様式D-3_S09'!$CD$5 -> 0 | AK19: ='様式D-3_S09'!$CE$5 -> 0 | AL19: ='様式D-3_S09'!$CF$5 -> 0 | AM19: ='様式D-3_S09'!$CG$5 -> 0 | AN19: ='様式D-3_S09'!$CH$5 -> 0 | AT19: =IF(AB19="Ⅳ",4,IF(AB19="Ⅲ",3,IF(AB19="Ⅱ",2,1))) -> 1
B20: ='様式D-3_S10'!$AV$5 -> 10 | C20: ='様式D-3_S10'!$AW$5 -> 10.3 | D20: ='様式D-3_S10'!$AX$5 -> 0 | E20: ='様式D-3_S10'!$AY$5 -> 0 | F20: ='様式D-3_S10'!$AZ$5 -> 0 | G20: ='様式D-3_S10'!$BA$5 -> 0 | H20: ='様式D-3_S10'!$BB$5 -> 0 | I20: ='様式D-3_S10'!$BC$5 -> 0 | J20: ='様式D-3_S10'!$BD$5 -> 0 | K20: ='様式D-3_S10'!$BE$5 -> 0 | L20: ='様式D-3_S10'!$BF$5 -> 0 | M20: ='様式D-3_S10'!$BG$5 -> 0 | N20: ='様式D-3_S10'!$BH$5 -> 0 | O20: ='様式D-3_S10'!$BI$5 -> 0 | P20: ='様式D-3_S10'!$BJ$5 -> 0 | Q20: ='様式D-3_S10'!$BK$5 -> 0 | R20: ='様式D-3_S10'!$BL$5 -> 0 | S20: ='様式D-3_S10'!$BM$5 -> 0 | T20: ='様式D-3_S10'!$BN$5 -> 0 | U20: ='様式D-3_S10'!$BO$5 -> 0 | V20: ='様式D-3_S10'!$BP$5 -> 0 | W20: ='様式D-3_S10'!$BQ$5 -> 0 | X20: ='様式D-3_S10'!$BR$5 -> 0 | Y20: ='様式D-3_S10'!$BS$5 -> Ⅰ | Z20: ='様式D-3_S10'!$BT$5 -> Ⅰ | AA20: ='様式D-3_S10'!$BU$5 -> Ⅰ | AB20: ='様式D-3_S10'!$BV$5 -> Ⅰ | AC20: ='様式D-3_S10'!$BW$5 | AD20: ='様式D-3_S10'!$BX$5 | AE20: ='様式D-3_S10'!$BY$5 | AF20: ='様式D-3_S10'!$BZ$5 | AG20: ='様式D-3_S10'!$CA$5 -> 0 | AH20: ='様式D-3_S10'!$CB$5 -> 0 | AI20: ='様式D-3_S10'!$CC$5 -> 0 | AJ20: ='様式D-3_S10'!$CD$5 -> 0 | AK20: ='様式D-3_S10'!$CE$5 -> 0 | AL20: ='様式D-3_S10'!$CF$5 -> 0 | AM20: ='様式D-3_S10'!$CG$5 -> 0 | AN20: ='様式D-3_S10'!$CH$5 -> 0 | AT20: =IF(AB20="Ⅳ",4,IF(AB20="Ⅲ",3,IF(AB20="Ⅱ",2,1))) -> 1
B21: ='様式D-3_S11'!$AV$5 -> 11 | C21: ='様式D-3_S11'!$AW$5 -> 10.3 | D21: ='様式D-3_S11'!$AX$5 -> 0 | E21: ='様式D-3_S11'!$AY$5 -> 0 | F21: ='様式D-3_S11'!$AZ$5 -> 0 | G21: ='様式D-3_S11'!$BA$5 -> 0 | H21: ='様式D-3_S11'!$BB$5 -> 0 | I21: ='様式D-3_S11'!$BC$5 -> 0 | J21: ='様式D-3_S11'!$BD$5 -> 0 | K21: ='様式D-3_S11'!$BE$5 -> 0 | L21: ='様式D-3_S11'!$BF$5 -> 0 | M21: ='様式D-3_S11'!$BG$5 -> 0 | N21: ='様式D-3_S11'!$BH$5 -> 0 | O21: ='様式D-3_S11'!$BI$5 -> 0 | P21: ='様式D-3_S11'!$BJ$5 -> 0 | Q21: ='様式D-3_S11'!$BK$5 -> 0 | R21: ='様式D-3_S11'!$BL$5 -> 0 | S21: ='様式D-3_S11'!$BM$5 -> 0 | T21: ='様式D-3_S11'!$BN$5 -> 0 | U21: ='様式D-3_S11'!$BO$5 -> 0 | V21: ='様式D-3_S11'!$BP$5 -> 0 | W21: ='様式D-3_S11'!$BQ$5 -> 0 | X21: ='様式D-3_S11'!$BR$5 -> 0 | Y21: ='様式D-3_S11'!$BS$5 -> Ⅰ | Z21: ='様式D-3_S11'!$BT$5 -> Ⅰ | AA21: ='様式D-3_S11'!$BU$5 -> Ⅰ | AB21: ='様式D-3_S11'!$BV$5 -> Ⅰ | AC21: ='様式D-3_S11'!$BW$5 | AD21: ='様式D-3_S11'!$BX$5 | AE21: ='様式D-3_S11'!$BY$5 | AF21: ='様式D-3_S11'!$BZ$5 | AG21: ='様式D-3_S11'!$CA$5 -> 0 | AH21: ='様式D-3_S11'!$CB$5 -> 0 | AI21: ='様式D-3_S11'!$CC$5 -> 0 | AJ21: ='様式D-3_S11'!$CD$5 -> 0 | AK21: ='様式D-3_S11'!$CE$5 -> 0 | AL21: ='様式D-3_S11'!$CF$5 -> 0 | AM21: ='様式D-3_S11'!$CG$5 -> 0 | AN21: ='様式D-3_S11'!$CH$5 -> 0 | AT21: =IF(AB21="Ⅳ",4,IF(AB21="Ⅲ",3,IF(AB21="Ⅱ",2,1))) -> 1
B22: ='様式D-3_S12'!$AV$5 -> 12 | C22: ='様式D-3_S12'!$AW$5 -> 10.3 | D22: ='様式D-3_S12'!$AX$5 -> 0 | E22: ='様式D-3_S12'!$AY$5 -> 0 | F22: ='様式D-3_S12'!$AZ$5 -> 0 | G22: ='様式D-3_S12'!$BA$5 -> 0 | H22: ='様式D-3_S12'!$BB$5 -> 0 | I22: ='様式D-3_S12'!$BC$5 -> 0 | J22: ='様式D-3_S12'!$BD$5 -> 0 | K22: ='様式D-3_S12'!$BE$5 -> 1 | L22: ='様式D-3_S12'!$BF$5 -> 0 | M22: ='様式D-3_S12'!$BG$5 -> 0 | N22: ='様式D-3_S12'!$BH$5 -> 0 | O22: ='様式D-3_S12'!$BI$5 -> 0 | P22: ='様式D-3_S12'!$BJ$5 -> 0 | Q22: ='様式D-3_S12'!$BK$5 -> 0 | R22: ='様式D-3_S12'!$BL$5 -> 0 | S22: ='様式D-3_S12'!$BM$5 -> 0 | T22: ='様式D-3_S12'!$BN$5 -> 0 | U22: ='様式D-3_S12'!$BO$5 -> 1 | V22: ='様式D-3_S12'!$BP$5 -> 0 | W22: ='様式D-3_S12'!$BQ$5 -> 0 | X22: ='様式D-3_S12'!$BR$5 -> 0 | Y22: ='様式D-3_S12'!$BS$5 -> Ⅰ | Z22: ='様式D-3_S12'!$BT$5 -> Ⅱ | AA22: ='様式D-3_S12'!$BU$5 -> Ⅰ | AB22: ='様式D-3_S12'!$BV$5 -> Ⅱ | AC22: ='様式D-3_S12'!$BW$5 | AD22: ='様式D-3_S12'!$BX$5 | AE22: ='様式D-3_S12'!$BY$5 | AF22: ='様式D-3_S12'!$BZ$5 | AG22: ='様式D-3_S12'!$CA$5 -> 0 | AH22: ='様式D-3_S12'!$CB$5 -> 0 | AI22: ='様式D-3_S12'!$CC$5 -> 0 | AJ22: ='様式D-3_S12'!$CD$5 -> 0.02 | AK22: ='様式D-3_S12'!$CE$5 -> 0 | AL22: ='様式D-3_S12'!$CF$5 -> 0 | AM22: ='様式D-3_S12'!$CG$5 -> 0 | AN22: ='様式D-3_S12'!$CH$5 -> 0 | AT22: =IF(AB22="Ⅳ",4,IF(AB22="Ⅲ",3,IF(AB22="Ⅱ",2,1))) -> 2
B23: ='様式D-3_S13'!$AV$5 -> 13 | C23: ='様式D-3_S13'!$AW$5 -> 10.3 | D23: ='様式D-3_S13'!$AX$5 -> 0 | E23: ='様式D-3_S13'!$AY$5 -> 0 | F23: ='様式D-3_S13'!$AZ$5 -> 0 | G23: ='様式D-3_S13'!$BA$5 -> 0 | H23: ='様式D-3_S13'!$BB$5 -> 0 | I23: ='様式D-3_S13'!$BC$5 -> 0 | J23: ='様式D-3_S13'!$BD$5 -> 0 | K23: ='様式D-3_S13'!$BE$5 -> 0 | L23: ='様式D-3_S13'!$BF$5 -> 0 | M23: ='様式D-3_S13'!$BG$5 -> 0 | N23: ='様式D-3_S13'!$BH$5 -> 0 | O23: ='様式D-3_S13'!$BI$5 -> 0 | P23: ='様式D-3_S13'!$BJ$5 -> 0 | Q23: ='様式D-3_S13'!$BK$5 -> 0 | R23: ='様式D-3_S13'!$BL$5 -> 0 | S23: ='様式D-3_S13'!$BM$5 -> 0 | T23: ='様式D-3_S13'!$BN$5 -> 0 | U23: ='様式D-3_S13'!$BO$5 -> 0 | V23: ='様式D-3_S13'!$BP$5 -> 0 | W23: ='様式D-3_S13'!$BQ$5 -> 0 | X23: ='様式D-3_S13'!$BR$5 -> 0 | Y23: ='様式D-3_S13'!$BS$5 -> Ⅰ | Z23: ='様式D-3_S13'!$BT$5 -> Ⅰ | AA23: ='様式D-3_S13'!$BU$5 -> Ⅰ | AB23: ='様式D-3_S13'!$BV$5 -> Ⅰ | AC23: ='様式D-3_S13'!$BW$5 | AD23: ='様式D-3_S13'!$BX$5 | AE23: ='様式D-3_S13'!$BY$5 | AF23: ='様式D-3_S13'!$BZ$5 | AG23: ='様式D-3_S13'!$CA$5 -> 0 | AH23: ='様式D-3_S13'!$CB$5 -> 0 | AI23: ='様式D-3_S13'!$CC$5 -> 0 | AJ23: ='様式D-3_S13'!$CD$5 -> 0 | AK23: ='様式D-3_S13'!$CE$5 -> 0 | AL23: ='様式D-3_S13'!$CF$5 -> 0 | AM23: ='様式D-3_S13'!$CG$5 -> 0 | AN23: ='様式D-3_S13'!$CH$5 -> 0 | AT23: =IF(AB23="Ⅳ",4,IF(AB23="Ⅲ",3,IF(AB23="Ⅱ",2,1))) -> 1
B24: ='様式D-3_S14'!$AV$5 -> 14 | C24: ='様式D-3_S14'!$AW$5 -> 10.3 | D24: ='様式D-3_S14'!$AX$5 -> 0 | E24: ='様式D-3_S14'!$AY$5 -> 0 | F24: ='様式D-3_S14'!$AZ$5 -> 0 | G24: ='様式D-3_S14'!$BA$5 -> 0 | H24: ='様式D-3_S14'!$BB$5 -> 0 | I24: ='様式D-3_S14'!$BC$5 -> 0 | J24: ='様式D-3_S14'!$BD$5 -> 0 | K24: ='様式D-3_S14'!$BE$5 -> 1 | L24: ='様式D-3_S14'!$BF$5 -> 0 | M24: ='様式D-3_S14'!$BG$5 -> 0 | N24: ='様式D-3_S14'!$BH$5 -> 0 | O24: ='様式D-3_S14'!$BI$5 -> 0 | P24: ='様式D-3_S14'!$BJ$5 -> 0 | Q24: ='様式D-3_S14'!$BK$5 -> 0 | R24: ='様式D-3_S14'!$BL$5 -> 0 | S24: ='様式D-3_S14'!$BM$5 -> 0 | T24: ='様式D-3_S14'!$BN$5 -> 0 | U24: ='様式D-3_S14'!$BO$5 -> 1 | V24: ='様式D-3_S14'!$BP$5 -> 0 | W24: ='様式D-3_S14'!$BQ$5 -> 0 | X24: ='様式D-3_S14'!$BR$5 -> 0 | Y24: ='様式D-3_S14'!$BS$5 -> Ⅰ | Z24: ='様式D-3_S14'!$BT$5 -> Ⅱ | AA24: ='様式D-3_S14'!$BU$5 -> Ⅰ | AB24: ='様式D-3_S14'!$BV$5 -> Ⅱ | AC24: ='様式D-3_S14'!$BW$5 | AD24: ='様式D-3_S14'!$BX$5 | AE24: ='様式D-3_S14'!$BY$5 | AF24: ='様式D-3_S14'!$BZ$5 | AG24: ='様式D-3_S14'!$CA$5 -> 0 | AH24: ='様式D-3_S14'!$CB$5 -> 0 | AI24: ='様式D-3_S14'!$CC$5 -> 0 | AJ24: ='様式D-3_S14'!$CD$5 -> 0.01 | AK24: ='様式D-3_S14'!$CE$5 -> 0 | AL24: ='様式D-3_S14'!$CF$5 -> 0 | AM24: ='様式D-3_S14'!$CG$5 -> 0 | AN24: ='様式D-3_S14'!$CH$5 -> 0 | AT24: =IF(AB24="Ⅳ",4,IF(AB24="Ⅲ",3,IF(AB24="Ⅱ",2,1))) -> 2
B25: ='様式D-3_S15'!$AV$5 -> 15 | C25: ='様式D-3_S15'!$AW$5 -> 10.3 | D25: ='様式D-3_S15'!$AX$5 -> 0 | E25: ='様式D-3_S15'!$AY$5 -> 0 | F25: ='様式D-3_S15'!$AZ$5 -> 0 | G25: ='様式D-3_S15'!$BA$5 -> 0 | H25: ='様式D-3_S15'!$BB$5 -> 0 | I25: ='様式D-3_S15'!$BC$5 -> 0 | J25: ='様式D-3_S15'!$BD$5 -> 0 | K25: ='様式D-3_S15'!$BE$5 -> 1 | L25: ='様式D-3_S15'!$BF$5 -> 0 | M25: ='様式D-3_S15'!$BG$5 -> 0 | N25: ='様式D-3_S15'!$BH$5 -> 0 | O25: ='様式D-3_S15'!$BI$5 -> 0 | P25: ='様式D-3_S15'!$BJ$5 -> 0 | Q25: ='様式D-3_S15'!$BK$5 -> 0 | R25: ='様式D-3_S15'!$BL$5 -> 0 | S25: ='様式D-3_S15'!$BM$5 -> 0 | T25: ='様式D-3_S15'!$BN$5 -> 0 | U25: ='様式D-3_S15'!$BO$5 -> 1 | V25: ='様式D-3_S15'!$BP$5 -> 0 | W25: ='様式D-3_S15'!$BQ$5 -> 0 | X25: ='様式D-3_S15'!$BR$5 -> 0 | Y25: ='様式D-3_S15'!$BS$5 -> Ⅰ | Z25: ='様式D-3_S15'!$BT$5 -> Ⅱ | AA25: ='様式D-3_S15'!$BU$5 -> Ⅰ | AB25: ='様式D-3_S15'!$BV$5 -> Ⅱ | AC25: ='様式D-3_S15'!$BW$5 | AD25: ='様式D-3_S15'!$BX$5 | AE25: ='様式D-3_S15'!$BY$5 | AF25: ='様式D-3_S15'!$BZ$5 | AG25: ='様式D-3_S15'!$CA$5 -> 0 | AH25: ='様式D-3_S15'!$CB$5 -> 0 | AI25: ='様式D-3_S15'!$CC$5 -> 0 | AJ25: ='様式D-3_S15'!$CD$5 -> 0.03 | AK25: ='様式D-3_S15'!$CE$5 -> 0 | AL25: ='様式D-3_S15'!$CF$5 -> 0 | AM25: ='様式D-3_S15'!$CG$5 -> 0 | AN25: ='様式D-3_S15'!$CH$5 -> 0 | AT25: =IF(AB25="Ⅳ",4,IF(AB25="Ⅲ",3,IF(AB25="Ⅱ",2,1))) -> 2
B26: ='様式D-3_S16'!$AV$5 -> 16 | C26: ='様式D-3_S16'!$AW$5 -> 10.5 | D26: ='様式D-3_S16'!$AX$5 -> 0 | E26: ='様式D-3_S16'!$AY$5 -> 0 | F26: ='様式D-3_S16'!$AZ$5 -> 0 | G26: ='様式D-3_S16'!$BA$5 -> 0 | H26: ='様式D-3_S16'!$BB$5 -> 0 | I26: ='様式D-3_S16'!$BC$5 -> 0 | J26: ='様式D-3_S16'!$BD$5 -> 0 | K26: ='様式D-3_S16'!$BE$5 -> 2 | L26: ='様式D-3_S16'!$BF$5 -> 0 | M26: ='様式D-3_S16'!$BG$5 -> 0 | N26: ='様式D-3_S16'!$BH$5 -> 0 | O26: ='様式D-3_S16'!$BI$5 -> 0 | P26: ='様式D-3_S16'!$BJ$5 -> 0 | Q26: ='様式D-3_S16'!$BK$5 -> 0 | R26: ='様式D-3_S16'!$BL$5 -> 0 | S26: ='様式D-3_S16'!$BM$5 -> 0 | T26: ='様式D-3_S16'!$BN$5 -> 0 | U26: ='様式D-3_S16'!$BO$5 -> 2 | V26: ='様式D-3_S16'!$BP$5 -> 0 | W26: ='様式D-3_S16'!$BQ$5 -> 0 | X26: ='様式D-3_S16'!$BR$5 -> 0 | Y26: ='様式D-3_S16'!$BS$5 -> Ⅰ | Z26: ='様式D-3_S16'!$BT$5 -> Ⅱ | AA26: ='様式D-3_S16'!$BU$5 -> Ⅰ | AB26: ='様式D-3_S16'!$BV$5 -> Ⅱ | AC26: ='様式D-3_S16'!$BW$5 | AD26: ='様式D-3_S16'!$BX$5 | AE26: ='様式D-3_S16'!$BY$5 | AF26: ='様式D-3_S16'!$BZ$5 | AG26: ='様式D-3_S16'!$CA$5 -> 0 | AH26: ='様式D-3_S16'!$CB$5 -> 0 | AI26: ='様式D-3_S16'!$CC$5 -> 0 | AJ26: ='様式D-3_S16'!$CD$5 -> 0.05 | AK26: ='様式D-3_S16'!$CE$5 -> 0 | AL26: ='様式D-3_S16'!$CF$5 -> 0 | AM26: ='様式D-3_S16'!$CG$5 -> 0 | AN26: ='様式D-3_S16'!$CH$5 -> 0 | AT26: =IF(AB26="Ⅳ",4,IF(AB26="Ⅲ",3,IF(AB26="Ⅱ",2,1))) -> 2
B27: ='様式D-3_S17'!$AV$5 -> 17 | C27: ='様式D-3_S17'!$AW$5 -> 5.1 | D27: ='様式D-3_S17'!$AX$5 -> 0 | E27: ='様式D-3_S17'!$AY$5 -> 0 | F27: ='様式D-3_S17'!$AZ$5 -> 0 | G27: ='様式D-3_S17'!$BA$5 -> 0 | H27: ='様式D-3_S17'!$BB$5 -> 0 | I27: ='様式D-3_S17'!$BC$5 -> 0 | J27: ='様式D-3_S17'!$BD$5 -> 0 | K27: ='様式D-3_S17'!$BE$5 -> 0 | L27: ='様式D-3_S17'!$BF$5 -> 0 | M27: ='様式D-3_S17'!$BG$5 -> 0 | N27: ='様式D-3_S17'!$BH$5 -> 0 | O27: ='様式D-3_S17'!$BI$5 -> 0 | P27: ='様式D-3_S17'!$BJ$5 -> 0 | Q27: ='様式D-3_S17'!$BK$5 -> 0 | R27: ='様式D-3_S17'!$BL$5 -> 0 | S27: ='様式D-3_S17'!$BM$5 -> 0 | T27: ='様式D-3_S17'!$BN$5 -> 0 | U27: ='様式D-3_S17'!$BO$5 -> 0 | V27: ='様式D-3_S17'!$BP$5 -> 0 | W27: ='様式D-3_S17'!$BQ$5 -> 0 | X27: ='様式D-3_S17'!$BR$5 -> 0 | Y27: ='様式D-3_S17'!$BS$5 -> Ⅰ | Z27: ='様式D-3_S17'!$BT$5 -> Ⅰ | AA27: ='様式D-3_S17'!$BU$5 -> Ⅰ | AB27: ='様式D-3_S17'!$BV$5 -> Ⅰ | AC27: ='様式D-3_S17'!$BW$5 | AD27: ='様式D-3_S17'!$BX$5 | AE27: ='様式D-3_S17'!$BY$5 | AF27: ='様式D-3_S17'!$BZ$5 | AG27: ='様式D-3_S17'!$CA$5 -> 0 | AH27: ='様式D-3_S17'!$CB$5 -> 0 | AI27: ='様式D-3_S17'!$CC$5 -> 0 | AJ27: ='様式D-3_S17'!$CD$5 -> 0 | AK27: ='様式D-3_S17'!$CE$5 -> 0 | AL27: ='様式D-3_S17'!$CF$5 -> 0 | AM27: ='様式D-3_S17'!$CG$5 -> 0 | AN27: ='様式D-3_S17'!$CH$5 -> 0 | AT27: =IF(AB27="Ⅳ",4,IF(AB27="Ⅲ",3,IF(AB27="Ⅱ",2,1))) -> 1
B28: ='様式D-3_PE'!$AV$5 -> PE | C28: ='様式D-3_PE'!$AW$5 -> 0 | D28: ='様式D-3_PE'!$AX$5 -> 0 | E28: ='様式D-3_PE'!$AY$5 -> 0 | F28: ='様式D-3_PE'!$AZ$5 -> 0 | G28: ='様式D-3_PE'!$BA$5 -> 0 | H28: ='様式D-3_PE'!$BB$5 -> 0 | I28: ='様式D-3_PE'!$BC$5 -> 0 | J28: ='様式D-3_PE'!$BD$5 -> 0 | K28: ='様式D-3_PE'!$BE$5 -> 1 | L28: ='様式D-3_PE'!$BF$5 -> 0 | M28: ='様式D-3_PE'!$BG$5 -> 0 | N28: ='様式D-3_PE'!$BH$5 -> 0 | O28: ='様式D-3_PE'!$BI$5 -> 0 | P28: ='様式D-3_PE'!$BJ$5 -> 0 | Q28: ='様式D-3_PE'!$BK$5 -> 0 | R28: ='様式D-3_PE'!$BL$5 -> 0 | S28: ='様式D-3_PE'!$BM$5 -> 0 | T28: ='様式D-3_PE'!$BN$5 -> 0 | U28: ='様式D-3_PE'!$BO$5 -> 1 | V28: ='様式D-3_PE'!$BP$5 -> 0 | W28: ='様式D-3_PE'!$BQ$5 -> 0 | X28: ='様式D-3_PE'!$BR$5 -> 0 | Y28: ='様式D-3_PE'!$BS$5 -> Ⅰ | Z28: ='様式D-3_PE'!$BT$5 -> Ⅱ | AA28: ='様式D-3_PE'!$BU$5 -> Ⅰ | AB28: ='様式D-3_PE'!$BV$5 -> Ⅱ | AC28: ='様式D-3_PE'!$BW$5 | AD28: ='様式D-3_PE'!$BX$5 | AE28: ='様式D-3_PE'!$BY$5 | AF28: ='様式D-3_PE'!$BZ$5 | AG28: ='様式D-3_PE'!$CA$5 -> 0 | AH28: ='様式D-3_PE'!$CB$5 -> 0 | AI28: ='様式D-3_PE'!$CC$5 -> 0 | AJ28: ='様式D-3_PE'!$CD$5 -> 0.01 | AK28: ='様式D-3_PE'!$CE$5 -> 0 | AL28: ='様式D-3_PE'!$CF$5 -> 0 | AM28: ='様式D-3_PE'!$CG$5 -> 0 | AN28: ='様式D-3_PE'!$CH$5 -> 0 | AT28: =IF(AB28="Ⅳ",4,IF(AB28="Ⅲ",3,IF(AB28="Ⅱ",2,1))) -> 2
AT29: =IF(AB29="Ⅳ",4,IF(AB29="Ⅲ",3,IF(AB29="Ⅱ",2,1))) -> 1
AT30: =IF(AB30="Ⅳ",4,IF(AB30="Ⅲ",3,IF(AB30="Ⅱ",2,1))) -> 1
AT31: =IF(AB31="Ⅳ",4,IF(AB31="Ⅲ",3,IF(AB31="Ⅱ",2,1))) -> 1
AT32: =IF(AB32="Ⅳ",4,IF(AB32="Ⅲ",3,IF(AB32="Ⅱ",2,1))) -> 1
AT33: =IF(AB33="Ⅳ",4,IF(AB33="Ⅲ",3,IF(AB33="Ⅱ",2,1))) -> 1
AT34: =IF(AB34="Ⅳ",4,IF(AB34="Ⅲ",3,IF(AB34="Ⅱ",2,1))) -> 1
AT35: =IF(AB35="Ⅳ",4,IF(AB35="Ⅲ",3,IF(AB35="Ⅱ",2,1))) -> 1
AT36: =IF(AB36="Ⅳ",4,IF(AB36="Ⅲ",3,IF(AB36="Ⅱ",2,1))) -> 1
AT37: =IF(AB37="Ⅳ",4,IF(AB37="Ⅲ",3,IF(AB37="Ⅱ",2,1))) -> 1
AT38: =IF(AB38="Ⅳ",4,IF(AB38="Ⅲ",3,IF(AB38="Ⅱ",2,1))) -> 1
AT39: =IF(AB39="Ⅳ",4,IF(AB39="Ⅲ",3,IF(AB39="Ⅱ",2,1))) -> 1
AT40: =IF(AB40="Ⅳ",4,IF(AB40="Ⅲ",3,IF(AB40="Ⅱ",2,1))) -> 1
... AT43: =IF(AB43="Ⅳ",4,IF(AB43="Ⅲ",3,IF(AB43="Ⅱ",2,1))) -> 1
B44: 計 | D44: =SUM(D10:D43) -> 0 | E44: =SUM(E10:E43) -> 0 | F44: =SUM(F10:F43) -> 0 | G44: =SUM(G10:G43) -> 0 | H44: =SUM(H10:H43) -> 0 | I44: =SUM(I10:I43) -> 0 | J44: =SUM(J10:J43) -> 1 | K44: =SUM(K10:K43) -> 8 | ... X44: =SUM(X10:X43) -> 0 | AC44: =SUM(AC10:AC43) -> 0 | AD44: =SUM(AD10:AD43) -> 0 | AE44: =SUM(AE10:AE43) -> 0 | AF44: =SUM(AF10:AF43) -> 0 | AG44: =SUM(AG10:AG43) -> 0 | AH44: =SUM(AH10:AH43) -> 0 | AI44: =SUM(AI10:AI43) -> 0.01 | AJ44: =SUM(AJ10:AJ43) -> 0.15 | ... AN44: =SUM(AN10:AN43) -> 0 | AT44: =MAX(AT10:AT43) -> 2 | AU44: ←最大値
D45: 注１：外力は覆工スパン単位で診断するため、覆工スパンの中で最も評価の厳しい健全性の判定区分欄にのみスパン数1を、
D46: 材質劣化、漏水はそれぞれの判定区分に変状数を記入すること。
D47: 注２：外力は覆工スパン単位で診断するため、覆工スパンの中で最も評価の厳しい健全性の判定区分欄にのみスパン長を記入すること。
D48: ※１：本シートは様式D‐3の集計結果を掲載すること。
D49: ※２：覆工スパン数が多い場合は、適時、表の行を増やしてトンネル毎に1枚のシートに収めること。
D50: ※３：本シートの集計結果に基づいて、様式Bの健全性の判定区分の箇所を記載する。

Sheet (参考)リスト
B4: 様式A～B
B5: トンネルの分類 | C5: トンネル工法 | D5: 緊急輸送路 | E5: 代替路
B6: 陸上トンネル（掘進工法） | C6: 山岳トンネル工法（NATM） | D6: 有 | E6: 有
B7: 陸上トンネル（開削工法） | C7: 矢板工法 | D7: 無 | E7: 無
B8: 陸上トンネル（その他） | C8: 開削工法
B9: 水底トンネル（掘進工法） | C9: シールド工法
B10: 水底トンネル（沈埋工法） | C10: その他
B11: 水底トンネル（開削工法）
B12: 水底トンネル（その他）
B14: 様式C-1-1(本体工)、C-2、D-1-1、D-3 | L14: 様式C-2
B15: 対象箇所 | C15: 部位区分 | D15: 変状区分 | E15: 変状種類 | F15: 対策区分 | G15: 健全性 | H15: 調査の要否 | I15: 措置の要否 | J15: 実施有無 | L15: 対策区分の判定 | M15: 健全性 | N15: 対策区分の判定
B16: 覆工・坑門 | C16: アーチ（右側） | D16: 外力 | E16: 圧ざ | F16: Ⅰ | G16: Ⅰ | H16: 要 | I16: 要監視 | J16: 未 | L16: Ⅰ | M16: Ⅰ | N16: 対策区分判定Ⅰ
B17: 内装板 | C17: アーチ（左側） | D17: 材質劣化 | E17: ひび割れ | F17: Ⅱa | G17: Ⅱ | H17: 否 | I17: 要対策 | J17: 済 | L17: Ⅱa | M17: Ⅱ | N17: 対策区分判定Ⅱa
B18: 天井板 | C18: アーチ（天端） | D18: 漏水 | E18: うき・はく離 | F18: Ⅱb | G18: Ⅲ | I18: 否 | J18: 継続 | L18: Ⅱb | M18: Ⅲ | N18: 対策区分判定Ⅱb
B19: 路面 | C19: アーチ（全周） | E19: 変形、移動 | F19: Ⅲ | G19: Ⅳ | L19: Ⅲ | M19: Ⅳ | N19: 対策区分判定Ⅲ
B20: その他 | C20: 側壁（右側） | E20: 沈下 | F20: Ⅳ | G20: － | L20: Ⅳ | N20: 対策区分判定Ⅳ
C21: 側壁（左側） | E21: 補強・補修材の破損 | F21: － | N21: －
C22: 横断目地（右側） | E22: その他 | L22: 様式D-3
C23: 横断目地（左側）
C24: 横断目地（天端）
C25: 横断目地（全周） | E25: ひび割れ
C26: 水平打ち継ぎ目（右側） | E26: うき・はく離
C27: 水平打ち継ぎ目（左側） | E27: 鋼材腐食
C28: 面壁・妻壁等 | E28: 巻厚の不足または減少，背面空洞
C29: その他 | E29: 補強・補修材の破損
E30: その他
C31: 側壁
C32: その他 | E32: 漏水
E33: 氷盤
C34: 車道側 | E34: つらら,側氷
C35: ダクト側 | E35: 滞水
C36: その他 | E36: 土砂流出
E37: 補強・補修材の破損
C38: 車道 | E38: その他
C39: 歩道
C40: 監査歩路
C41: 監視員通路
C42: 側溝
C43: その他
C45: その他
B49: 様式C-1-2（附属物）、D-1-2
B50: 施設の内訳 | C50: 対象箇所 | D50: 部位区分 | E50: 異常の種類 | F50: 異常判定区分 | G50: 実施有無
B51: 照明施設 | C51: 灯具 | D51: 附属物本体 | E51: 破断 | F51: ○ | G51: 未
B52: 換気施設 | C52: ケーブル類 | D52: 取付部材 | E52: 緩み，脱落 | F52: × | G52: 済
B53: 非常用施設 | C53: その他 | D53: ボルト・ﾅｯﾄ・アンカー類 | E53: 腐食 | G53: 継続
B54: その他施設 | E54: 変形，欠損
C55: ジェットファン | E55: 亀裂
C56: VI計 | E56: がたつき
C57: CO計
C58: 風向風速計
C59: その他
C61: 通話型通報設備
C62: 操作型通報設備
C63: 自動通報設備
C64: 警報表示版
C65: 点滅灯
C66: 音信号発生器
C67: 消火器
C68: 消火栓設備
C69: 誘導表示施設
... C80: その他
