Workbook
Name Ⅱa: OFFSET(#REF!,,,COUNTA(#REF!)-3,1)
Name Ⅱb: OFFSET(#REF!,,,COUNTA(#REF!)-3,1)
Name Ⅲ: OFFSET(#REF!,,,COUNTA(#REF!)-3,1)
Name Ⅳ: OFFSET(#REF!,,,COUNTA(#REF!)-3,1)
Name コード: #REF!
Name ジェットファン種別: #REF!
Name その他: #REF!
Name その他: #REF!
Name その他: '(参考)リスト'!$C$45
Name その他施設: #REF!
Name その他施設: #REF!
Name その他施設: '(参考)リスト'!$C$76:$C$80
Name トンネル工法: #REF!
Name トンネル等級: #REF!
Name トンネル分類: #REF!
Name 一般有料区分: #REF!
Name 外力: #REF!
Name 外力: #REF!
Name 外力: '(参考)リスト'!$E$16:$E$23
Name 完成年次: #REF!
Name 換気: #REF!
Name 換気施設: #REF!
Name 換気施設: #REF!
Name 換気施設: '(参考)リスト'!$C$55:$C$59
Name 吸音板: #REF!
Name 区分: #REF!
Name 形式: #REF!
Name 警報表示板: #REF!
Name 健全度: #REF!
Name 個数: #REF!
Name 交通量: #REF!
Name 坑門: #REF!
Name 坑門: #REF!
Name 坑門: '(参考)リスト'!$C$16:$C$29
Name 更新年次: #REF!
Name 最大土被り: #REF!
Name 材質劣化: #REF!
Name 材質劣化: #REF!
Name 材質劣化: '(参考)リスト'!$E$25:$E$30
Name 写真番号: #REF!
Name 車道幅: #REF!
Name 縦断勾配: #REF!
Name 照明個数: #REF!
Name 照明施設: #REF!
Name 照明施設: #REF!
Name 照明施設: '(参考)リスト'!$C$51:$C$53
Name 照明種別: #REF!
Name 占用物件: #REF!
Name 措置後判定: '[2](参考)ﾘｽﾄ'!$AL$3:$AL$8
Name 措置履歴実施: '[2](参考)ﾘｽﾄ'!$AU$3:$AU$5
Name 対応方針: #REF!
Name 対象箇所: [1]!テーブル1[対象箇所]
Name 対象箇所: [1]!テーブル1[対象箇所]
Name 対象箇所: [1]!テーブル1[対象箇所]
Name 対象箇所: [1]!テーブル1[対象箇所]
Name 対象箇所: [3]!テーブル1[対象箇所]
Name 対象箇所: [4]!テーブル1[対象箇所]
Name 対象箇所: [5]!テーブル1[対象箇所]
Name 対象箇所: [6]!テーブル1[対象箇所]
Name 対象箇所: [6]!テーブル1[対象箇所]

Sheet 様式A-1
B2: ■トンネル台帳 トンネル諸元、非常用施設諸元 【様式A-1】 | S2: トンネルID | W2: 34.04475,131.63008
B3: フリガナ | D3: チャウスヤマトンネル | H3: 路線名 | J3: 主要道路防府環状線 | P3: 管理者名 | R3: 山口県防府土木 建築事務所 | W3: 緊急輸送道路
B4: 名 称 | D4: 茶臼山トンネル | W4: 代替路の有無
B5: 所在地 | D5: 自 | E5: 山口県防府市富海 | H5: 作成者 | K5: セントラルコンサルタント株式会社 鹿子嶋 康博 | P5: 作成年月日 | R5: 44581 | U5: トンネル延長 | X5: L= | Z5: 318 | AB5: ｍ
D6: 至 | E6: 山口県防府市富海 | U6: ﾄﾝﾈﾙの分類 | X6: 陸上トンネル（掘進工法）
B7: 起点 | C7: 緯度 | E7: 340241.1 | H7: 完成年月日 | K7: 昭和33年 | M7: 舗装 | O7: 種 別 | Q7: アスファルト | S7: トンネル非常用施設 | T7: 施設の内訳 | X7: 種別・方式 | Y7: 型式 | Z7: 個数 | AA7: 更新年度 | AE7: =INT(E7/10000) -> 34 | AF7: =INT(E7/100)-AE7*100 -> 2 | AG7: =E7-AE7*10000-AF7*100 -> 41.1 | AH7: =ROUND(AE7+AF7/60+AG7/60/60,5) -> 34.04475 | AI7: =TEXT(AH7,"0.00000") -> 34.04475
C8: 経度 | E8: 1313748.3 | H8: 供用年月日 | K8: - | O8: 厚 さ | Q8: - | T8: 通報設備 | U8: 通話型通報設備 | Y8: - | Z8: 1 | AA8: - | AE8: =INT(E8/10000) -> 131 | AF8: =INT(E8/100)-AE8*100 -> 37 | AG8: =E8-AE8*10000-AF8*100 -> 48.3 | AH8: =ROUND(AE8+AF8/60+AG8/60/60,5) -> 131.63008 | AI8: =TEXT(AH8,"0.00000") -> 131.63008
B9: 終点 | C9: 緯度 | E9: 340236.1 | H9: トンネル区分 | K9: Ｃ | O9: 面 積 | Q9: - | U9: 操作型通報設備 | Y9: - | Z9: 7 | AA9: -
C10: 経度 | E10: 1313737.5 | H10: 内装種類 | K10: 覆工（内装なし） | O10: 更新年次 | Q10: - | U10: 自動通報設備 | Y10: - | Z10: - | AA10: -
B11: 一般有料区分 | E11: 一般（無料） | H11: 天井板種類 | K11: 覆工（内装なし） | M11: 排水 | O11: 種 別 | Q11: 自然排水 | T11: 警報設備 | U11: 非常警報設備 | Y11: - | Z11: - | AA11: -
B12: 土かぶり | E12: - | G12: m | H12: 坑門 | I12: 起点 | J12: 形式 | K12: 面壁型 | O12: 更新年次 | Q12: - | T12: 消火設備 | U12: 消 火 器 | Y12: - | Z12: 7 | AA12: -
B13: 内空断面積 | E13: 46.9 | G13: ㎡ | J13: 延長 | K13: 0 | L13: m | M13: 施設 | P13: 種別・方式 | Q13: 個数 | R13: 更新年次 | U13: 消火栓設備 | Y13: - | Z13: - | AA13: -
B14: 交 通 量 | E14: 13637 | G14: 台/日 | I14: 終点 | J14: 形式 | K14: 面壁型 | M14: 道路附属物等 | N14: 照明 | P14: LED | Q14: 113 | R14: 平成26 | T14: 避難誘導設備 | U14: 誘導表示設備 | Y14: - | Z14: 2 | AA14: - | AD14: 非常電話案内板12
C15: 道 路 幅 | E15: 8.5 | G15: m | J15: 延長 | K15: 0 | L15: m | N15: 換気 | P15: 自然換気 | Q15: - | R15: - | U15: 避難情報提供設備 | Y15: - | Z15: - | AA15: -
B16: 幅 員 | C16: 車 道 幅 | E16: 6.7 | G16: m | H16: 竣工巻厚 | I16: アーチ | K16: - | L16: cm | N16: 標識 | P16: - | Q16: - | R16: - | Y16: - | Z16: - | AA16: -
G17: m | I17: 側 壁 | K17: - | L17: cm | N17: 警報表示板 | P17: - | Q17: - | R17: - | U17: 避難通路 | Y17: - | Z17: - | AA17: -
C18: 歩道等幅 | G18: m | K18: - | L18: cm | N18: 吸音板 | P18: - | Q18: - | R18: - | U18: 排煙設備 | Y18: - | Z18: - | AA18: -
B19: 高さ | C19: 建築限界高 | E19: 4.5 | G19: m | I19: インバート | K19: - | L19: cm | T19: その他の設備 | U19: 給水栓設備 | Y19: - | Z19: - | AA19: -
C20: 中央高 | E20: 6.2 | G20: m | H20: 半径 | I20: アーチ | K20: - | L20: cm | U20: 無線通信補助設備 | Y20: - | Z20: - | AA20: -
C21: 有効高 | E21: 4.5 | G21: m | I21: 側 壁 | K21: - | L21: cm | U21: 水噴霧設備 | Y21: - | Z21: - | AA21: -
C22: 縦断勾配 | E22: - | I22: インバート | K22: - | L22: cm | U22: 監視設備 | Y22: - | Z22: - | AA22: -
B23: 線 形 | C23: 直線区間長 | E23: - | H23: 占用物件 | I23: 種 類 | K23: 寸 法 | M23: 管理者名 | Q23: 更新年次 | S23: 非常用施設 関連設備 | U23: 予備発電設備 | Y23: - | Z23: - | AA23: -
C24: 曲線区間 | D24: 区間長 | F24: -
D25: 起点側ｸﾛｿｲﾄﾞ | F25: -
D26: 曲線半径 | F26: -
D27: 終点側ｸﾛｿｲﾄﾞ | F27: - | S27: その他 | U27: 非常駐車帯 | Y27: - | Z27: - | AA27: -
B28: トンネル工法 | E28: その他 | U28: 方向転換所 | Y28: - | Z28: - | AA28: -
C29: ※緯度・経度については、秒の少数第二位の単位まで記入すること。（例；36度20分35.56秒の場合、362035.36と入力）

Sheet 様式A-2
B3: ■トンネル台帳 トンネル情報一覧表 【様式A-2】
B4: フリガナ | E4: ='様式A-1'!D3 -> チャウスヤマトンネル | J4: 路線名 | M4: ='様式A-1'!J3 -> 主要道路防府環状線 | S4: 作成者 | Y4: ='様式A-1'!K5 -> セントラルコンサルタント株式会社 鹿子嶋 康博 | AE4: 作成年月日 | AI4: ='様式A-1'!R5 -> 44581
B5: 名 称 | E5: ='様式A-1'!D4 -> 茶臼山トンネル | J5: 管理者名 | M5: ='様式A-1'!R3 -> 山口県防府土木 建築事務所
B6: 覆工 ｽﾊﾟﾝ 番号 | C6: ｽﾊﾟﾝ長 | D6: 追加距離 | F6: トンネル本体工 | K6: 照明施設 | O6: 非常用施設 | AE6: 換気施設 | AK6: その他附属物等
O7: ='様式A-1'!T8 -> 通報設備 | R7: ='様式A-1'!T11 -> 警報設備 | S7: ='様式A-1'!T12 -> 消火設備 | U7: ='様式A-1'!T14 -> 避難誘導設備 | Y7: ='様式A-1'!T19 -> その他の設備 | AC7: 特記事項
D8: 起点側 | E8: 終点側 | F8: 特記事項 | I8: 内装板 | J8: 天井板 | K8: 基本照明 | L8: 入口出口照明 | M8: 特記事項 | O8: ='様式A-1'!U8 -> 通話型通報設備 | P8: ='様式A-1'!U9 -> 操作型通報設備 | Q8: ='様式A-1'!U10 -> 自動通報設備 | R8: ='様式A-1'!U11 -> 非常警報設備 | S8: ='様式A-1'!U12 -> 消 火 器 | T8: ='様式A-1'!U13 -> 消火栓設備 | U8: ='様式A-1'!U14 -> 誘導表示設備 | V8: ='様式A-1'!U15 -> 避難情報提供設備 | W8: ='様式A-1'!U17 -> 避難通路 | X8: ='様式A-1'!U18 -> 排煙設備 | Y8: ='様式A-1'!U19 -> 給水栓設備 | Z8: ='様式A-1'!U20 -> 無線通信補助設備 | AA8: ='様式A-1'!U21 -> 水噴霧設備 | AB8: ='様式A-1'!U22 -> 監視設備 | AE8: JF | AF8: VI計 | AG8: CO計 | AH8: 風向 風速計 | AI8: 特記事項
C9: (m) | D9: (m) | E9: (m)
B10: PS | C10: 0 | D10: 0 | E10: 0 | F10: 坑門(面壁型) | AK10: 抗外灯
B11: S1 | C11: 3.1 | D11: 0 | E11: 3.1 | K11: ○
B12: S2 | C12: 5.2 | D12: 3.1 | E12: 8.3 | I12: ○ | P12: ① | S12: ① | AK12: 非常電話案内板
B13: S3 | C13: 4 | D13: 8.3 | E13: 12.3 | I13: ○ | K13: ○
B14: S4 | C14: 3.6 | D14: 12.3 | E14: 15.9 | I14: ○ | K14: ○
B15: S5 | C15: 5.4 | D15: 15.9 | E15: 21.3 | I15: ○ | K15: ○
B16: S6 | C16: 4.3 | D16: 21.3 | E16: 25.6 | I16: ○
B17: S7 | C17: 4 | D17: 25.6 | E17: 29.6 | I17: ○ | K17: ○
B18: S8 | C18: 4 | D18: 29.6 | E18: 33.6 | I18: ○ | K18: ○ | AK18: 非常電話案内板
B19: S9 | C19: 4.5 | D19: 33.6 | E19: 38.1 | I19: ○
B20: S10 | C20: 4.5 | D20: 38.1 | E20: 42.6 | I20: ○ | K20: ○
B21: S11 | C21: 4.5 | D21: 42.6 | E21: 47.1 | I21: ○ | K21: ○
B22: S12 | C22: 4.4 | D22: 47.1 | E22: 51.5 | I22: ○ | K22: ○ | U22: ○
B23: S13 | C23: 4.5 | D23: 51.5 | E23: 56 | I23: ○ | K23: ○ | AK23: 非常電話案内板
B24: S14 | C24: 4.5 | D24: 56 | E24: 60.5 | I24: ○ | K24: ○ | P24: ② | S24: ②
B25: S15 | C25: 4.5 | D25: 60.5 | E25: 65 | I25: ○ | K25: ○
B26: S16 | C26: 4.5 | D26: 65 | E26: 69.5 | I26: ○ | K26: ○
B27: S17 | C27: 4.5 | D27: 69.5 | E27: 74 | I27: ○ | K27: ○
B28: S18 | C28: 5.1 | D28: 74 | E28: 79.1 | I28: ○ | K28: ○
B29: S19 | C29: 4.5 | D29: 79.1 | E29: 83.6 | I29: ○ | K29: ○ | AK29: 非常電話案内板
B30: S20 | C30: 4.5 | D30: 83.6 | E30: 88.1 | I30: ○ | K30: ○
B31: S21 | C31: 4.5 | D31: 88.1 | E31: 92.6 | I31: ○ | K31: ○
B32: S22 | C32: 4.5 | D32: 92.6 | E32: 97.1 | I32: ○ | K32: ○
B33: S23 | C33: 4.5 | D33: 97.1 | E33: 101.6 | I33: ○ | K33: ○
B34: S24 | C34: 4.5 | D34: 101.6 | E34: 106.1 | I34: ○ | K34: ○
B35: S25 | C35: 4.5 | D35: 106.1 | E35: 110.6 | I35: ○ | K35: ○ | P35: ③ | S35: ③ | AK35: 非常電話案内板
B36: S26 | C36: 3.3 | D36: 110.6 | E36: 113.9 | I36: ○
B37: S27 | C37: 5.8 | D37: 113.9 | E37: 119.7 | I37: ○ | K37: ○
B38: S28 | C38: 7.6 | D38: 119.7 | E38: 127.3 | I38: ○ | K38: ○
B39: S29 | C39: 6.1 | D39: 127.3 | E39: 133.4 | I39: ○ | K39: ○ | AK39: 非常電話案内板
B40: S30 | C40: 6.1 | D40: 133.4 | E40: 139.5 | I40: ○ | K40: ○
B41: S31 | C41: 10.6 | D41: 139.5 | E41: 150.1 | I41: ○ | K41: ○
B42: S32 | C42: 7.6 | D42: 150.1 | E42: 157.7 | I42: ○ | K42: ○ | O42: ① | P42: ④ | S42: ④
...

Sheet 様式A-3
B3: ■トンネル台帳 トンネル記録（位置図、断面図、施工実績他）【様式A-3】
B4: フリガナ | E4: ='様式A-1'!D3 -> チャウスヤマトンネル | J4: 路線名 | M4: ='様式A-1'!J3 -> 主要道路防府環状線 | S4: 作成者 | W4: ='様式A-1'!K5 -> セントラルコンサルタント株式会社 鹿子嶋 康博 | AC4: 作成年月日 | AF4: ='様式A-1'!R5 -> 44581
B5: 名 称 | E5: ='様式A-1'!D4 -> 茶臼山トンネル | J5: 管理者名 | M5: ='様式A-1'!R3 -> 山口県防府土木 建築事務所
B6: 位置図・現況写真・標準断面図・地質縦断図・施工実績

Sheet 様式B(トンネル様式1P001)
B2: ■定期点検記録様式 トンネル変状・異常箇所写真位置図 | T2: トンネルID | V2: 34.04475,131.63008 | AA2: Ⅰ | AB2: あり | AC2: 陸上トンネル 掘進工法
B3: フリガナ | D3: チャウスヤマトンネル | H3: 路線名 | J3: 主要道路防府環状線 | N3: 管理者名 | P3: 山口県防府土木建築事務所 | T3: 緊急輸送道路 | AA3: Ⅱ | AB3: なし | AC3: 陸上トンネル 開削工法
B4: 名 称 | D4: 茶臼山トンネル | T4: 代替路の有無 | AA4: Ⅲ | AC4: 陸上トンネル その他
B5: 所在地 | D5: 自 | E5: 山口県防府市富海 | H5: 定期点検業者 | K5: セントラルコンサルタント株式会社 | O5: 定期点検年月日 | Q5: 44337 | T5: トンネル延長 | V5: L= | W5: 318 | Y5: ｍ | AA5: Ⅳ | AC5: 水底トンネル 掘進工法
D6: 至 | E6: 山口県防府市富海 | H6: 定期点検者名 | K6: 鹿子嶋 康博 | T6: ﾄﾝﾈﾙの分類 | V6: 陸上トンネル 掘進工法 | AC6: 水底トンネル 沈埋工法
B7: 起点 | C7: 緯度 | D7: 34°02′41.1″ | F7: 変状・異常 箇所数合計 | H7: トンネル 本体工 | J7: 材質劣化 | L7: Ⅱ | M7: 67 | N7: Ⅲ | O7: 15 | P7: Ⅳ | Q7: 0 | R7: トンネル毎 の健全性 | T7: Ⅲ | V7: 附属物の 取付状態 | W7: ◯ （応急措置後） | Y7: 9 | AC7: 水底トンネル 開削工法
AC8: 水底トンネル その他
C10: 経度 | D10: 131°37′48.3″
J11: 漏水 | L11: Ⅱ | M11: 37 | N11: Ⅲ | O11: 0 | P11: Ⅳ | Q11: 0
B13: 終点 | C13: 緯度 | D13: 34°02′36.1″ | W13: ✕ | Y13: 3
J15: 外力 | L15: Ⅱ | M15: 9 | N15: Ⅲ | O15: 0 | P15: Ⅳ | Q15: 0 | AC15: 0
C16: 経度 | D16: 131°37′37.5″
B19: トンネル変状・異常箇所写真位置図
P26: 注１：本位置図は、見下げた状態で記載すること。 注２：覆工スパン番号は横断目地毎(矢板工法の場合は上半アーチ の横断目地毎)に設定すること。 注３：写真番号に付する変状番号は、各覆工スパンの変状に対して新た に確認された場合は順次追加していくこと。 注４：横断目地の変状は前の覆工スパン番号で計上すること。 注５：１枚に収まらない場合は、複数枚に分けて作成すること。
C28: ※1 トンネル本体工の変状数は、材質劣化、漏水に起因するものは変状単位で、外力に起因するものはスパン単位で計上すること。
C29: ※2 本体工の変状に対しては、健全性の判定区分Ⅱ～Ⅳについて添付すること。また、点検前に実施された措置によりⅠと判定された箇所も添付すること。
C30: ※3 附属物の取付状態の○欄については、応急措置前に判定区分×とした箇所のうち応急措置により○判定とした箇所の数を記入すること。
C31: ※4 附属物の異常番号は、本体工と番号が重複しないよう101番以降とする等の配慮を行い、分かりやすく記録すること。

Sheet 様式B(トンネル様式1P002)
B2: ■定期点検記録様式 トンネル変状・異常箇所写真位置図 | T2: トンネルID | V2: 34.04475,131.63008 | AA2: Ⅰ | AB2: あり | AC2: 陸上トンネル 掘進工法
B3: フリガナ | D3: チャウスヤマトンネル | H3: 路線名 | J3: 主要道路防府環状線 | N3: 管理者名 | P3: 山口県防府土木建築事務所 | T3: 緊急輸送道路 | AA3: Ⅱ | AB3: なし | AC3: 陸上トンネル 開削工法
B4: 名 称 | D4: 茶臼山トンネル | T4: 代替路の有無 | AA4: Ⅲ | AC4: 陸上トンネル その他
B5: 所在地 | D5: 自 | E5: 山口県防府市富海 | H5: 定期点検業者 | K5: セントラルコンサルタント株式会社 | O5: 定期点検年月日 | Q5: 44337 | T5: トンネル延長 | V5: L= | W5: 318 | Y5: ｍ | AA5: Ⅳ | AC5: 水底トンネル 掘進工法
D6: 至 | E6: 山口県防府市富海 | H6: 定期点検者名 | K6: 鹿子嶋 康博 | T6: ﾄﾝﾈﾙの分類 | V6: 陸上トンネル 掘進工法 | AC6: 水底トンネル 沈埋工法
B7: 起点 | C7: 緯度 | D7: 34°02′41.1″ | F7: 変状・異常 箇所数合計 | H7: トンネル 本体工 | J7: 材質劣化 | L7: Ⅱ | M7: 67 | N7: Ⅲ | O7: 15 | P7: Ⅳ | Q7: 0 | R7: トンネル毎 の健全性 | T7: Ⅲ | V7: 附属物の 取付状態 | W7: ◯ （応急措置後） | Y7: 9 | AC7: 水底トンネル 開削工法
AC8: 水底トンネル その他
C10: 経度 | D10: 131°37′48.3″
J11: 漏水 | L11: Ⅱ | M11: 37 | N11: Ⅲ | O11: 0 | P11: Ⅳ | Q11: 0
B13: 終点 | C13: 緯度 | D13: 34°02′36.1″ | W13: ✕ | Y13: 3
J15: 外力 | L15: Ⅱ | M15: 9 | N15: Ⅲ | O15: 0 | P15: Ⅳ | Q15: 0 | AC15: 0
C16: 経度 | D16: 131°37′37.5″
B19: トンネル変状・異常箇所写真位置図
P26: 注１：本位置図は、見下げた状態で記載すること。 注２：覆工スパン番号は横断目地毎(矢板工法の場合は上半アーチ の横断目地毎)に設定すること。 注３：写真番号に付する変状番号は、各覆工スパンの変状に対して新た に確認された場合は順次追加していくこと。 注４：横断目地の変状は前の覆工スパン番号で計上すること。 注５：１枚に収まらない場合は、複数枚に分けて作成すること。
C28: ※1 トンネル本体工の変状数は、材質劣化、漏水に起因するものは変状単位で、外力に起因するものはスパン単位で計上すること。
C29: ※2 本体工の変状に対しては、健全性の判定区分Ⅱ～Ⅳについて添付すること。また、点検前に実施された措置によりⅠと判定された箇所も添付すること。
C30: ※3 附属物の取付状態の○欄については、応急措置前に判定区分×とした箇所のうち応急措置により○判定とした箇所の数を記入すること。
C31: ※4 附属物の異常番号は、本体工と番号が重複しないよう101番以降とする等の配慮を行い、分かりやすく記録すること。

Sheet 様式B(トンネル様式1P003)
B2: ■定期点検記録様式 トンネル変状・異常箇所写真位置図 | T2: トンネルID | V2: 34.04475,131.63008 | AA2: Ⅰ | AB2: あり | AC2: 陸上トンネル 掘進工法
B3: フリガナ | D3: チャウスヤマトンネル | H3: 路線名 | J3: 主要道路防府環状線 | N3: 管理者名 | P3: 山口県防府土木建築事務所 | T3: 緊急輸送道路 | AA3: Ⅱ | AB3: なし | AC3: 陸上トンネル 開削工法
B4: 名 称 | D4: 茶臼山トンネル | T4: 代替路の有無 | AA4: Ⅲ | AC4: 陸上トンネル その他
B5: 所在地 | D5: 自 | E5: 山口県防府市富海 | H5: 定期点検業者 | K5: セントラルコンサルタント株式会社 | O5: 定期点検年月日 | Q5: 44337 | T5: トンネル延長 | V5: L= | W5: 318 | Y5: ｍ | AA5: Ⅳ | AC5: 水底トンネル 掘進工法
D6: 至 | E6: 山口県防府市富海 | H6: 定期点検者名 | K6: 鹿子嶋 康博 | T6: ﾄﾝﾈﾙの分類 | V6: 陸上トンネル 掘進工法 | AC6: 水底トンネル 沈埋工法
B7: 起点 | C7: 緯度 | D7: 34°02′41.1″ | F7: 変状・異常 箇所数合計 | H7: トンネル 本体工 | J7: 材質劣化 | L7: Ⅱ | M7: 67 | N7: Ⅲ | O7: 15 | P7: Ⅳ | Q7: 0 | R7: トンネル毎 の健全性 | T7: Ⅲ | V7: 附属物の 取付状態 | W7: ◯ （応急措置後） | Y7: 9 | AC7: 水底トンネル 開削工法
AC8: 水底トンネル その他
C10: 経度 | D10: 131°37′48.3″
J11: 漏水 | L11: Ⅱ | M11: 37 | N11: Ⅲ | O11: 0 | P11: Ⅳ | Q11: 0
B13: 終点 | C13: 緯度 | D13: 34°02′36.1″ | W13: ✕ | Y13: 3
J15: 外力 | L15: Ⅱ | M15: 9 | N15: Ⅲ | O15: 0 | P15: Ⅳ | Q15: 0 | AC15: 0
C16: 経度 | D16: 131°37′37.5″
B19: トンネル変状・異常箇所写真位置図
P26: 注１：本位置図は、見下げた状態で記載すること。 注２：覆工スパン番号は横断目地毎(矢板工法の場合は上半アーチ の横断目地毎)に設定すること。 注３：写真番号に付する変状番号は、各覆工スパンの変状に対して新た に確認された場合は順次追加していくこと。 注４：横断目地の変状は前の覆工スパン番号で計上すること。 注５：１枚に収まらない場合は、複数枚に分けて作成すること。
C28: ※1 トンネル本体工の変状数は、材質劣化、漏水に起因するものは変状単位で、外力に起因するものはスパン単位で計上すること。
C29: ※2 本体工の変状に対しては、健全性の判定区分Ⅱ～Ⅳについて添付すること。また、点検前に実施された措置によりⅠと判定された箇所も添付すること。
C30: ※3 附属物の取付状態の○欄については、応急措置前に判定区分×とした箇所のうち応急措置により○判定とした箇所の数を記入すること。
C31: ※4 附属物の異常番号は、本体工と番号が重複しないよう101番以降とする等の配慮を行い、分かりやすく記録すること。

Sheet 様式B(トンネル様式1P004)
B2: ■定期点検記録様式 トンネル変状・異常箇所写真位置図 | T2: トンネルID | V2: 34.04475,131.63008 | AA2: Ⅰ | AB2: あり | AC2: 陸上トンネル 掘進工法
B3: フリガナ | D3: チャウスヤマトンネル | H3: 路線名 | J3: 主要道路防府環状線 | N3: 管理者名 | P3: 山口県防府土木建築事務所 | T3: 緊急輸送道路 | AA3: Ⅱ | AB3: なし | AC3: 陸上トンネル 開削工法
B4: 名 称 | D4: 茶臼山トンネル | T4: 代替路の有無 | AA4: Ⅲ | AC4: 陸上トンネル その他
B5: 所在地 | D5: 自 | E5: 山口県防府市富海 | H5: 定期点検業者 | K5: セントラルコンサルタント株式会社 | O5: 定期点検年月日 | Q5: 44337 | T5: トンネル延長 | V5: L= | W5: 318 | Y5: ｍ | AA5: Ⅳ | AC5: 水底トンネル 掘進工法
D6: 至 | E6: 山口県防府市富海 | H6: 定期点検者名 | K6: 鹿子嶋 康博 | T6: ﾄﾝﾈﾙの分類 | V6: 陸上トンネル 掘進工法 | AC6: 水底トンネル 沈埋工法
B7: 起点 | C7: 緯度 | D7: 34°02′41.1″ | F7: 変状・異常 箇所数合計 | H7: トンネル 本体工 | J7: 材質劣化 | L7: Ⅱ | M7: 67 | N7: Ⅲ | O7: 15 | P7: Ⅳ | Q7: 0 | R7: トンネル毎 の健全性 | T7: Ⅲ | V7: 附属物の 取付状態 | W7: ◯ （応急措置後） | Y7: 9 | AC7: 水底トンネル 開削工法
AC8: 水底トンネル その他
C10: 経度 | D10: 131°37′48.3″
J11: 漏水 | L11: Ⅱ | M11: 37 | N11: Ⅲ | O11: 0 | P11: Ⅳ | Q11: 0
B13: 終点 | C13: 緯度 | D13: 34°02′36.1″ | W13: ✕ | Y13: 3
J15: 外力 | L15: Ⅱ | M15: 9 | N15: Ⅲ | O15: 0 | P15: Ⅳ | Q15: 0 | AC15: 0
C16: 経度 | D16: 131°37′37.5″
B19: トンネル変状・異常箇所写真位置図
P26: 注１：本位置図は、見下げた状態で記載すること。 注２：覆工スパン番号は横断目地毎(矢板工法の場合は上半アーチ の横断目地毎)に設定すること。 注３：写真番号に付する変状番号は、各覆工スパンの変状に対して新た に確認された場合は順次追加していくこと。 注４：横断目地の変状は前の覆工スパン番号で計上すること。 注５：１枚に収まらない場合は、複数枚に分けて作成すること。
C28: ※1 トンネル本体工の変状数は、材質劣化、漏水に起因するものは変状単位で、外力に起因するものはスパン単位で計上すること。
C29: ※2 本体工の変状に対しては、健全性の判定区分Ⅱ～Ⅳについて添付すること。また、点検前に実施された措置によりⅠと判定された箇所も添付すること。
C30: ※3 附属物の取付状態の○欄については、応急措置前に判定区分×とした箇所のうち応急措置により○判定とした箇所の数を記入すること。
C31: ※4 附属物の異常番号は、本体工と番号が重複しないよう101番以降とする等の配慮を行い、分かりやすく記録すること。

Sheet 様式C-1-1
B2: ■定期点検記録様式 全スパン定期点検結果総括表（トンネル本体工） 【様式C-1-1】
B3: フリガナ | F3: チャウスヤマトンネル | I3: 路線名 | K3: 主要道路防府環状線 | O3: 定期点検業者 | Q3: セントラルコンサルタント株式会社 | U3: 定期点検年月日 | Y3: 44337
B4: 名 称 | F4: 茶臼山トンネル | I4: 管理者名 | K4: 山口県防府土木建築事務所 | O4: 定期点検者名 | Q4: 鹿子嶋 康博
B5: 定期点検結果 | C5: 覆工 スパン 番号 | E5: 変状 番号 | F5: 距離 （m） | G5: 変状部位 | I5: 変 状 の 内 容 | O5: 前回定期点検時の状態 | Q5: 今回定期点検結果 | U5: 措置履歴 | Z5: 対応方針 ・ 特記事項
G7: 対象箇所 | H7: 部位区分 | I7: 変状区分 | J7: 変状種類 | M7: 変状の発生範囲の規模 | N7: 前回定期点検時 との比較 | O7: 状態 | P7: 健全性 | Q7: 対策区分 | S7: 調査の 要否 | T7: 措置の 要否 | U7: 実施 | V7: 措置の実施状況
Q8: 応急措置前 | R8: 応急措置後
C9: S2 | E9: 1 | F9: 4.4 | G9: 覆工・坑門 | H9: アーチ（天端） | I9: 漏水 | J9: 漏水 | M9: 7.60m×1.00m | N9: 滴水→にじみ | O9: Ⅱa | P9: Ⅱ | R9: Ⅱb | S9: 否 | T9: 要監視 | Z9: 監視
C10: S2 | E10: 2 | F10: 3.9 | G10: 覆工・坑門 | H10: アーチ（天端） | I10: 漏水 | J10: 漏水 | M10: 7.20m×0.50m | N10: 進行が認められない | O10: Ⅱa | P10: Ⅱ | R10: Ⅱa | S10: 否 | T10: 要対策 | Z10: 漏水防止対策工
C11: S2 | E11: 3 | F11: 5.5 | G11: 覆工・坑門 | H11: アーチ（天端） | I11: 漏水 | J11: 漏水 | M11: 6.00m×1.10m | N11: 進行が認められない | O11: - | P11: - | R11: Ⅱb | S11: 否 | T11: 要監視 | Z11: 監視
C12: S2 | E12: 4 | F12: 4.1 | G12: 路面 | H12: 車道 | I12: 漏水 | J12: 滞水 | M12: 0.50m×0.40m | N12: 進行が認められない | O12: - | P12: - | R12: Ⅱb | S12: 否 | T12: 要監視 | Z12: 監視
C13: S3 | E13: 1 | F13: 9.1 | G13: 覆工・坑門 | H13: アーチ（左側） | I13: 材質劣化 | J13: 補強・補修材の破損 | M13: 0.10m×0.40m | N13: 新たに発生 | O13: - | P13: - | R13: Ⅱb | S13: 否 | T13: 要監視 | Z13: 監視
C14: S3 | E14: 2 | F14: 11.8 | G14: 覆工・坑門 | H14: アーチ（右側） | I14: 外力 | J14: ひび割れ | M14: 幅0.3mm×長さ1.4m | N14: 進行が認められない | O14: - | P14: - | R14: Ⅱb | S14: 否 | T14: 要監視 | Z14: 監視
C15: S4 | E15: 1 | F15: 14 | G15: 覆工・坑門 | H15: アーチ（左側） | I15: 外力 | J15: ひび割れ | M15: 幅1.0mm×長さ3.7m | N15: 進行が認められない | O15: - | P15: - | R15: Ⅱb | S15: 否 | T15: 要監視 | Z15: 監視
C16: S4 | E16: 2 | F16: 14.2 | G16: 覆工・坑門 | H16: アーチ（右側） | I16: 外力 | J16: ひび割れ | M16: 幅0.3mm未満 | N16: 進行が認められない | O16: Ⅰ | P16: Ⅰ | R16: Ⅱb | S16: 否 | T16: 要監視 | Z16: 監視
C17: S5 | E17: 1 | F17: 17.3 | G17: 覆工・坑門 | H17: アーチ（左側） | I17: 外力 | J17: ひび割れ | M17: 幅0.5mm×長さ5.2m | N17: 進行が認められない | O17: - | P17: - | R17: Ⅱb | S17: 否 | T17: 要監視 | Z17: 監視
C18: S5 | E18: 2 | F18: 19.6 | G18: 覆工・坑門 | H18: 水平打ち継ぎ目（左側） | I18: 材質劣化 | J18: うき・はく離 | M18: 0.15m×0.5m | N18: 新たに発生 | O18: - | P18: - | R18: Ⅱb | S18: 否 | T18: 要監視 | Z18: 監視
C19: S5 | E19: 3 | F19: 17.1 | G19: 覆工・坑門 | H19: アーチ（天端） | I19: 材質劣化 | J19: うき・はく離 | M19: 0.35m×0.15m | N19: 新たに発生 | O19: - | P19: - | R19: Ⅱa | S19: 否 | T19: 要対策 | Z19: はく落防止対策工
C20: S5 | E20: 4 | F20: 18.3 | G20: 覆工・坑門 | H20: アーチ（右側） | I20: 外力 | J20: ひび割れ | M20: 幅1.0mm×長さ4.7m | N20: 進行が認められない | O20: - | P20: - | R20: Ⅱb | S20: 否 | T20: 要監視 | Z20: 監視
... C23: S6 | E23: 2 | F23: 23.9 | G23: 覆工・坑門 | H23: アーチ（左側） | I23: 漏水 | J23: 漏水 | M23: 4.70m×0.50m | N23: 進行が認められない | O23: Ⅱb | P23: Ⅱ | R23: Ⅱb | S23: 否 | T23: 要監視 | Z23: 監視
C24: S6 | E24: 3 | F24: 22.6 | G24: 覆工・坑門 | H24: アーチ（天端） | I24: 漏水 | J24: 漏水 | M24: 6.90m×0.50m | N24: 滴水→漏水跡 | O24: Ⅱa | P24: Ⅱ | R24: Ⅰ | S24: 否
C25: S7 | E25: 1 | F25: 27.6 | G25: 覆工・坑門 | H25: アーチ（左側） | I25: 外力 | J25: ひび割れ | M25: 幅0.3mm未満 | N25: 進行が認められない | O25: - | P25: - | R25: Ⅱb | S25: 否 | T25: 要監視 | Z25: 監視
C26: S7 | E26: 2 | F26: 28.8 | G26: 覆工・坑門 | H26: 水平打ち継ぎ目（左側） | I26: 材質劣化 | J26: うき・はく離 | M26: 0.10m×0.90m | N26: 新たに発生 | O26: - | P26: - | R26: Ⅱb | S26: 否 | T26: 要監視 | Z26: 監視
C27: S7 | E27: 3 | F27: 29.6 | G27: 覆工・坑門 | H27: 横断目地（天端） | I27: 材質劣化 | J27: 補強・補修材の破損 | M27: 6.80m×0.45m | N27: 新たに発生 | O27: - | P27: - | R27: Ⅲ | S27: 否 | T27: 要対策 | Z27: はく落防止対策工
C28: S7 | E28: 4 | F28: 26.8 | G28: 覆工・坑門 | H28: アーチ（右側） | I28: 材質劣化 | J28: 補強・補修材の破損 | M28: 3.10m×0.20m | N28: 新たに発生 | O28: - | P28: - | R28: Ⅲ | S28: 否 | T28: 要対策 | Z28: はく落防止対策工
C29: S7 | E29: 5 | F29: 28.2 | G29: 覆工・坑門 | H29: アーチ（右側） | I29: 外力 | J29: ひび割れ | M29: 幅1.0mm×長さ4.0m | N29: 進行が認められない | O29: Ⅰ | P29: Ⅰ | R29: Ⅱb | S29: 否 | T29: 要監視 | Z29: 監視
C30: S8 | E30: 1 | F30: 32.1 | G30: 覆工・坑門 | H30: アーチ（左側） | I30: 外力 | J30: ひび割れ | M30: 幅1.5mm×長さ3.8m | N30: 進行が認められない | O30: - | P30: - | R30: Ⅱb | S30: 否 | T30: 要監視 | Z30: 監視
C31: S8 | E31: 2 | F31: 32.6 | G31: 覆工・坑門 | H31: アーチ（左側） | I31: 材質劣化 | J31: うき・はく離 | M31: 0.30m×0.40m | N31: 新たに発生 | O31: - | P31: - | R31: Ⅱb | S31: 否 | T31: 要監視 | Z31: 監視
C32: S8 | E32: 3 | F32: 30.8 | G32: 覆工・坑門 | H32: アーチ（天端） | I32: 材質劣化 | J32: うき・はく離 | M32: 0.50m×0.15m | N32: 新たに発生 | O32: - | P32: - | R32: Ⅱa | S32: 否 | T32: 要対策 | Z32: はく落防止対策工
C33: S9 | E33: 1 | F33: 35.6 | G33: 覆工・坑門 | H33: アーチ（天端） | I33: 材質劣化 | J33: うき・はく離 | M33: 0.70m×1.00m | N33: 進行 | O33: - | P33: - | R33: Ⅱb | S33: 否 | T33: 要監視 | Z33: 監視
C34: S9 | E34: 2 | F34: 35 | G34: 覆工・坑門 | H34: アーチ（右側） | I34: 外力 | J34: ひび割れ | M34: 幅0.6mm×長さ2.7m | N34: 進行が認められない | O34: - | P34: - | R34: Ⅱb | S34: 否 | T34: 要監視 | Z34: 監視
C35: S10 | E35: 1 | F35: 40.2 | G35: 覆工・坑門 | H35: アーチ（左側） | I35: 外力 | J35: ひび割れ | M35: 幅0.5mm×長さ4.4m | N35: 進行が認められない | O35: - | P35: - | R35: Ⅱb | S35: 否 | T35: 要監視 | Z35: 監視
C36: S10 | E36: 2 | F36: 40 | G36: 覆工・坑門 | H36: アーチ（右側） | I36: 外力 | J36: ひび割れ | M36: 幅0.3mm×長さ3.7m | N36: 進行が認められない | O36: - | P36: - | R36: Ⅱb | S36: 否 | T36: 要監視 | Z36: 監視
... C39: S11 | E39: 2 | F39: 47.1 | G39: 覆工・坑門 | H39: 横断目地（左側） | I39: 材質劣化 | J39: 補強・補修材の破損 | M39: 0.20m×0.10m | N39: 新たに発生 | O39: - | P39: - | R39: Ⅱb | S39: 否 | T39: 要監視 | Z39: 監視
B40: ■定期点検記録様式 全スパン定期点検結果総括表（トンネル本体工） 【様式C-1-1】
B41: フリガナ | F41: チャウスヤマトンネル | I41: 路線名 | K41: 主要道路防府環状線 | O41: 定期点検業者 | Q41: セントラルコンサルタント株式会社 | U41: 定期点検年月日 | Y41: 44337
B42: 名 称 | F42: 茶臼山トンネル | I42: 管理者名 | K42: 山口県防府土木建築事務所 | O42: 定期点検者名 | Q42: 鹿子嶋 康博
B43: 定期点検結果 | C43: 覆工 スパン 番号 | E43: 変状 番号 | F43: 距離 （m） | G43: 変状部位 | I43: 変 状 の 内 容 | O43: 前回定期点検時の状態 | Q43: 今回定期点検結果 | U43: 措置履歴 | Z43: 対応方針 ・ 特記事項
G45: 対象箇所 | H45: 部位区分 | I45: 変状区分 | J45: 変状種類 | M45: 変状の発生範囲の規模 | N45: 前回定期点検時 との比較 | O45: 状態 | P45: 健全性 | Q45: 対策区分 | S45: 調査の 要否 | T45: 措置の 要否 | U45: 実施 | V45: 措置の実施状況
Q46: 応急措置前 | R46: 応急措置後
C47: S11 | E47: 3 | F47: 45.6 | G47: 覆工・坑門 | H47: アーチ（天端） | I47: 材質劣化 | J47: うき・はく離 | M47: 0.40m×0.15m | N47: 新たに発生 | O47: - | P47: - | R47: Ⅱa | S47: 否 | T47: 要対策 | Z47: はく落防止対策工
...

Sheet 様式C-1-2
B2: ■定期点検記録様式 定期点検結果総括表（トンネル内附属物等の取付状態） 【様式C-1-2】
B3: フリガナ | F3: チャウスヤマトンネル | J3: 路線名 | L3: 主要道路防府環状線 | O3: 定期点検業者 | Q3: セントラルコンサルタント株式会社 | U3: 定期点検年月日 | Y3: 44337
B4: 名 称 | F4: 茶臼山トンネル | J4: 管理者名 | L4: 山口県防府土木建築事務所 | O4: 定期点検者名 | Q4: 鹿子嶋 康博
B5: 定期点検結果 | C5: 覆工 スパン 番号 | E5: 異常 番号 | F5: 距離 （m） | G5: 異常部位 | J5: 異 常 の 内 容 | P5: 定期点検結果 | X5: 対応方針 ・ 特記事項
G6: 対象箇所 | I6: 部位区分 | J6: 異常種類 | N6: 異常の発生範囲の規模 | P6: 異常判定区分 | R6: 実施 | S6: 応急措置の内容
P7: 応急措置前 | Q7: 応急措置後
C8: PS | E8: 1 | F8: 0 | G8: その他施設 | H8: その他 | I8: 附属物本体 | J8: 変形，欠損 | N8: 1箇所 | Q8: × | X8: 交換
C9: S21 | E9: 1 | F9: 89.6 | G9: その他施設 | H9: 内装板取付部材 | I9: 取付部材 | J9: 前回異常(内装板の金具破損) | N9: 1箇所 | Q9: ○
C10: S24 | E10: 1 | F10: 103.9 | G10: その他施設 | H10: その他 | I10: 附属物本体 | J10: 前回異常(内装板破損) | N10: 1箇所 | Q10: ○
C11: S32 | E11: 1 | F11: 156.8 | G11: 非常用施設 | H11: 通話型通報設備 | I11: 附属物本体 | J11: 前回異常(非常電話故障) | N11: 1箇所 | Q11: ○
C12: S34 | E12: 1 | F12: 166.8 | G12: その他施設 | H12: その他 | I12: 附属物本体 | J12: 前回異常(内装板破損) | N12: 2箇所 | Q12: ○
C13: S42 | E13: 1 | F13: 231.9 | G13: その他施設 | H13: その他 | I13: 附属物本体 | J13: 前回異常(内装板破損) | N13: 3箇所 | Q13: ○
C14: S43 | E14: 1 | F14: 237.3 | G14: その他施設 | H14: その他 | I14: 附属物本体 | J14: 前回異常(内装板破損) | N14: 4箇所 | Q14: ○
C15: S44 | E15: 1 | F15: 245 | G15: その他施設 | H15: その他 | I15: 附属物本体 | J15: 前回異常(内装板破損) | N15: 5箇所 | Q15: ○
C16: S48 | E16: 1 | F16: 272.3 | G16: その他施設 | H16: その他 | I16: 附属物本体 | J16: 前回異常(内装板破損) | N16: 2箇所 | Q16: ○
C17: S49 | E17: 1 | F17: 276.7 | G17: その他施設 | H17: その他 | I17: 附属物本体 | J17: 前回異常(内装板破損) | N17: 1箇所 | Q17: ○
C18: S50 | E18: 1 | F18: 279.8 | G18: その他施設 | H18: その他 | I18: ボルト・ﾅｯﾄ・アンカー類 | J18: 緩み，脱落 | N18: 1箇所 | Q18: × | X18: 交換
C19: S50 | E19: 2 | F19: 283.5 | G19: その他施設 | H19: 内装板取付部材 | I19: 取付部材 | J19: 変形，欠損 | N19: 4箇所 | Q19: × | X19: 交換
C39: ※ 異常判定区分×について記入すること。また、応急措置により○と判定された箇所も記入すること。
C40: ※ 応急措置を実施しないで判定した箇所の異常判定区分は、異常判定区分の応急措置後の欄に記入すること。
C41: ※ 異常の除去が不完全で、緊急対応が必要な場合は対応方針欄に記入すること。
C42: ※ １スパンの覆工に複数の異常がある場合は、異常箇所毎に記入すること。
C43: ※ 行が不足する場合は、適時、表の行を増やすこと。

Sheet 様式C-2
B2: ■定期点検記録様式 状態の把握の内容 【様式C-2】
B3: フリガナ | E3: チャウスヤマトンネル | H3: 路線名 | J3: 主要道路防府環状線 | M3: 定期点検業者 | R3: セントラルコンサルタント株式会社 | U3: 定期点検年月日 | X3: 44337
B4: 名 称 | E4: 茶臼山トンネル | H4: 管理者名 | J4: 山口県防府土木建築事務所 | M4: 定期点検者名 | R4: 鹿子嶋 康博
B5: 状態の把握の内容 | C5: 覆工スパン 番号 | E5: 変状 番号 | F5: 状態の把握の内容
F6: 年月日 | H6: 内容 | O6: 結果 | W6: 対策区分の 判定 | Y6: 健全性
B22: 注）状態の把握において、微破壊・非破壊検査や各種試験等を実施した場合について記載する。
B23: ※ 行が不足する場合は、適時、表の行を増やすこと。

Sheet 様式D-1-1(トンネル様式2P001)
B2: ■定期点検記録様式 変状写真台帳 | Y2: Ⅰ
B3: フリガナ | D3: チャウスヤマトンネル | H3: 路線名 | J3: 主要道路防府環状線 | M3: 定期点検業者 | P3: セントラルコンサルタント株式会社 | S3: 定期点検年月日 | U3: 44337 | Y3: Ⅱ
B4: 名 称 | D4: 茶臼山トンネル | H4: 管理者名 | J4: 山口県防府土木建築事務所 | M4: 定期点検者名 | P4: 鹿子嶋 康博 | Y4: Ⅲ
B5: 写真 番号 | C5: 覆工 スパン 番号 | D5: S2 | M5: 写真 番号 | N5: 覆工 スパン 番号 | O5: S2 | Y5: Ⅳ
C7: 変状 番号 | D7: 1 | N7: 変状 番号 | O7: 2
B9: 変状 部位 | C9: 対象 箇所 | D9: 覆工・坑門 | M9: 変状 部位 | N9: 対象 箇所 | O9: 覆工・坑門
C11: 部位 区分 | D11: アーチ（天端） | N11: 部位 区分 | O11: アーチ（天端）
B13: 変状区分 | D13: 漏水 | M13: 変状区分 | O13: 漏水
B14: 変状種類 | D14: 漏水 | M14: 変状種類 | O14: 漏水
B15: 健全性 | C15: 応急措置前 | M15: 健全性 | N15: 応急措置前
C16: 応急措置後 | E16: Ⅱb | N16: 応急措置後 | P16: Ⅱa
B17: 変状の発生範囲の規模 | E17: 7.60m×1.00m | M17: 変状の発生範囲の規模 | P17: 7.20m×0.50m
B18: 前回定期点検時の状態 | E18: 滴水 | M18: 前回定期点検時の状態 | P18: 滴水
B19: 調査方針 | M19: 調査方針
B20: 対策履歴 | H20: 実施状況（実施日） | M20: 対策履歴 | S20: 実施状況（実施日）
B21: メモ | D21: にじみ(FRPメッシュ背面) | M21: メモ | O21: 滴水
B22: 写真 番号 | C22: 覆工 スパン 番号 | D22: S2 | M22: 写真 番号 | N22: 覆工 スパン 番号 | O22: S2
C24: 変状 番号 | D24: 3 | N24: 変状 番号 | O24: 4
B26: 変状 部位 | C26: 対象 箇所 | D26: 覆工・坑門 | M26: 変状 部位 | N26: 対象 箇所 | O26: 路面
C28: 部位 区分 | D28: アーチ（天端） | N28: 部位 区分 | O28: 車道
B30: 変状区分 | D30: 漏水 | M30: 変状区分 | O30: 漏水
B31: 変状種類 | D31: 漏水 | M31: 変状種類 | O31: 滞水
B32: 健全性 | C32: 応急措置前 | M32: 健全性 | N32: 応急措置前
C33: 応急措置後 | E33: Ⅱb | N33: 応急措置後 | P33: Ⅱb
B34: 変状の発生範囲の規模 | E34: 6.00m×1.10m | M34: 変状の発生範囲の規模 | P34: 0.50m×0.40m
B35: 前回定期点検時の状態 | E35: にじみ | M35: 前回定期点検時の状態 | P35: 滞水
B36: 調査方針 | M36: 調査方針
B37: 対策履歴 | H37: 実施状況（実施日） | M37: 対策履歴 | S37: 実施状況（実施日）
B38: メモ | D38: にじみ | M38: メモ | O38: 滞水
C39: ※ 健全性（応急措置後）の判定区分Ⅱ～Ⅳについて添付すること。また、点検前に 実施された措置によりⅠと判定された箇所も添付すること。 | N39: ※ 変状の発生範囲の規模とは、対策を行う際に参考となる変状の長さや面積をいう。
N40: ※ 応急措置を実施しないで判定した変状の健全性は、健全性の応急措置後の欄に記入すること。
C41: ※ たたき落としを実施した場合は、実施後の写真を添付すること。 | N41: ※ 変状の発生範囲の規模は、面積・寸法を記載すること。
C42: ※ 附属物の取付状態に関する異常写真は別途、様式D-1-2でとりまとめること。 | N42: (ひび割れ幅のみmmとし、その他をm表記とする)
C43: ※ 変状数に準じてシートを追加すること。（１シートに１ページとすること。） | N43: ※ 構造用鋼材以外の異物に伴ううき・はく離については、メモ欄に異物の概要を記入すること。

Sheet 様式D-1-1(トンネル様式2P002)
B2: ■定期点検記録様式 変状写真台帳 | Y2: Ⅰ
B3: フリガナ | D3: チャウスヤマトンネル | H3: 路線名 | J3: 主要道路防府環状線 | M3: 定期点検業者 | P3: セントラルコンサルタント株式会社 | S3: 定期点検年月日 | U3: 44337 | Y3: Ⅱ
B4: 名 称 | D4: 茶臼山トンネル | H4: 管理者名 | J4: 山口県防府土木建築事務所 | M4: 定期点検者名 | P4: 鹿子嶋 康博 | Y4: Ⅲ
B5: 写真 番号 | C5: 覆工 スパン 番号 | D5: S3 | M5: 写真 番号 | N5: 覆工 スパン 番号 | O5: S3 | Y5: Ⅳ
C7: 変状 番号 | D7: 1 | N7: 変状 番号 | O7: 2
B9: 変状 部位 | C9: 対象 箇所 | D9: 覆工・坑門 | M9: 変状 部位 | N9: 対象 箇所 | O9: 覆工・坑門
C11: 部位 区分 | D11: アーチ（左側） | N11: 部位 区分 | O11: アーチ（右側）
B13: 変状区分 | D13: 材質劣化 | M13: 変状区分 | O13: 外力
B14: 変状種類 | D14: 補強・補修材の破損 | M14: 変状種類 | O14: ひび割れ
B15: 健全性 | C15: 応急措置前 | M15: 健全性 | N15: 応急措置前
C16: 応急措置後 | E16: Ⅱb | N16: 応急措置後 | P16: Ⅱb
B17: 変状の発生範囲の規模 | E17: 0.10m×0.40m | M17: 変状の発生範囲の規模 | P17: 幅0.3mm×長さ1.4m
B18: 前回定期点検時の状態 | E18: - | M18: 前回定期点検時の状態 | P18: 縦断ひび割れ 幅0.3mm×長さ2.4m
B19: 調査方針 | M19: 調査方針
B20: 対策履歴 | H20: 実施状況（実施日） | M20: 対策履歴 | S20: 実施状況（実施日）
B21: メモ | D21: 線導水の破損 | M21: メモ | O21: 縦断ひび割れ
B22: 写真 番号 | C22: 覆工 スパン 番号 | D22: S4 | M22: 写真 番号 | N22: 覆工 スパン 番号 | O22: S4
C24: 変状 番号 | D24: 1 | N24: 変状 番号 | O24: 2
B26: 変状 部位 | C26: 対象 箇所 | D26: 覆工・坑門 | M26: 変状 部位 | N26: 対象 箇所 | O26: 覆工・坑門
C28: 部位 区分 | D28: アーチ（左側） | N28: 部位 区分 | O28: アーチ（右側）
B30: 変状区分 | D30: 外力 | M30: 変状区分 | O30: 外力
B31: 変状種類 | D31: ひび割れ | M31: 変状種類 | O31: ひび割れ
B32: 健全性 | C32: 応急措置前 | M32: 健全性 | N32: 応急措置前
C33: 応急措置後 | E33: Ⅱb | N33: 応急措置後 | P33: Ⅱb
B34: 変状の発生範囲の規模 | E34: 幅1.0mm×長さ3.7m | M34: 変状の発生範囲の規模 | P34: 幅0.3mm未満
B35: 前回定期点検時の状態 | E35: 縦断ひび割れ 幅1.0mm×長さ3.7m | M35: 前回定期点検時の状態 | P35: 縦断ひび割れ 幅0.3mm以上×長さ3.4m
B36: 調査方針 | M36: 調査方針
B37: 対策履歴 | H37: 実施状況（実施日） | M37: 対策履歴 | S37: 実施状況（実施日）
B38: メモ | D38: 縦断ひび割れ(にじみ,漏水跡) | M38: メモ | O38: 縦断ひび割れ
C39: ※ 健全性（応急措置後）の判定区分Ⅱ～Ⅳについて添付すること。また、点検前に 実施された措置によりⅠと判定された箇所も添付すること。 | N39: ※ 変状の発生範囲の規模とは、対策を行う際に参考となる変状の長さや面積をいう。
N40: ※ 応急措置を実施しないで判定した変状の健全性は、健全性の応急措置後の欄に記入すること。
C41: ※ たたき落としを実施した場合は、実施後の写真を添付すること。 | N41: ※ 変状の発生範囲の規模は、面積・寸法を記載すること。
C42: ※ 附属物の取付状態に関する異常写真は別途、様式D-1-2でとりまとめること。 | N42: (ひび割れ幅のみmmとし、その他をm表記とする)
C43: ※ 変状数に準じてシートを追加すること。（１シートに１ページとすること。） | N43: ※ 構造用鋼材以外の異物に伴ううき・はく離については、メモ欄に異物の概要を記入すること。

Sheet 様式D-1-1(トンネル様式2P003)
B2: ■定期点検記録様式 変状写真台帳 | Y2: Ⅰ
B3: フリガナ | D3: チャウスヤマトンネル | H3: 路線名 | J3: 主要道路防府環状線 | M3: 定期点検業者 | P3: セントラルコンサルタント株式会社 | S3: 定期点検年月日 | U3: 44337 | Y3: Ⅱ
B4: 名 称 | D4: 茶臼山トンネル | H4: 管理者名 | J4: 山口県防府土木建築事務所 | M4: 定期点検者名 | P4: 鹿子嶋 康博 | Y4: Ⅲ
B5: 写真 番号 | C5: 覆工 スパン 番号 | D5: S5 | M5: 写真 番号 | N5: 覆工 スパン 番号 | O5: S5 | Y5: Ⅳ
C7: 変状 番号 | D7: 1 | N7: 変状 番号 | O7: 2
B9: 変状 部位 | C9: 対象 箇所 | D9: 覆工・坑門 | M9: 変状 部位 | N9: 対象 箇所 | O9: 覆工・坑門
C11: 部位 区分 | D11: アーチ（左側） | N11: 部位 区分 | O11: 水平打ち継ぎ目（左側）
B13: 変状区分 | D13: 外力 | M13: 変状区分 | O13: 材質劣化
B14: 変状種類 | D14: ひび割れ | M14: 変状種類 | O14: うき・はく離
B15: 健全性 | C15: 応急措置前 | M15: 健全性 | N15: 応急措置前
C16: 応急措置後 | E16: Ⅱb | N16: 応急措置後 | P16: Ⅱb
B17: 変状の発生範囲の規模 | E17: 幅0.5mm×長さ5.2m | M17: 変状の発生範囲の規模 | P17: 0.15m×0.5m、他1箇所
B18: 前回定期点検時の状態 | E18: 縦断ひび割れ 幅0.5mm×長3.5さm | M18: 前回定期点検時の状態 | P18: -
B19: 調査方針 | M19: 調査方針
B20: 対策履歴 | H20: 実施状況（実施日） | M20: 対策履歴 | S20: 実施状況（実施日）
B21: メモ | D21: 縦断ひび割れ(遊離石灰) | M21: メモ | O21: うき
B22: 写真 番号 | C22: 覆工 スパン 番号 | D22: S5 | M22: 写真 番号 | N22: 覆工 スパン 番号 | O22: S5
C24: 変状 番号 | D24: 3 | N24: 変状 番号 | O24: 4
B26: 変状 部位 | C26: 対象 箇所 | D26: 覆工・坑門 | M26: 変状 部位 | N26: 対象 箇所 | O26: 覆工・坑門
C28: 部位 区分 | D28: アーチ（天端） | N28: 部位 区分 | O28: アーチ（右側）
B30: 変状区分 | D30: 材質劣化 | M30: 変状区分 | O30: 外力
B31: 変状種類 | D31: うき・はく離 | M31: 変状種類 | O31: ひび割れ
B32: 健全性 | C32: 応急措置前 | M32: 健全性 | N32: 応急措置前
C33: 応急措置後 | E33: Ⅱa | N33: 応急措置後 | P33: Ⅱb
B34: 変状の発生範囲の規模 | E34: 0.35m×0.15m | M34: 変状の発生範囲の規模 | P34: 幅1.0mm×長さ4.7m
B35: 前回定期点検時の状態 | E35: - | M35: 前回定期点検時の状態 | P35: 縦断ひび割れ 幅1.0mm×長さ5.3m
B36: 調査方針 | M36: 調査方針
B37: 対策履歴 | H37: 実施状況（実施日） | M37: 対策履歴 | S37: 実施状況（実施日）
B38: メモ | D38: 補修跡うき | M38: メモ | O38: 縦断ひび割れ(にじみ・遊離石灰)
C39: ※ 健全性（応急措置後）の判定区分Ⅱ～Ⅳについて添付すること。また、点検前に 実施された措置によりⅠと判定された箇所も添付すること。 | N39: ※ 変状の発生範囲の規模とは、対策を行う際に参考となる変状の長さや面積をいう。
N40: ※ 応急措置を実施しないで判定した変状の健全性は、健全性の応急措置後の欄に記入すること。
C41: ※ たたき落としを実施した場合は、実施後の写真を添付すること。 | N41: ※ 変状の発生範囲の規模は、面積・寸法を記載すること。
C42: ※ 附属物の取付状態に関する異常写真は別途、様式D-1-2でとりまとめること。 | N42: (ひび割れ幅のみmmとし、その他をm表記とする)
C43: ※ 変状数に準じてシートを追加すること。（１シートに１ページとすること。） | N43: ※ 構造用鋼材以外の異物に伴ううき・はく離については、メモ欄に異物の概要を記入すること。

Sheet 様式D-1-1(トンネル様式2P004)
B2: ■定期点検記録様式 変状写真台帳 | Y2: Ⅰ
B3: フリガナ | D3: チャウスヤマトンネル | H3: 路線名 | J3: 主要道路防府環状線 | M3: 定期点検業者 | P3: セントラルコンサルタント株式会社 | S3: 定期点検年月日 | U3: 44337 | Y3: Ⅱ
B4: 名 称 | D4: 茶臼山トンネル | H4: 管理者名 | J4: 山口県防府土木建築事務所 | M4: 定期点検者名 | P4: 鹿子嶋 康博 | Y4: Ⅲ
B5: 写真 番号 | C5: 覆工 スパン 番号 | D5: S5 | M5: 写真 番号 | N5: 覆工 スパン 番号 | O5: S6 | Y5: Ⅳ
C7: 変状 番号 | D7: 5 | N7: 変状 番号 | O7: 1
B9: 変状 部位 | C9: 対象 箇所 | D9: 覆工・坑門 | M9: 変状 部位 | N9: 対象 箇所 | O9: 覆工・坑門
C11: 部位 区分 | D11: アーチ（右側） | N11: 部位 区分 | O11: アーチ（左側）
B13: 変状区分 | D13: 漏水 | M13: 変状区分 | O13: 外力
B14: 変状種類 | D14: 漏水 | M14: 変状種類 | O14: ひび割れ
B15: 健全性 | C15: 応急措置前 | M15: 健全性 | N15: 応急措置前
C16: 応急措置後 | E16: Ⅱb | N16: 応急措置後 | P16: Ⅱb
B17: 変状の発生範囲の規模 | E17: 3.30m×3.00m | M17: 変状の発生範囲の規模 | P17: 幅1.5mm×長さ3.6m
B18: 前回定期点検時の状態 | E18: にじみ | M18: 前回定期点検時の状態 | P18: 縦断ひび割れ 幅1.0mm×長さ3.6m
B19: 調査方針 | M19: 調査方針
B20: 対策履歴 | H20: 実施状況（実施日） | M20: 対策履歴 | S20: 実施状況（実施日）
B21: メモ | D21: ひび割れ沿いのにじみ | M21: メモ | O21: 縦断ひび割れ(遊離石灰)
B22: 写真 番号 | C22: 覆工 スパン 番号 | D22: S6 | M22: 写真 番号 | N22: 覆工 スパン 番号 | O22: S6
C24: 変状 番号 | D24: 2 | N24: 変状 番号 | O24: 3
B26: 変状 部位 | C26: 対象 箇所 | D26: 覆工・坑門 | M26: 変状 部位 | N26: 対象 箇所 | O26: 覆工・坑門
C28: 部位 区分 | D28: アーチ（左側） | N28: 部位 区分 | O28: アーチ（天端）
B30: 変状区分 | D30: 漏水 | M30: 変状区分 | O30: 漏水
B31: 変状種類 | D31: 漏水 | M31: 変状種類 | O31: 漏水
B32: 健全性 | C32: 応急措置前 | M32: 健全性 | N32: 応急措置前
C33: 応急措置後 | E33: Ⅱb | N33: 応急措置後 | P33: Ⅰ
B34: 変状の発生範囲の規模 | E34: 4.70m×0.50m | M34: 変状の発生範囲の規模 | P34: 6.90m×0.50m
B35: 前回定期点検時の状態 | E35: にじみ | M35: 前回定期点検時の状態 | P35: 滴水
B36: 調査方針 | M36: 調査方針
B37: 対策履歴 | H37: 実施状況（実施日） | M37: 対策履歴 | S37: 実施状況（実施日）
B38: メモ | D38: にじみ | M38: メモ | O38: 漏水跡
C39: ※ 健全性（応急措置後）の判定区分Ⅱ～Ⅳについて添付すること。また、点検前に 実施された措置によりⅠと判定された箇所も添付すること。 | N39: ※ 変状の発生範囲の規模とは、対策を行う際に参考となる変状の長さや面積をいう。
N40: ※ 応急措置を実施しないで判定した変状の健全性は、健全性の応急措置後の欄に記入すること。
C41: ※ たたき落としを実施した場合は、実施後の写真を添付すること。 | N41: ※ 変状の発生範囲の規模は、面積・寸法を記載すること。
C42: ※ 附属物の取付状態に関する異常写真は別途、様式D-1-2でとりまとめること。 | N42: (ひび割れ幅のみmmとし、その他をm表記とする)
C43: ※ 変状数に準じてシートを追加すること。（１シートに１ページとすること。） | N43: ※ 構造用鋼材以外の異物に伴ううき・はく離については、メモ欄に異物の概要を記入すること。

Sheet 様式D-1-1(トンネル様式2P005)
B2: ■定期点検記録様式 変状写真台帳 | Y2: Ⅰ
B3: フリガナ | D3: チャウスヤマトンネル | H3: 路線名 | J3: 主要道路防府環状線 | M3: 定期点検業者 | P3: セントラルコンサルタント株式会社 | S3: 定期点検年月日 | U3: 44337 | Y3: Ⅱ
B4: 名 称 | D4: 茶臼山トンネル | H4: 管理者名 | J4: 山口県防府土木建築事務所 | M4: 定期点検者名 | P4: 鹿子嶋 康博 | Y4: Ⅲ
B5: 写真 番号 | C5: 覆工 スパン 番号 | D5: S7 | M5: 写真 番号 | N5: 覆工 スパン 番号 | O5: S7 | Y5: Ⅳ
C7: 変状 番号 | D7: 1 | N7: 変状 番号 | O7: 2
B9: 変状 部位 | C9: 対象 箇所 | D9: 覆工・坑門 | M9: 変状 部位 | N9: 対象 箇所 | O9: 覆工・坑門
C11: 部位 区分 | D11: アーチ（左側） | N11: 部位 区分 | O11: 水平打ち継ぎ目（左側）
B13: 変状区分 | D13: 外力 | M13: 変状区分 | O13: 材質劣化
B14: 変状種類 | D14: ひび割れ | M14: 変状種類 | O14: うき・はく離
B15: 健全性 | C15: 応急措置前 | M15: 健全性 | N15: 応急措置前
C16: 応急措置後 | E16: Ⅱb | N16: 応急措置後 | P16: Ⅱb
B17: 変状の発生範囲の規模 | E17: 幅0.3mm未満 | M17: 変状の発生範囲の規模 | P17: 0.10m×0.90m
B18: 前回定期点検時の状態 | E18: 縦断ひび割れ 幅0.3mm以上×長さ3.8m | M18: 前回定期点検時の状態 | P18: -
B19: 調査方針 | M19: 調査方針
B20: 対策履歴 | H20: 実施状況（実施日） | M20: 対策履歴 | S20: 実施状況（実施日）
B21: メモ | D21: 縦断ひび割れ(遊離石灰) | M21: メモ | O21: 豆板
B22: 写真 番号 | C22: 覆工 スパン 番号 | D22: S7 | M22: 写真 番号 | N22: 覆工 スパン 番号 | O22: S7
C24: 変状 番号 | D24: 3 | N24: 変状 番号 | O24: 4
B26: 変状 部位 | C26: 対象 箇所 | D26: 覆工・坑門 | M26: 変状 部位 | N26: 対象 箇所 | O26: 覆工・坑門
C28: 部位 区分 | D28: 横断目地（天端） | N28: 部位 区分 | O28: アーチ（右側）
B30: 変状区分 | D30: 材質劣化 | M30: 変状区分 | O30: 材質劣化
B31: 変状種類 | D31: 補強・補修材の破損 | M31: 変状種類 | O31: 補強・補修材の破損
B32: 健全性 | C32: 応急措置前 | M32: 健全性 | N32: 応急措置前
C33: 応急措置後 | E33: Ⅲ | N33: 応急措置後 | P33: Ⅲ
B34: 変状の発生範囲の規模 | E34: 6.80m×0.45m | M34: 変状の発生範囲の規模 | P34: 3.10m×0.20m
B35: 前回定期点検時の状態 | E35: - | M35: 前回定期点検時の状態 | P35: -
B36: 調査方針 | M36: 調査方針
B37: 対策履歴 | H37: 実施状況（実施日） | M37: 対策履歴 | S37: 実施状況（実施日）
B38: メモ | D38: 樋のアンカー腐食(全数)、一部アンカー脱落 | M38: メモ | O38: 樋の劣化・アンカー腐食(全数)
C39: ※ 健全性（応急措置後）の判定区分Ⅱ～Ⅳについて添付すること。また、点検前に 実施された措置によりⅠと判定された箇所も添付すること。 | N39: ※ 変状の発生範囲の規模とは、対策を行う際に参考となる変状の長さや面積をいう。
N40: ※ 応急措置を実施しないで判定した変状の健全性は、健全性の応急措置後の欄に記入すること。
C41: ※ たたき落としを実施した場合は、実施後の写真を添付すること。 | N41: ※ 変状の発生範囲の規模は、面積・寸法を記載すること。
C42: ※ 附属物の取付状態に関する異常写真は別途、様式D-1-2でとりまとめること。 | N42: (ひび割れ幅のみmmとし、その他をm表記とする)
C43: ※ 変状数に準じてシートを追加すること。（１シートに１ページとすること。） | N43: ※ 構造用鋼材以外の異物に伴ううき・はく離については、メモ欄に異物の概要を記入すること。

Sheet 様式D-1-1(トンネル様式2P006)
B2: ■定期点検記録様式 変状写真台帳 | Y2: Ⅰ
B3: フリガナ | D3: チャウスヤマトンネル | H3: 路線名 | J3: 主要道路防府環状線 | M3: 定期点検業者 | P3: セントラルコンサルタント株式会社 | S3: 定期点検年月日 | U3: 44337 | Y3: Ⅱ
B4: 名 称 | D4: 茶臼山トンネル | H4: 管理者名 | J4: 山口県防府土木建築事務所 | M4: 定期点検者名 | P4: 鹿子嶋 康博 | Y4: Ⅲ
B5: 写真 番号 | C5: 覆工 スパン 番号 | D5: S7 | M5: 写真 番号 | N5: 覆工 スパン 番号 | O5: S8 | Y5: Ⅳ
C7: 変状 番号 | D7: 5 | N7: 変状 番号 | O7: 1
B9: 変状 部位 | C9: 対象 箇所 | D9: 覆工・坑門 | M9: 変状 部位 | N9: 対象 箇所 | O9: 覆工・坑門
C11: 部位 区分 | D11: アーチ（右側） | N11: 部位 区分 | O11: アーチ（左側）
B13: 変状区分 | D13: 外力 | M13: 変状区分 | O13: 外力
B14: 変状種類 | D14: ひび割れ | M14: 変状種類 | O14: ひび割れ
B15: 健全性 | C15: 応急措置前 | M15: 健全性 | N15: 応急措置前
C16: 応急措置後 | E16: Ⅱb | N16: 応急措置後 | P16: Ⅱb
B17: 変状の発生範囲の規模 | E17: 幅1.0mm×長さ4.0m | M17: 変状の発生範囲の規模 | P17: 幅1.5mm×長さ3.8m
B18: 前回定期点検時の状態 | E18: 縦断ひび割れ 幅1.0mm×長さ3.8m | M18: 前回定期点検時の状態 | P18: 縦断ひび割れ 幅1.5mm×長さ3.8m
B19: 調査方針 | M19: 調査方針
B20: 対策履歴 | H20: 実施状況（実施日） | M20: 対策履歴 | S20: 実施状況（実施日）
B21: メモ | D21: 縦断ひび割れ(遊離石灰) | M21: メモ | O21: 縦断ひび割れ(遊離石灰)
B22: 写真 番号 | C22: 覆工 スパン 番号 | D22: S8 | M22: 写真 番号 | N22: 覆工 スパン 番号 | O22: S8
C24: 変状 番号 | D24: 2 | N24: 変状 番号 | O24: 3
B26: 変状 部位 | C26: 対象 箇所 | D26: 覆工・坑門 | M26: 変状 部位 | N26: 対象 箇所 | O26: 覆工・坑門
C28: 部位 区分 | D28: アーチ（左側） | N28: 部位 区分 | O28: アーチ（天端）
B30: 変状区分 | D30: 材質劣化 | M30: 変状区分 | O30: 材質劣化
B31: 変状種類 | D31: うき・はく離 | M31: 変状種類 | O31: うき・はく離
B32: 健全性 | C32: 応急措置前 | M32: 健全性 | N32: 応急措置前
C33: 応急措置後 | E33: Ⅱb | N33: 応急措置後 | P33: Ⅱa
B34: 変状の発生範囲の規模 | E34: 0.30m×0.40m | M34: 変状の発生範囲の規模 | P34: 0.50m×0.15m
B35: 前回定期点検時の状態 | E35: - | M35: 前回定期点検時の状態 | P35: -
B36: 調査方針 | M36: 調査方針
B37: 対策履歴 | H37: 実施状況（実施日） | M37: 対策履歴 | S37: 実施状況（実施日）
B38: メモ | D38: 豆板 | M38: メモ | O38: 補修跡うき
C39: ※ 健全性（応急措置後）の判定区分Ⅱ～Ⅳについて添付すること。また、点検前に 実施された措置によりⅠと判定された箇所も添付すること。 | N39: ※ 変状の発生範囲の規模とは、対策を行う際に参考となる変状の長さや面積をいう。
N40: ※ 応急措置を実施しないで判定した変状の健全性は、健全性の応急措置後の欄に記入すること。
C41: ※ たたき落としを実施した場合は、実施後の写真を添付すること。 | N41: ※ 変状の発生範囲の規模は、面積・寸法を記載すること。
C42: ※ 附属物の取付状態に関する異常写真は別途、様式D-1-2でとりまとめること。 | N42: (ひび割れ幅のみmmとし、その他をm表記とする)
C43: ※ 変状数に準じてシートを追加すること。（１シートに１ページとすること。） | N43: ※ 構造用鋼材以外の異物に伴ううき・はく離については、メモ欄に異物の概要を記入すること。

Sheet 様式D-1-1(トンネル様式2P007)
B2: ■定期点検記録様式 変状写真台帳 | Y2: Ⅰ
B3: フリガナ | D3: チャウスヤマトンネル | H3: 路線名 | J3: 主要道路防府環状線 | M3: 定期点検業者 | P3: セントラルコンサルタント株式会社 | S3: 定期点検年月日 | U3: 44337 | Y3: Ⅱ
B4: 名 称 | D4: 茶臼山トンネル | H4: 管理者名 | J4: 山口県防府土木建築事務所 | M4: 定期点検者名 | P4: 鹿子嶋 康博 | Y4: Ⅲ
B5: 写真 番号 | C5: 覆工 スパン 番号 | D5: S9 | M5: 写真 番号 | N5: 覆工 スパン 番号 | O5: S9 | Y5: Ⅳ
C7: 変状 番号 | D7: 1 | N7: 変状 番号 | O7: 2
B9: 変状 部位 | C9: 対象 箇所 | D9: 覆工・坑門 | M9: 変状 部位 | N9: 対象 箇所 | O9: 覆工・坑門
C11: 部位 区分 | D11: アーチ（天端） | N11: 部位 区分 | O11: アーチ（右側）
B13: 変状区分 | D13: 材質劣化 | M13: 変状区分 | O13: 外力
B14: 変状種類 | D14: うき・はく離 | M14: 変状種類 | O14: ひび割れ
B15: 健全性 | C15: 応急措置前 | M15: 健全性 | N15: 応急措置前
C16: 応急措置後 | E16: Ⅱb | N16: 応急措置後 | P16: Ⅱb
B17: 変状の発生範囲の規模 | E17: 0.70m×1.00m | M17: 変状の発生範囲の規模 | P17: 幅0.6mm×長さ2.7m
B18: 前回定期点検時の状態 | E18: 豆板 0.7m×1.0m | M18: 前回定期点検時の状態 | P18: 縦断ひび割れ 幅0.7mm×長さ2.7m
B19: 調査方針 | M19: 調査方針
B20: 対策履歴 | H20: 実施状況（実施日） | M20: 対策履歴 | S20: 実施状況（実施日）
B21: メモ | D21: 豆板 | M21: メモ | O21: 縦断ひび割れ
B22: 写真 番号 | C22: 覆工 スパン 番号 | D22: S10 | M22: 写真 番号 | N22: 覆工 スパン 番号 | O22: S10
C24: 変状 番号 | D24: 1 | N24: 変状 番号 | O24: 2
B26: 変状 部位 | C26: 対象 箇所 | D26: 覆工・坑門 | M26: 変状 部位 | N26: 対象 箇所 | O26: 覆工・坑門
C28: 部位 区分 | D28: アーチ（左側） | N28: 部位 区分 | O28: アーチ（右側）
B30: 変状区分 | D30: 外力 | M30: 変状区分 | O30: 外力
B31: 変状種類 | D31: ひび割れ | M31: 変状種類 | O31: ひび割れ
B32: 健全性 | C32: 応急措置前 | M32: 健全性 | N32: 応急措置前
C33: 応急措置後 | E33: Ⅱb | N33: 応急措置後 | P33: Ⅱb
B34: 変状の発生範囲の規模 | E34: 幅0.5mm×長さ4.4m | M34: 変状の発生範囲の規模 | P34: 幅0.3mm×長さ3.7m
B35: 前回定期点検時の状態 | E35: 縦断ひび割れ 幅0.5mm×長さ4.3m | M35: 前回定期点検時の状態 | P35: 縦断ひび割れ 幅0.3mm×長さ4.2m
B36: 調査方針 | M36: 調査方針
B37: 対策履歴 | H37: 実施状況（実施日） | M37: 対策履歴 | S37: 実施状況（実施日）
B38: メモ | D38: 縦断ひび割れ(遊離石灰) | M38: メモ | O38: 縦断ひび割れ(遊離石灰)
C39: ※ 健全性（応急措置後）の判定区分Ⅱ～Ⅳについて添付すること。また、点検前に 実施された措置によりⅠと判定された箇所も添付すること。 | N39: ※ 変状の発生範囲の規模とは、対策を行う際に参考となる変状の長さや面積をいう。
N40: ※ 応急措置を実施しないで判定した変状の健全性は、健全性の応急措置後の欄に記入すること。
C41: ※ たたき落としを実施した場合は、実施後の写真を添付すること。 | N41: ※ 変状の発生範囲の規模は、面積・寸法を記載すること。
C42: ※ 附属物の取付状態に関する異常写真は別途、様式D-1-2でとりまとめること。 | N42: (ひび割れ幅のみmmとし、その他をm表記とする)
C43: ※ 変状数に準じてシートを追加すること。（１シートに１ページとすること。） | N43: ※ 構造用鋼材以外の異物に伴ううき・はく離については、メモ欄に異物の概要を記入すること。

Sheet 様式D-1-1(トンネル様式2P008)
B2: ■定期点検記録様式 変状写真台帳 | Y2: Ⅰ
B3: フリガナ | D3: チャウスヤマトンネル | H3: 路線名 | J3: 主要道路防府環状線 | M3: 定期点検業者 | P3: セントラルコンサルタント株式会社 | S3: 定期点検年月日 | U3: 44337 | Y3: Ⅱ
B4: 名 称 | D4: 茶臼山トンネル | H4: 管理者名 | J4: 山口県防府土木建築事務所 | M4: 定期点検者名 | P4: 鹿子嶋 康博 | Y4: Ⅲ
B5: 写真 番号 | C5: 覆工 スパン 番号 | D5: S10 | M5: 写真 番号 | N5: 覆工 スパン 番号 | O5: S11 | Y5: Ⅳ
C7: 変状 番号 | D7: 3 | N7: 変状 番号 | O7: 1
B9: 変状 部位 | C9: 対象 箇所 | D9: 覆工・坑門 | M9: 変状 部位 | N9: 対象 箇所 | O9: 覆工・坑門
C11: 部位 区分 | D11: アーチ（右側） | N11: 部位 区分 | O11: アーチ（左側）
B13: 変状区分 | D13: 材質劣化 | M13: 変状区分 | O13: 外力
B14: 変状種類 | D14: うき・はく離 | M14: 変状種類 | O14: ひび割れ
B15: 健全性 | C15: 応急措置前 | M15: 健全性 | N15: 応急措置前
C16: 応急措置後 | E16: Ⅱb | N16: 応急措置後 | P16: Ⅱb
B17: 変状の発生範囲の規模 | E17: 0.20m×0.15m | M17: 変状の発生範囲の規模 | P17: 幅0.3mm×長さ2.9m
B18: 前回定期点検時の状態 | E18: - | M18: 前回定期点検時の状態 | P18: 縦断ひび割れ 幅0.5mm×長さ2.9m
B19: 調査方針 | M19: 調査方針
B20: 対策履歴 | H20: 実施状況（実施日） | M20: 対策履歴 | S20: 実施状況（実施日）
B21: メモ | D21: 豆板 | M21: メモ | O21: 縦断ひび割れ(遊離石灰)
B22: 写真 番号 | C22: 覆工 スパン 番号 | D22: S11 | M22: 写真 番号 | N22: 覆工 スパン 番号 | O22: S11
C24: 変状 番号 | D24: 2 | N24: 変状 番号 | O24: 3
B26: 変状 部位 | C26: 対象 箇所 | D26: 覆工・坑門 | M26: 変状 部位 | N26: 対象 箇所 | O26: 覆工・坑門
C28: 部位 区分 | D28: 横断目地（左側） | N28: 部位 区分 | O28: アーチ（天端）
B30: 変状区分 | D30: 材質劣化 | M30: 変状区分 | O30: 材質劣化
B31: 変状種類 | D31: 補強・補修材の破損 | M31: 変状種類 | O31: うき・はく離
B32: 健全性 | C32: 応急措置前 | M32: 健全性 | N32: 応急措置前
C33: 応急措置後 | E33: Ⅱb | N33: 応急措置後 | P33: Ⅱa
B34: 変状の発生範囲の規模 | E34: 0.20m×0.10m | M34: 変状の発生範囲の規模 | P34: 0.40m×0.15m
B35: 前回定期点検時の状態 | E35: - | M35: 前回定期点検時の状態 | P35: -
B36: 調査方針 | M36: 調査方針
B37: 対策履歴 | H37: 実施状況（実施日） | M37: 対策履歴 | S37: 実施状況（実施日）
B38: メモ | D38: 線導水の破損 | M38: メモ | O38: 補修跡うき
C39: ※ 健全性（応急措置後）の判定区分Ⅱ～Ⅳについて添付すること。また、点検前に 実施された措置によりⅠと判定された箇所も添付すること。 | N39: ※ 変状の発生範囲の規模とは、対策を行う際に参考となる変状の長さや面積をいう。
N40: ※ 応急措置を実施しないで判定した変状の健全性は、健全性の応急措置後の欄に記入すること。
C41: ※ たたき落としを実施した場合は、実施後の写真を添付すること。 | N41: ※ 変状の発生範囲の規模は、面積・寸法を記載すること。
C42: ※ 附属物の取付状態に関する異常写真は別途、様式D-1-2でとりまとめること。 | N42: (ひび割れ幅のみmmとし、その他をm表記とする)
C43: ※ 変状数に準じてシートを追加すること。（１シートに１ページとすること。） | N43: ※ 構造用鋼材以外の異物に伴ううき・はく離については、メモ欄に異物の概要を記入すること。

Sheet 様式D-1-1(トンネル様式2P009)
B2: ■定期点検記録様式 変状写真台帳 | Y2: Ⅰ
B3: フリガナ | D3: チャウスヤマトンネル | H3: 路線名 | J3: 主要道路防府環状線 | M3: 定期点検業者 | P3: セントラルコンサルタント株式会社 | S3: 定期点検年月日 | U3: 44337 | Y3: Ⅱ
B4: 名 称 | D4: 茶臼山トンネル | H4: 管理者名 | J4: 山口県防府土木建築事務所 | M4: 定期点検者名 | P4: 鹿子嶋 康博 | Y4: Ⅲ
B5: 写真 番号 | C5: 覆工 スパン 番号 | D5: S11 | M5: 写真 番号 | N5: 覆工 スパン 番号 | O5: S11 | Y5: Ⅳ
C7: 変状 番号 | D7: 4 | N7: 変状 番号 | O7: 5
B9: 変状 部位 | C9: 対象 箇所 | D9: 覆工・坑門 | M9: 変状 部位 | N9: 対象 箇所 | O9: 路面
C11: 部位 区分 | D11: アーチ（右側） | N11: 部位 区分 | O11: 側溝
B13: 変状区分 | D13: 外力 | M13: 変状区分 | O13: 漏水
B14: 変状種類 | D14: ひび割れ | M14: 変状種類 | O14: その他
B15: 健全性 | C15: 応急措置前 | M15: 健全性 | N15: 応急措置前
C16: 応急措置後 | E16: Ⅱb | N16: 応急措置後 | P16: Ⅱb
B17: 変状の発生範囲の規模 | E17: 幅0.3mm未満 | M17: 変状の発生範囲の規模 | P17: 0.60m×5.40m
B18: 前回定期点検時の状態 | E18: 縦断ひび割れ 幅0.3mm以上×長さ4.3m | M18: 前回定期点検時の状態 | P18: 滞水
B19: 調査方針 | M19: 調査方針
B20: 対策履歴 | H20: 実施状況（実施日） | M20: 対策履歴 | S20: 実施状況（実施日）
B21: メモ | D21: 縦断ひび割れ(にじみ・遊離石灰) | M21: メモ | O21: 土砂堆積(滞水跡)
B22: 写真 番号 | C22: 覆工 スパン 番号 | D22: S12 | M22: 写真 番号 | N22: 覆工 スパン 番号 | O22: S12
C24: 変状 番号 | D24: 1 | N24: 変状 番号 | O24: 2
B26: 変状 部位 | C26: 対象 箇所 | D26: 覆工・坑門 | M26: 変状 部位 | N26: 対象 箇所 | O26: 覆工・坑門
C28: 部位 区分 | D28: 横断目地（天端） | N28: 部位 区分 | O28: アーチ（天端）
B30: 変状区分 | D30: 材質劣化 | M30: 変状区分 | O30: 漏水
B31: 変状種類 | D31: 補強・補修材の破損 | M31: 変状種類 | O31: 漏水
B32: 健全性 | C32: 応急措置前 | M32: 健全性 | N32: 応急措置前
C33: 応急措置後 | E33: Ⅲ | N33: 応急措置後 | P33: Ⅱb
B34: 変状の発生範囲の規模 | E34: 7.10m×0.40m | M34: 変状の発生範囲の規模 | P34: 7.90m×0.50m
B35: 前回定期点検時の状態 | E35: - | M35: 前回定期点検時の状態 | P35: 滴水
B36: 調査方針 | M36: 調査方針
B37: 対策履歴 | H37: 実施状況（実施日） | M37: 対策履歴 | S37: 実施状況（実施日）
B38: メモ | D38: 樋のアンカー腐食(全数) | M38: メモ | O38: ひび割れ沿いのにじみ
C39: ※ 健全性（応急措置後）の判定区分Ⅱ～Ⅳについて添付すること。また、点検前に 実施された措置によりⅠと判定された箇所も添付すること。 | N39: ※ 変状の発生範囲の規模とは、対策を行う際に参考となる変状の長さや面積をいう。
N40: ※ 応急措置を実施しないで判定した変状の健全性は、健全性の応急措置後の欄に記入すること。
C41: ※ たたき落としを実施した場合は、実施後の写真を添付すること。 | N41: ※ 変状の発生範囲の規模は、面積・寸法を記載すること。
C42: ※ 附属物の取付状態に関する異常写真は別途、様式D-1-2でとりまとめること。 | N42: (ひび割れ幅のみmmとし、その他をm表記とする)
C43: ※ 変状数に準じてシートを追加すること。（１シートに１ページとすること。） | N43: ※ 構造用鋼材以外の異物に伴ううき・はく離については、メモ欄に異物の概要を記入すること。

Sheet 様式D-1-1(トンネル様式2P010)
B2: ■定期点検記録様式 変状写真台帳 | Y2: Ⅰ
B3: フリガナ | D3: チャウスヤマトンネル | H3: 路線名 | J3: 主要道路防府環状線 | M3: 定期点検業者 | P3: セントラルコンサルタント株式会社 | S3: 定期点検年月日 | U3: 44337 | Y3: Ⅱ
B4: 名 称 | D4: 茶臼山トンネル | H4: 管理者名 | J4: 山口県防府土木建築事務所 | M4: 定期点検者名 | P4: 鹿子嶋 康博 | Y4: Ⅲ
B5: 写真 番号 | C5: 覆工 スパン 番号 | D5: S12 | M5: 写真 番号 | N5: 覆工 スパン 番号 | O5: S14 | Y5: Ⅳ
C7: 変状 番号 | D7: 3 | N7: 変状 番号 | O7: 1
B9: 変状 部位 | C9: 対象 箇所 | D9: 覆工・坑門 | M9: 変状 部位 | N9: 対象 箇所 | O9: 覆工・坑門
C11: 部位 区分 | D11: アーチ（右側） | N11: 部位 区分 | O11: 水平打ち継ぎ目（左側）
B13: 変状区分 | D13: 材質劣化 | M13: 変状区分 | O13: 材質劣化
B14: 変状種類 | D14: 補強・補修材の破損 | M14: 変状種類 | O14: うき・はく離
B15: 健全性 | C15: 応急措置前 | M15: 健全性 | N15: 応急措置前
C16: 応急措置後 | E16: Ⅲ | N16: 応急措置後 | P16: Ⅱb
B17: 変状の発生範囲の規模 | E17: 2.40m×0.20m | M17: 変状の発生範囲の規模 | P17: 0.15m×0.20m
B18: 前回定期点検時の状態 | E18: - | M18: 前回定期点検時の状態 | P18: -
B19: 調査方針 | M19: 調査方針
B20: 対策履歴 | H20: 実施状況（実施日） | M20: 対策履歴 | S20: 実施状況（実施日）
B21: メモ | D21: 樋の劣化・アンカー腐食(全数) | M21: メモ | O21: うき
B22: 写真 番号 | C22: 覆工 スパン 番号 | D22: S14 | M22: 写真 番号 | N22: 覆工 スパン 番号 | O22: S14
C24: 変状 番号 | D24: 2 | N24: 変状 番号 | O24: 3
B26: 変状 部位 | C26: 対象 箇所 | D26: 覆工・坑門 | M26: 変状 部位 | N26: 対象 箇所 | O26: 覆工・坑門
C28: 部位 区分 | D28: アーチ（天端） | N28: 部位 区分 | O28: アーチ（天端）
B30: 変状区分 | D30: 漏水 | M30: 変状区分 | O30: 漏水
B31: 変状種類 | D31: 漏水 | M31: 変状種類 | O31: 漏水
B32: 健全性 | C32: 応急措置前 | M32: 健全性 | N32: 応急措置前
C33: 応急措置後 | E33: Ⅱa | N33: 応急措置後 | P33: Ⅱa
B34: 変状の発生範囲の規模 | E34: 6.50m×0.50m | M34: 変状の発生範囲の規模 | P34: 6.80m×0.50m
B35: 前回定期点検時の状態 | E35: - | M35: 前回定期点検時の状態 | P35: 滴水
B36: 調査方針 | M36: 調査方針
B37: 対策履歴 | H37: 実施状況（実施日） | M37: 対策履歴 | S37: 実施状況（実施日）
B38: メモ | D38: 滴水 | M38: メモ | O38: 滴水
C39: ※ 健全性（応急措置後）の判定区分Ⅱ～Ⅳについて添付すること。また、点検前に 実施された措置によりⅠと判定された箇所も添付すること。 | N39: ※ 変状の発生範囲の規模とは、対策を行う際に参考となる変状の長さや面積をいう。
N40: ※ 応急措置を実施しないで判定した変状の健全性は、健全性の応急措置後の欄に記入すること。
C41: ※ たたき落としを実施した場合は、実施後の写真を添付すること。 | N41: ※ 変状の発生範囲の規模は、面積・寸法を記載すること。
C42: ※ 附属物の取付状態に関する異常写真は別途、様式D-1-2でとりまとめること。 | N42: (ひび割れ幅のみmmとし、その他をm表記とする)
C43: ※ 変状数に準じてシートを追加すること。（１シートに１ページとすること。） | N43: ※ 構造用鋼材以外の異物に伴ううき・はく離については、メモ欄に異物の概要を記入すること。

Sheet 様式D-1-1(トンネル様式2P011)
B2: ■定期点検記録様式 変状写真台帳 | Y2: Ⅰ
B3: フリガナ | D3: チャウスヤマトンネル | H3: 路線名 | J3: 主要道路防府環状線 | M3: 定期点検業者 | P3: セントラルコンサルタント株式会社 | S3: 定期点検年月日 | U3: 44337 | Y3: Ⅱ
B4: 名 称 | D4: 茶臼山トンネル | H4: 管理者名 | J4: 山口県防府土木建築事務所 | M4: 定期点検者名 | P4: 鹿子嶋 康博 | Y4: Ⅲ
B5: 写真 番号 | C5: 覆工 スパン 番号 | D5: S14 | M5: 写真 番号 | N5: 覆工 スパン 番号 | O5: S14 | Y5: Ⅳ
C7: 変状 番号 | D7: 4 | N7: 変状 番号 | O7: 5
B9: 変状 部位 | C9: 対象 箇所 | D9: 覆工・坑門 | M9: 変状 部位 | N9: 対象 箇所 | O9: 覆工・坑門
C11: 部位 区分 | D11: アーチ（右側） | N11: 部位 区分 | O11: アーチ（右側）
B13: 変状区分 | D13: 漏水 | M13: 変状区分 | O13: 漏水
B14: 変状種類 | D14: 漏水 | M14: 変状種類 | O14: 漏水
B15: 健全性 | C15: 応急措置前 | M15: 健全性 | N15: 応急措置前
C16: 応急措置後 | E16: Ⅱb | N16: 応急措置後 | P16: Ⅱa
B17: 変状の発生範囲の規模 | E17: 1.90m×0.40m | M17: 変状の発生範囲の規模 | P17: 4.70m×1.20m
B18: 前回定期点検時の状態 | E18: 遊離石灰 | M18: 前回定期点検時の状態 | P18: 滴水
B19: 調査方針 | M19: 調査方針
B20: 対策履歴 | H20: 実施状況（実施日） | M20: 対策履歴 | S20: 実施状況（実施日）
B21: メモ | D21: にじみ | M21: メモ | O21: 滴水
B22: 写真 番号 | C22: 覆工 スパン 番号 | D22: S14 | M22: 写真 番号 | N22: 覆工 スパン 番号 | O22: S14
C24: 変状 番号 | D24: 6 | N24: 変状 番号 | O24: 7
B26: 変状 部位 | C26: 対象 箇所 | D26: 路面 | M26: 変状 部位 | N26: 対象 箇所 | O26: 路面
C28: 部位 区分 | D28: 側溝 | N28: 部位 区分 | O28: 側溝
B30: 変状区分 | D30: 漏水 | M30: 変状区分 | O30: 漏水
B31: 変状種類 | D31: その他 | M31: 変状種類 | O31: その他
B32: 健全性 | C32: 応急措置前 | M32: 健全性 | N32: 応急措置前
C33: 応急措置後 | E33: Ⅱb | N33: 応急措置後 | P33: Ⅱb
B34: 変状の発生範囲の規模 | E34: 0.50m×2.90m、t=30㎜ | M34: 変状の発生範囲の規模 | P34: 0.50m×1.90m
B35: 前回定期点検時の状態 | E35: 沈砂 t=30mm | M35: 前回定期点検時の状態 | P35: 滞水
B36: 調査方針 | M36: 調査方針
B37: 対策履歴 | H37: 実施状況（実施日） | M37: 対策履歴 | S37: 実施状況（実施日）
B38: メモ | D38: 土砂堆積(滞水跡) | M38: メモ | O38: 土砂堆積(滞水跡)
C39: ※ 健全性（応急措置後）の判定区分Ⅱ～Ⅳについて添付すること。また、点検前に 実施された措置によりⅠと判定された箇所も添付すること。 | N39: ※ 変状の発生範囲の規模とは、対策を行う際に参考となる変状の長さや面積をいう。
N40: ※ 応急措置を実施しないで判定した変状の健全性は、健全性の応急措置後の欄に記入すること。
C41: ※ たたき落としを実施した場合は、実施後の写真を添付すること。 | N41: ※ 変状の発生範囲の規模は、面積・寸法を記載すること。
C42: ※ 附属物の取付状態に関する異常写真は別途、様式D-1-2でとりまとめること。 | N42: (ひび割れ幅のみmmとし、その他をm表記とする)
C43: ※ 変状数に準じてシートを追加すること。（１シートに１ページとすること。） | N43: ※ 構造用鋼材以外の異物に伴ううき・はく離については、メモ欄に異物の概要を記入すること。

Sheet 様式D-1-1(トンネル様式2P012)
B2: ■定期点検記録様式 変状写真台帳 | Y2: Ⅰ
B3: フリガナ | D3: チャウスヤマトンネル | H3: 路線名 | J3: 主要道路防府環状線 | M3: 定期点検業者 | P3: セントラルコンサルタント株式会社 | S3: 定期点検年月日 | U3: 44337 | Y3: Ⅱ
B4: 名 称 | D4: 茶臼山トンネル | H4: 管理者名 | J4: 山口県防府土木建築事務所 | M4: 定期点検者名 | P4: 鹿子嶋 康博 | Y4: Ⅲ
B5: 写真 番号 | C5: 覆工 スパン 番号 | D5: S15 | M5: 写真 番号 | N5: 覆工 スパン 番号 | O5: S15 | Y5: Ⅳ
C7: 変状 番号 | D7: 1 | N7: 変状 番号 | O7: 2
B9: 変状 部位 | C9: 対象 箇所 | D9: 覆工・坑門 | M9: 変状 部位 | N9: 対象 箇所 | O9: 覆工・坑門
C11: 部位 区分 | D11: アーチ（左側） | N11: 部位 区分 | O11: アーチ（左側）
B13: 変状区分 | D13: 漏水 | M13: 変状区分 | O13: 漏水
B14: 変状種類 | D14: 漏水 | M14: 変状種類 | O14: 漏水
B15: 健全性 | C15: 応急措置前 | M15: 健全性 | N15: 応急措置前
C16: 応急措置後 | E16: Ⅱa | N16: 応急措置後 | P16: Ⅱa
B17: 変状の発生範囲の規模 | E17: 4.40m×0.50m | M17: 変状の発生範囲の規模 | P17: 4.50m×1.50m
B18: 前回定期点検時の状態 | E18: - | M18: 前回定期点検時の状態 | P18: 滴水
B19: 調査方針 | M19: 調査方針
B20: 対策履歴 | H20: 実施状況（実施日） | M20: 対策履歴 | S20: 実施状況（実施日）
B21: メモ | D21: 滴水 | M21: メモ | O21: 滴水
B22: 写真 番号 | C22: 覆工 スパン 番号 | D22: S15 | M22: 写真 番号 | N22: 覆工 スパン 番号 | O22: S15
C24: 変状 番号 | D24: 3 | N24: 変状 番号 | O24: 4
B26: 変状 部位 | C26: 対象 箇所 | D26: 覆工・坑門 | M26: 変状 部位 | N26: 対象 箇所 | O26: 覆工・坑門
C28: 部位 区分 | D28: アーチ（右側） | N28: 部位 区分 | O28: 横断目地（天端）
B30: 変状区分 | D30: 材質劣化 | M30: 変状区分 | O30: 漏水
B31: 変状種類 | D31: うき・はく離 | M31: 変状種類 | O31: 漏水
B32: 健全性 | C32: 応急措置前 | M32: 健全性 | N32: 応急措置前
C33: 応急措置後 | E33: Ⅱb | N33: 応急措置後 | P33: Ⅱb
B34: 変状の発生範囲の規模 | E34: 0.25m×0.60m | M34: 変状の発生範囲の規模 | P34: 6.50m×0.50m
B35: 前回定期点検時の状態 | E35: 豆板 0.2m×0.6m | M35: 前回定期点検時の状態 | P35: にじみ
B36: 調査方針 | M36: 調査方針
B37: 対策履歴 | H37: 実施状況（実施日） | M37: 対策履歴 | S37: 実施状況（実施日）
B38: メモ | D38: 豆板 | M38: メモ | O38: 線導水からのにじみ
C39: ※ 健全性（応急措置後）の判定区分Ⅱ～Ⅳについて添付すること。また、点検前に 実施された措置によりⅠと判定された箇所も添付すること。 | N39: ※ 変状の発生範囲の規模とは、対策を行う際に参考となる変状の長さや面積をいう。
N40: ※ 応急措置を実施しないで判定した変状の健全性は、健全性の応急措置後の欄に記入すること。
C41: ※ たたき落としを実施した場合は、実施後の写真を添付すること。 | N41: ※ 変状の発生範囲の規模は、面積・寸法を記載すること。
C42: ※ 附属物の取付状態に関する異常写真は別途、様式D-1-2でとりまとめること。 | N42: (ひび割れ幅のみmmとし、その他をm表記とする)
C43: ※ 変状数に準じてシートを追加すること。（１シートに１ページとすること。） | N43: ※ 構造用鋼材以外の異物に伴ううき・はく離については、メモ欄に異物の概要を記入すること。

Sheet 様式D-1-1(トンネル様式2P013)
B2: ■定期点検記録様式 変状写真台帳 | Y2: Ⅰ
B3: フリガナ | D3: チャウスヤマトンネル | H3: 路線名 | J3: 主要道路防府環状線 | M3: 定期点検業者 | P3: セントラルコンサルタント株式会社 | S3: 定期点検年月日 | U3: 44337 | Y3: Ⅱ
B4: 名 称 | D4: 茶臼山トンネル | H4: 管理者名 | J4: 山口県防府土木建築事務所 | M4: 定期点検者名 | P4: 鹿子嶋 康博 | Y4: Ⅲ
B5: 写真 番号 | C5: 覆工 スパン 番号 | D5: S15 | M5: 写真 番号 | N5: 覆工 スパン 番号 | O5: S16 | Y5: Ⅳ
C7: 変状 番号 | D7: 5 | N7: 変状 番号 | O7: 1
B9: 変状 部位 | C9: 対象 箇所 | D9: 路面 | M9: 変状 部位 | N9: 対象 箇所 | O9: 覆工・坑門
C11: 部位 区分 | D11: 側溝 | N11: 部位 区分 | O11: 横断目地（天端）
B13: 変状区分 | D13: 漏水 | M13: 変状区分 | O13: 材質劣化
B14: 変状種類 | D14: その他 | M14: 変状種類 | O14: 補強・補修材の破損
B15: 健全性 | C15: 応急措置前 | M15: 健全性 | N15: 応急措置前
C16: 応急措置後 | E16: Ⅱb | N16: 応急措置後 | P16: Ⅲ
B17: 変状の発生範囲の規模 | E17: 0.50m×2.70m | M17: 変状の発生範囲の規模 | P17: 7.30m×0.40m
B18: 前回定期点検時の状態 | E18: 滞水 | M18: 前回定期点検時の状態 | P18: -
B19: 調査方針 | M19: 調査方針
B20: 対策履歴 | H20: 実施状況（実施日） | M20: 対策履歴 | S20: 実施状況（実施日）
B21: メモ | D21: 土砂堆積(滞水跡) | M21: メモ | O21: 樋のアンカー腐食(全数)
B22: 写真 番号 | C22: 覆工 スパン 番号 | D22: S17 | M22: 写真 番号 | N22: 覆工 スパン 番号 | O22: S17
C24: 変状 番号 | D24: 1 | N24: 変状 番号 | O24: 2
B26: 変状 部位 | C26: 対象 箇所 | D26: 覆工・坑門 | M26: 変状 部位 | N26: 対象 箇所 | O26: 覆工・坑門
C28: 部位 区分 | D28: アーチ（左側） | N28: 部位 区分 | O28: 横断目地（右側）
B30: 変状区分 | D30: 材質劣化 | M30: 変状区分 | O30: 漏水
B31: 変状種類 | D31: うき・はく離 | M31: 変状種類 | O31: 補強・補修材の破損
B32: 健全性 | C32: 応急措置前 | M32: 健全性 | N32: 応急措置前
C33: 応急措置後 | E33: Ⅱb | N33: 応急措置後 | P33: Ⅱa
B34: 変状の発生範囲の規模 | E34: 0.20m×0.90m | M34: 変状の発生範囲の規模 | P34: 0.30m×0.10m
B35: 前回定期点検時の状態 | E35: 豆板 0.2m×0.9m | M35: 前回定期点検時の状態 | P35: 導水工破損 0.3m×0.1m
B36: 調査方針 | M36: 調査方針
B37: 対策履歴 | H37: 実施状況（実施日） | M37: 対策履歴 | S37: 実施状況（実施日）
B38: メモ | D38: 豆板 | M38: メモ | O38: 線導水の破損(破損箇所からのにじみ)
C39: ※ 健全性（応急措置後）の判定区分Ⅱ～Ⅳについて添付すること。また、点検前に 実施された措置によりⅠと判定された箇所も添付すること。 | N39: ※ 変状の発生範囲の規模とは、対策を行う際に参考となる変状の長さや面積をいう。
N40: ※ 応急措置を実施しないで判定した変状の健全性は、健全性の応急措置後の欄に記入すること。
C41: ※ たたき落としを実施した場合は、実施後の写真を添付すること。 | N41: ※ 変状の発生範囲の規模は、面積・寸法を記載すること。
C42: ※ 附属物の取付状態に関する異常写真は別途、様式D-1-2でとりまとめること。 | N42: (ひび割れ幅のみmmとし、その他をm表記とする)
C43: ※ 変状数に準じてシートを追加すること。（１シートに１ページとすること。） | N43: ※ 構造用鋼材以外の異物に伴ううき・はく離については、メモ欄に異物の概要を記入すること。

Sheet 様式D-1-1(トンネル様式2P014)
B2: ■定期点検記録様式 変状写真台帳 | Y2: Ⅰ
B3: フリガナ | D3: チャウスヤマトンネル | H3: 路線名 | J3: 主要道路防府環状線 | M3: 定期点検業者 | P3: セントラルコンサルタント株式会社 | S3: 定期点検年月日 | U3: 44337 | Y3: Ⅱ
B4: 名 称 | D4: 茶臼山トンネル | H4: 管理者名 | J4: 山口県防府土木建築事務所 | M4: 定期点検者名 | P4: 鹿子嶋 康博 | Y4: Ⅲ
B5: 写真 番号 | C5: 覆工 スパン 番号 | D5: S17 | M5: 写真 番号 | N5: 覆工 スパン 番号 | O5: S17 | Y5: Ⅳ
C7: 変状 番号 | D7: 3 | N7: 変状 番号 | O7: 4
B9: 変状 部位 | C9: 対象 箇所 | D9: 路面 | M9: 変状 部位 | N9: 対象 箇所 | O9: 路面
C11: 部位 区分 | D11: 側溝 | N11: 部位 区分 | O11: 側溝
B13: 変状区分 | D13: 漏水 | M13: 変状区分 | O13: 漏水
B14: 変状種類 | D14: その他 | M14: 変状種類 | O14: その他
B15: 健全性 | C15: 応急措置前 | M15: 健全性 | N15: 応急措置前
C16: 応急措置後 | E16: Ⅱb | N16: 応急措置後 | P16: Ⅱb
B17: 変状の発生範囲の規模 | E17: 0.50m×2.50m | M17: 変状の発生範囲の規模 | P17: 0.50m×2.60m
B18: 前回定期点検時の状態 | E18: 滞水 | M18: 前回定期点検時の状態 | P18: 沈砂 t=50mm
B19: 調査方針 | M19: 調査方針
B20: 対策履歴 | H20: 実施状況（実施日） | M20: 対策履歴 | S20: 実施状況（実施日）
B21: メモ | D21: 土砂堆積(滞水跡) | M21: メモ | O21: 土砂堆積(滞水跡)
B22: 写真 番号 | C22: 覆工 スパン 番号 | D22: S18 | M22: 写真 番号 | N22: 覆工 スパン 番号 | O22: S18
C24: 変状 番号 | D24: 1 | N24: 変状 番号 | O24: 2
B26: 変状 部位 | C26: 対象 箇所 | D26: 覆工・坑門 | M26: 変状 部位 | N26: 対象 箇所 | O26: 覆工・坑門
C28: 部位 区分 | D28: 横断目地（天端） | N28: 部位 区分 | O28: アーチ（右側）
B30: 変状区分 | D30: 材質劣化 | M30: 変状区分 | O30: 漏水
B31: 変状種類 | D31: 補強・補修材の破損 | M31: 変状種類 | O31: 漏水
B32: 健全性 | C32: 応急措置前 | M32: 健全性 | N32: 応急措置前
C33: 応急措置後 | E33: Ⅲ | N33: 応急措置後 | P33: Ⅱa
B34: 変状の発生範囲の規模 | E34: 7.10m×0.15m | M34: 変状の発生範囲の規模 | P34: 4.90m×0.50m
B35: 前回定期点検時の状態 | E35: - | M35: 前回定期点検時の状態 | P35: -
B36: 調査方針 | M36: 調査方針
B37: 対策履歴 | H37: 実施状況（実施日） | M37: 対策履歴 | S37: 実施状況（実施日）
B38: メモ | D38: 樋の劣化(閉塞)・アンカー腐食(全数) | M38: メモ | O38: 滴水
C39: ※ 健全性（応急措置後）の判定区分Ⅱ～Ⅳについて添付すること。また、点検前に 実施された措置によりⅠと判定された箇所も添付すること。 | N39: ※ 変状の発生範囲の規模とは、対策を行う際に参考となる変状の長さや面積をいう。
N40: ※ 応急措置を実施しないで判定した変状の健全性は、健全性の応急措置後の欄に記入すること。
C41: ※ たたき落としを実施した場合は、実施後の写真を添付すること。 | N41: ※ 変状の発生範囲の規模は、面積・寸法を記載すること。
C42: ※ 附属物の取付状態に関する異常写真は別途、様式D-1-2でとりまとめること。 | N42: (ひび割れ幅のみmmとし、その他をm表記とする)
C43: ※ 変状数に準じてシートを追加すること。（１シートに１ページとすること。） | N43: ※ 構造用鋼材以外の異物に伴ううき・はく離については、メモ欄に異物の概要を記入すること。

Sheet 様式D-1-1(トンネル様式2P015)
B2: ■定期点検記録様式 変状写真台帳 | Y2: Ⅰ
B3: フリガナ | D3: チャウスヤマトンネル | H3: 路線名 | J3: 主要道路防府環状線 | M3: 定期点検業者 | P3: セントラルコンサルタント株式会社 | S3: 定期点検年月日 | U3: 44337 | Y3: Ⅱ
B4: 名 称 | D4: 茶臼山トンネル | H4: 管理者名 | J4: 山口県防府土木建築事務所 | M4: 定期点検者名 | P4: 鹿子嶋 康博 | Y4: Ⅲ
B5: 写真 番号 | C5: 覆工 スパン 番号 | D5: S18 | M5: 写真 番号 | N5: 覆工 スパン 番号 | O5: S19 | Y5: Ⅳ
C7: 変状 番号 | D7: 3 | N7: 変状 番号 | O7: 1
B9: 変状 部位 | C9: 対象 箇所 | D9: 覆工・坑門 | M9: 変状 部位 | N9: 対象 箇所 | O9: 覆工・坑門
C11: 部位 区分 | D11: アーチ（天端） | N11: 部位 区分 | O11: アーチ（天端）
B13: 変状区分 | D13: 材質劣化 | M13: 変状区分 | O13: 材質劣化
B14: 変状種類 | D14: 補強・補修材の破損 | M14: 変状種類 | O14: 補強・補修材の破損
B15: 健全性 | C15: 応急措置前 | M15: 健全性 | N15: 応急措置前
C16: 応急措置後 | E16: Ⅲ | N16: 応急措置後 | P16: Ⅲ
B17: 変状の発生範囲の規模 | E17: 6.90m×0.15m | M17: 変状の発生範囲の規模 | P17: 7.10m×0.15m
B18: 前回定期点検時の状態 | E18: 導水工破損 1.0m×0.17m、0.9m×0.17m | M18: 前回定期点検時の状態 | P18: -
B19: 調査方針 | M19: 調査方針
B20: 対策履歴 | H20: 実施状況（実施日） | M20: 対策履歴 | S20: 実施状況（実施日）
B21: メモ | D21: 樋の破損・アンカー腐食(全数)、一部欠損 | M21: メモ | O21: 樋のアンカー腐食(全数)
B22: 写真 番号 | C22: 覆工 スパン 番号 | D22: S19 | M22: 写真 番号 | N22: 覆工 スパン 番号 | O22: S19
C24: 変状 番号 | D24: 2 | N24: 変状 番号 | O24: 3
B26: 変状 部位 | C26: 対象 箇所 | D26: 覆工・坑門 | M26: 変状 部位 | N26: 対象 箇所 | O26: 路面
C28: 部位 区分 | D28: 側壁（左側） | N28: 部位 区分 | O28: 側溝
B30: 変状区分 | D30: 漏水 | M30: 変状区分 | O30: 漏水
B31: 変状種類 | D31: 漏水 | M31: 変状種類 | O31: 滞水
B32: 健全性 | C32: 応急措置前 | M32: 健全性 | N32: 応急措置前
C33: 応急措置後 | E33: Ⅰ | N33: 応急措置後 | P33: Ⅰ
B34: 変状の発生範囲の規模 | E34: 0.50m×3.40m | M34: 変状の発生範囲の規模 | P34: 0.50m×1.80m
B35: 前回定期点検時の状態 | E35: にじみ | M35: 前回定期点検時の状態 | P35: 滞水
B36: 調査方針 | M36: 調査方針
B37: 対策履歴 | H37: 実施状況（実施日） | M37: 対策履歴 | S37: 実施状況（実施日）
B38: メモ | D38: 漏水跡 | M38: メモ | O38: 側溝の滞水跡
C39: ※ 健全性（応急措置後）の判定区分Ⅱ～Ⅳについて添付すること。また、点検前に 実施された措置によりⅠと判定された箇所も添付すること。 | N39: ※ 変状の発生範囲の規模とは、対策を行う際に参考となる変状の長さや面積をいう。
N40: ※ 応急措置を実施しないで判定した変状の健全性は、健全性の応急措置後の欄に記入すること。
C41: ※ たたき落としを実施した場合は、実施後の写真を添付すること。 | N41: ※ 変状の発生範囲の規模は、面積・寸法を記載すること。
C42: ※ 附属物の取付状態に関する異常写真は別途、様式D-1-2でとりまとめること。 | N42: (ひび割れ幅のみmmとし、その他をm表記とする)
C43: ※ 変状数に準じてシートを追加すること。（１シートに１ページとすること。） | N43: ※ 構造用鋼材以外の異物に伴ううき・はく離については、メモ欄に異物の概要を記入すること。

Sheet 様式D-1-1(トンネル様式2P016)
B2: ■定期点検記録様式 変状写真台帳 | Y2: Ⅰ
B3: フリガナ | D3: チャウスヤマトンネル | H3: 路線名 | J3: 主要道路防府環状線 | M3: 定期点検業者 | P3: セントラルコンサルタント株式会社 | S3: 定期点検年月日 | U3: 44337 | Y3: Ⅱ
B4: 名 称 | D4: 茶臼山トンネル | H4: 管理者名 | J4: 山口県防府土木建築事務所 | M4: 定期点検者名 | P4: 鹿子嶋 康博 | Y4: Ⅲ
B5: 写真 番号 | C5: 覆工 スパン 番号 | D5: S19 | M5: 写真 番号 | N5: 覆工 スパン 番号 | O5: S20 | Y5: Ⅳ
C7: 変状 番号 | D7: 4 | N7: 変状 番号 | O7: 1
B9: 変状 部位 | C9: 対象 箇所 | D9: 路面 | M9: 変状 部位 | N9: 対象 箇所 | O9: 路面
C11: 部位 区分 | D11: 側溝 | N11: 部位 区分 | O11: 側溝
B13: 変状区分 | D13: 漏水 | M13: 変状区分 | O13: 漏水
B14: 変状種類 | D14: その他 | M14: 変状種類 | O14: その他
B15: 健全性 | C15: 応急措置前 | M15: 健全性 | N15: 応急措置前
C16: 応急措置後 | E16: Ⅱb | N16: 応急措置後 | P16: Ⅱb
B17: 変状の発生範囲の規模 | E17: 0.60m×2.30m | M17: 変状の発生範囲の規模 | P17: 0.50m×2.80m
B18: 前回定期点検時の状態 | E18: 沈砂 t=80mm | M18: 前回定期点検時の状態 | P18: 沈砂 t=30mm
B19: 調査方針 | M19: 調査方針
B20: 対策履歴 | H20: 実施状況（実施日） | M20: 対策履歴 | S20: 実施状況（実施日）
B21: メモ | D21: 土砂堆積(滞水跡) | M21: メモ | O21: 土砂堆積(滞水跡)
B22: 写真 番号 | C22: 覆工 スパン 番号 | D22: S21 | M22: 写真 番号 | N22: 覆工 スパン 番号 | O22: S21
C24: 変状 番号 | D24: 1 | N24: 変状 番号 | O24: 2
B26: 変状 部位 | C26: 対象 箇所 | D26: 覆工・坑門 | M26: 変状 部位 | N26: 対象 箇所 | O26: 覆工・坑門
C28: 部位 区分 | D28: 水平打ち継ぎ目（左側） | N28: 部位 区分 | O28: 水平打ち継ぎ目（左側）
B30: 変状区分 | D30: 材質劣化 | M30: 変状区分 | O30: 材質劣化
B31: 変状種類 | D31: うき・はく離 | M31: 変状種類 | O31: うき・はく離
B32: 健全性 | C32: 応急措置前 | M32: 健全性 | N32: 応急措置前
C33: 応急措置後 | E33: Ⅱb | N33: 応急措置後 | P33: Ⅱb
B34: 変状の発生範囲の規模 | E34: 0.20m×0.30m | M34: 変状の発生範囲の規模 | P34: 0.10m×1.50m
B35: 前回定期点検時の状態 | E35: 豆板 0.3m×0.5m | M35: 前回定期点検時の状態 | P35: 豆板 0.2m×1.3m
B36: 調査方針 | M36: 調査方針
B37: 対策履歴 | H37: 実施状況（実施日） | M37: 対策履歴 | S37: 実施状況（実施日）
B38: メモ | D38: 豆板 | M38: メモ | O38: 豆板
C39: ※ 健全性（応急措置後）の判定区分Ⅱ～Ⅳについて添付すること。また、点検前に 実施された措置によりⅠと判定された箇所も添付すること。 | N39: ※ 変状の発生範囲の規模とは、対策を行う際に参考となる変状の長さや面積をいう。
N40: ※ 応急措置を実施しないで判定した変状の健全性は、健全性の応急措置後の欄に記入すること。
C41: ※ たたき落としを実施した場合は、実施後の写真を添付すること。 | N41: ※ 変状の発生範囲の規模は、面積・寸法を記載すること。
C42: ※ 附属物の取付状態に関する異常写真は別途、様式D-1-2でとりまとめること。 | N42: (ひび割れ幅のみmmとし、その他をm表記とする)
C43: ※ 変状数に準じてシートを追加すること。（１シートに１ページとすること。） | N43: ※ 構造用鋼材以外の異物に伴ううき・はく離については、メモ欄に異物の概要を記入すること。

Sheet 様式D-1-1(トンネル様式2P017)
B2: ■定期点検記録様式 変状写真台帳 | Y2: Ⅰ
B3: フリガナ | D3: チャウスヤマトンネル | H3: 路線名 | J3: 主要道路防府環状線 | M3: 定期点検業者 | P3: セントラルコンサルタント株式会社 | S3: 定期点検年月日 | U3: 44337 | Y3: Ⅱ
B4: 名 称 | D4: 茶臼山トンネル | H4: 管理者名 | J4: 山口県防府土木建築事務所 | M4: 定期点検者名 | P4: 鹿子嶋 康博 | Y4: Ⅲ
B5: 写真 番号 | C5: 覆工 スパン 番号 | D5: S21 | M5: 写真 番号 | N5: 覆工 スパン 番号 | O5: S21 | Y5: Ⅳ
C7: 変状 番号 | D7: 3 | N7: 変状 番号 | O7: 4
B9: 変状 部位 | C9: 対象 箇所 | D9: 覆工・坑門 | M9: 変状 部位 | N9: 対象 箇所 | O9: 路面
C11: 部位 区分 | D11: アーチ（天端） | N11: 部位 区分 | O11: 側溝
B13: 変状区分 | D13: 漏水 | M13: 変状区分 | O13: 漏水
B14: 変状種類 | D14: 漏水 | M14: 変状種類 | O14: その他
B15: 健全性 | C15: 応急措置前 | M15: 健全性 | N15: 応急措置前
C16: 応急措置後 | E16: Ⅱa | N16: 応急措置後 | P16: Ⅱb
B17: 変状の発生範囲の規模 | E17: 6.20m×0.50m | M17: 変状の発生範囲の規模 | P17: 0.40m×2.00m、t=50㎜
B18: 前回定期点検時の状態 | E18: - | M18: 前回定期点検時の状態 | P18: 沈砂 t=50mm
B19: 調査方針 | M19: 調査方針
B20: 対策履歴 | H20: 実施状況（実施日） | M20: 対策履歴 | S20: 実施状況（実施日）
B21: メモ | D21: 滴水 | M21: メモ | O21: 土砂堆積(滞水跡)
B22: 写真 番号 | C22: 覆工 スパン 番号 | D22: S22 | M22: 写真 番号 | N22: 覆工 スパン 番号 | O22: S22
C24: 変状 番号 | D24: 1 | N24: 変状 番号 | O24: 2
B26: 変状 部位 | C26: 対象 箇所 | D26: 覆工・坑門 | M26: 変状 部位 | N26: 対象 箇所 | O26: 覆工・坑門
C28: 部位 区分 | D28: アーチ（右側） | N28: 部位 区分 | O28: アーチ（天端）
B30: 変状区分 | D30: 材質劣化 | M30: 変状区分 | O30: 材質劣化
B31: 変状種類 | D31: うき・はく離 | M31: 変状種類 | O31: 補強・補修材の破損
B32: 健全性 | C32: 応急措置前 | M32: 健全性 | N32: 応急措置前
C33: 応急措置後 | E33: Ⅱb | N33: 応急措置後 | P33: Ⅲ
B34: 変状の発生範囲の規模 | E34: 0.40m×1.00m | M34: 変状の発生範囲の規模 | P34: 7.00m×0.45m
B35: 前回定期点検時の状態 | E35: 豆板 0.3m×1.0m | M35: 前回定期点検時の状態 | P35: -
B36: 調査方針 | M36: 調査方針
B37: 対策履歴 | H37: 実施状況（実施日） | M37: 対策履歴 | S37: 実施状況（実施日）
B38: メモ | D38: 豆板 | M38: メモ | O38: 樋のアンカー腐食(全数)
C39: ※ 健全性（応急措置後）の判定区分Ⅱ～Ⅳについて添付すること。また、点検前に 実施された措置によりⅠと判定された箇所も添付すること。 | N39: ※ 変状の発生範囲の規模とは、対策を行う際に参考となる変状の長さや面積をいう。
N40: ※ 応急措置を実施しないで判定した変状の健全性は、健全性の応急措置後の欄に記入すること。
C41: ※ たたき落としを実施した場合は、実施後の写真を添付すること。 | N41: ※ 変状の発生範囲の規模は、面積・寸法を記載すること。
C42: ※ 附属物の取付状態に関する異常写真は別途、様式D-1-2でとりまとめること。 | N42: (ひび割れ幅のみmmとし、その他をm表記とする)
C43: ※ 変状数に準じてシートを追加すること。（１シートに１ページとすること。） | N43: ※ 構造用鋼材以外の異物に伴ううき・はく離については、メモ欄に異物の概要を記入すること。

Sheet 様式D-1-1(トンネル様式2P018)
B2: ■定期点検記録様式 変状写真台帳 | Y2: Ⅰ
B3: フリガナ | D3: チャウスヤマトンネル | H3: 路線名 | J3: 主要道路防府環状線 | M3: 定期点検業者 | P3: セントラルコンサルタント株式会社 | S3: 定期点検年月日 | U3: 44337 | Y3: Ⅱ
B4: 名 称 | D4: 茶臼山トンネル | H4: 管理者名 | J4: 山口県防府土木建築事務所 | M4: 定期点検者名 | P4: 鹿子嶋 康博 | Y4: Ⅲ
B5: 写真 番号 | C5: 覆工 スパン 番号 | D5: S23 | M5: 写真 番号 | N5: 覆工 スパン 番号 | O5: S23 | Y5: Ⅳ
C7: 変状 番号 | D7: 1 | N7: 変状 番号 | O7: 2
B9: 変状 部位 | C9: 対象 箇所 | D9: 覆工・坑門 | M9: 変状 部位 | N9: 対象 箇所 | O9: 覆工・坑門
C11: 部位 区分 | D11: アーチ（天端） | N11: 部位 区分 | O11: アーチ（右側）
B13: 変状区分 | D13: 漏水 | M13: 変状区分 | O13: 漏水
B14: 変状種類 | D14: 漏水 | M14: 変状種類 | O14: 漏水
B15: 健全性 | C15: 応急措置前 | M15: 健全性 | N15: 応急措置前
C16: 応急措置後 | E16: Ⅱa | N16: 応急措置後 | P16: Ⅱb
B17: 変状の発生範囲の規模 | E17: 5.50m×0.50m | M17: 変状の発生範囲の規模 | P17: 2.80m×1.60m
B18: 前回定期点検時の状態 | E18: - | M18: 前回定期点検時の状態 | P18: -
B19: 調査方針 | M19: 調査方針
B20: 対策履歴 | H20: 実施状況（実施日） | M20: 対策履歴 | S20: 実施状況（実施日）
B21: メモ | D21: 滴水 | M21: メモ | O21: 線導水からのにじみ
B22: 写真 番号 | C22: 覆工 スパン 番号 | D22: S23 | M22: 写真 番号 | N22: 覆工 スパン 番号 | O22: S24
C24: 変状 番号 | D24: 3 | N24: 変状 番号 | O24: 1
B26: 変状 部位 | C26: 対象 箇所 | D26: 路面 | M26: 変状 部位 | N26: 対象 箇所 | O26: 覆工・坑門
C28: 部位 区分 | D28: 側溝 | N28: 部位 区分 | O28: アーチ（左側）
B30: 変状区分 | D30: 漏水 | M30: 変状区分 | O30: 材質劣化
B31: 変状種類 | D31: その他 | M31: 変状種類 | O31: うき・はく離
B32: 健全性 | C32: 応急措置前 | M32: 健全性 | N32: 応急措置前
C33: 応急措置後 | E33: Ⅱb | N33: 応急措置後 | P33: Ⅱb
B34: 変状の発生範囲の規模 | E34: 0.40m×2.30m | M34: 変状の発生範囲の規模 | P34: 0.10m×0.40m
B35: 前回定期点検時の状態 | E35: 滞水 | M35: 前回定期点検時の状態 | P35: -
B36: 調査方針 | M36: 調査方針
B37: 対策履歴 | H37: 実施状況（実施日） | M37: 対策履歴 | S37: 実施状況（実施日）
B38: メモ | D38: 土砂堆積(滞水跡) | M38: メモ | O38: 豆板
C39: ※ 健全性（応急措置後）の判定区分Ⅱ～Ⅳについて添付すること。また、点検前に 実施された措置によりⅠと判定された箇所も添付すること。 | N39: ※ 変状の発生範囲の規模とは、対策を行う際に参考となる変状の長さや面積をいう。
N40: ※ 応急措置を実施しないで判定した変状の健全性は、健全性の応急措置後の欄に記入すること。
C41: ※ たたき落としを実施した場合は、実施後の写真を添付すること。 | N41: ※ 変状の発生範囲の規模は、面積・寸法を記載すること。
C42: ※ 附属物の取付状態に関する異常写真は別途、様式D-1-2でとりまとめること。 | N42: (ひび割れ幅のみmmとし、その他をm表記とする)
C43: ※ 変状数に準じてシートを追加すること。（１シートに１ページとすること。） | N43: ※ 構造用鋼材以外の異物に伴ううき・はく離については、メモ欄に異物の概要を記入すること。

Sheet 様式D-1-1(トンネル様式2P019)
