Workbook
Name Ⅱa: OFFSET(#REF!,,,COUNTA(#REF!)-3,1)
Name Ⅱb: OFFSET(#REF!,,,COUNTA(#REF!)-3,1)
Name Ⅲ: OFFSET(#REF!,,,COUNTA(#REF!)-3,1)
Name Ⅳ: OFFSET(#REF!,,,COUNTA(#REF!)-3,1)
Name コード: #REF!
Name ジェットファン種別: #REF!
Name その他: #REF!
Name その他: #REF!
Name その他: '(参考)リスト'!$C$45
Name その他施設: #REF!
Name その他施設: #REF!
Name その他施設: '(参考)リスト'!$C$76:$C$80
Name トンネル工法: #REF!
Name トンネル等級: #REF!
Name トンネル分類: #REF!
Name 一般有料区分: #REF!
Name 外力: #REF!
Name 外力: #REF!
Name 外力: '(参考)リスト'!$E$16:$E$23
Name 完成年次: #REF!
Name 換気: #REF!
Name 換気施設: #REF!
Name 換気施設: #REF!
Name 換気施設: '(参考)リスト'!$C$55:$C$59
Name 吸音板: #REF!
Name 区分: #REF!
Name 形式: #REF!
Name 警報表示板: #REF!
Name 健全度: #REF!
Name 個数: #REF!
Name 交通量: #REF!
Name 坑門: #REF!
Name 坑門: #REF!
Name 坑門: '(参考)リスト'!$C$16:$C$29
Name 更新年次: #REF!
Name 最大土被り: #REF!
Name 材質劣化: #REF!
Name 材質劣化: #REF!
Name 材質劣化: '(参考)リスト'!$E$25:$E$30
Name 写真番号: #REF!
Name 車道幅: #REF!
Name 縦断勾配: #REF!
Name 照明個数: #REF!
Name 照明施設: #REF!
Name 照明施設: #REF!
Name 照明施設: '(参考)リスト'!$C$51:$C$53
Name 照明種別: #REF!
Name 占用物件: #REF!
Name 措置後判定: '[2](参考)ﾘｽﾄ'!$AL$3:$AL$8
Name 措置履歴実施: '[2](参考)ﾘｽﾄ'!$AU$3:$AU$5
Name 対応方針: #REF!
Name 対象箇所: [1]!テーブル1[対象箇所]
Name 対象箇所: [1]!テーブル1[対象箇所]
Name 対象箇所: [1]!テーブル1[対象箇所]
Name 対象箇所: [1]!テーブル1[対象箇所]
Name 対象箇所: [3]!テーブル1[対象箇所]
Name 対象箇所: [4]!テーブル1[対象箇所]
Name 対象箇所: [5]!テーブル1[対象箇所]
Name 対象箇所: [6]!テーブル1[対象箇所]
Name 対象箇所: [6]!テーブル1[対象箇所]

Sheet 様式A-1
B2: ■トンネル台帳 トンネル諸元、非常用施設諸元 【様式A-1】 | S2: トンネルID | W2: 34.04475,131.63008
B3: フリガナ | D3: チャウスヤマトンネル | H3: 路線名 | J3: 主要道路防府環状線 | P3: 管理者名 | R3: 山口県防府土木 建築事務所 | W3: 緊急輸送道路
B4: 名 称 | D4: 茶臼山トンネル | W4: 代替路の有無
B5: 所在地 | D5: 自 | E5: 山口県防府市富海 | H5: 作成者 | K5: セントラルコンサルタント株式会社 鹿子嶋 康博 | P5: 作成年月日 | R5: 44581 | U5: トンネル延長 | X5: L= | Z5: 318 | AB5: ｍ
D6: 至 | E6: 山口県防府市富海 | U6: ﾄﾝﾈﾙの分類 | X6: 陸上トンネル（掘進工法）
B7: 起点 | C7: 緯度 | E7: 340241.1 | H7: 完成年月日 | K7: 昭和33年 | M7: 舗装 | O7: 種 別 | Q7: アスファルト | S7: トンネル非常用施設 | T7: 施設の内訳 | X7: 種別・方式 | Y7: 型式 | Z7: 個数 | AA7: 更新年度 | AE7: =INT(E7/10000) -> 34 | AF7: =INT(E7/100)-AE7*100 -> 2 | AG7: =E7-AE7*10000-AF7*100 -> 41.1 | AH7: =ROUND(AE7+AF7/60+AG7/60/60,5) -> 34.04475 | AI7: =TEXT(AH7,"0.00000") -> 34.04475
C8: 経度 | E8: 1313748.3 | H8: 供用年月日 | K8: - | O8: 厚 さ | Q8: - | T8: 通報設備 | U8: 通話型通報設備 | Y8: - | Z8: 1 | AA8: - | AE8: =INT(E8/10000) -> 131 | AF8: =INT(E8/100)-AE8*100 -> 37 | AG8: =E8-AE8*10000-AF8*100 -> 48.3 | AH8: =ROUND(AE8+AF8/60+AG8/60/60,5) -> 131.63008 | AI8: =TEXT(AH8,"0.00000") -> 131.63008
B9: 終点 | C9: 緯度 | E9: 340236.1 | H9: トンネル区分 | K9: Ｃ | O9: 面 積 | Q9: - | U9: 操作型通報設備 | Y9: - | Z9: 7 | AA9: -
C10: 経度 | E10: 1313737.5 | H10: 内装種類 | K10: 覆工（内装なし） | O10: 更新年次 | Q10: - | U10: 自動通報設備 | Y10: - | Z10: - | AA10: -
B11: 一般有料区分 | E11: 一般（無料） | H11: 天井板種類 | K11: 覆工（内装なし） | M11: 排水 | O11: 種 別 | Q11: 自然排水 | T11: 警報設備 | U11: 非常警報設備 | Y11: - | Z11: - | AA11: -
B12: 土かぶり | E12: - | G12: m | H12: 坑門 | I12: 起点 | J12: 形式 | K12: 面壁型 | O12: 更新年次 | Q12: - | T12: 消火設備 | U12: 消 火 器 | Y12: - | Z12: 7 | AA12: -
B13: 内空断面積 | E13: 46.9 | G13: ㎡ | J13: 延長 | K13: 0 | L13: m | M13: 施設 | P13: 種別・方式 | Q13: 個数 | R13: 更新年次 | U13: 消火栓設備 | Y13: - | Z13: - | AA13: -
B14: 交 通 量 | E14: 13637 | G14: 台/日 | I14: 終点 | J14: 形式 | K14: 面壁型 | M14: 道路附属物等 | N14: 照明 | P14: LED | Q14: 113 | R14: 平成26 | T14: 避難誘導設備 | U14: 誘導表示設備 | Y14: - | Z14: 2 | AA14: - | AD14: 非常電話案内板12
C15: 道 路 幅 | E15: 8.5 | G15: m | J15: 延長 | K15: 0 | L15: m | N15: 換気 | P15: 自然換気 | Q15: - | R15: - | U15: 避難情報提供設備 | Y15: - | Z15: - | AA15: -
B16: 幅 員 | C16: 車 道 幅 | E16: 6.7 | G16: m | H16: 竣工巻厚 | I16: アーチ | K16: - | L16: cm | N16: 標識 | P16: - | Q16: - | R16: - | Y16: - | Z16: - | AA16: -
G17: m | I17: 側 壁 | K17: - | L17: cm | N17: 警報表示板 | P17: - | Q17: - | R17: - | U17: 避難通路 | Y17: - | Z17: - | AA17: -
C18: 歩道等幅 | G18: m | K18: - | L18: cm | N18: 吸音板 | P18: - | Q18: - | R18: - | U18: 排煙設備 | Y18: - | Z18: - | AA18: -
B19: 高さ | C19: 建築限界高 | E19: 4.5 | G19: m | I19: インバート | K19: - | L19: cm | T19: その他の設備 | U19: 給水栓設備 | Y19: - | Z19: - | AA19: -
C20: 中央高 | E20: 6.2 | G20: m | H20: 半径 | I20: アーチ | K20: - | L20: cm | U20: 無線通信補助設備 | Y20: - | Z20: - | AA20: -
C21: 有効高 | E21: 4.5 | G21: m | I21: 側 壁 | K21: - | L21: cm | U21: 水噴霧設備 | Y21: - | Z21: - | AA21: -
C22: 縦断勾配 | E22: - | I22: インバート | K22: - | L22: cm | U22: 監視設備 | Y22: - | Z22: - | AA22: -
B23: 線 形 | C23: 直線区間長 | E23: - | H23: 占用物件 | I23: 種 類 | K23: 寸 法 | M23: 管理者名 | Q23: 更新年次 | S23: 非常用施設 関連設備 | U23: 予備発電設備 | Y23: - | Z23: - | AA23: -
C24: 曲線区間 | D24: 区間長 | F24: -
D25: 起点側ｸﾛｿｲﾄﾞ | F25: -
D26: 曲線半径 | F26: -
D27: 終点側ｸﾛｿｲﾄﾞ | F27: - | S27: その他 | U27: 非常駐車帯 | Y27: - | Z27: - | AA27: -
B28: トンネル工法 | E28: その他 | U28: 方向転換所 | Y28: - | Z28: - | AA28: -
C29: ※緯度・経度については、秒の少数第二位の単位まで記入すること。（例；36度20分35.56秒の場合、362035.36と入力）

Sheet 様式A-2
B3: ■トンネル台帳 トンネル情報一覧表 【様式A-2】
B4: フリガナ | E4: ='様式A-1'!D3 -> チャウスヤマトンネル | J4: 路線名 | M4: ='様式A-1'!J3 -> 主要道路防府環状線 | S4: 作成者 | Y4: ='様式A-1'!K5 -> セントラルコンサルタント株式会社 鹿子嶋 康博 | AE4: 作成年月日 | AI4: ='様式A-1'!R5 -> 44581
B5: 名 称 | E5: ='様式A-1'!D4 -> 茶臼山トンネル | J5: 管理者名 | M5: ='様式A-1'!R3 -> 山口県防府土木 建築事務所
B6: 覆工 ｽﾊﾟﾝ 番号 | C6: ｽﾊﾟﾝ長 | D6: 追加距離 | F6: トンネル本体工 | K6: 照明施設 | O6: 非常用施設 | AE6: 換気施設 | AK6: その他附属物等
O7: ='様式A-1'!T8 -> 通報設備 | R7: ='様式A-1'!T11 -> 警報設備 | S7: ='様式A-1'!T12 -> 消火設備 | U7: ='様式A-1'!T14 -> 避難誘導設備 | Y7: ='様式A-1'!T19 -> その他の設備 | AC7: 特記事項
D8: 起点側 | E8: 終点側 | F8: 特記事項 | I8: 内装板 | J8: 天井板 | K8: 基本照明 | L8: 入口出口照明 | M8: 特記事項 | O8: ='様式A-1'!U8 -> 通話型通報設備 | P8: ='様式A-1'!U9 -> 操作型通報設備 | Q8: ='様式A-1'!U10 -> 自動通報設備 | R8: ='様式A-1'!U11 -> 非常警報設備 | S8: ='様式A-1'!U12 -> 消 火 器 | T8: ='様式A-1'!U13 -> 消火栓設備 | U8: ='様式A-1'!U14 -> 誘導表示設備 | V8: ='様式A-1'!U15 -> 避難情報提供設備 | W8: ='様式A-1'!U17 -> 避難通路 | X8: ='様式A-1'!U18 -> 排煙設備 | Y8: ='様式A-1'!U19 -> 給水栓設備 | Z8: ='様式A-1'!U20 -> 無線通信補助設備 | AA8: ='様式A-1'!U21 -> 水噴霧設備 | AB8: ='様式A-1'!U22 -> 監視設備 | AE8: JF | AF8: VI計 | AG8: CO計 | AH8: 風向 風速計 | AI8: 特記事項
C9: (m) | D9: (m) | E9: (m)
B10: PS | C10: 0 | D10: 0 | E10: 0 | F10: 坑門(面壁型) | AK10: 抗外灯
B11: S1 | C11: 3.1 | D11: 0 | E11: 3.1 | K11: ○
B12: S2 | C12: 5.2 | D12: 3.1 | E12: 8.3 | I12: ○ | P12: ① | S12: ① | AK12: 非常電話案内板
B13: S3 | C13: 4 | D13: 8.3 | E13: 12.3 | I13: ○ | K13: ○
B14: S4 | C14: 3.6 | D14: 12.3 | E14: 15.9 | I14: ○ | K14: ○
B15: S5 | C15: 5.4 | D15: 15.9 | E15: 21.3 | I15: ○ | K15: ○
B16: S6 | C16: 4.3 | D16: 21.3 | E16: 25.6 | I16: ○
B17: S7 | C17: 4 | D17: 25.6 | E17: 29.6 | I17: ○ | K17: ○
B18: S8 | C18: 4 | D18: 29.6 | E18: 33.6 | I18: ○ | K18: ○ | AK18: 非常電話案内板
B19: S9 | C19: 4.5 | D19: 33.6 | E19: 38.1 | I19: ○
B20: S10 | C20: 4.5 | D20: 38.1 | E20: 42.6 | I20: ○ | K20: ○
B21: S11 | C21: 4.5 | D21: 42.6 | E21: 47.1 | I21: ○ | K21: ○
B22: S12 | C22: 4.4 | D22: 47.1 | E22: 51.5 | I22: ○ | K22: ○ | U22: ○
B23: S13 | C23: 4.5 | D23: 51.5 | E23: 56 | I23: ○ | K23: ○ | AK23: 非常電話案内板
B24: S14 | C24: 4.5 | D24: 56 | E24: 60.5 | I24: ○ | K24: ○ | P24: ② | S24: ②
B25: S15 | C25: 4.5 | D25: 60.5 | E25: 65 | I25: ○ | K25: ○
B26: S16 | C26: 4.5 | D26: 65 | E26: 69.5 | I26: ○ | K26: ○
B27: S17 | C27: 4.5 | D27: 69.5 | E27: 74 | I27: ○ | K27: ○
B28: S18 | C28: 5.1 | D28: 74 | E28: 79.1 | I28: ○ | K28: ○
B29: S19 | C29: 4.5 | D29: 79.1 | E29: 83.6 | I29: ○ | K29: ○ | AK29: 非常電話案内板
B30: S20 | C30: 4.5 | D30: 83.6 | E30: 88.1 | I30: ○ | K30: ○
B31: S21 | C31: 4.5 | D31: 88.1 | E31: 92.6 | I31: ○ | K31: ○
B32: S22 | C32: 4.5 | D32: 92.6 | E32: 97.1 | I32: ○ | K32: ○
B33: S23 | C33: 4.5 | D33: 97.1 | E33: 101.6 | I33: ○ | K33: ○
B34: S24 | C34: 4.5 | D34: 101.6 | E34: 106.1 | I34: ○ | K34: ○
B35: S25 | C35: 4.5 | D35: 106.1 | E35: 110.6 | I35: ○ | K35: ○ | P35: ③ | S35: ③ | AK35: 非常電話案内板
B36: S26 | C36: 3.3 | D36: 110.6 | E36: 113.9 | I36: ○
B37: S27 | C37: 5.8 | D37: 113.9 | E37: 119.7 | I37: ○ | K37: ○
B38: S28 | C38: 7.6 | D38: 119.7 | E38: 127.3 | I38: ○ | K38: ○
B39: S29 | C39: 6.1 | D39: 127.3 | E39: 133.4 | I39: ○ | K39: ○ | AK39: 非常電話案内板
B40: S30 | C40: 6.1 | D40: 133.4 | E40: 139.5 | I40: ○ | K40: ○
B41: S31 | C41: 10.6 | D41: 139.5 | E41: 150.1 | I41: ○ | K41: ○
B42: S32 | C42: 7.6 | D42: 150.1 | E42: 157.7 | I42: ○ | K42: ○ | O42: ① | P42: ④ | S42: ④
B43: S33 | C43: 7.6 | D43: 157.7 | E43: 165.3 | I43: ○ | K43: ○
B44: S34 | C44: 7.6 | D44: 165.3 | E44: 172.9 | I44: ○ | K44: ○
B45: S35 | C45: 12.3 | D45: 172.9 | E45: 185.2 | I45: ○ | K45: ○ | AK45: 非常電話案内板
B46: S36 | C46: 4.5 | D46: 185.2 | E46: 189.7 | I46: ○ | K46: ○
B47: S37 | C47: 9.3 | D47: 189.7 | E47: 199 | I47: ○ | K47: ○
B48: S38 | C48: 9 | D48: 199 | E48: 208 | I48: ○ | K48: ○ | P48: ⑤ | S48: ⑤ | AK48: 非常電話案内板
B49: S39 | C49: 4.6 | D49: 208 | E49: 212.6 | I49: ○ | K49: ○
B50: S40 | C50: 9.1 | D50: 212.6 | E50: 221.7 | I50: ○ | K50: ○
B51: S41 | C51: 7.3 | D51: 221.7 | E51: 229 | I51: ○ | K51: ○
B52: S42 | C52: 4.6 | D52: 229 | E52: 233.6 | I52: ○ | K52: ○ | AK52: 非常電話案内板
B53: S43 | C53: 7.6 | D53: 233.6 | E53: 241.2 | I53: ○ | K53: ○
B54: S44 | C54: 7.6 | D54: 241.2 | E54: 248.8 | I54: ○ | K54: ○
B55: S45 | C55: 7.6 | D55: 248.8 | E55: 256.4 | I55: ○ | K55: ○ | AK55: 非常電話案内板
B56: S46 | C56: 7.2 | D56: 256.4 | E56: 263.6 | I56: ○ | K56: ○ | P56: ⑥ | S56: ⑥
B57: S47 | C57: 6.1 | D57: 263.6 | E57: 269.7 | I57: ○ | K57: ○ | U57: ○
B58: S48 | C58: 5 | D58: 269.7 | E58: 274.7 | I58: ○ | K58: ○
B59: S49 | C59: 4.6 | D59: 274.7 | E59: 279.3 | I59: ○ | K59: ○
B60: S50 | C60: 6.1 | D60: 279.3 | E60: 285.4 | I60: ○ | K60: ○ | AK60: 非常電話案内板
B61: S51 | C61: 4.2 | D61: 285.4 | E61: 289.6 | I61: ○ | K61: ○
B62: S52 | C62: 4.6 | D62: 289.6 | E62: 294.2 | I62: ○ | K62: ○
B63: S53 | C63: 4.6 | D63: 294.2 | E63: 298.8 | I63: ○ | K63: ○
B64: S54 | C64: 4.6 | D64: 298.8 | E64: 303.4 | I64: ○ | K64: ○
B65: S55 | C65: 4 | D65: 303.4 | E65: 307.4 | I65: ○ | K65: ○ | AK65: 非常電話案内板
B66: S56 | C66: 3.7 | D66: 307.4 | E66: 311.1 | I66: ○ | K66: ○ | P66: ⑦ | S66: ⑦
B67: S57 | C67: 4.3 | D67: 311.1 | E67: 315.4 | I67: ○ | K67: ○
B68: S58 | C68: 2.6 | D68: 315.4 | E68: 318
B69: PE | C69: 0 | D69: 318 | E69: 318 | F69: 坑門(面壁型) | AK69: 抗外灯
B93: ※ 行が不足する場合は、適時、表の行を増やすこと。

Sheet 様式A-3
B3: ■トンネル台帳 トンネル記録（位置図、断面図、施工実績他）【様式A-3】
B4: フリガナ | E4: ='様式A-1'!D3 -> チャウスヤマトンネル | J4: 路線名 | M4: ='様式A-1'!J3 -> 主要道路防府環状線 | S4: 作成者 | W4: ='様式A-1'!K5 -> セントラルコンサルタント株式会社 鹿子嶋 康博 | AC4: 作成年月日 | AF4: ='様式A-1'!R5 -> 44581
B5: 名 称 | E5: ='様式A-1'!D4 -> 茶臼山トンネル | J5: 管理者名 | M5: ='様式A-1'!R3 -> 山口県防府土木 建築事務所
B6: 位置図・現況写真・標準断面図・地質縦断図・施工実績

Sheet 様式B(トンネル様式1P001)
B2: ■定期点検記録様式 トンネル変状・異常箇所写真位置図 | T2: トンネルID | V2: 34.04475,131.63008 | AA2: Ⅰ | AB2: あり | AC2: 陸上トンネル 掘進工法
B3: フリガナ | D3: チャウスヤマトンネル | H3: 路線名 | J3: 主要道路防府環状線 | N3: 管理者名 | P3: 山口県防府土木建築事務所 | T3: 緊急輸送道路 | AA3: Ⅱ | AB3: なし | AC3: 陸上トンネル 開削工法
B4: 名 称 | D4: 茶臼山トンネル | T4: 代替路の有無 | AA4: Ⅲ | AC4: 陸上トンネル その他
B5: 所在地 | D5: 自 | E5: 山口県防府市富海 | H5: 定期点検業者 | K5: セントラルコンサルタント株式会社 | O5: 定期点検年月日 | Q5: 44337 | T5: トンネル延長 | V5: L= | W5: 318 | Y5: ｍ | AA5: Ⅳ | AC5: 水底トンネル 掘進工法
D6: 至 | E6: 山口県防府市富海 | H6: 定期点検者名 | K6: 鹿子嶋 康博 | T6: ﾄﾝﾈﾙの分類 | V6: 陸上トンネル 掘進工法 | AC6: 水底トンネル 沈埋工法
B7: 起点 | C7: 緯度 | D7: 34°02′41.1″ | F7: 変状・異常 箇所数合計 | H7: トンネル 本体工 | J7: 材質劣化 | L7: Ⅱ | M7: 67 | N7: Ⅲ | O7: 15 | P7: Ⅳ | Q7: 0 | R7: トンネル毎 の健全性 | T7: Ⅲ | V7: 附属物の 取付状態 | W7: ◯ （応急措置後） | Y7: 9 | AC7: 水底トンネル 開削工法
AC8: 水底トンネル その他
C10: 経度 | D10: 131°37′48.3″
J11: 漏水 | L11: Ⅱ | M11: 37 | N11: Ⅲ | O11: 0 | P11: Ⅳ | Q11: 0
B13: 終点 | C13: 緯度 | D13: 34°02′36.1″ | W13: ✕ | Y13: 3
J15: 外力 | L15: Ⅱ | M15: 9 | N15: Ⅲ | O15: 0 | P15: Ⅳ | Q15: 0 | AC15: 0
C16: 経度 | D16: 131°37′37.5″
B19: トンネル変状・異常箇所写真位置図
P26: 注１：本位置図は、見下げた状態で記載すること。 注２：覆工スパン番号は横断目地毎(矢板工法の場合は上半アーチ の横断目地毎)に設定すること。 注３：写真番号に付する変状番号は、各覆工スパンの変状に対して新た に確認された場合は順次追加していくこと。 注４：横断目地の変状は前の覆工スパン番号で計上すること。 注５：１枚に収まらない場合は、複数枚に分けて作成すること。
C28: ※1 トンネル本体工の変状数は、材質劣化、漏水に起因するものは変状単位で、外力に起因するものはスパン単位で計上すること。
C29: ※2 本体工の変状に対しては、健全性の判定区分Ⅱ～Ⅳについて添付すること。また、点検前に実施された措置によりⅠと判定された箇所も添付すること。
C30: ※3 附属物の取付状態の○欄については、応急措置前に判定区分×とした箇所のうち応急措置により○判定とした箇所の数を記入すること。
C31: ※4 附属物の異常番号は、本体工と番号が重複しないよう101番以降とする等の配慮を行い、分かりやすく記録すること。

Sheet 様式B(トンネル様式1P002)
B2: ■定期点検記録様式 トンネル変状・異常箇所写真位置図 | T2: トンネルID | V2: 34.04475,131.63008 | AA2: Ⅰ | AB2: あり | AC2: 陸上トンネル 掘進工法
B3: フリガナ | D3: チャウスヤマトンネル | H3: 路線名 | J3: 主要道路防府環状線 | N3: 管理者名 | P3: 山口県防府土木建築事務所 | T3: 緊急輸送道路 | AA3: Ⅱ | AB3: なし | AC3: 陸上トンネル 開削工法
B4: 名 称 | D4: 茶臼山トンネル | T4: 代替路の有無 | AA4: Ⅲ | AC4: 陸上トンネル その他
B5: 所在地 | D5: 自 | E5: 山口県防府市富海 | H5: 定期点検業者 | K5: セントラルコンサルタント株式会社 | O5: 定期点検年月日 | Q5: 44337 | T5: トンネル延長 | V5: L= | W5: 318 | Y5: ｍ | AA5: Ⅳ | AC5: 水底トンネル 掘進工法
D6: 至 | E6: 山口県防府市富海 | H6: 定期点検者名 | K6: 鹿子嶋 康博 | T6: ﾄﾝﾈﾙの分類 | V6: 陸上トンネル 掘進工法 | AC6: 水底トンネル 沈埋工法
B7: 起点 | C7: 緯度 | D7: 34°02′41.1″ | F7: 変状・異常 箇所数合計 | H7: トンネル 本体工 | J7: 材質劣化 | L7: Ⅱ | M7: 67 | N7: Ⅲ | O7: 15 | P7: Ⅳ | Q7: 0 | R7: トンネル毎 の健全性 | T7: Ⅲ | V7: 附属物の 取付状態 | W7: ◯ （応急措置後） | Y7: 9 | AC7: 水底トンネル 開削工法
AC8: 水底トンネル その他
C10: 経度 | D10: 131°37′48.3″
J11: 漏水 | L11: Ⅱ | M11: 37 | N11: Ⅲ | O11: 0 | P11: Ⅳ | Q11: 0
B13: 終点 | C13: 緯度 | D13: 34°02′36.1″ | W13: ✕ | Y13: 3
J15: 外力 | L15: Ⅱ | M15: 9 | N15: Ⅲ | O15: 0 | P15: Ⅳ | Q15: 0 | AC15: 0
C16: 経度 | D16: 131°37′37.5″
B19: トンネル変状・異常箇所写真位置図
P26: 注１：本位置図は、見下げた状態で記載すること。 注２：覆工スパン番号は横断目地毎(矢板工法の場合は上半アーチ の横断目地毎)に設定すること。 注３：写真番号に付する変状番号は、各覆工スパンの変状に対して新た に確認された場合は順次追加していくこと。 注４：横断目地の変状は前の覆工スパン番号で計上すること。 注５：１枚に収まらない場合は、複数枚に分けて作成すること。
C28: ※1 トンネル本体工の変状数は、材質劣化、漏水に起因するものは変状単位で、外力に起因するものはスパン単位で計上すること。
C29: ※2 本体工の変状に対しては、健全性の判定区分Ⅱ～Ⅳについて添付すること。また、点検前に実施された措置によりⅠと判定された箇所も添付すること。
C30: ※3 附属物の取付状態の○欄については、応急措置前に判定区分×とした箇所のうち応急措置により○判定とした箇所の数を記入すること。
C31: ※4 附属物の異常番号は、本体工と番号が重複しないよう101番以降とする等の配慮を行い、分かりやすく記録すること。

Sheet 様式B(トンネル様式1P003)
B2: ■定期点検記録様式 トンネル変状・異常箇所写真位置図 | T2: トンネルID | V2: 34.04475,131.63008 | AA2: Ⅰ | AB2: あり | AC2: 陸上トンネル 掘進工法
B3: フリガナ | D3: チャウスヤマトンネル | H3: 路線名 | J3: 主要道路防府環状線 | N3: 管理者名 | P3: 山口県防府土木建築事務所 | T3: 緊急輸送道路 | AA3: Ⅱ | AB3: なし | AC3: 陸上トンネル 開削工法
B4: 名 称 | D4: 茶臼山トンネル | T4: 代替路の有無 | AA4: Ⅲ | AC4: 陸上トンネル その他
B5: 所在地 | D5: 自 | E5: 山口県防府市富海 | H5: 定期点検業者 | K5: セントラルコンサルタント株式会社 | O5: 定期点検年月日 | Q5: 44337 | T5: トンネル延長 | V5: L= | W5: 318 | Y5: ｍ | AA5: Ⅳ | AC5: 水底トンネル 掘進工法
D6: 至 | E6: 山口県防府市富海 | H6: 定期点検者名 | K6: 鹿子嶋 康博 | T6: ﾄﾝﾈﾙの分類 | V6: 陸上トンネル 掘進工法 | AC6: 水底トンネル 沈埋工法
B7: 起点 | C7: 緯度 | D7: 34°02′41.1″ | F7: 変状・異常 箇所数合計 | H7: トンネル 本体工 | J7: 材質劣化 | L7: Ⅱ | M7: 67 | N7: Ⅲ | O7: 15 | P7: Ⅳ | Q7: 0 | R7: トンネル毎 の健全性 | T7: Ⅲ | V7: 附属物の 取付状態 | W7: ◯ （応急措置後） | Y7: 9 | AC7: 水底トンネル 開削工法
AC8: 水底トンネル その他
C10: 経度 | D10: 131°37′48.3″
J11: 漏水 | L11: Ⅱ | M11: 37 | N11: Ⅲ | O11: 0 | P11: Ⅳ | Q11: 0
B13: 終点 | C13: 緯度 | D13: 34°02′36.1″ | W13: ✕ | Y13: 3
J15: 外力 | L15: Ⅱ | M15: 9 | N15: Ⅲ | O15: 0 | P15: Ⅳ | Q15: 0 | AC15: 0
C16: 経度 | D16: 131°37′37.5″
B19: トンネル変状・異常箇所写真位置図
P26: 注１：本位置図は、見下げた状態で記載すること。 注２：覆工スパン番号は横断目地毎(矢板工法の場合は上半アーチ の横断目地毎)に設定すること。 注３：写真番号に付する変状番号は、各覆工スパンの変状に対して新た に確認された場合は順次追加していくこと。 注４：横断目地の変状は前の覆工スパン番号で計上すること。 注５：１枚に収まらない場合は、複数枚に分けて作成すること。
C28: ※1 トンネル本体工の変状数は、材質劣化、漏水に起因するものは変状単位で、外力に起因するものはスパン単位で計上すること。
C29: ※2 本体工の変状に対しては、健全性の判定区分Ⅱ～Ⅳについて添付すること。また、点検前に実施された措置によりⅠと判定された箇所も添付すること。
C30: ※3 附属物の取付状態の○欄については、応急措置前に判定区分×とした箇所のうち応急措置により○判定とした箇所の数を記入すること。
C31: ※4 附属物の異常番号は、本体工と番号が重複しないよう101番以降とする等の配慮を行い、分かりやすく記録すること。

Sheet 様式B(トンネル様式1P004)
B2: ■定期点検記録様式 トンネル変状・異常箇所写真位置図 | T2: トンネルID | V2: 34.04475,131.63008 | AA2: Ⅰ | AB2: あり | AC2: 陸上トンネル 掘進工法
B3: フリガナ | D3: チャウスヤマトンネル | H3: 路線名 | J3: 主要道路防府環状線 | N3: 管理者名 | P3: 山口県防府土木建築事務所 | T3: 緊急輸送道路 | AA3: Ⅱ | AB3: なし | AC3: 陸上トンネル 開削工法
B4: 名 称 | D4: 茶臼山トンネル | T4: 代替路の有無 | AA4: Ⅲ | AC4: 陸上トンネル その他
B5: 所在地 | D5: 自 | E5: 山口県防府市富海 | H5: 定期点検業者 | K5: セントラルコンサルタント株式会社 | O5: 定期点検年月日 | Q5: 44337 | T5: トンネル延長 | V5: L= | W5: 318 | Y5: ｍ | AA5: Ⅳ | AC5: 水底トンネル 掘進工法
D6: 至 | E6: 山口県防府市富海 | H6: 定期点検者名 | K6: 鹿子嶋 康博 | T6: ﾄﾝﾈﾙの分類 | V6: 陸上トンネル 掘進工法 | AC6: 水底トンネル 沈埋工法
B7: 起点 | C7: 緯度 | D7: 34°02′41.1″ | F7: 変状・異常 箇所数合計 | H7: トンネル 本体工 | J7: 材質劣化 | L7: Ⅱ | M7: 67 | N7: Ⅲ | O7: 15 | P7: Ⅳ | Q7: 0 | R7: トンネル毎 の健全性 | T7: Ⅲ | V7: 附属物の 取付状態 | W7: ◯ （応急措置後） | Y7: 9 | AC7: 水底トンネル 開削工法
AC8: 水底トンネル その他
C10: 経度 | D10: 131°37′48.3″
J11: 漏水 | L11: Ⅱ | M11: 37 | N11: Ⅲ | O11: 0 | P11: Ⅳ | Q11: 0
B13: 終点 | C13: 緯度 | D13: 34°02′36.1″ | W13: ✕ | Y13: 3
J15: 外力 | L15: Ⅱ | M15: 9 | N15: Ⅲ | O15: 0 | P15: Ⅳ | Q15: 0 | AC15: 0
C16: 経度 | D16: 131°37′37.5″
B19: トンネル変状・異常箇所写真位置図
P26: 注１：本位置図は、見下げた状態で記載すること。 注２：覆工スパン番号は横断目地毎(矢板工法の場合は上半アーチ の横断目地毎)に設定すること。 注３：写真番号に付する変状番号は、各覆工スパンの変状に対して新た に確認された場合は順次追加していくこと。 注４：横断目地の変状は前の覆工スパン番号で計上すること。 注５：１枚に収まらない場合は、複数枚に分けて作成すること。
C28: ※1 トンネル本体工の変状数は、材質劣化、漏水に起因するものは変状単位で、外力に起因するものはスパン単位で計上すること。
C29: ※2 本体工の変状に対しては、健全性の判定区分Ⅱ～Ⅳについて添付すること。また、点検前に実施された措置によりⅠと判定された箇所も添付すること。
C30: ※3 附属物の取付状態の○欄については、応急措置前に判定区分×とした箇所のうち応急措置により○判定とした箇所の数を記入すること。
C31: ※4 附属物の異常番号は、本体工と番号が重複しないよう101番以降とする等の配慮を行い、分かりやすく記録すること。

Sheet 様式C-1-1
B2: ■定期点検記録様式 全スパン定期点検結果総括表（トンネル本体工） 【様式C-1-1】
B3: フリガナ | F3: チャウスヤマトンネル | I3: 路線名 | K3: 主要道路防府環状線 | O3: 定期点検業者 | Q3: セントラルコンサルタント株式会社 | U3: 定期点検年月日 | Y3: 44337
B4: 名 称 | F4: 茶臼山トンネル | I4: 管理者名 | K4: 山口県防府土木建築事務所 | O4: 定期点検者名 | Q4: 鹿子嶋 康博
B5: 定期点検結果 | C5: 覆工 スパン 番号 | E5: 変状 番号 | F5: 距離 （m） | G5: 変状部位 | I5: 変 状 の 内 容 | O5: 前回定期点検時の状態 | Q5: 今回定期点検結果 | U5: 措置履歴 | Z5: 対応方針 ・ 特記事項
G7: 対象箇所 | H7: 部位区分 | I7: 変状区分 | J7: 変状種類 | M7: 変状の発生範囲の規模 | N7: 前回定期点検時 との比較 | O7: 状態 | P7: 健全性 | Q7: 対策区分 | S7: 調査の 要否 | T7: 措置の 要否 | U7: 実施 | V7: 措置の実施状況
Q8: 応急措置前 | R8: 応急措置後
C9: S2 | E9: 1 | F9: 4.4 | G9: 覆工・坑門 | H9: アーチ（天端） | I9: 漏水 | J9: 漏水 | M9: 7.60m×1.00m | N9: 滴水→にじみ | O9: Ⅱa | P9: Ⅱ | R9: Ⅱb | S9: 否 | T9: 要監視 | Z9: 監視
C10: S2 | E10: 2 | F10: 3.9 | G10: 覆工・坑門 | H10: アーチ（天端） | I10: 漏水 | J10: 漏水 | M10: 7.20m×0.50m | N10: 進行が認められない | O10: Ⅱa | P10: Ⅱ | R10: Ⅱa | S10: 否 | T10: 要対策 | Z10: 漏水防止対策工
C11: S2 | E11: 3 | F11: 5.5 | G11: 覆工・坑門 | H11: アーチ（天端） | I11: 漏水 | J11: 漏水 | M11: 6.00m×1.10m | N11: 進行が認められない | O11: - | P11: - | R11: Ⅱb | S11: 否 | T11: 要監視 | Z11: 監視
C12: S2 | E12: 4 | F12: 4.1 | G12: 路面 | H12: 車道 | I12: 漏水 | J12: 滞水 | M12: 0.50m×0.40m | N12: 進行が認められない | O12: - | P12: - | R12: Ⅱb | S12: 否 | T12: 要監視 | Z12: 監視
C13: S3 | E13: 1 | F13: 9.1 | G13: 覆工・坑門 | H13: アーチ（左側） | I13: 材質劣化 | J13: 補強・補修材の破損 | M13: 0.10m×0.40m | N13: 新たに発生 | O13: - | P13: - | R13: Ⅱb | S13: 否 | T13: 要監視 | Z13: 監視
C14: S3 | E14: 2 | F14: 11.8 | G14: 覆工・坑門 | H14: アーチ（右側） | I14: 外力 | J14: ひび割れ | M14: 幅0.3mm×長さ1.4m | N14: 進行が認められない | O14: - | P14: - | R14: Ⅱb | S14: 否 | T14: 要監視 | Z14: 監視
C15: S4 | E15: 1 | F15: 14 | G15: 覆工・坑門 | H15: アーチ（左側） | I15: 外力 | J15: ひび割れ | M15: 幅1.0mm×長さ3.7m | N15: 進行が認められない | O15: - | P15: - | R15: Ⅱb | S15: 否 | T15: 要監視 | Z15: 監視
C16: S4 | E16: 2 | F16: 14.2 | G16: 覆工・坑門 | H16: アーチ（右側） | I16: 外力 | J16: ひび割れ | M16: 幅0.3mm未満 | N16: 進行が認められない | O16: Ⅰ | P16: Ⅰ | R16: Ⅱb | S16: 否 | T16: 要監視 | Z16: 監視
C17: S5 | E17: 1 | F17: 17.3 | G17: 覆工・坑門 | H17: アーチ（左側） | I17: 外力 | J17: ひび割れ | M17: 幅0.5mm×長さ5.2m | N17: 進行が認められない | O17: - | P17: - | R17: Ⅱb | S17: 否 | T17: 要監視 | Z17: 監視
C18: S5 | E18: 2 | F18: 19.6 | G18: 覆工・坑門 | H18: 水平打ち継ぎ目（左側） | I18: 材質劣化 | J18: うき・はく離 | M18: 0.15m×0.5m | N18: 新たに発生 | O18: - | P18: - | R18: Ⅱb | S18: 否 | T18: 要監視 | Z18: 監視
C19: S5 | E19: 3 | F19: 17.1 | G19: 覆工・坑門 | H19: アーチ（天端） | I19: 材質劣化 | J19: うき・はく離 | M19: 0.35m×0.15m | N19: 新たに発生 | O19: - | P19: - | R19: Ⅱa | S19: 否 | T19: 要対策 | Z19: はく落防止対策工
C20: S5 | E20: 4 | F20: 18.3 | G20: 覆工・坑門 | H20: アーチ（右側） | I20: 外力 | J20: ひび割れ | M20: 幅1.0mm×長さ4.7m | N20: 進行が認められない | O20: - | P20: - | R20: Ⅱb | S20: 否 | T20: 要監視 | Z20: 監視
... C23: S6 | E23: 2 | F23: 23.9 | G23: 覆工・坑門 | H23: アーチ（左側） | I23: 漏水 | J23: 漏水 | M23: 4.70m×0.50m | N23: 進行が認められない | O23: Ⅱb | P23: Ⅱ | R23: Ⅱb | S23: 否 | T23: 要監視 | Z23: 監視
C24: S6 | E24: 3 | F24: 22.6 | G24: 覆工・坑門 | H24: アーチ（天端） | I24: 漏水 | J24: 漏水 | M24: 6.90m×0.50m | N24: 滴水→漏水跡 | O24: Ⅱa | P24: Ⅱ | R24: Ⅰ | S24: 否
C25: S7 | E25: 1 | F25: 27.6 | G25: 覆工・坑門 | H25: アーチ（左側） | I25: 外力 | J25: ひび割れ | M25: 幅0.3mm未満 | N25: 進行が認められない | O25: - | P25: - | R25: Ⅱb | S25: 否 | T25: 要監視 | Z25: 監視
C26: S7 | E26: 2 | F26: 28.8 | G26: 覆工・坑門 | H26: 水平打ち継ぎ目（左側） | I26: 材質劣化 | J26: うき・はく離 | M26: 0.10m×0.90m | N26: 新たに発生 | O26: - | P26: - | R26: Ⅱb | S26: 否 | T26: 要監視 | Z26: 監視
C27: S7 | E27: 3 | F27: 29.6 | G27: 覆工・坑門 | H27: 横断目地（天端） | I27: 材質劣化 | J27: 補強・補修材の破損 | M27: 6.80m×0.45m | N27: 新たに発生 | O27: - | P27: - | R27: Ⅲ | S27: 否 | T27: 要対策 | Z27: はく落防止対策工
C28: S7 | E28: 4 | F28: 26.8 | G28: 覆工・坑門 | H28: アーチ（右側） | I28: 材質劣化 | J28: 補強・補修材の破損 | M28: 3.10m×0.20m | N28: 新たに発生 | O28: - | P28: - | R28: Ⅲ | S28: 否 | T28: 要対策 | Z28: はく落防止対策工
C29: S7 | E29: 5 | F29: 28.2 | G29: 覆工・坑門 | H29: アーチ（右側） | I29: 外力 | J29: ひび割れ | M29: 幅1.0mm×長さ4.0m | N29: 進行が認められない | O29: Ⅰ | P29: Ⅰ | R29: Ⅱb | S29: 否 | T29: 要監視 | Z29: 監視
C30: S8 | E30: 1 | F30: 32.1 | G30: 覆工・坑門 | H30: アーチ（左側） | I30: 外力 | J30: ひび割れ | M30: 幅1.5mm×長さ3.8m | N30: 進行が認められない | O30: - | P30: - | R30: Ⅱb | S30: 否 | T30: 要監視 | Z30: 監視
C31: S8 | E31: 2 | F31: 32.6 | G31: 覆工・坑門 | H31: アーチ（左側） | I31: 材質劣化 | J31: うき・はく離 | M31: 0.30m×0.40m | N31: 新たに発生 | O31: - | P31: - | R31: Ⅱb | S31: 否 | T31: 要監視 | Z31: 監視
C32: S8 | E32: 3 | F32: 30.8 | G32: 覆工・坑門 | H32: アーチ（天端） | I32: 材質劣化 | J32: うき・はく離 | M32: 0.50m×0.15m | N32: 新たに発生 | O32: - | P32: - | R32: Ⅱa | S32: 否 | T32: 要対策 | Z32: はく落防止対策工
C33: S9 | E33: 1 | F33: 35.6 | G33: 覆工・坑門 | H33: アーチ（天端） | I33: 材質劣化 | J33: うき・はく離 | M33: 0.70m×1.00m | N33: 進行 | O33: - | P33: - | R33: Ⅱb | S33: 否 | T33: 要監視 | Z33: 監視
C34: S9 | E34: 2 | F34: 35 | G34: 覆工・坑門 | H34: アーチ（右側） | I34: 外力 | J34: ひび割れ | M34: 幅0.6mm×長さ2.7m | N34: 進行が認められない | O34: - | P34: - | R34: Ⅱb | S34: 否 | T34: 要監視 | Z34: 監視
C35: S10 | E35: 1 | F35: 40.2 | G35: 覆工・坑門 | H35: アーチ（左側） | I35: 外力 | J35: ひび割れ | M35: 幅0.5mm×長さ4.4m | N35: 進行が認められない | O35: - | P35: - | R35: Ⅱb | S35: 否 | T35: 要監視 | Z35: 監視
C36: S10 | E36: 2 | F36: 40 | G36: 覆工・坑門 | H36: アーチ（右側） | I36: 外力 | J36: ひび割れ | M36: 幅0.3mm×長さ3.7m | N36: 進行が認められない | O36: - | P36: - | R36: Ⅱb | S36: 否 | T36: 要監視 | Z36: 監視
... C39: S11 | E39: 2 | F39: 47.1 | G39: 覆工・坑門 | H39: 横断目地（左側） | I39: 材質劣化 | J39: 補強・補修材の破損 | M39: 0.20m×0.10m | N39: 新たに発生 | O39: - | P39: - | R39: Ⅱb | S39: 否 | T39: 要監視 | Z39: 監視
B40: ■定期点検記録様式 全スパン定期点検結果総括表（トンネル本体工） 【様式C-1-1】
B41: フリガナ | F41: チャウスヤマトンネル | I41: 路線名 | K41: 主要道路防府環状線 | O41: 定期点検業者 | Q41: セントラルコンサルタント株式会社 | U41: 定期点検年月日 | Y41: 44337
B42: 名 称 | F42: 茶臼山トンネル | I42: 管理者名 | K42: 山口県防府土木建築事務所 | O42: 定期点検者名 | Q42: 鹿子嶋 康博
B43: 定期点検結果 | C43: 覆工 スパン 番号 | E43: 変状 番号 | F43: 距離 （m） | G43: 変状部位 | I43: 変 状 の 内 容 | O43: 前回定期点検時の状態 | Q43: 今回定期点検結果 | U43: 措置履歴 | Z43: 対応方針 ・ 特記事項
G45: 対象箇所 | H45: 部位区分 | I45: 変状区分 | J45: 変状種類 | M45: 変状の発生範囲の規模 | N45: 前回定期点検時 との比較 | O45: 状態 | P45: 健全性 | Q45: 対策区分 | S45: 調査の 要否 | T45: 措置の 要否 | U45: 実施 | V45: 措置の実施状況
Q46: 応急措置前 | R46: 応急措置後
C47: S11 | E47: 3 | F47: 45.6 | G47: 覆工・坑門 | H47: アーチ（天端） | I47: 材質劣化 | J47: うき・はく離 | M47: 0.40m×0.15m | N47: 新たに発生 | O47: - | P47: - | R47: Ⅱa | S47: 否 | T47: 要対策 | Z47: はく落防止対策工
C48: S11 | E48: 4 | F48: 43.8 | G48: 覆工・坑門 | H48: アーチ（右側） | I48: 外力 | J48: ひび割れ | M48: 幅0.3mm未満 | N48: 進行が認められない | O48: - | P48: - | R48: Ⅱb | S48: 否 | T48: 要監視 | Z48: 監視
C49: S11 | E49: 5 | F49: 45.6 | G49: 路面 | H49: 側溝 | I49: 漏水 | J49: その他 | M49: 0.60m×5.40m | N49: 進行が認められない | O49: Ⅱb | P49: Ⅱ | R49: Ⅱb | S49: 否 | T49: 要監視 | Z49: 監視
C50: S12 | E50: 1 | F50: 51.5 | G50: 覆工・坑門 | H50: 横断目地（天端） | I50: 材質劣化 | J50: 補強・補修材の破損 | M50: 7.10m×0.40m | N50: 新たに発生 | O50: - | P50: - | R50: Ⅲ | S50: 否 | T50: 要対策 | Z50: はく落防止対策工
C51: S12 | E51: 2 | F51: 47.4 | G51: 覆工・坑門 | H51: アーチ（天端） | I51: 漏水 | J51: 漏水 | M51: 7.90m×0.50m | N51: 滴水→にじみ | O51: Ⅱa | P51: Ⅱ | R51: Ⅱb | S51: 否 | T51: 要監視 | Z51: 監視
C52: S12 | E52: 3 | F52: 49 | G52: 覆工・坑門 | H52: アーチ（右側） | I52: 材質劣化 | J52: 補強・補修材の破損 | M52: 2.40m×0.20m | N52: 新たに発生 | O52: - | P52: - | R52: Ⅲ | S52: 否 | T52: 要対策 | Z52: はく落防止対策工
C53: S14 | E53: 1 | F53: 57.2 | G53: 覆工・坑門 | H53: 水平打ち継ぎ目（左側） | I53: 材質劣化 | J53: うき・はく離 | M53: 0.15m×0.20m | N53: 新たに発生 | O53: - | P53: - | R53: Ⅱb | S53: 否 | T53: 要監視 | Z53: 監視
C54: S14 | E54: 2 | F54: 59.3 | G54: 覆工・坑門 | H54: アーチ（天端） | I54: 漏水 | J54: 漏水 | M54: 6.50m×0.50m | N54: 新たに発生 | O54: - | P54: - | R54: Ⅱa | S54: 否 | T54: 要対策 | Z54: 漏水防止対策工
C55: S14 | E55: 3 | F55: 57.7 | G55: 覆工・坑門 | H55: アーチ（天端） | I55: 漏水 | J55: 漏水 | M55: 6.80m×0.50m | N55: 進行が認められない | O55: Ⅱa | P55: Ⅱ | R55: Ⅱa | S55: 否 | T55: 要対策 | Z55: 漏水防止対策工
C56: S14 | E56: 4 | F56: 57.5 | G56: 覆工・坑門 | H56: アーチ（右側） | I56: 漏水 | J56: 漏水 | M56: 1.90m×0.40m | N56: 遊離石灰→にじみ | O56: - | P56: - | R56: Ⅱb | S56: 否 | T56: 要監視 | Z56: 監視
C57: S14 | E57: 5 | F57: 58 | G57: 覆工・坑門 | H57: アーチ（右側） | I57: 漏水 | J57: 漏水 | M57: 4.70m×1.20m | N57: 進行が認められない | O57: Ⅱa | P57: Ⅱ | R57: Ⅱa | S57: 否 | T57: 要対策 | Z57: 漏水防止対策工
C58: S14 | E58: 6 | F58: 60.2 | G58: 路面 | H58: 側溝 | I58: 漏水 | J58: その他 | M58: 0.50m×2.90m | N58: 進行が認められない | O58: Ⅱb | P58: Ⅱ | R58: Ⅱb | S58: 否 | T58: 要監視 | Z58: 監視
... C73: S19 | E73: 1 | F73: 80.6 | G73: 覆工・坑門 | H73: アーチ（天端） | I73: 材質劣化 | J73: 補強・補修材の破損 | M73: 7.10m×0.15m | N73: 新たに発生 | O73: - | P73: - | R73: Ⅲ | S73: 否 | T73: 要対策 | Z73: はく落防止対策工
C74: S19 | E74: 2 | F74: 81.9 | G74: 覆工・坑門 | H74: 側壁（左側） | I74: 漏水 | J74: 漏水 | M74: 0.50m×3.40m | N74: にじみ→漏水跡 | O74: Ⅱb | P74: Ⅱ | R74: Ⅰ | S74: 否
C75: S19 | E75: 3 | F75: 81.2 | G75: 路面 | H75: 側溝 | I75: 漏水 | J75: 滞水 | M75: 0.50m×1.80m | N75: 滞水→滞水跡 | O75: Ⅱb | P75: Ⅱ | R75: Ⅰ | S75: 否
C76: S19 | E76: 4 | F76: 82.6 | G76: 路面 | H76: 側溝 | I76: 漏水 | J76: その他 | M76: 0.60m×2.30m | N76: 進行が認められない | O76: Ⅱb | P76: Ⅱ | R76: Ⅱb | S76: 否 | T76: 要監視 | Z76: 監視
C77: S20 | E77: 1 | F77: 88.1 | G77: 路面 | H77: 側溝 | I77: 漏水 | J77: その他 | M77: 0.50m×2.80m | N77: 進行が認められない | O77: Ⅱb | P77: Ⅱ | R77: Ⅱb | S77: 否 | T77: 要監視 | Z77: 監視
B78: ■定期点検記録様式 全スパン定期点検結果総括表（トンネル本体工） 【様式C-1-1】
B79: フリガナ | F79: チャウスヤマトンネル | I79: 路線名 | K79: 主要道路防府環状線 | O79: 定期点検業者 | Q79: セントラルコンサルタント株式会社 | U79: 定期点検年月日 | Y79: 44337
B80: 名 称 | F80: 茶臼山トンネル | I80: 管理者名 | K80: 山口県防府土木建築事務所 | O80: 定期点検者名 | Q80: 鹿子嶋 康博
B81: 定期点検結果 | C81: 覆工 スパン 番号 | E81: 変状 番号 | F81: 距離 （m） | G81: 変状部位 | I81: 変 状 の 内 容 | O81: 前回定期点検時の状態 | Q81: 今回定期点検結果 | U81: 措置履歴 | Z81: 対応方針 ・ 特記事項
G83: 対象箇所 | H83: 部位区分 | I83: 変状区分 | J83: 変状種類 | M83: 変状の発生範囲の規模 | N83: 前回定期点検時 との比較 | O83: 状態 | P83: 健全性 | Q83: 対策区分 | S83: 調査の 要否 | T83: 措置の 要否 | U83: 実施 | V83: 措置の実施状況
Q84: 応急措置前 | R84: 応急措置後
C85: S21 | E85: 1 | F85: 89 | G85: 覆工・坑門 | H85: 水平打ち継ぎ目（左側） | I85: 材質劣化 | J85: うき・はく離 | M85: 0.20m×0.30m | N85: 進行 | O85: - | P85: - | R85: Ⅱb | S85: 否 | T85: 要監視 | Z85: 監視
C86: S21 | E86: 2 | F86: 91.8 | G86: 覆工・坑門 | H86: 水平打ち継ぎ目（左側） | I86: 材質劣化 | J86: うき・はく離 | M86: 0.10m×1.50m | N86: 進行 | O86: - | P86: - | R86: Ⅱb | S86: 否 | T86: 要監視 | Z86: 監視
C87: S21 | E87: 3 | F87: 88.8 | G87: 覆工・坑門 | H87: アーチ（天端） | I87: 漏水 | J87: 漏水 | M87: 6.20m×0.50m | N87: 新たに発生 | O87: - | P87: - | R87: Ⅱa | S87: 否 | T87: 要対策 | Z87: 漏水防止対策工
C88: S21 | E88: 4 | F88: 92.6 | G88: 路面 | H88: 側溝 | I88: 漏水 | J88: その他 | M88: 0.40m×2.00m | N88: 進行が認められない | O88: Ⅱb | P88: Ⅱ | R88: Ⅱb | S88: 否 | T88: 要監視 | Z88: 監視
C89: S22 | E89: 1 | F89: 93.4 | G89: 覆工・坑門 | H89: アーチ（右側） | I89: 材質劣化 | J89: うき・はく離 | M89: 0.40m×1.00m | N89: 進行 | O89: - | P89: - | R89: Ⅱb | S89: 否 | T89: 要監視 | Z89: 監視
C90: S22 | E90: 2 | F90: 94.1 | G90: 覆工・坑門 | H90: アーチ（天端） | I90: 材質劣化 | J90: 補強・補修材の破損 | M90: 7.00m×0.45m | N90: 新たに発生 | O90: - | P90: - | R90: Ⅲ | S90: 否 | T90: 要対策 | Z90: はく落防止対策工
C91: S23 | E91: 1 | F91: 99.9 | G91: 覆工・坑門 | H91: アーチ（天端） | I91: 漏水 | J91: 漏水 | M91: 5.50m×0.50m | N91: 新たに発生 | O91: - | P91: - | R91: Ⅱa | S91: 否 | T91: 要対策 | Z91: 漏水防止対策工
C92: S23 | E92: 2 | F92: 100.7 | G92: 覆工・坑門 | H92: アーチ（右側） | I92: 漏水 | J92: 漏水 | M92: 2.80m×1.60m | N92: 新たに発生 | O92: - | P92: - | R92: Ⅱb | S92: 否 | T92: 要監視 | Z92: 監視
C93: S23 | E93: 3 | F93: 101.5 | G93: 路面 | H93: 側溝 | I93: 漏水 | J93: その他 | M93: 0.40m×2.30m | N93: 進行が認められない | O93: Ⅱb | P93: Ⅱ | R93: Ⅱb | S93: 否 | T93: 要監視 | Z93: 監視
C94: S24 | E94: 1 | F94: 103.2 | G94: 覆工・坑門 | H94: アーチ（左側） | I94: 材質劣化 | J94: うき・はく離 | M94: 0.10m×0.40m | N94: 新たに発生 | O94: - | P94: - | R94: Ⅱb | S94: 否 | T94: 要監視 | Z94: 監視
C95: S24 | E95: 2 | F95: 106.1 | G95: 路面 | H95: 側溝 | I95: 漏水 | J95: その他 | M95: 0.40m×3.60m | N95: 進行が認められない | O95: Ⅱb | P95: Ⅱ | R95: Ⅱb | S95: 否 | T95: 要監視 | Z95: 監視
C96: S24 | E96: 3 | F96: 105.7 | G96: 路面 | H96: 側溝 | I96: 漏水 | J96: 滞水 | M96: 0.40m×2.30m | N96: 滞水→滞水跡 | O96: Ⅱb | P96: Ⅱ | R96: Ⅰ | S96: 否
C97: S25 | E97: 1 | F97: 110.6 | G97: 路面 | H97: 側溝 | I97: 漏水 | J97: 滞水 | M97: 0.40m×2.20m | N97: 滞水→滞水跡 | O97: Ⅱb | P97: Ⅱ | R97: Ⅰ | S97: 否
C98: S27 | E98: 1 | F98: 114.8 | G98: 覆工・坑門 | H98: アーチ（天端） | I98: 材質劣化 | J98: うき・はく離 | M98: 0.20m×0.20m | N98: うき→はく落 | O98: Ⅱb | P98: Ⅱ | R98: Ⅱb | S98: 否 | T98: 要監視 | Z98: 監視
C99: S28 | E99: 1 | F99: 120.6 | G99: 覆工・坑門 | H99: アーチ（天端） | I99: 材質劣化 | J99: うき・はく離 | M99: 0.20m×0.30m | N99: 新たに発生 | O99: - | P99: - | R99: Ⅱa | S99: 否 | T99: 要対策 | Z99: はく落防止対策工
C100: S28 | E100: 2 | F100: 124.4 | G100: 覆工・坑門 | H100: アーチ（天端） | I100: 材質劣化 | J100: うき・はく離 | M100: 0.5m×0.5m | N100: 新たに発生 | O100: - | P100: - | R100: Ⅱb | S100: 否 | T100: 要監視 | Z100: 監視
C101: S29 | E101: 1 | F101: 131.9 | G101: 覆工・坑門 | H101: 横断目地（全周） | I101: 材質劣化 | J101: 補強・補修材の破損 | M101: 14.30m×0.45m | N101: 新たに発生 | O101: - | P101: - | R101: Ⅲ | S101: 否 | T101: 要対策 | Z101: はく落防止対策工
C102: S29 | E102: 2 | F102: 133.4 | G102: 覆工・坑門 | H102: アーチ（天端） | I102: 材質劣化 | J102: うき・はく離 | M102: 0.40m×0.50m | N102: 新たに発生 | O102: - | P102: - | R102: Ⅱb | S102: 否 | T102: 要監視 | Z102: 監視
C103: S30 | E103: 1 | F103: 139.1 | G103: 覆工・坑門 | H103: アーチ（天端） | I103: 漏水 | J103: 補強・補修材の破損 | M103: 0.40m×0.60m | N103: 新たに発生 | O103: - | P103: - | R103: Ⅱa | S103: 否 | T103: 要対策 | Z103: 漏水防止対策工
C104: S30 | E104: 2 | F104: 139.4 | G104: 覆工・坑門 | H104: アーチ（左側） | I104: 材質劣化 | J104: 鋼材腐食 | M104: 0.10m×0.20m | N104: 進行 | O104: - | P104: - | R104: Ⅱa | S104: 否 | T104: 要対策 | Z104: はく落防止対策工
C105: S31 | E105: 1 | F105: 140.1 | G105: 覆工・坑門 | H105: アーチ（左側） | I105: 材質劣化 | J105: うき・はく離 | M105: 0.70m×0.50m | N105: 進行 | O105: - | P105: - | R105: Ⅱb | S105: 否 | T105: 要監視 | Z105: 監視
C106: S31 | E106: 2 | F106: 142.4 | G106: 覆工・坑門 | H106: アーチ（天端） | I106: 材質劣化 | J106: うき・はく離 | M106: 0.25m×0.15m | N106: 新たに発生 | O106: - | P106: - | R106: Ⅱb | S106: 否 | T106: 要監視 | Z106: 監視
C107: S32 | E107: 1 | F107: 152.4 | G107: 覆工・坑門 | H107: アーチ（天端） | I107: 材質劣化 | J107: うき・はく離 | M107: 0.10m×0.10m | N107: 新たに発生 | O107: - | P107: - | R107: Ⅱa | S107: 否 | T107: 要対策 | Z107: はく落防止対策工
C108: S32 | E108: 2 | F108: 156.7 | G108: 覆工・坑門 | H108: アーチ（左側） | I108: 材質劣化 | J108: うき・はく離 | M108: 0.15m×0.20m | N108: 新たに発生 | O108: - | P108: - | R108: Ⅱb | S108: 否 | T108: 要監視 | Z108: 監視
C109: S32 | E109: 3 | F109: 157.2 | G109: 覆工・坑門 | H109: アーチ（天端） | I109: 材質劣化 | J109: うき・はく離 | M109: 0.10m×0.10m | N109: 新たに発生 | O109: - | P109: - | R109: Ⅱa | S109: 否 | T109: 要対策 | Z109: はく落防止対策工
... C115: S34 | E115: 1 | F115: 171.8 | G115: 覆工・坑門 | H115: 水平打ち継ぎ目（左側） | I115: 材質劣化 | J115: うき・はく離 | M115: 0.15m×2.00m | N115: 新たに発生 | O115: - | P115: - | R115: Ⅱb | S115: 否 | T115: 要監視 | Z115: 監視
B116: ■定期点検記録様式 全スパン定期点検結果総括表（トンネル本体工） 【様式C-1-1】
B117: フリガナ | F117: チャウスヤマトンネル | I117: 路線名 | K117: 主要道路防府環状線 | O117: 定期点検業者 | Q117: セントラルコンサルタント株式会社 | U117: 定期点検年月日 | Y117: 44337
B118: 名 称 | F118: 茶臼山トンネル | I118: 管理者名 | K118: 山口県防府土木建築事務所 | O118: 定期点検者名 | Q118: 鹿子嶋 康博
B119: 定期点検結果 | C119: 覆工 スパン 番号 | E119: 変状 番号 | F119: 距離 （m） | G119: 変状部位 | I119: 変 状 の 内 容 | O119: 前回定期点検時の状態 | Q119: 今回定期点検結果 | U119: 措置履歴 | Z119: 対応方針 ・ 特記事項
G121: 対象箇所 | H121: 部位区分 | I121: 変状区分 | J121: 変状種類 | M121: 変状の発生範囲の規模 | N121: 前回定期点検時 との比較 | O121: 状態 | P121: 健全性 | Q121: 対策区分 | S121: 調査の 要否 | T121: 措置の 要否 | U121: 実施 | V121: 措置の実施状況
Q122: 応急措置前 | R122: 応急措置後
C123: S34 | E123: 2 | F123: 169.9 | G123: 覆工・坑門 | H123: 水平打ち継ぎ目（右側） | I123: 材質劣化 | J123: うき・はく離 | M123: 0.15m×0.20m | N123: 新たに発生 | O123: - | P123: - | R123: Ⅱb | S123: 否 | T123: 要監視 | Z123: 監視
C124: S34 | E124: 3 | F124: 170 | G124: 覆工・坑門 | H124: アーチ（右側） | I124: 材質劣化 | J124: うき・はく離 | M124: 0.20m×0.70m | N124: 進行 | O124: - | P124: - | R124: Ⅱb | S124: 否 | T124: 要監視 | Z124: 監視
C125: S34 | E125: 4 | F125: 172.7 | G125: 覆工・坑門 | H125: 水平打ち継ぎ目（右側） | I125: 材質劣化 | J125: うき・はく離 | M125: 0.15m×0.45m | N125: 新たに発生 | O125: - | P125: - | R125: Ⅱb | S125: 否 | T125: 要監視 | Z125: 監視
C126: S35 | E126: 1 | F126: 176.8 | G126: 覆工・坑門 | H126: アーチ（天端） | I126: 材質劣化 | J126: うき・はく離 | M126: 0.30m×0.40m | N126: 新たに発生 | O126: - | P126: - | R126: Ⅱa | S126: 否 | T126: 要対策 | Z126: はく落防止対策工
C127: S35 | E127: 2 | F127: 182.9 | G127: 覆工・坑門 | H127: 水平打ち継ぎ目（左側） | I127: 材質劣化 | J127: うき・はく離 | M127: 0.15m×4.60m | N127: 新たに発生 | O127: - | P127: - | R127: Ⅱb | S127: 否 | T127: 要監視 | Z127: 監視
C128: S35 | E128: 3 | F128: 173.2 | G128: 覆工・坑門 | H128: 水平打ち継ぎ目（右側） | I128: 材質劣化 | J128: うき・はく離 | M128: 0.15m×0.60m | N128: 新たに発生 | O128: - | P128: - | R128: Ⅱb | S128: 否 | T128: 要監視 | Z128: 監視
...

Sheet 様式C-1-2
B2: ■定期点検記録様式 定期点検結果総括表（トンネル内附属物等の取付状態） 【様式C-1-2】
B3: フリガナ | F3: チャウスヤマトンネル | J3: 路線名 | L3: 主要道路防府環状線 | O3: 定期点検業者 | Q3: セントラルコンサルタント株式会社 | U3: 定期点検年月日 | Y3: 44337
B4: 名 称 | F4: 茶臼山トンネル | J4: 管理者名 | L4: 山口県防府土木建築事務所 | O4: 定期点検者名 | Q4: 鹿子嶋 康博
B5: 定期点検結果 | C5: 覆工 スパン 番号 | E5: 異常 番号 | F5: 距離 （m） | G5: 異常部位 | J5: 異 常 の 内 容 | P5: 定期点検結果 | X5: 対応方針 ・ 特記事項
G6: 対象箇所 | I6: 部位区分 | J6: 異常種類 | N6: 異常の発生範囲の規模 | P6: 異常判定区分 | R6: 実施 | S6: 応急措置の内容
P7: 応急措置前 | Q7: 応急措置後
C8: PS | E8: 1 | F8: 0 | G8: その他施設 | H8: その他 | I8: 附属物本体 | J8: 変形，欠損 | N8: 1箇所 | Q8: × | X8: 交換
C9: S21 | E9: 1 | F9: 89.6 | G9: その他施設 | H9: 内装板取付部材 | I9: 取付部材 | J9: 前回異常(内装板の金具破損) | N9: 1箇所 | Q9: ○
C10: S24 | E10: 1 | F10: 103.9 | G10: その他施設 | H10: その他 | I10: 附属物本体 | J10: 前回異常(内装板破損) | N10: 1箇所 | Q10: ○
C11: S32 | E11: 1 | F11: 156.8 | G11: 非常用施設 | H11: 通話型通報設備 | I11: 附属物本体 | J11: 前回異常(非常電話故障) | N11: 1箇所 | Q11: ○
C12: S34 | E12: 1 | F12: 166.8 | G12: その他施設 | H12: その他 | I12: 附属物本体 | J12: 前回異常(内装板破損) | N12: 2箇所 | Q12: ○
C13: S42 | E13: 1 | F13: 231.9 | G13: その他施設 | H13: その他 | I13: 附属物本体 | J13: 前回異常(内装板破損) | N13: 3箇所 | Q13: ○
C14: S43 | E14: 1 | F14: 237.3 | G14: その他施設 | H14: その他 | I14: 附属物本体 | J14: 前回異常(内装板破損) | N14: 4箇所 | Q14: ○
C15: S44 | E15: 1 | F15: 245 | G15: その他施設 | H15: その他 | I15: 附属物本体 | J15: 前回異常(内装板破損) | N15: 5箇所 | Q15: ○
C16: S48 | E16: 1 | F16: 272.3 | G16: その他施設 | H16: その他 | I16: 附属物本体 | J16: 前回異常(内装板破損) | N16: 2箇所 | Q16: ○
C17: S49 | E17: 1 | F17: 276.7 | G17: その他施設 | H17: その他 | I17: 附属物本体 | J17: 前回異常(内装板破損) | N17: 1箇所 | Q17: ○
C18: S50 | E18: 1 | F18: 279.8 | G18: その他施設 | H18: その他 | I18: ボルト・ﾅｯﾄ・アンカー類 | J18: 緩み，脱落 | N18: 1箇所 | Q18: × | X18: 交換
C19: S50 | E19: 2 | F19: 283.5 | G19: その他施設 | H19: 内装板取付部材 | I19: 取付部材 | J19: 変形，欠損 | N19: 4箇所 | Q19: × | X19: 交換
C39: ※ 異常判定区分×について記入すること。また、応急措置により○と判定された箇所も記入すること。
C40: ※ 応急措置を実施しないで判定した箇所の異常判定区分は、異常判定区分の応急措置後の欄に記入すること。
C41: ※ 異常の除去が不完全で、緊急対応が必要な場合は対応方針欄に記入すること。
C42: ※ １スパンの覆工に複数の異常がある場合は、異常箇所毎に記入すること。
C43: ※ 行が不足する場合は、適時、表の行を増やすこと。

Sheet 様式C-2
B2: ■定期点検記録様式 状態の把握の内容 【様式C-2】
B3: フリガナ | E3: チャウスヤマトンネル | H3: 路線名 | J3: 主要道路防府環状線 | M3: 定期点検業者 | R3: セントラルコンサルタント株式会社 | U3: 定期点検年月日 | X3: 44337
B4: 名 称 | E4: 茶臼山トンネル | H4: 管理者名 | J4: 山口県防府土木建築事務所 | M4: 定期点検者名 | R4: 鹿子嶋 康博
B5: 状態の把握の内容 | C5: 覆工スパン 番号 | E5: 変状 番号 | F5: 状態の把握の内容
F6: 年月日 | H6: 内容 | O6: 結果 | W6: 対策区分の 判定 | Y6: 健全性
B22: 注）状態の把握において、微破壊・非破壊検査や各種試験等を実施した場合について記載する。
B23: ※ 行が不足する場合は、適時、表の行を増やすこと。

Sheet 様式D-1-1(トンネル様式2P001)
B2: ■定期点検記録様式 変状写真台帳 | Y2: Ⅰ
B3: フリガナ | D3: チャウスヤマトンネル | H3: 路線名 | J3: 主要道路防府環状線 | M3: 定期点検業者 | P3: セントラルコンサルタント株式会社 | S3: 定期点検年月日 | U3: 44337 | Y3: Ⅱ
B4: 名 称 | D4: 茶臼山トンネル | H4: 管理者名 | J4: 山口県防府土木建築事務所 | M4: 定期点検者名 | P4: 鹿子嶋 康博 | Y4: Ⅲ
B5: 写真 番号 | C5: 覆工 スパン 番号 | D5: S2 | M5: 写真 番号 | N5: 覆工 スパン 番号 | O5: S2 | Y5: Ⅳ
C7: 変状 番号 | D7: 1 | N7: 変状 番号 | O7: 2
B9: 変状 部位 | C9: 対象 箇所 | D9: 覆工・坑門 | M9: 変状 部位 | N9: 対象 箇所 | O9: 覆工・坑門
C11: 部位 区分 | D11: アーチ（天端） | N11: 部位 区分 | O11: アーチ（天端）
B13: 変状区分 | D13: 漏水 | M13: 変状区分 | O13: 漏水
B14: 変状種類 | D14: 漏水 | M14: 変状種類 | O14: 漏水
B15: 健全性 | C15: 応急措置前 | M15: 健全性 | N15: 応急措置前
C16: 応急措置後 | E16: Ⅱb | N16: 応急措置後 | P16: Ⅱa
B17: 変状の発生範囲の規模 | E17: 7.60m×1.00m | M17: 変状の発生範囲の規模 | P17: 7.20m×0.50m
B18: 前回定期点検時の状態 | E18: 滴水 | M18: 前回定期点検時の状態 | P18: 滴水
B19: 調査方針 | M19: 調査方針
B20: 対策履歴 | H20: 実施状況（実施日） | M20: 対策履歴 | S20: 実施状況（実施日）
B21: メモ | D21: にじみ(FRPメッシュ背面) | M21: メモ | O21: 滴水
B22: 写真 番号 | C22: 覆工 スパン 番号 | D22: S2 | M22: 写真 番号 | N22: 覆工 スパン 番号 | O22: S2
C24: 変状 番号 | D24: 3 | N24: 変状 番号 | O24: 4
B26: 変状 部位 | C26: 対象 箇所 | D26: 覆工・坑門 | M26: 変状 部位 | N26: 対象 箇所 | O26: 路面
C28: 部位 区分 | D28: アーチ（天端） | N28: 部位 区分 | O28: 車道
B30: 変状区分 | D30: 漏水 | M30: 変状区分 | O30: 漏水
B31: 変状種類 | D31: 漏水 | M31: 変状種類 | O31: 滞水
B32: 健全性 | C32: 応急措置前 | M32: 健全性 | N32: 応急措置前
C33: 応急措置後 | E33: Ⅱb | N33: 応急措置後 | P33: Ⅱb
B34: 変状の発生範囲の規模 | E34: 6.00m×1.10m | M34: 変状の発生範囲の規模 | P34: 0.50m×0.40m
B35: 前回定期点検時の状態 | E35: にじみ | M35: 前回定期点検時の状態 | P35: 滞水
B36: 調査方針 | M36: 調査方針
B37: 対策履歴 | H37: 実施状況（実施日） | M37: 対策履歴 | S37: 実施状況（実施日）
B38: メモ | D38: にじみ | M38: メモ | O38: 滞水
C39: ※ 健全性（応急措置後）の判定区分Ⅱ～Ⅳについて添付すること。また、点検前に 実施された措置によりⅠと判定された箇所も添付すること。 | N39: ※ 変状の発生範囲の規模とは、対策を行う際に参考となる変状の長さや面積をいう。
N40: ※ 応急措置を実施しないで判定した変状の健全性は、健全性の応急措置後の欄に記入すること。
C41: ※ たたき落としを実施した場合は、実施後の写真を添付すること。 | N41: ※ 変状の発生範囲の規模は、面積・寸法を記載すること。
C42: ※ 附属物の取付状態に関する異常写真は別途、様式D-1-2でとりまとめること。 | N42: (ひび割れ幅のみmmとし、その他をm表記とする)
C43: ※ 変状数に準じてシートを追加すること。（１シートに１ページとすること。） | N43: ※ 構造用鋼材以外の異物に伴ううき・はく離については、メモ欄に異物の概要を記入すること。

Sheet 様式D-1-1(トンネル様式2P002)
B2: ■定期点検記録様式 変状写真台帳 | Y2: Ⅰ
B3: フリガナ | D3: チャウスヤマトンネル | H3: 路線名 | J3: 主要道路防府環状線 | M3: 定期点検業者 | P3: セントラルコンサルタント株式会社 | S3: 定期点検年月日 | U3: 44337 | Y3: Ⅱ
B4: 名 称 | D4: 茶臼山トンネル | H4: 管理者名 | J4: 山口県防府土木建築事務所 | M4: 定期点検者名 | P4: 鹿子嶋 康博 | Y4: Ⅲ
B5: 写真 番号 | C5: 覆工 スパン 番号 | D5: S3 | M5: 写真 番号 | N5: 覆工 スパン 番号 | O5: S3 | Y5: Ⅳ
C7: 変状 番号 | D7: 1 | N7: 変状 番号 | O7: 2
B9: 変状 部位 | C9: 対象 箇所 | D9: 覆工・坑門 | M9: 変状 部位 | N9: 対象 箇所 | O9: 覆工・坑門
C11: 部位 区分 | D11: アーチ（左側） | N11: 部位 区分 | O11: アーチ（右側）
B13: 変状区分 | D13: 材質劣化 | M13: 変状区分 | O13: 外力
B14: 変状種類 | D14: 補強・補修材の破損 | M14: 変状種類 | O14: ひび割れ
B15: 健全性 | C15: 応急措置前 | M15: 健全性 | N15: 応急措置前
C16: 応急措置後 | E16: Ⅱb | N16: 応急措置後 | P16: Ⅱb
B17: 変状の発生範囲の規模 | E17: 0.10m×0.40m | M17: 変状の発生範囲の規模 | P17: 幅0.3mm×長さ1.4m
B18: 前回定期点検時の状態 | E18: - | M18: 前回定期点検時の状態 | P18: 縦断ひび割れ 幅0.3mm×長さ2.4m
B19: 調査方針 | M19: 調査方針
B20: 対策履歴 | H20: 実施状況（実施日） | M20: 対策履歴 | S20: 実施状況（実施日）
B21: メモ | D21: 線導水の破損 | M21: メモ | O21: 縦断ひび割れ
B22: 写真 番号 | C22: 覆工 スパン 番号 | D22: S4 | M22: 写真 番号 | N22: 覆工 スパン 番号 | O22: S4
C24: 変状 番号 | D24: 1 | N24: 変状 番号 | O24: 2
B26: 変状 部位 | C26: 対象 箇所 | D26: 覆工・坑門 | M26: 変状 部位 | N26: 対象 箇所 | O26: 覆工・坑門
C28: 部位 区分 | D28: アーチ（左側） | N28: 部位 区分 | O28: アーチ（右側）
B30: 変状区分 | D30: 外力 | M30: 変状区分 | O30: 外力
B31: 変状種類 | D31: ひび割れ | M31: 変状種類 | O31: ひび割れ
B32: 健全性 | C32: 応急措置前 | M32: 健全性 | N32: 応急措置前
C33: 応急措置後 | E33: Ⅱb | N33: 応急措置後 | P33: Ⅱb
B34: 変状の発生範囲の規模 | E34: 幅1.0mm×長さ3.7m | M34: 変状の発生範囲の規模 | P34: 幅0.3mm未満
B35: 前回定期点検時の状態 | E35: 縦断ひび割れ 幅1.0mm×長さ3.7m | M35: 前回定期点検時の状態 | P35: 縦断ひび割れ 幅0.3mm以上×長さ3.4m
B36: 調査方針 | M36: 調査方針
B37: 対策履歴 | H37: 実施状況（実施日） | M37: 対策履歴 | S37: 実施状況（実施日）
B38: メモ | D38: 縦断ひび割れ(にじみ,漏水跡) | M38: メモ | O38: 縦断ひび割れ
C39: ※ 健全性（応急措置後）の判定区分Ⅱ～Ⅳについて添付すること。また、点検前に 実施された措置によりⅠと判定された箇所も添付すること。 | N39: ※ 変状の発生範囲の規模とは、対策を行う際に参考となる変状の長さや面積をいう。
N40: ※ 応急措置を実施しないで判定した変状の健全性は、健全性の応急措置後の欄に記入すること。
C41: ※ たたき落としを実施した場合は、実施後の写真を添付すること。 | N41: ※ 変状の発生範囲の規模は、面積・寸法を記載すること。
C42: ※ 附属物の取付状態に関する異常写真は別途、様式D-1-2でとりまとめること。 | N42: (ひび割れ幅のみmmとし、その他をm表記とする)
C43: ※ 変状数に準じてシートを追加すること。（１シートに１ページとすること。） | N43: ※ 構造用鋼材以外の異物に伴ううき・はく離については、メモ欄に異物の概要を記入すること。

Sheet 様式D-1-1(トンネル様式2P003)
B2: ■定期点検記録様式 変状写真台帳 | Y2: Ⅰ
B3: フリガナ | D3: チャウスヤマトンネル | H3: 路線名 | J3: 主要道路防府環状線 | M3: 定期点検業者 | P3: セントラルコンサルタント株式会社 | S3: 定期点検年月日 | U3: 44337 | Y3: Ⅱ
B4: 名 称 | D4: 茶臼山トンネル | H4: 管理者名 | J4: 山口県防府土木建築事務所 | M4: 定期点検者名 | P4: 鹿子嶋 康博 | Y4: Ⅲ
B5: 写真 番号 | C5: 覆工 スパン 番号 | D5: S5 | M5: 写真 番号 | N5: 覆工 スパン 番号 | O5: S5 | Y5: Ⅳ
C7: 変状 番号 | D7: 1 | N7: 変状 番号 | O7: 2
B9: 変状 部位 | C9: 対象 箇所 | D9: 覆工・坑門 | M9: 変状 部位 | N9: 対象 箇所 | O9: 覆工・坑門
C11: 部位 区分 | D11: アーチ（左側） | N11: 部位 区分 | O11: 水平打ち継ぎ目（左側）
B13: 変状区分 | D13: 外力 | M13: 変状区分 | O13: 材質劣化
B14: 変状種類 | D14: ひび割れ | M14: 変状種類 | O14: うき・はく離
B15: 健全性 | C15: 応急措置前 | M15: 健全性 | N15: 応急措置前
C16: 応急措置後 | E16: Ⅱb | N16: 応急措置後 | P16: Ⅱb
B17: 変状の発生範囲の規模 | E17: 幅0.5mm×長さ5.2m | M17: 変状の発生範囲の規模 | P17: 0.15m×0.5m、他1箇所
B18: 前回定期点検時の状態 | E18: 縦断ひび割れ 幅0.5mm×長3.5さm | M18: 前回定期点検時の状態 | P18: -
B19: 調査方針 | M19: 調査方針
B20: 対策履歴 | H20: 実施状況（実施日） | M20: 対策履歴 | S20: 実施状況（実施日）
B21: メモ | D21: 縦断ひび割れ(遊離石灰) | M21: メモ | O21: うき
B22: 写真 番号 | C22: 覆工 スパン 番号 | D22: S5 | M22: 写真 番号 | N22: 覆工 スパン 番号 | O22: S5
C24: 変状 番号 | D24: 3 | N24: 変状 番号 | O24: 4
B26: 変状 部位 | C26: 対象 箇所 | D26: 覆工・坑門 | M26: 変状 部位 | N26: 対象 箇所 | O26: 覆工・坑門
C28: 部位 区分 | D28: アーチ（天端） | N28: 部位 区分 | O28: アーチ（右側）
B30: 変状区分 | D30: 材質劣化 | M30: 変状区分 | O30: 外力
B31: 変状種類 | D31: うき・はく離 | M31: 変状種類 | O31: ひび割れ
B32: 健全性 | C32: 応急措置前 | M32: 健全性 | N32: 応急措置前
C33: 応急措置後 | E33: Ⅱa | N33: 応急措置後 | P33: Ⅱb
B34: 変状の発生範囲の規模 | E34: 0.35m×0.15m | M34: 変状の発生範囲の規模 | P34: 幅1.0mm×長さ4.7m
B35: 前回定期点検時の状態 | E35: - | M35: 前回定期点検時の状態 | P35: 縦断ひび割れ 幅1.0mm×長さ5.3m
B36: 調査方針 | M36: 調査方針
B37: 対策履歴 | H37: 実施状況（実施日） | M37: 対策履歴 | S37: 実施状況（実施日）
B38: メモ | D38: 補修跡うき | M38: メモ | O38: 縦断ひび割れ(にじみ・遊離石灰)
C39: ※ 健全性（応急措置後）の判定区分Ⅱ～Ⅳについて添付すること。また、点検前に 実施された措置によりⅠと判定された箇所も添付すること。 | N39: ※ 変状の発生範囲の規模とは、対策を行う際に参考となる変状の長さや面積をいう。
N40: ※ 応急措置を実施しないで判定した変状の健全性は、健全性の応急措置後の欄に記入すること。
C41: ※ たたき落としを実施した場合は、実施後の写真を添付すること。 | N41: ※ 変状の発生範囲の規模は、面積・寸法を記載すること。
C42: ※ 附属物の取付状態に関する異常写真は別途、様式D-1-2でとりまとめること。 | N42: (ひび割れ幅のみmmとし、その他をm表記とする)
C43: ※ 変状数に準じてシートを追加すること。（１シートに１ページとすること。） | N43: ※ 構造用鋼材以外の異物に伴ううき・はく離については、メモ欄に異物の概要を記入すること。

Sheet 様式D-1-1(トンネル様式2P004)
B2: ■定期点検記録様式 変状写真台帳 | Y2: Ⅰ
B3: フリガナ | D3: チャウスヤマトンネル | H3: 路線名 | J3: 主要道路防府環状線 | M3: 定期点検業者 | P3: セントラルコンサルタント株式会社 | S3: 定期点検年月日 | U3: 44337 | Y3: Ⅱ
B4: 名 称 | D4: 茶臼山トンネル | H4: 管理者名 | J4: 山口県防府土木建築事務所 | M4: 定期点検者名 | P4: 鹿子嶋 康博 | Y4: Ⅲ
B5: 写真 番号 | C5: 覆工 スパン 番号 | D5: S5 | M5: 写真 番号 | N5: 覆工 スパン 番号 | O5: S6 | Y5: Ⅳ
C7: 変状 番号 | D7: 5 | N7: 変状 番号 | O7: 1
B9: 変状 部位 | C9: 対象 箇所 | D9: 覆工・坑門 | M9: 変状 部位 | N9: 対象 箇所 | O9: 覆工・坑門
C11: 部位 区分 | D11: アーチ（右側） | N11: 部位 区分 | O11: アーチ（左側）
B13: 変状区分 | D13: 漏水 | M13: 変状区分 | O13: 外力
B14: 変状種類 | D14: 漏水 | M14: 変状種類 | O14: ひび割れ
B15: 健全性 | C15: 応急措置前 | M15: 健全性 | N15: 応急措置前
C16: 応急措置後 | E16: Ⅱb | N16: 応急措置後 | P16: Ⅱb
B17: 変状の発生範囲の規模 | E17: 3.30m×3.00m | M17: 変状の発生範囲の規模 | P17: 幅1.5mm×長さ3.6m
B18: 前回定期点検時の状態 | E18: にじみ | M18: 前回定期点検時の状態 | P18: 縦断ひび割れ 幅1.0mm×長さ3.6m
B19: 調査方針 | M19: 調査方針
B20: 対策履歴 | H20: 実施状況（実施日） | M20: 対策履歴 | S20: 実施状況（実施日）
B21: メモ | D21: ひび割れ沿いのにじみ | M21: メモ | O21: 縦断ひび割れ(遊離石灰)
B22: 写真 番号 | C22: 覆工 スパン 番号 | D22: S6 | M22: 写真 番号 | N22: 覆工 スパン 番号 | O22: S6
C24: 変状 番号 | D24: 2 | N24: 変状 番号 | O24: 3
B26: 変状 部位 | C26: 対象 箇所 | D26: 覆工・坑門 | M26: 変状 部位 | N26: 対象 箇所 | O26: 覆工・坑門
C28: 部位 区分 | D28: アーチ（左側） | N28: 部位 区分 | O28: アーチ（天端）
B30: 変状区分 | D30: 漏水 | M30: 変状区分 | O30: 漏水
B31: 変状種類 | D31: 漏水 | M31: 変状種類 | O31: 漏水
B32: 健全性 | C32: 応急措置前 | M32: 健全性 | N32: 応急措置前
C33: 応急措置後 | E33: Ⅱb | N33: 応急措置後 | P33: Ⅰ
B34: 変状の発生範囲の規模 | E34: 4.70m×0.50m | M34: 変状の発生範囲の規模 | P34: 6.90m×0.50m
B35: 前回定期点検時の状態 | E35: にじみ | M35: 前回定期点検時の状態 | P35: 滴水
B36: 調査方針 | M36: 調査方針
B37: 対策履歴 | H37: 実施状況（実施日） | M37: 対策履歴 | S37: 実施状況（実施日）
B38: メモ | D38: にじみ | M38: メモ | O38: 漏水跡
C39: ※ 健全性（応急措置後）の判定区分Ⅱ～Ⅳについて添付すること。また、点検前に 実施された措置によりⅠと判定された箇所も添付すること。 | N39: ※ 変状の発生範囲の規模とは、対策を行う際に参考となる変状の長さや面積をいう。
N40: ※ 応急措置を実施しないで判定した変状の健全性は、健全性の応急措置後の欄に記入すること。
C41: ※ たたき落としを実施した場合は、実施後の写真を添付すること。 | N41: ※ 変状の発生範囲の規模は、面積・寸法を記載すること。
C42: ※ 附属物の取付状態に関する異常写真は別途、様式D-1-2でとりまとめること。 | N42: (ひび割れ幅のみmmとし、その他をm表記とする)
C43: ※ 変状数に準じてシートを追加すること。（１シートに１ページとすること。） | N43: ※ 構造用鋼材以外の異物に伴ううき・はく離については、メモ欄に異物の概要を記入すること。

Sheet 様式D-1-1(トンネル様式2P005)
B2: ■定期点検記録様式 変状写真台帳 | Y2: Ⅰ
B3: フリガナ | D3: チャウスヤマトンネル | H3: 路線名 | J3: 主要道路防府環状線 | M3: 定期点検業者 | P3: セントラルコンサルタント株式会社 | S3: 定期点検年月日 | U3: 44337 | Y3: Ⅱ
B4: 名 称 | D4: 茶臼山トンネル | H4: 管理者名 | J4: 山口県防府土木建築事務所 | M4: 定期点検者名 | P4: 鹿子嶋 康博 | Y4: Ⅲ
B5: 写真 番号 | C5: 覆工 スパン 番号 | D5: S7 | M5: 写真 番号 | N5: 覆工 スパン 番号 | O5: S7 | Y5: Ⅳ
C7: 変状 番号 | D7: 1 | N7: 変状 番号 | O7: 2
B9: 変状 部位 | C9: 対象 箇所 | D9: 覆工・坑門 | M9: 変状 部位 | N9: 対象 箇所 | O9: 覆工・坑門
C11: 部位 区分 | D11: アーチ（左側） | N11: 部位 区分 | O11: 水平打ち継ぎ目（左側）
B13: 変状区分 | D13: 外力 | M13: 変状区分 | O13: 材質劣化
B14: 変状種類 | D14: ひび割れ | M14: 変状種類 | O14: うき・はく離
B15: 健全性 | C15: 応急措置前 | M15: 健全性 | N15: 応急措置前
C16: 応急措置後 | E16: Ⅱb | N16: 応急措置後 | P16: Ⅱb
B17: 変状の発生範囲の規模 | E17: 幅0.3mm未満 | M17: 変状の発生範囲の規模 | P17: 0.10m×0.90m
B18: 前回定期点検時の状態 | E18: 縦断ひび割れ 幅0.3mm以上×長さ3.8m | M18: 前回定期点検時の状態 | P18: -
B19: 調査方針 | M19: 調査方針
B20: 対策履歴 | H20: 実施状況（実施日） | M20: 対策履歴 | S20: 実施状況（実施日）
B21: メモ | D21: 縦断ひび割れ(遊離石灰) | M21: メモ | O21: 豆板
B22: 写真 番号 | C22: 覆工 スパン 番号 | D22: S7 | M22: 写真 番号 | N22: 覆工 スパン 番号 | O22: S7
C24: 変状 番号 | D24: 3 | N24: 変状 番号 | O24: 4
B26: 変状 部位 | C26: 対象 箇所 | D26: 覆工・坑門 | M26: 変状 部位 | N26: 対象 箇所 | O26: 覆工・坑門
C28: 部位 区分 | D28: 横断目地（天端） | N28: 部位 区分 | O28: アーチ（右側）
B30: 変状区分 | D30: 材質劣化 | M30: 変状区分 | O30: 材質劣化
B31: 変状種類 | D31: 補強・補修材の破損 | M31: 変状種類 | O31: 補強・補修材の破損
B32: 健全性 | C32: 応急措置前 | M32: 健全性 | N32: 応急措置前
C33: 応急措置後 | E33: Ⅲ | N33: 応急措置後 | P33: Ⅲ
B34: 変状の発生範囲の規模 | E34: 6.80m×0.45m | M34: 変状の発生範囲の規模 | P34: 3.10m×0.20m
B35: 前回定期点検時の状態 | E35: - | M35: 前回定期点検時の状態 | P35: -
B36: 調査方針 | M36: 調査方針
B37: 対策履歴 | H37: 実施状況（実施日） | M37: 対策履歴 | S37: 実施状況（実施日）
B38: メモ | D38: 樋のアンカー腐食(全数)、一部アンカー脱落 | M38: メモ | O38: 樋の劣化・アンカー腐食(全数)
C39: ※ 健全性（応急措置後）の判定区分Ⅱ～Ⅳについて添付すること。また、点検前に 実施された措置によりⅠと判定された箇所も添付すること。 | N39: ※ 変状の発生範囲の規模とは、対策を行う際に参考となる変状の長さや面積をいう。
N40: ※ 応急措置を実施しないで判定した変状の健全性は、健全性の応急措置後の欄に記入すること。
C41: ※ たたき落としを実施した場合は、実施後の写真を添付すること。 | N41: ※ 変状の発生範囲の規模は、面積・寸法を記載すること。
C42: ※ 附属物の取付状態に関する異常写真は別途、様式D-1-2でとりまとめること。 | N42: (ひび割れ幅のみmmとし、その他をm表記とする)
C43: ※ 変状数に準じてシートを追加すること。（１シートに１ページとすること。） | N43: ※ 構造用鋼材以外の異物に伴ううき・はく離については、メモ欄に異物の概要を記入すること。

Sheet 様式D-1-1(トンネル様式2P006)
B2: ■定期点検記録様式 変状写真台帳 | Y2: Ⅰ
B3: フリガナ | D3: チャウスヤマトンネル | H3: 路線名 | J3: 主要道路防府環状線 | M3: 定期点検業者 | P3: セントラルコンサルタント株式会社 | S3: 定期点検年月日 | U3: 44337 | Y3: Ⅱ
B4: 名 称 | D4: 茶臼山トンネル | H4: 管理者名 | J4: 山口県防府土木建築事務所 | M4: 定期点検者名 | P4: 鹿子嶋 康博 | Y4: Ⅲ
B5: 写真 番号 | C5: 覆工 スパン 番号 | D5: S7 | M5: 写真 番号 | N5: 覆工 スパン 番号 | O5: S8 | Y5: Ⅳ
C7: 変状 番号 | D7: 5 | N7: 変状 番号 | O7: 1
B9: 変状 部位 | C9: 対象 箇所 | D9: 覆工・坑門 | M9: 変状 部位 | N9: 対象 箇所 | O9: 覆工・坑門
C11: 部位 区分 | D11: アーチ（右側） | N11: 部位 区分 | O11: アーチ（左側）
B13: 変状区分 | D13: 外力 | M13: 変状区分 | O13: 外力
B14: 変状種類 | D14: ひび割れ | M14: 変状種類 | O14: ひび割れ
B15: 健全性 | C15: 応急措置前 | M15: 健全性 | N15: 応急措置前
C16: 応急措置後 | E16: Ⅱb | N16: 応急措置後 | P16: Ⅱb
B17: 変状の発生範囲の規模 | E17: 幅1.0mm×長さ4.0m | M17: 変状の発生範囲の規模 | P17: 幅1.5mm×長さ3.8m
B18: 前回定期点検時の状態 | E18: 縦断ひび割れ 幅1.0mm×長さ3.8m | M18: 前回定期点検時の状態 | P18: 縦断ひび割れ 幅1.5mm×長さ3.8m
B19: 調査方針 | M19: 調査方針
B20: 対策履歴 | H20: 実施状況（実施日） | M20: 対策履歴 | S20: 実施状況（実施日）
B21: メモ | D21: 縦断ひび割れ(遊離石灰) | M21: メモ | O21: 縦断ひび割れ(遊離石灰)
B22: 写真 番号 | C22: 覆工 スパン 番号 | D22: S8 | M22: 写真 番号 | N22: 覆工 スパン 番号 | O22: S8
C24: 変状 番号 | D24: 2 | N24: 変状 番号 | O24: 3
B26: 変状 部位 | C26: 対象 箇所 | D26: 覆工・坑門 | M26: 変状 部位 | N26: 対象 箇所 | O26: 覆工・坑門
C28: 部位 区分 | D28: アーチ（左側） | N28: 部位 区分 | O28: アーチ（天端）
B30: 変状区分 | D30: 材質劣化 | M30: 変状区分 | O30: 材質劣化
B31: 変状種類 | D31: うき・はく離 | M31: 変状種類 | O31: うき・はく離
B32: 健全性 | C32: 応急措置前 | M32: 健全性 | N32: 応急措置前
C33: 応急措置後 | E33: Ⅱb | N33: 応急措置後 | P33: Ⅱa
B34: 変状の発生範囲の規模 | E34: 0.30m×0.40m | M34: 変状の発生範囲の規模 | P34: 0.50m×0.15m
B35: 前回定期点検時の状態 | E35: - | M35: 前回定期点検時の状態 | P35: -
B36: 調査方針 | M36: 調査方針
B37: 対策履歴 | H37: 実施状況（実施日） | M37: 対策履歴 | S37: 実施状況（実施日）
B38: メモ | D38: 豆板 | M38: メモ | O38: 補修跡うき
C39: ※ 健全性（応急措置後）の判定区分Ⅱ～Ⅳについて添付すること。また、点検前に 実施された措置によりⅠと判定された箇所も添付すること。 | N39: ※ 変状の発生範囲の規模とは、対策を行う際に参考となる変状の長さや面積をいう。
N40: ※ 応急措置を実施しないで判定した変状の健全性は、健全性の応急措置後の欄に記入すること。
C41: ※ たたき落としを実施した場合は、実施後の写真を添付すること。 | N41: ※ 変状の発生範囲の規模は、面積・寸法を記載すること。
C42: ※ 附属物の取付状態に関する異常写真は別途、様式D-1-2でとりまとめること。 | N42: (ひび割れ幅のみmmとし、その他をm表記とする)
C43: ※ 変状数に準じてシートを追加すること。（１シートに１ページとすること。） | N43: ※ 構造用鋼材以外の異物に伴ううき・はく離については、メモ欄に異物の概要を記入すること。

Sheet 様式D-1-1(トンネル様式2P007)
B2: ■定期点検記録様式 変状写真台帳 | Y2: Ⅰ
B3: フリガナ | D3: チャウスヤマトンネル | H3: 路線名 | J3: 主要道路防府環状線 | M3: 定期点検業者 | P3: セントラルコンサルタント株式会社 | S3: 定期点検年月日 | U3: 44337 | Y3: Ⅱ
B4: 名 称 | D4: 茶臼山トンネル | H4: 管理者名 | J4: 山口県防府土木建築事務所 | M4: 定期点検者名 | P4: 鹿子嶋 康博 | Y4: Ⅲ
B5: 写真 番号 | C5: 覆工 スパン 番号 | D5: S9 | M5: 写真 番号 | N5: 覆工 スパン 番号 | O5: S9 | Y5: Ⅳ
C7: 変状 番号 | D7: 1 | N7: 変状 番号 | O7: 2
B9: 変状 部位 | C9: 対象 箇所 | D9: 覆工・坑門 | M9: 変状 部位 | N9: 対象 箇所 | O9: 覆工・坑門
C11: 部位 区分 | D11: アーチ（天端） | N11: 部位 区分 | O11: アーチ（右側）
B13: 変状区分 | D13: 材質劣化 | M13: 変状区分 | O13: 外力
B14: 変状種類 | D14: うき・はく離 | M14: 変状種類 | O14: ひび割れ
B15: 健全性 | C15: 応急措置前 | M15: 健全性 | N15: 応急措置前
C16: 応急措置後 | E16: Ⅱb | N16: 応急措置後 | P16: Ⅱb
B17: 変状の発生範囲の規模 | E17: 0.70m×1.00m | M17: 変状の発生範囲の規模 | P17: 幅0.6mm×長さ2.7m
B18: 前回定期点検時の状態 | E18: 豆板 0.7m×1.0m | M18: 前回定期点検時の状態 | P18: 縦断ひび割れ 幅0.7mm×長さ2.7m
B19: 調査方針 | M19: 調査方針
B20: 対策履歴 | H20: 実施状況（実施日） | M20: 対策履歴 | S20: 実施状況（実施日）
B21: メモ | D21: 豆板 | M21: メモ | O21: 縦断ひび割れ
B22: 写真 番号 | C22: 覆工 スパン 番号 | D22: S10 | M22: 写真 番号 | N22: 覆工 スパン 番号 | O22: S10
C24: 変状 番号 | D24: 1 | N24: 変状 番号 | O24: 2
B26: 変状 部位 | C26: 対象 箇所 | D26: 覆工・坑門 | M26: 変状 部位 | N26: 対象 箇所 | O26: 覆工・坑門
C28: 部位 区分 | D28: アーチ（左側） | N28: 部位 区分 | O28: アーチ（右側）
B30: 変状区分 | D30: 外力 | M30: 変状区分 | O30: 外力
B31: 変状種類 | D31: ひび割れ | M31: 変状種類 | O31: ひび割れ
B32: 健全性 | C32: 応急措置前 | M32: 健全性 | N32: 応急措置前
C33: 応急措置後 | E33: Ⅱb | N33: 応急措置後 | P33: Ⅱb
B34: 変状の発生範囲の規模 | E34: 幅0.5mm×長さ4.4m | M34: 変状の発生範囲の規模 | P34: 幅0.3mm×長さ3.7m
B35: 前回定期点検時の状態 | E35: 縦断ひび割れ 幅0.5mm×長さ4.3m | M35: 前回定期点検時の状態 | P35: 縦断ひび割れ 幅0.3mm×長さ4.2m
B36: 調査方針 | M36: 調査方針
B37: 対策履歴 | H37: 実施状況（実施日） | M37: 対策履歴 | S37: 実施状況（実施日）
B38: メモ | D38: 縦断ひび割れ(遊離石灰) | M38: メモ | O38: 縦断ひび割れ(遊離石灰)
C39: ※ 健全性（応急措置後）の判定区分Ⅱ～Ⅳについて添付すること。また、点検前に 実施された措置によりⅠと判定された箇所も添付すること。 | N39: ※ 変状の発生範囲の規模とは、対策を行う際に参考となる変状の長さや面積をいう。
N40: ※ 応急措置を実施しないで判定した変状の健全性は、健全性の応急措置後の欄に記入すること。
C41: ※ たたき落としを実施した場合は、実施後の写真を添付すること。 | N41: ※ 変状の発生範囲の規模は、面積・寸法を記載すること。
C42: ※ 附属物の取付状態に関する異常写真は別途、様式D-1-2でとりまとめること。 | N42: (ひび割れ幅のみmmとし、その他をm表記とする)
C43: ※ 変状数に準じてシートを追加すること。（１シートに１ページとすること。） | N43: ※ 構造用鋼材以外の異物に伴ううき・はく離については、メモ欄に異物の概要を記入すること。

Sheet 様式D-1-1(トンネル様式2P008)
B2: ■定期点検記録様式 変状写真台帳 | Y2: Ⅰ
B3: フリガナ | D3: チャウスヤマトンネル | H3: 路線名 | J3: 主要道路防府環状線 | M3: 定期点検業者 | P3: セントラルコンサルタント株式会社 | S3: 定期点検年月日 | U3: 44337 | Y3: Ⅱ
B4: 名 称 | D4: 茶臼山トンネル | H4: 管理者名 | J4: 山口県防府土木建築事務所 | M4: 定期点検者名 | P4: 鹿子嶋 康博 | Y4: Ⅲ
B5: 写真 番号 | C5: 覆工 スパン 番号 | D5: S10 | M5: 写真 番号 | N5: 覆工 スパン 番号 | O5: S11 | Y5: Ⅳ
C7: 変状 番号 | D7: 3 | N7: 変状 番号 | O7: 1
B9: 変状 部位 | C9: 対象 箇所 | D9: 覆工・坑門 | M9: 変状 部位 | N9: 対象 箇所 | O9: 覆工・坑門
C11: 部位 区分 | D11: アーチ（右側） | N11: 部位 区分 | O11: アーチ（左側）
B13: 変状区分 | D13: 材質劣化 | M13: 変状区分 | O13: 外力
B14: 変状種類 | D14: うき・はく離 | M14: 変状種類 | O14: ひび割れ
B15: 健全性 | C15: 応急措置前 | M15: 健全性 | N15: 応急措置前
C16: 応急措置後 | E16: Ⅱb | N16: 応急措置後 | P16: Ⅱb
B17: 変状の発生範囲の規模 | E17: 0.20m×0.15m | M17: 変状の発生範囲の規模 | P17: 幅0.3mm×長さ2.9m
B18: 前回定期点検時の状態 | E18: - | M18: 前回定期点検時の状態 | P18: 縦断ひび割れ 幅0.5mm×長さ2.9m
B19: 調査方針 | M19: 調査方針
B20: 対策履歴 | H20: 実施状況（実施日） | M20: 対策履歴 | S20: 実施状況（実施日）
B21: メモ | D21: 豆板 | M21: メモ | O21: 縦断ひび割れ(遊離石灰)
B22: 写真 番号 | C22: 覆工 スパン 番号 | D22: S11 | M22: 写真 番号 | N22: 覆工 スパン 番号 | O22: S11
C24: 変状 番号 | D24: 2 | N24: 変状 番号 | O24: 3
B26: 変状 部位 | C26: 対象 箇所 | D26: 覆工・坑門 | M26: 変状 部位 | N26: 対象 箇所 | O26: 覆工・坑門
C28: 部位 区分 | D28: 横断目地（左側） | N28: 部位 区分 | O28: アーチ（天端）
B30: 変状区分 | D30: 材質劣化 | M30: 変状区分 | O30: 材質劣化
B31: 変状種類 | D31: 補強・補修材の破損 | M31: 変状種類 | O31: うき・はく離
B32: 健全性 | C32: 応急措置前 | M32: 健全性 | N32: 応急措置前
C33: 応急措置後 | E33: Ⅱb | N33: 応急措置後 | P33: Ⅱa
B34: 変状の発生範囲の規模 | E34: 0.20m×0.10m | M34: 変状の発生範囲の規模 | P34: 0.40m×0.15m
B35: 前回定期点検時の状態 | E35: - | M35: 前回定期点検時の状態 | P35: -
B36: 調査方針 | M36: 調査方針
B37: 対策履歴 | H37: 実施状況（実施日） | M37: 対策履歴 | S37: 実施状況（実施日）
B38: メモ | D38: 線導水の破損 | M38: メモ | O38: 補修跡うき
C39: ※ 健全性（応急措置後）の判定区分Ⅱ～Ⅳについて添付すること。また、点検前に 実施された措置によりⅠと判定された箇所も添付すること。 | N39: ※ 変状の発生範囲の規模とは、対策を行う際に参考となる変状の長さや面積をいう。
N40: ※ 応急措置を実施しないで判定した変状の健全性は、健全性の応急措置後の欄に記入すること。
C41: ※ たたき落としを実施した場合は、実施後の写真を添付すること。 | N41: ※ 変状の発生範囲の規模は、面積・寸法を記載すること。
C42: ※ 附属物の取付状態に関する異常写真は別途、様式D-1-2でとりまとめること。 | N42: (ひび割れ幅のみmmとし、その他をm表記とする)
C43: ※ 変状数に準じてシートを追加すること。（１シートに１ページとすること。） | N43: ※ 構造用鋼材以外の異物に伴ううき・はく離については、メモ欄に異物の概要を記入すること。

Sheet 様式D-1-1(トンネル様式2P009)
B2: ■定期点検記録様式 変状写真台帳 | Y2: Ⅰ
B3: フリガナ | D3: チャウスヤマトンネル | H3: 路線名 | J3: 主要道路防府環状線 | M3: 定期点検業者 | P3: セントラルコンサルタント株式会社 | S3: 定期点検年月日 | U3: 44337 | Y3: Ⅱ
B4: 名 称 | D4: 茶臼山トンネル | H4: 管理者名 | J4: 山口県防府土木建築事務所 | M4: 定期点検者名 | P4: 鹿子嶋 康博 | Y4: Ⅲ
B5: 写真 番号 | C5: 覆工 スパン 番号 | D5: S11 | M5: 写真 番号 | N5: 覆工 スパン 番号 | O5: S11 | Y5: Ⅳ
C7: 変状 番号 | D7: 4 | N7: 変状 番号 | O7: 5
B9: 変状 部位 | C9: 対象 箇所 | D9: 覆工・坑門 | M9: 変状 部位 | N9: 対象 箇所 | O9: 路面
C11: 部位 区分 | D11: アーチ（右側） | N11: 部位 区分 | O11: 側溝
B13: 変状区分 | D13: 外力 | M13: 変状区分 | O13: 漏水
B14: 変状種類 | D14: ひび割れ | M14: 変状種類 | O14: その他
B15: 健全性 | C15: 応急措置前 | M15: 健全性 | N15: 応急措置前
C16: 応急措置後 | E16: Ⅱb | N16: 応急措置後 | P16: Ⅱb
B17: 変状の発生範囲の規模 | E17: 幅0.3mm未満 | M17: 変状の発生範囲の規模 | P17: 0.60m×5.40m
B18: 前回定期点検時の状態 | E18: 縦断ひび割れ 幅0.3mm以上×長さ4.3m | M18: 前回定期点検時の状態 | P18: 滞水
B19: 調査方針 | M19: 調査方針
B20: 対策履歴 | H20: 実施状況（実施日） | M20: 対策履歴 | S20: 実施状況（実施日）
B21: メモ | D21: 縦断ひび割れ(にじみ・遊離石灰) | M21: メモ | O21: 土砂堆積(滞水跡)
B22: 写真 番号 | C22: 覆工 スパン 番号 | D22: S12 | M22: 写真 番号 | N22: 覆工 スパン 番号 | O22: S12
C24: 変状 番号 | D24: 1 | N24: 変状 番号 | O24: 2
B26: 変状 部位 | C26: 対象 箇所 | D26: 覆工・坑門 | M26: 変状 部位 | N26: 対象 箇所 | O26: 覆工・坑門
C28: 部位 区分 | D28: 横断目地（天端） | N28: 部位 区分 | O28: アーチ（天端）
B30: 変状区分 | D30: 材質劣化 | M30: 変状区分 | O30: 漏水
B31: 変状種類 | D31: 補強・補修材の破損 | M31: 変状種類 | O31: 漏水
B32: 健全性 | C32: 応急措置前 | M32: 健全性 | N32: 応急措置前
C33: 応急措置後 | E33: Ⅲ | N33: 応急措置後 | P33: Ⅱb
B34: 変状の発生範囲の規模 | E34: 7.10m×0.40m | M34: 変状の発生範囲の規模 | P34: 7.90m×0.50m
B35: 前回定期点検時の状態 | E35: - | M35: 前回定期点検時の状態 | P35: 滴水
B36: 調査方針 | M36: 調査方針
B37: 対策履歴 | H37: 実施状況（実施日） | M37: 対策履歴 | S37: 実施状況（実施日）
B38: メモ | D38: 樋のアンカー腐食(全数) | M38: メモ | O38: ひび割れ沿いのにじみ
C39: ※ 健全性（応急措置後）の判定区分Ⅱ～Ⅳについて添付すること。また、点検前に 実施された措置によりⅠと判定された箇所も添付すること。 | N39: ※ 変状の発生範囲の規模とは、対策を行う際に参考となる変状の長さや面積をいう。
N40: ※ 応急措置を実施しないで判定した変状の健全性は、健全性の応急措置後の欄に記入すること。
C41: ※ たたき落としを実施した場合は、実施後の写真を添付すること。 | N41: ※ 変状の発生範囲の規模は、面積・寸法を記載すること。
C42: ※ 附属物の取付状態に関する異常写真は別途、様式D-1-2でとりまとめること。 | N42: (ひび割れ幅のみmmとし、その他をm表記とする)
C43: ※ 変状数に準じてシートを追加すること。（１シートに１ページとすること。） | N43: ※ 構造用鋼材以外の異物に伴ううき・はく離については、メモ欄に異物の概要を記入すること。

Sheet 様式D-1-1(トンネル様式2P010)
B2: ■定期点検記録様式 変状写真台帳 | Y2: Ⅰ
B3: フリガナ | D3: チャウスヤマトンネル | H3: 路線名 | J3: 主要道路防府環状線 | M3: 定期点検業者 | P3: セントラルコンサルタント株式会社 | S3: 定期点検年月日 | U3: 44337 | Y3: Ⅱ
B4: 名 称 | D4: 茶臼山トンネル | H4: 管理者名 | J4: 山口県防府土木建築事務所 | M4: 定期点検者名 | P4: 鹿子嶋 康博 | Y4: Ⅲ
B5: 写真 番号 | C5: 覆工 スパン 番号 | D5: S12 | M5: 写真 番号 | N5: 覆工 スパン 番号 | O5: S14 | Y5: Ⅳ
C7: 変状 番号 | D7: 3 | N7: 変状 番号 | O7: 1
B9: 変状 部位 | C9: 対象 箇所 | D9: 覆工・坑門 | M9: 変状 部位 | N9: 対象 箇所 | O9: 覆工・坑門
C11: 部位 区分 | D11: アーチ（右側） | N11: 部位 区分 | O11: 水平打ち継ぎ目（左側）
B13: 変状区分 | D13: 材質劣化 | M13: 変状区分 | O13: 材質劣化
B14: 変状種類 | D14: 補強・補修材の破損 | M14: 変状種類 | O14: うき・はく離
B15: 健全性 | C15: 応急措置前 | M15: 健全性 | N15: 応急措置前
C16: 応急措置後 | E16: Ⅲ | N16: 応急措置後 | P16: Ⅱb
B17: 変状の発生範囲の規模 | E17: 2.40m×0.20m | M17: 変状の発生範囲の規模 | P17: 0.15m×0.20m
B18: 前回定期点検時の状態 | E18: - | M18: 前回定期点検時の状態 | P18: -
B19: 調査方針 | M19: 調査方針
B20: 対策履歴 | H20: 実施状況（実施日） | M20: 対策履歴 | S20: 実施状況（実施日）
B21: メモ | D21: 樋の劣化・アンカー腐食(全数) | M21: メモ | O21: うき
B22: 写真 番号 | C22: 覆工 スパン 番号 | D22: S14 | M22: 写真 番号 | N22: 覆工 スパン 番号 | O22: S14
C24: 変状 番号 | D24: 2 | N24: 変状 番号 | O24: 3
B26: 変状 部位 | C26: 対象 箇所 | D26: 覆工・坑門 | M26: 変状 部位 | N26: 対象 箇所 | O26: 覆工・坑門
C28: 部位 区分 | D28: アーチ（天端） | N28: 部位 区分 | O28: アーチ（天端）
B30: 変状区分 | D30: 漏水 | M30: 変状区分 | O30: 漏水
B31: 変状種類 | D31: 漏水 | M31: 変状種類 | O31: 漏水
B32: 健全性 | C32: 応急措置前 | M32: 健全性 | N32: 応急措置前
C33: 応急措置後 | E33: Ⅱa | N33: 応急措置後 | P33: Ⅱa
B34: 変状の発生範囲の規模 | E34: 6.50m×0.50m | M34: 変状の発生範囲の規模 | P34: 6.80m×0.50m
B35: 前回定期点検時の状態 | E35: - | M35: 前回定期点検時の状態 | P35: 滴水
B36: 調査方針 | M36: 調査方針
B37: 対策履歴 | H37: 実施状況（実施日） | M37: 対策履歴 | S37: 実施状況（実施日）
B38: メモ | D38: 滴水 | M38: メモ | O38: 滴水
C39: ※ 健全性（応急措置後）の判定区分Ⅱ～Ⅳについて添付すること。また、点検前に 実施された措置によりⅠと判定された箇所も添付すること。 | N39: ※ 変状の発生範囲の規模とは、対策を行う際に参考となる変状の長さや面積をいう。
N40: ※ 応急措置を実施しないで判定した変状の健全性は、健全性の応急措置後の欄に記入すること。
C41: ※ たたき落としを実施した場合は、実施後の写真を添付すること。 | N41: ※ 変状の発生範囲の規模は、面積・寸法を記載すること。
C42: ※ 附属物の取付状態に関する異常写真は別途、様式D-1-2でとりまとめること。 | N42: (ひび割れ幅のみmmとし、その他をm表記とする)
C43: ※ 変状数に準じてシートを追加すること。（１シートに１ページとすること。） | N43: ※ 構造用鋼材以外の異物に伴ううき・はく離については、メモ欄に異物の概要を記入すること。

Sheet 様式D-1-1(トンネル様式2P011)
B2: ■定期点検記録様式 変状写真台帳 | Y2: Ⅰ
B3: フリガナ | D3: チャウスヤマトンネル | H3: 路線名 | J3: 主要道路防府環状線 | M3: 定期点検業者 | P3: セントラルコンサルタント株式会社 | S3: 定期点検年月日 | U3: 44337 | Y3: Ⅱ
B4: 名 称 | D4: 茶臼山トンネル | H4: 管理者名 | J4: 山口県防府土木建築事務所 | M4: 定期点検者名 | P4: 鹿子嶋 康博 | Y4: Ⅲ
B5: 写真 番号 | C5: 覆工 スパン 番号 | D5: S14 | M5: 写真 番号 | N5: 覆工 スパン 番号 | O5: S14 | Y5: Ⅳ
C7: 変状 番号 | D7: 4 | N7: 変状 番号 | O7: 5
B9: 変状 部位 | C9: 対象 箇所 | D9: 覆工・坑門 | M9: 変状 部位 | N9: 対象 箇所 | O9: 覆工・坑門
C11: 部位 区分 | D11: アーチ（右側） | N11: 部位 区分 | O11: アーチ（右側）
B13: 変状区分 | D13: 漏水 | M13: 変状区分 | O13: 漏水
B14: 変状種類 | D14: 漏水 | M14: 変状種類 | O14: 漏水
B15: 健全性 | C15: 応急措置前 | M15: 健全性 | N15: 応急措置前
C16: 応急措置後 | E16: Ⅱb | N16: 応急措置後 | P16: Ⅱa
B17: 変状の発生範囲の規模 | E17: 1.90m×0.40m | M17: 変状の発生範囲の規模 | P17: 4.70m×1.20m
B18: 前回定期点検時の状態 | E18: 遊離石灰 | M18: 前回定期点検時の状態 | P18: 滴水
B19: 調査方針 | M19: 調査方針
B20: 対策履歴 | H20: 実施状況（実施日） | M20: 対策履歴 | S20: 実施状況（実施日）
B21: メモ | D21: にじみ | M21: メモ | O21: 滴水
B22: 写真 番号 | C22: 覆工 スパン 番号 | D22: S14 | M22: 写真 番号 | N22: 覆工 スパン 番号 | O22: S14
C24: 変状 番号 | D24: 6 | N24: 変状 番号 | O24: 7
B26: 変状 部位 | C26: 対象 箇所 | D26: 路面 | M26: 変状 部位 | N26: 対象 箇所 | O26: 路面
C28: 部位 区分 | D28: 側溝 | N28: 部位 区分 | O28: 側溝
B30: 変状区分 | D30: 漏水 | M30: 変状区分 | O30: 漏水
B31: 変状種類 | D31: その他 | M31: 変状種類 | O31: その他
B32: 健全性 | C32: 応急措置前 | M32: 健全性 | N32: 応急措置前
C33: 応急措置後 | E33: Ⅱb | N33: 応急措置後 | P33: Ⅱb
B34: 変状の発生範囲の規模 | E34: 0.50m×2.90m、t=30㎜ | M34: 変状の発生範囲の規模 | P34: 0.50m×1.90m
B35: 前回定期点検時の状態 | E35: 沈砂 t=30mm | M35: 前回定期点検時の状態 | P35: 滞水
B36: 調査方針 | M36: 調査方針
B37: 対策履歴 | H37: 実施状況（実施日） | M37: 対策履歴 | S37: 実施状況（実施日）
B38: メモ | D38: 土砂堆積(滞水跡) | M38: メモ | O38: 土砂堆積(滞水跡)
C39: ※ 健全性（応急措置後）の判定区分Ⅱ～Ⅳについて添付すること。また、点検前に 実施された措置によりⅠと判定された箇所も添付すること。 | N39: ※ 変状の発生範囲の規模とは、対策を行う際に参考となる変状の長さや面積をいう。
N40: ※ 応急措置を実施しないで判定した変状の健全性は、健全性の応急措置後の欄に記入すること。
C41: ※ たたき落としを実施した場合は、実施後の写真を添付すること。 | N41: ※ 変状の発生範囲の規模は、面積・寸法を記載すること。
C42: ※ 附属物の取付状態に関する異常写真は別途、様式D-1-2でとりまとめること。 | N42: (ひび割れ幅のみmmとし、その他をm表記とする)
C43: ※ 変状数に準じてシートを追加すること。（１シートに１ページとすること。） | N43: ※ 構造用鋼材以外の異物に伴ううき・はく離については、メモ欄に異物の概要を記入すること。

Sheet 様式D-1-1(トンネル様式2P012)
B2: ■定期点検記録様式 変状写真台帳 | Y2: Ⅰ
B3: フリガナ | D3: チャウスヤマトンネル | H3: 路線名 | J3: 主要道路防府環状線 | M3: 定期点検業者 | P3: セントラルコンサルタント株式会社 | S3: 定期点検年月日 | U3: 44337 | Y3: Ⅱ
B4: 名 称 | D4: 茶臼山トンネル | H4: 管理者名 | J4: 山口県防府土木建築事務所 | M4: 定期点検者名 | P4: 鹿子嶋 康博 | Y4: Ⅲ
B5: 写真 番号 | C5: 覆工 スパン 番号 | D5: S15 | M5: 写真 番号 | N5: 覆工 スパン 番号 | O5: S15 | Y5: Ⅳ
C7: 変状 番号 | D7: 1 | N7: 変状 番号 | O7: 2
B9: 変状 部位 | C9: 対象 箇所 | D9: 覆工・坑門 | M9: 変状 部位 | N9: 対象 箇所 | O9: 覆工・坑門
C11: 部位 区分 | D11: アーチ（左側） | N11: 部位 区分 | O11: アーチ（左側）
B13: 変状区分 | D13: 漏水 | M13: 変状区分 | O13: 漏水
B14: 変状種類 | D14: 漏水 | M14: 変状種類 | O14: 漏水
B15: 健全性 | C15: 応急措置前 | M15: 健全性 | N15: 応急措置前
C16: 応急措置後 | E16: Ⅱa | N16: 応急措置後 | P16: Ⅱa
B17: 変状の発生範囲の規模 | E17: 4.40m×0.50m | M17: 変状の発生範囲の規模 | P17: 4.50m×1.50m
B18: 前回定期点検時の状態 | E18: - | M18: 前回定期点検時の状態 | P18: 滴水
B19: 調査方針 | M19: 調査方針
B20: 対策履歴 | H20: 実施状況（実施日） | M20: 対策履歴 | S20: 実施状況（実施日）
B21: メモ | D21: 滴水 | M21: メモ | O21: 滴水
B22: 写真 番号 | C22: 覆工 スパン 番号 | D22: S15 | M22: 写真 番号 | N22: 覆工 スパン 番号 | O22: S15
C24: 変状 番号 | D24: 3 | N24: 変状 番号 | O24: 4
B26: 変状 部位 | C26: 対象 箇所 | D26: 覆工・坑門 | M26: 変状 部位 | N26: 対象 箇所 | O26: 覆工・坑門
C28: 部位 区分 | D28: アーチ（右側） | N28: 部位 区分 | O28: 横断目地（天端）
B30: 変状区分 | D30: 材質劣化 | M30: 変状区分 | O30: 漏水
B31: 変状種類 | D31: うき・はく離 | M31: 変状種類 | O31: 漏水
B32: 健全性 | C32: 応急措置前 | M32: 健全性 | N32: 応急措置前
C33: 応急措置後 | E33: Ⅱb | N33: 応急措置後 | P33: Ⅱb
B34: 変状の発生範囲の規模 | E34: 0.25m×0.60m | M34: 変状の発生範囲の規模 | P34: 6.50m×0.50m
B35: 前回定期点検時の状態 | E35: 豆板 0.2m×0.6m | M35: 前回定期点検時の状態 | P35: にじみ
B36: 調査方針 | M36: 調査方針
B37: 対策履歴 | H37: 実施状況（実施日） | M37: 対策履歴 | S37: 実施状況（実施日）
B38: メモ | D38: 豆板 | M38: メモ | O38: 線導水からのにじみ
C39: ※ 健全性（応急措置後）の判定区分Ⅱ～Ⅳについて添付すること。また、点検前に 実施された措置によりⅠと判定された箇所も添付すること。 | N39: ※ 変状の発生範囲の規模とは、対策を行う際に参考となる変状の長さや面積をいう。
N40: ※ 応急措置を実施しないで判定した変状の健全性は、健全性の応急措置後の欄に記入すること。
C41: ※ たたき落としを実施した場合は、実施後の写真を添付すること。 | N41: ※ 変状の発生範囲の規模は、面積・寸法を記載すること。
C42: ※ 附属物の取付状態に関する異常写真は別途、様式D-1-2でとりまとめること。 | N42: (ひび割れ幅のみmmとし、その他をm表記とする)
C43: ※ 変状数に準じてシートを追加すること。（１シートに１ページとすること。） | N43: ※ 構造用鋼材以外の異物に伴ううき・はく離については、メモ欄に異物の概要を記入すること。

Sheet 様式D-1-1(トンネル様式2P013)
B2: ■定期点検記録様式 変状写真台帳 | Y2: Ⅰ
B3: フリガナ | D3: チャウスヤマトンネル | H3: 路線名 | J3: 主要道路防府環状線 | M3: 定期点検業者 | P3: セントラルコンサルタント株式会社 | S3: 定期点検年月日 | U3: 44337 | Y3: Ⅱ
B4: 名 称 | D4: 茶臼山トンネル | H4: 管理者名 | J4: 山口県防府土木建築事務所 | M4: 定期点検者名 | P4: 鹿子嶋 康博 | Y4: Ⅲ
B5: 写真 番号 | C5: 覆工 スパン 番号 | D5: S15 | M5: 写真 番号 | N5: 覆工 スパン 番号 | O5: S16 | Y5: Ⅳ
C7: 変状 番号 | D7: 5 | N7: 変状 番号 | O7: 1
B9: 変状 部位 | C9: 対象 箇所 | D9: 路面 | M9: 変状 部位 | N9: 対象 箇所 | O9: 覆工・坑門
C11: 部位 区分 | D11: 側溝 | N11: 部位 区分 | O11: 横断目地（天端）
B13: 変状区分 | D13: 漏水 | M13: 変状区分 | O13: 材質劣化
B14: 変状種類 | D14: その他 | M14: 変状種類 | O14: 補強・補修材の破損
B15: 健全性 | C15: 応急措置前 | M15: 健全性 | N15: 応急措置前
C16: 応急措置後 | E16: Ⅱb | N16: 応急措置後 | P16: Ⅲ
B17: 変状の発生範囲の規模 | E17: 0.50m×2.70m | M17: 変状の発生範囲の規模 | P17: 7.30m×0.40m
B18: 前回定期点検時の状態 | E18: 滞水 | M18: 前回定期点検時の状態 | P18: -
B19: 調査方針 | M19: 調査方針
B20: 対策履歴 | H20: 実施状況（実施日） | M20: 対策履歴 | S20: 実施状況（実施日）
B21: メモ | D21: 土砂堆積(滞水跡) | M21: メモ | O21: 樋のアンカー腐食(全数)
B22: 写真 番号 | C22: 覆工 スパン 番号 | D22: S17 | M22: 写真 番号 | N22: 覆工 スパン 番号 | O22: S17
C24: 変状 番号 | D24: 1 | N24: 変状 番号 | O24: 2
B26: 変状 部位 | C26: 対象 箇所 | D26: 覆工・坑門 | M26: 変状 部位 | N26: 対象 箇所 | O26: 覆工・坑門
C28: 部位 区分 | D28: アーチ（左側） | N28: 部位 区分 | O28: 横断目地（右側）
B30: 変状区分 | D30: 材質劣化 | M30: 変状区分 | O30: 漏水
B31: 変状種類 | D31: うき・はく離 | M31: 変状種類 | O31: 補強・補修材の破損
B32: 健全性 | C32: 応急措置前 | M32: 健全性 | N32: 応急措置前
C33: 応急措置後 | E33: Ⅱb | N33: 応急措置後 | P33: Ⅱa
B34: 変状の発生範囲の規模 | E34: 0.20m×0.90m | M34: 変状の発生範囲の規模 | P34: 0.30m×0.10m
B35: 前回定期点検時の状態 | E35: 豆板 0.2m×0.9m | M35: 前回定期点検時の状態 | P35: 導水工破損 0.3m×0.1m
B36: 調査方針 | M36: 調査方針
B37: 対策履歴 | H37: 実施状況（実施日） | M37: 対策履歴 | S37: 実施状況（実施日）
B38: メモ | D38: 豆板 | M38: メモ | O38: 線導水の破損(破損箇所からのにじみ)
C39: ※ 健全性（応急措置後）の判定区分Ⅱ～Ⅳについて添付すること。また、点検前に 実施された措置によりⅠと判定された箇所も添付すること。 | N39: ※ 変状の発生範囲の規模とは、対策を行う際に参考となる変状の長さや面積をいう。
N40: ※ 応急措置を実施しないで判定した変状の健全性は、健全性の応急措置後の欄に記入すること。
C41: ※ たたき落としを実施した場合は、実施後の写真を添付すること。 | N41: ※ 変状の発生範囲の規模は、面積・寸法を記載すること。
C42: ※ 附属物の取付状態に関する異常写真は別途、様式D-1-2でとりまとめること。 | N42: (ひび割れ幅のみmmとし、その他をm表記とする)
C43: ※ 変状数に準じてシートを追加すること。（１シートに１ページとすること。） | N43: ※ 構造用鋼材以外の異物に伴ううき・はく離については、メモ欄に異物の概要を記入すること。

Sheet 様式D-1-1(トンネル様式2P014)
B2: ■定期点検記録様式 変状写真台帳 | Y2: Ⅰ
B3: フリガナ | D3: チャウスヤマトンネル | H3: 路線名 | J3: 主要道路防府環状線 | M3: 定期点検業者 | P3: セントラルコンサルタント株式会社 | S3: 定期点検年月日 | U3: 44337 | Y3: Ⅱ
B4: 名 称 | D4: 茶臼山トンネル | H4: 管理者名 | J4: 山口県防府土木建築事務所 | M4: 定期点検者名 | P4: 鹿子嶋 康博 | Y4: Ⅲ
B5: 写真 番号 | C5: 覆工 スパン 番号 | D5: S17 | M5: 写真 番号 | N5: 覆工 スパン 番号 | O5: S17 | Y5: Ⅳ
C7: 変状 番号 | D7: 3 | N7: 変状 番号 | O7: 4
B9: 変状 部位 | C9: 対象 箇所 | D9: 路面 | M9: 変状 部位 | N9: 対象 箇所 | O9: 路面
C11: 部位 区分 | D11: 側溝 | N11: 部位 区分 | O11: 側溝
B13: 変状区分 | D13: 漏水 | M13: 変状区分 | O13: 漏水
B14: 変状種類 | D14: その他 | M14: 変状種類 | O14: その他
B15: 健全性 | C15: 応急措置前 | M15: 健全性 | N15: 応急措置前
C16: 応急措置後 | E16: Ⅱb | N16: 応急措置後 | P16: Ⅱb
B17: 変状の発生範囲の規模 | E17: 0.50m×2.50m | M17: 変状の発生範囲の規模 | P17: 0.50m×2.60m
B18: 前回定期点検時の状態 | E18: 滞水 | M18: 前回定期点検時の状態 | P18: 沈砂 t=50mm
B19: 調査方針 | M19: 調査方針
B20: 対策履歴 | H20: 実施状況（実施日） | M20: 対策履歴 | S20: 実施状況（実施日）
B21: メモ | D21: 土砂堆積(滞水跡) | M21: メモ | O21: 土砂堆積(滞水跡)
B22: 写真 番号 | C22: 覆工 スパン 番号 | D22: S18 | M22: 写真 番号 | N22: 覆工 スパン 番号 | O22: S18
C24: 変状 番号 | D24: 1 | N24: 変状 番号 | O24: 2
B26: 変状 部位 | C26: 対象 箇所 | D26: 覆工・坑門 | M26: 変状 部位 | N26: 対象 箇所 | O26: 覆工・坑門
C28: 部位 区分 | D28: 横断目地（天端） | N28: 部位 区分 | O28: アーチ（右側）
B30: 変状区分 | D30: 材質劣化 | M30: 変状区分 | O30: 漏水
B31: 変状種類 | D31: 補強・補修材の破損 | M31: 変状種類 | O31: 漏水
B32: 健全性 | C32: 応急措置前 | M32: 健全性 | N32: 応急措置前
C33: 応急措置後 | E33: Ⅲ | N33: 応急措置後 | P33: Ⅱa
B34: 変状の発生範囲の規模 | E34: 7.10m×0.15m | M34: 変状の発生範囲の規模 | P34: 4.90m×0.50m
B35: 前回定期点検時の状態 | E35: - | M35: 前回定期点検時の状態 | P35: -
B36: 調査方針 | M36: 調査方針
B37: 対策履歴 | H37: 実施状況（実施日） | M37: 対策履歴 | S37: 実施状況（実施日）
B38: メモ | D38: 樋の劣化(閉塞)・アンカー腐食(全数) | M38: メモ | O38: 滴水
C39: ※ 健全性（応急措置後）の判定区分Ⅱ～Ⅳについて添付すること。また、点検前に 実施された措置によりⅠと判定された箇所も添付すること。 | N39: ※ 変状の発生範囲の規模とは、対策を行う際に参考となる変状の長さや面積をいう。
N40: ※ 応急措置を実施しないで判定した変状の健全性は、健全性の応急措置後の欄に記入すること。
C41: ※ たたき落としを実施した場合は、実施後の写真を添付すること。 | N41: ※ 変状の発生範囲の規模は、面積・寸法を記載すること。
C42: ※ 附属物の取付状態に関する異常写真は別途、様式D-1-2でとりまとめること。 | N42: (ひび割れ幅のみmmとし、その他をm表記とする)
C43: ※ 変状数に準じてシートを追加すること。（１シートに１ページとすること。） | N43: ※ 構造用鋼材以外の異物に伴ううき・はく離については、メモ欄に異物の概要を記入すること。

Sheet 様式D-1-1(トンネル様式2P015)
B2: ■定期点検記録様式 変状写真台帳 | Y2: Ⅰ
B3: フリガナ | D3: チャウスヤマトンネル | H3: 路線名 | J3: 主要道路防府環状線 | M3: 定期点検業者 | P3: セントラルコンサルタント株式会社 | S3: 定期点検年月日 | U3: 44337 | Y3: Ⅱ
B4: 名 称 | D4: 茶臼山トンネル | H4: 管理者名 | J4: 山口県防府土木建築事務所 | M4: 定期点検者名 | P4: 鹿子嶋 康博 | Y4: Ⅲ
B5: 写真 番号 | C5: 覆工 スパン 番号 | D5: S18 | M5: 写真 番号 | N5: 覆工 スパン 番号 | O5: S19 | Y5: Ⅳ
C7: 変状 番号 | D7: 3 | N7: 変状 番号 | O7: 1
B9: 変状 部位 | C9: 対象 箇所 | D9: 覆工・坑門 | M9: 変状 部位 | N9: 対象 箇所 | O9: 覆工・坑門
C11: 部位 区分 | D11: アーチ（天端） | N11: 部位 区分 | O11: アーチ（天端）
B13: 変状区分 | D13: 材質劣化 | M13: 変状区分 | O13: 材質劣化
B14: 変状種類 | D14: 補強・補修材の破損 | M14: 変状種類 | O14: 補強・補修材の破損
B15: 健全性 | C15: 応急措置前 | M15: 健全性 | N15: 応急措置前
C16: 応急措置後 | E16: Ⅲ | N16: 応急措置後 | P16: Ⅲ
B17: 変状の発生範囲の規模 | E17: 6.90m×0.15m | M17: 変状の発生範囲の規模 | P17: 7.10m×0.15m
B18: 前回定期点検時の状態 | E18: 導水工破損 1.0m×0.17m、0.9m×0.17m | M18: 前回定期点検時の状態 | P18: -
B19: 調査方針 | M19: 調査方針
B20: 対策履歴 | H20: 実施状況（実施日） | M20: 対策履歴 | S20: 実施状況（実施日）
B21: メモ | D21: 樋の破損・アンカー腐食(全数)、一部欠損 | M21: メモ | O21: 樋のアンカー腐食(全数)
B22: 写真 番号 | C22: 覆工 スパン 番号 | D22: S19 | M22: 写真 番号 | N22: 覆工 スパン 番号 | O22: S19
C24: 変状 番号 | D24: 2 | N24: 変状 番号 | O24: 3
B26: 変状 部位 | C26: 対象 箇所 | D26: 覆工・坑門 | M26: 変状 部位 | N26: 対象 箇所 | O26: 路面
C28: 部位 区分 | D28: 側壁（左側） | N28: 部位 区分 | O28: 側溝
B30: 変状区分 | D30: 漏水 | M30: 変状区分 | O30: 漏水
B31: 変状種類 | D31: 漏水 | M31: 変状種類 | O31: 滞水
B32: 健全性 | C32: 応急措置前 | M32: 健全性 | N32: 応急措置前
C33: 応急措置後 | E33: Ⅰ | N33: 応急措置後 | P33: Ⅰ
B34: 変状の発生範囲の規模 | E34: 0.50m×3.40m | M34: 変状の発生範囲の規模 | P34: 0.50m×1.80m
B35: 前回定期点検時の状態 | E35: にじみ | M35: 前回定期点検時の状態 | P35: 滞水
B36: 調査方針 | M36: 調査方針
B37: 対策履歴 | H37: 実施状況（実施日） | M37: 対策履歴 | S37: 実施状況（実施日）
B38: メモ | D38: 漏水跡 | M38: メモ | O38: 側溝の滞水跡
C39: ※ 健全性（応急措置後）の判定区分Ⅱ～Ⅳについて添付すること。また、点検前に 実施された措置によりⅠと判定された箇所も添付すること。 | N39: ※ 変状の発生範囲の規模とは、対策を行う際に参考となる変状の長さや面積をいう。
N40: ※ 応急措置を実施しないで判定した変状の健全性は、健全性の応急措置後の欄に記入すること。
C41: ※ たたき落としを実施した場合は、実施後の写真を添付すること。 | N41: ※ 変状の発生範囲の規模は、面積・寸法を記載すること。
C42: ※ 附属物の取付状態に関する異常写真は別途、様式D-1-2でとりまとめること。 | N42: (ひび割れ幅のみmmとし、その他をm表記とする)
C43: ※ 変状数に準じてシートを追加すること。（１シートに１ページとすること。） | N43: ※ 構造用鋼材以外の異物に伴ううき・はく離については、メモ欄に異物の概要を記入すること。

Sheet 様式D-1-1(トンネル様式2P016)
B2: ■定期点検記録様式 変状写真台帳 | Y2: Ⅰ
B3: フリガナ | D3: チャウスヤマトンネル | H3: 路線名 | J3: 主要道路防府環状線 | M3: 定期点検業者 | P3: セントラルコンサルタント株式会社 | S3: 定期点検年月日 | U3: 44337 | Y3: Ⅱ
B4: 名 称 | D4: 茶臼山トンネル | H4: 管理者名 | J4: 山口県防府土木建築事務所 | M4: 定期点検者名 | P4: 鹿子嶋 康博 | Y4: Ⅲ
B5: 写真 番号 | C5: 覆工 スパン 番号 | D5: S19 | M5: 写真 番号 | N5: 覆工 スパン 番号 | O5: S20 | Y5: Ⅳ
C7: 変状 番号 | D7: 4 | N7: 変状 番号 | O7: 1
B9: 変状 部位 | C9: 対象 箇所 | D9: 路面 | M9: 変状 部位 | N9: 対象 箇所 | O9: 路面
C11: 部位 区分 | D11: 側溝 | N11: 部位 区分 | O11: 側溝
B13: 変状区分 | D13: 漏水 | M13: 変状区分 | O13: 漏水
B14: 変状種類 | D14: その他 | M14: 変状種類 | O14: その他
B15: 健全性 | C15: 応急措置前 | M15: 健全性 | N15: 応急措置前
C16: 応急措置後 | E16: Ⅱb | N16: 応急措置後 | P16: Ⅱb
B17: 変状の発生範囲の規模 | E17: 0.60m×2.30m | M17: 変状の発生範囲の規模 | P17: 0.50m×2.80m
B18: 前回定期点検時の状態 | E18: 沈砂 t=80mm | M18: 前回定期点検時の状態 | P18: 沈砂 t=30mm
B19: 調査方針 | M19: 調査方針
B20: 対策履歴 | H20: 実施状況（実施日） | M20: 対策履歴 | S20: 実施状況（実施日）
B21: メモ | D21: 土砂堆積(滞水跡) | M21: メモ | O21: 土砂堆積(滞水跡)
B22: 写真 番号 | C22: 覆工 スパン 番号 | D22: S21 | M22: 写真 番号 | N22: 覆工 スパン 番号 | O22: S21
C24: 変状 番号 | D24: 1 | N24: 変状 番号 | O24: 2
B26: 変状 部位 | C26: 対象 箇所 | D26: 覆工・坑門 | M26: 変状 部位 | N26: 対象 箇所 | O26: 覆工・坑門
C28: 部位 区分 | D28: 水平打ち継ぎ目（左側） | N28: 部位 区分 | O28: 水平打ち継ぎ目（左側）
B30: 変状区分 | D30: 材質劣化 | M30: 変状区分 | O30: 材質劣化
B31: 変状種類 | D31: うき・はく離 | M31: 変状種類 | O31: うき・はく離
B32: 健全性 | C32: 応急措置前 | M32: 健全性 | N32: 応急措置前
C33: 応急措置後 | E33: Ⅱb | N33: 応急措置後 | P33: Ⅱb
B34: 変状の発生範囲の規模 | E34: 0.20m×0.30m | M34: 変状の発生範囲の規模 | P34: 0.10m×1.50m
B35: 前回定期点検時の状態 | E35: 豆板 0.3m×0.5m | M35: 前回定期点検時の状態 | P35: 豆板 0.2m×1.3m
B36: 調査方針 | M36: 調査方針
B37: 対策履歴 | H37: 実施状況（実施日） | M37: 対策履歴 | S37: 実施状況（実施日）
B38: メモ | D38: 豆板 | M38: メモ | O38: 豆板
C39: ※ 健全性（応急措置後）の判定区分Ⅱ～Ⅳについて添付すること。また、点検前に 実施された措置によりⅠと判定された箇所も添付すること。 | N39: ※ 変状の発生範囲の規模とは、対策を行う際に参考となる変状の長さや面積をいう。
N40: ※ 応急措置を実施しないで判定した変状の健全性は、健全性の応急措置後の欄に記入すること。
C41: ※ たたき落としを実施した場合は、実施後の写真を添付すること。 | N41: ※ 変状の発生範囲の規模は、面積・寸法を記載すること。
C42: ※ 附属物の取付状態に関する異常写真は別途、様式D-1-2でとりまとめること。 | N42: (ひび割れ幅のみmmとし、その他をm表記とする)
C43: ※ 変状数に準じてシートを追加すること。（１シートに１ページとすること。） | N43: ※ 構造用鋼材以外の異物に伴ううき・はく離については、メモ欄に異物の概要を記入すること。

Sheet 様式D-1-1(トンネル様式2P017)
B2: ■定期点検記録様式 変状写真台帳 | Y2: Ⅰ
B3: フリガナ | D3: チャウスヤマトンネル | H3: 路線名 | J3: 主要道路防府環状線 | M3: 定期点検業者 | P3: セントラルコンサルタント株式会社 | S3: 定期点検年月日 | U3: 44337 | Y3: Ⅱ
B4: 名 称 | D4: 茶臼山トンネル | H4: 管理者名 | J4: 山口県防府土木建築事務所 | M4: 定期点検者名 | P4: 鹿子嶋 康博 | Y4: Ⅲ
B5: 写真 番号 | C5: 覆工 スパン 番号 | D5: S21 | M5: 写真 番号 | N5: 覆工 スパン 番号 | O5: S21 | Y5: Ⅳ
C7: 変状 番号 | D7: 3 | N7: 変状 番号 | O7: 4
B9: 変状 部位 | C9: 対象 箇所 | D9: 覆工・坑門 | M9: 変状 部位 | N9: 対象 箇所 | O9: 路面
C11: 部位 区分 | D11: アーチ（天端） | N11: 部位 区分 | O11: 側溝
B13: 変状区分 | D13: 漏水 | M13: 変状区分 | O13: 漏水
B14: 変状種類 | D14: 漏水 | M14: 変状種類 | O14: その他
B15: 健全性 | C15: 応急措置前 | M15: 健全性 | N15: 応急措置前
C16: 応急措置後 | E16: Ⅱa | N16: 応急措置後 | P16: Ⅱb
B17: 変状の発生範囲の規模 | E17: 6.20m×0.50m | M17: 変状の発生範囲の規模 | P17: 0.40m×2.00m、t=50㎜
B18: 前回定期点検時の状態 | E18: - | M18: 前回定期点検時の状態 | P18: 沈砂 t=50mm
B19: 調査方針 | M19: 調査方針
B20: 対策履歴 | H20: 実施状況（実施日） | M20: 対策履歴 | S20: 実施状況（実施日）
B21: メモ | D21: 滴水 | M21: メモ | O21: 土砂堆積(滞水跡)
B22: 写真 番号 | C22: 覆工 スパン 番号 | D22: S22 | M22: 写真 番号 | N22: 覆工 スパン 番号 | O22: S22
C24: 変状 番号 | D24: 1 | N24: 変状 番号 | O24: 2
B26: 変状 部位 | C26: 対象 箇所 | D26: 覆工・坑門 | M26: 変状 部位 | N26: 対象 箇所 | O26: 覆工・坑門
C28: 部位 区分 | D28: アーチ（右側） | N28: 部位 区分 | O28: アーチ（天端）
B30: 変状区分 | D30: 材質劣化 | M30: 変状区分 | O30: 材質劣化
B31: 変状種類 | D31: うき・はく離 | M31: 変状種類 | O31: 補強・補修材の破損
B32: 健全性 | C32: 応急措置前 | M32: 健全性 | N32: 応急措置前
C33: 応急措置後 | E33: Ⅱb | N33: 応急措置後 | P33: Ⅲ
B34: 変状の発生範囲の規模 | E34: 0.40m×1.00m | M34: 変状の発生範囲の規模 | P34: 7.00m×0.45m
B35: 前回定期点検時の状態 | E35: 豆板 0.3m×1.0m | M35: 前回定期点検時の状態 | P35: -
B36: 調査方針 | M36: 調査方針
B37: 対策履歴 | H37: 実施状況（実施日） | M37: 対策履歴 | S37: 実施状況（実施日）
B38: メモ | D38: 豆板 | M38: メモ | O38: 樋のアンカー腐食(全数)
C39: ※ 健全性（応急措置後）の判定区分Ⅱ～Ⅳについて添付すること。また、点検前に 実施された措置によりⅠと判定された箇所も添付すること。 | N39: ※ 変状の発生範囲の規模とは、対策を行う際に参考となる変状の長さや面積をいう。
N40: ※ 応急措置を実施しないで判定した変状の健全性は、健全性の応急措置後の欄に記入すること。
C41: ※ たたき落としを実施した場合は、実施後の写真を添付すること。 | N41: ※ 変状の発生範囲の規模は、面積・寸法を記載すること。
C42: ※ 附属物の取付状態に関する異常写真は別途、様式D-1-2でとりまとめること。 | N42: (ひび割れ幅のみmmとし、その他をm表記とする)
C43: ※ 変状数に準じてシートを追加すること。（１シートに１ページとすること。） | N43: ※ 構造用鋼材以外の異物に伴ううき・はく離については、メモ欄に異物の概要を記入すること。

Sheet 様式D-1-1(トンネル様式2P018)
B2: ■定期点検記録様式 変状写真台帳 | Y2: Ⅰ
B3: フリガナ | D3: チャウスヤマトンネル | H3: 路線名 | J3: 主要道路防府環状線 | M3: 定期点検業者 | P3: セントラルコンサルタント株式会社 | S3: 定期点検年月日 | U3: 44337 | Y3: Ⅱ
B4: 名 称 | D4: 茶臼山トンネル | H4: 管理者名 | J4: 山口県防府土木建築事務所 | M4: 定期点検者名 | P4: 鹿子嶋 康博 | Y4: Ⅲ
B5: 写真 番号 | C5: 覆工 スパン 番号 | D5: S23 | M5: 写真 番号 | N5: 覆工 スパン 番号 | O5: S23 | Y5: Ⅳ
C7: 変状 番号 | D7: 1 | N7: 変状 番号 | O7: 2
B9: 変状 部位 | C9: 対象 箇所 | D9: 覆工・坑門 | M9: 変状 部位 | N9: 対象 箇所 | O9: 覆工・坑門
C11: 部位 区分 | D11: アーチ（天端） | N11: 部位 区分 | O11: アーチ（右側）
B13: 変状区分 | D13: 漏水 | M13: 変状区分 | O13: 漏水
B14: 変状種類 | D14: 漏水 | M14: 変状種類 | O14: 漏水
B15: 健全性 | C15: 応急措置前 | M15: 健全性 | N15: 応急措置前
C16: 応急措置後 | E16: Ⅱa | N16: 応急措置後 | P16: Ⅱb
B17: 変状の発生範囲の規模 | E17: 5.50m×0.50m | M17: 変状の発生範囲の規模 | P17: 2.80m×1.60m
B18: 前回定期点検時の状態 | E18: - | M18: 前回定期点検時の状態 | P18: -
B19: 調査方針 | M19: 調査方針
B20: 対策履歴 | H20: 実施状況（実施日） | M20: 対策履歴 | S20: 実施状況（実施日）
B21: メモ | D21: 滴水 | M21: メモ | O21: 線導水からのにじみ
B22: 写真 番号 | C22: 覆工 スパン 番号 | D22: S23 | M22: 写真 番号 | N22: 覆工 スパン 番号 | O22: S24
C24: 変状 番号 | D24: 3 | N24: 変状 番号 | O24: 1
B26: 変状 部位 | C26: 対象 箇所 | D26: 路面 | M26: 変状 部位 | N26: 対象 箇所 | O26: 覆工・坑門
C28: 部位 区分 | D28: 側溝 | N28: 部位 区分 | O28: アーチ（左側）
B30: 変状区分 | D30: 漏水 | M30: 変状区分 | O30: 材質劣化
B31: 変状種類 | D31: その他 | M31: 変状種類 | O31: うき・はく離
B32: 健全性 | C32: 応急措置前 | M32: 健全性 | N32: 応急措置前
C33: 応急措置後 | E33: Ⅱb | N33: 応急措置後 | P33: Ⅱb
B34: 変状の発生範囲の規模 | E34: 0.40m×2.30m | M34: 変状の発生範囲の規模 | P34: 0.10m×0.40m
B35: 前回定期点検時の状態 | E35: 滞水 | M35: 前回定期点検時の状態 | P35: -
B36: 調査方針 | M36: 調査方針
B37: 対策履歴 | H37: 実施状況（実施日） | M37: 対策履歴 | S37: 実施状況（実施日）
B38: メモ | D38: 土砂堆積(滞水跡) | M38: メモ | O38: 豆板
C39: ※ 健全性（応急措置後）の判定区分Ⅱ～Ⅳについて添付すること。また、点検前に 実施された措置によりⅠと判定された箇所も添付すること。 | N39: ※ 変状の発生範囲の規模とは、対策を行う際に参考となる変状の長さや面積をいう。
N40: ※ 応急措置を実施しないで判定した変状の健全性は、健全性の応急措置後の欄に記入すること。
C41: ※ たたき落としを実施した場合は、実施後の写真を添付すること。 | N41: ※ 変状の発生範囲の規模は、面積・寸法を記載すること。
C42: ※ 附属物の取付状態に関する異常写真は別途、様式D-1-2でとりまとめること。 | N42: (ひび割れ幅のみmmとし、その他をm表記とする)
C43: ※ 変状数に準じてシートを追加すること。（１シートに１ページとすること。） | N43: ※ 構造用鋼材以外の異物に伴ううき・はく離については、メモ欄に異物の概要を記入すること。

Sheet 様式D-1-1(トンネル様式2P019)
B2: ■定期点検記録様式 変状写真台帳 | Y2: Ⅰ
B3: フリガナ | D3: チャウスヤマトンネル | H3: 路線名 | J3: 主要道路防府環状線 | M3: 定期点検業者 | P3: セントラルコンサルタント株式会社 | S3: 定期点検年月日 | U3: 44337 | Y3: Ⅱ
B4: 名 称 | D4: 茶臼山トンネル | H4: 管理者名 | J4: 山口県防府土木建築事務所 | M4: 定期点検者名 | P4: 鹿子嶋 康博 | Y4: Ⅲ
B5: 写真 番号 | C5: 覆工 スパン 番号 | D5: S24 | M5: 写真 番号 | N5: 覆工 スパン 番号 | O5: S24 | Y5: Ⅳ
C7: 変状 番号 | D7: 2 | N7: 変状 番号 | O7: 3
B9: 変状 部位 | C9: 対象 箇所 | D9: 路面 | M9: 変状 部位 | N9: 対象 箇所 | O9: 路面
C11: 部位 区分 | D11: 側溝 | N11: 部位 区分 | O11: 側溝
B13: 変状区分 | D13: 漏水 | M13: 変状区分 | O13: 漏水
B14: 変状種類 | D14: その他 | M14: 変状種類 | O14: 滞水
B15: 健全性 | C15: 応急措置前 | M15: 健全性 | N15: 応急措置前
C16: 応急措置後 | E16: Ⅱb | N16: 応急措置後 | P16: Ⅰ
B17: 変状の発生範囲の規模 | E17: 0.40m×3.60m | M17: 変状の発生範囲の規模 | P17: 0.40m×2.30m
B18: 前回定期点検時の状態 | E18: 沈砂 t=50mm | M18: 前回定期点検時の状態 | P18: 滞水
B19: 調査方針 | M19: 調査方針
B20: 対策履歴 | H20: 実施状況（実施日） | M20: 対策履歴 | S20: 実施状況（実施日）
B21: メモ | D21: 土砂堆積(滞水跡) | M21: メモ | O21: 路側帯の滞水跡
B22: 写真 番号 | C22: 覆工 スパン 番号 | D22: S25 | M22: 写真 番号 | N22: 覆工 スパン 番号 | O22: S27
C24: 変状 番号 | D24: 1 | N24: 変状 番号 | O24: 1
B26: 変状 部位 | C26: 対象 箇所 | D26: 路面 | M26: 変状 部位 | N26: 対象 箇所 | O26: 覆工・坑門
C28: 部位 区分 | D28: 側溝 | N28: 部位 区分 | O28: アーチ（天端）
B30: 変状区分 | D30: 漏水 | M30: 変状区分 | O30: 材質劣化
B31: 変状種類 | D31: 滞水 | M31: 変状種類 | O31: うき・はく離
B32: 健全性 | C32: 応急措置前 | M32: 健全性 | N32: 応急措置前
C33: 応急措置後 | E33: Ⅰ | N33: 応急措置後 | P33: Ⅱb
B34: 変状の発生範囲の規模 | E34: 0.40m×2.20m | M34: 変状の発生範囲の規模 | P34: 0.20m×0.20m
B35: 前回定期点検時の状態 | E35: 沈砂 t=50mm | M35: 前回定期点検時の状態 | P35: うき 0.2m×0.2m
B36: 調査方針 | M36: 調査方針
B37: 対策履歴 | H37: 実施状況（実施日） | M37: 対策履歴 | S37: 実施状況（実施日）
B38: メモ | D38: 路側帯の滞水跡 | M38: メモ | O38: はく落
C39: ※ 健全性（応急措置後）の判定区分Ⅱ～Ⅳについて添付すること。また、点検前に 実施された措置によりⅠと判定された箇所も添付すること。 | N39: ※ 変状の発生範囲の規模とは、対策を行う際に参考となる変状の長さや面積をいう。
N40: ※ 応急措置を実施しないで判定した変状の健全性は、健全性の応急措置後の欄に記入すること。
C41: ※ たたき落としを実施した場合は、実施後の写真を添付すること。 | N41: ※ 変状の発生範囲の規模は、面積・寸法を記載すること。
C42: ※ 附属物の取付状態に関する異常写真は別途、様式D-1-2でとりまとめること。 | N42: (ひび割れ幅のみmmとし、その他をm表記とする)
C43: ※ 変状数に準じてシートを追加すること。（１シートに１ページとすること。） | N43: ※ 構造用鋼材以外の異物に伴ううき・はく離については、メモ欄に異物の概要を記入すること。

Sheet 様式D-1-1(トンネル様式2P020)
B2: ■定期点検記録様式 変状写真台帳 | Y2: Ⅰ
B3: フリガナ | D3: チャウスヤマトンネル | H3: 路線名 | J3: 主要道路防府環状線 | M3: 定期点検業者 | P3: セントラルコンサルタント株式会社 | S3: 定期点検年月日 | U3: 44337 | Y3: Ⅱ
B4: 名 称 | D4: 茶臼山トンネル | H4: 管理者名 | J4: 山口県防府土木建築事務所 | M4: 定期点検者名 | P4: 鹿子嶋 康博 | Y4: Ⅲ
B5: 写真 番号 | C5: 覆工 スパン 番号 | D5: S28 | M5: 写真 番号 | N5: 覆工 スパン 番号 | O5: S28 | Y5: Ⅳ
C7: 変状 番号 | D7: 1 | N7: 変状 番号 | O7: 2
B9: 変状 部位 | C9: 対象 箇所 | D9: 覆工・坑門 | M9: 変状 部位 | N9: 対象 箇所 | O9: 覆工・坑門
C11: 部位 区分 | D11: アーチ（天端） | N11: 部位 区分 | O11: アーチ（天端）
B13: 変状区分 | D13: 材質劣化 | M13: 変状区分 | O13: 材質劣化
B14: 変状種類 | D14: うき・はく離 | M14: 変状種類 | O14: うき・はく離
B15: 健全性 | C15: 応急措置前 | M15: 健全性 | N15: 応急措置前
C16: 応急措置後 | E16: Ⅱa | N16: 応急措置後 | P16: Ⅱb
B17: 変状の発生範囲の規模 | E17: 0.20m×0.30m | M17: 変状の発生範囲の規模 | P17: 0.5m×0.5m、他1箇所
B18: 前回定期点検時の状態 | E18: - | M18: 前回定期点検時の状態 | P18: -
B19: 調査方針 | M19: 調査方針
B20: 対策履歴 | H20: 実施状況（実施日） | M20: 対策履歴 | S20: 実施状況（実施日）
B21: メモ | D21: 豆板 | M21: メモ | O21: 豆板
B22: 写真 番号 | C22: 覆工 スパン 番号 | D22: S29 | M22: 写真 番号 | N22: 覆工 スパン 番号 | O22: S29
C24: 変状 番号 | D24: 1 | N24: 変状 番号 | O24: 2
B26: 変状 部位 | C26: 対象 箇所 | D26: 覆工・坑門 | M26: 変状 部位 | N26: 対象 箇所 | O26: 覆工・坑門
C28: 部位 区分 | D28: 横断目地（全周） | N28: 部位 区分 | O28: アーチ（天端）
B30: 変状区分 | D30: 材質劣化 | M30: 変状区分 | O30: 材質劣化
B31: 変状種類 | D31: 補強・補修材の破損 | M31: 変状種類 | O31: うき・はく離
B32: 健全性 | C32: 応急措置前 | M32: 健全性 | N32: 応急措置前
C33: 応急措置後 | E33: Ⅲ | N33: 応急措置後 | P33: Ⅱb
B34: 変状の発生範囲の規模 | E34: 14.30m×0.45m | M34: 変状の発生範囲の規模 | P34: 0.40m×0.50m
B35: 前回定期点検時の状態 | E35: - | M35: 前回定期点検時の状態 | P35: -
B36: 調査方針 | M36: 調査方針
B37: 対策履歴 | H37: 実施状況（実施日） | M37: 対策履歴 | S37: 実施状況（実施日）
B38: メモ | D38: 樋のアンカー腐食(全数)、一部アンカー脱落 | M38: メモ | O38: 豆板
C39: ※ 健全性（応急措置後）の判定区分Ⅱ～Ⅳについて添付すること。また、点検前に 実施された措置によりⅠと判定された箇所も添付すること。 | N39: ※ 変状の発生範囲の規模とは、対策を行う際に参考となる変状の長さや面積をいう。
N40: ※ 応急措置を実施しないで判定した変状の健全性は、健全性の応急措置後の欄に記入すること。
C41: ※ たたき落としを実施した場合は、実施後の写真を添付すること。 | N41: ※ 変状の発生範囲の規模は、面積・寸法を記載すること。
C42: ※ 附属物の取付状態に関する異常写真は別途、様式D-1-2でとりまとめること。 | N42: (ひび割れ幅のみmmとし、その他をm表記とする)
C43: ※ 変状数に準じてシートを追加すること。（１シートに１ページとすること。） | N43: ※ 構造用鋼材以外の異物に伴ううき・はく離については、メモ欄に異物の概要を記入すること。

Sheet 様式D-1-1(トンネル様式2P021)
B2: ■定期点検記録様式 変状写真台帳 | Y2: Ⅰ
B3: フリガナ | D3: チャウスヤマトンネル | H3: 路線名 | J3: 主要道路防府環状線 | M3: 定期点検業者 | P3: セントラルコンサルタント株式会社 | S3: 定期点検年月日 | U3: 44337 | Y3: Ⅱ
B4: 名 称 | D4: 茶臼山トンネル | H4: 管理者名 | J4: 山口県防府土木建築事務所 | M4: 定期点検者名 | P4: 鹿子嶋 康博 | Y4: Ⅲ
B5: 写真 番号 | C5: 覆工 スパン 番号 | D5: S30 | M5: 写真 番号 | N5: 覆工 スパン 番号 | O5: S30 | Y5: Ⅳ
C7: 変状 番号 | D7: 1 | N7: 変状 番号 | O7: 2
B9: 変状 部位 | C9: 対象 箇所 | D9: 覆工・坑門 | M9: 変状 部位 | N9: 対象 箇所 | O9: 覆工・坑門
C11: 部位 区分 | D11: アーチ（天端） | N11: 部位 区分 | O11: アーチ（左側）
B13: 変状区分 | D13: 漏水 | M13: 変状区分 | O13: 材質劣化
B14: 変状種類 | D14: 補強・補修材の破損 | M14: 変状種類 | O14: 鋼材腐食
B15: 健全性 | C15: 応急措置前 | M15: 健全性 | N15: 応急措置前
C16: 応急措置後 | E16: Ⅱa | N16: 応急措置後 | P16: Ⅱa
B17: 変状の発生範囲の規模 | E17: 0.40m×0.60m | M17: 変状の発生範囲の規模 | P17: 0.10m×0.20m
B18: 前回定期点検時の状態 | E18: - | M18: 前回定期点検時の状態 | P18: 鋼材露出 0.05m×0.2m
B19: 調査方針 | M19: 調査方針
B20: 対策履歴 | H20: 実施状況（実施日） | M20: 対策履歴 | S20: 実施状況（実施日）
B21: メモ | D21: 炭素繊維シートうき(湧水内包) | M21: メモ | O21: 鋼材露出
B22: 写真 番号 | C22: 覆工 スパン 番号 | D22: S31 | M22: 写真 番号 | N22: 覆工 スパン 番号 | O22: S31
C24: 変状 番号 | D24: 1 | N24: 変状 番号 | O24: 2
B26: 変状 部位 | C26: 対象 箇所 | D26: 覆工・坑門 | M26: 変状 部位 | N26: 対象 箇所 | O26: 覆工・坑門
C28: 部位 区分 | D28: アーチ（左側） | N28: 部位 区分 | O28: アーチ（天端）
B30: 変状区分 | D30: 材質劣化 | M30: 変状区分 | O30: 材質劣化
B31: 変状種類 | D31: うき・はく離 | M31: 変状種類 | O31: うき・はく離
B32: 健全性 | C32: 応急措置前 | M32: 健全性 | N32: 応急措置前
C33: 応急措置後 | E33: Ⅱb | N33: 応急措置後 | P33: Ⅱb
B34: 変状の発生範囲の規模 | E34: 0.70m×0.50m | M34: 変状の発生範囲の規模 | P34: 0.25m×0.15m
B35: 前回定期点検時の状態 | E35: 豆板 0.6m×0.4m | M35: 前回定期点検時の状態 | P35: -
B36: 調査方針 | M36: 調査方針
B37: 対策履歴 | H37: 実施状況（実施日） | M37: 対策履歴 | S37: 実施状況（実施日）
B38: メモ | D38: 豆板 | M38: メモ | O38: 豆板
C39: ※ 健全性（応急措置後）の判定区分Ⅱ～Ⅳについて添付すること。また、点検前に 実施された措置によりⅠと判定された箇所も添付すること。 | N39: ※ 変状の発生範囲の規模とは、対策を行う際に参考となる変状の長さや面積をいう。
N40: ※ 応急措置を実施しないで判定した変状の健全性は、健全性の応急措置後の欄に記入すること。
C41: ※ たたき落としを実施した場合は、実施後の写真を添付すること。 | N41: ※ 変状の発生範囲の規模は、面積・寸法を記載すること。
C42: ※ 附属物の取付状態に関する異常写真は別途、様式D-1-2でとりまとめること。 | N42: (ひび割れ幅のみmmとし、その他をm表記とする)
C43: ※ 変状数に準じてシートを追加すること。（１シートに１ページとすること。） | N43: ※ 構造用鋼材以外の異物に伴ううき・はく離については、メモ欄に異物の概要を記入すること。

Sheet 様式D-1-1(トンネル様式2P022)
B2: ■定期点検記録様式 変状写真台帳 | Y2: Ⅰ
B3: フリガナ | D3: チャウスヤマトンネル | H3: 路線名 | J3: 主要道路防府環状線 | M3: 定期点検業者 | P3: セントラルコンサルタント株式会社 | S3: 定期点検年月日 | U3: 44337 | Y3: Ⅱ
B4: 名 称 | D4: 茶臼山トンネル | H4: 管理者名 | J4: 山口県防府土木建築事務所 | M4: 定期点検者名 | P4: 鹿子嶋 康博 | Y4: Ⅲ
B5: 写真 番号 | C5: 覆工 スパン 番号 | D5: S32 | M5: 写真 番号 | N5: 覆工 スパン 番号 | O5: S32 | Y5: Ⅳ
C7: 変状 番号 | D7: 1 | N7: 変状 番号 | O7: 2
B9: 変状 部位 | C9: 対象 箇所 | D9: 覆工・坑門 | M9: 変状 部位 | N9: 対象 箇所 | O9: 覆工・坑門
C11: 部位 区分 | D11: アーチ（天端） | N11: 部位 区分 | O11: アーチ（左側）
B13: 変状区分 | D13: 材質劣化 | M13: 変状区分 | O13: 材質劣化
B14: 変状種類 | D14: うき・はく離 | M14: 変状種類 | O14: うき・はく離
B15: 健全性 | C15: 応急措置前 | M15: 健全性 | N15: 応急措置前
C16: 応急措置後 | E16: Ⅱa | N16: 応急措置後 | P16: Ⅱb
B17: 変状の発生範囲の規模 | E17: 0.10m×0.10m | M17: 変状の発生範囲の規模 | P17: 0.15m×0.20m
B18: 前回定期点検時の状態 | E18: - | M18: 前回定期点検時の状態 | P18: -
B19: 調査方針 | M19: 調査方針
B20: 対策履歴 | H20: 実施状況（実施日） | M20: 対策履歴 | S20: 実施状況（実施日）
B21: メモ | D21: 補修跡うき | M21: メモ | O21: 豆板
B22: 写真 番号 | C22: 覆工 スパン 番号 | D22: S32 | M22: 写真 番号 | N22: 覆工 スパン 番号 | O22: S33
C24: 変状 番号 | D24: 3 | N24: 変状 番号 | O24: 1
B26: 変状 部位 | C26: 対象 箇所 | D26: 覆工・坑門 | M26: 変状 部位 | N26: 対象 箇所 | O26: 覆工・坑門
C28: 部位 区分 | D28: アーチ（天端） | N28: 部位 区分 | O28: アーチ（左側）
B30: 変状区分 | D30: 材質劣化 | M30: 変状区分 | O30: 材質劣化
B31: 変状種類 | D31: うき・はく離 | M31: 変状種類 | O31: うき・はく離
B32: 健全性 | C32: 応急措置前 | M32: 健全性 | N32: 応急措置前
C33: 応急措置後 | E33: Ⅱa | N33: 応急措置後 | P33: Ⅱb
B34: 変状の発生範囲の規模 | E34: 0.10m×0.10m | M34: 変状の発生範囲の規模 | P34: 0.20m×0.30m
B35: 前回定期点検時の状態 | E35: - | M35: 前回定期点検時の状態 | P35: 豆板 0.2m×0.3m
B36: 調査方針 | M36: 調査方針
B37: 対策履歴 | H37: 実施状況（実施日） | M37: 対策履歴 | S37: 実施状況（実施日）
B38: メモ | D38: 補修跡うき | M38: メモ | O38: 豆板
C39: ※ 健全性（応急措置後）の判定区分Ⅱ～Ⅳについて添付すること。また、点検前に 実施された措置によりⅠと判定された箇所も添付すること。 | N39: ※ 変状の発生範囲の規模とは、対策を行う際に参考となる変状の長さや面積をいう。
N40: ※ 応急措置を実施しないで判定した変状の健全性は、健全性の応急措置後の欄に記入すること。
C41: ※ たたき落としを実施した場合は、実施後の写真を添付すること。 | N41: ※ 変状の発生範囲の規模は、面積・寸法を記載すること。
C42: ※ 附属物の取付状態に関する異常写真は別途、様式D-1-2でとりまとめること。 | N42: (ひび割れ幅のみmmとし、その他をm表記とする)
C43: ※ 変状数に準じてシートを追加すること。（１シートに１ページとすること。） | N43: ※ 構造用鋼材以外の異物に伴ううき・はく離については、メモ欄に異物の概要を記入すること。

Sheet 様式D-1-1(トンネル様式2P023)
B2: ■定期点検記録様式 変状写真台帳 | Y2: Ⅰ
B3: フリガナ | D3: チャウスヤマトンネル | H3: 路線名 | J3: 主要道路防府環状線 | M3: 定期点検業者 | P3: セントラルコンサルタント株式会社 | S3: 定期点検年月日 | U3: 44337 | Y3: Ⅱ
B4: 名 称 | D4: 茶臼山トンネル | H4: 管理者名 | J4: 山口県防府土木建築事務所 | M4: 定期点検者名 | P4: 鹿子嶋 康博 | Y4: Ⅲ
B5: 写真 番号 | C5: 覆工 スパン 番号 | D5: S33 | M5: 写真 番号 | N5: 覆工 スパン 番号 | O5: S33 | Y5: Ⅳ
C7: 変状 番号 | D7: 2 | N7: 変状 番号 | O7: 3
B9: 変状 部位 | C9: 対象 箇所 | D9: 覆工・坑門 | M9: 変状 部位 | N9: 対象 箇所 | O9: 覆工・坑門
C11: 部位 区分 | D11: アーチ（左側） | N11: 部位 区分 | O11: アーチ（天端）
B13: 変状区分 | D13: 材質劣化 | M13: 変状区分 | O13: 材質劣化
B14: 変状種類 | D14: うき・はく離 | M14: 変状種類 | O14: うき・はく離
B15: 健全性 | C15: 応急措置前 | M15: 健全性 | N15: 応急措置前
C16: 応急措置後 | E16: Ⅱb | N16: 応急措置後 | P16: Ⅱb
B17: 変状の発生範囲の規模 | E17: 0.10m×0.40m | M17: 変状の発生範囲の規模 | P17: 0.30m×1.10m
B18: 前回定期点検時の状態 | E18: 豆板 0.1m×0.4m | M18: 前回定期点検時の状態 | P18: 豆板 0.3m×1.1m
B19: 調査方針 | M19: 調査方針
B20: 対策履歴 | H20: 実施状況（実施日） | M20: 対策履歴 | S20: 実施状況（実施日）
B21: メモ | D21: 豆板 | M21: メモ | O21: 豆板
B22: 写真 番号 | C22: 覆工 スパン 番号 | D22: S33 | M22: 写真 番号 | N22: 覆工 スパン 番号 | O22: S33
C24: 変状 番号 | D24: 4 | N24: 変状 番号 | O24: 5
B26: 変状 部位 | C26: 対象 箇所 | D26: 覆工・坑門 | M26: 変状 部位 | N26: 対象 箇所 | O26: 覆工・坑門
C28: 部位 区分 | D28: 水平打ち継ぎ目（右側） | N28: 部位 区分 | O28: アーチ（右側）
B30: 変状区分 | D30: 材質劣化 | M30: 変状区分 | O30: 材質劣化
B31: 変状種類 | D31: うき・はく離 | M31: 変状種類 | O31: うき・はく離
B32: 健全性 | C32: 応急措置前 | M32: 健全性 | N32: 応急措置前
C33: 応急措置後 | E33: Ⅱa | N33: 応急措置後 | P33: Ⅱb
B34: 変状の発生範囲の規模 | E34: 0.35m×2.90m | M34: 変状の発生範囲の規模 | P34: 0.80m×0.50m
B35: 前回定期点検時の状態 | E35: 豆板 0.4m×2.4m | M35: 前回定期点検時の状態 | P35: 豆板 0.8m×0.5m
B36: 調査方針 | M36: 調査方針
B37: 対策履歴 | H37: 実施状況（実施日） | M37: 対策履歴 | S37: 実施状況（実施日）
B38: メモ | D38: 豆板 | M38: メモ | O38: 豆板
C39: ※ 健全性（応急措置後）の判定区分Ⅱ～Ⅳについて添付すること。また、点検前に 実施された措置によりⅠと判定された箇所も添付すること。 | N39: ※ 変状の発生範囲の規模とは、対策を行う際に参考となる変状の長さや面積をいう。
N40: ※ 応急措置を実施しないで判定した変状の健全性は、健全性の応急措置後の欄に記入すること。
C41: ※ たたき落としを実施した場合は、実施後の写真を添付すること。 | N41: ※ 変状の発生範囲の規模は、面積・寸法を記載すること。
C42: ※ 附属物の取付状態に関する異常写真は別途、様式D-1-2でとりまとめること。 | N42: (ひび割れ幅のみmmとし、その他をm表記とする)
C43: ※ 変状数に準じてシートを追加すること。（１シートに１ページとすること。） | N43: ※ 構造用鋼材以外の異物に伴ううき・はく離については、メモ欄に異物の概要を記入すること。

Sheet 様式D-1-1(トンネル様式2P024)
B2: ■定期点検記録様式 変状写真台帳 | Y2: Ⅰ
B3: フリガナ | D3: チャウスヤマトンネル | H3: 路線名 | J3: 主要道路防府環状線 | M3: 定期点検業者 | P3: セントラルコンサルタント株式会社 | S3: 定期点検年月日 | U3: 44337 | Y3: Ⅱ
B4: 名 称 | D4: 茶臼山トンネル | H4: 管理者名 | J4: 山口県防府土木建築事務所 | M4: 定期点検者名 | P4: 鹿子嶋 康博 | Y4: Ⅲ
B5: 写真 番号 | C5: 覆工 スパン 番号 | D5: S34 | M5: 写真 番号 | N5: 覆工 スパン 番号 | O5: S34 | Y5: Ⅳ
C7: 変状 番号 | D7: 1 | N7: 変状 番号 | O7: 2
B9: 変状 部位 | C9: 対象 箇所 | D9: 覆工・坑門 | M9: 変状 部位 | N9: 対象 箇所 | O9: 覆工・坑門
C11: 部位 区分 | D11: 水平打ち継ぎ目（左側） | N11: 部位 区分 | O11: 水平打ち継ぎ目（右側）
B13: 変状区分 | D13: 材質劣化 | M13: 変状区分 | O13: 材質劣化
B14: 変状種類 | D14: うき・はく離 | M14: 変状種類 | O14: うき・はく離
B15: 健全性 | C15: 応急措置前 | M15: 健全性 | N15: 応急措置前
C16: 応急措置後 | E16: Ⅱb | N16: 応急措置後 | P16: Ⅱb
B17: 変状の発生範囲の規模 | E17: 0.15m×2.00m | M17: 変状の発生範囲の規模 | P17: 0.15m×0.20m
B18: 前回定期点検時の状態 | E18: - | M18: 前回定期点検時の状態 | P18: -
B19: 調査方針 | M19: 調査方針
B20: 対策履歴 | H20: 実施状況（実施日） | M20: 対策履歴 | S20: 実施状況（実施日）
B21: メモ | D21: うき | M21: メモ | O21: うき
B22: 写真 番号 | C22: 覆工 スパン 番号 | D22: S34 | M22: 写真 番号 | N22: 覆工 スパン 番号 | O22: S34
C24: 変状 番号 | D24: 3 | N24: 変状 番号 | O24: 4
B26: 変状 部位 | C26: 対象 箇所 | D26: 覆工・坑門 | M26: 変状 部位 | N26: 対象 箇所 | O26: 覆工・坑門
C28: 部位 区分 | D28: アーチ（右側） | N28: 部位 区分 | O28: 水平打ち継ぎ目（右側）
B30: 変状区分 | D30: 材質劣化 | M30: 変状区分 | O30: 材質劣化
B31: 変状種類 | D31: うき・はく離 | M31: 変状種類 | O31: うき・はく離
B32: 健全性 | C32: 応急措置前 | M32: 健全性 | N32: 応急措置前
C33: 応急措置後 | E33: Ⅱb | N33: 応急措置後 | P33: Ⅱb
B34: 変状の発生範囲の規模 | E34: 0.20m×0.70m | M34: 変状の発生範囲の規模 | P34: 0.15m×0.45m
B35: 前回定期点検時の状態 | E35: 豆板 0.2m×0.7m | M35: 前回定期点検時の状態 | P35: -
B36: 調査方針 | M36: 調査方針
B37: 対策履歴 | H37: 実施状況（実施日） | M37: 対策履歴 | S37: 実施状況（実施日）
B38: メモ | D38: 豆板 | M38: メモ | O38: うき
C39: ※ 健全性（応急措置後）の判定区分Ⅱ～Ⅳについて添付すること。また、点検前に 実施された措置によりⅠと判定された箇所も添付すること。 | N39: ※ 変状の発生範囲の規模とは、対策を行う際に参考となる変状の長さや面積をいう。
N40: ※ 応急措置を実施しないで判定した変状の健全性は、健全性の応急措置後の欄に記入すること。
C41: ※ たたき落としを実施した場合は、実施後の写真を添付すること。 | N41: ※ 変状の発生範囲の規模は、面積・寸法を記載すること。
C42: ※ 附属物の取付状態に関する異常写真は別途、様式D-1-2でとりまとめること。 | N42: (ひび割れ幅のみmmとし、その他をm表記とする)
C43: ※ 変状数に準じてシートを追加すること。（１シートに１ページとすること。） | N43: ※ 構造用鋼材以外の異物に伴ううき・はく離については、メモ欄に異物の概要を記入すること。

Sheet 様式D-1-1(トンネル様式2P025)
B2: ■定期点検記録様式 変状写真台帳 | Y2: Ⅰ
B3: フリガナ | D3: チャウスヤマトンネル | H3: 路線名 | J3: 主要道路防府環状線 | M3: 定期点検業者 | P3: セントラルコンサルタント株式会社 | S3: 定期点検年月日 | U3: 44337 | Y3: Ⅱ
B4: 名 称 | D4: 茶臼山トンネル | H4: 管理者名 | J4: 山口県防府土木建築事務所 | M4: 定期点検者名 | P4: 鹿子嶋 康博 | Y4: Ⅲ
B5: 写真 番号 | C5: 覆工 スパン 番号 | D5: S35 | M5: 写真 番号 | N5: 覆工 スパン 番号 | O5: S35 | Y5: Ⅳ
C7: 変状 番号 | D7: 1 | N7: 変状 番号 | O7: 2
B9: 変状 部位 | C9: 対象 箇所 | D9: 覆工・坑門 | M9: 変状 部位 | N9: 対象 箇所 | O9: 覆工・坑門
C11: 部位 区分 | D11: アーチ（天端） | N11: 部位 区分 | O11: 水平打ち継ぎ目（左側）
B13: 変状区分 | D13: 材質劣化 | M13: 変状区分 | O13: 材質劣化
B14: 変状種類 | D14: うき・はく離 | M14: 変状種類 | O14: うき・はく離
B15: 健全性 | C15: 応急措置前 | M15: 健全性 | N15: 応急措置前
C16: 応急措置後 | E16: Ⅱa | N16: 応急措置後 | P16: Ⅱb
B17: 変状の発生範囲の規模 | E17: 0.30m×0.40m | M17: 変状の発生範囲の規模 | P17: 0.15m×4.60m
B18: 前回定期点検時の状態 | E18: - | M18: 前回定期点検時の状態 | P18: -
B19: 調査方針 | M19: 調査方針
B20: 対策履歴 | H20: 実施状況（実施日） | M20: 対策履歴 | S20: 実施状況（実施日）
B21: メモ | D21: 豆板 | M21: メモ | O21: うき
B22: 写真 番号 | C22: 覆工 スパン 番号 | D22: S35 | M22: 写真 番号 | N22: 覆工 スパン 番号 | O22: S35
C24: 変状 番号 | D24: 3 | N24: 変状 番号 | O24: 4
B26: 変状 部位 | C26: 対象 箇所 | D26: 覆工・坑門 | M26: 変状 部位 | N26: 対象 箇所 | O26: 覆工・坑門
C28: 部位 区分 | D28: 水平打ち継ぎ目（右側） | N28: 部位 区分 | O28: アーチ（右側）
B30: 変状区分 | D30: 材質劣化 | M30: 変状区分 | O30: 材質劣化
B31: 変状種類 | D31: うき・はく離 | M31: 変状種類 | O31: うき・はく離
B32: 健全性 | C32: 応急措置前 | M32: 健全性 | N32: 応急措置前
C33: 応急措置後 | E33: Ⅱb | N33: 応急措置後 | P33: Ⅱb
B34: 変状の発生範囲の規模 | E34: 0.15m×0.60m | M34: 変状の発生範囲の規模 | P34: 0.40m×0.80m
B35: 前回定期点検時の状態 | E35: - | M35: 前回定期点検時の状態 | P35: 豆板 0.4m×0.8m
B36: 調査方針 | M36: 調査方針
B37: 対策履歴 | H37: 実施状況（実施日） | M37: 対策履歴 | S37: 実施状況（実施日）
B38: メモ | D38: うき | M38: メモ | O38: 豆板
C39: ※ 健全性（応急措置後）の判定区分Ⅱ～Ⅳについて添付すること。また、点検前に 実施された措置によりⅠと判定された箇所も添付すること。 | N39: ※ 変状の発生範囲の規模とは、対策を行う際に参考となる変状の長さや面積をいう。
N40: ※ 応急措置を実施しないで判定した変状の健全性は、健全性の応急措置後の欄に記入すること。
C41: ※ たたき落としを実施した場合は、実施後の写真を添付すること。 | N41: ※ 変状の発生範囲の規模は、面積・寸法を記載すること。
C42: ※ 附属物の取付状態に関する異常写真は別途、様式D-1-2でとりまとめること。 | N42: (ひび割れ幅のみmmとし、その他をm表記とする)
C43: ※ 変状数に準じてシートを追加すること。（１シートに１ページとすること。） | N43: ※ 構造用鋼材以外の異物に伴ううき・はく離については、メモ欄に異物の概要を記入すること。

Sheet 様式D-1-1(トンネル様式2P026)
B2: ■定期点検記録様式 変状写真台帳 | Y2: Ⅰ
B3: フリガナ | D3: チャウスヤマトンネル | H3: 路線名 | J3: 主要道路防府環状線 | M3: 定期点検業者 | P3: セントラルコンサルタント株式会社 | S3: 定期点検年月日 | U3: 44337 | Y3: Ⅱ
B4: 名 称 | D4: 茶臼山トンネル | H4: 管理者名 | J4: 山口県防府土木建築事務所 | M4: 定期点検者名 | P4: 鹿子嶋 康博 | Y4: Ⅲ
B5: 写真 番号 | C5: 覆工 スパン 番号 | D5: S35 | M5: 写真 番号 | N5: 覆工 スパン 番号 | O5: S35 | Y5: Ⅳ
C7: 変状 番号 | D7: 5 | N7: 変状 番号 | O7: 6
B9: 変状 部位 | C9: 対象 箇所 | D9: 覆工・坑門 | M9: 変状 部位 | N9: 対象 箇所 | O9: 覆工・坑門
C11: 部位 区分 | D11: アーチ（天端） | N11: 部位 区分 | O11: アーチ（天端）
B13: 変状区分 | D13: 材質劣化 | M13: 変状区分 | O13: 材質劣化
B14: 変状種類 | D14: 補強・補修材の破損 | M14: 変状種類 | O14: 補強・補修材の破損
B15: 健全性 | C15: 応急措置前 | M15: 健全性 | N15: 応急措置前
C16: 応急措置後 | E16: Ⅲ | N16: 応急措置後 | P16: Ⅲ
B17: 変状の発生範囲の規模 | E17: 6.90m×0.75m | M17: 変状の発生範囲の規模 | P17: 6.80m×0.45m
B18: 前回定期点検時の状態 | E18: - | M18: 前回定期点検時の状態 | P18: -
B19: 調査方針 | M19: 調査方針
B20: 対策履歴 | H20: 実施状況（実施日） | M20: 対策履歴 | S20: 実施状況（実施日）
B21: メモ | D21: 樋のアンカー腐食(全数) | M21: メモ | O21: 樋のアンカー腐食(全数)
B22: 写真 番号 | C22: 覆工 スパン 番号 | D22: S36 | M22: 写真 番号 | N22: 覆工 スパン 番号 | O22: S37
C24: 変状 番号 | D24: 1 | N24: 変状 番号 | O24: 1
B26: 変状 部位 | C26: 対象 箇所 | D26: 覆工・坑門 | M26: 変状 部位 | N26: 対象 箇所 | O26: 覆工・坑門
C28: 部位 区分 | D28: 水平打ち継ぎ目（左側） | N28: 部位 区分 | O28: アーチ（天端）
B30: 変状区分 | D30: 材質劣化 | M30: 変状区分 | O30: 材質劣化
B31: 変状種類 | D31: うき・はく離 | M31: 変状種類 | O31: うき・はく離
B32: 健全性 | C32: 応急措置前 | M32: 健全性 | N32: 応急措置前
C33: 応急措置後 | E33: Ⅱb | N33: 応急措置後 | P33: Ⅱa
B34: 変状の発生範囲の規模 | E34: 0.15m×0.50m | M34: 変状の発生範囲の規模 | P34: 0.10m×0.10m
B35: 前回定期点検時の状態 | E35: - | M35: 前回定期点検時の状態 | P35: -
B36: 調査方針 | M36: 調査方針
B37: 対策履歴 | H37: 実施状況（実施日） | M37: 対策履歴 | S37: 実施状況（実施日）
B38: メモ | D38: うき | M38: メモ | O38: 補修跡うき
C39: ※ 健全性（応急措置後）の判定区分Ⅱ～Ⅳについて添付すること。また、点検前に 実施された措置によりⅠと判定された箇所も添付すること。 | N39: ※ 変状の発生範囲の規模とは、対策を行う際に参考となる変状の長さや面積をいう。
N40: ※ 応急措置を実施しないで判定した変状の健全性は、健全性の応急措置後の欄に記入すること。
C41: ※ たたき落としを実施した場合は、実施後の写真を添付すること。 | N41: ※ 変状の発生範囲の規模は、面積・寸法を記載すること。
C42: ※ 附属物の取付状態に関する異常写真は別途、様式D-1-2でとりまとめること。 | N42: (ひび割れ幅のみmmとし、その他をm表記とする)
C43: ※ 変状数に準じてシートを追加すること。（１シートに１ページとすること。） | N43: ※ 構造用鋼材以外の異物に伴ううき・はく離については、メモ欄に異物の概要を記入すること。

Sheet 様式D-1-1(トンネル様式2P027)
B2: ■定期点検記録様式 変状写真台帳 | Y2: Ⅰ
B3: フリガナ | D3: チャウスヤマトンネル | H3: 路線名 | J3: 主要道路防府環状線 | M3: 定期点検業者 | P3: セントラルコンサルタント株式会社 | S3: 定期点検年月日 | U3: 44337 | Y3: Ⅱ
B4: 名 称 | D4: 茶臼山トンネル | H4: 管理者名 | J4: 山口県防府土木建築事務所 | M4: 定期点検者名 | P4: 鹿子嶋 康博 | Y4: Ⅲ
B5: 写真 番号 | C5: 覆工 スパン 番号 | D5: S37 | M5: 写真 番号 | N5: 覆工 スパン 番号 | O5: S37 | Y5: Ⅳ
C7: 変状 番号 | D7: 2 | N7: 変状 番号 | O7: 3
B9: 変状 部位 | C9: 対象 箇所 | D9: 覆工・坑門 | M9: 変状 部位 | N9: 対象 箇所 | O9: 覆工・坑門
C11: 部位 区分 | D11: 水平打ち継ぎ目（左側） | N11: 部位 区分 | O11: 水平打ち継ぎ目（右側）
B13: 変状区分 | D13: 材質劣化 | M13: 変状区分 | O13: 材質劣化
B14: 変状種類 | D14: うき・はく離 | M14: 変状種類 | O14: うき・はく離
B15: 健全性 | C15: 応急措置前 | M15: 健全性 | N15: 応急措置前
C16: 応急措置後 | E16: Ⅱb | N16: 応急措置後 | P16: Ⅱb
B17: 変状の発生範囲の規模 | E17: 0.15m×1.05m | M17: 変状の発生範囲の規模 | P17: 0.15m×0.40m
B18: 前回定期点検時の状態 | E18: - | M18: 前回定期点検時の状態 | P18: -
B19: 調査方針 | M19: 調査方針
B20: 対策履歴 | H20: 実施状況（実施日） | M20: 対策履歴 | S20: 実施状況（実施日）
B21: メモ | D21: うき | M21: メモ | O21: うき
B22: 写真 番号 | C22: 覆工 スパン 番号 | D22: S37 | M22: 写真 番号 | N22: 覆工 スパン 番号 | O22: S37
C24: 変状 番号 | D24: 4 | N24: 変状 番号 | O24: 5
B26: 変状 部位 | C26: 対象 箇所 | D26: 覆工・坑門 | M26: 変状 部位 | N26: 対象 箇所 | O26: 覆工・坑門
C28: 部位 区分 | D28: アーチ（右側） | N28: 部位 区分 | O28: アーチ（天端）
B30: 変状区分 | D30: 材質劣化 | M30: 変状区分 | O30: 材質劣化
B31: 変状種類 | D31: うき・はく離 | M31: 変状種類 | O31: 補強・補修材の破損
B32: 健全性 | C32: 応急措置前 | M32: 健全性 | N32: 応急措置前
C33: 応急措置後 | E33: Ⅱb | N33: 応急措置後 | P33: Ⅲ
B34: 変状の発生範囲の規模 | E34: 0.40m×0.50m | M34: 変状の発生範囲の規模 | P34: 7.20m×0.45m
B35: 前回定期点検時の状態 | E35: 豆板 0.4m×0.5m | M35: 前回定期点検時の状態 | P35: 導水工破損 0.4m×0.43m
B36: 調査方針 | M36: 調査方針
B37: 対策履歴 | H37: 実施状況（実施日） | M37: 対策履歴 | S37: 実施状況（実施日）
B38: メモ | D38: 豆板 | M38: メモ | O38: 樋の破損・アンカー腐食(全数)
C39: ※ 健全性（応急措置後）の判定区分Ⅱ～Ⅳについて添付すること。また、点検前に 実施された措置によりⅠと判定された箇所も添付すること。 | N39: ※ 変状の発生範囲の規模とは、対策を行う際に参考となる変状の長さや面積をいう。
N40: ※ 応急措置を実施しないで判定した変状の健全性は、健全性の応急措置後の欄に記入すること。
C41: ※ たたき落としを実施した場合は、実施後の写真を添付すること。 | N41: ※ 変状の発生範囲の規模は、面積・寸法を記載すること。
C42: ※ 附属物の取付状態に関する異常写真は別途、様式D-1-2でとりまとめること。 | N42: (ひび割れ幅のみmmとし、その他をm表記とする)
C43: ※ 変状数に準じてシートを追加すること。（１シートに１ページとすること。） | N43: ※ 構造用鋼材以外の異物に伴ううき・はく離については、メモ欄に異物の概要を記入すること。

Sheet 様式D-1-1(トンネル様式2P028)
B2: ■定期点検記録様式 変状写真台帳 | Y2: Ⅰ
B3: フリガナ | D3: チャウスヤマトンネル | H3: 路線名 | J3: 主要道路防府環状線 | M3: 定期点検業者 | P3: セントラルコンサルタント株式会社 | S3: 定期点検年月日 | U3: 44337 | Y3: Ⅱ
B4: 名 称 | D4: 茶臼山トンネル | H4: 管理者名 | J4: 山口県防府土木建築事務所 | M4: 定期点検者名 | P4: 鹿子嶋 康博 | Y4: Ⅲ
B5: 写真 番号 | C5: 覆工 スパン 番号 | D5: S38 | M5: 写真 番号 | N5: 覆工 スパン 番号 | O5: S38 | Y5: Ⅳ
C7: 変状 番号 | D7: 1 | N7: 変状 番号 | O7: 2
B9: 変状 部位 | C9: 対象 箇所 | D9: 覆工・坑門 | M9: 変状 部位 | N9: 対象 箇所 | O9: 覆工・坑門
C11: 部位 区分 | D11: 水平打ち継ぎ目（左側） | N11: 部位 区分 | O11: 水平打ち継ぎ目（左側）
B13: 変状区分 | D13: 材質劣化 | M13: 変状区分 | O13: 材質劣化
B14: 変状種類 | D14: うき・はく離 | M14: 変状種類 | O14: うき・はく離
B15: 健全性 | C15: 応急措置前 | M15: 健全性 | N15: 応急措置前
C16: 応急措置後 | E16: Ⅱb | N16: 応急措置後 | P16: Ⅱb
B17: 変状の発生範囲の規模 | E17: 0.10m×0.80m | M17: 変状の発生範囲の規模 | P17: 0.15m×1.00m
B18: 前回定期点検時の状態 | E18: - | M18: 前回定期点検時の状態 | P18: -
B19: 調査方針 | M19: 調査方針
B20: 対策履歴 | H20: 実施状況（実施日） | M20: 対策履歴 | S20: 実施状況（実施日）
B21: メモ | D21: 豆板 | M21: メモ | O21: うき
B22: 写真 番号 | C22: 覆工 スパン 番号 | D22: S38 | M22: 写真 番号 | N22: 覆工 スパン 番号 | O22: S38
C24: 変状 番号 | D24: 3 | N24: 変状 番号 | O24: 4
B26: 変状 部位 | C26: 対象 箇所 | D26: 覆工・坑門 | M26: 変状 部位 | N26: 対象 箇所 | O26: 覆工・坑門
C28: 部位 区分 | D28: 水平打ち継ぎ目（左側） | N28: 部位 区分 | O28: 水平打ち継ぎ目（左側）
B30: 変状区分 | D30: 材質劣化 | M30: 変状区分 | O30: 材質劣化
B31: 変状種類 | D31: うき・はく離 | M31: 変状種類 | O31: うき・はく離
B32: 健全性 | C32: 応急措置前 | M32: 健全性 | N32: 応急措置前
C33: 応急措置後 | E33: Ⅱb | N33: 応急措置後 | P33: Ⅱb
B34: 変状の発生範囲の規模 | E34: 0.15m×0.20m | M34: 変状の発生範囲の規模 | P34: 0.15m×1.10m
B35: 前回定期点検時の状態 | E35: - | M35: 前回定期点検時の状態 | P35: -
B36: 調査方針 | M36: 調査方針
B37: 対策履歴 | H37: 実施状況（実施日） | M37: 対策履歴 | S37: 実施状況（実施日）
B38: メモ | D38: うき | M38: メモ | O38: うき
C39: ※ 健全性（応急措置後）の判定区分Ⅱ～Ⅳについて添付すること。また、点検前に 実施された措置によりⅠと判定された箇所も添付すること。 | N39: ※ 変状の発生範囲の規模とは、対策を行う際に参考となる変状の長さや面積をいう。
N40: ※ 応急措置を実施しないで判定した変状の健全性は、健全性の応急措置後の欄に記入すること。
C41: ※ たたき落としを実施した場合は、実施後の写真を添付すること。 | N41: ※ 変状の発生範囲の規模は、面積・寸法を記載すること。
C42: ※ 附属物の取付状態に関する異常写真は別途、様式D-1-2でとりまとめること。 | N42: (ひび割れ幅のみmmとし、その他をm表記とする)
C43: ※ 変状数に準じてシートを追加すること。（１シートに１ページとすること。） | N43: ※ 構造用鋼材以外の異物に伴ううき・はく離については、メモ欄に異物の概要を記入すること。

Sheet 様式D-1-1(トンネル様式2P029)
B2: ■定期点検記録様式 変状写真台帳 | Y2: Ⅰ
B3: フリガナ | D3: チャウスヤマトンネル | H3: 路線名 | J3: 主要道路防府環状線 | M3: 定期点検業者 | P3: セントラルコンサルタント株式会社 | S3: 定期点検年月日 | U3: 44337 | Y3: Ⅱ
B4: 名 称 | D4: 茶臼山トンネル | H4: 管理者名 | J4: 山口県防府土木建築事務所 | M4: 定期点検者名 | P4: 鹿子嶋 康博 | Y4: Ⅲ
B5: 写真 番号 | C5: 覆工 スパン 番号 | D5: S38 | M5: 写真 番号 | N5: 覆工 スパン 番号 | O5: S42 | Y5: Ⅳ
C7: 変状 番号 | D7: 5 | N7: 変状 番号 | O7: 1
B9: 変状 部位 | C9: 対象 箇所 | D9: 覆工・坑門 | M9: 変状 部位 | N9: 対象 箇所 | O9: 覆工・坑門
C11: 部位 区分 | D11: アーチ（左側） | N11: 部位 区分 | O11: アーチ（天端）
B13: 変状区分 | D13: 材質劣化 | M13: 変状区分 | O13: 材質劣化
B14: 変状種類 | D14: うき・はく離 | M14: 変状種類 | O14: 補強・補修材の破損
B15: 健全性 | C15: 応急措置前 | M15: 健全性 | N15: 応急措置前
C16: 応急措置後 | E16: Ⅱa | N16: 応急措置後 | P16: Ⅲ
B17: 変状の発生範囲の規模 | E17: 0.30m×0.40m | M17: 変状の発生範囲の規模 | P17: 6.80m×0.20m
B18: 前回定期点検時の状態 | E18: うき 0.3m×0.6m | M18: 前回定期点検時の状態 | P18: 導水工破損 2.6m×0.08m
B19: 調査方針 | M19: 調査方針
B20: 対策履歴 | H20: 実施状況（実施日） | M20: 対策履歴 | S20: 実施状況（実施日）
B21: メモ | D21: 豆板 | M21: メモ | O21: 樋の欠損・アンカー腐食(全数)、一部アンカー脱落
B22: 写真 番号 | C22: 覆工 スパン 番号 | D22: S43 | M22: 写真 番号 | N22: 覆工 スパン 番号 | O22: S43
C24: 変状 番号 | D24: 1 | N24: 変状 番号 | O24: 2
B26: 変状 部位 | C26: 対象 箇所 | D26: 覆工・坑門 | M26: 変状 部位 | N26: 対象 箇所 | O26: 覆工・坑門
C28: 部位 区分 | D28: アーチ（天端） | N28: 部位 区分 | O28: アーチ（天端）
B30: 変状区分 | D30: 材質劣化 | M30: 変状区分 | O30: 漏水
B31: 変状種類 | D31: うき・はく離 | M31: 変状種類 | O31: 漏水
B32: 健全性 | C32: 応急措置前 | M32: 健全性 | N32: 応急措置前
C33: 応急措置後 | E33: Ⅱb | N33: 応急措置後 | P33: Ⅰ
B34: 変状の発生範囲の規模 | E34: 0.40m×0.35m | M34: 変状の発生範囲の規模 | P34: 6.50m×3.60m
B35: 前回定期点検時の状態 | E35: うき 0.5m×0.6m | M35: 前回定期点検時の状態 | P35: にじみ
B36: 調査方針 | M36: 調査方針
B37: 対策履歴 | H37: 実施状況（実施日） | M37: 対策履歴 | S37: 実施状況（実施日）
B38: メモ | D38: はく落 | M38: メモ | O38: 漏水跡
C39: ※ 健全性（応急措置後）の判定区分Ⅱ～Ⅳについて添付すること。また、点検前に 実施された措置によりⅠと判定された箇所も添付すること。 | N39: ※ 変状の発生範囲の規模とは、対策を行う際に参考となる変状の長さや面積をいう。
N40: ※ 応急措置を実施しないで判定した変状の健全性は、健全性の応急措置後の欄に記入すること。
C41: ※ たたき落としを実施した場合は、実施後の写真を添付すること。 | N41: ※ 変状の発生範囲の規模は、面積・寸法を記載すること。
C42: ※ 附属物の取付状態に関する異常写真は別途、様式D-1-2でとりまとめること。 | N42: (ひび割れ幅のみmmとし、その他をm表記とする)
C43: ※ 変状数に準じてシートを追加すること。（１シートに１ページとすること。） | N43: ※ 構造用鋼材以外の異物に伴ううき・はく離については、メモ欄に異物の概要を記入すること。

Sheet 様式D-1-1(トンネル様式2P030)
B2: ■定期点検記録様式 変状写真台帳 | Y2: Ⅰ
B3: フリガナ | D3: チャウスヤマトンネル | H3: 路線名 | J3: 主要道路防府環状線 | M3: 定期点検業者 | P3: セントラルコンサルタント株式会社 | S3: 定期点検年月日 | U3: 44337 | Y3: Ⅱ
B4: 名 称 | D4: 茶臼山トンネル | H4: 管理者名 | J4: 山口県防府土木建築事務所 | M4: 定期点検者名 | P4: 鹿子嶋 康博 | Y4: Ⅲ
B5: 写真 番号 | C5: 覆工 スパン 番号 | D5: S43 | M5: 写真 番号 | N5: 覆工 スパン 番号 | O5: S44 | Y5: Ⅳ
C7: 変状 番号 | D7: 3 | N7: 変状 番号 | O7: 1
B9: 変状 部位 | C9: 対象 箇所 | D9: 路面 | M9: 変状 部位 | N9: 対象 箇所 | O9: 覆工・坑門
C11: 部位 区分 | D11: 側溝 | N11: 部位 区分 | O11: 水平打ち継ぎ目（右側）
B13: 変状区分 | D13: 漏水 | M13: 変状区分 | O13: 材質劣化
B14: 変状種類 | D14: その他 | M14: 変状種類 | O14: うき・はく離
B15: 健全性 | C15: 応急措置前 | M15: 健全性 | N15: 応急措置前
C16: 応急措置後 | E16: Ⅱb | N16: 応急措置後 | P16: Ⅱb
B17: 変状の発生範囲の規模 | E17: 0.55m×5.90m、t=20㎜ | M17: 変状の発生範囲の規模 | P17: 0.15m×0.50m
B18: 前回定期点検時の状態 | E18: 沈砂 t=20mm | M18: 前回定期点検時の状態 | P18: -
B19: 調査方針 | M19: 調査方針
B20: 対策履歴 | H20: 実施状況（実施日） | M20: 対策履歴 | S20: 実施状況（実施日）
B21: メモ | D21: 土砂堆積(滞水跡) | M21: メモ | O21: うき
B22: 写真 番号 | C22: 覆工 スパン 番号 | D22: S44 | M22: 写真 番号 | N22: 覆工 スパン 番号 | O22: S45
C24: 変状 番号 | D24: 2 | N24: 変状 番号 | O24: 1
B26: 変状 部位 | C26: 対象 箇所 | D26: 覆工・坑門 | M26: 変状 部位 | N26: 対象 箇所 | O26: 覆工・坑門
C28: 部位 区分 | D28: アーチ（天端） | N28: 部位 区分 | O28: 水平打ち継ぎ目（左側）
B30: 変状区分 | D30: 材質劣化 | M30: 変状区分 | O30: 材質劣化
B31: 変状種類 | D31: 補強・補修材の破損 | M31: 変状種類 | O31: うき・はく離
B32: 健全性 | C32: 応急措置前 | M32: 健全性 | N32: 応急措置前
C33: 応急措置後 | E33: Ⅲ | N33: 応急措置後 | P33: Ⅱb
B34: 変状の発生範囲の規模 | E34: 2.20m×0.15m | M34: 変状の発生範囲の規模 | P34: 0.15m×0.45m
B35: 前回定期点検時の状態 | E35: 導水工破損 0.1m×0.17m | M35: 前回定期点検時の状態 | P35: -
B36: 調査方針 | M36: 調査方針
B37: 対策履歴 | H37: 実施状況（実施日） | M37: 対策履歴 | S37: 実施状況（実施日）
B38: メモ | D38: 樋の欠損・アンカー腐食(全数) | M38: メモ | O38: うき
C39: ※ 健全性（応急措置後）の判定区分Ⅱ～Ⅳについて添付すること。また、点検前に 実施された措置によりⅠと判定された箇所も添付すること。 | N39: ※ 変状の発生範囲の規模とは、対策を行う際に参考となる変状の長さや面積をいう。
N40: ※ 応急措置を実施しないで判定した変状の健全性は、健全性の応急措置後の欄に記入すること。
C41: ※ たたき落としを実施した場合は、実施後の写真を添付すること。 | N41: ※ 変状の発生範囲の規模は、面積・寸法を記載すること。
C42: ※ 附属物の取付状態に関する異常写真は別途、様式D-1-2でとりまとめること。 | N42: (ひび割れ幅のみmmとし、その他をm表記とする)
C43: ※ 変状数に準じてシートを追加すること。（１シートに１ページとすること。） | N43: ※ 構造用鋼材以外の異物に伴ううき・はく離については、メモ欄に異物の概要を記入すること。

Sheet 様式D-1-1(トンネル様式2P031)
B2: ■定期点検記録様式 変状写真台帳 | Y2: Ⅰ
B3: フリガナ | D3: チャウスヤマトンネル | H3: 路線名 | J3: 主要道路防府環状線 | M3: 定期点検業者 | P3: セントラルコンサルタント株式会社 | S3: 定期点検年月日 | U3: 44337 | Y3: Ⅱ
B4: 名 称 | D4: 茶臼山トンネル | H4: 管理者名 | J4: 山口県防府土木建築事務所 | M4: 定期点検者名 | P4: 鹿子嶋 康博 | Y4: Ⅲ
B5: 写真 番号 | C5: 覆工 スパン 番号 | D5: S47 | M5: 写真 番号 | N5: 覆工 スパン 番号 | O5: S47 | Y5: Ⅳ
C7: 変状 番号 | D7: 1 | N7: 変状 番号 | O7: 2
B9: 変状 部位 | C9: 対象 箇所 | D9: 覆工・坑門 | M9: 変状 部位 | N9: 対象 箇所 | O9: 覆工・坑門
C11: 部位 区分 | D11: 水平打ち継ぎ目（右側） | N11: 部位 区分 | O11: 水平打ち継ぎ目（右側）
B13: 変状区分 | D13: 材質劣化 | M13: 変状区分 | O13: 材質劣化
B14: 変状種類 | D14: うき・はく離 | M14: 変状種類 | O14: うき・はく離
B15: 健全性 | C15: 応急措置前 | M15: 健全性 | N15: 応急措置前
C16: 応急措置後 | E16: Ⅱb | N16: 応急措置後 | P16: Ⅱb
B17: 変状の発生範囲の規模 | E17: 0.15m×0.60m | M17: 変状の発生範囲の規模 | P17: 0.15m×0.35m
B18: 前回定期点検時の状態 | E18: - | M18: 前回定期点検時の状態 | P18: -
B19: 調査方針 | M19: 調査方針
B20: 対策履歴 | H20: 実施状況（実施日） | M20: 対策履歴 | S20: 実施状況（実施日）
B21: メモ | D21: うき | M21: メモ | O21: うき
B22: 写真 番号 | C22: 覆工 スパン 番号 | D22: S47 | M22: 写真 番号 | N22: 覆工 スパン 番号 | O22: S49
C24: 変状 番号 | D24: 3 | N24: 変状 番号 | O24: 1
B26: 変状 部位 | C26: 対象 箇所 | D26: 覆工・坑門 | M26: 変状 部位 | N26: 対象 箇所 | O26: 覆工・坑門
C28: 部位 区分 | D28: 水平打ち継ぎ目（右側） | N28: 部位 区分 | O28: アーチ（左側）
B30: 変状区分 | D30: 材質劣化 | M30: 変状区分 | O30: 材質劣化
B31: 変状種類 | D31: うき・はく離 | M31: 変状種類 | O31: うき・はく離
B32: 健全性 | C32: 応急措置前 | M32: 健全性 | N32: 応急措置前
C33: 応急措置後 | E33: Ⅱb | N33: 応急措置後 | P33: Ⅱb
B34: 変状の発生範囲の規模 | E34: 0.15m×0.50m | M34: 変状の発生範囲の規模 | P34: 0.30m×0.40m
B35: 前回定期点検時の状態 | E35: - | M35: 前回定期点検時の状態 | P35: 豆板 0.2m×0.4m
B36: 調査方針 | M36: 調査方針
B37: 対策履歴 | H37: 実施状況（実施日） | M37: 対策履歴 | S37: 実施状況（実施日）
B38: メモ | D38: うき | M38: メモ | O38: 豆板
C39: ※ 健全性（応急措置後）の判定区分Ⅱ～Ⅳについて添付すること。また、点検前に 実施された措置によりⅠと判定された箇所も添付すること。 | N39: ※ 変状の発生範囲の規模とは、対策を行う際に参考となる変状の長さや面積をいう。
N40: ※ 応急措置を実施しないで判定した変状の健全性は、健全性の応急措置後の欄に記入すること。
C41: ※ たたき落としを実施した場合は、実施後の写真を添付すること。 | N41: ※ 変状の発生範囲の規模は、面積・寸法を記載すること。
C42: ※ 附属物の取付状態に関する異常写真は別途、様式D-1-2でとりまとめること。 | N42: (ひび割れ幅のみmmとし、その他をm表記とする)
C43: ※ 変状数に準じてシートを追加すること。（１シートに１ページとすること。） | N43: ※ 構造用鋼材以外の異物に伴ううき・はく離については、メモ欄に異物の概要を記入すること。

Sheet 様式D-1-1(トンネル様式2P032)
B2: ■定期点検記録様式 変状写真台帳 | Y2: Ⅰ
B3: フリガナ | D3: チャウスヤマトンネル | H3: 路線名 | J3: 主要道路防府環状線 | M3: 定期点検業者 | P3: セントラルコンサルタント株式会社 | S3: 定期点検年月日 | U3: 44337 | Y3: Ⅱ
B4: 名 称 | D4: 茶臼山トンネル | H4: 管理者名 | J4: 山口県防府土木建築事務所 | M4: 定期点検者名 | P4: 鹿子嶋 康博 | Y4: Ⅲ
B5: 写真 番号 | C5: 覆工 スパン 番号 | D5: S49 | M5: 写真 番号 | N5: 覆工 スパン 番号 | O5: S50 | Y5: Ⅳ
C7: 変状 番号 | D7: 2 | N7: 変状 番号 | O7: 1
B9: 変状 部位 | C9: 対象 箇所 | D9: 覆工・坑門 | M9: 変状 部位 | N9: 対象 箇所 | O9: 覆工・坑門
C11: 部位 区分 | D11: 横断目地（天端） | N11: 部位 区分 | O11: 水平打ち継ぎ目（左側）
B13: 変状区分 | D13: 材質劣化 | M13: 変状区分 | O13: 材質劣化
B14: 変状種類 | D14: うき・はく離 | M14: 変状種類 | O14: うき・はく離
B15: 健全性 | C15: 応急措置前 | M15: 健全性 | N15: 応急措置前
C16: 応急措置後 | E16: Ⅱa | N16: 応急措置後 | P16: Ⅱb
B17: 変状の発生範囲の規模 | E17: 0.15m×0.05m | M17: 変状の発生範囲の規模 | P17: 0.15m×1.60m
B18: 前回定期点検時の状態 | E18: - | M18: 前回定期点検時の状態 | P18: -
B19: 調査方針 | M19: 調査方針
B20: 対策履歴 | H20: 実施状況（実施日） | M20: 対策履歴 | S20: 実施状況（実施日）
B21: メモ | D21: うき | M21: メモ | O21: うき
B22: 写真 番号 | C22: 覆工 スパン 番号 | D22: S50 | M22: 写真 番号 | N22: 覆工 スパン 番号 | O22: S51
C24: 変状 番号 | D24: 2 | N24: 変状 番号 | O24: 1
B26: 変状 部位 | C26: 対象 箇所 | D26: 覆工・坑門 | M26: 変状 部位 | N26: 対象 箇所 | O26: 覆工・坑門
C28: 部位 区分 | D28: 水平打ち継ぎ目（右側） | N28: 部位 区分 | O28: 水平打ち継ぎ目（右側）
B30: 変状区分 | D30: 材質劣化 | M30: 変状区分 | O30: 材質劣化
B31: 変状種類 | D31: うき・はく離 | M31: 変状種類 | O31: うき・はく離
B32: 健全性 | C32: 応急措置前 | M32: 健全性 | N32: 応急措置前
C33: 応急措置後 | E33: Ⅱb | N33: 応急措置後 | P33: Ⅱb
B34: 変状の発生範囲の規模 | E34: 0.15m×0.15m | M34: 変状の発生範囲の規模 | P34: 0.15m×1.90m
B35: 前回定期点検時の状態 | E35: - | M35: 前回定期点検時の状態 | P35: -
B36: 調査方針 | M36: 調査方針
B37: 対策履歴 | H37: 実施状況（実施日） | M37: 対策履歴 | S37: 実施状況（実施日）
B38: メモ | D38: うき | M38: メモ | O38: うき
C39: ※ 健全性（応急措置後）の判定区分Ⅱ～Ⅳについて添付すること。また、点検前に 実施された措置によりⅠと判定された箇所も添付すること。 | N39: ※ 変状の発生範囲の規模とは、対策を行う際に参考となる変状の長さや面積をいう。
N40: ※ 応急措置を実施しないで判定した変状の健全性は、健全性の応急措置後の欄に記入すること。
C41: ※ たたき落としを実施した場合は、実施後の写真を添付すること。 | N41: ※ 変状の発生範囲の規模は、面積・寸法を記載すること。
C42: ※ 附属物の取付状態に関する異常写真は別途、様式D-1-2でとりまとめること。 | N42: (ひび割れ幅のみmmとし、その他をm表記とする)
C43: ※ 変状数に準じてシートを追加すること。（１シートに１ページとすること。） | N43: ※ 構造用鋼材以外の異物に伴ううき・はく離については、メモ欄に異物の概要を記入すること。

Sheet 様式D-1-1(トンネル様式2P033)
B2: ■定期点検記録様式 変状写真台帳 | Y2: Ⅰ
B3: フリガナ | D3: チャウスヤマトンネル | H3: 路線名 | J3: 主要道路防府環状線 | M3: 定期点検業者 | P3: セントラルコンサルタント株式会社 | S3: 定期点検年月日 | U3: 44337 | Y3: Ⅱ
B4: 名 称 | D4: 茶臼山トンネル | H4: 管理者名 | J4: 山口県防府土木建築事務所 | M4: 定期点検者名 | P4: 鹿子嶋 康博 | Y4: Ⅲ
B5: 写真 番号 | C5: 覆工 スパン 番号 | D5: S51 | M5: 写真 番号 | N5: 覆工 スパン 番号 | O5: S53 | Y5: Ⅳ
C7: 変状 番号 | D7: 2 | N7: 変状 番号 | O7: 1
B9: 変状 部位 | C9: 対象 箇所 | D9: 覆工・坑門 | M9: 変状 部位 | N9: 対象 箇所 | O9: 覆工・坑門
C11: 部位 区分 | D11: 横断目地（天端） | N11: 部位 区分 | O11: アーチ（天端）
B13: 変状区分 | D13: 材質劣化 | M13: 変状区分 | O13: 材質劣化
B14: 変状種類 | D14: うき・はく離 | M14: 変状種類 | O14: うき・はく離
B15: 健全性 | C15: 応急措置前 | M15: 健全性 | N15: 応急措置前
C16: 応急措置後 | E16: Ⅱa | N16: 応急措置後 | P16: Ⅱa
B17: 変状の発生範囲の規模 | E17: 0.30m×0.10m | M17: 変状の発生範囲の規模 | P17: 0.40m×0.50m
B18: 前回定期点検時の状態 | E18: うき 0.6m×0.1m | M18: 前回定期点検時の状態 | P18: うき 0.4m×0.5m
B19: 調査方針 | M19: 調査方針
B20: 対策履歴 | H20: 実施状況（実施日） | M20: 対策履歴 | S20: 実施状況（実施日）
B21: メモ | D21: うき | M21: メモ | O21: 補修跡うき
B22: 写真 番号 | C22: 覆工 スパン 番号 | D22: S54 | M22: 写真 番号 | N22: 覆工 スパン 番号 | O22: S54
C24: 変状 番号 | D24: 1 | N24: 変状 番号 | O24: 2
B26: 変状 部位 | C26: 対象 箇所 | D26: 覆工・坑門 | M26: 変状 部位 | N26: 対象 箇所 | O26: 覆工・坑門
C28: 部位 区分 | D28: アーチ（天端） | N28: 部位 区分 | O28: 横断目地（左側）
B30: 変状区分 | D30: 漏水 | M30: 変状区分 | O30: 漏水
B31: 変状種類 | D31: 漏水 | M31: 変状種類 | O31: 漏水
B32: 健全性 | C32: 応急措置前 | M32: 健全性 | N32: 応急措置前
C33: 応急措置後 | E33: Ⅰ | N33: 応急措置後 | P33: Ⅱb
B34: 変状の発生範囲の規模 | E34: 6.80m×0.50m | M34: 変状の発生範囲の規模 | P34: 2.90m×0.50m
B35: 前回定期点検時の状態 | E35: 滴水 | M35: 前回定期点検時の状態 | P35: -
B36: 調査方針 | M36: 調査方針
B37: 対策履歴 | H37: 実施状況（実施日） | M37: 対策履歴 | S37: 実施状況（実施日）
B38: メモ | D38: 漏水跡 | M38: メモ | O38: 線導水からのにじみ
C39: ※ 健全性（応急措置後）の判定区分Ⅱ～Ⅳについて添付すること。また、点検前に 実施された措置によりⅠと判定された箇所も添付すること。 | N39: ※ 変状の発生範囲の規模とは、対策を行う際に参考となる変状の長さや面積をいう。
N40: ※ 応急措置を実施しないで判定した変状の健全性は、健全性の応急措置後の欄に記入すること。
C41: ※ たたき落としを実施した場合は、実施後の写真を添付すること。 | N41: ※ 変状の発生範囲の規模は、面積・寸法を記載すること。
C42: ※ 附属物の取付状態に関する異常写真は別途、様式D-1-2でとりまとめること。 | N42: (ひび割れ幅のみmmとし、その他をm表記とする)
C43: ※ 変状数に準じてシートを追加すること。（１シートに１ページとすること。） | N43: ※ 構造用鋼材以外の異物に伴ううき・はく離については、メモ欄に異物の概要を記入すること。

Sheet 様式D-1-1(トンネル様式2P034)
B2: ■定期点検記録様式 変状写真台帳 | Y2: Ⅰ
B3: フリガナ | D3: チャウスヤマトンネル | H3: 路線名 | J3: 主要道路防府環状線 | M3: 定期点検業者 | P3: セントラルコンサルタント株式会社 | S3: 定期点検年月日 | U3: 44337 | Y3: Ⅱ
B4: 名 称 | D4: 茶臼山トンネル | H4: 管理者名 | J4: 山口県防府土木建築事務所 | M4: 定期点検者名 | P4: 鹿子嶋 康博 | Y4: Ⅲ
B5: 写真 番号 | C5: 覆工 スパン 番号 | D5: S54 | M5: 写真 番号 | N5: 覆工 スパン 番号 | O5: S54 | Y5: Ⅳ
C7: 変状 番号 | D7: 3 | N7: 変状 番号 | O7: 4
B9: 変状 部位 | C9: 対象 箇所 | D9: 覆工・坑門 | M9: 変状 部位 | N9: 対象 箇所 | O9: 覆工・坑門
C11: 部位 区分 | D11: アーチ（天端） | N11: 部位 区分 | O11: 横断目地（右側）
B13: 変状区分 | D13: 材質劣化 | M13: 変状区分 | O13: 漏水
B14: 変状種類 | D14: うき・はく離 | M14: 変状種類 | O14: 補強・補修材の破損
B15: 健全性 | C15: 応急措置前 | M15: 健全性 | N15: 応急措置前
C16: 応急措置後 | E16: Ⅱa | N16: 応急措置後 | P16: Ⅱa
B17: 変状の発生範囲の規模 | E17: 0.20m×0.20m | M17: 変状の発生範囲の規模 | P17: 0.30m×0.15m
B18: 前回定期点検時の状態 | E18: - | M18: 前回定期点検時の状態 | P18: 導水工破損 0.4m×0.07m
B19: 調査方針 | M19: 調査方針
B20: 対策履歴 | H20: 実施状況（実施日） | M20: 対策履歴 | S20: 実施状況（実施日）
B21: メモ | D21: 補修跡うき | M21: メモ | O21: 線導水の破損(破損箇所からのにじみ)
B22: 写真 番号 | C22: 覆工 スパン 番号 | D22: S56 | M22: 写真 番号 | N22: 覆工 スパン 番号 | O22: S56
C24: 変状 番号 | D24: 1 | N24: 変状 番号 | O24: 2
B26: 変状 部位 | C26: 対象 箇所 | D26: 覆工・坑門 | M26: 変状 部位 | N26: 対象 箇所 | O26: 覆工・坑門
C28: 部位 区分 | D28: アーチ（天端） | N28: 部位 区分 | O28: アーチ（右側）
B30: 変状区分 | D30: 漏水 | M30: 変状区分 | O30: 材質劣化
B31: 変状種類 | D31: 漏水 | M31: 変状種類 | O31: うき・はく離
B32: 健全性 | C32: 応急措置前 | M32: 健全性 | N32: 応急措置前
C33: 応急措置後 | E33: Ⅱb | N33: 応急措置後 | P33: Ⅱb
B34: 変状の発生範囲の規模 | E34: 6.10m×1.40m | M34: 変状の発生範囲の規模 | P34: 0.20m×0.50m
B35: 前回定期点検時の状態 | E35: にじみ | M35: 前回定期点検時の状態 | P35: 豆板 0.2m×0.5m
B36: 調査方針 | M36: 調査方針
B37: 対策履歴 | H37: 実施状況（実施日） | M37: 対策履歴 | S37: 実施状況（実施日）
B38: メモ | D38: にじみ(FRPメッシュ背面) | M38: メモ | O38: 豆板
C39: ※ 健全性（応急措置後）の判定区分Ⅱ～Ⅳについて添付すること。また、点検前に 実施された措置によりⅠと判定された箇所も添付すること。 | N39: ※ 変状の発生範囲の規模とは、対策を行う際に参考となる変状の長さや面積をいう。
N40: ※ 応急措置を実施しないで判定した変状の健全性は、健全性の応急措置後の欄に記入すること。
C41: ※ たたき落としを実施した場合は、実施後の写真を添付すること。 | N41: ※ 変状の発生範囲の規模は、面積・寸法を記載すること。
C42: ※ 附属物の取付状態に関する異常写真は別途、様式D-1-2でとりまとめること。 | N42: (ひび割れ幅のみmmとし、その他をm表記とする)
C43: ※ 変状数に準じてシートを追加すること。（１シートに１ページとすること。） | N43: ※ 構造用鋼材以外の異物に伴ううき・はく離については、メモ欄に異物の概要を記入すること。

Sheet 様式D-1-1(トンネル様式2P035)
B2: ■定期点検記録様式 変状写真台帳 | Y2: Ⅰ
B3: フリガナ | D3: チャウスヤマトンネル | H3: 路線名 | J3: 主要道路防府環状線 | M3: 定期点検業者 | P3: セントラルコンサルタント株式会社 | S3: 定期点検年月日 | U3: 44337 | Y3: Ⅱ
B4: 名 称 | D4: 茶臼山トンネル | H4: 管理者名 | J4: 山口県防府土木建築事務所 | M4: 定期点検者名 | P4: 鹿子嶋 康博 | Y4: Ⅲ
B5: 写真 番号 | C5: 覆工 スパン 番号 | D5: S56 | M5: 写真 番号 | N5: 覆工 スパン 番号 | O5: S57 | Y5: Ⅳ
C7: 変状 番号 | D7: 3 | N7: 変状 番号 | O7: 1
B9: 変状 部位 | C9: 対象 箇所 | D9: 覆工・坑門 | M9: 変状 部位 | N9: 対象 箇所 | O9: 覆工・坑門
C11: 部位 区分 | D11: アーチ（右側） | N11: 部位 区分 | O11: 水平打ち継ぎ目（左側）
B13: 変状区分 | D13: 材質劣化 | M13: 変状区分 | O13: 材質劣化
B14: 変状種類 | D14: うき・はく離 | M14: 変状種類 | O14: うき・はく離
B15: 健全性 | C15: 応急措置前 | M15: 健全性 | N15: 応急措置前
C16: 応急措置後 | E16: Ⅱa | N16: 応急措置後 | P16: Ⅱb
B17: 変状の発生範囲の規模 | E17: 0.20m×0.10m | M17: 変状の発生範囲の規模 | P17: 0.15m×0.35m
B18: 前回定期点検時の状態 | E18: - | M18: 前回定期点検時の状態 | P18: -
B19: 調査方針 | M19: 調査方針
B20: 対策履歴 | H20: 実施状況（実施日） | M20: 対策履歴 | S20: 実施状況（実施日）
B21: メモ | D21: うき | M21: メモ | O21: うき
B22: 写真 番号 | C22: 覆工 スパン 番号 | D22: S57 | M22: 写真 番号 | N22: 覆工 スパン 番号 | O22: PE
C24: 変状 番号 | D24: 2 | N24: 変状 番号 | O24: 1
B26: 変状 部位 | C26: 対象 箇所 | D26: 覆工・坑門 | M26: 変状 部位 | N26: 対象 箇所 | O26: 覆工・坑門
C28: 部位 区分 | D28: 横断目地（右側） | N28: 部位 区分 | O28: 面壁・妻壁等
B30: 変状区分 | D30: 漏水 | M30: 変状区分 | O30: 漏水
B31: 変状種類 | D31: 漏水 | M31: 変状種類 | O31: 漏水
B32: 健全性 | C32: 応急措置前 | M32: 健全性 | N32: 応急措置前
C33: 応急措置後 | E33: Ⅱb | N33: 応急措置後 | P33: Ⅱb
B34: 変状の発生範囲の規模 | E34: 4.50m×0.50m | M34: 変状の発生範囲の規模 | P34: 8.30m×9.00m
B35: 前回定期点検時の状態 | E35: にじみ | M35: 前回定期点検時の状態 | P35: にじみ
B36: 調査方針 | M36: 調査方針
B37: 対策履歴 | H37: 実施状況（実施日） | M37: 対策履歴 | S37: 実施状況（実施日）
B38: メモ | D38: にじみ | M38: メモ | O38: にじみ
C39: ※ 健全性（応急措置後）の判定区分Ⅱ～Ⅳについて添付すること。また、点検前に 実施された措置によりⅠと判定された箇所も添付すること。 | N39: ※ 変状の発生範囲の規模とは、対策を行う際に参考となる変状の長さや面積をいう。
N40: ※ 応急措置を実施しないで判定した変状の健全性は、健全性の応急措置後の欄に記入すること。
C41: ※ たたき落としを実施した場合は、実施後の写真を添付すること。 | N41: ※ 変状の発生範囲の規模は、面積・寸法を記載すること。
C42: ※ 附属物の取付状態に関する異常写真は別途、様式D-1-2でとりまとめること。 | N42: (ひび割れ幅のみmmとし、その他をm表記とする)
C43: ※ 変状数に準じてシートを追加すること。（１シートに１ページとすること。） | N43: ※ 構造用鋼材以外の異物に伴ううき・はく離については、メモ欄に異物の概要を記入すること。

Sheet 様式D-1-2(P001)
B2: ■定期点検記録様式 異常写真台帳（トンネル内附属物等の取付状態） 【様式D-1-2】
B3: フリガナ | E3: チャウスヤマトンネル | I3: 路 線 名 | L3: 主要道路防府環状線 | O3: 定期点検業者 | R3: セントラルコンサルタント株式会社 | U3: 定期点検年月日 | W3: 44337
B4: 名 称 | E4: 茶臼山トンネル | I4: 管理者名 | L4: 山口県防府土木建築事務所 | O4: 定期点検者名 | R4: 鹿子嶋 康博
B5: 覆工スパン番号 | E5: PS | F5: 異常番号 | I5: 1 | J5: 覆工スパン番号 | M5: S021 | N5: 異常番号 | Q5: 1 | R5: 覆工スパン番号 | U5: S024 | V5: 異常番号 | Y5: 1
B6: 対象箇所 | D6: その他施設 | E6: その他 | G6: 部位区分 | I6: 附属物本体 | J6: 対象箇所 | L6: その他施設 | M6: 内装板取付部材 | O6: 部位区分 | Q6: 取付部材 | R6: 対象箇所 | T6: その他施設 | U6: その他 | W6: 部位区分 | Y6: 附属物本体
B7: 異常の種類 | D7: 変形，欠損 | J7: 異常の種類 | L7: 前回異常(内装板の金具破損) | R7: 異常の種類 | T7: 前回異常(内装板破損)
B8: 異常判定区分 | D8: × | E8: メモ | F8: 保護板の接触跡 | J8: 異常判定区分 | L8: ○ | M8: メモ | N8: 交換済 | R8: 異常判定区分 | T8: ○ | U8: メモ | V8: 交換済
B22: 覆工スパン番号 | E22: S032 | F22: 異常番号 | I22: 1 | J22: 覆工スパン番号 | M22: S034 | N22: 異常番号 | Q22: 1 | R22: 覆工スパン番号 | U22: S042 | V22: 異常番号 | Y22: 1
B23: 対象箇所 | D23: 非常用施設 | E23: 通話型通報設備 | G23: 部位区分 | I23: 附属物本体 | J23: 対象箇所 | L23: その他施設 | M23: その他 | O23: 部位区分 | Q23: 附属物本体 | R23: 対象箇所 | T23: その他施設 | U23: その他 | W23: 部位区分 | Y23: 附属物本体
B24: 異常の種類 | D24: 前回異常(非常電話故障) | J24: 異常の種類 | L24: 前回異常(内装板破損) | R24: 異常の種類 | T24: 前回異常(内装板破損)
B25: 異常判定区分 | D25: ○ | E25: メモ | F25: 交換済 | J25: 異常判定区分 | L25: ○ | M25: メモ | N25: 交換済 | R25: 異常判定区分 | T25: ○ | U25: メモ | V25: 交換済
B39: 覆工スパン番号 | E39: S043 | F39: 異常番号 | I39: 1 | J39: 覆工スパン番号 | M39: S044 | N39: 異常番号 | Q39: 1 | R39: 覆工スパン番号 | U39: S048 | V39: 異常番号 | Y39: 1
B40: 対象箇所 | D40: その他施設 | E40: その他 | G40: 部位区分 | I40: 附属物本体 | J40: 対象箇所 | L40: その他施設 | M40: その他 | O40: 部位区分 | Q40: 附属物本体 | R40: 対象箇所 | T40: その他施設 | U40: その他 | W40: 部位区分 | Y40: 附属物本体
B41: 異常の種類 | D41: 前回異常(内装板破損) | J41: 異常の種類 | L41: 前回異常(内装板破損) | R41: 異常の種類 | T41: 前回異常(内装板破損)
B42: 異常判定区分 | D42: ○ | E42: メモ | F42: 交換済 | J42: 異常判定区分 | L42: ○ | M42: メモ | N42: 交換済 | R42: 異常判定区分 | T42: ○ | U42: メモ | V42: 交換済
D56: ※ 異常判定区分×について記入すること。また、応急措置前に異常判定区分×とした箇所のうち応急措置により○と判定した箇所も記入すること。
D57: ※ 応急措置を実施した場合は、その実施状況が分かる写真を添付すること。
D58: ※ 画像データは100kb程度とする。 | L58: ※ 変状数に準じてシートを追加すること。（１シートに１ページとすること。）

Sheet 様式D-1-2(P002)
B2: ■定期点検記録様式 異常写真台帳（トンネル内附属物等の取付状態） 【様式D-1-2】
B3: フリガナ | E3: チャウスヤマトンネル | I3: 路 線 名 | L3: 主要道路防府環状線 | O3: 定期点検業者 | R3: セントラルコンサルタント株式会社 | U3: 定期点検年月日 | W3: 44337
B4: 名 称 | E4: 茶臼山トンネル | I4: 管理者名 | L4: 山口県防府土木建築事務所 | O4: 定期点検者名 | R4: 鹿子嶋 康博
B5: 覆工スパン番号 | E5: S049 | F5: 異常番号 | I5: 1 | J5: 覆工スパン番号 | M5: S050 | N5: 異常番号 | Q5: 1 | R5: 覆工スパン番号 | U5: S050 | V5: 異常番号 | Y5: 2
B6: 対象箇所 | D6: その他施設 | E6: その他 | G6: 部位区分 | I6: 附属物本体 | J6: 対象箇所 | L6: その他施設 | M6: その他 | O6: 部位区分 | Q6: ボルト・ﾅｯﾄ・アンカー類 | R6: 対象箇所 | T6: その他施設 | U6: 内装板取付部材 | W6: 部位区分 | Y6: 取付部材
B7: 異常の種類 | D7: 前回異常(内装板破損) | J7: 異常の種類 | L7: 緩み，脱落 | R7: 異常の種類 | T7: 変形，欠損
B8: 異常判定区分 | D8: ○ | E8: メモ | F8: 交換済 | J8: 異常判定区分 | L8: × | M8: メモ | N8: 金具緩み(FRPメッシュ) | R8: 異常判定区分 | T8: × | U8: メモ | V8: 金具破損
B22: 覆工スパン番号 | F22: 異常番号 | J22: 覆工スパン番号 | N22: 異常番号 | R22: 覆工スパン番号 | V22: 異常番号
B23: 対象箇所 | G23: 部位区分 | J23: 対象箇所 | O23: 部位区分 | R23: 対象箇所 | W23: 部位区分
B24: 異常の種類 | J24: 異常の種類 | R24: 異常の種類
B25: 異常判定区分 | E25: メモ | J25: 異常判定区分 | M25: メモ | R25: 異常判定区分 | U25: メモ
B39: 覆工スパン番号 | F39: 異常番号 | J39: 覆工スパン番号 | N39: 異常番号 | R39: 覆工スパン番号 | V39: 異常番号
B40: 対象箇所 | G40: 部位区分 | J40: 対象箇所 | O40: 部位区分 | R40: 対象箇所 | W40: 部位区分
B41: 異常の種類 | J41: 異常の種類 | R41: 異常の種類
B42: 異常判定区分 | E42: メモ | J42: 異常判定区分 | M42: メモ | R42: 異常判定区分 | U42: メモ
D56: ※ 異常判定区分×について記入すること。また、応急措置前に異常判定区分×とした箇所のうち応急措置により○と判定した箇所も記入すること。
D57: ※ 応急措置を実施した場合は、その実施状況が分かる写真を添付すること。
D58: ※ 画像データは100kb程度とする。 | L58: ※ 変状数に準じてシートを追加すること。（１シートに１ページとすること。）

Sheet 様式D-2-1
B3: ■定期点検記録様式 トンネル全体変状展開図 【様式D-2-1】
B4: フリガナ | E4: チャウスヤマトンネル | J4: 路線名 | M4: 主要道路防府環状線 | S4: 定期点検業者 | W4: セントラルコンサルタント株式会社 | AC4: 定期点検年月日 | AF4: 44337
B5: 名 称 | E5: 茶臼山トンネル | J5: 管理者名 | M5: 山口県防府土木建築事務所 | S5: 定期点検者名 | W5: 鹿子嶋 康博
B6: トンネル変状展開図 | C6: トンネル全体変状展開図
S18: 注１：本展開図は、見下げた状態で記載すること。 注２：覆工スパン番号は横断目地毎（矢板工法の場合は上半アーチの横断目地毎)に 設定すること。 注３：横断目地の変状は前の覆工スパン番号で計上すること。 注４：１枚に収まらない場合は、複数枚に分けて作成すること。 注５：覆工写真の画像サイズは500kb程度とすること。
B20: ■定期点検記録様式 トンネル全体変状展開図 【様式D-2-1】
B21: フリガナ | E21: チャウスヤマトンネル | J21: 路線名 | M21: 主要道路防府環状線 | S21: 定期点検業者 | W21: セントラルコンサルタント株式会社 | AC21: 定期点検年月日 | AF21: 44337
B22: 名 称 | E22: 茶臼山トンネル | J22: 管理者名 | M22: 山口県防府土木建築事務所 | S22: 定期点検者名 | W22: 鹿子嶋 康博
B23: トンネル変状展開図 | C23: トンネル全体変状展開図
S35: 注１：本展開図は、見下げた状態で記載すること。 注２：覆工スパン番号は横断目地毎（矢板工法の場合は上半アーチの横断目地毎)に 設定すること。 注３：横断目地の変状は前の覆工スパン番号で計上すること。 注４：１枚に収まらない場合は、複数枚に分けて作成すること。 注５：覆工写真の画像サイズは500kb程度とすること。
B37: ■定期点検記録様式 トンネル全体変状展開図 【様式D-2-1】
B38: フリガナ | E38: チャウスヤマトンネル | J38: 路線名 | M38: 主要道路防府環状線 | S38: 定期点検業者 | W38: セントラルコンサルタント株式会社 | AC38: 定期点検年月日 | AF38: 44337
B39: 名 称 | E39: 茶臼山トンネル | J39: 管理者名 | M39: 山口県防府土木建築事務所 | S39: 定期点検者名 | W39: 鹿子嶋 康博
B40: トンネル変状展開図 | C40: トンネル全体変状展開図
S52: 注１：本展開図は、見下げた状態で記載すること。 注２：覆工スパン番号は横断目地毎（矢板工法の場合は上半アーチの横断目地毎)に 設定すること。 注３：横断目地の変状は前の覆工スパン番号で計上すること。 注４：１枚に収まらない場合は、複数枚に分けて作成すること。 注５：覆工写真の画像サイズは500kb程度とすること。
B54: ■定期点検記録様式 トンネル全体変状展開図 【様式D-2-1】
B55: フリガナ | E55: チャウスヤマトンネル | J55: 路線名 | M55: 主要道路防府環状線 | S55: 定期点検業者 | W55: セントラルコンサルタント株式会社 | AC55: 定期点検年月日 | AF55: 44337
B56: 名 称 | E56: 茶臼山トンネル | J56: 管理者名 | M56: 山口県防府土木建築事務所 | S56: 定期点検者名 | W56: 鹿子嶋 康博
B57: トンネル変状展開図 | C57: トンネル全体変状展開図
S69: 注１：本展開図は、見下げた状態で記載すること。 注２：覆工スパン番号は横断目地毎（矢板工法の場合は上半アーチの横断目地毎)に 設定すること。 注３：横断目地の変状は前の覆工スパン番号で計上すること。 注４：１枚に収まらない場合は、複数枚に分けて作成すること。 注５：覆工写真の画像サイズは500kb程度とすること。
B71: ■定期点検記録様式 トンネル全体変状展開図 【様式D-2-1】
B72: フリガナ | E72: チャウスヤマトンネル | J72: 路線名 | M72: 主要道路防府環状線 | S72: 定期点検業者 | W72: セントラルコンサルタント株式会社 | AC72: 定期点検年月日 | AF72: 44337
B73: 名 称 | E73: 茶臼山トンネル | J73: 管理者名 | M73: 山口県防府土木建築事務所 | S73: 定期点検者名 | W73: 鹿子嶋 康博
B74: トンネル変状展開図 | C74: トンネル全体変状展開図
S86: 注１：本展開図は、見下げた状態で記載すること。 注２：覆工スパン番号は横断目地毎（矢板工法の場合は上半アーチの横断目地毎)に 設定すること。 注３：横断目地の変状は前の覆工スパン番号で計上すること。 注４：１枚に収まらない場合は、複数枚に分けて作成すること。 注５：覆工写真の画像サイズは500kb程度とすること。

Sheet 様式D-2-1′
B3: ■定期点検記録様式 トンネル全体変状展開図（機器の活用時） 【様式D-2-1’】
B4: フリガナ | E4: チャウスヤマトンネル | J4: 路線名 | M4: 主要道路防府環状線 | S4: 定期点検業者 | W4: セントラルコンサルタント株式会社 | AC4: 定期点検年月日 | AF4: 44337
B5: 名 称 | E5: 茶臼山トンネル | J5: 管理者名 | M5: 山口県防府土木建築事務所 | S5: 定期点検者名 | W5: 鹿子嶋 康博
B6: トンネル変状展開図 | C6: トンネル全体変状展開図
S18: 注１：本展開図は、見下げた状態で記載すること。 注２：覆工スパン番号は横断目地毎（矢板工法の場合は上半アーチの横断目地毎)に 設定すること。 注３：横断目地の変状は前の覆工スパン番号で計上すること。 注４：１枚に収まらない場合は、複数枚に分けて作成すること。 注５：覆工写真の画像サイズは500kb程度とすること。
B20: ■定期点検記録様式 トンネル全体変状展開図（機器の活用時） 【様式D-2-1’】
B21: フリガナ | E21: チャウスヤマトンネル | J21: 路線名 | M21: 主要道路防府環状線 | S21: 定期点検業者 | W21: セントラルコンサルタント株式会社 | AC21: 定期点検年月日 | AF21: 44337
B22: 名 称 | E22: 茶臼山トンネル | J22: 管理者名 | M22: 山口県防府土木建築事務所 | S22: 定期点検者名 | W22: 鹿子嶋 康博
B23: トンネル変状展開図 | C23: トンネル全体変状展開図
S35: 注１：本展開図は、見下げた状態で記載すること。 注２：覆工スパン番号は横断目地毎（矢板工法の場合は上半アーチの横断目地毎)に 設定すること。 注３：横断目地の変状は前の覆工スパン番号で計上すること。 注４：１枚に収まらない場合は、複数枚に分けて作成すること。 注５：覆工写真の画像サイズは500kb程度とすること。
B37: ■定期点検記録様式 トンネル全体変状展開図（機器の活用時） 【様式D-2-1’】
B38: フリガナ | E38: チャウスヤマトンネル | J38: 路線名 | M38: 主要道路防府環状線 | S38: 定期点検業者 | W38: セントラルコンサルタント株式会社 | AC38: 定期点検年月日 | AF38: 44337
B39: 名 称 | E39: 茶臼山トンネル | J39: 管理者名 | M39: 山口県防府土木建築事務所 | S39: 定期点検者名 | W39: 鹿子嶋 康博
B40: トンネル変状展開図 | C40: トンネル全体変状展開図
S52: 注１：本展開図は、見下げた状態で記載すること。 注２：覆工スパン番号は横断目地毎（矢板工法の場合は上半アーチの横断目地毎)に 設定すること。 注３：横断目地の変状は前の覆工スパン番号で計上すること。 注４：１枚に収まらない場合は、複数枚に分けて作成すること。 注５：覆工写真の画像サイズは500kb程度とすること。
B54: ■定期点検記録様式 トンネル全体変状展開図（機器の活用時） 【様式D-2-1’】
B55: フリガナ | E55: チャウスヤマトンネル | J55: 路線名 | M55: 主要道路防府環状線 | S55: 定期点検業者 | W55: セントラルコンサルタント株式会社 | AC55: 定期点検年月日 | AF55: 44337
B56: 名 称 | E56: 茶臼山トンネル | J56: 管理者名 | M56: 山口県防府土木建築事務所 | S56: 定期点検者名 | W56: 鹿子嶋 康博
B57: トンネル変状展開図 | C57: トンネル全体変状展開図
S69: 注１：本展開図は、見下げた状態で記載すること。 注２：覆工スパン番号は横断目地毎（矢板工法の場合は上半アーチの横断目地毎)に 設定すること。 注３：横断目地の変状は前の覆工スパン番号で計上すること。 注４：１枚に収まらない場合は、複数枚に分けて作成すること。 注５：覆工写真の画像サイズは500kb程度とすること。
B71: ■定期点検記録様式 トンネル全体変状展開図（機器の活用時） 【様式D-2-1’】
B72: フリガナ | E72: チャウスヤマトンネル | J72: 路線名 | M72: 主要道路防府環状線 | S72: 定期点検業者 | W72: セントラルコンサルタント株式会社 | AC72: 定期点検年月日 | AF72: 44337
B73: 名 称 | E73: 茶臼山トンネル | J73: 管理者名 | M73: 山口県防府土木建築事務所 | S73: 定期点検者名 | W73: 鹿子嶋 康博
B74: トンネル変状展開図 | C74: トンネル全体変状展開図
S86: 注１：本展開図は、見下げた状態で記載すること。 注２：覆工スパン番号は横断目地毎（矢板工法の場合は上半アーチの横断目地毎)に 設定すること。 注３：横断目地の変状は前の覆工スパン番号で計上すること。 注４：１枚に収まらない場合は、複数枚に分けて作成すること。 注５：覆工写真の画像サイズは500kb程度とすること。

Sheet 様式D-3_PS
AU1: 様式E-1リンク用→ | AV1: 覆工ｽﾊﾟﾝ 番号 | AW1: ｽﾊﾟﾝ 長 (m) | AX1: 変状数集計 | BS1: 覆工スパン毎の 健全性の診断 | BW1: 変状規模集計
AX2: 対策区分毎の変状数 | BJ2: 健全性の判定区分毎の変状数 | BW2: 覆工スパン長(m) | CA2: 対策区分毎の変状の発生範囲の規模(㎡）
B3: ■定期点検記録様式 覆工スパン別変状詳細展開図 【様式D-3】 | AX3: 外力 | BB3: 材質劣化 | BF3: 漏水 | BJ3: 外力 | BM3: 材質劣化 | BP3: 漏水 | BS3: 外力 | BT3: 材質劣化 | BU3: 漏水 | BV3: 健全性 | BW3: 外力※１ | CA3: 材質劣化 | CE3: 漏水
B4: フリガナ | E4: チャウスヤマトンネル | K4: 路線名 | N4: 主要道路防府環状線 | T4: 定期点検業者 | Y4: セントラルコンサルタント株式会社 | AG4: 定期点検年月日 | AK4: 44337 | AX4: Ⅳ | AY4: Ⅲ | AZ4: Ⅱa | BA4: Ⅱb | BB4: Ⅳ | BC4: Ⅲ | BD4: Ⅱa | BE4: Ⅱb | BF4: Ⅳ | BG4: Ⅲ | BH4: Ⅱa | BI4: Ⅱb | BJ4: Ⅳ | BK4: Ⅲ | BL4: Ⅱ | BM4: Ⅳ | BN4: Ⅲ | BO4: Ⅱ | BP4: Ⅳ | BQ4: Ⅲ | BR4: Ⅱ | BW4: Ⅳ | BX4: Ⅲ | BY4: Ⅱa | BZ4: Ⅱb | CA4: Ⅳ | CB4: Ⅲ | CC4: Ⅱa | CD4: Ⅱb | CE4: Ⅳ | CF4: Ⅲ | CG4: Ⅱa | CH4: Ⅱb
B5: 名 称 | E5: 茶臼山トンネル | K5: 管理者名 | N5: 山口県防府土木建築事務所 | T5: 定期点検者名 | Y5: 鹿子嶋 康博 | AV5: =N7 -> PS | AW5: =R7 -> 0 | AX5: =+Y32 -> 0 | AY5: =+Z32 -> 0 | AZ5: =+AA32 -> 0 | BA5: =+AB32 -> 0 | BB5: =+AC32 -> 0 | BC5: =+AD32 -> 0 | BD5: =+AE32 -> 0 | BE5: =+AF32 -> 0 | ... BI5: =+AJ32 -> 0 | BJ5: =+Y35 | BK5: =+Z35 | BL5: =+AA35 | BM5: =+AC35 -> 0 | BN5: =+AD35 -> 0 | BO5: =+AE35 -> 0 | BP5: =+AG35 -> 0 | BQ5: =+AH35 -> 0 | BR5: =+AI35 -> 0 | BS5: =+Y36 -> Ⅰ | BT5: =+AC36 -> Ⅰ | BU5: =+AG36 -> Ⅰ | BV5: =+Y37 -> Ⅰ | BW5: =IF(Y32>0,$R$7,"") | BX5: =IF(Z32>0,"",IF(AA32>0,$R$7,"")) | BY5: =IF(Y32+Z32>0,"",IF(AA32>0,$R$7,"")) | BZ5: =IF(Y32+Z32+AA32>0,"",IF(AB32>0,$R$7,"")) | CA5: =+AC31 -> 0 | CB5: =+AD31 -> 0 | CC5: =+AE31 -> 0 | CD5: =+AF31 -> 0 | CE5: =+AG31 -> 0 | CF5: =+AH31 -> 0 | CG5: =+AI31 -> 0 | CH5: =+AJ31 -> 0
B6: スパン別変状展開図 | K6: 【健全性判定集計表】
K7: スパン番号 | N7: PS | P7: スパン長 | R7: 0 | U7: 前回定期点検時の健全性 | W7: 応急措置前の判定 | Y7: 対策区分毎の 変状の有無 | AC7: 対策区分毎の変状の発生範囲の規模(㎡) | AK7: 備考注2
K8: 変状番号 | L8: 対象箇所 | N8: 部位区分 | P8: 変状区分 | R8: 変状種類
Y9: 外力注1 | AC9: 材質劣化注1 | AG9: 漏水注1
Y10: Ⅳ | Z10: Ⅲ | AA10: Ⅱa | AB10: Ⅱb | AC10: Ⅳ | AD10: Ⅲ | AE10: Ⅱa | AF10: Ⅱb | AG10: Ⅳ | AH10: Ⅲ | AI10: Ⅱa | AJ10: Ⅱb
AQ11: =IF(P11="材質劣化",2,IF(P11="漏水",3,1)) -> 1
AQ12: =IF(P12="材質劣化",2,IF(P12="漏水",3,1)) -> 1
AQ13: =IF(P13="材質劣化",2,IF(P13="漏水",3,1)) -> 1
AQ14: =IF(P14="材質劣化",2,IF(P14="漏水",3,1)) -> 1
AQ15: =IF(P15="材質劣化",2,IF(P15="漏水",3,1)) -> 1
AQ16: =IF(P16="材質劣化",2,IF(P16="漏水",3,1)) -> 1
AQ17: =IF(P17="材質劣化",2,IF(P17="漏水",3,1)) -> 1
AQ18: =IF(P18="材質劣化",2,IF(P18="漏水",3,1)) -> 1
AQ19: =IF(P19="材質劣化",2,IF(P19="漏水",3,1)) -> 1
AQ20: =IF(P20="材質劣化",2,IF(P20="漏水",3,1)) -> 1
AQ21: =IF(P21="材質劣化",2,IF(P21="漏水",3,1)) -> 1
AQ22: =IF(P22="材質劣化",2,IF(P22="漏水",3,1)) -> 1
... AQ30: =IF(P30="材質劣化",2,IF(P30="漏水",3,1)) -> 1
K31: 集計 ・ 判定 ・ 診断 | L31: 変状の発生規模合計(㎡) | Y31: － | AC31: =SUM(AC11:AC30) -> 0 | AD31: =SUM(AD11:AD30) -> 0 | AE31: =SUM(AE11:AE30) -> 0 | AF31: =SUM(AF11:AF30) -> 0 | AG31: =SUM(AG11:AG30) -> 0 | AH31: =SUM(AH11:AH30) -> 0 | AI31: =SUM(AI11:AI30) -> 0 | AJ31: =SUM(AJ11:AJ30) -> 0 | AK31: 計
L32: 対策区分の 判定結果 | O32: 判定区分毎の変状数 | Y32: =COUNTIF(Y11:Y30,"○") -> 0 | Z32: =COUNTIF(Z11:Z30,"○") -> 0 | AA32: =COUNTIF(AA11:AA30,"○") -> 0 | AB32: =COUNTIF(AB11:AB30,"○") -> 0 | AC32: =COUNT(AC11:AC30) -> 0 | AD32: =COUNT(AD11:AD30) -> 0 | AE32: =COUNT(AE11:AE30) -> 0 | AF32: =COUNT(AF11:AF30) -> 0 | AG32: =COUNT(AG11:AG30) -> 0 | AH32: =COUNT(AH11:AH30) -> 0 | AI32: =COUNT(AI11:AI30) -> 0 | AJ32: =COUNT(AJ11:AJ30) -> 0
O33: 変状区分毎の判定区分注3 | Y33: =IF(Y32>0,"Ⅳ",IF(Z32>0,"Ⅲ",IF(AA32>0,"Ⅱa",IF(AB32>0,"Ⅱb","Ⅰ")))) -> Ⅰ | AC33: =IF(AC32>0,"Ⅳ",IF(AD32>0,"Ⅲ",IF(AE32>0,"Ⅱa",IF(AF32>0,"Ⅱb","Ⅰ")))) -> Ⅰ | AG33: =IF(AG32>0,"Ⅳ",IF(AH32>0,"Ⅲ",IF(AI32>0,"Ⅱa",IF(AJ32>0,"Ⅱb","Ⅰ")))) -> Ⅰ | AQ33: Ⅳ | AR33: Ⅲ | AS33: Ⅱ
L34: 健全性の 診断結果 | O34: 判定区分 | Y34: Ⅳ | Z34: Ⅲ | AA34: Ⅱ | AC34: Ⅳ | AD34: Ⅲ | AE34: Ⅱ | AG34: Ⅳ | AH34: Ⅲ | AI34: Ⅱ | AQ34: =+Y32+Z32 -> 0 | AS34: =+AA32+AB32 -> 0
O35: 判定区分毎の変状数注4 | Y35: =IF(Y32=0,"",1) | Z35: =IF(Z32=0,"",1) | AA35: =IF(AQ34=1,"",IF(AS34>0,1,"")) | AC35: =+AC32 -> 0 | AD35: =AD32 -> 0 | AE35: =AE32+AF32 -> 0 | AG35: =AG32 -> 0 | AH35: =AH32 -> 0 | AI35: =AI32+AJ32 -> 0 | AQ35: =+Y32+AC35+AG35 -> 0 | AR35: =+Z32+AD35+AH35 -> 0 | AS35: =+AS34+AE35+AI35 -> 0
O36: 変状区分毎の判定区分注4 | Y36: =IF(Y35=1,"Ⅳ",IF(Z35=1,"Ⅲ",IF(AA35=1,"Ⅱ","Ⅰ"))) -> Ⅰ | AC36: =IF(AC35>0,"Ⅳ",IF(AD35>0,"Ⅲ",IF(AE35>0,"Ⅱ","Ⅰ"))) -> Ⅰ | AG36: =IF(AG35>0,"Ⅳ",IF(AH35>0,"Ⅲ",IF(AI35>0,"Ⅱ","Ⅰ"))) -> Ⅰ | AQ36: =IF(AQ35>0,"Ⅳ",IF(AR35>0,"Ⅲ",IF(AS35>0,"Ⅱ","Ⅰ"))) -> Ⅰ
O37: 覆工スパン単位の判定区分注5 | Y37: =IF(OR(Y36="Ⅳ",AC36="Ⅳ",AG36="Ⅳ"),"Ⅳ",IF(OR(Y36="Ⅲ",AC36="Ⅲ",AG36="Ⅲ"),"Ⅲ",IF(OR(Y36="Ⅱ",AC36="Ⅱ",AG36="Ⅱ"),"Ⅱ","Ⅰ"))) -> Ⅰ
K38: 特記事項
K40: 注1：誤記入防止のため、当該変状区分以外のセルは灰色表示とすること。
K41: 注2：応急対策を実施した場合は、その詳細を備考に記載すること。
K42: 注3：変状区分毎での最も評価の厳しい判定区分。
K43: 注4：変状区分毎での最も評価の厳しい判定区分．外力は覆工スパン単位、材質劣化、漏水は変状単位で行う。
K44: 注5：覆工スパンの中で最も評価の厳しい健全性を採用し、その覆工スパン毎の健全性とする。
B46: ※1：本シートは作成洩れのないよう、変状が無くても全スパン分を作成すること．また変状展開図は、様式D-2-1、様式D-2-1'と同じものを覆工スパン単位で拡大し掲載すること。
B47: ※2：変状番号は、様式D-1-1で記入した番号と整合させること。
B48: ※3：対策区分毎の変状発生規模は、様式D-1-1に記載した面積を記入すること（ただし外力はスパン単位で評価するため対象外とし、備考欄に状況を記入）。
B49: ※4：本様式は覆工スパン毎に作成すること。
B50: ※5：変状数が多い場合は、適時、表の行を増やして覆工スパン毎に1枚のシートに収めること。また、1スパン１シートとし、スパンに合わせてシートを追加すること。
B51: ※6：対策区分毎の変状の発生範囲の規模とは，対策を行う際に参考となる変状の長さや面積であり，変状を包含する長さや面積とする。
B52: ※7：路面滞水は、変状面積に1を記載するとともに、備考にも内容を記載すること。

Sheet 様式D-3_S001
AU1: 様式E-1リンク用→ | AV1: 覆工ｽﾊﾟﾝ 番号 | AW1: ｽﾊﾟﾝ 長 (m) | AX1: 変状数集計 | BS1: 覆工スパン毎の 健全性の診断 | BW1: 変状規模集計
AX2: 対策区分毎の変状数 | BJ2: 健全性の判定区分毎の変状数 | BW2: 覆工スパン長(m) | CA2: 対策区分毎の変状の発生範囲の規模(㎡）
B3: ■定期点検記録様式 覆工スパン別変状詳細展開図 【様式D-3】 | AX3: 外力 | BB3: 材質劣化 | BF3: 漏水 | BJ3: 外力 | BM3: 材質劣化 | BP3: 漏水 | BS3: 外力 | BT3: 材質劣化 | BU3: 漏水 | BV3: 健全性 | BW3: 外力※１ | CA3: 材質劣化 | CE3: 漏水
B4: フリガナ | E4: チャウスヤマトンネル | K4: 路線名 | N4: 主要道路防府環状線 | T4: 定期点検業者 | Y4: セントラルコンサルタント株式会社 | AG4: 定期点検年月日 | AK4: 44337 | AX4: Ⅳ | AY4: Ⅲ | AZ4: Ⅱa | BA4: Ⅱb | BB4: Ⅳ | BC4: Ⅲ | BD4: Ⅱa | BE4: Ⅱb | BF4: Ⅳ | BG4: Ⅲ | BH4: Ⅱa | BI4: Ⅱb | BJ4: Ⅳ | BK4: Ⅲ | BL4: Ⅱ | BM4: Ⅳ | BN4: Ⅲ | BO4: Ⅱ | BP4: Ⅳ | BQ4: Ⅲ | BR4: Ⅱ | BW4: Ⅳ | BX4: Ⅲ | BY4: Ⅱa | BZ4: Ⅱb | CA4: Ⅳ | CB4: Ⅲ | CC4: Ⅱa | CD4: Ⅱb | CE4: Ⅳ | CF4: Ⅲ | CG4: Ⅱa | CH4: Ⅱb
B5: 名 称 | E5: 茶臼山トンネル | K5: 管理者名 | N5: 山口県防府土木建築事務所 | T5: 定期点検者名 | Y5: 鹿子嶋 康博 | AV5: =N7 -> S1 | AW5: =R7 -> 3.1 | AX5: =+Y32 -> 0 | AY5: =+Z32 -> 0 | AZ5: =+AA32 -> 0 | BA5: =+AB32 -> 0 | BB5: =+AC32 -> 0 | BC5: =+AD32 -> 0 | BD5: =+AE32 -> 0 | BE5: =+AF32 -> 0 | ... BI5: =+AJ32 -> 0 | BJ5: =+Y35 | BK5: =+Z35 | BL5: =+AA35 | BM5: =+AC35 -> 0 | BN5: =+AD35 -> 0 | BO5: =+AE35 -> 0 | BP5: =+AG35 -> 0 | BQ5: =+AH35 -> 0 | BR5: =+AI35 -> 0 | BS5: =+Y36 -> Ⅰ | BT5: =+AC36 -> Ⅰ | BU5: =+AG36 -> Ⅰ | BV5: =+Y37 -> Ⅰ | BW5: =IF(Y32>0,$R$7,"") | BX5: =IF(Z32>0,"",IF(AA32>0,$R$7,"")) | BY5: =IF(Y32+Z32>0,"",IF(AA32>0,$R$7,"")) | BZ5: =IF(Y32+Z32+AA32>0,"",IF(AB32>0,$R$7,"")) | CA5: =+AC31 -> 0 | CB5: =+AD31 -> 0 | CC5: =+AE31 -> 0 | CD5: =+AF31 -> 0 | CE5: =+AG31 -> 0 | CF5: =+AH31 -> 0 | CG5: =+AI31 -> 0 | CH5: =+AJ31 -> 0
B6: スパン別変状展開図 | K6: 【健全性判定集計表】
K7: スパン番号 | N7: S1 | P7: スパン長 | R7: 3.1 | U7: 前回定期点検時の健全性 | W7: 応急措置前の判定 | Y7: 対策区分毎の 変状の有無 | AC7: 対策区分毎の変状の発生範囲の規模(㎡) | AK7: 備考注2
K8: 変状番号 | L8: 対象箇所 | N8: 部位区分 | P8: 変状区分 | R8: 変状種類
Y9: 外力注1 | AC9: 材質劣化注1 | AG9: 漏水注1
Y10: Ⅳ | Z10: Ⅲ | AA10: Ⅱa | AB10: Ⅱb | AC10: Ⅳ | AD10: Ⅲ | AE10: Ⅱa | AF10: Ⅱb | AG10: Ⅳ | AH10: Ⅲ | AI10: Ⅱa | AJ10: Ⅱb
AQ11: =IF(P11="材質劣化",2,IF(P11="漏水",3,1)) -> 1
AQ12: =IF(P12="材質劣化",2,IF(P12="漏水",3,1)) -> 1
AQ13: =IF(P13="材質劣化",2,IF(P13="漏水",3,1)) -> 1
AQ14: =IF(P14="材質劣化",2,IF(P14="漏水",3,1)) -> 1
AQ15: =IF(P15="材質劣化",2,IF(P15="漏水",3,1)) -> 1
AQ16: =IF(P16="材質劣化",2,IF(P16="漏水",3,1)) -> 1
AQ17: =IF(P17="材質劣化",2,IF(P17="漏水",3,1)) -> 1
AQ18: =IF(P18="材質劣化",2,IF(P18="漏水",3,1)) -> 1
AQ19: =IF(P19="材質劣化",2,IF(P19="漏水",3,1)) -> 1
AQ20: =IF(P20="材質劣化",2,IF(P20="漏水",3,1)) -> 1
AQ21: =IF(P21="材質劣化",2,IF(P21="漏水",3,1)) -> 1
AQ22: =IF(P22="材質劣化",2,IF(P22="漏水",3,1)) -> 1
... AQ30: =IF(P30="材質劣化",2,IF(P30="漏水",3,1)) -> 1
K31: 集計 ・ 判定 ・ 診断 | L31: 変状の発生規模合計(㎡) | Y31: － | AC31: =SUM(AC11:AC30) -> 0 | AD31: =SUM(AD11:AD30) -> 0 | AE31: =SUM(AE11:AE30) -> 0 | AF31: =SUM(AF11:AF30) -> 0 | AG31: =SUM(AG11:AG30) -> 0 | AH31: =SUM(AH11:AH30) -> 0 | AI31: =SUM(AI11:AI30) -> 0 | AJ31: =SUM(AJ11:AJ30) -> 0 | AK31: 計
L32: 対策区分の 判定結果 | O32: 判定区分毎の変状数 | Y32: =COUNTIF(Y11:Y30,"○") -> 0 | Z32: =COUNTIF(Z11:Z30,"○") -> 0 | AA32: =COUNTIF(AA11:AA30,"○") -> 0 | AB32: =COUNTIF(AB11:AB30,"○") -> 0 | AC32: =COUNT(AC11:AC30) -> 0 | AD32: =COUNT(AD11:AD30) -> 0 | AE32: =COUNT(AE11:AE30) -> 0 | AF32: =COUNT(AF11:AF30) -> 0 | AG32: =COUNT(AG11:AG30) -> 0 | AH32: =COUNT(AH11:AH30) -> 0 | AI32: =COUNT(AI11:AI30) -> 0 | AJ32: =COUNT(AJ11:AJ30) -> 0
O33: 変状区分毎の判定区分注3 | Y33: =IF(Y32>0,"Ⅳ",IF(Z32>0,"Ⅲ",IF(AA32>0,"Ⅱa",IF(AB32>0,"Ⅱb","Ⅰ")))) -> Ⅰ | AC33: =IF(AC32>0,"Ⅳ",IF(AD32>0,"Ⅲ",IF(AE32>0,"Ⅱa",IF(AF32>0,"Ⅱb","Ⅰ")))) -> Ⅰ | AG33: =IF(AG32>0,"Ⅳ",IF(AH32>0,"Ⅲ",IF(AI32>0,"Ⅱa",IF(AJ32>0,"Ⅱb","Ⅰ")))) -> Ⅰ | AQ33: Ⅳ | AR33: Ⅲ | AS33: Ⅱ
L34: 健全性の 診断結果 | O34: 判定区分 | Y34: Ⅳ | Z34: Ⅲ | AA34: Ⅱ | AC34: Ⅳ | AD34: Ⅲ | AE34: Ⅱ | AG34: Ⅳ | AH34: Ⅲ | AI34: Ⅱ | AQ34: =+Y32+Z32 -> 0 | AS34: =+AA32+AB32 -> 0
O35: 判定区分毎の変状数注4 | Y35: =IF(Y32=0,"",1) | Z35: =IF(Z32=0,"",1) | AA35: =IF(AQ34=1,"",IF(AS34>0,1,"")) | AC35: =+AC32 -> 0 | AD35: =AD32 -> 0 | AE35: =AE32+AF32 -> 0 | AG35: =AG32 -> 0 | AH35: =AH32 -> 0 | AI35: =AI32+AJ32 -> 0 | AQ35: =+Y32+AC35+AG35 -> 0 | AR35: =+Z32+AD35+AH35 -> 0 | AS35: =+AS34+AE35+AI35 -> 0
O36: 変状区分毎の判定区分注4 | Y36: =IF(Y35=1,"Ⅳ",IF(Z35=1,"Ⅲ",IF(AA35=1,"Ⅱ","Ⅰ"))) -> Ⅰ | AC36: =IF(AC35>0,"Ⅳ",IF(AD35>0,"Ⅲ",IF(AE35>0,"Ⅱ","Ⅰ"))) -> Ⅰ | AG36: =IF(AG35>0,"Ⅳ",IF(AH35>0,"Ⅲ",IF(AI35>0,"Ⅱ","Ⅰ"))) -> Ⅰ | AQ36: =IF(AQ35>0,"Ⅳ",IF(AR35>0,"Ⅲ",IF(AS35>0,"Ⅱ","Ⅰ"))) -> Ⅰ
O37: 覆工スパン単位の判定区分注5 | Y37: =IF(OR(Y36="Ⅳ",AC36="Ⅳ",AG36="Ⅳ"),"Ⅳ",IF(OR(Y36="Ⅲ",AC36="Ⅲ",AG36="Ⅲ"),"Ⅲ",IF(OR(Y36="Ⅱ",AC36="Ⅱ",AG36="Ⅱ"),"Ⅱ","Ⅰ"))) -> Ⅰ
K38: 特記事項
K40: 注1：誤記入防止のため、当該変状区分以外のセルは灰色表示とすること。
K41: 注2：応急対策を実施した場合は、その詳細を備考に記載すること。
K42: 注3：変状区分毎での最も評価の厳しい判定区分。
K43: 注4：変状区分毎での最も評価の厳しい判定区分．外力は覆工スパン単位、材質劣化、漏水は変状単位で行う。
K44: 注5：覆工スパンの中で最も評価の厳しい健全性を採用し、その覆工スパン毎の健全性とする。
B46: ※1：本シートは作成洩れのないよう、変状が無くても全スパン分を作成すること．また変状展開図は、様式D-2-1、様式D-2-1'と同じものを覆工スパン単位で拡大し掲載すること。
B47: ※2：変状番号は、様式D-1-1で記入した番号と整合させること。
B48: ※3：対策区分毎の変状発生規模は、様式D-1-1に記載した面積を記入すること（ただし外力はスパン単位で評価するため対象外とし、備考欄に状況を記入）。
B49: ※4：本様式は覆工スパン毎に作成すること。
B50: ※5：変状数が多い場合は、適時、表の行を増やして覆工スパン毎に1枚のシートに収めること。また、1スパン１シートとし、スパンに合わせてシートを追加すること。
B51: ※6：対策区分毎の変状の発生範囲の規模とは，対策を行う際に参考となる変状の長さや面積であり，変状を包含する長さや面積とする。
B52: ※7：路面滞水は、変状面積に1を記載するとともに、備考にも内容を記載すること。

Sheet 様式D-3_S002
AU1: 様式E-1リンク用→ | AV1: 覆工ｽﾊﾟﾝ 番号 | AW1: ｽﾊﾟﾝ 長 (m) | AX1: 変状数集計 | BS1: 覆工スパン毎の 健全性の診断 | BW1: 変状規模集計
AX2: 対策区分毎の変状数 | BJ2: 健全性の判定区分毎の変状数 | BW2: 覆工スパン長(m) | CA2: 対策区分毎の変状の発生範囲の規模(㎡）
B3: ■定期点検記録様式 覆工スパン別変状詳細展開図 【様式D-3】 | AX3: 外力 | BB3: 材質劣化 | BF3: 漏水 | BJ3: 外力 | BM3: 材質劣化 | BP3: 漏水 | BS3: 外力 | BT3: 材質劣化 | BU3: 漏水 | BV3: 健全性 | BW3: 外力※１ | CA3: 材質劣化 | CE3: 漏水
B4: フリガナ | E4: チャウスヤマトンネル | K4: 路線名 | N4: 主要道路防府環状線 | T4: 定期点検業者 | Y4: セントラルコンサルタント株式会社 | AG4: 定期点検年月日 | AK4: 44337 | AX4: Ⅳ | AY4: Ⅲ | AZ4: Ⅱa | BA4: Ⅱb | BB4: Ⅳ | BC4: Ⅲ | BD4: Ⅱa | BE4: Ⅱb | BF4: Ⅳ | BG4: Ⅲ | BH4: Ⅱa | BI4: Ⅱb | BJ4: Ⅳ | BK4: Ⅲ | BL4: Ⅱ | BM4: Ⅳ | BN4: Ⅲ | BO4: Ⅱ | BP4: Ⅳ | BQ4: Ⅲ | BR4: Ⅱ | BW4: Ⅳ | BX4: Ⅲ | BY4: Ⅱa | BZ4: Ⅱb | CA4: Ⅳ | CB4: Ⅲ | CC4: Ⅱa | CD4: Ⅱb | CE4: Ⅳ | CF4: Ⅲ | CG4: Ⅱa | CH4: Ⅱb
B5: 名 称 | E5: 茶臼山トンネル | K5: 管理者名 | N5: 山口県防府土木建築事務所 | T5: 定期点検者名 | Y5: 鹿子嶋 康博 | AV5: =N7 -> S2 | AW5: =R7 -> 5.2 | AX5: =+Y32 -> 0 | AY5: =+Z32 -> 0 | AZ5: =+AA32 -> 0 | BA5: =+AB32 -> 0 | BB5: =+AC32 -> 0 | BC5: =+AD32 -> 0 | BD5: =+AE32 -> 0 | BE5: =+AF32 -> 0 | ... BI5: =+AJ32 -> 3 | BJ5: =+Y35 | BK5: =+Z35 | BL5: =+AA35 | BM5: =+AC35 -> 0 | BN5: =+AD35 -> 0 | BO5: =+AE35 -> 0 | BP5: =+AG35 -> 0 | BQ5: =+AH35 -> 0 | BR5: =+AI35 -> 4 | BS5: =+Y36 -> Ⅰ | BT5: =+AC36 -> Ⅰ | BU5: =+AG36 -> Ⅱ | BV5: =+Y37 -> Ⅱ | BW5: =IF(Y32>0,$R$7,"") | BX5: =IF(Z32>0,"",IF(AA32>0,$R$7,"")) | BY5: =IF(Y32+Z32>0,"",IF(AA32>0,$R$7,"")) | BZ5: =IF(Y32+Z32+AA32>0,"",IF(AB32>0,$R$7,"")) | CA5: =+AC31 -> 0 | CB5: =+AD31 -> 0 | CC5: =+AE31 -> 0 | CD5: =+AF31 -> 0 | CE5: =+AG31 -> 0 | CF5: =+AH31 -> 0 | CG5: =+AI31 -> 3.6 | CH5: =+AJ31 -> 15.2
B6: スパン別変状展開図 | K6: 【健全性判定集計表】
K7: スパン番号 | N7: S2 | P7: スパン長 | R7: 5.2 | U7: 前回定期点検時の健全性 | W7: 応急措置前の判定 | Y7: 対策区分毎の 変状の有無 | AC7: 対策区分毎の変状の発生範囲の規模(㎡) | AK7: 備考注2
K8: 変状番号 | L8: 対象箇所 | N8: 部位区分 | P8: 変状区分 | R8: 変状種類
Y9: 外力注1 | AC9: 材質劣化注1 | AG9: 漏水注1
Y10: Ⅳ | Z10: Ⅲ | AA10: Ⅱa | AB10: Ⅱb | AC10: Ⅳ | AD10: Ⅲ | AE10: Ⅱa | AF10: Ⅱb | AG10: Ⅳ | AH10: Ⅲ | AI10: Ⅱa | AJ10: Ⅱb
K11: 1 | L11: 覆工・坑門 | N11: アーチ（天端） | P11: 漏水 | R11: 漏水 | U11: Ⅱ | AJ11: 7.6 | AK11: 0 | AQ11: =IF(P11="材質劣化",2,IF(P11="漏水",3,1)) -> 3
K12: 2 | L12: 覆工・坑門 | N12: アーチ（天端） | P12: 漏水 | R12: 漏水 | U12: Ⅱ | AI12: 3.6 | AK12: 0 | AQ12: =IF(P12="材質劣化",2,IF(P12="漏水",3,1)) -> 3
K13: 3 | L13: 覆工・坑門 | N13: アーチ（天端） | P13: 漏水 | R13: 漏水 | U13: - | AJ13: 6.6 | AK13: 0 | AQ13: =IF(P13="材質劣化",2,IF(P13="漏水",3,1)) -> 3
K14: 4 | L14: 路面 | N14: 車道 | P14: 漏水 | R14: 滞水 | U14: - | AJ14: 1 | AK14: 0 | AQ14: =IF(P14="材質劣化",2,IF(P14="漏水",3,1)) -> 3
AQ15: =IF(P15="材質劣化",2,IF(P15="漏水",3,1)) -> 1
AQ16: =IF(P16="材質劣化",2,IF(P16="漏水",3,1)) -> 1
AQ17: =IF(P17="材質劣化",2,IF(P17="漏水",3,1)) -> 1
AQ18: =IF(P18="材質劣化",2,IF(P18="漏水",3,1)) -> 1
AQ19: =IF(P19="材質劣化",2,IF(P19="漏水",3,1)) -> 1
AQ20: =IF(P20="材質劣化",2,IF(P20="漏水",3,1)) -> 1
AQ21: =IF(P21="材質劣化",2,IF(P21="漏水",3,1)) -> 1
AQ22: =IF(P22="材質劣化",2,IF(P22="漏水",3,1)) -> 1
AQ23: =IF(P23="材質劣化",2,IF(P23="漏水",3,1)) -> 1
AQ24: =IF(P24="材質劣化",2,IF(P24="漏水",3,1)) -> 1
AQ25: =IF(P25="材質劣化",2,IF(P25="漏水",3,1)) -> 1
AQ26: =IF(P26="材質劣化",2,IF(P26="漏水",3,1)) -> 1
... AQ30: =IF(P30="材質劣化",2,IF(P30="漏水",3,1)) -> 1
K31: 集計 ・ 判定 ・ 診断 | L31: 変状の発生規模合計(㎡) | Y31: － | AC31: =SUM(AC11:AC30) -> 0 | AD31: =SUM(AD11:AD30) -> 0 | AE31: =SUM(AE11:AE30) -> 0 | AF31: =SUM(AF11:AF30) -> 0 | AG31: =SUM(AG11:AG30) -> 0 | AH31: =SUM(AH11:AH30) -> 0 | AI31: =SUM(AI11:AI30) -> 3.6 | AJ31: =SUM(AJ11:AJ30) -> 15.2 | AK31: 計
L32: 対策区分の 判定結果 | O32: 判定区分毎の変状数 | Y32: =COUNTIF(Y11:Y30,"○") -> 0 | Z32: =COUNTIF(Z11:Z30,"○") -> 0 | AA32: =COUNTIF(AA11:AA30,"○") -> 0 | AB32: =COUNTIF(AB11:AB30,"○") -> 0 | AC32: =COUNT(AC11:AC30) -> 0 | AD32: =COUNT(AD11:AD30) -> 0 | AE32: =COUNT(AE11:AE30) -> 0 | AF32: =COUNT(AF11:AF30) -> 0 | AG32: =COUNT(AG11:AG30) -> 0 | AH32: =COUNT(AH11:AH30) -> 0 | AI32: =COUNT(AI11:AI30) -> 1 | AJ32: =COUNT(AJ11:AJ30) -> 3
O33: 変状区分毎の判定区分注3 | Y33: =IF(Y32>0,"Ⅳ",IF(Z32>0,"Ⅲ",IF(AA32>0,"Ⅱa",IF(AB32>0,"Ⅱb","Ⅰ")))) -> Ⅰ | AC33: =IF(AC32>0,"Ⅳ",IF(AD32>0,"Ⅲ",IF(AE32>0,"Ⅱa",IF(AF32>0,"Ⅱb","Ⅰ")))) -> Ⅰ | AG33: =IF(AG32>0,"Ⅳ",IF(AH32>0,"Ⅲ",IF(AI32>0,"Ⅱa",IF(AJ32>0,"Ⅱb","Ⅰ")))) -> Ⅱa | AQ33: Ⅳ | AR33: Ⅲ | AS33: Ⅱ
L34: 健全性の 診断結果 | O34: 判定区分 | Y34: Ⅳ | Z34: Ⅲ | AA34: Ⅱ | AC34: Ⅳ | AD34: Ⅲ | AE34: Ⅱ | AG34: Ⅳ | AH34: Ⅲ | AI34: Ⅱ | AQ34: =+Y32+Z32 -> 0 | AS34: =+AA32+AB32 -> 0
O35: 判定区分毎の変状数注4 | Y35: =IF(Y32=0,"",1) | Z35: =IF(Z32=0,"",1) | AA35: =IF(AQ34=1,"",IF(AS34>0,1,"")) | AC35: =+AC32 -> 0 | AD35: =AD32 -> 0 | AE35: =AE32+AF32 -> 0 | AG35: =AG32 -> 0 | AH35: =AH32 -> 0 | AI35: =AI32+AJ32 -> 4 | AQ35: =+Y32+AC35+AG35 -> 0 | AR35: =+Z32+AD35+AH35 -> 0 | AS35: =+AS34+AE35+AI35 -> 4
O36: 変状区分毎の判定区分注4 | Y36: =IF(Y35=1,"Ⅳ",IF(Z35=1,"Ⅲ",IF(AA35=1,"Ⅱ","Ⅰ"))) -> Ⅰ | AC36: =IF(AC35>0,"Ⅳ",IF(AD35>0,"Ⅲ",IF(AE35>0,"Ⅱ","Ⅰ"))) -> Ⅰ | AG36: =IF(AG35>0,"Ⅳ",IF(AH35>0,"Ⅲ",IF(AI35>0,"Ⅱ","Ⅰ"))) -> Ⅱ | AQ36: =IF(AQ35>0,"Ⅳ",IF(AR35>0,"Ⅲ",IF(AS35>0,"Ⅱ","Ⅰ"))) -> Ⅱ
O37: 覆工スパン単位の判定区分注5 | Y37: =IF(OR(Y36="Ⅳ",AC36="Ⅳ",AG36="Ⅳ"),"Ⅳ",IF(OR(Y36="Ⅲ",AC36="Ⅲ",AG36="Ⅲ"),"Ⅲ",IF(OR(Y36="Ⅱ",AC36="Ⅱ",AG36="Ⅱ"),"Ⅱ","Ⅰ"))) -> Ⅱ
K38: 特記事項
K40: 注1：誤記入防止のため、当該変状区分以外のセルは灰色表示とすること。
K41: 注2：応急対策を実施した場合は、その詳細を備考に記載すること。
K42: 注3：変状区分毎での最も評価の厳しい判定区分。
K43: 注4：変状区分毎での最も評価の厳しい判定区分．外力は覆工スパン単位、材質劣化、漏水は変状単位で行う。
K44: 注5：覆工スパンの中で最も評価の厳しい健全性を採用し、その覆工スパン毎の健全性とする。
B46: ※1：本シートは作成洩れのないよう、変状が無くても全スパン分を作成すること．また変状展開図は、様式D-2-1、様式D-2-1'と同じものを覆工スパン単位で拡大し掲載すること。
B47: ※2：変状番号は、様式D-1-1で記入した番号と整合させること。
B48: ※3：対策区分毎の変状発生規模は、様式D-1-1に記載した面積を記入すること（ただし外力はスパン単位で評価するため対象外とし、備考欄に状況を記入）。
B49: ※4：本様式は覆工スパン毎に作成すること。
B50: ※5：変状数が多い場合は、適時、表の行を増やして覆工スパン毎に1枚のシートに収めること。また、1スパン１シートとし、スパンに合わせてシートを追加すること。
B51: ※6：対策区分毎の変状の発生範囲の規模とは，対策を行う際に参考となる変状の長さや面積であり，変状を包含する長さや面積とする。
B52: ※7：路面滞水は、変状面積に1を記載するとともに、備考にも内容を記載すること。

Sheet 様式D-3_S003
AU1: 様式E-1リンク用→ | AV1: 覆工ｽﾊﾟﾝ 番号 | AW1: ｽﾊﾟﾝ 長 (m) | AX1: 変状数集計 | BS1: 覆工スパン毎の 健全性の診断 | BW1: 変状規模集計
AX2: 対策区分毎の変状数 | BJ2: 健全性の判定区分毎の変状数 | BW2: 覆工スパン長(m) | CA2: 対策区分毎の変状の発生範囲の規模(㎡）
B3: ■定期点検記録様式 覆工スパン別変状詳細展開図 【様式D-3】 | AX3: 外力 | BB3: 材質劣化 | BF3: 漏水 | BJ3: 外力 | BM3: 材質劣化 | BP3: 漏水 | BS3: 外力 | BT3: 材質劣化 | BU3: 漏水 | BV3: 健全性 | BW3: 外力※１ | CA3: 材質劣化 | CE3: 漏水
B4: フリガナ | E4: チャウスヤマトンネル | K4: 路線名 | N4: 主要道路防府環状線 | T4: 定期点検業者 | Y4: セントラルコンサルタント株式会社 | AG4: 定期点検年月日 | AK4: 44337 | AX4: Ⅳ | AY4: Ⅲ | AZ4: Ⅱa | BA4: Ⅱb | BB4: Ⅳ | BC4: Ⅲ | BD4: Ⅱa | BE4: Ⅱb | BF4: Ⅳ | BG4: Ⅲ | BH4: Ⅱa | BI4: Ⅱb | BJ4: Ⅳ | BK4: Ⅲ | BL4: Ⅱ | BM4: Ⅳ | BN4: Ⅲ | BO4: Ⅱ | BP4: Ⅳ | BQ4: Ⅲ | BR4: Ⅱ | BW4: Ⅳ | BX4: Ⅲ | BY4: Ⅱa | BZ4: Ⅱb | CA4: Ⅳ | CB4: Ⅲ | CC4: Ⅱa | CD4: Ⅱb | CE4: Ⅳ | CF4: Ⅲ | CG4: Ⅱa | CH4: Ⅱb
B5: 名 称 | E5: 茶臼山トンネル | K5: 管理者名 | N5: 山口県防府土木建築事務所 | T5: 定期点検者名 | Y5: 鹿子嶋 康博 | AV5: =N7 -> S3 | AW5: =R7 -> 4 | AX5: =+Y32 -> 0 | AY5: =+Z32 -> 0 | AZ5: =+AA32 -> 0 | BA5: =+AB32 -> 1 | BB5: =+AC32 -> 0 | BC5: =+AD32 -> 0 | BD5: =+AE32 -> 0 | BE5: =+AF32 -> 1 | ... BI5: =+AJ32 -> 0 | BJ5: =+Y35 | BK5: =+Z35 | BL5: =+AA35 -> 1 | BM5: =+AC35 -> 0 | BN5: =+AD35 -> 0 | BO5: =+AE35 -> 1 | BP5: =+AG35 -> 0 | BQ5: =+AH35 -> 0 | BR5: =+AI35 -> 0 | BS5: =+Y36 -> Ⅱ | BT5: =+AC36 -> Ⅱ | BU5: =+AG36 -> Ⅰ | BV5: =+Y37 -> Ⅱ | BW5: =IF(Y32>0,$R$7,"") | BX5: =IF(Z32>0,"",IF(AA32>0,$R$7,"")) | BY5: =IF(Y32+Z32>0,"",IF(AA32>0,$R$7,"")) | BZ5: =IF(Y32+Z32+AA32>0,"",IF(AB32>0,$R$7,"")) -> 4 | CA5: =+AC31 -> 0 | CB5: =+AD31 -> 0 | CC5: =+AE31 -> 0 | CD5: =+AF31 -> 0.04 | CE5: =+AG31 -> 0 | CF5: =+AH31 -> 0 | CG5: =+AI31 -> 0 | CH5: =+AJ31 -> 0
B6: スパン別変状展開図 | K6: 【健全性判定集計表】
K7: スパン番号 | N7: S3 | P7: スパン長 | R7: 4 | U7: 前回定期点検時の健全性 | W7: 応急措置前の判定 | Y7: 対策区分毎の 変状の有無 | AC7: 対策区分毎の変状の発生範囲の規模(㎡) | AK7: 備考注2
K8: 変状番号 | L8: 対象箇所 | N8: 部位区分 | P8: 変状区分 | R8: 変状種類
Y9: 外力注1 | AC9: 材質劣化注1 | AG9: 漏水注1
Y10: Ⅳ | Z10: Ⅲ | AA10: Ⅱa | AB10: Ⅱb | AC10: Ⅳ | AD10: Ⅲ | AE10: Ⅱa | AF10: Ⅱb | AG10: Ⅳ | AH10: Ⅲ | AI10: Ⅱa | AJ10: Ⅱb
K11: 1 | L11: 覆工・坑門 | N11: アーチ（左側） | P11: 材質劣化 | R11: 補強・補修材の破損 | U11: - | AF11: 0.04 | AK11: 0 | AQ11: =IF(P11="材質劣化",2,IF(P11="漏水",3,1)) -> 2
K12: 2 | L12: 覆工・坑門 | N12: アーチ（右側） | P12: 外力 | R12: ひび割れ | U12: - | AB12: ○ | AK12: 幅0.3mm×長さ1.4m,縦断ひび割れ | AQ12: =IF(P12="材質劣化",2,IF(P12="漏水",3,1)) -> 1
AQ13: =IF(P13="材質劣化",2,IF(P13="漏水",3,1)) -> 1
AQ14: =IF(P14="材質劣化",2,IF(P14="漏水",3,1)) -> 1
AQ15: =IF(P15="材質劣化",2,IF(P15="漏水",3,1)) -> 1
AQ16: =IF(P16="材質劣化",2,IF(P16="漏水",3,1)) -> 1
AQ17: =IF(P17="材質劣化",2,IF(P17="漏水",3,1)) -> 1
AQ18: =IF(P18="材質劣化",2,IF(P18="漏水",3,1)) -> 1
AQ19: =IF(P19="材質劣化",2,IF(P19="漏水",3,1)) -> 1
AQ20: =IF(P20="材質劣化",2,IF(P20="漏水",3,1)) -> 1
AQ21: =IF(P21="材質劣化",2,IF(P21="漏水",3,1)) -> 1
AQ22: =IF(P22="材質劣化",2,IF(P22="漏水",3,1)) -> 1
AQ23: =IF(P23="材質劣化",2,IF(P23="漏水",3,1)) -> 1
AQ24: =IF(P24="材質劣化",2,IF(P24="漏水",3,1)) -> 1
... AQ30: =IF(P30="材質劣化",2,IF(P30="漏水",3,1)) -> 1
K31: 集計 ・ 判定 ・ 診断 | L31: 変状の発生規模合計(㎡) | Y31: － | AC31: =SUM(AC11:AC30) -> 0 | AD31: =SUM(AD11:AD30) -> 0 | AE31: =SUM(AE11:AE30) -> 0 | AF31: =SUM(AF11:AF30) -> 0.04 | AG31: =SUM(AG11:AG30) -> 0 | AH31: =SUM(AH11:AH30) -> 0 | AI31: =SUM(AI11:AI30) -> 0 | AJ31: =SUM(AJ11:AJ30) -> 0 | AK31: 計
L32: 対策区分の 判定結果 | O32: 判定区分毎の変状数 | Y32: =COUNTIF(Y11:Y30,"○") -> 0 | Z32: =COUNTIF(Z11:Z30,"○") -> 0 | AA32: =COUNTIF(AA11:AA30,"○") -> 0 | AB32: =COUNTIF(AB11:AB30,"○") -> 1 | AC32: =COUNT(AC11:AC30) -> 0 | AD32: =COUNT(AD11:AD30) -> 0 | AE32: =COUNT(AE11:AE30) -> 0 | AF32: =COUNT(AF11:AF30) -> 1 | AG32: =COUNT(AG11:AG30) -> 0 | AH32: =COUNT(AH11:AH30) -> 0 | AI32: =COUNT(AI11:AI30) -> 0 | AJ32: =COUNT(AJ11:AJ30) -> 0
O33: 変状区分毎の判定区分注3 | Y33: =IF(Y32>0,"Ⅳ",IF(Z32>0,"Ⅲ",IF(AA32>0,"Ⅱa",IF(AB32>0,"Ⅱb","Ⅰ")))) -> Ⅱb | AC33: =IF(AC32>0,"Ⅳ",IF(AD32>0,"Ⅲ",IF(AE32>0,"Ⅱa",IF(AF32>0,"Ⅱb","Ⅰ")))) -> Ⅱb | AG33: =IF(AG32>0,"Ⅳ",IF(AH32>0,"Ⅲ",IF(AI32>0,"Ⅱa",IF(AJ32>0,"Ⅱb","Ⅰ")))) -> Ⅰ | AQ33: Ⅳ | AR33: Ⅲ | AS33: Ⅱ
L34: 健全性の 診断結果 | O34: 判定区分 | Y34: Ⅳ | Z34: Ⅲ | AA34: Ⅱ | AC34: Ⅳ | AD34: Ⅲ | AE34: Ⅱ | AG34: Ⅳ | AH34: Ⅲ | AI34: Ⅱ | AQ34: =+Y32+Z32 -> 0 | AS34: =+AA32+AB32 -> 1
O35: 判定区分毎の変状数注4 | Y35: =IF(Y32=0,"",1) | Z35: =IF(Z32=0,"",1) | AA35: =IF(AQ34=1,"",IF(AS34>0,1,"")) -> 1 | AC35: =+AC32 -> 0 | AD35: =AD32 -> 0 | AE35: =AE32+AF32 -> 1 | AG35: =AG32 -> 0 | AH35: =AH32 -> 0 | AI35: =AI32+AJ32 -> 0 | AQ35: =+Y32+AC35+AG35 -> 0 | AR35: =+Z32+AD35+AH35 -> 0 | AS35: =+AS34+AE35+AI35 -> 2
O36: 変状区分毎の判定区分注4 | Y36: =IF(Y35=1,"Ⅳ",IF(Z35=1,"Ⅲ",IF(AA35=1,"Ⅱ","Ⅰ"))) -> Ⅱ | AC36: =IF(AC35>0,"Ⅳ",IF(AD35>0,"Ⅲ",IF(AE35>0,"Ⅱ","Ⅰ"))) -> Ⅱ | AG36: =IF(AG35>0,"Ⅳ",IF(AH35>0,"Ⅲ",IF(AI35>0,"Ⅱ","Ⅰ"))) -> Ⅰ | AQ36: =IF(AQ35>0,"Ⅳ",IF(AR35>0,"Ⅲ",IF(AS35>0,"Ⅱ","Ⅰ"))) -> Ⅱ
O37: 覆工スパン単位の判定区分注5 | Y37: =IF(OR(Y36="Ⅳ",AC36="Ⅳ",AG36="Ⅳ"),"Ⅳ",IF(OR(Y36="Ⅲ",AC36="Ⅲ",AG36="Ⅲ"),"Ⅲ",IF(OR(Y36="Ⅱ",AC36="Ⅱ",AG36="Ⅱ"),"Ⅱ","Ⅰ"))) -> Ⅱ
K38: 特記事項
K40: 注1：誤記入防止のため、当該変状区分以外のセルは灰色表示とすること。
K41: 注2：応急対策を実施した場合は、その詳細を備考に記載すること。
K42: 注3：変状区分毎での最も評価の厳しい判定区分。
K43: 注4：変状区分毎での最も評価の厳しい判定区分．外力は覆工スパン単位、材質劣化、漏水は変状単位で行う。
K44: 注5：覆工スパンの中で最も評価の厳しい健全性を採用し、その覆工スパン毎の健全性とする。
B46: ※1：本シートは作成洩れのないよう、変状が無くても全スパン分を作成すること．また変状展開図は、様式D-2-1、様式D-2-1'と同じものを覆工スパン単位で拡大し掲載すること。
B47: ※2：変状番号は、様式D-1-1で記入した番号と整合させること。
B48: ※3：対策区分毎の変状発生規模は、様式D-1-1に記載した面積を記入すること（ただし外力はスパン単位で評価するため対象外とし、備考欄に状況を記入）。
B49: ※4：本様式は覆工スパン毎に作成すること。
B50: ※5：変状数が多い場合は、適時、表の行を増やして覆工スパン毎に1枚のシートに収めること。また、1スパン１シートとし、スパンに合わせてシートを追加すること。
B51: ※6：対策区分毎の変状の発生範囲の規模とは，対策を行う際に参考となる変状の長さや面積であり，変状を包含する長さや面積とする。
B52: ※7：路面滞水は、変状面積に1を記載するとともに、備考にも内容を記載すること。

Sheet 様式D-3_S004
AU1: 様式E-1リンク用→ | AV1: 覆工ｽﾊﾟﾝ 番号 | AW1: ｽﾊﾟﾝ 長 (m) | AX1: 変状数集計 | BS1: 覆工スパン毎の 健全性の診断 | BW1: 変状規模集計
AX2: 対策区分毎の変状数 | BJ2: 健全性の判定区分毎の変状数 | BW2: 覆工スパン長(m) | CA2: 対策区分毎の変状の発生範囲の規模(㎡）
B3: ■定期点検記録様式 覆工スパン別変状詳細展開図 【様式D-3】 | AX3: 外力 | BB3: 材質劣化 | BF3: 漏水 | BJ3: 外力 | BM3: 材質劣化 | BP3: 漏水 | BS3: 外力 | BT3: 材質劣化 | BU3: 漏水 | BV3: 健全性 | BW3: 外力※１ | CA3: 材質劣化 | CE3: 漏水
B4: フリガナ | E4: チャウスヤマトンネル | K4: 路線名 | N4: 主要道路防府環状線 | T4: 定期点検業者 | Y4: セントラルコンサルタント株式会社 | AG4: 定期点検年月日 | AK4: 44337 | AX4: Ⅳ | AY4: Ⅲ | AZ4: Ⅱa | BA4: Ⅱb | BB4: Ⅳ | BC4: Ⅲ | BD4: Ⅱa | BE4: Ⅱb | BF4: Ⅳ | BG4: Ⅲ | BH4: Ⅱa | BI4: Ⅱb | BJ4: Ⅳ | BK4: Ⅲ | BL4: Ⅱ | BM4: Ⅳ | BN4: Ⅲ | BO4: Ⅱ | BP4: Ⅳ | BQ4: Ⅲ | BR4: Ⅱ | BW4: Ⅳ | BX4: Ⅲ | BY4: Ⅱa | BZ4: Ⅱb | CA4: Ⅳ | CB4: Ⅲ | CC4: Ⅱa | CD4: Ⅱb | CE4: Ⅳ | CF4: Ⅲ | CG4: Ⅱa | CH4: Ⅱb
B5: 名 称 | E5: 茶臼山トンネル | K5: 管理者名 | N5: 山口県防府土木建築事務所 | T5: 定期点検者名 | Y5: 鹿子嶋 康博 | AV5: =N7 -> S4 | AW5: =R7 -> 3.6 | AX5: =+Y32 -> 0 | AY5: =+Z32 -> 0 | AZ5: =+AA32 -> 0 | BA5: =+AB32 -> 2 | BB5: =+AC32 -> 0 | BC5: =+AD32 -> 0 | BD5: =+AE32 -> 0 | BE5: =+AF32 -> 0 | ... BI5: =+AJ32 -> 0 | BJ5: =+Y35 | BK5: =+Z35 | BL5: =+AA35 -> 1 | BM5: =+AC35 -> 0 | BN5: =+AD35 -> 0 | BO5: =+AE35 -> 0 | BP5: =+AG35 -> 0 | BQ5: =+AH35 -> 0 | BR5: =+AI35 -> 0 | BS5: =+Y36 -> Ⅱ | BT5: =+AC36 -> Ⅰ | BU5: =+AG36 -> Ⅰ | BV5: =+Y37 -> Ⅱ | BW5: =IF(Y32>0,$R$7,"") | BX5: =IF(Z32>0,"",IF(AA32>0,$R$7,"")) | BY5: =IF(Y32+Z32>0,"",IF(AA32>0,$R$7,"")) | BZ5: =IF(Y32+Z32+AA32>0,"",IF(AB32>0,$R$7,"")) -> 3.6 | CA5: =+AC31 -> 0 | CB5: =+AD31 -> 0 | CC5: =+AE31 -> 0 | CD5: =+AF31 -> 0 | CE5: =+AG31 -> 0 | CF5: =+AH31 -> 0 | CG5: =+AI31 -> 0 | CH5: =+AJ31 -> 0
B6: スパン別変状展開図 | K6: 【健全性判定集計表】
K7: スパン番号 | N7: S4 | P7: スパン長 | R7: 3.6 | U7: 前回定期点検時の健全性 | W7: 応急措置前の判定 | Y7: 対策区分毎の 変状の有無 | AC7: 対策区分毎の変状の発生範囲の規模(㎡) | AK7: 備考注2
K8: 変状番号 | L8: 対象箇所 | N8: 部位区分 | P8: 変状区分 | R8: 変状種類
Y9: 外力注1 | AC9: 材質劣化注1 | AG9: 漏水注1
Y10: Ⅳ | Z10: Ⅲ | AA10: Ⅱa | AB10: Ⅱb | AC10: Ⅳ | AD10: Ⅲ | AE10: Ⅱa | AF10: Ⅱb | AG10: Ⅳ | AH10: Ⅲ | AI10: Ⅱa | AJ10: Ⅱb
K11: 1 | L11: 覆工・坑門 | N11: アーチ（左側） | P11: 外力 | R11: ひび割れ | U11: - | AB11: ○ | AK11: 幅1.0mm×長さ3.7m,縦断ひび割れ | AQ11: =IF(P11="材質劣化",2,IF(P11="漏水",3,1)) -> 1
K12: 2 | L12: 覆工・坑門 | N12: アーチ（右側） | P12: 外力 | R12: ひび割れ | U12: Ⅰ | AB12: ○ | AK12: 幅0.3mm未満,縦断ひび割れ | AQ12: =IF(P12="材質劣化",2,IF(P12="漏水",3,1)) -> 1
AQ13: =IF(P13="材質劣化",2,IF(P13="漏水",3,1)) -> 1
AQ14: =IF(P14="材質劣化",2,IF(P14="漏水",3,1)) -> 1
AQ15: =IF(P15="材質劣化",2,IF(P15="漏水",3,1)) -> 1
AQ16: =IF(P16="材質劣化",2,IF(P16="漏水",3,1)) -> 1
AQ17: =IF(P17="材質劣化",2,IF(P17="漏水",3,1)) -> 1
AQ18: =IF(P18="材質劣化",2,IF(P18="漏水",3,1)) -> 1
AQ19: =IF(P19="材質劣化",2,IF(P19="漏水",3,1)) -> 1
AQ20: =IF(P20="材質劣化",2,IF(P20="漏水",3,1)) -> 1
AQ21: =IF(P21="材質劣化",2,IF(P21="漏水",3,1)) -> 1
AQ22: =IF(P22="材質劣化",2,IF(P22="漏水",3,1)) -> 1
AQ23: =IF(P23="材質劣化",2,IF(P23="漏水",3,1)) -> 1
AQ24: =IF(P24="材質劣化",2,IF(P24="漏水",3,1)) -> 1
... AQ30: =IF(P30="材質劣化",2,IF(P30="漏水",3,1)) -> 1
K31: 集計 ・ 判定 ・ 診断 | L31: 変状の発生規模合計(㎡) | Y31: － | AC31: =SUM(AC11:AC30) -> 0 | AD31: =SUM(AD11:AD30) -> 0 | AE31: =SUM(AE11:AE30) -> 0 | AF31: =SUM(AF11:AF30) -> 0 | AG31: =SUM(AG11:AG30) -> 0 | AH31: =SUM(AH11:AH30) -> 0 | AI31: =SUM(AI11:AI30) -> 0 | AJ31: =SUM(AJ11:AJ30) -> 0 | AK31: 計
L32: 対策区分の 判定結果 | O32: 判定区分毎の変状数 | Y32: =COUNTIF(Y11:Y30,"○") -> 0 | Z32: =COUNTIF(Z11:Z30,"○") -> 0 | AA32: =COUNTIF(AA11:AA30,"○") -> 0 | AB32: =COUNTIF(AB11:AB30,"○") -> 2 | AC32: =COUNT(AC11:AC30) -> 0 | AD32: =COUNT(AD11:AD30) -> 0 | AE32: =COUNT(AE11:AE30) -> 0 | AF32: =COUNT(AF11:AF30) -> 0 | AG32: =COUNT(AG11:AG30) -> 0 | AH32: =COUNT(AH11:AH30) -> 0 | AI32: =COUNT(AI11:AI30) -> 0 | AJ32: =COUNT(AJ11:AJ30) -> 0
O33: 変状区分毎の判定区分注3 | Y33: =IF(Y32>0,"Ⅳ",IF(Z32>0,"Ⅲ",IF(AA32>0,"Ⅱa",IF(AB32>0,"Ⅱb","Ⅰ")))) -> Ⅱb | AC33: =IF(AC32>0,"Ⅳ",IF(AD32>0,"Ⅲ",IF(AE32>0,"Ⅱa",IF(AF32>0,"Ⅱb","Ⅰ")))) -> Ⅰ | AG33: =IF(AG32>0,"Ⅳ",IF(AH32>0,"Ⅲ",IF(AI32>0,"Ⅱa",IF(AJ32>0,"Ⅱb","Ⅰ")))) -> Ⅰ | AQ33: Ⅳ | AR33: Ⅲ | AS33: Ⅱ
L34: 健全性の 診断結果 | O34: 判定区分 | Y34: Ⅳ | Z34: Ⅲ | AA34: Ⅱ | AC34: Ⅳ | AD34: Ⅲ | AE34: Ⅱ | AG34: Ⅳ | AH34: Ⅲ | AI34: Ⅱ | AQ34: =+Y32+Z32 -> 0 | AS34: =+AA32+AB32 -> 2
O35: 判定区分毎の変状数注4 | Y35: =IF(Y32=0,"",1) | Z35: =IF(Z32=0,"",1) | AA35: =IF(AQ34=1,"",IF(AS34>0,1,"")) -> 1 | AC35: =+AC32 -> 0 | AD35: =AD32 -> 0 | AE35: =AE32+AF32 -> 0 | AG35: =AG32 -> 0 | AH35: =AH32 -> 0 | AI35: =AI32+AJ32 -> 0 | AQ35: =+Y32+AC35+AG35 -> 0 | AR35: =+Z32+AD35+AH35 -> 0 | AS35: =+AS34+AE35+AI35 -> 2
O36: 変状区分毎の判定区分注4 | Y36: =IF(Y35=1,"Ⅳ",IF(Z35=1,"Ⅲ",IF(AA35=1,"Ⅱ","Ⅰ"))) -> Ⅱ | AC36: =IF(AC35>0,"Ⅳ",IF(AD35>0,"Ⅲ",IF(AE35>0,"Ⅱ","Ⅰ"))) -> Ⅰ | AG36: =IF(AG35>0,"Ⅳ",IF(AH35>0,"Ⅲ",IF(AI35>0,"Ⅱ","Ⅰ"))) -> Ⅰ | AQ36: =IF(AQ35>0,"Ⅳ",IF(AR35>0,"Ⅲ",IF(AS35>0,"Ⅱ","Ⅰ"))) -> Ⅱ
O37: 覆工スパン単位の判定区分注5 | Y37: =IF(OR(Y36="Ⅳ",AC36="Ⅳ",AG36="Ⅳ"),"Ⅳ",IF(OR(Y36="Ⅲ",AC36="Ⅲ",AG36="Ⅲ"),"Ⅲ",IF(OR(Y36="Ⅱ",AC36="Ⅱ",AG36="Ⅱ"),"Ⅱ","Ⅰ"))) -> Ⅱ
K38: 特記事項
K40: 注1：誤記入防止のため、当該変状区分以外のセルは灰色表示とすること。
K41: 注2：応急対策を実施した場合は、その詳細を備考に記載すること。
K42: 注3：変状区分毎での最も評価の厳しい判定区分。
K43: 注4：変状区分毎での最も評価の厳しい判定区分．外力は覆工スパン単位、材質劣化、漏水は変状単位で行う。
K44: 注5：覆工スパンの中で最も評価の厳しい健全性を採用し、その覆工スパン毎の健全性とする。
B46: ※1：本シートは作成洩れのないよう、変状が無くても全スパン分を作成すること．また変状展開図は、様式D-2-1、様式D-2-1'と同じものを覆工スパン単位で拡大し掲載すること。
B47: ※2：変状番号は、様式D-1-1で記入した番号と整合させること。
B48: ※3：対策区分毎の変状発生規模は、様式D-1-1に記載した面積を記入すること（ただし外力はスパン単位で評価するため対象外とし、備考欄に状況を記入）。
B49: ※4：本様式は覆工スパン毎に作成すること。
B50: ※5：変状数が多い場合は、適時、表の行を増やして覆工スパン毎に1枚のシートに収めること。また、1スパン１シートとし、スパンに合わせてシートを追加すること。
B51: ※6：対策区分毎の変状の発生範囲の規模とは，対策を行う際に参考となる変状の長さや面積であり，変状を包含する長さや面積とする。
B52: ※7：路面滞水は、変状面積に1を記載するとともに、備考にも内容を記載すること。

Sheet 様式D-3_S005
AU1: 様式E-1リンク用→ | AV1: 覆工ｽﾊﾟﾝ 番号 | AW1: ｽﾊﾟﾝ 長 (m) | AX1: 変状数集計 | BS1: 覆工スパン毎の 健全性の診断 | BW1: 変状規模集計
AX2: 対策区分毎の変状数 | BJ2: 健全性の判定区分毎の変状数 | BW2: 覆工スパン長(m) | CA2: 対策区分毎の変状の発生範囲の規模(㎡）
B3: ■定期点検記録様式 覆工スパン別変状詳細展開図 【様式D-3】 | AX3: 外力 | BB3: 材質劣化 | BF3: 漏水 | BJ3: 外力 | BM3: 材質劣化 | BP3: 漏水 | BS3: 外力 | BT3: 材質劣化 | BU3: 漏水 | BV3: 健全性 | BW3: 外力※１ | CA3: 材質劣化 | CE3: 漏水
B4: フリガナ | E4: チャウスヤマトンネル | K4: 路線名 | N4: 主要道路防府環状線 | T4: 定期点検業者 | Y4: セントラルコンサルタント株式会社 | AG4: 定期点検年月日 | AK4: 44337 | AX4: Ⅳ | AY4: Ⅲ | AZ4: Ⅱa | BA4: Ⅱb | BB4: Ⅳ | BC4: Ⅲ | BD4: Ⅱa | BE4: Ⅱb | BF4: Ⅳ | BG4: Ⅲ | BH4: Ⅱa | BI4: Ⅱb | BJ4: Ⅳ | BK4: Ⅲ | BL4: Ⅱ | BM4: Ⅳ | BN4: Ⅲ | BO4: Ⅱ | BP4: Ⅳ | BQ4: Ⅲ | BR4: Ⅱ | BW4: Ⅳ | BX4: Ⅲ | BY4: Ⅱa | BZ4: Ⅱb | CA4: Ⅳ | CB4: Ⅲ | CC4: Ⅱa | CD4: Ⅱb | CE4: Ⅳ | CF4: Ⅲ | CG4: Ⅱa | CH4: Ⅱb
B5: 名 称 | E5: 茶臼山トンネル | K5: 管理者名 | N5: 山口県防府土木建築事務所 | T5: 定期点検者名 | Y5: 鹿子嶋 康博 | AV5: =N7 -> S5 | AW5: =R7 -> 5.4 | AX5: =+Y32 -> 0 | AY5: =+Z32 -> 0 | AZ5: =+AA32 -> 0 | BA5: =+AB32 -> 2 | BB5: =+AC32 -> 0 | BC5: =+AD32 -> 0 | BD5: =+AE32 -> 1 | BE5: =+AF32 -> 1 | ... BI5: =+AJ32 -> 1 | BJ5: =+Y35 | BK5: =+Z35 | BL5: =+AA35 -> 1 | BM5: =+AC35 -> 0 | BN5: =+AD35 -> 0 | BO5: =+AE35 -> 2 | BP5: =+AG35 -> 0 | BQ5: =+AH35 -> 0 | BR5: =+AI35 -> 1 | BS5: =+Y36 -> Ⅱ | BT5: =+AC36 -> Ⅱ | BU5: =+AG36 -> Ⅱ | BV5: =+Y37 -> Ⅱ | BW5: =IF(Y32>0,$R$7,"") | BX5: =IF(Z32>0,"",IF(AA32>0,$R$7,"")) | BY5: =IF(Y32+Z32>0,"",IF(AA32>0,$R$7,"")) | BZ5: =IF(Y32+Z32+AA32>0,"",IF(AB32>0,$R$7,"")) -> 5.4 | CA5: =+AC31 -> 0 | CB5: =+AD31 -> 0 | CC5: =+AE31 -> 0.053 | CD5: =+AF31 -> 0.225 | CE5: =+AG31 -> 0 | CF5: =+AH31 -> 0 | CG5: =+AI31 -> 0 | CH5: =+AJ31 -> 9.9
B6: スパン別変状展開図 | K6: 【健全性判定集計表】
K7: スパン番号 | N7: S5 | P7: スパン長 | R7: 5.4 | U7: 前回定期点検時の健全性 | W7: 応急措置前の判定 | Y7: 対策区分毎の 変状の有無 | AC7: 対策区分毎の変状の発生範囲の規模(㎡) | AK7: 備考注2
K8: 変状番号 | L8: 対象箇所 | N8: 部位区分 | P8: 変状区分 | R8: 変状種類
Y9: 外力注1 | AC9: 材質劣化注1 | AG9: 漏水注1
Y10: Ⅳ | Z10: Ⅲ | AA10: Ⅱa | AB10: Ⅱb | AC10: Ⅳ | AD10: Ⅲ | AE10: Ⅱa | AF10: Ⅱb | AG10: Ⅳ | AH10: Ⅲ | AI10: Ⅱa | AJ10: Ⅱb
K11: 1 | L11: 覆工・坑門 | N11: アーチ（左側） | P11: 外力 | R11: ひび割れ | U11: - | AB11: ○ | AK11: 幅0.5mm×長さ5.2m,縦断ひび割れ | AQ11: =IF(P11="材質劣化",2,IF(P11="漏水",3,1)) -> 1
K12: 2 | L12: 覆工・坑門 | N12: 水平打ち継ぎ目（左側） | P12: 材質劣化 | R12: うき・はく離 | U12: - | AF12: 0.225 | AK12: 0 | AQ12: =IF(P12="材質劣化",2,IF(P12="漏水",3,1)) -> 2
K13: 3 | L13: 覆工・坑門 | N13: アーチ（天端） | P13: 材質劣化 | R13: うき・はく離 | U13: - | AE13: 0.053 | AK13: 0 | AQ13: =IF(P13="材質劣化",2,IF(P13="漏水",3,1)) -> 2
K14: 4 | L14: 覆工・坑門 | N14: アーチ（右側） | P14: 外力 | R14: ひび割れ | U14: - | AB14: ○ | AK14: 幅1.0mm×長さ4.7m,縦断ひび割れ | AQ14: =IF(P14="材質劣化",2,IF(P14="漏水",3,1)) -> 1
K15: 5 | L15: 覆工・坑門 | N15: アーチ（右側） | P15: 漏水 | R15: 漏水 | U15: Ⅱ | AJ15: 9.9 | AK15: 0 | AQ15: =IF(P15="材質劣化",2,IF(P15="漏水",3,1)) -> 3
AQ16: =IF(P16="材質劣化",2,IF(P16="漏水",3,1)) -> 1
AQ17: =IF(P17="材質劣化",2,IF(P17="漏水",3,1)) -> 1
AQ18: =IF(P18="材質劣化",2,IF(P18="漏水",3,1)) -> 1
AQ19: =IF(P19="材質劣化",2,IF(P19="漏水",3,1)) -> 1
AQ20: =IF(P20="材質劣化",2,IF(P20="漏水",3,1)) -> 1
AQ21: =IF(P21="材質劣化",2,IF(P21="漏水",3,1)) -> 1
AQ22: =IF(P22="材質劣化",2,IF(P22="漏水",3,1)) -> 1
AQ23: =IF(P23="材質劣化",2,IF(P23="漏水",3,1)) -> 1
AQ24: =IF(P24="材質劣化",2,IF(P24="漏水",3,1)) -> 1
AQ25: =IF(P25="材質劣化",2,IF(P25="漏水",3,1)) -> 1
AQ26: =IF(P26="材質劣化",2,IF(P26="漏水",3,1)) -> 1
AQ27: =IF(P27="材質劣化",2,IF(P27="漏水",3,1)) -> 1
... AQ30: =IF(P30="材質劣化",2,IF(P30="漏水",3,1)) -> 1
K31: 集計 ・ 判定 ・ 診断 | L31: 変状の発生規模合計(㎡) | Y31: － | AC31: =SUM(AC11:AC30) -> 0 | AD31: =SUM(AD11:AD30) -> 0 | AE31: =SUM(AE11:AE30) -> 0.053 | AF31: =SUM(AF11:AF30) -> 0.225 | AG31: =SUM(AG11:AG30) -> 0 | AH31: =SUM(AH11:AH30) -> 0 | AI31: =SUM(AI11:AI30) -> 0 | AJ31: =SUM(AJ11:AJ30) -> 9.9 | AK31: 計
L32: 対策区分の 判定結果 | O32: 判定区分毎の変状数 | Y32: =COUNTIF(Y11:Y30,"○") -> 0 | Z32: =COUNTIF(Z11:Z30,"○") -> 0 | AA32: =COUNTIF(AA11:AA30,"○") -> 0 | AB32: =COUNTIF(AB11:AB30,"○") -> 2 | AC32: =COUNT(AC11:AC30) -> 0 | AD32: =COUNT(AD11:AD30) -> 0 | AE32: =COUNT(AE11:AE30) -> 1 | AF32: =COUNT(AF11:AF30) -> 1 | AG32: =COUNT(AG11:AG30) -> 0 | AH32: =COUNT(AH11:AH30) -> 0 | AI32: =COUNT(AI11:AI30) -> 0 | AJ32: =COUNT(AJ11:AJ30) -> 1
O33: 変状区分毎の判定区分注3 | Y33: =IF(Y32>0,"Ⅳ",IF(Z32>0,"Ⅲ",IF(AA32>0,"Ⅱa",IF(AB32>0,"Ⅱb","Ⅰ")))) -> Ⅱb | AC33: =IF(AC32>0,"Ⅳ",IF(AD32>0,"Ⅲ",IF(AE32>0,"Ⅱa",IF(AF32>0,"Ⅱb","Ⅰ")))) -> Ⅱa | AG33: =IF(AG32>0,"Ⅳ",IF(AH32>0,"Ⅲ",IF(AI32>0,"Ⅱa",IF(AJ32>0,"Ⅱb","Ⅰ")))) -> Ⅱb | AQ33: Ⅳ | AR33: Ⅲ | AS33: Ⅱ
L34: 健全性の 診断結果 | O34: 判定区分 | Y34: Ⅳ | Z34: Ⅲ | AA34: Ⅱ | AC34: Ⅳ | AD34: Ⅲ | AE34: Ⅱ | AG34: Ⅳ | AH34: Ⅲ | AI34: Ⅱ | AQ34: =+Y32+Z32 -> 0 | AS34: =+AA32+AB32 -> 2
O35: 判定区分毎の変状数注4 | Y35: =IF(Y32=0,"",1) | Z35: =IF(Z32=0,"",1) | AA35: =IF(AQ34=1,"",IF(AS34>0,1,"")) -> 1 | AC35: =+AC32 -> 0 | AD35: =AD32 -> 0 | AE35: =AE32+AF32 -> 2 | AG35: =AG32 -> 0 | AH35: =AH32 -> 0 | AI35: =AI32+AJ32 -> 1 | AQ35: =+Y32+AC35+AG35 -> 0 | AR35: =+Z32+AD35+AH35 -> 0 | AS35: =+AS34+AE35+AI35 -> 5
O36: 変状区分毎の判定区分注4 | Y36: =IF(Y35=1,"Ⅳ",IF(Z35=1,"Ⅲ",IF(AA35=1,"Ⅱ","Ⅰ"))) -> Ⅱ | AC36: =IF(AC35>0,"Ⅳ",IF(AD35>0,"Ⅲ",IF(AE35>0,"Ⅱ","Ⅰ"))) -> Ⅱ | AG36: =IF(AG35>0,"Ⅳ",IF(AH35>0,"Ⅲ",IF(AI35>0,"Ⅱ","Ⅰ"))) -> Ⅱ | AQ36: =IF(AQ35>0,"Ⅳ",IF(AR35>0,"Ⅲ",IF(AS35>0,"Ⅱ","Ⅰ"))) -> Ⅱ
O37: 覆工スパン単位の判定区分注5 | Y37: =IF(OR(Y36="Ⅳ",AC36="Ⅳ",AG36="Ⅳ"),"Ⅳ",IF(OR(Y36="Ⅲ",AC36="Ⅲ",AG36="Ⅲ"),"Ⅲ",IF(OR(Y36="Ⅱ",AC36="Ⅱ",AG36="Ⅱ"),"Ⅱ","Ⅰ"))) -> Ⅱ
K38: 特記事項
K40: 注1：誤記入防止のため、当該変状区分以外のセルは灰色表示とすること。
K41: 注2：応急対策を実施した場合は、その詳細を備考に記載すること。
K42: 注3：変状区分毎での最も評価の厳しい判定区分。
K43: 注4：変状区分毎での最も評価の厳しい判定区分．外力は覆工スパン単位、材質劣化、漏水は変状単位で行う。
K44: 注5：覆工スパンの中で最も評価の厳しい健全性を採用し、その覆工スパン毎の健全性とする。
B46: ※1：本シートは作成洩れのないよう、変状が無くても全スパン分を作成すること．また変状展開図は、様式D-2-1、様式D-2-1'と同じものを覆工スパン単位で拡大し掲載すること。
B47: ※2：変状番号は、様式D-1-1で記入した番号と整合させること。
B48: ※3：対策区分毎の変状発生規模は、様式D-1-1に記載した面積を記入すること（ただし外力はスパン単位で評価するため対象外とし、備考欄に状況を記入）。
B49: ※4：本様式は覆工スパン毎に作成すること。
B50: ※5：変状数が多い場合は、適時、表の行を増やして覆工スパン毎に1枚のシートに収めること。また、1スパン１シートとし、スパンに合わせてシートを追加すること。
B51: ※6：対策区分毎の変状の発生範囲の規模とは，対策を行う際に参考となる変状の長さや面積であり，変状を包含する長さや面積とする。
B52: ※7：路面滞水は、変状面積に1を記載するとともに、備考にも内容を記載すること。

Sheet 様式D-3_S006
AU1: 様式E-1リンク用→ | AV1: 覆工ｽﾊﾟﾝ 番号 | AW1: ｽﾊﾟﾝ 長 (m) | AX1: 変状数集計 | BS1: 覆工スパン毎の 健全性の診断 | BW1: 変状規模集計
AX2: 対策区分毎の変状数 | BJ2: 健全性の判定区分毎の変状数 | BW2: 覆工スパン長(m) | CA2: 対策区分毎の変状の発生範囲の規模(㎡）
B3: ■定期点検記録様式 覆工スパン別変状詳細展開図 【様式D-3】 | AX3: 外力 | BB3: 材質劣化 | BF3: 漏水 | BJ3: 外力 | BM3: 材質劣化 | BP3: 漏水 | BS3: 外力 | BT3: 材質劣化 | BU3: 漏水 | BV3: 健全性 | BW3: 外力※１ | CA3: 材質劣化 | CE3: 漏水
B4: フリガナ | E4: チャウスヤマトンネル | K4: 路線名 | N4: 主要道路防府環状線 | T4: 定期点検業者 | Y4: セントラルコンサルタント株式会社 | AG4: 定期点検年月日 | AK4: 44337 | AX4: Ⅳ | AY4: Ⅲ | AZ4: Ⅱa | BA4: Ⅱb | BB4: Ⅳ | BC4: Ⅲ | BD4: Ⅱa | BE4: Ⅱb | BF4: Ⅳ | BG4: Ⅲ | BH4: Ⅱa | BI4: Ⅱb | BJ4: Ⅳ | BK4: Ⅲ | BL4: Ⅱ | BM4: Ⅳ | BN4: Ⅲ | BO4: Ⅱ | BP4: Ⅳ | BQ4: Ⅲ | BR4: Ⅱ | BW4: Ⅳ | BX4: Ⅲ | BY4: Ⅱa | BZ4: Ⅱb | CA4: Ⅳ | CB4: Ⅲ | CC4: Ⅱa | CD4: Ⅱb | CE4: Ⅳ | CF4: Ⅲ | CG4: Ⅱa | CH4: Ⅱb
B5: 名 称 | E5: 茶臼山トンネル | K5: 管理者名 | N5: 山口県防府土木建築事務所 | T5: 定期点検者名 | Y5: 鹿子嶋 康博 | AV5: =N7 -> S6 | AW5: =R7 -> 4.3 | AX5: =+Y32 -> 0 | AY5: =+Z32 -> 0 | AZ5: =+AA32 -> 0 | BA5: =+AB32 -> 1 | BB5: =+AC32 -> 0 | BC5: =+AD32 -> 0 | BD5: =+AE32 -> 0 | BE5: =+AF32 -> 0 | ... BI5: =+AJ32 -> 1 | BJ5: =+Y35 | BK5: =+Z35 | BL5: =+AA35 -> 1 | BM5: =+AC35 -> 0 | BN5: =+AD35 -> 0 | BO5: =+AE35 -> 0 | BP5: =+AG35 -> 0 | BQ5: =+AH35 -> 0 | BR5: =+AI35 -> 1 | BS5: =+Y36 -> Ⅱ | BT5: =+AC36 -> Ⅰ | BU5: =+AG36 -> Ⅱ | BV5: =+Y37 -> Ⅱ | BW5: =IF(Y32>0,$R$7,"") | BX5: =IF(Z32>0,"",IF(AA32>0,$R$7,"")) | BY5: =IF(Y32+Z32>0,"",IF(AA32>0,$R$7,"")) | BZ5: =IF(Y32+Z32+AA32>0,"",IF(AB32>0,$R$7,"")) -> 4.3 | CA5: =+AC31 -> 0 | CB5: =+AD31 -> 0 | CC5: =+AE31 -> 0 | CD5: =+AF31 -> 0 | CE5: =+AG31 -> 0 | CF5: =+AH31 -> 0 | CG5: =+AI31 -> 0 | CH5: =+AJ31 -> 2.35
B6: スパン別変状展開図 | K6: 【健全性判定集計表】
K7: スパン番号 | N7: S6 | P7: スパン長 | R7: 4.3 | U7: 前回定期点検時の健全性 | W7: 応急措置前の判定 | Y7: 対策区分毎の 変状の有無 | AC7: 対策区分毎の変状の発生範囲の規模(㎡) | AK7: 備考注2
K8: 変状番号 | L8: 対象箇所 | N8: 部位区分 | P8: 変状区分 | R8: 変状種類
Y9: 外力注1 | AC9: 材質劣化注1 | AG9: 漏水注1
Y10: Ⅳ | Z10: Ⅲ | AA10: Ⅱa | AB10: Ⅱb | AC10: Ⅳ | AD10: Ⅲ | AE10: Ⅱa | AF10: Ⅱb | AG10: Ⅳ | AH10: Ⅲ | AI10: Ⅱa | AJ10: Ⅱb
K11: 1 | L11: 覆工・坑門 | N11: アーチ（左側） | P11: 外力 | R11: ひび割れ | U11: - | AB11: ○ | AK11: 幅1.5mm×長さ3.6m,縦断ひび割れ | AQ11: =IF(P11="材質劣化",2,IF(P11="漏水",3,1)) -> 1
K12: 2 | L12: 覆工・坑門 | N12: アーチ（左側） | P12: 漏水 | R12: 漏水 | U12: Ⅱ | AJ12: 2.35 | AK12: 0 | AQ12: =IF(P12="材質劣化",2,IF(P12="漏水",3,1)) -> 3
K13: 3 | L13: 覆工・坑門 | N13: アーチ（天端） | P13: 漏水 | R13: 漏水 | U13: Ⅱ | AK13: 0 | AQ13: =IF(P13="材質劣化",2,IF(P13="漏水",3,1)) -> 3
AQ14: =IF(P14="材質劣化",2,IF(P14="漏水",3,1)) -> 1
AQ15: =IF(P15="材質劣化",2,IF(P15="漏水",3,1)) -> 1
AQ16: =IF(P16="材質劣化",2,IF(P16="漏水",3,1)) -> 1
AQ17: =IF(P17="材質劣化",2,IF(P17="漏水",3,1)) -> 1
AQ18: =IF(P18="材質劣化",2,IF(P18="漏水",3,1)) -> 1
AQ19: =IF(P19="材質劣化",2,IF(P19="漏水",3,1)) -> 1
AQ20: =IF(P20="材質劣化",2,IF(P20="漏水",3,1)) -> 1
AQ21: =IF(P21="材質劣化",2,IF(P21="漏水",3,1)) -> 1
AQ22: =IF(P22="材質劣化",2,IF(P22="漏水",3,1)) -> 1
AQ23: =IF(P23="材質劣化",2,IF(P23="漏水",3,1)) -> 1
AQ24: =IF(P24="材質劣化",2,IF(P24="漏水",3,1)) -> 1
AQ25: =IF(P25="材質劣化",2,IF(P25="漏水",3,1)) -> 1
... AQ30: =IF(P30="材質劣化",2,IF(P30="漏水",3,1)) -> 1
K31: 集計 ・ 判定 ・ 診断 | L31: 変状の発生規模合計(㎡) | Y31: － | AC31: =SUM(AC11:AC30) -> 0 | AD31: =SUM(AD11:AD30) -> 0 | AE31: =SUM(AE11:AE30) -> 0 | AF31: =SUM(AF11:AF30) -> 0 | AG31: =SUM(AG11:AG30) -> 0 | AH31: =SUM(AH11:AH30) -> 0 | AI31: =SUM(AI11:AI30) -> 0 | AJ31: =SUM(AJ11:AJ30) -> 2.35 | AK31: 計
L32: 対策区分の 判定結果 | O32: 判定区分毎の変状数 | Y32: =COUNTIF(Y11:Y30,"○") -> 0 | Z32: =COUNTIF(Z11:Z30,"○") -> 0 | AA32: =COUNTIF(AA11:AA30,"○") -> 0 | AB32: =COUNTIF(AB11:AB30,"○") -> 1 | AC32: =COUNT(AC11:AC30) -> 0 | AD32: =COUNT(AD11:AD30) -> 0 | AE32: =COUNT(AE11:AE30) -> 0 | AF32: =COUNT(AF11:AF30) -> 0 | AG32: =COUNT(AG11:AG30) -> 0 | AH32: =COUNT(AH11:AH30) -> 0 | AI32: =COUNT(AI11:AI30) -> 0 | AJ32: =COUNT(AJ11:AJ30) -> 1
O33: 変状区分毎の判定区分注3 | Y33: =IF(Y32>0,"Ⅳ",IF(Z32>0,"Ⅲ",IF(AA32>0,"Ⅱa",IF(AB32>0,"Ⅱb","Ⅰ")))) -> Ⅱb | AC33: =IF(AC32>0,"Ⅳ",IF(AD32>0,"Ⅲ",IF(AE32>0,"Ⅱa",IF(AF32>0,"Ⅱb","Ⅰ")))) -> Ⅰ | AG33: =IF(AG32>0,"Ⅳ",IF(AH32>0,"Ⅲ",IF(AI32>0,"Ⅱa",IF(AJ32>0,"Ⅱb","Ⅰ")))) -> Ⅱb | AQ33: Ⅳ | AR33: Ⅲ | AS33: Ⅱ
L34: 健全性の 診断結果 | O34: 判定区分 | Y34: Ⅳ | Z34: Ⅲ | AA34: Ⅱ | AC34: Ⅳ | AD34: Ⅲ | AE34: Ⅱ | AG34: Ⅳ | AH34: Ⅲ | AI34: Ⅱ | AQ34: =+Y32+Z32 -> 0 | AS34: =+AA32+AB32 -> 1
O35: 判定区分毎の変状数注4 | Y35: =IF(Y32=0,"",1) | Z35: =IF(Z32=0,"",1) | AA35: =IF(AQ34=1,"",IF(AS34>0,1,"")) -> 1 | AC35: =+AC32 -> 0 | AD35: =AD32 -> 0 | AE35: =AE32+AF32 -> 0 | AG35: =AG32 -> 0 | AH35: =AH32 -> 0 | AI35: =AI32+AJ32 -> 1 | AQ35: =+Y32+AC35+AG35 -> 0 | AR35: =+Z32+AD35+AH35 -> 0 | AS35: =+AS34+AE35+AI35 -> 2
O36: 変状区分毎の判定区分注4 | Y36: =IF(Y35=1,"Ⅳ",IF(Z35=1,"Ⅲ",IF(AA35=1,"Ⅱ","Ⅰ"))) -> Ⅱ | AC36: =IF(AC35>0,"Ⅳ",IF(AD35>0,"Ⅲ",IF(AE35>0,"Ⅱ","Ⅰ"))) -> Ⅰ | AG36: =IF(AG35>0,"Ⅳ",IF(AH35>0,"Ⅲ",IF(AI35>0,"Ⅱ","Ⅰ"))) -> Ⅱ | AQ36: =IF(AQ35>0,"Ⅳ",IF(AR35>0,"Ⅲ",IF(AS35>0,"Ⅱ","Ⅰ"))) -> Ⅱ
O37: 覆工スパン単位の判定区分注5 | Y37: =IF(OR(Y36="Ⅳ",AC36="Ⅳ",AG36="Ⅳ"),"Ⅳ",IF(OR(Y36="Ⅲ",AC36="Ⅲ",AG36="Ⅲ"),"Ⅲ",IF(OR(Y36="Ⅱ",AC36="Ⅱ",AG36="Ⅱ"),"Ⅱ","Ⅰ"))) -> Ⅱ
K38: 特記事項
K40: 注1：誤記入防止のため、当該変状区分以外のセルは灰色表示とすること。
K41: 注2：応急対策を実施した場合は、その詳細を備考に記載すること。
K42: 注3：変状区分毎での最も評価の厳しい判定区分。
K43: 注4：変状区分毎での最も評価の厳しい判定区分．外力は覆工スパン単位、材質劣化、漏水は変状単位で行う。
K44: 注5：覆工スパンの中で最も評価の厳しい健全性を採用し、その覆工スパン毎の健全性とする。
B46: ※1：本シートは作成洩れのないよう、変状が無くても全スパン分を作成すること．また変状展開図は、様式D-2-1、様式D-2-1'と同じものを覆工スパン単位で拡大し掲載すること。
B47: ※2：変状番号は、様式D-1-1で記入した番号と整合させること。
B48: ※3：対策区分毎の変状発生規模は、様式D-1-1に記載した面積を記入すること（ただし外力はスパン単位で評価するため対象外とし、備考欄に状況を記入）。
B49: ※4：本様式は覆工スパン毎に作成すること。
B50: ※5：変状数が多い場合は、適時、表の行を増やして覆工スパン毎に1枚のシートに収めること。また、1スパン１シートとし、スパンに合わせてシートを追加すること。
B51: ※6：対策区分毎の変状の発生範囲の規模とは，対策を行う際に参考となる変状の長さや面積であり，変状を包含する長さや面積とする。
B52: ※7：路面滞水は、変状面積に1を記載するとともに、備考にも内容を記載すること。

Sheet 様式D-3_S007
AU1: 様式E-1リンク用→ | AV1: 覆工ｽﾊﾟﾝ 番号 | AW1: ｽﾊﾟﾝ 長 (m) | AX1: 変状数集計 | BS1: 覆工スパン毎の 健全性の診断 | BW1: 変状規模集計
AX2: 対策区分毎の変状数 | BJ2: 健全性の判定区分毎の変状数 | BW2: 覆工スパン長(m) | CA2: 対策区分毎の変状の発生範囲の規模(㎡）
B3: ■定期点検記録様式 覆工スパン別変状詳細展開図 【様式D-3】 | AX3: 外力 | BB3: 材質劣化 | BF3: 漏水 | BJ3: 外力 | BM3: 材質劣化 | BP3: 漏水 | BS3: 外力 | BT3: 材質劣化 | BU3: 漏水 | BV3: 健全性 | BW3: 外力※１ | CA3: 材質劣化 | CE3: 漏水
B4: フリガナ | E4: チャウスヤマトンネル | K4: 路線名 | N4: 主要道路防府環状線 | T4: 定期点検業者 | Y4: セントラルコンサルタント株式会社 | AG4: 定期点検年月日 | AK4: 44337 | AX4: Ⅳ | AY4: Ⅲ | AZ4: Ⅱa | BA4: Ⅱb | BB4: Ⅳ | BC4: Ⅲ | BD4: Ⅱa | BE4: Ⅱb | BF4: Ⅳ | BG4: Ⅲ | BH4: Ⅱa | BI4: Ⅱb | BJ4: Ⅳ | BK4: Ⅲ | BL4: Ⅱ | BM4: Ⅳ | BN4: Ⅲ | BO4: Ⅱ | BP4: Ⅳ | BQ4: Ⅲ | BR4: Ⅱ | BW4: Ⅳ | BX4: Ⅲ | BY4: Ⅱa | BZ4: Ⅱb | CA4: Ⅳ | CB4: Ⅲ | CC4: Ⅱa | CD4: Ⅱb | CE4: Ⅳ | CF4: Ⅲ | CG4: Ⅱa | CH4: Ⅱb
B5: 名 称 | E5: 茶臼山トンネル | K5: 管理者名 | N5: 山口県防府土木建築事務所 | T5: 定期点検者名 | Y5: 鹿子嶋 康博 | AV5: =N7 -> S7 | AW5: =R7 -> 4 | AX5: =+Y32 -> 0 | AY5: =+Z32 -> 0 | AZ5: =+AA32 -> 0 | BA5: =+AB32 -> 2 | BB5: =+AC32 -> 0 | BC5: =+AD32 -> 2 | BD5: =+AE32 -> 0 | BE5: =+AF32 -> 1 | ... BI5: =+AJ32 -> 0 | BJ5: =+Y35 | BK5: =+Z35 | BL5: =+AA35 -> 1 | BM5: =+AC35 -> 0 | BN5: =+AD35 -> 2 | BO5: =+AE35 -> 1 | BP5: =+AG35 -> 0 | BQ5: =+AH35 -> 0 | BR5: =+AI35 -> 0 | BS5: =+Y36 -> Ⅱ | BT5: =+AC36 -> Ⅲ | BU5: =+AG36 -> Ⅰ | BV5: =+Y37 -> Ⅲ | BW5: =IF(Y32>0,$R$7,"") | BX5: =IF(Z32>0,"",IF(AA32>0,$R$7,"")) | BY5: =IF(Y32+Z32>0,"",IF(AA32>0,$R$7,"")) | BZ5: =IF(Y32+Z32+AA32>0,"",IF(AB32>0,$R$7,"")) -> 4 | CA5: =+AC31 -> 0 | CB5: =+AD31 -> 3.68 | CC5: =+AE31 -> 0 | CD5: =+AF31 -> 0.09 | CE5: =+AG31 -> 0 | CF5: =+AH31 -> 0 | CG5: =+AI31 -> 0 | CH5: =+AJ31 -> 0
B6: スパン別変状展開図 | K6: 【健全性判定集計表】
K7: スパン番号 | N7: S7 | P7: スパン長 | R7: 4 | U7: 前回定期点検時の健全性 | W7: 応急措置前の判定 | Y7: 対策区分毎の 変状の有無 | AC7: 対策区分毎の変状の発生範囲の規模(㎡) | AK7: 備考注2
K8: 変状番号 | L8: 対象箇所 | N8: 部位区分 | P8: 変状区分 | R8: 変状種類
Y9: 外力注1 | AC9: 材質劣化注1 | AG9: 漏水注1
Y10: Ⅳ | Z10: Ⅲ | AA10: Ⅱa | AB10: Ⅱb | AC10: Ⅳ | AD10: Ⅲ | AE10: Ⅱa | AF10: Ⅱb | AG10: Ⅳ | AH10: Ⅲ | AI10: Ⅱa | AJ10: Ⅱb
K11: 1 | L11: 覆工・坑門 | N11: アーチ（左側） | P11: 外力 | R11: ひび割れ | U11: - | AB11: ○ | AK11: 幅0.3mm未満,縦断ひび割れ | AQ11: =IF(P11="材質劣化",2,IF(P11="漏水",3,1)) -> 1
K12: 2 | L12: 覆工・坑門 | N12: 水平打ち継ぎ目（左側） | P12: 材質劣化 | R12: うき・はく離 | U12: - | AF12: 0.09 | AK12: 0 | AQ12: =IF(P12="材質劣化",2,IF(P12="漏水",3,1)) -> 2
K13: 3 | L13: 覆工・坑門 | N13: 横断目地（天端） | P13: 材質劣化 | R13: 補強・補修材の破損 | U13: - | AD13: 3.06 | AK13: 0 | AQ13: =IF(P13="材質劣化",2,IF(P13="漏水",3,1)) -> 2
K14: 4 | L14: 覆工・坑門 | N14: アーチ（右側） | P14: 材質劣化 | R14: 補強・補修材の破損 | U14: - | AD14: 0.62 | AK14: 0 | AQ14: =IF(P14="材質劣化",2,IF(P14="漏水",3,1)) -> 2
K15: 5 | L15: 覆工・坑門 | N15: アーチ（右側） | P15: 外力 | R15: ひび割れ | U15: Ⅰ | AB15: ○ | AK15: 幅1.0mm×長さ4.0m,縦断ひび割れ | AQ15: =IF(P15="材質劣化",2,IF(P15="漏水",3,1)) -> 1
AQ16: =IF(P16="材質劣化",2,IF(P16="漏水",3,1)) -> 1
AQ17: =IF(P17="材質劣化",2,IF(P17="漏水",3,1)) -> 1
AQ18: =IF(P18="材質劣化",2,IF(P18="漏水",3,1)) -> 1
AQ19: =IF(P19="材質劣化",2,IF(P19="漏水",3,1)) -> 1
AQ20: =IF(P20="材質劣化",2,IF(P20="漏水",3,1)) -> 1
AQ21: =IF(P21="材質劣化",2,IF(P21="漏水",3,1)) -> 1
AQ22: =IF(P22="材質劣化",2,IF(P22="漏水",3,1)) -> 1
AQ23: =IF(P23="材質劣化",2,IF(P23="漏水",3,1)) -> 1
AQ24: =IF(P24="材質劣化",2,IF(P24="漏水",3,1)) -> 1
AQ25: =IF(P25="材質劣化",2,IF(P25="漏水",3,1)) -> 1
AQ26: =IF(P26="材質劣化",2,IF(P26="漏水",3,1)) -> 1
AQ27: =IF(P27="材質劣化",2,IF(P27="漏水",3,1)) -> 1
... AQ30: =IF(P30="材質劣化",2,IF(P30="漏水",3,1)) -> 1
K31: 集計 ・ 判定 ・ 診断 | L31: 変状の発生規模合計(㎡) | Y31: － | AC31: =SUM(AC11:AC30) -> 0 | AD31: =SUM(AD11:AD30) -> 3.68 | AE31: =SUM(AE11:AE30) -> 0 | AF31: =SUM(AF11:AF30) -> 0.09 | AG31: =SUM(AG11:AG30) -> 0 | AH31: =SUM(AH11:AH30) -> 0 | AI31: =SUM(AI11:AI30) -> 0 | AJ31: =SUM(AJ11:AJ30) -> 0 | AK31: 計
L32: 対策区分の 判定結果 | O32: 判定区分毎の変状数 | Y32: =COUNTIF(Y11:Y30,"○") -> 0 | Z32: =COUNTIF(Z11:Z30,"○") -> 0 | AA32: =COUNTIF(AA11:AA30,"○") -> 0 | AB32: =COUNTIF(AB11:AB30,"○") -> 2 | AC32: =COUNT(AC11:AC30) -> 0 | AD32: =COUNT(AD11:AD30) -> 2 | AE32: =COUNT(AE11:AE30) -> 0 | AF32: =COUNT(AF11:AF30) -> 1 | AG32: =COUNT(AG11:AG30) -> 0 | AH32: =COUNT(AH11:AH30) -> 0 | AI32: =COUNT(AI11:AI30) -> 0 | AJ32: =COUNT(AJ11:AJ30) -> 0
O33: 変状区分毎の判定区分注3 | Y33: =IF(Y32>0,"Ⅳ",IF(Z32>0,"Ⅲ",IF(AA32>0,"Ⅱa",IF(AB32>0,"Ⅱb","Ⅰ")))) -> Ⅱb | AC33: =IF(AC32>0,"Ⅳ",IF(AD32>0,"Ⅲ",IF(AE32>0,"Ⅱa",IF(AF32>0,"Ⅱb","Ⅰ")))) -> Ⅲ | AG33: =IF(AG32>0,"Ⅳ",IF(AH32>0,"Ⅲ",IF(AI32>0,"Ⅱa",IF(AJ32>0,"Ⅱb","Ⅰ")))) -> Ⅰ | AQ33: Ⅳ | AR33: Ⅲ | AS33: Ⅱ
L34: 健全性の 診断結果 | O34: 判定区分 | Y34: Ⅳ | Z34: Ⅲ | AA34: Ⅱ | AC34: Ⅳ | AD34: Ⅲ | AE34: Ⅱ | AG34: Ⅳ | AH34: Ⅲ | AI34: Ⅱ | AQ34: =+Y32+Z32 -> 0 | AS34: =+AA32+AB32 -> 2
O35: 判定区分毎の変状数注4 | Y35: =IF(Y32=0,"",1) | Z35: =IF(Z32=0,"",1) | AA35: =IF(AQ34=1,"",IF(AS34>0,1,"")) -> 1 | AC35: =+AC32 -> 0 | AD35: =AD32 -> 2 | AE35: =AE32+AF32 -> 1 | AG35: =AG32 -> 0 | AH35: =AH32 -> 0 | AI35: =AI32+AJ32 -> 0 | AQ35: =+Y32+AC35+AG35 -> 0 | AR35: =+Z32+AD35+AH35 -> 2 | AS35: =+AS34+AE35+AI35 -> 3
O36: 変状区分毎の判定区分注4 | Y36: =IF(Y35=1,"Ⅳ",IF(Z35=1,"Ⅲ",IF(AA35=1,"Ⅱ","Ⅰ"))) -> Ⅱ | AC36: =IF(AC35>0,"Ⅳ",IF(AD35>0,"Ⅲ",IF(AE35>0,"Ⅱ","Ⅰ"))) -> Ⅲ | AG36: =IF(AG35>0,"Ⅳ",IF(AH35>0,"Ⅲ",IF(AI35>0,"Ⅱ","Ⅰ"))) -> Ⅰ | AQ36: =IF(AQ35>0,"Ⅳ",IF(AR35>0,"Ⅲ",IF(AS35>0,"Ⅱ","Ⅰ"))) -> Ⅲ
O37: 覆工スパン単位の判定区分注5 | Y37: =IF(OR(Y36="Ⅳ",AC36="Ⅳ",AG36="Ⅳ"),"Ⅳ",IF(OR(Y36="Ⅲ",AC36="Ⅲ",AG36="Ⅲ"),"Ⅲ",IF(OR(Y36="Ⅱ",AC36="Ⅱ",AG36="Ⅱ"),"Ⅱ","Ⅰ"))) -> Ⅲ
K38: 特記事項
K40: 注1：誤記入防止のため、当該変状区分以外のセルは灰色表示とすること。
K41: 注2：応急対策を実施した場合は、その詳細を備考に記載すること。
K42: 注3：変状区分毎での最も評価の厳しい判定区分。
K43: 注4：変状区分毎での最も評価の厳しい判定区分．外力は覆工スパン単位、材質劣化、漏水は変状単位で行う。
K44: 注5：覆工スパンの中で最も評価の厳しい健全性を採用し、その覆工スパン毎の健全性とする。
B46: ※1：本シートは作成洩れのないよう、変状が無くても全スパン分を作成すること．また変状展開図は、様式D-2-1、様式D-2-1'と同じものを覆工スパン単位で拡大し掲載すること。
B47: ※2：変状番号は、様式D-1-1で記入した番号と整合させること。
B48: ※3：対策区分毎の変状発生規模は、様式D-1-1に記載した面積を記入すること（ただし外力はスパン単位で評価するため対象外とし、備考欄に状況を記入）。
B49: ※4：本様式は覆工スパン毎に作成すること。
B50: ※5：変状数が多い場合は、適時、表の行を増やして覆工スパン毎に1枚のシートに収めること。また、1スパン１シートとし、スパンに合わせてシートを追加すること。
B51: ※6：対策区分毎の変状の発生範囲の規模とは，対策を行う際に参考となる変状の長さや面積であり，変状を包含する長さや面積とする。
B52: ※7：路面滞水は、変状面積に1を記載するとともに、備考にも内容を記載すること。

Sheet 様式D-3_S008
AU1: 様式E-1リンク用→ | AV1: 覆工ｽﾊﾟﾝ 番号 | AW1: ｽﾊﾟﾝ 長 (m) | AX1: 変状数集計 | BS1: 覆工スパン毎の 健全性の診断 | BW1: 変状規模集計
AX2: 対策区分毎の変状数 | BJ2: 健全性の判定区分毎の変状数 | BW2: 覆工スパン長(m) | CA2: 対策区分毎の変状の発生範囲の規模(㎡）
B3: ■定期点検記録様式 覆工スパン別変状詳細展開図 【様式D-3】 | AX3: 外力 | BB3: 材質劣化 | BF3: 漏水 | BJ3: 外力 | BM3: 材質劣化 | BP3: 漏水 | BS3: 外力 | BT3: 材質劣化 | BU3: 漏水 | BV3: 健全性 | BW3: 外力※１ | CA3: 材質劣化 | CE3: 漏水
B4: フリガナ | E4: チャウスヤマトンネル | K4: 路線名 | N4: 主要道路防府環状線 | T4: 定期点検業者 | Y4: セントラルコンサルタント株式会社 | AG4: 定期点検年月日 | AK4: 44337 | AX4: Ⅳ | AY4: Ⅲ | AZ4: Ⅱa | BA4: Ⅱb | BB4: Ⅳ | BC4: Ⅲ | BD4: Ⅱa | BE4: Ⅱb | BF4: Ⅳ | BG4: Ⅲ | BH4: Ⅱa | BI4: Ⅱb | BJ4: Ⅳ | BK4: Ⅲ | BL4: Ⅱ | BM4: Ⅳ | BN4: Ⅲ | BO4: Ⅱ | BP4: Ⅳ | BQ4: Ⅲ | BR4: Ⅱ | BW4: Ⅳ | BX4: Ⅲ | BY4: Ⅱa | BZ4: Ⅱb | CA4: Ⅳ | CB4: Ⅲ | CC4: Ⅱa | CD4: Ⅱb | CE4: Ⅳ | CF4: Ⅲ | CG4: Ⅱa | CH4: Ⅱb
B5: 名 称 | E5: 茶臼山トンネル | K5: 管理者名 | N5: 山口県防府土木建築事務所 | T5: 定期点検者名 | Y5: 鹿子嶋 康博 | AV5: =N7 -> S8 | AW5: =R7 -> 4 | AX5: =+Y32 -> 0 | AY5: =+Z32 -> 0 | AZ5: =+AA32 -> 0 | BA5: =+AB32 -> 1 | BB5: =+AC32 -> 0 | BC5: =+AD32 -> 0 | BD5: =+AE32 -> 1 | BE5: =+AF32 -> 1 | ... BI5: =+AJ32 -> 0 | BJ5: =+Y35 | BK5: =+Z35 | BL5: =+AA35 -> 1 | BM5: =+AC35 -> 0 | BN5: =+AD35 -> 0 | BO5: =+AE35 -> 2 | BP5: =+AG35 -> 0 | BQ5: =+AH35 -> 0 | BR5: =+AI35 -> 0 | BS5: =+Y36 -> Ⅱ | BT5: =+AC36 -> Ⅱ | BU5: =+AG36 -> Ⅰ | BV5: =+Y37 -> Ⅱ | BW5: =IF(Y32>0,$R$7,"") | BX5: =IF(Z32>0,"",IF(AA32>0,$R$7,"")) | BY5: =IF(Y32+Z32>0,"",IF(AA32>0,$R$7,"")) | BZ5: =IF(Y32+Z32+AA32>0,"",IF(AB32>0,$R$7,"")) -> 4 | CA5: =+AC31 -> 0 | CB5: =+AD31 -> 0 | CC5: =+AE31 -> 0.075 | CD5: =+AF31 -> 0.12 | CE5: =+AG31 -> 0 | CF5: =+AH31 -> 0 | CG5: =+AI31 -> 0 | CH5: =+AJ31 -> 0
B6: スパン別変状展開図 | K6: 【健全性判定集計表】
K7: スパン番号 | N7: S8 | P7: スパン長 | R7: 4 | U7: 前回定期点検時の健全性 | W7: 応急措置前の判定 | Y7: 対策区分毎の 変状の有無 | AC7: 対策区分毎の変状の発生範囲の規模(㎡) | AK7: 備考注2
K8: 変状番号 | L8: 対象箇所 | N8: 部位区分 | P8: 変状区分 | R8: 変状種類
Y9: 外力注1 | AC9: 材質劣化注1 | AG9: 漏水注1
Y10: Ⅳ | Z10: Ⅲ | AA10: Ⅱa | AB10: Ⅱb | AC10: Ⅳ | AD10: Ⅲ | AE10: Ⅱa | AF10: Ⅱb | AG10: Ⅳ | AH10: Ⅲ | AI10: Ⅱa | AJ10: Ⅱb
K11: 1 | L11: 覆工・坑門 | N11: アーチ（左側） | P11: 外力 | R11: ひび割れ | U11: - | AB11: ○ | AK11: 幅1.5mm×長さ3.8m,縦断ひび割れ | AQ11: =IF(P11="材質劣化",2,IF(P11="漏水",3,1)) -> 1
K12: 2 | L12: 覆工・坑門 | N12: アーチ（左側） | P12: 材質劣化 | R12: うき・はく離 | U12: - | AF12: 0.12 | AK12: 0 | AQ12: =IF(P12="材質劣化",2,IF(P12="漏水",3,1)) -> 2
K13: 3 | L13: 覆工・坑門 | N13: アーチ（天端） | P13: 材質劣化 | R13: うき・はく離 | U13: - | AE13: 0.075 | AK13: 0 | AQ13: =IF(P13="材質劣化",2,IF(P13="漏水",3,1)) -> 2
AQ14: =IF(P14="材質劣化",2,IF(P14="漏水",3,1)) -> 1
AQ15: =IF(P15="材質劣化",2,IF(P15="漏水",3,1)) -> 1
AQ16: =IF(P16="材質劣化",2,IF(P16="漏水",3,1)) -> 1
AQ17: =IF(P17="材質劣化",2,IF(P17="漏水",3,1)) -> 1
AQ18: =IF(P18="材質劣化",2,IF(P18="漏水",3,1)) -> 1
AQ19: =IF(P19="材質劣化",2,IF(P19="漏水",3,1)) -> 1
AQ20: =IF(P20="材質劣化",2,IF(P20="漏水",3,1)) -> 1
AQ21: =IF(P21="材質劣化",2,IF(P21="漏水",3,1)) -> 1
AQ22: =IF(P22="材質劣化",2,IF(P22="漏水",3,1)) -> 1
AQ23: =IF(P23="材質劣化",2,IF(P23="漏水",3,1)) -> 1
AQ24: =IF(P24="材質劣化",2,IF(P24="漏水",3,1)) -> 1
AQ25: =IF(P25="材質劣化",2,IF(P25="漏水",3,1)) -> 1
... AQ30: =IF(P30="材質劣化",2,IF(P30="漏水",3,1)) -> 1
K31: 集計 ・ 判定 ・ 診断 | L31: 変状の発生規模合計(㎡) | Y31: － | AC31: =SUM(AC11:AC30) -> 0 | AD31: =SUM(AD11:AD30) -> 0 | AE31: =SUM(AE11:AE30) -> 0.075 | AF31: =SUM(AF11:AF30) -> 0.12 | AG31: =SUM(AG11:AG30) -> 0 | AH31: =SUM(AH11:AH30) -> 0 | AI31: =SUM(AI11:AI30) -> 0 | AJ31: =SUM(AJ11:AJ30) -> 0 | AK31: 計
L32: 対策区分の 判定結果 | O32: 判定区分毎の変状数 | Y32: =COUNTIF(Y11:Y30,"○") -> 0 | Z32: =COUNTIF(Z11:Z30,"○") -> 0 | AA32: =COUNTIF(AA11:AA30,"○") -> 0 | AB32: =COUNTIF(AB11:AB30,"○") -> 1 | AC32: =COUNT(AC11:AC30) -> 0 | AD32: =COUNT(AD11:AD30) -> 0 | AE32: =COUNT(AE11:AE30) -> 1 | AF32: =COUNT(AF11:AF30) -> 1 | AG32: =COUNT(AG11:AG30) -> 0 | AH32: =COUNT(AH11:AH30) -> 0 | AI32: =COUNT(AI11:AI30) -> 0 | AJ32: =COUNT(AJ11:AJ30) -> 0
O33: 変状区分毎の判定区分注3 | Y33: =IF(Y32>0,"Ⅳ",IF(Z32>0,"Ⅲ",IF(AA32>0,"Ⅱa",IF(AB32>0,"Ⅱb","Ⅰ")))) -> Ⅱb | AC33: =IF(AC32>0,"Ⅳ",IF(AD32>0,"Ⅲ",IF(AE32>0,"Ⅱa",IF(AF32>0,"Ⅱb","Ⅰ")))) -> Ⅱa | AG33: =IF(AG32>0,"Ⅳ",IF(AH32>0,"Ⅲ",IF(AI32>0,"Ⅱa",IF(AJ32>0,"Ⅱb","Ⅰ")))) -> Ⅰ | AQ33: Ⅳ | AR33: Ⅲ | AS33: Ⅱ
L34: 健全性の 診断結果 | O34: 判定区分 | Y34: Ⅳ | Z34: Ⅲ | AA34: Ⅱ | AC34: Ⅳ | AD34: Ⅲ | AE34: Ⅱ | AG34: Ⅳ | AH34: Ⅲ | AI34: Ⅱ | AQ34: =+Y32+Z32 -> 0 | AS34: =+AA32+AB32 -> 1
O35: 判定区分毎の変状数注4 | Y35: =IF(Y32=0,"",1) | Z35: =IF(Z32=0,"",1) | AA35: =IF(AQ34=1,"",IF(AS34>0,1,"")) -> 1 | AC35: =+AC32 -> 0 | AD35: =AD32 -> 0 | AE35: =AE32+AF32 -> 2 | AG35: =AG32 -> 0 | AH35: =AH32 -> 0 | AI35: =AI32+AJ32 -> 0 | AQ35: =+Y32+AC35+AG35 -> 0 | AR35: =+Z32+AD35+AH35 -> 0 | AS35: =+AS34+AE35+AI35 -> 3
O36: 変状区分毎の判定区分注4 | Y36: =IF(Y35=1,"Ⅳ",IF(Z35=1,"Ⅲ",IF(AA35=1,"Ⅱ","Ⅰ"))) -> Ⅱ | AC36: =IF(AC35>0,"Ⅳ",IF(AD35>0,"Ⅲ",IF(AE35>0,"Ⅱ","Ⅰ"))) -> Ⅱ | AG36: =IF(AG35>0,"Ⅳ",IF(AH35>0,"Ⅲ",IF(AI35>0,"Ⅱ","Ⅰ"))) -> Ⅰ | AQ36: =IF(AQ35>0,"Ⅳ",IF(AR35>0,"Ⅲ",IF(AS35>0,"Ⅱ","Ⅰ"))) -> Ⅱ
O37: 覆工スパン単位の判定区分注5 | Y37: =IF(OR(Y36="Ⅳ",AC36="Ⅳ",AG36="Ⅳ"),"Ⅳ",IF(OR(Y36="Ⅲ",AC36="Ⅲ",AG36="Ⅲ"),"Ⅲ",IF(OR(Y36="Ⅱ",AC36="Ⅱ",AG36="Ⅱ"),"Ⅱ","Ⅰ"))) -> Ⅱ
K38: 特記事項
K40: 注1：誤記入防止のため、当該変状区分以外のセルは灰色表示とすること。
K41: 注2：応急対策を実施した場合は、その詳細を備考に記載すること。
K42: 注3：変状区分毎での最も評価の厳しい判定区分。
K43: 注4：変状区分毎での最も評価の厳しい判定区分．外力は覆工スパン単位、材質劣化、漏水は変状単位で行う。
K44: 注5：覆工スパンの中で最も評価の厳しい健全性を採用し、その覆工スパン毎の健全性とする。
B46: ※1：本シートは作成洩れのないよう、変状が無くても全スパン分を作成すること．また変状展開図は、様式D-2-1、様式D-2-1'と同じものを覆工スパン単位で拡大し掲載すること。
B47: ※2：変状番号は、様式D-1-1で記入した番号と整合させること。
B48: ※3：対策区分毎の変状発生規模は、様式D-1-1に記載した面積を記入すること（ただし外力はスパン単位で評価するため対象外とし、備考欄に状況を記入）。
B49: ※4：本様式は覆工スパン毎に作成すること。
B50: ※5：変状数が多い場合は、適時、表の行を増やして覆工スパン毎に1枚のシートに収めること。また、1スパン１シートとし、スパンに合わせてシートを追加すること。
B51: ※6：対策区分毎の変状の発生範囲の規模とは，対策を行う際に参考となる変状の長さや面積であり，変状を包含する長さや面積とする。
B52: ※7：路面滞水は、変状面積に1を記載するとともに、備考にも内容を記載すること。

Sheet 様式D-3_S009
AU1: 様式E-1リンク用→ | AV1: 覆工ｽﾊﾟﾝ 番号 | AW1: ｽﾊﾟﾝ 長 (m) | AX1: 変状数集計 | BS1: 覆工スパン毎の 健全性の診断 | BW1: 変状規模集計
AX2: 対策区分毎の変状数 | BJ2: 健全性の判定区分毎の変状数 | BW2: 覆工スパン長(m) | CA2: 対策区分毎の変状の発生範囲の規模(㎡）
B3: ■定期点検記録様式 覆工スパン別変状詳細展開図 【様式D-3】 | AX3: 外力 | BB3: 材質劣化 | BF3: 漏水 | BJ3: 外力 | BM3: 材質劣化 | BP3: 漏水 | BS3: 外力 | BT3: 材質劣化 | BU3: 漏水 | BV3: 健全性 | BW3: 外力※１ | CA3: 材質劣化 | CE3: 漏水
B4: フリガナ | E4: チャウスヤマトンネル | K4: 路線名 | N4: 主要道路防府環状線 | T4: 定期点検業者 | Y4: セントラルコンサルタント株式会社 | AG4: 定期点検年月日 | AK4: 44337 | AX4: Ⅳ | AY4: Ⅲ | AZ4: Ⅱa | BA4: Ⅱb | BB4: Ⅳ | BC4: Ⅲ | BD4: Ⅱa | BE4: Ⅱb | BF4: Ⅳ | BG4: Ⅲ | BH4: Ⅱa | BI4: Ⅱb | BJ4: Ⅳ | BK4: Ⅲ | BL4: Ⅱ | BM4: Ⅳ | BN4: Ⅲ | BO4: Ⅱ | BP4: Ⅳ | BQ4: Ⅲ | BR4: Ⅱ | BW4: Ⅳ | BX4: Ⅲ | BY4: Ⅱa | BZ4: Ⅱb | CA4: Ⅳ | CB4: Ⅲ | CC4: Ⅱa | CD4: Ⅱb | CE4: Ⅳ | CF4: Ⅲ | CG4: Ⅱa | CH4: Ⅱb
B5: 名 称 | E5: 茶臼山トンネル | K5: 管理者名 | N5: 山口県防府土木建築事務所 | T5: 定期点検者名 | Y5: 鹿子嶋 康博 | AV5: =N7 -> S9 | AW5: =R7 -> 4.5 | AX5: =+Y32 -> 0 | AY5: =+Z32 -> 0 | AZ5: =+AA32 -> 0 | BA5: =+AB32 -> 1 | BB5: =+AC32 -> 0 | BC5: =+AD32 -> 0 | BD5: =+AE32 -> 0 | BE5: =+AF32 -> 1 | ... BI5: =+AJ32 -> 0 | BJ5: =+Y35 | BK5: =+Z35 | BL5: =+AA35 -> 1 | BM5: =+AC35 -> 0 | BN5: =+AD35 -> 0 | BO5: =+AE35 -> 1 | BP5: =+AG35 -> 0 | BQ5: =+AH35 -> 0 | BR5: =+AI35 -> 0 | BS5: =+Y36 -> Ⅱ | BT5: =+AC36 -> Ⅱ | BU5: =+AG36 -> Ⅰ | BV5: =+Y37 -> Ⅱ | BW5: =IF(Y32>0,$R$7,"") | BX5: =IF(Z32>0,"",IF(AA32>0,$R$7,"")) | BY5: =IF(Y32+Z32>0,"",IF(AA32>0,$R$7,"")) | BZ5: =IF(Y32+Z32+AA32>0,"",IF(AB32>0,$R$7,"")) -> 4.5 | CA5: =+AC31 -> 0 | CB5: =+AD31 -> 0 | CC5: =+AE31 -> 0 | CD5: =+AF31 -> 0.7 | CE5: =+AG31 -> 0 | CF5: =+AH31 -> 0 | CG5: =+AI31 -> 0 | CH5: =+AJ31 -> 0
B6: スパン別変状展開図 | K6: 【健全性判定集計表】
K7: スパン番号 | N7: S9 | P7: スパン長 | R7: 4.5 | U7: 前回定期点検時の健全性 | W7: 応急措置前の判定 | Y7: 対策区分毎の 変状の有無 | AC7: 対策区分毎の変状の発生範囲の規模(㎡) | AK7: 備考注2
K8: 変状番号 | L8: 対象箇所 | N8: 部位区分 | P8: 変状区分 | R8: 変状種類
Y9: 外力注1 | AC9: 材質劣化注1 | AG9: 漏水注1
Y10: Ⅳ | Z10: Ⅲ | AA10: Ⅱa | AB10: Ⅱb | AC10: Ⅳ | AD10: Ⅲ | AE10: Ⅱa | AF10: Ⅱb | AG10: Ⅳ | AH10: Ⅲ | AI10: Ⅱa | AJ10: Ⅱb
K11: 1 | L11: 覆工・坑門 | N11: アーチ（天端） | P11: 材質劣化 | R11: うき・はく離 | U11: - | AF11: 0.7 | AK11: 0 | AQ11: =IF(P11="材質劣化",2,IF(P11="漏水",3,1)) -> 2
K12: 2 | L12: 覆工・坑門 | N12: アーチ（右側） | P12: 外力 | R12: ひび割れ | U12: - | AB12: ○ | AK12: 幅0.6mm×長さ2.7m,縦断ひび割れ | AQ12: =IF(P12="材質劣化",2,IF(P12="漏水",3,1)) -> 1
AQ13: =IF(P13="材質劣化",2,IF(P13="漏水",3,1)) -> 1
AQ14: =IF(P14="材質劣化",2,IF(P14="漏水",3,1)) -> 1
AQ15: =IF(P15="材質劣化",2,IF(P15="漏水",3,1)) -> 1
AQ16: =IF(P16="材質劣化",2,IF(P16="漏水",3,1)) -> 1
AQ17: =IF(P17="材質劣化",2,IF(P17="漏水",3,1)) -> 1
AQ18: =IF(P18="材質劣化",2,IF(P18="漏水",3,1)) -> 1
AQ19: =IF(P19="材質劣化",2,IF(P19="漏水",3,1)) -> 1
AQ20: =IF(P20="材質劣化",2,IF(P20="漏水",3,1)) -> 1
AQ21: =IF(P21="材質劣化",2,IF(P21="漏水",3,1)) -> 1
AQ22: =IF(P22="材質劣化",2,IF(P22="漏水",3,1)) -> 1
AQ23: =IF(P23="材質劣化",2,IF(P23="漏水",3,1)) -> 1
AQ24: =IF(P24="材質劣化",2,IF(P24="漏水",3,1)) -> 1
... AQ30: =IF(P30="材質劣化",2,IF(P30="漏水",3,1)) -> 1
K31: 集計 ・ 判定 ・ 診断 | L31: 変状の発生規模合計(㎡) | Y31: － | AC31: =SUM(AC11:AC30) -> 0 | AD31: =SUM(AD11:AD30) -> 0 | AE31: =SUM(AE11:AE30) -> 0 | AF31: =SUM(AF11:AF30) -> 0.7 | AG31: =SUM(AG11:AG30) -> 0 | AH31: =SUM(AH11:AH30) -> 0 | AI31: =SUM(AI11:AI30) -> 0 | AJ31: =SUM(AJ11:AJ30) -> 0 | AK31: 計
L32: 対策区分の 判定結果 | O32: 判定区分毎の変状数 | Y32: =COUNTIF(Y11:Y30,"○") -> 0 | Z32: =COUNTIF(Z11:Z30,"○") -> 0 | AA32: =COUNTIF(AA11:AA30,"○") -> 0 | AB32: =COUNTIF(AB11:AB30,"○") -> 1 | AC32: =COUNT(AC11:AC30) -> 0 | AD32: =COUNT(AD11:AD30) -> 0 | AE32: =COUNT(AE11:AE30) -> 0 | AF32: =COUNT(AF11:AF30) -> 1 | AG32: =COUNT(AG11:AG30) -> 0 | AH32: =COUNT(AH11:AH30) -> 0 | AI32: =COUNT(AI11:AI30) -> 0 | AJ32: =COUNT(AJ11:AJ30) -> 0
O33: 変状区分毎の判定区分注3 | Y33: =IF(Y32>0,"Ⅳ",IF(Z32>0,"Ⅲ",IF(AA32>0,"Ⅱa",IF(AB32>0,"Ⅱb","Ⅰ")))) -> Ⅱb | AC33: =IF(AC32>0,"Ⅳ",IF(AD32>0,"Ⅲ",IF(AE32>0,"Ⅱa",IF(AF32>0,"Ⅱb","Ⅰ")))) -> Ⅱb | AG33: =IF(AG32>0,"Ⅳ",IF(AH32>0,"Ⅲ",IF(AI32>0,"Ⅱa",IF(AJ32>0,"Ⅱb","Ⅰ")))) -> Ⅰ | AQ33: Ⅳ | AR33: Ⅲ | AS33: Ⅱ
L34: 健全性の 診断結果 | O34: 判定区分 | Y34: Ⅳ | Z34: Ⅲ | AA34: Ⅱ | AC34: Ⅳ | AD34: Ⅲ | AE34: Ⅱ | AG34: Ⅳ | AH34: Ⅲ | AI34: Ⅱ | AQ34: =+Y32+Z32 -> 0 | AS34: =+AA32+AB32 -> 1
O35: 判定区分毎の変状数注4 | Y35: =IF(Y32=0,"",1) | Z35: =IF(Z32=0,"",1) | AA35: =IF(AQ34=1,"",IF(AS34>0,1,"")) -> 1 | AC35: =+AC32 -> 0 | AD35: =AD32 -> 0 | AE35: =AE32+AF32 -> 1 | AG35: =AG32 -> 0 | AH35: =AH32 -> 0 | AI35: =AI32+AJ32 -> 0 | AQ35: =+Y32+AC35+AG35 -> 0 | AR35: =+Z32+AD35+AH35 -> 0 | AS35: =+AS34+AE35+AI35 -> 2
O36: 変状区分毎の判定区分注4 | Y36: =IF(Y35=1,"Ⅳ",IF(Z35=1,"Ⅲ",IF(AA35=1,"Ⅱ","Ⅰ"))) -> Ⅱ | AC36: =IF(AC35>0,"Ⅳ",IF(AD35>0,"Ⅲ",IF(AE35>0,"Ⅱ","Ⅰ"))) -> Ⅱ | AG36: =IF(AG35>0,"Ⅳ",IF(AH35>0,"Ⅲ",IF(AI35>0,"Ⅱ","Ⅰ"))) -> Ⅰ | AQ36: =IF(AQ35>0,"Ⅳ",IF(AR35>0,"Ⅲ",IF(AS35>0,"Ⅱ","Ⅰ"))) -> Ⅱ
O37: 覆工スパン単位の判定区分注5 | Y37: =IF(OR(Y36="Ⅳ",AC36="Ⅳ",AG36="Ⅳ"),"Ⅳ",IF(OR(Y36="Ⅲ",AC36="Ⅲ",AG36="Ⅲ"),"Ⅲ",IF(OR(Y36="Ⅱ",AC36="Ⅱ",AG36="Ⅱ"),"Ⅱ","Ⅰ"))) -> Ⅱ
K38: 特記事項
K40: 注1：誤記入防止のため、当該変状区分以外のセルは灰色表示とすること。
K41: 注2：応急対策を実施した場合は、その詳細を備考に記載すること。
K42: 注3：変状区分毎での最も評価の厳しい判定区分。
K43: 注4：変状区分毎での最も評価の厳しい判定区分．外力は覆工スパン単位、材質劣化、漏水は変状単位で行う。
K44: 注5：覆工スパンの中で最も評価の厳しい健全性を採用し、その覆工スパン毎の健全性とする。
B46: ※1：本シートは作成洩れのないよう、変状が無くても全スパン分を作成すること．また変状展開図は、様式D-2-1、様式D-2-1'と同じものを覆工スパン単位で拡大し掲載すること。
B47: ※2：変状番号は、様式D-1-1で記入した番号と整合させること。
B48: ※3：対策区分毎の変状発生規模は、様式D-1-1に記載した面積を記入すること（ただし外力はスパン単位で評価するため対象外とし、備考欄に状況を記入）。
B49: ※4：本様式は覆工スパン毎に作成すること。
B50: ※5：変状数が多い場合は、適時、表の行を増やして覆工スパン毎に1枚のシートに収めること。また、1スパン１シートとし、スパンに合わせてシートを追加すること。
B51: ※6：対策区分毎の変状の発生範囲の規模とは，対策を行う際に参考となる変状の長さや面積であり，変状を包含する長さや面積とする。
B52: ※7：路面滞水は、変状面積に1を記載するとともに、備考にも内容を記載すること。

Sheet 様式D-3_S010
AU1: 様式E-1リンク用→ | AV1: 覆工ｽﾊﾟﾝ 番号 | AW1: ｽﾊﾟﾝ 長 (m) | AX1: 変状数集計 | BS1: 覆工スパン毎の 健全性の診断 | BW1: 変状規模集計
AX2: 対策区分毎の変状数 | BJ2: 健全性の判定区分毎の変状数 | BW2: 覆工スパン長(m) | CA2: 対策区分毎の変状の発生範囲の規模(㎡）
B3: ■定期点検記録様式 覆工スパン別変状詳細展開図 【様式D-3】 | AX3: 外力 | BB3: 材質劣化 | BF3: 漏水 | BJ3: 外力 | BM3: 材質劣化 | BP3: 漏水 | BS3: 外力 | BT3: 材質劣化 | BU3: 漏水 | BV3: 健全性 | BW3: 外力※１ | CA3: 材質劣化 | CE3: 漏水
B4: フリガナ | E4: チャウスヤマトンネル | K4: 路線名 | N4: 主要道路防府環状線 | T4: 定期点検業者 | Y4: セントラルコンサルタント株式会社 | AG4: 定期点検年月日 | AK4: 44337 | AX4: Ⅳ | AY4: Ⅲ | AZ4: Ⅱa | BA4: Ⅱb | BB4: Ⅳ | BC4: Ⅲ | BD4: Ⅱa | BE4: Ⅱb | BF4: Ⅳ | BG4: Ⅲ | BH4: Ⅱa | BI4: Ⅱb | BJ4: Ⅳ | BK4: Ⅲ | BL4: Ⅱ | BM4: Ⅳ | BN4: Ⅲ | BO4: Ⅱ | BP4: Ⅳ | BQ4: Ⅲ | BR4: Ⅱ | BW4: Ⅳ | BX4: Ⅲ | BY4: Ⅱa | BZ4: Ⅱb | CA4: Ⅳ | CB4: Ⅲ | CC4: Ⅱa | CD4: Ⅱb | CE4: Ⅳ | CF4: Ⅲ | CG4: Ⅱa | CH4: Ⅱb
B5: 名 称 | E5: 茶臼山トンネル | K5: 管理者名 | N5: 山口県防府土木建築事務所 | T5: 定期点検者名 | Y5: 鹿子嶋 康博 | AV5: =N7 -> S10 | AW5: =R7 -> 4.5 | AX5: =+Y32 -> 0 | AY5: =+Z32 -> 0 | AZ5: =+AA32 -> 0 | BA5: =+AB32 -> 2 | BB5: =+AC32 -> 0 | BC5: =+AD32 -> 0 | BD5: =+AE32 -> 0 | BE5: =+AF32 -> 1 | ... BI5: =+AJ32 -> 0 | BJ5: =+Y35 | BK5: =+Z35 | BL5: =+AA35 -> 1 | BM5: =+AC35 -> 0 | BN5: =+AD35 -> 0 | BO5: =+AE35 -> 1 | BP5: =+AG35 -> 0 | BQ5: =+AH35 -> 0 | BR5: =+AI35 -> 0 | BS5: =+Y36 -> Ⅱ | BT5: =+AC36 -> Ⅱ | BU5: =+AG36 -> Ⅰ | BV5: =+Y37 -> Ⅱ | BW5: =IF(Y32>0,$R$7,"") | BX5: =IF(Z32>0,"",IF(AA32>0,$R$7,"")) | BY5: =IF(Y32+Z32>0,"",IF(AA32>0,$R$7,"")) | BZ5: =IF(Y32+Z32+AA32>0,"",IF(AB32>0,$R$7,"")) -> 4.5 | CA5: =+AC31 -> 0 | CB5: =+AD31 -> 0 | CC5: =+AE31 -> 0 | CD5: =+AF31 -> 0.03 | CE5: =+AG31 -> 0 | CF5: =+AH31 -> 0 | CG5: =+AI31 -> 0 | CH5: =+AJ31 -> 0
B6: スパン別変状展開図 | K6: 【健全性判定集計表】
K7: スパン番号 | N7: S10 | P7: スパン長 | R7: 4.5 | U7: 前回定期点検時の健全性 | W7: 応急措置前の判定 | Y7: 対策区分毎の 変状の有無 | AC7: 対策区分毎の変状の発生範囲の規模(㎡) | AK7: 備考注2
K8: 変状番号 | L8: 対象箇所 | N8: 部位区分 | P8: 変状区分 | R8: 変状種類
Y9: 外力注1 | AC9: 材質劣化注1 | AG9: 漏水注1
Y10: Ⅳ | Z10: Ⅲ | AA10: Ⅱa | AB10: Ⅱb | AC10: Ⅳ | AD10: Ⅲ | AE10: Ⅱa | AF10: Ⅱb | AG10: Ⅳ | AH10: Ⅲ | AI10: Ⅱa | AJ10: Ⅱb
K11: 1 | L11: 覆工・坑門 | N11: アーチ（左側） | P11: 外力 | R11: ひび割れ | U11: - | AB11: ○ | AK11: 幅0.5mm×長さ4.4m,縦断ひび割れ | AQ11: =IF(P11="材質劣化",2,IF(P11="漏水",3,1)) -> 1
K12: 2 | L12: 覆工・坑門 | N12: アーチ（右側） | P12: 外力 | R12: ひび割れ | U12: - | AB12: ○ | AK12: 幅0.3mm×長さ3.7m,縦断ひび割れ | AQ12: =IF(P12="材質劣化",2,IF(P12="漏水",3,1)) -> 1
K13: 3 | L13: 覆工・坑門 | N13: アーチ（右側） | P13: 材質劣化 | R13: うき・はく離 | U13: - | AF13: 0.03 | AK13: 0 | AQ13: =IF(P13="材質劣化",2,IF(P13="漏水",3,1)) -> 2
AQ14: =IF(P14="材質劣化",2,IF(P14="漏水",3,1)) -> 1
AQ15: =IF(P15="材質劣化",2,IF(P15="漏水",3,1)) -> 1
AQ16: =IF(P16="材質劣化",2,IF(P16="漏水",3,1)) -> 1
AQ17: =IF(P17="材質劣化",2,IF(P17="漏水",3,1)) -> 1
AQ18: =IF(P18="材質劣化",2,IF(P18="漏水",3,1)) -> 1
AQ19: =IF(P19="材質劣化",2,IF(P19="漏水",3,1)) -> 1
AQ20: =IF(P20="材質劣化",2,IF(P20="漏水",3,1)) -> 1
AQ21: =IF(P21="材質劣化",2,IF(P21="漏水",3,1)) -> 1
AQ22: =IF(P22="材質劣化",2,IF(P22="漏水",3,1)) -> 1
AQ23: =IF(P23="材質劣化",2,IF(P23="漏水",3,1)) -> 1
AQ24: =IF(P24="材質劣化",2,IF(P24="漏水",3,1)) -> 1
AQ25: =IF(P25="材質劣化",2,IF(P25="漏水",3,1)) -> 1
... AQ30: =IF(P30="材質劣化",2,IF(P30="漏水",3,1)) -> 1
K31: 集計 ・ 判定 ・ 診断 | L31: 変状の発生規模合計(㎡) | Y31: － | AC31: =SUM(AC11:AC30) -> 0 | AD31: =SUM(AD11:AD30) -> 0 | AE31: =SUM(AE11:AE30) -> 0 | AF31: =SUM(AF11:AF30) -> 0.03 | AG31: =SUM(AG11:AG30) -> 0 | AH31: =SUM(AH11:AH30) -> 0 | AI31: =SUM(AI11:AI30) -> 0 | AJ31: =SUM(AJ11:AJ30) -> 0 | AK31: 計
L32: 対策区分の 判定結果 | O32: 判定区分毎の変状数 | Y32: =COUNTIF(Y11:Y30,"○") -> 0 | Z32: =COUNTIF(Z11:Z30,"○") -> 0 | AA32: =COUNTIF(AA11:AA30,"○") -> 0 | AB32: =COUNTIF(AB11:AB30,"○") -> 2 | AC32: =COUNT(AC11:AC30) -> 0 | AD32: =COUNT(AD11:AD30) -> 0 | AE32: =COUNT(AE11:AE30) -> 0 | AF32: =COUNT(AF11:AF30) -> 1 | AG32: =COUNT(AG11:AG30) -> 0 | AH32: =COUNT(AH11:AH30) -> 0 | AI32: =COUNT(AI11:AI30) -> 0 | AJ32: =COUNT(AJ11:AJ30) -> 0
O33: 変状区分毎の判定区分注3 | Y33: =IF(Y32>0,"Ⅳ",IF(Z32>0,"Ⅲ",IF(AA32>0,"Ⅱa",IF(AB32>0,"Ⅱb","Ⅰ")))) -> Ⅱb | AC33: =IF(AC32>0,"Ⅳ",IF(AD32>0,"Ⅲ",IF(AE32>0,"Ⅱa",IF(AF32>0,"Ⅱb","Ⅰ")))) -> Ⅱb | AG33: =IF(AG32>0,"Ⅳ",IF(AH32>0,"Ⅲ",IF(AI32>0,"Ⅱa",IF(AJ32>0,"Ⅱb","Ⅰ")))) -> Ⅰ | AQ33: Ⅳ | AR33: Ⅲ | AS33: Ⅱ
L34: 健全性の 診断結果 | O34: 判定区分 | Y34: Ⅳ | Z34: Ⅲ | AA34: Ⅱ | AC34: Ⅳ | AD34: Ⅲ | AE34: Ⅱ | AG34: Ⅳ | AH34: Ⅲ | AI34: Ⅱ | AQ34: =+Y32+Z32 -> 0 | AS34: =+AA32+AB32 -> 2
O35: 判定区分毎の変状数注4 | Y35: =IF(Y32=0,"",1) | Z35: =IF(Z32=0,"",1) | AA35: =IF(AQ34=1,"",IF(AS34>0,1,"")) -> 1 | AC35: =+AC32 -> 0 | AD35: =AD32 -> 0 | AE35: =AE32+AF32 -> 1 | AG35: =AG32 -> 0 | AH35: =AH32 -> 0 | AI35: =AI32+AJ32 -> 0 | AQ35: =+Y32+AC35+AG35 -> 0 | AR35: =+Z32+AD35+AH35 -> 0 | AS35: =+AS34+AE35+AI35 -> 3
O36: 変状区分毎の判定区分注4 | Y36: =IF(Y35=1,"Ⅳ",IF(Z35=1,"Ⅲ",IF(AA35=1,"Ⅱ","Ⅰ"))) -> Ⅱ | AC36: =IF(AC35>0,"Ⅳ",IF(AD35>0,"Ⅲ",IF(AE35>0,"Ⅱ","Ⅰ"))) -> Ⅱ | AG36: =IF(AG35>0,"Ⅳ",IF(AH35>0,"Ⅲ",IF(AI35>0,"Ⅱ","Ⅰ"))) -> Ⅰ | AQ36: =IF(AQ35>0,"Ⅳ",IF(AR35>0,"Ⅲ",IF(AS35>0,"Ⅱ","Ⅰ"))) -> Ⅱ
O37: 覆工スパン単位の判定区分注5 | Y37: =IF(OR(Y36="Ⅳ",AC36="Ⅳ",AG36="Ⅳ"),"Ⅳ",IF(OR(Y36="Ⅲ",AC36="Ⅲ",AG36="Ⅲ"),"Ⅲ",IF(OR(Y36="Ⅱ",AC36="Ⅱ",AG36="Ⅱ"),"Ⅱ","Ⅰ"))) -> Ⅱ
K38: 特記事項
K40: 注1：誤記入防止のため、当該変状区分以外のセルは灰色表示とすること。
K41: 注2：応急対策を実施した場合は、その詳細を備考に記載すること。
K42: 注3：変状区分毎での最も評価の厳しい判定区分。
K43: 注4：変状区分毎での最も評価の厳しい判定区分．外力は覆工スパン単位、材質劣化、漏水は変状単位で行う。
K44: 注5：覆工スパンの中で最も評価の厳しい健全性を採用し、その覆工スパン毎の健全性とする。
B46: ※1：本シートは作成洩れのないよう、変状が無くても全スパン分を作成すること．また変状展開図は、様式D-2-1、様式D-2-1'と同じものを覆工スパン単位で拡大し掲載すること。
B47: ※2：変状番号は、様式D-1-1で記入した番号と整合させること。
B48: ※3：対策区分毎の変状発生規模は、様式D-1-1に記載した面積を記入すること（ただし外力はスパン単位で評価するため対象外とし、備考欄に状況を記入）。
B49: ※4：本様式は覆工スパン毎に作成すること。
B50: ※5：変状数が多い場合は、適時、表の行を増やして覆工スパン毎に1枚のシートに収めること。また、1スパン１シートとし、スパンに合わせてシートを追加すること。
B51: ※6：対策区分毎の変状の発生範囲の規模とは，対策を行う際に参考となる変状の長さや面積であり，変状を包含する長さや面積とする。
B52: ※7：路面滞水は、変状面積に1を記載するとともに、備考にも内容を記載すること。

Sheet 様式D-3_S011
AU1: 様式E-1リンク用→ | AV1: 覆工ｽﾊﾟﾝ 番号 | AW1: ｽﾊﾟﾝ 長 (m) | AX1: 変状数集計 | BS1: 覆工スパン毎の 健全性の診断 | BW1: 変状規模集計
AX2: 対策区分毎の変状数 | BJ2: 健全性の判定区分毎の変状数 | BW2: 覆工スパン長(m) | CA2: 対策区分毎の変状の発生範囲の規模(㎡）
B3: ■定期点検記録様式 覆工スパン別変状詳細展開図 【様式D-3】 | AX3: 外力 | BB3: 材質劣化 | BF3: 漏水 | BJ3: 外力 | BM3: 材質劣化 | BP3: 漏水 | BS3: 外力 | BT3: 材質劣化 | BU3: 漏水 | BV3: 健全性 | BW3: 外力※１ | CA3: 材質劣化 | CE3: 漏水
B4: フリガナ | E4: チャウスヤマトンネル | K4: 路線名 | N4: 主要道路防府環状線 | T4: 定期点検業者 | Y4: セントラルコンサルタント株式会社 | AG4: 定期点検年月日 | AK4: 44337 | AX4: Ⅳ | AY4: Ⅲ | AZ4: Ⅱa | BA4: Ⅱb | BB4: Ⅳ | BC4: Ⅲ | BD4: Ⅱa | BE4: Ⅱb | BF4: Ⅳ | BG4: Ⅲ | BH4: Ⅱa | BI4: Ⅱb | BJ4: Ⅳ | BK4: Ⅲ | BL4: Ⅱ | BM4: Ⅳ | BN4: Ⅲ | BO4: Ⅱ | BP4: Ⅳ | BQ4: Ⅲ | BR4: Ⅱ | BW4: Ⅳ | BX4: Ⅲ | BY4: Ⅱa | BZ4: Ⅱb | CA4: Ⅳ | CB4: Ⅲ | CC4: Ⅱa | CD4: Ⅱb | CE4: Ⅳ | CF4: Ⅲ | CG4: Ⅱa | CH4: Ⅱb
B5: 名 称 | E5: 茶臼山トンネル | K5: 管理者名 | N5: 山口県防府土木建築事務所 | T5: 定期点検者名 | Y5: 鹿子嶋 康博 | AV5: =N7 -> S11 | AW5: =R7 -> 4.5 | AX5: =+Y32 -> 0 | AY5: =+Z32 -> 0 | AZ5: =+AA32 -> 0 | BA5: =+AB32 -> 2 | BB5: =+AC32 -> 0 | BC5: =+AD32 -> 0 | BD5: =+AE32 -> 1 | BE5: =+AF32 -> 1 | ... BI5: =+AJ32 -> 1 | BJ5: =+Y35 | BK5: =+Z35 | BL5: =+AA35 -> 1 | BM5: =+AC35 -> 0 | BN5: =+AD35 -> 0 | BO5: =+AE35 -> 2 | BP5: =+AG35 -> 0 | BQ5: =+AH35 -> 0 | BR5: =+AI35 -> 1 | BS5: =+Y36 -> Ⅱ | BT5: =+AC36 -> Ⅱ | BU5: =+AG36 -> Ⅱ | BV5: =+Y37 -> Ⅱ | BW5: =IF(Y32>0,$R$7,"") | BX5: =IF(Z32>0,"",IF(AA32>0,$R$7,"")) | BY5: =IF(Y32+Z32>0,"",IF(AA32>0,$R$7,"")) | BZ5: =IF(Y32+Z32+AA32>0,"",IF(AB32>0,$R$7,"")) -> 4.5 | CA5: =+AC31 -> 0 | CB5: =+AD31 -> 0 | CC5: =+AE31 -> 0.06 | CD5: =+AF31 -> 0.02 | CE5: =+AG31 -> 0 | CF5: =+AH31 -> 0 | CG5: =+AI31 -> 0 | CH5: =+AJ31 -> 3.24
B6: スパン別変状展開図 | K6: 【健全性判定集計表】
K7: スパン番号 | N7: S11 | P7: スパン長 | R7: 4.5 | U7: 前回定期点検時の健全性 | W7: 応急措置前の判定 | Y7: 対策区分毎の 変状の有無 | AC7: 対策区分毎の変状の発生範囲の規模(㎡) | AK7: 備考注2
K8: 変状番号 | L8: 対象箇所 | N8: 部位区分 | P8: 変状区分 | R8: 変状種類
Y9: 外力注1 | AC9: 材質劣化注1 | AG9: 漏水注1
Y10: Ⅳ | Z10: Ⅲ | AA10: Ⅱa | AB10: Ⅱb | AC10: Ⅳ | AD10: Ⅲ | AE10: Ⅱa | AF10: Ⅱb | AG10: Ⅳ | AH10: Ⅲ | AI10: Ⅱa | AJ10: Ⅱb
K11: 1 | L11: 覆工・坑門 | N11: アーチ（左側） | P11: 外力 | R11: ひび割れ | U11: - | AB11: ○ | AK11: 幅0.3mm×長さ2.9m,縦断ひび割れ | AQ11: =IF(P11="材質劣化",2,IF(P11="漏水",3,1)) -> 1
K12: 2 | L12: 覆工・坑門 | N12: 横断目地（左側） | P12: 材質劣化 | R12: 補強・補修材の破損 | U12: - | AF12: 0.02 | AK12: 0 | AQ12: =IF(P12="材質劣化",2,IF(P12="漏水",3,1)) -> 2
K13: 3 | L13: 覆工・坑門 | N13: アーチ（天端） | P13: 材質劣化 | R13: うき・はく離 | U13: - | AE13: 0.06 | AK13: 0 | AQ13: =IF(P13="材質劣化",2,IF(P13="漏水",3,1)) -> 2
K14: 4 | L14: 覆工・坑門 | N14: アーチ（右側） | P14: 外力 | R14: ひび割れ | U14: - | AB14: ○ | AK14: 幅0.3mm未満,縦断ひび割れ | AQ14: =IF(P14="材質劣化",2,IF(P14="漏水",3,1)) -> 1
K15: 5 | L15: 路面 | N15: 側溝 | P15: 漏水 | R15: その他 | U15: Ⅱ | AJ15: 3.24 | AK15: 0 | AQ15: =IF(P15="材質劣化",2,IF(P15="漏水",3,1)) -> 3
AQ16: =IF(P16="材質劣化",2,IF(P16="漏水",3,1)) -> 1
AQ17: =IF(P17="材質劣化",2,IF(P17="漏水",3,1)) -> 1
AQ18: =IF(P18="材質劣化",2,IF(P18="漏水",3,1)) -> 1
AQ19: =IF(P19="材質劣化",2,IF(P19="漏水",3,1)) -> 1
AQ20: =IF(P20="材質劣化",2,IF(P20="漏水",3,1)) -> 1
AQ21: =IF(P21="材質劣化",2,IF(P21="漏水",3,1)) -> 1
AQ22: =IF(P22="材質劣化",2,IF(P22="漏水",3,1)) -> 1
AQ23: =IF(P23="材質劣化",2,IF(P23="漏水",3,1)) -> 1
AQ24: =IF(P24="材質劣化",2,IF(P24="漏水",3,1)) -> 1
AQ25: =IF(P25="材質劣化",2,IF(P25="漏水",3,1)) -> 1
AQ26: =IF(P26="材質劣化",2,IF(P26="漏水",3,1)) -> 1
AQ27: =IF(P27="材質劣化",2,IF(P27="漏水",3,1)) -> 1
... AQ30: =IF(P30="材質劣化",2,IF(P30="漏水",3,1)) -> 1
K31: 集計 ・ 判定 ・ 診断 | L31: 変状の発生規模合計(㎡) | Y31: － | AC31: =SUM(AC11:AC30) -> 0 | AD31: =SUM(AD11:AD30) -> 0 | AE31: =SUM(AE11:AE30) -> 0.06 | AF31: =SUM(AF11:AF30) -> 0.02 | AG31: =SUM(AG11:AG30) -> 0 | AH31: =SUM(AH11:AH30) -> 0 | AI31: =SUM(AI11:AI30) -> 0 | AJ31: =SUM(AJ11:AJ30) -> 3.24 | AK31: 計
L32: 対策区分の 判定結果 | O32: 判定区分毎の変状数 | Y32: =COUNTIF(Y11:Y30,"○") -> 0 | Z32: =COUNTIF(Z11:Z30,"○") -> 0 | AA32: =COUNTIF(AA11:AA30,"○") -> 0 | AB32: =COUNTIF(AB11:AB30,"○") -> 2 | AC32: =COUNT(AC11:AC30) -> 0 | AD32: =COUNT(AD11:AD30) -> 0 | AE32: =COUNT(AE11:AE30) -> 1 | AF32: =COUNT(AF11:AF30) -> 1 | AG32: =COUNT(AG11:AG30) -> 0 | AH32: =COUNT(AH11:AH30) -> 0 | AI32: =COUNT(AI11:AI30) -> 0 | AJ32: =COUNT(AJ11:AJ30) -> 1
O33: 変状区分毎の判定区分注3 | Y33: =IF(Y32>0,"Ⅳ",IF(Z32>0,"Ⅲ",IF(AA32>0,"Ⅱa",IF(AB32>0,"Ⅱb","Ⅰ")))) -> Ⅱb | AC33: =IF(AC32>0,"Ⅳ",IF(AD32>0,"Ⅲ",IF(AE32>0,"Ⅱa",IF(AF32>0,"Ⅱb","Ⅰ")))) -> Ⅱa | AG33: =IF(AG32>0,"Ⅳ",IF(AH32>0,"Ⅲ",IF(AI32>0,"Ⅱa",IF(AJ32>0,"Ⅱb","Ⅰ")))) -> Ⅱb | AQ33: Ⅳ | AR33: Ⅲ | AS33: Ⅱ
L34: 健全性の 診断結果 | O34: 判定区分 | Y34: Ⅳ | Z34: Ⅲ | AA34: Ⅱ | AC34: Ⅳ | AD34: Ⅲ | AE34: Ⅱ | AG34: Ⅳ | AH34: Ⅲ | AI34: Ⅱ | AQ34: =+Y32+Z32 -> 0 | AS34: =+AA32+AB32 -> 2
O35: 判定区分毎の変状数注4 | Y35: =IF(Y32=0,"",1) | Z35: =IF(Z32=0,"",1) | AA35: =IF(AQ34=1,"",IF(AS34>0,1,"")) -> 1 | AC35: =+AC32 -> 0 | AD35: =AD32 -> 0 | AE35: =AE32+AF32 -> 2 | AG35: =AG32 -> 0 | AH35: =AH32 -> 0 | AI35: =AI32+AJ32 -> 1 | AQ35: =+Y32+AC35+AG35 -> 0 | AR35: =+Z32+AD35+AH35 -> 0 | AS35: =+AS34+AE35+AI35 -> 5
O36: 変状区分毎の判定区分注4 | Y36: =IF(Y35=1,"Ⅳ",IF(Z35=1,"Ⅲ",IF(AA35=1,"Ⅱ","Ⅰ"))) -> Ⅱ | AC36: =IF(AC35>0,"Ⅳ",IF(AD35>0,"Ⅲ",IF(AE35>0,"Ⅱ","Ⅰ"))) -> Ⅱ | AG36: =IF(AG35>0,"Ⅳ",IF(AH35>0,"Ⅲ",IF(AI35>0,"Ⅱ","Ⅰ"))) -> Ⅱ | AQ36: =IF(AQ35>0,"Ⅳ",IF(AR35>0,"Ⅲ",IF(AS35>0,"Ⅱ","Ⅰ"))) -> Ⅱ
O37: 覆工スパン単位の判定区分注5 | Y37: =IF(OR(Y36="Ⅳ",AC36="Ⅳ",AG36="Ⅳ"),"Ⅳ",IF(OR(Y36="Ⅲ",AC36="Ⅲ",AG36="Ⅲ"),"Ⅲ",IF(OR(Y36="Ⅱ",AC36="Ⅱ",AG36="Ⅱ"),"Ⅱ","Ⅰ"))) -> Ⅱ
K38: 特記事項
K40: 注1：誤記入防止のため、当該変状区分以外のセルは灰色表示とすること。
K41: 注2：応急対策を実施した場合は、その詳細を備考に記載すること。
K42: 注3：変状区分毎での最も評価の厳しい判定区分。
K43: 注4：変状区分毎での最も評価の厳しい判定区分．外力は覆工スパン単位、材質劣化、漏水は変状単位で行う。
K44: 注5：覆工スパンの中で最も評価の厳しい健全性を採用し、その覆工スパン毎の健全性とする。
B46: ※1：本シートは作成洩れのないよう、変状が無くても全スパン分を作成すること．また変状展開図は、様式D-2-1、様式D-2-1'と同じものを覆工スパン単位で拡大し掲載すること。
B47: ※2：変状番号は、様式D-1-1で記入した番号と整合させること。
B48: ※3：対策区分毎の変状発生規模は、様式D-1-1に記載した面積を記入すること（ただし外力はスパン単位で評価するため対象外とし、備考欄に状況を記入）。
B49: ※4：本様式は覆工スパン毎に作成すること。
B50: ※5：変状数が多い場合は、適時、表の行を増やして覆工スパン毎に1枚のシートに収めること。また、1スパン１シートとし、スパンに合わせてシートを追加すること。
B51: ※6：対策区分毎の変状の発生範囲の規模とは，対策を行う際に参考となる変状の長さや面積であり，変状を包含する長さや面積とする。
B52: ※7：路面滞水は、変状面積に1を記載するとともに、備考にも内容を記載すること。

Sheet 様式D-3_S012
AU1: 様式E-1リンク用→ | AV1: 覆工ｽﾊﾟﾝ 番号 | AW1: ｽﾊﾟﾝ 長 (m) | AX1: 変状数集計 | BS1: 覆工スパン毎の 健全性の診断 | BW1: 変状規模集計
AX2: 対策区分毎の変状数 | BJ2: 健全性の判定区分毎の変状数 | BW2: 覆工スパン長(m) | CA2: 対策区分毎の変状の発生範囲の規模(㎡）
B3: ■定期点検記録様式 覆工スパン別変状詳細展開図 【様式D-3】 | AX3: 外力 | BB3: 材質劣化 | BF3: 漏水 | BJ3: 外力 | BM3: 材質劣化 | BP3: 漏水 | BS3: 外力 | BT3: 材質劣化 | BU3: 漏水 | BV3: 健全性 | BW3: 外力※１ | CA3: 材質劣化 | CE3: 漏水
B4: フリガナ | E4: チャウスヤマトンネル | K4: 路線名 | N4: 主要道路防府環状線 | T4: 定期点検業者 | Y4: セントラルコンサルタント株式会社 | AG4: 定期点検年月日 | AK4: 44337 | AX4: Ⅳ | AY4: Ⅲ | AZ4: Ⅱa | BA4: Ⅱb | BB4: Ⅳ | BC4: Ⅲ | BD4: Ⅱa | BE4: Ⅱb | BF4: Ⅳ | BG4: Ⅲ | BH4: Ⅱa | BI4: Ⅱb | BJ4: Ⅳ | BK4: Ⅲ | BL4: Ⅱ | BM4: Ⅳ | BN4: Ⅲ | BO4: Ⅱ | BP4: Ⅳ | BQ4: Ⅲ | BR4: Ⅱ | BW4: Ⅳ | BX4: Ⅲ | BY4: Ⅱa | BZ4: Ⅱb | CA4: Ⅳ | CB4: Ⅲ | CC4: Ⅱa | CD4: Ⅱb | CE4: Ⅳ | CF4: Ⅲ | CG4: Ⅱa | CH4: Ⅱb
B5: 名 称 | E5: 茶臼山トンネル | K5: 管理者名 | N5: 山口県防府土木建築事務所 | T5: 定期点検者名 | Y5: 鹿子嶋 康博 | AV5: =N7 -> S12 | AW5: =R7 -> 4.4 | AX5: =+Y32 -> 0 | AY5: =+Z32 -> 0 | AZ5: =+AA32 -> 0 | BA5: =+AB32 -> 0 | BB5: =+AC32 -> 0 | BC5: =+AD32 -> 2 | BD5: =+AE32 -> 0 | BE5: =+AF32 -> 0 | ... BI5: =+AJ32 -> 1 | BJ5: =+Y35 | BK5: =+Z35 | BL5: =+AA35 | BM5: =+AC35 -> 0 | BN5: =+AD35 -> 2 | BO5: =+AE35 -> 0 | BP5: =+AG35 -> 0 | BQ5: =+AH35 -> 0 | BR5: =+AI35 -> 1 | BS5: =+Y36 -> Ⅰ | BT5: =+AC36 -> Ⅲ | BU5: =+AG36 -> Ⅱ | BV5: =+Y37 -> Ⅲ | BW5: =IF(Y32>0,$R$7,"") | BX5: =IF(Z32>0,"",IF(AA32>0,$R$7,"")) | BY5: =IF(Y32+Z32>0,"",IF(AA32>0,$R$7,"")) | BZ5: =IF(Y32+Z32+AA32>0,"",IF(AB32>0,$R$7,"")) | CA5: =+AC31 -> 0 | CB5: =+AD31 -> 3.32 | CC5: =+AE31 -> 0 | CD5: =+AF31 -> 0 | CE5: =+AG31 -> 0 | CF5: =+AH31 -> 0 | CG5: =+AI31 -> 0 | CH5: =+AJ31 -> 3.95
B6: スパン別変状展開図 | K6: 【健全性判定集計表】
K7: スパン番号 | N7: S12 | P7: スパン長 | R7: 4.4 | U7: 前回定期点検時の健全性 | W7: 応急措置前の判定 | Y7: 対策区分毎の 変状の有無 | AC7: 対策区分毎の変状の発生範囲の規模(㎡) | AK7: 備考注2
K8: 変状番号 | L8: 対象箇所 | N8: 部位区分 | P8: 変状区分 | R8: 変状種類
Y9: 外力注1 | AC9: 材質劣化注1 | AG9: 漏水注1
Y10: Ⅳ | Z10: Ⅲ | AA10: Ⅱa | AB10: Ⅱb | AC10: Ⅳ | AD10: Ⅲ | AE10: Ⅱa | AF10: Ⅱb | AG10: Ⅳ | AH10: Ⅲ | AI10: Ⅱa | AJ10: Ⅱb
K11: 1 | L11: 覆工・坑門 | N11: 横断目地（天端） | P11: 材質劣化 | R11: 補強・補修材の破損 | U11: - | AD11: 2.84 | AK11: 0 | AQ11: =IF(P11="材質劣化",2,IF(P11="漏水",3,1)) -> 2
K12: 2 | L12: 覆工・坑門 | N12: アーチ（天端） | P12: 漏水 | R12: 漏水 | U12: Ⅱ | AJ12: 3.95 | AK12: 0 | AQ12: =IF(P12="材質劣化",2,IF(P12="漏水",3,1)) -> 3
K13: 3 | L13: 覆工・坑門 | N13: アーチ（右側） | P13: 材質劣化 | R13: 補強・補修材の破損 | U13: - | AD13: 0.48 | AK13: 0 | AQ13: =IF(P13="材質劣化",2,IF(P13="漏水",3,1)) -> 2
AQ14: =IF(P14="材質劣化",2,IF(P14="漏水",3,1)) -> 1
AQ15: =IF(P15="材質劣化",2,IF(P15="漏水",3,1)) -> 1
AQ16: =IF(P16="材質劣化",2,IF(P16="漏水",3,1)) -> 1
AQ17: =IF(P17="材質劣化",2,IF(P17="漏水",3,1)) -> 1
AQ18: =IF(P18="材質劣化",2,IF(P18="漏水",3,1)) -> 1
AQ19: =IF(P19="材質劣化",2,IF(P19="漏水",3,1)) -> 1
AQ20: =IF(P20="材質劣化",2,IF(P20="漏水",3,1)) -> 1
AQ21: =IF(P21="材質劣化",2,IF(P21="漏水",3,1)) -> 1
AQ22: =IF(P22="材質劣化",2,IF(P22="漏水",3,1)) -> 1
AQ23: =IF(P23="材質劣化",2,IF(P23="漏水",3,1)) -> 1
AQ24: =IF(P24="材質劣化",2,IF(P24="漏水",3,1)) -> 1
AQ25: =IF(P25="材質劣化",2,IF(P25="漏水",3,1)) -> 1
... AQ30: =IF(P30="材質劣化",2,IF(P30="漏水",3,1)) -> 1
K31: 集計 ・ 判定 ・ 診断 | L31: 変状の発生規模合計(㎡) | Y31: － | AC31: =SUM(AC11:AC30) -> 0 | AD31: =SUM(AD11:AD30) -> 3.32 | AE31: =SUM(AE11:AE30) -> 0 | AF31: =SUM(AF11:AF30) -> 0 | AG31: =SUM(AG11:AG30) -> 0 | AH31: =SUM(AH11:AH30) -> 0 | AI31: =SUM(AI11:AI30) -> 0 | AJ31: =SUM(AJ11:AJ30) -> 3.95 | AK31: 計
L32: 対策区分の 判定結果 | O32: 判定区分毎の変状数 | Y32: =COUNTIF(Y11:Y30,"○") -> 0 | Z32: =COUNTIF(Z11:Z30,"○") -> 0 | AA32: =COUNTIF(AA11:AA30,"○") -> 0 | AB32: =COUNTIF(AB11:AB30,"○") -> 0 | AC32: =COUNT(AC11:AC30) -> 0 | AD32: =COUNT(AD11:AD30) -> 2 | AE32: =COUNT(AE11:AE30) -> 0 | AF32: =COUNT(AF11:AF30) -> 0 | AG32: =COUNT(AG11:AG30) -> 0 | AH32: =COUNT(AH11:AH30) -> 0 | AI32: =COUNT(AI11:AI30) -> 0 | AJ32: =COUNT(AJ11:AJ30) -> 1
O33: 変状区分毎の判定区分注3 | Y33: =IF(Y32>0,"Ⅳ",IF(Z32>0,"Ⅲ",IF(AA32>0,"Ⅱa",IF(AB32>0,"Ⅱb","Ⅰ")))) -> Ⅰ | AC33: =IF(AC32>0,"Ⅳ",IF(AD32>0,"Ⅲ",IF(AE32>0,"Ⅱa",IF(AF32>0,"Ⅱb","Ⅰ")))) -> Ⅲ | AG33: =IF(AG32>0,"Ⅳ",IF(AH32>0,"Ⅲ",IF(AI32>0,"Ⅱa",IF(AJ32>0,"Ⅱb","Ⅰ")))) -> Ⅱb | AQ33: Ⅳ | AR33: Ⅲ | AS33: Ⅱ
L34: 健全性の 診断結果 | O34: 判定区分 | Y34: Ⅳ | Z34: Ⅲ | AA34: Ⅱ | AC34: Ⅳ | AD34: Ⅲ | AE34: Ⅱ | AG34: Ⅳ | AH34: Ⅲ | AI34: Ⅱ | AQ34: =+Y32+Z32 -> 0 | AS34: =+AA32+AB32 -> 0
O35: 判定区分毎の変状数注4 | Y35: =IF(Y32=0,"",1) | Z35: =IF(Z32=0,"",1) | AA35: =IF(AQ34=1,"",IF(AS34>0,1,"")) | AC35: =+AC32 -> 0 | AD35: =AD32 -> 2 | AE35: =AE32+AF32 -> 0 | AG35: =AG32 -> 0 | AH35: =AH32 -> 0 | AI35: =AI32+AJ32 -> 1 | AQ35: =+Y32+AC35+AG35 -> 0 | AR35: =+Z32+AD35+AH35 -> 2 | AS35: =+AS34+AE35+AI35 -> 1
O36: 変状区分毎の判定区分注4 | Y36: =IF(Y35=1,"Ⅳ",IF(Z35=1,"Ⅲ",IF(AA35=1,"Ⅱ","Ⅰ"))) -> Ⅰ | AC36: =IF(AC35>0,"Ⅳ",IF(AD35>0,"Ⅲ",IF(AE35>0,"Ⅱ","Ⅰ"))) -> Ⅲ | AG36: =IF(AG35>0,"Ⅳ",IF(AH35>0,"Ⅲ",IF(AI35>0,"Ⅱ","Ⅰ"))) -> Ⅱ | AQ36: =IF(AQ35>0,"Ⅳ",IF(AR35>0,"Ⅲ",IF(AS35>0,"Ⅱ","Ⅰ"))) -> Ⅲ
O37: 覆工スパン単位の判定区分注5 | Y37: =IF(OR(Y36="Ⅳ",AC36="Ⅳ",AG36="Ⅳ"),"Ⅳ",IF(OR(Y36="Ⅲ",AC36="Ⅲ",AG36="Ⅲ"),"Ⅲ",IF(OR(Y36="Ⅱ",AC36="Ⅱ",AG36="Ⅱ"),"Ⅱ","Ⅰ"))) -> Ⅲ
K38: 特記事項
K40: 注1：誤記入防止のため、当該変状区分以外のセルは灰色表示とすること。
K41: 注2：応急対策を実施した場合は、その詳細を備考に記載すること。
K42: 注3：変状区分毎での最も評価の厳しい判定区分。
K43: 注4：変状区分毎での最も評価の厳しい判定区分．外力は覆工スパン単位、材質劣化、漏水は変状単位で行う。
K44: 注5：覆工スパンの中で最も評価の厳しい健全性を採用し、その覆工スパン毎の健全性とする。
B46: ※1：本シートは作成洩れのないよう、変状が無くても全スパン分を作成すること．また変状展開図は、様式D-2-1、様式D-2-1'と同じものを覆工スパン単位で拡大し掲載すること。
B47: ※2：変状番号は、様式D-1-1で記入した番号と整合させること。
B48: ※3：対策区分毎の変状発生規模は、様式D-1-1に記載した面積を記入すること（ただし外力はスパン単位で評価するため対象外とし、備考欄に状況を記入）。
B49: ※4：本様式は覆工スパン毎に作成すること。
B50: ※5：変状数が多い場合は、適時、表の行を増やして覆工スパン毎に1枚のシートに収めること。また、1スパン１シートとし、スパンに合わせてシートを追加すること。
B51: ※6：対策区分毎の変状の発生範囲の規模とは，対策を行う際に参考となる変状の長さや面積であり，変状を包含する長さや面積とする。
B52: ※7：路面滞水は、変状面積に1を記載するとともに、備考にも内容を記載すること。

Sheet 様式D-3_S013
AU1: 様式E-1リンク用→ | AV1: 覆工ｽﾊﾟﾝ 番号 | AW1: ｽﾊﾟﾝ 長 (m) | AX1: 変状数集計 | BS1: 覆工スパン毎の 健全性の診断 | BW1: 変状規模集計
AX2: 対策区分毎の変状数 | BJ2: 健全性の判定区分毎の変状数 | BW2: 覆工スパン長(m) | CA2: 対策区分毎の変状の発生範囲の規模(㎡）
B3: ■定期点検記録様式 覆工スパン別変状詳細展開図 【様式D-3】 | AX3: 外力 | BB3: 材質劣化 | BF3: 漏水 | BJ3: 外力 | BM3: 材質劣化 | BP3: 漏水 | BS3: 外力 | BT3: 材質劣化 | BU3: 漏水 | BV3: 健全性 | BW3: 外力※１ | CA3: 材質劣化 | CE3: 漏水
B4: フリガナ | E4: チャウスヤマトンネル | K4: 路線名 | N4: 主要道路防府環状線 | T4: 定期点検業者 | Y4: セントラルコンサルタント株式会社 | AG4: 定期点検年月日 | AK4: 44337 | AX4: Ⅳ | AY4: Ⅲ | AZ4: Ⅱa | BA4: Ⅱb | BB4: Ⅳ | BC4: Ⅲ | BD4: Ⅱa | BE4: Ⅱb | BF4: Ⅳ | BG4: Ⅲ | BH4: Ⅱa | BI4: Ⅱb | BJ4: Ⅳ | BK4: Ⅲ | BL4: Ⅱ | BM4: Ⅳ | BN4: Ⅲ | BO4: Ⅱ | BP4: Ⅳ | BQ4: Ⅲ | BR4: Ⅱ | BW4: Ⅳ | BX4: Ⅲ | BY4: Ⅱa | BZ4: Ⅱb | CA4: Ⅳ | CB4: Ⅲ | CC4: Ⅱa | CD4: Ⅱb | CE4: Ⅳ | CF4: Ⅲ | CG4: Ⅱa | CH4: Ⅱb
B5: 名 称 | E5: 茶臼山トンネル | K5: 管理者名 | N5: 山口県防府土木建築事務所 | T5: 定期点検者名 | Y5: 鹿子嶋 康博 | AV5: =N7 -> S13 | AW5: =R7 -> 4.5 | AX5: =+Y32 -> 0 | AY5: =+Z32 -> 0 | AZ5: =+AA32 -> 0 | BA5: =+AB32 -> 0 | BB5: =+AC32 -> 0 | BC5: =+AD32 -> 0 | BD5: =+AE32 -> 0 | BE5: =+AF32 -> 0 | ... BI5: =+AJ32 -> 0 | BJ5: =+Y35 | BK5: =+Z35 | BL5: =+AA35 | BM5: =+AC35 -> 0 | BN5: =+AD35 -> 0 | BO5: =+AE35 -> 0 | BP5: =+AG35 -> 0 | BQ5: =+AH35 -> 0 | BR5: =+AI35 -> 0 | BS5: =+Y36 -> Ⅰ | BT5: =+AC36 -> Ⅰ | BU5: =+AG36 -> Ⅰ | BV5: =+Y37 -> Ⅰ | BW5: =IF(Y32>0,$R$7,"") | BX5: =IF(Z32>0,"",IF(AA32>0,$R$7,"")) | BY5: =IF(Y32+Z32>0,"",IF(AA32>0,$R$7,"")) | BZ5: =IF(Y32+Z32+AA32>0,"",IF(AB32>0,$R$7,"")) | CA5: =+AC31 -> 0 | CB5: =+AD31 -> 0 | CC5: =+AE31 -> 0 | CD5: =+AF31 -> 0 | CE5: =+AG31 -> 0 | CF5: =+AH31 -> 0 | CG5: =+AI31 -> 0 | CH5: =+AJ31 -> 0
B6: スパン別変状展開図 | K6: 【健全性判定集計表】
K7: スパン番号 | N7: S13 | P7: スパン長 | R7: 4.5 | U7: 前回定期点検時の健全性 | W7: 応急措置前の判定 | Y7: 対策区分毎の 変状の有無 | AC7: 対策区分毎の変状の発生範囲の規模(㎡) | AK7: 備考注2
K8: 変状番号 | L8: 対象箇所 | N8: 部位区分 | P8: 変状区分 | R8: 変状種類
Y9: 外力注1 | AC9: 材質劣化注1 | AG9: 漏水注1
Y10: Ⅳ | Z10: Ⅲ | AA10: Ⅱa | AB10: Ⅱb | AC10: Ⅳ | AD10: Ⅲ | AE10: Ⅱa | AF10: Ⅱb | AG10: Ⅳ | AH10: Ⅲ | AI10: Ⅱa | AJ10: Ⅱb
AQ11: =IF(P11="材質劣化",2,IF(P11="漏水",3,1)) -> 1
AQ12: =IF(P12="材質劣化",2,IF(P12="漏水",3,1)) -> 1
AQ13: =IF(P13="材質劣化",2,IF(P13="漏水",3,1)) -> 1
AQ14: =IF(P14="材質劣化",2,IF(P14="漏水",3,1)) -> 1
AQ15: =IF(P15="材質劣化",2,IF(P15="漏水",3,1)) -> 1
AQ16: =IF(P16="材質劣化",2,IF(P16="漏水",3,1)) -> 1
AQ17: =IF(P17="材質劣化",2,IF(P17="漏水",3,1)) -> 1
AQ18: =IF(P18="材質劣化",2,IF(P18="漏水",3,1)) -> 1
AQ19: =IF(P19="材質劣化",2,IF(P19="漏水",3,1)) -> 1
AQ20: =IF(P20="材質劣化",2,IF(P20="漏水",3,1)) -> 1
AQ21: =IF(P21="材質劣化",2,IF(P21="漏水",3,1)) -> 1
AQ22: =IF(P22="材質劣化",2,IF(P22="漏水",3,1)) -> 1
... AQ30: =IF(P30="材質劣化",2,IF(P30="漏水",3,1)) -> 1
K31: 集計 ・ 判定 ・ 診断 | L31: 変状の発生規模合計(㎡) | Y31: － | AC31: =SUM(AC11:AC30) -> 0 | AD31: =SUM(AD11:AD30) -> 0 | AE31: =SUM(AE11:AE30) -> 0 | AF31: =SUM(AF11:AF30) -> 0 | AG31: =SUM(AG11:AG30) -> 0 | AH31: =SUM(AH11:AH30) -> 0 | AI31: =SUM(AI11:AI30) -> 0 | AJ31: =SUM(AJ11:AJ30) -> 0 | AK31: 計
L32: 対策区分の 判定結果 | O32: 判定区分毎の変状数 | Y32: =COUNTIF(Y11:Y30,"○") -> 0 | Z32: =COUNTIF(Z11:Z30,"○") -> 0 | AA32: =COUNTIF(AA11:AA30,"○") -> 0 | AB32: =COUNTIF(AB11:AB30,"○") -> 0 | AC32: =COUNT(AC11:AC30) -> 0 | AD32: =COUNT(AD11:AD30) -> 0 | AE32: =COUNT(AE11:AE30) -> 0 | AF32: =COUNT(AF11:AF30) -> 0 | AG32: =COUNT(AG11:AG30) -> 0 | AH32: =COUNT(AH11:AH30) -> 0 | AI32: =COUNT(AI11:AI30) -> 0 | AJ32: =COUNT(AJ11:AJ30) -> 0
O33: 変状区分毎の判定区分注3 | Y33: =IF(Y32>0,"Ⅳ",IF(Z32>0,"Ⅲ",IF(AA32>0,"Ⅱa",IF(AB32>0,"Ⅱb","Ⅰ")))) -> Ⅰ | AC33: =IF(AC32>0,"Ⅳ",IF(AD32>0,"Ⅲ",IF(AE32>0,"Ⅱa",IF(AF32>0,"Ⅱb","Ⅰ")))) -> Ⅰ | AG33: =IF(AG32>0,"Ⅳ",IF(AH32>0,"Ⅲ",IF(AI32>0,"Ⅱa",IF(AJ32>0,"Ⅱb","Ⅰ")))) -> Ⅰ | AQ33: Ⅳ | AR33: Ⅲ | AS33: Ⅱ
L34: 健全性の 診断結果 | O34: 判定区分 | Y34: Ⅳ | Z34: Ⅲ | AA34: Ⅱ | AC34: Ⅳ | AD34: Ⅲ | AE34: Ⅱ | AG34: Ⅳ | AH34: Ⅲ | AI34: Ⅱ | AQ34: =+Y32+Z32 -> 0 | AS34: =+AA32+AB32 -> 0
O35: 判定区分毎の変状数注4 | Y35: =IF(Y32=0,"",1) | Z35: =IF(Z32=0,"",1) | AA35: =IF(AQ34=1,"",IF(AS34>0,1,"")) | AC35: =+AC32 -> 0 | AD35: =AD32 -> 0 | AE35: =AE32+AF32 -> 0 | AG35: =AG32 -> 0 | AH35: =AH32 -> 0 | AI35: =AI32+AJ32 -> 0 | AQ35: =+Y32+AC35+AG35 -> 0 | AR35: =+Z32+AD35+AH35 -> 0 | AS35: =+AS34+AE35+AI35 -> 0
O36: 変状区分毎の判定区分注4 | Y36: =IF(Y35=1,"Ⅳ",IF(Z35=1,"Ⅲ",IF(AA35=1,"Ⅱ","Ⅰ"))) -> Ⅰ | AC36: =IF(AC35>0,"Ⅳ",IF(AD35>0,"Ⅲ",IF(AE35>0,"Ⅱ","Ⅰ"))) -> Ⅰ | AG36: =IF(AG35>0,"Ⅳ",IF(AH35>0,"Ⅲ",IF(AI35>0,"Ⅱ","Ⅰ"))) -> Ⅰ | AQ36: =IF(AQ35>0,"Ⅳ",IF(AR35>0,"Ⅲ",IF(AS35>0,"Ⅱ","Ⅰ"))) -> Ⅰ
O37: 覆工スパン単位の判定区分注5 | Y37: =IF(OR(Y36="Ⅳ",AC36="Ⅳ",AG36="Ⅳ"),"Ⅳ",IF(OR(Y36="Ⅲ",AC36="Ⅲ",AG36="Ⅲ"),"Ⅲ",IF(OR(Y36="Ⅱ",AC36="Ⅱ",AG36="Ⅱ"),"Ⅱ","Ⅰ"))) -> Ⅰ
K38: 特記事項
K40: 注1：誤記入防止のため、当該変状区分以外のセルは灰色表示とすること。
K41: 注2：応急対策を実施した場合は、その詳細を備考に記載すること。
K42: 注3：変状区分毎での最も評価の厳しい判定区分。
K43: 注4：変状区分毎での最も評価の厳しい判定区分．外力は覆工スパン単位、材質劣化、漏水は変状単位で行う。
K44: 注5：覆工スパンの中で最も評価の厳しい健全性を採用し、その覆工スパン毎の健全性とする。
B46: ※1：本シートは作成洩れのないよう、変状が無くても全スパン分を作成すること．また変状展開図は、様式D-2-1、様式D-2-1'と同じものを覆工スパン単位で拡大し掲載すること。
B47: ※2：変状番号は、様式D-1-1で記入した番号と整合させること。
B48: ※3：対策区分毎の変状発生規模は、様式D-1-1に記載した面積を記入すること（ただし外力はスパン単位で評価するため対象外とし、備考欄に状況を記入）。
B49: ※4：本様式は覆工スパン毎に作成すること。
B50: ※5：変状数が多い場合は、適時、表の行を増やして覆工スパン毎に1枚のシートに収めること。また、1スパン１シートとし、スパンに合わせてシートを追加すること。
B51: ※6：対策区分毎の変状の発生範囲の規模とは，対策を行う際に参考となる変状の長さや面積であり，変状を包含する長さや面積とする。
B52: ※7：路面滞水は、変状面積に1を記載するとともに、備考にも内容を記載すること。

Sheet 様式D-3_S014
AU1: 様式E-1リンク用→ | AV1: 覆工ｽﾊﾟﾝ 番号 | AW1: ｽﾊﾟﾝ 長 (m) | AX1: 変状数集計 | BS1: 覆工スパン毎の 健全性の診断 | BW1: 変状規模集計
AX2: 対策区分毎の変状数 | BJ2: 健全性の判定区分毎の変状数 | BW2: 覆工スパン長(m) | CA2: 対策区分毎の変状の発生範囲の規模(㎡）
B3: ■定期点検記録様式 覆工スパン別変状詳細展開図 【様式D-3】 | AX3: 外力 | BB3: 材質劣化 | BF3: 漏水 | BJ3: 外力 | BM3: 材質劣化 | BP3: 漏水 | BS3: 外力 | BT3: 材質劣化 | BU3: 漏水 | BV3: 健全性 | BW3: 外力※１ | CA3: 材質劣化 | CE3: 漏水
B4: フリガナ | E4: チャウスヤマトンネル | K4: 路線名 | N4: 主要道路防府環状線 | T4: 定期点検業者 | Y4: セントラルコンサルタント株式会社 | AG4: 定期点検年月日 | AK4: 44337 | AX4: Ⅳ | AY4: Ⅲ | AZ4: Ⅱa | BA4: Ⅱb | BB4: Ⅳ | BC4: Ⅲ | BD4: Ⅱa | BE4: Ⅱb | BF4: Ⅳ | BG4: Ⅲ | BH4: Ⅱa | BI4: Ⅱb | BJ4: Ⅳ | BK4: Ⅲ | BL4: Ⅱ | BM4: Ⅳ | BN4: Ⅲ | BO4: Ⅱ | BP4: Ⅳ | BQ4: Ⅲ | BR4: Ⅱ | BW4: Ⅳ | BX4: Ⅲ | BY4: Ⅱa | BZ4: Ⅱb | CA4: Ⅳ | CB4: Ⅲ | CC4: Ⅱa | CD4: Ⅱb | CE4: Ⅳ | CF4: Ⅲ | CG4: Ⅱa | CH4: Ⅱb
B5: 名 称 | E5: 茶臼山トンネル | K5: 管理者名 | N5: 山口県防府土木建築事務所 | T5: 定期点検者名 | Y5: 鹿子嶋 康博 | AV5: =N7 -> S14 | AW5: =R7 -> 4.5 | AX5: =+Y32 -> 0 | AY5: =+Z32 -> 0 | AZ5: =+AA32 -> 0 | BA5: =+AB32 -> 0 | BB5: =+AC32 -> 0 | BC5: =+AD32 -> 0 | BD5: =+AE32 -> 0 | BE5: =+AF32 -> 1 | ... BI5: =+AJ32 -> 3 | BJ5: =+Y35 | BK5: =+Z35 | BL5: =+AA35 | BM5: =+AC35 -> 0 | BN5: =+AD35 -> 0 | BO5: =+AE35 -> 1 | BP5: =+AG35 -> 0 | BQ5: =+AH35 -> 0 | BR5: =+AI35 -> 6 | BS5: =+Y36 -> Ⅰ | BT5: =+AC36 -> Ⅱ | BU5: =+AG36 -> Ⅱ | BV5: =+Y37 -> Ⅱ | BW5: =IF(Y32>0,$R$7,"") | BX5: =IF(Z32>0,"",IF(AA32>0,$R$7,"")) | BY5: =IF(Y32+Z32>0,"",IF(AA32>0,$R$7,"")) | BZ5: =IF(Y32+Z32+AA32>0,"",IF(AB32>0,$R$7,"")) | CA5: =+AC31 -> 0 | CB5: =+AD31 -> 0 | CC5: =+AE31 -> 0 | CD5: =+AF31 -> 0.03 | CE5: =+AG31 -> 0 | CF5: =+AH31 -> 0 | CG5: =+AI31 -> 12.29 | CH5: =+AJ31 -> 3.16
B6: スパン別変状展開図 | K6: 【健全性判定集計表】
K7: スパン番号 | N7: S14 | P7: スパン長 | R7: 4.5 | U7: 前回定期点検時の健全性 | W7: 応急措置前の判定 | Y7: 対策区分毎の 変状の有無 | AC7: 対策区分毎の変状の発生範囲の規模(㎡) | AK7: 備考注2
K8: 変状番号 | L8: 対象箇所 | N8: 部位区分 | P8: 変状区分 | R8: 変状種類
Y9: 外力注1 | AC9: 材質劣化注1 | AG9: 漏水注1
Y10: Ⅳ | Z10: Ⅲ | AA10: Ⅱa | AB10: Ⅱb | AC10: Ⅳ | AD10: Ⅲ | AE10: Ⅱa | AF10: Ⅱb | AG10: Ⅳ | AH10: Ⅲ | AI10: Ⅱa | AJ10: Ⅱb
K11: 1 | L11: 覆工・坑門 | N11: 水平打ち継ぎ目（左側） | P11: 材質劣化 | R11: うき・はく離 | U11: - | AF11: 0.03 | AK11: 0 | AQ11: =IF(P11="材質劣化",2,IF(P11="漏水",3,1)) -> 2
K12: 2 | L12: 覆工・坑門 | N12: アーチ（天端） | P12: 漏水 | R12: 漏水 | U12: - | AI12: 3.25 | AK12: 0 | AQ12: =IF(P12="材質劣化",2,IF(P12="漏水",3,1)) -> 3
K13: 3 | L13: 覆工・坑門 | N13: アーチ（天端） | P13: 漏水 | R13: 漏水 | U13: Ⅱ | AI13: 3.4 | AK13: 0 | AQ13: =IF(P13="材質劣化",2,IF(P13="漏水",3,1)) -> 3
K14: 4 | L14: 覆工・坑門 | N14: アーチ（右側） | P14: 漏水 | R14: 漏水 | U14: - | AJ14: 0.76 | AK14: 0 | AQ14: =IF(P14="材質劣化",2,IF(P14="漏水",3,1)) -> 3
K15: 5 | L15: 覆工・坑門 | N15: アーチ（右側） | P15: 漏水 | R15: 漏水 | U15: Ⅱ | AI15: 5.64 | AK15: 0 | AQ15: =IF(P15="材質劣化",2,IF(P15="漏水",3,1)) -> 3
K16: 6 | L16: 路面 | N16: 側溝 | P16: 漏水 | R16: その他 | U16: Ⅱ | AJ16: 1.45 | AK16: 0 | AQ16: =IF(P16="材質劣化",2,IF(P16="漏水",3,1)) -> 3
K17: 7 | L17: 路面 | N17: 側溝 | P17: 漏水 | R17: その他 | U17: Ⅱ | AJ17: 0.95 | AK17: 0 | AQ17: =IF(P17="材質劣化",2,IF(P17="漏水",3,1)) -> 3
AQ18: =IF(P18="材質劣化",2,IF(P18="漏水",3,1)) -> 1
AQ19: =IF(P19="材質劣化",2,IF(P19="漏水",3,1)) -> 1
AQ20: =IF(P20="材質劣化",2,IF(P20="漏水",3,1)) -> 1
AQ21: =IF(P21="材質劣化",2,IF(P21="漏水",3,1)) -> 1
AQ22: =IF(P22="材質劣化",2,IF(P22="漏水",3,1)) -> 1
AQ23: =IF(P23="材質劣化",2,IF(P23="漏水",3,1)) -> 1
AQ24: =IF(P24="材質劣化",2,IF(P24="漏水",3,1)) -> 1
AQ25: =IF(P25="材質劣化",2,IF(P25="漏水",3,1)) -> 1
AQ26: =IF(P26="材質劣化",2,IF(P26="漏水",3,1)) -> 1
AQ27: =IF(P27="材質劣化",2,IF(P27="漏水",3,1)) -> 1
AQ28: =IF(P28="材質劣化",2,IF(P28="漏水",3,1)) -> 1
AQ29: =IF(P29="材質劣化",2,IF(P29="漏水",3,1)) -> 1
AQ30: =IF(P30="材質劣化",2,IF(P30="漏水",3,1)) -> 1
K31: 集計 ・ 判定 ・ 診断 | L31: 変状の発生規模合計(㎡) | Y31: － | AC31: =SUM(AC11:AC30) -> 0 | AD31: =SUM(AD11:AD30) -> 0 | AE31: =SUM(AE11:AE30) -> 0 | AF31: =SUM(AF11:AF30) -> 0.03 | AG31: =SUM(AG11:AG30) -> 0 | AH31: =SUM(AH11:AH30) -> 0 | AI31: =SUM(AI11:AI30) -> 12.29 | AJ31: =SUM(AJ11:AJ30) -> 3.16 | AK31: 計
L32: 対策区分の 判定結果 | O32: 判定区分毎の変状数 | Y32: =COUNTIF(Y11:Y30,"○") -> 0 | Z32: =COUNTIF(Z11:Z30,"○") -> 0 | AA32: =COUNTIF(AA11:AA30,"○") -> 0 | AB32: =COUNTIF(AB11:AB30,"○") -> 0 | AC32: =COUNT(AC11:AC30) -> 0 | AD32: =COUNT(AD11:AD30) -> 0 | AE32: =COUNT(AE11:AE30) -> 0 | AF32: =COUNT(AF11:AF30) -> 1 | AG32: =COUNT(AG11:AG30) -> 0 | AH32: =COUNT(AH11:AH30) -> 0 | AI32: =COUNT(AI11:AI30) -> 3 | AJ32: =COUNT(AJ11:AJ30) -> 3
O33: 変状区分毎の判定区分注3 | Y33: =IF(Y32>0,"Ⅳ",IF(Z32>0,"Ⅲ",IF(AA32>0,"Ⅱa",IF(AB32>0,"Ⅱb","Ⅰ")))) -> Ⅰ | AC33: =IF(AC32>0,"Ⅳ",IF(AD32>0,"Ⅲ",IF(AE32>0,"Ⅱa",IF(AF32>0,"Ⅱb","Ⅰ")))) -> Ⅱb | AG33: =IF(AG32>0,"Ⅳ",IF(AH32>0,"Ⅲ",IF(AI32>0,"Ⅱa",IF(AJ32>0,"Ⅱb","Ⅰ")))) -> Ⅱa | AQ33: Ⅳ | AR33: Ⅲ | AS33: Ⅱ
L34: 健全性の 診断結果 | O34: 判定区分 | Y34: Ⅳ | Z34: Ⅲ | AA34: Ⅱ | AC34: Ⅳ | AD34: Ⅲ | AE34: Ⅱ | AG34: Ⅳ | AH34: Ⅲ | AI34: Ⅱ | AQ34: =+Y32+Z32 -> 0 | AS34: =+AA32+AB32 -> 0
O35: 判定区分毎の変状数注4 | Y35: =IF(Y32=0,"",1) | Z35: =IF(Z32=0,"",1) | AA35: =IF(AQ34=1,"",IF(AS34>0,1,"")) | AC35: =+AC32 -> 0 | AD35: =AD32 -> 0 | AE35: =AE32+AF32 -> 1 | AG35: =AG32 -> 0 | AH35: =AH32 -> 0 | AI35: =AI32+AJ32 -> 6 | AQ35: =+Y32+AC35+AG35 -> 0 | AR35: =+Z32+AD35+AH35 -> 0 | AS35: =+AS34+AE35+AI35 -> 7
O36: 変状区分毎の判定区分注4 | Y36: =IF(Y35=1,"Ⅳ",IF(Z35=1,"Ⅲ",IF(AA35=1,"Ⅱ","Ⅰ"))) -> Ⅰ | AC36: =IF(AC35>0,"Ⅳ",IF(AD35>0,"Ⅲ",IF(AE35>0,"Ⅱ","Ⅰ"))) -> Ⅱ | AG36: =IF(AG35>0,"Ⅳ",IF(AH35>0,"Ⅲ",IF(AI35>0,"Ⅱ","Ⅰ"))) -> Ⅱ | AQ36: =IF(AQ35>0,"Ⅳ",IF(AR35>0,"Ⅲ",IF(AS35>0,"Ⅱ","Ⅰ"))) -> Ⅱ
O37: 覆工スパン単位の判定区分注5 | Y37: =IF(OR(Y36="Ⅳ",AC36="Ⅳ",AG36="Ⅳ"),"Ⅳ",IF(OR(Y36="Ⅲ",AC36="Ⅲ",AG36="Ⅲ"),"Ⅲ",IF(OR(Y36="Ⅱ",AC36="Ⅱ",AG36="Ⅱ"),"Ⅱ","Ⅰ"))) -> Ⅱ
K38: 特記事項
K40: 注1：誤記入防止のため、当該変状区分以外のセルは灰色表示とすること。
K41: 注2：応急対策を実施した場合は、その詳細を備考に記載すること。
K42: 注3：変状区分毎での最も評価の厳しい判定区分。
K43: 注4：変状区分毎での最も評価の厳しい判定区分．外力は覆工スパン単位、材質劣化、漏水は変状単位で行う。
K44: 注5：覆工スパンの中で最も評価の厳しい健全性を採用し、その覆工スパン毎の健全性とする。
B46: ※1：本シートは作成洩れのないよう、変状が無くても全スパン分を作成すること．また変状展開図は、様式D-2-1、様式D-2-1'と同じものを覆工スパン単位で拡大し掲載すること。
B47: ※2：変状番号は、様式D-1-1で記入した番号と整合させること。
B48: ※3：対策区分毎の変状発生規模は、様式D-1-1に記載した面積を記入すること（ただし外力はスパン単位で評価するため対象外とし、備考欄に状況を記入）。
B49: ※4：本様式は覆工スパン毎に作成すること。
B50: ※5：変状数が多い場合は、適時、表の行を増やして覆工スパン毎に1枚のシートに収めること。また、1スパン１シートとし、スパンに合わせてシートを追加すること。
B51: ※6：対策区分毎の変状の発生範囲の規模とは，対策を行う際に参考となる変状の長さや面積であり，変状を包含する長さや面積とする。
B52: ※7：路面滞水は、変状面積に1を記載するとともに、備考にも内容を記載すること。

Sheet 様式D-3_S015
AU1: 様式E-1リンク用→ | AV1: 覆工ｽﾊﾟﾝ 番号 | AW1: ｽﾊﾟﾝ 長 (m) | AX1: 変状数集計 | BS1: 覆工スパン毎の 健全性の診断 | BW1: 変状規模集計
AX2: 対策区分毎の変状数 | BJ2: 健全性の判定区分毎の変状数 | BW2: 覆工スパン長(m) | CA2: 対策区分毎の変状の発生範囲の規模(㎡）
B3: ■定期点検記録様式 覆工スパン別変状詳細展開図 【様式D-3】 | AX3: 外力 | BB3: 材質劣化 | BF3: 漏水 | BJ3: 外力 | BM3: 材質劣化 | BP3: 漏水 | BS3: 外力 | BT3: 材質劣化 | BU3: 漏水 | BV3: 健全性 | BW3: 外力※１ | CA3: 材質劣化 | CE3: 漏水
B4: フリガナ | E4: チャウスヤマトンネル | K4: 路線名 | N4: 主要道路防府環状線 | T4: 定期点検業者 | Y4: セントラルコンサルタント株式会社 | AG4: 定期点検年月日 | AK4: 44337 | AX4: Ⅳ | AY4: Ⅲ | AZ4: Ⅱa | BA4: Ⅱb | BB4: Ⅳ | BC4: Ⅲ | BD4: Ⅱa | BE4: Ⅱb | BF4: Ⅳ | BG4: Ⅲ | BH4: Ⅱa | BI4: Ⅱb | BJ4: Ⅳ | BK4: Ⅲ | BL4: Ⅱ | BM4: Ⅳ | BN4: Ⅲ | BO4: Ⅱ | BP4: Ⅳ | BQ4: Ⅲ | BR4: Ⅱ | BW4: Ⅳ | BX4: Ⅲ | BY4: Ⅱa | BZ4: Ⅱb | CA4: Ⅳ | CB4: Ⅲ | CC4: Ⅱa | CD4: Ⅱb | CE4: Ⅳ | CF4: Ⅲ | CG4: Ⅱa | CH4: Ⅱb
B5: 名 称 | E5: 茶臼山トンネル | K5: 管理者名 | N5: 山口県防府土木建築事務所 | T5: 定期点検者名 | Y5: 鹿子嶋 康博 | AV5: =N7 -> S15 | AW5: =R7 -> 4.5 | AX5: =+Y32 -> 0 | AY5: =+Z32 -> 0 | AZ5: =+AA32 -> 0 | BA5: =+AB32 -> 0 | BB5: =+AC32 -> 0 | BC5: =+AD32 -> 0 | BD5: =+AE32 -> 0 | BE5: =+AF32 -> 1 | ... BI5: =+AJ32 -> 2 | BJ5: =+Y35 | BK5: =+Z35 | BL5: =+AA35 | BM5: =+AC35 -> 0 | BN5: =+AD35 -> 0 | BO5: =+AE35 -> 1 | BP5: =+AG35 -> 0 | BQ5: =+AH35 -> 0 | BR5: =+AI35 -> 4 | BS5: =+Y36 -> Ⅰ | BT5: =+AC36 -> Ⅱ | BU5: =+AG36 -> Ⅱ | BV5: =+Y37 -> Ⅱ | BW5: =IF(Y32>0,$R$7,"") | BX5: =IF(Z32>0,"",IF(AA32>0,$R$7,"")) | BY5: =IF(Y32+Z32>0,"",IF(AA32>0,$R$7,"")) | BZ5: =IF(Y32+Z32+AA32>0,"",IF(AB32>0,$R$7,"")) | CA5: =+AC31 -> 0 | CB5: =+AD31 -> 0 | CC5: =+AE31 -> 0 | CD5: =+AF31 -> 0.15 | CE5: =+AG31 -> 0 | CF5: =+AH31 -> 0 | CG5: =+AI31 -> 8.95 | CH5: =+AJ31 -> 4.6
B6: スパン別変状展開図 | K6: 【健全性判定集計表】
