Workbook
Name その他: '(参考)リスト'!$C$45
Name その他施設: '(参考)リスト'!$C$76:$C$80
Name 外力: '(参考)リスト'!$E$16:$E$23
Name 換気施設: '(参考)リスト'!$C$55:$C$59
Name 坑門: '(参考)リスト'!$C$16:$C$29
Name 材質劣化: '(参考)リスト'!$E$25:$E$30
Name 照明施設: '(参考)リスト'!$C$51:$C$53
Name 対象箇所: テーブル1[対象箇所]
Name 対象箇所: [1]!テーブル1[対象箇所]
Name 対象箇所: テーブル1[対象箇所]
Name 対象箇所: テーブル1[対象箇所]
Name 対象箇所: テーブル1[対象箇所]
Name 対象箇所: テーブル1[対象箇所]
Name 対象箇所: テーブル1[対象箇所]
Name 対象箇所: テーブル1[対象箇所]
Name 対象箇所: テーブル1[対象箇所]
Name 対象箇所: テーブル1[対象箇所]
Name 対象箇所: テーブル1[対象箇所]
Name 対象箇所: テーブル1[対象箇所]
Name 対象箇所: テーブル1[対象箇所]
Name 対象箇所: テーブル1[対象箇所]
Name 対象箇所: テーブル1[対象箇所]
Name 対象箇所: テーブル1[対象箇所]
Name 対象箇所: テーブル1[対象箇所]
Name 対象箇所: テーブル1[対象箇所]
Name 対象箇所: テーブル1[対象箇所]
Name 対象箇所: テーブル1[対象箇所]
Name 対象箇所: テーブル1[対象箇所]
Name 対象箇所: テーブル1[対象箇所]
Name 対象箇所: テーブル1[対象箇所]
Name 対象箇所: テーブル1[対象箇所]
Name 対象箇所: [2]!テーブル1[対象箇所]
Name 対象箇所: テーブル1[対象箇所]
Name 天井板: '(参考)リスト'!$C$34:$C$36
Name 内装板: '(参考)リスト'!$C$31:$C$32
Name 非常用施設: '(参考)リスト'!$C$61:$C$74
Name 覆工: '(参考)リスト'!$C$16:$C$29
Name 覆工・坑門: '(参考)リスト'!$C$16:$C$29
Name 路面: '(参考)リスト'!$C$38:$C$43
Name 漏水: '(参考)リスト'!$E$32:$E$38

Sheet 点検様式作成フロー
A1: 点検様式作成フロ-
A3: 作成フロー図 | H3: 点検調書作成手順
H4: ①様式A-1～A-3（トンネル台帳）
H5: トンネル点検の実施にあたっては，現場点検作業に先行してトンネル情報を収集する。トンネル台帳（様式Ａ－1～様式Ａ－3）はトンネル完成後に作成され，維持管理の段階で引き継がれるが，関連資料等を確認したうえで，追加情報があれば必要に応じて追記することが望ましい。
H9: ②様式D-2-1、様式D-2-1´
H10: 現場点検作業を実施し，近接目視点検で確認した変状状況や補修履歴を忠実に変状展開図に転記する
H12: ③様式D-1-1、様式D-1-2
H13: 変状展開図や撮影した写真等をもとに，対象トンネルの対策区分を判定し，対策区分の判定区分がⅡ～Ⅳの変状および異常判定区分「×」を抽出し，写真台帳を作成する
H16: ④様式B
H17: 写真台帳の作成と同時に，トンネルの構造を展開した位置図に変状写真位置を記録する
H19: ⑤様式D-3
H20: 変状展開図ならびに写真台帳をもとに覆工スパンごとの変状展開図を作成し，変状発生状況をとりまとめる
H22: ⑥様式E-1、様式E-2
H23: 様式Ｄ－1～様式Ｄ－3をもとに，健全性の診断結果を集計する
... H31: ファイルは以下の分割規則に従う。 ※各ファイルとも （参考）リスト のシートを付けて保存すること。 ・様式A-1～A-3は同一ファイルとする。 ・様式B、D-1-1、D-1-2、D-2-1（もしくはD-2-1'）、Eは別ファイルとする。 ・様式C-1-1,C-1-2、C-2は同一ファイルとする。 ・様式D-3、E、Fは同一ファイルとする。

Sheet 変状面積算出方法
A1: 変状面積算出方法
A26: 注1）外力による変状：ひび割れや圧ざの場合は変状の寸法を記録する。
A27: 例）ひび割れ：長さ（L）×最大ひび割れ幅（t）を記録する。 変形，移動，沈下：数値的な記載が可能な場合のみ記載する。
A28: 注2）材料劣化による：打音異常
A29: 例）うき，はく離（閉合ひび割れ）：変状範囲を包括する寸法（L×W） うき，はく離（ひび割れ沿い）：打音異常箇所を包括する寸法（L×W） 鋼材腐食（鉄筋腐食）：一括した対策が適当と考えられる範囲を包括する寸法（L×W）
A30: 注3）漏水による変状：漏水発生範囲を包括し，垂れ下がりの可能性がある側壁下端まで含めた寸法を，L×Wで記録する。打継ぎ目地沿いの 漏水については目地を跨いだ50cm幅を横幅とする。

Sheet 様式A-1
B2: ■トンネル台帳 トンネル諸元、非常用施設諸元 【様式A-1】 | S2: トンネルID | W2: 34.15492.131.19489
B3: フリガナ | D3: ミネトンネル | H3: 路線名 | J3: 一般国道 316号 | P3: 管理者名 | R3: 宇部土木建築事務所 | W3: 緊急輸送道路 | Z3: 有
B4: 名 称 | D4: 美祢トンネル | W4: 代替路の有無 | Z4: 有
B5: 所在地 | D5: 自 | E5: 山口県美祢市伊佐町 | H5: 作成者 | K5: 株式会社ニュージェック | P5: 作成年月日 | R5: 44347 | U5: トンネル延長 | X5: L= | Z5: 1265 | AB5: ｍ
D6: 至 | E6: 山口県美祢市東厚保町 | U6: ﾄﾝﾈﾙの分類 | X6: 陸上トンネル（掘進工法）
B7: 起点 | C7: 緯度 | E7: 340917.7 | H7: 完成年月日 | K7: 1984年 | M7: 舗装 | O7: 種 別 | Q7: コンクリート系 | S7: トンネル非常用施設 | T7: 施設の内訳 | X7: 種別・方式 | Y7: 型式 | Z7: 個数 | AA7: 更新年度 | AE7: =INT(E7/10000) -> 34 | AF7: =INT(E7/100)-AE7*100 -> 9 | AG7: =E7-AE7*10000-AF7*100 -> 17.7 | AH7: =ROUND(AE7+AF7/60+AG7/60/60,5) -> 34.15492 | AI7: =TEXT(AH7,"0.00000") -> 34.15492
C8: 経度 | E8: 1311141.6 | H8: 供用年月日 | K8: - | O8: 厚 さ | Q8: - | T8: 通報設備 | U8: 通話型通報設備 | X8: 非常用電話 | Z8: 8 | AE8: =INT(E8/10000) -> 131 | AF8: =INT(E8/100)-AE8*100 -> 11 | AG8: =E8-AE8*10000-AF8*100 -> 41.6 | AH8: =ROUND(AE8+AF8/60+AG8/60/60,5) -> 131.19489 | AI8: =TEXT(AH8,"0.00000") -> 131.19489
B9: 終点 | C9: 緯度 | E9: 340837.7 | H9: トンネル区分 | K9: B | O9: 面 積 | Q9: - | U9: 操作型通報設備 | X9: 押ボタン通報装置 | Z9: 27
C10: 経度 | E10: 1311156.1 | H10: 内装種類 | K10: 覆工（内装あり） | O10: 更新年次 | Q10: - | U10: 自動通報設備
B11: 一般有料区分 | E11: 一般（無料） | H11: 天井板種類 | K11: 覆工（内装あり） | M11: 排水 | O11: 種 別 | Q11: - | T11: 警報設備 | U11: 非常警報設備
B12: 土かぶり | E12: - | G12: m | H12: 坑門 | I12: 起点 | J12: 形式 | K12: 面壁型 | O12: 更新年次 | Q12: - | T12: 消火設備 | U12: 消 火 器 | X12: 消火器 | Z12: 27
B13: 内空断面積 | E13: - | G13: ㎡ | J13: 延長 | K13: - | L13: m | M13: 施設 | P13: 種別・方式 | Q13: 個数 | R13: 更新年次 | U13: 消火栓設備
B14: 交 通 量 | E14: 1281 | G14: 台/12h | I14: 終点 | J14: 形式 | K14: 面壁型 | M14: 道路附属物等 | N14: 照明 | P14: ナトリウム灯 | Q14: 186 | T14: 避難誘導設備 | U14: 誘導表示設備
C15: 道 路 幅 | E15: 9.25 | G15: m | J15: 延長 | K15: - | L15: m | N15: 換気 | P15: 自然換気 | U15: 避難情報提供設備
B16: 幅 員 | C16: 車 道 幅 | E16: 3 | G16: m | H16: 竣工巻厚 | I16: アーチ | K16: - | L16: cm | N16: 標識
E17: 3 | I17: 側 壁 | K17: - | L17: cm | N17: 警報表示板 | U17: 避難通路
C18: 歩道等幅 | E18: 2.25 | G18: m | K18: - | L18: cm | N18: 吸音板 | U18: 排煙設備
B19: 高さ | C19: 建築限界高 | E19: - | G19: m | I19: インバート | K19: - | L19: cm | T19: その他の設備 | U19: 給水栓設備
C20: 中央高 | E20: - | G20: m | H20: 半径 | I20: アーチ | K20: - | L20: cm | U20: 無線通信補助設備
C21: 有効高 | E21: 4.5 | G21: m | I21: 側 壁 | K21: - | L21: cm | U21: 水噴霧設備
C22: 縦断勾配 | E22: - | I22: インバート | K22: - | L22: cm | U22: 監視設備
B23: 線 形 | C23: 直線区間長 | E23: - | H23: 占用物件 | I23: 種 類 | K23: 寸 法 | M23: 管理者名 | Q23: 更新年次 | S23: 非常用施設 関連設備 | U23: 予備発電設備
C24: 曲線区間 | D24: 区間長 | F24: -
D25: 起点側ｸﾛｿｲﾄﾞ | F25: -
D26: 曲線半径 | F26: -
D27: 終点側ｸﾛｿｲﾄﾞ | F27: - | S27: その他 | U27: 非常駐車帯 | X27: 非常駐車帯 | Z27: 2
B28: トンネル工法 | E28: 矢板工法 | U28: 方向転換所
C29: ※緯度・経度については、秒の少数第二位の単位まで記入すること。（例；36度20分35.56秒の場合、362035.36と入力）

Sheet 様式A-2
B3: ■トンネル台帳 トンネル情報一覧表 【様式A-2】
B4: フリガナ | E4: ='様式A-1'!D3 -> ミネトンネル | J4: 路線名 | M4: ='様式A-1'!J3 -> 一般国道 316号 | S4: 作成者 | Y4: ='様式A-1'!K5 -> 株式会社ニュージェック | AE4: 作成年月日 | AI4: ='様式A-1'!R5 -> 44347
B5: 名 称 | E5: ='様式A-1'!D4 -> 美祢トンネル | J5: 管理者名 | M5: ='様式A-1'!R3 -> 宇部土木建築事務所
B6: 覆工 ｽﾊﾟﾝ 番号 | C6: ｽﾊﾟﾝ長 | D6: 追加距離 | F6: トンネル本体工 | K6: 照明施設 | O6: 非常用施設 | AE6: 換気施設 | AK6: その他附属物等
O7: ='様式A-1'!T8 -> 通報設備 | R7: ='様式A-1'!T11 -> 警報設備 | S7: ='様式A-1'!T12 -> 消火設備 | U7: ='様式A-1'!T14 -> 避難誘導設備 | Y7: ='様式A-1'!T19 -> その他の設備 | AC7: 特記事項
D8: 起点側 | E8: 終点側 | F8: 特記事項 | I8: 内装板 | J8: 天井板 | K8: 基本照明 | L8: 入口出口照明 | M8: 特記事項 | O8: ='様式A-1'!U8 -> 通話型通報設備 | P8: ='様式A-1'!U9 -> 操作型通報設備 | Q8: ='様式A-1'!U10 -> 自動通報設備 | R8: ='様式A-1'!U11 -> 非常警報設備 | S8: ='様式A-1'!U12 -> 消 火 器 | T8: ='様式A-1'!U13 -> 消火栓設備 | U8: ='様式A-1'!U14 -> 誘導表示設備 | V8: ='様式A-1'!U15 -> 避難情報提供設備 | W8: ='様式A-1'!U17 -> 避難通路 | X8: ='様式A-1'!U18 -> 排煙設備 | Y8: ='様式A-1'!U19 -> 給水栓設備 | Z8: ='様式A-1'!U20 -> 無線通信補助設備 | AA8: ='様式A-1'!U21 -> 水噴霧設備 | AB8: ='様式A-1'!U22 -> 監視設備 | AE8: JF | AF8: VI計 | AG8: CO計 | AH8: 風向 風速計 | AI8: 特記事項
C9: (m) | D9: (m) | E9: (m)
B10: PS | C10: 5 | D10: 0 | E10: =C10+D10 -> 5 | I10: ○ | K10: ○
B11: S001 | C11: 10.5 | D11: =E10 -> 5 | E11: =C11+D11 -> 15.5 | I11: ○ | K11: ○
B12: S002 | C12: 10.5 | D12: =E11 -> 15.5 | E12: =C12+D12 -> 26 | I12: ○ | K12: ○ | U12: 〇
B13: S003 | C13: 10.5 | D13: =E12 -> 26 | E13: =C13+D13 -> 36.5 | I13: ○ | K13: ○
B14: S004 | C14: 10.5 | D14: =E13 -> 36.5 | E14: =C14+D14 -> 47 | I14: ○ | K14: ○
B15: S005 | C15: 10.5 | D15: =E14 -> 47 | E15: =C15+D15 -> 57.5 | I15: ○ | K15: ○ | S15: 〇 | U15: 〇
B16: S006 | C16: 10.5 | D16: =E15 -> 57.5 | E16: =C16+D16 -> 68 | I16: ○ | K16: ○
B17: S007 | C17: 3.5 | D17: =E16 -> 68 | E17: =C17+D17 -> 71.5 | I17: ○ | K17: ○
B18: S008 | C18: 10.6 | D18: =E17 -> 71.5 | E18: =C18+D18 -> 82.1 | I18: ○ | K18: ○ | U18: 〇
B19: S009 | C19: 10.5 | D19: =E18 -> 82.1 | E19: =C19+D19 -> 92.6 | I19: ○ | K19: ○
B20: S010 | C20: 10.5 | D20: =E19 -> 92.6 | E20: =C20+D20 -> 103.1 | I20: ○ | K20: ○ | O20: 〇 | S20: 〇
B21: S011 | C21: 10.6 | D21: =E20 -> 103.1 | E21: =C21+D21 -> 113.7 | I21: ○ | K21: ○
B22: S012 | C22: 10.5 | D22: =E21 -> 113.7 | E22: =C22+D22 -> 124.2 | I22: ○ | K22: ○ | U22: 〇
B23: S013 | C23: 10.5 | D23: =E22 -> 124.2 | E23: =C23+D23 -> 134.7 | I23: ○ | K23: ○ | U23: 〇
B24: S014 | C24: 10.6 | D24: =E23 -> 134.7 | E24: =C24+D24 -> 145.3 | I24: ○ | K24: ○
B25: S015 | C25: 10.4 | D25: =E24 -> 145.3 | E25: =C25+D25 -> 155.7 | I25: ○ | K25: ○ | S25: 〇 | U25: 〇
B26: S016 | C26: 10.5 | D26: =E25 -> 155.7 | E26: =C26+D26 -> 166.2 | I26: ○ | K26: ○
B27: S017 | C27: 10.5 | D27: =E26 -> 166.2 | E27: =C27+D27 -> 176.7 | I27: ○ | K27: ○ | U27: 〇
B28: S018 | C28: 10.5 | D28: =E27 -> 176.7 | E28: =C28+D28 -> 187.2 | I28: ○ | K28: ○
B29: S019 | C29: 10.5 | D29: =E28 -> 187.2 | E29: =C29+D29 -> 197.7 | I29: ○ | K29: ○ | S29: 〇 | U29: 〇
B30: S020 | C30: 10.6 | D30: =E29 -> 197.7 | E30: =C30+D30 -> 208.3 | I30: ○ | K30: ○
B31: S021 | C31: 10.5 | D31: =E30 -> 208.3 | E31: =C31+D31 -> 218.8 | I31: ○ | U31: 〇
B32: S022 | C32: 10.5 | D32: =E31 -> 218.8 | E32: =C32+D32 -> 229.3 | I32: ○ | K32: ○
B33: S023 | C33: 10.5 | D33: =E32 -> 229.3 | E33: =C33+D33 -> 239.8 | I33: ○ | K33: ○ | U33: 〇
B34: S024 | C34: 10.5 | D34: =E33 -> 239.8 | E34: =C34+D34 -> 250.3 | I34: ○ | K34: ○ | S34: 〇
B35: S025 | C35: 10.5 | D35: =E34 -> 250.3 | E35: =C35+D35 -> 260.8 | I35: ○
B36: S026 | C36: 10.5 | D36: =E35 -> 260.8 | E36: =C36+D36 -> 271.3 | I36: ○ | K36: ○ | U36: 〇
B37: S027 | C37: 10.5 | D37: =E36 -> 271.3 | E37: =C37+D37 -> 281.8 | I37: ○ | K37: ○
B38: S028 | C38: 10.5 | D38: =E37 -> 281.8 | E38: =C38+D38 -> 292.3 | I38: ○ | K38: ○ | S38: 〇 | U38: 〇
B39: S029 | C39: 10.5 | D39: =E38 -> 292.3 | E39: =C39+D39 -> 302.8 | I39: ○ | K39: ○
B40: S030 | C40: 10.5 | D40: =E39 -> 302.8 | E40: =C40+D40 -> 313.3 | I40: ○ | U40: 〇
B41: S031 | C41: 10.5 | D41: =E40 -> 313.3 | E41: =C41+D41 -> 323.8 | I41: ○ | K41: ○
B42: S032 | C42: 10.5 | D42: =E41 -> 323.8 | E42: =C42+D42 -> 334.3 | I42: ○ | K42: ○ | U42: 〇
...

Sheet 様式A-3
B3: ■トンネル台帳 トンネル記録（位置図、断面図、施工実績他）【様式A-3】
B4: フリガナ | E4: ='[1]様式A-1'!D3 -> ミネトンネル | J4: 路線名 | M4: ='[1]様式A-1'!J3 -> 一般国道 316号 | S4: 作成者 | W4: ='[1]様式A-1'!K5 -> 株式会社ニュージェック | AC4: 作成年月日 | AF4: ='様式A-1'!R5 -> 44347
B5: 名 称 | E5: ='[1]様式A-1'!D4 -> 美祢トンネル | J5: 管理者名 | M5: ='[1]様式A-1'!R3 -> 山口県 宇部土木建築事務所
B6: 位置図・現況写真・標準断面図・地質縦断図・施工実績

Sheet 様式B(トンネル様式1P001)
B2: ■定期点検記録様式 トンネル変状・異常箇所写真位置図 | T2: トンネルID | V2: 34.15492.131.19489 | AA2: Ⅰ | AB2: あり | AC2: 陸上トンネル 掘進工法
B3: フリガナ | D3: ミネトンネル | H3: 路線名 | J3: 一般国道 316号 | N3: 管理者名 | P3: 宇部土木建築事務所 | T3: 緊急輸送道路 | V3: あり | AA3: Ⅱ | AB3: なし | AC3: 陸上トンネル 開削工法
B4: 名 称 | D4: 美祢トンネル | T4: 代替路の有無 | V4: あり | AA4: Ⅲ | AC4: 陸上トンネル その他
B5: 所在地 | D5: 自 | E5: 山口県美祢市伊佐町 | H5: 定期点検業者 | K5: 株式会社ニュージェック | O5: 定期点検年月日 | Q5: 44294 | T5: トンネル延長 | V5: L= | W5: ='様式A-1'!Z5 -> 1265 | Y5: ｍ | AA5: Ⅳ | AC5: 水底トンネル 掘進工法
D6: 至 | E6: 山口県美祢市伊佐町 | H6: 定期点検者名 | K6: 石村 勝伸 | T6: ﾄﾝﾈﾙの分類 | V6: 陸上トンネル 掘進工法 | AC6: 水底トンネル 沈埋工法
B7: 起点 | C7: 緯度 | D7: ='様式A-1'!E7 -> 340917.7 | F7: 変状・異常 箇所数合計 | H7: トンネル 本体工 | J7: 材質劣化 | L7: Ⅱ | M7: 109 | N7: Ⅲ | O7: 0 | P7: Ⅳ | Q7: 0 | R7: トンネル毎 の健全性 | T7: =様式F!AJ4 -> Ⅲ | V7: 附属物の 取付状態 | W7: ◯ （応急措置後） | Y7: 0 | AC7: 水底トンネル 開削工法
AC8: 水底トンネル その他
C10: 経度 | D10: ='様式A-1'!E8 -> 1311141.6
J11: 漏水 | L11: Ⅱ | M11: 55 | N11: Ⅲ | O11: 0 | P11: Ⅳ | Q11: 0
B13: 終点 | C13: 緯度 | D13: ='様式A-1'!E9 -> 340837.7 | W13: ✕ | Y13: 25
J15: 外力 | L15: Ⅱ | M15: 3 | N15: Ⅲ | O15: 3 | P15: Ⅳ | Q15: 0 | AC15: 0
C16: 経度 | D16: ='様式A-1'!E10 -> 1311156.1
B19: トンネル変状・異常箇所写真位置図
P26: 注１：本位置図は、見下げた状態で記載すること。 注２：覆工スパン番号は横断目地毎(矢板工法の場合は上半アーチ の横断目地毎)に設定すること。 注３：写真番号に付する変状番号は、各覆工スパンの変状に対して新た に確認された場合は順次追加していくこと。 注４：横断目地の変状は前の覆工スパン番号で計上すること。 注５：１枚に収まらない場合は、複数枚に分けて作成すること。
C28: ※1 トンネル本体工の変状数は、材質劣化、漏水に起因するものは変状単位で、外力に起因するものはスパン単位で計上すること。
C29: ※2 本体工の変状に対しては、健全性の判定区分Ⅱ～Ⅳについて添付すること。また、点検前に実施された措置によりⅠと判定された箇所も添付すること。
C30: ※3 附属物の取付状態の○欄については、応急措置前に判定区分×とした箇所のうち応急措置により○判定とした箇所の数を記入すること。
C31: ※4 附属物の異常番号は、本体工と番号が重複しないよう101番以降とする等の配慮を行い、分かりやすく記録すること。

Sheet 様式B(トンネル様式1P002)
B2: ■定期点検記録様式 トンネル変状・異常箇所写真位置図 | T2: トンネルID | V2: 34.15492.131.19489 | AA2: Ⅰ | AB2: あり | AC2: 陸上トンネル 掘進工法
B3: フリガナ | D3: ='様式B(トンネル様式1P001)'!D3:G3 -> ミネトンネル | H3: 路線名 | J3: ='様式B(トンネル様式1P001)'!J3:M4 -> 一般国道 316号 | N3: 管理者名 | P3: ='様式B(トンネル様式1P001)'!P3:S4 -> 宇部土木建築事務所 | T3: 緊急輸送道路 | V3: あり | AA3: Ⅱ | AB3: なし | AC3: 陸上トンネル 開削工法
B4: 名 称 | D4: ='様式B(トンネル様式1P001)'!D4:G4 -> 美祢トンネル | T4: 代替路の有無 | V4: あり | AA4: Ⅲ | AC4: 陸上トンネル その他
B5: 所在地 | D5: 自 | E5: ='様式B(トンネル様式1P001)'!E5:G5 -> 山口県美祢市伊佐町 | H5: 定期点検業者 | K5: ='様式B(トンネル様式1P001)'!K5:N5 -> 株式会社ニュージェック | O5: 定期点検年月日 | Q5: ='様式B(トンネル様式1P001)'!Q5:S6 -> 44294 | T5: トンネル延長 | V5: L= | W5: ='様式A-1'!Z5 -> 1265 | Y5: ｍ | AA5: Ⅳ | AC5: 水底トンネル 掘進工法
D6: 至 | E6: ='様式B(トンネル様式1P001)'!E6:G6 -> 山口県美祢市伊佐町 | H6: 定期点検者名 | K6: ='様式B(トンネル様式1P001)'!K6:N6 -> 石村 勝伸 | T6: ﾄﾝﾈﾙの分類 | V6: 陸上トンネル 掘進工法 | AC6: 水底トンネル 沈埋工法
B7: 起点 | C7: 緯度 | D7: ='様式A-1'!E7 -> 340917.7 | F7: 変状・異常 箇所数合計 | H7: トンネル 本体工 | J7: 材質劣化 | L7: Ⅱ | M7: ='様式B(トンネル様式1P001)'!M7:M10 -> 109 | N7: Ⅲ | O7: ='様式B(トンネル様式1P001)'!O7:O10 -> 0 | P7: Ⅳ | Q7: ='様式B(トンネル様式1P001)'!Q7:Q10 -> 0 | R7: トンネル毎 の健全性 | T7: =様式F!AJ4 -> Ⅲ | V7: 附属物の 取付状態 | W7: ◯ （応急措置後） | Y7: ='様式B(トンネル様式1P001)'!Y7:Y12 -> 0 | AC7: 水底トンネル 開削工法
AC8: 水底トンネル その他
C10: 経度 | D10: ='様式A-1'!E8 -> 1311141.6
J11: 漏水 | L11: Ⅱ | M11: ='様式B(トンネル様式1P001)'!M11:M14 -> 55 | N11: Ⅲ | O11: ='様式B(トンネル様式1P001)'!O11:O14 -> 0 | P11: Ⅳ | Q11: ='様式B(トンネル様式1P001)'!Q11:Q14 -> 0
B13: 終点 | C13: 緯度 | D13: ='様式A-1'!E9 -> 340837.7 | W13: ✕ | Y13: ='様式B(トンネル様式1P001)'!Y13:Y18 -> 25
J15: 外力 | L15: Ⅱ | M15: ='様式B(トンネル様式1P001)'!M15:M18 -> 3 | N15: Ⅲ | O15: ='様式B(トンネル様式1P001)'!O15:O18 -> 3 | P15: Ⅳ | Q15: ='様式B(トンネル様式1P001)'!Q15:Q18 -> 0 | AC15: 0
C16: 経度 | D16: ='様式A-1'!E10 -> 1311156.1
B19: トンネル変状・異常箇所写真位置図
P26: 注１：本位置図は、見下げた状態で記載すること。 注２：覆工スパン番号は横断目地毎(矢板工法の場合は上半アーチ の横断目地毎)に設定すること。 注３：写真番号に付する変状番号は、各覆工スパンの変状に対して新た に確認された場合は順次追加していくこと。 注４：横断目地の変状は前の覆工スパン番号で計上すること。 注５：１枚に収まらない場合は、複数枚に分けて作成すること。
C28: ※1 トンネル本体工の変状数は、材質劣化、漏水に起因するものは変状単位で、外力に起因するものはスパン単位で計上すること。
C29: ※2 本体工の変状に対しては、健全性の判定区分Ⅱ～Ⅳについて添付すること。また、点検前に実施された措置によりⅠと判定された箇所も添付すること。
C30: ※3 附属物の取付状態の○欄については、応急措置前に判定区分×とした箇所のうち応急措置により○判定とした箇所の数を記入すること。
C31: ※4 附属物の異常番号は、本体工と番号が重複しないよう101番以降とする等の配慮を行い、分かりやすく記録すること。

Sheet 様式B(トンネル様式1P003)
B2: ■定期点検記録様式 トンネル変状・異常箇所写真位置図 | T2: トンネルID | V2: 34.15492.131.19489 | AA2: Ⅰ | AB2: あり | AC2: 陸上トンネル 掘進工法
B3: フリガナ | D3: ='様式B(トンネル様式1P001)'!D3:G3 -> ミネトンネル | H3: 路線名 | J3: ='様式B(トンネル様式1P001)'!J3:M4 -> 一般国道 316号 | N3: 管理者名 | P3: ='様式B(トンネル様式1P001)'!P3:S4 -> 宇部土木建築事務所 | T3: 緊急輸送道路 | V3: あり | AA3: Ⅱ | AB3: なし | AC3: 陸上トンネル 開削工法
B4: 名 称 | D4: ='様式B(トンネル様式1P001)'!D4:G4 -> 美祢トンネル | T4: 代替路の有無 | V4: あり | AA4: Ⅲ | AC4: 陸上トンネル その他
B5: 所在地 | D5: 自 | E5: ='様式B(トンネル様式1P001)'!E5:G5 -> 山口県美祢市伊佐町 | H5: 定期点検業者 | K5: ='様式B(トンネル様式1P001)'!K5:N5 -> 株式会社ニュージェック | O5: 定期点検年月日 | Q5: ='様式B(トンネル様式1P001)'!Q5:S6 -> 44294 | T5: トンネル延長 | V5: L= | W5: ='様式A-1'!Z5 -> 1265 | Y5: ｍ | AA5: Ⅳ | AC5: 水底トンネル 掘進工法
D6: 至 | E6: ='様式B(トンネル様式1P001)'!E6:G6 -> 山口県美祢市伊佐町 | H6: 定期点検者名 | K6: ='様式B(トンネル様式1P001)'!K6:N6 -> 石村 勝伸 | T6: ﾄﾝﾈﾙの分類 | V6: 陸上トンネル 掘進工法 | AC6: 水底トンネル 沈埋工法
B7: 起点 | C7: 緯度 | D7: ='様式A-1'!E7 -> 340917.7 | F7: 変状・異常 箇所数合計 | H7: トンネル 本体工 | J7: 材質劣化 | L7: Ⅱ | M7: ='様式B(トンネル様式1P001)'!M7:M10 -> 109 | N7: Ⅲ | O7: ='様式B(トンネル様式1P001)'!O7:O10 -> 0 | P7: Ⅳ | Q7: ='様式B(トンネル様式1P001)'!Q7:Q10 -> 0 | R7: トンネル毎 の健全性 | T7: =様式F!AJ4 -> Ⅲ | V7: 附属物の 取付状態 | W7: ◯ （応急措置後） | Y7: ='様式B(トンネル様式1P001)'!Y7:Y12 -> 0 | AC7: 水底トンネル 開削工法
AC8: 水底トンネル その他
C10: 経度 | D10: ='様式A-1'!E8 -> 1311141.6
J11: 漏水 | L11: Ⅱ | M11: ='様式B(トンネル様式1P001)'!M11:M14 -> 55 | N11: Ⅲ | O11: ='様式B(トンネル様式1P001)'!O11:O14 -> 0 | P11: Ⅳ | Q11: ='様式B(トンネル様式1P001)'!Q11:Q14 -> 0
B13: 終点 | C13: 緯度 | D13: ='様式A-1'!E9 -> 340837.7 | W13: ✕ | Y13: ='様式B(トンネル様式1P001)'!Y13:Y18 -> 25
J15: 外力 | L15: Ⅱ | M15: ='様式B(トンネル様式1P001)'!M15:M18 -> 3 | N15: Ⅲ | O15: ='様式B(トンネル様式1P001)'!O15:O18 -> 3 | P15: Ⅳ | Q15: ='様式B(トンネル様式1P001)'!Q15:Q18 -> 0 | AC15: 0
C16: 経度 | D16: ='様式A-1'!E10 -> 1311156.1
B19: トンネル変状・異常箇所写真位置図
P26: 注１：本位置図は、見下げた状態で記載すること。 注２：覆工スパン番号は横断目地毎(矢板工法の場合は上半アーチ の横断目地毎)に設定すること。 注３：写真番号に付する変状番号は、各覆工スパンの変状に対して新た に確認された場合は順次追加していくこと。 注４：横断目地の変状は前の覆工スパン番号で計上すること。 注５：１枚に収まらない場合は、複数枚に分けて作成すること。
C28: ※1 トンネル本体工の変状数は、材質劣化、漏水に起因するものは変状単位で、外力に起因するものはスパン単位で計上すること。
C29: ※2 本体工の変状に対しては、健全性の判定区分Ⅱ～Ⅳについて添付すること。また、点検前に実施された措置によりⅠと判定された箇所も添付すること。
C30: ※3 附属物の取付状態の○欄については、応急措置前に判定区分×とした箇所のうち応急措置により○判定とした箇所の数を記入すること。
C31: ※4 附属物の異常番号は、本体工と番号が重複しないよう101番以降とする等の配慮を行い、分かりやすく記録すること。

Sheet 様式B(トンネル様式1P004)
B2: ■定期点検記録様式 トンネル変状・異常箇所写真位置図 | T2: トンネルID | V2: 34.15492.131.19489 | AA2: Ⅰ | AB2: あり | AC2: 陸上トンネル 掘進工法
B3: フリガナ | D3: ='様式B(トンネル様式1P001)'!D3:G3 -> ミネトンネル | H3: 路線名 | J3: ='様式B(トンネル様式1P001)'!J3:M4 -> 一般国道 316号 | N3: 管理者名 | P3: ='様式B(トンネル様式1P001)'!P3:S4 -> 宇部土木建築事務所 | T3: 緊急輸送道路 | V3: あり | AA3: Ⅱ | AB3: なし | AC3: 陸上トンネル 開削工法
B4: 名 称 | D4: ='様式B(トンネル様式1P001)'!D4:G4 -> 美祢トンネル | T4: 代替路の有無 | V4: あり | AA4: Ⅲ | AC4: 陸上トンネル その他
B5: 所在地 | D5: 自 | E5: ='様式B(トンネル様式1P001)'!E5:G5 -> 山口県美祢市伊佐町 | H5: 定期点検業者 | K5: ='様式B(トンネル様式1P001)'!K5:N5 -> 株式会社ニュージェック | O5: 定期点検年月日 | Q5: ='様式B(トンネル様式1P001)'!Q5:S6 -> 44294 | T5: トンネル延長 | V5: L= | W5: ='様式A-1'!Z5 -> 1265 | Y5: ｍ | AA5: Ⅳ | AC5: 水底トンネル 掘進工法
D6: 至 | E6: ='様式B(トンネル様式1P001)'!E6:G6 -> 山口県美祢市伊佐町 | H6: 定期点検者名 | K6: ='様式B(トンネル様式1P001)'!K6:N6 -> 石村 勝伸 | T6: ﾄﾝﾈﾙの分類 | V6: 陸上トンネル 掘進工法 | AC6: 水底トンネル 沈埋工法
B7: 起点 | C7: 緯度 | D7: ='様式A-1'!E7 -> 340917.7 | F7: 変状・異常 箇所数合計 | H7: トンネル 本体工 | J7: 材質劣化 | L7: Ⅱ | M7: ='様式B(トンネル様式1P001)'!M7:M10 -> 109 | N7: Ⅲ | O7: ='様式B(トンネル様式1P001)'!O7:O10 -> 0 | P7: Ⅳ | Q7: ='様式B(トンネル様式1P001)'!Q7:Q10 -> 0 | R7: トンネル毎 の健全性 | T7: =様式F!AJ4 -> Ⅲ | V7: 附属物の 取付状態 | W7: ◯ （応急措置後） | Y7: ='様式B(トンネル様式1P001)'!Y7:Y12 -> 0 | AC7: 水底トンネル 開削工法
AC8: 水底トンネル その他
C10: 経度 | D10: ='様式A-1'!E8 -> 1311141.6
J11: 漏水 | L11: Ⅱ | M11: ='様式B(トンネル様式1P001)'!M11:M14 -> 55 | N11: Ⅲ | O11: ='様式B(トンネル様式1P001)'!O11:O14 -> 0 | P11: Ⅳ | Q11: ='様式B(トンネル様式1P001)'!Q11:Q14 -> 0
B13: 終点 | C13: 緯度 | D13: ='様式A-1'!E9 -> 340837.7 | W13: ✕ | Y13: ='様式B(トンネル様式1P001)'!Y13:Y18 -> 25
J15: 外力 | L15: Ⅱ | M15: ='様式B(トンネル様式1P001)'!M15:M18 -> 3 | N15: Ⅲ | O15: ='様式B(トンネル様式1P001)'!O15:O18 -> 3 | P15: Ⅳ | Q15: ='様式B(トンネル様式1P001)'!Q15:Q18 -> 0 | AC15: 0
C16: 経度 | D16: ='様式A-1'!E10 -> 1311156.1
B19: トンネル変状・異常箇所写真位置図
P26: 注１：本位置図は、見下げた状態で記載すること。 注２：覆工スパン番号は横断目地毎(矢板工法の場合は上半アーチ の横断目地毎)に設定すること。 注３：写真番号に付する変状番号は、各覆工スパンの変状に対して新た に確認された場合は順次追加していくこと。 注４：横断目地の変状は前の覆工スパン番号で計上すること。 注５：１枚に収まらない場合は、複数枚に分けて作成すること。
C28: ※1 トンネル本体工の変状数は、材質劣化、漏水に起因するものは変状単位で、外力に起因するものはスパン単位で計上すること。
C29: ※2 本体工の変状に対しては、健全性の判定区分Ⅱ～Ⅳについて添付すること。また、点検前に実施された措置によりⅠと判定された箇所も添付すること。
C30: ※3 附属物の取付状態の○欄については、応急措置前に判定区分×とした箇所のうち応急措置により○判定とした箇所の数を記入すること。
C31: ※4 附属物の異常番号は、本体工と番号が重複しないよう101番以降とする等の配慮を行い、分かりやすく記録すること。

Sheet 様式B(トンネル様式1P005)
B2: ■定期点検記録様式 トンネル変状・異常箇所写真位置図 | T2: トンネルID | V2: 34.15492.131.19489 | AA2: Ⅰ | AB2: あり | AC2: 陸上トンネル 掘進工法
B3: フリガナ | D3: ='様式B(トンネル様式1P001)'!D3:G3 -> ミネトンネル | H3: 路線名 | J3: ='様式B(トンネル様式1P001)'!J3:M4 -> 一般国道 316号 | N3: 管理者名 | P3: ='様式B(トンネル様式1P001)'!P3:S4 -> 宇部土木建築事務所 | T3: 緊急輸送道路 | V3: あり | AA3: Ⅱ | AB3: なし | AC3: 陸上トンネル 開削工法
B4: 名 称 | D4: ='様式B(トンネル様式1P001)'!D4:G4 -> 美祢トンネル | T4: 代替路の有無 | V4: あり | AA4: Ⅲ | AC4: 陸上トンネル その他
B5: 所在地 | D5: 自 | E5: ='様式B(トンネル様式1P001)'!E5:G5 -> 山口県美祢市伊佐町 | H5: 定期点検業者 | K5: ='様式B(トンネル様式1P001)'!K5:N5 -> 株式会社ニュージェック | O5: 定期点検年月日 | Q5: ='様式B(トンネル様式1P001)'!Q5:S6 -> 44294 | T5: トンネル延長 | V5: L= | W5: ='様式A-1'!Z5 -> 1265 | Y5: ｍ | AA5: Ⅳ | AC5: 水底トンネル 掘進工法
D6: 至 | E6: ='様式B(トンネル様式1P001)'!E6:G6 -> 山口県美祢市伊佐町 | H6: 定期点検者名 | K6: ='様式B(トンネル様式1P001)'!K6:N6 -> 石村 勝伸 | T6: ﾄﾝﾈﾙの分類 | V6: 陸上トンネル 掘進工法 | AC6: 水底トンネル 沈埋工法
B7: 起点 | C7: 緯度 | D7: ='様式A-1'!E7 -> 340917.7 | F7: 変状・異常 箇所数合計 | H7: トンネル 本体工 | J7: 材質劣化 | L7: Ⅱ | M7: ='様式B(トンネル様式1P001)'!M7:M10 -> 109 | N7: Ⅲ | O7: ='様式B(トンネル様式1P001)'!O7:O10 -> 0 | P7: Ⅳ | Q7: ='様式B(トンネル様式1P001)'!Q7:Q10 -> 0 | R7: トンネル毎 の健全性 | T7: =様式F!AJ4 -> Ⅲ | V7: 附属物の 取付状態 | W7: ◯ （応急措置後） | Y7: ='様式B(トンネル様式1P001)'!Y7:Y12 -> 0 | AC7: 水底トンネル 開削工法
AC8: 水底トンネル その他
C10: 経度 | D10: ='様式A-1'!E8 -> 1311141.6
J11: 漏水 | L11: Ⅱ | M11: ='様式B(トンネル様式1P001)'!M11:M14 -> 55 | N11: Ⅲ | O11: ='様式B(トンネル様式1P001)'!O11:O14 -> 0 | P11: Ⅳ | Q11: ='様式B(トンネル様式1P001)'!Q11:Q14 -> 0
B13: 終点 | C13: 緯度 | D13: ='様式A-1'!E9 -> 340837.7 | W13: ✕ | Y13: ='様式B(トンネル様式1P001)'!Y13:Y18 -> 25
J15: 外力 | L15: Ⅱ | M15: ='様式B(トンネル様式1P001)'!M15:M18 -> 3 | N15: Ⅲ | O15: ='様式B(トンネル様式1P001)'!O15:O18 -> 3 | P15: Ⅳ | Q15: ='様式B(トンネル様式1P001)'!Q15:Q18 -> 0 | AC15: 0
C16: 経度 | D16: ='様式A-1'!E10 -> 1311156.1
B19: トンネル変状・異常箇所写真位置図
P26: 注１：本位置図は、見下げた状態で記載すること。 注２：覆工スパン番号は横断目地毎(矢板工法の場合は上半アーチ の横断目地毎)に設定すること。 注３：写真番号に付する変状番号は、各覆工スパンの変状に対して新た に確認された場合は順次追加していくこと。 注４：横断目地の変状は前の覆工スパン番号で計上すること。 注５：１枚に収まらない場合は、複数枚に分けて作成すること。
C28: ※1 トンネル本体工の変状数は、材質劣化、漏水に起因するものは変状単位で、外力に起因するものはスパン単位で計上すること。
C29: ※2 本体工の変状に対しては、健全性の判定区分Ⅱ～Ⅳについて添付すること。また、点検前に実施された措置によりⅠと判定された箇所も添付すること。
C30: ※3 附属物の取付状態の○欄については、応急措置前に判定区分×とした箇所のうち応急措置により○判定とした箇所の数を記入すること。
C31: ※4 附属物の異常番号は、本体工と番号が重複しないよう101番以降とする等の配慮を行い、分かりやすく記録すること。

Sheet 様式B(トンネル様式1P006)
B2: ■定期点検記録様式 トンネル変状・異常箇所写真位置図 | T2: トンネルID | V2: 34.15492.131.19489 | AA2: Ⅰ | AB2: あり | AC2: 陸上トンネル 掘進工法
B3: フリガナ | D3: ='様式B(トンネル様式1P001)'!D3:G3 -> ミネトンネル | H3: 路線名 | J3: ='様式B(トンネル様式1P001)'!J3:M4 -> 一般国道 316号 | N3: 管理者名 | P3: ='様式B(トンネル様式1P001)'!P3:S4 -> 宇部土木建築事務所 | T3: 緊急輸送道路 | V3: あり | AA3: Ⅱ | AB3: なし | AC3: 陸上トンネル 開削工法
B4: 名 称 | D4: ='様式B(トンネル様式1P001)'!D4:G4 -> 美祢トンネル | T4: 代替路の有無 | V4: あり | AA4: Ⅲ | AC4: 陸上トンネル その他
B5: 所在地 | D5: 自 | E5: ='様式B(トンネル様式1P001)'!E5:G5 -> 山口県美祢市伊佐町 | H5: 定期点検業者 | K5: ='様式B(トンネル様式1P001)'!K5:N5 -> 株式会社ニュージェック | O5: 定期点検年月日 | Q5: ='様式B(トンネル様式1P001)'!Q5:S6 -> 44294 | T5: トンネル延長 | V5: L= | W5: ='様式A-1'!Z5 -> 1265 | Y5: ｍ | AA5: Ⅳ | AC5: 水底トンネル 掘進工法
D6: 至 | E6: ='様式B(トンネル様式1P001)'!E6:G6 -> 山口県美祢市伊佐町 | H6: 定期点検者名 | K6: ='様式B(トンネル様式1P001)'!K6:N6 -> 石村 勝伸 | T6: ﾄﾝﾈﾙの分類 | V6: 陸上トンネル 掘進工法 | AC6: 水底トンネル 沈埋工法
B7: 起点 | C7: 緯度 | D7: ='様式A-1'!E7 -> 340917.7 | F7: 変状・異常 箇所数合計 | H7: トンネル 本体工 | J7: 材質劣化 | L7: Ⅱ | M7: ='様式B(トンネル様式1P001)'!M7:M10 -> 109 | N7: Ⅲ | O7: ='様式B(トンネル様式1P001)'!O7:O10 -> 0 | P7: Ⅳ | Q7: ='様式B(トンネル様式1P001)'!Q7:Q10 -> 0 | R7: トンネル毎 の健全性 | T7: =様式F!AJ4 -> Ⅲ | V7: 附属物の 取付状態 | W7: ◯ （応急措置後） | Y7: ='様式B(トンネル様式1P001)'!Y7:Y12 -> 0 | AC7: 水底トンネル 開削工法
AC8: 水底トンネル その他
C10: 経度 | D10: ='様式A-1'!E8 -> 1311141.6
J11: 漏水 | L11: Ⅱ | M11: ='様式B(トンネル様式1P001)'!M11:M14 -> 55 | N11: Ⅲ | O11: ='様式B(トンネル様式1P001)'!O11:O14 -> 0 | P11: Ⅳ | Q11: ='様式B(トンネル様式1P001)'!Q11:Q14 -> 0
B13: 終点 | C13: 緯度 | D13: ='様式A-1'!E9 -> 340837.7 | W13: ✕ | Y13: ='様式B(トンネル様式1P001)'!Y13:Y18 -> 25
J15: 外力 | L15: Ⅱ | M15: ='様式B(トンネル様式1P001)'!M15:M18 -> 3 | N15: Ⅲ | O15: ='様式B(トンネル様式1P001)'!O15:O18 -> 3 | P15: Ⅳ | Q15: ='様式B(トンネル様式1P001)'!Q15:Q18 -> 0 | AC15: 0
C16: 経度 | D16: ='様式A-1'!E10 -> 1311156.1
B19: トンネル変状・異常箇所写真位置図
P26: 注１：本位置図は、見下げた状態で記載すること。 注２：覆工スパン番号は横断目地毎(矢板工法の場合は上半アーチ の横断目地毎)に設定すること。 注３：写真番号に付する変状番号は、各覆工スパンの変状に対して新た に確認された場合は順次追加していくこと。 注４：横断目地の変状は前の覆工スパン番号で計上すること。 注５：１枚に収まらない場合は、複数枚に分けて作成すること。
C28: ※1 トンネル本体工の変状数は、材質劣化、漏水に起因するものは変状単位で、外力に起因するものはスパン単位で計上すること。
C29: ※2 本体工の変状に対しては、健全性の判定区分Ⅱ～Ⅳについて添付すること。また、点検前に実施された措置によりⅠと判定された箇所も添付すること。
C30: ※3 附属物の取付状態の○欄については、応急措置前に判定区分×とした箇所のうち応急措置により○判定とした箇所の数を記入すること。
C31: ※4 附属物の異常番号は、本体工と番号が重複しないよう101番以降とする等の配慮を行い、分かりやすく記録すること。

Sheet 様式B(トンネル様式1P007)
B2: ■定期点検記録様式 トンネル変状・異常箇所写真位置図 | T2: トンネルID | V2: 34.15492.131.19489 | AA2: Ⅰ | AB2: あり | AC2: 陸上トンネル 掘進工法
B3: フリガナ | D3: ='様式B(トンネル様式1P001)'!D3:G3 -> ミネトンネル | H3: 路線名 | J3: ='様式B(トンネル様式1P001)'!J3:M4 -> 一般国道 316号 | N3: 管理者名 | P3: ='様式B(トンネル様式1P001)'!P3:S4 -> 宇部土木建築事務所 | T3: 緊急輸送道路 | V3: あり | AA3: Ⅱ | AB3: なし | AC3: 陸上トンネル 開削工法
B4: 名 称 | D4: ='様式B(トンネル様式1P001)'!D4:G4 -> 美祢トンネル | T4: 代替路の有無 | V4: あり | AA4: Ⅲ | AC4: 陸上トンネル その他
B5: 所在地 | D5: 自 | E5: ='様式B(トンネル様式1P001)'!E5:G5 -> 山口県美祢市伊佐町 | H5: 定期点検業者 | K5: ='様式B(トンネル様式1P001)'!K5:N5 -> 株式会社ニュージェック | O5: 定期点検年月日 | Q5: ='様式B(トンネル様式1P001)'!Q5:S6 -> 44294 | T5: トンネル延長 | V5: L= | W5: ='様式A-1'!Z5 -> 1265 | Y5: ｍ | AA5: Ⅳ | AC5: 水底トンネル 掘進工法
D6: 至 | E6: ='様式B(トンネル様式1P001)'!E6:G6 -> 山口県美祢市伊佐町 | H6: 定期点検者名 | K6: ='様式B(トンネル様式1P001)'!K6:N6 -> 石村 勝伸 | T6: ﾄﾝﾈﾙの分類 | V6: 陸上トンネル 掘進工法 | AC6: 水底トンネル 沈埋工法
B7: 起点 | C7: 緯度 | D7: ='様式A-1'!E7 -> 340917.7 | F7: 変状・異常 箇所数合計 | H7: トンネル 本体工 | J7: 材質劣化 | L7: Ⅱ | M7: ='様式B(トンネル様式1P001)'!M7:M10 -> 109 | N7: Ⅲ | O7: ='様式B(トンネル様式1P001)'!O7:O10 -> 0 | P7: Ⅳ | Q7: ='様式B(トンネル様式1P001)'!Q7:Q10 -> 0 | R7: トンネル毎 の健全性 | T7: =様式F!AJ4 -> Ⅲ | V7: 附属物の 取付状態 | W7: ◯ （応急措置後） | Y7: ='様式B(トンネル様式1P001)'!Y7:Y12 -> 0 | AC7: 水底トンネル 開削工法
AC8: 水底トンネル その他
C10: 経度 | D10: ='様式A-1'!E8 -> 1311141.6
J11: 漏水 | L11: Ⅱ | M11: ='様式B(トンネル様式1P001)'!M11:M14 -> 55 | N11: Ⅲ | O11: ='様式B(トンネル様式1P001)'!O11:O14 -> 0 | P11: Ⅳ | Q11: ='様式B(トンネル様式1P001)'!Q11:Q14 -> 0
B13: 終点 | C13: 緯度 | D13: ='様式A-1'!E9 -> 340837.7 | W13: ✕ | Y13: ='様式B(トンネル様式1P001)'!Y13:Y18 -> 25
J15: 外力 | L15: Ⅱ | M15: ='様式B(トンネル様式1P001)'!M15:M18 -> 3 | N15: Ⅲ | O15: ='様式B(トンネル様式1P001)'!O15:O18 -> 3 | P15: Ⅳ | Q15: ='様式B(トンネル様式1P001)'!Q15:Q18 -> 0 | AC15: 0
C16: 経度 | D16: ='様式A-1'!E10 -> 1311156.1
B19: トンネル変状・異常箇所写真位置図
P26: 注１：本位置図は、見下げた状態で記載すること。 注２：覆工スパン番号は横断目地毎(矢板工法の場合は上半アーチ の横断目地毎)に設定すること。 注３：写真番号に付する変状番号は、各覆工スパンの変状に対して新た に確認された場合は順次追加していくこと。 注４：横断目地の変状は前の覆工スパン番号で計上すること。 注５：１枚に収まらない場合は、複数枚に分けて作成すること。
C28: ※1 トンネル本体工の変状数は、材質劣化、漏水に起因するものは変状単位で、外力に起因するものはスパン単位で計上すること。
C29: ※2 本体工の変状に対しては、健全性の判定区分Ⅱ～Ⅳについて添付すること。また、点検前に実施された措置によりⅠと判定された箇所も添付すること。
C30: ※3 附属物の取付状態の○欄については、応急措置前に判定区分×とした箇所のうち応急措置により○判定とした箇所の数を記入すること。
C31: ※4 附属物の異常番号は、本体工と番号が重複しないよう101番以降とする等の配慮を行い、分かりやすく記録すること。

Sheet 様式B(トンネル様式1P008)
B2: ■定期点検記録様式 トンネル変状・異常箇所写真位置図 | T2: トンネルID | V2: 34.15492.131.19489 | AA2: Ⅰ | AB2: あり | AC2: 陸上トンネル 掘進工法
B3: フリガナ | D3: ='様式B(トンネル様式1P001)'!D3:G3 -> ミネトンネル | H3: 路線名 | J3: ='様式B(トンネル様式1P001)'!J3:M4 -> 一般国道 316号 | N3: 管理者名 | P3: ='様式B(トンネル様式1P001)'!P3:S4 -> 宇部土木建築事務所 | T3: 緊急輸送道路 | V3: あり | AA3: Ⅱ | AB3: なし | AC3: 陸上トンネル 開削工法
B4: 名 称 | D4: ='様式B(トンネル様式1P001)'!D4:G4 -> 美祢トンネル | T4: 代替路の有無 | V4: あり | AA4: Ⅲ | AC4: 陸上トンネル その他
B5: 所在地 | D5: 自 | E5: ='様式B(トンネル様式1P001)'!E5:G5 -> 山口県美祢市伊佐町 | H5: 定期点検業者 | K5: ='様式B(トンネル様式1P001)'!K5:N5 -> 株式会社ニュージェック | O5: 定期点検年月日 | Q5: ='様式B(トンネル様式1P001)'!Q5:S6 -> 44294 | T5: トンネル延長 | V5: L= | W5: ='様式A-1'!Z5 -> 1265 | Y5: ｍ | AA5: Ⅳ | AC5: 水底トンネル 掘進工法
D6: 至 | E6: ='様式B(トンネル様式1P001)'!E6:G6 -> 山口県美祢市伊佐町 | H6: 定期点検者名 | K6: ='様式B(トンネル様式1P001)'!K6:N6 -> 石村 勝伸 | T6: ﾄﾝﾈﾙの分類 | V6: 陸上トンネル 掘進工法 | AC6: 水底トンネル 沈埋工法
B7: 起点 | C7: 緯度 | D7: ='様式A-1'!E7 -> 340917.7 | F7: 変状・異常 箇所数合計 | H7: トンネル 本体工 | J7: 材質劣化 | L7: Ⅱ | M7: ='様式B(トンネル様式1P001)'!M7:M10 -> 109 | N7: Ⅲ | O7: ='様式B(トンネル様式1P001)'!O7:O10 -> 0 | P7: Ⅳ | Q7: ='様式B(トンネル様式1P001)'!Q7:Q10 -> 0 | R7: トンネル毎 の健全性 | T7: =様式F!AJ4 -> Ⅲ | V7: 附属物の 取付状態 | W7: ◯ （応急措置後） | Y7: ='様式B(トンネル様式1P001)'!Y7:Y12 -> 0 | AC7: 水底トンネル 開削工法
AC8: 水底トンネル その他
C10: 経度 | D10: ='様式A-1'!E8 -> 1311141.6
J11: 漏水 | L11: Ⅱ | M11: ='様式B(トンネル様式1P001)'!M11:M14 -> 55 | N11: Ⅲ | O11: ='様式B(トンネル様式1P001)'!O11:O14 -> 0 | P11: Ⅳ | Q11: ='様式B(トンネル様式1P001)'!Q11:Q14 -> 0
B13: 終点 | C13: 緯度 | D13: ='様式A-1'!E9 -> 340837.7 | W13: ✕ | Y13: ='様式B(トンネル様式1P001)'!Y13:Y18 -> 25
J15: 外力 | L15: Ⅱ | M15: ='様式B(トンネル様式1P001)'!M15:M18 -> 3 | N15: Ⅲ | O15: ='様式B(トンネル様式1P001)'!O15:O18 -> 3 | P15: Ⅳ | Q15: ='様式B(トンネル様式1P001)'!Q15:Q18 -> 0 | AC15: 0
C16: 経度 | D16: ='様式A-1'!E10 -> 1311156.1
B19: トンネル変状・異常箇所写真位置図
P26: 注１：本位置図は、見下げた状態で記載すること。 注２：覆工スパン番号は横断目地毎(矢板工法の場合は上半アーチ の横断目地毎)に設定すること。 注３：写真番号に付する変状番号は、各覆工スパンの変状に対して新た に確認された場合は順次追加していくこと。 注４：横断目地の変状は前の覆工スパン番号で計上すること。 注５：１枚に収まらない場合は、複数枚に分けて作成すること。
C28: ※1 トンネル本体工の変状数は、材質劣化、漏水に起因するものは変状単位で、外力に起因するものはスパン単位で計上すること。
C29: ※2 本体工の変状に対しては、健全性の判定区分Ⅱ～Ⅳについて添付すること。また、点検前に実施された措置によりⅠと判定された箇所も添付すること。
C30: ※3 附属物の取付状態の○欄については、応急措置前に判定区分×とした箇所のうち応急措置により○判定とした箇所の数を記入すること。
C31: ※4 附属物の異常番号は、本体工と番号が重複しないよう101番以降とする等の配慮を行い、分かりやすく記録すること。

Sheet 様式B(トンネル様式1P009)
B2: ■定期点検記録様式 トンネル変状・異常箇所写真位置図 | T2: トンネルID | V2: 34.15492.131.19489 | AA2: Ⅰ | AB2: あり | AC2: 陸上トンネル 掘進工法
B3: フリガナ | D3: ='様式B(トンネル様式1P001)'!D3:G3 -> ミネトンネル | H3: 路線名 | J3: ='様式B(トンネル様式1P001)'!J3:M4 -> 一般国道 316号 | N3: 管理者名 | P3: ='様式B(トンネル様式1P001)'!P3:S4 -> 宇部土木建築事務所 | T3: 緊急輸送道路 | V3: あり | AA3: Ⅱ | AB3: なし | AC3: 陸上トンネル 開削工法
B4: 名 称 | D4: ='様式B(トンネル様式1P001)'!D4:G4 -> 美祢トンネル | T4: 代替路の有無 | V4: あり | AA4: Ⅲ | AC4: 陸上トンネル その他
B5: 所在地 | D5: 自 | E5: ='様式B(トンネル様式1P001)'!E5:G5 -> 山口県美祢市伊佐町 | H5: 定期点検業者 | K5: ='様式B(トンネル様式1P001)'!K5:N5 -> 株式会社ニュージェック | O5: 定期点検年月日 | Q5: ='様式B(トンネル様式1P001)'!Q5:S6 -> 44294 | T5: トンネル延長 | V5: L= | W5: ='様式A-1'!Z5 -> 1265 | Y5: ｍ | AA5: Ⅳ | AC5: 水底トンネル 掘進工法
D6: 至 | E6: ='様式B(トンネル様式1P001)'!E6:G6 -> 山口県美祢市伊佐町 | H6: 定期点検者名 | K6: ='様式B(トンネル様式1P001)'!K6:N6 -> 石村 勝伸 | T6: ﾄﾝﾈﾙの分類 | V6: 陸上トンネル 掘進工法 | AC6: 水底トンネル 沈埋工法
B7: 起点 | C7: 緯度 | D7: ='様式A-1'!E7 -> 340917.7 | F7: 変状・異常 箇所数合計 | H7: トンネル 本体工 | J7: 材質劣化 | L7: Ⅱ | M7: ='様式B(トンネル様式1P001)'!M7:M10 -> 109 | N7: Ⅲ | O7: ='様式B(トンネル様式1P001)'!O7:O10 -> 0 | P7: Ⅳ | Q7: ='様式B(トンネル様式1P001)'!Q7:Q10 -> 0 | R7: トンネル毎 の健全性 | T7: =様式F!AJ4 -> Ⅲ | V7: 附属物の 取付状態 | W7: ◯ （応急措置後） | Y7: ='様式B(トンネル様式1P001)'!Y7:Y12 -> 0 | AC7: 水底トンネル 開削工法
AC8: 水底トンネル その他
C10: 経度 | D10: ='様式A-1'!E8 -> 1311141.6
J11: 漏水 | L11: Ⅱ | M11: ='様式B(トンネル様式1P001)'!M11:M14 -> 55 | N11: Ⅲ | O11: ='様式B(トンネル様式1P001)'!O11:O14 -> 0 | P11: Ⅳ | Q11: ='様式B(トンネル様式1P001)'!Q11:Q14 -> 0
B13: 終点 | C13: 緯度 | D13: ='様式A-1'!E9 -> 340837.7 | W13: ✕ | Y13: ='様式B(トンネル様式1P001)'!Y13:Y18 -> 25
J15: 外力 | L15: Ⅱ | M15: ='様式B(トンネル様式1P001)'!M15:M18 -> 3 | N15: Ⅲ | O15: ='様式B(トンネル様式1P001)'!O15:O18 -> 3 | P15: Ⅳ | Q15: ='様式B(トンネル様式1P001)'!Q15:Q18 -> 0 | AC15: 0
C16: 経度 | D16: ='様式A-1'!E10 -> 1311156.1
B19: トンネル変状・異常箇所写真位置図
P26: 注１：本位置図は、見下げた状態で記載すること。 注２：覆工スパン番号は横断目地毎(矢板工法の場合は上半アーチ の横断目地毎)に設定すること。 注３：写真番号に付する変状番号は、各覆工スパンの変状に対して新た に確認された場合は順次追加していくこと。 注４：横断目地の変状は前の覆工スパン番号で計上すること。 注５：１枚に収まらない場合は、複数枚に分けて作成すること。
C28: ※1 トンネル本体工の変状数は、材質劣化、漏水に起因するものは変状単位で、外力に起因するものはスパン単位で計上すること。
C29: ※2 本体工の変状に対しては、健全性の判定区分Ⅱ～Ⅳについて添付すること。また、点検前に実施された措置によりⅠと判定された箇所も添付すること。
C30: ※3 附属物の取付状態の○欄については、応急措置前に判定区分×とした箇所のうち応急措置により○判定とした箇所の数を記入すること。
C31: ※4 附属物の異常番号は、本体工と番号が重複しないよう101番以降とする等の配慮を行い、分かりやすく記録すること。

Sheet 様式B(トンネル様式1P010)
B2: ■定期点検記録様式 トンネル変状・異常箇所写真位置図 | T2: トンネルID | V2: 34.15492.131.19489 | AA2: Ⅰ | AB2: あり | AC2: 陸上トンネル 掘進工法
B3: フリガナ | D3: ='様式B(トンネル様式1P001)'!D3:G3 -> ミネトンネル | H3: 路線名 | J3: ='様式B(トンネル様式1P001)'!J3:M4 -> 一般国道 316号 | N3: 管理者名 | P3: ='様式B(トンネル様式1P001)'!P3:S4 -> 宇部土木建築事務所 | T3: 緊急輸送道路 | V3: あり | AA3: Ⅱ | AB3: なし | AC3: 陸上トンネル 開削工法
B4: 名 称 | D4: ='様式B(トンネル様式1P001)'!D4:G4 -> 美祢トンネル | T4: 代替路の有無 | V4: あり | AA4: Ⅲ | AC4: 陸上トンネル その他
B5: 所在地 | D5: 自 | E5: ='様式B(トンネル様式1P001)'!E5:G5 -> 山口県美祢市伊佐町 | H5: 定期点検業者 | K5: ='様式B(トンネル様式1P001)'!K5:N5 -> 株式会社ニュージェック | O5: 定期点検年月日 | Q5: ='様式B(トンネル様式1P001)'!Q5:S6 -> 44294 | T5: トンネル延長 | V5: L= | W5: ='様式A-1'!Z5 -> 1265 | Y5: ｍ | AA5: Ⅳ | AC5: 水底トンネル 掘進工法
D6: 至 | E6: ='様式B(トンネル様式1P001)'!E6:G6 -> 山口県美祢市伊佐町 | H6: 定期点検者名 | K6: ='様式B(トンネル様式1P001)'!K6:N6 -> 石村 勝伸 | T6: ﾄﾝﾈﾙの分類 | V6: 陸上トンネル 掘進工法 | AC6: 水底トンネル 沈埋工法
B7: 起点 | C7: 緯度 | D7: ='様式A-1'!E7 -> 340917.7 | F7: 変状・異常 箇所数合計 | H7: トンネル 本体工 | J7: 材質劣化 | L7: Ⅱ | M7: ='様式B(トンネル様式1P001)'!M7:M10 -> 109 | N7: Ⅲ | O7: ='様式B(トンネル様式1P001)'!O7:O10 -> 0 | P7: Ⅳ | Q7: ='様式B(トンネル様式1P001)'!Q7:Q10 -> 0 | R7: トンネル毎 の健全性 | T7: =様式F!AJ4 -> Ⅲ | V7: 附属物の 取付状態 | W7: ◯ （応急措置後） | Y7: ='様式B(トンネル様式1P001)'!Y7:Y12 -> 0 | AC7: 水底トンネル 開削工法
AC8: 水底トンネル その他
C10: 経度 | D10: ='様式A-1'!E8 -> 1311141.6
J11: 漏水 | L11: Ⅱ | M11: ='様式B(トンネル様式1P001)'!M11:M14 -> 55 | N11: Ⅲ | O11: ='様式B(トンネル様式1P001)'!O11:O14 -> 0 | P11: Ⅳ | Q11: ='様式B(トンネル様式1P001)'!Q11:Q14 -> 0
B13: 終点 | C13: 緯度 | D13: ='様式A-1'!E9 -> 340837.7 | W13: ✕ | Y13: ='様式B(トンネル様式1P001)'!Y13:Y18 -> 25
J15: 外力 | L15: Ⅱ | M15: ='様式B(トンネル様式1P001)'!M15:M18 -> 3 | N15: Ⅲ | O15: ='様式B(トンネル様式1P001)'!O15:O18 -> 3 | P15: Ⅳ | Q15: ='様式B(トンネル様式1P001)'!Q15:Q18 -> 0 | AC15: 0
C16: 経度 | D16: ='様式A-1'!E10 -> 1311156.1
B19: トンネル変状・異常箇所写真位置図
P26: 注１：本位置図は、見下げた状態で記載すること。 注２：覆工スパン番号は横断目地毎(矢板工法の場合は上半アーチ の横断目地毎)に設定すること。 注３：写真番号に付する変状番号は、各覆工スパンの変状に対して新た に確認された場合は順次追加していくこと。 注４：横断目地の変状は前の覆工スパン番号で計上すること。 注５：１枚に収まらない場合は、複数枚に分けて作成すること。
C28: ※1 トンネル本体工の変状数は、材質劣化、漏水に起因するものは変状単位で、外力に起因するものはスパン単位で計上すること。
C29: ※2 本体工の変状に対しては、健全性の判定区分Ⅱ～Ⅳについて添付すること。また、点検前に実施された措置によりⅠと判定された箇所も添付すること。
C30: ※3 附属物の取付状態の○欄については、応急措置前に判定区分×とした箇所のうち応急措置により○判定とした箇所の数を記入すること。
C31: ※4 附属物の異常番号は、本体工と番号が重複しないよう101番以降とする等の配慮を行い、分かりやすく記録すること。

Sheet 様式B(トンネル様式1P011)
B2: ■定期点検記録様式 トンネル変状・異常箇所写真位置図 | T2: トンネルID | V2: 34.15492.131.19489 | AA2: Ⅰ | AB2: あり | AC2: 陸上トンネル 掘進工法
B3: フリガナ | D3: ='様式B(トンネル様式1P001)'!D3:G3 -> ミネトンネル | H3: 路線名 | J3: ='様式B(トンネル様式1P001)'!J3:M4 -> 一般国道 316号 | N3: 管理者名 | P3: ='様式B(トンネル様式1P001)'!P3:S4 -> 宇部土木建築事務所 | T3: 緊急輸送道路 | V3: あり | AA3: Ⅱ | AB3: なし | AC3: 陸上トンネル 開削工法
B4: 名 称 | D4: ='様式B(トンネル様式1P001)'!D4:G4 -> 美祢トンネル | T4: 代替路の有無 | V4: あり | AA4: Ⅲ | AC4: 陸上トンネル その他
B5: 所在地 | D5: 自 | E5: ='様式B(トンネル様式1P001)'!E5:G5 -> 山口県美祢市伊佐町 | H5: 定期点検業者 | K5: ='様式B(トンネル様式1P001)'!K5:N5 -> 株式会社ニュージェック | O5: 定期点検年月日 | Q5: ='様式B(トンネル様式1P001)'!Q5:S6 -> 44294 | T5: トンネル延長 | V5: L= | W5: ='様式A-1'!Z5 -> 1265 | Y5: ｍ | AA5: Ⅳ | AC5: 水底トンネル 掘進工法
D6: 至 | E6: ='様式B(トンネル様式1P001)'!E6:G6 -> 山口県美祢市伊佐町 | H6: 定期点検者名 | K6: ='様式B(トンネル様式1P001)'!K6:N6 -> 石村 勝伸 | T6: ﾄﾝﾈﾙの分類 | V6: 陸上トンネル 掘進工法 | AC6: 水底トンネル 沈埋工法
B7: 起点 | C7: 緯度 | D7: ='様式A-1'!E7 -> 340917.7 | F7: 変状・異常 箇所数合計 | H7: トンネル 本体工 | J7: 材質劣化 | L7: Ⅱ | M7: ='様式B(トンネル様式1P001)'!M7:M10 -> 109 | N7: Ⅲ | O7: ='様式B(トンネル様式1P001)'!O7:O10 -> 0 | P7: Ⅳ | Q7: ='様式B(トンネル様式1P001)'!Q7:Q10 -> 0 | R7: トンネル毎 の健全性 | T7: =様式F!AJ4 -> Ⅲ | V7: 附属物の 取付状態 | W7: ◯ （応急措置後） | Y7: ='様式B(トンネル様式1P001)'!Y7:Y12 -> 0 | AC7: 水底トンネル 開削工法
AC8: 水底トンネル その他
C10: 経度 | D10: ='様式A-1'!E8 -> 1311141.6
J11: 漏水 | L11: Ⅱ | M11: ='様式B(トンネル様式1P001)'!M11:M14 -> 55 | N11: Ⅲ | O11: ='様式B(トンネル様式1P001)'!O11:O14 -> 0 | P11: Ⅳ | Q11: ='様式B(トンネル様式1P001)'!Q11:Q14 -> 0
B13: 終点 | C13: 緯度 | D13: ='様式A-1'!E9 -> 340837.7 | W13: ✕ | Y13: ='様式B(トンネル様式1P001)'!Y13:Y18 -> 25
J15: 外力 | L15: Ⅱ | M15: ='様式B(トンネル様式1P001)'!M15:M18 -> 3 | N15: Ⅲ | O15: ='様式B(トンネル様式1P001)'!O15:O18 -> 3 | P15: Ⅳ | Q15: ='様式B(トンネル様式1P001)'!Q15:Q18 -> 0 | AC15: 0
C16: 経度 | D16: ='様式A-1'!E10 -> 1311156.1
B19: トンネル変状・異常箇所写真位置図
P26: 注１：本位置図は、見下げた状態で記載すること。 注２：覆工スパン番号は横断目地毎(矢板工法の場合は上半アーチ の横断目地毎)に設定すること。 注３：写真番号に付する変状番号は、各覆工スパンの変状に対して新た に確認された場合は順次追加していくこと。 注４：横断目地の変状は前の覆工スパン番号で計上すること。 注５：１枚に収まらない場合は、複数枚に分けて作成すること。
C28: ※1 トンネル本体工の変状数は、材質劣化、漏水に起因するものは変状単位で、外力に起因するものはスパン単位で計上すること。
C29: ※2 本体工の変状に対しては、健全性の判定区分Ⅱ～Ⅳについて添付すること。また、点検前に実施された措置によりⅠと判定された箇所も添付すること。
C30: ※3 附属物の取付状態の○欄については、応急措置前に判定区分×とした箇所のうち応急措置により○判定とした箇所の数を記入すること。
C31: ※4 附属物の異常番号は、本体工と番号が重複しないよう101番以降とする等の配慮を行い、分かりやすく記録すること。

Sheet 様式B(トンネル様式1P012)
B2: ■定期点検記録様式 トンネル変状・異常箇所写真位置図 | T2: トンネルID | V2: 34.15492.131.19489 | AA2: Ⅰ | AB2: あり | AC2: 陸上トンネル 掘進工法
B3: フリガナ | D3: ='様式B(トンネル様式1P001)'!D3:G3 -> ミネトンネル | H3: 路線名 | J3: ='様式B(トンネル様式1P001)'!J3:M4 -> 一般国道 316号 | N3: 管理者名 | P3: ='様式B(トンネル様式1P001)'!P3:S4 -> 宇部土木建築事務所 | T3: 緊急輸送道路 | V3: あり | AA3: Ⅱ | AB3: なし | AC3: 陸上トンネル 開削工法
B4: 名 称 | D4: ='様式B(トンネル様式1P001)'!D4:G4 -> 美祢トンネル | T4: 代替路の有無 | V4: あり | AA4: Ⅲ | AC4: 陸上トンネル その他
B5: 所在地 | D5: 自 | E5: ='様式B(トンネル様式1P001)'!E5:G5 -> 山口県美祢市伊佐町 | H5: 定期点検業者 | K5: ='様式B(トンネル様式1P001)'!K5:N5 -> 株式会社ニュージェック | O5: 定期点検年月日 | Q5: ='様式B(トンネル様式1P001)'!Q5:S6 -> 44294 | T5: トンネル延長 | V5: L= | W5: ='様式A-1'!Z5 -> 1265 | Y5: ｍ | AA5: Ⅳ | AC5: 水底トンネル 掘進工法
D6: 至 | E6: ='様式B(トンネル様式1P001)'!E6:G6 -> 山口県美祢市伊佐町 | H6: 定期点検者名 | K6: ='様式B(トンネル様式1P001)'!K6:N6 -> 石村 勝伸 | T6: ﾄﾝﾈﾙの分類 | V6: 陸上トンネル 掘進工法 | AC6: 水底トンネル 沈埋工法
B7: 起点 | C7: 緯度 | D7: ='様式A-1'!E7 -> 340917.7 | F7: 変状・異常 箇所数合計 | H7: トンネル 本体工 | J7: 材質劣化 | L7: Ⅱ | M7: ='様式B(トンネル様式1P001)'!M7:M10 -> 109 | N7: Ⅲ | O7: ='様式B(トンネル様式1P001)'!O7:O10 -> 0 | P7: Ⅳ | Q7: ='様式B(トンネル様式1P001)'!Q7:Q10 -> 0 | R7: トンネル毎 の健全性 | T7: =様式F!AJ4 -> Ⅲ | V7: 附属物の 取付状態 | W7: ◯ （応急措置後） | Y7: ='様式B(トンネル様式1P001)'!Y7:Y12 -> 0 | AC7: 水底トンネル 開削工法
AC8: 水底トンネル その他
C10: 経度 | D10: ='様式A-1'!E8 -> 1311141.6
J11: 漏水 | L11: Ⅱ | M11: ='様式B(トンネル様式1P001)'!M11:M14 -> 55 | N11: Ⅲ | O11: ='様式B(トンネル様式1P001)'!O11:O14 -> 0 | P11: Ⅳ | Q11: ='様式B(トンネル様式1P001)'!Q11:Q14 -> 0
B13: 終点 | C13: 緯度 | D13: ='様式A-1'!E9 -> 340837.7 | W13: ✕ | Y13: ='様式B(トンネル様式1P001)'!Y13:Y18 -> 25
J15: 外力 | L15: Ⅱ | M15: ='様式B(トンネル様式1P001)'!M15:M18 -> 3 | N15: Ⅲ | O15: ='様式B(トンネル様式1P001)'!O15:O18 -> 3 | P15: Ⅳ | Q15: ='様式B(トンネル様式1P001)'!Q15:Q18 -> 0 | AC15: 0
C16: 経度 | D16: ='様式A-1'!E10 -> 1311156.1
B19: トンネル変状・異常箇所写真位置図
P26: 注１：本位置図は、見下げた状態で記載すること。 注２：覆工スパン番号は横断目地毎(矢板工法の場合は上半アーチ の横断目地毎)に設定すること。 注３：写真番号に付する変状番号は、各覆工スパンの変状に対して新た に確認された場合は順次追加していくこと。 注４：横断目地の変状は前の覆工スパン番号で計上すること。 注５：１枚に収まらない場合は、複数枚に分けて作成すること。
C28: ※1 トンネル本体工の変状数は、材質劣化、漏水に起因するものは変状単位で、外力に起因するものはスパン単位で計上すること。
C29: ※2 本体工の変状に対しては、健全性の判定区分Ⅱ～Ⅳについて添付すること。また、点検前に実施された措置によりⅠと判定された箇所も添付すること。
C30: ※3 附属物の取付状態の○欄については、応急措置前に判定区分×とした箇所のうち応急措置により○判定とした箇所の数を記入すること。
C31: ※4 附属物の異常番号は、本体工と番号が重複しないよう101番以降とする等の配慮を行い、分かりやすく記録すること。

Sheet 様式B(トンネル様式1P013)
B2: ■定期点検記録様式 トンネル変状・異常箇所写真位置図 | T2: トンネルID | V2: 34.15492.131.19489 | AA2: Ⅰ | AB2: あり | AC2: 陸上トンネル 掘進工法
B3: フリガナ | D3: ='様式B(トンネル様式1P001)'!D3:G3 -> ミネトンネル | H3: 路線名 | J3: ='様式B(トンネル様式1P001)'!J3:M4 -> 一般国道 316号 | N3: 管理者名 | P3: ='様式B(トンネル様式1P001)'!P3:S4 -> 宇部土木建築事務所 | T3: 緊急輸送道路 | V3: あり | AA3: Ⅱ | AB3: なし | AC3: 陸上トンネル 開削工法
B4: 名 称 | D4: ='様式B(トンネル様式1P001)'!D4:G4 -> 美祢トンネル | T4: 代替路の有無 | V4: あり | AA4: Ⅲ | AC4: 陸上トンネル その他
B5: 所在地 | D5: 自 | E5: ='様式B(トンネル様式1P001)'!E5:G5 -> 山口県美祢市伊佐町 | H5: 定期点検業者 | K5: ='様式B(トンネル様式1P001)'!K5:N5 -> 株式会社ニュージェック | O5: 定期点検年月日 | Q5: ='様式B(トンネル様式1P001)'!Q5:S6 -> 44294 | T5: トンネル延長 | V5: L= | W5: ='様式A-1'!Z5 -> 1265 | Y5: ｍ | AA5: Ⅳ | AC5: 水底トンネル 掘進工法
D6: 至 | E6: ='様式B(トンネル様式1P001)'!E6:G6 -> 山口県美祢市伊佐町 | H6: 定期点検者名 | K6: ='様式B(トンネル様式1P001)'!K6:N6 -> 石村 勝伸 | T6: ﾄﾝﾈﾙの分類 | V6: 陸上トンネル 掘進工法 | AC6: 水底トンネル 沈埋工法
B7: 起点 | C7: 緯度 | D7: ='様式A-1'!E7 -> 340917.7 | F7: 変状・異常 箇所数合計 | H7: トンネル 本体工 | J7: 材質劣化 | L7: Ⅱ | M7: ='様式B(トンネル様式1P001)'!M7:M10 -> 109 | N7: Ⅲ | O7: ='様式B(トンネル様式1P001)'!O7:O10 -> 0 | P7: Ⅳ | Q7: ='様式B(トンネル様式1P001)'!Q7:Q10 -> 0 | R7: トンネル毎 の健全性 | T7: =様式F!AJ4 -> Ⅲ | V7: 附属物の 取付状態 | W7: ◯ （応急措置後） | Y7: ='様式B(トンネル様式1P001)'!Y7:Y12 -> 0 | AC7: 水底トンネル 開削工法
AC8: 水底トンネル その他
C10: 経度 | D10: ='様式A-1'!E8 -> 1311141.6
J11: 漏水 | L11: Ⅱ | M11: ='様式B(トンネル様式1P001)'!M11:M14 -> 55 | N11: Ⅲ | O11: ='様式B(トンネル様式1P001)'!O11:O14 -> 0 | P11: Ⅳ | Q11: ='様式B(トンネル様式1P001)'!Q11:Q14 -> 0
B13: 終点 | C13: 緯度 | D13: ='様式A-1'!E9 -> 340837.7 | W13: ✕ | Y13: ='様式B(トンネル様式1P001)'!Y13:Y18 -> 25
J15: 外力 | L15: Ⅱ | M15: ='様式B(トンネル様式1P001)'!M15:M18 -> 3 | N15: Ⅲ | O15: ='様式B(トンネル様式1P001)'!O15:O18 -> 3 | P15: Ⅳ | Q15: ='様式B(トンネル様式1P001)'!Q15:Q18 -> 0 | AC15: 0
C16: 経度 | D16: ='様式A-1'!E10 -> 1311156.1
B19: トンネル変状・異常箇所写真位置図
P26: 注１：本位置図は、見下げた状態で記載すること。 注２：覆工スパン番号は横断目地毎(矢板工法の場合は上半アーチ の横断目地毎)に設定すること。 注３：写真番号に付する変状番号は、各覆工スパンの変状に対して新た に確認された場合は順次追加していくこと。 注４：横断目地の変状は前の覆工スパン番号で計上すること。 注５：１枚に収まらない場合は、複数枚に分けて作成すること。
C28: ※1 トンネル本体工の変状数は、材質劣化、漏水に起因するものは変状単位で、外力に起因するものはスパン単位で計上すること。
C29: ※2 本体工の変状に対しては、健全性の判定区分Ⅱ～Ⅳについて添付すること。また、点検前に実施された措置によりⅠと判定された箇所も添付すること。
C30: ※3 附属物の取付状態の○欄については、応急措置前に判定区分×とした箇所のうち応急措置により○判定とした箇所の数を記入すること。
C31: ※4 附属物の異常番号は、本体工と番号が重複しないよう101番以降とする等の配慮を行い、分かりやすく記録すること。

Sheet 様式B(トンネル様式1P014)
B2: ■定期点検記録様式 トンネル変状・異常箇所写真位置図 | T2: トンネルID | V2: 34.15492.131.19489 | AA2: Ⅰ | AB2: あり | AC2: 陸上トンネル 掘進工法
B3: フリガナ | D3: ='様式B(トンネル様式1P001)'!D3:G3 -> ミネトンネル | H3: 路線名 | J3: ='様式B(トンネル様式1P001)'!J3:M4 -> 一般国道 316号 | N3: 管理者名 | P3: ='様式B(トンネル様式1P001)'!P3:S4 -> 宇部土木建築事務所 | T3: 緊急輸送道路 | V3: あり | AA3: Ⅱ | AB3: なし | AC3: 陸上トンネル 開削工法
B4: 名 称 | D4: ='様式B(トンネル様式1P001)'!D4:G4 -> 美祢トンネル | T4: 代替路の有無 | V4: あり | AA4: Ⅲ | AC4: 陸上トンネル その他
B5: 所在地 | D5: 自 | E5: ='様式B(トンネル様式1P001)'!E5:G5 -> 山口県美祢市伊佐町 | H5: 定期点検業者 | K5: ='様式B(トンネル様式1P001)'!K5:N5 -> 株式会社ニュージェック | O5: 定期点検年月日 | Q5: ='様式B(トンネル様式1P001)'!Q5:S6 -> 44294 | T5: トンネル延長 | V5: L= | W5: ='様式A-1'!Z5 -> 1265 | Y5: ｍ | AA5: Ⅳ | AC5: 水底トンネル 掘進工法
D6: 至 | E6: ='様式B(トンネル様式1P001)'!E6:G6 -> 山口県美祢市伊佐町 | H6: 定期点検者名 | K6: ='様式B(トンネル様式1P001)'!K6:N6 -> 石村 勝伸 | T6: ﾄﾝﾈﾙの分類 | V6: 陸上トンネル 掘進工法 | AC6: 水底トンネル 沈埋工法
B7: 起点 | C7: 緯度 | D7: ='様式A-1'!E7 -> 340917.7 | F7: 変状・異常 箇所数合計 | H7: トンネル 本体工 | J7: 材質劣化 | L7: Ⅱ | M7: ='様式B(トンネル様式1P001)'!M7:M10 -> 109 | N7: Ⅲ | O7: ='様式B(トンネル様式1P001)'!O7:O10 -> 0 | P7: Ⅳ | Q7: ='様式B(トンネル様式1P001)'!Q7:Q10 -> 0 | R7: トンネル毎 の健全性 | T7: =様式F!AJ4 -> Ⅲ | V7: 附属物の 取付状態 | W7: ◯ （応急措置後） | Y7: ='様式B(トンネル様式1P001)'!Y7:Y12 -> 0 | AC7: 水底トンネル 開削工法
AC8: 水底トンネル その他
C10: 経度 | D10: ='様式A-1'!E8 -> 1311141.6
J11: 漏水 | L11: Ⅱ | M11: ='様式B(トンネル様式1P001)'!M11:M14 -> 55 | N11: Ⅲ | O11: ='様式B(トンネル様式1P001)'!O11:O14 -> 0 | P11: Ⅳ | Q11: ='様式B(トンネル様式1P001)'!Q11:Q14 -> 0
B13: 終点 | C13: 緯度 | D13: ='様式A-1'!E9 -> 340837.7 | W13: ✕ | Y13: ='様式B(トンネル様式1P001)'!Y13:Y18 -> 25
J15: 外力 | L15: Ⅱ | M15: ='様式B(トンネル様式1P001)'!M15:M18 -> 3 | N15: Ⅲ | O15: ='様式B(トンネル様式1P001)'!O15:O18 -> 3 | P15: Ⅳ | Q15: ='様式B(トンネル様式1P001)'!Q15:Q18 -> 0 | AC15: 0
C16: 経度 | D16: ='様式A-1'!E10 -> 1311156.1
B19: トンネル変状・異常箇所写真位置図
P26: 注１：本位置図は、見下げた状態で記載すること。 注２：覆工スパン番号は横断目地毎(矢板工法の場合は上半アーチ の横断目地毎)に設定すること。 注３：写真番号に付する変状番号は、各覆工スパンの変状に対して新た に確認された場合は順次追加していくこと。 注４：横断目地の変状は前の覆工スパン番号で計上すること。 注５：１枚に収まらない場合は、複数枚に分けて作成すること。
C28: ※1 トンネル本体工の変状数は、材質劣化、漏水に起因するものは変状単位で、外力に起因するものはスパン単位で計上すること。
C29: ※2 本体工の変状に対しては、健全性の判定区分Ⅱ～Ⅳについて添付すること。また、点検前に実施された措置によりⅠと判定された箇所も添付すること。
C30: ※3 附属物の取付状態の○欄については、応急措置前に判定区分×とした箇所のうち応急措置により○判定とした箇所の数を記入すること。
C31: ※4 附属物の異常番号は、本体工と番号が重複しないよう101番以降とする等の配慮を行い、分かりやすく記録すること。

Sheet 様式B(トンネル様式1P015)
B2: ■定期点検記録様式 トンネル変状・異常箇所写真位置図 | T2: トンネルID | V2: 34.15492.131.19489 | AA2: Ⅰ | AB2: あり | AC2: 陸上トンネル 掘進工法
B3: フリガナ | D3: ='様式B(トンネル様式1P001)'!D3:G3 -> ミネトンネル | H3: 路線名 | J3: ='様式B(トンネル様式1P001)'!J3:M4 -> 一般国道 316号 | N3: 管理者名 | P3: ='様式B(トンネル様式1P001)'!P3:S4 -> 宇部土木建築事務所 | T3: 緊急輸送道路 | V3: あり | AA3: Ⅱ | AB3: なし | AC3: 陸上トンネル 開削工法
B4: 名 称 | D4: ='様式B(トンネル様式1P001)'!D4:G4 -> 美祢トンネル | T4: 代替路の有無 | V4: あり | AA4: Ⅲ | AC4: 陸上トンネル その他
B5: 所在地 | D5: 自 | E5: ='様式B(トンネル様式1P001)'!E5:G5 -> 山口県美祢市伊佐町 | H5: 定期点検業者 | K5: ='様式B(トンネル様式1P001)'!K5:N5 -> 株式会社ニュージェック | O5: 定期点検年月日 | Q5: ='様式B(トンネル様式1P001)'!Q5:S6 -> 44294 | T5: トンネル延長 | V5: L= | W5: ='様式A-1'!Z5 -> 1265 | Y5: ｍ | AA5: Ⅳ | AC5: 水底トンネル 掘進工法
D6: 至 | E6: ='様式B(トンネル様式1P001)'!E6:G6 -> 山口県美祢市伊佐町 | H6: 定期点検者名 | K6: ='様式B(トンネル様式1P001)'!K6:N6 -> 石村 勝伸 | T6: ﾄﾝﾈﾙの分類 | V6: 陸上トンネル 掘進工法 | AC6: 水底トンネル 沈埋工法
B7: 起点 | C7: 緯度 | D7: ='様式A-1'!E7 -> 340917.7 | F7: 変状・異常 箇所数合計 | H7: トンネル 本体工 | J7: 材質劣化 | L7: Ⅱ | M7: ='様式B(トンネル様式1P001)'!M7:M10 -> 109 | N7: Ⅲ | O7: ='様式B(トンネル様式1P001)'!O7:O10 -> 0 | P7: Ⅳ | Q7: ='様式B(トンネル様式1P001)'!Q7:Q10 -> 0 | R7: トンネル毎 の健全性 | T7: =様式F!AJ4 -> Ⅲ | V7: 附属物の 取付状態 | W7: ◯ （応急措置後） | Y7: ='様式B(トンネル様式1P001)'!Y7:Y12 -> 0 | AC7: 水底トンネル 開削工法
AC8: 水底トンネル その他
C10: 経度 | D10: ='様式A-1'!E8 -> 1311141.6
J11: 漏水 | L11: Ⅱ | M11: ='様式B(トンネル様式1P001)'!M11:M14 -> 55 | N11: Ⅲ | O11: ='様式B(トンネル様式1P001)'!O11:O14 -> 0 | P11: Ⅳ | Q11: ='様式B(トンネル様式1P001)'!Q11:Q14 -> 0
B13: 終点 | C13: 緯度 | D13: ='様式A-1'!E9 -> 340837.7 | W13: ✕ | Y13: ='様式B(トンネル様式1P001)'!Y13:Y18 -> 25
J15: 外力 | L15: Ⅱ | M15: ='様式B(トンネル様式1P001)'!M15:M18 -> 3 | N15: Ⅲ | O15: ='様式B(トンネル様式1P001)'!O15:O18 -> 3 | P15: Ⅳ | Q15: ='様式B(トンネル様式1P001)'!Q15:Q18 -> 0 | AC15: 0
C16: 経度 | D16: ='様式A-1'!E10 -> 1311156.1
B19: トンネル変状・異常箇所写真位置図
P26: 注１：本位置図は、見下げた状態で記載すること。 注２：覆工スパン番号は横断目地毎(矢板工法の場合は上半アーチ の横断目地毎)に設定すること。 注３：写真番号に付する変状番号は、各覆工スパンの変状に対して新た に確認された場合は順次追加していくこと。 注４：横断目地の変状は前の覆工スパン番号で計上すること。 注５：１枚に収まらない場合は、複数枚に分けて作成すること。
C28: ※1 トンネル本体工の変状数は、材質劣化、漏水に起因するものは変状単位で、外力に起因するものはスパン単位で計上すること。
C29: ※2 本体工の変状に対しては、健全性の判定区分Ⅱ～Ⅳについて添付すること。また、点検前に実施された措置によりⅠと判定された箇所も添付すること。
C30: ※3 附属物の取付状態の○欄については、応急措置前に判定区分×とした箇所のうち応急措置により○判定とした箇所の数を記入すること。
C31: ※4 附属物の異常番号は、本体工と番号が重複しないよう101番以降とする等の配慮を行い、分かりやすく記録すること。

Sheet 様式B(トンネル様式1P016)
B2: ■定期点検記録様式 トンネル変状・異常箇所写真位置図 | T2: トンネルID | V2: 34.15492.131.19489 | AA2: Ⅰ | AB2: あり | AC2: 陸上トンネル 掘進工法
B3: フリガナ | D3: ='様式B(トンネル様式1P001)'!D3:G3 -> ミネトンネル | H3: 路線名 | J3: ='様式B(トンネル様式1P001)'!J3:M4 -> 一般国道 316号 | N3: 管理者名 | P3: ='様式B(トンネル様式1P001)'!P3:S4 -> 宇部土木建築事務所 | T3: 緊急輸送道路 | V3: あり | AA3: Ⅱ | AB3: なし | AC3: 陸上トンネル 開削工法
B4: 名 称 | D4: ='様式B(トンネル様式1P001)'!D4:G4 -> 美祢トンネル | T4: 代替路の有無 | V4: あり | AA4: Ⅲ | AC4: 陸上トンネル その他
B5: 所在地 | D5: 自 | E5: ='様式B(トンネル様式1P001)'!E5:G5 -> 山口県美祢市伊佐町 | H5: 定期点検業者 | K5: ='様式B(トンネル様式1P001)'!K5:N5 -> 株式会社ニュージェック | O5: 定期点検年月日 | Q5: ='様式B(トンネル様式1P001)'!Q5:S6 -> 44294 | T5: トンネル延長 | V5: L= | W5: ='様式A-1'!Z5 -> 1265 | Y5: ｍ | AA5: Ⅳ | AC5: 水底トンネル 掘進工法
D6: 至 | E6: ='様式B(トンネル様式1P001)'!E6:G6 -> 山口県美祢市伊佐町 | H6: 定期点検者名 | K6: ='様式B(トンネル様式1P001)'!K6:N6 -> 石村 勝伸 | T6: ﾄﾝﾈﾙの分類 | V6: 陸上トンネル 掘進工法 | AC6: 水底トンネル 沈埋工法
B7: 起点 | C7: 緯度 | D7: ='様式A-1'!E7 -> 340917.7 | F7: 変状・異常 箇所数合計 | H7: トンネル 本体工 | J7: 材質劣化 | L7: Ⅱ | M7: ='様式B(トンネル様式1P001)'!M7:M10 -> 109 | N7: Ⅲ | O7: ='様式B(トンネル様式1P001)'!O7:O10 -> 0 | P7: Ⅳ | Q7: ='様式B(トンネル様式1P001)'!Q7:Q10 -> 0 | R7: トンネル毎 の健全性 | T7: =様式F!AJ4 -> Ⅲ | V7: 附属物の 取付状態 | W7: ◯ （応急措置後） | Y7: ='様式B(トンネル様式1P001)'!Y7:Y12 -> 0 | AC7: 水底トンネル 開削工法
AC8: 水底トンネル その他
C10: 経度 | D10: ='様式A-1'!E8 -> 1311141.6
J11: 漏水 | L11: Ⅱ | M11: ='様式B(トンネル様式1P001)'!M11:M14 -> 55 | N11: Ⅲ | O11: ='様式B(トンネル様式1P001)'!O11:O14 -> 0 | P11: Ⅳ | Q11: ='様式B(トンネル様式1P001)'!Q11:Q14 -> 0
B13: 終点 | C13: 緯度 | D13: ='様式A-1'!E9 -> 340837.7 | W13: ✕ | Y13: ='様式B(トンネル様式1P001)'!Y13:Y18 -> 25
J15: 外力 | L15: Ⅱ | M15: ='様式B(トンネル様式1P001)'!M15:M18 -> 3 | N15: Ⅲ | O15: ='様式B(トンネル様式1P001)'!O15:O18 -> 3 | P15: Ⅳ | Q15: ='様式B(トンネル様式1P001)'!Q15:Q18 -> 0 | AC15: 0
C16: 経度 | D16: ='様式A-1'!E10 -> 1311156.1
B19: トンネル変状・異常箇所写真位置図
P26: 注１：本位置図は、見下げた状態で記載すること。 注２：覆工スパン番号は横断目地毎(矢板工法の場合は上半アーチ の横断目地毎)に設定すること。 注３：写真番号に付する変状番号は、各覆工スパンの変状に対して新た に確認された場合は順次追加していくこと。 注４：横断目地の変状は前の覆工スパン番号で計上すること。 注５：１枚に収まらない場合は、複数枚に分けて作成すること。
C28: ※1 トンネル本体工の変状数は、材質劣化、漏水に起因するものは変状単位で、外力に起因するものはスパン単位で計上すること。
C29: ※2 本体工の変状に対しては、健全性の判定区分Ⅱ～Ⅳについて添付すること。また、点検前に実施された措置によりⅠと判定された箇所も添付すること。
C30: ※3 附属物の取付状態の○欄については、応急措置前に判定区分×とした箇所のうち応急措置により○判定とした箇所の数を記入すること。
C31: ※4 附属物の異常番号は、本体工と番号が重複しないよう101番以降とする等の配慮を行い、分かりやすく記録すること。

Sheet 様式B(トンネル様式1P017)
B2: ■定期点検記録様式 トンネル変状・異常箇所写真位置図 | T2: トンネルID | V2: 34.15492.131.19489 | AA2: Ⅰ | AB2: あり | AC2: 陸上トンネル 掘進工法
B3: フリガナ | D3: ='様式B(トンネル様式1P001)'!D3:G3 -> ミネトンネル | H3: 路線名 | J3: ='様式B(トンネル様式1P001)'!J3:M4 -> 一般国道 316号 | N3: 管理者名 | P3: ='様式B(トンネル様式1P001)'!P3:S4 -> 宇部土木建築事務所 | T3: 緊急輸送道路 | V3: あり | AA3: Ⅱ | AB3: なし | AC3: 陸上トンネル 開削工法
B4: 名 称 | D4: ='様式B(トンネル様式1P001)'!D4:G4 -> 美祢トンネル | T4: 代替路の有無 | V4: あり | AA4: Ⅲ | AC4: 陸上トンネル その他
B5: 所在地 | D5: 自 | E5: ='様式B(トンネル様式1P001)'!E5:G5 -> 山口県美祢市伊佐町 | H5: 定期点検業者 | K5: ='様式B(トンネル様式1P001)'!K5:N5 -> 株式会社ニュージェック | O5: 定期点検年月日 | Q5: ='様式B(トンネル様式1P001)'!Q5:S6 -> 44294 | T5: トンネル延長 | V5: L= | W5: ='様式A-1'!Z5 -> 1265 | Y5: ｍ | AA5: Ⅳ | AC5: 水底トンネル 掘進工法
D6: 至 | E6: ='様式B(トンネル様式1P001)'!E6:G6 -> 山口県美祢市伊佐町 | H6: 定期点検者名 | K6: ='様式B(トンネル様式1P001)'!K6:N6 -> 石村 勝伸 | T6: ﾄﾝﾈﾙの分類 | V6: 陸上トンネル 掘進工法 | AC6: 水底トンネル 沈埋工法
B7: 起点 | C7: 緯度 | D7: ='様式A-1'!E7 -> 340917.7 | F7: 変状・異常 箇所数合計 | H7: トンネル 本体工 | J7: 材質劣化 | L7: Ⅱ | M7: ='様式B(トンネル様式1P001)'!M7:M10 -> 109 | N7: Ⅲ | O7: ='様式B(トンネル様式1P001)'!O7:O10 -> 0 | P7: Ⅳ | Q7: ='様式B(トンネル様式1P001)'!Q7:Q10 -> 0 | R7: トンネル毎 の健全性 | T7: =様式F!AJ4 -> Ⅲ | V7: 附属物の 取付状態 | W7: ◯ （応急措置後） | Y7: ='様式B(トンネル様式1P001)'!Y7:Y12 -> 0 | AC7: 水底トンネル 開削工法
AC8: 水底トンネル その他
C10: 経度 | D10: ='様式A-1'!E8 -> 1311141.6
J11: 漏水 | L11: Ⅱ | M11: ='様式B(トンネル様式1P001)'!M11:M14 -> 55 | N11: Ⅲ | O11: ='様式B(トンネル様式1P001)'!O11:O14 -> 0 | P11: Ⅳ | Q11: ='様式B(トンネル様式1P001)'!Q11:Q14 -> 0
B13: 終点 | C13: 緯度 | D13: ='様式A-1'!E9 -> 340837.7 | W13: ✕ | Y13: ='様式B(トンネル様式1P001)'!Y13:Y18 -> 25
J15: 外力 | L15: Ⅱ | M15: ='様式B(トンネル様式1P001)'!M15:M18 -> 3 | N15: Ⅲ | O15: ='様式B(トンネル様式1P001)'!O15:O18 -> 3 | P15: Ⅳ | Q15: ='様式B(トンネル様式1P001)'!Q15:Q18 -> 0 | AC15: 0
C16: 経度 | D16: ='様式A-1'!E10 -> 1311156.1
B19: トンネル変状・異常箇所写真位置図
P26: 注１：本位置図は、見下げた状態で記載すること。 注２：覆工スパン番号は横断目地毎(矢板工法の場合は上半アーチ の横断目地毎)に設定すること。 注３：写真番号に付する変状番号は、各覆工スパンの変状に対して新た に確認された場合は順次追加していくこと。 注４：横断目地の変状は前の覆工スパン番号で計上すること。 注５：１枚に収まらない場合は、複数枚に分けて作成すること。
C28: ※1 トンネル本体工の変状数は、材質劣化、漏水に起因するものは変状単位で、外力に起因するものはスパン単位で計上すること。
C29: ※2 本体工の変状に対しては、健全性の判定区分Ⅱ～Ⅳについて添付すること。また、点検前に実施された措置によりⅠと判定された箇所も添付すること。
C30: ※3 附属物の取付状態の○欄については、応急措置前に判定区分×とした箇所のうち応急措置により○判定とした箇所の数を記入すること。
C31: ※4 附属物の異常番号は、本体工と番号が重複しないよう101番以降とする等の配慮を行い、分かりやすく記録すること。

Sheet 様式B(トンネル様式1P018)
B2: ■定期点検記録様式 トンネル変状・異常箇所写真位置図 | T2: トンネルID | V2: 34.15492.131.19489 | AA2: Ⅰ | AB2: あり | AC2: 陸上トンネル 掘進工法
B3: フリガナ | D3: ='様式B(トンネル様式1P001)'!D3:G3 -> ミネトンネル | H3: 路線名 | J3: ='様式B(トンネル様式1P001)'!J3:M4 -> 一般国道 316号 | N3: 管理者名 | P3: ='様式B(トンネル様式1P001)'!P3:S4 -> 宇部土木建築事務所 | T3: 緊急輸送道路 | V3: あり | AA3: Ⅱ | AB3: なし | AC3: 陸上トンネル 開削工法
B4: 名 称 | D4: ='様式B(トンネル様式1P001)'!D4:G4 -> 美祢トンネル | T4: 代替路の有無 | V4: あり | AA4: Ⅲ | AC4: 陸上トンネル その他
B5: 所在地 | D5: 自 | E5: ='様式B(トンネル様式1P001)'!E5:G5 -> 山口県美祢市伊佐町 | H5: 定期点検業者 | K5: ='様式B(トンネル様式1P001)'!K5:N5 -> 株式会社ニュージェック | O5: 定期点検年月日 | Q5: ='様式B(トンネル様式1P001)'!Q5:S6 -> 44294 | T5: トンネル延長 | V5: L= | W5: ='様式A-1'!Z5 -> 1265 | Y5: ｍ | AA5: Ⅳ | AC5: 水底トンネル 掘進工法
D6: 至 | E6: ='様式B(トンネル様式1P001)'!E6:G6 -> 山口県美祢市伊佐町 | H6: 定期点検者名 | K6: ='様式B(トンネル様式1P001)'!K6:N6 -> 石村 勝伸 | T6: ﾄﾝﾈﾙの分類 | V6: 陸上トンネル 掘進工法 | AC6: 水底トンネル 沈埋工法
B7: 起点 | C7: 緯度 | D7: ='様式A-1'!E7 -> 340917.7 | F7: 変状・異常 箇所数合計 | H7: トンネル 本体工 | J7: 材質劣化 | L7: Ⅱ | M7: ='様式B(トンネル様式1P001)'!M7:M10 -> 109 | N7: Ⅲ | O7: ='様式B(トンネル様式1P001)'!O7:O10 -> 0 | P7: Ⅳ | Q7: ='様式B(トンネル様式1P001)'!Q7:Q10 -> 0 | R7: トンネル毎 の健全性 | T7: =様式F!AJ4 -> Ⅲ | V7: 附属物の 取付状態 | W7: ◯ （応急措置後） | Y7: ='様式B(トンネル様式1P001)'!Y7:Y12 -> 0 | AC7: 水底トンネル 開削工法
AC8: 水底トンネル その他
C10: 経度 | D10: ='様式A-1'!E8 -> 1311141.6
J11: 漏水 | L11: Ⅱ | M11: ='様式B(トンネル様式1P001)'!M11:M14 -> 55 | N11: Ⅲ | O11: ='様式B(トンネル様式1P001)'!O11:O14 -> 0 | P11: Ⅳ | Q11: ='様式B(トンネル様式1P001)'!Q11:Q14 -> 0
B13: 終点 | C13: 緯度 | D13: ='様式A-1'!E9 -> 340837.7 | W13: ✕ | Y13: ='様式B(トンネル様式1P001)'!Y13:Y18 -> 25
J15: 外力 | L15: Ⅱ | M15: ='様式B(トンネル様式1P001)'!M15:M18 -> 3 | N15: Ⅲ | O15: ='様式B(トンネル様式1P001)'!O15:O18 -> 3 | P15: Ⅳ | Q15: ='様式B(トンネル様式1P001)'!Q15:Q18 -> 0 | AC15: 0
C16: 経度 | D16: ='様式A-1'!E10 -> 1311156.1
B19: トンネル変状・異常箇所写真位置図
P26: 注１：本位置図は、見下げた状態で記載すること。 注２：覆工スパン番号は横断目地毎(矢板工法の場合は上半アーチ の横断目地毎)に設定すること。 注３：写真番号に付する変状番号は、各覆工スパンの変状に対して新た に確認された場合は順次追加していくこと。 注４：横断目地の変状は前の覆工スパン番号で計上すること。 注５：１枚に収まらない場合は、複数枚に分けて作成すること。
C28: ※1 トンネル本体工の変状数は、材質劣化、漏水に起因するものは変状単位で、外力に起因するものはスパン単位で計上すること。
C29: ※2 本体工の変状に対しては、健全性の判定区分Ⅱ～Ⅳについて添付すること。また、点検前に実施された措置によりⅠと判定された箇所も添付すること。
C30: ※3 附属物の取付状態の○欄については、応急措置前に判定区分×とした箇所のうち応急措置により○判定とした箇所の数を記入すること。
C31: ※4 附属物の異常番号は、本体工と番号が重複しないよう101番以降とする等の配慮を行い、分かりやすく記録すること。

Sheet 様式B(トンネル様式1P019)
B2: ■定期点検記録様式 トンネル変状・異常箇所写真位置図 | T2: トンネルID | V2: 34.15492.131.19489 | AA2: Ⅰ | AB2: あり | AC2: 陸上トンネル 掘進工法
B3: フリガナ | D3: ='様式B(トンネル様式1P001)'!D3:G3 -> ミネトンネル | H3: 路線名 | J3: ='様式B(トンネル様式1P001)'!J3:M4 -> 一般国道 316号 | N3: 管理者名 | P3: ='様式B(トンネル様式1P001)'!P3:S4 -> 宇部土木建築事務所 | T3: 緊急輸送道路 | V3: あり | AA3: Ⅱ | AB3: なし | AC3: 陸上トンネル 開削工法
B4: 名 称 | D4: ='様式B(トンネル様式1P001)'!D4:G4 -> 美祢トンネル | T4: 代替路の有無 | V4: あり | AA4: Ⅲ | AC4: 陸上トンネル その他
B5: 所在地 | D5: 自 | E5: ='様式B(トンネル様式1P001)'!E5:G5 -> 山口県美祢市伊佐町 | H5: 定期点検業者 | K5: ='様式B(トンネル様式1P001)'!K5:N5 -> 株式会社ニュージェック | O5: 定期点検年月日 | Q5: ='様式B(トンネル様式1P001)'!Q5:S6 -> 44294 | T5: トンネル延長 | V5: L= | W5: ='様式A-1'!Z5 -> 1265 | Y5: ｍ | AA5: Ⅳ | AC5: 水底トンネル 掘進工法
D6: 至 | E6: ='様式B(トンネル様式1P001)'!E6:G6 -> 山口県美祢市伊佐町 | H6: 定期点検者名 | K6: ='様式B(トンネル様式1P001)'!K6:N6 -> 石村 勝伸 | T6: ﾄﾝﾈﾙの分類 | V6: 陸上トンネル 掘進工法 | AC6: 水底トンネル 沈埋工法
B7: 起点 | C7: 緯度 | D7: ='様式A-1'!E7 -> 340917.7 | F7: 変状・異常 箇所数合計 | H7: トンネル 本体工 | J7: 材質劣化 | L7: Ⅱ | M7: ='様式B(トンネル様式1P001)'!M7:M10 -> 109 | N7: Ⅲ | O7: ='様式B(トンネル様式1P001)'!O7:O10 -> 0 | P7: Ⅳ | Q7: ='様式B(トンネル様式1P001)'!Q7:Q10 -> 0 | R7: トンネル毎 の健全性 | T7: =様式F!AJ4 -> Ⅲ | V7: 附属物の 取付状態 | W7: ◯ （応急措置後） | Y7: ='様式B(トンネル様式1P001)'!Y7:Y12 -> 0 | AC7: 水底トンネル 開削工法
AC8: 水底トンネル その他
C10: 経度 | D10: ='様式A-1'!E8 -> 1311141.6
J11: 漏水 | L11: Ⅱ | M11: ='様式B(トンネル様式1P001)'!M11:M14 -> 55 | N11: Ⅲ | O11: ='様式B(トンネル様式1P001)'!O11:O14 -> 0 | P11: Ⅳ | Q11: ='様式B(トンネル様式1P001)'!Q11:Q14 -> 0
B13: 終点 | C13: 緯度 | D13: ='様式A-1'!E9 -> 340837.7 | W13: ✕ | Y13: ='様式B(トンネル様式1P001)'!Y13:Y18 -> 25
J15: 外力 | L15: Ⅱ | M15: ='様式B(トンネル様式1P001)'!M15:M18 -> 3 | N15: Ⅲ | O15: ='様式B(トンネル様式1P001)'!O15:O18 -> 3 | P15: Ⅳ | Q15: ='様式B(トンネル様式1P001)'!Q15:Q18 -> 0 | AC15: 0
C16: 経度 | D16: ='様式A-1'!E10 -> 1311156.1
B19: トンネル変状・異常箇所写真位置図
P26: 注１：本位置図は、見下げた状態で記載すること。 注２：覆工スパン番号は横断目地毎(矢板工法の場合は上半アーチ の横断目地毎)に設定すること。 注３：写真番号に付する変状番号は、各覆工スパンの変状に対して新た に確認された場合は順次追加していくこと。 注４：横断目地の変状は前の覆工スパン番号で計上すること。 注５：１枚に収まらない場合は、複数枚に分けて作成すること。
C28: ※1 トンネル本体工の変状数は、材質劣化、漏水に起因するものは変状単位で、外力に起因するものはスパン単位で計上すること。
C29: ※2 本体工の変状に対しては、健全性の判定区分Ⅱ～Ⅳについて添付すること。また、点検前に実施された措置によりⅠと判定された箇所も添付すること。
C30: ※3 附属物の取付状態の○欄については、応急措置前に判定区分×とした箇所のうち応急措置により○判定とした箇所の数を記入すること。
C31: ※4 附属物の異常番号は、本体工と番号が重複しないよう101番以降とする等の配慮を行い、分かりやすく記録すること。

Sheet 様式B(トンネル様式1P020)
B2: ■定期点検記録様式 トンネル変状・異常箇所写真位置図 | T2: トンネルID | V2: 34.15492.131.19489 | AA2: Ⅰ | AB2: あり | AC2: 陸上トンネル 掘進工法
B3: フリガナ | D3: ='様式B(トンネル様式1P001)'!D3:G3 -> ミネトンネル | H3: 路線名 | J3: ='様式B(トンネル様式1P001)'!J3:M4 -> 一般国道 316号 | N3: 管理者名 | P3: ='様式B(トンネル様式1P001)'!P3:S4 -> 宇部土木建築事務所 | T3: 緊急輸送道路 | V3: あり | AA3: Ⅱ | AB3: なし | AC3: 陸上トンネル 開削工法
B4: 名 称 | D4: ='様式B(トンネル様式1P001)'!D4:G4 -> 美祢トンネル | T4: 代替路の有無 | V4: あり | AA4: Ⅲ | AC4: 陸上トンネル その他
B5: 所在地 | D5: 自 | E5: ='様式B(トンネル様式1P001)'!E5:G5 -> 山口県美祢市伊佐町 | H5: 定期点検業者 | K5: ='様式B(トンネル様式1P001)'!K5:N5 -> 株式会社ニュージェック | O5: 定期点検年月日 | Q5: ='様式B(トンネル様式1P001)'!Q5:S6 -> 44294 | T5: トンネル延長 | V5: L= | W5: ='様式A-1'!Z5 -> 1265 | Y5: ｍ | AA5: Ⅳ | AC5: 水底トンネル 掘進工法
D6: 至 | E6: ='様式B(トンネル様式1P001)'!E6:G6 -> 山口県美祢市伊佐町 | H6: 定期点検者名 | K6: ='様式B(トンネル様式1P001)'!K6:N6 -> 石村 勝伸 | T6: ﾄﾝﾈﾙの分類 | V6: 陸上トンネル 掘進工法 | AC6: 水底トンネル 沈埋工法
B7: 起点 | C7: 緯度 | D7: ='様式A-1'!E7 -> 340917.7 | F7: 変状・異常 箇所数合計 | H7: トンネル 本体工 | J7: 材質劣化 | L7: Ⅱ | M7: ='様式B(トンネル様式1P001)'!M7:M10 -> 109 | N7: Ⅲ | O7: ='様式B(トンネル様式1P001)'!O7:O10 -> 0 | P7: Ⅳ | Q7: ='様式B(トンネル様式1P001)'!Q7:Q10 -> 0 | R7: トンネル毎 の健全性 | T7: =様式F!AJ4 -> Ⅲ | V7: 附属物の 取付状態 | W7: ◯ （応急措置後） | Y7: ='様式B(トンネル様式1P001)'!Y7:Y12 -> 0 | AC7: 水底トンネル 開削工法
AC8: 水底トンネル その他
C10: 経度 | D10: ='様式A-1'!E8 -> 1311141.6
J11: 漏水 | L11: Ⅱ | M11: ='様式B(トンネル様式1P001)'!M11:M14 -> 55 | N11: Ⅲ | O11: ='様式B(トンネル様式1P001)'!O11:O14 -> 0 | P11: Ⅳ | Q11: ='様式B(トンネル様式1P001)'!Q11:Q14 -> 0
B13: 終点 | C13: 緯度 | D13: ='様式A-1'!E9 -> 340837.7 | W13: ✕ | Y13: ='様式B(トンネル様式1P001)'!Y13:Y18 -> 25
J15: 外力 | L15: Ⅱ | M15: ='様式B(トンネル様式1P001)'!M15:M18 -> 3 | N15: Ⅲ | O15: ='様式B(トンネル様式1P001)'!O15:O18 -> 3 | P15: Ⅳ | Q15: ='様式B(トンネル様式1P001)'!Q15:Q18 -> 0 | AC15: 0
C16: 経度 | D16: ='様式A-1'!E10 -> 1311156.1
B19: トンネル変状・異常箇所写真位置図
P26: 注１：本位置図は、見下げた状態で記載すること。 注２：覆工スパン番号は横断目地毎(矢板工法の場合は上半アーチ の横断目地毎)に設定すること。 注３：写真番号に付する変状番号は、各覆工スパンの変状に対して新た に確認された場合は順次追加していくこと。 注４：横断目地の変状は前の覆工スパン番号で計上すること。 注５：１枚に収まらない場合は、複数枚に分けて作成すること。
C28: ※1 トンネル本体工の変状数は、材質劣化、漏水に起因するものは変状単位で、外力に起因するものはスパン単位で計上すること。
C29: ※2 本体工の変状に対しては、健全性の判定区分Ⅱ～Ⅳについて添付すること。また、点検前に実施された措置によりⅠと判定された箇所も添付すること。
C30: ※3 附属物の取付状態の○欄については、応急措置前に判定区分×とした箇所のうち応急措置により○判定とした箇所の数を記入すること。
C31: ※4 附属物の異常番号は、本体工と番号が重複しないよう101番以降とする等の配慮を行い、分かりやすく記録すること。

Sheet 様式B(トンネル様式1P021)
B2: ■定期点検記録様式 トンネル変状・異常箇所写真位置図 | T2: トンネルID | V2: 34.15492.131.19489 | AA2: Ⅰ | AB2: あり | AC2: 陸上トンネル 掘進工法
B3: フリガナ | D3: ='様式B(トンネル様式1P001)'!D3:G3 -> ミネトンネル | H3: 路線名 | J3: ='様式B(トンネル様式1P001)'!J3:M4 -> 一般国道 316号 | N3: 管理者名 | P3: ='様式B(トンネル様式1P001)'!P3:S4 -> 宇部土木建築事務所 | T3: 緊急輸送道路 | V3: あり | AA3: Ⅱ | AB3: なし | AC3: 陸上トンネル 開削工法
B4: 名 称 | D4: ='様式B(トンネル様式1P001)'!D4:G4 -> 美祢トンネル | T4: 代替路の有無 | V4: あり | AA4: Ⅲ | AC4: 陸上トンネル その他
B5: 所在地 | D5: 自 | E5: ='様式B(トンネル様式1P001)'!E5:G5 -> 山口県美祢市伊佐町 | H5: 定期点検業者 | K5: ='様式B(トンネル様式1P001)'!K5:N5 -> 株式会社ニュージェック | O5: 定期点検年月日 | Q5: ='様式B(トンネル様式1P001)'!Q5:S6 -> 44294 | T5: トンネル延長 | V5: L= | W5: ='様式A-1'!Z5 -> 1265 | Y5: ｍ | AA5: Ⅳ | AC5: 水底トンネル 掘進工法
D6: 至 | E6: ='様式B(トンネル様式1P001)'!E6:G6 -> 山口県美祢市伊佐町 | H6: 定期点検者名 | K6: ='様式B(トンネル様式1P001)'!K6:N6 -> 石村 勝伸 | T6: ﾄﾝﾈﾙの分類 | V6: 陸上トンネル 掘進工法 | AC6: 水底トンネル 沈埋工法
B7: 起点 | C7: 緯度 | D7: ='様式A-1'!E7 -> 340917.7 | F7: 変状・異常 箇所数合計 | H7: トンネル 本体工 | J7: 材質劣化 | L7: Ⅱ | M7: ='様式B(トンネル様式1P001)'!M7:M10 -> 109 | N7: Ⅲ | O7: ='様式B(トンネル様式1P001)'!O7:O10 -> 0 | P7: Ⅳ | Q7: ='様式B(トンネル様式1P001)'!Q7:Q10 -> 0 | R7: トンネル毎 の健全性 | T7: =様式F!AJ4 -> Ⅲ | V7: 附属物の 取付状態 | W7: ◯ （応急措置後） | Y7: ='様式B(トンネル様式1P001)'!Y7:Y12 -> 0 | AC7: 水底トンネル 開削工法
AC8: 水底トンネル その他
C10: 経度 | D10: ='様式A-1'!E8 -> 1311141.6
J11: 漏水 | L11: Ⅱ | M11: ='様式B(トンネル様式1P001)'!M11:M14 -> 55 | N11: Ⅲ | O11: ='様式B(トンネル様式1P001)'!O11:O14 -> 0 | P11: Ⅳ | Q11: ='様式B(トンネル様式1P001)'!Q11:Q14 -> 0
B13: 終点 | C13: 緯度 | D13: ='様式A-1'!E9 -> 340837.7 | W13: ✕ | Y13: ='様式B(トンネル様式1P001)'!Y13:Y18 -> 25
J15: 外力 | L15: Ⅱ | M15: ='様式B(トンネル様式1P001)'!M15:M18 -> 3 | N15: Ⅲ | O15: ='様式B(トンネル様式1P001)'!O15:O18 -> 3 | P15: Ⅳ | Q15: ='様式B(トンネル様式1P001)'!Q15:Q18 -> 0 | AC15: 0
C16: 経度 | D16: ='様式A-1'!E10 -> 1311156.1
B19: トンネル変状・異常箇所写真位置図
P26: 注１：本位置図は、見下げた状態で記載すること。 注２：覆工スパン番号は横断目地毎(矢板工法の場合は上半アーチ の横断目地毎)に設定すること。 注３：写真番号に付する変状番号は、各覆工スパンの変状に対して新た に確認された場合は順次追加していくこと。 注４：横断目地の変状は前の覆工スパン番号で計上すること。 注５：１枚に収まらない場合は、複数枚に分けて作成すること。
C28: ※1 トンネル本体工の変状数は、材質劣化、漏水に起因するものは変状単位で、外力に起因するものはスパン単位で計上すること。
C29: ※2 本体工の変状に対しては、健全性の判定区分Ⅱ～Ⅳについて添付すること。また、点検前に実施された措置によりⅠと判定された箇所も添付すること。
C30: ※3 附属物の取付状態の○欄については、応急措置前に判定区分×とした箇所のうち応急措置により○判定とした箇所の数を記入すること。
C31: ※4 附属物の異常番号は、本体工と番号が重複しないよう101番以降とする等の配慮を行い、分かりやすく記録すること。

Sheet 様式B(トンネル様式1P022)
B2: ■定期点検記録様式 トンネル変状・異常箇所写真位置図 | T2: トンネルID | V2: 34.15492.131.19489 | AA2: Ⅰ | AB2: あり | AC2: 陸上トンネル 掘進工法
B3: フリガナ | D3: ='様式B(トンネル様式1P001)'!D3:G3 -> ミネトンネル | H3: 路線名 | J3: ='様式B(トンネル様式1P001)'!J3:M4 -> 一般国道 316号 | N3: 管理者名 | P3: ='様式B(トンネル様式1P001)'!P3:S4 -> 宇部土木建築事務所 | T3: 緊急輸送道路 | V3: あり | AA3: Ⅱ | AB3: なし | AC3: 陸上トンネル 開削工法
B4: 名 称 | D4: ='様式B(トンネル様式1P001)'!D4:G4 -> 美祢トンネル | T4: 代替路の有無 | V4: あり | AA4: Ⅲ | AC4: 陸上トンネル その他
B5: 所在地 | D5: 自 | E5: ='様式B(トンネル様式1P001)'!E5:G5 -> 山口県美祢市伊佐町 | H5: 定期点検業者 | K5: ='様式B(トンネル様式1P001)'!K5:N5 -> 株式会社ニュージェック | O5: 定期点検年月日 | Q5: ='様式B(トンネル様式1P001)'!Q5:S6 -> 44294 | T5: トンネル延長 | V5: L= | W5: ='様式A-1'!Z5 -> 1265 | Y5: ｍ | AA5: Ⅳ | AC5: 水底トンネル 掘進工法
D6: 至 | E6: ='様式B(トンネル様式1P001)'!E6:G6 -> 山口県美祢市伊佐町 | H6: 定期点検者名 | K6: ='様式B(トンネル様式1P001)'!K6:N6 -> 石村 勝伸 | T6: ﾄﾝﾈﾙの分類 | V6: 陸上トンネル 掘進工法 | AC6: 水底トンネル 沈埋工法
B7: 起点 | C7: 緯度 | D7: ='様式A-1'!E7 -> 340917.7 | F7: 変状・異常 箇所数合計 | H7: トンネル 本体工 | J7: 材質劣化 | L7: Ⅱ | M7: ='様式B(トンネル様式1P001)'!M7:M10 -> 109 | N7: Ⅲ | O7: ='様式B(トンネル様式1P001)'!O7:O10 -> 0 | P7: Ⅳ | Q7: ='様式B(トンネル様式1P001)'!Q7:Q10 -> 0 | R7: トンネル毎 の健全性 | T7: =様式F!AJ4 -> Ⅲ | V7: 附属物の 取付状態 | W7: ◯ （応急措置後） | Y7: ='様式B(トンネル様式1P001)'!Y7:Y12 -> 0 | AC7: 水底トンネル 開削工法
AC8: 水底トンネル その他
C10: 経度 | D10: ='様式A-1'!E8 -> 1311141.6
J11: 漏水 | L11: Ⅱ | M11: ='様式B(トンネル様式1P001)'!M11:M14 -> 55 | N11: Ⅲ | O11: ='様式B(トンネル様式1P001)'!O11:O14 -> 0 | P11: Ⅳ | Q11: ='様式B(トンネル様式1P001)'!Q11:Q14 -> 0
B13: 終点 | C13: 緯度 | D13: ='様式A-1'!E9 -> 340837.7 | W13: ✕ | Y13: ='様式B(トンネル様式1P001)'!Y13:Y18 -> 25
J15: 外力 | L15: Ⅱ | M15: ='様式B(トンネル様式1P001)'!M15:M18 -> 3 | N15: Ⅲ | O15: ='様式B(トンネル様式1P001)'!O15:O18 -> 3 | P15: Ⅳ | Q15: ='様式B(トンネル様式1P001)'!Q15:Q18 -> 0 | AC15: 0
C16: 経度 | D16: ='様式A-1'!E10 -> 1311156.1
B19: トンネル変状・異常箇所写真位置図
P26: 注１：本位置図は、見下げた状態で記載すること。 注２：覆工スパン番号は横断目地毎(矢板工法の場合は上半アーチ の横断目地毎)に設定すること。 注３：写真番号に付する変状番号は、各覆工スパンの変状に対して新た に確認された場合は順次追加していくこと。 注４：横断目地の変状は前の覆工スパン番号で計上すること。 注５：１枚に収まらない場合は、複数枚に分けて作成すること。
C28: ※1 トンネル本体工の変状数は、材質劣化、漏水に起因するものは変状単位で、外力に起因するものはスパン単位で計上すること。
C29: ※2 本体工の変状に対しては、健全性の判定区分Ⅱ～Ⅳについて添付すること。また、点検前に実施された措置によりⅠと判定された箇所も添付すること。
C30: ※3 附属物の取付状態の○欄については、応急措置前に判定区分×とした箇所のうち応急措置により○判定とした箇所の数を記入すること。
C31: ※4 附属物の異常番号は、本体工と番号が重複しないよう101番以降とする等の配慮を行い、分かりやすく記録すること。

Sheet 様式B(トンネル様式1P023)
B2: ■定期点検記録様式 トンネル変状・異常箇所写真位置図 | T2: トンネルID | V2: 34.15492.131.19489 | AA2: Ⅰ | AB2: あり | AC2: 陸上トンネル 掘進工法
B3: フリガナ | D3: ='様式B(トンネル様式1P001)'!D3:G3 -> ミネトンネル | H3: 路線名 | J3: ='様式B(トンネル様式1P001)'!J3:M4 -> 一般国道 316号 | N3: 管理者名 | P3: ='様式B(トンネル様式1P001)'!P3:S4 -> 宇部土木建築事務所 | T3: 緊急輸送道路 | V3: あり | AA3: Ⅱ | AB3: なし | AC3: 陸上トンネル 開削工法
B4: 名 称 | D4: ='様式B(トンネル様式1P001)'!D4:G4 -> 美祢トンネル | T4: 代替路の有無 | V4: あり | AA4: Ⅲ | AC4: 陸上トンネル その他
B5: 所在地 | D5: 自 | E5: ='様式B(トンネル様式1P001)'!E5:G5 -> 山口県美祢市伊佐町 | H5: 定期点検業者 | K5: ='様式B(トンネル様式1P001)'!K5:N5 -> 株式会社ニュージェック | O5: 定期点検年月日 | Q5: ='様式B(トンネル様式1P001)'!Q5:S6 -> 44294 | T5: トンネル延長 | V5: L= | W5: ='様式A-1'!Z5 -> 1265 | Y5: ｍ | AA5: Ⅳ | AC5: 水底トンネル 掘進工法
D6: 至 | E6: ='様式B(トンネル様式1P001)'!E6:G6 -> 山口県美祢市伊佐町 | H6: 定期点検者名 | K6: ='様式B(トンネル様式1P001)'!K6:N6 -> 石村 勝伸 | T6: ﾄﾝﾈﾙの分類 | V6: 陸上トンネル 掘進工法 | AC6: 水底トンネル 沈埋工法
B7: 起点 | C7: 緯度 | D7: ='様式A-1'!E7 -> 340917.7 | F7: 変状・異常 箇所数合計 | H7: トンネル 本体工 | J7: 材質劣化 | L7: Ⅱ | M7: ='様式B(トンネル様式1P001)'!M7:M10 -> 109 | N7: Ⅲ | O7: ='様式B(トンネル様式1P001)'!O7:O10 -> 0 | P7: Ⅳ | Q7: ='様式B(トンネル様式1P001)'!Q7:Q10 -> 0 | R7: トンネル毎 の健全性 | T7: =様式F!AJ4 -> Ⅲ | V7: 附属物の 取付状態 | W7: ◯ （応急措置後） | Y7: ='様式B(トンネル様式1P001)'!Y7:Y12 -> 0 | AC7: 水底トンネル 開削工法
AC8: 水底トンネル その他
C10: 経度 | D10: ='様式A-1'!E8 -> 1311141.6
J11: 漏水 | L11: Ⅱ | M11: ='様式B(トンネル様式1P001)'!M11:M14 -> 55 | N11: Ⅲ | O11: ='様式B(トンネル様式1P001)'!O11:O14 -> 0 | P11: Ⅳ | Q11: ='様式B(トンネル様式1P001)'!Q11:Q14 -> 0
B13: 終点 | C13: 緯度 | D13: ='様式A-1'!E9 -> 340837.7 | W13: ✕ | Y13: ='様式B(トンネル様式1P001)'!Y13:Y18 -> 25
J15: 外力 | L15: Ⅱ | M15: ='様式B(トンネル様式1P001)'!M15:M18 -> 3 | N15: Ⅲ | O15: ='様式B(トンネル様式1P001)'!O15:O18 -> 3 | P15: Ⅳ | Q15: ='様式B(トンネル様式1P001)'!Q15:Q18 -> 0 | AC15: 0
C16: 経度 | D16: ='様式A-1'!E10 -> 1311156.1
B19: トンネル変状・異常箇所写真位置図
P26: 注１：本位置図は、見下げた状態で記載すること。 注２：覆工スパン番号は横断目地毎(矢板工法の場合は上半アーチ の横断目地毎)に設定すること。 注３：写真番号に付する変状番号は、各覆工スパンの変状に対して新た に確認された場合は順次追加していくこと。 注４：横断目地の変状は前の覆工スパン番号で計上すること。 注５：１枚に収まらない場合は、複数枚に分けて作成すること。
C28: ※1 トンネル本体工の変状数は、材質劣化、漏水に起因するものは変状単位で、外力に起因するものはスパン単位で計上すること。
C29: ※2 本体工の変状に対しては、健全性の判定区分Ⅱ～Ⅳについて添付すること。また、点検前に実施された措置によりⅠと判定された箇所も添付すること。
C30: ※3 附属物の取付状態の○欄については、応急措置前に判定区分×とした箇所のうち応急措置により○判定とした箇所の数を記入すること。
C31: ※4 附属物の異常番号は、本体工と番号が重複しないよう101番以降とする等の配慮を行い、分かりやすく記録すること。

Sheet 様式C-1-1
