Workbook
Name その他: '(参考)リスト'!$C$45
Name その他施設: '(参考)リスト'!$C$76:$C$80
Name 外力: '(参考)リスト'!$E$16:$E$23
Name 換気施設: '(参考)リスト'!$C$55:$C$59
Name 坑門: '(参考)リスト'!$C$16:$C$29
Name 材質劣化: '(参考)リスト'!$E$25:$E$30
Name 照明施設: '(参考)リスト'!$C$51:$C$53
Name 対象箇所: テーブル1[対象箇所]
Name 対象箇所: [1]!テーブル1[対象箇所]
Name 対象箇所: テーブル1[対象箇所]
Name 対象箇所: テーブル1[対象箇所]
Name 対象箇所: テーブル1[対象箇所]
Name 対象箇所: テーブル1[対象箇所]
Name 対象箇所: テーブル1[対象箇所]
Name 対象箇所: テーブル1[対象箇所]
Name 対象箇所: テーブル1[対象箇所]
Name 対象箇所: テーブル1[対象箇所]
Name 対象箇所: テーブル1[対象箇所]
Name 対象箇所: テーブル1[対象箇所]
Name 対象箇所: テーブル1[対象箇所]
Name 対象箇所: テーブル1[対象箇所]
Name 対象箇所: テーブル1[対象箇所]
Name 対象箇所: テーブル1[対象箇所]
Name 対象箇所: テーブル1[対象箇所]
Name 対象箇所: テーブル1[対象箇所]
Name 対象箇所: テーブル1[対象箇所]
Name 対象箇所: テーブル1[対象箇所]
Name 対象箇所: テーブル1[対象箇所]
Name 対象箇所: テーブル1[対象箇所]
Name 対象箇所: テーブル1[対象箇所]
Name 対象箇所: テーブル1[対象箇所]
Name 対象箇所: [2]!テーブル1[対象箇所]
Name 対象箇所: テーブル1[対象箇所]
Name 天井板: '(参考)リスト'!$C$34:$C$36
Name 内装板: '(参考)リスト'!$C$31:$C$32
Name 非常用施設: '(参考)リスト'!$C$61:$C$74
Name 覆工: '(参考)リスト'!$C$16:$C$29
Name 覆工・坑門: '(参考)リスト'!$C$16:$C$29
Name 路面: '(参考)リスト'!$C$38:$C$43
Name 漏水: '(参考)リスト'!$E$32:$E$38

Sheet 点検様式作成フロー
A1: 点検様式作成フロ-
A3: 作成フロー図 | H3: 点検調書作成手順
H4: ①様式A-1～A-3（トンネル台帳）
H5: トンネル点検の実施にあたっては，現場点検作業に先行してトンネル情報を収集する。トンネル台帳（様式Ａ－1～様式Ａ－3）はトンネル完成後に作成され，維持管理の段階で引き継がれるが，関連資料等を確認したうえで，追加情報があれば必要に応じて追記することが望ましい。
H9: ②様式D-2-1、様式D-2-1´
H10: 現場点検作業を実施し，近接目視点検で確認した変状状況や補修履歴を忠実に変状展開図に転記する
H12: ③様式D-1-1、様式D-1-2
H13: 変状展開図や撮影した写真等をもとに，対象トンネルの対策区分を判定し，対策区分の判定区分がⅡ～Ⅳの変状および異常判定区分「×」を抽出し，写真台帳を作成する
H16: ④様式B
H17: 写真台帳の作成と同時に，トンネルの構造を展開した位置図に変状写真位置を記録する
H19: ⑤様式D-3
H20: 変状展開図ならびに写真台帳をもとに覆工スパンごとの変状展開図を作成し，変状発生状況をとりまとめる
H22: ⑥様式E-1、様式E-2
H23: 様式Ｄ－1～様式Ｄ－3をもとに，健全性の診断結果を集計する
... H31: ファイルは以下の分割規則に従う。 ※各ファイルとも （参考）リスト のシートを付けて保存すること。 ・様式A-1～A-3は同一ファイルとする。 ・様式B、D-1-1、D-1-2、D-2-1（もしくはD-2-1'）、Eは別ファイルとする。 ・様式C-1-1,C-1-2、C-2は同一ファイルとする。 ・様式D-3、E、Fは同一ファイルとする。

Sheet 変状面積算出方法
A1: 変状面積算出方法
A26: 注1）外力による変状：ひび割れや圧ざの場合は変状の寸法を記録する。
A27: 例）ひび割れ：長さ（L）×最大ひび割れ幅（t）を記録する。 変形，移動，沈下：数値的な記載が可能な場合のみ記載する。
A28: 注2）材料劣化による：打音異常
A29: 例）うき，はく離（閉合ひび割れ）：変状範囲を包括する寸法（L×W） うき，はく離（ひび割れ沿い）：打音異常箇所を包括する寸法（L×W） 鋼材腐食（鉄筋腐食）：一括した対策が適当と考えられる範囲を包括する寸法（L×W）
A30: 注3）漏水による変状：漏水発生範囲を包括し，垂れ下がりの可能性がある側壁下端まで含めた寸法を，L×Wで記録する。打継ぎ目地沿いの 漏水については目地を跨いだ50cm幅を横幅とする。

Sheet 様式A-1
B2: ■トンネル台帳 トンネル諸元、非常用施設諸元 【様式A-1】 | S2: トンネルID | W2: 34.15492.131.19489
B3: フリガナ | D3: ミネトンネル | H3: 路線名 | J3: 一般国道 316号 | P3: 管理者名 | R3: 宇部土木建築事務所 | W3: 緊急輸送道路 | Z3: 有
B4: 名 称 | D4: 美祢トンネル | W4: 代替路の有無 | Z4: 有
B5: 所在地 | D5: 自 | E5: 山口県美祢市伊佐町 | H5: 作成者 | K5: 株式会社ニュージェック | P5: 作成年月日 | R5: 44347 | U5: トンネル延長 | X5: L= | Z5: 1265 | AB5: ｍ
D6: 至 | E6: 山口県美祢市東厚保町 | U6: ﾄﾝﾈﾙの分類 | X6: 陸上トンネル（掘進工法）
B7: 起点 | C7: 緯度 | E7: 340917.7 | H7: 完成年月日 | K7: 1984年 | M7: 舗装 | O7: 種 別 | Q7: コンクリート系 | S7: トンネル非常用施設 | T7: 施設の内訳 | X7: 種別・方式 | Y7: 型式 | Z7: 個数 | AA7: 更新年度 | AE7: =INT(E7/10000) -> 34 | AF7: =INT(E7/100)-AE7*100 -> 9 | AG7: =E7-AE7*10000-AF7*100 -> 17.7 | AH7: =ROUND(AE7+AF7/60+AG7/60/60,5) -> 34.15492 | AI7: =TEXT(AH7,"0.00000") -> 34.15492
C8: 経度 | E8: 1311141.6 | H8: 供用年月日 | K8: - | O8: 厚 さ | Q8: - | T8: 通報設備 | U8: 通話型通報設備 | X8: 非常用電話 | Z8: 8 | AE8: =INT(E8/10000) -> 131 | AF8: =INT(E8/100)-AE8*100 -> 11 | AG8: =E8-AE8*10000-AF8*100 -> 41.6 | AH8: =ROUND(AE8+AF8/60+AG8/60/60,5) -> 131.19489 | AI8: =TEXT(AH8,"0.00000") -> 131.19489
B9: 終点 | C9: 緯度 | E9: 340837.7 | H9: トンネル区分 | K9: B | O9: 面 積 | Q9: - | U9: 操作型通報設備 | X9: 押ボタン通報装置 | Z9: 27
C10: 経度 | E10: 1311156.1 | H10: 内装種類 | K10: 覆工（内装あり） | O10: 更新年次 | Q10: - | U10: 自動通報設備
B11: 一般有料区分 | E11: 一般（無料） | H11: 天井板種類 | K11: 覆工（内装あり） | M11: 排水 | O11: 種 別 | Q11: - | T11: 警報設備 | U11: 非常警報設備
B12: 土かぶり | E12: - | G12: m | H12: 坑門 | I12: 起点 | J12: 形式 | K12: 面壁型 | O12: 更新年次 | Q12: - | T12: 消火設備 | U12: 消 火 器 | X12: 消火器 | Z12: 27
B13: 内空断面積 | E13: - | G13: ㎡ | J13: 延長 | K13: - | L13: m | M13: 施設 | P13: 種別・方式 | Q13: 個数 | R13: 更新年次 | U13: 消火栓設備
B14: 交 通 量 | E14: 1281 | G14: 台/12h | I14: 終点 | J14: 形式 | K14: 面壁型 | M14: 道路附属物等 | N14: 照明 | P14: ナトリウム灯 | Q14: 186 | T14: 避難誘導設備 | U14: 誘導表示設備
C15: 道 路 幅 | E15: 9.25 | G15: m | J15: 延長 | K15: - | L15: m | N15: 換気 | P15: 自然換気 | U15: 避難情報提供設備
B16: 幅 員 | C16: 車 道 幅 | E16: 3 | G16: m | H16: 竣工巻厚 | I16: アーチ | K16: - | L16: cm | N16: 標識
E17: 3 | I17: 側 壁 | K17: - | L17: cm | N17: 警報表示板 | U17: 避難通路
C18: 歩道等幅 | E18: 2.25 | G18: m | K18: - | L18: cm | N18: 吸音板 | U18: 排煙設備
B19: 高さ | C19: 建築限界高 | E19: - | G19: m | I19: インバート | K19: - | L19: cm | T19: その他の設備 | U19: 給水栓設備
C20: 中央高 | E20: - | G20: m | H20: 半径 | I20: アーチ | K20: - | L20: cm | U20: 無線通信補助設備
C21: 有効高 | E21: 4.5 | G21: m | I21: 側 壁 | K21: - | L21: cm | U21: 水噴霧設備
C22: 縦断勾配 | E22: - | I22: インバート | K22: - | L22: cm | U22: 監視設備
B23: 線 形 | C23: 直線区間長 | E23: - | H23: 占用物件 | I23: 種 類 | K23: 寸 法 | M23: 管理者名 | Q23: 更新年次 | S23: 非常用施設 関連設備 | U23: 予備発電設備
C24: 曲線区間 | D24: 区間長 | F24: -
D25: 起点側ｸﾛｿｲﾄﾞ | F25: -
D26: 曲線半径 | F26: -
D27: 終点側ｸﾛｿｲﾄﾞ | F27: - | S27: その他 | U27: 非常駐車帯 | X27: 非常駐車帯 | Z27: 2
B28: トンネル工法 | E28: 矢板工法 | U28: 方向転換所
C29: ※緯度・経度については、秒の少数第二位の単位まで記入すること。（例；36度20分35.56秒の場合、362035.36と入力）

Sheet 様式A-2
B3: ■トンネル台帳 トンネル情報一覧表 【様式A-2】
B4: フリガナ | E4: ='様式A-1'!D3 -> ミネトンネル | J4: 路線名 | M4: ='様式A-1'!J3 -> 一般国道 316号 | S4: 作成者 | Y4: ='様式A-1'!K5 -> 株式会社ニュージェック | AE4: 作成年月日 | AI4: ='様式A-1'!R5 -> 44347
B5: 名 称 | E5: ='様式A-1'!D4 -> 美祢トンネル | J5: 管理者名 | M5: ='様式A-1'!R3 -> 宇部土木建築事務所
B6: 覆工 ｽﾊﾟﾝ 番号 | C6: ｽﾊﾟﾝ長 | D6: 追加距離 | F6: トンネル本体工 | K6: 照明施設 | O6: 非常用施設 | AE6: 換気施設 | AK6: その他附属物等
O7: ='様式A-1'!T8 -> 通報設備 | R7: ='様式A-1'!T11 -> 警報設備 | S7: ='様式A-1'!T12 -> 消火設備 | U7: ='様式A-1'!T14 -> 避難誘導設備 | Y7: ='様式A-1'!T19 -> その他の設備 | AC7: 特記事項
D8: 起点側 | E8: 終点側 | F8: 特記事項 | I8: 内装板 | J8: 天井板 | K8: 基本照明 | L8: 入口出口照明 | M8: 特記事項 | O8: ='様式A-1'!U8 -> 通話型通報設備 | P8: ='様式A-1'!U9 -> 操作型通報設備 | Q8: ='様式A-1'!U10 -> 自動通報設備 | R8: ='様式A-1'!U11 -> 非常警報設備 | S8: ='様式A-1'!U12 -> 消 火 器 | T8: ='様式A-1'!U13 -> 消火栓設備 | U8: ='様式A-1'!U14 -> 誘導表示設備 | V8: ='様式A-1'!U15 -> 避難情報提供設備 | W8: ='様式A-1'!U17 -> 避難通路 | X8: ='様式A-1'!U18 -> 排煙設備 | Y8: ='様式A-1'!U19 -> 給水栓設備 | Z8: ='様式A-1'!U20 -> 無線通信補助設備 | AA8: ='様式A-1'!U21 -> 水噴霧設備 | AB8: ='様式A-1'!U22 -> 監視設備 | AE8: JF | AF8: VI計 | AG8: CO計 | AH8: 風向 風速計 | AI8: 特記事項
C9: (m) | D9: (m) | E9: (m)
B10: PS | C10: 5 | D10: 0 | E10: =C10+D10 -> 5 | I10: ○ | K10: ○
B11: S001 | C11: 10.5 | D11: =E10 -> 5 | E11: =C11+D11 -> 15.5 | I11: ○ | K11: ○
B12: S002 | C12: 10.5 | D12: =E11 -> 15.5 | E12: =C12+D12 -> 26 | I12: ○ | K12: ○ | U12: 〇
B13: S003 | C13: 10.5 | D13: =E12 -> 26 | E13: =C13+D13 -> 36.5 | I13: ○ | K13: ○
B14: S004 | C14: 10.5 | D14: =E13 -> 36.5 | E14: =C14+D14 -> 47 | I14: ○ | K14: ○
B15: S005 | C15: 10.5 | D15: =E14 -> 47 | E15: =C15+D15 -> 57.5 | I15: ○ | K15: ○ | S15: 〇 | U15: 〇
B16: S006 | C16: 10.5 | D16: =E15 -> 57.5 | E16: =C16+D16 -> 68 | I16: ○ | K16: ○
B17: S007 | C17: 3.5 | D17: =E16 -> 68 | E17: =C17+D17 -> 71.5 | I17: ○ | K17: ○
B18: S008 | C18: 10.6 | D18: =E17 -> 71.5 | E18: =C18+D18 -> 82.1 | I18: ○ | K18: ○ | U18: 〇
B19: S009 | C19: 10.5 | D19: =E18 -> 82.1 | E19: =C19+D19 -> 92.6 | I19: ○ | K19: ○
B20: S010 | C20: 10.5 | D20: =E19 -> 92.6 | E20: =C20+D20 -> 103.1 | I20: ○ | K20: ○ | O20: 〇 | S20: 〇
B21: S011 | C21: 10.6 | D21: =E20 -> 103.1 | E21: =C21+D21 -> 113.7 | I21: ○ | K21: ○
B22: S012 | C22: 10.5 | D22: =E21 -> 113.7 | E22: =C22+D22 -> 124.2 | I22: ○ | K22: ○ | U22: 〇
B23: S013 | C23: 10.5 | D23: =E22 -> 124.2 | E23: =C23+D23 -> 134.7 | I23: ○ | K23: ○ | U23: 〇
B24: S014 | C24: 10.6 | D24: =E23 -> 134.7 | E24: =C24+D24 -> 145.3 | I24: ○ | K24: ○
B25: S015 | C25: 10.4 | D25: =E24 -> 145.3 | E25: =C25+D25 -> 155.7 | I25: ○ | K25: ○ | S25: 〇 | U25: 〇
B26: S016 | C26: 10.5 | D26: =E25 -> 155.7 | E26: =C26+D26 -> 166.2 | I26: ○ | K26: ○
B27: S017 | C27: 10.5 | D27: =E26 -> 166.2 | E27: =C27+D27 -> 176.7 | I27: ○ | K27: ○ | U27: 〇
B28: S018 | C28: 10.5 | D28: =E27 -> 176.7 | E28: =C28+D28 -> 187.2 | I28: ○ | K28: ○
B29: S019 | C29: 10.5 | D29: =E28 -> 187.2 | E29: =C29+D29 -> 197.7 | I29: ○ | K29: ○ | S29: 〇 | U29: 〇
B30: S020 | C30: 10.6 | D30: =E29 -> 197.7 | E30: =C30+D30 -> 208.3 | I30: ○ | K30: ○
B31: S021 | C31: 10.5 | D31: =E30 -> 208.3 | E31: =C31+D31 -> 218.8 | I31: ○ | U31: 〇
B32: S022 | C32: 10.5 | D32: =E31 -> 218.8 | E32: =C32+D32 -> 229.3 | I32: ○ | K32: ○
B33: S023 | C33: 10.5 | D33: =E32 -> 229.3 | E33: =C33+D33 -> 239.8 | I33: ○ | K33: ○ | U33: 〇
B34: S024 | C34: 10.5 | D34: =E33 -> 239.8 | E34: =C34+D34 -> 250.3 | I34: ○ | K34: ○ | S34: 〇
B35: S025 | C35: 10.5 | D35: =E34 -> 250.3 | E35: =C35+D35 -> 260.8 | I35: ○
B36: S026 | C36: 10.5 | D36: =E35 -> 260.8 | E36: =C36+D36 -> 271.3 | I36: ○ | K36: ○ | U36: 〇
B37: S027 | C37: 10.5 | D37: =E36 -> 271.3 | E37: =C37+D37 -> 281.8 | I37: ○ | K37: ○
B38: S028 | C38: 10.5 | D38: =E37 -> 281.8 | E38: =C38+D38 -> 292.3 | I38: ○ | K38: ○ | S38: 〇 | U38: 〇
B39: S029 | C39: 10.5 | D39: =E38 -> 292.3 | E39: =C39+D39 -> 302.8 | I39: ○ | K39: ○
B40: S030 | C40: 10.5 | D40: =E39 -> 302.8 | E40: =C40+D40 -> 313.3 | I40: ○ | U40: 〇
B41: S031 | C41: 10.5 | D41: =E40 -> 313.3 | E41: =C41+D41 -> 323.8 | I41: ○ | K41: ○
B42: S032 | C42: 10.5 | D42: =E41 -> 323.8 | E42: =C42+D42 -> 334.3 | I42: ○ | K42: ○ | U42: 〇
B43: S033 | C43: 10.6 | D43: =E42 -> 334.3 | E43: =C43+D43 -> 344.9 | I43: ○ | K43: ○ | S43: 〇 | U43: 〇
B44: S034 | C44: 10.6 | D44: =E43 -> 344.9 | E44: =C44+D44 -> 355.5 | I44: ○
B45: ※ 行が不足する場合は、適時、表の行を増やすこと。
B46: S035 | C46: 10.6 | D46: =E44 -> 355.5 | E46: =C46+D46 -> 366.1 | I46: ○ | K46: ○ | U46: 〇
B47: S036 | C47: 10.6 | D47: =E46 -> 366.1 | E47: =C47+D47 -> 376.7 | I47: ○ | K47: ○
B48: S037 | C48: 10.6 | D48: =E47 -> 376.7 | E48: =C48+D48 -> 387.3 | I48: ○ | K48: ○ | S48: 〇 | U48: 〇
B49: S038 | C49: 10.6 | D49: =E48 -> 387.3 | E49: =C49+D49 -> 397.9 | I49: ○
B50: S039 | C50: 10.6 | D50: =E49 -> 397.9 | E50: =C50+D50 -> 408.5 | I50: ○ | K50: ○ | U50: 〇
B51: S040 | C51: 10.5 | D51: =E50 -> 408.5 | E51: =C51+D51 -> 419 | I51: ○ | K51: ○
B52: S041 | C52: 10.5 | D52: =E51 -> 419 | E52: =C52+D52 -> 429.5 | I52: ○ | K52: ○ | U52: 〇
B53: S042 | C53: 10.5 | D53: =E52 -> 429.5 | E53: =C53+D53 -> 440 | I53: ○ | K53: ○ | S53: 〇
B54: S043 | C54: 10.5 | D54: =E53 -> 440 | E54: =C54+D54 -> 450.5 | I54: ○ | U54: 〇
B55: S044 | C55: 10.6 | D55: =E54 -> 450.5 | E55: =C55+D55 -> 461.1 | I55: ○ | K55: ○ | U55: 〇
B56: S045 | C56: 2.8 | D56: =E55 -> 461.1 | E56: =C56+D56 -> 463.9 | I56: ○
B57: S046 | C57: 10.5 | D57: =E56 -> 463.9 | E57: =C57+D57 -> 474.4 | I57: ○ | K57: ○ | U57: 〇
B58: S047 | C58: 10.6 | D58: =E57 -> 474.4 | E58: =C58+D58 -> 485 | I58: ○ | K58: ○ | O58: 〇 | S58: 〇
B59: S048 | C59: 10.6 | D59: =E58 -> 485 | E59: =C59+D59 -> 495.6 | I59: ○ | K59: ○ | U59: 〇
B60: S049 | C60: 10.3 | D60: =E59 -> 495.6 | E60: =C60+D60 -> 505.9 | I60: ○ | U60: 〇
B61: S050 | C61: 5.6 | D61: =E60 -> 505.9 | E61: =C61+D61 -> 511.5 | I61: ○ | K61: ○
B62: S051 | C62: 6 | D62: =E61 -> 511.5 | E62: =C62+D62 -> 517.5 | I62: ○ | K62: ○
B63: S052 | C63: 6 | D63: =E62 -> 517.5 | E63: =C63+D63 -> 523.5 | I63: ○ | K63: ○ | O63: 〇 | S63: 〇
B64: S053 | C64: 6 | D64: =E63 -> 523.5 | E64: =C64+D64 -> 529.5 | I64: ○ | K64: ○ | U64: 〇
B65: S054 | C65: 6 | D65: =E64 -> 529.5 | E65: =C65+D65 -> 535.5 | I65: ○ | K65: ○
B66: S055 | C66: 9 | D66: =E65 -> 535.5 | E66: =C66+D66 -> 544.5 | I66: ○
B67: S056 | C67: 10.6 | D67: =E66 -> 544.5 | E67: =C67+D67 -> 555.1 | I67: ○ | K67: ○ | S67: 〇 | U67: 〇
B68: S057 | C68: 10.6 | D68: =E67 -> 555.1 | E68: =C68+D68 -> 565.7 | I68: ○ | K68: ○ | U68: 〇
B69: S058 | C69: 10.6 | D69: =E68 -> 565.7 | E69: =C69+D69 -> 576.3 | I69: ○ | K69: ○ | U69: 〇
B70: S059 | C70: 10.6 | D70: =E69 -> 576.3 | E70: =C70+D70 -> 586.9 | I70: ○
B71: S060 | C71: 10.6 | D71: =E70 -> 586.9 | E71: =C71+D71 -> 597.5 | I71: ○ | K71: ○ | U71: 〇
B72: S061 | C72: 10.6 | D72: =E71 -> 597.5 | E72: =C72+D72 -> 608.1 | I72: ○ | K72: ○ | S72: 〇
B73: S062 | C73: 10.6 | D73: =E72 -> 608.1 | E73: =C73+D73 -> 618.7 | I73: ○ | K73: ○
B74: S063 | C74: 10.6 | D74: =E73 -> 618.7 | E74: =C74+D74 -> 629.3 | I74: ○ | K74: ○ | U74: 〇
B75: S064 | C75: 10.6 | D75: =E74 -> 629.3 | E75: =C75+D75 -> 639.9 | I75: ○
B76: S065 | C76: 10.6 | D76: =E75 -> 639.9 | E76: =C76+D76 -> 650.5 | I76: ○ | K76: ○ | O76: 〇 | S76: 〇
B77: S066 | C77: 10.6 | D77: =E76 -> 650.5 | E77: =C77+D77 -> 661.1 | I77: ○ | K77: ○
B78: S067 | C78: 10.5 | D78: =E77 -> 661.1 | E78: =C78+D78 -> 671.6 | I78: ○ | K78: ○ | U78: 〇
B79: S068 | C79: 10.5 | D79: =E78 -> 671.6 | E79: =C79+D79 -> 682.1 | I79: ○
B80: S069 | C80: 10.5 | D80: =E79 -> 682.1 | E80: =C80+D80 -> 692.6 | I80: ○ | K80: ○
B81: ※ 行が不足する場合は、適時、表の行を増やすこと。
B82: S070 | C82: 10.5 | D82: =E80 -> 692.6 | E82: =C82+D82 -> 703.1 | I82: ○ | K82: ○ | S82: 〇 | U82: 〇
B83: S071 | C83: 10.5 | D83: =E82 -> 703.1 | E83: =C83+D83 -> 713.6 | I83: ○ | K83: ○
B84: S072 | C84: 10.6 | D84: =E83 -> 713.6 | E84: =C84+D84 -> 724.2 | I84: ○ | K84: ○ | U84: 〇
B85: S073 | C85: 10.6 | D85: =E84 -> 724.2 | E85: =C85+D85 -> 734.8 | I85: ○ | U85: 〇
B86: S074 | C86: 10.6 | D86: =E85 -> 734.8 | E86: =C86+D86 -> 745.4 | I86: ○ | K86: ○ | S86: 〇
B87: S075 | C87: 10.6 | D87: =E86 -> 745.4 | E87: =C87+D87 -> 756 | I87: ○ | K87: ○ | U87: 〇
B88: S076 | C88: 10.6 | D88: =E87 -> 756 | E88: =C88+D88 -> 766.6 | I88: ○ | K88: ○
B89: S077 | C89: 10.6 | D89: =E88 -> 766.6 | E89: =C89+D89 -> 777.2 | I89: ○ | U89: 〇
B90: S078 | C90: 10.6 | D90: =E89 -> 777.2 | E90: =C90+D90 -> 787.8 | I90: ○ | K90: ○
B91: S079 | C91: 10.6 | D91: =E90 -> 787.8 | E91: =C91+D91 -> 798.4 | I91: ○ | K91: ○ | S91: 〇 | U91: 〇
B92: S080 | C92: 10.2 | D92: =E91 -> 798.4 | E92: =C92+D92 -> 808.6 | I92: ○ | K92: ○
B93: S081 | C93: 5.9 | D93: =E92 -> 808.6 | E93: =C93+D93 -> 814.5 | I93: ○ | K93: ○
B94: S082 | C94: 6 | D94: =E93 -> 814.5 | E94: =C94+D94 -> 820.5 | I94: ○ | K94: ○
B95: S083 | C95: 6 | D95: =E94 -> 820.5 | E95: =C95+D95 -> 826.5 | I95: ○ | K95: ○ | O95: 〇 | S95: 〇
B96: S084 | C96: 6.1 | D96: =E95 -> 826.5 | E96: =C96+D96 -> 832.6 | I96: ○ | K96: ○
B97: S085 | C97: 6.1 | D97: =E96 -> 832.6 | E97: =C97+D97 -> 838.7 | I97: ○ | K97: ○
B98: S086 | C98: 10.2 | D98: =E97 -> 838.7 | E98: =C98+D98 -> 848.9 | I98: ○ | K98: ○ | U98: 〇
B99: S087 | C99: 10.6 | D99: =E98 -> 848.9 | E99: =C99+D99 -> 859.5 | I99: ○ | K99: ○
B100: S088 | C100: 10.6 | D100: =E99 -> 859.5 | E100: =C100+D100 -> 870.1 | I100: ○ | S100: 〇
B101: S089 | C101: 10.6 | D101: =E100 -> 870.1 | E101: =C101+D101 -> 880.7 | I101: ○ | K101: ○ | U101: 〇
B102: S090 | C102: 10.6 | D102: =E101 -> 880.7 | E102: =C102+D102 -> 891.3 | I102: ○ | K102: ○
...

Sheet 様式A-3
B3: ■トンネル台帳 トンネル記録（位置図、断面図、施工実績他）【様式A-3】
B4: フリガナ | E4: ='[1]様式A-1'!D3 -> ミネトンネル | J4: 路線名 | M4: ='[1]様式A-1'!J3 -> 一般国道 316号 | S4: 作成者 | W4: ='[1]様式A-1'!K5 -> 株式会社ニュージェック | AC4: 作成年月日 | AF4: ='様式A-1'!R5 -> 44347
B5: 名 称 | E5: ='[1]様式A-1'!D4 -> 美祢トンネル | J5: 管理者名 | M5: ='[1]様式A-1'!R3 -> 山口県 宇部土木建築事務所
B6: 位置図・現況写真・標準断面図・地質縦断図・施工実績

Sheet 様式B(トンネル様式1P001)
B2: ■定期点検記録様式 トンネル変状・異常箇所写真位置図 | T2: トンネルID | V2: 34.15492.131.19489 | AA2: Ⅰ | AB2: あり | AC2: 陸上トンネル 掘進工法
B3: フリガナ | D3: ミネトンネル | H3: 路線名 | J3: 一般国道 316号 | N3: 管理者名 | P3: 宇部土木建築事務所 | T3: 緊急輸送道路 | V3: あり | AA3: Ⅱ | AB3: なし | AC3: 陸上トンネル 開削工法
B4: 名 称 | D4: 美祢トンネル | T4: 代替路の有無 | V4: あり | AA4: Ⅲ | AC4: 陸上トンネル その他
B5: 所在地 | D5: 自 | E5: 山口県美祢市伊佐町 | H5: 定期点検業者 | K5: 株式会社ニュージェック | O5: 定期点検年月日 | Q5: 44294 | T5: トンネル延長 | V5: L= | W5: ='様式A-1'!Z5 -> 1265 | Y5: ｍ | AA5: Ⅳ | AC5: 水底トンネル 掘進工法
D6: 至 | E6: 山口県美祢市伊佐町 | H6: 定期点検者名 | K6: 石村 勝伸 | T6: ﾄﾝﾈﾙの分類 | V6: 陸上トンネル 掘進工法 | AC6: 水底トンネル 沈埋工法
B7: 起点 | C7: 緯度 | D7: ='様式A-1'!E7 -> 340917.7 | F7: 変状・異常 箇所数合計 | H7: トンネル 本体工 | J7: 材質劣化 | L7: Ⅱ | M7: 109 | N7: Ⅲ | O7: 0 | P7: Ⅳ | Q7: 0 | R7: トンネル毎 の健全性 | T7: =様式F!AJ4 -> Ⅲ | V7: 附属物の 取付状態 | W7: ◯ （応急措置後） | Y7: 0 | AC7: 水底トンネル 開削工法
AC8: 水底トンネル その他
C10: 経度 | D10: ='様式A-1'!E8 -> 1311141.6
J11: 漏水 | L11: Ⅱ | M11: 55 | N11: Ⅲ | O11: 0 | P11: Ⅳ | Q11: 0
B13: 終点 | C13: 緯度 | D13: ='様式A-1'!E9 -> 340837.7 | W13: ✕ | Y13: 25
J15: 外力 | L15: Ⅱ | M15: 3 | N15: Ⅲ | O15: 3 | P15: Ⅳ | Q15: 0 | AC15: 0
C16: 経度 | D16: ='様式A-1'!E10 -> 1311156.1
B19: トンネル変状・異常箇所写真位置図
P26: 注１：本位置図は、見下げた状態で記載すること。 注２：覆工スパン番号は横断目地毎(矢板工法の場合は上半アーチ の横断目地毎)に設定すること。 注３：写真番号に付する変状番号は、各覆工スパンの変状に対して新た に確認された場合は順次追加していくこと。 注４：横断目地の変状は前の覆工スパン番号で計上すること。 注５：１枚に収まらない場合は、複数枚に分けて作成すること。
C28: ※1 トンネル本体工の変状数は、材質劣化、漏水に起因するものは変状単位で、外力に起因するものはスパン単位で計上すること。
C29: ※2 本体工の変状に対しては、健全性の判定区分Ⅱ～Ⅳについて添付すること。また、点検前に実施された措置によりⅠと判定された箇所も添付すること。
C30: ※3 附属物の取付状態の○欄については、応急措置前に判定区分×とした箇所のうち応急措置により○判定とした箇所の数を記入すること。
C31: ※4 附属物の異常番号は、本体工と番号が重複しないよう101番以降とする等の配慮を行い、分かりやすく記録すること。

Sheet 様式B(トンネル様式1P002)
B2: ■定期点検記録様式 トンネル変状・異常箇所写真位置図 | T2: トンネルID | V2: 34.15492.131.19489 | AA2: Ⅰ | AB2: あり | AC2: 陸上トンネル 掘進工法
B3: フリガナ | D3: ='様式B(トンネル様式1P001)'!D3:G3 -> ミネトンネル | H3: 路線名 | J3: ='様式B(トンネル様式1P001)'!J3:M4 -> 一般国道 316号 | N3: 管理者名 | P3: ='様式B(トンネル様式1P001)'!P3:S4 -> 宇部土木建築事務所 | T3: 緊急輸送道路 | V3: あり | AA3: Ⅱ | AB3: なし | AC3: 陸上トンネル 開削工法
B4: 名 称 | D4: ='様式B(トンネル様式1P001)'!D4:G4 -> 美祢トンネル | T4: 代替路の有無 | V4: あり | AA4: Ⅲ | AC4: 陸上トンネル その他
B5: 所在地 | D5: 自 | E5: ='様式B(トンネル様式1P001)'!E5:G5 -> 山口県美祢市伊佐町 | H5: 定期点検業者 | K5: ='様式B(トンネル様式1P001)'!K5:N5 -> 株式会社ニュージェック | O5: 定期点検年月日 | Q5: ='様式B(トンネル様式1P001)'!Q5:S6 -> 44294 | T5: トンネル延長 | V5: L= | W5: ='様式A-1'!Z5 -> 1265 | Y5: ｍ | AA5: Ⅳ | AC5: 水底トンネル 掘進工法
D6: 至 | E6: ='様式B(トンネル様式1P001)'!E6:G6 -> 山口県美祢市伊佐町 | H6: 定期点検者名 | K6: ='様式B(トンネル様式1P001)'!K6:N6 -> 石村 勝伸 | T6: ﾄﾝﾈﾙの分類 | V6: 陸上トンネル 掘進工法 | AC6: 水底トンネル 沈埋工法
B7: 起点 | C7: 緯度 | D7: ='様式A-1'!E7 -> 340917.7 | F7: 変状・異常 箇所数合計 | H7: トンネル 本体工 | J7: 材質劣化 | L7: Ⅱ | M7: ='様式B(トンネル様式1P001)'!M7:M10 -> 109 | N7: Ⅲ | O7: ='様式B(トンネル様式1P001)'!O7:O10 -> 0 | P7: Ⅳ | Q7: ='様式B(トンネル様式1P001)'!Q7:Q10 -> 0 | R7: トンネル毎 の健全性 | T7: =様式F!AJ4 -> Ⅲ | V7: 附属物の 取付状態 | W7: ◯ （応急措置後） | Y7: ='様式B(トンネル様式1P001)'!Y7:Y12 -> 0 | AC7: 水底トンネル 開削工法
AC8: 水底トンネル その他
C10: 経度 | D10: ='様式A-1'!E8 -> 1311141.6
J11: 漏水 | L11: Ⅱ | M11: ='様式B(トンネル様式1P001)'!M11:M14 -> 55 | N11: Ⅲ | O11: ='様式B(トンネル様式1P001)'!O11:O14 -> 0 | P11: Ⅳ | Q11: ='様式B(トンネル様式1P001)'!Q11:Q14 -> 0
B13: 終点 | C13: 緯度 | D13: ='様式A-1'!E9 -> 340837.7 | W13: ✕ | Y13: ='様式B(トンネル様式1P001)'!Y13:Y18 -> 25
J15: 外力 | L15: Ⅱ | M15: ='様式B(トンネル様式1P001)'!M15:M18 -> 3 | N15: Ⅲ | O15: ='様式B(トンネル様式1P001)'!O15:O18 -> 3 | P15: Ⅳ | Q15: ='様式B(トンネル様式1P001)'!Q15:Q18 -> 0 | AC15: 0
C16: 経度 | D16: ='様式A-1'!E10 -> 1311156.1
B19: トンネル変状・異常箇所写真位置図
P26: 注１：本位置図は、見下げた状態で記載すること。 注２：覆工スパン番号は横断目地毎(矢板工法の場合は上半アーチ の横断目地毎)に設定すること。 注３：写真番号に付する変状番号は、各覆工スパンの変状に対して新た に確認された場合は順次追加していくこと。 注４：横断目地の変状は前の覆工スパン番号で計上すること。 注５：１枚に収まらない場合は、複数枚に分けて作成すること。
C28: ※1 トンネル本体工の変状数は、材質劣化、漏水に起因するものは変状単位で、外力に起因するものはスパン単位で計上すること。
C29: ※2 本体工の変状に対しては、健全性の判定区分Ⅱ～Ⅳについて添付すること。また、点検前に実施された措置によりⅠと判定された箇所も添付すること。
C30: ※3 附属物の取付状態の○欄については、応急措置前に判定区分×とした箇所のうち応急措置により○判定とした箇所の数を記入すること。
C31: ※4 附属物の異常番号は、本体工と番号が重複しないよう101番以降とする等の配慮を行い、分かりやすく記録すること。

Sheet 様式B(トンネル様式1P003)
B2: ■定期点検記録様式 トンネル変状・異常箇所写真位置図 | T2: トンネルID | V2: 34.15492.131.19489 | AA2: Ⅰ | AB2: あり | AC2: 陸上トンネル 掘進工法
B3: フリガナ | D3: ='様式B(トンネル様式1P001)'!D3:G3 -> ミネトンネル | H3: 路線名 | J3: ='様式B(トンネル様式1P001)'!J3:M4 -> 一般国道 316号 | N3: 管理者名 | P3: ='様式B(トンネル様式1P001)'!P3:S4 -> 宇部土木建築事務所 | T3: 緊急輸送道路 | V3: あり | AA3: Ⅱ | AB3: なし | AC3: 陸上トンネル 開削工法
B4: 名 称 | D4: ='様式B(トンネル様式1P001)'!D4:G4 -> 美祢トンネル | T4: 代替路の有無 | V4: あり | AA4: Ⅲ | AC4: 陸上トンネル その他
B5: 所在地 | D5: 自 | E5: ='様式B(トンネル様式1P001)'!E5:G5 -> 山口県美祢市伊佐町 | H5: 定期点検業者 | K5: ='様式B(トンネル様式1P001)'!K5:N5 -> 株式会社ニュージェック | O5: 定期点検年月日 | Q5: ='様式B(トンネル様式1P001)'!Q5:S6 -> 44294 | T5: トンネル延長 | V5: L= | W5: ='様式A-1'!Z5 -> 1265 | Y5: ｍ | AA5: Ⅳ | AC5: 水底トンネル 掘進工法
D6: 至 | E6: ='様式B(トンネル様式1P001)'!E6:G6 -> 山口県美祢市伊佐町 | H6: 定期点検者名 | K6: ='様式B(トンネル様式1P001)'!K6:N6 -> 石村 勝伸 | T6: ﾄﾝﾈﾙの分類 | V6: 陸上トンネル 掘進工法 | AC6: 水底トンネル 沈埋工法
B7: 起点 | C7: 緯度 | D7: ='様式A-1'!E7 -> 340917.7 | F7: 変状・異常 箇所数合計 | H7: トンネル 本体工 | J7: 材質劣化 | L7: Ⅱ | M7: ='様式B(トンネル様式1P001)'!M7:M10 -> 109 | N7: Ⅲ | O7: ='様式B(トンネル様式1P001)'!O7:O10 -> 0 | P7: Ⅳ | Q7: ='様式B(トンネル様式1P001)'!Q7:Q10 -> 0 | R7: トンネル毎 の健全性 | T7: =様式F!AJ4 -> Ⅲ | V7: 附属物の 取付状態 | W7: ◯ （応急措置後） | Y7: ='様式B(トンネル様式1P001)'!Y7:Y12 -> 0 | AC7: 水底トンネル 開削工法
AC8: 水底トンネル その他
C10: 経度 | D10: ='様式A-1'!E8 -> 1311141.6
J11: 漏水 | L11: Ⅱ | M11: ='様式B(トンネル様式1P001)'!M11:M14 -> 55 | N11: Ⅲ | O11: ='様式B(トンネル様式1P001)'!O11:O14 -> 0 | P11: Ⅳ | Q11: ='様式B(トンネル様式1P001)'!Q11:Q14 -> 0
B13: 終点 | C13: 緯度 | D13: ='様式A-1'!E9 -> 340837.7 | W13: ✕ | Y13: ='様式B(トンネル様式1P001)'!Y13:Y18 -> 25
J15: 外力 | L15: Ⅱ | M15: ='様式B(トンネル様式1P001)'!M15:M18 -> 3 | N15: Ⅲ | O15: ='様式B(トンネル様式1P001)'!O15:O18 -> 3 | P15: Ⅳ | Q15: ='様式B(トンネル様式1P001)'!Q15:Q18 -> 0 | AC15: 0
C16: 経度 | D16: ='様式A-1'!E10 -> 1311156.1
B19: トンネル変状・異常箇所写真位置図
P26: 注１：本位置図は、見下げた状態で記載すること。 注２：覆工スパン番号は横断目地毎(矢板工法の場合は上半アーチ の横断目地毎)に設定すること。 注３：写真番号に付する変状番号は、各覆工スパンの変状に対して新た に確認された場合は順次追加していくこと。 注４：横断目地の変状は前の覆工スパン番号で計上すること。 注５：１枚に収まらない場合は、複数枚に分けて作成すること。
C28: ※1 トンネル本体工の変状数は、材質劣化、漏水に起因するものは変状単位で、外力に起因するものはスパン単位で計上すること。
C29: ※2 本体工の変状に対しては、健全性の判定区分Ⅱ～Ⅳについて添付すること。また、点検前に実施された措置によりⅠと判定された箇所も添付すること。
C30: ※3 附属物の取付状態の○欄については、応急措置前に判定区分×とした箇所のうち応急措置により○判定とした箇所の数を記入すること。
C31: ※4 附属物の異常番号は、本体工と番号が重複しないよう101番以降とする等の配慮を行い、分かりやすく記録すること。

Sheet 様式B(トンネル様式1P004)
B2: ■定期点検記録様式 トンネル変状・異常箇所写真位置図 | T2: トンネルID | V2: 34.15492.131.19489 | AA2: Ⅰ | AB2: あり | AC2: 陸上トンネル 掘進工法
B3: フリガナ | D3: ='様式B(トンネル様式1P001)'!D3:G3 -> ミネトンネル | H3: 路線名 | J3: ='様式B(トンネル様式1P001)'!J3:M4 -> 一般国道 316号 | N3: 管理者名 | P3: ='様式B(トンネル様式1P001)'!P3:S4 -> 宇部土木建築事務所 | T3: 緊急輸送道路 | V3: あり | AA3: Ⅱ | AB3: なし | AC3: 陸上トンネル 開削工法
B4: 名 称 | D4: ='様式B(トンネル様式1P001)'!D4:G4 -> 美祢トンネル | T4: 代替路の有無 | V4: あり | AA4: Ⅲ | AC4: 陸上トンネル その他
B5: 所在地 | D5: 自 | E5: ='様式B(トンネル様式1P001)'!E5:G5 -> 山口県美祢市伊佐町 | H5: 定期点検業者 | K5: ='様式B(トンネル様式1P001)'!K5:N5 -> 株式会社ニュージェック | O5: 定期点検年月日 | Q5: ='様式B(トンネル様式1P001)'!Q5:S6 -> 44294 | T5: トンネル延長 | V5: L= | W5: ='様式A-1'!Z5 -> 1265 | Y5: ｍ | AA5: Ⅳ | AC5: 水底トンネル 掘進工法
D6: 至 | E6: ='様式B(トンネル様式1P001)'!E6:G6 -> 山口県美祢市伊佐町 | H6: 定期点検者名 | K6: ='様式B(トンネル様式1P001)'!K6:N6 -> 石村 勝伸 | T6: ﾄﾝﾈﾙの分類 | V6: 陸上トンネル 掘進工法 | AC6: 水底トンネル 沈埋工法
B7: 起点 | C7: 緯度 | D7: ='様式A-1'!E7 -> 340917.7 | F7: 変状・異常 箇所数合計 | H7: トンネル 本体工 | J7: 材質劣化 | L7: Ⅱ | M7: ='様式B(トンネル様式1P001)'!M7:M10 -> 109 | N7: Ⅲ | O7: ='様式B(トンネル様式1P001)'!O7:O10 -> 0 | P7: Ⅳ | Q7: ='様式B(トンネル様式1P001)'!Q7:Q10 -> 0 | R7: トンネル毎 の健全性 | T7: =様式F!AJ4 -> Ⅲ | V7: 附属物の 取付状態 | W7: ◯ （応急措置後） | Y7: ='様式B(トンネル様式1P001)'!Y7:Y12 -> 0 | AC7: 水底トンネル 開削工法
AC8: 水底トンネル その他
C10: 経度 | D10: ='様式A-1'!E8 -> 1311141.6
J11: 漏水 | L11: Ⅱ | M11: ='様式B(トンネル様式1P001)'!M11:M14 -> 55 | N11: Ⅲ | O11: ='様式B(トンネル様式1P001)'!O11:O14 -> 0 | P11: Ⅳ | Q11: ='様式B(トンネル様式1P001)'!Q11:Q14 -> 0
B13: 終点 | C13: 緯度 | D13: ='様式A-1'!E9 -> 340837.7 | W13: ✕ | Y13: ='様式B(トンネル様式1P001)'!Y13:Y18 -> 25
J15: 外力 | L15: Ⅱ | M15: ='様式B(トンネル様式1P001)'!M15:M18 -> 3 | N15: Ⅲ | O15: ='様式B(トンネル様式1P001)'!O15:O18 -> 3 | P15: Ⅳ | Q15: ='様式B(トンネル様式1P001)'!Q15:Q18 -> 0 | AC15: 0
C16: 経度 | D16: ='様式A-1'!E10 -> 1311156.1
B19: トンネル変状・異常箇所写真位置図
P26: 注１：本位置図は、見下げた状態で記載すること。 注２：覆工スパン番号は横断目地毎(矢板工法の場合は上半アーチ の横断目地毎)に設定すること。 注３：写真番号に付する変状番号は、各覆工スパンの変状に対して新た に確認された場合は順次追加していくこと。 注４：横断目地の変状は前の覆工スパン番号で計上すること。 注５：１枚に収まらない場合は、複数枚に分けて作成すること。
C28: ※1 トンネル本体工の変状数は、材質劣化、漏水に起因するものは変状単位で、外力に起因するものはスパン単位で計上すること。
C29: ※2 本体工の変状に対しては、健全性の判定区分Ⅱ～Ⅳについて添付すること。また、点検前に実施された措置によりⅠと判定された箇所も添付すること。
C30: ※3 附属物の取付状態の○欄については、応急措置前に判定区分×とした箇所のうち応急措置により○判定とした箇所の数を記入すること。
C31: ※4 附属物の異常番号は、本体工と番号が重複しないよう101番以降とする等の配慮を行い、分かりやすく記録すること。

Sheet 様式B(トンネル様式1P005)
B2: ■定期点検記録様式 トンネル変状・異常箇所写真位置図 | T2: トンネルID | V2: 34.15492.131.19489 | AA2: Ⅰ | AB2: あり | AC2: 陸上トンネル 掘進工法
B3: フリガナ | D3: ='様式B(トンネル様式1P001)'!D3:G3 -> ミネトンネル | H3: 路線名 | J3: ='様式B(トンネル様式1P001)'!J3:M4 -> 一般国道 316号 | N3: 管理者名 | P3: ='様式B(トンネル様式1P001)'!P3:S4 -> 宇部土木建築事務所 | T3: 緊急輸送道路 | V3: あり | AA3: Ⅱ | AB3: なし | AC3: 陸上トンネル 開削工法
B4: 名 称 | D4: ='様式B(トンネル様式1P001)'!D4:G4 -> 美祢トンネル | T4: 代替路の有無 | V4: あり | AA4: Ⅲ | AC4: 陸上トンネル その他
B5: 所在地 | D5: 自 | E5: ='様式B(トンネル様式1P001)'!E5:G5 -> 山口県美祢市伊佐町 | H5: 定期点検業者 | K5: ='様式B(トンネル様式1P001)'!K5:N5 -> 株式会社ニュージェック | O5: 定期点検年月日 | Q5: ='様式B(トンネル様式1P001)'!Q5:S6 -> 44294 | T5: トンネル延長 | V5: L= | W5: ='様式A-1'!Z5 -> 1265 | Y5: ｍ | AA5: Ⅳ | AC5: 水底トンネル 掘進工法
D6: 至 | E6: ='様式B(トンネル様式1P001)'!E6:G6 -> 山口県美祢市伊佐町 | H6: 定期点検者名 | K6: ='様式B(トンネル様式1P001)'!K6:N6 -> 石村 勝伸 | T6: ﾄﾝﾈﾙの分類 | V6: 陸上トンネル 掘進工法 | AC6: 水底トンネル 沈埋工法
B7: 起点 | C7: 緯度 | D7: ='様式A-1'!E7 -> 340917.7 | F7: 変状・異常 箇所数合計 | H7: トンネル 本体工 | J7: 材質劣化 | L7: Ⅱ | M7: ='様式B(トンネル様式1P001)'!M7:M10 -> 109 | N7: Ⅲ | O7: ='様式B(トンネル様式1P001)'!O7:O10 -> 0 | P7: Ⅳ | Q7: ='様式B(トンネル様式1P001)'!Q7:Q10 -> 0 | R7: トンネル毎 の健全性 | T7: =様式F!AJ4 -> Ⅲ | V7: 附属物の 取付状態 | W7: ◯ （応急措置後） | Y7: ='様式B(トンネル様式1P001)'!Y7:Y12 -> 0 | AC7: 水底トンネル 開削工法
AC8: 水底トンネル その他
C10: 経度 | D10: ='様式A-1'!E8 -> 1311141.6
J11: 漏水 | L11: Ⅱ | M11: ='様式B(トンネル様式1P001)'!M11:M14 -> 55 | N11: Ⅲ | O11: ='様式B(トンネル様式1P001)'!O11:O14 -> 0 | P11: Ⅳ | Q11: ='様式B(トンネル様式1P001)'!Q11:Q14 -> 0
B13: 終点 | C13: 緯度 | D13: ='様式A-1'!E9 -> 340837.7 | W13: ✕ | Y13: ='様式B(トンネル様式1P001)'!Y13:Y18 -> 25
J15: 外力 | L15: Ⅱ | M15: ='様式B(トンネル様式1P001)'!M15:M18 -> 3 | N15: Ⅲ | O15: ='様式B(トンネル様式1P001)'!O15:O18 -> 3 | P15: Ⅳ | Q15: ='様式B(トンネル様式1P001)'!Q15:Q18 -> 0 | AC15: 0
C16: 経度 | D16: ='様式A-1'!E10 -> 1311156.1
B19: トンネル変状・異常箇所写真位置図
P26: 注１：本位置図は、見下げた状態で記載すること。 注２：覆工スパン番号は横断目地毎(矢板工法の場合は上半アーチ の横断目地毎)に設定すること。 注３：写真番号に付する変状番号は、各覆工スパンの変状に対して新た に確認された場合は順次追加していくこと。 注４：横断目地の変状は前の覆工スパン番号で計上すること。 注５：１枚に収まらない場合は、複数枚に分けて作成すること。
C28: ※1 トンネル本体工の変状数は、材質劣化、漏水に起因するものは変状単位で、外力に起因するものはスパン単位で計上すること。
C29: ※2 本体工の変状に対しては、健全性の判定区分Ⅱ～Ⅳについて添付すること。また、点検前に実施された措置によりⅠと判定された箇所も添付すること。
C30: ※3 附属物の取付状態の○欄については、応急措置前に判定区分×とした箇所のうち応急措置により○判定とした箇所の数を記入すること。
C31: ※4 附属物の異常番号は、本体工と番号が重複しないよう101番以降とする等の配慮を行い、分かりやすく記録すること。

Sheet 様式B(トンネル様式1P006)
B2: ■定期点検記録様式 トンネル変状・異常箇所写真位置図 | T2: トンネルID | V2: 34.15492.131.19489 | AA2: Ⅰ | AB2: あり | AC2: 陸上トンネル 掘進工法
B3: フリガナ | D3: ='様式B(トンネル様式1P001)'!D3:G3 -> ミネトンネル | H3: 路線名 | J3: ='様式B(トンネル様式1P001)'!J3:M4 -> 一般国道 316号 | N3: 管理者名 | P3: ='様式B(トンネル様式1P001)'!P3:S4 -> 宇部土木建築事務所 | T3: 緊急輸送道路 | V3: あり | AA3: Ⅱ | AB3: なし | AC3: 陸上トンネル 開削工法
B4: 名 称 | D4: ='様式B(トンネル様式1P001)'!D4:G4 -> 美祢トンネル | T4: 代替路の有無 | V4: あり | AA4: Ⅲ | AC4: 陸上トンネル その他
B5: 所在地 | D5: 自 | E5: ='様式B(トンネル様式1P001)'!E5:G5 -> 山口県美祢市伊佐町 | H5: 定期点検業者 | K5: ='様式B(トンネル様式1P001)'!K5:N5 -> 株式会社ニュージェック | O5: 定期点検年月日 | Q5: ='様式B(トンネル様式1P001)'!Q5:S6 -> 44294 | T5: トンネル延長 | V5: L= | W5: ='様式A-1'!Z5 -> 1265 | Y5: ｍ | AA5: Ⅳ | AC5: 水底トンネル 掘進工法
D6: 至 | E6: ='様式B(トンネル様式1P001)'!E6:G6 -> 山口県美祢市伊佐町 | H6: 定期点検者名 | K6: ='様式B(トンネル様式1P001)'!K6:N6 -> 石村 勝伸 | T6: ﾄﾝﾈﾙの分類 | V6: 陸上トンネル 掘進工法 | AC6: 水底トンネル 沈埋工法
B7: 起点 | C7: 緯度 | D7: ='様式A-1'!E7 -> 340917.7 | F7: 変状・異常 箇所数合計 | H7: トンネル 本体工 | J7: 材質劣化 | L7: Ⅱ | M7: ='様式B(トンネル様式1P001)'!M7:M10 -> 109 | N7: Ⅲ | O7: ='様式B(トンネル様式1P001)'!O7:O10 -> 0 | P7: Ⅳ | Q7: ='様式B(トンネル様式1P001)'!Q7:Q10 -> 0 | R7: トンネル毎 の健全性 | T7: =様式F!AJ4 -> Ⅲ | V7: 附属物の 取付状態 | W7: ◯ （応急措置後） | Y7: ='様式B(トンネル様式1P001)'!Y7:Y12 -> 0 | AC7: 水底トンネル 開削工法
AC8: 水底トンネル その他
C10: 経度 | D10: ='様式A-1'!E8 -> 1311141.6
J11: 漏水 | L11: Ⅱ | M11: ='様式B(トンネル様式1P001)'!M11:M14 -> 55 | N11: Ⅲ | O11: ='様式B(トンネル様式1P001)'!O11:O14 -> 0 | P11: Ⅳ | Q11: ='様式B(トンネル様式1P001)'!Q11:Q14 -> 0
B13: 終点 | C13: 緯度 | D13: ='様式A-1'!E9 -> 340837.7 | W13: ✕ | Y13: ='様式B(トンネル様式1P001)'!Y13:Y18 -> 25
J15: 外力 | L15: Ⅱ | M15: ='様式B(トンネル様式1P001)'!M15:M18 -> 3 | N15: Ⅲ | O15: ='様式B(トンネル様式1P001)'!O15:O18 -> 3 | P15: Ⅳ | Q15: ='様式B(トンネル様式1P001)'!Q15:Q18 -> 0 | AC15: 0
C16: 経度 | D16: ='様式A-1'!E10 -> 1311156.1
B19: トンネル変状・異常箇所写真位置図
P26: 注１：本位置図は、見下げた状態で記載すること。 注２：覆工スパン番号は横断目地毎(矢板工法の場合は上半アーチ の横断目地毎)に設定すること。 注３：写真番号に付する変状番号は、各覆工スパンの変状に対して新た に確認された場合は順次追加していくこと。 注４：横断目地の変状は前の覆工スパン番号で計上すること。 注５：１枚に収まらない場合は、複数枚に分けて作成すること。
C28: ※1 トンネル本体工の変状数は、材質劣化、漏水に起因するものは変状単位で、外力に起因するものはスパン単位で計上すること。
C29: ※2 本体工の変状に対しては、健全性の判定区分Ⅱ～Ⅳについて添付すること。また、点検前に実施された措置によりⅠと判定された箇所も添付すること。
C30: ※3 附属物の取付状態の○欄については、応急措置前に判定区分×とした箇所のうち応急措置により○判定とした箇所の数を記入すること。
C31: ※4 附属物の異常番号は、本体工と番号が重複しないよう101番以降とする等の配慮を行い、分かりやすく記録すること。

Sheet 様式B(トンネル様式1P007)
B2: ■定期点検記録様式 トンネル変状・異常箇所写真位置図 | T2: トンネルID | V2: 34.15492.131.19489 | AA2: Ⅰ | AB2: あり | AC2: 陸上トンネル 掘進工法
B3: フリガナ | D3: ='様式B(トンネル様式1P001)'!D3:G3 -> ミネトンネル | H3: 路線名 | J3: ='様式B(トンネル様式1P001)'!J3:M4 -> 一般国道 316号 | N3: 管理者名 | P3: ='様式B(トンネル様式1P001)'!P3:S4 -> 宇部土木建築事務所 | T3: 緊急輸送道路 | V3: あり | AA3: Ⅱ | AB3: なし | AC3: 陸上トンネル 開削工法
B4: 名 称 | D4: ='様式B(トンネル様式1P001)'!D4:G4 -> 美祢トンネル | T4: 代替路の有無 | V4: あり | AA4: Ⅲ | AC4: 陸上トンネル その他
B5: 所在地 | D5: 自 | E5: ='様式B(トンネル様式1P001)'!E5:G5 -> 山口県美祢市伊佐町 | H5: 定期点検業者 | K5: ='様式B(トンネル様式1P001)'!K5:N5 -> 株式会社ニュージェック | O5: 定期点検年月日 | Q5: ='様式B(トンネル様式1P001)'!Q5:S6 -> 44294 | T5: トンネル延長 | V5: L= | W5: ='様式A-1'!Z5 -> 1265 | Y5: ｍ | AA5: Ⅳ | AC5: 水底トンネル 掘進工法
D6: 至 | E6: ='様式B(トンネル様式1P001)'!E6:G6 -> 山口県美祢市伊佐町 | H6: 定期点検者名 | K6: ='様式B(トンネル様式1P001)'!K6:N6 -> 石村 勝伸 | T6: ﾄﾝﾈﾙの分類 | V6: 陸上トンネル 掘進工法 | AC6: 水底トンネル 沈埋工法
B7: 起点 | C7: 緯度 | D7: ='様式A-1'!E7 -> 340917.7 | F7: 変状・異常 箇所数合計 | H7: トンネル 本体工 | J7: 材質劣化 | L7: Ⅱ | M7: ='様式B(トンネル様式1P001)'!M7:M10 -> 109 | N7: Ⅲ | O7: ='様式B(トンネル様式1P001)'!O7:O10 -> 0 | P7: Ⅳ | Q7: ='様式B(トンネル様式1P001)'!Q7:Q10 -> 0 | R7: トンネル毎 の健全性 | T7: =様式F!AJ4 -> Ⅲ | V7: 附属物の 取付状態 | W7: ◯ （応急措置後） | Y7: ='様式B(トンネル様式1P001)'!Y7:Y12 -> 0 | AC7: 水底トンネル 開削工法
AC8: 水底トンネル その他
C10: 経度 | D10: ='様式A-1'!E8 -> 1311141.6
J11: 漏水 | L11: Ⅱ | M11: ='様式B(トンネル様式1P001)'!M11:M14 -> 55 | N11: Ⅲ | O11: ='様式B(トンネル様式1P001)'!O11:O14 -> 0 | P11: Ⅳ | Q11: ='様式B(トンネル様式1P001)'!Q11:Q14 -> 0
B13: 終点 | C13: 緯度 | D13: ='様式A-1'!E9 -> 340837.7 | W13: ✕ | Y13: ='様式B(トンネル様式1P001)'!Y13:Y18 -> 25
J15: 外力 | L15: Ⅱ | M15: ='様式B(トンネル様式1P001)'!M15:M18 -> 3 | N15: Ⅲ | O15: ='様式B(トンネル様式1P001)'!O15:O18 -> 3 | P15: Ⅳ | Q15: ='様式B(トンネル様式1P001)'!Q15:Q18 -> 0 | AC15: 0
C16: 経度 | D16: ='様式A-1'!E10 -> 1311156.1
B19: トンネル変状・異常箇所写真位置図
P26: 注１：本位置図は、見下げた状態で記載すること。 注２：覆工スパン番号は横断目地毎(矢板工法の場合は上半アーチ の横断目地毎)に設定すること。 注３：写真番号に付する変状番号は、各覆工スパンの変状に対して新た に確認された場合は順次追加していくこと。 注４：横断目地の変状は前の覆工スパン番号で計上すること。 注５：１枚に収まらない場合は、複数枚に分けて作成すること。
C28: ※1 トンネル本体工の変状数は、材質劣化、漏水に起因するものは変状単位で、外力に起因するものはスパン単位で計上すること。
C29: ※2 本体工の変状に対しては、健全性の判定区分Ⅱ～Ⅳについて添付すること。また、点検前に実施された措置によりⅠと判定された箇所も添付すること。
C30: ※3 附属物の取付状態の○欄については、応急措置前に判定区分×とした箇所のうち応急措置により○判定とした箇所の数を記入すること。
C31: ※4 附属物の異常番号は、本体工と番号が重複しないよう101番以降とする等の配慮を行い、分かりやすく記録すること。

Sheet 様式B(トンネル様式1P008)
B2: ■定期点検記録様式 トンネル変状・異常箇所写真位置図 | T2: トンネルID | V2: 34.15492.131.19489 | AA2: Ⅰ | AB2: あり | AC2: 陸上トンネル 掘進工法
B3: フリガナ | D3: ='様式B(トンネル様式1P001)'!D3:G3 -> ミネトンネル | H3: 路線名 | J3: ='様式B(トンネル様式1P001)'!J3:M4 -> 一般国道 316号 | N3: 管理者名 | P3: ='様式B(トンネル様式1P001)'!P3:S4 -> 宇部土木建築事務所 | T3: 緊急輸送道路 | V3: あり | AA3: Ⅱ | AB3: なし | AC3: 陸上トンネル 開削工法
B4: 名 称 | D4: ='様式B(トンネル様式1P001)'!D4:G4 -> 美祢トンネル | T4: 代替路の有無 | V4: あり | AA4: Ⅲ | AC4: 陸上トンネル その他
B5: 所在地 | D5: 自 | E5: ='様式B(トンネル様式1P001)'!E5:G5 -> 山口県美祢市伊佐町 | H5: 定期点検業者 | K5: ='様式B(トンネル様式1P001)'!K5:N5 -> 株式会社ニュージェック | O5: 定期点検年月日 | Q5: ='様式B(トンネル様式1P001)'!Q5:S6 -> 44294 | T5: トンネル延長 | V5: L= | W5: ='様式A-1'!Z5 -> 1265 | Y5: ｍ | AA5: Ⅳ | AC5: 水底トンネル 掘進工法
D6: 至 | E6: ='様式B(トンネル様式1P001)'!E6:G6 -> 山口県美祢市伊佐町 | H6: 定期点検者名 | K6: ='様式B(トンネル様式1P001)'!K6:N6 -> 石村 勝伸 | T6: ﾄﾝﾈﾙの分類 | V6: 陸上トンネル 掘進工法 | AC6: 水底トンネル 沈埋工法
B7: 起点 | C7: 緯度 | D7: ='様式A-1'!E7 -> 340917.7 | F7: 変状・異常 箇所数合計 | H7: トンネル 本体工 | J7: 材質劣化 | L7: Ⅱ | M7: ='様式B(トンネル様式1P001)'!M7:M10 -> 109 | N7: Ⅲ | O7: ='様式B(トンネル様式1P001)'!O7:O10 -> 0 | P7: Ⅳ | Q7: ='様式B(トンネル様式1P001)'!Q7:Q10 -> 0 | R7: トンネル毎 の健全性 | T7: =様式F!AJ4 -> Ⅲ | V7: 附属物の 取付状態 | W7: ◯ （応急措置後） | Y7: ='様式B(トンネル様式1P001)'!Y7:Y12 -> 0 | AC7: 水底トンネル 開削工法
AC8: 水底トンネル その他
C10: 経度 | D10: ='様式A-1'!E8 -> 1311141.6
J11: 漏水 | L11: Ⅱ | M11: ='様式B(トンネル様式1P001)'!M11:M14 -> 55 | N11: Ⅲ | O11: ='様式B(トンネル様式1P001)'!O11:O14 -> 0 | P11: Ⅳ | Q11: ='様式B(トンネル様式1P001)'!Q11:Q14 -> 0
B13: 終点 | C13: 緯度 | D13: ='様式A-1'!E9 -> 340837.7 | W13: ✕ | Y13: ='様式B(トンネル様式1P001)'!Y13:Y18 -> 25
J15: 外力 | L15: Ⅱ | M15: ='様式B(トンネル様式1P001)'!M15:M18 -> 3 | N15: Ⅲ | O15: ='様式B(トンネル様式1P001)'!O15:O18 -> 3 | P15: Ⅳ | Q15: ='様式B(トンネル様式1P001)'!Q15:Q18 -> 0 | AC15: 0
C16: 経度 | D16: ='様式A-1'!E10 -> 1311156.1
B19: トンネル変状・異常箇所写真位置図
P26: 注１：本位置図は、見下げた状態で記載すること。 注２：覆工スパン番号は横断目地毎(矢板工法の場合は上半アーチ の横断目地毎)に設定すること。 注３：写真番号に付する変状番号は、各覆工スパンの変状に対して新た に確認された場合は順次追加していくこと。 注４：横断目地の変状は前の覆工スパン番号で計上すること。 注５：１枚に収まらない場合は、複数枚に分けて作成すること。
C28: ※1 トンネル本体工の変状数は、材質劣化、漏水に起因するものは変状単位で、外力に起因するものはスパン単位で計上すること。
C29: ※2 本体工の変状に対しては、健全性の判定区分Ⅱ～Ⅳについて添付すること。また、点検前に実施された措置によりⅠと判定された箇所も添付すること。
C30: ※3 附属物の取付状態の○欄については、応急措置前に判定区分×とした箇所のうち応急措置により○判定とした箇所の数を記入すること。
C31: ※4 附属物の異常番号は、本体工と番号が重複しないよう101番以降とする等の配慮を行い、分かりやすく記録すること。

Sheet 様式B(トンネル様式1P009)
B2: ■定期点検記録様式 トンネル変状・異常箇所写真位置図 | T2: トンネルID | V2: 34.15492.131.19489 | AA2: Ⅰ | AB2: あり | AC2: 陸上トンネル 掘進工法
B3: フリガナ | D3: ='様式B(トンネル様式1P001)'!D3:G3 -> ミネトンネル | H3: 路線名 | J3: ='様式B(トンネル様式1P001)'!J3:M4 -> 一般国道 316号 | N3: 管理者名 | P3: ='様式B(トンネル様式1P001)'!P3:S4 -> 宇部土木建築事務所 | T3: 緊急輸送道路 | V3: あり | AA3: Ⅱ | AB3: なし | AC3: 陸上トンネル 開削工法
B4: 名 称 | D4: ='様式B(トンネル様式1P001)'!D4:G4 -> 美祢トンネル | T4: 代替路の有無 | V4: あり | AA4: Ⅲ | AC4: 陸上トンネル その他
B5: 所在地 | D5: 自 | E5: ='様式B(トンネル様式1P001)'!E5:G5 -> 山口県美祢市伊佐町 | H5: 定期点検業者 | K5: ='様式B(トンネル様式1P001)'!K5:N5 -> 株式会社ニュージェック | O5: 定期点検年月日 | Q5: ='様式B(トンネル様式1P001)'!Q5:S6 -> 44294 | T5: トンネル延長 | V5: L= | W5: ='様式A-1'!Z5 -> 1265 | Y5: ｍ | AA5: Ⅳ | AC5: 水底トンネル 掘進工法
D6: 至 | E6: ='様式B(トンネル様式1P001)'!E6:G6 -> 山口県美祢市伊佐町 | H6: 定期点検者名 | K6: ='様式B(トンネル様式1P001)'!K6:N6 -> 石村 勝伸 | T6: ﾄﾝﾈﾙの分類 | V6: 陸上トンネル 掘進工法 | AC6: 水底トンネル 沈埋工法
B7: 起点 | C7: 緯度 | D7: ='様式A-1'!E7 -> 340917.7 | F7: 変状・異常 箇所数合計 | H7: トンネル 本体工 | J7: 材質劣化 | L7: Ⅱ | M7: ='様式B(トンネル様式1P001)'!M7:M10 -> 109 | N7: Ⅲ | O7: ='様式B(トンネル様式1P001)'!O7:O10 -> 0 | P7: Ⅳ | Q7: ='様式B(トンネル様式1P001)'!Q7:Q10 -> 0 | R7: トンネル毎 の健全性 | T7: =様式F!AJ4 -> Ⅲ | V7: 附属物の 取付状態 | W7: ◯ （応急措置後） | Y7: ='様式B(トンネル様式1P001)'!Y7:Y12 -> 0 | AC7: 水底トンネル 開削工法
AC8: 水底トンネル その他
C10: 経度 | D10: ='様式A-1'!E8 -> 1311141.6
J11: 漏水 | L11: Ⅱ | M11: ='様式B(トンネル様式1P001)'!M11:M14 -> 55 | N11: Ⅲ | O11: ='様式B(トンネル様式1P001)'!O11:O14 -> 0 | P11: Ⅳ | Q11: ='様式B(トンネル様式1P001)'!Q11:Q14 -> 0
B13: 終点 | C13: 緯度 | D13: ='様式A-1'!E9 -> 340837.7 | W13: ✕ | Y13: ='様式B(トンネル様式1P001)'!Y13:Y18 -> 25
J15: 外力 | L15: Ⅱ | M15: ='様式B(トンネル様式1P001)'!M15:M18 -> 3 | N15: Ⅲ | O15: ='様式B(トンネル様式1P001)'!O15:O18 -> 3 | P15: Ⅳ | Q15: ='様式B(トンネル様式1P001)'!Q15:Q18 -> 0 | AC15: 0
C16: 経度 | D16: ='様式A-1'!E10 -> 1311156.1
B19: トンネル変状・異常箇所写真位置図
P26: 注１：本位置図は、見下げた状態で記載すること。 注２：覆工スパン番号は横断目地毎(矢板工法の場合は上半アーチ の横断目地毎)に設定すること。 注３：写真番号に付する変状番号は、各覆工スパンの変状に対して新た に確認された場合は順次追加していくこと。 注４：横断目地の変状は前の覆工スパン番号で計上すること。 注５：１枚に収まらない場合は、複数枚に分けて作成すること。
C28: ※1 トンネル本体工の変状数は、材質劣化、漏水に起因するものは変状単位で、外力に起因するものはスパン単位で計上すること。
C29: ※2 本体工の変状に対しては、健全性の判定区分Ⅱ～Ⅳについて添付すること。また、点検前に実施された措置によりⅠと判定された箇所も添付すること。
C30: ※3 附属物の取付状態の○欄については、応急措置前に判定区分×とした箇所のうち応急措置により○判定とした箇所の数を記入すること。
C31: ※4 附属物の異常番号は、本体工と番号が重複しないよう101番以降とする等の配慮を行い、分かりやすく記録すること。

Sheet 様式B(トンネル様式1P010)
B2: ■定期点検記録様式 トンネル変状・異常箇所写真位置図 | T2: トンネルID | V2: 34.15492.131.19489 | AA2: Ⅰ | AB2: あり | AC2: 陸上トンネル 掘進工法
B3: フリガナ | D3: ='様式B(トンネル様式1P001)'!D3:G3 -> ミネトンネル | H3: 路線名 | J3: ='様式B(トンネル様式1P001)'!J3:M4 -> 一般国道 316号 | N3: 管理者名 | P3: ='様式B(トンネル様式1P001)'!P3:S4 -> 宇部土木建築事務所 | T3: 緊急輸送道路 | V3: あり | AA3: Ⅱ | AB3: なし | AC3: 陸上トンネル 開削工法
B4: 名 称 | D4: ='様式B(トンネル様式1P001)'!D4:G4 -> 美祢トンネル | T4: 代替路の有無 | V4: あり | AA4: Ⅲ | AC4: 陸上トンネル その他
B5: 所在地 | D5: 自 | E5: ='様式B(トンネル様式1P001)'!E5:G5 -> 山口県美祢市伊佐町 | H5: 定期点検業者 | K5: ='様式B(トンネル様式1P001)'!K5:N5 -> 株式会社ニュージェック | O5: 定期点検年月日 | Q5: ='様式B(トンネル様式1P001)'!Q5:S6 -> 44294 | T5: トンネル延長 | V5: L= | W5: ='様式A-1'!Z5 -> 1265 | Y5: ｍ | AA5: Ⅳ | AC5: 水底トンネル 掘進工法
D6: 至 | E6: ='様式B(トンネル様式1P001)'!E6:G6 -> 山口県美祢市伊佐町 | H6: 定期点検者名 | K6: ='様式B(トンネル様式1P001)'!K6:N6 -> 石村 勝伸 | T6: ﾄﾝﾈﾙの分類 | V6: 陸上トンネル 掘進工法 | AC6: 水底トンネル 沈埋工法
B7: 起点 | C7: 緯度 | D7: ='様式A-1'!E7 -> 340917.7 | F7: 変状・異常 箇所数合計 | H7: トンネル 本体工 | J7: 材質劣化 | L7: Ⅱ | M7: ='様式B(トンネル様式1P001)'!M7:M10 -> 109 | N7: Ⅲ | O7: ='様式B(トンネル様式1P001)'!O7:O10 -> 0 | P7: Ⅳ | Q7: ='様式B(トンネル様式1P001)'!Q7:Q10 -> 0 | R7: トンネル毎 の健全性 | T7: =様式F!AJ4 -> Ⅲ | V7: 附属物の 取付状態 | W7: ◯ （応急措置後） | Y7: ='様式B(トンネル様式1P001)'!Y7:Y12 -> 0 | AC7: 水底トンネル 開削工法
AC8: 水底トンネル その他
C10: 経度 | D10: ='様式A-1'!E8 -> 1311141.6
J11: 漏水 | L11: Ⅱ | M11: ='様式B(トンネル様式1P001)'!M11:M14 -> 55 | N11: Ⅲ | O11: ='様式B(トンネル様式1P001)'!O11:O14 -> 0 | P11: Ⅳ | Q11: ='様式B(トンネル様式1P001)'!Q11:Q14 -> 0
B13: 終点 | C13: 緯度 | D13: ='様式A-1'!E9 -> 340837.7 | W13: ✕ | Y13: ='様式B(トンネル様式1P001)'!Y13:Y18 -> 25
J15: 外力 | L15: Ⅱ | M15: ='様式B(トンネル様式1P001)'!M15:M18 -> 3 | N15: Ⅲ | O15: ='様式B(トンネル様式1P001)'!O15:O18 -> 3 | P15: Ⅳ | Q15: ='様式B(トンネル様式1P001)'!Q15:Q18 -> 0 | AC15: 0
C16: 経度 | D16: ='様式A-1'!E10 -> 1311156.1
B19: トンネル変状・異常箇所写真位置図
P26: 注１：本位置図は、見下げた状態で記載すること。 注２：覆工スパン番号は横断目地毎(矢板工法の場合は上半アーチ の横断目地毎)に設定すること。 注３：写真番号に付する変状番号は、各覆工スパンの変状に対して新た に確認された場合は順次追加していくこと。 注４：横断目地の変状は前の覆工スパン番号で計上すること。 注５：１枚に収まらない場合は、複数枚に分けて作成すること。
C28: ※1 トンネル本体工の変状数は、材質劣化、漏水に起因するものは変状単位で、外力に起因するものはスパン単位で計上すること。
C29: ※2 本体工の変状に対しては、健全性の判定区分Ⅱ～Ⅳについて添付すること。また、点検前に実施された措置によりⅠと判定された箇所も添付すること。
C30: ※3 附属物の取付状態の○欄については、応急措置前に判定区分×とした箇所のうち応急措置により○判定とした箇所の数を記入すること。
C31: ※4 附属物の異常番号は、本体工と番号が重複しないよう101番以降とする等の配慮を行い、分かりやすく記録すること。

Sheet 様式B(トンネル様式1P011)
B2: ■定期点検記録様式 トンネル変状・異常箇所写真位置図 | T2: トンネルID | V2: 34.15492.131.19489 | AA2: Ⅰ | AB2: あり | AC2: 陸上トンネル 掘進工法
B3: フリガナ | D3: ='様式B(トンネル様式1P001)'!D3:G3 -> ミネトンネル | H3: 路線名 | J3: ='様式B(トンネル様式1P001)'!J3:M4 -> 一般国道 316号 | N3: 管理者名 | P3: ='様式B(トンネル様式1P001)'!P3:S4 -> 宇部土木建築事務所 | T3: 緊急輸送道路 | V3: あり | AA3: Ⅱ | AB3: なし | AC3: 陸上トンネル 開削工法
B4: 名 称 | D4: ='様式B(トンネル様式1P001)'!D4:G4 -> 美祢トンネル | T4: 代替路の有無 | V4: あり | AA4: Ⅲ | AC4: 陸上トンネル その他
B5: 所在地 | D5: 自 | E5: ='様式B(トンネル様式1P001)'!E5:G5 -> 山口県美祢市伊佐町 | H5: 定期点検業者 | K5: ='様式B(トンネル様式1P001)'!K5:N5 -> 株式会社ニュージェック | O5: 定期点検年月日 | Q5: ='様式B(トンネル様式1P001)'!Q5:S6 -> 44294 | T5: トンネル延長 | V5: L= | W5: ='様式A-1'!Z5 -> 1265 | Y5: ｍ | AA5: Ⅳ | AC5: 水底トンネル 掘進工法
D6: 至 | E6: ='様式B(トンネル様式1P001)'!E6:G6 -> 山口県美祢市伊佐町 | H6: 定期点検者名 | K6: ='様式B(トンネル様式1P001)'!K6:N6 -> 石村 勝伸 | T6: ﾄﾝﾈﾙの分類 | V6: 陸上トンネル 掘進工法 | AC6: 水底トンネル 沈埋工法
B7: 起点 | C7: 緯度 | D7: ='様式A-1'!E7 -> 340917.7 | F7: 変状・異常 箇所数合計 | H7: トンネル 本体工 | J7: 材質劣化 | L7: Ⅱ | M7: ='様式B(トンネル様式1P001)'!M7:M10 -> 109 | N7: Ⅲ | O7: ='様式B(トンネル様式1P001)'!O7:O10 -> 0 | P7: Ⅳ | Q7: ='様式B(トンネル様式1P001)'!Q7:Q10 -> 0 | R7: トンネル毎 の健全性 | T7: =様式F!AJ4 -> Ⅲ | V7: 附属物の 取付状態 | W7: ◯ （応急措置後） | Y7: ='様式B(トンネル様式1P001)'!Y7:Y12 -> 0 | AC7: 水底トンネル 開削工法
AC8: 水底トンネル その他
C10: 経度 | D10: ='様式A-1'!E8 -> 1311141.6
J11: 漏水 | L11: Ⅱ | M11: ='様式B(トンネル様式1P001)'!M11:M14 -> 55 | N11: Ⅲ | O11: ='様式B(トンネル様式1P001)'!O11:O14 -> 0 | P11: Ⅳ | Q11: ='様式B(トンネル様式1P001)'!Q11:Q14 -> 0
B13: 終点 | C13: 緯度 | D13: ='様式A-1'!E9 -> 340837.7 | W13: ✕ | Y13: ='様式B(トンネル様式1P001)'!Y13:Y18 -> 25
J15: 外力 | L15: Ⅱ | M15: ='様式B(トンネル様式1P001)'!M15:M18 -> 3 | N15: Ⅲ | O15: ='様式B(トンネル様式1P001)'!O15:O18 -> 3 | P15: Ⅳ | Q15: ='様式B(トンネル様式1P001)'!Q15:Q18 -> 0 | AC15: 0
C16: 経度 | D16: ='様式A-1'!E10 -> 1311156.1
B19: トンネル変状・異常箇所写真位置図
P26: 注１：本位置図は、見下げた状態で記載すること。 注２：覆工スパン番号は横断目地毎(矢板工法の場合は上半アーチ の横断目地毎)に設定すること。 注３：写真番号に付する変状番号は、各覆工スパンの変状に対して新た に確認された場合は順次追加していくこと。 注４：横断目地の変状は前の覆工スパン番号で計上すること。 注５：１枚に収まらない場合は、複数枚に分けて作成すること。
C28: ※1 トンネル本体工の変状数は、材質劣化、漏水に起因するものは変状単位で、外力に起因するものはスパン単位で計上すること。
C29: ※2 本体工の変状に対しては、健全性の判定区分Ⅱ～Ⅳについて添付すること。また、点検前に実施された措置によりⅠと判定された箇所も添付すること。
C30: ※3 附属物の取付状態の○欄については、応急措置前に判定区分×とした箇所のうち応急措置により○判定とした箇所の数を記入すること。
C31: ※4 附属物の異常番号は、本体工と番号が重複しないよう101番以降とする等の配慮を行い、分かりやすく記録すること。

Sheet 様式B(トンネル様式1P012)
B2: ■定期点検記録様式 トンネル変状・異常箇所写真位置図 | T2: トンネルID | V2: 34.15492.131.19489 | AA2: Ⅰ | AB2: あり | AC2: 陸上トンネル 掘進工法
B3: フリガナ | D3: ='様式B(トンネル様式1P001)'!D3:G3 -> ミネトンネル | H3: 路線名 | J3: ='様式B(トンネル様式1P001)'!J3:M4 -> 一般国道 316号 | N3: 管理者名 | P3: ='様式B(トンネル様式1P001)'!P3:S4 -> 宇部土木建築事務所 | T3: 緊急輸送道路 | V3: あり | AA3: Ⅱ | AB3: なし | AC3: 陸上トンネル 開削工法
B4: 名 称 | D4: ='様式B(トンネル様式1P001)'!D4:G4 -> 美祢トンネル | T4: 代替路の有無 | V4: あり | AA4: Ⅲ | AC4: 陸上トンネル その他
B5: 所在地 | D5: 自 | E5: ='様式B(トンネル様式1P001)'!E5:G5 -> 山口県美祢市伊佐町 | H5: 定期点検業者 | K5: ='様式B(トンネル様式1P001)'!K5:N5 -> 株式会社ニュージェック | O5: 定期点検年月日 | Q5: ='様式B(トンネル様式1P001)'!Q5:S6 -> 44294 | T5: トンネル延長 | V5: L= | W5: ='様式A-1'!Z5 -> 1265 | Y5: ｍ | AA5: Ⅳ | AC5: 水底トンネル 掘進工法
D6: 至 | E6: ='様式B(トンネル様式1P001)'!E6:G6 -> 山口県美祢市伊佐町 | H6: 定期点検者名 | K6: ='様式B(トンネル様式1P001)'!K6:N6 -> 石村 勝伸 | T6: ﾄﾝﾈﾙの分類 | V6: 陸上トンネル 掘進工法 | AC6: 水底トンネル 沈埋工法
B7: 起点 | C7: 緯度 | D7: ='様式A-1'!E7 -> 340917.7 | F7: 変状・異常 箇所数合計 | H7: トンネル 本体工 | J7: 材質劣化 | L7: Ⅱ | M7: ='様式B(トンネル様式1P001)'!M7:M10 -> 109 | N7: Ⅲ | O7: ='様式B(トンネル様式1P001)'!O7:O10 -> 0 | P7: Ⅳ | Q7: ='様式B(トンネル様式1P001)'!Q7:Q10 -> 0 | R7: トンネル毎 の健全性 | T7: =様式F!AJ4 -> Ⅲ | V7: 附属物の 取付状態 | W7: ◯ （応急措置後） | Y7: ='様式B(トンネル様式1P001)'!Y7:Y12 -> 0 | AC7: 水底トンネル 開削工法
AC8: 水底トンネル その他
C10: 経度 | D10: ='様式A-1'!E8 -> 1311141.6
J11: 漏水 | L11: Ⅱ | M11: ='様式B(トンネル様式1P001)'!M11:M14 -> 55 | N11: Ⅲ | O11: ='様式B(トンネル様式1P001)'!O11:O14 -> 0 | P11: Ⅳ | Q11: ='様式B(トンネル様式1P001)'!Q11:Q14 -> 0
B13: 終点 | C13: 緯度 | D13: ='様式A-1'!E9 -> 340837.7 | W13: ✕ | Y13: ='様式B(トンネル様式1P001)'!Y13:Y18 -> 25
J15: 外力 | L15: Ⅱ | M15: ='様式B(トンネル様式1P001)'!M15:M18 -> 3 | N15: Ⅲ | O15: ='様式B(トンネル様式1P001)'!O15:O18 -> 3 | P15: Ⅳ | Q15: ='様式B(トンネル様式1P001)'!Q15:Q18 -> 0 | AC15: 0
C16: 経度 | D16: ='様式A-1'!E10 -> 1311156.1
B19: トンネル変状・異常箇所写真位置図
P26: 注１：本位置図は、見下げた状態で記載すること。 注２：覆工スパン番号は横断目地毎(矢板工法の場合は上半アーチ の横断目地毎)に設定すること。 注３：写真番号に付する変状番号は、各覆工スパンの変状に対して新た に確認された場合は順次追加していくこと。 注４：横断目地の変状は前の覆工スパン番号で計上すること。 注５：１枚に収まらない場合は、複数枚に分けて作成すること。
C28: ※1 トンネル本体工の変状数は、材質劣化、漏水に起因するものは変状単位で、外力に起因するものはスパン単位で計上すること。
C29: ※2 本体工の変状に対しては、健全性の判定区分Ⅱ～Ⅳについて添付すること。また、点検前に実施された措置によりⅠと判定された箇所も添付すること。
C30: ※3 附属物の取付状態の○欄については、応急措置前に判定区分×とした箇所のうち応急措置により○判定とした箇所の数を記入すること。
C31: ※4 附属物の異常番号は、本体工と番号が重複しないよう101番以降とする等の配慮を行い、分かりやすく記録すること。

Sheet 様式B(トンネル様式1P013)
B2: ■定期点検記録様式 トンネル変状・異常箇所写真位置図 | T2: トンネルID | V2: 34.15492.131.19489 | AA2: Ⅰ | AB2: あり | AC2: 陸上トンネル 掘進工法
B3: フリガナ | D3: ='様式B(トンネル様式1P001)'!D3:G3 -> ミネトンネル | H3: 路線名 | J3: ='様式B(トンネル様式1P001)'!J3:M4 -> 一般国道 316号 | N3: 管理者名 | P3: ='様式B(トンネル様式1P001)'!P3:S4 -> 宇部土木建築事務所 | T3: 緊急輸送道路 | V3: あり | AA3: Ⅱ | AB3: なし | AC3: 陸上トンネル 開削工法
B4: 名 称 | D4: ='様式B(トンネル様式1P001)'!D4:G4 -> 美祢トンネル | T4: 代替路の有無 | V4: あり | AA4: Ⅲ | AC4: 陸上トンネル その他
B5: 所在地 | D5: 自 | E5: ='様式B(トンネル様式1P001)'!E5:G5 -> 山口県美祢市伊佐町 | H5: 定期点検業者 | K5: ='様式B(トンネル様式1P001)'!K5:N5 -> 株式会社ニュージェック | O5: 定期点検年月日 | Q5: ='様式B(トンネル様式1P001)'!Q5:S6 -> 44294 | T5: トンネル延長 | V5: L= | W5: ='様式A-1'!Z5 -> 1265 | Y5: ｍ | AA5: Ⅳ | AC5: 水底トンネル 掘進工法
D6: 至 | E6: ='様式B(トンネル様式1P001)'!E6:G6 -> 山口県美祢市伊佐町 | H6: 定期点検者名 | K6: ='様式B(トンネル様式1P001)'!K6:N6 -> 石村 勝伸 | T6: ﾄﾝﾈﾙの分類 | V6: 陸上トンネル 掘進工法 | AC6: 水底トンネル 沈埋工法
B7: 起点 | C7: 緯度 | D7: ='様式A-1'!E7 -> 340917.7 | F7: 変状・異常 箇所数合計 | H7: トンネル 本体工 | J7: 材質劣化 | L7: Ⅱ | M7: ='様式B(トンネル様式1P001)'!M7:M10 -> 109 | N7: Ⅲ | O7: ='様式B(トンネル様式1P001)'!O7:O10 -> 0 | P7: Ⅳ | Q7: ='様式B(トンネル様式1P001)'!Q7:Q10 -> 0 | R7: トンネル毎 の健全性 | T7: =様式F!AJ4 -> Ⅲ | V7: 附属物の 取付状態 | W7: ◯ （応急措置後） | Y7: ='様式B(トンネル様式1P001)'!Y7:Y12 -> 0 | AC7: 水底トンネル 開削工法
AC8: 水底トンネル その他
C10: 経度 | D10: ='様式A-1'!E8 -> 1311141.6
J11: 漏水 | L11: Ⅱ | M11: ='様式B(トンネル様式1P001)'!M11:M14 -> 55 | N11: Ⅲ | O11: ='様式B(トンネル様式1P001)'!O11:O14 -> 0 | P11: Ⅳ | Q11: ='様式B(トンネル様式1P001)'!Q11:Q14 -> 0
B13: 終点 | C13: 緯度 | D13: ='様式A-1'!E9 -> 340837.7 | W13: ✕ | Y13: ='様式B(トンネル様式1P001)'!Y13:Y18 -> 25
J15: 外力 | L15: Ⅱ | M15: ='様式B(トンネル様式1P001)'!M15:M18 -> 3 | N15: Ⅲ | O15: ='様式B(トンネル様式1P001)'!O15:O18 -> 3 | P15: Ⅳ | Q15: ='様式B(トンネル様式1P001)'!Q15:Q18 -> 0 | AC15: 0
C16: 経度 | D16: ='様式A-1'!E10 -> 1311156.1
B19: トンネル変状・異常箇所写真位置図
P26: 注１：本位置図は、見下げた状態で記載すること。 注２：覆工スパン番号は横断目地毎(矢板工法の場合は上半アーチ の横断目地毎)に設定すること。 注３：写真番号に付する変状番号は、各覆工スパンの変状に対して新た に確認された場合は順次追加していくこと。 注４：横断目地の変状は前の覆工スパン番号で計上すること。 注５：１枚に収まらない場合は、複数枚に分けて作成すること。
C28: ※1 トンネル本体工の変状数は、材質劣化、漏水に起因するものは変状単位で、外力に起因するものはスパン単位で計上すること。
C29: ※2 本体工の変状に対しては、健全性の判定区分Ⅱ～Ⅳについて添付すること。また、点検前に実施された措置によりⅠと判定された箇所も添付すること。
C30: ※3 附属物の取付状態の○欄については、応急措置前に判定区分×とした箇所のうち応急措置により○判定とした箇所の数を記入すること。
C31: ※4 附属物の異常番号は、本体工と番号が重複しないよう101番以降とする等の配慮を行い、分かりやすく記録すること。

Sheet 様式B(トンネル様式1P014)
B2: ■定期点検記録様式 トンネル変状・異常箇所写真位置図 | T2: トンネルID | V2: 34.15492.131.19489 | AA2: Ⅰ | AB2: あり | AC2: 陸上トンネル 掘進工法
B3: フリガナ | D3: ='様式B(トンネル様式1P001)'!D3:G3 -> ミネトンネル | H3: 路線名 | J3: ='様式B(トンネル様式1P001)'!J3:M4 -> 一般国道 316号 | N3: 管理者名 | P3: ='様式B(トンネル様式1P001)'!P3:S4 -> 宇部土木建築事務所 | T3: 緊急輸送道路 | V3: あり | AA3: Ⅱ | AB3: なし | AC3: 陸上トンネル 開削工法
B4: 名 称 | D4: ='様式B(トンネル様式1P001)'!D4:G4 -> 美祢トンネル | T4: 代替路の有無 | V4: あり | AA4: Ⅲ | AC4: 陸上トンネル その他
B5: 所在地 | D5: 自 | E5: ='様式B(トンネル様式1P001)'!E5:G5 -> 山口県美祢市伊佐町 | H5: 定期点検業者 | K5: ='様式B(トンネル様式1P001)'!K5:N5 -> 株式会社ニュージェック | O5: 定期点検年月日 | Q5: ='様式B(トンネル様式1P001)'!Q5:S6 -> 44294 | T5: トンネル延長 | V5: L= | W5: ='様式A-1'!Z5 -> 1265 | Y5: ｍ | AA5: Ⅳ | AC5: 水底トンネル 掘進工法
D6: 至 | E6: ='様式B(トンネル様式1P001)'!E6:G6 -> 山口県美祢市伊佐町 | H6: 定期点検者名 | K6: ='様式B(トンネル様式1P001)'!K6:N6 -> 石村 勝伸 | T6: ﾄﾝﾈﾙの分類 | V6: 陸上トンネル 掘進工法 | AC6: 水底トンネル 沈埋工法
B7: 起点 | C7: 緯度 | D7: ='様式A-1'!E7 -> 340917.7 | F7: 変状・異常 箇所数合計 | H7: トンネル 本体工 | J7: 材質劣化 | L7: Ⅱ | M7: ='様式B(トンネル様式1P001)'!M7:M10 -> 109 | N7: Ⅲ | O7: ='様式B(トンネル様式1P001)'!O7:O10 -> 0 | P7: Ⅳ | Q7: ='様式B(トンネル様式1P001)'!Q7:Q10 -> 0 | R7: トンネル毎 の健全性 | T7: =様式F!AJ4 -> Ⅲ | V7: 附属物の 取付状態 | W7: ◯ （応急措置後） | Y7: ='様式B(トンネル様式1P001)'!Y7:Y12 -> 0 | AC7: 水底トンネル 開削工法
AC8: 水底トンネル その他
C10: 経度 | D10: ='様式A-1'!E8 -> 1311141.6
J11: 漏水 | L11: Ⅱ | M11: ='様式B(トンネル様式1P001)'!M11:M14 -> 55 | N11: Ⅲ | O11: ='様式B(トンネル様式1P001)'!O11:O14 -> 0 | P11: Ⅳ | Q11: ='様式B(トンネル様式1P001)'!Q11:Q14 -> 0
B13: 終点 | C13: 緯度 | D13: ='様式A-1'!E9 -> 340837.7 | W13: ✕ | Y13: ='様式B(トンネル様式1P001)'!Y13:Y18 -> 25
J15: 外力 | L15: Ⅱ | M15: ='様式B(トンネル様式1P001)'!M15:M18 -> 3 | N15: Ⅲ | O15: ='様式B(トンネル様式1P001)'!O15:O18 -> 3 | P15: Ⅳ | Q15: ='様式B(トンネル様式1P001)'!Q15:Q18 -> 0 | AC15: 0
C16: 経度 | D16: ='様式A-1'!E10 -> 1311156.1
B19: トンネル変状・異常箇所写真位置図
P26: 注１：本位置図は、見下げた状態で記載すること。 注２：覆工スパン番号は横断目地毎(矢板工法の場合は上半アーチ の横断目地毎)に設定すること。 注３：写真番号に付する変状番号は、各覆工スパンの変状に対して新た に確認された場合は順次追加していくこと。 注４：横断目地の変状は前の覆工スパン番号で計上すること。 注５：１枚に収まらない場合は、複数枚に分けて作成すること。
C28: ※1 トンネル本体工の変状数は、材質劣化、漏水に起因するものは変状単位で、外力に起因するものはスパン単位で計上すること。
C29: ※2 本体工の変状に対しては、健全性の判定区分Ⅱ～Ⅳについて添付すること。また、点検前に実施された措置によりⅠと判定された箇所も添付すること。
C30: ※3 附属物の取付状態の○欄については、応急措置前に判定区分×とした箇所のうち応急措置により○判定とした箇所の数を記入すること。
C31: ※4 附属物の異常番号は、本体工と番号が重複しないよう101番以降とする等の配慮を行い、分かりやすく記録すること。

Sheet 様式B(トンネル様式1P015)
B2: ■定期点検記録様式 トンネル変状・異常箇所写真位置図 | T2: トンネルID | V2: 34.15492.131.19489 | AA2: Ⅰ | AB2: あり | AC2: 陸上トンネル 掘進工法
B3: フリガナ | D3: ='様式B(トンネル様式1P001)'!D3:G3 -> ミネトンネル | H3: 路線名 | J3: ='様式B(トンネル様式1P001)'!J3:M4 -> 一般国道 316号 | N3: 管理者名 | P3: ='様式B(トンネル様式1P001)'!P3:S4 -> 宇部土木建築事務所 | T3: 緊急輸送道路 | V3: あり | AA3: Ⅱ | AB3: なし | AC3: 陸上トンネル 開削工法
B4: 名 称 | D4: ='様式B(トンネル様式1P001)'!D4:G4 -> 美祢トンネル | T4: 代替路の有無 | V4: あり | AA4: Ⅲ | AC4: 陸上トンネル その他
B5: 所在地 | D5: 自 | E5: ='様式B(トンネル様式1P001)'!E5:G5 -> 山口県美祢市伊佐町 | H5: 定期点検業者 | K5: ='様式B(トンネル様式1P001)'!K5:N5 -> 株式会社ニュージェック | O5: 定期点検年月日 | Q5: ='様式B(トンネル様式1P001)'!Q5:S6 -> 44294 | T5: トンネル延長 | V5: L= | W5: ='様式A-1'!Z5 -> 1265 | Y5: ｍ | AA5: Ⅳ | AC5: 水底トンネル 掘進工法
D6: 至 | E6: ='様式B(トンネル様式1P001)'!E6:G6 -> 山口県美祢市伊佐町 | H6: 定期点検者名 | K6: ='様式B(トンネル様式1P001)'!K6:N6 -> 石村 勝伸 | T6: ﾄﾝﾈﾙの分類 | V6: 陸上トンネル 掘進工法 | AC6: 水底トンネル 沈埋工法
B7: 起点 | C7: 緯度 | D7: ='様式A-1'!E7 -> 340917.7 | F7: 変状・異常 箇所数合計 | H7: トンネル 本体工 | J7: 材質劣化 | L7: Ⅱ | M7: ='様式B(トンネル様式1P001)'!M7:M10 -> 109 | N7: Ⅲ | O7: ='様式B(トンネル様式1P001)'!O7:O10 -> 0 | P7: Ⅳ | Q7: ='様式B(トンネル様式1P001)'!Q7:Q10 -> 0 | R7: トンネル毎 の健全性 | T7: =様式F!AJ4 -> Ⅲ | V7: 附属物の 取付状態 | W7: ◯ （応急措置後） | Y7: ='様式B(トンネル様式1P001)'!Y7:Y12 -> 0 | AC7: 水底トンネル 開削工法
AC8: 水底トンネル その他
C10: 経度 | D10: ='様式A-1'!E8 -> 1311141.6
J11: 漏水 | L11: Ⅱ | M11: ='様式B(トンネル様式1P001)'!M11:M14 -> 55 | N11: Ⅲ | O11: ='様式B(トンネル様式1P001)'!O11:O14 -> 0 | P11: Ⅳ | Q11: ='様式B(トンネル様式1P001)'!Q11:Q14 -> 0
B13: 終点 | C13: 緯度 | D13: ='様式A-1'!E9 -> 340837.7 | W13: ✕ | Y13: ='様式B(トンネル様式1P001)'!Y13:Y18 -> 25
J15: 外力 | L15: Ⅱ | M15: ='様式B(トンネル様式1P001)'!M15:M18 -> 3 | N15: Ⅲ | O15: ='様式B(トンネル様式1P001)'!O15:O18 -> 3 | P15: Ⅳ | Q15: ='様式B(トンネル様式1P001)'!Q15:Q18 -> 0 | AC15: 0
C16: 経度 | D16: ='様式A-1'!E10 -> 1311156.1
B19: トンネル変状・異常箇所写真位置図
P26: 注１：本位置図は、見下げた状態で記載すること。 注２：覆工スパン番号は横断目地毎(矢板工法の場合は上半アーチ の横断目地毎)に設定すること。 注３：写真番号に付する変状番号は、各覆工スパンの変状に対して新た に確認された場合は順次追加していくこと。 注４：横断目地の変状は前の覆工スパン番号で計上すること。 注５：１枚に収まらない場合は、複数枚に分けて作成すること。
C28: ※1 トンネル本体工の変状数は、材質劣化、漏水に起因するものは変状単位で、外力に起因するものはスパン単位で計上すること。
C29: ※2 本体工の変状に対しては、健全性の判定区分Ⅱ～Ⅳについて添付すること。また、点検前に実施された措置によりⅠと判定された箇所も添付すること。
C30: ※3 附属物の取付状態の○欄については、応急措置前に判定区分×とした箇所のうち応急措置により○判定とした箇所の数を記入すること。
C31: ※4 附属物の異常番号は、本体工と番号が重複しないよう101番以降とする等の配慮を行い、分かりやすく記録すること。

Sheet 様式B(トンネル様式1P016)
B2: ■定期点検記録様式 トンネル変状・異常箇所写真位置図 | T2: トンネルID | V2: 34.15492.131.19489 | AA2: Ⅰ | AB2: あり | AC2: 陸上トンネル 掘進工法
B3: フリガナ | D3: ='様式B(トンネル様式1P001)'!D3:G3 -> ミネトンネル | H3: 路線名 | J3: ='様式B(トンネル様式1P001)'!J3:M4 -> 一般国道 316号 | N3: 管理者名 | P3: ='様式B(トンネル様式1P001)'!P3:S4 -> 宇部土木建築事務所 | T3: 緊急輸送道路 | V3: あり | AA3: Ⅱ | AB3: なし | AC3: 陸上トンネル 開削工法
B4: 名 称 | D4: ='様式B(トンネル様式1P001)'!D4:G4 -> 美祢トンネル | T4: 代替路の有無 | V4: あり | AA4: Ⅲ | AC4: 陸上トンネル その他
B5: 所在地 | D5: 自 | E5: ='様式B(トンネル様式1P001)'!E5:G5 -> 山口県美祢市伊佐町 | H5: 定期点検業者 | K5: ='様式B(トンネル様式1P001)'!K5:N5 -> 株式会社ニュージェック | O5: 定期点検年月日 | Q5: ='様式B(トンネル様式1P001)'!Q5:S6 -> 44294 | T5: トンネル延長 | V5: L= | W5: ='様式A-1'!Z5 -> 1265 | Y5: ｍ | AA5: Ⅳ | AC5: 水底トンネル 掘進工法
D6: 至 | E6: ='様式B(トンネル様式1P001)'!E6:G6 -> 山口県美祢市伊佐町 | H6: 定期点検者名 | K6: ='様式B(トンネル様式1P001)'!K6:N6 -> 石村 勝伸 | T6: ﾄﾝﾈﾙの分類 | V6: 陸上トンネル 掘進工法 | AC6: 水底トンネル 沈埋工法
B7: 起点 | C7: 緯度 | D7: ='様式A-1'!E7 -> 340917.7 | F7: 変状・異常 箇所数合計 | H7: トンネル 本体工 | J7: 材質劣化 | L7: Ⅱ | M7: ='様式B(トンネル様式1P001)'!M7:M10 -> 109 | N7: Ⅲ | O7: ='様式B(トンネル様式1P001)'!O7:O10 -> 0 | P7: Ⅳ | Q7: ='様式B(トンネル様式1P001)'!Q7:Q10 -> 0 | R7: トンネル毎 の健全性 | T7: =様式F!AJ4 -> Ⅲ | V7: 附属物の 取付状態 | W7: ◯ （応急措置後） | Y7: ='様式B(トンネル様式1P001)'!Y7:Y12 -> 0 | AC7: 水底トンネル 開削工法
AC8: 水底トンネル その他
C10: 経度 | D10: ='様式A-1'!E8 -> 1311141.6
J11: 漏水 | L11: Ⅱ | M11: ='様式B(トンネル様式1P001)'!M11:M14 -> 55 | N11: Ⅲ | O11: ='様式B(トンネル様式1P001)'!O11:O14 -> 0 | P11: Ⅳ | Q11: ='様式B(トンネル様式1P001)'!Q11:Q14 -> 0
B13: 終点 | C13: 緯度 | D13: ='様式A-1'!E9 -> 340837.7 | W13: ✕ | Y13: ='様式B(トンネル様式1P001)'!Y13:Y18 -> 25
J15: 外力 | L15: Ⅱ | M15: ='様式B(トンネル様式1P001)'!M15:M18 -> 3 | N15: Ⅲ | O15: ='様式B(トンネル様式1P001)'!O15:O18 -> 3 | P15: Ⅳ | Q15: ='様式B(トンネル様式1P001)'!Q15:Q18 -> 0 | AC15: 0
C16: 経度 | D16: ='様式A-1'!E10 -> 1311156.1
B19: トンネル変状・異常箇所写真位置図
P26: 注１：本位置図は、見下げた状態で記載すること。 注２：覆工スパン番号は横断目地毎(矢板工法の場合は上半アーチ の横断目地毎)に設定すること。 注３：写真番号に付する変状番号は、各覆工スパンの変状に対して新た に確認された場合は順次追加していくこと。 注４：横断目地の変状は前の覆工スパン番号で計上すること。 注５：１枚に収まらない場合は、複数枚に分けて作成すること。
C28: ※1 トンネル本体工の変状数は、材質劣化、漏水に起因するものは変状単位で、外力に起因するものはスパン単位で計上すること。
C29: ※2 本体工の変状に対しては、健全性の判定区分Ⅱ～Ⅳについて添付すること。また、点検前に実施された措置によりⅠと判定された箇所も添付すること。
C30: ※3 附属物の取付状態の○欄については、応急措置前に判定区分×とした箇所のうち応急措置により○判定とした箇所の数を記入すること。
C31: ※4 附属物の異常番号は、本体工と番号が重複しないよう101番以降とする等の配慮を行い、分かりやすく記録すること。

Sheet 様式B(トンネル様式1P017)
B2: ■定期点検記録様式 トンネル変状・異常箇所写真位置図 | T2: トンネルID | V2: 34.15492.131.19489 | AA2: Ⅰ | AB2: あり | AC2: 陸上トンネル 掘進工法
B3: フリガナ | D3: ='様式B(トンネル様式1P001)'!D3:G3 -> ミネトンネル | H3: 路線名 | J3: ='様式B(トンネル様式1P001)'!J3:M4 -> 一般国道 316号 | N3: 管理者名 | P3: ='様式B(トンネル様式1P001)'!P3:S4 -> 宇部土木建築事務所 | T3: 緊急輸送道路 | V3: あり | AA3: Ⅱ | AB3: なし | AC3: 陸上トンネル 開削工法
B4: 名 称 | D4: ='様式B(トンネル様式1P001)'!D4:G4 -> 美祢トンネル | T4: 代替路の有無 | V4: あり | AA4: Ⅲ | AC4: 陸上トンネル その他
B5: 所在地 | D5: 自 | E5: ='様式B(トンネル様式1P001)'!E5:G5 -> 山口県美祢市伊佐町 | H5: 定期点検業者 | K5: ='様式B(トンネル様式1P001)'!K5:N5 -> 株式会社ニュージェック | O5: 定期点検年月日 | Q5: ='様式B(トンネル様式1P001)'!Q5:S6 -> 44294 | T5: トンネル延長 | V5: L= | W5: ='様式A-1'!Z5 -> 1265 | Y5: ｍ | AA5: Ⅳ | AC5: 水底トンネル 掘進工法
D6: 至 | E6: ='様式B(トンネル様式1P001)'!E6:G6 -> 山口県美祢市伊佐町 | H6: 定期点検者名 | K6: ='様式B(トンネル様式1P001)'!K6:N6 -> 石村 勝伸 | T6: ﾄﾝﾈﾙの分類 | V6: 陸上トンネル 掘進工法 | AC6: 水底トンネル 沈埋工法
B7: 起点 | C7: 緯度 | D7: ='様式A-1'!E7 -> 340917.7 | F7: 変状・異常 箇所数合計 | H7: トンネル 本体工 | J7: 材質劣化 | L7: Ⅱ | M7: ='様式B(トンネル様式1P001)'!M7:M10 -> 109 | N7: Ⅲ | O7: ='様式B(トンネル様式1P001)'!O7:O10 -> 0 | P7: Ⅳ | Q7: ='様式B(トンネル様式1P001)'!Q7:Q10 -> 0 | R7: トンネル毎 の健全性 | T7: =様式F!AJ4 -> Ⅲ | V7: 附属物の 取付状態 | W7: ◯ （応急措置後） | Y7: ='様式B(トンネル様式1P001)'!Y7:Y12 -> 0 | AC7: 水底トンネル 開削工法
AC8: 水底トンネル その他
C10: 経度 | D10: ='様式A-1'!E8 -> 1311141.6
J11: 漏水 | L11: Ⅱ | M11: ='様式B(トンネル様式1P001)'!M11:M14 -> 55 | N11: Ⅲ | O11: ='様式B(トンネル様式1P001)'!O11:O14 -> 0 | P11: Ⅳ | Q11: ='様式B(トンネル様式1P001)'!Q11:Q14 -> 0
B13: 終点 | C13: 緯度 | D13: ='様式A-1'!E9 -> 340837.7 | W13: ✕ | Y13: ='様式B(トンネル様式1P001)'!Y13:Y18 -> 25
J15: 外力 | L15: Ⅱ | M15: ='様式B(トンネル様式1P001)'!M15:M18 -> 3 | N15: Ⅲ | O15: ='様式B(トンネル様式1P001)'!O15:O18 -> 3 | P15: Ⅳ | Q15: ='様式B(トンネル様式1P001)'!Q15:Q18 -> 0 | AC15: 0
C16: 経度 | D16: ='様式A-1'!E10 -> 1311156.1
B19: トンネル変状・異常箇所写真位置図
P26: 注１：本位置図は、見下げた状態で記載すること。 注２：覆工スパン番号は横断目地毎(矢板工法の場合は上半アーチ の横断目地毎)に設定すること。 注３：写真番号に付する変状番号は、各覆工スパンの変状に対して新た に確認された場合は順次追加していくこと。 注４：横断目地の変状は前の覆工スパン番号で計上すること。 注５：１枚に収まらない場合は、複数枚に分けて作成すること。
C28: ※1 トンネル本体工の変状数は、材質劣化、漏水に起因するものは変状単位で、外力に起因するものはスパン単位で計上すること。
C29: ※2 本体工の変状に対しては、健全性の判定区分Ⅱ～Ⅳについて添付すること。また、点検前に実施された措置によりⅠと判定された箇所も添付すること。
C30: ※3 附属物の取付状態の○欄については、応急措置前に判定区分×とした箇所のうち応急措置により○判定とした箇所の数を記入すること。
C31: ※4 附属物の異常番号は、本体工と番号が重複しないよう101番以降とする等の配慮を行い、分かりやすく記録すること。

Sheet 様式B(トンネル様式1P018)
B2: ■定期点検記録様式 トンネル変状・異常箇所写真位置図 | T2: トンネルID | V2: 34.15492.131.19489 | AA2: Ⅰ | AB2: あり | AC2: 陸上トンネル 掘進工法
B3: フリガナ | D3: ='様式B(トンネル様式1P001)'!D3:G3 -> ミネトンネル | H3: 路線名 | J3: ='様式B(トンネル様式1P001)'!J3:M4 -> 一般国道 316号 | N3: 管理者名 | P3: ='様式B(トンネル様式1P001)'!P3:S4 -> 宇部土木建築事務所 | T3: 緊急輸送道路 | V3: あり | AA3: Ⅱ | AB3: なし | AC3: 陸上トンネル 開削工法
B4: 名 称 | D4: ='様式B(トンネル様式1P001)'!D4:G4 -> 美祢トンネル | T4: 代替路の有無 | V4: あり | AA4: Ⅲ | AC4: 陸上トンネル その他
B5: 所在地 | D5: 自 | E5: ='様式B(トンネル様式1P001)'!E5:G5 -> 山口県美祢市伊佐町 | H5: 定期点検業者 | K5: ='様式B(トンネル様式1P001)'!K5:N5 -> 株式会社ニュージェック | O5: 定期点検年月日 | Q5: ='様式B(トンネル様式1P001)'!Q5:S6 -> 44294 | T5: トンネル延長 | V5: L= | W5: ='様式A-1'!Z5 -> 1265 | Y5: ｍ | AA5: Ⅳ | AC5: 水底トンネル 掘進工法
D6: 至 | E6: ='様式B(トンネル様式1P001)'!E6:G6 -> 山口県美祢市伊佐町 | H6: 定期点検者名 | K6: ='様式B(トンネル様式1P001)'!K6:N6 -> 石村 勝伸 | T6: ﾄﾝﾈﾙの分類 | V6: 陸上トンネル 掘進工法 | AC6: 水底トンネル 沈埋工法
B7: 起点 | C7: 緯度 | D7: ='様式A-1'!E7 -> 340917.7 | F7: 変状・異常 箇所数合計 | H7: トンネル 本体工 | J7: 材質劣化 | L7: Ⅱ | M7: ='様式B(トンネル様式1P001)'!M7:M10 -> 109 | N7: Ⅲ | O7: ='様式B(トンネル様式1P001)'!O7:O10 -> 0 | P7: Ⅳ | Q7: ='様式B(トンネル様式1P001)'!Q7:Q10 -> 0 | R7: トンネル毎 の健全性 | T7: =様式F!AJ4 -> Ⅲ | V7: 附属物の 取付状態 | W7: ◯ （応急措置後） | Y7: ='様式B(トンネル様式1P001)'!Y7:Y12 -> 0 | AC7: 水底トンネル 開削工法
AC8: 水底トンネル その他
C10: 経度 | D10: ='様式A-1'!E8 -> 1311141.6
J11: 漏水 | L11: Ⅱ | M11: ='様式B(トンネル様式1P001)'!M11:M14 -> 55 | N11: Ⅲ | O11: ='様式B(トンネル様式1P001)'!O11:O14 -> 0 | P11: Ⅳ | Q11: ='様式B(トンネル様式1P001)'!Q11:Q14 -> 0
B13: 終点 | C13: 緯度 | D13: ='様式A-1'!E9 -> 340837.7 | W13: ✕ | Y13: ='様式B(トンネル様式1P001)'!Y13:Y18 -> 25
J15: 外力 | L15: Ⅱ | M15: ='様式B(トンネル様式1P001)'!M15:M18 -> 3 | N15: Ⅲ | O15: ='様式B(トンネル様式1P001)'!O15:O18 -> 3 | P15: Ⅳ | Q15: ='様式B(トンネル様式1P001)'!Q15:Q18 -> 0 | AC15: 0
C16: 経度 | D16: ='様式A-1'!E10 -> 1311156.1
B19: トンネル変状・異常箇所写真位置図
P26: 注１：本位置図は、見下げた状態で記載すること。 注２：覆工スパン番号は横断目地毎(矢板工法の場合は上半アーチ の横断目地毎)に設定すること。 注３：写真番号に付する変状番号は、各覆工スパンの変状に対して新た に確認された場合は順次追加していくこと。 注４：横断目地の変状は前の覆工スパン番号で計上すること。 注５：１枚に収まらない場合は、複数枚に分けて作成すること。
C28: ※1 トンネル本体工の変状数は、材質劣化、漏水に起因するものは変状単位で、外力に起因するものはスパン単位で計上すること。
C29: ※2 本体工の変状に対しては、健全性の判定区分Ⅱ～Ⅳについて添付すること。また、点検前に実施された措置によりⅠと判定された箇所も添付すること。
C30: ※3 附属物の取付状態の○欄については、応急措置前に判定区分×とした箇所のうち応急措置により○判定とした箇所の数を記入すること。
C31: ※4 附属物の異常番号は、本体工と番号が重複しないよう101番以降とする等の配慮を行い、分かりやすく記録すること。

Sheet 様式B(トンネル様式1P019)
B2: ■定期点検記録様式 トンネル変状・異常箇所写真位置図 | T2: トンネルID | V2: 34.15492.131.19489 | AA2: Ⅰ | AB2: あり | AC2: 陸上トンネル 掘進工法
B3: フリガナ | D3: ='様式B(トンネル様式1P001)'!D3:G3 -> ミネトンネル | H3: 路線名 | J3: ='様式B(トンネル様式1P001)'!J3:M4 -> 一般国道 316号 | N3: 管理者名 | P3: ='様式B(トンネル様式1P001)'!P3:S4 -> 宇部土木建築事務所 | T3: 緊急輸送道路 | V3: あり | AA3: Ⅱ | AB3: なし | AC3: 陸上トンネル 開削工法
B4: 名 称 | D4: ='様式B(トンネル様式1P001)'!D4:G4 -> 美祢トンネル | T4: 代替路の有無 | V4: あり | AA4: Ⅲ | AC4: 陸上トンネル その他
B5: 所在地 | D5: 自 | E5: ='様式B(トンネル様式1P001)'!E5:G5 -> 山口県美祢市伊佐町 | H5: 定期点検業者 | K5: ='様式B(トンネル様式1P001)'!K5:N5 -> 株式会社ニュージェック | O5: 定期点検年月日 | Q5: ='様式B(トンネル様式1P001)'!Q5:S6 -> 44294 | T5: トンネル延長 | V5: L= | W5: ='様式A-1'!Z5 -> 1265 | Y5: ｍ | AA5: Ⅳ | AC5: 水底トンネル 掘進工法
D6: 至 | E6: ='様式B(トンネル様式1P001)'!E6:G6 -> 山口県美祢市伊佐町 | H6: 定期点検者名 | K6: ='様式B(トンネル様式1P001)'!K6:N6 -> 石村 勝伸 | T6: ﾄﾝﾈﾙの分類 | V6: 陸上トンネル 掘進工法 | AC6: 水底トンネル 沈埋工法
B7: 起点 | C7: 緯度 | D7: ='様式A-1'!E7 -> 340917.7 | F7: 変状・異常 箇所数合計 | H7: トンネル 本体工 | J7: 材質劣化 | L7: Ⅱ | M7: ='様式B(トンネル様式1P001)'!M7:M10 -> 109 | N7: Ⅲ | O7: ='様式B(トンネル様式1P001)'!O7:O10 -> 0 | P7: Ⅳ | Q7: ='様式B(トンネル様式1P001)'!Q7:Q10 -> 0 | R7: トンネル毎 の健全性 | T7: =様式F!AJ4 -> Ⅲ | V7: 附属物の 取付状態 | W7: ◯ （応急措置後） | Y7: ='様式B(トンネル様式1P001)'!Y7:Y12 -> 0 | AC7: 水底トンネル 開削工法
AC8: 水底トンネル その他
C10: 経度 | D10: ='様式A-1'!E8 -> 1311141.6
J11: 漏水 | L11: Ⅱ | M11: ='様式B(トンネル様式1P001)'!M11:M14 -> 55 | N11: Ⅲ | O11: ='様式B(トンネル様式1P001)'!O11:O14 -> 0 | P11: Ⅳ | Q11: ='様式B(トンネル様式1P001)'!Q11:Q14 -> 0
B13: 終点 | C13: 緯度 | D13: ='様式A-1'!E9 -> 340837.7 | W13: ✕ | Y13: ='様式B(トンネル様式1P001)'!Y13:Y18 -> 25
J15: 外力 | L15: Ⅱ | M15: ='様式B(トンネル様式1P001)'!M15:M18 -> 3 | N15: Ⅲ | O15: ='様式B(トンネル様式1P001)'!O15:O18 -> 3 | P15: Ⅳ | Q15: ='様式B(トンネル様式1P001)'!Q15:Q18 -> 0 | AC15: 0
C16: 経度 | D16: ='様式A-1'!E10 -> 1311156.1
B19: トンネル変状・異常箇所写真位置図
P26: 注１：本位置図は、見下げた状態で記載すること。 注２：覆工スパン番号は横断目地毎(矢板工法の場合は上半アーチ の横断目地毎)に設定すること。 注３：写真番号に付する変状番号は、各覆工スパンの変状に対して新た に確認された場合は順次追加していくこと。 注４：横断目地の変状は前の覆工スパン番号で計上すること。 注５：１枚に収まらない場合は、複数枚に分けて作成すること。
C28: ※1 トンネル本体工の変状数は、材質劣化、漏水に起因するものは変状単位で、外力に起因するものはスパン単位で計上すること。
C29: ※2 本体工の変状に対しては、健全性の判定区分Ⅱ～Ⅳについて添付すること。また、点検前に実施された措置によりⅠと判定された箇所も添付すること。
C30: ※3 附属物の取付状態の○欄については、応急措置前に判定区分×とした箇所のうち応急措置により○判定とした箇所の数を記入すること。
C31: ※4 附属物の異常番号は、本体工と番号が重複しないよう101番以降とする等の配慮を行い、分かりやすく記録すること。

Sheet 様式B(トンネル様式1P020)
B2: ■定期点検記録様式 トンネル変状・異常箇所写真位置図 | T2: トンネルID | V2: 34.15492.131.19489 | AA2: Ⅰ | AB2: あり | AC2: 陸上トンネル 掘進工法
B3: フリガナ | D3: ='様式B(トンネル様式1P001)'!D3:G3 -> ミネトンネル | H3: 路線名 | J3: ='様式B(トンネル様式1P001)'!J3:M4 -> 一般国道 316号 | N3: 管理者名 | P3: ='様式B(トンネル様式1P001)'!P3:S4 -> 宇部土木建築事務所 | T3: 緊急輸送道路 | V3: あり | AA3: Ⅱ | AB3: なし | AC3: 陸上トンネル 開削工法
B4: 名 称 | D4: ='様式B(トンネル様式1P001)'!D4:G4 -> 美祢トンネル | T4: 代替路の有無 | V4: あり | AA4: Ⅲ | AC4: 陸上トンネル その他
B5: 所在地 | D5: 自 | E5: ='様式B(トンネル様式1P001)'!E5:G5 -> 山口県美祢市伊佐町 | H5: 定期点検業者 | K5: ='様式B(トンネル様式1P001)'!K5:N5 -> 株式会社ニュージェック | O5: 定期点検年月日 | Q5: ='様式B(トンネル様式1P001)'!Q5:S6 -> 44294 | T5: トンネル延長 | V5: L= | W5: ='様式A-1'!Z5 -> 1265 | Y5: ｍ | AA5: Ⅳ | AC5: 水底トンネル 掘進工法
D6: 至 | E6: ='様式B(トンネル様式1P001)'!E6:G6 -> 山口県美祢市伊佐町 | H6: 定期点検者名 | K6: ='様式B(トンネル様式1P001)'!K6:N6 -> 石村 勝伸 | T6: ﾄﾝﾈﾙの分類 | V6: 陸上トンネル 掘進工法 | AC6: 水底トンネル 沈埋工法
B7: 起点 | C7: 緯度 | D7: ='様式A-1'!E7 -> 340917.7 | F7: 変状・異常 箇所数合計 | H7: トンネル 本体工 | J7: 材質劣化 | L7: Ⅱ | M7: ='様式B(トンネル様式1P001)'!M7:M10 -> 109 | N7: Ⅲ | O7: ='様式B(トンネル様式1P001)'!O7:O10 -> 0 | P7: Ⅳ | Q7: ='様式B(トンネル様式1P001)'!Q7:Q10 -> 0 | R7: トンネル毎 の健全性 | T7: =様式F!AJ4 -> Ⅲ | V7: 附属物の 取付状態 | W7: ◯ （応急措置後） | Y7: ='様式B(トンネル様式1P001)'!Y7:Y12 -> 0 | AC7: 水底トンネル 開削工法
AC8: 水底トンネル その他
C10: 経度 | D10: ='様式A-1'!E8 -> 1311141.6
J11: 漏水 | L11: Ⅱ | M11: ='様式B(トンネル様式1P001)'!M11:M14 -> 55 | N11: Ⅲ | O11: ='様式B(トンネル様式1P001)'!O11:O14 -> 0 | P11: Ⅳ | Q11: ='様式B(トンネル様式1P001)'!Q11:Q14 -> 0
B13: 終点 | C13: 緯度 | D13: ='様式A-1'!E9 -> 340837.7 | W13: ✕ | Y13: ='様式B(トンネル様式1P001)'!Y13:Y18 -> 25
J15: 外力 | L15: Ⅱ | M15: ='様式B(トンネル様式1P001)'!M15:M18 -> 3 | N15: Ⅲ | O15: ='様式B(トンネル様式1P001)'!O15:O18 -> 3 | P15: Ⅳ | Q15: ='様式B(トンネル様式1P001)'!Q15:Q18 -> 0 | AC15: 0
C16: 経度 | D16: ='様式A-1'!E10 -> 1311156.1
B19: トンネル変状・異常箇所写真位置図
P26: 注１：本位置図は、見下げた状態で記載すること。 注２：覆工スパン番号は横断目地毎(矢板工法の場合は上半アーチ の横断目地毎)に設定すること。 注３：写真番号に付する変状番号は、各覆工スパンの変状に対して新た に確認された場合は順次追加していくこと。 注４：横断目地の変状は前の覆工スパン番号で計上すること。 注５：１枚に収まらない場合は、複数枚に分けて作成すること。
C28: ※1 トンネル本体工の変状数は、材質劣化、漏水に起因するものは変状単位で、外力に起因するものはスパン単位で計上すること。
C29: ※2 本体工の変状に対しては、健全性の判定区分Ⅱ～Ⅳについて添付すること。また、点検前に実施された措置によりⅠと判定された箇所も添付すること。
C30: ※3 附属物の取付状態の○欄については、応急措置前に判定区分×とした箇所のうち応急措置により○判定とした箇所の数を記入すること。
C31: ※4 附属物の異常番号は、本体工と番号が重複しないよう101番以降とする等の配慮を行い、分かりやすく記録すること。

Sheet 様式B(トンネル様式1P021)
B2: ■定期点検記録様式 トンネル変状・異常箇所写真位置図 | T2: トンネルID | V2: 34.15492.131.19489 | AA2: Ⅰ | AB2: あり | AC2: 陸上トンネル 掘進工法
B3: フリガナ | D3: ='様式B(トンネル様式1P001)'!D3:G3 -> ミネトンネル | H3: 路線名 | J3: ='様式B(トンネル様式1P001)'!J3:M4 -> 一般国道 316号 | N3: 管理者名 | P3: ='様式B(トンネル様式1P001)'!P3:S4 -> 宇部土木建築事務所 | T3: 緊急輸送道路 | V3: あり | AA3: Ⅱ | AB3: なし | AC3: 陸上トンネル 開削工法
B4: 名 称 | D4: ='様式B(トンネル様式1P001)'!D4:G4 -> 美祢トンネル | T4: 代替路の有無 | V4: あり | AA4: Ⅲ | AC4: 陸上トンネル その他
B5: 所在地 | D5: 自 | E5: ='様式B(トンネル様式1P001)'!E5:G5 -> 山口県美祢市伊佐町 | H5: 定期点検業者 | K5: ='様式B(トンネル様式1P001)'!K5:N5 -> 株式会社ニュージェック | O5: 定期点検年月日 | Q5: ='様式B(トンネル様式1P001)'!Q5:S6 -> 44294 | T5: トンネル延長 | V5: L= | W5: ='様式A-1'!Z5 -> 1265 | Y5: ｍ | AA5: Ⅳ | AC5: 水底トンネル 掘進工法
D6: 至 | E6: ='様式B(トンネル様式1P001)'!E6:G6 -> 山口県美祢市伊佐町 | H6: 定期点検者名 | K6: ='様式B(トンネル様式1P001)'!K6:N6 -> 石村 勝伸 | T6: ﾄﾝﾈﾙの分類 | V6: 陸上トンネル 掘進工法 | AC6: 水底トンネル 沈埋工法
B7: 起点 | C7: 緯度 | D7: ='様式A-1'!E7 -> 340917.7 | F7: 変状・異常 箇所数合計 | H7: トンネル 本体工 | J7: 材質劣化 | L7: Ⅱ | M7: ='様式B(トンネル様式1P001)'!M7:M10 -> 109 | N7: Ⅲ | O7: ='様式B(トンネル様式1P001)'!O7:O10 -> 0 | P7: Ⅳ | Q7: ='様式B(トンネル様式1P001)'!Q7:Q10 -> 0 | R7: トンネル毎 の健全性 | T7: =様式F!AJ4 -> Ⅲ | V7: 附属物の 取付状態 | W7: ◯ （応急措置後） | Y7: ='様式B(トンネル様式1P001)'!Y7:Y12 -> 0 | AC7: 水底トンネル 開削工法
AC8: 水底トンネル その他
C10: 経度 | D10: ='様式A-1'!E8 -> 1311141.6
J11: 漏水 | L11: Ⅱ | M11: ='様式B(トンネル様式1P001)'!M11:M14 -> 55 | N11: Ⅲ | O11: ='様式B(トンネル様式1P001)'!O11:O14 -> 0 | P11: Ⅳ | Q11: ='様式B(トンネル様式1P001)'!Q11:Q14 -> 0
B13: 終点 | C13: 緯度 | D13: ='様式A-1'!E9 -> 340837.7 | W13: ✕ | Y13: ='様式B(トンネル様式1P001)'!Y13:Y18 -> 25
J15: 外力 | L15: Ⅱ | M15: ='様式B(トンネル様式1P001)'!M15:M18 -> 3 | N15: Ⅲ | O15: ='様式B(トンネル様式1P001)'!O15:O18 -> 3 | P15: Ⅳ | Q15: ='様式B(トンネル様式1P001)'!Q15:Q18 -> 0 | AC15: 0
C16: 経度 | D16: ='様式A-1'!E10 -> 1311156.1
B19: トンネル変状・異常箇所写真位置図
P26: 注１：本位置図は、見下げた状態で記載すること。 注２：覆工スパン番号は横断目地毎(矢板工法の場合は上半アーチ の横断目地毎)に設定すること。 注３：写真番号に付する変状番号は、各覆工スパンの変状に対して新た に確認された場合は順次追加していくこと。 注４：横断目地の変状は前の覆工スパン番号で計上すること。 注５：１枚に収まらない場合は、複数枚に分けて作成すること。
C28: ※1 トンネル本体工の変状数は、材質劣化、漏水に起因するものは変状単位で、外力に起因するものはスパン単位で計上すること。
C29: ※2 本体工の変状に対しては、健全性の判定区分Ⅱ～Ⅳについて添付すること。また、点検前に実施された措置によりⅠと判定された箇所も添付すること。
C30: ※3 附属物の取付状態の○欄については、応急措置前に判定区分×とした箇所のうち応急措置により○判定とした箇所の数を記入すること。
C31: ※4 附属物の異常番号は、本体工と番号が重複しないよう101番以降とする等の配慮を行い、分かりやすく記録すること。

Sheet 様式B(トンネル様式1P022)
B2: ■定期点検記録様式 トンネル変状・異常箇所写真位置図 | T2: トンネルID | V2: 34.15492.131.19489 | AA2: Ⅰ | AB2: あり | AC2: 陸上トンネル 掘進工法
B3: フリガナ | D3: ='様式B(トンネル様式1P001)'!D3:G3 -> ミネトンネル | H3: 路線名 | J3: ='様式B(トンネル様式1P001)'!J3:M4 -> 一般国道 316号 | N3: 管理者名 | P3: ='様式B(トンネル様式1P001)'!P3:S4 -> 宇部土木建築事務所 | T3: 緊急輸送道路 | V3: あり | AA3: Ⅱ | AB3: なし | AC3: 陸上トンネル 開削工法
B4: 名 称 | D4: ='様式B(トンネル様式1P001)'!D4:G4 -> 美祢トンネル | T4: 代替路の有無 | V4: あり | AA4: Ⅲ | AC4: 陸上トンネル その他
B5: 所在地 | D5: 自 | E5: ='様式B(トンネル様式1P001)'!E5:G5 -> 山口県美祢市伊佐町 | H5: 定期点検業者 | K5: ='様式B(トンネル様式1P001)'!K5:N5 -> 株式会社ニュージェック | O5: 定期点検年月日 | Q5: ='様式B(トンネル様式1P001)'!Q5:S6 -> 44294 | T5: トンネル延長 | V5: L= | W5: ='様式A-1'!Z5 -> 1265 | Y5: ｍ | AA5: Ⅳ | AC5: 水底トンネル 掘進工法
D6: 至 | E6: ='様式B(トンネル様式1P001)'!E6:G6 -> 山口県美祢市伊佐町 | H6: 定期点検者名 | K6: ='様式B(トンネル様式1P001)'!K6:N6 -> 石村 勝伸 | T6: ﾄﾝﾈﾙの分類 | V6: 陸上トンネル 掘進工法 | AC6: 水底トンネル 沈埋工法
B7: 起点 | C7: 緯度 | D7: ='様式A-1'!E7 -> 340917.7 | F7: 変状・異常 箇所数合計 | H7: トンネル 本体工 | J7: 材質劣化 | L7: Ⅱ | M7: ='様式B(トンネル様式1P001)'!M7:M10 -> 109 | N7: Ⅲ | O7: ='様式B(トンネル様式1P001)'!O7:O10 -> 0 | P7: Ⅳ | Q7: ='様式B(トンネル様式1P001)'!Q7:Q10 -> 0 | R7: トンネル毎 の健全性 | T7: =様式F!AJ4 -> Ⅲ | V7: 附属物の 取付状態 | W7: ◯ （応急措置後） | Y7: ='様式B(トンネル様式1P001)'!Y7:Y12 -> 0 | AC7: 水底トンネル 開削工法
AC8: 水底トンネル その他
C10: 経度 | D10: ='様式A-1'!E8 -> 1311141.6
J11: 漏水 | L11: Ⅱ | M11: ='様式B(トンネル様式1P001)'!M11:M14 -> 55 | N11: Ⅲ | O11: ='様式B(トンネル様式1P001)'!O11:O14 -> 0 | P11: Ⅳ | Q11: ='様式B(トンネル様式1P001)'!Q11:Q14 -> 0
B13: 終点 | C13: 緯度 | D13: ='様式A-1'!E9 -> 340837.7 | W13: ✕ | Y13: ='様式B(トンネル様式1P001)'!Y13:Y18 -> 25
J15: 外力 | L15: Ⅱ | M15: ='様式B(トンネル様式1P001)'!M15:M18 -> 3 | N15: Ⅲ | O15: ='様式B(トンネル様式1P001)'!O15:O18 -> 3 | P15: Ⅳ | Q15: ='様式B(トンネル様式1P001)'!Q15:Q18 -> 0 | AC15: 0
C16: 経度 | D16: ='様式A-1'!E10 -> 1311156.1
B19: トンネル変状・異常箇所写真位置図
P26: 注１：本位置図は、見下げた状態で記載すること。 注２：覆工スパン番号は横断目地毎(矢板工法の場合は上半アーチ の横断目地毎)に設定すること。 注３：写真番号に付する変状番号は、各覆工スパンの変状に対して新た に確認された場合は順次追加していくこと。 注４：横断目地の変状は前の覆工スパン番号で計上すること。 注５：１枚に収まらない場合は、複数枚に分けて作成すること。
C28: ※1 トンネル本体工の変状数は、材質劣化、漏水に起因するものは変状単位で、外力に起因するものはスパン単位で計上すること。
C29: ※2 本体工の変状に対しては、健全性の判定区分Ⅱ～Ⅳについて添付すること。また、点検前に実施された措置によりⅠと判定された箇所も添付すること。
C30: ※3 附属物の取付状態の○欄については、応急措置前に判定区分×とした箇所のうち応急措置により○判定とした箇所の数を記入すること。
C31: ※4 附属物の異常番号は、本体工と番号が重複しないよう101番以降とする等の配慮を行い、分かりやすく記録すること。

Sheet 様式B(トンネル様式1P023)
B2: ■定期点検記録様式 トンネル変状・異常箇所写真位置図 | T2: トンネルID | V2: 34.15492.131.19489 | AA2: Ⅰ | AB2: あり | AC2: 陸上トンネル 掘進工法
B3: フリガナ | D3: ='様式B(トンネル様式1P001)'!D3:G3 -> ミネトンネル | H3: 路線名 | J3: ='様式B(トンネル様式1P001)'!J3:M4 -> 一般国道 316号 | N3: 管理者名 | P3: ='様式B(トンネル様式1P001)'!P3:S4 -> 宇部土木建築事務所 | T3: 緊急輸送道路 | V3: あり | AA3: Ⅱ | AB3: なし | AC3: 陸上トンネル 開削工法
B4: 名 称 | D4: ='様式B(トンネル様式1P001)'!D4:G4 -> 美祢トンネル | T4: 代替路の有無 | V4: あり | AA4: Ⅲ | AC4: 陸上トンネル その他
B5: 所在地 | D5: 自 | E5: ='様式B(トンネル様式1P001)'!E5:G5 -> 山口県美祢市伊佐町 | H5: 定期点検業者 | K5: ='様式B(トンネル様式1P001)'!K5:N5 -> 株式会社ニュージェック | O5: 定期点検年月日 | Q5: ='様式B(トンネル様式1P001)'!Q5:S6 -> 44294 | T5: トンネル延長 | V5: L= | W5: ='様式A-1'!Z5 -> 1265 | Y5: ｍ | AA5: Ⅳ | AC5: 水底トンネル 掘進工法
D6: 至 | E6: ='様式B(トンネル様式1P001)'!E6:G6 -> 山口県美祢市伊佐町 | H6: 定期点検者名 | K6: ='様式B(トンネル様式1P001)'!K6:N6 -> 石村 勝伸 | T6: ﾄﾝﾈﾙの分類 | V6: 陸上トンネル 掘進工法 | AC6: 水底トンネル 沈埋工法
B7: 起点 | C7: 緯度 | D7: ='様式A-1'!E7 -> 340917.7 | F7: 変状・異常 箇所数合計 | H7: トンネル 本体工 | J7: 材質劣化 | L7: Ⅱ | M7: ='様式B(トンネル様式1P001)'!M7:M10 -> 109 | N7: Ⅲ | O7: ='様式B(トンネル様式1P001)'!O7:O10 -> 0 | P7: Ⅳ | Q7: ='様式B(トンネル様式1P001)'!Q7:Q10 -> 0 | R7: トンネル毎 の健全性 | T7: =様式F!AJ4 -> Ⅲ | V7: 附属物の 取付状態 | W7: ◯ （応急措置後） | Y7: ='様式B(トンネル様式1P001)'!Y7:Y12 -> 0 | AC7: 水底トンネル 開削工法
AC8: 水底トンネル その他
C10: 経度 | D10: ='様式A-1'!E8 -> 1311141.6
J11: 漏水 | L11: Ⅱ | M11: ='様式B(トンネル様式1P001)'!M11:M14 -> 55 | N11: Ⅲ | O11: ='様式B(トンネル様式1P001)'!O11:O14 -> 0 | P11: Ⅳ | Q11: ='様式B(トンネル様式1P001)'!Q11:Q14 -> 0
B13: 終点 | C13: 緯度 | D13: ='様式A-1'!E9 -> 340837.7 | W13: ✕ | Y13: ='様式B(トンネル様式1P001)'!Y13:Y18 -> 25
J15: 外力 | L15: Ⅱ | M15: ='様式B(トンネル様式1P001)'!M15:M18 -> 3 | N15: Ⅲ | O15: ='様式B(トンネル様式1P001)'!O15:O18 -> 3 | P15: Ⅳ | Q15: ='様式B(トンネル様式1P001)'!Q15:Q18 -> 0 | AC15: 0
C16: 経度 | D16: ='様式A-1'!E10 -> 1311156.1
B19: トンネル変状・異常箇所写真位置図
P26: 注１：本位置図は、見下げた状態で記載すること。 注２：覆工スパン番号は横断目地毎(矢板工法の場合は上半アーチ の横断目地毎)に設定すること。 注３：写真番号に付する変状番号は、各覆工スパンの変状に対して新た に確認された場合は順次追加していくこと。 注４：横断目地の変状は前の覆工スパン番号で計上すること。 注５：１枚に収まらない場合は、複数枚に分けて作成すること。
C28: ※1 トンネル本体工の変状数は、材質劣化、漏水に起因するものは変状単位で、外力に起因するものはスパン単位で計上すること。
C29: ※2 本体工の変状に対しては、健全性の判定区分Ⅱ～Ⅳについて添付すること。また、点検前に実施された措置によりⅠと判定された箇所も添付すること。
C30: ※3 附属物の取付状態の○欄については、応急措置前に判定区分×とした箇所のうち応急措置により○判定とした箇所の数を記入すること。
C31: ※4 附属物の異常番号は、本体工と番号が重複しないよう101番以降とする等の配慮を行い、分かりやすく記録すること。

Sheet 様式C-1-1
B2: ■定期点検記録様式 全スパン定期点検結果総括表（トンネル本体工） 【様式C-1-1】
B3: フリガナ | F3: ミネトンネル | I3: 路線名 | K3: 一般国道 316号 | O3: 定期点検業者 | Q3: 株式会社ニュージェック | U3: 定期点検年月日 | Y3: ='様式B(トンネル様式1P001)'!Q5 -> 44294
B4: 名 称 | F4: 美祢トンネル | I4: 管理者名 | K4: 宇部土木建築事務所 | O4: 定期点検者名 | Q4: ='様式B(トンネル様式1P001)'!K6 -> 石村 勝伸
B5: 定期点検結果 | C5: 覆工 スパン 番号 | E5: 変状 番号 | F5: 距離 （m） | G5: 変状部位 | I5: 変 状 の 内 容 | O5: 前回定期点検時の状態 | Q5: 今回定期点検結果 | U5: 措置履歴 | Z5: 対応方針 ・ 特記事項
G7: 対象箇所 | H7: 部位区分 | I7: 変状区分 | J7: 変状種類 | M7: 変状の発生範囲の規模 | N7: 前回定期点検時 との比較 | O7: 状態 | P7: 健全性 | Q7: 対策区分 | S7: 調査の 要否 | T7: 措置の 要否 | U7: 実施 | V7: 措置の実施状況
Q8: 応急措置前 | R8: 応急措置後
C9: PS | E9: 1 | F9: 0 | G9: 覆工・坑門 | H9: 面壁・妻壁等 | I9: 材質劣化 | J9: ひび割れ | M9: 幅0.3㎜、長さ1.1m | N9: 進行性なし | O9: Ⅰ | P9: Ⅰ | R9: Ⅰ | S9: 否 | T9: 否 | U9: － | V9: － | Z9: －
C10: PS | E10: 2 | F10: 4.2 | G10: 内装板 | H10: 側壁 | I10: 材質劣化 | J10: 補強・補修材の破損 | M10: 0.4ｍ×0.45ｍ | N10: 新規確認 | O10: － | P10: － | R10: Ⅱb | S10: 否 | T10: 要 | U10: － | V10: － | Z10: 継続監視
C11: PS | E11: 3 | F11: 0.1 | G11: 覆工・坑門 | H11: アーチ（左側） | I11: 材質劣化 | J11: ひび割れ | M11: 幅0.5㎜、長さ2.3m | N11: 進行性なし | O11: Ⅰ | P11: Ⅰ | R11: Ⅰ | S11: 否 | T11: 否 | U11: － | V11: － | Z11: －
C12: PS | E12: 4 | F12: 2.2 | G12: 覆工・坑門 | H12: アーチ（右側） | I12: 材質劣化 | J12: その他 | M12: 3.0ｍ×1.2ｍ | N12: 補修済み | O12: Ⅲ | P12: Ⅲ | Q12: Ⅲ | R12: Ⅰ | S12: 否 | T12: 否 | U12: 済 | V12: － | Z12: －
C13: S001 | E13: 1 | F13: 9 | G13: 覆工・坑門 | H13: アーチ（左側） | I13: 材質劣化 | J13: その他 | M13: 0.2ｍ×0.1ｍ | N13: 対策済 | O13: Ⅲ | P13: Ⅲ | Q13: Ⅲ | R13: Ⅰ | S13: 否 | T13: 否 | U13: 済 | V13: － | Z13: －
C14: S001 | E14: 2 | F14: 11.9 | G14: 覆工・坑門 | H14: アーチ（左側） | I14: 漏水 | J14: その他 | M14: - | N14: 補修済み | O14: Ⅲ | P14: Ⅲ | Q14: Ⅲ | R14: Ⅰ | S14: 否 | T14: 否 | U14: 済 | V14: － | Z14: －
C15: S001 | E15: 3 | F15: 15.5 | G15: 覆工・坑門 | H15: アーチ（天端） | I15: 材質劣化 | J15: うき・はく離 | M15: 0.05ｍ×0.8ｍ | N15: 対策済 | O15: Ⅰ | P15: Ⅰ | R15: Ⅰ | S15: 否 | T15: 否 | U15: 済 | V15: － | Z15: －
C16: S001 | E16: 4 | F16: 15.5 | G16: 覆工・坑門 | H16: アーチ（右側） | I16: 材質劣化 | J16: その他 | M16: 0.2ｍ×0.1ｍ×2、0.3ｍ×0.1ｍ | N16: 対策済 | O16: Ⅲ | P16: Ⅲ | Q16: Ⅲ | R16: Ⅰ | S16: 否 | T16: 否 | U16: 済 | V16: － | Z16: －
C17: S001 | E17: 5 | F17: 12.1 | G17: 路面 | H17: 監査歩路 | I17: 漏水 | J17: 滞水 | M17: 1.2ｍ×0.2ｍ、1.1ｍ×0.2ｍ | N17: 進行性あり | O17: Ⅱb | P17: Ⅱ | R17: Ⅱb | S17: 否 | T17: 要 | U17: 継続 | V17: 監視（日常巡視） | Z17: 継続監視
C18: S001 | E18: 6 | F18: 13 | G18: 路面 | H18: 車道 | I18: 材質劣化 | J18: うき・はく離 | M18: 0.3ｍ×0.1ｍ | N18: 進行性なし | O18: Ⅱb | P18: Ⅱ | R18: Ⅰ | S18: 否 | T18: 否 | U18: － | V18: － | Z18: －
C19: S002 | E19: 1 | F19: 23.7 | G19: 覆工・坑門 | H19: アーチ（左側） | I19: 漏水 | J19: その他 | M19: - | N19: 補修済み | O19: Ⅲ | P19: Ⅲ | Q19: Ⅲ | R19: Ⅰ | S19: 否 | T19: 否 | U19: － | V19: － | Z19: －
C20: S002 | E20: 2 | F20: 18 | G20: 路面 | H20: 監査歩路 | I20: 漏水 | J20: 滞水 | M20: 1.2ｍ×0.15ｍ、0.8ｍ×0.15ｍ | N20: 進行性あり | O20: Ⅱb | P20: Ⅱ | R20: Ⅱb | S20: 否 | T20: 要 | U20: 継続 | V20: 監視（日常巡視） | Z20: 継続監視
C21: S002 | E21: 3 | F21: 23.7 | G21: 路面 | H21: 車道 | I21: 材質劣化 | J21: うき・はく離 | M21: 0.03ｍ×0.4ｍ | N21: 進行性あり | O21: Ⅱb | P21: Ⅱ | R21: Ⅰ | S21: 否 | T21: 否 | U21: － | V21: － | Z21: －
C22: S003 | E22: 1 | F22: 30.5 | G22: 覆工・坑門 | H22: アーチ（左側） | I22: 漏水 | J22: その他 | M22: - | N22: 補修済み | O22: Ⅲ | P22: Ⅲ | Q22: Ⅲ | R22: Ⅰ | S22: 否 | T22: 否 | U22: － | V22: － | Z22: －
C23: S003 | E23: 4 | F23: 28.9 | G23: 路面 | H23: 監査歩路 | I23: 漏水 | J23: 滞水 | M23: 1.8ｍ×0.2ｍ | N23: 進行性あり | O23: Ⅱb | P23: Ⅱ | R23: Ⅱb | S23: 否 | T23: 要 | U23: 継続 | V23: 監視（日常巡視） | Z23: 継続監視
C24: S003 | E24: 5 | F24: 29.4 | G24: 路面 | H24: 歩道 | I24: 材質劣化 | J24: うき・はく離 | M24: 0.1ｍ×0.1ｍ | N24: 進行性あり | O24: Ⅱb | P24: Ⅱ | R24: Ⅱb | S24: 否 | T24: 要 | U24: 継続 | V24: 監視（日常巡視） | Z24: 継続監視
C25: S004 | E25: 1 | F25: 39 | G25: 内装板 | H25: 側壁 | I25: 材質劣化 | J25: 補強・補修材の破損 | M25: 1.3ｍ×0.15ｍ | N25: 新規確認 | O25: － | P25: － | R25: Ⅱb | S25: 否 | T25: 要 | U25: － | V25: － | Z25: 継続監視
C26: S004 | E26: 2 | F26: 46.3 | G26: 覆工・坑門 | H26: アーチ（左側） | I26: 漏水 | J26: 補強・補修材の破損 | M26: 0.1ｍ×0.75ｍ×2、0.1ｍ×0.85ｍ | N26: 進行性あり | O26: Ⅱb | P26: Ⅱ | R26: Ⅱb | S26: 否 | T26: 要 | U26: 継続 | V26: 監視（日常巡視） | Z26: 継続監視
C27: S004 | E27: 4 | F27: 41.5 | G27: 覆工・坑門 | H27: アーチ（左側） | I27: 漏水 | J27: 補強・補修材の破損 | M27: 0.2ｍ×0.1ｍ | N27: 進行性あり | O27: Ⅱb | P27: Ⅱ | R27: Ⅱb | S27: 否 | T27: 要 | U27: 継続 | V27: 監視（日常巡視） | Z27: 継続監視
C28: S004 | E28: 5 | F28: 36.5 | G28: 覆工・坑門 | H28: アーチ（天端） | I28: 材質劣化 | J28: うき・はく離 | M28: 0.08×0.4ｍ | N28: 新規確認 | O28: － | P28: － | R28: Ⅱb | S28: 否 | T28: 要 | U28: － | V28: － | Z28: 継続監視
C29: S004 | E29: 6 | F29: 38.3 | G29: 覆工・坑門 | H29: アーチ（天端） | I29: 材質劣化 | J29: その他 | M29: 1.3ｍ×1.3ｍ | N29: 補修済み | O29: Ⅲ | P29: Ⅲ | Q29: Ⅲ | R29: Ⅰ | S29: 否 | T29: 否 | U29: 済 | V29: － | Z29: －
C30: S004 | E30: 7 | F30: 36.5 | G30: 覆工・坑門 | H30: アーチ（右側） | I30: 材質劣化 | J30: その他 | M30: 0.1ｍ×0.4ｍ（2箇所）、0.1ｍ×0.2ｍ（2箇所） | N30: 対策済 | O30: Ⅲ | P30: Ⅲ | Q30: Ⅲ | R30: Ⅰ | S30: 否 | T30: 否 | U30: 済 | V30: － | Z30: －
C31: S004 | E31: 8 | F31: 39.9 | G31: 覆工・坑門 | H31: アーチ（右側） | I31: 材質劣化 | J31: その他 | M31: 0.3ｍ×0.1ｍ | N31: 対策済 | O31: Ⅲ | P31: Ⅲ | Q31: Ⅲ | R31: Ⅰ | S31: 否 | T31: 否 | U31: 済 | V31: － | Z31: －
C32: S004 | E32: 9 | F32: 46.2 | G32: 覆工・坑門 | H32: アーチ（右側） | I32: 漏水 | J32: 漏水 | M32: 0.6ｍ×6.3ｍ | N32: 進行性あり | O32: Ⅱb | P32: Ⅱ | R32: Ⅱa | S32: 否 | T32: 要 | U32: 継続 | V32: 監視（日常巡視） | Z32: 導水工対策
C33: S004 | E33: 11 | F33: 46.4 | G33: 路面 | H33: 車道 | I33: 漏水 | J33: 滞水 | M33: 1.1ｍ×0.3ｍ | N33: 新規確認 | O33: － | P33: － | R33: Ⅱb | S33: 否 | T33: 要 | U33: － | V33: － | Z33: 継続監視
C34: S005 | E34: 1 | F34: 57 | G34: 内装板 | H34: 側壁 | I34: 材質劣化 | J34: 補強・補修材の破損 | M34: 2.5ｍ×0.15ｍ | N34: 新規確認 | O34: － | P34: － | R34: Ⅱb | S34: 否 | T34: 要 | U34: － | V34: － | Z34: 継続監視
C35: S005 | E35: 2 | F35: 57.5 | G35: 覆工・坑門 | H35: アーチ（左側） | I35: 材質劣化 | J35: うき・はく離 | M35: 0.05ｍ×0.15ｍ | N35: 進行性なし | O35: Ⅰ | P35: Ⅰ | R35: Ⅰ | S35: 否 | T35: 否 | U35: 済 | V35: － | Z35: －
C36: S005 | E36: 4 | F36: 52.9 | G36: 路面 | H36: 車道 | I36: 材質劣化 | J36: うき・はく離 | M36: 0.03ｍ×0.3ｍ | N36: 進行性あり | O36: Ⅱb | P36: Ⅱ | R36: Ⅰ | S36: 否 | T36: 否 | U36: － | V36: － | Z36: －
C37: S005 | E37: 5 | F37: 48.7 | G37: 路面 | H37: 歩道 | I37: 漏水 | J37: 滞水 | M37: 0.5ｍ×0.6ｍ | N37: 進行性あり | O37: Ⅱb | P37: Ⅱ | R37: Ⅱb | S37: 否 | T37: 要 | U37: 継続 | V37: 監視（日常巡視） | Z37: 継続監視
C38: S006 | E38: 1 | F38: 62.3 | G38: 内装板 | H38: 側壁 | I38: 材質劣化 | J38: 補強・補修材の破損 | M38: 1.3ｍ×0.15ｍ | N38: 新規確認 | O38: － | P38: － | R38: Ⅱb | S38: 否 | T38: 要 | U38: － | V38: － | Z38: 継続監視
C39: S006 | E39: 2 | F39: 61.8 | G39: 覆工・坑門 | H39: アーチ（左側） | I39: 材質劣化 | J39: その他 | M39: 0.5ｍ×0.1ｍ、0.2ｍ×0.1ｍ×3 | N39: 対策済 | O39: Ⅲ | P39: Ⅲ | Q39: Ⅲ | R39: Ⅰ | S39: 否 | T39: 否 | U39: 済 | V39: － | Z39: －
C40: ※ 対策区分（応急措置後）の判定区分Ⅱ～Ⅳについて記入すること。また、点検前に実施された措置によりⅠと判定された変状も記入すること。
C41: ※ 応急措置を実施しないで判定した変状の対策区分は、対策区分の応急措置後の欄に記入すること。
C42: ※ 変状の除去が不完全で、緊急対応が必要な場合は対応方針欄に記入すること。
C43: ※ １区間の覆工に複数の変状がある場合は、変状箇所毎に記入すること。
C44: ※ 措置・監視点検を行った場合には、措置履歴、特記事項に記録を残すこと。（実施年度も記載）
C45: ※ 行が不足する場合は、適時、表の行を増やすこと。
B47: ■定期点検記録様式 全スパン定期点検結果総括表（トンネル本体工） 【様式C-1-1】
B48: フリガナ | F48: =F3 -> ミネトンネル | I48: 路線名 | K48: =K3 -> 一般国道 316号 | O48: 定期点検業者 | Q48: =Q3 -> 株式会社ニュージェック | U48: 定期点検年月日 | Y48: =Y3 -> 44294
B49: 名 称 | F49: =F4 -> 美祢トンネル | I49: 管理者名 | K49: =K4 -> 宇部土木建築事務所 | O49: 定期点検者名 | Q49: =Q4 -> 石村 勝伸
B50: 定期点検結果 | C50: 覆工 スパン 番号 | E50: 変状 番号 | F50: 距離 （m） | G50: 変状部位 | I50: 変 状 の 内 容 | O50: 前回定期点検時の状態 | Q50: 今回定期点検結果 | U50: 措置履歴 | Z50: 対応方針 ・ 特記事項
G52: 対象箇所 | H52: 部位区分 | I52: 変状区分 | J52: 変状種類 | M52: 変状の発生範囲の規模 | N52: 前回定期点検時 との比較 | O52: 状態 | P52: 健全性 | Q52: 対策区分 | S52: 調査の 要否 | T52: 措置の 要否 | U52: 実施 | V52: 措置の実施状況
Q53: 応急措置前 | R53: 応急措置後
C54: S006 | E54: 3 | F54: 65.8 | G54: 覆工・坑門 | H54: アーチ（左側） | I54: 材質劣化 | J54: その他 | M54: 0.4ｍ×0.1ｍ×2 | N54: 対策済 | O54: Ⅲ | P54: Ⅲ | Q54: Ⅲ | R54: Ⅰ | S54: 否 | T54: 否 | U54: 済 | V54: － | Z54: －
C55: S006 | E55: 5 | F55: 63.7 | G55: 覆工・坑門 | H55: アーチ（天端） | I55: 漏水 | J55: その他 | M55: - | N55: 補修済み | O55: Ⅲ | P55: Ⅲ | R55: Ⅰ | S55: 否 | T55: 否 | U55: 済 | V55: － | Z55: －
C56: S006 | E56: 6 | F56: 63 | G56: 路面 | H56: 監査歩路 | I56: 材質劣化 | J56: その他 | M56: 段差20㎜ | N56: 新規確認 | O56: － | P56: － | R56: Ⅱb | S56: 否 | T56: 要 | U56: － | V56: － | Z56: 継続監視
C57: S007 | E57: 1 | F57: 69.5 | G57: 覆工・坑門 | H57: アーチ（右側） | I57: 漏水 | J57: その他 | M57: 遊離石灰 | N57: 進行性なし | O57: Ⅰ | P57: Ⅰ | R57: Ⅰ | S57: 否 | T57: 否 | U57: － | V57: － | Z57: －
C58: S007 | E58: 2 | F58: 71.5 | G58: 路面 | H58: 歩道 | I58: 材質劣化 | J58: ひび割れ | M58: 幅4.0㎜、長さ0.55m | N58: 進行性なし | O58: Ⅰ | P58: Ⅰ | R58: Ⅰ | S58: 否 | T58: 否 | U58: － | V58: － | Z58: －
C59: S008 | E59: 1 | F59: 78 | G59: 内装板 | H59: 側壁 | I59: 材質劣化 | J59: 補強・補修材の破損 | M59: 2.5ｍ×0.15ｍ | N59: 新規確認 | O59: － | P59: － | R59: Ⅱb | S59: 否 | T59: 要 | U59: － | V59: － | Z59: 継続監視
C60: S008 | E60: 2 | F60: 74.2 | G60: 覆工・坑門 | H60: アーチ（天端） | I60: 材質劣化 | J60: その他 | M60: 1.2ｍ×1.2ｍ | N60: 補修済み | O60: Ⅲ | P60: Ⅲ | Q60: Ⅲ | R60: Ⅰ | S60: 否 | T60: 否 | U60: 済 | V60: － | Z60: －
C61: S008 | E61: 3 | F61: 77.1 | G61: 覆工・坑門 | H61: アーチ（右側） | I61: 材質劣化 | J61: その他 | M61: 0.2ｍ×0.1ｍ、0.1ｍ×0.1ｍ | N61: 対策済 | O61: Ⅲ | P61: Ⅲ | Q61: Ⅲ | R61: Ⅰ | S61: 否 | T61: 否 | U61: 済 | V61: － | Z61: －
C62: S008 | E62: 4 | F62: 82.2 | G62: 路面 | H62: 監査歩路 | I62: 材質劣化 | J62: うき・はく離 | M62: 1.5ｍ×0.15ｍ | N62: 進行性あり | O62: Ⅱb | P62: Ⅱ | R62: Ⅱb | S62: 否 | T62: 要 | U62: 継続 | V62: 監視（日常巡視） | Z62: 継続監視
C63: S009 | E63: 1 | F63: 84 | G63: 内装板 | H63: 側壁 | I63: 材質劣化 | J63: 補強・補修材の破損 | M63: 1.3ｍ×0.15ｍ | N63: 新規確認 | O63: － | P63: － | R63: Ⅱb | S63: 否 | T63: 要 | U63: － | V63: － | Z63: 継続監視
C64: S009 | E64: 2 | F64: 84.8 | G64: 覆工・坑門 | H64: アーチ（右側） | I64: 材質劣化 | J64: その他 | M64: 0.2ｍ×0.1ｍ | N64: 対策済 | O64: Ⅲ | P64: Ⅲ | Q64: Ⅲ | R64: Ⅰ | S64: 否 | T64: 否 | U64: 済 | V64: － | Z64: －
C65: S009 | E65: 3 | F65: 92.5 | G65: 路面 | H65: 歩道 | I65: 材質劣化 | J65: うき・はく離 | M65: 0.1ｍ×0.03ｍ | N65: 進行性なし | O65: Ⅱb | P65: Ⅱ | R65: Ⅱb | S65: 否 | T65: 要 | U65: 継続 | V65: 監視（日常巡視） | Z65: 継続監視
C66: S010 | E66: 1 | F66: 96.7 | G66: 覆工・坑門 | H66: アーチ（左側） | I66: 材質劣化 | J66: その他 | M66: 0.2ｍ×0.1ｍ×2 | N66: 対策済 | O66: Ⅲ | P66: Ⅲ | Q66: Ⅲ | R66: Ⅰ | S66: 否 | T66: 否 | U66: 済 | V66: － | Z66: －
C67: S010 | E67: 2 | F67: 99.2 | G67: 覆工・坑門 | H67: アーチ（右側） | I67: 材質劣化 | J67: その他 | M67: 0.1ｍ×0.1ｍ | N67: 対策済 | O67: Ⅲ | P67: Ⅲ | Q67: Ⅲ | R67: Ⅰ | S67: 否 | T67: 否 | U67: 済 | V67: － | Z67: －
C68: S010 | E68: 3 | F68: 99.9 | G68: 路面 | H68: 監査歩路 | I68: 材質劣化 | J68: その他 | M68: 目地ずれ60㎜、0.1ｍ×5.0ｍ | N68: 進行性あり | O68: Ⅱb | P68: Ⅱ | R68: Ⅱb | S68: 否 | T68: 要 | U68: 継続 | V68: 監視（日常巡視） | Z68: 継続監視
C69: S010 | E69: 4 | F69: 92.8 | G69: 路面 | H69: 車道 | I69: 材質劣化 | J69: うき・はく離 | M69: 0.08ｍ×0.7ｍ | N69: 進行性あり | O69: Ⅱb | P69: Ⅱ | R69: Ⅰ | S69: 否 | T69: 否 | U69: － | V69: － | Z69: －
C70: S010 | E70: 5 | F70: 92.9 | G70: 路面 | H70: 車道 | I70: 材質劣化 | J70: うき・はく離 | M70: 0.2ｍ×1.3ｍ | N70: 進行性あり | O70: Ⅱb | P70: Ⅱ | R70: Ⅰ | S70: 否 | T70: 否 | U70: － | V70: － | Z70: －
C71: S011 | E71: 1 | F71: 110.4 | G71: 内装板 | H71: 側壁 | I71: 材質劣化 | J71: 補強・補修材の破損 | M71: 1.3ｍ×0.15ｍ | N71: 新規確認 | O71: － | P71: － | R71: Ⅱb | S71: 否 | T71: 要 | U71: － | V71: － | Z71: 継続監視
C72: S011 | E72: 2 | F72: 109.5 | G72: 覆工・坑門 | H72: アーチ（左側） | I72: 外力 | J72: ひび割れ | M72: 幅2.3㎜～長さ10.6ｍ | N72: 進行性なし | O72: Ⅱa | P72: Ⅱ | R72: Ⅲ | S72: 否 | T72: 要対策 | U72: 継続 | V72: 監視（重点） | Z72: 早期対策
C73: S011 | E73: 3 | F73: 110.3 | G73: 覆工・坑門 | H73: アーチ（左側） | I73: 材質劣化 | J73: その他 | M73: 0.2ｍ×0.1ｍ×2、0.1ｍ×0.1ｍ | N73: 対策済 | O73: Ⅲ | P73: Ⅲ | Q73: Ⅲ | R73: Ⅰ | S73: 否 | T73: 否 | U73: 済 | V73: － | Z73: －
C74: S011 | E74: 4 | F74: 108.4 | G74: 覆工・坑門 | H74: アーチ（左側） | I74: 材質劣化 | J74: うき・はく離 | M74: 0.1ｍ×0.05m | N74: 新規確認 | O74: － | P74: － | R74: Ⅱa | S74: 否 | T74: 要 | U74: － | V74: － | Z74: はく落防止対策
C75: S011 | E75: 5 | F75: 113.7 | G75: 覆工・坑門 | H75: アーチ（天端） | I75: 材質劣化 | J75: その他 | M75: 0.1ｍ×0.9ｍ | N75: 対策済 | O75: Ⅲ | P75: Ⅲ | Q75: Ⅲ | R75: Ⅰ | S75: 否 | T75: 否 | U75: 済 | V75: － | Z75: －
C76: S011 | E76: 6 | F76: 107.6 | G76: 覆工・坑門 | H76: アーチ（右側） | I76: 材質劣化 | J76: その他 | M76: 0.1ｍ×0.2ｍ | N76: 対策済 | O76: Ⅲ | P76: Ⅲ | Q76: Ⅲ | R76: Ⅰ | S76: 否 | T76: 否 | U76: 済 | V76: － | Z76: －
C77: S011 | E77: 7 | F77: 112.3 | G77: 覆工・坑門 | H77: アーチ（右側） | I77: 材質劣化 | J77: その他 | M77: 3.3ｍ×1.7ｍ | N77: 対策済 | O77: Ⅲ | P77: Ⅲ | Q77: Ⅲ | R77: Ⅰ | S77: 否 | T77: 否 | U77: 済 | V77: － | Z77: －
C78: S011 | E78: 8 | F78: 111.8 | G78: 路面 | H78: 監査歩路 | I78: 外力 | J78: ひび割れ | M78: 幅3.0㎜、長さ0.35m | N78: 進行性なし | O78: Ⅰ | P78: Ⅰ | R78: Ⅰ | S78: 否 | T78: 否 | U78: － | V78: － | Z78: －
C79: S012 | E79: 1 | F79: 115 | G79: 覆工・坑門 | H79: アーチ（左側） | I79: 材質劣化 | J79: その他 | M79: 0.3ｍ×0.1ｍ×2、0.25ｍ×0.1ｍ | N79: 対策済 | O79: Ⅲ | P79: Ⅲ | Q79: Ⅲ | R79: Ⅰ | S79: 否 | T79: 否 | U79: 済 | V79: － | Z79: －
C80: S012 | E80: 2 | F80: 116.8 | G80: 覆工・坑門 | H80: アーチ（左側） | I80: 材質劣化 | J80: その他 | M80: 0.2ｍ×0.1ｍ | N80: 対策済 | O80: Ⅲ | P80: Ⅲ | Q80: Ⅲ | R80: Ⅰ | S80: 否 | T80: 否 | U80: 済 | V80: － | Z80: －
C81: S012 | E81: 3 | F81: 118.5 | G81: 覆工・坑門 | H81: アーチ（左側） | I81: 材質劣化 | J81: その他 | M81: 0.4ｍ×0.1ｍ | N81: 対策済 | O81: Ⅲ | P81: Ⅲ | Q81: Ⅲ | R81: Ⅰ | S81: 否 | T81: 否 | U81: 済 | V81: － | Z81: －
C82: S012 | E82: 4 | F82: 118.2 | G82: 覆工・坑門 | H82: アーチ（左側） | I82: 材質劣化 | J82: うき・はく離 | M82: 0.05ｍ×0.2ｍ | N82: 新規確認 | O82: － | P82: － | R82: Ⅱa | S82: 否 | T82: 要 | U82: － | V82: － | Z82: はく落防止対策
C83: S012 | E83: 5 | F83: 120.5 | G83: 覆工・坑門 | H83: アーチ（左側） | I83: 外力 | J83: ひび割れ | M83: 幅4.0㎜、長さ5.2m、段差1㎜閉合ひび割れ | N83: 進行性あり | O83: Ⅰ | P83: Ⅰ | R83: Ⅲ | S83: 否 | T83: 要対策 | U83: 継続 | V83: 監視（重点） | Z83: 早期対策
C84: S012 | E84: 6 | F84: 120.5 | G84: 覆工・坑門 | H84: アーチ（左側） | I84: 材質劣化 | J84: その他 | M84: 0.2ｍ×0.1ｍ | N84: 対策済 | O84: Ⅲ | P84: Ⅲ | Q84: Ⅲ | R84: Ⅰ | S84: 否 | T84: 否 | U84: 済 | V84: － | Z84: －
C85: ※ 対策区分（応急措置後）の判定区分Ⅱ～Ⅳについて記入すること。また、点検前に実施された措置によりⅠと判定された変状も記入すること。
C86: ※ 応急措置を実施しないで判定した変状の対策区分は、対策区分の応急措置後の欄に記入すること。
C87: ※ 変状の除去が不完全で、緊急対応が必要な場合は対応方針欄に記入すること。
C88: ※ １区間の覆工に複数の変状がある場合は、変状箇所毎に記入すること。
C89: ※ 措置・監視点検を行った場合には、措置履歴、特記事項に記録を残すこと。（実施年度も記載）
C90: ※ 行が不足する場合は、適時、表の行を増やすこと。
B92: ■定期点検記録様式 全スパン定期点検結果総括表（トンネル本体工） 【様式C-1-1】
B93: フリガナ | F93: =F48 -> ミネトンネル | I93: 路線名 | K93: =K48 -> 一般国道 316号 | O93: 定期点検業者 | Q93: =Q48 -> 株式会社ニュージェック | U93: 定期点検年月日 | Y93: =Y48 -> 44294
B94: 名 称 | F94: =F49 -> 美祢トンネル | I94: 管理者名 | K94: =K49 -> 宇部土木建築事務所 | O94: 定期点検者名 | Q94: =Q49 -> 石村 勝伸
B95: 定期点検結果 | C95: 覆工 スパン 番号 | E95: 変状 番号 | F95: 距離 （m） | G95: 変状部位 | I95: 変 状 の 内 容 | O95: 前回定期点検時の状態 | Q95: 今回定期点検結果 | U95: 措置履歴 | Z95: 対応方針 ・ 特記事項
G97: 対象箇所 | H97: 部位区分 | I97: 変状区分 | J97: 変状種類 | M97: 変状の発生範囲の規模 | N97: 前回定期点検時 との比較 | O97: 状態 | P97: 健全性 | Q97: 対策区分 | S97: 調査の 要否 | T97: 措置の 要否 | U97: 実施 | V97: 措置の実施状況
Q98: 応急措置前 | R98: 応急措置後
C99: S012 | E99: 7 | F99: 122.2 | G99: 覆工・坑門 | H99: アーチ（左側） | I99: 材質劣化 | J99: うき・はく離 | M99: 0.15ｍ×0.08ｍ | N99: 新規確認 | O99: － | P99: － | R99: Ⅱa | S99: 否 | T99: 要 | U99: － | V99: － | Z99: はく落防止対策
C100: S012 | E100: 8 | F100: 116.2 | G100: 覆工・坑門 | H100: アーチ（右側） | I100: 材質劣化 | J100: その他 | M100: 4.8ｍ×1.8ｍ | N100: 補修済み | O100: Ⅱb | P100: Ⅱ | Q100: Ⅱb | R100: Ⅰ | S100: 否 | T100: 否 | U100: 済 | V100: － | Z100: －
C101: S012 | E101: 9 | F101: 121.4 | G101: 覆工・坑門 | H101: アーチ（右側） | I101: 材質劣化 | J101: その他 | M101: 4.9ｍ×2.5ｍ | N101: 補修済み | O101: Ⅲ | P101: Ⅲ | Q101: Ⅲ | R101: Ⅰ | S101: 否 | T101: 否 | U101: 済 | V101: － | Z101: －
C102: S012 | E102: 10 | F102: 124.2 | G102: 路面 | H102: 監査歩路 | I102: 材質劣化 | J102: うき・はく離 | M102: 0.1ｍ×0.35ｍ | N102: 新規確認 | O102: － | P102: － | R102: Ⅱb | S102: 否 | T102: 要 | U102: － | V102: － | Z102: 継続監視
C103: S012 | E103: 11 | F103: 121.5 | G103: 路面 | H103: 歩道 | I103: 漏水 | J103: 滞水 | M103: 1.1ｍ×0.3ｍ | N103: 進行性あり | O103: Ⅱb | P103: Ⅱ | R103: Ⅱb | S103: 否 | T103: 要 | U103: 継続 | V103: 監視（日常巡視） | Z103: 継続監視
C104: S013 | E104: 1 | F104: 128.3 | G104: 覆工・坑門 | H104: アーチ（左側） | I104: 材質劣化 | J104: うき・はく離 | M104: 0.1ｍ×0.05ｍ | N104: 新規確認 | O104: － | P104: － | R104: Ⅱa | S104: 否 | T104: 要 | U104: － | V104: － | Z104: はく落防止対策
C105: S013 | E105: 2 | F105: 128.7 | G105: 覆工・坑門 | H105: アーチ（左側） | I105: 材質劣化 | J105: その他 | M105: 0.1ｍ×0.1ｍ | N105: 対策済 | O105: Ⅲ | P105: Ⅲ | Q105: Ⅲ | R105: Ⅰ | S105: 否 | T105: 否 | U105: 済 | V105: － | Z105: －
C106: S013 | E106: 3 | F106: 132.6 | G106: 覆工・坑門 | H106: アーチ（左側） | I106: 材質劣化 | J106: その他 | M106: 0.1ｍ×0.1ｍ | N106: 対策済 | O106: Ⅲ | P106: Ⅲ | Q106: Ⅲ | R106: Ⅰ | S106: 否 | T106: 否 | U106: 済 | V106: － | Z106: －
...

Sheet 様式C-1-2
B2: ■定期点検記録様式 定期点検結果総括表（トンネル内附属物等の取付状態） 【様式C-1-2】
B3: フリガナ | F3: ='様式C-1-1'!F3:H3 -> ミネトンネル | J3: 路線名 | L3: ='様式C-1-1'!K3 -> 一般国道 316号 | O3: 定期点検業者 | Q3: ='様式C-1-1'!Q3:T3 -> 株式会社ニュージェック | U3: 定期点検年月日 | Y3: ='様式B(トンネル様式1P001)'!Q5 -> 44294
B4: 名 称 | F4: ='様式C-1-1'!F4:H4 -> 美祢トンネル | J4: 管理者名 | L4: ='様式C-1-1'!K4 -> 宇部土木建築事務所 | O4: 定期点検者名 | Q4: ='様式C-1-1'!Q4:T4 -> 石村 勝伸
B5: 定期点検結果 | C5: 覆工 スパン 番号 | E5: 異常 番号 | F5: 距離 （m） | G5: 異常部位 | J5: 異 常 の 内 容 | P5: 定期点検結果 | R5: 応急措置の 実施状況 | X5: 対応方針 ・ 特記事項
G6: 対象箇所 | I6: 部位区分 | J6: 異常種類 | N6: 異常の発生範囲の規模 | P6: 異常判定区分 | R6: 実施 | S6: 応急措置の内容
P7: 応急措置前 | Q7: 応急措置後
C8: PS | E8: L-001 | F8: 3.1 | G8: 照明施設 | H8: 灯具 | I8: 附属物本体 | P8: ○ | Q8: ○ | X8: 異常なし
C9: 1 | E9: L-002 | F9: 12.5 | G9: 照明施設 | H9: 灯具 | I9: 附属物本体 | P9: ○ | Q9: ○ | X9: 異常なし
C10: 2 | E10: L-003 | F10: 19.35 | G10: 照明施設 | H10: 灯具 | I10: 附属物本体 | P10: ○ | Q10: ○ | X10: 異常なし
C11: 2 | E11: L-004 | F11: 25.55 | G11: 照明施設 | H11: 灯具 | I11: 附属物本体 | P11: ○ | Q11: ○ | X11: 異常なし
C12: 3 | E12: L-005 | F12: 29.45 | G12: 照明施設 | H12: 灯具 | I12: ボルト・ﾅｯﾄ・アンカー類 | J12: 緩み，脱落 | N12: 照明取付部のボルトのゆるみ（1箇所） | P12: × | Q12: × | R12: 未
C13: 3 | E13: L-006 | F13: 33 | G13: 照明施設 | H13: 灯具 | I13: 附属物本体 | P13: ○ | Q13: ○ | X13: 異常なし
C14: 4 | E14: L-007 | F14: 39.45 | G14: 照明施設 | H14: 灯具 | I14: 附属物本体 | P14: ○ | Q14: ○ | X14: 異常なし
C15: 4 | E15: L-008 | F15: 47 | G15: 照明施設 | H15: 灯具 | I15: 附属物本体 | P15: ○ | Q15: ○ | X15: 異常なし
C16: 5 | E16: L-009 | F16: 53.5 | G16: 照明施設 | H16: 灯具 | I16: 附属物本体 | P16: ○ | Q16: ○ | X16: 異常なし
C17: 5 | E17: L-010 | F17: 56.5 | G17: 照明施設 | H17: 灯具 | I17: 附属物本体 | P17: ○ | Q17: ○ | X17: 異常なし
C18: 6 | E18: L-011 | F18: 60.45 | G18: 照明施設 | H18: 灯具 | I18: 附属物本体 | P18: ○ | Q18: ○ | X18: 異常なし
C19: 6 | E19: L-012 | F19: 66.7 | G19: 照明施設 | H19: 灯具 | I19: 附属物本体 | P19: ○ | Q19: ○ | X19: 異常なし
C20: 8 | E20: L-013 | F20: 74.05 | G20: 照明施設 | H20: 灯具 | I20: 附属物本体 | P20: ○ | Q20: ○ | X20: 異常なし
C21: 8 | E21: L-014 | F21: 80.35 | G21: 照明施設 | H21: 灯具 | I21: 附属物本体 | P21: ○ | Q21: ○ | X21: 異常なし
C22: 9 | E22: L-015 | F22: 83.95 | G22: 照明施設 | H22: 灯具 | I22: 附属物本体 | P22: ○ | Q22: ○ | X22: 異常なし
C23: 9 | E23: L-016 | F23: 88.2 | G23: 照明施設 | H23: 灯具 | I23: 附属物本体 | P23: ○ | Q23: ○ | X23: 異常なし
C24: 10 | E24: L-017 | F24: 94.45 | G24: 照明施設 | H24: 灯具 | I24: 附属物本体 | P24: ○ | Q24: ○ | X24: 異常なし
... C38: 24 | E38: L-031 | F38: 248.15 | G38: 照明施設 | H38: 灯具 | I38: 附属物本体 | P38: ○ | Q38: ○ | X38: 異常なし
C39: ※ 異常判定区分×について記入すること。また、応急措置により○と判定された箇所も記入すること。
C40: ※ 応急措置を実施しないで判定した箇所の異常判定区分は、異常判定区分の応急措置後の欄に記入すること。
C41: ※ 異常の除去が不完全で、緊急対応が必要な場合は対応方針欄に記入すること。
C42: ※ １スパンの覆工に複数の異常がある場合は、異常箇所毎に記入すること。
C43: ※ 行が不足する場合は、適時、表の行を増やすこと。
B45: ■定期点検記録様式 定期点検結果総括表（トンネル内附属物等の取付状態） 【様式C-1-2】
B46: フリガナ | F46: =F3 -> ミネトンネル | I46: 路線名 | K46: =L3 -> 一般国道 316号 | O46: 定期点検業者 | Q46: =Q3 -> 株式会社ニュージェック | U46: 定期点検年月日 | Y46: =Y3 -> 44294
B47: 名 称 | F47: =F4 -> 美祢トンネル | I47: 管理者名 | K47: =L4 -> 宇部土木建築事務所 | O47: 定期点検者名 | Q47: =Q4 -> 石村 勝伸
B48: 定期点検結果 | C48: 覆工 スパン 番号 | E48: 異常 番号 | F48: 距離 （m） | G48: 異常部位 | J48: 異 常 の 内 容 | P48: 定期点検結果 | R48: 応急措置の 実施状況 | X48: 対応方針 ・ 特記事項
G49: 対象箇所 | I49: 部位区分 | J49: 異常種類 | N49: 異常の発生範囲の規模 | P49: 異常判定区分 | R49: 実施 | S49: 応急措置の内容
P50: 応急措置前 | Q50: 応急措置後
C51: 27 | E51: L-032 | F51: 275.35 | G51: 照明施設 | H51: 灯具 | I51: 附属物本体 | P51: ○ | Q51: ○ | X51: 異常なし
C52: 29 | E52: L-033 | F52: 302.6 | G52: 照明施設 | H52: 灯具 | I52: 附属物本体 | P52: ○ | Q52: ○ | X52: 異常なし
C53: 32 | E53: L-034 | F53: 329.9 | G53: 照明施設 | H53: 灯具 | I53: 附属物本体 | P53: ○ | Q53: ○ | X53: 異常なし
C54: 35 | E54: L-035 | F54: 357.1 | G54: 照明施設 | H54: 灯具 | I54: 附属物本体 | P54: ○ | Q54: ○ | X54: 異常なし
C55: 37 | E55: L-036 | F55: 384.8 | G55: 照明施設 | H55: 灯具 | I55: 附属物本体 | P55: ○ | Q55: ○ | X55: 異常なし
C56: 40 | E56: L-037 | F56: 412.25 | G56: 照明施設 | H56: 灯具 | I56: 附属物本体 | P56: ○ | Q56: ○ | X56: 異常なし
C57: 42 | E57: L-038 | F57: 439.25 | G57: 照明施設 | H57: 灯具 | I57: 附属物本体 | P57: ○ | Q57: ○ | X57: 異常なし
C58: 46 | E58: L-039 | F58: 466.85 | G58: 照明施設 | H58: 灯具 | I58: 附属物本体 | P58: ○ | Q58: ○ | X58: 異常なし
C59: 48 | E59: L-040 | F59: 494.1 | G59: 照明施設 | H59: 灯具 | I59: 附属物本体 | P59: ○ | Q59: ○ | X59: 異常なし
C60: 50 | E60: L-041 | F60: 510.75 | G60: 照明施設 | H60: 灯具 | I60: 附属物本体 | P60: ○ | Q60: ○ | X60: 異常なし
C61: 51 | E61: L-042 | F61: 515.65 | G61: 照明施設 | H61: 灯具 | I61: 附属物本体 | P61: ○ | Q61: ○ | X61: 異常なし
C62: 52 | E62: L-043 | F62: 520.6 | G62: 照明施設 | H62: 灯具 | I62: 附属物本体 | P62: ○ | Q62: ○ | X62: 異常なし
... C81: 99 | E81: L-062 | F81: 979.7 | G81: 照明施設 | H81: 灯具 | I81: 附属物本体 | P81: ○ | Q81: ○ | X81: 異常なし
C82: ※ 異常判定区分×について記入すること。また、応急措置により○と判定された箇所も記入すること。
C83: ※ 応急措置を実施しないで判定した箇所の異常判定区分は、異常判定区分の応急措置後の欄に記入すること。
C84: ※ 異常の除去が不完全で、緊急対応が必要な場合は対応方針欄に記入すること。
C85: ※ １スパンの覆工に複数の異常がある場合は、異常箇所毎に記入すること。
C86: ※ 行が不足する場合は、適時、表の行を増やすこと。
B88: ■定期点検記録様式 定期点検結果総括表（トンネル内附属物等の取付状態） 【様式C-1-2】
B89: フリガナ | F89: =F46 -> ミネトンネル | I89: 路線名 | K89: =K46 -> 一般国道 316号 | O89: 定期点検業者 | Q89: =Q46 -> 株式会社ニュージェック | U89: 定期点検年月日 | Y89: =Y46 -> 44294
B90: 名 称 | F90: =F47 -> 美祢トンネル | I90: 管理者名 | K90: =K47 -> 宇部土木建築事務所 | O90: 定期点検者名 | Q90: =Q47 -> 石村 勝伸
B91: 定期点検結果 | C91: 覆工 スパン 番号 | E91: 異常 番号 | F91: 距離 （m） | G91: 異常部位 | J91: 異 常 の 内 容 | P91: 定期点検結果 | R91: 応急措置の 実施状況 | X91: 対応方針 ・ 特記事項
G92: 対象箇所 | I92: 部位区分 | J92: 異常種類 | N92: 異常の発生範囲の規模 | P92: 異常判定区分 | R92: 実施 | S92: 応急措置の内容
P93: 応急措置前 | Q93: 応急措置後
C94: 101 | E94: L-063 | F94: 1006.6 | G94: 照明施設 | H94: 灯具 | I94: 附属物本体 | P94: ○ | Q94: ○ | X94: 異常なし
C95: 104 | E95: L-064 | F95: 1033.4 | G95: 照明施設 | H95: 灯具 | I95: 附属物本体 | P95: ○ | Q95: ○ | X95: 異常なし
C96: 107 | E96: L-065 | F96: 1060.7 | G96: 照明施設 | H96: 灯具 | I96: 附属物本体 | P96: ○ | Q96: ○ | X96: 異常なし
C97: 107 | E97: L-066 | F97: 1067.3 | G97: 照明施設 | H97: 灯具 | I97: 附属物本体 | P97: ○ | Q97: ○ | X97: 異常なし
C98: 109 | E98: L-067 | F98: 1087.55 | G98: 照明施設 | H98: 灯具 | I98: 附属物本体 | P98: ○ | Q98: ○ | X98: 異常なし
C99: 110 | E99: L-068 | F99: 1094.2 | G99: 照明施設 | H99: 灯具 | I99: 附属物本体 | P99: ○ | Q99: ○ | X99: 異常なし
C100: 112 | E100: L-069 | F100: 1114.65 | G100: 照明施設 | H100: 灯具 | I100: 附属物本体 | P100: ○ | Q100: ○ | X100: 異常なし
C101: 112 | E101: L-070 | F101: 1121.5 | G101: 照明施設 | H101: 灯具 | I101: 附属物本体 | P101: ○ | Q101: ○ | X101: 異常なし
C102: 114 | E102: L-071 | F102: 1134.96 | G102: 照明施設 | H102: 灯具 | I102: 附属物本体 | P102: ○ | Q102: ○ | X102: 異常なし
C103: 114 | E103: L-072 | F103: 1141.95 | G103: 照明施設 | H103: 灯具 | I103: 附属物本体 | P103: ○ | Q103: ○ | X103: 異常なし
C104: 115 | E104: L-073 | F104: 1145.45 | G104: 照明施設 | H104: 灯具 | I104: 附属物本体 | P104: ○ | Q104: ○ | X104: 異常なし
C105: 115 | E105: L-074 | F105: 1151.6 | G105: 照明施設 | H105: 灯具 | I105: 附属物本体 | P105: ○ | Q105: ○ | X105: 異常なし
... C124: 125 | E124: L-093 | F124: 1251.95 | G124: 照明施設 | H124: 灯具 | I124: 附属物本体 | P124: ○ | Q124: ○ | X124: 異常なし
C125: ※ 異常判定区分×について記入すること。また、応急措置により○と判定された箇所も記入すること。
C126: ※ 応急措置を実施しないで判定した箇所の異常判定区分は、異常判定区分の応急措置後の欄に記入すること。
C127: ※ 異常の除去が不完全で、緊急対応が必要な場合は対応方針欄に記入すること。
C128: ※ １スパンの覆工に複数の異常がある場合は、異常箇所毎に記入すること。
C129: ※ 行が不足する場合は、適時、表の行を増やすこと。
B131: ■定期点検記録様式 定期点検結果総括表（トンネル内附属物等の取付状態） 【様式C-1-2】
B132: フリガナ | F132: =F89 -> ミネトンネル | I132: 路線名 | K132: =K89 -> 一般国道 316号 | O132: 定期点検業者 | Q132: =Q89 -> 株式会社ニュージェック | U132: 定期点検年月日 | Y132: =Y89 -> 44294
B133: 名 称 | F133: =F90 -> 美祢トンネル | I133: 管理者名 | K133: =K90 -> 宇部土木建築事務所 | O133: 定期点検者名 | Q133: =Q90 -> 石村 勝伸
B134: 定期点検結果 | C134: 覆工 スパン 番号 | E134: 異常 番号 | F134: 距離 （m） | G134: 異常部位 | J134: 異 常 の 内 容 | P134: 定期点検結果 | R134: 応急措置の 実施状況 | X134: 対応方針 ・ 特記事項
G135: 対象箇所 | I135: 部位区分 | J135: 異常種類 | N135: 異常の発生範囲の規模 | P135: 異常判定区分 | R135: 実施 | S135: 応急措置の内容
P136: 応急措置前 | Q136: 応急措置後
C137: 1 | E137: R-001 | F137: 12.5 | G137: 照明施設 | H137: 灯具 | I137: 附属物本体 | P137: ○ | Q137: ○ | X137: 異常なし
C138: 2 | E138: R-002 | F138: 15.9 | G138: 照明施設 | H138: 灯具 | I138: 附属物本体 | P138: ○ | Q138: ○ | X138: 異常なし
C139: 2 | E139: R-003 | F139: 19.35 | G139: 照明施設 | H139: 灯具 | I139: 附属物本体 | P139: ○ | Q139: ○ | X139: 異常なし
C140: 2 | E140: R-004 | F140: 26 | G140: 照明施設 | H140: 灯具 | I140: 附属物本体 | P140: ○ | Q140: ○ | X140: 異常なし
C141: 3 | E141: R-005 | F141: 33 | G141: 照明施設 | H141: 灯具 | I141: 附属物本体 | P141: ○ | Q141: ○ | X141: 異常なし
C142: 4 | E142: R-006 | F142: 39.45 | G142: 照明施設 | H142: 灯具 | I142: 附属物本体 | P142: ○ | Q142: ○ | X142: 異常なし
C143: 4 | E143: R-007 | F143: 42.8 | G143: 照明施設 | H143: 灯具 | I143: 附属物本体 | P143: ○ | Q143: ○ | X143: 異常なし
C144: 4 | E144: R-008 | F144: 47 | G144: 照明施設 | H144: 灯具 | I144: 附属物本体 | P144: ○ | Q144: ○ | X144: 異常なし
C145: 5 | E145: R-009 | F145: 53.5 | G145: 照明施設 | H145: 灯具 | I145: 附属物本体 | P145: ○ | Q145: ○ | X145: 異常なし
C146: 6 | E146: R-010 | F146: 60.45 | G146: 照明施設 | H146: 灯具 | I146: 附属物本体 | P146: ○ | Q146: ○ | X146: 異常なし
C147: 6 | E147: R-011 | F147: 66.7 | G147: 照明施設 | H147: 灯具 | I147: 附属物本体 | P147: ○ | Q147: ○ | X147: 異常なし
C148: 7 | E148: R-012 | F148: 70.4 | G148: 照明施設 | H148: 灯具 | I148: 附属物本体 | P148: ○ | Q148: ○ | X148: 異常なし
... C167: 26 | E167: R-031 | F167: 261.65 | G167: 照明施設 | H167: 灯具 | I167: 附属物本体 | P167: ○ | Q167: ○ | X167: 異常なし
C168: ※ 異常判定区分×について記入すること。また、応急措置により○と判定された箇所も記入すること。
C169: ※ 応急措置を実施しないで判定した箇所の異常判定区分は、異常判定区分の応急措置後の欄に記入すること。
C170: ※ 異常の除去が不完全で、緊急対応が必要な場合は対応方針欄に記入すること。
C171: ※ １スパンの覆工に複数の異常がある場合は、異常箇所毎に記入すること。
...

Sheet 様式C-2
B2: ■定期点検記録様式 状態の把握の内容 【様式C-2】
B3: フリガナ | E3: ='様式C-1-1'!F3 -> ミネトンネル | H3: 路線名 | J3: ='様式C-1-1'!K3 -> 一般国道 316号 | M3: 定期点検業者 | R3: ='様式C-1-1'!Q3 -> 株式会社ニュージェック | U3: 定期点検年月日 | Y3: ='様式B(トンネル様式1P001)'!Q5 -> 44294
B4: 名 称 | E4: ='様式C-1-1'!F4 -> 美祢トンネル | H4: 管理者名 | J4: ='様式C-1-1'!K4 -> 宇部土木建築事務所 | M4: 定期点検者名 | R4: ='様式C-1-1'!Q4 -> 石村 勝伸
B5: 状態の把握の内容 | C5: 覆工 スパン 番号 | E5: 変状 番号 | F5: 状態の把握の内容
F6: 年月日 | H6: 内容 | O6: 結果 | W6: 対策区分の 判定 | Y6: 健全性
B22: 注）状態の把握において、微破壊・非破壊検査や各種試験等を実施した場合について記載する。
B23: ※ 行が不足する場合は、適時、表の行を増やすこと。

Sheet 様式D-1-1(トンネル様式2P001)
B2: ■定期点検記録様式 変状写真台帳 | Y2: Ⅰ
B3: フリガナ | D3: ミネトンネル | H3: 路線名 | J3: 一般国道 316号 | M3: 定期点検業者 | P3: 株式会社ニュージェック | S3: 定期点検年月日 | U3: ='様式B(トンネル様式1P001)'!Q5 -> 44294 | Y3: Ⅱ | AA3: =SUM(AA5:AE5) -> 483
B4: 名 称 | D4: 美祢トンネル | H4: 管理者名 | J4: 宇部土木建築事務所 | M4: 定期点検者名 | P4: ='様式B(トンネル様式1P001)'!K6 -> 石村 勝伸 | Y4: Ⅲ | AA4: Ⅰ | AB4: Ⅱ | AD4: Ⅲ | AE4: Ⅳ
B5: 写真 番号 | C5: 覆工 スパン 番号 | D5: PS | M5: 写真 番号 | N5: 覆工 スパン 番号 | O5: PS | Y5: Ⅳ | AA5: =COUNTIF(B5:W7640,"Ⅰ") -> 313 | AB5: =COUNTIF(B5:W7640,"Ⅱ")-16 -> 167 | AD5: =COUNTIF(B5:W7640,"Ⅲ") -> 3 | AE5: =COUNTIF(B5:W7640,"Ⅳ") -> 0
C7: 変状 番号 | D7: - | N7: 変状 番号 | O7: 1 | AA7: Ⅰ | AB7: Ⅱb | AC7: Ⅱa | AD7: Ⅲ | AE7: Ⅳ
AA8: =COUNTIF(B5:W7640,"Ⅰ") -> 313 | AB8: =COUNTIF(B5:W7640,"Ⅱb") -> 0 | AC8: =COUNTIF(D5:W7640,"Ⅱa") -> 0 | AD8: =COUNTIF(B5:W7640,"Ⅲ") -> 3 | AE8: =COUNTIF(B5:W7640,"Ⅳ") -> 0
B9: 変状 部位 | C9: 対象 箇所 | D9: 覆工・坑門 | M9: 変状 部位 | N9: 対象 箇所 | O9: 覆工・坑門 | AB9: =SUM(AB8+AC8) -> 0
C11: 部位 区分 | D11: 面壁・妻壁等 | N11: 部位 区分 | O11: 面壁・妻壁等
B13: 変状区分 | M13: 変状区分 | O13: 材質劣化
B14: 変状種類 | M14: 変状種類 | O14: ひび割れ
B15: 健全性 | C15: 応急措置前 | M15: 健全性 | N15: 応急措置前
C16: 応急措置後 | N16: 応急措置後 | P16: Ⅰ
B17: 変状の発生範囲の規模 | M17: 変状の発生範囲の規模 | P17: 幅0.3㎜、長さ1.1m
B18: 前回定期点検時の状態 | M18: 前回定期点検時の状態 | P18: 幅0.3㎜、長さ1.1m
B19: 調査方針 | E19: － | M19: 調査方針 | P19: －
B20: 対策履歴 | E20: なし | H20: 実施状況（実施日） | M20: 対策履歴 | P20: なし | S20: 実施状況（実施日）
B21: メモ | D21: 起点側坑口状況。 | M21: メモ | O21: ひび割れの進行が見られない（遊離石灰を伴う）。
B22: 写真 番号 | C22: 覆工 スパン 番号 | D22: PS | M22: 写真 番号 | N22: 覆工 スパン 番号 | O22: PS
C24: 変状 番号 | D24: 2 | N24: 変状 番号 | O24: 3
B26: 変状 部位 | C26: 対象 箇所 | D26: 内装板 | M26: 変状 部位 | N26: 対象 箇所 | O26: 覆工・坑門
C28: 部位 区分 | D28: 側壁 | N28: 部位 区分 | O28: アーチ（左側）
B30: 変状区分 | D30: 材質劣化 | M30: 変状区分 | O30: 材質劣化
B31: 変状種類 | D31: 補強・補修材の破損 | M31: 変状種類 | O31: ひび割れ
B32: 健全性 | C32: 応急措置前 | M32: 健全性 | N32: 応急措置前
C33: 応急措置後 | E33: Ⅱ | N33: 応急措置後 | P33: Ⅰ
B34: 変状の発生範囲の規模 | E34: 0.4ｍ×0.45ｍ | M34: 変状の発生範囲の規模 | P34: 幅0.5㎜、長さ2.3m
B35: 前回定期点検時の状態 | E35: － | M35: 前回定期点検時の状態 | P35: 幅0.5㎜、長さ2.3m
B36: 調査方針 | E36: － | M36: 調査方針 | P36: －
B37: 対策履歴 | E37: なし | H37: 実施状況（実施日） | M37: 対策履歴 | P37: なし | S37: 実施状況（実施日）
B38: メモ | D38: 新規確認。内装板に破損を確認。判定区分「Ⅱb」 | M38: メモ | O38: ひび割れの進行が見られない。
C39: ※ 健全性（応急措置後）の判定区分Ⅱ～Ⅳについて添付すること。また、点検前に 実施された措置によりⅠと判定された箇所も添付すること。 | N39: ※ 変状の発生範囲の規模とは、対策を行う際に参考となる変状の長さや面積をいう。
N40: ※ 応急措置を実施しないで判定した変状の健全性は、健全性の応急措置後の欄に記入すること。
C41: ※ たたき落としを実施した場合は、実施後の写真を添付すること。 | N41: ※ 変状の発生範囲の規模は、面積・寸法を記載すること。
C42: ※ 附属物の取付状態に関する異常写真は別途、様式D-1-2でとりまとめること。 | N42: (ひび割れ幅のみmmとし、その他をm表記とする)
C43: ※ 変状数に準じてシートを追加すること。（１シートに１ページとすること。） | N43: ※ 構造用鋼材以外の異物に伴ううき・はく離については、メモ欄に異物の概要を記入すること。
B47: ■定期点検記録様式 変状写真台帳 | Y47: Ⅰ
B48: フリガナ | D48: =D3 -> ミネトンネル | H48: 路線名 | J48: =J3 -> 一般国道 316号 | M48: 定期点検業者 | P48: =P3 -> 株式会社ニュージェック | S48: 定期点検年月日 | U48: =U3 -> 44294 | Y48: Ⅱ
B49: 名 称 | D49: =D4 -> 美祢トンネル | H49: 管理者名 | J49: =J4 -> 宇部土木建築事務所 | M49: 定期点検者名 | P49: =P4 -> 石村 勝伸 | Y49: Ⅲ
B50: 写真 番号 | C50: 覆工 スパン 番号 | D50: PS | M50: 写真 番号 | N50: 覆工 スパン 番号 | O50: S001 | Y50: Ⅳ
C52: 変状 番号 | D52: 4 | N52: 変状 番号 | O52: 1
B54: 変状 部位 | C54: 対象 箇所 | D54: 覆工・坑門 | M54: 変状 部位 | N54: 対象 箇所 | O54: 覆工・坑門
C56: 部位 区分 | D56: アーチ（右側） | N56: 部位 区分 | O56: アーチ（左側）
B58: 変状区分 | D58: 材質劣化 | M58: 変状区分 | O58: 材質劣化
B59: 変状種類 | D59: その他 | M59: 変状種類 | O59: その他
B60: 健全性 | C60: 応急措置前 | M60: 健全性 | N60: 応急措置前
C61: 応急措置後 | E61: Ⅰ | N61: 応急措置後 | P61: Ⅰ
B62: 変状の発生範囲の規模 | E62: はく落防止工対策範囲：3.0ｍ×1.2ｍ | M62: 変状の発生範囲の規模 | P62: はつり落とし工範囲：0.2ｍ×0.1ｍ
B63: 前回定期点検時の状態 | E63: 0.15ｍ×0.6ｍ、0.1ｍ×0.8ｍ、0.2ｍ×0.05ｍのうき | M63: 前回定期点検時の状態 | P63: 0.05ｍ×0.15ｍのうき
B64: 調査方針 | E64: － | M64: 調査方針 | P64: －
B65: 対策履歴 | E65: あり | H65: 実施状況（実施日） | M65: 対策履歴 | P65: あり | S65: 実施状況（実施日）
B66: メモ | D66: 対策済み。はく落防止工設置済みを確認。前回判定区分「Ⅲ」 | M66: メモ | O66: 対策済み。はつり落とし工+劣化防止コーティング剤塗布実施済みを確認。前回判定区分「Ⅲ」
B67: 写真 番号 | C67: 覆工 スパン 番号 | D67: S001 | M67: 写真 番号 | N67: 覆工 スパン 番号 | O67: S001
C69: 変状 番号 | D69: 2 | N69: 変状 番号 | O69: 3
B71: 変状 部位 | C71: 対象 箇所 | D71: 覆工・坑門 | M71: 変状 部位 | N71: 対象 箇所 | O71: 覆工・坑門
C73: 部位 区分 | D73: アーチ（左側） | N73: 部位 区分 | O73: アーチ（天端）
B75: 変状区分 | D75: 漏水 | M75: 変状区分 | O75: 材質劣化
B76: 変状種類 | D76: その他 | M76: 変状種類 | O76: うき・はく離
B77: 健全性 | C77: 応急措置前 | M77: 健全性 | N77: 応急措置前
C78: 応急措置後 | E78: Ⅰ | N78: 応急措置後 | P78: Ⅰ
B79: 変状の発生範囲の規模 | E79: 線導水工 | M79: 変状の発生範囲の規模 | P79: 0.05ｍ×0.8ｍ
B80: 前回定期点検時の状態 | E80: 0.2ｍ×0.05ｍのうき | M80: 前回定期点検時の状態 | P80: 0.05ｍ×0.8ｍのうき
B81: 調査方針 | E81: － | M81: 調査方針 | P81: －
B82: 対策履歴 | E82: あり | H82: 実施状況（実施日） | M82: 対策履歴 | P82: なし | S82: 実施状況（実施日）
B83: メモ | D83: 対策済み。線導水工実施済みを確認。前回判定区分「Ⅲ」 | M83: メモ | O83: はく離を確認。硬化剤塗布。
C84: ※ 健全性（応急措置後）の判定区分Ⅱ～Ⅳについて添付すること。また、点検前に 実施された措置によりⅠと判定された箇所も添付すること。 | N84: ※ 変状の発生範囲の規模とは、対策を行う際に参考となる変状の長さや面積をいう。
N85: ※ 応急措置を実施しないで判定した変状の健全性は、健全性の応急措置後の欄に記入すること。
C86: ※ たたき落としを実施した場合は、実施後の写真を添付すること。 | N86: ※ 変状の発生範囲の規模は、面積・寸法を記載すること。
C87: ※ 附属物の取付状態に関する異常写真は別途、様式D-1-2でとりまとめること。 | N87: (ひび割れ幅のみmmとし、その他をm表記とする)
C88: ※ 変状数に準じてシートを追加すること。（１シートに１ページとすること。） | N88: ※ 構造用鋼材以外の異物に伴ううき・はく離については、メモ欄に異物の概要を記入すること。
B92: ■定期点検記録様式 変状写真台帳 | Y92: Ⅰ
B93: フリガナ | D93: =D48 -> ミネトンネル | H93: 路線名 | J93: =J48 -> 一般国道 316号 | M93: 定期点検業者 | P93: =P48 -> 株式会社ニュージェック | S93: 定期点検年月日 | U93: =U48 -> 44294 | Y93: Ⅱ
B94: 名 称 | D94: =D49 -> 美祢トンネル | H94: 管理者名 | J94: =J49 -> 宇部土木建築事務所 | M94: 定期点検者名 | P94: =P49 -> 石村 勝伸 | Y94: Ⅲ
B95: 写真 番号 | C95: 覆工 スパン 番号 | D95: S001 | M95: 写真 番号 | N95: 覆工 スパン 番号 | O95: S001 | Y95: Ⅳ
C97: 変状 番号 | D97: 4 | N97: 変状 番号 | O97: 5
B99: 変状 部位 | C99: 対象 箇所 | D99: 覆工・坑門 | M99: 変状 部位 | N99: 対象 箇所 | O99: 路面
C101: 部位 区分 | D101: アーチ（右側） | N101: 部位 区分 | O101: 監査歩路
B103: 変状区分 | D103: 材質劣化 | M103: 変状区分 | O103: 漏水
B104: 変状種類 | D104: その他 | M104: 変状種類 | O104: 滞水
B105: 健全性 | C105: 応急措置前 | M105: 健全性 | N105: 応急措置前
C106: 応急措置後 | E106: Ⅰ | N106: 応急措置後 | P106: Ⅱ
B107: 変状の発生範囲の規模 | E107: はつり落とし工範囲：0.2ｍ×0.1ｍ（2箇所）、0.3ｍ×0.1ｍ | M107: 変状の発生範囲の規模 | P107: 1.2ｍ×0.2ｍ、1.1ｍ×0.2ｍ
B108: 前回定期点検時の状態 | E108: 0.2ｍ×0.1ｍ（2箇所）、0.3ｍ×0.1ｍのうき | M108: 前回定期点検時の状態 | P108: 土砂堆積
B109: 調査方針 | E109: － | M109: 調査方針 | P109: －
B110: 対策履歴 | E110: あり | H110: 実施状況（実施日） | M110: 対策履歴 | P110: なし | S110: 実施状況（実施日）
B111: メモ | D111: 対策済み。はつり落とし工+劣化防止コーティング剤塗布実施済みを確認。前回判定区分「Ⅲ」 | M111: メモ | O111: 土砂堆積→滞水に変更。判定区分「Ⅱb」
B112: 写真 番号 | C112: 覆工 スパン 番号 | D112: S001 | M112: 写真 番号 | N112: 覆工 スパン 番号 | O112: S002
C114: 変状 番号 | D114: 6 | N114: 変状 番号 | O114: 1
B116: 変状 部位 | C116: 対象 箇所 | D116: 路面 | M116: 変状 部位 | N116: 対象 箇所 | O116: 覆工・坑門
C118: 部位 区分 | D118: 車道 | N118: 部位 区分 | O118: アーチ（左側）
B120: 変状区分 | D120: 材質劣化 | M120: 変状区分 | O120: 漏水
B121: 変状種類 | D121: うき・はく離 | M121: 変状種類 | O121: その他
B122: 健全性 | C122: 応急措置前 | M122: 健全性 | N122: 応急措置前
C123: 応急措置後 | E123: Ⅰ | N123: 応急措置後 | P123: Ⅰ
B124: 変状の発生範囲の規模 | E124: 0.3ｍ×0.1ｍ | M124: 変状の発生範囲の規模 | P124: 線導水工
B125: 前回定期点検時の状態 | E125: 0.2ｍ×0.2ｍのうき | M125: 前回定期点検時の状態 | P125: 0.2ｍ×0.05ｍのうき
B126: 調査方針 | E126: － | M126: 調査方針 | P126: －
B127: 対策履歴 | E127: なし | H127: 実施状況（実施日） | M127: 対策履歴 | P127: あり | S127: 実施状況（実施日）
B128: メモ | D128: 路面の目地沿にうきを確認。 | M128: メモ | O128: 対策済み。線導水工実施済みを確認。前回判定区分「Ⅲ」
C129: ※ 健全性（応急措置後）の判定区分Ⅱ～Ⅳについて添付すること。また、点検前に 実施された措置によりⅠと判定された箇所も添付すること。 | N129: ※ 変状の発生範囲の規模とは、対策を行う際に参考となる変状の長さや面積をいう。
N130: ※ 応急措置を実施しないで判定した変状の健全性は、健全性の応急措置後の欄に記入すること。
...

Sheet 様式D-1-2
B2: ■定期点検記録様式 異常写真台帳（トンネル内附属物等の取付状態） 【様式D-1-2】
B3: フリガナ | E3: ミネトンネル | I3: 路 線 名 | L3: 一般国道 316号 | O3: 定期点検業者 | R3: 株式会社ニュージェック | U3: 定期点検年月日 | W3: ='様式B(トンネル様式1P001)'!Q5 -> 44294
B4: 名 称 | E4: 美祢トンネル | I4: 管理者名 | L4: 宇部土木建築事務所 | O4: 定期点検者名 | R4: ='様式B(トンネル様式1P001)'!K6 -> 石村 勝伸
B5: 覆工スパン番号 | E5: S003 | F5: 異常番号 | I5: 2 | J5: 覆工スパン番号 | M5: S003 | N5: 異常番号 | Q5: 3 | R5: 覆工スパン番号 | U5: S004 | V5: 異常番号 | Y5: 3
B6: 対象箇所 | D6: 照明施設 | E6: 灯具 | G6: 部位区分 | I6: ボルト・ﾅｯﾄ・アンカー類 | J6: 対象箇所 | L6: その他施設 | M6: その他 | O6: 部位区分 | Q6: 取付部材 | R6: 対象箇所 | T6: その他施設 | U6: その他 | W6: 部位区分 | Y6: 取付部材
B7: 異常の種類 | D7: 緩み，脱落 | J7: 異常の種類 | L7: 緩み，脱落 | R7: 異常の種類 | T7: 変形，欠損
B8: 異常判定区分 | D8: × | E8: メモ | F8: 照明取付部のボルトのゆるみ（1箇所） | J8: 異常判定区分 | L8: × | M8: メモ | N8: ケーブル固定金具の脱落（1箇所） | R8: 異常判定区分 | T8: × | U8: メモ | V8: ガイシ陶器の破損（1箇所）
B22: 覆工スパン番号 | E22: S005 | F22: 異常番号 | I22: 3 | J22: 覆工スパン番号 | M22: S006 | N22: 異常番号 | Q22: 4 | R22: 覆工スパン番号 | U22: S022 | V22: 異常番号 | Y22: 5
B23: 対象箇所 | D23: その他施設 | E23: その他 | G23: 部位区分 | I23: 取付部材 | J23: 対象箇所 | L23: その他施設 | M23: その他 | O23: 部位区分 | Q23: 取付部材 | R23: 対象箇所 | T23: その他施設 | U23: その他 | W23: 部位区分 | Y23: 取付部材
B24: 異常の種類 | D24: 緩み，脱落 | J24: 異常の種類 | L24: 緩み，脱落 | R24: 異常の種類 | T24: 緩み，脱落
B25: 異常判定区分 | D25: × | E25: メモ | F25: ケーブル固定金具の脱落（1箇所） | J25: 異常判定区分 | L25: × | M25: メモ | N25: ケーブル固定金具の脱落（1箇所） | R25: 異常判定区分 | T25: × | U25: メモ | V25: ケーブル固定金具の脱落（1箇所）
B39: 覆工スパン番号 | E39: S043 | F39: 異常番号 | I39: 1 | J39: 覆工スパン番号 | M39: S045 | N39: 異常番号 | Q39: 2 | R39: 覆工スパン番号 | U39: S122 | V39: 異常番号 | Y39: 3
B40: 対象箇所 | D40: その他施設 | E40: その他 | G40: 部位区分 | I40: 取付部材 | J40: 対象箇所 | L40: その他施設 | M40: その他 | O40: 部位区分 | Q40: ボルト・ﾅｯﾄ・アンカー類 | R40: 対象箇所 | T40: その他施設 | U40: その他 | W40: 部位区分 | Y40: ボルト・ﾅｯﾄ・アンカー類
B41: 異常の種類 | D41: 緩み，脱落 | J41: 異常の種類 | L41: 緩み，脱落 | R41: 異常の種類 | T41: 緩み，脱落
B42: 異常判定区分 | D42: × | E42: メモ | F42: ケーブル固定金具の脱落（1箇所） | J42: 異常判定区分 | L42: × | M42: メモ | N42: ケーブル固定金具のナットの脱落（1箇所） | R42: 異常判定区分 | T42: × | U42: メモ | V42: ケーブル固定金具のナットの脱落（1箇所）
D56: ※ 異常判定区分×について記入すること。また、応急措置前に異常判定区分×とした箇所のうち応急措置により○と判定した箇所も記入すること。
D57: ※ 応急措置を実施した場合は、その実施状況が分かる写真を添付すること。
D58: ※ 画像データは100kb程度とする。 | L58: ※ 変状数に準じてシートを追加すること。（１シートに１ページとすること。）
B59: 覆工スパン番号 | E59: PS | F59: 異常番号 | I59: 5 | J59: 覆工スパン番号 | M59: S004 | N59: 異常番号 | Q59: 10 | R59: 覆工スパン番号 | U59: S008 | V59: 異常番号 | Y59: 5
B60: 対象箇所 | D60: その他施設 | E60: その他 | G60: 部位区分 | I60: 取付部材 | J60: 対象箇所 | L60: その他施設 | M60: その他 | O60: 部位区分 | Q60: 取付部材 | R60: 対象箇所 | T60: その他施設 | U60: その他 | W60: 部位区分 | Y60: 取付部材
B61: 異常の種類 | D61: 変形，欠損 | J61: 異常の種類 | L61: 変形，欠損 | R61: 異常の種類 | T61: 変形，欠損
B62: 異常判定区分 | D62: × | E62: メモ | F62: デリネーターの変形 | J62: 異常判定区分 | L62: × | M62: メモ | N62: デリネーターの変形 | R62: 異常判定区分 | T62: × | U62: メモ | V62: デリネーターの変形
B76: 覆工スパン番号 | E76: S016 | F76: 異常番号 | I76: 9 | J76: 覆工スパン番号 | M76: S020 | N76: 異常番号 | Q76: 4 | R76: 覆工スパン番号 | U76: S035 | V76: 異常番号 | Y76: 4
B77: 対象箇所 | D77: その他施設 | E77: その他 | G77: 部位区分 | I77: 取付部材 | J77: 対象箇所 | L77: その他施設 | M77: その他 | O77: 部位区分 | Q77: 取付部材 | R77: 対象箇所 | T77: その他施設 | U77: その他 | W77: 部位区分 | Y77: 取付部材
B78: 異常の種類 | D78: 変形，欠損 | J78: 異常の種類 | L78: 変形，欠損 | R78: 異常の種類 | T78: 変形，欠損
B79: 異常判定区分 | D79: × | E79: メモ | F79: デリネーターの変形 | J79: 異常判定区分 | L79: × | M79: メモ | N79: デリネーターの変形 | R79: 異常判定区分 | T79: × | U79: メモ | V79: デリネーターの変形
B93: 覆工スパン番号 | E93: S049 | F93: 異常番号 | I93: 7 | J93: 覆工スパン番号 | M93: S054 | N93: 異常番号 | Q93: 3 | R93: 覆工スパン番号 | U93: S061 | V93: 異常番号 | Y93: 4
B94: 対象箇所 | D94: その他施設 | E94: その他 | G94: 部位区分 | I94: 取付部材 | J94: 対象箇所 | L94: その他施設 | M94: その他 | O94: 部位区分 | Q94: 取付部材 | R94: 対象箇所 | T94: その他施設 | U94: その他 | W94: 部位区分 | Y94: 取付部材
B95: 異常の種類 | D95: 変形，欠損 | J95: 異常の種類 | L95: 変形，欠損 | R95: 異常の種類 | T95: 変形，欠損
B96: 異常判定区分 | D96: × | E96: メモ | F96: デリネーターの変形 | J96: 異常判定区分 | L96: × | M96: メモ | N96: デリネーターの破損 | R96: 異常判定区分 | T96: × | U96: メモ | V96: デリネーターの変形
D110: ※ 異常判定区分×について記入すること。また、応急措置前に異常判定区分×とした箇所のうち応急措置により○と判定した箇所も記入すること。
D111: ※ 応急措置を実施した場合は、その実施状況が分かる写真を添付すること。
D112: ※ 画像データは100kb程度とする。 | L112: ※ 変状数に準じてシートを追加すること。（１シートに１ページとすること。）
B113: 覆工スパン番号 | E113: S072 | F113: 異常番号 | I113: 5 | J113: 覆工スパン番号 | M113: S085 | N113: 異常番号 | Q113: 3 | R113: 覆工スパン番号 | U113: S120 | V113: 異常番号 | Y113: 3
B114: 対象箇所 | D114: その他施設 | E114: その他 | G114: 部位区分 | I114: 取付部材 | J114: 対象箇所 | L114: その他施設 | M114: その他 | O114: 部位区分 | Q114: 取付部材 | R114: 対象箇所 | T114: その他施設 | U114: その他 | W114: 部位区分 | Y114: 取付部材
B115: 異常の種類 | D115: 変形，欠損 | J115: 異常の種類 | L115: 変形，欠損 | R115: 異常の種類 | T115: 変形，欠損
B116: 異常判定区分 | D116: × | E116: メモ | F116: デリネーターの変形 | J116: 異常判定区分 | L116: × | M116: メモ | N116: デリネーターの変形 | R116: 異常判定区分 | T116: × | U116: メモ | V116: デリネーターの破損
B130: 覆工スパン番号 | E130: PE | F130: 異常番号 | I130: 5 | J130: 覆工スパン番号 | M130: S001 | N130: 異常番号 | Q130: 7 | R130: 覆工スパン番号 | U130: S083 | V130: 異常番号 | Y130: 6
B131: 対象箇所 | D131: その他施設 | E131: その他 | G131: 部位区分 | I131: 取付部材 | J131: 対象箇所 | L131: その他施設 | M131: その他 | O131: 部位区分 | Q131: 附属物本体 | R131: 対象箇所 | T131: その他施設 | U131: その他 | W131: 部位区分 | Y131: 附属物本体
B132: 異常の種類 | D132: 変形，欠損 | J132: 異常の種類 | L132: 変形，欠損 | R132: 異常の種類 | T132: 変形，欠損
B133: 異常判定区分 | D133: × | E133: メモ | F133: デリネーターの変形 | J133: 異常判定区分 | L133: × | M133: メモ | N133: 防護柵の変形 | R133: 異常判定区分 | T133: × | U133: メモ | V133: 防護柵の変形
B147: 覆工スパン番号 | E147: S089 | F147: 異常番号 | I147: 1 | J147: 覆工スパン番号 | N147: 異常番号 | R147: 覆工スパン番号 | V147: 異常番号
B148: 対象箇所 | D148: その他施設 | E148: その他 | G148: 部位区分 | I148: 附属物本体 | J148: 対象箇所 | O148: 部位区分 | R148: 対象箇所 | W148: 部位区分
B149: 異常の種類 | D149: 変形，欠損 | J149: 異常の種類 | R149: 異常の種類
B150: 異常判定区分 | D150: × | E150: メモ | F150: 防護柵の変形 | J150: 異常判定区分 | M150: メモ | R150: 異常判定区分 | U150: メモ
D164: ※ 異常判定区分×について記入すること。また、応急措置前に異常判定区分×とした箇所のうち応急措置により○と判定した箇所も記入すること。
D165: ※ 応急措置を実施した場合は、その実施状況が分かる写真を添付すること。
D166: ※ 画像データは100kb程度とする。 | L166: ※ 変状数に準じてシートを追加すること。（１シートに１ページとすること。）

Sheet 様式D-2-1
B3: ■定期点検記録様式 トンネル全体変状展開図 【様式D-2-1】
B4: フリガナ | E4: ミネトンネル | J4: 路線名 | M4: 一般国道 316号 | S4: 定期点検業者 | W4: 株式会社ニュージェック | AC4: 定期点検年月日 | AF4: ='様式B(トンネル様式1P001)'!Q5 -> 44294
B5: 名 称 | E5: 美祢トンネル | J5: 管理者名 | M5: 宇部土木建築事務所 | S5: 定期点検者名 | W5: ='様式B(トンネル様式1P001)'!K6 -> 石村 勝伸
B6: トンネル変状展開図 | C6: トンネル全体変状展開図
V18: 注１：本展開図は、見下げた状態で記載すること。 注２：覆工スパン番号は横断目地毎（矢板工法の場合は上半アーチ の横断目地毎)に設定すること。 注３：横断目地の変状は前の覆工スパン番号で計上すること。 注４：１枚に収まらない場合は、複数枚に分けて作成すること。
B20: トンネル変状展開図 | C20: トンネル全体変状展開図
V32: 注１：本展開図は、見下げた状態で記載すること。 注２：覆工スパン番号は横断目地毎（矢板工法の場合は上半アーチ の横断目地毎)に設定すること。 注３：横断目地の変状は前の覆工スパン番号で計上すること。 注４：１枚に収まらない場合は、複数枚に分けて作成すること。
B34: トンネル変状展開図 | C34: トンネル全体変状展開図
V46: 注１：本展開図は、見下げた状態で記載すること。 注２：覆工スパン番号は横断目地毎（矢板工法の場合は上半アーチ の横断目地毎)に設定すること。 注３：横断目地の変状は前の覆工スパン番号で計上すること。 注４：１枚に収まらない場合は、複数枚に分けて作成すること。
B48: トンネル変状展開図 | C48: トンネル全体変状展開図
V60: 注１：本展開図は、見下げた状態で記載すること。 注２：覆工スパン番号は横断目地毎（矢板工法の場合は上半アーチ の横断目地毎)に設定すること。 注３：横断目地の変状は前の覆工スパン番号で計上すること。 注４：１枚に収まらない場合は、複数枚に分けて作成すること。
B62: トンネル変状展開図 | C62: トンネル全体変状展開図
V74: 注１：本展開図は、見下げた状態で記載すること。 注２：覆工スパン番号は横断目地毎（矢板工法の場合は上半アーチ の横断目地毎)に設定すること。 注３：横断目地の変状は前の覆工スパン番号で計上すること。 注４：１枚に収まらない場合は、複数枚に分けて作成すること。
B76: トンネル変状展開図 | C76: トンネル全体変状展開図
V88: 注１：本展開図は、見下げた状態で記載すること。 注２：覆工スパン番号は横断目地毎（矢板工法の場合は上半アーチ の横断目地毎)に設定すること。 注３：横断目地の変状は前の覆工スパン番号で計上すること。 注４：１枚に収まらない場合は、複数枚に分けて作成すること。
B90: トンネル変状展開図 | C90: トンネル全体変状展開図
V102: 注１：本展開図は、見下げた状態で記載すること。 注２：覆工スパン番号は横断目地毎（矢板工法の場合は上半アーチ の横断目地毎)に設定すること。 注３：横断目地の変状は前の覆工スパン番号で計上すること。 注４：１枚に収まらない場合は、複数枚に分けて作成すること。
B104: トンネル変状展開図 | C104: トンネル全体変状展開図
V116: 注１：本展開図は、見下げた状態で記載すること。 注２：覆工スパン番号は横断目地毎（矢板工法の場合は上半アーチ の横断目地毎)に設定すること。 注３：横断目地の変状は前の覆工スパン番号で計上すること。 注４：１枚に収まらない場合は、複数枚に分けて作成すること。
B118: トンネル変状展開図 | C118: トンネル全体変状展開図
V130: 注１：本展開図は、見下げた状態で記載すること。 注２：覆工スパン番号は横断目地毎（矢板工法の場合は上半アーチ の横断目地毎)に設定すること。 注３：横断目地の変状は前の覆工スパン番号で計上すること。 注４：１枚に収まらない場合は、複数枚に分けて作成すること。
B132: トンネル変状展開図 | C132: トンネル全体変状展開図
V144: 注１：本展開図は、見下げた状態で記載すること。 注２：覆工スパン番号は横断目地毎（矢板工法の場合は上半アーチ の横断目地毎)に設定すること。 注３：横断目地の変状は前の覆工スパン番号で計上すること。 注４：１枚に収まらない場合は、複数枚に分けて作成すること。
B146: トンネル変状展開図 | C146: トンネル全体変状展開図
V158: 注１：本展開図は、見下げた状態で記載すること。 注２：覆工スパン番号は横断目地毎（矢板工法の場合は上半アーチ の横断目地毎)に設定すること。 注３：横断目地の変状は前の覆工スパン番号で計上すること。 注４：１枚に収まらない場合は、複数枚に分けて作成すること。
B160: トンネル変状展開図 | C160: トンネル全体変状展開図
V172: 注１：本展開図は、見下げた状態で記載すること。 注２：覆工スパン番号は横断目地毎（矢板工法の場合は上半アーチ の横断目地毎)に設定すること。 注３：横断目地の変状は前の覆工スパン番号で計上すること。 注４：１枚に収まらない場合は、複数枚に分けて作成すること。
B174: トンネル変状展開図 | C174: トンネル全体変状展開図
V186: 注１：本展開図は、見下げた状態で記載すること。 注２：覆工スパン番号は横断目地毎（矢板工法の場合は上半アーチ の横断目地毎)に設定すること。 注３：横断目地の変状は前の覆工スパン番号で計上すること。 注４：１枚に収まらない場合は、複数枚に分けて作成すること。
B188: トンネル変状展開図 | C188: トンネル全体変状展開図
V200: 注１：本展開図は、見下げた状態で記載すること。 注２：覆工スパン番号は横断目地毎（矢板工法の場合は上半アーチ の横断目地毎)に設定すること。 注３：横断目地の変状は前の覆工スパン番号で計上すること。 注４：１枚に収まらない場合は、複数枚に分けて作成すること。
B202: トンネル変状展開図 | C202: トンネル全体変状展開図
V214: 注１：本展開図は、見下げた状態で記載すること。 注２：覆工スパン番号は横断目地毎（矢板工法の場合は上半アーチ の横断目地毎)に設定すること。 注３：横断目地の変状は前の覆工スパン番号で計上すること。 注４：１枚に収まらない場合は、複数枚に分けて作成すること。
B216: トンネル変状展開図 | C216: トンネル全体変状展開図
V228: 注１：本展開図は、見下げた状態で記載すること。 注２：覆工スパン番号は横断目地毎（矢板工法の場合は上半アーチ の横断目地毎)に設定すること。 注３：横断目地の変状は前の覆工スパン番号で計上すること。 注４：１枚に収まらない場合は、複数枚に分けて作成すること。
B230: トンネル変状展開図 | C230: トンネル全体変状展開図
V242: 注１：本展開図は、見下げた状態で記載すること。 注２：覆工スパン番号は横断目地毎（矢板工法の場合は上半アーチ の横断目地毎)に設定すること。 注３：横断目地の変状は前の覆工スパン番号で計上すること。 注４：１枚に収まらない場合は、複数枚に分けて作成すること。
B244: トンネル変状展開図 | C244: トンネル全体変状展開図
V256: 注１：本展開図は、見下げた状態で記載すること。 注２：覆工スパン番号は横断目地毎（矢板工法の場合は上半アーチ の横断目地毎)に設定すること。 注３：横断目地の変状は前の覆工スパン番号で計上すること。 注４：１枚に収まらない場合は、複数枚に分けて作成すること。
B258: トンネル変状展開図 | C258: トンネル全体変状展開図
V270: 注１：本展開図は、見下げた状態で記載すること。 注２：覆工スパン番号は横断目地毎（矢板工法の場合は上半アーチ の横断目地毎)に設定すること。 注３：横断目地の変状は前の覆工スパン番号で計上すること。 注４：１枚に収まらない場合は、複数枚に分けて作成すること。
B272: トンネル変状展開図 | C272: トンネル全体変状展開図
V284: 注１：本展開図は、見下げた状態で記載すること。 注２：覆工スパン番号は横断目地毎（矢板工法の場合は上半アーチ の横断目地毎)に設定すること。 注３：横断目地の変状は前の覆工スパン番号で計上すること。 注４：１枚に収まらない場合は、複数枚に分けて作成すること。
B286: トンネル変状展開図 | C286: トンネル全体変状展開図
V298: 注１：本展開図は、見下げた状態で記載すること。 注２：覆工スパン番号は横断目地毎（矢板工法の場合は上半アーチ の横断目地毎)に設定すること。 注３：横断目地の変状は前の覆工スパン番号で計上すること。 注４：１枚に収まらない場合は、複数枚に分けて作成すること。
B300: トンネル変状展開図 | C300: トンネル全体変状展開図
V312: 注１：本展開図は、見下げた状態で記載すること。 注２：覆工スパン番号は横断目地毎（矢板工法の場合は上半アーチ の横断目地毎)に設定すること。 注３：横断目地の変状は前の覆工スパン番号で計上すること。 注４：１枚に収まらない場合は、複数枚に分けて作成すること。
B314: トンネル変状展開図 | C314: トンネル全体変状展開図
V326: 注１：本展開図は、見下げた状態で記載すること。 注２：覆工スパン番号は横断目地毎（矢板工法の場合は上半アーチ の横断目地毎)に設定すること。 注３：横断目地の変状は前の覆工スパン番号で計上すること。 注４：１枚に収まらない場合は、複数枚に分けて作成すること。

Sheet 様式D-2-1´
B3: ■定期点検記録様式 トンネル全体変状展開図（機器の活用時） 【様式D-2-1’】
B4: フリガナ | E4: ='様式D-2-1'!E4:I4 -> ミネトンネル | J4: 路線名 | M4: ='様式D-2-1'!M4:R4 -> 一般国道 316号 | S4: 定期点検業者 | W4: ='様式D-2-1'!W4:AB4 -> 株式会社ニュージェック | AC4: 定期点検年月日 | AF4: ='様式B(トンネル様式1P001)'!Q5 -> 44294
B5: 名 称 | E5: ='様式D-2-1'!E5:I5 -> 美祢トンネル | J5: 管理者名 | M5: ='様式D-2-1'!M5:R5 -> 宇部土木建築事務所 | S5: 定期点検者名 | W5: ='様式D-2-1'!W5:AB5 -> 石村 勝伸
B6: トンネル変状展開図 | C6: トンネル全体変状展開図
S18: 注１：本展開図は、見下げた状態で記載すること。 注２：覆工スパン番号は横断目地毎（矢板工法の場合は上半アーチの横断目地毎)に 設定すること。 注３：横断目地の変状は前の覆工スパン番号で計上すること。 注４：１枚に収まらない場合は、複数枚に分けて作成すること。 注５：覆工写真の画像サイズは500kb程度とすること。

Sheet 様式D-3_S00
AU1: 様式E-1リンク用→ | AV1: 覆工ｽﾊﾟﾝ 番号 | AW1: ｽﾊﾟﾝ 長 (m) | AX1: 変状数集計 | BS1: 覆工スパン毎の 健全性の診断 | BW1: 変状規模集計
AX2: 対策区分毎の変状数 | BJ2: 健全性の判定区分毎の変状数 | BW2: 覆工スパン長(m) | CA2: 対策区分毎の変状の発生範囲の規模(㎡）
B3: ■定期点検記録様式 覆工スパン別変状詳細展開図 【様式D-3】 | AX3: 外力 | BB3: 材質劣化 | BF3: 漏水 | BJ3: 外力 | BM3: 材質劣化 | BP3: 漏水 | BS3: 外力 | BT3: 材質劣化 | BU3: 漏水 | BV3: 健全性 | BW3: 外力※１ | CA3: 材質劣化 | CE3: 漏水
B4: フリガナ | E4: ミネトンネル | K4: 路線名 | N4: 一般国道 316号 | T4: 定期点検業者 | Y4: 株式会社ニュージェック | AG4: 定期点検年月日 | AK4: ='様式B(トンネル様式1P001)'!Q5 -> 44294 | AX4: Ⅳ | AY4: Ⅲ | AZ4: Ⅱa | BA4: Ⅱb | BB4: Ⅳ | BC4: Ⅲ | BD4: Ⅱa | BE4: Ⅱb | BF4: Ⅳ | BG4: Ⅲ | BH4: Ⅱa | BI4: Ⅱb | BJ4: Ⅳ | BK4: Ⅲ | BL4: Ⅱ | BM4: Ⅳ | BN4: Ⅲ | BO4: Ⅱ | BP4: Ⅳ | BQ4: Ⅲ | BR4: Ⅱ | BW4: Ⅳ | BX4: Ⅲ | BY4: Ⅱa | BZ4: Ⅱb | CA4: Ⅳ | CB4: Ⅲ | CC4: Ⅱa | CD4: Ⅱb | CE4: Ⅳ | CF4: Ⅲ | CG4: Ⅱa | CH4: Ⅱb
B5: 名 称 | E5: 美祢トンネル | K5: 管理者名 | N5: 宇部土木建築事務所 | T5: 定期点検者名 | Y5: ='様式B(トンネル様式1P001)'!K6 -> 石村 勝伸 | AV5: =N7 -> PS | AW5: =R7 -> 5 | AX5: =+Y32 -> 0 | AY5: =+Z32 -> 0 | AZ5: =+AA32 -> 0 | BA5: =+AB32 -> 0 | BB5: =+AC32 -> 0 | BC5: =+AD32 -> 0 | BD5: =+AE32 -> 0 | BE5: =+AF32 -> 1 | ... BI5: =+AJ32 -> 0 | BJ5: =+Y35 | BK5: =+Z35 | BL5: =+AA35 | BM5: =+AC35 -> 0 | BN5: =+AD35 -> 0 | BO5: =+AE35 -> 1 | BP5: =+AG35 -> 0 | BQ5: =+AH35 -> 0 | BR5: =+AI35 -> 0 | BS5: =+Y36 -> Ⅰ | BT5: =+AC36 -> Ⅱ | BU5: =+AG36 -> Ⅰ | BV5: =+Y37 -> Ⅱ | BW5: =IF(Y32>0,$R$7,"") | BX5: =IF(Z32>0,"",IF(AA32>0,$R$7,"")) | BY5: =IF(Y32+Z32>0,"",IF(AA32>0,$R$7,"")) | BZ5: =IF(Y32+Z32+AA32>0,"",IF(AB32>0,$R$7,"")) | CA5: =+AC31 -> 0 | CB5: =+AD31 -> 0 | CC5: =+AE31 -> 0 | CD5: =+AF31 -> 0.18 | CE5: =+AG31 -> 0 | CF5: =+AH31 -> 0 | CG5: =+AI31 -> 0 | CH5: =+AJ31 -> 0
B6: スパン別変状展開図 | K6: 【健全性判定集計表】
K7: スパン番号 | N7: PS | P7: スパン長 | R7: ='様式A-2'!C10 -> 5 | U7: 前回定期点検時の健全性 | W7: 応急措置前の判定 | Y7: 対策区分毎の 変状の有無 | AC7: 対策区分毎の変状の発生範囲の規模(㎡) | AK7: 備考注2
K8: 変状番号 | L8: 対象箇所 | N8: 部位区分 | P8: 変状区分 | R8: 変状種類
Y9: 外力注1 | AC9: 材質劣化注1 | AG9: 漏水注1
Y10: Ⅳ | Z10: Ⅲ | AA10: Ⅱa | AB10: Ⅱb | AC10: Ⅳ | AD10: Ⅲ | AE10: Ⅱa | AF10: Ⅱb | AG10: Ⅳ | AH10: Ⅲ | AI10: Ⅱa | AJ10: Ⅱb
K11: 1 | L11: 覆工・坑門 | N11: 面壁・妻壁等 | P11: 材質劣化 | R11: ひび割れ | U11: Ⅰ | W11: Ⅰ | AK11: 幅0.3㎜、長さ1.1m | AQ11: =IF(P11="材質劣化",2,IF(P11="漏水",3,1)) -> 2
K12: 2 | L12: 内装板 | N12: 側壁 | P12: 材質劣化 | R12: 補強・補修材の破損 | U12: － | W12: Ⅱb | AF12: =0.4*0.45 -> 0.18 | AQ12: =IF(P12="材質劣化",2,IF(P12="漏水",3,1)) -> 2
K13: 3 | L13: 覆工・坑門 | N13: アーチ（左側） | P13: 材質劣化 | R13: ひび割れ | U13: Ⅰ | W13: Ⅰ | AK13: 幅0.5㎜、長さ2.3m | AQ13: =IF(P13="材質劣化",2,IF(P13="漏水",3,1)) -> 2
K14: 4 | L14: 覆工・坑門 | N14: アーチ（右側） | P14: 材質劣化 | R14: その他 | U14: Ⅲ | W14: Ⅰ | AK14: はく落防止工設置 | AQ14: =IF(P14="材質劣化",2,IF(P14="漏水",3,1)) -> 2
AQ15: =IF(P15="材質劣化",2,IF(P15="漏水",3,1)) -> 1
AQ16: =IF(P16="材質劣化",2,IF(P16="漏水",3,1)) -> 1
AQ17: =IF(P17="材質劣化",2,IF(P17="漏水",3,1)) -> 1
AQ18: =IF(P18="材質劣化",2,IF(P18="漏水",3,1)) -> 1
AQ19: =IF(P19="材質劣化",2,IF(P19="漏水",3,1)) -> 1
AQ20: =IF(P20="材質劣化",2,IF(P20="漏水",3,1)) -> 1
AQ21: =IF(P21="材質劣化",2,IF(P21="漏水",3,1)) -> 1
AQ22: =IF(P22="材質劣化",2,IF(P22="漏水",3,1)) -> 1
AQ23: =IF(P23="材質劣化",2,IF(P23="漏水",3,1)) -> 1
AQ24: =IF(P24="材質劣化",2,IF(P24="漏水",3,1)) -> 1
AQ25: =IF(P25="材質劣化",2,IF(P25="漏水",3,1)) -> 1
AQ26: =IF(P26="材質劣化",2,IF(P26="漏水",3,1)) -> 1
... AQ30: =IF(P30="材質劣化",2,IF(P30="漏水",3,1)) -> 1
K31: 集計 ・ 判定 ・ 診断 | L31: 変状の発生規模合計(㎡) | Y31: － | AC31: =SUM(AC11:AC30) -> 0 | AD31: =SUM(AD11:AD30) -> 0 | AE31: =SUM(AE11:AE30) -> 0 | AF31: =SUM(AF11:AF30) -> 0.18 | AG31: =SUM(AG11:AG30) -> 0 | AH31: =SUM(AH11:AH30) -> 0 | AI31: =SUM(AI11:AI30) -> 0 | AJ31: =SUM(AJ11:AJ30) -> 0 | AK31: 計
L32: 対策区分の 判定結果 | O32: 判定区分毎の変状数 | Y32: =COUNTIF(Y11:Y30,"○") -> 0 | Z32: =COUNTIF(Z11:Z30,"○") -> 0 | AA32: =COUNTIF(AA11:AA30,"○") -> 0 | AB32: =COUNTIF(AB11:AB30,"○") -> 0 | AC32: =COUNT(AC11:AC30) -> 0 | AD32: =COUNT(AD11:AD30) -> 0 | AE32: =COUNT(AE11:AE30) -> 0 | AF32: =COUNT(AF11:AF30) -> 1 | AG32: =COUNT(AG11:AG30) -> 0 | AH32: =COUNT(AH11:AH30) -> 0 | AI32: =COUNT(AI11:AI30) -> 0 | AJ32: =COUNT(AJ11:AJ30) -> 0
O33: 変状区分毎の判定区分注3 | Y33: =IF(Y32>0,"Ⅳ",IF(Z32>0,"Ⅲ",IF(AA32>0,"Ⅱa",IF(AB32>0,"Ⅱb","Ⅰ")))) -> Ⅰ | AC33: =IF(AC32>0,"Ⅳ",IF(AD32>0,"Ⅲ",IF(AE32>0,"Ⅱa",IF(AF32>0,"Ⅱb","Ⅰ")))) -> Ⅱb | AG33: =IF(AG32>0,"Ⅳ",IF(AH32>0,"Ⅲ",IF(AI32>0,"Ⅱa",IF(AJ32>0,"Ⅱb","Ⅰ")))) -> Ⅰ | AQ33: Ⅳ | AR33: Ⅲ | AS33: Ⅱ
L34: 健全性の 診断結果 | O34: 判定区分 | Y34: Ⅳ | Z34: Ⅲ | AA34: Ⅱ | AC34: Ⅳ | AD34: Ⅲ | AE34: Ⅱ | AG34: Ⅳ | AH34: Ⅲ | AI34: Ⅱ | AQ34: =+Y32+Z32 -> 0 | AS34: =+AA32+AB32 -> 0
O35: 判定区分毎の変状数注4 | Y35: =IF(Y32=0,"",1) | Z35: =IF(Z32=0,"",1) | AA35: =IF(AQ34=1,"",IF(AS34>0,1,"")) | AC35: =+AC32 -> 0 | AD35: =AD32 -> 0 | AE35: =AE32+AF32 -> 1 | AG35: =AG32 -> 0 | AH35: =AH32 -> 0 | AI35: =AI32+AJ32 -> 0 | AQ35: =+Y32+AC35+AG35 -> 0 | AR35: =+Z32+AD35+AH35 -> 0 | AS35: =+AS34+AE35+AI35 -> 1
O36: 変状区分毎の判定区分注4 | Y36: Ⅰ | AC36: =IF(AC35>0,"Ⅳ",IF(AD35>0,"Ⅲ",IF(AE35>0,"Ⅱ","Ⅰ"))) -> Ⅱ | AG36: =IF(AG35>0,"Ⅳ",IF(AH35>0,"Ⅲ",IF(AI35>0,"Ⅱ","Ⅰ"))) -> Ⅰ | AQ36: =IF(AQ35>0,"Ⅳ",IF(AR35>0,"Ⅲ",IF(AS35>0,"Ⅱ","Ⅰ"))) -> Ⅱ
O37: 覆工スパン単位の判定区分注5 | Y37: =IF(COUNTIF(Y36:AJ36,"Ⅳ")>0,"Ⅳ",IF(COUNTIF(Y36:AJ36,"Ⅲ")>0,"Ⅲ",IF(COUNTIF(Y36:AJ36,"Ⅱ")>0,"Ⅱ","Ⅰ"))) -> Ⅱ
K38: 特記事項
K40: 注1：誤記入防止のため、当該変状区分以外のセルは灰色表示とすること。
K41: 注2：応急対策を実施した場合は、その詳細を備考に記載すること。
K42: 注3：変状区分毎での最も評価の厳しい判定区分。
K43: 注4：変状区分毎での最も評価の厳しい判定区分．外力は覆工スパン単位、材質劣化、漏水は変状単位で行う。
K44: 注5：覆工スパンの中で最も評価の厳しい健全性を採用し、その覆工スパン毎の健全性とする。
B46: ※1：本シートは作成洩れのないよう、変状が無くても全スパン分を作成すること．また変状展開図は、様式D-2-1、様式D-2-1'と同じものを覆工スパン単位で拡大し掲載すること。
B47: ※2：変状番号は、様式D-1-1で記入した番号と整合させること。
B48: ※3：対策区分毎の変状発生規模は、様式D-1-1に記載した面積を記入すること（ただし外力はスパン単位で評価するため対象外とし、備考欄に状況を記入）。 | AU48: 様式E-1リンク用→ | AV48: 覆工ｽﾊﾟﾝ 番号 | AW48: ｽﾊﾟﾝ 長 (m) | AX48: 変状数集計 | BS48: 覆工スパン毎の 健全性の診断 | BW48: 変状規模集計
B49: ※4：本様式は覆工スパン毎に作成すること。 | AX49: 対策区分毎の変状数 | BJ49: 健全性の判定区分毎の変状数 | BW49: 覆工スパン長(m) | CA49: 対策区分毎の変状の発生範囲の規模(㎡）
B50: ※5：変状数が多い場合は、適時、表の行を増やして覆工スパン毎に1枚のシートに収めること。また、1スパン１シートとし、スパンに合わせてシートを追加すること。 | AX50: 外力 | BB50: 材質劣化 | BF50: 漏水 | BJ50: 外力 | BM50: 材質劣化 | BP50: 漏水 | BS50: 外力 | BT50: 材質劣化 | BU50: 漏水 | BV50: 健全性 | BW50: 外力※１ | CA50: 材質劣化 | CE50: 漏水
B51: ※6：対策区分毎の変状の発生範囲の規模とは，対策を行う際に参考となる変状の長さや面積であり，変状を包含する長さや面積とする。 | AX51: Ⅳ | AY51: Ⅲ | AZ51: Ⅱa | BA51: Ⅱb | BB51: Ⅳ | BC51: Ⅲ | BD51: Ⅱa | BE51: Ⅱb | BF51: Ⅳ | BG51: Ⅲ | BH51: Ⅱa | BI51: Ⅱb | BJ51: Ⅳ | BK51: Ⅲ | BL51: Ⅱ | BM51: Ⅳ | BN51: Ⅲ | BO51: Ⅱ | BP51: Ⅳ | BQ51: Ⅲ | BR51: Ⅱ | BW51: Ⅳ | BX51: Ⅲ | BY51: Ⅱa | BZ51: Ⅱb | CA51: Ⅳ | CB51: Ⅲ | CC51: Ⅱa | CD51: Ⅱb | CE51: Ⅳ | CF51: Ⅲ | CG51: Ⅱa | CH51: Ⅱb
B52: ※7：路面滞水は、変状面積に1を記載するとともに、備考にも内容を記載すること。 | AV52: =N54 -> S001 | AW52: =R54 -> 10.5 | AX52: =+Y79 -> 0 | AY52: =+Z79 -> 0 | AZ52: =+AA79 -> 0 | BA52: =+AB79 -> 0 | BB52: =+AC79 -> 0 | BC52: =+AD79 -> 0 | BD52: =+AE79 -> 0 | BE52: =+AF79 -> 0 | ... BI52: =+AJ79 -> 1 | BJ52: =+Y82 | BK52: =+Z82 | BL52: =+AA82 | BM52: =+AC82 -> 0 | BN52: =+AD82 -> 0 | BO52: =+AE82 -> 0 | BP52: =+AG82 -> 0 | BQ52: =+AH82 -> 0 | BR52: =+AI82 -> 1 | BS52: =+Y83 -> Ⅰ | BT52: =+AC83 -> Ⅰ | BU52: =+AG83 -> Ⅱ | BV52: =+Y84 -> Ⅱ | BW52: =IF(Y79>0,R54,"") | BX52: =IF(Z79>0,"",IF(AA79>0,R54,"")) | BY52: =IF(Y79+Z79>0,"",IF(AA79>0,R54,"")) | BZ52: =IF(Y79+Z79+AA79>0,"",IF(AB79>0,R54,"")) | CA52: =+AC78 -> 0 | CB52: =+AD78 -> 0 | CC52: =+AE78 -> 0 | CD52: =+AF78 -> 0 | CE52: =+AG78 -> 0 | CF52: =+AH78 -> 0 | CG52: =+AI78 -> 0 | CH52: =+AJ78 -> 0.46
B53: スパン別変状展開図 | K53: 【健全性判定集計表】
K54: スパン番号 | N54: S001 | P54: スパン長 | R54: ='様式A-2'!C11 -> 10.5 | U54: 前回定期点検時の健全性 | W54: 応急措置前の判定 | Y54: 対策区分毎の 変状の有無 | AC54: 対策区分毎の変状の発生範囲の規模(㎡) | AK54: 備考注2
K55: 変状番号 | L55: 対象箇所 | N55: 部位区分 | P55: 変状区分 | R55: 変状種類
Y56: 外力注1 | AC56: 材質劣化注1 | AG56: 漏水注1
Y57: Ⅳ | Z57: Ⅲ | AA57: Ⅱa | AB57: Ⅱb | AC57: Ⅳ | AD57: Ⅲ | AE57: Ⅱa | AF57: Ⅱb | AG57: Ⅳ | AH57: Ⅲ | AI57: Ⅱa | AJ57: Ⅱb
K58: 1 | L58: 覆工・坑門 | N58: アーチ（左側） | P58: 材質劣化 | R58: その他 | U58: Ⅲ | W58: Ⅰ | AK58: はつり落とし工 | AQ58: =IF(P58="材質劣化",2,IF(P58="漏水",3,1)) -> 2
K59: 2 | L59: 覆工・坑門 | N59: アーチ（左側） | P59: 漏水 | R59: その他 | U59: Ⅲ | W59: Ⅰ | AK59: 線導水工設置 | AQ59: =IF(P59="材質劣化",2,IF(P59="漏水",3,1)) -> 3
K60: 3 | L60: 覆工・坑門 | N60: アーチ（天端） | P60: 材質劣化 | R60: うき・はく離 | U60: Ⅰ | W60: Ⅰ | AQ60: =IF(P60="材質劣化",2,IF(P60="漏水",3,1)) -> 2
K61: 4 | L61: 覆工・坑門 | N61: アーチ（右側） | P61: 材質劣化 | R61: その他 | U61: Ⅲ | W61: Ⅰ | AK61: はつり落とし工 | AQ61: =IF(P61="材質劣化",2,IF(P61="漏水",3,1)) -> 2
K62: 5 | L62: 路面 | N62: 監査歩路 | P62: 漏水 | R62: 滞水 | U62: Ⅱ | W62: Ⅱb | AJ62: =1.2*0.2+1.1*0.2 -> 0.46 | AQ62: =IF(P62="材質劣化",2,IF(P62="漏水",3,1)) -> 3
K63: 6 | L63: 路面 | N63: 車道 | P63: 材質劣化 | R63: うき・はく離 | U63: Ⅱ | W63: Ⅰ | AQ63: =IF(P63="材質劣化",2,IF(P63="漏水",3,1)) -> 2
AQ64: =IF(P64="材質劣化",2,IF(P64="漏水",3,1)) -> 1
AQ65: =IF(P65="材質劣化",2,IF(P65="漏水",3,1)) -> 1
AQ66: =IF(P66="材質劣化",2,IF(P66="漏水",3,1)) -> 1
AQ67: =IF(P67="材質劣化",2,IF(P67="漏水",3,1)) -> 1
AQ68: =IF(P68="材質劣化",2,IF(P68="漏水",3,1)) -> 1
AQ69: =IF(P69="材質劣化",2,IF(P69="漏水",3,1)) -> 1
AQ70: =IF(P70="材質劣化",2,IF(P70="漏水",3,1)) -> 1
AQ71: =IF(P71="材質劣化",2,IF(P71="漏水",3,1)) -> 1
AQ72: =IF(P72="材質劣化",2,IF(P72="漏水",3,1)) -> 1
AQ73: =IF(P73="材質劣化",2,IF(P73="漏水",3,1)) -> 1
AQ74: =IF(P74="材質劣化",2,IF(P74="漏水",3,1)) -> 1
AQ75: =IF(P75="材質劣化",2,IF(P75="漏水",3,1)) -> 1
... AQ77: =IF(P77="材質劣化",2,IF(P77="漏水",3,1)) -> 1
K78: 集計 ・ 判定 ・ 診断 | L78: 変状の発生規模合計(㎡) | Y78: － | AC78: =SUM(AC58:AC77) -> 0 | AD78: =SUM(AD58:AD77) -> 0 | AE78: =SUM(AE58:AE77) -> 0 | AF78: =SUM(AF58:AF77) -> 0 | AG78: =SUM(AG58:AG77) -> 0 | AH78: =SUM(AH58:AH77) -> 0 | AI78: =SUM(AI58:AI77) -> 0 | AJ78: =SUM(AJ58:AJ77) -> 0.46 | AK78: 計
L79: 対策区分の 判定結果 | O79: 判定区分毎の変状数 | Y79: =COUNTIF(Y58:Y77,"○") -> 0 | Z79: =COUNTIF(Z58:Z77,"○") -> 0 | AA79: =COUNTIF(AA58:AA77,"○") -> 0 | AB79: =COUNTIF(AB58:AB77,"○") -> 0 | AC79: =COUNT(AC58:AC77) -> 0 | AD79: =COUNT(AD58:AD77) -> 0 | AE79: =COUNT(AE58:AE77) -> 0 | AF79: =COUNT(AF58:AF77) -> 0 | AG79: =COUNT(AG58:AG77) -> 0 | AH79: =COUNT(AH58:AH77) -> 0 | AI79: =COUNT(AI58:AI77) -> 0 | AJ79: =COUNT(AJ58:AJ77) -> 1
O80: 変状区分毎の判定区分注3 | Y80: =IF(Y79>0,"Ⅳ",IF(Z79>0,"Ⅲ",IF(AA79>0,"Ⅱa",IF(AB79>0,"Ⅱb","Ⅰ")))) -> Ⅰ | AC80: =IF(AC79>0,"Ⅳ",IF(AD79>0,"Ⅲ",IF(AE79>0,"Ⅱa",IF(AF79>0,"Ⅱb","Ⅰ")))) -> Ⅰ | AG80: =IF(AG79>0,"Ⅳ",IF(AH79>0,"Ⅲ",IF(AI79>0,"Ⅱa",IF(AJ79>0,"Ⅱb","Ⅰ")))) -> Ⅱb | AQ80: Ⅳ | AR80: Ⅲ | AS80: Ⅱ
L81: 健全性の 診断結果 | O81: 判定区分 | Y81: Ⅳ | Z81: Ⅲ | AA81: Ⅱ | AC81: Ⅳ | AD81: Ⅲ | AE81: Ⅱ | AG81: Ⅳ | AH81: Ⅲ | AI81: Ⅱ | AQ81: =+Y79+Z79 -> 0 | AS81: =+AA79+AB79 -> 0
O82: 判定区分毎の変状数注4 | Y82: =IF(Y79=0,"",1) | Z82: =IF(Z79=0,"",1) | AA82: =IF(AQ81=1,"",IF(AS81>0,1,"")) | AC82: =+AC79 -> 0 | AD82: =AD79 -> 0 | AE82: =AE79+AF79 -> 0 | AG82: =AG79 -> 0 | AH82: =AH79 -> 0 | AI82: =AI79+AJ79 -> 1 | AQ82: =+Y79+AC82+AG82 -> 0 | AR82: =+Z79+AD82+AH82 -> 0 | AS82: =+AS81+AE82+AI82 -> 1
O83: 変状区分毎の判定区分注4 | Y83: Ⅰ | AC83: =IF(AC82>0,"Ⅳ",IF(AD82>0,"Ⅲ",IF(AE82>0,"Ⅱ","Ⅰ"))) -> Ⅰ | AG83: =IF(AG82>0,"Ⅳ",IF(AH82>0,"Ⅲ",IF(AI82>0,"Ⅱ","Ⅰ"))) -> Ⅱ | AQ83: =IF(AQ82>0,"Ⅳ",IF(AR82>0,"Ⅲ",IF(AS82>0,"Ⅱ","Ⅰ"))) -> Ⅱ
O84: 覆工スパン単位の判定区分注5 | Y84: =IF(COUNTIF(Y83:AJ83,"Ⅳ")>0,"Ⅳ",IF(COUNTIF(Y83:AJ83,"Ⅲ")>0,"Ⅲ",IF(COUNTIF(Y83:AJ83,"Ⅱ")>0,"Ⅱ","Ⅰ"))) -> Ⅱ
K85: 特記事項
K87: 注1：誤記入防止のため、当該変状区分以外のセルは灰色表示とすること。
K88: 注2：応急対策を実施した場合は、その詳細を備考に記載すること。
K89: 注3：変状区分毎での最も評価の厳しい判定区分。
K90: 注4：変状区分毎での最も評価の厳しい判定区分．外力は覆工スパン単位、材質劣化、漏水は変状単位で行う。
K91: 注5：覆工スパンの中で最も評価の厳しい健全性を採用し、その覆工スパン毎の健全性とする。
B93: ※1：本シートは作成洩れのないよう、変状が無くても全スパン分を作成すること．また変状展開図は、様式D-2-1、様式D-2-1'と同じものを覆工スパン単位で拡大し掲載すること。
B94: ※2：変状番号は、様式D-1-1で記入した番号と整合させること。
B95: ※3：対策区分毎の変状発生規模は、様式D-1-1に記載した面積を記入すること（ただし外力はスパン単位で評価するため対象外とし、備考欄に状況を記入）。 | AU95: 様式E-1リンク用→ | AV95: 覆工ｽﾊﾟﾝ 番号 | AW95: ｽﾊﾟﾝ 長 (m) | AX95: 変状数集計 | BS95: 覆工スパン毎の 健全性の診断 | BW95: 変状規模集計
B96: ※4：本様式は覆工スパン毎に作成すること。 | AX96: 対策区分毎の変状数 | BJ96: 健全性の判定区分毎の変状数 | BW96: 覆工スパン長(m) | CA96: 対策区分毎の変状の発生範囲の規模(㎡）
B97: ※5：変状数が多い場合は、適時、表の行を増やして覆工スパン毎に1枚のシートに収めること。また、1スパン１シートとし、スパンに合わせてシートを追加すること。 | AX97: 外力 | BB97: 材質劣化 | BF97: 漏水 | BJ97: 外力 | BM97: 材質劣化 | BP97: 漏水 | BS97: 外力 | BT97: 材質劣化 | BU97: 漏水 | BV97: 健全性 | BW97: 外力※１ | CA97: 材質劣化 | CE97: 漏水
B98: ※6：対策区分毎の変状の発生範囲の規模とは，対策を行う際に参考となる変状の長さや面積であり，変状を包含する長さや面積とする。 | AX98: Ⅳ | AY98: Ⅲ | AZ98: Ⅱa | BA98: Ⅱb | BB98: Ⅳ | BC98: Ⅲ | BD98: Ⅱa | BE98: Ⅱb | BF98: Ⅳ | BG98: Ⅲ | BH98: Ⅱa | BI98: Ⅱb | BJ98: Ⅳ | BK98: Ⅲ | BL98: Ⅱ | BM98: Ⅳ | BN98: Ⅲ | BO98: Ⅱ | BP98: Ⅳ | BQ98: Ⅲ | BR98: Ⅱ | BW98: Ⅳ | BX98: Ⅲ | BY98: Ⅱa | BZ98: Ⅱb | CA98: Ⅳ | CB98: Ⅲ | CC98: Ⅱa | CD98: Ⅱb | CE98: Ⅳ | CF98: Ⅲ | CG98: Ⅱa | CH98: Ⅱb
B99: ※7：路面滞水は、変状面積に1を記載するとともに、備考にも内容を記載すること。 | AV99: =N101 -> S002 | AW99: =R101 -> 10.5 | AX99: =+Y126 -> 0 | AY99: =+Z126 -> 0 | AZ99: =+AA126 -> 0 | BA99: =+AB126 -> 0 | BB99: =+AC126 -> 0 | BC99: =+AD126 -> 0 | BD99: =+AE126 -> 0 | BE99: =+AF126 -> 0 | ... BI99: =+AJ126 -> 1 | BJ99: =+Y129 | BK99: =+Z129 | BL99: =+AA129 | BM99: =+AC129 -> 0 | BN99: =+AD129 -> 0 | BO99: =+AE129 -> 0 | BP99: =+AG129 -> 0 | BQ99: =+AH129 -> 0 | BR99: =+AI129 -> 1 | BS99: =+Y130 -> Ⅰ | BT99: =+AC130 -> Ⅰ | BU99: =+AG130 -> Ⅱ | BV99: =+Y131 -> Ⅱ | BW99: =IF(Y126>0,R101,"") | BX99: =IF(Z126>0,"",IF(AA126>0,R101,"")) | BY99: =IF(Y126+Z126>0,"",IF(AA126>0,R101,"")) | BZ99: =IF(Y126+Z126+AA126>0,"",IF(AB126>0,R101,"")) | CA99: =+AC125 -> 0 | CB99: =+AD125 -> 0 | CC99: =+AE125 -> 0 | CD99: =+AF125 -> 0 | CE99: =+AG125 -> 0 | CF99: =+AH125 -> 0 | CG99: =+AI125 -> 0 | CH99: =+AJ125 -> 0.3
B100: スパン別変状展開図 | K100: 【健全性判定集計表】
K101: スパン番号 | N101: S002 | P101: スパン長 | R101: ='様式A-2'!C12 -> 10.5 | U101: 前回定期点検時の健全性 | W101: 応急措置前の判定 | Y101: 対策区分毎の 変状の有無 | AC101: 対策区分毎の変状の発生範囲の規模(㎡) | AK101: 備考注2
K102: 変状番号 | L102: 対象箇所 | N102: 部位区分 | P102: 変状区分 | R102: 変状種類
Y103: 外力注1 | AC103: 材質劣化注1 | AG103: 漏水注1
Y104: Ⅳ | Z104: Ⅲ | AA104: Ⅱa | AB104: Ⅱb | AC104: Ⅳ | AD104: Ⅲ | AE104: Ⅱa | AF104: Ⅱb | AG104: Ⅳ | AH104: Ⅲ | AI104: Ⅱa | AJ104: Ⅱb
K105: 1 | L105: 覆工・坑門 | N105: アーチ（左側） | P105: 漏水 | R105: その他 | U105: Ⅲ | W105: Ⅰ | AK105: 線導水工設置 | AQ105: =IF(P105="材質劣化",2,IF(P105="漏水",3,1)) -> 3
K106: 2 | L106: 路面 | N106: 監査歩路 | P106: 漏水 | R106: 滞水 | U106: Ⅱ | W106: Ⅱb | AJ106: =1.2*0.15+0.8*0.15 -> 0.3 | AQ106: =IF(P106="材質劣化",2,IF(P106="漏水",3,1)) -> 3
K107: 3 | L107: 路面 | N107: 車道 | P107: 材質劣化 | R107: うき・はく離 | U107: Ⅱ | W107: Ⅰ | AQ107: =IF(P107="材質劣化",2,IF(P107="漏水",3,1)) -> 2
AQ108: =IF(P108="材質劣化",2,IF(P108="漏水",3,1)) -> 1
...

Sheet 様式E
B2: ■定期点検記録様式 近接目視による状態の把握が不可能な箇所 【様式E】
B3: フリガナ | F3: ='様式D-3_S00'!E4 -> ミネトンネル | U3: 路 線 名 | Z3: ='様式D-3_S00'!N4 -> 一般国道 316号 | AI3: 定期点検業者 | AO3: ='様式D-3_S00'!Y4 -> 株式会社ニュージェック | AW3: 定期点検年月日 | BC3: ='様式B(トンネル様式1P001)'!Q5 -> 44294
B4: 名 称 | F4: ='様式D-3_S00'!E5 -> 美祢トンネル | U4: 管理者名 | Z4: ='様式D-3_S00'!N5 -> 宇部土木建築事務所 | AI4: 定期点検者名 | AO4: ='様式D-3_S00'!Y5 -> 石村 勝伸
B5: 覆工スパン 番号 | H5: 対象箇所 | P5: 不可能な理由 | AN5: 対応策
D20: 注）近接目視又は打音、触診ができない個所を記載する。現状の評価、日常の維持管理での注意点を記載する。
D21: ※ 数が多い場合は、適時、表の行を増やすこと。

Sheet 様式F
B1: ■診断調書 診断結果（変状単位・覆工スパン毎・トンネル毎） 【様式F】
B2: フリガナ | E2: ='様式D-3_S00'!E4:J4 -> ミネトンネル | K2: 路線名 | N2: ='様式D-3_S00'!N4:S4 -> 一般国道 316号 | U2: 定期点検業者 | Y2: ='様式D-3_S00'!Y4:AF4 -> 株式会社ニュージェック | AG2: 定期点検年月日 | AJ2: ='様式B(トンネル様式1P001)'!Q5 -> 44294
B3: 名 称 | E3: ='様式D-3_S00'!E5:J5 -> 美祢トンネル | K3: 管理者名 | N3: ='様式D-3_S00'!N5:S5 -> 宇部土木建築事務所 | U3: 定期点検者名 | Y3: ='様式D-3_S00'!Y5:AF5 -> 石村 勝伸
AG4: トンネル毎の 健全性 | AJ4: =IF(AT44=4,"Ⅳ",IF(AT44=3,"Ⅲ",IF(AT44=2,"Ⅱ","Ⅰ"))) -> Ⅲ
B5: 【覆工スパン毎の変状数, 健全性の診断, 変状規模】
B6: 覆工ｽﾊﾟﾝ番号 | C6: ｽﾊﾟﾝ長（ｍ） | D6: 変 状 数 | Y6: 覆工スパン毎の 健全性の診断 | AC6: 変 状 規 模 | AT6: 判定区分変換
D7: 対策区分の判定 | P7: 変状等の健全性の判断（変状単位） 注1 | AC7: 覆工スパン長（ｍ） | AG7: 変状の発生範囲の規模（㎡）
D8: 外力 | H8: 材質劣化 | L8: 漏水 | P8: 外力 | S8: 材質劣化 | V8: 漏水 | Y8: 外力 | Z8: 材質劣化 | AA8: 漏水 | AB8: 健全性 | AC8: 外力 注2 | AG8: 材質劣化 | AK8: 漏水
D9: Ⅳ | E9: Ⅲ | F9: Ⅱa | G9: Ⅱb | H9: Ⅳ | I9: Ⅲ | J9: Ⅱa | K9: Ⅱb | L9: Ⅳ | M9: Ⅲ | N9: Ⅱa | O9: Ⅱb | P9: Ⅳ | Q9: Ⅲ | R9: Ⅱ | S9: Ⅳ | T9: Ⅲ | U9: Ⅱ | V9: Ⅳ | W9: Ⅲ | X9: Ⅱ | AC9: Ⅳ | AD9: Ⅲ | AE9: Ⅱa | AF9: Ⅱb | AG9: Ⅳ | AH9: Ⅲ | AI9: Ⅱa | AJ9: Ⅱb | AK9: Ⅳ | AL9: Ⅲ | AM9: Ⅱa | AN9: Ⅱb | AO9: ｃ
B10: ='様式D-3_S00'!AV5 -> PS | C10: ='様式D-3_S00'!AW5 -> 5 | D10: ='様式D-3_S00'!AX5 -> 0 | E10: ='様式D-3_S00'!AY5 -> 0 | F10: ='様式D-3_S00'!AZ5 -> 0 | G10: ='様式D-3_S00'!BA5 -> 0 | H10: ='様式D-3_S00'!BB5 -> 0 | I10: ='様式D-3_S00'!BC5 -> 0 | ... AN10: ='様式D-3_S00'!CH5 -> 0 | AT10: =IF(AB10="Ⅳ",4,IF(AB10="Ⅲ",3,IF(AB10="Ⅱ",2,1))) -> 2
B11: ='様式D-3_S00'!AV52 -> S001 | C11: ='様式D-3_S00'!AW52 -> 10.5 | D11: ='様式D-3_S00'!AX52 -> 0 | E11: ='様式D-3_S00'!AY52 -> 0 | F11: ='様式D-3_S00'!AZ52 -> 0 | G11: ='様式D-3_S00'!BA52 -> 0 | H11: ='様式D-3_S00'!BB52 -> 0 | I11: ='様式D-3_S00'!BC52 -> 0 | ... AN11: ='様式D-3_S00'!CH52 -> 0.46 | AT11: =IF(AB11="Ⅳ",4,IF(AB11="Ⅲ",3,IF(AB11="Ⅱ",2,1))) -> 2
B12: ='様式D-3_S00'!AV99 -> S002 | C12: ='様式D-3_S00'!AW99 -> 10.5 | D12: ='様式D-3_S00'!AX99 -> 0 | E12: ='様式D-3_S00'!AY99 -> 0 | F12: ='様式D-3_S00'!AZ99 -> 0 | G12: ='様式D-3_S00'!BA99 -> 0 | H12: ='様式D-3_S00'!BB99 -> 0 | I12: ='様式D-3_S00'!BC99 -> 0 | ... AN12: ='様式D-3_S00'!CH99 -> 0.3 | AT12: =IF(AB12="Ⅳ",4,IF(AB12="Ⅲ",3,IF(AB12="Ⅱ",2,1))) -> 2
B13: ='様式D-3_S00'!AV146 -> S003 | C13: ='様式D-3_S00'!AW146 -> 10.5 | D13: ='様式D-3_S00'!AX146 -> 0 | E13: ='様式D-3_S00'!AY146 -> 0 | F13: ='様式D-3_S00'!AZ146 -> 0 | G13: ='様式D-3_S00'!BA146 -> 0 | H13: ='様式D-3_S00'!BB146 -> 0 | I13: ='様式D-3_S00'!BC146 -> 0 | ... AN13: ='様式D-3_S00'!CH146 -> 0.36 | AT13: =IF(AB13="Ⅳ",4,IF(AB13="Ⅲ",3,IF(AB13="Ⅱ",2,1))) -> 2
B14: ='様式D-3_S00'!AV193 -> S004 | C14: ='様式D-3_S00'!AW193 -> 10.5 | D14: ='様式D-3_S00'!AX193 -> 0 | E14: ='様式D-3_S00'!AY193 -> 0 | F14: ='様式D-3_S00'!AZ193 -> 0 | G14: ='様式D-3_S00'!BA193 -> 0 | H14: ='様式D-3_S00'!BB193 -> 0 | I14: ='様式D-3_S00'!BC193 -> 0 | ... AN14: ='様式D-3_S00'!CH193 -> 0.585 | AT14: =IF(AB14="Ⅳ",4,IF(AB14="Ⅲ",3,IF(AB14="Ⅱ",2,1))) -> 2
B15: ='様式D-3_S00'!AV240 -> S005 | C15: ='様式D-3_S00'!AW240 -> 10.5 | D15: ='様式D-3_S00'!AX240 -> 0 | E15: ='様式D-3_S00'!AY240 -> 0 | F15: ='様式D-3_S00'!AZ240 -> 0 | G15: ='様式D-3_S00'!BA240 -> 0 | H15: ='様式D-3_S00'!BB240 -> 0 | I15: ='様式D-3_S00'!BC240 -> 0 | ... AN15: ='様式D-3_S00'!CH240 -> 0.3 | AT15: =IF(AB15="Ⅳ",4,IF(AB15="Ⅲ",3,IF(AB15="Ⅱ",2,1))) -> 2
B16: ='様式D-3_S00'!AV287 -> S006 | C16: ='様式D-3_S00'!AW287 -> 10.5 | D16: ='様式D-3_S00'!AX287 -> 0 | E16: ='様式D-3_S00'!AY287 -> 0 | F16: ='様式D-3_S00'!AZ287 -> 0 | G16: ='様式D-3_S00'!BA287 -> 0 | H16: ='様式D-3_S00'!BB287 -> 0 | I16: ='様式D-3_S00'!BC287 -> 0 | ... AN16: ='様式D-3_S00'!CH287 -> 0 | AT16: =IF(AB16="Ⅳ",4,IF(AB16="Ⅲ",3,IF(AB16="Ⅱ",2,1))) -> 2
B17: ='様式D-3_S00'!AV334 -> S007 | C17: ='様式D-3_S00'!AW334 -> 3.5 | D17: ='様式D-3_S00'!AX334 -> 0 | E17: ='様式D-3_S00'!AY334 -> 0 | F17: ='様式D-3_S00'!AZ334 -> 0 | G17: ='様式D-3_S00'!BA334 -> 0 | H17: ='様式D-3_S00'!BB334 -> 0 | I17: ='様式D-3_S00'!BC334 -> 0 | ... AN17: ='様式D-3_S00'!CH334 -> 0 | AT17: =IF(AB17="Ⅳ",4,IF(AB17="Ⅲ",3,IF(AB17="Ⅱ",2,1))) -> 1
B18: ='様式D-3_S00'!AV381 -> S008 | C18: ='様式D-3_S00'!AW381 -> 10.6 | D18: ='様式D-3_S00'!AX381 -> 0 | E18: ='様式D-3_S00'!AY381 -> 0 | F18: ='様式D-3_S00'!AZ381 -> 0 | G18: ='様式D-3_S00'!BA381 -> 0 | H18: ='様式D-3_S00'!BB381 -> 0 | I18: ='様式D-3_S00'!BC381 -> 0 | ... AN18: ='様式D-3_S00'!CH381 -> 0 | AT18: =IF(AB18="Ⅳ",4,IF(AB18="Ⅲ",3,IF(AB18="Ⅱ",2,1))) -> 2
B19: ='様式D-3_S00'!AV428 -> S009 | C19: ='様式D-3_S00'!AW428 -> 10.5 | D19: ='様式D-3_S00'!AX428 -> 0 | E19: ='様式D-3_S00'!AY428 -> 0 | F19: ='様式D-3_S00'!AZ428 -> 0 | G19: ='様式D-3_S00'!BA428 -> 0 | H19: ='様式D-3_S00'!BB428 -> 0 | I19: ='様式D-3_S00'!BC428 -> 0 | ... AN19: ='様式D-3_S00'!CH428 -> 0 | AT19: =IF(AB19="Ⅳ",4,IF(AB19="Ⅲ",3,IF(AB19="Ⅱ",2,1))) -> 2
B20: ='様式D-3_S00'!AV475 -> S010 | C20: ='様式D-3_S00'!AW475 -> 10.5 | D20: ='様式D-3_S00'!AX475 -> 0 | E20: ='様式D-3_S00'!AY475 -> 0 | F20: ='様式D-3_S00'!AZ475 -> 0 | G20: ='様式D-3_S00'!BA475 -> 0 | H20: ='様式D-3_S00'!BB475 -> 0 | I20: ='様式D-3_S00'!BC475 -> 0 | ... AN20: ='様式D-3_S00'!CH475 -> 0 | AT20: =IF(AB20="Ⅳ",4,IF(AB20="Ⅲ",3,IF(AB20="Ⅱ",2,1))) -> 2
B21: ='様式D-3_S00'!AV522 -> S011 | C21: ='様式D-3_S00'!AW522 -> 10.6 | D21: ='様式D-3_S00'!AX522 -> 0 | E21: ='様式D-3_S00'!AY522 -> 1 | F21: ='様式D-3_S00'!AZ522 -> 0 | G21: ='様式D-3_S00'!BA522 -> 0 | H21: ='様式D-3_S00'!BB522 -> 0 | I21: ='様式D-3_S00'!BC522 -> 0 | ... AN21: ='様式D-3_S00'!CH522 -> 0 | AT21: =IF(AB21="Ⅳ",4,IF(AB21="Ⅲ",3,IF(AB21="Ⅱ",2,1))) -> 3
B22: ='様式D-3_S00'!AV569 -> S012 | C22: ='様式D-3_S00'!AW569 -> 10.5 | D22: ='様式D-3_S00'!AX569 -> 0 | E22: ='様式D-3_S00'!AY569 -> 1 | F22: ='様式D-3_S00'!AZ569 -> 0 | G22: ='様式D-3_S00'!BA569 -> 0 | H22: ='様式D-3_S00'!BB569 -> 0 | I22: ='様式D-3_S00'!BC569 -> 0 | ... AN22: ='様式D-3_S00'!CH569 -> 0.33 | AT22: =IF(AB22="Ⅳ",4,IF(AB22="Ⅲ",3,IF(AB22="Ⅱ",2,1))) -> 3
B23: ='様式D-3_S00'!AV616 -> S013 | C23: ='様式D-3_S00'!AW616 -> 10.5 | D23: ='様式D-3_S00'!AX616 -> 0 | E23: ='様式D-3_S00'!AY616 -> 0 | F23: ='様式D-3_S00'!AZ616 -> 0 | G23: ='様式D-3_S00'!BA616 -> 0 | H23: ='様式D-3_S00'!BB616 -> 0 | I23: ='様式D-3_S00'!BC616 -> 0 | ... AN23: ='様式D-3_S00'!CH616 -> 3.97 | AT23: =IF(AB23="Ⅳ",4,IF(AB23="Ⅲ",3,IF(AB23="Ⅱ",2,1))) -> 2
B24: ='様式D-3_S00'!AV663 -> S014 | C24: ='様式D-3_S00'!AW663 -> 10.6 | D24: ='様式D-3_S00'!AX663 -> 0 | E24: ='様式D-3_S00'!AY663 -> 0 | F24: ='様式D-3_S00'!AZ663 -> 0 | G24: ='様式D-3_S00'!BA663 -> 0 | H24: ='様式D-3_S00'!BB663 -> 0 | I24: ='様式D-3_S00'!BC663 -> 0 | ... AN24: ='様式D-3_S00'!CH663 -> 0 | AT24: =IF(AB24="Ⅳ",4,IF(AB24="Ⅲ",3,IF(AB24="Ⅱ",2,1))) -> 2
B25: ='様式D-3_S00'!AV710 -> S015 | C25: ='様式D-3_S00'!AW710 -> 10.4 | D25: ='様式D-3_S00'!AX710 -> 0 | E25: ='様式D-3_S00'!AY710 -> 0 | F25: ='様式D-3_S00'!AZ710 -> 2 | G25: ='様式D-3_S00'!BA710 -> 0 | H25: ='様式D-3_S00'!BB710 -> 0 | I25: ='様式D-3_S00'!BC710 -> 0 | ... AN25: ='様式D-3_S00'!CH710 -> 1.085 | AT25: =IF(AB25="Ⅳ",4,IF(AB25="Ⅲ",3,IF(AB25="Ⅱ",2,1))) -> 2
B26: ='様式D-3_S00'!AV757 -> S016 | C26: ='様式D-3_S00'!AW757 -> 10.5 | D26: ='様式D-3_S00'!AX757 -> 0 | E26: ='様式D-3_S00'!AY757 -> 1 | F26: ='様式D-3_S00'!AZ757 -> 0 | G26: ='様式D-3_S00'!BA757 -> 0 | H26: ='様式D-3_S00'!BB757 -> 0 | I26: ='様式D-3_S00'!BC757 -> 0 | ... AN26: ='様式D-3_S00'!CH757 -> 0.595 | AT26: =IF(AB26="Ⅳ",4,IF(AB26="Ⅲ",3,IF(AB26="Ⅱ",2,1))) -> 3
B27: ='様式D-3_S00'!AV804 -> S017 | C27: ='様式D-3_S00'!AW804 -> 10.5 | D27: ='様式D-3_S00'!AX804 -> 0 | E27: ='様式D-3_S00'!AY804 -> 0 | F27: ='様式D-3_S00'!AZ804 -> 0 | G27: ='様式D-3_S00'!BA804 -> 0 | H27: ='様式D-3_S00'!BB804 -> 0 | I27: ='様式D-3_S00'!BC804 -> 0 | ... AN27: ='様式D-3_S00'!CH804 -> 0 | AT27: =IF(AB27="Ⅳ",4,IF(AB27="Ⅲ",3,IF(AB27="Ⅱ",2,1))) -> 1
B28: ='様式D-3_S00'!AV851 -> S018 | C28: ='様式D-3_S00'!AW851 -> 10.5 | D28: ='様式D-3_S00'!AX851 -> 0 | E28: ='様式D-3_S00'!AY851 -> 0 | F28: ='様式D-3_S00'!AZ851 -> 0 | G28: ='様式D-3_S00'!BA851 -> 0 | H28: ='様式D-3_S00'!BB851 -> 0 | I28: ='様式D-3_S00'!BC851 -> 0 | ... AN28: ='様式D-3_S00'!CH851 -> 0.3 | AT28: =IF(AB28="Ⅳ",4,IF(AB28="Ⅲ",3,IF(AB28="Ⅱ",2,1))) -> 2
B29: ='様式D-3_S00'!AV898 -> S019 | C29: ='様式D-3_S00'!AW898 -> 10.5 | D29: ='様式D-3_S00'!AX898 -> 0 | E29: ='様式D-3_S00'!AY898 -> 0 | F29: ='様式D-3_S00'!AZ898 -> 0 | G29: ='様式D-3_S00'!BA898 -> 0 | H29: ='様式D-3_S00'!BB898 -> 0 | I29: ='様式D-3_S00'!BC898 -> 0 | ... AN29: ='様式D-3_S00'!CH898 -> 0.165 | AT29: =IF(AB29="Ⅳ",4,IF(AB29="Ⅲ",3,IF(AB29="Ⅱ",2,1))) -> 2
B30: ='様式D-3_S00'!AV945 -> S020 | C30: ='様式D-3_S00'!AW945 -> 10.6 | D30: ='様式D-3_S00'!AX945 -> 0 | E30: ='様式D-3_S00'!AY945 -> 0 | F30: ='様式D-3_S00'!AZ945 -> 0 | G30: ='様式D-3_S00'!BA945 -> 0 | H30: ='様式D-3_S00'!BB945 -> 0 | I30: ='様式D-3_S00'!BC945 -> 0 | ... AN30: ='様式D-3_S00'!CH945 -> 0 | AT30: =IF(AB30="Ⅳ",4,IF(AB30="Ⅲ",3,IF(AB30="Ⅱ",2,1))) -> 2
B31: ='様式D-3_S00'!AV992 -> S021 | C31: ='様式D-3_S00'!AW992 -> 10.5 | D31: ='様式D-3_S00'!AX992 -> 0 | E31: ='様式D-3_S00'!AY992 -> 0 | F31: ='様式D-3_S00'!AZ992 -> 0 | G31: ='様式D-3_S00'!BA992 -> 0 | H31: ='様式D-3_S00'!BB992 -> 0 | I31: ='様式D-3_S00'!BC992 -> 0 | ... AN31: ='様式D-3_S00'!CH992 -> 2.75 | AT31: =IF(AB31="Ⅳ",4,IF(AB31="Ⅲ",3,IF(AB31="Ⅱ",2,1))) -> 2
B32: ='様式D-3_S00'!AV1039 -> S022 | C32: ='様式D-3_S00'!AW1039 -> 10.5 | D32: ='様式D-3_S00'!AX1039 -> 0 | E32: ='様式D-3_S00'!AY1039 -> 0 | F32: ='様式D-3_S00'!AZ1039 -> 0 | G32: ='様式D-3_S00'!BA1039 -> 0 | H32: ='様式D-3_S00'!BB1039 -> 0 | I32: ='様式D-3_S00'!BC1039 -> 0 | ... AN32: ='様式D-3_S00'!CH1039 -> 1.6 | AT32: =IF(AB32="Ⅳ",4,IF(AB32="Ⅲ",3,IF(AB32="Ⅱ",2,1))) -> 2
B33: ='様式D-3_S00'!AV1086 -> S023 | C33: ='様式D-3_S00'!AW1086 -> 10.5 | D33: ='様式D-3_S00'!AX1086 -> 0 | E33: ='様式D-3_S00'!AY1086 -> 0 | F33: ='様式D-3_S00'!AZ1086 -> 0 | G33: ='様式D-3_S00'!BA1086 -> 0 | H33: ='様式D-3_S00'!BB1086 -> 0 | I33: ='様式D-3_S00'!BC1086 -> 0 | ... AN33: ='様式D-3_S00'!CH1086 -> 7.4975 | AT33: =IF(AB33="Ⅳ",4,IF(AB33="Ⅲ",3,IF(AB33="Ⅱ",2,1))) -> 2
B34: ='様式D-3_S00'!AV1133 -> S024 | C34: ='様式D-3_S00'!AW1133 -> 10.5 | D34: ='様式D-3_S00'!AX1133 -> 0 | E34: ='様式D-3_S00'!AY1133 -> 0 | F34: ='様式D-3_S00'!AZ1133 -> 0 | G34: ='様式D-3_S00'!BA1133 -> 0 | H34: ='様式D-3_S00'!BB1133 -> 0 | I34: ='様式D-3_S00'!BC1133 -> 0 | ... AN34: ='様式D-3_S00'!CH1133 -> 0.31 | AT34: =IF(AB34="Ⅳ",4,IF(AB34="Ⅲ",3,IF(AB34="Ⅱ",2,1))) -> 2
B35: ='様式D-3_S00'!AV1180 -> S025 | C35: ='様式D-3_S00'!AW1180 -> 10.5 | D35: ='様式D-3_S00'!AX1180 -> 0 | E35: ='様式D-3_S00'!AY1180 -> 0 | F35: ='様式D-3_S00'!AZ1180 -> 0 | G35: ='様式D-3_S00'!BA1180 -> 0 | H35: ='様式D-3_S00'!BB1180 -> 0 | I35: ='様式D-3_S00'!BC1180 -> 0 | ... AN35: ='様式D-3_S00'!CH1180 -> 5.76 | AT35: =IF(AB35="Ⅳ",4,IF(AB35="Ⅲ",3,IF(AB35="Ⅱ",2,1))) -> 2
B36: ='様式D-3_S00'!AV1227 -> S026 | C36: ='様式D-3_S00'!AW1227 -> 10.5 | D36: ='様式D-3_S00'!AX1227 -> 0 | E36: ='様式D-3_S00'!AY1227 -> 0 | F36: ='様式D-3_S00'!AZ1227 -> 0 | G36: ='様式D-3_S00'!BA1227 -> 0 | H36: ='様式D-3_S00'!BB1227 -> 0 | I36: ='様式D-3_S00'!BC1227 -> 0 | ... AN36: ='様式D-3_S00'!CH1227 -> 28.75 | AT36: =IF(AB36="Ⅳ",4,IF(AB36="Ⅲ",3,IF(AB36="Ⅱ",2,1))) -> 2
B37: ='様式D-3_S00'!AV1274 -> S027 | C37: ='様式D-3_S00'!AW1274 -> 10.5 | D37: ='様式D-3_S00'!AX1274 -> 0 | E37: ='様式D-3_S00'!AY1274 -> 0 | F37: ='様式D-3_S00'!AZ1274 -> 0 | G37: ='様式D-3_S00'!BA1274 -> 0 | H37: ='様式D-3_S00'!BB1274 -> 0 | I37: ='様式D-3_S00'!BC1274 -> 0 | ... AN37: ='様式D-3_S00'!CH1274 -> 0.26 | AT37: =IF(AB37="Ⅳ",4,IF(AB37="Ⅲ",3,IF(AB37="Ⅱ",2,1))) -> 2
B38: ='様式D-3_S00'!AV1321 -> S028 | C38: ='様式D-3_S00'!AW1321 -> 10.5 | D38: ='様式D-3_S00'!AX1321 -> 0 | E38: ='様式D-3_S00'!AY1321 -> 0 | F38: ='様式D-3_S00'!AZ1321 -> 0 | G38: ='様式D-3_S00'!BA1321 -> 0 | H38: ='様式D-3_S00'!BB1321 -> 0 | I38: ='様式D-3_S00'!BC1321 -> 0 | ... AN38: ='様式D-3_S00'!CH1321 -> 3.4 | AT38: =IF(AB38="Ⅳ",4,IF(AB38="Ⅲ",3,IF(AB38="Ⅱ",2,1))) -> 2
B39: ='様式D-3_S00'!AV1368 -> S029 | C39: ='様式D-3_S00'!AW1368 -> 10.5 | D39: ='様式D-3_S00'!AX1368 -> 0 | E39: ='様式D-3_S00'!AY1368 -> 0 | F39: ='様式D-3_S00'!AZ1368 -> 0 | G39: ='様式D-3_S00'!BA1368 -> 0 | H39: ='様式D-3_S00'!BB1368 -> 0 | I39: ='様式D-3_S00'!BC1368 -> 0 | ... AN39: ='様式D-3_S00'!CH1368 -> 1.5 | AT39: =IF(AB39="Ⅳ",4,IF(AB39="Ⅲ",3,IF(AB39="Ⅱ",2,1))) -> 2
B40: ='様式D-3_S00'!AV1415 -> S030 | C40: ='様式D-3_S00'!AW1415 -> 10.5 | D40: ='様式D-3_S00'!AX1415 -> 0 | E40: ='様式D-3_S00'!AY1415 -> 0 | F40: ='様式D-3_S00'!AZ1415 -> 0 | G40: ='様式D-3_S00'!BA1415 -> 0 | H40: ='様式D-3_S00'!BB1415 -> 0 | I40: ='様式D-3_S00'!BC1415 -> 0 | ... AN40: ='様式D-3_S00'!CH1415 -> 0 | AT40: =IF(AB40="Ⅳ",4,IF(AB40="Ⅲ",3,IF(AB40="Ⅱ",2,1))) -> 2
B41: ='様式D-3_S00'!AV1462 -> S031 | C41: ='様式D-3_S00'!AW1462 -> 10.5 | D41: ='様式D-3_S00'!AX1462 -> 0 | E41: ='様式D-3_S00'!AY1462 -> 0 | F41: ='様式D-3_S00'!AZ1462 -> 0 | G41: ='様式D-3_S00'!BA1462 -> 0 | H41: ='様式D-3_S00'!BB1462 -> 0 | I41: ='様式D-3_S00'!BC1462 -> 0 | ... AN41: ='様式D-3_S00'!CH1462 -> 3.96 | AT41: =IF(AB41="Ⅳ",4,IF(AB41="Ⅲ",3,IF(AB41="Ⅱ",2,1))) -> 2
B42: ='様式D-3_S00'!AV1509 -> S032 | C42: ='様式D-3_S00'!AW1509 -> 10.5 | D42: ='様式D-3_S00'!AX1509 -> 0 | E42: ='様式D-3_S00'!AY1509 -> 0 | F42: ='様式D-3_S00'!AZ1509 -> 0 | G42: ='様式D-3_S00'!BA1509 -> 0 | H42: ='様式D-3_S00'!BB1509 -> 0 | I42: ='様式D-3_S00'!BC1509 -> 0 | ... AN42: ='様式D-3_S00'!CH1509 -> 3.3075 | AT42: =IF(AB42="Ⅳ",4,IF(AB42="Ⅲ",3,IF(AB42="Ⅱ",2,1))) -> 2
B43: ='様式D-3_S00'!AV1556 -> S033 | C43: ='様式D-3_S00'!AW1556 -> 10.6 | D43: ='様式D-3_S00'!AX1556 -> 0 | E43: ='様式D-3_S00'!AY1556 -> 0 | F43: ='様式D-3_S00'!AZ1556 -> 0 | G43: ='様式D-3_S00'!BA1556 -> 0 | H43: ='様式D-3_S00'!BB1556 -> 0 | I43: ='様式D-3_S00'!BC1556 -> 0 | ... AN43: ='様式D-3_S00'!CH1556 -> 0 | AT43: =IF(AB43="Ⅳ",4,IF(AB43="Ⅲ",3,IF(AB43="Ⅱ",2,1))) -> 2
B44: 計 | D44: =SUM(D10:D43) -> 0 | E44: =SUM(E10:E43) -> 3 | F44: =SUM(F10:F43) -> 2 | G44: =SUM(G10:G43) -> 0 | H44: =SUM(H10:H43) -> 0 | I44: =SUM(I10:I43) -> 0 | J44: =SUM(J10:J43) -> 14 | K44: =SUM(K10:K43) -> 39 | ... X44: =SUM(X10:X43) -> 33 | AC44: =SUM(AC11:AC43) -> 0 | AD44: =SUM(AD11:AD43) -> 10.4 | AE44: =SUM(AE11:AE43) -> 10.4 | AF44: =SUM(AF11:AF43) -> 0 | AG44: =SUM(AG10:AG43) -> 0 | AH44: =SUM(AH10:AH43) -> 0 | AI44: =SUM(AI10:AI43) -> 0.1774 | AJ44: =SUM(AJ10:AJ43) -> 16.74 | AK44: =SUM(AK10:AK43) -> 0 | AL44: =SUM(AL10:AL43) -> 0 | AM44: =SUM(AM10:AM43) -> 0.9 | AN44: =SUM(AN10:AN43) -> 67.545 | AT44: =MAX(AT10:AT43) -> 3 | AU44: ←最大値
D45: 注１：外力は覆工スパン単位で診断するため、覆工スパンの中で最も評価の厳しい健全性の判定区分欄にのみスパン数1を、
D46: 材質劣化、漏水はそれぞれの判定区分に変状数を記入すること。
D47: 注２：外力は覆工スパン単位で診断するため、覆工スパンの中で最も評価の厳しい健全性の判定区分欄にのみスパン長を記入すること。
D48: ※１：本シートは様式D‐3の集計結果を掲載すること。
D49: ※２：覆工スパン数が多い場合は、適時、表の行を増やしてトンネル毎に1枚のシートに収めること。
D50: ※３：本シートの集計結果に基づいて、様式Bの健全性の判定区分の箇所を記載する。
B51: ■診断調書 診断結果（変状単位・覆工スパン毎・トンネル毎） 【様式F】
B52: フリガナ | E52: =E2 -> ミネトンネル | K52: 路線名 | N52: =N2 -> 一般国道 316号 | U52: 定期点検業者 | Y52: =Y2 -> 株式会社ニュージェック | AG52: 定期点検年月日 | AJ52: =AJ2 -> 44294
B53: 名 称 | E53: =E3 -> 美祢トンネル | K53: 管理者名 | N53: =N3 -> 宇部土木建築事務所 | U53: 定期点検者名 | Y53: =Y3 -> 石村 勝伸
AG54: トンネル毎の 健全性 | AJ54: =AJ4 -> Ⅲ
B55: 【覆工スパン毎の変状数, 健全性の診断, 変状規模】
B56: 覆工ｽﾊﾟﾝ番号 | C56: ｽﾊﾟﾝ長（ｍ） | D56: 変 状 数 | Y56: 覆工スパン毎の 健全性の診断 | AC56: 変 状 規 模 | AT56: 判定区分変換
D57: 対策区分の判定 | P57: 変状等の健全性の判断（変状単位） 注1 | AC57: 覆工スパン長（ｍ） | AG57: 変状の発生範囲の規模（㎡）
D58: 外力 | H58: 材質劣化 | L58: 漏水 | P58: 外力 | S58: 材質劣化 | V58: 漏水 | Y58: 外力 | Z58: 材質劣化 | AA58: 漏水 | AB58: 健全性 | AC58: 外力 注2 | AG58: 材質劣化 | AK58: 漏水
D59: Ⅳ | E59: Ⅲ | F59: Ⅱa | G59: Ⅱb | H59: Ⅳ | I59: Ⅲ | J59: Ⅱa | K59: Ⅱb | L59: Ⅳ | M59: Ⅲ | N59: Ⅱa | O59: Ⅱb | P59: Ⅳ | Q59: Ⅲ | R59: Ⅱ | S59: Ⅳ | T59: Ⅲ | U59: Ⅱ | V59: Ⅳ | W59: Ⅲ | X59: Ⅱ | AC59: Ⅳ | AD59: Ⅲ | AE59: Ⅱa | AF59: Ⅱb | AG59: Ⅳ | AH59: Ⅲ | AI59: Ⅱa | AJ59: Ⅱb | AK59: Ⅳ | AL59: Ⅲ | AM59: Ⅱa | AN59: Ⅱb | AO59: ｃ
B60: ='様式D-3_S00'!AV1603 -> S034 | C60: ='様式D-3_S00'!AW1603 -> 10.6 | D60: ='様式D-3_S00'!AX1603 -> 0 | E60: ='様式D-3_S00'!AY1603 -> 0 | F60: ='様式D-3_S00'!AZ1603 -> 0 | G60: ='様式D-3_S00'!BA1603 -> 0 | H60: ='様式D-3_S00'!BB1603 -> 0 | I60: ='様式D-3_S00'!BC1603 -> 0 | ... AN60: ='様式D-3_S00'!CH1603 -> 0 | AT60: =IF(AB60="Ⅳ",4,IF(AB60="Ⅲ",3,IF(AB60="Ⅱ",2,1))) -> 1
B61: ='様式D-3_S00'!AV1650 -> S035 | C61: ='様式D-3_S00'!AW1650 -> 10.6 | D61: ='様式D-3_S00'!AX1650 -> 0 | E61: ='様式D-3_S00'!AY1650 -> 0 | F61: ='様式D-3_S00'!AZ1650 -> 0 | G61: ='様式D-3_S00'!BA1650 -> 0 | H61: ='様式D-3_S00'!BB1650 -> 0 | I61: ='様式D-3_S00'!BC1650 -> 0 | ... AN61: ='様式D-3_S00'!CH1650 -> 0 | AT61: =IF(AB61="Ⅳ",4,IF(AB61="Ⅲ",3,IF(AB61="Ⅱ",2,1))) -> 1
B62: ='様式D-3_S00'!AV1697 -> S036 | C62: ='様式D-3_S00'!AW1697 -> 10.6 | D62: ='様式D-3_S00'!AX1697 -> 0 | E62: ='様式D-3_S00'!AY1697 -> 0 | F62: ='様式D-3_S00'!AZ1697 -> 0 | G62: ='様式D-3_S00'!BA1697 -> 0 | H62: ='様式D-3_S00'!BB1697 -> 0 | I62: ='様式D-3_S00'!BC1697 -> 0 | ... AN62: ='様式D-3_S00'!CH1697 -> 0 | AT62: =IF(AB62="Ⅳ",4,IF(AB62="Ⅲ",3,IF(AB62="Ⅱ",2,1))) -> 1
B63: ='様式D-3_S00'!AV1744 -> S037 | C63: ='様式D-3_S00'!AW1744 -> 10.6 | D63: ='様式D-3_S00'!AX1744 -> 0 | E63: ='様式D-3_S00'!AY1744 -> 0 | F63: ='様式D-3_S00'!AZ1744 -> 0 | G63: ='様式D-3_S00'!BA1744 -> 0 | H63: ='様式D-3_S00'!BB1744 -> 0 | I63: ='様式D-3_S00'!BC1744 -> 0 | ... AN63: ='様式D-3_S00'!CH1744 -> 0 | AT63: =IF(AB63="Ⅳ",4,IF(AB63="Ⅲ",3,IF(AB63="Ⅱ",2,1))) -> 1
B64: ='様式D-3_S00'!AV1791 -> S038 | C64: ='様式D-3_S00'!AW1791 -> 10.6 | D64: ='様式D-3_S00'!AX1791 -> 0 | E64: ='様式D-3_S00'!AY1791 -> 0 | F64: ='様式D-3_S00'!AZ1791 -> 0 | G64: ='様式D-3_S00'!BA1791 -> 0 | H64: ='様式D-3_S00'!BB1791 -> 0 | I64: ='様式D-3_S00'!BC1791 -> 0 | ... AN64: ='様式D-3_S00'!CH1791 -> 0 | AT64: =IF(AB64="Ⅳ",4,IF(AB64="Ⅲ",3,IF(AB64="Ⅱ",2,1))) -> 1
B65: ='様式D-3_S00'!AV1838 -> S039 | C65: ='様式D-3_S00'!AW1838 -> 10.6 | D65: ='様式D-3_S00'!AX1838 -> 0 | E65: ='様式D-3_S00'!AY1838 -> 0 | F65: ='様式D-3_S00'!AZ1838 -> 0 | G65: ='様式D-3_S00'!BA1838 -> 0 | H65: ='様式D-3_S00'!BB1838 -> 0 | I65: ='様式D-3_S00'!BC1838 -> 0 | ... AN65: ='様式D-3_S00'!CH1838 -> 0 | AT65: =IF(AB65="Ⅳ",4,IF(AB65="Ⅲ",3,IF(AB65="Ⅱ",2,1))) -> 2
B66: ='様式D-3_S00'!AV1885 -> S040 | C66: ='様式D-3_S00'!AW1885 -> 10.5 | D66: ='様式D-3_S00'!AX1885 -> 0 | E66: ='様式D-3_S00'!AY1885 -> 0 | F66: ='様式D-3_S00'!AZ1885 -> 0 | G66: ='様式D-3_S00'!BA1885 -> 0 | H66: ='様式D-3_S00'!BB1885 -> 0 | I66: ='様式D-3_S00'!BC1885 -> 0 | ... AN66: ='様式D-3_S00'!CH1885 -> 0 | AT66: =IF(AB66="Ⅳ",4,IF(AB66="Ⅲ",3,IF(AB66="Ⅱ",2,1))) -> 2
B67: ='様式D-3_S00'!AV1932 -> S041 | C67: ='様式D-3_S00'!AW1932 -> 10.5 | D67: ='様式D-3_S00'!AX1932 -> 0 | E67: ='様式D-3_S00'!AY1932 -> 0 | F67: ='様式D-3_S00'!AZ1932 -> 0 | G67: ='様式D-3_S00'!BA1932 -> 0 | H67: ='様式D-3_S00'!BB1932 -> 0 | I67: ='様式D-3_S00'!BC1932 -> 0 | ... AN67: ='様式D-3_S00'!CH1932 -> 0 | AT67: =IF(AB67="Ⅳ",4,IF(AB67="Ⅲ",3,IF(AB67="Ⅱ",2,1))) -> 2
B68: ='様式D-3_S00'!AV1979 -> S042 | C68: ='様式D-3_S00'!AW1979 -> 10.5 | D68: ='様式D-3_S00'!AX1979 -> 0 | E68: ='様式D-3_S00'!AY1979 -> 0 | F68: ='様式D-3_S00'!AZ1979 -> 0 | G68: ='様式D-3_S00'!BA1979 -> 0 | H68: ='様式D-3_S00'!BB1979 -> 0 | I68: ='様式D-3_S00'!BC1979 -> 0 | ... AN68: ='様式D-3_S00'!CH1979 -> 2.55 | AT68: =IF(AB68="Ⅳ",4,IF(AB68="Ⅲ",3,IF(AB68="Ⅱ",2,1))) -> 2
B69: ='様式D-3_S00'!AV2026 -> S043 | C69: ='様式D-3_S00'!AW2026 -> 10.5 | D69: ='様式D-3_S00'!AX2026 -> 0 | E69: ='様式D-3_S00'!AY2026 -> 0 | F69: ='様式D-3_S00'!AZ2026 -> 0 | G69: ='様式D-3_S00'!BA2026 -> 0 | H69: ='様式D-3_S00'!BB2026 -> 0 | I69: ='様式D-3_S00'!BC2026 -> 0 | ... AN69: ='様式D-3_S00'!CH2026 -> 1.41 | AT69: =IF(AB69="Ⅳ",4,IF(AB69="Ⅲ",3,IF(AB69="Ⅱ",2,1))) -> 2
B70: ='様式D-3_S00'!AV2073 -> S044 | C70: ='様式D-3_S00'!AW2073 -> 10.6 | D70: ='様式D-3_S00'!AX2073 -> 0 | E70: ='様式D-3_S00'!AY2073 -> 0 | F70: ='様式D-3_S00'!AZ2073 -> 0 | G70: ='様式D-3_S00'!BA2073 -> 0 | H70: ='様式D-3_S00'!BB2073 -> 0 | I70: ='様式D-3_S00'!BC2073 -> 0 | ... AN70: ='様式D-3_S00'!CH2073 -> 3 | AT70: =IF(AB70="Ⅳ",4,IF(AB70="Ⅲ",3,IF(AB70="Ⅱ",2,1))) -> 2
B71: ='様式D-3_S00'!AV2120 -> S045 | C71: ='様式D-3_S00'!AW2120 -> 2.8 | D71: ='様式D-3_S00'!AX2120 -> 0 | E71: ='様式D-3_S00'!AY2120 -> 0 | F71: ='様式D-3_S00'!AZ2120 -> 0 | G71: ='様式D-3_S00'!BA2120 -> 0 | H71: ='様式D-3_S00'!BB2120 -> 0 | I71: ='様式D-3_S00'!BC2120 -> 0 | ... AN71: ='様式D-3_S00'!CH2120 -> 0 | AT71: =IF(AB71="Ⅳ",4,IF(AB71="Ⅲ",3,IF(AB71="Ⅱ",2,1))) -> 1
B72: ='様式D-3_S00'!AV2167 -> S046 | C72: ='様式D-3_S00'!AW2167 -> 10.5 | D72: ='様式D-3_S00'!AX2167 -> 0 | E72: ='様式D-3_S00'!AY2167 -> 0 | F72: ='様式D-3_S00'!AZ2167 -> 0 | G72: ='様式D-3_S00'!BA2167 -> 0 | H72: ='様式D-3_S00'!BB2167 -> 0 | I72: ='様式D-3_S00'!BC2167 -> 0 | ... AN72: ='様式D-3_S00'!CH2167 -> 0 | AT72: =IF(AB72="Ⅳ",4,IF(AB72="Ⅲ",3,IF(AB72="Ⅱ",2,1))) -> 1
B73: ='様式D-3_S00'!AV2214 -> S047 | C73: ='様式D-3_S00'!AW2214 -> 10.6 | D73: ='様式D-3_S00'!AX2214 -> 0 | E73: ='様式D-3_S00'!AY2214 -> 0 | F73: ='様式D-3_S00'!AZ2214 -> 0 | G73: ='様式D-3_S00'!BA2214 -> 0 | H73: ='様式D-3_S00'!BB2214 -> 0 | I73: ='様式D-3_S00'!BC2214 -> 0 | ... AN73: ='様式D-3_S00'!CH2214 -> 0.3125 | AT73: =IF(AB73="Ⅳ",4,IF(AB73="Ⅲ",3,IF(AB73="Ⅱ",2,1))) -> 2
B74: ='様式D-3_S00'!AV2261 -> S048 | C74: ='様式D-3_S00'!AW2261 -> 10.6 | D74: ='様式D-3_S00'!AX2261 -> 0 | E74: ='様式D-3_S00'!AY2261 -> 0 | F74: ='様式D-3_S00'!AZ2261 -> 1 | G74: ='様式D-3_S00'!BA2261 -> 0 | H74: ='様式D-3_S00'!BB2261 -> 0 | I74: ='様式D-3_S00'!BC2261 -> 0 | ... AN74: ='様式D-3_S00'!CH2261 -> 0 | AT74: =IF(AB74="Ⅳ",4,IF(AB74="Ⅲ",3,IF(AB74="Ⅱ",2,1))) -> 2
B75: ='様式D-3_S00'!AV2308 -> S049 | C75: ='様式D-3_S00'!AW2308 -> 10.3 | D75: ='様式D-3_S00'!AX2308 -> 0 | E75: ='様式D-3_S00'!AY2308 -> 0 | F75: ='様式D-3_S00'!AZ2308 -> 0 | G75: ='様式D-3_S00'!BA2308 -> 0 | H75: ='様式D-3_S00'!BB2308 -> 0 | I75: ='様式D-3_S00'!BC2308 -> 0 | ... AN75: ='様式D-3_S00'!CH2308 -> 0 | AT75: =IF(AB75="Ⅳ",4,IF(AB75="Ⅲ",3,IF(AB75="Ⅱ",2,1))) -> 2
B76: ='様式D-3_S00'!AV2355 -> S050 | C76: ='様式D-3_S00'!AW2355 -> 5.6 | D76: ='様式D-3_S00'!AX2355 -> 0 | E76: ='様式D-3_S00'!AY2355 -> 0 | F76: ='様式D-3_S00'!AZ2355 -> 0 | G76: ='様式D-3_S00'!BA2355 -> 0 | H76: ='様式D-3_S00'!BB2355 -> 0 | I76: ='様式D-3_S00'!BC2355 -> 0 | ... AN76: ='様式D-3_S00'!CH2355 -> 0 | AT76: =IF(AB76="Ⅳ",4,IF(AB76="Ⅲ",3,IF(AB76="Ⅱ",2,1))) -> 1
B77: ='様式D-3_S00'!AV2402 -> S051 | C77: ='様式D-3_S00'!AW2402 -> 6 | D77: ='様式D-3_S00'!AX2402 -> 0 | E77: ='様式D-3_S00'!AY2402 -> 0 | F77: ='様式D-3_S00'!AZ2402 -> 0 | G77: ='様式D-3_S00'!BA2402 -> 0 | H77: ='様式D-3_S00'!BB2402 -> 0 | I77: ='様式D-3_S00'!BC2402 -> 0 | ... AN77: ='様式D-3_S00'!CH2402 -> 0 | AT77: =IF(AB77="Ⅳ",4,IF(AB77="Ⅲ",3,IF(AB77="Ⅱ",2,1))) -> 1
B78: ='様式D-3_S00'!AV2449 -> S052 | C78: ='様式D-3_S00'!AW2449 -> 6 | D78: ='様式D-3_S00'!AX2449 -> 0 | E78: ='様式D-3_S00'!AY2449 -> 0 | F78: ='様式D-3_S00'!AZ2449 -> 0 | G78: ='様式D-3_S00'!BA2449 -> 0 | H78: ='様式D-3_S00'!BB2449 -> 0 | I78: ='様式D-3_S00'!BC2449 -> 0 | ... AN78: ='様式D-3_S00'!CH2449 -> 0 | AT78: =IF(AB78="Ⅳ",4,IF(AB78="Ⅲ",3,IF(AB78="Ⅱ",2,1))) -> 2
B79: ='様式D-3_S00'!AV2496 -> S053 | C79: ='様式D-3_S00'!AW2496 -> 6 | D79: ='様式D-3_S00'!AX2496 -> 0 | E79: ='様式D-3_S00'!AY2496 -> 0 | F79: ='様式D-3_S00'!AZ2496 -> 0 | G79: ='様式D-3_S00'!BA2496 -> 0 | H79: ='様式D-3_S00'!BB2496 -> 0 | I79: ='様式D-3_S00'!BC2496 -> 0 | ... AN79: ='様式D-3_S00'!CH2496 -> 0 | AT79: =IF(AB79="Ⅳ",4,IF(AB79="Ⅲ",3,IF(AB79="Ⅱ",2,1))) -> 1
B80: ='様式D-3_S00'!AV2543 -> S054 | C80: ='様式D-3_S00'!AW2543 -> 6 | D80: ='様式D-3_S00'!AX2543 -> 0 | E80: ='様式D-3_S00'!AY2543 -> 0 | F80: ='様式D-3_S00'!AZ2543 -> 0 | G80: ='様式D-3_S00'!BA2543 -> 0 | H80: ='様式D-3_S00'!BB2543 -> 0 | I80: ='様式D-3_S00'!BC2543 -> 0 | ... AN80: ='様式D-3_S00'!CH2543 -> 0 | AT80: =IF(AB80="Ⅳ",4,IF(AB80="Ⅲ",3,IF(AB80="Ⅱ",2,1))) -> 2
B81: ='様式D-3_S00'!AV2590 -> S055 | C81: ='様式D-3_S00'!AW2590 -> 9 | D81: ='様式D-3_S00'!AX2590 -> 0 | E81: ='様式D-3_S00'!AY2590 -> 0 | F81: ='様式D-3_S00'!AZ2590 -> 0 | G81: ='様式D-3_S00'!BA2590 -> 0 | H81: ='様式D-3_S00'!BB2590 -> 0 | I81: ='様式D-3_S00'!BC2590 -> 0 | ... AN81: ='様式D-3_S00'!CH2590 -> 0 | AT81: =IF(AB81="Ⅳ",4,IF(AB81="Ⅲ",3,IF(AB81="Ⅱ",2,1))) -> 2
B82: ='様式D-3_S00'!AV2637 -> S056 | C82: ='様式D-3_S00'!AW2637 -> 10.6 | D82: ='様式D-3_S00'!AX2637 -> 0 | E82: ='様式D-3_S00'!AY2637 -> 0 | F82: ='様式D-3_S00'!AZ2637 -> 0 | G82: ='様式D-3_S00'!BA2637 -> 0 | H82: ='様式D-3_S00'!BB2637 -> 0 | I82: ='様式D-3_S00'!BC2637 -> 0 | ... AN82: ='様式D-3_S00'!CH2637 -> 0.28 | AT82: =IF(AB82="Ⅳ",4,IF(AB82="Ⅲ",3,IF(AB82="Ⅱ",2,1))) -> 2
B83: ='様式D-3_S00'!AV2684 -> S057 | C83: ='様式D-3_S00'!AW2684 -> 10.6 | D83: ='様式D-3_S00'!AX2684 -> 0 | E83: ='様式D-3_S00'!AY2684 -> 0 | F83: ='様式D-3_S00'!AZ2684 -> 0 | G83: ='様式D-3_S00'!BA2684 -> 0 | H83: ='様式D-3_S00'!BB2684 -> 0 | I83: ='様式D-3_S00'!BC2684 -> 0 | ... AN83: ='様式D-3_S00'!CH2684 -> 0 | AT83: =IF(AB83="Ⅳ",4,IF(AB83="Ⅲ",3,IF(AB83="Ⅱ",2,1))) -> 1
B84: ='様式D-3_S00'!AV2731 -> S058 | C84: ='様式D-3_S00'!AW2731 -> 10.6 | D84: ='様式D-3_S00'!AX2731 -> 0 | E84: ='様式D-3_S00'!AY2731 -> 0 | F84: ='様式D-3_S00'!AZ2731 -> 0 | G84: ='様式D-3_S00'!BA2731 -> 0 | H84: ='様式D-3_S00'!BB2731 -> 0 | I84: ='様式D-3_S00'!BC2731 -> 0 | ... AN84: ='様式D-3_S00'!CH2731 -> 0.15 | AT84: =IF(AB84="Ⅳ",4,IF(AB84="Ⅲ",3,IF(AB84="Ⅱ",2,1))) -> 2
B85: ='様式D-3_S00'!AV2778 -> S059 | C85: ='様式D-3_S00'!AW2778 -> 10.6 | D85: ='様式D-3_S00'!AX2778 -> 0 | E85: ='様式D-3_S00'!AY2778 -> 0 | F85: ='様式D-3_S00'!AZ2778 -> 0 | G85: ='様式D-3_S00'!BA2778 -> 0 | H85: ='様式D-3_S00'!BB2778 -> 0 | I85: ='様式D-3_S00'!BC2778 -> 0 | ... AN85: ='様式D-3_S00'!CH2778 -> 0 | AT85: =IF(AB85="Ⅳ",4,IF(AB85="Ⅲ",3,IF(AB85="Ⅱ",2,1))) -> 2
B86: ='様式D-3_S00'!AV2825 -> S060 | C86: ='様式D-3_S00'!AW2825 -> 10.6 | D86: ='様式D-3_S00'!AX2825 -> 0 | E86: ='様式D-3_S00'!AY2825 -> 0 | F86: ='様式D-3_S00'!AZ2825 -> 0 | G86: ='様式D-3_S00'!BA2825 -> 0 | H86: ='様式D-3_S00'!BB2825 -> 0 | I86: ='様式D-3_S00'!BC2825 -> 0 | ... AN86: ='様式D-3_S00'!CH2825 -> 0 | AT86: =IF(AB86="Ⅳ",4,IF(AB86="Ⅲ",3,IF(AB86="Ⅱ",2,1))) -> 2
B87: ='様式D-3_S00'!AV2872 -> S061 | C87: ='様式D-3_S00'!AW2872 -> 10.6 | D87: ='様式D-3_S00'!AX2872 -> 0 | E87: ='様式D-3_S00'!AY2872 -> 0 | F87: ='様式D-3_S00'!AZ2872 -> 0 | G87: ='様式D-3_S00'!BA2872 -> 0 | H87: ='様式D-3_S00'!BB2872 -> 0 | I87: ='様式D-3_S00'!BC2872 -> 0 | ... AN87: ='様式D-3_S00'!CH2872 -> 0 | AT87: =IF(AB87="Ⅳ",4,IF(AB87="Ⅲ",3,IF(AB87="Ⅱ",2,1))) -> 2
B88: ='様式D-3_S00'!AV2919 -> S062 | C88: ='様式D-3_S00'!AW2919 -> 10.6 | D88: ='様式D-3_S00'!AX2919 -> 0 | E88: ='様式D-3_S00'!AY2919 -> 0 | F88: ='様式D-3_S00'!AZ2919 -> 0 | G88: ='様式D-3_S00'!BA2919 -> 0 | H88: ='様式D-3_S00'!BB2919 -> 0 | I88: ='様式D-3_S00'!BC2919 -> 0 | ... AN88: ='様式D-3_S00'!CH2919 -> 0 | AT88: =IF(AB88="Ⅳ",4,IF(AB88="Ⅲ",3,IF(AB88="Ⅱ",2,1))) -> 1
B89: ='様式D-3_S00'!AV2966 -> S063 | C89: ='様式D-3_S00'!AW2966 -> 10.6 | D89: ='様式D-3_S00'!AX2966 -> 0 | E89: ='様式D-3_S00'!AY2966 -> 0 | F89: ='様式D-3_S00'!AZ2966 -> 0 | G89: ='様式D-3_S00'!BA2966 -> 0 | H89: ='様式D-3_S00'!BB2966 -> 0 | I89: ='様式D-3_S00'!BC2966 -> 0 | ... AN89: ='様式D-3_S00'!CH2966 -> 0 | AT89: =IF(AB89="Ⅳ",4,IF(AB89="Ⅲ",3,IF(AB89="Ⅱ",2,1))) -> 1
B90: ='様式D-3_S00'!AV3013 -> S064 | C90: ='様式D-3_S00'!AW3013 -> 10.6 | D90: ='様式D-3_S00'!AX3013 -> 0 | E90: ='様式D-3_S00'!AY3013 -> 0 | F90: ='様式D-3_S00'!AZ3013 -> 0 | G90: ='様式D-3_S00'!BA3013 -> 0 | H90: ='様式D-3_S00'!BB3013 -> 0 | I90: ='様式D-3_S00'!BC3013 -> 0 | ... AN90: ='様式D-3_S00'!CH3013 -> 1.32 | AT90: =IF(AB90="Ⅳ",4,IF(AB90="Ⅲ",3,IF(AB90="Ⅱ",2,1))) -> 2
B91: ='様式D-3_S00'!AV3060 -> S065 | C91: ='様式D-3_S00'!AW3060 -> 10.6 | D91: ='様式D-3_S00'!AX3060 -> 0 | E91: ='様式D-3_S00'!AY3060 -> 0 | F91: ='様式D-3_S00'!AZ3060 -> 0 | G91: ='様式D-3_S00'!BA3060 -> 0 | H91: ='様式D-3_S00'!BB3060 -> 0 | I91: ='様式D-3_S00'!BC3060 -> 0 | ... AN91: ='様式D-3_S00'!CH3060 -> 0.16 | AT91: =IF(AB91="Ⅳ",4,IF(AB91="Ⅲ",3,IF(AB91="Ⅱ",2,1))) -> 2
B92: ='様式D-3_S00'!AV3107 -> S066 | C92: ='様式D-3_S00'!AW3107 -> 10.6 | D92: ='様式D-3_S00'!AX3107 -> 0 | E92: ='様式D-3_S00'!AY3107 -> 0 | F92: ='様式D-3_S00'!AZ3107 -> 0 | G92: ='様式D-3_S00'!BA3107 -> 0 | H92: ='様式D-3_S00'!BB3107 -> 0 | I92: ='様式D-3_S00'!BC3107 -> 0 | ... AN92: ='様式D-3_S00'!CH3107 -> 0 | AT92: =IF(AB92="Ⅳ",4,IF(AB92="Ⅲ",3,IF(AB92="Ⅱ",2,1))) -> 2
B93: ='様式D-3_S00'!AV3154 -> S067 | C93: ='様式D-3_S00'!AW3154 -> 10.5 | D93: ='様式D-3_S00'!AX3154 -> 0 | E93: ='様式D-3_S00'!AY3154 -> 0 | F93: ='様式D-3_S00'!AZ3154 -> 0 | G93: ='様式D-3_S00'!BA3154 -> 0 | H93: ='様式D-3_S00'!BB3154 -> 0 | I93: ='様式D-3_S00'!BC3154 -> 0 | ... AN93: ='様式D-3_S00'!CH3154 -> 1.3 | AT93: =IF(AB93="Ⅳ",4,IF(AB93="Ⅲ",3,IF(AB93="Ⅱ",2,1))) -> 2
B94: 計 | D94: =SUM(D60:D93) -> 0 | E94: =SUM(E60:E93) -> 0 | F94: =SUM(F60:F93) -> 1 | G94: =SUM(G60:G93) -> 0 | H94: =SUM(H60:H93) -> 0 | I94: =SUM(I60:I93) -> 0 | J94: =SUM(J60:J93) -> 13 | K94: =SUM(K60:K93) -> 11 | ... X94: =SUM(X60:X93) -> 13 | AC94: =SUM(AC61:AC93) -> 0 | AD94: =SUM(AD61:AD93) -> 10.6 | AE94: =SUM(AE61:AE93) -> 10.6 | AF94: =SUM(AF61:AF93) -> 0 | AG94: =SUM(AG60:AG93) -> 0 | AH94: =SUM(AH60:AH93) -> 0 | AI94: =SUM(AI60:AI93) -> 0.191 | AJ94: =SUM(AJ60:AJ93) -> 4.66 | AK94: =SUM(AK60:AK93) -> 0 | AL94: =SUM(AL60:AL93) -> 0 | AM94: =SUM(AM60:AM93) -> 0 | AN94: =SUM(AN60:AN93) -> 10.4825 | AT94: =MAX(AT60:AT93) -> 2 | AU94: ←最大値
D95: 注１：外力は覆工スパン単位で診断するため、覆工スパンの中で最も評価の厳しい健全性の判定区分欄にのみスパン数1を、
D96: 材質劣化、漏水はそれぞれの判定区分に変状数を記入すること。
D97: 注２：外力は覆工スパン単位で診断するため、覆工スパンの中で最も評価の厳しい健全性の判定区分欄にのみスパン長を記入すること。
D98: ※１：本シートは様式D‐3の集計結果を掲載すること。
D99: ※２：覆工スパン数が多い場合は、適時、表の行を増やしてトンネル毎に1枚のシートに収めること。
D100: ※３：本シートの集計結果に基づいて、様式Bの健全性の判定区分の箇所を記載する。
...

Sheet (参考)リスト
B4: 様式A～B
B5: トンネルの分類 | C5: トンネル工法 | D5: 緊急輸送路 | E5: 代替路
B6: 陸上トンネル（掘進工法） | C6: 山岳トンネル工法（NATM） | D6: 有 | E6: 有
B7: 陸上トンネル（開削工法） | C7: 矢板工法 | D7: 無 | E7: 無
B8: 陸上トンネル（その他） | C8: 開削工法
B9: 水底トンネル（掘進工法） | C9: シールド工法
B10: 水底トンネル（沈埋工法） | C10: その他
B11: 水底トンネル（開削工法）
B12: 水底トンネル（その他）
B14: 様式C-1-1(本体工)、C-2、D-1-1、D-3 | L14: 様式C-2
B15: 対象箇所 | C15: 部位区分 | D15: 変状区分 | E15: 変状種類 | F15: 対策区分 | G15: 健全性 | H15: 調査の要否 | I15: 措置の要否 | J15: 実施有無 | L15: 対策区分の判定 | M15: 健全性
B16: 覆工・坑門 | C16: アーチ（右側） | D16: 外力 | E16: 圧ざ | F16: Ⅰ | G16: Ⅰ | H16: 要 | I16: 要監視 | J16: 未 | L16: Ⅰ | M16: Ⅰ
B17: 内装板 | C17: アーチ（左側） | D17: 材質劣化 | E17: ひび割れ | F17: Ⅱa | G17: Ⅱ | H17: 否 | I17: 要対策 | J17: 済 | L17: Ⅱa | M17: Ⅱ
B18: 天井板 | C18: アーチ（天端） | D18: 漏水 | E18: うき・はく離 | F18: Ⅱb | G18: Ⅲ | I18: 否 | J18: 継続 | L18: Ⅱb | M18: Ⅲ
B19: 路面 | C19: アーチ（全周） | E19: 変形、移動 | F19: Ⅲ | G19: Ⅳ | L19: Ⅲ | M19: Ⅳ
B20: その他 | C20: 側壁（右側） | E20: 沈下 | F20: Ⅳ | G20: － | L20: Ⅳ
C21: 側壁（左側） | E21: 補強・補修材の破損 | F21: －
C22: 横断目地（右側） | E22: その他 | L22: 様式D-3
C23: 横断目地（左側）
C24: 横断目地（天端）
C25: 横断目地（全周） | E25: ひび割れ
C26: 水平打ち継ぎ目（右側） | E26: うき・はく離
C27: 水平打ち継ぎ目（左側） | E27: 鋼材腐食
C28: 面壁・妻壁等 | E28: 巻厚の不足または減少，背面空洞
C29: その他 | E29: 補強・補修材の破損
E30: その他
C31: 側壁
C32: その他 | E32: 漏水
E33: 氷盤
C34: 車道側 | E34: つらら,側氷
C35: ダクト側 | E35: 滞水
C36: その他 | E36: 土砂流出
E37: 補強・補修材の破損
C38: 車道 | E38: その他
C39: 歩道
C40: 監査歩路
C41: 監視員通路
C42: 側溝
C43: その他
C45: その他
B49: 様式C-1-2（附属物）、D-1-2
B50: 施設の内訳 | C50: 対象箇所 | D50: 部位区分 | E50: 異常の種類 | F50: 異常判定区分 | G50: 実施有無
B51: 照明施設 | C51: 灯具 | D51: 附属物本体 | E51: 破断 | F51: ○ | G51: 未
B52: 換気施設 | C52: ケーブル類 | D52: 取付部材 | E52: 緩み，脱落 | F52: × | G52: 済
B53: 非常用施設 | C53: その他 | D53: ボルト・ﾅｯﾄ・アンカー類 | E53: 腐食 | G53: 継続
B54: その他施設 | E54: 変形，欠損
C55: ジェットファン | E55: 亀裂
C56: VI計 | E56: がたつき
C57: CO計
C58: 風向風速計
C59: その他
C61: 通話型通報設備
C62: 操作型通報設備
C63: 自動通報設備
C64: 警報表示版
C65: 点滅灯
C66: 音信号発生器
C67: 消火器
C68: 消火栓設備
C69: 誘導表示施設
... C80: その他
