Workbook
Name その他: '(参考)リスト'!$C$47
Name その他施設: '[1](参考)リスト'!#REF!
Name その他施設: '(参考)リスト'!$C$79:$C$83
Name 換気施設: '[1](参考)リスト'!#REF!
Name 換気施設: '(参考)リスト'!$C$56:$C$60
Name 坑門: '(参考)リスト'!$C$31:$C$32
Name 照明施設: '[1](参考)リスト'!#REF!
Name 照明施設: '(参考)リスト'!$C$52:$C$54
Name 対象箇所: [2]!テーブル1[対象箇所]
Name 天井板: '(参考)リスト'!$C$37:$C$39
Name 内装板: '(参考)リスト'!$C$34:$C$35
Name 非常用施設: '[1](参考)リスト'!#REF!
Name 非常用施設: '(参考)リスト'!$C$62:$C$77
Name 覆工: '(参考)リスト'!$C$16:$C$29
Name 路面: '(参考)リスト'!$C$41:$C$45

Sheet 点検様式作成フロー
A1: 点検様式作成フロ-
A3: 作成フロー図 | H3: 点検調書作成手順
H4: ①様式A-1～A-3（トンネル台帳）
H5: トンネル点検の実施にあたっては，現場点検作業に先行してトンネル情報を収集する。トンネル台帳（様式Ａ－1～様式Ａ－3）はトンネル完成後に作成され，維持管理の段階で引き継がれるが，関連資料等を確認したうえで，追加情報があれば必要に応じて追記することが望ましい。
H9: ②様式D-2-1、様式D-2-1´
H10: 現場点検作業を実施し，近接目視点検で確認した変状状況や補修履歴を忠実に変状展開図に転記する。
H12: ③様式D-1-1、様式D-1-2
H13: 変状展開図や撮影した写真等をもとに，対象トンネルの対策区分を決定し，対策区分がⅡ～Ⅳの変状および異常判定区分「×」を抽出し，写真台帳を作成する。
H16: ④様式B
H17: 写真台帳の作成と同時に，トンネルの構造を展開した位置図に変状写真位置を記録する。
H19: ⑤様式D-3
H20: 変状展開図ならびに写真台帳をもとに覆工スパンごとの変状展開図を作成し，変状発生状況をとりまとめる。
H22: ⑥様式E
H23: 近接目視または打音検査，触診ができていない箇所および近接目視によらない方法を講じた場所に対する調査結果を記録する。
... H33: すること。 ※各ファイルとも（参考）リストのシートを付けて保存すること。

Sheet 変状面積算出方法
A1: 変状面積算出方法
A26: 注1）外力による変状：ひび割れや圧ざの場合は変状の寸法を記録する。
A27: 例）ひび割れ：長さ（L）×最大ひび割れ幅（t）を記録する。 変形，移動，沈下：数値的な記載が可能な場合のみ記載する。
A28: 注2）材料劣化による：打音異常
A29: 例）うき，はく離（閉合ひび割れ）：変状範囲を包括する寸法（L×W） うき，はく離（ひび割れ沿い）：打音異常箇所を包括する寸法（L×W） 鋼材腐食（鉄筋腐食）：一括した対策が適当と考えられる範囲を包括する寸法（L×W）
A30: 注3）漏水による変状：漏水発生範囲を包括し，垂れ下がりの可能性がある側壁下端まで含めた寸法を，L×Wで記録する。打継ぎ目地沿いの 漏水については目地を跨いだ50cm幅を横幅とする。

Sheet 記入の留意点
B2: トンネルDBでは、Excelに記載された文字や数値・配置された画像を自動的に読込みデータベースへ登録します。
B3: 記録様式へ記入の留意点を下記に示します。
B5: １．記録様式への記入
C6: ➤各セルに表示されるコメントに従って、様式A-1～様式Gのシートに、点検結果（テキスト入力、選択項目）を入力してください。
C7: ➤位置図(様式B)、変状写真(様式D-1-1)、異常写真(様式D-1-2)は記入した変状写真番号等に対応した画像を間違いないように貼り付けてください。
C8: ➤列や行の挿入削除は行わず、セルの位置がずれないようにしてください。データベースへ読み取り時にずれて取り込まれてしまいます。
B11: ２．画像ファイルの配置の注意点
C12: 登録に使用可能な画像ファイルの拡張子は「jpg」「jpeg」「png」の3種類のみです。
C13: 必ず、１か所に画像１枚のみを張り付けてください。エクセルの図形などのオブジェクトは使用しないでください。
C14: 張り付けた画像はエクセルのトリミング機能を使用しないでください。あらかじめ切り抜いた画像を利用してください。
C15: ※１ 画像の左上を必ずセルの内部に含め、はみ出ないようにしてください。
C16: ※２ 図の書式設定で「セルに合わせて移動やサイズを変更しない」のモードを使用しないでください。
C32: ※３ 「挿入」→「画像」→「セルの上に配置」してください。
B41: ３．シート名の連番について
C42: １ページに記載しきれない場合は、１シート内にページを増やすのではなくシート自体をコピーしシート名の末尾を連番にしてください。
C43: 対象様式
C44: 様式B
C45: 様式D-1-1
C46: 様式D-1-2
C47: 様式D-2-1
C48: 様式D-2-1´
C49: 様式D-3_S00 ※スパン名を記載
C50: 様式G
C52: 末尾の連番の形式例
C53: 様式B(1) 様式B(2) 様式B(3)
C54: 様式B_001 様式B_002 様式B_003
... C61: で示される要領を制限するものではありません。

Sheet 様式A-1
B2: ■トンネル台帳 トンネル諸元、非常用施設諸元 【様式A-1】 | S2: 施設ID | W2: 34.28772,131.96019
B3: フリガナ | D3: (ﾋｴﾊﾞﾗｽﾞｲﾄﾞｳ) | H3: 路線名 | J3: 一般国道187号 | P3: 管理者名 | R3: 山口県 岩国土木建築事務所 | W3: 緊急輸送道路 | Z3: 一次
B4: 名 称 | D4: 稗原隧道 | W4: 代替路の有無 | Z4: 有
B5: 所在地 | D5: 自 | E5: 山口県岩国市錦町中ノ瀬地先 | H5: 作成者 | K5: 応用地質（株）・太田 裕之 | P5: 作成年月日 | R5: 45875 | U5: トンネル延長 | X5: L= | Z5: 92 | AB5: ｍ
D6: 至 | E6: 山口県岩国市錦町中ノ瀬地先 | U6: ﾄﾝﾈﾙの分類 | X6: 陸上トンネル（掘進工法）
B7: 起点 | C7: 緯度 | E7: 34.28772 | H7: 完成年月日 | K7: 1967年 | M7: 舗装 | O7: 種 別 | Q7: ｺﾝｸﾘｰﾄ系 | S7: トンネル非常用施設 | T7: 施設の内訳 | X7: 種別・方式 | Y7: 型式 | Z7: 個数 | AA7: 更新年度 | AE7: =INT(E7/10000) -> 0 | AF7: =INT(E7/100)-AE7*100 -> 0 | AG7: =E7-AE7*10000-AF7*100 -> 34.28772 | AH7: =ROUND(AE7+AF7/60+AG7/60/60,5) -> 0.00952 | AI7: =TEXT(AH7,"0.00000") -> 0.00952
C8: 経度 | E8: 131.96019 | H8: 供用年月日 | O8: 厚 さ | Q8: 0.15m | T8: 通報設備 | U8: 通話型通報設備 | AE8: =INT(E8/10000) -> 0 | AF8: =INT(E8/100)-AE8*100 -> 1 | AG8: =E8-AE8*10000-AF8*100 -> 31.96019 | AH8: =ROUND(AE8+AF8/60+AG8/60/60,5) -> 0.02554 | AI8: =TEXT(AH8,"0.00000") -> 0.02554
B9: 終点 | C9: 緯度 | E9: 34.28763 | H9: トンネル等級 | K9: D | O9: 面 積 | U9: 操作型通報設備
C10: 経度 | E10: 131.95912 | H10: 内装種類 | K10: 覆工（内装なし） | O10: 更新年次 | U10: 自動通報設備
B11: 一般有料区分 | E11: 一般（無料） | H11: 天井板種類 | K11: 覆工（内装なし） | M11: 排水 | O11: 種 別 | Q11: U型側溝 | T11: 警報設備 | U11: 非常警報設備
B12: 土かぶり | E12: 0 | G12: m | H12: 坑門 | I12: 起点 | J12: 形式 | K12: 面壁型 | O12: 更新年次 | T12: 消火設備 | U12: 消 火 器
B13: 内空断面積 | G13: m2 | J13: 延長 | K13: 1.75 | L13: m | M13: 施設 | P13: 種別・方式 | Q13: 個数 | R13: 更新年次 | U13: 消火栓設備
B14: 交 通 量 | E14: 2035 | G14: 台/日 | I14: 終点 | J14: 形式 | K14: 面壁型 | M14: 道路附属物等 | N14: 照明 | T14: 避難誘導設備 | U14: 誘導表示設備
C15: 道 路 幅 | E15: 7.5 | G15: m | J15: 延長 | K15: 1.45 | L15: m | N15: 換気 | U15: 避難情報提供設備
B16: 幅 員 | C16: 車 道 幅 | E16: 3.5 | G16: m | H16: 竣工巻厚 | I16: アーチ | L16: cm | N16: 標識
E17: 3.5 | G17: m | I17: 側 壁 | L17: cm | N17: 警報表示板 | U17: 避難通路
C18: 歩道等幅 | E18: 0.5 | G18: m | L18: cm | N18: 吸音板 | U18: 排煙設備
B19: 高さ | C19: 建築限界高 | E19: 4.5 | G19: m | I19: インバート | L19: cm | T19: その他の設備 | U19: 給水栓設備
C20: 中央高 | G20: m | H20: 半径 | I20: アーチ | L20: cm | U20: 無線通信補助設備
C21: 有効高 | E21: 4.5 | G21: m | I21: 側 壁 | L21: cm | U21: 水噴霧設備
C22: 縦断勾配 | E22: 3 | I22: インバート | L22: cm | U22: 監視設備
B23: 線 形 | C23: 直線区間長 | E23: 0 | H23: 占用物件 | I23: 種 類 | K23: 寸 法 | M23: 管理者名 | Q23: 更新年次 | S23: 非常用施設 関連設備 | U23: 予備発電設備
C24: 曲線区間 | D24: 区間長
D25: 起点側ｸﾛｿｲﾄﾞ
D26: 曲線半径
D27: 終点側ｸﾛｿｲﾄﾞ | S27: その他 | U27: 非常駐車帯
B28: トンネル工法 | E28: 矢板工法 | U28: 方向転換所
C29: ※緯度・経度については、十進緯度経度小数第５位で記入すること。

Sheet 様式A-2
B3: ■トンネル台帳 トンネル情報一覧表 【様式A-2】
B4: フリガナ | E4: (ﾋｴﾊﾞﾗｽﾞｲﾄﾞｳ) | J4: 路線名 | M4: 一般国道187号 | S4: 作成者 | Y4: 応用地質（株）・太田 裕之 | AE4: 作成年月日 | AI4: 45875
B5: 名 称 | E5: 稗原隧道 | J5: 管理者名 | M5: 山口県岩国土木建築事務所
B6: 覆工 ｽﾊﾟﾝ 番号 | C6: ｽﾊﾟﾝ長 | D6: 追加距離 | F6: トンネル本体工 | K6: 照明施設 | O6: 非常用施設 | AE6: 換気施設 | AK6: その他附属物等
O7: 通報設備 | R7: 警報設備 | S7: 消火設備 | U7: 避難誘導設備 | Y7: その他の設備 | AC7: 特記事項
D8: 起点側 | E8: 終点側 | F8: 特記事項 | I8: 内装板 | J8: 天井板 | K8: 基本照明 | L8: 入口出口照明 | M8: 特記事項 | O8: 通話型通報設備 | P8: 操作型通報設備 | Q8: 自動通報設備 | R8: 非常警報設備 | S8: 消 火 器 | T8: 消火栓設備 | U8: 誘導表示設備 | V8: 避難情報提供設備 | W8: 避難通路 | X8: 排煙設備 | Y8: 給水栓設備 | Z8: 無線通信補助設備 | AA8: 水噴霧設備 | AB8: 監視設備 | AE8: JF | AF8: VI計 | AG8: CO計 | AH8: 風向 風速計 | AI8: 特記事項
C9: (m) | D9: (m) | E9: (m)
B10: PS | C10: 1.75 | D10: 0 | E10: 1.75 | F10: 坑門（面壁型）
B11: 1 | C11: 2.55 | D11: 1.75 | E11: 4.3
B12: 2 | C12: 5.95 | D12: 4.3 | E12: 10.25
B13: 3 | C13: 6 | D13: 10.25 | E13: 16.25
B14: 4 | C14: 6 | D14: 16.25 | E14: 22.25
B15: 5 | C15: 5.8 | D15: 22.25 | E15: 28.05
B16: 6 | C16: 5.95 | D16: 28.05 | E16: 34
B17: 7 | C17: 5.8 | D17: 34 | E17: 39.8
B18: 8 | C18: 5.95 | D18: 39.8 | E18: 45.75
B19: 9 | C19: 5.8 | D19: 45.75 | E19: 51.55
B20: 10 | C20: 5.95 | D20: 51.55 | E20: 57.5
B21: 11 | C21: 5.9 | D21: 57.5 | E21: 63.4
B22: 12 | C22: 5.85 | D22: 63.4 | E22: 69.25
... B26: 16 | C26: 5.9 | D26: 84.4 | E26: 90.3
B27: PE | C27: 1.45 | D27: 90.3 | E27: 91.75 | F27: 坑門（面壁型）
B50: ※ 行が不足する場合は、適時、表の行を増やすこと。

Sheet 様式A-3
B3: ■トンネル台帳 トンネル記録（位置図、断面図、施工実績他）【様式A-3】
B4: フリガナ | E4: (ﾋｴﾊﾞﾗｽﾞｲﾄﾞｳ) | J4: 路線名 | M4: 一般国道187号 | S4: 作成者 | W4: 応用地質（株）・太田 裕之 | AC4: 作成年月日 | AF4: 45875
B5: 名 称 | E5: 稗原隧道 | J5: 管理者名 | M5: 山口県岩国土木建築事務所
B6: 位置図・現況写真・標準断面図・地質縦断図・施工実績
B20: ■トンネル台帳 トンネル記録（位置図、断面図、施工実績他）【様式A-3】
B21: フリガナ | E21: (ﾋｴﾊﾞﾗｽﾞｲﾄﾞｳ) | J21: 路線名 | M21: 一般国道187号 | S21: 作成者 | W21: 応用地質（株）・太田 裕之 | AC21: 作成年月日 | AF21: 45875
B22: 名 称 | E22: 稗原隧道 | J22: 管理者名 | M22: 山口県岩国土木建築事務所
B23: 位置図・現況写真・標準断面図・地質縦断図・施工実績

Sheet 様式B_001
B2: ■定期点検記録様式 トンネル変状・異常箇所写真位置図 【様式B】 | N2: 定期点検年月日 | P2: 45840 | S2: 施設ID | V2: 34.28772,131.96019
B3: フリガナ | C3: (ﾋｴﾊﾞﾗｽﾞｲﾄﾞｳ) | G3: 路線名 | H3: 一般国道187号 | K3: 管理者名 | L3: 山口県 岩国土木建築事務所 | Q3: 定期点検実施者 | S3: 応用地質（株） | V3: 起点 | W3: 緯度 | X3: 34.28772
B4: 名 称 | C4: 稗原隧道 | S4: 太田 裕之 | W4: 経度 | X4: 131.96019
B5: 所在地 | C5: 自 | D5: 山口県岩国市錦町中ノ瀬地先 | G5: トンネル工法 | I5: 矢板工法 | L5: トンネル延長 | N5: L= | O5: 92 | P5: ｍ | Q5: 自専道 or 一般道 | R5: 一般道 | S5: 代替路の有無 | U5: 有 | V5: 終点 | W5: 緯度 | X5: 34.28763
C6: 至 | D6: 山口県岩国市錦町中ノ瀬地先 | G6: 建設年度 | I6: 1967 | L6: 幅員 | N6: L= | O6: 7.5 | P6: ｍ | S6: 緊急輸送道路 | U6: 一次 | W6: 経度 | X6: 131.95912
B7: トンネル毎 の健全性の 診断の区分 | D7: Ⅲ
G8: 変状・異常 箇所数合計 | I8: トンネル本体工 | J8: 材質劣化 | K8: Ⅱ | L8: 12 | N8: Ⅲ | O8: 3 | Q8: Ⅳ | R8: 0 | T8: 附属物等 の取付状態 | V8: ◯ （応急措置後) | X8: 0
J9: 漏水 | K9: Ⅱ | L9: 44 | N9: Ⅲ | O9: 1 | Q9: Ⅳ | R9: 0
V10: ✕ | X10: 0
J11: 外力 | K11: Ⅱ | L11: 1 | N11: Ⅲ | O11: 0 | Q11: Ⅳ | R11: 0
B12: トンネル変状・異常箇所写真位置図
J29: 注１：本位置図は、見下げた状態で記載すること。 注２：覆工スパン番号は横断目地毎(矢板工法の場合は上半アーチの 横断目地毎)に設定すること。 | Q29: 注３：写真番号に付する変状番号は、各覆工スパンの変状に対して新たに確認された場合 は順次追加していくこと。 注４：横断目地の変状は前の覆工スパン番号で計上すること。 注５：１枚に収まらない場合は、複数枚に分けて作成すること。
C30: ※1 トンネル本体工の変状数は、材質劣化、漏水に起因するものは変状単位で、外力に起因するものはスパン単位で計上すること。
C31: ※2 トンネル本体工の変状に対しては、措置の必要性（Ⅱ～Ⅳ）について表記すること。また、点検前に実施された措置によりⅠと判定された箇所についても記載すること。
C32: ※3 附属物等の取付状態の○欄については、応急措置前に判定区分×とした箇所のうち応急措置により○判定とした箇所の数を記入すること。
C33: ※4 附属物等の異常番号は、本体工と番号が重複しないよう101番以降とする等の配慮を行い、分かりやすく記録すること。

Sheet 様式B_002
B2: ■定期点検記録様式 トンネル変状・異常箇所写真位置図 【様式B】 | N2: 定期点検年月日 | P2: 45840 | S2: 施設ID | V2: 34.28772,131.96019
B3: フリガナ | C3: (ﾋｴﾊﾞﾗｽﾞｲﾄﾞｳ) | G3: 路線名 | H3: 一般国道187号 | K3: 管理者名 | L3: 山口県 岩国土木建築事務所 | Q3: 定期点検実施者 | S3: 応用地質（株） | V3: 起点 | W3: 緯度 | X3: 34.28772
B4: 名 称 | C4: 稗原隧道 | S4: 太田 裕之 | W4: 経度 | X4: 131.96019
B5: 所在地 | C5: 自 | D5: 山口県岩国市錦町中ノ瀬地先 | G5: トンネル工法 | I5: 矢板工法 | L5: トンネル延長 | N5: L= | O5: 92 | P5: ｍ | Q5: 自専道 or 一般道 | R5: 一般道 | S5: 代替路の有無 | U5: 有 | V5: 終点 | W5: 緯度 | X5: 34.28763
C6: 至 | D6: 山口県岩国市錦町中ノ瀬地先 | G6: 建設年度 | I6: 1967 | L6: 幅員 | N6: L= | O6: 7.5 | P6: ｍ | S6: 緊急輸送道路 | U6: 一次 | W6: 経度 | X6: 131.95912
B7: トンネル毎 の健全性の 診断の区分 | D7: Ⅲ
G8: 変状・異常 箇所数合計 | I8: トンネル本体工 | J8: 材質劣化 | K8: Ⅱ | L8: 12 | N8: Ⅲ | O8: 3 | Q8: Ⅳ | R8: 0 | T8: 附属物等 の取付状態 | V8: ◯ （応急措置後) | X8: 0
J9: 漏水 | K9: Ⅱ | L9: 44 | N9: Ⅲ | O9: 1 | Q9: Ⅳ | R9: 0
V10: ✕ | X10: 0
J11: 外力 | K11: Ⅱ | L11: 1 | N11: Ⅲ | O11: 0 | Q11: Ⅳ | R11: 0
B12: トンネル変状・異常箇所写真位置図
J29: 注１：本位置図は、見下げた状態で記載すること。 注２：覆工スパン番号は横断目地毎(矢板工法の場合は上半アーチの 横断目地毎)に設定すること。 | Q29: 注３：写真番号に付する変状番号は、各覆工スパンの変状に対して新たに確認された場合 は順次追加していくこと。 注４：横断目地の変状は前の覆工スパン番号で計上すること。 注５：１枚に収まらない場合は、複数枚に分けて作成すること。
C30: ※1 トンネル本体工の変状数は、材質劣化、漏水に起因するものは変状単位で、外力に起因するものはスパン単位で計上すること。
C31: ※2 トンネル本体工の変状に対しては、措置の必要性（Ⅱ～Ⅳ）について表記すること。また、点検前に実施された措置によりⅠと判定された箇所についても記載すること。
C32: ※3 附属物等の取付状態の○欄については、応急措置前に判定区分×とした箇所のうち応急措置により○判定とした箇所の数を記入すること。
C33: ※4 附属物等の異常番号は、本体工と番号が重複しないよう101番以降とする等の配慮を行い、分かりやすく記録すること。

Sheet 様式B_003
B2: ■定期点検記録様式 トンネル変状・異常箇所写真位置図 【様式B】 | N2: 定期点検年月日 | P2: 45840 | S2: 施設ID | V2: 34.28772,131.96019
B3: フリガナ | C3: (ﾋｴﾊﾞﾗｽﾞｲﾄﾞｳ) | G3: 路線名 | H3: 一般国道187号 | K3: 管理者名 | L3: 山口県 岩国土木建築事務所 | Q3: 定期点検実施者 | S3: 応用地質（株） | V3: 起点 | W3: 緯度 | X3: 34.28772
B4: 名 称 | C4: 稗原隧道 | S4: 太田 裕之 | W4: 経度 | X4: 131.96019
B5: 所在地 | C5: 自 | D5: 山口県岩国市錦町中ノ瀬地先 | G5: トンネル工法 | I5: 矢板工法 | L5: トンネル延長 | N5: L= | O5: 92 | P5: ｍ | Q5: 自専道 or 一般道 | R5: 一般道 | S5: 代替路の有無 | U5: 有 | V5: 終点 | W5: 緯度 | X5: 34.28763
C6: 至 | D6: 山口県岩国市錦町中ノ瀬地先 | G6: 建設年度 | I6: 1967 | L6: 幅員 | N6: L= | O6: 7.5 | P6: ｍ | S6: 緊急輸送道路 | U6: 一次 | W6: 経度 | X6: 131.95912
B7: トンネル毎 の健全性の 診断の区分 | D7: Ⅲ
G8: 変状・異常 箇所数合計 | I8: トンネル本体工 | J8: 材質劣化 | K8: Ⅱ | L8: 12 | N8: Ⅲ | O8: 3 | Q8: Ⅳ | R8: 0 | T8: 附属物等 の取付状態 | V8: ◯ （応急措置後) | X8: 0
J9: 漏水 | K9: Ⅱ | L9: 44 | N9: Ⅲ | O9: 1 | Q9: Ⅳ | R9: 0
V10: ✕ | X10: 0
J11: 外力 | K11: Ⅱ | L11: 1 | N11: Ⅲ | O11: 0 | Q11: Ⅳ | R11: 0
B12: トンネル変状・異常箇所写真位置図
J29: 注１：本位置図は、見下げた状態で記載すること。 注２：覆工スパン番号は横断目地毎(矢板工法の場合は上半アーチの 横断目地毎)に設定すること。 | Q29: 注３：写真番号に付する変状番号は、各覆工スパンの変状に対して新たに確認された場合 は順次追加していくこと。 注４：横断目地の変状は前の覆工スパン番号で計上すること。 注５：１枚に収まらない場合は、複数枚に分けて作成すること。
C30: ※1 トンネル本体工の変状数は、材質劣化、漏水に起因するものは変状単位で、外力に起因するものはスパン単位で計上すること。
C31: ※2 トンネル本体工の変状に対しては、措置の必要性（Ⅱ～Ⅳ）について表記すること。また、点検前に実施された措置によりⅠと判定された箇所についても記載すること。
C32: ※3 附属物等の取付状態の○欄については、応急措置前に判定区分×とした箇所のうち応急措置により○判定とした箇所の数を記入すること。
C33: ※4 附属物等の異常番号は、本体工と番号が重複しないよう101番以降とする等の配慮を行い、分かりやすく記録すること。

Sheet 様式C-1-1
B2: ■定期点検記録様式 全スパン定期点検結果総括表（トンネル本体工） 【様式C-1-1】
B3: フリガナ | F3: (ﾋｴﾊﾞﾗｽﾞｲﾄﾞｳ) | I3: 路線名 | K3: 一般国道187号 | O3: 定期点検実施者 | P3: 応用地質（株） | T3: 定期点検年月日 | X3: 45840
B4: 名 称 | F4: 稗原隧道 | I4: 管理者名 | K4: 山口県岩国土木建築事務所 | P4: 太田 裕之
B5: 定期点検結果 | C5: 覆工 スパン 番号 | E5: 変状 番号 | F5: 距離 （m） | G5: 変状部位 | I5: 変 状 の 内 容 | O5: 前回定期点検時の状態 | P5: 今回定期点検結果 | T5: 措置履歴 | Y5: 対応方針 ・ 特記事項
O6: 44030
G7: 対象箇所 | H7: 部位区分 | I7: 変状区分 | J7: 変状種類 | M7: 変状の発生範囲の規模 | N7: 前回定期点検時の変状の発生範囲及び規模 | O7: 対策区分 | P7: 対策区分 | R7: 調査の 要否 | S7: 措置の 要否 | T7: 実施 | U7: 措置の実施状況
P8: 応急措置前 | Q8: 応急措置後
C9: PS | E9: 1 | F9: 0.2 | G9: 覆工 | H9: アーチ（左側） | I9: 材質劣化 | J9: うき・はく離 | M9: － | N9: 0.14 | O9: Ⅱa | P9: － | Q9: Ⅰ | R9: 否 | S9: 否 | T9: 済 | U9: はく落防止工(FRPネット)[実施年度:不明] | Y9: －
C10: PS | E10: 2 | F10: 0 | G10: 覆工 | H10: アーチ（天端） | I10: 材質劣化 | J10: うき・はく離 | M10: 0.06 | N10: － | O10: － | P10: － | Q10: Ⅲ | R10: 否 | S10: 要対策 | T10: 未 | U10: 早期対策 | Y10: －
C11: 2 | E11: 1 | F11: 4.7 | G11: 覆工 | H11: アーチ（右側） | I11: 材質劣化 | J11: うき・はく離 | M11: － | N11: 0.02 | O11: Ⅱa | P11: － | Q11: Ⅰ | R11: 否 | S11: 否 | T11: 済 | U11: はく落防止工(FRPネット)[実施年度:不明] | Y11: －
C12: 2 | E12: 2 | F12: 10.2 | G12: 覆工 | H12: 横断目地（右側） | I12: 漏水 | J12: 補修・補強材の破損 | M12: 0.03 | N12: 0.13 | O12: Ⅱa | P12: － | Q12: Ⅱb | R12: 否 | S12: 要監視 | T12: 継続 | U12: 監視（日常巡視） | Y12: －
C13: 2 | E13: 3 | F13: 10.2 | G13: 覆工 | H13: 横断目地（左側） | I13: 漏水 | J13: 漏水 | M13: 4 | N13: 記載なし | O13: Ⅱb | P13: － | Q13: Ⅱb | R13: 否 | S13: 要監視 | T13: 継続 | U13: 監視（日常巡視） | Y13: －
C14: 2 | E14: 4 | F14: 7.1 | G14: 覆工 | H14: アーチ（左側） | I14: 漏水 | J14: 漏水 | M14: 14.82 | N14: 記載なし | O14: Ⅱb | P14: － | Q14: Ⅱb | R14: 否 | S14: 要監視 | T14: 継続 | U14: 監視（日常巡視） | Y14: －
C15: 2 | E15: 5 | F15: 10.2 | G15: 覆工 | H15: 横断目地（左側） | I15: 材質劣化 | J15: うき・はく離 | M15: － | N15: 0.07 | O15: Ⅱa | P15: － | Q15: Ⅰ | R15: 否 | S15: 否 | T15: 済 | U15: はく落防止工(FRPネット)[実施年度:不明] | Y15: －
C16: 2 | E16: 6 | F16: 5.4 | G16: 覆工 | H16: 水平打ち継ぎ目（左側） | I16: 材質劣化 | J16: うき・はく離 | M16: － | N16: 0.05 | O16: Ⅱb | P16: － | Q16: Ⅰ | R16: 否 | S16: 否 | T16: 済 | U16: はく落防止工(FRPネット)[実施年度:不明] | Y16: －
C17: 2 | E17: 7 | F17: 4.4 | G17: 覆工 | H17: 水平打ち継ぎ目（右側） | I17: 材質劣化 | J17: うき・はく離 | M17: － | N17: 0.68 | O17: Ⅱb | P17: － | Q17: Ⅰ | R17: 否 | S17: 否 | T17: 済 | U17: はく落防止工(FRPネット)[実施年度:不明] | Y17: －
C18: 2 | E18: 8 | F18: 10.2 | G18: 覆工 | H18: 横断目地（天端） | I18: 漏水 | J18: 補修・補強材の破損 | M18: 0.07 | N18: － | O18: － | P18: － | Q18: Ⅱb | R18: 否 | S18: 要監視 | T18: 継続 | U18: 監視（日常巡視） | Y18: －
C19: 3 | E19: 1 | F19: 12 | G19: 覆工 | H19: アーチ（天端） | I19: 漏水 | J19: 漏水 | M19: 7.5 | N19: 記載なし | O19: Ⅱb | P19: － | Q19: Ⅱb | R19: 否 | S19: 要監視 | T19: 継続 | U19: 監視（日常巡視） | Y19: －
C20: 3 | E20: 2 | F20: 16.2 | G20: 覆工 | H20: 横断目地（左側） | I20: 漏水 | J20: 漏水 | M20: 1.8 | N20: 記載なし | O20: Ⅱb | P20: － | Q20: Ⅱb | R20: 否 | S20: 要監視 | T20: 継続 | U20: 監視（日常巡視） | Y20: －
C21: 3 | E21: 3 | F21: 16.2 | G21: 覆工 | H21: 横断目地（天端） | I21: 材質劣化 | J21: うき・はく離 | M21: － | N21: 0.55 | O21: Ⅱa | P21: － | Q21: Ⅰ | R21: 否 | S21: 否 | T21: 済 | U21: はく落防止工(FRPネット)[実施年度:不明] | Y21: －
C22: 3 | E22: 4 | F22: 14.7 | G22: 覆工 | H22: アーチ（天端） | I22: 材質劣化 | J22: うき・はく離 | M22: 0.04 | N22: 0.04 | O22: Ⅱa | P22: － | Q22: Ⅱa | R22: 否 | S22: 要監視 | T22: 継続 | U22: 監視（重点） | Y22: －
C23: 3 | E23: 5 | F23: 10.3 | G23: 覆工 | H23: 水平打ち継ぎ目（左側） | I23: 材質劣化 | J23: うき・はく離 | M23: － | N23: 0.65 | O23: Ⅱb | P23: － | Q23: Ⅰ | R23: 否 | S23: 否 | T23: 済 | U23: はく落防止工(FRPネット)[実施年度:不明] | Y23: －
C24: 3 | E24: 6 | F24: 11.8 | G24: 覆工 | H24: 水平打ち継ぎ目（右側） | I24: 材質劣化 | J24: うき・はく離 | M24: － | N24: 0.45 | O24: Ⅱb | P24: － | Q24: Ⅰ | R24: 否 | S24: 否 | T24: 済 | U24: はく落防止工(FRPネット)[実施年度:不明] | Y24: －
C25: 3 | E25: 7 | F25: 10.3 | G25: 覆工 | H25: 水平打ち継ぎ目（右側） | I25: 材質劣化 | J25: うき・はく離 | M25: － | N25: 0.23 | O25: Ⅱb | P25: － | Q25: Ⅰ | R25: 否 | S25: 否 | T25: 済 | U25: はく落防止工(FRPネット)[実施年度:不明] | Y25: －
C26: 3 | E26: 8 | F26: 16.2 | G26: 覆工 | H26: 横断目地（右側） | I26: 漏水 | J26: 補修・補強材の破損 | M26: 0.08 | N26: － | O26: － | P26: － | Q26: Ⅱb | R26: 否 | S26: 要監視 | T26: 継続 | U26: 監視（日常巡視） | Y26: －
C27: 4 | E27: 1 | F27: 17 | G27: 覆工 | H27: アーチ（右側） | I27: 材質劣化 | J27: 鋼材腐食 | M27: 0.01 | N27: 0.01 | O27: Ⅱb | P27: Ⅱb | Q27: Ⅰ | R27: 否 | S27: 否 | T27: 済 | U27: － | Y27: 今回点検時に番線撤去
C28: 4 | E28: 2 | F28: 22.2 | G28: 覆工 | H28: 横断目地（天端） | I28: 材質劣化 | J28: うき・はく離 | M28: － | N28: 0.65 | O28: Ⅱa | P28: － | Q28: Ⅰ | R28: 否 | S28: 否 | T28: 済 | U28: はく落防止工(FRPネット)[実施年度:不明] | Y28: －
C29: 4 | E29: 3 | F29: 22.2 | G29: 覆工 | H29: 水平打ち継ぎ目（右側） | I29: 漏水 | J29: 補修・補強材の破損 | M29: 0.12 | N29: 0.12 | O29: Ⅱa | P29: － | Q29: Ⅱa | R29: 否 | S29: 要監視 | T29: 継続 | U29: 監視（重点） | Y29: －
C30: 4 | E30: 4 | F30: 22.2 | G30: 覆工 | H30: 横断目地（天端） | I30: 漏水 | J30: 漏水 | M30: 4 | N30: 記載なし | O30: Ⅱa | P30: － | Q30: Ⅱa | R30: 否 | S30: 要監視 | T30: 継続 | U30: 監視（重点） | Y30: －
C31: 4 | E31: 5 | F31: 22.2 | G31: 覆工 | H31: 横断目地（左側） | I31: 漏水 | J31: 補修・補強材の破損 | M31: 0.05 | N31: 0.15 | O31: Ⅱa | P31: － | Q31: Ⅱa | R31: 否 | S31: 要監視 | T31: 継続 | U31: 監視（重点） | Y31: －
C32: 4 | E32: 6 | F32: 16.3 | G32: 覆工 | H32: 水平打ち継ぎ目（左側） | I32: 材質劣化 | J32: うき・はく離 | M32: － | N32: 0.64 | O32: Ⅱb | P32: － | Q32: Ⅰ | R32: 否 | S32: 否 | T32: 済 | U32: はく落防止工(FRPネット)[実施年度:不明] | Y32: －
C33: 4 | E33: 7 | F33: 20.8 | G33: 覆工 | H33: 側壁（左側） | I33: 漏水 | J33: 漏水 | M33: 1.23 | N33: 記載なし | O33: Ⅱb | P33: － | Q33: Ⅱb | R33: 否 | S33: 要監視 | T33: 継続 | U33: 監視（日常巡視） | Y33: －
C34: 4 | E34: 8 | F34: 22.2 | G34: 覆工 | H34: 横断目地（天端） | I34: 漏水 | J34: 漏水 | M34: 3.7 | N34: 記載なし | O34: Ⅱb | P34: － | Q34: Ⅱb | R34: 否 | S34: 要監視 | T34: 継続 | U34: 監視（日常巡視） | Y34: －
C35: 4 | E35: 9 | F35: 16.3 | G35: 覆工 | H35: 水平打ち継ぎ目（右側） | I35: 材質劣化 | J35: うき・はく離 | M35: － | N35: 0.21 | O35: Ⅱb | P35: － | Q35: Ⅰ | R35: 否 | S35: 否 | T35: 済 | U35: はく落防止工(FRPネット)[実施年度:不明] | Y35: －
C36: 5 | E36: 1 | F36: 27.4 | G36: 覆工 | H36: アーチ（天端） | I36: 材質劣化 | J36: うき・はく離 | M36: － | N36: 0.16 | O36: Ⅱa | P36: － | Q36: Ⅰ | R36: 否 | S36: 否 | T36: 済 | U36: はく落防止工(FRPネット)[実施年度:不明] | Y36: －
C37: 5 | E37: 2 | F37: 24.9 | G37: 覆工 | H37: アーチ（左側） | I37: 漏水 | J37: 漏水 | M37: 14.08 | N37: 記載なし | O37: Ⅱb | P37: － | Q37: Ⅱb | R37: 否 | S37: 要監視 | T37: 継続 | U37: 監視（日常巡視） | Y37: －
C38: 5 | E38: 3 | F38: 34 | G38: 覆工 | H38: 横断目地（天端） | I38: 材質劣化 | J38: うき・はく離 | M38: － | N38: 0.25 | O38: Ⅱb | P38: － | Q38: Ⅰ | R38: 否 | S38: 否 | T38: 済 | U38: はく落防止工(FRPネット)[実施年度:不明] | Y38: －
C39: 5 | E39: 4 | F39: 24.2 | G39: 覆工 | H39: アーチ（右側） | I39: 漏水 | J39: 漏水 | M39: 5.4 | N39: 記載なし | O39: Ⅱb | P39: － | Q39: Ⅱb | R39: 否 | S39: 要監視 | T39: 継続 | U39: 監視（日常巡視） | Y39: －
C40: 5 | E40: 5 | F40: 28 | G40: 覆工 | H40: 横断目地（天端） | I40: 漏水 | J40: 漏水 | M40: 3.5 | N40: 記載なし | O40: Ⅱb | P40: － | Q40: Ⅱb | R40: 否 | S40: 要監視 | T40: 継続 | U40: 監視（日常巡視） | Y40: －
C41: 5 | E41: 6 | F41: 22.3 | G41: 覆工 | H41: 横断目地（左側） | I41: 材質劣化 | J41: うき・はく離 | M41: 0.03 | N41: 0.03 | O41: Ⅱb | P41: － | Q41: Ⅰ | R41: 否 | S41: 否 | T41: 済 | U41: － | Y41: －
C42: 5 | E42: 7 | F42: 22.3 | G42: 覆工 | H42: 水平打ち継ぎ目（左側） | I42: 材質劣化 | J42: うき・はく離 | M42: － | N42: 0.68 | O42: Ⅱb | P42: － | Q42: Ⅰ | R42: 否 | S42: 否 | T42: 済 | U42: はく落防止工(FRPネット)[実施年度:不明] | Y42: －
C43: 5 | E43: 8 | F43: 23.7 | G43: 覆工 | H43: 水平打ち継ぎ目（右側） | I43: 材質劣化 | J43: うき・はく離 | M43: － | N43: 0.44 | O43: Ⅱb | P43: － | Q43: Ⅰ | R43: 否 | S43: 否 | T43: 済 | U43: はく落防止工(FRPネット)[実施年度:不明] | Y43: －
C44: 5 | E44: 9 | F44: 24.4 | G44: 覆工 | H44: 水平打ち継ぎ目（右側） | I44: 材質劣化 | J44: うき・はく離 | M44: － | N44: 0.26 | O44: Ⅱb | P44: － | Q44: Ⅰ | R44: 否 | S44: 否 | T44: 済 | U44: はく落防止工(FRPネット)[実施年度:不明] | Y44: －
C45: 5 | E45: 10 | F45: 23.5 | G45: 覆工 | H45: 水平打ち継ぎ目（右側） | I45: 漏水 | J45: 漏水 | M45: 1.5 | N45: 記載なし | O45: Ⅱb | P45: － | Q45: Ⅱb | R45: 否 | S45: 要監視 | T45: 継続 | U45: 監視（日常巡視） | Y45: －
C46: 6 | E46: 1 | F46: 34 | G46: 覆工 | H46: 横断目地（天端） | I46: 材質劣化 | J46: うき・はく離 | M46: － | N46: 0.18 | O46: Ⅱa | P46: － | Q46: Ⅰ | R46: 否 | S46: 否 | T46: 済 | U46: はく落防止工(FRPネット)[実施年度:不明] | Y46: －
C47: 6 | E47: 2 | F47: 30.7 | G47: 覆工 | H47: アーチ（天端） | I47: 材質劣化 | J47: うき・はく離 | M47: － | N47: 0.19 | O47: Ⅱa | P47: － | Q47: Ⅰ | R47: 否 | S47: 否 | T47: 済 | U47: はく落防止工(FRPネット)[実施年度:不明] | Y47: －
C48: 6 | E48: 3 | F48: 34 | G48: 覆工 | H48: 横断目地（天端） | I48: 材質劣化 | J48: うき・はく離 | M48: － | N48: 1.32 | O48: Ⅱa | P48: － | Q48: Ⅰ | R48: 否 | S48: 否 | T48: 済 | U48: はく落防止工(FRPネット)[実施年度:不明] | Y48: －
C49: 6 | E49: 4 | F49: 28.1 | G49: 覆工 | H49: アーチ（右側） | I49: 漏水 | J49: 漏水 | M49: 24.57 | N49: 記載なし | O49: Ⅱb | P49: － | Q49: Ⅱb | R49: 否 | S49: 要監視 | T49: 継続 | U49: 監視（日常巡視） | Y49: －
C50: 6 | E50: 5 | F50: 29.7 | G50: 覆工 | H50: 水平打ち継ぎ目（左側） | I50: 漏水 | J50: 漏水 | M50: 1.5 | N50: 記載なし | O50: Ⅱb | P50: － | Q50: Ⅱb | R50: 否 | S50: 要監視 | T50: 継続 | U50: 監視（日常巡視） | Y50: －
C51: 6 | E51: 6 | F51: 33.4 | G51: 覆工 | H51: アーチ（左側） | I51: 漏水 | J51: 漏水 | M51: 3 | N51: 記載なし | O51: Ⅱb | P51: － | Q51: Ⅱb | R51: 否 | S51: 要監視 | T51: 継続 | U51: 監視（日常巡視） | Y51: －
C52: 6 | E52: 7 | F52: 28.1 | G52: 覆工 | H52: 水平打ち継ぎ目（左側） | I52: 材質劣化 | J52: うき・はく離 | M52: － | N52: 0.3 | O52: Ⅱb | P52: － | Q52: Ⅰ | R52: 否 | S52: 否 | T52: 済 | U52: はく落防止工(FRPネット)[実施年度:不明] | Y52: －
C53: 6 | E53: 8 | F53: 28.1 | G53: 覆工 | H53: 水平打ち継ぎ目（右側） | I53: 材質劣化 | J53: うき・はく離 | M53: － | N53: 0.42 | O53: Ⅱb | P53: － | Q53: Ⅰ | R53: 否 | S53: 否 | T53: 済 | U53: はく落防止工(FRPネット)[実施年度:不明] | Y53: －
C54: 6 | E54: 9 | F54: 33.5 | G54: 覆工 | H54: アーチ（右側） | I54: 材質劣化 | J54: 補修・補強材の破損 | M54: 0.01 | N54: － | O54: － | P54: － | Q54: Ⅱa | R54: 否 | S54: 要監視 | T54: 継続 | U54: 監視（重点） | Y54: －
C55: 7 | E55: 1 | F55: 39.8 | G55: 覆工 | H55: 横断目地（左側） | I55: 材質劣化 | J55: うき・はく離 | M55: － | N55: 1.05 | O55: Ⅱa | P55: － | Q55: Ⅰ | R55: 否 | S55: 否 | T55: 済 | U55: はく落防止工(FRPネット)[実施年度:不明] | Y55: －
C56: 7 | E56: 2 | F56: 37 | G56: 覆工 | H56: アーチ（天端） | I56: 材質劣化 | J56: うき・はく離 | M56: － | N56: 0.12 | O56: Ⅱa | P56: － | Q56: Ⅰ | R56: 否 | S56: 否 | T56: 済 | U56: はく落防止工(FRPネット)[実施年度:不明] | Y56: －
C57: 7 | E57: 3 | F57: 36.4 | G57: 覆工 | H57: 水平打ち継ぎ目（左側） | I57: 材質劣化 | J57: うき・はく離 | M57: － | N57: 0.5 | O57: Ⅱb | P57: － | Q57: Ⅰ | R57: 否 | S57: 否 | T57: 済 | U57: はく落防止工(FRPネット)[実施年度:不明] | Y57: －
C58: 7 | E58: 4 | F58: 39.8 | G58: 覆工 | H58: 横断目地（右側） | I58: 漏水 | J58: 漏水 | M58: 2.45 | N58: 記載なし | O58: Ⅱb | P58: － | Q58: Ⅱb | R58: 否 | S58: 要監視 | T58: 継続 | U58: 監視（日常巡視） | Y58: －
C59: 7 | E59: 5 | F59: 36.2 | G59: 覆工 | H59: 水平打ち継ぎ目（左側） | I59: 漏水 | J59: 漏水 | M59: 10.8 | N59: － | O59: － | P59: － | Q59: Ⅱb | R59: 否 | S59: 要監視 | T59: 継続 | U59: 監視（日常巡視） | Y59: －
C60: 7 | E60: 6 | F60: 59.6 | G60: 覆工 | H60: アーチ（左側） | I60: 材質劣化 | J60: 補修・補強材の破損 | M60: 0.01 | N60: － | O60: － | P60: Ⅱa | Q60: Ⅱb | R60: 否 | S60: 要監視 | T60: 継続 | U60: 監視（日常巡視） | Y60: 今回点検時に増し締め実施
C61: 7 | E61: 7 | F61: 35.4 | G61: 覆工 | H61: アーチ（天端） | I61: 材質劣化 | J61: うき・はく離 | M61: 0.02 | N61: － | O61: － | P61: － | Q61: Ⅱa | R61: 否 | S61: 要監視 | T61: 継続 | U61: 監視（重点） | Y61: －
C62: 8 | E62: 1 | F62: 39.9 | G62: 覆工 | H62: 水平打ち継ぎ目（左側） | I62: 材質劣化 | J62: うき・はく離 | M62: － | N62: 0.2 | O62: Ⅱb | P62: － | Q62: Ⅰ | R62: 否 | S62: 否 | T62: 済 | U62: はく落防止工(FRPネット)[実施年度:不明] | Y62: －
C63: 8 | E63: 2 | F63: 41.4 | G63: 覆工 | H63: 水平打ち継ぎ目（左側） | I63: 材質劣化 | J63: うき・はく離 | M63: － | N63: 0.36 | O63: Ⅱb | P63: － | Q63: Ⅰ | R63: 否 | S63: 否 | T63: 済 | U63: はく落防止工(FRPネット)[実施年度:不明] | Y63: －
C64: 8 | E64: 3 | F64: 43.7 | G64: 覆工 | H64: アーチ（左側） | I64: 漏水 | J64: 漏水 | M64: 6.02 | N64: 記載なし | O64: Ⅱb | P64: － | Q64: Ⅱb | R64: 否 | S64: 要監視 | T64: 継続 | U64: 監視（日常巡視） | Y64: －
C65: 8 | E65: 4 | F65: 39.9 | G65: 覆工 | H65: 水平打ち継ぎ目（右側） | I65: 材質劣化 | J65: うき・はく離 | M65: － | N65: 0.3 | O65: Ⅱb | P65: － | Q65: Ⅰ | R65: 否 | S65: 否 | T65: 済 | U65: はく落防止工(FRPネット)[実施年度:不明] | Y65: －
C66: 8 | E66: 5 | F66: 44.5 | G66: 覆工 | H66: 水平打ち継ぎ目（右側） | I66: 材質劣化 | J66: うき・はく離 | M66: － | N66: 0.06 | O66: Ⅱb | P66: － | Q66: Ⅰ | R66: 否 | S66: 否 | T66: 済 | U66: はく落防止工(FRPネット)[実施年度:不明] | Y66: －
C67: 8 | E67: 6 | F67: 41.5 | G67: 覆工 | H67: 側壁（右側） | I67: 材質劣化 | J67: うき・はく離 | M67: 2.52 | N67: 2.52 | O67: Ⅱb | P67: － | Q67: Ⅰ | R67: 否 | S67: 否 | T67: 済 | U67: － | Y67: －
C68: 8 | E68: 7 | F68: 42.9 | G68: 覆工 | H68: 側壁（右側） | I68: 材質劣化 | J68: うき・はく離 | M68: 2.1 | N68: 2.1 | O68: Ⅱb | P68: － | Q68: Ⅰ | R68: 否 | S68: 否 | T68: 済 | U68: － | Y68: －
C69: 8 | E69: 8 | F69: 45.7 | G69: 覆工 | H69: 横断目地（左側） | I69: 漏水 | J69: 漏水 | M69: 3 | N69: 記載なし | O69: Ⅱb | P69: － | Q69: Ⅱb | R69: 否 | S69: 要監視 | T69: 継続 | U69: 監視（日常巡視） | Y69: －
C70: 8 | E70: 9 | F70: 41.2 | G70: 覆工 | H70: 側壁（左側） | I70: 漏水 | J70: 漏水 | M70: 0.8 | N70: － | O70: － | P70: － | Q70: Ⅱb | R70: 否 | S70: 要監視 | T70: 継続 | U70: 監視（日常巡視） | Y70: －
C71: 8 | E71: 10 | F71: 45.7 | G71: 覆工 | H71: 横断目地（右側） | I71: 漏水 | J71: 漏水 | M71: 3.3 | N71: － | O71: － | P71: － | Q71: Ⅱb | R71: 否 | S71: 要監視 | T71: 継続 | U71: 監視（日常巡視） | Y71: －
C72: 9 | E72: 1 | F72: 51.5 | G72: 覆工 | H72: 横断目地（天端） | I72: 漏水 | J72: 漏水 | M72: 4.05 | N72: 記載なし | O72: Ⅲ | P72: － | Q72: Ⅲ | R72: 否 | S72: 要対策 | T72: 未 | U72: 早期対策 | Y72: －
C73: 9 | E73: 2 | F73: 51.5 | G73: 覆工 | H73: 横断目地（天端） | I73: 材質劣化 | J73: うき・はく離 | M73: － | N73: 0.2 | O73: Ⅱa | P73: － | Q73: Ⅰ | R73: 否 | S73: 否 | T73: 済 | U73: はく落防止工(FRPネット)[実施年度:不明] | Y73: －
C74: 9 | E74: 3 | F74: 51.5 | G74: 覆工 | H74: 横断目地（左側） | I74: 漏水 | J74: 漏水 | M74: 3.5 | N74: 記載なし | O74: Ⅱb | P74: － | Q74: Ⅱb | R74: 否 | S74: 要監視 | T74: 継続 | U74: 監視（日常巡視） | Y74: －
C75: 9 | E75: 4 | F75: 47.1 | G75: 覆工 | H75: 水平打ち継ぎ目（左側） | I75: 漏水 | J75: 漏水 | M75: 1.5 | N75: 記載なし | O75: Ⅱb | P75: － | Q75: Ⅱb | R75: 否 | S75: 要監視 | T75: 継続 | U75: 監視（日常巡視） | Y75: －
C76: 9 | E76: 5 | F76: 48.3 | G76: 覆工 | H76: アーチ（左側） | I76: 漏水 | J76: 漏水 | M76: 3.05 | N76: 記載なし | O76: Ⅱb | P76: － | Q76: Ⅱb | R76: 否 | S76: 要監視 | T76: 継続 | U76: 監視（日常巡視） | Y76: －
C77: 9 | E77: 6 | F77: 46 | G77: 覆工 | H77: 水平打ち継ぎ目（右側） | I77: 材質劣化 | J77: うき・はく離 | M77: － | N77: 0.33 | O77: Ⅱb | P77: － | Q77: Ⅰ | R77: 否 | S77: 否 | T77: 済 | U77: はく落防止工(FRPネット)[実施年度:不明] | Y77: －
C78: 9 | E78: 7 | F78: 50.1 | G78: 覆工 | H78: 水平打ち継ぎ目（右側） | I78: 漏水 | J78: 漏水 | M78: 1.5 | N78: 記載なし | O78: Ⅱb | P78: － | Q78: Ⅱb | R78: 否 | S78: 要監視 | T78: 継続 | U78: 監視（日常巡視） | Y78: －
C79: 9 | E79: 8 | F79: 48.6 | G79: 覆工 | H79: 水平打ち継ぎ目（右側） | I79: 材質劣化 | J79: うき・はく離 | M79: － | N79: 0.23 | O79: Ⅱb | P79: － | Q79: Ⅰ | R79: 否 | S79: 否 | T79: 済 | U79: はく落防止工(FRPネット)[実施年度:不明] | Y79: －
C80: 9 | E80: 9 | F80: 49.1 | G80: 覆工 | H80: アーチ（天端） | I80: 漏水 | J80: 漏水 | M80: 4 | N80: － | O80: － | P80: － | Q80: Ⅱa | R80: 否 | S80: 要監視 | T80: 継続 | U80: 監視（重点） | Y80: －
C81: 10 | E81: 1 | F81: 57 | G81: 覆工 | H81: 横断目地（右側） | I81: 漏水 | J81: 補修・補強材の破損 | M81: 0.02 | N81: 0.03 | O81: Ⅱa | P81: － | Q81: Ⅱa | R81: 否 | S81: 要監視 | T81: 継続 | U81: 監視（重点） | Y81: －
C82: 10 | E82: 2 | F82: 51.2 | G82: 覆工 | H82: アーチ（左側） | I82: 漏水 | J82: 漏水 | M82: 22.95 | N82: 記載なし | O82: Ⅱb | P82: － | Q82: Ⅱb | R82: 否 | S82: 要監視 | T82: 継続 | U82: 監視（日常巡視） | Y82: －
C83: 10 | E83: 3 | F83: 51.2 | G83: 覆工 | H83: 水平打ち継ぎ目（右側） | I83: 材質劣化 | J83: うき・はく離 | M83: － | N83: 0.29 | O83: Ⅱb | P83: － | Q83: Ⅰ | R83: 否 | S83: 否 | T83: 済 | U83: はく落防止工(FRPネット)[実施年度:不明] | Y83: －
C84: 10 | E84: 4 | F84: 55 | G84: 覆工 | H84: 水平打ち継ぎ目（右側） | I84: 材質劣化 | J84: うき・はく離 | M84: － | N84: 0.1 | O84: Ⅱb | P84: － | Q84: Ⅰ | R84: 否 | S84: 否 | T84: 済 | U84: はく落防止工(FRPネット)[実施年度:不明] | Y84: －
C85: 11 | E85: 1 | F85: 57.6 | G85: 覆工 | H85: アーチ（左側） | I85: 漏水 | J85: 漏水 | M85: 44.84 | N85: 記載なし | O85: Ⅱb | P85: － | Q85: Ⅱb | R85: 否 | S85: 要監視 | T85: 継続 | U85: 監視（日常巡視） | Y85: －
C86: 11 | E86: 2 | F86: 58.8 | G86: 覆工 | H86: 側壁（右側） | I86: 漏水 | J86: 漏水 | M86: 0.7 | N86: 記載なし | O86: Ⅱb | P86: － | Q86: Ⅱb | R86: 否 | S86: 要監視 | T86: 継続 | U86: 監視（日常巡視） | Y86: －
C87: 11 | E87: 3 | F87: 63.4 | G87: 覆工 | H87: 横断目地（右側） | I87: 漏水 | J87: 漏水 | M87: 1.5 | N87: 記載なし | O87: Ⅱb | P87: － | Q87: Ⅱb | R87: 否 | S87: 要監視 | T87: 継続 | U87: 監視（日常巡視） | Y87: －
C88: 11 | E88: 4 | F88: 63.4 | G88: 覆工 | H88: 横断目地（右側） | I88: 漏水 | J88: 補修・補強材の破損 | M88: 0.01 | N88: － | O88: － | P88: － | Q88: Ⅱb | R88: 否 | S88: 要監視 | T88: 継続 | U88: 監視（日常巡視） | Y88: －
C89: 12 | E89: 1 | F89: 69.2 | G89: 覆工 | H89: 横断目地（天端） | I89: 材質劣化 | J89: うき・はく離 | M89: － | N89: 0.19 | O89: Ⅱa | P89: － | Q89: Ⅰ | R89: 否 | S89: 否 | T89: 済 | U89: はく落防止工(FRPネット)[実施年度:不明] | Y89: －
C90: 12 | E90: 2 | F90: 64.7 | G90: 覆工 | H90: 側壁（右側） | I90: 漏水 | J90: 漏水 | M90: 1.2 | N90: 記載なし | O90: Ⅱb | P90: － | Q90: Ⅱb | R90: 否 | S90: 要監視 | T90: 継続 | U90: 監視（日常巡視） | Y90: －
C91: 12 | E91: 3 | F91: 65.5 | G91: 覆工 | H91: 水平打ち継ぎ目（右側） | I91: 材質劣化 | J91: うき・はく離 | M91: － | N91: 0.14 | O91: Ⅱb | P91: － | Q91: Ⅰ | R91: 否 | S91: 否 | T91: 済 | U91: はく落防止工(FRPネット)[実施年度:不明] | Y91: －
C92: 12 | E92: 4 | F92: 68.8 | G92: 覆工 | H92: 横断目地（左側） | I92: 材質劣化 | J92: 補修・補強材の破損 | M92: 0.6 | N92: 0.04 | O92: Ⅱa | P92: － | Q92: Ⅱa | R92: 否 | S92: 要監視 | T92: 継続 | U92: 監視（重点） | Y92: －
C93: 12 | E93: 5 | F93: 69.2 | G93: 覆工 | H93: 横断目地（右側） | I93: 漏水 | J93: 漏水 | M93: 1.45 | N93: 記載なし | O93: Ⅱb | P93: － | Q93: Ⅱb | R93: 否 | S93: 要監視 | T93: 継続 | U93: 監視（日常巡視） | Y93: －
C94: 13 | E94: 1 | F94: 72.7 | G94: 覆工 | H94: アーチ（天端） | I94: 漏水 | J94: 漏水 | M94: 3.85 | N94: 記載なし | O94: Ⅱb | P94: － | Q94: Ⅱa | R94: 否 | S94: 要監視 | T94: 継続 | U94: 監視（重点） | Y94: －
C95: 13 | E95: 2 | F95: 69.3 | G95: 覆工 | H95: 横断目地（天端） | I95: 材質劣化 | J95: うき・はく離 | M95: － | N95: 0.23 | O95: Ⅱa | P95: － | Q95: Ⅰ | R95: 否 | S95: 否 | T95: 済 | U95: はく落防止工(FRPネット)[実施年度:不明] | Y95: －
C96: 13 | E96: 3 | F96: 73.8 | G96: 覆工 | H96: 横断目地（右側） | I96: 材質劣化 | J96: うき・はく離 | M96: － | N96: 0.2 | O96: Ⅱa | P96: － | Q96: Ⅰ | R96: 否 | S96: 否 | T96: 済 | U96: はく落防止工(FRPネット)[実施年度:不明] | Y96: －
C97: 13 | E97: 4 | F97: 71 | G97: 覆工 | H97: アーチ（左側） | I97: 材質劣化 | J97: 補修・補強材の破損 | M97: 1.6 | N97: － | O97: － | P97: － | Q97: Ⅱa | R97: 否 | S97: 要監視 | T97: 継続 | U97: 監視（重点） | Y97: －
C98: 13 | E98: 5 | F98: 70.7 | G98: 覆工 | H98: アーチ（天端） | I98: 材質劣化 | J98: 鋼材腐食 | M98: 0.9 | N98: － | O98: － | P98: － | Q98: Ⅱb | R98: 否 | S98: 要監視 | T98: 継続 | U98: 監視（日常巡視） | Y98: －
C99: 14 | E99: 1 | F99: 73.9 | G99: 覆工 | H99: 横断目地（右側） | I99: 材質劣化 | J99: うき・はく離 | M99: － | N99: 0.05 | O99: Ⅱa | P99: － | Q99: Ⅰ | R99: 否 | S99: 否 | T99: 済 | U99: はく落防止工(FRPネット)[実施年度:不明] | Y99: －
C100: 14 | E100: 2 | F100: 76.3 | G100: 覆工 | H100: 水平打ち継ぎ目（右側） | I100: 材質劣化 | J100: うき・はく離 | M100: － | N100: 0.08 | O100: Ⅱa | P100: － | Q100: Ⅰ | R100: 否 | S100: 否 | T100: 済 | U100: はく落防止工(FRPネット)[実施年度:不明] | Y100: －
C101: 14 | E101: 3 | F101: 78.2 | G101: 覆工 | H101: 横断目地（左側） | I101: 漏水 | J101: 補修・補強材の破損 | M101: 0.03 | N101: 0.03 | O101: Ⅱb | P101: － | Q101: Ⅱb | R101: 否 | S101: 要監視 | T101: 継続 | U101: 監視（日常巡視） | Y101: －
...

Sheet 様式C-1-2
B2: ■定期点検記録様式 定期点検結果総括表（トンネル内附属物等の取付状態） 【様式C-1-2】
B3: フリガナ | F3: (ﾋｴﾊﾞﾗｽﾞｲﾄﾞｳ) | J3: 路線名 | K3: 一般国道187号 | M3: 定期点検実施者 | O3: 応用地質（株） | S3: 定期点検年月日 | W3: 45840
B4: 名 称 | F4: 稗原隧道 | J4: 管理者名 | K4: 山口県岩国土木建築事務所 | O4: 太田 裕之
B5: 定期点検結果 | C5: 覆工 スパン 番号 | E5: 異常 番号 | F5: 距離 （m） | G5: 異常部位 | J5: 異 常 の 内 容 | N5: 定期点検結果 | P5: 応急措置の 実施状況 | V5: 対応方針 ・ 特記事項
G6: 対象箇所 | I6: 部位区分 | J6: 異常種類 | L6: 異常の発生範囲の規模 | N6: 異常判定区分 | P6: 実施 | Q6: 応急措置の内容
N7: 応急措置前 | O7: 応急措置後
C42: ※ 異常判定区分×について記入すること。また、応急措置により○と判定された箇所も記入すること。
C43: ※ 応急措置を実施しないで判定した箇所の異常判定区分は、異常判定区分の応急措置後の欄に記入すること。
C44: ※ 異常の除去が不完全で、緊急対応が必要な場合は対応方針欄に記入すること。
C45: ※ １スパンの覆工に複数の異常がある場合は、異常箇所毎に記入すること。
C46: ※ 行が不足する場合は、適時、表の行を増やすこと。

Sheet 様式C-2
B2: ■定期点検記録様式 状態の把握の内容 【様式C-2】
B3: フリガナ | E3: (ﾋｴﾊﾞﾗｽﾞｲﾄﾞｳ) | H3: 路線名 | J3: 一般国道187号 | M3: 定期点検実施者 | Q3: 応用地質（株） | U3: 定期点検年月日 | X3: 45840
B4: 名 称 | E4: 稗原隧道 | H4: 管理者名 | J4: 山口県岩国土木建築事務所 | Q4: 太田 裕之
B5: 状態の把握の内容 | C5: 覆工スパン 番号 | E5: 変状 番号 | F5: 状態の把握の内容
F6: 年月日 | H6: 内容 | O6: 結果 | Y6: 対策区分の 判定
B22: 注）状態の把握において、微破壊・非破壊検査や各種試験等を実施した場合について記載する。
B23: ※ 行が不足する場合は、適時、表の行を増やすこと。

Sheet 様式D-1-1_001
B2: ■定期点検記録様式 変状写真台帳【様式D-1-1】 | R2: 施設ID | T2: 34.28772,131.96019
B3: フリガナ | E3: (ﾋｴﾊﾞﾗｽﾞｲﾄﾞｳ) | H3: 路 線 名 | J3: 一般国道187号 | M3: 定期点検実施者 | P3: 応用地質（株） | S3: 定期点検年月日 | U3: 45840
B4: 名 称 | E4: 稗原隧道 | H4: 管理者名 | J4: 山口県岩国土木建築事務所 | P4: 太田 裕之
B5: 写真 番号 | C5: 覆工スパン 番号 | E5: PS | F5: 余 白 | M5: 写真 番号 | N5: 覆工スパン 番号 | P5: PS | Q5: 余 白
C6: 変状番号 | E6: 1 | N6: 変状番号 | P6: 2
B7: 変状 部位 | C7: 対象箇所 | E7: 覆工 | M7: 変状 部位 | N7: 対象箇所 | P7: 覆工
C8: 部位区分 | E8: アーチ（左側） | N8: 部位区分 | P8: アーチ（天端）
B9: 変状種類 | E9: うき・はく離 | M9: 変状種類 | P9: うき・はく離
B10: 対策 区分 | C10: 変状区分 | E10: 材質劣化 | M10: 対策 区分 | N10: 変状区分 | P10: 材質劣化
C11: 応急措置前 | E11: － | N11: 応急措置前 | P11: －
C12: 応急措置後 | E12: Ⅰ | N12: 応急措置後 | P12: Ⅲ
B13: 変状の発生範囲及び規模 | E13: － | H13: 前回変状の発生範囲及び規模 | J13: 0.14㎡（0.15m×0.9m） | M13: 変状の発生範囲及び規模 | P13: 0.06㎡（0.6m×0.1m） | S13: 前回変状の発生範囲及び規模 | U13: なし
B14: 対策履歴 | E14: はく落防止工(FRPネット) | H14: 実施状況（実施日） | J14: － | M14: 対策履歴 | P14: なし | S14: 実施状況（実施日） | U14: －
B15: メモ | E15: 対策済み 【前回定期点検 Ⅱa判定】 | M15: メモ | P15: 豆板、ぐらつきあり、打音異常あり、浸透固化材塗布 【今回新たに確認】
B16: 写真 番号 | C16: 覆工スパン 番号 | F16: 余 白 | M16: 写真 番号 | N16: 覆工スパン 番号 | Q16: 余 白
C17: 変状番号 | N17: 変状番号
B18: 変状 部位 | C18: 対象箇所 | M18: 変状 部位 | N18: 対象箇所
C19: 部位区分 | N19: 部位区分
B20: 変状種類 | M20: 変状種類
B21: 対策 区分 | C21: 変状区分 | M21: 対策 区分 | N21: 変状区分
C22: 応急措置前 | N22: 応急措置前
C23: 応急措置後 | N23: 応急措置後
B24: 変状の発生範囲及び規模 | H24: 前回変状の発生範囲及び規模 | M24: 変状の発生範囲及び規模 | S24: 前回変状の発生範囲及び規模
B25: 対策履歴 | H25: 実施状況（実施日） | M25: 対策履歴 | S25: 実施状況（実施日）
B26: メモ | M26: メモ
C27: ※ 応急措置後の対策区分について添付すること。また、点検前に 実施された措置によりⅠと判定された箇所も添付すること。 | N27: ※ 変状の発生範囲の規模とは、対策を行う際に参考となる変状の長さや面積をいう。
N28: ※ 応急措置を実施しないで決定した変状の対策区分は、対策区分の応急措置後の欄に記入すること。
C29: ※ たたき落としを実施した場合は、実施後の写真を添付すること。 | N29: ※ 変状の発生範囲の規模は、面積・寸法を記載すること。(ひび割れ幅のみmmとし、その他をm表記とする)
C30: ※ 変状数に準じてシートを追加すること。（１シートに１ページとすること。） | N30: ※ 構造用鋼材以外の異物に伴ううき・はく離については、メモ欄に異物の概要を記入すること。

Sheet 様式D-1-1_002
B2: ■定期点検記録様式 変状写真台帳【様式D-1-1】 | R2: 施設ID | T2: 34.28772,131.96019
B3: フリガナ | E3: (ﾋｴﾊﾞﾗｽﾞｲﾄﾞｳ) | H3: 路 線 名 | J3: 一般国道187号 | M3: 定期点検実施者 | P3: 応用地質（株） | S3: 定期点検年月日 | U3: 45840
B4: 名 称 | E4: 稗原隧道 | H4: 管理者名 | J4: 山口県岩国土木建築事務所 | P4: 太田 裕之
B5: 写真 番号 | C5: 覆工スパン 番号 | E5: 2 | F5: 余 白 | M5: 写真 番号 | N5: 覆工スパン 番号 | P5: 2 | Q5: 余 白
C6: 変状番号 | E6: 1 | N6: 変状番号 | P6: 2
B7: 変状 部位 | C7: 対象箇所 | E7: 覆工 | M7: 変状 部位 | N7: 対象箇所 | P7: 覆工
C8: 部位区分 | E8: アーチ（右側） | N8: 部位区分 | P8: 横断目地（右側）
B9: 変状種類 | E9: うき・はく離 | M9: 変状種類 | P9: 補修・補強材の破損
B10: 対策 区分 | C10: 変状区分 | E10: 材質劣化 | M10: 対策 区分 | N10: 変状区分 | P10: 漏水
C11: 応急措置前 | E11: － | N11: 応急措置前 | P11: －
C12: 応急措置後 | E12: Ⅰ | N12: 応急措置後 | P12: Ⅱb
B13: 変状の発生範囲及び規模 | E13: － | H13: 前回変状の発生範囲及び規模 | J13: 0.02㎡（0.1m×0.15m） | M13: 変状の発生範囲及び規模 | P13: 0.03㎡（0.3m×0.1m） | S13: 前回変状の発生範囲及び規模 | U13: 0.13㎡（1.3m×0.1m）
B14: 対策履歴 | E14: はく落防止工(FRPネット) | H14: 実施状況（実施日） | J14: － | M14: 対策履歴 | P14: なし | S14: 実施状況（実施日） | U14: －
B15: メモ | E15: 対策済み 【前回定期点検 Ⅱa判定】 | M15: メモ | P15: 導水工の劣化、変状種類変更、軽微な為再判定 【前回定期点検 Ⅱa判定】
B16: 写真 番号 | C16: 覆工スパン 番号 | E16: 2 | F16: 余 白 | M16: 写真 番号 | N16: 覆工スパン 番号 | P16: 2 | Q16: 余 白
C17: 変状番号 | E17: 3 | N17: 変状番号 | P17: 4
B18: 変状 部位 | C18: 対象箇所 | E18: 覆工 | M18: 変状 部位 | N18: 対象箇所 | P18: 覆工
C19: 部位区分 | E19: 横断目地（左側） | N19: 部位区分 | P19: アーチ（左側）
B20: 変状種類 | E20: 漏水 | M20: 変状種類 | P20: 漏水
B21: 対策 区分 | C21: 変状区分 | E21: 漏水 | M21: 対策 区分 | N21: 変状区分 | P21: 漏水
C22: 応急措置前 | E22: － | N22: 応急措置前 | P22: －
C23: 応急措置後 | E23: Ⅱb | N23: 応急措置後 | P23: Ⅱb
B24: 変状の発生範囲及び規模 | E24: 4㎡（8m×0.5m） | H24: 前回変状の発生範囲及び規模 | J24: 記載なし | M24: 変状の発生範囲及び規模 | P24: 14.82㎡（5.7m×2.6m） | S24: 前回変状の発生範囲及び規模 | U24: 記載なし
B25: 対策履歴 | E25: なし | H25: 実施状況（実施日） | J25: － | M25: 対策履歴 | P25: なし | S25: 実施状況（実施日） | U25: －
B26: メモ | E26: 導水工から漏水、にじみ程度 【前回定期点検 Ⅱb判定】 | M26: メモ | P26: 導水工から漏水、にじみ程度(複数)、遊離石灰を伴う 【前回定期点検 Ⅱb判定】
C27: ※ 応急措置後の対策区分について添付すること。また、点検前に 実施された措置によりⅠと判定された箇所も添付すること。 | N27: ※ 変状の発生範囲の規模とは、対策を行う際に参考となる変状の長さや面積をいう。
N28: ※ 応急措置を実施しないで決定した変状の対策区分は、対策区分の応急措置後の欄に記入すること。
C29: ※ たたき落としを実施した場合は、実施後の写真を添付すること。 | N29: ※ 変状の発生範囲の規模は、面積・寸法を記載すること。(ひび割れ幅のみmmとし、その他をm表記とする)
C30: ※ 変状数に準じてシートを追加すること。（１シートに１ページとすること。） | N30: ※ 構造用鋼材以外の異物に伴ううき・はく離については、メモ欄に異物の概要を記入すること。

Sheet 様式D-1-1_003
B2: ■定期点検記録様式 変状写真台帳【様式D-1-1】 | R2: 施設ID | T2: 34.28772,131.96019
B3: フリガナ | E3: (ﾋｴﾊﾞﾗｽﾞｲﾄﾞｳ) | H3: 路 線 名 | J3: 一般国道187号 | M3: 定期点検実施者 | P3: 応用地質（株） | S3: 定期点検年月日 | U3: 45840
B4: 名 称 | E4: 稗原隧道 | H4: 管理者名 | J4: 山口県岩国土木建築事務所 | P4: 太田 裕之
B5: 写真 番号 | C5: 覆工スパン 番号 | E5: 2 | F5: 余 白 | M5: 写真 番号 | N5: 覆工スパン 番号 | P5: 2 | Q5: 余 白
C6: 変状番号 | E6: 5 | N6: 変状番号 | P6: 6
B7: 変状 部位 | C7: 対象箇所 | E7: 覆工 | M7: 変状 部位 | N7: 対象箇所 | P7: 覆工
C8: 部位区分 | E8: 横断目地（左側） | N8: 部位区分 | P8: 水平打ち継ぎ目（左側）
B9: 変状種類 | E9: うき・はく離 | M9: 変状種類 | P9: うき・はく離
B10: 対策 区分 | C10: 変状区分 | E10: 材質劣化 | M10: 対策 区分 | N10: 変状区分 | P10: 材質劣化
C11: 応急措置前 | E11: － | N11: 応急措置前 | P11: －
C12: 応急措置後 | E12: Ⅰ | N12: 応急措置後 | P12: Ⅰ
B13: 変状の発生範囲及び規模 | E13: － | H13: 前回変状の発生範囲及び規模 | J13: 0.07㎡（0.7m×0.1m） | M13: 変状の発生範囲及び規模 | P13: － | S13: 前回変状の発生範囲及び規模 | U13: 0.05㎡（0.15m×0.35m）
B14: 対策履歴 | E14: はく落防止工(FRPネット) | H14: 実施状況（実施日） | J14: － | M14: 対策履歴 | P14: はく落防止工(FRPネット) | S14: 実施状況（実施日） | U14: －
B15: メモ | E15: 対策済み 【前回定期点検 Ⅱa判定】 | M15: メモ | P15: 対策済み 【前回定期点検 Ⅱb判定】
B16: 写真 番号 | C16: 覆工スパン 番号 | E16: 2 | F16: 余 白 | M16: 写真 番号 | N16: 覆工スパン 番号 | P16: 2 | Q16: 余 白
C17: 変状番号 | E17: 7 | N17: 変状番号 | P17: 8
B18: 変状 部位 | C18: 対象箇所 | E18: 覆工 | M18: 変状 部位 | N18: 対象箇所 | P18: 覆工
C19: 部位区分 | E19: 水平打ち継ぎ目（右側） | N19: 部位区分 | P19: 横断目地（天端）
B20: 変状種類 | E20: うき・はく離 | M20: 変状種類 | P20: 補修・補強材の破損
B21: 対策 区分 | C21: 変状区分 | E21: 材質劣化 | M21: 対策 区分 | N21: 変状区分 | P21: 漏水
C22: 応急措置前 | E22: － | N22: 応急措置前 | P22: －
C23: 応急措置後 | E23: Ⅰ | N23: 応急措置後 | P23: Ⅱb
B24: 変状の発生範囲及び規模 | E24: － | H24: 前回変状の発生範囲及び規模 | J24: 0.68㎡（0.15m×4.5m） | M24: 変状の発生範囲及び規模 | P24: 0.07㎡（0.7m×0.1m） | S24: 前回変状の発生範囲及び規模 | U24: なし
B25: 対策履歴 | E25: はく落防止工(FRPネット) | H25: 実施状況（実施日） | J25: － | M25: 対策履歴 | P25: なし | S25: 実施状況（実施日） | U25: －
B26: メモ | E26: 対策済み 【前回定期点検 Ⅱb判定】 | M26: メモ | P26: 導水工の劣化 【今回新たに確認】
C27: ※ 応急措置後の対策区分について添付すること。また、点検前に 実施された措置によりⅠと判定された箇所も添付すること。 | N27: ※ 変状の発生範囲の規模とは、対策を行う際に参考となる変状の長さや面積をいう。
N28: ※ 応急措置を実施しないで決定した変状の対策区分は、対策区分の応急措置後の欄に記入すること。
C29: ※ たたき落としを実施した場合は、実施後の写真を添付すること。 | N29: ※ 変状の発生範囲の規模は、面積・寸法を記載すること。(ひび割れ幅のみmmとし、その他をm表記とする)
C30: ※ 変状数に準じてシートを追加すること。（１シートに１ページとすること。） | N30: ※ 構造用鋼材以外の異物に伴ううき・はく離については、メモ欄に異物の概要を記入すること。

Sheet 様式D-1-1_004
B2: ■定期点検記録様式 変状写真台帳【様式D-1-1】 | R2: 施設ID | T2: 34.28772,131.96019
B3: フリガナ | E3: (ﾋｴﾊﾞﾗｽﾞｲﾄﾞｳ) | H3: 路 線 名 | J3: 一般国道187号 | M3: 定期点検実施者 | P3: 応用地質（株） | S3: 定期点検年月日 | U3: 45840
B4: 名 称 | E4: 稗原隧道 | H4: 管理者名 | J4: 山口県岩国土木建築事務所 | P4: 太田 裕之
B5: 写真 番号 | C5: 覆工スパン 番号 | E5: 3 | F5: 余 白 | M5: 写真 番号 | N5: 覆工スパン 番号 | P5: 3 | Q5: 余 白
C6: 変状番号 | E6: 1 | N6: 変状番号 | P6: 2
B7: 変状 部位 | C7: 対象箇所 | E7: 覆工 | M7: 変状 部位 | N7: 対象箇所 | P7: 覆工
C8: 部位区分 | E8: アーチ（天端） | N8: 部位区分 | P8: 横断目地（左側）
B9: 変状種類 | E9: 漏水 | M9: 変状種類 | P9: 漏水
B10: 対策 区分 | C10: 変状区分 | E10: 漏水 | M10: 対策 区分 | N10: 変状区分 | P10: 漏水
C11: 応急措置前 | E11: － | N11: 応急措置前 | P11: －
C12: 応急措置後 | E12: Ⅱb | N12: 応急措置後 | P12: Ⅱb
B13: 変状の発生範囲及び規模 | E13: 7.5㎡（7.5m×1m） | H13: 前回変状の発生範囲及び規模 | J13: 記載なし | M13: 変状の発生範囲及び規模 | P13: 1.8㎡（3.6m×0.5m） | S13: 前回変状の発生範囲及び規模 | U13: 記載なし
B14: 対策履歴 | E14: なし | H14: 実施状況（実施日） | J14: － | M14: 対策履歴 | P14: なし | S14: 実施状況（実施日） | U14: －
B15: メモ | E15: ひび割れから漏水跡、遊離石灰を伴う(前回点検時遊離石灰のみ) 【前回定期点検 Ⅱb判定】 | M15: メモ | P15: 導水工から漏水、にじみ程度 【前回定期点検 Ⅱb判定】
B16: 写真 番号 | C16: 覆工スパン 番号 | E16: 3 | F16: 余 白 | M16: 写真 番号 | N16: 覆工スパン 番号 | P16: 3 | Q16: 余 白
C17: 変状番号 | E17: 3 | N17: 変状番号 | P17: 4
B18: 変状 部位 | C18: 対象箇所 | E18: 覆工 | M18: 変状 部位 | N18: 対象箇所 | P18: 覆工
C19: 部位区分 | E19: 横断目地（天端） | N19: 部位区分 | P19: アーチ（天端）
B20: 変状種類 | E20: うき・はく離 | M20: 変状種類 | P20: うき・はく離
B21: 対策 区分 | C21: 変状区分 | E21: 材質劣化 | M21: 対策 区分 | N21: 変状区分 | P21: 材質劣化
C22: 応急措置前 | E22: － | N22: 応急措置前 | P22: －
C23: 応急措置後 | E23: Ⅰ | N23: 応急措置後 | P23: Ⅱa
B24: 変状の発生範囲及び規模 | E24: － | H24: 前回変状の発生範囲及び規模 | J24: 0.55㎡（1.1m×0.5m） | M24: 変状の発生範囲及び規模 | P24: 0.04㎡（0.1m×0.35m） | S24: 前回変状の発生範囲及び規模 | U24: 0.04㎡（0.1m×0.35m）
B25: 対策履歴 | E25: はく落防止工(FRPネット) | H25: 実施状況（実施日） | J25: － | M25: 対策履歴 | P25: なし | S25: 実施状況（実施日） | U25: －
B26: メモ | E26: 対策済み 【前回定期点検 Ⅱa判定】 | M26: メモ | P26: うき、ひび割れを伴う、打音異常あり、浸透固化材塗布 【前回定期点検 Ⅱa判定】
C27: ※ 応急措置後の対策区分について添付すること。また、点検前に 実施された措置によりⅠと判定された箇所も添付すること。 | N27: ※ 変状の発生範囲の規模とは、対策を行う際に参考となる変状の長さや面積をいう。
N28: ※ 応急措置を実施しないで決定した変状の対策区分は、対策区分の応急措置後の欄に記入すること。
C29: ※ たたき落としを実施した場合は、実施後の写真を添付すること。 | N29: ※ 変状の発生範囲の規模は、面積・寸法を記載すること。(ひび割れ幅のみmmとし、その他をm表記とする)
C30: ※ 変状数に準じてシートを追加すること。（１シートに１ページとすること。） | N30: ※ 構造用鋼材以外の異物に伴ううき・はく離については、メモ欄に異物の概要を記入すること。

Sheet 様式D-1-1_005
B2: ■定期点検記録様式 変状写真台帳【様式D-1-1】 | R2: 施設ID | T2: 34.28772,131.96019
B3: フリガナ | E3: (ﾋｴﾊﾞﾗｽﾞｲﾄﾞｳ) | H3: 路 線 名 | J3: 一般国道187号 | M3: 定期点検実施者 | P3: 応用地質（株） | S3: 定期点検年月日 | U3: 45840
B4: 名 称 | E4: 稗原隧道 | H4: 管理者名 | J4: 山口県岩国土木建築事務所 | P4: 太田 裕之
B5: 写真 番号 | C5: 覆工スパン 番号 | E5: 3 | F5: 余 白 | M5: 写真 番号 | N5: 覆工スパン 番号 | P5: 3 | Q5: 余 白
C6: 変状番号 | E6: 5 | N6: 変状番号 | P6: 6
B7: 変状 部位 | C7: 対象箇所 | E7: 覆工 | M7: 変状 部位 | N7: 対象箇所 | P7: 覆工
C8: 部位区分 | E8: 水平打ち継ぎ目（左側） | N8: 部位区分 | P8: 水平打ち継ぎ目（右側）
B9: 変状種類 | E9: うき・はく離 | M9: 変状種類 | P9: うき・はく離
B10: 対策 区分 | C10: 変状区分 | E10: 材質劣化 | M10: 対策 区分 | N10: 変状区分 | P10: 材質劣化
C11: 応急措置前 | E11: － | N11: 応急措置前 | P11: －
C12: 応急措置後 | E12: Ⅰ | N12: 応急措置後 | P12: Ⅰ
B13: 変状の発生範囲及び規模 | E13: － | H13: 前回変状の発生範囲及び規模 | J13: 0.65㎡（0.15m×4.3m） | M13: 変状の発生範囲及び規模 | P13: － | S13: 前回変状の発生範囲及び規模 | U13: 0.45㎡（0.15m×3m）
B14: 対策履歴 | E14: はく落防止工(FRPネット) | H14: 実施状況（実施日） | J14: － | M14: 対策履歴 | P14: はく落防止工(FRPネット) | S14: 実施状況（実施日） | U14: －
B15: メモ | E15: 対策済み 【前回定期点検 Ⅱb判定】 | M15: メモ | P15: 対策済み 【前回定期点検 Ⅱb判定】
B16: 写真 番号 | C16: 覆工スパン 番号 | E16: 3 | F16: 余 白 | M16: 写真 番号 | N16: 覆工スパン 番号 | P16: 3 | Q16: 余 白
C17: 変状番号 | E17: 7 | N17: 変状番号 | P17: 8
B18: 変状 部位 | C18: 対象箇所 | E18: 覆工 | M18: 変状 部位 | N18: 対象箇所 | P18: 覆工
C19: 部位区分 | E19: 水平打ち継ぎ目（右側） | N19: 部位区分 | P19: 横断目地（右側）
B20: 変状種類 | E20: うき・はく離 | M20: 変状種類 | P20: 補修・補強材の破損
B21: 対策 区分 | C21: 変状区分 | E21: 材質劣化 | M21: 対策 区分 | N21: 変状区分 | P21: 漏水
C22: 応急措置前 | E22: － | N22: 応急措置前 | P22: －
C23: 応急措置後 | E23: Ⅰ | N23: 応急措置後 | P23: Ⅱb
B24: 変状の発生範囲及び規模 | E24: － | H24: 前回変状の発生範囲及び規模 | J24: 0.23㎡（0.15m×1.5m） | M24: 変状の発生範囲及び規模 | P24: 0.08㎡（0.5m×0.15m） | S24: 前回変状の発生範囲及び規模 | U24: なし
B25: 対策履歴 | E25: はく落防止工(FRPネット) | H25: 実施状況（実施日） | J25: － | M25: 対策履歴 | P25: なし | S25: 実施状況（実施日） | U25: －
B26: メモ | E26: 対策済み 【前回定期点検 Ⅱb判定】 | M26: メモ | P26: 導水工の劣化 【今回新たに確認】
C27: ※ 応急措置後の対策区分について添付すること。また、点検前に 実施された措置によりⅠと判定された箇所も添付すること。 | N27: ※ 変状の発生範囲の規模とは、対策を行う際に参考となる変状の長さや面積をいう。
N28: ※ 応急措置を実施しないで決定した変状の対策区分は、対策区分の応急措置後の欄に記入すること。
C29: ※ たたき落としを実施した場合は、実施後の写真を添付すること。 | N29: ※ 変状の発生範囲の規模は、面積・寸法を記載すること。(ひび割れ幅のみmmとし、その他をm表記とする)
C30: ※ 変状数に準じてシートを追加すること。（１シートに１ページとすること。） | N30: ※ 構造用鋼材以外の異物に伴ううき・はく離については、メモ欄に異物の概要を記入すること。

Sheet 様式D-1-1_006
B2: ■定期点検記録様式 変状写真台帳【様式D-1-1】 | R2: 施設ID | T2: 34.28772,131.96019
B3: フリガナ | E3: (ﾋｴﾊﾞﾗｽﾞｲﾄﾞｳ) | H3: 路 線 名 | J3: 一般国道187号 | M3: 定期点検実施者 | P3: 応用地質（株） | S3: 定期点検年月日 | U3: 45840
B4: 名 称 | E4: 稗原隧道 | H4: 管理者名 | J4: 山口県岩国土木建築事務所 | P4: 太田 裕之
B5: 写真 番号 | C5: 覆工スパン 番号 | E5: 4 | F5: 余 白 | M5: 写真 番号 | N5: 覆工スパン 番号 | P5: 4 | Q5: 余 白
C6: 変状番号 | E6: 1 | N6: 変状番号 | P6: 2
B7: 変状 部位 | C7: 対象箇所 | E7: 覆工 | M7: 変状 部位 | N7: 対象箇所 | P7: 覆工
C8: 部位区分 | E8: アーチ（右側） | N8: 部位区分 | P8: 横断目地（天端）
B9: 変状種類 | E9: 鋼材腐食 | M9: 変状種類 | P9: うき・はく離
B10: 対策 区分 | C10: 変状区分 | E10: 材質劣化 | M10: 対策 区分 | N10: 変状区分 | P10: 材質劣化
C11: 応急措置前 | E11: Ⅱb | N11: 応急措置前 | P11: －
C12: 応急措置後 | E12: Ⅰ | N12: 応急措置後 | P12: Ⅰ
B13: 変状の発生範囲及び規模 | E13: 0.01㎡（0.1m×0.1m） | H13: 前回変状の発生範囲及び規模 | J13: 0.01㎡（0.1m×0.1m） | M13: 変状の発生範囲及び規模 | P13: － | S13: 前回変状の発生範囲及び規模 | U13: 0.65㎡（1.3m×0.5m）
B14: 対策履歴 | E14: なし | H14: 実施状況（実施日） | J14: － | M14: 対策履歴 | P14: はく落防止工(FRPネット) | S14: 実施状況（実施日） | U14: －
B15: メモ | E15: 鋼材露出(深さ10mm未満)、部分的に鋼材の露出あり(表面的な腐食)、周辺にうきなし、今回点検時に番線撤去 【前回定期点検 Ⅱb判定】 | M15: メモ | P15: 対策済み 【前回定期点検 Ⅱa判定】
B16: 写真 番号 | C16: 覆工スパン 番号 | E16: 4 | F16: 余 白 | M16: 写真 番号 | N16: 覆工スパン 番号 | P16: 4 | Q16: 余 白
C17: 変状番号 | E17: 3 | N17: 変状番号 | P17: 4
B18: 変状 部位 | C18: 対象箇所 | E18: 覆工 | M18: 変状 部位 | N18: 対象箇所 | P18: 覆工
C19: 部位区分 | E19: 水平打ち継ぎ目（右側） | N19: 部位区分 | P19: 横断目地（天端）
B20: 変状種類 | E20: 補修・補強材の破損 | M20: 変状種類 | P20: 漏水
B21: 対策 区分 | C21: 変状区分 | E21: 漏水 | M21: 対策 区分 | N21: 変状区分 | P21: 漏水
C22: 応急措置前 | E22: － | N22: 応急措置前 | P22: －
C23: 応急措置後 | E23: Ⅱa | N23: 応急措置後 | P23: Ⅱa
B24: 変状の発生範囲及び規模 | E24: 0.12㎡（0.8m×0.15m） | H24: 前回変状の発生範囲及び規模 | J24: 0.12㎡（0.8m×0.15m） | M24: 変状の発生範囲及び規模 | P24: 4㎡（8m×0.5m） | S24: 前回変状の発生範囲及び規模 | U24: 記載なし
B25: 対策履歴 | E25: なし | H25: 実施状況（実施日） | J25: － | M25: 対策履歴 | P25: なし | S25: 実施状況（実施日） | U25: －
B26: メモ | E26: 導水工の劣化、にじみあり、変状種類変更 【前回定期点検 Ⅱa判定】 | M26: メモ | P26: 今回点検時滴水なし、にじみあり(継続監視) 【前回定期点検 Ⅱa判定】
C27: ※ 応急措置後の対策区分について添付すること。また、点検前に 実施された措置によりⅠと判定された箇所も添付すること。 | N27: ※ 変状の発生範囲の規模とは、対策を行う際に参考となる変状の長さや面積をいう。
N28: ※ 応急措置を実施しないで決定した変状の対策区分は、対策区分の応急措置後の欄に記入すること。
C29: ※ たたき落としを実施した場合は、実施後の写真を添付すること。 | N29: ※ 変状の発生範囲の規模は、面積・寸法を記載すること。(ひび割れ幅のみmmとし、その他をm表記とする)
C30: ※ 変状数に準じてシートを追加すること。（１シートに１ページとすること。） | N30: ※ 構造用鋼材以外の異物に伴ううき・はく離については、メモ欄に異物の概要を記入すること。

Sheet 様式D-1-1_007
B2: ■定期点検記録様式 変状写真台帳【様式D-1-1】 | R2: 施設ID | T2: 34.28772,131.96019
B3: フリガナ | E3: (ﾋｴﾊﾞﾗｽﾞｲﾄﾞｳ) | H3: 路 線 名 | J3: 一般国道187号 | M3: 定期点検実施者 | P3: 応用地質（株） | S3: 定期点検年月日 | U3: 45840
B4: 名 称 | E4: 稗原隧道 | H4: 管理者名 | J4: 山口県岩国土木建築事務所 | P4: 太田 裕之
B5: 写真 番号 | C5: 覆工スパン 番号 | E5: 4 | F5: 余 白 | M5: 写真 番号 | N5: 覆工スパン 番号 | P5: 4 | Q5: 余 白
C6: 変状番号 | E6: 5 | N6: 変状番号 | P6: 6
B7: 変状 部位 | C7: 対象箇所 | E7: 覆工 | M7: 変状 部位 | N7: 対象箇所 | P7: 覆工
C8: 部位区分 | E8: 横断目地（左側） | N8: 部位区分 | P8: 水平打ち継ぎ目（左側）
B9: 変状種類 | E9: 補修・補強材の破損 | M9: 変状種類 | P9: うき・はく離
B10: 対策 区分 | C10: 変状区分 | E10: 漏水 | M10: 対策 区分 | N10: 変状区分 | P10: 材質劣化
C11: 応急措置前 | E11: － | N11: 応急措置前 | P11: －
C12: 応急措置後 | E12: Ⅱa | N12: 応急措置後 | P12: Ⅰ
B13: 変状の発生範囲及び規模 | E13: 0.05㎡（0.3m×0.15m） | H13: 前回変状の発生範囲及び規模 | J13: 0.15㎡（1m×0.15m） | M13: 変状の発生範囲及び規模 | P13: － | S13: 前回変状の発生範囲及び規模 | U13: 0.64㎡（0.15m×4.25m）
B14: 対策履歴 | E14: なし | H14: 実施状況（実施日） | J14: － | M14: 対策履歴 | P14: はく落防止工(FRPネット) | S14: 実施状況（実施日） | U14: －
B15: メモ | E15: 導水工の破損、にじみあり、変状種類変更 【前回定期点検 Ⅱa判定】 | M15: メモ | P15: 対策済み 【前回定期点検 Ⅱb判定】
B16: 写真 番号 | C16: 覆工スパン 番号 | E16: 4 | F16: 余 白 | M16: 写真 番号 | N16: 覆工スパン 番号 | P16: 4 | Q16: 余 白
C17: 変状番号 | E17: 7 | N17: 変状番号 | P17: 8
B18: 変状 部位 | C18: 対象箇所 | E18: 覆工 | M18: 変状 部位 | N18: 対象箇所 | P18: 覆工
C19: 部位区分 | E19: 側壁（左側） | N19: 部位区分 | P19: 横断目地（天端）
B20: 変状種類 | E20: 漏水 | M20: 変状種類 | P20: 漏水
B21: 対策 区分 | C21: 変状区分 | E21: 漏水 | M21: 対策 区分 | N21: 変状区分 | P21: 漏水
C22: 応急措置前 | E22: － | N22: 応急措置前 | P22: －
C23: 応急措置後 | E23: Ⅱb | N23: 応急措置後 | P23: Ⅱb
B24: 変状の発生範囲及び規模 | E24: 1.23㎡（2.45m×0.5m） | H24: 前回変状の発生範囲及び規模 | J24: 記載なし | M24: 変状の発生範囲及び規模 | P24: 3.7㎡（7.4m×0.5m） | S24: 前回変状の発生範囲及び規模 | U24: 記載なし
B25: 対策履歴 | E25: なし | H25: 実施状況（実施日） | J25: － | M25: 対策履歴 | P25: なし | S25: 実施状況（実施日） | U25: －
B26: メモ | E26: 導水工から漏水、にじみ程度、遊離石灰を伴う 【前回定期点検 Ⅱb判定】 | M26: メモ | P26: 導水工から漏水、にじみ程度、遊離石灰を伴う 【前回定期点検 Ⅱb判定】
C27: ※ 応急措置後の対策区分について添付すること。また、点検前に 実施された措置によりⅠと判定された箇所も添付すること。 | N27: ※ 変状の発生範囲の規模とは、対策を行う際に参考となる変状の長さや面積をいう。
N28: ※ 応急措置を実施しないで決定した変状の対策区分は、対策区分の応急措置後の欄に記入すること。
C29: ※ たたき落としを実施した場合は、実施後の写真を添付すること。 | N29: ※ 変状の発生範囲の規模は、面積・寸法を記載すること。(ひび割れ幅のみmmとし、その他をm表記とする)
C30: ※ 変状数に準じてシートを追加すること。（１シートに１ページとすること。） | N30: ※ 構造用鋼材以外の異物に伴ううき・はく離については、メモ欄に異物の概要を記入すること。

Sheet 様式D-1-1_008
B2: ■定期点検記録様式 変状写真台帳【様式D-1-1】 | R2: 施設ID | T2: 34.28772,131.96019
B3: フリガナ | E3: (ﾋｴﾊﾞﾗｽﾞｲﾄﾞｳ) | H3: 路 線 名 | J3: 一般国道187号 | M3: 定期点検実施者 | P3: 応用地質（株） | S3: 定期点検年月日 | U3: 45840
B4: 名 称 | E4: 稗原隧道 | H4: 管理者名 | J4: 山口県岩国土木建築事務所 | P4: 太田 裕之
B5: 写真 番号 | C5: 覆工スパン 番号 | E5: 4 | F5: 余 白 | M5: 写真 番号 | N5: 覆工スパン 番号 | Q5: 余 白
C6: 変状番号 | E6: 9 | N6: 変状番号
B7: 変状 部位 | C7: 対象箇所 | E7: 覆工 | M7: 変状 部位 | N7: 対象箇所
C8: 部位区分 | E8: 水平打ち継ぎ目（右側） | N8: 部位区分
B9: 変状種類 | E9: うき・はく離 | M9: 変状種類
B10: 対策 区分 | C10: 変状区分 | E10: 材質劣化 | M10: 対策 区分 | N10: 変状区分
C11: 応急措置前 | E11: － | N11: 応急措置前
C12: 応急措置後 | E12: Ⅰ | N12: 応急措置後
B13: 変状の発生範囲及び規模 | E13: － | H13: 前回変状の発生範囲及び規模 | J13: 0.21㎡（0.15m×1.4m） | M13: 変状の発生範囲及び規模 | S13: 前回変状の発生範囲及び規模
B14: 対策履歴 | E14: はく落防止工(FRPネット) | H14: 実施状況（実施日） | J14: － | M14: 対策履歴 | S14: 実施状況（実施日）
B15: メモ | E15: 対策済み 【前回定期点検 Ⅱb判定】 | M15: メモ
B16: 写真 番号 | C16: 覆工スパン 番号 | F16: 余 白 | M16: 写真 番号 | N16: 覆工スパン 番号 | Q16: 余 白
C17: 変状番号 | N17: 変状番号
B18: 変状 部位 | C18: 対象箇所 | M18: 変状 部位 | N18: 対象箇所
C19: 部位区分 | N19: 部位区分
B20: 変状種類 | M20: 変状種類
B21: 対策 区分 | C21: 変状区分 | M21: 対策 区分 | N21: 変状区分
C22: 応急措置前 | N22: 応急措置前
C23: 応急措置後 | N23: 応急措置後
B24: 変状の発生範囲及び規模 | H24: 前回変状の発生範囲及び規模 | M24: 変状の発生範囲及び規模 | S24: 前回変状の発生範囲及び規模
B25: 対策履歴 | H25: 実施状況（実施日） | M25: 対策履歴 | S25: 実施状況（実施日）
B26: メモ | M26: メモ
C27: ※ 応急措置後の対策区分について添付すること。また、点検前に 実施された措置によりⅠと判定された箇所も添付すること。 | N27: ※ 変状の発生範囲の規模とは、対策を行う際に参考となる変状の長さや面積をいう。
N28: ※ 応急措置を実施しないで決定した変状の対策区分は、対策区分の応急措置後の欄に記入すること。
C29: ※ たたき落としを実施した場合は、実施後の写真を添付すること。 | N29: ※ 変状の発生範囲の規模は、面積・寸法を記載すること。(ひび割れ幅のみmmとし、その他をm表記とする)
C30: ※ 変状数に準じてシートを追加すること。（１シートに１ページとすること。） | N30: ※ 構造用鋼材以外の異物に伴ううき・はく離については、メモ欄に異物の概要を記入すること。

Sheet 様式D-1-1_009
B2: ■定期点検記録様式 変状写真台帳【様式D-1-1】 | R2: 施設ID | T2: 34.28772,131.96019
B3: フリガナ | E3: (ﾋｴﾊﾞﾗｽﾞｲﾄﾞｳ) | H3: 路 線 名 | J3: 一般国道187号 | M3: 定期点検実施者 | P3: 応用地質（株） | S3: 定期点検年月日 | U3: 45840
B4: 名 称 | E4: 稗原隧道 | H4: 管理者名 | J4: 山口県岩国土木建築事務所 | P4: 太田 裕之
B5: 写真 番号 | C5: 覆工スパン 番号 | E5: 5 | F5: 余 白 | M5: 写真 番号 | N5: 覆工スパン 番号 | P5: 5 | Q5: 余 白
C6: 変状番号 | E6: 1 | N6: 変状番号 | P6: 2
B7: 変状 部位 | C7: 対象箇所 | E7: 覆工 | M7: 変状 部位 | N7: 対象箇所 | P7: 覆工
C8: 部位区分 | E8: アーチ（天端） | N8: 部位区分 | P8: アーチ（左側）
B9: 変状種類 | E9: うき・はく離 | M9: 変状種類 | P9: 漏水
B10: 対策 区分 | C10: 変状区分 | E10: 材質劣化 | M10: 対策 区分 | N10: 変状区分 | P10: 漏水
C11: 応急措置前 | E11: － | N11: 応急措置前 | P11: －
C12: 応急措置後 | E12: Ⅰ | N12: 応急措置後 | P12: Ⅱb
B13: 変状の発生範囲及び規模 | E13: － | H13: 前回変状の発生範囲及び規模 | J13: 0.16㎡（0.4m×0.4m） | M13: 変状の発生範囲及び規模 | P13: 14.08㎡（4.4m×3.2m） | S13: 前回変状の発生範囲及び規模 | U13: 記載なし
B14: 対策履歴 | E14: はく落防止工(FRPネット) | H14: 実施状況（実施日） | J14: － | M14: 対策履歴 | P14: なし | S14: 実施状況（実施日） | U14: －
B15: メモ | E15: 対策済み 【前回定期点検 Ⅱa判定】 | M15: メモ | P15: ひび割れから漏水、にじみ程度、遊離石灰を伴う(前回点検時遊離石灰のみ) 【前回定期点検 Ⅱb判定】
B16: 写真 番号 | C16: 覆工スパン 番号 | E16: 5 | F16: 余 白 | M16: 写真 番号 | N16: 覆工スパン 番号 | P16: 5 | Q16: 余 白
C17: 変状番号 | E17: 3 | N17: 変状番号 | P17: 4
B18: 変状 部位 | C18: 対象箇所 | E18: 覆工 | M18: 変状 部位 | N18: 対象箇所 | P18: 覆工
C19: 部位区分 | E19: 横断目地（天端） | N19: 部位区分 | P19: アーチ（右側）
B20: 変状種類 | E20: うき・はく離 | M20: 変状種類 | P20: 漏水
B21: 対策 区分 | C21: 変状区分 | E21: 材質劣化 | M21: 対策 区分 | N21: 変状区分 | P21: 漏水
C22: 応急措置前 | E22: － | N22: 応急措置前 | P22: －
C23: 応急措置後 | E23: Ⅰ | N23: 応急措置後 | P23: Ⅱb
B24: 変状の発生範囲及び規模 | E24: － | H24: 前回変状の発生範囲及び規模 | J24: 0.25㎡（1m×0.25m） | M24: 変状の発生範囲及び規模 | P24: 5.4㎡（6m×0.9m） | S24: 前回変状の発生範囲及び規模 | U24: 記載なし
B25: 対策履歴 | E25: はく落防止工(FRPネット) | H25: 実施状況（実施日） | J25: － | M25: 対策履歴 | P25: なし | S25: 実施状況（実施日） | U25: －
B26: メモ | E26: 対策済み 【前回定期点検 Ⅱb判定】 | M26: メモ | P26: ひび割れから漏水、にじみ程度、遊離石灰を伴う 【前回定期点検 Ⅱb判定】
C27: ※ 応急措置後の対策区分について添付すること。また、点検前に 実施された措置によりⅠと判定された箇所も添付すること。 | N27: ※ 変状の発生範囲の規模とは、対策を行う際に参考となる変状の長さや面積をいう。
N28: ※ 応急措置を実施しないで決定した変状の対策区分は、対策区分の応急措置後の欄に記入すること。
C29: ※ たたき落としを実施した場合は、実施後の写真を添付すること。 | N29: ※ 変状の発生範囲の規模は、面積・寸法を記載すること。(ひび割れ幅のみmmとし、その他をm表記とする)
C30: ※ 変状数に準じてシートを追加すること。（１シートに１ページとすること。） | N30: ※ 構造用鋼材以外の異物に伴ううき・はく離については、メモ欄に異物の概要を記入すること。

Sheet 様式D-1-1_010
B2: ■定期点検記録様式 変状写真台帳【様式D-1-1】 | R2: 施設ID | T2: 34.28772,131.96019
B3: フリガナ | E3: (ﾋｴﾊﾞﾗｽﾞｲﾄﾞｳ) | H3: 路 線 名 | J3: 一般国道187号 | M3: 定期点検実施者 | P3: 応用地質（株） | S3: 定期点検年月日 | U3: 45840
B4: 名 称 | E4: 稗原隧道 | H4: 管理者名 | J4: 山口県岩国土木建築事務所 | P4: 太田 裕之
B5: 写真 番号 | C5: 覆工スパン 番号 | E5: 5 | F5: 余 白 | M5: 写真 番号 | N5: 覆工スパン 番号 | P5: 5 | Q5: 余 白
C6: 変状番号 | E6: 5 | N6: 変状番号 | P6: 6
B7: 変状 部位 | C7: 対象箇所 | E7: 覆工 | M7: 変状 部位 | N7: 対象箇所 | P7: 覆工
C8: 部位区分 | E8: 横断目地（天端） | N8: 部位区分 | P8: 横断目地（左側）
B9: 変状種類 | E9: 漏水 | M9: 変状種類 | P9: うき・はく離
B10: 対策 区分 | C10: 変状区分 | E10: 漏水 | M10: 対策 区分 | N10: 変状区分 | P10: 材質劣化
C11: 応急措置前 | E11: － | N11: 応急措置前 | P11: －
C12: 応急措置後 | E12: Ⅱb | N12: 応急措置後 | P12: Ⅰ
B13: 変状の発生範囲及び規模 | E13: 3.5㎡（7m×0.5m） | H13: 前回変状の発生範囲及び規模 | J13: 記載なし | M13: 変状の発生範囲及び規模 | P13: 0.03㎡（0.25m×0.1m） | S13: 前回変状の発生範囲及び規模 | U13: 0.03㎡（0.25m×0.1m）
B14: 対策履歴 | E14: なし | H14: 実施状況（実施日） | J14: － | M14: 対策履歴 | P14: なし | S14: 実施状況（実施日） | U14: －
B15: メモ | E15: 導水工から漏水、にじみ程度、遊離石灰を伴う 【前回定期点検 Ⅱb判定】 | M15: メモ | P15: 導水工横のはく落(深さ30mm)、打音異常なし、防錆剤塗布、軽微な為再判定 【前回定期点検 Ⅱb判定】
B16: 写真 番号 | C16: 覆工スパン 番号 | E16: 5 | F16: 余 白 | M16: 写真 番号 | N16: 覆工スパン 番号 | P16: 5 | Q16: 余 白
C17: 変状番号 | E17: 7 | N17: 変状番号 | P17: 8
B18: 変状 部位 | C18: 対象箇所 | E18: 覆工 | M18: 変状 部位 | N18: 対象箇所 | P18: 覆工
C19: 部位区分 | E19: 水平打ち継ぎ目（左側） | N19: 部位区分 | P19: 水平打ち継ぎ目（右側）
B20: 変状種類 | E20: うき・はく離 | M20: 変状種類 | P20: うき・はく離
B21: 対策 区分 | C21: 変状区分 | E21: 材質劣化 | M21: 対策 区分 | N21: 変状区分 | P21: 材質劣化
C22: 応急措置前 | E22: － | N22: 応急措置前 | P22: －
C23: 応急措置後 | E23: Ⅰ | N23: 応急措置後 | P23: Ⅰ
B24: 変状の発生範囲及び規模 | E24: － | H24: 前回変状の発生範囲及び規模 | J24: 0.68㎡（0.15m×4.5m） | M24: 変状の発生範囲及び規模 | P24: － | S24: 前回変状の発生範囲及び規模 | U24: 0.44㎡（0.15m×2.9m）
B25: 対策履歴 | E25: はく落防止工(FRPネット) | H25: 実施状況（実施日） | J25: － | M25: 対策履歴 | P25: はく落防止工(FRPネット) | S25: 実施状況（実施日） | U25: －
B26: メモ | E26: 対策済み 【前回定期点検 Ⅱb判定】 | M26: メモ | P26: 対策済み 【前回定期点検 Ⅱb判定】
C27: ※ 応急措置後の対策区分について添付すること。また、点検前に 実施された措置によりⅠと判定された箇所も添付すること。 | N27: ※ 変状の発生範囲の規模とは、対策を行う際に参考となる変状の長さや面積をいう。
N28: ※ 応急措置を実施しないで決定した変状の対策区分は、対策区分の応急措置後の欄に記入すること。
C29: ※ たたき落としを実施した場合は、実施後の写真を添付すること。 | N29: ※ 変状の発生範囲の規模は、面積・寸法を記載すること。(ひび割れ幅のみmmとし、その他をm表記とする)
C30: ※ 変状数に準じてシートを追加すること。（１シートに１ページとすること。） | N30: ※ 構造用鋼材以外の異物に伴ううき・はく離については、メモ欄に異物の概要を記入すること。

Sheet 様式D-1-1_011
B2: ■定期点検記録様式 変状写真台帳【様式D-1-1】 | R2: 施設ID | T2: 34.28772,131.96019
B3: フリガナ | E3: (ﾋｴﾊﾞﾗｽﾞｲﾄﾞｳ) | H3: 路 線 名 | J3: 一般国道187号 | M3: 定期点検実施者 | P3: 応用地質（株） | S3: 定期点検年月日 | U3: 45840
B4: 名 称 | E4: 稗原隧道 | H4: 管理者名 | J4: 山口県岩国土木建築事務所 | P4: 太田 裕之
B5: 写真 番号 | C5: 覆工スパン 番号 | E5: 5 | F5: 余 白 | M5: 写真 番号 | N5: 覆工スパン 番号 | P5: 5 | Q5: 余 白
C6: 変状番号 | E6: 9 | N6: 変状番号 | P6: 10
B7: 変状 部位 | C7: 対象箇所 | E7: 覆工 | M7: 変状 部位 | N7: 対象箇所 | P7: 覆工
C8: 部位区分 | E8: 水平打ち継ぎ目（右側） | N8: 部位区分 | P8: 水平打ち継ぎ目（右側）
B9: 変状種類 | E9: うき・はく離 | M9: 変状種類 | P9: 漏水
B10: 対策 区分 | C10: 変状区分 | E10: 材質劣化 | M10: 対策 区分 | N10: 変状区分 | P10: 漏水
C11: 応急措置前 | E11: － | N11: 応急措置前 | P11: －
C12: 応急措置後 | E12: Ⅰ | N12: 応急措置後 | P12: Ⅱb
B13: 変状の発生範囲及び規模 | E13: － | H13: 前回変状の発生範囲及び規模 | J13: 0.26㎡（0.2m×1.3m） | M13: 変状の発生範囲及び規模 | P13: 1.5㎡（3m×0.5m） | S13: 前回変状の発生範囲及び規模 | U13: 記載なし
B14: 対策履歴 | E14: はく落防止工(FRPネット) | H14: 実施状況（実施日） | J14: － | M14: 対策履歴 | P14: なし | S14: 実施状況（実施日） | U14: －
B15: メモ | E15: 対策済み 【前回定期点検 Ⅱb判定】 | M15: メモ | P15: 漏水、にじみ程度、遊離石灰を伴う(前回点検時遊離石灰のみ) 【前回定期点検 Ⅱb判定】
B16: 写真 番号 | C16: 覆工スパン 番号 | F16: 余 白 | M16: 写真 番号 | N16: 覆工スパン 番号 | Q16: 余 白
C17: 変状番号 | N17: 変状番号
B18: 変状 部位 | C18: 対象箇所 | M18: 変状 部位 | N18: 対象箇所
C19: 部位区分 | N19: 部位区分
B20: 変状種類 | M20: 変状種類
B21: 対策 区分 | C21: 変状区分 | M21: 対策 区分 | N21: 変状区分
C22: 応急措置前 | N22: 応急措置前
C23: 応急措置後 | N23: 応急措置後
B24: 変状の発生範囲及び規模 | H24: 前回変状の発生範囲及び規模 | M24: 変状の発生範囲及び規模 | S24: 前回変状の発生範囲及び規模
B25: 対策履歴 | H25: 実施状況（実施日） | M25: 対策履歴 | S25: 実施状況（実施日）
B26: メモ | M26: メモ
C27: ※ 応急措置後の対策区分について添付すること。また、点検前に 実施された措置によりⅠと判定された箇所も添付すること。 | N27: ※ 変状の発生範囲の規模とは、対策を行う際に参考となる変状の長さや面積をいう。
N28: ※ 応急措置を実施しないで決定した変状の対策区分は、対策区分の応急措置後の欄に記入すること。
C29: ※ たたき落としを実施した場合は、実施後の写真を添付すること。 | N29: ※ 変状の発生範囲の規模は、面積・寸法を記載すること。(ひび割れ幅のみmmとし、その他をm表記とする)
C30: ※ 変状数に準じてシートを追加すること。（１シートに１ページとすること。） | N30: ※ 構造用鋼材以外の異物に伴ううき・はく離については、メモ欄に異物の概要を記入すること。

Sheet 様式D-1-1_012
B2: ■定期点検記録様式 変状写真台帳【様式D-1-1】 | R2: 施設ID | T2: 34.28772,131.96019
B3: フリガナ | E3: (ﾋｴﾊﾞﾗｽﾞｲﾄﾞｳ) | H3: 路 線 名 | J3: 一般国道187号 | M3: 定期点検実施者 | P3: 応用地質（株） | S3: 定期点検年月日 | U3: 45840
B4: 名 称 | E4: 稗原隧道 | H4: 管理者名 | J4: 山口県岩国土木建築事務所 | P4: 太田 裕之
B5: 写真 番号 | C5: 覆工スパン 番号 | E5: 6 | F5: 余 白 | M5: 写真 番号 | N5: 覆工スパン 番号 | P5: 6 | Q5: 余 白
C6: 変状番号 | E6: 1 | N6: 変状番号 | P6: 2
B7: 変状 部位 | C7: 対象箇所 | E7: 覆工 | M7: 変状 部位 | N7: 対象箇所 | P7: 覆工
C8: 部位区分 | E8: 横断目地（天端） | N8: 部位区分 | P8: アーチ（天端）
B9: 変状種類 | E9: うき・はく離 | M9: 変状種類 | P9: うき・はく離
B10: 対策 区分 | C10: 変状区分 | E10: 材質劣化 | M10: 対策 区分 | N10: 変状区分 | P10: 材質劣化
C11: 応急措置前 | E11: － | N11: 応急措置前 | P11: －
C12: 応急措置後 | E12: Ⅰ | N12: 応急措置後 | P12: Ⅰ
B13: 変状の発生範囲及び規模 | E13: － | H13: 前回変状の発生範囲及び規模 | J13: 0.18㎡（0.6m×0.3m） | M13: 変状の発生範囲及び規模 | P13: － | S13: 前回変状の発生範囲及び規模 | U13: 0.19㎡（0.1m×1.9m）
B14: 対策履歴 | E14: はく落防止工(FRPネット) | H14: 実施状況（実施日） | J14: － | M14: 対策履歴 | P14: はく落防止工(FRPネット) | S14: 実施状況（実施日） | U14: －
B15: メモ | E15: 対策済み 【前回定期点検 Ⅱa判定】 | M15: メモ | P15: 対策済み 【前回定期点検 Ⅱa判定】
B16: 写真 番号 | C16: 覆工スパン 番号 | E16: 6 | F16: 余 白 | M16: 写真 番号 | N16: 覆工スパン 番号 | P16: 6 | Q16: 余 白
C17: 変状番号 | E17: 3 | N17: 変状番号 | P17: 4
B18: 変状 部位 | C18: 対象箇所 | E18: 覆工 | M18: 変状 部位 | N18: 対象箇所 | P18: 覆工
C19: 部位区分 | E19: 横断目地（天端） | N19: 部位区分 | P19: アーチ（右側）
B20: 変状種類 | E20: うき・はく離 | M20: 変状種類 | P20: 漏水
B21: 対策 区分 | C21: 変状区分 | E21: 材質劣化 | M21: 対策 区分 | N21: 変状区分 | P21: 漏水
C22: 応急措置前 | E22: － | N22: 応急措置前 | P22: －
C23: 応急措置後 | E23: Ⅰ | N23: 応急措置後 | P23: Ⅱb
B24: 変状の発生範囲及び規模 | E24: － | H24: 前回変状の発生範囲及び規模 | J24: 1.32㎡（2.2m×0.6m） | M24: 変状の発生範囲及び規模 | P24: 24.57㎡（6.3m×3.9m） | S24: 前回変状の発生範囲及び規模 | U24: 記載なし
B25: 対策履歴 | E25: はく落防止工(FRPネット) | H25: 実施状況（実施日） | J25: － | M25: 対策履歴 | P25: なし | S25: 実施状況（実施日） | U25: －
B26: メモ | E26: 対策済み 【前回定期点検 Ⅱa判定】 | M26: メモ | P26: ひび割れから漏水、にじみ程度、遊離石灰を伴う(前回点検時遊離石灰のみ) 【前回定期点検 Ⅱb判定】
C27: ※ 応急措置後の対策区分について添付すること。また、点検前に 実施された措置によりⅠと判定された箇所も添付すること。 | N27: ※ 変状の発生範囲の規模とは、対策を行う際に参考となる変状の長さや面積をいう。
N28: ※ 応急措置を実施しないで決定した変状の対策区分は、対策区分の応急措置後の欄に記入すること。
C29: ※ たたき落としを実施した場合は、実施後の写真を添付すること。 | N29: ※ 変状の発生範囲の規模は、面積・寸法を記載すること。(ひび割れ幅のみmmとし、その他をm表記とする)
C30: ※ 変状数に準じてシートを追加すること。（１シートに１ページとすること。） | N30: ※ 構造用鋼材以外の異物に伴ううき・はく離については、メモ欄に異物の概要を記入すること。

Sheet 様式D-1-1_013
B2: ■定期点検記録様式 変状写真台帳【様式D-1-1】 | R2: 施設ID | T2: 34.28772,131.96019
B3: フリガナ | E3: (ﾋｴﾊﾞﾗｽﾞｲﾄﾞｳ) | H3: 路 線 名 | J3: 一般国道187号 | M3: 定期点検実施者 | P3: 応用地質（株） | S3: 定期点検年月日 | U3: 45840
B4: 名 称 | E4: 稗原隧道 | H4: 管理者名 | J4: 山口県岩国土木建築事務所 | P4: 太田 裕之
B5: 写真 番号 | C5: 覆工スパン 番号 | E5: 6 | F5: 余 白 | M5: 写真 番号 | N5: 覆工スパン 番号 | P5: 6 | Q5: 余 白
C6: 変状番号 | E6: 5 | N6: 変状番号 | P6: 6
B7: 変状 部位 | C7: 対象箇所 | E7: 覆工 | M7: 変状 部位 | N7: 対象箇所 | P7: 覆工
C8: 部位区分 | E8: 水平打ち継ぎ目（左側） | N8: 部位区分 | P8: アーチ（左側）
B9: 変状種類 | E9: 漏水 | M9: 変状種類 | P9: 漏水
B10: 対策 区分 | C10: 変状区分 | E10: 漏水 | M10: 対策 区分 | N10: 変状区分 | P10: 漏水
C11: 応急措置前 | E11: － | N11: 応急措置前 | P11: －
C12: 応急措置後 | E12: Ⅱb | N12: 応急措置後 | P12: Ⅱb
B13: 変状の発生範囲及び規模 | E13: 1.5㎡（3m×0.5m） | H13: 前回変状の発生範囲及び規模 | J13: 記載なし | M13: 変状の発生範囲及び規模 | P13: 3㎡（5m×0.6m） | S13: 前回変状の発生範囲及び規模 | U13: 記載なし
B14: 対策履歴 | E14: なし | H14: 実施状況（実施日） | J14: － | M14: 対策履歴 | P14: なし | S14: 実施状況（実施日） | U14: －
B15: メモ | E15: 漏水、にじみ程度、遊離石灰を伴う 【前回定期点検 Ⅱb判定】 | M15: メモ | P15: 導水工から漏水、にじみ程度、遊離石灰を伴う 【前回定期点検 Ⅱb判定】
B16: 写真 番号 | C16: 覆工スパン 番号 | E16: 6 | F16: 余 白 | M16: 写真 番号 | N16: 覆工スパン 番号 | P16: 6 | Q16: 余 白
C17: 変状番号 | E17: 7 | N17: 変状番号 | P17: 8
B18: 変状 部位 | C18: 対象箇所 | E18: 覆工 | M18: 変状 部位 | N18: 対象箇所 | P18: 覆工
C19: 部位区分 | E19: 水平打ち継ぎ目（左側） | N19: 部位区分 | P19: 水平打ち継ぎ目（右側）
B20: 変状種類 | E20: うき・はく離 | M20: 変状種類 | P20: うき・はく離
B21: 対策 区分 | C21: 変状区分 | E21: 材質劣化 | M21: 対策 区分 | N21: 変状区分 | P21: 材質劣化
C22: 応急措置前 | E22: － | N22: 応急措置前 | P22: －
C23: 応急措置後 | E23: Ⅰ | N23: 応急措置後 | P23: Ⅰ
B24: 変状の発生範囲及び規模 | E24: － | H24: 前回変状の発生範囲及び規模 | J24: 0.3㎡（0.15m×2m） | M24: 変状の発生範囲及び規模 | P24: － | S24: 前回変状の発生範囲及び規模 | U24: 0.42㎡（0.15m×2.8m）
B25: 対策履歴 | E25: はく落防止工(FRPネット) | H25: 実施状況（実施日） | J25: － | M25: 対策履歴 | P25: はく落防止工(FRPネット) | S25: 実施状況（実施日） | U25: －
B26: メモ | E26: 対策済み 【前回定期点検 Ⅱb判定】 | M26: メモ | P26: 対策済み 【前回定期点検 Ⅱb判定】
C27: ※ 応急措置後の対策区分について添付すること。また、点検前に 実施された措置によりⅠと判定された箇所も添付すること。 | N27: ※ 変状の発生範囲の規模とは、対策を行う際に参考となる変状の長さや面積をいう。
N28: ※ 応急措置を実施しないで決定した変状の対策区分は、対策区分の応急措置後の欄に記入すること。
C29: ※ たたき落としを実施した場合は、実施後の写真を添付すること。 | N29: ※ 変状の発生範囲の規模は、面積・寸法を記載すること。(ひび割れ幅のみmmとし、その他をm表記とする)
C30: ※ 変状数に準じてシートを追加すること。（１シートに１ページとすること。） | N30: ※ 構造用鋼材以外の異物に伴ううき・はく離については、メモ欄に異物の概要を記入すること。

Sheet 様式D-1-1_014
B2: ■定期点検記録様式 変状写真台帳【様式D-1-1】 | R2: 施設ID | T2: 34.28772,131.96019
B3: フリガナ | E3: (ﾋｴﾊﾞﾗｽﾞｲﾄﾞｳ) | H3: 路 線 名 | J3: 一般国道187号 | M3: 定期点検実施者 | P3: 応用地質（株） | S3: 定期点検年月日 | U3: 45840
B4: 名 称 | E4: 稗原隧道 | H4: 管理者名 | J4: 山口県岩国土木建築事務所 | P4: 太田 裕之
B5: 写真 番号 | C5: 覆工スパン 番号 | E5: 6 | F5: 余 白 | M5: 写真 番号 | N5: 覆工スパン 番号 | Q5: 余 白
C6: 変状番号 | E6: 9 | N6: 変状番号
B7: 変状 部位 | C7: 対象箇所 | E7: 覆工 | M7: 変状 部位 | N7: 対象箇所
C8: 部位区分 | E8: アーチ（右側） | N8: 部位区分
B9: 変状種類 | E9: 補修・補強材の破損 | M9: 変状種類
B10: 対策 区分 | C10: 変状区分 | E10: 材質劣化 | M10: 対策 区分 | N10: 変状区分
C11: 応急措置前 | E11: － | N11: 応急措置前
C12: 応急措置後 | E12: Ⅱa | N12: 応急措置後
B13: 変状の発生範囲及び規模 | E13: 0.01㎡（0.1m×0.1m） | H13: 前回変状の発生範囲及び規模 | J13: なし | M13: 変状の発生範囲及び規模 | S13: 前回変状の発生範囲及び規模
B14: 対策履歴 | E14: なし | H14: 実施状況（実施日） | J14: － | M14: 対策履歴 | S14: 実施状況（実施日）
B15: メモ | E15: FRPネット工、固定アンカーの不良、増し締め不可 【今回新たに確認】 | M15: メモ
B16: 写真 番号 | C16: 覆工スパン 番号 | F16: 余 白 | M16: 写真 番号 | N16: 覆工スパン 番号 | Q16: 余 白
C17: 変状番号 | N17: 変状番号
B18: 変状 部位 | C18: 対象箇所 | M18: 変状 部位 | N18: 対象箇所
C19: 部位区分 | N19: 部位区分
B20: 変状種類 | M20: 変状種類
B21: 対策 区分 | C21: 変状区分 | M21: 対策 区分 | N21: 変状区分
C22: 応急措置前 | N22: 応急措置前
C23: 応急措置後 | N23: 応急措置後
B24: 変状の発生範囲及び規模 | H24: 前回変状の発生範囲及び規模 | M24: 変状の発生範囲及び規模 | S24: 前回変状の発生範囲及び規模
B25: 対策履歴 | H25: 実施状況（実施日） | M25: 対策履歴 | S25: 実施状況（実施日）
B26: メモ | M26: メモ
C27: ※ 応急措置後の対策区分について添付すること。また、点検前に 実施された措置によりⅠと判定された箇所も添付すること。 | N27: ※ 変状の発生範囲の規模とは、対策を行う際に参考となる変状の長さや面積をいう。
N28: ※ 応急措置を実施しないで決定した変状の対策区分は、対策区分の応急措置後の欄に記入すること。
C29: ※ たたき落としを実施した場合は、実施後の写真を添付すること。 | N29: ※ 変状の発生範囲の規模は、面積・寸法を記載すること。(ひび割れ幅のみmmとし、その他をm表記とする)
C30: ※ 変状数に準じてシートを追加すること。（１シートに１ページとすること。） | N30: ※ 構造用鋼材以外の異物に伴ううき・はく離については、メモ欄に異物の概要を記入すること。

Sheet 様式D-1-1_015
B2: ■定期点検記録様式 変状写真台帳【様式D-1-1】 | R2: 施設ID | T2: 34.28772,131.96019
B3: フリガナ | E3: (ﾋｴﾊﾞﾗｽﾞｲﾄﾞｳ) | H3: 路 線 名 | J3: 一般国道187号 | M3: 定期点検実施者 | P3: 応用地質（株） | S3: 定期点検年月日 | U3: 45840
B4: 名 称 | E4: 稗原隧道 | H4: 管理者名 | J4: 山口県岩国土木建築事務所 | P4: 太田 裕之
B5: 写真 番号 | C5: 覆工スパン 番号 | E5: 7 | F5: 余 白 | M5: 写真 番号 | N5: 覆工スパン 番号 | P5: 7 | Q5: 余 白
C6: 変状番号 | E6: 1 | N6: 変状番号 | P6: 2
B7: 変状 部位 | C7: 対象箇所 | E7: 覆工 | M7: 変状 部位 | N7: 対象箇所 | P7: 覆工
C8: 部位区分 | E8: 横断目地（左側） | N8: 部位区分 | P8: アーチ（天端）
B9: 変状種類 | E9: うき・はく離 | M9: 変状種類 | P9: うき・はく離
B10: 対策 区分 | C10: 変状区分 | E10: 材質劣化 | M10: 対策 区分 | N10: 変状区分 | P10: 材質劣化
C11: 応急措置前 | E11: － | N11: 応急措置前 | P11: －
C12: 応急措置後 | E12: Ⅰ | N12: 応急措置後 | P12: Ⅰ
B13: 変状の発生範囲及び規模 | E13: － | H13: 前回変状の発生範囲及び規模 | J13: 1.05㎡（1.5m×0.7m） | M13: 変状の発生範囲及び規模 | P13: － | S13: 前回変状の発生範囲及び規模 | U13: 0.12㎡（0.1m×1.2m）
B14: 対策履歴 | E14: はく落防止工(FRPネット) | H14: 実施状況（実施日） | J14: － | M14: 対策履歴 | P14: はく落防止工(FRPネット) | S14: 実施状況（実施日） | U14: －
B15: メモ | E15: 対策済み 【前回定期点検 Ⅱa判定】 | M15: メモ | P15: 対策済み 【前回定期点検 Ⅱa判定】
B16: 写真 番号 | C16: 覆工スパン 番号 | E16: 7 | F16: 余 白 | M16: 写真 番号 | N16: 覆工スパン 番号 | P16: 7 | Q16: 余 白
C17: 変状番号 | E17: 3 | N17: 変状番号 | P17: 4
B18: 変状 部位 | C18: 対象箇所 | E18: 覆工 | M18: 変状 部位 | N18: 対象箇所 | P18: 覆工
C19: 部位区分 | E19: 水平打ち継ぎ目（左側） | N19: 部位区分 | P19: 横断目地（右側）
B20: 変状種類 | E20: うき・はく離 | M20: 変状種類 | P20: 漏水
B21: 対策 区分 | C21: 変状区分 | E21: 材質劣化 | M21: 対策 区分 | N21: 変状区分 | P21: 漏水
C22: 応急措置前 | E22: － | N22: 応急措置前 | P22: －
C23: 応急措置後 | E23: Ⅰ | N23: 応急措置後 | P23: Ⅱb
B24: 変状の発生範囲及び規模 | E24: － | H24: 前回変状の発生範囲及び規模 | J24: 0.5㎡（0.15m×3.3m） | M24: 変状の発生範囲及び規模 | P24: 2.45㎡（4.9m×0.5m） | S24: 前回変状の発生範囲及び規模 | U24: 記載なし
B25: 対策履歴 | E25: はく落防止工(FRPネット) | H25: 実施状況（実施日） | J25: － | M25: 対策履歴 | P25: なし | S25: 実施状況（実施日） | U25: －
B26: メモ | E26: 対策済み 【前回定期点検 Ⅱb判定】 | M26: メモ | P26: 導水工から漏水、にじみ程度、遊離石灰を伴う 【前回定期点検 Ⅱb判定】
C27: ※ 応急措置後の対策区分について添付すること。また、点検前に 実施された措置によりⅠと判定された箇所も添付すること。 | N27: ※ 変状の発生範囲の規模とは、対策を行う際に参考となる変状の長さや面積をいう。
N28: ※ 応急措置を実施しないで決定した変状の対策区分は、対策区分の応急措置後の欄に記入すること。
C29: ※ たたき落としを実施した場合は、実施後の写真を添付すること。 | N29: ※ 変状の発生範囲の規模は、面積・寸法を記載すること。(ひび割れ幅のみmmとし、その他をm表記とする)
C30: ※ 変状数に準じてシートを追加すること。（１シートに１ページとすること。） | N30: ※ 構造用鋼材以外の異物に伴ううき・はく離については、メモ欄に異物の概要を記入すること。

Sheet 様式D-1-1_016
B2: ■定期点検記録様式 変状写真台帳【様式D-1-1】 | R2: 施設ID | T2: 34.28772,131.96019
B3: フリガナ | E3: (ﾋｴﾊﾞﾗｽﾞｲﾄﾞｳ) | H3: 路 線 名 | J3: 一般国道187号 | M3: 定期点検実施者 | P3: 応用地質（株） | S3: 定期点検年月日 | U3: 45840
B4: 名 称 | E4: 稗原隧道 | H4: 管理者名 | J4: 山口県岩国土木建築事務所 | P4: 太田 裕之
B5: 写真 番号 | C5: 覆工スパン 番号 | E5: 7 | F5: 余 白 | M5: 写真 番号 | N5: 覆工スパン 番号 | P5: 7 | Q5: 余 白
C6: 変状番号 | E6: 5 | N6: 変状番号 | P6: 6
B7: 変状 部位 | C7: 対象箇所 | E7: 覆工 | M7: 変状 部位 | N7: 対象箇所 | P7: 覆工
C8: 部位区分 | E8: 水平打ち継ぎ目（左側） | N8: 部位区分 | P8: アーチ（左側）
B9: 変状種類 | E9: 漏水 | M9: 変状種類 | P9: 補修・補強材の破損
B10: 対策 区分 | C10: 変状区分 | E10: 漏水 | M10: 対策 区分 | N10: 変状区分 | P10: 材質劣化
C11: 応急措置前 | E11: － | N11: 応急措置前 | P11: Ⅱa
C12: 応急措置後 | E12: Ⅱb | N12: 応急措置後 | P12: Ⅱb
B13: 変状の発生範囲及び規模 | E13: 10.8㎡（3m×3.6m） | H13: 前回変状の発生範囲及び規模 | J13: なし | M13: 変状の発生範囲及び規模 | P13: 0.01㎡（0.1m×0.1m） | S13: 前回変状の発生範囲及び規模 | U13: なし
B14: 対策履歴 | E14: なし | H14: 実施状況（実施日） | J14: － | M14: 対策履歴 | P14: なし | S14: 実施状況（実施日） | U14: －
B15: メモ | E15: 漏水、にじみ程度 【今回新たに確認】 | M15: メモ | P15: FRPネット工、固定アンカーの緩み、今回点検時に増し締め実施 【今回新たに確認】
B16: 写真 番号 | C16: 覆工スパン 番号 | E16: 7 | F16: 余 白 | M16: 写真 番号 | N16: 覆工スパン 番号 | Q16: 余 白
C17: 変状番号 | E17: 7 | N17: 変状番号
B18: 変状 部位 | C18: 対象箇所 | E18: 覆工 | M18: 変状 部位 | N18: 対象箇所
C19: 部位区分 | E19: アーチ（天端） | N19: 部位区分
B20: 変状種類 | E20: うき・はく離 | M20: 変状種類
B21: 対策 区分 | C21: 変状区分 | E21: 材質劣化 | M21: 対策 区分 | N21: 変状区分
C22: 応急措置前 | E22: － | N22: 応急措置前
C23: 応急措置後 | E23: Ⅱa | N23: 応急措置後
B24: 変状の発生範囲及び規模 | E24: 0.02㎡（0.1m×0.2m） | H24: 前回変状の発生範囲及び規模 | J24: なし | M24: 変状の発生範囲及び規模 | S24: 前回変状の発生範囲及び規模
B25: 対策履歴 | E25: なし | H25: 実施状況（実施日） | J25: － | M25: 対策履歴 | S25: 実施状況（実施日）
B26: メモ | E26: うき、ひび割れを伴う、打音異常あり、浸透固化材塗布 【今回新たに確認】 | M26: メモ
C27: ※ 応急措置後の対策区分について添付すること。また、点検前に 実施された措置によりⅠと判定された箇所も添付すること。 | N27: ※ 変状の発生範囲の規模とは、対策を行う際に参考となる変状の長さや面積をいう。
N28: ※ 応急措置を実施しないで決定した変状の対策区分は、対策区分の応急措置後の欄に記入すること。
C29: ※ たたき落としを実施した場合は、実施後の写真を添付すること。 | N29: ※ 変状の発生範囲の規模は、面積・寸法を記載すること。(ひび割れ幅のみmmとし、その他をm表記とする)
C30: ※ 変状数に準じてシートを追加すること。（１シートに１ページとすること。） | N30: ※ 構造用鋼材以外の異物に伴ううき・はく離については、メモ欄に異物の概要を記入すること。

Sheet 様式D-1-1_017
B2: ■定期点検記録様式 変状写真台帳【様式D-1-1】 | R2: 施設ID | T2: 34.28772,131.96019
B3: フリガナ | E3: (ﾋｴﾊﾞﾗｽﾞｲﾄﾞｳ) | H3: 路 線 名 | J3: 一般国道187号 | M3: 定期点検実施者 | P3: 応用地質（株） | S3: 定期点検年月日 | U3: 45840
B4: 名 称 | E4: 稗原隧道 | H4: 管理者名 | J4: 山口県岩国土木建築事務所 | P4: 太田 裕之
B5: 写真 番号 | C5: 覆工スパン 番号 | E5: 8 | F5: 余 白 | M5: 写真 番号 | N5: 覆工スパン 番号 | P5: 8 | Q5: 余 白
C6: 変状番号 | E6: 1 | N6: 変状番号 | P6: 2
B7: 変状 部位 | C7: 対象箇所 | E7: 覆工 | M7: 変状 部位 | N7: 対象箇所 | P7: 覆工
C8: 部位区分 | E8: 水平打ち継ぎ目（左側） | N8: 部位区分 | P8: 水平打ち継ぎ目（左側）
B9: 変状種類 | E9: うき・はく離 | M9: 変状種類 | P9: うき・はく離
B10: 対策 区分 | C10: 変状区分 | E10: 材質劣化 | M10: 対策 区分 | N10: 変状区分 | P10: 材質劣化
C11: 応急措置前 | E11: － | N11: 応急措置前 | P11: －
C12: 応急措置後 | E12: Ⅰ | N12: 応急措置後 | P12: Ⅰ
B13: 変状の発生範囲及び規模 | E13: － | H13: 前回変状の発生範囲及び規模 | J13: 0.2㎡（0.15m×1.35m） | M13: 変状の発生範囲及び規模 | P13: － | S13: 前回変状の発生範囲及び規模 | U13: 0.36㎡（0.15m×2.4m）
B14: 対策履歴 | E14: はく落防止工(FRPネット) | H14: 実施状況（実施日） | J14: － | M14: 対策履歴 | P14: はく落防止工(FRPネット) | S14: 実施状況（実施日） | U14: －
B15: メモ | E15: 対策済み 【前回定期点検 Ⅱb判定】 | M15: メモ | P15: 対策済み 【前回定期点検 Ⅱb判定】
B16: 写真 番号 | C16: 覆工スパン 番号 | E16: 8 | F16: 余 白 | M16: 写真 番号 | N16: 覆工スパン 番号 | P16: 8 | Q16: 余 白
C17: 変状番号 | E17: 3 | N17: 変状番号 | P17: 4
B18: 変状 部位 | C18: 対象箇所 | E18: 覆工 | M18: 変状 部位 | N18: 対象箇所 | P18: 覆工
C19: 部位区分 | E19: アーチ（左側） | N19: 部位区分 | P19: 水平打ち継ぎ目（右側）
B20: 変状種類 | E20: 漏水 | M20: 変状種類 | P20: うき・はく離
B21: 対策 区分 | C21: 変状区分 | E21: 漏水 | M21: 対策 区分 | N21: 変状区分 | P21: 材質劣化
C22: 応急措置前 | E22: － | N22: 応急措置前 | P22: －
C23: 応急措置後 | E23: Ⅱb | N23: 応急措置後 | P23: Ⅰ
B24: 変状の発生範囲及び規模 | E24: 6.02㎡（4.3m×1.4m） | H24: 前回変状の発生範囲及び規模 | J24: 記載なし | M24: 変状の発生範囲及び規模 | P24: － | S24: 前回変状の発生範囲及び規模 | U24: 0.3㎡（0.15m×2m）
B25: 対策履歴 | E25: なし | H25: 実施状況（実施日） | J25: － | M25: 対策履歴 | P25: はく落防止工(FRPネット) | S25: 実施状況（実施日） | U25: －
B26: メモ | E26: 導水工から漏水、にじみ程度、遊離石灰を伴う(前回点検時遊離石灰のみ) 【前回定期点検 Ⅱb判定】 | M26: メモ | P26: 対策済み 【前回定期点検 Ⅱb判定】
C27: ※ 応急措置後の対策区分について添付すること。また、点検前に 実施された措置によりⅠと判定された箇所も添付すること。 | N27: ※ 変状の発生範囲の規模とは、対策を行う際に参考となる変状の長さや面積をいう。
N28: ※ 応急措置を実施しないで決定した変状の対策区分は、対策区分の応急措置後の欄に記入すること。
C29: ※ たたき落としを実施した場合は、実施後の写真を添付すること。 | N29: ※ 変状の発生範囲の規模は、面積・寸法を記載すること。(ひび割れ幅のみmmとし、その他をm表記とする)
C30: ※ 変状数に準じてシートを追加すること。（１シートに１ページとすること。） | N30: ※ 構造用鋼材以外の異物に伴ううき・はく離については、メモ欄に異物の概要を記入すること。

Sheet 様式D-1-1_018
B2: ■定期点検記録様式 変状写真台帳【様式D-1-1】 | R2: 施設ID | T2: 34.28772,131.96019
B3: フリガナ | E3: (ﾋｴﾊﾞﾗｽﾞｲﾄﾞｳ) | H3: 路 線 名 | J3: 一般国道187号 | M3: 定期点検実施者 | P3: 応用地質（株） | S3: 定期点検年月日 | U3: 45840
B4: 名 称 | E4: 稗原隧道 | H4: 管理者名 | J4: 山口県岩国土木建築事務所 | P4: 太田 裕之
B5: 写真 番号 | C5: 覆工スパン 番号 | E5: 8 | F5: 余 白 | M5: 写真 番号 | N5: 覆工スパン 番号 | P5: 8 | Q5: 余 白
C6: 変状番号 | E6: 5 | N6: 変状番号 | P6: 6
B7: 変状 部位 | C7: 対象箇所 | E7: 覆工 | M7: 変状 部位 | N7: 対象箇所 | P7: 覆工
C8: 部位区分 | E8: 水平打ち継ぎ目（右側） | N8: 部位区分 | P8: 側壁（右側）
B9: 変状種類 | E9: うき・はく離 | M9: 変状種類 | P9: うき・はく離
B10: 対策 区分 | C10: 変状区分 | E10: 材質劣化 | M10: 対策 区分 | N10: 変状区分 | P10: 材質劣化
C11: 応急措置前 | E11: － | N11: 応急措置前 | P11: －
C12: 応急措置後 | E12: Ⅰ | N12: 応急措置後 | P12: Ⅰ
B13: 変状の発生範囲及び規模 | E13: － | H13: 前回変状の発生範囲及び規模 | J13: 0.06㎡（0.15m×0.4m） | M13: 変状の発生範囲及び規模 | P13: 2.52㎡（2.1m×1.2m） | S13: 前回変状の発生範囲及び規模 | U13: 2.52㎡（2.1m×1.2m）
B14: 対策履歴 | E14: はく落防止工(FRPネット) | H14: 実施状況（実施日） | J14: － | M14: 対策履歴 | P14: なし | S14: 実施状況（実施日） | U14: －
B15: メモ | E15: 対策済み 【前回定期点検 Ⅱb判定】 | M15: メモ | P15: 豆板、変状種類変更、打音異常なし、軽微な為再判定 【前回定期点検 Ⅱb判定】
B16: 写真 番号 | C16: 覆工スパン 番号 | E16: 8 | F16: 余 白 | M16: 写真 番号 | N16: 覆工スパン 番号 | P16: 8 | Q16: 余 白
C17: 変状番号 | E17: 7 | N17: 変状番号 | P17: 8
B18: 変状 部位 | C18: 対象箇所 | E18: 覆工 | M18: 変状 部位 | N18: 対象箇所 | P18: 覆工
C19: 部位区分 | E19: 側壁（右側） | N19: 部位区分 | P19: 横断目地（左側）
B20: 変状種類 | E20: うき・はく離 | M20: 変状種類 | P20: 漏水
B21: 対策 区分 | C21: 変状区分 | E21: 材質劣化 | M21: 対策 区分 | N21: 変状区分 | P21: 漏水
C22: 応急措置前 | E22: － | N22: 応急措置前 | P22: －
C23: 応急措置後 | E23: Ⅰ | N23: 応急措置後 | P23: Ⅱb
B24: 変状の発生範囲及び規模 | E24: 2.1㎡（2.1m×1m） | H24: 前回変状の発生範囲及び規模 | J24: 2.1㎡（2.1m×1m） | M24: 変状の発生範囲及び規模 | P24: 3㎡（6m×0.5m） | S24: 前回変状の発生範囲及び規模 | U24: 記載なし
B25: 対策履歴 | E25: なし | H25: 実施状況（実施日） | J25: － | M25: 対策履歴 | P25: なし | S25: 実施状況（実施日） | U25: －
B26: メモ | E26: 豆板、変状種類変更、打音異常なし、軽微な為再判定 【前回定期点検 Ⅱb判定】 | M26: メモ | P26: 導水工から漏水、にじみ程度(前回点検時遊離石灰のみ) 【前回定期点検 Ⅱb判定】
C27: ※ 応急措置後の対策区分について添付すること。また、点検前に 実施された措置によりⅠと判定された箇所も添付すること。 | N27: ※ 変状の発生範囲の規模とは、対策を行う際に参考となる変状の長さや面積をいう。
N28: ※ 応急措置を実施しないで決定した変状の対策区分は、対策区分の応急措置後の欄に記入すること。
C29: ※ たたき落としを実施した場合は、実施後の写真を添付すること。 | N29: ※ 変状の発生範囲の規模は、面積・寸法を記載すること。(ひび割れ幅のみmmとし、その他をm表記とする)
C30: ※ 変状数に準じてシートを追加すること。（１シートに１ページとすること。） | N30: ※ 構造用鋼材以外の異物に伴ううき・はく離については、メモ欄に異物の概要を記入すること。

Sheet 様式D-1-1_019
B2: ■定期点検記録様式 変状写真台帳【様式D-1-1】 | R2: 施設ID | T2: 34.28772,131.96019
B3: フリガナ | E3: (ﾋｴﾊﾞﾗｽﾞｲﾄﾞｳ) | H3: 路 線 名 | J3: 一般国道187号 | M3: 定期点検実施者 | P3: 応用地質（株） | S3: 定期点検年月日 | U3: 45840
B4: 名 称 | E4: 稗原隧道 | H4: 管理者名 | J4: 山口県岩国土木建築事務所 | P4: 太田 裕之
B5: 写真 番号 | C5: 覆工スパン 番号 | E5: 8 | F5: 余 白 | M5: 写真 番号 | N5: 覆工スパン 番号 | P5: 8 | Q5: 余 白
C6: 変状番号 | E6: 9 | N6: 変状番号 | P6: 10
B7: 変状 部位 | C7: 対象箇所 | E7: 覆工 | M7: 変状 部位 | N7: 対象箇所 | P7: 覆工
C8: 部位区分 | E8: 側壁（左側） | N8: 部位区分 | P8: 横断目地（右側）
B9: 変状種類 | E9: 漏水 | M9: 変状種類 | P9: 漏水
B10: 対策 区分 | C10: 変状区分 | E10: 漏水 | M10: 対策 区分 | N10: 変状区分 | P10: 漏水
C11: 応急措置前 | E11: － | N11: 応急措置前 | P11: －
C12: 応急措置後 | E12: Ⅱb | N12: 応急措置後 | P12: Ⅱb
B13: 変状の発生範囲及び規模 | E13: 0.8㎡（1.6m×0.5m） | H13: 前回変状の発生範囲及び規模 | J13: なし | M13: 変状の発生範囲及び規模 | P13: 3.3㎡（6.6m×0.5m） | S13: 前回変状の発生範囲及び規模 | U13: なし
B14: 対策履歴 | E14: なし | H14: 実施状況（実施日） | J14: － | M14: 対策履歴 | P14: なし | S14: 実施状況（実施日） | U14: －
B15: メモ | E15: 導水工から漏水、にじみ程度 【今回新たに確認】 | M15: メモ | P15: 導水工から漏水、にじみ程度、遊離石灰を伴う 【今回新たに確認】
B16: 写真 番号 | C16: 覆工スパン 番号 | F16: 余 白 | M16: 写真 番号 | N16: 覆工スパン 番号 | Q16: 余 白
C17: 変状番号 | N17: 変状番号
B18: 変状 部位 | C18: 対象箇所 | M18: 変状 部位 | N18: 対象箇所
C19: 部位区分 | N19: 部位区分
B20: 変状種類 | M20: 変状種類
B21: 対策 区分 | C21: 変状区分 | M21: 対策 区分 | N21: 変状区分
C22: 応急措置前 | N22: 応急措置前
C23: 応急措置後 | N23: 応急措置後
B24: 変状の発生範囲及び規模 | H24: 前回変状の発生範囲及び規模 | M24: 変状の発生範囲及び規模 | S24: 前回変状の発生範囲及び規模
B25: 対策履歴 | H25: 実施状況（実施日） | M25: 対策履歴 | S25: 実施状況（実施日）
B26: メモ | M26: メモ
C27: ※ 応急措置後の対策区分について添付すること。また、点検前に 実施された措置によりⅠと判定された箇所も添付すること。 | N27: ※ 変状の発生範囲の規模とは、対策を行う際に参考となる変状の長さや面積をいう。
N28: ※ 応急措置を実施しないで決定した変状の対策区分は、対策区分の応急措置後の欄に記入すること。
C29: ※ たたき落としを実施した場合は、実施後の写真を添付すること。 | N29: ※ 変状の発生範囲の規模は、面積・寸法を記載すること。(ひび割れ幅のみmmとし、その他をm表記とする)
C30: ※ 変状数に準じてシートを追加すること。（１シートに１ページとすること。） | N30: ※ 構造用鋼材以外の異物に伴ううき・はく離については、メモ欄に異物の概要を記入すること。

Sheet 様式D-1-1_020
B2: ■定期点検記録様式 変状写真台帳【様式D-1-1】 | R2: 施設ID | T2: 34.28772,131.96019
B3: フリガナ | E3: (ﾋｴﾊﾞﾗｽﾞｲﾄﾞｳ) | H3: 路 線 名 | J3: 一般国道187号 | M3: 定期点検実施者 | P3: 応用地質（株） | S3: 定期点検年月日 | U3: 45840
B4: 名 称 | E4: 稗原隧道 | H4: 管理者名 | J4: 山口県岩国土木建築事務所 | P4: 太田 裕之
B5: 写真 番号 | C5: 覆工スパン 番号 | E5: 9 | F5: 余 白 | M5: 写真 番号 | N5: 覆工スパン 番号 | P5: 9 | Q5: 余 白
C6: 変状番号 | E6: 1 | N6: 変状番号 | P6: 2
B7: 変状 部位 | C7: 対象箇所 | E7: 覆工 | M7: 変状 部位 | N7: 対象箇所 | P7: 覆工
C8: 部位区分 | E8: 横断目地（天端） | N8: 部位区分 | P8: 横断目地（天端）
B9: 変状種類 | E9: 漏水 | M9: 変状種類 | P9: うき・はく離
B10: 対策 区分 | C10: 変状区分 | E10: 漏水 | M10: 対策 区分 | N10: 変状区分 | P10: 材質劣化
C11: 応急措置前 | E11: － | N11: 応急措置前 | P11: －
C12: 応急措置後 | E12: Ⅲ | N12: 応急措置後 | P12: Ⅰ
B13: 変状の発生範囲及び規模 | E13: 4.05㎡（8.1m×0.5m） | H13: 前回変状の発生範囲及び規模 | J13: 記載なし | M13: 変状の発生範囲及び規模 | P13: － | S13: 前回変状の発生範囲及び規模 | U13: 0.2㎡（1.3m×0.15m）
B14: 対策履歴 | E14: なし | H14: 実施状況（実施日） | J14: － | M14: 対策履歴 | P14: はく落防止工(FRPネット) | S14: 実施状況（実施日） | U14: －
B15: メモ | E15: 今回点検時漏水なし(継続監視) 【前回定期点検 Ⅲ判定】 | M15: メモ | P15: 対策済み 【前回定期点検 Ⅱa判定】
B16: 写真 番号 | C16: 覆工スパン 番号 | E16: 9 | F16: 余 白 | M16: 写真 番号 | N16: 覆工スパン 番号 | P16: 9 | Q16: 余 白
C17: 変状番号 | E17: 3 | N17: 変状番号 | P17: 4
B18: 変状 部位 | C18: 対象箇所 | E18: 覆工 | M18: 変状 部位 | N18: 対象箇所 | P18: 覆工
C19: 部位区分 | E19: 横断目地（左側） | N19: 部位区分 | P19: 水平打ち継ぎ目（左側）
B20: 変状種類 | E20: 漏水 | M20: 変状種類 | P20: 漏水
B21: 対策 区分 | C21: 変状区分 | E21: 漏水 | M21: 対策 区分 | N21: 変状区分 | P21: 漏水
C22: 応急措置前 | E22: － | N22: 応急措置前 | P22: －
C23: 応急措置後 | E23: Ⅱb | N23: 応急措置後 | P23: Ⅱb
B24: 変状の発生範囲及び規模 | E24: 3.5㎡（7m×0.5m） | H24: 前回変状の発生範囲及び規模 | J24: 記載なし | M24: 変状の発生範囲及び規模 | P24: 1.5㎡（3m×0.5m） | S24: 前回変状の発生範囲及び規模 | U24: 記載なし
B25: 対策履歴 | E25: なし | H25: 実施状況（実施日） | J25: － | M25: 対策履歴 | P25: なし | S25: 実施状況（実施日） | U25: －
B26: メモ | E26: 導水工から漏水、にじみ程度、遊離石灰を伴う(前回点検時遊離石灰のみ) 【前回定期点検 Ⅱb判定】 | M26: メモ | P26: 導水工から漏水、にじみ程度、遊離石灰を伴う(前回点検時遊離石灰のみ) 【前回定期点検 Ⅱb判定】
C27: ※ 応急措置後の対策区分について添付すること。また、点検前に 実施された措置によりⅠと判定された箇所も添付すること。 | N27: ※ 変状の発生範囲の規模とは、対策を行う際に参考となる変状の長さや面積をいう。
N28: ※ 応急措置を実施しないで決定した変状の対策区分は、対策区分の応急措置後の欄に記入すること。
C29: ※ たたき落としを実施した場合は、実施後の写真を添付すること。 | N29: ※ 変状の発生範囲の規模は、面積・寸法を記載すること。(ひび割れ幅のみmmとし、その他をm表記とする)
C30: ※ 変状数に準じてシートを追加すること。（１シートに１ページとすること。） | N30: ※ 構造用鋼材以外の異物に伴ううき・はく離については、メモ欄に異物の概要を記入すること。

Sheet 様式D-1-1_021
B2: ■定期点検記録様式 変状写真台帳【様式D-1-1】 | R2: 施設ID | T2: 34.28772,131.96019
B3: フリガナ | E3: (ﾋｴﾊﾞﾗｽﾞｲﾄﾞｳ) | H3: 路 線 名 | J3: 一般国道187号 | M3: 定期点検実施者 | P3: 応用地質（株） | S3: 定期点検年月日 | U3: 45840
B4: 名 称 | E4: 稗原隧道 | H4: 管理者名 | J4: 山口県岩国土木建築事務所 | P4: 太田 裕之
B5: 写真 番号 | C5: 覆工スパン 番号 | E5: 9 | F5: 余 白 | M5: 写真 番号 | N5: 覆工スパン 番号 | P5: 9 | Q5: 余 白
C6: 変状番号 | E6: 5 | N6: 変状番号 | P6: 6
B7: 変状 部位 | C7: 対象箇所 | E7: 覆工 | M7: 変状 部位 | N7: 対象箇所 | P7: 覆工
C8: 部位区分 | E8: アーチ（左側） | N8: 部位区分 | P8: 水平打ち継ぎ目（右側）
B9: 変状種類 | E9: 漏水 | M9: 変状種類 | P9: うき・はく離
B10: 対策 区分 | C10: 変状区分 | E10: 漏水 | M10: 対策 区分 | N10: 変状区分 | P10: 材質劣化
C11: 応急措置前 | E11: － | N11: 応急措置前 | P11: －
C12: 応急措置後 | E12: Ⅱb | N12: 応急措置後 | P12: Ⅰ
B13: 変状の発生範囲及び規模 | E13: 3.05㎡（6.1m×0.5m） | H13: 前回変状の発生範囲及び規模 | J13: 記載なし | M13: 変状の発生範囲及び規模 | P13: － | S13: 前回変状の発生範囲及び規模 | U13: 0.33㎡（0.15m×2.2m）
B14: 対策履歴 | E14: なし | H14: 実施状況（実施日） | J14: － | M14: 対策履歴 | P14: はく落防止工(FRPネット) | S14: 実施状況（実施日） | U14: －
B15: メモ | E15: 導水工から漏水、にじみ程度、遊離石灰を伴う(前回点検時遊離石灰のみ) 【前回定期点検 Ⅱb判定】 | M15: メモ | P15: 対策済み 【前回定期点検 Ⅱb判定】
B16: 写真 番号 | C16: 覆工スパン 番号 | E16: 9 | F16: 余 白 | M16: 写真 番号 | N16: 覆工スパン 番号 | P16: 9 | Q16: 余 白
C17: 変状番号 | E17: 7 | N17: 変状番号 | P17: 8
B18: 変状 部位 | C18: 対象箇所 | E18: 覆工 | M18: 変状 部位 | N18: 対象箇所 | P18: 覆工
C19: 部位区分 | E19: 水平打ち継ぎ目（右側） | N19: 部位区分 | P19: 水平打ち継ぎ目（右側）
B20: 変状種類 | E20: 漏水 | M20: 変状種類 | P20: うき・はく離
B21: 対策 区分 | C21: 変状区分 | E21: 漏水 | M21: 対策 区分 | N21: 変状区分 | P21: 材質劣化
C22: 応急措置前 | E22: － | N22: 応急措置前 | P22: －
C23: 応急措置後 | E23: Ⅱb | N23: 応急措置後 | P23: Ⅰ
B24: 変状の発生範囲及び規模 | E24: 1.5㎡（3m×0.5m） | H24: 前回変状の発生範囲及び規模 | J24: 記載なし | M24: 変状の発生範囲及び規模 | P24: － | S24: 前回変状の発生範囲及び規模 | U24: 0.23㎡（0.15m×1.5m）
B25: 対策履歴 | E25: なし | H25: 実施状況（実施日） | J25: － | M25: 対策履歴 | P25: はく落防止工(FRPネット) | S25: 実施状況（実施日） | U25: －
B26: メモ | E26: 漏水、にじみ程度、遊離石灰を伴う 【前回定期点検 Ⅱb判定】 | M26: メモ | P26: 対策済み 【前回定期点検 Ⅱb判定】
C27: ※ 応急措置後の対策区分について添付すること。また、点検前に 実施された措置によりⅠと判定された箇所も添付すること。 | N27: ※ 変状の発生範囲の規模とは、対策を行う際に参考となる変状の長さや面積をいう。
N28: ※ 応急措置を実施しないで決定した変状の対策区分は、対策区分の応急措置後の欄に記入すること。
C29: ※ たたき落としを実施した場合は、実施後の写真を添付すること。 | N29: ※ 変状の発生範囲の規模は、面積・寸法を記載すること。(ひび割れ幅のみmmとし、その他をm表記とする)
C30: ※ 変状数に準じてシートを追加すること。（１シートに１ページとすること。） | N30: ※ 構造用鋼材以外の異物に伴ううき・はく離については、メモ欄に異物の概要を記入すること。

Sheet 様式D-1-1_022
B2: ■定期点検記録様式 変状写真台帳【様式D-1-1】 | R2: 施設ID | T2: 34.28772,131.96019
B3: フリガナ | E3: (ﾋｴﾊﾞﾗｽﾞｲﾄﾞｳ) | H3: 路 線 名 | J3: 一般国道187号 | M3: 定期点検実施者 | P3: 応用地質（株） | S3: 定期点検年月日 | U3: 45840
B4: 名 称 | E4: 稗原隧道 | H4: 管理者名 | J4: 山口県岩国土木建築事務所 | P4: 太田 裕之
B5: 写真 番号 | C5: 覆工スパン 番号 | E5: 9 | F5: 余 白 | M5: 写真 番号 | N5: 覆工スパン 番号 | Q5: 余 白
C6: 変状番号 | E6: 9 | N6: 変状番号
B7: 変状 部位 | C7: 対象箇所 | E7: 覆工 | M7: 変状 部位 | N7: 対象箇所
C8: 部位区分 | E8: アーチ（天端） | N8: 部位区分
B9: 変状種類 | E9: 漏水 | M9: 変状種類
B10: 対策 区分 | C10: 変状区分 | E10: 漏水 | M10: 対策 区分 | N10: 変状区分
C11: 応急措置前 | E11: － | N11: 応急措置前
C12: 応急措置後 | E12: Ⅱa | N12: 応急措置後
B13: 変状の発生範囲及び規模 | E13: 4㎡（8m×0.5m） | H13: 前回変状の発生範囲及び規模 | J13: なし | M13: 変状の発生範囲及び規模 | S13: 前回変状の発生範囲及び規模
B14: 対策履歴 | E14: なし | H14: 実施状況（実施日） | J14: － | M14: 対策履歴 | S14: 実施状況（実施日）
B15: メモ | E15: 導水工から滴水、にじみなし、遊離石灰を伴う 【今回新たに確認】 | M15: メモ
B16: 写真 番号 | C16: 覆工スパン 番号 | F16: 余 白 | M16: 写真 番号 | N16: 覆工スパン 番号 | Q16: 余 白
C17: 変状番号 | N17: 変状番号
B18: 変状 部位 | C18: 対象箇所 | M18: 変状 部位 | N18: 対象箇所
C19: 部位区分 | N19: 部位区分
B20: 変状種類 | M20: 変状種類
B21: 対策 区分 | C21: 変状区分 | M21: 対策 区分 | N21: 変状区分
C22: 応急措置前 | N22: 応急措置前
C23: 応急措置後 | N23: 応急措置後
B24: 変状の発生範囲及び規模 | H24: 前回変状の発生範囲及び規模 | M24: 変状の発生範囲及び規模 | S24: 前回変状の発生範囲及び規模
B25: 対策履歴 | H25: 実施状況（実施日） | M25: 対策履歴 | S25: 実施状況（実施日）
B26: メモ | M26: メモ
C27: ※ 応急措置後の対策区分について添付すること。また、点検前に 実施された措置によりⅠと判定された箇所も添付すること。 | N27: ※ 変状の発生範囲の規模とは、対策を行う際に参考となる変状の長さや面積をいう。
N28: ※ 応急措置を実施しないで決定した変状の対策区分は、対策区分の応急措置後の欄に記入すること。
C29: ※ たたき落としを実施した場合は、実施後の写真を添付すること。 | N29: ※ 変状の発生範囲の規模は、面積・寸法を記載すること。(ひび割れ幅のみmmとし、その他をm表記とする)
C30: ※ 変状数に準じてシートを追加すること。（１シートに１ページとすること。） | N30: ※ 構造用鋼材以外の異物に伴ううき・はく離については、メモ欄に異物の概要を記入すること。

Sheet 様式D-1-1_023
B2: ■定期点検記録様式 変状写真台帳【様式D-1-1】 | R2: 施設ID | T2: 34.28772,131.96019
B3: フリガナ | E3: (ﾋｴﾊﾞﾗｽﾞｲﾄﾞｳ) | H3: 路 線 名 | J3: 一般国道187号 | M3: 定期点検実施者 | P3: 応用地質（株） | S3: 定期点検年月日 | U3: 45840
B4: 名 称 | E4: 稗原隧道 | H4: 管理者名 | J4: 山口県岩国土木建築事務所 | P4: 太田 裕之
B5: 写真 番号 | C5: 覆工スパン 番号 | E5: 10 | F5: 余 白 | M5: 写真 番号 | N5: 覆工スパン 番号 | P5: 10 | Q5: 余 白
C6: 変状番号 | E6: 1 | N6: 変状番号 | P6: 2
B7: 変状 部位 | C7: 対象箇所 | E7: 覆工 | M7: 変状 部位 | N7: 対象箇所 | P7: 覆工
C8: 部位区分 | E8: 横断目地（右側） | N8: 部位区分 | P8: アーチ（左側）
B9: 変状種類 | E9: 補修・補強材の破損 | M9: 変状種類 | P9: 漏水
B10: 対策 区分 | C10: 変状区分 | E10: 漏水 | M10: 対策 区分 | N10: 変状区分 | P10: 漏水
C11: 応急措置前 | E11: － | N11: 応急措置前 | P11: －
C12: 応急措置後 | E12: Ⅱa | N12: 応急措置後 | P12: Ⅱb
B13: 変状の発生範囲及び規模 | E13: 0.02㎡（0.2m×0.1m） | H13: 前回変状の発生範囲及び規模 | J13: 0.03㎡（0.25m×0.1m） | M13: 変状の発生範囲及び規模 | P13: 22.95㎡（4.5m×5.1m） | S13: 前回変状の発生範囲及び規模 | U13: 記載なし
B14: 対策履歴 | E14: なし | H14: 実施状況（実施日） | J14: － | M14: 対策履歴 | P14: なし | S14: 実施状況（実施日） | U14: －
B15: メモ | E15: 導水工の劣化、にじみあり、変状種類変更 【前回定期点検 Ⅱa判定】 | M15: メモ | P15: 導水工から漏水、にじみ程度(複数)、遊離石灰を伴う 【前回定期点検 Ⅱb判定】
B16: 写真 番号 | C16: 覆工スパン 番号 | E16: 10 | F16: 余 白 | M16: 写真 番号 | N16: 覆工スパン 番号 | P16: 10 | Q16: 余 白
C17: 変状番号 | E17: 3 | N17: 変状番号 | P17: 4
B18: 変状 部位 | C18: 対象箇所 | E18: 覆工 | M18: 変状 部位 | N18: 対象箇所 | P18: 覆工
C19: 部位区分 | E19: 水平打ち継ぎ目（右側） | N19: 部位区分 | P19: 水平打ち継ぎ目（右側）
B20: 変状種類 | E20: うき・はく離 | M20: 変状種類 | P20: うき・はく離
B21: 対策 区分 | C21: 変状区分 | E21: 材質劣化 | M21: 対策 区分 | N21: 変状区分 | P21: 材質劣化
C22: 応急措置前 | E22: － | N22: 応急措置前 | P22: －
C23: 応急措置後 | E23: Ⅰ | N23: 応急措置後 | P23: Ⅰ
B24: 変状の発生範囲及び規模 | E24: － | H24: 前回変状の発生範囲及び規模 | J24: 0.29㎡（0.15m×1.9m） | M24: 変状の発生範囲及び規模 | P24: － | S24: 前回変状の発生範囲及び規模 | U24: 0.1㎡（0.1m×1m）
B25: 対策履歴 | E25: はく落防止工(FRPネット) | H25: 実施状況（実施日） | J25: － | M25: 対策履歴 | P25: はく落防止工(FRPネット) | S25: 実施状況（実施日） | U25: －
B26: メモ | E26: 対策済み 【前回定期点検 Ⅱb判定】 | M26: メモ | P26: 対策済み 【前回定期点検 Ⅱb判定】
C27: ※ 応急措置後の対策区分について添付すること。また、点検前に 実施された措置によりⅠと判定された箇所も添付すること。 | N27: ※ 変状の発生範囲の規模とは、対策を行う際に参考となる変状の長さや面積をいう。
N28: ※ 応急措置を実施しないで決定した変状の対策区分は、対策区分の応急措置後の欄に記入すること。
C29: ※ たたき落としを実施した場合は、実施後の写真を添付すること。 | N29: ※ 変状の発生範囲の規模は、面積・寸法を記載すること。(ひび割れ幅のみmmとし、その他をm表記とする)
C30: ※ 変状数に準じてシートを追加すること。（１シートに１ページとすること。） | N30: ※ 構造用鋼材以外の異物に伴ううき・はく離については、メモ欄に異物の概要を記入すること。

Sheet 様式D-1-1_024
B2: ■定期点検記録様式 変状写真台帳【様式D-1-1】 | R2: 施設ID | T2: 34.28772,131.96019
B3: フリガナ | E3: (ﾋｴﾊﾞﾗｽﾞｲﾄﾞｳ) | H3: 路 線 名 | J3: 一般国道187号 | M3: 定期点検実施者 | P3: 応用地質（株） | S3: 定期点検年月日 | U3: 45840
B4: 名 称 | E4: 稗原隧道 | H4: 管理者名 | J4: 山口県岩国土木建築事務所 | P4: 太田 裕之
B5: 写真 番号 | C5: 覆工スパン 番号 | E5: 11 | F5: 余 白 | M5: 写真 番号 | N5: 覆工スパン 番号 | P5: 11 | Q5: 余 白
C6: 変状番号 | E6: 1 | N6: 変状番号 | P6: 2
B7: 変状 部位 | C7: 対象箇所 | E7: 覆工 | M7: 変状 部位 | N7: 対象箇所 | P7: 覆工
C8: 部位区分 | E8: アーチ（左側） | N8: 部位区分 | P8: 側壁（右側）
B9: 変状種類 | E9: 漏水 | M9: 変状種類 | P9: 漏水
B10: 対策 区分 | C10: 変状区分 | E10: 漏水 | M10: 対策 区分 | N10: 変状区分 | P10: 漏水
C11: 応急措置前 | E11: － | N11: 応急措置前 | P11: －
C12: 応急措置後 | E12: Ⅱb | N12: 応急措置後 | P12: Ⅱb
B13: 変状の発生範囲及び規模 | E13: 44.84㎡（7.6m×5.9m） | H13: 前回変状の発生範囲及び規模 | J13: 記載なし | M13: 変状の発生範囲及び規模 | P13: 0.7㎡（1.4m×0.5m） | S13: 前回変状の発生範囲及び規模 | U13: 記載なし
B14: 対策履歴 | E14: なし | H14: 実施状況（実施日） | J14: － | M14: 対策履歴 | P14: なし | S14: 実施状況（実施日） | U14: －
B15: メモ | E15: 導水工から漏水、にじみ程度(複数)、遊離石灰を伴う 【前回定期点検 Ⅱb判定】 | M15: メモ | P15: ひび割れから漏水、にじみ程度、遊離石灰を伴う 【前回定期点検 Ⅱb判定】
B16: 写真 番号 | C16: 覆工スパン 番号 | E16: 11 | F16: 余 白 | M16: 写真 番号 | N16: 覆工スパン 番号 | P16: 11 | Q16: 余 白
C17: 変状番号 | E17: 3 | N17: 変状番号 | P17: 4
B18: 変状 部位 | C18: 対象箇所 | E18: 覆工 | M18: 変状 部位 | N18: 対象箇所 | P18: 覆工
C19: 部位区分 | E19: 横断目地（右側） | N19: 部位区分 | P19: 横断目地（右側）
B20: 変状種類 | E20: 漏水 | M20: 変状種類 | P20: 補修・補強材の破損
B21: 対策 区分 | C21: 変状区分 | E21: 漏水 | M21: 対策 区分 | N21: 変状区分 | P21: 漏水
C22: 応急措置前 | E22: － | N22: 応急措置前 | P22: －
C23: 応急措置後 | E23: Ⅱb | N23: 応急措置後 | P23: Ⅱb
B24: 変状の発生範囲及び規模 | E24: 1.5㎡（3m×0.5m） | H24: 前回変状の発生範囲及び規模 | J24: 記載なし | M24: 変状の発生範囲及び規模 | P24: 0.01㎡（0.1m×0.1m） | S24: 前回変状の発生範囲及び規模 | U24: なし
B25: 対策履歴 | E25: なし | H25: 実施状況（実施日） | J25: － | M25: 対策履歴 | P25: なし | S25: 実施状況（実施日） | U25: －
B26: メモ | E26: 導水工から漏水、にじみ程度、遊離石灰を伴う 【前回定期点検 Ⅱb判定】 | M26: メモ | P26: 導水工の劣化 【今回新たに確認】
C27: ※ 応急措置後の対策区分について添付すること。また、点検前に 実施された措置によりⅠと判定された箇所も添付すること。 | N27: ※ 変状の発生範囲の規模とは、対策を行う際に参考となる変状の長さや面積をいう。
N28: ※ 応急措置を実施しないで決定した変状の対策区分は、対策区分の応急措置後の欄に記入すること。
C29: ※ たたき落としを実施した場合は、実施後の写真を添付すること。 | N29: ※ 変状の発生範囲の規模は、面積・寸法を記載すること。(ひび割れ幅のみmmとし、その他をm表記とする)
C30: ※ 変状数に準じてシートを追加すること。（１シートに１ページとすること。） | N30: ※ 構造用鋼材以外の異物に伴ううき・はく離については、メモ欄に異物の概要を記入すること。

Sheet 様式D-1-1_025
B2: ■定期点検記録様式 変状写真台帳【様式D-1-1】 | R2: 施設ID | T2: 34.28772,131.96019
B3: フリガナ | E3: (ﾋｴﾊﾞﾗｽﾞｲﾄﾞｳ) | H3: 路 線 名 | J3: 一般国道187号 | M3: 定期点検実施者 | P3: 応用地質（株） | S3: 定期点検年月日 | U3: 45840
B4: 名 称 | E4: 稗原隧道 | H4: 管理者名 | J4: 山口県岩国土木建築事務所 | P4: 太田 裕之
B5: 写真 番号 | C5: 覆工スパン 番号 | E5: 12 | F5: 余 白 | M5: 写真 番号 | N5: 覆工スパン 番号 | P5: 12 | Q5: 余 白
C6: 変状番号 | E6: 1 | N6: 変状番号 | P6: 2
B7: 変状 部位 | C7: 対象箇所 | E7: 覆工 | M7: 変状 部位 | N7: 対象箇所 | P7: 覆工
C8: 部位区分 | E8: 横断目地（天端） | N8: 部位区分 | P8: 側壁（右側）
B9: 変状種類 | E9: うき・はく離 | M9: 変状種類 | P9: 漏水
B10: 対策 区分 | C10: 変状区分 | E10: 材質劣化 | M10: 対策 区分 | N10: 変状区分 | P10: 漏水
C11: 応急措置前 | E11: － | N11: 応急措置前 | P11: －
C12: 応急措置後 | E12: Ⅰ | N12: 応急措置後 | P12: Ⅱb
B13: 変状の発生範囲及び規模 | E13: － | H13: 前回変状の発生範囲及び規模 | J13: 0.19㎡（1.9m×0.1m） | M13: 変状の発生範囲及び規模 | P13: 1.2㎡（2.4m×0.5m） | S13: 前回変状の発生範囲及び規模 | U13: 記載なし
B14: 対策履歴 | E14: はく落防止工(FRPネット) | H14: 実施状況（実施日） | J14: － | M14: 対策履歴 | P14: なし | S14: 実施状況（実施日） | U14: －
B15: メモ | E15: 対策済み 【前回定期点検 Ⅱa判定】 | M15: メモ | P15: ひび割れから漏水、にじみ程度、遊離石灰を伴う 【前回定期点検 Ⅱb判定】
B16: 写真 番号 | C16: 覆工スパン 番号 | E16: 12 | F16: 余 白 | M16: 写真 番号 | N16: 覆工スパン 番号 | P16: 12 | Q16: 余 白
C17: 変状番号 | E17: 3 | N17: 変状番号 | P17: 4
B18: 変状 部位 | C18: 対象箇所 | E18: 覆工 | M18: 変状 部位 | N18: 対象箇所 | P18: 覆工
C19: 部位区分 | E19: 水平打ち継ぎ目（右側） | N19: 部位区分 | P19: 横断目地（左側）
B20: 変状種類 | E20: うき・はく離 | M20: 変状種類 | P20: 補修・補強材の破損
B21: 対策 区分 | C21: 変状区分 | E21: 材質劣化 | M21: 対策 区分 | N21: 変状区分 | P21: 材質劣化
C22: 応急措置前 | E22: － | N22: 応急措置前 | P22: －
C23: 応急措置後 | E23: Ⅰ | N23: 応急措置後 | P23: Ⅱa
B24: 変状の発生範囲及び規模 | E24: － | H24: 前回変状の発生範囲及び規模 | J24: 0.14㎡（0.1m×1.4m） | M24: 変状の発生範囲及び規模 | P24: 0.6㎡（0.5m×1.2m） | S24: 前回変状の発生範囲及び規模 | U24: 0.04㎡（0.2m×0.2m）
B25: 対策履歴 | E25: はく落防止工(FRPネット) | H25: 実施状況（実施日） | J25: － | M25: 対策履歴 | P25: なし | S25: 実施状況（実施日） | U25: －
B26: メモ | E26: 対策済み 【前回定期点検 Ⅱb判定】 | M26: メモ | P26: 車両接触による破損、FRPメッシュ・うき共に落下の危険性なし 【前回定期点検 Ⅱa判定】
C27: ※ 応急措置後の対策区分について添付すること。また、点検前に 実施された措置によりⅠと判定された箇所も添付すること。 | N27: ※ 変状の発生範囲の規模とは、対策を行う際に参考となる変状の長さや面積をいう。
N28: ※ 応急措置を実施しないで決定した変状の対策区分は、対策区分の応急措置後の欄に記入すること。
C29: ※ たたき落としを実施した場合は、実施後の写真を添付すること。 | N29: ※ 変状の発生範囲の規模は、面積・寸法を記載すること。(ひび割れ幅のみmmとし、その他をm表記とする)
C30: ※ 変状数に準じてシートを追加すること。（１シートに１ページとすること。） | N30: ※ 構造用鋼材以外の異物に伴ううき・はく離については、メモ欄に異物の概要を記入すること。

Sheet 様式D-1-1_026
B2: ■定期点検記録様式 変状写真台帳【様式D-1-1】 | R2: 施設ID | T2: 34.28772,131.96019
B3: フリガナ | E3: (ﾋｴﾊﾞﾗｽﾞｲﾄﾞｳ) | H3: 路 線 名 | J3: 一般国道187号 | M3: 定期点検実施者 | P3: 応用地質（株） | S3: 定期点検年月日 | U3: 45840
B4: 名 称 | E4: 稗原隧道 | H4: 管理者名 | J4: 山口県岩国土木建築事務所 | P4: 太田 裕之
B5: 写真 番号 | C5: 覆工スパン 番号 | E5: 12 | F5: 余 白 | M5: 写真 番号 | N5: 覆工スパン 番号 | Q5: 余 白
C6: 変状番号 | E6: 5 | N6: 変状番号
B7: 変状 部位 | C7: 対象箇所 | E7: 覆工 | M7: 変状 部位 | N7: 対象箇所
C8: 部位区分 | E8: 横断目地（右側） | N8: 部位区分
B9: 変状種類 | E9: 漏水 | M9: 変状種類
B10: 対策 区分 | C10: 変状区分 | E10: 漏水 | M10: 対策 区分 | N10: 変状区分
C11: 応急措置前 | E11: － | N11: 応急措置前
C12: 応急措置後 | E12: Ⅱb | N12: 応急措置後
B13: 変状の発生範囲及び規模 | E13: 1.45㎡（2.9m×0.5m） | H13: 前回変状の発生範囲及び規模 | J13: 記載なし | M13: 変状の発生範囲及び規模 | S13: 前回変状の発生範囲及び規模
B14: 対策履歴 | E14: なし | H14: 実施状況（実施日） | J14: － | M14: 対策履歴 | S14: 実施状況（実施日）
B15: メモ | E15: 導水工から漏水、にじみ程度、遊離石灰を伴う(前回点検時遊離石灰のみ) 【前回定期点検 Ⅱb判定】 | M15: メモ
B16: 写真 番号 | C16: 覆工スパン 番号 | F16: 余 白 | M16: 写真 番号 | N16: 覆工スパン 番号 | Q16: 余 白
C17: 変状番号 | N17: 変状番号
B18: 変状 部位 | C18: 対象箇所 | M18: 変状 部位 | N18: 対象箇所
C19: 部位区分 | N19: 部位区分
B20: 変状種類 | M20: 変状種類
B21: 対策 区分 | C21: 変状区分 | M21: 対策 区分 | N21: 変状区分
C22: 応急措置前 | N22: 応急措置前
C23: 応急措置後 | N23: 応急措置後
B24: 変状の発生範囲及び規模 | H24: 前回変状の発生範囲及び規模 | M24: 変状の発生範囲及び規模 | S24: 前回変状の発生範囲及び規模
B25: 対策履歴 | H25: 実施状況（実施日） | M25: 対策履歴 | S25: 実施状況（実施日）
B26: メモ | M26: メモ
C27: ※ 応急措置後の対策区分について添付すること。また、点検前に 実施された措置によりⅠと判定された箇所も添付すること。 | N27: ※ 変状の発生範囲の規模とは、対策を行う際に参考となる変状の長さや面積をいう。
N28: ※ 応急措置を実施しないで決定した変状の対策区分は、対策区分の応急措置後の欄に記入すること。
C29: ※ たたき落としを実施した場合は、実施後の写真を添付すること。 | N29: ※ 変状の発生範囲の規模は、面積・寸法を記載すること。(ひび割れ幅のみmmとし、その他をm表記とする)
C30: ※ 変状数に準じてシートを追加すること。（１シートに１ページとすること。） | N30: ※ 構造用鋼材以外の異物に伴ううき・はく離については、メモ欄に異物の概要を記入すること。

Sheet 様式D-1-1_027
B2: ■定期点検記録様式 変状写真台帳【様式D-1-1】 | R2: 施設ID | T2: 34.28772,131.96019
B3: フリガナ | E3: (ﾋｴﾊﾞﾗｽﾞｲﾄﾞｳ) | H3: 路 線 名 | J3: 一般国道187号 | M3: 定期点検実施者 | P3: 応用地質（株） | S3: 定期点検年月日 | U3: 45840
B4: 名 称 | E4: 稗原隧道 | H4: 管理者名 | J4: 山口県岩国土木建築事務所 | P4: 太田 裕之
B5: 写真 番号 | C5: 覆工スパン 番号 | E5: 13 | F5: 余 白 | M5: 写真 番号 | N5: 覆工スパン 番号 | P5: 13 | Q5: 余 白
C6: 変状番号 | E6: 1 | N6: 変状番号 | P6: 2
B7: 変状 部位 | C7: 対象箇所 | E7: 覆工 | M7: 変状 部位 | N7: 対象箇所 | P7: 覆工
C8: 部位区分 | E8: アーチ（天端） | N8: 部位区分 | P8: 横断目地（天端）
B9: 変状種類 | E9: 漏水 | M9: 変状種類 | P9: うき・はく離
B10: 対策 区分 | C10: 変状区分 | E10: 漏水 | M10: 対策 区分 | N10: 変状区分 | P10: 材質劣化
C11: 応急措置前 | E11: － | N11: 応急措置前 | P11: －
C12: 応急措置後 | E12: Ⅱa | N12: 応急措置後 | P12: Ⅰ
B13: 変状の発生範囲及び規模 | E13: 3.85㎡（7.7m×0.5m） | H13: 前回変状の発生範囲及び規模 | J13: 記載なし | M13: 変状の発生範囲及び規模 | P13: － | S13: 前回変状の発生範囲及び規模 | U13: 0.23㎡（1.5m×0.15m）
B14: 対策履歴 | E14: なし | H14: 実施状況（実施日） | J14: － | M14: 対策履歴 | P14: はく落防止工(FRPネット) | S14: 実施状況（実施日） | U14: －
B15: メモ | E15: ひび割れから滴水、にじみなし、遊離石灰を伴う(前回点検時遊離石灰のみ)、進行性あり 【前回定期点検 Ⅱb判定】 | M15: メモ | P15: 対策済み 【前回定期点検 Ⅱa判定】
B16: 写真 番号 | C16: 覆工スパン 番号 | E16: 13 | F16: 余 白 | M16: 写真 番号 | N16: 覆工スパン 番号 | P16: 13 | Q16: 余 白
C17: 変状番号 | E17: 3 | N17: 変状番号 | P17: 4
B18: 変状 部位 | C18: 対象箇所 | E18: 覆工 | M18: 変状 部位 | N18: 対象箇所 | P18: 覆工
C19: 部位区分 | E19: 横断目地（右側） | N19: 部位区分 | P19: アーチ（左側）
B20: 変状種類 | E20: うき・はく離 | M20: 変状種類 | P20: 補修・補強材の破損
B21: 対策 区分 | C21: 変状区分 | E21: 材質劣化 | M21: 対策 区分 | N21: 変状区分 | P21: 材質劣化
C22: 応急措置前 | E22: － | N22: 応急措置前 | P22: －
C23: 応急措置後 | E23: Ⅰ | N23: 応急措置後 | P23: Ⅱa
B24: 変状の発生範囲及び規模 | E24: － | H24: 前回変状の発生範囲及び規模 | J24: 0.2㎡（0.5m×0.4m） | M24: 変状の発生範囲及び規模 | P24: 1.6㎡（0.8m×2m） | S24: 前回変状の発生範囲及び規模 | U24: なし
B25: 対策履歴 | E25: はく落防止工(FRPネット) | H25: 実施状況（実施日） | J25: － | M25: 対策履歴 | P25: なし | S25: 実施状況（実施日） | U25: －
B26: メモ | E26: 対策済み 【前回定期点検 Ⅱa判定】 | M26: メモ | P26: 車両接触による破損、落下の危険性なし 【今回新たに確認】
C27: ※ 応急措置後の対策区分について添付すること。また、点検前に 実施された措置によりⅠと判定された箇所も添付すること。 | N27: ※ 変状の発生範囲の規模とは、対策を行う際に参考となる変状の長さや面積をいう。
N28: ※ 応急措置を実施しないで決定した変状の対策区分は、対策区分の応急措置後の欄に記入すること。
C29: ※ たたき落としを実施した場合は、実施後の写真を添付すること。 | N29: ※ 変状の発生範囲の規模は、面積・寸法を記載すること。(ひび割れ幅のみmmとし、その他をm表記とする)
C30: ※ 変状数に準じてシートを追加すること。（１シートに１ページとすること。） | N30: ※ 構造用鋼材以外の異物に伴ううき・はく離については、メモ欄に異物の概要を記入すること。

Sheet 様式D-1-1_028
B2: ■定期点検記録様式 変状写真台帳【様式D-1-1】 | R2: 施設ID | T2: 34.28772,131.96019
B3: フリガナ | E3: (ﾋｴﾊﾞﾗｽﾞｲﾄﾞｳ) | H3: 路 線 名 | J3: 一般国道187号 | M3: 定期点検実施者 | P3: 応用地質（株） | S3: 定期点検年月日 | U3: 45840
B4: 名 称 | E4: 稗原隧道 | H4: 管理者名 | J4: 山口県岩国土木建築事務所 | P4: 太田 裕之
B5: 写真 番号 | C5: 覆工スパン 番号 | E5: 13 | F5: 余 白 | M5: 写真 番号 | N5: 覆工スパン 番号 | Q5: 余 白
C6: 変状番号 | E6: 5 | N6: 変状番号
B7: 変状 部位 | C7: 対象箇所 | E7: 覆工 | M7: 変状 部位 | N7: 対象箇所
C8: 部位区分 | E8: アーチ（天端） | N8: 部位区分
B9: 変状種類 | E9: 鋼材腐食 | M9: 変状種類
B10: 対策 区分 | C10: 変状区分 | E10: 材質劣化 | M10: 対策 区分 | N10: 変状区分
C11: 応急措置前 | E11: － | N11: 応急措置前
C12: 応急措置後 | E12: Ⅱb | N12: 応急措置後
B13: 変状の発生範囲及び規模 | E13: 0.9㎡（1m×0.9m） | H13: 前回変状の発生範囲及び規模 | J13: なし | M13: 変状の発生範囲及び規模 | S13: 前回変状の発生範囲及び規模
B14: 対策履歴 | E14: なし | H14: 実施状況（実施日） | J14: － | M14: 対策履歴 | S14: 実施状況（実施日）
B15: メモ | E15: 鋼材露出(深さ10mm未満、複数)、部分的に鋼材の露出あり(表面的な腐食)、周辺にうきなし、防錆剤塗布 【今回新たに確認】 | M15: メモ
B16: 写真 番号 | C16: 覆工スパン 番号 | F16: 余 白 | M16: 写真 番号 | N16: 覆工スパン 番号 | Q16: 余 白
C17: 変状番号 | N17: 変状番号
B18: 変状 部位 | C18: 対象箇所 | M18: 変状 部位 | N18: 対象箇所
C19: 部位区分 | N19: 部位区分
B20: 変状種類 | M20: 変状種類
B21: 対策 区分 | C21: 変状区分 | M21: 対策 区分 | N21: 変状区分
C22: 応急措置前 | N22: 応急措置前
C23: 応急措置後 | N23: 応急措置後
B24: 変状の発生範囲及び規模 | H24: 前回変状の発生範囲及び規模 | M24: 変状の発生範囲及び規模 | S24: 前回変状の発生範囲及び規模
B25: 対策履歴 | H25: 実施状況（実施日） | M25: 対策履歴 | S25: 実施状況（実施日）
B26: メモ | M26: メモ
C27: ※ 応急措置後の対策区分について添付すること。また、点検前に 実施された措置によりⅠと判定された箇所も添付すること。 | N27: ※ 変状の発生範囲の規模とは、対策を行う際に参考となる変状の長さや面積をいう。
N28: ※ 応急措置を実施しないで決定した変状の対策区分は、対策区分の応急措置後の欄に記入すること。
C29: ※ たたき落としを実施した場合は、実施後の写真を添付すること。 | N29: ※ 変状の発生範囲の規模は、面積・寸法を記載すること。(ひび割れ幅のみmmとし、その他をm表記とする)
C30: ※ 変状数に準じてシートを追加すること。（１シートに１ページとすること。） | N30: ※ 構造用鋼材以外の異物に伴ううき・はく離については、メモ欄に異物の概要を記入すること。

Sheet 様式D-1-1_029
B2: ■定期点検記録様式 変状写真台帳【様式D-1-1】 | R2: 施設ID | T2: 34.28772,131.96019
B3: フリガナ | E3: (ﾋｴﾊﾞﾗｽﾞｲﾄﾞｳ) | H3: 路 線 名 | J3: 一般国道187号 | M3: 定期点検実施者 | P3: 応用地質（株） | S3: 定期点検年月日 | U3: 45840
B4: 名 称 | E4: 稗原隧道 | H4: 管理者名 | J4: 山口県岩国土木建築事務所 | P4: 太田 裕之
B5: 写真 番号 | C5: 覆工スパン 番号 | E5: 14 | F5: 余 白 | M5: 写真 番号 | N5: 覆工スパン 番号 | P5: 14 | Q5: 余 白
C6: 変状番号 | E6: 1 | N6: 変状番号 | P6: 2
B7: 変状 部位 | C7: 対象箇所 | E7: 覆工 | M7: 変状 部位 | N7: 対象箇所 | P7: 覆工
C8: 部位区分 | E8: 横断目地（右側） | N8: 部位区分 | P8: 水平打ち継ぎ目（右側）
B9: 変状種類 | E9: うき・はく離 | M9: 変状種類 | P9: うき・はく離
B10: 対策 区分 | C10: 変状区分 | E10: 材質劣化 | M10: 対策 区分 | N10: 変状区分 | P10: 材質劣化
C11: 応急措置前 | E11: － | N11: 応急措置前 | P11: －
C12: 応急措置後 | E12: Ⅰ | N12: 応急措置後 | P12: Ⅰ
B13: 変状の発生範囲及び規模 | E13: － | H13: 前回変状の発生範囲及び規模 | J13: 0.05㎡（0.5m×0.1m） | M13: 変状の発生範囲及び規模 | P13: － | S13: 前回変状の発生範囲及び規模 | U13: 0.08㎡（0.2m×0.4m）
B14: 対策履歴 | E14: はく落防止工(FRPネット) | H14: 実施状況（実施日） | J14: － | M14: 対策履歴 | P14: はく落防止工(FRPネット) | S14: 実施状況（実施日） | U14: －
B15: メモ | E15: 対策済み 【前回定期点検 Ⅱa判定】 | M15: メモ | P15: 対策済み 【前回定期点検 Ⅱa判定】
B16: 写真 番号 | C16: 覆工スパン 番号 | E16: 14 | F16: 余 白 | M16: 写真 番号 | N16: 覆工スパン 番号 | P16: 14 | Q16: 余 白
C17: 変状番号 | E17: 3 | N17: 変状番号 | P17: 4
B18: 変状 部位 | C18: 対象箇所 | E18: 覆工 | M18: 変状 部位 | N18: 対象箇所 | P18: 覆工
C19: 部位区分 | E19: 横断目地（左側） | N19: 部位区分 | P19: アーチ（左側）
B20: 変状種類 | E20: 補修・補強材の破損 | M20: 変状種類 | P20: 補修・補強材の破損
B21: 対策 区分 | C21: 変状区分 | E21: 漏水 | M21: 対策 区分 | N21: 変状区分 | P21: 材質劣化
C22: 応急措置前 | E22: － | N22: 応急措置前 | P22: －
C23: 応急措置後 | E23: Ⅱb | N23: 応急措置後 | P23: Ⅱa
B24: 変状の発生範囲及び規模 | E24: 0.03㎡（0.3m×0.1m） | H24: 前回変状の発生範囲及び規模 | J24: 0.03㎡（0.3m×0.1m） | M24: 変状の発生範囲及び規模 | P24: 1.5㎡（1m×1.5m） | S24: 前回変状の発生範囲及び規模 | U24: 0.21㎡（0.3m×0.7m）
B25: 対策履歴 | E25: なし | H25: 実施状況（実施日） | J25: － | M25: 対策履歴 | P25: なし | S25: 実施状況（実施日） | U25: －
B26: メモ | E26: 導水工の劣化、変状区分・変状種類変更 【前回定期点検 Ⅱb判定】 | M26: メモ | P26: 車両接触による破損、FRPメッシュ・うき共に落下の危険性なし 【前回定期点検 Ⅱa判定】
C27: ※ 応急措置後の対策区分について添付すること。また、点検前に 実施された措置によりⅠと判定された箇所も添付すること。 | N27: ※ 変状の発生範囲の規模とは、対策を行う際に参考となる変状の長さや面積をいう。
N28: ※ 応急措置を実施しないで決定した変状の対策区分は、対策区分の応急措置後の欄に記入すること。
C29: ※ たたき落としを実施した場合は、実施後の写真を添付すること。 | N29: ※ 変状の発生範囲の規模は、面積・寸法を記載すること。(ひび割れ幅のみmmとし、その他をm表記とする)
C30: ※ 変状数に準じてシートを追加すること。（１シートに１ページとすること。） | N30: ※ 構造用鋼材以外の異物に伴ううき・はく離については、メモ欄に異物の概要を記入すること。

Sheet 様式D-1-1_030
B2: ■定期点検記録様式 変状写真台帳【様式D-1-1】 | R2: 施設ID | T2: 34.28772,131.96019
B3: フリガナ | E3: (ﾋｴﾊﾞﾗｽﾞｲﾄﾞｳ) | H3: 路 線 名 | J3: 一般国道187号 | M3: 定期点検実施者 | P3: 応用地質（株） | S3: 定期点検年月日 | U3: 45840
B4: 名 称 | E4: 稗原隧道 | H4: 管理者名 | J4: 山口県岩国土木建築事務所 | P4: 太田 裕之
B5: 写真 番号 | C5: 覆工スパン 番号 | E5: 14 | F5: 余 白 | M5: 写真 番号 | N5: 覆工スパン 番号 | P5: 14 | Q5: 余 白
C6: 変状番号 | E6: 5 | N6: 変状番号 | P6: 6
B7: 変状 部位 | C7: 対象箇所 | E7: 覆工 | M7: 変状 部位 | N7: 対象箇所 | P7: 覆工
C8: 部位区分 | E8: アーチ（天端） | N8: 部位区分 | P8: 側壁（右側）
B9: 変状種類 | E9: うき・はく離 | M9: 変状種類 | P9: 漏水
B10: 対策 区分 | C10: 変状区分 | E10: 材質劣化 | M10: 対策 区分 | N10: 変状区分 | P10: 漏水
C11: 応急措置前 | E11: － | N11: 応急措置前 | P11: －
C12: 応急措置後 | E12: Ⅰ | N12: 応急措置後 | P12: Ⅱb
B13: 変状の発生範囲及び規模 | E13: － | H13: 前回変状の発生範囲及び規模 | J13: 0.34㎡（0.1m×3.4m） | M13: 変状の発生範囲及び規模 | P13: 0.7㎡（1.4m×0.5m） | S13: 前回変状の発生範囲及び規模 | U13: 記載なし
B14: 対策履歴 | E14: はく落防止工(FRPネット) | H14: 実施状況（実施日） | J14: － | M14: 対策履歴 | P14: なし | S14: 実施状況（実施日） | U14: －
B15: メモ | E15: 対策済み 【前回定期点検 Ⅱa判定】 | M15: メモ | P15: ひび割れから漏水、にじみ程度、遊離石灰を伴う(前回点検時遊離石灰のみ) 【前回定期点検 Ⅱb判定】
B16: 写真 番号 | C16: 覆工スパン 番号 | F16: 余 白 | M16: 写真 番号 | N16: 覆工スパン 番号 | Q16: 余 白
C17: 変状番号 | N17: 変状番号
B18: 変状 部位 | C18: 対象箇所 | M18: 変状 部位 | N18: 対象箇所
C19: 部位区分 | N19: 部位区分
B20: 変状種類 | M20: 変状種類
B21: 対策 区分 | C21: 変状区分 | M21: 対策 区分 | N21: 変状区分
C22: 応急措置前 | N22: 応急措置前
C23: 応急措置後 | N23: 応急措置後
B24: 変状の発生範囲及び規模 | H24: 前回変状の発生範囲及び規模 | M24: 変状の発生範囲及び規模 | S24: 前回変状の発生範囲及び規模
B25: 対策履歴 | H25: 実施状況（実施日） | M25: 対策履歴 | S25: 実施状況（実施日）
B26: メモ | M26: メモ
C27: ※ 応急措置後の対策区分について添付すること。また、点検前に 実施された措置によりⅠと判定された箇所も添付すること。 | N27: ※ 変状の発生範囲の規模とは、対策を行う際に参考となる変状の長さや面積をいう。
N28: ※ 応急措置を実施しないで決定した変状の対策区分は、対策区分の応急措置後の欄に記入すること。
C29: ※ たたき落としを実施した場合は、実施後の写真を添付すること。 | N29: ※ 変状の発生範囲の規模は、面積・寸法を記載すること。(ひび割れ幅のみmmとし、その他をm表記とする)
C30: ※ 変状数に準じてシートを追加すること。（１シートに１ページとすること。） | N30: ※ 構造用鋼材以外の異物に伴ううき・はく離については、メモ欄に異物の概要を記入すること。

Sheet 様式D-1-1_031
B2: ■定期点検記録様式 変状写真台帳【様式D-1-1】 | R2: 施設ID | T2: 34.28772,131.96019
B3: フリガナ | E3: (ﾋｴﾊﾞﾗｽﾞｲﾄﾞｳ) | H3: 路 線 名 | J3: 一般国道187号 | M3: 定期点検実施者 | P3: 応用地質（株） | S3: 定期点検年月日 | U3: 45840
B4: 名 称 | E4: 稗原隧道 | H4: 管理者名 | J4: 山口県岩国土木建築事務所 | P4: 太田 裕之
B5: 写真 番号 | C5: 覆工スパン 番号 | E5: 15 | F5: 余 白 | M5: 写真 番号 | N5: 覆工スパン 番号 | P5: 15 | Q5: 余 白
C6: 変状番号 | E6: 1 | N6: 変状番号 | P6: 2
B7: 変状 部位 | C7: 対象箇所 | E7: 覆工 | M7: 変状 部位 | N7: 対象箇所 | P7: 覆工
C8: 部位区分 | E8: アーチ（左側） | N8: 部位区分 | P8: 横断目地（右側）
B9: 変状種類 | E9: 漏水 | M9: 変状種類 | P9: うき・はく離
B10: 対策 区分 | C10: 変状区分 | E10: 漏水 | M10: 対策 区分 | N10: 変状区分 | P10: 材質劣化
C11: 応急措置前 | E11: － | N11: 応急措置前 | P11: －
C12: 応急措置後 | E12: Ⅱb | N12: 応急措置後 | P12: Ⅰ
B13: 変状の発生範囲及び規模 | E13: 2㎡（4m×0.5m） | H13: 前回変状の発生範囲及び規模 | J13: 記載なし | M13: 変状の発生範囲及び規模 | P13: － | S13: 前回変状の発生範囲及び規模 | U13: 0.04㎡（0.2m×0.2m）
B14: 対策履歴 | E14: なし | H14: 実施状況（実施日） | J14: － | M14: 対策履歴 | P14: はく落防止工(FRPネット) | S14: 実施状況（実施日） | U14: －
B15: メモ | E15: 今回点検時漏水なし(継続監視) 【前回定期点検 Ⅱb判定】 | M15: メモ | P15: 対策済み 【前回定期点検 Ⅱa判定】
B16: 写真 番号 | C16: 覆工スパン 番号 | E16: 15 | F16: 余 白 | M16: 写真 番号 | N16: 覆工スパン 番号 | P16: 15 | Q16: 余 白
C17: 変状番号 | E17: 3 | N17: 変状番号 | P17: 4
B18: 変状 部位 | C18: 対象箇所 | E18: 覆工 | M18: 変状 部位 | N18: 対象箇所 | P18: 覆工
C19: 部位区分 | E19: 横断目地（天端） | N19: 部位区分 | P19: アーチ（天端）
B20: 変状種類 | E20: うき・はく離 | M20: 変状種類 | P20: うき・はく離
B21: 対策 区分 | C21: 変状区分 | E21: 材質劣化 | M21: 対策 区分 | N21: 変状区分 | P21: 材質劣化
C22: 応急措置前 | E22: － | N22: 応急措置前 | P22: －
C23: 応急措置後 | E23: Ⅰ | N23: 応急措置後 | P23: Ⅰ
B24: 変状の発生範囲及び規模 | E24: － | H24: 前回変状の発生範囲及び規模 | J24: 0.13㎡（1.3m×0.1m） | M24: 変状の発生範囲及び規模 | P24: － | S24: 前回変状の発生範囲及び規模 | U24: 0.14㎡（0.1m×1.4m）
B25: 対策履歴 | E25: はく落防止工(FRPネット) | H25: 実施状況（実施日） | J25: － | M25: 対策履歴 | P25: はく落防止工(FRPネット) | S25: 実施状況（実施日） | U25: －
B26: メモ | E26: 対策済み 【前回定期点検 Ⅱa判定】 | M26: メモ | P26: 対策済み 【前回定期点検 Ⅱa判定】
C27: ※ 応急措置後の対策区分について添付すること。また、点検前に 実施された措置によりⅠと判定された箇所も添付すること。 | N27: ※ 変状の発生範囲の規模とは、対策を行う際に参考となる変状の長さや面積をいう。
N28: ※ 応急措置を実施しないで決定した変状の対策区分は、対策区分の応急措置後の欄に記入すること。
C29: ※ たたき落としを実施した場合は、実施後の写真を添付すること。 | N29: ※ 変状の発生範囲の規模は、面積・寸法を記載すること。(ひび割れ幅のみmmとし、その他をm表記とする)
C30: ※ 変状数に準じてシートを追加すること。（１シートに１ページとすること。） | N30: ※ 構造用鋼材以外の異物に伴ううき・はく離については、メモ欄に異物の概要を記入すること。

Sheet 様式D-1-1_032
B2: ■定期点検記録様式 変状写真台帳【様式D-1-1】 | R2: 施設ID | T2: 34.28772,131.96019
B3: フリガナ | E3: (ﾋｴﾊﾞﾗｽﾞｲﾄﾞｳ) | H3: 路 線 名 | J3: 一般国道187号 | M3: 定期点検実施者 | P3: 応用地質（株） | S3: 定期点検年月日 | U3: 45840
B4: 名 称 | E4: 稗原隧道 | H4: 管理者名 | J4: 山口県岩国土木建築事務所 | P4: 太田 裕之
B5: 写真 番号 | C5: 覆工スパン 番号 | E5: 15 | F5: 余 白 | M5: 写真 番号 | N5: 覆工スパン 番号 | P5: 15 | Q5: 余 白
C6: 変状番号 | E6: 5 | N6: 変状番号 | P6: 6
B7: 変状 部位 | C7: 対象箇所 | E7: 覆工 | M7: 変状 部位 | N7: 対象箇所 | P7: 覆工
C8: 部位区分 | E8: 側壁（右側） | N8: 部位区分 | P8: アーチ（左側）
B9: 変状種類 | E9: 漏水 | M9: 変状種類 | P9: 補修・補強材の破損
B10: 対策 区分 | C10: 変状区分 | E10: 漏水 | M10: 対策 区分 | N10: 変状区分 | P10: 材質劣化
C11: 応急措置前 | E11: － | N11: 応急措置前 | P11: －
C12: 応急措置後 | E12: Ⅱb | N12: 応急措置後 | P12: Ⅱa
B13: 変状の発生範囲及び規模 | E13: 1.25㎡（2.5m×0.5m） | H13: 前回変状の発生範囲及び規模 | J13: 記載なし | M13: 変状の発生範囲及び規模 | P13: 0.2㎡（0.5m×0.4m） | S13: 前回変状の発生範囲及び規模 | U13: なし
B14: 対策履歴 | E14: なし | H14: 実施状況（実施日） | J14: － | M14: 対策履歴 | P14: なし | S14: 実施状況（実施日） | U14: －
B15: メモ | E15: ひび割れから漏水、にじみ程度、遊離石灰を伴う(前回点検時遊離石灰のみ) 【前回定期点検 Ⅱb判定】 | M15: メモ | P15: 車両接触による破損、落下の危険性なし 【今回新たに確認】
B16: 写真 番号 | C16: 覆工スパン 番号 | F16: 余 白 | M16: 写真 番号 | N16: 覆工スパン 番号 | Q16: 余 白
C17: 変状番号 | N17: 変状番号
B18: 変状 部位 | C18: 対象箇所 | M18: 変状 部位 | N18: 対象箇所
C19: 部位区分 | N19: 部位区分
B20: 変状種類 | M20: 変状種類
B21: 対策 区分 | C21: 変状区分 | M21: 対策 区分 | N21: 変状区分
C22: 応急措置前 | N22: 応急措置前
C23: 応急措置後 | N23: 応急措置後
B24: 変状の発生範囲及び規模 | H24: 前回変状の発生範囲及び規模 | M24: 変状の発生範囲及び規模 | S24: 前回変状の発生範囲及び規模
B25: 対策履歴 | H25: 実施状況（実施日） | M25: 対策履歴 | S25: 実施状況（実施日）
B26: メモ | M26: メモ
C27: ※ 応急措置後の対策区分について添付すること。また、点検前に 実施された措置によりⅠと判定された箇所も添付すること。 | N27: ※ 変状の発生範囲の規模とは、対策を行う際に参考となる変状の長さや面積をいう。
N28: ※ 応急措置を実施しないで決定した変状の対策区分は、対策区分の応急措置後の欄に記入すること。
C29: ※ たたき落としを実施した場合は、実施後の写真を添付すること。 | N29: ※ 変状の発生範囲の規模は、面積・寸法を記載すること。(ひび割れ幅のみmmとし、その他をm表記とする)
C30: ※ 変状数に準じてシートを追加すること。（１シートに１ページとすること。） | N30: ※ 構造用鋼材以外の異物に伴ううき・はく離については、メモ欄に異物の概要を記入すること。

Sheet 様式D-1-1_033
B2: ■定期点検記録様式 変状写真台帳【様式D-1-1】 | R2: 施設ID | T2: 34.28772,131.96019
B3: フリガナ | E3: (ﾋｴﾊﾞﾗｽﾞｲﾄﾞｳ) | H3: 路 線 名 | J3: 一般国道187号 | M3: 定期点検実施者 | P3: 応用地質（株） | S3: 定期点検年月日 | U3: 45840
B4: 名 称 | E4: 稗原隧道 | H4: 管理者名 | J4: 山口県岩国土木建築事務所 | P4: 太田 裕之
B5: 写真 番号 | C5: 覆工スパン 番号 | E5: 16 | F5: 余 白 | M5: 写真 番号 | N5: 覆工スパン 番号 | P5: 16 | Q5: 余 白
C6: 変状番号 | E6: 1 | N6: 変状番号 | P6: 2
B7: 変状 部位 | C7: 対象箇所 | E7: 覆工 | M7: 変状 部位 | N7: 対象箇所 | P7: 覆工
C8: 部位区分 | E8: アーチ（天端） | N8: 部位区分 | P8: 横断目地（天端）
B9: 変状種類 | E9: うき・はく離 | M9: 変状種類 | P9: うき・はく離
B10: 対策 区分 | C10: 変状区分 | E10: 材質劣化 | M10: 対策 区分 | N10: 変状区分 | P10: 材質劣化
C11: 応急措置前 | E11: － | N11: 応急措置前 | P11: －
C12: 応急措置後 | E12: Ⅰ | N12: 応急措置後 | P12: Ⅰ
B13: 変状の発生範囲及び規模 | E13: － | H13: 前回変状の発生範囲及び規模 | J13: 0.11㎡（0.1m×1.1m） | M13: 変状の発生範囲及び規模 | P13: － | S13: 前回変状の発生範囲及び規模 | U13: 0.16㎡（0.8m×0.2m）
B14: 対策履歴 | E14: はく落防止工(FRPネット) | H14: 実施状況（実施日） | J14: － | M14: 対策履歴 | P14: はく落防止工(FRPネット) | S14: 実施状況（実施日） | U14: －
B15: メモ | E15: 対策済み 【前回定期点検 Ⅱa判定】 | M15: メモ | P15: 対策済み 【前回定期点検 Ⅱa判定】
B16: 写真 番号 | C16: 覆工スパン 番号 | E16: 16 | F16: 余 白 | M16: 写真 番号 | N16: 覆工スパン 番号 | P16: 16 | Q16: 余 白
C17: 変状番号 | E17: 3 | N17: 変状番号 | P17: 4
B18: 変状 部位 | C18: 対象箇所 | E18: 覆工 | M18: 変状 部位 | N18: 対象箇所 | P18: 覆工
C19: 部位区分 | E19: 横断目地（右側） | N19: 部位区分 | P19: アーチ（左側）
B20: 変状種類 | E20: 漏水 | M20: 変状種類 | P20: うき・はく離
B21: 対策 区分 | C21: 変状区分 | E21: 漏水 | M21: 対策 区分 | N21: 変状区分 | P21: 材質劣化
C22: 応急措置前 | E22: － | N22: 応急措置前 | P22: －
C23: 応急措置後 | E23: Ⅱb | N23: 応急措置後 | P23: Ⅲ
B24: 変状の発生範囲及び規模 | E24: 2.35㎡（4.7m×0.5m） | H24: 前回変状の発生範囲及び規模 | J24: 記載なし | M24: 変状の発生範囲及び規模 | P24: 0.91㎡（0.7m×1.3m） | S24: 前回変状の発生範囲及び規模 | U24: 0.91㎡（0.7m×1.3m）
B25: 対策履歴 | E25: なし | H25: 実施状況（実施日） | J25: － | M25: 対策履歴 | P25: なし | S25: 実施状況（実施日） | U25: －
B26: メモ | E26: 今回点検時漏水なし(継続監視) 【前回定期点検 Ⅱb判定】 | M26: メモ | P26: 豆板、ぐらつきあり、打音異常あり、進行性あり、浸透固化材塗布 【前回定期点検 Ⅱb判定】
C27: ※ 応急措置後の対策区分について添付すること。また、点検前に 実施された措置によりⅠと判定された箇所も添付すること。 | N27: ※ 変状の発生範囲の規模とは、対策を行う際に参考となる変状の長さや面積をいう。
N28: ※ 応急措置を実施しないで決定した変状の対策区分は、対策区分の応急措置後の欄に記入すること。
C29: ※ たたき落としを実施した場合は、実施後の写真を添付すること。 | N29: ※ 変状の発生範囲の規模は、面積・寸法を記載すること。(ひび割れ幅のみmmとし、その他をm表記とする)
C30: ※ 変状数に準じてシートを追加すること。（１シートに１ページとすること。） | N30: ※ 構造用鋼材以外の異物に伴ううき・はく離については、メモ欄に異物の概要を記入すること。

Sheet 様式D-1-1_034
B2: ■定期点検記録様式 変状写真台帳【様式D-1-1】 | R2: 施設ID | T2: 34.28772,131.96019
B3: フリガナ | E3: (ﾋｴﾊﾞﾗｽﾞｲﾄﾞｳ) | H3: 路 線 名 | J3: 一般国道187号 | M3: 定期点検実施者 | P3: 応用地質（株） | S3: 定期点検年月日 | U3: 45840
B4: 名 称 | E4: 稗原隧道 | H4: 管理者名 | J4: 山口県岩国土木建築事務所 | P4: 太田 裕之
B5: 写真 番号 | C5: 覆工スパン 番号 | E5: 16 | F5: 余 白 | M5: 写真 番号 | N5: 覆工スパン 番号 | P5: 16 | Q5: 余 白
C6: 変状番号 | E6: 5 | N6: 変状番号 | P6: 6
B7: 変状 部位 | C7: 対象箇所 | E7: 覆工 | M7: 変状 部位 | N7: 対象箇所 | P7: 覆工
C8: 部位区分 | E8: アーチ（天端） | N8: 部位区分 | P8: アーチ（天端）
B9: 変状種類 | E9: うき・はく離 | M9: 変状種類 | P9: うき・はく離
B10: 対策 区分 | C10: 変状区分 | E10: 材質劣化 | M10: 対策 区分 | N10: 変状区分 | P10: 材質劣化
C11: 応急措置前 | E11: － | N11: 応急措置前 | P11: －
C12: 応急措置後 | E12: Ⅱb | N12: 応急措置後 | P12: Ⅲ
B13: 変状の発生範囲及び規模 | E13: 0.45㎡（0.8m×0.2m） | H13: 前回変状の発生範囲及び規模 | J13: 0.16㎡（0.8m×0.2m） | M13: 変状の発生範囲及び規模 | P13: 0.1㎡（0.2m×0.5m） | S13: 前回変状の発生範囲及び規模 | U13: 0.65㎡（0.5m×1.3m）
B14: 対策履歴 | E14: なし | H14: 実施状況（実施日） | J14: － | M14: 対策履歴 | P14: なし | S14: 実施状況（実施日） | U14: －
B15: メモ | E15: 豆板、ひび割れ・遊離石灰を伴う、打音異常なし 【前回定期点検 Ⅱb判定】 | M15: メモ | P15: 豆板（対策工から外れた一部分）、ひび割れ・ぐらつきあり、打音異常あり、進行性あり、浸透固化材塗布 【前回定期点検 Ⅱb判定】
B16: 写真 番号 | C16: 覆工スパン 番号 | E16: 16 | F16: 余 白 | M16: 写真 番号 | N16: 覆工スパン 番号 | P16: 16 | Q16: 余 白
C17: 変状番号 | E17: 7 | N17: 変状番号 | P17: 8
B18: 変状 部位 | C18: 対象箇所 | E18: 覆工 | M18: 変状 部位 | N18: 対象箇所 | P18: 覆工
C19: 部位区分 | E19: 横断目地（左側） | N19: 部位区分 | P19: アーチ（左側）
B20: 変状種類 | E20: うき・はく離 | M20: 変状種類 | P20: 鋼材腐食
B21: 対策 区分 | C21: 変状区分 | E21: 材質劣化 | M21: 対策 区分 | N21: 変状区分 | P21: 材質劣化
C22: 応急措置前 | E22: － | N22: 応急措置前 | P22: －
C23: 応急措置後 | E23: Ⅰ | N23: 応急措置後 | P23: Ⅱb
B24: 変状の発生範囲及び規模 | E24: － | H24: 前回変状の発生範囲及び規模 | J24: 0.22㎡（0.55m×0.4m） | M24: 変状の発生範囲及び規模 | P24: 0.02㎡（0.1m×0.2m） | S24: 前回変状の発生範囲及び規模 | U24: 0.02㎡（0.1m×0.2m）
B25: 対策履歴 | E25: はく落防止工(FRPネット) | H25: 実施状況（実施日） | J25: － | M25: 対策履歴 | P25: なし | S25: 実施状況（実施日） | U25: －
B26: メモ | E26: 対策済み 【前回定期点検 Ⅱa判定】 | M26: メモ | P26: 鋼材露出(深さ30mm)、部分的に鋼材の露出あり(表面的な腐食)、周辺にうきなし、防錆剤塗布 【前回定期点検 Ⅱb判定】
C27: ※ 応急措置後の対策区分について添付すること。また、点検前に 実施された措置によりⅠと判定された箇所も添付すること。 | N27: ※ 変状の発生範囲の規模とは、対策を行う際に参考となる変状の長さや面積をいう。
N28: ※ 応急措置を実施しないで決定した変状の対策区分は、対策区分の応急措置後の欄に記入すること。
C29: ※ たたき落としを実施した場合は、実施後の写真を添付すること。 | N29: ※ 変状の発生範囲の規模は、面積・寸法を記載すること。(ひび割れ幅のみmmとし、その他をm表記とする)
C30: ※ 変状数に準じてシートを追加すること。（１シートに１ページとすること。） | N30: ※ 構造用鋼材以外の異物に伴ううき・はく離については、メモ欄に異物の概要を記入すること。

Sheet 様式D-1-1_035
B2: ■定期点検記録様式 変状写真台帳【様式D-1-1】 | R2: 施設ID | T2: 34.28772,131.96019
B3: フリガナ | E3: (ﾋｴﾊﾞﾗｽﾞｲﾄﾞｳ) | H3: 路 線 名 | J3: 一般国道187号 | M3: 定期点検実施者 | P3: 応用地質（株） | S3: 定期点検年月日 | U3: 45840
B4: 名 称 | E4: 稗原隧道 | H4: 管理者名 | J4: 山口県岩国土木建築事務所 | P4: 太田 裕之
B5: 写真 番号 | C5: 覆工スパン 番号 | E5: 16 | F5: 余 白 | M5: 写真 番号 | N5: 覆工スパン 番号 | P5: 16 | Q5: 余 白
C6: 変状番号 | E6: 9 | N6: 変状番号 | P6: 10
B7: 変状 部位 | C7: 対象箇所 | E7: 覆工 | M7: 変状 部位 | N7: 対象箇所 | P7: 覆工
C8: 部位区分 | E8: 水平打ち継ぎ目（右側） | N8: 部位区分 | P8: アーチ（右側）
B9: 変状種類 | E9: うき・はく離 | M9: 変状種類 | P9: うき・はく離
B10: 対策 区分 | C10: 変状区分 | E10: 材質劣化 | M10: 対策 区分 | N10: 変状区分 | P10: 材質劣化
C11: 応急措置前 | E11: － | N11: 応急措置前 | P11: －
C12: 応急措置後 | E12: Ⅰ | N12: 応急措置後 | P12: Ⅱa
B13: 変状の発生範囲及び規模 | E13: － | H13: 前回変状の発生範囲及び規模 | J13: 0.07㎡（0.1m×0.65m） | M13: 変状の発生範囲及び規模 | P13: 0.06㎡（0.2m×0.3m） | S13: 前回変状の発生範囲及び規模 | U13: なし
B14: 対策履歴 | E14: はく落防止工(FRPネット) | H14: 実施状況（実施日） | J14: － | M14: 対策履歴 | P14: なし | S14: 実施状況（実施日） | U14: －
B15: メモ | E15: 対策済み 【前回定期点検 Ⅱb判定】 | M15: メモ | P15: 豆板、骨材の突出が顕著、ぐらつきなし、打音異常なし、浸透固化材塗布 【今回新たに確認】
B16: 写真 番号 | C16: 覆工スパン 番号 | F16: 余 白 | M16: 写真 番号 | N16: 覆工スパン 番号 | Q16: 余 白
C17: 変状番号 | N17: 変状番号
B18: 変状 部位 | C18: 対象箇所 | M18: 変状 部位 | N18: 対象箇所
C19: 部位区分 | N19: 部位区分
B20: 変状種類 | M20: 変状種類
B21: 対策 区分 | C21: 変状区分 | M21: 対策 区分 | N21: 変状区分
C22: 応急措置前 | N22: 応急措置前
C23: 応急措置後 | N23: 応急措置後
B24: 変状の発生範囲及び規模 | H24: 前回変状の発生範囲及び規模 | M24: 変状の発生範囲及び規模 | S24: 前回変状の発生範囲及び規模
B25: 対策履歴 | H25: 実施状況（実施日） | M25: 対策履歴 | S25: 実施状況（実施日）
B26: メモ | M26: メモ
C27: ※ 応急措置後の対策区分について添付すること。また、点検前に 実施された措置によりⅠと判定された箇所も添付すること。 | N27: ※ 変状の発生範囲の規模とは、対策を行う際に参考となる変状の長さや面積をいう。
N28: ※ 応急措置を実施しないで決定した変状の対策区分は、対策区分の応急措置後の欄に記入すること。
C29: ※ たたき落としを実施した場合は、実施後の写真を添付すること。 | N29: ※ 変状の発生範囲の規模は、面積・寸法を記載すること。(ひび割れ幅のみmmとし、その他をm表記とする)
C30: ※ 変状数に準じてシートを追加すること。（１シートに１ページとすること。） | N30: ※ 構造用鋼材以外の異物に伴ううき・はく離については、メモ欄に異物の概要を記入すること。

Sheet 様式D-1-1_036
B2: ■定期点検記録様式 変状写真台帳【様式D-1-1】 | R2: 施設ID | T2: 34.28772,131.96019
B3: フリガナ | E3: (ﾋｴﾊﾞﾗｽﾞｲﾄﾞｳ) | H3: 路 線 名 | J3: 一般国道187号 | M3: 定期点検実施者 | P3: 応用地質（株） | S3: 定期点検年月日 | U3: 45840
B4: 名 称 | E4: 稗原隧道 | H4: 管理者名 | J4: 山口県岩国土木建築事務所 | P4: 太田 裕之
B5: 写真 番号 | C5: 覆工スパン 番号 | E5: PE | F5: 余 白 | M5: 写真 番号 | N5: 覆工スパン 番号 | Q5: 余 白
C6: 変状番号 | E6: 1 | N6: 変状番号
B7: 変状 部位 | C7: 対象箇所 | E7: 坑門 | M7: 変状 部位 | N7: 対象箇所
C8: 部位区分 | E8: 面壁・妻壁等 | N8: 部位区分
B9: 変状種類 | E9: 変形・移動 | M9: 変状種類
B10: 対策 区分 | C10: 変状区分 | E10: 外力 | M10: 対策 区分 | N10: 変状区分
C11: 応急措置前 | E11: － | N11: 応急措置前
C12: 応急措置後 | E12: Ⅱa | N12: 応急措置後
B13: 変状の発生範囲及び規模 | E13: 3.5㎡（3.5m×1m） | H13: 前回変状の発生範囲及び規模 | J13: 長さ2.5m×幅15mm | M13: 変状の発生範囲及び規模 | S13: 前回変状の発生範囲及び規模
B14: 対策履歴 | E14: なし | H14: 実施状況（実施日） | J14: － | M14: 対策履歴 | S14: 実施状況（実施日）
B15: メモ | E15: 段差10mm、ひび割れ幅15mm、変状区分・変状種類変更、次回点検時確認を要する 【前回定期点検 Ⅱb判定】 | M15: メモ
B16: 写真 番号 | C16: 覆工スパン 番号 | F16: 余 白 | M16: 写真 番号 | N16: 覆工スパン 番号 | Q16: 余 白
C17: 変状番号 | N17: 変状番号
B18: 変状 部位 | C18: 対象箇所 | M18: 変状 部位 | N18: 対象箇所
C19: 部位区分 | N19: 部位区分
B20: 変状種類 | M20: 変状種類
B21: 対策 区分 | C21: 変状区分 | M21: 対策 区分 | N21: 変状区分
C22: 応急措置前 | N22: 応急措置前
C23: 応急措置後 | N23: 応急措置後
B24: 変状の発生範囲及び規模 | H24: 前回変状の発生範囲及び規模 | M24: 変状の発生範囲及び規模 | S24: 前回変状の発生範囲及び規模
B25: 対策履歴 | H25: 実施状況（実施日） | M25: 対策履歴 | S25: 実施状況（実施日）
B26: メモ | M26: メモ
C27: ※ 応急措置後の対策区分について添付すること。また、点検前に 実施された措置によりⅠと判定された箇所も添付すること。 | N27: ※ 変状の発生範囲の規模とは、対策を行う際に参考となる変状の長さや面積をいう。
N28: ※ 応急措置を実施しないで決定した変状の対策区分は、対策区分の応急措置後の欄に記入すること。
C29: ※ たたき落としを実施した場合は、実施後の写真を添付すること。 | N29: ※ 変状の発生範囲の規模は、面積・寸法を記載すること。(ひび割れ幅のみmmとし、その他をm表記とする)
C30: ※ 変状数に準じてシートを追加すること。（１シートに１ページとすること。） | N30: ※ 構造用鋼材以外の異物に伴ううき・はく離については、メモ欄に異物の概要を記入すること。

Sheet 様式D-1-2
B2: ■定期点検記録様式 異常写真台帳（トンネル内附属物等の取付状態） 【様式D-1-2】
B3: フリガナ | E3: (ﾋｴﾊﾞﾗｽﾞｲﾄﾞｳ) | I3: 路 線 名 | L3: 一般国道187号 | O3: 定期点検実施者 | R3: 応用地質（株） | U3: 定期点検年月日 | W3: 45840
B4: 名 称 | E4: 稗原隧道 | I4: 管理者名 | L4: 山口県岩国土木建築事務所 | R4: 太田 裕之
B5: 覆工スパン番号 | F5: 異常番号 | J5: 覆工スパン番号 | N5: 異常番号 | R5: 覆工スパン番号 | V5: 異常番号
B6: 対象箇所 | J6: 対象箇所 | R6: 対象箇所
B7: 部位区分 | F7: 異常の種類 | J7: 部位区分 | N7: 異常の種類 | R7: 部位区分 | V7: 異常の種類
B8: 異常判定区分 | E8: メモ | J8: 異常判定区分 | M8: メモ | R8: 異常判定区分 | U8: メモ
B9: 余 白 | J9: 余 白 | R9: 余 白
B22: 覆工スパン番号 | F22: 異常番号 | J22: 覆工スパン番号 | N22: 異常番号 | R22: 覆工スパン番号 | V22: 異常番号
B23: 対象箇所 | J23: 対象箇所 | R23: 対象箇所
B24: 部位区分 | F24: 異常の種類 | J24: 部位区分 | N24: 異常の種類 | R24: 部位区分 | V24: 異常の種類
B25: 異常判定区分 | E25: メモ | J25: 異常判定区分 | M25: メモ | R25: 異常判定区分 | U25: メモ
B26: 余 白 | J26: 余 白 | R26: 余 白
C39: ※ 異常判定区分×について記入すること。また、応急措置前に異常判定区分×とした箇所のうち応急措置により○と判定した箇所も記入すること。
C40: ※ 応急措置を実施した場合は、その実施状況が分かる写真を添付すること。
C41: ※ 変状数に準じてシートを追加すること。（１シートに１ページとすること。）

Sheet 様式D-2-1
B3: ■定期点検記録様式 トンネル全体変状展開図 【様式D-2-1】
B4: フリガナ | E4: (ﾋｴﾊﾞﾗｽﾞｲﾄﾞｳ) | J4: 路線名 | M4: 一般国道187号 | S4: 定期点検実施者 | W4: 応用地質（株） | AC4: 定期点検年月日 | AF4: 45840
B5: 名 称 | E5: 稗原隧道 | J5: 管理者名 | M5: 山口県岩国土木建築事務所 | W5: 太田 裕之
B6: トンネル変状展開図 | C6: トンネル全体変状展開図
V18: 注１：本展開図は、見下げた状態で記載すること。 注２：覆工スパン番号は横断目地毎（矢板工法の場合は上半アーチ の横断目地毎)に設定すること。 注３：横断目地の変状は前の覆工スパン番号で計上すること。 注４：１枚に収まらない場合は、複数枚に分けて作成すること。

Sheet 様式D-2-1´_001
B3: ■定期点検記録様式 トンネル全体変状展開図（機器の活用時） 【様式D-2-1’】
B4: フリガナ | E4: (ﾋｴﾊﾞﾗｽﾞｲﾄﾞｳ) | J4: 路線名 | M4: 一般国道187号 | S4: 定期点検実施者 | W4: 応用地質（株） | AC4: 定期点検年月日 | AF4: 45840
B5: 名 称 | E5: 稗原隧道 | J5: 管理者名 | M5: 山口県岩国土木建築事務所 | W5: 太田 裕之
B6: トンネル変状展開図 | C6: トンネル全体変状展開図
V18: 注１：本展開図は、見下げた状態で記載すること。 注２：覆工スパン番号は横断目地毎（矢板工法の場合は上半アーチ の横断目地毎)に設定すること。 注３：横断目地の変状は前の覆工スパン番号で計上すること。 注４：１枚に収まらない場合は、複数枚に分けて作成すること。 注５：覆工写真の画像サイズは500kb程度とすること。

Sheet 様式D-2-1´_002
B3: ■定期点検記録様式 トンネル全体変状展開図（機器の活用時） 【様式D-2-1’】
B4: フリガナ | E4: (ﾋｴﾊﾞﾗｽﾞｲﾄﾞｳ) | J4: 路線名 | M4: 一般国道187号 | S4: 定期点検実施者 | W4: 応用地質（株） | AC4: 定期点検年月日 | AF4: 45840
B5: 名 称 | E5: 稗原隧道 | J5: 管理者名 | M5: 山口県岩国土木建築事務所 | W5: 太田 裕之
B6: トンネル変状展開図 | C6: トンネル全体変状展開図
V18: 注１：本展開図は、見下げた状態で記載すること。 注２：覆工スパン番号は横断目地毎（矢板工法の場合は上半アーチ の横断目地毎)に設定すること。 注３：横断目地の変状は前の覆工スパン番号で計上すること。 注４：１枚に収まらない場合は、複数枚に分けて作成すること。 注５：覆工写真の画像サイズは500kb程度とすること。

Sheet 様式D-3_PS
AU1: 様式F用→ | AV1: 覆工スパン | AY1: 変 状 数 | BK1: 変 状 規 模
AV2: 番号 | AW2: 延長 （ｍ） | AX2: 健全性の診断の 区分 | AY2: 対策区分の判定 | BK2: 覆工スパン長（ｍ） | BO2: 変状の発生範囲の規模（㎡）
B3: ■定期点検記録様式 覆工スパン別変状詳細展開図 【様式D-3】 | AY3: 外力 | BC3: 材質劣化 | BG3: 漏水 | BK3: 外力 注2 | BO3: 材質劣化 | BS3: 漏水
B4: フリガナ | E4: (ﾋｴﾊﾞﾗｽﾞｲﾄﾞｳ) | K4: 路線名 | N4: 一般国道187号 | T4: 定期点検業者 | Y4: 応用地質（株） | AG4: 定期点検年月日 | AK4: 45840 | AY4: Ⅳ | AZ4: Ⅲ | BA4: Ⅱa | BB4: Ⅱb | BC4: Ⅳ | BD4: Ⅲ | BE4: Ⅱa | BF4: Ⅱb | BG4: Ⅳ | BH4: Ⅲ | BI4: Ⅱa | BJ4: Ⅱb | BK4: Ⅳ | BL4: Ⅲ | BM4: Ⅱa | BN4: Ⅱb | BO4: Ⅳ | BP4: Ⅲ | BQ4: Ⅱa | BR4: Ⅱb | BS4: Ⅳ | BT4: Ⅲ | BU4: Ⅱa | BV4: Ⅱb
B5: 名 称 | E5: 稗原隧道 | K5: 管理者名 | N5: 山口県岩国土木建築事務所 | Y5: 太田 裕之 | AV5: =N7 -> PS | AW5: =R7 -> 1.75 | AX5: =AM35 -> Ⅲ | AY5: =IF(Y37>0,Y37,"") | AZ5: =IF(Y37>0,"",IF(Z37>0,Z37,"")) | BA5: =IF(Y37+Z37>0,"",IF(AA37>0,AA37,"")) | BB5: =IF(Y37+Z37+AA37>0,"",IF(AB37>0,AB37,"")) | BC5: =AC37 -> 0 | BD5: =AD37 -> 1 | BE5: =AE37 -> 0 | BF5: =AF37 -> 0 | BG5: =AG37 -> 0 | BH5: =AH37 -> 0 | BI5: =AI37 -> 0 | BJ5: =AJ37 -> 0 | BK5: =IF(Y37>0,R7,"") | BL5: =IF(Y37>0,"",IF(Z37>0,R7,"")) | BM5: =IF(Y37+Z37>0,"",IF(AA37>0,R7,"")) | BN5: =IF(Y37+Z37+AA37>0,"",IF(AB37>0,R7,"")) | BO5: =AC35 -> 0 | BP5: =AD35 -> 0.06 | BQ5: =AE35 -> 0 | BR5: =AF35 -> 0 | BS5: =AG35 -> 0 | BT5: =AH35 -> 0 | BU5: =AI35 -> 0 | BV5: =AJ35 -> 0
B6: スパン別変状展開図 | K6: 【健全性判定集計表】
K7: スパン番号 | N7: PS | P7: スパン長 | R7: 1.75 | U7: 前回定期点検時の判定 | W7: 応急措置前の判定 | Y7: 対策区分毎の 変状の有無 | AC7: 対策区分毎の変状の発生範囲の規模(㎡) | AK7: 備考注2
K8: 変状番号 | L8: 対象箇所 | N8: 部位区分 | P8: 変状区分 | R8: 変状種類
Y9: 外力注1 | AC9: 材質劣化注1 | AG9: 漏水注1
Y10: Ⅳ | Z10: Ⅲ | AA10: Ⅱa | AB10: Ⅱb | AC10: Ⅳ | AD10: Ⅲ | AE10: Ⅱa | AF10: Ⅱb | AG10: Ⅳ | AH10: Ⅲ | AI10: Ⅱa | AJ10: Ⅱb
K11: 1 | L11: 覆工 | N11: アーチ（左側） | P11: 材質劣化 | R11: うき・はく離 | U11: Ⅱa | W11: － | AK11: 対策済み | AQ11: =IF(P11="材質劣化",2,IF(P11="漏水",3,1)) -> 2
K12: 2 | L12: 覆工 | N12: アーチ（天端） | P12: 材質劣化 | R12: うき・はく離 | U12: － | W12: － | AD12: 0.06 | AQ12: =IF(P12="材質劣化",2,IF(P12="漏水",3,1)) -> 2
K13: 3 | AQ13: =IF(P13="材質劣化",2,IF(P13="漏水",3,1)) -> 1
K14: 4 | AQ14: =IF(P14="材質劣化",2,IF(P14="漏水",3,1)) -> 1
K15: 5 | AQ15: =IF(P15="材質劣化",2,IF(P15="漏水",3,1)) -> 1
K16: 6 | AQ16: =IF(P16="材質劣化",2,IF(P16="漏水",3,1)) -> 1
K17: 7 | AQ17: =IF(P17="材質劣化",2,IF(P17="漏水",3,1)) -> 1
K18: 8 | AQ18: =IF(P18="材質劣化",2,IF(P18="漏水",3,1)) -> 1
K19: 9 | AQ19: =IF(P19="材質劣化",2,IF(P19="漏水",3,1)) -> 1
K20: 10 | AQ20: =IF(P20="材質劣化",2,IF(P20="漏水",3,1)) -> 1
K21: 11 | AQ21: =IF(P21="材質劣化",2,IF(P21="漏水",3,1)) -> 1
K22: 12 | AQ22: =IF(P22="材質劣化",2,IF(P22="漏水",3,1)) -> 1
K23: 13 | AQ23: =IF(P23="材質劣化",2,IF(P23="漏水",3,1)) -> 1
K24: 14 | AQ24: =IF(P24="材質劣化",2,IF(P24="漏水",3,1)) -> 1
... K27: 17 | AQ27: =IF(P27="材質劣化",2,IF(P27="漏水",3,1)) -> 1
K28: 18 | AQ28: =IF(P30="材質劣化",2,IF(P30="漏水",3,1)) -> 1
K29: 19 | AQ29: =IF(P34="材質劣化",2,IF(P34="漏水",3,1)) -> 1
K30: 20 | AQ30: =IF(P30="材質劣化",2,IF(P30="漏水",3,1)) -> 1
K31: 21 | AQ31: =IF(P33="材質劣化",2,IF(P33="漏水",3,1)) -> 1
K32: 22 | AQ32: =IF(P37="材質劣化",2,IF(P37="漏水",3,1)) -> 1
K33: 23 | AQ33: =IF(P33="材質劣化",2,IF(P33="漏水",3,1)) -> 1
K34: 24 | AQ34: =IF(P36="材質劣化",2,IF(P36="漏水",3,1)) -> 1
K35: 集計 判定 診断 | L35: 変状の発生規模合計(㎡) | Y35: － | AC35: =SUM(AC11:AC34) -> 0 | AD35: =SUM(AD11:AD34) -> 0.06 | AE35: =SUM(AE11:AE34) -> 0 | AF35: =SUM(AF11:AF34) -> 0 | AG35: =SUM(AG11:AG34) -> 0 | AH35: =SUM(AH11:AH34) -> 0 | AI35: =SUM(AI11:AI34) -> 0 | AJ35: =SUM(AJ11:AJ34) -> 0 | AK35: 覆工スパン単位の 健全性の 診断の区分 | AM35: Ⅲ
L36: 対策区分の 判定結果 | O36: 対策区分毎の変状数注3 | Y36: Ⅳ | Z36: Ⅲ | AA36: Ⅱa | AB36: Ⅱb | AC36: Ⅳ | AD36: Ⅲ | AE36: Ⅱa | AF36: Ⅱb | AG36: Ⅳ | AH36: Ⅲ | AI36: Ⅱa | AJ36: Ⅱb
Y37: =IF(COUNTIF(Y11:Y34,"〇")>0,1,0) -> 0 | Z37: =IF(COUNTIF(Z11:Z34,"〇")>0,1,0) -> 0 | AA37: =IF(COUNTIF(AA11:AA34,"〇")>0,1,0) -> 0 | AB37: =IF(COUNTIF(AB11:AB34,"〇")>0,1,0) -> 0 | AC37: =COUNTA(AC11:AC34) -> 0 | AD37: =COUNTA(AD11:AD34) -> 1 | AE37: =COUNTA(AE11:AE34) -> 0 | AF37: =COUNTA(AF11:AF34) -> 0 | AG37: =COUNTA(AG11:AG34) -> 0 | AH37: =COUNTA(AH11:AH34) -> 0 | AI37: =COUNTA(AI11:AI34) -> 0 | AJ37: =COUNTA(AJ11:AJ34) -> 0
K39: 所見 | L39: 【 外 力 】監視を必要としない。 【材質劣化】早期対策を必要とする。 【 漏 水 】監視を必要としない。 以上により本スパンの判定はⅢ判定となる。
K43: 注1：誤記入防止のため、当該変状区分以外のセルは灰色表示とすること。
K44: 注2：応急措置を実施した場合は、その詳細を備考に記載すること。
K45: 注3：外力は覆工スパン単位、材質劣化、漏水は変状単位とすること。
B46: （以下、印刷不要）
B47: ※1：本シートは作成洩れのないよう、変状が無くても全スパン分を作成すること．また変状展開図は、様式D-2-1、様式D-2-1'と同じものを覆工スパン単位で拡大し掲載すること。
B48: ※2：変状番号は、様式D-1-1で記入した番号と整合させること。
B49: ※3：対策区分毎の変状発生規模は、様式D-1-1に記載した面積を記入すること（ただし外力はスパン単位で評価するため変状の有無の欄には面積でなく○を記入し、備考欄に状況を記入）。
B50: ※4：本様式は覆工スパン毎に作成すること。
B51: ※5：変状数が多い場合は、適時、表の行を増やして覆工スパン毎に1枚のシートに収めること。また、1スパン１シートとし、スパンに合わせてシートを追加すること。
B52: ※6：対策区分毎の変状の発生範囲の規模とは，対策を行う際に参考となる変状の長さや面積であり，変状を包含する長さや面積とする。
B53: ※7：対策範囲を示す発生範囲の規模を面積で記入することが妥当ではない変状は、発生範囲の規模の欄に○を記入するとともに、備考に内容を記入すること。

Sheet 様式D-3_S001
AU1: 様式F用→ | AV1: 覆工スパン | AY1: 変 状 数 | BK1: 変 状 規 模
AV2: 番号 | AW2: 延長 （ｍ） | AX2: 健全性の診断の 区分 | AY2: 対策区分の判定 | BK2: 覆工スパン長（ｍ） | BO2: 変状の発生範囲の規模（㎡）
B3: ■定期点検記録様式 覆工スパン別変状詳細展開図 【様式D-3】 | AY3: 外力 | BC3: 材質劣化 | BG3: 漏水 | BK3: 外力 注2 | BO3: 材質劣化 | BS3: 漏水
B4: フリガナ | E4: (ﾋｴﾊﾞﾗｽﾞｲﾄﾞｳ) | K4: 路線名 | N4: 一般国道187号 | T4: 定期点検業者 | Y4: 応用地質（株） | AG4: 定期点検年月日 | AK4: 45840 | AY4: Ⅳ | AZ4: Ⅲ | BA4: Ⅱa | BB4: Ⅱb | BC4: Ⅳ | BD4: Ⅲ | BE4: Ⅱa | BF4: Ⅱb | BG4: Ⅳ | BH4: Ⅲ | BI4: Ⅱa | BJ4: Ⅱb | BK4: Ⅳ | BL4: Ⅲ | BM4: Ⅱa | BN4: Ⅱb | BO4: Ⅳ | BP4: Ⅲ | BQ4: Ⅱa | BR4: Ⅱb | BS4: Ⅳ | BT4: Ⅲ | BU4: Ⅱa | BV4: Ⅱb
B5: 名 称 | E5: 稗原隧道 | K5: 管理者名 | N5: 山口県岩国土木建築事務所 | Y5: 太田 裕之 | AV5: =N7 -> 1 | AW5: =R7 -> 2.55 | AX5: =AM35 -> Ⅰ | AY5: =IF(Y37>0,Y37,"") | AZ5: =IF(Y37>0,"",IF(Z37>0,Z37,"")) | BA5: =IF(Y37+Z37>0,"",IF(AA37>0,AA37,"")) | BB5: =IF(Y37+Z37+AA37>0,"",IF(AB37>0,AB37,"")) | BC5: =AC37 -> 0 | BD5: =AD37 -> 0 | BE5: =AE37 -> 0 | BF5: =AF37 -> 0 | BG5: =AG37 -> 0 | BH5: =AH37 -> 0 | BI5: =AI37 -> 0 | BJ5: =AJ37 -> 0 | BK5: =IF(Y37>0,R7,"") | BL5: =IF(Y37>0,"",IF(Z37>0,R7,"")) | BM5: =IF(Y37+Z37>0,"",IF(AA37>0,R7,"")) | BN5: =IF(Y37+Z37+AA37>0,"",IF(AB37>0,R7,"")) | BO5: =AC35 -> 0 | BP5: =AD35 -> 0 | BQ5: =AE35 -> 0 | BR5: =AF35 -> 0 | BS5: =AG35 -> 0 | BT5: =AH35 -> 0 | BU5: =AI35 -> 0 | BV5: =AJ35 -> 0
B6: スパン別変状展開図 | K6: 【健全性判定集計表】
K7: スパン番号 | N7: 1 | P7: スパン長 | R7: 2.55 | U7: 前回定期点検時の判定 | W7: 応急措置前の判定 | Y7: 対策区分毎の 変状の有無 | AC7: 対策区分毎の変状の発生範囲の規模(㎡) | AK7: 備考注2
K8: 変状番号 | L8: 対象箇所 | N8: 部位区分 | P8: 変状区分 | R8: 変状種類
Y9: 外力注1 | AC9: 材質劣化注1 | AG9: 漏水注1
Y10: Ⅳ | Z10: Ⅲ | AA10: Ⅱa | AB10: Ⅱb | AC10: Ⅳ | AD10: Ⅲ | AE10: Ⅱa | AF10: Ⅱb | AG10: Ⅳ | AH10: Ⅲ | AI10: Ⅱa | AJ10: Ⅱb
K11: 1 | AQ11: =IF(P11="材質劣化",2,IF(P11="漏水",3,1)) -> 1
K12: 2 | AQ12: =IF(P12="材質劣化",2,IF(P12="漏水",3,1)) -> 1
K13: 3 | AQ13: =IF(P13="材質劣化",2,IF(P13="漏水",3,1)) -> 1
K14: 4 | AQ14: =IF(P14="材質劣化",2,IF(P14="漏水",3,1)) -> 1
K15: 5 | AQ15: =IF(P15="材質劣化",2,IF(P15="漏水",3,1)) -> 1
K16: 6 | AQ16: =IF(P16="材質劣化",2,IF(P16="漏水",3,1)) -> 1
K17: 7 | AQ17: =IF(P17="材質劣化",2,IF(P17="漏水",3,1)) -> 1
K18: 8 | AQ18: =IF(P18="材質劣化",2,IF(P18="漏水",3,1)) -> 1
K19: 9 | AQ19: =IF(P19="材質劣化",2,IF(P19="漏水",3,1)) -> 1
K20: 10 | AQ20: =IF(P20="材質劣化",2,IF(P20="漏水",3,1)) -> 1
K21: 11 | AQ21: =IF(P21="材質劣化",2,IF(P21="漏水",3,1)) -> 1
K22: 12 | AQ22: =IF(P22="材質劣化",2,IF(P22="漏水",3,1)) -> 1
... K27: 17 | AQ27: =IF(P27="材質劣化",2,IF(P27="漏水",3,1)) -> 1
K28: 18 | AQ28: =IF(P30="材質劣化",2,IF(P30="漏水",3,1)) -> 1
K29: 19 | AQ29: =IF(P34="材質劣化",2,IF(P34="漏水",3,1)) -> 1
K30: 20 | AQ30: =IF(P30="材質劣化",2,IF(P30="漏水",3,1)) -> 1
K31: 21 | AQ31: =IF(P33="材質劣化",2,IF(P33="漏水",3,1)) -> 1
K32: 22 | AQ32: =IF(P37="材質劣化",2,IF(P37="漏水",3,1)) -> 1
K33: 23 | AQ33: =IF(P33="材質劣化",2,IF(P33="漏水",3,1)) -> 1
K34: 24 | AQ34: =IF(P36="材質劣化",2,IF(P36="漏水",3,1)) -> 1
K35: 集計 判定 診断 | L35: 変状の発生規模合計(㎡) | Y35: － | AC35: =SUM(AC11:AC34) -> 0 | AD35: =SUM(AD11:AD34) -> 0 | AE35: =SUM(AE11:AE34) -> 0 | AF35: =SUM(AF11:AF34) -> 0 | AG35: =SUM(AG11:AG34) -> 0 | AH35: =SUM(AH11:AH34) -> 0 | AI35: =SUM(AI11:AI34) -> 0 | AJ35: =SUM(AJ11:AJ34) -> 0 | AK35: 覆工スパン単位の 健全性の 診断の区分 | AM35: Ⅰ
L36: 対策区分の 判定結果 | O36: 対策区分毎の変状数注3 | Y36: Ⅳ | Z36: Ⅲ | AA36: Ⅱa | AB36: Ⅱb | AC36: Ⅳ | AD36: Ⅲ | AE36: Ⅱa | AF36: Ⅱb | AG36: Ⅳ | AH36: Ⅲ | AI36: Ⅱa | AJ36: Ⅱb
Y37: =IF(COUNTIF(Y11:Y34,"〇")>0,1,0) -> 0 | Z37: =IF(COUNTIF(Z11:Z34,"〇")>0,1,0) -> 0 | AA37: =IF(COUNTIF(AA11:AA34,"〇")>0,1,0) -> 0 | AB37: =IF(COUNTIF(AB11:AB34,"〇")>0,1,0) -> 0 | AC37: =COUNTA(AC11:AC34) -> 0 | AD37: =COUNTA(AD11:AD34) -> 0 | AE37: =COUNTA(AE11:AE34) -> 0 | AF37: =COUNTA(AF11:AF34) -> 0 | AG37: =COUNTA(AG11:AG34) -> 0 | AH37: =COUNTA(AH11:AH34) -> 0 | AI37: =COUNTA(AI11:AI34) -> 0 | AJ37: =COUNTA(AJ11:AJ34) -> 0
K39: 所見 | L39: 【 外 力 】監視を必要としない。 【材質劣化】監視を必要としない。 【 漏 水 】監視を必要としない。 以上により本スパンの判定はⅠ判定となる。
K43: 注1：誤記入防止のため、当該変状区分以外のセルは灰色表示とすること。
K44: 注2：応急措置を実施した場合は、その詳細を備考に記載すること。
K45: 注3：外力は覆工スパン単位、材質劣化、漏水は変状単位とすること。
B46: （以下、印刷不要）
B47: ※1：本シートは作成洩れのないよう、変状が無くても全スパン分を作成すること．また変状展開図は、様式D-2-1、様式D-2-1'と同じものを覆工スパン単位で拡大し掲載すること。
B48: ※2：変状番号は、様式D-1-1で記入した番号と整合させること。
B49: ※3：対策区分毎の変状発生規模は、様式D-1-1に記載した面積を記入すること（ただし外力はスパン単位で評価するため変状の有無の欄には面積でなく○を記入し、備考欄に状況を記入）。
B50: ※4：本様式は覆工スパン毎に作成すること。
B51: ※5：変状数が多い場合は、適時、表の行を増やして覆工スパン毎に1枚のシートに収めること。また、1スパン１シートとし、スパンに合わせてシートを追加すること。
B52: ※6：対策区分毎の変状の発生範囲の規模とは，対策を行う際に参考となる変状の長さや面積であり，変状を包含する長さや面積とする。
B53: ※7：対策範囲を示す発生範囲の規模を面積で記入することが妥当ではない変状は、発生範囲の規模の欄に○を記入するとともに、備考に内容を記入すること。

Sheet 様式D-3_S002
AU1: 様式F用→ | AV1: 覆工スパン | AY1: 変 状 数 | BK1: 変 状 規 模
AV2: 番号 | AW2: 延長 （ｍ） | AX2: 健全性の診断の 区分 | AY2: 対策区分の判定 | BK2: 覆工スパン長（ｍ） | BO2: 変状の発生範囲の規模（㎡）
B3: ■定期点検記録様式 覆工スパン別変状詳細展開図 【様式D-3】 | AY3: 外力 | BC3: 材質劣化 | BG3: 漏水 | BK3: 外力 注2 | BO3: 材質劣化 | BS3: 漏水
B4: フリガナ | E4: (ﾋｴﾊﾞﾗｽﾞｲﾄﾞｳ) | K4: 路線名 | N4: 一般国道187号 | T4: 定期点検業者 | Y4: 応用地質（株） | AG4: 定期点検年月日 | AK4: 45840 | AY4: Ⅳ | AZ4: Ⅲ | BA4: Ⅱa | BB4: Ⅱb | BC4: Ⅳ | BD4: Ⅲ | BE4: Ⅱa | BF4: Ⅱb | BG4: Ⅳ | BH4: Ⅲ | BI4: Ⅱa | BJ4: Ⅱb | BK4: Ⅳ | BL4: Ⅲ | BM4: Ⅱa | BN4: Ⅱb | BO4: Ⅳ | BP4: Ⅲ | BQ4: Ⅱa | BR4: Ⅱb | BS4: Ⅳ | BT4: Ⅲ | BU4: Ⅱa | BV4: Ⅱb
B5: 名 称 | E5: 稗原隧道 | K5: 管理者名 | N5: 山口県岩国土木建築事務所 | Y5: 太田 裕之 | AV5: =N7 -> 2 | AW5: =R7 -> 5.95 | AX5: =AM35 -> Ⅱ | AY5: =IF(Y37>0,Y37,"") | AZ5: =IF(Y37>0,"",IF(Z37>0,Z37,"")) | BA5: =IF(Y37+Z37>0,"",IF(AA37>0,AA37,"")) | BB5: =IF(Y37+Z37+AA37>0,"",IF(AB37>0,AB37,"")) | BC5: =AC37 -> 0 | BD5: =AD37 -> 0 | BE5: =AE37 -> 0 | BF5: =AF37 -> 0 | BG5: =AG37 -> 0 | BH5: =AH37 -> 0 | BI5: =AI37 -> 0 | BJ5: =AJ37 -> 4 | BK5: =IF(Y37>0,R7,"") | BL5: =IF(Y37>0,"",IF(Z37>0,R7,"")) | BM5: =IF(Y37+Z37>0,"",IF(AA37>0,R7,"")) | BN5: =IF(Y37+Z37+AA37>0,"",IF(AB37>0,R7,"")) | BO5: =AC35 -> 0 | BP5: =AD35 -> 0 | BQ5: =AE35 -> 0 | BR5: =AF35 -> 0 | BS5: =AG35 -> 0 | BT5: =AH35 -> 0 | BU5: =AI35 -> 0 | BV5: =AJ35 -> 18.92
B6: スパン別変状展開図 | K6: 【健全性判定集計表】
K7: スパン番号 | N7: 2 | P7: スパン長 | R7: 5.95 | U7: 前回定期点検時の判定 | W7: 応急措置前の判定 | Y7: 対策区分毎の 変状の有無 | AC7: 対策区分毎の変状の発生範囲の規模(㎡) | AK7: 備考注2
K8: 変状番号 | L8: 対象箇所 | N8: 部位区分 | P8: 変状区分 | R8: 変状種類
Y9: 外力注1 | AC9: 材質劣化注1 | AG9: 漏水注1
Y10: Ⅳ | Z10: Ⅲ | AA10: Ⅱa | AB10: Ⅱb | AC10: Ⅳ | AD10: Ⅲ | AE10: Ⅱa | AF10: Ⅱb | AG10: Ⅳ | AH10: Ⅲ | AI10: Ⅱa | AJ10: Ⅱb
K11: 1 | L11: 覆工 | N11: アーチ（右側） | P11: 材質劣化 | R11: うき・はく離 | U11: Ⅱa | W11: － | AK11: 対策済み | AQ11: =IF(P11="材質劣化",2,IF(P11="漏水",3,1)) -> 2
K12: 2 | L12: 覆工 | N12: 横断目地（右側） | P12: 漏水 | R12: 補修・補強材の破損 | U12: Ⅱa | W12: － | AJ12: 0.03 | AK12: 再判定 | AQ12: =IF(P12="材質劣化",2,IF(P12="漏水",3,1)) -> 3
K13: 3 | L13: 覆工 | N13: 横断目地（左側） | P13: 漏水 | R13: 漏水 | U13: Ⅱb | W13: － | AJ13: 4 | AQ13: =IF(P13="材質劣化",2,IF(P13="漏水",3,1)) -> 3
K14: 4 | L14: 覆工 | N14: アーチ（左側） | P14: 漏水 | R14: 漏水 | U14: Ⅱb | W14: － | AJ14: 14.82 | AQ14: =IF(P14="材質劣化",2,IF(P14="漏水",3,1)) -> 3
K15: 5 | L15: 覆工 | N15: 横断目地（左側） | P15: 材質劣化 | R15: うき・はく離 | U15: Ⅱa | W15: － | AK15: 対策済み | AQ15: =IF(P15="材質劣化",2,IF(P15="漏水",3,1)) -> 2
K16: 6 | L16: 覆工 | N16: 水平打ち継ぎ目（左側） | P16: 材質劣化 | R16: うき・はく離 | U16: Ⅱb | W16: － | AK16: 対策済み | AQ16: =IF(P16="材質劣化",2,IF(P16="漏水",3,1)) -> 2
K17: 7 | L17: 覆工 | N17: 水平打ち継ぎ目（右側） | P17: 材質劣化 | R17: うき・はく離 | U17: Ⅱb | W17: － | AK17: 対策済み | AQ17: =IF(P17="材質劣化",2,IF(P17="漏水",3,1)) -> 2
K18: 8 | L18: 覆工 | N18: 横断目地（天端） | P18: 漏水 | R18: 補修・補強材の破損 | U18: － | W18: － | AJ18: 0.07 | AQ18: =IF(P18="材質劣化",2,IF(P18="漏水",3,1)) -> 3
K19: 9 | AQ19: =IF(P19="材質劣化",2,IF(P19="漏水",3,1)) -> 1
K20: 10 | AQ20: =IF(P20="材質劣化",2,IF(P20="漏水",3,1)) -> 1
K21: 11 | AQ21: =IF(P21="材質劣化",2,IF(P21="漏水",3,1)) -> 1
K22: 12 | AQ22: =IF(P22="材質劣化",2,IF(P22="漏水",3,1)) -> 1
K23: 13 | AQ23: =IF(P23="材質劣化",2,IF(P23="漏水",3,1)) -> 1
K24: 14 | AQ24: =IF(P24="材質劣化",2,IF(P24="漏水",3,1)) -> 1
K25: 15 | AQ25: =IF(P25="材質劣化",2,IF(P25="漏水",3,1)) -> 1
K26: 16 | AQ26: =IF(P26="材質劣化",2,IF(P26="漏水",3,1)) -> 1
K27: 17 | AQ27: =IF(P27="材質劣化",2,IF(P27="漏水",3,1)) -> 1
K28: 18 | AQ28: =IF(P30="材質劣化",2,IF(P30="漏水",3,1)) -> 1
K29: 19 | AQ29: =IF(P34="材質劣化",2,IF(P34="漏水",3,1)) -> 1
K30: 20 | AQ30: =IF(P30="材質劣化",2,IF(P30="漏水",3,1)) -> 1
K31: 21 | AQ31: =IF(P33="材質劣化",2,IF(P33="漏水",3,1)) -> 1
K32: 22 | AQ32: =IF(P37="材質劣化",2,IF(P37="漏水",3,1)) -> 1
K33: 23 | AQ33: =IF(P33="材質劣化",2,IF(P33="漏水",3,1)) -> 1
K34: 24 | AQ34: =IF(P36="材質劣化",2,IF(P36="漏水",3,1)) -> 1
K35: 集計 判定 診断 | L35: 変状の発生規模合計(㎡) | Y35: － | AC35: =SUM(AC11:AC34) -> 0 | AD35: =SUM(AD11:AD34) -> 0 | AE35: =SUM(AE11:AE34) -> 0 | AF35: =SUM(AF11:AF34) -> 0 | AG35: =SUM(AG11:AG34) -> 0 | AH35: =SUM(AH11:AH34) -> 0 | AI35: =SUM(AI11:AI34) -> 0 | AJ35: =SUM(AJ11:AJ34) -> 18.92 | AK35: 覆工スパン単位の 健全性の 診断の区分 | AM35: Ⅱ
L36: 対策区分の 判定結果 | O36: 対策区分毎の変状数注3 | Y36: Ⅳ | Z36: Ⅲ | AA36: Ⅱa | AB36: Ⅱb | AC36: Ⅳ | AD36: Ⅲ | AE36: Ⅱa | AF36: Ⅱb | AG36: Ⅳ | AH36: Ⅲ | AI36: Ⅱa | AJ36: Ⅱb
Y37: =IF(COUNTIF(Y11:Y34,"〇")>0,1,0) -> 0 | Z37: =IF(COUNTIF(Z11:Z34,"〇")>0,1,0) -> 0 | AA37: =IF(COUNTIF(AA11:AA34,"〇")>0,1,0) -> 0 | AB37: =IF(COUNTIF(AB11:AB34,"〇")>0,1,0) -> 0 | AC37: =COUNTA(AC11:AC34) -> 0 | AD37: =COUNTA(AD11:AD34) -> 0 | AE37: =COUNTA(AE11:AE34) -> 0 | AF37: =COUNTA(AF11:AF34) -> 0 | AG37: =COUNTA(AG11:AG34) -> 0 | AH37: =COUNTA(AH11:AH34) -> 0 | AI37: =COUNTA(AI11:AI34) -> 0 | AJ37: =COUNTA(AJ11:AJ34) -> 4
K39: 所見 | L39: 【 外 力 】監視を必要としない。 【材質劣化】監視を必要としない。 【 漏 水 】次回点検まで継続的な監視を必要とする。 以上により本スパンの判定はⅡb判定となる。
K43: 注1：誤記入防止のため、当該変状区分以外のセルは灰色表示とすること。
K44: 注2：応急措置を実施した場合は、その詳細を備考に記載すること。
K45: 注3：外力は覆工スパン単位、材質劣化、漏水は変状単位とすること。
B46: （以下、印刷不要）
B47: ※1：本シートは作成洩れのないよう、変状が無くても全スパン分を作成すること．また変状展開図は、様式D-2-1、様式D-2-1'と同じものを覆工スパン単位で拡大し掲載すること。
B48: ※2：変状番号は、様式D-1-1で記入した番号と整合させること。
B49: ※3：対策区分毎の変状発生規模は、様式D-1-1に記載した面積を記入すること（ただし外力はスパン単位で評価するため変状の有無の欄には面積でなく○を記入し、備考欄に状況を記入）。
B50: ※4：本様式は覆工スパン毎に作成すること。
B51: ※5：変状数が多い場合は、適時、表の行を増やして覆工スパン毎に1枚のシートに収めること。また、1スパン１シートとし、スパンに合わせてシートを追加すること。
B52: ※6：対策区分毎の変状の発生範囲の規模とは，対策を行う際に参考となる変状の長さや面積であり，変状を包含する長さや面積とする。
B53: ※7：対策範囲を示す発生範囲の規模を面積で記入することが妥当ではない変状は、発生範囲の規模の欄に○を記入するとともに、備考に内容を記入すること。

Sheet 様式D-3_S003
AU1: 様式F用→ | AV1: 覆工スパン | AY1: 変 状 数 | BK1: 変 状 規 模
AV2: 番号 | AW2: 延長 （ｍ） | AX2: 健全性の診断の 区分 | AY2: 対策区分の判定 | BK2: 覆工スパン長（ｍ） | BO2: 変状の発生範囲の規模（㎡）
B3: ■定期点検記録様式 覆工スパン別変状詳細展開図 【様式D-3】 | AY3: 外力 | BC3: 材質劣化 | BG3: 漏水 | BK3: 外力 注2 | BO3: 材質劣化 | BS3: 漏水
B4: フリガナ | E4: (ﾋｴﾊﾞﾗｽﾞｲﾄﾞｳ) | K4: 路線名 | N4: 一般国道187号 | T4: 定期点検業者 | Y4: 応用地質（株） | AG4: 定期点検年月日 | AK4: 45840 | AY4: Ⅳ | AZ4: Ⅲ | BA4: Ⅱa | BB4: Ⅱb | BC4: Ⅳ | BD4: Ⅲ | BE4: Ⅱa | BF4: Ⅱb | BG4: Ⅳ | BH4: Ⅲ | BI4: Ⅱa | BJ4: Ⅱb | BK4: Ⅳ | BL4: Ⅲ | BM4: Ⅱa | BN4: Ⅱb | BO4: Ⅳ | BP4: Ⅲ | BQ4: Ⅱa | BR4: Ⅱb | BS4: Ⅳ | BT4: Ⅲ | BU4: Ⅱa | BV4: Ⅱb
B5: 名 称 | E5: 稗原隧道 | K5: 管理者名 | N5: 山口県岩国土木建築事務所 | Y5: 太田 裕之 | AV5: =N7 -> 3 | AW5: =R7 -> 6 | AX5: =AM35 -> Ⅱ | AY5: =IF(Y37>0,Y37,"") | AZ5: =IF(Y37>0,"",IF(Z37>0,Z37,"")) | BA5: =IF(Y37+Z37>0,"",IF(AA37>0,AA37,"")) | BB5: =IF(Y37+Z37+AA37>0,"",IF(AB37>0,AB37,"")) | BC5: =AC37 -> 0 | BD5: =AD37 -> 0 | BE5: =AE37 -> 1 | BF5: =AF37 -> 0 | BG5: =AG37 -> 0 | BH5: =AH37 -> 0 | BI5: =AI37 -> 0 | BJ5: =AJ37 -> 3 | BK5: =IF(Y37>0,R7,"") | BL5: =IF(Y37>0,"",IF(Z37>0,R7,"")) | BM5: =IF(Y37+Z37>0,"",IF(AA37>0,R7,"")) | BN5: =IF(Y37+Z37+AA37>0,"",IF(AB37>0,R7,"")) | BO5: =AC35 -> 0 | BP5: =AD35 -> 0 | BQ5: =AE35 -> 0.04 | BR5: =AF35 -> 0 | BS5: =AG35 -> 0 | BT5: =AH35 -> 0 | BU5: =AI35 -> 0 | BV5: =AJ35 -> 9.38
B6: スパン別変状展開図 | K6: 【健全性判定集計表】
K7: スパン番号 | N7: 3 | P7: スパン長 | R7: 6 | U7: 前回定期点検時の判定 | W7: 応急措置前の判定 | Y7: 対策区分毎の 変状の有無 | AC7: 対策区分毎の変状の発生範囲の規模(㎡) | AK7: 備考注2
K8: 変状番号 | L8: 対象箇所 | N8: 部位区分 | P8: 変状区分 | R8: 変状種類
Y9: 外力注1 | AC9: 材質劣化注1 | AG9: 漏水注1
Y10: Ⅳ | Z10: Ⅲ | AA10: Ⅱa | AB10: Ⅱb | AC10: Ⅳ | AD10: Ⅲ | AE10: Ⅱa | AF10: Ⅱb | AG10: Ⅳ | AH10: Ⅲ | AI10: Ⅱa | AJ10: Ⅱb
K11: 1 | L11: 覆工 | N11: アーチ（天端） | P11: 漏水 | R11: 漏水 | U11: Ⅱb | W11: － | AJ11: 7.5 | AQ11: =IF(P11="材質劣化",2,IF(P11="漏水",3,1)) -> 3
K12: 2 | L12: 覆工 | N12: 横断目地（左側） | P12: 漏水 | R12: 漏水 | U12: Ⅱb | W12: － | AJ12: 1.8 | AQ12: =IF(P12="材質劣化",2,IF(P12="漏水",3,1)) -> 3
K13: 3 | L13: 覆工 | N13: 横断目地（天端） | P13: 材質劣化 | R13: うき・はく離 | U13: Ⅱa | W13: － | AK13: 対策済み | AQ13: =IF(P13="材質劣化",2,IF(P13="漏水",3,1)) -> 2
K14: 4 | L14: 覆工 | N14: アーチ（天端） | P14: 材質劣化 | R14: うき・はく離 | U14: Ⅱa | W14: － | AE14: 0.04 | AQ14: =IF(P14="材質劣化",2,IF(P14="漏水",3,1)) -> 2
K15: 5 | L15: 覆工 | N15: 水平打ち継ぎ目（左側） | P15: 材質劣化 | R15: うき・はく離 | U15: Ⅱb | W15: － | AK15: 対策済み | AQ15: =IF(P15="材質劣化",2,IF(P15="漏水",3,1)) -> 2
K16: 6 | L16: 覆工 | N16: 水平打ち継ぎ目（右側） | P16: 材質劣化 | R16: うき・はく離 | U16: Ⅱb | W16: － | AK16: 対策済み | AQ16: =IF(P16="材質劣化",2,IF(P16="漏水",3,1)) -> 2
K17: 7 | L17: 覆工 | N17: 水平打ち継ぎ目（右側） | P17: 材質劣化 | R17: うき・はく離 | U17: Ⅱb | W17: － | AK17: 対策済み | AQ17: =IF(P17="材質劣化",2,IF(P17="漏水",3,1)) -> 2
K18: 8 | L18: 覆工 | N18: 横断目地（右側） | P18: 漏水 | R18: 補修・補強材の破損 | U18: － | W18: － | AJ18: 0.08 | AQ18: =IF(P18="材質劣化",2,IF(P18="漏水",3,1)) -> 3
K19: 9 | AQ19: =IF(P19="材質劣化",2,IF(P19="漏水",3,1)) -> 1
K20: 10 | AQ20: =IF(P20="材質劣化",2,IF(P20="漏水",3,1)) -> 1
K21: 11 | AQ21: =IF(P21="材質劣化",2,IF(P21="漏水",3,1)) -> 1
K22: 12 | AQ22: =IF(P22="材質劣化",2,IF(P22="漏水",3,1)) -> 1
K23: 13 | AQ23: =IF(P23="材質劣化",2,IF(P23="漏水",3,1)) -> 1
K24: 14 | AQ24: =IF(P24="材質劣化",2,IF(P24="漏水",3,1)) -> 1
K25: 15 | AQ25: =IF(P25="材質劣化",2,IF(P25="漏水",3,1)) -> 1
K26: 16 | AQ26: =IF(P26="材質劣化",2,IF(P26="漏水",3,1)) -> 1
K27: 17 | AQ27: =IF(P27="材質劣化",2,IF(P27="漏水",3,1)) -> 1
K28: 18 | AQ28: =IF(P30="材質劣化",2,IF(P30="漏水",3,1)) -> 1
K29: 19 | AQ29: =IF(P34="材質劣化",2,IF(P34="漏水",3,1)) -> 1
K30: 20 | AQ30: =IF(P30="材質劣化",2,IF(P30="漏水",3,1)) -> 1
K31: 21 | AQ31: =IF(P33="材質劣化",2,IF(P33="漏水",3,1)) -> 1
K32: 22 | AQ32: =IF(P37="材質劣化",2,IF(P37="漏水",3,1)) -> 1
K33: 23 | AQ33: =IF(P33="材質劣化",2,IF(P33="漏水",3,1)) -> 1
K34: 24 | AQ34: =IF(P36="材質劣化",2,IF(P36="漏水",3,1)) -> 1
K35: 集計 判定 診断 | L35: 変状の発生規模合計(㎡) | Y35: － | AC35: =SUM(AC11:AC34) -> 0 | AD35: =SUM(AD11:AD34) -> 0 | AE35: =SUM(AE11:AE34) -> 0.04 | AF35: =SUM(AF11:AF34) -> 0 | AG35: =SUM(AG11:AG34) -> 0 | AH35: =SUM(AH11:AH34) -> 0 | AI35: =SUM(AI11:AI34) -> 0 | AJ35: =SUM(AJ11:AJ34) -> 9.38 | AK35: 覆工スパン単位の 健全性の 診断の区分 | AM35: Ⅱ
L36: 対策区分の 判定結果 | O36: 対策区分毎の変状数注3 | Y36: Ⅳ | Z36: Ⅲ | AA36: Ⅱa | AB36: Ⅱb | AC36: Ⅳ | AD36: Ⅲ | AE36: Ⅱa | AF36: Ⅱb | AG36: Ⅳ | AH36: Ⅲ | AI36: Ⅱa | AJ36: Ⅱb
Y37: =IF(COUNTIF(Y11:Y34,"〇")>0,1,0) -> 0 | Z37: =IF(COUNTIF(Z11:Z34,"〇")>0,1,0) -> 0 | AA37: =IF(COUNTIF(AA11:AA34,"〇")>0,1,0) -> 0 | AB37: =IF(COUNTIF(AB11:AB34,"〇")>0,1,0) -> 0 | AC37: =COUNTA(AC11:AC34) -> 0 | AD37: =COUNTA(AD11:AD34) -> 0 | AE37: =COUNTA(AE11:AE34) -> 1 | AF37: =COUNTA(AF11:AF34) -> 0 | AG37: =COUNTA(AG11:AG34) -> 0 | AH37: =COUNTA(AH11:AH34) -> 0 | AI37: =COUNTA(AI11:AI34) -> 0 | AJ37: =COUNTA(AJ11:AJ34) -> 3
K39: 所見 | L39: 【 外 力 】監視を必要としない。 【材質劣化】次回点検まで重点的な監視、または計画的な対策を必要とする。 【 漏 水 】次回点検まで継続的な監視を必要とする。 以上により本スパンの判定はⅡa判定となる。
K43: 注1：誤記入防止のため、当該変状区分以外のセルは灰色表示とすること。
K44: 注2：応急措置を実施した場合は、その詳細を備考に記載すること。
K45: 注3：外力は覆工スパン単位、材質劣化、漏水は変状単位とすること。
B46: （以下、印刷不要）
B47: ※1：本シートは作成洩れのないよう、変状が無くても全スパン分を作成すること．また変状展開図は、様式D-2-1、様式D-2-1'と同じものを覆工スパン単位で拡大し掲載すること。
B48: ※2：変状番号は、様式D-1-1で記入した番号と整合させること。
B49: ※3：対策区分毎の変状発生規模は、様式D-1-1に記載した面積を記入すること（ただし外力はスパン単位で評価するため変状の有無の欄には面積でなく○を記入し、備考欄に状況を記入）。
B50: ※4：本様式は覆工スパン毎に作成すること。
B51: ※5：変状数が多い場合は、適時、表の行を増やして覆工スパン毎に1枚のシートに収めること。また、1スパン１シートとし、スパンに合わせてシートを追加すること。
B52: ※6：対策区分毎の変状の発生範囲の規模とは，対策を行う際に参考となる変状の長さや面積であり，変状を包含する長さや面積とする。
B53: ※7：対策範囲を示す発生範囲の規模を面積で記入することが妥当ではない変状は、発生範囲の規模の欄に○を記入するとともに、備考に内容を記入すること。

Sheet 様式D-3_S004
AU1: 様式F用→ | AV1: 覆工スパン | AY1: 変 状 数 | BK1: 変 状 規 模
AV2: 番号 | AW2: 延長 （ｍ） | AX2: 健全性の診断の 区分 | AY2: 対策区分の判定 | BK2: 覆工スパン長（ｍ） | BO2: 変状の発生範囲の規模（㎡）
B3: ■定期点検記録様式 覆工スパン別変状詳細展開図 【様式D-3】 | AY3: 外力 | BC3: 材質劣化 | BG3: 漏水 | BK3: 外力 注2 | BO3: 材質劣化 | BS3: 漏水
B4: フリガナ | E4: (ﾋｴﾊﾞﾗｽﾞｲﾄﾞｳ) | K4: 路線名 | N4: 一般国道187号 | T4: 定期点検業者 | Y4: 応用地質（株） | AG4: 定期点検年月日 | AK4: 45840 | AY4: Ⅳ | AZ4: Ⅲ | BA4: Ⅱa | BB4: Ⅱb | BC4: Ⅳ | BD4: Ⅲ | BE4: Ⅱa | BF4: Ⅱb | BG4: Ⅳ | BH4: Ⅲ | BI4: Ⅱa | BJ4: Ⅱb | BK4: Ⅳ | BL4: Ⅲ | BM4: Ⅱa | BN4: Ⅱb | BO4: Ⅳ | BP4: Ⅲ | BQ4: Ⅱa | BR4: Ⅱb | BS4: Ⅳ | BT4: Ⅲ | BU4: Ⅱa | BV4: Ⅱb
B5: 名 称 | E5: 稗原隧道 | K5: 管理者名 | N5: 山口県岩国土木建築事務所 | Y5: 太田 裕之 | AV5: =N7 -> 4 | AW5: =R7 -> 6 | AX5: =AM35 -> Ⅱ | AY5: =IF(Y37>0,Y37,"") | AZ5: =IF(Y37>0,"",IF(Z37>0,Z37,"")) | BA5: =IF(Y37+Z37>0,"",IF(AA37>0,AA37,"")) | BB5: =IF(Y37+Z37+AA37>0,"",IF(AB37>0,AB37,"")) | BC5: =AC37 -> 0 | BD5: =AD37 -> 0 | BE5: =AE37 -> 0 | BF5: =AF37 -> 0 | BG5: =AG37 -> 0 | BH5: =AH37 -> 0 | BI5: =AI37 -> 3 | BJ5: =AJ37 -> 2 | BK5: =IF(Y37>0,R7,"") | BL5: =IF(Y37>0,"",IF(Z37>0,R7,"")) | BM5: =IF(Y37+Z37>0,"",IF(AA37>0,R7,"")) | BN5: =IF(Y37+Z37+AA37>0,"",IF(AB37>0,R7,"")) | BO5: =AC35 -> 0 | BP5: =AD35 -> 0 | BQ5: =AE35 -> 0 | BR5: =AF35 -> 0 | BS5: =AG35 -> 0 | BT5: =AH35 -> 0 | BU5: =AI35 -> 4.17 | BV5: =AJ35 -> 4.93
B6: スパン別変状展開図 | K6: 【健全性判定集計表】
K7: スパン番号 | N7: 4 | P7: スパン長 | R7: 6 | U7: 前回定期点検時の判定 | W7: 応急措置前の判定 | Y7: 対策区分毎の 変状の有無 | AC7: 対策区分毎の変状の発生範囲の規模(㎡) | AK7: 備考注2
K8: 変状番号 | L8: 対象箇所 | N8: 部位区分 | P8: 変状区分 | R8: 変状種類
Y9: 外力注1 | AC9: 材質劣化注1 | AG9: 漏水注1
Y10: Ⅳ | Z10: Ⅲ | AA10: Ⅱa | AB10: Ⅱb | AC10: Ⅳ | AD10: Ⅲ | AE10: Ⅱa | AF10: Ⅱb | AG10: Ⅳ | AH10: Ⅲ | AI10: Ⅱa | AJ10: Ⅱb
K11: 1 | L11: 覆工 | N11: アーチ（右側） | P11: 材質劣化 | R11: 鋼材腐食 | U11: Ⅱb | W11: Ⅱb | AK11: 今回点検時に番線撤去 | AQ11: =IF(P11="材質劣化",2,IF(P11="漏水",3,1)) -> 2
K12: 2 | L12: 覆工 | N12: 横断目地（天端） | P12: 材質劣化 | R12: うき・はく離 | U12: Ⅱa | W12: － | AK12: 対策済み | AQ12: =IF(P12="材質劣化",2,IF(P12="漏水",3,1)) -> 2
K13: 3 | L13: 覆工 | N13: 水平打ち継ぎ目（右側） | P13: 漏水 | R13: 補修・補強材の破損 | U13: Ⅱa | W13: － | AI13: 0.12 | AQ13: =IF(P13="材質劣化",2,IF(P13="漏水",3,1)) -> 3
K14: 4 | L14: 覆工 | N14: 横断目地（天端） | P14: 漏水 | R14: 漏水 | U14: Ⅱa | W14: － | AI14: 4 | AQ14: =IF(P14="材質劣化",2,IF(P14="漏水",3,1)) -> 3
K15: 5 | L15: 覆工 | N15: 横断目地（左側） | P15: 漏水 | R15: 補修・補強材の破損 | U15: Ⅱa | W15: － | AI15: 0.05 | AQ15: =IF(P15="材質劣化",2,IF(P15="漏水",3,1)) -> 3
K16: 6 | L16: 覆工 | N16: 水平打ち継ぎ目（左側） | P16: 材質劣化 | R16: うき・はく離 | U16: Ⅱb | W16: － | AK16: 対策済み | AQ16: =IF(P16="材質劣化",2,IF(P16="漏水",3,1)) -> 2
K17: 7 | L17: 覆工 | N17: 側壁（左側） | P17: 漏水 | R17: 漏水 | U17: Ⅱb | W17: － | AJ17: 1.23 | AQ17: =IF(P17="材質劣化",2,IF(P17="漏水",3,1)) -> 3
K18: 8 | L18: 覆工 | N18: 横断目地（天端） | P18: 漏水 | R18: 漏水 | U18: Ⅱb | W18: － | AJ18: 3.7 | AQ18: =IF(P18="材質劣化",2,IF(P18="漏水",3,1)) -> 3
K19: 9 | L19: 覆工 | N19: 水平打ち継ぎ目（右側） | P19: 材質劣化 | R19: うき・はく離 | U19: Ⅱb | W19: － | AK19: 対策済み | AQ19: =IF(P19="材質劣化",2,IF(P19="漏水",3,1)) -> 2
K20: 10 | AQ20: =IF(P20="材質劣化",2,IF(P20="漏水",3,1)) -> 1
K21: 11 | AQ21: =IF(P21="材質劣化",2,IF(P21="漏水",3,1)) -> 1
K22: 12 | AQ22: =IF(P22="材質劣化",2,IF(P22="漏水",3,1)) -> 1
K23: 13 | AQ23: =IF(P23="材質劣化",2,IF(P23="漏水",3,1)) -> 1
K24: 14 | AQ24: =IF(P24="材質劣化",2,IF(P24="漏水",3,1)) -> 1
K25: 15 | AQ25: =IF(P25="材質劣化",2,IF(P25="漏水",3,1)) -> 1
K26: 16 | AQ26: =IF(P26="材質劣化",2,IF(P26="漏水",3,1)) -> 1
K27: 17 | AQ27: =IF(P27="材質劣化",2,IF(P27="漏水",3,1)) -> 1
K28: 18 | AQ28: =IF(P30="材質劣化",2,IF(P30="漏水",3,1)) -> 1
K29: 19 | AQ29: =IF(P34="材質劣化",2,IF(P34="漏水",3,1)) -> 1
K30: 20 | AQ30: =IF(P30="材質劣化",2,IF(P30="漏水",3,1)) -> 1
K31: 21 | AQ31: =IF(P33="材質劣化",2,IF(P33="漏水",3,1)) -> 1
K32: 22 | AQ32: =IF(P37="材質劣化",2,IF(P37="漏水",3,1)) -> 1
K33: 23 | AQ33: =IF(P33="材質劣化",2,IF(P33="漏水",3,1)) -> 1
K34: 24 | AQ34: =IF(P36="材質劣化",2,IF(P36="漏水",3,1)) -> 1
K35: 集計 判定 診断 | L35: 変状の発生規模合計(㎡) | Y35: － | AC35: =SUM(AC11:AC34) -> 0 | AD35: =SUM(AD11:AD34) -> 0 | AE35: =SUM(AE11:AE34) -> 0 | AF35: =SUM(AF11:AF34) -> 0 | AG35: =SUM(AG11:AG34) -> 0 | AH35: =SUM(AH11:AH34) -> 0 | AI35: =SUM(AI11:AI34) -> 4.17 | AJ35: =SUM(AJ11:AJ34) -> 4.93 | AK35: 覆工スパン単位の 健全性の 診断の区分 | AM35: Ⅱ
L36: 対策区分の 判定結果 | O36: 対策区分毎の変状数注3 | Y36: Ⅳ | Z36: Ⅲ | AA36: Ⅱa | AB36: Ⅱb | AC36: Ⅳ | AD36: Ⅲ | AE36: Ⅱa | AF36: Ⅱb | AG36: Ⅳ | AH36: Ⅲ | AI36: Ⅱa | AJ36: Ⅱb
Y37: =IF(COUNTIF(Y11:Y34,"〇")>0,1,0) -> 0 | Z37: =IF(COUNTIF(Z11:Z34,"〇")>0,1,0) -> 0 | AA37: =IF(COUNTIF(AA11:AA34,"〇")>0,1,0) -> 0 | AB37: =IF(COUNTIF(AB11:AB34,"〇")>0,1,0) -> 0 | AC37: =COUNTA(AC11:AC34) -> 0 | AD37: =COUNTA(AD11:AD34) -> 0 | AE37: =COUNTA(AE11:AE34) -> 0 | AF37: =COUNTA(AF11:AF34) -> 0 | AG37: =COUNTA(AG11:AG34) -> 0 | AH37: =COUNTA(AH11:AH34) -> 0 | AI37: =COUNTA(AI11:AI34) -> 3 | AJ37: =COUNTA(AJ11:AJ34) -> 2
K39: 所見 | L39: 【 外 力 】監視を必要としない。 【材質劣化】監視を必要としない。 【 漏 水 】次回点検まで重点的な監視、または計画的な対策を必要とする。 以上により本スパンの判定はⅡa判定となる。
K43: 注1：誤記入防止のため、当該変状区分以外のセルは灰色表示とすること。
K44: 注2：応急措置を実施した場合は、その詳細を備考に記載すること。
K45: 注3：外力は覆工スパン単位、材質劣化、漏水は変状単位とすること。
B46: （以下、印刷不要）
B47: ※1：本シートは作成洩れのないよう、変状が無くても全スパン分を作成すること．また変状展開図は、様式D-2-1、様式D-2-1'と同じものを覆工スパン単位で拡大し掲載すること。
B48: ※2：変状番号は、様式D-1-1で記入した番号と整合させること。
B49: ※3：対策区分毎の変状発生規模は、様式D-1-1に記載した面積を記入すること（ただし外力はスパン単位で評価するため変状の有無の欄には面積でなく○を記入し、備考欄に状況を記入）。
B50: ※4：本様式は覆工スパン毎に作成すること。
B51: ※5：変状数が多い場合は、適時、表の行を増やして覆工スパン毎に1枚のシートに収めること。また、1スパン１シートとし、スパンに合わせてシートを追加すること。
B52: ※6：対策区分毎の変状の発生範囲の規模とは，対策を行う際に参考となる変状の長さや面積であり，変状を包含する長さや面積とする。
B53: ※7：対策範囲を示す発生範囲の規模を面積で記入することが妥当ではない変状は、発生範囲の規模の欄に○を記入するとともに、備考に内容を記入すること。

Sheet 様式D-3_S005
AU1: 様式F用→ | AV1: 覆工スパン | AY1: 変 状 数 | BK1: 変 状 規 模
AV2: 番号 | AW2: 延長 （ｍ） | AX2: 健全性の診断の 区分 | AY2: 対策区分の判定 | BK2: 覆工スパン長（ｍ） | BO2: 変状の発生範囲の規模（㎡）
B3: ■定期点検記録様式 覆工スパン別変状詳細展開図 【様式D-3】 | AY3: 外力 | BC3: 材質劣化 | BG3: 漏水 | BK3: 外力 注2 | BO3: 材質劣化 | BS3: 漏水
B4: フリガナ | E4: (ﾋｴﾊﾞﾗｽﾞｲﾄﾞｳ) | K4: 路線名 | N4: 一般国道187号 | T4: 定期点検業者 | Y4: 応用地質（株） | AG4: 定期点検年月日 | AK4: 45840 | AY4: Ⅳ | AZ4: Ⅲ | BA4: Ⅱa | BB4: Ⅱb | BC4: Ⅳ | BD4: Ⅲ | BE4: Ⅱa | BF4: Ⅱb | BG4: Ⅳ | BH4: Ⅲ | BI4: Ⅱa | BJ4: Ⅱb | BK4: Ⅳ | BL4: Ⅲ | BM4: Ⅱa | BN4: Ⅱb | BO4: Ⅳ | BP4: Ⅲ | BQ4: Ⅱa | BR4: Ⅱb | BS4: Ⅳ | BT4: Ⅲ | BU4: Ⅱa | BV4: Ⅱb
B5: 名 称 | E5: 稗原隧道 | K5: 管理者名 | N5: 山口県岩国土木建築事務所 | Y5: 太田 裕之 | AV5: =N7 -> 5 | AW5: =R7 -> 5.8 | AX5: =AM35 -> Ⅱ | AY5: =IF(Y37>0,Y37,"") | AZ5: =IF(Y37>0,"",IF(Z37>0,Z37,"")) | BA5: =IF(Y37+Z37>0,"",IF(AA37>0,AA37,"")) | BB5: =IF(Y37+Z37+AA37>0,"",IF(AB37>0,AB37,"")) | BC5: =AC37 -> 0 | BD5: =AD37 -> 0 | BE5: =AE37 -> 0 | BF5: =AF37 -> 0 | BG5: =AG37 -> 0 | BH5: =AH37 -> 0 | BI5: =AI37 -> 0 | BJ5: =AJ37 -> 4 | BK5: =IF(Y37>0,R7,"") | BL5: =IF(Y37>0,"",IF(Z37>0,R7,"")) | BM5: =IF(Y37+Z37>0,"",IF(AA37>0,R7,"")) | BN5: =IF(Y37+Z37+AA37>0,"",IF(AB37>0,R7,"")) | BO5: =AC35 -> 0 | BP5: =AD35 -> 0 | BQ5: =AE35 -> 0 | BR5: =AF35 -> 0 | BS5: =AG35 -> 0 | BT5: =AH35 -> 0 | BU5: =AI35 -> 0 | BV5: =AJ35 -> 24.48
B6: スパン別変状展開図 | K6: 【健全性判定集計表】
K7: スパン番号 | N7: 5 | P7: スパン長 | R7: 5.8 | U7: 前回定期点検時の判定 | W7: 応急措置前の判定 | Y7: 対策区分毎の 変状の有無 | AC7: 対策区分毎の変状の発生範囲の規模(㎡) | AK7: 備考注2
K8: 変状番号 | L8: 対象箇所 | N8: 部位区分 | P8: 変状区分 | R8: 変状種類
Y9: 外力注1 | AC9: 材質劣化注1 | AG9: 漏水注1
Y10: Ⅳ | Z10: Ⅲ | AA10: Ⅱa | AB10: Ⅱb | AC10: Ⅳ | AD10: Ⅲ | AE10: Ⅱa | AF10: Ⅱb | AG10: Ⅳ | AH10: Ⅲ | AI10: Ⅱa | AJ10: Ⅱb
K11: 1 | L11: 覆工 | N11: アーチ（天端） | P11: 材質劣化 | R11: うき・はく離 | U11: Ⅱa | W11: － | AK11: 対策済み | AQ11: =IF(P11="材質劣化",2,IF(P11="漏水",3,1)) -> 2
K12: 2 | L12: 覆工 | N12: アーチ（左側） | P12: 漏水 | R12: 漏水 | U12: Ⅱb | W12: － | AJ12: 14.08 | AQ12: =IF(P12="材質劣化",2,IF(P12="漏水",3,1)) -> 3
K13: 3 | L13: 覆工 | N13: 横断目地（天端） | P13: 材質劣化 | R13: うき・はく離 | U13: Ⅱb | W13: － | AK13: 対策済み | AQ13: =IF(P13="材質劣化",2,IF(P13="漏水",3,1)) -> 2
K14: 4 | L14: 覆工 | N14: アーチ（右側） | P14: 漏水 | R14: 漏水 | U14: Ⅱb | W14: － | AJ14: 5.4 | AQ14: =IF(P14="材質劣化",2,IF(P14="漏水",3,1)) -> 3
K15: 5 | L15: 覆工 | N15: 横断目地（天端） | P15: 漏水 | R15: 漏水 | U15: Ⅱb | W15: － | AJ15: 3.5 | AQ15: =IF(P15="材質劣化",2,IF(P15="漏水",3,1)) -> 3
K16: 6 | L16: 覆工 | N16: 横断目地（左側） | P16: 材質劣化 | R16: うき・はく離 | U16: Ⅱb | W16: － | AK16: 再判定 | AQ16: =IF(P16="材質劣化",2,IF(P16="漏水",3,1)) -> 2
K17: 7 | L17: 覆工 | N17: 水平打ち継ぎ目（左側） | P17: 材質劣化 | R17: うき・はく離 | U17: Ⅱb | W17: － | AK17: 対策済み | AQ17: =IF(P17="材質劣化",2,IF(P17="漏水",3,1)) -> 2
K18: 8 | L18: 覆工 | N18: 水平打ち継ぎ目（右側） | P18: 材質劣化 | R18: うき・はく離 | U18: Ⅱb | W18: － | AK18: 対策済み | AQ18: =IF(P18="材質劣化",2,IF(P18="漏水",3,1)) -> 2
K19: 9 | L19: 覆工 | N19: 水平打ち継ぎ目（右側） | P19: 材質劣化 | R19: うき・はく離 | U19: Ⅱb | W19: － | AK19: 対策済み | AQ19: =IF(P19="材質劣化",2,IF(P19="漏水",3,1)) -> 2
K20: 10 | L20: 覆工 | N20: 水平打ち継ぎ目（右側） | P20: 漏水 | R20: 漏水 | U20: Ⅱb | W20: － | AJ20: 1.5 | AQ20: =IF(P20="材質劣化",2,IF(P20="漏水",3,1)) -> 3
K21: 11 | AQ21: =IF(P21="材質劣化",2,IF(P21="漏水",3,1)) -> 1
K22: 12 | AQ22: =IF(P22="材質劣化",2,IF(P22="漏水",3,1)) -> 1
K23: 13 | AQ23: =IF(P23="材質劣化",2,IF(P23="漏水",3,1)) -> 1
K24: 14 | AQ24: =IF(P24="材質劣化",2,IF(P24="漏水",3,1)) -> 1
K25: 15 | AQ25: =IF(P25="材質劣化",2,IF(P25="漏水",3,1)) -> 1
K26: 16 | AQ26: =IF(P26="材質劣化",2,IF(P26="漏水",3,1)) -> 1
K27: 17 | AQ27: =IF(P27="材質劣化",2,IF(P27="漏水",3,1)) -> 1
K28: 18 | AQ28: =IF(P30="材質劣化",2,IF(P30="漏水",3,1)) -> 1
K29: 19 | AQ29: =IF(P34="材質劣化",2,IF(P34="漏水",3,1)) -> 1
K30: 20 | AQ30: =IF(P30="材質劣化",2,IF(P30="漏水",3,1)) -> 1
K31: 21 | AQ31: =IF(P33="材質劣化",2,IF(P33="漏水",3,1)) -> 1
K32: 22 | AQ32: =IF(P37="材質劣化",2,IF(P37="漏水",3,1)) -> 1
K33: 23 | AQ33: =IF(P33="材質劣化",2,IF(P33="漏水",3,1)) -> 1
K34: 24 | AQ34: =IF(P36="材質劣化",2,IF(P36="漏水",3,1)) -> 1
K35: 集計 判定 診断 | L35: 変状の発生規模合計(㎡) | Y35: － | AC35: =SUM(AC11:AC34) -> 0 | AD35: =SUM(AD11:AD34) -> 0 | AE35: =SUM(AE11:AE34) -> 0 | AF35: =SUM(AF11:AF34) -> 0 | AG35: =SUM(AG11:AG34) -> 0 | AH35: =SUM(AH11:AH34) -> 0 | AI35: =SUM(AI11:AI34) -> 0 | AJ35: =SUM(AJ11:AJ34) -> 24.48 | AK35: 覆工スパン単位の 健全性の 診断の区分 | AM35: Ⅱ
L36: 対策区分の 判定結果 | O36: 対策区分毎の変状数注3 | Y36: Ⅳ | Z36: Ⅲ | AA36: Ⅱa | AB36: Ⅱb | AC36: Ⅳ | AD36: Ⅲ | AE36: Ⅱa | AF36: Ⅱb | AG36: Ⅳ | AH36: Ⅲ | AI36: Ⅱa | AJ36: Ⅱb
Y37: =IF(COUNTIF(Y11:Y34,"〇")>0,1,0) -> 0 | Z37: =IF(COUNTIF(Z11:Z34,"〇")>0,1,0) -> 0 | AA37: =IF(COUNTIF(AA11:AA34,"〇")>0,1,0) -> 0 | AB37: =IF(COUNTIF(AB11:AB34,"〇")>0,1,0) -> 0 | AC37: =COUNTA(AC11:AC34) -> 0 | AD37: =COUNTA(AD11:AD34) -> 0 | AE37: =COUNTA(AE11:AE34) -> 0 | AF37: =COUNTA(AF11:AF34) -> 0 | AG37: =COUNTA(AG11:AG34) -> 0 | AH37: =COUNTA(AH11:AH34) -> 0 | AI37: =COUNTA(AI11:AI34) -> 0 | AJ37: =COUNTA(AJ11:AJ34) -> 4
K39: 所見 | L39: 【 外 力 】監視を必要としない。 【材質劣化】監視を必要としない。 【 漏 水 】次回点検まで継続的な監視を必要とする。 以上により本スパンの判定はⅡb判定となる。
K43: 注1：誤記入防止のため、当該変状区分以外のセルは灰色表示とすること。
K44: 注2：応急措置を実施した場合は、その詳細を備考に記載すること。
K45: 注3：外力は覆工スパン単位、材質劣化、漏水は変状単位とすること。
B46: （以下、印刷不要）
B47: ※1：本シートは作成洩れのないよう、変状が無くても全スパン分を作成すること．また変状展開図は、様式D-2-1、様式D-2-1'と同じものを覆工スパン単位で拡大し掲載すること。
B48: ※2：変状番号は、様式D-1-1で記入した番号と整合させること。
B49: ※3：対策区分毎の変状発生規模は、様式D-1-1に記載した面積を記入すること（ただし外力はスパン単位で評価するため変状の有無の欄には面積でなく○を記入し、備考欄に状況を記入）。
B50: ※4：本様式は覆工スパン毎に作成すること。
B51: ※5：変状数が多い場合は、適時、表の行を増やして覆工スパン毎に1枚のシートに収めること。また、1スパン１シートとし、スパンに合わせてシートを追加すること。
B52: ※6：対策区分毎の変状の発生範囲の規模とは，対策を行う際に参考となる変状の長さや面積であり，変状を包含する長さや面積とする。
B53: ※7：対策範囲を示す発生範囲の規模を面積で記入することが妥当ではない変状は、発生範囲の規模の欄に○を記入するとともに、備考に内容を記入すること。

Sheet 様式D-3_S006
AU1: 様式F用→ | AV1: 覆工スパン | AY1: 変 状 数 | BK1: 変 状 規 模
AV2: 番号 | AW2: 延長 （ｍ） | AX2: 健全性の診断の 区分 | AY2: 対策区分の判定 | BK2: 覆工スパン長（ｍ） | BO2: 変状の発生範囲の規模（㎡）
B3: ■定期点検記録様式 覆工スパン別変状詳細展開図 【様式D-3】 | AY3: 外力 | BC3: 材質劣化 | BG3: 漏水 | BK3: 外力 注2 | BO3: 材質劣化 | BS3: 漏水
B4: フリガナ | E4: (ﾋｴﾊﾞﾗｽﾞｲﾄﾞｳ) | K4: 路線名 | N4: 一般国道187号 | T4: 定期点検業者 | Y4: 応用地質（株） | AG4: 定期点検年月日 | AK4: 45840 | AY4: Ⅳ | AZ4: Ⅲ | BA4: Ⅱa | BB4: Ⅱb | BC4: Ⅳ | BD4: Ⅲ | BE4: Ⅱa | BF4: Ⅱb | BG4: Ⅳ | BH4: Ⅲ | BI4: Ⅱa | BJ4: Ⅱb | BK4: Ⅳ | BL4: Ⅲ | BM4: Ⅱa | BN4: Ⅱb | BO4: Ⅳ | BP4: Ⅲ | BQ4: Ⅱa | BR4: Ⅱb | BS4: Ⅳ | BT4: Ⅲ | BU4: Ⅱa | BV4: Ⅱb
B5: 名 称 | E5: 稗原隧道 | K5: 管理者名 | N5: 山口県岩国土木建築事務所 | Y5: 太田 裕之 | AV5: =N7 -> 6 | AW5: =R7 -> 5.95 | AX5: =AM35 -> Ⅱ | AY5: =IF(Y37>0,Y37,"") | AZ5: =IF(Y37>0,"",IF(Z37>0,Z37,"")) | BA5: =IF(Y37+Z37>0,"",IF(AA37>0,AA37,"")) | BB5: =IF(Y37+Z37+AA37>0,"",IF(AB37>0,AB37,"")) | BC5: =AC37 -> 0 | BD5: =AD37 -> 0 | BE5: =AE37 -> 1 | BF5: =AF37 -> 0 | BG5: =AG37 -> 0 | BH5: =AH37 -> 0 | BI5: =AI37 -> 0 | BJ5: =AJ37 -> 3 | BK5: =IF(Y37>0,R7,"") | BL5: =IF(Y37>0,"",IF(Z37>0,R7,"")) | BM5: =IF(Y37+Z37>0,"",IF(AA37>0,R7,"")) | BN5: =IF(Y37+Z37+AA37>0,"",IF(AB37>0,R7,"")) | BO5: =AC35 -> 0 | BP5: =AD35 -> 0 | BQ5: =AE35 -> 0.01 | BR5: =AF35 -> 0 | BS5: =AG35 -> 0 | BT5: =AH35 -> 0 | BU5: =AI35 -> 0 | BV5: =AJ35 -> 29.07
B6: スパン別変状展開図 | K6: 【健全性判定集計表】
K7: スパン番号 | N7: 6 | P7: スパン長 | R7: 5.95 | U7: 前回定期点検時の判定 | W7: 応急措置前の判定 | Y7: 対策区分毎の 変状の有無 | AC7: 対策区分毎の変状の発生範囲の規模(㎡) | AK7: 備考注2
K8: 変状番号 | L8: 対象箇所 | N8: 部位区分 | P8: 変状区分 | R8: 変状種類
Y9: 外力注1 | AC9: 材質劣化注1 | AG9: 漏水注1
Y10: Ⅳ | Z10: Ⅲ | AA10: Ⅱa | AB10: Ⅱb | AC10: Ⅳ | AD10: Ⅲ | AE10: Ⅱa | AF10: Ⅱb | AG10: Ⅳ | AH10: Ⅲ | AI10: Ⅱa | AJ10: Ⅱb
K11: 1 | L11: 覆工 | N11: 横断目地（天端） | P11: 材質劣化 | R11: うき・はく離 | U11: Ⅱa | W11: － | AK11: 対策済み | AQ11: =IF(P11="材質劣化",2,IF(P11="漏水",3,1)) -> 2
K12: 2 | L12: 覆工 | N12: アーチ（天端） | P12: 材質劣化 | R12: うき・はく離 | U12: Ⅱa | W12: － | AK12: 対策済み | AQ12: =IF(P12="材質劣化",2,IF(P12="漏水",3,1)) -> 2
K13: 3 | L13: 覆工 | N13: 横断目地（天端） | P13: 材質劣化 | R13: うき・はく離 | U13: Ⅱa | W13: － | AK13: 対策済み | AQ13: =IF(P13="材質劣化",2,IF(P13="漏水",3,1)) -> 2
K14: 4 | L14: 覆工 | N14: アーチ（右側） | P14: 漏水 | R14: 漏水 | U14: Ⅱb | W14: － | AJ14: 24.57 | AQ14: =IF(P14="材質劣化",2,IF(P14="漏水",3,1)) -> 3
K15: 5 | L15: 覆工 | N15: 水平打ち継ぎ目（左側） | P15: 漏水 | R15: 漏水 | U15: Ⅱb | W15: － | AJ15: 1.5 | AQ15: =IF(P15="材質劣化",2,IF(P15="漏水",3,1)) -> 3
K16: 6 | L16: 覆工 | N16: アーチ（左側） | P16: 漏水 | R16: 漏水 | U16: Ⅱb | W16: － | AJ16: 3 | AQ16: =IF(P16="材質劣化",2,IF(P16="漏水",3,1)) -> 3
K17: 7 | L17: 覆工 | N17: 水平打ち継ぎ目（左側） | P17: 材質劣化 | R17: うき・はく離 | U17: Ⅱb | W17: － | AK17: 対策済み | AQ17: =IF(P17="材質劣化",2,IF(P17="漏水",3,1)) -> 2
K18: 8 | L18: 覆工 | N18: 水平打ち継ぎ目（右側） | P18: 材質劣化 | R18: うき・はく離 | U18: Ⅱb | W18: － | AK18: 対策済み | AQ18: =IF(P18="材質劣化",2,IF(P18="漏水",3,1)) -> 2
K19: 9 | L19: 覆工 | N19: アーチ（右側） | P19: 材質劣化 | R19: 補修・補強材の破損 | U19: － | W19: － | AE19: 0.01 | AQ19: =IF(P19="材質劣化",2,IF(P19="漏水",3,1)) -> 2
K20: 10 | AQ20: =IF(P20="材質劣化",2,IF(P20="漏水",3,1)) -> 1
K21: 11 | AQ21: =IF(P21="材質劣化",2,IF(P21="漏水",3,1)) -> 1
K22: 12 | AQ22: =IF(P22="材質劣化",2,IF(P22="漏水",3,1)) -> 1
K23: 13 | AQ23: =IF(P23="材質劣化",2,IF(P23="漏水",3,1)) -> 1
K24: 14 | AQ24: =IF(P24="材質劣化",2,IF(P24="漏水",3,1)) -> 1
K25: 15 | AQ25: =IF(P25="材質劣化",2,IF(P25="漏水",3,1)) -> 1
K26: 16 | AQ26: =IF(P26="材質劣化",2,IF(P26="漏水",3,1)) -> 1
K27: 17 | AQ27: =IF(P27="材質劣化",2,IF(P27="漏水",3,1)) -> 1
K28: 18 | AQ28: =IF(P30="材質劣化",2,IF(P30="漏水",3,1)) -> 1
K29: 19 | AQ29: =IF(P34="材質劣化",2,IF(P34="漏水",3,1)) -> 1
K30: 20 | AQ30: =IF(P30="材質劣化",2,IF(P30="漏水",3,1)) -> 1
K31: 21 | AQ31: =IF(P33="材質劣化",2,IF(P33="漏水",3,1)) -> 1
K32: 22 | AQ32: =IF(P37="材質劣化",2,IF(P37="漏水",3,1)) -> 1
K33: 23 | AQ33: =IF(P33="材質劣化",2,IF(P33="漏水",3,1)) -> 1
K34: 24 | AQ34: =IF(P36="材質劣化",2,IF(P36="漏水",3,1)) -> 1
K35: 集計 判定 診断 | L35: 変状の発生規模合計(㎡) | Y35: － | AC35: =SUM(AC11:AC34) -> 0 | AD35: =SUM(AD11:AD34) -> 0 | AE35: =SUM(AE11:AE34) -> 0.01 | AF35: =SUM(AF11:AF34) -> 0 | AG35: =SUM(AG11:AG34) -> 0 | AH35: =SUM(AH11:AH34) -> 0 | AI35: =SUM(AI11:AI34) -> 0 | AJ35: =SUM(AJ11:AJ34) -> 29.07 | AK35: 覆工スパン単位の 健全性の 診断の区分 | AM35: Ⅱ
L36: 対策区分の 判定結果 | O36: 対策区分毎の変状数注3 | Y36: Ⅳ | Z36: Ⅲ | AA36: Ⅱa | AB36: Ⅱb | AC36: Ⅳ | AD36: Ⅲ | AE36: Ⅱa | AF36: Ⅱb | AG36: Ⅳ | AH36: Ⅲ | AI36: Ⅱa | AJ36: Ⅱb
Y37: =IF(COUNTIF(Y11:Y34,"〇")>0,1,0) -> 0 | Z37: =IF(COUNTIF(Z11:Z34,"〇")>0,1,0) -> 0 | AA37: =IF(COUNTIF(AA11:AA34,"〇")>0,1,0) -> 0 | AB37: =IF(COUNTIF(AB11:AB34,"〇")>0,1,0) -> 0 | AC37: =COUNTA(AC11:AC34) -> 0 | AD37: =COUNTA(AD11:AD34) -> 0 | AE37: =COUNTA(AE11:AE34) -> 1 | AF37: =COUNTA(AF11:AF34) -> 0 | AG37: =COUNTA(AG11:AG34) -> 0 | AH37: =COUNTA(AH11:AH34) -> 0 | AI37: =COUNTA(AI11:AI34) -> 0 | AJ37: =COUNTA(AJ11:AJ34) -> 3
K39: 所見 | L39: 【 外 力 】監視を必要としない。 【材質劣化】次回点検まで重点的な監視、または計画的な対策を必要とする。 【 漏 水 】次回点検まで継続的な監視を必要とする。 以上により本スパンの判定はⅡa判定となる。
K43: 注1：誤記入防止のため、当該変状区分以外のセルは灰色表示とすること。
K44: 注2：応急措置を実施した場合は、その詳細を備考に記載すること。
K45: 注3：外力は覆工スパン単位、材質劣化、漏水は変状単位とすること。
B46: （以下、印刷不要）
B47: ※1：本シートは作成洩れのないよう、変状が無くても全スパン分を作成すること．また変状展開図は、様式D-2-1、様式D-2-1'と同じものを覆工スパン単位で拡大し掲載すること。
B48: ※2：変状番号は、様式D-1-1で記入した番号と整合させること。
B49: ※3：対策区分毎の変状発生規模は、様式D-1-1に記載した面積を記入すること（ただし外力はスパン単位で評価するため変状の有無の欄には面積でなく○を記入し、備考欄に状況を記入）。
B50: ※4：本様式は覆工スパン毎に作成すること。
B51: ※5：変状数が多い場合は、適時、表の行を増やして覆工スパン毎に1枚のシートに収めること。また、1スパン１シートとし、スパンに合わせてシートを追加すること。
B52: ※6：対策区分毎の変状の発生範囲の規模とは，対策を行う際に参考となる変状の長さや面積であり，変状を包含する長さや面積とする。
B53: ※7：対策範囲を示す発生範囲の規模を面積で記入することが妥当ではない変状は、発生範囲の規模の欄に○を記入するとともに、備考に内容を記入すること。

Sheet 様式D-3_S007
AU1: 様式F用→ | AV1: 覆工スパン | AY1: 変 状 数 | BK1: 変 状 規 模
AV2: 番号 | AW2: 延長 （ｍ） | AX2: 健全性の診断の 区分 | AY2: 対策区分の判定 | BK2: 覆工スパン長（ｍ） | BO2: 変状の発生範囲の規模（㎡）
B3: ■定期点検記録様式 覆工スパン別変状詳細展開図 【様式D-3】 | AY3: 外力 | BC3: 材質劣化 | BG3: 漏水 | BK3: 外力 注2 | BO3: 材質劣化 | BS3: 漏水
B4: フリガナ | E4: (ﾋｴﾊﾞﾗｽﾞｲﾄﾞｳ) | K4: 路線名 | N4: 一般国道187号 | T4: 定期点検業者 | Y4: 応用地質（株） | AG4: 定期点検年月日 | AK4: 45840 | AY4: Ⅳ | AZ4: Ⅲ | BA4: Ⅱa | BB4: Ⅱb | BC4: Ⅳ | BD4: Ⅲ | BE4: Ⅱa | BF4: Ⅱb | BG4: Ⅳ | BH4: Ⅲ | BI4: Ⅱa | BJ4: Ⅱb | BK4: Ⅳ | BL4: Ⅲ | BM4: Ⅱa | BN4: Ⅱb | BO4: Ⅳ | BP4: Ⅲ | BQ4: Ⅱa | BR4: Ⅱb | BS4: Ⅳ | BT4: Ⅲ | BU4: Ⅱa | BV4: Ⅱb
B5: 名 称 | E5: 稗原隧道 | K5: 管理者名 | N5: 山口県岩国土木建築事務所 | Y5: 太田 裕之 | AV5: =N7 -> 7 | AW5: =R7 -> 5.8 | AX5: =AM35 -> Ⅱ | AY5: =IF(Y37>0,Y37,"") | AZ5: =IF(Y37>0,"",IF(Z37>0,Z37,"")) | BA5: =IF(Y37+Z37>0,"",IF(AA37>0,AA37,"")) | BB5: =IF(Y37+Z37+AA37>0,"",IF(AB37>0,AB37,"")) | BC5: =AC37 -> 0 | BD5: =AD37 -> 0 | BE5: =AE37 -> 1 | BF5: =AF37 -> 1 | BG5: =AG37 -> 0 | BH5: =AH37 -> 0 | BI5: =AI37 -> 0 | BJ5: =AJ37 -> 2 | BK5: =IF(Y37>0,R7,"") | BL5: =IF(Y37>0,"",IF(Z37>0,R7,"")) | BM5: =IF(Y37+Z37>0,"",IF(AA37>0,R7,"")) | BN5: =IF(Y37+Z37+AA37>0,"",IF(AB37>0,R7,"")) | BO5: =AC35 -> 0 | BP5: =AD35 -> 0 | BQ5: =AE35 -> 0.02 | BR5: =AF35 -> 0.01 | BS5: =AG35 -> 0 | BT5: =AH35 -> 0 | BU5: =AI35 -> 0 | BV5: =AJ35 -> 13.25
B6: スパン別変状展開図 | K6: 【健全性判定集計表】
K7: スパン番号 | N7: 7 | P7: スパン長 | R7: 5.8 | U7: 前回定期点検時の判定 | W7: 応急措置前の判定 | Y7: 対策区分毎の 変状の有無 | AC7: 対策区分毎の変状の発生範囲の規模(㎡) | AK7: 備考注2
K8: 変状番号 | L8: 対象箇所 | N8: 部位区分 | P8: 変状区分 | R8: 変状種類
Y9: 外力注1 | AC9: 材質劣化注1 | AG9: 漏水注1
Y10: Ⅳ | Z10: Ⅲ | AA10: Ⅱa | AB10: Ⅱb | AC10: Ⅳ | AD10: Ⅲ | AE10: Ⅱa | AF10: Ⅱb | AG10: Ⅳ | AH10: Ⅲ | AI10: Ⅱa | AJ10: Ⅱb
K11: 1 | L11: 覆工 | N11: 横断目地（左側） | P11: 材質劣化 | R11: うき・はく離 | U11: Ⅱa | W11: － | AK11: 対策済み | AQ11: =IF(P11="材質劣化",2,IF(P11="漏水",3,1)) -> 2
K12: 2 | L12: 覆工 | N12: アーチ（天端） | P12: 材質劣化 | R12: うき・はく離 | U12: Ⅱa | W12: － | AK12: 対策済み | AQ12: =IF(P12="材質劣化",2,IF(P12="漏水",3,1)) -> 2
K13: 3 | L13: 覆工 | N13: 水平打ち継ぎ目（左側） | P13: 材質劣化 | R13: うき・はく離 | U13: Ⅱb | W13: － | AK13: 対策済み | AQ13: =IF(P13="材質劣化",2,IF(P13="漏水",3,1)) -> 2
K14: 4 | L14: 覆工 | N14: 横断目地（右側） | P14: 漏水 | R14: 漏水 | U14: Ⅱb | W14: － | AJ14: 2.45 | AQ14: =IF(P14="材質劣化",2,IF(P14="漏水",3,1)) -> 3
K15: 5 | L15: 覆工 | N15: 水平打ち継ぎ目（左側） | P15: 漏水 | R15: 漏水 | U15: － | W15: － | AJ15: 10.8 | AQ15: =IF(P15="材質劣化",2,IF(P15="漏水",3,1)) -> 3
K16: 6 | L16: 覆工 | N16: アーチ（左側） | P16: 材質劣化 | R16: 補修・補強材の破損 | U16: － | W16: Ⅱa | AF16: 0.01 | AK16: 今回点検時に増し締め実施 | AQ16: =IF(P16="材質劣化",2,IF(P16="漏水",3,1)) -> 2
K17: 7 | L17: 覆工 | N17: アーチ（天端） | P17: 材質劣化 | R17: うき・はく離 | U17: － | W17: － | AE17: 0.02 | AQ17: =IF(P17="材質劣化",2,IF(P17="漏水",3,1)) -> 2
K18: 8 | AQ18: =IF(P18="材質劣化",2,IF(P18="漏水",3,1)) -> 1
K19: 9 | AQ19: =IF(P19="材質劣化",2,IF(P19="漏水",3,1)) -> 1
K20: 10 | AQ20: =IF(P20="材質劣化",2,IF(P20="漏水",3,1)) -> 1
K21: 11 | AQ21: =IF(P21="材質劣化",2,IF(P21="漏水",3,1)) -> 1
K22: 12 | AQ22: =IF(P22="材質劣化",2,IF(P22="漏水",3,1)) -> 1
K23: 13 | AQ23: =IF(P23="材質劣化",2,IF(P23="漏水",3,1)) -> 1
K24: 14 | AQ24: =IF(P24="材質劣化",2,IF(P24="漏水",3,1)) -> 1
K25: 15 | AQ25: =IF(P25="材質劣化",2,IF(P25="漏水",3,1)) -> 1
K26: 16 | AQ26: =IF(P26="材質劣化",2,IF(P26="漏水",3,1)) -> 1
K27: 17 | AQ27: =IF(P27="材質劣化",2,IF(P27="漏水",3,1)) -> 1
K28: 18 | AQ28: =IF(P30="材質劣化",2,IF(P30="漏水",3,1)) -> 1
K29: 19 | AQ29: =IF(P34="材質劣化",2,IF(P34="漏水",3,1)) -> 1
K30: 20 | AQ30: =IF(P30="材質劣化",2,IF(P30="漏水",3,1)) -> 1
K31: 21 | AQ31: =IF(P33="材質劣化",2,IF(P33="漏水",3,1)) -> 1
K32: 22 | AQ32: =IF(P37="材質劣化",2,IF(P37="漏水",3,1)) -> 1
K33: 23 | AQ33: =IF(P33="材質劣化",2,IF(P33="漏水",3,1)) -> 1
K34: 24 | AQ34: =IF(P36="材質劣化",2,IF(P36="漏水",3,1)) -> 1
K35: 集計 判定 診断 | L35: 変状の発生規模合計(㎡) | Y35: － | AC35: =SUM(AC11:AC34) -> 0 | AD35: =SUM(AD11:AD34) -> 0 | AE35: =SUM(AE11:AE34) -> 0.02 | AF35: =SUM(AF11:AF34) -> 0.01 | AG35: =SUM(AG11:AG34) -> 0 | AH35: =SUM(AH11:AH34) -> 0 | AI35: =SUM(AI11:AI34) -> 0 | AJ35: =SUM(AJ11:AJ34) -> 13.25 | AK35: 覆工スパン単位の 健全性の 診断の区分 | AM35: Ⅱ
L36: 対策区分の 判定結果 | O36: 対策区分毎の変状数注3 | Y36: Ⅳ | Z36: Ⅲ | AA36: Ⅱa | AB36: Ⅱb | AC36: Ⅳ | AD36: Ⅲ | AE36: Ⅱa | AF36: Ⅱb | AG36: Ⅳ | AH36: Ⅲ | AI36: Ⅱa | AJ36: Ⅱb
Y37: =IF(COUNTIF(Y11:Y34,"〇")>0,1,0) -> 0 | Z37: =IF(COUNTIF(Z11:Z34,"〇")>0,1,0) -> 0 | AA37: =IF(COUNTIF(AA11:AA34,"〇")>0,1,0) -> 0 | AB37: =IF(COUNTIF(AB11:AB34,"〇")>0,1,0) -> 0 | AC37: =COUNTA(AC11:AC34) -> 0 | AD37: =COUNTA(AD11:AD34) -> 0 | AE37: =COUNTA(AE11:AE34) -> 1 | AF37: =COUNTA(AF11:AF34) -> 1 | AG37: =COUNTA(AG11:AG34) -> 0 | AH37: =COUNTA(AH11:AH34) -> 0 | AI37: =COUNTA(AI11:AI34) -> 0 | AJ37: =COUNTA(AJ11:AJ34) -> 2
K39: 所見 | L39: 【 外 力 】監視を必要としない。 【材質劣化】次回点検まで重点的な監視、または計画的な対策を必要とする。 【 漏 水 】次回点検まで継続的な監視を必要とする。 以上により本スパンの判定はⅡa判定となる。
K43: 注1：誤記入防止のため、当該変状区分以外のセルは灰色表示とすること。
K44: 注2：応急措置を実施した場合は、その詳細を備考に記載すること。
K45: 注3：外力は覆工スパン単位、材質劣化、漏水は変状単位とすること。
B46: （以下、印刷不要）
B47: ※1：本シートは作成洩れのないよう、変状が無くても全スパン分を作成すること．また変状展開図は、様式D-2-1、様式D-2-1'と同じものを覆工スパン単位で拡大し掲載すること。
B48: ※2：変状番号は、様式D-1-1で記入した番号と整合させること。
B49: ※3：対策区分毎の変状発生規模は、様式D-1-1に記載した面積を記入すること（ただし外力はスパン単位で評価するため変状の有無の欄には面積でなく○を記入し、備考欄に状況を記入）。
B50: ※4：本様式は覆工スパン毎に作成すること。
B51: ※5：変状数が多い場合は、適時、表の行を増やして覆工スパン毎に1枚のシートに収めること。また、1スパン１シートとし、スパンに合わせてシートを追加すること。
B52: ※6：対策区分毎の変状の発生範囲の規模とは，対策を行う際に参考となる変状の長さや面積であり，変状を包含する長さや面積とする。
B53: ※7：対策範囲を示す発生範囲の規模を面積で記入することが妥当ではない変状は、発生範囲の規模の欄に○を記入するとともに、備考に内容を記入すること。

Sheet 様式D-3_S008
AU1: 様式F用→ | AV1: 覆工スパン | AY1: 変 状 数 | BK1: 変 状 規 模
AV2: 番号 | AW2: 延長 （ｍ） | AX2: 健全性の診断の 区分 | AY2: 対策区分の判定 | BK2: 覆工スパン長（ｍ） | BO2: 変状の発生範囲の規模（㎡）
B3: ■定期点検記録様式 覆工スパン別変状詳細展開図 【様式D-3】 | AY3: 外力 | BC3: 材質劣化 | BG3: 漏水 | BK3: 外力 注2 | BO3: 材質劣化 | BS3: 漏水
B4: フリガナ | E4: (ﾋｴﾊﾞﾗｽﾞｲﾄﾞｳ) | K4: 路線名 | N4: 一般国道187号 | T4: 定期点検業者 | Y4: 応用地質（株） | AG4: 定期点検年月日 | AK4: 45840 | AY4: Ⅳ | AZ4: Ⅲ | BA4: Ⅱa | BB4: Ⅱb | BC4: Ⅳ | BD4: Ⅲ | BE4: Ⅱa | BF4: Ⅱb | BG4: Ⅳ | BH4: Ⅲ | BI4: Ⅱa | BJ4: Ⅱb | BK4: Ⅳ | BL4: Ⅲ | BM4: Ⅱa | BN4: Ⅱb | BO4: Ⅳ | BP4: Ⅲ | BQ4: Ⅱa | BR4: Ⅱb | BS4: Ⅳ | BT4: Ⅲ | BU4: Ⅱa | BV4: Ⅱb
B5: 名 称 | E5: 稗原隧道 | K5: 管理者名 | N5: 山口県岩国土木建築事務所 | Y5: 太田 裕之 | AV5: =N7 -> 8 | AW5: =R7 -> 5.95 | AX5: =AM35 -> Ⅱ | AY5: =IF(Y37>0,Y37,"") | AZ5: =IF(Y37>0,"",IF(Z37>0,Z37,"")) | BA5: =IF(Y37+Z37>0,"",IF(AA37>0,AA37,"")) | BB5: =IF(Y37+Z37+AA37>0,"",IF(AB37>0,AB37,"")) | BC5: =AC37 -> 0 | BD5: =AD37 -> 0 | BE5: =AE37 -> 0 | BF5: =AF37 -> 0 | BG5: =AG37 -> 0 | BH5: =AH37 -> 0 | BI5: =AI37 -> 0 | BJ5: =AJ37 -> 4 | BK5: =IF(Y37>0,R7,"") | BL5: =IF(Y37>0,"",IF(Z37>0,R7,"")) | BM5: =IF(Y37+Z37>0,"",IF(AA37>0,R7,"")) | BN5: =IF(Y37+Z37+AA37>0,"",IF(AB37>0,R7,"")) | BO5: =AC35 -> 0 | BP5: =AD35 -> 0 | BQ5: =AE35 -> 0 | BR5: =AF35 -> 0 | BS5: =AG35 -> 0 | BT5: =AH35 -> 0 | BU5: =AI35 -> 0 | BV5: =AJ35 -> 13.12
B6: スパン別変状展開図 | K6: 【健全性判定集計表】
K7: スパン番号 | N7: 8 | P7: スパン長 | R7: 5.95 | U7: 前回定期点検時の判定 | W7: 応急措置前の判定 | Y7: 対策区分毎の 変状の有無 | AC7: 対策区分毎の変状の発生範囲の規模(㎡) | AK7: 備考注2
K8: 変状番号 | L8: 対象箇所 | N8: 部位区分 | P8: 変状区分 | R8: 変状種類
Y9: 外力注1 | AC9: 材質劣化注1 | AG9: 漏水注1
Y10: Ⅳ | Z10: Ⅲ | AA10: Ⅱa | AB10: Ⅱb | AC10: Ⅳ | AD10: Ⅲ | AE10: Ⅱa | AF10: Ⅱb | AG10: Ⅳ | AH10: Ⅲ | AI10: Ⅱa | AJ10: Ⅱb
K11: 1 | L11: 覆工 | N11: 水平打ち継ぎ目（左側） | P11: 材質劣化 | R11: うき・はく離 | U11: Ⅱb | W11: － | AK11: 対策済み | AQ11: =IF(P11="材質劣化",2,IF(P11="漏水",3,1)) -> 2
K12: 2 | L12: 覆工 | N12: 水平打ち継ぎ目（左側） | P12: 材質劣化 | R12: うき・はく離 | U12: Ⅱb | W12: － | AK12: 対策済み | AQ12: =IF(P12="材質劣化",2,IF(P12="漏水",3,1)) -> 2
K13: 3 | L13: 覆工 | N13: アーチ（左側） | P13: 漏水 | R13: 漏水 | U13: Ⅱb | W13: － | AJ13: 6.02 | AQ13: =IF(P13="材質劣化",2,IF(P13="漏水",3,1)) -> 3
K14: 4 | L14: 覆工 | N14: 水平打ち継ぎ目（右側） | P14: 材質劣化 | R14: うき・はく離 | U14: Ⅱb | W14: － | AK14: 対策済み | AQ14: =IF(P14="材質劣化",2,IF(P14="漏水",3,1)) -> 2
K15: 5 | L15: 覆工 | N15: 水平打ち継ぎ目（右側） | P15: 材質劣化 | R15: うき・はく離 | U15: Ⅱb | W15: － | AK15: 対策済み | AQ15: =IF(P15="材質劣化",2,IF(P15="漏水",3,1)) -> 2
K16: 6 | L16: 覆工 | N16: 側壁（右側） | P16: 材質劣化 | R16: うき・はく離 | U16: Ⅱb | W16: － | AK16: 再判定 | AQ16: =IF(P16="材質劣化",2,IF(P16="漏水",3,1)) -> 2
K17: 7 | L17: 覆工 | N17: 側壁（右側） | P17: 材質劣化 | R17: うき・はく離 | U17: Ⅱb | W17: － | AK17: 再判定 | AQ17: =IF(P17="材質劣化",2,IF(P17="漏水",3,1)) -> 2
K18: 8 | L18: 覆工 | N18: 横断目地（左側） | P18: 漏水 | R18: 漏水 | U18: Ⅱb | W18: － | AJ18: 3 | AQ18: =IF(P18="材質劣化",2,IF(P18="漏水",3,1)) -> 3
K19: 9 | L19: 覆工 | N19: 側壁（左側） | P19: 漏水 | R19: 漏水 | U19: － | W19: － | AJ19: 0.8 | AQ19: =IF(P19="材質劣化",2,IF(P19="漏水",3,1)) -> 3
K20: 10 | L20: 覆工 | N20: 横断目地（右側） | P20: 漏水 | R20: 漏水 | U20: － | W20: － | AJ20: 3.3 | AQ20: =IF(P20="材質劣化",2,IF(P20="漏水",3,1)) -> 3
K21: 11 | AQ21: =IF(P21="材質劣化",2,IF(P21="漏水",3,1)) -> 1
K22: 12 | AQ22: =IF(P22="材質劣化",2,IF(P22="漏水",3,1)) -> 1
K23: 13 | AQ23: =IF(P23="材質劣化",2,IF(P23="漏水",3,1)) -> 1
K24: 14 | AQ24: =IF(P24="材質劣化",2,IF(P24="漏水",3,1)) -> 1
K25: 15 | AQ25: =IF(P25="材質劣化",2,IF(P25="漏水",3,1)) -> 1
K26: 16 | AQ26: =IF(P26="材質劣化",2,IF(P26="漏水",3,1)) -> 1
K27: 17 | AQ27: =IF(P27="材質劣化",2,IF(P27="漏水",3,1)) -> 1
K28: 18 | AQ28: =IF(P30="材質劣化",2,IF(P30="漏水",3,1)) -> 1
K29: 19 | AQ29: =IF(P34="材質劣化",2,IF(P34="漏水",3,1)) -> 1
K30: 20 | AQ30: =IF(P30="材質劣化",2,IF(P30="漏水",3,1)) -> 1
K31: 21 | AQ31: =IF(P33="材質劣化",2,IF(P33="漏水",3,1)) -> 1
K32: 22 | AQ32: =IF(P37="材質劣化",2,IF(P37="漏水",3,1)) -> 1
K33: 23 | AQ33: =IF(P33="材質劣化",2,IF(P33="漏水",3,1)) -> 1
K34: 24 | AQ34: =IF(P36="材質劣化",2,IF(P36="漏水",3,1)) -> 1
K35: 集計 判定 診断 | L35: 変状の発生規模合計(㎡) | Y35: － | AC35: =SUM(AC11:AC34) -> 0 | AD35: =SUM(AD11:AD34) -> 0 | AE35: =SUM(AE11:AE34) -> 0 | AF35: =SUM(AF11:AF34) -> 0 | AG35: =SUM(AG11:AG34) -> 0 | AH35: =SUM(AH11:AH34) -> 0 | AI35: =SUM(AI11:AI34) -> 0 | AJ35: =SUM(AJ11:AJ34) -> 13.12 | AK35: 覆工スパン単位の 健全性の 診断の区分 | AM35: Ⅱ
L36: 対策区分の 判定結果 | O36: 対策区分毎の変状数注3 | Y36: Ⅳ | Z36: Ⅲ | AA36: Ⅱa | AB36: Ⅱb | AC36: Ⅳ | AD36: Ⅲ | AE36: Ⅱa | AF36: Ⅱb | AG36: Ⅳ | AH36: Ⅲ | AI36: Ⅱa | AJ36: Ⅱb
Y37: =IF(COUNTIF(Y11:Y34,"〇")>0,1,0) -> 0 | Z37: =IF(COUNTIF(Z11:Z34,"〇")>0,1,0) -> 0 | AA37: =IF(COUNTIF(AA11:AA34,"〇")>0,1,0) -> 0 | AB37: =IF(COUNTIF(AB11:AB34,"〇")>0,1,0) -> 0 | AC37: =COUNTA(AC11:AC34) -> 0 | AD37: =COUNTA(AD11:AD34) -> 0 | AE37: =COUNTA(AE11:AE34) -> 0 | AF37: =COUNTA(AF11:AF34) -> 0 | AG37: =COUNTA(AG11:AG34) -> 0 | AH37: =COUNTA(AH11:AH34) -> 0 | AI37: =COUNTA(AI11:AI34) -> 0 | AJ37: =COUNTA(AJ11:AJ34) -> 4
K39: 所見 | L39: 【 外 力 】監視を必要としない。 【材質劣化】監視を必要としない。 【 漏 水 】次回点検まで継続的な監視を必要とする。 以上により本スパンの判定はⅡb判定となる。
K43: 注1：誤記入防止のため、当該変状区分以外のセルは灰色表示とすること。
K44: 注2：応急措置を実施した場合は、その詳細を備考に記載すること。
K45: 注3：外力は覆工スパン単位、材質劣化、漏水は変状単位とすること。
B46: （以下、印刷不要）
B47: ※1：本シートは作成洩れのないよう、変状が無くても全スパン分を作成すること．また変状展開図は、様式D-2-1、様式D-2-1'と同じものを覆工スパン単位で拡大し掲載すること。
B48: ※2：変状番号は、様式D-1-1で記入した番号と整合させること。
B49: ※3：対策区分毎の変状発生規模は、様式D-1-1に記載した面積を記入すること（ただし外力はスパン単位で評価するため変状の有無の欄には面積でなく○を記入し、備考欄に状況を記入）。
B50: ※4：本様式は覆工スパン毎に作成すること。
B51: ※5：変状数が多い場合は、適時、表の行を増やして覆工スパン毎に1枚のシートに収めること。また、1スパン１シートとし、スパンに合わせてシートを追加すること。
B52: ※6：対策区分毎の変状の発生範囲の規模とは，対策を行う際に参考となる変状の長さや面積であり，変状を包含する長さや面積とする。
B53: ※7：対策範囲を示す発生範囲の規模を面積で記入することが妥当ではない変状は、発生範囲の規模の欄に○を記入するとともに、備考に内容を記入すること。

Sheet 様式D-3_S009
AU1: 様式F用→ | AV1: 覆工スパン | AY1: 変 状 数 | BK1: 変 状 規 模
AV2: 番号 | AW2: 延長 （ｍ） | AX2: 健全性の診断の 区分 | AY2: 対策区分の判定 | BK2: 覆工スパン長（ｍ） | BO2: 変状の発生範囲の規模（㎡）
B3: ■定期点検記録様式 覆工スパン別変状詳細展開図 【様式D-3】 | AY3: 外力 | BC3: 材質劣化 | BG3: 漏水 | BK3: 外力 注2 | BO3: 材質劣化 | BS3: 漏水
B4: フリガナ | E4: (ﾋｴﾊﾞﾗｽﾞｲﾄﾞｳ) | K4: 路線名 | N4: 一般国道187号 | T4: 定期点検業者 | Y4: 応用地質（株） | AG4: 定期点検年月日 | AK4: 45840 | AY4: Ⅳ | AZ4: Ⅲ | BA4: Ⅱa | BB4: Ⅱb | BC4: Ⅳ | BD4: Ⅲ | BE4: Ⅱa | BF4: Ⅱb | BG4: Ⅳ | BH4: Ⅲ | BI4: Ⅱa | BJ4: Ⅱb | BK4: Ⅳ | BL4: Ⅲ | BM4: Ⅱa | BN4: Ⅱb | BO4: Ⅳ | BP4: Ⅲ | BQ4: Ⅱa | BR4: Ⅱb | BS4: Ⅳ | BT4: Ⅲ | BU4: Ⅱa | BV4: Ⅱb
B5: 名 称 | E5: 稗原隧道 | K5: 管理者名 | N5: 山口県岩国土木建築事務所 | Y5: 太田 裕之 | AV5: =N7 -> 9 | AW5: =R7 -> 5.8 | AX5: =AM35 -> Ⅲ | AY5: =IF(Y37>0,Y37,"") | AZ5: =IF(Y37>0,"",IF(Z37>0,Z37,"")) | BA5: =IF(Y37+Z37>0,"",IF(AA37>0,AA37,"")) | BB5: =IF(Y37+Z37+AA37>0,"",IF(AB37>0,AB37,"")) | BC5: =AC37 -> 0 | BD5: =AD37 -> 0 | BE5: =AE37 -> 0 | BF5: =AF37 -> 0 | BG5: =AG37 -> 0 | BH5: =AH37 -> 1 | BI5: =AI37 -> 1 | BJ5: =AJ37 -> 4 | BK5: =IF(Y37>0,R7,"") | BL5: =IF(Y37>0,"",IF(Z37>0,R7,"")) | BM5: =IF(Y37+Z37>0,"",IF(AA37>0,R7,"")) | BN5: =IF(Y37+Z37+AA37>0,"",IF(AB37>0,R7,"")) | BO5: =AC35 -> 0 | BP5: =AD35 -> 0 | BQ5: =AE35 -> 0 | BR5: =AF35 -> 0 | BS5: =AG35 -> 0 | BT5: =AH35 -> 4.05 | BU5: =AI35 -> 4 | BV5: =AJ35 -> 9.55
B6: スパン別変状展開図 | K6: 【健全性判定集計表】
K7: スパン番号 | N7: 9 | P7: スパン長 | R7: 5.8 | U7: 前回定期点検時の判定 | W7: 応急措置前の判定 | Y7: 対策区分毎の 変状の有無 | AC7: 対策区分毎の変状の発生範囲の規模(㎡) | AK7: 備考注2
K8: 変状番号 | L8: 対象箇所 | N8: 部位区分 | P8: 変状区分 | R8: 変状種類
Y9: 外力注1 | AC9: 材質劣化注1 | AG9: 漏水注1
Y10: Ⅳ | Z10: Ⅲ | AA10: Ⅱa | AB10: Ⅱb | AC10: Ⅳ | AD10: Ⅲ | AE10: Ⅱa | AF10: Ⅱb | AG10: Ⅳ | AH10: Ⅲ | AI10: Ⅱa | AJ10: Ⅱb
K11: 1 | L11: 覆工 | N11: 横断目地（天端） | P11: 漏水 | R11: 漏水 | U11: Ⅲ | W11: － | AH11: 4.05 | AQ11: =IF(P11="材質劣化",2,IF(P11="漏水",3,1)) -> 3
K12: 2 | L12: 覆工 | N12: 横断目地（天端） | P12: 材質劣化 | R12: うき・はく離 | U12: Ⅱa | W12: － | AK12: 対策済み | AQ12: =IF(P12="材質劣化",2,IF(P12="漏水",3,1)) -> 2
K13: 3 | L13: 覆工 | N13: 横断目地（左側） | P13: 漏水 | R13: 漏水 | U13: Ⅱb | W13: － | AJ13: 3.5 | AQ13: =IF(P13="材質劣化",2,IF(P13="漏水",3,1)) -> 3
K14: 4 | L14: 覆工 | N14: 水平打ち継ぎ目（左側） | P14: 漏水 | R14: 漏水 | U14: Ⅱb | W14: － | AJ14: 1.5 | AQ14: =IF(P14="材質劣化",2,IF(P14="漏水",3,1)) -> 3
K15: 5 | L15: 覆工 | N15: アーチ（左側） | P15: 漏水 | R15: 漏水 | U15: Ⅱb | W15: － | AJ15: 3.05 | AQ15: =IF(P15="材質劣化",2,IF(P15="漏水",3,1)) -> 3
K16: 6 | L16: 覆工 | N16: 水平打ち継ぎ目（右側） | P16: 材質劣化 | R16: うき・はく離 | U16: Ⅱb | W16: － | AK16: 対策済み | AQ16: =IF(P16="材質劣化",2,IF(P16="漏水",3,1)) -> 2
K17: 7 | L17: 覆工 | N17: 水平打ち継ぎ目（右側） | P17: 漏水 | R17: 漏水 | U17: Ⅱb | W17: － | AJ17: 1.5 | AQ17: =IF(P17="材質劣化",2,IF(P17="漏水",3,1)) -> 3
K18: 8 | L18: 覆工 | N18: 水平打ち継ぎ目（右側） | P18: 材質劣化 | R18: うき・はく離 | U18: Ⅱb | W18: － | AK18: 対策済み | AQ18: =IF(P18="材質劣化",2,IF(P18="漏水",3,1)) -> 2
K19: 9 | L19: 覆工 | N19: アーチ（天端） | P19: 漏水 | R19: 漏水 | U19: － | W19: － | AI19: 4 | AK19: 滴水、路面滞水 | AQ19: =IF(P19="材質劣化",2,IF(P19="漏水",3,1)) -> 3
K20: 10 | AQ20: =IF(P20="材質劣化",2,IF(P20="漏水",3,1)) -> 1
K21: 11 | AQ21: =IF(P21="材質劣化",2,IF(P21="漏水",3,1)) -> 1
K22: 12 | AQ22: =IF(P22="材質劣化",2,IF(P22="漏水",3,1)) -> 1
K23: 13 | AQ23: =IF(P23="材質劣化",2,IF(P23="漏水",3,1)) -> 1
K24: 14 | AQ24: =IF(P24="材質劣化",2,IF(P24="漏水",3,1)) -> 1
K25: 15 | AQ25: =IF(P25="材質劣化",2,IF(P25="漏水",3,1)) -> 1
K26: 16 | AQ26: =IF(P26="材質劣化",2,IF(P26="漏水",3,1)) -> 1
K27: 17 | AQ27: =IF(P27="材質劣化",2,IF(P27="漏水",3,1)) -> 1
K28: 18 | AQ28: =IF(P30="材質劣化",2,IF(P30="漏水",3,1)) -> 1
K29: 19 | AQ29: =IF(P34="材質劣化",2,IF(P34="漏水",3,1)) -> 1
K30: 20 | AQ30: =IF(P30="材質劣化",2,IF(P30="漏水",3,1)) -> 1
K31: 21 | AQ31: =IF(P33="材質劣化",2,IF(P33="漏水",3,1)) -> 1
K32: 22 | AQ32: =IF(P37="材質劣化",2,IF(P37="漏水",3,1)) -> 1
K33: 23 | AQ33: =IF(P33="材質劣化",2,IF(P33="漏水",3,1)) -> 1
K34: 24 | AQ34: =IF(P36="材質劣化",2,IF(P36="漏水",3,1)) -> 1
K35: 集計 判定 診断 | L35: 変状の発生規模合計(㎡) | Y35: － | AC35: =SUM(AC11:AC34) -> 0 | AD35: =SUM(AD11:AD34) -> 0 | AE35: =SUM(AE11:AE34) -> 0 | AF35: =SUM(AF11:AF34) -> 0 | AG35: =SUM(AG11:AG34) -> 0 | AH35: =SUM(AH11:AH34) -> 4.05 | AI35: =SUM(AI11:AI34) -> 4 | AJ35: =SUM(AJ11:AJ34) -> 9.55 | AK35: 覆工スパン単位の 健全性の 診断の区分 | AM35: Ⅲ
L36: 対策区分の 判定結果 | O36: 対策区分毎の変状数注3 | Y36: Ⅳ | Z36: Ⅲ | AA36: Ⅱa | AB36: Ⅱb | AC36: Ⅳ | AD36: Ⅲ | AE36: Ⅱa | AF36: Ⅱb | AG36: Ⅳ | AH36: Ⅲ | AI36: Ⅱa | AJ36: Ⅱb
Y37: =IF(COUNTIF(Y11:Y34,"〇")>0,1,0) -> 0 | Z37: =IF(COUNTIF(Z11:Z34,"〇")>0,1,0) -> 0 | AA37: =IF(COUNTIF(AA11:AA34,"〇")>0,1,0) -> 0 | AB37: =IF(COUNTIF(AB11:AB34,"〇")>0,1,0) -> 0 | AC37: =COUNTA(AC11:AC34) -> 0 | AD37: =COUNTA(AD11:AD34) -> 0 | AE37: =COUNTA(AE11:AE34) -> 0 | AF37: =COUNTA(AF11:AF34) -> 0 | AG37: =COUNTA(AG11:AG34) -> 0 | AH37: =COUNTA(AH11:AH34) -> 1 | AI37: =COUNTA(AI11:AI34) -> 1 | AJ37: =COUNTA(AJ11:AJ34) -> 4
K39: 所見 | L39: 【 外 力 】監視を必要としない。 【材質劣化】監視を必要としない。 【 漏 水 】次回点検まで継続的な監視を必要とする。 以上により本スパンの判定はⅢ判定となる。
K43: 注1：誤記入防止のため、当該変状区分以外のセルは灰色表示とすること。
K44: 注2：応急措置を実施した場合は、その詳細を備考に記載すること。
K45: 注3：外力は覆工スパン単位、材質劣化、漏水は変状単位とすること。
B46: （以下、印刷不要）
B47: ※1：本シートは作成洩れのないよう、変状が無くても全スパン分を作成すること．また変状展開図は、様式D-2-1、様式D-2-1'と同じものを覆工スパン単位で拡大し掲載すること。
B48: ※2：変状番号は、様式D-1-1で記入した番号と整合させること。
B49: ※3：対策区分毎の変状発生規模は、様式D-1-1に記載した面積を記入すること（ただし外力はスパン単位で評価するため変状の有無の欄には面積でなく○を記入し、備考欄に状況を記入）。
B50: ※4：本様式は覆工スパン毎に作成すること。
B51: ※5：変状数が多い場合は、適時、表の行を増やして覆工スパン毎に1枚のシートに収めること。また、1スパン１シートとし、スパンに合わせてシートを追加すること。
B52: ※6：対策区分毎の変状の発生範囲の規模とは，対策を行う際に参考となる変状の長さや面積であり，変状を包含する長さや面積とする。
B53: ※7：対策範囲を示す発生範囲の規模を面積で記入することが妥当ではない変状は、発生範囲の規模の欄に○を記入するとともに、備考に内容を記入すること。

Sheet 様式D-3_S010
AU1: 様式F用→ | AV1: 覆工スパン | AY1: 変 状 数 | BK1: 変 状 規 模
AV2: 番号 | AW2: 延長 （ｍ） | AX2: 健全性の診断の 区分 | AY2: 対策区分の判定 | BK2: 覆工スパン長（ｍ） | BO2: 変状の発生範囲の規模（㎡）
B3: ■定期点検記録様式 覆工スパン別変状詳細展開図 【様式D-3】 | AY3: 外力 | BC3: 材質劣化 | BG3: 漏水 | BK3: 外力 注2 | BO3: 材質劣化 | BS3: 漏水
B4: フリガナ | E4: (ﾋｴﾊﾞﾗｽﾞｲﾄﾞｳ) | K4: 路線名 | N4: 一般国道187号 | T4: 定期点検業者 | Y4: 応用地質（株） | AG4: 定期点検年月日 | AK4: 45840 | AY4: Ⅳ | AZ4: Ⅲ | BA4: Ⅱa | BB4: Ⅱb | BC4: Ⅳ | BD4: Ⅲ | BE4: Ⅱa | BF4: Ⅱb | BG4: Ⅳ | BH4: Ⅲ | BI4: Ⅱa | BJ4: Ⅱb | BK4: Ⅳ | BL4: Ⅲ | BM4: Ⅱa | BN4: Ⅱb | BO4: Ⅳ | BP4: Ⅲ | BQ4: Ⅱa | BR4: Ⅱb | BS4: Ⅳ | BT4: Ⅲ | BU4: Ⅱa | BV4: Ⅱb
B5: 名 称 | E5: 稗原隧道 | K5: 管理者名 | N5: 山口県岩国土木建築事務所 | Y5: 太田 裕之 | AV5: =N7 -> 10 | AW5: =R7 -> 5.95 | AX5: =AM35 -> Ⅱ | AY5: =IF(Y37>0,Y37,"") | AZ5: =IF(Y37>0,"",IF(Z37>0,Z37,"")) | BA5: =IF(Y37+Z37>0,"",IF(AA37>0,AA37,"")) | BB5: =IF(Y37+Z37+AA37>0,"",IF(AB37>0,AB37,"")) | BC5: =AC37 -> 0 | BD5: =AD37 -> 0 | BE5: =AE37 -> 0 | BF5: =AF37 -> 0 | BG5: =AG37 -> 0 | BH5: =AH37 -> 0 | BI5: =AI37 -> 1 | BJ5: =AJ37 -> 1 | BK5: =IF(Y37>0,R7,"") | BL5: =IF(Y37>0,"",IF(Z37>0,R7,"")) | BM5: =IF(Y37+Z37>0,"",IF(AA37>0,R7,"")) | BN5: =IF(Y37+Z37+AA37>0,"",IF(AB37>0,R7,"")) | BO5: =AC35 -> 0 | BP5: =AD35 -> 0 | BQ5: =AE35 -> 0 | BR5: =AF35 -> 0 | BS5: =AG35 -> 0 | BT5: =AH35 -> 0 | BU5: =AI35 -> 0.02 | BV5: =AJ35 -> 22.95
B6: スパン別変状展開図 | K6: 【健全性判定集計表】
K7: スパン番号 | N7: 10 | P7: スパン長 | R7: 5.95 | U7: 前回定期点検時の判定 | W7: 応急措置前の判定 | Y7: 対策区分毎の 変状の有無 | AC7: 対策区分毎の変状の発生範囲の規模(㎡) | AK7: 備考注2
K8: 変状番号 | L8: 対象箇所 | N8: 部位区分 | P8: 変状区分 | R8: 変状種類
Y9: 外力注1 | AC9: 材質劣化注1 | AG9: 漏水注1
Y10: Ⅳ | Z10: Ⅲ | AA10: Ⅱa | AB10: Ⅱb | AC10: Ⅳ | AD10: Ⅲ | AE10: Ⅱa | AF10: Ⅱb | AG10: Ⅳ | AH10: Ⅲ | AI10: Ⅱa | AJ10: Ⅱb
K11: 1 | L11: 覆工 | N11: 横断目地（右側） | P11: 漏水 | R11: 補修・補強材の破損 | U11: Ⅱa | W11: － | AI11: 0.02 | AQ11: =IF(P11="材質劣化",2,IF(P11="漏水",3,1)) -> 3
K12: 2 | L12: 覆工 | N12: アーチ（左側） | P12: 漏水 | R12: 漏水 | U12: Ⅱb | W12: － | AJ12: 22.95 | AQ12: =IF(P12="材質劣化",2,IF(P12="漏水",3,1)) -> 3
K13: 3 | L13: 覆工 | N13: 水平打ち継ぎ目（右側） | P13: 材質劣化 | R13: うき・はく離 | U13: Ⅱb | W13: － | AK13: 対策済み | AQ13: =IF(P13="材質劣化",2,IF(P13="漏水",3,1)) -> 2
K14: 4 | L14: 覆工 | N14: 水平打ち継ぎ目（右側） | P14: 材質劣化 | R14: うき・はく離 | U14: Ⅱb | W14: － | AK14: 対策済み | AQ14: =IF(P14="材質劣化",2,IF(P14="漏水",3,1)) -> 2
K15: 5 | AQ15: =IF(P15="材質劣化",2,IF(P15="漏水",3,1)) -> 1
K16: 6 | AQ16: =IF(P16="材質劣化",2,IF(P16="漏水",3,1)) -> 1
K17: 7 | AQ17: =IF(P17="材質劣化",2,IF(P17="漏水",3,1)) -> 1
K18: 8 | AQ18: =IF(P18="材質劣化",2,IF(P18="漏水",3,1)) -> 1
K19: 9 | AQ19: =IF(P19="材質劣化",2,IF(P19="漏水",3,1)) -> 1
K20: 10 | AQ20: =IF(P20="材質劣化",2,IF(P20="漏水",3,1)) -> 1
K21: 11 | AQ21: =IF(P21="材質劣化",2,IF(P21="漏水",3,1)) -> 1
K22: 12 | AQ22: =IF(P22="材質劣化",2,IF(P22="漏水",3,1)) -> 1
K23: 13 | AQ23: =IF(P23="材質劣化",2,IF(P23="漏水",3,1)) -> 1
K24: 14 | AQ24: =IF(P24="材質劣化",2,IF(P24="漏水",3,1)) -> 1
K25: 15 | AQ25: =IF(P25="材質劣化",2,IF(P25="漏水",3,1)) -> 1
K26: 16 | AQ26: =IF(P26="材質劣化",2,IF(P26="漏水",3,1)) -> 1
K27: 17 | AQ27: =IF(P27="材質劣化",2,IF(P27="漏水",3,1)) -> 1
K28: 18 | AQ28: =IF(P30="材質劣化",2,IF(P30="漏水",3,1)) -> 1
K29: 19 | AQ29: =IF(P34="材質劣化",2,IF(P34="漏水",3,1)) -> 1
K30: 20 | AQ30: =IF(P30="材質劣化",2,IF(P30="漏水",3,1)) -> 1
K31: 21 | AQ31: =IF(P33="材質劣化",2,IF(P33="漏水",3,1)) -> 1
K32: 22 | AQ32: =IF(P37="材質劣化",2,IF(P37="漏水",3,1)) -> 1
K33: 23 | AQ33: =IF(P33="材質劣化",2,IF(P33="漏水",3,1)) -> 1
K34: 24 | AQ34: =IF(P36="材質劣化",2,IF(P36="漏水",3,1)) -> 1
K35: 集計 判定 診断 | L35: 変状の発生規模合計(㎡) | Y35: － | AC35: =SUM(AC11:AC34) -> 0 | AD35: =SUM(AD11:AD34) -> 0 | AE35: =SUM(AE11:AE34) -> 0 | AF35: =SUM(AF11:AF34) -> 0 | AG35: =SUM(AG11:AG34) -> 0 | AH35: =SUM(AH11:AH34) -> 0 | AI35: =SUM(AI11:AI34) -> 0.02 | AJ35: =SUM(AJ11:AJ34) -> 22.95 | AK35: 覆工スパン単位の 健全性の 診断の区分 | AM35: Ⅱ
L36: 対策区分の 判定結果 | O36: 対策区分毎の変状数注3 | Y36: Ⅳ | Z36: Ⅲ | AA36: Ⅱa | AB36: Ⅱb | AC36: Ⅳ | AD36: Ⅲ | AE36: Ⅱa | AF36: Ⅱb | AG36: Ⅳ | AH36: Ⅲ | AI36: Ⅱa | AJ36: Ⅱb
Y37: =IF(COUNTIF(Y11:Y34,"〇")>0,1,0) -> 0 | Z37: =IF(COUNTIF(Z11:Z34,"〇")>0,1,0) -> 0 | AA37: =IF(COUNTIF(AA11:AA34,"〇")>0,1,0) -> 0 | AB37: =IF(COUNTIF(AB11:AB34,"〇")>0,1,0) -> 0 | AC37: =COUNTA(AC11:AC34) -> 0 | AD37: =COUNTA(AD11:AD34) -> 0 | AE37: =COUNTA(AE11:AE34) -> 0 | AF37: =COUNTA(AF11:AF34) -> 0 | AG37: =COUNTA(AG11:AG34) -> 0 | AH37: =COUNTA(AH11:AH34) -> 0 | AI37: =COUNTA(AI11:AI34) -> 1 | AJ37: =COUNTA(AJ11:AJ34) -> 1
K39: 所見 | L39: 【 外 力 】監視を必要としない。 【材質劣化】監視を必要としない。 【 漏 水 】次回点検まで重点的な監視、または計画的な対策を必要とする。 以上により本スパンの判定はⅡa判定となる。
K43: 注1：誤記入防止のため、当該変状区分以外のセルは灰色表示とすること。
K44: 注2：応急措置を実施した場合は、その詳細を備考に記載すること。
K45: 注3：外力は覆工スパン単位、材質劣化、漏水は変状単位とすること。
B46: （以下、印刷不要）
B47: ※1：本シートは作成洩れのないよう、変状が無くても全スパン分を作成すること．また変状展開図は、様式D-2-1、様式D-2-1'と同じものを覆工スパン単位で拡大し掲載すること。
B48: ※2：変状番号は、様式D-1-1で記入した番号と整合させること。
B49: ※3：対策区分毎の変状発生規模は、様式D-1-1に記載した面積を記入すること（ただし外力はスパン単位で評価するため変状の有無の欄には面積でなく○を記入し、備考欄に状況を記入）。
B50: ※4：本様式は覆工スパン毎に作成すること。
B51: ※5：変状数が多い場合は、適時、表の行を増やして覆工スパン毎に1枚のシートに収めること。また、1スパン１シートとし、スパンに合わせてシートを追加すること。
B52: ※6：対策区分毎の変状の発生範囲の規模とは，対策を行う際に参考となる変状の長さや面積であり，変状を包含する長さや面積とする。
B53: ※7：対策範囲を示す発生範囲の規模を面積で記入することが妥当ではない変状は、発生範囲の規模の欄に○を記入するとともに、備考に内容を記入すること。

Sheet 様式D-3_S011
AU1: 様式F用→ | AV1: 覆工スパン | AY1: 変 状 数 | BK1: 変 状 規 模
AV2: 番号 | AW2: 延長 （ｍ） | AX2: 健全性の診断の 区分 | AY2: 対策区分の判定 | BK2: 覆工スパン長（ｍ） | BO2: 変状の発生範囲の規模（㎡）
B3: ■定期点検記録様式 覆工スパン別変状詳細展開図 【様式D-3】 | AY3: 外力 | BC3: 材質劣化 | BG3: 漏水 | BK3: 外力 注2 | BO3: 材質劣化 | BS3: 漏水
B4: フリガナ | E4: (ﾋｴﾊﾞﾗｽﾞｲﾄﾞｳ) | K4: 路線名 | N4: 一般国道187号 | T4: 定期点検業者 | Y4: 応用地質（株） | AG4: 定期点検年月日 | AK4: 45840 | AY4: Ⅳ | AZ4: Ⅲ | BA4: Ⅱa | BB4: Ⅱb | BC4: Ⅳ | BD4: Ⅲ | BE4: Ⅱa | BF4: Ⅱb | BG4: Ⅳ | BH4: Ⅲ | BI4: Ⅱa | BJ4: Ⅱb | BK4: Ⅳ | BL4: Ⅲ | BM4: Ⅱa | BN4: Ⅱb | BO4: Ⅳ | BP4: Ⅲ | BQ4: Ⅱa | BR4: Ⅱb | BS4: Ⅳ | BT4: Ⅲ | BU4: Ⅱa | BV4: Ⅱb
B5: 名 称 | E5: 稗原隧道 | K5: 管理者名 | N5: 山口県岩国土木建築事務所 | Y5: 太田 裕之 | AV5: =N7 -> 11 | AW5: =R7 -> 5.9 | AX5: =AM35 -> Ⅱ | AY5: =IF(Y37>0,Y37,"") | AZ5: =IF(Y37>0,"",IF(Z37>0,Z37,"")) | BA5: =IF(Y37+Z37>0,"",IF(AA37>0,AA37,"")) | BB5: =IF(Y37+Z37+AA37>0,"",IF(AB37>0,AB37,"")) | BC5: =AC37 -> 0 | BD5: =AD37 -> 0 | BE5: =AE37 -> 0 | BF5: =AF37 -> 0 | BG5: =AG37 -> 0 | BH5: =AH37 -> 0 | BI5: =AI37 -> 0 | BJ5: =AJ37 -> 4 | BK5: =IF(Y37>0,R7,"") | BL5: =IF(Y37>0,"",IF(Z37>0,R7,"")) | BM5: =IF(Y37+Z37>0,"",IF(AA37>0,R7,"")) | BN5: =IF(Y37+Z37+AA37>0,"",IF(AB37>0,R7,"")) | BO5: =AC35 -> 0 | BP5: =AD35 -> 0 | BQ5: =AE35 -> 0 | BR5: =AF35 -> 0 | BS5: =AG35 -> 0 | BT5: =AH35 -> 0 | BU5: =AI35 -> 0 | BV5: =AJ35 -> 47.05
B6: スパン別変状展開図 | K6: 【健全性判定集計表】
K7: スパン番号 | N7: 11 | P7: スパン長 | R7: 5.9 | U7: 前回定期点検時の判定 | W7: 応急措置前の判定 | Y7: 対策区分毎の 変状の有無 | AC7: 対策区分毎の変状の発生範囲の規模(㎡) | AK7: 備考注2
K8: 変状番号 | L8: 対象箇所 | N8: 部位区分 | P8: 変状区分 | R8: 変状種類
Y9: 外力注1 | AC9: 材質劣化注1 | AG9: 漏水注1
Y10: Ⅳ | Z10: Ⅲ | AA10: Ⅱa | AB10: Ⅱb | AC10: Ⅳ | AD10: Ⅲ | AE10: Ⅱa | AF10: Ⅱb | AG10: Ⅳ | AH10: Ⅲ | AI10: Ⅱa | AJ10: Ⅱb
K11: 1 | L11: 覆工 | N11: アーチ（左側） | P11: 漏水 | R11: 漏水 | U11: Ⅱb | W11: － | AJ11: 44.84 | AQ11: =IF(P11="材質劣化",2,IF(P11="漏水",3,1)) -> 3
K12: 2 | L12: 覆工 | N12: 側壁（右側） | P12: 漏水 | R12: 漏水 | U12: Ⅱb | W12: － | AJ12: 0.7 | AQ12: =IF(P12="材質劣化",2,IF(P12="漏水",3,1)) -> 3
K13: 3 | L13: 覆工 | N13: 横断目地（右側） | P13: 漏水 | R13: 漏水 | U13: Ⅱb | W13: － | AJ13: 1.5 | AQ13: =IF(P13="材質劣化",2,IF(P13="漏水",3,1)) -> 3
K14: 4 | L14: 覆工 | N14: 横断目地（右側） | P14: 漏水 | R14: 補修・補強材の破損 | U14: － | W14: － | AJ14: 0.01 | AQ14: =IF(P14="材質劣化",2,IF(P14="漏水",3,1)) -> 3
K15: 5 | AQ15: =IF(P15="材質劣化",2,IF(P15="漏水",3,1)) -> 1
K16: 6 | AQ16: =IF(P16="材質劣化",2,IF(P16="漏水",3,1)) -> 1
K17: 7 | AQ17: =IF(P17="材質劣化",2,IF(P17="漏水",3,1)) -> 1
K18: 8 | AQ18: =IF(P18="材質劣化",2,IF(P18="漏水",3,1)) -> 1
K19: 9 | AQ19: =IF(P19="材質劣化",2,IF(P19="漏水",3,1)) -> 1
K20: 10 | AQ20: =IF(P20="材質劣化",2,IF(P20="漏水",3,1)) -> 1
K21: 11 | AQ21: =IF(P21="材質劣化",2,IF(P21="漏水",3,1)) -> 1
K22: 12 | AQ22: =IF(P22="材質劣化",2,IF(P22="漏水",3,1)) -> 1
K23: 13 | AQ23: =IF(P23="材質劣化",2,IF(P23="漏水",3,1)) -> 1
K24: 14 | AQ24: =IF(P24="材質劣化",2,IF(P24="漏水",3,1)) -> 1
K25: 15 | AQ25: =IF(P25="材質劣化",2,IF(P25="漏水",3,1)) -> 1
K26: 16 | AQ26: =IF(P26="材質劣化",2,IF(P26="漏水",3,1)) -> 1
K27: 17 | AQ27: =IF(P27="材質劣化",2,IF(P27="漏水",3,1)) -> 1
K28: 18 | AQ28: =IF(P30="材質劣化",2,IF(P30="漏水",3,1)) -> 1
K29: 19 | AQ29: =IF(P34="材質劣化",2,IF(P34="漏水",3,1)) -> 1
K30: 20 | AQ30: =IF(P30="材質劣化",2,IF(P30="漏水",3,1)) -> 1
K31: 21 | AQ31: =IF(P33="材質劣化",2,IF(P33="漏水",3,1)) -> 1
K32: 22 | AQ32: =IF(P37="材質劣化",2,IF(P37="漏水",3,1)) -> 1
K33: 23 | AQ33: =IF(P33="材質劣化",2,IF(P33="漏水",3,1)) -> 1
K34: 24 | AQ34: =IF(P36="材質劣化",2,IF(P36="漏水",3,1)) -> 1
K35: 集計 判定 診断 | L35: 変状の発生規模合計(㎡) | Y35: － | AC35: =SUM(AC11:AC34) -> 0 | AD35: =SUM(AD11:AD34) -> 0 | AE35: =SUM(AE11:AE34) -> 0 | AF35: =SUM(AF11:AF34) -> 0 | AG35: =SUM(AG11:AG34) -> 0 | AH35: =SUM(AH11:AH34) -> 0 | AI35: =SUM(AI11:AI34) -> 0 | AJ35: =SUM(AJ11:AJ34) -> 47.05 | AK35: 覆工スパン単位の 健全性の 診断の区分 | AM35: Ⅱ
L36: 対策区分の 判定結果 | O36: 対策区分毎の変状数注3 | Y36: Ⅳ | Z36: Ⅲ | AA36: Ⅱa | AB36: Ⅱb | AC36: Ⅳ | AD36: Ⅲ | AE36: Ⅱa | AF36: Ⅱb | AG36: Ⅳ | AH36: Ⅲ | AI36: Ⅱa | AJ36: Ⅱb
Y37: =IF(COUNTIF(Y11:Y34,"〇")>0,1,0) -> 0 | Z37: =IF(COUNTIF(Z11:Z34,"〇")>0,1,0) -> 0 | AA37: =IF(COUNTIF(AA11:AA34,"〇")>0,1,0) -> 0 | AB37: =IF(COUNTIF(AB11:AB34,"〇")>0,1,0) -> 0 | AC37: =COUNTA(AC11:AC34) -> 0 | AD37: =COUNTA(AD11:AD34) -> 0 | AE37: =COUNTA(AE11:AE34) -> 0 | AF37: =COUNTA(AF11:AF34) -> 0 | AG37: =COUNTA(AG11:AG34) -> 0 | AH37: =COUNTA(AH11:AH34) -> 0 | AI37: =COUNTA(AI11:AI34) -> 0 | AJ37: =COUNTA(AJ11:AJ34) -> 4
K39: 所見 | L39: 【 外 力 】監視を必要としない。 【材質劣化】監視を必要としない。 【 漏 水 】次回点検まで継続的な監視を必要とする。 以上により本スパンの判定はⅡb判定となる。
K43: 注1：誤記入防止のため、当該変状区分以外のセルは灰色表示とすること。
K44: 注2：応急措置を実施した場合は、その詳細を備考に記載すること。
K45: 注3：外力は覆工スパン単位、材質劣化、漏水は変状単位とすること。
B46: （以下、印刷不要）
B47: ※1：本シートは作成洩れのないよう、変状が無くても全スパン分を作成すること．また変状展開図は、様式D-2-1、様式D-2-1'と同じものを覆工スパン単位で拡大し掲載すること。
B48: ※2：変状番号は、様式D-1-1で記入した番号と整合させること。
B49: ※3：対策区分毎の変状発生規模は、様式D-1-1に記載した面積を記入すること（ただし外力はスパン単位で評価するため変状の有無の欄には面積でなく○を記入し、備考欄に状況を記入）。
B50: ※4：本様式は覆工スパン毎に作成すること。
B51: ※5：変状数が多い場合は、適時、表の行を増やして覆工スパン毎に1枚のシートに収めること。また、1スパン１シートとし、スパンに合わせてシートを追加すること。
B52: ※6：対策区分毎の変状の発生範囲の規模とは，対策を行う際に参考となる変状の長さや面積であり，変状を包含する長さや面積とする。
B53: ※7：対策範囲を示す発生範囲の規模を面積で記入することが妥当ではない変状は、発生範囲の規模の欄に○を記入するとともに、備考に内容を記入すること。

Sheet 様式D-3_S012
AU1: 様式F用→ | AV1: 覆工スパン | AY1: 変 状 数 | BK1: 変 状 規 模
AV2: 番号 | AW2: 延長 （ｍ） | AX2: 健全性の診断の 区分 | AY2: 対策区分の判定 | BK2: 覆工スパン長（ｍ） | BO2: 変状の発生範囲の規模（㎡）
B3: ■定期点検記録様式 覆工スパン別変状詳細展開図 【様式D-3】 | AY3: 外力 | BC3: 材質劣化 | BG3: 漏水 | BK3: 外力 注2 | BO3: 材質劣化 | BS3: 漏水
B4: フリガナ | E4: (ﾋｴﾊﾞﾗｽﾞｲﾄﾞｳ) | K4: 路線名 | N4: 一般国道187号 | T4: 定期点検業者 | Y4: 応用地質（株） | AG4: 定期点検年月日 | AK4: 45840 | AY4: Ⅳ | AZ4: Ⅲ | BA4: Ⅱa | BB4: Ⅱb | BC4: Ⅳ | BD4: Ⅲ | BE4: Ⅱa | BF4: Ⅱb | BG4: Ⅳ | BH4: Ⅲ | BI4: Ⅱa | BJ4: Ⅱb | BK4: Ⅳ | BL4: Ⅲ | BM4: Ⅱa | BN4: Ⅱb | BO4: Ⅳ | BP4: Ⅲ | BQ4: Ⅱa | BR4: Ⅱb | BS4: Ⅳ | BT4: Ⅲ | BU4: Ⅱa | BV4: Ⅱb
B5: 名 称 | E5: 稗原隧道 | K5: 管理者名 | N5: 山口県岩国土木建築事務所 | Y5: 太田 裕之 | AV5: =N7 -> 12 | AW5: =R7 -> 5.85 | AX5: =AM35 -> Ⅱ | AY5: =IF(Y37>0,Y37,"") | AZ5: =IF(Y37>0,"",IF(Z37>0,Z37,"")) | BA5: =IF(Y37+Z37>0,"",IF(AA37>0,AA37,"")) | BB5: =IF(Y37+Z37+AA37>0,"",IF(AB37>0,AB37,"")) | BC5: =AC37 -> 0 | BD5: =AD37 -> 0 | BE5: =AE37 -> 1 | BF5: =AF37 -> 0 | BG5: =AG37 -> 0 | BH5: =AH37 -> 0 | BI5: =AI37 -> 0 | BJ5: =AJ37 -> 2 | BK5: =IF(Y37>0,R7,"") | BL5: =IF(Y37>0,"",IF(Z37>0,R7,"")) | BM5: =IF(Y37+Z37>0,"",IF(AA37>0,R7,"")) | BN5: =IF(Y37+Z37+AA37>0,"",IF(AB37>0,R7,"")) | BO5: =AC35 -> 0 | BP5: =AD35 -> 0 | BQ5: =AE35 -> 0.6 | BR5: =AF35 -> 0 | BS5: =AG35 -> 0 | BT5: =AH35 -> 0 | BU5: =AI35 -> 0 | BV5: =AJ35 -> 2.65
B6: スパン別変状展開図 | K6: 【健全性判定集計表】
K7: スパン番号 | N7: 12 | P7: スパン長 | R7: 5.85 | U7: 前回定期点検時の判定 | W7: 応急措置前の判定 | Y7: 対策区分毎の 変状の有無 | AC7: 対策区分毎の変状の発生範囲の規模(㎡) | AK7: 備考注2
K8: 変状番号 | L8: 対象箇所 | N8: 部位区分 | P8: 変状区分 | R8: 変状種類
Y9: 外力注1 | AC9: 材質劣化注1 | AG9: 漏水注1
Y10: Ⅳ | Z10: Ⅲ | AA10: Ⅱa | AB10: Ⅱb | AC10: Ⅳ | AD10: Ⅲ | AE10: Ⅱa | AF10: Ⅱb | AG10: Ⅳ | AH10: Ⅲ | AI10: Ⅱa | AJ10: Ⅱb
K11: 1 | L11: 覆工 | N11: 横断目地（天端） | P11: 材質劣化 | R11: うき・はく離 | U11: Ⅱa | W11: － | AK11: 対策済み | AQ11: =IF(P11="材質劣化",2,IF(P11="漏水",3,1)) -> 2
K12: 2 | L12: 覆工 | N12: 側壁（右側） | P12: 漏水 | R12: 漏水 | U12: Ⅱb | W12: － | AJ12: 1.2 | AQ12: =IF(P12="材質劣化",2,IF(P12="漏水",3,1)) -> 3
K13: 3 | L13: 覆工 | N13: 水平打ち継ぎ目（右側） | P13: 材質劣化 | R13: うき・はく離 | U13: Ⅱb | W13: － | AK13: 対策済み | AQ13: =IF(P13="材質劣化",2,IF(P13="漏水",3,1)) -> 2
K14: 4 | L14: 覆工 | N14: 横断目地（左側） | P14: 材質劣化 | R14: 補修・補強材の破損 | U14: Ⅱa | W14: － | AE14: 0.6 | AQ14: =IF(P14="材質劣化",2,IF(P14="漏水",3,1)) -> 2
K15: 5 | L15: 覆工 | N15: 横断目地（右側） | P15: 漏水 | R15: 漏水 | U15: Ⅱb | W15: － | AJ15: 1.45 | AQ15: =IF(P15="材質劣化",2,IF(P15="漏水",3,1)) -> 3
K16: 6 | AQ16: =IF(P16="材質劣化",2,IF(P16="漏水",3,1)) -> 1
K17: 7 | AQ17: =IF(P17="材質劣化",2,IF(P17="漏水",3,1)) -> 1
K18: 8 | AQ18: =IF(P18="材質劣化",2,IF(P18="漏水",3,1)) -> 1
K19: 9 | AQ19: =IF(P19="材質劣化",2,IF(P19="漏水",3,1)) -> 1
K20: 10 | AQ20: =IF(P20="材質劣化",2,IF(P20="漏水",3,1)) -> 1
K21: 11 | AQ21: =IF(P21="材質劣化",2,IF(P21="漏水",3,1)) -> 1
K22: 12 | AQ22: =IF(P22="材質劣化",2,IF(P22="漏水",3,1)) -> 1
K23: 13 | AQ23: =IF(P23="材質劣化",2,IF(P23="漏水",3,1)) -> 1
K24: 14 | AQ24: =IF(P24="材質劣化",2,IF(P24="漏水",3,1)) -> 1
K25: 15 | AQ25: =IF(P25="材質劣化",2,IF(P25="漏水",3,1)) -> 1
K26: 16 | AQ26: =IF(P26="材質劣化",2,IF(P26="漏水",3,1)) -> 1
K27: 17 | AQ27: =IF(P27="材質劣化",2,IF(P27="漏水",3,1)) -> 1
K28: 18 | AQ28: =IF(P30="材質劣化",2,IF(P30="漏水",3,1)) -> 1
K29: 19 | AQ29: =IF(P34="材質劣化",2,IF(P34="漏水",3,1)) -> 1
K30: 20 | AQ30: =IF(P30="材質劣化",2,IF(P30="漏水",3,1)) -> 1
K31: 21 | AQ31: =IF(P33="材質劣化",2,IF(P33="漏水",3,1)) -> 1
K32: 22 | AQ32: =IF(P37="材質劣化",2,IF(P37="漏水",3,1)) -> 1
K33: 23 | AQ33: =IF(P33="材質劣化",2,IF(P33="漏水",3,1)) -> 1
K34: 24 | AQ34: =IF(P36="材質劣化",2,IF(P36="漏水",3,1)) -> 1
K35: 集計 判定 診断 | L35: 変状の発生規模合計(㎡) | Y35: － | AC35: =SUM(AC11:AC34) -> 0 | AD35: =SUM(AD11:AD34) -> 0 | AE35: =SUM(AE11:AE34) -> 0.6 | AF35: =SUM(AF11:AF34) -> 0 | AG35: =SUM(AG11:AG34) -> 0 | AH35: =SUM(AH11:AH34) -> 0 | AI35: =SUM(AI11:AI34) -> 0 | AJ35: =SUM(AJ11:AJ34) -> 2.65 | AK35: 覆工スパン単位の 健全性の 診断の区分 | AM35: Ⅱ
L36: 対策区分の 判定結果 | O36: 対策区分毎の変状数注3 | Y36: Ⅳ | Z36: Ⅲ | AA36: Ⅱa | AB36: Ⅱb | AC36: Ⅳ | AD36: Ⅲ | AE36: Ⅱa | AF36: Ⅱb | AG36: Ⅳ | AH36: Ⅲ | AI36: Ⅱa | AJ36: Ⅱb
Y37: =IF(COUNTIF(Y11:Y34,"〇")>0,1,0) -> 0 | Z37: =IF(COUNTIF(Z11:Z34,"〇")>0,1,0) -> 0 | AA37: =IF(COUNTIF(AA11:AA34,"〇")>0,1,0) -> 0 | AB37: =IF(COUNTIF(AB11:AB34,"〇")>0,1,0) -> 0 | AC37: =COUNTA(AC11:AC34) -> 0 | AD37: =COUNTA(AD11:AD34) -> 0 | AE37: =COUNTA(AE11:AE34) -> 1 | AF37: =COUNTA(AF11:AF34) -> 0 | AG37: =COUNTA(AG11:AG34) -> 0 | AH37: =COUNTA(AH11:AH34) -> 0 | AI37: =COUNTA(AI11:AI34) -> 0 | AJ37: =COUNTA(AJ11:AJ34) -> 2
K39: 所見 | L39: 【 外 力 】監視を必要としない。 【材質劣化】次回点検まで重点的な監視、または計画的な対策を必要とする。 【 漏 水 】次回点検まで継続的な監視を必要とする。 以上により本スパンの判定はⅡa判定となる。
K43: 注1：誤記入防止のため、当該変状区分以外のセルは灰色表示とすること。
K44: 注2：応急措置を実施した場合は、その詳細を備考に記載すること。
K45: 注3：外力は覆工スパン単位、材質劣化、漏水は変状単位とすること。
B46: （以下、印刷不要）
B47: ※1：本シートは作成洩れのないよう、変状が無くても全スパン分を作成すること．また変状展開図は、様式D-2-1、様式D-2-1'と同じものを覆工スパン単位で拡大し掲載すること。
B48: ※2：変状番号は、様式D-1-1で記入した番号と整合させること。
B49: ※3：対策区分毎の変状発生規模は、様式D-1-1に記載した面積を記入すること（ただし外力はスパン単位で評価するため変状の有無の欄には面積でなく○を記入し、備考欄に状況を記入）。
B50: ※4：本様式は覆工スパン毎に作成すること。
B51: ※5：変状数が多い場合は、適時、表の行を増やして覆工スパン毎に1枚のシートに収めること。また、1スパン１シートとし、スパンに合わせてシートを追加すること。
B52: ※6：対策区分毎の変状の発生範囲の規模とは，対策を行う際に参考となる変状の長さや面積であり，変状を包含する長さや面積とする。
B53: ※7：対策範囲を示す発生範囲の規模を面積で記入することが妥当ではない変状は、発生範囲の規模の欄に○を記入するとともに、備考に内容を記入すること。

Sheet 様式D-3_S013
AU1: 様式F用→ | AV1: 覆工スパン | AY1: 変 状 数 | BK1: 変 状 規 模
AV2: 番号 | AW2: 延長 （ｍ） | AX2: 健全性の診断の 区分 | AY2: 対策区分の判定 | BK2: 覆工スパン長（ｍ） | BO2: 変状の発生範囲の規模（㎡）
B3: ■定期点検記録様式 覆工スパン別変状詳細展開図 【様式D-3】 | AY3: 外力 | BC3: 材質劣化 | BG3: 漏水 | BK3: 外力 注2 | BO3: 材質劣化 | BS3: 漏水
B4: フリガナ | E4: (ﾋｴﾊﾞﾗｽﾞｲﾄﾞｳ) | K4: 路線名 | N4: 一般国道187号 | T4: 定期点検業者 | Y4: 応用地質（株） | AG4: 定期点検年月日 | AK4: 45840 | AY4: Ⅳ | AZ4: Ⅲ | BA4: Ⅱa | BB4: Ⅱb | BC4: Ⅳ | BD4: Ⅲ | BE4: Ⅱa | BF4: Ⅱb | BG4: Ⅳ | BH4: Ⅲ | BI4: Ⅱa | BJ4: Ⅱb | BK4: Ⅳ | BL4: Ⅲ | BM4: Ⅱa | BN4: Ⅱb | BO4: Ⅳ | BP4: Ⅲ | BQ4: Ⅱa | BR4: Ⅱb | BS4: Ⅳ | BT4: Ⅲ | BU4: Ⅱa | BV4: Ⅱb
B5: 名 称 | E5: 稗原隧道 | K5: 管理者名 | N5: 山口県岩国土木建築事務所 | Y5: 太田 裕之 | AV5: =N7 -> 13 | AW5: =R7 -> 4.6 | AX5: =AM35 -> Ⅱ | AY5: =IF(Y37>0,Y37,"") | AZ5: =IF(Y37>0,"",IF(Z37>0,Z37,"")) | BA5: =IF(Y37+Z37>0,"",IF(AA37>0,AA37,"")) | BB5: =IF(Y37+Z37+AA37>0,"",IF(AB37>0,AB37,"")) | BC5: =AC37 -> 0 | BD5: =AD37 -> 0 | BE5: =AE37 -> 1 | BF5: =AF37 -> 1 | BG5: =AG37 -> 0 | BH5: =AH37 -> 0 | BI5: =AI37 -> 1 | BJ5: =AJ37 -> 0 | BK5: =IF(Y37>0,R7,"") | BL5: =IF(Y37>0,"",IF(Z37>0,R7,"")) | BM5: =IF(Y37+Z37>0,"",IF(AA37>0,R7,"")) | BN5: =IF(Y37+Z37+AA37>0,"",IF(AB37>0,R7,"")) | BO5: =AC35 -> 0 | BP5: =AD35 -> 0 | BQ5: =AE35 -> 1.6 | BR5: =AF35 -> 0.9 | BS5: =AG35 -> 0 | BT5: =AH35 -> 0 | BU5: =AI35 -> 3.85 | BV5: =AJ35 -> 0
B6: スパン別変状展開図 | K6: 【健全性判定集計表】
K7: スパン番号 | N7: 13 | P7: スパン長 | R7: 4.6 | U7: 前回定期点検時の判定 | W7: 応急措置前の判定 | Y7: 対策区分毎の 変状の有無 | AC7: 対策区分毎の変状の発生範囲の規模(㎡) | AK7: 備考注2
K8: 変状番号 | L8: 対象箇所 | N8: 部位区分 | P8: 変状区分 | R8: 変状種類
Y9: 外力注1 | AC9: 材質劣化注1 | AG9: 漏水注1
Y10: Ⅳ | Z10: Ⅲ | AA10: Ⅱa | AB10: Ⅱb | AC10: Ⅳ | AD10: Ⅲ | AE10: Ⅱa | AF10: Ⅱb | AG10: Ⅳ | AH10: Ⅲ | AI10: Ⅱa | AJ10: Ⅱb
K11: 1 | L11: 覆工 | N11: アーチ（天端） | P11: 漏水 | R11: 漏水 | U11: Ⅱb | W11: － | AI11: 3.85 | AK11: 滴水、路面滞水 | AQ11: =IF(P11="材質劣化",2,IF(P11="漏水",3,1)) -> 3
K12: 2 | L12: 覆工 | N12: 横断目地（天端） | P12: 材質劣化 | R12: うき・はく離 | U12: Ⅱa | W12: － | AK12: 対策済み | AQ12: =IF(P12="材質劣化",2,IF(P12="漏水",3,1)) -> 2
K13: 3 | L13: 覆工 | N13: 横断目地（右側） | P13: 材質劣化 | R13: うき・はく離 | U13: Ⅱa | W13: － | AK13: 対策済み | AQ13: =IF(P13="材質劣化",2,IF(P13="漏水",3,1)) -> 2
K14: 4 | L14: 覆工 | N14: アーチ（左側） | P14: 材質劣化 | R14: 補修・補強材の破損 | U14: － | W14: － | AE14: 1.6 | AQ14: =IF(P14="材質劣化",2,IF(P14="漏水",3,1)) -> 2
K15: 5 | L15: 覆工 | N15: アーチ（天端） | P15: 材質劣化 | R15: 鋼材腐食 | U15: － | W15: － | AF15: 0.9 | AK15: 包括範囲 | AQ15: =IF(P15="材質劣化",2,IF(P15="漏水",3,1)) -> 2
K16: 6 | AQ16: =IF(P16="材質劣化",2,IF(P16="漏水",3,1)) -> 1
K17: 7 | AQ17: =IF(P17="材質劣化",2,IF(P17="漏水",3,1)) -> 1
K18: 8 | AQ18: =IF(P18="材質劣化",2,IF(P18="漏水",3,1)) -> 1
K19: 9 | AQ19: =IF(P19="材質劣化",2,IF(P19="漏水",3,1)) -> 1
K20: 10 | AQ20: =IF(P20="材質劣化",2,IF(P20="漏水",3,1)) -> 1
K21: 11 | AQ21: =IF(P21="材質劣化",2,IF(P21="漏水",3,1)) -> 1
K22: 12 | AQ22: =IF(P22="材質劣化",2,IF(P22="漏水",3,1)) -> 1
K23: 13 | AQ23: =IF(P23="材質劣化",2,IF(P23="漏水",3,1)) -> 1
K24: 14 | AQ24: =IF(P24="材質劣化",2,IF(P24="漏水",3,1)) -> 1
K25: 15 | AQ25: =IF(P25="材質劣化",2,IF(P25="漏水",3,1)) -> 1
K26: 16 | AQ26: =IF(P26="材質劣化",2,IF(P26="漏水",3,1)) -> 1
K27: 17 | AQ27: =IF(P27="材質劣化",2,IF(P27="漏水",3,1)) -> 1
K28: 18 | AQ28: =IF(P30="材質劣化",2,IF(P30="漏水",3,1)) -> 1
K29: 19 | AQ29: =IF(P34="材質劣化",2,IF(P34="漏水",3,1)) -> 1
K30: 20 | AQ30: =IF(P30="材質劣化",2,IF(P30="漏水",3,1)) -> 1
K31: 21 | AQ31: =IF(P33="材質劣化",2,IF(P33="漏水",3,1)) -> 1
K32: 22 | AQ32: =IF(P37="材質劣化",2,IF(P37="漏水",3,1)) -> 1
K33: 23 | AQ33: =IF(P33="材質劣化",2,IF(P33="漏水",3,1)) -> 1
K34: 24 | AQ34: =IF(P36="材質劣化",2,IF(P36="漏水",3,1)) -> 1
K35: 集計 判定 診断 | L35: 変状の発生規模合計(㎡) | Y35: － | AC35: =SUM(AC11:AC34) -> 0 | AD35: =SUM(AD11:AD34) -> 0 | AE35: =SUM(AE11:AE34) -> 1.6 | AF35: =SUM(AF11:AF34) -> 0.9 | AG35: =SUM(AG11:AG34) -> 0 | AH35: =SUM(AH11:AH34) -> 0 | AI35: =SUM(AI11:AI34) -> 3.85 | AJ35: =SUM(AJ11:AJ34) -> 0 | AK35: 覆工スパン単位の 健全性の 診断の区分 | AM35: Ⅱ
L36: 対策区分の 判定結果 | O36: 対策区分毎の変状数注3 | Y36: Ⅳ | Z36: Ⅲ | AA36: Ⅱa | AB36: Ⅱb | AC36: Ⅳ | AD36: Ⅲ | AE36: Ⅱa | AF36: Ⅱb | AG36: Ⅳ | AH36: Ⅲ | AI36: Ⅱa | AJ36: Ⅱb
Y37: =IF(COUNTIF(Y11:Y34,"〇")>0,1,0) -> 0 | Z37: =IF(COUNTIF(Z11:Z34,"〇")>0,1,0) -> 0 | AA37: =IF(COUNTIF(AA11:AA34,"〇")>0,1,0) -> 0 | AB37: =IF(COUNTIF(AB11:AB34,"〇")>0,1,0) -> 0 | AC37: =COUNTA(AC11:AC34) -> 0 | AD37: =COUNTA(AD11:AD34) -> 0 | AE37: =COUNTA(AE11:AE34) -> 1 | AF37: =COUNTA(AF11:AF34) -> 1 | AG37: =COUNTA(AG11:AG34) -> 0 | AH37: =COUNTA(AH11:AH34) -> 0 | AI37: =COUNTA(AI11:AI34) -> 1 | AJ37: =COUNTA(AJ11:AJ34) -> 0
K39: 所見 | L39: 【 外 力 】監視を必要としない。 【材質劣化】次回点検まで重点的な監視、または計画的な対策を必要とする。 【 漏 水 】次回点検まで重点的な監視、または計画的な対策を必要とする。 以上により本スパンの判定はⅡa判定となる。
K43: 注1：誤記入防止のため、当該変状区分以外のセルは灰色表示とすること。
K44: 注2：応急措置を実施した場合は、その詳細を備考に記載すること。
K45: 注3：外力は覆工スパン単位、材質劣化、漏水は変状単位とすること。
B46: （以下、印刷不要）
B47: ※1：本シートは作成洩れのないよう、変状が無くても全スパン分を作成すること．また変状展開図は、様式D-2-1、様式D-2-1'と同じものを覆工スパン単位で拡大し掲載すること。
B48: ※2：変状番号は、様式D-1-1で記入した番号と整合させること。
B49: ※3：対策区分毎の変状発生規模は、様式D-1-1に記載した面積を記入すること（ただし外力はスパン単位で評価するため変状の有無の欄には面積でなく○を記入し、備考欄に状況を記入）。
B50: ※4：本様式は覆工スパン毎に作成すること。
B51: ※5：変状数が多い場合は、適時、表の行を増やして覆工スパン毎に1枚のシートに収めること。また、1スパン１シートとし、スパンに合わせてシートを追加すること。
B52: ※6：対策区分毎の変状の発生範囲の規模とは，対策を行う際に参考となる変状の長さや面積であり，変状を包含する長さや面積とする。
B53: ※7：対策範囲を示す発生範囲の規模を面積で記入することが妥当ではない変状は、発生範囲の規模の欄に○を記入するとともに、備考に内容を記入すること。

Sheet 様式D-3_S014
AU1: 様式F用→ | AV1: 覆工スパン | AY1: 変 状 数 | BK1: 変 状 規 模
AV2: 番号 | AW2: 延長 （ｍ） | AX2: 健全性の診断の 区分 | AY2: 対策区分の判定 | BK2: 覆工スパン長（ｍ） | BO2: 変状の発生範囲の規模（㎡）
B3: ■定期点検記録様式 覆工スパン別変状詳細展開図 【様式D-3】 | AY3: 外力 | BC3: 材質劣化 | BG3: 漏水 | BK3: 外力 注2 | BO3: 材質劣化 | BS3: 漏水
B4: フリガナ | E4: (ﾋｴﾊﾞﾗｽﾞｲﾄﾞｳ) | K4: 路線名 | N4: 一般国道187号 | T4: 定期点検業者 | Y4: 応用地質（株） | AG4: 定期点検年月日 | AK4: 45840 | AY4: Ⅳ | AZ4: Ⅲ | BA4: Ⅱa | BB4: Ⅱb | BC4: Ⅳ | BD4: Ⅲ | BE4: Ⅱa | BF4: Ⅱb | BG4: Ⅳ | BH4: Ⅲ | BI4: Ⅱa | BJ4: Ⅱb | BK4: Ⅳ | BL4: Ⅲ | BM4: Ⅱa | BN4: Ⅱb | BO4: Ⅳ | BP4: Ⅲ | BQ4: Ⅱa | BR4: Ⅱb | BS4: Ⅳ | BT4: Ⅲ | BU4: Ⅱa | BV4: Ⅱb
B5: 名 称 | E5: 稗原隧道 | K5: 管理者名 | N5: 山口県岩国土木建築事務所 | Y5: 太田 裕之 | AV5: =N7 -> 14 | AW5: =R7 -> 4.35 | AX5: =AM35 -> Ⅱ | AY5: =IF(Y37>0,Y37,"") | AZ5: =IF(Y37>0,"",IF(Z37>0,Z37,"")) | BA5: =IF(Y37+Z37>0,"",IF(AA37>0,AA37,"")) | BB5: =IF(Y37+Z37+AA37>0,"",IF(AB37>0,AB37,"")) | BC5: =AC37 -> 0 | BD5: =AD37 -> 0 | BE5: =AE37 -> 1 | BF5: =AF37 -> 0 | BG5: =AG37 -> 0 | BH5: =AH37 -> 0 | BI5: =AI37 -> 0 | BJ5: =AJ37 -> 2 | BK5: =IF(Y37>0,R7,"") | BL5: =IF(Y37>0,"",IF(Z37>0,R7,"")) | BM5: =IF(Y37+Z37>0,"",IF(AA37>0,R7,"")) | BN5: =IF(Y37+Z37+AA37>0,"",IF(AB37>0,R7,"")) | BO5: =AC35 -> 0 | BP5: =AD35 -> 0 | BQ5: =AE35 -> 1.5 | BR5: =AF35 -> 0 | BS5: =AG35 -> 0 | BT5: =AH35 -> 0 | BU5: =AI35 -> 0 | BV5: =AJ35 -> 0.73
B6: スパン別変状展開図 | K6: 【健全性判定集計表】
K7: スパン番号 | N7: 14 | P7: スパン長 | R7: 4.35 | U7: 前回定期点検時の判定 | W7: 応急措置前の判定 | Y7: 対策区分毎の 変状の有無 | AC7: 対策区分毎の変状の発生範囲の規模(㎡) | AK7: 備考注2
K8: 変状番号 | L8: 対象箇所 | N8: 部位区分 | P8: 変状区分 | R8: 変状種類
Y9: 外力注1 | AC9: 材質劣化注1 | AG9: 漏水注1
Y10: Ⅳ | Z10: Ⅲ | AA10: Ⅱa | AB10: Ⅱb | AC10: Ⅳ | AD10: Ⅲ | AE10: Ⅱa | AF10: Ⅱb | AG10: Ⅳ | AH10: Ⅲ | AI10: Ⅱa | AJ10: Ⅱb
K11: 1 | L11: 覆工 | N11: 横断目地（右側） | P11: 材質劣化 | R11: うき・はく離 | U11: Ⅱa | W11: － | AK11: 対策済み | AQ11: =IF(P11="材質劣化",2,IF(P11="漏水",3,1)) -> 2
K12: 2 | L12: 覆工 | N12: 水平打ち継ぎ目（右側） | P12: 材質劣化 | R12: うき・はく離 | U12: Ⅱa | W12: － | AK12: 対策済み | AQ12: =IF(P12="材質劣化",2,IF(P12="漏水",3,1)) -> 2
K13: 3 | L13: 覆工 | N13: 横断目地（左側） | P13: 漏水 | R13: 補修・補強材の破損 | U13: Ⅱb | W13: － | AJ13: 0.03 | AQ13: =IF(P13="材質劣化",2,IF(P13="漏水",3,1)) -> 3
K14: 4 | L14: 覆工 | N14: アーチ（左側） | P14: 材質劣化 | R14: 補修・補強材の破損 | U14: Ⅱa | W14: － | AE14: 1.5 | AQ14: =IF(P14="材質劣化",2,IF(P14="漏水",3,1)) -> 2
K15: 5 | L15: 覆工 | N15: アーチ（天端） | P15: 材質劣化 | R15: うき・はく離 | U15: Ⅱa | W15: － | AK15: 対策済み | AQ15: =IF(P15="材質劣化",2,IF(P15="漏水",3,1)) -> 2
K16: 6 | L16: 覆工 | N16: 側壁（右側） | P16: 漏水 | R16: 漏水 | U16: Ⅱb | W16: － | AJ16: 0.7 | AQ16: =IF(P16="材質劣化",2,IF(P16="漏水",3,1)) -> 3
K17: 7 | AQ17: =IF(P17="材質劣化",2,IF(P17="漏水",3,1)) -> 1
K18: 8 | AQ18: =IF(P18="材質劣化",2,IF(P18="漏水",3,1)) -> 1
K19: 9 | AQ19: =IF(P19="材質劣化",2,IF(P19="漏水",3,1)) -> 1
K20: 10 | AQ20: =IF(P20="材質劣化",2,IF(P20="漏水",3,1)) -> 1
K21: 11 | AQ21: =IF(P21="材質劣化",2,IF(P21="漏水",3,1)) -> 1
K22: 12 | AQ22: =IF(P22="材質劣化",2,IF(P22="漏水",3,1)) -> 1
K23: 13 | AQ23: =IF(P23="材質劣化",2,IF(P23="漏水",3,1)) -> 1
K24: 14 | AQ24: =IF(P24="材質劣化",2,IF(P24="漏水",3,1)) -> 1
K25: 15 | AQ25: =IF(P25="材質劣化",2,IF(P25="漏水",3,1)) -> 1
K26: 16 | AQ26: =IF(P26="材質劣化",2,IF(P26="漏水",3,1)) -> 1
K27: 17 | AQ27: =IF(P27="材質劣化",2,IF(P27="漏水",3,1)) -> 1
K28: 18 | AQ28: =IF(P30="材質劣化",2,IF(P30="漏水",3,1)) -> 1
K29: 19 | AQ29: =IF(P34="材質劣化",2,IF(P34="漏水",3,1)) -> 1
K30: 20 | AQ30: =IF(P30="材質劣化",2,IF(P30="漏水",3,1)) -> 1
K31: 21 | AQ31: =IF(P33="材質劣化",2,IF(P33="漏水",3,1)) -> 1
K32: 22 | AQ32: =IF(P37="材質劣化",2,IF(P37="漏水",3,1)) -> 1
K33: 23 | AQ33: =IF(P33="材質劣化",2,IF(P33="漏水",3,1)) -> 1
K34: 24 | AQ34: =IF(P36="材質劣化",2,IF(P36="漏水",3,1)) -> 1
K35: 集計 判定 診断 | L35: 変状の発生規模合計(㎡) | Y35: － | AC35: =SUM(AC11:AC34) -> 0 | AD35: =SUM(AD11:AD34) -> 0 | AE35: =SUM(AE11:AE34) -> 1.5 | AF35: =SUM(AF11:AF34) -> 0 | AG35: =SUM(AG11:AG34) -> 0 | AH35: =SUM(AH11:AH34) -> 0 | AI35: =SUM(AI11:AI34) -> 0 | AJ35: =SUM(AJ11:AJ34) -> 0.73 | AK35: 覆工スパン単位の 健全性の 診断の区分 | AM35: Ⅱ
L36: 対策区分の 判定結果 | O36: 対策区分毎の変状数注3 | Y36: Ⅳ | Z36: Ⅲ | AA36: Ⅱa | AB36: Ⅱb | AC36: Ⅳ | AD36: Ⅲ | AE36: Ⅱa | AF36: Ⅱb | AG36: Ⅳ | AH36: Ⅲ | AI36: Ⅱa | AJ36: Ⅱb
Y37: =IF(COUNTIF(Y11:Y34,"〇")>0,1,0) -> 0 | Z37: =IF(COUNTIF(Z11:Z34,"〇")>0,1,0) -> 0 | AA37: =IF(COUNTIF(AA11:AA34,"〇")>0,1,0) -> 0 | AB37: =IF(COUNTIF(AB11:AB34,"〇")>0,1,0) -> 0 | AC37: =COUNTA(AC11:AC34) -> 0 | AD37: =COUNTA(AD11:AD34) -> 0 | AE37: =COUNTA(AE11:AE34) -> 1 | AF37: =COUNTA(AF11:AF34) -> 0 | AG37: =COUNTA(AG11:AG34) -> 0 | AH37: =COUNTA(AH11:AH34) -> 0 | AI37: =COUNTA(AI11:AI34) -> 0 | AJ37: =COUNTA(AJ11:AJ34) -> 2
K39: 所見 | L39: 【 外 力 】監視を必要としない。 【材質劣化】次回点検まで重点的な監視、または計画的な対策を必要とする。 【 漏 水 】次回点検まで継続的な監視を必要とする。 以上により本スパンの判定はⅡa判定となる。
K43: 注1：誤記入防止のため、当該変状区分以外のセルは灰色表示とすること。
K44: 注2：応急措置を実施した場合は、その詳細を備考に記載すること。
K45: 注3：外力は覆工スパン単位、材質劣化、漏水は変状単位とすること。
B46: （以下、印刷不要）
B47: ※1：本シートは作成洩れのないよう、変状が無くても全スパン分を作成すること．また変状展開図は、様式D-2-1、様式D-2-1'と同じものを覆工スパン単位で拡大し掲載すること。
B48: ※2：変状番号は、様式D-1-1で記入した番号と整合させること。
B49: ※3：対策区分毎の変状発生規模は、様式D-1-1に記載した面積を記入すること（ただし外力はスパン単位で評価するため変状の有無の欄には面積でなく○を記入し、備考欄に状況を記入）。
B50: ※4：本様式は覆工スパン毎に作成すること。
B51: ※5：変状数が多い場合は、適時、表の行を増やして覆工スパン毎に1枚のシートに収めること。また、1スパン１シートとし、スパンに合わせてシートを追加すること。
B52: ※6：対策区分毎の変状の発生範囲の規模とは，対策を行う際に参考となる変状の長さや面積であり，変状を包含する長さや面積とする。
B53: ※7：対策範囲を示す発生範囲の規模を面積で記入することが妥当ではない変状は、発生範囲の規模の欄に○を記入するとともに、備考に内容を記入すること。

Sheet 様式D-3_S015
AU1: 様式F用→ | AV1: 覆工スパン | AY1: 変 状 数 | BK1: 変 状 規 模
AV2: 番号 | AW2: 延長 （ｍ） | AX2: 健全性の診断の 区分 | AY2: 対策区分の判定 | BK2: 覆工スパン長（ｍ） | BO2: 変状の発生範囲の規模（㎡）
B3: ■定期点検記録様式 覆工スパン別変状詳細展開図 【様式D-3】 | AY3: 外力 | BC3: 材質劣化 | BG3: 漏水 | BK3: 外力 注2 | BO3: 材質劣化 | BS3: 漏水
B4: フリガナ | E4: (ﾋｴﾊﾞﾗｽﾞｲﾄﾞｳ) | K4: 路線名 | N4: 一般国道187号 | T4: 定期点検業者 | Y4: 応用地質（株） | AG4: 定期点検年月日 | AK4: 45840 | AY4: Ⅳ | AZ4: Ⅲ | BA4: Ⅱa | BB4: Ⅱb | BC4: Ⅳ | BD4: Ⅲ | BE4: Ⅱa | BF4: Ⅱb | BG4: Ⅳ | BH4: Ⅲ | BI4: Ⅱa | BJ4: Ⅱb | BK4: Ⅳ | BL4: Ⅲ | BM4: Ⅱa | BN4: Ⅱb | BO4: Ⅳ | BP4: Ⅲ | BQ4: Ⅱa | BR4: Ⅱb | BS4: Ⅳ | BT4: Ⅲ | BU4: Ⅱa | BV4: Ⅱb
B5: 名 称 | E5: 稗原隧道 | K5: 管理者名 | N5: 山口県岩国土木建築事務所 | Y5: 太田 裕之 | AV5: =N7 -> 15 | AW5: =R7 -> 6.2 | AX5: =AM35 -> Ⅱ | AY5: =IF(Y37>0,Y37,"") | AZ5: =IF(Y37>0,"",IF(Z37>0,Z37,"")) | BA5: =IF(Y37+Z37>0,"",IF(AA37>0,AA37,"")) | BB5: =IF(Y37+Z37+AA37>0,"",IF(AB37>0,AB37,"")) | BC5: =AC37 -> 0 | BD5: =AD37 -> 0 | BE5: =AE37 -> 1 | BF5: =AF37 -> 0 | BG5: =AG37 -> 0 | BH5: =AH37 -> 0 | BI5: =AI37 -> 0 | BJ5: =AJ37 -> 2 | BK5: =IF(Y37>0,R7,"") | BL5: =IF(Y37>0,"",IF(Z37>0,R7,"")) | BM5: =IF(Y37+Z37>0,"",IF(AA37>0,R7,"")) | BN5: =IF(Y37+Z37+AA37>0,"",IF(AB37>0,R7,"")) | BO5: =AC35 -> 0 | BP5: =AD35 -> 0 | BQ5: =AE35 -> 0.2 | BR5: =AF35 -> 0 | BS5: =AG35 -> 0 | BT5: =AH35 -> 0 | BU5: =AI35 -> 0 | BV5: =AJ35 -> 3.25
B6: スパン別変状展開図 | K6: 【健全性判定集計表】
K7: スパン番号 | N7: 15 | P7: スパン長 | R7: 6.2 | U7: 前回定期点検時の判定 | W7: 応急措置前の判定 | Y7: 対策区分毎の 変状の有無 | AC7: 対策区分毎の変状の発生範囲の規模(㎡) | AK7: 備考注2
K8: 変状番号 | L8: 対象箇所 | N8: 部位区分 | P8: 変状区分 | R8: 変状種類
Y9: 外力注1 | AC9: 材質劣化注1 | AG9: 漏水注1
Y10: Ⅳ | Z10: Ⅲ | AA10: Ⅱa | AB10: Ⅱb | AC10: Ⅳ | AD10: Ⅲ | AE10: Ⅱa | AF10: Ⅱb | AG10: Ⅳ | AH10: Ⅲ | AI10: Ⅱa | AJ10: Ⅱb
K11: 1 | L11: 覆工 | N11: アーチ（左側） | P11: 漏水 | R11: 漏水 | U11: Ⅱb | W11: － | AJ11: 2 | AQ11: =IF(P11="材質劣化",2,IF(P11="漏水",3,1)) -> 3
K12: 2 | L12: 覆工 | N12: 横断目地（右側） | P12: 材質劣化 | R12: うき・はく離 | U12: Ⅱa | W12: － | AK12: 対策済み | AQ12: =IF(P12="材質劣化",2,IF(P12="漏水",3,1)) -> 2
K13: 3 | L13: 覆工 | N13: 横断目地（天端） | P13: 材質劣化 | R13: うき・はく離 | U13: Ⅱa | W13: － | AK13: 対策済み | AQ13: =IF(P13="材質劣化",2,IF(P13="漏水",3,1)) -> 2
K14: 4 | L14: 覆工 | N14: アーチ（天端） | P14: 材質劣化 | R14: うき・はく離 | U14: Ⅱa | W14: － | AK14: 対策済み | AQ14: =IF(P14="材質劣化",2,IF(P14="漏水",3,1)) -> 2
K15: 5 | L15: 覆工 | N15: 側壁（右側） | P15: 漏水 | R15: 漏水 | U15: Ⅱb | W15: － | AJ15: 1.25 | AQ15: =IF(P15="材質劣化",2,IF(P15="漏水",3,1)) -> 3
K16: 6 | L16: 覆工 | N16: アーチ（左側） | P16: 材質劣化 | R16: 補修・補強材の破損 | U16: － | W16: － | AE16: 0.2 | AQ16: =IF(P16="材質劣化",2,IF(P16="漏水",3,1)) -> 2
K17: 7 | AQ17: =IF(P17="材質劣化",2,IF(P17="漏水",3,1)) -> 1
K18: 8 | AQ18: =IF(P18="材質劣化",2,IF(P18="漏水",3,1)) -> 1
K19: 9 | AQ19: =IF(P19="材質劣化",2,IF(P19="漏水",3,1)) -> 1
K20: 10 | AQ20: =IF(P20="材質劣化",2,IF(P20="漏水",3,1)) -> 1
K21: 11 | AQ21: =IF(P21="材質劣化",2,IF(P21="漏水",3,1)) -> 1
K22: 12 | AQ22: =IF(P22="材質劣化",2,IF(P22="漏水",3,1)) -> 1
K23: 13 | AQ23: =IF(P23="材質劣化",2,IF(P23="漏水",3,1)) -> 1
K24: 14 | AQ24: =IF(P24="材質劣化",2,IF(P24="漏水",3,1)) -> 1
K25: 15 | AQ25: =IF(P25="材質劣化",2,IF(P25="漏水",3,1)) -> 1
K26: 16 | AQ26: =IF(P26="材質劣化",2,IF(P26="漏水",3,1)) -> 1
K27: 17 | AQ27: =IF(P27="材質劣化",2,IF(P27="漏水",3,1)) -> 1
K28: 18 | AQ28: =IF(P30="材質劣化",2,IF(P30="漏水",3,1)) -> 1
K29: 19 | AQ29: =IF(P34="材質劣化",2,IF(P34="漏水",3,1)) -> 1
K30: 20 | AQ30: =IF(P30="材質劣化",2,IF(P30="漏水",3,1)) -> 1
K31: 21 | AQ31: =IF(P33="材質劣化",2,IF(P33="漏水",3,1)) -> 1
K32: 22 | AQ32: =IF(P37="材質劣化",2,IF(P37="漏水",3,1)) -> 1
K33: 23 | AQ33: =IF(P33="材質劣化",2,IF(P33="漏水",3,1)) -> 1
K34: 24 | AQ34: =IF(P36="材質劣化",2,IF(P36="漏水",3,1)) -> 1
K35: 集計 判定 診断 | L35: 変状の発生規模合計(㎡) | Y35: － | AC35: =SUM(AC11:AC34) -> 0 | AD35: =SUM(AD11:AD34) -> 0 | AE35: =SUM(AE11:AE34) -> 0.2 | AF35: =SUM(AF11:AF34) -> 0 | AG35: =SUM(AG11:AG34) -> 0 | AH35: =SUM(AH11:AH34) -> 0 | AI35: =SUM(AI11:AI34) -> 0 | AJ35: =SUM(AJ11:AJ34) -> 3.25 | AK35: 覆工スパン単位の 健全性の 診断の区分 | AM35: Ⅱ
L36: 対策区分の 判定結果 | O36: 対策区分毎の変状数注3 | Y36: Ⅳ | Z36: Ⅲ | AA36: Ⅱa | AB36: Ⅱb | AC36: Ⅳ | AD36: Ⅲ | AE36: Ⅱa | AF36: Ⅱb | AG36: Ⅳ | AH36: Ⅲ | AI36: Ⅱa | AJ36: Ⅱb
Y37: =IF(COUNTIF(Y11:Y34,"〇")>0,1,0) -> 0 | Z37: =IF(COUNTIF(Z11:Z34,"〇")>0,1,0) -> 0 | AA37: =IF(COUNTIF(AA11:AA34,"〇")>0,1,0) -> 0 | AB37: =IF(COUNTIF(AB11:AB34,"〇")>0,1,0) -> 0 | AC37: =COUNTA(AC11:AC34) -> 0 | AD37: =COUNTA(AD11:AD34) -> 0 | AE37: =COUNTA(AE11:AE34) -> 1 | AF37: =COUNTA(AF11:AF34) -> 0 | AG37: =COUNTA(AG11:AG34) -> 0 | AH37: =COUNTA(AH11:AH34) -> 0 | AI37: =COUNTA(AI11:AI34) -> 0 | AJ37: =COUNTA(AJ11:AJ34) -> 2
K39: 所見 | L39: 【 外 力 】監視を必要としない。 【材質劣化】次回点検まで重点的な監視、または計画的な対策を必要とする。 【 漏 水 】次回点検まで継続的な監視を必要とする。 以上により本スパンの判定はⅡa判定となる。
K43: 注1：誤記入防止のため、当該変状区分以外のセルは灰色表示とすること。
K44: 注2：応急措置を実施した場合は、その詳細を備考に記載すること。
K45: 注3：外力は覆工スパン単位、材質劣化、漏水は変状単位とすること。
B46: （以下、印刷不要）
B47: ※1：本シートは作成洩れのないよう、変状が無くても全スパン分を作成すること．また変状展開図は、様式D-2-1、様式D-2-1'と同じものを覆工スパン単位で拡大し掲載すること。
B48: ※2：変状番号は、様式D-1-1で記入した番号と整合させること。
B49: ※3：対策区分毎の変状発生規模は、様式D-1-1に記載した面積を記入すること（ただし外力はスパン単位で評価するため変状の有無の欄には面積でなく○を記入し、備考欄に状況を記入）。
B50: ※4：本様式は覆工スパン毎に作成すること。
B51: ※5：変状数が多い場合は、適時、表の行を増やして覆工スパン毎に1枚のシートに収めること。また、1スパン１シートとし、スパンに合わせてシートを追加すること。
B52: ※6：対策区分毎の変状の発生範囲の規模とは，対策を行う際に参考となる変状の長さや面積であり，変状を包含する長さや面積とする。
B53: ※7：対策範囲を示す発生範囲の規模を面積で記入することが妥当ではない変状は、発生範囲の規模の欄に○を記入するとともに、備考に内容を記入すること。

Sheet 様式D-3_S016
AU1: 様式F用→ | AV1: 覆工スパン | AY1: 変 状 数 | BK1: 変 状 規 模
AV2: 番号 | AW2: 延長 （ｍ） | AX2: 健全性の診断の 区分 | AY2: 対策区分の判定 | BK2: 覆工スパン長（ｍ） | BO2: 変状の発生範囲の規模（㎡）
B3: ■定期点検記録様式 覆工スパン別変状詳細展開図 【様式D-3】 | AY3: 外力 | BC3: 材質劣化 | BG3: 漏水 | BK3: 外力 注2 | BO3: 材質劣化 | BS3: 漏水
B4: フリガナ | E4: (ﾋｴﾊﾞﾗｽﾞｲﾄﾞｳ) | K4: 路線名 | N4: 一般国道187号 | T4: 定期点検業者 | Y4: 応用地質（株） | AG4: 定期点検年月日 | AK4: 45840 | AY4: Ⅳ | AZ4: Ⅲ | BA4: Ⅱa | BB4: Ⅱb | BC4: Ⅳ | BD4: Ⅲ | BE4: Ⅱa | BF4: Ⅱb | BG4: Ⅳ | BH4: Ⅲ | BI4: Ⅱa | BJ4: Ⅱb | BK4: Ⅳ | BL4: Ⅲ | BM4: Ⅱa | BN4: Ⅱb | BO4: Ⅳ | BP4: Ⅲ | BQ4: Ⅱa | BR4: Ⅱb | BS4: Ⅳ | BT4: Ⅲ | BU4: Ⅱa | BV4: Ⅱb
B5: 名 称 | E5: 稗原隧道 | K5: 管理者名 | N5: 山口県岩国土木建築事務所 | Y5: 太田 裕之 | AV5: =N7 -> 16 | AW5: =R7 -> 5.9 | AX5: =AM35 -> Ⅲ | AY5: =IF(Y37>0,Y37,"") | AZ5: =IF(Y37>0,"",IF(Z37>0,Z37,"")) | BA5: =IF(Y37+Z37>0,"",IF(AA37>0,AA37,"")) | BB5: =IF(Y37+Z37+AA37>0,"",IF(AB37>0,AB37,"")) | BC5: =AC37 -> 0 | BD5: =AD37 -> 2 | BE5: =AE37 -> 1 | BF5: =AF37 -> 2 | BG5: =AG37 -> 0 | BH5: =AH37 -> 0 | BI5: =AI37 -> 0 | BJ5: =AJ37 -> 1 | BK5: =IF(Y37>0,R7,"") | BL5: =IF(Y37>0,"",IF(Z37>0,R7,"")) | BM5: =IF(Y37+Z37>0,"",IF(AA37>0,R7,"")) | BN5: =IF(Y37+Z37+AA37>0,"",IF(AB37>0,R7,"")) | BO5: =AC35 -> 0 | BP5: =AD35 -> 1.01 | BQ5: =AE35 -> 0.06 | BR5: =AF35 -> 0.47 | BS5: =AG35 -> 0 | BT5: =AH35 -> 0 | BU5: =AI35 -> 0 | BV5: =AJ35 -> 2.35
B6: スパン別変状展開図 | K6: 【健全性判定集計表】
K7: スパン番号 | N7: 16 | P7: スパン長 | R7: 5.9 | U7: 前回定期点検時の判定 | W7: 応急措置前の判定 | Y7: 対策区分毎の 変状の有無 | AC7: 対策区分毎の変状の発生範囲の規模(㎡) | AK7: 備考注2
K8: 変状番号 | L8: 対象箇所 | N8: 部位区分 | P8: 変状区分 | R8: 変状種類
Y9: 外力注1 | AC9: 材質劣化注1 | AG9: 漏水注1
Y10: Ⅳ | Z10: Ⅲ | AA10: Ⅱa | AB10: Ⅱb | AC10: Ⅳ | AD10: Ⅲ | AE10: Ⅱa | AF10: Ⅱb | AG10: Ⅳ | AH10: Ⅲ | AI10: Ⅱa | AJ10: Ⅱb
K11: 1 | L11: 覆工 | N11: アーチ（天端） | P11: 材質劣化 | R11: うき・はく離 | U11: Ⅱa | W11: － | AK11: 対策済み | AQ11: =IF(P11="材質劣化",2,IF(P11="漏水",3,1)) -> 2
K12: 2 | L12: 覆工 | N12: 横断目地（天端） | P12: 材質劣化 | R12: うき・はく離 | U12: Ⅱa | W12: － | AK12: 対策済み | AQ12: =IF(P12="材質劣化",2,IF(P12="漏水",3,1)) -> 2
K13: 3 | L13: 覆工 | N13: 横断目地（右側） | P13: 漏水 | R13: 漏水 | U13: Ⅱb | W13: － | AJ13: 2.35 | AQ13: =IF(P13="材質劣化",2,IF(P13="漏水",3,1)) -> 3
K14: 4 | L14: 覆工 | N14: アーチ（左側） | P14: 材質劣化 | R14: うき・はく離 | U14: Ⅱb | W14: － | AD14: 0.91 | AQ14: =IF(P14="材質劣化",2,IF(P14="漏水",3,1)) -> 2
K15: 5 | L15: 覆工 | N15: アーチ（天端） | P15: 材質劣化 | R15: うき・はく離 | U15: Ⅱb | W15: － | AF15: 0.45 | AQ15: =IF(P15="材質劣化",2,IF(P15="漏水",3,1)) -> 2
K16: 6 | L16: 覆工 | N16: アーチ（天端） | P16: 材質劣化 | R16: うき・はく離 | U16: Ⅱb | W16: － | AD16: 0.1 | AQ16: =IF(P16="材質劣化",2,IF(P16="漏水",3,1)) -> 2
K17: 7 | L17: 覆工 | N17: 横断目地（左側） | P17: 材質劣化 | R17: うき・はく離 | U17: Ⅱa | W17: － | AK17: 対策済み | AQ17: =IF(P17="材質劣化",2,IF(P17="漏水",3,1)) -> 2
K18: 8 | L18: 覆工 | N18: アーチ（左側） | P18: 材質劣化 | R18: 鋼材腐食 | U18: Ⅱb | W18: － | AF18: 0.02 | AQ18: =IF(P18="材質劣化",2,IF(P18="漏水",3,1)) -> 2
K19: 9 | L19: 覆工 | N19: 水平打ち継ぎ目（右側） | P19: 材質劣化 | R19: うき・はく離 | U19: Ⅱb | W19: － | AK19: 対策済み | AQ19: =IF(P19="材質劣化",2,IF(P19="漏水",3,1)) -> 2
K20: 10 | L20: 覆工 | N20: アーチ（右側） | P20: 材質劣化 | R20: うき・はく離 | U20: － | W20: － | AE20: 0.06 | AQ20: =IF(P20="材質劣化",2,IF(P20="漏水",3,1)) -> 2
K21: 11 | AQ21: =IF(P21="材質劣化",2,IF(P21="漏水",3,1)) -> 1
K22: 12 | AQ22: =IF(P22="材質劣化",2,IF(P22="漏水",3,1)) -> 1
K23: 13 | AQ23: =IF(P23="材質劣化",2,IF(P23="漏水",3,1)) -> 1
K24: 14 | AQ24: =IF(P24="材質劣化",2,IF(P24="漏水",3,1)) -> 1
K25: 15 | AQ25: =IF(P25="材質劣化",2,IF(P25="漏水",3,1)) -> 1
K26: 16 | AQ26: =IF(P26="材質劣化",2,IF(P26="漏水",3,1)) -> 1
K27: 17 | AQ27: =IF(P27="材質劣化",2,IF(P27="漏水",3,1)) -> 1
K28: 18 | AQ28: =IF(P30="材質劣化",2,IF(P30="漏水",3,1)) -> 1
K29: 19 | AQ29: =IF(P34="材質劣化",2,IF(P34="漏水",3,1)) -> 1
K30: 20 | AQ30: =IF(P30="材質劣化",2,IF(P30="漏水",3,1)) -> 1
K31: 21 | AQ31: =IF(P33="材質劣化",2,IF(P33="漏水",3,1)) -> 1
K32: 22 | AQ32: =IF(P37="材質劣化",2,IF(P37="漏水",3,1)) -> 1
K33: 23 | AQ33: =IF(P33="材質劣化",2,IF(P33="漏水",3,1)) -> 1
K34: 24 | AQ34: =IF(P36="材質劣化",2,IF(P36="漏水",3,1)) -> 1
K35: 集計 判定 診断 | L35: 変状の発生規模合計(㎡) | Y35: － | AC35: =SUM(AC11:AC34) -> 0 | AD35: =SUM(AD11:AD34) -> 1.01 | AE35: =SUM(AE11:AE34) -> 0.06 | AF35: =SUM(AF11:AF34) -> 0.47 | AG35: =SUM(AG11:AG34) -> 0 | AH35: =SUM(AH11:AH34) -> 0 | AI35: =SUM(AI11:AI34) -> 0 | AJ35: =SUM(AJ11:AJ34) -> 2.35 | AK35: 覆工スパン単位の 健全性の 診断の区分 | AM35: Ⅲ
L36: 対策区分の 判定結果 | O36: 対策区分毎の変状数注3 | Y36: Ⅳ | Z36: Ⅲ | AA36: Ⅱa | AB36: Ⅱb | AC36: Ⅳ | AD36: Ⅲ | AE36: Ⅱa | AF36: Ⅱb | AG36: Ⅳ | AH36: Ⅲ | AI36: Ⅱa | AJ36: Ⅱb
Y37: =IF(COUNTIF(Y11:Y34,"〇")>0,1,0) -> 0 | Z37: =IF(COUNTIF(Z11:Z34,"〇")>0,1,0) -> 0 | AA37: =IF(COUNTIF(AA11:AA34,"〇")>0,1,0) -> 0 | AB37: =IF(COUNTIF(AB11:AB34,"〇")>0,1,0) -> 0 | AC37: =COUNTA(AC11:AC34) -> 0 | AD37: =COUNTA(AD11:AD34) -> 2 | AE37: =COUNTA(AE11:AE34) -> 1 | AF37: =COUNTA(AF11:AF34) -> 2 | AG37: =COUNTA(AG11:AG34) -> 0 | AH37: =COUNTA(AH11:AH34) -> 0 | AI37: =COUNTA(AI11:AI34) -> 0 | AJ37: =COUNTA(AJ11:AJ34) -> 1
K39: 所見 | L39: 【 外 力 】監視を必要としない。 【材質劣化】早期対策を必要とする。 【 漏 水 】次回点検まで継続的な監視を必要とする。 以上により本スパンの判定はⅢ判定となる。
K43: 注1：誤記入防止のため、当該変状区分以外のセルは灰色表示とすること。
K44: 注2：応急措置を実施した場合は、その詳細を備考に記載すること。
K45: 注3：外力は覆工スパン単位、材質劣化、漏水は変状単位とすること。
B46: （以下、印刷不要）
B47: ※1：本シートは作成洩れのないよう、変状が無くても全スパン分を作成すること．また変状展開図は、様式D-2-1、様式D-2-1'と同じものを覆工スパン単位で拡大し掲載すること。
B48: ※2：変状番号は、様式D-1-1で記入した番号と整合させること。
B49: ※3：対策区分毎の変状発生規模は、様式D-1-1に記載した面積を記入すること（ただし外力はスパン単位で評価するため変状の有無の欄には面積でなく○を記入し、備考欄に状況を記入）。
B50: ※4：本様式は覆工スパン毎に作成すること。
B51: ※5：変状数が多い場合は、適時、表の行を増やして覆工スパン毎に1枚のシートに収めること。また、1スパン１シートとし、スパンに合わせてシートを追加すること。
B52: ※6：対策区分毎の変状の発生範囲の規模とは，対策を行う際に参考となる変状の長さや面積であり，変状を包含する長さや面積とする。
B53: ※7：対策範囲を示す発生範囲の規模を面積で記入することが妥当ではない変状は、発生範囲の規模の欄に○を記入するとともに、備考に内容を記入すること。

Sheet 様式D-3_PE
AU1: 様式F用→ | AV1: 覆工スパン | AY1: 変 状 数 | BK1: 変 状 規 模
AV2: 番号 | AW2: 延長 （ｍ） | AX2: 健全性の診断の 区分 | AY2: 対策区分の判定 | BK2: 覆工スパン長（ｍ） | BO2: 変状の発生範囲の規模（㎡）
B3: ■定期点検記録様式 覆工スパン別変状詳細展開図 【様式D-3】 | AY3: 外力 | BC3: 材質劣化 | BG3: 漏水 | BK3: 外力 注2 | BO3: 材質劣化 | BS3: 漏水
B4: フリガナ | E4: (ﾋｴﾊﾞﾗｽﾞｲﾄﾞｳ) | K4: 路線名 | N4: 一般国道187号 | T4: 定期点検業者 | Y4: 応用地質（株） | AG4: 定期点検年月日 | AK4: 45840 | AY4: Ⅳ | AZ4: Ⅲ | BA4: Ⅱa | BB4: Ⅱb | BC4: Ⅳ | BD4: Ⅲ | BE4: Ⅱa | BF4: Ⅱb | BG4: Ⅳ | BH4: Ⅲ | BI4: Ⅱa | BJ4: Ⅱb | BK4: Ⅳ | BL4: Ⅲ | BM4: Ⅱa | BN4: Ⅱb | BO4: Ⅳ | BP4: Ⅲ | BQ4: Ⅱa | BR4: Ⅱb | BS4: Ⅳ | BT4: Ⅲ | BU4: Ⅱa | BV4: Ⅱb
B5: 名 称 | E5: 稗原隧道 | K5: 管理者名 | N5: 山口県岩国土木建築事務所 | Y5: 太田 裕之 | AV5: =N7 -> PE | AW5: =R7 -> 1.45 | AX5: =AM35 -> Ⅱ | AY5: =IF(Y37>0,Y37,"") | AZ5: =IF(Y37>0,"",IF(Z37>0,Z37,"")) | BA5: =IF(Y37+Z37>0,"",IF(AA37>0,AA37,"")) -> 1 | BB5: =IF(Y37+Z37+AA37>0,"",IF(AB37>0,AB37,"")) | BC5: =AC37 -> 0 | BD5: =AD37 -> 0 | BE5: =AE37 -> 0 | BF5: =AF37 -> 0 | BG5: =AG37 -> 0 | BH5: =AH37 -> 0 | BI5: =AI37 -> 0 | BJ5: =AJ37 -> 0 | BK5: =IF(Y37>0,R7,"") | BL5: =IF(Y37>0,"",IF(Z37>0,R7,"")) | BM5: =IF(Y37+Z37>0,"",IF(AA37>0,R7,"")) -> 1.45 | BN5: =IF(Y37+Z37+AA37>0,"",IF(AB37>0,R7,"")) | BO5: =AC35 -> 0 | BP5: =AD35 -> 0 | BQ5: =AE35 -> 0 | BR5: =AF35 -> 0 | BS5: =AG35 -> 0 | BT5: =AH35 -> 0 | BU5: =AI35 -> 0 | BV5: =AJ35 -> 0
B6: スパン別変状展開図 | K6: 【健全性判定集計表】
K7: スパン番号 | N7: PE | P7: スパン長 | R7: 1.45 | U7: 前回定期点検時の判定 | W7: 応急措置前の判定 | Y7: 対策区分毎の 変状の有無 | AC7: 対策区分毎の変状の発生範囲の規模(㎡) | AK7: 備考注2
K8: 変状番号 | L8: 対象箇所 | N8: 部位区分 | P8: 変状区分 | R8: 変状種類
Y9: 外力注1 | AC9: 材質劣化注1 | AG9: 漏水注1
Y10: Ⅳ | Z10: Ⅲ | AA10: Ⅱa | AB10: Ⅱb | AC10: Ⅳ | AD10: Ⅲ | AE10: Ⅱa | AF10: Ⅱb | AG10: Ⅳ | AH10: Ⅲ | AI10: Ⅱa | AJ10: Ⅱb
K11: 1 | L11: 坑門 | N11: 面壁・妻壁等 | P11: 外力 | R11: 変形・移動 | U11: Ⅱb | W11: － | AA11: 〇 | AK11: 段差10mm、ひび割れ幅15mm | AQ11: =IF(P11="材質劣化",2,IF(P11="漏水",3,1)) -> 1
K12: 2 | AQ12: =IF(P12="材質劣化",2,IF(P12="漏水",3,1)) -> 1
K13: 3 | AQ13: =IF(P13="材質劣化",2,IF(P13="漏水",3,1)) -> 1
K14: 4 | AQ14: =IF(P14="材質劣化",2,IF(P14="漏水",3,1)) -> 1
K15: 5 | AQ15: =IF(P15="材質劣化",2,IF(P15="漏水",3,1)) -> 1
K16: 6 | AQ16: =IF(P16="材質劣化",2,IF(P16="漏水",3,1)) -> 1
K17: 7 | AQ17: =IF(P17="材質劣化",2,IF(P17="漏水",3,1)) -> 1
K18: 8 | AQ18: =IF(P18="材質劣化",2,IF(P18="漏水",3,1)) -> 1
K19: 9 | AQ19: =IF(P19="材質劣化",2,IF(P19="漏水",3,1)) -> 1
K20: 10 | AQ20: =IF(P20="材質劣化",2,IF(P20="漏水",3,1)) -> 1
K21: 11 | AQ21: =IF(P21="材質劣化",2,IF(P21="漏水",3,1)) -> 1
K22: 12 | AQ22: =IF(P22="材質劣化",2,IF(P22="漏水",3,1)) -> 1
K23: 13 | AQ23: =IF(P23="材質劣化",2,IF(P23="漏水",3,1)) -> 1
... K27: 17 | AQ27: =IF(P27="材質劣化",2,IF(P27="漏水",3,1)) -> 1
K28: 18 | AQ28: =IF(P30="材質劣化",2,IF(P30="漏水",3,1)) -> 1
K29: 19 | AQ29: =IF(P34="材質劣化",2,IF(P34="漏水",3,1)) -> 1
K30: 20 | AQ30: =IF(P30="材質劣化",2,IF(P30="漏水",3,1)) -> 1
K31: 21 | AQ31: =IF(P33="材質劣化",2,IF(P33="漏水",3,1)) -> 1
K32: 22 | AQ32: =IF(P37="材質劣化",2,IF(P37="漏水",3,1)) -> 1
K33: 23 | AQ33: =IF(P33="材質劣化",2,IF(P33="漏水",3,1)) -> 1
K34: 24 | AQ34: =IF(P36="材質劣化",2,IF(P36="漏水",3,1)) -> 1
K35: 集計 判定 診断 | L35: 変状の発生規模合計(㎡) | Y35: － | AC35: =SUM(AC11:AC34) -> 0 | AD35: =SUM(AD11:AD34) -> 0 | AE35: =SUM(AE11:AE34) -> 0 | AF35: =SUM(AF11:AF34) -> 0 | AG35: =SUM(AG11:AG34) -> 0 | AH35: =SUM(AH11:AH34) -> 0 | AI35: =SUM(AI11:AI34) -> 0 | AJ35: =SUM(AJ11:AJ34) -> 0 | AK35: 覆工スパン単位の 健全性の 診断の区分 | AM35: Ⅱ
L36: 対策区分の 判定結果 | O36: 対策区分毎の変状数注3 | Y36: Ⅳ | Z36: Ⅲ | AA36: Ⅱa | AB36: Ⅱb | AC36: Ⅳ | AD36: Ⅲ | AE36: Ⅱa | AF36: Ⅱb | AG36: Ⅳ | AH36: Ⅲ | AI36: Ⅱa | AJ36: Ⅱb
Y37: =IF(COUNTIF(Y11:Y34,"〇")>0,1,0) -> 0 | Z37: =IF(COUNTIF(Z11:Z34,"〇")>0,1,0) -> 0 | AA37: =IF(COUNTIF(AA11:AA34,"〇")>0,1,0) -> 1 | AB37: =IF(COUNTIF(AB11:AB34,"〇")>0,1,0) -> 0 | AC37: =COUNTA(AC11:AC34) -> 0 | AD37: =COUNTA(AD11:AD34) -> 0 | AE37: =COUNTA(AE11:AE34) -> 0 | AF37: =COUNTA(AF11:AF34) -> 0 | AG37: =COUNTA(AG11:AG34) -> 0 | AH37: =COUNTA(AH11:AH34) -> 0 | AI37: =COUNTA(AI11:AI34) -> 0 | AJ37: =COUNTA(AJ11:AJ34) -> 0
K39: 所見 | L39: 【 外 力 】次回点検まで重点的な監視、または計画的な対策を必要とする。 【材質劣化】監視を必要としない。 【 漏 水 】監視を必要としない。 以上により本スパンの判定はⅡa判定となる。
K43: 注1：誤記入防止のため、当該変状区分以外のセルは灰色表示とすること。
K44: 注2：応急措置を実施した場合は、その詳細を備考に記載すること。
K45: 注3：外力は覆工スパン単位、材質劣化、漏水は変状単位とすること。
B46: （以下、印刷不要）
B47: ※1：本シートは作成洩れのないよう、変状が無くても全スパン分を作成すること．また変状展開図は、様式D-2-1、様式D-2-1'と同じものを覆工スパン単位で拡大し掲載すること。
B48: ※2：変状番号は、様式D-1-1で記入した番号と整合させること。
B49: ※3：対策区分毎の変状発生規模は、様式D-1-1に記載した面積を記入すること（ただし外力はスパン単位で評価するため変状の有無の欄には面積でなく○を記入し、備考欄に状況を記入）。
B50: ※4：本様式は覆工スパン毎に作成すること。
B51: ※5：変状数が多い場合は、適時、表の行を増やして覆工スパン毎に1枚のシートに収めること。また、1スパン１シートとし、スパンに合わせてシートを追加すること。
B52: ※6：対策区分毎の変状の発生範囲の規模とは，対策を行う際に参考となる変状の長さや面積であり，変状を包含する長さや面積とする。
B53: ※7：対策範囲を示す発生範囲の規模を面積で記入することが妥当ではない変状は、発生範囲の規模の欄に○を記入するとともに、備考に内容を記入すること。

Sheet 様式E
B2: ■定期点検記録様式 近接目視による状態の把握が不可能な箇所 【様式E】
B3: フリガナ | F3: (ﾋｴﾊﾞﾗｽﾞｲﾄﾞｳ) | U3: 路 線 名 | Z3: 一般国道187号 | AI3: 定期点検実施者 | AO3: 応用地質（株） | AW3: 定期点検年月日 | BC3: 45840
B4: 名 称 | F4: 稗原隧道 | U4: 管理者名 | Z4: 山口県岩国土木建築事務所 | AO4: 太田 裕之
B5: 覆工スパン 番号 | H5: 対象箇所 | P5: 不可能な理由 | AN5: 対応策
D20: 注）近接目視又は打音、触診ができない箇所を記載する。現状の評価、日常の維持管理での注意点を記載する。
D21: ※ 数が多い場合は、適時、表の行を増やすこと。

Sheet 様式F
B1: ■定期点検記録様式 覆工スパン毎の変状数・変状規模の集計 【様式F】
B2: フリガナ | F2: (ﾋｴﾊﾞﾗｽﾞｲﾄﾞｳ) | L2: 路線名 | O2: 一般国道187号 | T2: 定期点検実施者 | V2: 応用地質（株） | Y2: 定期点検 年月日 | Z2: 45840
B3: 名 称 | F3: 稗原隧道 | L3: 管理者名 | O3: 山口県岩国土木建築事務所 | V3: 太田 裕之
B5: 【覆工スパン毎の変状数, 変状規模】
B6: 覆工スパン | E6: 変 状 数 | Q6: 変 状 規 模
B7: 番号 | C7: 延長 （ｍ） | D7: 健全性の診断の 区分 | E7: 対策区分の判定※1 | Q7: 覆工スパン長（ｍ） | U7: 変状の発生範囲の規模（㎡）
E8: 外力 | I8: 材質劣化 | M8: 漏水 | Q8: 外力 注2 | U8: 材質劣化 | Y8: 漏水
E9: Ⅳ | F9: Ⅲ | G9: Ⅱa | H9: Ⅱb | I9: Ⅳ | J9: Ⅲ | K9: Ⅱa | L9: Ⅱb | M9: Ⅳ | N9: Ⅲ | O9: Ⅱa | P9: Ⅱb | Q9: Ⅳ | R9: Ⅲ | S9: Ⅱa | T9: Ⅱb | U9: Ⅳ | V9: Ⅲ | W9: Ⅱa | X9: Ⅱb | Y9: Ⅳ | Z9: Ⅲ | AA9: Ⅱa | AB9: Ⅱb
