Workbook
Name その他: '(参考)リスト'!$C$47
Name その他施設: '[1](参考)リスト'!#REF!
Name その他施設: '(参考)リスト'!$C$79:$C$83
Name 換気施設: '[1](参考)リスト'!#REF!
Name 換気施設: '(参考)リスト'!$C$56:$C$60
Name 坑門: '(参考)リスト'!$C$31:$C$32
Name 照明施設: '[1](参考)リスト'!#REF!
Name 照明施設: '(参考)リスト'!$C$52:$C$54
Name 対象箇所: [2]!テーブル1[対象箇所]
Name 天井板: '(参考)リスト'!$C$37:$C$39
Name 内装板: '(参考)リスト'!$C$34:$C$35
Name 非常用施設: '[1](参考)リスト'!#REF!
Name 非常用施設: '(参考)リスト'!$C$62:$C$77
Name 覆工: '(参考)リスト'!$C$16:$C$29
Name 路面: '(参考)リスト'!$C$41:$C$45

Sheet 点検様式作成フロー
A1: 点検様式作成フロ-
A3: 作成フロー図 | H3: 点検調書作成手順
H4: ①様式A-1～A-3（トンネル台帳）
H5: トンネル点検の実施にあたっては，現場点検作業に先行してトンネル情報を収集する。トンネル台帳（様式Ａ－1～様式Ａ－3）はトンネル完成後に作成され，維持管理の段階で引き継がれるが，関連資料等を確認したうえで，追加情報があれば必要に応じて追記することが望ましい。
H9: ②様式D-2-1、様式D-2-1´
H10: 現場点検作業を実施し，近接目視点検で確認した変状状況や補修履歴を忠実に変状展開図に転記する。
H12: ③様式D-1-1、様式D-1-2
H13: 変状展開図や撮影した写真等をもとに，対象トンネルの対策区分を決定し，対策区分がⅡ～Ⅳの変状および異常判定区分「×」を抽出し，写真台帳を作成する。
H16: ④様式B
H17: 写真台帳の作成と同時に，トンネルの構造を展開した位置図に変状写真位置を記録する。
H19: ⑤様式D-3
H20: 変状展開図ならびに写真台帳をもとに覆工スパンごとの変状展開図を作成し，変状発生状況をとりまとめる。
H22: ⑥様式E
H23: 近接目視または打音検査，触診ができていない箇所および近接目視によらない方法を講じた場所に対する調査結果を記録する。
... H33: すること。 ※各ファイルとも（参考）リストのシートを付けて保存すること。

Sheet 変状面積算出方法
A1: 変状面積算出方法
A26: 注1）外力による変状：ひび割れや圧ざの場合は変状の寸法を記録する。
A27: 例）ひび割れ：長さ（L）×最大ひび割れ幅（t）を記録する。 変形，移動，沈下：数値的な記載が可能な場合のみ記載する。
A28: 注2）材料劣化による：打音異常
A29: 例）うき，はく離（閉合ひび割れ）：変状範囲を包括する寸法（L×W） うき，はく離（ひび割れ沿い）：打音異常箇所を包括する寸法（L×W） 鋼材腐食（鉄筋腐食）：一括した対策が適当と考えられる範囲を包括する寸法（L×W）
A30: 注3）漏水による変状：漏水発生範囲を包括し，垂れ下がりの可能性がある側壁下端まで含めた寸法を，L×Wで記録する。打継ぎ目地沿いの 漏水については目地を跨いだ50cm幅を横幅とする。

Sheet 記入の留意点
B2: トンネルDBでは、Excelに記載された文字や数値・配置された画像を自動的に読込みデータベースへ登録します。
B3: 記録様式へ記入の留意点を下記に示します。
B5: １．記録様式への記入
C6: ➤各セルに表示されるコメントに従って、様式A-1～様式Gのシートに、点検結果（テキスト入力、選択項目）を入力してください。
C7: ➤位置図(様式B)、変状写真(様式D-1-1)、異常写真(様式D-1-2)は記入した変状写真番号等に対応した画像を間違いないように貼り付けてください。
C8: ➤列や行の挿入削除は行わず、セルの位置がずれないようにしてください。データベースへ読み取り時にずれて取り込まれてしまいます。
B11: ２．画像ファイルの配置の注意点
C12: 登録に使用可能な画像ファイルの拡張子は「jpg」「jpeg」「png」の3種類のみです。
C13: 必ず、１か所に画像１枚のみを張り付けてください。エクセルの図形などのオブジェクトは使用しないでください。
C14: 張り付けた画像はエクセルのトリミング機能を使用しないでください。あらかじめ切り抜いた画像を利用してください。
C15: ※１ 画像の左上を必ずセルの内部に含め、はみ出ないようにしてください。
C16: ※２ 図の書式設定で「セルに合わせて移動やサイズを変更しない」のモードを使用しないでください。
C32: ※３ 「挿入」→「画像」→「セルの上に配置」してください。
B41: ３．シート名の連番について
C42: １ページに記載しきれない場合は、１シート内にページを増やすのではなくシート自体をコピーしシート名の末尾を連番にしてください。
C43: 対象様式
C44: 様式B
C45: 様式D-1-1
C46: 様式D-1-2
C47: 様式D-2-1
C48: 様式D-2-1´
C49: 様式D-3_S00 ※スパン名を記載
C50: 様式G
C52: 末尾の連番の形式例
C53: 様式B(1) 様式B(2) 様式B(3)
C54: 様式B_001 様式B_002 様式B_003
... C61: で示される要領を制限するものではありません。

Sheet 様式A-1
B2: ■トンネル台帳 トンネル諸元、非常用施設諸元 【様式A-1】 | S2: 施設ID | W2: 34.28772,131.96019
B3: フリガナ | D3: (ﾋｴﾊﾞﾗｽﾞｲﾄﾞｳ) | H3: 路線名 | J3: 一般国道187号 | P3: 管理者名 | R3: 山口県 岩国土木建築事務所 | W3: 緊急輸送道路 | Z3: 一次
B4: 名 称 | D4: 稗原隧道 | W4: 代替路の有無 | Z4: 有
B5: 所在地 | D5: 自 | E5: 山口県岩国市錦町中ノ瀬地先 | H5: 作成者 | K5: 応用地質（株）・太田 裕之 | P5: 作成年月日 | R5: 45875 | U5: トンネル延長 | X5: L= | Z5: 92 | AB5: ｍ
D6: 至 | E6: 山口県岩国市錦町中ノ瀬地先 | U6: ﾄﾝﾈﾙの分類 | X6: 陸上トンネル（掘進工法）
B7: 起点 | C7: 緯度 | E7: 34.28772 | H7: 完成年月日 | K7: 1967年 | M7: 舗装 | O7: 種 別 | Q7: ｺﾝｸﾘｰﾄ系 | S7: トンネル非常用施設 | T7: 施設の内訳 | X7: 種別・方式 | Y7: 型式 | Z7: 個数 | AA7: 更新年度 | AE7: =INT(E7/10000) -> 0 | AF7: =INT(E7/100)-AE7*100 -> 0 | AG7: =E7-AE7*10000-AF7*100 -> 34.28772 | AH7: =ROUND(AE7+AF7/60+AG7/60/60,5) -> 0.00952 | AI7: =TEXT(AH7,"0.00000") -> 0.00952
C8: 経度 | E8: 131.96019 | H8: 供用年月日 | O8: 厚 さ | Q8: 0.15m | T8: 通報設備 | U8: 通話型通報設備 | AE8: =INT(E8/10000) -> 0 | AF8: =INT(E8/100)-AE8*100 -> 1 | AG8: =E8-AE8*10000-AF8*100 -> 31.96019 | AH8: =ROUND(AE8+AF8/60+AG8/60/60,5) -> 0.02554 | AI8: =TEXT(AH8,"0.00000") -> 0.02554
B9: 終点 | C9: 緯度 | E9: 34.28763 | H9: トンネル等級 | K9: D | O9: 面 積 | U9: 操作型通報設備
C10: 経度 | E10: 131.95912 | H10: 内装種類 | K10: 覆工（内装なし） | O10: 更新年次 | U10: 自動通報設備
B11: 一般有料区分 | E11: 一般（無料） | H11: 天井板種類 | K11: 覆工（内装なし） | M11: 排水 | O11: 種 別 | Q11: U型側溝 | T11: 警報設備 | U11: 非常警報設備
B12: 土かぶり | E12: 0 | G12: m | H12: 坑門 | I12: 起点 | J12: 形式 | K12: 面壁型 | O12: 更新年次 | T12: 消火設備 | U12: 消 火 器
B13: 内空断面積 | G13: m2 | J13: 延長 | K13: 1.75 | L13: m | M13: 施設 | P13: 種別・方式 | Q13: 個数 | R13: 更新年次 | U13: 消火栓設備
B14: 交 通 量 | E14: 2035 | G14: 台/日 | I14: 終点 | J14: 形式 | K14: 面壁型 | M14: 道路附属物等 | N14: 照明 | T14: 避難誘導設備 | U14: 誘導表示設備
C15: 道 路 幅 | E15: 7.5 | G15: m | J15: 延長 | K15: 1.45 | L15: m | N15: 換気 | U15: 避難情報提供設備
B16: 幅 員 | C16: 車 道 幅 | E16: 3.5 | G16: m | H16: 竣工巻厚 | I16: アーチ | L16: cm | N16: 標識
E17: 3.5 | G17: m | I17: 側 壁 | L17: cm | N17: 警報表示板 | U17: 避難通路
C18: 歩道等幅 | E18: 0.5 | G18: m | L18: cm | N18: 吸音板 | U18: 排煙設備
B19: 高さ | C19: 建築限界高 | E19: 4.5 | G19: m | I19: インバート | L19: cm | T19: その他の設備 | U19: 給水栓設備
C20: 中央高 | G20: m | H20: 半径 | I20: アーチ | L20: cm | U20: 無線通信補助設備
C21: 有効高 | E21: 4.5 | G21: m | I21: 側 壁 | L21: cm | U21: 水噴霧設備
C22: 縦断勾配 | E22: 3 | I22: インバート | L22: cm | U22: 監視設備
B23: 線 形 | C23: 直線区間長 | E23: 0 | H23: 占用物件 | I23: 種 類 | K23: 寸 法 | M23: 管理者名 | Q23: 更新年次 | S23: 非常用施設 関連設備 | U23: 予備発電設備
C24: 曲線区間 | D24: 区間長
D25: 起点側ｸﾛｿｲﾄﾞ
D26: 曲線半径
D27: 終点側ｸﾛｿｲﾄﾞ | S27: その他 | U27: 非常駐車帯
B28: トンネル工法 | E28: 矢板工法 | U28: 方向転換所
C29: ※緯度・経度については、十進緯度経度小数第５位で記入すること。

Sheet 様式A-2
B3: ■トンネル台帳 トンネル情報一覧表 【様式A-2】
B4: フリガナ | E4: (ﾋｴﾊﾞﾗｽﾞｲﾄﾞｳ) | J4: 路線名 | M4: 一般国道187号 | S4: 作成者 | Y4: 応用地質（株）・太田 裕之 | AE4: 作成年月日 | AI4: 45875
B5: 名 称 | E5: 稗原隧道 | J5: 管理者名 | M5: 山口県岩国土木建築事務所
B6: 覆工 ｽﾊﾟﾝ 番号 | C6: ｽﾊﾟﾝ長 | D6: 追加距離 | F6: トンネル本体工 | K6: 照明施設 | O6: 非常用施設 | AE6: 換気施設 | AK6: その他附属物等
O7: 通報設備 | R7: 警報設備 | S7: 消火設備 | U7: 避難誘導設備 | Y7: その他の設備 | AC7: 特記事項
D8: 起点側 | E8: 終点側 | F8: 特記事項 | I8: 内装板 | J8: 天井板 | K8: 基本照明 | L8: 入口出口照明 | M8: 特記事項 | O8: 通話型通報設備 | P8: 操作型通報設備 | Q8: 自動通報設備 | R8: 非常警報設備 | S8: 消 火 器 | T8: 消火栓設備 | U8: 誘導表示設備 | V8: 避難情報提供設備 | W8: 避難通路 | X8: 排煙設備 | Y8: 給水栓設備 | Z8: 無線通信補助設備 | AA8: 水噴霧設備 | AB8: 監視設備 | AE8: JF | AF8: VI計 | AG8: CO計 | AH8: 風向 風速計 | AI8: 特記事項
C9: (m) | D9: (m) | E9: (m)
B10: PS | C10: 1.75 | D10: 0 | E10: 1.75 | F10: 坑門（面壁型）
B11: 1 | C11: 2.55 | D11: 1.75 | E11: 4.3
B12: 2 | C12: 5.95 | D12: 4.3 | E12: 10.25
B13: 3 | C13: 6 | D13: 10.25 | E13: 16.25
B14: 4 | C14: 6 | D14: 16.25 | E14: 22.25
B15: 5 | C15: 5.8 | D15: 22.25 | E15: 28.05
B16: 6 | C16: 5.95 | D16: 28.05 | E16: 34
B17: 7 | C17: 5.8 | D17: 34 | E17: 39.8
B18: 8 | C18: 5.95 | D18: 39.8 | E18: 45.75
B19: 9 | C19: 5.8 | D19: 45.75 | E19: 51.55
B20: 10 | C20: 5.95 | D20: 51.55 | E20: 57.5
B21: 11 | C21: 5.9 | D21: 57.5 | E21: 63.4
B22: 12 | C22: 5.85 | D22: 63.4 | E22: 69.25
... B26: 16 | C26: 5.9 | D26: 84.4 | E26: 90.3
B27: PE | C27: 1.45 | D27: 90.3 | E27: 91.75 | F27: 坑門（面壁型）
B50: ※ 行が不足する場合は、適時、表の行を増やすこと。

Sheet 様式A-3
B3: ■トンネル台帳 トンネル記録（位置図、断面図、施工実績他）【様式A-3】
B4: フリガナ | E4: (ﾋｴﾊﾞﾗｽﾞｲﾄﾞｳ) | J4: 路線名 | M4: 一般国道187号 | S4: 作成者 | W4: 応用地質（株）・太田 裕之 | AC4: 作成年月日 | AF4: 45875
B5: 名 称 | E5: 稗原隧道 | J5: 管理者名 | M5: 山口県岩国土木建築事務所
B6: 位置図・現況写真・標準断面図・地質縦断図・施工実績
B20: ■トンネル台帳 トンネル記録（位置図、断面図、施工実績他）【様式A-3】
B21: フリガナ | E21: (ﾋｴﾊﾞﾗｽﾞｲﾄﾞｳ) | J21: 路線名 | M21: 一般国道187号 | S21: 作成者 | W21: 応用地質（株）・太田 裕之 | AC21: 作成年月日 | AF21: 45875
B22: 名 称 | E22: 稗原隧道 | J22: 管理者名 | M22: 山口県岩国土木建築事務所
B23: 位置図・現況写真・標準断面図・地質縦断図・施工実績

Sheet 様式B_001
B2: ■定期点検記録様式 トンネル変状・異常箇所写真位置図 【様式B】 | N2: 定期点検年月日 | P2: 45840 | S2: 施設ID | V2: 34.28772,131.96019
B3: フリガナ | C3: (ﾋｴﾊﾞﾗｽﾞｲﾄﾞｳ) | G3: 路線名 | H3: 一般国道187号 | K3: 管理者名 | L3: 山口県 岩国土木建築事務所 | Q3: 定期点検実施者 | S3: 応用地質（株） | V3: 起点 | W3: 緯度 | X3: 34.28772
B4: 名 称 | C4: 稗原隧道 | S4: 太田 裕之 | W4: 経度 | X4: 131.96019
B5: 所在地 | C5: 自 | D5: 山口県岩国市錦町中ノ瀬地先 | G5: トンネル工法 | I5: 矢板工法 | L5: トンネル延長 | N5: L= | O5: 92 | P5: ｍ | Q5: 自専道 or 一般道 | R5: 一般道 | S5: 代替路の有無 | U5: 有 | V5: 終点 | W5: 緯度 | X5: 34.28763
C6: 至 | D6: 山口県岩国市錦町中ノ瀬地先 | G6: 建設年度 | I6: 1967 | L6: 幅員 | N6: L= | O6: 7.5 | P6: ｍ | S6: 緊急輸送道路 | U6: 一次 | W6: 経度 | X6: 131.95912
B7: トンネル毎 の健全性の 診断の区分 | D7: Ⅲ
G8: 変状・異常 箇所数合計 | I8: トンネル本体工 | J8: 材質劣化 | K8: Ⅱ | L8: 12 | N8: Ⅲ | O8: 3 | Q8: Ⅳ | R8: 0 | T8: 附属物等 の取付状態 | V8: ◯ （応急措置後) | X8: 0
J9: 漏水 | K9: Ⅱ | L9: 44 | N9: Ⅲ | O9: 1 | Q9: Ⅳ | R9: 0
V10: ✕ | X10: 0
J11: 外力 | K11: Ⅱ | L11: 1 | N11: Ⅲ | O11: 0 | Q11: Ⅳ | R11: 0
B12: トンネル変状・異常箇所写真位置図
J29: 注１：本位置図は、見下げた状態で記載すること。 注２：覆工スパン番号は横断目地毎(矢板工法の場合は上半アーチの 横断目地毎)に設定すること。 | Q29: 注３：写真番号に付する変状番号は、各覆工スパンの変状に対して新たに確認された場合 は順次追加していくこと。 注４：横断目地の変状は前の覆工スパン番号で計上すること。 注５：１枚に収まらない場合は、複数枚に分けて作成すること。
C30: ※1 トンネル本体工の変状数は、材質劣化、漏水に起因するものは変状単位で、外力に起因するものはスパン単位で計上すること。
C31: ※2 トンネル本体工の変状に対しては、措置の必要性（Ⅱ～Ⅳ）について表記すること。また、点検前に実施された措置によりⅠと判定された箇所についても記載すること。
C32: ※3 附属物等の取付状態の○欄については、応急措置前に判定区分×とした箇所のうち応急措置により○判定とした箇所の数を記入すること。
C33: ※4 附属物等の異常番号は、本体工と番号が重複しないよう101番以降とする等の配慮を行い、分かりやすく記録すること。

Sheet 様式B_002
B2: ■定期点検記録様式 トンネル変状・異常箇所写真位置図 【様式B】 | N2: 定期点検年月日 | P2: 45840 | S2: 施設ID | V2: 34.28772,131.96019
B3: フリガナ | C3: (ﾋｴﾊﾞﾗｽﾞｲﾄﾞｳ) | G3: 路線名 | H3: 一般国道187号 | K3: 管理者名 | L3: 山口県 岩国土木建築事務所 | Q3: 定期点検実施者 | S3: 応用地質（株） | V3: 起点 | W3: 緯度 | X3: 34.28772
B4: 名 称 | C4: 稗原隧道 | S4: 太田 裕之 | W4: 経度 | X4: 131.96019
B5: 所在地 | C5: 自 | D5: 山口県岩国市錦町中ノ瀬地先 | G5: トンネル工法 | I5: 矢板工法 | L5: トンネル延長 | N5: L= | O5: 92 | P5: ｍ | Q5: 自専道 or 一般道 | R5: 一般道 | S5: 代替路の有無 | U5: 有 | V5: 終点 | W5: 緯度 | X5: 34.28763
C6: 至 | D6: 山口県岩国市錦町中ノ瀬地先 | G6: 建設年度 | I6: 1967 | L6: 幅員 | N6: L= | O6: 7.5 | P6: ｍ | S6: 緊急輸送道路 | U6: 一次 | W6: 経度 | X6: 131.95912
B7: トンネル毎 の健全性の 診断の区分 | D7: Ⅲ
G8: 変状・異常 箇所数合計 | I8: トンネル本体工 | J8: 材質劣化 | K8: Ⅱ | L8: 12 | N8: Ⅲ | O8: 3 | Q8: Ⅳ | R8: 0 | T8: 附属物等 の取付状態 | V8: ◯ （応急措置後) | X8: 0
J9: 漏水 | K9: Ⅱ | L9: 44 | N9: Ⅲ | O9: 1 | Q9: Ⅳ | R9: 0
V10: ✕ | X10: 0
J11: 外力 | K11: Ⅱ | L11: 1 | N11: Ⅲ | O11: 0 | Q11: Ⅳ | R11: 0
B12: トンネル変状・異常箇所写真位置図
J29: 注１：本位置図は、見下げた状態で記載すること。 注２：覆工スパン番号は横断目地毎(矢板工法の場合は上半アーチの 横断目地毎)に設定すること。 | Q29: 注３：写真番号に付する変状番号は、各覆工スパンの変状に対して新たに確認された場合 は順次追加していくこと。 注４：横断目地の変状は前の覆工スパン番号で計上すること。 注５：１枚に収まらない場合は、複数枚に分けて作成すること。
C30: ※1 トンネル本体工の変状数は、材質劣化、漏水に起因するものは変状単位で、外力に起因するものはスパン単位で計上すること。
C31: ※2 トンネル本体工の変状に対しては、措置の必要性（Ⅱ～Ⅳ）について表記すること。また、点検前に実施された措置によりⅠと判定された箇所についても記載すること。
C32: ※3 附属物等の取付状態の○欄については、応急措置前に判定区分×とした箇所のうち応急措置により○判定とした箇所の数を記入すること。
C33: ※4 附属物等の異常番号は、本体工と番号が重複しないよう101番以降とする等の配慮を行い、分かりやすく記録すること。

Sheet 様式B_003
B2: ■定期点検記録様式 トンネル変状・異常箇所写真位置図 【様式B】 | N2: 定期点検年月日 | P2: 45840 | S2: 施設ID | V2: 34.28772,131.96019
B3: フリガナ | C3: (ﾋｴﾊﾞﾗｽﾞｲﾄﾞｳ) | G3: 路線名 | H3: 一般国道187号 | K3: 管理者名 | L3: 山口県 岩国土木建築事務所 | Q3: 定期点検実施者 | S3: 応用地質（株） | V3: 起点 | W3: 緯度 | X3: 34.28772
B4: 名 称 | C4: 稗原隧道 | S4: 太田 裕之 | W4: 経度 | X4: 131.96019
B5: 所在地 | C5: 自 | D5: 山口県岩国市錦町中ノ瀬地先 | G5: トンネル工法 | I5: 矢板工法 | L5: トンネル延長 | N5: L= | O5: 92 | P5: ｍ | Q5: 自専道 or 一般道 | R5: 一般道 | S5: 代替路の有無 | U5: 有 | V5: 終点 | W5: 緯度 | X5: 34.28763
C6: 至 | D6: 山口県岩国市錦町中ノ瀬地先 | G6: 建設年度 | I6: 1967 | L6: 幅員 | N6: L= | O6: 7.5 | P6: ｍ | S6: 緊急輸送道路 | U6: 一次 | W6: 経度 | X6: 131.95912
B7: トンネル毎 の健全性の 診断の区分 | D7: Ⅲ
G8: 変状・異常 箇所数合計 | I8: トンネル本体工 | J8: 材質劣化 | K8: Ⅱ | L8: 12 | N8: Ⅲ | O8: 3 | Q8: Ⅳ | R8: 0 | T8: 附属物等 の取付状態 | V8: ◯ （応急措置後) | X8: 0
J9: 漏水 | K9: Ⅱ | L9: 44 | N9: Ⅲ | O9: 1 | Q9: Ⅳ | R9: 0
V10: ✕ | X10: 0
J11: 外力 | K11: Ⅱ | L11: 1 | N11: Ⅲ | O11: 0 | Q11: Ⅳ | R11: 0
B12: トンネル変状・異常箇所写真位置図
J29: 注１：本位置図は、見下げた状態で記載すること。 注２：覆工スパン番号は横断目地毎(矢板工法の場合は上半アーチの 横断目地毎)に設定すること。 | Q29: 注３：写真番号に付する変状番号は、各覆工スパンの変状に対して新たに確認された場合 は順次追加していくこと。 注４：横断目地の変状は前の覆工スパン番号で計上すること。 注５：１枚に収まらない場合は、複数枚に分けて作成すること。
C30: ※1 トンネル本体工の変状数は、材質劣化、漏水に起因するものは変状単位で、外力に起因するものはスパン単位で計上すること。
C31: ※2 トンネル本体工の変状に対しては、措置の必要性（Ⅱ～Ⅳ）について表記すること。また、点検前に実施された措置によりⅠと判定された箇所についても記載すること。
C32: ※3 附属物等の取付状態の○欄については、応急措置前に判定区分×とした箇所のうち応急措置により○判定とした箇所の数を記入すること。
C33: ※4 附属物等の異常番号は、本体工と番号が重複しないよう101番以降とする等の配慮を行い、分かりやすく記録すること。

Sheet 様式C-1-1
B2: ■定期点検記録様式 全スパン定期点検結果総括表（トンネル本体工） 【様式C-1-1】
B3: フリガナ | F3: (ﾋｴﾊﾞﾗｽﾞｲﾄﾞｳ) | I3: 路線名 | K3: 一般国道187号 | O3: 定期点検実施者 | P3: 応用地質（株） | T3: 定期点検年月日 | X3: 45840
B4: 名 称 | F4: 稗原隧道 | I4: 管理者名 | K4: 山口県岩国土木建築事務所 | P4: 太田 裕之
B5: 定期点検結果 | C5: 覆工 スパン 番号 | E5: 変状 番号 | F5: 距離 （m） | G5: 変状部位 | I5: 変 状 の 内 容 | O5: 前回定期点検時の状態 | P5: 今回定期点検結果 | T5: 措置履歴 | Y5: 対応方針 ・ 特記事項
O6: 44030
G7: 対象箇所 | H7: 部位区分 | I7: 変状区分 | J7: 変状種類 | M7: 変状の発生範囲の規模 | N7: 前回定期点検時の変状の発生範囲及び規模 | O7: 対策区分 | P7: 対策区分 | R7: 調査の 要否 | S7: 措置の 要否 | T7: 実施 | U7: 措置の実施状況
P8: 応急措置前 | Q8: 応急措置後
C9: PS | E9: 1 | F9: 0.2 | G9: 覆工 | H9: アーチ（左側） | I9: 材質劣化 | J9: うき・はく離 | M9: － | N9: 0.14 | O9: Ⅱa | P9: － | Q9: Ⅰ | R9: 否 | S9: 否 | T9: 済 | U9: はく落防止工(FRPネット)[実施年度:不明] | Y9: －
C10: PS | E10: 2 | F10: 0 | G10: 覆工 | H10: アーチ（天端） | I10: 材質劣化 | J10: うき・はく離 | M10: 0.06 | N10: － | O10: － | P10: － | Q10: Ⅲ | R10: 否 | S10: 要対策 | T10: 未 | U10: 早期対策 | Y10: －
C11: 2 | E11: 1 | F11: 4.7 | G11: 覆工 | H11: アーチ（右側） | I11: 材質劣化 | J11: うき・はく離 | M11: － | N11: 0.02 | O11: Ⅱa | P11: － | Q11: Ⅰ | R11: 否 | S11: 否 | T11: 済 | U11: はく落防止工(FRPネット)[実施年度:不明] | Y11: －
C12: 2 | E12: 2 | F12: 10.2 | G12: 覆工 | H12: 横断目地（右側） | I12: 漏水 | J12: 補修・補強材の破損 | M12: 0.03 | N12: 0.13 | O12: Ⅱa | P12: － | Q12: Ⅱb | R12: 否 | S12: 要監視 | T12: 継続 | U12: 監視（日常巡視） | Y12: －
C13: 2 | E13: 3 | F13: 10.2 | G13: 覆工 | H13: 横断目地（左側） | I13: 漏水 | J13: 漏水 | M13: 4 | N13: 記載なし | O13: Ⅱb | P13: － | Q13: Ⅱb | R13: 否 | S13: 要監視 | T13: 継続 | U13: 監視（日常巡視） | Y13: －
C14: 2 | E14: 4 | F14: 7.1 | G14: 覆工 | H14: アーチ（左側） | I14: 漏水 | J14: 漏水 | M14: 14.82 | N14: 記載なし | O14: Ⅱb | P14: － | Q14: Ⅱb | R14: 否 | S14: 要監視 | T14: 継続 | U14: 監視（日常巡視） | Y14: －
C15: 2 | E15: 5 | F15: 10.2 | G15: 覆工 | H15: 横断目地（左側） | I15: 材質劣化 | J15: うき・はく離 | M15: － | N15: 0.07 | O15: Ⅱa | P15: － | Q15: Ⅰ | R15: 否 | S15: 否 | T15: 済 | U15: はく落防止工(FRPネット)[実施年度:不明] | Y15: －
C16: 2 | E16: 6 | F16: 5.4 | G16: 覆工 | H16: 水平打ち継ぎ目（左側） | I16: 材質劣化 | J16: うき・はく離 | M16: － | N16: 0.05 | O16: Ⅱb | P16: － | Q16: Ⅰ | R16: 否 | S16: 否 | T16: 済 | U16: はく落防止工(FRPネット)[実施年度:不明] | Y16: －
C17: 2 | E17: 7 | F17: 4.4 | G17: 覆工 | H17: 水平打ち継ぎ目（右側） | I17: 材質劣化 | J17: うき・はく離 | M17: － | N17: 0.68 | O17: Ⅱb | P17: － | Q17: Ⅰ | R17: 否 | S17: 否 | T17: 済 | U17: はく落防止工(FRPネット)[実施年度:不明] | Y17: －
C18: 2 | E18: 8 | F18: 10.2 | G18: 覆工 | H18: 横断目地（天端） | I18: 漏水 | J18: 補修・補強材の破損 | M18: 0.07 | N18: － | O18: － | P18: － | Q18: Ⅱb | R18: 否 | S18: 要監視 | T18: 継続 | U18: 監視（日常巡視） | Y18: －
C19: 3 | E19: 1 | F19: 12 | G19: 覆工 | H19: アーチ（天端） | I19: 漏水 | J19: 漏水 | M19: 7.5 | N19: 記載なし | O19: Ⅱb | P19: － | Q19: Ⅱb | R19: 否 | S19: 要監視 | T19: 継続 | U19: 監視（日常巡視） | Y19: －
C20: 3 | E20: 2 | F20: 16.2 | G20: 覆工 | H20: 横断目地（左側） | I20: 漏水 | J20: 漏水 | M20: 1.8 | N20: 記載なし | O20: Ⅱb | P20: － | Q20: Ⅱb | R20: 否 | S20: 要監視 | T20: 継続 | U20: 監視（日常巡視） | Y20: －
C21: 3 | E21: 3 | F21: 16.2 | G21: 覆工 | H21: 横断目地（天端） | I21: 材質劣化 | J21: うき・はく離 | M21: － | N21: 0.55 | O21: Ⅱa | P21: － | Q21: Ⅰ | R21: 否 | S21: 否 | T21: 済 | U21: はく落防止工(FRPネット)[実施年度:不明] | Y21: －
C22: 3 | E22: 4 | F22: 14.7 | G22: 覆工 | H22: アーチ（天端） | I22: 材質劣化 | J22: うき・はく離 | M22: 0.04 | N22: 0.04 | O22: Ⅱa | P22: － | Q22: Ⅱa | R22: 否 | S22: 要監視 | T22: 継続 | U22: 監視（重点） | Y22: －
C23: 3 | E23: 5 | F23: 10.3 | G23: 覆工 | H23: 水平打ち継ぎ目（左側） | I23: 材質劣化 | J23: うき・はく離 | M23: － | N23: 0.65 | O23: Ⅱb | P23: － | Q23: Ⅰ | R23: 否 | S23: 否 | T23: 済 | U23: はく落防止工(FRPネット)[実施年度:不明] | Y23: －
C24: 3 | E24: 6 | F24: 11.8 | G24: 覆工 | H24: 水平打ち継ぎ目（右側） | I24: 材質劣化 | J24: うき・はく離 | M24: － | N24: 0.45 | O24: Ⅱb | P24: － | Q24: Ⅰ | R24: 否 | S24: 否 | T24: 済 | U24: はく落防止工(FRPネット)[実施年度:不明] | Y24: －
C25: 3 | E25: 7 | F25: 10.3 | G25: 覆工 | H25: 水平打ち継ぎ目（右側） | I25: 材質劣化 | J25: うき・はく離 | M25: － | N25: 0.23 | O25: Ⅱb | P25: － | Q25: Ⅰ | R25: 否 | S25: 否 | T25: 済 | U25: はく落防止工(FRPネット)[実施年度:不明] | Y25: －
C26: 3 | E26: 8 | F26: 16.2 | G26: 覆工 | H26: 横断目地（右側） | I26: 漏水 | J26: 補修・補強材の破損 | M26: 0.08 | N26: － | O26: － | P26: － | Q26: Ⅱb | R26: 否 | S26: 要監視 | T26: 継続 | U26: 監視（日常巡視） | Y26: －
C27: 4 | E27: 1 | F27: 17 | G27: 覆工 | H27: アーチ（右側） | I27: 材質劣化 | J27: 鋼材腐食 | M27: 0.01 | N27: 0.01 | O27: Ⅱb | P27: Ⅱb | Q27: Ⅰ | R27: 否 | S27: 否 | T27: 済 | U27: － | Y27: 今回点検時に番線撤去
C28: 4 | E28: 2 | F28: 22.2 | G28: 覆工 | H28: 横断目地（天端） | I28: 材質劣化 | J28: うき・はく離 | M28: － | N28: 0.65 | O28: Ⅱa | P28: － | Q28: Ⅰ | R28: 否 | S28: 否 | T28: 済 | U28: はく落防止工(FRPネット)[実施年度:不明] | Y28: －
C29: 4 | E29: 3 | F29: 22.2 | G29: 覆工 | H29: 水平打ち継ぎ目（右側） | I29: 漏水 | J29: 補修・補強材の破損 | M29: 0.12 | N29: 0.12 | O29: Ⅱa | P29: － | Q29: Ⅱa | R29: 否 | S29: 要監視 | T29: 継続 | U29: 監視（重点） | Y29: －
C30: 4 | E30: 4 | F30: 22.2 | G30: 覆工 | H30: 横断目地（天端） | I30: 漏水 | J30: 漏水 | M30: 4 | N30: 記載なし | O30: Ⅱa | P30: － | Q30: Ⅱa | R30: 否 | S30: 要監視 | T30: 継続 | U30: 監視（重点） | Y30: －
C31: 4 | E31: 5 | F31: 22.2 | G31: 覆工 | H31: 横断目地（左側） | I31: 漏水 | J31: 補修・補強材の破損 | M31: 0.05 | N31: 0.15 | O31: Ⅱa | P31: － | Q31: Ⅱa | R31: 否 | S31: 要監視 | T31: 継続 | U31: 監視（重点） | Y31: －
C32: 4 | E32: 6 | F32: 16.3 | G32: 覆工 | H32: 水平打ち継ぎ目（左側） | I32: 材質劣化 | J32: うき・はく離 | M32: － | N32: 0.64 | O32: Ⅱb | P32: － | Q32: Ⅰ | R32: 否 | S32: 否 | T32: 済 | U32: はく落防止工(FRPネット)[実施年度:不明] | Y32: －
C33: 4 | E33: 7 | F33: 20.8 | G33: 覆工 | H33: 側壁（左側） | I33: 漏水 | J33: 漏水 | M33: 1.23 | N33: 記載なし | O33: Ⅱb | P33: － | Q33: Ⅱb | R33: 否 | S33: 要監視 | T33: 継続 | U33: 監視（日常巡視） | Y33: －
C34: 4 | E34: 8 | F34: 22.2 | G34: 覆工 | H34: 横断目地（天端） | I34: 漏水 | J34: 漏水 | M34: 3.7 | N34: 記載なし | O34: Ⅱb | P34: － | Q34: Ⅱb | R34: 否 | S34: 要監視 | T34: 継続 | U34: 監視（日常巡視） | Y34: －
C35: 4 | E35: 9 | F35: 16.3 | G35: 覆工 | H35: 水平打ち継ぎ目（右側） | I35: 材質劣化 | J35: うき・はく離 | M35: － | N35: 0.21 | O35: Ⅱb | P35: － | Q35: Ⅰ | R35: 否 | S35: 否 | T35: 済 | U35: はく落防止工(FRPネット)[実施年度:不明] | Y35: －
C36: 5 | E36: 1 | F36: 27.4 | G36: 覆工 | H36: アーチ（天端） | I36: 材質劣化 | J36: うき・はく離 | M36: － | N36: 0.16 | O36: Ⅱa | P36: － | Q36: Ⅰ | R36: 否 | S36: 否 | T36: 済 | U36: はく落防止工(FRPネット)[実施年度:不明] | Y36: －
C37: 5 | E37: 2 | F37: 24.9 | G37: 覆工 | H37: アーチ（左側） | I37: 漏水 | J37: 漏水 | M37: 14.08 | N37: 記載なし | O37: Ⅱb | P37: － | Q37: Ⅱb | R37: 否 | S37: 要監視 | T37: 継続 | U37: 監視（日常巡視） | Y37: －
C38: 5 | E38: 3 | F38: 34 | G38: 覆工 | H38: 横断目地（天端） | I38: 材質劣化 | J38: うき・はく離 | M38: － | N38: 0.25 | O38: Ⅱb | P38: － | Q38: Ⅰ | R38: 否 | S38: 否 | T38: 済 | U38: はく落防止工(FRPネット)[実施年度:不明] | Y38: －
C39: 5 | E39: 4 | F39: 24.2 | G39: 覆工 | H39: アーチ（右側） | I39: 漏水 | J39: 漏水 | M39: 5.4 | N39: 記載なし | O39: Ⅱb | P39: － | Q39: Ⅱb | R39: 否 | S39: 要監視 | T39: 継続 | U39: 監視（日常巡視） | Y39: －
C40: 5 | E40: 5 | F40: 28 | G40: 覆工 | H40: 横断目地（天端） | I40: 漏水 | J40: 漏水 | M40: 3.5 | N40: 記載なし | O40: Ⅱb | P40: － | Q40: Ⅱb | R40: 否 | S40: 要監視 | T40: 継続 | U40: 監視（日常巡視） | Y40: －
C41: 5 | E41: 6 | F41: 22.3 | G41: 覆工 | H41: 横断目地（左側） | I41: 材質劣化 | J41: うき・はく離 | M41: 0.03 | N41: 0.03 | O41: Ⅱb | P41: － | Q41: Ⅰ | R41: 否 | S41: 否 | T41: 済 | U41: － | Y41: －
...

Sheet 様式C-1-2
B2: ■定期点検記録様式 定期点検結果総括表（トンネル内附属物等の取付状態） 【様式C-1-2】
B3: フリガナ | F3: (ﾋｴﾊﾞﾗｽﾞｲﾄﾞｳ) | J3: 路線名 | K3: 一般国道187号 | M3: 定期点検実施者 | O3: 応用地質（株） | S3: 定期点検年月日 | W3: 45840
B4: 名 称 | F4: 稗原隧道 | J4: 管理者名 | K4: 山口県岩国土木建築事務所 | O4: 太田 裕之
B5: 定期点検結果 | C5: 覆工 スパン 番号 | E5: 異常 番号 | F5: 距離 （m） | G5: 異常部位 | J5: 異 常 の 内 容 | N5: 定期点検結果 | P5: 応急措置の 実施状況 | V5: 対応方針 ・ 特記事項
G6: 対象箇所 | I6: 部位区分 | J6: 異常種類 | L6: 異常の発生範囲の規模 | N6: 異常判定区分 | P6: 実施 | Q6: 応急措置の内容
N7: 応急措置前 | O7: 応急措置後
C42: ※ 異常判定区分×について記入すること。また、応急措置により○と判定された箇所も記入すること。
C43: ※ 応急措置を実施しないで判定した箇所の異常判定区分は、異常判定区分の応急措置後の欄に記入すること。
C44: ※ 異常の除去が不完全で、緊急対応が必要な場合は対応方針欄に記入すること。
C45: ※ １スパンの覆工に複数の異常がある場合は、異常箇所毎に記入すること。
C46: ※ 行が不足する場合は、適時、表の行を増やすこと。

Sheet 様式C-2
B2: ■定期点検記録様式 状態の把握の内容 【様式C-2】
B3: フリガナ | E3: (ﾋｴﾊﾞﾗｽﾞｲﾄﾞｳ) | H3: 路線名 | J3: 一般国道187号 | M3: 定期点検実施者 | Q3: 応用地質（株） | U3: 定期点検年月日 | X3: 45840
B4: 名 称 | E4: 稗原隧道 | H4: 管理者名 | J4: 山口県岩国土木建築事務所 | Q4: 太田 裕之
B5: 状態の把握の内容 | C5: 覆工スパン 番号 | E5: 変状 番号 | F5: 状態の把握の内容
F6: 年月日 | H6: 内容 | O6: 結果 | Y6: 対策区分の 判定
B22: 注）状態の把握において、微破壊・非破壊検査や各種試験等を実施した場合について記載する。
B23: ※ 行が不足する場合は、適時、表の行を増やすこと。

Sheet 様式D-1-1_001
B2: ■定期点検記録様式 変状写真台帳【様式D-1-1】 | R2: 施設ID | T2: 34.28772,131.96019
B3: フリガナ | E3: (ﾋｴﾊﾞﾗｽﾞｲﾄﾞｳ) | H3: 路 線 名 | J3: 一般国道187号 | M3: 定期点検実施者 | P3: 応用地質（株） | S3: 定期点検年月日 | U3: 45840
B4: 名 称 | E4: 稗原隧道 | H4: 管理者名 | J4: 山口県岩国土木建築事務所 | P4: 太田 裕之
B5: 写真 番号 | C5: 覆工スパン 番号 | E5: PS | F5: 余 白 | M5: 写真 番号 | N5: 覆工スパン 番号 | P5: PS | Q5: 余 白
C6: 変状番号 | E6: 1 | N6: 変状番号 | P6: 2
B7: 変状 部位 | C7: 対象箇所 | E7: 覆工 | M7: 変状 部位 | N7: 対象箇所 | P7: 覆工
C8: 部位区分 | E8: アーチ（左側） | N8: 部位区分 | P8: アーチ（天端）
B9: 変状種類 | E9: うき・はく離 | M9: 変状種類 | P9: うき・はく離
B10: 対策 区分 | C10: 変状区分 | E10: 材質劣化 | M10: 対策 区分 | N10: 変状区分 | P10: 材質劣化
C11: 応急措置前 | E11: － | N11: 応急措置前 | P11: －
C12: 応急措置後 | E12: Ⅰ | N12: 応急措置後 | P12: Ⅲ
B13: 変状の発生範囲及び規模 | E13: － | H13: 前回変状の発生範囲及び規模 | J13: 0.14㎡（0.15m×0.9m） | M13: 変状の発生範囲及び規模 | P13: 0.06㎡（0.6m×0.1m） | S13: 前回変状の発生範囲及び規模 | U13: なし
B14: 対策履歴 | E14: はく落防止工(FRPネット) | H14: 実施状況（実施日） | J14: － | M14: 対策履歴 | P14: なし | S14: 実施状況（実施日） | U14: －
B15: メモ | E15: 対策済み 【前回定期点検 Ⅱa判定】 | M15: メモ | P15: 豆板、ぐらつきあり、打音異常あり、浸透固化材塗布 【今回新たに確認】
B16: 写真 番号 | C16: 覆工スパン 番号 | F16: 余 白 | M16: 写真 番号 | N16: 覆工スパン 番号 | Q16: 余 白
C17: 変状番号 | N17: 変状番号
B18: 変状 部位 | C18: 対象箇所 | M18: 変状 部位 | N18: 対象箇所
C19: 部位区分 | N19: 部位区分
B20: 変状種類 | M20: 変状種類
B21: 対策 区分 | C21: 変状区分 | M21: 対策 区分 | N21: 変状区分
C22: 応急措置前 | N22: 応急措置前
C23: 応急措置後 | N23: 応急措置後
B24: 変状の発生範囲及び規模 | H24: 前回変状の発生範囲及び規模 | M24: 変状の発生範囲及び規模 | S24: 前回変状の発生範囲及び規模
B25: 対策履歴 | H25: 実施状況（実施日） | M25: 対策履歴 | S25: 実施状況（実施日）
B26: メモ | M26: メモ
C27: ※ 応急措置後の対策区分について添付すること。また、点検前に 実施された措置によりⅠと判定された箇所も添付すること。 | N27: ※ 変状の発生範囲の規模とは、対策を行う際に参考となる変状の長さや面積をいう。
N28: ※ 応急措置を実施しないで決定した変状の対策区分は、対策区分の応急措置後の欄に記入すること。
C29: ※ たたき落としを実施した場合は、実施後の写真を添付すること。 | N29: ※ 変状の発生範囲の規模は、面積・寸法を記載すること。(ひび割れ幅のみmmとし、その他をm表記とする)
C30: ※ 変状数に準じてシートを追加すること。（１シートに１ページとすること。） | N30: ※ 構造用鋼材以外の異物に伴ううき・はく離については、メモ欄に異物の概要を記入すること。

Sheet 様式D-1-1_002
B2: ■定期点検記録様式 変状写真台帳【様式D-1-1】 | R2: 施設ID | T2: 34.28772,131.96019
B3: フリガナ | E3: (ﾋｴﾊﾞﾗｽﾞｲﾄﾞｳ) | H3: 路 線 名 | J3: 一般国道187号 | M3: 定期点検実施者 | P3: 応用地質（株） | S3: 定期点検年月日 | U3: 45840
B4: 名 称 | E4: 稗原隧道 | H4: 管理者名 | J4: 山口県岩国土木建築事務所 | P4: 太田 裕之
B5: 写真 番号 | C5: 覆工スパン 番号 | E5: 2 | F5: 余 白 | M5: 写真 番号 | N5: 覆工スパン 番号 | P5: 2 | Q5: 余 白
C6: 変状番号 | E6: 1 | N6: 変状番号 | P6: 2
B7: 変状 部位 | C7: 対象箇所 | E7: 覆工 | M7: 変状 部位 | N7: 対象箇所 | P7: 覆工
C8: 部位区分 | E8: アーチ（右側） | N8: 部位区分 | P8: 横断目地（右側）
B9: 変状種類 | E9: うき・はく離 | M9: 変状種類 | P9: 補修・補強材の破損
B10: 対策 区分 | C10: 変状区分 | E10: 材質劣化 | M10: 対策 区分 | N10: 変状区分 | P10: 漏水
C11: 応急措置前 | E11: － | N11: 応急措置前 | P11: －
C12: 応急措置後 | E12: Ⅰ | N12: 応急措置後 | P12: Ⅱb
B13: 変状の発生範囲及び規模 | E13: － | H13: 前回変状の発生範囲及び規模 | J13: 0.02㎡（0.1m×0.15m） | M13: 変状の発生範囲及び規模 | P13: 0.03㎡（0.3m×0.1m） | S13: 前回変状の発生範囲及び規模 | U13: 0.13㎡（1.3m×0.1m）
B14: 対策履歴 | E14: はく落防止工(FRPネット) | H14: 実施状況（実施日） | J14: － | M14: 対策履歴 | P14: なし | S14: 実施状況（実施日） | U14: －
B15: メモ | E15: 対策済み 【前回定期点検 Ⅱa判定】 | M15: メモ | P15: 導水工の劣化、変状種類変更、軽微な為再判定 【前回定期点検 Ⅱa判定】
B16: 写真 番号 | C16: 覆工スパン 番号 | E16: 2 | F16: 余 白 | M16: 写真 番号 | N16: 覆工スパン 番号 | P16: 2 | Q16: 余 白
C17: 変状番号 | E17: 3 | N17: 変状番号 | P17: 4
B18: 変状 部位 | C18: 対象箇所 | E18: 覆工 | M18: 変状 部位 | N18: 対象箇所 | P18: 覆工
C19: 部位区分 | E19: 横断目地（左側） | N19: 部位区分 | P19: アーチ（左側）
B20: 変状種類 | E20: 漏水 | M20: 変状種類 | P20: 漏水
B21: 対策 区分 | C21: 変状区分 | E21: 漏水 | M21: 対策 区分 | N21: 変状区分 | P21: 漏水
C22: 応急措置前 | E22: － | N22: 応急措置前 | P22: －
C23: 応急措置後 | E23: Ⅱb | N23: 応急措置後 | P23: Ⅱb
B24: 変状の発生範囲及び規模 | E24: 4㎡（8m×0.5m） | H24: 前回変状の発生範囲及び規模 | J24: 記載なし | M24: 変状の発生範囲及び規模 | P24: 14.82㎡（5.7m×2.6m） | S24: 前回変状の発生範囲及び規模 | U24: 記載なし
B25: 対策履歴 | E25: なし | H25: 実施状況（実施日） | J25: － | M25: 対策履歴 | P25: なし | S25: 実施状況（実施日） | U25: －
B26: メモ | E26: 導水工から漏水、にじみ程度 【前回定期点検 Ⅱb判定】 | M26: メモ | P26: 導水工から漏水、にじみ程度(複数)、遊離石灰を伴う 【前回定期点検 Ⅱb判定】
C27: ※ 応急措置後の対策区分について添付すること。また、点検前に 実施された措置によりⅠと判定された箇所も添付すること。 | N27: ※ 変状の発生範囲の規模とは、対策を行う際に参考となる変状の長さや面積をいう。
N28: ※ 応急措置を実施しないで決定した変状の対策区分は、対策区分の応急措置後の欄に記入すること。
C29: ※ たたき落としを実施した場合は、実施後の写真を添付すること。 | N29: ※ 変状の発生範囲の規模は、面積・寸法を記載すること。(ひび割れ幅のみmmとし、その他をm表記とする)
C30: ※ 変状数に準じてシートを追加すること。（１シートに１ページとすること。） | N30: ※ 構造用鋼材以外の異物に伴ううき・はく離については、メモ欄に異物の概要を記入すること。

Sheet 様式D-1-1_003
B2: ■定期点検記録様式 変状写真台帳【様式D-1-1】 | R2: 施設ID | T2: 34.28772,131.96019
B3: フリガナ | E3: (ﾋｴﾊﾞﾗｽﾞｲﾄﾞｳ) | H3: 路 線 名 | J3: 一般国道187号 | M3: 定期点検実施者 | P3: 応用地質（株） | S3: 定期点検年月日 | U3: 45840
B4: 名 称 | E4: 稗原隧道 | H4: 管理者名 | J4: 山口県岩国土木建築事務所 | P4: 太田 裕之
B5: 写真 番号 | C5: 覆工スパン 番号 | E5: 2 | F5: 余 白 | M5: 写真 番号 | N5: 覆工スパン 番号 | P5: 2 | Q5: 余 白
C6: 変状番号 | E6: 5 | N6: 変状番号 | P6: 6
B7: 変状 部位 | C7: 対象箇所 | E7: 覆工 | M7: 変状 部位 | N7: 対象箇所 | P7: 覆工
C8: 部位区分 | E8: 横断目地（左側） | N8: 部位区分 | P8: 水平打ち継ぎ目（左側）
B9: 変状種類 | E9: うき・はく離 | M9: 変状種類 | P9: うき・はく離
B10: 対策 区分 | C10: 変状区分 | E10: 材質劣化 | M10: 対策 区分 | N10: 変状区分 | P10: 材質劣化
C11: 応急措置前 | E11: － | N11: 応急措置前 | P11: －
C12: 応急措置後 | E12: Ⅰ | N12: 応急措置後 | P12: Ⅰ
B13: 変状の発生範囲及び規模 | E13: － | H13: 前回変状の発生範囲及び規模 | J13: 0.07㎡（0.7m×0.1m） | M13: 変状の発生範囲及び規模 | P13: － | S13: 前回変状の発生範囲及び規模 | U13: 0.05㎡（0.15m×0.35m）
B14: 対策履歴 | E14: はく落防止工(FRPネット) | H14: 実施状況（実施日） | J14: － | M14: 対策履歴 | P14: はく落防止工(FRPネット) | S14: 実施状況（実施日） | U14: －
B15: メモ | E15: 対策済み 【前回定期点検 Ⅱa判定】 | M15: メモ | P15: 対策済み 【前回定期点検 Ⅱb判定】
B16: 写真 番号 | C16: 覆工スパン 番号 | E16: 2 | F16: 余 白 | M16: 写真 番号 | N16: 覆工スパン 番号 | P16: 2 | Q16: 余 白
C17: 変状番号 | E17: 7 | N17: 変状番号 | P17: 8
B18: 変状 部位 | C18: 対象箇所 | E18: 覆工 | M18: 変状 部位 | N18: 対象箇所 | P18: 覆工
C19: 部位区分 | E19: 水平打ち継ぎ目（右側） | N19: 部位区分 | P19: 横断目地（天端）
B20: 変状種類 | E20: うき・はく離 | M20: 変状種類 | P20: 補修・補強材の破損
B21: 対策 区分 | C21: 変状区分 | E21: 材質劣化 | M21: 対策 区分 | N21: 変状区分 | P21: 漏水
C22: 応急措置前 | E22: － | N22: 応急措置前 | P22: －
C23: 応急措置後 | E23: Ⅰ | N23: 応急措置後 | P23: Ⅱb
B24: 変状の発生範囲及び規模 | E24: － | H24: 前回変状の発生範囲及び規模 | J24: 0.68㎡（0.15m×4.5m） | M24: 変状の発生範囲及び規模 | P24: 0.07㎡（0.7m×0.1m） | S24: 前回変状の発生範囲及び規模 | U24: なし
B25: 対策履歴 | E25: はく落防止工(FRPネット) | H25: 実施状況（実施日） | J25: － | M25: 対策履歴 | P25: なし | S25: 実施状況（実施日） | U25: －
B26: メモ | E26: 対策済み 【前回定期点検 Ⅱb判定】 | M26: メモ | P26: 導水工の劣化 【今回新たに確認】
C27: ※ 応急措置後の対策区分について添付すること。また、点検前に 実施された措置によりⅠと判定された箇所も添付すること。 | N27: ※ 変状の発生範囲の規模とは、対策を行う際に参考となる変状の長さや面積をいう。
N28: ※ 応急措置を実施しないで決定した変状の対策区分は、対策区分の応急措置後の欄に記入すること。
C29: ※ たたき落としを実施した場合は、実施後の写真を添付すること。 | N29: ※ 変状の発生範囲の規模は、面積・寸法を記載すること。(ひび割れ幅のみmmとし、その他をm表記とする)
C30: ※ 変状数に準じてシートを追加すること。（１シートに１ページとすること。） | N30: ※ 構造用鋼材以外の異物に伴ううき・はく離については、メモ欄に異物の概要を記入すること。

Sheet 様式D-1-1_004
B2: ■定期点検記録様式 変状写真台帳【様式D-1-1】 | R2: 施設ID | T2: 34.28772,131.96019
B3: フリガナ | E3: (ﾋｴﾊﾞﾗｽﾞｲﾄﾞｳ) | H3: 路 線 名 | J3: 一般国道187号 | M3: 定期点検実施者 | P3: 応用地質（株） | S3: 定期点検年月日 | U3: 45840
B4: 名 称 | E4: 稗原隧道 | H4: 管理者名 | J4: 山口県岩国土木建築事務所 | P4: 太田 裕之
B5: 写真 番号 | C5: 覆工スパン 番号 | E5: 3 | F5: 余 白 | M5: 写真 番号 | N5: 覆工スパン 番号 | P5: 3 | Q5: 余 白
C6: 変状番号 | E6: 1 | N6: 変状番号 | P6: 2
B7: 変状 部位 | C7: 対象箇所 | E7: 覆工 | M7: 変状 部位 | N7: 対象箇所 | P7: 覆工
C8: 部位区分 | E8: アーチ（天端） | N8: 部位区分 | P8: 横断目地（左側）
B9: 変状種類 | E9: 漏水 | M9: 変状種類 | P9: 漏水
B10: 対策 区分 | C10: 変状区分 | E10: 漏水 | M10: 対策 区分 | N10: 変状区分 | P10: 漏水
C11: 応急措置前 | E11: － | N11: 応急措置前 | P11: －
C12: 応急措置後 | E12: Ⅱb | N12: 応急措置後 | P12: Ⅱb
B13: 変状の発生範囲及び規模 | E13: 7.5㎡（7.5m×1m） | H13: 前回変状の発生範囲及び規模 | J13: 記載なし | M13: 変状の発生範囲及び規模 | P13: 1.8㎡（3.6m×0.5m） | S13: 前回変状の発生範囲及び規模 | U13: 記載なし
B14: 対策履歴 | E14: なし | H14: 実施状況（実施日） | J14: － | M14: 対策履歴 | P14: なし | S14: 実施状況（実施日） | U14: －
B15: メモ | E15: ひび割れから漏水跡、遊離石灰を伴う(前回点検時遊離石灰のみ) 【前回定期点検 Ⅱb判定】 | M15: メモ | P15: 導水工から漏水、にじみ程度 【前回定期点検 Ⅱb判定】
B16: 写真 番号 | C16: 覆工スパン 番号 | E16: 3 | F16: 余 白 | M16: 写真 番号 | N16: 覆工スパン 番号 | P16: 3 | Q16: 余 白
C17: 変状番号 | E17: 3 | N17: 変状番号 | P17: 4
B18: 変状 部位 | C18: 対象箇所 | E18: 覆工 | M18: 変状 部位 | N18: 対象箇所 | P18: 覆工
C19: 部位区分 | E19: 横断目地（天端） | N19: 部位区分 | P19: アーチ（天端）
B20: 変状種類 | E20: うき・はく離 | M20: 変状種類 | P20: うき・はく離
B21: 対策 区分 | C21: 変状区分 | E21: 材質劣化 | M21: 対策 区分 | N21: 変状区分 | P21: 材質劣化
C22: 応急措置前 | E22: － | N22: 応急措置前 | P22: －
C23: 応急措置後 | E23: Ⅰ | N23: 応急措置後 | P23: Ⅱa
B24: 変状の発生範囲及び規模 | E24: － | H24: 前回変状の発生範囲及び規模 | J24: 0.55㎡（1.1m×0.5m） | M24: 変状の発生範囲及び規模 | P24: 0.04㎡（0.1m×0.35m） | S24: 前回変状の発生範囲及び規模 | U24: 0.04㎡（0.1m×0.35m）
B25: 対策履歴 | E25: はく落防止工(FRPネット) | H25: 実施状況（実施日） | J25: － | M25: 対策履歴 | P25: なし | S25: 実施状況（実施日） | U25: －
B26: メモ | E26: 対策済み 【前回定期点検 Ⅱa判定】 | M26: メモ | P26: うき、ひび割れを伴う、打音異常あり、浸透固化材塗布 【前回定期点検 Ⅱa判定】
C27: ※ 応急措置後の対策区分について添付すること。また、点検前に 実施された措置によりⅠと判定された箇所も添付すること。 | N27: ※ 変状の発生範囲の規模とは、対策を行う際に参考となる変状の長さや面積をいう。
N28: ※ 応急措置を実施しないで決定した変状の対策区分は、対策区分の応急措置後の欄に記入すること。
C29: ※ たたき落としを実施した場合は、実施後の写真を添付すること。 | N29: ※ 変状の発生範囲の規模は、面積・寸法を記載すること。(ひび割れ幅のみmmとし、その他をm表記とする)
C30: ※ 変状数に準じてシートを追加すること。（１シートに１ページとすること。） | N30: ※ 構造用鋼材以外の異物に伴ううき・はく離については、メモ欄に異物の概要を記入すること。

Sheet 様式D-1-1_005
B2: ■定期点検記録様式 変状写真台帳【様式D-1-1】 | R2: 施設ID | T2: 34.28772,131.96019
B3: フリガナ | E3: (ﾋｴﾊﾞﾗｽﾞｲﾄﾞｳ) | H3: 路 線 名 | J3: 一般国道187号 | M3: 定期点検実施者 | P3: 応用地質（株） | S3: 定期点検年月日 | U3: 45840
B4: 名 称 | E4: 稗原隧道 | H4: 管理者名 | J4: 山口県岩国土木建築事務所 | P4: 太田 裕之
B5: 写真 番号 | C5: 覆工スパン 番号 | E5: 3 | F5: 余 白 | M5: 写真 番号 | N5: 覆工スパン 番号 | P5: 3 | Q5: 余 白
C6: 変状番号 | E6: 5 | N6: 変状番号 | P6: 6
B7: 変状 部位 | C7: 対象箇所 | E7: 覆工 | M7: 変状 部位 | N7: 対象箇所 | P7: 覆工
C8: 部位区分 | E8: 水平打ち継ぎ目（左側） | N8: 部位区分 | P8: 水平打ち継ぎ目（右側）
B9: 変状種類 | E9: うき・はく離 | M9: 変状種類 | P9: うき・はく離
B10: 対策 区分 | C10: 変状区分 | E10: 材質劣化 | M10: 対策 区分 | N10: 変状区分 | P10: 材質劣化
C11: 応急措置前 | E11: － | N11: 応急措置前 | P11: －
C12: 応急措置後 | E12: Ⅰ | N12: 応急措置後 | P12: Ⅰ
B13: 変状の発生範囲及び規模 | E13: － | H13: 前回変状の発生範囲及び規模 | J13: 0.65㎡（0.15m×4.3m） | M13: 変状の発生範囲及び規模 | P13: － | S13: 前回変状の発生範囲及び規模 | U13: 0.45㎡（0.15m×3m）
B14: 対策履歴 | E14: はく落防止工(FRPネット) | H14: 実施状況（実施日） | J14: － | M14: 対策履歴 | P14: はく落防止工(FRPネット) | S14: 実施状況（実施日） | U14: －
B15: メモ | E15: 対策済み 【前回定期点検 Ⅱb判定】 | M15: メモ | P15: 対策済み 【前回定期点検 Ⅱb判定】
B16: 写真 番号 | C16: 覆工スパン 番号 | E16: 3 | F16: 余 白 | M16: 写真 番号 | N16: 覆工スパン 番号 | P16: 3 | Q16: 余 白
C17: 変状番号 | E17: 7 | N17: 変状番号 | P17: 8
B18: 変状 部位 | C18: 対象箇所 | E18: 覆工 | M18: 変状 部位 | N18: 対象箇所 | P18: 覆工
C19: 部位区分 | E19: 水平打ち継ぎ目（右側） | N19: 部位区分 | P19: 横断目地（右側）
B20: 変状種類 | E20: うき・はく離 | M20: 変状種類 | P20: 補修・補強材の破損
B21: 対策 区分 | C21: 変状区分 | E21: 材質劣化 | M21: 対策 区分 | N21: 変状区分 | P21: 漏水
C22: 応急措置前 | E22: － | N22: 応急措置前 | P22: －
C23: 応急措置後 | E23: Ⅰ | N23: 応急措置後 | P23: Ⅱb
B24: 変状の発生範囲及び規模 | E24: － | H24: 前回変状の発生範囲及び規模 | J24: 0.23㎡（0.15m×1.5m） | M24: 変状の発生範囲及び規模 | P24: 0.08㎡（0.5m×0.15m） | S24: 前回変状の発生範囲及び規模 | U24: なし
B25: 対策履歴 | E25: はく落防止工(FRPネット) | H25: 実施状況（実施日） | J25: － | M25: 対策履歴 | P25: なし | S25: 実施状況（実施日） | U25: －
B26: メモ | E26: 対策済み 【前回定期点検 Ⅱb判定】 | M26: メモ | P26: 導水工の劣化 【今回新たに確認】
C27: ※ 応急措置後の対策区分について添付すること。また、点検前に 実施された措置によりⅠと判定された箇所も添付すること。 | N27: ※ 変状の発生範囲の規模とは、対策を行う際に参考となる変状の長さや面積をいう。
N28: ※ 応急措置を実施しないで決定した変状の対策区分は、対策区分の応急措置後の欄に記入すること。
C29: ※ たたき落としを実施した場合は、実施後の写真を添付すること。 | N29: ※ 変状の発生範囲の規模は、面積・寸法を記載すること。(ひび割れ幅のみmmとし、その他をm表記とする)
C30: ※ 変状数に準じてシートを追加すること。（１シートに１ページとすること。） | N30: ※ 構造用鋼材以外の異物に伴ううき・はく離については、メモ欄に異物の概要を記入すること。

Sheet 様式D-1-1_006
B2: ■定期点検記録様式 変状写真台帳【様式D-1-1】 | R2: 施設ID | T2: 34.28772,131.96019
B3: フリガナ | E3: (ﾋｴﾊﾞﾗｽﾞｲﾄﾞｳ) | H3: 路 線 名 | J3: 一般国道187号 | M3: 定期点検実施者 | P3: 応用地質（株） | S3: 定期点検年月日 | U3: 45840
B4: 名 称 | E4: 稗原隧道 | H4: 管理者名 | J4: 山口県岩国土木建築事務所 | P4: 太田 裕之
B5: 写真 番号 | C5: 覆工スパン 番号 | E5: 4 | F5: 余 白 | M5: 写真 番号 | N5: 覆工スパン 番号 | P5: 4 | Q5: 余 白
C6: 変状番号 | E6: 1 | N6: 変状番号 | P6: 2
B7: 変状 部位 | C7: 対象箇所 | E7: 覆工 | M7: 変状 部位 | N7: 対象箇所 | P7: 覆工
C8: 部位区分 | E8: アーチ（右側） | N8: 部位区分 | P8: 横断目地（天端）
B9: 変状種類 | E9: 鋼材腐食 | M9: 変状種類 | P9: うき・はく離
B10: 対策 区分 | C10: 変状区分 | E10: 材質劣化 | M10: 対策 区分 | N10: 変状区分 | P10: 材質劣化
C11: 応急措置前 | E11: Ⅱb | N11: 応急措置前 | P11: －
C12: 応急措置後 | E12: Ⅰ | N12: 応急措置後 | P12: Ⅰ
B13: 変状の発生範囲及び規模 | E13: 0.01㎡（0.1m×0.1m） | H13: 前回変状の発生範囲及び規模 | J13: 0.01㎡（0.1m×0.1m） | M13: 変状の発生範囲及び規模 | P13: － | S13: 前回変状の発生範囲及び規模 | U13: 0.65㎡（1.3m×0.5m）
B14: 対策履歴 | E14: なし | H14: 実施状況（実施日） | J14: － | M14: 対策履歴 | P14: はく落防止工(FRPネット) | S14: 実施状況（実施日） | U14: －
B15: メモ | E15: 鋼材露出(深さ10mm未満)、部分的に鋼材の露出あり(表面的な腐食)、周辺にうきなし、今回点検時に番線撤去 【前回定期点検 Ⅱb判定】 | M15: メモ | P15: 対策済み 【前回定期点検 Ⅱa判定】
B16: 写真 番号 | C16: 覆工スパン 番号 | E16: 4 | F16: 余 白 | M16: 写真 番号 | N16: 覆工スパン 番号 | P16: 4 | Q16: 余 白
C17: 変状番号 | E17: 3 | N17: 変状番号 | P17: 4
B18: 変状 部位 | C18: 対象箇所 | E18: 覆工 | M18: 変状 部位 | N18: 対象箇所 | P18: 覆工
C19: 部位区分 | E19: 水平打ち継ぎ目（右側） | N19: 部位区分 | P19: 横断目地（天端）
B20: 変状種類 | E20: 補修・補強材の破損 | M20: 変状種類 | P20: 漏水
B21: 対策 区分 | C21: 変状区分 | E21: 漏水 | M21: 対策 区分 | N21: 変状区分 | P21: 漏水
C22: 応急措置前 | E22: － | N22: 応急措置前 | P22: －
C23: 応急措置後 | E23: Ⅱa | N23: 応急措置後 | P23: Ⅱa
B24: 変状の発生範囲及び規模 | E24: 0.12㎡（0.8m×0.15m） | H24: 前回変状の発生範囲及び規模 | J24: 0.12㎡（0.8m×0.15m） | M24: 変状の発生範囲及び規模 | P24: 4㎡（8m×0.5m） | S24: 前回変状の発生範囲及び規模 | U24: 記載なし
B25: 対策履歴 | E25: なし | H25: 実施状況（実施日） | J25: － | M25: 対策履歴 | P25: なし | S25: 実施状況（実施日） | U25: －
B26: メモ | E26: 導水工の劣化、にじみあり、変状種類変更 【前回定期点検 Ⅱa判定】 | M26: メモ | P26: 今回点検時滴水なし、にじみあり(継続監視) 【前回定期点検 Ⅱa判定】
C27: ※ 応急措置後の対策区分について添付すること。また、点検前に 実施された措置によりⅠと判定された箇所も添付すること。 | N27: ※ 変状の発生範囲の規模とは、対策を行う際に参考となる変状の長さや面積をいう。
N28: ※ 応急措置を実施しないで決定した変状の対策区分は、対策区分の応急措置後の欄に記入すること。
C29: ※ たたき落としを実施した場合は、実施後の写真を添付すること。 | N29: ※ 変状の発生範囲の規模は、面積・寸法を記載すること。(ひび割れ幅のみmmとし、その他をm表記とする)
C30: ※ 変状数に準じてシートを追加すること。（１シートに１ページとすること。） | N30: ※ 構造用鋼材以外の異物に伴ううき・はく離については、メモ欄に異物の概要を記入すること。

Sheet 様式D-1-1_007
B2: ■定期点検記録様式 変状写真台帳【様式D-1-1】 | R2: 施設ID | T2: 34.28772,131.96019
B3: フリガナ | E3: (ﾋｴﾊﾞﾗｽﾞｲﾄﾞｳ) | H3: 路 線 名 | J3: 一般国道187号 | M3: 定期点検実施者 | P3: 応用地質（株） | S3: 定期点検年月日 | U3: 45840
B4: 名 称 | E4: 稗原隧道 | H4: 管理者名 | J4: 山口県岩国土木建築事務所 | P4: 太田 裕之
B5: 写真 番号 | C5: 覆工スパン 番号 | E5: 4 | F5: 余 白 | M5: 写真 番号 | N5: 覆工スパン 番号 | P5: 4 | Q5: 余 白
C6: 変状番号 | E6: 5 | N6: 変状番号 | P6: 6
B7: 変状 部位 | C7: 対象箇所 | E7: 覆工 | M7: 変状 部位 | N7: 対象箇所 | P7: 覆工
C8: 部位区分 | E8: 横断目地（左側） | N8: 部位区分 | P8: 水平打ち継ぎ目（左側）
B9: 変状種類 | E9: 補修・補強材の破損 | M9: 変状種類 | P9: うき・はく離
B10: 対策 区分 | C10: 変状区分 | E10: 漏水 | M10: 対策 区分 | N10: 変状区分 | P10: 材質劣化
C11: 応急措置前 | E11: － | N11: 応急措置前 | P11: －
C12: 応急措置後 | E12: Ⅱa | N12: 応急措置後 | P12: Ⅰ
B13: 変状の発生範囲及び規模 | E13: 0.05㎡（0.3m×0.15m） | H13: 前回変状の発生範囲及び規模 | J13: 0.15㎡（1m×0.15m） | M13: 変状の発生範囲及び規模 | P13: － | S13: 前回変状の発生範囲及び規模 | U13: 0.64㎡（0.15m×4.25m）
B14: 対策履歴 | E14: なし | H14: 実施状況（実施日） | J14: － | M14: 対策履歴 | P14: はく落防止工(FRPネット) | S14: 実施状況（実施日） | U14: －
B15: メモ | E15: 導水工の破損、にじみあり、変状種類変更 【前回定期点検 Ⅱa判定】 | M15: メモ | P15: 対策済み 【前回定期点検 Ⅱb判定】
B16: 写真 番号 | C16: 覆工スパン 番号 | E16: 4 | F16: 余 白 | M16: 写真 番号 | N16: 覆工スパン 番号 | P16: 4 | Q16: 余 白
C17: 変状番号 | E17: 7 | N17: 変状番号 | P17: 8
B18: 変状 部位 | C18: 対象箇所 | E18: 覆工 | M18: 変状 部位 | N18: 対象箇所 | P18: 覆工
C19: 部位区分 | E19: 側壁（左側） | N19: 部位区分 | P19: 横断目地（天端）
B20: 変状種類 | E20: 漏水 | M20: 変状種類 | P20: 漏水
B21: 対策 区分 | C21: 変状区分 | E21: 漏水 | M21: 対策 区分 | N21: 変状区分 | P21: 漏水
C22: 応急措置前 | E22: － | N22: 応急措置前 | P22: －
C23: 応急措置後 | E23: Ⅱb | N23: 応急措置後 | P23: Ⅱb
B24: 変状の発生範囲及び規模 | E24: 1.23㎡（2.45m×0.5m） | H24: 前回変状の発生範囲及び規模 | J24: 記載なし | M24: 変状の発生範囲及び規模 | P24: 3.7㎡（7.4m×0.5m） | S24: 前回変状の発生範囲及び規模 | U24: 記載なし
B25: 対策履歴 | E25: なし | H25: 実施状況（実施日） | J25: － | M25: 対策履歴 | P25: なし | S25: 実施状況（実施日） | U25: －
B26: メモ | E26: 導水工から漏水、にじみ程度、遊離石灰を伴う 【前回定期点検 Ⅱb判定】 | M26: メモ | P26: 導水工から漏水、にじみ程度、遊離石灰を伴う 【前回定期点検 Ⅱb判定】
C27: ※ 応急措置後の対策区分について添付すること。また、点検前に 実施された措置によりⅠと判定された箇所も添付すること。 | N27: ※ 変状の発生範囲の規模とは、対策を行う際に参考となる変状の長さや面積をいう。
N28: ※ 応急措置を実施しないで決定した変状の対策区分は、対策区分の応急措置後の欄に記入すること。
C29: ※ たたき落としを実施した場合は、実施後の写真を添付すること。 | N29: ※ 変状の発生範囲の規模は、面積・寸法を記載すること。(ひび割れ幅のみmmとし、その他をm表記とする)
C30: ※ 変状数に準じてシートを追加すること。（１シートに１ページとすること。） | N30: ※ 構造用鋼材以外の異物に伴ううき・はく離については、メモ欄に異物の概要を記入すること。

Sheet 様式D-1-1_008
B2: ■定期点検記録様式 変状写真台帳【様式D-1-1】 | R2: 施設ID | T2: 34.28772,131.96019
B3: フリガナ | E3: (ﾋｴﾊﾞﾗｽﾞｲﾄﾞｳ) | H3: 路 線 名 | J3: 一般国道187号 | M3: 定期点検実施者 | P3: 応用地質（株） | S3: 定期点検年月日 | U3: 45840
B4: 名 称 | E4: 稗原隧道 | H4: 管理者名 | J4: 山口県岩国土木建築事務所 | P4: 太田 裕之
B5: 写真 番号 | C5: 覆工スパン 番号 | E5: 4 | F5: 余 白 | M5: 写真 番号 | N5: 覆工スパン 番号 | Q5: 余 白
C6: 変状番号 | E6: 9 | N6: 変状番号
B7: 変状 部位 | C7: 対象箇所 | E7: 覆工 | M7: 変状 部位 | N7: 対象箇所
C8: 部位区分 | E8: 水平打ち継ぎ目（右側） | N8: 部位区分
B9: 変状種類 | E9: うき・はく離 | M9: 変状種類
B10: 対策 区分 | C10: 変状区分 | E10: 材質劣化 | M10: 対策 区分 | N10: 変状区分
C11: 応急措置前 | E11: － | N11: 応急措置前
C12: 応急措置後 | E12: Ⅰ | N12: 応急措置後
B13: 変状の発生範囲及び規模 | E13: － | H13: 前回変状の発生範囲及び規模 | J13: 0.21㎡（0.15m×1.4m） | M13: 変状の発生範囲及び規模 | S13: 前回変状の発生範囲及び規模
B14: 対策履歴 | E14: はく落防止工(FRPネット) | H14: 実施状況（実施日） | J14: － | M14: 対策履歴 | S14: 実施状況（実施日）
B15: メモ | E15: 対策済み 【前回定期点検 Ⅱb判定】 | M15: メモ
B16: 写真 番号 | C16: 覆工スパン 番号 | F16: 余 白 | M16: 写真 番号 | N16: 覆工スパン 番号 | Q16: 余 白
C17: 変状番号 | N17: 変状番号
B18: 変状 部位 | C18: 対象箇所 | M18: 変状 部位 | N18: 対象箇所
C19: 部位区分 | N19: 部位区分
B20: 変状種類 | M20: 変状種類
B21: 対策 区分 | C21: 変状区分 | M21: 対策 区分 | N21: 変状区分
C22: 応急措置前 | N22: 応急措置前
C23: 応急措置後 | N23: 応急措置後
B24: 変状の発生範囲及び規模 | H24: 前回変状の発生範囲及び規模 | M24: 変状の発生範囲及び規模 | S24: 前回変状の発生範囲及び規模
B25: 対策履歴 | H25: 実施状況（実施日） | M25: 対策履歴 | S25: 実施状況（実施日）
B26: メモ | M26: メモ
C27: ※ 応急措置後の対策区分について添付すること。また、点検前に 実施された措置によりⅠと判定された箇所も添付すること。 | N27: ※ 変状の発生範囲の規模とは、対策を行う際に参考となる変状の長さや面積をいう。
N28: ※ 応急措置を実施しないで決定した変状の対策区分は、対策区分の応急措置後の欄に記入すること。
C29: ※ たたき落としを実施した場合は、実施後の写真を添付すること。 | N29: ※ 変状の発生範囲の規模は、面積・寸法を記載すること。(ひび割れ幅のみmmとし、その他をm表記とする)
C30: ※ 変状数に準じてシートを追加すること。（１シートに１ページとすること。） | N30: ※ 構造用鋼材以外の異物に伴ううき・はく離については、メモ欄に異物の概要を記入すること。

Sheet 様式D-1-1_009
B2: ■定期点検記録様式 変状写真台帳【様式D-1-1】 | R2: 施設ID | T2: 34.28772,131.96019
B3: フリガナ | E3: (ﾋｴﾊﾞﾗｽﾞｲﾄﾞｳ) | H3: 路 線 名 | J3: 一般国道187号 | M3: 定期点検実施者 | P3: 応用地質（株） | S3: 定期点検年月日 | U3: 45840
B4: 名 称 | E4: 稗原隧道 | H4: 管理者名 | J4: 山口県岩国土木建築事務所 | P4: 太田 裕之
B5: 写真 番号 | C5: 覆工スパン 番号 | E5: 5 | F5: 余 白 | M5: 写真 番号 | N5: 覆工スパン 番号 | P5: 5 | Q5: 余 白
C6: 変状番号 | E6: 1 | N6: 変状番号 | P6: 2
B7: 変状 部位 | C7: 対象箇所 | E7: 覆工 | M7: 変状 部位 | N7: 対象箇所 | P7: 覆工
C8: 部位区分 | E8: アーチ（天端） | N8: 部位区分 | P8: アーチ（左側）
B9: 変状種類 | E9: うき・はく離 | M9: 変状種類 | P9: 漏水
B10: 対策 区分 | C10: 変状区分 | E10: 材質劣化 | M10: 対策 区分 | N10: 変状区分 | P10: 漏水
C11: 応急措置前 | E11: － | N11: 応急措置前 | P11: －
C12: 応急措置後 | E12: Ⅰ | N12: 応急措置後 | P12: Ⅱb
B13: 変状の発生範囲及び規模 | E13: － | H13: 前回変状の発生範囲及び規模 | J13: 0.16㎡（0.4m×0.4m） | M13: 変状の発生範囲及び規模 | P13: 14.08㎡（4.4m×3.2m） | S13: 前回変状の発生範囲及び規模 | U13: 記載なし
B14: 対策履歴 | E14: はく落防止工(FRPネット) | H14: 実施状況（実施日） | J14: － | M14: 対策履歴 | P14: なし | S14: 実施状況（実施日） | U14: －
B15: メモ | E15: 対策済み 【前回定期点検 Ⅱa判定】 | M15: メモ | P15: ひび割れから漏水、にじみ程度、遊離石灰を伴う(前回点検時遊離石灰のみ) 【前回定期点検 Ⅱb判定】
B16: 写真 番号 | C16: 覆工スパン 番号 | E16: 5 | F16: 余 白 | M16: 写真 番号 | N16: 覆工スパン 番号 | P16: 5 | Q16: 余 白
C17: 変状番号 | E17: 3 | N17: 変状番号 | P17: 4
B18: 変状 部位 | C18: 対象箇所 | E18: 覆工 | M18: 変状 部位 | N18: 対象箇所 | P18: 覆工
C19: 部位区分 | E19: 横断目地（天端） | N19: 部位区分 | P19: アーチ（右側）
B20: 変状種類 | E20: うき・はく離 | M20: 変状種類 | P20: 漏水
B21: 対策 区分 | C21: 変状区分 | E21: 材質劣化 | M21: 対策 区分 | N21: 変状区分 | P21: 漏水
C22: 応急措置前 | E22: － | N22: 応急措置前 | P22: －
C23: 応急措置後 | E23: Ⅰ | N23: 応急措置後 | P23: Ⅱb
B24: 変状の発生範囲及び規模 | E24: － | H24: 前回変状の発生範囲及び規模 | J24: 0.25㎡（1m×0.25m） | M24: 変状の発生範囲及び規模 | P24: 5.4㎡（6m×0.9m） | S24: 前回変状の発生範囲及び規模 | U24: 記載なし
B25: 対策履歴 | E25: はく落防止工(FRPネット) | H25: 実施状況（実施日） | J25: － | M25: 対策履歴 | P25: なし | S25: 実施状況（実施日） | U25: －
B26: メモ | E26: 対策済み 【前回定期点検 Ⅱb判定】 | M26: メモ | P26: ひび割れから漏水、にじみ程度、遊離石灰を伴う 【前回定期点検 Ⅱb判定】
C27: ※ 応急措置後の対策区分について添付すること。また、点検前に 実施された措置によりⅠと判定された箇所も添付すること。 | N27: ※ 変状の発生範囲の規模とは、対策を行う際に参考となる変状の長さや面積をいう。
N28: ※ 応急措置を実施しないで決定した変状の対策区分は、対策区分の応急措置後の欄に記入すること。
C29: ※ たたき落としを実施した場合は、実施後の写真を添付すること。 | N29: ※ 変状の発生範囲の規模は、面積・寸法を記載すること。(ひび割れ幅のみmmとし、その他をm表記とする)
C30: ※ 変状数に準じてシートを追加すること。（１シートに１ページとすること。） | N30: ※ 構造用鋼材以外の異物に伴ううき・はく離については、メモ欄に異物の概要を記入すること。

Sheet 様式D-1-1_010
B2: ■定期点検記録様式 変状写真台帳【様式D-1-1】 | R2: 施設ID | T2: 34.28772,131.96019
B3: フリガナ | E3: (ﾋｴﾊﾞﾗｽﾞｲﾄﾞｳ) | H3: 路 線 名 | J3: 一般国道187号 | M3: 定期点検実施者 | P3: 応用地質（株） | S3: 定期点検年月日 | U3: 45840
B4: 名 称 | E4: 稗原隧道 | H4: 管理者名 | J4: 山口県岩国土木建築事務所 | P4: 太田 裕之
B5: 写真 番号 | C5: 覆工スパン 番号 | E5: 5 | F5: 余 白 | M5: 写真 番号 | N5: 覆工スパン 番号 | P5: 5 | Q5: 余 白
C6: 変状番号 | E6: 5 | N6: 変状番号 | P6: 6
B7: 変状 部位 | C7: 対象箇所 | E7: 覆工 | M7: 変状 部位 | N7: 対象箇所 | P7: 覆工
C8: 部位区分 | E8: 横断目地（天端） | N8: 部位区分 | P8: 横断目地（左側）
B9: 変状種類 | E9: 漏水 | M9: 変状種類 | P9: うき・はく離
B10: 対策 区分 | C10: 変状区分 | E10: 漏水 | M10: 対策 区分 | N10: 変状区分 | P10: 材質劣化
C11: 応急措置前 | E11: － | N11: 応急措置前 | P11: －
C12: 応急措置後 | E12: Ⅱb | N12: 応急措置後 | P12: Ⅰ
B13: 変状の発生範囲及び規模 | E13: 3.5㎡（7m×0.5m） | H13: 前回変状の発生範囲及び規模 | J13: 記載なし | M13: 変状の発生範囲及び規模 | P13: 0.03㎡（0.25m×0.1m） | S13: 前回変状の発生範囲及び規模 | U13: 0.03㎡（0.25m×0.1m）
B14: 対策履歴 | E14: なし | H14: 実施状況（実施日） | J14: － | M14: 対策履歴 | P14: なし | S14: 実施状況（実施日） | U14: －
B15: メモ | E15: 導水工から漏水、にじみ程度、遊離石灰を伴う 【前回定期点検 Ⅱb判定】 | M15: メモ | P15: 導水工横のはく落(深さ30mm)、打音異常なし、防錆剤塗布、軽微な為再判定 【前回定期点検 Ⅱb判定】
B16: 写真 番号 | C16: 覆工スパン 番号 | E16: 5 | F16: 余 白 | M16: 写真 番号 | N16: 覆工スパン 番号 | P16: 5 | Q16: 余 白
C17: 変状番号 | E17: 7 | N17: 変状番号 | P17: 8
B18: 変状 部位 | C18: 対象箇所 | E18: 覆工 | M18: 変状 部位 | N18: 対象箇所 | P18: 覆工
C19: 部位区分 | E19: 水平打ち継ぎ目（左側） | N19: 部位区分 | P19: 水平打ち継ぎ目（右側）
B20: 変状種類 | E20: うき・はく離 | M20: 変状種類 | P20: うき・はく離
B21: 対策 区分 | C21: 変状区分 | E21: 材質劣化 | M21: 対策 区分 | N21: 変状区分 | P21: 材質劣化
C22: 応急措置前 | E22: － | N22: 応急措置前 | P22: －
C23: 応急措置後 | E23: Ⅰ | N23: 応急措置後 | P23: Ⅰ
B24: 変状の発生範囲及び規模 | E24: － | H24: 前回変状の発生範囲及び規模 | J24: 0.68㎡（0.15m×4.5m） | M24: 変状の発生範囲及び規模 | P24: － | S24: 前回変状の発生範囲及び規模 | U24: 0.44㎡（0.15m×2.9m）
B25: 対策履歴 | E25: はく落防止工(FRPネット) | H25: 実施状況（実施日） | J25: － | M25: 対策履歴 | P25: はく落防止工(FRPネット) | S25: 実施状況（実施日） | U25: －
B26: メモ | E26: 対策済み 【前回定期点検 Ⅱb判定】 | M26: メモ | P26: 対策済み 【前回定期点検 Ⅱb判定】
C27: ※ 応急措置後の対策区分について添付すること。また、点検前に 実施された措置によりⅠと判定された箇所も添付すること。 | N27: ※ 変状の発生範囲の規模とは、対策を行う際に参考となる変状の長さや面積をいう。
N28: ※ 応急措置を実施しないで決定した変状の対策区分は、対策区分の応急措置後の欄に記入すること。
C29: ※ たたき落としを実施した場合は、実施後の写真を添付すること。 | N29: ※ 変状の発生範囲の規模は、面積・寸法を記載すること。(ひび割れ幅のみmmとし、その他をm表記とする)
C30: ※ 変状数に準じてシートを追加すること。（１シートに１ページとすること。） | N30: ※ 構造用鋼材以外の異物に伴ううき・はく離については、メモ欄に異物の概要を記入すること。

Sheet 様式D-1-1_011
B2: ■定期点検記録様式 変状写真台帳【様式D-1-1】 | R2: 施設ID | T2: 34.28772,131.96019
B3: フリガナ | E3: (ﾋｴﾊﾞﾗｽﾞｲﾄﾞｳ) | H3: 路 線 名 | J3: 一般国道187号 | M3: 定期点検実施者 | P3: 応用地質（株） | S3: 定期点検年月日 | U3: 45840
B4: 名 称 | E4: 稗原隧道 | H4: 管理者名 | J4: 山口県岩国土木建築事務所 | P4: 太田 裕之
B5: 写真 番号 | C5: 覆工スパン 番号 | E5: 5 | F5: 余 白 | M5: 写真 番号 | N5: 覆工スパン 番号 | P5: 5 | Q5: 余 白
C6: 変状番号 | E6: 9 | N6: 変状番号 | P6: 10
B7: 変状 部位 | C7: 対象箇所 | E7: 覆工 | M7: 変状 部位 | N7: 対象箇所 | P7: 覆工
C8: 部位区分 | E8: 水平打ち継ぎ目（右側） | N8: 部位区分 | P8: 水平打ち継ぎ目（右側）
B9: 変状種類 | E9: うき・はく離 | M9: 変状種類 | P9: 漏水
B10: 対策 区分 | C10: 変状区分 | E10: 材質劣化 | M10: 対策 区分 | N10: 変状区分 | P10: 漏水
C11: 応急措置前 | E11: － | N11: 応急措置前 | P11: －
C12: 応急措置後 | E12: Ⅰ | N12: 応急措置後 | P12: Ⅱb
B13: 変状の発生範囲及び規模 | E13: － | H13: 前回変状の発生範囲及び規模 | J13: 0.26㎡（0.2m×1.3m） | M13: 変状の発生範囲及び規模 | P13: 1.5㎡（3m×0.5m） | S13: 前回変状の発生範囲及び規模 | U13: 記載なし
B14: 対策履歴 | E14: はく落防止工(FRPネット) | H14: 実施状況（実施日） | J14: － | M14: 対策履歴 | P14: なし | S14: 実施状況（実施日） | U14: －
B15: メモ | E15: 対策済み 【前回定期点検 Ⅱb判定】 | M15: メモ | P15: 漏水、にじみ程度、遊離石灰を伴う(前回点検時遊離石灰のみ) 【前回定期点検 Ⅱb判定】
B16: 写真 番号 | C16: 覆工スパン 番号 | F16: 余 白 | M16: 写真 番号 | N16: 覆工スパン 番号 | Q16: 余 白
C17: 変状番号 | N17: 変状番号
B18: 変状 部位 | C18: 対象箇所 | M18: 変状 部位 | N18: 対象箇所
C19: 部位区分 | N19: 部位区分
B20: 変状種類 | M20: 変状種類
B21: 対策 区分 | C21: 変状区分 | M21: 対策 区分 | N21: 変状区分
C22: 応急措置前 | N22: 応急措置前
C23: 応急措置後 | N23: 応急措置後
B24: 変状の発生範囲及び規模 | H24: 前回変状の発生範囲及び規模 | M24: 変状の発生範囲及び規模 | S24: 前回変状の発生範囲及び規模
B25: 対策履歴 | H25: 実施状況（実施日） | M25: 対策履歴 | S25: 実施状況（実施日）
B26: メモ | M26: メモ
C27: ※ 応急措置後の対策区分について添付すること。また、点検前に 実施された措置によりⅠと判定された箇所も添付すること。 | N27: ※ 変状の発生範囲の規模とは、対策を行う際に参考となる変状の長さや面積をいう。
N28: ※ 応急措置を実施しないで決定した変状の対策区分は、対策区分の応急措置後の欄に記入すること。
C29: ※ たたき落としを実施した場合は、実施後の写真を添付すること。 | N29: ※ 変状の発生範囲の規模は、面積・寸法を記載すること。(ひび割れ幅のみmmとし、その他をm表記とする)
C30: ※ 変状数に準じてシートを追加すること。（１シートに１ページとすること。） | N30: ※ 構造用鋼材以外の異物に伴ううき・はく離については、メモ欄に異物の概要を記入すること。

Sheet 様式D-1-1_012
B2: ■定期点検記録様式 変状写真台帳【様式D-1-1】 | R2: 施設ID | T2: 34.28772,131.96019
B3: フリガナ | E3: (ﾋｴﾊﾞﾗｽﾞｲﾄﾞｳ) | H3: 路 線 名 | J3: 一般国道187号 | M3: 定期点検実施者 | P3: 応用地質（株） | S3: 定期点検年月日 | U3: 45840
B4: 名 称 | E4: 稗原隧道 | H4: 管理者名 | J4: 山口県岩国土木建築事務所 | P4: 太田 裕之
B5: 写真 番号 | C5: 覆工スパン 番号 | E5: 6 | F5: 余 白 | M5: 写真 番号 | N5: 覆工スパン 番号 | P5: 6 | Q5: 余 白
C6: 変状番号 | E6: 1 | N6: 変状番号 | P6: 2
B7: 変状 部位 | C7: 対象箇所 | E7: 覆工 | M7: 変状 部位 | N7: 対象箇所 | P7: 覆工
C8: 部位区分 | E8: 横断目地（天端） | N8: 部位区分 | P8: アーチ（天端）
B9: 変状種類 | E9: うき・はく離 | M9: 変状種類 | P9: うき・はく離
B10: 対策 区分 | C10: 変状区分 | E10: 材質劣化 | M10: 対策 区分 | N10: 変状区分 | P10: 材質劣化
C11: 応急措置前 | E11: － | N11: 応急措置前 | P11: －
C12: 応急措置後 | E12: Ⅰ | N12: 応急措置後 | P12: Ⅰ
B13: 変状の発生範囲及び規模 | E13: － | H13: 前回変状の発生範囲及び規模 | J13: 0.18㎡（0.6m×0.3m） | M13: 変状の発生範囲及び規模 | P13: － | S13: 前回変状の発生範囲及び規模 | U13: 0.19㎡（0.1m×1.9m）
B14: 対策履歴 | E14: はく落防止工(FRPネット) | H14: 実施状況（実施日） | J14: － | M14: 対策履歴 | P14: はく落防止工(FRPネット) | S14: 実施状況（実施日） | U14: －
B15: メモ | E15: 対策済み 【前回定期点検 Ⅱa判定】 | M15: メモ | P15: 対策済み 【前回定期点検 Ⅱa判定】
B16: 写真 番号 | C16: 覆工スパン 番号 | E16: 6 | F16: 余 白 | M16: 写真 番号 | N16: 覆工スパン 番号 | P16: 6 | Q16: 余 白
C17: 変状番号 | E17: 3 | N17: 変状番号 | P17: 4
B18: 変状 部位 | C18: 対象箇所 | E18: 覆工 | M18: 変状 部位 | N18: 対象箇所 | P18: 覆工
C19: 部位区分 | E19: 横断目地（天端） | N19: 部位区分 | P19: アーチ（右側）
B20: 変状種類 | E20: うき・はく離 | M20: 変状種類 | P20: 漏水
B21: 対策 区分 | C21: 変状区分 | E21: 材質劣化 | M21: 対策 区分 | N21: 変状区分 | P21: 漏水
C22: 応急措置前 | E22: － | N22: 応急措置前 | P22: －
C23: 応急措置後 | E23: Ⅰ | N23: 応急措置後 | P23: Ⅱb
B24: 変状の発生範囲及び規模 | E24: － | H24: 前回変状の発生範囲及び規模 | J24: 1.32㎡（2.2m×0.6m） | M24: 変状の発生範囲及び規模 | P24: 24.57㎡（6.3m×3.9m） | S24: 前回変状の発生範囲及び規模 | U24: 記載なし
B25: 対策履歴 | E25: はく落防止工(FRPネット) | H25: 実施状況（実施日） | J25: － | M25: 対策履歴 | P25: なし | S25: 実施状況（実施日） | U25: －
B26: メモ | E26: 対策済み 【前回定期点検 Ⅱa判定】 | M26: メモ | P26: ひび割れから漏水、にじみ程度、遊離石灰を伴う(前回点検時遊離石灰のみ) 【前回定期点検 Ⅱb判定】
C27: ※ 応急措置後の対策区分について添付すること。また、点検前に 実施された措置によりⅠと判定された箇所も添付すること。 | N27: ※ 変状の発生範囲の規模とは、対策を行う際に参考となる変状の長さや面積をいう。
N28: ※ 応急措置を実施しないで決定した変状の対策区分は、対策区分の応急措置後の欄に記入すること。
C29: ※ たたき落としを実施した場合は、実施後の写真を添付すること。 | N29: ※ 変状の発生範囲の規模は、面積・寸法を記載すること。(ひび割れ幅のみmmとし、その他をm表記とする)
C30: ※ 変状数に準じてシートを追加すること。（１シートに１ページとすること。） | N30: ※ 構造用鋼材以外の異物に伴ううき・はく離については、メモ欄に異物の概要を記入すること。

Sheet 様式D-1-1_013
B2: ■定期点検記録様式 変状写真台帳【様式D-1-1】 | R2: 施設ID | T2: 34.28772,131.96019
B3: フリガナ | E3: (ﾋｴﾊﾞﾗｽﾞｲﾄﾞｳ) | H3: 路 線 名 | J3: 一般国道187号 | M3: 定期点検実施者 | P3: 応用地質（株） | S3: 定期点検年月日 | U3: 45840
B4: 名 称 | E4: 稗原隧道 | H4: 管理者名 | J4: 山口県岩国土木建築事務所 | P4: 太田 裕之
B5: 写真 番号 | C5: 覆工スパン 番号 | E5: 6 | F5: 余 白 | M5: 写真 番号 | N5: 覆工スパン 番号 | P5: 6 | Q5: 余 白
C6: 変状番号 | E6: 5 | N6: 変状番号 | P6: 6
B7: 変状 部位 | C7: 対象箇所 | E7: 覆工 | M7: 変状 部位 | N7: 対象箇所 | P7: 覆工
C8: 部位区分 | E8: 水平打ち継ぎ目（左側） | N8: 部位区分 | P8: アーチ（左側）
B9: 変状種類 | E9: 漏水 | M9: 変状種類 | P9: 漏水
B10: 対策 区分 | C10: 変状区分 | E10: 漏水 | M10: 対策 区分 | N10: 変状区分 | P10: 漏水
C11: 応急措置前 | E11: － | N11: 応急措置前 | P11: －
C12: 応急措置後 | E12: Ⅱb | N12: 応急措置後 | P12: Ⅱb
B13: 変状の発生範囲及び規模 | E13: 1.5㎡（3m×0.5m） | H13: 前回変状の発生範囲及び規模 | J13: 記載なし | M13: 変状の発生範囲及び規模 | P13: 3㎡（5m×0.6m） | S13: 前回変状の発生範囲及び規模 | U13: 記載なし
B14: 対策履歴 | E14: なし | H14: 実施状況（実施日） | J14: － | M14: 対策履歴 | P14: なし | S14: 実施状況（実施日） | U14: －
B15: メモ | E15: 漏水、にじみ程度、遊離石灰を伴う 【前回定期点検 Ⅱb判定】 | M15: メモ | P15: 導水工から漏水、にじみ程度、遊離石灰を伴う 【前回定期点検 Ⅱb判定】
B16: 写真 番号 | C16: 覆工スパン 番号 | E16: 6 | F16: 余 白 | M16: 写真 番号 | N16: 覆工スパン 番号 | P16: 6 | Q16: 余 白
C17: 変状番号 | E17: 7 | N17: 変状番号 | P17: 8
B18: 変状 部位 | C18: 対象箇所 | E18: 覆工 | M18: 変状 部位 | N18: 対象箇所 | P18: 覆工
C19: 部位区分 | E19: 水平打ち継ぎ目（左側） | N19: 部位区分 | P19: 水平打ち継ぎ目（右側）
B20: 変状種類 | E20: うき・はく離 | M20: 変状種類 | P20: うき・はく離
B21: 対策 区分 | C21: 変状区分 | E21: 材質劣化 | M21: 対策 区分 | N21: 変状区分 | P21: 材質劣化
C22: 応急措置前 | E22: － | N22: 応急措置前 | P22: －
C23: 応急措置後 | E23: Ⅰ | N23: 応急措置後 | P23: Ⅰ
B24: 変状の発生範囲及び規模 | E24: － | H24: 前回変状の発生範囲及び規模 | J24: 0.3㎡（0.15m×2m） | M24: 変状の発生範囲及び規模 | P24: － | S24: 前回変状の発生範囲及び規模 | U24: 0.42㎡（0.15m×2.8m）
B25: 対策履歴 | E25: はく落防止工(FRPネット) | H25: 実施状況（実施日） | J25: － | M25: 対策履歴 | P25: はく落防止工(FRPネット) | S25: 実施状況（実施日） | U25: －
B26: メモ | E26: 対策済み 【前回定期点検 Ⅱb判定】 | M26: メモ | P26: 対策済み 【前回定期点検 Ⅱb判定】
C27: ※ 応急措置後の対策区分について添付すること。また、点検前に 実施された措置によりⅠと判定された箇所も添付すること。 | N27: ※ 変状の発生範囲の規模とは、対策を行う際に参考となる変状の長さや面積をいう。
N28: ※ 応急措置を実施しないで決定した変状の対策区分は、対策区分の応急措置後の欄に記入すること。
C29: ※ たたき落としを実施した場合は、実施後の写真を添付すること。 | N29: ※ 変状の発生範囲の規模は、面積・寸法を記載すること。(ひび割れ幅のみmmとし、その他をm表記とする)
C30: ※ 変状数に準じてシートを追加すること。（１シートに１ページとすること。） | N30: ※ 構造用鋼材以外の異物に伴ううき・はく離については、メモ欄に異物の概要を記入すること。

Sheet 様式D-1-1_014
B2: ■定期点検記録様式 変状写真台帳【様式D-1-1】 | R2: 施設ID | T2: 34.28772,131.96019
B3: フリガナ | E3: (ﾋｴﾊﾞﾗｽﾞｲﾄﾞｳ) | H3: 路 線 名 | J3: 一般国道187号 | M3: 定期点検実施者 | P3: 応用地質（株） | S3: 定期点検年月日 | U3: 45840
B4: 名 称 | E4: 稗原隧道 | H4: 管理者名 | J4: 山口県岩国土木建築事務所 | P4: 太田 裕之
B5: 写真 番号 | C5: 覆工スパン 番号 | E5: 6 | F5: 余 白 | M5: 写真 番号 | N5: 覆工スパン 番号 | Q5: 余 白
C6: 変状番号 | E6: 9 | N6: 変状番号
B7: 変状 部位 | C7: 対象箇所 | E7: 覆工 | M7: 変状 部位 | N7: 対象箇所
C8: 部位区分 | E8: アーチ（右側） | N8: 部位区分
B9: 変状種類 | E9: 補修・補強材の破損 | M9: 変状種類
B10: 対策 区分 | C10: 変状区分 | E10: 材質劣化 | M10: 対策 区分 | N10: 変状区分
C11: 応急措置前 | E11: － | N11: 応急措置前
C12: 応急措置後 | E12: Ⅱa | N12: 応急措置後
B13: 変状の発生範囲及び規模 | E13: 0.01㎡（0.1m×0.1m） | H13: 前回変状の発生範囲及び規模 | J13: なし | M13: 変状の発生範囲及び規模 | S13: 前回変状の発生範囲及び規模
B14: 対策履歴 | E14: なし | H14: 実施状況（実施日） | J14: － | M14: 対策履歴 | S14: 実施状況（実施日）
B15: メモ | E15: FRPネット工、固定アンカーの不良、増し締め不可 【今回新たに確認】 | M15: メモ
B16: 写真 番号 | C16: 覆工スパン 番号 | F16: 余 白 | M16: 写真 番号 | N16: 覆工スパン 番号 | Q16: 余 白
C17: 変状番号 | N17: 変状番号
B18: 変状 部位 | C18: 対象箇所 | M18: 変状 部位 | N18: 対象箇所
C19: 部位区分 | N19: 部位区分
B20: 変状種類 | M20: 変状種類
B21: 対策 区分 | C21: 変状区分 | M21: 対策 区分 | N21: 変状区分
C22: 応急措置前 | N22: 応急措置前
C23: 応急措置後 | N23: 応急措置後
B24: 変状の発生範囲及び規模 | H24: 前回変状の発生範囲及び規模 | M24: 変状の発生範囲及び規模 | S24: 前回変状の発生範囲及び規模
B25: 対策履歴 | H25: 実施状況（実施日） | M25: 対策履歴 | S25: 実施状況（実施日）
B26: メモ | M26: メモ
C27: ※ 応急措置後の対策区分について添付すること。また、点検前に 実施された措置によりⅠと判定された箇所も添付すること。 | N27: ※ 変状の発生範囲の規模とは、対策を行う際に参考となる変状の長さや面積をいう。
N28: ※ 応急措置を実施しないで決定した変状の対策区分は、対策区分の応急措置後の欄に記入すること。
C29: ※ たたき落としを実施した場合は、実施後の写真を添付すること。 | N29: ※ 変状の発生範囲の規模は、面積・寸法を記載すること。(ひび割れ幅のみmmとし、その他をm表記とする)
C30: ※ 変状数に準じてシートを追加すること。（１シートに１ページとすること。） | N30: ※ 構造用鋼材以外の異物に伴ううき・はく離については、メモ欄に異物の概要を記入すること。

Sheet 様式D-1-1_015
B2: ■定期点検記録様式 変状写真台帳【様式D-1-1】 | R2: 施設ID | T2: 34.28772,131.96019
B3: フリガナ | E3: (ﾋｴﾊﾞﾗｽﾞｲﾄﾞｳ) | H3: 路 線 名 | J3: 一般国道187号 | M3: 定期点検実施者 | P3: 応用地質（株） | S3: 定期点検年月日 | U3: 45840
B4: 名 称 | E4: 稗原隧道 | H4: 管理者名 | J4: 山口県岩国土木建築事務所 | P4: 太田 裕之
B5: 写真 番号 | C5: 覆工スパン 番号 | E5: 7 | F5: 余 白 | M5: 写真 番号 | N5: 覆工スパン 番号 | P5: 7 | Q5: 余 白
C6: 変状番号 | E6: 1 | N6: 変状番号 | P6: 2
B7: 変状 部位 | C7: 対象箇所 | E7: 覆工 | M7: 変状 部位 | N7: 対象箇所 | P7: 覆工
C8: 部位区分 | E8: 横断目地（左側） | N8: 部位区分 | P8: アーチ（天端）
B9: 変状種類 | E9: うき・はく離 | M9: 変状種類 | P9: うき・はく離
B10: 対策 区分 | C10: 変状区分 | E10: 材質劣化 | M10: 対策 区分 | N10: 変状区分 | P10: 材質劣化
C11: 応急措置前 | E11: － | N11: 応急措置前 | P11: －
C12: 応急措置後 | E12: Ⅰ | N12: 応急措置後 | P12: Ⅰ
B13: 変状の発生範囲及び規模 | E13: － | H13: 前回変状の発生範囲及び規模 | J13: 1.05㎡（1.5m×0.7m） | M13: 変状の発生範囲及び規模 | P13: － | S13: 前回変状の発生範囲及び規模 | U13: 0.12㎡（0.1m×1.2m）
B14: 対策履歴 | E14: はく落防止工(FRPネット) | H14: 実施状況（実施日） | J14: － | M14: 対策履歴 | P14: はく落防止工(FRPネット) | S14: 実施状況（実施日） | U14: －
B15: メモ | E15: 対策済み 【前回定期点検 Ⅱa判定】 | M15: メモ | P15: 対策済み 【前回定期点検 Ⅱa判定】
B16: 写真 番号 | C16: 覆工スパン 番号 | E16: 7 | F16: 余 白 | M16: 写真 番号 | N16: 覆工スパン 番号 | P16: 7 | Q16: 余 白
C17: 変状番号 | E17: 3 | N17: 変状番号 | P17: 4
B18: 変状 部位 | C18: 対象箇所 | E18: 覆工 | M18: 変状 部位 | N18: 対象箇所 | P18: 覆工
C19: 部位区分 | E19: 水平打ち継ぎ目（左側） | N19: 部位区分 | P19: 横断目地（右側）
B20: 変状種類 | E20: うき・はく離 | M20: 変状種類 | P20: 漏水
B21: 対策 区分 | C21: 変状区分 | E21: 材質劣化 | M21: 対策 区分 | N21: 変状区分 | P21: 漏水
C22: 応急措置前 | E22: － | N22: 応急措置前 | P22: －
C23: 応急措置後 | E23: Ⅰ | N23: 応急措置後 | P23: Ⅱb
B24: 変状の発生範囲及び規模 | E24: － | H24: 前回変状の発生範囲及び規模 | J24: 0.5㎡（0.15m×3.3m） | M24: 変状の発生範囲及び規模 | P24: 2.45㎡（4.9m×0.5m） | S24: 前回変状の発生範囲及び規模 | U24: 記載なし
B25: 対策履歴 | E25: はく落防止工(FRPネット) | H25: 実施状況（実施日） | J25: － | M25: 対策履歴 | P25: なし | S25: 実施状況（実施日） | U25: －
B26: メモ | E26: 対策済み 【前回定期点検 Ⅱb判定】 | M26: メモ | P26: 導水工から漏水、にじみ程度、遊離石灰を伴う 【前回定期点検 Ⅱb判定】
C27: ※ 応急措置後の対策区分について添付すること。また、点検前に 実施された措置によりⅠと判定された箇所も添付すること。 | N27: ※ 変状の発生範囲の規模とは、対策を行う際に参考となる変状の長さや面積をいう。
N28: ※ 応急措置を実施しないで決定した変状の対策区分は、対策区分の応急措置後の欄に記入すること。
C29: ※ たたき落としを実施した場合は、実施後の写真を添付すること。 | N29: ※ 変状の発生範囲の規模は、面積・寸法を記載すること。(ひび割れ幅のみmmとし、その他をm表記とする)
C30: ※ 変状数に準じてシートを追加すること。（１シートに１ページとすること。） | N30: ※ 構造用鋼材以外の異物に伴ううき・はく離については、メモ欄に異物の概要を記入すること。

Sheet 様式D-1-1_016
B2: ■定期点検記録様式 変状写真台帳【様式D-1-1】 | R2: 施設ID | T2: 34.28772,131.96019
B3: フリガナ | E3: (ﾋｴﾊﾞﾗｽﾞｲﾄﾞｳ) | H3: 路 線 名 | J3: 一般国道187号 | M3: 定期点検実施者 | P3: 応用地質（株） | S3: 定期点検年月日 | U3: 45840
B4: 名 称 | E4: 稗原隧道 | H4: 管理者名 | J4: 山口県岩国土木建築事務所 | P4: 太田 裕之
B5: 写真 番号 | C5: 覆工スパン 番号 | E5: 7 | F5: 余 白 | M5: 写真 番号 | N5: 覆工スパン 番号 | P5: 7 | Q5: 余 白
C6: 変状番号 | E6: 5 | N6: 変状番号 | P6: 6
B7: 変状 部位 | C7: 対象箇所 | E7: 覆工 | M7: 変状 部位 | N7: 対象箇所 | P7: 覆工
C8: 部位区分 | E8: 水平打ち継ぎ目（左側） | N8: 部位区分 | P8: アーチ（左側）
B9: 変状種類 | E9: 漏水 | M9: 変状種類 | P9: 補修・補強材の破損
B10: 対策 区分 | C10: 変状区分 | E10: 漏水 | M10: 対策 区分 | N10: 変状区分 | P10: 材質劣化
C11: 応急措置前 | E11: － | N11: 応急措置前 | P11: Ⅱa
C12: 応急措置後 | E12: Ⅱb | N12: 応急措置後 | P12: Ⅱb
B13: 変状の発生範囲及び規模 | E13: 10.8㎡（3m×3.6m） | H13: 前回変状の発生範囲及び規模 | J13: なし | M13: 変状の発生範囲及び規模 | P13: 0.01㎡（0.1m×0.1m） | S13: 前回変状の発生範囲及び規模 | U13: なし
B14: 対策履歴 | E14: なし | H14: 実施状況（実施日） | J14: － | M14: 対策履歴 | P14: なし | S14: 実施状況（実施日） | U14: －
B15: メモ | E15: 漏水、にじみ程度 【今回新たに確認】 | M15: メモ | P15: FRPネット工、固定アンカーの緩み、今回点検時に増し締め実施 【今回新たに確認】
B16: 写真 番号 | C16: 覆工スパン 番号 | E16: 7 | F16: 余 白 | M16: 写真 番号 | N16: 覆工スパン 番号 | Q16: 余 白
C17: 変状番号 | E17: 7 | N17: 変状番号
B18: 変状 部位 | C18: 対象箇所 | E18: 覆工 | M18: 変状 部位 | N18: 対象箇所
C19: 部位区分 | E19: アーチ（天端） | N19: 部位区分
B20: 変状種類 | E20: うき・はく離 | M20: 変状種類
B21: 対策 区分 | C21: 変状区分 | E21: 材質劣化 | M21: 対策 区分 | N21: 変状区分
C22: 応急措置前 | E22: － | N22: 応急措置前
C23: 応急措置後 | E23: Ⅱa | N23: 応急措置後
B24: 変状の発生範囲及び規模 | E24: 0.02㎡（0.1m×0.2m） | H24: 前回変状の発生範囲及び規模 | J24: なし | M24: 変状の発生範囲及び規模 | S24: 前回変状の発生範囲及び規模
B25: 対策履歴 | E25: なし | H25: 実施状況（実施日） | J25: － | M25: 対策履歴 | S25: 実施状況（実施日）
B26: メモ | E26: うき、ひび割れを伴う、打音異常あり、浸透固化材塗布 【今回新たに確認】 | M26: メモ
C27: ※ 応急措置後の対策区分について添付すること。また、点検前に 実施された措置によりⅠと判定された箇所も添付すること。 | N27: ※ 変状の発生範囲の規模とは、対策を行う際に参考となる変状の長さや面積をいう。
N28: ※ 応急措置を実施しないで決定した変状の対策区分は、対策区分の応急措置後の欄に記入すること。
C29: ※ たたき落としを実施した場合は、実施後の写真を添付すること。 | N29: ※ 変状の発生範囲の規模は、面積・寸法を記載すること。(ひび割れ幅のみmmとし、その他をm表記とする)
C30: ※ 変状数に準じてシートを追加すること。（１シートに１ページとすること。） | N30: ※ 構造用鋼材以外の異物に伴ううき・はく離については、メモ欄に異物の概要を記入すること。

Sheet 様式D-1-1_017
B2: ■定期点検記録様式 変状写真台帳【様式D-1-1】 | R2: 施設ID | T2: 34.28772,131.96019
B3: フリガナ | E3: (ﾋｴﾊﾞﾗｽﾞｲﾄﾞｳ) | H3: 路 線 名 | J3: 一般国道187号 | M3: 定期点検実施者 | P3: 応用地質（株） | S3: 定期点検年月日 | U3: 45840
B4: 名 称 | E4: 稗原隧道 | H4: 管理者名 | J4: 山口県岩国土木建築事務所 | P4: 太田 裕之
B5: 写真 番号 | C5: 覆工スパン 番号 | E5: 8 | F5: 余 白 | M5: 写真 番号 | N5: 覆工スパン 番号 | P5: 8 | Q5: 余 白
C6: 変状番号 | E6: 1 | N6: 変状番号 | P6: 2
B7: 変状 部位 | C7: 対象箇所 | E7: 覆工 | M7: 変状 部位 | N7: 対象箇所 | P7: 覆工
C8: 部位区分 | E8: 水平打ち継ぎ目（左側） | N8: 部位区分 | P8: 水平打ち継ぎ目（左側）
B9: 変状種類 | E9: うき・はく離 | M9: 変状種類 | P9: うき・はく離
B10: 対策 区分 | C10: 変状区分 | E10: 材質劣化 | M10: 対策 区分 | N10: 変状区分 | P10: 材質劣化
C11: 応急措置前 | E11: － | N11: 応急措置前 | P11: －
C12: 応急措置後 | E12: Ⅰ | N12: 応急措置後 | P12: Ⅰ
B13: 変状の発生範囲及び規模 | E13: － | H13: 前回変状の発生範囲及び規模 | J13: 0.2㎡（0.15m×1.35m） | M13: 変状の発生範囲及び規模 | P13: － | S13: 前回変状の発生範囲及び規模 | U13: 0.36㎡（0.15m×2.4m）
B14: 対策履歴 | E14: はく落防止工(FRPネット) | H14: 実施状況（実施日） | J14: － | M14: 対策履歴 | P14: はく落防止工(FRPネット) | S14: 実施状況（実施日） | U14: －
B15: メモ | E15: 対策済み 【前回定期点検 Ⅱb判定】 | M15: メモ | P15: 対策済み 【前回定期点検 Ⅱb判定】
B16: 写真 番号 | C16: 覆工スパン 番号 | E16: 8 | F16: 余 白 | M16: 写真 番号 | N16: 覆工スパン 番号 | P16: 8 | Q16: 余 白
C17: 変状番号 | E17: 3 | N17: 変状番号 | P17: 4
B18: 変状 部位 | C18: 対象箇所 | E18: 覆工 | M18: 変状 部位 | N18: 対象箇所 | P18: 覆工
C19: 部位区分 | E19: アーチ（左側） | N19: 部位区分 | P19: 水平打ち継ぎ目（右側）
B20: 変状種類 | E20: 漏水 | M20: 変状種類 | P20: うき・はく離
B21: 対策 区分 | C21: 変状区分 | E21: 漏水 | M21: 対策 区分 | N21: 変状区分 | P21: 材質劣化
C22: 応急措置前 | E22: － | N22: 応急措置前 | P22: －
C23: 応急措置後 | E23: Ⅱb | N23: 応急措置後 | P23: Ⅰ
B24: 変状の発生範囲及び規模 | E24: 6.02㎡（4.3m×1.4m） | H24: 前回変状の発生範囲及び規模 | J24: 記載なし | M24: 変状の発生範囲及び規模 | P24: － | S24: 前回変状の発生範囲及び規模 | U24: 0.3㎡（0.15m×2m）
B25: 対策履歴 | E25: なし | H25: 実施状況（実施日） | J25: － | M25: 対策履歴 | P25: はく落防止工(FRPネット) | S25: 実施状況（実施日） | U25: －
B26: メモ | E26: 導水工から漏水、にじみ程度、遊離石灰を伴う(前回点検時遊離石灰のみ) 【前回定期点検 Ⅱb判定】 | M26: メモ | P26: 対策済み 【前回定期点検 Ⅱb判定】
C27: ※ 応急措置後の対策区分について添付すること。また、点検前に 実施された措置によりⅠと判定された箇所も添付すること。 | N27: ※ 変状の発生範囲の規模とは、対策を行う際に参考となる変状の長さや面積をいう。
N28: ※ 応急措置を実施しないで決定した変状の対策区分は、対策区分の応急措置後の欄に記入すること。
C29: ※ たたき落としを実施した場合は、実施後の写真を添付すること。 | N29: ※ 変状の発生範囲の規模は、面積・寸法を記載すること。(ひび割れ幅のみmmとし、その他をm表記とする)
C30: ※ 変状数に準じてシートを追加すること。（１シートに１ページとすること。） | N30: ※ 構造用鋼材以外の異物に伴ううき・はく離については、メモ欄に異物の概要を記入すること。

Sheet 様式D-1-1_018
B2: ■定期点検記録様式 変状写真台帳【様式D-1-1】 | R2: 施設ID | T2: 34.28772,131.96019
B3: フリガナ | E3: (ﾋｴﾊﾞﾗｽﾞｲﾄﾞｳ) | H3: 路 線 名 | J3: 一般国道187号 | M3: 定期点検実施者 | P3: 応用地質（株） | S3: 定期点検年月日 | U3: 45840
B4: 名 称 | E4: 稗原隧道 | H4: 管理者名 | J4: 山口県岩国土木建築事務所 | P4: 太田 裕之
B5: 写真 番号 | C5: 覆工スパン 番号 | E5: 8 | F5: 余 白 | M5: 写真 番号 | N5: 覆工スパン 番号 | P5: 8 | Q5: 余 白
C6: 変状番号 | E6: 5 | N6: 変状番号 | P6: 6
B7: 変状 部位 | C7: 対象箇所 | E7: 覆工 | M7: 変状 部位 | N7: 対象箇所 | P7: 覆工
C8: 部位区分 | E8: 水平打ち継ぎ目（右側） | N8: 部位区分 | P8: 側壁（右側）
B9: 変状種類 | E9: うき・はく離 | M9: 変状種類 | P9: うき・はく離
B10: 対策 区分 | C10: 変状区分 | E10: 材質劣化 | M10: 対策 区分 | N10: 変状区分 | P10: 材質劣化
C11: 応急措置前 | E11: － | N11: 応急措置前 | P11: －
C12: 応急措置後 | E12: Ⅰ | N12: 応急措置後 | P12: Ⅰ
B13: 変状の発生範囲及び規模 | E13: － | H13: 前回変状の発生範囲及び規模 | J13: 0.06㎡（0.15m×0.4m） | M13: 変状の発生範囲及び規模 | P13: 2.52㎡（2.1m×1.2m） | S13: 前回変状の発生範囲及び規模 | U13: 2.52㎡（2.1m×1.2m）
B14: 対策履歴 | E14: はく落防止工(FRPネット) | H14: 実施状況（実施日） | J14: － | M14: 対策履歴 | P14: なし | S14: 実施状況（実施日） | U14: －
B15: メモ | E15: 対策済み 【前回定期点検 Ⅱb判定】 | M15: メモ | P15: 豆板、変状種類変更、打音異常なし、軽微な為再判定 【前回定期点検 Ⅱb判定】
B16: 写真 番号 | C16: 覆工スパン 番号 | E16: 8 | F16: 余 白 | M16: 写真 番号 | N16: 覆工スパン 番号 | P16: 8 | Q16: 余 白
C17: 変状番号 | E17: 7 | N17: 変状番号 | P17: 8
B18: 変状 部位 | C18: 対象箇所 | E18: 覆工 | M18: 変状 部位 | N18: 対象箇所 | P18: 覆工
C19: 部位区分 | E19: 側壁（右側） | N19: 部位区分 | P19: 横断目地（左側）
B20: 変状種類 | E20: うき・はく離 | M20: 変状種類 | P20: 漏水
B21: 対策 区分 | C21: 変状区分 | E21: 材質劣化 | M21: 対策 区分 | N21: 変状区分 | P21: 漏水
C22: 応急措置前 | E22: － | N22: 応急措置前 | P22: －
C23: 応急措置後 | E23: Ⅰ | N23: 応急措置後 | P23: Ⅱb
B24: 変状の発生範囲及び規模 | E24: 2.1㎡（2.1m×1m） | H24: 前回変状の発生範囲及び規模 | J24: 2.1㎡（2.1m×1m） | M24: 変状の発生範囲及び規模 | P24: 3㎡（6m×0.5m） | S24: 前回変状の発生範囲及び規模 | U24: 記載なし
B25: 対策履歴 | E25: なし | H25: 実施状況（実施日） | J25: － | M25: 対策履歴 | P25: なし | S25: 実施状況（実施日） | U25: －
B26: メモ | E26: 豆板、変状種類変更、打音異常なし、軽微な為再判定 【前回定期点検 Ⅱb判定】 | M26: メモ | P26: 導水工から漏水、にじみ程度(前回点検時遊離石灰のみ) 【前回定期点検 Ⅱb判定】
C27: ※ 応急措置後の対策区分について添付すること。また、点検前に 実施された措置によりⅠと判定された箇所も添付すること。 | N27: ※ 変状の発生範囲の規模とは、対策を行う際に参考となる変状の長さや面積をいう。
N28: ※ 応急措置を実施しないで決定した変状の対策区分は、対策区分の応急措置後の欄に記入すること。
C29: ※ たたき落としを実施した場合は、実施後の写真を添付すること。 | N29: ※ 変状の発生範囲の規模は、面積・寸法を記載すること。(ひび割れ幅のみmmとし、その他をm表記とする)
C30: ※ 変状数に準じてシートを追加すること。（１シートに１ページとすること。） | N30: ※ 構造用鋼材以外の異物に伴ううき・はく離については、メモ欄に異物の概要を記入すること。

Sheet 様式D-1-1_019
B2: ■定期点検記録様式 変状写真台帳【様式D-1-1】 | R2: 施設ID | T2: 34.28772,131.96019
B3: フリガナ | E3: (ﾋｴﾊﾞﾗｽﾞｲﾄﾞｳ) | H3: 路 線 名 | J3: 一般国道187号 | M3: 定期点検実施者 | P3: 応用地質（株） | S3: 定期点検年月日 | U3: 45840
B4: 名 称 | E4: 稗原隧道 | H4: 管理者名 | J4: 山口県岩国土木建築事務所 | P4: 太田 裕之
B5: 写真 番号 | C5: 覆工スパン 番号 | E5: 8 | F5: 余 白 | M5: 写真 番号 | N5: 覆工スパン 番号 | P5: 8 | Q5: 余 白
C6: 変状番号 | E6: 9 | N6: 変状番号 | P6: 10
B7: 変状 部位 | C7: 対象箇所 | E7: 覆工 | M7: 変状 部位 | N7: 対象箇所 | P7: 覆工
C8: 部位区分 | E8: 側壁（左側） | N8: 部位区分 | P8: 横断目地（右側）
B9: 変状種類 | E9: 漏水 | M9: 変状種類 | P9: 漏水
B10: 対策 区分 | C10: 変状区分 | E10: 漏水 | M10: 対策 区分 | N10: 変状区分 | P10: 漏水
C11: 応急措置前 | E11: － | N11: 応急措置前 | P11: －
C12: 応急措置後 | E12: Ⅱb | N12: 応急措置後 | P12: Ⅱb
B13: 変状の発生範囲及び規模 | E13: 0.8㎡（1.6m×0.5m） | H13: 前回変状の発生範囲及び規模 | J13: なし | M13: 変状の発生範囲及び規模 | P13: 3.3㎡（6.6m×0.5m） | S13: 前回変状の発生範囲及び規模 | U13: なし
B14: 対策履歴 | E14: なし | H14: 実施状況（実施日） | J14: － | M14: 対策履歴 | P14: なし | S14: 実施状況（実施日） | U14: －
B15: メモ | E15: 導水工から漏水、にじみ程度 【今回新たに確認】 | M15: メモ | P15: 導水工から漏水、にじみ程度、遊離石灰を伴う 【今回新たに確認】
B16: 写真 番号 | C16: 覆工スパン 番号 | F16: 余 白 | M16: 写真 番号 | N16: 覆工スパン 番号 | Q16: 余 白
C17: 変状番号 | N17: 変状番号
B18: 変状 部位 | C18: 対象箇所 | M18: 変状 部位 | N18: 対象箇所
C19: 部位区分 | N19: 部位区分
B20: 変状種類 | M20: 変状種類
B21: 対策 区分 | C21: 変状区分 | M21: 対策 区分 | N21: 変状区分
C22: 応急措置前 | N22: 応急措置前
C23: 応急措置後 | N23: 応急措置後
B24: 変状の発生範囲及び規模 | H24: 前回変状の発生範囲及び規模 | M24: 変状の発生範囲及び規模 | S24: 前回変状の発生範囲及び規模
B25: 対策履歴 | H25: 実施状況（実施日） | M25: 対策履歴 | S25: 実施状況（実施日）
B26: メモ | M26: メモ
C27: ※ 応急措置後の対策区分について添付すること。また、点検前に 実施された措置によりⅠと判定された箇所も添付すること。 | N27: ※ 変状の発生範囲の規模とは、対策を行う際に参考となる変状の長さや面積をいう。
N28: ※ 応急措置を実施しないで決定した変状の対策区分は、対策区分の応急措置後の欄に記入すること。
C29: ※ たたき落としを実施した場合は、実施後の写真を添付すること。 | N29: ※ 変状の発生範囲の規模は、面積・寸法を記載すること。(ひび割れ幅のみmmとし、その他をm表記とする)
C30: ※ 変状数に準じてシートを追加すること。（１シートに１ページとすること。） | N30: ※ 構造用鋼材以外の異物に伴ううき・はく離については、メモ欄に異物の概要を記入すること。

Sheet 様式D-1-1_020
B2: ■定期点検記録様式 変状写真台帳【様式D-1-1】 | R2: 施設ID | T2: 34.28772,131.96019
B3: フリガナ | E3: (ﾋｴﾊﾞﾗｽﾞｲﾄﾞｳ) | H3: 路 線 名 | J3: 一般国道187号 | M3: 定期点検実施者 | P3: 応用地質（株） | S3: 定期点検年月日 | U3: 45840
B4: 名 称 | E4: 稗原隧道 | H4: 管理者名 | J4: 山口県岩国土木建築事務所 | P4: 太田 裕之
B5: 写真 番号 | C5: 覆工スパン 番号 | E5: 9 | F5: 余 白 | M5: 写真 番号 | N5: 覆工スパン 番号 | P5: 9 | Q5: 余 白
C6: 変状番号 | E6: 1 | N6: 変状番号 | P6: 2
B7: 変状 部位 | C7: 対象箇所 | E7: 覆工 | M7: 変状 部位 | N7: 対象箇所 | P7: 覆工
C8: 部位区分 | E8: 横断目地（天端） | N8: 部位区分 | P8: 横断目地（天端）
B9: 変状種類 | E9: 漏水 | M9: 変状種類 | P9: うき・はく離
B10: 対策 区分 | C10: 変状区分 | E10: 漏水 | M10: 対策 区分 | N10: 変状区分 | P10: 材質劣化
C11: 応急措置前 | E11: － | N11: 応急措置前 | P11: －
C12: 応急措置後 | E12: Ⅲ | N12: 応急措置後 | P12: Ⅰ
B13: 変状の発生範囲及び規模 | E13: 4.05㎡（8.1m×0.5m） | H13: 前回変状の発生範囲及び規模 | J13: 記載なし | M13: 変状の発生範囲及び規模 | P13: － | S13: 前回変状の発生範囲及び規模 | U13: 0.2㎡（1.3m×0.15m）
B14: 対策履歴 | E14: なし | H14: 実施状況（実施日） | J14: － | M14: 対策履歴 | P14: はく落防止工(FRPネット) | S14: 実施状況（実施日） | U14: －
B15: メモ | E15: 今回点検時漏水なし(継続監視) 【前回定期点検 Ⅲ判定】 | M15: メモ | P15: 対策済み 【前回定期点検 Ⅱa判定】
B16: 写真 番号 | C16: 覆工スパン 番号 | E16: 9 | F16: 余 白 | M16: 写真 番号 | N16: 覆工スパン 番号 | P16: 9 | Q16: 余 白
C17: 変状番号 | E17: 3 | N17: 変状番号 | P17: 4
B18: 変状 部位 | C18: 対象箇所 | E18: 覆工 | M18: 変状 部位 | N18: 対象箇所 | P18: 覆工
C19: 部位区分 | E19: 横断目地（左側） | N19: 部位区分 | P19: 水平打ち継ぎ目（左側）
B20: 変状種類 | E20: 漏水 | M20: 変状種類 | P20: 漏水
B21: 対策 区分 | C21: 変状区分 | E21: 漏水 | M21: 対策 区分 | N21: 変状区分 | P21: 漏水
C22: 応急措置前 | E22: － | N22: 応急措置前 | P22: －
C23: 応急措置後 | E23: Ⅱb | N23: 応急措置後 | P23: Ⅱb
B24: 変状の発生範囲及び規模 | E24: 3.5㎡（7m×0.5m） | H24: 前回変状の発生範囲及び規模 | J24: 記載なし | M24: 変状の発生範囲及び規模 | P24: 1.5㎡（3m×0.5m） | S24: 前回変状の発生範囲及び規模 | U24: 記載なし
