Workbook
Name その他: '(参考)リスト'!$C$47
Name その他施設: '(参考)リスト'!$C$79:$C$83
Name 換気施設: '(参考)リスト'!$C$56:$C$60
Name 坑門: '(参考)リスト'!$C$31:$C$32
Name 照明施設: '(参考)リスト'!$C$52:$C$54
Name 天井板: '(参考)リスト'!$C$37:$C$39
Name 内装板: '(参考)リスト'!$C$34:$C$35
Name 非常用施設: '(参考)リスト'!$C$62:$C$77
Name 覆工: '(参考)リスト'!$C$16:$C$29
Name 路面: '(参考)リスト'!$C$41:$C$45

Sheet 点検様式作成フロー
A1: 点検様式作成フロ-
A3: 作成フロー図 | H3: 点検調書作成手順
H4: ①様式A-1～A-3（トンネル台帳）
H5: トンネル点検の実施にあたっては，現場点検作業に先行してトンネル情報を収集する。トンネル台帳（様式Ａ－1～様式Ａ－3）はトンネル完成後に作成され，維持管理の段階で引き継がれるが，関連資料等を確認したうえで，追加情報があれば必要に応じて追記することが望ましい。
H9: ②様式D-2-1、様式D-2-1´
H10: 現場点検作業を実施し，近接目視点検で確認した変状状況や補修履歴を忠実に変状展開図に転記する。
H12: ③様式D-1-1、様式D-1-2
H13: 変状展開図や撮影した写真等をもとに，対象トンネルの対策区分を決定し，対策区分がⅡ～Ⅳの変状および異常判定区分「×」を抽出し，写真台帳を作成する。
H16: ④様式B
H17: 写真台帳の作成と同時に，トンネルの構造を展開した位置図に変状写真位置を記録する。
H19: ⑤様式D-3
H20: 変状展開図ならびに写真台帳をもとに覆工スパンごとの変状展開図を作成し，変状発生状況をとりまとめる。
H22: ⑥様式E
H23: 近接目視または打音検査，触診ができていない箇所および近接目視によらない方法を講じた場所に対する調査結果を記録する。
... H33: ファイルは以下の分割規則に従う。 ※各ファイルとも （参考）リスト のシートを付けて保存すること。 ・様式A-1～A-3は同一ファイルとする。 ・様式B、D-1-1、D-1-2、D-2-1（もしくはD-2-1'）は別ファイルとする。 ・様式C-1-1、C-1-2、C-2は同一ファイルとする。 ・様式D-3、E、F、Gは同一ファイルとする。

Sheet 変状面積算出方法
A1: 変状面積算出方法
A26: 注1）外力による変状：ひび割れや圧ざの場合は変状の寸法を記録する。
A27: 例）ひび割れ：長さ（L）×最大ひび割れ幅（t）を記録する。 変形，移動，沈下：数値的な記載が可能な場合のみ記載する。
A28: 注2）材料劣化による：打音異常
A29: 例）うき，はく離（閉合ひび割れ）：変状範囲を包括する寸法（L×W） うき，はく離（ひび割れ沿い）：打音異常箇所を包括する寸法（L×W） 鋼材腐食（鉄筋腐食）：一括した対策が適当と考えられる範囲を包括する寸法（L×W）
A30: 注3）漏水による変状：漏水発生範囲を包括し，垂れ下がりの可能性がある側壁下端まで含めた寸法を，L×Wで記録する。打継ぎ目地沿いの 漏水については目地を跨いだ50cm幅を横幅とする。

Sheet 様式A-1
B2: ■トンネル台帳 トンネル諸元、非常用施設諸元 【様式A-1】 | S2: 施設ID | W2: 34.29478,131.94625
B3: フリガナ | D3: ヒエバラダイサンズイドウ | H3: 路線名 | J3: 国道187号 | P3: 管理者名 | R3: 山口県 山口県岩国土木建築事務所 | W3: 緊急輸送道路 | Z3: 一次
B4: 名 称 | D4: 稗原第3隧道 | W4: 代替路の有無 | Z4: 無
B5: 所在地 | D5: 自 | E5: 山口県岩国市錦町 | H5: 作成者 | K5: 株式会社エイト日本技術開発 岡根 三千夫 | P5: 作成年月日 | R5: 45651 | U5: トンネル延長 | X5: L= | Z5: 76 | AB5: ｍ
D6: 至 | E6: 山口県岩国市錦町 | U6: ﾄﾝﾈﾙの分類 | X6: 陸上トンネル（掘進工法）
B7: 起点 | C7: 緯度 | E7: 342947.05 | H7: 完成年月日 | K7: 昭和42年3月 | M7: 舗装 | O7: 種 別 | Q7: セメント系 | S7: トンネル非常用施設 | T7: 施設の内訳 | X7: 種別・方式 | Y7: 型式 | Z7: 個数 | AA7: 更新年度 | AE7: =INT(E7/10000) -> 34 | AF7: =INT(E7/100)-AE7*100 -> 29 | AG7: =E7-AE7*10000-AF7*100 -> 47.05 | AH7: =ROUND(AE7+AF7/60+AG7/60/60,5) -> 34.4964 | AI7: =TEXT(AH7,"0.00000") -> 34.49640
C8: 経度 | E8: 1319460.9 | H8: 供用年月日 | O8: 厚 さ | Q8: 0.15m | T8: 通報設備 | U8: 通話型通報設備 | X8: - | Y8: - | Z8: - | AA8: - | AE8: =INT(E8/10000) -> 131 | AF8: =INT(E8/100)-AE8*100 -> 94 | AG8: =E8-AE8*10000-AF8*100 -> 60.88 | AH8: =ROUND(AE8+AF8/60+AG8/60/60,5) -> 132.58358 | AI8: =TEXT(AH8,"0.00000") -> 132.58358
B9: 終点 | C9: 緯度 | E9: 342951.62 | H9: トンネル区分 | K9: D等級 | O9: 面 積 | U9: 操作型通報設備 | X9: - | Y9: - | Z9: - | AA9: -
C10: 経度 | E10: 1319455.5 | H10: 内装種類 | K10: 覆工（内装なし） | O10: 更新年次 | U10: 自動通報設備 | X10: - | Y10: - | Z10: - | AA10: -
B11: 一般有料区分 | E11: 無料 | H11: 天井板種類 | K11: 覆工（内装なし） | M11: 排水 | O11: 種 別 | Q11: U型側溝 | T11: 警報設備 | U11: 非常警報設備 | X11: - | Y11: - | Z11: - | AA11: -
B12: 土かぶり | E12: 0 | G12: m | H12: 坑門 | I12: 起点 | J12: 形式 | K12: 覆工 | O12: 更新年次 | T12: 消火設備 | U12: 消 火 器 | X12: - | Y12: - | Z12: - | AA12: -
B13: 内空断面積 | E13: 42.7 | G13: m2 | J13: 延長 | K13: 0 | L13: m | M13: 施設 | P13: 種別・方式 | Q13: 個数 | R13: 更新年次 | U13: 消火栓設備 | X13: - | Y13: - | Z13: - | AA13: -
B14: 交 通 量 | E14: 2035 | G14: 台/日 | I14: 終点 | J14: 形式 | K14: 覆工 | M14: 道路附属物等 | N14: 照明 | P14: - | Q14: - | R14: - | T14: 避難誘導設備 | U14: 誘導表示設備 | X14: - | Y14: - | Z14: - | AA14: -
C15: 道 路 幅 | E15: 7 | G15: m | J15: 延長 | K15: 0 | L15: m | N15: 換気 | P15: 自然換気 | U15: 避難情報提供設備 | X15: - | Y15: - | Z15: - | AA15: -
B16: 幅 員 | C16: 車 道 幅 | E16: 3.25 | G16: m | H16: 竣工巻厚 | I16: アーチ | L16: cm | N16: 標識 | P16: - | Q16: - | R16: - | X16: - | Y16: - | Z16: - | AA16: -
E17: 3.25 | G17: m | I17: 側 壁 | L17: cm | N17: 警報表示板 | P17: - | Q17: - | R17: - | U17: 避難通路 | X17: - | Y17: - | Z17: - | AA17: -
C18: 歩道等幅 | E18: 0 | G18: m | L18: cm | N18: 吸音板 | P18: - | Q18: - | R18: - | U18: 排煙設備 | X18: - | Y18: - | Z18: - | AA18: -
B19: 高さ | C19: 建築限界高 | E19: 4.5 | G19: m | I19: インバート | L19: cm | T19: その他の設備 | U19: 給水栓設備 | X19: - | Y19: - | Z19: - | AA19: -
C20: 中央高 | G20: m | H20: 半径 | I20: アーチ | L20: cm | U20: 無線通信補助設備 | X20: - | Y20: - | Z20: - | AA20: -
C21: 有効高 | E21: 4.5 | G21: m | I21: 側 壁 | L21: cm | U21: 水噴霧設備 | X21: - | Y21: - | Z21: - | AA21: -
C22: 縦断勾配 | E22: 3 | I22: インバート | L22: cm | U22: 監視設備 | X22: - | Y22: - | Z22: - | AA22: -
B23: 線 形 | C23: 直線区間長 | E23: 0 | H23: 占用物件 | I23: 種 類 | K23: 寸 法 | M23: 管理者名 | Q23: 更新年次 | S23: 非常用施設 関連設備 | U23: 予備発電設備 | X23: - | Y23: - | Z23: - | AA23: -
C24: 曲線区間 | D24: 区間長 | F24: -
D25: 起点側ｸﾛｿｲﾄﾞ | F25: -
D26: 曲線半径 | F26: -
D27: 終点側ｸﾛｿｲﾄﾞ | F27: - | S27: その他 | U27: 非常駐車帯 | X27: - | Y27: - | Z27: - | AA27: -
B28: トンネル工法 | E28: 矢板工法 | U28: 方向転換所 | X28: - | Y28: - | Z28: - | AA28: -
C29: ※緯度・経度については、秒の小数第二位の単位まで記入すること。

Sheet 様式A-2
B3: ■トンネル台帳 トンネル情報一覧表 【様式A-2】
B4: フリガナ | E4: ='様式A-1'!D3 -> ヒエバラダイサンズイドウ | J4: 路線名 | M4: ='様式A-1'!J3 -> 国道187号 | S4: 作成者 | Y4: ='様式A-1'!K5 -> 株式会社エイト日本技術開発 岡根 三千夫 | AE4: 作成年月日 | AI4: ='様式A-1'!R5 -> 45651
B5: 名 称 | E5: ='様式A-1'!D4 -> 稗原第3隧道 | J5: 管理者名 | M5: ='様式A-1'!R3 -> 山口県 山口県岩国土木建築事務所
B6: 覆工 ｽﾊﾟﾝ 番号 | C6: ｽﾊﾟﾝ長 | D6: 追加距離 | F6: トンネル本体工 | K6: 照明施設 | O6: 非常用施設 | AE6: 換気施設 | AK6: その他附属物等
O7: 通報設備 | R7: 警報設備 | S7: 消火設備 | U7: 避難誘導設備 | Y7: その他の設備 | AC7: 特記事項
D8: 起点側 | E8: 終点側 | F8: 特記事項 | I8: 内装板 | J8: 天井板 | K8: 基本照明 | L8: 入口出口照明 | M8: 特記事項 | O8: 通話型通報設備 | P8: 操作型通報設備 | Q8: 自動通報設備 | R8: 非常警報設備 | S8: 消 火 器 | T8: 消火栓設備 | U8: 誘導表示設備 | V8: 避難情報提供設備 | W8: 避難通路 | X8: 排煙設備 | Y8: 給水栓設備 | Z8: 無線通信補助設備 | AA8: 水噴霧設備 | AB8: 監視設備 | AE8: JF | AF8: VI計 | AG8: CO計 | AH8: 風向 風速計 | AI8: 特記事項
C9: (m) | D9: (m) | E9: (m)
B10: PS | C10: 2.2 | D10: 0 | E10: 2.2 | F10: 坑門(面壁型)
B11: 1 | C11: 6 | D11: 2.2 | E11: 8.2
B12: 2 | C12: 10.4 | D12: 8.2 | E12: 18.6
B13: 3 | C13: 9 | D13: 18.6 | E13: 27.6
B14: 4 | C14: 9 | D14: 27.6 | E14: 36.6
B15: 5 | C15: 10.5 | D15: 36.6 | E15: 47.1
B16: 6 | C16: 6 | D16: 47.1 | E16: 53.1
B17: 7 | C17: 9 | D17: 53.1 | E17: 62.1
B18: 8 | C18: 8.9 | D18: 62.1 | E18: 71
B19: 9 | C19: 3.95 | D19: 71 | E19: 74.95
B20: PE | C20: 1 | D20: 74.95 | E20: 75.95 | F20: 坑門(面壁型)
B45: ※ 行が不足する場合は、適時、表の行を増やすこと。

Sheet 様式A-3
B3: ■トンネル台帳 トンネル記録（位置図、断面図、施工実績他）【様式A-3】
B4: フリガナ | E4: ='様式A-1'!D3 -> ヒエバラダイサンズイドウ | J4: 路線名 | M4: ='様式A-1'!J3 -> 国道187号 | S4: 作成者 | W4: ='様式A-1'!K5 -> 株式会社エイト日本技術開発 岡根 三千夫 | AC4: 作成年月日 | AF4: ='様式A-1'!R5 -> 45651
B5: 名 称 | E5: ='様式A-1'!D4 -> 稗原第3隧道 | J5: 管理者名 | M5: ='様式A-1'!R3 -> 山口県 山口県岩国土木建築事務所
B6: 位置図・現況写真・標準断面図・地質縦断図・施工実績

Sheet 様式B_001
B2: ■定期点検記録様式 トンネル変状・異常箇所写真位置図 【様式B】 | N2: 定期点検年月日 | P2: 45586 | S2: 施設ID | V2: 34.29478,131.94625
B3: フリガナ | C3: ヒエバラダイサンズイドウ | G3: 路線名 | H3: 国道187号 | K3: 管理者名 | L3: 山口県 山口県岩国土木建築事務所 | Q3: 定期点検 実施者 | S3: 株式会社エイト日本技術開発 | V3: 起点 | W3: 緯度 | X3: 34.4964
B4: 名 称 | C4: 稗原第3隧道 | S4: 岡根 三千夫 | W4: 経度 | X4: 132.58358
B5: 所在地 | C5: 自 | D5: 山口県岩国市錦町 | G5: トンネル工法 | I5: 矢板工法 | L5: トンネル延長 | N5: L= | O5: 76 | P5: ｍ | Q5: 自専道 or 一般道 | R5: 一般道 | S5: 代替路の有無 | U5: 無 | V5: 終点 | W5: 緯度 | X5: 34.49767
C6: 至 | D6: 山口県岩国市錦町 | G6: 建設年度 | I6: 昭和41年 | L6: 幅員 | N6: L= | O6: 7 | P6: ｍ | S6: 緊急輸送道路 | U6: 一次 | W6: 経度 | X6: 132.58207
B7: トンネル毎 の健全性の 診断の区分 | D7: Ⅲ
G8: 変状・異常 箇所数合計 | I8: トンネル本体工 | J8: 材質劣化 | K8: Ⅱ | L8: 49 | N8: Ⅲ | O8: 1 | Q8: Ⅳ | R8: 0 | T8: 附属物等 の取付状態 | V8: ◯ （応急措置後) | X8: 0
J9: 漏水 | K9: Ⅱ | L9: 34 | N9: Ⅲ | O9: 0 | Q9: Ⅳ | R9: 0
V10: ✕ | X10: 0
J11: 外力 | K11: Ⅱ | L11: 0 | N11: Ⅲ | O11: 0 | Q11: Ⅳ | R11: 0
B12: トンネル変状・異常箇所写真位置図
J29: 注１：本位置図は、見下げた状態で記載すること。 注２：覆工スパン番号は横断目地毎(矢板工法の場合は上半アーチの 横断目地毎)に設定すること。 | Q29: 注３：写真番号に付する変状番号は、各覆工スパンの変状に対して新たに確認された場合 は順次追加していくこと。 注４：横断目地の変状は前の覆工スパン番号で計上すること。 注５：１枚に収まらない場合は、複数枚に分けて作成すること。
C30: ※1 トンネル本体工の変状数は、材質劣化、漏水に起因するものは変状単位で、外力に起因するものはスパン単位で計上すること。
C31: ※2 トンネル本体工の変状に対しては、措置の必要性（Ⅱ～Ⅳ）について表記すること。また、点検前に実施された措置によりⅠと判定された箇所についても記載すること。
C32: ※3 附属物等の取付状態の○欄については、応急措置前に判定区分×とした箇所のうち応急措置により○判定とした箇所の数を記入すること。
C33: ※4 附属物等の異常番号は、本体工と番号が重複しないよう101番以降とする等の配慮を行い、分かりやすく記録すること。

Sheet 様式B_002
B2: ■定期点検記録様式 トンネル変状・異常箇所写真位置図 【様式B】 | N2: 定期点検年月日 | P2: 45586 | S2: 施設ID | V2: 34.29478,131.94625
B3: フリガナ | C3: ヒエバラダイサンズイドウ | G3: 路線名 | H3: 国道187号 | K3: 管理者名 | L3: 山口県 岩国土木建築事務所 | Q3: 定期点検 実施者 | S3: 株式会社エイト日本技術開発 | V3: 起点 | W3: 緯度 | X3: 34.4964
B4: 名 称 | C4: 稗原第3隧道 | S4: 岡根 三千夫 | W4: 経度 | X4: 132.58358
B5: 所在地 | C5: 自 | D5: 山口県岩国市錦町 | G5: トンネル工法 | I5: 矢板工法 | L5: トンネル延長 | N5: L= | O5: 76 | P5: ｍ | Q5: 自専道 or 一般道 | R5: 一般道 | S5: 代替路の有無 | U5: 無 | V5: 終点 | W5: 緯度 | X5: 34.49767
C6: 至 | D6: 山口県岩国市錦町 | G6: 建設年度 | I6: 昭和41年 | L6: 幅員 | N6: L= | O6: 7 | P6: ｍ | S6: 緊急輸送道路 | U6: 一次 | W6: 経度 | X6: 132.58207
B7: トンネル毎 の健全性の 診断の区分 | D7: Ⅲ
G8: 変状・異常 箇所数合計 | I8: トンネル本体工 | J8: 材質劣化 | K8: Ⅱ | L8: 49 | N8: Ⅲ | O8: 1 | Q8: Ⅳ | R8: 0 | T8: 附属物等 の取付状態 | V8: ◯ （応急措置後) | X8: 0
J9: 漏水 | K9: Ⅱ | L9: 34 | N9: Ⅲ | O9: 0 | Q9: Ⅳ | R9: 0
V10: ✕ | X10: 0
J11: 外力 | K11: Ⅱ | L11: 0 | N11: Ⅲ | O11: 0 | Q11: Ⅳ | R11: 0
B12: トンネル変状・異常箇所写真位置図
J29: 注１：本位置図は、見下げた状態で記載すること。 注２：覆工スパン番号は横断目地毎(矢板工法の場合は上半アーチの 横断目地毎)に設定すること。 | Q29: 注３：写真番号に付する変状番号は、各覆工スパンの変状に対して新たに確認された場合 は順次追加していくこと。 注４：横断目地の変状は前の覆工スパン番号で計上すること。 注５：１枚に収まらない場合は、複数枚に分けて作成すること。
C30: ※1 トンネル本体工の変状数は、材質劣化、漏水に起因するものは変状単位で、外力に起因するものはスパン単位で計上すること。
C31: ※2 トンネル本体工の変状に対しては、措置の必要性（Ⅱ～Ⅳ）について表記すること。また、点検前に実施された措置によりⅠと判定された箇所についても記載すること。
C32: ※3 附属物等の取付状態の○欄については、応急措置前に判定区分×とした箇所のうち応急措置により○判定とした箇所の数を記入すること。
C33: ※4 附属物等の異常番号は、本体工と番号が重複しないよう101番以降とする等の配慮を行い、分かりやすく記録すること。

Sheet 様式C-1-1
B2: ■定期点検記録様式 全スパン定期点検結果総括表（トンネル本体工） 【様式C－1－1】
B3: フリガナ | F3: ヒエバラダイサンズイドウ | I3: 路線名 | K3: 国道187号 | O3: 定期点検実施者 | P3: 株式会社エイト日本技術開発 | T3: 定期点検年月日 | X3: 45587
B4: 名 称 | F4: 稗原第3隧道 | I4: 管理者名 | K4: 山口県山口県岩国土木建築事務所 | P4: 岡根 三千夫
B5: 定期点検結果 | C5: 覆工 スパン 番号 | E5: 変状 番号 | F5: 距離 （m） | G5: 変状部位 | I5: 変 状 の 内 容 | O5: 前回定期点検時の状態 | P5: 今回定期点検結果 | T5: 措置履歴 | Y5: 対応方針 ・ 特記事項
G7: 対象箇所 | H7: 部位区分 | I7: 変状区分 | J7: 変状種類 | M7: 変状の発生範囲の規模 | N7: 前回定期点検時の変状の発生範囲及び規模 | O7: 対策区分 | P7: 対策区分 | R7: 調査の 要否 | S7: 措置の 要否 | T7: 実施 | U7: 措置の実施状況
P8: 応急措置前 | Q8: 応急措置後
C9: PS | E9: 1 | F9: 0 | G9: 坑門 | H9: 面壁・妻壁等 | I9: 材質劣化 | J9: うき・はく離 | M9: 0.2m×0.1m | N9: 0.2m×0.1m | O9: Ⅱb | P9: － | Q9: Ⅰ | R9: 否 | S9: 否 | T9: 未 | U9: － | Y9: 判定見直し
C10: PS | E10: 2 | F10: 0 | G10: 坑門 | H10: 面壁・妻壁等 | I10: 材質劣化 | J10: 圧ざ、ひび割れ | M10: W=3.0mm×L=0.9m | N10: W=3.0mm×L=0.9m | O10: Ⅱb | P10: － | Q10: Ⅱb | R10: 否 | S10: 要監視 | T10: 継続 | U10: 監視(日常)
C11: PS | E11: 3 | F11: 0 | G11: 坑門 | H11: 面壁・妻壁等 | I11: 材質劣化 | J11: 圧ざ、ひび割れ | M11: W=10.0mm×L=1.6m | N11: W=10.0mm×L=1.6m | O11: Ⅱb | P11: － | Q11: Ⅱb | R11: 否 | S11: 要監視 | T11: 継続 | U11: 監視(日常)
C12: PS | E12: 4 | F12: 0 | G12: 坑門 | H12: 面壁・妻壁等 | I12: 材質劣化 | J12: うき・はく離 | M12: 0.4m×2.8m | N12: 0.4m×2.8m | O12: Ⅱb | P12: － | Q12: Ⅱb | R12: 否 | S12: 要監視 | T12: 継続 | U12: 監視(日常)
C13: PS | E13: 5 | F13: 0.4 | G13: 覆工 | H13: アーチ（左側） | I13: 材質劣化 | J13: うき・はく離 | M13: 0.25m×0.4m | N13: 0.25m×0.4m | O13: Ⅱa | P13: － | Q13: Ⅱa | R13: 否 | S13: 要監視 | T13: 継続 | U13: 監視(重点)
C14: PS | E14: 6 | F14: 1 | G14: 覆工 | H14: アーチ（左側） | I14: 材質劣化 | J14: うき・はく離 | M14: 0.2m×1.0m | N14: 0.1m×0.7m | O14: Ⅱa | P14: － | Q14: Ⅱa | R14: 否 | S14: 要監視 | T14: 継続 | U14: 監視(重点) | Y14: 寸法変更
C15: PS | E15: 7 | F15: 0 | G15: 路面 | H15: 車道 | I15: 材質劣化 | J15: うき・はく離 | M15: 2.5m×0.4m | N15: 2.5m×0.4m | O15: Ⅱb | P15: － | Q15: － | R15: 否 | S15: 否 | T15: 未 | U15: －
C16: 1 | E16: 1 | F16: 3.8 | G16: 覆工 | H16: 水平打ち継ぎ目（左側） | I16: 材質劣化 | J16: うき・はく離 | M16: 0.2m×3.0m | N16: 0.1m×3.0m | O16: Ⅱb | P16: － | Q16: Ⅱb | R16: 否 | S16: 要監視 | T16: 継続 | U16: 監視(日常) | Y16: 寸法変更
C17: 1 | E17: 2 | F17: 6.1 | G17: 覆工 | H17: 水平打ち継ぎ目（左側） | I17: 漏水 | J17: 漏水 | M17: 2.5m×0.9m | N17: － | O17: － | P17: － | Q17: Ⅱb | R17: 否 | S17: 要監視 | T17: 未 | U17: －
C18: 1 | E18: 3 | F18: 6.5 | G18: 覆工 | H18: 横断目地（左側） | I18: 漏水 | J18: 漏水 | M18: 5.0m×3.3m | N18: － | O18: － | P18: － | Q18: Ⅱb | R18: 否 | S18: 要監視 | T18: 未 | U18: －
C19: 1 | E19: 4 | F19: 8.2 | G19: 覆工 | H19: 横断目地（左側） | I19: 材質劣化 | J19: 補強・補修材の破損 | M19: 0.1m×0.1m | N19: － | O19: － | P19: － | Q19: Ⅱb | R19: 否 | S19: 要監視 | T19: 未 | U19: －
C20: 1 | E20: 5 | F20: 2.3 | G20: 覆工 | H20: アーチ（左側） | I20: 材質劣化 | J20: 圧ざ、ひび割れ | M20: W=0.8mm×L=4.9m | N20: W=0.8mm×L=4.9m | O20: Ⅱb | P20: － | Q20: Ⅱb | R20: 否 | S20: 要監視 | T20: 継続 | U20: 監視(日常)
C21: 1 | E21: 6 | F21: 7 | G21: 覆工 | H21: アーチ（左側） | I21: 材質劣化 | J21: 補強・補修材の破損 | M21: 0.1m×1.2m | N21: 0.15m×0.9m | O21: Ⅱb | P21: － | Q21: Ⅱb | R21: 否 | S21: 要監視 | T21: 継続 | U21: 監視(日常) | Y21: 寸法変更
C22: 1 | E22: 7 | F22: 5.5 | G22: 覆工 | H22: アーチ（天端） | I22: 材質劣化 | J22: 鋼材腐食 | M22: 0.1m×0.05m | N22: 0.1m×0.1m | O22: Ⅱb | P22: － | Q22: Ⅱb | R22: 否 | S22: 要監視 | T22: 継続 | U22: 監視(日常) | Y22: 寸法変更
C23: 1 | E23: 8 | F23: 6.4 | G23: 覆工 | H23: アーチ（右側） | I23: 材質劣化 | J23: 鋼材腐食 | M23: 0.1m×0.05m | N23: 0.1m×0.1m | O23: Ⅱb | P23: － | Q23: Ⅱb | R23: 否 | S23: 要監視 | T23: 継続 | U23: 監視(日常) | Y23: 寸法変更
C24: 1 | E24: 9 | F24: 2.3 | G24: 覆工 | H24: アーチ（右側） | I24: 材質劣化 | J24: その他 | M24: 0.05m×4.2m | N24: 0.05m×4.2m | O24: Ⅱb | P24: － | Q24: Ⅱb | R24: 否 | S24: 要監視 | T24: 継続 | U24: 監視(日常)
C25: 2 | E25: 1 | F25: 10.5 | G25: 覆工 | H25: アーチ（左側） | I25: 漏水 | J25: 漏水 | M25: 5.2m×2.4m | N25: 5.2m×2.4m | O25: Ⅱb | P25: － | Q25: Ⅱb | R25: 否 | S25: 要監視 | T25: 継続 | U25: 監視(日常)
C26: 2 | E26: 2 | F26: 13.8 | G26: 覆工 | H26: アーチ（左側） | I26: 漏水 | J26: 漏水 | M26: 5.6m×2.0m | N26: － | O26: － | P26: － | Q26: Ⅱb | R26: 否 | S26: 要監視 | T26: 未 | U26: －
C27: 2 | E27: 3 | F27: 17.1 | G27: 覆工 | H27: アーチ（左側） | I27: 漏水 | J27: 漏水 | M27: 4.2m×1.4m | N27: － | O27: － | P27: － | Q27: Ⅱb | R27: 否 | S27: 要監視 | T27: 未 | U27: －
C28: 2 | E28: 4 | F28: 18.3 | G28: 覆工 | H28: 横断目地（左側） | I28: 材質劣化 | J28: 補強・補修材の破損 | M28: 0.5m×0.4m | N28: － | O28: － | P28: － | Q28: Ⅱb | R28: 否 | S28: 要監視 | T28: 未 | U28: －
C29: 2 | E29: 5 | F29: 14 | G29: 覆工 | H29: アーチ（左側） | I29: 材質劣化 | J29: うき・はく離 | M29: 0.4m×0.1m | N29: 0.4m×0.1m | O29: Ⅱb | P29: － | Q29: Ⅰ | R29: 否 | S29: 否 | T29: 未 | U29: － | Y29: 判定見直し
C30: 2 | E30: 6 | F30: 8.2 | G30: 覆工 | H30: アーチ（左側） | I30: 材質劣化 | J30: 補強・補修材の破損 | M30: 0.15m×0.4m | N30: 0.15m×0.4m | O30: Ⅰ | P30: － | Q30: Ⅱb | R30: 否 | S30: 要監視 | T30: 継続 | U30: 監視(日常) | Y30: 寸法変更、判定見直し
C31: 2 | E31: 7 | F31: 12.1 | G31: 覆工 | H31: アーチ（左側） | I31: 材質劣化 | J31: 補強・補修材の破損 | M31: 0.1m×0.9m | N31: 0.1m×0.9m | O31: Ⅱa | P31: － | Q31: Ⅱb | R31: 否 | S31: 要監視 | T31: 継続 | U31: 監視(日常) | Y31: 寸法変更、判定見直し
C32: 2 | E32: 8 | F32: 18.4 | G32: 覆工 | H32: 横断目地（右側） | I32: 材質劣化 | J32: 補強・補修材の破損 | M32: 0.5m×0.1m | N32: － | O32: Ⅱb | P32: － | Q32: Ⅱb | R32: 否 | S32: 要監視 | T32: 継続 | U32: 監視(日常) | Y32: 寸法変更
C33: 2 | E33: 9 | F33: 13.3 | G33: 覆工 | H33: アーチ（右側） | I33: 漏水 | J33: 漏水 | M33: 5.1m×1.0m | N33: － | O33: － | P33: － | Q33: Ⅱb | R33: 否 | S33: 要監視 | T33: 未 | U33: －
C34: 2 | E34: 10 | F34: 14.7 | G34: 覆工 | H34: 水平打ち継ぎ目（右側） | I34: 材質劣化 | J34: うき・はく離 | M34: 0.15m×2.3m | N34: － | O34: － | P34: － | Q34: Ⅱb | R34: 否 | S34: 要監視 | T34: 未 | U34: －
C35: 2 | E35: 11 | F35: 10.1 | G35: 覆工 | H35: 側壁（右側） | I35: 漏水 | J35: 漏水 | M35: 0.5m×3.2m | N35: 0.5m×3.2m | O35: Ⅱb | P35: － | Q35: Ⅰ | R35: 否 | S35: 否 | T35: 未 | U35: － | Y35: 判定見直し
C36: 3 | E36: 1 | F36: 20 | G36: 覆工 | H36: アーチ（左側） | I36: 漏水 | J36: 漏水 | M36: 4.2m×1.9m | N36: 4.2m×1.9m | O36: Ⅱb | P36: － | Q36: Ⅱb | R36: 否 | S36: 要監視 | T36: 継続 | U36: 監視(日常)
C37: 3 | E37: 2 | F37: 24.1 | G37: 覆工 | H37: 側壁（左側） | I37: 漏水 | J37: 漏水 | M37: 1.2m×0.5m | N37: － | O37: － | P37: － | Q37: Ⅱb | R37: 否 | S37: 要監視 | T37: 未 | U37: －
C38: 3 | E38: 3 | F38: 27 | G38: 覆工 | H38: アーチ（左側） | I38: 材質劣化 | J38: 補強・補修材の破損 | M38: 0.1m×0.6m | N38: － | O38: Ⅱb | P38: － | Q38: Ⅱb | R38: 否 | S38: 要監視 | T38: 継続 | U38: 監視(日常) | Y38: 寸法変更
C39: 3 | E39: 4 | F39: 19.1 | G39: 覆工 | H39: アーチ（左側） | I39: 材質劣化 | J39: 補強・補修材の破損 | M39: 0.05m×0.1m | N39: － | O39: － | P39: － | Q39: Ⅱb | R39: 否 | S39: 要監視 | T39: 未 | U39: －
C40: ※ 対策区分（応急措置後）のⅡb～Ⅳについて記入すること。また、点検前に実施された措置によりⅠと判定された変状も記入すること。
C41: ※ 応急措置を実施しないで判定した変状の対策区分は、対策区分の応急措置後の欄に記入すること。
C42: ※ 変状の除去が不完全で、緊急対応が必要な場合は対応方針欄に記入すること。
C43: ※ １区間の覆工に複数の変状がある場合は、変状箇所毎に記入すること。
C44: ※ 措置・監視点検を行った場合には、措置履歴、特記事項に記録を残すこと。（実施年度も記載）
C45: ※ 行が不足する場合は、適時、表の行を増やすこと。
B46: 定期点検結果 | C46: 覆工 スパン 番号 | E46: 変状 番号 | F46: 距離 （m） | G46: 変状部位 | I46: 変 状 の 内 容 | O46: 前回定期点検時の状態 | P46: 今回定期点検結果 | T46: 措置履歴 | Y46: 対応方針 ・ 特記事項
G48: 対象箇所 | H48: 部位区分 | I48: 変状区分 | J48: 変状種類 | M48: 変状の発生範囲の規模 | N48: 前回定期点検時の変状の発生範囲及び規模 | O48: 対策区分 | P48: 対策区分 | R48: 調査の 要否 | S48: 措置の 要否 | T48: 実施 | U48: 措置の実施状況
P49: 応急措置前 | Q49: 応急措置後
C50: 3 | E50: 5 | F50: 22.5 | G50: 覆工 | H50: 水平打ち継ぎ目（左側） | I50: 材質劣化 | J50: うき・はく離 | M50: 0.2m×1.1m | N50: － | O50: － | P50: － | Q50: Ⅱb | R50: 否 | S50: 要監視 | T50: 未 | U50: －
C51: 3 | E51: 6 | F51: 24.3 | G51: 覆工 | H51: 側壁（左側） | I51: 材質劣化 | J51: 圧ざ、ひび割れ | M51: W=1.0mm×L=1.9m | N51: W=1.0mm×L=1.9m | O51: Ⅱb | P51: － | Q51: Ⅱb | R51: 否 | S51: 要監視 | T51: 継続 | U51: 監視(日常)
C52: 3 | E52: 7 | F52: 18.6 | G52: 覆工 | H52: アーチ（左側） | I52: 漏水 | J52: 漏水 | M52: 7.4m×4.7m | N52: 7.4m×4.7m | O52: Ⅱb | P52: － | Q52: Ⅰ | R52: 否 | S52: 否 | T52: 未 | U52: － | Y52: 判定見直し
C53: 3 | E53: 8 | F53: 23.9 | G53: 覆工 | H53: アーチ（左側） | I53: 漏水 | J53: 漏水 | M53: 6.1m×0.7m | N53: － | O53: － | P53: － | Q53: Ⅱb | R53: 否 | S53: 要監視 | T53: 未 | U53: －
C54: 3 | E54: 9 | F54: 26.1 | G54: 覆工 | H54: アーチ（左側） | I54: 漏水 | J54: 漏水 | M54: 6.1m×0.8m | N54: － | O54: － | P54: － | Q54: Ⅱb | R54: 否 | S54: 要監視 | T54: 未 | U54: －
C55: 3 | E55: 10 | F55: 25.4 | G55: 覆工 | H55: アーチ（右側） | I55: 漏水 | J55: 漏水 | M55: 4.0m×1.6m | N55: 4.0m×1.6m | O55: Ⅱb | P55: － | Q55: Ⅰ | R55: 否 | S55: 否 | T55: 未 | U55: － | Y55: 判定見直し
C56: 3 | E56: 11 | F56: 23.8 | G56: 路面 | H56: 車道 | I56: 材質劣化 | J56: うき・はく離 | M56: 0.6m×0.5m | N56: 0.6m×0.5m | O56: Ⅱb | P56: － | Q56: － | R56: 否 | S56: 否 | T56: 未 | U56: －
C57: 4 | E57: 1 | F57: 34.2 | G57: 覆工 | H57: アーチ（左側） | I57: 材質劣化 | J57: 補強・補修材の破損 | M57: 0.4m×0.1m | N57: － | O57: － | P57: － | Q57: Ⅱb | R57: 否 | S57: 要監視 | T57: 未 | U57: －
C58: 4 | E58: 2 | F58: 34.9 | G58: 覆工 | H58: 側壁（左側） | I58: 材質劣化 | J58: うき・はく離 | M58: 0.5m×1.7m | N58: 0.4m×0.5m | O58: Ⅱb | P58: － | Q58: Ⅱb | R58: 否 | S58: 要監視 | T58: 継続 | U58: 監視(日常) | Y58: 寸法変更
C59: 4 | E59: 3 | F59: 28.3 | G59: 覆工 | H59: アーチ（左側） | I59: 漏水 | J59: 漏水 | M59: 7.0m×10.1m | N59: 7.0m×10.1m | O59: Ⅱb | P59: － | Q59: Ⅱa | R59: 否 | S59: 要監視 | T59: 継続 | U59: 監視(重点) | Y59: 判定見直し
C60: 4 | E60: 4 | F60: 33.5 | G60: 覆工 | H60: アーチ（左側） | I60: 材質劣化 | J60: うき・はく離 | M60: 0.2m×0.4m | N60: － | O60: － | P60: － | Q60: Ⅱa | R60: 否 | S60: 要監視 | T60: 未 | U60: －
C61: 4 | E61: 5 | F61: 28.7 | G61: 覆工 | H61: アーチ（右側） | I61: 材質劣化 | J61: うき・はく離 | M61: 0.1m×0.5m | N61: － | O61: － | P61: － | Q61: Ⅱa | R61: 否 | S61: 要監視 | T61: 未 | U61: －
C62: 4 | E62: 6 | F62: 31.7 | G62: 覆工 | H62: アーチ（右側） | I62: 漏水 | J62: 漏水 | M62: 7.8m×3.1m | N62: － | O62: － | P62: － | Q62: Ⅱa | R62: 否 | S62: 要監視 | T62: 未 | U62: －
C63: 4 | E63: 7 | F63: 32.2 | G63: 覆工 | H63: アーチ（右側） | I63: 漏水 | J63: 漏水 | M63: 6.0m×1.4m | N63: － | O63: － | P63: － | Q63: Ⅱb | R63: 否 | S63: 要監視 | T63: 未 | U63: －
C64: 4 | E64: 8 | F64: 32.9 | G64: 覆工 | H64: 側壁（右側） | I64: 材質劣化 | J64: ひび割れ | M64: W=0.3mm×L=3.0m | N64: W=0.3mm×L=3.0m | O64: Ⅱb | P64: － | Q64: Ⅱb | R64: 否 | S64: 要監視 | T64: 継続 | U64: 監視(日常)
C65: 4 | E65: 9 | F65: 35.2 | G65: 覆工 | H65: アーチ（右側） | I65: 漏水 | J65: 漏水 | M65: 5.1m×0.5m | N65: － | O65: － | P65: － | Q65: Ⅱb | R65: 否 | S65: 要監視 | T65: 未 | U65: －
C66: 5 | E66: 1 | F66: 36.6 | G66: 覆工 | H66: アーチ（左側） | I66: 漏水 | J66: 漏水 | M66: 6.2m×2.0m | N66: 6.2m×2.0m | O66: Ⅱb | P66: － | Q66: Ⅱb | R66: 否 | S66: 要監視 | T66: 継続 | U66: 監視(日常)
C67: 5 | E67: 2 | F67: 36.7 | G67: 覆工 | H67: 横断目地（左側） | I67: 材質劣化 | J67: うき・はく離 | M67: 0.4m×0.1m | N67: － | O67: － | P67: － | Q67: Ⅱa | R67: 否 | S67: 要監視 | T67: 未 | U67: －
C68: 5 | E68: 3 | F68: 36.6 | G68: 覆工 | H68: 側壁（左側） | I68: 材質劣化 | J68: うき・はく離 | M68: 0.6m×4.3m | N68: 0.6m×0.5m | O68: Ⅱb | P68: － | Q68: Ⅱb | R68: 否 | S68: 要監視 | T68: 継続 | U68: 監視(日常) | Y68: 寸法変更
C69: 5 | E69: 4 | F69: 36.6 | G69: 覆工 | H69: 側壁（左側） | I69: 材質劣化 | J69: うき・はく離 | M69: 0.4m×6.0m | N69: 0.3m×4.5m | O69: Ⅱb | P69: － | Q69: Ⅱb | R69: 否 | S69: 要監視 | T69: 継続 | U69: 監視(日常) | Y69: 寸法変更
C70: 5 | E70: 5 | F70: 38.4 | G70: 覆工 | H70: アーチ（左側） | I70: 漏水 | J70: 漏水 | M70: 7.0m×4.3m | N70: 7.0m×4.3m | O70: Ⅱb | P70: － | Q70: Ⅱb | R70: 否 | S70: 要監視 | T70: 継続 | U70: 監視(日常)
C71: 5 | E71: 6 | F71: 39 | G71: 覆工 | H71: アーチ（左側） | I71: 漏水 | J71: 漏水 | M71: 6.2m×0.5m | N71: 6.2m×0.5m | O71: Ⅱb | P71: － | Q71: Ⅱb | R71: 否 | S71: 要監視 | T71: 継続 | U71: 監視(日常)
C72: 5 | E72: 7 | F72: 43.3 | G72: 覆工 | H72: アーチ（左側） | I72: 漏水 | J72: 漏水 | M72: 3.6m×1.1m | N72: － | O72: － | P72: － | Q72: Ⅱb | R72: 否 | S72: 要監視 | T72: 未 | U72: －
C73: 5 | E73: 8 | F73: 44.8 | G73: 覆工 | H73: 側壁（左側） | I73: 漏水 | J73: 漏水 | M73: 2.5m×0.8m | N73: － | O73: － | P73: － | Q73: Ⅱb | R73: 否 | S73: 要監視 | T73: 未 | U73: －
C74: 5 | E74: 9 | F74: 46.8 | G74: 覆工 | H74: アーチ（左側） | I74: 材質劣化 | J74: 鋼材腐食 | M74: 0.05m×0.1m | N74: － | O74: Ⅱb | P74: － | Q74: Ⅱb | R74: 否 | S74: 要監視 | T74: 継続 | U74: 監視(日常) | Y74: 寸法変更
C75: 5 | E75: 10 | F75: 40.7 | G75: 覆工 | H75: アーチ（右側） | I75: 材質劣化 | J75: うき・はく離 | M75: 1.4m×0.2m | N75: 1.4m×0.2m | O75: Ⅱb | P75: Ⅳ | Q75: Ⅲ | R75: 否 | S75: 要対策 | T75: 継続 | U75: FRPﾈｯﾄ
C76: 5 | E76: 11 | F76: 41.2 | G76: 覆工 | H76: アーチ（右側） | I76: 材質劣化 | J76: うき・はく離 | M76: 1.5m×0.1m | N76: 1.5m×0.1m | O76: Ⅱb | P76: － | Q76: Ⅱa | R76: 否 | S76: 要監視 | T76: 継続 | U76: 監視(重点) | Y76: 寸法変更、判定見直し
C77: 5 | E77: 12 | F77: 47 | G77: 覆工 | H77: 横断目地（右側） | I77: 材質劣化 | J77: うき・はく離 | M77: 0.4m×0.05m | N77: 0.3m×0.1m | O77: － | P77: － | Q77: Ⅱa | R77: 否 | S77: 要監視 | T77: 継続 | U77: 監視(重点) | Y77: 寸法変更
C78: 5 | E78: 13 | F78: 40.6 | G78: 覆工 | H78: アーチ（右側） | I78: 材質劣化 | J78: うき・はく離 | M78: 0.6m×0.4m | N78: 0.6m×0.4m | O78: Ⅱb | P78: － | Q78: Ⅱa | R78: 否 | S78: 要監視 | T78: 継続 | U78: 監視(重点) | Y78: 寸法変更、判定見直し
C79: 5 | E79: 14 | F79: 47.1 | G79: 覆工 | H79: 横断目地（右側） | I79: 材質劣化 | J79: 補強・補修材の破損 | M79: 0.3m×0.05m | N79: 0.3m×0.1m | O79: Ⅱb | P79: － | Q79: Ⅱb | R79: 否 | S79: 要監視 | T79: 継続 | U79: 監視(日常) | Y79: 寸法変更
C80: 5 | E80: 15 | F80: 37 | G80: 覆工 | H80: アーチ（右側） | I80: 漏水 | J80: 漏水 | M80: 5.6m×0.6m | N80: － | O80: － | P80: － | Q80: Ⅱb | R80: 否 | S80: 要監視 | T80: 未 | U80: －
C81: ※ 対策区分（応急措置後）のⅡb～Ⅳについて記入すること。また、点検前に実施された措置によりⅠと判定された変状も記入すること。
C82: ※ 応急措置を実施しないで判定した変状の対策区分は、対策区分の応急措置後の欄に記入すること。
C83: ※ 変状の除去が不完全で、緊急対応が必要な場合は対応方針欄に記入すること。
C84: ※ １区間の覆工に複数の変状がある場合は、変状箇所毎に記入すること。
C85: ※ 措置・監視点検を行った場合には、措置履歴、特記事項に記録を残すこと。（実施年度も記載）
C86: ※ 行が不足する場合は、適時、表の行を増やすこと。
B87: 定期点検結果 | C87: 覆工 スパン 番号 | E87: 変状 番号 | F87: 距離 （m） | G87: 変状部位 | I87: 変 状 の 内 容 | O87: 前回定期点検時の状態 | P87: 今回定期点検結果 | T87: 措置履歴 | Y87: 対応方針 ・ 特記事項
G89: 対象箇所 | H89: 部位区分 | I89: 変状区分 | J89: 変状種類 | M89: 変状の発生範囲の規模 | N89: 前回定期点検時の変状の発生範囲及び規模 | O89: 対策区分 | P89: 対策区分 | R89: 調査の 要否 | S89: 措置の 要否 | T89: 実施 | U89: 措置の実施状況
P90: 応急措置前 | Q90: 応急措置後
C91: 5 | E91: 16 | F91: 37.7 | G91: 覆工 | H91: 側壁（右側） | I91: 漏水 | J91: 漏水 | M91: 2.1m×0.7m | N91: － | O91: － | P91: － | Q91: Ⅱb | R91: 否 | S91: 要監視 | T91: 未 | U91: －
C92: 5 | E92: 17 | F92: 40.4 | G92: 覆工 | H92: アーチ（右側） | I92: 漏水 | J92: 漏水 | M92: 7.0m×1.2m | N92: － | O92: － | P92: － | Q92: Ⅱb | R92: 否 | S92: 要監視 | T92: 未 | U92: －
C93: 5 | E93: 18 | F93: 41.6 | G93: 覆工 | H93: アーチ（右側） | I93: 漏水 | J93: 漏水 | M93: 6.8m×1.2m | N93: 6.8m×1.2m | O93: Ⅱb | P93: － | Q93: Ⅱb | R93: 否 | S93: 要監視 | T93: 継続 | U93: 監視(日常)
C94: 5 | E94: 19 | F94: 42.6 | G94: 覆工 | H94: 水平打ち継ぎ目（右側） | I94: 材質劣化 | J94: うき・はく離 | M94: 0.15m×3.0m | N94: 0.15m×3.0m | O94: Ⅱb | P94: － | Q94: Ⅱb | R94: 否 | S94: 要監視 | T94: 継続 | U94: 監視(日常)
C95: 6 | E95: 1 | F95: 52.6 | G95: 覆工 | H95: 水平打ち継ぎ目（左側） | I95: 漏水 | J95: 漏水 | M95: 2.5m×1.0m | N95: 2.5m×1.0m | O95: Ⅱb | P95: － | Q95: Ⅱb | R95: 否 | S95: 要監視 | T95: 継続 | U95: 監視(日常)
C96: 6 | E96: 2 | F96: 53 | G96: 覆工 | H96: 横断目地（右側） | I96: 材質劣化 | J96: 補強・補修材の破損 | M96: 0.2m×0.1m | N96: 0.25m×0.15m | O96: Ⅱb | P96: － | Q96: Ⅱb | R96: 否 | S96: 要監視 | T96: 継続 | U96: 監視(日常) | Y96: 寸法変更
C97: 6 | E97: 3 | F97: 51.7 | G97: 覆工 | H97: 横断目地（右側） | I97: 漏水 | J97: 漏水 | M97: 5.1m×1.6m | N97: － | O97: － | P97: － | Q97: Ⅱb | R97: 否 | S97: 要監視 | T97: 未 | U97: －
C98: 6 | E98: 4 | F98: 49.6 | G98: 覆工 | H98: 水平打ち継ぎ目（右側） | I98: 材質劣化 | J98: うき・はく離 | N98: － | O98: Ⅱb | P98: － | Q98: Ⅰ | R98: 否 | S98: 否 | T98: 未 | U98: － | Y98: 寸法変更、判定見直し
C99: 7 | E99: 1 | F99: 56.5 | G99: 覆工 | H99: アーチ（左側） | I99: 漏水 | J99: 漏水 | M99: 7.3m×0.7m | N99: － | O99: － | P99: － | Q99: Ⅱb | R99: 否 | S99: 要監視 | T99: 未 | U99: －
C100: 7 | E100: 2 | F100: 58.7 | G100: 覆工 | H100: アーチ（左側） | I100: 漏水 | J100: 漏水 | M100: 7.5m×0.6m | N100: － | O100: － | P100: － | Q100: Ⅱb | R100: 否 | S100: 要監視 | T100: 未 | U100: －
C101: 7 | E101: 3 | F101: 59.9 | G101: 覆工 | H101: アーチ（左側） | I101: 漏水 | J101: 漏水 | M101: 6.1m×1.7m | N101: 6.1m×1.7m | O101: Ⅱb | P101: － | Q101: Ⅱb | R101: 否 | S101: 要監視 | T101: 継続 | U101: 監視(日常)
C102: 7 | E102: 4 | F102: 61.8 | G102: 覆工 | H102: 水平打ち継ぎ目（左側） | I102: 漏水 | J102: 漏水 | M102: 1.5m×0.3m | N102: 1.5m×0.3m | O102: Ⅱb | P102: － | Q102: Ⅰ | R102: 否 | S102: 否 | T102: 未 | U102: － | Y102: 判定見直し
C103: 7 | E103: 5 | F103: 60.6 | G103: 覆工 | H103: アーチ（左側） | I103: 材質劣化 | J103: 圧ざ、ひび割れ | M103: W=0.35mm×L=1.6m | N103: W=0.35mm×L=1.6m | O103: Ⅱb | P103: － | Q103: Ⅱb | R103: 否 | S103: 要監視 | T103: 継続 | U103: 監視(日常)
C104: 7 | E104: 6 | F104: 53.4 | G104: 覆工 | H104: アーチ（右側） | I104: 漏水 | J104: 漏水 | M104: 7.1m×1.5m | N104: － | O104: － | P104: － | Q104: Ⅱb | R104: 否 | S104: 要監視 | T104: 未 | U104: －
...

Sheet 様式C-1-2
B2: ■定期点検記録様式 定期点検結果総括表（トンネル内附属物等の取付状態） 【様式C-1-2】
B3: フリガナ | F3: ヒエバラダイサンズイドウ | J3: 路線名 | K3: 国道187号 | M3: 定期点検実施者 | O3: 株式会社エイト日本技術開発 | S3: 定期点検年月日 | W3: 45587
B4: 名 称 | F4: 稗原第3隧道 | J4: 管理者名 | K4: 山口県岩国土木建築事務所 | O4: 岡根 三千夫
B5: 定期点検結果 | C5: 覆工 スパン 番号 | E5: 異常 番号 | F5: 距離 （m） | G5: 異常部位 | J5: 異 常 の 内 容 | N5: 定期点検結果 | P5: 応急措置の 実施状況 | V5: 対応方針 ・ 特記事項
G6: 対象箇所 | I6: 部位区分 | J6: 異常種類 | L6: 異常の発生範囲の規模 | N6: 異常判定区分 | P6: 実施 | Q6: 応急措置の内容
N7: 応急措置前 | O7: 応急措置後
C42: ※ 異常判定区分×について記入すること。また、応急措置により○と判定された箇所も記入すること。
C43: ※ 応急措置を実施しないで判定した箇所の異常判定区分は、異常判定区分の応急措置後の欄に記入すること。
C44: ※ 異常の除去が不完全で、緊急対応が必要な場合は対応方針欄に記入すること。
C45: ※ １スパンの覆工に複数の異常がある場合は、異常箇所毎に記入すること。
C46: ※ 行が不足する場合は、適時、表の行を増やすこと。

Sheet 様式C-2
B2: ■定期点検記録様式 状態の把握の内容 【様式C-2】
B3: フリガナ | E3: ヒエバラダイサンズイドウ | H3: 路線名 | J3: 国道187号 | M3: 定期点検実施者 | Q3: 株式会社エイト日本技術開発 | U3: 定期点検年月日 | X3: 45587
B4: 名 称 | E4: 稗原第3隧道 | H4: 管理者名 | J4: 山口県岩国土木建築事務所 | Q4: 岡根 三千夫
B5: 状態の把握の内容 | C5: 覆工スパン 番号 | E5: 変状 番号 | F5: 状態の把握の内容
F6: 年月日 | H6: 内容 | O6: 結果 | Y6: 対策区分の 判定
B22: 注）状態の把握において、微破壊・非破壊検査や各種試験等を実施した場合について記載する。
B23: ※ 行が不足する場合は、適時、表の行を増やすこと。

Sheet 様式D-1-1_001
B2: ■定期点検記録様式 変状写真台帳【様式D-1-1】 | R2: 施設ID | T2: 34.29478,131.94625
B3: フリガナ | E3: ヒエバラダイサンズイドウ | H3: 路 線 名 | J3: 国道187号 | M3: 定期点検実施者 | P3: 株式会社エイト日本技術開発 | S3: 定期点検年月日 | U3: 45587
B4: 名 称 | E4: 稗原第3隧道 | H4: 管理者名 | J4: 山口県岩国土木建築事務所 | P4: 岡根 三千夫
B5: 写真 番号 | C5: 覆工スパン 番号 | E5: PS | M5: 写真 番号 | N5: 覆工スパン 番号 | P5: PS
C6: 変状番号 | E6: 1 | N6: 変状番号 | P6: 2
B7: 変状 部位 | C7: 対象箇所 | E7: 坑門 | M7: 変状 部位 | N7: 対象箇所 | P7: 坑門
C8: 部位区分 | E8: 面壁・妻壁等 | N8: 部位区分 | P8: 面壁・妻壁等
B9: 変状種類 | E9: うき・はく離 | M9: 変状種類 | P9: 圧ざ、ひび割れ
B10: 対策 区分 | C10: 変状区分 | E10: 材質劣化 | M10: 対策 区分 | N10: 変状区分 | P10: 材質劣化
C11: 応急措置前 | E11: － | N11: 応急措置前 | P11: －
C12: 応急措置後 | E12: Ⅰ | N12: 応急措置後 | P12: Ⅱb
B13: 変状の発生範囲及び規模 | E13: 0.2m×0.1m 0.02㎡ | H13: 前回変状の発生範囲及び規模 | J13: 0.2m×0.1m | M13: 変状の発生範囲及び規模 | P13: W=3.0mm×L=0.9m 0.0027㎡ | S13: 前回変状の発生範囲及び規模 | U13: W=3.0mm×L=0.5m
B14: 対策履歴 | E14: - | H14: 実施状況（実施日） | J14: - | M14: 対策履歴 | P14: - | S14: 実施状況（実施日） | U14: -
B15: メモ | E15: 面壁のはく落 前回写真番号PS-3 | M15: メモ | P15: 面壁のひび割れ 前回写真番号PS-5 経過観察が望まれる
B16: 写真 番号 | C16: 覆工スパン 番号 | E16: PS | M16: 写真 番号 | N16: 覆工スパン 番号 | P16: PS
C17: 変状番号 | E17: 3 | N17: 変状番号 | P17: 4
B18: 変状 部位 | C18: 対象箇所 | E18: 坑門 | M18: 変状 部位 | N18: 対象箇所 | P18: 坑門
C19: 部位区分 | E19: 面壁・妻壁等 | N19: 部位区分 | P19: 面壁・妻壁等
B20: 変状種類 | E20: 圧ざ、ひび割れ | M20: 変状種類 | P20: うき・はく離
B21: 対策 区分 | C21: 変状区分 | E21: 材質劣化 | M21: 対策 区分 | N21: 変状区分 | P21: 材質劣化
C22: 応急措置前 | E22: － | N22: 応急措置前 | P22: －
C23: 応急措置後 | E23: Ⅱb | N23: 応急措置後 | P23: Ⅱb
B24: 変状の発生範囲及び規模 | E24: W=10.0mm×L=1.6m 0.016㎡ | H24: 前回変状の発生範囲及び規模 | J24: W=10.0mm×L=1.7m | M24: 変状の発生範囲及び規模 | P24: 0.4m×2.8m 1.12㎡ | S24: 前回変状の発生範囲及び規模 | U24: 0.4m×2.8m
B25: 対策履歴 | E25: - | H25: 実施状況（実施日） | J25: - | M25: 対策履歴 | P25: - | S25: 実施状況（実施日） | U25: -
B26: メモ | E26: 面壁のひび割れ 前回写真番号PS-9 経過観察が望まれる | M26: メモ | P26: 面壁のうき 前回写真番号PS-13 経過観察が望まれる
C27: ※ 応急措置後の対策区分について添付すること。また、点検前に 実施された措置によりⅠと判定された箇所も添付すること。 | N27: ※ 変状の発生範囲の規模とは、対策を行う際に参考となる変状の長さや面積をいう。
N28: ※ 応急措置を実施しないで決定した変状の対策区分は、対策区分の応急措置後の欄に記入すること。
C29: ※ たたき落としを実施した場合は、実施後の写真を添付すること。 | N29: ※ 変状の発生範囲の規模は、面積・寸法を記載すること。(ひび割れ幅のみmmとし、その他をm表記とする)
C30: ※ 附属物の取付状態に関する異常写真は別途、任意の書式でとりまとめること。 | N30: ※ 構造用鋼材以外の異物に伴ううき・はく離については、メモ欄に異物の概要を記入すること。

Sheet 様式D-1-1_002
B2: ■定期点検記録様式 変状写真台帳【様式D-1-1】 | R2: 施設ID | T2: 34.29478,131.94625
B3: フリガナ | E3: ヒエバラダイサンズイドウ | H3: 路 線 名 | J3: 国道187号 | M3: 定期点検実施者 | P3: 株式会社エイト日本技術開発 | S3: 定期点検年月日 | U3: 45587
B4: 名 称 | E4: 稗原第3隧道 | H4: 管理者名 | J4: 山口県岩国土木建築事務所 | P4: 岡根 三千夫
B5: 写真 番号 | C5: 覆工スパン 番号 | E5: PS | M5: 写真 番号 | N5: 覆工スパン 番号 | P5: PS
C6: 変状番号 | E6: 5 | N6: 変状番号 | P6: 6
B7: 変状 部位 | C7: 対象箇所 | E7: 覆工 | M7: 変状 部位 | N7: 対象箇所 | P7: 覆工
C8: 部位区分 | E8: アーチ（左側） | N8: 部位区分 | P8: アーチ（左側）
B9: 変状種類 | E9: うき・はく離 | M9: 変状種類 | P9: うき・はく離
B10: 対策 区分 | C10: 変状区分 | E10: 材質劣化 | M10: 対策 区分 | N10: 変状区分 | P10: 材質劣化
C11: 応急措置前 | E11: － | N11: 応急措置前 | P11: －
C12: 応急措置後 | E12: Ⅱa | N12: 応急措置後 | P12: Ⅱa
B13: 変状の発生範囲及び規模 | E13: 0.25m×0.4m 0.1㎡ | H13: 前回変状の発生範囲及び規模 | J13: 0.25m×0.4m | M13: 変状の発生範囲及び規模 | P13: 0.2m×1.0m 0.2㎡ | S13: 前回変状の発生範囲及び規模 | U13: 0.1m×0.7m
B14: 対策履歴 | E14: - | H14: 実施状況（実施日） | J14: - | M14: 対策履歴 | P14: - | S14: 実施状況（実施日） | U14: -
B15: メモ | E15: アーチのうき 前回写真番号PS-15 計画的な対策が望まれる | M15: メモ | P15: アーチのうき 前回写真番号PS-16 計画的な対策が望まれる
B16: 写真 番号 | C16: 覆工スパン 番号 | E16: PS | M16: 写真 番号 | N16: 覆工スパン 番号 | P16: 1
C17: 変状番号 | E17: 7 | N17: 変状番号 | P17: 1
B18: 変状 部位 | C18: 対象箇所 | E18: 路面 | M18: 変状 部位 | N18: 対象箇所 | P18: 覆工
C19: 部位区分 | E19: 車道 | N19: 部位区分 | P19: 水平打ち継ぎ目（左側）
B20: 変状種類 | E20: その他 | M20: 変状種類 | P20: うき・はく離
B21: 対策 区分 | C21: 変状区分 | M21: 対策 区分 | N21: 変状区分 | P21: 材質劣化
C22: 応急措置前 | N22: 応急措置前 | P22: －
C23: 応急措置後 | N23: 応急措置後 | P23: Ⅱb
B24: 変状の発生範囲及び規模 | E24: 2.5m×0.4m 1㎡ | H24: 前回変状の発生範囲及び規模 | J24: 2.5m×0.5m | M24: 変状の発生範囲及び規模 | P24: 0.2m×3.0m 0.6㎡ | S24: 前回変状の発生範囲及び規模 | U24: 0.1m×3.0m
B25: 対策履歴 | E25: - | H25: 実施状況（実施日） | J25: - | M25: 対策履歴 | P25: - | S25: 実施状況（実施日） | U25: -
B26: メモ | E26: 車道のうき 前回写真番号PS-21 路面のため判定未実施 | M26: メモ | P26: 水平打ち継ぎ目のうき 前回写真番号S1-36 経過観察が望まれる
C27: ※ 応急措置後の対策区分について添付すること。また、点検前に 実施された措置によりⅠと判定された箇所も添付すること。 | N27: ※ 変状の発生範囲の規模とは、対策を行う際に参考となる変状の長さや面積をいう。
N28: ※ 応急措置を実施しないで決定した変状の対策区分は、対策区分の応急措置後の欄に記入すること。
C29: ※ たたき落としを実施した場合は、実施後の写真を添付すること。 | N29: ※ 変状の発生範囲の規模は、面積・寸法を記載すること。(ひび割れ幅のみmmとし、その他をm表記とする)
C30: ※ 附属物の取付状態に関する異常写真は別途、任意の書式でとりまとめること。 | N30: ※ 構造用鋼材以外の異物に伴ううき・はく離については、メモ欄に異物の概要を記入すること。

Sheet 様式D-1-1_003
B2: ■定期点検記録様式 変状写真台帳【様式D-1-1】 | R2: 施設ID | T2: 34.29478,131.94625
B3: フリガナ | E3: ヒエバラダイサンズイドウ | H3: 路 線 名 | J3: 国道187号 | M3: 定期点検実施者 | P3: 株式会社エイト日本技術開発 | S3: 定期点検年月日 | U3: 45587
B4: 名 称 | E4: 稗原第3隧道 | H4: 管理者名 | J4: 山口県岩国土木建築事務所 | P4: 岡根 三千夫
B5: 写真 番号 | C5: 覆工スパン 番号 | E5: 1 | M5: 写真 番号 | N5: 覆工スパン 番号 | P5: 1
C6: 変状番号 | E6: 2 | N6: 変状番号 | P6: 3
B7: 変状 部位 | C7: 対象箇所 | E7: 覆工 | M7: 変状 部位 | N7: 対象箇所 | P7: 覆工
C8: 部位区分 | E8: 水平打ち継ぎ目（左側） | N8: 部位区分 | P8: 横断目地（左側）
B9: 変状種類 | E9: 漏水 | M9: 変状種類 | P9: 漏水
B10: 対策 区分 | C10: 変状区分 | E10: 漏水 | M10: 対策 区分 | N10: 変状区分 | P10: 漏水
C11: 応急措置前 | E11: － | N11: 応急措置前 | P11: －
C12: 応急措置後 | E12: Ⅱb | N12: 応急措置後 | P12: Ⅱb
B13: 変状の発生範囲及び規模 | E13: 2.5m×0.9m 2.25㎡ | H13: 前回変状の発生範囲及び規模 | M13: 変状の発生範囲及び規模 | P13: 5.0m×3.3m 16.5㎡ | S13: 前回変状の発生範囲及び規模
B14: 対策履歴 | E14: - | H14: 実施状況（実施日） | J14: - | M14: 対策履歴 | P14: - | S14: 実施状況（実施日） | U14: -
B15: メモ | E15: 水平打ち継ぎ目のにじみ 経過観察が望まれる | M15: メモ | P15: 横断目地のにじみ 経過観察が望まれる
B16: 写真 番号 | C16: 覆工スパン 番号 | E16: 1 | M16: 写真 番号 | N16: 覆工スパン 番号 | P16: 1
C17: 変状番号 | E17: 4 | N17: 変状番号 | P17: 5
B18: 変状 部位 | C18: 対象箇所 | E18: 覆工 | M18: 変状 部位 | N18: 対象箇所 | P18: 覆工
C19: 部位区分 | E19: 横断目地（左側） | N19: 部位区分 | P19: アーチ（左側）
B20: 変状種類 | E20: 補修・補強材の破損 | M20: 変状種類 | P20: 圧ざ、ひび割れ
B21: 対策 区分 | C21: 変状区分 | E21: 材質劣化 | M21: 対策 区分 | N21: 変状区分 | P21: 材質劣化
C22: 応急措置前 | E22: － | N22: 応急措置前 | P22: －
C23: 応急措置後 | E23: Ⅱb | N23: 応急措置後 | P23: Ⅱb
B24: 変状の発生範囲及び規模 | E24: 0.1m×0.1m 0.01㎡ | H24: 前回変状の発生範囲及び規模 | M24: 変状の発生範囲及び規模 | P24: W=0.8mm×L=4.9m 0.00392㎡ | S24: 前回変状の発生範囲及び規模 | U24: W=0.8mm×L=4.6m
B25: 対策履歴 | E25: - | H25: 実施状況（実施日） | J25: - | M25: 対策履歴 | P25: - | S25: 実施状況（実施日） | U25: -
B26: メモ | E26: 横断目地の線導水工劣化 漏水なし、材質劣化として評価 | M26: メモ | P26: アーチのひび割れ 前回写真番号S1-13 経過観察が望まれる
C27: ※ 応急措置後の対策区分について添付すること。また、点検前に 実施された措置によりⅠと判定された箇所も添付すること。 | N27: ※ 変状の発生範囲の規模とは、対策を行う際に参考となる変状の長さや面積をいう。
N28: ※ 応急措置を実施しないで決定した変状の対策区分は、対策区分の応急措置後の欄に記入すること。
C29: ※ たたき落としを実施した場合は、実施後の写真を添付すること。 | N29: ※ 変状の発生範囲の規模は、面積・寸法を記載すること。(ひび割れ幅のみmmとし、その他をm表記とする)
C30: ※ 附属物の取付状態に関する異常写真は別途、任意の書式でとりまとめること。 | N30: ※ 構造用鋼材以外の異物に伴ううき・はく離については、メモ欄に異物の概要を記入すること。

Sheet 様式D-1-1_004
B2: ■定期点検記録様式 変状写真台帳【様式D-1-1】 | R2: 施設ID | T2: 34.29478,131.94625
B3: フリガナ | E3: ヒエバラダイサンズイドウ | H3: 路 線 名 | J3: 国道187号 | M3: 定期点検実施者 | P3: 株式会社エイト日本技術開発 | S3: 定期点検年月日 | U3: 45587
B4: 名 称 | E4: 稗原第3隧道 | H4: 管理者名 | J4: 山口県岩国土木建築事務所 | P4: 岡根 三千夫
B5: 写真 番号 | C5: 覆工スパン 番号 | E5: 1 | M5: 写真 番号 | N5: 覆工スパン 番号 | P5: 1
C6: 変状番号 | E6: 6 | N6: 変状番号 | P6: 7
B7: 変状 部位 | C7: 対象箇所 | E7: 覆工 | M7: 変状 部位 | N7: 対象箇所 | P7: 覆工
C8: 部位区分 | E8: アーチ（左側） | N8: 部位区分 | P8: アーチ（左側）
B9: 変状種類 | E9: 補修・補強材の破損 | M9: 変状種類 | P9: 鋼材腐食
B10: 対策 区分 | C10: 変状区分 | E10: 材質劣化 | M10: 対策 区分 | N10: 変状区分 | P10: 材質劣化
C11: 応急措置前 | E11: － | N11: 応急措置前 | P11: －
C12: 応急措置後 | E12: Ⅱb | N12: 応急措置後 | P12: Ⅱb
B13: 変状の発生範囲及び規模 | E13: 0.1m×1.2m 0.12㎡ | H13: 前回変状の発生範囲及び規模 | J13: 0.15m×0.9m | M13: 変状の発生範囲及び規模 | P13: 0.1m×0.05m 0.005㎡ | S13: 前回変状の発生範囲及び規模 | U13: 0.1m×0.1m
B14: 対策履歴 | E14: - | H14: 実施状況（実施日） | J14: - | M14: 対策履歴 | P14: - | S14: 実施状況（実施日） | U14: -
B15: メモ | E15: アーチの線導水工劣化 前回写真番号S1-19 漏水なし、材質劣化として評価見直し | M15: メモ | P15: アーチの鋼材腐食 経過観察が望まれる
B16: 写真 番号 | C16: 覆工スパン 番号 | E16: 1 | M16: 写真 番号 | N16: 覆工スパン 番号 | P16: 1
C17: 変状番号 | E17: 8 | N17: 変状番号 | P17: 9
B18: 変状 部位 | C18: 対象箇所 | E18: 覆工 | M18: 変状 部位 | N18: 対象箇所 | P18: 覆工
C19: 部位区分 | E19: アーチ（右側） | N19: 部位区分 | P19: アーチ（右側）
B20: 変状種類 | E20: 鋼材腐食 | M20: 変状種類 | P20: その他
B21: 対策 区分 | C21: 変状区分 | E21: 材質劣化 | M21: 対策 区分 | N21: 変状区分 | P21: 材質劣化
C22: 応急措置前 | E22: － | N22: 応急措置前 | P22: －
C23: 応急措置後 | E23: Ⅱb | N23: 応急措置後 | P23: Ⅱb
B24: 変状の発生範囲及び規模 | E24: 0.1m×0.05m 0.005㎡ | H24: 前回変状の発生範囲及び規模 | J24: 0.1m×0.1m | M24: 変状の発生範囲及び規模 | P24: 0.05m×4.2m 0.21㎡ | S24: 前回変状の発生範囲及び規模 | U24: L=4.0m
B25: 対策履歴 | E25: - | H25: 実施状況（実施日） | J25: - | M25: 対策履歴 | P25: - | S25: 実施状況（実施日） | U25: -
B26: メモ | E26: アーチの鋼材腐食 経過観察が望まれる | M26: メモ | P26: アーチのコールドジョイント 前回写真番号S1-3 経過観察が望まれる
C27: ※ 応急措置後の対策区分について添付すること。また、点検前に 実施された措置によりⅠと判定された箇所も添付すること。 | N27: ※ 変状の発生範囲の規模とは、対策を行う際に参考となる変状の長さや面積をいう。
N28: ※ 応急措置を実施しないで決定した変状の対策区分は、対策区分の応急措置後の欄に記入すること。
C29: ※ たたき落としを実施した場合は、実施後の写真を添付すること。 | N29: ※ 変状の発生範囲の規模は、面積・寸法を記載すること。(ひび割れ幅のみmmとし、その他をm表記とする)
C30: ※ 附属物の取付状態に関する異常写真は別途、任意の書式でとりまとめること。 | N30: ※ 構造用鋼材以外の異物に伴ううき・はく離については、メモ欄に異物の概要を記入すること。

Sheet 様式D-1-1_005
B2: ■定期点検記録様式 変状写真台帳【様式D-1-1】 | R2: 施設ID | T2: 34.29478,131.94625
B3: フリガナ | E3: ヒエバラダイサンズイドウ | H3: 路 線 名 | J3: 国道187号 | M3: 定期点検実施者 | P3: 株式会社エイト日本技術開発 | S3: 定期点検年月日 | U3: 45587
B4: 名 称 | E4: 稗原第3隧道 | H4: 管理者名 | J4: 山口県岩国土木建築事務所 | P4: 岡根 三千夫
B5: 写真 番号 | C5: 覆工スパン 番号 | E5: 2 | M5: 写真 番号 | N5: 覆工スパン 番号 | P5: 2
C6: 変状番号 | E6: 1 | N6: 変状番号 | P6: 2
B7: 変状 部位 | C7: 対象箇所 | E7: 覆工 | M7: 変状 部位 | N7: 対象箇所 | P7: 覆工
C8: 部位区分 | E8: アーチ（左側） | N8: 部位区分 | P8: アーチ（左側）
B9: 変状種類 | E9: 漏水 | M9: 変状種類 | P9: 漏水
B10: 対策 区分 | C10: 変状区分 | E10: 漏水 | M10: 対策 区分 | N10: 変状区分 | P10: 漏水
C11: 応急措置前 | E11: － | N11: 応急措置前 | P11: －
C12: 応急措置後 | E12: Ⅱb | N12: 応急措置後 | P12: Ⅱb
B13: 変状の発生範囲及び規模 | E13: 5.2m×2.4m 12.48㎡ | H13: 前回変状の発生範囲及び規模 | M13: 変状の発生範囲及び規模 | P13: 5.6m×2.0m 11.2㎡ | S13: 前回変状の発生範囲及び規模
B14: 対策履歴 | E14: - | H14: 実施状況（実施日） | J14: - | M14: 対策履歴 | P14: - | S14: 実施状況（実施日） | U14: -
B15: メモ | E15: アーチのにじみ 経過観察が望まれる | M15: メモ | P15: アーチのにじみ 経過観察が望まれる
B16: 写真 番号 | C16: 覆工スパン 番号 | E16: 2 | M16: 写真 番号 | N16: 覆工スパン 番号 | P16: 2
C17: 変状番号 | E17: 3 | N17: 変状番号 | P17: 4
B18: 変状 部位 | C18: 対象箇所 | E18: 覆工 | M18: 変状 部位 | N18: 対象箇所 | P18: 覆工
C19: 部位区分 | E19: アーチ（左側） | N19: 部位区分 | P19: 横断目地（左側）
B20: 変状種類 | E20: 漏水 | M20: 変状種類 | P20: 補修・補強材の破損
B21: 対策 区分 | C21: 変状区分 | E21: 漏水 | M21: 対策 区分 | N21: 変状区分 | P21: 材質劣化
C22: 応急措置前 | E22: － | N22: 応急措置前 | P22: －
C23: 応急措置後 | E23: Ⅱb | N23: 応急措置後 | P23: Ⅱb
B24: 変状の発生範囲及び規模 | E24: 4.2m×1.4m 5.88㎡ | H24: 前回変状の発生範囲及び規模 | M24: 変状の発生範囲及び規模 | P24: 0.5m×0.4m 0.2㎡ | S24: 前回変状の発生範囲及び規模
B25: 対策履歴 | E25: - | H25: 実施状況（実施日） | J25: - | M25: 対策履歴 | P25: - | S25: 実施状況（実施日） | U25: -
B26: メモ | E26: アーチのにじみ 経過観察が望まれる | M26: メモ | P26: 横断目地の線導水工劣化 経過観察が望まれる 漏水なし、材質劣化として評価
C27: ※ 応急措置後の対策区分について添付すること。また、点検前に 実施された措置によりⅠと判定された箇所も添付すること。 | N27: ※ 変状の発生範囲の規模とは、対策を行う際に参考となる変状の長さや面積をいう。
N28: ※ 応急措置を実施しないで決定した変状の対策区分は、対策区分の応急措置後の欄に記入すること。
C29: ※ たたき落としを実施した場合は、実施後の写真を添付すること。 | N29: ※ 変状の発生範囲の規模は、面積・寸法を記載すること。(ひび割れ幅のみmmとし、その他をm表記とする)
C30: ※ 附属物の取付状態に関する異常写真は別途、任意の書式でとりまとめること。 | N30: ※ 構造用鋼材以外の異物に伴ううき・はく離については、メモ欄に異物の概要を記入すること。

Sheet 様式D-1-1_006
B2: ■定期点検記録様式 変状写真台帳【様式D-1-1】 | R2: 施設ID | T2: 34.29478,131.94625
B3: フリガナ | E3: ヒエバラダイサンズイドウ | H3: 路 線 名 | J3: 国道187号 | M3: 定期点検実施者 | P3: 株式会社エイト日本技術開発 | S3: 定期点検年月日 | U3: 45587
B4: 名 称 | E4: 稗原第3隧道 | H4: 管理者名 | J4: 山口県岩国土木建築事務所 | P4: 岡根 三千夫
B5: 写真 番号 | C5: 覆工スパン 番号 | E5: 2 | M5: 写真 番号 | N5: 覆工スパン 番号 | P5: 2
C6: 変状番号 | E6: 5 | N6: 変状番号 | P6: 6
B7: 変状 部位 | C7: 対象箇所 | E7: 覆工 | M7: 変状 部位 | N7: 対象箇所 | P7: 覆工
C8: 部位区分 | E8: アーチ（左側） | N8: 部位区分 | P8: アーチ（左側）
B9: 変状種類 | E9: うき・はく離 | M9: 変状種類 | P9: 補修・補強材の破損
B10: 対策 区分 | C10: 変状区分 | E10: 材質劣化 | M10: 対策 区分 | N10: 変状区分 | P10: 材質劣化
C11: 応急措置前 | E11: － | N11: 応急措置前 | P11: －
C12: 応急措置後 | E12: Ⅰ | N12: 応急措置後 | P12: Ⅱb
B13: 変状の発生範囲及び規模 | E13: 0.4m×0.1m 0.04㎡ | H13: 前回変状の発生範囲及び規模 | J13: 0.35m×0.15m | M13: 変状の発生範囲及び規模 | P13: 0.15m×0.4m 0.06㎡ | S13: 前回変状の発生範囲及び規模 | U13: 0.25m×0.9m
B14: 対策履歴 | E14: - | H14: 実施状況（実施日） | J14: - | M14: 対策履歴 | P14: - | S14: 実施状況（実施日） | U14: -
B15: メモ | E15: うきが見られなかった 前回写真番号S2-10 | M15: メモ | P15: アーチの線導水工劣化 前回写真番号S2-13 経過観察が望まれる 漏水なし、材質劣化として評価見直し（Ⅰ→Ⅱbに変更）
B16: 写真 番号 | C16: 覆工スパン 番号 | E16: 2 | M16: 写真 番号 | N16: 覆工スパン 番号 | P16: 2
C17: 変状番号 | E17: 7 | N17: 変状番号 | P17: 8
B18: 変状 部位 | C18: 対象箇所 | E18: 覆工 | M18: 変状 部位 | N18: 対象箇所 | P18: 覆工
C19: 部位区分 | E19: アーチ（左側） | N19: 部位区分 | P19: 横断目地（右側）
B20: 変状種類 | E20: 補修・補強材の破損 | M20: 変状種類 | P20: 補修・補強材の破損
B21: 対策 区分 | C21: 変状区分 | E21: 材質劣化 | M21: 対策 区分 | N21: 変状区分 | P21: 材質劣化
C22: 応急措置前 | E22: － | N22: 応急措置前 | P22: －
C23: 応急措置後 | E23: Ⅱb | N23: 応急措置後 | P23: Ⅱb
B24: 変状の発生範囲及び規模 | E24: 0.1m×0.9m 0.09㎡ | H24: 前回変状の発生範囲及び規模 | J24: 0.15m×0.9m | M24: 変状の発生範囲及び規模 | P24: 0.5m×0.1m 0.05㎡ | S24: 前回変状の発生範囲及び規模 | U24: 0.7m×0.15m
B25: 対策履歴 | E25: - | H25: 実施状況（実施日） | J25: - | M25: 対策履歴 | P25: - | S25: 実施状況（実施日） | U25: -
B26: メモ | E26: アーチの線導水工劣化 前回写真番号S2-8 経過観察が望まれる 漏水なし、材質劣化として評価見直し（Ⅱa→Ⅱbに変更） | M26: メモ | P26: 横断目地の線導水工劣化 前回写真番号S2-1 経過観察が望まれる 漏水なし、材質劣化として評価見直し
C27: ※ 応急措置後の対策区分について添付すること。また、点検前に 実施された措置によりⅠと判定された箇所も添付すること。 | N27: ※ 変状の発生範囲の規模とは、対策を行う際に参考となる変状の長さや面積をいう。
N28: ※ 応急措置を実施しないで決定した変状の対策区分は、対策区分の応急措置後の欄に記入すること。
C29: ※ たたき落としを実施した場合は、実施後の写真を添付すること。 | N29: ※ 変状の発生範囲の規模は、面積・寸法を記載すること。(ひび割れ幅のみmmとし、その他をm表記とする)
C30: ※ 附属物の取付状態に関する異常写真は別途、任意の書式でとりまとめること。 | N30: ※ 構造用鋼材以外の異物に伴ううき・はく離については、メモ欄に異物の概要を記入すること。

Sheet 様式D-1-1_007
B2: ■定期点検記録様式 変状写真台帳【様式D-1-1】 | R2: 施設ID | T2: 34.29478,131.94625
B3: フリガナ | E3: ヒエバラダイサンズイドウ | H3: 路 線 名 | J3: 国道187号 | M3: 定期点検実施者 | P3: 株式会社エイト日本技術開発 | S3: 定期点検年月日 | U3: 45587
B4: 名 称 | E4: 稗原第3隧道 | H4: 管理者名 | J4: 山口県岩国土木建築事務所 | P4: 岡根 三千夫
B5: 写真 番号 | C5: 覆工スパン 番号 | E5: 2 | M5: 写真 番号 | N5: 覆工スパン 番号 | P5: 2
C6: 変状番号 | E6: 9 | N6: 変状番号 | P6: 10
B7: 変状 部位 | C7: 対象箇所 | E7: 覆工 | M7: 変状 部位 | N7: 対象箇所 | P7: 覆工
C8: 部位区分 | E8: アーチ（右側） | N8: 部位区分 | P8: 水平打ち継ぎ目（右側）
B9: 変状種類 | E9: 漏水 | M9: 変状種類 | P9: うき・はく離
B10: 対策 区分 | C10: 変状区分 | E10: 漏水 | M10: 対策 区分 | N10: 変状区分 | P10: 材質劣化
C11: 応急措置前 | E11: － | N11: 応急措置前 | P11: －
C12: 応急措置後 | E12: Ⅱb | N12: 応急措置後 | P12: Ⅱb
B13: 変状の発生範囲及び規模 | E13: 5.1m×1.0m 5.1㎡ | H13: 前回変状の発生範囲及び規模 | M13: 変状の発生範囲及び規模 | P13: 0.15m×2.3m 0.345㎡ | S13: 前回変状の発生範囲及び規模
B14: 対策履歴 | E14: - | H14: 実施状況（実施日） | J14: - | M14: 対策履歴 | P14: - | S14: 実施状況（実施日） | U14: -
B15: メモ | E15: アーチのにじみ 経過観察が望まれる | M15: メモ | P15: 水平打ち継ぎ目のうき 経過観察が望まれる
B16: 写真 番号 | C16: 覆工スパン 番号 | E16: 2 | M16: 写真 番号 | N16: 覆工スパン 番号 | P16: 3
C17: 変状番号 | E17: 11 | N17: 変状番号 | P17: 1
B18: 変状 部位 | C18: 対象箇所 | E18: 覆工 | M18: 変状 部位 | N18: 対象箇所 | P18: 覆工
C19: 部位区分 | E19: 側壁（右側） | N19: 部位区分 | P19: アーチ（左側）
B20: 変状種類 | E20: 漏水 | M20: 変状種類 | P20: 漏水
B21: 対策 区分 | C21: 変状区分 | E21: 漏水 | M21: 対策 区分 | N21: 変状区分 | P21: 漏水
C22: 応急措置前 | E22: － | N22: 応急措置前 | P22: －
C23: 応急措置後 | E23: Ⅰ | N23: 応急措置後 | P23: Ⅱb
B24: 変状の発生範囲及び規模 | E24: 0.5m×3.2m 1.6㎡ | H24: 前回変状の発生範囲及び規模 | J24: W=0.4mm×L=3.5m | M24: 変状の発生範囲及び規模 | P24: 4.2m×1.9m 7.98㎡ | S24: 前回変状の発生範囲及び規模
B25: 対策履歴 | E25: - | H25: 実施状況（実施日） | J25: - | M25: 対策履歴 | P25: - | S25: 実施状況（実施日） | U25: -
B26: メモ | E26: 側壁の遊離石灰 前回写真番号S2-29 | M26: メモ | P26: アーチのにじみ 経過観察が望まれる
C27: ※ 応急措置後の対策区分について添付すること。また、点検前に 実施された措置によりⅠと判定された箇所も添付すること。 | N27: ※ 変状の発生範囲の規模とは、対策を行う際に参考となる変状の長さや面積をいう。
N28: ※ 応急措置を実施しないで決定した変状の対策区分は、対策区分の応急措置後の欄に記入すること。
C29: ※ たたき落としを実施した場合は、実施後の写真を添付すること。 | N29: ※ 変状の発生範囲の規模は、面積・寸法を記載すること。(ひび割れ幅のみmmとし、その他をm表記とする)
C30: ※ 附属物の取付状態に関する異常写真は別途、任意の書式でとりまとめること。 | N30: ※ 構造用鋼材以外の異物に伴ううき・はく離については、メモ欄に異物の概要を記入すること。

Sheet 様式D-1-1_008
B2: ■定期点検記録様式 変状写真台帳【様式D-1-1】 | R2: 施設ID | T2: 34.29478,131.94625
B3: フリガナ | E3: ヒエバラダイサンズイドウ | H3: 路 線 名 | J3: 国道187号 | M3: 定期点検実施者 | P3: 株式会社エイト日本技術開発 | S3: 定期点検年月日 | U3: 45587
B4: 名 称 | E4: 稗原第3隧道 | H4: 管理者名 | J4: 山口県岩国土木建築事務所 | P4: 岡根 三千夫
B5: 写真 番号 | C5: 覆工スパン 番号 | E5: 3 | M5: 写真 番号 | N5: 覆工スパン 番号 | P5: 3
C6: 変状番号 | E6: 2 | N6: 変状番号 | P6: 3
B7: 変状 部位 | C7: 対象箇所 | E7: 覆工 | M7: 変状 部位 | N7: 対象箇所 | P7: 覆工
C8: 部位区分 | E8: 側壁（左側） | N8: 部位区分 | P8: アーチ（左側）
B9: 変状種類 | E9: 漏水 | M9: 変状種類 | P9: 補修・補強材の破損
B10: 対策 区分 | C10: 変状区分 | E10: 漏水 | M10: 対策 区分 | N10: 変状区分 | P10: 材質劣化
C11: 応急措置前 | E11: － | N11: 応急措置前 | P11: －
C12: 応急措置後 | E12: Ⅱb | N12: 応急措置後 | P12: Ⅱb
B13: 変状の発生範囲及び規模 | E13: 1.2m×0.5m 0.6㎡ | H13: 前回変状の発生範囲及び規模 | M13: 変状の発生範囲及び規模 | P13: 0.1m×0.6m 0.06㎡ | S13: 前回変状の発生範囲及び規模 | U13: 0.15m×0.45m
B14: 対策履歴 | E14: - | H14: 実施状況（実施日） | J14: - | M14: 対策履歴 | P14: - | S14: 実施状況（実施日） | U14: -
B15: メモ | E15: 側壁の漏水 経過観察が望まれる | M15: メモ | P15: アーチの線導水工劣化 前回写真番号S3-9 漏水なし、材質劣化として評価見直し
B16: 写真 番号 | C16: 覆工スパン 番号 | E16: 3 | M16: 写真 番号 | N16: 覆工スパン 番号 | P16: 3
C17: 変状番号 | E17: 4 | N17: 変状番号 | P17: 5
B18: 変状 部位 | C18: 対象箇所 | E18: 覆工 | M18: 変状 部位 | N18: 対象箇所 | P18: 覆工
C19: 部位区分 | E19: アーチ（左側） | N19: 部位区分 | P19: 水平打ち継ぎ目（左側）
B20: 変状種類 | E20: 補修・補強材の破損 | M20: 変状種類 | P20: うき・はく離
B21: 対策 区分 | C21: 変状区分 | E21: 材質劣化 | M21: 対策 区分 | N21: 変状区分 | P21: 材質劣化
C22: 応急措置前 | E22: － | N22: 応急措置前 | P22: －
C23: 応急措置後 | E23: Ⅱb | N23: 応急措置後 | P23: Ⅱb
B24: 変状の発生範囲及び規模 | E24: 0.05m×0.1m 0.005㎡ | H24: 前回変状の発生範囲及び規模 | M24: 変状の発生範囲及び規模 | P24: 0.2m×1.1m 0.22㎡ | S24: 前回変状の発生範囲及び規模
B25: 対策履歴 | E25: - | H25: 実施状況（実施日） | J25: - | M25: 対策履歴 | P25: - | S25: 実施状況（実施日） | U25: -
B26: メモ | E26: アーチの線導水工劣化 経過観察が望まれる 漏水なし、材質劣化として評価 | M26: メモ | P26: 水平打ち継ぎ目のうき 経過観察が望まれる
C27: ※ 応急措置後の対策区分について添付すること。また、点検前に 実施された措置によりⅠと判定された箇所も添付すること。 | N27: ※ 変状の発生範囲の規模とは、対策を行う際に参考となる変状の長さや面積をいう。
N28: ※ 応急措置を実施しないで決定した変状の対策区分は、対策区分の応急措置後の欄に記入すること。
C29: ※ たたき落としを実施した場合は、実施後の写真を添付すること。 | N29: ※ 変状の発生範囲の規模は、面積・寸法を記載すること。(ひび割れ幅のみmmとし、その他をm表記とする)
C30: ※ 附属物の取付状態に関する異常写真は別途、任意の書式でとりまとめること。 | N30: ※ 構造用鋼材以外の異物に伴ううき・はく離については、メモ欄に異物の概要を記入すること。

Sheet 様式D-1-1_009
B2: ■定期点検記録様式 変状写真台帳【様式D-1-1】 | R2: 施設ID | T2: 34.29478,131.94625
B3: フリガナ | E3: ヒエバラダイサンズイドウ | H3: 路 線 名 | J3: 国道187号 | M3: 定期点検実施者 | P3: 株式会社エイト日本技術開発 | S3: 定期点検年月日 | U3: 45587
B4: 名 称 | E4: 稗原第3隧道 | H4: 管理者名 | J4: 山口県岩国土木建築事務所 | P4: 岡根 三千夫
B5: 写真 番号 | C5: 覆工スパン 番号 | E5: 3 | M5: 写真 番号 | N5: 覆工スパン 番号 | P5: 3
C6: 変状番号 | E6: 6 | N6: 変状番号 | P6: 7
B7: 変状 部位 | C7: 対象箇所 | E7: 覆工 | M7: 変状 部位 | N7: 対象箇所 | P7: 覆工
C8: 部位区分 | E8: 側壁（左側） | N8: 部位区分 | P8: アーチ（左側）
B9: 変状種類 | E9: 圧ざ、ひび割れ | M9: 変状種類 | P9: 漏水
B10: 対策 区分 | C10: 変状区分 | E10: 材質劣化 | M10: 対策 区分 | N10: 変状区分 | P10: 漏水
C11: 応急措置前 | E11: － | N11: 応急措置前 | P11: －
C12: 応急措置後 | E12: Ⅱb | N12: 応急措置後 | P12: Ⅰ
B13: 変状の発生範囲及び規模 | E13: W=1.0mm×L=1.9m 0.0019㎡ | H13: 前回変状の発生範囲及び規模 | J13: W=0.4mm×L=2.0m | M13: 変状の発生範囲及び規模 | P13: 7.4m×4.7m 34.78㎡ | S13: 前回変状の発生範囲及び規模
B14: 対策履歴 | E14: - | H14: 実施状況（実施日） | J14: - | M14: 対策履歴 | P14: - | S14: 実施状況（実施日） | U14: -
B15: メモ | E15: 側壁のひび割れ 前回写真番号S3-13 経過観察が望まれる | M15: メモ | P15: アーチの遊離石灰 前回写真番号S3-1
B16: 写真 番号 | C16: 覆工スパン 番号 | E16: 3 | M16: 写真 番号 | N16: 覆工スパン 番号 | P16: 3
C17: 変状番号 | E17: 8 | N17: 変状番号 | P17: 9
B18: 変状 部位 | C18: 対象箇所 | E18: 覆工 | M18: 変状 部位 | N18: 対象箇所 | P18: 覆工
C19: 部位区分 | E19: アーチ（左側） | N19: 部位区分 | P19: アーチ（左側）
B20: 変状種類 | E20: 漏水 | M20: 変状種類 | P20: 漏水
B21: 対策 区分 | C21: 変状区分 | E21: 漏水 | M21: 対策 区分 | N21: 変状区分 | P21: 漏水
C22: 応急措置前 | E22: － | N22: 応急措置前 | P22: －
C23: 応急措置後 | E23: Ⅱb | N23: 応急措置後 | P23: Ⅱb
B24: 変状の発生範囲及び規模 | E24: 6.1m×0.7m 4.27㎡ | H24: 前回変状の発生範囲及び規模 | M24: 変状の発生範囲及び規模 | P24: 6.1m×0.8m 4.88㎡ | S24: 前回変状の発生範囲及び規模
B25: 対策履歴 | E25: - | H25: 実施状況（実施日） | J25: - | M25: 対策履歴 | P25: - | S25: 実施状況（実施日） | U25: -
B26: メモ | E26: アーチのにじみ 経過観察が望まれる | M26: メモ | P26: アーチのにじみ 経過観察が望まれる
C27: ※ 応急措置後の対策区分について添付すること。また、点検前に 実施された措置によりⅠと判定された箇所も添付すること。 | N27: ※ 変状の発生範囲の規模とは、対策を行う際に参考となる変状の長さや面積をいう。
N28: ※ 応急措置を実施しないで決定した変状の対策区分は、対策区分の応急措置後の欄に記入すること。
C29: ※ たたき落としを実施した場合は、実施後の写真を添付すること。 | N29: ※ 変状の発生範囲の規模は、面積・寸法を記載すること。(ひび割れ幅のみmmとし、その他をm表記とする)
C30: ※ 附属物の取付状態に関する異常写真は別途、任意の書式でとりまとめること。 | N30: ※ 構造用鋼材以外の異物に伴ううき・はく離については、メモ欄に異物の概要を記入すること。

Sheet 様式D-1-1_010
B2: ■定期点検記録様式 変状写真台帳【様式D-1-1】 | R2: 施設ID | T2: 34.29478,131.94625
B3: フリガナ | E3: ヒエバラダイサンズイドウ | H3: 路 線 名 | J3: 国道187号 | M3: 定期点検実施者 | P3: 株式会社エイト日本技術開発 | S3: 定期点検年月日 | U3: 45587
B4: 名 称 | E4: 稗原第3隧道 | H4: 管理者名 | J4: 山口県岩国土木建築事務所 | P4: 岡根 三千夫
B5: 写真 番号 | C5: 覆工スパン 番号 | E5: 3 | M5: 写真 番号 | N5: 覆工スパン 番号 | P5: 3
C6: 変状番号 | E6: 10 | N6: 変状番号 | P6: 11
B7: 変状 部位 | C7: 対象箇所 | E7: 覆工 | M7: 変状 部位 | N7: 対象箇所 | P7: 路面
C8: 部位区分 | E8: アーチ（右側） | N8: 部位区分 | P8: 車道
B9: 変状種類 | E9: 漏水 | M9: 変状種類 | P9: その他
B10: 対策 区分 | C10: 変状区分 | E10: 漏水 | M10: 対策 区分 | N10: 変状区分
C11: 応急措置前 | E11: － | N11: 応急措置前
C12: 応急措置後 | E12: Ⅰ | N12: 応急措置後
B13: 変状の発生範囲及び規模 | E13: 4.0m×1.6m 6.4㎡ | H13: 前回変状の発生範囲及び規模 | M13: 変状の発生範囲及び規模 | P13: 0.6m×0.5m 0.3㎡ | S13: 前回変状の発生範囲及び規模 | U13: 0.6m×0.2m
B14: 対策履歴 | E14: - | H14: 実施状況（実施日） | J14: - | M14: 対策履歴 | P14: - | S14: 実施状況（実施日） | U14: -
B15: メモ | E15: アーチの遊離石灰 前回写真番号S3-6 | M15: メモ | P15: 車道のうき D=40㎜ 前回写真番号S3-20 路面のため判定未実施
B16: 写真 番号 | C16: 覆工スパン 番号 | E16: 4 | M16: 写真 番号 | N16: 覆工スパン 番号 | P16: 4
C17: 変状番号 | E17: 1 | N17: 変状番号 | P17: 2
B18: 変状 部位 | C18: 対象箇所 | E18: 覆工 | M18: 変状 部位 | N18: 対象箇所 | P18: 覆工
C19: 部位区分 | E19: アーチ（左側） | N19: 部位区分 | P19: 側壁（左側）
B20: 変状種類 | E20: 補修・補強材の破損 | M20: 変状種類 | P20: うき・はく離
B21: 対策 区分 | C21: 変状区分 | E21: 材質劣化 | M21: 対策 区分 | N21: 変状区分 | P21: 材質劣化
C22: 応急措置前 | E22: － | N22: 応急措置前 | P22: －
C23: 応急措置後 | E23: Ⅱb | N23: 応急措置後 | P23: Ⅱb
B24: 変状の発生範囲及び規模 | E24: 0.4m×0.1m 0.04㎡ | H24: 前回変状の発生範囲及び規模 | M24: 変状の発生範囲及び規模 | P24: 0.5m×1.7m 0.85㎡ | S24: 前回変状の発生範囲及び規模 | U24: 0.4m×0.5m
B25: 対策履歴 | E25: - | H25: 実施状況（実施日） | J25: - | M25: 対策履歴 | P25: - | S25: 実施状況（実施日） | U25: -
B26: メモ | E26: アーチの線導水工劣化 経過観察が望まれる 漏水なし、材質劣化として評価 | M26: メモ | P26: 側壁のうき 前回写真番号S4-11 経過観察が望まれる
C27: ※ 応急措置後の対策区分について添付すること。また、点検前に 実施された措置によりⅠと判定された箇所も添付すること。 | N27: ※ 変状の発生範囲の規模とは、対策を行う際に参考となる変状の長さや面積をいう。
N28: ※ 応急措置を実施しないで決定した変状の対策区分は、対策区分の応急措置後の欄に記入すること。
C29: ※ たたき落としを実施した場合は、実施後の写真を添付すること。 | N29: ※ 変状の発生範囲の規模は、面積・寸法を記載すること。(ひび割れ幅のみmmとし、その他をm表記とする)
C30: ※ 附属物の取付状態に関する異常写真は別途、任意の書式でとりまとめること。 | N30: ※ 構造用鋼材以外の異物に伴ううき・はく離については、メモ欄に異物の概要を記入すること。

Sheet 様式D-1-1_011
B2: ■定期点検記録様式 変状写真台帳【様式D-1-1】 | R2: 施設ID | T2: 34.29478,131.94625
B3: フリガナ | E3: ヒエバラダイサンズイドウ | H3: 路 線 名 | J3: 国道187号 | M3: 定期点検実施者 | P3: 株式会社エイト日本技術開発 | S3: 定期点検年月日 | U3: 45587
B4: 名 称 | E4: 稗原第3隧道 | H4: 管理者名 | J4: 山口県岩国土木建築事務所 | P4: 岡根 三千夫
B5: 写真 番号 | C5: 覆工スパン 番号 | E5: 4 | M5: 写真 番号 | N5: 覆工スパン 番号 | P5: 4
C6: 変状番号 | E6: 3 | N6: 変状番号 | P6: 3
B7: 変状 部位 | C7: 対象箇所 | E7: 覆工 | M7: 変状 部位 | N7: 対象箇所 | P7: 路面
C8: 部位区分 | E8: アーチ（左側） | N8: 部位区分 | P8: 車道
B9: 変状種類 | E9: 漏水 | M9: 変状種類 | P9: 滞水
B10: 対策 区分 | C10: 変状区分 | E10: 漏水 | M10: 対策 区分 | N10: 変状区分 | P10: 漏水
C11: 応急措置前 | E11: － | N11: 応急措置前 | P11: －
C12: 応急措置後 | E12: Ⅱa | N12: 応急措置後 | P12: Ⅱa
B13: 変状の発生範囲及び規模 | E13: 7.0m×10.1m 70.7㎡ | H13: 前回変状の発生範囲及び規模 | M13: 変状の発生範囲及び規模 | P13: 1.4m×7.0m 9.8㎡ | S13: 前回変状の発生範囲及び規模
B14: 対策履歴 | E14: - | H14: 実施状況（実施日） | J14: - | M14: 対策履歴 | P14: - | S14: 実施状況（実施日） | U14: -
B15: メモ | E15: 滴水(30ml/min)、滞水ともにⅡa判定である | M15: メモ | P15: 滴水(30ml/min)、滞水ともにⅡa判定である
B16: 写真 番号 | C16: 覆工スパン 番号 | E16: 4 | M16: 写真 番号 | N16: 覆工スパン 番号 | P16: 4
C17: 変状番号 | E17: 4 | N17: 変状番号 | P17: 5
B18: 変状 部位 | C18: 対象箇所 | E18: 覆工 | M18: 変状 部位 | N18: 対象箇所 | P18: 覆工
C19: 部位区分 | E19: アーチ（左側） | N19: 部位区分 | P19: アーチ（右側）
B20: 変状種類 | E20: うき・はく離 | M20: 変状種類 | P20: うき・はく離
B21: 対策 区分 | C21: 変状区分 | E21: 材質劣化 | M21: 対策 区分 | N21: 変状区分 | P21: 材質劣化
C22: 応急措置前 | E22: － | N22: 応急措置前 | P22: －
C23: 応急措置後 | E23: Ⅱa | N23: 応急措置後 | P23: Ⅱa
B24: 変状の発生範囲及び規模 | E24: 0.2m×0.4m 0.08㎡ | H24: 前回変状の発生範囲及び規模 | M24: 変状の発生範囲及び規模 | P24: 0.1m×0.5m 0.05㎡ | S24: 前回変状の発生範囲及び規模
B25: 対策履歴 | E25: - | H25: 実施状況（実施日） | J25: - | M25: 対策履歴 | P25: - | S25: 実施状況（実施日） | U25: -
B26: メモ | E26: アーチのうき 経過観察が望まれる | M26: メモ | P26: アーチのうき 計画的な対策が望まれる
C27: ※ 応急措置後の対策区分について添付すること。また、点検前に 実施された措置によりⅠと判定された箇所も添付すること。 | N27: ※ 変状の発生範囲の規模とは、対策を行う際に参考となる変状の長さや面積をいう。
N28: ※ 応急措置を実施しないで決定した変状の対策区分は、対策区分の応急措置後の欄に記入すること。
C29: ※ たたき落としを実施した場合は、実施後の写真を添付すること。 | N29: ※ 変状の発生範囲の規模は、面積・寸法を記載すること。(ひび割れ幅のみmmとし、その他をm表記とする)
C30: ※ 附属物の取付状態に関する異常写真は別途、任意の書式でとりまとめること。 | N30: ※ 構造用鋼材以外の異物に伴ううき・はく離については、メモ欄に異物の概要を記入すること。

Sheet 様式D-1-1_012
B2: ■定期点検記録様式 変状写真台帳【様式D-1-1】 | R2: 施設ID | T2: 34.29478,131.94625
B3: フリガナ | E3: ヒエバラダイサンズイドウ | H3: 路 線 名 | J3: 国道187号 | M3: 定期点検実施者 | P3: 株式会社エイト日本技術開発 | S3: 定期点検年月日 | U3: 45587
B4: 名 称 | E4: 稗原第3隧道 | H4: 管理者名 | J4: 山口県岩国土木建築事務所 | P4: 岡根 三千夫
B5: 写真 番号 | C5: 覆工スパン 番号 | E5: 4 | M5: 写真 番号 | N5: 覆工スパン 番号 | P5: 4
C6: 変状番号 | E6: 6 | N6: 変状番号 | P6: 6
B7: 変状 部位 | C7: 対象箇所 | E7: 覆工 | M7: 変状 部位 | N7: 対象箇所 | P7: 路面
C8: 部位区分 | E8: アーチ（右側） | N8: 部位区分 | P8: 車道
B9: 変状種類 | E9: 漏水 | M9: 変状種類 | P9: 滞水
B10: 対策 区分 | C10: 変状区分 | E10: 漏水 | M10: 対策 区分 | N10: 変状区分 | P10: 漏水
C11: 応急措置前 | E11: － | N11: 応急措置前 | P11: －
C12: 応急措置後 | E12: Ⅱa | N12: 応急措置後 | P12: Ⅱa
B13: 変状の発生範囲及び規模 | E13: 7.8m×3.1m 24.18㎡ | H13: 前回変状の発生範囲及び規模 | M13: 変状の発生範囲及び規模 | P13: 0.5m×1.2m 0.6㎡ | S13: 前回変状の発生範囲及び規模
B14: 対策履歴 | E14: - | H14: 実施状況（実施日） | J14: - | M14: 対策履歴 | P14: - | S14: 実施状況（実施日） | U14: -
B15: メモ | E15: 滴水(30ml/min)、滞水ともにⅡa判定である | M15: メモ | P15: 滴水(30ml/min)、滞水ともにⅡa判定である
B16: 写真 番号 | C16: 覆工スパン 番号 | E16: 4 | M16: 写真 番号 | N16: 覆工スパン 番号 | P16: 4
C17: 変状番号 | E17: 7 | N17: 変状番号 | P17: 8
B18: 変状 部位 | C18: 対象箇所 | E18: 覆工 | M18: 変状 部位 | N18: 対象箇所 | P18: 覆工
C19: 部位区分 | E19: アーチ（右側） | N19: 部位区分 | P19: 側壁（右側）
B20: 変状種類 | E20: 漏水 | M20: 変状種類 | P20: 圧ざ、ひび割れ
B21: 対策 区分 | C21: 変状区分 | E21: 漏水 | M21: 対策 区分 | N21: 変状区分 | P21: 材質劣化
C22: 応急措置前 | E22: － | N22: 応急措置前 | P22: －
C23: 応急措置後 | E23: Ⅱb | N23: 応急措置後 | P23: Ⅱb
B24: 変状の発生範囲及び規模 | E24: 6.0m×1.4m 8.4㎡ | H24: 前回変状の発生範囲及び規模 | M24: 変状の発生範囲及び規模 | P24: W=0.3mm×L=3.0m 0.0009㎡ | S24: 前回変状の発生範囲及び規模 | U24: W=0.3mm×L=2.8m
B25: 対策履歴 | E25: - | H25: 実施状況（実施日） | J25: - | M25: 対策履歴 | P25: - | S25: 実施状況（実施日） | U25: -
B26: メモ | E26: アーチのにじみ 経過観察が望まれる | M26: メモ | P26: 側壁のひび割れ 前回写真番号S4-15 経過観察が望まれる
C27: ※ 応急措置後の対策区分について添付すること。また、点検前に 実施された措置によりⅠと判定された箇所も添付すること。 | N27: ※ 変状の発生範囲の規模とは、対策を行う際に参考となる変状の長さや面積をいう。
N28: ※ 応急措置を実施しないで決定した変状の対策区分は、対策区分の応急措置後の欄に記入すること。
C29: ※ たたき落としを実施した場合は、実施後の写真を添付すること。 | N29: ※ 変状の発生範囲の規模は、面積・寸法を記載すること。(ひび割れ幅のみmmとし、その他をm表記とする)
C30: ※ 附属物の取付状態に関する異常写真は別途、任意の書式でとりまとめること。 | N30: ※ 構造用鋼材以外の異物に伴ううき・はく離については、メモ欄に異物の概要を記入すること。

Sheet 様式D-1-1_013
B2: ■定期点検記録様式 変状写真台帳【様式D-1-1】 | R2: 施設ID | T2: 34.29478,131.94625
B3: フリガナ | E3: ヒエバラダイサンズイドウ | H3: 路 線 名 | J3: 国道187号 | M3: 定期点検実施者 | P3: 株式会社エイト日本技術開発 | S3: 定期点検年月日 | U3: 45587
B4: 名 称 | E4: 稗原第3隧道 | H4: 管理者名 | J4: 山口県岩国土木建築事務所 | P4: 岡根 三千夫
B5: 写真 番号 | C5: 覆工スパン 番号 | E5: 4 | M5: 写真 番号 | N5: 覆工スパン 番号 | P5: 5
C6: 変状番号 | E6: 9 | N6: 変状番号 | P6: 1
B7: 変状 部位 | C7: 対象箇所 | E7: 覆工 | M7: 変状 部位 | N7: 対象箇所 | P7: 覆工
C8: 部位区分 | E8: アーチ（右側） | N8: 部位区分 | P8: アーチ（左側）
B9: 変状種類 | E9: 漏水 | M9: 変状種類 | P9: 漏水
B10: 対策 区分 | C10: 変状区分 | E10: 漏水 | M10: 対策 区分 | N10: 変状区分 | P10: 漏水
C11: 応急措置前 | E11: － | N11: 応急措置前 | P11: －
C12: 応急措置後 | E12: Ⅱb | N12: 応急措置後 | P12: Ⅱb
B13: 変状の発生範囲及び規模 | E13: 5.1m×0.5m 2.55㎡ | H13: 前回変状の発生範囲及び規模 | M13: 変状の発生範囲及び規模 | P13: 6.2m×2.0m 12.4㎡ | S13: 前回変状の発生範囲及び規模
B14: 対策履歴 | E14: - | H14: 実施状況（実施日） | J14: - | M14: 対策履歴 | P14: - | S14: 実施状況（実施日） | U14: -
B15: メモ | E15: アーチのにじみ 経過観察が望まれる | M15: メモ | P15: アーチのにじみ 経過観察が望まれる
B16: 写真 番号 | C16: 覆工スパン 番号 | E16: 5 | M16: 写真 番号 | N16: 覆工スパン 番号 | P16: 5
C17: 変状番号 | E17: 2 | N17: 変状番号 | P17: 3
B18: 変状 部位 | C18: 対象箇所 | E18: 覆工 | M18: 変状 部位 | N18: 対象箇所 | P18: 覆工
C19: 部位区分 | E19: 横断目地（左側） | N19: 部位区分 | P19: 側壁（左側）
B20: 変状種類 | E20: うき・はく離 | M20: 変状種類 | P20: うき・はく離
B21: 対策 区分 | C21: 変状区分 | E21: 材質劣化 | M21: 対策 区分 | N21: 変状区分 | P21: 材質劣化
C22: 応急措置前 | E22: － | N22: 応急措置前 | P22: －
C23: 応急措置後 | E23: Ⅱa | N23: 応急措置後 | P23: Ⅱb
B24: 変状の発生範囲及び規模 | E24: 0.4m×0.1m 0.04㎡ | H24: 前回変状の発生範囲及び規模 | M24: 変状の発生範囲及び規模 | P24: 0.6m×4.3m 2.58㎡ | S24: 前回変状の発生範囲及び規模 | U24: 0.6m×4.3m 2.58㎡
B25: 対策履歴 | E25: - | H25: 実施状況（実施日） | J25: - | M25: 対策履歴 | P25: - | S25: 実施状況（実施日） | U25: -
B26: メモ | E26: 横断目地のうき 計画的な対策が望まれる | M26: メモ | P26: 側壁のうき 前回写真番号S5-21 経過観察が望まれる
C27: ※ 応急措置後の対策区分について添付すること。また、点検前に 実施された措置によりⅠと判定された箇所も添付すること。 | N27: ※ 変状の発生範囲の規模とは、対策を行う際に参考となる変状の長さや面積をいう。
N28: ※ 応急措置を実施しないで決定した変状の対策区分は、対策区分の応急措置後の欄に記入すること。
C29: ※ たたき落としを実施した場合は、実施後の写真を添付すること。 | N29: ※ 変状の発生範囲の規模は、面積・寸法を記載すること。(ひび割れ幅のみmmとし、その他をm表記とする)
C30: ※ 附属物の取付状態に関する異常写真は別途、任意の書式でとりまとめること。 | N30: ※ 構造用鋼材以外の異物に伴ううき・はく離については、メモ欄に異物の概要を記入すること。

Sheet 様式D-1-1_014
B2: ■定期点検記録様式 変状写真台帳【様式D-1-1】 | R2: 施設ID | T2: 34.29478,131.94625
B3: フリガナ | E3: ヒエバラダイサンズイドウ | H3: 路 線 名 | J3: 国道187号 | M3: 定期点検実施者 | P3: 株式会社エイト日本技術開発 | S3: 定期点検年月日 | U3: 45587
B4: 名 称 | E4: 稗原第3隧道 | H4: 管理者名 | J4: 山口県岩国土木建築事務所 | P4: 岡根 三千夫
B5: 写真 番号 | C5: 覆工スパン 番号 | E5: 5 | M5: 写真 番号 | N5: 覆工スパン 番号 | P5: 5
C6: 変状番号 | E6: 4 | N6: 変状番号 | P6: 5
B7: 変状 部位 | C7: 対象箇所 | E7: 覆工 | M7: 変状 部位 | N7: 対象箇所 | P7: 覆工
C8: 部位区分 | E8: 側壁（左側） | N8: 部位区分 | P8: アーチ（左側）
B9: 変状種類 | E9: うき・はく離 | M9: 変状種類 | P9: 漏水
B10: 対策 区分 | C10: 変状区分 | E10: 材質劣化 | M10: 対策 区分 | N10: 変状区分 | P10: 漏水
C11: 応急措置前 | E11: － | N11: 応急措置前 | P11: －
C12: 応急措置後 | E12: Ⅱb | N12: 応急措置後 | P12: Ⅱb
B13: 変状の発生範囲及び規模 | E13: 0.4m×6.0m 2.4㎡ | H13: 前回変状の発生範囲及び規模 | J13: 0.3m×4.5m | M13: 変状の発生範囲及び規模 | P13: 7.0m×4.3m 30.1㎡ | S13: 前回変状の発生範囲及び規模
B14: 対策履歴 | E14: - | H14: 実施状況（実施日） | J14: - | M14: 対策履歴 | P14: - | S14: 実施状況（実施日） | U14: -
B15: メモ | E15: 側壁のうき 前回写真番号S5-20 経過観察が望まれる | M15: メモ | P15: アーチのにじみ 経過観察が望まれる
B16: 写真 番号 | C16: 覆工スパン 番号 | E16: 5 | M16: 写真 番号 | N16: 覆工スパン 番号 | P16: 5
C17: 変状番号 | E17: 6 | N17: 変状番号 | P17: 7
B18: 変状 部位 | C18: 対象箇所 | E18: 覆工 | M18: 変状 部位 | N18: 対象箇所 | P18: 覆工
C19: 部位区分 | E19: アーチ（左側） | N19: 部位区分 | P19: アーチ（左側）
B20: 変状種類 | E20: 漏水 | M20: 変状種類 | P20: 漏水
B21: 対策 区分 | C21: 変状区分 | E21: 漏水 | M21: 対策 区分 | N21: 変状区分 | P21: 漏水
C22: 応急措置前 | E22: － | N22: 応急措置前 | P22: －
C23: 応急措置後 | E23: Ⅱb | N23: 応急措置後 | P23: Ⅱb
B24: 変状の発生範囲及び規模 | E24: 6.2m×0.5m 3.1㎡ | H24: 前回変状の発生範囲及び規模 | M24: 変状の発生範囲及び規模 | P24: 3.6m×1.1m 3.96㎡ | S24: 前回変状の発生範囲及び規模
B25: 対策履歴 | E25: - | H25: 実施状況（実施日） | J25: - | M25: 対策履歴 | P25: - | S25: 実施状況（実施日） | U25: -
B26: メモ | E26: アーチのにじみ 経過観察が望まれる | M26: メモ | P26: アーチのにじみ 経過観察が望まれる
C27: ※ 応急措置後の対策区分について添付すること。また、点検前に 実施された措置によりⅠと判定された箇所も添付すること。 | N27: ※ 変状の発生範囲の規模とは、対策を行う際に参考となる変状の長さや面積をいう。
N28: ※ 応急措置を実施しないで決定した変状の対策区分は、対策区分の応急措置後の欄に記入すること。
C29: ※ たたき落としを実施した場合は、実施後の写真を添付すること。 | N29: ※ 変状の発生範囲の規模は、面積・寸法を記載すること。(ひび割れ幅のみmmとし、その他をm表記とする)
C30: ※ 附属物の取付状態に関する異常写真は別途、任意の書式でとりまとめること。 | N30: ※ 構造用鋼材以外の異物に伴ううき・はく離については、メモ欄に異物の概要を記入すること。

Sheet 様式D-1-1_015
B2: ■定期点検記録様式 変状写真台帳【様式D-1-1】 | R2: 施設ID | T2: 34.29478,131.94625
B3: フリガナ | E3: ヒエバラダイサンズイドウ | H3: 路 線 名 | J3: 国道187号 | M3: 定期点検実施者 | P3: 株式会社エイト日本技術開発 | S3: 定期点検年月日 | U3: 45587
B4: 名 称 | E4: 稗原第3隧道 | H4: 管理者名 | J4: 山口県岩国土木建築事務所 | P4: 岡根 三千夫
B5: 写真 番号 | C5: 覆工スパン 番号 | E5: 5 | M5: 写真 番号 | N5: 覆工スパン 番号 | P5: 5
C6: 変状番号 | E6: 8 | N6: 変状番号 | P6: 9
B7: 変状 部位 | C7: 対象箇所 | E7: 覆工 | M7: 変状 部位 | N7: 対象箇所 | P7: 覆工
C8: 部位区分 | E8: 側壁（左側） | N8: 部位区分 | P8: アーチ（左側）
B9: 変状種類 | E9: 漏水 | M9: 変状種類 | P9: 鋼材腐食
B10: 対策 区分 | C10: 変状区分 | E10: 漏水 | M10: 対策 区分 | N10: 変状区分 | P10: 材質劣化
C11: 応急措置前 | E11: － | N11: 応急措置前 | P11: －
C12: 応急措置後 | E12: Ⅱb | N12: 応急措置後 | P12: Ⅱb
B13: 変状の発生範囲及び規模 | E13: 2.5m×0.8m 2㎡ | H13: 前回変状の発生範囲及び規模 | M13: 変状の発生範囲及び規模 | P13: 0.05m×0.1m 0.005㎡ | S13: 前回変状の発生範囲及び規模 | U13: 0.1m×0.15m
B14: 対策履歴 | E14: - | H14: 実施状況（実施日） | J14: - | M14: 対策履歴 | P14: - | S14: 実施状況（実施日） | U14: -
B15: メモ | E15: 側壁のにじみ 経過観察が望まれる | M15: メモ | P15: アーチの鋼材腐食 前回写真番号S5-17 経過観察が望まれる
B16: 写真 番号 | C16: 覆工スパン 番号 | E16: 5 | M16: 写真 番号 | N16: 覆工スパン 番号 | P16: 5
C17: 変状番号 | E17: 10 | N17: 変状番号 | P17: 11
B18: 変状 部位 | C18: 対象箇所 | E18: 覆工 | M18: 変状 部位 | N18: 対象箇所 | P18: 覆工
C19: 部位区分 | E19: アーチ（右側） | N19: 部位区分 | P19: アーチ（右側）
B20: 変状種類 | E20: うき・はく離 | M20: 変状種類 | P20: うき・はく離
B21: 対策 区分 | C21: 変状区分 | E21: 材質劣化 | M21: 対策 区分 | N21: 変状区分 | P21: 材質劣化
C22: 応急措置前 | E22: Ⅳ | N22: 応急措置前 | P22: －
C23: 応急措置後 | E23: Ⅲ | N23: 応急措置後 | P23: Ⅱa
B24: 変状の発生範囲及び規模 | E24: 1.4m×0.2m 0.28㎡ | H24: 前回変状の発生範囲及び規模 | J24: 0.2m×2.9m | M24: 変状の発生範囲及び規模 | P24: 1.5m×0.1m 0.15㎡ | S24: 前回変状の発生範囲及び規模 | U24: 0.2m×2.9m
B25: 対策履歴 | E25: FRPネット | H25: 実施状況（実施日） | J25: 45589 | M25: 対策履歴 | P25: - | S25: 実施状況（実施日） | U25: -
B26: メモ | E26: アーチのうき 前回写真番号S5-9 FRPネットにより応急対策済 | M26: メモ | P26: アーチのジャンカ 内部脆弱 前回写真番号S5-9 計画的な対策が望まれる
C27: ※ 応急措置後の対策区分について添付すること。また、点検前に 実施された措置によりⅠと判定された箇所も添付すること。 | N27: ※ 変状の発生範囲の規模とは、対策を行う際に参考となる変状の長さや面積をいう。
N28: ※ 応急措置を実施しないで決定した変状の対策区分は、対策区分の応急措置後の欄に記入すること。
C29: ※ たたき落としを実施した場合は、実施後の写真を添付すること。 | N29: ※ 変状の発生範囲の規模は、面積・寸法を記載すること。(ひび割れ幅のみmmとし、その他をm表記とする)
C30: ※ 附属物の取付状態に関する異常写真は別途、任意の書式でとりまとめること。 | N30: ※ 構造用鋼材以外の異物に伴ううき・はく離については、メモ欄に異物の概要を記入すること。

Sheet 様式D-1-1_016
B2: ■定期点検記録様式 変状写真台帳【様式D-1-1】 | R2: 施設ID | T2: 34.29478,131.94625
B3: フリガナ | E3: ヒエバラダイサンズイドウ | H3: 路 線 名 | J3: 国道187号 | M3: 定期点検実施者 | P3: 株式会社エイト日本技術開発 | S3: 定期点検年月日 | U3: 45587
B4: 名 称 | E4: 稗原第3隧道 | H4: 管理者名 | J4: 山口県岩国土木建築事務所 | P4: 岡根 三千夫
B5: 写真 番号 | C5: 覆工スパン 番号 | E5: 5 | M5: 写真 番号 | N5: 覆工スパン 番号 | P5: 5
C6: 変状番号 | E6: 12 | N6: 変状番号 | P6: 13
B7: 変状 部位 | C7: 対象箇所 | E7: 覆工 | M7: 変状 部位 | N7: 対象箇所 | P7: 覆工
C8: 部位区分 | E8: 横断目地（右側） | N8: 部位区分 | P8: アーチ（右側）
B9: 変状種類 | E9: うき・はく離 | M9: 変状種類 | P9: うき・はく離
B10: 対策 区分 | C10: 変状区分 | E10: 材質劣化 | M10: 対策 区分 | N10: 変状区分 | P10: 材質劣化
C11: 応急措置前 | E11: － | N11: 応急措置前 | P11: －
C12: 応急措置後 | E12: Ⅱa | N12: 応急措置後 | P12: Ⅱa
B13: 変状の発生範囲及び規模 | E13: 0.4m×0.05m 0.02㎡ | H13: 前回変状の発生範囲及び規模 | J13: 0.3m×0.1m | M13: 変状の発生範囲及び規模 | P13: 0.6m×0.4m 0.24㎡ | S13: 前回変状の発生範囲及び規模 | U13: 0.5m×0.4m
B14: 対策履歴 | E14: - | H14: 実施状況（実施日） | J14: - | M14: 対策履歴 | P14: - | S14: 実施状況（実施日） | U14: -
B15: メモ | E15: 横断目地のうき 計画的な対策が望まれる | M15: メモ | P15: アーチのうき 前回写真番号S5-8 計画的な対策が望まれる
B16: 写真 番号 | C16: 覆工スパン 番号 | E16: 5 | M16: 写真 番号 | N16: 覆工スパン 番号 | P16: 5
C17: 変状番号 | E17: 14 | N17: 変状番号 | P17: 15
B18: 変状 部位 | C18: 対象箇所 | E18: 覆工 | M18: 変状 部位 | N18: 対象箇所 | P18: 覆工
C19: 部位区分 | E19: 横断目地（右側） | N19: 部位区分 | P19: アーチ（右側）
B20: 変状種類 | E20: 補修・補強材の破損 | M20: 変状種類 | P20: 漏水
B21: 対策 区分 | C21: 変状区分 | E21: 材質劣化 | M21: 対策 区分 | N21: 変状区分 | P21: 漏水
C22: 応急措置前 | E22: － | N22: 応急措置前 | P22: －
C23: 応急措置後 | E23: Ⅱb | N23: 応急措置後 | P23: Ⅱb
B24: 変状の発生範囲及び規模 | E24: 0.3m×0.05m 0.015㎡ | H24: 前回変状の発生範囲及び規模 | J24: 0.3m×0.1m | M24: 変状の発生範囲及び規模 | P24: 5.6m×0.6m 3.36㎡ | S24: 前回変状の発生範囲及び規模
B25: 対策履歴 | E25: - | H25: 実施状況（実施日） | J25: - | M25: 対策履歴 | P25: - | S25: 実施状況（実施日） | U25: -
B26: メモ | E26: 横断目地の線導水工劣化 前回写真番号S6-1 漏水なし、材質劣化として評価見直し | M26: メモ | P26: アーチのにじみ 経過観察が望まれる
C27: ※ 応急措置後の対策区分について添付すること。また、点検前に 実施された措置によりⅠと判定された箇所も添付すること。 | N27: ※ 変状の発生範囲の規模とは、対策を行う際に参考となる変状の長さや面積をいう。
N28: ※ 応急措置を実施しないで決定した変状の対策区分は、対策区分の応急措置後の欄に記入すること。
C29: ※ たたき落としを実施した場合は、実施後の写真を添付すること。 | N29: ※ 変状の発生範囲の規模は、面積・寸法を記載すること。(ひび割れ幅のみmmとし、その他をm表記とする)
C30: ※ 附属物の取付状態に関する異常写真は別途、任意の書式でとりまとめること。 | N30: ※ 構造用鋼材以外の異物に伴ううき・はく離については、メモ欄に異物の概要を記入すること。

Sheet 様式D-1-1_017
B2: ■定期点検記録様式 変状写真台帳【様式D-1-1】 | R2: 施設ID | T2: 34.29478,131.94625
B3: フリガナ | E3: ヒエバラダイサンズイドウ | H3: 路 線 名 | J3: 国道187号 | M3: 定期点検実施者 | P3: 株式会社エイト日本技術開発 | S3: 定期点検年月日 | U3: 45587
B4: 名 称 | E4: 稗原第3隧道 | H4: 管理者名 | J4: 山口県岩国土木建築事務所 | P4: 岡根 三千夫
B5: 写真 番号 | C5: 覆工スパン 番号 | E5: 5 | M5: 写真 番号 | N5: 覆工スパン 番号 | P5: 5
C6: 変状番号 | E6: 16 | N6: 変状番号 | P6: 17
B7: 変状 部位 | C7: 対象箇所 | E7: 覆工 | M7: 変状 部位 | N7: 対象箇所 | P7: 覆工
C8: 部位区分 | E8: 側壁（右側） | N8: 部位区分 | P8: アーチ（右側）
B9: 変状種類 | E9: 漏水 | M9: 変状種類 | P9: 漏水
B10: 対策 区分 | C10: 変状区分 | E10: 漏水 | M10: 対策 区分 | N10: 変状区分 | P10: 漏水
C11: 応急措置前 | E11: － | N11: 応急措置前 | P11: －
C12: 応急措置後 | E12: Ⅱb | N12: 応急措置後 | P12: Ⅱb
B13: 変状の発生範囲及び規模 | E13: 2.1m×0.7m 1.47㎡ | H13: 前回変状の発生範囲及び規模 | M13: 変状の発生範囲及び規模 | P13: 7.0m×1.2m 8.4㎡ | S13: 前回変状の発生範囲及び規模
B14: 対策履歴 | E14: - | H14: 実施状況（実施日） | J14: - | M14: 対策履歴 | P14: - | S14: 実施状況（実施日） | U14: -
B15: メモ | E15: 側壁のにじみ 経過観察が望まれる | M15: メモ | P15: アーチのにじみ 経過観察が望まれる
B16: 写真 番号 | C16: 覆工スパン 番号 | E16: 5 | M16: 写真 番号 | N16: 覆工スパン 番号 | P16: 5
C17: 変状番号 | E17: 18 | N17: 変状番号 | P17: 19
B18: 変状 部位 | C18: 対象箇所 | E18: 覆工 | M18: 変状 部位 | N18: 対象箇所 | P18: 覆工
C19: 部位区分 | E19: アーチ（右側） | N19: 部位区分 | P19: 水平打ち継ぎ目（右側）
B20: 変状種類 | E20: 漏水 | M20: 変状種類 | P20: うき・はく離
B21: 対策 区分 | C21: 変状区分 | E21: 漏水 | M21: 対策 区分 | N21: 変状区分 | P21: 材質劣化
C22: 応急措置前 | E22: － | N22: 応急措置前 | P22: －
C23: 応急措置後 | E23: Ⅱb | N23: 応急措置後 | P23: Ⅱb
B24: 変状の発生範囲及び規模 | E24: 6.8m×1.2m 8.16㎡ | H24: 前回変状の発生範囲及び規模 | M24: 変状の発生範囲及び規模 | P24: 0.15m×3.0m 0.45㎡ | S24: 前回変状の発生範囲及び規模 | U24: 0.15m×3.0m
B25: 対策履歴 | E25: - | H25: 実施状況（実施日） | J25: - | M25: 対策履歴 | P25: - | S25: 実施状況（実施日） | U25: -
B26: メモ | E26: アーチのにじみ 経過観察が望まれる | M26: メモ | P26: 水平打ち継ぎ目のうき 前回写真番号S5-29 経過観察が望まれる
C27: ※ 応急措置後の対策区分について添付すること。また、点検前に 実施された措置によりⅠと判定された箇所も添付すること。 | N27: ※ 変状の発生範囲の規模とは、対策を行う際に参考となる変状の長さや面積をいう。
N28: ※ 応急措置を実施しないで決定した変状の対策区分は、対策区分の応急措置後の欄に記入すること。
C29: ※ たたき落としを実施した場合は、実施後の写真を添付すること。 | N29: ※ 変状の発生範囲の規模は、面積・寸法を記載すること。(ひび割れ幅のみmmとし、その他をm表記とする)
C30: ※ 附属物の取付状態に関する異常写真は別途、任意の書式でとりまとめること。 | N30: ※ 構造用鋼材以外の異物に伴ううき・はく離については、メモ欄に異物の概要を記入すること。

Sheet 様式D-1-1_018
B2: ■定期点検記録様式 変状写真台帳【様式D-1-1】 | R2: 施設ID | T2: 34.29478,131.94625
B3: フリガナ | E3: ヒエバラダイサンズイドウ | H3: 路 線 名 | J3: 国道187号 | M3: 定期点検実施者 | P3: 株式会社エイト日本技術開発 | S3: 定期点検年月日 | U3: 45587
B4: 名 称 | E4: 稗原第3隧道 | H4: 管理者名 | J4: 山口県岩国土木建築事務所 | P4: 岡根 三千夫
B5: 写真 番号 | C5: 覆工スパン 番号 | E5: 6 | M5: 写真 番号 | N5: 覆工スパン 番号 | P5: 6
C6: 変状番号 | E6: 1 | N6: 変状番号 | P6: 2
B7: 変状 部位 | C7: 対象箇所 | E7: 覆工 | M7: 変状 部位 | N7: 対象箇所 | P7: 覆工
C8: 部位区分 | E8: 水平打ち継ぎ目（左側） | N8: 部位区分 | P8: 横断目地（右側）
B9: 変状種類 | E9: 漏水 | M9: 変状種類 | P9: 補修・補強材の破損
B10: 対策 区分 | C10: 変状区分 | E10: 漏水 | M10: 対策 区分 | N10: 変状区分 | P10: 材質劣化
C11: 応急措置前 | E11: － | N11: 応急措置前 | P11: －
C12: 応急措置後 | E12: Ⅱb | N12: 応急措置後 | P12: Ⅱb
B13: 変状の発生範囲及び規模 | E13: 2.5m×1.0m 2.5㎡ | H13: 前回変状の発生範囲及び規模 | M13: 変状の発生範囲及び規模 | P13: 0.2m×0.1m 0.02㎡ | S13: 前回変状の発生範囲及び規模 | U13: 0.25m×0.15m
B14: 対策履歴 | E14: - | H14: 実施状況（実施日） | J14: - | M14: 対策履歴 | P14: - | S14: 実施状況（実施日） | U14: -
B15: メモ | E15: 水平打ち継ぎ目のにじみ 経過観察が望まれる | M15: メモ | P15: 横断目地の線導水工劣化 前回写真番号S6-2 漏水なし、材質劣化として評価見直し
B16: 写真 番号 | C16: 覆工スパン 番号 | E16: 6 | M16: 写真 番号 | N16: 覆工スパン 番号 | P16: 6
C17: 変状番号 | E17: 3 | N17: 変状番号 | P17: 3
B18: 変状 部位 | C18: 対象箇所 | E18: 覆工 | M18: 変状 部位 | N18: 対象箇所 | P18: 路面
C19: 部位区分 | E19: 横断目地（右側） | N19: 部位区分 | P19: 車道
B20: 変状種類 | E20: 漏水 | M20: 変状種類 | P20: その他
B21: 対策 区分 | C21: 変状区分 | E21: 漏水 | M21: 対策 区分 | N21: 変状区分 | P21: 漏水
C22: 応急措置前 | E22: － | N22: 応急措置前 | P22: －
C23: 応急措置後 | E23: Ⅱb | N23: 応急措置後 | P23: Ⅱb
B24: 変状の発生範囲及び規模 | E24: 5.1m×1.6m 8.16㎡ | H24: 前回変状の発生範囲及び規模 | M24: 変状の発生範囲及び規模 | P24: 0.4m×2.9m 1.16㎡ | S24: 前回変状の発生範囲及び規模
B25: 対策履歴 | E25: - | H25: 実施状況（実施日） | J25: - | M25: 対策履歴 | P25: - | S25: 実施状況（実施日） | U25: -
B26: メモ | E26: 漏水、土砂堆積ともにⅡb判定である | M26: メモ | P26: 漏水、土砂堆積ともにⅡb判定である
C27: ※ 応急措置後の対策区分について添付すること。また、点検前に 実施された措置によりⅠと判定された箇所も添付すること。 | N27: ※ 変状の発生範囲の規模とは、対策を行う際に参考となる変状の長さや面積をいう。
N28: ※ 応急措置を実施しないで決定した変状の対策区分は、対策区分の応急措置後の欄に記入すること。
C29: ※ たたき落としを実施した場合は、実施後の写真を添付すること。 | N29: ※ 変状の発生範囲の規模は、面積・寸法を記載すること。(ひび割れ幅のみmmとし、その他をm表記とする)
C30: ※ 附属物の取付状態に関する異常写真は別途、任意の書式でとりまとめること。 | N30: ※ 構造用鋼材以外の異物に伴ううき・はく離については、メモ欄に異物の概要を記入すること。

Sheet 様式D-1-1_019
B2: ■定期点検記録様式 変状写真台帳【様式D-1-1】 | R2: 施設ID | T2: 34.29478,131.94625
B3: フリガナ | E3: ヒエバラダイサンズイドウ | H3: 路 線 名 | J3: 国道187号 | M3: 定期点検実施者 | P3: 株式会社エイト日本技術開発 | S3: 定期点検年月日 | U3: 45587
B4: 名 称 | E4: 稗原第3隧道 | H4: 管理者名 | J4: 山口県岩国土木建築事務所 | P4: 岡根 三千夫
B5: 写真 番号 | C5: 覆工スパン 番号 | E5: 6 | M5: 写真 番号 | N5: 覆工スパン 番号 | P5: 7
C6: 変状番号 | E6: 4 | N6: 変状番号 | P6: 1
B7: 変状 部位 | C7: 対象箇所 | E7: 覆工 | M7: 変状 部位 | N7: 対象箇所 | P7: 覆工
C8: 部位区分 | E8: 水平打ち継ぎ目（右側） | N8: 部位区分 | P8: アーチ（左側）
B9: 変状種類 | E9: うき・はく離 | M9: 変状種類 | P9: 漏水
B10: 対策 区分 | C10: 変状区分 | E10: 材質劣化 | M10: 対策 区分 | N10: 変状区分 | P10: 漏水
C11: 応急措置前 | E11: － | N11: 応急措置前 | P11: －
C12: 応急措置後 | E12: Ⅰ | N12: 応急措置後 | P12: Ⅱb
B13: 変状の発生範囲及び規模 | E13: ㎡ | H13: 前回変状の発生範囲及び規模 | J13: 0.15m×0.9m | M13: 変状の発生範囲及び規模 | P13: 7.3m×0.7m 5.11㎡ | S13: 前回変状の発生範囲及び規模
B14: 対策履歴 | E14: - | H14: 実施状況（実施日） | J14: - | M14: 対策履歴 | P14: - | S14: 実施状況（実施日） | U14: -
B15: メモ | E15: うきが見られなかった 前回写真番号S6-19 | M15: メモ | P15: アーチのにじみ 経過観察が望まれる
B16: 写真 番号 | C16: 覆工スパン 番号 | E16: 7 | M16: 写真 番号 | N16: 覆工スパン 番号 | P16: 7.3
C17: 変状番号 | E17: 2 | N17: 変状番号 | P17: 3
B18: 変状 部位 | C18: 対象箇所 | E18: 覆工 | M18: 変状 部位 | N18: 対象箇所 | P18: 覆工
C19: 部位区分 | E19: アーチ（左側） | N19: 部位区分 | P19: アーチ（左側）
B20: 変状種類 | E20: 漏水 | M20: 変状種類 | P20: 漏水
B21: 対策 区分 | C21: 変状区分 | E21: 漏水 | M21: 対策 区分 | N21: 変状区分 | P21: 漏水
C22: 応急措置前 | E22: － | N22: 応急措置前 | P22: －
C23: 応急措置後 | E23: Ⅱb | N23: 応急措置後 | P23: Ⅱb
B24: 変状の発生範囲及び規模 | E24: 7.5m×0.6m 4.5㎡ | H24: 前回変状の発生範囲及び規模 | M24: 変状の発生範囲及び規模 | P24: 6.1m×1.7m 10.37㎡ | S24: 前回変状の発生範囲及び規模
B25: 対策履歴 | E25: - | H25: 実施状況（実施日） | J25: - | M25: 対策履歴 | P25: - | S25: 実施状況（実施日） | U25: -
B26: メモ | E26: アーチのにじみ 経過観察が望まれる | M26: メモ | P26: アーチのにじみ 経過観察が望まれる
C27: ※ 応急措置後の対策区分について添付すること。また、点検前に 実施された措置によりⅠと判定された箇所も添付すること。 | N27: ※ 変状の発生範囲の規模とは、対策を行う際に参考となる変状の長さや面積をいう。
N28: ※ 応急措置を実施しないで決定した変状の対策区分は、対策区分の応急措置後の欄に記入すること。
C29: ※ たたき落としを実施した場合は、実施後の写真を添付すること。 | N29: ※ 変状の発生範囲の規模は、面積・寸法を記載すること。(ひび割れ幅のみmmとし、その他をm表記とする)
C30: ※ 附属物の取付状態に関する異常写真は別途、任意の書式でとりまとめること。 | N30: ※ 構造用鋼材以外の異物に伴ううき・はく離については、メモ欄に異物の概要を記入すること。

Sheet 様式D-1-1_020
B2: ■定期点検記録様式 変状写真台帳【様式D-1-1】 | R2: 施設ID | T2: 34.29478,131.94625
B3: フリガナ | E3: ヒエバラダイサンズイドウ | H3: 路 線 名 | J3: 国道187号 | M3: 定期点検実施者 | P3: 株式会社エイト日本技術開発 | S3: 定期点検年月日 | U3: 45587
B4: 名 称 | E4: 稗原第3隧道 | H4: 管理者名 | J4: 山口県岩国土木建築事務所 | P4: 岡根 三千夫
B5: 写真 番号 | C5: 覆工スパン 番号 | E5: 7 | M5: 写真 番号 | N5: 覆工スパン 番号 | P5: 7
C6: 変状番号 | E6: 4 | N6: 変状番号 | P6: 5
B7: 変状 部位 | C7: 対象箇所 | E7: 覆工 | M7: 変状 部位 | N7: 対象箇所 | P7: 覆工
C8: 部位区分 | E8: 水平打ち継ぎ目（左側） | N8: 部位区分 | P8: アーチ（左側）
B9: 変状種類 | E9: 漏水 | M9: 変状種類 | P9: 圧ざ、ひび割れ
B10: 対策 区分 | C10: 変状区分 | E10: 漏水 | M10: 対策 区分 | N10: 変状区分 | P10: 材質劣化
C11: 応急措置前 | E11: － | N11: 応急措置前 | P11: －
C12: 応急措置後 | E12: Ⅰ | N12: 応急措置後 | P12: Ⅱb
B13: 変状の発生範囲及び規模 | E13: 1.5m×0.3m 0.45㎡ | H13: 前回変状の発生範囲及び規模 | M13: 変状の発生範囲及び規模 | P13: W=0.35mm×L=1.6m 0.00056㎡ | S13: 前回変状の発生範囲及び規模 | U13: W=0.35mm×L=1.6m
B14: 対策履歴 | E14: - | H14: 実施状況（実施日） | J14: - | M14: 対策履歴 | P14: - | S14: 実施状況（実施日） | U14: -
B15: メモ | E15: 水平打ち継ぎ目の遊離石灰 前回写真番号S7-19 | M15: メモ
B16: 写真 番号 | C16: 覆工スパン 番号 | E16: 7 | M16: 写真 番号 | N16: 覆工スパン 番号 | P16: 7
C17: 変状番号 | E17: 6 | N17: 変状番号 | P17: 7
B18: 変状 部位 | C18: 対象箇所 | E18: 覆工 | M18: 変状 部位 | N18: 対象箇所 | P18: 覆工
C19: 部位区分 | E19: アーチ（右側） | N19: 部位区分 | P19: 横断目地（右側）
B20: 変状種類 | E20: 漏水 | M20: 変状種類 | P20: 漏水
B21: 対策 区分 | C21: 変状区分 | E21: 漏水 | M21: 対策 区分 | N21: 変状区分 | P21: 漏水
C22: 応急措置前 | E22: － | N22: 応急措置前 | P22: －
C23: 応急措置後 | E23: Ⅱb | N23: 応急措置後 | P23: Ⅱb
B24: 変状の発生範囲及び規模 | E24: 7.1m×1.5m 10.65㎡ | H24: 前回変状の発生範囲及び規模 | M24: 変状の発生範囲及び規模 | P24: 5.4m×0.5m 2.7㎡ | S24: 前回変状の発生範囲及び規模
B25: 対策履歴 | E25: - | H25: 実施状況（実施日） | J25: - | M25: 対策履歴 | P25: - | S25: 実施状況（実施日） | U25: -
B26: メモ | E26: アーチのにじみ 経過観察が望まれる | M26: メモ | P26: 横断目地のにじみ 経過観察が望まれる
C27: ※ 応急措置後の対策区分について添付すること。また、点検前に 実施された措置によりⅠと判定された箇所も添付すること。 | N27: ※ 変状の発生範囲の規模とは、対策を行う際に参考となる変状の長さや面積をいう。
N28: ※ 応急措置を実施しないで決定した変状の対策区分は、対策区分の応急措置後の欄に記入すること。
C29: ※ たたき落としを実施した場合は、実施後の写真を添付すること。 | N29: ※ 変状の発生範囲の規模は、面積・寸法を記載すること。(ひび割れ幅のみmmとし、その他をm表記とする)
C30: ※ 附属物の取付状態に関する異常写真は別途、任意の書式でとりまとめること。 | N30: ※ 構造用鋼材以外の異物に伴ううき・はく離については、メモ欄に異物の概要を記入すること。

Sheet 様式D-1-1_021
B2: ■定期点検記録様式 変状写真台帳【様式D-1-1】 | R2: 施設ID | T2: 34.29478,131.94625
B3: フリガナ | E3: ヒエバラダイサンズイドウ | H3: 路 線 名 | J3: 国道187号 | M3: 定期点検実施者 | P3: 株式会社エイト日本技術開発 | S3: 定期点検年月日 | U3: 45587
B4: 名 称 | E4: 稗原第3隧道 | H4: 管理者名 | J4: 山口県岩国土木建築事務所 | P4: 岡根 三千夫
B5: 写真 番号 | C5: 覆工スパン 番号 | E5: 7 | M5: 写真 番号 | N5: 覆工スパン 番号 | P5: 8
C6: 変状番号 | E6: 8 | N6: 変状番号 | P6: 1
B7: 変状 部位 | C7: 対象箇所 | E7: 覆工 | M7: 変状 部位 | N7: 対象箇所 | P7: 覆工
C8: 部位区分 | E8: 水平打ち継ぎ目（右側） | N8: 部位区分 | P8: 横断目地（左側）
B9: 変状種類 | E9: うき・はく離 | M9: 変状種類 | P9: 補修・補強材の破損
B10: 対策 区分 | C10: 変状区分 | E10: 材質劣化 | M10: 対策 区分 | N10: 変状区分 | P10: 材質劣化
C11: 応急措置前 | E11: － | N11: 応急措置前 | P11: －
C12: 応急措置後 | E12: Ⅱb | N12: 応急措置後 | P12: Ⅱb
B13: 変状の発生範囲及び規模 | E13: 0.1m×4.5m 0.45㎡ | H13: 前回変状の発生範囲及び規模 | J13: 0.1m×4.2m | M13: 変状の発生範囲及び規模 | P13: 0.1m×0.4m 0.04㎡ | S13: 前回変状の発生範囲及び規模
B14: 対策履歴 | E14: - | H14: 実施状況（実施日） | J14: - | M14: 対策履歴 | P14: - | S14: 実施状況（実施日） | U14: -
B15: メモ | E15: 水平打ち継ぎ目のうき 前回写真番号S7-21 経過観察が望まれる | M15: メモ | P15: 横断目地の線導水工劣化 漏水なし、材質劣化として評価
B16: 写真 番号 | C16: 覆工スパン 番号 | E16: 8 | M16: 写真 番号 | N16: 覆工スパン 番号 | P16: 8
C17: 変状番号 | E17: 2 | N17: 変状番号 | P17: 3
B18: 変状 部位 | C18: 対象箇所 | E18: 覆工 | M18: 変状 部位 | N18: 対象箇所 | P18: 覆工
C19: 部位区分 | E19: 水平打ち継ぎ目（左側） | N19: 部位区分 | P19: アーチ（左側）
B20: 変状種類 | E20: 漏水 | M20: 変状種類 | P20: 漏水
B21: 対策 区分 | C21: 変状区分 | E21: 漏水 | M21: 対策 区分 | N21: 変状区分 | P21: 漏水
C22: 応急措置前 | E22: － | N22: 応急措置前 | P22: －
C23: 応急措置後 | E23: Ⅱb | N23: 応急措置後 | P23: Ⅱb
B24: 変状の発生範囲及び規模 | E24: 2.7m×0.6m 1.62㎡ | H24: 前回変状の発生範囲及び規模 | M24: 変状の発生範囲及び規模 | P24: 5.7m×0.5m 2.85㎡ | S24: 前回変状の発生範囲及び規模
B25: 対策履歴 | E25: - | H25: 実施状況（実施日） | J25: - | M25: 対策履歴 | P25: - | S25: 実施状況（実施日） | U25: -
B26: メモ | E26: 水平打ち継ぎ目のにじみ 経過観察が望まれる | M26: メモ | P26: アーチのにじみ 経過観察が望まれる
C27: ※ 応急措置後の対策区分について添付すること。また、点検前に 実施された措置によりⅠと判定された箇所も添付すること。 | N27: ※ 変状の発生範囲の規模とは、対策を行う際に参考となる変状の長さや面積をいう。
N28: ※ 応急措置を実施しないで決定した変状の対策区分は、対策区分の応急措置後の欄に記入すること。
C29: ※ たたき落としを実施した場合は、実施後の写真を添付すること。 | N29: ※ 変状の発生範囲の規模は、面積・寸法を記載すること。(ひび割れ幅のみmmとし、その他をm表記とする)
C30: ※ 附属物の取付状態に関する異常写真は別途、任意の書式でとりまとめること。 | N30: ※ 構造用鋼材以外の異物に伴ううき・はく離については、メモ欄に異物の概要を記入すること。

Sheet 様式D-1-1_022
B2: ■定期点検記録様式 変状写真台帳【様式D-1-1】 | R2: 施設ID | T2: 34.29478,131.94625
B3: フリガナ | E3: ヒエバラダイサンズイドウ | H3: 路 線 名 | J3: 国道187号 | M3: 定期点検実施者 | P3: 株式会社エイト日本技術開発 | S3: 定期点検年月日 | U3: 45587
B4: 名 称 | E4: 稗原第3隧道 | H4: 管理者名 | J4: 山口県岩国土木建築事務所 | P4: 岡根 三千夫
B5: 写真 番号 | C5: 覆工スパン 番号 | E5: 8 | M5: 写真 番号 | N5: 覆工スパン 番号 | P5: 8
C6: 変状番号 | E6: 4 | N6: 変状番号 | P6: 5
B7: 変状 部位 | C7: 対象箇所 | E7: 覆工 | M7: 変状 部位 | N7: 対象箇所 | P7: 覆工
C8: 部位区分 | E8: アーチ（左側） | N8: 部位区分 | P8: アーチ（左側）
B9: 変状種類 | E9: 圧ざ、ひび割れ | M9: 変状種類 | P9: 補修・補強材の破損
B10: 対策 区分 | C10: 変状区分 | E10: 材質劣化 | M10: 対策 区分 | N10: 変状区分 | P10: 材質劣化
C11: 応急措置前 | E11: － | N11: 応急措置前 | P11: －
C12: 応急措置後 | E12: Ⅱb | N12: 応急措置後 | P12: Ⅱb
B13: 変状の発生範囲及び規模 | E13: W=0.6mm×L=2.7m 0.00162㎡ | H13: 前回変状の発生範囲及び規模 | J13: W=0.35mm×L=2.7m | M13: 変状の発生範囲及び規模 | P13: 0.1m×0.15m 0.015㎡ | S13: 前回変状の発生範囲及び規模
B14: 対策履歴 | E14: - | H14: 実施状況（実施日） | J14: - | M14: 対策履歴 | P14: - | S14: 実施状況（実施日） | U14: -
B15: メモ | E15: アーチのひび割れ 前回写真番号S8-12 経過観察が望まれる | M15: メモ | P15: アーチの線導水工劣化 漏水なし、材質劣化として評価見直し
B16: 写真 番号 | C16: 覆工スパン 番号 | E16: 8 | M16: 写真 番号 | N16: 覆工スパン 番号 | P16: 8
C17: 変状番号 | E17: 6 | N17: 変状番号 | P17: 7
B18: 変状 部位 | C18: 対象箇所 | E18: 覆工 | M18: 変状 部位 | N18: 対象箇所 | P18: 覆工
C19: 部位区分 | E19: 横断目地（右側） | N19: 部位区分 | P19: アーチ（右側）
B20: 変状種類 | E20: うき・はく離 | M20: 変状種類 | P20: うき・はく離
B21: 対策 区分 | C21: 変状区分 | E21: 材質劣化 | M21: 対策 区分 | N21: 変状区分 | P21: 材質劣化
C22: 応急措置前 | E22: － | N22: 応急措置前 | P22: －
C23: 応急措置後 | E23: Ⅱa | N23: 応急措置後 | P23: Ⅱa
B24: 変状の発生範囲及び規模 | E24: 0.7m×0.1m 0.07㎡ | H24: 前回変状の発生範囲及び規模 | J24: 0.5m×0.1m | M24: 変状の発生範囲及び規模 | P24: 0.5m×0.1m 0.05㎡ | S24: 前回変状の発生範囲及び規模
B25: 対策履歴 | E25: - | H25: 実施状況（実施日） | J25: - | M25: 対策履歴 | P25: - | S25: 実施状況（実施日） | U25: -
B26: メモ | E26: 横断目地のうき 前回写真番号S8-8 計画的な対策が望まれる | M26: メモ | P26: アーチのうき 計画的な対策が望まれる
C27: ※ 応急措置後の対策区分について添付すること。また、点検前に 実施された措置によりⅠと判定された箇所も添付すること。 | N27: ※ 変状の発生範囲の規模とは、対策を行う際に参考となる変状の長さや面積をいう。
N28: ※ 応急措置を実施しないで決定した変状の対策区分は、対策区分の応急措置後の欄に記入すること。
C29: ※ たたき落としを実施した場合は、実施後の写真を添付すること。 | N29: ※ 変状の発生範囲の規模は、面積・寸法を記載すること。(ひび割れ幅のみmmとし、その他をm表記とする)
C30: ※ 附属物の取付状態に関する異常写真は別途、任意の書式でとりまとめること。 | N30: ※ 構造用鋼材以外の異物に伴ううき・はく離については、メモ欄に異物の概要を記入すること。

Sheet 様式D-1-1_023
B2: ■定期点検記録様式 変状写真台帳【様式D-1-1】 | R2: 施設ID | T2: 34.29478,131.94625
B3: フリガナ | E3: ヒエバラダイサンズイドウ | H3: 路 線 名 | J3: 国道187号 | M3: 定期点検実施者 | P3: 株式会社エイト日本技術開発 | S3: 定期点検年月日 | U3: 45587
B4: 名 称 | E4: 稗原第3隧道 | H4: 管理者名 | J4: 山口県岩国土木建築事務所 | P4: 岡根 三千夫
B5: 写真 番号 | C5: 覆工スパン 番号 | E5: 8 | M5: 写真 番号 | N5: 覆工スパン 番号 | P5: 8
C6: 変状番号 | E6: 8 | N6: 変状番号 | P6: 9
B7: 変状 部位 | C7: 対象箇所 | E7: 覆工 | M7: 変状 部位 | N7: 対象箇所 | P7: 覆工
C8: 部位区分 | E8: アーチ（右側） | N8: 部位区分 | P8: 水平打ち継ぎ目（右側）
B9: 変状種類 | E9: 鋼材腐食 | M9: 変状種類 | P9: うき・はく離
B10: 対策 区分 | C10: 変状区分 | E10: 材質劣化 | M10: 対策 区分 | N10: 変状区分 | P10: 材質劣化
C11: 応急措置前 | E11: － | N11: 応急措置前 | P11: －
C12: 応急措置後 | E12: Ⅱb | N12: 応急措置後 | P12: Ⅱb
B13: 変状の発生範囲及び規模 | E13: 0.05m×0.3m 0.015㎡ | H13: 前回変状の発生範囲及び規模 | J13: 0.1m×0.3m | M13: 変状の発生範囲及び規模 | P13: 0.1m×1.4m 0.14㎡ | S13: 前回変状の発生範囲及び規模 | U13: 0.1m×1.3m
B14: 対策履歴 | E14: - | H14: 実施状況（実施日） | J14: - | M14: 対策履歴 | P14: - | S14: 実施状況（実施日） | U14: -
B15: メモ | E15: アーチの鋼材腐食 前回写真番号S8-2 経過観察が望まれる | M15: メモ | P15: 水平打ち継ぎ目のうき 前回写真番号S8-19 経過観察が望まれる
B16: 写真 番号 | C16: 覆工スパン 番号 | E16: 9 | M16: 写真 番号 | N16: 覆工スパン 番号 | P16: 9
C17: 変状番号 | E17: 1 | N17: 変状番号 | P17: 2
B18: 変状 部位 | C18: 対象箇所 | E18: 覆工 | M18: 変状 部位 | N18: 対象箇所 | P18: 覆工
C19: 部位区分 | E19: アーチ（左側） | N19: 部位区分 | P19: アーチ（左側）
B20: 変状種類 | E20: 漏水 | M20: 変状種類 | P20: 圧ざ、ひび割れ
B21: 対策 区分 | C21: 変状区分 | E21: 漏水 | M21: 対策 区分 | N21: 変状区分 | P21: 材質劣化
C22: 応急措置前 | E22: － | N22: 応急措置前 | P22: －
C23: 応急措置後 | E23: Ⅱb | N23: 応急措置後 | P23: Ⅱb
B24: 変状の発生範囲及び規模 | E24: 5.4m×0.5m 2.7㎡ | H24: 前回変状の発生範囲及び規模 | M24: 変状の発生範囲及び規模 | P24: W=0.2mm×L=1.8m 0.00036㎡ | S24: 前回変状の発生範囲及び規模 | U24: W=0.2mm×L=1.5m
B25: 対策履歴 | E25: - | H25: 実施状況（実施日） | J25: - | M25: 対策履歴 | P25: - | S25: 実施状況（実施日） | U25: -
B26: メモ | E26: アーチのにじみ 経過観察が望まれる | M26: メモ | P26: アーチのひび割れ 前回写真番号S9-3 経過観察が望まれる
C27: ※ 応急措置後の対策区分について添付すること。また、点検前に 実施された措置によりⅠと判定された箇所も添付すること。 | N27: ※ 変状の発生範囲の規模とは、対策を行う際に参考となる変状の長さや面積をいう。
N28: ※ 応急措置を実施しないで決定した変状の対策区分は、対策区分の応急措置後の欄に記入すること。
C29: ※ たたき落としを実施した場合は、実施後の写真を添付すること。 | N29: ※ 変状の発生範囲の規模は、面積・寸法を記載すること。(ひび割れ幅のみmmとし、その他をm表記とする)
C30: ※ 附属物の取付状態に関する異常写真は別途、任意の書式でとりまとめること。 | N30: ※ 構造用鋼材以外の異物に伴ううき・はく離については、メモ欄に異物の概要を記入すること。

Sheet 様式D-1-1_024
B2: ■定期点検記録様式 変状写真台帳【様式D-1-1】 | R2: 施設ID | T2: 34.29478,131.94625
B3: フリガナ | E3: ヒエバラダイサンズイドウ | H3: 路 線 名 | J3: 国道187号 | M3: 定期点検実施者 | P3: 株式会社エイト日本技術開発 | S3: 定期点検年月日 | U3: 45587
B4: 名 称 | E4: 稗原第3隧道 | H4: 管理者名 | J4: 山口県岩国土木建築事務所 | P4: 岡根 三千夫
B5: 写真 番号 | C5: 覆工スパン 番号 | E5: 9 | M5: 写真 番号 | N5: 覆工スパン 番号 | P5: 9
C6: 変状番号 | E6: 3 | N6: 変状番号 | P6: 4
B7: 変状 部位 | C7: 対象箇所 | E7: 覆工 | M7: 変状 部位 | N7: 対象箇所 | P7: 覆工
C8: 部位区分 | E8: アーチ（右側） | N8: 部位区分 | P8: 側壁（右側）
B9: 変状種類 | E9: 漏水 | M9: 変状種類 | P9: 漏水
B10: 対策 区分 | C10: 変状区分 | E10: 漏水 | M10: 対策 区分 | N10: 変状区分 | P10: 漏水
C11: 応急措置前 | E11: － | N11: 応急措置前 | P11: －
C12: 応急措置後 | E12: Ⅱb | N12: 応急措置後 | P12: Ⅰ
B13: 変状の発生範囲及び規模 | E13: 3.3m×0.8m 2.64㎡ | H13: 前回変状の発生範囲及び規模 | M13: 変状の発生範囲及び規模 | P13: 0.5m×3.5m 1.75㎡ | S13: 前回変状の発生範囲及び規模 | U13: W=0.2mm×L=2.6m
B14: 対策履歴 | E14: - | H14: 実施状況（実施日） | J14: - | M14: 対策履歴 | P14: - | S14: 実施状況（実施日） | U14: -
B15: メモ | E15: アーチのにじみ 経過観察が望まれる | M15: メモ | P15: 側壁の遊離石灰 前回写真番号S9-14
B16: 写真 番号 | C16: 覆工スパン 番号 | E16: PE | M16: 写真 番号 | N16: 覆工スパン 番号 | P16: PE
C17: 変状番号 | E17: 1 | N17: 変状番号 | P17: 2
B18: 変状 部位 | C18: 対象箇所 | E18: 覆工 | M18: 変状 部位 | N18: 対象箇所 | P18: 覆工
C19: 部位区分 | E19: 側壁（左側） | N19: 部位区分 | P19: アーチ（左側）
B20: 変状種類 | E20: うき・はく離 | M20: 変状種類 | P20: 圧ざ、ひび割れ
B21: 対策 区分 | C21: 変状区分 | E21: 材質劣化 | M21: 対策 区分 | N21: 変状区分 | P21: 材質劣化
C22: 応急措置前 | E22: － | N22: 応急措置前 | P22: －
C23: 応急措置後 | E23: Ⅱb | N23: 応急措置後 | P23: Ⅱb
B24: 変状の発生範囲及び規模 | E24: 0.2m×0.6m 0.12㎡ | H24: 前回変状の発生範囲及び規模 | J24: 0.4m×0.7m | M24: 変状の発生範囲及び規模 | P24: W=1.0mm×L=0.8m 0.0008㎡ | S24: 前回変状の発生範囲及び規模 | U24: W=0.8mm×L=0.9m
B25: 対策履歴 | E25: - | H25: 実施状況（実施日） | J25: - | M25: 対策履歴 | P25: - | S25: 実施状況（実施日） | U25: -
B26: メモ | E26: 側壁のうき 経過観察が望まれる | M26: メモ | P26: アーチのひび割れ 前回写真番号PE-1 経過観察が望まれる
C27: ※ 応急措置後の対策区分について添付すること。また、点検前に 実施された措置によりⅠと判定された箇所も添付すること。 | N27: ※ 変状の発生範囲の規模とは、対策を行う際に参考となる変状の長さや面積をいう。
N28: ※ 応急措置を実施しないで決定した変状の対策区分は、対策区分の応急措置後の欄に記入すること。
C29: ※ たたき落としを実施した場合は、実施後の写真を添付すること。 | N29: ※ 変状の発生範囲の規模は、面積・寸法を記載すること。(ひび割れ幅のみmmとし、その他をm表記とする)
C30: ※ 附属物の取付状態に関する異常写真は別途、任意の書式でとりまとめること。 | N30: ※ 構造用鋼材以外の異物に伴ううき・はく離については、メモ欄に異物の概要を記入すること。

Sheet 様式D-1-1_025
B2: ■定期点検記録様式 変状写真台帳【様式D-1-1】 | R2: 施設ID | T2: 34.29478,131.94625
B3: フリガナ | E3: ヒエバラダイサンズイドウ | H3: 路 線 名 | J3: 国道187号 | M3: 定期点検実施者 | P3: 株式会社エイト日本技術開発 | S3: 定期点検年月日 | U3: 45587
B4: 名 称 | E4: 稗原第3隧道 | H4: 管理者名 | J4: 山口県岩国土木建築事務所 | P4: 岡根 三千夫
B5: 写真 番号 | C5: 覆工スパン 番号 | E5: PE | M5: 写真 番号 | N5: 覆工スパン 番号 | P5: PE
C6: 変状番号 | E6: 3 | N6: 変状番号 | P6: 4
B7: 変状 部位 | C7: 対象箇所 | E7: 路面 | M7: 変状 部位 | N7: 対象箇所 | P7: 路面
C8: 部位区分 | E8: 車道 | N8: 部位区分 | P8: 車道
B9: 変状種類 | E9: その他 | M9: 変状種類 | P9: その他
B10: 対策 区分 | C10: 変状区分 | M10: 対策 区分 | N10: 変状区分
C11: 応急措置前 | N11: 応急措置前
C12: 応急措置後 | N12: 応急措置後
B13: 変状の発生範囲及び規模 | E13: 3.3m×1.0m 3.3㎡ | H13: 前回変状の発生範囲及び規模 | M13: 変状の発生範囲及び規模 | P13: 3.5m×0.6m 2.1㎡ | S13: 前回変状の発生範囲及び規模 | U13: 3.5m×0.6m
B14: 対策履歴 | E14: - | H14: 実施状況（実施日） | J14: - | M14: 対策履歴 | P14: - | S14: 実施状況（実施日） | U14: -
B15: メモ | E15: 車道の塗装劣化 路面のため判定未実施 | M15: メモ | P15: 車道の塗装劣化 前回写真番号PE-5 路面のため判定未実施
B16: 写真 番号 | C16: 覆工スパン 番号 | E16: PE | M16: 写真 番号 | N16: 覆工スパン 番号
C17: 変状番号 | E17: 5 | N17: 変状番号
B18: 変状 部位 | C18: 対象箇所 | E18: 坑門 | M18: 変状 部位 | N18: 対象箇所
C19: 部位区分 | E19: 面壁・妻壁等 | N19: 部位区分
B20: 変状種類 | E20: うき・はく離 | M20: 変状種類
B21: 対策 区分 | C21: 変状区分 | E21: 材質劣化 | M21: 対策 区分 | N21: 変状区分
C22: 応急措置前 | E22: － | N22: 応急措置前
C23: 応急措置後 | E23: Ⅱa | N23: 応急措置後
B24: 変状の発生範囲及び規模 | E24: 0.9m×0.15m 0.135㎡ | H24: 前回変状の発生範囲及び規模 | J24: 1.0m×0.15m | M24: 変状の発生範囲及び規模 | S24: 前回変状の発生範囲及び規模
B25: 対策履歴 | E25: - | H25: 実施状況（実施日） | J25: - | M25: 対策履歴 | S25: 実施状況（実施日）
B26: メモ | E26: 面壁のうき 前回写真番号PE-7 計画的な対策が望まれる | M26: メモ
C27: ※ 応急措置後の対策区分について添付すること。また、点検前に 実施された措置によりⅠと判定された箇所も添付すること。 | N27: ※ 変状の発生範囲の規模とは、対策を行う際に参考となる変状の長さや面積をいう。
N28: ※ 応急措置を実施しないで決定した変状の対策区分は、対策区分の応急措置後の欄に記入すること。
C29: ※ たたき落としを実施した場合は、実施後の写真を添付すること。 | N29: ※ 変状の発生範囲の規模は、面積・寸法を記載すること。(ひび割れ幅のみmmとし、その他をm表記とする)
C30: ※ 附属物の取付状態に関する異常写真は別途、任意の書式でとりまとめること。 | N30: ※ 構造用鋼材以外の異物に伴ううき・はく離については、メモ欄に異物の概要を記入すること。

Sheet 様式D-1-2
B2: ■定期点検記録様式 異常写真台帳（トンネル内附属物等の取付状態） 【様式D-1-2】
B3: フリガナ | E3: ヒエバラダイサンズイドウ | I3: 路 線 名 | L3: 国道187号 | O3: 定期点検実施者 | R3: 株式会社エイト日本技術開発 | U3: 定期点検年月日 | W3: 45587
B4: 名 称 | E4: 稗原第3隧道 | I4: 管理者名 | L4: 山口県岩国土木建築事務所 | R4: 岡根 三千夫
B5: 覆工スパン番号 | F5: 異常番号 | J5: 覆工スパン番号 | N5: 異常番号 | R5: 覆工スパン番号 | V5: 異常番号
B6: 対象箇所 | J6: 対象箇所 | R6: 対象箇所
B7: 部位区分 | F7: 異常の種類 | J7: 部位区分 | N7: 異常の種類 | R7: 部位区分 | V7: 異常の種類
B8: 異常判定区分 | E8: メモ | J8: 異常判定区分 | M8: メモ | R8: 異常判定区分 | U8: メモ
B22: 覆工スパン番号 | F22: 異常番号 | J22: 覆工スパン番号 | N22: 異常番号 | R22: 覆工スパン番号 | V22: 異常番号
B23: 対象箇所 | J23: 対象箇所 | R23: 対象箇所
B24: 部位区分 | F24: 異常の種類 | J24: 部位区分 | N24: 異常の種類 | R24: 部位区分 | V24: 異常の種類
B25: 異常判定区分 | E25: メモ | J25: 異常判定区分 | M25: メモ | R25: 異常判定区分 | U25: メモ
C39: ※ 異常判定区分×について記入すること。また、応急措置前に異常判定区分×とした箇所のうち応急措置により○と判定した箇所も記入すること。
C40: ※ 応急措置を実施した場合は、その実施状況が分かる写真を添付すること。
C41: ※ 変状数に準じてシートを追加すること。

Sheet 様式D-2-1_001
B3: ■定期点検記録様式 トンネル全体変状展開図 【様式D-2-1】
B4: フリガナ | E4: ヒエバラダイサンズイドウ | J4: 路線名 | M4: 国道187号 | S4: 定期点検実施者 | W4: 株式会社エイト日本技術開発 | AC4: 定期点検年月日 | AF4: 45587
B5: 名 称 | E5: 稗原第3隧道 | J5: 管理者名 | M5: 山口県岩国土木建築事務所 | W5: 岡根 三千夫
B6: トンネル変状展開図 | C6: トンネル全体変状展開図
V18: 注１：本展開図は、見下げた状態で記載すること。 注２：覆工スパン番号は横断目地毎（矢板工法の場合は上半アーチ の横断目地毎)に設定すること。 注３：横断目地の変状は前の覆工スパン番号で計上すること。 注４：１枚に収まらない場合は、複数枚に分けて作成すること。

Sheet 様式D-2-1_002
B3: ■定期点検記録様式 トンネル全体変状展開図 【様式D-2-1】
B4: フリガナ | E4: ヒエバラダイサンズイドウ | J4: 路線名 | M4: 国道187号 | S4: 定期点検実施者 | W4: 株式会社エイト日本技術開発 | AC4: 定期点検年月日 | AF4: 45587
B5: 名 称 | E5: 稗原第3隧道 | J5: 管理者名 | M5: 山口県岩国土木建築事務所 | W5: 岡根 三千夫
B6: トンネル変状展開図 | C6: トンネル全体変状展開図
V18: 注１：本展開図は、見下げた状態で記載すること。 注２：覆工スパン番号は横断目地毎（矢板工法の場合は上半アーチ の横断目地毎)に設定すること。 注３：横断目地の変状は前の覆工スパン番号で計上すること。 注４：１枚に収まらない場合は、複数枚に分けて作成すること。

Sheet 様式D-2-1´
B3: ■定期点検記録様式 トンネル全体変状展開図（機器の活用時） 【様式D-2-1’】
B4: フリガナ | E4: ヒエバラダイサンズイドウ | J4: 路線名 | M4: 国道187号 | S4: 定期点検実施者 | W4: 株式会社エイト日本技術開発 | AC4: 定期点検年月日 | AF4: 45587
B5: 名 称 | E5: 稗原第3隧道 | J5: 管理者名 | M5: 山口県岩国土木建築事務所 | W5: 岡根 三千夫
B6: トンネル変状展開図 | C6: トンネル全体変状展開図
V18: 注１：本展開図は、見下げた状態で記載すること。 注２：覆工スパン番号は横断目地毎（矢板工法の場合は上半アーチ の横断目地毎)に設定すること。 注３：横断目地の変状は前の覆工スパン番号で計上すること。 注４：１枚に収まらない場合は、複数枚に分けて作成すること。

Sheet 様式D-3_PS
AU1: 様式F用→ | AV1: 覆工スパン | AY1: 変 状 数 | BK1: 変 状 規 模
AV2: 番号 | AW2: 延長 （ｍ） | AX2: 健全性の診断の 区分 | AY2: 対策区分の判定 | BK2: 覆工スパン長（ｍ） | BO2: 変状の発生範囲の規模（㎡）
B3: ■定期点検記録様式 覆工スパン別変状詳細展開図 【様式D-3】 | AY3: 外力 | BC3: 材質劣化 | BG3: 漏水 | BK3: 外力 注2 | BO3: 材質劣化 | BS3: 漏水
B4: フリガナ | E4: ヒエバラダイサンズイドウ | K4: 路線名 | N4: 国道187号 | T4: 定期点検実施者 | Y4: 株式会社エイト日本技術開発 | AG4: 定期点検年月日 | AK4: 45587 | AY4: Ⅳ | AZ4: Ⅲ | BA4: Ⅱa | BB4: Ⅱb | BC4: Ⅳ | BD4: Ⅲ | BE4: Ⅱa | BF4: Ⅱb | BG4: Ⅳ | BH4: Ⅲ | BI4: Ⅱa | BJ4: Ⅱb | BK4: Ⅳ | BL4: Ⅲ | BM4: Ⅱa | BN4: Ⅱb | BO4: Ⅳ | BP4: Ⅲ | BQ4: Ⅱa | BR4: Ⅱb | BS4: Ⅳ | BT4: Ⅲ | BU4: Ⅱa | BV4: Ⅱb
B5: 名 称 | E5: 稗原第3隧道 | K5: 管理者名 | N5: 山口県岩国土木建築事務所 | Y5: 岡根 三千夫 | AV5: =N7 -> PS | AW5: =R7 -> 2.2 | AX5: =AM35 -> Ⅱ | AY5: =Y37 | AZ5: =Z37 | BA5: =AA37 | BB5: =AB37 | BC5: =AC37 -> 0 | BD5: =AD37 -> 0 | BE5: =AE37 -> 2 | BF5: =AF37 -> 3 | ... BJ5: =AJ37 -> 0 | BK5: =IF(Y37>0,R7,"") -> 2.2 | BL5: =IF(Y37>0,"",IF(Z37>0,R7,"")) | BM5: =IF(Y37+Z37>0,"",IF(AA37>0,R7,"")) -> #VALUE! | BN5: =IF(Y37+Z37+AA37>0,"",IF(AB37>0,R7,"")) -> #VALUE! | BO5: =AC35 -> 0 | BP5: =AD35 -> 0 | BQ5: =AE35 -> 0.3 | BR5: =AF35 -> 1.1387 | BS5: =AG35 -> 0 | BT5: =AH35 -> 0 | BU5: =AI35 -> 0 | BV5: =AJ35 -> 0
B6: スパン別変状展開図 | K6: 【健全性判定集計表】
K7: スパン番号 | N7: PS | P7: スパン長 | R7: 2.2 | U7: 前回定期点検時の判定 | W7: 応急措置前の判定 | Y7: 対策区分毎の 変状の有無 | AC7: 対策区分毎の変状の発生範囲の規模(㎡) | AK7: 備考注2
K8: 変状番号 | L8: 対象箇所 | N8: 部位区分 | P8: 変状区分 | R8: 変状種類
Y9: 外力注1 | AC9: 材質劣化注1 | AG9: 漏水注1
Y10: Ⅳ | Z10: Ⅲ | AA10: Ⅱa | AB10: Ⅱb | AC10: Ⅳ | AD10: Ⅲ | AE10: Ⅱa | AF10: Ⅱb | AG10: Ⅳ | AH10: Ⅲ | AI10: Ⅱa | AJ10: Ⅱb
K11: 1 | L11: 坑門 | N11: 面壁・妻壁等 | P11: 材質劣化 | R11: うき・はく離 | U11: Ⅱb | W11: － | AQ11: =IF(P11="材質劣化",2,IF(P11="漏水",3,1)) -> 2 | AS11: =IF(Y11<>"",1,"")
K12: 2 | L12: 坑門 | N12: 面壁・妻壁等 | P12: 材質劣化 | R12: 圧ざ、ひび割れ | U12: Ⅱb | W12: － | AF12: 0.0027 | AQ12: =IF(P12="材質劣化",2,IF(P12="漏水",3,1)) -> 2
K13: 3 | L13: 坑門 | N13: 面壁・妻壁等 | P13: 材質劣化 | R13: 圧ざ、ひび割れ | U13: Ⅱb | W13: － | AF13: 0.016 | AQ13: =IF(P13="材質劣化",2,IF(P13="漏水",3,1)) -> 2
K14: 4 | L14: 坑門 | N14: 面壁・妻壁等 | P14: 材質劣化 | R14: うき・はく離 | U14: Ⅱb | W14: － | AF14: 1.12 | AQ14: =IF(P14="材質劣化",2,IF(P14="漏水",3,1)) -> 2
K15: 5 | L15: 覆工 | N15: アーチ（左側） | P15: 材質劣化 | R15: うき・はく離 | U15: Ⅱa | W15: － | AE15: 0.1 | AQ15: =IF(P15="材質劣化",2,IF(P15="漏水",3,1)) -> 2
K16: 6 | L16: 覆工 | N16: アーチ（左側） | P16: 材質劣化 | R16: うき・はく離 | U16: Ⅱa | W16: － | AE16: 0.2 | AQ16: =IF(P16="材質劣化",2,IF(P16="漏水",3,1)) -> 2
K17: 7 | L17: 路面 | N17: 車道 | R17: その他 | U17: Ⅱb | W17: － | AQ17: =IF(P17="材質劣化",2,IF(P17="漏水",3,1)) -> 1
AQ18: =IF(P18="材質劣化",2,IF(P18="漏水",3,1)) -> 1
AQ19: =IF(P19="材質劣化",2,IF(P19="漏水",3,1)) -> 1
AQ20: =IF(P20="材質劣化",2,IF(P20="漏水",3,1)) -> 1
AQ21: =IF(P21="材質劣化",2,IF(P21="漏水",3,1)) -> 1
AQ22: =IF(P22="材質劣化",2,IF(P22="漏水",3,1)) -> 1
AQ23: =IF(P23="材質劣化",2,IF(P23="漏水",3,1)) -> 1
AQ24: =IF(P24="材質劣化",2,IF(P24="漏水",3,1)) -> 1
AQ25: =IF(P25="材質劣化",2,IF(P25="漏水",3,1)) -> 1
AQ26: =IF(P26="材質劣化",2,IF(P26="漏水",3,1)) -> 1
AQ27: =IF(P27="材質劣化",2,IF(P27="漏水",3,1)) -> 1
AQ28: =IF(P30="材質劣化",2,IF(P30="漏水",3,1)) -> 1
AQ29: =IF(P34="材質劣化",2,IF(P34="漏水",3,1)) -> 1
AQ30: =IF(P30="材質劣化",2,IF(P30="漏水",3,1)) -> 1
AQ31: =IF(P33="材質劣化",2,IF(P33="漏水",3,1)) -> 1
AQ32: =IF(P37="材質劣化",2,IF(P37="漏水",3,1)) -> 1
AQ33: =IF(P33="材質劣化",2,IF(P33="漏水",3,1)) -> 1
AQ34: =IF(P36="材質劣化",2,IF(P36="漏水",3,1)) -> 1
K35: 集計 判定 診断 | L35: 変状の発生規模合計(㎡) | Y35: － | AC35: =SUM(AC11:AC34) -> 0 | AD35: =SUM(AD11:AD34) -> 0 | AE35: =SUM(AE11:AE34) -> 0.3 | AF35: =SUM(AF11:AF34) -> 1.1387 | AG35: =SUM(AG11:AG34) -> 0 | AH35: =SUM(AH11:AH34) -> 0 | AI35: =SUM(AI11:AI34) -> 0 | AJ35: =SUM(AJ11:AJ34) -> 0 | AK35: 覆工スパン単位の 健全性の 診断の区分 | AM35: Ⅱ
L36: 対策区分の 判定結果 | O36: 対策区分毎の変状数注3 | Y36: Ⅳ | Z36: Ⅲ | AA36: Ⅱa | AB36: Ⅱb | AC36: Ⅳ | AD36: Ⅲ | AE36: Ⅱa | AF36: Ⅱb | AG36: Ⅳ | AH36: Ⅲ | AI36: Ⅱa | AJ36: Ⅱb
Y37: =IF(COUNTIF(Y11:Y34,"〇")>0,"1"," ") | Z37: =IF(COUNTIF(Z11:Z34,"〇")>0,"1"," ") | AA37: =IF(COUNTIF(AA11:AA34,"〇")>0,"1"," ") | AB37: =IF(COUNTIF(AB11:AB34,"〇")>0,"1"," ") | AC37: =COUNTA(AC11:AC34) -> 0 | AD37: =COUNTA(AD11:AD34) -> 0 | AE37: =COUNTA(AE11:AE34) -> 2 | AF37: =COUNTA(AF11:AF34) -> 3 | AG37: =COUNTA(AG11:AG34) -> 0 | AH37: =COUNTA(AH11:AH34) -> 0 | AI37: =COUNTA(AI11:AI34) -> 0 | AJ37: =COUNTA(AJ11:AJ34) -> 0
K39: 所見
K43: 注1：誤記入防止のため、当該変状区分以外のセルは灰色表示とすること。
K44: 注2：応急措置を実施した場合は、その詳細を備考に記載すること。
K45: 注3：外力は覆工スパン単位、材質劣化、漏水は変状単位とすること。
B46: （以下、印刷不要）
B47: ※1：本シートは作成洩れのないよう、変状が無くても全スパン分を作成すること．また変状展開図は、様式D-2-1、様式D-2-1'と同じものを覆工スパン単位で拡大し掲載すること。
B48: ※2：変状番号は、様式D-1-1で記入した番号と整合させること。
B49: ※3：対策区分毎の変状発生規模は、様式D-1-1に記載した面積を記入すること（ただし外力はスパン単位で評価するため変状の有無の欄には面積でなく○を記入し、備考欄に状況を記入）。
B50: ※4：本様式は覆工スパン毎に作成すること。
B51: ※5：変状数が多い場合は、適時、表の行を増やして覆工スパン毎に1枚のシートに収めること。また、1スパン１シートとし、スパンに合わせてシートを追加すること。
B52: ※6：対策区分毎の変状の発生範囲の規模とは，対策を行う際に参考となる変状の長さや面積であり，変状を包含する長さや面積とする。
B53: ※7：対策範囲を示す発生範囲の規模を面積で記入することが妥当ではない変状は、発生範囲の規模の欄に○を記入するとともに、備考に内容を記入すること。

Sheet 様式D-3_S001
AU1: 様式F用→ | AV1: 覆工スパン | AY1: 変 状 数 | BK1: 変 状 規 模
AV2: 番号 | AW2: 延長 （ｍ） | AX2: 健全性の診断の 区分 | AY2: 対策区分の判定 | BK2: 覆工スパン長（ｍ） | BO2: 変状の発生範囲の規模（㎡）
B3: ■定期点検記録様式 覆工スパン別変状詳細展開図 【様式D-3】 | AY3: 外力 | BC3: 材質劣化 | BG3: 漏水 | BK3: 外力 注2 | BO3: 材質劣化 | BS3: 漏水
B4: フリガナ | E4: ヒエバラダイサンズイドウ | K4: 路線名 | N4: 国道187号 | T4: 定期点検実施者 | Y4: 株式会社エイト日本技術開発 | AG4: 定期点検年月日 | AK4: 45587 | AY4: Ⅳ | AZ4: Ⅲ | BA4: Ⅱa | BB4: Ⅱb | BC4: Ⅳ | BD4: Ⅲ | BE4: Ⅱa | BF4: Ⅱb | BG4: Ⅳ | BH4: Ⅲ | BI4: Ⅱa | BJ4: Ⅱb | BK4: Ⅳ | BL4: Ⅲ | BM4: Ⅱa | BN4: Ⅱb | BO4: Ⅳ | BP4: Ⅲ | BQ4: Ⅱa | BR4: Ⅱb | BS4: Ⅳ | BT4: Ⅲ | BU4: Ⅱa | BV4: Ⅱb
B5: 名 称 | E5: 稗原第3隧道 | K5: 管理者名 | N5: 山口県岩国土木建築事務所 | Y5: 岡根 三千夫 | AV5: =N7 -> 1 | AW5: =R7 -> 6 | AX5: =AM35 -> Ⅱ | AY5: =Y37 | AZ5: =Z37 | BA5: =AA37 | BB5: =AB37 | BC5: =AC37 -> 0 | BD5: =AD37 -> 0 | BE5: =AE37 -> 0 | BF5: =AF37 -> 7 | ... BJ5: =AJ37 -> 2 | BK5: =IF(Y37>0,R7,"") -> 6 | BL5: =IF(Y37>0,"",IF(Z37>0,R7,"")) | BM5: =IF(Y37+Z37>0,"",IF(AA37>0,R7,"")) -> #VALUE! | BN5: =IF(Y37+Z37+AA37>0,"",IF(AB37>0,R7,"")) -> #VALUE! | BO5: =AC35 -> 0 | BP5: =AD35 -> 0 | BQ5: =AE35 -> 0 | BR5: =AF35 -> 0.95392 | BS5: =AG35 -> 0 | BT5: =AH35 -> 0 | BU5: =AI35 -> 0 | BV5: =AJ35 -> 18.75
B6: スパン別変状展開図 | K6: 【健全性判定集計表】
K7: スパン番号 | N7: 1 | P7: スパン長 | R7: 6 | U7: 前回定期点検時の判定 | W7: 応急措置前の判定 | Y7: 対策区分毎の 変状の有無 | AC7: 対策区分毎の変状の発生範囲の規模(㎡) | AK7: 備考注2
K8: 変状番号 | L8: 対象箇所 | N8: 部位区分 | P8: 変状区分 | R8: 変状種類
Y9: 外力注1 | AC9: 材質劣化注1 | AG9: 漏水注1
Y10: Ⅳ | Z10: Ⅲ | AA10: Ⅱa | AB10: Ⅱb | AC10: Ⅳ | AD10: Ⅲ | AE10: Ⅱa | AF10: Ⅱb | AG10: Ⅳ | AH10: Ⅲ | AI10: Ⅱa | AJ10: Ⅱb
K11: 1 | L11: 覆工 | N11: 水平打ち継ぎ目（左側） | P11: 材質劣化 | R11: うき・はく離 | U11: Ⅱb | W11: － | AF11: 0.6 | AK11: 寸法変更 | AQ11: =IF(P11="材質劣化",2,IF(P11="漏水",3,1)) -> 2 | AS11: =IF(Y11<>"",1,"")
K12: 2 | L12: 覆工 | N12: 水平打ち継ぎ目（左側） | P12: 漏水 | R12: 漏水 | U12: － | W12: － | AJ12: 2.25 | AQ12: =IF(P12="材質劣化",2,IF(P12="漏水",3,1)) -> 3
K13: 3 | L13: 覆工 | N13: 横断目地（左側） | P13: 漏水 | R13: 漏水 | U13: － | W13: － | AJ13: 16.5 | AQ13: =IF(P13="材質劣化",2,IF(P13="漏水",3,1)) -> 3
K14: 4 | L14: 覆工 | N14: 横断目地（左側） | P14: 材質劣化 | R14: 補修・補強材の破損 | U14: － | W14: － | AF14: 0.01 | AQ14: =IF(P14="材質劣化",2,IF(P14="漏水",3,1)) -> 2
K15: 5 | L15: 覆工 | N15: アーチ（左側） | P15: 材質劣化 | R15: 圧ざ、ひび割れ | U15: Ⅱb | W15: － | AF15: 0.00392 | AQ15: =IF(P15="材質劣化",2,IF(P15="漏水",3,1)) -> 2
K16: 6 | L16: 覆工 | N16: アーチ（左側） | P16: 材質劣化 | R16: 補修・補強材の破損 | U16: Ⅱb | W16: － | AF16: 0.12 | AK16: 寸法変更、判定見直し | AQ16: =IF(P16="材質劣化",2,IF(P16="漏水",3,1)) -> 2
K17: 7 | L17: 覆工 | N17: アーチ（天端） | P17: 材質劣化 | R17: 鋼材腐食 | U17: Ⅱb | W17: － | AF17: 0.005 | AK17: 寸法変更 | AQ17: =IF(P17="材質劣化",2,IF(P17="漏水",3,1)) -> 2
K18: 8 | L18: 覆工 | N18: アーチ（右側） | P18: 材質劣化 | R18: 鋼材腐食 | U18: Ⅱb | W18: － | AF18: 0.005 | AK18: 寸法変更 | AQ18: =IF(P18="材質劣化",2,IF(P18="漏水",3,1)) -> 2
K19: 9 | L19: 覆工 | N19: アーチ（右側） | P19: 材質劣化 | R19: その他 | U19: Ⅱb | W19: － | AF19: 0.21 | AQ19: =IF(P19="材質劣化",2,IF(P19="漏水",3,1)) -> 2
AQ20: =IF(P20="材質劣化",2,IF(P20="漏水",3,1)) -> 1
AQ21: =IF(P21="材質劣化",2,IF(P21="漏水",3,1)) -> 1
AQ22: =IF(P22="材質劣化",2,IF(P22="漏水",3,1)) -> 1
AQ23: =IF(P23="材質劣化",2,IF(P23="漏水",3,1)) -> 1
AQ24: =IF(P24="材質劣化",2,IF(P24="漏水",3,1)) -> 1
AQ25: =IF(P25="材質劣化",2,IF(P25="漏水",3,1)) -> 1
AQ26: =IF(P26="材質劣化",2,IF(P26="漏水",3,1)) -> 1
AQ27: =IF(P27="材質劣化",2,IF(P27="漏水",3,1)) -> 1
AQ28: =IF(P30="材質劣化",2,IF(P30="漏水",3,1)) -> 1
AQ29: =IF(P34="材質劣化",2,IF(P34="漏水",3,1)) -> 1
AQ30: =IF(P30="材質劣化",2,IF(P30="漏水",3,1)) -> 1
AQ31: =IF(P33="材質劣化",2,IF(P33="漏水",3,1)) -> 1
AQ32: =IF(P37="材質劣化",2,IF(P37="漏水",3,1)) -> 1
AQ33: =IF(P33="材質劣化",2,IF(P33="漏水",3,1)) -> 1
AQ34: =IF(P36="材質劣化",2,IF(P36="漏水",3,1)) -> 1
K35: 集計 判定 診断 | L35: 変状の発生規模合計(㎡) | Y35: － | AC35: =SUM(AC11:AC34) -> 0 | AD35: =SUM(AD11:AD34) -> 0 | AE35: =SUM(AE11:AE34) -> 0 | AF35: =SUM(AF11:AF34) -> 0.95392 | AG35: =SUM(AG11:AG34) -> 0 | AH35: =SUM(AH11:AH34) -> 0 | AI35: =SUM(AI11:AI34) -> 0 | AJ35: =SUM(AJ11:AJ34) -> 18.75 | AK35: 覆工スパン単位の 健全性の 診断の区分 | AM35: Ⅱ
L36: 対策区分の 判定結果 | O36: 対策区分毎の変状数注3 | Y36: Ⅳ | Z36: Ⅲ | AA36: Ⅱa | AB36: Ⅱb | AC36: Ⅳ | AD36: Ⅲ | AE36: Ⅱa | AF36: Ⅱb | AG36: Ⅳ | AH36: Ⅲ | AI36: Ⅱa | AJ36: Ⅱb
Y37: =IF(COUNTIF(Y11:Y34,"〇")>0,"1"," ") | Z37: =IF(COUNTIF(Z11:Z34,"〇")>0,"1"," ") | AA37: =IF(COUNTIF(AA11:AA34,"〇")>0,"1"," ") | AB37: =IF(COUNTIF(AB11:AB34,"〇")>0,"1"," ") | AC37: =COUNTA(AC11:AC34) -> 0 | AD37: =COUNTA(AD11:AD34) -> 0 | AE37: =COUNTA(AE11:AE34) -> 0 | AF37: =COUNTA(AF11:AF34) -> 7 | AG37: =COUNTA(AG11:AG34) -> 0 | AH37: =COUNTA(AH11:AH34) -> 0 | AI37: =COUNTA(AI11:AI34) -> 0 | AJ37: =COUNTA(AJ11:AJ34) -> 2
K39: 所見
K43: 注1：誤記入防止のため、当該変状区分以外のセルは灰色表示とすること。
K44: 注2：応急措置を実施した場合は、その詳細を備考に記載すること。
K45: 注3：外力は覆工スパン単位、材質劣化、漏水は変状単位とすること。
B46: （以下、印刷不要）
B47: ※1：本シートは作成洩れのないよう、変状が無くても全スパン分を作成すること．また変状展開図は、様式D-2-1、様式D-2-1'と同じものを覆工スパン単位で拡大し掲載すること。
B48: ※2：変状番号は、様式D-1-1で記入した番号と整合させること。
B49: ※3：対策区分毎の変状発生規模は、様式D-1-1に記載した面積を記入すること（ただし外力はスパン単位で評価するため変状の有無の欄には面積でなく○を記入し、備考欄に状況を記入）。
B50: ※4：本様式は覆工スパン毎に作成すること。
B51: ※5：変状数が多い場合は、適時、表の行を増やして覆工スパン毎に1枚のシートに収めること。また、1スパン１シートとし、スパンに合わせてシートを追加すること。
B52: ※6：対策区分毎の変状の発生範囲の規模とは，対策を行う際に参考となる変状の長さや面積であり，変状を包含する長さや面積とする。
B53: ※7：対策範囲を示す発生範囲の規模を面積で記入することが妥当ではない変状は、発生範囲の規模の欄に○を記入するとともに、備考に内容を記入すること。

Sheet 様式D-3_S002
AU1: 様式F用→ | AV1: 覆工スパン | AY1: 変 状 数 | BK1: 変 状 規 模
AV2: 番号 | AW2: 延長 （ｍ） | AX2: 健全性の診断の 区分 | AY2: 対策区分の判定 | BK2: 覆工スパン長（ｍ） | BO2: 変状の発生範囲の規模（㎡）
B3: ■定期点検記録様式 覆工スパン別変状詳細展開図 【様式D-3】 | AY3: 外力 | BC3: 材質劣化 | BG3: 漏水 | BK3: 外力 注2 | BO3: 材質劣化 | BS3: 漏水
B4: フリガナ | E4: ヒエバラダイサンズイドウ | K4: 路線名 | N4: 国道187号 | T4: 定期点検実施者 | Y4: 株式会社エイト日本技術開発 | AG4: 定期点検年月日 | AK4: 45587 | AY4: Ⅳ | AZ4: Ⅲ | BA4: Ⅱa | BB4: Ⅱb | BC4: Ⅳ | BD4: Ⅲ | BE4: Ⅱa | BF4: Ⅱb | BG4: Ⅳ | BH4: Ⅲ | BI4: Ⅱa | BJ4: Ⅱb | BK4: Ⅳ | BL4: Ⅲ | BM4: Ⅱa | BN4: Ⅱb | BO4: Ⅳ | BP4: Ⅲ | BQ4: Ⅱa | BR4: Ⅱb | BS4: Ⅳ | BT4: Ⅲ | BU4: Ⅱa | BV4: Ⅱb
B5: 名 称 | E5: 稗原第3隧道 | K5: 管理者名 | N5: 山口県岩国土木建築事務所 | Y5: 岡根 三千夫 | AV5: =N7 -> 2 | AW5: =R7 -> 10.4 | AX5: =AM35 -> Ⅱ | AY5: =Y37 | AZ5: =Z37 | BA5: =AA37 | BB5: =AB37 | BC5: =AC37 -> 0 | BD5: =AD37 -> 0 | BE5: =AE37 -> 0 | BF5: =AF37 -> 5 | ... BJ5: =AJ37 -> 4 | BK5: =IF(Y37>0,R7,"") -> 10.4 | BL5: =IF(Y37>0,"",IF(Z37>0,R7,"")) | BM5: =IF(Y37+Z37>0,"",IF(AA37>0,R7,"")) -> #VALUE! | BN5: =IF(Y37+Z37+AA37>0,"",IF(AB37>0,R7,"")) -> #VALUE! | BO5: =AC35 -> 0 | BP5: =AD35 -> 0 | BQ5: =AE35 -> 0 | BR5: =AF35 -> 0.745 | BS5: =AG35 -> 0 | BT5: =AH35 -> 0 | BU5: =AI35 -> 0 | BV5: =AJ35 -> 34.66
B6: スパン別変状展開図 | K6: 【健全性判定集計表】
K7: スパン番号 | N7: 2 | P7: スパン長 | R7: 10.4 | U7: 前回定期点検時の判定 | W7: 応急措置前の判定 | Y7: 対策区分毎の 変状の有無 | AC7: 対策区分毎の変状の発生範囲の規模(㎡) | AK7: 備考注2
K8: 変状番号 | L8: 対象箇所 | N8: 部位区分 | P8: 変状区分 | R8: 変状種類
Y9: 外力注1 | AC9: 材質劣化注1 | AG9: 漏水注1
Y10: Ⅳ | Z10: Ⅲ | AA10: Ⅱa | AB10: Ⅱb | AC10: Ⅳ | AD10: Ⅲ | AE10: Ⅱa | AF10: Ⅱb | AG10: Ⅳ | AH10: Ⅲ | AI10: Ⅱa | AJ10: Ⅱb
K11: 1 | L11: 覆工 | N11: アーチ（左側） | P11: 漏水 | R11: 漏水 | U11: Ⅱb | W11: － | AJ11: 12.48 | AQ11: =IF(P11="材質劣化",2,IF(P11="漏水",3,1)) -> 3 | AS11: =IF(Y11<>"",1,"")
K12: 2 | L12: 覆工 | N12: アーチ（左側） | P12: 漏水 | R12: 漏水 | U12: － | W12: － | AJ12: 11.2 | AQ12: =IF(P12="材質劣化",2,IF(P12="漏水",3,1)) -> 3
K13: 3 | L13: 覆工 | N13: アーチ（左側） | P13: 漏水 | R13: 漏水 | U13: － | W13: － | AJ13: 5.88 | AQ13: =IF(P13="材質劣化",2,IF(P13="漏水",3,1)) -> 3
K14: 4 | L14: 覆工 | N14: 横断目地（左側） | P14: 材質劣化 | R14: 補修・補強材の破損 | U14: － | W14: － | AF14: 0.2 | AQ14: =IF(P14="材質劣化",2,IF(P14="漏水",3,1)) -> 2
K15: 5 | L15: 覆工 | N15: アーチ（左側） | P15: 材質劣化 | R15: うき・はく離 | U15: Ⅱb | W15: － | AQ15: =IF(P15="材質劣化",2,IF(P15="漏水",3,1)) -> 2
K16: 6 | L16: 覆工 | N16: アーチ（左側） | P16: 材質劣化 | R16: 補修・補強材の破損 | U16: Ⅰ | W16: － | AF16: 0.06 | AQ16: =IF(P16="材質劣化",2,IF(P16="漏水",3,1)) -> 2
K17: 7 | L17: 覆工 | N17: アーチ（左側） | P17: 材質劣化 | R17: 補修・補強材の破損 | U17: Ⅱa | W17: － | AF17: 0.09 | AQ17: =IF(P17="材質劣化",2,IF(P17="漏水",3,1)) -> 2
K18: 8 | L18: 覆工 | N18: 横断目地（右側） | P18: 材質劣化 | R18: 補修・補強材の破損 | U18: Ⅱb | W18: － | AF18: 0.05 | AQ18: =IF(P18="材質劣化",2,IF(P18="漏水",3,1)) -> 2
K19: 9 | L19: 覆工 | N19: アーチ（右側） | P19: 漏水 | R19: 漏水 | U19: － | W19: － | AJ19: 5.1 | AQ19: =IF(P19="材質劣化",2,IF(P19="漏水",3,1)) -> 3
K20: 10 | L20: 覆工 | N20: 水平打ち継ぎ目（右側） | P20: 材質劣化 | R20: うき・はく離 | U20: － | W20: － | AF20: 0.345 | AQ20: =IF(P20="材質劣化",2,IF(P20="漏水",3,1)) -> 2
K21: 11 | L21: 覆工 | N21: 側壁（右側） | P21: 漏水 | R21: 漏水 | U21: Ⅱb | W21: － | AQ21: =IF(P21="材質劣化",2,IF(P21="漏水",3,1)) -> 3
AQ22: =IF(P22="材質劣化",2,IF(P22="漏水",3,1)) -> 1
AQ23: =IF(P23="材質劣化",2,IF(P23="漏水",3,1)) -> 1
AQ24: =IF(P24="材質劣化",2,IF(P24="漏水",3,1)) -> 1
AQ25: =IF(P25="材質劣化",2,IF(P25="漏水",3,1)) -> 1
AQ26: =IF(P26="材質劣化",2,IF(P26="漏水",3,1)) -> 1
AQ27: =IF(P27="材質劣化",2,IF(P27="漏水",3,1)) -> 1
AQ28: =IF(P30="材質劣化",2,IF(P30="漏水",3,1)) -> 1
AQ29: =IF(P34="材質劣化",2,IF(P34="漏水",3,1)) -> 1
AQ30: =IF(P30="材質劣化",2,IF(P30="漏水",3,1)) -> 1
AQ31: =IF(P33="材質劣化",2,IF(P33="漏水",3,1)) -> 1
AQ32: =IF(P37="材質劣化",2,IF(P37="漏水",3,1)) -> 1
AQ33: =IF(P33="材質劣化",2,IF(P33="漏水",3,1)) -> 1
AQ34: =IF(P36="材質劣化",2,IF(P36="漏水",3,1)) -> 1
K35: 集計 判定 診断 | L35: 変状の発生規模合計(㎡) | Y35: － | AC35: =SUM(AC11:AC34) -> 0 | AD35: =SUM(AD11:AD34) -> 0 | AE35: =SUM(AE11:AE34) -> 0 | AF35: =SUM(AF11:AF34) -> 0.745 | AG35: =SUM(AG11:AG34) -> 0 | AH35: =SUM(AH11:AH34) -> 0 | AI35: =SUM(AI11:AI34) -> 0 | AJ35: =SUM(AJ11:AJ34) -> 34.66 | AK35: 覆工スパン単位の 健全性の 診断の区分 | AM35: Ⅱ
L36: 対策区分の 判定結果 | O36: 対策区分毎の変状数注3 | Y36: Ⅳ | Z36: Ⅲ | AA36: Ⅱa | AB36: Ⅱb | AC36: Ⅳ | AD36: Ⅲ | AE36: Ⅱa | AF36: Ⅱb | AG36: Ⅳ | AH36: Ⅲ | AI36: Ⅱa | AJ36: Ⅱb
Y37: =IF(COUNTIF(Y11:Y34,"〇")>0,"1"," ") | Z37: =IF(COUNTIF(Z11:Z34,"〇")>0,"1"," ") | AA37: =IF(COUNTIF(AA11:AA34,"〇")>0,"1"," ") | AB37: =IF(COUNTIF(AB11:AB34,"〇")>0,"1"," ") | AC37: =COUNTA(AC11:AC34) -> 0 | AD37: =COUNTA(AD11:AD34) -> 0 | AE37: =COUNTA(AE11:AE34) -> 0 | AF37: =COUNTA(AF11:AF34) -> 5 | AG37: =COUNTA(AG11:AG34) -> 0 | AH37: =COUNTA(AH11:AH34) -> 0 | AI37: =COUNTA(AI11:AI34) -> 0 | AJ37: =COUNTA(AJ11:AJ34) -> 4
K39: 所見
K43: 注1：誤記入防止のため、当該変状区分以外のセルは灰色表示とすること。
K44: 注2：応急措置を実施した場合は、その詳細を備考に記載すること。
K45: 注3：外力は覆工スパン単位、材質劣化、漏水は変状単位とすること。
B46: （以下、印刷不要）
B47: ※1：本シートは作成洩れのないよう、変状が無くても全スパン分を作成すること．また変状展開図は、様式D-2-1、様式D-2-1'と同じものを覆工スパン単位で拡大し掲載すること。
B48: ※2：変状番号は、様式D-1-1で記入した番号と整合させること。
B49: ※3：対策区分毎の変状発生規模は、様式D-1-1に記載した面積を記入すること（ただし外力はスパン単位で評価するため変状の有無の欄には面積でなく○を記入し、備考欄に状況を記入）。
B50: ※4：本様式は覆工スパン毎に作成すること。
B51: ※5：変状数が多い場合は、適時、表の行を増やして覆工スパン毎に1枚のシートに収めること。また、1スパン１シートとし、スパンに合わせてシートを追加すること。
B52: ※6：対策区分毎の変状の発生範囲の規模とは，対策を行う際に参考となる変状の長さや面積であり，変状を包含する長さや面積とする。
B53: ※7：対策範囲を示す発生範囲の規模を面積で記入することが妥当ではない変状は、発生範囲の規模の欄に○を記入するとともに、備考に内容を記入すること。

Sheet 様式D-3_S003
AU1: 様式F用→ | AV1: 覆工スパン | AY1: 変 状 数 | BK1: 変 状 規 模
AV2: 番号 | AW2: 延長 （ｍ） | AX2: 健全性の診断の 区分 | AY2: 対策区分の判定 | BK2: 覆工スパン長（ｍ） | BO2: 変状の発生範囲の規模（㎡）
B3: ■定期点検記録様式 覆工スパン別変状詳細展開図 【様式D-3】 | AY3: 外力 | BC3: 材質劣化 | BG3: 漏水 | BK3: 外力 注2 | BO3: 材質劣化 | BS3: 漏水
B4: フリガナ | E4: ヒエバラダイサンズイドウ | K4: 路線名 | N4: 国道187号 | T4: 定期点検実施者 | Y4: 株式会社エイト日本技術開発 | AG4: 定期点検年月日 | AK4: 45587 | AY4: Ⅳ | AZ4: Ⅲ | BA4: Ⅱa | BB4: Ⅱb | BC4: Ⅳ | BD4: Ⅲ | BE4: Ⅱa | BF4: Ⅱb | BG4: Ⅳ | BH4: Ⅲ | BI4: Ⅱa | BJ4: Ⅱb | BK4: Ⅳ | BL4: Ⅲ | BM4: Ⅱa | BN4: Ⅱb | BO4: Ⅳ | BP4: Ⅲ | BQ4: Ⅱa | BR4: Ⅱb | BS4: Ⅳ | BT4: Ⅲ | BU4: Ⅱa | BV4: Ⅱb
B5: 名 称 | E5: 稗原第3隧道 | K5: 管理者名 | N5: 山口県岩国土木建築事務所 | Y5: 岡根 三千夫 | AV5: =N7 -> 3 | AW5: =R7 -> 9 | AX5: =AM35 -> Ⅱ | AY5: =Y37 | AZ5: =Z37 | BA5: =AA37 | BB5: =AB37 | BC5: =AC37 -> 0 | BD5: =AD37 -> 0 | BE5: =AE37 -> 0 | BF5: =AF37 -> 4 | ... BJ5: =AJ37 -> 4 | BK5: =IF(Y37>0,R7,"") -> 9 | BL5: =IF(Y37>0,"",IF(Z37>0,R7,"")) | BM5: =IF(Y37+Z37>0,"",IF(AA37>0,R7,"")) -> #VALUE! | BN5: =IF(Y37+Z37+AA37>0,"",IF(AB37>0,R7,"")) -> #VALUE! | BO5: =AC35 -> 0 | BP5: =AD35 -> 0 | BQ5: =AE35 -> 0 | BR5: =AF35 -> 0.2869 | BS5: =AG35 -> 0 | BT5: =AH35 -> 0 | BU5: =AI35 -> 0 | BV5: =AJ35 -> 17.73
B6: スパン別変状展開図 | K6: 【健全性判定集計表】
K7: スパン番号 | N7: 3 | P7: スパン長 | R7: 9 | U7: 前回定期点検時の判定 | W7: 応急措置前の判定 | Y7: 対策区分毎の 変状の有無 | AC7: 対策区分毎の変状の発生範囲の規模(㎡) | AK7: 備考注2
K8: 変状番号 | L8: 対象箇所 | N8: 部位区分 | P8: 変状区分 | R8: 変状種類
Y9: 外力注1 | AC9: 材質劣化注1 | AG9: 漏水注1
Y10: Ⅳ | Z10: Ⅲ | AA10: Ⅱa | AB10: Ⅱb | AC10: Ⅳ | AD10: Ⅲ | AE10: Ⅱa | AF10: Ⅱb | AG10: Ⅳ | AH10: Ⅲ | AI10: Ⅱa | AJ10: Ⅱb
K11: 1 | L11: 覆工 | N11: アーチ（左側） | P11: 漏水 | R11: 漏水 | U11: Ⅱb | W11: － | AJ11: 7.98 | AQ11: =IF(P11="材質劣化",2,IF(P11="漏水",3,1)) -> 3 | AS11: =IF(Y11<>"",1,"")
K12: 2 | L12: 覆工 | N12: 側壁（左側） | P12: 漏水 | R12: 漏水 | U12: － | W12: － | AJ12: 0.6 | AQ12: =IF(P12="材質劣化",2,IF(P12="漏水",3,1)) -> 3
K13: 3 | L13: 覆工 | N13: アーチ（左側） | P13: 材質劣化 | R13: 補修・補強材の破損 | U13: Ⅱb | W13: － | AF13: 0.06 | AQ13: =IF(P13="材質劣化",2,IF(P13="漏水",3,1)) -> 2
K14: 4 | L14: 覆工 | N14: アーチ（左側） | P14: 材質劣化 | R14: 補修・補強材の破損 | U14: － | W14: － | AF14: 0.005 | AQ14: =IF(P14="材質劣化",2,IF(P14="漏水",3,1)) -> 2
K15: 5 | L15: 覆工 | N15: 水平打ち継ぎ目（左側） | P15: 材質劣化 | R15: うき・はく離 | U15: － | W15: － | AF15: 0.22 | AQ15: =IF(P15="材質劣化",2,IF(P15="漏水",3,1)) -> 2
K16: 6 | L16: 覆工 | N16: 側壁（左側） | P16: 材質劣化 | R16: 圧ざ、ひび割れ | U16: Ⅱb | W16: － | AF16: 0.0019 | AQ16: =IF(P16="材質劣化",2,IF(P16="漏水",3,1)) -> 2
K17: 7 | L17: 覆工 | N17: アーチ（左側） | P17: 漏水 | R17: 漏水 | U17: Ⅱb | W17: － | AQ17: =IF(P17="材質劣化",2,IF(P17="漏水",3,1)) -> 3
K18: 8 | L18: 覆工 | N18: アーチ（左側） | P18: 漏水 | R18: 漏水 | U18: － | W18: － | AJ18: 4.27 | AQ18: =IF(P18="材質劣化",2,IF(P18="漏水",3,1)) -> 3
K19: 9 | L19: 覆工 | N19: アーチ（左側） | P19: 漏水 | R19: 漏水 | U19: － | W19: － | AJ19: 4.88 | AQ19: =IF(P19="材質劣化",2,IF(P19="漏水",3,1)) -> 3
K20: 10 | L20: 覆工 | N20: アーチ（右側） | P20: 漏水 | R20: 漏水 | U20: Ⅱb | W20: － | AQ20: =IF(P20="材質劣化",2,IF(P20="漏水",3,1)) -> 3
K21: 11 | L21: 路面 | N21: 車道 | R21: その他 | U21: Ⅱb | W21: － | AQ21: =IF(P21="材質劣化",2,IF(P21="漏水",3,1)) -> 1
AQ22: =IF(P22="材質劣化",2,IF(P22="漏水",3,1)) -> 1
AQ23: =IF(P23="材質劣化",2,IF(P23="漏水",3,1)) -> 1
AQ24: =IF(P24="材質劣化",2,IF(P24="漏水",3,1)) -> 1
AQ25: =IF(P25="材質劣化",2,IF(P25="漏水",3,1)) -> 1
AQ26: =IF(P26="材質劣化",2,IF(P26="漏水",3,1)) -> 1
AQ27: =IF(P27="材質劣化",2,IF(P27="漏水",3,1)) -> 1
AQ28: =IF(P30="材質劣化",2,IF(P30="漏水",3,1)) -> 1
AQ29: =IF(P34="材質劣化",2,IF(P34="漏水",3,1)) -> 1
AQ30: =IF(P30="材質劣化",2,IF(P30="漏水",3,1)) -> 1
AQ31: =IF(P33="材質劣化",2,IF(P33="漏水",3,1)) -> 1
AQ32: =IF(P37="材質劣化",2,IF(P37="漏水",3,1)) -> 1
AQ33: =IF(P33="材質劣化",2,IF(P33="漏水",3,1)) -> 1
AQ34: =IF(P36="材質劣化",2,IF(P36="漏水",3,1)) -> 1
K35: 集計 判定 診断 | L35: 変状の発生規模合計(㎡) | Y35: － | AC35: =SUM(AC11:AC34) -> 0 | AD35: =SUM(AD11:AD34) -> 0 | AE35: =SUM(AE11:AE34) -> 0 | AF35: =SUM(AF11:AF34) -> 0.2869 | AG35: =SUM(AG11:AG34) -> 0 | AH35: =SUM(AH11:AH34) -> 0 | AI35: =SUM(AI11:AI34) -> 0 | AJ35: =SUM(AJ11:AJ34) -> 17.73 | AK35: 覆工スパン単位の 健全性の 診断の区分 | AM35: Ⅱ
L36: 対策区分の 判定結果 | O36: 対策区分毎の変状数注3 | Y36: Ⅳ | Z36: Ⅲ | AA36: Ⅱa | AB36: Ⅱb | AC36: Ⅳ | AD36: Ⅲ | AE36: Ⅱa | AF36: Ⅱb | AG36: Ⅳ | AH36: Ⅲ | AI36: Ⅱa | AJ36: Ⅱb
Y37: =IF(COUNTIF(Y11:Y34,"〇")>0,"1"," ") | Z37: =IF(COUNTIF(Z11:Z34,"〇")>0,"1"," ") | AA37: =IF(COUNTIF(AA11:AA34,"〇")>0,"1"," ") | AB37: =IF(COUNTIF(AB11:AB34,"〇")>0,"1"," ") | AC37: =COUNTA(AC11:AC34) -> 0 | AD37: =COUNTA(AD11:AD34) -> 0 | AE37: =COUNTA(AE11:AE34) -> 0 | AF37: =COUNTA(AF11:AF34) -> 4 | AG37: =COUNTA(AG11:AG34) -> 0 | AH37: =COUNTA(AH11:AH34) -> 0 | AI37: =COUNTA(AI11:AI34) -> 0 | AJ37: =COUNTA(AJ11:AJ34) -> 4
K39: 所見
K43: 注1：誤記入防止のため、当該変状区分以外のセルは灰色表示とすること。
K44: 注2：応急措置を実施した場合は、その詳細を備考に記載すること。
K45: 注3：外力は覆工スパン単位、材質劣化、漏水は変状単位とすること。
B46: （以下、印刷不要）
B47: ※1：本シートは作成洩れのないよう、変状が無くても全スパン分を作成すること．また変状展開図は、様式D-2-1、様式D-2-1'と同じものを覆工スパン単位で拡大し掲載すること。
B48: ※2：変状番号は、様式D-1-1で記入した番号と整合させること。
B49: ※3：対策区分毎の変状発生規模は、様式D-1-1に記載した面積を記入すること（ただし外力はスパン単位で評価するため変状の有無の欄には面積でなく○を記入し、備考欄に状況を記入）。
B50: ※4：本様式は覆工スパン毎に作成すること。
B51: ※5：変状数が多い場合は、適時、表の行を増やして覆工スパン毎に1枚のシートに収めること。また、1スパン１シートとし、スパンに合わせてシートを追加すること。
B52: ※6：対策区分毎の変状の発生範囲の規模とは，対策を行う際に参考となる変状の長さや面積であり，変状を包含する長さや面積とする。
B53: ※7：対策範囲を示す発生範囲の規模を面積で記入することが妥当ではない変状は、発生範囲の規模の欄に○を記入するとともに、備考に内容を記入すること。

Sheet 様式D-3_S004
AU1: 様式F用→ | AV1: 覆工スパン | AY1: 変 状 数 | BK1: 変 状 規 模
AV2: 番号 | AW2: 延長 （ｍ） | AX2: 健全性の診断の 区分 | AY2: 対策区分の判定 | BK2: 覆工スパン長（ｍ） | BO2: 変状の発生範囲の規模（㎡）
B3: ■定期点検記録様式 覆工スパン別変状詳細展開図 【様式D-3】 | AY3: 外力 | BC3: 材質劣化 | BG3: 漏水 | BK3: 外力 注2 | BO3: 材質劣化 | BS3: 漏水
B4: フリガナ | E4: ヒエバラダイサンズイドウ | K4: 路線名 | N4: 国道187号 | T4: 定期点検実施者 | Y4: 株式会社エイト日本技術開発 | AG4: 定期点検年月日 | AK4: 45587 | AY4: Ⅳ | AZ4: Ⅲ | BA4: Ⅱa | BB4: Ⅱb | BC4: Ⅳ | BD4: Ⅲ | BE4: Ⅱa | BF4: Ⅱb | BG4: Ⅳ | BH4: Ⅲ | BI4: Ⅱa | BJ4: Ⅱb | BK4: Ⅳ | BL4: Ⅲ | BM4: Ⅱa | BN4: Ⅱb | BO4: Ⅳ | BP4: Ⅲ | BQ4: Ⅱa | BR4: Ⅱb | BS4: Ⅳ | BT4: Ⅲ | BU4: Ⅱa | BV4: Ⅱb
B5: 名 称 | E5: 稗原第3隧道 | K5: 管理者名 | N5: 山口県岩国土木建築事務所 | Y5: 岡根 三千夫 | AV5: =N7 -> 4 | AW5: =R7 -> 9 | AX5: =AM35 -> Ⅱ | AY5: =Y37 | AZ5: =Z37 | BA5: =AA37 | BB5: =AB37 | BC5: =AC37 -> 0 | BD5: =AD37 -> 0 | BE5: =AE37 -> 2 | BF5: =AF37 -> 3 | ... BJ5: =AJ37 -> 2 | BK5: =IF(Y37>0,R7,"") -> 9 | BL5: =IF(Y37>0,"",IF(Z37>0,R7,"")) | BM5: =IF(Y37+Z37>0,"",IF(AA37>0,R7,"")) -> #VALUE! | BN5: =IF(Y37+Z37+AA37>0,"",IF(AB37>0,R7,"")) -> #VALUE! | BO5: =AC35 -> 0 | BP5: =AD35 -> 0 | BQ5: =AE35 -> 0.13 | BR5: =AF35 -> 0.8909 | BS5: =AG35 -> 0 | BT5: =AH35 -> 0 | BU5: =AI35 -> 94.88 | BV5: =AJ35 -> 10.95
B6: スパン別変状展開図 | K6: 【健全性判定集計表】
K7: スパン番号 | N7: 4 | P7: スパン長 | R7: 9 | U7: 前回定期点検時の判定 | W7: 応急措置前の判定 | Y7: 対策区分毎の 変状の有無 | AC7: 対策区分毎の変状の発生範囲の規模(㎡) | AK7: 備考注2
K8: 変状番号 | L8: 対象箇所 | N8: 部位区分 | P8: 変状区分 | R8: 変状種類
Y9: 外力注1 | AC9: 材質劣化注1 | AG9: 漏水注1
Y10: Ⅳ | Z10: Ⅲ | AA10: Ⅱa | AB10: Ⅱb | AC10: Ⅳ | AD10: Ⅲ | AE10: Ⅱa | AF10: Ⅱb | AG10: Ⅳ | AH10: Ⅲ | AI10: Ⅱa | AJ10: Ⅱb
K11: 1 | L11: 覆工 | N11: アーチ（左側） | P11: 材質劣化 | R11: 補修・補強材の破損 | U11: － | W11: － | AF11: 0.04 | AQ11: =IF(P11="材質劣化",2,IF(P11="漏水",3,1)) -> 2 | AS11: =IF(Y11<>"",1,"")
K12: 2 | L12: 覆工 | N12: 側壁（左側） | P12: 材質劣化 | R12: うき・はく離 | U12: Ⅱb | W12: － | AF12: 0.85 | AQ12: =IF(P12="材質劣化",2,IF(P12="漏水",3,1)) -> 2
K13: 3 | L13: 覆工 | N13: アーチ（左側） | P13: 漏水 | R13: 漏水 | U13: Ⅱb | W13: － | AI13: 70.7 | AQ13: =IF(P13="材質劣化",2,IF(P13="漏水",3,1)) -> 3
K14: 4 | L14: 覆工 | N14: アーチ（左側） | P14: 材質劣化 | R14: うき・はく離 | U14: － | W14: － | AE14: 0.08 | AQ14: =IF(P14="材質劣化",2,IF(P14="漏水",3,1)) -> 2
K15: 5 | L15: 覆工 | N15: アーチ（右側） | P15: 材質劣化 | R15: うき・はく離 | U15: － | W15: － | AE15: 0.05 | AQ15: =IF(P15="材質劣化",2,IF(P15="漏水",3,1)) -> 2
K16: 6 | L16: 覆工 | N16: アーチ（右側） | P16: 漏水 | R16: 漏水 | U16: － | W16: － | AI16: 24.18 | AQ16: =IF(P16="材質劣化",2,IF(P16="漏水",3,1)) -> 3
K17: 7 | L17: 覆工 | N17: アーチ（右側） | P17: 漏水 | R17: 漏水 | U17: － | W17: － | AJ17: 8.4 | AQ17: =IF(P17="材質劣化",2,IF(P17="漏水",3,1)) -> 3
K18: 8 | L18: 覆工 | N18: 側壁（右側） | P18: 材質劣化 | R18: 圧ざ、ひび割れ | U18: Ⅱb | W18: － | AF18: 0.0009 | AQ18: =IF(P18="材質劣化",2,IF(P18="漏水",3,1)) -> 2
K19: 9 | L19: 覆工 | N19: アーチ（右側） | P19: 漏水 | R19: 漏水 | U19: － | W19: － | AJ19: 2.55 | AQ19: =IF(P19="材質劣化",2,IF(P19="漏水",3,1)) -> 3
AQ20: =IF(P20="材質劣化",2,IF(P20="漏水",3,1)) -> 1
AQ21: =IF(P21="材質劣化",2,IF(P21="漏水",3,1)) -> 1
AQ22: =IF(P22="材質劣化",2,IF(P22="漏水",3,1)) -> 1
AQ23: =IF(P23="材質劣化",2,IF(P23="漏水",3,1)) -> 1
AQ24: =IF(P24="材質劣化",2,IF(P24="漏水",3,1)) -> 1
AQ25: =IF(P25="材質劣化",2,IF(P25="漏水",3,1)) -> 1
AQ26: =IF(P26="材質劣化",2,IF(P26="漏水",3,1)) -> 1
AQ27: =IF(P27="材質劣化",2,IF(P27="漏水",3,1)) -> 1
AQ28: =IF(P30="材質劣化",2,IF(P30="漏水",3,1)) -> 1
AQ29: =IF(P34="材質劣化",2,IF(P34="漏水",3,1)) -> 1
AQ30: =IF(P30="材質劣化",2,IF(P30="漏水",3,1)) -> 1
AQ31: =IF(P33="材質劣化",2,IF(P33="漏水",3,1)) -> 1
AQ32: =IF(P37="材質劣化",2,IF(P37="漏水",3,1)) -> 1
AQ33: =IF(P33="材質劣化",2,IF(P33="漏水",3,1)) -> 1
AQ34: =IF(P36="材質劣化",2,IF(P36="漏水",3,1)) -> 1
K35: 集計 判定 診断 | L35: 変状の発生規模合計(㎡) | Y35: － | AC35: =SUM(AC11:AC34) -> 0 | AD35: =SUM(AD11:AD34) -> 0 | AE35: =SUM(AE11:AE34) -> 0.13 | AF35: =SUM(AF11:AF34) -> 0.8909 | AG35: =SUM(AG11:AG34) -> 0 | AH35: =SUM(AH11:AH34) -> 0 | AI35: =SUM(AI11:AI34) -> 94.88 | AJ35: =SUM(AJ11:AJ34) -> 10.95 | AK35: 覆工スパン単位の 健全性の 診断の区分 | AM35: Ⅱ
L36: 対策区分の 判定結果 | O36: 対策区分毎の変状数注3 | Y36: Ⅳ | Z36: Ⅲ | AA36: Ⅱa | AB36: Ⅱb | AC36: Ⅳ | AD36: Ⅲ | AE36: Ⅱa | AF36: Ⅱb | AG36: Ⅳ | AH36: Ⅲ | AI36: Ⅱa | AJ36: Ⅱb
Y37: =IF(COUNTIF(Y11:Y34,"〇")>0,"1"," ") | Z37: =IF(COUNTIF(Z11:Z34,"〇")>0,"1"," ") | AA37: =IF(COUNTIF(AA11:AA34,"〇")>0,"1"," ") | AB37: =IF(COUNTIF(AB11:AB34,"〇")>0,"1"," ") | AC37: =COUNTA(AC11:AC34) -> 0 | AD37: =COUNTA(AD11:AD34) -> 0 | AE37: =COUNTA(AE11:AE34) -> 2 | AF37: =COUNTA(AF11:AF34) -> 3 | AG37: =COUNTA(AG11:AG34) -> 0 | AH37: =COUNTA(AH11:AH34) -> 0 | AI37: =COUNTA(AI11:AI34) -> 2 | AJ37: =COUNTA(AJ11:AJ34) -> 2
K39: 所見
K43: 注1：誤記入防止のため、当該変状区分以外のセルは灰色表示とすること。
K44: 注2：応急措置を実施した場合は、その詳細を備考に記載すること。
K45: 注3：外力は覆工スパン単位、材質劣化、漏水は変状単位とすること。
B46: （以下、印刷不要）
B47: ※1：本シートは作成洩れのないよう、変状が無くても全スパン分を作成すること．また変状展開図は、様式D-2-1、様式D-2-1'と同じものを覆工スパン単位で拡大し掲載すること。
B48: ※2：変状番号は、様式D-1-1で記入した番号と整合させること。
B49: ※3：対策区分毎の変状発生規模は、様式D-1-1に記載した面積を記入すること（ただし外力はスパン単位で評価するため変状の有無の欄には面積でなく○を記入し、備考欄に状況を記入）。
B50: ※4：本様式は覆工スパン毎に作成すること。
B51: ※5：変状数が多い場合は、適時、表の行を増やして覆工スパン毎に1枚のシートに収めること。また、1スパン１シートとし、スパンに合わせてシートを追加すること。
B52: ※6：対策区分毎の変状の発生範囲の規模とは，対策を行う際に参考となる変状の長さや面積であり，変状を包含する長さや面積とする。
B53: ※7：対策範囲を示す発生範囲の規模を面積で記入することが妥当ではない変状は、発生範囲の規模の欄に○を記入するとともに、備考に内容を記入すること。

Sheet 様式D-3_S005
AU1: 様式F用→ | AV1: 覆工スパン | AY1: 変 状 数 | BK1: 変 状 規 模
AV2: 番号 | AW2: 延長 （ｍ） | AX2: 健全性の診断の 区分 | AY2: 対策区分の判定 | BK2: 覆工スパン長（ｍ） | BO2: 変状の発生範囲の規模（㎡）
B3: ■定期点検記録様式 覆工スパン別変状詳細展開図 【様式D-3】 | AY3: 外力 | BC3: 材質劣化 | BG3: 漏水 | BK3: 外力 注2 | BO3: 材質劣化 | BS3: 漏水
B4: フリガナ | E4: ヒエバラダイサンズイドウ | K4: 路線名 | N4: 国道187号 | T4: 定期点検実施者 | Y4: 株式会社エイト日本技術開発 | AG4: 定期点検年月日 | AK4: 45587 | AY4: Ⅳ | AZ4: Ⅲ | BA4: Ⅱa | BB4: Ⅱb | BC4: Ⅳ | BD4: Ⅲ | BE4: Ⅱa | BF4: Ⅱb | BG4: Ⅳ | BH4: Ⅲ | BI4: Ⅱa | BJ4: Ⅱb | BK4: Ⅳ | BL4: Ⅲ | BM4: Ⅱa | BN4: Ⅱb | BO4: Ⅳ | BP4: Ⅲ | BQ4: Ⅱa | BR4: Ⅱb | BS4: Ⅳ | BT4: Ⅲ | BU4: Ⅱa | BV4: Ⅱb
B5: 名 称 | E5: 稗原第3隧道 | K5: 管理者名 | N5: 山口県岩国土木建築事務所 | Y5: 岡根 三千夫 | AV5: =N7 -> 5 | AW5: =R7 -> 10.5 | AX5: =AM35 -> Ⅲ | AY5: =Y37 | AZ5: =Z37 | BA5: =AA37 | BB5: =AB37 | BC5: =AC37 -> 0 | BD5: =AD37 -> 1 | BE5: =AE37 -> 4 | BF5: =AF37 -> 5 | ... BJ5: =AJ37 -> 9 | BK5: =IF(Y37>0,R7,"") -> 10.5 | BL5: =IF(Y37>0,"",IF(Z37>0,R7,"")) | BM5: =IF(Y37+Z37>0,"",IF(AA37>0,R7,"")) -> #VALUE! | BN5: =IF(Y37+Z37+AA37>0,"",IF(AB37>0,R7,"")) -> #VALUE! | BO5: =AC35 -> 0 | BP5: =AD35 -> 0.28 | BQ5: =AE35 -> 0.45 | BR5: =AF35 -> 5.45 | BS5: =AG35 -> 0 | BT5: =AH35 -> 0 | BU5: =AI35 -> 0 | BV5: =AJ35 -> 72.95
B6: スパン別変状展開図 | K6: 【健全性判定集計表】
K7: スパン番号 | N7: 5 | P7: スパン長 | R7: 10.5 | U7: 前回定期点検時の判定 | W7: 応急措置前の判定 | Y7: 対策区分毎の 変状の有無 | AC7: 対策区分毎の変状の発生範囲の規模(㎡) | AK7: 備考注2
K8: 変状番号 | L8: 対象箇所 | N8: 部位区分 | P8: 変状区分 | R8: 変状種類
Y9: 外力注1 | AC9: 材質劣化注1 | AG9: 漏水注1
Y10: Ⅳ | Z10: Ⅲ | AA10: Ⅱa | AB10: Ⅱb | AC10: Ⅳ | AD10: Ⅲ | AE10: Ⅱa | AF10: Ⅱb | AG10: Ⅳ | AH10: Ⅲ | AI10: Ⅱa | AJ10: Ⅱb
K11: 1 | L11: 覆工 | N11: アーチ（左側） | P11: 漏水 | R11: 漏水 | U11: Ⅱb | W11: － | AJ11: 12.4 | AQ11: =IF(P11="材質劣化",2,IF(P11="漏水",3,1)) -> 3 | AS11: =IF(Y11<>"",1,"")
K12: 2 | L12: 覆工 | N12: 横断目地（左側） | P12: 材質劣化 | R12: うき・はく離 | U12: － | W12: － | AE12: 0.04 | AQ12: =IF(P12="材質劣化",2,IF(P12="漏水",3,1)) -> 2
K13: 3 | L13: 覆工 | N13: 側壁（左側） | P13: 材質劣化 | R13: うき・はく離 | U13: Ⅱb | W13: － | AF13: 2.58 | AQ13: =IF(P13="材質劣化",2,IF(P13="漏水",3,1)) -> 2
K14: 4 | L14: 覆工 | N14: 側壁（左側） | P14: 材質劣化 | R14: うき・はく離 | U14: Ⅱb | W14: － | AF14: 2.4 | AQ14: =IF(P14="材質劣化",2,IF(P14="漏水",3,1)) -> 2
K15: 5 | L15: 覆工 | N15: アーチ（左側） | P15: 漏水 | R15: 漏水 | U15: Ⅱb | W15: － | AJ15: 30.1 | AQ15: =IF(P15="材質劣化",2,IF(P15="漏水",3,1)) -> 3
K16: 6 | L16: 覆工 | N16: アーチ（左側） | P16: 漏水 | R16: 漏水 | U16: Ⅱb | W16: － | AJ16: 3.1 | AQ16: =IF(P16="材質劣化",2,IF(P16="漏水",3,1)) -> 3
K17: 7 | L17: 覆工 | N17: アーチ（左側） | P17: 漏水 | R17: 漏水 | U17: － | W17: － | AJ17: 3.96 | AQ17: =IF(P17="材質劣化",2,IF(P17="漏水",3,1)) -> 3
K18: 8 | L18: 覆工 | N18: 側壁（左側） | P18: 漏水 | R18: 漏水 | U18: － | W18: － | AJ18: 2 | AQ18: =IF(P18="材質劣化",2,IF(P18="漏水",3,1)) -> 3
K19: 9 | L19: 覆工 | N19: アーチ（左側） | P19: 材質劣化 | R19: 鋼材腐食 | U19: Ⅱb | W19: － | AF19: 0.005 | AQ19: =IF(P19="材質劣化",2,IF(P19="漏水",3,1)) -> 2
K20: 10 | L20: 覆工 | N20: アーチ（右側） | P20: 材質劣化 | R20: うき・はく離 | U20: Ⅱb | W20: Ⅳ | AD20: 0.28 | AK20: FRPネット | AQ20: =IF(P20="材質劣化",2,IF(P20="漏水",3,1)) -> 2
K21: 11 | L21: 覆工 | N21: アーチ（右側） | P21: 材質劣化 | R21: うき・はく離 | U21: Ⅱb | W21: － | AE21: 0.15 | AQ21: =IF(P21="材質劣化",2,IF(P21="漏水",3,1)) -> 2
K22: 12 | L22: 覆工 | N22: 横断目地（右側） | P22: 材質劣化 | R22: うき・はく離 | U22: － | W22: － | AE22: 0.02 | AQ22: =IF(P22="材質劣化",2,IF(P22="漏水",3,1)) -> 2
K23: 13 | L23: 覆工 | N23: アーチ（右側） | P23: 材質劣化 | R23: うき・はく離 | U23: Ⅱb | W23: － | AE23: 0.24 | AQ23: =IF(P23="材質劣化",2,IF(P23="漏水",3,1)) -> 2
K24: 14 | L24: 覆工 | N24: 横断目地（右側） | P24: 材質劣化 | R24: 補修・補強材の破損 | U24: Ⅱb | W24: － | AF24: 0.015 | AQ24: =IF(P24="材質劣化",2,IF(P24="漏水",3,1)) -> 2
K25: 15 | L25: 覆工 | N25: アーチ（右側） | P25: 漏水 | R25: 漏水 | U25: － | W25: － | AJ25: 3.36 | AQ25: =IF(P25="材質劣化",2,IF(P25="漏水",3,1)) -> 3
K26: 16 | L26: 覆工 | N26: 側壁（右側） | P26: 漏水 | R26: 漏水 | U26: － | W26: － | AJ26: 1.47 | AQ26: =IF(P26="材質劣化",2,IF(P26="漏水",3,1)) -> 3
K27: 17 | L27: 覆工 | N27: アーチ（右側） | P27: 漏水 | R27: 漏水 | U27: － | W27: － | AJ27: 8.4 | AQ27: =IF(P27="材質劣化",2,IF(P27="漏水",3,1)) -> 3
K28: 18 | L28: 覆工 | N28: アーチ（右側） | P28: 漏水 | R28: 漏水 | U28: Ⅱb | W28: － | AJ28: 8.16 | AQ28: =IF(P28="材質劣化",2,IF(P28="漏水",3,1)) -> 3
K29: 19 | L29: 覆工 | N29: 水平打ち継ぎ目（右側） | P29: 材質劣化 | R29: うき・はく離 | U29: Ⅱb | W29: － | AF29: 0.45 | AQ29: =IF(P29="材質劣化",2,IF(P29="漏水",3,1)) -> 2
AQ30: =IF(P30="材質劣化",2,IF(P30="漏水",3,1)) -> 1
AQ31: =IF(P31="材質劣化",2,IF(P31="漏水",3,1)) -> 1
AQ32: =IF(P32="材質劣化",2,IF(P32="漏水",3,1)) -> 1
AQ33: =IF(P33="材質劣化",2,IF(P33="漏水",3,1)) -> 1
AQ34: =IF(P34="材質劣化",2,IF(P34="漏水",3,1)) -> 1
K35: 集計 判定 診断 | L35: 変状の発生規模合計(㎡) | Y35: － | AC35: =SUM(AC11:AC34) -> 0 | AD35: =SUM(AD11:AD34) -> 0.28 | AE35: =SUM(AE11:AE34) -> 0.45 | AF35: =SUM(AF11:AF34) -> 5.45 | AG35: =SUM(AG11:AG34) -> 0 | AH35: =SUM(AH11:AH34) -> 0 | AI35: =SUM(AI11:AI34) -> 0 | AJ35: =SUM(AJ11:AJ34) -> 72.95 | AK35: 覆工スパン単位の 健全性の 診断の区分 | AM35: Ⅲ
L36: 対策区分の 判定結果 | O36: 対策区分毎の変状数注3 | Y36: Ⅳ | Z36: Ⅲ | AA36: Ⅱa | AB36: Ⅱb | AC36: Ⅳ | AD36: Ⅲ | AE36: Ⅱa | AF36: Ⅱb | AG36: Ⅳ | AH36: Ⅲ | AI36: Ⅱa | AJ36: Ⅱb
Y37: =IF(COUNTIF(Y11:Y34,"〇")>0,"1"," ") | Z37: =IF(COUNTIF(Z11:Z34,"〇")>0,"1"," ") | AA37: =IF(COUNTIF(AA11:AA34,"〇")>0,"1"," ") | AB37: =IF(COUNTIF(AB11:AB34,"〇")>0,"1"," ") | AC37: =COUNTA(AC11:AC34) -> 0 | AD37: =COUNTA(AD11:AD34) -> 1 | AE37: =COUNTA(AE11:AE34) -> 4 | AF37: =COUNTA(AF11:AF34) -> 5 | AG37: =COUNTA(AG11:AG34) -> 0 | AH37: =COUNTA(AH11:AH34) -> 0 | AI37: =COUNTA(AI11:AI34) -> 0 | AJ37: =COUNTA(AJ11:AJ34) -> 9
K39: 所見
K43: 注1：誤記入防止のため、当該変状区分以外のセルは灰色表示とすること。
K44: 注2：応急措置を実施した場合は、その詳細を備考に記載すること。
K45: 注3：外力は覆工スパン単位、材質劣化、漏水は変状単位とすること。
B46: （以下、印刷不要）
B47: ※1：本シートは作成洩れのないよう、変状が無くても全スパン分を作成すること．また変状展開図は、様式D-2-1、様式D-2-1'と同じものを覆工スパン単位で拡大し掲載すること。
B48: ※2：変状番号は、様式D-1-1で記入した番号と整合させること。
B49: ※3：対策区分毎の変状発生規模は、様式D-1-1に記載した面積を記入すること（ただし外力はスパン単位で評価するため変状の有無の欄には面積でなく○を記入し、備考欄に状況を記入）。
B50: ※4：本様式は覆工スパン毎に作成すること。
B51: ※5：変状数が多い場合は、適時、表の行を増やして覆工スパン毎に1枚のシートに収めること。また、1スパン１シートとし、スパンに合わせてシートを追加すること。
B52: ※6：対策区分毎の変状の発生範囲の規模とは，対策を行う際に参考となる変状の長さや面積であり，変状を包含する長さや面積とする。
B53: ※7：対策範囲を示す発生範囲の規模を面積で記入することが妥当ではない変状は、発生範囲の規模の欄に○を記入するとともに、備考に内容を記入すること。

Sheet 様式D-3_S006
AU1: 様式F用→ | AV1: 覆工スパン | AY1: 変 状 数 | BK1: 変 状 規 模
AV2: 番号 | AW2: 延長 （ｍ） | AX2: 健全性の診断の 区分 | AY2: 対策区分の判定 | BK2: 覆工スパン長（ｍ） | BO2: 変状の発生範囲の規模（㎡）
B3: ■定期点検記録様式 覆工スパン別変状詳細展開図 【様式D-3】 | AY3: 外力 | BC3: 材質劣化 | BG3: 漏水 | BK3: 外力 注2 | BO3: 材質劣化 | BS3: 漏水
B4: フリガナ | E4: ヒエバラダイサンズイドウ | K4: 路線名 | N4: 国道187号 | T4: 定期点検実施者 | Y4: 株式会社エイト日本技術開発 | AG4: 定期点検年月日 | AK4: 45587 | AY4: Ⅳ | AZ4: Ⅲ | BA4: Ⅱa | BB4: Ⅱb | BC4: Ⅳ | BD4: Ⅲ | BE4: Ⅱa | BF4: Ⅱb | BG4: Ⅳ | BH4: Ⅲ | BI4: Ⅱa | BJ4: Ⅱb | BK4: Ⅳ | BL4: Ⅲ | BM4: Ⅱa | BN4: Ⅱb | BO4: Ⅳ | BP4: Ⅲ | BQ4: Ⅱa | BR4: Ⅱb | BS4: Ⅳ | BT4: Ⅲ | BU4: Ⅱa | BV4: Ⅱb
B5: 名 称 | E5: 稗原第3隧道 | K5: 管理者名 | N5: 山口県岩国土木建築事務所 | Y5: 岡根 三千夫 | AV5: =N7 -> 6 | AW5: =R7 -> 6 | AX5: =AM35 -> Ⅱ | AY5: =Y37 | AZ5: =Z37 | BA5: =AA37 | BB5: =AB37 | BC5: =AC37 -> 0 | BD5: =AD37 -> 0 | BE5: =AE37 -> 0 | BF5: =AF37 -> 1 | ... BJ5: =AJ37 -> 2 | BK5: =IF(Y37>0,R7,"") -> 6 | BL5: =IF(Y37>0,"",IF(Z37>0,R7,"")) | BM5: =IF(Y37+Z37>0,"",IF(AA37>0,R7,"")) -> #VALUE! | BN5: =IF(Y37+Z37+AA37>0,"",IF(AB37>0,R7,"")) -> #VALUE! | BO5: =AC35 -> 0 | BP5: =AD35 -> 0 | BQ5: =AE35 -> 0 | BR5: =AF35 -> 0.02 | BS5: =AG35 -> 0 | BT5: =AH35 -> 0 | BU5: =AI35 -> 0 | BV5: =AJ35 -> 10.66
B6: スパン別変状展開図 | K6: 【健全性判定集計表】
K7: スパン番号 | N7: 6 | P7: スパン長 | R7: 6 | U7: 前回定期点検時の判定 | W7: 応急措置前の判定 | Y7: 対策区分毎の 変状の有無 | AC7: 対策区分毎の変状の発生範囲の規模(㎡) | AK7: 備考注2
K8: 変状番号 | L8: 対象箇所 | N8: 部位区分 | P8: 変状区分 | R8: 変状種類
Y9: 外力注1 | AC9: 材質劣化注1 | AG9: 漏水注1
Y10: Ⅳ | Z10: Ⅲ | AA10: Ⅱa | AB10: Ⅱb | AC10: Ⅳ | AD10: Ⅲ | AE10: Ⅱa | AF10: Ⅱb | AG10: Ⅳ | AH10: Ⅲ | AI10: Ⅱa | AJ10: Ⅱb
K11: 1 | L11: 覆工 | N11: 水平打ち継ぎ目（左側） | P11: 漏水 | R11: 漏水 | U11: Ⅱb | W11: － | AJ11: 2.5 | AQ11: =IF(P11="材質劣化",2,IF(P11="漏水",3,1)) -> 3 | AS11: =IF(Y11<>"",1,"")
K12: 2 | L12: 覆工 | N12: 横断目地（右側） | P12: 材質劣化 | R12: 補修・補強材の破損 | U12: Ⅱb | W12: － | AF12: 0.02 | AQ12: =IF(P12="材質劣化",2,IF(P12="漏水",3,1)) -> 2
K13: 3 | L13: 覆工 | N13: 横断目地（右側） | P13: 漏水 | R13: 漏水 | U13: － | W13: － | AJ13: 8.16 | AQ13: =IF(P13="材質劣化",2,IF(P13="漏水",3,1)) -> 3
K14: 4 | L14: 覆工 | N14: 水平打ち継ぎ目（右側） | P14: 材質劣化 | R14: うき・はく離 | U14: Ⅱb | W14: － | AQ14: =IF(P14="材質劣化",2,IF(P14="漏水",3,1)) -> 2
AQ15: =IF(P15="材質劣化",2,IF(P15="漏水",3,1)) -> 1
AQ16: =IF(P16="材質劣化",2,IF(P16="漏水",3,1)) -> 1
AQ17: =IF(P17="材質劣化",2,IF(P17="漏水",3,1)) -> 1
AQ18: =IF(P18="材質劣化",2,IF(P18="漏水",3,1)) -> 1
AQ19: =IF(P19="材質劣化",2,IF(P19="漏水",3,1)) -> 1
AQ20: =IF(P20="材質劣化",2,IF(P20="漏水",3,1)) -> 1
AQ21: =IF(P21="材質劣化",2,IF(P21="漏水",3,1)) -> 1
AQ22: =IF(P22="材質劣化",2,IF(P22="漏水",3,1)) -> 1
AQ23: =IF(P23="材質劣化",2,IF(P23="漏水",3,1)) -> 1
AQ24: =IF(P24="材質劣化",2,IF(P24="漏水",3,1)) -> 1
AQ25: =IF(P25="材質劣化",2,IF(P25="漏水",3,1)) -> 1
AQ26: =IF(P26="材質劣化",2,IF(P26="漏水",3,1)) -> 1
AQ27: =IF(P27="材質劣化",2,IF(P27="漏水",3,1)) -> 1
AQ28: =IF(P30="材質劣化",2,IF(P30="漏水",3,1)) -> 1
AQ29: =IF(P34="材質劣化",2,IF(P34="漏水",3,1)) -> 1
AQ30: =IF(P30="材質劣化",2,IF(P30="漏水",3,1)) -> 1
AQ31: =IF(P33="材質劣化",2,IF(P33="漏水",3,1)) -> 1
AQ32: =IF(P37="材質劣化",2,IF(P37="漏水",3,1)) -> 1
AQ33: =IF(P33="材質劣化",2,IF(P33="漏水",3,1)) -> 1
AQ34: =IF(P36="材質劣化",2,IF(P36="漏水",3,1)) -> 1
K35: 集計 判定 診断 | L35: 変状の発生規模合計(㎡) | Y35: － | AC35: =SUM(AC11:AC34) -> 0 | AD35: =SUM(AD11:AD34) -> 0 | AE35: =SUM(AE11:AE34) -> 0 | AF35: =SUM(AF11:AF34) -> 0.02 | AG35: =SUM(AG11:AG34) -> 0 | AH35: =SUM(AH11:AH34) -> 0 | AI35: =SUM(AI11:AI34) -> 0 | AJ35: =SUM(AJ11:AJ34) -> 10.66 | AK35: 覆工スパン単位の 健全性の 診断の区分 | AM35: Ⅱ
L36: 対策区分の 判定結果 | O36: 対策区分毎の変状数注3 | Y36: Ⅳ | Z36: Ⅲ | AA36: Ⅱa | AB36: Ⅱb | AC36: Ⅳ | AD36: Ⅲ | AE36: Ⅱa | AF36: Ⅱb | AG36: Ⅳ | AH36: Ⅲ | AI36: Ⅱa | AJ36: Ⅱb
Y37: =IF(COUNTIF(Y11:Y34,"〇")>0,"1"," ") | Z37: =IF(COUNTIF(Z11:Z34,"〇")>0,"1"," ") | AA37: =IF(COUNTIF(AA11:AA34,"〇")>0,"1"," ") | AB37: =IF(COUNTIF(AB11:AB34,"〇")>0,"1"," ") | AC37: =COUNTA(AC11:AC34) -> 0 | AD37: =COUNTA(AD11:AD34) -> 0 | AE37: =COUNTA(AE11:AE34) -> 0 | AF37: =COUNTA(AF11:AF34) -> 1 | AG37: =COUNTA(AG11:AG34) -> 0 | AH37: =COUNTA(AH11:AH34) -> 0 | AI37: =COUNTA(AI11:AI34) -> 0 | AJ37: =COUNTA(AJ11:AJ34) -> 2
K39: 所見
K43: 注1：誤記入防止のため、当該変状区分以外のセルは灰色表示とすること。
K44: 注2：応急措置を実施した場合は、その詳細を備考に記載すること。
K45: 注3：外力は覆工スパン単位、材質劣化、漏水は変状単位とすること。
B46: （以下、印刷不要）
B47: ※1：本シートは作成洩れのないよう、変状が無くても全スパン分を作成すること．また変状展開図は、様式D-2-1、様式D-2-1'と同じものを覆工スパン単位で拡大し掲載すること。
B48: ※2：変状番号は、様式D-1-1で記入した番号と整合させること。
B49: ※3：対策区分毎の変状発生規模は、様式D-1-1に記載した面積を記入すること（ただし外力はスパン単位で評価するため変状の有無の欄には面積でなく○を記入し、備考欄に状況を記入）。
B50: ※4：本様式は覆工スパン毎に作成すること。
B51: ※5：変状数が多い場合は、適時、表の行を増やして覆工スパン毎に1枚のシートに収めること。また、1スパン１シートとし、スパンに合わせてシートを追加すること。
B52: ※6：対策区分毎の変状の発生範囲の規模とは，対策を行う際に参考となる変状の長さや面積であり，変状を包含する長さや面積とする。
B53: ※7：対策範囲を示す発生範囲の規模を面積で記入することが妥当ではない変状は、発生範囲の規模の欄に○を記入するとともに、備考に内容を記入すること。

Sheet 様式D-3_S007
AU1: 様式F用→ | AV1: 覆工スパン | AY1: 変 状 数 | BK1: 変 状 規 模
AV2: 番号 | AW2: 延長 （ｍ） | AX2: 健全性の診断の 区分 | AY2: 対策区分の判定 | BK2: 覆工スパン長（ｍ） | BO2: 変状の発生範囲の規模（㎡）
B3: ■定期点検記録様式 覆工スパン別変状詳細展開図 【様式D-3】 | AY3: 外力 | BC3: 材質劣化 | BG3: 漏水 | BK3: 外力 注2 | BO3: 材質劣化 | BS3: 漏水
B4: フリガナ | E4: ヒエバラダイサンズイドウ | K4: 路線名 | N4: 国道187号 | T4: 定期点検実施者 | Y4: 株式会社エイト日本技術開発 | AG4: 定期点検年月日 | AK4: 45587 | AY4: Ⅳ | AZ4: Ⅲ | BA4: Ⅱa | BB4: Ⅱb | BC4: Ⅳ | BD4: Ⅲ | BE4: Ⅱa | BF4: Ⅱb | BG4: Ⅳ | BH4: Ⅲ | BI4: Ⅱa | BJ4: Ⅱb | BK4: Ⅳ | BL4: Ⅲ | BM4: Ⅱa | BN4: Ⅱb | BO4: Ⅳ | BP4: Ⅲ | BQ4: Ⅱa | BR4: Ⅱb | BS4: Ⅳ | BT4: Ⅲ | BU4: Ⅱa | BV4: Ⅱb
B5: 名 称 | E5: 稗原第3隧道 | K5: 管理者名 | N5: 山口県岩国土木建築事務所 | Y5: 岡根 三千夫 | AV5: =N7 -> 7 | AW5: =R7 -> 9 | AX5: =AM35 -> Ⅱ | AY5: =Y37 | AZ5: =Z37 | BA5: =AA37 | BB5: =AB37 | BC5: =AC37 -> 0 | BD5: =AD37 -> 0 | BE5: =AE37 -> 0 | BF5: =AF37 -> 2 | ... BJ5: =AJ37 -> 5 | BK5: =IF(Y37>0,R7,"") -> 9 | BL5: =IF(Y37>0,"",IF(Z37>0,R7,"")) | BM5: =IF(Y37+Z37>0,"",IF(AA37>0,R7,"")) -> #VALUE! | BN5: =IF(Y37+Z37+AA37>0,"",IF(AB37>0,R7,"")) -> #VALUE! | BO5: =AC35 -> 0 | BP5: =AD35 -> 0 | BQ5: =AE35 -> 0 | BR5: =AF35 -> 0.45056 | BS5: =AG35 -> 0 | BT5: =AH35 -> 0 | BU5: =AI35 -> 0 | BV5: =AJ35 -> 33.33
B6: スパン別変状展開図 | K6: 【健全性判定集計表】
K7: スパン番号 | N7: 7 | P7: スパン長 | R7: 9 | U7: 前回定期点検時の判定 | W7: 応急措置前の判定 | Y7: 対策区分毎の 変状の有無 | AC7: 対策区分毎の変状の発生範囲の規模(㎡) | AK7: 備考注2
K8: 変状番号 | L8: 対象箇所 | N8: 部位区分 | P8: 変状区分 | R8: 変状種類
Y9: 外力注1 | AC9: 材質劣化注1 | AG9: 漏水注1
Y10: Ⅳ | Z10: Ⅲ | AA10: Ⅱa | AB10: Ⅱb | AC10: Ⅳ | AD10: Ⅲ | AE10: Ⅱa | AF10: Ⅱb | AG10: Ⅳ | AH10: Ⅲ | AI10: Ⅱa | AJ10: Ⅱb
K11: 1 | L11: 覆工 | N11: アーチ（左側） | P11: 漏水 | R11: 漏水 | U11: － | W11: － | AJ11: 5.11 | AQ11: =IF(P11="材質劣化",2,IF(P11="漏水",3,1)) -> 3 | AS11: =IF(Y11<>"",1,"")
K12: 2 | L12: 覆工 | N12: アーチ（左側） | P12: 漏水 | R12: 漏水 | U12: － | W12: － | AJ12: 4.5 | AQ12: =IF(P12="材質劣化",2,IF(P12="漏水",3,1)) -> 3
K13: 3 | L13: 覆工 | N13: アーチ（左側） | P13: 漏水 | R13: 漏水 | U13: Ⅱb | W13: － | AJ13: 10.37 | AQ13: =IF(P13="材質劣化",2,IF(P13="漏水",3,1)) -> 3
K14: 4 | L14: 覆工 | N14: 水平打ち継ぎ目（左側） | P14: 漏水 | R14: 漏水 | U14: Ⅱb | W14: － | AQ14: =IF(P14="材質劣化",2,IF(P14="漏水",3,1)) -> 3
K15: 5 | L15: 覆工 | N15: アーチ（左側） | P15: 材質劣化 | R15: 圧ざ、ひび割れ | U15: Ⅱb | W15: － | AF15: 0.00056 | AQ15: =IF(P15="材質劣化",2,IF(P15="漏水",3,1)) -> 2
K16: 6 | L16: 覆工 | N16: アーチ（右側） | P16: 漏水 | R16: 漏水 | U16: － | W16: － | AJ16: 10.65 | AQ16: =IF(P16="材質劣化",2,IF(P16="漏水",3,1)) -> 3
K17: 7 | L17: 覆工 | N17: 横断目地（右側） | P17: 漏水 | R17: 漏水 | U17: Ⅱb | W17: － | AJ17: 2.7 | AQ17: =IF(P17="材質劣化",2,IF(P17="漏水",3,1)) -> 3
K18: 8 | L18: 覆工 | N18: 水平打ち継ぎ目（右側） | P18: 材質劣化 | R18: うき・はく離 | U18: Ⅱb | W18: － | AF18: 0.45 | AQ18: =IF(P18="材質劣化",2,IF(P18="漏水",3,1)) -> 2
AQ19: =IF(P19="材質劣化",2,IF(P19="漏水",3,1)) -> 1
AQ20: =IF(P20="材質劣化",2,IF(P20="漏水",3,1)) -> 1
AQ21: =IF(P21="材質劣化",2,IF(P21="漏水",3,1)) -> 1
AQ22: =IF(P22="材質劣化",2,IF(P22="漏水",3,1)) -> 1
AQ23: =IF(P23="材質劣化",2,IF(P23="漏水",3,1)) -> 1
AQ24: =IF(P24="材質劣化",2,IF(P24="漏水",3,1)) -> 1
AQ25: =IF(P25="材質劣化",2,IF(P25="漏水",3,1)) -> 1
AQ26: =IF(P26="材質劣化",2,IF(P26="漏水",3,1)) -> 1
AQ27: =IF(P27="材質劣化",2,IF(P27="漏水",3,1)) -> 1
AQ28: =IF(P30="材質劣化",2,IF(P30="漏水",3,1)) -> 1
AQ29: =IF(P34="材質劣化",2,IF(P34="漏水",3,1)) -> 1
AQ30: =IF(P30="材質劣化",2,IF(P30="漏水",3,1)) -> 1
AQ31: =IF(P33="材質劣化",2,IF(P33="漏水",3,1)) -> 1
AQ32: =IF(P37="材質劣化",2,IF(P37="漏水",3,1)) -> 1
AQ33: =IF(P33="材質劣化",2,IF(P33="漏水",3,1)) -> 1
AQ34: =IF(P36="材質劣化",2,IF(P36="漏水",3,1)) -> 1
K35: 集計 判定 診断 | L35: 変状の発生規模合計(㎡) | Y35: － | AC35: =SUM(AC11:AC34) -> 0 | AD35: =SUM(AD11:AD34) -> 0 | AE35: =SUM(AE11:AE34) -> 0 | AF35: =SUM(AF11:AF34) -> 0.45056 | AG35: =SUM(AG11:AG34) -> 0 | AH35: =SUM(AH11:AH34) -> 0 | AI35: =SUM(AI11:AI34) -> 0 | AJ35: =SUM(AJ11:AJ34) -> 33.33 | AK35: 覆工スパン単位の 健全性の 診断の区分 | AM35: Ⅱ
L36: 対策区分の 判定結果 | O36: 対策区分毎の変状数注3 | Y36: Ⅳ | Z36: Ⅲ | AA36: Ⅱa | AB36: Ⅱb | AC36: Ⅳ | AD36: Ⅲ | AE36: Ⅱa | AF36: Ⅱb | AG36: Ⅳ | AH36: Ⅲ | AI36: Ⅱa | AJ36: Ⅱb
Y37: =IF(COUNTIF(Y11:Y34,"〇")>0,"1"," ") | Z37: =IF(COUNTIF(Z11:Z34,"〇")>0,"1"," ") | AA37: =IF(COUNTIF(AA11:AA34,"〇")>0,"1"," ") | AB37: =IF(COUNTIF(AB11:AB34,"〇")>0,"1"," ") | AC37: =COUNTA(AC11:AC34) -> 0 | AD37: =COUNTA(AD11:AD34) -> 0 | AE37: =COUNTA(AE11:AE34) -> 0 | AF37: =COUNTA(AF11:AF34) -> 2 | AG37: =COUNTA(AG11:AG34) -> 0 | AH37: =COUNTA(AH11:AH34) -> 0 | AI37: =COUNTA(AI11:AI34) -> 0 | AJ37: =COUNTA(AJ11:AJ34) -> 5
K39: 所見
K43: 注1：誤記入防止のため、当該変状区分以外のセルは灰色表示とすること。
K44: 注2：応急措置を実施した場合は、その詳細を備考に記載すること。
K45: 注3：外力は覆工スパン単位、材質劣化、漏水は変状単位とすること。
B46: （以下、印刷不要）
B47: ※1：本シートは作成洩れのないよう、変状が無くても全スパン分を作成すること．また変状展開図は、様式D-2-1、様式D-2-1'と同じものを覆工スパン単位で拡大し掲載すること。
B48: ※2：変状番号は、様式D-1-1で記入した番号と整合させること。
B49: ※3：対策区分毎の変状発生規模は、様式D-1-1に記載した面積を記入すること（ただし外力はスパン単位で評価するため変状の有無の欄には面積でなく○を記入し、備考欄に状況を記入）。
B50: ※4：本様式は覆工スパン毎に作成すること。
B51: ※5：変状数が多い場合は、適時、表の行を増やして覆工スパン毎に1枚のシートに収めること。また、1スパン１シートとし、スパンに合わせてシートを追加すること。
B52: ※6：対策区分毎の変状の発生範囲の規模とは，対策を行う際に参考となる変状の長さや面積であり，変状を包含する長さや面積とする。
B53: ※7：対策範囲を示す発生範囲の規模を面積で記入することが妥当ではない変状は、発生範囲の規模の欄に○を記入するとともに、備考に内容を記入すること。

Sheet 様式D-3_S008
AU1: 様式F用→ | AV1: 覆工スパン | AY1: 変 状 数 | BK1: 変 状 規 模
AV2: 番号 | AW2: 延長 （ｍ） | AX2: 健全性の診断の 区分 | AY2: 対策区分の判定 | BK2: 覆工スパン長（ｍ） | BO2: 変状の発生範囲の規模（㎡）
B3: ■定期点検記録様式 覆工スパン別変状詳細展開図 【様式D-3】 | AY3: 外力 | BC3: 材質劣化 | BG3: 漏水 | BK3: 外力 注2 | BO3: 材質劣化 | BS3: 漏水
B4: フリガナ | E4: ヒエバラダイサンズイドウ | K4: 路線名 | N4: 国道187号 | T4: 定期点検実施者 | Y4: 株式会社エイト日本技術開発 | AG4: 定期点検年月日 | AK4: 45587 | AY4: Ⅳ | AZ4: Ⅲ | BA4: Ⅱa | BB4: Ⅱb | BC4: Ⅳ | BD4: Ⅲ | BE4: Ⅱa | BF4: Ⅱb | BG4: Ⅳ | BH4: Ⅲ | BI4: Ⅱa | BJ4: Ⅱb | BK4: Ⅳ | BL4: Ⅲ | BM4: Ⅱa | BN4: Ⅱb | BO4: Ⅳ | BP4: Ⅲ | BQ4: Ⅱa | BR4: Ⅱb | BS4: Ⅳ | BT4: Ⅲ | BU4: Ⅱa | BV4: Ⅱb
B5: 名 称 | E5: 稗原第3隧道 | K5: 管理者名 | N5: 山口県岩国土木建築事務所 | Y5: 岡根 三千夫 | AV5: =N7 -> 8 | AW5: =R7 -> 8.9 | AX5: =AM35 -> Ⅱ | AY5: =Y37 | AZ5: =Z37 | BA5: =AA37 | BB5: =AB37 | BC5: =AC37 -> 0 | BD5: =AD37 -> 0 | BE5: =AE37 -> 2 | BF5: =AF37 -> 5 | ... BJ5: =AJ37 -> 2 | BK5: =IF(Y37>0,R7,"") -> 8.9 | BL5: =IF(Y37>0,"",IF(Z37>0,R7,"")) | BM5: =IF(Y37+Z37>0,"",IF(AA37>0,R7,"")) -> #VALUE! | BN5: =IF(Y37+Z37+AA37>0,"",IF(AB37>0,R7,"")) -> #VALUE! | BO5: =AC35 -> 0 | BP5: =AD35 -> 0 | BQ5: =AE35 -> 0.12 | BR5: =AF35 -> 0.21162 | BS5: =AG35 -> 0 | BT5: =AH35 -> 0 | BU5: =AI35 -> 0 | BV5: =AJ35 -> 4.47
B6: スパン別変状展開図 | K6: 【健全性判定集計表】
K7: スパン番号 | N7: 8 | P7: スパン長 | R7: 8.9 | U7: 前回定期点検時の判定 | W7: 応急措置前の判定 | Y7: 対策区分毎の 変状の有無 | AC7: 対策区分毎の変状の発生範囲の規模(㎡) | AK7: 備考注2
K8: 変状番号 | L8: 対象箇所 | N8: 部位区分 | P8: 変状区分 | R8: 変状種類
Y9: 外力注1 | AC9: 材質劣化注1 | AG9: 漏水注1
Y10: Ⅳ | Z10: Ⅲ | AA10: Ⅱa | AB10: Ⅱb | AC10: Ⅳ | AD10: Ⅲ | AE10: Ⅱa | AF10: Ⅱb | AG10: Ⅳ | AH10: Ⅲ | AI10: Ⅱa | AJ10: Ⅱb
K11: 1 | L11: 覆工 | N11: 横断目地（左側） | P11: 材質劣化 | R11: 補修・補強材の破損 | U11: － | W11: － | AF11: 0.04 | AQ11: =IF(P11="材質劣化",2,IF(P11="漏水",3,1)) -> 2 | AS11: =IF(Y11<>"",1,"")
K12: 2 | L12: 覆工 | N12: 水平打ち継ぎ目（左側） | P12: 漏水 | R12: 漏水 | U12: － | W12: － | AJ12: 1.62 | AQ12: =IF(P12="材質劣化",2,IF(P12="漏水",3,1)) -> 3
K13: 3 | L13: 覆工 | N13: アーチ（左側） | P13: 漏水 | R13: 漏水 | U13: Ⅱb | W13: － | AJ13: 2.85 | AQ13: =IF(P13="材質劣化",2,IF(P13="漏水",3,1)) -> 3
K14: 4 | L14: 覆工 | N14: アーチ（左側） | P14: 材質劣化 | R14: 圧ざ、ひび割れ | U14: Ⅱb | W14: － | AF14: 0.00162 | AQ14: =IF(P14="材質劣化",2,IF(P14="漏水",3,1)) -> 2
K15: 5 | L15: 覆工 | N15: アーチ（左側） | P15: 材質劣化 | R15: 補修・補強材の破損 | U15: － | W15: － | AF15: 0.015 | AQ15: =IF(P15="材質劣化",2,IF(P15="漏水",3,1)) -> 2
K16: 6 | L16: 覆工 | N16: 横断目地（右側） | P16: 材質劣化 | R16: うき・はく離 | U16: Ⅱa | W16: － | AE16: 0.07 | AQ16: =IF(P16="材質劣化",2,IF(P16="漏水",3,1)) -> 2
K17: 7 | L17: 覆工 | N17: アーチ（右側） | P17: 材質劣化 | R17: うき・はく離 | U17: － | W17: － | AE17: 0.05 | AQ17: =IF(P17="材質劣化",2,IF(P17="漏水",3,1)) -> 2
K18: 8 | L18: 覆工 | N18: アーチ（右側） | P18: 材質劣化 | R18: 鋼材腐食 | U18: Ⅱb | W18: － | AF18: 0.015 | AQ18: =IF(P18="材質劣化",2,IF(P18="漏水",3,1)) -> 2
K19: 9 | L19: 覆工 | N19: 水平打ち継ぎ目（右側） | P19: 材質劣化 | R19: うき・はく離 | U19: Ⅱb | W19: － | AF19: 0.14 | AQ19: =IF(P19="材質劣化",2,IF(P19="漏水",3,1)) -> 2
AQ20: =IF(P20="材質劣化",2,IF(P20="漏水",3,1)) -> 1
AQ21: =IF(P21="材質劣化",2,IF(P21="漏水",3,1)) -> 1
AQ22: =IF(P22="材質劣化",2,IF(P22="漏水",3,1)) -> 1
AQ23: =IF(P23="材質劣化",2,IF(P23="漏水",3,1)) -> 1
AQ24: =IF(P24="材質劣化",2,IF(P24="漏水",3,1)) -> 1
AQ25: =IF(P25="材質劣化",2,IF(P25="漏水",3,1)) -> 1
AQ26: =IF(P26="材質劣化",2,IF(P26="漏水",3,1)) -> 1
AQ27: =IF(P27="材質劣化",2,IF(P27="漏水",3,1)) -> 1
AQ28: =IF(P30="材質劣化",2,IF(P30="漏水",3,1)) -> 1
AQ29: =IF(P34="材質劣化",2,IF(P34="漏水",3,1)) -> 1
AQ30: =IF(P30="材質劣化",2,IF(P30="漏水",3,1)) -> 1
AQ31: =IF(P33="材質劣化",2,IF(P33="漏水",3,1)) -> 1
AQ32: =IF(P37="材質劣化",2,IF(P37="漏水",3,1)) -> 1
AQ33: =IF(P33="材質劣化",2,IF(P33="漏水",3,1)) -> 1
AQ34: =IF(P36="材質劣化",2,IF(P36="漏水",3,1)) -> 1
K35: 集計 判定 診断 | L35: 変状の発生規模合計(㎡) | Y35: － | AC35: =SUM(AC11:AC34) -> 0 | AD35: =SUM(AD11:AD34) -> 0 | AE35: =SUM(AE11:AE34) -> 0.12 | AF35: =SUM(AF11:AF34) -> 0.21162 | AG35: =SUM(AG11:AG34) -> 0 | AH35: =SUM(AH11:AH34) -> 0 | AI35: =SUM(AI11:AI34) -> 0 | AJ35: =SUM(AJ11:AJ34) -> 4.47 | AK35: 覆工スパン単位の 健全性の 診断の区分 | AM35: Ⅱ
L36: 対策区分の 判定結果 | O36: 対策区分毎の変状数注3 | Y36: Ⅳ | Z36: Ⅲ | AA36: Ⅱa | AB36: Ⅱb | AC36: Ⅳ | AD36: Ⅲ | AE36: Ⅱa | AF36: Ⅱb | AG36: Ⅳ | AH36: Ⅲ | AI36: Ⅱa | AJ36: Ⅱb
Y37: =IF(COUNTIF(Y11:Y34,"〇")>0,"1"," ") | Z37: =IF(COUNTIF(Z11:Z34,"〇")>0,"1"," ") | AA37: =IF(COUNTIF(AA11:AA34,"〇")>0,"1"," ") | AB37: =IF(COUNTIF(AB11:AB34,"〇")>0,"1"," ") | AC37: =COUNTA(AC11:AC34) -> 0 | AD37: =COUNTA(AD11:AD34) -> 0 | AE37: =COUNTA(AE11:AE34) -> 2 | AF37: =COUNTA(AF11:AF34) -> 5 | AG37: =COUNTA(AG11:AG34) -> 0 | AH37: =COUNTA(AH11:AH34) -> 0 | AI37: =COUNTA(AI11:AI34) -> 0 | AJ37: =COUNTA(AJ11:AJ34) -> 2
K39: 所見
K43: 注1：誤記入防止のため、当該変状区分以外のセルは灰色表示とすること。
K44: 注2：応急措置を実施した場合は、その詳細を備考に記載すること。
K45: 注3：外力は覆工スパン単位、材質劣化、漏水は変状単位とすること。
B46: （以下、印刷不要）
B47: ※1：本シートは作成洩れのないよう、変状が無くても全スパン分を作成すること．また変状展開図は、様式D-2-1、様式D-2-1'と同じものを覆工スパン単位で拡大し掲載すること。
B48: ※2：変状番号は、様式D-1-1で記入した番号と整合させること。
B49: ※3：対策区分毎の変状発生規模は、様式D-1-1に記載した面積を記入すること（ただし外力はスパン単位で評価するため変状の有無の欄には面積でなく○を記入し、備考欄に状況を記入）。
B50: ※4：本様式は覆工スパン毎に作成すること。
B51: ※5：変状数が多い場合は、適時、表の行を増やして覆工スパン毎に1枚のシートに収めること。また、1スパン１シートとし、スパンに合わせてシートを追加すること。
B52: ※6：対策区分毎の変状の発生範囲の規模とは，対策を行う際に参考となる変状の長さや面積であり，変状を包含する長さや面積とする。
B53: ※7：対策範囲を示す発生範囲の規模を面積で記入することが妥当ではない変状は、発生範囲の規模の欄に○を記入するとともに、備考に内容を記入すること。

Sheet 様式D-3_S009
AU1: 様式F用→ | AV1: 覆工スパン | AY1: 変 状 数 | BK1: 変 状 規 模
AV2: 番号 | AW2: 延長 （ｍ） | AX2: 健全性の診断の 区分 | AY2: 対策区分の判定 | BK2: 覆工スパン長（ｍ） | BO2: 変状の発生範囲の規模（㎡）
B3: ■定期点検記録様式 覆工スパン別変状詳細展開図 【様式D-3】 | AY3: 外力 | BC3: 材質劣化 | BG3: 漏水 | BK3: 外力 注2 | BO3: 材質劣化 | BS3: 漏水
B4: フリガナ | E4: ヒエバラダイサンズイドウ | K4: 路線名 | N4: 国道187号 | T4: 定期点検実施者 | Y4: 株式会社エイト日本技術開発 | AG4: 定期点検年月日 | AK4: 45587 | AY4: Ⅳ | AZ4: Ⅲ | BA4: Ⅱa | BB4: Ⅱb | BC4: Ⅳ | BD4: Ⅲ | BE4: Ⅱa | BF4: Ⅱb | BG4: Ⅳ | BH4: Ⅲ | BI4: Ⅱa | BJ4: Ⅱb | BK4: Ⅳ | BL4: Ⅲ | BM4: Ⅱa | BN4: Ⅱb | BO4: Ⅳ | BP4: Ⅲ | BQ4: Ⅱa | BR4: Ⅱb | BS4: Ⅳ | BT4: Ⅲ | BU4: Ⅱa | BV4: Ⅱb
B5: 名 称 | E5: 稗原第3隧道 | K5: 管理者名 | N5: 山口県岩国土木建築事務所 | Y5: 岡根 三千夫 | AV5: =N7 -> 9 | AW5: =R7 -> 4 | AX5: =AM35 -> Ⅱ | AY5: =Y37 | AZ5: =Z37 | BA5: =AA37 | BB5: =AB37 | BC5: =AC37 -> 0 | BD5: =AD37 -> 0 | BE5: =AE37 -> 0 | BF5: =AF37 -> 1 | ... BJ5: =AJ37 -> 2 | BK5: =IF(Y37>0,R7,"") -> 4 | BL5: =IF(Y37>0,"",IF(Z37>0,R7,"")) | BM5: =IF(Y37+Z37>0,"",IF(AA37>0,R7,"")) -> #VALUE! | BN5: =IF(Y37+Z37+AA37>0,"",IF(AB37>0,R7,"")) -> #VALUE! | BO5: =AC35 -> 0 | BP5: =AD35 -> 0 | BQ5: =AE35 -> 0 | BR5: =AF35 -> 0.00036 | BS5: =AG35 -> 0 | BT5: =AH35 -> 0 | BU5: =AI35 -> 0 | BV5: =AJ35 -> 5.34
B6: スパン別変状展開図 | K6: 【健全性判定集計表】
K7: スパン番号 | N7: 9 | P7: スパン長 | R7: 4 | U7: 前回定期点検時の判定 | W7: 応急措置前の判定 | Y7: 対策区分毎の 変状の有無 | AC7: 対策区分毎の変状の発生範囲の規模(㎡) | AK7: 備考注2
K8: 変状番号 | L8: 対象箇所 | N8: 部位区分 | P8: 変状区分 | R8: 変状種類
Y9: 外力注1 | AC9: 材質劣化注1 | AG9: 漏水注1
Y10: Ⅳ | Z10: Ⅲ | AA10: Ⅱa | AB10: Ⅱb | AC10: Ⅳ | AD10: Ⅲ | AE10: Ⅱa | AF10: Ⅱb | AG10: Ⅳ | AH10: Ⅲ | AI10: Ⅱa | AJ10: Ⅱb
K11: 1 | L11: 覆工 | N11: アーチ（左側） | P11: 漏水 | R11: 漏水 | U11: Ⅱb | W11: － | AJ11: 2.7 | AQ11: =IF(P11="材質劣化",2,IF(P11="漏水",3,1)) -> 3 | AS11: =IF(Y11<>"",1,"")
K12: 2 | L12: 覆工 | N12: アーチ（左側） | P12: 材質劣化 | R12: 圧ざ、ひび割れ | U12: Ⅱb | W12: － | AF12: 0.00036 | AQ12: =IF(P12="材質劣化",2,IF(P12="漏水",3,1)) -> 2
K13: 3 | L13: 覆工 | N13: アーチ（右側） | P13: 漏水 | R13: 漏水 | U13: Ⅱb | W13: － | AJ13: 2.64 | AQ13: =IF(P13="材質劣化",2,IF(P13="漏水",3,1)) -> 3
K14: 4 | L14: 覆工 | N14: 側壁（右側） | P14: 漏水 | R14: 漏水 | U14: Ⅱb | W14: － | AQ14: =IF(P14="材質劣化",2,IF(P14="漏水",3,1)) -> 3
AQ15: =IF(P15="材質劣化",2,IF(P15="漏水",3,1)) -> 1
AQ16: =IF(P16="材質劣化",2,IF(P16="漏水",3,1)) -> 1
AQ17: =IF(P17="材質劣化",2,IF(P17="漏水",3,1)) -> 1
AQ18: =IF(P18="材質劣化",2,IF(P18="漏水",3,1)) -> 1
AQ19: =IF(P19="材質劣化",2,IF(P19="漏水",3,1)) -> 1
AQ20: =IF(P20="材質劣化",2,IF(P20="漏水",3,1)) -> 1
AQ21: =IF(P21="材質劣化",2,IF(P21="漏水",3,1)) -> 1
AQ22: =IF(P22="材質劣化",2,IF(P22="漏水",3,1)) -> 1
AQ23: =IF(P23="材質劣化",2,IF(P23="漏水",3,1)) -> 1
AQ24: =IF(P24="材質劣化",2,IF(P24="漏水",3,1)) -> 1
AQ25: =IF(P25="材質劣化",2,IF(P25="漏水",3,1)) -> 1
AQ26: =IF(P26="材質劣化",2,IF(P26="漏水",3,1)) -> 1
AQ27: =IF(P27="材質劣化",2,IF(P27="漏水",3,1)) -> 1
AQ28: =IF(P30="材質劣化",2,IF(P30="漏水",3,1)) -> 1
AQ29: =IF(P34="材質劣化",2,IF(P34="漏水",3,1)) -> 1
AQ30: =IF(P30="材質劣化",2,IF(P30="漏水",3,1)) -> 1
AQ31: =IF(P33="材質劣化",2,IF(P33="漏水",3,1)) -> 1
AQ32: =IF(P37="材質劣化",2,IF(P37="漏水",3,1)) -> 1
AQ33: =IF(P33="材質劣化",2,IF(P33="漏水",3,1)) -> 1
AQ34: =IF(P36="材質劣化",2,IF(P36="漏水",3,1)) -> 1
K35: 集計 判定 診断 | L35: 変状の発生規模合計(㎡) | Y35: － | AC35: =SUM(AC11:AC34) -> 0 | AD35: =SUM(AD11:AD34) -> 0 | AE35: =SUM(AE11:AE34) -> 0 | AF35: =SUM(AF11:AF34) -> 0.00036 | AG35: =SUM(AG11:AG34) -> 0 | AH35: =SUM(AH11:AH34) -> 0 | AI35: =SUM(AI11:AI34) -> 0 | AJ35: =SUM(AJ11:AJ34) -> 5.34 | AK35: 覆工スパン単位の 健全性の 診断の区分 | AM35: Ⅱ
L36: 対策区分の 判定結果 | O36: 対策区分毎の変状数注3 | Y36: Ⅳ | Z36: Ⅲ | AA36: Ⅱa | AB36: Ⅱb | AC36: Ⅳ | AD36: Ⅲ | AE36: Ⅱa | AF36: Ⅱb | AG36: Ⅳ | AH36: Ⅲ | AI36: Ⅱa | AJ36: Ⅱb
Y37: =IF(COUNTIF(Y11:Y34,"〇")>0,"1"," ") | Z37: =IF(COUNTIF(Z11:Z34,"〇")>0,"1"," ") | AA37: =IF(COUNTIF(AA11:AA34,"〇")>0,"1"," ") | AB37: =IF(COUNTIF(AB11:AB34,"〇")>0,"1"," ") | AC37: =COUNTA(AC11:AC34) -> 0 | AD37: =COUNTA(AD11:AD34) -> 0 | AE37: =COUNTA(AE11:AE34) -> 0 | AF37: =COUNTA(AF11:AF34) -> 1 | AG37: =COUNTA(AG11:AG34) -> 0 | AH37: =COUNTA(AH11:AH34) -> 0 | AI37: =COUNTA(AI11:AI34) -> 0 | AJ37: =COUNTA(AJ11:AJ34) -> 2
K39: 所見
K43: 注1：誤記入防止のため、当該変状区分以外のセルは灰色表示とすること。
K44: 注2：応急措置を実施した場合は、その詳細を備考に記載すること。
K45: 注3：外力は覆工スパン単位、材質劣化、漏水は変状単位とすること。
B46: （以下、印刷不要）
B47: ※1：本シートは作成洩れのないよう、変状が無くても全スパン分を作成すること．また変状展開図は、様式D-2-1、様式D-2-1'と同じものを覆工スパン単位で拡大し掲載すること。
B48: ※2：変状番号は、様式D-1-1で記入した番号と整合させること。
B49: ※3：対策区分毎の変状発生規模は、様式D-1-1に記載した面積を記入すること（ただし外力はスパン単位で評価するため変状の有無の欄には面積でなく○を記入し、備考欄に状況を記入）。
B50: ※4：本様式は覆工スパン毎に作成すること。
B51: ※5：変状数が多い場合は、適時、表の行を増やして覆工スパン毎に1枚のシートに収めること。また、1スパン１シートとし、スパンに合わせてシートを追加すること。
B52: ※6：対策区分毎の変状の発生範囲の規模とは，対策を行う際に参考となる変状の長さや面積であり，変状を包含する長さや面積とする。
B53: ※7：対策範囲を示す発生範囲の規模を面積で記入することが妥当ではない変状は、発生範囲の規模の欄に○を記入するとともに、備考に内容を記入すること。

Sheet 様式D-3_PE
AU1: 様式F用→ | AV1: 覆工スパン | AY1: 変 状 数 | BK1: 変 状 規 模
AV2: 番号 | AW2: 延長 （ｍ） | AX2: 健全性の診断の 区分 | AY2: 対策区分の判定 | BK2: 覆工スパン長（ｍ） | BO2: 変状の発生範囲の規模（㎡）
B3: ■定期点検記録様式 覆工スパン別変状詳細展開図 【様式D-3】 | AY3: 外力 | BC3: 材質劣化 | BG3: 漏水 | BK3: 外力 注2 | BO3: 材質劣化 | BS3: 漏水
B4: フリガナ | E4: ヒエバラダイサンズイドウ | K4: 路線名 | N4: 国道187号 | T4: 定期点検実施者 | Y4: 株式会社エイト日本技術開発 | AG4: 定期点検年月日 | AK4: 45587 | AY4: Ⅳ | AZ4: Ⅲ | BA4: Ⅱa | BB4: Ⅱb | BC4: Ⅳ | BD4: Ⅲ | BE4: Ⅱa | BF4: Ⅱb | BG4: Ⅳ | BH4: Ⅲ | BI4: Ⅱa | BJ4: Ⅱb | BK4: Ⅳ | BL4: Ⅲ | BM4: Ⅱa | BN4: Ⅱb | BO4: Ⅳ | BP4: Ⅲ | BQ4: Ⅱa | BR4: Ⅱb | BS4: Ⅳ | BT4: Ⅲ | BU4: Ⅱa | BV4: Ⅱb
B5: 名 称 | E5: 稗原第3隧道 | K5: 管理者名 | N5: 山口県岩国土木建築事務所 | Y5: 岡根 三千夫 | AV5: =N7 -> PE | AW5: =R7 -> 1 | AX5: =AM35 -> Ⅱ | AY5: =Y37 | AZ5: =Z37 | BA5: =AA37 | BB5: =AB37 | BC5: =AC37 -> 0 | BD5: =AD37 -> 0 | BE5: =AE37 -> 1 | BF5: =AF37 -> 2 | ... BJ5: =AJ37 -> 0 | BK5: =IF(Y37>0,R7,"") -> 1 | BL5: =IF(Y37>0,"",IF(Z37>0,R7,"")) | BM5: =IF(Y37+Z37>0,"",IF(AA37>0,R7,"")) -> #VALUE! | BN5: =IF(Y37+Z37+AA37>0,"",IF(AB37>0,R7,"")) -> #VALUE! | BO5: =AC35 -> 0 | BP5: =AD35 -> 0 | BQ5: =AE35 -> 0.135 | BR5: =AF35 -> 0.1208 | BS5: =AG35 -> 0 | BT5: =AH35 -> 0 | BU5: =AI35 -> 0 | BV5: =AJ35 -> 0
B6: スパン別変状展開図 | K6: 【健全性判定集計表】
K7: スパン番号 | N7: PE | P7: スパン長 | R7: 1 | U7: 前回定期点検時の判定 | W7: 応急措置前の判定 | Y7: 対策区分毎の 変状の有無 | AC7: 対策区分毎の変状の発生範囲の規模(㎡) | AK7: 備考注2
K8: 変状番号 | L8: 対象箇所 | N8: 部位区分 | P8: 変状区分 | R8: 変状種類
Y9: 外力注1 | AC9: 材質劣化注1 | AG9: 漏水注1
Y10: Ⅳ | Z10: Ⅲ | AA10: Ⅱa | AB10: Ⅱb | AC10: Ⅳ | AD10: Ⅲ | AE10: Ⅱa | AF10: Ⅱb | AG10: Ⅳ | AH10: Ⅲ | AI10: Ⅱa | AJ10: Ⅱb
K11: 1 | L11: 覆工 | N11: 側壁（左側） | P11: 材質劣化 | R11: うき・はく離 | U11: Ⅱb | W11: － | AF11: 0.12 | AQ11: =IF(P11="材質劣化",2,IF(P11="漏水",3,1)) -> 2 | AS11: =IF(Y11<>"",1,"")
K12: 2 | L12: 覆工 | N12: アーチ（左側） | P12: 材質劣化 | R12: 圧ざ、ひび割れ | U12: Ⅱb | W12: － | AF12: 0.0008 | AQ12: =IF(P12="材質劣化",2,IF(P12="漏水",3,1)) -> 2
K13: 3 | L13: 路面 | N13: 車道 | P13: 材質劣化 | R13: 補修・補強材の破損 | U13: － | W13: － | AQ13: =IF(P13="材質劣化",2,IF(P13="漏水",3,1)) -> 2
K14: 4 | L14: 路面 | N14: 車道 | P14: 材質劣化 | R14: 補修・補強材の破損 | U14: Ⅱb | W14: － | AQ14: =IF(P14="材質劣化",2,IF(P14="漏水",3,1)) -> 2
K15: 5 | L15: 坑門 | N15: 面壁・妻壁等 | P15: 材質劣化 | R15: うき・はく離 | U15: Ⅱb | W15: － | AE15: 0.135 | AQ15: =IF(P15="材質劣化",2,IF(P15="漏水",3,1)) -> 2
AQ16: =IF(P16="材質劣化",2,IF(P16="漏水",3,1)) -> 1
AQ17: =IF(P17="材質劣化",2,IF(P17="漏水",3,1)) -> 1
AQ18: =IF(P18="材質劣化",2,IF(P18="漏水",3,1)) -> 1
AQ19: =IF(P19="材質劣化",2,IF(P19="漏水",3,1)) -> 1
AQ20: =IF(P20="材質劣化",2,IF(P20="漏水",3,1)) -> 1
AQ21: =IF(P21="材質劣化",2,IF(P21="漏水",3,1)) -> 1
AQ22: =IF(P22="材質劣化",2,IF(P22="漏水",3,1)) -> 1
AQ23: =IF(P23="材質劣化",2,IF(P23="漏水",3,1)) -> 1
AQ24: =IF(P24="材質劣化",2,IF(P24="漏水",3,1)) -> 1
AQ25: =IF(P25="材質劣化",2,IF(P25="漏水",3,1)) -> 1
AQ26: =IF(P26="材質劣化",2,IF(P26="漏水",3,1)) -> 1
AQ27: =IF(P27="材質劣化",2,IF(P27="漏水",3,1)) -> 1
AQ28: =IF(P30="材質劣化",2,IF(P30="漏水",3,1)) -> 1
AQ29: =IF(P34="材質劣化",2,IF(P34="漏水",3,1)) -> 1
AQ30: =IF(P30="材質劣化",2,IF(P30="漏水",3,1)) -> 1
AQ31: =IF(P33="材質劣化",2,IF(P33="漏水",3,1)) -> 1
AQ32: =IF(P37="材質劣化",2,IF(P37="漏水",3,1)) -> 1
AQ33: =IF(P33="材質劣化",2,IF(P33="漏水",3,1)) -> 1
AQ34: =IF(P36="材質劣化",2,IF(P36="漏水",3,1)) -> 1
K35: 集計 判定 診断 | L35: 変状の発生規模合計(㎡) | Y35: － | AC35: =SUM(AC11:AC34) -> 0 | AD35: =SUM(AD11:AD34) -> 0 | AE35: =SUM(AE11:AE34) -> 0.135 | AF35: =SUM(AF11:AF34) -> 0.1208 | AG35: =SUM(AG11:AG34) -> 0 | AH35: =SUM(AH11:AH34) -> 0 | AI35: =SUM(AI11:AI34) -> 0 | AJ35: =SUM(AJ11:AJ34) -> 0 | AK35: 覆工スパン単位の 健全性の 診断の区分 | AM35: Ⅱ
L36: 対策区分の 判定結果 | O36: 対策区分毎の変状数注3 | Y36: Ⅳ | Z36: Ⅲ | AA36: Ⅱa | AB36: Ⅱb | AC36: Ⅳ | AD36: Ⅲ | AE36: Ⅱa | AF36: Ⅱb | AG36: Ⅳ | AH36: Ⅲ | AI36: Ⅱa | AJ36: Ⅱb
Y37: =IF(COUNTIF(Y11:Y34,"〇")>0,"1"," ") | Z37: =IF(COUNTIF(Z11:Z34,"〇")>0,"1"," ") | AA37: =IF(COUNTIF(AA11:AA34,"〇")>0,"1"," ") | AB37: =IF(COUNTIF(AB11:AB34,"〇")>0,"1"," ") | AC37: =COUNTA(AC11:AC34) -> 0 | AD37: =COUNTA(AD11:AD34) -> 0 | AE37: =COUNTA(AE11:AE34) -> 1 | AF37: =COUNTA(AF11:AF34) -> 2 | AG37: =COUNTA(AG11:AG34) -> 0 | AH37: =COUNTA(AH11:AH34) -> 0 | AI37: =COUNTA(AI11:AI34) -> 0 | AJ37: =COUNTA(AJ11:AJ34) -> 0
K39: 所見
K43: 注1：誤記入防止のため、当該変状区分以外のセルは灰色表示とすること。
K44: 注2：応急措置を実施した場合は、その詳細を備考に記載すること。
K45: 注3：外力は覆工スパン単位、材質劣化、漏水は変状単位とすること。
B46: （以下、印刷不要）
B47: ※1：本シートは作成洩れのないよう、変状が無くても全スパン分を作成すること．また変状展開図は、様式D-2-1、様式D-2-1'と同じものを覆工スパン単位で拡大し掲載すること。
B48: ※2：変状番号は、様式D-1-1で記入した番号と整合させること。
B49: ※3：対策区分毎の変状発生規模は、様式D-1-1に記載した面積を記入すること（ただし外力はスパン単位で評価するため変状の有無の欄には面積でなく○を記入し、備考欄に状況を記入）。
B50: ※4：本様式は覆工スパン毎に作成すること。
B51: ※5：変状数が多い場合は、適時、表の行を増やして覆工スパン毎に1枚のシートに収めること。また、1スパン１シートとし、スパンに合わせてシートを追加すること。
B52: ※6：対策区分毎の変状の発生範囲の規模とは，対策を行う際に参考となる変状の長さや面積であり，変状を包含する長さや面積とする。
B53: ※7：対策範囲を示す発生範囲の規模を面積で記入することが妥当ではない変状は、発生範囲の規模の欄に○を記入するとともに、備考に内容を記入すること。

Sheet 様式E
B2: ■定期点検記録様式 近接目視による状態の把握が不可能な箇所 【様式E】
B3: フリガナ | F3: ヒエバラダイサンズイドウ | U3: 路 線 名 | Z3: 国道187号 | AI3: 定期点検実施者 | AO3: 株式会社エイト日本技術開発 | AW3: 定期点検年月日 | BC3: 45587
B4: 名 称 | F4: 稗原第3隧道 | U4: 管理者名 | Z4: 岩国土木建築事務所 | AO4: 岡根 三千夫
B5: 覆工スパン 番号 | H5: 対象箇所 | P5: 不可能な理由 | AN5: 対応策
D20: 注）近接目視又は打音、触診ができない箇所を記載する。現状の評価、日常の維持管理での注意点を記載する。
D21: ※ 数が多い場合は、適時、表の行を増やすこと。

Sheet 様式F 
B1: ■定期点検記録様式 覆工スパン毎の変状数・変状規模の集計 【様式F】
B2: フリガナ | F2: ヒエバラダイサンズイドウ | L2: 路線名 | O2: 国道187号 | T2: 定期点検実施者 | V2: 株式会社エイト日本技術開発 | Y2: 定期点検 年月日 | Z2: 45587
B3: 名 称 | F3: 稗原第3隧道 | L3: 管理者名 | O3: 山口県岩国土木建築事務所 | V3: 岡根 三千夫
B5: 【覆工スパン毎の変状数, 変状規模】
B6: 覆工スパン | E6: 変 状 数 | Q6: 変 状 規 模
B7: 番号 | C7: 延長 （ｍ） | D7: 健全性の診断の 区分 | E7: 対策区分の判定注1 | Q7: 覆工スパン長（ｍ） | U7: 変状の発生範囲の規模（㎡）
E8: 外力 | I8: 材質劣化 | M8: 漏水 | Q8: 外力 注2 | U8: 材質劣化 | Y8: 漏水
E9: Ⅳ | F9: Ⅲ | G9: Ⅱa | H9: Ⅱb | I9: Ⅳ | J9: Ⅲ | K9: Ⅱa | L9: Ⅱb | M9: Ⅳ | N9: Ⅲ | O9: Ⅱa | P9: Ⅱb | Q9: Ⅳ | R9: Ⅲ | S9: Ⅱa | T9: Ⅱb | U9: Ⅳ | V9: Ⅲ | W9: Ⅱa | X9: Ⅱb | Y9: Ⅳ | Z9: Ⅲ | AA9: Ⅱa | AB9: Ⅱb
B10: PS | C10: 2.2 | D10: Ⅱ | E10: 0 | F10: 0 | G10: 0 | H10: 0 | I10: 0 | J10: 0 | K10: 2 | L10: 3 | M10: 0 | N10: 0 | O10: 0 | P10: 0 | Q10: 0 | R10: 0 | S10: 0 | T10: 0 | U10: 0 | V10: 0 | W10: 0.3 | X10: 1.1387 | Y10: 0 | Z10: 0 | AA10: 0 | AB10: 0
B11: 1 | C11: 6 | D11: Ⅱ | E11: 0 | F11: 0 | G11: 0 | H11: 0 | I11: 0 | J11: 0 | K11: 0 | L11: 7 | M11: 0 | N11: 0 | O11: 0 | P11: 2 | Q11: 0 | R11: 0 | S11: 0 | T11: 0 | U11: 0 | V11: 0 | W11: 0 | X11: 0.95392 | Y11: 0 | Z11: 0 | AA11: 0 | AB11: 18.75
B12: 2 | C12: 10.4 | D12: Ⅱ | E12: 0 | F12: 0 | G12: 0 | H12: 0 | I12: 0 | J12: 0 | K12: 0 | L12: 5 | M12: 0 | N12: 0 | O12: 0 | P12: 4 | Q12: 0 | R12: 0 | S12: 0 | T12: 0 | U12: 0 | V12: 0 | W12: 0 | X12: 0.745 | Y12: 0 | Z12: 0 | AA12: 0 | AB12: 34.66
B13: 3 | C13: 9 | D13: Ⅱ | E13: 0 | F13: 0 | G13: 0 | H13: 0 | I13: 0 | J13: 0 | K13: 0 | L13: 4 | M13: 0 | N13: 0 | O13: 0 | P13: 4 | Q13: 0 | R13: 0 | S13: 0 | T13: 0 | U13: 0 | V13: 0 | W13: 0 | X13: 0.2869 | Y13: 0 | Z13: 0 | AA13: 0 | AB13: 17.73
B14: 4 | C14: 9 | D14: Ⅱ | E14: 0 | F14: 0 | G14: 0 | H14: 0 | I14: 0 | J14: 0 | K14: 2 | L14: 3 | M14: 0 | N14: 0 | O14: 2 | P14: 2 | Q14: 0 | R14: 0 | S14: 0 | T14: 0 | U14: 0 | V14: 0 | W14: 0.13 | X14: 0.8909 | Y14: 0 | Z14: 0 | AA14: 94.88 | AB14: 10.95
B15: 5 | C15: 10.5 | D15: Ⅲ | E15: 0 | F15: 0 | G15: 0 | H15: 0 | I15: 0 | J15: 1 | K15: 4 | L15: 5 | M15: 0 | N15: 0 | O15: 0 | P15: 9 | Q15: 0 | R15: 0 | S15: 0 | T15: 0 | U15: 0 | V15: 0.28 | W15: 0.45 | X15: 5.45 | Y15: 0 | Z15: 0 | AA15: 0 | AB15: 72.95
B16: 6 | C16: 6 | D16: Ⅱ | E16: 0 | F16: 0 | G16: 0 | H16: 0 | I16: 0 | J16: 0 | K16: 0 | L16: 1 | M16: 0 | N16: 0 | O16: 0 | P16: 2 | Q16: 0 | R16: 0 | S16: 0 | T16: 0 | U16: 0 | V16: 0 | W16: 0 | X16: 0.02 | Y16: 0 | Z16: 0 | AA16: 0 | AB16: 10.66
B17: 7 | C17: 9 | D17: Ⅱ | E17: 0 | F17: 0 | G17: 0 | H17: 0 | I17: 0 | J17: 0 | K17: 0 | L17: 2 | M17: 0 | N17: 0 | O17: 0 | P17: 5 | Q17: 0 | R17: 0 | S17: 0 | T17: 0 | U17: 0 | V17: 0 | W17: 0 | X17: 0.45056 | Y17: 0 | Z17: 0 | AA17: 0 | AB17: 33.33
B18: 8 | C18: 8.9 | D18: Ⅱ | E18: 0 | F18: 0 | G18: 0 | H18: 0 | I18: 0 | J18: 0 | K18: 2 | L18: 5 | M18: 0 | N18: 0 | O18: 0 | P18: 2 | Q18: 0 | R18: 0 | S18: 0 | T18: 0 | U18: 0 | V18: 0 | W18: 0.12 | X18: 0.21162 | Y18: 0 | Z18: 0 | AA18: 0 | AB18: 4.47
B19: 9 | C19: 3.95 | D19: Ⅱ | E19: 0 | F19: 0 | G19: 0 | H19: 0 | I19: 0 | J19: 0 | K19: 0 | L19: 1 | M19: 0 | N19: 0 | O19: 0 | P19: 2 | Q19: 0 | R19: 0 | S19: 0 | T19: 0 | U19: 0 | V19: 0 | W19: 0 | X19: 0.00036 | Y19: 0 | Z19: 0 | AA19: 0 | AB19: 5.34
B20: PE | C20: 1 | D20: Ⅱ | E20: 0 | F20: 0 | G20: 0 | H20: 0 | I20: 0 | J20: 0 | K20: 1 | L20: 2 | M20: 0 | N20: 0 | O20: 0 | P20: 0 | Q20: 0 | R20: 0 | S20: 0 | T20: 0 | U20: 0 | V20: 0 | W20: 0.135 | X20: 0.1208 | Y20: 0 | Z20: 0 | AA20: 0 | AB20: 0
B44: 計 | E44: =SUM(E9:E43) -> 0 | F44: =SUM(F9:F43) -> 0 | G44: =SUM(G9:G43) -> 0 | H44: =SUM(H9:H43) -> 0 | I44: =SUM(I9:I43) -> 0 | J44: =SUM(J9:J43) -> 1 | K44: =SUM(K9:K43) -> 11 | L44: =SUM(L9:L43) -> 38 | ... AB44: =SUM(AB9:AB43) -> 208.84
G45: =G44+H44 -> 0 | K45: =K44+L44 -> 49 | O45: =O44+P44 -> 34
B46: 注１：外力は覆工スパン単位で診断するため、覆工スパンの中で最も評価の厳しい対策区分の判定の区分欄にのみスパン数1を、材質劣化、漏水はそれぞれの対策区分に変状数を記入すること。
B47: 注２：外力は覆工スパン単位で診断するため、覆工スパンの中で最も評価の厳しい対策区分の判定の区分欄にのみスパン長を記入すること。
B48: ※１：本様式は様式D‐3の集計結果を掲載すること。
B49: ※２：覆工スパン数が多い場合は、適時、表の行を増やしてトンネル毎に1枚のシートに収めること。
B50: ※３：本様式の集計結果に基づいて、様式Bのトンネル本体工における変状区分毎の対策区分の箇所を記載する。

Sheet 様式G
B2: ■定期点検記録様式 健全性の診断の区分に関する所見【様式G】 | U2: 施設ID | X2: 34.29478,131.94625
B3: フリガナ | E3: ヒエバラダイサンズイドウ | I3: 国道187号 | L3: 国道187号 | O3: 定期点検実施者 | R3: 株式会社エイト日本技術開発 | U3: 定期点検年月日 | X3: 45587
B4: 名 称 | E4: 稗原第3隧道 | I4: 管理者名 | L4: 山口県岩国土木建築事務所 | R4: 岡根 三千夫
B5: 道路トンネルの健全性の診断の区分の所見
B6: １． 変状・異常の内容と部位 ・漏水、うき・はく離主体で横断目地、水平打ち継目に発生している。 ２．変状等の原因（推定） ・1967年の施工であり、木製支保工から矢板工法への過渡期である。覆工スパン長は6～10.5mで上半先進工法で施工されたと想定される。連続した生コンの打設が困難であり、打ち継目が生じ、そこから漏水が生じている。また、防水シートがないため、地山湧水が主に水平打ち継目から漏水となって生じている。横断目地は突合せ目地であり、長年のコンクリートの膨張収縮でうきが生じている。 ３．施設の現状と次回定期点検まで及び将来における構造物の状態（推定） ■構造物としての安全性や安定 ・トンネル全線にわたり極端な偏圧地形である。それに起因する外力への対策かは不明であるが、トンネル一般部の山側に多数のロックボルト、アンカー工が施工されている（施工年次不明）。周辺地山は良好な砂岩泥岩混在層であるが、偏圧が作用している可能性が高く、必ずしも安定しているとはいえない。三次元の変状解析では外力等による変形は認められていない。 ■道路利用者被害の発生の可能性 ・経年によるうきの進行に伴う剥落、漏水の路面滞水や凍結などの可能性がある。 ■特定事象との関連性 ・起終点両坑口周辺は基岩盤である砂岩泥岩類が広く露頭しており、斜面は急勾配で安定している。偏圧地形のため土被りは全体的に小さい。地すべり、膨張性地山には該当せず、有害水も認められない。 ■その他の変状の状態 ・漏水対策の補修材（線導水工）が経年劣化により再漏水している。 ・漏水量は降雨と連動しており、まとまった降雨後は漏水量が増加し、滴水となって車道に滞水している箇所もある。 ・路側排水工は目詰まりし、降雨時には車道にオーバーフローすることもある。 ・線導水工沿いのうきが顕著であり、漏水により劣化が進行している可能性が高い。 ４．措置の必要性の判断に関わる事項 ・破損した線導水工は進行の状態を確認しながら周辺のうき・はく離と併せて対策することが望ましい。 ・漏水が一部車道へ流出しており、冬季には凍結する恐れがあるため、漏水対策工等の措置が必要な状態である。 ・路側排水工は速やかに清掃し適切な排水機能の回復が必要である。 ５．その他、次回定期点検への引継ぎ事項 ・漏水量を把握するため、降雨後の点検が望ましい。路面の滞水を入念に確認する必要がある。横断目地部のうきは打音検査にて状態を詳細に把握すること。線導水工の劣化による再漏水箇所が多いため、継続して状態把握に努めること。 ・偏圧に起因する変状が新たに生じていないか、既往の変状が拡大していないか、特にアンカー施工箇所周辺の状態把握に努めること。

Sheet (参考)リスト
B4: 様式A～B
B5: トンネルの分類 | C5: トンネル工法 | D5: 自専道or一般道 | E5: 緊急輸送路 | F5: 代替路
B6: 陸上トンネル（掘進工法） | C6: 山岳トンネル工法（NATM） | D6: 自専道 | E6: 一次 | F6: 有
B7: 陸上トンネル（開削工法） | C7: 矢板工法 | D7: 一般道 | E7: 二次 | F7: 無
B8: 陸上トンネル（その他） | C8: 開削工法 | E8: 三次
B9: 水底トンネル（掘進工法） | C9: シールド工法 | E9: 市町村指定
B10: 水底トンネル（沈埋工法） | C10: その他 | E10: 指定なし
B11: 水底トンネル（開削工法） | C11: 不明
B12: 水底トンネル（その他）
B14: 様式C-1-1(本体工)、C-2、D-1-1、D-3
B15: 対象箇所 | C15: 部位区分 | D15: 変状区分 | E15: 変状種類 | F15: 対策区分 | G15: 健全性 | H15: 調査の要否 | I15: 措置の要否 | J15: 実施有無
B16: 覆工 | C16: アーチ（右側） | D16: 外力 | E16: 圧ざ、ひび割れ | F16: Ⅰ | G16: Ⅰ | H16: 要 | I16: 要監視 | J16: 未
B17: 坑門 | C17: アーチ（左側） | D17: 材質劣化 | E17: うき・はく離 | F17: Ⅱa | G17: Ⅱ | H17: 否 | I17: 要対策 | J17: 済
B18: 内装板 | C18: アーチ（天端） | D18: 漏水 | E18: 鋼材腐食 | F18: Ⅱb | G18: Ⅲ | I18: 否 | J18: 継続
B19: 天井板 | C19: アーチ（全周） | E19: 変形・移動 | F19: Ⅲ | G19: Ⅳ
B20: 路面 | C20: 側壁（右側） | E20: 沈下 | F20: Ⅳ | G20: －
B21: その他 | C21: 側壁（左側） | E21: 隆起 | F21: －
C22: 横断目地（右側） | E22: 巻厚の不足または減少、背面空洞
C23: 横断目地（左側） | E23: 補修・補強材の破損
C24: 横断目地（天端） | E24: 漏水
C25: 横断目地（全周） | E25: 滞水
C26: 水平打ち継ぎ目（右側） | E26: 土砂流出
C27: 水平打ち継ぎ目（左側） | E27: その他
C28: 面壁・妻壁等
C29: その他
C31: 面壁・妻壁等
C32: その他
C34: 側壁
C35: その他
C37: 車道側
C38: ダクト側
C39: その他
C41: 車道
C42: 歩道
C43: 監査歩路
... C47: その他
B50: 様式C-1-2（附属物）、D-1-2
B51: 施設の内訳 | C51: 対象箇所 | D51: 部位区分 | E51: 異常の種類 | F51: 異常判定区分 | G51: 実施有無
B52: 照明施設 | C52: 灯具 | D52: 附属物本体 | E52: 破断 | F52: ○ | G52: 未
B53: 換気施設 | C53: ケーブル本体 | D53: 取付部材 | E53: 緩み、脱落 | F53: × | G53: 済
B54: 非常用施設 | C54: ケーブル本体以外 | D54: ボルト・ナット，アンカー類 | E54: 亀裂 | G54: 継続
B55: その他施設 | E55: 腐食
C56: ジェットファン | E56: 変形，欠損
C57: VI計 | E57: がたつき
C58: CO計 | E58: その他
C59: 風向風速計
C60: その他
C62: 通話型通報設備
C63: 操作型通報設備
C64: 自動通報設備
C65: 非常警報設備
C66: 点 滅 灯
C67: 音信号発生器
C68: 消 火 器
C69: 消火栓設備
C70: 誘導表示施設
C71: 避難情報提供設備
... C83: その他
