Workbook
Name その他: '(参考)リスト'!$C$47
Name その他施設: '[1](参考)リスト'!#REF!
Name その他施設: '(参考)リスト'!$C$79:$C$83
Name 換気施設: '[1](参考)リスト'!#REF!
Name 換気施設: '(参考)リスト'!$C$56:$C$60
Name 坑門: '(参考)リスト'!$C$31:$C$32
Name 照明施設: '[1](参考)リスト'!#REF!
Name 照明施設: '(参考)リスト'!$C$52:$C$54
Name 対象箇所: [2]!テーブル1[対象箇所]
Name 天井板: '(参考)リスト'!$C$37:$C$39
Name 内装板: '(参考)リスト'!$C$34:$C$35
Name 非常用施設: '[1](参考)リスト'!#REF!
Name 非常用施設: '(参考)リスト'!$C$62:$C$77
Name 覆工: '(参考)リスト'!$C$16:$C$29
Name 路面: '(参考)リスト'!$C$41:$C$45

Sheet 点検様式作成フロー
A1: 点検様式作成フロ-
A3: 作成フロー図 | H3: 点検調書作成手順
H4: ①様式A-1～A-3（トンネル台帳）
H5: トンネル点検の実施にあたっては，現場点検作業に先行してトンネル情報を収集する。トンネル台帳（様式Ａ－1～様式Ａ－3）はトンネル完成後に作成され，維持管理の段階で引き継がれるが，関連資料等を確認したうえで，追加情報があれば必要に応じて追記することが望ましい。
H9: ②様式D-2-1、様式D-2-1´
H10: 現場点検作業を実施し，近接目視点検で確認した変状状況や補修履歴を忠実に変状展開図に転記する。
H12: ③様式D-1-1、様式D-1-2
H13: 変状展開図や撮影した写真等をもとに，対象トンネルの対策区分を決定し，対策区分がⅡ～Ⅳの変状および異常判定区分「×」を抽出し，写真台帳を作成する。
H16: ④様式B
H17: 写真台帳の作成と同時に，トンネルの構造を展開した位置図に変状写真位置を記録する。
H19: ⑤様式D-3
H20: 変状展開図ならびに写真台帳をもとに覆工スパンごとの変状展開図を作成し，変状発生状況をとりまとめる。
H22: ⑥様式E
H23: 近接目視または打音検査，触診ができていない箇所および近接目視によらない方法を講じた場所に対する調査結果を記録する。
... H33: すること。 ※各ファイルとも（参考）リストのシートを付けて保存すること。

Sheet 変状面積算出方法
A1: 変状面積算出方法
A26: 注1）外力による変状：ひび割れや圧ざの場合は変状の寸法を記録する。
A27: 例）ひび割れ：長さ（L）×最大ひび割れ幅（t）を記録する。 変形，移動，沈下：数値的な記載が可能な場合のみ記載する。
A28: 注2）材料劣化による：打音異常
A29: 例）うき，はく離（閉合ひび割れ）：変状範囲を包括する寸法（L×W） うき，はく離（ひび割れ沿い）：打音異常箇所を包括する寸法（L×W） 鋼材腐食（鉄筋腐食）：一括した対策が適当と考えられる範囲を包括する寸法（L×W）
A30: 注3）漏水による変状：漏水発生範囲を包括し，垂れ下がりの可能性がある側壁下端まで含めた寸法を，L×Wで記録する。打継ぎ目地沿いの 漏水については目地を跨いだ50cm幅を横幅とする。

Sheet 記入の留意点
B2: トンネルDBでは、Excelに記載された文字や数値・配置された画像を自動的に読込みデータベースへ登録します。
B3: 記録様式へ記入の留意点を下記に示します。
B5: １．記録様式への記入
C6: ➤各セルに表示されるコメントに従って、様式A-1～様式Gのシートに、点検結果（テキスト入力、選択項目）を入力してください。
C7: ➤位置図(様式B)、変状写真(様式D-1-1)、異常写真(様式D-1-2)は記入した変状写真番号等に対応した画像を間違いないように貼り付けてください。
C8: ➤列や行の挿入削除は行わず、セルの位置がずれないようにしてください。データベースへ読み取り時にずれて取り込まれてしまいます。
B11: ２．画像ファイルの配置の注意点
C12: 登録に使用可能な画像ファイルの拡張子は「jpg」「jpeg」「png」の3種類のみです。
C13: 必ず、１か所に画像１枚のみを張り付けてください。エクセルの図形などのオブジェクトは使用しないでください。
C14: 張り付けた画像はエクセルのトリミング機能を使用しないでください。あらかじめ切り抜いた画像を利用してください。
C15: ※１ 画像の左上を必ずセルの内部に含め、はみ出ないようにしてください。
C16: ※２ 図の書式設定で「セルに合わせて移動やサイズを変更しない」のモードを使用しないでください。
C32: ※３ 「挿入」→「画像」→「セルの上に配置」してください。
B41: ３．シート名の連番について
C42: １ページに記載しきれない場合は、１シート内にページを増やすのではなくシート自体をコピーしシート名の末尾を連番にしてください。
C43: 対象様式
C44: 様式B
C45: 様式D-1-1
C46: 様式D-1-2
C47: 様式D-2-1
C48: 様式D-2-1´
C49: 様式D-3_S00 ※スパン名を記載
C50: 様式G
C52: 末尾の連番の形式例
C53: 様式B(1) 様式B(2) 様式B(3)
C54: 様式B_001 様式B_002 様式B_003
... C61: で示される要領を制限するものではありません。

Sheet 様式A-1
B2: ■トンネル台帳 トンネル諸元、非常用施設諸元 【様式A-1】 | S2: 施設ID | W2: 34.29094,131.95150
B3: フリガナ | D3: (ﾋｴﾊﾞﾗﾀﾞｲｲﾁｽﾞｲﾄﾞｳ) | H3: 路線名 | J3: 一般国道187号 | P3: 管理者名 | R3: 山口県 岩国土木建築事務所 | W3: 緊急輸送道路 | Z3: 一次
B4: 名 称 | D4: 稗原第1隧道 | W4: 代替路の有無 | Z4: 有
B5: 所在地 | D5: 自 | E5: 山口県岩国市錦町中ノ瀬地先 | H5: 作成者 | K5: 応用地質（株）・太田 裕之 | P5: 作成年月日 | R5: 45876 | U5: トンネル延長 | X5: L= | Z5: 76 | AB5: ｍ
D6: 至 | E6: 山口県岩国市錦町中ノ瀬地先 | U6: ﾄﾝﾈﾙの分類 | X6: 陸上トンネル（掘進工法）
B7: 起点 | C7: 緯度 | E7: 34.29094 | H7: 完成年月日 | K7: 1967年 | M7: 舗装 | O7: 種 別 | Q7: ｾﾒﾝﾄ系 | S7: トンネル非常用施設 | T7: 施設の内訳 | X7: 種別・方式 | Y7: 型式 | Z7: 個数 | AA7: 更新年度 | AE7: =INT(E7/10000) -> 0 | AF7: =INT(E7/100)-AE7*100 -> 0 | AG7: =E7-AE7*10000-AF7*100 -> 34.29094 | AH7: =ROUND(AE7+AF7/60+AG7/60/60,5) -> 0.00953 | AI7: =TEXT(AH7,"0.00000") -> 0.00953
C8: 経度 | E8: 131.9515 | H8: 供用年月日 | O8: 厚 さ | Q8: 0.15m | T8: 通報設備 | U8: 通話型通報設備 | AE8: =INT(E8/10000) -> 0 | AF8: =INT(E8/100)-AE8*100 -> 1 | AG8: =E8-AE8*10000-AF8*100 -> 31.9515 | AH8: =ROUND(AE8+AF8/60+AG8/60/60,5) -> 0.02554 | AI8: =TEXT(AH8,"0.00000") -> 0.02554
B9: 終点 | C9: 緯度 | E9: 34.29142 | H9: トンネル等級 | K9: D | O9: 面 積 | U9: 操作型通報設備
C10: 経度 | E10: 131.95055 | H10: 内装種類 | K10: 覆工（内装なし） | O10: 更新年次 | U10: 自動通報設備
B11: 一般有料区分 | E11: 一般（無料） | H11: 天井板種類 | K11: 覆工（内装なし） | M11: 排水 | O11: 種 別 | Q11: U型側溝 | T11: 警報設備 | U11: 非常警報設備
B12: 土かぶり | E12: 0 | G12: m | H12: 坑門 | I12: 起点 | J12: 形式 | K12: 面壁型 | O12: 更新年次 | T12: 消火設備 | U12: 消 火 器
B13: 内空断面積 | G13: m2 | J13: 延長 | K13: 1.6 | L13: m | M13: 施設 | P13: 種別・方式 | Q13: 個数 | R13: 更新年次 | U13: 消火栓設備
B14: 交 通 量 | E14: 2035 | G14: 台/日 | I14: 終点 | J14: 形式 | K14: 面壁型 | M14: 道路附属物等 | N14: 照明 | T14: 避難誘導設備 | U14: 誘導表示設備
C15: 道 路 幅 | E15: 7.5 | G15: m | J15: 延長 | K15: 1.1 | L15: m | N15: 換気 | U15: 避難情報提供設備
B16: 幅 員 | C16: 車 道 幅 | E16: 3.5 | G16: m | H16: 竣工巻厚 | I16: アーチ | L16: cm | N16: 標識
E17: 3.5 | G17: m | I17: 側 壁 | L17: cm | N17: 警報表示板 | U17: 避難通路
C18: 歩道等幅 | E18: 0.5 | G18: m | L18: cm | N18: 吸音板 | U18: 排煙設備
B19: 高さ | C19: 建築限界高 | E19: 4.5 | G19: m | I19: インバート | L19: cm | T19: その他の設備 | U19: 給水栓設備
C20: 中央高 | G20: m | H20: 半径 | I20: アーチ | L20: cm | U20: 無線通信補助設備
C21: 有効高 | E21: 4.5 | G21: m | I21: 側 壁 | L21: cm | U21: 水噴霧設備
C22: 縦断勾配 | E22: 3 | I22: インバート | L22: cm | U22: 監視設備
B23: 線 形 | C23: 直線区間長 | E23: 0 | H23: 占用物件 | I23: 種 類 | K23: 寸 法 | M23: 管理者名 | Q23: 更新年次 | S23: 非常用施設 関連設備 | U23: 予備発電設備
C24: 曲線区間 | D24: 区間長
D25: 起点側ｸﾛｿｲﾄﾞ
D26: 曲線半径
D27: 終点側ｸﾛｿｲﾄﾞ | S27: その他 | U27: 非常駐車帯
B28: トンネル工法 | E28: 矢板工法 | U28: 方向転換所
C29: ※緯度・経度については、十進緯度経度小数第５位で記入すること。

Sheet 様式A-2
B3: ■トンネル台帳 トンネル情報一覧表 【様式A-2】
B4: フリガナ | E4: (ﾋｴﾊﾞﾗﾀﾞｲｲﾁｽﾞｲﾄﾞｳ) | J4: 路線名 | M4: 一般国道187号 | S4: 作成者 | Y4: 応用地質（株）・太田 裕之 | AE4: 作成年月日 | AI4: 45876
B5: 名 称 | E5: 稗原第1隧道 | J5: 管理者名 | M5: 山口県岩国土木建築事務所
B6: 覆工 ｽﾊﾟﾝ 番号 | C6: ｽﾊﾟﾝ長 | D6: 追加距離 | F6: トンネル本体工 | K6: 照明施設 | O6: 非常用施設 | AE6: 換気施設 | AK6: その他附属物等
O7: 通報設備 | R7: 警報設備 | S7: 消火設備 | U7: 避難誘導設備 | Y7: その他の設備 | AC7: 特記事項
D8: 起点側 | E8: 終点側 | F8: 特記事項 | I8: 内装板 | J8: 天井板 | K8: 基本照明 | L8: 入口出口照明 | M8: 特記事項 | O8: 通話型通報設備 | P8: 操作型通報設備 | Q8: 自動通報設備 | R8: 非常警報設備 | S8: 消 火 器 | T8: 消火栓設備 | U8: 誘導表示設備 | V8: 避難情報提供設備 | W8: 避難通路 | X8: 排煙設備 | Y8: 給水栓設備 | Z8: 無線通信補助設備 | AA8: 水噴霧設備 | AB8: 監視設備 | AE8: JF | AF8: VI計 | AG8: CO計 | AH8: 風向 風速計 | AI8: 特記事項
C9: (m) | D9: (m) | E9: (m)
B10: PS | C10: 1.6 | D10: 0 | E10: 1.6 | F10: 坑門（面壁型）
B11: 1 | C11: 4.4 | D11: 1.6 | E11: 6
B12: 2 | C12: 5.8 | D12: 6 | E12: 11.8
B13: 3 | C13: 5.8 | D13: 11.8 | E13: 17.6
B14: 4 | C14: 5.8 | D14: 17.6 | E14: 23.4
B15: 5 | C15: 5.8 | D15: 23.4 | E15: 29.2
B16: 6 | C16: 5.8 | D16: 29.2 | E16: 35
B17: 7 | C17: 5.8 | D17: 35 | E17: 40.8
B18: 8 | C18: 5.8 | D18: 40.8 | E18: 46.6
B19: 9 | C19: 5.8 | D19: 46.6 | E19: 52.4
B20: 10 | C20: 5.8 | D20: 52.4 | E20: 58.2
B21: 11 | C21: 5.9 | D21: 58.2 | E21: 64.1
B22: 12 | C22: 5.8 | D22: 64.1 | E22: 69.9
B23: 13 | C23: 4.4 | D23: 69.9 | E23: 74.3
B24: PE | C24: 1.1 | D24: 74.3 | E24: 75.4 | F24: 坑門（面壁型）
B50: ※ 行が不足する場合は、適時、表の行を増やすこと。

Sheet 様式A-3
B3: ■トンネル台帳 トンネル記録（位置図、断面図、施工実績他）【様式A-3】
B4: フリガナ | E4: (ﾋｴﾊﾞﾗﾀﾞｲｲﾁｽﾞｲﾄﾞｳ) | J4: 路線名 | M4: 一般国道187号 | S4: 作成者 | W4: 応用地質（株）・太田 裕之 | AC4: 作成年月日 | AF4: 45876
B5: 名 称 | E5: 稗原第1隧道 | J5: 管理者名 | M5: 山口県岩国土木建築事務所
B6: 位置図・現況写真・標準断面図・地質縦断図・施工実績
B20: ■トンネル台帳 トンネル記録（位置図、断面図、施工実績他）【様式A-3】
B21: フリガナ | E21: (ﾋｴﾊﾞﾗﾀﾞｲｲﾁｽﾞｲﾄﾞｳ) | J21: 路線名 | M21: 一般国道187号 | S21: 作成者 | W21: 応用地質（株）・太田 裕之 | AC21: 作成年月日 | AF21: 45876
B22: 名 称 | E22: 稗原第1隧道 | J22: 管理者名 | M22: 山口県岩国土木建築事務所
B23: 位置図・現況写真・標準断面図・地質縦断図・施工実績

Sheet 様式B_001
B2: ■定期点検記録様式 トンネル変状・異常箇所写真位置図 【様式B】 | N2: 定期点検年月日 | P2: 45840 | S2: 施設ID | V2: 34.29094,131.95150
B3: フリガナ | C3: (ﾋｴﾊﾞﾗﾀﾞｲｲﾁｽﾞｲﾄﾞｳ) | G3: 路線名 | H3: 一般国道187号 | K3: 管理者名 | L3: 山口県 岩国土木建築事務所 | Q3: 定期点検実施者 | S3: 応用地質（株） | V3: 起点 | W3: 緯度 | X3: 34.29094
B4: 名 称 | C4: 稗原第1隧道 | S4: 太田 裕之 | W4: 経度 | X4: 131.9515
B5: 所在地 | C5: 自 | D5: 山口県岩国市錦町中ノ瀬地先 | G5: トンネル工法 | I5: 矢板工法 | L5: トンネル延長 | N5: L= | O5: 76 | P5: ｍ | Q5: 自専道 or 一般道 | R5: 一般道 | S5: 代替路の有無 | U5: 有 | V5: 終点 | W5: 緯度 | X5: 34.29142
C6: 至 | D6: 山口県岩国市錦町中ノ瀬地先 | G6: 建設年度 | I6: 1967 | L6: 幅員 | N6: L= | O6: 7.5 | P6: ｍ | S6: 緊急輸送道路 | U6: 一次 | W6: 経度 | X6: 131.95055
B7: トンネル毎 の健全性の 診断の区分 | D7: Ⅱ
G8: 変状・異常 箇所数合計 | I8: トンネル本体工 | J8: 材質劣化 | K8: Ⅱ | L8: 10 | N8: Ⅲ | O8: 0 | Q8: Ⅳ | R8: 0 | T8: 附属物等 の取付状態 | V8: ◯ （応急措置後) | X8: 0
J9: 漏水 | K9: Ⅱ | L9: 41 | N9: Ⅲ | O9: 0 | Q9: Ⅳ | R9: 0
V10: ✕ | X10: 0
J11: 外力 | K11: Ⅱ | L11: 1 | N11: Ⅲ | O11: 0 | Q11: Ⅳ | R11: 0
B12: トンネル変状・異常箇所写真位置図
J29: 注１：本位置図は、見下げた状態で記載すること。 注２：覆工スパン番号は横断目地毎(矢板工法の場合は上半アーチの 横断目地毎)に設定すること。 | Q29: 注３：写真番号に付する変状番号は、各覆工スパンの変状に対して新たに確認された場合 は順次追加していくこと。 注４：横断目地の変状は前の覆工スパン番号で計上すること。 注５：１枚に収まらない場合は、複数枚に分けて作成すること。
C30: ※1 トンネル本体工の変状数は、材質劣化、漏水に起因するものは変状単位で、外力に起因するものはスパン単位で計上すること。
C31: ※2 トンネル本体工の変状に対しては、措置の必要性（Ⅱ～Ⅳ）について表記すること。また、点検前に実施された措置によりⅠと判定された箇所についても記載すること。
C32: ※3 附属物等の取付状態の○欄については、応急措置前に判定区分×とした箇所のうち応急措置により○判定とした箇所の数を記入すること。
C33: ※4 附属物等の異常番号は、本体工と番号が重複しないよう101番以降とする等の配慮を行い、分かりやすく記録すること。

Sheet 様式B_002
B2: ■定期点検記録様式 トンネル変状・異常箇所写真位置図 【様式B】 | N2: 定期点検年月日 | P2: 45840 | S2: 施設ID | V2: 34.29094,131.95150
B3: フリガナ | C3: (ﾋｴﾊﾞﾗﾀﾞｲｲﾁｽﾞｲﾄﾞｳ) | G3: 路線名 | H3: 一般国道187号 | K3: 管理者名 | L3: 山口県 岩国土木建築事務所 | Q3: 定期点検実施者 | S3: 応用地質（株） | V3: 起点 | W3: 緯度 | X3: 34.29094
B4: 名 称 | C4: 稗原第1隧道 | S4: 太田 裕之 | W4: 経度 | X4: 131.9515
B5: 所在地 | C5: 自 | D5: 山口県岩国市錦町中ノ瀬地先 | G5: トンネル工法 | I5: 矢板工法 | L5: トンネル延長 | N5: L= | O5: 76 | P5: ｍ | Q5: 自専道 or 一般道 | R5: 一般道 | S5: 代替路の有無 | U5: 有 | V5: 終点 | W5: 緯度 | X5: 34.29142
C6: 至 | D6: 山口県岩国市錦町中ノ瀬地先 | G6: 建設年度 | I6: 1967 | L6: 幅員 | N6: L= | O6: 7.5 | P6: ｍ | S6: 緊急輸送道路 | U6: 一次 | W6: 経度 | X6: 131.95055
B7: トンネル毎 の健全性の 診断の区分 | D7: Ⅱ
G8: 変状・異常 箇所数合計 | I8: トンネル本体工 | J8: 材質劣化 | K8: Ⅱ | L8: 10 | N8: Ⅲ | O8: 0 | Q8: Ⅳ | R8: 0 | T8: 附属物等 の取付状態 | V8: ◯ （応急措置後) | X8: 0
J9: 漏水 | K9: Ⅱ | L9: 41 | N9: Ⅲ | O9: 0 | Q9: Ⅳ | R9: 0
V10: ✕ | X10: 0
J11: 外力 | K11: Ⅱ | L11: 1 | N11: Ⅲ | O11: 0 | Q11: Ⅳ | R11: 0
B12: トンネル変状・異常箇所写真位置図
J29: 注１：本位置図は、見下げた状態で記載すること。 注２：覆工スパン番号は横断目地毎(矢板工法の場合は上半アーチの 横断目地毎)に設定すること。 | Q29: 注３：写真番号に付する変状番号は、各覆工スパンの変状に対して新たに確認された場合 は順次追加していくこと。 注４：横断目地の変状は前の覆工スパン番号で計上すること。 注５：１枚に収まらない場合は、複数枚に分けて作成すること。
C30: ※1 トンネル本体工の変状数は、材質劣化、漏水に起因するものは変状単位で、外力に起因するものはスパン単位で計上すること。
C31: ※2 トンネル本体工の変状に対しては、措置の必要性（Ⅱ～Ⅳ）について表記すること。また、点検前に実施された措置によりⅠと判定された箇所についても記載すること。
C32: ※3 附属物等の取付状態の○欄については、応急措置前に判定区分×とした箇所のうち応急措置により○判定とした箇所の数を記入すること。
C33: ※4 附属物等の異常番号は、本体工と番号が重複しないよう101番以降とする等の配慮を行い、分かりやすく記録すること。

Sheet 様式C-1-1
B2: ■定期点検記録様式 全スパン定期点検結果総括表（トンネル本体工） 【様式C-1-1】
B3: フリガナ | F3: (ﾋｴﾊﾞﾗﾀﾞｲｲﾁｽﾞｲﾄﾞｳ) | I3: 路線名 | K3: 一般国道187号 | O3: 定期点検実施者 | P3: 応用地質（株） | T3: 定期点検年月日 | X3: 45840
B4: 名 称 | F4: 稗原第1隧道 | I4: 管理者名 | K4: 山口県岩国土木建築事務所 | P4: 太田 裕之
B5: 定期点検結果 | C5: 覆工 スパン 番号 | E5: 変状 番号 | F5: 距離 （m） | G5: 変状部位 | I5: 変 状 の 内 容 | O5: 前回定期点検時の状態 | P5: 今回定期点検結果 | T5: 措置履歴 | Y5: 対応方針 ・ 特記事項
O6: 44034
G7: 対象箇所 | H7: 部位区分 | I7: 変状区分 | J7: 変状種類 | M7: 変状の発生範囲の規模 | N7: 前回定期点検時の変状の発生範囲及び規模 | O7: 対策区分 | P7: 対策区分 | R7: 調査の 要否 | S7: 措置の 要否 | T7: 実施 | U7: 措置の実施状況
P8: 応急措置前 | Q8: 応急措置後
C9: 1 | E9: 1 | F9: 6 | G9: 覆工 | H9: 横断目地（左側） | I9: 漏水 | J9: 漏水 | M9: 1.15 | N9: 記載なし | O9: Ⅱb | P9: － | Q9: Ⅱb | R9: 否 | S9: 要監視 | T9: 継続 | U9: 監視（日常巡視） | Y9: －
C10: 1 | E10: 2 | F10: 3.5 | G10: 覆工 | H10: 水平打ち継ぎ目（右側） | I10: 材質劣化 | J10: うき・はく離 | M10: － | N10: 0.19 | O10: Ⅱb | P10: － | Q10: Ⅰ | R10: 否 | S10: 否 | T10: 済 | U10: はく落防止工(FRPネット)[実施年度:不明] | Y10: －
C11: 1 | E11: 3 | F11: 6 | G11: 覆工 | H11: 横断目地（右側） | I11: 漏水 | J11: 漏水 | M11: 1.35 | N11: 記載なし | O11: Ⅱb | P11: － | Q11: Ⅱb | R11: 否 | S11: 要監視 | T11: 継続 | U11: 監視（日常巡視） | Y11: －
C12: 2 | E12: 1 | F12: 9.4 | G12: 覆工 | H12: アーチ（天端） | I12: 漏水 | J12: 漏水 | M12: 10.63 | N12: 記載なし | O12: Ⅱb | P12: － | Q12: Ⅱb | R12: 否 | S12: 要監視 | T12: 継続 | U12: 監視（日常巡視） | Y12: －
C13: 2 | E13: 2 | F13: 10.1 | G13: 覆工 | H13: アーチ（天端） | I13: 漏水 | J13: 漏水 | M13: 3.95 | N13: 記載なし | O13: Ⅱb | P13: － | Q13: Ⅱa | R13: 否 | S13: 要監視 | T13: 継続 | U13: 監視（重点） | Y13: －
C14: 2 | E14: 3 | F14: 11.8 | G14: 覆工 | H14: 横断目地（天端） | I14: 漏水 | J14: 漏水 | M14: 3.55 | N14: 記載なし | O14: Ⅱb | P14: － | Q14: Ⅱb | R14: 否 | S14: 要監視 | T14: 継続 | U14: 監視（日常巡視） | Y14: －
C15: 2 | E15: 4 | F15: 11.8 | G15: 覆工 | H15: 横断目地（天端） | I15: 材質劣化 | J15: うき・はく離 | M15: － | N15: 0.07 | O15: Ⅱa | P15: － | Q15: Ⅰ | R15: 否 | S15: 否 | T15: 済 | U15: はく落防止工(FRPネット)[実施年度:不明] | Y15: －
C16: 2 | E16: 5 | F16: 11.8 | G16: 覆工 | H16: 横断目地（右側） | I16: 材質劣化 | J16: うき・はく離 | M16: － | N16: 0.05 | O16: Ⅱa | P16: － | Q16: Ⅰ | R16: 否 | S16: 否 | T16: 済 | U16: はく落防止工(FRPネット)[実施年度:不明] | Y16: －
C17: 2 | E17: 6 | F17: 11.8 | G17: 覆工 | H17: 横断目地（天端） | I17: 漏水 | J17: 漏水 | M17: 0.4 | N17: 記載なし | O17: Ⅱb | P17: － | Q17: Ⅱb | R17: 否 | S17: 要監視 | T17: 継続 | U17: 監視（日常巡視） | Y17: －
C18: 2 | E18: 7 | F18: 10.8 | G18: 覆工 | H18: アーチ（左側） | I18: 漏水 | J18: 漏水 | M18: 5.8 | N18: 記載なし | O18: Ⅱb | P18: － | Q18: Ⅱb | R18: 否 | S18: 要監視 | T18: 継続 | U18: 監視（日常巡視） | Y18: －
C19: 3 | E19: 1 | F19: 17.6 | G19: 覆工 | H19: 横断目地（左側） | I19: 材質劣化 | J19: うき・はく離 | M19: － | N19: 0.05 | O19: Ⅱa | P19: － | Q19: Ⅰ | R19: 否 | S19: 否 | T19: 済 | U19: はく落防止工(FRPネット)[実施年度:不明] | Y19: －
C20: 3 | E20: 2 | F20: 12.3 | G20: 覆工 | H20: アーチ（天端） | I20: 漏水 | J20: 漏水 | M20: 7 | N20: 記載なし | O20: Ⅱb | P20: － | Q20: Ⅱb | R20: 否 | S20: 要監視 | T20: 継続 | U20: 監視（日常巡視） | Y20: －
C21: 3 | E21: 3 | F21: 17.6 | G21: 覆工 | H21: 横断目地（右側） | I21: 漏水 | J21: 漏水 | M21: 3 | N21: 記載なし | O21: Ⅱb | P21: － | Q21: Ⅱb | R21: 否 | S21: 要監視 | T21: 継続 | U21: 監視（日常巡視） | Y21: －
C22: 3 | E22: 4 | F22: 14.6 | G22: 覆工 | H22: アーチ（右側） | I22: 漏水 | J22: 漏水 | M22: 3.28 | N22: 記載なし | O22: Ⅱb | P22: － | Q22: Ⅱb | R22: 否 | S22: 要監視 | T22: 継続 | U22: 監視（日常巡視） | Y22: －
C23: 3 | E23: 5 | F23: 12.1 | G23: 覆工 | H23: アーチ（天端） | I23: 材質劣化 | J23: うき・はく離 | M23: － | N23: 0.13 | O23: Ⅱa | P23: － | Q23: Ⅰ | R23: 否 | S23: 否 | T23: 済 | U23: はく落防止工(FRPネット)[実施年度:不明] | Y23: －
C24: 3 | E24: 6 | F24: 14.4 | G24: 覆工 | H24: アーチ（左側） | I24: 漏水 | J24: 漏水 | M24: 13.5 | N24: 記載なし | O24: Ⅱb | P24: － | Q24: Ⅱb | R24: 否 | S24: 要監視 | T24: 継続 | U24: 監視（日常巡視） | Y24: －
C25: 3 | E25: 7 | F25: 11.9 | G25: 覆工 | H25: アーチ（左側） | I25: 漏水 | J25: 漏水 | M25: 18.72 | N25: 記載なし | O25: Ⅱb | P25: － | Q25: Ⅱb | R25: 否 | S25: 要監視 | T25: 継続 | U25: 監視（日常巡視） | Y25: －
C26: 3 | E26: 8 | F26: 17.6 | G26: 覆工 | H26: 横断目地（左側） | I26: 材質劣化 | J26: うき・はく離 | M26: － | N26: 0.24 | O26: Ⅱa | P26: － | Q26: Ⅰ | R26: 否 | S26: 否 | T26: 済 | U26: はく落防止工(FRPネット)[実施年度:不明] | Y26: －
C27: 3 | E27: 9 | F27: 11.9 | G27: 覆工 | H27: 水平打ち継ぎ目（左側） | I27: 材質劣化 | J27: うき・はく離 | M27: － | N27: 0.6 | O27: Ⅱb | P27: － | Q27: Ⅰ | R27: 否 | S27: 否 | T27: 済 | U27: はく落防止工(FRPネット)[実施年度:不明] | Y27: －
C28: 3 | E28: 10 | F28: 17.6 | G28: 覆工 | H28: 横断目地（左側） | I28: 漏水 | J28: 漏水 | M28: 2.65 | N28: － | O28: － | P28: － | Q28: Ⅱb | R28: 否 | S28: 要監視 | T28: 継続 | U28: 監視（日常巡視） | Y28: －
C29: 3 | E29: 11 | F29: 13.1 | G29: 覆工 | H29: アーチ（左側） | I29: 漏水 | J29: 補修・補強材の破損 | M29: 0.15 | N29: － | O29: － | P29: － | Q29: Ⅱa | R29: 否 | S29: 要監視 | T29: 継続 | U29: 監視（重点） | Y29: －
C30: 4 | E30: 1 | F30: 23.4 | G30: 覆工 | H30: 横断目地（天端） | I30: 漏水 | J30: 漏水 | M30: 3.75 | N30: 記載なし | O30: Ⅱb | P30: － | Q30: Ⅱb | R30: 否 | S30: 要監視 | T30: 継続 | U30: 監視（日常巡視） | Y30: －
C31: 4 | E31: 2 | F31: 23.4 | G31: 覆工 | H31: 横断目地（左側） | I31: 材質劣化 | J31: うき・はく離 | M31: 0.05 | N31: 0.05 | O31: Ⅱb | P31: Ⅱb | Q31: Ⅰ | R31: 否 | S31: 否 | T31: 済 | U31: － | Y31: 今回点検時に叩き落とし実施
C32: 4 | E32: 3 | F32: 23.4 | G32: 覆工 | H32: 横断目地（左側） | I32: 材質劣化 | J32: うき・はく離 | M32: － | N32: 0.12 | O32: Ⅱb | P32: － | Q32: Ⅰ | R32: 否 | S32: 否 | T32: 済 | U32: はく落防止工(FRPネット)[実施年度:不明] | Y32: －
C33: 4 | E33: 4 | F33: 18.6 | G33: 覆工 | H33: アーチ（天端） | I33: 材質劣化 | J33: うき・はく離 | M33: 0.99 | N33: 0.99 | O33: Ⅱb | P33: － | Q33: Ⅱb | R33: 否 | S33: 要監視 | T33: 継続 | U33: 監視（日常巡視） | Y33: －
C34: 4 | E34: 5 | F34: 17.9 | G34: 覆工 | H34: アーチ（右側） | I34: 漏水 | J34: 漏水 | M34: 6.5 | N34: 記載なし | O34: Ⅱb | P34: － | Q34: Ⅱb | R34: 否 | S34: 要監視 | T34: 継続 | U34: 監視（日常巡視） | Y34: －
C35: 4 | E35: 6 | F35: 23.4 | G35: 覆工 | H35: 横断目地（天端） | I35: 材質劣化 | J35: うき・はく離 | M35: － | N35: 0.11 | O35: Ⅱa | P35: － | Q35: Ⅰ | R35: 否 | S35: 否 | T35: 済 | U35: はく落防止工(FRPネット)[実施年度:不明] | Y35: －
C36: 4 | E36: 7 | F36: 19.7 | G36: 覆工 | H36: 水平打ち継ぎ目（左側） | I36: 材質劣化 | J36: うき・はく離 | M36: － | N36: 0.14 | O36: Ⅱb | P36: － | Q36: Ⅰ | R36: 否 | S36: 否 | T36: 済 | U36: はく落防止工(FRPネット)[実施年度:不明] | Y36: －
C37: 4 | E37: 8 | F37: 20.3 | G37: 覆工 | H37: 水平打ち継ぎ目（左側） | I37: 材質劣化 | J37: うき・はく離 | M37: － | N37: 0.3 | O37: Ⅱb | P37: － | Q37: Ⅰ | R37: 否 | S37: 否 | T37: 済 | U37: はく落防止工(FRPネット)[実施年度:不明] | Y37: －
C38: 4 | E38: 9 | F38: 23.4 | G38: 覆工 | H38: 横断目地（右側） | I38: 材質劣化 | J38: うき・はく離 | M38: － | N38: 0.48 | O38: Ⅱb | P38: － | Q38: Ⅰ | R38: 否 | S38: 否 | T38: 済 | U38: はく落防止工(FRPネット)[実施年度:不明] | Y38: －
C39: 4 | E39: 10 | F39: 23.4 | G39: 覆工 | H39: 横断目地（左側） | I39: 漏水 | J39: 補修・補強材の破損 | M39: 0.11 | N39: － | O39: － | P39: － | Q39: Ⅱb | R39: 否 | S39: 要監視 | T39: 継続 | U39: 監視（日常巡視） | Y39: －
C40: 4 | E40: 11 | F40: 23.4 | G40: 覆工 | H40: 横断目地（左側） | I40: 漏水 | J40: 補修・補強材の破損 | M40: 0.02 | N40: － | O40: － | P40: － | Q40: Ⅱb | R40: 否 | S40: 要監視 | T40: 継続 | U40: 監視（日常巡視） | Y40: －
C41: 4 | E41: 12 | F41: 23.4 | G41: 覆工 | H41: 横断目地（左側） | I41: 漏水 | J41: 補修・補強材の破損 | M41: 0.06 | N41: － | O41: － | P41: － | Q41: Ⅱb | R41: 否 | S41: 要監視 | T41: 継続 | U41: 監視（日常巡視） | Y41: －
C42: 4 | E42: 13 | F42: 23.4 | G42: 覆工 | H42: 横断目地（右側） | I42: 漏水 | J42: 補修・補強材の破損 | M42: 0.02 | N42: － | O42: － | P42: － | Q42: Ⅱb | R42: 否 | S42: 要監視 | T42: 継続 | U42: 監視（日常巡視） | Y42: －
C43: 5 | E43: 1 | F43: 26.4 | G43: 覆工 | H43: アーチ（天端） | I43: 材質劣化 | J43: うき・はく離 | M43: － | N43: 5.1 | O43: Ⅲ | P43: － | Q43: Ⅰ | R43: 否 | S43: 否 | T43: 済 | U43: シート繊維工[実施年度:不明] | Y43: －
C44: 5 | E44: 2 | F44: 29.2 | G44: 覆工 | H44: 横断目地（右側） | I44: 材質劣化 | J44: うき・はく離 | M44: － | N44: 0.12 | O44: Ⅱa | P44: － | Q44: Ⅰ | R44: 否 | S44: 否 | T44: 済 | U44: はく落防止工(FRPネット)[実施年度:不明] | Y44: －
C45: 5 | E45: 3 | F45: 29.2 | G45: 覆工 | H45: 横断目地（右側） | I45: 材質劣化 | J45: うき・はく離 | M45: － | N45: 0.01 | O45: Ⅱb | P45: － | Q45: Ⅰ | R45: 否 | S45: 否 | T45: 済 | U45: はく落防止工(FRPネット)[実施年度:不明] | Y45: －
C46: 5 | E46: 4 | F46: 29.2 | G46: 覆工 | H46: 横断目地（天端） | I46: 材質劣化 | J46: うき・はく離 | M46: － | N46: 0.21 | O46: Ⅱb | P46: － | Q46: Ⅰ | R46: 否 | S46: 否 | T46: 済 | U46: はく落防止工(FRPネット)[実施年度:不明] | Y46: －
C47: 5 | E47: 5 | F47: 27.7 | G47: 覆工 | H47: 水平打ち継ぎ目（左側） | I47: 材質劣化 | J47: うき・はく離 | M47: － | N47: 0.08 | O47: Ⅱb | P47: － | Q47: Ⅰ | R47: 否 | S47: 否 | T47: 済 | U47: はく落防止工(FRPネット)[実施年度:不明] | Y47: －
C48: 5 | E48: 6 | F48: 23.5 | G48: 覆工 | H48: 水平打ち継ぎ目（左側） | I48: 材質劣化 | J48: うき・はく離 | M48: － | N48: 0.13 | O48: Ⅱb | P48: － | Q48: Ⅰ | R48: 否 | S48: 否 | T48: 済 | U48: はく落防止工(FRPネット)[実施年度:不明] | Y48: －
C49: 5 | E49: 7 | F49: 25.9 | G49: 覆工 | H49: 水平打ち継ぎ目（左側） | I49: 材質劣化 | J49: うき・はく離 | M49: － | N49: 0.18 | O49: Ⅱb | P49: － | Q49: Ⅰ | R49: 否 | S49: 否 | T49: 済 | U49: はく落防止工(FRPネット)[実施年度:不明] | Y49: －
C50: 5 | E50: 8 | F50: 29.2 | G50: 覆工 | H50: 横断目地（天端） | I50: 漏水 | J50: 漏水 | M50: 2.8 | N50: 記載なし | O50: Ⅱb | P50: － | Q50: Ⅱb | R50: 否 | S50: 要監視 | T50: 継続 | U50: 監視（日常巡視） | Y50: －
C51: 5 | E51: 9 | F51: 29.2 | G51: 覆工 | H51: 横断目地（左側） | I51: 漏水 | J51: 漏水 | M51: 1.35 | N51: 記載なし | O51: Ⅱb | P51: － | Q51: Ⅱb | R51: 否 | S51: 要監視 | T51: 継続 | U51: 監視（日常巡視） | Y51: －
C52: 5 | E52: 10 | F52: 29.2 | G52: 覆工 | H52: 横断目地（右側） | I52: 漏水 | J52: 漏水 | M52: 1.15 | N52: 記載なし | O52: Ⅱb | P52: － | Q52: Ⅱb | R52: 否 | S52: 要監視 | T52: 継続 | U52: 監視（日常巡視） | Y52: －
C53: 6 | E53: 1 | F53: 35 | G53: 覆工 | H53: 横断目地（左側） | I53: 材質劣化 | J53: うき・はく離 | M53: － | N53: 0.12 | O53: Ⅱa | P53: － | Q53: Ⅰ | R53: 否 | S53: 否 | T53: 済 | U53: はく落防止工(FRPネット)[実施年度:不明] | Y53: －
C54: 6 | E54: 2 | F54: 29.3 | G54: 覆工 | H54: 横断目地（天端） | I54: 漏水 | J54: 補修・補強材の破損 | M54: 0.03 | N54: 0.06 | O54: Ⅱb | P54: － | Q54: Ⅱb | R54: 否 | S54: 要監視 | T54: 継続 | U54: 監視（日常巡視） | Y54: －
C55: 6 | E55: 3 | F55: 35 | G55: 覆工 | H55: 横断目地（右側） | I55: 漏水 | J55: 漏水 | M55: 1.65 | N55: 記載なし | O55: Ⅱb | P55: － | Q55: Ⅱb | R55: 否 | S55: 要監視 | T55: 継続 | U55: 監視（日常巡視） | Y55: －
C56: 6 | E56: 4 | F56: 29.3 | G56: 覆工 | H56: 横断目地（天端） | I56: 材質劣化 | J56: うき・はく離 | M56: － | N56: 0.05 | O56: Ⅱb | P56: － | Q56: Ⅰ | R56: 否 | S56: 否 | T56: 済 | U56: はく落防止工(FRPネット)[実施年度:不明] | Y56: －
C57: 6 | E57: 5 | F57: 32.1 | G57: 覆工 | H57: 側壁（左側） | I57: 材質劣化 | J57: うき・はく離 | M57: － | N57: 0.13 | O57: Ⅱb | P57: － | Q57: Ⅰ | R57: 否 | S57: 否 | T57: 済 | U57: はく落防止工(FRPネット)[実施年度:不明] | Y57: －
C58: 6 | E58: 6 | F58: 29.7 | G58: 覆工 | H58: 水平打ち継ぎ目（左側） | I58: 材質劣化 | J58: うき・はく離 | M58: － | N58: 0.06 | O58: Ⅱb | P58: － | Q58: Ⅰ | R58: 否 | S58: 否 | T58: 済 | U58: はく落防止工(FRPネット)[実施年度:不明] | Y58: －
C59: 6 | E59: 7 | F59: 33.2 | G59: 覆工 | H59: 水平打ち継ぎ目（左側） | I59: 材質劣化 | J59: うき・はく離 | M59: － | N59: 0.17 | O59: Ⅱb | P59: － | Q59: Ⅰ | R59: 否 | S59: 否 | T59: 済 | U59: はく落防止工(FRPネット)[実施年度:不明] | Y59: －
C60: 6 | E60: 8 | F60: 35 | G60: 覆工 | H60: 横断目地（左側） | I60: 漏水 | J60: 漏水 | M60: 0.8 | N60: 記載なし | O60: Ⅱb | P60: － | Q60: Ⅱb | R60: 否 | S60: 要監視 | T60: 継続 | U60: 監視（日常巡視） | Y60: －
C61: 6 | E61: 9 | F61: 29.3 | G61: 覆工 | H61: 横断目地（天端） | I61: 漏水 | J61: 補修・補強材の破損 | M61: 0.03 | N61: － | O61: － | P61: － | Q61: Ⅱa | R61: 否 | S61: 要監視 | T61: 継続 | U61: 監視（重点） | Y61: －
C62: 7 | E62: 1 | F62: 40.8 | G62: 覆工 | H62: 横断目地（天端） | I62: 漏水 | J62: 漏水 | M62: 3.5 | N62: 記載なし | O62: Ⅱb | P62: － | Q62: Ⅱb | R62: 否 | S62: 要監視 | T62: 継続 | U62: 監視（日常巡視） | Y62: －
C63: 7 | E63: 2 | F63: 36.6 | G63: 覆工 | H63: アーチ（左側） | I63: 材質劣化 | J63: うき・はく離 | M63: 0.04 | N63: 0.05 | O63: Ⅱb | P63: － | Q63: Ⅱb | R63: 否 | S63: 要監視 | T63: 継続 | U63: 監視（日常巡視） | Y63: －
C64: 7 | E64: 3 | F64: 35.9 | G64: 覆工 | H64: アーチ（天端） | I64: 材質劣化 | J64: うき・はく離 | M64: － | N64: 2.85 | O64: Ⅱb | P64: － | Q64: Ⅰ | R64: 否 | S64: 否 | T64: 済 | U64: シート繊維工[実施年度:不明] | Y64: －
C65: 7 | E65: 4 | F65: 35.1 | G65: 覆工 | H65: 横断目地（左側） | I65: 材質劣化 | J65: うき・はく離 | M65: 0.15 | N65: 0.15 | O65: Ⅱb | P65: － | Q65: Ⅱb | R65: 否 | S65: 要監視 | T65: 継続 | U65: 監視（日常巡視） | Y65: －
C66: 7 | E66: 5 | F66: 35.1 | G66: 覆工 | H66: 横断目地（左側） | I66: 材質劣化 | J66: うき・はく離 | M66: － | N66: 0.15 | O66: Ⅱa | P66: － | Q66: Ⅰ | R66: 否 | S66: 否 | T66: 済 | U66: はく落防止工(FRPネット)[実施年度:不明] | Y66: －
C67: 7 | E67: 6 | F67: 37.3 | G67: 覆工 | H67: アーチ（天端） | I67: 材質劣化 | J67: うき・はく離 | M67: 0.4 | N67: 0.44 | O67: Ⅱb | P67: － | Q67: Ⅱa | R67: 否 | S67: 要監視 | T67: 継続 | U67: 監視（重点） | Y67: －
C68: 7 | E68: 7 | F68: 39.1 | G68: 覆工 | H68: アーチ（右側） | I68: 材質劣化 | J68: うき・はく離 | M68: － | N68: 0.09 | O68: Ⅱa | P68: － | Q68: Ⅰ | R68: 否 | S68: 否 | T68: 済 | U68: はく落防止工(FRPネット)[実施年度:不明] | Y68: －
C69: 7 | E69: 8 | F69: 35.1 | G69: 覆工 | H69: 横断目地（右側） | I69: 材質劣化 | J69: うき・はく離 | M69: － | N69: 0.14 | O69: Ⅱb | P69: － | Q69: Ⅰ | R69: 否 | S69: 否 | T69: 済 | U69: はく落防止工(FRPネット)[実施年度:不明] | Y69: －
C70: 7 | E70: 9 | F70: 40.8 | G70: 覆工 | H70: 横断目地（左側） | I70: 材質劣化 | J70: うき・はく離 | M70: － | N70: 0.6 | O70: Ⅱb | P70: － | Q70: Ⅰ | R70: 否 | S70: 否 | T70: 済 | U70: はく落防止工(FRPネット)[実施年度:不明] | Y70: －
C71: 7 | E71: 10 | F71: 35.4 | G71: 覆工 | H71: 水平打ち継ぎ目（左側） | I71: 材質劣化 | J71: うき・はく離 | M71: － | N71: 0.28 | O71: Ⅱb | P71: － | Q71: Ⅰ | R71: 否 | S71: 否 | T71: 済 | U71: はく落防止工(FRPネット)[実施年度:不明] | Y71: －
C72: 7 | E72: 11 | F72: 37.4 | G72: 覆工 | H72: 側壁（右側） | I72: 漏水 | J72: 漏水 | M72: 1.15 | N72: 記載なし | O72: Ⅱb | P72: － | Q72: Ⅱb | R72: 否 | S72: 要監視 | T72: 継続 | U72: 監視（日常巡視） | Y72: －
C73: 7 | E73: 12 | F73: 38.9 | G73: 覆工 | H73: 水平打ち継ぎ目（右側） | I73: 材質劣化 | J73: うき・はく離 | M73: － | N73: 0.72 | O73: Ⅱb | P73: － | Q73: Ⅰ | R73: 否 | S73: 否 | T73: 済 | U73: はく落防止工(FRPネット)[実施年度:不明] | Y73: －
C74: 7 | E74: 13 | F74: 37.4 | G74: 覆工 | H74: アーチ（天端） | I74: 漏水 | J74: 漏水 | M74: 2.35 | N74: － | O74: － | P74: － | Q74: Ⅱb | R74: 否 | S74: 要監視 | T74: 継続 | U74: 監視（日常巡視） | Y74: －
C75: 8 | E75: 1 | F75: 46.6 | G75: 覆工 | H75: 横断目地（右側） | I75: 材質劣化 | J75: うき・はく離 | M75: － | N75: 0.06 | O75: Ⅱa | P75: － | Q75: Ⅰ | R75: 否 | S75: 否 | T75: 済 | U75: はく落防止工(FRPネット)[実施年度:不明] | Y75: －
C76: 8 | E76: 2 | F76: 46.6 | G76: 覆工 | H76: 横断目地（右側） | I76: 材質劣化 | J76: うき・はく離 | M76: － | N76: 0.12 | O76: Ⅱa | P76: － | Q76: Ⅰ | R76: 否 | S76: 否 | T76: 済 | U76: はく落防止工(FRPネット)[実施年度:不明] | Y76: －
C77: 8 | E77: 3 | F77: 43.1 | G77: 覆工 | H77: アーチ（右側） | I77: 材質劣化 | J77: うき・はく離 | M77: － | N77: 0.48 | O77: Ⅱa | P77: － | Q77: Ⅰ | R77: 否 | S77: 否 | T77: 済 | U77: はく落防止工(FRPネット)[実施年度:不明] | Y77: －
C78: 8 | E78: 4 | F78: 46.6 | G78: 覆工 | H78: 横断目地（右側） | I78: 材質劣化 | J78: うき・はく離 | M78: － | N78: 0.3 | O78: Ⅱa | P78: － | Q78: Ⅰ | R78: 否 | S78: 否 | T78: 済 | U78: はく落防止工(FRPネット)[実施年度:不明] | Y78: －
C79: 8 | E79: 5 | F79: 41.7 | G79: 覆工 | H79: アーチ（天端） | I79: 材質劣化 | J79: うき・はく離 | M79: 0.16 | N79: 0.16 | O79: Ⅱb | P79: － | Q79: Ⅱb | R79: 否 | S79: 要監視 | T79: 継続 | U79: 監視（日常巡視） | Y79: －
C80: 8 | E80: 6 | F80: 42.6 | G80: 覆工 | H80: アーチ（天端） | I80: 材質劣化 | J80: その他 | M80: 0.02 | N80: 0.03 | O80: Ⅱb | P80: － | Q80: Ⅱb | R80: 否 | S80: 要監視 | T80: 継続 | U80: 監視（日常巡視） | Y80: －
C81: 8 | E81: 7 | F81: 46 | G81: 覆工 | H81: アーチ（左側） | I81: 材質劣化 | J81: うき・はく離 | M81: 0.16 | N81: 0.3 | O81: Ⅱb | P81: － | Q81: Ⅱb | R81: 否 | S81: 要監視 | T81: 継続 | U81: 監視（日常巡視） | Y81: －
C82: 8 | E82: 8 | F82: 41 | G82: 覆工 | H82: 水平打ち継ぎ目（左側） | I82: 材質劣化 | J82: うき・はく離 | M82: － | N82: 0.55 | O82: Ⅱb | P82: － | Q82: Ⅰ | R82: 否 | S82: 否 | T82: 済 | U82: はく落防止工(FRPネット)[実施年度:不明] | Y82: －
C83: 8 | E83: 9 | F83: 43 | G83: 覆工 | H83: 水平打ち継ぎ目（右側） | I83: 材質劣化 | J83: うき・はく離 | M83: － | N83: 0.04 | O83: Ⅱb | P83: － | Q83: Ⅰ | R83: 否 | S83: 否 | T83: 済 | U83: はく落防止工(FRPネット)[実施年度:不明] | Y83: －
C84: 8 | E84: 10 | F84: 45.6 | G84: 覆工 | H84: 水平打ち継ぎ目（右側） | I84: 材質劣化 | J84: うき・はく離 | M84: － | N84: 0.04 | O84: Ⅱb | P84: － | Q84: Ⅰ | R84: 否 | S84: 否 | T84: 済 | U84: はく落防止工(FRPネット)[実施年度:不明] | Y84: －
C85: 8 | E85: 11 | F85: 42.6 | G85: 覆工 | H85: アーチ（左側） | I85: 材質劣化 | J85: うき・はく離 | M85: 0.22 | N85: － | O85: － | P85: － | Q85: Ⅱa | R85: 否 | S85: 要監視 | T85: 継続 | U85: 監視（重点） | Y85: －
C86: 8 | E86: 12 | F86: 43.2 | G86: 覆工 | H86: アーチ（右側） | I86: 漏水 | J86: 漏水 | M86: 2.9 | N86: － | O86: － | P86: － | Q86: Ⅱb | R86: 否 | S86: 要監視 | T86: 継続 | U86: 監視（日常巡視） | Y86: －
C87: 8 | E87: 13 | F87: 46.6 | G87: 覆工 | H87: 横断目地（右側） | I87: 漏水 | J87: 漏水 | M87: 1.75 | N87: － | O87: － | P87: － | Q87: Ⅱb | R87: 否 | S87: 要監視 | T87: 継続 | U87: 監視（日常巡視） | Y87: －
C88: 9 | E88: 1 | F88: 46.7 | G88: 覆工 | H88: 横断目地（右側） | I88: 材質劣化 | J88: うき・はく離 | M88: － | N88: 0.03 | O88: Ⅱa | P88: － | Q88: Ⅰ | R88: 否 | S88: 否 | T88: 済 | U88: はく落防止工(FRPネット)[実施年度:不明] | Y88: －
C89: 9 | E89: 2 | F89: 52.4 | G89: 覆工 | H89: 横断目地（左側） | I89: 漏水 | J89: 漏水 | M89: 2.95 | N89: 記載なし | O89: Ⅱb | P89: － | Q89: Ⅱb | R89: 否 | S89: 要監視 | T89: 継続 | U89: 監視（日常巡視） | Y89: －
C90: 9 | E90: 3 | F90: 47.4 | G90: 覆工 | H90: 水平打ち継ぎ目（左側） | I90: 材質劣化 | J90: うき・はく離 | M90: － | N90: 0.04 | O90: Ⅱb | P90: － | Q90: Ⅰ | R90: 否 | S90: 否 | T90: 済 | U90: はく落防止工(FRPネット)[実施年度:不明] | Y90: －
C91: 9 | E91: 4 | F91: 49.3 | G91: 覆工 | H91: 水平打ち継ぎ目（左側） | I91: 材質劣化 | J91: うき・はく離 | M91: － | N91: 0.1 | O91: Ⅱb | P91: － | Q91: Ⅰ | R91: 否 | S91: 否 | T91: 済 | U91: はく落防止工(FRPネット)[実施年度:不明] | Y91: －
C92: 9 | E92: 5 | F92: 52 | G92: 覆工 | H92: 水平打ち継ぎ目（左側） | I92: 材質劣化 | J92: うき・はく離 | M92: － | N92: 0.04 | O92: Ⅱb | P92: － | Q92: Ⅰ | R92: 否 | S92: 否 | T92: 済 | U92: はく落防止工(FRPネット)[実施年度:不明] | Y92: －
C93: 9 | E93: 6 | F93: 49.6 | G93: 覆工 | H93: 水平打ち継ぎ目（右側） | I93: 材質劣化 | J93: うき・はく離 | M93: － | N93: 0.25 | O93: Ⅱb | P93: － | Q93: Ⅰ | R93: 否 | S93: 否 | T93: 済 | U93: はく落防止工(FRPネット)[実施年度:不明] | Y93: －
C94: 9 | E94: 7 | F94: 52.4 | G94: 覆工 | H94: 横断目地（右側） | I94: 材質劣化 | J94: うき・はく離 | M94: － | N94: 0.18 | O94: Ⅱb | P94: － | Q94: Ⅰ | R94: 否 | S94: 否 | T94: 済 | U94: はく落防止工(FRPネット)[実施年度:不明] | Y94: －
C95: 10 | E95: 1 | F95: 58.2 | G95: 覆工 | H95: 横断目地（天端） | I95: 材質劣化 | J95: うき・はく離 | M95: － | N95: 0.02 | O95: Ⅱb | P95: － | Q95: Ⅰ | R95: 否 | S95: 否 | T95: 済 | U95: はく落防止工(FRPネット)[実施年度:不明] | Y95: －
C96: 10 | E96: 2 | F96: 58.2 | G96: 覆工 | H96: 横断目地（天端） | I96: 材質劣化 | J96: うき・はく離 | M96: － | N96: 0.59 | O96: Ⅱa | P96: － | Q96: Ⅰ | R96: 否 | S96: 否 | T96: 済 | U96: はく落防止工(FRPネット)[実施年度:不明] | Y96: －
C97: 10 | E97: 3 | F97: 58.2 | G97: 覆工 | H97: 横断目地（天端） | I97: 漏水 | J97: 漏水 | M97: 3.85 | N97: 記載なし | O97: Ⅱb | P97: － | Q97: Ⅱb | R97: 否 | S97: 要監視 | T97: 継続 | U97: 監視（日常巡視） | Y97: －
C98: 10 | E98: 4 | F98: 57.7 | G98: 覆工 | H98: 水平打ち継ぎ目（左側） | I98: 材質劣化 | J98: うき・はく離 | M98: － | N98: 0.04 | O98: Ⅱb | P98: － | Q98: Ⅰ | R98: 否 | S98: 否 | T98: 済 | U98: はく落防止工(FRPネット)[実施年度:不明] | Y98: －
C99: 10 | E99: 5 | F99: 58.2 | G99: 覆工 | H99: 横断目地（左側） | I99: 材質劣化 | J99: うき・はく離 | M99: － | N99: 0.03 | O99: Ⅱb | P99: － | Q99: Ⅰ | R99: 否 | S99: 否 | T99: 済 | U99: はく落防止工(FRPネット)[実施年度:不明] | Y99: －
C100: 10 | E100: 6 | F100: 52.5 | G100: 覆工 | H100: 水平打ち継ぎ目（右側） | I100: 材質劣化 | J100: うき・はく離 | M100: － | N100: 0.12 | O100: Ⅱb | P100: － | Q100: Ⅰ | R100: 否 | S100: 否 | T100: 済 | U100: はく落防止工(FRPネット)[実施年度:不明] | Y100: －
C101: 10 | E101: 7 | F101: 58.2 | G101: 覆工 | H101: 水平打ち継ぎ目（右側） | I101: 材質劣化 | J101: うき・はく離 | M101: － | N101: 0.08 | O101: Ⅱb | P101: － | Q101: Ⅰ | R101: 否 | S101: 否 | T101: 済 | U101: はく落防止工(FRPネット)[実施年度:不明] | Y101: －
...

Sheet 様式C-1-2
B2: ■定期点検記録様式 定期点検結果総括表（トンネル内附属物等の取付状態） 【様式C-1-2】
B3: フリガナ | F3: (ﾋｴﾊﾞﾗﾀﾞｲｲﾁｽﾞｲﾄﾞｳ) | J3: 路線名 | K3: 一般国道187号 | M3: 定期点検実施者 | O3: 応用地質（株） | S3: 定期点検年月日 | W3: 45840
B4: 名 称 | F4: 稗原第1隧道 | J4: 管理者名 | K4: 山口県岩国土木建築事務所 | O4: 太田 裕之
B5: 定期点検結果 | C5: 覆工 スパン 番号 | E5: 異常 番号 | F5: 距離 （m） | G5: 異常部位 | J5: 異 常 の 内 容 | N5: 定期点検結果 | P5: 応急措置の 実施状況 | V5: 対応方針 ・ 特記事項
G6: 対象箇所 | I6: 部位区分 | J6: 異常種類 | L6: 異常の発生範囲の規模 | N6: 異常判定区分 | P6: 実施 | Q6: 応急措置の内容
N7: 応急措置前 | O7: 応急措置後
C42: ※ 異常判定区分×について記入すること。また、応急措置により○と判定された箇所も記入すること。
C43: ※ 応急措置を実施しないで判定した箇所の異常判定区分は、異常判定区分の応急措置後の欄に記入すること。
C44: ※ 異常の除去が不完全で、緊急対応が必要な場合は対応方針欄に記入すること。
C45: ※ １スパンの覆工に複数の異常がある場合は、異常箇所毎に記入すること。
C46: ※ 行が不足する場合は、適時、表の行を増やすこと。

Sheet 様式C-2
B2: ■定期点検記録様式 状態の把握の内容 【様式C-2】
B3: フリガナ | E3: (ﾋｴﾊﾞﾗﾀﾞｲｲﾁｽﾞｲﾄﾞｳ) | H3: 路線名 | J3: 一般国道187号 | M3: 定期点検実施者 | Q3: 応用地質（株） | U3: 定期点検年月日 | X3: 45840
B4: 名 称 | E4: 稗原第1隧道 | H4: 管理者名 | J4: 山口県岩国土木建築事務所 | Q4: 太田 裕之
B5: 状態の把握の内容 | C5: 覆工スパン 番号 | E5: 変状 番号 | F5: 状態の把握の内容
F6: 年月日 | H6: 内容 | O6: 結果 | Y6: 対策区分の 判定
B22: 注）状態の把握において、微破壊・非破壊検査や各種試験等を実施した場合について記載する。
B23: ※ 行が不足する場合は、適時、表の行を増やすこと。

Sheet 様式D-1-1_001
B2: ■定期点検記録様式 変状写真台帳【様式D-1-1】 | R2: 施設ID | T2: 34.29094,131.95150
B3: フリガナ | E3: (ﾋｴﾊﾞﾗﾀﾞｲｲﾁｽﾞｲﾄﾞｳ) | H3: 路 線 名 | J3: 一般国道187号 | M3: 定期点検実施者 | P3: 応用地質（株） | S3: 定期点検年月日 | U3: 45840
B4: 名 称 | E4: 稗原第1隧道 | H4: 管理者名 | J4: 山口県岩国土木建築事務所 | P4: 太田 裕之
B5: 写真 番号 | C5: 覆工スパン 番号 | E5: 1 | F5: 余 白 | M5: 写真 番号 | N5: 覆工スパン 番号 | P5: 1 | Q5: 余 白
C6: 変状番号 | E6: 1 | N6: 変状番号 | P6: 2
B7: 変状 部位 | C7: 対象箇所 | E7: 覆工 | M7: 変状 部位 | N7: 対象箇所 | P7: 覆工
C8: 部位区分 | E8: 横断目地（左側） | N8: 部位区分 | P8: 水平打ち継ぎ目（右側）
B9: 変状種類 | E9: 漏水 | M9: 変状種類 | P9: うき・はく離
B10: 対策 区分 | C10: 変状区分 | E10: 漏水 | M10: 対策 区分 | N10: 変状区分 | P10: 材質劣化
C11: 応急措置前 | E11: － | N11: 応急措置前 | P11: －
C12: 応急措置後 | E12: Ⅱb | N12: 応急措置後 | P12: Ⅰ
B13: 変状の発生範囲及び規模 | E13: 1.15㎡（2.3m×0.5m） | H13: 前回変状の発生範囲及び規模 | J13: 記載なし | M13: 変状の発生範囲及び規模 | P13: － | S13: 前回変状の発生範囲及び規模 | U13: 0.19㎡（0.1m×1.9m）
B14: 対策履歴 | E14: なし | H14: 実施状況（実施日） | J14: － | M14: 対策履歴 | P14: はく落防止工(FRPネット) | S14: 実施状況（実施日） | U14: －
B15: メモ | E15: 今回点検時漏水なし(継続監視) 【前回定期点検 Ⅱb判定】 | M15: メモ | P15: 対策済み 【前回定期点検 Ⅱb判定】
B16: 写真 番号 | C16: 覆工スパン 番号 | E16: 1 | F16: 余 白 | M16: 写真 番号 | N16: 覆工スパン 番号 | Q16: 余 白
C17: 変状番号 | E17: 3 | N17: 変状番号
B18: 変状 部位 | C18: 対象箇所 | E18: 覆工 | M18: 変状 部位 | N18: 対象箇所
C19: 部位区分 | E19: 横断目地（右側） | N19: 部位区分
B20: 変状種類 | E20: 漏水 | M20: 変状種類
B21: 対策 区分 | C21: 変状区分 | E21: 漏水 | M21: 対策 区分 | N21: 変状区分
C22: 応急措置前 | E22: － | N22: 応急措置前
C23: 応急措置後 | E23: Ⅱb | N23: 応急措置後
B24: 変状の発生範囲及び規模 | E24: 1.35㎡（2.7m×0.5m） | H24: 前回変状の発生範囲及び規模 | J24: 記載なし | M24: 変状の発生範囲及び規模 | S24: 前回変状の発生範囲及び規模
B25: 対策履歴 | E25: なし | H25: 実施状況（実施日） | J25: － | M25: 対策履歴 | S25: 実施状況（実施日）
B26: メモ | E26: 今回点検時漏水なし(継続監視) 【前回定期点検 Ⅱb判定】 | M26: メモ
C27: ※ 応急措置後の対策区分について添付すること。また、点検前に 実施された措置によりⅠと判定された箇所も添付すること。 | N27: ※ 変状の発生範囲の規模とは、対策を行う際に参考となる変状の長さや面積をいう。
N28: ※ 応急措置を実施しないで決定した変状の対策区分は、対策区分の応急措置後の欄に記入すること。
C29: ※ たたき落としを実施した場合は、実施後の写真を添付すること。 | N29: ※ 変状の発生範囲の規模は、面積・寸法を記載すること。(ひび割れ幅のみmmとし、その他をm表記とする)
C30: ※ 変状数に準じてシートを追加すること。（１シートに１ページとすること。） | N30: ※ 構造用鋼材以外の異物に伴ううき・はく離については、メモ欄に異物の概要を記入すること。

Sheet 様式D-1-1_002
B2: ■定期点検記録様式 変状写真台帳【様式D-1-1】 | R2: 施設ID | T2: 34.29094,131.95150
B3: フリガナ | E3: (ﾋｴﾊﾞﾗﾀﾞｲｲﾁｽﾞｲﾄﾞｳ) | H3: 路 線 名 | J3: 一般国道187号 | M3: 定期点検実施者 | P3: 応用地質（株） | S3: 定期点検年月日 | U3: 45840
B4: 名 称 | E4: 稗原第1隧道 | H4: 管理者名 | J4: 山口県岩国土木建築事務所 | P4: 太田 裕之
B5: 写真 番号 | C5: 覆工スパン 番号 | E5: 2 | F5: 余 白 | M5: 写真 番号 | N5: 覆工スパン 番号 | P5: 2 | Q5: 余 白
C6: 変状番号 | E6: 1 | N6: 変状番号 | P6: 2
B7: 変状 部位 | C7: 対象箇所 | E7: 覆工 | M7: 変状 部位 | N7: 対象箇所 | P7: 覆工
C8: 部位区分 | E8: アーチ（天端） | N8: 部位区分 | P8: アーチ（天端）
B9: 変状種類 | E9: 漏水 | M9: 変状種類 | P9: 漏水
B10: 対策 区分 | C10: 変状区分 | E10: 漏水 | M10: 対策 区分 | N10: 変状区分 | P10: 漏水
C11: 応急措置前 | E11: － | N11: 応急措置前 | P11: －
C12: 応急措置後 | E12: Ⅱb | N12: 応急措置後 | P12: Ⅱa
B13: 変状の発生範囲及び規模 | E13: 10.63㎡（7.3m×1.8m） | H13: 前回変状の発生範囲及び規模 | J13: 記載なし | M13: 変状の発生範囲及び規模 | P13: 3.95㎡（7.9m×0.5m） | S13: 前回変状の発生範囲及び規模 | U13: 記載なし
B14: 対策履歴 | E14: なし | H14: 実施状況（実施日） | J14: － | M14: 対策履歴 | P14: なし | S14: 実施状況（実施日） | U14: －
B15: メモ | E15: ひび割れから漏水、にじみ程度、遊離石灰を伴う(前回点検時遊離石灰のみ) 【前回定期点検 Ⅱb判定】 | M15: メモ | P15: 滴水、にじみなし(前回点検時遊離石灰のみ)、路面に滞水あり、進行性あり 【前回定期点検 Ⅱb判定】
B16: 写真 番号 | C16: 覆工スパン 番号 | E16: 2 | F16: 余 白 | M16: 写真 番号 | N16: 覆工スパン 番号 | P16: 2 | Q16: 余 白
C17: 変状番号 | E17: 3 | N17: 変状番号 | P17: 4
B18: 変状 部位 | C18: 対象箇所 | E18: 覆工 | M18: 変状 部位 | N18: 対象箇所 | P18: 覆工
C19: 部位区分 | E19: 横断目地（天端） | N19: 部位区分 | P19: 横断目地（天端）
B20: 変状種類 | E20: 漏水 | M20: 変状種類 | P20: うき・はく離
B21: 対策 区分 | C21: 変状区分 | E21: 漏水 | M21: 対策 区分 | N21: 変状区分 | P21: 材質劣化
C22: 応急措置前 | E22: － | N22: 応急措置前 | P22: －
C23: 応急措置後 | E23: Ⅱb | N23: 応急措置後 | P23: Ⅰ
B24: 変状の発生範囲及び規模 | E24: 3.55㎡（7.1m×0.5m） | H24: 前回変状の発生範囲及び規模 | J24: 記載なし | M24: 変状の発生範囲及び規模 | P24: － | S24: 前回変状の発生範囲及び規模 | U24: 0.07㎡（0.35m×0.2m）
B25: 対策履歴 | E25: なし | H25: 実施状況（実施日） | J25: － | M25: 対策履歴 | P25: はく落防止工(FRPネット) | S25: 実施状況（実施日） | U25: －
B26: メモ | E26: 導水工から漏水、にじみ程度、遊離石灰を伴う 【前回定期点検 Ⅱb判定】 | M26: メモ | P26: 対策済み 【前回定期点検 Ⅱa判定】
C27: ※ 応急措置後の対策区分について添付すること。また、点検前に 実施された措置によりⅠと判定された箇所も添付すること。 | N27: ※ 変状の発生範囲の規模とは、対策を行う際に参考となる変状の長さや面積をいう。
N28: ※ 応急措置を実施しないで決定した変状の対策区分は、対策区分の応急措置後の欄に記入すること。
C29: ※ たたき落としを実施した場合は、実施後の写真を添付すること。 | N29: ※ 変状の発生範囲の規模は、面積・寸法を記載すること。(ひび割れ幅のみmmとし、その他をm表記とする)
C30: ※ 変状数に準じてシートを追加すること。（１シートに１ページとすること。） | N30: ※ 構造用鋼材以外の異物に伴ううき・はく離については、メモ欄に異物の概要を記入すること。

Sheet 様式D-1-1_003
B2: ■定期点検記録様式 変状写真台帳【様式D-1-1】 | R2: 施設ID | T2: 34.29094,131.95150
B3: フリガナ | E3: (ﾋｴﾊﾞﾗﾀﾞｲｲﾁｽﾞｲﾄﾞｳ) | H3: 路 線 名 | J3: 一般国道187号 | M3: 定期点検実施者 | P3: 応用地質（株） | S3: 定期点検年月日 | U3: 45840
B4: 名 称 | E4: 稗原第1隧道 | H4: 管理者名 | J4: 山口県岩国土木建築事務所 | P4: 太田 裕之
B5: 写真 番号 | C5: 覆工スパン 番号 | E5: 2 | F5: 余 白 | M5: 写真 番号 | N5: 覆工スパン 番号 | P5: 2 | Q5: 余 白
C6: 変状番号 | E6: 5 | N6: 変状番号 | P6: 6
B7: 変状 部位 | C7: 対象箇所 | E7: 覆工 | M7: 変状 部位 | N7: 対象箇所 | P7: 覆工
C8: 部位区分 | E8: 横断目地（右側） | N8: 部位区分 | P8: 横断目地（天端）
B9: 変状種類 | E9: うき・はく離 | M9: 変状種類 | P9: 漏水
B10: 対策 区分 | C10: 変状区分 | E10: 材質劣化 | M10: 対策 区分 | N10: 変状区分 | P10: 漏水
C11: 応急措置前 | E11: － | N11: 応急措置前 | P11: －
C12: 応急措置後 | E12: Ⅰ | N12: 応急措置後 | P12: Ⅱb
B13: 変状の発生範囲及び規模 | E13: － | H13: 前回変状の発生範囲及び規模 | J13: 0.05㎡（0.5m×0.1m） | M13: 変状の発生範囲及び規模 | P13: 0.4㎡（7.9m×0.5m） | S13: 前回変状の発生範囲及び規模 | U13: 記載なし
B14: 対策履歴 | E14: はく落防止工(FRPネット) | H14: 実施状況（実施日） | J14: － | M14: 対策履歴 | P14: なし | S14: 実施状況（実施日） | U14: －
B15: メモ | E15: 対策済み 【前回定期点検 Ⅱa判定】 | M15: メモ | P15: 今回点検時漏水なし(継続監視) 【前回定期点検 Ⅱb判定】
B16: 写真 番号 | C16: 覆工スパン 番号 | E16: 2 | F16: 余 白 | M16: 写真 番号 | N16: 覆工スパン 番号 | Q16: 余 白
C17: 変状番号 | E17: 7 | N17: 変状番号
B18: 変状 部位 | C18: 対象箇所 | E18: 覆工 | M18: 変状 部位 | N18: 対象箇所
C19: 部位区分 | E19: アーチ（左側） | N19: 部位区分
B20: 変状種類 | E20: 漏水 | M20: 変状種類
B21: 対策 区分 | C21: 変状区分 | E21: 漏水 | M21: 対策 区分 | N21: 変状区分
C22: 応急措置前 | E22: － | N22: 応急措置前
C23: 応急措置後 | E23: Ⅱb | N23: 応急措置後
B24: 変状の発生範囲及び規模 | E24: 5.8㎡（5.8m×1m） | H24: 前回変状の発生範囲及び規模 | J24: 記載なし | M24: 変状の発生範囲及び規模 | S24: 前回変状の発生範囲及び規模
B25: 対策履歴 | E25: なし | H25: 実施状況（実施日） | J25: － | M25: 対策履歴 | S25: 実施状況（実施日）
B26: メモ | E26: ひび割れから漏水、にじみ程度 【前回定期点検 Ⅱb判定】 | M26: メモ
C27: ※ 応急措置後の対策区分について添付すること。また、点検前に 実施された措置によりⅠと判定された箇所も添付すること。 | N27: ※ 変状の発生範囲の規模とは、対策を行う際に参考となる変状の長さや面積をいう。
N28: ※ 応急措置を実施しないで決定した変状の対策区分は、対策区分の応急措置後の欄に記入すること。
C29: ※ たたき落としを実施した場合は、実施後の写真を添付すること。 | N29: ※ 変状の発生範囲の規模は、面積・寸法を記載すること。(ひび割れ幅のみmmとし、その他をm表記とする)
C30: ※ 変状数に準じてシートを追加すること。（１シートに１ページとすること。） | N30: ※ 構造用鋼材以外の異物に伴ううき・はく離については、メモ欄に異物の概要を記入すること。

Sheet 様式D-1-1_004
B2: ■定期点検記録様式 変状写真台帳【様式D-1-1】 | R2: 施設ID | T2: 34.29094,131.95150
B3: フリガナ | E3: (ﾋｴﾊﾞﾗﾀﾞｲｲﾁｽﾞｲﾄﾞｳ) | H3: 路 線 名 | J3: 一般国道187号 | M3: 定期点検実施者 | P3: 応用地質（株） | S3: 定期点検年月日 | U3: 45840
B4: 名 称 | E4: 稗原第1隧道 | H4: 管理者名 | J4: 山口県岩国土木建築事務所 | P4: 太田 裕之
B5: 写真 番号 | C5: 覆工スパン 番号 | E5: 3 | F5: 余 白 | M5: 写真 番号 | N5: 覆工スパン 番号 | P5: 3 | Q5: 余 白
C6: 変状番号 | E6: 1 | N6: 変状番号 | P6: 2
B7: 変状 部位 | C7: 対象箇所 | E7: 覆工 | M7: 変状 部位 | N7: 対象箇所 | P7: 覆工
C8: 部位区分 | E8: 横断目地（左側） | N8: 部位区分 | P8: アーチ（天端）
B9: 変状種類 | E9: うき・はく離 | M9: 変状種類 | P9: 漏水
B10: 対策 区分 | C10: 変状区分 | E10: 材質劣化 | M10: 対策 区分 | N10: 変状区分 | P10: 漏水
C11: 応急措置前 | E11: － | N11: 応急措置前 | P11: －
C12: 応急措置後 | E12: Ⅰ | N12: 応急措置後 | P12: Ⅱb
B13: 変状の発生範囲及び規模 | E13: － | H13: 前回変状の発生範囲及び規模 | J13: 0.05㎡（0.5m×0.1m） | M13: 変状の発生範囲及び規模 | P13: 7㎡（7m×1m） | S13: 前回変状の発生範囲及び規模 | U13: 記載なし
B14: 対策履歴 | E14: はく落防止工(FRPネット) | H14: 実施状況（実施日） | J14: － | M14: 対策履歴 | P14: なし | S14: 実施状況（実施日） | U14: －
B15: メモ | E15: 対策済み 【前回定期点検 Ⅱa判定】 | M15: メモ | P15: ひび割れから漏水、にじみ程度、遊離石灰を伴う(前回点検時遊離石灰のみ) 【前回定期点検 Ⅱb判定】
B16: 写真 番号 | C16: 覆工スパン 番号 | E16: 3 | F16: 余 白 | M16: 写真 番号 | N16: 覆工スパン 番号 | P16: 3 | Q16: 余 白
C17: 変状番号 | E17: 3 | N17: 変状番号 | P17: 4
B18: 変状 部位 | C18: 対象箇所 | E18: 覆工 | M18: 変状 部位 | N18: 対象箇所 | P18: 覆工
C19: 部位区分 | E19: 横断目地（右側） | N19: 部位区分 | P19: アーチ（右側）
B20: 変状種類 | E20: 漏水 | M20: 変状種類 | P20: 漏水
B21: 対策 区分 | C21: 変状区分 | E21: 漏水 | M21: 対策 区分 | N21: 変状区分 | P21: 漏水
C22: 応急措置前 | E22: － | N22: 応急措置前 | P22: －
C23: 応急措置後 | E23: Ⅱb | N23: 応急措置後 | P23: Ⅱb
B24: 変状の発生範囲及び規模 | E24: 3㎡（6m×0.5m） | H24: 前回変状の発生範囲及び規模 | J24: 記載なし | M24: 変状の発生範囲及び規模 | P24: 3.28㎡（4.1m×0.8m） | S24: 前回変状の発生範囲及び規模 | U24: 記載なし
B25: 対策履歴 | E25: なし | H25: 実施状況（実施日） | J25: － | M25: 対策履歴 | P25: なし | S25: 実施状況（実施日） | U25: －
B26: メモ | E26: 導水工から漏水、にじみ程度、遊離石灰を伴う、進行性あり 【前回定期点検 Ⅱb判定】 | M26: メモ | P26: ひび割れから漏水、にじみ程度、遊離石灰を伴う(前回点検時遊離石灰のみ) 【前回定期点検 Ⅱb判定】
C27: ※ 応急措置後の対策区分について添付すること。また、点検前に 実施された措置によりⅠと判定された箇所も添付すること。 | N27: ※ 変状の発生範囲の規模とは、対策を行う際に参考となる変状の長さや面積をいう。
N28: ※ 応急措置を実施しないで決定した変状の対策区分は、対策区分の応急措置後の欄に記入すること。
C29: ※ たたき落としを実施した場合は、実施後の写真を添付すること。 | N29: ※ 変状の発生範囲の規模は、面積・寸法を記載すること。(ひび割れ幅のみmmとし、その他をm表記とする)
C30: ※ 変状数に準じてシートを追加すること。（１シートに１ページとすること。） | N30: ※ 構造用鋼材以外の異物に伴ううき・はく離については、メモ欄に異物の概要を記入すること。

Sheet 様式D-1-1_005
B2: ■定期点検記録様式 変状写真台帳【様式D-1-1】 | R2: 施設ID | T2: 34.29094,131.95150
B3: フリガナ | E3: (ﾋｴﾊﾞﾗﾀﾞｲｲﾁｽﾞｲﾄﾞｳ) | H3: 路 線 名 | J3: 一般国道187号 | M3: 定期点検実施者 | P3: 応用地質（株） | S3: 定期点検年月日 | U3: 45840
B4: 名 称 | E4: 稗原第1隧道 | H4: 管理者名 | J4: 山口県岩国土木建築事務所 | P4: 太田 裕之
B5: 写真 番号 | C5: 覆工スパン 番号 | E5: 3 | F5: 余 白 | M5: 写真 番号 | N5: 覆工スパン 番号 | P5: 3 | Q5: 余 白
C6: 変状番号 | E6: 5 | N6: 変状番号 | P6: 6
B7: 変状 部位 | C7: 対象箇所 | E7: 覆工 | M7: 変状 部位 | N7: 対象箇所 | P7: 覆工
C8: 部位区分 | E8: アーチ（天端） | N8: 部位区分 | P8: アーチ（左側）
B9: 変状種類 | E9: うき・はく離 | M9: 変状種類 | P9: 漏水
B10: 対策 区分 | C10: 変状区分 | E10: 材質劣化 | M10: 対策 区分 | N10: 変状区分 | P10: 漏水
C11: 応急措置前 | E11: － | N11: 応急措置前 | P11: －
C12: 応急措置後 | E12: Ⅰ | N12: 応急措置後 | P12: Ⅱb
B13: 変状の発生範囲及び規模 | E13: － | H13: 前回変状の発生範囲及び規模 | J13: 0.13㎡（0.25m×0.5m） | M13: 変状の発生範囲及び規模 | P13: 13.5㎡（5.4m×2.5m） | S13: 前回変状の発生範囲及び規模 | U13: 記載なし
B14: 対策履歴 | E14: はく落防止工(FRPネット) | H14: 実施状況（実施日） | J14: － | M14: 対策履歴 | P14: なし | S14: 実施状況（実施日） | U14: －
B15: メモ | E15: 対策済み 【前回定期点検 Ⅱa判定】 | M15: メモ | P15: 導水工から漏水、にじみ程度、遊離石灰を伴う(前回点検時遊離石灰のみ) 【前回定期点検 Ⅱb判定】
B16: 写真 番号 | C16: 覆工スパン 番号 | E16: 3 | F16: 余 白 | M16: 写真 番号 | N16: 覆工スパン 番号 | P16: 3 | Q16: 余 白
C17: 変状番号 | E17: 7 | N17: 変状番号 | P17: 8
B18: 変状 部位 | C18: 対象箇所 | E18: 覆工 | M18: 変状 部位 | N18: 対象箇所 | P18: 覆工
C19: 部位区分 | E19: アーチ（左側） | N19: 部位区分 | P19: 横断目地（左側）
B20: 変状種類 | E20: 漏水 | M20: 変状種類 | P20: うき・はく離
B21: 対策 区分 | C21: 変状区分 | E21: 漏水 | M21: 対策 区分 | N21: 変状区分 | P21: 材質劣化
C22: 応急措置前 | E22: － | N22: 応急措置前 | P22: －
C23: 応急措置後 | E23: Ⅱb | N23: 応急措置後 | P23: Ⅰ
B24: 変状の発生範囲及び規模 | E24: 18.72㎡（7.2m×3.1m） | H24: 前回変状の発生範囲及び規模 | J24: 記載なし | M24: 変状の発生範囲及び規模 | P24: － | S24: 前回変状の発生範囲及び規模 | U24: 0.24㎡（1.2m×0.2m）
B25: 対策履歴 | E25: なし | H25: 実施状況（実施日） | J25: － | M25: 対策履歴 | P25: はく落防止工(FRPネット) | S25: 実施状況（実施日） | U25: －
B26: メモ | E26: 導水工から漏水、にじみ程度、遊離石灰を伴う 【前回定期点検 Ⅱb判定】 | M26: メモ | P26: 対策済み 【前回定期点検 Ⅱa判定】
C27: ※ 応急措置後の対策区分について添付すること。また、点検前に 実施された措置によりⅠと判定された箇所も添付すること。 | N27: ※ 変状の発生範囲の規模とは、対策を行う際に参考となる変状の長さや面積をいう。
N28: ※ 応急措置を実施しないで決定した変状の対策区分は、対策区分の応急措置後の欄に記入すること。
C29: ※ たたき落としを実施した場合は、実施後の写真を添付すること。 | N29: ※ 変状の発生範囲の規模は、面積・寸法を記載すること。(ひび割れ幅のみmmとし、その他をm表記とする)
C30: ※ 変状数に準じてシートを追加すること。（１シートに１ページとすること。） | N30: ※ 構造用鋼材以外の異物に伴ううき・はく離については、メモ欄に異物の概要を記入すること。

Sheet 様式D-1-1_006
B2: ■定期点検記録様式 変状写真台帳【様式D-1-1】 | R2: 施設ID | T2: 34.29094,131.95150
B3: フリガナ | E3: (ﾋｴﾊﾞﾗﾀﾞｲｲﾁｽﾞｲﾄﾞｳ) | H3: 路 線 名 | J3: 一般国道187号 | M3: 定期点検実施者 | P3: 応用地質（株） | S3: 定期点検年月日 | U3: 45840
B4: 名 称 | E4: 稗原第1隧道 | H4: 管理者名 | J4: 山口県岩国土木建築事務所 | P4: 太田 裕之
B5: 写真 番号 | C5: 覆工スパン 番号 | E5: 3 | F5: 余 白 | M5: 写真 番号 | N5: 覆工スパン 番号 | P5: 3 | Q5: 余 白
C6: 変状番号 | E6: 9 | N6: 変状番号 | P6: 10
B7: 変状 部位 | C7: 対象箇所 | E7: 覆工 | M7: 変状 部位 | N7: 対象箇所 | P7: 覆工
C8: 部位区分 | E8: 水平打ち継ぎ目（左側） | N8: 部位区分 | P8: 横断目地（左側）
B9: 変状種類 | E9: うき・はく離 | M9: 変状種類 | P9: 漏水
B10: 対策 区分 | C10: 変状区分 | E10: 材質劣化 | M10: 対策 区分 | N10: 変状区分 | P10: 漏水
C11: 応急措置前 | E11: － | N11: 応急措置前 | P11: －
C12: 応急措置後 | E12: Ⅰ | N12: 応急措置後 | P12: Ⅱb
B13: 変状の発生範囲及び規模 | E13: － | H13: 前回変状の発生範囲及び規模 | J13: 0.6㎡（0.1m×6m） | M13: 変状の発生範囲及び規模 | P13: 2.65㎡（5.3m×0.5m） | S13: 前回変状の発生範囲及び規模 | U13: なし
B14: 対策履歴 | E14: はく落防止工(FRPネット) | H14: 実施状況（実施日） | J14: － | M14: 対策履歴 | P14: なし | S14: 実施状況（実施日） | U14: －
B15: メモ | E15: 対策済み 【前回定期点検 Ⅱb判定】 | M15: メモ | P15: 導水工から漏水、にじみ程度、遊離石灰を伴う 【今回新たに確認】
B16: 写真 番号 | C16: 覆工スパン 番号 | E16: 3 | F16: 余 白 | M16: 写真 番号 | N16: 覆工スパン 番号 | Q16: 余 白
C17: 変状番号 | E17: 11 | N17: 変状番号
B18: 変状 部位 | C18: 対象箇所 | E18: 覆工 | M18: 変状 部位 | N18: 対象箇所
C19: 部位区分 | E19: アーチ（左側） | N19: 部位区分
B20: 変状種類 | E20: 補修・補強材の破損 | M20: 変状種類
B21: 対策 区分 | C21: 変状区分 | E21: 漏水 | M21: 対策 区分 | N21: 変状区分
C22: 応急措置前 | E22: － | N22: 応急措置前
C23: 応急措置後 | E23: Ⅱa | N23: 応急措置後
B24: 変状の発生範囲及び規模 | E24: 0.15㎡（0.15m×1m） | H24: 前回変状の発生範囲及び規模 | J24: なし | M24: 変状の発生範囲及び規模 | S24: 前回変状の発生範囲及び規模
B25: 対策履歴 | E25: なし | H25: 実施状況（実施日） | J25: － | M25: 対策履歴 | S25: 実施状況（実施日）
B26: メモ | E26: 導水工の破損、漏水を伴う 【今回新たに確認】 | M26: メモ
C27: ※ 応急措置後の対策区分について添付すること。また、点検前に 実施された措置によりⅠと判定された箇所も添付すること。 | N27: ※ 変状の発生範囲の規模とは、対策を行う際に参考となる変状の長さや面積をいう。
N28: ※ 応急措置を実施しないで決定した変状の対策区分は、対策区分の応急措置後の欄に記入すること。
C29: ※ たたき落としを実施した場合は、実施後の写真を添付すること。 | N29: ※ 変状の発生範囲の規模は、面積・寸法を記載すること。(ひび割れ幅のみmmとし、その他をm表記とする)
C30: ※ 変状数に準じてシートを追加すること。（１シートに１ページとすること。） | N30: ※ 構造用鋼材以外の異物に伴ううき・はく離については、メモ欄に異物の概要を記入すること。

Sheet 様式D-1-1_007
B2: ■定期点検記録様式 変状写真台帳【様式D-1-1】 | R2: 施設ID | T2: 34.29094,131.95150
B3: フリガナ | E3: (ﾋｴﾊﾞﾗﾀﾞｲｲﾁｽﾞｲﾄﾞｳ) | H3: 路 線 名 | J3: 一般国道187号 | M3: 定期点検実施者 | P3: 応用地質（株） | S3: 定期点検年月日 | U3: 45840
B4: 名 称 | E4: 稗原第1隧道 | H4: 管理者名 | J4: 山口県岩国土木建築事務所 | P4: 太田 裕之
B5: 写真 番号 | C5: 覆工スパン 番号 | E5: 4 | F5: 余 白 | M5: 写真 番号 | N5: 覆工スパン 番号 | P5: 4 | Q5: 余 白
C6: 変状番号 | E6: 1 | N6: 変状番号 | P6: 2
B7: 変状 部位 | C7: 対象箇所 | E7: 覆工 | M7: 変状 部位 | N7: 対象箇所 | P7: 覆工
C8: 部位区分 | E8: 横断目地（天端） | N8: 部位区分 | P8: 横断目地（左側）
B9: 変状種類 | E9: 漏水 | M9: 変状種類 | P9: うき・はく離
B10: 対策 区分 | C10: 変状区分 | E10: 漏水 | M10: 対策 区分 | N10: 変状区分 | P10: 材質劣化
C11: 応急措置前 | E11: － | N11: 応急措置前 | P11: Ⅱb
C12: 応急措置後 | E12: Ⅱb | N12: 応急措置後 | P12: Ⅰ
B13: 変状の発生範囲及び規模 | E13: 3.75㎡（7.5m×0.5m） | H13: 前回変状の発生範囲及び規模 | J13: 記載なし | M13: 変状の発生範囲及び規模 | P13: 0.05㎡（0.5m×0.1m） | S13: 前回変状の発生範囲及び規模 | U13: 0.05㎡（0.5m×0.1m）
B14: 対策履歴 | E14: なし | H14: 実施状況（実施日） | J14: － | M14: 対策履歴 | P14: なし | S14: 実施状況（実施日） | U14: －
B15: メモ | E15: 導水工から漏水、にじみ程度、遊離石灰を伴う、進行性あり 【前回定期点検 Ⅱb判定】 | M15: メモ | P15: 導水工横のはく落、打音異常なし、今回点検時に叩き落とし実施(深さ30mm)、浸透固化材塗布 【前回定期点検 Ⅱb判定】
B16: 写真 番号 | C16: 覆工スパン 番号 | E16: 4 | F16: 余 白 | M16: 写真 番号 | N16: 覆工スパン 番号 | P16: 4 | Q16: 余 白
C17: 変状番号 | E17: 3 | N17: 変状番号 | P17: 4
B18: 変状 部位 | C18: 対象箇所 | E18: 覆工 | M18: 変状 部位 | N18: 対象箇所 | P18: 覆工
C19: 部位区分 | E19: 横断目地（左側） | N19: 部位区分 | P19: アーチ（天端）
B20: 変状種類 | E20: うき・はく離 | M20: 変状種類 | P20: うき・はく離
B21: 対策 区分 | C21: 変状区分 | E21: 材質劣化 | M21: 対策 区分 | N21: 変状区分 | P21: 材質劣化
C22: 応急措置前 | E22: － | N22: 応急措置前 | P22: －
C23: 応急措置後 | E23: Ⅰ | N23: 応急措置後 | P23: Ⅱb
B24: 変状の発生範囲及び規模 | E24: － | H24: 前回変状の発生範囲及び規模 | J24: 0.12㎡（0.6m×0.2m） | M24: 変状の発生範囲及び規模 | P24: 0.99㎡（1.1m×0.9m） | S24: 前回変状の発生範囲及び規模 | U24: 0.99㎡（1.1m×0.9m）
B25: 対策履歴 | E25: はく落防止工(FRPネット) | H25: 実施状況（実施日） | J25: － | M25: 対策履歴 | P25: なし | S25: 実施状況（実施日） | U25: －
B26: メモ | E26: 対策済み 【前回定期点検 Ⅱb判定】 | M26: メモ | P26: 豆板、打音異常なし 【前回定期点検 Ⅱb判定】
C27: ※ 応急措置後の対策区分について添付すること。また、点検前に 実施された措置によりⅠと判定された箇所も添付すること。 | N27: ※ 変状の発生範囲の規模とは、対策を行う際に参考となる変状の長さや面積をいう。
N28: ※ 応急措置を実施しないで決定した変状の対策区分は、対策区分の応急措置後の欄に記入すること。
C29: ※ たたき落としを実施した場合は、実施後の写真を添付すること。 | N29: ※ 変状の発生範囲の規模は、面積・寸法を記載すること。(ひび割れ幅のみmmとし、その他をm表記とする)
C30: ※ 変状数に準じてシートを追加すること。（１シートに１ページとすること。） | N30: ※ 構造用鋼材以外の異物に伴ううき・はく離については、メモ欄に異物の概要を記入すること。

Sheet 様式D-1-1_008
B2: ■定期点検記録様式 変状写真台帳【様式D-1-1】 | R2: 施設ID | T2: 34.29094,131.95150
B3: フリガナ | E3: (ﾋｴﾊﾞﾗﾀﾞｲｲﾁｽﾞｲﾄﾞｳ) | H3: 路 線 名 | J3: 一般国道187号 | M3: 定期点検実施者 | P3: 応用地質（株） | S3: 定期点検年月日 | U3: 45840
B4: 名 称 | E4: 稗原第1隧道 | H4: 管理者名 | J4: 山口県岩国土木建築事務所 | P4: 太田 裕之
B5: 写真 番号 | C5: 覆工スパン 番号 | E5: 4 | F5: 余 白 | M5: 写真 番号 | N5: 覆工スパン 番号 | P5: 4 | Q5: 余 白
C6: 変状番号 | E6: 5 | N6: 変状番号 | P6: 6
B7: 変状 部位 | C7: 対象箇所 | E7: 覆工 | M7: 変状 部位 | N7: 対象箇所 | P7: 覆工
C8: 部位区分 | E8: アーチ（右側） | N8: 部位区分 | P8: 横断目地（天端）
B9: 変状種類 | E9: 漏水 | M9: 変状種類 | P9: うき・はく離
B10: 対策 区分 | C10: 変状区分 | E10: 漏水 | M10: 対策 区分 | N10: 変状区分 | P10: 材質劣化
C11: 応急措置前 | E11: － | N11: 応急措置前 | P11: －
C12: 応急措置後 | E12: Ⅱb | N12: 応急措置後 | P12: Ⅰ
B13: 変状の発生範囲及び規模 | E13: 6.5㎡（6.5m×1m） | H13: 前回変状の発生範囲及び規模 | J13: 記載なし | M13: 変状の発生範囲及び規模 | P13: － | S13: 前回変状の発生範囲及び規模 | U13: 0.11㎡（0.7m×0.15m）
B14: 対策履歴 | E14: なし | H14: 実施状況（実施日） | J14: － | M14: 対策履歴 | P14: はく落防止工(FRPネット) | S14: 実施状況（実施日） | U14: －
B15: メモ | E15: 漏水、にじみ程度、遊離石灰を伴う 【前回定期点検 Ⅱb判定】 | M15: メモ | P15: 対策済み 【前回定期点検 Ⅱa判定】
B16: 写真 番号 | C16: 覆工スパン 番号 | E16: 4 | F16: 余 白 | M16: 写真 番号 | N16: 覆工スパン 番号 | P16: 4 | Q16: 余 白
C17: 変状番号 | E17: 7 | N17: 変状番号 | P17: 8
B18: 変状 部位 | C18: 対象箇所 | E18: 覆工 | M18: 変状 部位 | N18: 対象箇所 | P18: 覆工
C19: 部位区分 | E19: 水平打ち継ぎ目（左側） | N19: 部位区分 | P19: 水平打ち継ぎ目（左側）
B20: 変状種類 | E20: うき・はく離 | M20: 変状種類 | P20: うき・はく離
B21: 対策 区分 | C21: 変状区分 | E21: 材質劣化 | M21: 対策 区分 | N21: 変状区分 | P21: 材質劣化
C22: 応急措置前 | E22: － | N22: 応急措置前 | P22: －
C23: 応急措置後 | E23: Ⅰ | N23: 応急措置後 | P23: Ⅰ
B24: 変状の発生範囲及び規模 | E24: － | H24: 前回変状の発生範囲及び規模 | J24: 0.14㎡（0.1m×1.4m） | M24: 変状の発生範囲及び規模 | P24: － | S24: 前回変状の発生範囲及び規模 | U24: 0.3㎡（0.1m×3m）
B25: 対策履歴 | E25: はく落防止工(FRPネット) | H25: 実施状況（実施日） | J25: － | M25: 対策履歴 | P25: はく落防止工(FRPネット) | S25: 実施状況（実施日） | U25: －
B26: メモ | E26: 対策済み 【前回定期点検 Ⅱb判定】 | M26: メモ | P26: 対策済み 【前回定期点検 Ⅱb判定】
C27: ※ 応急措置後の対策区分について添付すること。また、点検前に 実施された措置によりⅠと判定された箇所も添付すること。 | N27: ※ 変状の発生範囲の規模とは、対策を行う際に参考となる変状の長さや面積をいう。
N28: ※ 応急措置を実施しないで決定した変状の対策区分は、対策区分の応急措置後の欄に記入すること。
C29: ※ たたき落としを実施した場合は、実施後の写真を添付すること。 | N29: ※ 変状の発生範囲の規模は、面積・寸法を記載すること。(ひび割れ幅のみmmとし、その他をm表記とする)
C30: ※ 変状数に準じてシートを追加すること。（１シートに１ページとすること。） | N30: ※ 構造用鋼材以外の異物に伴ううき・はく離については、メモ欄に異物の概要を記入すること。

Sheet 様式D-1-1_009
B2: ■定期点検記録様式 変状写真台帳【様式D-1-1】 | R2: 施設ID | T2: 34.29094,131.95150
B3: フリガナ | E3: (ﾋｴﾊﾞﾗﾀﾞｲｲﾁｽﾞｲﾄﾞｳ) | H3: 路 線 名 | J3: 一般国道187号 | M3: 定期点検実施者 | P3: 応用地質（株） | S3: 定期点検年月日 | U3: 45840
B4: 名 称 | E4: 稗原第1隧道 | H4: 管理者名 | J4: 山口県岩国土木建築事務所 | P4: 太田 裕之
B5: 写真 番号 | C5: 覆工スパン 番号 | E5: 4 | F5: 余 白 | M5: 写真 番号 | N5: 覆工スパン 番号 | P5: 4 | Q5: 余 白
C6: 変状番号 | E6: 9 | N6: 変状番号 | P6: 10
B7: 変状 部位 | C7: 対象箇所 | E7: 覆工 | M7: 変状 部位 | N7: 対象箇所 | P7: 覆工
C8: 部位区分 | E8: 横断目地（右側） | N8: 部位区分 | P8: 横断目地（左側）
B9: 変状種類 | E9: うき・はく離 | M9: 変状種類 | P9: 補修・補強材の破損
B10: 対策 区分 | C10: 変状区分 | E10: 材質劣化 | M10: 対策 区分 | N10: 変状区分 | P10: 漏水
C11: 応急措置前 | E11: － | N11: 応急措置前 | P11: －
C12: 応急措置後 | E12: Ⅰ | N12: 応急措置後 | P12: Ⅱb
B13: 変状の発生範囲及び規模 | E13: － | H13: 前回変状の発生範囲及び規模 | J13: 0.48㎡（2.4m×0.2m） | M13: 変状の発生範囲及び規模 | P13: 0.11㎡（0.7m×0.15m） | S13: 前回変状の発生範囲及び規模 | U13: なし
B14: 対策履歴 | E14: はく落防止工(FRPネット) | H14: 実施状況（実施日） | J14: － | M14: 対策履歴 | P14: なし | S14: 実施状況（実施日） | U14: －
B15: メモ | E15: 対策済み 【前回定期点検 Ⅱb判定】 | M15: メモ | P15: 導水工の劣化 【今回新たに確認】
B16: 写真 番号 | C16: 覆工スパン 番号 | E16: 4 | F16: 余 白 | M16: 写真 番号 | N16: 覆工スパン 番号 | P16: 4 | Q16: 余 白
C17: 変状番号 | E17: 11 | N17: 変状番号 | P17: 12
B18: 変状 部位 | C18: 対象箇所 | E18: 覆工 | M18: 変状 部位 | N18: 対象箇所 | P18: 覆工
C19: 部位区分 | E19: 横断目地（左側） | N19: 部位区分 | P19: 横断目地（左側）
B20: 変状種類 | E20: 補修・補強材の破損 | M20: 変状種類 | P20: 補修・補強材の破損
B21: 対策 区分 | C21: 変状区分 | E21: 漏水 | M21: 対策 区分 | N21: 変状区分 | P21: 漏水
C22: 応急措置前 | E22: － | N22: 応急措置前 | P22: －
C23: 応急措置後 | E23: Ⅱb | N23: 応急措置後 | P23: Ⅱb
B24: 変状の発生範囲及び規模 | E24: 0.02㎡（0.2m×0.1m） | H24: 前回変状の発生範囲及び規模 | J24: なし | M24: 変状の発生範囲及び規模 | P24: 0.06㎡（0.6m×0.1m） | S24: 前回変状の発生範囲及び規模 | U24: なし
B25: 対策履歴 | E25: なし | H25: 実施状況（実施日） | J25: － | M25: 対策履歴 | P25: なし | S25: 実施状況（実施日） | U25: －
B26: メモ | E26: 導水工の劣化 【今回新たに確認】 | M26: メモ | P26: 導水工の劣化 【今回新たに確認】
C27: ※ 応急措置後の対策区分について添付すること。また、点検前に 実施された措置によりⅠと判定された箇所も添付すること。 | N27: ※ 変状の発生範囲の規模とは、対策を行う際に参考となる変状の長さや面積をいう。
N28: ※ 応急措置を実施しないで決定した変状の対策区分は、対策区分の応急措置後の欄に記入すること。
C29: ※ たたき落としを実施した場合は、実施後の写真を添付すること。 | N29: ※ 変状の発生範囲の規模は、面積・寸法を記載すること。(ひび割れ幅のみmmとし、その他をm表記とする)
C30: ※ 変状数に準じてシートを追加すること。（１シートに１ページとすること。） | N30: ※ 構造用鋼材以外の異物に伴ううき・はく離については、メモ欄に異物の概要を記入すること。

Sheet 様式D-1-1_010
B2: ■定期点検記録様式 変状写真台帳【様式D-1-1】 | R2: 施設ID | T2: 34.29094,131.95150
B3: フリガナ | E3: (ﾋｴﾊﾞﾗﾀﾞｲｲﾁｽﾞｲﾄﾞｳ) | H3: 路 線 名 | J3: 一般国道187号 | M3: 定期点検実施者 | P3: 応用地質（株） | S3: 定期点検年月日 | U3: 45840
B4: 名 称 | E4: 稗原第1隧道 | H4: 管理者名 | J4: 山口県岩国土木建築事務所 | P4: 太田 裕之
B5: 写真 番号 | C5: 覆工スパン 番号 | E5: 4 | F5: 余 白 | M5: 写真 番号 | N5: 覆工スパン 番号 | Q5: 余 白
C6: 変状番号 | E6: 13 | N6: 変状番号
B7: 変状 部位 | C7: 対象箇所 | E7: 覆工 | M7: 変状 部位 | N7: 対象箇所
C8: 部位区分 | E8: 横断目地（右側） | N8: 部位区分
B9: 変状種類 | E9: 補修・補強材の破損 | M9: 変状種類
B10: 対策 区分 | C10: 変状区分 | E10: 漏水 | M10: 対策 区分 | N10: 変状区分
C11: 応急措置前 | E11: － | N11: 応急措置前
C12: 応急措置後 | E12: Ⅱb | N12: 応急措置後
B13: 変状の発生範囲及び規模 | E13: 0.02㎡（0.15m×0.1m） | H13: 前回変状の発生範囲及び規模 | J13: なし | M13: 変状の発生範囲及び規模 | S13: 前回変状の発生範囲及び規模
B14: 対策履歴 | E14: なし | H14: 実施状況（実施日） | J14: － | M14: 対策履歴 | S14: 実施状況（実施日）
B15: メモ | E15: 導水工の劣化 【今回新たに確認】 | M15: メモ
B16: 写真 番号 | C16: 覆工スパン 番号 | F16: 余 白 | M16: 写真 番号 | N16: 覆工スパン 番号 | Q16: 余 白
C17: 変状番号 | N17: 変状番号
B18: 変状 部位 | C18: 対象箇所 | M18: 変状 部位 | N18: 対象箇所
C19: 部位区分 | N19: 部位区分
B20: 変状種類 | M20: 変状種類
B21: 対策 区分 | C21: 変状区分 | M21: 対策 区分 | N21: 変状区分
C22: 応急措置前 | N22: 応急措置前
C23: 応急措置後 | N23: 応急措置後
B24: 変状の発生範囲及び規模 | H24: 前回変状の発生範囲及び規模 | M24: 変状の発生範囲及び規模 | S24: 前回変状の発生範囲及び規模
B25: 対策履歴 | H25: 実施状況（実施日） | M25: 対策履歴 | S25: 実施状況（実施日）
B26: メモ | M26: メモ
C27: ※ 応急措置後の対策区分について添付すること。また、点検前に 実施された措置によりⅠと判定された箇所も添付すること。 | N27: ※ 変状の発生範囲の規模とは、対策を行う際に参考となる変状の長さや面積をいう。
N28: ※ 応急措置を実施しないで決定した変状の対策区分は、対策区分の応急措置後の欄に記入すること。
C29: ※ たたき落としを実施した場合は、実施後の写真を添付すること。 | N29: ※ 変状の発生範囲の規模は、面積・寸法を記載すること。(ひび割れ幅のみmmとし、その他をm表記とする)
C30: ※ 変状数に準じてシートを追加すること。（１シートに１ページとすること。） | N30: ※ 構造用鋼材以外の異物に伴ううき・はく離については、メモ欄に異物の概要を記入すること。

Sheet 様式D-1-1_011
B2: ■定期点検記録様式 変状写真台帳【様式D-1-1】 | R2: 施設ID | T2: 34.29094,131.95150
B3: フリガナ | E3: (ﾋｴﾊﾞﾗﾀﾞｲｲﾁｽﾞｲﾄﾞｳ) | H3: 路 線 名 | J3: 一般国道187号 | M3: 定期点検実施者 | P3: 応用地質（株） | S3: 定期点検年月日 | U3: 45840
B4: 名 称 | E4: 稗原第1隧道 | H4: 管理者名 | J4: 山口県岩国土木建築事務所 | P4: 太田 裕之
B5: 写真 番号 | C5: 覆工スパン 番号 | E5: 5 | F5: 余 白 | M5: 写真 番号 | N5: 覆工スパン 番号 | P5: 5 | Q5: 余 白
C6: 変状番号 | E6: 1 | N6: 変状番号 | P6: 2
B7: 変状 部位 | C7: 対象箇所 | E7: 覆工 | M7: 変状 部位 | N7: 対象箇所 | P7: 覆工
C8: 部位区分 | E8: アーチ（天端） | N8: 部位区分 | P8: 横断目地（右側）
B9: 変状種類 | E9: うき・はく離 | M9: 変状種類 | P9: うき・はく離
B10: 対策 区分 | C10: 変状区分 | E10: 材質劣化 | M10: 対策 区分 | N10: 変状区分 | P10: 材質劣化
C11: 応急措置前 | E11: － | N11: 応急措置前 | P11: －
C12: 応急措置後 | E12: Ⅰ | N12: 応急措置後 | P12: Ⅰ
B13: 変状の発生範囲及び規模 | E13: － | H13: 前回変状の発生範囲及び規模 | J13: 5.1㎡（3m×1.7m） | M13: 変状の発生範囲及び規模 | P13: － | S13: 前回変状の発生範囲及び規模 | U13: 0.12㎡（1.2m×0.1m）
B14: 対策履歴 | E14: シート繊維工 | H14: 実施状況（実施日） | J14: － | M14: 対策履歴 | P14: はく落防止工(FRPネット) | S14: 実施状況（実施日） | U14: －
B15: メモ | E15: 対策済み 【前回定期点検 Ⅲ判定】 | M15: メモ | P15: 対策済み 【前回定期点検 Ⅱa判定】
B16: 写真 番号 | C16: 覆工スパン 番号 | E16: 5 | F16: 余 白 | M16: 写真 番号 | N16: 覆工スパン 番号 | P16: 5 | Q16: 余 白
C17: 変状番号 | E17: 3 | N17: 変状番号 | P17: 4
B18: 変状 部位 | C18: 対象箇所 | E18: 覆工 | M18: 変状 部位 | N18: 対象箇所 | P18: 覆工
C19: 部位区分 | E19: 横断目地（右側） | N19: 部位区分 | P19: 横断目地（天端）
B20: 変状種類 | E20: うき・はく離 | M20: 変状種類 | P20: うき・はく離
B21: 対策 区分 | C21: 変状区分 | E21: 材質劣化 | M21: 対策 区分 | N21: 変状区分 | P21: 材質劣化
C22: 応急措置前 | E22: － | N22: 応急措置前 | P22: －
C23: 応急措置後 | E23: Ⅰ | N23: 応急措置後 | P23: Ⅰ
B24: 変状の発生範囲及び規模 | E24: － | H24: 前回変状の発生範囲及び規模 | J24: 0.01㎡（0.1m×0.05m） | M24: 変状の発生範囲及び規模 | P24: － | S24: 前回変状の発生範囲及び規模 | U24: 0.21㎡（1.4m×0.15m）
B25: 対策履歴 | E25: はく落防止工(FRPネット) | H25: 実施状況（実施日） | J25: － | M25: 対策履歴 | P25: はく落防止工(FRPネット) | S25: 実施状況（実施日） | U25: －
B26: メモ | E26: 対策済み 【前回定期点検 Ⅱb判定】 | M26: メモ | P26: 対策済み 【前回定期点検 Ⅱb判定】
C27: ※ 応急措置後の対策区分について添付すること。また、点検前に 実施された措置によりⅠと判定された箇所も添付すること。 | N27: ※ 変状の発生範囲の規模とは、対策を行う際に参考となる変状の長さや面積をいう。
N28: ※ 応急措置を実施しないで決定した変状の対策区分は、対策区分の応急措置後の欄に記入すること。
C29: ※ たたき落としを実施した場合は、実施後の写真を添付すること。 | N29: ※ 変状の発生範囲の規模は、面積・寸法を記載すること。(ひび割れ幅のみmmとし、その他をm表記とする)
C30: ※ 変状数に準じてシートを追加すること。（１シートに１ページとすること。） | N30: ※ 構造用鋼材以外の異物に伴ううき・はく離については、メモ欄に異物の概要を記入すること。

Sheet 様式D-1-1_012
B2: ■定期点検記録様式 変状写真台帳【様式D-1-1】 | R2: 施設ID | T2: 34.29094,131.95150
B3: フリガナ | E3: (ﾋｴﾊﾞﾗﾀﾞｲｲﾁｽﾞｲﾄﾞｳ) | H3: 路 線 名 | J3: 一般国道187号 | M3: 定期点検実施者 | P3: 応用地質（株） | S3: 定期点検年月日 | U3: 45840
B4: 名 称 | E4: 稗原第1隧道 | H4: 管理者名 | J4: 山口県岩国土木建築事務所 | P4: 太田 裕之
B5: 写真 番号 | C5: 覆工スパン 番号 | E5: 5 | F5: 余 白 | M5: 写真 番号 | N5: 覆工スパン 番号 | P5: 5 | Q5: 余 白
C6: 変状番号 | E6: 5 | N6: 変状番号 | P6: 6
B7: 変状 部位 | C7: 対象箇所 | E7: 覆工 | M7: 変状 部位 | N7: 対象箇所 | P7: 覆工
C8: 部位区分 | E8: 水平打ち継ぎ目（左側） | N8: 部位区分 | P8: 水平打ち継ぎ目（左側）
B9: 変状種類 | E9: うき・はく離 | M9: 変状種類 | P9: うき・はく離
B10: 対策 区分 | C10: 変状区分 | E10: 材質劣化 | M10: 対策 区分 | N10: 変状区分 | P10: 材質劣化
C11: 応急措置前 | E11: － | N11: 応急措置前 | P11: －
C12: 応急措置後 | E12: Ⅰ | N12: 応急措置後 | P12: Ⅰ
B13: 変状の発生範囲及び規模 | E13: － | H13: 前回変状の発生範囲及び規模 | J13: 0.08㎡（0.05m×1.5m） | M13: 変状の発生範囲及び規模 | P13: － | S13: 前回変状の発生範囲及び規模 | U13: 0.13㎡（0.05m×2.5m）
B14: 対策履歴 | E14: はく落防止工(FRPネット) | H14: 実施状況（実施日） | J14: － | M14: 対策履歴 | P14: はく落防止工(FRPネット) | S14: 実施状況（実施日） | U14: －
B15: メモ | E15: 対策済み 【前回定期点検 Ⅱb判定】 | M15: メモ | P15: 対策済み 【前回定期点検 Ⅱb判定】
B16: 写真 番号 | C16: 覆工スパン 番号 | E16: 5 | F16: 余 白 | M16: 写真 番号 | N16: 覆工スパン 番号 | P16: 5 | Q16: 余 白
C17: 変状番号 | E17: 7 | N17: 変状番号 | P17: 8
B18: 変状 部位 | C18: 対象箇所 | E18: 覆工 | M18: 変状 部位 | N18: 対象箇所 | P18: 覆工
C19: 部位区分 | E19: 水平打ち継ぎ目（左側） | N19: 部位区分 | P19: 横断目地（天端）
B20: 変状種類 | E20: うき・はく離 | M20: 変状種類 | P20: 漏水
B21: 対策 区分 | C21: 変状区分 | E21: 材質劣化 | M21: 対策 区分 | N21: 変状区分 | P21: 漏水
C22: 応急措置前 | E22: － | N22: 応急措置前 | P22: －
C23: 応急措置後 | E23: Ⅰ | N23: 応急措置後 | P23: Ⅱb
B24: 変状の発生範囲及び規模 | E24: － | H24: 前回変状の発生範囲及び規模 | J24: 0.18㎡（0.1m×1.8m） | M24: 変状の発生範囲及び規模 | P24: 2.8㎡（7.9m×0.5m） | S24: 前回変状の発生範囲及び規模 | U24: 記載なし
B25: 対策履歴 | E25: はく落防止工(FRPネット) | H25: 実施状況（実施日） | J25: － | M25: 対策履歴 | P25: なし | S25: 実施状況（実施日） | U25: －
B26: メモ | E26: 対策済み 【前回定期点検 Ⅱb判定】 | M26: メモ | P26: 導水工から漏水、にじみ程度、遊離石灰を伴う 【前回定期点検 Ⅱb判定】
C27: ※ 応急措置後の対策区分について添付すること。また、点検前に 実施された措置によりⅠと判定された箇所も添付すること。 | N27: ※ 変状の発生範囲の規模とは、対策を行う際に参考となる変状の長さや面積をいう。
N28: ※ 応急措置を実施しないで決定した変状の対策区分は、対策区分の応急措置後の欄に記入すること。
C29: ※ たたき落としを実施した場合は、実施後の写真を添付すること。 | N29: ※ 変状の発生範囲の規模は、面積・寸法を記載すること。(ひび割れ幅のみmmとし、その他をm表記とする)
C30: ※ 変状数に準じてシートを追加すること。（１シートに１ページとすること。） | N30: ※ 構造用鋼材以外の異物に伴ううき・はく離については、メモ欄に異物の概要を記入すること。

Sheet 様式D-1-1_013
B2: ■定期点検記録様式 変状写真台帳【様式D-1-1】 | R2: 施設ID | T2: 34.29094,131.95150
B3: フリガナ | E3: (ﾋｴﾊﾞﾗﾀﾞｲｲﾁｽﾞｲﾄﾞｳ) | H3: 路 線 名 | J3: 一般国道187号 | M3: 定期点検実施者 | P3: 応用地質（株） | S3: 定期点検年月日 | U3: 45840
B4: 名 称 | E4: 稗原第1隧道 | H4: 管理者名 | J4: 山口県岩国土木建築事務所 | P4: 太田 裕之
B5: 写真 番号 | C5: 覆工スパン 番号 | E5: 5 | F5: 余 白 | M5: 写真 番号 | N5: 覆工スパン 番号 | P5: 5 | Q5: 余 白
C6: 変状番号 | E6: 9 | N6: 変状番号 | P6: 10
B7: 変状 部位 | C7: 対象箇所 | E7: 覆工 | M7: 変状 部位 | N7: 対象箇所 | P7: 覆工
C8: 部位区分 | E8: 横断目地（左側） | N8: 部位区分 | P8: 横断目地（右側）
B9: 変状種類 | E9: 漏水 | M9: 変状種類 | P9: 漏水
B10: 対策 区分 | C10: 変状区分 | E10: 漏水 | M10: 対策 区分 | N10: 変状区分 | P10: 漏水
C11: 応急措置前 | E11: － | N11: 応急措置前 | P11: －
C12: 応急措置後 | E12: Ⅱb | N12: 応急措置後 | P12: Ⅱb
B13: 変状の発生範囲及び規模 | E13: 1.35㎡（2.7m×0.5m） | H13: 前回変状の発生範囲及び規模 | J13: 記載なし | M13: 変状の発生範囲及び規模 | P13: 1.15㎡（2.3m×0.5m） | S13: 前回変状の発生範囲及び規模 | U13: 記載なし
B14: 対策履歴 | E14: なし | H14: 実施状況（実施日） | J14: － | M14: 対策履歴 | P14: なし | S14: 実施状況（実施日） | U14: －
B15: メモ | E15: 導水工から漏水、にじみ程度、遊離石灰を伴う、進行性あり 【前回定期点検 Ⅱb判定】 | M15: メモ | P15: 導水工から漏水、にじみ程度、遊離石灰を伴う 【前回定期点検 Ⅱb判定】
B16: 写真 番号 | C16: 覆工スパン 番号 | F16: 余 白 | M16: 写真 番号 | N16: 覆工スパン 番号 | Q16: 余 白
C17: 変状番号 | N17: 変状番号
B18: 変状 部位 | C18: 対象箇所 | M18: 変状 部位 | N18: 対象箇所
C19: 部位区分 | N19: 部位区分
B20: 変状種類 | M20: 変状種類
B21: 対策 区分 | C21: 変状区分 | M21: 対策 区分 | N21: 変状区分
C22: 応急措置前 | N22: 応急措置前
C23: 応急措置後 | N23: 応急措置後
B24: 変状の発生範囲及び規模 | H24: 前回変状の発生範囲及び規模 | M24: 変状の発生範囲及び規模 | S24: 前回変状の発生範囲及び規模
B25: 対策履歴 | H25: 実施状況（実施日） | M25: 対策履歴 | S25: 実施状況（実施日）
B26: メモ | M26: メモ
C27: ※ 応急措置後の対策区分について添付すること。また、点検前に 実施された措置によりⅠと判定された箇所も添付すること。 | N27: ※ 変状の発生範囲の規模とは、対策を行う際に参考となる変状の長さや面積をいう。
N28: ※ 応急措置を実施しないで決定した変状の対策区分は、対策区分の応急措置後の欄に記入すること。
C29: ※ たたき落としを実施した場合は、実施後の写真を添付すること。 | N29: ※ 変状の発生範囲の規模は、面積・寸法を記載すること。(ひび割れ幅のみmmとし、その他をm表記とする)
C30: ※ 変状数に準じてシートを追加すること。（１シートに１ページとすること。） | N30: ※ 構造用鋼材以外の異物に伴ううき・はく離については、メモ欄に異物の概要を記入すること。

Sheet 様式D-1-1_014
B2: ■定期点検記録様式 変状写真台帳【様式D-1-1】 | R2: 施設ID | T2: 34.29094,131.95150
B3: フリガナ | E3: (ﾋｴﾊﾞﾗﾀﾞｲｲﾁｽﾞｲﾄﾞｳ) | H3: 路 線 名 | J3: 一般国道187号 | M3: 定期点検実施者 | P3: 応用地質（株） | S3: 定期点検年月日 | U3: 45840
B4: 名 称 | E4: 稗原第1隧道 | H4: 管理者名 | J4: 山口県岩国土木建築事務所 | P4: 太田 裕之
B5: 写真 番号 | C5: 覆工スパン 番号 | E5: 6 | F5: 余 白 | M5: 写真 番号 | N5: 覆工スパン 番号 | P5: 6 | Q5: 余 白
C6: 変状番号 | E6: 1 | N6: 変状番号 | P6: 2
B7: 変状 部位 | C7: 対象箇所 | E7: 覆工 | M7: 変状 部位 | N7: 対象箇所 | P7: 覆工
C8: 部位区分 | E8: 横断目地（左側） | N8: 部位区分 | P8: 横断目地（天端）
B9: 変状種類 | E9: うき・はく離 | M9: 変状種類 | P9: 補修・補強材の破損
B10: 対策 区分 | C10: 変状区分 | E10: 材質劣化 | M10: 対策 区分 | N10: 変状区分 | P10: 漏水
C11: 応急措置前 | E11: － | N11: 応急措置前 | P11: －
C12: 応急措置後 | E12: Ⅰ | N12: 応急措置後 | P12: Ⅱb
B13: 変状の発生範囲及び規模 | E13: － | H13: 前回変状の発生範囲及び規模 | J13: 0.12㎡（0.6m×0.2m） | M13: 変状の発生範囲及び規模 | P13: 0.03㎡（0.5m×0.05m） | S13: 前回変状の発生範囲及び規模 | U13: 0.06㎡（0.6m×0.1m）
B14: 対策履歴 | E14: はく落防止工(FRPネット) | H14: 実施状況（実施日） | J14: － | M14: 対策履歴 | P14: なし | S14: 実施状況（実施日） | U14: －
B15: メモ | E15: 対策済み 【前回定期点検 Ⅱa判定】 | M15: メモ | P15: 導水工の劣化、変状区分・変状種類変更 【前回定期点検 Ⅱb判定】
B16: 写真 番号 | C16: 覆工スパン 番号 | E16: 6 | F16: 余 白 | M16: 写真 番号 | N16: 覆工スパン 番号 | P16: 6 | Q16: 余 白
C17: 変状番号 | E17: 3 | N17: 変状番号 | P17: 4
B18: 変状 部位 | C18: 対象箇所 | E18: 覆工 | M18: 変状 部位 | N18: 対象箇所 | P18: 覆工
C19: 部位区分 | E19: 横断目地（右側） | N19: 部位区分 | P19: 横断目地（天端）
B20: 変状種類 | E20: 漏水 | M20: 変状種類 | P20: うき・はく離
B21: 対策 区分 | C21: 変状区分 | E21: 漏水 | M21: 対策 区分 | N21: 変状区分 | P21: 材質劣化
C22: 応急措置前 | E22: － | N22: 応急措置前 | P22: －
C23: 応急措置後 | E23: Ⅱb | N23: 応急措置後 | P23: Ⅰ
B24: 変状の発生範囲及び規模 | E24: 1.65㎡（3.3m×0.5m） | H24: 前回変状の発生範囲及び規模 | J24: 記載なし | M24: 変状の発生範囲及び規模 | P24: － | S24: 前回変状の発生範囲及び規模 | U24: 0.05㎡（0.45m×0.1m）
B25: 対策履歴 | E25: なし | H25: 実施状況（実施日） | J25: － | M25: 対策履歴 | P25: はく落防止工(FRPネット) | S25: 実施状況（実施日） | U25: －
B26: メモ | E26: 導水工から漏水、にじみ程度 【前回定期点検 Ⅱb判定】 | M26: メモ | P26: 対策済み 【前回定期点検 Ⅱb判定】
C27: ※ 応急措置後の対策区分について添付すること。また、点検前に 実施された措置によりⅠと判定された箇所も添付すること。 | N27: ※ 変状の発生範囲の規模とは、対策を行う際に参考となる変状の長さや面積をいう。
N28: ※ 応急措置を実施しないで決定した変状の対策区分は、対策区分の応急措置後の欄に記入すること。
C29: ※ たたき落としを実施した場合は、実施後の写真を添付すること。 | N29: ※ 変状の発生範囲の規模は、面積・寸法を記載すること。(ひび割れ幅のみmmとし、その他をm表記とする)
C30: ※ 変状数に準じてシートを追加すること。（１シートに１ページとすること。） | N30: ※ 構造用鋼材以外の異物に伴ううき・はく離については、メモ欄に異物の概要を記入すること。

Sheet 様式D-1-1_015
B2: ■定期点検記録様式 変状写真台帳【様式D-1-1】 | R2: 施設ID | T2: 34.29094,131.95150
B3: フリガナ | E3: (ﾋｴﾊﾞﾗﾀﾞｲｲﾁｽﾞｲﾄﾞｳ) | H3: 路 線 名 | J3: 一般国道187号 | M3: 定期点検実施者 | P3: 応用地質（株） | S3: 定期点検年月日 | U3: 45840
B4: 名 称 | E4: 稗原第1隧道 | H4: 管理者名 | J4: 山口県岩国土木建築事務所 | P4: 太田 裕之
B5: 写真 番号 | C5: 覆工スパン 番号 | E5: 6 | F5: 余 白 | M5: 写真 番号 | N5: 覆工スパン 番号 | P5: 6 | Q5: 余 白
C6: 変状番号 | E6: 5 | N6: 変状番号 | P6: 6
B7: 変状 部位 | C7: 対象箇所 | E7: 覆工 | M7: 変状 部位 | N7: 対象箇所 | P7: 覆工
C8: 部位区分 | E8: 側壁（左側） | N8: 部位区分 | P8: 水平打ち継ぎ目（左側）
B9: 変状種類 | E9: うき・はく離 | M9: 変状種類 | P9: うき・はく離
B10: 対策 区分 | C10: 変状区分 | E10: 材質劣化 | M10: 対策 区分 | N10: 変状区分 | P10: 材質劣化
C11: 応急措置前 | E11: － | N11: 応急措置前 | P11: －
C12: 応急措置後 | E12: Ⅰ | N12: 応急措置後 | P12: Ⅰ
B13: 変状の発生範囲及び規模 | E13: － | H13: 前回変状の発生範囲及び規模 | J13: 0.13㎡（1.3m×0.1m） | M13: 変状の発生範囲及び規模 | P13: － | S13: 前回変状の発生範囲及び規模 | U13: 0.06㎡（0.1m×0.6m）
B14: 対策履歴 | E14: はく落防止工(FRPネット) | H14: 実施状況（実施日） | J14: － | M14: 対策履歴 | P14: はく落防止工(FRPネット) | S14: 実施状況（実施日） | U14: －
B15: メモ | E15: 対策済み 【前回定期点検 Ⅱb判定】 | M15: メモ | P15: 対策済み 【前回定期点検 Ⅱb判定】
B16: 写真 番号 | C16: 覆工スパン 番号 | E16: 6 | F16: 余 白 | M16: 写真 番号 | N16: 覆工スパン 番号 | P16: 6 | Q16: 余 白
C17: 変状番号 | E17: 7 | N17: 変状番号 | P17: 8
B18: 変状 部位 | C18: 対象箇所 | E18: 覆工 | M18: 変状 部位 | N18: 対象箇所 | P18: 覆工
C19: 部位区分 | E19: 水平打ち継ぎ目（左側） | N19: 部位区分 | P19: 横断目地（左側）
B20: 変状種類 | E20: うき・はく離 | M20: 変状種類 | P20: 漏水
B21: 対策 区分 | C21: 変状区分 | E21: 材質劣化 | M21: 対策 区分 | N21: 変状区分 | P21: 漏水
C22: 応急措置前 | E22: － | N22: 応急措置前 | P22: －
C23: 応急措置後 | E23: Ⅰ | N23: 応急措置後 | P23: Ⅱb
B24: 変状の発生範囲及び規模 | E24: － | H24: 前回変状の発生範囲及び規模 | J24: 0.17㎡（0.1m×1.7m） | M24: 変状の発生範囲及び規模 | P24: 0.8㎡（1.6m×0.5m） | S24: 前回変状の発生範囲及び規模 | U24: 記載なし
B25: 対策履歴 | E25: はく落防止工(FRPネット) | H25: 実施状況（実施日） | J25: － | M25: 対策履歴 | P25: なし | S25: 実施状況（実施日） | U25: －
B26: メモ | E26: 対策済み 【前回定期点検 Ⅱb判定】 | M26: メモ | P26: 導水工から漏水、にじみ程度 【前回定期点検 Ⅱb判定】
C27: ※ 応急措置後の対策区分について添付すること。また、点検前に 実施された措置によりⅠと判定された箇所も添付すること。 | N27: ※ 変状の発生範囲の規模とは、対策を行う際に参考となる変状の長さや面積をいう。
N28: ※ 応急措置を実施しないで決定した変状の対策区分は、対策区分の応急措置後の欄に記入すること。
C29: ※ たたき落としを実施した場合は、実施後の写真を添付すること。 | N29: ※ 変状の発生範囲の規模は、面積・寸法を記載すること。(ひび割れ幅のみmmとし、その他をm表記とする)
C30: ※ 変状数に準じてシートを追加すること。（１シートに１ページとすること。） | N30: ※ 構造用鋼材以外の異物に伴ううき・はく離については、メモ欄に異物の概要を記入すること。

Sheet 様式D-1-1_016
B2: ■定期点検記録様式 変状写真台帳【様式D-1-1】 | R2: 施設ID | T2: 34.29094,131.95150
B3: フリガナ | E3: (ﾋｴﾊﾞﾗﾀﾞｲｲﾁｽﾞｲﾄﾞｳ) | H3: 路 線 名 | J3: 一般国道187号 | M3: 定期点検実施者 | P3: 応用地質（株） | S3: 定期点検年月日 | U3: 45840
B4: 名 称 | E4: 稗原第1隧道 | H4: 管理者名 | J4: 山口県岩国土木建築事務所 | P4: 太田 裕之
B5: 写真 番号 | C5: 覆工スパン 番号 | E5: 6 | F5: 余 白 | M5: 写真 番号 | N5: 覆工スパン 番号 | Q5: 余 白
C6: 変状番号 | E6: 9 | N6: 変状番号
B7: 変状 部位 | C7: 対象箇所 | E7: 覆工 | M7: 変状 部位 | N7: 対象箇所
C8: 部位区分 | E8: 横断目地（天端） | N8: 部位区分
B9: 変状種類 | E9: 補修・補強材の破損 | M9: 変状種類
B10: 対策 区分 | C10: 変状区分 | E10: 漏水 | M10: 対策 区分 | N10: 変状区分
C11: 応急措置前 | E11: － | N11: 応急措置前
C12: 応急措置後 | E12: Ⅱa | N12: 応急措置後
B13: 変状の発生範囲及び規模 | E13: 0.03㎡（0.5m×0.05m） | H13: 前回変状の発生範囲及び規模 | J13: なし | M13: 変状の発生範囲及び規模 | S13: 前回変状の発生範囲及び規模
B14: 対策履歴 | E14: なし | H14: 実施状況（実施日） | J14: － | M14: 対策履歴 | S14: 実施状況（実施日）
B15: メモ | E15: 導水工の劣化、割れ目、にじみあり 【今回新たに確認】 | M15: メモ
B16: 写真 番号 | C16: 覆工スパン 番号 | F16: 余 白 | M16: 写真 番号 | N16: 覆工スパン 番号 | Q16: 余 白
C17: 変状番号 | N17: 変状番号
B18: 変状 部位 | C18: 対象箇所 | M18: 変状 部位 | N18: 対象箇所
C19: 部位区分 | N19: 部位区分
B20: 変状種類 | M20: 変状種類
B21: 対策 区分 | C21: 変状区分 | M21: 対策 区分 | N21: 変状区分
C22: 応急措置前 | N22: 応急措置前
C23: 応急措置後 | N23: 応急措置後
B24: 変状の発生範囲及び規模 | H24: 前回変状の発生範囲及び規模 | M24: 変状の発生範囲及び規模 | S24: 前回変状の発生範囲及び規模
B25: 対策履歴 | H25: 実施状況（実施日） | M25: 対策履歴 | S25: 実施状況（実施日）
B26: メモ | M26: メモ
C27: ※ 応急措置後の対策区分について添付すること。また、点検前に 実施された措置によりⅠと判定された箇所も添付すること。 | N27: ※ 変状の発生範囲の規模とは、対策を行う際に参考となる変状の長さや面積をいう。
N28: ※ 応急措置を実施しないで決定した変状の対策区分は、対策区分の応急措置後の欄に記入すること。
C29: ※ たたき落としを実施した場合は、実施後の写真を添付すること。 | N29: ※ 変状の発生範囲の規模は、面積・寸法を記載すること。(ひび割れ幅のみmmとし、その他をm表記とする)
C30: ※ 変状数に準じてシートを追加すること。（１シートに１ページとすること。） | N30: ※ 構造用鋼材以外の異物に伴ううき・はく離については、メモ欄に異物の概要を記入すること。

Sheet 様式D-1-1_017
B2: ■定期点検記録様式 変状写真台帳【様式D-1-1】 | R2: 施設ID | T2: 34.29094,131.95150
B3: フリガナ | E3: (ﾋｴﾊﾞﾗﾀﾞｲｲﾁｽﾞｲﾄﾞｳ) | H3: 路 線 名 | J3: 一般国道187号 | M3: 定期点検実施者 | P3: 応用地質（株） | S3: 定期点検年月日 | U3: 45840
B4: 名 称 | E4: 稗原第1隧道 | H4: 管理者名 | J4: 山口県岩国土木建築事務所 | P4: 太田 裕之
B5: 写真 番号 | C5: 覆工スパン 番号 | E5: 7 | F5: 余 白 | M5: 写真 番号 | N5: 覆工スパン 番号 | P5: 7 | Q5: 余 白
C6: 変状番号 | E6: 1 | N6: 変状番号 | P6: 2
B7: 変状 部位 | C7: 対象箇所 | E7: 覆工 | M7: 変状 部位 | N7: 対象箇所 | P7: 覆工
C8: 部位区分 | E8: 横断目地（天端） | N8: 部位区分 | P8: アーチ（左側）
B9: 変状種類 | E9: 漏水 | M9: 変状種類 | P9: うき・はく離
B10: 対策 区分 | C10: 変状区分 | E10: 漏水 | M10: 対策 区分 | N10: 変状区分 | P10: 材質劣化
C11: 応急措置前 | E11: － | N11: 応急措置前 | P11: －
C12: 応急措置後 | E12: Ⅱb | N12: 応急措置後 | P12: Ⅱb
B13: 変状の発生範囲及び規模 | E13: 3.5㎡（7m×0.5m） | H13: 前回変状の発生範囲及び規模 | J13: 記載なし | M13: 変状の発生範囲及び規模 | P13: 0.04㎡（0.1m×0.4m） | S13: 前回変状の発生範囲及び規模 | U13: 0.05㎡（0.15m×0.35m）
B14: 対策履歴 | E14: なし | H14: 実施状況（実施日） | J14: － | M14: 対策履歴 | P14: なし | S14: 実施状況（実施日） | U14: －
B15: メモ | E15: 導水工から漏水、にじみ程度、進行性あり 【前回定期点検 Ⅱb判定】 | M15: メモ | P15: ひび割れ沿いの豆板、変状種類変更、打音異常なし、浸透固化材塗布 【前回定期点検 Ⅱb判定】
B16: 写真 番号 | C16: 覆工スパン 番号 | E16: 7 | F16: 余 白 | M16: 写真 番号 | N16: 覆工スパン 番号 | P16: 7 | Q16: 余 白
C17: 変状番号 | E17: 3 | N17: 変状番号 | P17: 4
B18: 変状 部位 | C18: 対象箇所 | E18: 覆工 | M18: 変状 部位 | N18: 対象箇所 | P18: 覆工
C19: 部位区分 | E19: アーチ（天端） | N19: 部位区分 | P19: 横断目地（左側）
B20: 変状種類 | E20: うき・はく離 | M20: 変状種類 | P20: うき・はく離
B21: 対策 区分 | C21: 変状区分 | E21: 材質劣化 | M21: 対策 区分 | N21: 変状区分 | P21: 材質劣化
C22: 応急措置前 | E22: － | N22: 応急措置前 | P22: －
C23: 応急措置後 | E23: Ⅰ | N23: 応急措置後 | P23: Ⅱb
B24: 変状の発生範囲及び規模 | E24: － | H24: 前回変状の発生範囲及び規模 | J24: 2.85㎡（1.5m×1.9m） | M24: 変状の発生範囲及び規模 | P24: 0.15㎡（0.3m×0.5m） | S24: 前回変状の発生範囲及び規模 | U24: 0.15㎡（0.5m×0.3m）
B25: 対策履歴 | E25: シート繊維工 | H25: 実施状況（実施日） | J25: － | M25: 対策履歴 | P25: なし | S25: 実施状況（実施日） | U25: －
B26: メモ | E26: 対策済み 【前回定期点検 Ⅱb判定】 | M26: メモ | P26: 覆工コンクリートの表面劣化、変状種類変更、打音異常なし 【前回定期点検 Ⅱb判定】
C27: ※ 応急措置後の対策区分について添付すること。また、点検前に 実施された措置によりⅠと判定された箇所も添付すること。 | N27: ※ 変状の発生範囲の規模とは、対策を行う際に参考となる変状の長さや面積をいう。
N28: ※ 応急措置を実施しないで決定した変状の対策区分は、対策区分の応急措置後の欄に記入すること。
C29: ※ たたき落としを実施した場合は、実施後の写真を添付すること。 | N29: ※ 変状の発生範囲の規模は、面積・寸法を記載すること。(ひび割れ幅のみmmとし、その他をm表記とする)
C30: ※ 変状数に準じてシートを追加すること。（１シートに１ページとすること。） | N30: ※ 構造用鋼材以外の異物に伴ううき・はく離については、メモ欄に異物の概要を記入すること。

Sheet 様式D-1-1_018
B2: ■定期点検記録様式 変状写真台帳【様式D-1-1】 | R2: 施設ID | T2: 34.29094,131.95150
B3: フリガナ | E3: (ﾋｴﾊﾞﾗﾀﾞｲｲﾁｽﾞｲﾄﾞｳ) | H3: 路 線 名 | J3: 一般国道187号 | M3: 定期点検実施者 | P3: 応用地質（株） | S3: 定期点検年月日 | U3: 45840
B4: 名 称 | E4: 稗原第1隧道 | H4: 管理者名 | J4: 山口県岩国土木建築事務所 | P4: 太田 裕之
B5: 写真 番号 | C5: 覆工スパン 番号 | E5: 7 | F5: 余 白 | M5: 写真 番号 | N5: 覆工スパン 番号 | P5: 7 | Q5: 余 白
C6: 変状番号 | E6: 5 | N6: 変状番号 | P6: 6
B7: 変状 部位 | C7: 対象箇所 | E7: 覆工 | M7: 変状 部位 | N7: 対象箇所 | P7: 覆工
C8: 部位区分 | E8: 横断目地（左側） | N8: 部位区分 | P8: アーチ（天端）
B9: 変状種類 | E9: うき・はく離 | M9: 変状種類 | P9: うき・はく離
B10: 対策 区分 | C10: 変状区分 | E10: 材質劣化 | M10: 対策 区分 | N10: 変状区分 | P10: 材質劣化
C11: 応急措置前 | E11: － | N11: 応急措置前 | P11: －
C12: 応急措置後 | E12: Ⅰ | N12: 応急措置後 | P12: Ⅱa
B13: 変状の発生範囲及び規模 | E13: － | H13: 前回変状の発生範囲及び規模 | J13: 0.15㎡（1m×0.15m） | M13: 変状の発生範囲及び規模 | P13: 0.4㎡（0.4m×1m） | S13: 前回変状の発生範囲及び規模 | U13: 0.44㎡（0.4m×1.1m）
B14: 対策履歴 | E14: はく落防止工(FRPネット) | H14: 実施状況（実施日） | J14: － | M14: 対策履歴 | P14: なし | S14: 実施状況（実施日） | U14: －
B15: メモ | E15: 対策済み 【前回定期点検 Ⅱa判定】 | M15: メモ | P15: 豆板、ぐらつきなし、打音異常あり、進行性あり、浸透固化材塗布 【前回定期点検 Ⅱb判定】
B16: 写真 番号 | C16: 覆工スパン 番号 | E16: 7 | F16: 余 白 | M16: 写真 番号 | N16: 覆工スパン 番号 | P16: 7 | Q16: 余 白
C17: 変状番号 | E17: 7 | N17: 変状番号 | P17: 8
B18: 変状 部位 | C18: 対象箇所 | E18: 覆工 | M18: 変状 部位 | N18: 対象箇所 | P18: 覆工
C19: 部位区分 | E19: アーチ（右側） | N19: 部位区分 | P19: 横断目地（右側）
B20: 変状種類 | E20: うき・はく離 | M20: 変状種類 | P20: うき・はく離
B21: 対策 区分 | C21: 変状区分 | E21: 材質劣化 | M21: 対策 区分 | N21: 変状区分 | P21: 材質劣化
C22: 応急措置前 | E22: － | N22: 応急措置前 | P22: －
C23: 応急措置後 | E23: Ⅰ | N23: 応急措置後 | P23: Ⅰ
B24: 変状の発生範囲及び規模 | E24: － | H24: 前回変状の発生範囲及び規模 | J24: 0.09㎡（0.6m×0.15m） | M24: 変状の発生範囲及び規模 | P24: － | S24: 前回変状の発生範囲及び規模 | U24: 0.14㎡（0.7m×0.2m）
B25: 対策履歴 | E25: はく落防止工(FRPネット) | H25: 実施状況（実施日） | J25: － | M25: 対策履歴 | P25: はく落防止工(FRPネット) | S25: 実施状況（実施日） | U25: －
B26: メモ | E26: 対策済み 【前回定期点検 Ⅱa判定】 | M26: メモ | P26: 対策済み 【前回定期点検 Ⅱb判定】
C27: ※ 応急措置後の対策区分について添付すること。また、点検前に 実施された措置によりⅠと判定された箇所も添付すること。 | N27: ※ 変状の発生範囲の規模とは、対策を行う際に参考となる変状の長さや面積をいう。
N28: ※ 応急措置を実施しないで決定した変状の対策区分は、対策区分の応急措置後の欄に記入すること。
C29: ※ たたき落としを実施した場合は、実施後の写真を添付すること。 | N29: ※ 変状の発生範囲の規模は、面積・寸法を記載すること。(ひび割れ幅のみmmとし、その他をm表記とする)
C30: ※ 変状数に準じてシートを追加すること。（１シートに１ページとすること。） | N30: ※ 構造用鋼材以外の異物に伴ううき・はく離については、メモ欄に異物の概要を記入すること。

Sheet 様式D-1-1_019
B2: ■定期点検記録様式 変状写真台帳【様式D-1-1】 | R2: 施設ID | T2: 34.29094,131.95150
B3: フリガナ | E3: (ﾋｴﾊﾞﾗﾀﾞｲｲﾁｽﾞｲﾄﾞｳ) | H3: 路 線 名 | J3: 一般国道187号 | M3: 定期点検実施者 | P3: 応用地質（株） | S3: 定期点検年月日 | U3: 45840
B4: 名 称 | E4: 稗原第1隧道 | H4: 管理者名 | J4: 山口県岩国土木建築事務所 | P4: 太田 裕之
B5: 写真 番号 | C5: 覆工スパン 番号 | E5: 7 | F5: 余 白 | M5: 写真 番号 | N5: 覆工スパン 番号 | P5: 7 | Q5: 余 白
C6: 変状番号 | E6: 9 | N6: 変状番号 | P6: 10
B7: 変状 部位 | C7: 対象箇所 | E7: 覆工 | M7: 変状 部位 | N7: 対象箇所 | P7: 覆工
C8: 部位区分 | E8: 横断目地（左側） | N8: 部位区分 | P8: 水平打ち継ぎ目（左側）
B9: 変状種類 | E9: うき・はく離 | M9: 変状種類 | P9: うき・はく離
B10: 対策 区分 | C10: 変状区分 | E10: 材質劣化 | M10: 対策 区分 | N10: 変状区分 | P10: 材質劣化
C11: 応急措置前 | E11: － | N11: 応急措置前 | P11: －
C12: 応急措置後 | E12: Ⅰ | N12: 応急措置後 | P12: Ⅰ
B13: 変状の発生範囲及び規模 | E13: － | H13: 前回変状の発生範囲及び規模 | J13: 0.6㎡（4m×0.15m） | M13: 変状の発生範囲及び規模 | P13: － | S13: 前回変状の発生範囲及び規模 | U13: 0.28㎡（0.1m×2.8m）
B14: 対策履歴 | E14: はく落防止工(FRPネット) | H14: 実施状況（実施日） | J14: － | M14: 対策履歴 | P14: はく落防止工(FRPネット) | S14: 実施状況（実施日） | U14: －
B15: メモ | E15: 対策済み 【前回定期点検 Ⅱb判定】 | M15: メモ | P15: 対策済み 【前回定期点検 Ⅱb判定】
B16: 写真 番号 | C16: 覆工スパン 番号 | E16: 7 | F16: 余 白 | M16: 写真 番号 | N16: 覆工スパン 番号 | P16: 7 | Q16: 余 白
C17: 変状番号 | E17: 11 | N17: 変状番号 | P17: 12
B18: 変状 部位 | C18: 対象箇所 | E18: 覆工 | M18: 変状 部位 | N18: 対象箇所 | P18: 覆工
C19: 部位区分 | E19: 側壁（右側） | N19: 部位区分 | P19: 水平打ち継ぎ目（右側）
B20: 変状種類 | E20: 漏水 | M20: 変状種類 | P20: うき・はく離
B21: 対策 区分 | C21: 変状区分 | E21: 漏水 | M21: 対策 区分 | N21: 変状区分 | P21: 材質劣化
C22: 応急措置前 | E22: － | N22: 応急措置前 | P22: －
C23: 応急措置後 | E23: Ⅱb | N23: 応急措置後 | P23: Ⅰ
B24: 変状の発生範囲及び規模 | E24: 1.15㎡（2.3m×0.5m） | H24: 前回変状の発生範囲及び規模 | J24: 記載なし | M24: 変状の発生範囲及び規模 | P24: － | S24: 前回変状の発生範囲及び規模 | U24: 0.72㎡（0.4m×1.8m）
B25: 対策履歴 | E25: なし | H25: 実施状況（実施日） | J25: － | M25: 対策履歴 | P25: はく落防止工(FRPネット) | S25: 実施状況（実施日） | U25: －
B26: メモ | E26: 導水工から漏水、にじみ程度 【前回定期点検 Ⅱb判定】 | M26: メモ | P26: 対策済み 【前回定期点検 Ⅱb判定】
C27: ※ 応急措置後の対策区分について添付すること。また、点検前に 実施された措置によりⅠと判定された箇所も添付すること。 | N27: ※ 変状の発生範囲の規模とは、対策を行う際に参考となる変状の長さや面積をいう。
N28: ※ 応急措置を実施しないで決定した変状の対策区分は、対策区分の応急措置後の欄に記入すること。
C29: ※ たたき落としを実施した場合は、実施後の写真を添付すること。 | N29: ※ 変状の発生範囲の規模は、面積・寸法を記載すること。(ひび割れ幅のみmmとし、その他をm表記とする)
C30: ※ 変状数に準じてシートを追加すること。（１シートに１ページとすること。） | N30: ※ 構造用鋼材以外の異物に伴ううき・はく離については、メモ欄に異物の概要を記入すること。

Sheet 様式D-1-1_020
B2: ■定期点検記録様式 変状写真台帳【様式D-1-1】 | R2: 施設ID | T2: 34.29094,131.95150
B3: フリガナ | E3: (ﾋｴﾊﾞﾗﾀﾞｲｲﾁｽﾞｲﾄﾞｳ) | H3: 路 線 名 | J3: 一般国道187号 | M3: 定期点検実施者 | P3: 応用地質（株） | S3: 定期点検年月日 | U3: 45840
B4: 名 称 | E4: 稗原第1隧道 | H4: 管理者名 | J4: 山口県岩国土木建築事務所 | P4: 太田 裕之
B5: 写真 番号 | C5: 覆工スパン 番号 | E5: 7 | F5: 余 白 | M5: 写真 番号 | N5: 覆工スパン 番号 | Q5: 余 白
C6: 変状番号 | E6: 13 | N6: 変状番号
B7: 変状 部位 | C7: 対象箇所 | E7: 覆工 | M7: 変状 部位 | N7: 対象箇所
C8: 部位区分 | E8: アーチ（天端） | N8: 部位区分
B9: 変状種類 | E9: 漏水 | M9: 変状種類
B10: 対策 区分 | C10: 変状区分 | E10: 漏水 | M10: 対策 区分 | N10: 変状区分
C11: 応急措置前 | E11: － | N11: 応急措置前
C12: 応急措置後 | E12: Ⅱb | N12: 応急措置後
B13: 変状の発生範囲及び規模 | E13: 2.35㎡（7m×0.5m） | H13: 前回変状の発生範囲及び規模 | J13: なし | M13: 変状の発生範囲及び規模 | S13: 前回変状の発生範囲及び規模
B14: 対策履歴 | E14: なし | H14: 実施状況（実施日） | J14: － | M14: 対策履歴 | S14: 実施状況（実施日）
B15: メモ | E15: 漏水、にじみ程度、遊離石灰を伴う 【今回新たに確認】 | M15: メモ
B16: 写真 番号 | C16: 覆工スパン 番号 | F16: 余 白 | M16: 写真 番号 | N16: 覆工スパン 番号 | Q16: 余 白
C17: 変状番号 | N17: 変状番号
B18: 変状 部位 | C18: 対象箇所 | M18: 変状 部位 | N18: 対象箇所
C19: 部位区分 | N19: 部位区分
B20: 変状種類 | M20: 変状種類
B21: 対策 区分 | C21: 変状区分 | M21: 対策 区分 | N21: 変状区分
C22: 応急措置前 | N22: 応急措置前
C23: 応急措置後 | N23: 応急措置後
B24: 変状の発生範囲及び規模 | H24: 前回変状の発生範囲及び規模 | M24: 変状の発生範囲及び規模 | S24: 前回変状の発生範囲及び規模
B25: 対策履歴 | H25: 実施状況（実施日） | M25: 対策履歴 | S25: 実施状況（実施日）
B26: メモ | M26: メモ
C27: ※ 応急措置後の対策区分について添付すること。また、点検前に 実施された措置によりⅠと判定された箇所も添付すること。 | N27: ※ 変状の発生範囲の規模とは、対策を行う際に参考となる変状の長さや面積をいう。
N28: ※ 応急措置を実施しないで決定した変状の対策区分は、対策区分の応急措置後の欄に記入すること。
C29: ※ たたき落としを実施した場合は、実施後の写真を添付すること。 | N29: ※ 変状の発生範囲の規模は、面積・寸法を記載すること。(ひび割れ幅のみmmとし、その他をm表記とする)
C30: ※ 変状数に準じてシートを追加すること。（１シートに１ページとすること。） | N30: ※ 構造用鋼材以外の異物に伴ううき・はく離については、メモ欄に異物の概要を記入すること。

Sheet 様式D-1-1_021
B2: ■定期点検記録様式 変状写真台帳【様式D-1-1】 | R2: 施設ID | T2: 34.29094,131.95150
B3: フリガナ | E3: (ﾋｴﾊﾞﾗﾀﾞｲｲﾁｽﾞｲﾄﾞｳ) | H3: 路 線 名 | J3: 一般国道187号 | M3: 定期点検実施者 | P3: 応用地質（株） | S3: 定期点検年月日 | U3: 45840
B4: 名 称 | E4: 稗原第1隧道 | H4: 管理者名 | J4: 山口県岩国土木建築事務所 | P4: 太田 裕之
B5: 写真 番号 | C5: 覆工スパン 番号 | E5: 8 | F5: 余 白 | M5: 写真 番号 | N5: 覆工スパン 番号 | P5: 8 | Q5: 余 白
C6: 変状番号 | E6: 1 | N6: 変状番号 | P6: 2
B7: 変状 部位 | C7: 対象箇所 | E7: 覆工 | M7: 変状 部位 | N7: 対象箇所 | P7: 覆工
C8: 部位区分 | E8: 横断目地（右側） | N8: 部位区分 | P8: 横断目地（右側）
B9: 変状種類 | E9: うき・はく離 | M9: 変状種類 | P9: うき・はく離
B10: 対策 区分 | C10: 変状区分 | E10: 材質劣化 | M10: 対策 区分 | N10: 変状区分 | P10: 材質劣化
C11: 応急措置前 | E11: － | N11: 応急措置前 | P11: －
C12: 応急措置後 | E12: Ⅰ | N12: 応急措置後 | P12: Ⅰ
B13: 変状の発生範囲及び規模 | E13: － | H13: 前回変状の発生範囲及び規模 | J13: 0.06㎡（0.4m×0.15m） | M13: 変状の発生範囲及び規模 | P13: － | S13: 前回変状の発生範囲及び規模 | U13: 0.12㎡（0.8m×0.15m）
B14: 対策履歴 | E14: はく落防止工(FRPネット) | H14: 実施状況（実施日） | J14: － | M14: 対策履歴 | P14: はく落防止工(FRPネット) | S14: 実施状況（実施日） | U14: －
B15: メモ | E15: 対策済み 【前回定期点検 Ⅱa判定】 | M15: メモ | P15: 対策済み 【前回定期点検 Ⅱa判定】
B16: 写真 番号 | C16: 覆工スパン 番号 | E16: 8 | F16: 余 白 | M16: 写真 番号 | N16: 覆工スパン 番号 | P16: 8 | Q16: 余 白
C17: 変状番号 | E17: 3 | N17: 変状番号 | P17: 4
B18: 変状 部位 | C18: 対象箇所 | E18: 覆工 | M18: 変状 部位 | N18: 対象箇所 | P18: 覆工
C19: 部位区分 | E19: アーチ（右側） | N19: 部位区分 | P19: 横断目地（右側）
B20: 変状種類 | E20: うき・はく離 | M20: 変状種類 | P20: うき・はく離
B21: 対策 区分 | C21: 変状区分 | E21: 材質劣化 | M21: 対策 区分 | N21: 変状区分 | P21: 材質劣化
C22: 応急措置前 | E22: － | N22: 応急措置前 | P22: －
C23: 応急措置後 | E23: Ⅰ | N23: 応急措置後 | P23: Ⅰ
B24: 変状の発生範囲及び規模 | E24: － | H24: 前回変状の発生範囲及び規模 | J24: 0.48㎡（1.2m×0.4m） | M24: 変状の発生範囲及び規模 | P24: － | S24: 前回変状の発生範囲及び規模 | U24: 0.3㎡（1.5m×0.2m）
B25: 対策履歴 | E25: はく落防止工(FRPネット) | H25: 実施状況（実施日） | J25: － | M25: 対策履歴 | P25: はく落防止工(FRPネット) | S25: 実施状況（実施日） | U25: －
B26: メモ | E26: 対策済み 【前回定期点検 Ⅱa判定】 | M26: メモ | P26: 対策済み 【前回定期点検 Ⅱa判定】
C27: ※ 応急措置後の対策区分について添付すること。また、点検前に 実施された措置によりⅠと判定された箇所も添付すること。 | N27: ※ 変状の発生範囲の規模とは、対策を行う際に参考となる変状の長さや面積をいう。
N28: ※ 応急措置を実施しないで決定した変状の対策区分は、対策区分の応急措置後の欄に記入すること。
C29: ※ たたき落としを実施した場合は、実施後の写真を添付すること。 | N29: ※ 変状の発生範囲の規模は、面積・寸法を記載すること。(ひび割れ幅のみmmとし、その他をm表記とする)
C30: ※ 変状数に準じてシートを追加すること。（１シートに１ページとすること。） | N30: ※ 構造用鋼材以外の異物に伴ううき・はく離については、メモ欄に異物の概要を記入すること。

Sheet 様式D-1-1_022
B2: ■定期点検記録様式 変状写真台帳【様式D-1-1】 | R2: 施設ID | T2: 34.29094,131.95150
B3: フリガナ | E3: (ﾋｴﾊﾞﾗﾀﾞｲｲﾁｽﾞｲﾄﾞｳ) | H3: 路 線 名 | J3: 一般国道187号 | M3: 定期点検実施者 | P3: 応用地質（株） | S3: 定期点検年月日 | U3: 45840
B4: 名 称 | E4: 稗原第1隧道 | H4: 管理者名 | J4: 山口県岩国土木建築事務所 | P4: 太田 裕之
B5: 写真 番号 | C5: 覆工スパン 番号 | E5: 8 | F5: 余 白 | M5: 写真 番号 | N5: 覆工スパン 番号 | P5: 8 | Q5: 余 白
C6: 変状番号 | E6: 5 | N6: 変状番号 | P6: 6
B7: 変状 部位 | C7: 対象箇所 | E7: 覆工 | M7: 変状 部位 | N7: 対象箇所 | P7: 覆工
C8: 部位区分 | E8: アーチ（天端） | N8: 部位区分 | P8: アーチ（天端）
B9: 変状種類 | E9: うき・はく離 | M9: 変状種類 | P9: その他
B10: 対策 区分 | C10: 変状区分 | E10: 材質劣化 | M10: 対策 区分 | N10: 変状区分 | P10: 材質劣化
C11: 応急措置前 | E11: － | N11: 応急措置前 | P11: －
C12: 応急措置後 | E12: Ⅱb | N12: 応急措置後 | P12: Ⅱb
B13: 変状の発生範囲及び規模 | E13: 0.16㎡（0.4m×0.4m） | H13: 前回変状の発生範囲及び規模 | J13: 0.16㎡（0.4m×0.4m） | M13: 変状の発生範囲及び規模 | P13: 0.02㎡（0.15m×0.15m） | S13: 前回変状の発生範囲及び規模 | U13: 0.03㎡（0.1m×0.3m）
B14: 対策履歴 | E14: なし | H14: 実施状況（実施日） | J14: － | M14: 対策履歴 | P14: なし | S14: 実施状況（実施日） | U14: －
B15: メモ | E15: 豆板、打音異常なし 【前回定期点検 Ⅱb判定】 | M15: メモ | P15: 異物混入(木片)、変状種類変更、浸透固化材塗布 【前回定期点検 Ⅱb判定】
B16: 写真 番号 | C16: 覆工スパン 番号 | E16: 8 | F16: 余 白 | M16: 写真 番号 | N16: 覆工スパン 番号 | P16: 8 | Q16: 余 白
C17: 変状番号 | E17: 7 | N17: 変状番号 | P17: 8
B18: 変状 部位 | C18: 対象箇所 | E18: 覆工 | M18: 変状 部位 | N18: 対象箇所 | P18: 覆工
C19: 部位区分 | E19: アーチ（左側） | N19: 部位区分 | P19: 水平打ち継ぎ目（左側）
B20: 変状種類 | E20: うき・はく離 | M20: 変状種類 | P20: うき・はく離
B21: 対策 区分 | C21: 変状区分 | E21: 材質劣化 | M21: 対策 区分 | N21: 変状区分 | P21: 材質劣化
C22: 応急措置前 | E22: － | N22: 応急措置前 | P22: －
C23: 応急措置後 | E23: Ⅱb | N23: 応急措置後 | P23: Ⅰ
B24: 変状の発生範囲及び規模 | E24: 0.16㎡（0.4m×0.4m） | H24: 前回変状の発生範囲及び規模 | J24: 0.3㎡（0.5m×0.6m） | M24: 変状の発生範囲及び規模 | P24: － | S24: 前回変状の発生範囲及び規模 | U24: 0.55㎡（0.1m×5.5m）
B25: 対策履歴 | E25: なし | H25: 実施状況（実施日） | J25: － | M25: 対策履歴 | P25: はく落防止工(FRPネット) | S25: 実施状況（実施日） | U25: －
B26: メモ | E26: 豆板、打音異常なし、浸透固化材塗布 【前回定期点検 Ⅱb判定】 | M26: メモ | P26: 対策済み 【前回定期点検 Ⅱb判定】
C27: ※ 応急措置後の対策区分について添付すること。また、点検前に 実施された措置によりⅠと判定された箇所も添付すること。 | N27: ※ 変状の発生範囲の規模とは、対策を行う際に参考となる変状の長さや面積をいう。
N28: ※ 応急措置を実施しないで決定した変状の対策区分は、対策区分の応急措置後の欄に記入すること。
C29: ※ たたき落としを実施した場合は、実施後の写真を添付すること。 | N29: ※ 変状の発生範囲の規模は、面積・寸法を記載すること。(ひび割れ幅のみmmとし、その他をm表記とする)
C30: ※ 変状数に準じてシートを追加すること。（１シートに１ページとすること。） | N30: ※ 構造用鋼材以外の異物に伴ううき・はく離については、メモ欄に異物の概要を記入すること。

Sheet 様式D-1-1_023
B2: ■定期点検記録様式 変状写真台帳【様式D-1-1】 | R2: 施設ID | T2: 34.29094,131.95150
B3: フリガナ | E3: (ﾋｴﾊﾞﾗﾀﾞｲｲﾁｽﾞｲﾄﾞｳ) | H3: 路 線 名 | J3: 一般国道187号 | M3: 定期点検実施者 | P3: 応用地質（株） | S3: 定期点検年月日 | U3: 45840
B4: 名 称 | E4: 稗原第1隧道 | H4: 管理者名 | J4: 山口県岩国土木建築事務所 | P4: 太田 裕之
B5: 写真 番号 | C5: 覆工スパン 番号 | E5: 8 | F5: 余 白 | M5: 写真 番号 | N5: 覆工スパン 番号 | P5: 8 | Q5: 余 白
C6: 変状番号 | E6: 9 | N6: 変状番号 | P6: 10
B7: 変状 部位 | C7: 対象箇所 | E7: 覆工 | M7: 変状 部位 | N7: 対象箇所 | P7: 覆工
C8: 部位区分 | E8: 水平打ち継ぎ目（右側） | N8: 部位区分 | P8: 水平打ち継ぎ目（右側）
B9: 変状種類 | E9: うき・はく離 | M9: 変状種類 | P9: うき・はく離
B10: 対策 区分 | C10: 変状区分 | E10: 材質劣化 | M10: 対策 区分 | N10: 変状区分 | P10: 材質劣化
C11: 応急措置前 | E11: － | N11: 応急措置前 | P11: －
C12: 応急措置後 | E12: Ⅰ | N12: 応急措置後 | P12: Ⅰ
B13: 変状の発生範囲及び規模 | E13: － | H13: 前回変状の発生範囲及び規模 | J13: 0.04㎡（0.1m×0.4m） | M13: 変状の発生範囲及び規模 | P13: － | S13: 前回変状の発生範囲及び規模 | U13: 0.04㎡（0.1m×0.4m）
B14: 対策履歴 | E14: はく落防止工(FRPネット) | H14: 実施状況（実施日） | J14: － | M14: 対策履歴 | P14: はく落防止工(FRPネット) | S14: 実施状況（実施日） | U14: －
B15: メモ | E15: 対策済み 【前回定期点検 Ⅱb判定】 | M15: メモ | P15: 対策済み 【前回定期点検 Ⅱb判定】
B16: 写真 番号 | C16: 覆工スパン 番号 | E16: 8 | F16: 余 白 | M16: 写真 番号 | N16: 覆工スパン 番号 | P16: 8 | Q16: 余 白
C17: 変状番号 | E17: 11 | N17: 変状番号 | P17: 12
B18: 変状 部位 | C18: 対象箇所 | E18: 覆工 | M18: 変状 部位 | N18: 対象箇所 | P18: 覆工
C19: 部位区分 | E19: アーチ（左側） | N19: 部位区分 | P19: アーチ（右側）
B20: 変状種類 | E20: うき・はく離 | M20: 変状種類 | P20: 漏水
B21: 対策 区分 | C21: 変状区分 | E21: 材質劣化 | M21: 対策 区分 | N21: 変状区分 | P21: 漏水
C22: 応急措置前 | E22: － | N22: 応急措置前 | P22: －
C23: 応急措置後 | E23: Ⅱa | N23: 応急措置後 | P23: Ⅱb
B24: 変状の発生範囲及び規模 | E24: 0.22㎡（0.2m×1.1m） | H24: 前回変状の発生範囲及び規模 | J24: なし | M24: 変状の発生範囲及び規模 | P24: 2.9㎡（5.8m×0.5m） | S24: 前回変状の発生範囲及び規模 | U24: なし
B25: 対策履歴 | E25: なし | H25: 実施状況（実施日） | J25: － | M25: 対策履歴 | P25: なし | S25: 実施状況（実施日） | U25: －
B26: メモ | E26: 豆板、ぐらつきなし、打音異常あり、浸透固化材塗布 【今回新たに確認】 | M26: メモ | P26: 漏水、にじみ程度 【今回新たに確認】
C27: ※ 応急措置後の対策区分について添付すること。また、点検前に 実施された措置によりⅠと判定された箇所も添付すること。 | N27: ※ 変状の発生範囲の規模とは、対策を行う際に参考となる変状の長さや面積をいう。
N28: ※ 応急措置を実施しないで決定した変状の対策区分は、対策区分の応急措置後の欄に記入すること。
C29: ※ たたき落としを実施した場合は、実施後の写真を添付すること。 | N29: ※ 変状の発生範囲の規模は、面積・寸法を記載すること。(ひび割れ幅のみmmとし、その他をm表記とする)
C30: ※ 変状数に準じてシートを追加すること。（１シートに１ページとすること。） | N30: ※ 構造用鋼材以外の異物に伴ううき・はく離については、メモ欄に異物の概要を記入すること。

Sheet 様式D-1-1_024
B2: ■定期点検記録様式 変状写真台帳【様式D-1-1】 | R2: 施設ID | T2: 34.29094,131.95150
B3: フリガナ | E3: (ﾋｴﾊﾞﾗﾀﾞｲｲﾁｽﾞｲﾄﾞｳ) | H3: 路 線 名 | J3: 一般国道187号 | M3: 定期点検実施者 | P3: 応用地質（株） | S3: 定期点検年月日 | U3: 45840
B4: 名 称 | E4: 稗原第1隧道 | H4: 管理者名 | J4: 山口県岩国土木建築事務所 | P4: 太田 裕之
B5: 写真 番号 | C5: 覆工スパン 番号 | E5: 8 | F5: 余 白 | M5: 写真 番号 | N5: 覆工スパン 番号 | Q5: 余 白
C6: 変状番号 | E6: 13 | N6: 変状番号
B7: 変状 部位 | C7: 対象箇所 | E7: 覆工 | M7: 変状 部位 | N7: 対象箇所
C8: 部位区分 | E8: 横断目地（右側） | N8: 部位区分
B9: 変状種類 | E9: 漏水 | M9: 変状種類
B10: 対策 区分 | C10: 変状区分 | E10: 漏水 | M10: 対策 区分 | N10: 変状区分
C11: 応急措置前 | E11: － | N11: 応急措置前
C12: 応急措置後 | E12: Ⅱb | N12: 応急措置後
B13: 変状の発生範囲及び規模 | E13: 1.75㎡（3.5m×0.5m） | H13: 前回変状の発生範囲及び規模 | J13: なし | M13: 変状の発生範囲及び規模 | S13: 前回変状の発生範囲及び規模
B14: 対策履歴 | E14: なし | H14: 実施状況（実施日） | J14: － | M14: 対策履歴 | S14: 実施状況（実施日）
B15: メモ | E15: 導水工から漏水、にじみ程度 【今回新たに確認】 | M15: メモ
B16: 写真 番号 | C16: 覆工スパン 番号 | F16: 余 白 | M16: 写真 番号 | N16: 覆工スパン 番号 | Q16: 余 白
C17: 変状番号 | N17: 変状番号
B18: 変状 部位 | C18: 対象箇所 | M18: 変状 部位 | N18: 対象箇所
C19: 部位区分 | N19: 部位区分
B20: 変状種類 | M20: 変状種類
B21: 対策 区分 | C21: 変状区分 | M21: 対策 区分 | N21: 変状区分
C22: 応急措置前 | N22: 応急措置前
C23: 応急措置後 | N23: 応急措置後
B24: 変状の発生範囲及び規模 | H24: 前回変状の発生範囲及び規模 | M24: 変状の発生範囲及び規模 | S24: 前回変状の発生範囲及び規模
B25: 対策履歴 | H25: 実施状況（実施日） | M25: 対策履歴 | S25: 実施状況（実施日）
B26: メモ | M26: メモ
C27: ※ 応急措置後の対策区分について添付すること。また、点検前に 実施された措置によりⅠと判定された箇所も添付すること。 | N27: ※ 変状の発生範囲の規模とは、対策を行う際に参考となる変状の長さや面積をいう。
N28: ※ 応急措置を実施しないで決定した変状の対策区分は、対策区分の応急措置後の欄に記入すること。
C29: ※ たたき落としを実施した場合は、実施後の写真を添付すること。 | N29: ※ 変状の発生範囲の規模は、面積・寸法を記載すること。(ひび割れ幅のみmmとし、その他をm表記とする)
C30: ※ 変状数に準じてシートを追加すること。（１シートに１ページとすること。） | N30: ※ 構造用鋼材以外の異物に伴ううき・はく離については、メモ欄に異物の概要を記入すること。

Sheet 様式D-1-1_025
B2: ■定期点検記録様式 変状写真台帳【様式D-1-1】 | R2: 施設ID | T2: 34.29094,131.95150
B3: フリガナ | E3: (ﾋｴﾊﾞﾗﾀﾞｲｲﾁｽﾞｲﾄﾞｳ) | H3: 路 線 名 | J3: 一般国道187号 | M3: 定期点検実施者 | P3: 応用地質（株） | S3: 定期点検年月日 | U3: 45840
B4: 名 称 | E4: 稗原第1隧道 | H4: 管理者名 | J4: 山口県岩国土木建築事務所 | P4: 太田 裕之
B5: 写真 番号 | C5: 覆工スパン 番号 | E5: 9 | F5: 余 白 | M5: 写真 番号 | N5: 覆工スパン 番号 | P5: 9 | Q5: 余 白
C6: 変状番号 | E6: 1 | N6: 変状番号 | P6: 2
B7: 変状 部位 | C7: 対象箇所 | E7: 覆工 | M7: 変状 部位 | N7: 対象箇所 | P7: 覆工
C8: 部位区分 | E8: 横断目地（右側） | N8: 部位区分 | P8: 横断目地（左側）
B9: 変状種類 | E9: うき・はく離 | M9: 変状種類 | P9: 漏水
B10: 対策 区分 | C10: 変状区分 | E10: 材質劣化 | M10: 対策 区分 | N10: 変状区分 | P10: 漏水
C11: 応急措置前 | E11: － | N11: 応急措置前 | P11: －
C12: 応急措置後 | E12: Ⅰ | N12: 応急措置後 | P12: Ⅱb
B13: 変状の発生範囲及び規模 | E13: － | H13: 前回変状の発生範囲及び規模 | J13: 0.03㎡（0.3m×0.1m） | M13: 変状の発生範囲及び規模 | P13: 2.95㎡（5.9m×0.5m） | S13: 前回変状の発生範囲及び規模 | U13: 記載なし
B14: 対策履歴 | E14: はく落防止工(FRPネット) | H14: 実施状況（実施日） | J14: － | M14: 対策履歴 | P14: なし | S14: 実施状況（実施日） | U14: －
B15: メモ | E15: 対策済み 【前回定期点検 Ⅱa判定】 | M15: メモ | P15: 漏水、にじみ程度、遊離石灰を伴う 【前回定期点検 Ⅱb判定】
B16: 写真 番号 | C16: 覆工スパン 番号 | E16: 9 | F16: 余 白 | M16: 写真 番号 | N16: 覆工スパン 番号 | P16: 9 | Q16: 余 白
C17: 変状番号 | E17: 3 | N17: 変状番号 | P17: 4
B18: 変状 部位 | C18: 対象箇所 | E18: 覆工 | M18: 変状 部位 | N18: 対象箇所 | P18: 覆工
C19: 部位区分 | E19: 水平打ち継ぎ目（左側） | N19: 部位区分 | P19: 水平打ち継ぎ目（左側）
B20: 変状種類 | E20: うき・はく離 | M20: 変状種類 | P20: うき・はく離
B21: 対策 区分 | C21: 変状区分 | E21: 材質劣化 | M21: 対策 区分 | N21: 変状区分 | P21: 材質劣化
C22: 応急措置前 | E22: － | N22: 応急措置前 | P22: －
C23: 応急措置後 | E23: Ⅰ | N23: 応急措置後 | P23: Ⅰ
B24: 変状の発生範囲及び規模 | E24: － | H24: 前回変状の発生範囲及び規模 | J24: 0.04㎡（0.1m×0.4m） | M24: 変状の発生範囲及び規模 | P24: － | S24: 前回変状の発生範囲及び規模 | U24: 0.1㎡（0.1m×1m）
B25: 対策履歴 | E25: はく落防止工(FRPネット) | H25: 実施状況（実施日） | J25: － | M25: 対策履歴 | P25: はく落防止工(FRPネット) | S25: 実施状況（実施日） | U25: －
B26: メモ | E26: 対策済み 【前回定期点検 Ⅱb判定】 | M26: メモ | P26: 対策済み 【前回定期点検 Ⅱb判定】
C27: ※ 応急措置後の対策区分について添付すること。また、点検前に 実施された措置によりⅠと判定された箇所も添付すること。 | N27: ※ 変状の発生範囲の規模とは、対策を行う際に参考となる変状の長さや面積をいう。
N28: ※ 応急措置を実施しないで決定した変状の対策区分は、対策区分の応急措置後の欄に記入すること。
C29: ※ たたき落としを実施した場合は、実施後の写真を添付すること。 | N29: ※ 変状の発生範囲の規模は、面積・寸法を記載すること。(ひび割れ幅のみmmとし、その他をm表記とする)
C30: ※ 変状数に準じてシートを追加すること。（１シートに１ページとすること。） | N30: ※ 構造用鋼材以外の異物に伴ううき・はく離については、メモ欄に異物の概要を記入すること。

Sheet 様式D-1-1_026
B2: ■定期点検記録様式 変状写真台帳【様式D-1-1】 | R2: 施設ID | T2: 34.29094,131.95150
B3: フリガナ | E3: (ﾋｴﾊﾞﾗﾀﾞｲｲﾁｽﾞｲﾄﾞｳ) | H3: 路 線 名 | J3: 一般国道187号 | M3: 定期点検実施者 | P3: 応用地質（株） | S3: 定期点検年月日 | U3: 45840
B4: 名 称 | E4: 稗原第1隧道 | H4: 管理者名 | J4: 山口県岩国土木建築事務所 | P4: 太田 裕之
B5: 写真 番号 | C5: 覆工スパン 番号 | E5: 9 | F5: 余 白 | M5: 写真 番号 | N5: 覆工スパン 番号 | P5: 9 | Q5: 余 白
C6: 変状番号 | E6: 5 | N6: 変状番号 | P6: 6
B7: 変状 部位 | C7: 対象箇所 | E7: 覆工 | M7: 変状 部位 | N7: 対象箇所 | P7: 覆工
C8: 部位区分 | E8: 水平打ち継ぎ目（左側） | N8: 部位区分 | P8: 水平打ち継ぎ目（右側）
B9: 変状種類 | E9: うき・はく離 | M9: 変状種類 | P9: うき・はく離
B10: 対策 区分 | C10: 変状区分 | E10: 材質劣化 | M10: 対策 区分 | N10: 変状区分 | P10: 材質劣化
C11: 応急措置前 | E11: － | N11: 応急措置前 | P11: －
C12: 応急措置後 | E12: Ⅰ | N12: 応急措置後 | P12: Ⅰ
B13: 変状の発生範囲及び規模 | E13: － | H13: 前回変状の発生範囲及び規模 | J13: 0.04㎡（0.1m×0.4m） | M13: 変状の発生範囲及び規模 | P13: － | S13: 前回変状の発生範囲及び規模 | U13: 0.25㎡（0.1m×2.5m）
B14: 対策履歴 | E14: はく落防止工(FRPネット) | H14: 実施状況（実施日） | J14: － | M14: 対策履歴 | P14: はく落防止工(FRPネット) | S14: 実施状況（実施日） | U14: －
B15: メモ | E15: 対策済み 【前回定期点検 Ⅱb判定】 | M15: メモ | P15: 対策済み 【前回定期点検 Ⅱb判定】
B16: 写真 番号 | C16: 覆工スパン 番号 | E16: 9 | F16: 余 白 | M16: 写真 番号 | N16: 覆工スパン 番号 | Q16: 余 白
C17: 変状番号 | E17: 7 | N17: 変状番号
B18: 変状 部位 | C18: 対象箇所 | E18: 覆工 | M18: 変状 部位 | N18: 対象箇所
C19: 部位区分 | E19: 横断目地（右側） | N19: 部位区分
B20: 変状種類 | E20: うき・はく離 | M20: 変状種類
B21: 対策 区分 | C21: 変状区分 | E21: 材質劣化 | M21: 対策 区分 | N21: 変状区分
C22: 応急措置前 | E22: － | N22: 応急措置前
C23: 応急措置後 | E23: Ⅰ | N23: 応急措置後
B24: 変状の発生範囲及び規模 | E24: － | H24: 前回変状の発生範囲及び規模 | J24: 0.18㎡（0.9m×0.2m） | M24: 変状の発生範囲及び規模 | S24: 前回変状の発生範囲及び規模
B25: 対策履歴 | E25: はく落防止工(FRPネット) | H25: 実施状況（実施日） | J25: － | M25: 対策履歴 | S25: 実施状況（実施日）
B26: メモ | E26: 対策済み 【前回定期点検 Ⅱb判定】 | M26: メモ
C27: ※ 応急措置後の対策区分について添付すること。また、点検前に 実施された措置によりⅠと判定された箇所も添付すること。 | N27: ※ 変状の発生範囲の規模とは、対策を行う際に参考となる変状の長さや面積をいう。
N28: ※ 応急措置を実施しないで決定した変状の対策区分は、対策区分の応急措置後の欄に記入すること。
C29: ※ たたき落としを実施した場合は、実施後の写真を添付すること。 | N29: ※ 変状の発生範囲の規模は、面積・寸法を記載すること。(ひび割れ幅のみmmとし、その他をm表記とする)
C30: ※ 変状数に準じてシートを追加すること。（１シートに１ページとすること。） | N30: ※ 構造用鋼材以外の異物に伴ううき・はく離については、メモ欄に異物の概要を記入すること。

Sheet 様式D-1-1_027
B2: ■定期点検記録様式 変状写真台帳【様式D-1-1】 | R2: 施設ID | T2: 34.29094,131.95150
B3: フリガナ | E3: (ﾋｴﾊﾞﾗﾀﾞｲｲﾁｽﾞｲﾄﾞｳ) | H3: 路 線 名 | J3: 一般国道187号 | M3: 定期点検実施者 | P3: 応用地質（株） | S3: 定期点検年月日 | U3: 45840
B4: 名 称 | E4: 稗原第1隧道 | H4: 管理者名 | J4: 山口県岩国土木建築事務所 | P4: 太田 裕之
B5: 写真 番号 | C5: 覆工スパン 番号 | E5: 10 | F5: 余 白 | M5: 写真 番号 | N5: 覆工スパン 番号 | P5: 10 | Q5: 余 白
C6: 変状番号 | E6: 1 | N6: 変状番号 | P6: 2
B7: 変状 部位 | C7: 対象箇所 | E7: 覆工 | M7: 変状 部位 | N7: 対象箇所 | P7: 覆工
C8: 部位区分 | E8: 横断目地（天端） | N8: 部位区分 | P8: 横断目地（天端）
B9: 変状種類 | E9: うき・はく離 | M9: 変状種類 | P9: うき・はく離
B10: 対策 区分 | C10: 変状区分 | E10: 材質劣化 | M10: 対策 区分 | N10: 変状区分 | P10: 材質劣化
C11: 応急措置前 | E11: － | N11: 応急措置前 | P11: －
C12: 応急措置後 | E12: Ⅰ | N12: 応急措置後 | P12: Ⅰ
B13: 変状の発生範囲及び規模 | E13: － | H13: 前回変状の発生範囲及び規模 | J13: 0.02㎡（0.2m×0.1m） | M13: 変状の発生範囲及び規模 | P13: － | S13: 前回変状の発生範囲及び規模 | U13: 0.59㎡（3.9m×0.15m）
B14: 対策履歴 | E14: はく落防止工(FRPネット) | H14: 実施状況（実施日） | J14: － | M14: 対策履歴 | P14: はく落防止工(FRPネット) | S14: 実施状況（実施日） | U14: －
B15: メモ | E15: 対策済み 【前回定期点検 Ⅱb判定】 | M15: メモ | P15: 対策済み 【前回定期点検 Ⅱa判定】
B16: 写真 番号 | C16: 覆工スパン 番号 | E16: 10 | F16: 余 白 | M16: 写真 番号 | N16: 覆工スパン 番号 | P16: 10 | Q16: 余 白
C17: 変状番号 | E17: 3 | N17: 変状番号 | P17: 4
B18: 変状 部位 | C18: 対象箇所 | E18: 覆工 | M18: 変状 部位 | N18: 対象箇所 | P18: 覆工
C19: 部位区分 | E19: 横断目地（天端） | N19: 部位区分 | P19: 水平打ち継ぎ目（左側）
B20: 変状種類 | E20: 漏水 | M20: 変状種類 | P20: うき・はく離
B21: 対策 区分 | C21: 変状区分 | E21: 漏水 | M21: 対策 区分 | N21: 変状区分 | P21: 材質劣化
C22: 応急措置前 | E22: － | N22: 応急措置前 | P22: －
C23: 応急措置後 | E23: Ⅱb | N23: 応急措置後 | P23: Ⅰ
B24: 変状の発生範囲及び規模 | E24: 3.85㎡（7.7m×0.5m） | H24: 前回変状の発生範囲及び規模 | J24: 記載なし | M24: 変状の発生範囲及び規模 | P24: － | S24: 前回変状の発生範囲及び規模 | U24: 0.04㎡（0.1m×0.4m）
B25: 対策履歴 | E25: なし | H25: 実施状況（実施日） | J25: － | M25: 対策履歴 | P25: はく落防止工(FRPネット) | S25: 実施状況（実施日） | U25: －
B26: メモ | E26: 導水工から漏水、にじみ程度、遊離石灰を伴う 【前回定期点検 Ⅱb判定】 | M26: メモ | P26: 対策済み 【前回定期点検 Ⅱb判定】
C27: ※ 応急措置後の対策区分について添付すること。また、点検前に 実施された措置によりⅠと判定された箇所も添付すること。 | N27: ※ 変状の発生範囲の規模とは、対策を行う際に参考となる変状の長さや面積をいう。
N28: ※ 応急措置を実施しないで決定した変状の対策区分は、対策区分の応急措置後の欄に記入すること。
C29: ※ たたき落としを実施した場合は、実施後の写真を添付すること。 | N29: ※ 変状の発生範囲の規模は、面積・寸法を記載すること。(ひび割れ幅のみmmとし、その他をm表記とする)
C30: ※ 変状数に準じてシートを追加すること。（１シートに１ページとすること。） | N30: ※ 構造用鋼材以外の異物に伴ううき・はく離については、メモ欄に異物の概要を記入すること。

Sheet 様式D-1-1_028
B2: ■定期点検記録様式 変状写真台帳【様式D-1-1】 | R2: 施設ID | T2: 34.29094,131.95150
B3: フリガナ | E3: (ﾋｴﾊﾞﾗﾀﾞｲｲﾁｽﾞｲﾄﾞｳ) | H3: 路 線 名 | J3: 一般国道187号 | M3: 定期点検実施者 | P3: 応用地質（株） | S3: 定期点検年月日 | U3: 45840
B4: 名 称 | E4: 稗原第1隧道 | H4: 管理者名 | J4: 山口県岩国土木建築事務所 | P4: 太田 裕之
B5: 写真 番号 | C5: 覆工スパン 番号 | E5: 10 | F5: 余 白 | M5: 写真 番号 | N5: 覆工スパン 番号 | P5: 10 | Q5: 余 白
C6: 変状番号 | E6: 5 | N6: 変状番号 | P6: 6
B7: 変状 部位 | C7: 対象箇所 | E7: 覆工 | M7: 変状 部位 | N7: 対象箇所 | P7: 覆工
C8: 部位区分 | E8: 横断目地（左側） | N8: 部位区分 | P8: 水平打ち継ぎ目（右側）
B9: 変状種類 | E9: うき・はく離 | M9: 変状種類 | P9: うき・はく離
B10: 対策 区分 | C10: 変状区分 | E10: 材質劣化 | M10: 対策 区分 | N10: 変状区分 | P10: 材質劣化
C11: 応急措置前 | E11: － | N11: 応急措置前 | P11: －
C12: 応急措置後 | E12: Ⅰ | N12: 応急措置後 | P12: Ⅰ
B13: 変状の発生範囲及び規模 | E13: － | H13: 前回変状の発生範囲及び規模 | J13: 0.03㎡（0.5m×0.05m） | M13: 変状の発生範囲及び規模 | P13: － | S13: 前回変状の発生範囲及び規模 | U13: 0.12㎡（0.1m×1.2m）
B14: 対策履歴 | E14: はく落防止工(FRPネット) | H14: 実施状況（実施日） | J14: － | M14: 対策履歴 | P14: はく落防止工(FRPネット) | S14: 実施状況（実施日） | U14: －
B15: メモ | E15: 対策済み 【前回定期点検 Ⅱb判定】 | M15: メモ | P15: 対策済み 【前回定期点検 Ⅱb判定】
B16: 写真 番号 | C16: 覆工スパン 番号 | E16: 10 | F16: 余 白 | M16: 写真 番号 | N16: 覆工スパン 番号 | P16: 10 | Q16: 余 白
C17: 変状番号 | E17: 7 | N17: 変状番号 | P17: 8
B18: 変状 部位 | C18: 対象箇所 | E18: 覆工 | M18: 変状 部位 | N18: 対象箇所 | P18: 覆工
C19: 部位区分 | E19: 水平打ち継ぎ目（右側） | N19: 部位区分 | P19: 横断目地（左側）
B20: 変状種類 | E20: うき・はく離 | M20: 変状種類 | P20: 補修・補強材の破損
B21: 対策 区分 | C21: 変状区分 | E21: 材質劣化 | M21: 対策 区分 | N21: 変状区分 | P21: 材質劣化
C22: 応急措置前 | E22: － | N22: 応急措置前 | P22: －
C23: 応急措置後 | E23: Ⅰ | N23: 応急措置後 | P23: Ⅱa
B24: 変状の発生範囲及び規模 | E24: － | H24: 前回変状の発生範囲及び規模 | J24: 0.08㎡（0.2m×0.4m） | M24: 変状の発生範囲及び規模 | P24: 0.55㎡（0.5m×1.1m） | S24: 前回変状の発生範囲及び規模 | U24: なし
B25: 対策履歴 | E25: はく落防止工(FRPネット) | H25: 実施状況（実施日） | J25: － | M25: 対策履歴 | P25: なし | S25: 実施状況（実施日） | U25: －
B26: メモ | E26: 対策済み 【前回定期点検 Ⅱb判定】 | M26: メモ | P26: 車両接触による破損、落下の危険性なし 【今回新たに確認】
C27: ※ 応急措置後の対策区分について添付すること。また、点検前に 実施された措置によりⅠと判定された箇所も添付すること。 | N27: ※ 変状の発生範囲の規模とは、対策を行う際に参考となる変状の長さや面積をいう。
N28: ※ 応急措置を実施しないで決定した変状の対策区分は、対策区分の応急措置後の欄に記入すること。
C29: ※ たたき落としを実施した場合は、実施後の写真を添付すること。 | N29: ※ 変状の発生範囲の規模は、面積・寸法を記載すること。(ひび割れ幅のみmmとし、その他をm表記とする)
C30: ※ 変状数に準じてシートを追加すること。（１シートに１ページとすること。） | N30: ※ 構造用鋼材以外の異物に伴ううき・はく離については、メモ欄に異物の概要を記入すること。

Sheet 様式D-1-1_029
B2: ■定期点検記録様式 変状写真台帳【様式D-1-1】 | R2: 施設ID | T2: 34.29094,131.95150
B3: フリガナ | E3: (ﾋｴﾊﾞﾗﾀﾞｲｲﾁｽﾞｲﾄﾞｳ) | H3: 路 線 名 | J3: 一般国道187号 | M3: 定期点検実施者 | P3: 応用地質（株） | S3: 定期点検年月日 | U3: 45840
B4: 名 称 | E4: 稗原第1隧道 | H4: 管理者名 | J4: 山口県岩国土木建築事務所 | P4: 太田 裕之
B5: 写真 番号 | C5: 覆工スパン 番号 | E5: 11 | F5: 余 白 | M5: 写真 番号 | N5: 覆工スパン 番号 | P5: 11 | Q5: 余 白
C6: 変状番号 | E6: 1 | N6: 変状番号 | P6: 2
B7: 変状 部位 | C7: 対象箇所 | E7: 覆工 | M7: 変状 部位 | N7: 対象箇所 | P7: 覆工
C8: 部位区分 | E8: 横断目地（左側） | N8: 部位区分 | P8: 横断目地（天端）
B9: 変状種類 | E9: うき・はく離 | M9: 変状種類 | P9: 漏水
B10: 対策 区分 | C10: 変状区分 | E10: 材質劣化 | M10: 対策 区分 | N10: 変状区分 | P10: 漏水
C11: 応急措置前 | E11: － | N11: 応急措置前 | P11: －
C12: 応急措置後 | E12: Ⅰ | N12: 応急措置後 | P12: Ⅱb
B13: 変状の発生範囲及び規模 | E13: － | H13: 前回変状の発生範囲及び規模 | J13: 0.21㎡（1.4m×0.15m） | M13: 変状の発生範囲及び規模 | P13: 3.9㎡（7.8m×0.5m） | S13: 前回変状の発生範囲及び規模 | U13: 記載なし
B14: 対策履歴 | E14: はく落防止工(FRPネット) | H14: 実施状況（実施日） | J14: － | M14: 対策履歴 | P14: なし | S14: 実施状況（実施日） | U14: －
B15: メモ | E15: 対策済み 【前回定期点検 Ⅱa判定】 | M15: メモ | P15: 導水工から漏水、にじみ程度 【前回定期点検 Ⅱb判定】
B16: 写真 番号 | C16: 覆工スパン 番号 | E16: 11 | F16: 余 白 | M16: 写真 番号 | N16: 覆工スパン 番号 | P16: 11 | Q16: 余 白
C17: 変状番号 | E17: 3 | N17: 変状番号 | P17: 4
B18: 変状 部位 | C18: 対象箇所 | E18: 覆工 | M18: 変状 部位 | N18: 対象箇所 | P18: 覆工
C19: 部位区分 | E19: 横断目地（天端） | N19: 部位区分 | P19: 水平打ち継ぎ目（左側）
B20: 変状種類 | E20: うき・はく離 | M20: 変状種類 | P20: うき・はく離
B21: 対策 区分 | C21: 変状区分 | E21: 材質劣化 | M21: 対策 区分 | N21: 変状区分 | P21: 材質劣化
C22: 応急措置前 | E22: － | N22: 応急措置前 | P22: －
C23: 応急措置後 | E23: Ⅰ | N23: 応急措置後 | P23: Ⅰ
B24: 変状の発生範囲及び規模 | E24: － | H24: 前回変状の発生範囲及び規模 | J24: 0.33㎡（2.2m×0.15m） | M24: 変状の発生範囲及び規模 | P24: － | S24: 前回変状の発生範囲及び規模 | U24: 0.04㎡（0.1m×0.4m）
B25: 対策履歴 | E25: はく落防止工(FRPネット) | H25: 実施状況（実施日） | J25: － | M25: 対策履歴 | P25: はく落防止工(FRPネット) | S25: 実施状況（実施日） | U25: －
B26: メモ | E26: 対策済み 【前回定期点検 Ⅱa判定】 | M26: メモ | P26: 対策済み 【前回定期点検 Ⅱb判定】
C27: ※ 応急措置後の対策区分について添付すること。また、点検前に 実施された措置によりⅠと判定された箇所も添付すること。 | N27: ※ 変状の発生範囲の規模とは、対策を行う際に参考となる変状の長さや面積をいう。
N28: ※ 応急措置を実施しないで決定した変状の対策区分は、対策区分の応急措置後の欄に記入すること。
C29: ※ たたき落としを実施した場合は、実施後の写真を添付すること。 | N29: ※ 変状の発生範囲の規模は、面積・寸法を記載すること。(ひび割れ幅のみmmとし、その他をm表記とする)
C30: ※ 変状数に準じてシートを追加すること。（１シートに１ページとすること。） | N30: ※ 構造用鋼材以外の異物に伴ううき・はく離については、メモ欄に異物の概要を記入すること。

Sheet 様式D-1-1_030
B2: ■定期点検記録様式 変状写真台帳【様式D-1-1】 | R2: 施設ID | T2: 34.29094,131.95150
B3: フリガナ | E3: (ﾋｴﾊﾞﾗﾀﾞｲｲﾁｽﾞｲﾄﾞｳ) | H3: 路 線 名 | J3: 一般国道187号 | M3: 定期点検実施者 | P3: 応用地質（株） | S3: 定期点検年月日 | U3: 45840
B4: 名 称 | E4: 稗原第1隧道 | H4: 管理者名 | J4: 山口県岩国土木建築事務所 | P4: 太田 裕之
B5: 写真 番号 | C5: 覆工スパン 番号 | E5: 11 | F5: 余 白 | M5: 写真 番号 | N5: 覆工スパン 番号 | P5: 11 | Q5: 余 白
C6: 変状番号 | E6: 5 | N6: 変状番号 | P6: 6
B7: 変状 部位 | C7: 対象箇所 | E7: 覆工 | M7: 変状 部位 | N7: 対象箇所 | P7: 覆工
C8: 部位区分 | E8: 横断目地（左側） | N8: 部位区分 | P8: 水平打ち継ぎ目（右側）
B9: 変状種類 | E9: うき・はく離 | M9: 変状種類 | P9: うき・はく離
B10: 対策 区分 | C10: 変状区分 | E10: 材質劣化 | M10: 対策 区分 | N10: 変状区分 | P10: 材質劣化
C11: 応急措置前 | E11: － | N11: 応急措置前 | P11: －
C12: 応急措置後 | E12: Ⅰ | N12: 応急措置後 | P12: Ⅰ
B13: 変状の発生範囲及び規模 | E13: － | H13: 前回変状の発生範囲及び規模 | J13: 0.14㎡（1.4m×0.1m） | M13: 変状の発生範囲及び規模 | P13: － | S13: 前回変状の発生範囲及び規模 | U13: 0.18㎡（0.1m×1.8m）
B14: 対策履歴 | E14: はく落防止工(FRPネット) | H14: 実施状況（実施日） | J14: － | M14: 対策履歴 | P14: はく落防止工(FRPネット) | S14: 実施状況（実施日） | U14: －
B15: メモ | E15: 対策済み 【前回定期点検 Ⅱb判定】 | M15: メモ | P15: 対策済み 【前回定期点検 Ⅱb判定】
B16: 写真 番号 | C16: 覆工スパン 番号 | E16: 11 | F16: 余 白 | M16: 写真 番号 | N16: 覆工スパン 番号 | P16: 11 | Q16: 余 白
C17: 変状番号 | E17: 7 | N17: 変状番号 | P17: 8
B18: 変状 部位 | C18: 対象箇所 | E18: 覆工 | M18: 変状 部位 | N18: 対象箇所 | P18: 覆工
C19: 部位区分 | E19: 横断目地（天端） | N19: 部位区分 | P19: 横断目地（右側）
B20: 変状種類 | E20: 補修・補強材の破損 | M20: 変状種類 | P20: 補修・補強材の破損
B21: 対策 区分 | C21: 変状区分 | E21: 漏水 | M21: 対策 区分 | N21: 変状区分 | P21: 漏水
C22: 応急措置前 | E22: － | N22: 応急措置前 | P22: －
C23: 応急措置後 | E23: Ⅱa | N23: 応急措置後 | P23: Ⅱa
B24: 変状の発生範囲及び規模 | E24: 0.22㎡（2.2m×0.1m） | H24: 前回変状の発生範囲及び規模 | J24: なし | M24: 変状の発生範囲及び規模 | P24: 0.06㎡（0.6m×0.1m） | S24: 前回変状の発生範囲及び規模 | U24: なし
B25: 対策履歴 | E25: なし | H25: 実施状況（実施日） | J25: － | M25: 対策履歴 | P25: なし | S25: 実施状況（実施日） | U25: －
B26: メモ | E26: 導水工の劣化、割れ目、にじみあり 【今回新たに確認】 | M26: メモ | P26: 導水工の劣化、割れ目、にじみあり 【今回新たに確認】
C27: ※ 応急措置後の対策区分について添付すること。また、点検前に 実施された措置によりⅠと判定された箇所も添付すること。 | N27: ※ 変状の発生範囲の規模とは、対策を行う際に参考となる変状の長さや面積をいう。
N28: ※ 応急措置を実施しないで決定した変状の対策区分は、対策区分の応急措置後の欄に記入すること。
C29: ※ たたき落としを実施した場合は、実施後の写真を添付すること。 | N29: ※ 変状の発生範囲の規模は、面積・寸法を記載すること。(ひび割れ幅のみmmとし、その他をm表記とする)
C30: ※ 変状数に準じてシートを追加すること。（１シートに１ページとすること。） | N30: ※ 構造用鋼材以外の異物に伴ううき・はく離については、メモ欄に異物の概要を記入すること。

Sheet 様式D-1-1_031
B2: ■定期点検記録様式 変状写真台帳【様式D-1-1】 | R2: 施設ID | T2: 34.29094,131.95150
B3: フリガナ | E3: (ﾋｴﾊﾞﾗﾀﾞｲｲﾁｽﾞｲﾄﾞｳ) | H3: 路 線 名 | J3: 一般国道187号 | M3: 定期点検実施者 | P3: 応用地質（株） | S3: 定期点検年月日 | U3: 45840
B4: 名 称 | E4: 稗原第1隧道 | H4: 管理者名 | J4: 山口県岩国土木建築事務所 | P4: 太田 裕之
B5: 写真 番号 | C5: 覆工スパン 番号 | E5: 12 | F5: 余 白 | M5: 写真 番号 | N5: 覆工スパン 番号 | P5: 12 | Q5: 余 白
C6: 変状番号 | E6: 1 | N6: 変状番号 | P6: 2
B7: 変状 部位 | C7: 対象箇所 | E7: 覆工 | M7: 変状 部位 | N7: 対象箇所 | P7: 覆工
C8: 部位区分 | E8: アーチ（左側） | N8: 部位区分 | P8: 水平打ち継ぎ目（左側）
B9: 変状種類 | E9: 漏水 | M9: 変状種類 | P9: うき・はく離
B10: 対策 区分 | C10: 変状区分 | E10: 漏水 | M10: 対策 区分 | N10: 変状区分 | P10: 材質劣化
C11: 応急措置前 | E11: － | N11: 応急措置前 | P11: －
C12: 応急措置後 | E12: Ⅱb | N12: 応急措置後 | P12: Ⅰ
B13: 変状の発生範囲及び規模 | E13: 28.5㎡（7.5m×3.8m） | H13: 前回変状の発生範囲及び規模 | J13: 記載なし | M13: 変状の発生範囲及び規模 | P13: － | S13: 前回変状の発生範囲及び規模 | U13: 0.3㎡（0.1m×3m）
B14: 対策履歴 | E14: なし | H14: 実施状況（実施日） | J14: － | M14: 対策履歴 | P14: はく落防止工(FRPネット) | S14: 実施状況（実施日） | U14: －
B15: メモ | E15: ひび割れから漏水、にじみ程度(2箇所)、遊離石灰を伴う(前回点検時遊離石灰のみ) 【前回定期点検 Ⅱb判定】 | M15: メモ | P15: 対策済み 【前回定期点検 Ⅱb判定】
B16: 写真 番号 | C16: 覆工スパン 番号 | E16: 12 | F16: 余 白 | M16: 写真 番号 | N16: 覆工スパン 番号 | P16: 12 | Q16: 余 白
C17: 変状番号 | E17: 3 | N17: 変状番号 | P17: 4
B18: 変状 部位 | C18: 対象箇所 | E18: 覆工 | M18: 変状 部位 | N18: 対象箇所 | P18: 覆工
C19: 部位区分 | E19: アーチ（左側） | N19: 部位区分 | P19: 横断目地（天端）
B20: 変状種類 | E20: 補修・補強材の破損 | M20: 変状種類 | P20: 補修・補強材の破損
B21: 対策 区分 | C21: 変状区分 | E21: 材質劣化 | M21: 対策 区分 | N21: 変状区分 | P21: 漏水
C22: 応急措置前 | E22: － | N22: 応急措置前 | P22: －
C23: 応急措置後 | E23: Ⅱa | N23: 応急措置後 | P23: Ⅱb
B24: 変状の発生範囲及び規模 | E24: 0.01㎡（0.1m×0.1m） | H24: 前回変状の発生範囲及び規模 | J24: なし | M24: 変状の発生範囲及び規模 | P24: 0.11㎡（1.1m×0.1m） | S24: 前回変状の発生範囲及び規模 | U24: なし
B25: 対策履歴 | E25: なし | H25: 実施状況（実施日） | J25: － | M25: 対策履歴 | P25: なし | S25: 実施状況（実施日） | U25: －
B26: メモ | E26: FRPネット工、固定アンカー脱落 【今回新たに確認】 | M26: メモ | P26: 導水工の劣化 【今回新たに確認】
C27: ※ 応急措置後の対策区分について添付すること。また、点検前に 実施された措置によりⅠと判定された箇所も添付すること。 | N27: ※ 変状の発生範囲の規模とは、対策を行う際に参考となる変状の長さや面積をいう。
N28: ※ 応急措置を実施しないで決定した変状の対策区分は、対策区分の応急措置後の欄に記入すること。
C29: ※ たたき落としを実施した場合は、実施後の写真を添付すること。 | N29: ※ 変状の発生範囲の規模は、面積・寸法を記載すること。(ひび割れ幅のみmmとし、その他をm表記とする)
C30: ※ 変状数に準じてシートを追加すること。（１シートに１ページとすること。） | N30: ※ 構造用鋼材以外の異物に伴ううき・はく離については、メモ欄に異物の概要を記入すること。

Sheet 様式D-1-1_032
B2: ■定期点検記録様式 変状写真台帳【様式D-1-1】 | R2: 施設ID | T2: 34.29094,131.95150
B3: フリガナ | E3: (ﾋｴﾊﾞﾗﾀﾞｲｲﾁｽﾞｲﾄﾞｳ) | H3: 路 線 名 | J3: 一般国道187号 | M3: 定期点検実施者 | P3: 応用地質（株） | S3: 定期点検年月日 | U3: 45840
B4: 名 称 | E4: 稗原第1隧道 | H4: 管理者名 | J4: 山口県岩国土木建築事務所 | P4: 太田 裕之
B5: 写真 番号 | C5: 覆工スパン 番号 | E5: 12 | F5: 余 白 | M5: 写真 番号 | N5: 覆工スパン 番号 | Q5: 余 白
C6: 変状番号 | E6: 5 | N6: 変状番号
B7: 変状 部位 | C7: 対象箇所 | E7: 覆工 | M7: 変状 部位 | N7: 対象箇所
C8: 部位区分 | E8: アーチ（右側） | N8: 部位区分
B9: 変状種類 | E9: 補修・補強材の破損 | M9: 変状種類
B10: 対策 区分 | C10: 変状区分 | E10: 漏水 | M10: 対策 区分 | N10: 変状区分
C11: 応急措置前 | E11: － | N11: 応急措置前
C12: 応急措置後 | E12: Ⅱb | N12: 応急措置後
B13: 変状の発生範囲及び規模 | E13: 0.12㎡（1.2m×0.1m） | H13: 前回変状の発生範囲及び規模 | J13: なし | M13: 変状の発生範囲及び規模 | S13: 前回変状の発生範囲及び規模
B14: 対策履歴 | E14: なし | H14: 実施状況（実施日） | J14: － | M14: 対策履歴 | S14: 実施状況（実施日）
B15: メモ | E15: 導水工の劣化 【今回新たに確認】 | M15: メモ
B16: 写真 番号 | C16: 覆工スパン 番号 | F16: 余 白 | M16: 写真 番号 | N16: 覆工スパン 番号 | Q16: 余 白
C17: 変状番号 | N17: 変状番号
B18: 変状 部位 | C18: 対象箇所 | M18: 変状 部位 | N18: 対象箇所
C19: 部位区分 | N19: 部位区分
B20: 変状種類 | M20: 変状種類
B21: 対策 区分 | C21: 変状区分 | M21: 対策 区分 | N21: 変状区分
C22: 応急措置前 | N22: 応急措置前
C23: 応急措置後 | N23: 応急措置後
B24: 変状の発生範囲及び規模 | H24: 前回変状の発生範囲及び規模 | M24: 変状の発生範囲及び規模 | S24: 前回変状の発生範囲及び規模
B25: 対策履歴 | H25: 実施状況（実施日） | M25: 対策履歴 | S25: 実施状況（実施日）
B26: メモ | M26: メモ
C27: ※ 応急措置後の対策区分について添付すること。また、点検前に 実施された措置によりⅠと判定された箇所も添付すること。 | N27: ※ 変状の発生範囲の規模とは、対策を行う際に参考となる変状の長さや面積をいう。
N28: ※ 応急措置を実施しないで決定した変状の対策区分は、対策区分の応急措置後の欄に記入すること。
C29: ※ たたき落としを実施した場合は、実施後の写真を添付すること。 | N29: ※ 変状の発生範囲の規模は、面積・寸法を記載すること。(ひび割れ幅のみmmとし、その他をm表記とする)
C30: ※ 変状数に準じてシートを追加すること。（１シートに１ページとすること。） | N30: ※ 構造用鋼材以外の異物に伴ううき・はく離については、メモ欄に異物の概要を記入すること。

Sheet 様式D-1-1_033
B2: ■定期点検記録様式 変状写真台帳【様式D-1-1】 | R2: 施設ID | T2: 34.29094,131.95150
B3: フリガナ | E3: (ﾋｴﾊﾞﾗﾀﾞｲｲﾁｽﾞｲﾄﾞｳ) | H3: 路 線 名 | J3: 一般国道187号 | M3: 定期点検実施者 | P3: 応用地質（株） | S3: 定期点検年月日 | U3: 45840
B4: 名 称 | E4: 稗原第1隧道 | H4: 管理者名 | J4: 山口県岩国土木建築事務所 | P4: 太田 裕之
B5: 写真 番号 | C5: 覆工スパン 番号 | E5: 13 | F5: 余 白 | M5: 写真 番号 | N5: 覆工スパン 番号 | P5: 13 | Q5: 余 白
C6: 変状番号 | E6: 1 | N6: 変状番号 | P6: 2
B7: 変状 部位 | C7: 対象箇所 | E7: 覆工 | M7: 変状 部位 | N7: 対象箇所 | P7: 覆工
C8: 部位区分 | E8: アーチ（右側） | N8: 部位区分 | P8: 横断目地（天端）
B9: 変状種類 | E9: 圧ざ、ひび割れ | M9: 変状種類 | P9: うき・はく離
B10: 対策 区分 | C10: 変状区分 | E10: 外力 | M10: 対策 区分 | N10: 変状区分 | P10: 材質劣化
C11: 応急措置前 | E11: － | N11: 応急措置前 | P11: －
C12: 応急措置後 | E12: Ⅱb | N12: 応急措置後 | P12: Ⅰ
B13: 変状の発生範囲及び規模 | E13: 長さ4.76m×幅3mm | H13: 前回変状の発生範囲及び規模 | J13: 記載なし | M13: 変状の発生範囲及び規模 | P13: － | S13: 前回変状の発生範囲及び規模 | U13: 0.14㎡（0.55m×0.25m）
B14: 対策履歴 | E14: なし | H14: 実施状況（実施日） | J14: － | M14: 対策履歴 | P14: はく落防止工(FRPネット) | S14: 実施状況（実施日） | U14: －
B15: メモ | E15: 斜め方向のひび割れ(幅3.0mm)、変状区分変更 【前回定期点検 Ⅱb判定】 | M15: メモ | P15: 対策済み 【前回定期点検 Ⅱa判定】
B16: 写真 番号 | C16: 覆工スパン 番号 | E16: 13 | F16: 余 白 | M16: 写真 番号 | N16: 覆工スパン 番号 | P16: 13 | Q16: 余 白
C17: 変状番号 | E17: 3 | N17: 変状番号 | P17: 4
B18: 変状 部位 | C18: 対象箇所 | E18: 覆工 | M18: 変状 部位 | N18: 対象箇所 | P18: 覆工
C19: 部位区分 | E19: 水平打ち継ぎ目（左側） | N19: 部位区分 | P19: 水平打ち継ぎ目（左側）
B20: 変状種類 | E20: うき・はく離 | M20: 変状種類 | P20: うき・はく離
B21: 対策 区分 | C21: 変状区分 | E21: 材質劣化 | M21: 対策 区分 | N21: 変状区分 | P21: 材質劣化
C22: 応急措置前 | E22: － | N22: 応急措置前 | P22: －
C23: 応急措置後 | E23: Ⅰ | N23: 応急措置後 | P23: Ⅰ
B24: 変状の発生範囲及び規模 | E24: － | H24: 前回変状の発生範囲及び規模 | J24: 0.27㎡（0.1m×2.7m） | M24: 変状の発生範囲及び規模 | P24: － | S24: 前回変状の発生範囲及び規模 | U24: 0.02㎡（0.1m×0.2m）
B25: 対策履歴 | E25: はく落防止工(FRPネット) | H25: 実施状況（実施日） | J25: － | M25: 対策履歴 | P25: はく落防止工(FRPネット) | S25: 実施状況（実施日） | U25: －
B26: メモ | E26: 対策済み 【前回定期点検 Ⅱb判定】 | M26: メモ | P26: 対策済み 【前回定期点検 Ⅱb判定】
C27: ※ 応急措置後の対策区分について添付すること。また、点検前に 実施された措置によりⅠと判定された箇所も添付すること。 | N27: ※ 変状の発生範囲の規模とは、対策を行う際に参考となる変状の長さや面積をいう。
N28: ※ 応急措置を実施しないで決定した変状の対策区分は、対策区分の応急措置後の欄に記入すること。
C29: ※ たたき落としを実施した場合は、実施後の写真を添付すること。 | N29: ※ 変状の発生範囲の規模は、面積・寸法を記載すること。(ひび割れ幅のみmmとし、その他をm表記とする)
C30: ※ 変状数に準じてシートを追加すること。（１シートに１ページとすること。） | N30: ※ 構造用鋼材以外の異物に伴ううき・はく離については、メモ欄に異物の概要を記入すること。

Sheet 様式D-1-1_034
B2: ■定期点検記録様式 変状写真台帳【様式D-1-1】 | R2: 施設ID | T2: 34.29094,131.95150
B3: フリガナ | E3: (ﾋｴﾊﾞﾗﾀﾞｲｲﾁｽﾞｲﾄﾞｳ) | H3: 路 線 名 | J3: 一般国道187号 | M3: 定期点検実施者 | P3: 応用地質（株） | S3: 定期点検年月日 | U3: 45840
B4: 名 称 | E4: 稗原第1隧道 | H4: 管理者名 | J4: 山口県岩国土木建築事務所 | P4: 太田 裕之
B5: 写真 番号 | C5: 覆工スパン 番号 | E5: 13 | F5: 余 白 | M5: 写真 番号 | N5: 覆工スパン 番号 | Q5: 余 白
C6: 変状番号 | E6: 5 | N6: 変状番号
B7: 変状 部位 | C7: 対象箇所 | E7: 覆工 | M7: 変状 部位 | N7: 対象箇所
C8: 部位区分 | E8: アーチ（天端） | N8: 部位区分
B9: 変状種類 | E9: 漏水 | M9: 変状種類
B10: 対策 区分 | C10: 変状区分 | E10: 漏水 | M10: 対策 区分 | N10: 変状区分
C11: 応急措置前 | E11: － | N11: 応急措置前
C12: 応急措置後 | E12: Ⅱb | N12: 応急措置後
B13: 変状の発生範囲及び規模 | E13: 3.55㎡（7.1m×0.5m） | H13: 前回変状の発生範囲及び規模 | J13: なし | M13: 変状の発生範囲及び規模 | S13: 前回変状の発生範囲及び規模
B14: 対策履歴 | E14: なし | H14: 実施状況（実施日） | J14: － | M14: 対策履歴 | S14: 実施状況（実施日）
B15: メモ | E15: 漏水、にじみ程度 【今回新たに確認】 | M15: メモ
B16: 写真 番号 | C16: 覆工スパン 番号 | F16: 余 白 | M16: 写真 番号 | N16: 覆工スパン 番号 | Q16: 余 白
C17: 変状番号 | N17: 変状番号
B18: 変状 部位 | C18: 対象箇所 | M18: 変状 部位 | N18: 対象箇所
C19: 部位区分 | N19: 部位区分
B20: 変状種類 | M20: 変状種類
B21: 対策 区分 | C21: 変状区分 | M21: 対策 区分 | N21: 変状区分
C22: 応急措置前 | N22: 応急措置前
C23: 応急措置後 | N23: 応急措置後
B24: 変状の発生範囲及び規模 | H24: 前回変状の発生範囲及び規模 | M24: 変状の発生範囲及び規模 | S24: 前回変状の発生範囲及び規模
B25: 対策履歴 | H25: 実施状況（実施日） | M25: 対策履歴 | S25: 実施状況（実施日）
B26: メモ | M26: メモ
C27: ※ 応急措置後の対策区分について添付すること。また、点検前に 実施された措置によりⅠと判定された箇所も添付すること。 | N27: ※ 変状の発生範囲の規模とは、対策を行う際に参考となる変状の長さや面積をいう。
N28: ※ 応急措置を実施しないで決定した変状の対策区分は、対策区分の応急措置後の欄に記入すること。
C29: ※ たたき落としを実施した場合は、実施後の写真を添付すること。 | N29: ※ 変状の発生範囲の規模は、面積・寸法を記載すること。(ひび割れ幅のみmmとし、その他をm表記とする)
C30: ※ 変状数に準じてシートを追加すること。（１シートに１ページとすること。） | N30: ※ 構造用鋼材以外の異物に伴ううき・はく離については、メモ欄に異物の概要を記入すること。

Sheet 様式D-1-2
B2: ■定期点検記録様式 異常写真台帳（トンネル内附属物等の取付状態） 【様式D-1-2】
B3: フリガナ | E3: (ﾋｴﾊﾞﾗﾀﾞｲｲﾁｽﾞｲﾄﾞｳ) | I3: 路 線 名 | L3: 一般国道187号 | O3: 定期点検実施者 | R3: 応用地質（株） | U3: 定期点検年月日 | W3: 45840
B4: 名 称 | E4: 稗原第1隧道 | I4: 管理者名 | L4: 山口県岩国土木建築事務所 | R4: 太田 裕之
B5: 覆工スパン番号 | F5: 異常番号 | J5: 覆工スパン番号 | N5: 異常番号 | R5: 覆工スパン番号 | V5: 異常番号
B6: 対象箇所 | J6: 対象箇所 | R6: 対象箇所
B7: 部位区分 | F7: 異常の種類 | J7: 部位区分 | N7: 異常の種類 | R7: 部位区分 | V7: 異常の種類
B8: 異常判定区分 | E8: メモ | J8: 異常判定区分 | M8: メモ | R8: 異常判定区分 | U8: メモ
B9: 余 白 | J9: 余 白 | R9: 余 白
B22: 覆工スパン番号 | F22: 異常番号 | J22: 覆工スパン番号 | N22: 異常番号 | R22: 覆工スパン番号 | V22: 異常番号
B23: 対象箇所 | J23: 対象箇所 | R23: 対象箇所
B24: 部位区分 | F24: 異常の種類 | J24: 部位区分 | N24: 異常の種類 | R24: 部位区分 | V24: 異常の種類
B25: 異常判定区分 | E25: メモ | J25: 異常判定区分 | M25: メモ | R25: 異常判定区分 | U25: メモ
B26: 余 白 | J26: 余 白 | R26: 余 白
C39: ※ 異常判定区分×について記入すること。また、応急措置前に異常判定区分×とした箇所のうち応急措置により○と判定した箇所も記入すること。
C40: ※ 応急措置を実施した場合は、その実施状況が分かる写真を添付すること。
C41: ※ 変状数に準じてシートを追加すること。（１シートに１ページとすること。）

Sheet 様式D-2-1
B3: ■定期点検記録様式 トンネル全体変状展開図 【様式D-2-1】
B4: フリガナ | E4: (ﾋｴﾊﾞﾗﾀﾞｲｲﾁｽﾞｲﾄﾞｳ) | J4: 路線名 | M4: 一般国道187号 | S4: 定期点検実施者 | W4: 応用地質（株） | AC4: 定期点検年月日 | AF4: 45840
B5: 名 称 | E5: 稗原第1隧道 | J5: 管理者名 | M5: 山口県岩国土木建築事務所 | W5: 太田 裕之
B6: トンネル変状展開図 | C6: トンネル全体変状展開図
V18: 注１：本展開図は、見下げた状態で記載すること。 注２：覆工スパン番号は横断目地毎（矢板工法の場合は上半アーチ の横断目地毎)に設定すること。 注３：横断目地の変状は前の覆工スパン番号で計上すること。 注４：１枚に収まらない場合は、複数枚に分けて作成すること。

Sheet 様式D-2-1´_001
B3: ■定期点検記録様式 トンネル全体変状展開図（機器の活用時） 【様式D-2-1’】
B4: フリガナ | E4: (ﾋｴﾊﾞﾗﾀﾞｲｲﾁｽﾞｲﾄﾞｳ) | J4: 路線名 | M4: 一般国道187号 | S4: 定期点検実施者 | W4: 応用地質（株） | AC4: 定期点検年月日 | AF4: 45840
B5: 名 称 | E5: 稗原第1隧道 | J5: 管理者名 | M5: 山口県岩国土木建築事務所 | W5: 太田 裕之
B6: トンネル変状展開図 | C6: トンネル全体変状展開図
V18: 注１：本展開図は、見下げた状態で記載すること。 注２：覆工スパン番号は横断目地毎（矢板工法の場合は上半アーチ の横断目地毎)に設定すること。 注３：横断目地の変状は前の覆工スパン番号で計上すること。 注４：１枚に収まらない場合は、複数枚に分けて作成すること。 注５：覆工写真の画像サイズは500kb程度とすること。

Sheet 様式D-2-1´_002
B3: ■定期点検記録様式 トンネル全体変状展開図（機器の活用時） 【様式D-2-1’】
B4: フリガナ | E4: (ﾋｴﾊﾞﾗﾀﾞｲｲﾁｽﾞｲﾄﾞｳ) | J4: 路線名 | M4: 一般国道187号 | S4: 定期点検実施者 | W4: 応用地質（株） | AC4: 定期点検年月日 | AF4: 45840
B5: 名 称 | E5: 稗原第1隧道 | J5: 管理者名 | M5: 山口県岩国土木建築事務所 | W5: 太田 裕之
B6: トンネル変状展開図 | C6: トンネル全体変状展開図
V18: 注１：本展開図は、見下げた状態で記載すること。 注２：覆工スパン番号は横断目地毎（矢板工法の場合は上半アーチ の横断目地毎)に設定すること。 注３：横断目地の変状は前の覆工スパン番号で計上すること。 注４：１枚に収まらない場合は、複数枚に分けて作成すること。 注５：覆工写真の画像サイズは500kb程度とすること。

Sheet 様式D-3_PS
AU1: 様式F用→ | AV1: 覆工スパン | AY1: 変 状 数 | BK1: 変 状 規 模
AV2: 番号 | AW2: 延長 （ｍ） | AX2: 健全性の診断の 区分 | AY2: 対策区分の判定 | BK2: 覆工スパン長（ｍ） | BO2: 変状の発生範囲の規模（㎡）
B3: ■定期点検記録様式 覆工スパン別変状詳細展開図 【様式D-3】 | AY3: 外力 | BC3: 材質劣化 | BG3: 漏水 | BK3: 外力 注2 | BO3: 材質劣化 | BS3: 漏水
B4: フリガナ | E4: (ﾋｴﾊﾞﾗﾀﾞｲｲﾁｽﾞｲﾄﾞｳ) | K4: 路線名 | N4: 一般国道187号 | T4: 定期点検業者 | Y4: 応用地質（株） | AG4: 定期点検年月日 | AK4: 45840 | AY4: Ⅳ | AZ4: Ⅲ | BA4: Ⅱa | BB4: Ⅱb | BC4: Ⅳ | BD4: Ⅲ | BE4: Ⅱa | BF4: Ⅱb | BG4: Ⅳ | BH4: Ⅲ | BI4: Ⅱa | BJ4: Ⅱb | BK4: Ⅳ | BL4: Ⅲ | BM4: Ⅱa | BN4: Ⅱb | BO4: Ⅳ | BP4: Ⅲ | BQ4: Ⅱa | BR4: Ⅱb | BS4: Ⅳ | BT4: Ⅲ | BU4: Ⅱa | BV4: Ⅱb
B5: 名 称 | E5: 稗原第1隧道 | K5: 管理者名 | N5: 山口県岩国土木建築事務所 | Y5: 太田 裕之 | AV5: =N7 -> PS | AW5: =R7 -> 1.6 | AX5: =AM35 -> Ⅰ | AY5: =IF(Y37>0,Y37,"") | AZ5: =IF(Y37>0,"",IF(Z37>0,Z37,"")) | BA5: =IF(Y37+Z37>0,"",IF(AA37>0,AA37,"")) | BB5: =IF(Y37+Z37+AA37>0,"",IF(AB37>0,AB37,"")) | BC5: =AC37 -> 0 | BD5: =AD37 -> 0 | BE5: =AE37 -> 0 | BF5: =AF37 -> 0 | BG5: =AG37 -> 0 | BH5: =AH37 -> 0 | BI5: =AI37 -> 0 | BJ5: =AJ37 -> 0 | BK5: =IF(Y37>0,R7,"") | BL5: =IF(Y37>0,"",IF(Z37>0,R7,"")) | BM5: =IF(Y37+Z37>0,"",IF(AA37>0,R7,"")) | BN5: =IF(Y37+Z37+AA37>0,"",IF(AB37>0,R7,"")) | BO5: =AC35 -> 0 | BP5: =AD35 -> 0 | BQ5: =AE35 -> 0 | BR5: =AF35 -> 0 | BS5: =AG35 -> 0 | BT5: =AH35 -> 0 | BU5: =AI35 -> 0 | BV5: =AJ35 -> 0
B6: スパン別変状展開図 | K6: 【健全性判定集計表】
K7: スパン番号 | N7: PS | P7: スパン長 | R7: 1.6 | U7: 前回定期点検時の判定 | W7: 応急措置前の判定 | Y7: 対策区分毎の 変状の有無 | AC7: 対策区分毎の変状の発生範囲の規模(㎡) | AK7: 備考注2
K8: 変状番号 | L8: 対象箇所 | N8: 部位区分 | P8: 変状区分 | R8: 変状種類
Y9: 外力注1 | AC9: 材質劣化注1 | AG9: 漏水注1
Y10: Ⅳ | Z10: Ⅲ | AA10: Ⅱa | AB10: Ⅱb | AC10: Ⅳ | AD10: Ⅲ | AE10: Ⅱa | AF10: Ⅱb | AG10: Ⅳ | AH10: Ⅲ | AI10: Ⅱa | AJ10: Ⅱb
K11: 1 | AQ11: =IF(P11="材質劣化",2,IF(P11="漏水",3,1)) -> 1
K12: 2 | AQ12: =IF(P12="材質劣化",2,IF(P12="漏水",3,1)) -> 1
K13: 3 | AQ13: =IF(P13="材質劣化",2,IF(P13="漏水",3,1)) -> 1
K14: 4 | AQ14: =IF(P14="材質劣化",2,IF(P14="漏水",3,1)) -> 1
K15: 5 | AQ15: =IF(P15="材質劣化",2,IF(P15="漏水",3,1)) -> 1
K16: 6 | AQ16: =IF(P16="材質劣化",2,IF(P16="漏水",3,1)) -> 1
K17: 7 | AQ17: =IF(P17="材質劣化",2,IF(P17="漏水",3,1)) -> 1
K18: 8 | AQ18: =IF(P18="材質劣化",2,IF(P18="漏水",3,1)) -> 1
K19: 9 | AQ19: =IF(P19="材質劣化",2,IF(P19="漏水",3,1)) -> 1
K20: 10 | AQ20: =IF(P20="材質劣化",2,IF(P20="漏水",3,1)) -> 1
K21: 11 | AQ21: =IF(P21="材質劣化",2,IF(P21="漏水",3,1)) -> 1
K22: 12 | AQ22: =IF(P22="材質劣化",2,IF(P22="漏水",3,1)) -> 1
... K27: 17 | AQ27: =IF(P27="材質劣化",2,IF(P27="漏水",3,1)) -> 1
K28: 18 | AQ28: =IF(P30="材質劣化",2,IF(P30="漏水",3,1)) -> 1
K29: 19 | AQ29: =IF(P34="材質劣化",2,IF(P34="漏水",3,1)) -> 1
K30: 20 | AQ30: =IF(P30="材質劣化",2,IF(P30="漏水",3,1)) -> 1
K31: 21 | AQ31: =IF(P33="材質劣化",2,IF(P33="漏水",3,1)) -> 1
K32: 22 | AQ32: =IF(P37="材質劣化",2,IF(P37="漏水",3,1)) -> 1
K33: 23 | AQ33: =IF(P33="材質劣化",2,IF(P33="漏水",3,1)) -> 1
K34: 24 | AQ34: =IF(P36="材質劣化",2,IF(P36="漏水",3,1)) -> 1
K35: 集計 判定 診断 | L35: 変状の発生規模合計(㎡) | Y35: － | AC35: =SUM(AC11:AC34) -> 0 | AD35: =SUM(AD11:AD34) -> 0 | AE35: =SUM(AE11:AE34) -> 0 | AF35: =SUM(AF11:AF34) -> 0 | AG35: =SUM(AG11:AG34) -> 0 | AH35: =SUM(AH11:AH34) -> 0 | AI35: =SUM(AI11:AI34) -> 0 | AJ35: =SUM(AJ11:AJ34) -> 0 | AK35: 覆工スパン単位の 健全性の 診断の区分 | AM35: Ⅰ
L36: 対策区分の 判定結果 | O36: 対策区分毎の変状数注3 | Y36: Ⅳ | Z36: Ⅲ | AA36: Ⅱa | AB36: Ⅱb | AC36: Ⅳ | AD36: Ⅲ | AE36: Ⅱa | AF36: Ⅱb | AG36: Ⅳ | AH36: Ⅲ | AI36: Ⅱa | AJ36: Ⅱb
Y37: =IF(COUNTIF(Y11:Y34,"〇")>0,1,0) -> 0 | Z37: =IF(COUNTIF(Z11:Z34,"〇")>0,1,0) -> 0 | AA37: =IF(COUNTIF(AA11:AA34,"〇")>0,1,0) -> 0 | AB37: =IF(COUNTIF(AB11:AB34,"〇")>0,1,0) -> 0 | AC37: =COUNTA(AC11:AC34) -> 0 | AD37: =COUNTA(AD11:AD34) -> 0 | AE37: =COUNTA(AE11:AE34) -> 0 | AF37: =COUNTA(AF11:AF34) -> 0 | AG37: =COUNTA(AG11:AG34) -> 0 | AH37: =COUNTA(AH11:AH34) -> 0 | AI37: =COUNTA(AI11:AI34) -> 0 | AJ37: =COUNTA(AJ11:AJ34) -> 0
K39: 所見 | L39: 【 外 力 】監視を必要としない。 【材質劣化】監視を必要としない。 【 漏 水 】監視を必要としない。 以上により本スパンの判定はⅠ判定となる。
K43: 注1：誤記入防止のため、当該変状区分以外のセルは灰色表示とすること。
K44: 注2：応急措置を実施した場合は、その詳細を備考に記載すること。
K45: 注3：外力は覆工スパン単位、材質劣化、漏水は変状単位とすること。
B46: （以下、印刷不要）
B47: ※1：本シートは作成洩れのないよう、変状が無くても全スパン分を作成すること．また変状展開図は、様式D-2-1、様式D-2-1'と同じものを覆工スパン単位で拡大し掲載すること。
B48: ※2：変状番号は、様式D-1-1で記入した番号と整合させること。
B49: ※3：対策区分毎の変状発生規模は、様式D-1-1に記載した面積を記入すること（ただし外力はスパン単位で評価するため変状の有無の欄には面積でなく○を記入し、備考欄に状況を記入）。
B50: ※4：本様式は覆工スパン毎に作成すること。
B51: ※5：変状数が多い場合は、適時、表の行を増やして覆工スパン毎に1枚のシートに収めること。また、1スパン１シートとし、スパンに合わせてシートを追加すること。
B52: ※6：対策区分毎の変状の発生範囲の規模とは，対策を行う際に参考となる変状の長さや面積であり，変状を包含する長さや面積とする。
B53: ※7：対策範囲を示す発生範囲の規模を面積で記入することが妥当ではない変状は、発生範囲の規模の欄に○を記入するとともに、備考に内容を記入すること。

Sheet 様式D-3_S001
AU1: 様式F用→ | AV1: 覆工スパン | AY1: 変 状 数 | BK1: 変 状 規 模
AV2: 番号 | AW2: 延長 （ｍ） | AX2: 健全性の診断の 区分 | AY2: 対策区分の判定 | BK2: 覆工スパン長（ｍ） | BO2: 変状の発生範囲の規模（㎡）
B3: ■定期点検記録様式 覆工スパン別変状詳細展開図 【様式D-3】 | AY3: 外力 | BC3: 材質劣化 | BG3: 漏水 | BK3: 外力 注2 | BO3: 材質劣化 | BS3: 漏水
B4: フリガナ | E4: (ﾋｴﾊﾞﾗﾀﾞｲｲﾁｽﾞｲﾄﾞｳ) | K4: 路線名 | N4: 一般国道187号 | T4: 定期点検業者 | Y4: 応用地質（株） | AG4: 定期点検年月日 | AK4: 45840 | AY4: Ⅳ | AZ4: Ⅲ | BA4: Ⅱa | BB4: Ⅱb | BC4: Ⅳ | BD4: Ⅲ | BE4: Ⅱa | BF4: Ⅱb | BG4: Ⅳ | BH4: Ⅲ | BI4: Ⅱa | BJ4: Ⅱb | BK4: Ⅳ | BL4: Ⅲ | BM4: Ⅱa | BN4: Ⅱb | BO4: Ⅳ | BP4: Ⅲ | BQ4: Ⅱa | BR4: Ⅱb | BS4: Ⅳ | BT4: Ⅲ | BU4: Ⅱa | BV4: Ⅱb
B5: 名 称 | E5: 稗原第1隧道 | K5: 管理者名 | N5: 山口県岩国土木建築事務所 | Y5: 太田 裕之 | AV5: =N7 -> 1 | AW5: =R7 -> 4.4 | AX5: =AM35 -> Ⅱ | AY5: =IF(Y37>0,Y37,"") | AZ5: =IF(Y37>0,"",IF(Z37>0,Z37,"")) | BA5: =IF(Y37+Z37>0,"",IF(AA37>0,AA37,"")) | BB5: =IF(Y37+Z37+AA37>0,"",IF(AB37>0,AB37,"")) | BC5: =AC37 -> 0 | BD5: =AD37 -> 0 | BE5: =AE37 -> 0 | BF5: =AF37 -> 0 | BG5: =AG37 -> 0 | BH5: =AH37 -> 0 | BI5: =AI37 -> 0 | BJ5: =AJ37 -> 2 | BK5: =IF(Y37>0,R7,"") | BL5: =IF(Y37>0,"",IF(Z37>0,R7,"")) | BM5: =IF(Y37+Z37>0,"",IF(AA37>0,R7,"")) | BN5: =IF(Y37+Z37+AA37>0,"",IF(AB37>0,R7,"")) | BO5: =AC35 -> 0 | BP5: =AD35 -> 0 | BQ5: =AE35 -> 0 | BR5: =AF35 -> 0 | BS5: =AG35 -> 0 | BT5: =AH35 -> 0 | BU5: =AI35 -> 0 | BV5: =AJ35 -> 2.5
B6: スパン別変状展開図 | K6: 【健全性判定集計表】
K7: スパン番号 | N7: 1 | P7: スパン長 | R7: 4.4 | U7: 前回定期点検時の判定 | W7: 応急措置前の判定 | Y7: 対策区分毎の 変状の有無 | AC7: 対策区分毎の変状の発生範囲の規模(㎡) | AK7: 備考注2
K8: 変状番号 | L8: 対象箇所 | N8: 部位区分 | P8: 変状区分 | R8: 変状種類
Y9: 外力注1 | AC9: 材質劣化注1 | AG9: 漏水注1
Y10: Ⅳ | Z10: Ⅲ | AA10: Ⅱa | AB10: Ⅱb | AC10: Ⅳ | AD10: Ⅲ | AE10: Ⅱa | AF10: Ⅱb | AG10: Ⅳ | AH10: Ⅲ | AI10: Ⅱa | AJ10: Ⅱb
K11: 1 | L11: 覆工 | N11: 横断目地（左側） | P11: 漏水 | R11: 漏水 | U11: Ⅱb | W11: － | AJ11: 1.15 | AQ11: =IF(P11="材質劣化",2,IF(P11="漏水",3,1)) -> 3
K12: 2 | L12: 覆工 | N12: 水平打ち継ぎ目（右側） | P12: 材質劣化 | R12: うき・はく離 | U12: Ⅱb | W12: － | AK12: 対策済み | AQ12: =IF(P12="材質劣化",2,IF(P12="漏水",3,1)) -> 2
K13: 3 | L13: 覆工 | N13: 横断目地（右側） | P13: 漏水 | R13: 漏水 | U13: Ⅱb | W13: － | AJ13: 1.35 | AQ13: =IF(P13="材質劣化",2,IF(P13="漏水",3,1)) -> 3
K14: 4 | AQ14: =IF(P14="材質劣化",2,IF(P14="漏水",3,1)) -> 1
K15: 5 | AQ15: =IF(P15="材質劣化",2,IF(P15="漏水",3,1)) -> 1
K16: 6 | AQ16: =IF(P16="材質劣化",2,IF(P16="漏水",3,1)) -> 1
K17: 7 | AQ17: =IF(P17="材質劣化",2,IF(P17="漏水",3,1)) -> 1
K18: 8 | AQ18: =IF(P18="材質劣化",2,IF(P18="漏水",3,1)) -> 1
K19: 9 | AQ19: =IF(P19="材質劣化",2,IF(P19="漏水",3,1)) -> 1
K20: 10 | AQ20: =IF(P20="材質劣化",2,IF(P20="漏水",3,1)) -> 1
K21: 11 | AQ21: =IF(P21="材質劣化",2,IF(P21="漏水",3,1)) -> 1
K22: 12 | AQ22: =IF(P22="材質劣化",2,IF(P22="漏水",3,1)) -> 1
K23: 13 | AQ23: =IF(P23="材質劣化",2,IF(P23="漏水",3,1)) -> 1
K24: 14 | AQ24: =IF(P24="材質劣化",2,IF(P24="漏水",3,1)) -> 1
K25: 15 | AQ25: =IF(P25="材質劣化",2,IF(P25="漏水",3,1)) -> 1
... K27: 17 | AQ27: =IF(P27="材質劣化",2,IF(P27="漏水",3,1)) -> 1
K28: 18 | AQ28: =IF(P30="材質劣化",2,IF(P30="漏水",3,1)) -> 1
K29: 19 | AQ29: =IF(P34="材質劣化",2,IF(P34="漏水",3,1)) -> 1
K30: 20 | AQ30: =IF(P30="材質劣化",2,IF(P30="漏水",3,1)) -> 1
K31: 21 | AQ31: =IF(P33="材質劣化",2,IF(P33="漏水",3,1)) -> 1
K32: 22 | AQ32: =IF(P37="材質劣化",2,IF(P37="漏水",3,1)) -> 1
K33: 23 | AQ33: =IF(P33="材質劣化",2,IF(P33="漏水",3,1)) -> 1
K34: 24 | AQ34: =IF(P36="材質劣化",2,IF(P36="漏水",3,1)) -> 1
K35: 集計 判定 診断 | L35: 変状の発生規模合計(㎡) | Y35: － | AC35: =SUM(AC11:AC34) -> 0 | AD35: =SUM(AD11:AD34) -> 0 | AE35: =SUM(AE11:AE34) -> 0 | AF35: =SUM(AF11:AF34) -> 0 | AG35: =SUM(AG11:AG34) -> 0 | AH35: =SUM(AH11:AH34) -> 0 | AI35: =SUM(AI11:AI34) -> 0 | AJ35: =SUM(AJ11:AJ34) -> 2.5 | AK35: 覆工スパン単位の 健全性の 診断の区分 | AM35: Ⅱ
L36: 対策区分の 判定結果 | O36: 対策区分毎の変状数注3 | Y36: Ⅳ | Z36: Ⅲ | AA36: Ⅱa | AB36: Ⅱb | AC36: Ⅳ | AD36: Ⅲ | AE36: Ⅱa | AF36: Ⅱb | AG36: Ⅳ | AH36: Ⅲ | AI36: Ⅱa | AJ36: Ⅱb
Y37: =IF(COUNTIF(Y11:Y34,"〇")>0,1,0) -> 0 | Z37: =IF(COUNTIF(Z11:Z34,"〇")>0,1,0) -> 0 | AA37: =IF(COUNTIF(AA11:AA34,"〇")>0,1,0) -> 0 | AB37: =IF(COUNTIF(AB11:AB34,"〇")>0,1,0) -> 0 | AC37: =COUNTA(AC11:AC34) -> 0 | AD37: =COUNTA(AD11:AD34) -> 0 | AE37: =COUNTA(AE11:AE34) -> 0 | AF37: =COUNTA(AF11:AF34) -> 0 | AG37: =COUNTA(AG11:AG34) -> 0 | AH37: =COUNTA(AH11:AH34) -> 0 | AI37: =COUNTA(AI11:AI34) -> 0 | AJ37: =COUNTA(AJ11:AJ34) -> 2
K39: 所見 | L39: 【 外 力 】監視を必要としない。 【材質劣化】監視を必要としない。 【 漏 水 】次回点検まで継続的な監視を必要とする。 以上により本スパンの判定はⅡb判定となる。
K43: 注1：誤記入防止のため、当該変状区分以外のセルは灰色表示とすること。
K44: 注2：応急措置を実施した場合は、その詳細を備考に記載すること。
K45: 注3：外力は覆工スパン単位、材質劣化、漏水は変状単位とすること。
B46: （以下、印刷不要）
B47: ※1：本シートは作成洩れのないよう、変状が無くても全スパン分を作成すること．また変状展開図は、様式D-2-1、様式D-2-1'と同じものを覆工スパン単位で拡大し掲載すること。
B48: ※2：変状番号は、様式D-1-1で記入した番号と整合させること。
B49: ※3：対策区分毎の変状発生規模は、様式D-1-1に記載した面積を記入すること（ただし外力はスパン単位で評価するため変状の有無の欄には面積でなく○を記入し、備考欄に状況を記入）。
B50: ※4：本様式は覆工スパン毎に作成すること。
B51: ※5：変状数が多い場合は、適時、表の行を増やして覆工スパン毎に1枚のシートに収めること。また、1スパン１シートとし、スパンに合わせてシートを追加すること。
B52: ※6：対策区分毎の変状の発生範囲の規模とは，対策を行う際に参考となる変状の長さや面積であり，変状を包含する長さや面積とする。
B53: ※7：対策範囲を示す発生範囲の規模を面積で記入することが妥当ではない変状は、発生範囲の規模の欄に○を記入するとともに、備考に内容を記入すること。

Sheet 様式D-3_S002
AU1: 様式F用→ | AV1: 覆工スパン | AY1: 変 状 数 | BK1: 変 状 規 模
AV2: 番号 | AW2: 延長 （ｍ） | AX2: 健全性の診断の 区分 | AY2: 対策区分の判定 | BK2: 覆工スパン長（ｍ） | BO2: 変状の発生範囲の規模（㎡）
B3: ■定期点検記録様式 覆工スパン別変状詳細展開図 【様式D-3】 | AY3: 外力 | BC3: 材質劣化 | BG3: 漏水 | BK3: 外力 注2 | BO3: 材質劣化 | BS3: 漏水
B4: フリガナ | E4: (ﾋｴﾊﾞﾗﾀﾞｲｲﾁｽﾞｲﾄﾞｳ) | K4: 路線名 | N4: 一般国道187号 | T4: 定期点検業者 | Y4: 応用地質（株） | AG4: 定期点検年月日 | AK4: 45840 | AY4: Ⅳ | AZ4: Ⅲ | BA4: Ⅱa | BB4: Ⅱb | BC4: Ⅳ | BD4: Ⅲ | BE4: Ⅱa | BF4: Ⅱb | BG4: Ⅳ | BH4: Ⅲ | BI4: Ⅱa | BJ4: Ⅱb | BK4: Ⅳ | BL4: Ⅲ | BM4: Ⅱa | BN4: Ⅱb | BO4: Ⅳ | BP4: Ⅲ | BQ4: Ⅱa | BR4: Ⅱb | BS4: Ⅳ | BT4: Ⅲ | BU4: Ⅱa | BV4: Ⅱb
B5: 名 称 | E5: 稗原第1隧道 | K5: 管理者名 | N5: 山口県岩国土木建築事務所 | Y5: 太田 裕之 | AV5: =N7 -> 2 | AW5: =R7 -> 5.8 | AX5: =AM35 -> Ⅱ | AY5: =IF(Y37>0,Y37,"") | AZ5: =IF(Y37>0,"",IF(Z37>0,Z37,"")) | BA5: =IF(Y37+Z37>0,"",IF(AA37>0,AA37,"")) | BB5: =IF(Y37+Z37+AA37>0,"",IF(AB37>0,AB37,"")) | BC5: =AC37 -> 0 | BD5: =AD37 -> 0 | BE5: =AE37 -> 0 | BF5: =AF37 -> 0 | BG5: =AG37 -> 0 | BH5: =AH37 -> 0 | BI5: =AI37 -> 1 | BJ5: =AJ37 -> 4 | BK5: =IF(Y37>0,R7,"") | BL5: =IF(Y37>0,"",IF(Z37>0,R7,"")) | BM5: =IF(Y37+Z37>0,"",IF(AA37>0,R7,"")) | BN5: =IF(Y37+Z37+AA37>0,"",IF(AB37>0,R7,"")) | BO5: =AC35 -> 0 | BP5: =AD35 -> 0 | BQ5: =AE35 -> 0 | BR5: =AF35 -> 0 | BS5: =AG35 -> 0 | BT5: =AH35 -> 0 | BU5: =AI35 -> 3.95 | BV5: =AJ35 -> 20.38
B6: スパン別変状展開図 | K6: 【健全性判定集計表】
K7: スパン番号 | N7: 2 | P7: スパン長 | R7: 5.8 | U7: 前回定期点検時の判定 | W7: 応急措置前の判定 | Y7: 対策区分毎の 変状の有無 | AC7: 対策区分毎の変状の発生範囲の規模(㎡) | AK7: 備考注2
K8: 変状番号 | L8: 対象箇所 | N8: 部位区分 | P8: 変状区分 | R8: 変状種類
Y9: 外力注1 | AC9: 材質劣化注1 | AG9: 漏水注1
Y10: Ⅳ | Z10: Ⅲ | AA10: Ⅱa | AB10: Ⅱb | AC10: Ⅳ | AD10: Ⅲ | AE10: Ⅱa | AF10: Ⅱb | AG10: Ⅳ | AH10: Ⅲ | AI10: Ⅱa | AJ10: Ⅱb
K11: 1 | L11: 覆工 | N11: アーチ（天端） | P11: 漏水 | R11: 漏水 | U11: Ⅱb | W11: － | AJ11: 10.63 | AK11: S002-7との重複部は控除 | AQ11: =IF(P11="材質劣化",2,IF(P11="漏水",3,1)) -> 3
K12: 2 | L12: 覆工 | N12: アーチ（天端） | P12: 漏水 | R12: 漏水 | U12: Ⅱb | W12: － | AI12: 3.95 | AK12: 滴水、路面滞水 | AQ12: =IF(P12="材質劣化",2,IF(P12="漏水",3,1)) -> 3
K13: 3 | L13: 覆工 | N13: 横断目地（天端） | P13: 漏水 | R13: 漏水 | U13: Ⅱb | W13: － | AJ13: 3.55 | AQ13: =IF(P13="材質劣化",2,IF(P13="漏水",3,1)) -> 3
K14: 4 | L14: 覆工 | N14: 横断目地（天端） | P14: 材質劣化 | R14: うき・はく離 | U14: Ⅱa | W14: － | AK14: 対策済み | AQ14: =IF(P14="材質劣化",2,IF(P14="漏水",3,1)) -> 2
K15: 5 | L15: 覆工 | N15: 横断目地（右側） | P15: 材質劣化 | R15: うき・はく離 | U15: Ⅱa | W15: － | AK15: 対策済み | AQ15: =IF(P15="材質劣化",2,IF(P15="漏水",3,1)) -> 2
K16: 6 | L16: 覆工 | N16: 横断目地（天端） | P16: 漏水 | R16: 漏水 | U16: Ⅱb | W16: － | AJ16: 0.4 | AK16: S002-3との重複部は控除 | AQ16: =IF(P16="材質劣化",2,IF(P16="漏水",3,1)) -> 3
K17: 7 | L17: 覆工 | N17: アーチ（左側） | P17: 漏水 | R17: 漏水 | U17: Ⅱb | W17: － | AJ17: 5.8 | AQ17: =IF(P17="材質劣化",2,IF(P17="漏水",3,1)) -> 3
K18: 8 | AQ18: =IF(P18="材質劣化",2,IF(P18="漏水",3,1)) -> 1
K19: 9 | AQ19: =IF(P19="材質劣化",2,IF(P19="漏水",3,1)) -> 1
K20: 10 | AQ20: =IF(P20="材質劣化",2,IF(P20="漏水",3,1)) -> 1
K21: 11 | AQ21: =IF(P21="材質劣化",2,IF(P21="漏水",3,1)) -> 1
K22: 12 | AQ22: =IF(P22="材質劣化",2,IF(P22="漏水",3,1)) -> 1
K23: 13 | AQ23: =IF(P23="材質劣化",2,IF(P23="漏水",3,1)) -> 1
K24: 14 | AQ24: =IF(P24="材質劣化",2,IF(P24="漏水",3,1)) -> 1
K25: 15 | AQ25: =IF(P25="材質劣化",2,IF(P25="漏水",3,1)) -> 1
K26: 16 | AQ26: =IF(P26="材質劣化",2,IF(P26="漏水",3,1)) -> 1
K27: 17 | AQ27: =IF(P27="材質劣化",2,IF(P27="漏水",3,1)) -> 1
K28: 18 | AQ28: =IF(P30="材質劣化",2,IF(P30="漏水",3,1)) -> 1
K29: 19 | AQ29: =IF(P34="材質劣化",2,IF(P34="漏水",3,1)) -> 1
K30: 20 | AQ30: =IF(P30="材質劣化",2,IF(P30="漏水",3,1)) -> 1
K31: 21 | AQ31: =IF(P33="材質劣化",2,IF(P33="漏水",3,1)) -> 1
K32: 22 | AQ32: =IF(P37="材質劣化",2,IF(P37="漏水",3,1)) -> 1
K33: 23 | AQ33: =IF(P33="材質劣化",2,IF(P33="漏水",3,1)) -> 1
K34: 24 | AQ34: =IF(P36="材質劣化",2,IF(P36="漏水",3,1)) -> 1
K35: 集計 判定 診断 | L35: 変状の発生規模合計(㎡) | Y35: － | AC35: =SUM(AC11:AC34) -> 0 | AD35: =SUM(AD11:AD34) -> 0 | AE35: =SUM(AE11:AE34) -> 0 | AF35: =SUM(AF11:AF34) -> 0 | AG35: =SUM(AG11:AG34) -> 0 | AH35: =SUM(AH11:AH34) -> 0 | AI35: =SUM(AI11:AI34) -> 3.95 | AJ35: =SUM(AJ11:AJ34) -> 20.38 | AK35: 覆工スパン単位の 健全性の 診断の区分 | AM35: Ⅱ
L36: 対策区分の 判定結果 | O36: 対策区分毎の変状数注3 | Y36: Ⅳ | Z36: Ⅲ | AA36: Ⅱa | AB36: Ⅱb | AC36: Ⅳ | AD36: Ⅲ | AE36: Ⅱa | AF36: Ⅱb | AG36: Ⅳ | AH36: Ⅲ | AI36: Ⅱa | AJ36: Ⅱb
Y37: =IF(COUNTIF(Y11:Y34,"〇")>0,1,0) -> 0 | Z37: =IF(COUNTIF(Z11:Z34,"〇")>0,1,0) -> 0 | AA37: =IF(COUNTIF(AA11:AA34,"〇")>0,1,0) -> 0 | AB37: =IF(COUNTIF(AB11:AB34,"〇")>0,1,0) -> 0 | AC37: =COUNTA(AC11:AC34) -> 0 | AD37: =COUNTA(AD11:AD34) -> 0 | AE37: =COUNTA(AE11:AE34) -> 0 | AF37: =COUNTA(AF11:AF34) -> 0 | AG37: =COUNTA(AG11:AG34) -> 0 | AH37: =COUNTA(AH11:AH34) -> 0 | AI37: =COUNTA(AI11:AI34) -> 1 | AJ37: =COUNTA(AJ11:AJ34) -> 4
K39: 所見 | L39: 【 外 力 】監視を必要としない。 【材質劣化】監視を必要としない。 【 漏 水 】次回点検まで重点的な監視、または計画的な対策を必要とする。 以上により本スパンの判定はⅡa判定となる。
K43: 注1：誤記入防止のため、当該変状区分以外のセルは灰色表示とすること。
K44: 注2：応急措置を実施した場合は、その詳細を備考に記載すること。
K45: 注3：外力は覆工スパン単位、材質劣化、漏水は変状単位とすること。
B46: （以下、印刷不要）
B47: ※1：本シートは作成洩れのないよう、変状が無くても全スパン分を作成すること．また変状展開図は、様式D-2-1、様式D-2-1'と同じものを覆工スパン単位で拡大し掲載すること。
B48: ※2：変状番号は、様式D-1-1で記入した番号と整合させること。
B49: ※3：対策区分毎の変状発生規模は、様式D-1-1に記載した面積を記入すること（ただし外力はスパン単位で評価するため変状の有無の欄には面積でなく○を記入し、備考欄に状況を記入）。
B50: ※4：本様式は覆工スパン毎に作成すること。
B51: ※5：変状数が多い場合は、適時、表の行を増やして覆工スパン毎に1枚のシートに収めること。また、1スパン１シートとし、スパンに合わせてシートを追加すること。
B52: ※6：対策区分毎の変状の発生範囲の規模とは，対策を行う際に参考となる変状の長さや面積であり，変状を包含する長さや面積とする。
B53: ※7：対策範囲を示す発生範囲の規模を面積で記入することが妥当ではない変状は、発生範囲の規模の欄に○を記入するとともに、備考に内容を記入すること。

Sheet 様式D-3_S003
AU1: 様式F用→ | AV1: 覆工スパン | AY1: 変 状 数 | BK1: 変 状 規 模
AV2: 番号 | AW2: 延長 （ｍ） | AX2: 健全性の診断の 区分 | AY2: 対策区分の判定 | BK2: 覆工スパン長（ｍ） | BO2: 変状の発生範囲の規模（㎡）
B3: ■定期点検記録様式 覆工スパン別変状詳細展開図 【様式D-3】 | AY3: 外力 | BC3: 材質劣化 | BG3: 漏水 | BK3: 外力 注2 | BO3: 材質劣化 | BS3: 漏水
B4: フリガナ | E4: (ﾋｴﾊﾞﾗﾀﾞｲｲﾁｽﾞｲﾄﾞｳ) | K4: 路線名 | N4: 一般国道187号 | T4: 定期点検業者 | Y4: 応用地質（株） | AG4: 定期点検年月日 | AK4: 45840 | AY4: Ⅳ | AZ4: Ⅲ | BA4: Ⅱa | BB4: Ⅱb | BC4: Ⅳ | BD4: Ⅲ | BE4: Ⅱa | BF4: Ⅱb | BG4: Ⅳ | BH4: Ⅲ | BI4: Ⅱa | BJ4: Ⅱb | BK4: Ⅳ | BL4: Ⅲ | BM4: Ⅱa | BN4: Ⅱb | BO4: Ⅳ | BP4: Ⅲ | BQ4: Ⅱa | BR4: Ⅱb | BS4: Ⅳ | BT4: Ⅲ | BU4: Ⅱa | BV4: Ⅱb
B5: 名 称 | E5: 稗原第1隧道 | K5: 管理者名 | N5: 山口県岩国土木建築事務所 | Y5: 太田 裕之 | AV5: =N7 -> 3 | AW5: =R7 -> 5.8 | AX5: =AM35 -> Ⅱ | AY5: =IF(Y37>0,Y37,"") | AZ5: =IF(Y37>0,"",IF(Z37>0,Z37,"")) | BA5: =IF(Y37+Z37>0,"",IF(AA37>0,AA37,"")) | BB5: =IF(Y37+Z37+AA37>0,"",IF(AB37>0,AB37,"")) | BC5: =AC37 -> 0 | BD5: =AD37 -> 0 | BE5: =AE37 -> 0 | BF5: =AF37 -> 0 | BG5: =AG37 -> 0 | BH5: =AH37 -> 0 | BI5: =AI37 -> 1 | BJ5: =AJ37 -> 6 | BK5: =IF(Y37>0,R7,"") | BL5: =IF(Y37>0,"",IF(Z37>0,R7,"")) | BM5: =IF(Y37+Z37>0,"",IF(AA37>0,R7,"")) | BN5: =IF(Y37+Z37+AA37>0,"",IF(AB37>0,R7,"")) | BO5: =AC35 -> 0 | BP5: =AD35 -> 0 | BQ5: =AE35 -> 0 | BR5: =AF35 -> 0 | BS5: =AG35 -> 0 | BT5: =AH35 -> 0 | BU5: =AI35 -> 0.15 | BV5: =AJ35 -> 48.15
B6: スパン別変状展開図 | K6: 【健全性判定集計表】
K7: スパン番号 | N7: 3 | P7: スパン長 | R7: 5.8 | U7: 前回定期点検時の判定 | W7: 応急措置前の判定 | Y7: 対策区分毎の 変状の有無 | AC7: 対策区分毎の変状の発生範囲の規模(㎡) | AK7: 備考注2
K8: 変状番号 | L8: 対象箇所 | N8: 部位区分 | P8: 変状区分 | R8: 変状種類
Y9: 外力注1 | AC9: 材質劣化注1 | AG9: 漏水注1
Y10: Ⅳ | Z10: Ⅲ | AA10: Ⅱa | AB10: Ⅱb | AC10: Ⅳ | AD10: Ⅲ | AE10: Ⅱa | AF10: Ⅱb | AG10: Ⅳ | AH10: Ⅲ | AI10: Ⅱa | AJ10: Ⅱb
K11: 1 | L11: 覆工 | N11: 横断目地（左側） | P11: 材質劣化 | R11: うき・はく離 | U11: Ⅱa | W11: － | AK11: 対策済み | AQ11: =IF(P11="材質劣化",2,IF(P11="漏水",3,1)) -> 2
K12: 2 | L12: 覆工 | N12: アーチ（天端） | P12: 漏水 | R12: 漏水 | U12: Ⅱb | W12: － | AJ12: 7 | AQ12: =IF(P12="材質劣化",2,IF(P12="漏水",3,1)) -> 3
K13: 3 | L13: 覆工 | N13: 横断目地（右側） | P13: 漏水 | R13: 漏水 | U13: Ⅱb | W13: － | AJ13: 3 | AQ13: =IF(P13="材質劣化",2,IF(P13="漏水",3,1)) -> 3
K14: 4 | L14: 覆工 | N14: アーチ（右側） | P14: 漏水 | R14: 漏水 | U14: Ⅱb | W14: － | AJ14: 3.28 | AQ14: =IF(P14="材質劣化",2,IF(P14="漏水",3,1)) -> 3
K15: 5 | L15: 覆工 | N15: アーチ（天端） | P15: 材質劣化 | R15: うき・はく離 | U15: Ⅱa | W15: － | AK15: 対策済み | AQ15: =IF(P15="材質劣化",2,IF(P15="漏水",3,1)) -> 2
K16: 6 | L16: 覆工 | N16: アーチ（左側） | P16: 漏水 | R16: 漏水 | U16: Ⅱb | W16: － | AJ16: 13.5 | AQ16: =IF(P16="材質劣化",2,IF(P16="漏水",3,1)) -> 3
K17: 7 | L17: 覆工 | N17: アーチ（左側） | P17: 漏水 | R17: 漏水 | U17: Ⅱb | W17: － | AJ17: 18.72 | AK17: S003-6との重複部は控除 | AQ17: =IF(P17="材質劣化",2,IF(P17="漏水",3,1)) -> 3
K18: 8 | L18: 覆工 | N18: 横断目地（左側） | P18: 材質劣化 | R18: うき・はく離 | U18: Ⅱa | W18: － | AK18: 対策済み | AQ18: =IF(P18="材質劣化",2,IF(P18="漏水",3,1)) -> 2
K19: 9 | L19: 覆工 | N19: 水平打ち継ぎ目（左側） | P19: 材質劣化 | R19: うき・はく離 | U19: Ⅱb | W19: － | AK19: 対策済み | AQ19: =IF(P19="材質劣化",2,IF(P19="漏水",3,1)) -> 2
K20: 10 | L20: 覆工 | N20: 横断目地（左側） | P20: 漏水 | R20: 漏水 | U20: － | W20: － | AJ20: 2.65 | AQ20: =IF(P20="材質劣化",2,IF(P20="漏水",3,1)) -> 3
K21: 11 | L21: 覆工 | N21: アーチ（左側） | P21: 漏水 | R21: 補修・補強材の破損 | U21: － | W21: － | AI21: 0.15 | AQ21: =IF(P21="材質劣化",2,IF(P21="漏水",3,1)) -> 3
K22: 12 | AQ22: =IF(P22="材質劣化",2,IF(P22="漏水",3,1)) -> 1
K23: 13 | AQ23: =IF(P23="材質劣化",2,IF(P23="漏水",3,1)) -> 1
K24: 14 | AQ24: =IF(P24="材質劣化",2,IF(P24="漏水",3,1)) -> 1
K25: 15 | AQ25: =IF(P25="材質劣化",2,IF(P25="漏水",3,1)) -> 1
K26: 16 | AQ26: =IF(P26="材質劣化",2,IF(P26="漏水",3,1)) -> 1
K27: 17 | AQ27: =IF(P27="材質劣化",2,IF(P27="漏水",3,1)) -> 1
K28: 18 | AQ28: =IF(P30="材質劣化",2,IF(P30="漏水",3,1)) -> 1
K29: 19 | AQ29: =IF(P34="材質劣化",2,IF(P34="漏水",3,1)) -> 1
K30: 20 | AQ30: =IF(P30="材質劣化",2,IF(P30="漏水",3,1)) -> 1
K31: 21 | AQ31: =IF(P33="材質劣化",2,IF(P33="漏水",3,1)) -> 1
K32: 22 | AQ32: =IF(P37="材質劣化",2,IF(P37="漏水",3,1)) -> 1
K33: 23 | AQ33: =IF(P33="材質劣化",2,IF(P33="漏水",3,1)) -> 1
K34: 24 | AQ34: =IF(P36="材質劣化",2,IF(P36="漏水",3,1)) -> 1
K35: 集計 判定 診断 | L35: 変状の発生規模合計(㎡) | Y35: － | AC35: =SUM(AC11:AC34) -> 0 | AD35: =SUM(AD11:AD34) -> 0 | AE35: =SUM(AE11:AE34) -> 0 | AF35: =SUM(AF11:AF34) -> 0 | AG35: =SUM(AG11:AG34) -> 0 | AH35: =SUM(AH11:AH34) -> 0 | AI35: =SUM(AI11:AI34) -> 0.15 | AJ35: =SUM(AJ11:AJ34) -> 48.15 | AK35: 覆工スパン単位の 健全性の 診断の区分 | AM35: Ⅱ
L36: 対策区分の 判定結果 | O36: 対策区分毎の変状数注3 | Y36: Ⅳ | Z36: Ⅲ | AA36: Ⅱa | AB36: Ⅱb | AC36: Ⅳ | AD36: Ⅲ | AE36: Ⅱa | AF36: Ⅱb | AG36: Ⅳ | AH36: Ⅲ | AI36: Ⅱa | AJ36: Ⅱb
Y37: =IF(COUNTIF(Y11:Y34,"〇")>0,1,0) -> 0 | Z37: =IF(COUNTIF(Z11:Z34,"〇")>0,1,0) -> 0 | AA37: =IF(COUNTIF(AA11:AA34,"〇")>0,1,0) -> 0 | AB37: =IF(COUNTIF(AB11:AB34,"〇")>0,1,0) -> 0 | AC37: =COUNTA(AC11:AC34) -> 0 | AD37: =COUNTA(AD11:AD34) -> 0 | AE37: =COUNTA(AE11:AE34) -> 0 | AF37: =COUNTA(AF11:AF34) -> 0 | AG37: =COUNTA(AG11:AG34) -> 0 | AH37: =COUNTA(AH11:AH34) -> 0 | AI37: =COUNTA(AI11:AI34) -> 1 | AJ37: =COUNTA(AJ11:AJ34) -> 6
K39: 所見 | L39: 【 外 力 】監視を必要としない。 【材質劣化】監視を必要としない。 【 漏 水 】次回点検まで重点的な監視、または計画的な対策を必要とする。 以上により本スパンの判定はⅡa判定となる。
K43: 注1：誤記入防止のため、当該変状区分以外のセルは灰色表示とすること。
K44: 注2：応急措置を実施した場合は、その詳細を備考に記載すること。
K45: 注3：外力は覆工スパン単位、材質劣化、漏水は変状単位とすること。
B46: （以下、印刷不要）
B47: ※1：本シートは作成洩れのないよう、変状が無くても全スパン分を作成すること．また変状展開図は、様式D-2-1、様式D-2-1'と同じものを覆工スパン単位で拡大し掲載すること。
B48: ※2：変状番号は、様式D-1-1で記入した番号と整合させること。
B49: ※3：対策区分毎の変状発生規模は、様式D-1-1に記載した面積を記入すること（ただし外力はスパン単位で評価するため変状の有無の欄には面積でなく○を記入し、備考欄に状況を記入）。
B50: ※4：本様式は覆工スパン毎に作成すること。
B51: ※5：変状数が多い場合は、適時、表の行を増やして覆工スパン毎に1枚のシートに収めること。また、1スパン１シートとし、スパンに合わせてシートを追加すること。
B52: ※6：対策区分毎の変状の発生範囲の規模とは，対策を行う際に参考となる変状の長さや面積であり，変状を包含する長さや面積とする。
B53: ※7：対策範囲を示す発生範囲の規模を面積で記入することが妥当ではない変状は、発生範囲の規模の欄に○を記入するとともに、備考に内容を記入すること。

Sheet 様式D-3_S004
AU1: 様式F用→ | AV1: 覆工スパン | AY1: 変 状 数 | BK1: 変 状 規 模
AV2: 番号 | AW2: 延長 （ｍ） | AX2: 健全性の診断の 区分 | AY2: 対策区分の判定 | BK2: 覆工スパン長（ｍ） | BO2: 変状の発生範囲の規模（㎡）
B3: ■定期点検記録様式 覆工スパン別変状詳細展開図 【様式D-3】 | AY3: 外力 | BC3: 材質劣化 | BG3: 漏水 | BK3: 外力 注2 | BO3: 材質劣化 | BS3: 漏水
B4: フリガナ | E4: (ﾋｴﾊﾞﾗﾀﾞｲｲﾁｽﾞｲﾄﾞｳ) | K4: 路線名 | N4: 一般国道187号 | T4: 定期点検業者 | Y4: 応用地質（株） | AG4: 定期点検年月日 | AK4: 45840 | AY4: Ⅳ | AZ4: Ⅲ | BA4: Ⅱa | BB4: Ⅱb | BC4: Ⅳ | BD4: Ⅲ | BE4: Ⅱa | BF4: Ⅱb | BG4: Ⅳ | BH4: Ⅲ | BI4: Ⅱa | BJ4: Ⅱb | BK4: Ⅳ | BL4: Ⅲ | BM4: Ⅱa | BN4: Ⅱb | BO4: Ⅳ | BP4: Ⅲ | BQ4: Ⅱa | BR4: Ⅱb | BS4: Ⅳ | BT4: Ⅲ | BU4: Ⅱa | BV4: Ⅱb
B5: 名 称 | E5: 稗原第1隧道 | K5: 管理者名 | N5: 山口県岩国土木建築事務所 | Y5: 太田 裕之 | AV5: =N7 -> 4 | AW5: =R7 -> 5.8 | AX5: =AM35 -> Ⅱ | AY5: =IF(Y37>0,Y37,"") | AZ5: =IF(Y37>0,"",IF(Z37>0,Z37,"")) | BA5: =IF(Y37+Z37>0,"",IF(AA37>0,AA37,"")) | BB5: =IF(Y37+Z37+AA37>0,"",IF(AB37>0,AB37,"")) | BC5: =AC37 -> 0 | BD5: =AD37 -> 0 | BE5: =AE37 -> 0 | BF5: =AF37 -> 1 | BG5: =AG37 -> 0 | BH5: =AH37 -> 0 | BI5: =AI37 -> 0 | BJ5: =AJ37 -> 6 | BK5: =IF(Y37>0,R7,"") | BL5: =IF(Y37>0,"",IF(Z37>0,R7,"")) | BM5: =IF(Y37+Z37>0,"",IF(AA37>0,R7,"")) | BN5: =IF(Y37+Z37+AA37>0,"",IF(AB37>0,R7,"")) | BO5: =AC35 -> 0 | BP5: =AD35 -> 0 | BQ5: =AE35 -> 0 | BR5: =AF35 -> 0.99 | BS5: =AG35 -> 0 | BT5: =AH35 -> 0 | BU5: =AI35 -> 0 | BV5: =AJ35 -> 10.46
B6: スパン別変状展開図 | K6: 【健全性判定集計表】
K7: スパン番号 | N7: 4 | P7: スパン長 | R7: 5.8 | U7: 前回定期点検時の判定 | W7: 応急措置前の判定 | Y7: 対策区分毎の 変状の有無 | AC7: 対策区分毎の変状の発生範囲の規模(㎡) | AK7: 備考注2
K8: 変状番号 | L8: 対象箇所 | N8: 部位区分 | P8: 変状区分 | R8: 変状種類
Y9: 外力注1 | AC9: 材質劣化注1 | AG9: 漏水注1
Y10: Ⅳ | Z10: Ⅲ | AA10: Ⅱa | AB10: Ⅱb | AC10: Ⅳ | AD10: Ⅲ | AE10: Ⅱa | AF10: Ⅱb | AG10: Ⅳ | AH10: Ⅲ | AI10: Ⅱa | AJ10: Ⅱb
K11: 1 | L11: 覆工 | N11: 横断目地（天端） | P11: 漏水 | R11: 漏水 | U11: Ⅱb | W11: － | AJ11: 3.75 | AQ11: =IF(P11="材質劣化",2,IF(P11="漏水",3,1)) -> 3
K12: 2 | L12: 覆工 | N12: 横断目地（左側） | P12: 材質劣化 | R12: うき・はく離 | U12: Ⅱb | W12: Ⅱb | AK12: 今回点検時に叩き落とし実施 | AQ12: =IF(P12="材質劣化",2,IF(P12="漏水",3,1)) -> 2
K13: 3 | L13: 覆工 | N13: 横断目地（左側） | P13: 材質劣化 | R13: うき・はく離 | U13: Ⅱb | W13: － | AK13: 対策済み | AQ13: =IF(P13="材質劣化",2,IF(P13="漏水",3,1)) -> 2
K14: 4 | L14: 覆工 | N14: アーチ（天端） | P14: 材質劣化 | R14: うき・はく離 | U14: Ⅱb | W14: － | AF14: 0.99 | AQ14: =IF(P14="材質劣化",2,IF(P14="漏水",3,1)) -> 2
K15: 5 | L15: 覆工 | N15: アーチ（右側） | P15: 漏水 | R15: 漏水 | U15: Ⅱb | W15: － | AJ15: 6.5 | AQ15: =IF(P15="材質劣化",2,IF(P15="漏水",3,1)) -> 3
K16: 6 | L16: 覆工 | N16: 横断目地（天端） | P16: 材質劣化 | R16: うき・はく離 | U16: Ⅱa | W16: － | AK16: 対策済み | AQ16: =IF(P16="材質劣化",2,IF(P16="漏水",3,1)) -> 2
K17: 7 | L17: 覆工 | N17: 水平打ち継ぎ目（左側） | P17: 材質劣化 | R17: うき・はく離 | U17: Ⅱb | W17: － | AK17: 対策済み | AQ17: =IF(P17="材質劣化",2,IF(P17="漏水",3,1)) -> 2
K18: 8 | L18: 覆工 | N18: 水平打ち継ぎ目（左側） | P18: 材質劣化 | R18: うき・はく離 | U18: Ⅱb | W18: － | AK18: 対策済み | AQ18: =IF(P18="材質劣化",2,IF(P18="漏水",3,1)) -> 2
K19: 9 | L19: 覆工 | N19: 横断目地（右側） | P19: 材質劣化 | R19: うき・はく離 | U19: Ⅱb | W19: － | AK19: 対策済み | AQ19: =IF(P19="材質劣化",2,IF(P19="漏水",3,1)) -> 2
K20: 10 | L20: 覆工 | N20: 横断目地（左側） | P20: 漏水 | R20: 補修・補強材の破損 | U20: － | W20: － | AJ20: 0.11 | AQ20: =IF(P20="材質劣化",2,IF(P20="漏水",3,1)) -> 3
K21: 11 | L21: 覆工 | N21: 横断目地（左側） | P21: 漏水 | R21: 補修・補強材の破損 | U21: － | W21: － | AJ21: 0.02 | AQ21: =IF(P21="材質劣化",2,IF(P21="漏水",3,1)) -> 3
K22: 12 | L22: 覆工 | N22: 横断目地（左側） | P22: 漏水 | R22: 補修・補強材の破損 | U22: － | W22: － | AJ22: 0.06 | AQ22: =IF(P22="材質劣化",2,IF(P22="漏水",3,1)) -> 3
K23: 13 | L23: 覆工 | N23: 横断目地（右側） | P23: 漏水 | R23: 補修・補強材の破損 | U23: － | W23: － | AJ23: 0.02 | AQ23: =IF(P23="材質劣化",2,IF(P23="漏水",3,1)) -> 3
K24: 14 | AQ24: =IF(P24="材質劣化",2,IF(P24="漏水",3,1)) -> 1
K25: 15 | AQ25: =IF(P25="材質劣化",2,IF(P25="漏水",3,1)) -> 1
K26: 16 | AQ26: =IF(P26="材質劣化",2,IF(P26="漏水",3,1)) -> 1
K27: 17 | AQ27: =IF(P27="材質劣化",2,IF(P27="漏水",3,1)) -> 1
K28: 18 | AQ28: =IF(P30="材質劣化",2,IF(P30="漏水",3,1)) -> 1
K29: 19 | AQ29: =IF(P34="材質劣化",2,IF(P34="漏水",3,1)) -> 1
K30: 20 | AQ30: =IF(P30="材質劣化",2,IF(P30="漏水",3,1)) -> 1
K31: 21 | AQ31: =IF(P33="材質劣化",2,IF(P33="漏水",3,1)) -> 1
K32: 22 | AQ32: =IF(P37="材質劣化",2,IF(P37="漏水",3,1)) -> 1
K33: 23 | AQ33: =IF(P33="材質劣化",2,IF(P33="漏水",3,1)) -> 1
K34: 24 | AQ34: =IF(P36="材質劣化",2,IF(P36="漏水",3,1)) -> 1
K35: 集計 判定 診断 | L35: 変状の発生規模合計(㎡) | Y35: － | AC35: =SUM(AC11:AC34) -> 0 | AD35: =SUM(AD11:AD34) -> 0 | AE35: =SUM(AE11:AE34) -> 0 | AF35: =SUM(AF11:AF34) -> 0.99 | AG35: =SUM(AG11:AG34) -> 0 | AH35: =SUM(AH11:AH34) -> 0 | AI35: =SUM(AI11:AI34) -> 0 | AJ35: =SUM(AJ11:AJ34) -> 10.46 | AK35: 覆工スパン単位の 健全性の 診断の区分 | AM35: Ⅱ
L36: 対策区分の 判定結果 | O36: 対策区分毎の変状数注3 | Y36: Ⅳ | Z36: Ⅲ | AA36: Ⅱa | AB36: Ⅱb | AC36: Ⅳ | AD36: Ⅲ | AE36: Ⅱa | AF36: Ⅱb | AG36: Ⅳ | AH36: Ⅲ | AI36: Ⅱa | AJ36: Ⅱb
Y37: =IF(COUNTIF(Y11:Y34,"〇")>0,1,0) -> 0 | Z37: =IF(COUNTIF(Z11:Z34,"〇")>0,1,0) -> 0 | AA37: =IF(COUNTIF(AA11:AA34,"〇")>0,1,0) -> 0 | AB37: =IF(COUNTIF(AB11:AB34,"〇")>0,1,0) -> 0 | AC37: =COUNTA(AC11:AC34) -> 0 | AD37: =COUNTA(AD11:AD34) -> 0 | AE37: =COUNTA(AE11:AE34) -> 0 | AF37: =COUNTA(AF11:AF34) -> 1 | AG37: =COUNTA(AG11:AG34) -> 0 | AH37: =COUNTA(AH11:AH34) -> 0 | AI37: =COUNTA(AI11:AI34) -> 0 | AJ37: =COUNTA(AJ11:AJ34) -> 6
K39: 所見 | L39: 【 外 力 】監視を必要としない。 【材質劣化】次回点検まで継続的な監視を必要とする。 【 漏 水 】次回点検まで継続的な監視を必要とする。 以上により本スパンの判定はⅡb判定となる。
K43: 注1：誤記入防止のため、当該変状区分以外のセルは灰色表示とすること。
K44: 注2：応急措置を実施した場合は、その詳細を備考に記載すること。
K45: 注3：外力は覆工スパン単位、材質劣化、漏水は変状単位とすること。
B46: （以下、印刷不要）
B47: ※1：本シートは作成洩れのないよう、変状が無くても全スパン分を作成すること．また変状展開図は、様式D-2-1、様式D-2-1'と同じものを覆工スパン単位で拡大し掲載すること。
B48: ※2：変状番号は、様式D-1-1で記入した番号と整合させること。
B49: ※3：対策区分毎の変状発生規模は、様式D-1-1に記載した面積を記入すること（ただし外力はスパン単位で評価するため変状の有無の欄には面積でなく○を記入し、備考欄に状況を記入）。
B50: ※4：本様式は覆工スパン毎に作成すること。
B51: ※5：変状数が多い場合は、適時、表の行を増やして覆工スパン毎に1枚のシートに収めること。また、1スパン１シートとし、スパンに合わせてシートを追加すること。
B52: ※6：対策区分毎の変状の発生範囲の規模とは，対策を行う際に参考となる変状の長さや面積であり，変状を包含する長さや面積とする。
B53: ※7：対策範囲を示す発生範囲の規模を面積で記入することが妥当ではない変状は、発生範囲の規模の欄に○を記入するとともに、備考に内容を記入すること。

Sheet 様式D-3_S005
AU1: 様式F用→ | AV1: 覆工スパン | AY1: 変 状 数 | BK1: 変 状 規 模
AV2: 番号 | AW2: 延長 （ｍ） | AX2: 健全性の診断の 区分 | AY2: 対策区分の判定 | BK2: 覆工スパン長（ｍ） | BO2: 変状の発生範囲の規模（㎡）
B3: ■定期点検記録様式 覆工スパン別変状詳細展開図 【様式D-3】 | AY3: 外力 | BC3: 材質劣化 | BG3: 漏水 | BK3: 外力 注2 | BO3: 材質劣化 | BS3: 漏水
B4: フリガナ | E4: (ﾋｴﾊﾞﾗﾀﾞｲｲﾁｽﾞｲﾄﾞｳ) | K4: 路線名 | N4: 一般国道187号 | T4: 定期点検業者 | Y4: 応用地質（株） | AG4: 定期点検年月日 | AK4: 45840 | AY4: Ⅳ | AZ4: Ⅲ | BA4: Ⅱa | BB4: Ⅱb | BC4: Ⅳ | BD4: Ⅲ | BE4: Ⅱa | BF4: Ⅱb | BG4: Ⅳ | BH4: Ⅲ | BI4: Ⅱa | BJ4: Ⅱb | BK4: Ⅳ | BL4: Ⅲ | BM4: Ⅱa | BN4: Ⅱb | BO4: Ⅳ | BP4: Ⅲ | BQ4: Ⅱa | BR4: Ⅱb | BS4: Ⅳ | BT4: Ⅲ | BU4: Ⅱa | BV4: Ⅱb
B5: 名 称 | E5: 稗原第1隧道 | K5: 管理者名 | N5: 山口県岩国土木建築事務所 | Y5: 太田 裕之 | AV5: =N7 -> 5 | AW5: =R7 -> 5.8 | AX5: =AM35 -> Ⅱ | AY5: =IF(Y37>0,Y37,"") | AZ5: =IF(Y37>0,"",IF(Z37>0,Z37,"")) | BA5: =IF(Y37+Z37>0,"",IF(AA37>0,AA37,"")) | BB5: =IF(Y37+Z37+AA37>0,"",IF(AB37>0,AB37,"")) | BC5: =AC37 -> 0 | BD5: =AD37 -> 0 | BE5: =AE37 -> 0 | BF5: =AF37 -> 0 | BG5: =AG37 -> 0 | BH5: =AH37 -> 0 | BI5: =AI37 -> 0 | BJ5: =AJ37 -> 3 | BK5: =IF(Y37>0,R7,"") | BL5: =IF(Y37>0,"",IF(Z37>0,R7,"")) | BM5: =IF(Y37+Z37>0,"",IF(AA37>0,R7,"")) | BN5: =IF(Y37+Z37+AA37>0,"",IF(AB37>0,R7,"")) | BO5: =AC35 -> 0 | BP5: =AD35 -> 0 | BQ5: =AE35 -> 0 | BR5: =AF35 -> 0 | BS5: =AG35 -> 0 | BT5: =AH35 -> 0 | BU5: =AI35 -> 0 | BV5: =AJ35 -> 5.3
B6: スパン別変状展開図 | K6: 【健全性判定集計表】
K7: スパン番号 | N7: 5 | P7: スパン長 | R7: 5.8 | U7: 前回定期点検時の判定 | W7: 応急措置前の判定 | Y7: 対策区分毎の 変状の有無 | AC7: 対策区分毎の変状の発生範囲の規模(㎡) | AK7: 備考注2
K8: 変状番号 | L8: 対象箇所 | N8: 部位区分 | P8: 変状区分 | R8: 変状種類
Y9: 外力注1 | AC9: 材質劣化注1 | AG9: 漏水注1
Y10: Ⅳ | Z10: Ⅲ | AA10: Ⅱa | AB10: Ⅱb | AC10: Ⅳ | AD10: Ⅲ | AE10: Ⅱa | AF10: Ⅱb | AG10: Ⅳ | AH10: Ⅲ | AI10: Ⅱa | AJ10: Ⅱb
K11: 1 | L11: 覆工 | N11: アーチ（天端） | P11: 材質劣化 | R11: うき・はく離 | U11: Ⅲ | W11: － | AK11: 対策済み | AQ11: =IF(P11="材質劣化",2,IF(P11="漏水",3,1)) -> 2
K12: 2 | L12: 覆工 | N12: 横断目地（右側） | P12: 材質劣化 | R12: うき・はく離 | U12: Ⅱa | W12: － | AK12: 対策済み | AQ12: =IF(P12="材質劣化",2,IF(P12="漏水",3,1)) -> 2
K13: 3 | L13: 覆工 | N13: 横断目地（右側） | P13: 材質劣化 | R13: うき・はく離 | U13: Ⅱb | W13: － | AK13: 対策済み | AQ13: =IF(P13="材質劣化",2,IF(P13="漏水",3,1)) -> 2
K14: 4 | L14: 覆工 | N14: 横断目地（天端） | P14: 材質劣化 | R14: うき・はく離 | U14: Ⅱb | W14: － | AK14: 対策済み | AQ14: =IF(P14="材質劣化",2,IF(P14="漏水",3,1)) -> 2
K15: 5 | L15: 覆工 | N15: 水平打ち継ぎ目（左側） | P15: 材質劣化 | R15: うき・はく離 | U15: Ⅱb | W15: － | AK15: 対策済み | AQ15: =IF(P15="材質劣化",2,IF(P15="漏水",3,1)) -> 2
K16: 6 | L16: 覆工 | N16: 水平打ち継ぎ目（左側） | P16: 材質劣化 | R16: うき・はく離 | U16: Ⅱb | W16: － | AK16: 対策済み | AQ16: =IF(P16="材質劣化",2,IF(P16="漏水",3,1)) -> 2
K17: 7 | L17: 覆工 | N17: 水平打ち継ぎ目（左側） | P17: 材質劣化 | R17: うき・はく離 | U17: Ⅱb | W17: － | AK17: 対策済み | AQ17: =IF(P17="材質劣化",2,IF(P17="漏水",3,1)) -> 2
K18: 8 | L18: 覆工 | N18: 横断目地（天端） | P18: 漏水 | R18: 漏水 | U18: Ⅱb | W18: － | AJ18: 2.8 | AK18: S005-3との重複部は控除 | AQ18: =IF(P18="材質劣化",2,IF(P18="漏水",3,1)) -> 3
K19: 9 | L19: 覆工 | N19: 横断目地（左側） | P19: 漏水 | R19: 漏水 | U19: Ⅱb | W19: － | AJ19: 1.35 | AQ19: =IF(P19="材質劣化",2,IF(P19="漏水",3,1)) -> 3
K20: 10 | L20: 覆工 | N20: 横断目地（右側） | P20: 漏水 | R20: 漏水 | U20: Ⅱb | W20: － | AJ20: 1.15 | AQ20: =IF(P20="材質劣化",2,IF(P20="漏水",3,1)) -> 3
K21: 11 | AQ21: =IF(P21="材質劣化",2,IF(P21="漏水",3,1)) -> 1
K22: 12 | AQ22: =IF(P22="材質劣化",2,IF(P22="漏水",3,1)) -> 1
K23: 13 | AQ23: =IF(P23="材質劣化",2,IF(P23="漏水",3,1)) -> 1
K24: 14 | AQ24: =IF(P24="材質劣化",2,IF(P24="漏水",3,1)) -> 1
K25: 15 | AQ25: =IF(P25="材質劣化",2,IF(P25="漏水",3,1)) -> 1
K26: 16 | AQ26: =IF(P26="材質劣化",2,IF(P26="漏水",3,1)) -> 1
K27: 17 | AQ27: =IF(P27="材質劣化",2,IF(P27="漏水",3,1)) -> 1
K28: 18 | AQ28: =IF(P30="材質劣化",2,IF(P30="漏水",3,1)) -> 1
K29: 19 | AQ29: =IF(P34="材質劣化",2,IF(P34="漏水",3,1)) -> 1
K30: 20 | AQ30: =IF(P30="材質劣化",2,IF(P30="漏水",3,1)) -> 1
K31: 21 | AQ31: =IF(P33="材質劣化",2,IF(P33="漏水",3,1)) -> 1
K32: 22 | AQ32: =IF(P37="材質劣化",2,IF(P37="漏水",3,1)) -> 1
K33: 23 | AQ33: =IF(P33="材質劣化",2,IF(P33="漏水",3,1)) -> 1
K34: 24 | AQ34: =IF(P36="材質劣化",2,IF(P36="漏水",3,1)) -> 1
K35: 集計 判定 診断 | L35: 変状の発生規模合計(㎡) | Y35: － | AC35: =SUM(AC11:AC34) -> 0 | AD35: =SUM(AD11:AD34) -> 0 | AE35: =SUM(AE11:AE34) -> 0 | AF35: =SUM(AF11:AF34) -> 0 | AG35: =SUM(AG11:AG34) -> 0 | AH35: =SUM(AH11:AH34) -> 0 | AI35: =SUM(AI11:AI34) -> 0 | AJ35: =SUM(AJ11:AJ34) -> 5.3 | AK35: 覆工スパン単位の 健全性の 診断の区分 | AM35: Ⅱ
L36: 対策区分の 判定結果 | O36: 対策区分毎の変状数注3 | Y36: Ⅳ | Z36: Ⅲ | AA36: Ⅱa | AB36: Ⅱb | AC36: Ⅳ | AD36: Ⅲ | AE36: Ⅱa | AF36: Ⅱb | AG36: Ⅳ | AH36: Ⅲ | AI36: Ⅱa | AJ36: Ⅱb
Y37: =IF(COUNTIF(Y11:Y34,"〇")>0,1,0) -> 0 | Z37: =IF(COUNTIF(Z11:Z34,"〇")>0,1,0) -> 0 | AA37: =IF(COUNTIF(AA11:AA34,"〇")>0,1,0) -> 0 | AB37: =IF(COUNTIF(AB11:AB34,"〇")>0,1,0) -> 0 | AC37: =COUNTA(AC11:AC34) -> 0 | AD37: =COUNTA(AD11:AD34) -> 0 | AE37: =COUNTA(AE11:AE34) -> 0 | AF37: =COUNTA(AF11:AF34) -> 0 | AG37: =COUNTA(AG11:AG34) -> 0 | AH37: =COUNTA(AH11:AH34) -> 0 | AI37: =COUNTA(AI11:AI34) -> 0 | AJ37: =COUNTA(AJ11:AJ34) -> 3
K39: 所見 | L39: 【 外 力 】監視を必要としない。 【材質劣化】監視を必要としない。 【 漏 水 】次回点検まで継続的な監視を必要とする。 以上により本スパンの判定はⅡb判定となる。
K43: 注1：誤記入防止のため、当該変状区分以外のセルは灰色表示とすること。
K44: 注2：応急措置を実施した場合は、その詳細を備考に記載すること。
K45: 注3：外力は覆工スパン単位、材質劣化、漏水は変状単位とすること。
B46: （以下、印刷不要）
B47: ※1：本シートは作成洩れのないよう、変状が無くても全スパン分を作成すること．また変状展開図は、様式D-2-1、様式D-2-1'と同じものを覆工スパン単位で拡大し掲載すること。
B48: ※2：変状番号は、様式D-1-1で記入した番号と整合させること。
B49: ※3：対策区分毎の変状発生規模は、様式D-1-1に記載した面積を記入すること（ただし外力はスパン単位で評価するため変状の有無の欄には面積でなく○を記入し、備考欄に状況を記入）。
B50: ※4：本様式は覆工スパン毎に作成すること。
B51: ※5：変状数が多い場合は、適時、表の行を増やして覆工スパン毎に1枚のシートに収めること。また、1スパン１シートとし、スパンに合わせてシートを追加すること。
B52: ※6：対策区分毎の変状の発生範囲の規模とは，対策を行う際に参考となる変状の長さや面積であり，変状を包含する長さや面積とする。
B53: ※7：対策範囲を示す発生範囲の規模を面積で記入することが妥当ではない変状は、発生範囲の規模の欄に○を記入するとともに、備考に内容を記入すること。

Sheet 様式D-3_S006
AU1: 様式F用→ | AV1: 覆工スパン | AY1: 変 状 数 | BK1: 変 状 規 模
AV2: 番号 | AW2: 延長 （ｍ） | AX2: 健全性の診断の 区分 | AY2: 対策区分の判定 | BK2: 覆工スパン長（ｍ） | BO2: 変状の発生範囲の規模（㎡）
B3: ■定期点検記録様式 覆工スパン別変状詳細展開図 【様式D-3】 | AY3: 外力 | BC3: 材質劣化 | BG3: 漏水 | BK3: 外力 注2 | BO3: 材質劣化 | BS3: 漏水
B4: フリガナ | E4: (ﾋｴﾊﾞﾗﾀﾞｲｲﾁｽﾞｲﾄﾞｳ) | K4: 路線名 | N4: 一般国道187号 | T4: 定期点検業者 | Y4: 応用地質（株） | AG4: 定期点検年月日 | AK4: 45840 | AY4: Ⅳ | AZ4: Ⅲ | BA4: Ⅱa | BB4: Ⅱb | BC4: Ⅳ | BD4: Ⅲ | BE4: Ⅱa | BF4: Ⅱb | BG4: Ⅳ | BH4: Ⅲ | BI4: Ⅱa | BJ4: Ⅱb | BK4: Ⅳ | BL4: Ⅲ | BM4: Ⅱa | BN4: Ⅱb | BO4: Ⅳ | BP4: Ⅲ | BQ4: Ⅱa | BR4: Ⅱb | BS4: Ⅳ | BT4: Ⅲ | BU4: Ⅱa | BV4: Ⅱb
B5: 名 称 | E5: 稗原第1隧道 | K5: 管理者名 | N5: 山口県岩国土木建築事務所 | Y5: 太田 裕之 | AV5: =N7 -> 6 | AW5: =R7 -> 5.8 | AX5: =AM35 -> Ⅱ | AY5: =IF(Y37>0,Y37,"") | AZ5: =IF(Y37>0,"",IF(Z37>0,Z37,"")) | BA5: =IF(Y37+Z37>0,"",IF(AA37>0,AA37,"")) | BB5: =IF(Y37+Z37+AA37>0,"",IF(AB37>0,AB37,"")) | BC5: =AC37 -> 0 | BD5: =AD37 -> 0 | BE5: =AE37 -> 0 | BF5: =AF37 -> 0 | BG5: =AG37 -> 0 | BH5: =AH37 -> 0 | BI5: =AI37 -> 1 | BJ5: =AJ37 -> 3 | BK5: =IF(Y37>0,R7,"") | BL5: =IF(Y37>0,"",IF(Z37>0,R7,"")) | BM5: =IF(Y37+Z37>0,"",IF(AA37>0,R7,"")) | BN5: =IF(Y37+Z37+AA37>0,"",IF(AB37>0,R7,"")) | BO5: =AC35 -> 0 | BP5: =AD35 -> 0 | BQ5: =AE35 -> 0 | BR5: =AF35 -> 0 | BS5: =AG35 -> 0 | BT5: =AH35 -> 0 | BU5: =AI35 -> 0.03 | BV5: =AJ35 -> 2.48
B6: スパン別変状展開図 | K6: 【健全性判定集計表】
K7: スパン番号 | N7: 6 | P7: スパン長 | R7: 5.8 | U7: 前回定期点検時の判定 | W7: 応急措置前の判定 | Y7: 対策区分毎の 変状の有無 | AC7: 対策区分毎の変状の発生範囲の規模(㎡) | AK7: 備考注2
K8: 変状番号 | L8: 対象箇所 | N8: 部位区分 | P8: 変状区分 | R8: 変状種類
Y9: 外力注1 | AC9: 材質劣化注1 | AG9: 漏水注1
Y10: Ⅳ | Z10: Ⅲ | AA10: Ⅱa | AB10: Ⅱb | AC10: Ⅳ | AD10: Ⅲ | AE10: Ⅱa | AF10: Ⅱb | AG10: Ⅳ | AH10: Ⅲ | AI10: Ⅱa | AJ10: Ⅱb
K11: 1 | L11: 覆工 | N11: 横断目地（左側） | P11: 材質劣化 | R11: うき・はく離 | U11: Ⅱa | W11: － | AK11: 対策済み | AQ11: =IF(P11="材質劣化",2,IF(P11="漏水",3,1)) -> 2
K12: 2 | L12: 覆工 | N12: 横断目地（天端） | P12: 漏水 | R12: 補修・補強材の破損 | U12: Ⅱb | W12: － | AJ12: 0.03 | AQ12: =IF(P12="材質劣化",2,IF(P12="漏水",3,1)) -> 3
K13: 3 | L13: 覆工 | N13: 横断目地（右側） | P13: 漏水 | R13: 漏水 | U13: Ⅱb | W13: － | AJ13: 1.65 | AQ13: =IF(P13="材質劣化",2,IF(P13="漏水",3,1)) -> 3
K14: 4 | L14: 覆工 | N14: 横断目地（天端） | P14: 材質劣化 | R14: うき・はく離 | U14: Ⅱb | W14: － | AK14: 対策済み | AQ14: =IF(P14="材質劣化",2,IF(P14="漏水",3,1)) -> 2
K15: 5 | L15: 覆工 | N15: 側壁（左側） | P15: 材質劣化 | R15: うき・はく離 | U15: Ⅱb | W15: － | AK15: 対策済み | AQ15: =IF(P15="材質劣化",2,IF(P15="漏水",3,1)) -> 2
K16: 6 | L16: 覆工 | N16: 水平打ち継ぎ目（左側） | P16: 材質劣化 | R16: うき・はく離 | U16: Ⅱb | W16: － | AK16: 対策済み | AQ16: =IF(P16="材質劣化",2,IF(P16="漏水",3,1)) -> 2
K17: 7 | L17: 覆工 | N17: 水平打ち継ぎ目（左側） | P17: 材質劣化 | R17: うき・はく離 | U17: Ⅱb | W17: － | AK17: 対策済み | AQ17: =IF(P17="材質劣化",2,IF(P17="漏水",3,1)) -> 2
K18: 8 | L18: 覆工 | N18: 横断目地（左側） | P18: 漏水 | R18: 漏水 | U18: Ⅱb | W18: － | AJ18: 0.8 | AQ18: =IF(P18="材質劣化",2,IF(P18="漏水",3,1)) -> 3
K19: 9 | L19: 覆工 | N19: 横断目地（天端） | P19: 漏水 | R19: 補修・補強材の破損 | U19: － | W19: － | AI19: 0.03 | AQ19: =IF(P19="材質劣化",2,IF(P19="漏水",3,1)) -> 3
K20: 10 | AQ20: =IF(P20="材質劣化",2,IF(P20="漏水",3,1)) -> 1
K21: 11 | AQ21: =IF(P21="材質劣化",2,IF(P21="漏水",3,1)) -> 1
K22: 12 | AQ22: =IF(P22="材質劣化",2,IF(P22="漏水",3,1)) -> 1
K23: 13 | AQ23: =IF(P23="材質劣化",2,IF(P23="漏水",3,1)) -> 1
K24: 14 | AQ24: =IF(P24="材質劣化",2,IF(P24="漏水",3,1)) -> 1
K25: 15 | AQ25: =IF(P25="材質劣化",2,IF(P25="漏水",3,1)) -> 1
K26: 16 | AQ26: =IF(P26="材質劣化",2,IF(P26="漏水",3,1)) -> 1
K27: 17 | AQ27: =IF(P27="材質劣化",2,IF(P27="漏水",3,1)) -> 1
K28: 18 | AQ28: =IF(P30="材質劣化",2,IF(P30="漏水",3,1)) -> 1
K29: 19 | AQ29: =IF(P34="材質劣化",2,IF(P34="漏水",3,1)) -> 1
K30: 20 | AQ30: =IF(P30="材質劣化",2,IF(P30="漏水",3,1)) -> 1
K31: 21 | AQ31: =IF(P33="材質劣化",2,IF(P33="漏水",3,1)) -> 1
K32: 22 | AQ32: =IF(P37="材質劣化",2,IF(P37="漏水",3,1)) -> 1
K33: 23 | AQ33: =IF(P33="材質劣化",2,IF(P33="漏水",3,1)) -> 1
K34: 24 | AQ34: =IF(P36="材質劣化",2,IF(P36="漏水",3,1)) -> 1
K35: 集計 判定 診断 | L35: 変状の発生規模合計(㎡) | Y35: － | AC35: =SUM(AC11:AC34) -> 0 | AD35: =SUM(AD11:AD34) -> 0 | AE35: =SUM(AE11:AE34) -> 0 | AF35: =SUM(AF11:AF34) -> 0 | AG35: =SUM(AG11:AG34) -> 0 | AH35: =SUM(AH11:AH34) -> 0 | AI35: =SUM(AI11:AI34) -> 0.03 | AJ35: =SUM(AJ11:AJ34) -> 2.48 | AK35: 覆工スパン単位の 健全性の 診断の区分 | AM35: Ⅱ
L36: 対策区分の 判定結果 | O36: 対策区分毎の変状数注3 | Y36: Ⅳ | Z36: Ⅲ | AA36: Ⅱa | AB36: Ⅱb | AC36: Ⅳ | AD36: Ⅲ | AE36: Ⅱa | AF36: Ⅱb | AG36: Ⅳ | AH36: Ⅲ | AI36: Ⅱa | AJ36: Ⅱb
Y37: =IF(COUNTIF(Y11:Y34,"〇")>0,1,0) -> 0 | Z37: =IF(COUNTIF(Z11:Z34,"〇")>0,1,0) -> 0 | AA37: =IF(COUNTIF(AA11:AA34,"〇")>0,1,0) -> 0 | AB37: =IF(COUNTIF(AB11:AB34,"〇")>0,1,0) -> 0 | AC37: =COUNTA(AC11:AC34) -> 0 | AD37: =COUNTA(AD11:AD34) -> 0 | AE37: =COUNTA(AE11:AE34) -> 0 | AF37: =COUNTA(AF11:AF34) -> 0 | AG37: =COUNTA(AG11:AG34) -> 0 | AH37: =COUNTA(AH11:AH34) -> 0 | AI37: =COUNTA(AI11:AI34) -> 1 | AJ37: =COUNTA(AJ11:AJ34) -> 3
K39: 所見 | L39: 【 外 力 】監視を必要としない。 【材質劣化】監視を必要としない。 【 漏 水 】次回点検まで重点的な監視、または計画的な対策を必要とする。 以上により本スパンの判定はⅡa判定となる。
K43: 注1：誤記入防止のため、当該変状区分以外のセルは灰色表示とすること。
K44: 注2：応急措置を実施した場合は、その詳細を備考に記載すること。
K45: 注3：外力は覆工スパン単位、材質劣化、漏水は変状単位とすること。
B46: （以下、印刷不要）
B47: ※1：本シートは作成洩れのないよう、変状が無くても全スパン分を作成すること．また変状展開図は、様式D-2-1、様式D-2-1'と同じものを覆工スパン単位で拡大し掲載すること。
B48: ※2：変状番号は、様式D-1-1で記入した番号と整合させること。
B49: ※3：対策区分毎の変状発生規模は、様式D-1-1に記載した面積を記入すること（ただし外力はスパン単位で評価するため変状の有無の欄には面積でなく○を記入し、備考欄に状況を記入）。
B50: ※4：本様式は覆工スパン毎に作成すること。
B51: ※5：変状数が多い場合は、適時、表の行を増やして覆工スパン毎に1枚のシートに収めること。また、1スパン１シートとし、スパンに合わせてシートを追加すること。
B52: ※6：対策区分毎の変状の発生範囲の規模とは，対策を行う際に参考となる変状の長さや面積であり，変状を包含する長さや面積とする。
B53: ※7：対策範囲を示す発生範囲の規模を面積で記入することが妥当ではない変状は、発生範囲の規模の欄に○を記入するとともに、備考に内容を記入すること。

Sheet 様式D-3_S007
AU1: 様式F用→ | AV1: 覆工スパン | AY1: 変 状 数 | BK1: 変 状 規 模
AV2: 番号 | AW2: 延長 （ｍ） | AX2: 健全性の診断の 区分 | AY2: 対策区分の判定 | BK2: 覆工スパン長（ｍ） | BO2: 変状の発生範囲の規模（㎡）
B3: ■定期点検記録様式 覆工スパン別変状詳細展開図 【様式D-3】 | AY3: 外力 | BC3: 材質劣化 | BG3: 漏水 | BK3: 外力 注2 | BO3: 材質劣化 | BS3: 漏水
B4: フリガナ | E4: (ﾋｴﾊﾞﾗﾀﾞｲｲﾁｽﾞｲﾄﾞｳ) | K4: 路線名 | N4: 一般国道187号 | T4: 定期点検業者 | Y4: 応用地質（株） | AG4: 定期点検年月日 | AK4: 45840 | AY4: Ⅳ | AZ4: Ⅲ | BA4: Ⅱa | BB4: Ⅱb | BC4: Ⅳ | BD4: Ⅲ | BE4: Ⅱa | BF4: Ⅱb | BG4: Ⅳ | BH4: Ⅲ | BI4: Ⅱa | BJ4: Ⅱb | BK4: Ⅳ | BL4: Ⅲ | BM4: Ⅱa | BN4: Ⅱb | BO4: Ⅳ | BP4: Ⅲ | BQ4: Ⅱa | BR4: Ⅱb | BS4: Ⅳ | BT4: Ⅲ | BU4: Ⅱa | BV4: Ⅱb
B5: 名 称 | E5: 稗原第1隧道 | K5: 管理者名 | N5: 山口県岩国土木建築事務所 | Y5: 太田 裕之 | AV5: =N7 -> 7 | AW5: =R7 -> 5.8 | AX5: =AM35 -> Ⅱ | AY5: =IF(Y37>0,Y37,"") | AZ5: =IF(Y37>0,"",IF(Z37>0,Z37,"")) | BA5: =IF(Y37+Z37>0,"",IF(AA37>0,AA37,"")) | BB5: =IF(Y37+Z37+AA37>0,"",IF(AB37>0,AB37,"")) | BC5: =AC37 -> 0 | BD5: =AD37 -> 0 | BE5: =AE37 -> 1 | BF5: =AF37 -> 2 | BG5: =AG37 -> 0 | BH5: =AH37 -> 0 | BI5: =AI37 -> 0 | BJ5: =AJ37 -> 3 | BK5: =IF(Y37>0,R7,"") | BL5: =IF(Y37>0,"",IF(Z37>0,R7,"")) | BM5: =IF(Y37+Z37>0,"",IF(AA37>0,R7,"")) | BN5: =IF(Y37+Z37+AA37>0,"",IF(AB37>0,R7,"")) | BO5: =AC35 -> 0 | BP5: =AD35 -> 0 | BQ5: =AE35 -> 0.4 | BR5: =AF35 -> 0.19 | BS5: =AG35 -> 0 | BT5: =AH35 -> 0 | BU5: =AI35 -> 0 | BV5: =AJ35 -> 7
B6: スパン別変状展開図 | K6: 【健全性判定集計表】
K7: スパン番号 | N7: 7 | P7: スパン長 | R7: 5.8 | U7: 前回定期点検時の判定 | W7: 応急措置前の判定 | Y7: 対策区分毎の 変状の有無 | AC7: 対策区分毎の変状の発生範囲の規模(㎡) | AK7: 備考注2
K8: 変状番号 | L8: 対象箇所 | N8: 部位区分 | P8: 変状区分 | R8: 変状種類
Y9: 外力注1 | AC9: 材質劣化注1 | AG9: 漏水注1
Y10: Ⅳ | Z10: Ⅲ | AA10: Ⅱa | AB10: Ⅱb | AC10: Ⅳ | AD10: Ⅲ | AE10: Ⅱa | AF10: Ⅱb | AG10: Ⅳ | AH10: Ⅲ | AI10: Ⅱa | AJ10: Ⅱb
K11: 1 | L11: 覆工 | N11: 横断目地（天端） | P11: 漏水 | R11: 漏水 | U11: Ⅱb | W11: － | AJ11: 3.5 | AQ11: =IF(P11="材質劣化",2,IF(P11="漏水",3,1)) -> 3
K12: 2 | L12: 覆工 | N12: アーチ（左側） | P12: 材質劣化 | R12: うき・はく離 | U12: Ⅱb | W12: － | AF12: 0.04 | AQ12: =IF(P12="材質劣化",2,IF(P12="漏水",3,1)) -> 2
K13: 3 | L13: 覆工 | N13: アーチ（天端） | P13: 材質劣化 | R13: うき・はく離 | U13: Ⅱb | W13: － | AK13: 対策済み | AQ13: =IF(P13="材質劣化",2,IF(P13="漏水",3,1)) -> 2
K14: 4 | L14: 覆工 | N14: 横断目地（左側） | P14: 材質劣化 | R14: うき・はく離 | U14: Ⅱb | W14: － | AF14: 0.15 | AQ14: =IF(P14="材質劣化",2,IF(P14="漏水",3,1)) -> 2
K15: 5 | L15: 覆工 | N15: 横断目地（左側） | P15: 材質劣化 | R15: うき・はく離 | U15: Ⅱa | W15: － | AK15: 対策済み | AQ15: =IF(P15="材質劣化",2,IF(P15="漏水",3,1)) -> 2
K16: 6 | L16: 覆工 | N16: アーチ（天端） | P16: 材質劣化 | R16: うき・はく離 | U16: Ⅱb | W16: － | AE16: 0.4 | AQ16: =IF(P16="材質劣化",2,IF(P16="漏水",3,1)) -> 2
K17: 7 | L17: 覆工 | N17: アーチ（右側） | P17: 材質劣化 | R17: うき・はく離 | U17: Ⅱa | W17: － | AK17: 対策済み | AQ17: =IF(P17="材質劣化",2,IF(P17="漏水",3,1)) -> 2
K18: 8 | L18: 覆工 | N18: 横断目地（右側） | P18: 材質劣化 | R18: うき・はく離 | U18: Ⅱb | W18: － | AK18: 対策済み | AQ18: =IF(P18="材質劣化",2,IF(P18="漏水",3,1)) -> 2
K19: 9 | L19: 覆工 | N19: 横断目地（左側） | P19: 材質劣化 | R19: うき・はく離 | U19: Ⅱb | W19: － | AK19: 対策済み | AQ19: =IF(P19="材質劣化",2,IF(P19="漏水",3,1)) -> 2
K20: 10 | L20: 覆工 | N20: 水平打ち継ぎ目（左側） | P20: 材質劣化 | R20: うき・はく離 | U20: Ⅱb | W20: － | AK20: 対策済み | AQ20: =IF(P20="材質劣化",2,IF(P20="漏水",3,1)) -> 2
K21: 11 | L21: 覆工 | N21: 側壁（右側） | P21: 漏水 | R21: 漏水 | U21: Ⅱb | W21: － | AJ21: 1.15 | AQ21: =IF(P21="材質劣化",2,IF(P21="漏水",3,1)) -> 3
K22: 12 | L22: 覆工 | N22: 水平打ち継ぎ目（右側） | P22: 材質劣化 | R22: うき・はく離 | U22: Ⅱb | W22: － | AK22: 対策済み | AQ22: =IF(P22="材質劣化",2,IF(P22="漏水",3,1)) -> 2
K23: 13 | L23: 覆工 | N23: アーチ（天端） | P23: 漏水 | R23: 漏水 | U23: － | W23: － | AJ23: 2.35 | AK23: S007-11との重複部は控除 | AQ23: =IF(P23="材質劣化",2,IF(P23="漏水",3,1)) -> 3
K24: 14 | AQ24: =IF(P24="材質劣化",2,IF(P24="漏水",3,1)) -> 1
K25: 15 | AQ25: =IF(P25="材質劣化",2,IF(P25="漏水",3,1)) -> 1
K26: 16 | AQ26: =IF(P26="材質劣化",2,IF(P26="漏水",3,1)) -> 1
K27: 17 | AQ27: =IF(P27="材質劣化",2,IF(P27="漏水",3,1)) -> 1
K28: 18 | AQ28: =IF(P30="材質劣化",2,IF(P30="漏水",3,1)) -> 1
K29: 19 | AQ29: =IF(P34="材質劣化",2,IF(P34="漏水",3,1)) -> 1
K30: 20 | AQ30: =IF(P30="材質劣化",2,IF(P30="漏水",3,1)) -> 1
K31: 21 | AQ31: =IF(P33="材質劣化",2,IF(P33="漏水",3,1)) -> 1
K32: 22 | AQ32: =IF(P37="材質劣化",2,IF(P37="漏水",3,1)) -> 1
K33: 23 | AQ33: =IF(P33="材質劣化",2,IF(P33="漏水",3,1)) -> 1
K34: 24 | AQ34: =IF(P36="材質劣化",2,IF(P36="漏水",3,1)) -> 1
K35: 集計 判定 診断 | L35: 変状の発生規模合計(㎡) | Y35: － | AC35: =SUM(AC11:AC34) -> 0 | AD35: =SUM(AD11:AD34) -> 0 | AE35: =SUM(AE11:AE34) -> 0.4 | AF35: =SUM(AF11:AF34) -> 0.19 | AG35: =SUM(AG11:AG34) -> 0 | AH35: =SUM(AH11:AH34) -> 0 | AI35: =SUM(AI11:AI34) -> 0 | AJ35: =SUM(AJ11:AJ34) -> 7 | AK35: 覆工スパン単位の 健全性の 診断の区分 | AM35: Ⅱ
L36: 対策区分の 判定結果 | O36: 対策区分毎の変状数注3 | Y36: Ⅳ | Z36: Ⅲ | AA36: Ⅱa | AB36: Ⅱb | AC36: Ⅳ | AD36: Ⅲ | AE36: Ⅱa | AF36: Ⅱb | AG36: Ⅳ | AH36: Ⅲ | AI36: Ⅱa | AJ36: Ⅱb
Y37: =IF(COUNTIF(Y11:Y34,"〇")>0,1,0) -> 0 | Z37: =IF(COUNTIF(Z11:Z34,"〇")>0,1,0) -> 0 | AA37: =IF(COUNTIF(AA11:AA34,"〇")>0,1,0) -> 0 | AB37: =IF(COUNTIF(AB11:AB34,"〇")>0,1,0) -> 0 | AC37: =COUNTA(AC11:AC34) -> 0 | AD37: =COUNTA(AD11:AD34) -> 0 | AE37: =COUNTA(AE11:AE34) -> 1 | AF37: =COUNTA(AF11:AF34) -> 2 | AG37: =COUNTA(AG11:AG34) -> 0 | AH37: =COUNTA(AH11:AH34) -> 0 | AI37: =COUNTA(AI11:AI34) -> 0 | AJ37: =COUNTA(AJ11:AJ34) -> 3
K39: 所見 | L39: 【 外 力 】監視を必要としない。 【材質劣化】次回点検まで重点的な監視、または計画的な対策を必要とする。 【 漏 水 】次回点検まで継続的な監視を必要とする。 以上により本スパンの判定はⅡa判定となる。
K43: 注1：誤記入防止のため、当該変状区分以外のセルは灰色表示とすること。
K44: 注2：応急措置を実施した場合は、その詳細を備考に記載すること。
K45: 注3：外力は覆工スパン単位、材質劣化、漏水は変状単位とすること。
B46: （以下、印刷不要）
B47: ※1：本シートは作成洩れのないよう、変状が無くても全スパン分を作成すること．また変状展開図は、様式D-2-1、様式D-2-1'と同じものを覆工スパン単位で拡大し掲載すること。
B48: ※2：変状番号は、様式D-1-1で記入した番号と整合させること。
B49: ※3：対策区分毎の変状発生規模は、様式D-1-1に記載した面積を記入すること（ただし外力はスパン単位で評価するため変状の有無の欄には面積でなく○を記入し、備考欄に状況を記入）。
B50: ※4：本様式は覆工スパン毎に作成すること。
B51: ※5：変状数が多い場合は、適時、表の行を増やして覆工スパン毎に1枚のシートに収めること。また、1スパン１シートとし、スパンに合わせてシートを追加すること。
B52: ※6：対策区分毎の変状の発生範囲の規模とは，対策を行う際に参考となる変状の長さや面積であり，変状を包含する長さや面積とする。
B53: ※7：対策範囲を示す発生範囲の規模を面積で記入することが妥当ではない変状は、発生範囲の規模の欄に○を記入するとともに、備考に内容を記入すること。

Sheet 様式D-3_S008
AU1: 様式F用→ | AV1: 覆工スパン | AY1: 変 状 数 | BK1: 変 状 規 模
AV2: 番号 | AW2: 延長 （ｍ） | AX2: 健全性の診断の 区分 | AY2: 対策区分の判定 | BK2: 覆工スパン長（ｍ） | BO2: 変状の発生範囲の規模（㎡）
B3: ■定期点検記録様式 覆工スパン別変状詳細展開図 【様式D-3】 | AY3: 外力 | BC3: 材質劣化 | BG3: 漏水 | BK3: 外力 注2 | BO3: 材質劣化 | BS3: 漏水
B4: フリガナ | E4: (ﾋｴﾊﾞﾗﾀﾞｲｲﾁｽﾞｲﾄﾞｳ) | K4: 路線名 | N4: 一般国道187号 | T4: 定期点検業者 | Y4: 応用地質（株） | AG4: 定期点検年月日 | AK4: 45840 | AY4: Ⅳ | AZ4: Ⅲ | BA4: Ⅱa | BB4: Ⅱb | BC4: Ⅳ | BD4: Ⅲ | BE4: Ⅱa | BF4: Ⅱb | BG4: Ⅳ | BH4: Ⅲ | BI4: Ⅱa | BJ4: Ⅱb | BK4: Ⅳ | BL4: Ⅲ | BM4: Ⅱa | BN4: Ⅱb | BO4: Ⅳ | BP4: Ⅲ | BQ4: Ⅱa | BR4: Ⅱb | BS4: Ⅳ | BT4: Ⅲ | BU4: Ⅱa | BV4: Ⅱb
B5: 名 称 | E5: 稗原第1隧道 | K5: 管理者名 | N5: 山口県岩国土木建築事務所 | Y5: 太田 裕之 | AV5: =N7 -> 8 | AW5: =R7 -> 5.8 | AX5: =AM35 -> Ⅱ | AY5: =IF(Y37>0,Y37,"") | AZ5: =IF(Y37>0,"",IF(Z37>0,Z37,"")) | BA5: =IF(Y37+Z37>0,"",IF(AA37>0,AA37,"")) | BB5: =IF(Y37+Z37+AA37>0,"",IF(AB37>0,AB37,"")) | BC5: =AC37 -> 0 | BD5: =AD37 -> 0 | BE5: =AE37 -> 1 | BF5: =AF37 -> 3 | BG5: =AG37 -> 0 | BH5: =AH37 -> 0 | BI5: =AI37 -> 0 | BJ5: =AJ37 -> 2 | BK5: =IF(Y37>0,R7,"") | BL5: =IF(Y37>0,"",IF(Z37>0,R7,"")) | BM5: =IF(Y37+Z37>0,"",IF(AA37>0,R7,"")) | BN5: =IF(Y37+Z37+AA37>0,"",IF(AB37>0,R7,"")) | BO5: =AC35 -> 0 | BP5: =AD35 -> 0 | BQ5: =AE35 -> 0.22 | BR5: =AF35 -> 0.34 | BS5: =AG35 -> 0 | BT5: =AH35 -> 0 | BU5: =AI35 -> 0 | BV5: =AJ35 -> 4.65
B6: スパン別変状展開図 | K6: 【健全性判定集計表】
K7: スパン番号 | N7: 8 | P7: スパン長 | R7: 5.8 | U7: 前回定期点検時の判定 | W7: 応急措置前の判定 | Y7: 対策区分毎の 変状の有無 | AC7: 対策区分毎の変状の発生範囲の規模(㎡) | AK7: 備考注2
K8: 変状番号 | L8: 対象箇所 | N8: 部位区分 | P8: 変状区分 | R8: 変状種類
Y9: 外力注1 | AC9: 材質劣化注1 | AG9: 漏水注1
Y10: Ⅳ | Z10: Ⅲ | AA10: Ⅱa | AB10: Ⅱb | AC10: Ⅳ | AD10: Ⅲ | AE10: Ⅱa | AF10: Ⅱb | AG10: Ⅳ | AH10: Ⅲ | AI10: Ⅱa | AJ10: Ⅱb
K11: 1 | L11: 覆工 | N11: 横断目地（右側） | P11: 材質劣化 | R11: うき・はく離 | U11: Ⅱa | W11: － | AK11: 対策済み | AQ11: =IF(P11="材質劣化",2,IF(P11="漏水",3,1)) -> 2
K12: 2 | L12: 覆工 | N12: 横断目地（右側） | P12: 材質劣化 | R12: うき・はく離 | U12: Ⅱa | W12: － | AK12: 対策済み | AQ12: =IF(P12="材質劣化",2,IF(P12="漏水",3,1)) -> 2
K13: 3 | L13: 覆工 | N13: アーチ（右側） | P13: 材質劣化 | R13: うき・はく離 | U13: Ⅱa | W13: － | AK13: 対策済み | AQ13: =IF(P13="材質劣化",2,IF(P13="漏水",3,1)) -> 2
K14: 4 | L14: 覆工 | N14: 横断目地（右側） | P14: 材質劣化 | R14: うき・はく離 | U14: Ⅱa | W14: － | AK14: 対策済み | AQ14: =IF(P14="材質劣化",2,IF(P14="漏水",3,1)) -> 2
K15: 5 | L15: 覆工 | N15: アーチ（天端） | P15: 材質劣化 | R15: うき・はく離 | U15: Ⅱb | W15: － | AF15: 0.16 | AQ15: =IF(P15="材質劣化",2,IF(P15="漏水",3,1)) -> 2
K16: 6 | L16: 覆工 | N16: アーチ（天端） | P16: 材質劣化 | R16: その他 | U16: Ⅱb | W16: － | AF16: 0.02 | AK16: 異物混入(木片) | AQ16: =IF(P16="材質劣化",2,IF(P16="漏水",3,1)) -> 2
K17: 7 | L17: 覆工 | N17: アーチ（左側） | P17: 材質劣化 | R17: うき・はく離 | U17: Ⅱb | W17: － | AF17: 0.16 | AQ17: =IF(P17="材質劣化",2,IF(P17="漏水",3,1)) -> 2
K18: 8 | L18: 覆工 | N18: 水平打ち継ぎ目（左側） | P18: 材質劣化 | R18: うき・はく離 | U18: Ⅱb | W18: － | AK18: 対策済み | AQ18: =IF(P18="材質劣化",2,IF(P18="漏水",3,1)) -> 2
K19: 9 | L19: 覆工 | N19: 水平打ち継ぎ目（右側） | P19: 材質劣化 | R19: うき・はく離 | U19: Ⅱb | W19: － | AK19: 対策済み | AQ19: =IF(P19="材質劣化",2,IF(P19="漏水",3,1)) -> 2
K20: 10 | L20: 覆工 | N20: 水平打ち継ぎ目（右側） | P20: 材質劣化 | R20: うき・はく離 | U20: Ⅱb | W20: － | AK20: 対策済み | AQ20: =IF(P20="材質劣化",2,IF(P20="漏水",3,1)) -> 2
K21: 11 | L21: 覆工 | N21: アーチ（左側） | P21: 材質劣化 | R21: うき・はく離 | U21: － | W21: － | AE21: 0.22 | AQ21: =IF(P21="材質劣化",2,IF(P21="漏水",3,1)) -> 2
K22: 12 | L22: 覆工 | N22: アーチ（右側） | P22: 漏水 | R22: 漏水 | U22: － | W22: － | AJ22: 2.9 | AQ22: =IF(P22="材質劣化",2,IF(P22="漏水",3,1)) -> 3
K23: 13 | L23: 覆工 | N23: 横断目地（右側） | P23: 漏水 | R23: 漏水 | U23: － | W23: － | AJ23: 1.75 | AQ23: =IF(P23="材質劣化",2,IF(P23="漏水",3,1)) -> 3
K24: 14 | AQ24: =IF(P24="材質劣化",2,IF(P24="漏水",3,1)) -> 1
K25: 15 | AQ25: =IF(P25="材質劣化",2,IF(P25="漏水",3,1)) -> 1
K26: 16 | AQ26: =IF(P26="材質劣化",2,IF(P26="漏水",3,1)) -> 1
K27: 17 | AQ27: =IF(P27="材質劣化",2,IF(P27="漏水",3,1)) -> 1
K28: 18 | AQ28: =IF(P30="材質劣化",2,IF(P30="漏水",3,1)) -> 1
K29: 19 | AQ29: =IF(P34="材質劣化",2,IF(P34="漏水",3,1)) -> 1
K30: 20 | AQ30: =IF(P30="材質劣化",2,IF(P30="漏水",3,1)) -> 1
K31: 21 | AQ31: =IF(P33="材質劣化",2,IF(P33="漏水",3,1)) -> 1
K32: 22 | AQ32: =IF(P37="材質劣化",2,IF(P37="漏水",3,1)) -> 1
K33: 23 | AQ33: =IF(P33="材質劣化",2,IF(P33="漏水",3,1)) -> 1
K34: 24 | AQ34: =IF(P36="材質劣化",2,IF(P36="漏水",3,1)) -> 1
K35: 集計 判定 診断 | L35: 変状の発生規模合計(㎡) | Y35: － | AC35: =SUM(AC11:AC34) -> 0 | AD35: =SUM(AD11:AD34) -> 0 | AE35: =SUM(AE11:AE34) -> 0.22 | AF35: =SUM(AF11:AF34) -> 0.34 | AG35: =SUM(AG11:AG34) -> 0 | AH35: =SUM(AH11:AH34) -> 0 | AI35: =SUM(AI11:AI34) -> 0 | AJ35: =SUM(AJ11:AJ34) -> 4.65 | AK35: 覆工スパン単位の 健全性の 診断の区分 | AM35: Ⅱ
L36: 対策区分の 判定結果 | O36: 対策区分毎の変状数注3 | Y36: Ⅳ | Z36: Ⅲ | AA36: Ⅱa | AB36: Ⅱb | AC36: Ⅳ | AD36: Ⅲ | AE36: Ⅱa | AF36: Ⅱb | AG36: Ⅳ | AH36: Ⅲ | AI36: Ⅱa | AJ36: Ⅱb
Y37: =IF(COUNTIF(Y11:Y34,"〇")>0,1,0) -> 0 | Z37: =IF(COUNTIF(Z11:Z34,"〇")>0,1,0) -> 0 | AA37: =IF(COUNTIF(AA11:AA34,"〇")>0,1,0) -> 0 | AB37: =IF(COUNTIF(AB11:AB34,"〇")>0,1,0) -> 0 | AC37: =COUNTA(AC11:AC34) -> 0 | AD37: =COUNTA(AD11:AD34) -> 0 | AE37: =COUNTA(AE11:AE34) -> 1 | AF37: =COUNTA(AF11:AF34) -> 3 | AG37: =COUNTA(AG11:AG34) -> 0 | AH37: =COUNTA(AH11:AH34) -> 0 | AI37: =COUNTA(AI11:AI34) -> 0 | AJ37: =COUNTA(AJ11:AJ34) -> 2
K39: 所見 | L39: 【 外 力 】監視を必要としない。 【材質劣化】次回点検まで重点的な監視、または計画的な対策を必要とする。 【 漏 水 】次回点検まで継続的な監視を必要とする。 以上により本スパンの判定はⅡa判定となる。
K43: 注1：誤記入防止のため、当該変状区分以外のセルは灰色表示とすること。
K44: 注2：応急措置を実施した場合は、その詳細を備考に記載すること。
K45: 注3：外力は覆工スパン単位、材質劣化、漏水は変状単位とすること。
B46: （以下、印刷不要）
B47: ※1：本シートは作成洩れのないよう、変状が無くても全スパン分を作成すること．また変状展開図は、様式D-2-1、様式D-2-1'と同じものを覆工スパン単位で拡大し掲載すること。
B48: ※2：変状番号は、様式D-1-1で記入した番号と整合させること。
B49: ※3：対策区分毎の変状発生規模は、様式D-1-1に記載した面積を記入すること（ただし外力はスパン単位で評価するため変状の有無の欄には面積でなく○を記入し、備考欄に状況を記入）。
B50: ※4：本様式は覆工スパン毎に作成すること。
B51: ※5：変状数が多い場合は、適時、表の行を増やして覆工スパン毎に1枚のシートに収めること。また、1スパン１シートとし、スパンに合わせてシートを追加すること。
B52: ※6：対策区分毎の変状の発生範囲の規模とは，対策を行う際に参考となる変状の長さや面積であり，変状を包含する長さや面積とする。
B53: ※7：対策範囲を示す発生範囲の規模を面積で記入することが妥当ではない変状は、発生範囲の規模の欄に○を記入するとともに、備考に内容を記入すること。

Sheet 様式D-3_S009
AU1: 様式F用→ | AV1: 覆工スパン | AY1: 変 状 数 | BK1: 変 状 規 模
AV2: 番号 | AW2: 延長 （ｍ） | AX2: 健全性の診断の 区分 | AY2: 対策区分の判定 | BK2: 覆工スパン長（ｍ） | BO2: 変状の発生範囲の規模（㎡）
B3: ■定期点検記録様式 覆工スパン別変状詳細展開図 【様式D-3】 | AY3: 外力 | BC3: 材質劣化 | BG3: 漏水 | BK3: 外力 注2 | BO3: 材質劣化 | BS3: 漏水
B4: フリガナ | E4: (ﾋｴﾊﾞﾗﾀﾞｲｲﾁｽﾞｲﾄﾞｳ) | K4: 路線名 | N4: 一般国道187号 | T4: 定期点検業者 | Y4: 応用地質（株） | AG4: 定期点検年月日 | AK4: 45840 | AY4: Ⅳ | AZ4: Ⅲ | BA4: Ⅱa | BB4: Ⅱb | BC4: Ⅳ | BD4: Ⅲ | BE4: Ⅱa | BF4: Ⅱb | BG4: Ⅳ | BH4: Ⅲ | BI4: Ⅱa | BJ4: Ⅱb | BK4: Ⅳ | BL4: Ⅲ | BM4: Ⅱa | BN4: Ⅱb | BO4: Ⅳ | BP4: Ⅲ | BQ4: Ⅱa | BR4: Ⅱb | BS4: Ⅳ | BT4: Ⅲ | BU4: Ⅱa | BV4: Ⅱb
B5: 名 称 | E5: 稗原第1隧道 | K5: 管理者名 | N5: 山口県岩国土木建築事務所 | Y5: 太田 裕之 | AV5: =N7 -> 9 | AW5: =R7 -> 5.8 | AX5: =AM35 -> Ⅱ | AY5: =IF(Y37>0,Y37,"") | AZ5: =IF(Y37>0,"",IF(Z37>0,Z37,"")) | BA5: =IF(Y37+Z37>0,"",IF(AA37>0,AA37,"")) | BB5: =IF(Y37+Z37+AA37>0,"",IF(AB37>0,AB37,"")) | BC5: =AC37 -> 0 | BD5: =AD37 -> 0 | BE5: =AE37 -> 0 | BF5: =AF37 -> 0 | BG5: =AG37 -> 0 | BH5: =AH37 -> 0 | BI5: =AI37 -> 0 | BJ5: =AJ37 -> 1 | BK5: =IF(Y37>0,R7,"") | BL5: =IF(Y37>0,"",IF(Z37>0,R7,"")) | BM5: =IF(Y37+Z37>0,"",IF(AA37>0,R7,"")) | BN5: =IF(Y37+Z37+AA37>0,"",IF(AB37>0,R7,"")) | BO5: =AC35 -> 0 | BP5: =AD35 -> 0 | BQ5: =AE35 -> 0 | BR5: =AF35 -> 0 | BS5: =AG35 -> 0 | BT5: =AH35 -> 0 | BU5: =AI35 -> 0 | BV5: =AJ35 -> 2.95
B6: スパン別変状展開図 | K6: 【健全性判定集計表】
K7: スパン番号 | N7: 9 | P7: スパン長 | R7: 5.8 | U7: 前回定期点検時の判定 | W7: 応急措置前の判定 | Y7: 対策区分毎の 変状の有無 | AC7: 対策区分毎の変状の発生範囲の規模(㎡) | AK7: 備考注2
K8: 変状番号 | L8: 対象箇所 | N8: 部位区分 | P8: 変状区分 | R8: 変状種類
Y9: 外力注1 | AC9: 材質劣化注1 | AG9: 漏水注1
Y10: Ⅳ | Z10: Ⅲ | AA10: Ⅱa | AB10: Ⅱb | AC10: Ⅳ | AD10: Ⅲ | AE10: Ⅱa | AF10: Ⅱb | AG10: Ⅳ | AH10: Ⅲ | AI10: Ⅱa | AJ10: Ⅱb
K11: 1 | L11: 覆工 | N11: 横断目地（右側） | P11: 材質劣化 | R11: うき・はく離 | U11: Ⅱa | W11: － | AK11: 対策済み | AQ11: =IF(P11="材質劣化",2,IF(P11="漏水",3,1)) -> 2
K12: 2 | L12: 覆工 | N12: 横断目地（左側） | P12: 漏水 | R12: 漏水 | U12: Ⅱb | W12: － | AJ12: 2.95 | AQ12: =IF(P12="材質劣化",2,IF(P12="漏水",3,1)) -> 3
K13: 3 | L13: 覆工 | N13: 水平打ち継ぎ目（左側） | P13: 材質劣化 | R13: うき・はく離 | U13: Ⅱb | W13: － | AK13: 対策済み | AQ13: =IF(P13="材質劣化",2,IF(P13="漏水",3,1)) -> 2
K14: 4 | L14: 覆工 | N14: 水平打ち継ぎ目（左側） | P14: 材質劣化 | R14: うき・はく離 | U14: Ⅱb | W14: － | AK14: 対策済み | AQ14: =IF(P14="材質劣化",2,IF(P14="漏水",3,1)) -> 2
K15: 5 | L15: 覆工 | N15: 水平打ち継ぎ目（左側） | P15: 材質劣化 | R15: うき・はく離 | U15: Ⅱb | W15: － | AK15: 対策済み | AQ15: =IF(P15="材質劣化",2,IF(P15="漏水",3,1)) -> 2
K16: 6 | L16: 覆工 | N16: 水平打ち継ぎ目（右側） | P16: 材質劣化 | R16: うき・はく離 | U16: Ⅱb | W16: － | AK16: 対策済み | AQ16: =IF(P16="材質劣化",2,IF(P16="漏水",3,1)) -> 2
K17: 7 | L17: 覆工 | N17: 横断目地（右側） | P17: 材質劣化 | R17: うき・はく離 | U17: Ⅱb | W17: － | AK17: 対策済み | AQ17: =IF(P17="材質劣化",2,IF(P17="漏水",3,1)) -> 2
K18: 8 | AQ18: =IF(P18="材質劣化",2,IF(P18="漏水",3,1)) -> 1
K19: 9 | AQ19: =IF(P19="材質劣化",2,IF(P19="漏水",3,1)) -> 1
K20: 10 | AQ20: =IF(P20="材質劣化",2,IF(P20="漏水",3,1)) -> 1
K21: 11 | AQ21: =IF(P21="材質劣化",2,IF(P21="漏水",3,1)) -> 1
K22: 12 | AQ22: =IF(P22="材質劣化",2,IF(P22="漏水",3,1)) -> 1
K23: 13 | AQ23: =IF(P23="材質劣化",2,IF(P23="漏水",3,1)) -> 1
K24: 14 | AQ24: =IF(P24="材質劣化",2,IF(P24="漏水",3,1)) -> 1
K25: 15 | AQ25: =IF(P25="材質劣化",2,IF(P25="漏水",3,1)) -> 1
K26: 16 | AQ26: =IF(P26="材質劣化",2,IF(P26="漏水",3,1)) -> 1
K27: 17 | AQ27: =IF(P27="材質劣化",2,IF(P27="漏水",3,1)) -> 1
K28: 18 | AQ28: =IF(P30="材質劣化",2,IF(P30="漏水",3,1)) -> 1
K29: 19 | AQ29: =IF(P34="材質劣化",2,IF(P34="漏水",3,1)) -> 1
K30: 20 | AQ30: =IF(P30="材質劣化",2,IF(P30="漏水",3,1)) -> 1
K31: 21 | AQ31: =IF(P33="材質劣化",2,IF(P33="漏水",3,1)) -> 1
K32: 22 | AQ32: =IF(P37="材質劣化",2,IF(P37="漏水",3,1)) -> 1
K33: 23 | AQ33: =IF(P33="材質劣化",2,IF(P33="漏水",3,1)) -> 1
K34: 24 | AQ34: =IF(P36="材質劣化",2,IF(P36="漏水",3,1)) -> 1
K35: 集計 判定 診断 | L35: 変状の発生規模合計(㎡) | Y35: － | AC35: =SUM(AC11:AC34) -> 0 | AD35: =SUM(AD11:AD34) -> 0 | AE35: =SUM(AE11:AE34) -> 0 | AF35: =SUM(AF11:AF34) -> 0 | AG35: =SUM(AG11:AG34) -> 0 | AH35: =SUM(AH11:AH34) -> 0 | AI35: =SUM(AI11:AI34) -> 0 | AJ35: =SUM(AJ11:AJ34) -> 2.95 | AK35: 覆工スパン単位の 健全性の 診断の区分 | AM35: Ⅱ
L36: 対策区分の 判定結果 | O36: 対策区分毎の変状数注3 | Y36: Ⅳ | Z36: Ⅲ | AA36: Ⅱa | AB36: Ⅱb | AC36: Ⅳ | AD36: Ⅲ | AE36: Ⅱa | AF36: Ⅱb | AG36: Ⅳ | AH36: Ⅲ | AI36: Ⅱa | AJ36: Ⅱb
Y37: =IF(COUNTIF(Y11:Y34,"〇")>0,1,0) -> 0 | Z37: =IF(COUNTIF(Z11:Z34,"〇")>0,1,0) -> 0 | AA37: =IF(COUNTIF(AA11:AA34,"〇")>0,1,0) -> 0 | AB37: =IF(COUNTIF(AB11:AB34,"〇")>0,1,0) -> 0 | AC37: =COUNTA(AC11:AC34) -> 0 | AD37: =COUNTA(AD11:AD34) -> 0 | AE37: =COUNTA(AE11:AE34) -> 0 | AF37: =COUNTA(AF11:AF34) -> 0 | AG37: =COUNTA(AG11:AG34) -> 0 | AH37: =COUNTA(AH11:AH34) -> 0 | AI37: =COUNTA(AI11:AI34) -> 0 | AJ37: =COUNTA(AJ11:AJ34) -> 1
K39: 所見 | L39: 【 外 力 】監視を必要としない。 【材質劣化】監視を必要としない。 【 漏 水 】次回点検まで継続的な監視を必要とする。 以上により本スパンの判定はⅡb判定となる。
K43: 注1：誤記入防止のため、当該変状区分以外のセルは灰色表示とすること。
K44: 注2：応急措置を実施した場合は、その詳細を備考に記載すること。
K45: 注3：外力は覆工スパン単位、材質劣化、漏水は変状単位とすること。
B46: （以下、印刷不要）
B47: ※1：本シートは作成洩れのないよう、変状が無くても全スパン分を作成すること．また変状展開図は、様式D-2-1、様式D-2-1'と同じものを覆工スパン単位で拡大し掲載すること。
B48: ※2：変状番号は、様式D-1-1で記入した番号と整合させること。
B49: ※3：対策区分毎の変状発生規模は、様式D-1-1に記載した面積を記入すること（ただし外力はスパン単位で評価するため変状の有無の欄には面積でなく○を記入し、備考欄に状況を記入）。
B50: ※4：本様式は覆工スパン毎に作成すること。
B51: ※5：変状数が多い場合は、適時、表の行を増やして覆工スパン毎に1枚のシートに収めること。また、1スパン１シートとし、スパンに合わせてシートを追加すること。
B52: ※6：対策区分毎の変状の発生範囲の規模とは，対策を行う際に参考となる変状の長さや面積であり，変状を包含する長さや面積とする。
B53: ※7：対策範囲を示す発生範囲の規模を面積で記入することが妥当ではない変状は、発生範囲の規模の欄に○を記入するとともに、備考に内容を記入すること。

Sheet 様式D-3_S010
AU1: 様式F用→ | AV1: 覆工スパン | AY1: 変 状 数 | BK1: 変 状 規 模
AV2: 番号 | AW2: 延長 （ｍ） | AX2: 健全性の診断の 区分 | AY2: 対策区分の判定 | BK2: 覆工スパン長（ｍ） | BO2: 変状の発生範囲の規模（㎡）
B3: ■定期点検記録様式 覆工スパン別変状詳細展開図 【様式D-3】 | AY3: 外力 | BC3: 材質劣化 | BG3: 漏水 | BK3: 外力 注2 | BO3: 材質劣化 | BS3: 漏水
B4: フリガナ | E4: (ﾋｴﾊﾞﾗﾀﾞｲｲﾁｽﾞｲﾄﾞｳ) | K4: 路線名 | N4: 一般国道187号 | T4: 定期点検業者 | Y4: 応用地質（株） | AG4: 定期点検年月日 | AK4: 45840 | AY4: Ⅳ | AZ4: Ⅲ | BA4: Ⅱa | BB4: Ⅱb | BC4: Ⅳ | BD4: Ⅲ | BE4: Ⅱa | BF4: Ⅱb | BG4: Ⅳ | BH4: Ⅲ | BI4: Ⅱa | BJ4: Ⅱb | BK4: Ⅳ | BL4: Ⅲ | BM4: Ⅱa | BN4: Ⅱb | BO4: Ⅳ | BP4: Ⅲ | BQ4: Ⅱa | BR4: Ⅱb | BS4: Ⅳ | BT4: Ⅲ | BU4: Ⅱa | BV4: Ⅱb
B5: 名 称 | E5: 稗原第1隧道 | K5: 管理者名 | N5: 山口県岩国土木建築事務所 | Y5: 太田 裕之 | AV5: =N7 -> 10 | AW5: =R7 -> 5.8 | AX5: =AM35 -> Ⅱ | AY5: =IF(Y37>0,Y37,"") | AZ5: =IF(Y37>0,"",IF(Z37>0,Z37,"")) | BA5: =IF(Y37+Z37>0,"",IF(AA37>0,AA37,"")) | BB5: =IF(Y37+Z37+AA37>0,"",IF(AB37>0,AB37,"")) | BC5: =AC37 -> 0 | BD5: =AD37 -> 0 | BE5: =AE37 -> 1 | BF5: =AF37 -> 0 | BG5: =AG37 -> 0 | BH5: =AH37 -> 0 | BI5: =AI37 -> 0 | BJ5: =AJ37 -> 1 | BK5: =IF(Y37>0,R7,"") | BL5: =IF(Y37>0,"",IF(Z37>0,R7,"")) | BM5: =IF(Y37+Z37>0,"",IF(AA37>0,R7,"")) | BN5: =IF(Y37+Z37+AA37>0,"",IF(AB37>0,R7,"")) | BO5: =AC35 -> 0 | BP5: =AD35 -> 0 | BQ5: =AE35 -> 0.55 | BR5: =AF35 -> 0 | BS5: =AG35 -> 0 | BT5: =AH35 -> 0 | BU5: =AI35 -> 0 | BV5: =AJ35 -> 3.85
B6: スパン別変状展開図 | K6: 【健全性判定集計表】
K7: スパン番号 | N7: 10 | P7: スパン長 | R7: 5.8 | U7: 前回定期点検時の判定 | W7: 応急措置前の判定 | Y7: 対策区分毎の 変状の有無 | AC7: 対策区分毎の変状の発生範囲の規模(㎡) | AK7: 備考注2
K8: 変状番号 | L8: 対象箇所 | N8: 部位区分 | P8: 変状区分 | R8: 変状種類
Y9: 外力注1 | AC9: 材質劣化注1 | AG9: 漏水注1
Y10: Ⅳ | Z10: Ⅲ | AA10: Ⅱa | AB10: Ⅱb | AC10: Ⅳ | AD10: Ⅲ | AE10: Ⅱa | AF10: Ⅱb | AG10: Ⅳ | AH10: Ⅲ | AI10: Ⅱa | AJ10: Ⅱb
K11: 1 | L11: 覆工 | N11: 横断目地（天端） | P11: 材質劣化 | R11: うき・はく離 | U11: Ⅱb | W11: － | AK11: 対策済み | AQ11: =IF(P11="材質劣化",2,IF(P11="漏水",3,1)) -> 2
K12: 2 | L12: 覆工 | N12: 横断目地（天端） | P12: 材質劣化 | R12: うき・はく離 | U12: Ⅱa | W12: － | AK12: 対策済み | AQ12: =IF(P12="材質劣化",2,IF(P12="漏水",3,1)) -> 2
K13: 3 | L13: 覆工 | N13: 横断目地（天端） | P13: 漏水 | R13: 漏水 | U13: Ⅱb | W13: － | AJ13: 3.85 | AQ13: =IF(P13="材質劣化",2,IF(P13="漏水",3,1)) -> 3
K14: 4 | L14: 覆工 | N14: 水平打ち継ぎ目（左側） | P14: 材質劣化 | R14: うき・はく離 | U14: Ⅱb | W14: － | AK14: 対策済み | AQ14: =IF(P14="材質劣化",2,IF(P14="漏水",3,1)) -> 2
K15: 5 | L15: 覆工 | N15: 横断目地（左側） | P15: 材質劣化 | R15: うき・はく離 | U15: Ⅱb | W15: － | AK15: 対策済み | AQ15: =IF(P15="材質劣化",2,IF(P15="漏水",3,1)) -> 2
K16: 6 | L16: 覆工 | N16: 水平打ち継ぎ目（右側） | P16: 材質劣化 | R16: うき・はく離 | U16: Ⅱb | W16: － | AK16: 対策済み | AQ16: =IF(P16="材質劣化",2,IF(P16="漏水",3,1)) -> 2
K17: 7 | L17: 覆工 | N17: 水平打ち継ぎ目（右側） | P17: 材質劣化 | R17: うき・はく離 | U17: Ⅱb | W17: － | AK17: 対策済み | AQ17: =IF(P17="材質劣化",2,IF(P17="漏水",3,1)) -> 2
K18: 8 | L18: 覆工 | N18: 横断目地（左側） | P18: 材質劣化 | R18: 補修・補強材の破損 | U18: － | W18: － | AE18: 0.55 | AQ18: =IF(P18="材質劣化",2,IF(P18="漏水",3,1)) -> 2
K19: 9 | AQ19: =IF(P19="材質劣化",2,IF(P19="漏水",3,1)) -> 1
K20: 10 | AQ20: =IF(P20="材質劣化",2,IF(P20="漏水",3,1)) -> 1
K21: 11 | AQ21: =IF(P21="材質劣化",2,IF(P21="漏水",3,1)) -> 1
K22: 12 | AQ22: =IF(P22="材質劣化",2,IF(P22="漏水",3,1)) -> 1
K23: 13 | AQ23: =IF(P23="材質劣化",2,IF(P23="漏水",3,1)) -> 1
K24: 14 | AQ24: =IF(P24="材質劣化",2,IF(P24="漏水",3,1)) -> 1
K25: 15 | AQ25: =IF(P25="材質劣化",2,IF(P25="漏水",3,1)) -> 1
K26: 16 | AQ26: =IF(P26="材質劣化",2,IF(P26="漏水",3,1)) -> 1
K27: 17 | AQ27: =IF(P27="材質劣化",2,IF(P27="漏水",3,1)) -> 1
K28: 18 | AQ28: =IF(P30="材質劣化",2,IF(P30="漏水",3,1)) -> 1
K29: 19 | AQ29: =IF(P34="材質劣化",2,IF(P34="漏水",3,1)) -> 1
K30: 20 | AQ30: =IF(P30="材質劣化",2,IF(P30="漏水",3,1)) -> 1
K31: 21 | AQ31: =IF(P33="材質劣化",2,IF(P33="漏水",3,1)) -> 1
K32: 22 | AQ32: =IF(P37="材質劣化",2,IF(P37="漏水",3,1)) -> 1
K33: 23 | AQ33: =IF(P33="材質劣化",2,IF(P33="漏水",3,1)) -> 1
K34: 24 | AQ34: =IF(P36="材質劣化",2,IF(P36="漏水",3,1)) -> 1
K35: 集計 判定 診断 | L35: 変状の発生規模合計(㎡) | Y35: － | AC35: =SUM(AC11:AC34) -> 0 | AD35: =SUM(AD11:AD34) -> 0 | AE35: =SUM(AE11:AE34) -> 0.55 | AF35: =SUM(AF11:AF34) -> 0 | AG35: =SUM(AG11:AG34) -> 0 | AH35: =SUM(AH11:AH34) -> 0 | AI35: =SUM(AI11:AI34) -> 0 | AJ35: =SUM(AJ11:AJ34) -> 3.85 | AK35: 覆工スパン単位の 健全性の 診断の区分 | AM35: Ⅱ
L36: 対策区分の 判定結果 | O36: 対策区分毎の変状数注3 | Y36: Ⅳ | Z36: Ⅲ | AA36: Ⅱa | AB36: Ⅱb | AC36: Ⅳ | AD36: Ⅲ | AE36: Ⅱa | AF36: Ⅱb | AG36: Ⅳ | AH36: Ⅲ | AI36: Ⅱa | AJ36: Ⅱb
Y37: =IF(COUNTIF(Y11:Y34,"〇")>0,1,0) -> 0 | Z37: =IF(COUNTIF(Z11:Z34,"〇")>0,1,0) -> 0 | AA37: =IF(COUNTIF(AA11:AA34,"〇")>0,1,0) -> 0 | AB37: =IF(COUNTIF(AB11:AB34,"〇")>0,1,0) -> 0 | AC37: =COUNTA(AC11:AC34) -> 0 | AD37: =COUNTA(AD11:AD34) -> 0 | AE37: =COUNTA(AE11:AE34) -> 1 | AF37: =COUNTA(AF11:AF34) -> 0 | AG37: =COUNTA(AG11:AG34) -> 0 | AH37: =COUNTA(AH11:AH34) -> 0 | AI37: =COUNTA(AI11:AI34) -> 0 | AJ37: =COUNTA(AJ11:AJ34) -> 1
K39: 所見 | L39: 【 外 力 】監視を必要としない。 【材質劣化】次回点検まで重点的な監視、または計画的な対策を必要とする。 【 漏 水 】次回点検まで継続的な監視を必要とする。 以上により本スパンの判定はⅡa判定となる。
K43: 注1：誤記入防止のため、当該変状区分以外のセルは灰色表示とすること。
K44: 注2：応急措置を実施した場合は、その詳細を備考に記載すること。
K45: 注3：外力は覆工スパン単位、材質劣化、漏水は変状単位とすること。
B46: （以下、印刷不要）
B47: ※1：本シートは作成洩れのないよう、変状が無くても全スパン分を作成すること．また変状展開図は、様式D-2-1、様式D-2-1'と同じものを覆工スパン単位で拡大し掲載すること。
B48: ※2：変状番号は、様式D-1-1で記入した番号と整合させること。
B49: ※3：対策区分毎の変状発生規模は、様式D-1-1に記載した面積を記入すること（ただし外力はスパン単位で評価するため変状の有無の欄には面積でなく○を記入し、備考欄に状況を記入）。
B50: ※4：本様式は覆工スパン毎に作成すること。
B51: ※5：変状数が多い場合は、適時、表の行を増やして覆工スパン毎に1枚のシートに収めること。また、1スパン１シートとし、スパンに合わせてシートを追加すること。
B52: ※6：対策区分毎の変状の発生範囲の規模とは，対策を行う際に参考となる変状の長さや面積であり，変状を包含する長さや面積とする。
B53: ※7：対策範囲を示す発生範囲の規模を面積で記入することが妥当ではない変状は、発生範囲の規模の欄に○を記入するとともに、備考に内容を記入すること。

Sheet 様式D-3_S011
AU1: 様式F用→ | AV1: 覆工スパン | AY1: 変 状 数 | BK1: 変 状 規 模
AV2: 番号 | AW2: 延長 （ｍ） | AX2: 健全性の診断の 区分 | AY2: 対策区分の判定 | BK2: 覆工スパン長（ｍ） | BO2: 変状の発生範囲の規模（㎡）
B3: ■定期点検記録様式 覆工スパン別変状詳細展開図 【様式D-3】 | AY3: 外力 | BC3: 材質劣化 | BG3: 漏水 | BK3: 外力 注2 | BO3: 材質劣化 | BS3: 漏水
B4: フリガナ | E4: (ﾋｴﾊﾞﾗﾀﾞｲｲﾁｽﾞｲﾄﾞｳ) | K4: 路線名 | N4: 一般国道187号 | T4: 定期点検業者 | Y4: 応用地質（株） | AG4: 定期点検年月日 | AK4: 45840 | AY4: Ⅳ | AZ4: Ⅲ | BA4: Ⅱa | BB4: Ⅱb | BC4: Ⅳ | BD4: Ⅲ | BE4: Ⅱa | BF4: Ⅱb | BG4: Ⅳ | BH4: Ⅲ | BI4: Ⅱa | BJ4: Ⅱb | BK4: Ⅳ | BL4: Ⅲ | BM4: Ⅱa | BN4: Ⅱb | BO4: Ⅳ | BP4: Ⅲ | BQ4: Ⅱa | BR4: Ⅱb | BS4: Ⅳ | BT4: Ⅲ | BU4: Ⅱa | BV4: Ⅱb
B5: 名 称 | E5: 稗原第1隧道 | K5: 管理者名 | N5: 山口県岩国土木建築事務所 | Y5: 太田 裕之 | AV5: =N7 -> 11 | AW5: =R7 -> 5.9 | AX5: =AM35 -> Ⅱ | AY5: =IF(Y37>0,Y37,"") | AZ5: =IF(Y37>0,"",IF(Z37>0,Z37,"")) | BA5: =IF(Y37+Z37>0,"",IF(AA37>0,AA37,"")) | BB5: =IF(Y37+Z37+AA37>0,"",IF(AB37>0,AB37,"")) | BC5: =AC37 -> 0 | BD5: =AD37 -> 0 | BE5: =AE37 -> 0 | BF5: =AF37 -> 0 | BG5: =AG37 -> 0 | BH5: =AH37 -> 0 | BI5: =AI37 -> 2 | BJ5: =AJ37 -> 1 | BK5: =IF(Y37>0,R7,"") | BL5: =IF(Y37>0,"",IF(Z37>0,R7,"")) | BM5: =IF(Y37+Z37>0,"",IF(AA37>0,R7,"")) | BN5: =IF(Y37+Z37+AA37>0,"",IF(AB37>0,R7,"")) | BO5: =AC35 -> 0 | BP5: =AD35 -> 0 | BQ5: =AE35 -> 0 | BR5: =AF35 -> 0 | BS5: =AG35 -> 0 | BT5: =AH35 -> 0 | BU5: =AI35 -> 0.28 | BV5: =AJ35 -> 3.9
B6: スパン別変状展開図 | K6: 【健全性判定集計表】
K7: スパン番号 | N7: 11 | P7: スパン長 | R7: 5.9 | U7: 前回定期点検時の判定 | W7: 応急措置前の判定 | Y7: 対策区分毎の 変状の有無 | AC7: 対策区分毎の変状の発生範囲の規模(㎡) | AK7: 備考注2
K8: 変状番号 | L8: 対象箇所 | N8: 部位区分 | P8: 変状区分 | R8: 変状種類
Y9: 外力注1 | AC9: 材質劣化注1 | AG9: 漏水注1
Y10: Ⅳ | Z10: Ⅲ | AA10: Ⅱa | AB10: Ⅱb | AC10: Ⅳ | AD10: Ⅲ | AE10: Ⅱa | AF10: Ⅱb | AG10: Ⅳ | AH10: Ⅲ | AI10: Ⅱa | AJ10: Ⅱb
K11: 1 | L11: 覆工 | N11: 横断目地（左側） | P11: 材質劣化 | R11: うき・はく離 | U11: Ⅱa | W11: － | AK11: 対策済み | AQ11: =IF(P11="材質劣化",2,IF(P11="漏水",3,1)) -> 2
K12: 2 | L12: 覆工 | N12: 横断目地（天端） | P12: 漏水 | R12: 漏水 | U12: Ⅱb | W12: － | AJ12: 3.9 | AQ12: =IF(P12="材質劣化",2,IF(P12="漏水",3,1)) -> 3
K13: 3 | L13: 覆工 | N13: 横断目地（天端） | P13: 材質劣化 | R13: うき・はく離 | U13: Ⅱa | W13: － | AK13: 対策済み | AQ13: =IF(P13="材質劣化",2,IF(P13="漏水",3,1)) -> 2
K14: 4 | L14: 覆工 | N14: 水平打ち継ぎ目（左側） | P14: 材質劣化 | R14: うき・はく離 | U14: Ⅱb | W14: － | AK14: 対策済み | AQ14: =IF(P14="材質劣化",2,IF(P14="漏水",3,1)) -> 2
K15: 5 | L15: 覆工 | N15: 横断目地（左側） | P15: 材質劣化 | R15: うき・はく離 | U15: Ⅱb | W15: － | AK15: 対策済み | AQ15: =IF(P15="材質劣化",2,IF(P15="漏水",3,1)) -> 2
K16: 6 | L16: 覆工 | N16: 水平打ち継ぎ目（右側） | P16: 材質劣化 | R16: うき・はく離 | U16: Ⅱb | W16: － | AK16: 対策済み | AQ16: =IF(P16="材質劣化",2,IF(P16="漏水",3,1)) -> 2
K17: 7 | L17: 覆工 | N17: 横断目地（天端） | P17: 漏水 | R17: 補修・補強材の破損 | U17: － | W17: － | AI17: 0.22 | AQ17: =IF(P17="材質劣化",2,IF(P17="漏水",3,1)) -> 3
K18: 8 | L18: 覆工 | N18: 横断目地（右側） | P18: 漏水 | R18: 補修・補強材の破損 | U18: － | W18: － | AI18: 0.06 | AQ18: =IF(P18="材質劣化",2,IF(P18="漏水",3,1)) -> 3
K19: 9 | AQ19: =IF(P19="材質劣化",2,IF(P19="漏水",3,1)) -> 1
K20: 10 | AQ20: =IF(P20="材質劣化",2,IF(P20="漏水",3,1)) -> 1
K21: 11 | AQ21: =IF(P21="材質劣化",2,IF(P21="漏水",3,1)) -> 1
K22: 12 | AQ22: =IF(P22="材質劣化",2,IF(P22="漏水",3,1)) -> 1
K23: 13 | AQ23: =IF(P23="材質劣化",2,IF(P23="漏水",3,1)) -> 1
K24: 14 | AQ24: =IF(P24="材質劣化",2,IF(P24="漏水",3,1)) -> 1
K25: 15 | AQ25: =IF(P25="材質劣化",2,IF(P25="漏水",3,1)) -> 1
K26: 16 | AQ26: =IF(P26="材質劣化",2,IF(P26="漏水",3,1)) -> 1
K27: 17 | AQ27: =IF(P27="材質劣化",2,IF(P27="漏水",3,1)) -> 1
K28: 18 | AQ28: =IF(P30="材質劣化",2,IF(P30="漏水",3,1)) -> 1
K29: 19 | AQ29: =IF(P34="材質劣化",2,IF(P34="漏水",3,1)) -> 1
K30: 20 | AQ30: =IF(P30="材質劣化",2,IF(P30="漏水",3,1)) -> 1
K31: 21 | AQ31: =IF(P33="材質劣化",2,IF(P33="漏水",3,1)) -> 1
K32: 22 | AQ32: =IF(P37="材質劣化",2,IF(P37="漏水",3,1)) -> 1
K33: 23 | AQ33: =IF(P33="材質劣化",2,IF(P33="漏水",3,1)) -> 1
K34: 24 | AQ34: =IF(P36="材質劣化",2,IF(P36="漏水",3,1)) -> 1
K35: 集計 判定 診断 | L35: 変状の発生規模合計(㎡) | Y35: － | AC35: =SUM(AC11:AC34) -> 0 | AD35: =SUM(AD11:AD34) -> 0 | AE35: =SUM(AE11:AE34) -> 0 | AF35: =SUM(AF11:AF34) -> 0 | AG35: =SUM(AG11:AG34) -> 0 | AH35: =SUM(AH11:AH34) -> 0 | AI35: =SUM(AI11:AI34) -> 0.28 | AJ35: =SUM(AJ11:AJ34) -> 3.9 | AK35: 覆工スパン単位の 健全性の 診断の区分 | AM35: Ⅱ
L36: 対策区分の 判定結果 | O36: 対策区分毎の変状数注3 | Y36: Ⅳ | Z36: Ⅲ | AA36: Ⅱa | AB36: Ⅱb | AC36: Ⅳ | AD36: Ⅲ | AE36: Ⅱa | AF36: Ⅱb | AG36: Ⅳ | AH36: Ⅲ | AI36: Ⅱa | AJ36: Ⅱb
Y37: =IF(COUNTIF(Y11:Y34,"〇")>0,1,0) -> 0 | Z37: =IF(COUNTIF(Z11:Z34,"〇")>0,1,0) -> 0 | AA37: =IF(COUNTIF(AA11:AA34,"〇")>0,1,0) -> 0 | AB37: =IF(COUNTIF(AB11:AB34,"〇")>0,1,0) -> 0 | AC37: =COUNTA(AC11:AC34) -> 0 | AD37: =COUNTA(AD11:AD34) -> 0 | AE37: =COUNTA(AE11:AE34) -> 0 | AF37: =COUNTA(AF11:AF34) -> 0 | AG37: =COUNTA(AG11:AG34) -> 0 | AH37: =COUNTA(AH11:AH34) -> 0 | AI37: =COUNTA(AI11:AI34) -> 2 | AJ37: =COUNTA(AJ11:AJ34) -> 1
K39: 所見 | L39: 【 外 力 】監視を必要としない。 【材質劣化】監視を必要としない。 【 漏 水 】次回点検まで重点的な監視、または計画的な対策を必要とする。 以上により本スパンの判定はⅡa判定となる。
K43: 注1：誤記入防止のため、当該変状区分以外のセルは灰色表示とすること。
K44: 注2：応急措置を実施した場合は、その詳細を備考に記載すること。
K45: 注3：外力は覆工スパン単位、材質劣化、漏水は変状単位とすること。
B46: （以下、印刷不要）
B47: ※1：本シートは作成洩れのないよう、変状が無くても全スパン分を作成すること．また変状展開図は、様式D-2-1、様式D-2-1'と同じものを覆工スパン単位で拡大し掲載すること。
B48: ※2：変状番号は、様式D-1-1で記入した番号と整合させること。
B49: ※3：対策区分毎の変状発生規模は、様式D-1-1に記載した面積を記入すること（ただし外力はスパン単位で評価するため変状の有無の欄には面積でなく○を記入し、備考欄に状況を記入）。
B50: ※4：本様式は覆工スパン毎に作成すること。
B51: ※5：変状数が多い場合は、適時、表の行を増やして覆工スパン毎に1枚のシートに収めること。また、1スパン１シートとし、スパンに合わせてシートを追加すること。
B52: ※6：対策区分毎の変状の発生範囲の規模とは，対策を行う際に参考となる変状の長さや面積であり，変状を包含する長さや面積とする。
B53: ※7：対策範囲を示す発生範囲の規模を面積で記入することが妥当ではない変状は、発生範囲の規模の欄に○を記入するとともに、備考に内容を記入すること。

Sheet 様式D-3_S012
AU1: 様式F用→ | AV1: 覆工スパン | AY1: 変 状 数 | BK1: 変 状 規 模
AV2: 番号 | AW2: 延長 （ｍ） | AX2: 健全性の診断の 区分 | AY2: 対策区分の判定 | BK2: 覆工スパン長（ｍ） | BO2: 変状の発生範囲の規模（㎡）
B3: ■定期点検記録様式 覆工スパン別変状詳細展開図 【様式D-3】 | AY3: 外力 | BC3: 材質劣化 | BG3: 漏水 | BK3: 外力 注2 | BO3: 材質劣化 | BS3: 漏水
B4: フリガナ | E4: (ﾋｴﾊﾞﾗﾀﾞｲｲﾁｽﾞｲﾄﾞｳ) | K4: 路線名 | N4: 一般国道187号 | T4: 定期点検業者 | Y4: 応用地質（株） | AG4: 定期点検年月日 | AK4: 45840 | AY4: Ⅳ | AZ4: Ⅲ | BA4: Ⅱa | BB4: Ⅱb | BC4: Ⅳ | BD4: Ⅲ | BE4: Ⅱa | BF4: Ⅱb | BG4: Ⅳ | BH4: Ⅲ | BI4: Ⅱa | BJ4: Ⅱb | BK4: Ⅳ | BL4: Ⅲ | BM4: Ⅱa | BN4: Ⅱb | BO4: Ⅳ | BP4: Ⅲ | BQ4: Ⅱa | BR4: Ⅱb | BS4: Ⅳ | BT4: Ⅲ | BU4: Ⅱa | BV4: Ⅱb
B5: 名 称 | E5: 稗原第1隧道 | K5: 管理者名 | N5: 山口県岩国土木建築事務所 | Y5: 太田 裕之 | AV5: =N7 -> 12 | AW5: =R7 -> 5.8 | AX5: =AM35 -> Ⅱ | AY5: =IF(Y37>0,Y37,"") | AZ5: =IF(Y37>0,"",IF(Z37>0,Z37,"")) | BA5: =IF(Y37+Z37>0,"",IF(AA37>0,AA37,"")) | BB5: =IF(Y37+Z37+AA37>0,"",IF(AB37>0,AB37,"")) | BC5: =AC37 -> 0 | BD5: =AD37 -> 0 | BE5: =AE37 -> 1 | BF5: =AF37 -> 0 | BG5: =AG37 -> 0 | BH5: =AH37 -> 0 | BI5: =AI37 -> 0 | BJ5: =AJ37 -> 3 | BK5: =IF(Y37>0,R7,"") | BL5: =IF(Y37>0,"",IF(Z37>0,R7,"")) | BM5: =IF(Y37+Z37>0,"",IF(AA37>0,R7,"")) | BN5: =IF(Y37+Z37+AA37>0,"",IF(AB37>0,R7,"")) | BO5: =AC35 -> 0 | BP5: =AD35 -> 0 | BQ5: =AE35 -> 0.01 | BR5: =AF35 -> 0 | BS5: =AG35 -> 0 | BT5: =AH35 -> 0 | BU5: =AI35 -> 0 | BV5: =AJ35 -> 28.73
B6: スパン別変状展開図 | K6: 【健全性判定集計表】
K7: スパン番号 | N7: 12 | P7: スパン長 | R7: 5.8 | U7: 前回定期点検時の判定 | W7: 応急措置前の判定 | Y7: 対策区分毎の 変状の有無 | AC7: 対策区分毎の変状の発生範囲の規模(㎡) | AK7: 備考注2
K8: 変状番号 | L8: 対象箇所 | N8: 部位区分 | P8: 変状区分 | R8: 変状種類
Y9: 外力注1 | AC9: 材質劣化注1 | AG9: 漏水注1
Y10: Ⅳ | Z10: Ⅲ | AA10: Ⅱa | AB10: Ⅱb | AC10: Ⅳ | AD10: Ⅲ | AE10: Ⅱa | AF10: Ⅱb | AG10: Ⅳ | AH10: Ⅲ | AI10: Ⅱa | AJ10: Ⅱb
K11: 1 | L11: 覆工 | N11: アーチ（左側） | P11: 漏水 | R11: 漏水 | U11: Ⅱb | W11: － | AJ11: 28.5 | AQ11: =IF(P11="材質劣化",2,IF(P11="漏水",3,1)) -> 3
K12: 2 | L12: 覆工 | N12: 水平打ち継ぎ目（左側） | P12: 材質劣化 | R12: うき・はく離 | U12: Ⅱb | W12: － | AK12: 対策済み | AQ12: =IF(P12="材質劣化",2,IF(P12="漏水",3,1)) -> 2
K13: 3 | L13: 覆工 | N13: アーチ（左側） | P13: 材質劣化 | R13: 補修・補強材の破損 | U13: － | W13: － | AE13: 0.01 | AQ13: =IF(P13="材質劣化",2,IF(P13="漏水",3,1)) -> 2
K14: 4 | L14: 覆工 | N14: 横断目地（天端） | P14: 漏水 | R14: 補修・補強材の破損 | U14: － | W14: － | AJ14: 0.11 | AQ14: =IF(P14="材質劣化",2,IF(P14="漏水",3,1)) -> 3
K15: 5 | L15: 覆工 | N15: アーチ（右側） | P15: 漏水 | R15: 補修・補強材の破損 | U15: － | W15: － | AJ15: 0.12 | AQ15: =IF(P15="材質劣化",2,IF(P15="漏水",3,1)) -> 3
K16: 6 | AQ16: =IF(P16="材質劣化",2,IF(P16="漏水",3,1)) -> 1
K17: 7 | AQ17: =IF(P17="材質劣化",2,IF(P17="漏水",3,1)) -> 1
K18: 8 | AQ18: =IF(P18="材質劣化",2,IF(P18="漏水",3,1)) -> 1
K19: 9 | AQ19: =IF(P19="材質劣化",2,IF(P19="漏水",3,1)) -> 1
K20: 10 | AQ20: =IF(P20="材質劣化",2,IF(P20="漏水",3,1)) -> 1
K21: 11 | AQ21: =IF(P21="材質劣化",2,IF(P21="漏水",3,1)) -> 1
K22: 12 | AQ22: =IF(P22="材質劣化",2,IF(P22="漏水",3,1)) -> 1
K23: 13 | AQ23: =IF(P23="材質劣化",2,IF(P23="漏水",3,1)) -> 1
K24: 14 | AQ24: =IF(P24="材質劣化",2,IF(P24="漏水",3,1)) -> 1
K25: 15 | AQ25: =IF(P25="材質劣化",2,IF(P25="漏水",3,1)) -> 1
K26: 16 | AQ26: =IF(P26="材質劣化",2,IF(P26="漏水",3,1)) -> 1
K27: 17 | AQ27: =IF(P27="材質劣化",2,IF(P27="漏水",3,1)) -> 1
K28: 18 | AQ28: =IF(P30="材質劣化",2,IF(P30="漏水",3,1)) -> 1
K29: 19 | AQ29: =IF(P34="材質劣化",2,IF(P34="漏水",3,1)) -> 1
K30: 20 | AQ30: =IF(P30="材質劣化",2,IF(P30="漏水",3,1)) -> 1
K31: 21 | AQ31: =IF(P33="材質劣化",2,IF(P33="漏水",3,1)) -> 1
K32: 22 | AQ32: =IF(P37="材質劣化",2,IF(P37="漏水",3,1)) -> 1
K33: 23 | AQ33: =IF(P33="材質劣化",2,IF(P33="漏水",3,1)) -> 1
K34: 24 | AQ34: =IF(P36="材質劣化",2,IF(P36="漏水",3,1)) -> 1
K35: 集計 判定 診断 | L35: 変状の発生規模合計(㎡) | Y35: － | AC35: =SUM(AC11:AC34) -> 0 | AD35: =SUM(AD11:AD34) -> 0 | AE35: =SUM(AE11:AE34) -> 0.01 | AF35: =SUM(AF11:AF34) -> 0 | AG35: =SUM(AG11:AG34) -> 0 | AH35: =SUM(AH11:AH34) -> 0 | AI35: =SUM(AI11:AI34) -> 0 | AJ35: =SUM(AJ11:AJ34) -> 28.73 | AK35: 覆工スパン単位の 健全性の 診断の区分 | AM35: Ⅱ
L36: 対策区分の 判定結果 | O36: 対策区分毎の変状数注3 | Y36: Ⅳ | Z36: Ⅲ | AA36: Ⅱa | AB36: Ⅱb | AC36: Ⅳ | AD36: Ⅲ | AE36: Ⅱa | AF36: Ⅱb | AG36: Ⅳ | AH36: Ⅲ | AI36: Ⅱa | AJ36: Ⅱb
Y37: =IF(COUNTIF(Y11:Y34,"〇")>0,1,0) -> 0 | Z37: =IF(COUNTIF(Z11:Z34,"〇")>0,1,0) -> 0 | AA37: =IF(COUNTIF(AA11:AA34,"〇")>0,1,0) -> 0 | AB37: =IF(COUNTIF(AB11:AB34,"〇")>0,1,0) -> 0 | AC37: =COUNTA(AC11:AC34) -> 0 | AD37: =COUNTA(AD11:AD34) -> 0 | AE37: =COUNTA(AE11:AE34) -> 1 | AF37: =COUNTA(AF11:AF34) -> 0 | AG37: =COUNTA(AG11:AG34) -> 0 | AH37: =COUNTA(AH11:AH34) -> 0 | AI37: =COUNTA(AI11:AI34) -> 0 | AJ37: =COUNTA(AJ11:AJ34) -> 3
K39: 所見 | L39: 【 外 力 】監視を必要としない。 【材質劣化】次回点検まで重点的な監視、または計画的な対策を必要とする。 【 漏 水 】次回点検まで継続的な監視を必要とする。 以上により本スパンの判定はⅡa判定となる。
K43: 注1：誤記入防止のため、当該変状区分以外のセルは灰色表示とすること。
K44: 注2：応急措置を実施した場合は、その詳細を備考に記載すること。
K45: 注3：外力は覆工スパン単位、材質劣化、漏水は変状単位とすること。
B46: （以下、印刷不要）
B47: ※1：本シートは作成洩れのないよう、変状が無くても全スパン分を作成すること．また変状展開図は、様式D-2-1、様式D-2-1'と同じものを覆工スパン単位で拡大し掲載すること。
B48: ※2：変状番号は、様式D-1-1で記入した番号と整合させること。
B49: ※3：対策区分毎の変状発生規模は、様式D-1-1に記載した面積を記入すること（ただし外力はスパン単位で評価するため変状の有無の欄には面積でなく○を記入し、備考欄に状況を記入）。
B50: ※4：本様式は覆工スパン毎に作成すること。
B51: ※5：変状数が多い場合は、適時、表の行を増やして覆工スパン毎に1枚のシートに収めること。また、1スパン１シートとし、スパンに合わせてシートを追加すること。
B52: ※6：対策区分毎の変状の発生範囲の規模とは，対策を行う際に参考となる変状の長さや面積であり，変状を包含する長さや面積とする。
B53: ※7：対策範囲を示す発生範囲の規模を面積で記入することが妥当ではない変状は、発生範囲の規模の欄に○を記入するとともに、備考に内容を記入すること。

Sheet 様式D-3_S013
AU1: 様式F用→ | AV1: 覆工スパン | AY1: 変 状 数 | BK1: 変 状 規 模
AV2: 番号 | AW2: 延長 （ｍ） | AX2: 健全性の診断の 区分 | AY2: 対策区分の判定 | BK2: 覆工スパン長（ｍ） | BO2: 変状の発生範囲の規模（㎡）
B3: ■定期点検記録様式 覆工スパン別変状詳細展開図 【様式D-3】 | AY3: 外力 | BC3: 材質劣化 | BG3: 漏水 | BK3: 外力 注2 | BO3: 材質劣化 | BS3: 漏水
B4: フリガナ | E4: (ﾋｴﾊﾞﾗﾀﾞｲｲﾁｽﾞｲﾄﾞｳ) | K4: 路線名 | N4: 一般国道187号 | T4: 定期点検業者 | Y4: 応用地質（株） | AG4: 定期点検年月日 | AK4: 45840 | AY4: Ⅳ | AZ4: Ⅲ | BA4: Ⅱa | BB4: Ⅱb | BC4: Ⅳ | BD4: Ⅲ | BE4: Ⅱa | BF4: Ⅱb | BG4: Ⅳ | BH4: Ⅲ | BI4: Ⅱa | BJ4: Ⅱb | BK4: Ⅳ | BL4: Ⅲ | BM4: Ⅱa | BN4: Ⅱb | BO4: Ⅳ | BP4: Ⅲ | BQ4: Ⅱa | BR4: Ⅱb | BS4: Ⅳ | BT4: Ⅲ | BU4: Ⅱa | BV4: Ⅱb
B5: 名 称 | E5: 稗原第1隧道 | K5: 管理者名 | N5: 山口県岩国土木建築事務所 | Y5: 太田 裕之 | AV5: =N7 -> 13 | AW5: =R7 -> 4.4 | AX5: =AM35 -> Ⅱ | AY5: =IF(Y37>0,Y37,"") | AZ5: =IF(Y37>0,"",IF(Z37>0,Z37,"")) | BA5: =IF(Y37+Z37>0,"",IF(AA37>0,AA37,"")) | BB5: =IF(Y37+Z37+AA37>0,"",IF(AB37>0,AB37,"")) -> 1 | BC5: =AC37 -> 0 | BD5: =AD37 -> 0 | BE5: =AE37 -> 0 | BF5: =AF37 -> 0 | BG5: =AG37 -> 0 | BH5: =AH37 -> 0 | BI5: =AI37 -> 0 | BJ5: =AJ37 -> 1 | BK5: =IF(Y37>0,R7,"") | BL5: =IF(Y37>0,"",IF(Z37>0,R7,"")) | BM5: =IF(Y37+Z37>0,"",IF(AA37>0,R7,"")) | BN5: =IF(Y37+Z37+AA37>0,"",IF(AB37>0,R7,"")) -> 4.4 | BO5: =AC35 -> 0 | BP5: =AD35 -> 0 | BQ5: =AE35 -> 0 | BR5: =AF35 -> 0 | BS5: =AG35 -> 0 | BT5: =AH35 -> 0 | BU5: =AI35 -> 0 | BV5: =AJ35 -> 3.55
B6: スパン別変状展開図 | K6: 【健全性判定集計表】
K7: スパン番号 | N7: 13 | P7: スパン長 | R7: 4.4 | U7: 前回定期点検時の判定 | W7: 応急措置前の判定 | Y7: 対策区分毎の 変状の有無 | AC7: 対策区分毎の変状の発生範囲の規模(㎡) | AK7: 備考注2
K8: 変状番号 | L8: 対象箇所 | N8: 部位区分 | P8: 変状区分 | R8: 変状種類
Y9: 外力注1 | AC9: 材質劣化注1 | AG9: 漏水注1
Y10: Ⅳ | Z10: Ⅲ | AA10: Ⅱa | AB10: Ⅱb | AC10: Ⅳ | AD10: Ⅲ | AE10: Ⅱa | AF10: Ⅱb | AG10: Ⅳ | AH10: Ⅲ | AI10: Ⅱa | AJ10: Ⅱb
K11: 1 | L11: 覆工 | N11: アーチ（右側） | P11: 外力 | R11: 圧ざ、ひび割れ | U11: Ⅱb | W11: － | AB11: 〇 | AK11: 幅3.0mm、斜め方向 | AQ11: =IF(P11="材質劣化",2,IF(P11="漏水",3,1)) -> 1
K12: 2 | L12: 覆工 | N12: 横断目地（天端） | P12: 材質劣化 | R12: うき・はく離 | U12: Ⅱa | W12: － | AK12: 対策済み | AQ12: =IF(P12="材質劣化",2,IF(P12="漏水",3,1)) -> 2
K13: 3 | L13: 覆工 | N13: 水平打ち継ぎ目（左側） | P13: 材質劣化 | R13: うき・はく離 | U13: Ⅱb | W13: － | AK13: 対策済み | AQ13: =IF(P13="材質劣化",2,IF(P13="漏水",3,1)) -> 2
K14: 4 | L14: 覆工 | N14: 水平打ち継ぎ目（左側） | P14: 材質劣化 | R14: うき・はく離 | U14: Ⅱb | W14: － | AK14: 対策済み | AQ14: =IF(P14="材質劣化",2,IF(P14="漏水",3,1)) -> 2
K15: 5 | L15: 覆工 | N15: アーチ（天端） | P15: 漏水 | R15: 漏水 | U15: － | W15: － | AJ15: 3.55 | AQ15: =IF(P15="材質劣化",2,IF(P15="漏水",3,1)) -> 3
K16: 6 | AQ16: =IF(P16="材質劣化",2,IF(P16="漏水",3,1)) -> 1
K17: 7 | AQ17: =IF(P17="材質劣化",2,IF(P17="漏水",3,1)) -> 1
K18: 8 | AQ18: =IF(P18="材質劣化",2,IF(P18="漏水",3,1)) -> 1
K19: 9 | AQ19: =IF(P19="材質劣化",2,IF(P19="漏水",3,1)) -> 1
K20: 10 | AQ20: =IF(P20="材質劣化",2,IF(P20="漏水",3,1)) -> 1
K21: 11 | AQ21: =IF(P21="材質劣化",2,IF(P21="漏水",3,1)) -> 1
K22: 12 | AQ22: =IF(P22="材質劣化",2,IF(P22="漏水",3,1)) -> 1
K23: 13 | AQ23: =IF(P23="材質劣化",2,IF(P23="漏水",3,1)) -> 1
K24: 14 | AQ24: =IF(P24="材質劣化",2,IF(P24="漏水",3,1)) -> 1
K25: 15 | AQ25: =IF(P25="材質劣化",2,IF(P25="漏水",3,1)) -> 1
K26: 16 | AQ26: =IF(P26="材質劣化",2,IF(P26="漏水",3,1)) -> 1
K27: 17 | AQ27: =IF(P27="材質劣化",2,IF(P27="漏水",3,1)) -> 1
K28: 18 | AQ28: =IF(P30="材質劣化",2,IF(P30="漏水",3,1)) -> 1
K29: 19 | AQ29: =IF(P34="材質劣化",2,IF(P34="漏水",3,1)) -> 1
K30: 20 | AQ30: =IF(P30="材質劣化",2,IF(P30="漏水",3,1)) -> 1
K31: 21 | AQ31: =IF(P33="材質劣化",2,IF(P33="漏水",3,1)) -> 1
K32: 22 | AQ32: =IF(P37="材質劣化",2,IF(P37="漏水",3,1)) -> 1
K33: 23 | AQ33: =IF(P33="材質劣化",2,IF(P33="漏水",3,1)) -> 1
K34: 24 | AQ34: =IF(P36="材質劣化",2,IF(P36="漏水",3,1)) -> 1
K35: 集計 判定 診断 | L35: 変状の発生規模合計(㎡) | Y35: － | AC35: =SUM(AC11:AC34) -> 0 | AD35: =SUM(AD11:AD34) -> 0 | AE35: =SUM(AE11:AE34) -> 0 | AF35: =SUM(AF11:AF34) -> 0 | AG35: =SUM(AG11:AG34) -> 0 | AH35: =SUM(AH11:AH34) -> 0 | AI35: =SUM(AI11:AI34) -> 0 | AJ35: =SUM(AJ11:AJ34) -> 3.55 | AK35: 覆工スパン単位の 健全性の 診断の区分 | AM35: Ⅱ
L36: 対策区分の 判定結果 | O36: 対策区分毎の変状数注3 | Y36: Ⅳ | Z36: Ⅲ | AA36: Ⅱa | AB36: Ⅱb | AC36: Ⅳ | AD36: Ⅲ | AE36: Ⅱa | AF36: Ⅱb | AG36: Ⅳ | AH36: Ⅲ | AI36: Ⅱa | AJ36: Ⅱb
Y37: =IF(COUNTIF(Y11:Y34,"〇")>0,1,0) -> 0 | Z37: =IF(COUNTIF(Z11:Z34,"〇")>0,1,0) -> 0 | AA37: =IF(COUNTIF(AA11:AA34,"〇")>0,1,0) -> 0 | AB37: =IF(COUNTIF(AB11:AB34,"〇")>0,1,0) -> 1 | AC37: =COUNTA(AC11:AC34) -> 0 | AD37: =COUNTA(AD11:AD34) -> 0 | AE37: =COUNTA(AE11:AE34) -> 0 | AF37: =COUNTA(AF11:AF34) -> 0 | AG37: =COUNTA(AG11:AG34) -> 0 | AH37: =COUNTA(AH11:AH34) -> 0 | AI37: =COUNTA(AI11:AI34) -> 0 | AJ37: =COUNTA(AJ11:AJ34) -> 1
K39: 所見 | L39: 【 外 力 】次回点検まで継続的な監視を必要とする。 【材質劣化】監視を必要としない。 【 漏 水 】次回点検まで継続的な監視を必要とする。 以上により本スパンの判定はⅡb判定となる。
K43: 注1：誤記入防止のため、当該変状区分以外のセルは灰色表示とすること。
K44: 注2：応急措置を実施した場合は、その詳細を備考に記載すること。
K45: 注3：外力は覆工スパン単位、材質劣化、漏水は変状単位とすること。
B46: （以下、印刷不要）
B47: ※1：本シートは作成洩れのないよう、変状が無くても全スパン分を作成すること．また変状展開図は、様式D-2-1、様式D-2-1'と同じものを覆工スパン単位で拡大し掲載すること。
B48: ※2：変状番号は、様式D-1-1で記入した番号と整合させること。
B49: ※3：対策区分毎の変状発生規模は、様式D-1-1に記載した面積を記入すること（ただし外力はスパン単位で評価するため変状の有無の欄には面積でなく○を記入し、備考欄に状況を記入）。
B50: ※4：本様式は覆工スパン毎に作成すること。
B51: ※5：変状数が多い場合は、適時、表の行を増やして覆工スパン毎に1枚のシートに収めること。また、1スパン１シートとし、スパンに合わせてシートを追加すること。
B52: ※6：対策区分毎の変状の発生範囲の規模とは，対策を行う際に参考となる変状の長さや面積であり，変状を包含する長さや面積とする。
B53: ※7：対策範囲を示す発生範囲の規模を面積で記入することが妥当ではない変状は、発生範囲の規模の欄に○を記入するとともに、備考に内容を記入すること。

Sheet 様式D-3_PE
AU1: 様式F用→ | AV1: 覆工スパン | AY1: 変 状 数 | BK1: 変 状 規 模
AV2: 番号 | AW2: 延長 （ｍ） | AX2: 健全性の診断の 区分 | AY2: 対策区分の判定 | BK2: 覆工スパン長（ｍ） | BO2: 変状の発生範囲の規模（㎡）
B3: ■定期点検記録様式 覆工スパン別変状詳細展開図 【様式D-3】 | AY3: 外力 | BC3: 材質劣化 | BG3: 漏水 | BK3: 外力 注2 | BO3: 材質劣化 | BS3: 漏水
B4: フリガナ | E4: (ﾋｴﾊﾞﾗﾀﾞｲｲﾁｽﾞｲﾄﾞｳ) | K4: 路線名 | N4: 一般国道187号 | T4: 定期点検業者 | Y4: 応用地質（株） | AG4: 定期点検年月日 | AK4: 45840 | AY4: Ⅳ | AZ4: Ⅲ | BA4: Ⅱa | BB4: Ⅱb | BC4: Ⅳ | BD4: Ⅲ | BE4: Ⅱa | BF4: Ⅱb | BG4: Ⅳ | BH4: Ⅲ | BI4: Ⅱa | BJ4: Ⅱb | BK4: Ⅳ | BL4: Ⅲ | BM4: Ⅱa | BN4: Ⅱb | BO4: Ⅳ | BP4: Ⅲ | BQ4: Ⅱa | BR4: Ⅱb | BS4: Ⅳ | BT4: Ⅲ | BU4: Ⅱa | BV4: Ⅱb
B5: 名 称 | E5: 稗原第1隧道 | K5: 管理者名 | N5: 山口県岩国土木建築事務所 | Y5: 太田 裕之 | AV5: =N7 -> PE | AW5: =R7 -> 1.1 | AX5: =AM35 -> Ⅰ | AY5: =IF(Y37>0,Y37,"") | AZ5: =IF(Y37>0,"",IF(Z37>0,Z37,"")) | BA5: =IF(Y37+Z37>0,"",IF(AA37>0,AA37,"")) | BB5: =IF(Y37+Z37+AA37>0,"",IF(AB37>0,AB37,"")) | BC5: =AC37 -> 0 | BD5: =AD37 -> 0 | BE5: =AE37 -> 0 | BF5: =AF37 -> 0 | BG5: =AG37 -> 0 | BH5: =AH37 -> 0 | BI5: =AI37 -> 0 | BJ5: =AJ37 -> 0 | BK5: =IF(Y37>0,R7,"") | BL5: =IF(Y37>0,"",IF(Z37>0,R7,"")) | BM5: =IF(Y37+Z37>0,"",IF(AA37>0,R7,"")) | BN5: =IF(Y37+Z37+AA37>0,"",IF(AB37>0,R7,"")) | BO5: =AC35 -> 0 | BP5: =AD35 -> 0 | BQ5: =AE35 -> 0 | BR5: =AF35 -> 0 | BS5: =AG35 -> 0 | BT5: =AH35 -> 0 | BU5: =AI35 -> 0 | BV5: =AJ35 -> 0
B6: スパン別変状展開図 | K6: 【健全性判定集計表】
K7: スパン番号 | N7: PE | P7: スパン長 | R7: 1.1 | U7: 前回定期点検時の判定 | W7: 応急措置前の判定 | Y7: 対策区分毎の 変状の有無 | AC7: 対策区分毎の変状の発生範囲の規模(㎡) | AK7: 備考注2
K8: 変状番号 | L8: 対象箇所 | N8: 部位区分 | P8: 変状区分 | R8: 変状種類
Y9: 外力注1 | AC9: 材質劣化注1 | AG9: 漏水注1
Y10: Ⅳ | Z10: Ⅲ | AA10: Ⅱa | AB10: Ⅱb | AC10: Ⅳ | AD10: Ⅲ | AE10: Ⅱa | AF10: Ⅱb | AG10: Ⅳ | AH10: Ⅲ | AI10: Ⅱa | AJ10: Ⅱb
K11: 1 | AQ11: =IF(P11="材質劣化",2,IF(P11="漏水",3,1)) -> 1
K12: 2 | AQ12: =IF(P12="材質劣化",2,IF(P12="漏水",3,1)) -> 1
K13: 3 | AQ13: =IF(P13="材質劣化",2,IF(P13="漏水",3,1)) -> 1
K14: 4 | AQ14: =IF(P14="材質劣化",2,IF(P14="漏水",3,1)) -> 1
K15: 5 | AQ15: =IF(P15="材質劣化",2,IF(P15="漏水",3,1)) -> 1
K16: 6 | AQ16: =IF(P16="材質劣化",2,IF(P16="漏水",3,1)) -> 1
K17: 7 | AQ17: =IF(P17="材質劣化",2,IF(P17="漏水",3,1)) -> 1
K18: 8 | AQ18: =IF(P18="材質劣化",2,IF(P18="漏水",3,1)) -> 1
K19: 9 | AQ19: =IF(P19="材質劣化",2,IF(P19="漏水",3,1)) -> 1
K20: 10 | AQ20: =IF(P20="材質劣化",2,IF(P20="漏水",3,1)) -> 1
K21: 11 | AQ21: =IF(P21="材質劣化",2,IF(P21="漏水",3,1)) -> 1
K22: 12 | AQ22: =IF(P22="材質劣化",2,IF(P22="漏水",3,1)) -> 1
... K27: 17 | AQ27: =IF(P27="材質劣化",2,IF(P27="漏水",3,1)) -> 1
K28: 18 | AQ28: =IF(P30="材質劣化",2,IF(P30="漏水",3,1)) -> 1
K29: 19 | AQ29: =IF(P34="材質劣化",2,IF(P34="漏水",3,1)) -> 1
K30: 20 | AQ30: =IF(P30="材質劣化",2,IF(P30="漏水",3,1)) -> 1
K31: 21 | AQ31: =IF(P33="材質劣化",2,IF(P33="漏水",3,1)) -> 1
K32: 22 | AQ32: =IF(P37="材質劣化",2,IF(P37="漏水",3,1)) -> 1
K33: 23 | AQ33: =IF(P33="材質劣化",2,IF(P33="漏水",3,1)) -> 1
K34: 24 | AQ34: =IF(P36="材質劣化",2,IF(P36="漏水",3,1)) -> 1
K35: 集計 判定 診断 | L35: 変状の発生規模合計(㎡) | Y35: － | AC35: =SUM(AC11:AC34) -> 0 | AD35: =SUM(AD11:AD34) -> 0 | AE35: =SUM(AE11:AE34) -> 0 | AF35: =SUM(AF11:AF34) -> 0 | AG35: =SUM(AG11:AG34) -> 0 | AH35: =SUM(AH11:AH34) -> 0 | AI35: =SUM(AI11:AI34) -> 0 | AJ35: =SUM(AJ11:AJ34) -> 0 | AK35: 覆工スパン単位の 健全性の 診断の区分 | AM35: Ⅰ
L36: 対策区分の 判定結果 | O36: 対策区分毎の変状数注3 | Y36: Ⅳ | Z36: Ⅲ | AA36: Ⅱa | AB36: Ⅱb | AC36: Ⅳ | AD36: Ⅲ | AE36: Ⅱa | AF36: Ⅱb | AG36: Ⅳ | AH36: Ⅲ | AI36: Ⅱa | AJ36: Ⅱb
Y37: =IF(COUNTIF(Y11:Y34,"〇")>0,1,0) -> 0 | Z37: =IF(COUNTIF(Z11:Z34,"〇")>0,1,0) -> 0 | AA37: =IF(COUNTIF(AA11:AA34,"〇")>0,1,0) -> 0 | AB37: =IF(COUNTIF(AB11:AB34,"〇")>0,1,0) -> 0 | AC37: =COUNTA(AC11:AC34) -> 0 | AD37: =COUNTA(AD11:AD34) -> 0 | AE37: =COUNTA(AE11:AE34) -> 0 | AF37: =COUNTA(AF11:AF34) -> 0 | AG37: =COUNTA(AG11:AG34) -> 0 | AH37: =COUNTA(AH11:AH34) -> 0 | AI37: =COUNTA(AI11:AI34) -> 0 | AJ37: =COUNTA(AJ11:AJ34) -> 0
K39: 所見 | L39: 【 外 力 】監視を必要としない。 【材質劣化】監視を必要としない。 【 漏 水 】監視を必要としない。 以上により本スパンの判定はⅠ判定となる。
K43: 注1：誤記入防止のため、当該変状区分以外のセルは灰色表示とすること。
K44: 注2：応急措置を実施した場合は、その詳細を備考に記載すること。
K45: 注3：外力は覆工スパン単位、材質劣化、漏水は変状単位とすること。
B46: （以下、印刷不要）
B47: ※1：本シートは作成洩れのないよう、変状が無くても全スパン分を作成すること．また変状展開図は、様式D-2-1、様式D-2-1'と同じものを覆工スパン単位で拡大し掲載すること。
B48: ※2：変状番号は、様式D-1-1で記入した番号と整合させること。
B49: ※3：対策区分毎の変状発生規模は、様式D-1-1に記載した面積を記入すること（ただし外力はスパン単位で評価するため変状の有無の欄には面積でなく○を記入し、備考欄に状況を記入）。
B50: ※4：本様式は覆工スパン毎に作成すること。
B51: ※5：変状数が多い場合は、適時、表の行を増やして覆工スパン毎に1枚のシートに収めること。また、1スパン１シートとし、スパンに合わせてシートを追加すること。
B52: ※6：対策区分毎の変状の発生範囲の規模とは，対策を行う際に参考となる変状の長さや面積であり，変状を包含する長さや面積とする。
B53: ※7：対策範囲を示す発生範囲の規模を面積で記入することが妥当ではない変状は、発生範囲の規模の欄に○を記入するとともに、備考に内容を記入すること。

Sheet 様式E
B2: ■定期点検記録様式 近接目視による状態の把握が不可能な箇所 【様式E】
B3: フリガナ | F3: (ﾋｴﾊﾞﾗﾀﾞｲｲﾁｽﾞｲﾄﾞｳ) | U3: 路 線 名 | Z3: 一般国道187号 | AI3: 定期点検実施者 | AO3: 応用地質（株） | AW3: 定期点検年月日 | BC3: 45840
B4: 名 称 | F4: 稗原第1隧道 | U4: 管理者名 | Z4: 山口県岩国土木建築事務所 | AO4: 太田 裕之
B5: 覆工スパン 番号 | H5: 対象箇所 | P5: 不可能な理由 | AN5: 対応策
D20: 注）近接目視又は打音、触診ができない箇所を記載する。現状の評価、日常の維持管理での注意点を記載する。
D21: ※ 数が多い場合は、適時、表の行を増やすこと。

Sheet 様式F
B1: ■定期点検記録様式 覆工スパン毎の変状数・変状規模の集計 【様式F】
B2: フリガナ | F2: (ﾋｴﾊﾞﾗﾀﾞｲｲﾁｽﾞｲﾄﾞｳ) | L2: 路線名 | O2: 一般国道187号 | T2: 定期点検実施者 | V2: 応用地質（株） | Y2: 定期点検 年月日 | Z2: 45840
B3: 名 称 | F3: 稗原第1隧道 | L3: 管理者名 | O3: 山口県岩国土木建築事務所 | V3: 太田 裕之
B5: 【覆工スパン毎の変状数, 変状規模】
B6: 覆工スパン | E6: 変 状 数 | Q6: 変 状 規 模
B7: 番号 | C7: 延長 （ｍ） | D7: 健全性の診断の 区分 | E7: 対策区分の判定※1 | Q7: 覆工スパン長（ｍ） | U7: 変状の発生範囲の規模（㎡）
E8: 外力 | I8: 材質劣化 | M8: 漏水 | Q8: 外力 注2 | U8: 材質劣化 | Y8: 漏水
E9: Ⅳ | F9: Ⅲ | G9: Ⅱa | H9: Ⅱb | I9: Ⅳ | J9: Ⅲ | K9: Ⅱa | L9: Ⅱb | M9: Ⅳ | N9: Ⅲ | O9: Ⅱa | P9: Ⅱb | Q9: Ⅳ | R9: Ⅲ | S9: Ⅱa | T9: Ⅱb | U9: Ⅳ | V9: Ⅲ | W9: Ⅱa | X9: Ⅱb | Y9: Ⅳ | Z9: Ⅲ | AA9: Ⅱa | AB9: Ⅱb
B10: ='様式D-3_PS'!$AV$5 -> PS | C10: ='様式D-3_PS'!$AW$5 -> 1.6 | D10: ='様式D-3_PS'!$AX$5 -> Ⅰ | E10: ='様式D-3_PS'!$AY$5 | F10: ='様式D-3_PS'!$AZ$5 | G10: ='様式D-3_PS'!$BA$5 | H10: ='様式D-3_PS'!$BB$5 | I10: ='様式D-3_PS'!$BC$5 -> 0 | J10: ='様式D-3_PS'!$BD$5 -> 0 | K10: ='様式D-3_PS'!$BE$5 -> 0 | L10: ='様式D-3_PS'!$BF$5 -> 0 | M10: ='様式D-3_PS'!$BG$5 -> 0 | N10: ='様式D-3_PS'!$BH$5 -> 0 | O10: ='様式D-3_PS'!$BI$5 -> 0 | P10: ='様式D-3_PS'!$BJ$5 -> 0 | Q10: ='様式D-3_PS'!$BK$5 | R10: ='様式D-3_PS'!$BL$5 | S10: ='様式D-3_PS'!$BM$5 | T10: ='様式D-3_PS'!$BN$5 | U10: ='様式D-3_PS'!$BO$5 -> 0 | V10: ='様式D-3_PS'!$BP$5 -> 0 | W10: ='様式D-3_PS'!$BQ$5 -> 0 | X10: ='様式D-3_PS'!$BR$5 -> 0 | Y10: ='様式D-3_PS'!$BS$5 -> 0 | Z10: ='様式D-3_PS'!$BT$5 -> 0 | AA10: ='様式D-3_PS'!$BU$5 -> 0 | AB10: ='様式D-3_PS'!$BV$5 -> 0
B11: ='様式D-3_S001'!$AV$5 -> 1 | C11: ='様式D-3_S001'!$AW$5 -> 4.4 | D11: ='様式D-3_S001'!$AX$5 -> Ⅱ | E11: ='様式D-3_S001'!$AY$5 | F11: ='様式D-3_S001'!$AZ$5 | G11: ='様式D-3_S001'!$BA$5 | H11: ='様式D-3_S001'!$BB$5 | I11: ='様式D-3_S001'!$BC$5 -> 0 | J11: ='様式D-3_S001'!$BD$5 -> 0 | K11: ='様式D-3_S001'!$BE$5 -> 0 | L11: ='様式D-3_S001'!$BF$5 -> 0 | M11: ='様式D-3_S001'!$BG$5 -> 0 | N11: ='様式D-3_S001'!$BH$5 -> 0 | O11: ='様式D-3_S001'!$BI$5 -> 0 | P11: ='様式D-3_S001'!$BJ$5 -> 2 | Q11: ='様式D-3_S001'!$BK$5 | R11: ='様式D-3_S001'!$BL$5 | S11: ='様式D-3_S001'!$BM$5 | T11: ='様式D-3_S001'!$BN$5 | U11: ='様式D-3_S001'!$BO$5 -> 0 | V11: ='様式D-3_S001'!$BP$5 -> 0 | W11: ='様式D-3_S001'!$BQ$5 -> 0 | X11: ='様式D-3_S001'!$BR$5 -> 0 | Y11: ='様式D-3_S001'!$BS$5 -> 0 | Z11: ='様式D-3_S001'!$BT$5 -> 0 | AA11: ='様式D-3_S001'!$BU$5 -> 0 | AB11: ='様式D-3_S001'!$BV$5 -> 2.5
B12: ='様式D-3_S002'!$AV$5 -> 2 | C12: ='様式D-3_S002'!$AW$5 -> 5.8 | D12: ='様式D-3_S002'!$AX$5 -> Ⅱ | E12: ='様式D-3_S002'!$AY$5 | F12: ='様式D-3_S002'!$AZ$5 | G12: ='様式D-3_S002'!$BA$5 | H12: ='様式D-3_S002'!$BB$5 | I12: ='様式D-3_S002'!$BC$5 -> 0 | J12: ='様式D-3_S002'!$BD$5 -> 0 | K12: ='様式D-3_S002'!$BE$5 -> 0 | L12: ='様式D-3_S002'!$BF$5 -> 0 | M12: ='様式D-3_S002'!$BG$5 -> 0 | N12: ='様式D-3_S002'!$BH$5 -> 0 | O12: ='様式D-3_S002'!$BI$5 -> 1 | P12: ='様式D-3_S002'!$BJ$5 -> 4 | Q12: ='様式D-3_S002'!$BK$5 | R12: ='様式D-3_S002'!$BL$5 | S12: ='様式D-3_S002'!$BM$5 | T12: ='様式D-3_S002'!$BN$5 | U12: ='様式D-3_S002'!$BO$5 -> 0 | V12: ='様式D-3_S002'!$BP$5 -> 0 | W12: ='様式D-3_S002'!$BQ$5 -> 0 | X12: ='様式D-3_S002'!$BR$5 -> 0 | Y12: ='様式D-3_S002'!$BS$5 -> 0 | Z12: ='様式D-3_S002'!$BT$5 -> 0 | AA12: ='様式D-3_S002'!$BU$5 -> 3.95 | AB12: ='様式D-3_S002'!$BV$5 -> 20.38
B13: ='様式D-3_S003'!$AV$5 -> 3 | C13: ='様式D-3_S003'!$AW$5 -> 5.8 | D13: ='様式D-3_S003'!$AX$5 -> Ⅱ | E13: ='様式D-3_S003'!$AY$5 | F13: ='様式D-3_S003'!$AZ$5 | G13: ='様式D-3_S003'!$BA$5 | H13: ='様式D-3_S003'!$BB$5 | I13: ='様式D-3_S003'!$BC$5 -> 0 | J13: ='様式D-3_S003'!$BD$5 -> 0 | K13: ='様式D-3_S003'!$BE$5 -> 0 | L13: ='様式D-3_S003'!$BF$5 -> 0 | M13: ='様式D-3_S003'!$BG$5 -> 0 | N13: ='様式D-3_S003'!$BH$5 -> 0 | O13: ='様式D-3_S003'!$BI$5 -> 1 | P13: ='様式D-3_S003'!$BJ$5 -> 6 | Q13: ='様式D-3_S003'!$BK$5 | R13: ='様式D-3_S003'!$BL$5 | S13: ='様式D-3_S003'!$BM$5 | T13: ='様式D-3_S003'!$BN$5 | U13: ='様式D-3_S003'!$BO$5 -> 0 | V13: ='様式D-3_S003'!$BP$5 -> 0 | W13: ='様式D-3_S003'!$BQ$5 -> 0 | X13: ='様式D-3_S003'!$BR$5 -> 0 | Y13: ='様式D-3_S003'!$BS$5 -> 0 | Z13: ='様式D-3_S003'!$BT$5 -> 0 | AA13: ='様式D-3_S003'!$BU$5 -> 0.15 | AB13: ='様式D-3_S003'!$BV$5 -> 48.15
B14: ='様式D-3_S004'!$AV$5 -> 4 | C14: ='様式D-3_S004'!$AW$5 -> 5.8 | D14: ='様式D-3_S004'!$AX$5 -> Ⅱ | E14: ='様式D-3_S004'!$AY$5 | F14: ='様式D-3_S004'!$AZ$5 | G14: ='様式D-3_S004'!$BA$5 | H14: ='様式D-3_S004'!$BB$5 | I14: ='様式D-3_S004'!$BC$5 -> 0 | J14: ='様式D-3_S004'!$BD$5 -> 0 | K14: ='様式D-3_S004'!$BE$5 -> 0 | L14: ='様式D-3_S004'!$BF$5 -> 1 | M14: ='様式D-3_S004'!$BG$5 -> 0 | N14: ='様式D-3_S004'!$BH$5 -> 0 | O14: ='様式D-3_S004'!$BI$5 -> 0 | P14: ='様式D-3_S004'!$BJ$5 -> 6 | Q14: ='様式D-3_S004'!$BK$5 | R14: ='様式D-3_S004'!$BL$5 | S14: ='様式D-3_S004'!$BM$5 | T14: ='様式D-3_S004'!$BN$5 | U14: ='様式D-3_S004'!$BO$5 -> 0 | V14: ='様式D-3_S004'!$BP$5 -> 0 | W14: ='様式D-3_S004'!$BQ$5 -> 0 | X14: ='様式D-3_S004'!$BR$5 -> 0.99 | Y14: ='様式D-3_S004'!$BS$5 -> 0 | Z14: ='様式D-3_S004'!$BT$5 -> 0 | AA14: ='様式D-3_S004'!$BU$5 -> 0 | AB14: ='様式D-3_S004'!$BV$5 -> 10.46
B15: ='様式D-3_S005'!$AV$5 -> 5 | C15: ='様式D-3_S005'!$AW$5 -> 5.8 | D15: ='様式D-3_S005'!$AX$5 -> Ⅱ | E15: ='様式D-3_S005'!$AY$5 | F15: ='様式D-3_S005'!$AZ$5 | G15: ='様式D-3_S005'!$BA$5 | H15: ='様式D-3_S005'!$BB$5 | I15: ='様式D-3_S005'!$BC$5 -> 0 | J15: ='様式D-3_S005'!$BD$5 -> 0 | K15: ='様式D-3_S005'!$BE$5 -> 0 | L15: ='様式D-3_S005'!$BF$5 -> 0 | M15: ='様式D-3_S005'!$BG$5 -> 0 | N15: ='様式D-3_S005'!$BH$5 -> 0 | O15: ='様式D-3_S005'!$BI$5 -> 0 | P15: ='様式D-3_S005'!$BJ$5 -> 3 | Q15: ='様式D-3_S005'!$BK$5 | R15: ='様式D-3_S005'!$BL$5 | S15: ='様式D-3_S005'!$BM$5 | T15: ='様式D-3_S005'!$BN$5 | U15: ='様式D-3_S005'!$BO$5 -> 0 | V15: ='様式D-3_S005'!$BP$5 -> 0 | W15: ='様式D-3_S005'!$BQ$5 -> 0 | X15: ='様式D-3_S005'!$BR$5 -> 0 | Y15: ='様式D-3_S005'!$BS$5 -> 0 | Z15: ='様式D-3_S005'!$BT$5 -> 0 | AA15: ='様式D-3_S005'!$BU$5 -> 0 | AB15: ='様式D-3_S005'!$BV$5 -> 5.3
B16: ='様式D-3_S006'!$AV$5 -> 6 | C16: ='様式D-3_S006'!$AW$5 -> 5.8 | D16: ='様式D-3_S006'!$AX$5 -> Ⅱ | E16: ='様式D-3_S006'!$AY$5 | F16: ='様式D-3_S006'!$AZ$5 | G16: ='様式D-3_S006'!$BA$5 | H16: ='様式D-3_S006'!$BB$5 | I16: ='様式D-3_S006'!$BC$5 -> 0 | J16: ='様式D-3_S006'!$BD$5 -> 0 | K16: ='様式D-3_S006'!$BE$5 -> 0 | L16: ='様式D-3_S006'!$BF$5 -> 0 | M16: ='様式D-3_S006'!$BG$5 -> 0 | N16: ='様式D-3_S006'!$BH$5 -> 0 | O16: ='様式D-3_S006'!$BI$5 -> 1 | P16: ='様式D-3_S006'!$BJ$5 -> 3 | Q16: ='様式D-3_S006'!$BK$5 | R16: ='様式D-3_S006'!$BL$5 | S16: ='様式D-3_S006'!$BM$5 | T16: ='様式D-3_S006'!$BN$5 | U16: ='様式D-3_S006'!$BO$5 -> 0 | V16: ='様式D-3_S006'!$BP$5 -> 0 | W16: ='様式D-3_S006'!$BQ$5 -> 0 | X16: ='様式D-3_S006'!$BR$5 -> 0 | Y16: ='様式D-3_S006'!$BS$5 -> 0 | Z16: ='様式D-3_S006'!$BT$5 -> 0 | AA16: ='様式D-3_S006'!$BU$5 -> 0.03 | AB16: ='様式D-3_S006'!$BV$5 -> 2.48
B17: ='様式D-3_S007'!$AV$5 -> 7 | C17: ='様式D-3_S007'!$AW$5 -> 5.8 | D17: ='様式D-3_S007'!$AX$5 -> Ⅱ | E17: ='様式D-3_S007'!$AY$5 | F17: ='様式D-3_S007'!$AZ$5 | G17: ='様式D-3_S007'!$BA$5 | H17: ='様式D-3_S007'!$BB$5 | I17: ='様式D-3_S007'!$BC$5 -> 0 | J17: ='様式D-3_S007'!$BD$5 -> 0 | K17: ='様式D-3_S007'!$BE$5 -> 1 | L17: ='様式D-3_S007'!$BF$5 -> 2 | M17: ='様式D-3_S007'!$BG$5 -> 0 | N17: ='様式D-3_S007'!$BH$5 -> 0 | O17: ='様式D-3_S007'!$BI$5 -> 0 | P17: ='様式D-3_S007'!$BJ$5 -> 3 | Q17: ='様式D-3_S007'!$BK$5 | R17: ='様式D-3_S007'!$BL$5 | S17: ='様式D-3_S007'!$BM$5 | T17: ='様式D-3_S007'!$BN$5 | U17: ='様式D-3_S007'!$BO$5 -> 0 | V17: ='様式D-3_S007'!$BP$5 -> 0 | W17: ='様式D-3_S007'!$BQ$5 -> 0.4 | X17: ='様式D-3_S007'!$BR$5 -> 0.19 | Y17: ='様式D-3_S007'!$BS$5 -> 0 | Z17: ='様式D-3_S007'!$BT$5 -> 0 | AA17: ='様式D-3_S007'!$BU$5 -> 0 | AB17: ='様式D-3_S007'!$BV$5 -> 7
B18: ='様式D-3_S008'!$AV$5 -> 8 | C18: ='様式D-3_S008'!$AW$5 -> 5.8 | D18: ='様式D-3_S008'!$AX$5 -> Ⅱ | E18: ='様式D-3_S008'!$AY$5 | F18: ='様式D-3_S008'!$AZ$5 | G18: ='様式D-3_S008'!$BA$5 | H18: ='様式D-3_S008'!$BB$5 | I18: ='様式D-3_S008'!$BC$5 -> 0 | J18: ='様式D-3_S008'!$BD$5 -> 0 | K18: ='様式D-3_S008'!$BE$5 -> 1 | L18: ='様式D-3_S008'!$BF$5 -> 3 | M18: ='様式D-3_S008'!$BG$5 -> 0 | N18: ='様式D-3_S008'!$BH$5 -> 0 | O18: ='様式D-3_S008'!$BI$5 -> 0 | P18: ='様式D-3_S008'!$BJ$5 -> 2 | Q18: ='様式D-3_S008'!$BK$5 | R18: ='様式D-3_S008'!$BL$5 | S18: ='様式D-3_S008'!$BM$5 | T18: ='様式D-3_S008'!$BN$5 | U18: ='様式D-3_S008'!$BO$5 -> 0 | V18: ='様式D-3_S008'!$BP$5 -> 0 | W18: ='様式D-3_S008'!$BQ$5 -> 0.22 | X18: ='様式D-3_S008'!$BR$5 -> 0.34 | Y18: ='様式D-3_S008'!$BS$5 -> 0 | Z18: ='様式D-3_S008'!$BT$5 -> 0 | AA18: ='様式D-3_S008'!$BU$5 -> 0 | AB18: ='様式D-3_S008'!$BV$5 -> 4.65
B19: ='様式D-3_S009'!$AV$5 -> 9 | C19: ='様式D-3_S009'!$AW$5 -> 5.8 | D19: ='様式D-3_S009'!$AX$5 -> Ⅱ | E19: ='様式D-3_S009'!$AY$5 | F19: ='様式D-3_S009'!$AZ$5 | G19: ='様式D-3_S009'!$BA$5 | H19: ='様式D-3_S009'!$BB$5 | I19: ='様式D-3_S009'!$BC$5 -> 0 | J19: ='様式D-3_S009'!$BD$5 -> 0 | K19: ='様式D-3_S009'!$BE$5 -> 0 | L19: ='様式D-3_S009'!$BF$5 -> 0 | M19: ='様式D-3_S009'!$BG$5 -> 0 | N19: ='様式D-3_S009'!$BH$5 -> 0 | O19: ='様式D-3_S009'!$BI$5 -> 0 | P19: ='様式D-3_S009'!$BJ$5 -> 1 | Q19: ='様式D-3_S009'!$BK$5 | R19: ='様式D-3_S009'!$BL$5 | S19: ='様式D-3_S009'!$BM$5 | T19: ='様式D-3_S009'!$BN$5 | U19: ='様式D-3_S009'!$BO$5 -> 0 | V19: ='様式D-3_S009'!$BP$5 -> 0 | W19: ='様式D-3_S009'!$BQ$5 -> 0 | X19: ='様式D-3_S009'!$BR$5 -> 0 | Y19: ='様式D-3_S009'!$BS$5 -> 0 | Z19: ='様式D-3_S009'!$BT$5 -> 0 | AA19: ='様式D-3_S009'!$BU$5 -> 0 | AB19: ='様式D-3_S009'!$BV$5 -> 2.95
B20: ='様式D-3_S010'!$AV$5 -> 10 | C20: ='様式D-3_S010'!$AW$5 -> 5.8 | D20: ='様式D-3_S010'!$AX$5 -> Ⅱ | E20: ='様式D-3_S010'!$AY$5 | F20: ='様式D-3_S010'!$AZ$5 | G20: ='様式D-3_S010'!$BA$5 | H20: ='様式D-3_S010'!$BB$5 | I20: ='様式D-3_S010'!$BC$5 -> 0 | J20: ='様式D-3_S010'!$BD$5 -> 0 | K20: ='様式D-3_S010'!$BE$5 -> 1 | L20: ='様式D-3_S010'!$BF$5 -> 0 | M20: ='様式D-3_S010'!$BG$5 -> 0 | N20: ='様式D-3_S010'!$BH$5 -> 0 | O20: ='様式D-3_S010'!$BI$5 -> 0 | P20: ='様式D-3_S010'!$BJ$5 -> 1 | Q20: ='様式D-3_S010'!$BK$5 | R20: ='様式D-3_S010'!$BL$5 | S20: ='様式D-3_S010'!$BM$5 | T20: ='様式D-3_S010'!$BN$5 | U20: ='様式D-3_S010'!$BO$5 -> 0 | V20: ='様式D-3_S010'!$BP$5 -> 0 | W20: ='様式D-3_S010'!$BQ$5 -> 0.55 | X20: ='様式D-3_S010'!$BR$5 -> 0 | Y20: ='様式D-3_S010'!$BS$5 -> 0 | Z20: ='様式D-3_S010'!$BT$5 -> 0 | AA20: ='様式D-3_S010'!$BU$5 -> 0 | AB20: ='様式D-3_S010'!$BV$5 -> 3.85
B21: ='様式D-3_S011'!$AV$5 -> 11 | C21: ='様式D-3_S011'!$AW$5 -> 5.9 | D21: ='様式D-3_S011'!$AX$5 -> Ⅱ | E21: ='様式D-3_S011'!$AY$5 | F21: ='様式D-3_S011'!$AZ$5 | G21: ='様式D-3_S011'!$BA$5 | H21: ='様式D-3_S011'!$BB$5 | I21: ='様式D-3_S011'!$BC$5 -> 0 | J21: ='様式D-3_S011'!$BD$5 -> 0 | K21: ='様式D-3_S011'!$BE$5 -> 0 | L21: ='様式D-3_S011'!$BF$5 -> 0 | M21: ='様式D-3_S011'!$BG$5 -> 0 | N21: ='様式D-3_S011'!$BH$5 -> 0 | O21: ='様式D-3_S011'!$BI$5 -> 2 | P21: ='様式D-3_S011'!$BJ$5 -> 1 | Q21: ='様式D-3_S011'!$BK$5 | R21: ='様式D-3_S011'!$BL$5 | S21: ='様式D-3_S011'!$BM$5 | T21: ='様式D-3_S011'!$BN$5 | U21: ='様式D-3_S011'!$BO$5 -> 0 | V21: ='様式D-3_S011'!$BP$5 -> 0 | W21: ='様式D-3_S011'!$BQ$5 -> 0 | X21: ='様式D-3_S011'!$BR$5 -> 0 | Y21: ='様式D-3_S011'!$BS$5 -> 0 | Z21: ='様式D-3_S011'!$BT$5 -> 0 | AA21: ='様式D-3_S011'!$BU$5 -> 0.28 | AB21: ='様式D-3_S011'!$BV$5 -> 3.9
B22: ='様式D-3_S012'!$AV$5 -> 12 | C22: ='様式D-3_S012'!$AW$5 -> 5.8 | D22: ='様式D-3_S012'!$AX$5 -> Ⅱ | E22: ='様式D-3_S012'!$AY$5 | F22: ='様式D-3_S012'!$AZ$5 | G22: ='様式D-3_S012'!$BA$5 | H22: ='様式D-3_S012'!$BB$5 | I22: ='様式D-3_S012'!$BC$5 -> 0 | J22: ='様式D-3_S012'!$BD$5 -> 0 | K22: ='様式D-3_S012'!$BE$5 -> 1 | L22: ='様式D-3_S012'!$BF$5 -> 0 | M22: ='様式D-3_S012'!$BG$5 -> 0 | N22: ='様式D-3_S012'!$BH$5 -> 0 | O22: ='様式D-3_S012'!$BI$5 -> 0 | P22: ='様式D-3_S012'!$BJ$5 -> 3 | Q22: ='様式D-3_S012'!$BK$5 | R22: ='様式D-3_S012'!$BL$5 | S22: ='様式D-3_S012'!$BM$5 | T22: ='様式D-3_S012'!$BN$5 | U22: ='様式D-3_S012'!$BO$5 -> 0 | V22: ='様式D-3_S012'!$BP$5 -> 0 | W22: ='様式D-3_S012'!$BQ$5 -> 0.01 | X22: ='様式D-3_S012'!$BR$5 -> 0 | Y22: ='様式D-3_S012'!$BS$5 -> 0 | Z22: ='様式D-3_S012'!$BT$5 -> 0 | AA22: ='様式D-3_S012'!$BU$5 -> 0 | AB22: ='様式D-3_S012'!$BV$5 -> 28.73
B23: ='様式D-3_S013'!$AV$5 -> 13 | C23: ='様式D-3_S013'!$AW$5 -> 4.4 | D23: ='様式D-3_S013'!$AX$5 -> Ⅱ | E23: ='様式D-3_S013'!$AY$5 | F23: ='様式D-3_S013'!$AZ$5 | G23: ='様式D-3_S013'!$BA$5 | H23: ='様式D-3_S013'!$BB$5 -> 1 | I23: ='様式D-3_S013'!$BC$5 -> 0 | J23: ='様式D-3_S013'!$BD$5 -> 0 | K23: ='様式D-3_S013'!$BE$5 -> 0 | L23: ='様式D-3_S013'!$BF$5 -> 0 | M23: ='様式D-3_S013'!$BG$5 -> 0 | N23: ='様式D-3_S013'!$BH$5 -> 0 | O23: ='様式D-3_S013'!$BI$5 -> 0 | P23: ='様式D-3_S013'!$BJ$5 -> 1 | Q23: ='様式D-3_S013'!$BK$5 | R23: ='様式D-3_S013'!$BL$5 | S23: ='様式D-3_S013'!$BM$5 | T23: ='様式D-3_S013'!$BN$5 -> 4.4 | U23: ='様式D-3_S013'!$BO$5 -> 0 | V23: ='様式D-3_S013'!$BP$5 -> 0 | W23: ='様式D-3_S013'!$BQ$5 -> 0 | X23: ='様式D-3_S013'!$BR$5 -> 0 | Y23: ='様式D-3_S013'!$BS$5 -> 0 | Z23: ='様式D-3_S013'!$BT$5 -> 0 | AA23: ='様式D-3_S013'!$BU$5 -> 0 | AB23: ='様式D-3_S013'!$BV$5 -> 3.55
B24: ='様式D-3_PE'!$AV$5 -> PE | C24: ='様式D-3_PE'!$AW$5 -> 1.1 | D24: ='様式D-3_PE'!$AX$5 -> Ⅰ | E24: ='様式D-3_PE'!$AY$5 | F24: ='様式D-3_PE'!$AZ$5 | G24: ='様式D-3_PE'!$BA$5 | H24: ='様式D-3_PE'!$BB$5 | I24: ='様式D-3_PE'!$BC$5 -> 0 | J24: ='様式D-3_PE'!$BD$5 -> 0 | K24: ='様式D-3_PE'!$BE$5 -> 0 | L24: ='様式D-3_PE'!$BF$5 -> 0 | M24: ='様式D-3_PE'!$BG$5 -> 0 | N24: ='様式D-3_PE'!$BH$5 -> 0 | O24: ='様式D-3_PE'!$BI$5 -> 0 | P24: ='様式D-3_PE'!$BJ$5 -> 0 | Q24: ='様式D-3_PE'!$BK$5 | R24: ='様式D-3_PE'!$BL$5 | S24: ='様式D-3_PE'!$BM$5 | T24: ='様式D-3_PE'!$BN$5 | U24: ='様式D-3_PE'!$BO$5 -> 0 | V24: ='様式D-3_PE'!$BP$5 -> 0 | W24: ='様式D-3_PE'!$BQ$5 -> 0 | X24: ='様式D-3_PE'!$BR$5 -> 0 | Y24: ='様式D-3_PE'!$BS$5 -> 0 | Z24: ='様式D-3_PE'!$BT$5 -> 0 | AA24: ='様式D-3_PE'!$BU$5 -> 0 | AB24: ='様式D-3_PE'!$BV$5 -> 0
B44: 計 | E44: =SUM(E10:E43) -> 0 | F44: =SUM(F10:F43) -> 0 | G44: =SUM(G10:G43) -> 0 | H44: =SUM(H10:H43) -> 1 | I44: =SUM(I10:I43) -> 0 | J44: =SUM(J10:J43) -> 0 | K44: =SUM(K10:K43) -> 4 | L44: =SUM(L10:L43) -> 6 | ... AB44: =SUM(AB10:AB43) -> 143.9
G45: =G44+H44 -> 1 | K45: =K44+L44 -> 10 | O45: =O44+P44 -> 41
B46: 注１：外力は覆工スパン単位で診断するため、覆工スパンの中で最も評価の厳しい健全性の診断の区分欄にのみスパン数1を、材質劣化、漏水はそれぞれの対策区分に変状数を記入すること。
B47: 注２：外力は覆工スパン単位で診断するため、覆工スパンの中で最も評価の厳しい健全性の診断の区分欄にのみスパン長を記入すること。
B48: ※１：本様式は様式D‐3の集計結果を掲載すること。
B49: ※２：覆工スパン数が多い場合は、適時、表の行を増やしてトンネル毎に1枚のシートに収めること。
B50: ※３：本様式の集計結果に基づいて、様式Bのトンネル本体工における変状区分毎の対策区分の箇所を記載する。

Sheet 様式G
B2: ■定期点検記録様式 健全性の診断の区分に関する所見【様式G】 | U2: 施設ID | X2: 34.29094,131.95150
B3: フリガナ | E3: (ﾋｴﾊﾞﾗﾀﾞｲｲﾁｽﾞｲﾄﾞｳ) | I3: 路線名 | L3: 一般国道187号 | O3: 定期点検実施者 | R3: 応用地質（株） | U3: 定期点検年月日 | X3: 45840
B4: 名 称 | E4: 稗原第1隧道 | I4: 管理者名 | L4: 山口県岩国土木建築事務所 | R4: 太田 裕之
B5: 道路トンネルの健全性の診断の区分の所見
B6: 本トンネルの健全性の診断の区分はⅡである（材質劣化Ⅱaおよび漏水Ⅱa） １）変状・異常の内容とそれが確認された部材・部位（客観的事実） ・外力：覆工アーチにおいて、圧ざ、ひび割れで監視が必要な変状が1箇所で確認された（Ⅱb判定） ・材質劣化：覆工アーチ、横断目地において、うき・はく離、補修・補強材の破損で重点的な監視が必要な変状が4箇所で確認された（Ⅱa判定） 覆工アーチ、横断目地において、うき・はく離、その他（遺物混入）で監視が必要な変状が6箇所で確認された（Ⅱb判定） ・漏水：覆工アーチ、横断目地において、漏水（滴水）、補修・補強材の破損の変状が5箇所で確認された（Ⅱa判定） 覆工アーチおよび側壁、横断目地において、漏水（にじみ）、軽微な補修・補強材の破損の変状が36箇所で確認された（Ⅱb判定） ２）変状等の原因（推定） ・外力：圧ざ、ひび割れは、土圧の作用が原因と推定する ・材質劣化：うき・はく離は、覆工コンクリートの温度変化に伴う膨張・収縮が原因と推定する 補修・補強材の破損は、施工起因および車両接触が原因と推定する ・漏水：漏水（滴水、にじみ）は、地山からの地下水の影響が原因と推定する 補修・補強材の破損は、経年劣化が原因と推定する ３）施設の現状と次回定期点検まで及び将来における構造物の状態（推定） ・道路トンネル構造物としての安全性や安定の推定： 外力変形が1箇所で確認されたが、建設後相当の年数が経過しており、安全性や安定に及ぼす影響は小さいと推定する ・該当する特定事象の状態も勘案した、予防保全の必要性や長寿命化の実現などの観点から経年的劣化に対する評価： 特定事象との関連性はないが、建設後相当の年数が経過しており、今後、経年劣化により変状が進行すると推定する ・道路利用者被害の発生の可能性： いずれの変状も次回点検まで同様の状態で推移し、次回定期点検までに道路利用者被害が発生する可能性は小さいと推定する ４）措置の必要性の判断に関わる事項 ・道路トンネルの状態に関する技術的な観点での所見及び道路トンネルの置かれる状況も勘案して、健全性の診断の区分の決定に考慮された 措置の必要性に関する技術的観点からの見解： 材質劣化および漏水Ⅱaの変状は、予防保全の観点から計画的に補修を行う必要があると判断する ・措置の緊急性の有無： 直ちに道路利用者被害が発生する状態ではないため、措置の緊急性は無いと判断する ・状態の把握により得た情報の精度に基づく構造物としての安全性や安定、耐久性などの見込み違いの可能性など、詳細調査や追跡調査の必要性の有無： 外力の変状は、次回定期点検で進行が確認された場合は、詳細調査が必要と判断する 材質劣化の変状は、変状原因が把握できていることから、詳細調査の必要は無いと判断する 漏水の変状は、多量降雨後の追跡調査が必要と判断する ５）その他、次回定期点検へ引き継ぐ事項等 ・特になし

Sheet (参考)リスト
B4: 様式A～B
B5: トンネルの分類 | C5: トンネル工法 | D5: 自専道or一般道 | E5: 緊急輸送路 | F5: 代替路
B6: 陸上トンネル（掘進工法） | C6: 山岳トンネル工法（NATM） | D6: 自専道 | E6: 一次 | F6: 有
B7: 陸上トンネル（開削工法） | C7: 矢板工法 | D7: 一般道 | E7: 二次 | F7: 無
B8: 陸上トンネル（その他） | C8: 開削工法 | E8: 三次
B9: 水底トンネル（掘進工法） | C9: シールド工法 | E9: 市町村指定
B10: 水底トンネル（沈埋工法） | C10: その他 | E10: 指定なし
B11: 水底トンネル（開削工法） | C11: 不明
B12: 水底トンネル（その他）
B14: 様式C-1-1(本体工)、C-2、D-1-1、D-3
B15: 対象箇所 | C15: 部位区分 | D15: 変状区分 | E15: 変状種類 | F15: 対策区分 | G15: 健全性 | H15: 調査の要否 | I15: 措置の要否 | J15: 実施有無
B16: 覆工 | C16: アーチ（右側） | D16: 外力 | E16: 圧ざ、ひび割れ | F16: Ⅰ | G16: Ⅰ | H16: 要 | I16: 要監視 | J16: 未
B17: 坑門 | C17: アーチ（左側） | D17: 材質劣化 | E17: うき・はく離 | F17: Ⅱa | G17: Ⅱ | H17: 否 | I17: 要対策 | J17: 済
B18: 内装板 | C18: アーチ（天端） | D18: 漏水 | E18: 鋼材腐食 | F18: Ⅱb | G18: Ⅲ | I18: 否 | J18: 継続
B19: 天井板 | C19: アーチ（全周） | E19: 変形・移動 | F19: Ⅲ | G19: Ⅳ
B20: 路面 | C20: 側壁（右側） | E20: 沈下 | F20: Ⅳ | G20: －
B21: その他 | C21: 側壁（左側） | E21: 隆起 | F21: －
C22: 横断目地（右側） | E22: 巻厚の不足または減少、背面空洞
C23: 横断目地（左側） | E23: 補修・補強材の破損
C24: 横断目地（天端） | E24: 漏水
C25: 横断目地（全周） | E25: 滞水
C26: 水平打ち継ぎ目（右側） | E26: 土砂流出
C27: 水平打ち継ぎ目（左側） | E27: その他
C28: 面壁・妻壁等
C29: その他
C31: 面壁・妻壁等
C32: その他
C34: 側壁
C35: その他
C37: 車道側
C38: ダクト側
C39: その他
C41: 車道
C42: 歩道
C43: 監査歩路
... C47: その他
B50: 様式C-1-2（附属物）、D-1-2
B51: 施設の内訳 | C51: 対象箇所 | D51: 部位区分 | E51: 異常の種類 | F51: 異常判定区分 | G51: 実施有無
B52: 照明施設 | C52: 灯具 | D52: 附属物本体 | E52: 破断 | F52: ○ | G52: 未
B53: 換気施設 | C53: ケーブル類 | D53: 取付部材 | E53: 緩み、脱落 | F53: × | G53: 済
B54: 非常用施設 | C54: ケーブル本体以外 | D54: ボルト・ナット，アンカー類 | E54: 亀裂 | G54: 継続
B55: その他施設 | E55: 腐食
C56: ジェットファン | E56: 変形，欠損
C57: VI計 | E57: がたつき
C58: CO計 | E58: その他
C59: 風向風速計
C60: その他
C62: 通話型通報設備
C63: 操作型通報設備
C64: 自動通報設備
C65: 非常警報設備
C66: 点 滅 灯
C67: 音信号発生器
C68: 消 火 器
C69: 消火栓設備
C70: 誘導表示施設
C71: 避難情報提供設備
... C83: その他
