Workbook
Name その他: '(参考)リスト'!$C$47
Name その他施設: '[1](参考)リスト'!#REF!
Name その他施設: '(参考)リスト'!$C$79:$C$83
Name 換気施設: '[1](参考)リスト'!#REF!
Name 換気施設: '(参考)リスト'!$C$56:$C$60
Name 坑門: '(参考)リスト'!$C$31:$C$32
Name 照明施設: '[1](参考)リスト'!#REF!
Name 照明施設: '(参考)リスト'!$C$52:$C$54
Name 対象箇所: [2]!テーブル1[対象箇所]
Name 天井板: '(参考)リスト'!$C$37:$C$39
Name 内装板: '(参考)リスト'!$C$34:$C$35
Name 非常用施設: '[1](参考)リスト'!#REF!
Name 非常用施設: '(参考)リスト'!$C$62:$C$77
Name 覆工: '(参考)リスト'!$C$16:$C$29
Name 路面: '(参考)リスト'!$C$41:$C$45

Sheet 点検様式作成フロー
A1: 点検様式作成フロ-
A3: 作成フロー図 | H3: 点検調書作成手順
H4: ①様式A-1～A-3（トンネル台帳）
H5: トンネル点検の実施にあたっては，現場点検作業に先行してトンネル情報を収集する。トンネル台帳（様式Ａ－1～様式Ａ－3）はトンネル完成後に作成され，維持管理の段階で引き継がれるが，関連資料等を確認したうえで，追加情報があれば必要に応じて追記することが望ましい。
H9: ②様式D-2-1、様式D-2-1´
H10: 現場点検作業を実施し，近接目視点検で確認した変状状況や補修履歴を忠実に変状展開図に転記する。
H12: ③様式D-1-1、様式D-1-2
H13: 変状展開図や撮影した写真等をもとに，対象トンネルの対策区分を決定し，対策区分がⅡ～Ⅳの変状および異常判定区分「×」を抽出し，写真台帳を作成する。
H16: ④様式B
H17: 写真台帳の作成と同時に，トンネルの構造を展開した位置図に変状写真位置を記録する。
H19: ⑤様式D-3
H20: 変状展開図ならびに写真台帳をもとに覆工スパンごとの変状展開図を作成し，変状発生状況をとりまとめる。
H22: ⑥様式E
H23: 近接目視または打音検査，触診ができていない箇所および近接目視によらない方法を講じた場所に対する調査結果を記録する。
... H33: すること。 ※各ファイルとも （参考）リスト のシートを付けて保存すること。

Sheet 変状面積算出方法
A1: 変状面積算出方法
A26: 注1）外力による変状：ひび割れや圧ざの場合は変状の寸法を記録する。
A27: 例）ひび割れ：長さ（L）×最大ひび割れ幅（t）を記録する。 変形，移動，沈下：数値的な記載が可能な場合のみ記載する。
A28: 注2）材料劣化による：打音異常
A29: 例）うき，はく離（閉合ひび割れ）：変状範囲を包括する寸法（L×W） うき，はく離（ひび割れ沿い）：打音異常箇所を包括する寸法（L×W） 鋼材腐食（鉄筋腐食）：一括した対策が適当と考えられる範囲を包括する寸法（L×W）
A30: 注3）漏水による変状：漏水発生範囲を包括し，垂れ下がりの可能性がある側壁下端まで含めた寸法を，L×Wで記録する。打継ぎ目地沿いの 漏水については目地を跨いだ50cm幅を横幅とする。

Sheet 記入の留意点
B2: トンネルDBでは、Excelに記載された文字や数値・配置された画像を自動的に読込みデータベースへ登録します。
B3: 記録様式へ記入の留意点を下記に示します。
B5: １．記録様式への記入
C6: ➤各セルに表示されるコメントに従って、様式A-1～様式Gのシートに、点検結果（テキスト入力、選択項目）を入力してください。
C7: ➤位置図(様式B)、変状写真(様式D-1-1)、異常写真(様式D-1-2)は記入した変状写真番号等に対応した画像を間違いないように貼り付けてください。
C8: ➤列や行の挿入削除は行わず、セルの位置がずれないようにしてください。データベースへ読み取り時にずれて取り込まれてしまいます。
B11: ２．画像ファイルの配置の注意点
C12: 登録に使用可能な画像ファイルの拡張子は「jpg」「jpeg」「png」の3種類のみです。
C13: 必ず、１か所に画像１枚のみを張り付けてください。エクセルの図形などのオブジェクトは使用しないでください。
C14: 張り付けた画像はエクセルのトリミング機能を使用しないでください。あらかじめ切り抜いた画像を利用してください。
C15: ※１ 画像の左上を必ずセルの内部に含め、はみ出ないようにしてください。
C16: ※２ 図の書式設定で「セルに合わせて移動やサイズを変更しない」のモードを使用しないでください。
C32: ※３ 「挿入」→「画像」→「セルの上に配置」してください。
B41: ３．シート名の連番について
C42: １ページに記載しきれない場合は、１シート内にページを増やすのではなくシート自体をコピーしシート名の末尾を連番にしてください。
C43: 対象様式
C44: 様式B
C45: 様式D-1-1
C46: 様式D-1-2
C47: 様式D-2-1
C48: 様式D-2-1´
C49: 様式D-3_S00 ※スパン名を記載
C50: 様式G
C52: 末尾の連番の形式例
C53: 様式B(1) 様式B(2) 様式B(3)
C54: 様式B_001 様式B_002 様式B_003
... C61: で示される要領を制限するものではありません。

Sheet 様式A-1
B2: ■トンネル台帳 トンネル諸元、非常用施設諸元 【様式A-1】 | S2: 施設ID | W2: 34.22397,131.30972
B3: フリガナ | D3: アキヨシトンネル | H3: 路線名 | J3: 一般県道 秋吉台公園線 | P3: 管理者名 | R3: 山口県宇部土木建築事務所 | W3: 緊急輸送道路 | Z3: 指定なし
B4: 名 称 | D4: 秋吉トンネル | W4: 代替路の有無 | Z4: 有
B5: 所在地 | D5: 自 | E5: 山口県美祢市秋吉町 | H5: 作成者 | K5: アジア航測株式会社 飯田 琢巳 | P5: 作成年月日 | R5: 46080 | U5: トンネル延長 | X5: L= | Z5: 230 | AB5: ｍ
D6: 至 | E6: 山口県美祢市秋吉町 | U6: ﾄﾝﾈﾙの分類 | X6: 陸上トンネル（掘進工法）
B7: 起点 | C7: 緯度 | E7: 34.22397 | H7: 完成年月日 | K7: 1993年 | M7: 舗装 | O7: 種 別 | Q7: コンクリート系 | S7: トンネル非常用施設 | T7: 施設の内訳 | X7: 種別・方式 | Y7: 型式 | Z7: 個数 | AA7: 更新年度
C8: 経度 | E8: 131.30972 | H8: 供用年月日 | K8: - | O8: 厚 さ | Q8: - | T8: 通報設備 | U8: 通話型通報設備
B9: 終点 | C9: 緯度 | E9: 34.22391 | H9: トンネル区分 | K9: Ｄ | O9: 面 積 | Q9: 1240.8㎡ | U9: 操作型通報設備
C10: 経度 | E10: 131.30972 | H10: 内装種類 | K10: 覆工（内装なし） | O10: 更新年次 | Q10: - | U10: 自動通報設備
B11: 一般有料区分 | E11: 一般(無料) | H11: 天井板種類 | K11: 覆工（内装なし） | M11: 排水 | O11: 種 別 | Q11: Ｌ型街渠側溝 | T11: 警報設備 | U11: 非常警報設備
B12: 土かぶり | E12: - | G12: m | H12: 坑門 | I12: 起点 | J12: 形式 | K12: 面壁型 | O12: 更新年次 | Q12: - | T12: 消火設備 | U12: 消 火 器
B13: 内空断面積 | E13: - | G13: ㎡ | J13: 延長 | K13: 1.3 | L13: m | M13: 施設 | P13: 種別・方式 | Q13: 個数 | R13: 更新年次 | U13: 消火栓設備
B14: 交 通 量 | E14: - | G14: 台/日 | I14: 終点 | J14: 形式 | K14: 面壁型 | M14: 道路附属物等 | N14: 照明 | P14: LED | Q14: 46 | R14: - | T14: 避難誘導設備 | U14: 誘導表示設備
C15: 道 路 幅 | E15: 10.55 | G15: m | J15: 延長 | K15: 1.3 | L15: m | N15: 換気 | P15: 自然換気 | Q15: - | R15: - | U15: 避難情報提供設備
B16: 幅 員 | C16: 車 道 幅 | E16: 3.5 | G16: m | H16: 竣工巻厚 | I16: アーチ | K16: - | L16: cm | N16: 標識 | P16: - | Q16: - | R16: -
E17: 3.5 | G17: m | I17: 側 壁 | K17: - | L17: cm | N17: 警報表示板 | P17: - | Q17: - | R17: - | U17: 避難通路
C18: 歩道等幅 | E18: 3.55 | G18: m | K18: - | L18: cm | N18: 吸音板 | P18: - | Q18: - | R18: - | U18: 排煙設備
B19: 高さ | C19: 建築限界高 | E19: 4.5 | G19: m | I19: インバート | K19: - | L19: cm | T19: その他の設備 | U19: 給水栓設備
C20: 中央高 | E20: - | G20: m | H20: 半径 | I20: アーチ | K20: - | L20: cm | U20: 無線通信補助設備
C21: 有効高 | E21: - | G21: m | I21: 側 壁 | K21: - | L21: cm | U21: 水噴霧設備
C22: 縦断勾配 | E22: - | I22: インバート | K22: - | L22: cm | U22: 監視設備
B23: 線 形 | C23: 直線区間長 | E23: - | H23: 占用物件 | I23: 種 類 | K23: 寸 法 | M23: 管理者名 | Q23: 更新年次 | S23: 非常用施設 関連設備 | U23: 予備発電設備
C24: 曲線区間 | D24: 区間長 | F24: -
D25: 起点側ｸﾛｿｲﾄﾞ | F25: -
D26: 曲線半径 | F26: -
D27: 終点側ｸﾛｿｲﾄﾞ | F27: - | S27: その他 | U27: 非常駐車帯
B28: トンネル工法 | E28: 山岳トンネル工法（NATM） | U28: 方向転換所
C29: ※緯度・経度については、秒の小数第二位の単位まで記入すること。

Sheet 様式A-2
B3: ■トンネル台帳 トンネル情報一覧表 【様式A-2】
B4: フリガナ | E4: アキヨシトンネル | J4: 路線名 | M4: 一般県道 秋吉台公園線 | S4: 作成者 | Y4: アジア航測株式会社 飯田 琢巳 | AE4: 作成年月日 | AI4: 46080
B5: 名 称 | E5: 秋吉トンネル | J5: 管理者名 | M5: 山口県宇部土木建築事務所
B6: 覆工 ｽﾊﾟﾝ 番号 | C6: ｽﾊﾟﾝ長 | D6: 追加距離 | F6: トンネル本体工 | K6: 照明施設 | O6: 非常用施設 | AE6: 換気施設 | AK6: その他附属物等
O7: 通報設備 | R7: 警報設備 | S7: 消火設備 | U7: 避難誘導設備 | Y7: その他の設備 | AC7: 特記事項
D8: 起点側 | E8: 終点側 | F8: 特記事項 | I8: 内装板 | J8: 天井板 | K8: 基本照明 | L8: 入口出口照明 | M8: 特記事項 | O8: 通話型通報設備 | P8: 操作型通報設備 | Q8: 自動通報設備 | R8: 非常警報設備 | S8: 消 火 器 | T8: 消火栓設備 | U8: 誘導表示設備 | V8: 避難情報提供設備 | W8: 避難通路 | X8: 排煙設備 | Y8: 給水栓設備 | Z8: 無線通信補助設備 | AA8: 水噴霧設備 | AB8: 監視設備 | AE8: JF | AF8: VI計 | AG8: CO計 | AH8: 風向 風速計 | AI8: 特記事項
C9: (m) | D9: (m) | E9: (m)
B10: PS | C10: 1.3 | D10: 0 | E10: =C10+D10 -> 1.3
B11: S1 | C11: 10.5 | D11: =E10 -> 1.3 | E11: =C11+E10 -> 11.8 | K11: ○ | L11: ○
B12: S2 | C12: 10.45 | D12: =E11 -> 11.8 | E12: =C12+E11 -> 22.25
B13: S3 | C13: 10.45 | D13: =E12 -> 22.25 | E13: =C13+E12 -> 32.7 | K13: ○ | L13: ○
B14: S4 | C14: 10.5 | D14: =E13 -> 32.7 | E14: =C14+E13 -> 43.2 | K14: ○
B15: S5 | C15: 10.3 | D15: =E14 -> 43.2 | E15: =C15+E14 -> 53.5 | K15: ○
B16: S6 | C16: 10.3 | D16: =E15 -> 53.5 | E16: =C16+E15 -> 63.8 | K16: ○ | L16: ○
B17: S7 | C17: 10.45 | D17: =E16 -> 63.8 | E17: =C17+E16 -> 74.25 | K17: ○
B18: S8 | C18: 10.45 | D18: =E17 -> 74.25 | E18: =C18+E17 -> 84.7 | L18: ○
B19: S9 | C19: 10.45 | D19: =E18 -> 84.7 | E19: =C19+E18 -> 95.15 | K19: ○
B20: S10 | C20: 10.4 | D20: =E19 -> 95.15 | E20: =C20+E19 -> 105.55 | K20: ○ | L20: ○
B21: S11 | C21: 10.45 | D21: =E20 -> 105.55 | E21: =C21+E20 -> 116 | K21: ○
B22: S12 | C22: 10.3 | D22: =E21 -> 116 | E22: =C22+E21 -> 126.3 | K22: ○
B23: S13 | C23: 10.25 | D23: =E22 -> 126.3 | E23: =C23+E22 -> 136.55 | K23: ○ | L23: ○
B24: S14 | C24: 10.25 | D24: =E23 -> 136.55 | E24: =C24+E23 -> 146.8 | K24: ○
B25: S15 | C25: 10.25 | D25: =E24 -> 146.8 | E25: =C25+E24 -> 157.05 | L25: ○
B26: S16 | C26: 10.35 | D26: =E25 -> 157.05 | E26: =C26+E25 -> 167.4 | K26: ○
B27: S17 | C27: 10.35 | D27: =E26 -> 167.4 | E27: =C27+E26 -> 177.75 | K27: ○ | L27: ○
B28: S18 | C28: 10.3 | D28: =E27 -> 177.75 | E28: =C28+E27 -> 188.05 | K28: ○
B29: S19 | C29: 10.25 | D29: =E28 -> 188.05 | E29: =C29+E28 -> 198.3 | K29: ○
B30: S20 | C30: 10.3 | D30: =E29 -> 198.3 | E30: =C30+E29 -> 208.6 | K30: ○ | L30: ○
B31: S21 | C31: 10.25 | D31: =E30 -> 208.6 | E31: =C31+E30 -> 218.85
B32: S22 | C32: 10.3 | D32: =E31 -> 218.85 | E32: =C32+E31 -> 229.15 | K32: ○ | L32: ○
B33: PE | C33: 1.3 | D33: =E32 -> 229.15 | E33: =C33+E32 -> 230.45
B45: ※ 行が不足する場合は、適時、表の行を増やすこと。

Sheet 様式A-3
B3: ■トンネル台帳 トンネル記録（位置図、断面図、施工実績他）【様式A-3】
B4: フリガナ | E4: アキヨシトンネル | J4: 路線名 | M4: 一般県道 秋吉台公園線 | S4: 作成者 | W4: アジア航測株式会社 飯田 琢巳 | AC4: 作成年月日 | AF4: 46080
B5: 名 称 | E5: 秋吉トンネル | J5: 管理者名 | M5: 山口県宇部土木建築事務所
B6: 位置図・現況写真・標準断面図・地質縦断図・施工実績

Sheet 様式B (1)
B2: ■定期点検記録様式 トンネル変状・異常箇所写真位置図 【様式B】 | N2: 定期点検年月日 | P2: 45929 | S2: 施設ID | V2: 34.22397,131.30972
B3: フリガナ | C3: アキヨシトンネル | G3: 路線名 | H3: 一般県道 秋吉台公園線 | K3: 管理者名 | L3: 山口県宇部土木建築事務所 | Q3: 定期点検実施者 | S3: アジア航測株式会社 | V3: 起点 | W3: 緯度 | X3: 34.22397
B4: 名 称 | C4: 秋吉トンネル | S4: 飯田 琢巳 | W4: 経度 | X4: 131.30972
B5: 所在地 | C5: 自 | D5: 山口県美祢市秋吉町 | G5: トンネル工法 | I5: 山岳トンネル工法（NATM） | L5: トンネル延長 | N5: L= | O5: 230 | P5: ｍ | Q5: 自専道 or 一般道 | R5: 一般道 | S5: 代替路の有無 | U5: 有 | V5: 終点 | W5: 緯度 | X5: 34.22391
C6: 至 | D6: 山口県美祢市秋吉町 | G6: 建設年度 | I6: 1993年 | L6: 幅員 | N6: L= | O6: 10.6 | P6: ｍ | S6: 緊急輸送道路 | U6: 指定なし | W6: 経度 | X6: 131.30972
B7: トンネル毎 の健全性の 診断の区分 | D7: Ⅱ
G8: 変状・異常 箇所数合計 | I8: トンネル本体工 | J8: 材質劣化 | K8: Ⅱ | L8: 44 | N8: Ⅲ | O8: 0 | Q8: Ⅳ | R8: 0 | T8: 附属物等 の取付状態 | V8: ◯ （応急措置後) | X8: 46
J9: 漏水 | K9: Ⅱ | L9: 9 | N9: Ⅲ | O9: 0 | Q9: Ⅳ | R9: 0
V10: ✕ | X10: 3
J11: 外力 | K11: Ⅱ | L11: 0 | N11: Ⅲ | O11: 0 | Q11: Ⅳ | R11: 0
B12: トンネル変状・異常箇所写真位置図
J29: 注１：本位置図は、見下げた状態で記載すること。 注２：覆工スパン番号は横断目地毎(矢板工法の場合は上半アーチの 横断目地毎)に設定すること。 | Q29: 注３：写真番号に付する変状番号は、各覆工スパンの変状に対して新たに確認された場合 は順次追加していくこと。 注４：横断目地の変状は前の覆工スパン番号で計上すること。 注５：１枚に収まらない場合は、複数枚に分けて作成すること。
C30: ※1 トンネル本体工の変状数は、材質劣化、漏水に起因するものは変状単位で、外力に起因するものはスパン単位で計上すること。
C31: ※2 トンネル本体工の変状に対しては、措置の必要性（Ⅱ～Ⅳ）について表記すること。また、点検前に実施された措置によりⅠと判定された箇所についても記載すること。
C32: ※3 附属物等の取付状態の○欄については、応急措置前に判定区分×とした箇所のうち応急措置により○判定とした箇所の数を記入すること。
C33: ※4 附属物等の異常番号は、本体工と番号が重複しないよう101番以降とする等の配慮を行い、分かりやすく記録すること。

Sheet 様式B (2)
B2: ■定期点検記録様式 トンネル変状・異常箇所写真位置図 【様式B】 | N2: 定期点検年月日 | P2: 45929 | S2: 施設ID | V2: 34.22397,131.30972
B3: フリガナ | C3: アキヨシトンネル | G3: 路線名 | H3: 一般県道 秋吉台公園線 | K3: 管理者名 | L3: 山口県宇部土木建築事務所 | Q3: 定期点検実施者 | S3: アジア航測株式会社 | V3: 起点 | W3: 緯度 | X3: 34.22397
B4: 名 称 | C4: 秋吉トンネル | S4: 飯田 琢巳 | W4: 経度 | X4: 131.30972
B5: 所在地 | C5: 自 | D5: 山口県美祢市秋吉町 | G5: トンネル工法 | I5: 山岳トンネル工法（NATM） | L5: トンネル延長 | N5: L= | O5: 230 | P5: ｍ | Q5: 自専道 or 一般道 | R5: 一般道 | S5: 代替路の有無 | U5: 有 | V5: 終点 | W5: 緯度 | X5: 34.22391
C6: 至 | D6: 山口県美祢市秋吉町 | G6: 建設年度 | I6: 1993年 | L6: 幅員 | N6: L= | O6: 10.6 | P6: ｍ | S6: 緊急輸送道路 | U6: 指定なし | W6: 経度 | X6: 131.30972
B7: トンネル毎 の健全性の 診断の区分 | D7: Ⅱ
G8: 変状・異常 箇所数合計 | I8: トンネル本体工 | J8: 材質劣化 | K8: Ⅱ | L8: 44 | N8: Ⅲ | O8: 0 | Q8: Ⅳ | R8: 0 | T8: 附属物等 の取付状態 | V8: ◯ （応急措置後) | X8: 46
J9: 漏水 | K9: Ⅱ | L9: 9 | N9: Ⅲ | O9: 0 | Q9: Ⅳ | R9: 0
V10: ✕ | X10: 3
J11: 外力 | K11: Ⅱ | L11: 0 | N11: Ⅲ | O11: 0 | Q11: Ⅳ | R11: 0
B12: トンネル変状・異常箇所写真位置図
J29: 注１：本位置図は、見下げた状態で記載すること。 注２：覆工スパン番号は横断目地毎(矢板工法の場合は上半アーチの 横断目地毎)に設定すること。 | Q29: 注３：写真番号に付する変状番号は、各覆工スパンの変状に対して新たに確認された場合 は順次追加していくこと。 注４：横断目地の変状は前の覆工スパン番号で計上すること。 注５：１枚に収まらない場合は、複数枚に分けて作成すること。
C30: ※1 トンネル本体工の変状数は、材質劣化、漏水に起因するものは変状単位で、外力に起因するものはスパン単位で計上すること。
C31: ※2 トンネル本体工の変状に対しては、措置の必要性（Ⅱ～Ⅳ）について表記すること。また、点検前に実施された措置によりⅠと判定された箇所についても記載すること。
C32: ※3 附属物等の取付状態の○欄については、応急措置前に判定区分×とした箇所のうち応急措置により○判定とした箇所の数を記入すること。
C33: ※4 附属物等の異常番号は、本体工と番号が重複しないよう101番以降とする等の配慮を行い、分かりやすく記録すること。

Sheet 様式C-1-1 (1)
B2: ■定期点検記録様式 全スパン定期点検結果総括表（トンネル本体工） 【様式C-1-1】
B3: フリガナ | F3: アキヨシトンネル | I3: 路線名 | K3: 一般県道 秋吉台公園線 | O3: 定期点検実施者 | P3: アジア航測株式会社 | T3: 定期点検年月日 | X3: 45929
B4: 名 称 | F4: 秋吉トンネル | I4: 管理者名 | K4: 山口県宇部土木建築事務所 | P4: 飯田 琢巳
B5: 定期点検結果 | C5: 覆工 スパン 番号 | E5: 変状 番号 | F5: 距離 （m） | G5: 変状部位 | I5: 変 状 の 内 容 | O5: 前回定期点検時の状態 | P5: 今回定期点検結果 | T5: 措置履歴 | Y5: 対応方針 ・ 特記事項
O6: 44214
G7: 対象箇所 | H7: 部位区分 | I7: 変状区分 | J7: 変状種類 | M7: 変状の発生範囲の規模 | N7: 前回定期点検時の変状の発生範囲及び規模 | O7: 対策区分 | P7: 対策区分 | R7: 調査の 要否 | S7: 措置の 要否 | T7: 実施 | U7: 措置の実施状況
P8: 応急措置前 | Q8: 応急措置後
C9: PS | E9: 1 | F9: 0.53 | G9: 覆工 | H9: アーチ（天端） | I9: 材質劣化 | J9: その他 | M9: 剥落対策工 | N9: 補修済 剥落対策工 | O9: Ⅰ | P9: - | Q9: Ⅰ | R9: 否 | S9: 否 | T9: 済
C10: PS | E10: 2 | F10: 0.93 | G10: 覆工 | H10: 側壁（右側） | I10: 材質劣化 | J10: 鋼材腐食 | M10: 0.2m×0.1m | N10: 0.2m×0.1m | O10: Ⅱb | P10: - | Q10: Ⅱb | R10: 否 | S10: 要監視 | T10: 継続 | U10: 監視(日常)
C11: 1 | E11: 1 | F11: 7.95 | G11: 覆工 | H11: 側壁（右側） | I11: 材質劣化 | J11: 圧ざ、ひび割れ | M11: W=0.8mm×L=6.8m | N11: W=0.8mm×L=5.1m | O11: Ⅱb | P11: - | Q11: Ⅱb | R11: 否 | S11: 要監視 | T11: 継続 | U11: 監視(日常)
C12: 1 | E12: 2 | F12: 1.45 | G12: 路面 | H12: 歩道 | I12: 材質劣化 | J12: 圧ざ、ひび割れ | M12: W=0.3mm×L=2.7m | N12: W=0.3mm×L=2.7m | O12: Ⅰ | R12: 否 | S12: 否 | T12: - | U12: -
C13: 2 | E13: 1 | F13: 17.21 | G13: 覆工 | H13: アーチ（左側） | I13: 材質劣化 | J13: 圧ざ、ひび割れ | M13: W=0.9mm×L=6.3m | N13: 0.9m×5.8m | O13: Ⅱb | P13: - | Q13: Ⅱb | R13: 否 | S13: 要監視 | T13: 継続 | U13: 監視(日常)
C14: 2 | E14: 2 | F14: 11.8 | G14: 覆工 | H14: アーチ（天端） | I14: 材質劣化 | J14: その他 | M14: 剥落対策工 | N14: 補修済 剥落対策工 | O14: Ⅰ | P14: - | Q14: Ⅰ | R14: 否 | S14: 否 | T14: 済
C15: 2 | E15: 3 | F15: 20 | G15: 路面 | H15: 車道 | I15: 材質劣化 | J15: うき・はく離 | M15: 0.25m×0.1m | N15: 0.25m×0.1m | O15: Ⅰ | R15: 否 | S15: 否 | T15: - | U15: -
C16: 3 | E16: 1 | F16: 23.92 | G16: 覆工 | H16: アーチ（左側） | I16: 材質劣化 | J16: 鋼材腐食 | M16: 0.4m×0.1m | N16: 0.4m×0.1m | O16: Ⅱb | P16: - | Q16: Ⅱb | R16: 否 | S16: 要監視 | T16: 継続 | U16: 監視(日常)
C17: 3 | E17: 2 | F17: 22.15 | G17: 覆工 | H17: 側壁（右側） | I17: 材質劣化 | J17: 圧ざ、ひび割れ | M17: W=0.3mm×L=6.8m | N17: 0.3m×7.1m | O17: Ⅱb | P17: - | Q17: Ⅱb | R17: 否 | S17: 要監視 | T17: 継続 | U17: 監視(日常)
C18: 3 | E18: 3 | F18: 29.16 | G18: 覆工 | H18: 側壁（右側） | I18: 材質劣化 | J18: うき・はく離 | M18: 0.4m×0.05m | N18: 0.4m×0.05m | O18: Ⅱb | P18: - | Q18: Ⅱb | R18: 否 | S18: 要監視 | T18: 継続 | U18: 監視(日常)
C19: 3 | E19: 4 | F19: 30.1 | G19: 路面 | H19: 車道 | I19: 材質劣化 | J19: うき・はく離 | M19: 0.45m×0.03m | N19: 0.45m×0.03m | O19: Ⅰ | R19: 否 | S19: 否 | T19: - | U19: -
C20: 4 | E20: 1 | F20: 33.3 | G20: 覆工 | H20: アーチ（左側） | I20: 材質劣化 | J20: 圧ざ、ひび割れ | M20: W=0.8mm×L=9.3m | N20: W=0.8mm×L=10.8m | O20: Ⅱb | P20: - | Q20: Ⅱb | R20: 否 | S20: 要監視 | T20: 継続 | U20: 監視(日常)
C21: 4 | E21: 2 | F21: 33.33 | G21: 覆工 | H21: 側壁（右側） | I21: 材質劣化 | J21: うき・はく離 | M21: 0.05m×0.1m | N21: 0.05m×0.1m | O21: Ⅱb | P21: - | Q21: Ⅱb | R21: 否 | S21: 要監視 | T21: 継続 | U21: 監視(日常)
C22: 4 | E22: 3 | F22: 32.71 | G22: 覆工 | H22: 側壁（右側） | I22: 材質劣化 | J22: 圧ざ、ひび割れ | M22: W=0.8mm×L=10.9m | N22: W=0.8mm×L=10.5m | O22: Ⅱb | P22: - | Q22: Ⅱb | R22: 否 | S22: 要監視 | T22: 継続 | U22: 監視(日常)
C23: 4 | E23: 4 | F23: 33.53 | G23: 覆工 | H23: 側壁（右側） | I23: 材質劣化 | J23: うき・はく離 | M23: 0.05m×0.2m・D=0.05m | N23: 0.05m×0.2m | O23: Ⅱb | P23: - | Q23: Ⅰ | R23: 否 | S23: 否 | T23: 未 | Y23: 判定見直し
C24: 4 | E24: 5 | F24: 42.81 | G24: 覆工 | H24: 側壁（右側） | I24: 漏水 | J24: 漏水 | M24: 2.4m×1.1m | N24: - | O24: - | P24: - | Q24: Ⅱb | R24: 否 | S24: 要監視 | T24: 未 | U24: -
C25: 5 | E25: 1 | F25: 43.22 | G25: 覆工 | H25: 側壁（左側） | I25: 材質劣化 | J25: 圧ざ、ひび割れ | M25: W=0.6mm×L=10.5m | N25: W=0.6mm×L=6.0m | O25: Ⅱb | P25: - | Q25: Ⅱb | R25: 否 | S25: 要監視 | T25: 継続 | U25: 監視(日常)
C26: 5 | E26: 2 | F26: 43.74 | G26: 覆工 | H26: アーチ（右側） | I26: 材質劣化 | J26: 圧ざ、ひび割れ | M26: W=0.5mm×L=9.5m | N26: W=0.5mm×L=10.5m | O26: Ⅱb | P26: - | Q26: Ⅱb | R26: 否 | S26: 要監視 | T26: 継続 | U26: 監視(日常)
C27: 6 | E27: 1 | F27: 54.73 | G27: 覆工 | H27: アーチ（天端） | I27: 材質劣化 | J27: うき・はく離 | M27: 0.08m×0.45m | N27: 0.08m×0.45m | O27: Ⅱb | P27: - | Q27: Ⅱa | R27: 否 | S27: 要監視 | T27: 継続 | U27: 監視(重点) | Y27: 判定見直し
C28: 6 | E28: 2 | F28: 54.73 | G28: 覆工 | H28: アーチ（天端） | I28: 材質劣化 | J28: 圧ざ、ひび割れ | M28: W=1.2mm×L=9.1m | N28: W=1.2mm×L=10.3m | O28: Ⅱb | P28: - | Q28: Ⅱb | R28: 否 | S28: 要監視 | T28: 継続 | U28: 監視(日常)
C29: 6 | E29: 3 | F29: 62.09 | G29: 覆工 | H29: アーチ（左側） | I29: 材質劣化 | J29: うき・はく離 | M29: 0.1m×0.3m | N29: 0.1m×0.3m | O29: Ⅱa | P29: - | Q29: Ⅱa | R29: 否 | S29: 要監視 | T29: 継続 | U29: 監視(重点)
C30: 6 | E30: 4 | F30: 60.43 | G30: 路面 | H30: 車道 | I30: 材質劣化 | J30: うき・はく離 | M30: 0.65m×0.05m、0.65m×0.05m、0.5m×0.05m、0.35m×0.03m | N30: 0.65m×0.05m、0.65m×0.05m、0.5m×0.05m、0.35m×0.03m | O30: Ⅰ | R30: 否 | S30: 否 | T30: - | U30: -
C31: 6 | E31: 5 | F31: 53.47 | G31: 覆工 | H31: アーチ（右側） | I31: 材質劣化 | J31: うき・はく離 | M31: 0.5m×0.05m | N31: - | O31: - | P31: - | Q31: Ⅱa | R31: 否 | S31: 要監視 | T31: 未 | U31: -
C32: 7 | E32: 1 | F32: 71.51 | G32: 覆工 | H32: アーチ（左側） | I32: 材質劣化 | J32: うき・はく離 | M32: 0.05m×0.2m | N32: 0.05m×0.2m | O32: Ⅱa | P32: - | Q32: Ⅱa | R32: 否 | S32: 要監視 | T32: 継続 | U32: 監視(重点)
C33: 7 | E33: 2 | F33: 67.65 | G33: 覆工 | H33: 側壁（右側） | I33: 材質劣化 | J33: うき・はく離 | M33: 0.3m×0.05m・D=0.05m、0.1m×0.05m・D=0.05m、0.5m×0.05m・D=0.05m、0.15m×0.05m・D=0.02m | N33: 0.15m×0.05m、0.5m×0.03m、0.4m×0.05m | O33: Ⅱb | P33: - | Q33: Ⅰ | R33: 否 | S33: 否 | T33: 未 | Y33: 判定見直し
C34: 7 | E34: 3 | F34: 70.65 | G34: 路面 | H34: 車道 | I34: 材質劣化 | J34: うき・はく離 | M34: 0.9m×0.05m、0.65m×0.05m、0.6m×0.05m | N34: 0.9m×0.05m、0.65m×0.05m、0.6m×0.05m | O34: Ⅰ | R34: 否 | S34: 否 | T34: - | U34: -
C35: 8 | E35: 1 | F35: 79.93 | G35: 覆工 | H35: アーチ（右側） | I35: 材質劣化 | J35: 圧ざ、ひび割れ | M35: W=1.2mm×L=9.3m | N35: W=1.2mm×L=9.52m | O35: Ⅱb | P35: - | Q35: Ⅱb | R35: 否 | S35: 要監視 | T35: 継続 | U35: 監視(日常)
C36: 8 | E36: 2 | F36: 80.41 | G36: 路面 | H36: 車道 | I36: 材質劣化 | J36: うき・はく離 | M36: 0.35m×0.05m、1.15ｍ×0.05m、0.45m×0.05m、0.75m×0.03ｍ | N36: 0.35m×0.05m、1.15ｍ×0.05m、0.45m×0.05m、0.75m×0.03ｍ | O36: Ⅰ | R36: 否 | S36: 否 | T36: - | U36: -
C37: 9 | E37: 1 | F37: 89.99 | G37: 覆工 | H37: アーチ（天端） | I37: 材質劣化 | J37: うき・はく離 | M37: 0.1m×0.2m、0.05m×0.35m、0.05m×0.1m | N37: 0.1m×0.2m、0.05m×0.35m、0.05m×0.1m | O37: Ⅱa | P37: - | Q37: Ⅱa | R37: 否 | S37: 要監視 | T37: 継続 | U37: 監視(重点)
C38: 9 | E38: 2 | F38: 85.26 | G38: 覆工 | H38: アーチ（天端） | I38: 材質劣化 | J38: 圧ざ、ひび割れ | M38: W=1.3mm×L=10.3m | N38: W=1.3mm×L=10.45m | O38: Ⅱb | P38: - | Q38: Ⅱb | R38: 否 | S38: 要監視 | T38: 継続 | U38: 監視(日常)
C39: 9 | E39: 3 | F39: 92.27 | G39: 覆工 | H39: 側壁（右側） | I39: 漏水 | J39: 漏水 | M39: 1.3m×2.3m | N39: にじみ | O39: Ⅱb | P39: - | Q39: Ⅱb | R39: 否 | S39: 要監視 | T39: 継続 | U39: 監視(日常)
C40: 10 | E40: 1 | F40: 95.16 | G40: 覆工 | H40: アーチ（左側） | I40: 材質劣化 | J40: うき・はく離 | M40: 0.1m×0.05m | N40: 0.1m×0.05m | O40: Ⅱb | P40: - | Q40: Ⅱa | R40: 否 | S40: 要監視 | T40: 継続 | U40: 監視(重点) | Y40: 判定見直し
C41: 10 | E41: 2 | F41: 95.93 | G41: 覆工 | H41: アーチ（天端） | I41: 材質劣化 | J41: うき・はく離 | M41: 0.05m×0.18m | N41: 0.05m×0.18m | O41: Ⅱa | P41: - | Q41: Ⅱa | R41: 否 | S41: 要監視 | T41: 継続 | U41: 監視(重点)
...

Sheet 様式C-1-1 (2)
B2: ■定期点検記録様式 全スパン定期点検結果総括表（トンネル本体工） 【様式C-1-1】
B3: フリガナ | F3: アキヨシトンネル | I3: 路線名 | K3: 一般県道 秋吉台公園線 | O3: 定期点検実施者 | P3: アジア航測株式会社 | T3: 定期点検年月日 | X3: 45929
B4: 名 称 | F4: 秋吉トンネル | I4: 管理者名 | K4: 山口県宇部土木建築事務所 | P4: 飯田 琢巳
B5: 定期点検結果 | C5: 覆工 スパン 番号 | E5: 変状 番号 | F5: 距離 （m） | G5: 変状部位 | I5: 変 状 の 内 容 | O5: 前回定期点検時の状態 | P5: 今回定期点検結果 | T5: 措置履歴 | Y5: 対応方針 ・ 特記事項
O6: 44214
G7: 対象箇所 | H7: 部位区分 | I7: 変状区分 | J7: 変状種類 | M7: 変状の発生範囲の規模 | N7: 前回定期点検時の変状の発生範囲及び規模 | O7: 対策区分 | P7: 対策区分 | R7: 調査の 要否 | S7: 措置の 要否 | T7: 実施 | U7: 措置の実施状況
P8: 応急措置前 | Q8: 応急措置後
C9: 10 | E9: 4 | F9: 100.42 | G9: 路面 | H9: 車道 | I9: 材質劣化 | J9: うき・はく離 | M9: 0.5m×0.05m、0.55m×0.05m、0.3m×0.05m | N9: 0.5m×0.05m、0.55m×0.05m、0.3m×0.05m | O9: Ⅰ | R9: 否 | S9: 否 | T9: - | U9: -
C10: 10 | E10: 5 | F10: 95.15 | G10: 覆工 | H10: アーチ（左側） | I10: 材質劣化 | J10: うき・はく離 | M10: 0.15m×0.1m | N10: - | O10: - | P10: - | Q10: Ⅱa | R10: 否 | S10: 要監視 | T10: 未 | U10: -
C11: 10 | E11: 6 | F11: 101.94 | G11: 覆工 | H11: 側壁（左側） | I11: 漏水 | J11: 漏水 | M11: 1.5m×2.8m | N11: - | O11: - | P11: - | Q11: Ⅱb | R11: 否 | S11: 要監視 | T11: 未 | U11: -
C12: 10 | E12: 7 | F12: 103.25 | G12: 覆工 | H12: 側壁（右側） | I12: 漏水 | J12: 漏水 | M12: 1.6m×1.4m | N12: - | O12: - | P12: - | Q12: Ⅱb | R12: 否 | S12: 要監視 | T12: 未 | U12: -
C13: 11 | E13: 1 | F13: 106.09 | G13: 覆工 | H13: アーチ（天端） | I13: 材質劣化 | J13: 圧ざ、ひび割れ | M13: W=0.9mm×L=10.1m | N13: W=0.9mm×L=8.2m | O13: Ⅱb | P13: - | Q13: Ⅱb | R13: 否 | S13: 要監視 | T13: 継続 | U13: 監視(日常)
C14: 11 | E14: 2 | F14: 110.48 | G14: 路面 | H14: 歩道 | I14: 材質劣化 | J14: うき・はく離 | M14: 0.35m×0.03m | N14: 0.35m×0.03m | O14: Ⅰ | R14: 否 | S14: 否 | T14: - | U14: -
C15: 12 | E15: 1 | F15: 115.97 | G15: 覆工 | H15: アーチ（左側） | I15: 材質劣化 | J15: うき・はく離 | M15: 0.2m×0.05m、0.3m×0.05m | N15: 0.2m×0.05m、0.3m×0.05m | O15: Ⅱb | P15: - | Q15: Ⅱa | R15: 否 | S15: 要監視 | T15: 継続 | U15: 監視(重点) | Y15: 判定見直し
C16: 12 | E16: 2 | F16: 116.54 | G16: 覆工 | H16: アーチ（天端） | I16: 材質劣化 | J16: 圧ざ、ひび割れ | M16: W=1.2mm×L=9.9m | N16: W=1.2mm×L=9.6m | O16: Ⅱb | P16: - | Q16: Ⅱb | R16: 否 | S16: 要監視 | T16: 継続 | U16: 監視(日常)
C17: 12 | E17: 3 | F17: 120.58 | G17: 路面 | H17: 車道 | I17: 材質劣化 | J17: うき・はく離 | M17: 0.55m×0.05m、0.95m×0.05m、0.6m×0.05m、0.45m×0.05m | N17: 0.55m×0.05m、0.95m×0.05m、0.6m×0.05m、0.45m×0.05m | O17: Ⅰ | R17: 否 | S17: 否 | T17: - | U17: -
C18: 12 | E18: 4 | F18: 119.85 | G18: 覆工 | H18: 側壁（右側） | I18: 漏水 | J18: 漏水 | M18: 1.3m×2.0m | N18: - | O18: - | P18: - | Q18: Ⅱb | R18: 否 | S18: 要監視 | T18: 未 | U18: -
C19: 12 | E19: 5 | F19: 124.41 | G19: 覆工 | H19: 側壁（右側） | I19: 漏水 | J19: 漏水 | M19: 1.4m×0.9m | N19: - | O19: - | P19: - | Q19: Ⅱb | R19: 否 | S19: 要監視 | T19: 未 | U19: -
C20: 13 | E20: 1 | F20: 128.63 | G20: 覆工 | H20: アーチ（天端） | I20: 材質劣化 | J20: うき・はく離 | M20: 0.05m×0.2m | N20: 0.05m×0.2m | O20: Ⅱa | P20: - | Q20: Ⅱa | R20: 否 | S20: 要監視 | T20: 継続 | U20: 監視(重点)
C21: 13 | E21: 2 | F21: 133.39 | G21: 覆工 | H21: アーチ（天端） | I21: 材質劣化 | J21: うき・はく離 | M21: 0.05m×0.2m | N21: 0.05m×0.2m | O21: Ⅱa | P21: - | Q21: Ⅱa | R21: 否 | S21: 要監視 | T21: 継続 | U21: 監視(重点)
C22: 13 | E22: 3 | F22: 135.07 | G22: 路面 | H22: 歩道 | I22: 材質劣化 | J22: うき・はく離 | M22: 0.65m×0.05m、0.3m×0.03m、0.1m×0.05m | N22: 0.65m×0.05m、0.3m×0.03m | O22: Ⅰ | R22: 否 | S22: 否 | T22: - | U22: -
C23: 13 | E23: 4 | F23: 126.72 | G23: 覆工 | H23: 側壁（右側） | I23: 漏水 | J23: 漏水 | M23: 1.5m×0.7m | N23: - | O23: - | P23: - | Q23: Ⅱb | R23: 否 | S23: 要監視 | T23: 未 | U23: -
C24: 14 | E24: 1 | F24: 140.92 | G24: 覆工 | H24: アーチ（天端） | I24: 材質劣化 | J24: うき・はく離 | M24: 0.05m×0.3m | N24: 0.05m×0.3m | O24: Ⅱa | P24: - | Q24: Ⅱa | R24: 否 | S24: 要監視 | T24: 継続 | U24: 監視(重点)
C25: 14 | E25: 2 | F25: 140.87 | G25: 覆工 | H25: アーチ（天端） | I25: 材質劣化 | J25: 圧ざ、ひび割れ | M25: W=1.0mm×L=9.2m | N25: W=1.0mm×L=10.25m | O25: Ⅱb | P25: - | Q25: Ⅱb | R25: 否 | S25: 要監視 | T25: 継続 | U25: 監視(日常)
C26: 15 | E26: 1 | F26: 148.84 | G26: 覆工 | H26: アーチ（天端） | I26: 材質劣化 | J26: うき・はく離 | M26: 0.05m×0.1m | N26: 0.05m×0.1m | O26: Ⅱa | P26: - | Q26: Ⅱa | R26: 否 | S26: 要監視 | T26: 継続 | U26: 監視(重点)
C27: 15 | E27: 2 | F27: 151.22 | G27: 覆工 | H27: アーチ（左側） | I27: 材質劣化 | J27: うき・はく離 | M27: 0.03m×0.15m、0.08m×0.15m、0.05m×0.5m | N27: 0.03m×0.15m、0.08m×0.15m、0.08m×0.2m | O27: Ⅱa | P27: - | Q27: Ⅱa | R27: 否 | S27: 要監視 | T27: 継続 | U27: 監視(重点)
C28: 15 | E28: 3 | F28: 155.75 | G28: 覆工 | H28: アーチ（天端） | I28: 材質劣化 | J28: 圧ざ、ひび割れ | M28: W=0.7mm×L=4.4m | N28: W=0.7mm×L=5.5m | O28: Ⅱb | P28: - | Q28: Ⅱb | R28: 否 | S28: 要監視 | T28: 継続 | U28: 監視(日常)
C29: 16 | E29: 1 | F29: 157.81 | G29: 覆工 | H29: アーチ（左側） | I29: 材質劣化 | J29: うき・はく離 | M29: 0.05m×0.1m | N29: 0.05m×0.1m | O29: Ⅱa | P29: - | Q29: Ⅱa | R29: 否 | S29: 要監視 | T29: 継続 | U29: 監視(重点)
C30: 16 | E30: 2 | F30: 161.2 | G30: 路面 | H30: 車道 | I30: 材質劣化 | J30: うき・はく離 | M30: 0.3m×0.75m | N30: 0.3m×0.75m | O30: Ⅰ | R30: 否 | S30: 否 | T30: - | U30: -
C31: 17 | E31: 1 | F31: 167.4 | G31: 覆工 | H31: 側壁（左側） | I31: 材質劣化 | J31: その他 | M31: - | N31: 0.1m×0.05m | O31: Ⅱb | P31: - | Q31: Ⅰ | R31: 否 | S31: 否 | T31: 未
C32: 17 | E32: 2 | F32: 167.96 | G32: 覆工 | H32: アーチ（左側） | I32: 材質劣化 | J32: 圧ざ、ひび割れ | M32: W=0.6mm×L=8.4m | N32: W=0.6mm×L=10.35m | O32: Ⅱb | P32: - | Q32: Ⅱb | R32: 否 | S32: 要監視 | T32: 継続 | U32: 監視(日常)
C33: 18 | E33: 1 | F33: 185.25 | G33: 覆工 | H33: 側壁（左側） | I33: 材質劣化 | J33: うき・はく離 | M33: 0.05m×0.1m | N33: 0.05m×0.1m | O33: Ⅱb | P33: - | Q33: Ⅱb | R33: 否 | S33: 要監視 | T33: 継続 | U33: 監視(日常)
C34: 18 | E34: 2 | F34: 180.25 | G34: 覆工 | H34: アーチ（天端） | I34: 材質劣化 | J34: 圧ざ、ひび割れ | M34: W=0.6mm×L=8.4m | N34: W=0.6mm×L=9.1m | O34: Ⅱb | P34: - | Q34: Ⅱb | R34: 否 | S34: 要監視 | T34: 継続 | U34: 監視(日常)
C35: 18 | E35: 3 | F35: 180.18 | G35: 路面 | H35: 車道 | I35: 材質劣化 | J35: うき・はく離 | M35: 0.6m×0.25m | N35: 0.6m×0.25m | O35: Ⅰ | R35: 否 | S35: 否 | T35: - | U35: -
C36: 19 | E36: 1 | F36: 198.23 | G36: 覆工 | H36: 側壁（右側） | I36: 材質劣化 | J36: うき・はく離 | M36: 0.1m×0.1m | N36: 0.1m×0.1m | O36: Ⅱb | P36: - | Q36: Ⅱb | R36: 否 | S36: 要監視 | T36: 継続 | U36: 監視(日常)
C37: 19 | E37: 2 | F37: 198.19 | G37: 覆工 | H37: 側壁（右側） | I37: 漏水 | J37: 漏水 | M37: 0.8m×0.5m | N37: 0.05m×0.05m | O37: Ⅱb | P37: - | Q37: Ⅱb | R37: 否 | S37: 要監視 | T37: 継続 | U37: 監視(日常)
C38: 19 | E38: 3 | F38: 190.3 | G38: 路面 | H38: 車道 | I38: 材質劣化 | J38: うき・はく離 | M38: 0.5m×0.05m、0.35m×0.05m、0.45m×0.05m、0.6ｍ×0.05ｍ、0.5ｍ×0.05ｍ | N38: 0.5m×0.05m、0.35m×0.05m、0.45m×0.05m、0.6ｍ×0.05ｍ、0.5ｍ×0.05ｍ | O38: Ⅰ | R38: 否 | S38: 否 | T38: - | U38: -
C39: 20 | E39: 1 | F39: 199.92 | G39: 覆工 | H39: 側壁（右側） | I39: 材質劣化 | J39: 鋼材腐食 | M39: 0.1m×0.1m | N39: 0.1m×0.1m | O39: Ⅱb | P39: - | Q39: Ⅱb | R39: 否 | S39: 要監視 | T39: 継続 | U39: 監視(日常)
C40: 20 | E40: 2 | F40: 200.38 | G40: 路面 | H40: 車道 | I40: 材質劣化 | J40: うき・はく離 | M40: 0.75m×0.07m、0.3m×0.05m、0.3m×0.05m | N40: 0.75m×0.07m、0.3m×0.05m、0.3m×0.05m | O40: Ⅰ | R40: 否 | S40: 否 | T40: - | U40: - | Y40: 寸法変更
C41: 21 | E41: 1 | F41: 212.66 | G41: 覆工 | H41: 側壁（左側） | I41: 材質劣化 | J41: うき・はく離 | M41: 0.1m×0.05m | N41: 0.05m×0.05m | O41: Ⅱb | P41: - | Q41: Ⅱb | R41: 否 | S41: 要監視 | T41: 継続 | U41: 監視(日常)
...

Sheet 様式C-1-1 (3)
B2: ■定期点検記録様式 全スパン定期点検結果総括表（トンネル本体工） 【様式C-1-1】
B3: フリガナ | F3: アキヨシトンネル | I3: 路線名 | K3: 一般県道 秋吉台公園線 | O3: 定期点検実施者 | P3: アジア航測株式会社 | T3: 定期点検年月日 | X3: 45929
B4: 名 称 | F4: 秋吉トンネル | I4: 管理者名 | K4: 山口県宇部土木建築事務所 | P4: 飯田 琢巳
B5: 定期点検結果 | C5: 覆工 スパン 番号 | E5: 変状 番号 | F5: 距離 （m） | G5: 変状部位 | I5: 変 状 の 内 容 | O5: 前回定期点検時の状態 | P5: 今回定期点検結果 | T5: 措置履歴 | Y5: 対応方針 ・ 特記事項
O6: 44214
G7: 対象箇所 | H7: 部位区分 | I7: 変状区分 | J7: 変状種類 | M7: 変状の発生範囲の規模 | N7: 前回定期点検時の変状の発生範囲及び規模 | O7: 対策区分 | P7: 対策区分 | R7: 調査の 要否 | S7: 措置の 要否 | T7: 実施 | U7: 措置の実施状況
P8: 応急措置前 | Q8: 応急措置後
C9: 21 | E9: 3 | F9: 214.35 | G9: 覆工 | H9: アーチ（左側） | I9: 材質劣化 | J9: その他 | M9: 3.3m×1.8m | N9: 1.8m×1.5m | O9: Ⅱb | P9: - | Q9: Ⅱb | R9: 否 | S9: 要監視 | T9: 継続 | U9: 監視(日常) | Y9: 寸法変更
C10: 21 | E10: 4 | F10: 210.27 | G10: 路面 | H10: 車道 | I10: 材質劣化 | J10: うき・はく離 | M10: 0.5m×0.03m、0.5m×0.03m、0.3m×0.05m | N10: 0.5m×0.03m、0.5m×0.03m、0.3m×0.05m | O10: Ⅰ | R10: 否 | S10: 否 | T10: - | U10: -
C11: 21 | E11: 5 | F11: 214.46 | G11: 覆工 | H11: アーチ（左側） | I11: 材質劣化 | J11: うき・はく離 | M11: 0.2m×0.1m | N11: - | O11: - | P11: Ⅲ | Q11: Ⅰ | R11: 否 | S11: 否 | T11: 済 | U11: 叩き落し
C12: 22 | E12: 1 | F12: 222.3 | G12: 覆工 | H12: アーチ（天端） | I12: 材質劣化 | J12: 圧ざ、ひび割れ | M12: W=0.5mm×L=19.1m | N12: W=0.5mm×L=19.0m | O12: Ⅱb | P12: - | Q12: Ⅱb | R12: 否 | S12: 要監視 | T12: 継続 | U12: 監視(日常)
C13: 22 | E13: 2 | F13: 229.81 | G13: 路面 | H13: 監査歩路 | I13: 材質劣化 | J13: その他 | M13: 目地開口30㎜ | N13: 縁石の開口目地(3㎝) | O13: Ⅰ | R13: 否 | S13: 否 | T13: - | U13: -
C14: 22 | E14: 3 | F14: 221.97 | G14: 覆工 | H14: アーチ（左側） | I14: 漏水 | J14: 漏水 | M14: 2.9m×0.8m | N14: - | O14: - | P14: - | Q14: Ⅱb | R14: 否 | S14: 要監視 | T14: 未 | U14: -
C15: 22 | E15: 4 | F15: 227.37 | G15: 覆工 | H15: アーチ（右側） | I15: 材質劣化 | J15: 鋼材腐食 | M15: 0.05m×0.2m | N15: - | O15: - | P15: - | Q15: Ⅱb | R15: 否 | S15: 要監視 | T15: 未 | U15: -
C43: ※ 対策区分（応急措置後）のⅡb～Ⅳについて記入すること。また、点検前に実施された措置によりⅠと判定された変状も記入すること。
C44: ※ 応急措置を実施しないで判定した変状の対策区分は、対策区分の応急措置後の欄に記入すること。
C45: ※ 変状の除去が不完全で、緊急対応が必要な場合は対応方針欄に記入すること。
C46: ※ １区間の覆工に複数の変状がある場合は、変状箇所毎に記入すること。
C47: ※ 措置・監視点検を行った場合には、措置履歴、特記事項に記録を残すこと。（実施年度も記載）
C48: ※ 行が不足する場合は、適時、表の行を増やすこと。

Sheet 様式C-1-2 (1)
B2: ■定期点検記録様式 定期点検結果総括表（トンネル内附属物等の取付状態） 【様式C-1-2】
B3: フリガナ | F3: アキヨシトンネル | J3: 路線名 | K3: 一般県道 秋吉台公園線 | M3: 定期点検実施者 | O3: アジア航測株式会社 | S3: 定期点検年月日 | W3: 45929
B4: 名 称 | F4: 秋吉トンネル | J4: 管理者名 | K4: 山口県宇部土木建築事務所 | O4: 飯田 琢巳
B5: 定期点検結果 | C5: 覆工 スパン 番号 | E5: 異常 番号 | F5: 距離 （m） | G5: 異常部位 | J5: 異 常 の 内 容 | N5: 定期点検結果 | P5: 応急措置の 実施状況 | V5: 対応方針 ・ 特記事項
G6: 対象箇所 | I6: 部位区分 | J6: 異常種類 | L6: 異常の発生範囲の規模 | N6: 異常判定区分 | P6: 実施 | Q6: 応急措置の内容
N7: 応急措置前 | O7: 応急措置後
C8: 1 | E8: 101 | F8: 4.37 | G8: 照明施設 | H8: 灯具 | I8: 附属物本体 | J8: - | L8: 1 | N8: - | O8: ○ | P8: 済
C9: 1 | E9: 102 | F9: 9.37 | G9: 照明施設 | H9: 灯具 | I9: 附属物本体 | J9: - | L9: 1 | N9: - | O9: ○ | P9: 済
C10: 1 | E10: 103 | F10: 9.53 | G10: 照明施設 | H10: 灯具 | I10: 附属物本体 | J10: - | L10: 1 | N10: - | O10: ○ | P10: 済
C11: 3 | E11: 101 | F11: 22.69 | G11: 照明施設 | H11: 灯具 | I11: 附属物本体 | J11: - | L11: 1 | N11: - | O11: ○ | P11: 済
C12: 3 | E12: 102 | F12: 22.69 | G12: 照明施設 | H12: 灯具 | I12: 附属物本体 | J12: - | L12: 1 | N12: - | O12: ○ | P12: 済
C13: 3 | E13: 103 | F13: 29.05 | G13: 照明施設 | H13: 灯具 | I13: 附属物本体 | J13: - | L13: 1 | N13: - | O13: ○ | P13: 済
C14: 4 | E14: 101 | F14: 35.51 | G14: 照明施設 | H14: 灯具 | I14: 附属物本体 | J14: - | L14: 1 | N14: - | O14: ○ | P14: 済
C15: 4 | E15: 102 | F15: 35.49 | G15: 照明施設 | H15: 灯具 | I15: 附属物本体 | J15: - | L15: 1 | N15: - | O15: ○ | P15: 済
C16: 5 | E16: 101 | F16: 47.87 | G16: 照明施設 | H16: 灯具 | I16: 附属物本体 | J16: - | L16: 1 | N16: - | O16: ○ | P16: 済
C17: 5 | E17: 102 | F17: 47.88 | G17: 照明施設 | H17: 灯具 | I17: 附属物本体 | J17: - | L17: 1 | N17: - | O17: ○ | P17: 済
C18: 6 | E18: 101 | F18: 53.84 | G18: 照明施設 | H18: 灯具 | I18: 附属物本体 | J18: - | L18: 1 | N18: - | O18: ○ | P18: 済
C19: 6 | E19: 102 | F19: 59.55 | G19: 照明施設 | H19: 灯具 | I19: 附属物本体 | J19: - | L19: 1 | N19: - | O19: ○ | P19: 済
... C41: 17 | E41: 101 | F41: 169.57 | G41: 照明施設 | H41: 灯具 | I41: 附属物本体 | J41: - | L41: 1 | N41: - | O41: ○ | P41: 済
C42: ※ 異常判定区分×について記入すること。また、応急措置により○と判定された箇所も記入すること。
C43: ※ 応急措置を実施しないで判定した箇所の異常判定区分は、異常判定区分の応急措置後の欄に記入すること。
C44: ※ 異常の除去が不完全で、緊急対応が必要な場合は対応方針欄に記入すること。
C45: ※ １スパンの覆工に複数の異常がある場合は、異常箇所毎に記入すること。
C46: ※ 行が不足する場合は、適時、表の行を増やすこと。

Sheet 様式C-1-2 (2)
B2: ■定期点検記録様式 定期点検結果総括表（トンネル内附属物等の取付状態） 【様式C-1-2】
B3: フリガナ | F3: アキヨシトンネル | J3: 路線名 | K3: 一般県道 秋吉台公園線 | M3: 定期点検実施者 | O3: アジア航測株式会社 | S3: 定期点検年月日 | W3: 45929
B4: 名 称 | F4: 秋吉トンネル | J4: 管理者名 | K4: 山口県宇部土木建築事務所 | O4: 飯田 琢巳
B5: 定期点検結果 | C5: 覆工 スパン 番号 | E5: 異常 番号 | F5: 距離 （m） | G5: 異常部位 | J5: 異 常 の 内 容 | N5: 定期点検結果 | P5: 応急措置の 実施状況 | V5: 対応方針 ・ 特記事項
G6: 対象箇所 | I6: 部位区分 | J6: 異常種類 | L6: 異常の発生範囲の規模 | N6: 異常判定区分 | P6: 実施 | Q6: 応急措置の内容
N7: 応急措置前 | O7: 応急措置後
C8: 17 | E8: 102 | F8: 169.55 | G8: 照明施設 | H8: 灯具 | I8: 附属物本体 | J8: - | L8: 1 | N8: - | O8: ○ | P8: 済
C9: 17 | E9: 103 | F9: 176.2 | G9: 照明施設 | H9: 灯具 | I9: 附属物本体 | J9: - | L9: 1 | N9: - | O9: ○ | P9: 済
C10: 18 | E10: 101 | F10: 182.2 | G10: 照明施設 | H10: 灯具 | I10: 附属物本体 | J10: - | L10: 1 | N10: - | O10: ○ | P10: 済
C11: 18 | E11: 102 | F11: 182.18 | G11: 照明施設 | H11: 灯具 | I11: 附属物本体 | J11: - | L11: 1 | N11: - | O11: ○ | P11: 済
C12: 19 | E12: 101 | F12: 194.51 | G12: 照明施設 | H12: 灯具 | I12: 附属物本体 | J12: - | L12: 1 | N12: - | O12: ○ | P12: 済
C13: 19 | E13: 102 | F13: 194.51 | G13: 照明施設 | H13: 灯具 | I13: 附属物本体 | J13: - | L13: 1 | N13: - | O13: ○ | P13: 済
C14: 20 | E14: 101 | F14: 200.58 | G14: 照明施設 | H14: 灯具 | I14: 附属物本体 | J14: - | L14: 1 | N14: - | O14: ○ | P14: 済
C15: 20 | E15: 102 | F15: 206.85 | G15: 照明施設 | H15: 灯具 | I15: 附属物本体 | J15: - | L15: 1 | N15: - | O15: ○ | P15: 済
C16: 20 | E16: 103 | F16: 206.95 | G16: 照明施設 | H16: 灯具 | I16: 附属物本体 | J16: - | L16: 1 | N16: - | O16: ○ | P16: 済
C17: 20 | E17: 104 | F17: 201.3 | G17: その他施設 | H17: その他 | I17: 附属物本体 | J17: 腐食 | L17: 1 | N17: - | O17: × | P17: 未 | V17: 歩道防護柵の腐食（L=7.3m）
C18: 21 | E18: 101 | F18: 208.6 | G18: その他施設 | H18: その他 | I18: 附属物本体 | J18: 腐食 | L18: 1 | N18: - | O18: × | P18: 未 | V18: 歩道防護柵の腐食（L=10.25m）
C19: 22 | E19: 101 | F19: 219.69 | G19: 照明施設 | H19: 灯具 | I19: 附属物本体 | J19: - | L19: 1 | N19: - | O19: ○ | P19: 済
C20: 22 | E20: 102 | F20: 219.81 | G20: 照明施設 | H20: 灯具 | I20: 附属物本体 | J20: - | L20: 1 | N20: - | O20: ○ | P20: 済
C21: 22 | E21: 103 | F21: 225.16 | G21: 照明施設 | H21: 灯具 | I21: 附属物本体 | J21: - | L21: 1 | N21: - | O21: ○ | P21: 済
C22: 22 | E22: 104 | F22: 218.85 | G22: その他施設 | H22: その他 | I22: 附属物本体 | J22: 腐食 | L22: 1 | N22: - | O22: × | P22: 未 | V22: 歩道防護柵の腐食（L=5.8m）
C42: ※ 異常判定区分×について記入すること。また、応急措置により○と判定された箇所も記入すること。
C43: ※ 応急措置を実施しないで判定した箇所の異常判定区分は、異常判定区分の応急措置後の欄に記入すること。
C44: ※ 異常の除去が不完全で、緊急対応が必要な場合は対応方針欄に記入すること。
C45: ※ １スパンの覆工に複数の異常がある場合は、異常箇所毎に記入すること。
C46: ※ 行が不足する場合は、適時、表の行を増やすこと。

Sheet 様式C-2
B2: ■定期点検記録様式 状態の把握の内容 【様式C-2】
B3: フリガナ | E3: アキヨシトンネル | H3: 路線名 | J3: 一般県道 秋吉台公園線 | M3: 定期点検実施者 | Q3: アジア航測株式会社 | U3: 定期点検年月日 | X3: 45929
B4: 名 称 | E4: 秋吉トンネル | H4: 管理者名 | J4: 山口県宇部土木建築事務所 | Q4: 飯田 琢巳
B5: 状態の把握の内容 | C5: 覆工スパン 番号 | E5: 変状 番号 | F5: 状態の把握の内容
F6: 年月日 | H6: 内容 | O6: 結果 | Y6: 対策区分の 判定
B22: 注）状態の把握において、微破壊・非破壊検査や各種試験等を実施した場合について記載する。
B23: ※ 行が不足する場合は、適時、表の行を増やすこと。

Sheet 様式D-1-1 P001
B2: ■定期点検記録様式 変状写真台帳【様式D-1-1】 | R2: 施設ID | T2: ='様式A-1'!W2 -> 34.22397,131.30972
B3: フリガナ | E3: アキヨシトンネル | H3: 路 線 名 | J3: 一般県道 秋吉台公園線 | M3: 定期点検実施者 | P3: アジア航測株式会社 | S3: 定期点検年月日 | U3: 45929
B4: 名 称 | E4: 秋吉トンネル | H4: 管理者名 | J4: 山口県宇部土木建築事務所 | P4: 飯田 琢巳
B5: 写真 番号 | C5: 覆工スパン 番号 | E5: PS | M5: 写真 番号 | N5: 覆工スパン 番号 | P5: PS
C6: 変状番号 | E6: 1 | N6: 変状番号 | P6: 2
B7: 変状 部位 | C7: 対象箇所 | E7: 覆工 | M7: 変状 部位 | N7: 対象箇所 | P7: 覆工
C8: 部位区分 | E8: アーチ（天端） | N8: 部位区分 | P8: 側壁（右側）
B9: 変状種類 | E9: その他 | M9: 変状種類 | P9: 鋼材腐食
B10: 対策 区分 | C10: 変状区分 | E10: 材質劣化 | M10: 対策 区分 | N10: 変状区分 | P10: 材質劣化
C11: 応急措置前 | E11: - | N11: 応急措置前 | P11: -
C12: 応急措置後 | E12: Ⅰ | N12: 応急措置後 | P12: Ⅱb
B13: 変状の発生範囲及び規模 | E13: 剥落対策工 | H13: 前回変状の発生範囲及び規模 | J13: その他 補修済 剥落対策工 | M13: 変状の発生範囲及び規模 | P13: 0.2m×0.1m | S13: 前回変状の発生範囲及び規模 | U13: 鋼材腐食 0.2m×0.1m
B14: 対策履歴 | E14: - | H14: 実施状況（実施日） | J14: - | M14: 対策履歴 | P14: - | S14: 実施状況（実施日） | U14: -
B15: メモ | E15: 既存補修跡 | M15: メモ | P15: 側壁の鋼材腐食 防錆剤塗布済 経過観察が望まれる
B16: 写真 番号 | C16: 覆工スパン 番号 | E16: 1 | M16: 写真 番号 | N16: 覆工スパン 番号 | P16: 1
C17: 変状番号 | E17: 1 | N17: 変状番号 | P17: 2
B18: 変状 部位 | C18: 対象箇所 | E18: 覆工 | M18: 変状 部位 | N18: 対象箇所 | P18: 路面
C19: 部位区分 | E19: 側壁（右側） | N19: 部位区分 | P19: 歩道
B20: 変状種類 | E20: 圧ざ、ひび割れ | M20: 変状種類 | P20: 圧ざ、ひび割れ
B21: 対策 区分 | C21: 変状区分 | E21: 材質劣化 | M21: 対策 区分 | N21: 変状区分 | P21: 材質劣化
C22: 応急措置前 | E22: - | N22: 応急措置前
C23: 応急措置後 | E23: Ⅱb | N23: 応急措置後
B24: 変状の発生範囲及び規模 | E24: W=0.8mm×L=6.8m | H24: 前回変状の発生範囲及び規模 | J24: 外力・ひび割れ W=0.8mm×L=5.1m | M24: 変状の発生範囲及び規模 | P24: W=0.3mm×L=2.7m | S24: 前回変状の発生範囲及び規模 | U24: 外力・ひび割れ W=0.3mm×L=2.7m
B25: 対策履歴 | E25: - | H25: 実施状況（実施日） | J25: - | M25: 対策履歴 | P25: - | S25: 実施状況（実施日） | U25: -
B26: メモ | E26: 側壁の遊離石灰を伴うひび割れ 経過観察が望まれる | M26: メモ | P26: 歩道のひび割れ
C27: ※ 応急措置後の対策区分について添付すること。また、点検前に 実施された措置によりⅠと判定された箇所も添付すること。 | N27: ※ 変状の発生範囲の規模とは、対策を行う際に参考となる変状の長さや面積をいう。
N28: ※ 応急措置を実施しないで決定した変状の対策区分は、対策区分の応急措置後の欄に記入すること。
C29: ※ たたき落としを実施した場合は、実施後の写真を添付すること。 | N29: ※ 変状の発生範囲の規模は、面積・寸法を記載すること。(ひび割れ幅のみmmとし、その他をm表記とする)
C30: ※ 附属物の取付状態に関する異常写真は別途、任意の書式でとりまとめること。 | N30: ※ 構造用鋼材以外の異物に伴ううき・はく離については、メモ欄に異物の概要を記入すること。

Sheet 様式D-1-1 P002
B2: ■定期点検記録様式 変状写真台帳【様式D-1-1】 | R2: 施設ID | T2: ='様式A-1'!W2 -> 34.22397,131.30972
B3: フリガナ | E3: アキヨシトンネル | H3: 路 線 名 | J3: 一般県道 秋吉台公園線 | M3: 定期点検実施者 | P3: アジア航測株式会社 | S3: 定期点検年月日 | U3: 45929
B4: 名 称 | E4: 秋吉トンネル | H4: 管理者名 | J4: 山口県宇部土木建築事務所 | P4: 飯田 琢巳
B5: 写真 番号 | C5: 覆工スパン 番号 | E5: 2 | M5: 写真 番号 | N5: 覆工スパン 番号 | P5: 2
C6: 変状番号 | E6: 1 | N6: 変状番号 | P6: 2
B7: 変状 部位 | C7: 対象箇所 | E7: 覆工 | M7: 変状 部位 | N7: 対象箇所 | P7: 覆工
C8: 部位区分 | E8: アーチ（左側） | N8: 部位区分 | P8: アーチ（天端）
B9: 変状種類 | E9: 圧ざ、ひび割れ | M9: 変状種類 | P9: その他
B10: 対策 区分 | C10: 変状区分 | E10: 材質劣化 | M10: 対策 区分 | N10: 変状区分 | P10: 材質劣化
C11: 応急措置前 | E11: - | N11: 応急措置前 | P11: -
C12: 応急措置後 | E12: Ⅱb | N12: 応急措置後 | P12: Ⅰ
B13: 変状の発生範囲及び規模 | E13: W=0.9mm×L=6.3m | H13: 前回変状の発生範囲及び規模 | J13: 外力・ひび割れ 0.9m×5.8m | M13: 変状の発生範囲及び規模 | P13: 剥落対策工 | S13: 前回変状の発生範囲及び規模 | U13: その他 補修済 剥落対策工
B14: 対策履歴 | E14: - | H14: 実施状況（実施日） | J14: - | M14: 対策履歴 | P14: - | S14: 実施状況（実施日） | U14: -
B15: メモ | E15: アーチの遊離石灰を伴うひび割れ 経過観察が望まれる | M15: メモ | P15: 既存補修跡
B16: 写真 番号 | C16: 覆工スパン 番号 | E16: 2 | M16: 写真 番号 | N16: 覆工スパン 番号 | P16: 3
C17: 変状番号 | E17: 3 | N17: 変状番号 | P17: 1
B18: 変状 部位 | C18: 対象箇所 | E18: 路面 | M18: 変状 部位 | N18: 対象箇所 | P18: 覆工
C19: 部位区分 | E19: 車道 | N19: 部位区分 | P19: アーチ（左側）
B20: 変状種類 | E20: うき・はく離 | M20: 変状種類 | P20: 鋼材腐食
B21: 対策 区分 | C21: 変状区分 | E21: 材質劣化 | M21: 対策 区分 | N21: 変状区分 | P21: 材質劣化
C22: 応急措置前 | N22: 応急措置前 | P22: -
C23: 応急措置後 | N23: 応急措置後 | P23: Ⅱb
B24: 変状の発生範囲及び規模 | E24: 0.25m×0.1m | H24: 前回変状の発生範囲及び規模 | J24: うき・はく離 0.25m×0.1m | M24: 変状の発生範囲及び規模 | P24: 0.4m×0.1m | S24: 前回変状の発生範囲及び規模 | U24: 鋼材腐食 0.4m×0.1m
B25: 対策履歴 | E25: - | H25: 実施状況（実施日） | J25: - | M25: 対策履歴 | P25: - | S25: 実施状況（実施日） | U25: -
B26: メモ | E26: 車道目地のうき | M26: メモ | P26: アーチの鋼材腐食 防錆剤塗布済 経過観察が望まれる
C27: ※ 応急措置後の対策区分について添付すること。また、点検前に 実施された措置によりⅠと判定された箇所も添付すること。 | N27: ※ 変状の発生範囲の規模とは、対策を行う際に参考となる変状の長さや面積をいう。
N28: ※ 応急措置を実施しないで決定した変状の対策区分は、対策区分の応急措置後の欄に記入すること。
C29: ※ たたき落としを実施した場合は、実施後の写真を添付すること。 | N29: ※ 変状の発生範囲の規模は、面積・寸法を記載すること。(ひび割れ幅のみmmとし、その他をm表記とする)
C30: ※ 附属物の取付状態に関する異常写真は別途、任意の書式でとりまとめること。 | N30: ※ 構造用鋼材以外の異物に伴ううき・はく離については、メモ欄に異物の概要を記入すること。

Sheet 様式D-1-1 P003
B2: ■定期点検記録様式 変状写真台帳【様式D-1-1】 | R2: 施設ID | T2: ='様式A-1'!W2 -> 34.22397,131.30972
B3: フリガナ | E3: アキヨシトンネル | H3: 路 線 名 | J3: 一般県道 秋吉台公園線 | M3: 定期点検実施者 | P3: アジア航測株式会社 | S3: 定期点検年月日 | U3: 45929
B4: 名 称 | E4: 秋吉トンネル | H4: 管理者名 | J4: 山口県宇部土木建築事務所 | P4: 飯田 琢巳
B5: 写真 番号 | C5: 覆工スパン 番号 | E5: 3 | M5: 写真 番号 | N5: 覆工スパン 番号 | P5: 3
C6: 変状番号 | E6: 2 | N6: 変状番号 | P6: 3
B7: 変状 部位 | C7: 対象箇所 | E7: 覆工 | M7: 変状 部位 | N7: 対象箇所 | P7: 覆工
C8: 部位区分 | E8: 側壁（右側） | N8: 部位区分 | P8: 側壁（右側）
B9: 変状種類 | E9: 圧ざ、ひび割れ | M9: 変状種類 | P9: うき・はく離
B10: 対策 区分 | C10: 変状区分 | E10: 材質劣化 | M10: 対策 区分 | N10: 変状区分 | P10: 材質劣化
C11: 応急措置前 | E11: - | N11: 応急措置前 | P11: -
C12: 応急措置後 | E12: Ⅱb | N12: 応急措置後 | P12: Ⅱb
B13: 変状の発生範囲及び規模 | E13: W=0.3mm×L=6.8m | H13: 前回変状の発生範囲及び規模 | J13: 外力・ひび割れ 0.3m×7.1m | M13: 変状の発生範囲及び規模 | P13: 0.4m×0.05m | S13: 前回変状の発生範囲及び規模 | U13: うき・はく離 0.4m×0.05m
B14: 対策履歴 | E14: - | H14: 実施状況（実施日） | J14: - | M14: 対策履歴 | P14: - | S14: 実施状況（実施日） | U14: -
B15: メモ | E15: 側壁の遊離石灰を伴うひび割れ 経過観察が望まれる | M15: メモ | P15: 側壁のうき 浸透性硬化剤塗布済 経過観察が望まれる
B16: 写真 番号 | C16: 覆工スパン 番号 | E16: 3 | M16: 写真 番号 | N16: 覆工スパン 番号 | P16: 4
C17: 変状番号 | E17: 4 | N17: 変状番号 | P17: 1
B18: 変状 部位 | C18: 対象箇所 | E18: 路面 | M18: 変状 部位 | N18: 対象箇所 | P18: 覆工
C19: 部位区分 | E19: 車道 | N19: 部位区分 | P19: アーチ（左側）
B20: 変状種類 | E20: うき・はく離 | M20: 変状種類 | P20: 圧ざ、ひび割れ
B21: 対策 区分 | C21: 変状区分 | E21: 材質劣化 | M21: 対策 区分 | N21: 変状区分 | P21: 材質劣化
C22: 応急措置前 | N22: 応急措置前 | P22: -
C23: 応急措置後 | N23: 応急措置後 | P23: Ⅱb
B24: 変状の発生範囲及び規模 | E24: 0.45m×0.03m | H24: 前回変状の発生範囲及び規模 | J24: うき・はく離 0.45m×0.03m | M24: 変状の発生範囲及び規模 | P24: W=0.8mm×L=9.3m | S24: 前回変状の発生範囲及び規模 | U24: 外力・ひび割れ W=0.8mm×L=10.8m
B25: 対策履歴 | E25: - | H25: 実施状況（実施日） | J25: - | M25: 対策履歴 | P25: - | S25: 実施状況（実施日） | U25: -
B26: メモ | E26: 車道目地のうき | M26: メモ | P26: アーチのひび割れ 経過観察が望まれる
C27: ※ 応急措置後の対策区分について添付すること。また、点検前に 実施された措置によりⅠと判定された箇所も添付すること。 | N27: ※ 変状の発生範囲の規模とは、対策を行う際に参考となる変状の長さや面積をいう。
N28: ※ 応急措置を実施しないで決定した変状の対策区分は、対策区分の応急措置後の欄に記入すること。
C29: ※ たたき落としを実施した場合は、実施後の写真を添付すること。 | N29: ※ 変状の発生範囲の規模は、面積・寸法を記載すること。(ひび割れ幅のみmmとし、その他をm表記とする)
C30: ※ 附属物の取付状態に関する異常写真は別途、任意の書式でとりまとめること。 | N30: ※ 構造用鋼材以外の異物に伴ううき・はく離については、メモ欄に異物の概要を記入すること。

Sheet 様式D-1-1 P004
B2: ■定期点検記録様式 変状写真台帳【様式D-1-1】 | R2: 施設ID | T2: ='様式A-1'!W2 -> 34.22397,131.30972
B3: フリガナ | E3: アキヨシトンネル | H3: 路 線 名 | J3: 一般県道 秋吉台公園線 | M3: 定期点検実施者 | P3: アジア航測株式会社 | S3: 定期点検年月日 | U3: 45929
B4: 名 称 | E4: 秋吉トンネル | H4: 管理者名 | J4: 山口県宇部土木建築事務所 | P4: 飯田 琢巳
B5: 写真 番号 | C5: 覆工スパン 番号 | E5: 4 | M5: 写真 番号 | N5: 覆工スパン 番号 | P5: 4
C6: 変状番号 | E6: 2 | N6: 変状番号 | P6: 3
B7: 変状 部位 | C7: 対象箇所 | E7: 覆工 | M7: 変状 部位 | N7: 対象箇所 | P7: 覆工
C8: 部位区分 | E8: 側壁（右側） | N8: 部位区分 | P8: 側壁（右側）
B9: 変状種類 | E9: うき・はく離 | M9: 変状種類 | P9: 圧ざ、ひび割れ
B10: 対策 区分 | C10: 変状区分 | E10: 材質劣化 | M10: 対策 区分 | N10: 変状区分 | P10: 材質劣化
C11: 応急措置前 | E11: - | N11: 応急措置前 | P11: -
C12: 応急措置後 | E12: Ⅱb | N12: 応急措置後 | P12: Ⅱb
B13: 変状の発生範囲及び規模 | E13: 0.05m×0.1m | H13: 前回変状の発生範囲及び規模 | J13: うき・はく離 0.05m×0.1m | M13: 変状の発生範囲及び規模 | P13: W=0.8mm×L=10.9m | S13: 前回変状の発生範囲及び規模 | U13: 外力・ひび割れ W=0.8mm×L=10.5m
B14: 対策履歴 | E14: - | H14: 実施状況（実施日） | J14: - | M14: 対策履歴 | P14: - | S14: 実施状況（実施日） | U14: -
B15: メモ | E15: 側壁のうき 浸透性硬化剤塗布済 経過観察が望まれる | M15: メモ | P15: 側壁のひび割れ 経過観察が望まれる
B16: 写真 番号 | C16: 覆工スパン 番号 | E16: 4 | M16: 写真 番号 | N16: 覆工スパン 番号 | P16: 4
C17: 変状番号 | E17: 4 | N17: 変状番号 | P17: 5
B18: 変状 部位 | C18: 対象箇所 | E18: 覆工 | M18: 変状 部位 | N18: 対象箇所 | P18: 覆工
C19: 部位区分 | E19: 側壁（右側） | N19: 部位区分 | P19: 側壁（右側）
B20: 変状種類 | E20: うき・はく離 | M20: 変状種類 | P20: 漏水
B21: 対策 区分 | C21: 変状区分 | E21: 材質劣化 | M21: 対策 区分 | N21: 変状区分 | P21: 漏水
C22: 応急措置前 | E22: - | N22: 応急措置前 | P22: -
C23: 応急措置後 | E23: Ⅰ | N23: 応急措置後 | P23: Ⅱb
B24: 変状の発生範囲及び規模 | E24: 0.05m×0.2m・D=0.05m | H24: 前回変状の発生範囲及び規模 | J24: うき・はく離 0.05m×0.2m | M24: 変状の発生範囲及び規模 | P24: 2.4m×1.1m | S24: 前回変状の発生範囲及び規模 | U24: 新規
B25: 対策履歴 | E25: - | H25: 実施状況（実施日） | J25: - | M25: 対策履歴 | P25: - | S25: 実施状況（実施日） | U25: -
B26: メモ | E26: 側壁のはく落跡 打音異状無し | M26: メモ | P26: 側壁のにじみ 経過観察が望まれる
C27: ※ 応急措置後の対策区分について添付すること。また、点検前に 実施された措置によりⅠと判定された箇所も添付すること。 | N27: ※ 変状の発生範囲の規模とは、対策を行う際に参考となる変状の長さや面積をいう。
N28: ※ 応急措置を実施しないで決定した変状の対策区分は、対策区分の応急措置後の欄に記入すること。
C29: ※ たたき落としを実施した場合は、実施後の写真を添付すること。 | N29: ※ 変状の発生範囲の規模は、面積・寸法を記載すること。(ひび割れ幅のみmmとし、その他をm表記とする)
C30: ※ 附属物の取付状態に関する異常写真は別途、任意の書式でとりまとめること。 | N30: ※ 構造用鋼材以外の異物に伴ううき・はく離については、メモ欄に異物の概要を記入すること。

Sheet 様式D-1-1 P005
B2: ■定期点検記録様式 変状写真台帳【様式D-1-1】 | R2: 施設ID | T2: ='様式A-1'!W2 -> 34.22397,131.30972
B3: フリガナ | E3: アキヨシトンネル | H3: 路 線 名 | J3: 一般県道 秋吉台公園線 | M3: 定期点検実施者 | P3: アジア航測株式会社 | S3: 定期点検年月日 | U3: 45929
B4: 名 称 | E4: 秋吉トンネル | H4: 管理者名 | J4: 山口県宇部土木建築事務所 | P4: 飯田 琢巳
B5: 写真 番号 | C5: 覆工スパン 番号 | E5: 5 | M5: 写真 番号 | N5: 覆工スパン 番号 | P5: 5
C6: 変状番号 | E6: 1 | N6: 変状番号 | P6: 2
B7: 変状 部位 | C7: 対象箇所 | E7: 覆工 | M7: 変状 部位 | N7: 対象箇所 | P7: 覆工
C8: 部位区分 | E8: 側壁（左側） | N8: 部位区分 | P8: アーチ（右側）
B9: 変状種類 | E9: 圧ざ、ひび割れ | M9: 変状種類 | P9: 圧ざ、ひび割れ
B10: 対策 区分 | C10: 変状区分 | E10: 材質劣化 | M10: 対策 区分 | N10: 変状区分 | P10: 材質劣化
C11: 応急措置前 | E11: - | N11: 応急措置前 | P11: -
C12: 応急措置後 | E12: Ⅱb | N12: 応急措置後 | P12: Ⅱb
B13: 変状の発生範囲及び規模 | E13: W=0.6mm×L=10.5m | H13: 前回変状の発生範囲及び規模 | J13: 外力・ひび割れ W=0.6mm×L=6.0m | M13: 変状の発生範囲及び規模 | P13: W=0.5mm×L=9.5m | S13: 前回変状の発生範囲及び規模 | U13: 外力・ひび割れ W=0.5mm×L=10.5m
B14: 対策履歴 | E14: - | H14: 実施状況（実施日） | J14: - | M14: 対策履歴 | P14: - | S14: 実施状況（実施日） | U14: -
B15: メモ | E15: 側壁のひび割れ 経過観察が望まれる | M15: メモ | P15: アーチのひび割れ 経過観察が望まれる
B16: 写真 番号 | C16: 覆工スパン 番号 | E16: 6 | M16: 写真 番号 | N16: 覆工スパン 番号 | P16: 6
C17: 変状番号 | E17: 1 | N17: 変状番号 | P17: 2
B18: 変状 部位 | C18: 対象箇所 | E18: 覆工 | M18: 変状 部位 | N18: 対象箇所 | P18: 覆工
C19: 部位区分 | E19: アーチ（天端） | N19: 部位区分 | P19: アーチ（天端）
B20: 変状種類 | E20: うき・はく離 | M20: 変状種類 | P20: 圧ざ、ひび割れ
B21: 対策 区分 | C21: 変状区分 | E21: 材質劣化 | M21: 対策 区分 | N21: 変状区分 | P21: 材質劣化
C22: 応急措置前 | E22: - | N22: 応急措置前 | P22: -
C23: 応急措置後 | E23: Ⅱa | N23: 応急措置後 | P23: Ⅱb
B24: 変状の発生範囲及び規模 | E24: 0.08m×0.45m | H24: 前回変状の発生範囲及び規模 | J24: うき・はく離 0.08m×0.45m | M24: 変状の発生範囲及び規模 | P24: W=1.2mm×L=9.1m | S24: 前回変状の発生範囲及び規模 | U24: 外力・ひび割れ W=1.2mm×L=10.3m
B25: 対策履歴 | E25: - | H25: 実施状況（実施日） | J25: - | M25: 対策履歴 | P25: - | S25: 実施状況（実施日） | U25: -
B26: メモ | E26: アーチのうき 浸透性硬化剤塗布済 計画的な対策が望まれる | M26: メモ | P26: アーチのひび割れ 経過観察が望まれる
C27: ※ 応急措置後の対策区分について添付すること。また、点検前に 実施された措置によりⅠと判定された箇所も添付すること。 | N27: ※ 変状の発生範囲の規模とは、対策を行う際に参考となる変状の長さや面積をいう。
N28: ※ 応急措置を実施しないで決定した変状の対策区分は、対策区分の応急措置後の欄に記入すること。
C29: ※ たたき落としを実施した場合は、実施後の写真を添付すること。 | N29: ※ 変状の発生範囲の規模は、面積・寸法を記載すること。(ひび割れ幅のみmmとし、その他をm表記とする)
C30: ※ 附属物の取付状態に関する異常写真は別途、任意の書式でとりまとめること。 | N30: ※ 構造用鋼材以外の異物に伴ううき・はく離については、メモ欄に異物の概要を記入すること。

Sheet 様式D-1-1 P006
B2: ■定期点検記録様式 変状写真台帳【様式D-1-1】 | R2: 施設ID | T2: ='様式A-1'!W2 -> 34.22397,131.30972
B3: フリガナ | E3: アキヨシトンネル | H3: 路 線 名 | J3: 一般県道 秋吉台公園線 | M3: 定期点検実施者 | P3: アジア航測株式会社 | S3: 定期点検年月日 | U3: 45929
B4: 名 称 | E4: 秋吉トンネル | H4: 管理者名 | J4: 山口県宇部土木建築事務所 | P4: 飯田 琢巳
B5: 写真 番号 | C5: 覆工スパン 番号 | E5: 6 | M5: 写真 番号 | N5: 覆工スパン 番号 | P5: 6
C6: 変状番号 | E6: 3 | N6: 変状番号 | P6: 4
B7: 変状 部位 | C7: 対象箇所 | E7: 覆工 | M7: 変状 部位 | N7: 対象箇所 | P7: 路面
C8: 部位区分 | E8: アーチ（左側） | N8: 部位区分 | P8: 車道
B9: 変状種類 | E9: うき・はく離 | M9: 変状種類 | P9: うき・はく離
B10: 対策 区分 | C10: 変状区分 | E10: 材質劣化 | M10: 対策 区分 | N10: 変状区分 | P10: 材質劣化
C11: 応急措置前 | E11: - | N11: 応急措置前
C12: 応急措置後 | E12: Ⅱa | N12: 応急措置後
B13: 変状の発生範囲及び規模 | E13: 0.1m×0.3m | H13: 前回変状の発生範囲及び規模 | J13: うき・はく離 0.1m×0.3m | M13: 変状の発生範囲及び規模 | P13: 0.65m×0.05m、0.65m×0.05m、0.5m×0.05m、0.35m×0.03m | S13: 前回変状の発生範囲及び規模 | U13: うき・はく離 0.65m×0.05m、0.65m×0.05m、0.5m×0.05m、0.35m×0.03m
B14: 対策履歴 | E14: - | H14: 実施状況（実施日） | J14: - | M14: 対策履歴 | P14: - | S14: 実施状況（実施日） | U14: -
B15: メモ | E15: アーチのうき 浸透性硬化剤塗布済 計画的な対策が望まれる | M15: メモ | P15: 車道目地のうき
B16: 写真 番号 | C16: 覆工スパン 番号 | E16: 6 | M16: 写真 番号 | N16: 覆工スパン 番号 | P16: 7
C17: 変状番号 | E17: 5 | N17: 変状番号 | P17: 1
B18: 変状 部位 | C18: 対象箇所 | E18: 覆工 | M18: 変状 部位 | N18: 対象箇所 | P18: 覆工
C19: 部位区分 | E19: アーチ（右側） | N19: 部位区分 | P19: アーチ（左側）
B20: 変状種類 | E20: うき・はく離 | M20: 変状種類 | P20: うき・はく離
B21: 対策 区分 | C21: 変状区分 | E21: 材質劣化 | M21: 対策 区分 | N21: 変状区分 | P21: 材質劣化
C22: 応急措置前 | E22: - | N22: 応急措置前 | P22: -
C23: 応急措置後 | E23: Ⅱa | N23: 応急措置後 | P23: Ⅱa
B24: 変状の発生範囲及び規模 | E24: 0.5m×0.05m | H24: 前回変状の発生範囲及び規模 | J24: 新規 | M24: 変状の発生範囲及び規模 | P24: 0.05m×0.2m | S24: 前回変状の発生範囲及び規模 | U24: うき・はく離 0.05m×0.2m
B25: 対策履歴 | E25: - | H25: 実施状況（実施日） | J25: - | M25: 対策履歴 | P25: - | S25: 実施状況（実施日） | U25: -
B26: メモ | E26: アーチのうき 浸透性硬化剤塗布済 経過観察が望まれる | M26: メモ | P26: アーチのうき 浸透性硬化剤塗布済 計画的な対策が望まれる
C27: ※ 応急措置後の対策区分について添付すること。また、点検前に 実施された措置によりⅠと判定された箇所も添付すること。 | N27: ※ 変状の発生範囲の規模とは、対策を行う際に参考となる変状の長さや面積をいう。
N28: ※ 応急措置を実施しないで決定した変状の対策区分は、対策区分の応急措置後の欄に記入すること。
C29: ※ たたき落としを実施した場合は、実施後の写真を添付すること。 | N29: ※ 変状の発生範囲の規模は、面積・寸法を記載すること。(ひび割れ幅のみmmとし、その他をm表記とする)
C30: ※ 附属物の取付状態に関する異常写真は別途、任意の書式でとりまとめること。 | N30: ※ 構造用鋼材以外の異物に伴ううき・はく離については、メモ欄に異物の概要を記入すること。

Sheet 様式D-1-1 P007
B2: ■定期点検記録様式 変状写真台帳【様式D-1-1】 | R2: 施設ID | T2: ='様式A-1'!W2 -> 34.22397,131.30972
B3: フリガナ | E3: アキヨシトンネル | H3: 路 線 名 | J3: 一般県道 秋吉台公園線 | M3: 定期点検実施者 | P3: アジア航測株式会社 | S3: 定期点検年月日 | U3: 45929
B4: 名 称 | E4: 秋吉トンネル | H4: 管理者名 | J4: 山口県宇部土木建築事務所 | P4: 飯田 琢巳
B5: 写真 番号 | C5: 覆工スパン 番号 | E5: 7 | M5: 写真 番号 | N5: 覆工スパン 番号 | P5: 7
C6: 変状番号 | E6: 2 | N6: 変状番号 | P6: 3
B7: 変状 部位 | C7: 対象箇所 | E7: 覆工 | M7: 変状 部位 | N7: 対象箇所 | P7: 路面
C8: 部位区分 | E8: 側壁（右側） | N8: 部位区分 | P8: 車道
B9: 変状種類 | E9: うき・はく離 | M9: 変状種類 | P9: うき・はく離
B10: 対策 区分 | C10: 変状区分 | E10: 材質劣化 | M10: 対策 区分 | N10: 変状区分 | P10: 材質劣化
C11: 応急措置前 | E11: - | N11: 応急措置前
C12: 応急措置後 | E12: Ⅰ | N12: 応急措置後
B13: 変状の発生範囲及び規模 | E13: 0.3m×0.05m・D=0.05m、0.1m×0.05m・D=0.05m、0.5m×0.05m・D=0.05m、0.15m×0.05m・D=0.02m | H13: 前回変状の発生範囲及び規模 | J13: うき・はく離 0.15m×0.05m、0.5m×0.03m、0.4m×0.05m | M13: 変状の発生範囲及び規模 | P13: 0.9m×0.05m、0.65m×0.05m、0.6m×0.05m | S13: 前回変状の発生範囲及び規模 | U13: うき・はく離 0.9m×0.05m、0.65m×0.05m、0.6m×0.05m
B14: 対策履歴 | E14: - | H14: 実施状況（実施日） | J14: - | M14: 対策履歴 | P14: - | S14: 実施状況（実施日） | U14: -
B15: メモ | E15: 側壁のはく落跡 打音異状なし | M15: メモ | P15: 車道目地のうき
B16: 写真 番号 | C16: 覆工スパン 番号 | E16: 8 | M16: 写真 番号 | N16: 覆工スパン 番号 | P16: 8
C17: 変状番号 | E17: 1 | N17: 変状番号 | P17: 2
B18: 変状 部位 | C18: 対象箇所 | E18: 覆工 | M18: 変状 部位 | N18: 対象箇所 | P18: 路面
C19: 部位区分 | E19: アーチ（右側） | N19: 部位区分 | P19: 車道
B20: 変状種類 | E20: 圧ざ、ひび割れ | M20: 変状種類 | P20: うき・はく離
B21: 対策 区分 | C21: 変状区分 | E21: 材質劣化 | M21: 対策 区分 | N21: 変状区分 | P21: 材質劣化
C22: 応急措置前 | E22: - | N22: 応急措置前
C23: 応急措置後 | E23: Ⅱb | N23: 応急措置後
B24: 変状の発生範囲及び規模 | E24: W=1.2mm×L=9.3m | H24: 前回変状の発生範囲及び規模 | J24: 外力・ひび割れ W=1.2mm×L=9.52m | M24: 変状の発生範囲及び規模 | P24: 0.35m×0.05m、1.15ｍ×0.05m、0.45m×0.05m、0.75m×0.03ｍ | S24: 前回変状の発生範囲及び規模 | U24: うき・はく離 0.35m×0.05m、1.15ｍ×0.05m、0.45m×0.05m、0.75m×0.03ｍ
B25: 対策履歴 | E25: - | H25: 実施状況（実施日） | J25: - | M25: 対策履歴 | P25: - | S25: 実施状況（実施日） | U25: -
B26: メモ | E26: アーチのひび割れ 経過観察が望まれる | M26: メモ | P26: 車道目地のうき
C27: ※ 応急措置後の対策区分について添付すること。また、点検前に 実施された措置によりⅠと判定された箇所も添付すること。 | N27: ※ 変状の発生範囲の規模とは、対策を行う際に参考となる変状の長さや面積をいう。
N28: ※ 応急措置を実施しないで決定した変状の対策区分は、対策区分の応急措置後の欄に記入すること。
C29: ※ たたき落としを実施した場合は、実施後の写真を添付すること。 | N29: ※ 変状の発生範囲の規模は、面積・寸法を記載すること。(ひび割れ幅のみmmとし、その他をm表記とする)
C30: ※ 附属物の取付状態に関する異常写真は別途、任意の書式でとりまとめること。 | N30: ※ 構造用鋼材以外の異物に伴ううき・はく離については、メモ欄に異物の概要を記入すること。

Sheet 様式D-1-1 P008
B2: ■定期点検記録様式 変状写真台帳【様式D-1-1】 | R2: 施設ID | T2: ='様式A-1'!W2 -> 34.22397,131.30972
B3: フリガナ | E3: アキヨシトンネル | H3: 路 線 名 | J3: 一般県道 秋吉台公園線 | M3: 定期点検実施者 | P3: アジア航測株式会社 | S3: 定期点検年月日 | U3: 45929
B4: 名 称 | E4: 秋吉トンネル | H4: 管理者名 | J4: 山口県宇部土木建築事務所 | P4: 飯田 琢巳
B5: 写真 番号 | C5: 覆工スパン 番号 | E5: 9 | M5: 写真 番号 | N5: 覆工スパン 番号 | P5: 9
C6: 変状番号 | E6: 1 | N6: 変状番号 | P6: 2
B7: 変状 部位 | C7: 対象箇所 | E7: 覆工 | M7: 変状 部位 | N7: 対象箇所 | P7: 覆工
C8: 部位区分 | E8: アーチ（天端） | N8: 部位区分 | P8: アーチ（天端）
B9: 変状種類 | E9: うき・はく離 | M9: 変状種類 | P9: 圧ざ、ひび割れ
B10: 対策 区分 | C10: 変状区分 | E10: 材質劣化 | M10: 対策 区分 | N10: 変状区分 | P10: 材質劣化
C11: 応急措置前 | E11: - | N11: 応急措置前 | P11: -
C12: 応急措置後 | E12: Ⅱa | N12: 応急措置後 | P12: Ⅱb
B13: 変状の発生範囲及び規模 | E13: 0.1m×0.2m、0.05m×0.35m、0.05m×0.1m | H13: 前回変状の発生範囲及び規模 | J13: うき・はく離 0.1m×0.2m、0.05m×0.35m、0.05m×0.1m | M13: 変状の発生範囲及び規模 | P13: W=1.3mm×L=10.3m | S13: 前回変状の発生範囲及び規模 | U13: 外力・ひび割れ W=1.3mm×L=10.45m
B14: 対策履歴 | E14: - | H14: 実施状況（実施日） | J14: - | M14: 対策履歴 | P14: - | S14: 実施状況（実施日） | U14: -
B15: メモ | E15: アーチのうき 浸透性硬化剤塗布済 計画的な対策が望まれる | M15: メモ | P15: アーチのひび割れ 経過観察が望まれる
B16: 写真 番号 | C16: 覆工スパン 番号 | E16: 9 | M16: 写真 番号 | N16: 覆工スパン 番号 | P16: 10
C17: 変状番号 | E17: 3 | N17: 変状番号 | P17: 1
B18: 変状 部位 | C18: 対象箇所 | E18: 覆工 | M18: 変状 部位 | N18: 対象箇所 | P18: 覆工
C19: 部位区分 | E19: 側壁（右側） | N19: 部位区分 | P19: アーチ（左側）
B20: 変状種類 | E20: 漏水 | M20: 変状種類 | P20: うき・はく離
B21: 対策 区分 | C21: 変状区分 | E21: 漏水 | M21: 対策 区分 | N21: 変状区分 | P21: 材質劣化
C22: 応急措置前 | E22: - | N22: 応急措置前 | P22: -
C23: 応急措置後 | E23: Ⅱb | N23: 応急措置後 | P23: Ⅱa
B24: 変状の発生範囲及び規模 | E24: 1.3m×2.3m | H24: 前回変状の発生範囲及び規模 | J24: 漏水 にじみ | M24: 変状の発生範囲及び規模 | P24: 0.1m×0.05m | S24: 前回変状の発生範囲及び規模 | U24: うき・はく離 0.1m×0.05m
B25: 対策履歴 | E25: - | H25: 実施状況（実施日） | J25: - | M25: 対策履歴 | P25: - | S25: 実施状況（実施日） | U25: -
B26: メモ | E26: 側壁のにじみ 経過観察が望まれる | M26: メモ | P26: アーチのうき 浸透性硬化剤塗布済 計画的な対策が望まれる
C27: ※ 応急措置後の対策区分について添付すること。また、点検前に 実施された措置によりⅠと判定された箇所も添付すること。 | N27: ※ 変状の発生範囲の規模とは、対策を行う際に参考となる変状の長さや面積をいう。
N28: ※ 応急措置を実施しないで決定した変状の対策区分は、対策区分の応急措置後の欄に記入すること。
C29: ※ たたき落としを実施した場合は、実施後の写真を添付すること。 | N29: ※ 変状の発生範囲の規模は、面積・寸法を記載すること。(ひび割れ幅のみmmとし、その他をm表記とする)
C30: ※ 附属物の取付状態に関する異常写真は別途、任意の書式でとりまとめること。 | N30: ※ 構造用鋼材以外の異物に伴ううき・はく離については、メモ欄に異物の概要を記入すること。

Sheet 様式D-1-1 P009
B2: ■定期点検記録様式 変状写真台帳【様式D-1-1】 | R2: 施設ID | T2: ='様式A-1'!W2 -> 34.22397,131.30972
B3: フリガナ | E3: アキヨシトンネル | H3: 路 線 名 | J3: 一般県道 秋吉台公園線 | M3: 定期点検実施者 | P3: アジア航測株式会社 | S3: 定期点検年月日 | U3: 45929
B4: 名 称 | E4: 秋吉トンネル | H4: 管理者名 | J4: 山口県宇部土木建築事務所 | P4: 飯田 琢巳
B5: 写真 番号 | C5: 覆工スパン 番号 | E5: 10 | M5: 写真 番号 | N5: 覆工スパン 番号 | P5: 10
C6: 変状番号 | E6: 2 | N6: 変状番号 | P6: 3
B7: 変状 部位 | C7: 対象箇所 | E7: 覆工 | M7: 変状 部位 | N7: 対象箇所 | P7: 覆工
C8: 部位区分 | E8: アーチ（天端） | N8: 部位区分 | P8: アーチ（天端）
B9: 変状種類 | E9: うき・はく離 | M9: 変状種類 | P9: うき・はく離
B10: 対策 区分 | C10: 変状区分 | E10: 材質劣化 | M10: 対策 区分 | N10: 変状区分 | P10: 材質劣化
C11: 応急措置前 | E11: - | N11: 応急措置前 | P11: -
C12: 応急措置後 | E12: Ⅱa | N12: 応急措置後 | P12: Ⅱa
B13: 変状の発生範囲及び規模 | E13: 0.05m×0.18m | H13: 前回変状の発生範囲及び規模 | J13: うき・はく離 0.05m×0.18m | M13: 変状の発生範囲及び規模 | P13: 0.1m×0.2m、0.05m×0.15m、0.05m×0.1m | S13: 前回変状の発生範囲及び規模 | U13: うき・はく離 0.1m×0.2m、0.05m×0.15m、0.05m×0.1m
B14: 対策履歴 | E14: - | H14: 実施状況（実施日） | J14: - | M14: 対策履歴 | P14: - | S14: 実施状況（実施日） | U14: -
B15: メモ | E15: アーチのうき 浸透性硬化剤塗布済 計画的な対策が望まれる | M15: メモ | P15: アーチのうき 浸透性硬化剤塗布済 計画的な対策が望まれる
B16: 写真 番号 | C16: 覆工スパン 番号 | E16: 10 | M16: 写真 番号 | N16: 覆工スパン 番号 | P16: 10
C17: 変状番号 | E17: 4 | N17: 変状番号 | P17: 5
B18: 変状 部位 | C18: 対象箇所 | E18: 路面 | M18: 変状 部位 | N18: 対象箇所 | P18: 覆工
C19: 部位区分 | E19: 車道 | N19: 部位区分 | P19: アーチ（左側）
B20: 変状種類 | E20: うき・はく離 | M20: 変状種類 | P20: うき・はく離
B21: 対策 区分 | C21: 変状区分 | E21: 材質劣化 | M21: 対策 区分 | N21: 変状区分 | P21: 材質劣化
C22: 応急措置前 | N22: 応急措置前 | P22: -
C23: 応急措置後 | N23: 応急措置後 | P23: Ⅱa
B24: 変状の発生範囲及び規模 | E24: 0.5m×0.05m、0.55m×0.05m、0.3m×0.05m | H24: 前回変状の発生範囲及び規模 | J24: うき・はく離 0.5m×0.05m、0.55m×0.05m、0.3m×0.05m | M24: 変状の発生範囲及び規模 | P24: 0.15m×0.1m | S24: 前回変状の発生範囲及び規模 | U24: 新規
B25: 対策履歴 | E25: - | H25: 実施状況（実施日） | J25: - | M25: 対策履歴 | P25: - | S25: 実施状況（実施日） | U25: -
B26: メモ | E26: 車道目地のうき | M26: メモ | P26: アーチのうき 浸透性硬化剤塗布済 計画的な対策が望まれる
C27: ※ 応急措置後の対策区分について添付すること。また、点検前に 実施された措置によりⅠと判定された箇所も添付すること。 | N27: ※ 変状の発生範囲の規模とは、対策を行う際に参考となる変状の長さや面積をいう。
N28: ※ 応急措置を実施しないで決定した変状の対策区分は、対策区分の応急措置後の欄に記入すること。
C29: ※ たたき落としを実施した場合は、実施後の写真を添付すること。 | N29: ※ 変状の発生範囲の規模は、面積・寸法を記載すること。(ひび割れ幅のみmmとし、その他をm表記とする)
C30: ※ 附属物の取付状態に関する異常写真は別途、任意の書式でとりまとめること。 | N30: ※ 構造用鋼材以外の異物に伴ううき・はく離については、メモ欄に異物の概要を記入すること。

Sheet 様式D-1-1 P010
B2: ■定期点検記録様式 変状写真台帳【様式D-1-1】 | R2: 施設ID | T2: ='様式A-1'!W2 -> 34.22397,131.30972
B3: フリガナ | E3: アキヨシトンネル | H3: 路 線 名 | J3: 一般県道 秋吉台公園線 | M3: 定期点検実施者 | P3: アジア航測株式会社 | S3: 定期点検年月日 | U3: 45929
B4: 名 称 | E4: 秋吉トンネル | H4: 管理者名 | J4: 山口県宇部土木建築事務所 | P4: 飯田 琢巳
B5: 写真 番号 | C5: 覆工スパン 番号 | E5: 10 | M5: 写真 番号 | N5: 覆工スパン 番号 | P5: 10
C6: 変状番号 | E6: 6 | N6: 変状番号 | P6: 7
B7: 変状 部位 | C7: 対象箇所 | E7: 覆工 | M7: 変状 部位 | N7: 対象箇所 | P7: 覆工
C8: 部位区分 | E8: 側壁（左側） | N8: 部位区分 | P8: 側壁（右側）
B9: 変状種類 | E9: 漏水 | M9: 変状種類 | P9: 漏水
B10: 対策 区分 | C10: 変状区分 | E10: 漏水 | M10: 対策 区分 | N10: 変状区分 | P10: 漏水
C11: 応急措置前 | E11: - | N11: 応急措置前 | P11: -
C12: 応急措置後 | E12: Ⅱb | N12: 応急措置後 | P12: Ⅱb
B13: 変状の発生範囲及び規模 | E13: 1.5m×2.8m | H13: 前回変状の発生範囲及び規模 | J13: 新規 | M13: 変状の発生範囲及び規模 | P13: 1.6m×1.4m | S13: 前回変状の発生範囲及び規模 | U13: 新規
B14: 対策履歴 | E14: - | H14: 実施状況（実施日） | J14: - | M14: 対策履歴 | P14: - | S14: 実施状況（実施日） | U14: -
B15: メモ | E15: 側壁のにじみ 経過観察が望まれる | M15: メモ | P15: 側壁のにじみ 経過観察が望まれる
B16: 写真 番号 | C16: 覆工スパン 番号 | E16: 11 | M16: 写真 番号 | N16: 覆工スパン 番号 | P16: 11
C17: 変状番号 | E17: 1 | N17: 変状番号 | P17: 2
B18: 変状 部位 | C18: 対象箇所 | E18: 覆工 | M18: 変状 部位 | N18: 対象箇所 | P18: 路面
C19: 部位区分 | E19: アーチ（天端） | N19: 部位区分 | P19: 歩道
B20: 変状種類 | E20: 圧ざ、ひび割れ | M20: 変状種類 | P20: うき・はく離
B21: 対策 区分 | C21: 変状区分 | E21: 材質劣化 | M21: 対策 区分 | N21: 変状区分 | P21: 材質劣化
C22: 応急措置前 | E22: - | N22: 応急措置前
C23: 応急措置後 | E23: Ⅱb | N23: 応急措置後
B24: 変状の発生範囲及び規模 | E24: W=0.9mm×L=10.1m | H24: 前回変状の発生範囲及び規模 | J24: 外力・ひび割れ W=0.9mm×L=8.2m | M24: 変状の発生範囲及び規模 | P24: 0.35m×0.03m | S24: 前回変状の発生範囲及び規模 | U24: うき・はく離 0.35m×0.03m
B25: 対策履歴 | E25: - | H25: 実施状況（実施日） | J25: - | M25: 対策履歴 | P25: - | S25: 実施状況（実施日） | U25: -
B26: メモ | E26: アーチのひび割れ 経過観察が望まれる | M26: メモ | P26: 歩道目地のうき
C27: ※ 応急措置後の対策区分について添付すること。また、点検前に 実施された措置によりⅠと判定された箇所も添付すること。 | N27: ※ 変状の発生範囲の規模とは、対策を行う際に参考となる変状の長さや面積をいう。
N28: ※ 応急措置を実施しないで決定した変状の対策区分は、対策区分の応急措置後の欄に記入すること。
C29: ※ たたき落としを実施した場合は、実施後の写真を添付すること。 | N29: ※ 変状の発生範囲の規模は、面積・寸法を記載すること。(ひび割れ幅のみmmとし、その他をm表記とする)
C30: ※ 附属物の取付状態に関する異常写真は別途、任意の書式でとりまとめること。 | N30: ※ 構造用鋼材以外の異物に伴ううき・はく離については、メモ欄に異物の概要を記入すること。

Sheet 様式D-1-1 P011
B2: ■定期点検記録様式 変状写真台帳【様式D-1-1】 | R2: 施設ID | T2: ='様式A-1'!W2 -> 34.22397,131.30972
B3: フリガナ | E3: アキヨシトンネル | H3: 路 線 名 | J3: 一般県道 秋吉台公園線 | M3: 定期点検実施者 | P3: アジア航測株式会社 | S3: 定期点検年月日 | U3: 45929
B4: 名 称 | E4: 秋吉トンネル | H4: 管理者名 | J4: 山口県宇部土木建築事務所 | P4: 飯田 琢巳
B5: 写真 番号 | C5: 覆工スパン 番号 | E5: 12 | M5: 写真 番号 | N5: 覆工スパン 番号 | P5: 12
C6: 変状番号 | E6: 1 | N6: 変状番号 | P6: 2
B7: 変状 部位 | C7: 対象箇所 | E7: 覆工 | M7: 変状 部位 | N7: 対象箇所 | P7: 覆工
C8: 部位区分 | E8: アーチ（左側） | N8: 部位区分 | P8: アーチ（天端）
B9: 変状種類 | E9: うき・はく離 | M9: 変状種類 | P9: 圧ざ、ひび割れ
B10: 対策 区分 | C10: 変状区分 | E10: 材質劣化 | M10: 対策 区分 | N10: 変状区分 | P10: 材質劣化
C11: 応急措置前 | E11: - | N11: 応急措置前 | P11: -
C12: 応急措置後 | E12: Ⅱa | N12: 応急措置後 | P12: Ⅱb
B13: 変状の発生範囲及び規模 | E13: 0.2m×0.05m、0.3m×0.05m | H13: 前回変状の発生範囲及び規模 | J13: うき・はく離 0.2m×0.05m、0.3m×0.05m | M13: 変状の発生範囲及び規模 | P13: W=1.2mm×L=9.9m | S13: 前回変状の発生範囲及び規模 | U13: 外力・ひび割れ W=1.2mm×L=9.6m
B14: 対策履歴 | E14: - | H14: 実施状況（実施日） | J14: - | M14: 対策履歴 | P14: - | S14: 実施状況（実施日） | U14: -
B15: メモ | E15: アーチのうき 浸透性硬化剤塗布済 計画的な対策が望まれる | M15: メモ | P15: アーチのひび割れ 経過観察が望まれる
B16: 写真 番号 | C16: 覆工スパン 番号 | E16: 12 | M16: 写真 番号 | N16: 覆工スパン 番号 | P16: 12
C17: 変状番号 | E17: 3 | N17: 変状番号 | P17: 4
B18: 変状 部位 | C18: 対象箇所 | E18: 路面 | M18: 変状 部位 | N18: 対象箇所 | P18: 覆工
C19: 部位区分 | E19: 車道 | N19: 部位区分 | P19: 側壁（右側）
B20: 変状種類 | E20: うき・はく離 | M20: 変状種類 | P20: 漏水
B21: 対策 区分 | C21: 変状区分 | E21: 材質劣化 | M21: 対策 区分 | N21: 変状区分 | P21: 漏水
C22: 応急措置前 | N22: 応急措置前 | P22: -
C23: 応急措置後 | N23: 応急措置後 | P23: Ⅱb
B24: 変状の発生範囲及び規模 | E24: 0.55m×0.05m、0.95m×0.05m、0.6m×0.05m、0.45m×0.05m | H24: 前回変状の発生範囲及び規模 | J24: うき・はく離 0.55m×0.05m、0.95m×0.05m、0.6m×0.05m、0.45m×0.05m | M24: 変状の発生範囲及び規模 | P24: 1.3m×2.0m | S24: 前回変状の発生範囲及び規模 | U24: 新規
B25: 対策履歴 | E25: - | H25: 実施状況（実施日） | J25: - | M25: 対策履歴 | P25: - | S25: 実施状況（実施日） | U25: -
B26: メモ | E26: 車道目地のうき | M26: メモ | P26: 側壁のにじみ 経過観察が望まれる
C27: ※ 応急措置後の対策区分について添付すること。また、点検前に 実施された措置によりⅠと判定された箇所も添付すること。 | N27: ※ 変状の発生範囲の規模とは、対策を行う際に参考となる変状の長さや面積をいう。
N28: ※ 応急措置を実施しないで決定した変状の対策区分は、対策区分の応急措置後の欄に記入すること。
C29: ※ たたき落としを実施した場合は、実施後の写真を添付すること。 | N29: ※ 変状の発生範囲の規模は、面積・寸法を記載すること。(ひび割れ幅のみmmとし、その他をm表記とする)
C30: ※ 附属物の取付状態に関する異常写真は別途、任意の書式でとりまとめること。 | N30: ※ 構造用鋼材以外の異物に伴ううき・はく離については、メモ欄に異物の概要を記入すること。

Sheet 様式D-1-1 P012
B2: ■定期点検記録様式 変状写真台帳【様式D-1-1】 | R2: 施設ID | T2: ='様式A-1'!W2 -> 34.22397,131.30972
B3: フリガナ | E3: アキヨシトンネル | H3: 路 線 名 | J3: 一般県道 秋吉台公園線 | M3: 定期点検実施者 | P3: アジア航測株式会社 | S3: 定期点検年月日 | U3: 45929
B4: 名 称 | E4: 秋吉トンネル | H4: 管理者名 | J4: 山口県宇部土木建築事務所 | P4: 飯田 琢巳
B5: 写真 番号 | C5: 覆工スパン 番号 | E5: 12 | M5: 写真 番号 | N5: 覆工スパン 番号 | P5: 13
C6: 変状番号 | E6: 5 | N6: 変状番号 | P6: 1
B7: 変状 部位 | C7: 対象箇所 | E7: 覆工 | M7: 変状 部位 | N7: 対象箇所 | P7: 覆工
C8: 部位区分 | E8: 側壁（右側） | N8: 部位区分 | P8: アーチ（天端）
B9: 変状種類 | E9: 漏水 | M9: 変状種類 | P9: うき・はく離
B10: 対策 区分 | C10: 変状区分 | E10: 漏水 | M10: 対策 区分 | N10: 変状区分 | P10: 材質劣化
C11: 応急措置前 | E11: - | N11: 応急措置前 | P11: -
C12: 応急措置後 | E12: Ⅱb | N12: 応急措置後 | P12: Ⅱa
B13: 変状の発生範囲及び規模 | E13: 1.4m×0.9m | H13: 前回変状の発生範囲及び規模 | J13: 新規 | M13: 変状の発生範囲及び規模 | P13: 0.05m×0.2m | S13: 前回変状の発生範囲及び規模 | U13: うき・はく離 0.05m×0.2m
B14: 対策履歴 | E14: - | H14: 実施状況（実施日） | J14: - | M14: 対策履歴 | P14: - | S14: 実施状況（実施日） | U14: -
B15: メモ | E15: 側壁のにじみ 経過観察が望まれる | M15: メモ | P15: アーチのうき 浸透性硬化剤塗布済 計画的な対策が望まれる
B16: 写真 番号 | C16: 覆工スパン 番号 | E16: 13 | M16: 写真 番号 | N16: 覆工スパン 番号 | P16: 13
C17: 変状番号 | E17: 2 | N17: 変状番号 | P17: 3
B18: 変状 部位 | C18: 対象箇所 | E18: 覆工 | M18: 変状 部位 | N18: 対象箇所 | P18: 路面
C19: 部位区分 | E19: アーチ（天端） | N19: 部位区分 | P19: 歩道
B20: 変状種類 | E20: うき・はく離 | M20: 変状種類 | P20: うき・はく離
B21: 対策 区分 | C21: 変状区分 | E21: 材質劣化 | M21: 対策 区分 | N21: 変状区分 | P21: 材質劣化
C22: 応急措置前 | E22: - | N22: 応急措置前
C23: 応急措置後 | E23: Ⅱa | N23: 応急措置後
B24: 変状の発生範囲及び規模 | E24: 0.05m×0.2m | H24: 前回変状の発生範囲及び規模 | J24: うき・はく離 0.05m×0.2m | M24: 変状の発生範囲及び規模 | P24: 0.65m×0.05m、0.3m×0.03m、0.1m×0.05m | S24: 前回変状の発生範囲及び規模 | U24: うき・はく離 0.65m×0.05m、0.3m×0.03m
B25: 対策履歴 | E25: - | H25: 実施状況（実施日） | J25: - | M25: 対策履歴 | P25: - | S25: 実施状況（実施日） | U25: -
B26: メモ | E26: アーチのうき 浸透性硬化剤塗布済 計画的な対策が望まれる | M26: メモ | P26: 歩道目地のうき
C27: ※ 応急措置後の対策区分について添付すること。また、点検前に 実施された措置によりⅠと判定された箇所も添付すること。 | N27: ※ 変状の発生範囲の規模とは、対策を行う際に参考となる変状の長さや面積をいう。
N28: ※ 応急措置を実施しないで決定した変状の対策区分は、対策区分の応急措置後の欄に記入すること。
C29: ※ たたき落としを実施した場合は、実施後の写真を添付すること。 | N29: ※ 変状の発生範囲の規模は、面積・寸法を記載すること。(ひび割れ幅のみmmとし、その他をm表記とする)
C30: ※ 附属物の取付状態に関する異常写真は別途、任意の書式でとりまとめること。 | N30: ※ 構造用鋼材以外の異物に伴ううき・はく離については、メモ欄に異物の概要を記入すること。

Sheet 様式D-1-1 P013
B2: ■定期点検記録様式 変状写真台帳【様式D-1-1】 | R2: 施設ID | T2: ='様式A-1'!W2 -> 34.22397,131.30972
B3: フリガナ | E3: アキヨシトンネル | H3: 路 線 名 | J3: 一般県道 秋吉台公園線 | M3: 定期点検実施者 | P3: アジア航測株式会社 | S3: 定期点検年月日 | U3: 45929
B4: 名 称 | E4: 秋吉トンネル | H4: 管理者名 | J4: 山口県宇部土木建築事務所 | P4: 飯田 琢巳
B5: 写真 番号 | C5: 覆工スパン 番号 | E5: 13 | M5: 写真 番号 | N5: 覆工スパン 番号 | P5: 14
C6: 変状番号 | E6: 4 | N6: 変状番号 | P6: 1
B7: 変状 部位 | C7: 対象箇所 | E7: 覆工 | M7: 変状 部位 | N7: 対象箇所 | P7: 覆工
C8: 部位区分 | E8: 側壁（右側） | N8: 部位区分 | P8: アーチ（天端）
B9: 変状種類 | E9: 漏水 | M9: 変状種類 | P9: うき・はく離
B10: 対策 区分 | C10: 変状区分 | E10: 漏水 | M10: 対策 区分 | N10: 変状区分 | P10: 材質劣化
C11: 応急措置前 | E11: - | N11: 応急措置前 | P11: -
C12: 応急措置後 | E12: Ⅱb | N12: 応急措置後 | P12: Ⅱa
B13: 変状の発生範囲及び規模 | E13: 1.5m×0.7m | H13: 前回変状の発生範囲及び規模 | J13: 新規 | M13: 変状の発生範囲及び規模 | P13: 0.05m×0.3m | S13: 前回変状の発生範囲及び規模 | U13: うき・はく離 0.05m×0.3m
B14: 対策履歴 | E14: - | H14: 実施状況（実施日） | J14: - | M14: 対策履歴 | P14: - | S14: 実施状況（実施日） | U14: -
B15: メモ | E15: 側壁のにじみ 経過観察が望まれる | M15: メモ | P15: アーチのうき 浸透性硬化剤塗布済 計画的な対策が望まれる
B16: 写真 番号 | C16: 覆工スパン 番号 | E16: 14 | M16: 写真 番号 | N16: 覆工スパン 番号 | P16: 15
C17: 変状番号 | E17: 2 | N17: 変状番号 | P17: 1
B18: 変状 部位 | C18: 対象箇所 | E18: 覆工 | M18: 変状 部位 | N18: 対象箇所 | P18: 覆工
C19: 部位区分 | E19: アーチ（天端） | N19: 部位区分 | P19: アーチ（天端）
B20: 変状種類 | E20: 圧ざ、ひび割れ | M20: 変状種類 | P20: うき・はく離
B21: 対策 区分 | C21: 変状区分 | E21: 材質劣化 | M21: 対策 区分 | N21: 変状区分 | P21: 材質劣化
C22: 応急措置前 | E22: - | N22: 応急措置前 | P22: -
C23: 応急措置後 | E23: Ⅱb | N23: 応急措置後 | P23: Ⅱa
B24: 変状の発生範囲及び規模 | E24: W=1.0mm×L=9.2m | H24: 前回変状の発生範囲及び規模 | J24: 外力・ひび割れ W=1.0mm×L=10.25m | M24: 変状の発生範囲及び規模 | P24: 0.05m×0.1m | S24: 前回変状の発生範囲及び規模 | U24: うき・はく離 0.05m×0.1m
B25: 対策履歴 | E25: - | H25: 実施状況（実施日） | J25: - | M25: 対策履歴 | P25: - | S25: 実施状況（実施日） | U25: -
B26: メモ | E26: アーチのひび割れ 経過観察が望まれる | M26: メモ | P26: アーチのうき 浸透性硬化剤塗布済 計画的な対策が望まれる
C27: ※ 応急措置後の対策区分について添付すること。また、点検前に 実施された措置によりⅠと判定された箇所も添付すること。 | N27: ※ 変状の発生範囲の規模とは、対策を行う際に参考となる変状の長さや面積をいう。
N28: ※ 応急措置を実施しないで決定した変状の対策区分は、対策区分の応急措置後の欄に記入すること。
C29: ※ たたき落としを実施した場合は、実施後の写真を添付すること。 | N29: ※ 変状の発生範囲の規模は、面積・寸法を記載すること。(ひび割れ幅のみmmとし、その他をm表記とする)
C30: ※ 附属物の取付状態に関する異常写真は別途、任意の書式でとりまとめること。 | N30: ※ 構造用鋼材以外の異物に伴ううき・はく離については、メモ欄に異物の概要を記入すること。

Sheet 様式D-1-1 P014
B2: ■定期点検記録様式 変状写真台帳【様式D-1-1】 | R2: 施設ID | T2: ='様式A-1'!W2 -> 34.22397,131.30972
B3: フリガナ | E3: アキヨシトンネル | H3: 路 線 名 | J3: 一般県道 秋吉台公園線 | M3: 定期点検実施者 | P3: アジア航測株式会社 | S3: 定期点検年月日 | U3: 45929
B4: 名 称 | E4: 秋吉トンネル | H4: 管理者名 | J4: 山口県宇部土木建築事務所 | P4: 飯田 琢巳
B5: 写真 番号 | C5: 覆工スパン 番号 | E5: 15 | M5: 写真 番号 | N5: 覆工スパン 番号 | P5: 15
C6: 変状番号 | E6: 2 | N6: 変状番号 | P6: 3
B7: 変状 部位 | C7: 対象箇所 | E7: 覆工 | M7: 変状 部位 | N7: 対象箇所 | P7: 覆工
C8: 部位区分 | E8: アーチ（左側） | N8: 部位区分 | P8: アーチ（天端）
B9: 変状種類 | E9: うき・はく離 | M9: 変状種類 | P9: 圧ざ、ひび割れ
