Workbook
Name その他: '(参考)リスト'!$C$45:$C$46
Name その他施設: '(参考)リスト'!$C$76:$C$80
Name 外力: '(参考)リスト'!$E$16:$E$23
Name 完成年次: [1]ﾘｽﾄ!$S$27:$S$180
Name 換気: [1]ﾘｽﾄ!$U$3:$U$10
Name 換気施設: '(参考)リスト'!$C$55:$C$59
Name 坑門: '(参考)リスト'!$C$16:$C$29
Name 材質劣化: '(参考)リスト'!$E$24:$E$36
Name 照明施設: '(参考)リスト'!$C$51:$C$53
Name 照明種別: [1]ﾘｽﾄ!$T$3:$T$8
Name 天井板: '(参考)リスト'!$C$34:$C$36
Name 内装板: '(参考)リスト'!$C$31:$C$32
Name 非常用施設: '(参考)リスト'!$C$61:$C$74
Name 覆工: '(参考)リスト'!$C$16:$C$29
Name 覆工・坑門: '(参考)リスト'!$C$16:$C$29
Name 路面: '(参考)リスト'!$C$38:$C$43
Name 漏水: '(参考)リスト'!$E$38:$E$45

Sheet 点検様式作成フロー
A1: 点検様式作成フロ-
A3: 作成フロー図 | H3: 点検調書作成手順
H4: ①様式A-1～A-3（トンネル台帳）
H5: トンネル点検の実施にあたっては，現場点検作業に先行してトンネル情報を収集する。トンネル台帳（様式Ａ－1～様式Ａ－3）はトンネル完成後に作成され，維持管理の段階で引き継がれるが，関連資料等を確認したうえで，追加情報があれば必要に応じて追記することが望ましい。
H9: ②様式D-2-1、様式D-2-1´
H10: 現場点検作業を実施し，近接目視点検で確認した変状状況や補修履歴を忠実に変状展開図に転記する
H12: ③様式D-1-1、様式D-1-2
H13: 変状展開図や撮影した写真等をもとに，対象トンネルの対策区分を判定し，対策区分の判定区分がⅡ～Ⅳの変状および異常判定区分「×」を抽出し，写真台帳を作成する
H16: ④様式B
H17: 写真台帳の作成と同時に，トンネルの構造を展開した位置図に変状写真位置を記録する
H19: ⑤様式D-3
H20: 変状展開図ならびに写真台帳をもとに覆工スパンごとの変状展開図を作成し，変状発生状況をとりまとめる
H22: ⑥様式E-1、様式E-2
H23: 様式Ｄ－1～様式Ｄ－3をもとに，健全性の診断結果を集計する
... H31: ファイルは以下の分割規則に従う。 ※各ファイルとも （参考）リスト のシートを付けて保存すること。 ・様式A-1～A-3は同一ファイルとする。 ・様式B、D-1-1、D-1-2、D-2-1（もしくはD-2-1'）、Eは別ファイルとする。 ・様式C-1-1,C-1-2、C-2は同一ファイルとする。 ・様式D-3、E、Fは同一ファイルとする。

Sheet 変状面積算出方法
A1: 変状面積算出方法
A26: 注1）外力による変状：ひび割れや圧ざの場合は変状の寸法を記録する。
A27: 例）ひび割れ：長さ（L）×最大ひび割れ幅（t）を記録する。 変形，移動，沈下：数値的な記載が可能な場合のみ記載する。
A28: 注2）材料劣化による：打音異常
A29: 例）うき，はく離（閉合ひび割れ）：変状範囲を包括する寸法（L×W） うき，はく離（ひび割れ沿い）：打音異常箇所を包括する寸法（L×W） 鋼材腐食（鉄筋腐食）：一括した対策が適当と考えられる範囲を包括する寸法（L×W）
A30: 注3）漏水による変状：漏水発生範囲を包括し，垂れ下がりの可能性がある側壁下端まで含めた寸法を，L×Wで記録する。打継ぎ目地沿いの 漏水については目地を跨いだ50cm幅を横幅とする。

Sheet 様式A-1
B2: ■トンネル台帳 トンネル諸元、非常用施設諸元 【様式A-1】 | S2: トンネルID | W2: 34.35475,131.55631
B3: フリガナ | D3: ユノセトンネル | H3: 路線名 | J3: 一般県道長門峡線 | P3: 管理者名 | R3: 山口県萩土木事務所 | W3: 緊急輸送道路 | Z3: 有
B4: 名 称 | D4: 湯之瀬トンネル | W4: 代替路の有無 | Z4: 有
B5: 所在地 | D5: 自 | E5: 山口県萩市川上 | H5: 作成者 | K5: 日本工営株式会社 | P5: 作成年月日 | U5: トンネル延長 | X5: L= | Z5: 211.15 | AB5: ｍ
D6: 至 | E6: 山口県萩市川上 | U6: ﾄﾝﾈﾙの分類 | X6: 陸上トンネル（掘進工法）
B7: 起点 | C7: 緯度 | E7: 34°21′23.7″ | H7: 完成年月日 | K7: 29068 | M7: 舗装 | O7: 種 別 | Q7: コンクリ－ト系 | S7: トンネル非常用施設 | T7: 施設の内訳 | X7: 種別・方式 | Y7: 型式 | Z7: 個数 | AA7: 更新年度
C8: 経度 | E8: 131°33′20.3″ | H8: 供用年月日 | K8: - | O8: 厚 さ | Q8: 0.25 | T8: 通報設備 | U8: 通話型通報設備
B9: 終点 | C9: 緯度 | E9: 34°21′17.1″ | H9: トンネル区分 | K9: Ｄ | O9: 面 積 | Q9: 1266.0㎡ | U9: 操作型通報設備
C10: 経度 | E10: 131°33′22.7″ | H10: 内装種類 | K10: 覆工(内装なし） | O10: 更新年次 | Q10: - | U10: 自動通報設備
B11: 一般有料区分 | E11: 一般（無料） | H11: 天井板種類 | K11: 覆工(内装なし） | M11: 排水 | O11: 種 別 | Q11: 自然排水 | T11: 警報設備 | U11: 非常警報設備
B12: 土かぶり | E12: - | G12: m | H12: 坑門 | I12: 起点 | J12: 形式 | K12: 面壁型 | O12: 更新年次 | Q12: - | T12: 消火設備 | U12: 消 火 器
B13: 内空断面積 | E13: 42.14 | G13: ㎡ | J13: 延長 | K13: 2.8 | L13: m | M13: 施設 | P13: 種別・方式 | Q13: 個数 | R13: 更新年次 | U13: 消火栓設備
B14: 交 通 量 | E14: 196 | G14: 台/日 | I14: 終点 | J14: 形式 | K14: 面壁型 | M14: 道路附属物等 | N14: 照明 | P14: ナトリウム灯 | Q14: 34 | T14: 避難誘導設備 | U14: 誘導表示設備
C15: 道 路 幅 | E15: 7.7 | G15: m | J15: 延長 | K15: 2 | L15: m | N15: 換気 | P15: 自然換気 | U15: 避難情報提供設備
B16: 幅 員 | C16: 車 道 幅 | E16: 3 | G16: m | H16: 竣工巻厚 | I16: アーチ | K16: 45 | L16: cm | N16: 標識
E17: 3 | G17: m | I17: 側 壁 | K17: 45 | L17: cm | N17: 警報表示板 | U17: 避難通路
C18: 歩道等幅 | E18: 1.7 | G18: m | K18: - | L18: cm | N18: 吸音板 | U18: 排煙設備
B19: 高さ | C19: 建築限界高 | E19: 4.5 | G19: m | I19: インバート | K19: - | L19: cm | T19: その他の設備 | U19: 給水栓設備
C20: 中央高 | E20: 6.15 | G20: m | H20: 半径 | I20: アーチ | K20: 410 | L20: cm | U20: 無線通信補助設備
C21: 有効高 | E21: 4.84 | G21: m | I21: 側 壁 | K21: 410 | L21: cm | U21: 水噴霧設備
C22: 縦断勾配 | E22: - | I22: インバート | K22: - | L22: cm | U22: 監視設備
B23: 線 形 | C23: 直線区間長 | E23: - | H23: 占用物件 | I23: 種 類 | K23: 寸 法 | M23: 管理者名 | Q23: 更新年次 | S23: 非常用施設 関連設備 | U23: 予備発電設備
C24: 曲線区間 | D24: 区間長 | F24: -
D25: 起点側ｸﾛｿｲﾄﾞ | F25: -
D26: 曲線半径 | F26: -
D27: 終点側ｸﾛｿｲﾄﾞ | F27: - | S27: その他 | U27: 非常駐車帯
B28: トンネル工法 | U28: 方向転換所
C29: ※緯度・経度については、秒の少数第二位の単位まで記入すること。（例；36度20分35.56秒の場合、362035.36と入力）

Sheet 様式A-2
B3: ■トンネル台帳 トンネル情報一覧表 【様式A-2】
B4: フリガナ | E4: ='様式A-1'!D3 -> ユノセトンネル | J4: 路線名 | M4: ='様式A-1'!J3 -> 一般県道長門峡線 | S4: 作成者 | Y4: ='様式A-1'!K5 -> 日本工営株式会社 | AE4: 作成年月日 | AI4: ='様式A-1'!R5
B5: 名 称 | E5: ='様式A-1'!D4 -> 湯之瀬トンネル | J5: 管理者名 | M5: ='様式A-1'!R3 -> 山口県萩土木事務所
B6: 覆工 ｽﾊﾟﾝ 番号 | C6: ｽﾊﾟﾝ長 | D6: 追加距離 | F6: トンネル本体工 | K6: 照明施設 | O6: 非常用施設 | AE6: 換気施設 | AK6: その他附属物等
O7: ='様式A-1'!T8 -> 通報設備 | R7: ='様式A-1'!T11 -> 警報設備 | S7: ='様式A-1'!T12 -> 消火設備 | U7: ='様式A-1'!T14 -> 避難誘導設備 | Y7: ='様式A-1'!T19 -> その他の設備 | AC7: 特記事項
D8: 起点側 | E8: 終点側 | F8: 特記事項 | I8: 内装板 | J8: 天井板 | K8: 基本照明 | L8: 入口出口照明 | M8: 特記事項 | O8: ='様式A-1'!U8 -> 通話型通報設備 | P8: ='様式A-1'!U9 -> 操作型通報設備 | Q8: ='様式A-1'!U10 -> 自動通報設備 | R8: ='様式A-1'!U11 -> 非常警報設備 | S8: ='様式A-1'!U12 -> 消 火 器 | T8: ='様式A-1'!U13 -> 消火栓設備 | U8: ='様式A-1'!U14 -> 誘導表示設備 | V8: ='様式A-1'!U15 -> 避難情報提供設備 | W8: ='様式A-1'!U17 -> 避難通路 | X8: ='様式A-1'!U18 -> 排煙設備 | Y8: ='様式A-1'!U19 -> 給水栓設備 | Z8: ='様式A-1'!U20 -> 無線通信補助設備 | AA8: ='様式A-1'!U21 -> 水噴霧設備 | AB8: ='様式A-1'!U22 -> 監視設備 | AE8: JF | AF8: VI計 | AG8: CO計 | AH8: 風向 風速計 | AI8: 特記事項
C9: (m) | D9: (m) | E9: (m)
B10: PS | C10: 2.77 | D10: 0 | E10: =IF(B10="","",C10+D10) -> 2.77 | F10: 坑門(面壁型)
B11: =IF(OR(B10="",B10="PE"),"",IF(B10="PS",1,B10+1)) -> 1 | C11: 9.002 | D11: =IF(B11="","",+E10) -> 2.77 | E11: =IF(B11="","",E10+C11) -> 11.772 | K11: ○
B12: =IF(OR(B11="",B11="PE"),"",IF(B11="PS",1,B11+1)) -> 2 | C12: 8.94 | D12: =IF(B12="","",+E11) -> 11.772 | E12: =IF(B12="","",E11+C12) -> 20.712 | K12: ○
B13: =IF(OR(B12="",B12="PE"),"",IF(B12="PS",1,B12+1)) -> 3 | C13: 8.94 | D13: =IF(B13="","",+E12) -> 20.712 | E13: =IF(B13="","",E12+C13) -> 29.652 | K13: ○
B14: =IF(OR(B13="",B13="PE"),"",IF(B13="PS",1,B13+1)) -> 4 | C14: 8.861 | D14: =IF(B14="","",+E13) -> 29.652 | E14: =IF(B14="","",E13+C14) -> 38.513 | K14: ○
B15: =IF(OR(B14="",B14="PE"),"",IF(B14="PS",1,B14+1)) -> 5 | C15: 9.082 | D15: =IF(B15="","",+E14) -> 38.513 | E15: =IF(B15="","",E14+C15) -> 47.595 | K15: ○
B16: =IF(OR(B15="",B15="PE"),"",IF(B15="PS",1,B15+1)) -> 6 | C16: 9.003 | D16: =IF(B16="","",+E15) -> 47.595 | E16: =IF(B16="","",E15+C16) -> 56.598 | K16: ○
B17: =IF(OR(B16="",B16="PE"),"",IF(B16="PS",1,B16+1)) -> 7 | C17: 8.976 | D17: =IF(B17="","",+E16) -> 56.598 | E17: =IF(B17="","",E16+C17) -> 65.574
B18: =IF(OR(B17="",B17="PE"),"",IF(B17="PS",1,B17+1)) -> 8 | C18: 8.938 | D18: =IF(B18="","",+E17) -> 65.574 | E18: =IF(B18="","",E17+C18) -> 74.512 | K18: ○
B19: =IF(OR(B18="",B18="PE"),"",IF(B18="PS",1,B18+1)) -> 9 | C19: 8.99 | D19: =IF(B19="","",+E18) -> 74.512 | E19: =IF(B19="","",E18+C19) -> 83.502 | K19: ○
B20: =IF(OR(B19="",B19="PE"),"",IF(B19="PS",1,B19+1)) -> 10 | C20: 8.967 | D20: =IF(B20="","",+E19) -> 83.502 | E20: =IF(B20="","",E19+C20) -> 92.469
B21: =IF(OR(B20="",B20="PE"),"",IF(B20="PS",1,B20+1)) -> 11 | C21: 8.988 | D21: =IF(B21="","",+E20) -> 92.469 | E21: =IF(B21="","",E20+C21) -> 101.457
B22: =IF(OR(B21="",B21="PE"),"",IF(B21="PS",1,B21+1)) -> 12 | C22: 8.945 | D22: =IF(B22="","",+E21) -> 101.457 | E22: =IF(B22="","",E21+C22) -> 110.402 | K22: ○
B23: =IF(OR(B22="",B22="PE"),"",IF(B22="PS",1,B22+1)) -> 13 | C23: 9.013 | D23: =IF(B23="","",+E22) -> 110.402 | E23: =IF(B23="","",E22+C23) -> 119.415
B24: =IF(OR(B23="",B23="PE"),"",IF(B23="PS",1,B23+1)) -> 14 | C24: 8.987 | D24: =IF(B24="","",+E23) -> 119.415 | E24: =IF(B24="","",E23+C24) -> 128.402
B25: =IF(OR(B24="",B24="PE"),"",IF(B24="PS",1,B24+1)) -> 15 | C25: 8.994 | D25: =IF(B25="","",+E24) -> 128.402 | E25: =IF(B25="","",E24+C25) -> 137.396 | K25: ○
B26: =IF(OR(B25="",B25="PE"),"",IF(B25="PS",1,B25+1)) -> 16 | C26: 8.928 | D26: =IF(B26="","",+E25) -> 137.396 | E26: =IF(B26="","",E25+C26) -> 146.324 | K26: ○
B27: =IF(OR(B26="",B26="PE"),"",IF(B26="PS",1,B26+1)) -> 17 | C27: 8.97 | D27: =IF(B27="","",+E26) -> 146.324 | E27: =IF(B27="","",E26+C27) -> 155.294
B28: =IF(OR(B27="",B27="PE"),"",IF(B27="PS",1,B27+1)) -> 18 | C28: 9.006 | D28: =IF(B28="","",+E27) -> 155.294 | E28: =IF(B28="","",E27+C28) -> 164.3 | K28: ○
B29: =IF(OR(B28="",B28="PE"),"",IF(B28="PS",1,B28+1)) -> 19 | C29: 8.994 | D29: =IF(B29="","",+E28) -> 164.3 | E29: =IF(B29="","",E28+C29) -> 173.294 | K29: ○
B30: =IF(OR(B29="",B29="PE"),"",IF(B29="PS",1,B29+1)) -> 20 | C30: 8.961 | D30: =IF(B30="","",+E29) -> 173.294 | E30: =IF(B30="","",E29+C30) -> 182.255 | K30: ○
B31: =IF(OR(B30="",B30="PE"),"",IF(B30="PS",1,B30+1)) -> 21 | C31: 8.915 | D31: =IF(B31="","",+E30) -> 182.255 | E31: =IF(B31="","",E30+C31) -> 191.17 | K31: ○
B32: =IF(OR(B31="",B31="PE"),"",IF(B31="PS",1,B31+1)) -> 22 | C32: 9.047 | D32: =IF(B32="","",+E31) -> 191.17 | E32: =IF(B32="","",E31+C32) -> 200.217 | K32: ○
B33: =IF(OR(B32="",B32="PE"),"",IF(B32="PS",1,B32+1)) -> 23 | C33: 8.933 | D33: =IF(B33="","",+E32) -> 200.217 | E33: =IF(B33="","",E32+C33) -> 209.15 | K33: ○
B34: PE | C34: 2 | D34: =IF(B34="","",+E33) -> 209.15 | E34: =IF(B34="","",E33+C34) -> 211.15 | F34: 坑門(面壁型)
B35: =IF(OR(B34="",B34="PE"),"",IF(B34="PS",1,B34+1)) | D35: =IF(B35="","",+E34) | E35: =IF(B35="","",E34+C35)
B36: =IF(OR(B35="",B35="PE"),"",IF(B35="PS",1,B35+1)) | D36: =IF(B36="","",+E35) | E36: =IF(B36="","",E35+C36)
B37: =IF(OR(B36="",B36="PE"),"",IF(B36="PS",1,B36+1)) | D37: =IF(B37="","",+E36) | E37: =IF(B37="","",E36+C37)
B38: =IF(OR(B37="",B37="PE"),"",IF(B37="PS",1,B37+1)) | D38: =IF(B38="","",+E37) | E38: =IF(B38="","",E37+C38)
B39: =IF(OR(B38="",B38="PE"),"",IF(B38="PS",1,B38+1)) | D39: =IF(B39="","",+E38) | E39: =IF(B39="","",E38+C39)
B40: =IF(OR(B39="",B39="PE"),"",IF(B39="PS",1,B39+1)) | D40: =IF(B40="","",+E39) | E40: =IF(B40="","",E39+C40)
B41: =IF(OR(B40="",B40="PE"),"",IF(B40="PS",1,B40+1)) | D41: =IF(B41="","",+E40) | E41: =IF(B41="","",E40+C41)
B42: =IF(OR(B41="",B41="PE"),"",IF(B41="PS",1,B41+1)) | D42: =IF(B42="","",+E41) | E42: =IF(B42="","",E41+C42)
B43: =IF(OR(B42="",B42="PE"),"",IF(B42="PS",1,B42+1)) | D43: =IF(B43="","",+E42) | E43: =IF(B43="","",E42+C43)
B44: =IF(OR(B43="",B43="PE"),"",IF(B43="PS",1,B43+1)) | D44: =IF(B44="","",+E43) | E44: =IF(B44="","",E43+C44)
B45: =IF(OR(B44="",B44="PE"),"",IF(B44="PS",1,B44+1)) | D45: =IF(B45="","",+E44) | E45: =IF(B45="","",E44+C45)
B46: =IF(OR(B45="",B45="PE"),"",IF(B45="PS",1,B45+1)) | D46: =IF(B46="","",+E45) | E46: =IF(B46="","",E45+C46)
... B50: =IF(OR(B49="",B49="PE"),"",IF(B49="PS",1,B49+1)) | D50: =IF(B50="","",+E49) | E50: =IF(B50="","",E49+C50)
B51: ※ 行が不足する場合は、適時、表の行を増やすこと。

Sheet 様式A-3
B3: ■トンネル台帳 トンネル記録（位置図、断面図、施工実績他）【様式A-3】
B4: フリガナ | E4: ='様式A-1'!D3 -> ユノセトンネル | J4: 路線名 | M4: ='様式A-1'!J3 -> 一般県道長門峡線 | S4: 作成者 | W4: ='様式A-1'!K5 -> 日本工営株式会社 | AC4: 作成年月日 | AF4: ='様式A-1'!R5
B5: 名 称 | E5: ='様式A-1'!D4 -> 湯之瀬トンネル | J5: 管理者名 | M5: ='様式A-1'!R3 -> 山口県萩土木事務所
B6: 位置図・現況写真・標準断面図・地質縦断図・施工実績

Sheet 様式B
B2: ■定期点検記録様式 トンネル変状・異常箇所写真位置図 【様式B】 | T2: トンネルID | V2: 34.35475,131.55631
B3: フリガナ | D3: ='様式A-1'!$D$3 -> ユノセトンネル | H3: 路線名 | J3: ='様式A-1'!$J$3 -> 一般県道長門峡線 | N3: 管理者名 | P3: ='様式A-1'!$R$3 -> 山口県萩土木事務所 | T3: 緊急輸送道路 | V3: ='様式A-1'!$Z$3 -> 有
B4: 名 称 | D4: ='様式A-1'!$D$4 -> 湯之瀬トンネル | T4: 代替路の有無 | V4: ='様式A-1'!$Z$4 -> 有
B5: 所在地 | D5: 自 | E5: ='様式A-1'!$E$5 -> 山口県萩市川上 | H5: 定期点検業者 | K5: 日本工営株式会社 | O5: 定期点検年月日 | Q5: 45240 | T5: トンネル延長 | V5: L= | W5: ='様式A-1'!Z5 -> 211.15 | Y5: ｍ
D6: 至 | E6: ='様式A-1'!$E$6 -> 山口県萩市川上 | H6: 定期点検者名 | K6: 横山真一郎 | T6: ﾄﾝﾈﾙの分類 | V6: ='様式A-1'!$X$6 -> 陸上トンネル（掘進工法）
B7: 起点 | C7: 緯度 | D7: ='様式A-1'!$E$7 -> 34°21′23.7″ | F7: 変状・異常 箇所数合計 | H7: トンネル 本体工 | J7: 材質劣化 | L7: Ⅱ | M7: ='様式C-1-1用'!$CQ$4 -> 73 | N7: Ⅲ | O7: ='様式C-1-1用'!$CN$4 -> 0 | P7: Ⅳ | Q7: ='様式C-1-1用'!$CM$4 -> 0 | R7: トンネル毎 の健全性 | T7: =IF(SUM(Q7:Q18)>0,"Ⅳ",IF(SUM(O7:O18)>0,"Ⅲ",IF(SUM(M7:M18)>0,"Ⅱ","Ⅰ"))) -> Ⅱ | V7: 附属物の 取付状態 | W7: ◯ （応急措置後） | Y7: =COUNTIF('様式C-1-2用'!$L$3:$L$1002,"○") -> 0
C10: 経度 | D10: ='様式A-1'!$E$8 -> 131°33′20.3″
J11: 漏水 | L11: Ⅱ | M11: ='様式C-1-1用'!$CV$4 -> 42 | N11: Ⅲ | O11: ='様式C-1-1用'!$CS$4 -> 0 | P11: Ⅳ | Q11: ='様式C-1-1用'!$CR$4 -> 0
B13: 終点 | C13: 緯度 | D13: ='様式A-1'!$E$9 -> 34°21′17.1″ | W13: ✕ | Y13: =COUNTIF('様式C-1-2用'!$L$3:$L$1002,"×") -> 69
J15: 外力 | L15: Ⅱ | M15: ='様式C-1-1用'!$CL$4 -> 0 | N15: Ⅲ | O15: ='様式C-1-1用'!$CI$4 -> 0 | P15: Ⅳ | Q15: ='様式C-1-1用'!$CH$4 -> 0
C16: 経度 | D16: ='様式A-1'!$E$10 -> 131°33′22.7″
B19: トンネル変状・異常箇所写真位置図
P26: 注１：本位置図は、見下げた状態で記載すること。 注２：覆工スパン番号は横断目地毎(矢板工法の場合は上半アーチ の横断目地毎)に設定すること。 注３：写真番号に付する変状番号は、各覆工スパンの変状に対して新た に確認された場合は順次追加していくこと。 注４：横断目地の変状は前の覆工スパン番号で計上すること。 注５：１枚に収まらない場合は、複数枚に分けて作成すること。
C28: ※1 トンネル本体工の変状数は、材質劣化、漏水に起因するものは変状単位で、外力に起因するものはスパン単位で計上すること。
C29: ※2 本体工の変状に対しては、健全性の判定区分Ⅱ～Ⅳについて表記すること。なお、初回点検（H26以降）以降に、措置が行われた結果、
C30: Ⅰと判定された箇所についても記載すること。
C31: ※3 附属物の取付状態の○欄については、応急措置前に判定区分×とした箇所のうち応急措置により○判定とした箇所の数を記入すること。
C32: ※4 附属物の異常番号は、本体工と番号が重複しないよう101番以降とする等の配慮を行い、分かりやすく記録すること。
B33: トンネル変状・異常箇所写真位置図
P40: 注１：本位置図は、見下げた状態で記載すること。 注２：覆工スパン番号は横断目地毎(矢板工法の場合は上半アーチ の横断目地毎)に設定すること。 注３：写真番号に付する変状番号は、各覆工スパンの変状に対して新た に確認された場合は順次追加していくこと。 注４：横断目地の変状は前の覆工スパン番号で計上すること。 注５：１枚に収まらない場合は、複数枚に分けて作成すること。
C42: ※1 トンネル本体工の変状数は、材質劣化、漏水に起因するものは変状単位で、外力に起因するものはスパン単位で計上すること。
C43: ※2 本体工の変状に対しては、健全性の判定区分Ⅱ～Ⅳについて表記すること。なお、初回点検（H26以降）以降に、措置が行われた結果、
C44: Ⅰと判定された箇所についても記載すること。
C45: ※3 附属物の取付状態の○欄については、応急措置前に判定区分×とした箇所のうち応急措置により○判定とした箇所の数を記入すること。
C46: ※4 附属物の異常番号は、本体工と番号が重複しないよう101番以降とする等の配慮を行い、分かりやすく記録すること。
B47: トンネル変状・異常箇所写真位置図
P54: 注１：本位置図は、見下げた状態で記載すること。 注２：覆工スパン番号は横断目地毎(矢板工法の場合は上半アーチ の横断目地毎)に設定すること。 注３：写真番号に付する変状番号は、各覆工スパンの変状に対して新た に確認された場合は順次追加していくこと。 注４：横断目地の変状は前の覆工スパン番号で計上すること。 注５：１枚に収まらない場合は、複数枚に分けて作成すること。
C56: ※1 トンネル本体工の変状数は、材質劣化、漏水に起因するものは変状単位で、外力に起因するものはスパン単位で計上すること。
C57: ※2 本体工の変状に対しては、健全性の判定区分Ⅱ～Ⅳについて表記すること。なお、初回点検（H26以降）以降に、措置が行われた結果、
C58: Ⅰと判定された箇所についても記載すること。
C59: ※3 附属物の取付状態の○欄については、応急措置前に判定区分×とした箇所のうち応急措置により○判定とした箇所の数を記入すること。
C60: ※4 附属物の異常番号は、本体工と番号が重複しないよう101番以降とする等の配慮を行い、分かりやすく記録すること。
B61: トンネル変状・異常箇所写真位置図
P68: 注１：本位置図は、見下げた状態で記載すること。 注２：覆工スパン番号は横断目地毎(矢板工法の場合は上半アーチ の横断目地毎)に設定すること。 注３：写真番号に付する変状番号は、各覆工スパンの変状に対して新た に確認された場合は順次追加していくこと。 注４：横断目地の変状は前の覆工スパン番号で計上すること。 注５：１枚に収まらない場合は、複数枚に分けて作成すること。
C70: ※1 トンネル本体工の変状数は、材質劣化、漏水に起因するものは変状単位で、外力に起因するものはスパン単位で計上すること。
C71: ※2 本体工の変状に対しては、健全性の判定区分Ⅱ～Ⅳについて表記すること。なお、初回点検（H26以降）以降に、措置が行われた結果、
C72: Ⅰと判定された箇所についても記載すること。
C73: ※3 附属物の取付状態の○欄については、応急措置前に判定区分×とした箇所のうち応急措置により○判定とした箇所の数を記入すること。
C74: ※4 附属物の異常番号は、本体工と番号が重複しないよう101番以降とする等の配慮を行い、分かりやすく記録すること。
B75: トンネル変状・異常箇所写真位置図
P82: 注１：本位置図は、見下げた状態で記載すること。 注２：覆工スパン番号は横断目地毎(矢板工法の場合は上半アーチ の横断目地毎)に設定すること。 注３：写真番号に付する変状番号は、各覆工スパンの変状に対して新た に確認された場合は順次追加していくこと。 注４：横断目地の変状は前の覆工スパン番号で計上すること。 注５：１枚に収まらない場合は、複数枚に分けて作成すること。
C84: ※1 トンネル本体工の変状数は、材質劣化、漏水に起因するものは変状単位で、外力に起因するものはスパン単位で計上すること。
C85: ※2 本体工の変状に対しては、健全性の判定区分Ⅱ～Ⅳについて表記すること。なお、初回点検（H26以降）以降に、措置が行われた結果、
C86: Ⅰと判定された箇所についても記載すること。
C87: ※3 附属物の取付状態の○欄については、応急措置前に判定区分×とした箇所のうち応急措置により○判定とした箇所の数を記入すること。
C88: ※4 附属物の異常番号は、本体工と番号が重複しないよう101番以降とする等の配慮を行い、分かりやすく記録すること。

Sheet 様式C-1-1
B2: ■定期点検記録様式 全スパン定期点検結果総括表（トンネル本体工） 【様式C-1-1】
B3: フリガナ | F3: ='様式A-1'!$D$3 -> ユノセトンネル | I3: 路線名 | K3: ='様式A-1'!$J$3 -> 一般県道長門峡線 | O3: 定期点検業者 | Q3: =様式B!$K$5 -> 日本工営株式会社 | U3: 定期点検年月日 | Y3: =様式B!$Q$5 -> 45240
B4: 名 称 | F4: ='様式A-1'!$D$4 -> 湯之瀬トンネル | I4: 管理者名 | K4: ='様式A-1'!$R$3 -> 山口県萩土木事務所 | O4: 定期点検者名 | Q4: =様式B!$K$6 -> 横山真一郎
C5: 覆工 スパン 番号 | E5: 変状 番号 | F5: 距離 （m） | G5: 変状部位 | I5: 変 状 の 内 容 | O5: 前回定期点検時の状態 | Q5: 今回定期点検結果 | U5: 措置履歴 | Z5: 対応方針 ・ 特記事項
G7: 対象箇所 | H7: 部位区分 | I7: 変状区分 | J7: 変状種類 | M7: 変状の発生範囲の規模 | N7: 前回定期点検時 との比較 | O7: 状態 | P7: 健全性 | Q7: 対策区分 | S7: 調査の 要否 | T7: 措置の 要否 | U7: 実施 | V7: 措置の実施状況
Q8: 応急措置前 | R8: 応急措置後
B9: 定期点検結果 | C9: =IFERROR(VLOOKUP(AB9,'様式C-1-1用'!$A$4:$AH$1073,4,0),0) -> 1 | E9: =IF(C9="","",VLOOKUP(AB9,'様式C-1-1用'!$A$4:$AH$1073,5,0)) -> 1 | F9: =IF(C9="","",VLOOKUP(AB9,'様式C-1-1用'!$A$4:$AH$1073,6,0)) -> 11.772 | G9: =IFERROR(VLOOKUP(AB9,'様式C-1-1用'!$A$4:$AH$1073,7,0),"") -> 覆工・坑門 | H9: =IFERROR(VLOOKUP(AB9,'様式C-1-1用'!$A$4:$AH$1073,8,0),"") -> 側壁（左側） | I9: =IFERROR(VLOOKUP(AB9,'様式C-1-1用'!$A$4:$AH$1073,9,0),"") -> 材質劣化 | J9: =IFERROR(VLOOKUP(AB9,'様式C-1-1用'!$A$4:$AH$1073,10),"") -> うき・はく離 | M9: =IFERROR(VLOOKUP(AB9,'様式C-1-1用'!$A$4:$AH$1073,17,0),"") -> 0.1m×7.5m | N9: =IFERROR(VLOOKUP(AB9,'様式C-1-1用'!$A$4:$AH$1073,20,0),"") -> 進行が認められない | O9: =IFERROR(VLOOKUP(AB9,'様式C-1-1用'!$A$4:$AH$1073,21,0),"") -> 対策区分判定Ⅱb | P9: =IFERROR(VLOOKUP(AB9,'様式C-1-1用'!$A$4:$AH$1073,22,0),"") -> Ⅱ | Q9: =IFERROR(VLOOKUP(AB9,'様式C-1-1用'!$A$4:$AH$1073,23),"") -> 0 | R9: =IFERROR(VLOOKUP(AB9,'様式C-1-1用'!$A$4:$AH$1073,24,0),"") -> Ⅱb | S9: =IFERROR(VLOOKUP(AB9,'様式C-1-1用'!$A$4:$AH$1073,27,0),"") -> 否 | T9: =IFERROR(VLOOKUP(AB9,'様式C-1-1用'!$A$4:$AH$976,28,0),"") -> 要監視 | U9: =IFERROR(VLOOKUP(AB9,'様式C-1-1用'!$A$4:$AH$976,29,0),"") -> 継続 | V9: =IFERROR(VLOOKUP(AB9,'様式C-1-1用'!$A$4:$AH$976,30,0),"") -> 監視（日常巡視） | Z9: =IFERROR(VLOOKUP(AB9,'様式C-1-1用'!$A$4:$AH$976,32,0),"") -> 継続監視 | AB9: 1
C10: =IFERROR(VLOOKUP(AB10,'様式C-1-1用'!$A$4:$AH$1073,4,0),0) -> 1 | E10: =IF(C10="","",VLOOKUP(AB10,'様式C-1-1用'!$A$4:$AH$1073,5,0)) -> 5 | F10: =IF(C10="","",VLOOKUP(AB10,'様式C-1-1用'!$A$4:$AH$1073,6)) -> 11.772 | G10: =IFERROR(VLOOKUP(AB10,'様式C-1-1用'!$A$4:$AH$1073,7,0),"") -> 覆工・坑門 | H10: =IFERROR(VLOOKUP(AB10,'様式C-1-1用'!$A$4:$AH$1073,8,0),"") -> アーチ（左側） | I10: =IFERROR(VLOOKUP(AB10,'様式C-1-1用'!$A$4:$AH$1073,9,0),"") -> 漏水 | J10: =IFERROR(VLOOKUP(AB10,'様式C-1-1用'!$A$4:$AH$1073,10),"") -> 漏水 | M10: =IFERROR(VLOOKUP(AB10,'様式C-1-1用'!$A$4:$AH$1073,17,0),"") -> 0.8m×6.8m にじみ | N10: =IFERROR(VLOOKUP(AB10,'様式C-1-1用'!$A$4:$AH$1073,20,0),"") -> 進行が認められない | O10: =IFERROR(VLOOKUP(AB10,'様式C-1-1用'!$A$4:$AH$1073,21,0),"") -> 対策区分判定Ⅱb | P10: =IFERROR(VLOOKUP(AB10,'様式C-1-1用'!$A$4:$AH$1073,22,0),"") -> Ⅱ | Q10: =IFERROR(VLOOKUP(AB10,'様式C-1-1用'!$A$4:$AH$1073,23),"") -> 0 | R10: =IFERROR(VLOOKUP(AB10,'様式C-1-1用'!$A$4:$AH$1073,24,0),"") -> Ⅱb | S10: =IFERROR(VLOOKUP(AB10,'様式C-1-1用'!$A$4:$AH$1073,27,0),"") -> 否 | T10: =IFERROR(VLOOKUP(AB10,'様式C-1-1用'!$A$4:$AH$976,28,0),"") -> 要監視 | U10: =IFERROR(VLOOKUP(AB10,'様式C-1-1用'!$A$4:$AH$976,29,0),"") -> 継続 | V10: =IFERROR(VLOOKUP(AB10,'様式C-1-1用'!$A$4:$AH$976,30,0),"") -> 監視（日常巡視） | Z10: =IFERROR(VLOOKUP(AB10,'様式C-1-1用'!$A$4:$AH$976,32,0),"") -> 継続監視 | AB10: =AB9+1 -> 2
C11: =IFERROR(VLOOKUP(AB11,'様式C-1-1用'!$A$4:$AH$1073,4,0),0) -> 1 | E11: =IF(C11="","",VLOOKUP(AB11,'様式C-1-1用'!$A$4:$AH$1073,5,0)) -> 6 | F11: =IF(C11="","",VLOOKUP(AB11,'様式C-1-1用'!$A$4:$AH$1073,6)) -> 11.772 | G11: =IFERROR(VLOOKUP(AB11,'様式C-1-1用'!$A$4:$AH$1073,7,0),"") -> 覆工・坑門 | H11: =IFERROR(VLOOKUP(AB11,'様式C-1-1用'!$A$4:$AH$1073,8,0),"") -> アーチ（右側） | I11: =IFERROR(VLOOKUP(AB11,'様式C-1-1用'!$A$4:$AH$1073,9,0),"") -> 漏水 | J11: =IFERROR(VLOOKUP(AB11,'様式C-1-1用'!$A$4:$AH$1073,10),"") -> 漏水 | M11: =IFERROR(VLOOKUP(AB11,'様式C-1-1用'!$A$4:$AH$1073,17,0),"") -> 0.6m×8.3m にじみ | N11: =IFERROR(VLOOKUP(AB11,'様式C-1-1用'!$A$4:$AH$1073,20,0),"") -> 進行が認められない | O11: =IFERROR(VLOOKUP(AB11,'様式C-1-1用'!$A$4:$AH$1073,21,0),"") -> 対策区分判定Ⅱb | P11: =IFERROR(VLOOKUP(AB11,'様式C-1-1用'!$A$4:$AH$1073,22,0),"") -> Ⅱ | Q11: =IFERROR(VLOOKUP(AB11,'様式C-1-1用'!$A$4:$AH$1073,23),"") -> 0 | R11: =IFERROR(VLOOKUP(AB11,'様式C-1-1用'!$A$4:$AH$1073,24,0),"") -> Ⅱb | S11: =IFERROR(VLOOKUP(AB11,'様式C-1-1用'!$A$4:$AH$1073,27,0),"") -> 否 | T11: =IFERROR(VLOOKUP(AB11,'様式C-1-1用'!$A$4:$AH$976,28,0),"") -> 要監視 | U11: =IFERROR(VLOOKUP(AB11,'様式C-1-1用'!$A$4:$AH$976,29,0),"") -> 継続 | V11: =IFERROR(VLOOKUP(AB11,'様式C-1-1用'!$A$4:$AH$976,30,0),"") -> 監視（日常巡視） | Z11: =IFERROR(VLOOKUP(AB11,'様式C-1-1用'!$A$4:$AH$976,32,0),"") -> 継続監視 | AB11: =AB10+1 -> 3
C12: =IFERROR(VLOOKUP(AB12,'様式C-1-1用'!$A$4:$AH$1073,4,0),0) -> 1 | E12: =IF(C12="","",VLOOKUP(AB12,'様式C-1-1用'!$A$4:$AH$1073,5,0)) -> 7 | F12: =IF(C12="","",VLOOKUP(AB12,'様式C-1-1用'!$A$4:$AH$1073,6)) -> 11.772 | G12: =IFERROR(VLOOKUP(AB12,'様式C-1-1用'!$A$4:$AH$1073,7,0),"") -> 覆工・坑門 | H12: =IFERROR(VLOOKUP(AB12,'様式C-1-1用'!$A$4:$AH$1073,8,0),"") -> アーチ（右側） | I12: =IFERROR(VLOOKUP(AB12,'様式C-1-1用'!$A$4:$AH$1073,9,0),"") -> 材質劣化 | J12: =IFERROR(VLOOKUP(AB12,'様式C-1-1用'!$A$4:$AH$1073,10),"") -> 補修跡 | M12: =IFERROR(VLOOKUP(AB12,'様式C-1-1用'!$A$4:$AH$1073,17,0),"") -> 15.6m×0.4m 導水工 | N12: =IFERROR(VLOOKUP(AB12,'様式C-1-1用'!$A$4:$AH$1073,20,0),"") -> 対策済 | O12: =IFERROR(VLOOKUP(AB12,'様式C-1-1用'!$A$4:$AH$1073,21,0),"") -> 対策区分判定Ⅱa | P12: =IFERROR(VLOOKUP(AB12,'様式C-1-1用'!$A$4:$AH$1073,22,0),"") -> Ⅱ | Q12: =IFERROR(VLOOKUP(AB12,'様式C-1-1用'!$A$4:$AH$1073,23),"") -> 0 | R12: =IFERROR(VLOOKUP(AB12,'様式C-1-1用'!$A$4:$AH$1073,24,0),"") -> Ⅰ | S12: =IFERROR(VLOOKUP(AB12,'様式C-1-1用'!$A$4:$AH$1073,27,0),"") -> 否 | T12: =IFERROR(VLOOKUP(AB12,'様式C-1-1用'!$A$4:$AH$976,28,0),"") -> 否 | U12: =IFERROR(VLOOKUP(AB12,'様式C-1-1用'!$A$4:$AH$976,29,0),"") -> 済 | V12: =IFERROR(VLOOKUP(AB12,'様式C-1-1用'!$A$4:$AH$976,30,0),"") -> － | Z12: =IFERROR(VLOOKUP(AB12,'様式C-1-1用'!$A$4:$AH$976,32,0),"") -> － | AB12: =AB11+1 -> 4
C13: =IFERROR(VLOOKUP(AB13,'様式C-1-1用'!$A$4:$AH$1073,4,0),0) -> 1 | E13: =IF(C13="","",VLOOKUP(AB13,'様式C-1-1用'!$A$4:$AH$1073,5,0)) -> 8 | F13: =IF(C13="","",VLOOKUP(AB13,'様式C-1-1用'!$A$4:$AH$1073,6)) -> 11.772 | G13: =IFERROR(VLOOKUP(AB13,'様式C-1-1用'!$A$4:$AH$1073,7,0),"") -> 覆工・坑門 | H13: =IFERROR(VLOOKUP(AB13,'様式C-1-1用'!$A$4:$AH$1073,8,0),"") -> 側壁（右側） | I13: =IFERROR(VLOOKUP(AB13,'様式C-1-1用'!$A$4:$AH$1073,9,0),"") -> 材質劣化 | J13: =IFERROR(VLOOKUP(AB13,'様式C-1-1用'!$A$4:$AH$1073,10),"") -> うき・はく離 | M13: =IFERROR(VLOOKUP(AB13,'様式C-1-1用'!$A$4:$AH$1073,17,0),"") -> 0.2m×1.5m | N13: =IFERROR(VLOOKUP(AB13,'様式C-1-1用'!$A$4:$AH$1073,20,0),"") -> 進行が認められない | O13: =IFERROR(VLOOKUP(AB13,'様式C-1-1用'!$A$4:$AH$1073,21,0),"") -> 対策区分判定Ⅱb | P13: =IFERROR(VLOOKUP(AB13,'様式C-1-1用'!$A$4:$AH$1073,22,0),"") -> Ⅱ | Q13: =IFERROR(VLOOKUP(AB13,'様式C-1-1用'!$A$4:$AH$1073,23),"") -> 0 | R13: =IFERROR(VLOOKUP(AB13,'様式C-1-1用'!$A$4:$AH$1073,24,0),"") -> Ⅱb | S13: =IFERROR(VLOOKUP(AB13,'様式C-1-1用'!$A$4:$AH$1073,27,0),"") -> 否 | T13: =IFERROR(VLOOKUP(AB13,'様式C-1-1用'!$A$4:$AH$976,28,0),"") -> 要監視 | U13: =IFERROR(VLOOKUP(AB13,'様式C-1-1用'!$A$4:$AH$976,29,0),"") -> 継続 | V13: =IFERROR(VLOOKUP(AB13,'様式C-1-1用'!$A$4:$AH$976,30,0),"") -> 監視（日常巡視） | Z13: =IFERROR(VLOOKUP(AB13,'様式C-1-1用'!$A$4:$AH$976,32,0),"") -> 継続監視 | AB13: =AB12+1 -> 5
C14: =IFERROR(VLOOKUP(AB14,'様式C-1-1用'!$A$4:$AH$1073,4,0),0) -> 1 | E14: =IF(C14="","",VLOOKUP(AB14,'様式C-1-1用'!$A$4:$AH$1073,5,0)) -> 10 | F14: =IF(C14="","",VLOOKUP(AB14,'様式C-1-1用'!$A$4:$AH$1073,6)) -> 11.772 | G14: =IFERROR(VLOOKUP(AB14,'様式C-1-1用'!$A$4:$AH$1073,7,0),"") -> 路面 | H14: =IFERROR(VLOOKUP(AB14,'様式C-1-1用'!$A$4:$AH$1073,8,0),"") -> 監査歩廊 | I14: =IFERROR(VLOOKUP(AB14,'様式C-1-1用'!$A$4:$AH$1073,9,0),"") -> 材質劣化 | J14: =IFERROR(VLOOKUP(AB14,'様式C-1-1用'!$A$4:$AH$1073,10),"") -> 欠損 | M14: =IFERROR(VLOOKUP(AB14,'様式C-1-1用'!$A$4:$AH$1073,17,0),"") -> 0.5m×0.5m | N14: =IFERROR(VLOOKUP(AB14,'様式C-1-1用'!$A$4:$AH$1073,20,0),"") -> 進行が認められない | O14: =IFERROR(VLOOKUP(AB14,'様式C-1-1用'!$A$4:$AH$1073,21,0),"") -> 対策区分判定Ⅱb | P14: =IFERROR(VLOOKUP(AB14,'様式C-1-1用'!$A$4:$AH$1073,22,0),"") -> Ⅱ | Q14: =IFERROR(VLOOKUP(AB14,'様式C-1-1用'!$A$4:$AH$1073,23),"") -> 0 | R14: =IFERROR(VLOOKUP(AB14,'様式C-1-1用'!$A$4:$AH$1073,24,0),"") -> － | S14: =IFERROR(VLOOKUP(AB14,'様式C-1-1用'!$A$4:$AH$1073,27,0),"") -> － | T14: － | U14: =IFERROR(VLOOKUP(AB14,'様式C-1-1用'!$A$4:$AH$976,29,0),"") -> － | V14: =IFERROR(VLOOKUP(AB14,'様式C-1-1用'!$A$4:$AH$976,30,0),"") -> － | Z14: =IFERROR(VLOOKUP(AB14,'様式C-1-1用'!$A$4:$AH$976,32,0),"") -> － | AB14: =AB13+1 -> 6
C15: =IFERROR(VLOOKUP(AB15,'様式C-1-1用'!$A$4:$AH$1073,4,0),0) -> 1 | E15: =IF(C15="","",VLOOKUP(AB15,'様式C-1-1用'!$A$4:$AH$1073,5,0)) -> 11 | F15: =IF(C15="","",VLOOKUP(AB15,'様式C-1-1用'!$A$4:$AH$1073,6)) -> 11.772 | G15: =IFERROR(VLOOKUP(AB15,'様式C-1-1用'!$A$4:$AH$1073,7,0),"") -> 覆工・坑門 | H15: =IFERROR(VLOOKUP(AB15,'様式C-1-1用'!$A$4:$AH$1073,8,0),"") -> 側壁（右側） | I15: =IFERROR(VLOOKUP(AB15,'様式C-1-1用'!$A$4:$AH$1073,9,0),"") -> 材質劣化 | J15: =IFERROR(VLOOKUP(AB15,'様式C-1-1用'!$A$4:$AH$1073,10),"") -> うき・はく離 | M15: =IFERROR(VLOOKUP(AB15,'様式C-1-1用'!$A$4:$AH$1073,17,0),"") -> 2.7m×0.1m | N15: =IFERROR(VLOOKUP(AB15,'様式C-1-1用'!$A$4:$AH$1073,20,0),"") -> 新規確認 | O15: =IFERROR(VLOOKUP(AB15,'様式C-1-1用'!$A$4:$AH$1073,21,0),"") -> － | P15: =IFERROR(VLOOKUP(AB15,'様式C-1-1用'!$A$4:$AH$1073,22,0),"") -> － | Q15: =IFERROR(VLOOKUP(AB15,'様式C-1-1用'!$A$4:$AH$1073,23),"") -> 0 | R15: =IFERROR(VLOOKUP(AB15,'様式C-1-1用'!$A$4:$AH$1073,24,0),"") -> Ⅱb | S15: =IFERROR(VLOOKUP(AB15,'様式C-1-1用'!$A$4:$AH$1073,27,0),"") -> 否 | T15: =IFERROR(VLOOKUP(AB15,'様式C-1-1用'!$A$4:$AH$976,28,0),"") -> 要監視 | U15: =IFERROR(VLOOKUP(AB15,'様式C-1-1用'!$A$4:$AH$976,29,0),"") -> 未 | V15: =IFERROR(VLOOKUP(AB15,'様式C-1-1用'!$A$4:$AH$976,30,0),"") -> － | Z15: =IFERROR(VLOOKUP(AB15,'様式C-1-1用'!$A$4:$AH$976,32,0),"") -> 継続監視 | AB15: =AB14+1 -> 7
C16: =IFERROR(VLOOKUP(AB16,'様式C-1-1用'!$A$4:$AH$1073,4,0),0) -> 2 | E16: =IF(C16="","",VLOOKUP(AB16,'様式C-1-1用'!$A$4:$AH$1073,5,0)) -> 1 | F16: =IF(C16="","",VLOOKUP(AB16,'様式C-1-1用'!$A$4:$AH$1073,6)) -> 20.712 | G16: =IFERROR(VLOOKUP(AB16,'様式C-1-1用'!$A$4:$AH$1073,7,0),"") -> 覆工・坑門 | H16: =IFERROR(VLOOKUP(AB16,'様式C-1-1用'!$A$4:$AH$1073,8,0),"") -> アーチ（左側） | I16: =IFERROR(VLOOKUP(AB16,'様式C-1-1用'!$A$4:$AH$1073,9,0),"") -> 材質劣化 | J16: =IFERROR(VLOOKUP(AB16,'様式C-1-1用'!$A$4:$AH$1073,10),"") -> はく落 | M16: =IFERROR(VLOOKUP(AB16,'様式C-1-1用'!$A$4:$AH$1073,17,0),"") -> 0.4m×0.1m | N16: =IFERROR(VLOOKUP(AB16,'様式C-1-1用'!$A$4:$AH$1073,20,0),"") -> うき→はく落 | O16: =IFERROR(VLOOKUP(AB16,'様式C-1-1用'!$A$4:$AH$1073,21,0),"") -> 対策区分判定Ⅱa | P16: =IFERROR(VLOOKUP(AB16,'様式C-1-1用'!$A$4:$AH$1073,22,0),"") -> Ⅱ | Q16: =IFERROR(VLOOKUP(AB16,'様式C-1-1用'!$A$4:$AH$1073,23),"") -> 0 | R16: =IFERROR(VLOOKUP(AB16,'様式C-1-1用'!$A$4:$AH$1073,24,0),"") -> Ⅰ | S16: =IFERROR(VLOOKUP(AB16,'様式C-1-1用'!$A$4:$AH$1073,27,0),"") -> 否 | T16: =IFERROR(VLOOKUP(AB16,'様式C-1-1用'!$A$4:$AH$976,28,0),"") -> 否 | U16: =IFERROR(VLOOKUP(AB16,'様式C-1-1用'!$A$4:$AH$976,29,0),"") -> 済 | V16: =IFERROR(VLOOKUP(AB16,'様式C-1-1用'!$A$4:$AH$976,30,0),"") -> － | Z16: =IFERROR(VLOOKUP(AB16,'様式C-1-1用'!$A$4:$AH$976,32,0),"") -> － | AB16: =AB15+1 -> 8
C17: =IFERROR(VLOOKUP(AB17,'様式C-1-1用'!$A$4:$AH$1073,4,0),0) -> 2 | E17: =IF(C17="","",VLOOKUP(AB17,'様式C-1-1用'!$A$4:$AH$1073,5,0)) -> 2 | F17: =IF(C17="","",VLOOKUP(AB17,'様式C-1-1用'!$A$4:$AH$1073,6)) -> 20.712 | G17: =IFERROR(VLOOKUP(AB17,'様式C-1-1用'!$A$4:$AH$1073,7,0),"") -> 覆工・坑門 | H17: =IFERROR(VLOOKUP(AB17,'様式C-1-1用'!$A$4:$AH$1073,8,0),"") -> アーチ（右側） | I17: =IFERROR(VLOOKUP(AB17,'様式C-1-1用'!$A$4:$AH$1073,9,0),"") -> 漏水 | J17: =IFERROR(VLOOKUP(AB17,'様式C-1-1用'!$A$4:$AH$1073,10),"") -> 漏水 | M17: =IFERROR(VLOOKUP(AB17,'様式C-1-1用'!$A$4:$AH$1073,17,0),"") -> 0.6m×6.8m にじみ | N17: =IFERROR(VLOOKUP(AB17,'様式C-1-1用'!$A$4:$AH$1073,20,0),"") -> 進行が認められない | O17: =IFERROR(VLOOKUP(AB17,'様式C-1-1用'!$A$4:$AH$1073,21,0),"") -> 対策区分判定Ⅱb | P17: =IFERROR(VLOOKUP(AB17,'様式C-1-1用'!$A$4:$AH$1073,22,0),"") -> Ⅱ | Q17: =IFERROR(VLOOKUP(AB17,'様式C-1-1用'!$A$4:$AH$1073,23),"") -> 0 | R17: =IFERROR(VLOOKUP(AB17,'様式C-1-1用'!$A$4:$AH$1073,24,0),"") -> Ⅱb | S17: =IFERROR(VLOOKUP(AB17,'様式C-1-1用'!$A$4:$AH$1073,27,0),"") -> 否 | T17: =IFERROR(VLOOKUP(AB17,'様式C-1-1用'!$A$4:$AH$976,28,0),"") -> 要監視 | U17: =IFERROR(VLOOKUP(AB17,'様式C-1-1用'!$A$4:$AH$976,29,0),"") -> 継続 | V17: =IFERROR(VLOOKUP(AB17,'様式C-1-1用'!$A$4:$AH$976,30,0),"") -> 監視（日常巡視） | Z17: =IFERROR(VLOOKUP(AB17,'様式C-1-1用'!$A$4:$AH$976,32,0),"") -> 継続監視 | AB17: =AB16+1 -> 9
C18: =IFERROR(VLOOKUP(AB18,'様式C-1-1用'!$A$4:$AH$1073,4,0),0) -> 2 | E18: =IF(C18="","",VLOOKUP(AB18,'様式C-1-1用'!$A$4:$AH$1073,5,0)) -> 3 | F18: =IF(C18="","",VLOOKUP(AB18,'様式C-1-1用'!$A$4:$AH$1073,6)) -> 20.712 | G18: =IFERROR(VLOOKUP(AB18,'様式C-1-1用'!$A$4:$AH$1073,7,0),"") -> 路面 | H18: =IFERROR(VLOOKUP(AB18,'様式C-1-1用'!$A$4:$AH$1073,8,0),"") -> 監査歩廊 | I18: =IFERROR(VLOOKUP(AB18,'様式C-1-1用'!$A$4:$AH$1073,9,0),"") -> 材質劣化 | J18: =IFERROR(VLOOKUP(AB18,'様式C-1-1用'!$A$4:$AH$1073,10),"") -> 欠損 | M18: =IFERROR(VLOOKUP(AB18,'様式C-1-1用'!$A$4:$AH$1073,17,0),"") -> 0.5m×0.2m 内部鉄筋露出 | N18: =IFERROR(VLOOKUP(AB18,'様式C-1-1用'!$A$4:$AH$1073,20,0),"") -> 進行が認められない | O18: =IFERROR(VLOOKUP(AB18,'様式C-1-1用'!$A$4:$AH$1073,21,0),"") -> 対策区分判定Ⅱb | P18: =IFERROR(VLOOKUP(AB18,'様式C-1-1用'!$A$4:$AH$1073,22,0),"") -> Ⅱ | Q18: =IFERROR(VLOOKUP(AB18,'様式C-1-1用'!$A$4:$AH$1073,23),"") -> 0 | R18: =IFERROR(VLOOKUP(AB18,'様式C-1-1用'!$A$4:$AH$1073,24,0),"") -> － | S18: =IFERROR(VLOOKUP(AB18,'様式C-1-1用'!$A$4:$AH$1073,27,0),"") -> － | T18: － | U18: =IFERROR(VLOOKUP(AB18,'様式C-1-1用'!$A$4:$AH$976,29,0),"") -> － | V18: =IFERROR(VLOOKUP(AB18,'様式C-1-1用'!$A$4:$AH$976,30,0),"") -> － | Z18: =IFERROR(VLOOKUP(AB18,'様式C-1-1用'!$A$4:$AH$976,32,0),"") -> － | AB18: =AB17+1 -> 10
C19: =IFERROR(VLOOKUP(AB19,'様式C-1-1用'!$A$4:$AH$1073,4,0),0) -> 2 | E19: =IF(C19="","",VLOOKUP(AB19,'様式C-1-1用'!$A$4:$AH$1073,5,0)) -> 4 | F19: =IF(C19="","",VLOOKUP(AB19,'様式C-1-1用'!$A$4:$AH$1073,6)) -> 20.712 | G19: =IFERROR(VLOOKUP(AB19,'様式C-1-1用'!$A$4:$AH$1073,7,0),"") -> 路面 | H19: =IFERROR(VLOOKUP(AB19,'様式C-1-1用'!$A$4:$AH$1073,8,0),"") -> 監査歩廊 | I19: =IFERROR(VLOOKUP(AB19,'様式C-1-1用'!$A$4:$AH$1073,9,0),"") -> 材質劣化 | J19: =IFERROR(VLOOKUP(AB19,'様式C-1-1用'!$A$4:$AH$1073,10),"") -> 欠損 | M19: =IFERROR(VLOOKUP(AB19,'様式C-1-1用'!$A$4:$AH$1073,17,0),"") -> 0.5m×0.1m 内部鉄筋露出 | N19: =IFERROR(VLOOKUP(AB19,'様式C-1-1用'!$A$4:$AH$1073,20,0),"") -> 進行が認められない | O19: =IFERROR(VLOOKUP(AB19,'様式C-1-1用'!$A$4:$AH$1073,21,0),"") -> 対策区分判定Ⅱb | P19: =IFERROR(VLOOKUP(AB19,'様式C-1-1用'!$A$4:$AH$1073,22,0),"") -> Ⅱ | Q19: =IFERROR(VLOOKUP(AB19,'様式C-1-1用'!$A$4:$AH$1073,23),"") -> 0 | R19: =IFERROR(VLOOKUP(AB19,'様式C-1-1用'!$A$4:$AH$1073,24,0),"") -> － | S19: =IFERROR(VLOOKUP(AB19,'様式C-1-1用'!$A$4:$AH$1073,27,0),"") -> － | T19: － | U19: =IFERROR(VLOOKUP(AB19,'様式C-1-1用'!$A$4:$AH$976,29,0),"") -> － | V19: =IFERROR(VLOOKUP(AB19,'様式C-1-1用'!$A$4:$AH$976,30,0),"") -> － | Z19: =IFERROR(VLOOKUP(AB19,'様式C-1-1用'!$A$4:$AH$976,32,0),"") -> － | AB19: =AB18+1 -> 11
C20: =IFERROR(VLOOKUP(AB20,'様式C-1-1用'!$A$4:$AH$1073,4,0),0) -> 2 | E20: =IF(C20="","",VLOOKUP(AB20,'様式C-1-1用'!$A$4:$AH$1073,5,0)) -> 5 | F20: =IF(C20="","",VLOOKUP(AB20,'様式C-1-1用'!$A$4:$AH$1073,6)) -> 20.712 | G20: =IFERROR(VLOOKUP(AB20,'様式C-1-1用'!$A$4:$AH$1073,7,0),"") -> 路面 | H20: =IFERROR(VLOOKUP(AB20,'様式C-1-1用'!$A$4:$AH$1073,8,0),"") -> 車道 | I20: =IFERROR(VLOOKUP(AB20,'様式C-1-1用'!$A$4:$AH$1073,9,0),"") -> 漏水 | J20: =IFERROR(VLOOKUP(AB20,'様式C-1-1用'!$A$4:$AH$1073,10),"") -> 漏水 | M20: =IFERROR(VLOOKUP(AB20,'様式C-1-1用'!$A$4:$AH$1073,17,0),"") -> 1.0m×0.9m 遊離石灰 | N20: =IFERROR(VLOOKUP(AB20,'様式C-1-1用'!$A$4:$AH$1073,20,0),"") -> 進行が認められない | O20: =IFERROR(VLOOKUP(AB20,'様式C-1-1用'!$A$4:$AH$1073,21,0),"") -> 対策区分判定Ⅱb | P20: =IFERROR(VLOOKUP(AB20,'様式C-1-1用'!$A$4:$AH$1073,22,0),"") -> Ⅱ | Q20: =IFERROR(VLOOKUP(AB20,'様式C-1-1用'!$A$4:$AH$1073,23),"") -> 0 | R20: =IFERROR(VLOOKUP(AB20,'様式C-1-1用'!$A$4:$AH$1073,24,0),"") -> － | S20: =IFERROR(VLOOKUP(AB20,'様式C-1-1用'!$A$4:$AH$1073,27,0),"") -> － | T20: － | U20: =IFERROR(VLOOKUP(AB20,'様式C-1-1用'!$A$4:$AH$976,29,0),"") -> － | V20: =IFERROR(VLOOKUP(AB20,'様式C-1-1用'!$A$4:$AH$976,30,0),"") -> － | Z20: =IFERROR(VLOOKUP(AB20,'様式C-1-1用'!$A$4:$AH$976,32,0),"") -> － | AB20: =AB19+1 -> 12
C21: =IFERROR(VLOOKUP(AB21,'様式C-1-1用'!$A$4:$AH$1073,4,0),0) -> 2 | E21: =IF(C21="","",VLOOKUP(AB21,'様式C-1-1用'!$A$4:$AH$1073,5,0)) -> 6 | F21: =IF(C21="","",VLOOKUP(AB21,'様式C-1-1用'!$A$4:$AH$1073,6)) -> 20.712 | G21: =IFERROR(VLOOKUP(AB21,'様式C-1-1用'!$A$4:$AH$1073,7,0),"") -> 路面 | H21: =IFERROR(VLOOKUP(AB21,'様式C-1-1用'!$A$4:$AH$1073,8,0),"") -> 監査歩廊 | I21: =IFERROR(VLOOKUP(AB21,'様式C-1-1用'!$A$4:$AH$1073,9,0),"") -> 材質劣化 | J21: =IFERROR(VLOOKUP(AB21,'様式C-1-1用'!$A$4:$AH$1073,10),"") -> 欠損 | M21: =IFERROR(VLOOKUP(AB21,'様式C-1-1用'!$A$4:$AH$1073,17,0),"") -> 0.5m×0.2m | N21: =IFERROR(VLOOKUP(AB21,'様式C-1-1用'!$A$4:$AH$1073,20,0),"") -> 進行が認められない | O21: =IFERROR(VLOOKUP(AB21,'様式C-1-1用'!$A$4:$AH$1073,21,0),"") -> 対策区分判定Ⅱb | P21: =IFERROR(VLOOKUP(AB21,'様式C-1-1用'!$A$4:$AH$1073,22,0),"") -> Ⅱ | Q21: =IFERROR(VLOOKUP(AB21,'様式C-1-1用'!$A$4:$AH$1073,23),"") -> 0 | R21: =IFERROR(VLOOKUP(AB21,'様式C-1-1用'!$A$4:$AH$1073,24,0),"") -> － | S21: =IFERROR(VLOOKUP(AB21,'様式C-1-1用'!$A$4:$AH$1073,27,0),"") -> － | T21: － | U21: =IFERROR(VLOOKUP(AB21,'様式C-1-1用'!$A$4:$AH$976,29,0),"") -> － | V21: =IFERROR(VLOOKUP(AB21,'様式C-1-1用'!$A$4:$AH$976,30,0),"") -> － | Z21: =IFERROR(VLOOKUP(AB21,'様式C-1-1用'!$A$4:$AH$976,32,0),"") -> － | AB21: =AB20+1 -> 13
C22: =IFERROR(VLOOKUP(AB22,'様式C-1-1用'!$A$4:$AH$1073,4,0),0) -> 3 | E22: =IF(C22="","",VLOOKUP(AB22,'様式C-1-1用'!$A$4:$AH$1073,5,0)) -> 1 | F22: =IF(C22="","",VLOOKUP(AB22,'様式C-1-1用'!$A$4:$AH$1073,6)) -> 29.652 | G22: =IFERROR(VLOOKUP(AB22,'様式C-1-1用'!$A$4:$AH$1073,7,0),"") -> 覆工・坑門 | H22: =IFERROR(VLOOKUP(AB22,'様式C-1-1用'!$A$4:$AH$1073,8,0),"") -> アーチ（天端） | I22: =IFERROR(VLOOKUP(AB22,'様式C-1-1用'!$A$4:$AH$1073,9,0),"") -> 漏水 | J22: =IFERROR(VLOOKUP(AB22,'様式C-1-1用'!$A$4:$AH$1073,10),"") -> 補修跡 | M22: =IFERROR(VLOOKUP(AB22,'様式C-1-1用'!$A$4:$AH$1073,17,0),"") -> 15.6m×0.4m 導水工 | N22: =IFERROR(VLOOKUP(AB22,'様式C-1-1用'!$A$4:$AH$1073,20,0),"") -> 対策済 | O22: =IFERROR(VLOOKUP(AB22,'様式C-1-1用'!$A$4:$AH$1073,21,0),"") -> 対策区分判定Ⅱb | P22: =IFERROR(VLOOKUP(AB22,'様式C-1-1用'!$A$4:$AH$1073,22,0),"") -> Ⅱ | Q22: =IFERROR(VLOOKUP(AB22,'様式C-1-1用'!$A$4:$AH$1073,23),"") -> 0 | R22: =IFERROR(VLOOKUP(AB22,'様式C-1-1用'!$A$4:$AH$1073,24,0),"") -> Ⅰ | S22: =IFERROR(VLOOKUP(AB22,'様式C-1-1用'!$A$4:$AH$1073,27,0),"") -> 否 | T22: =IFERROR(VLOOKUP(AB22,'様式C-1-1用'!$A$4:$AH$976,28,0),"") -> 否 | U22: =IFERROR(VLOOKUP(AB22,'様式C-1-1用'!$A$4:$AH$976,29,0),"") -> 済 | V22: =IFERROR(VLOOKUP(AB22,'様式C-1-1用'!$A$4:$AH$976,30,0),"") -> － | Z22: =IFERROR(VLOOKUP(AB22,'様式C-1-1用'!$A$4:$AH$976,32,0),"") -> － | AB22: =AB21+1 -> 14
C23: =IFERROR(VLOOKUP(AB23,'様式C-1-1用'!$A$4:$AH$1073,4,0),0) -> 3 | E23: =IF(C23="","",VLOOKUP(AB23,'様式C-1-1用'!$A$4:$AH$1073,5,0)) -> 2 | F23: =IF(C23="","",VLOOKUP(AB23,'様式C-1-1用'!$A$4:$AH$1073,6)) -> 29.652 | G23: =IFERROR(VLOOKUP(AB23,'様式C-1-1用'!$A$4:$AH$1073,7,0),"") -> 路面 | H23: =IFERROR(VLOOKUP(AB23,'様式C-1-1用'!$A$4:$AH$1073,8,0),"") -> 監査歩廊 | I23: =IFERROR(VLOOKUP(AB23,'様式C-1-1用'!$A$4:$AH$1073,9,0),"") -> 材質劣化 | J23: =IFERROR(VLOOKUP(AB23,'様式C-1-1用'!$A$4:$AH$1073,10),"") -> 欠損 | M23: =IFERROR(VLOOKUP(AB23,'様式C-1-1用'!$A$4:$AH$1073,17,0),"") -> 0.5m×0.1m 内部鉄筋露出 | N23: =IFERROR(VLOOKUP(AB23,'様式C-1-1用'!$A$4:$AH$1073,20,0),"") -> 進行が認められない | O23: =IFERROR(VLOOKUP(AB23,'様式C-1-1用'!$A$4:$AH$1073,21,0),"") -> 対策区分判定Ⅱb | P23: =IFERROR(VLOOKUP(AB23,'様式C-1-1用'!$A$4:$AH$1073,22,0),"") -> Ⅱ | Q23: =IFERROR(VLOOKUP(AB23,'様式C-1-1用'!$A$4:$AH$1073,23),"") -> 0 | R23: =IFERROR(VLOOKUP(AB23,'様式C-1-1用'!$A$4:$AH$1073,24,0),"") -> － | S23: =IFERROR(VLOOKUP(AB23,'様式C-1-1用'!$A$4:$AH$1073,27,0),"") -> － | T23: － | U23: =IFERROR(VLOOKUP(AB23,'様式C-1-1用'!$A$4:$AH$976,29,0),"") -> － | V23: =IFERROR(VLOOKUP(AB23,'様式C-1-1用'!$A$4:$AH$976,30,0),"") -> － | Z23: =IFERROR(VLOOKUP(AB23,'様式C-1-1用'!$A$4:$AH$976,32,0),"") -> － | AB23: =AB22+1 -> 15
C24: =IFERROR(VLOOKUP(AB24,'様式C-1-1用'!$A$4:$AH$1073,4,0),0) -> 3 | E24: =IF(C24="","",VLOOKUP(AB24,'様式C-1-1用'!$A$4:$AH$1073,5,0)) -> 3 | F24: =IF(C24="","",VLOOKUP(AB24,'様式C-1-1用'!$A$4:$AH$1073,6)) -> 29.652 | G24: =IFERROR(VLOOKUP(AB24,'様式C-1-1用'!$A$4:$AH$1073,7,0),"") -> 路面 | H24: =IFERROR(VLOOKUP(AB24,'様式C-1-1用'!$A$4:$AH$1073,8,0),"") -> 車道 | I24: =IFERROR(VLOOKUP(AB24,'様式C-1-1用'!$A$4:$AH$1073,9,0),"") -> 材質劣化 | J24: =IFERROR(VLOOKUP(AB24,'様式C-1-1用'!$A$4:$AH$1073,10),"") -> うき・はく離 | M24: =IFERROR(VLOOKUP(AB24,'様式C-1-1用'!$A$4:$AH$1073,17,0),"") -> 0.2m×0.1m | N24: =IFERROR(VLOOKUP(AB24,'様式C-1-1用'!$A$4:$AH$1073,20,0),"") -> 進行が認められない | O24: =IFERROR(VLOOKUP(AB24,'様式C-1-1用'!$A$4:$AH$1073,21,0),"") -> 対策区分判定Ⅱb | P24: =IFERROR(VLOOKUP(AB24,'様式C-1-1用'!$A$4:$AH$1073,22,0),"") -> Ⅱ | Q24: =IFERROR(VLOOKUP(AB24,'様式C-1-1用'!$A$4:$AH$1073,23),"") -> 0 | R24: =IFERROR(VLOOKUP(AB24,'様式C-1-1用'!$A$4:$AH$1073,24,0),"") -> － | S24: =IFERROR(VLOOKUP(AB24,'様式C-1-1用'!$A$4:$AH$1073,27,0),"") -> － | T24: － | U24: =IFERROR(VLOOKUP(AB24,'様式C-1-1用'!$A$4:$AH$976,29,0),"") -> － | V24: =IFERROR(VLOOKUP(AB24,'様式C-1-1用'!$A$4:$AH$976,30,0),"") -> － | Z24: =IFERROR(VLOOKUP(AB24,'様式C-1-1用'!$A$4:$AH$976,32,0),"") -> － | AB24: =AB23+1 -> 16
C25: =IFERROR(VLOOKUP(AB25,'様式C-1-1用'!$A$4:$AH$1073,4,0),0) -> 3 | E25: =IF(C25="","",VLOOKUP(AB25,'様式C-1-1用'!$A$4:$AH$1073,5,0)) -> 4 | F25: =IF(C25="","",VLOOKUP(AB25,'様式C-1-1用'!$A$4:$AH$1073,6)) -> 29.652 | G25: =IFERROR(VLOOKUP(AB25,'様式C-1-1用'!$A$4:$AH$1073,7,0),"") -> 路面 | H25: =IFERROR(VLOOKUP(AB25,'様式C-1-1用'!$A$4:$AH$1073,8,0),"") -> 車道 | I25: =IFERROR(VLOOKUP(AB25,'様式C-1-1用'!$A$4:$AH$1073,9,0),"") -> 漏水 | J25: =IFERROR(VLOOKUP(AB25,'様式C-1-1用'!$A$4:$AH$1073,10),"") -> 漏水 | M25: =IFERROR(VLOOKUP(AB25,'様式C-1-1用'!$A$4:$AH$1073,17,0),"") -> 0.5m×1.1m 遊離石灰 | N25: =IFERROR(VLOOKUP(AB25,'様式C-1-1用'!$A$4:$AH$1073,20,0),"") -> 進行が認められない | O25: =IFERROR(VLOOKUP(AB25,'様式C-1-1用'!$A$4:$AH$1073,21,0),"") -> 対策区分判定Ⅱb | P25: =IFERROR(VLOOKUP(AB25,'様式C-1-1用'!$A$4:$AH$1073,22,0),"") -> Ⅱ | Q25: =IFERROR(VLOOKUP(AB25,'様式C-1-1用'!$A$4:$AH$1073,23),"") -> 0 | R25: =IFERROR(VLOOKUP(AB25,'様式C-1-1用'!$A$4:$AH$1073,24,0),"") -> － | S25: =IFERROR(VLOOKUP(AB25,'様式C-1-1用'!$A$4:$AH$1073,27,0),"") -> － | T25: － | U25: =IFERROR(VLOOKUP(AB25,'様式C-1-1用'!$A$4:$AH$976,29,0),"") -> － | V25: =IFERROR(VLOOKUP(AB25,'様式C-1-1用'!$A$4:$AH$976,30,0),"") -> － | Z25: =IFERROR(VLOOKUP(AB25,'様式C-1-1用'!$A$4:$AH$976,32,0),"") -> － | AB25: =AB24+1 -> 17
C26: =IFERROR(VLOOKUP(AB26,'様式C-1-1用'!$A$4:$AH$1073,4,0),0) -> 3 | E26: =IF(C26="","",VLOOKUP(AB26,'様式C-1-1用'!$A$4:$AH$1073,5,0)) -> 5 | F26: =IF(C26="","",VLOOKUP(AB26,'様式C-1-1用'!$A$4:$AH$1073,6)) -> 29.652 | G26: =IFERROR(VLOOKUP(AB26,'様式C-1-1用'!$A$4:$AH$1073,7,0),"") -> 路面 | H26: =IFERROR(VLOOKUP(AB26,'様式C-1-1用'!$A$4:$AH$1073,8,0),"") -> 車道 | I26: =IFERROR(VLOOKUP(AB26,'様式C-1-1用'!$A$4:$AH$1073,9,0),"") -> 材質劣化 | J26: =IFERROR(VLOOKUP(AB26,'様式C-1-1用'!$A$4:$AH$1073,10),"") -> 鉄筋露出 | M26: =IFERROR(VLOOKUP(AB26,'様式C-1-1用'!$A$4:$AH$1073,17,0),"") -> 0.4m×0.1m | N26: =IFERROR(VLOOKUP(AB26,'様式C-1-1用'!$A$4:$AH$1073,20,0),"") -> 進行が認められない | O26: =IFERROR(VLOOKUP(AB26,'様式C-1-1用'!$A$4:$AH$1073,21,0),"") -> 対策区分判定Ⅱb | P26: =IFERROR(VLOOKUP(AB26,'様式C-1-1用'!$A$4:$AH$1073,22,0),"") -> Ⅱ | Q26: =IFERROR(VLOOKUP(AB26,'様式C-1-1用'!$A$4:$AH$1073,23),"") -> 0 | R26: =IFERROR(VLOOKUP(AB26,'様式C-1-1用'!$A$4:$AH$1073,24,0),"") -> － | S26: =IFERROR(VLOOKUP(AB26,'様式C-1-1用'!$A$4:$AH$1073,27,0),"") -> － | T26: － | U26: =IFERROR(VLOOKUP(AB26,'様式C-1-1用'!$A$4:$AH$976,29,0),"") -> － | V26: =IFERROR(VLOOKUP(AB26,'様式C-1-1用'!$A$4:$AH$976,30,0),"") -> － | Z26: =IFERROR(VLOOKUP(AB26,'様式C-1-1用'!$A$4:$AH$976,32,0),"") -> － | AB26: =AB25+1 -> 18
C27: =IFERROR(VLOOKUP(AB27,'様式C-1-1用'!$A$4:$AH$1073,4,0),0) -> 3 | E27: =IF(C27="","",VLOOKUP(AB27,'様式C-1-1用'!$A$4:$AH$1073,5,0)) -> 6 | F27: =IF(C27="","",VLOOKUP(AB27,'様式C-1-1用'!$A$4:$AH$1073,6)) -> 29.652 | G27: =IFERROR(VLOOKUP(AB27,'様式C-1-1用'!$A$4:$AH$1073,7,0),"") -> 路面 | H27: =IFERROR(VLOOKUP(AB27,'様式C-1-1用'!$A$4:$AH$1073,8,0),"") -> 監査歩廊 | I27: =IFERROR(VLOOKUP(AB27,'様式C-1-1用'!$A$4:$AH$1073,9,0),"") -> 材質劣化 | J27: =IFERROR(VLOOKUP(AB27,'様式C-1-1用'!$A$4:$AH$1073,10),"") -> 欠損 | M27: =IFERROR(VLOOKUP(AB27,'様式C-1-1用'!$A$4:$AH$1073,17,0),"") -> 0.5m×0.1m 内部鉄筋露出 | N27: =IFERROR(VLOOKUP(AB27,'様式C-1-1用'!$A$4:$AH$1073,20,0),"") -> 進行が認められない | O27: =IFERROR(VLOOKUP(AB27,'様式C-1-1用'!$A$4:$AH$1073,21,0),"") -> 対策区分判定Ⅱb | P27: =IFERROR(VLOOKUP(AB27,'様式C-1-1用'!$A$4:$AH$1073,22,0),"") -> Ⅱ | Q27: =IFERROR(VLOOKUP(AB27,'様式C-1-1用'!$A$4:$AH$1073,23),"") -> 0 | R27: =IFERROR(VLOOKUP(AB27,'様式C-1-1用'!$A$4:$AH$1073,24,0),"") -> － | S27: =IFERROR(VLOOKUP(AB27,'様式C-1-1用'!$A$4:$AH$1073,27,0),"") -> － | T27: － | U27: =IFERROR(VLOOKUP(AB27,'様式C-1-1用'!$A$4:$AH$976,29,0),"") -> － | V27: =IFERROR(VLOOKUP(AB27,'様式C-1-1用'!$A$4:$AH$976,30,0),"") -> － | Z27: =IFERROR(VLOOKUP(AB27,'様式C-1-1用'!$A$4:$AH$976,32,0),"") -> － | AB27: =AB26+1 -> 19
C28: =IFERROR(VLOOKUP(AB28,'様式C-1-1用'!$A$4:$AH$1073,4,0),0) -> 4 | E28: =IF(C28="","",VLOOKUP(AB28,'様式C-1-1用'!$A$4:$AH$1073,5,0)) -> 1 | F28: =IF(C28="","",VLOOKUP(AB28,'様式C-1-1用'!$A$4:$AH$1073,6)) -> 38.513 | G28: =IFERROR(VLOOKUP(AB28,'様式C-1-1用'!$A$4:$AH$1073,7,0),"") -> 覆工・坑門 | H28: =IFERROR(VLOOKUP(AB28,'様式C-1-1用'!$A$4:$AH$1073,8,0),"") -> 側壁（左側） | I28: =IFERROR(VLOOKUP(AB28,'様式C-1-1用'!$A$4:$AH$1073,9,0),"") -> 材質劣化 | J28: =IFERROR(VLOOKUP(AB28,'様式C-1-1用'!$A$4:$AH$1073,10),"") -> うき・はく離 | M28: =IFERROR(VLOOKUP(AB28,'様式C-1-1用'!$A$4:$AH$1073,17,0),"") -> 2.4m×1.7m | N28: =IFERROR(VLOOKUP(AB28,'様式C-1-1用'!$A$4:$AH$1073,20,0),"") -> 進行が認められない | O28: =IFERROR(VLOOKUP(AB28,'様式C-1-1用'!$A$4:$AH$1073,21,0),"") -> 対策区分判定Ⅱb | P28: =IFERROR(VLOOKUP(AB28,'様式C-1-1用'!$A$4:$AH$1073,22,0),"") -> Ⅱ | Q28: =IFERROR(VLOOKUP(AB28,'様式C-1-1用'!$A$4:$AH$1073,23),"") -> 0 | R28: =IFERROR(VLOOKUP(AB28,'様式C-1-1用'!$A$4:$AH$1073,24,0),"") -> Ⅱb | S28: =IFERROR(VLOOKUP(AB28,'様式C-1-1用'!$A$4:$AH$1073,27,0),"") -> 否 | T28: =IFERROR(VLOOKUP(AB28,'様式C-1-1用'!$A$4:$AH$976,28,0),"") -> 要監視 | U28: =IFERROR(VLOOKUP(AB28,'様式C-1-1用'!$A$4:$AH$976,29,0),"") -> 継続 | V28: =IFERROR(VLOOKUP(AB28,'様式C-1-1用'!$A$4:$AH$976,30,0),"") -> 監視（日常巡視） | Z28: =IFERROR(VLOOKUP(AB28,'様式C-1-1用'!$A$4:$AH$976,32,0),"") -> 継続監視 | AB28: =AB27+1 -> 20
C29: =IFERROR(VLOOKUP(AB29,'様式C-1-1用'!$A$4:$AH$1073,4,0),0) -> 4 | E29: =IF(C29="","",VLOOKUP(AB29,'様式C-1-1用'!$A$4:$AH$1073,5,0)) -> 2 | F29: =IF(C29="","",VLOOKUP(AB29,'様式C-1-1用'!$A$4:$AH$1073,6)) -> 38.513 | G29: =IFERROR(VLOOKUP(AB29,'様式C-1-1用'!$A$4:$AH$1073,7,0),"") -> 覆工・坑門 | H29: =IFERROR(VLOOKUP(AB29,'様式C-1-1用'!$A$4:$AH$1073,8,0),"") -> アーチ（左側） | I29: =IFERROR(VLOOKUP(AB29,'様式C-1-1用'!$A$4:$AH$1073,9,0),"") -> 材質劣化 | J29: =IFERROR(VLOOKUP(AB29,'様式C-1-1用'!$A$4:$AH$1073,10),"") -> 補修跡 | M29: =IFERROR(VLOOKUP(AB29,'様式C-1-1用'!$A$4:$AH$1073,17,0),"") -> 15.6m×0.4m 導水工 | N29: =IFERROR(VLOOKUP(AB29,'様式C-1-1用'!$A$4:$AH$1073,20,0),"") -> 対策済 | O29: =IFERROR(VLOOKUP(AB29,'様式C-1-1用'!$A$4:$AH$1073,21,0),"") -> 対策区分判定Ⅱa | P29: =IFERROR(VLOOKUP(AB29,'様式C-1-1用'!$A$4:$AH$1073,22,0),"") -> Ⅱ | Q29: =IFERROR(VLOOKUP(AB29,'様式C-1-1用'!$A$4:$AH$1073,23),"") -> 0 | R29: =IFERROR(VLOOKUP(AB29,'様式C-1-1用'!$A$4:$AH$1073,24,0),"") -> Ⅰ | S29: =IFERROR(VLOOKUP(AB29,'様式C-1-1用'!$A$4:$AH$1073,27,0),"") -> 否 | T29: =IFERROR(VLOOKUP(AB29,'様式C-1-1用'!$A$4:$AH$976,28,0),"") -> 否 | U29: =IFERROR(VLOOKUP(AB29,'様式C-1-1用'!$A$4:$AH$976,29,0),"") -> 済 | V29: =IFERROR(VLOOKUP(AB29,'様式C-1-1用'!$A$4:$AH$976,30,0),"") -> － | Z29: =IFERROR(VLOOKUP(AB29,'様式C-1-1用'!$A$4:$AH$976,32,0),"") -> － | AB29: =AB28+1 -> 21
C30: =IFERROR(VLOOKUP(AB30,'様式C-1-1用'!$A$4:$AH$1073,4,0),0) -> 4 | E30: =IF(C30="","",VLOOKUP(AB30,'様式C-1-1用'!$A$4:$AH$1073,5,0)) -> 3 | F30: =IF(C30="","",VLOOKUP(AB30,'様式C-1-1用'!$A$4:$AH$1073,6)) -> 38.513 | G30: =IFERROR(VLOOKUP(AB30,'様式C-1-1用'!$A$4:$AH$1073,7,0),"") -> 覆工・坑門 | H30: =IFERROR(VLOOKUP(AB30,'様式C-1-1用'!$A$4:$AH$1073,8,0),"") -> アーチ（左側） | I30: =IFERROR(VLOOKUP(AB30,'様式C-1-1用'!$A$4:$AH$1073,9,0),"") -> 漏水 | J30: =IFERROR(VLOOKUP(AB30,'様式C-1-1用'!$A$4:$AH$1073,10),"") -> 補修跡 | M30: =IFERROR(VLOOKUP(AB30,'様式C-1-1用'!$A$4:$AH$1073,17,0),"") -> 6.4m×0.4m 導水工 | N30: =IFERROR(VLOOKUP(AB30,'様式C-1-1用'!$A$4:$AH$1073,20,0),"") -> 対策済 | O30: =IFERROR(VLOOKUP(AB30,'様式C-1-1用'!$A$4:$AH$1073,21,0),"") -> 対策区分判定Ⅱb | P30: =IFERROR(VLOOKUP(AB30,'様式C-1-1用'!$A$4:$AH$1073,22,0),"") -> Ⅱ | Q30: =IFERROR(VLOOKUP(AB30,'様式C-1-1用'!$A$4:$AH$1073,23),"") -> 0 | R30: =IFERROR(VLOOKUP(AB30,'様式C-1-1用'!$A$4:$AH$1073,24,0),"") -> Ⅰ | S30: =IFERROR(VLOOKUP(AB30,'様式C-1-1用'!$A$4:$AH$1073,27,0),"") -> 否 | T30: =IFERROR(VLOOKUP(AB30,'様式C-1-1用'!$A$4:$AH$976,28,0),"") -> 否 | U30: =IFERROR(VLOOKUP(AB30,'様式C-1-1用'!$A$4:$AH$976,29,0),"") -> 済 | V30: =IFERROR(VLOOKUP(AB30,'様式C-1-1用'!$A$4:$AH$976,30,0),"") -> － | Z30: =IFERROR(VLOOKUP(AB30,'様式C-1-1用'!$A$4:$AH$976,32,0),"") -> － | AB30: =AB29+1 -> 22
C31: =IFERROR(VLOOKUP(AB31,'様式C-1-1用'!$A$4:$AH$1073,4,0),0) -> 4 | E31: =IF(C31="","",VLOOKUP(AB31,'様式C-1-1用'!$A$4:$AH$1073,5,0)) -> 4 | F31: =IF(C31="","",VLOOKUP(AB31,'様式C-1-1用'!$A$4:$AH$1073,6)) -> 38.513 | G31: =IFERROR(VLOOKUP(AB31,'様式C-1-1用'!$A$4:$AH$1073,7,0),"") -> 覆工・坑門 | H31: =IFERROR(VLOOKUP(AB31,'様式C-1-1用'!$A$4:$AH$1073,8,0),"") -> アーチ（天端） | I31: =IFERROR(VLOOKUP(AB31,'様式C-1-1用'!$A$4:$AH$1073,9,0),"") -> 漏水 | J31: =IFERROR(VLOOKUP(AB31,'様式C-1-1用'!$A$4:$AH$1073,10),"") -> 補修跡 | M31: =IFERROR(VLOOKUP(AB31,'様式C-1-1用'!$A$4:$AH$1073,17,0),"") -> 1.8m×0.15m 導水工 | N31: =IFERROR(VLOOKUP(AB31,'様式C-1-1用'!$A$4:$AH$1073,20,0),"") -> 対策済 | O31: =IFERROR(VLOOKUP(AB31,'様式C-1-1用'!$A$4:$AH$1073,21,0),"") -> 対策区分判定Ⅱb | P31: =IFERROR(VLOOKUP(AB31,'様式C-1-1用'!$A$4:$AH$1073,22,0),"") -> Ⅱ | Q31: =IFERROR(VLOOKUP(AB31,'様式C-1-1用'!$A$4:$AH$1073,23),"") -> 0 | R31: =IFERROR(VLOOKUP(AB31,'様式C-1-1用'!$A$4:$AH$1073,24,0),"") -> Ⅰ | S31: =IFERROR(VLOOKUP(AB31,'様式C-1-1用'!$A$4:$AH$1073,27,0),"") -> 否 | T31: =IFERROR(VLOOKUP(AB31,'様式C-1-1用'!$A$4:$AH$976,28,0),"") -> 否 | U31: =IFERROR(VLOOKUP(AB31,'様式C-1-1用'!$A$4:$AH$976,29,0),"") -> 済 | V31: =IFERROR(VLOOKUP(AB31,'様式C-1-1用'!$A$4:$AH$976,30,0),"") -> － | Z31: =IFERROR(VLOOKUP(AB31,'様式C-1-1用'!$A$4:$AH$976,32,0),"") -> － | AB31: =AB30+1 -> 23
C32: =IFERROR(VLOOKUP(AB32,'様式C-1-1用'!$A$4:$AH$1073,4,0),0) -> 4 | E32: =IF(C32="","",VLOOKUP(AB32,'様式C-1-1用'!$A$4:$AH$1073,5,0)) -> 5 | F32: =IF(C32="","",VLOOKUP(AB32,'様式C-1-1用'!$A$4:$AH$1073,6)) -> 38.513 | G32: =IFERROR(VLOOKUP(AB32,'様式C-1-1用'!$A$4:$AH$1073,7,0),"") -> 覆工・坑門 | H32: =IFERROR(VLOOKUP(AB32,'様式C-1-1用'!$A$4:$AH$1073,8,0),"") -> アーチ（右側） | I32: =IFERROR(VLOOKUP(AB32,'様式C-1-1用'!$A$4:$AH$1073,9,0),"") -> 材質劣化 | J32: =IFERROR(VLOOKUP(AB32,'様式C-1-1用'!$A$4:$AH$1073,10),"") -> 補修跡 | M32: =IFERROR(VLOOKUP(AB32,'様式C-1-1用'!$A$4:$AH$1073,17,0),"") -> 3.7m×1.4m メッシュシート | N32: =IFERROR(VLOOKUP(AB32,'様式C-1-1用'!$A$4:$AH$1073,20,0),"") -> 対策済 | O32: =IFERROR(VLOOKUP(AB32,'様式C-1-1用'!$A$4:$AH$1073,21,0),"") -> 対策区分判定Ⅱa | P32: =IFERROR(VLOOKUP(AB32,'様式C-1-1用'!$A$4:$AH$1073,22,0),"") -> Ⅱ | Q32: =IFERROR(VLOOKUP(AB32,'様式C-1-1用'!$A$4:$AH$1073,23),"") -> 0 | R32: =IFERROR(VLOOKUP(AB32,'様式C-1-1用'!$A$4:$AH$1073,24,0),"") -> Ⅰ | S32: =IFERROR(VLOOKUP(AB32,'様式C-1-1用'!$A$4:$AH$1073,27,0),"") -> 否 | T32: =IFERROR(VLOOKUP(AB32,'様式C-1-1用'!$A$4:$AH$976,28,0),"") -> 否 | U32: =IFERROR(VLOOKUP(AB32,'様式C-1-1用'!$A$4:$AH$976,29,0),"") -> 済 | V32: =IFERROR(VLOOKUP(AB32,'様式C-1-1用'!$A$4:$AH$976,30,0),"") -> － | Z32: =IFERROR(VLOOKUP(AB32,'様式C-1-1用'!$A$4:$AH$976,32,0),"") -> － | AB32: =AB31+1 -> 24
C33: =IFERROR(VLOOKUP(AB33,'様式C-1-1用'!$A$4:$AH$1073,4,0),0) -> 4 | E33: =IF(C33="","",VLOOKUP(AB33,'様式C-1-1用'!$A$4:$AH$1073,5,0)) -> 6 | F33: =IF(C33="","",VLOOKUP(AB33,'様式C-1-1用'!$A$4:$AH$1073,6)) -> 38.513 | G33: =IFERROR(VLOOKUP(AB33,'様式C-1-1用'!$A$4:$AH$1073,7,0),"") -> 覆工・坑門 | H33: =IFERROR(VLOOKUP(AB33,'様式C-1-1用'!$A$4:$AH$1073,8,0),"") -> アーチ（右側） | I33: =IFERROR(VLOOKUP(AB33,'様式C-1-1用'!$A$4:$AH$1073,9,0),"") -> 漏水 | J33: =IFERROR(VLOOKUP(AB33,'様式C-1-1用'!$A$4:$AH$1073,10),"") -> 漏水 | M33: =IFERROR(VLOOKUP(AB33,'様式C-1-1用'!$A$4:$AH$1073,17,0),"") -> 0.6m×5.6m にじみ | N33: =IFERROR(VLOOKUP(AB33,'様式C-1-1用'!$A$4:$AH$1073,20,0),"") -> 進行が認められない | O33: =IFERROR(VLOOKUP(AB33,'様式C-1-1用'!$A$4:$AH$1073,21,0),"") -> 対策区分判定Ⅱb | P33: =IFERROR(VLOOKUP(AB33,'様式C-1-1用'!$A$4:$AH$1073,22,0),"") -> Ⅱ | Q33: =IFERROR(VLOOKUP(AB33,'様式C-1-1用'!$A$4:$AH$1073,23),"") -> 0 | R33: =IFERROR(VLOOKUP(AB33,'様式C-1-1用'!$A$4:$AH$1073,24,0),"") -> Ⅱb | S33: =IFERROR(VLOOKUP(AB33,'様式C-1-1用'!$A$4:$AH$1073,27,0),"") -> 否 | T33: =IFERROR(VLOOKUP(AB33,'様式C-1-1用'!$A$4:$AH$976,28,0),"") -> 要監視 | U33: =IFERROR(VLOOKUP(AB33,'様式C-1-1用'!$A$4:$AH$976,29,0),"") -> 継続 | V33: =IFERROR(VLOOKUP(AB33,'様式C-1-1用'!$A$4:$AH$976,30,0),"") -> 監視（日常巡視） | Z33: =IFERROR(VLOOKUP(AB33,'様式C-1-1用'!$A$4:$AH$976,32,0),"") -> 継続監視 | AB33: =AB32+1 -> 25
C34: =IFERROR(VLOOKUP(AB34,'様式C-1-1用'!$A$4:$AH$1073,4,0),0) -> 4 | E34: =IF(C34="","",VLOOKUP(AB34,'様式C-1-1用'!$A$4:$AH$1073,5,0)) -> 7 | F34: =IF(C34="","",VLOOKUP(AB34,'様式C-1-1用'!$A$4:$AH$1073,6)) -> 38.513 | G34: =IFERROR(VLOOKUP(AB34,'様式C-1-1用'!$A$4:$AH$1073,7,0),"") -> 覆工・坑門 | H34: =IFERROR(VLOOKUP(AB34,'様式C-1-1用'!$A$4:$AH$1073,8,0),"") -> 側壁（右側） | I34: =IFERROR(VLOOKUP(AB34,'様式C-1-1用'!$A$4:$AH$1073,9,0),"") -> 材質劣化 | J34: =IFERROR(VLOOKUP(AB34,'様式C-1-1用'!$A$4:$AH$1073,10),"") -> うき・はく離 | M34: =IFERROR(VLOOKUP(AB34,'様式C-1-1用'!$A$4:$AH$1073,17,0),"") -> 0.1m×0.2m | N34: =IFERROR(VLOOKUP(AB34,'様式C-1-1用'!$A$4:$AH$1073,20,0),"") -> 進行が認められない | O34: =IFERROR(VLOOKUP(AB34,'様式C-1-1用'!$A$4:$AH$1073,21,0),"") -> 対策区分判定Ⅱb | P34: =IFERROR(VLOOKUP(AB34,'様式C-1-1用'!$A$4:$AH$1073,22,0),"") -> Ⅱ | Q34: =IFERROR(VLOOKUP(AB34,'様式C-1-1用'!$A$4:$AH$1073,23),"") -> 0 | R34: =IFERROR(VLOOKUP(AB34,'様式C-1-1用'!$A$4:$AH$1073,24,0),"") -> Ⅱb | S34: =IFERROR(VLOOKUP(AB34,'様式C-1-1用'!$A$4:$AH$1073,27,0),"") -> 否 | T34: =IFERROR(VLOOKUP(AB34,'様式C-1-1用'!$A$4:$AH$976,28,0),"") -> 要監視 | U34: =IFERROR(VLOOKUP(AB34,'様式C-1-1用'!$A$4:$AH$976,29,0),"") -> 継続 | V34: =IFERROR(VLOOKUP(AB34,'様式C-1-1用'!$A$4:$AH$976,30,0),"") -> 監視（日常巡視） | Z34: =IFERROR(VLOOKUP(AB34,'様式C-1-1用'!$A$4:$AH$976,32,0),"") -> 継続監視 | AB34: =AB33+1 -> 26
C35: =IFERROR(VLOOKUP(AB35,'様式C-1-1用'!$A$4:$AH$1073,4,0),0) -> 4 | E35: =IF(C35="","",VLOOKUP(AB35,'様式C-1-1用'!$A$4:$AH$1073,5,0)) -> 8 | F35: =IF(C35="","",VLOOKUP(AB35,'様式C-1-1用'!$A$4:$AH$1073,6)) -> 38.513 | G35: =IFERROR(VLOOKUP(AB35,'様式C-1-1用'!$A$4:$AH$1073,7,0),"") -> 路面 | H35: =IFERROR(VLOOKUP(AB35,'様式C-1-1用'!$A$4:$AH$1073,8,0),"") -> 監査歩廊 | I35: =IFERROR(VLOOKUP(AB35,'様式C-1-1用'!$A$4:$AH$1073,9,0),"") -> 材質劣化 | J35: =IFERROR(VLOOKUP(AB35,'様式C-1-1用'!$A$4:$AH$1073,10),"") -> 欠損 | M35: =IFERROR(VLOOKUP(AB35,'様式C-1-1用'!$A$4:$AH$1073,17,0),"") -> 0.15m×0.5m 内部鉄筋露出 | N35: =IFERROR(VLOOKUP(AB35,'様式C-1-1用'!$A$4:$AH$1073,20,0),"") -> 進行が認められない | O35: =IFERROR(VLOOKUP(AB35,'様式C-1-1用'!$A$4:$AH$1073,21,0),"") -> 対策区分判定Ⅱb | P35: =IFERROR(VLOOKUP(AB35,'様式C-1-1用'!$A$4:$AH$1073,22,0),"") -> Ⅱ | Q35: =IFERROR(VLOOKUP(AB35,'様式C-1-1用'!$A$4:$AH$1073,23),"") -> 0 | R35: =IFERROR(VLOOKUP(AB35,'様式C-1-1用'!$A$4:$AH$1073,24,0),"") -> － | S35: =IFERROR(VLOOKUP(AB35,'様式C-1-1用'!$A$4:$AH$1073,27,0),"") -> － | T35: － | U35: =IFERROR(VLOOKUP(AB35,'様式C-1-1用'!$A$4:$AH$976,29,0),"") -> － | V35: =IFERROR(VLOOKUP(AB35,'様式C-1-1用'!$A$4:$AH$976,30,0),"") -> － | Z35: =IFERROR(VLOOKUP(AB35,'様式C-1-1用'!$A$4:$AH$976,32,0),"") -> － | AB35: =AB34+1 -> 27
C36: =IFERROR(VLOOKUP(AB36,'様式C-1-1用'!$A$4:$AH$1073,4,0),0) -> 4 | E36: =IF(C36="","",VLOOKUP(AB36,'様式C-1-1用'!$A$4:$AH$1073,5,0)) -> 9 | F36: =IF(C36="","",VLOOKUP(AB36,'様式C-1-1用'!$A$4:$AH$1073,6)) -> 38.513 | G36: =IFERROR(VLOOKUP(AB36,'様式C-1-1用'!$A$4:$AH$1073,7,0),"") -> 路面 | H36: =IFERROR(VLOOKUP(AB36,'様式C-1-1用'!$A$4:$AH$1073,8,0),"") -> 車道 | I36: =IFERROR(VLOOKUP(AB36,'様式C-1-1用'!$A$4:$AH$1073,9,0),"") -> 漏水 | J36: =IFERROR(VLOOKUP(AB36,'様式C-1-1用'!$A$4:$AH$1073,10),"") -> 漏水 | M36: =IFERROR(VLOOKUP(AB36,'様式C-1-1用'!$A$4:$AH$1073,17,0),"") -> 0.8m×1.3m にじみ,遊離石灰 | N36: =IFERROR(VLOOKUP(AB36,'様式C-1-1用'!$A$4:$AH$1073,20,0),"") -> 進行が認められない | O36: =IFERROR(VLOOKUP(AB36,'様式C-1-1用'!$A$4:$AH$1073,21,0),"") -> 対策区分判定Ⅱb | P36: =IFERROR(VLOOKUP(AB36,'様式C-1-1用'!$A$4:$AH$1073,22,0),"") -> Ⅱ | Q36: =IFERROR(VLOOKUP(AB36,'様式C-1-1用'!$A$4:$AH$1073,23),"") -> 0 | R36: =IFERROR(VLOOKUP(AB36,'様式C-1-1用'!$A$4:$AH$1073,24,0),"") -> － | S36: =IFERROR(VLOOKUP(AB36,'様式C-1-1用'!$A$4:$AH$1073,27,0),"") -> － | T36: － | U36: =IFERROR(VLOOKUP(AB36,'様式C-1-1用'!$A$4:$AH$976,29,0),"") -> － | V36: =IFERROR(VLOOKUP(AB36,'様式C-1-1用'!$A$4:$AH$976,30,0),"") -> － | Z36: =IFERROR(VLOOKUP(AB36,'様式C-1-1用'!$A$4:$AH$976,32,0),"") -> － | AB36: =AB35+1 -> 28
C37: =IFERROR(VLOOKUP(AB37,'様式C-1-1用'!$A$4:$AH$1073,4,0),0) -> 4 | E37: =IF(C37="","",VLOOKUP(AB37,'様式C-1-1用'!$A$4:$AH$1073,5,0)) -> 10 | F37: =IF(C37="","",VLOOKUP(AB37,'様式C-1-1用'!$A$4:$AH$1073,6)) -> 38.513 | G37: =IFERROR(VLOOKUP(AB37,'様式C-1-1用'!$A$4:$AH$1073,7,0),"") -> 路面 | H37: =IFERROR(VLOOKUP(AB37,'様式C-1-1用'!$A$4:$AH$1073,8,0),"") -> 車道 | I37: =IFERROR(VLOOKUP(AB37,'様式C-1-1用'!$A$4:$AH$1073,9,0),"") -> 材質劣化 | J37: =IFERROR(VLOOKUP(AB37,'様式C-1-1用'!$A$4:$AH$1073,10),"") -> うき・はく離 | M37: =IFERROR(VLOOKUP(AB37,'様式C-1-1用'!$A$4:$AH$1073,17,0),"") -> 0.2m×0.1m | N37: =IFERROR(VLOOKUP(AB37,'様式C-1-1用'!$A$4:$AH$1073,20,0),"") -> 進行が認められない | O37: =IFERROR(VLOOKUP(AB37,'様式C-1-1用'!$A$4:$AH$1073,21,0),"") -> 対策区分判定Ⅱb | P37: =IFERROR(VLOOKUP(AB37,'様式C-1-1用'!$A$4:$AH$1073,22,0),"") -> Ⅱ | Q37: =IFERROR(VLOOKUP(AB37,'様式C-1-1用'!$A$4:$AH$1073,23),"") -> 0 | R37: =IFERROR(VLOOKUP(AB37,'様式C-1-1用'!$A$4:$AH$1073,24,0),"") -> － | S37: =IFERROR(VLOOKUP(AB37,'様式C-1-1用'!$A$4:$AH$1073,27,0),"") -> － | T37: － | U37: =IFERROR(VLOOKUP(AB37,'様式C-1-1用'!$A$4:$AH$976,29,0),"") -> － | V37: =IFERROR(VLOOKUP(AB37,'様式C-1-1用'!$A$4:$AH$976,30,0),"") -> － | Z37: =IFERROR(VLOOKUP(AB37,'様式C-1-1用'!$A$4:$AH$976,32,0),"") -> － | AB37: =AB36+1 -> 29
C38: =IFERROR(VLOOKUP(AB38,'様式C-1-1用'!$A$4:$AH$1073,4,0),0) -> 4 | E38: =IF(C38="","",VLOOKUP(AB38,'様式C-1-1用'!$A$4:$AH$1073,5,0)) -> 11 | F38: =IF(C38="","",VLOOKUP(AB38,'様式C-1-1用'!$A$4:$AH$1073,6)) -> 38.513 | G38: =IFERROR(VLOOKUP(AB38,'様式C-1-1用'!$A$4:$AH$1073,7,0),"") -> 覆工・坑門 | H38: =IFERROR(VLOOKUP(AB38,'様式C-1-1用'!$A$4:$AH$1073,8,0),"") -> 側壁（左側） | I38: =IFERROR(VLOOKUP(AB38,'様式C-1-1用'!$A$4:$AH$1073,9,0),"") -> 材質劣化 | J38: =IFERROR(VLOOKUP(AB38,'様式C-1-1用'!$A$4:$AH$1073,10),"") -> うき・はく離 | M38: =IFERROR(VLOOKUP(AB38,'様式C-1-1用'!$A$4:$AH$1073,17,0),"") -> 0.2m×0.6m | N38: =IFERROR(VLOOKUP(AB38,'様式C-1-1用'!$A$4:$AH$1073,20,0),"") -> 新規確認 | O38: =IFERROR(VLOOKUP(AB38,'様式C-1-1用'!$A$4:$AH$1073,21,0),"") -> － | P38: =IFERROR(VLOOKUP(AB38,'様式C-1-1用'!$A$4:$AH$1073,22,0),"") -> － | Q38: =IFERROR(VLOOKUP(AB38,'様式C-1-1用'!$A$4:$AH$1073,23),"") -> 0 | R38: =IFERROR(VLOOKUP(AB38,'様式C-1-1用'!$A$4:$AH$1073,24,0),"") -> Ⅱb | S38: =IFERROR(VLOOKUP(AB38,'様式C-1-1用'!$A$4:$AH$1073,27,0),"") -> 否 | T38: =IFERROR(VLOOKUP(AB38,'様式C-1-1用'!$A$4:$AH$976,28,0),"") -> 要監視 | U38: =IFERROR(VLOOKUP(AB38,'様式C-1-1用'!$A$4:$AH$976,29,0),"") -> 未 | V38: =IFERROR(VLOOKUP(AB38,'様式C-1-1用'!$A$4:$AH$976,30,0),"") -> － | Z38: =IFERROR(VLOOKUP(AB38,'様式C-1-1用'!$A$4:$AH$976,32,0),"") -> 継続監視 | AB38: =AB37+1 -> 30
C39: =IFERROR(VLOOKUP(AB39,'様式C-1-1用'!$A$4:$AH$1073,4,0),0) -> 4 | E39: =IF(C39="","",VLOOKUP(AB39,'様式C-1-1用'!$A$4:$AH$1073,5,0)) -> 12 | F39: =IF(C39="","",VLOOKUP(AB39,'様式C-1-1用'!$A$4:$AH$1073,6)) -> 38.513 | G39: =IFERROR(VLOOKUP(AB39,'様式C-1-1用'!$A$4:$AH$1073,7,0),"") -> 覆工・坑門 | H39: =IFERROR(VLOOKUP(AB39,'様式C-1-1用'!$A$4:$AH$1073,8,0),"") -> 側壁（左側） | I39: =IFERROR(VLOOKUP(AB39,'様式C-1-1用'!$A$4:$AH$1073,9,0),"") -> 材質劣化 | J39: =IFERROR(VLOOKUP(AB39,'様式C-1-1用'!$A$4:$AH$1073,10),"") -> うき・はく離 | M39: =IFERROR(VLOOKUP(AB39,'様式C-1-1用'!$A$4:$AH$1073,17,0),"") -> 0.1m×1.5m | N39: =IFERROR(VLOOKUP(AB39,'様式C-1-1用'!$A$4:$AH$1073,20,0),"") -> 新規確認 | O39: =IFERROR(VLOOKUP(AB39,'様式C-1-1用'!$A$4:$AH$1073,21,0),"") -> － | P39: =IFERROR(VLOOKUP(AB39,'様式C-1-1用'!$A$4:$AH$1073,22,0),"") -> － | Q39: =IFERROR(VLOOKUP(AB39,'様式C-1-1用'!$A$4:$AH$1073,23),"") -> 0 | R39: =IFERROR(VLOOKUP(AB39,'様式C-1-1用'!$A$4:$AH$1073,24,0),"") -> Ⅱb | S39: =IFERROR(VLOOKUP(AB39,'様式C-1-1用'!$A$4:$AH$1073,27,0),"") -> 否 | T39: =IFERROR(VLOOKUP(AB39,'様式C-1-1用'!$A$4:$AH$976,28,0),"") -> 要監視 | U39: =IFERROR(VLOOKUP(AB39,'様式C-1-1用'!$A$4:$AH$976,29,0),"") -> 未 | V39: =IFERROR(VLOOKUP(AB39,'様式C-1-1用'!$A$4:$AH$976,30,0),"") -> － | Z39: =IFERROR(VLOOKUP(AB39,'様式C-1-1用'!$A$4:$AH$976,32,0),"") -> 継続監視 | AB39: =AB38+1 -> 31
C40: ※ 対策区分（応急措置後）の判定区分Ⅱ～Ⅳについて記入すること。また、点検前に実施された措置によりⅠと判定された変状も記入すること。
C41: ※ 応急措置を実施しないで判定した変状の対策区分は、対策区分の応急措置後の欄に記入すること。
C42: ※ 変状の除去が不完全で、緊急対応が必要な場合は対応方針欄に記入すること。
C43: ※ １区間の覆工に複数の変状がある場合は、変状箇所毎に記入すること。
C44: ※ 措置・監視点検を行った場合には、措置履歴、特記事項に記録を残すこと。（実施年度も記載）
C45: ※ 行が不足する場合は、適時、表の行を増やすこと。
C46: ※ 対策区分（応急措置後）の判定区分Ⅱ～Ⅳについて記入すること。また、点検前に実施された措置によりⅠと判定された変状も記入すること。
C47: ※ 応急措置を実施しないで判定した変状の対策区分は、対策区分の応急措置後の欄に記入すること。
C48: ※ 変状の除去が不完全で、緊急対応が必要な場合は対応方針欄に記入すること。
C49: ※ １区間の覆工に複数の変状がある場合は、変状箇所毎に記入すること。
C50: ※ 措置・監視点検を行った場合には、措置履歴、特記事項に記録を残すこと。（実施年度も記載）
C51: ※ 行が不足する場合は、適時、表の行を増やすこと。
B52: 定期点検結果 | C52: =IFERROR(VLOOKUP(AB52,'様式C-1-1用'!$A$4:$AH$1073,4,0),0) -> 4 | E52: =IF(C52="","",VLOOKUP(AB52,'様式C-1-1用'!$A$4:$AH$1073,5,0)) -> 13 | F52: =IF(C52="","",VLOOKUP(AB52,'様式C-1-1用'!$A$4:$AH$1073,6,0)) -> 38.513 | G52: =IFERROR(VLOOKUP(AB52,'様式C-1-1用'!$A$4:$AH$1073,7,0),"") -> 路面 | H52: =IFERROR(VLOOKUP(AB52,'様式C-1-1用'!$A$4:$AH$1073,8,0),"") -> 監査歩廊 | I52: =IFERROR(VLOOKUP(AB52,'様式C-1-1用'!$A$4:$AH$1073,9,0),"") -> 漏水 | J52: =IFERROR(VLOOKUP(AB52,'様式C-1-1用'!$A$4:$AH$1073,10),"") -> 滞水・沈砂 | M52: =IFERROR(VLOOKUP(AB52,'様式C-1-1用'!$A$4:$AH$1073,17,0),"") -> 0.4m×1.7m | N52: =IFERROR(VLOOKUP(AB52,'様式C-1-1用'!$A$4:$AH$1073,20,0),"") -> 新規確認 | O52: =IFERROR(VLOOKUP(AB52,'様式C-1-1用'!$A$4:$AH$1073,21,0),"") -> － | P52: =IFERROR(VLOOKUP(AB52,'様式C-1-1用'!$A$4:$AH$1073,22,0),"") -> － | Q52: =IFERROR(VLOOKUP(AB52,'様式C-1-1用'!$A$4:$AH$1073,23),"") -> 0 | R52: =IFERROR(VLOOKUP(AB52,'様式C-1-1用'!$A$4:$AH$1073,24,0),"") -> － | S52: =IFERROR(VLOOKUP(AB52,'様式C-1-1用'!$A$4:$AH$1073,27,0),"") -> － | T52: =IFERROR(VLOOKUP(AB52,'様式C-1-1用'!$A$4:$AH$976,28,0),"") -> － | U52: =IFERROR(VLOOKUP(AB52,'様式C-1-1用'!$A$4:$AH$976,29,0),"") -> － | V52: =IFERROR(VLOOKUP(AB52,'様式C-1-1用'!$A$4:$AH$976,30,0),"") -> － | Z52: =IFERROR(VLOOKUP(AB52,'様式C-1-1用'!$A$4:$AH$976,32,0),"") -> － | AB52: =AB39+1 -> 32
C53: =IFERROR(VLOOKUP(AB53,'様式C-1-1用'!$A$4:$AH$1073,4,0),0) -> 4 | E53: =IF(C53="","",VLOOKUP(AB53,'様式C-1-1用'!$A$4:$AH$1073,5,0)) -> 14 | F53: =IF(C53="","",VLOOKUP(AB53,'様式C-1-1用'!$A$4:$AH$1073,6)) -> 38.513 | G53: =IFERROR(VLOOKUP(AB53,'様式C-1-1用'!$A$4:$AH$1073,7,0),"") -> 路面 | H53: =IFERROR(VLOOKUP(AB53,'様式C-1-1用'!$A$4:$AH$1073,8,0),"") -> 監査歩廊 | I53: =IFERROR(VLOOKUP(AB53,'様式C-1-1用'!$A$4:$AH$1073,9,0),"") -> 漏水 | J53: =IFERROR(VLOOKUP(AB53,'様式C-1-1用'!$A$4:$AH$1073,10),"") -> 滞水・沈砂 | M53: =IFERROR(VLOOKUP(AB53,'様式C-1-1用'!$A$4:$AH$1073,17,0),"") -> 0.4m×1.7m | N53: =IFERROR(VLOOKUP(AB53,'様式C-1-1用'!$A$4:$AH$1073,20,0),"") -> 新規確認 | O53: =IFERROR(VLOOKUP(AB53,'様式C-1-1用'!$A$4:$AH$1073,21,0),"") -> － | P53: =IFERROR(VLOOKUP(AB53,'様式C-1-1用'!$A$4:$AH$1073,22,0),"") -> － | Q53: =IFERROR(VLOOKUP(AB53,'様式C-1-1用'!$A$4:$AH$1073,23),"") -> 0 | R53: =IFERROR(VLOOKUP(AB53,'様式C-1-1用'!$A$4:$AH$1073,24,0),"") -> － | S53: =IFERROR(VLOOKUP(AB53,'様式C-1-1用'!$A$4:$AH$1073,27,0),"") -> － | T53: =IFERROR(VLOOKUP(AB53,'様式C-1-1用'!$A$4:$AH$976,28,0),"") -> － | U53: =IFERROR(VLOOKUP(AB53,'様式C-1-1用'!$A$4:$AH$976,29,0),"") -> － | V53: =IFERROR(VLOOKUP(AB53,'様式C-1-1用'!$A$4:$AH$976,30,0),"") -> － | Z53: =IFERROR(VLOOKUP(AB53,'様式C-1-1用'!$A$4:$AH$976,32,0),"") -> － | AB53: =AB52+1 -> 33
C54: =IFERROR(VLOOKUP(AB54,'様式C-1-1用'!$A$4:$AH$1073,4,0),0) -> 4 | E54: =IF(C54="","",VLOOKUP(AB54,'様式C-1-1用'!$A$4:$AH$1073,5,0)) -> 15 | F54: =IF(C54="","",VLOOKUP(AB54,'様式C-1-1用'!$A$4:$AH$1073,6)) -> 38.513 | G54: =IFERROR(VLOOKUP(AB54,'様式C-1-1用'!$A$4:$AH$1073,7,0),"") -> 路面 | H54: =IFERROR(VLOOKUP(AB54,'様式C-1-1用'!$A$4:$AH$1073,8,0),"") -> 監査歩廊 | I54: =IFERROR(VLOOKUP(AB54,'様式C-1-1用'!$A$4:$AH$1073,9,0),"") -> 漏水 | J54: =IFERROR(VLOOKUP(AB54,'様式C-1-1用'!$A$4:$AH$1073,10),"") -> 滞水・沈砂 | M54: =IFERROR(VLOOKUP(AB54,'様式C-1-1用'!$A$4:$AH$1073,17,0),"") -> 0.8m×3.0m | N54: =IFERROR(VLOOKUP(AB54,'様式C-1-1用'!$A$4:$AH$1073,20,0),"") -> 新規確認 | O54: =IFERROR(VLOOKUP(AB54,'様式C-1-1用'!$A$4:$AH$1073,21,0),"") -> － | P54: =IFERROR(VLOOKUP(AB54,'様式C-1-1用'!$A$4:$AH$1073,22,0),"") -> － | Q54: =IFERROR(VLOOKUP(AB54,'様式C-1-1用'!$A$4:$AH$1073,23),"") -> 0 | R54: =IFERROR(VLOOKUP(AB54,'様式C-1-1用'!$A$4:$AH$1073,24,0),"") -> － | S54: =IFERROR(VLOOKUP(AB54,'様式C-1-1用'!$A$4:$AH$1073,27,0),"") -> － | T54: =IFERROR(VLOOKUP(AB54,'様式C-1-1用'!$A$4:$AH$976,28,0),"") -> － | U54: =IFERROR(VLOOKUP(AB54,'様式C-1-1用'!$A$4:$AH$976,29,0),"") -> － | V54: =IFERROR(VLOOKUP(AB54,'様式C-1-1用'!$A$4:$AH$976,30,0),"") -> － | Z54: =IFERROR(VLOOKUP(AB54,'様式C-1-1用'!$A$4:$AH$976,32,0),"") -> － | AB54: =AB53+1 -> 34
C55: =IFERROR(VLOOKUP(AB55,'様式C-1-1用'!$A$4:$AH$1073,4,0),0) -> 5 | E55: =IF(C55="","",VLOOKUP(AB55,'様式C-1-1用'!$A$4:$AH$1073,5,0)) -> 1 | F55: =IF(C55="","",VLOOKUP(AB55,'様式C-1-1用'!$A$4:$AH$1073,6)) -> 47.595 | G55: =IFERROR(VLOOKUP(AB55,'様式C-1-1用'!$A$4:$AH$1073,7,0),"") -> 覆工・坑門 | H55: =IFERROR(VLOOKUP(AB55,'様式C-1-1用'!$A$4:$AH$1073,8,0),"") -> 側壁（左側） | I55: =IFERROR(VLOOKUP(AB55,'様式C-1-1用'!$A$4:$AH$1073,9,0),"") -> 材質劣化 | J55: =IFERROR(VLOOKUP(AB55,'様式C-1-1用'!$A$4:$AH$1073,10),"") -> うき・はく離 | M55: =IFERROR(VLOOKUP(AB55,'様式C-1-1用'!$A$4:$AH$1073,17,0),"") -> 0.1m×4.4m | N55: =IFERROR(VLOOKUP(AB55,'様式C-1-1用'!$A$4:$AH$1073,20,0),"") -> 進行が認められない | O55: =IFERROR(VLOOKUP(AB55,'様式C-1-1用'!$A$4:$AH$1073,21,0),"") -> 対策区分判定Ⅱb | P55: =IFERROR(VLOOKUP(AB55,'様式C-1-1用'!$A$4:$AH$1073,22,0),"") -> Ⅱ | Q55: =IFERROR(VLOOKUP(AB55,'様式C-1-1用'!$A$4:$AH$1073,23),"") -> 0 | R55: =IFERROR(VLOOKUP(AB55,'様式C-1-1用'!$A$4:$AH$1073,24,0),"") -> Ⅱb | S55: =IFERROR(VLOOKUP(AB55,'様式C-1-1用'!$A$4:$AH$1073,27,0),"") -> 否 | T55: =IFERROR(VLOOKUP(AB55,'様式C-1-1用'!$A$4:$AH$976,28,0),"") -> 要監視 | U55: =IFERROR(VLOOKUP(AB55,'様式C-1-1用'!$A$4:$AH$976,29,0),"") -> 継続 | V55: =IFERROR(VLOOKUP(AB55,'様式C-1-1用'!$A$4:$AH$976,30,0),"") -> 監視（日常巡視） | Z55: =IFERROR(VLOOKUP(AB55,'様式C-1-1用'!$A$4:$AH$976,32,0),"") -> 継続監視 | AB55: =AB54+1 -> 35
C56: =IFERROR(VLOOKUP(AB56,'様式C-1-1用'!$A$4:$AH$1073,4,0),0) -> 5 | E56: =IF(C56="","",VLOOKUP(AB56,'様式C-1-1用'!$A$4:$AH$1073,5,0)) -> 5 | F56: =IF(C56="","",VLOOKUP(AB56,'様式C-1-1用'!$A$4:$AH$1073,6)) -> 47.595 | G56: =IFERROR(VLOOKUP(AB56,'様式C-1-1用'!$A$4:$AH$1073,7,0),"") -> 覆工・坑門 | H56: =IFERROR(VLOOKUP(AB56,'様式C-1-1用'!$A$4:$AH$1073,8,0),"") -> アーチ（左側） | I56: =IFERROR(VLOOKUP(AB56,'様式C-1-1用'!$A$4:$AH$1073,9,0),"") -> 漏水 | J56: =IFERROR(VLOOKUP(AB56,'様式C-1-1用'!$A$4:$AH$1073,10),"") -> 漏水 | M56: =IFERROR(VLOOKUP(AB56,'様式C-1-1用'!$A$4:$AH$1073,17,0),"") -> 0.25m×5.7m 遊離石灰 | N56: =IFERROR(VLOOKUP(AB56,'様式C-1-1用'!$A$4:$AH$1073,20,0),"") -> にじみ→遊離石灰 | O56: =IFERROR(VLOOKUP(AB56,'様式C-1-1用'!$A$4:$AH$1073,21,0),"") -> 対策区分判定Ⅱb | P56: =IFERROR(VLOOKUP(AB56,'様式C-1-1用'!$A$4:$AH$1073,22,0),"") -> Ⅱ | Q56: =IFERROR(VLOOKUP(AB56,'様式C-1-1用'!$A$4:$AH$1073,23),"") -> 0 | R56: =IFERROR(VLOOKUP(AB56,'様式C-1-1用'!$A$4:$AH$1073,24,0),"") -> Ⅱb | S56: =IFERROR(VLOOKUP(AB56,'様式C-1-1用'!$A$4:$AH$1073,27,0),"") -> 否 | T56: =IFERROR(VLOOKUP(AB56,'様式C-1-1用'!$A$4:$AH$976,28,0),"") -> 要監視 | U56: =IFERROR(VLOOKUP(AB56,'様式C-1-1用'!$A$4:$AH$976,29,0),"") -> 継続 | V56: =IFERROR(VLOOKUP(AB56,'様式C-1-1用'!$A$4:$AH$976,30,0),"") -> 監視（日常巡視） | Z56: =IFERROR(VLOOKUP(AB56,'様式C-1-1用'!$A$4:$AH$976,32,0),"") -> 継続監視 | AB56: =AB55+1 -> 36
C57: =IFERROR(VLOOKUP(AB57,'様式C-1-1用'!$A$4:$AH$1073,4,0),0) -> 5 | E57: =IF(C57="","",VLOOKUP(AB57,'様式C-1-1用'!$A$4:$AH$1073,5,0)) -> 6 | F57: =IF(C57="","",VLOOKUP(AB57,'様式C-1-1用'!$A$4:$AH$1073,6)) -> 47.595 | G57: =IFERROR(VLOOKUP(AB57,'様式C-1-1用'!$A$4:$AH$1073,7,0),"") -> 覆工・坑門 | H57: =IFERROR(VLOOKUP(AB57,'様式C-1-1用'!$A$4:$AH$1073,8,0),"") -> アーチ（左側） | I57: =IFERROR(VLOOKUP(AB57,'様式C-1-1用'!$A$4:$AH$1073,9,0),"") -> 漏水 | J57: =IFERROR(VLOOKUP(AB57,'様式C-1-1用'!$A$4:$AH$1073,10),"") -> 漏水 | M57: =IFERROR(VLOOKUP(AB57,'様式C-1-1用'!$A$4:$AH$1073,17,0),"") -> 0.2m×4.1m 遊離石灰 | N57: =IFERROR(VLOOKUP(AB57,'様式C-1-1用'!$A$4:$AH$1073,20,0),"") -> にじみ→遊離石灰 | O57: =IFERROR(VLOOKUP(AB57,'様式C-1-1用'!$A$4:$AH$1073,21,0),"") -> 対策区分判定Ⅱb | P57: =IFERROR(VLOOKUP(AB57,'様式C-1-1用'!$A$4:$AH$1073,22,0),"") -> Ⅱ | Q57: =IFERROR(VLOOKUP(AB57,'様式C-1-1用'!$A$4:$AH$1073,23),"") -> 0 | R57: =IFERROR(VLOOKUP(AB57,'様式C-1-1用'!$A$4:$AH$1073,24,0),"") -> Ⅱb | S57: =IFERROR(VLOOKUP(AB57,'様式C-1-1用'!$A$4:$AH$1073,27,0),"") -> 否 | T57: =IFERROR(VLOOKUP(AB57,'様式C-1-1用'!$A$4:$AH$976,28,0),"") -> 要監視 | U57: =IFERROR(VLOOKUP(AB57,'様式C-1-1用'!$A$4:$AH$976,29,0),"") -> 継続 | V57: =IFERROR(VLOOKUP(AB57,'様式C-1-1用'!$A$4:$AH$976,30,0),"") -> 監視（日常巡視） | Z57: =IFERROR(VLOOKUP(AB57,'様式C-1-1用'!$A$4:$AH$976,32,0),"") -> 継続監視 | AB57: =AB56+1 -> 37
C58: =IFERROR(VLOOKUP(AB58,'様式C-1-1用'!$A$4:$AH$1073,4,0),0) -> 5 | E58: =IF(C58="","",VLOOKUP(AB58,'様式C-1-1用'!$A$4:$AH$1073,5,0)) -> 7 | F58: =IF(C58="","",VLOOKUP(AB58,'様式C-1-1用'!$A$4:$AH$1073,6)) -> 47.595 | G58: =IFERROR(VLOOKUP(AB58,'様式C-1-1用'!$A$4:$AH$1073,7,0),"") -> 覆工・坑門 | H58: =IFERROR(VLOOKUP(AB58,'様式C-1-1用'!$A$4:$AH$1073,8,0),"") -> アーチ（左側） | I58: =IFERROR(VLOOKUP(AB58,'様式C-1-1用'!$A$4:$AH$1073,9,0),"") -> 漏水 | J58: =IFERROR(VLOOKUP(AB58,'様式C-1-1用'!$A$4:$AH$1073,10),"") -> 漏水 | M58: =IFERROR(VLOOKUP(AB58,'様式C-1-1用'!$A$4:$AH$1073,17,0),"") -> 2.1m×7.1m 遊離石灰 | N58: =IFERROR(VLOOKUP(AB58,'様式C-1-1用'!$A$4:$AH$1073,20,0),"") -> にじみ→遊離石灰 | O58: =IFERROR(VLOOKUP(AB58,'様式C-1-1用'!$A$4:$AH$1073,21,0),"") -> 対策区分判定Ⅱb | P58: =IFERROR(VLOOKUP(AB58,'様式C-1-1用'!$A$4:$AH$1073,22,0),"") -> Ⅱ | Q58: =IFERROR(VLOOKUP(AB58,'様式C-1-1用'!$A$4:$AH$1073,23),"") -> 0 | R58: =IFERROR(VLOOKUP(AB58,'様式C-1-1用'!$A$4:$AH$1073,24,0),"") -> Ⅱb | S58: =IFERROR(VLOOKUP(AB58,'様式C-1-1用'!$A$4:$AH$1073,27,0),"") -> 否 | T58: =IFERROR(VLOOKUP(AB58,'様式C-1-1用'!$A$4:$AH$976,28,0),"") -> 要監視 | U58: =IFERROR(VLOOKUP(AB58,'様式C-1-1用'!$A$4:$AH$976,29,0),"") -> 継続 | V58: =IFERROR(VLOOKUP(AB58,'様式C-1-1用'!$A$4:$AH$976,30,0),"") -> 監視（日常巡視） | Z58: =IFERROR(VLOOKUP(AB58,'様式C-1-1用'!$A$4:$AH$976,32,0),"") -> 継続監視 | AB58: =AB57+1 -> 38
C59: =IFERROR(VLOOKUP(AB59,'様式C-1-1用'!$A$4:$AH$1073,4,0),0) -> 5 | E59: =IF(C59="","",VLOOKUP(AB59,'様式C-1-1用'!$A$4:$AH$1073,5,0)) -> 8 | F59: =IF(C59="","",VLOOKUP(AB59,'様式C-1-1用'!$A$4:$AH$1073,6)) -> 47.595 | G59: =IFERROR(VLOOKUP(AB59,'様式C-1-1用'!$A$4:$AH$1073,7,0),"") -> 覆工・坑門 | H59: =IFERROR(VLOOKUP(AB59,'様式C-1-1用'!$A$4:$AH$1073,8,0),"") -> アーチ（右側） | I59: =IFERROR(VLOOKUP(AB59,'様式C-1-1用'!$A$4:$AH$1073,9,0),"") -> 漏水 | J59: =IFERROR(VLOOKUP(AB59,'様式C-1-1用'!$A$4:$AH$1073,10),"") -> 漏水 | M59: =IFERROR(VLOOKUP(AB59,'様式C-1-1用'!$A$4:$AH$1073,17,0),"") -> 0.2m×8.1m にじみ(一部遊離石灰) | N59: =IFERROR(VLOOKUP(AB59,'様式C-1-1用'!$A$4:$AH$1073,20,0),"") -> 進行が認められない | O59: =IFERROR(VLOOKUP(AB59,'様式C-1-1用'!$A$4:$AH$1073,21,0),"") -> 対策区分判定Ⅱb | P59: =IFERROR(VLOOKUP(AB59,'様式C-1-1用'!$A$4:$AH$1073,22,0),"") -> Ⅱ | Q59: =IFERROR(VLOOKUP(AB59,'様式C-1-1用'!$A$4:$AH$1073,23),"") -> 0 | R59: =IFERROR(VLOOKUP(AB59,'様式C-1-1用'!$A$4:$AH$1073,24,0),"") -> Ⅱb | S59: =IFERROR(VLOOKUP(AB59,'様式C-1-1用'!$A$4:$AH$1073,27,0),"") -> 否 | T59: =IFERROR(VLOOKUP(AB59,'様式C-1-1用'!$A$4:$AH$976,28,0),"") -> 要監視 | U59: =IFERROR(VLOOKUP(AB59,'様式C-1-1用'!$A$4:$AH$976,29,0),"") -> 継続 | V59: =IFERROR(VLOOKUP(AB59,'様式C-1-1用'!$A$4:$AH$976,30,0),"") -> 監視（日常巡視） | Z59: =IFERROR(VLOOKUP(AB59,'様式C-1-1用'!$A$4:$AH$976,32,0),"") -> 継続監視 | AB59: =AB58+1 -> 39
C60: =IFERROR(VLOOKUP(AB60,'様式C-1-1用'!$A$4:$AH$1073,4,0),0) -> 5 | E60: =IF(C60="","",VLOOKUP(AB60,'様式C-1-1用'!$A$4:$AH$1073,5,0)) -> 9 | F60: =IF(C60="","",VLOOKUP(AB60,'様式C-1-1用'!$A$4:$AH$1073,6)) -> 47.595 | G60: =IFERROR(VLOOKUP(AB60,'様式C-1-1用'!$A$4:$AH$1073,7,0),"") -> 覆工・坑門 | H60: =IFERROR(VLOOKUP(AB60,'様式C-1-1用'!$A$4:$AH$1073,8,0),"") -> アーチ（右側） | I60: =IFERROR(VLOOKUP(AB60,'様式C-1-1用'!$A$4:$AH$1073,9,0),"") -> 漏水 | J60: =IFERROR(VLOOKUP(AB60,'様式C-1-1用'!$A$4:$AH$1073,10),"") -> 補修跡 | M60: =IFERROR(VLOOKUP(AB60,'様式C-1-1用'!$A$4:$AH$1073,17,0),"") -> 7.6m×0.4m 導水工 | N60: =IFERROR(VLOOKUP(AB60,'様式C-1-1用'!$A$4:$AH$1073,20,0),"") -> 対策済 | O60: =IFERROR(VLOOKUP(AB60,'様式C-1-1用'!$A$4:$AH$1073,21,0),"") -> 対策区分判定Ⅱa | P60: =IFERROR(VLOOKUP(AB60,'様式C-1-1用'!$A$4:$AH$1073,22,0),"") -> Ⅱ | Q60: =IFERROR(VLOOKUP(AB60,'様式C-1-1用'!$A$4:$AH$1073,23),"") -> 0 | R60: =IFERROR(VLOOKUP(AB60,'様式C-1-1用'!$A$4:$AH$1073,24,0),"") -> Ⅰ | S60: =IFERROR(VLOOKUP(AB60,'様式C-1-1用'!$A$4:$AH$1073,27,0),"") -> 否 | T60: =IFERROR(VLOOKUP(AB60,'様式C-1-1用'!$A$4:$AH$976,28,0),"") -> 否 | U60: =IFERROR(VLOOKUP(AB60,'様式C-1-1用'!$A$4:$AH$976,29,0),"") -> 済 | V60: =IFERROR(VLOOKUP(AB60,'様式C-1-1用'!$A$4:$AH$976,30,0),"") -> － | Z60: =IFERROR(VLOOKUP(AB60,'様式C-1-1用'!$A$4:$AH$976,32,0),"") -> － | AB60: =AB59+1 -> 40
C61: =IFERROR(VLOOKUP(AB61,'様式C-1-1用'!$A$4:$AH$1073,4,0),0) -> 5 | E61: =IF(C61="","",VLOOKUP(AB61,'様式C-1-1用'!$A$4:$AH$1073,5,0)) -> 10 | F61: =IF(C61="","",VLOOKUP(AB61,'様式C-1-1用'!$A$4:$AH$1073,6)) -> 47.595 | G61: =IFERROR(VLOOKUP(AB61,'様式C-1-1用'!$A$4:$AH$1073,7,0),"") -> 覆工・坑門 | H61: =IFERROR(VLOOKUP(AB61,'様式C-1-1用'!$A$4:$AH$1073,8,0),"") -> 側壁（右側） | I61: =IFERROR(VLOOKUP(AB61,'様式C-1-1用'!$A$4:$AH$1073,9,0),"") -> 材質劣化 | J61: =IFERROR(VLOOKUP(AB61,'様式C-1-1用'!$A$4:$AH$1073,10),"") -> うき・はく離 | M61: =IFERROR(VLOOKUP(AB61,'様式C-1-1用'!$A$4:$AH$1073,17,0),"") -> 0.1m×3.0m | N61: =IFERROR(VLOOKUP(AB61,'様式C-1-1用'!$A$4:$AH$1073,20,0),"") -> 進行が認められない | O61: =IFERROR(VLOOKUP(AB61,'様式C-1-1用'!$A$4:$AH$1073,21,0),"") -> 対策区分判定Ⅱb | P61: =IFERROR(VLOOKUP(AB61,'様式C-1-1用'!$A$4:$AH$1073,22,0),"") -> Ⅱ | Q61: =IFERROR(VLOOKUP(AB61,'様式C-1-1用'!$A$4:$AH$1073,23),"") -> 0 | R61: =IFERROR(VLOOKUP(AB61,'様式C-1-1用'!$A$4:$AH$1073,24,0),"") -> Ⅱb | S61: =IFERROR(VLOOKUP(AB61,'様式C-1-1用'!$A$4:$AH$1073,27,0),"") -> 否 | T61: =IFERROR(VLOOKUP(AB61,'様式C-1-1用'!$A$4:$AH$976,28,0),"") -> 要監視 | U61: =IFERROR(VLOOKUP(AB61,'様式C-1-1用'!$A$4:$AH$976,29,0),"") -> 継続 | V61: =IFERROR(VLOOKUP(AB61,'様式C-1-1用'!$A$4:$AH$976,30,0),"") -> 監視（日常巡視） | Z61: =IFERROR(VLOOKUP(AB61,'様式C-1-1用'!$A$4:$AH$976,32,0),"") -> 継続監視 | AB61: =AB60+1 -> 41
C62: =IFERROR(VLOOKUP(AB62,'様式C-1-1用'!$A$4:$AH$1073,4,0),0) -> 5 | E62: =IF(C62="","",VLOOKUP(AB62,'様式C-1-1用'!$A$4:$AH$1073,5,0)) -> 11 | F62: =IF(C62="","",VLOOKUP(AB62,'様式C-1-1用'!$A$4:$AH$1073,6)) -> 47.595 | G62: =IFERROR(VLOOKUP(AB62,'様式C-1-1用'!$A$4:$AH$1073,7,0),"") -> 覆工・坑門 | H62: =IFERROR(VLOOKUP(AB62,'様式C-1-1用'!$A$4:$AH$1073,8,0),"") -> 側壁（右側） | I62: =IFERROR(VLOOKUP(AB62,'様式C-1-1用'!$A$4:$AH$1073,9,0),"") -> 材質劣化 | J62: =IFERROR(VLOOKUP(AB62,'様式C-1-1用'!$A$4:$AH$1073,10),"") -> うき・はく離 | M62: =IFERROR(VLOOKUP(AB62,'様式C-1-1用'!$A$4:$AH$1073,17,0),"") -> 2.4m×0.1m | N62: =IFERROR(VLOOKUP(AB62,'様式C-1-1用'!$A$4:$AH$1073,20,0),"") -> 進行が認められない | O62: =IFERROR(VLOOKUP(AB62,'様式C-1-1用'!$A$4:$AH$1073,21,0),"") -> 対策区分判定Ⅱb | P62: =IFERROR(VLOOKUP(AB62,'様式C-1-1用'!$A$4:$AH$1073,22,0),"") -> Ⅱ | Q62: =IFERROR(VLOOKUP(AB62,'様式C-1-1用'!$A$4:$AH$1073,23),"") -> 0 | R62: =IFERROR(VLOOKUP(AB62,'様式C-1-1用'!$A$4:$AH$1073,24,0),"") -> Ⅱb | S62: =IFERROR(VLOOKUP(AB62,'様式C-1-1用'!$A$4:$AH$1073,27,0),"") -> 否 | T62: =IFERROR(VLOOKUP(AB62,'様式C-1-1用'!$A$4:$AH$976,28,0),"") -> 要監視 | U62: =IFERROR(VLOOKUP(AB62,'様式C-1-1用'!$A$4:$AH$976,29,0),"") -> 継続 | V62: =IFERROR(VLOOKUP(AB62,'様式C-1-1用'!$A$4:$AH$976,30,0),"") -> 監視（日常巡視） | Z62: =IFERROR(VLOOKUP(AB62,'様式C-1-1用'!$A$4:$AH$976,32,0),"") -> 継続監視 | AB62: =AB61+1 -> 42
C63: =IFERROR(VLOOKUP(AB63,'様式C-1-1用'!$A$4:$AH$1073,4,0),0) -> 5 | E63: =IF(C63="","",VLOOKUP(AB63,'様式C-1-1用'!$A$4:$AH$1073,5,0)) -> 12 | F63: =IF(C63="","",VLOOKUP(AB63,'様式C-1-1用'!$A$4:$AH$1073,6)) -> 47.595 | G63: =IFERROR(VLOOKUP(AB63,'様式C-1-1用'!$A$4:$AH$1073,7,0),"") -> 覆工・坑門 | H63: =IFERROR(VLOOKUP(AB63,'様式C-1-1用'!$A$4:$AH$1073,8,0),"") -> 側壁（右側） | I63: =IFERROR(VLOOKUP(AB63,'様式C-1-1用'!$A$4:$AH$1073,9,0),"") -> 材質劣化 | J63: =IFERROR(VLOOKUP(AB63,'様式C-1-1用'!$A$4:$AH$1073,10),"") -> うき・はく離 | M63: =IFERROR(VLOOKUP(AB63,'様式C-1-1用'!$A$4:$AH$1073,17,0),"") -> 0.1m×5.3m | N63: =IFERROR(VLOOKUP(AB63,'様式C-1-1用'!$A$4:$AH$1073,20,0),"") -> 進行が認められない | O63: =IFERROR(VLOOKUP(AB63,'様式C-1-1用'!$A$4:$AH$1073,21,0),"") -> 対策区分判定Ⅱb | P63: =IFERROR(VLOOKUP(AB63,'様式C-1-1用'!$A$4:$AH$1073,22,0),"") -> Ⅱ | Q63: =IFERROR(VLOOKUP(AB63,'様式C-1-1用'!$A$4:$AH$1073,23),"") -> 0 | R63: =IFERROR(VLOOKUP(AB63,'様式C-1-1用'!$A$4:$AH$1073,24,0),"") -> Ⅱb | S63: =IFERROR(VLOOKUP(AB63,'様式C-1-1用'!$A$4:$AH$1073,27,0),"") -> 否 | T63: =IFERROR(VLOOKUP(AB63,'様式C-1-1用'!$A$4:$AH$976,28,0),"") -> 要監視 | U63: =IFERROR(VLOOKUP(AB63,'様式C-1-1用'!$A$4:$AH$976,29,0),"") -> 継続 | V63: =IFERROR(VLOOKUP(AB63,'様式C-1-1用'!$A$4:$AH$976,30,0),"") -> 監視（日常巡視） | Z63: =IFERROR(VLOOKUP(AB63,'様式C-1-1用'!$A$4:$AH$976,32,0),"") -> 継続監視 | AB63: =AB62+1 -> 43
C64: =IFERROR(VLOOKUP(AB64,'様式C-1-1用'!$A$4:$AH$1073,4,0),0) -> 5 | E64: =IF(C64="","",VLOOKUP(AB64,'様式C-1-1用'!$A$4:$AH$1073,5,0)) -> 13 | F64: =IF(C64="","",VLOOKUP(AB64,'様式C-1-1用'!$A$4:$AH$1073,6)) -> 47.595 | G64: =IFERROR(VLOOKUP(AB64,'様式C-1-1用'!$A$4:$AH$1073,7,0),"") -> 路面 | H64: =IFERROR(VLOOKUP(AB64,'様式C-1-1用'!$A$4:$AH$1073,8,0),"") -> 監査歩廊 | I64: =IFERROR(VLOOKUP(AB64,'様式C-1-1用'!$A$4:$AH$1073,9,0),"") -> 材質劣化 | J64: =IFERROR(VLOOKUP(AB64,'様式C-1-1用'!$A$4:$AH$1073,10),"") -> 欠損 | M64: =IFERROR(VLOOKUP(AB64,'様式C-1-1用'!$A$4:$AH$1073,17,0),"") -> 0.3m×0.1m 内部鉄筋露出 | N64: =IFERROR(VLOOKUP(AB64,'様式C-1-1用'!$A$4:$AH$1073,20,0),"") -> 進行が認められない | O64: =IFERROR(VLOOKUP(AB64,'様式C-1-1用'!$A$4:$AH$1073,21,0),"") -> 対策区分判定Ⅱb | P64: =IFERROR(VLOOKUP(AB64,'様式C-1-1用'!$A$4:$AH$1073,22,0),"") -> Ⅱ | Q64: =IFERROR(VLOOKUP(AB64,'様式C-1-1用'!$A$4:$AH$1073,23),"") -> 0 | R64: =IFERROR(VLOOKUP(AB64,'様式C-1-1用'!$A$4:$AH$1073,24,0),"") -> － | S64: =IFERROR(VLOOKUP(AB64,'様式C-1-1用'!$A$4:$AH$1073,27,0),"") -> － | T64: － | U64: =IFERROR(VLOOKUP(AB64,'様式C-1-1用'!$A$4:$AH$976,29,0),"") -> － | V64: =IFERROR(VLOOKUP(AB64,'様式C-1-1用'!$A$4:$AH$976,30,0),"") -> － | Z64: =IFERROR(VLOOKUP(AB64,'様式C-1-1用'!$A$4:$AH$976,32,0),"") -> － | AB64: =AB63+1 -> 44
C65: =IFERROR(VLOOKUP(AB65,'様式C-1-1用'!$A$4:$AH$1073,4,0),0) -> 5 | E65: =IF(C65="","",VLOOKUP(AB65,'様式C-1-1用'!$A$4:$AH$1073,5,0)) -> 14 | F65: =IF(C65="","",VLOOKUP(AB65,'様式C-1-1用'!$A$4:$AH$1073,6)) -> 47.595 | G65: =IFERROR(VLOOKUP(AB65,'様式C-1-1用'!$A$4:$AH$1073,7,0),"") -> 路面 | H65: =IFERROR(VLOOKUP(AB65,'様式C-1-1用'!$A$4:$AH$1073,8,0),"") -> 監査歩廊 | I65: =IFERROR(VLOOKUP(AB65,'様式C-1-1用'!$A$4:$AH$1073,9,0),"") -> 漏水 | J65: =IFERROR(VLOOKUP(AB65,'様式C-1-1用'!$A$4:$AH$1073,10),"") -> 滞水・沈砂 | M65: =IFERROR(VLOOKUP(AB65,'様式C-1-1用'!$A$4:$AH$1073,17,0),"") -> 0.5m×6.9m | N65: =IFERROR(VLOOKUP(AB65,'様式C-1-1用'!$A$4:$AH$1073,20,0),"") -> 新規確認 | O65: =IFERROR(VLOOKUP(AB65,'様式C-1-1用'!$A$4:$AH$1073,21,0),"") -> － | P65: =IFERROR(VLOOKUP(AB65,'様式C-1-1用'!$A$4:$AH$1073,22,0),"") -> － | Q65: =IFERROR(VLOOKUP(AB65,'様式C-1-1用'!$A$4:$AH$1073,23),"") -> 0 | R65: =IFERROR(VLOOKUP(AB65,'様式C-1-1用'!$A$4:$AH$1073,24,0),"") -> － | S65: =IFERROR(VLOOKUP(AB65,'様式C-1-1用'!$A$4:$AH$1073,27,0),"") -> － | T65: =IFERROR(VLOOKUP(AB65,'様式C-1-1用'!$A$4:$AH$976,28,0),"") -> － | U65: =IFERROR(VLOOKUP(AB65,'様式C-1-1用'!$A$4:$AH$976,29,0),"") -> － | V65: =IFERROR(VLOOKUP(AB65,'様式C-1-1用'!$A$4:$AH$976,30,0),"") -> － | Z65: =IFERROR(VLOOKUP(AB65,'様式C-1-1用'!$A$4:$AH$976,32,0),"") -> － | AB65: =AB64+1 -> 45
C66: =IFERROR(VLOOKUP(AB66,'様式C-1-1用'!$A$4:$AH$1073,4,0),0) -> 6 | E66: =IF(C66="","",VLOOKUP(AB66,'様式C-1-1用'!$A$4:$AH$1073,5,0)) -> 1 | F66: =IF(C66="","",VLOOKUP(AB66,'様式C-1-1用'!$A$4:$AH$1073,6)) -> 56.598 | G66: =IFERROR(VLOOKUP(AB66,'様式C-1-1用'!$A$4:$AH$1073,7,0),"") -> 覆工・坑門 | H66: =IFERROR(VLOOKUP(AB66,'様式C-1-1用'!$A$4:$AH$1073,8,0),"") -> 側壁（左側） | I66: =IFERROR(VLOOKUP(AB66,'様式C-1-1用'!$A$4:$AH$1073,9,0),"") -> 材質劣化 | J66: =IFERROR(VLOOKUP(AB66,'様式C-1-1用'!$A$4:$AH$1073,10),"") -> うき・はく離 | M66: =IFERROR(VLOOKUP(AB66,'様式C-1-1用'!$A$4:$AH$1073,17,0),"") -> 0.1m×1.5m | N66: =IFERROR(VLOOKUP(AB66,'様式C-1-1用'!$A$4:$AH$1073,20,0),"") -> 進行が認められない | O66: =IFERROR(VLOOKUP(AB66,'様式C-1-1用'!$A$4:$AH$1073,21,0),"") -> 対策区分判定Ⅱb | P66: =IFERROR(VLOOKUP(AB66,'様式C-1-1用'!$A$4:$AH$1073,22,0),"") -> Ⅱ | Q66: =IFERROR(VLOOKUP(AB66,'様式C-1-1用'!$A$4:$AH$1073,23),"") -> 0 | R66: =IFERROR(VLOOKUP(AB66,'様式C-1-1用'!$A$4:$AH$1073,24,0),"") -> Ⅱb | S66: =IFERROR(VLOOKUP(AB66,'様式C-1-1用'!$A$4:$AH$1073,27,0),"") -> 否 | T66: =IFERROR(VLOOKUP(AB66,'様式C-1-1用'!$A$4:$AH$976,28,0),"") -> 要監視 | U66: =IFERROR(VLOOKUP(AB66,'様式C-1-1用'!$A$4:$AH$976,29,0),"") -> 継続 | V66: =IFERROR(VLOOKUP(AB66,'様式C-1-1用'!$A$4:$AH$976,30,0),"") -> 監視（日常巡視） | Z66: =IFERROR(VLOOKUP(AB66,'様式C-1-1用'!$A$4:$AH$976,32,0),"") -> 継続監視 | AB66: =AB65+1 -> 46
C67: =IFERROR(VLOOKUP(AB67,'様式C-1-1用'!$A$4:$AH$1073,4,0),0) -> 6 | E67: =IF(C67="","",VLOOKUP(AB67,'様式C-1-1用'!$A$4:$AH$1073,5,0)) -> 2 | F67: =IF(C67="","",VLOOKUP(AB67,'様式C-1-1用'!$A$4:$AH$1073,6)) -> 56.598 | G67: =IFERROR(VLOOKUP(AB67,'様式C-1-1用'!$A$4:$AH$1073,7,0),"") -> 覆工・坑門 | H67: =IFERROR(VLOOKUP(AB67,'様式C-1-1用'!$A$4:$AH$1073,8,0),"") -> アーチ（左側） | I67: =IFERROR(VLOOKUP(AB67,'様式C-1-1用'!$A$4:$AH$1073,9,0),"") -> 漏水 | J67: =IFERROR(VLOOKUP(AB67,'様式C-1-1用'!$A$4:$AH$1073,10),"") -> 漏水 | M67: =IFERROR(VLOOKUP(AB67,'様式C-1-1用'!$A$4:$AH$1073,17,0),"") -> 0.1m×6.9m にじみ | N67: =IFERROR(VLOOKUP(AB67,'様式C-1-1用'!$A$4:$AH$1073,20,0),"") -> 進行が認められない | O67: =IFERROR(VLOOKUP(AB67,'様式C-1-1用'!$A$4:$AH$1073,21,0),"") -> 対策区分判定Ⅱb | P67: =IFERROR(VLOOKUP(AB67,'様式C-1-1用'!$A$4:$AH$1073,22,0),"") -> Ⅱ | Q67: =IFERROR(VLOOKUP(AB67,'様式C-1-1用'!$A$4:$AH$1073,23),"") -> 0 | R67: =IFERROR(VLOOKUP(AB67,'様式C-1-1用'!$A$4:$AH$1073,24,0),"") -> Ⅱb | S67: =IFERROR(VLOOKUP(AB67,'様式C-1-1用'!$A$4:$AH$1073,27,0),"") -> 否 | T67: =IFERROR(VLOOKUP(AB67,'様式C-1-1用'!$A$4:$AH$976,28,0),"") -> 要監視 | U67: =IFERROR(VLOOKUP(AB67,'様式C-1-1用'!$A$4:$AH$976,29,0),"") -> 継続 | V67: =IFERROR(VLOOKUP(AB67,'様式C-1-1用'!$A$4:$AH$976,30,0),"") -> 監視（日常巡視） | Z67: =IFERROR(VLOOKUP(AB67,'様式C-1-1用'!$A$4:$AH$976,32,0),"") -> 継続監視 | AB67: =AB66+1 -> 47
C68: =IFERROR(VLOOKUP(AB68,'様式C-1-1用'!$A$4:$AH$1073,4,0),0) -> 6 | E68: =IF(C68="","",VLOOKUP(AB68,'様式C-1-1用'!$A$4:$AH$1073,5,0)) -> 3 | F68: =IF(C68="","",VLOOKUP(AB68,'様式C-1-1用'!$A$4:$AH$1073,6)) -> 56.598 | G68: =IFERROR(VLOOKUP(AB68,'様式C-1-1用'!$A$4:$AH$1073,7,0),"") -> 覆工・坑門 | H68: =IFERROR(VLOOKUP(AB68,'様式C-1-1用'!$A$4:$AH$1073,8,0),"") -> アーチ（左側） | I68: =IFERROR(VLOOKUP(AB68,'様式C-1-1用'!$A$4:$AH$1073,9,0),"") -> 漏水 | J68: =IFERROR(VLOOKUP(AB68,'様式C-1-1用'!$A$4:$AH$1073,10),"") -> 漏水 | M68: =IFERROR(VLOOKUP(AB68,'様式C-1-1用'!$A$4:$AH$1073,17,0),"") -> 0.38m×7.2m 遊離石灰 | N68: =IFERROR(VLOOKUP(AB68,'様式C-1-1用'!$A$4:$AH$1073,20,0),"") -> にじみ→遊離石灰 | O68: =IFERROR(VLOOKUP(AB68,'様式C-1-1用'!$A$4:$AH$1073,21,0),"") -> 対策区分判定Ⅱb | P68: =IFERROR(VLOOKUP(AB68,'様式C-1-1用'!$A$4:$AH$1073,22,0),"") -> Ⅱ | Q68: =IFERROR(VLOOKUP(AB68,'様式C-1-1用'!$A$4:$AH$1073,23),"") -> 0 | R68: =IFERROR(VLOOKUP(AB68,'様式C-1-1用'!$A$4:$AH$1073,24,0),"") -> Ⅱb | S68: =IFERROR(VLOOKUP(AB68,'様式C-1-1用'!$A$4:$AH$1073,27,0),"") -> 否 | T68: =IFERROR(VLOOKUP(AB68,'様式C-1-1用'!$A$4:$AH$976,28,0),"") -> 要監視 | U68: =IFERROR(VLOOKUP(AB68,'様式C-1-1用'!$A$4:$AH$976,29,0),"") -> 継続 | V68: =IFERROR(VLOOKUP(AB68,'様式C-1-1用'!$A$4:$AH$976,30,0),"") -> 監視（日常巡視） | Z68: =IFERROR(VLOOKUP(AB68,'様式C-1-1用'!$A$4:$AH$976,32,0),"") -> 継続監視 | AB68: =AB67+1 -> 48
C69: =IFERROR(VLOOKUP(AB69,'様式C-1-1用'!$A$4:$AH$1073,4,0),0) -> 6 | E69: =IF(C69="","",VLOOKUP(AB69,'様式C-1-1用'!$A$4:$AH$1073,5,0)) -> 4 | F69: =IF(C69="","",VLOOKUP(AB69,'様式C-1-1用'!$A$4:$AH$1073,6)) -> 56.598 | G69: =IFERROR(VLOOKUP(AB69,'様式C-1-1用'!$A$4:$AH$1073,7,0),"") -> 覆工・坑門 | H69: =IFERROR(VLOOKUP(AB69,'様式C-1-1用'!$A$4:$AH$1073,8,0),"") -> アーチ（右側） | I69: =IFERROR(VLOOKUP(AB69,'様式C-1-1用'!$A$4:$AH$1073,9,0),"") -> 漏水 | J69: =IFERROR(VLOOKUP(AB69,'様式C-1-1用'!$A$4:$AH$1073,10),"") -> 漏水 | M69: =IFERROR(VLOOKUP(AB69,'様式C-1-1用'!$A$4:$AH$1073,17,0),"") -> 0.25m×7.8m にじみ | N69: =IFERROR(VLOOKUP(AB69,'様式C-1-1用'!$A$4:$AH$1073,20,0),"") -> 進行が認められない | O69: =IFERROR(VLOOKUP(AB69,'様式C-1-1用'!$A$4:$AH$1073,21,0),"") -> 対策区分判定Ⅱb | P69: =IFERROR(VLOOKUP(AB69,'様式C-1-1用'!$A$4:$AH$1073,22,0),"") -> Ⅱ | Q69: =IFERROR(VLOOKUP(AB69,'様式C-1-1用'!$A$4:$AH$1073,23),"") -> 0 | R69: =IFERROR(VLOOKUP(AB69,'様式C-1-1用'!$A$4:$AH$1073,24,0),"") -> Ⅱb | S69: =IFERROR(VLOOKUP(AB69,'様式C-1-1用'!$A$4:$AH$1073,27,0),"") -> 否 | T69: =IFERROR(VLOOKUP(AB69,'様式C-1-1用'!$A$4:$AH$976,28,0),"") -> 要監視 | U69: =IFERROR(VLOOKUP(AB69,'様式C-1-1用'!$A$4:$AH$976,29,0),"") -> 継続 | V69: =IFERROR(VLOOKUP(AB69,'様式C-1-1用'!$A$4:$AH$976,30,0),"") -> 監視（日常巡視） | Z69: =IFERROR(VLOOKUP(AB69,'様式C-1-1用'!$A$4:$AH$976,32,0),"") -> 継続監視 | AB69: =AB68+1 -> 49
C70: =IFERROR(VLOOKUP(AB70,'様式C-1-1用'!$A$4:$AH$1073,4,0),0) -> 6 | E70: =IF(C70="","",VLOOKUP(AB70,'様式C-1-1用'!$A$4:$AH$1073,5,0)) -> 5 | F70: =IF(C70="","",VLOOKUP(AB70,'様式C-1-1用'!$A$4:$AH$1073,6)) -> 56.598 | G70: =IFERROR(VLOOKUP(AB70,'様式C-1-1用'!$A$4:$AH$1073,7,0),"") -> 覆工・坑門 | H70: =IFERROR(VLOOKUP(AB70,'様式C-1-1用'!$A$4:$AH$1073,8,0),"") -> アーチ（右側） | I70: =IFERROR(VLOOKUP(AB70,'様式C-1-1用'!$A$4:$AH$1073,9,0),"") -> 漏水 | J70: =IFERROR(VLOOKUP(AB70,'様式C-1-1用'!$A$4:$AH$1073,10),"") -> 漏水 | M70: =IFERROR(VLOOKUP(AB70,'様式C-1-1用'!$A$4:$AH$1073,17,0),"") -> 1.1m×7.1m 遊離石灰 | N70: =IFERROR(VLOOKUP(AB70,'様式C-1-1用'!$A$4:$AH$1073,20,0),"") -> にじみ→遊離石灰 | O70: =IFERROR(VLOOKUP(AB70,'様式C-1-1用'!$A$4:$AH$1073,21,0),"") -> 対策区分判定Ⅱb | P70: =IFERROR(VLOOKUP(AB70,'様式C-1-1用'!$A$4:$AH$1073,22,0),"") -> Ⅱ | Q70: =IFERROR(VLOOKUP(AB70,'様式C-1-1用'!$A$4:$AH$1073,23),"") -> 0 | R70: =IFERROR(VLOOKUP(AB70,'様式C-1-1用'!$A$4:$AH$1073,24,0),"") -> Ⅱb | S70: =IFERROR(VLOOKUP(AB70,'様式C-1-1用'!$A$4:$AH$1073,27,0),"") -> 否 | T70: =IFERROR(VLOOKUP(AB70,'様式C-1-1用'!$A$4:$AH$976,28,0),"") -> 要監視 | U70: =IFERROR(VLOOKUP(AB70,'様式C-1-1用'!$A$4:$AH$976,29,0),"") -> 継続 | V70: =IFERROR(VLOOKUP(AB70,'様式C-1-1用'!$A$4:$AH$976,30,0),"") -> 監視（日常巡視） | Z70: =IFERROR(VLOOKUP(AB70,'様式C-1-1用'!$A$4:$AH$976,32,0),"") -> 継続監視 | AB70: =AB69+1 -> 50
C71: =IFERROR(VLOOKUP(AB71,'様式C-1-1用'!$A$4:$AH$1073,4,0),0) -> 6 | E71: =IF(C71="","",VLOOKUP(AB71,'様式C-1-1用'!$A$4:$AH$1073,5,0)) -> 6 | F71: =IF(C71="","",VLOOKUP(AB71,'様式C-1-1用'!$A$4:$AH$1073,6)) -> 56.598 | G71: =IFERROR(VLOOKUP(AB71,'様式C-1-1用'!$A$4:$AH$1073,7,0),"") -> 覆工・坑門 | H71: =IFERROR(VLOOKUP(AB71,'様式C-1-1用'!$A$4:$AH$1073,8,0),"") -> アーチ（右側） | I71: =IFERROR(VLOOKUP(AB71,'様式C-1-1用'!$A$4:$AH$1073,9,0),"") -> 漏水 | J71: =IFERROR(VLOOKUP(AB71,'様式C-1-1用'!$A$4:$AH$1073,10),"") -> 漏水 | M71: =IFERROR(VLOOKUP(AB71,'様式C-1-1用'!$A$4:$AH$1073,17,0),"") -> 0.2m×3.7m 遊離石灰 | N71: =IFERROR(VLOOKUP(AB71,'様式C-1-1用'!$A$4:$AH$1073,20,0),"") -> 進行が認められない | O71: =IFERROR(VLOOKUP(AB71,'様式C-1-1用'!$A$4:$AH$1073,21,0),"") -> 対策区分判定Ⅱb | P71: =IFERROR(VLOOKUP(AB71,'様式C-1-1用'!$A$4:$AH$1073,22,0),"") -> Ⅱ | Q71: =IFERROR(VLOOKUP(AB71,'様式C-1-1用'!$A$4:$AH$1073,23),"") -> 0 | R71: =IFERROR(VLOOKUP(AB71,'様式C-1-1用'!$A$4:$AH$1073,24,0),"") -> Ⅱb | S71: =IFERROR(VLOOKUP(AB71,'様式C-1-1用'!$A$4:$AH$1073,27,0),"") -> 否 | T71: =IFERROR(VLOOKUP(AB71,'様式C-1-1用'!$A$4:$AH$976,28,0),"") -> 要監視 | U71: =IFERROR(VLOOKUP(AB71,'様式C-1-1用'!$A$4:$AH$976,29,0),"") -> 継続 | V71: =IFERROR(VLOOKUP(AB71,'様式C-1-1用'!$A$4:$AH$976,30,0),"") -> 監視（日常巡視） | Z71: =IFERROR(VLOOKUP(AB71,'様式C-1-1用'!$A$4:$AH$976,32,0),"") -> 継続監視 | AB71: =AB70+1 -> 51
C72: =IFERROR(VLOOKUP(AB72,'様式C-1-1用'!$A$4:$AH$1073,4,0),0) -> 6 | E72: =IF(C72="","",VLOOKUP(AB72,'様式C-1-1用'!$A$4:$AH$1073,5,0)) -> 7 | F72: =IF(C72="","",VLOOKUP(AB72,'様式C-1-1用'!$A$4:$AH$1073,6)) -> 56.598 | G72: =IFERROR(VLOOKUP(AB72,'様式C-1-1用'!$A$4:$AH$1073,7,0),"") -> 覆工・坑門 | H72: =IFERROR(VLOOKUP(AB72,'様式C-1-1用'!$A$4:$AH$1073,8,0),"") -> アーチ（右側） | I72: =IFERROR(VLOOKUP(AB72,'様式C-1-1用'!$A$4:$AH$1073,9,0),"") -> 漏水 | J72: =IFERROR(VLOOKUP(AB72,'様式C-1-1用'!$A$4:$AH$1073,10),"") -> 補修跡 | M72: =IFERROR(VLOOKUP(AB72,'様式C-1-1用'!$A$4:$AH$1073,17,0),"") -> 6.7m×0.4m 導水工 | N72: =IFERROR(VLOOKUP(AB72,'様式C-1-1用'!$A$4:$AH$1073,20,0),"") -> 対策済 | O72: =IFERROR(VLOOKUP(AB72,'様式C-1-1用'!$A$4:$AH$1073,21,0),"") -> 対策区分判定Ⅱa | P72: =IFERROR(VLOOKUP(AB72,'様式C-1-1用'!$A$4:$AH$1073,22,0),"") -> Ⅱ | Q72: =IFERROR(VLOOKUP(AB72,'様式C-1-1用'!$A$4:$AH$1073,23),"") -> 0 | R72: =IFERROR(VLOOKUP(AB72,'様式C-1-1用'!$A$4:$AH$1073,24,0),"") -> Ⅰ | S72: =IFERROR(VLOOKUP(AB72,'様式C-1-1用'!$A$4:$AH$1073,27,0),"") -> 否 | T72: =IFERROR(VLOOKUP(AB72,'様式C-1-1用'!$A$4:$AH$976,28,0),"") -> 否 | U72: =IFERROR(VLOOKUP(AB72,'様式C-1-1用'!$A$4:$AH$976,29,0),"") -> 済 | V72: =IFERROR(VLOOKUP(AB72,'様式C-1-1用'!$A$4:$AH$976,30,0),"") -> － | Z72: =IFERROR(VLOOKUP(AB72,'様式C-1-1用'!$A$4:$AH$976,32,0),"") -> － | AB72: =AB71+1 -> 52
C73: =IFERROR(VLOOKUP(AB73,'様式C-1-1用'!$A$4:$AH$1073,4,0),0) -> 6 | E73: =IF(C73="","",VLOOKUP(AB73,'様式C-1-1用'!$A$4:$AH$1073,5,0)) -> 8 | F73: =IF(C73="","",VLOOKUP(AB73,'様式C-1-1用'!$A$4:$AH$1073,6)) -> 56.598 | G73: =IFERROR(VLOOKUP(AB73,'様式C-1-1用'!$A$4:$AH$1073,7,0),"") -> 路面 | H73: =IFERROR(VLOOKUP(AB73,'様式C-1-1用'!$A$4:$AH$1073,8,0),"") -> 監査歩廊 | I73: =IFERROR(VLOOKUP(AB73,'様式C-1-1用'!$A$4:$AH$1073,9,0),"") -> 材質劣化 | J73: =IFERROR(VLOOKUP(AB73,'様式C-1-1用'!$A$4:$AH$1073,10),"") -> 欠損 | M73: =IFERROR(VLOOKUP(AB73,'様式C-1-1用'!$A$4:$AH$1073,17,0),"") -> 0.2m×0.5m | N73: =IFERROR(VLOOKUP(AB73,'様式C-1-1用'!$A$4:$AH$1073,20,0),"") -> 進行が認められない | O73: =IFERROR(VLOOKUP(AB73,'様式C-1-1用'!$A$4:$AH$1073,21,0),"") -> 対策区分判定Ⅱb | P73: =IFERROR(VLOOKUP(AB73,'様式C-1-1用'!$A$4:$AH$1073,22,0),"") -> Ⅱ | Q73: =IFERROR(VLOOKUP(AB73,'様式C-1-1用'!$A$4:$AH$1073,23),"") -> 0 | R73: =IFERROR(VLOOKUP(AB73,'様式C-1-1用'!$A$4:$AH$1073,24,0),"") -> － | S73: =IFERROR(VLOOKUP(AB73,'様式C-1-1用'!$A$4:$AH$1073,27,0),"") -> － | T73: － | U73: =IFERROR(VLOOKUP(AB73,'様式C-1-1用'!$A$4:$AH$976,29,0),"") -> － | V73: =IFERROR(VLOOKUP(AB73,'様式C-1-1用'!$A$4:$AH$976,30,0),"") -> － | Z73: =IFERROR(VLOOKUP(AB73,'様式C-1-1用'!$A$4:$AH$976,32,0),"") -> － | AB73: =AB72+1 -> 53
C74: =IFERROR(VLOOKUP(AB74,'様式C-1-1用'!$A$4:$AH$1073,4,0),0) -> 6 | E74: =IF(C74="","",VLOOKUP(AB74,'様式C-1-1用'!$A$4:$AH$1073,5,0)) -> 9 | F74: =IF(C74="","",VLOOKUP(AB74,'様式C-1-1用'!$A$4:$AH$1073,6)) -> 56.598 | G74: =IFERROR(VLOOKUP(AB74,'様式C-1-1用'!$A$4:$AH$1073,7,0),"") -> 路面 | H74: =IFERROR(VLOOKUP(AB74,'様式C-1-1用'!$A$4:$AH$1073,8,0),"") -> 車道 | I74: =IFERROR(VLOOKUP(AB74,'様式C-1-1用'!$A$4:$AH$1073,9,0),"") -> 漏水 | J74: =IFERROR(VLOOKUP(AB74,'様式C-1-1用'!$A$4:$AH$1073,10),"") -> 滞水・沈砂 | M74: =IFERROR(VLOOKUP(AB74,'様式C-1-1用'!$A$4:$AH$1073,17,0),"") -> 0.4m×1.1m | N74: =IFERROR(VLOOKUP(AB74,'様式C-1-1用'!$A$4:$AH$1073,20,0),"") -> 新規確認 | O74: =IFERROR(VLOOKUP(AB74,'様式C-1-1用'!$A$4:$AH$1073,21,0),"") -> － | P74: =IFERROR(VLOOKUP(AB74,'様式C-1-1用'!$A$4:$AH$1073,22,0),"") -> － | Q74: =IFERROR(VLOOKUP(AB74,'様式C-1-1用'!$A$4:$AH$1073,23),"") -> 0 | R74: =IFERROR(VLOOKUP(AB74,'様式C-1-1用'!$A$4:$AH$1073,24,0),"") -> － | S74: =IFERROR(VLOOKUP(AB74,'様式C-1-1用'!$A$4:$AH$1073,27,0),"") -> － | T74: =IFERROR(VLOOKUP(AB74,'様式C-1-1用'!$A$4:$AH$976,28,0),"") -> － | U74: =IFERROR(VLOOKUP(AB74,'様式C-1-1用'!$A$4:$AH$976,29,0),"") -> － | V74: =IFERROR(VLOOKUP(AB74,'様式C-1-1用'!$A$4:$AH$976,30,0),"") -> － | Z74: =IFERROR(VLOOKUP(AB74,'様式C-1-1用'!$A$4:$AH$976,32,0),"") -> － | AB74: =AB73+1 -> 54
C75: =IFERROR(VLOOKUP(AB75,'様式C-1-1用'!$A$4:$AH$1073,4,0),0) -> 6 | E75: =IF(C75="","",VLOOKUP(AB75,'様式C-1-1用'!$A$4:$AH$1073,5,0)) -> 10 | F75: =IF(C75="","",VLOOKUP(AB75,'様式C-1-1用'!$A$4:$AH$1073,6)) -> 56.598 | G75: =IFERROR(VLOOKUP(AB75,'様式C-1-1用'!$A$4:$AH$1073,7,0),"") -> 路面 | H75: =IFERROR(VLOOKUP(AB75,'様式C-1-1用'!$A$4:$AH$1073,8,0),"") -> 監査歩廊 | I75: =IFERROR(VLOOKUP(AB75,'様式C-1-1用'!$A$4:$AH$1073,9,0),"") -> 漏水 | J75: =IFERROR(VLOOKUP(AB75,'様式C-1-1用'!$A$4:$AH$1073,10),"") -> 滞水・沈砂 | M75: =IFERROR(VLOOKUP(AB75,'様式C-1-1用'!$A$4:$AH$1073,17,0),"") -> 0.7m×4.6m | N75: =IFERROR(VLOOKUP(AB75,'様式C-1-1用'!$A$4:$AH$1073,20,0),"") -> 新規確認 | O75: =IFERROR(VLOOKUP(AB75,'様式C-1-1用'!$A$4:$AH$1073,21,0),"") -> － | P75: =IFERROR(VLOOKUP(AB75,'様式C-1-1用'!$A$4:$AH$1073,22,0),"") -> － | Q75: =IFERROR(VLOOKUP(AB75,'様式C-1-1用'!$A$4:$AH$1073,23),"") -> 0 | R75: =IFERROR(VLOOKUP(AB75,'様式C-1-1用'!$A$4:$AH$1073,24,0),"") -> － | S75: =IFERROR(VLOOKUP(AB75,'様式C-1-1用'!$A$4:$AH$1073,27,0),"") -> － | T75: =IFERROR(VLOOKUP(AB75,'様式C-1-1用'!$A$4:$AH$976,28,0),"") -> － | U75: =IFERROR(VLOOKUP(AB75,'様式C-1-1用'!$A$4:$AH$976,29,0),"") -> － | V75: =IFERROR(VLOOKUP(AB75,'様式C-1-1用'!$A$4:$AH$976,30,0),"") -> － | Z75: =IFERROR(VLOOKUP(AB75,'様式C-1-1用'!$A$4:$AH$976,32,0),"") -> － | AB75: =AB74+1 -> 55
C76: =IFERROR(VLOOKUP(AB76,'様式C-1-1用'!$A$4:$AH$1073,4,0),0) -> 7 | E76: =IF(C76="","",VLOOKUP(AB76,'様式C-1-1用'!$A$4:$AH$1073,5,0)) -> 1 | F76: =IF(C76="","",VLOOKUP(AB76,'様式C-1-1用'!$A$4:$AH$1073,6)) -> 65.574 | G76: =IFERROR(VLOOKUP(AB76,'様式C-1-1用'!$A$4:$AH$1073,7,0),"") -> 覆工・坑門 | H76: =IFERROR(VLOOKUP(AB76,'様式C-1-1用'!$A$4:$AH$1073,8,0),"") -> 側壁（左側） | I76: =IFERROR(VLOOKUP(AB76,'様式C-1-1用'!$A$4:$AH$1073,9,0),"") -> 材質劣化 | J76: =IFERROR(VLOOKUP(AB76,'様式C-1-1用'!$A$4:$AH$1073,10),"") -> うき・はく離 | M76: =IFERROR(VLOOKUP(AB76,'様式C-1-1用'!$A$4:$AH$1073,17,0),"") -> 0.1m×3.0m | N76: =IFERROR(VLOOKUP(AB76,'様式C-1-1用'!$A$4:$AH$1073,20,0),"") -> 進行が認められない | O76: =IFERROR(VLOOKUP(AB76,'様式C-1-1用'!$A$4:$AH$1073,21,0),"") -> 対策区分判定Ⅱb | P76: =IFERROR(VLOOKUP(AB76,'様式C-1-1用'!$A$4:$AH$1073,22,0),"") -> Ⅱ | Q76: =IFERROR(VLOOKUP(AB76,'様式C-1-1用'!$A$4:$AH$1073,23),"") -> 0 | R76: =IFERROR(VLOOKUP(AB76,'様式C-1-1用'!$A$4:$AH$1073,24,0),"") -> Ⅱb | S76: =IFERROR(VLOOKUP(AB76,'様式C-1-1用'!$A$4:$AH$1073,27,0),"") -> 否 | T76: =IFERROR(VLOOKUP(AB76,'様式C-1-1用'!$A$4:$AH$976,28,0),"") -> 要監視 | U76: =IFERROR(VLOOKUP(AB76,'様式C-1-1用'!$A$4:$AH$976,29,0),"") -> 継続 | V76: =IFERROR(VLOOKUP(AB76,'様式C-1-1用'!$A$4:$AH$976,30,0),"") -> 監視（日常巡視） | Z76: =IFERROR(VLOOKUP(AB76,'様式C-1-1用'!$A$4:$AH$976,32,0),"") -> 継続監視 | AB76: =AB75+1 -> 56
C77: =IFERROR(VLOOKUP(AB77,'様式C-1-1用'!$A$4:$AH$1073,4,0),0) -> 7 | E77: =IF(C77="","",VLOOKUP(AB77,'様式C-1-1用'!$A$4:$AH$1073,5,0)) -> 2 | F77: =IF(C77="","",VLOOKUP(AB77,'様式C-1-1用'!$A$4:$AH$1073,6)) -> 65.574 | G77: =IFERROR(VLOOKUP(AB77,'様式C-1-1用'!$A$4:$AH$1073,7,0),"") -> 覆工・坑門 | H77: =IFERROR(VLOOKUP(AB77,'様式C-1-1用'!$A$4:$AH$1073,8,0),"") -> 側壁（左側） | I77: =IFERROR(VLOOKUP(AB77,'様式C-1-1用'!$A$4:$AH$1073,9,0),"") -> 材質劣化 | J77: =IFERROR(VLOOKUP(AB77,'様式C-1-1用'!$A$4:$AH$1073,10),"") -> うき・はく離 | M77: =IFERROR(VLOOKUP(AB77,'様式C-1-1用'!$A$4:$AH$1073,17,0),"") -> 0.1m×2.2m | N77: =IFERROR(VLOOKUP(AB77,'様式C-1-1用'!$A$4:$AH$1073,20,0),"") -> 進行が認められない | O77: =IFERROR(VLOOKUP(AB77,'様式C-1-1用'!$A$4:$AH$1073,21,0),"") -> 対策区分判定Ⅱb | P77: =IFERROR(VLOOKUP(AB77,'様式C-1-1用'!$A$4:$AH$1073,22,0),"") -> Ⅱ | Q77: =IFERROR(VLOOKUP(AB77,'様式C-1-1用'!$A$4:$AH$1073,23),"") -> 0 | R77: =IFERROR(VLOOKUP(AB77,'様式C-1-1用'!$A$4:$AH$1073,24,0),"") -> Ⅱb | S77: =IFERROR(VLOOKUP(AB77,'様式C-1-1用'!$A$4:$AH$1073,27,0),"") -> 否 | T77: =IFERROR(VLOOKUP(AB77,'様式C-1-1用'!$A$4:$AH$976,28,0),"") -> 要監視 | U77: =IFERROR(VLOOKUP(AB77,'様式C-1-1用'!$A$4:$AH$976,29,0),"") -> 継続 | V77: =IFERROR(VLOOKUP(AB77,'様式C-1-1用'!$A$4:$AH$976,30,0),"") -> 監視（日常巡視） | Z77: =IFERROR(VLOOKUP(AB77,'様式C-1-1用'!$A$4:$AH$976,32,0),"") -> 継続監視 | AB77: =AB76+1 -> 57
C78: =IFERROR(VLOOKUP(AB78,'様式C-1-1用'!$A$4:$AH$1073,4,0),0) -> 7 | E78: =IF(C78="","",VLOOKUP(AB78,'様式C-1-1用'!$A$4:$AH$1073,5,0)) -> 3 | F78: =IF(C78="","",VLOOKUP(AB78,'様式C-1-1用'!$A$4:$AH$1073,6)) -> 65.574 | G78: =IFERROR(VLOOKUP(AB78,'様式C-1-1用'!$A$4:$AH$1073,7,0),"") -> 覆工・坑門 | H78: =IFERROR(VLOOKUP(AB78,'様式C-1-1用'!$A$4:$AH$1073,8,0),"") -> 側壁（左側） | I78: =IFERROR(VLOOKUP(AB78,'様式C-1-1用'!$A$4:$AH$1073,9,0),"") -> 材質劣化 | J78: =IFERROR(VLOOKUP(AB78,'様式C-1-1用'!$A$4:$AH$1073,10),"") -> うき・はく離 | M78: =IFERROR(VLOOKUP(AB78,'様式C-1-1用'!$A$4:$AH$1073,17,0),"") -> 0.1m×2.3m | N78: =IFERROR(VLOOKUP(AB78,'様式C-1-1用'!$A$4:$AH$1073,20,0),"") -> 進行が認められない | O78: =IFERROR(VLOOKUP(AB78,'様式C-1-1用'!$A$4:$AH$1073,21,0),"") -> 対策区分判定Ⅱb | P78: =IFERROR(VLOOKUP(AB78,'様式C-1-1用'!$A$4:$AH$1073,22,0),"") -> Ⅱ | Q78: =IFERROR(VLOOKUP(AB78,'様式C-1-1用'!$A$4:$AH$1073,23),"") -> 0 | R78: =IFERROR(VLOOKUP(AB78,'様式C-1-1用'!$A$4:$AH$1073,24,0),"") -> Ⅱb | S78: =IFERROR(VLOOKUP(AB78,'様式C-1-1用'!$A$4:$AH$1073,27,0),"") -> 否 | T78: =IFERROR(VLOOKUP(AB78,'様式C-1-1用'!$A$4:$AH$976,28,0),"") -> 要監視 | U78: =IFERROR(VLOOKUP(AB78,'様式C-1-1用'!$A$4:$AH$976,29,0),"") -> 継続 | V78: =IFERROR(VLOOKUP(AB78,'様式C-1-1用'!$A$4:$AH$976,30,0),"") -> 監視（日常巡視） | Z78: =IFERROR(VLOOKUP(AB78,'様式C-1-1用'!$A$4:$AH$976,32,0),"") -> 継続監視 | AB78: =AB77+1 -> 58
C79: =IFERROR(VLOOKUP(AB79,'様式C-1-1用'!$A$4:$AH$1073,4,0),0) -> 7 | E79: =IF(C79="","",VLOOKUP(AB79,'様式C-1-1用'!$A$4:$AH$1073,5,0)) -> 4 | F79: =IF(C79="","",VLOOKUP(AB79,'様式C-1-1用'!$A$4:$AH$1073,6)) -> 65.574 | G79: =IFERROR(VLOOKUP(AB79,'様式C-1-1用'!$A$4:$AH$1073,7,0),"") -> 覆工・坑門 | H79: =IFERROR(VLOOKUP(AB79,'様式C-1-1用'!$A$4:$AH$1073,8,0),"") -> アーチ（右側） | I79: =IFERROR(VLOOKUP(AB79,'様式C-1-1用'!$A$4:$AH$1073,9,0),"") -> 材質劣化 | J79: =IFERROR(VLOOKUP(AB79,'様式C-1-1用'!$A$4:$AH$1073,10),"") -> 補修跡 | M79: =IFERROR(VLOOKUP(AB79,'様式C-1-1用'!$A$4:$AH$1073,17,0),"") -> 4.7m×0.4m 導水工 | N79: =IFERROR(VLOOKUP(AB79,'様式C-1-1用'!$A$4:$AH$1073,20,0),"") -> 対策済 | O79: =IFERROR(VLOOKUP(AB79,'様式C-1-1用'!$A$4:$AH$1073,21,0),"") -> 対策区分判定Ⅱa | P79: =IFERROR(VLOOKUP(AB79,'様式C-1-1用'!$A$4:$AH$1073,22,0),"") -> Ⅱ | Q79: =IFERROR(VLOOKUP(AB79,'様式C-1-1用'!$A$4:$AH$1073,23),"") -> 0 | R79: =IFERROR(VLOOKUP(AB79,'様式C-1-1用'!$A$4:$AH$1073,24,0),"") -> Ⅰ | S79: =IFERROR(VLOOKUP(AB79,'様式C-1-1用'!$A$4:$AH$1073,27,0),"") -> 否 | T79: =IFERROR(VLOOKUP(AB79,'様式C-1-1用'!$A$4:$AH$976,28,0),"") -> 否 | U79: =IFERROR(VLOOKUP(AB79,'様式C-1-1用'!$A$4:$AH$976,29,0),"") -> 済 | V79: =IFERROR(VLOOKUP(AB79,'様式C-1-1用'!$A$4:$AH$976,30,0),"") -> － | Z79: =IFERROR(VLOOKUP(AB79,'様式C-1-1用'!$A$4:$AH$976,32,0),"") -> － | AB79: =AB78+1 -> 59
C80: =IFERROR(VLOOKUP(AB80,'様式C-1-1用'!$A$4:$AH$1073,4,0),0) -> 7 | E80: =IF(C80="","",VLOOKUP(AB80,'様式C-1-1用'!$A$4:$AH$1073,5,0)) -> 5 | F80: =IF(C80="","",VLOOKUP(AB80,'様式C-1-1用'!$A$4:$AH$1073,6)) -> 65.574 | G80: =IFERROR(VLOOKUP(AB80,'様式C-1-1用'!$A$4:$AH$1073,7,0),"") -> 覆工・坑門 | H80: =IFERROR(VLOOKUP(AB80,'様式C-1-1用'!$A$4:$AH$1073,8,0),"") -> 側壁（右側） | I80: =IFERROR(VLOOKUP(AB80,'様式C-1-1用'!$A$4:$AH$1073,9,0),"") -> 材質劣化 | J80: =IFERROR(VLOOKUP(AB80,'様式C-1-1用'!$A$4:$AH$1073,10),"") -> うき・はく離 | M80: =IFERROR(VLOOKUP(AB80,'様式C-1-1用'!$A$4:$AH$1073,17,0),"") -> 0.1m×1.0m | N80: =IFERROR(VLOOKUP(AB80,'様式C-1-1用'!$A$4:$AH$1073,20,0),"") -> 進行が認められない | O80: =IFERROR(VLOOKUP(AB80,'様式C-1-1用'!$A$4:$AH$1073,21,0),"") -> 対策区分判定Ⅱb | P80: =IFERROR(VLOOKUP(AB80,'様式C-1-1用'!$A$4:$AH$1073,22,0),"") -> Ⅱ | Q80: =IFERROR(VLOOKUP(AB80,'様式C-1-1用'!$A$4:$AH$1073,23),"") -> 0 | R80: =IFERROR(VLOOKUP(AB80,'様式C-1-1用'!$A$4:$AH$1073,24,0),"") -> Ⅱb | S80: =IFERROR(VLOOKUP(AB80,'様式C-1-1用'!$A$4:$AH$1073,27,0),"") -> 否 | T80: =IFERROR(VLOOKUP(AB80,'様式C-1-1用'!$A$4:$AH$976,28,0),"") -> 要監視 | U80: =IFERROR(VLOOKUP(AB80,'様式C-1-1用'!$A$4:$AH$976,29,0),"") -> 継続 | V80: =IFERROR(VLOOKUP(AB80,'様式C-1-1用'!$A$4:$AH$976,30,0),"") -> 監視（日常巡視） | Z80: =IFERROR(VLOOKUP(AB80,'様式C-1-1用'!$A$4:$AH$976,32,0),"") -> 継続監視 | AB80: =AB79+1 -> 60
C81: =IFERROR(VLOOKUP(AB81,'様式C-1-1用'!$A$4:$AH$1073,4,0),0) -> 7 | E81: =IF(C81="","",VLOOKUP(AB81,'様式C-1-1用'!$A$4:$AH$1073,5,0)) -> 6 | F81: =IF(C81="","",VLOOKUP(AB81,'様式C-1-1用'!$A$4:$AH$1073,6)) -> 65.574 | G81: =IFERROR(VLOOKUP(AB81,'様式C-1-1用'!$A$4:$AH$1073,7,0),"") -> 路面 | H81: =IFERROR(VLOOKUP(AB81,'様式C-1-1用'!$A$4:$AH$1073,8,0),"") -> 監査歩廊 | I81: =IFERROR(VLOOKUP(AB81,'様式C-1-1用'!$A$4:$AH$1073,9,0),"") -> 材質劣化 | J81: =IFERROR(VLOOKUP(AB81,'様式C-1-1用'!$A$4:$AH$1073,10),"") -> 鉄筋露出 | M81: =IFERROR(VLOOKUP(AB81,'様式C-1-1用'!$A$4:$AH$1073,17,0),"") -> 0.5m×0.5m | N81: =IFERROR(VLOOKUP(AB81,'様式C-1-1用'!$A$4:$AH$1073,20,0),"") -> 進行が認められない | O81: =IFERROR(VLOOKUP(AB81,'様式C-1-1用'!$A$4:$AH$1073,21,0),"") -> 対策区分判定Ⅱb | P81: =IFERROR(VLOOKUP(AB81,'様式C-1-1用'!$A$4:$AH$1073,22,0),"") -> Ⅱ | Q81: =IFERROR(VLOOKUP(AB81,'様式C-1-1用'!$A$4:$AH$1073,23),"") -> 0 | R81: =IFERROR(VLOOKUP(AB81,'様式C-1-1用'!$A$4:$AH$1073,24,0),"") -> － | S81: =IFERROR(VLOOKUP(AB81,'様式C-1-1用'!$A$4:$AH$1073,27,0),"") -> － | T81: － | U81: =IFERROR(VLOOKUP(AB81,'様式C-1-1用'!$A$4:$AH$976,29,0),"") -> － | V81: =IFERROR(VLOOKUP(AB81,'様式C-1-1用'!$A$4:$AH$976,30,0),"") -> － | Z81: =IFERROR(VLOOKUP(AB81,'様式C-1-1用'!$A$4:$AH$976,32,0),"") -> － | AB81: =AB80+1 -> 61
C82: =IFERROR(VLOOKUP(AB82,'様式C-1-1用'!$A$4:$AH$1073,4,0),0) -> 7 | E82: =IF(C82="","",VLOOKUP(AB82,'様式C-1-1用'!$A$4:$AH$1073,5,0)) -> 7 | F82: =IF(C82="","",VLOOKUP(AB82,'様式C-1-1用'!$A$4:$AH$1073,6)) -> 65.574 | G82: =IFERROR(VLOOKUP(AB82,'様式C-1-1用'!$A$4:$AH$1073,7,0),"") -> 覆工・坑門 | H82: =IFERROR(VLOOKUP(AB82,'様式C-1-1用'!$A$4:$AH$1073,8,0),"") -> 側壁（右側） | I82: =IFERROR(VLOOKUP(AB82,'様式C-1-1用'!$A$4:$AH$1073,9,0),"") -> 材質劣化 | J82: =IFERROR(VLOOKUP(AB82,'様式C-1-1用'!$A$4:$AH$1073,10),"") -> うき・はく離 | M82: =IFERROR(VLOOKUP(AB82,'様式C-1-1用'!$A$4:$AH$1073,17,0),"") -> 0.2m×0.1m (一部欠損) | N82: =IFERROR(VLOOKUP(AB82,'様式C-1-1用'!$A$4:$AH$1073,20,0),"") -> 新規確認 | O82: =IFERROR(VLOOKUP(AB82,'様式C-1-1用'!$A$4:$AH$1073,21,0),"") -> － | P82: =IFERROR(VLOOKUP(AB82,'様式C-1-1用'!$A$4:$AH$1073,22,0),"") -> － | Q82: =IFERROR(VLOOKUP(AB82,'様式C-1-1用'!$A$4:$AH$1073,23),"") -> 0 | R82: =IFERROR(VLOOKUP(AB82,'様式C-1-1用'!$A$4:$AH$1073,24,0),"") -> Ⅱb | S82: =IFERROR(VLOOKUP(AB82,'様式C-1-1用'!$A$4:$AH$1073,27,0),"") -> 否 | T82: =IFERROR(VLOOKUP(AB82,'様式C-1-1用'!$A$4:$AH$976,28,0),"") -> 要監視 | U82: =IFERROR(VLOOKUP(AB82,'様式C-1-1用'!$A$4:$AH$976,29,0),"") -> 未 | V82: =IFERROR(VLOOKUP(AB82,'様式C-1-1用'!$A$4:$AH$976,30,0),"") -> － | Z82: =IFERROR(VLOOKUP(AB82,'様式C-1-1用'!$A$4:$AH$976,32,0),"") -> 継続監視 | AB82: =AB81+1 -> 62
C83: ※ 対策区分（応急措置後）の判定区分Ⅱ～Ⅳについて記入すること。また、点検前に実施された措置によりⅠと判定された変状も記入すること。
C84: ※ 応急措置を実施しないで判定した変状の対策区分は、対策区分の応急措置後の欄に記入すること。
C85: ※ 変状の除去が不完全で、緊急対応が必要な場合は対応方針欄に記入すること。
C86: ※ １区間の覆工に複数の変状がある場合は、変状箇所毎に記入すること。
C87: ※ 措置・監視点検を行った場合には、措置履歴、特記事項に記録を残すこと。（実施年度も記載）
C88: ※ 行が不足する場合は、適時、表の行を増やすこと。
C89: ※ 対策区分（応急措置後）の判定区分Ⅱ～Ⅳについて記入すること。また、点検前に実施された措置によりⅠと判定された変状も記入すること。
C90: ※ 応急措置を実施しないで判定した変状の対策区分は、対策区分の応急措置後の欄に記入すること。
C91: ※ 変状の除去が不完全で、緊急対応が必要な場合は対応方針欄に記入すること。
C92: ※ １区間の覆工に複数の変状がある場合は、変状箇所毎に記入すること。
C93: ※ 措置・監視点検を行った場合には、措置履歴、特記事項に記録を残すこと。（実施年度も記載）
C94: ※ 行が不足する場合は、適時、表の行を増やすこと。
B95: 定期点検結果 | C95: =IFERROR(VLOOKUP(AB95,'様式C-1-1用'!$A$4:$AH$1073,4,0),0) -> 7 | E95: =IF(C95="","",VLOOKUP(AB95,'様式C-1-1用'!$A$4:$AH$1073,5,0)) -> 8 | F95: =IF(C95="","",VLOOKUP(AB95,'様式C-1-1用'!$A$4:$AH$1073,6,0)) -> 65.574 | G95: =IFERROR(VLOOKUP(AB95,'様式C-1-1用'!$A$4:$AH$1073,7,0),"") -> 覆工・坑門 | H95: =IFERROR(VLOOKUP(AB95,'様式C-1-1用'!$A$4:$AH$1073,8,0),"") -> 側壁（右側） | I95: =IFERROR(VLOOKUP(AB95,'様式C-1-1用'!$A$4:$AH$1073,9,0),"") -> 材質劣化 | J95: =IFERROR(VLOOKUP(AB95,'様式C-1-1用'!$A$4:$AH$1073,10),"") -> うき・はく離 | M95: =IFERROR(VLOOKUP(AB95,'様式C-1-1用'!$A$4:$AH$1073,17,0),"") -> 0.3m×1.2m | N95: =IFERROR(VLOOKUP(AB95,'様式C-1-1用'!$A$4:$AH$1073,20,0),"") -> 新規確認 | O95: =IFERROR(VLOOKUP(AB95,'様式C-1-1用'!$A$4:$AH$1073,21,0),"") -> － | P95: =IFERROR(VLOOKUP(AB95,'様式C-1-1用'!$A$4:$AH$1073,22,0),"") -> － | Q95: =IFERROR(VLOOKUP(AB95,'様式C-1-1用'!$A$4:$AH$1073,23),"") -> 0 | R95: =IFERROR(VLOOKUP(AB95,'様式C-1-1用'!$A$4:$AH$1073,24,0),"") -> Ⅱb | S95: =IFERROR(VLOOKUP(AB95,'様式C-1-1用'!$A$4:$AH$1073,27,0),"") -> 否 | T95: =IFERROR(VLOOKUP(AB95,'様式C-1-1用'!$A$4:$AH$976,28,0),"") -> 要監視 | U95: =IFERROR(VLOOKUP(AB95,'様式C-1-1用'!$A$4:$AH$976,29,0),"") -> 未 | V95: =IFERROR(VLOOKUP(AB95,'様式C-1-1用'!$A$4:$AH$976,30,0),"") -> － | Z95: =IFERROR(VLOOKUP(AB95,'様式C-1-1用'!$A$4:$AH$976,32,0),"") -> 継続監視 | AB95: =AB82+1 -> 63
C96: =IFERROR(VLOOKUP(AB96,'様式C-1-1用'!$A$4:$AH$1073,4,0),0) -> 8 | E96: =IF(C96="","",VLOOKUP(AB96,'様式C-1-1用'!$A$4:$AH$1073,5,0)) -> 1 | F96: =IF(C96="","",VLOOKUP(AB96,'様式C-1-1用'!$A$4:$AH$1073,6)) -> 74.512 | G96: =IFERROR(VLOOKUP(AB96,'様式C-1-1用'!$A$4:$AH$1073,7,0),"") -> 覆工・坑門 | H96: =IFERROR(VLOOKUP(AB96,'様式C-1-1用'!$A$4:$AH$1073,8,0),"") -> 側壁（左側） | I96: =IFERROR(VLOOKUP(AB96,'様式C-1-1用'!$A$4:$AH$1073,9,0),"") -> 材質劣化 | J96: =IFERROR(VLOOKUP(AB96,'様式C-1-1用'!$A$4:$AH$1073,10),"") -> うき・はく離 | M96: =IFERROR(VLOOKUP(AB96,'様式C-1-1用'!$A$4:$AH$1073,17,0),"") -> 0.1m×9.0m | N96: =IFERROR(VLOOKUP(AB96,'様式C-1-1用'!$A$4:$AH$1073,20,0),"") -> 進行が認められない | O96: =IFERROR(VLOOKUP(AB96,'様式C-1-1用'!$A$4:$AH$1073,21,0),"") -> 対策区分判定Ⅱb | P96: =IFERROR(VLOOKUP(AB96,'様式C-1-1用'!$A$4:$AH$1073,22,0),"") -> Ⅱ | Q96: =IFERROR(VLOOKUP(AB96,'様式C-1-1用'!$A$4:$AH$1073,23),"") -> 0 | R96: =IFERROR(VLOOKUP(AB96,'様式C-1-1用'!$A$4:$AH$1073,24,0),"") -> Ⅱb | S96: =IFERROR(VLOOKUP(AB96,'様式C-1-1用'!$A$4:$AH$1073,27,0),"") -> 否 | T96: =IFERROR(VLOOKUP(AB96,'様式C-1-1用'!$A$4:$AH$976,28,0),"") -> 要監視 | U96: =IFERROR(VLOOKUP(AB96,'様式C-1-1用'!$A$4:$AH$976,29,0),"") -> 継続 | V96: =IFERROR(VLOOKUP(AB96,'様式C-1-1用'!$A$4:$AH$976,30,0),"") -> 監視（日常巡視） | Z96: =IFERROR(VLOOKUP(AB96,'様式C-1-1用'!$A$4:$AH$976,32,0),"") -> 継続監視 | AB96: =AB95+1 -> 64
C97: =IFERROR(VLOOKUP(AB97,'様式C-1-1用'!$A$4:$AH$1073,4,0),0) -> 8 | E97: =IF(C97="","",VLOOKUP(AB97,'様式C-1-1用'!$A$4:$AH$1073,5,0)) -> 2 | F97: =IF(C97="","",VLOOKUP(AB97,'様式C-1-1用'!$A$4:$AH$1073,6)) -> 74.512 | G97: =IFERROR(VLOOKUP(AB97,'様式C-1-1用'!$A$4:$AH$1073,7,0),"") -> 覆工・坑門 | H97: =IFERROR(VLOOKUP(AB97,'様式C-1-1用'!$A$4:$AH$1073,8,0),"") -> アーチ（左側） | I97: =IFERROR(VLOOKUP(AB97,'様式C-1-1用'!$A$4:$AH$1073,9,0),"") -> 漏水 | J97: =IFERROR(VLOOKUP(AB97,'様式C-1-1用'!$A$4:$AH$1073,10),"") -> 漏水 | M97: =IFERROR(VLOOKUP(AB97,'様式C-1-1用'!$A$4:$AH$1073,17,0),"") -> 0.33m×4.8m にじみ | N97: =IFERROR(VLOOKUP(AB97,'様式C-1-1用'!$A$4:$AH$1073,20,0),"") -> 進行が認められない | O97: =IFERROR(VLOOKUP(AB97,'様式C-1-1用'!$A$4:$AH$1073,21,0),"") -> 対策区分判定Ⅱb | P97: =IFERROR(VLOOKUP(AB97,'様式C-1-1用'!$A$4:$AH$1073,22,0),"") -> Ⅱ | Q97: =IFERROR(VLOOKUP(AB97,'様式C-1-1用'!$A$4:$AH$1073,23),"") -> 0 | R97: =IFERROR(VLOOKUP(AB97,'様式C-1-1用'!$A$4:$AH$1073,24,0),"") -> Ⅱb | S97: =IFERROR(VLOOKUP(AB97,'様式C-1-1用'!$A$4:$AH$1073,27,0),"") -> 否 | T97: =IFERROR(VLOOKUP(AB97,'様式C-1-1用'!$A$4:$AH$976,28,0),"") -> 要監視 | U97: =IFERROR(VLOOKUP(AB97,'様式C-1-1用'!$A$4:$AH$976,29,0),"") -> 継続 | V97: =IFERROR(VLOOKUP(AB97,'様式C-1-1用'!$A$4:$AH$976,30,0),"") -> 監視（日常巡視） | Z97: =IFERROR(VLOOKUP(AB97,'様式C-1-1用'!$A$4:$AH$976,32,0),"") -> 継続監視 | AB97: =AB96+1 -> 65
C98: =IFERROR(VLOOKUP(AB98,'様式C-1-1用'!$A$4:$AH$1073,4,0),0) -> 8 | E98: =IF(C98="","",VLOOKUP(AB98,'様式C-1-1用'!$A$4:$AH$1073,5,0)) -> 3 | F98: =IF(C98="","",VLOOKUP(AB98,'様式C-1-1用'!$A$4:$AH$1073,6)) -> 74.512 | G98: =IFERROR(VLOOKUP(AB98,'様式C-1-1用'!$A$4:$AH$1073,7,0),"") -> 覆工・坑門 | H98: =IFERROR(VLOOKUP(AB98,'様式C-1-1用'!$A$4:$AH$1073,8,0),"") -> アーチ（左側） | I98: =IFERROR(VLOOKUP(AB98,'様式C-1-1用'!$A$4:$AH$1073,9,0),"") -> 漏水 | J98: =IFERROR(VLOOKUP(AB98,'様式C-1-1用'!$A$4:$AH$1073,10),"") -> 漏水 | M98: =IFERROR(VLOOKUP(AB98,'様式C-1-1用'!$A$4:$AH$1073,17,0),"") -> 0.15m×7.0m 遊離石灰 | N98: =IFERROR(VLOOKUP(AB98,'様式C-1-1用'!$A$4:$AH$1073,20,0),"") -> にじみ→遊離石灰 | O98: =IFERROR(VLOOKUP(AB98,'様式C-1-1用'!$A$4:$AH$1073,21,0),"") -> 対策区分判定Ⅱb | P98: =IFERROR(VLOOKUP(AB98,'様式C-1-1用'!$A$4:$AH$1073,22,0),"") -> Ⅱ | Q98: =IFERROR(VLOOKUP(AB98,'様式C-1-1用'!$A$4:$AH$1073,23),"") -> 0 | R98: =IFERROR(VLOOKUP(AB98,'様式C-1-1用'!$A$4:$AH$1073,24,0),"") -> Ⅱb | S98: =IFERROR(VLOOKUP(AB98,'様式C-1-1用'!$A$4:$AH$1073,27,0),"") -> 否 | T98: =IFERROR(VLOOKUP(AB98,'様式C-1-1用'!$A$4:$AH$976,28,0),"") -> 要監視 | U98: =IFERROR(VLOOKUP(AB98,'様式C-1-1用'!$A$4:$AH$976,29,0),"") -> 継続 | V98: =IFERROR(VLOOKUP(AB98,'様式C-1-1用'!$A$4:$AH$976,30,0),"") -> 監視（日常巡視） | Z98: =IFERROR(VLOOKUP(AB98,'様式C-1-1用'!$A$4:$AH$976,32,0),"") -> 継続監視 | AB98: =AB97+1 -> 66
C99: =IFERROR(VLOOKUP(AB99,'様式C-1-1用'!$A$4:$AH$1073,4,0),0) -> 8 | E99: =IF(C99="","",VLOOKUP(AB99,'様式C-1-1用'!$A$4:$AH$1073,5,0)) -> 4 | F99: =IF(C99="","",VLOOKUP(AB99,'様式C-1-1用'!$A$4:$AH$1073,6)) -> 74.512 | G99: =IFERROR(VLOOKUP(AB99,'様式C-1-1用'!$A$4:$AH$1073,7,0),"") -> 覆工・坑門 | H99: =IFERROR(VLOOKUP(AB99,'様式C-1-1用'!$A$4:$AH$1073,8,0),"") -> アーチ（左側） | I99: =IFERROR(VLOOKUP(AB99,'様式C-1-1用'!$A$4:$AH$1073,9,0),"") -> 材質劣化 | J99: =IFERROR(VLOOKUP(AB99,'様式C-1-1用'!$A$4:$AH$1073,10),"") -> 補修跡 | M99: =IFERROR(VLOOKUP(AB99,'様式C-1-1用'!$A$4:$AH$1073,17,0),"") -> 2.7m×1.0m メッシュシート | N99: =IFERROR(VLOOKUP(AB99,'様式C-1-1用'!$A$4:$AH$1073,20,0),"") -> 対策済 | O99: =IFERROR(VLOOKUP(AB99,'様式C-1-1用'!$A$4:$AH$1073,21,0),"") -> 対策区分判定Ⅲ | P99: =IFERROR(VLOOKUP(AB99,'様式C-1-1用'!$A$4:$AH$1073,22,0),"") -> Ⅲ | Q99: =IFERROR(VLOOKUP(AB99,'様式C-1-1用'!$A$4:$AH$1073,23),"") -> 0 | R99: =IFERROR(VLOOKUP(AB99,'様式C-1-1用'!$A$4:$AH$1073,24,0),"") -> Ⅰ | S99: =IFERROR(VLOOKUP(AB99,'様式C-1-1用'!$A$4:$AH$1073,27,0),"") -> 否 | T99: =IFERROR(VLOOKUP(AB99,'様式C-1-1用'!$A$4:$AH$976,28,0),"") -> 否 | U99: =IFERROR(VLOOKUP(AB99,'様式C-1-1用'!$A$4:$AH$976,29,0),"") -> 済 | V99: =IFERROR(VLOOKUP(AB99,'様式C-1-1用'!$A$4:$AH$976,30,0),"") -> － | Z99: =IFERROR(VLOOKUP(AB99,'様式C-1-1用'!$A$4:$AH$976,32,0),"") -> － | AB99: =AB98+1 -> 67
C100: =IFERROR(VLOOKUP(AB100,'様式C-1-1用'!$A$4:$AH$1073,4,0),0) -> 8 | E100: =IF(C100="","",VLOOKUP(AB100,'様式C-1-1用'!$A$4:$AH$1073,5,0)) -> 5 | F100: =IF(C100="","",VLOOKUP(AB100,'様式C-1-1用'!$A$4:$AH$1073,6)) -> 74.512 | G100: =IFERROR(VLOOKUP(AB100,'様式C-1-1用'!$A$4:$AH$1073,7,0),"") -> 覆工・坑門 | H100: =IFERROR(VLOOKUP(AB100,'様式C-1-1用'!$A$4:$AH$1073,8,0),"") -> アーチ（右側） | I100: =IFERROR(VLOOKUP(AB100,'様式C-1-1用'!$A$4:$AH$1073,9,0),"") -> 漏水 | J100: =IFERROR(VLOOKUP(AB100,'様式C-1-1用'!$A$4:$AH$1073,10),"") -> 漏水 | M100: =IFERROR(VLOOKUP(AB100,'様式C-1-1用'!$A$4:$AH$1073,17,0),"") -> 1.5m×7.5m にじみ | N100: =IFERROR(VLOOKUP(AB100,'様式C-1-1用'!$A$4:$AH$1073,20,0),"") -> 進行が認められない | O100: =IFERROR(VLOOKUP(AB100,'様式C-1-1用'!$A$4:$AH$1073,21,0),"") -> 対策区分判定Ⅱb | P100: =IFERROR(VLOOKUP(AB100,'様式C-1-1用'!$A$4:$AH$1073,22,0),"") -> Ⅱ | Q100: =IFERROR(VLOOKUP(AB100,'様式C-1-1用'!$A$4:$AH$1073,23),"") -> 0 | R100: =IFERROR(VLOOKUP(AB100,'様式C-1-1用'!$A$4:$AH$1073,24,0),"") -> Ⅱb | S100: =IFERROR(VLOOKUP(AB100,'様式C-1-1用'!$A$4:$AH$1073,27,0),"") -> 否 | T100: =IFERROR(VLOOKUP(AB100,'様式C-1-1用'!$A$4:$AH$976,28,0),"") -> 要監視 | U100: =IFERROR(VLOOKUP(AB100,'様式C-1-1用'!$A$4:$AH$976,29,0),"") -> 継続 | V100: =IFERROR(VLOOKUP(AB100,'様式C-1-1用'!$A$4:$AH$976,30,0),"") -> 監視（日常巡視） | Z100: =IFERROR(VLOOKUP(AB100,'様式C-1-1用'!$A$4:$AH$976,32,0),"") -> 継続監視 | AB100: =AB99+1 -> 68
C101: =IFERROR(VLOOKUP(AB101,'様式C-1-1用'!$A$4:$AH$1073,4,0),0) -> 8 | E101: =IF(C101="","",VLOOKUP(AB101,'様式C-1-1用'!$A$4:$AH$1073,5,0)) -> 6 | F101: =IF(C101="","",VLOOKUP(AB101,'様式C-1-1用'!$A$4:$AH$1073,6)) -> 74.512 | G101: =IFERROR(VLOOKUP(AB101,'様式C-1-1用'!$A$4:$AH$1073,7,0),"") -> 覆工・坑門 | H101: =IFERROR(VLOOKUP(AB101,'様式C-1-1用'!$A$4:$AH$1073,8,0),"") -> アーチ（天端） | I101: =IFERROR(VLOOKUP(AB101,'様式C-1-1用'!$A$4:$AH$1073,9,0),"") -> 材質劣化 | J101: =IFERROR(VLOOKUP(AB101,'様式C-1-1用'!$A$4:$AH$1073,10),"") -> ひび割れ | M101: =IFERROR(VLOOKUP(AB101,'様式C-1-1用'!$A$4:$AH$1073,17,0),"") -> 幅0.3mm×長さ2.7m | N101: =IFERROR(VLOOKUP(AB101,'様式C-1-1用'!$A$4:$AH$1073,20,0),"") -> 進行が認められない | O101: =IFERROR(VLOOKUP(AB101,'様式C-1-1用'!$A$4:$AH$1073,21,0),"") -> 対策区分判定Ⅱb | P101: =IFERROR(VLOOKUP(AB101,'様式C-1-1用'!$A$4:$AH$1073,22,0),"") -> Ⅱ | Q101: =IFERROR(VLOOKUP(AB101,'様式C-1-1用'!$A$4:$AH$1073,23),"") -> 0 | R101: =IFERROR(VLOOKUP(AB101,'様式C-1-1用'!$A$4:$AH$1073,24,0),"") -> Ⅱb | S101: =IFERROR(VLOOKUP(AB101,'様式C-1-1用'!$A$4:$AH$1073,27,0),"") -> 否 | T101: =IFERROR(VLOOKUP(AB101,'様式C-1-1用'!$A$4:$AH$976,28,0),"") -> 要監視 | U101: =IFERROR(VLOOKUP(AB101,'様式C-1-1用'!$A$4:$AH$976,29,0),"") -> 継続 | V101: =IFERROR(VLOOKUP(AB101,'様式C-1-1用'!$A$4:$AH$976,30,0),"") -> 監視（日常巡視） | Z101: =IFERROR(VLOOKUP(AB101,'様式C-1-1用'!$A$4:$AH$976,32,0),"") -> 継続監視 | AB101: =AB100+1 -> 69
C102: =IFERROR(VLOOKUP(AB102,'様式C-1-1用'!$A$4:$AH$1073,4,0),0) -> 8 | E102: =IF(C102="","",VLOOKUP(AB102,'様式C-1-1用'!$A$4:$AH$1073,5,0)) -> 7 | F102: =IF(C102="","",VLOOKUP(AB102,'様式C-1-1用'!$A$4:$AH$1073,6)) -> 74.512 | G102: =IFERROR(VLOOKUP(AB102,'様式C-1-1用'!$A$4:$AH$1073,7,0),"") -> 覆工・坑門 | H102: =IFERROR(VLOOKUP(AB102,'様式C-1-1用'!$A$4:$AH$1073,8,0),"") -> アーチ（右側） | I102: =IFERROR(VLOOKUP(AB102,'様式C-1-1用'!$A$4:$AH$1073,9,0),"") -> 漏水 | J102: =IFERROR(VLOOKUP(AB102,'様式C-1-1用'!$A$4:$AH$1073,10),"") -> 漏水 | M102: =IFERROR(VLOOKUP(AB102,'様式C-1-1用'!$A$4:$AH$1073,17,0),"") -> 0.05m×3.2m にじみ | N102: =IFERROR(VLOOKUP(AB102,'様式C-1-1用'!$A$4:$AH$1073,20,0),"") -> 進行が認められない | O102: =IFERROR(VLOOKUP(AB102,'様式C-1-1用'!$A$4:$AH$1073,21,0),"") -> 対策区分判定Ⅱb | P102: =IFERROR(VLOOKUP(AB102,'様式C-1-1用'!$A$4:$AH$1073,22,0),"") -> Ⅱ | Q102: =IFERROR(VLOOKUP(AB102,'様式C-1-1用'!$A$4:$AH$1073,23),"") -> 0 | R102: =IFERROR(VLOOKUP(AB102,'様式C-1-1用'!$A$4:$AH$1073,24,0),"") -> Ⅱb | S102: =IFERROR(VLOOKUP(AB102,'様式C-1-1用'!$A$4:$AH$1073,27,0),"") -> 否 | T102: =IFERROR(VLOOKUP(AB102,'様式C-1-1用'!$A$4:$AH$976,28,0),"") -> 要監視 | U102: =IFERROR(VLOOKUP(AB102,'様式C-1-1用'!$A$4:$AH$976,29,0),"") -> 継続 | V102: =IFERROR(VLOOKUP(AB102,'様式C-1-1用'!$A$4:$AH$976,30,0),"") -> 監視（日常巡視） | Z102: =IFERROR(VLOOKUP(AB102,'様式C-1-1用'!$A$4:$AH$976,32,0),"") -> 継続監視 | AB102: =AB101+1 -> 70
...

Sheet 様式C-1-2
B2: ■定期点検記録様式 定期点検結果総括表（トンネル内附属物等の取付状態） 【様式C-1-2】
B3: フリガナ | F3: ='様式A-1'!$D$3 -> ユノセトンネル | J3: 路線名 | L3: ='様式A-1'!$J$3 -> 一般県道長門峡線 | O3: 定期点検業者 | Q3: =様式B!$K$5 -> 日本工営株式会社 | U3: 定期点検年月日 | Y3: =様式B!$Q$5 -> 45240
B4: 名 称 | F4: ='様式A-1'!$D$4 -> 湯之瀬トンネル | J4: 管理者名 | L4: ='様式A-1'!$R$3 -> 山口県萩土木事務所 | O4: 定期点検者名 | Q4: =様式B!$K$6 -> 横山真一郎
C5: 覆工 スパン 番号 | E5: 異常 番号 | F5: 距離 （m） | G5: 異常部位 | J5: 異 常 の 内 容 | P5: 定期点検結果 | R5: 応急措置の 実施状況 | X5: 対応方針 ・ 特記事項
G6: 対象箇所 | I6: 部位区分 | J6: 異常種類 | N6: 異常の発生範囲の規模 | P6: 異常判定区分 | R6: 実施 | S6: 応急措置の内容
P7: 応急措置前 | Q7: 応急措置後
B8: 定期点検結果 | C8: =VLOOKUP(AA8,'様式C-1-2用'!$A$3:$V$1000,3,0) -> 1 | E8: =VLOOKUP(AA8,'様式C-1-2用'!$A$3:$V$1000,4,0) -> 101 | F8: =VLOOKUP(AA8,'様式C-1-2用'!$A$3:$V$1000,5,0) -> 11.772 | G8: =VLOOKUP(AA8,'様式C-1-2用'!$A$3:$V$1000,6,0) -> 照明施設 | H8: =VLOOKUP(AA8,'様式C-1-2用'!$A$3:$V$1000,7,0) -> ケーブル類 | I8: =VLOOKUP(AA8,'様式C-1-2用'!$A$3:$V$1000,8,0) -> 取付部材 | J8: =VLOOKUP(AA8,'様式C-1-2用'!$A$3:$V$1000,9,0) -> 腐食 | N8: =VLOOKUP(AA8,'様式C-1-2用'!$A$3:$V$1000,10,0) -> 3 | P8: =VLOOKUP(AA8,'様式C-1-2用'!$A$3:$V$1000,11,0) -> 0 | Q8: =VLOOKUP(AA8,'様式C-1-2用'!$A$3:$V$1000,12,0) -> × | R8: =VLOOKUP(AA8,'様式C-1-2用'!$A$3:$V$1000,13,0) -> 未 | S8: =VLOOKUP(AA8,'様式C-1-2用'!$A$3:$V$1000,14,0) -> 0 | X8: =VLOOKUP(AA8,'様式C-1-2用'!$A$3:$V$1000,15,0) -> 交換 | AA8: 1
C9: =VLOOKUP(AA9,'様式C-1-2用'!$A$3:$V$1000,3,0) -> 2 | E9: =VLOOKUP(AA9,'様式C-1-2用'!$A$3:$V$1000,4,0) -> 101 | F9: =VLOOKUP(AA9,'様式C-1-2用'!$A$3:$V$1000,5,0) -> 20.712 | G9: =VLOOKUP(AA9,'様式C-1-2用'!$A$3:$V$1000,6,0) -> 照明施設 | H9: =VLOOKUP(AA9,'様式C-1-2用'!$A$3:$V$1000,7,0) -> ケーブル類 | I9: =VLOOKUP(AA9,'様式C-1-2用'!$A$3:$V$1000,8,0) -> 取付部材 | J9: =VLOOKUP(AA9,'様式C-1-2用'!$A$3:$V$1000,9,0) -> 腐食 | N9: =VLOOKUP(AA9,'様式C-1-2用'!$A$3:$V$1000,10,0) -> 4 | P9: =VLOOKUP(AA9,'様式C-1-2用'!$A$3:$V$1000,11,0) -> 0 | Q9: =VLOOKUP(AA9,'様式C-1-2用'!$A$3:$V$1000,12,0) -> × | R9: =VLOOKUP(AA9,'様式C-1-2用'!$A$3:$V$1000,13,0) -> 未 | S9: =VLOOKUP(AA9,'様式C-1-2用'!$A$3:$V$1000,14,0) -> 0 | X9: =VLOOKUP(AA9,'様式C-1-2用'!$A$3:$V$1000,15,0) -> 交換 | AA9: =AA8+1 -> 2
C10: =VLOOKUP(AA10,'様式C-1-2用'!$A$3:$V$1000,3,0) -> 2 | E10: =VLOOKUP(AA10,'様式C-1-2用'!$A$3:$V$1000,4,0) -> 102 | F10: =VLOOKUP(AA10,'様式C-1-2用'!$A$3:$V$1000,5,0) -> 20.712 | G10: =VLOOKUP(AA10,'様式C-1-2用'!$A$3:$V$1000,6,0) -> 照明施設 | H10: =VLOOKUP(AA10,'様式C-1-2用'!$A$3:$V$1000,7,0) -> ケーブル類 | I10: =VLOOKUP(AA10,'様式C-1-2用'!$A$3:$V$1000,8,0) -> 取付部材 | J10: =VLOOKUP(AA10,'様式C-1-2用'!$A$3:$V$1000,9,0) -> 腐食 | N10: =VLOOKUP(AA10,'様式C-1-2用'!$A$3:$V$1000,10,0) -> 4 | P10: =VLOOKUP(AA10,'様式C-1-2用'!$A$3:$V$1000,11,0) -> 0 | Q10: =VLOOKUP(AA10,'様式C-1-2用'!$A$3:$V$1000,12,0) -> × | R10: =VLOOKUP(AA10,'様式C-1-2用'!$A$3:$V$1000,13,0) -> 未 | S10: =VLOOKUP(AA10,'様式C-1-2用'!$A$3:$V$1000,14,0) -> 0 | X10: =VLOOKUP(AA10,'様式C-1-2用'!$A$3:$V$1000,15,0) -> 交換 | AA10: =AA9+1 -> 3
C11: =VLOOKUP(AA11,'様式C-1-2用'!$A$3:$V$1000,3,0) -> 2 | E11: =VLOOKUP(AA11,'様式C-1-2用'!$A$3:$V$1000,4,0) -> 103 | F11: =VLOOKUP(AA11,'様式C-1-2用'!$A$3:$V$1000,5,0) -> 20.712 | G11: =VLOOKUP(AA11,'様式C-1-2用'!$A$3:$V$1000,6,0) -> 照明施設 | H11: =VLOOKUP(AA11,'様式C-1-2用'!$A$3:$V$1000,7,0) -> 灯具 | I11: =VLOOKUP(AA11,'様式C-1-2用'!$A$3:$V$1000,8,0) -> 附属物本体 | J11: =VLOOKUP(AA11,'様式C-1-2用'!$A$3:$V$1000,9,0) -> 腐食 | N11: =VLOOKUP(AA11,'様式C-1-2用'!$A$3:$V$1000,10,0) -> 1 | P11: =VLOOKUP(AA11,'様式C-1-2用'!$A$3:$V$1000,11,0) -> 0 | Q11: =VLOOKUP(AA11,'様式C-1-2用'!$A$3:$V$1000,12,0) -> × | R11: =VLOOKUP(AA11,'様式C-1-2用'!$A$3:$V$1000,13,0) -> 未 | S11: =VLOOKUP(AA11,'様式C-1-2用'!$A$3:$V$1000,14,0) -> 0 | X11: =VLOOKUP(AA11,'様式C-1-2用'!$A$3:$V$1000,15,0) -> 交換 | AA11: =AA10+1 -> 4
C12: =VLOOKUP(AA12,'様式C-1-2用'!$A$3:$V$1000,3,0) -> 3 | E12: =VLOOKUP(AA12,'様式C-1-2用'!$A$3:$V$1000,4,0) -> 101 | F12: =VLOOKUP(AA12,'様式C-1-2用'!$A$3:$V$1000,5,0) -> 29.652 | G12: =VLOOKUP(AA12,'様式C-1-2用'!$A$3:$V$1000,6,0) -> 照明施設 | H12: =VLOOKUP(AA12,'様式C-1-2用'!$A$3:$V$1000,7,0) -> ケーブル類 | I12: =VLOOKUP(AA12,'様式C-1-2用'!$A$3:$V$1000,8,0) -> 取付部材 | J12: =VLOOKUP(AA12,'様式C-1-2用'!$A$3:$V$1000,9,0) -> 腐食 | N12: =VLOOKUP(AA12,'様式C-1-2用'!$A$3:$V$1000,10,0) -> 6 | P12: =VLOOKUP(AA12,'様式C-1-2用'!$A$3:$V$1000,11,0) -> 0 | Q12: =VLOOKUP(AA12,'様式C-1-2用'!$A$3:$V$1000,12,0) -> × | R12: =VLOOKUP(AA12,'様式C-1-2用'!$A$3:$V$1000,13,0) -> 未 | S12: =VLOOKUP(AA12,'様式C-1-2用'!$A$3:$V$1000,14,0) -> 0 | X12: =VLOOKUP(AA12,'様式C-1-2用'!$A$3:$V$1000,15,0) -> 交換 | AA12: =AA11+1 -> 5
C13: =VLOOKUP(AA13,'様式C-1-2用'!$A$3:$V$1000,3,0) -> 3 | E13: =VLOOKUP(AA13,'様式C-1-2用'!$A$3:$V$1000,4,0) -> 102 | F13: =VLOOKUP(AA13,'様式C-1-2用'!$A$3:$V$1000,5,0) -> 29.652 | G13: =VLOOKUP(AA13,'様式C-1-2用'!$A$3:$V$1000,6,0) -> 照明施設 | H13: =VLOOKUP(AA13,'様式C-1-2用'!$A$3:$V$1000,7,0) -> 灯具 | I13: =VLOOKUP(AA13,'様式C-1-2用'!$A$3:$V$1000,8,0) -> 附属物本体 | J13: =VLOOKUP(AA13,'様式C-1-2用'!$A$3:$V$1000,9,0) -> 腐食 | N13: =VLOOKUP(AA13,'様式C-1-2用'!$A$3:$V$1000,10,0) -> 1 | P13: =VLOOKUP(AA13,'様式C-1-2用'!$A$3:$V$1000,11,0) -> 0 | Q13: =VLOOKUP(AA13,'様式C-1-2用'!$A$3:$V$1000,12,0) -> × | R13: =VLOOKUP(AA13,'様式C-1-2用'!$A$3:$V$1000,13,0) -> 未 | S13: =VLOOKUP(AA13,'様式C-1-2用'!$A$3:$V$1000,14,0) -> 0 | X13: =VLOOKUP(AA13,'様式C-1-2用'!$A$3:$V$1000,15,0) -> 交換 | AA13: =AA12+1 -> 6
C14: =VLOOKUP(AA14,'様式C-1-2用'!$A$3:$V$1000,3,0) -> 3 | E14: =VLOOKUP(AA14,'様式C-1-2用'!$A$3:$V$1000,4,0) -> 103 | F14: =VLOOKUP(AA14,'様式C-1-2用'!$A$3:$V$1000,5,0) -> 29.652 | G14: =VLOOKUP(AA14,'様式C-1-2用'!$A$3:$V$1000,6,0) -> 照明施設 | H14: =VLOOKUP(AA14,'様式C-1-2用'!$A$3:$V$1000,7,0) -> ケーブル類 | I14: =VLOOKUP(AA14,'様式C-1-2用'!$A$3:$V$1000,8,0) -> 取付部材 | J14: =VLOOKUP(AA14,'様式C-1-2用'!$A$3:$V$1000,9,0) -> 腐食 | N14: =VLOOKUP(AA14,'様式C-1-2用'!$A$3:$V$1000,10,0) -> 4 | P14: =VLOOKUP(AA14,'様式C-1-2用'!$A$3:$V$1000,11,0) -> 0 | Q14: =VLOOKUP(AA14,'様式C-1-2用'!$A$3:$V$1000,12,0) -> × | R14: =VLOOKUP(AA14,'様式C-1-2用'!$A$3:$V$1000,13,0) -> 未 | S14: =VLOOKUP(AA14,'様式C-1-2用'!$A$3:$V$1000,14,0) -> 0 | X14: =VLOOKUP(AA14,'様式C-1-2用'!$A$3:$V$1000,15,0) -> 交換 | AA14: =AA13+1 -> 7
C15: =VLOOKUP(AA15,'様式C-1-2用'!$A$3:$V$1000,3,0) -> 3 | E15: =VLOOKUP(AA15,'様式C-1-2用'!$A$3:$V$1000,4,0) -> 104 | F15: =VLOOKUP(AA15,'様式C-1-2用'!$A$3:$V$1000,5,0) -> 29.652 | G15: =VLOOKUP(AA15,'様式C-1-2用'!$A$3:$V$1000,6,0) -> 照明施設 | H15: =VLOOKUP(AA15,'様式C-1-2用'!$A$3:$V$1000,7,0) -> 灯具 | I15: =VLOOKUP(AA15,'様式C-1-2用'!$A$3:$V$1000,8,0) -> 附属物本体 | J15: =VLOOKUP(AA15,'様式C-1-2用'!$A$3:$V$1000,9,0) -> 腐食 | N15: =VLOOKUP(AA15,'様式C-1-2用'!$A$3:$V$1000,10,0) -> 1 | P15: =VLOOKUP(AA15,'様式C-1-2用'!$A$3:$V$1000,11,0) -> 0 | Q15: =VLOOKUP(AA15,'様式C-1-2用'!$A$3:$V$1000,12,0) -> × | R15: =VLOOKUP(AA15,'様式C-1-2用'!$A$3:$V$1000,13,0) -> 未 | S15: =VLOOKUP(AA15,'様式C-1-2用'!$A$3:$V$1000,14,0) -> 0 | X15: =VLOOKUP(AA15,'様式C-1-2用'!$A$3:$V$1000,15,0) -> 交換 | AA15: =AA14+1 -> 8
C16: =VLOOKUP(AA16,'様式C-1-2用'!$A$3:$V$1000,3,0) -> 4 | E16: =VLOOKUP(AA16,'様式C-1-2用'!$A$3:$V$1000,4,0) -> 101 | F16: =VLOOKUP(AA16,'様式C-1-2用'!$A$3:$V$1000,5,0) -> 38.513 | G16: =VLOOKUP(AA16,'様式C-1-2用'!$A$3:$V$1000,6,0) -> 照明施設 | H16: =VLOOKUP(AA16,'様式C-1-2用'!$A$3:$V$1000,7,0) -> ケーブル類 | I16: =VLOOKUP(AA16,'様式C-1-2用'!$A$3:$V$1000,8,0) -> 取付部材 | J16: =VLOOKUP(AA16,'様式C-1-2用'!$A$3:$V$1000,9,0) -> 腐食 | N16: =VLOOKUP(AA16,'様式C-1-2用'!$A$3:$V$1000,10,0) -> 6 | P16: =VLOOKUP(AA16,'様式C-1-2用'!$A$3:$V$1000,11,0) -> 0 | Q16: =VLOOKUP(AA16,'様式C-1-2用'!$A$3:$V$1000,12,0) -> × | R16: =VLOOKUP(AA16,'様式C-1-2用'!$A$3:$V$1000,13,0) -> 未 | S16: =VLOOKUP(AA16,'様式C-1-2用'!$A$3:$V$1000,14,0) -> 0 | X16: =VLOOKUP(AA16,'様式C-1-2用'!$A$3:$V$1000,15,0) -> 交換 | AA16: =AA15+1 -> 9
C17: =VLOOKUP(AA17,'様式C-1-2用'!$A$3:$V$1000,3,0) -> 4 | E17: =VLOOKUP(AA17,'様式C-1-2用'!$A$3:$V$1000,4,0) -> 102 | F17: =VLOOKUP(AA17,'様式C-1-2用'!$A$3:$V$1000,5,0) -> 38.513 | G17: =VLOOKUP(AA17,'様式C-1-2用'!$A$3:$V$1000,6,0) -> 照明施設 | H17: =VLOOKUP(AA17,'様式C-1-2用'!$A$3:$V$1000,7,0) -> 灯具 | I17: =VLOOKUP(AA17,'様式C-1-2用'!$A$3:$V$1000,8,0) -> 附属物本体 | J17: =VLOOKUP(AA17,'様式C-1-2用'!$A$3:$V$1000,9,0) -> 破損 | N17: =VLOOKUP(AA17,'様式C-1-2用'!$A$3:$V$1000,10,0) -> 1 | P17: =VLOOKUP(AA17,'様式C-1-2用'!$A$3:$V$1000,11,0) -> 0 | Q17: =VLOOKUP(AA17,'様式C-1-2用'!$A$3:$V$1000,12,0) -> × | R17: =VLOOKUP(AA17,'様式C-1-2用'!$A$3:$V$1000,13,0) -> 未 | S17: =VLOOKUP(AA17,'様式C-1-2用'!$A$3:$V$1000,14,0) -> 0 | X17: =VLOOKUP(AA17,'様式C-1-2用'!$A$3:$V$1000,15,0) -> 交換 | AA17: =AA16+1 -> 10
C18: =VLOOKUP(AA18,'様式C-1-2用'!$A$3:$V$1000,3,0) -> 4 | E18: =VLOOKUP(AA18,'様式C-1-2用'!$A$3:$V$1000,4,0) -> 103 | F18: =VLOOKUP(AA18,'様式C-1-2用'!$A$3:$V$1000,5,0) -> 38.513 | G18: =VLOOKUP(AA18,'様式C-1-2用'!$A$3:$V$1000,6,0) -> 照明施設 | H18: =VLOOKUP(AA18,'様式C-1-2用'!$A$3:$V$1000,7,0) -> ケーブル類 | I18: =VLOOKUP(AA18,'様式C-1-2用'!$A$3:$V$1000,8,0) -> 取付部材 | J18: =VLOOKUP(AA18,'様式C-1-2用'!$A$3:$V$1000,9,0) -> 腐食 | N18: =VLOOKUP(AA18,'様式C-1-2用'!$A$3:$V$1000,10,0) -> 6 | P18: =VLOOKUP(AA18,'様式C-1-2用'!$A$3:$V$1000,11,0) -> 0 | Q18: =VLOOKUP(AA18,'様式C-1-2用'!$A$3:$V$1000,12,0) -> × | R18: =VLOOKUP(AA18,'様式C-1-2用'!$A$3:$V$1000,13,0) -> 未 | S18: =VLOOKUP(AA18,'様式C-1-2用'!$A$3:$V$1000,14,0) -> 0 | X18: =VLOOKUP(AA18,'様式C-1-2用'!$A$3:$V$1000,15,0) -> 交換 | AA18: =AA17+1 -> 11
C19: =VLOOKUP(AA19,'様式C-1-2用'!$A$3:$V$1000,3,0) -> 4 | E19: =VLOOKUP(AA19,'様式C-1-2用'!$A$3:$V$1000,4,0) -> 104 | F19: =VLOOKUP(AA19,'様式C-1-2用'!$A$3:$V$1000,5,0) -> 38.513 | G19: =VLOOKUP(AA19,'様式C-1-2用'!$A$3:$V$1000,6,0) -> 照明施設 | H19: =VLOOKUP(AA19,'様式C-1-2用'!$A$3:$V$1000,7,0) -> 灯具 | I19: =VLOOKUP(AA19,'様式C-1-2用'!$A$3:$V$1000,8,0) -> 附属物本体 | J19: =VLOOKUP(AA19,'様式C-1-2用'!$A$3:$V$1000,9,0) -> 腐食 | N19: =VLOOKUP(AA19,'様式C-1-2用'!$A$3:$V$1000,10,0) -> 1 | P19: =VLOOKUP(AA19,'様式C-1-2用'!$A$3:$V$1000,11,0) -> 0 | Q19: =VLOOKUP(AA19,'様式C-1-2用'!$A$3:$V$1000,12,0) -> × | R19: =VLOOKUP(AA19,'様式C-1-2用'!$A$3:$V$1000,13,0) -> 未 | S19: =VLOOKUP(AA19,'様式C-1-2用'!$A$3:$V$1000,14,0) -> 0 | X19: =VLOOKUP(AA19,'様式C-1-2用'!$A$3:$V$1000,15,0) -> 交換 | AA19: =AA18+1 -> 12
C20: =VLOOKUP(AA20,'様式C-1-2用'!$A$3:$V$1000,3,0) -> 5 | E20: =VLOOKUP(AA20,'様式C-1-2用'!$A$3:$V$1000,4,0) -> 101 | F20: =VLOOKUP(AA20,'様式C-1-2用'!$A$3:$V$1000,5,0) -> 47.595 | G20: =VLOOKUP(AA20,'様式C-1-2用'!$A$3:$V$1000,6,0) -> 照明施設 | H20: =VLOOKUP(AA20,'様式C-1-2用'!$A$3:$V$1000,7,0) -> ケーブル類 | I20: =VLOOKUP(AA20,'様式C-1-2用'!$A$3:$V$1000,8,0) -> 取付部材 | J20: =VLOOKUP(AA20,'様式C-1-2用'!$A$3:$V$1000,9,0) -> 腐食 | N20: =VLOOKUP(AA20,'様式C-1-2用'!$A$3:$V$1000,10,0) -> 6 | P20: =VLOOKUP(AA20,'様式C-1-2用'!$A$3:$V$1000,11,0) -> 0 | Q20: =VLOOKUP(AA20,'様式C-1-2用'!$A$3:$V$1000,12,0) -> × | R20: =VLOOKUP(AA20,'様式C-1-2用'!$A$3:$V$1000,13,0) -> 未 | S20: =VLOOKUP(AA20,'様式C-1-2用'!$A$3:$V$1000,14,0) -> 0 | X20: =VLOOKUP(AA20,'様式C-1-2用'!$A$3:$V$1000,15,0) -> 交換 | AA20: =AA19+1 -> 13
... C38: =VLOOKUP(AA38,'様式C-1-2用'!$A$3:$V$1000,3,0) -> 11 | E38: =VLOOKUP(AA38,'様式C-1-2用'!$A$3:$V$1000,4,0) -> 102 | F38: =VLOOKUP(AA38,'様式C-1-2用'!$A$3:$V$1000,5,0) -> 101.457 | G38: =VLOOKUP(AA38,'様式C-1-2用'!$A$3:$V$1000,6,0) -> 照明施設 | H38: =VLOOKUP(AA38,'様式C-1-2用'!$A$3:$V$1000,7,0) -> ケーブル類 | I38: =VLOOKUP(AA38,'様式C-1-2用'!$A$3:$V$1000,8,0) -> 取付部材 | J38: =VLOOKUP(AA38,'様式C-1-2用'!$A$3:$V$1000,9,0) -> 腐食 | N38: =VLOOKUP(AA38,'様式C-1-2用'!$A$3:$V$1000,10,0) -> 5 | P38: =VLOOKUP(AA38,'様式C-1-2用'!$A$3:$V$1000,11,0) -> 0 | Q38: =VLOOKUP(AA38,'様式C-1-2用'!$A$3:$V$1000,12,0) -> × | R38: =VLOOKUP(AA38,'様式C-1-2用'!$A$3:$V$1000,13,0) -> 未 | S38: =VLOOKUP(AA38,'様式C-1-2用'!$A$3:$V$1000,14,0) -> 0 | X38: =VLOOKUP(AA38,'様式C-1-2用'!$A$3:$V$1000,15,0) -> 交換 | AA38: =AA37+1 -> 31
C39: ※ 異常判定区分×について記入すること。また、応急措置により○と判定された箇所も記入すること。
C40: ※ 応急措置を実施しないで判定した箇所の異常判定区分は、異常判定区分の応急措置後の欄に記入すること。
C41: ※ 異常の除去が不完全で、緊急対応が必要な場合は対応方針欄に記入すること。
C42: ※ １スパンの覆工に複数の異常がある場合は、異常箇所毎に記入すること。
C43: ※ 行が不足する場合は、適時、表の行を増やすこと。
B44: 定期点検結果 | C44: =VLOOKUP(AA44,'様式C-1-2用'!$A$3:$V$1000,3,0) -> 12 | E44: =VLOOKUP(AA44,'様式C-1-2用'!$A$3:$V$1000,4,0) -> 101 | F44: =VLOOKUP(AA44,'様式C-1-2用'!$A$3:$V$1000,5,0) -> 110.402 | G44: =VLOOKUP(AA44,'様式C-1-2用'!$A$3:$V$1000,6,0) -> 照明施設 | H44: =VLOOKUP(AA44,'様式C-1-2用'!$A$3:$V$1000,7,0) -> ケーブル類 | I44: =VLOOKUP(AA44,'様式C-1-2用'!$A$3:$V$1000,8,0) -> 取付部材 | J44: =VLOOKUP(AA44,'様式C-1-2用'!$A$3:$V$1000,9,0) -> 腐食 | N44: =VLOOKUP(AA44,'様式C-1-2用'!$A$3:$V$1000,10,0) -> 6 | P44: =VLOOKUP(AA44,'様式C-1-2用'!$A$3:$V$1000,11,0) -> 0 | Q44: =VLOOKUP(AA44,'様式C-1-2用'!$A$3:$V$1000,12,0) -> × | R44: =VLOOKUP(AA44,'様式C-1-2用'!$A$3:$V$1000,13,0) -> 未 | S44: =VLOOKUP(AA44,'様式C-1-2用'!$A$3:$V$1000,14,0) -> 0 | X44: =VLOOKUP(AA44,'様式C-1-2用'!$A$3:$V$1000,15,0) -> 交換 | AA44: =AA38+1 -> 32
C45: =VLOOKUP(AA45,'様式C-1-2用'!$A$3:$V$1000,3,0) -> 12 | E45: =VLOOKUP(AA45,'様式C-1-2用'!$A$3:$V$1000,4,0) -> 102 | F45: =VLOOKUP(AA45,'様式C-1-2用'!$A$3:$V$1000,5,0) -> 110.402 | G45: =VLOOKUP(AA45,'様式C-1-2用'!$A$3:$V$1000,6,0) -> 照明施設 | H45: =VLOOKUP(AA45,'様式C-1-2用'!$A$3:$V$1000,7,0) -> ケーブル類 | I45: =VLOOKUP(AA45,'様式C-1-2用'!$A$3:$V$1000,8,0) -> 取付部材 | J45: =VLOOKUP(AA45,'様式C-1-2用'!$A$3:$V$1000,9,0) -> 腐食 | N45: =VLOOKUP(AA45,'様式C-1-2用'!$A$3:$V$1000,10,0) -> 5 | P45: =VLOOKUP(AA45,'様式C-1-2用'!$A$3:$V$1000,11,0) -> 0 | Q45: =VLOOKUP(AA45,'様式C-1-2用'!$A$3:$V$1000,12,0) -> × | R45: =VLOOKUP(AA45,'様式C-1-2用'!$A$3:$V$1000,13,0) -> 未 | S45: =VLOOKUP(AA45,'様式C-1-2用'!$A$3:$V$1000,14,0) -> 0 | X45: =VLOOKUP(AA45,'様式C-1-2用'!$A$3:$V$1000,15,0) -> 交換 | AA45: =AA44+1 -> 33
C46: =VLOOKUP(AA46,'様式C-1-2用'!$A$3:$V$1000,3,0) -> 12 | E46: =VLOOKUP(AA46,'様式C-1-2用'!$A$3:$V$1000,4,0) -> 103 | F46: =VLOOKUP(AA46,'様式C-1-2用'!$A$3:$V$1000,5,0) -> 110.402 | G46: =VLOOKUP(AA46,'様式C-1-2用'!$A$3:$V$1000,6,0) -> 照明施設 | H46: =VLOOKUP(AA46,'様式C-1-2用'!$A$3:$V$1000,7,0) -> 灯具 | I46: =VLOOKUP(AA46,'様式C-1-2用'!$A$3:$V$1000,8,0) -> 附属物本体 | J46: =VLOOKUP(AA46,'様式C-1-2用'!$A$3:$V$1000,9,0) -> 破損 | N46: =VLOOKUP(AA46,'様式C-1-2用'!$A$3:$V$1000,10,0) -> 1 | P46: =VLOOKUP(AA46,'様式C-1-2用'!$A$3:$V$1000,11,0) -> 0 | Q46: =VLOOKUP(AA46,'様式C-1-2用'!$A$3:$V$1000,12,0) -> × | R46: =VLOOKUP(AA46,'様式C-1-2用'!$A$3:$V$1000,13,0) -> 未 | S46: =VLOOKUP(AA46,'様式C-1-2用'!$A$3:$V$1000,14,0) -> 0 | X46: =VLOOKUP(AA46,'様式C-1-2用'!$A$3:$V$1000,15,0) -> 交換 | AA46: =AA45+1 -> 34
C47: =VLOOKUP(AA47,'様式C-1-2用'!$A$3:$V$1000,3,0) -> 13 | E47: =VLOOKUP(AA47,'様式C-1-2用'!$A$3:$V$1000,4,0) -> 101 | F47: =VLOOKUP(AA47,'様式C-1-2用'!$A$3:$V$1000,5,0) -> 119.415 | G47: =VLOOKUP(AA47,'様式C-1-2用'!$A$3:$V$1000,6,0) -> 照明施設 | H47: =VLOOKUP(AA47,'様式C-1-2用'!$A$3:$V$1000,7,0) -> ケーブル類 | I47: =VLOOKUP(AA47,'様式C-1-2用'!$A$3:$V$1000,8,0) -> 取付部材 | J47: =VLOOKUP(AA47,'様式C-1-2用'!$A$3:$V$1000,9,0) -> 腐食 | N47: =VLOOKUP(AA47,'様式C-1-2用'!$A$3:$V$1000,10,0) -> 5 | P47: =VLOOKUP(AA47,'様式C-1-2用'!$A$3:$V$1000,11,0) -> 0 | Q47: =VLOOKUP(AA47,'様式C-1-2用'!$A$3:$V$1000,12,0) -> × | R47: =VLOOKUP(AA47,'様式C-1-2用'!$A$3:$V$1000,13,0) -> 未 | S47: =VLOOKUP(AA47,'様式C-1-2用'!$A$3:$V$1000,14,0) -> 0 | X47: =VLOOKUP(AA47,'様式C-1-2用'!$A$3:$V$1000,15,0) -> 交換 | AA47: =AA46+1 -> 35
C48: =VLOOKUP(AA48,'様式C-1-2用'!$A$3:$V$1000,3,0) -> 13 | E48: =VLOOKUP(AA48,'様式C-1-2用'!$A$3:$V$1000,4,0) -> 102 | F48: =VLOOKUP(AA48,'様式C-1-2用'!$A$3:$V$1000,5,0) -> 119.415 | G48: =VLOOKUP(AA48,'様式C-1-2用'!$A$3:$V$1000,6,0) -> 照明施設 | H48: =VLOOKUP(AA48,'様式C-1-2用'!$A$3:$V$1000,7,0) -> ケーブル類 | I48: =VLOOKUP(AA48,'様式C-1-2用'!$A$3:$V$1000,8,0) -> 取付部材 | J48: =VLOOKUP(AA48,'様式C-1-2用'!$A$3:$V$1000,9,0) -> 腐食 | N48: =VLOOKUP(AA48,'様式C-1-2用'!$A$3:$V$1000,10,0) -> 5 | P48: =VLOOKUP(AA48,'様式C-1-2用'!$A$3:$V$1000,11,0) -> 0 | Q48: =VLOOKUP(AA48,'様式C-1-2用'!$A$3:$V$1000,12,0) -> × | R48: =VLOOKUP(AA48,'様式C-1-2用'!$A$3:$V$1000,13,0) -> 未 | S48: =VLOOKUP(AA48,'様式C-1-2用'!$A$3:$V$1000,14,0) -> 0 | X48: =VLOOKUP(AA48,'様式C-1-2用'!$A$3:$V$1000,15,0) -> 交換 | AA48: =AA47+1 -> 36
C49: =VLOOKUP(AA49,'様式C-1-2用'!$A$3:$V$1000,3,0) -> 14 | E49: =VLOOKUP(AA49,'様式C-1-2用'!$A$3:$V$1000,4,0) -> 101 | F49: =VLOOKUP(AA49,'様式C-1-2用'!$A$3:$V$1000,5,0) -> 128.402 | G49: =VLOOKUP(AA49,'様式C-1-2用'!$A$3:$V$1000,6,0) -> 照明施設 | H49: =VLOOKUP(AA49,'様式C-1-2用'!$A$3:$V$1000,7,0) -> ケーブル類 | I49: =VLOOKUP(AA49,'様式C-1-2用'!$A$3:$V$1000,8,0) -> 取付部材 | J49: =VLOOKUP(AA49,'様式C-1-2用'!$A$3:$V$1000,9,0) -> 腐食 | N49: =VLOOKUP(AA49,'様式C-1-2用'!$A$3:$V$1000,10,0) -> 5 | P49: =VLOOKUP(AA49,'様式C-1-2用'!$A$3:$V$1000,11,0) -> 0 | Q49: =VLOOKUP(AA49,'様式C-1-2用'!$A$3:$V$1000,12,0) -> × | R49: =VLOOKUP(AA49,'様式C-1-2用'!$A$3:$V$1000,13,0) -> 未 | S49: =VLOOKUP(AA49,'様式C-1-2用'!$A$3:$V$1000,14,0) -> 0 | X49: =VLOOKUP(AA49,'様式C-1-2用'!$A$3:$V$1000,15,0) -> 交換 | AA49: =AA48+1 -> 37
C50: =VLOOKUP(AA50,'様式C-1-2用'!$A$3:$V$1000,3,0) -> 14 | E50: =VLOOKUP(AA50,'様式C-1-2用'!$A$3:$V$1000,4,0) -> 102 | F50: =VLOOKUP(AA50,'様式C-1-2用'!$A$3:$V$1000,5,0) -> 128.402 | G50: =VLOOKUP(AA50,'様式C-1-2用'!$A$3:$V$1000,6,0) -> 照明施設 | H50: =VLOOKUP(AA50,'様式C-1-2用'!$A$3:$V$1000,7,0) -> ケーブル類 | I50: =VLOOKUP(AA50,'様式C-1-2用'!$A$3:$V$1000,8,0) -> 取付部材 | J50: =VLOOKUP(AA50,'様式C-1-2用'!$A$3:$V$1000,9,0) -> 腐食 | N50: =VLOOKUP(AA50,'様式C-1-2用'!$A$3:$V$1000,10,0) -> 6 | P50: =VLOOKUP(AA50,'様式C-1-2用'!$A$3:$V$1000,11,0) -> 0 | Q50: =VLOOKUP(AA50,'様式C-1-2用'!$A$3:$V$1000,12,0) -> × | R50: =VLOOKUP(AA50,'様式C-1-2用'!$A$3:$V$1000,13,0) -> 未 | S50: =VLOOKUP(AA50,'様式C-1-2用'!$A$3:$V$1000,14,0) -> 0 | X50: =VLOOKUP(AA50,'様式C-1-2用'!$A$3:$V$1000,15,0) -> 交換 | AA50: =AA49+1 -> 38
C51: =VLOOKUP(AA51,'様式C-1-2用'!$A$3:$V$1000,3,0) -> 15 | E51: =VLOOKUP(AA51,'様式C-1-2用'!$A$3:$V$1000,4,0) -> 101 | F51: =VLOOKUP(AA51,'様式C-1-2用'!$A$3:$V$1000,5,0) -> 137.396 | G51: =VLOOKUP(AA51,'様式C-1-2用'!$A$3:$V$1000,6,0) -> 照明施設 | H51: =VLOOKUP(AA51,'様式C-1-2用'!$A$3:$V$1000,7,0) -> ケーブル類 | I51: =VLOOKUP(AA51,'様式C-1-2用'!$A$3:$V$1000,8,0) -> 取付部材 | J51: =VLOOKUP(AA51,'様式C-1-2用'!$A$3:$V$1000,9,0) -> 腐食 | N51: =VLOOKUP(AA51,'様式C-1-2用'!$A$3:$V$1000,10,0) -> 5 | P51: =VLOOKUP(AA51,'様式C-1-2用'!$A$3:$V$1000,11,0) -> 0 | Q51: =VLOOKUP(AA51,'様式C-1-2用'!$A$3:$V$1000,12,0) -> × | R51: =VLOOKUP(AA51,'様式C-1-2用'!$A$3:$V$1000,13,0) -> 未 | S51: =VLOOKUP(AA51,'様式C-1-2用'!$A$3:$V$1000,14,0) -> 0 | X51: =VLOOKUP(AA51,'様式C-1-2用'!$A$3:$V$1000,15,0) -> 交換 | AA51: =AA50+1 -> 39
C52: =VLOOKUP(AA52,'様式C-1-2用'!$A$3:$V$1000,3,0) -> 15 | E52: =VLOOKUP(AA52,'様式C-1-2用'!$A$3:$V$1000,4,0) -> 102 | F52: =VLOOKUP(AA52,'様式C-1-2用'!$A$3:$V$1000,5,0) -> 137.396 | G52: =VLOOKUP(AA52,'様式C-1-2用'!$A$3:$V$1000,6,0) -> 照明施設 | H52: =VLOOKUP(AA52,'様式C-1-2用'!$A$3:$V$1000,7,0) -> 灯具 | I52: =VLOOKUP(AA52,'様式C-1-2用'!$A$3:$V$1000,8,0) -> 附属物本体 | J52: =VLOOKUP(AA52,'様式C-1-2用'!$A$3:$V$1000,9,0) -> 腐食 | N52: =VLOOKUP(AA52,'様式C-1-2用'!$A$3:$V$1000,10,0) -> 1 | P52: =VLOOKUP(AA52,'様式C-1-2用'!$A$3:$V$1000,11,0) -> 0 | Q52: =VLOOKUP(AA52,'様式C-1-2用'!$A$3:$V$1000,12,0) -> × | R52: =VLOOKUP(AA52,'様式C-1-2用'!$A$3:$V$1000,13,0) -> 未 | S52: =VLOOKUP(AA52,'様式C-1-2用'!$A$3:$V$1000,14,0) -> 0 | X52: =VLOOKUP(AA52,'様式C-1-2用'!$A$3:$V$1000,15,0) -> 交換 | AA52: =AA51+1 -> 40
C53: =VLOOKUP(AA53,'様式C-1-2用'!$A$3:$V$1000,3,0) -> 15 | E53: =VLOOKUP(AA53,'様式C-1-2用'!$A$3:$V$1000,4,0) -> 103 | F53: =VLOOKUP(AA53,'様式C-1-2用'!$A$3:$V$1000,5,0) -> 137.396 | G53: =VLOOKUP(AA53,'様式C-1-2用'!$A$3:$V$1000,6,0) -> 照明施設 | H53: =VLOOKUP(AA53,'様式C-1-2用'!$A$3:$V$1000,7,0) -> ケーブル類 | I53: =VLOOKUP(AA53,'様式C-1-2用'!$A$3:$V$1000,8,0) -> 取付部材 | J53: =VLOOKUP(AA53,'様式C-1-2用'!$A$3:$V$1000,9,0) -> 腐食 | N53: =VLOOKUP(AA53,'様式C-1-2用'!$A$3:$V$1000,10,0) -> 5 | P53: =VLOOKUP(AA53,'様式C-1-2用'!$A$3:$V$1000,11,0) -> 0 | Q53: =VLOOKUP(AA53,'様式C-1-2用'!$A$3:$V$1000,12,0) -> × | R53: =VLOOKUP(AA53,'様式C-1-2用'!$A$3:$V$1000,13,0) -> 未 | S53: =VLOOKUP(AA53,'様式C-1-2用'!$A$3:$V$1000,14,0) -> 0 | X53: =VLOOKUP(AA53,'様式C-1-2用'!$A$3:$V$1000,15,0) -> 交換 | AA53: =AA52+1 -> 41
C54: =VLOOKUP(AA54,'様式C-1-2用'!$A$3:$V$1000,3,0) -> 16 | E54: =VLOOKUP(AA54,'様式C-1-2用'!$A$3:$V$1000,4,0) -> 101 | F54: =VLOOKUP(AA54,'様式C-1-2用'!$A$3:$V$1000,5,0) -> 146.324 | G54: =VLOOKUP(AA54,'様式C-1-2用'!$A$3:$V$1000,6,0) -> 照明施設 | H54: =VLOOKUP(AA54,'様式C-1-2用'!$A$3:$V$1000,7,0) -> ケーブル類 | I54: =VLOOKUP(AA54,'様式C-1-2用'!$A$3:$V$1000,8,0) -> 取付部材 | J54: =VLOOKUP(AA54,'様式C-1-2用'!$A$3:$V$1000,9,0) -> 腐食 | N54: =VLOOKUP(AA54,'様式C-1-2用'!$A$3:$V$1000,10,0) -> 5 | P54: =VLOOKUP(AA54,'様式C-1-2用'!$A$3:$V$1000,11,0) -> 0 | Q54: =VLOOKUP(AA54,'様式C-1-2用'!$A$3:$V$1000,12,0) -> × | R54: =VLOOKUP(AA54,'様式C-1-2用'!$A$3:$V$1000,13,0) -> 未 | S54: =VLOOKUP(AA54,'様式C-1-2用'!$A$3:$V$1000,14,0) -> 0 | X54: =VLOOKUP(AA54,'様式C-1-2用'!$A$3:$V$1000,15,0) -> 交換 | AA54: =AA53+1 -> 42
C55: =VLOOKUP(AA55,'様式C-1-2用'!$A$3:$V$1000,3,0) -> 16 | E55: =VLOOKUP(AA55,'様式C-1-2用'!$A$3:$V$1000,4,0) -> 102 | F55: =VLOOKUP(AA55,'様式C-1-2用'!$A$3:$V$1000,5,0) -> 146.324 | G55: =VLOOKUP(AA55,'様式C-1-2用'!$A$3:$V$1000,6,0) -> 照明施設 | H55: =VLOOKUP(AA55,'様式C-1-2用'!$A$3:$V$1000,7,0) -> 灯具 | I55: =VLOOKUP(AA55,'様式C-1-2用'!$A$3:$V$1000,8,0) -> 附属物本体 | J55: =VLOOKUP(AA55,'様式C-1-2用'!$A$3:$V$1000,9,0) -> 腐食 | N55: =VLOOKUP(AA55,'様式C-1-2用'!$A$3:$V$1000,10,0) -> 1 | P55: =VLOOKUP(AA55,'様式C-1-2用'!$A$3:$V$1000,11,0) -> 0 | Q55: =VLOOKUP(AA55,'様式C-1-2用'!$A$3:$V$1000,12,0) -> × | R55: =VLOOKUP(AA55,'様式C-1-2用'!$A$3:$V$1000,13,0) -> 未 | S55: =VLOOKUP(AA55,'様式C-1-2用'!$A$3:$V$1000,14,0) -> 0 | X55: =VLOOKUP(AA55,'様式C-1-2用'!$A$3:$V$1000,15,0) -> 交換 | AA55: =AA54+1 -> 43
C56: =VLOOKUP(AA56,'様式C-1-2用'!$A$3:$V$1000,3,0) -> 16 | E56: =VLOOKUP(AA56,'様式C-1-2用'!$A$3:$V$1000,4,0) -> 103 | F56: =VLOOKUP(AA56,'様式C-1-2用'!$A$3:$V$1000,5,0) -> 146.324 | G56: =VLOOKUP(AA56,'様式C-1-2用'!$A$3:$V$1000,6,0) -> 照明施設 | H56: =VLOOKUP(AA56,'様式C-1-2用'!$A$3:$V$1000,7,0) -> ケーブル類 | I56: =VLOOKUP(AA56,'様式C-1-2用'!$A$3:$V$1000,8,0) -> 取付部材 | J56: =VLOOKUP(AA56,'様式C-1-2用'!$A$3:$V$1000,9,0) -> 腐食 | N56: =VLOOKUP(AA56,'様式C-1-2用'!$A$3:$V$1000,10,0) -> 2 | P56: =VLOOKUP(AA56,'様式C-1-2用'!$A$3:$V$1000,11,0) -> 0 | Q56: =VLOOKUP(AA56,'様式C-1-2用'!$A$3:$V$1000,12,0) -> × | R56: =VLOOKUP(AA56,'様式C-1-2用'!$A$3:$V$1000,13,0) -> 未 | S56: =VLOOKUP(AA56,'様式C-1-2用'!$A$3:$V$1000,14,0) -> 0 | X56: =VLOOKUP(AA56,'様式C-1-2用'!$A$3:$V$1000,15,0) -> 交換 | AA56: =AA55+1 -> 44
... C74: =VLOOKUP(AA74,'様式C-1-2用'!$A$3:$V$1000,3,0) -> 21 | E74: =VLOOKUP(AA74,'様式C-1-2用'!$A$3:$V$1000,4,0) -> 103 | F74: =VLOOKUP(AA74,'様式C-1-2用'!$A$3:$V$1000,5,0) -> 191.17 | G74: =VLOOKUP(AA74,'様式C-1-2用'!$A$3:$V$1000,6,0) -> 照明施設 | H74: =VLOOKUP(AA74,'様式C-1-2用'!$A$3:$V$1000,7,0) -> ケーブル類 | I74: =VLOOKUP(AA74,'様式C-1-2用'!$A$3:$V$1000,8,0) -> 取付部材 | J74: =VLOOKUP(AA74,'様式C-1-2用'!$A$3:$V$1000,9,0) -> 腐食 | N74: =VLOOKUP(AA74,'様式C-1-2用'!$A$3:$V$1000,10,0) -> 4 | P74: =VLOOKUP(AA74,'様式C-1-2用'!$A$3:$V$1000,11,0) -> 0 | Q74: =VLOOKUP(AA74,'様式C-1-2用'!$A$3:$V$1000,12,0) -> × | R74: =VLOOKUP(AA74,'様式C-1-2用'!$A$3:$V$1000,13,0) -> 未 | S74: =VLOOKUP(AA74,'様式C-1-2用'!$A$3:$V$1000,14,0) -> 0 | X74: =VLOOKUP(AA74,'様式C-1-2用'!$A$3:$V$1000,15,0) -> 交換 | AA74: =AA73+1 -> 62
C75: ※ 異常判定区分×について記入すること。また、応急措置により○と判定された箇所も記入すること。
C76: ※ 応急措置を実施しないで判定した箇所の異常判定区分は、異常判定区分の応急措置後の欄に記入すること。
C77: ※ 異常の除去が不完全で、緊急対応が必要な場合は対応方針欄に記入すること。
C78: ※ １スパンの覆工に複数の異常がある場合は、異常箇所毎に記入すること。
C79: ※ 行が不足する場合は、適時、表の行を増やすこと。
B80: 定期点検結果 | C80: =VLOOKUP(AA80,'様式C-1-2用'!$A$3:$V$1000,3,0) -> 21 | E80: =VLOOKUP(AA80,'様式C-1-2用'!$A$3:$V$1000,4,0) -> 104 | F80: =VLOOKUP(AA80,'様式C-1-2用'!$A$3:$V$1000,5,0) -> 191.17 | G80: =VLOOKUP(AA80,'様式C-1-2用'!$A$3:$V$1000,6,0) -> 照明施設 | H80: =VLOOKUP(AA80,'様式C-1-2用'!$A$3:$V$1000,7,0) -> 灯具 | I80: =VLOOKUP(AA80,'様式C-1-2用'!$A$3:$V$1000,8,0) -> 附属物本体 | J80: =VLOOKUP(AA80,'様式C-1-2用'!$A$3:$V$1000,9,0) -> 腐食 | N80: =VLOOKUP(AA80,'様式C-1-2用'!$A$3:$V$1000,10,0) -> 1 | P80: =VLOOKUP(AA80,'様式C-1-2用'!$A$3:$V$1000,11,0) -> 0 | Q80: =VLOOKUP(AA80,'様式C-1-2用'!$A$3:$V$1000,12,0) -> × | R80: =VLOOKUP(AA80,'様式C-1-2用'!$A$3:$V$1000,13,0) -> 未 | S80: =VLOOKUP(AA80,'様式C-1-2用'!$A$3:$V$1000,14,0) -> 0 | X80: =VLOOKUP(AA80,'様式C-1-2用'!$A$3:$V$1000,15,0) -> 交換 | AA80: =AA74+1 -> 63
C81: =VLOOKUP(AA81,'様式C-1-2用'!$A$3:$V$1000,3,0) -> 22 | E81: =VLOOKUP(AA81,'様式C-1-2用'!$A$3:$V$1000,4,0) -> 101 | F81: =VLOOKUP(AA81,'様式C-1-2用'!$A$3:$V$1000,5,0) -> 200.217 | G81: =VLOOKUP(AA81,'様式C-1-2用'!$A$3:$V$1000,6,0) -> 照明施設 | H81: =VLOOKUP(AA81,'様式C-1-2用'!$A$3:$V$1000,7,0) -> ケーブル類 | I81: =VLOOKUP(AA81,'様式C-1-2用'!$A$3:$V$1000,8,0) -> 取付部材 | J81: =VLOOKUP(AA81,'様式C-1-2用'!$A$3:$V$1000,9,0) -> 腐食 | N81: =VLOOKUP(AA81,'様式C-1-2用'!$A$3:$V$1000,10,0) -> 3 | P81: =VLOOKUP(AA81,'様式C-1-2用'!$A$3:$V$1000,11,0) -> 0 | Q81: =VLOOKUP(AA81,'様式C-1-2用'!$A$3:$V$1000,12,0) -> × | R81: =VLOOKUP(AA81,'様式C-1-2用'!$A$3:$V$1000,13,0) -> 未 | S81: =VLOOKUP(AA81,'様式C-1-2用'!$A$3:$V$1000,14,0) -> 0 | X81: =VLOOKUP(AA81,'様式C-1-2用'!$A$3:$V$1000,15,0) -> 交換 | AA81: =AA80+1 -> 64
C82: =VLOOKUP(AA82,'様式C-1-2用'!$A$3:$V$1000,3,0) -> 22 | E82: =VLOOKUP(AA82,'様式C-1-2用'!$A$3:$V$1000,4,0) -> 102 | F82: =VLOOKUP(AA82,'様式C-1-2用'!$A$3:$V$1000,5,0) -> 200.217 | G82: =VLOOKUP(AA82,'様式C-1-2用'!$A$3:$V$1000,6,0) -> 照明施設 | H82: =VLOOKUP(AA82,'様式C-1-2用'!$A$3:$V$1000,7,0) -> 灯具 | I82: =VLOOKUP(AA82,'様式C-1-2用'!$A$3:$V$1000,8,0) -> 附属物本体 | J82: =VLOOKUP(AA82,'様式C-1-2用'!$A$3:$V$1000,9,0) -> 腐食 | N82: =VLOOKUP(AA82,'様式C-1-2用'!$A$3:$V$1000,10,0) -> 1 | P82: =VLOOKUP(AA82,'様式C-1-2用'!$A$3:$V$1000,11,0) -> 0 | Q82: =VLOOKUP(AA82,'様式C-1-2用'!$A$3:$V$1000,12,0) -> × | R82: =VLOOKUP(AA82,'様式C-1-2用'!$A$3:$V$1000,13,0) -> 未 | S82: =VLOOKUP(AA82,'様式C-1-2用'!$A$3:$V$1000,14,0) -> 0 | X82: =VLOOKUP(AA82,'様式C-1-2用'!$A$3:$V$1000,15,0) -> 交換 | AA82: =AA81+1 -> 65
C83: =VLOOKUP(AA83,'様式C-1-2用'!$A$3:$V$1000,3,0) -> 22 | E83: =VLOOKUP(AA83,'様式C-1-2用'!$A$3:$V$1000,4,0) -> 103 | F83: =VLOOKUP(AA83,'様式C-1-2用'!$A$3:$V$1000,5,0) -> 200.217 | G83: =VLOOKUP(AA83,'様式C-1-2用'!$A$3:$V$1000,6,0) -> 照明施設 | H83: =VLOOKUP(AA83,'様式C-1-2用'!$A$3:$V$1000,7,0) -> ケーブル類 | I83: =VLOOKUP(AA83,'様式C-1-2用'!$A$3:$V$1000,8,0) -> 取付部材 | J83: =VLOOKUP(AA83,'様式C-1-2用'!$A$3:$V$1000,9,0) -> 破損 | N83: =VLOOKUP(AA83,'様式C-1-2用'!$A$3:$V$1000,10,0) -> 2 | P83: =VLOOKUP(AA83,'様式C-1-2用'!$A$3:$V$1000,11,0) -> 0 | Q83: =VLOOKUP(AA83,'様式C-1-2用'!$A$3:$V$1000,12,0) -> × | R83: =VLOOKUP(AA83,'様式C-1-2用'!$A$3:$V$1000,13,0) -> 未 | S83: =VLOOKUP(AA83,'様式C-1-2用'!$A$3:$V$1000,14,0) -> 0 | X83: =VLOOKUP(AA83,'様式C-1-2用'!$A$3:$V$1000,15,0) -> 交換 | AA83: =AA82+1 -> 66
C84: =VLOOKUP(AA84,'様式C-1-2用'!$A$3:$V$1000,3,0) -> 22 | E84: =VLOOKUP(AA84,'様式C-1-2用'!$A$3:$V$1000,4,0) -> 104 | F84: =VLOOKUP(AA84,'様式C-1-2用'!$A$3:$V$1000,5,0) -> 200.217 | G84: =VLOOKUP(AA84,'様式C-1-2用'!$A$3:$V$1000,6,0) -> 照明施設 | H84: =VLOOKUP(AA84,'様式C-1-2用'!$A$3:$V$1000,7,0) -> ケーブル類 | I84: =VLOOKUP(AA84,'様式C-1-2用'!$A$3:$V$1000,8,0) -> 取付部材 | J84: =VLOOKUP(AA84,'様式C-1-2用'!$A$3:$V$1000,9,0) -> 破損 | N84: =VLOOKUP(AA84,'様式C-1-2用'!$A$3:$V$1000,10,0) -> 1 | P84: =VLOOKUP(AA84,'様式C-1-2用'!$A$3:$V$1000,11,0) -> 0 | Q84: =VLOOKUP(AA84,'様式C-1-2用'!$A$3:$V$1000,12,0) -> × | R84: =VLOOKUP(AA84,'様式C-1-2用'!$A$3:$V$1000,13,0) -> 未 | S84: =VLOOKUP(AA84,'様式C-1-2用'!$A$3:$V$1000,14,0) -> 0 | X84: =VLOOKUP(AA84,'様式C-1-2用'!$A$3:$V$1000,15,0) -> 交換 | AA84: =AA83+1 -> 67
C85: =VLOOKUP(AA85,'様式C-1-2用'!$A$3:$V$1000,3,0) -> 23 | E85: =VLOOKUP(AA85,'様式C-1-2用'!$A$3:$V$1000,4,0) -> 101 | F85: =VLOOKUP(AA85,'様式C-1-2用'!$A$3:$V$1000,5,0) -> 209.15 | G85: =VLOOKUP(AA85,'様式C-1-2用'!$A$3:$V$1000,6,0) -> 照明施設 | H85: =VLOOKUP(AA85,'様式C-1-2用'!$A$3:$V$1000,7,0) -> ケーブル類 | I85: =VLOOKUP(AA85,'様式C-1-2用'!$A$3:$V$1000,8,0) -> 取付部材 | J85: =VLOOKUP(AA85,'様式C-1-2用'!$A$3:$V$1000,9,0) -> 腐食 | N85: =VLOOKUP(AA85,'様式C-1-2用'!$A$3:$V$1000,10,0) -> 6 | P85: =VLOOKUP(AA85,'様式C-1-2用'!$A$3:$V$1000,11,0) -> 0 | Q85: =VLOOKUP(AA85,'様式C-1-2用'!$A$3:$V$1000,12,0) -> × | R85: =VLOOKUP(AA85,'様式C-1-2用'!$A$3:$V$1000,13,0) -> 未 | S85: =VLOOKUP(AA85,'様式C-1-2用'!$A$3:$V$1000,14,0) -> 0 | X85: =VLOOKUP(AA85,'様式C-1-2用'!$A$3:$V$1000,15,0) -> 交換 | AA85: =AA84+1 -> 68
C86: =VLOOKUP(AA86,'様式C-1-2用'!$A$3:$V$1000,3,0) -> 23 | E86: =VLOOKUP(AA86,'様式C-1-2用'!$A$3:$V$1000,4,0) -> 102 | F86: =VLOOKUP(AA86,'様式C-1-2用'!$A$3:$V$1000,5,0) -> 209.15 | G86: =VLOOKUP(AA86,'様式C-1-2用'!$A$3:$V$1000,6,0) -> 照明施設 | H86: =VLOOKUP(AA86,'様式C-1-2用'!$A$3:$V$1000,7,0) -> ケーブル類 | I86: =VLOOKUP(AA86,'様式C-1-2用'!$A$3:$V$1000,8,0) -> 取付部材 | J86: =VLOOKUP(AA86,'様式C-1-2用'!$A$3:$V$1000,9,0) -> 破損 | N86: =VLOOKUP(AA86,'様式C-1-2用'!$A$3:$V$1000,10,0) -> 1 | P86: =VLOOKUP(AA86,'様式C-1-2用'!$A$3:$V$1000,11,0) -> 0 | Q86: =VLOOKUP(AA86,'様式C-1-2用'!$A$3:$V$1000,12,0) -> × | R86: =VLOOKUP(AA86,'様式C-1-2用'!$A$3:$V$1000,13,0) -> 未 | S86: =VLOOKUP(AA86,'様式C-1-2用'!$A$3:$V$1000,14,0) -> 0 | X86: =VLOOKUP(AA86,'様式C-1-2用'!$A$3:$V$1000,15,0) -> 交換 | AA86: =AA85+1 -> 69
C87: =VLOOKUP(AA87,'様式C-1-2用'!$A$3:$V$1000,3,0) -> 0 | E87: =VLOOKUP(AA87,'様式C-1-2用'!$A$3:$V$1000,4,0) | F87: =VLOOKUP(AA87,'様式C-1-2用'!$A$3:$V$1000,5,0) | G87: =VLOOKUP(AA87,'様式C-1-2用'!$A$3:$V$1000,6,0) -> 0 | H87: =VLOOKUP(AA87,'様式C-1-2用'!$A$3:$V$1000,7,0) -> 0 | I87: =VLOOKUP(AA87,'様式C-1-2用'!$A$3:$V$1000,8,0) -> 0 | J87: =VLOOKUP(AA87,'様式C-1-2用'!$A$3:$V$1000,9,0) -> 0 | N87: =VLOOKUP(AA87,'様式C-1-2用'!$A$3:$V$1000,10,0) -> 0 | P87: =VLOOKUP(AA87,'様式C-1-2用'!$A$3:$V$1000,11,0) -> 0 | Q87: =VLOOKUP(AA87,'様式C-1-2用'!$A$3:$V$1000,12,0) -> 0 | R87: =VLOOKUP(AA87,'様式C-1-2用'!$A$3:$V$1000,13,0) -> 0 | S87: =VLOOKUP(AA87,'様式C-1-2用'!$A$3:$V$1000,14,0) -> 0 | X87: =VLOOKUP(AA87,'様式C-1-2用'!$A$3:$V$1000,15,0) -> 0 | AA87: =AA86+1 -> 70
C88: =VLOOKUP(AA88,'様式C-1-2用'!$A$3:$V$1000,3,0) -> 0 | E88: =VLOOKUP(AA88,'様式C-1-2用'!$A$3:$V$1000,4,0) | F88: =VLOOKUP(AA88,'様式C-1-2用'!$A$3:$V$1000,5,0) | G88: =VLOOKUP(AA88,'様式C-1-2用'!$A$3:$V$1000,6,0) -> 0 | H88: =VLOOKUP(AA88,'様式C-1-2用'!$A$3:$V$1000,7,0) -> 0 | I88: =VLOOKUP(AA88,'様式C-1-2用'!$A$3:$V$1000,8,0) -> 0 | J88: =VLOOKUP(AA88,'様式C-1-2用'!$A$3:$V$1000,9,0) -> 0 | N88: =VLOOKUP(AA88,'様式C-1-2用'!$A$3:$V$1000,10,0) -> 0 | P88: =VLOOKUP(AA88,'様式C-1-2用'!$A$3:$V$1000,11,0) -> 0 | Q88: =VLOOKUP(AA88,'様式C-1-2用'!$A$3:$V$1000,12,0) -> 0 | R88: =VLOOKUP(AA88,'様式C-1-2用'!$A$3:$V$1000,13,0) -> 0 | S88: =VLOOKUP(AA88,'様式C-1-2用'!$A$3:$V$1000,14,0) -> 0 | X88: =VLOOKUP(AA88,'様式C-1-2用'!$A$3:$V$1000,15,0) -> 0 | AA88: =AA87+1 -> 71
C89: =VLOOKUP(AA89,'様式C-1-2用'!$A$3:$V$1000,3,0) -> 0 | E89: =VLOOKUP(AA89,'様式C-1-2用'!$A$3:$V$1000,4,0) | F89: =VLOOKUP(AA89,'様式C-1-2用'!$A$3:$V$1000,5,0) | G89: =VLOOKUP(AA89,'様式C-1-2用'!$A$3:$V$1000,6,0) -> 0 | H89: =VLOOKUP(AA89,'様式C-1-2用'!$A$3:$V$1000,7,0) -> 0 | I89: =VLOOKUP(AA89,'様式C-1-2用'!$A$3:$V$1000,8,0) -> 0 | J89: =VLOOKUP(AA89,'様式C-1-2用'!$A$3:$V$1000,9,0) -> 0 | N89: =VLOOKUP(AA89,'様式C-1-2用'!$A$3:$V$1000,10,0) -> 0 | P89: =VLOOKUP(AA89,'様式C-1-2用'!$A$3:$V$1000,11,0) -> 0 | Q89: =VLOOKUP(AA89,'様式C-1-2用'!$A$3:$V$1000,12,0) -> 0 | R89: =VLOOKUP(AA89,'様式C-1-2用'!$A$3:$V$1000,13,0) -> 0 | S89: =VLOOKUP(AA89,'様式C-1-2用'!$A$3:$V$1000,14,0) -> 0 | X89: =VLOOKUP(AA89,'様式C-1-2用'!$A$3:$V$1000,15,0) -> 0 | AA89: =AA88+1 -> 72
C90: =VLOOKUP(AA90,'様式C-1-2用'!$A$3:$V$1000,3,0) -> 0 | E90: =VLOOKUP(AA90,'様式C-1-2用'!$A$3:$V$1000,4,0) | F90: =VLOOKUP(AA90,'様式C-1-2用'!$A$3:$V$1000,5,0) | G90: =VLOOKUP(AA90,'様式C-1-2用'!$A$3:$V$1000,6,0) -> 0 | H90: =VLOOKUP(AA90,'様式C-1-2用'!$A$3:$V$1000,7,0) -> 0 | I90: =VLOOKUP(AA90,'様式C-1-2用'!$A$3:$V$1000,8,0) -> 0 | J90: =VLOOKUP(AA90,'様式C-1-2用'!$A$3:$V$1000,9,0) -> 0 | N90: =VLOOKUP(AA90,'様式C-1-2用'!$A$3:$V$1000,10,0) -> 0 | P90: =VLOOKUP(AA90,'様式C-1-2用'!$A$3:$V$1000,11,0) -> 0 | Q90: =VLOOKUP(AA90,'様式C-1-2用'!$A$3:$V$1000,12,0) -> 0 | R90: =VLOOKUP(AA90,'様式C-1-2用'!$A$3:$V$1000,13,0) -> 0 | S90: =VLOOKUP(AA90,'様式C-1-2用'!$A$3:$V$1000,14,0) -> 0 | X90: =VLOOKUP(AA90,'様式C-1-2用'!$A$3:$V$1000,15,0) -> 0 | AA90: =AA89+1 -> 73
C91: =VLOOKUP(AA91,'様式C-1-2用'!$A$3:$V$1000,3,0) -> 0 | E91: =VLOOKUP(AA91,'様式C-1-2用'!$A$3:$V$1000,4,0) | F91: =VLOOKUP(AA91,'様式C-1-2用'!$A$3:$V$1000,5,0) | G91: =VLOOKUP(AA91,'様式C-1-2用'!$A$3:$V$1000,6,0) -> 0 | H91: =VLOOKUP(AA91,'様式C-1-2用'!$A$3:$V$1000,7,0) -> 0 | I91: =VLOOKUP(AA91,'様式C-1-2用'!$A$3:$V$1000,8,0) -> 0 | J91: =VLOOKUP(AA91,'様式C-1-2用'!$A$3:$V$1000,9,0) -> 0 | N91: =VLOOKUP(AA91,'様式C-1-2用'!$A$3:$V$1000,10,0) -> 0 | P91: =VLOOKUP(AA91,'様式C-1-2用'!$A$3:$V$1000,11,0) -> 0 | Q91: =VLOOKUP(AA91,'様式C-1-2用'!$A$3:$V$1000,12,0) -> 0 | R91: =VLOOKUP(AA91,'様式C-1-2用'!$A$3:$V$1000,13,0) -> 0 | S91: =VLOOKUP(AA91,'様式C-1-2用'!$A$3:$V$1000,14,0) -> 0 | X91: =VLOOKUP(AA91,'様式C-1-2用'!$A$3:$V$1000,15,0) -> 0 | AA91: =AA90+1 -> 74
C92: =VLOOKUP(AA92,'様式C-1-2用'!$A$3:$V$1000,3,0) -> 0 | E92: =VLOOKUP(AA92,'様式C-1-2用'!$A$3:$V$1000,4,0) | F92: =VLOOKUP(AA92,'様式C-1-2用'!$A$3:$V$1000,5,0) | G92: =VLOOKUP(AA92,'様式C-1-2用'!$A$3:$V$1000,6,0) -> 0 | H92: =VLOOKUP(AA92,'様式C-1-2用'!$A$3:$V$1000,7,0) -> 0 | I92: =VLOOKUP(AA92,'様式C-1-2用'!$A$3:$V$1000,8,0) -> 0 | J92: =VLOOKUP(AA92,'様式C-1-2用'!$A$3:$V$1000,9,0) -> 0 | N92: =VLOOKUP(AA92,'様式C-1-2用'!$A$3:$V$1000,10,0) -> 0 | P92: =VLOOKUP(AA92,'様式C-1-2用'!$A$3:$V$1000,11,0) -> 0 | Q92: =VLOOKUP(AA92,'様式C-1-2用'!$A$3:$V$1000,12,0) -> 0 | R92: =VLOOKUP(AA92,'様式C-1-2用'!$A$3:$V$1000,13,0) -> 0 | S92: =VLOOKUP(AA92,'様式C-1-2用'!$A$3:$V$1000,14,0) -> 0 | X92: =VLOOKUP(AA92,'様式C-1-2用'!$A$3:$V$1000,15,0) -> 0 | AA92: =AA91+1 -> 75
... C110: =VLOOKUP(AA110,'様式C-1-2用'!$A$3:$V$1000,3,0) -> 0 | E110: =VLOOKUP(AA110,'様式C-1-2用'!$A$3:$V$1000,4,0) | F110: =VLOOKUP(AA110,'様式C-1-2用'!$A$3:$V$1000,5,0) | G110: =VLOOKUP(AA110,'様式C-1-2用'!$A$3:$V$1000,6,0) -> 0 | H110: =VLOOKUP(AA110,'様式C-1-2用'!$A$3:$V$1000,7,0) -> 0 | I110: =VLOOKUP(AA110,'様式C-1-2用'!$A$3:$V$1000,8,0) -> 0 | J110: =VLOOKUP(AA110,'様式C-1-2用'!$A$3:$V$1000,9,0) -> 0 | N110: =VLOOKUP(AA110,'様式C-1-2用'!$A$3:$V$1000,10,0) -> 0 | P110: =VLOOKUP(AA110,'様式C-1-2用'!$A$3:$V$1000,11,0) -> 0 | Q110: =VLOOKUP(AA110,'様式C-1-2用'!$A$3:$V$1000,12,0) -> 0 | R110: =VLOOKUP(AA110,'様式C-1-2用'!$A$3:$V$1000,13,0) -> 0 | S110: =VLOOKUP(AA110,'様式C-1-2用'!$A$3:$V$1000,14,0) -> 0 | X110: =VLOOKUP(AA110,'様式C-1-2用'!$A$3:$V$1000,15,0) -> 0 | AA110: =AA109+1 -> 93
C111: ※ 異常判定区分×について記入すること。また、応急措置により○と判定された箇所も記入すること。
C112: ※ 応急措置を実施しないで判定した箇所の異常判定区分は、異常判定区分の応急措置後の欄に記入すること。
C113: ※ 異常の除去が不完全で、緊急対応が必要な場合は対応方針欄に記入すること。
C114: ※ １スパンの覆工に複数の異常がある場合は、異常箇所毎に記入すること。
C115: ※ 行が不足する場合は、適時、表の行を増やすこと。

Sheet 様式C-2
B2: ■定期点検記録様式 状態の把握の内容 【様式C-2】
B3: フリガナ | E3: ='様式A-1'!$D$3 -> ユノセトンネル | H3: 路線名 | J3: ='様式A-1'!$J$3 -> 一般県道長門峡線 | M3: 定期点検業者 | R3: =様式B!$K$5 -> 日本工営株式会社 | U3: 定期点検年月日 | X3: =様式B!$Q$5 -> 45240
B4: 名 称 | E4: ='様式A-1'!$D$4 -> 湯之瀬トンネル | H4: 管理者名 | J4: ='様式A-1'!$R$3 -> 山口県萩土木事務所 | M4: 定期点検者名 | R4: =様式B!$K$6 -> 横山真一郎
B5: 状態の把握の内容 | C5: 覆工スパン 番号 | E5: 変状 番号 | F5: 状態の把握の内容
F6: 年月日 | H6: 内容 | O6: 結果 | W6: 対策区分の 判定 | Y6: 健全性
C7: S1～S23 | F7: 43511 | H7: 定期点検 | W7: Ⅲ | Y7: Ⅲ
C8: S1～S23 | F8: 45240 | H8: 定期点検 | W8: Ⅲ | Y8: Ⅲ
B22: 注）状態の把握において、微破壊・非破壊検査や各種試験等を実施した場合について記載する。
B23: ※ 行が不足する場合は、適時、表の行を増やすこと。

Sheet 様式D-1-1
B2: ■定期点検記録様式 変状写真台帳（トンネル本体工） 【様式D-1-1】
B3: フリガナ | D3: ='様式A-1'!$D$3 -> ユノセトンネル | H3: 路 線 名 | J3: ='様式A-1'!$J$3 -> 一般県道長門峡線 | M3: 定期点検業者 | P3: =様式B!$K$5 -> 日本工営株式会社 | S3: 定期点検年月日 | U3: =様式B!$Q$5 -> 45240
B4: 名 称 | D4: ='様式A-1'!$D$4 -> 湯之瀬トンネル | H4: 管理者名 | J4: ='様式A-1'!$R$3 -> 山口県萩土木事務所 | M4: 定期点検者名 | P4: =様式B!$K$6 -> 横山真一郎
A5: 1 | B5: 写真 番号 | C5: 覆工 スパン 番号 | D5: =VLOOKUP(A5,'様式D-1-1用'!$A$3:$P$1002,2,0) -> 1 | M5: 写真 番号 | N5: 覆工 スパン 番号 | O5: =VLOOKUP(X5,'様式D-1-1用'!$A$3:$P$1002,2,0) -> 1 | X5: 2
C7: 変状 番号 | D7: =VLOOKUP(A5,'様式D-1-1用'!$A$3:$P$1002,3,0) -> 1 | N7: 変状 番号 | O7: =VLOOKUP(X5,'様式D-1-1用'!$A$3:$P$1002,3,0) -> 5
B9: 変状 部位 | C9: 対象 箇所 | D9: =VLOOKUP(A5,'様式D-1-1用'!$A$3:$P$1002,4,0) -> 覆工・坑門 | M9: 変状 部位 | N9: 対象 箇所 | O9: =VLOOKUP(X5,'様式D-1-1用'!$A$3:$P$1002,4,0) -> 覆工・坑門
C11: 部位 区分 | D11: =VLOOKUP(A5,'様式D-1-1用'!$A$3:$P$1002,5,0) -> 側壁（左側） | N11: 部位 区分 | O11: =VLOOKUP(X5,'様式D-1-1用'!$A$3:$P$1002,5,0) -> アーチ（左側）
B13: 変状区分 | D13: =VLOOKUP(A5,'様式D-1-1用'!$A$3:$P$1002,6,0) -> 材質劣化 | M13: 変状区分 | O13: =VLOOKUP(X5,'様式D-1-1用'!$A$3:$P$1002,6,0) -> 漏水
B14: 変状種類 | D14: =VLOOKUP(A5,'様式D-1-1用'!$A$3:$P$1002,7,0) -> うき・はく離 | M14: 変状種類 | O14: =VLOOKUP(X5,'様式D-1-1用'!$A$3:$P$1002,7,0) -> 漏水
B15: 対策 区分 | C15: 応急措置前 | E15: =VLOOKUP(A5,'様式D-1-1用'!$A$3:$P$1002,8,0) -> 0 | M15: 対策 区分 | N15: 応急措置前 | P15: =VLOOKUP(X5,'様式D-1-1用'!$A$3:$P$1002,8,0) -> 0
C16: 応急措置後 | E16: =VLOOKUP(A5,'様式D-1-1用'!$A$3:$P$1002,9,0) -> Ⅱb | N16: 応急措置後 | P16: =VLOOKUP(X5,'様式D-1-1用'!$A$3:$P$1002,9,0) -> Ⅱb
B17: 健全性 | D17: =VLOOKUP(A5,'様式D-1-1用'!$A$3:$P$1002,11,0) -> Ⅱ | M17: 健全性 | O17: =VLOOKUP(X5,'様式D-1-1用'!$A$3:$P$1002,11,0) -> Ⅱ
B18: 変状の発生範囲の規模 | E18: =VLOOKUP(A5,'様式D-1-1用'!$A$3:$P$1002,12,0) -> 0.1m×7.5m | M18: 変状の発生範囲の規模 | P18: =VLOOKUP(X5,'様式D-1-1用'!$A$3:$P$1002,12,0) -> 0.8m×6.8m にじみ
B19: 前回定期点検時の状態 | E19: =VLOOKUP(A5,'様式D-1-1用'!$A$3:$P$1002,13,0) -> 0.1m×0.6m (過年度写S1-1),0.1m×0.4m (過年度写S1-2), 0.1m×0.6m (過年度写S1-3), 0.2m×2.3m (過年度写S1-4) | M19: 前回定期点検時の状態 | P19: =VLOOKUP(X5,'様式D-1-1用'!$A$3:$P$1002,13,0) -> 0.8m×6.8m にじみ
B20: 調査方針 | E20: =VLOOKUP(A5,'様式D-1-1用'!$A$3:$P$1002,14,0) -> － | M20: 調査方針 | P20: =VLOOKUP(X5,'様式D-1-1用'!$A$3:$P$1002,14,0) -> －
B21: 対策履歴 | E21: =VLOOKUP(A5,'様式D-1-1用'!$A$3:$P$1002,15,0) -> 監視（日常巡視） | H21: 実施状況（実施日） | M21: 対策履歴 | P21: =VLOOKUP(X5,'様式D-1-1用'!$A$3:$P$1002,15,0) -> 監視（日常巡視） | S21: 実施状況（実施日）
B22: メモ | D22: =VLOOKUP(A5,'様式D-1-1用'!$A$3:$P$1002,16,0) -> うき・はく離、0.1m×7.5m | M22: メモ | O22: =VLOOKUP(X5,'様式D-1-1用'!$A$3:$P$1002,16,0) -> 漏水、0.8m×6.8m にじみ
A23: 3 | B23: 写真 番号 | C23: 覆工 スパン 番号 | D23: =VLOOKUP(A23,'様式D-1-1用'!$A$3:$P$1002,2,0) -> 1 | M23: 写真 番号 | N23: 覆工 スパン 番号 | O23: =VLOOKUP(X23,'様式D-1-1用'!$A$3:$P$1002,2,0) -> 1 | X23: 4
C25: 変状 番号 | D25: =VLOOKUP(A23,'様式D-1-1用'!$A$3:$P$1002,3,0) -> 6 | N25: 変状 番号 | O25: =VLOOKUP(X23,'様式D-1-1用'!$A$3:$P$1002,3,0) -> 7
B27: 変状 部位 | C27: 対象 箇所 | D27: =VLOOKUP(A23,'様式D-1-1用'!$A$3:$P$1002,4,0) -> 覆工・坑門 | M27: 変状 部位 | N27: 対象 箇所 | O27: =VLOOKUP(X23,'様式D-1-1用'!$A$3:$P$1002,4,0) -> 覆工・坑門
C29: 部位 区分 | D29: =VLOOKUP(A23,'様式D-1-1用'!$A$3:$P$1002,5,0) -> アーチ（右側） | N29: 部位 区分 | O29: =VLOOKUP(X23,'様式D-1-1用'!$A$3:$P$1002,5,0) -> アーチ（右側）
B31: 変状区分 | D31: =VLOOKUP(A23,'様式D-1-1用'!$A$3:$P$1002,6,0) -> 漏水 | M31: 変状区分 | O31: =VLOOKUP(X23,'様式D-1-1用'!$A$3:$P$1002,6,0) -> 材質劣化
B32: 変状種類 | D32: =VLOOKUP(A23,'様式D-1-1用'!$A$3:$P$1002,7,0) -> 漏水 | M32: 変状種類 | O32: =VLOOKUP(X23,'様式D-1-1用'!$A$3:$P$1002,7,0) -> 補修跡
B33: 対策 区分 | C33: 応急措置前 | E33: =VLOOKUP(A23,'様式D-1-1用'!$A$3:$P$1002,8,0) -> 0 | M33: 対策 区分 | N33: 応急措置前 | P33: =VLOOKUP(X23,'様式D-1-1用'!$A$3:$P$1002,8,0) -> 0
C34: 応急措置後 | E34: =VLOOKUP(A23,'様式D-1-1用'!$A$3:$P$1002,9,0) -> Ⅱb | N34: 応急措置後 | P34: =VLOOKUP(X23,'様式D-1-1用'!$A$3:$P$1002,9,0) -> Ⅰ
B35: 健全性 | D35: =VLOOKUP(A23,'様式D-1-1用'!$A$3:$P$1002,11,0) -> Ⅱ | M35: 健全性 | O35: =VLOOKUP(X23,'様式D-1-1用'!$A$3:$P$1002,11,0) -> Ⅰ
B36: 変状の発生範囲の規模 | E36: =VLOOKUP(A23,'様式D-1-1用'!$A$3:$P$1002,12,0) -> 0.6m×8.3m にじみ | M36: 変状の発生範囲の規模 | P36: =VLOOKUP(X23,'様式D-1-1用'!$A$3:$P$1002,12,0) -> 15.6m×0.4m 導水工
B37: 前回定期点検時の状態 | E37: =VLOOKUP(A23,'様式D-1-1用'!$A$3:$P$1002,13,0) -> 0.6m×8.3m にじみ | M37: 前回定期点検時の状態 | P37: =VLOOKUP(X23,'様式D-1-1用'!$A$3:$P$1002,13,0) -> うき5.7m×0.1m
B38: 調査方針 | E38: =VLOOKUP(A23,'様式D-1-1用'!$A$3:$P$1002,14,0) -> － | M38: 調査方針 | P38: =VLOOKUP(X23,'様式D-1-1用'!$A$3:$P$1002,14,0) -> －
B39: 対策履歴 | E39: =VLOOKUP(A23,'様式D-1-1用'!$A$3:$P$1002,15,0) -> 監視（日常巡視） | H39: 実施状況（実施日） | M39: 対策履歴 | P39: =VLOOKUP(X23,'様式D-1-1用'!$A$3:$P$1002,15,0) -> なし | S39: 実施状況（実施日）
B40: メモ | D40: =VLOOKUP(A23,'様式D-1-1用'!$A$3:$P$1002,16,0) -> 漏水、0.6m×8.3m にじみ | M40: メモ | O40: =VLOOKUP(X23,'様式D-1-1用'!$A$3:$P$1002,16,0) -> 補修跡、15.6m×0.4m 導水工
C41: ※ 健全性の判定区分Ⅱ～Ⅳについて添付すること。また、点検前に実施 された措置によりⅠと判定された箇所も添付すること。 | N41: ※ 変状の発生範囲の規模とは、対策を行う際に参考となる変状の長さや面積をいう。
N42: ※ 応急措置を実施しないで判定した変状の対策区分は、対策区分の応急措置後の欄に記入すること。
C43: ※ たたき落としを実施した場合は、実施後の写真を添付すること。 | N43: ※ 変状の発生範囲の規模は、面積・寸法を記載すること。
C44: ※ 画像データは100kb程度とする。 | N44: (ひび割れ幅のみmmとし、その他をm表記とする)
C45: ※ 変状数に準じてシートを追加すること。（１シートに１ページとすること。） | N45: ※ 構造用鋼材以外の異物に伴ううき・はく離については、メモ欄に異物の概要を記入すること。
A46: =A5+4 -> 5 | B46: 写真 番号 | C46: 覆工 スパン 番号 | D46: =VLOOKUP(A46,'様式D-1-1用'!$A$3:$P$1002,2,0) -> 1 | M46: 写真 番号 | N46: 覆工 スパン 番号 | O46: =VLOOKUP(X46,'様式D-1-1用'!$A$3:$P$1002,2,0) -> 1 | X46: =X5+4 -> 6
C48: 変状 番号 | D48: =VLOOKUP(A46,'様式D-1-1用'!$A$3:$P$1002,3,0) -> 8 | N48: 変状 番号 | O48: =VLOOKUP(X46,'様式D-1-1用'!$A$3:$P$1002,3,0) -> 10
B50: 変状 部位 | C50: 対象 箇所 | D50: =VLOOKUP(A46,'様式D-1-1用'!$A$3:$P$1002,4,0) -> 覆工・坑門 | M50: 変状 部位 | N50: 対象 箇所 | O50: =VLOOKUP(X46,'様式D-1-1用'!$A$3:$P$1002,4,0) -> 路面
C52: 部位 区分 | D52: =VLOOKUP(A46,'様式D-1-1用'!$A$3:$P$1002,5,0) -> 側壁（右側） | N52: 部位 区分 | O52: =VLOOKUP(X46,'様式D-1-1用'!$A$3:$P$1002,5,0) -> 監査歩廊
B54: 変状区分 | D54: =VLOOKUP(A46,'様式D-1-1用'!$A$3:$P$1002,6,0) -> 材質劣化 | M54: 変状区分 | O54: =VLOOKUP(X46,'様式D-1-1用'!$A$3:$P$1002,6,0) -> 材質劣化
B55: 変状種類 | D55: =VLOOKUP(A46,'様式D-1-1用'!$A$3:$P$1002,7,0) -> うき・はく離 | M55: 変状種類 | O55: =VLOOKUP(X46,'様式D-1-1用'!$A$3:$P$1002,7,0) -> 欠損
B56: 対策 区分 | C56: 応急措置前 | E56: =VLOOKUP(A46,'様式D-1-1用'!$A$3:$P$1002,8,0) -> 0 | M56: 対策 区分 | N56: 応急措置前 | P56: =VLOOKUP(X46,'様式D-1-1用'!$A$3:$P$1002,8,0) -> 0
C57: 応急措置後 | E57: =VLOOKUP(A46,'様式D-1-1用'!$A$3:$P$1002,9,0) -> Ⅱb | N57: 応急措置後 | P57: =VLOOKUP(X46,'様式D-1-1用'!$A$3:$P$1002,9,0) -> －
B58: 健全性 | D58: =VLOOKUP(A46,'様式D-1-1用'!$A$3:$P$1002,11,0) -> Ⅱ | M58: 健全性 | O58: =VLOOKUP(X46,'様式D-1-1用'!$A$3:$P$1002,11,0) -> －
B59: 変状の発生範囲の規模 | E59: =VLOOKUP(A46,'様式D-1-1用'!$A$3:$P$1002,12,0) -> 0.2m×1.5m | M59: 変状の発生範囲の規模 | P59: =VLOOKUP(X46,'様式D-1-1用'!$A$3:$P$1002,12,0) -> 0.5m×0.5m
B60: 前回定期点検時の状態 | E60: =VLOOKUP(A46,'様式D-1-1用'!$A$3:$P$1002,13,0) -> うき0.3m×0.3m (過年度写S1-8),うき0.15m×0.7m (過年度写S1-9) | M60: 前回定期点検時の状態 | P60: =VLOOKUP(X46,'様式D-1-1用'!$A$3:$P$1002,13,0) -> 鉄筋露出0.45m×0.5m×0.01m
B61: 調査方針 | E61: =VLOOKUP(A46,'様式D-1-1用'!$A$3:$P$1002,14,0) -> － | M61: 調査方針 | P61: =VLOOKUP(X46,'様式D-1-1用'!$A$3:$P$1002,14,0) -> －
B62: 対策履歴 | E62: =VLOOKUP(A46,'様式D-1-1用'!$A$3:$P$1002,15,0) -> 監視（日常巡視） | H62: 実施状況（実施日） | M62: 対策履歴 | P62: =VLOOKUP(X46,'様式D-1-1用'!$A$3:$P$1002,15,0) -> なし | S62: 実施状況（実施日）
B63: メモ | D63: =VLOOKUP(A46,'様式D-1-1用'!$A$3:$P$1002,16,0) -> うき・はく離、0.2m×1.5m | M63: メモ | O63: =VLOOKUP(X46,'様式D-1-1用'!$A$3:$P$1002,16,0) -> 欠損、0.5m×0.5m
A64: =A23+4 -> 7 | B64: 写真 番号 | C64: 覆工 スパン 番号 | D64: =VLOOKUP(A64,'様式D-1-1用'!$A$3:$P$1002,2,0) -> 1 | M64: 写真 番号 | N64: 覆工 スパン 番号 | O64: =VLOOKUP(X64,'様式D-1-1用'!$A$3:$P$1002,2,0) -> 2 | X64: =X23+4 -> 8
C66: 変状 番号 | D66: =VLOOKUP(A64,'様式D-1-1用'!$A$3:$P$1002,3,0) -> 11 | N66: 変状 番号 | O66: =VLOOKUP(X64,'様式D-1-1用'!$A$3:$P$1002,3,0) -> 1
B68: 変状 部位 | C68: 対象 箇所 | D68: =VLOOKUP(A64,'様式D-1-1用'!$A$3:$P$1002,4,0) -> 覆工・坑門 | M68: 変状 部位 | N68: 対象 箇所 | O68: =VLOOKUP(X64,'様式D-1-1用'!$A$3:$P$1002,4,0) -> 覆工・坑門
C70: 部位 区分 | D70: =VLOOKUP(A64,'様式D-1-1用'!$A$3:$P$1002,5,0) -> 側壁（右側） | N70: 部位 区分 | O70: =VLOOKUP(X64,'様式D-1-1用'!$A$3:$P$1002,5,0) -> アーチ（左側）
B72: 変状区分 | D72: =VLOOKUP(A64,'様式D-1-1用'!$A$3:$P$1002,6,0) -> 材質劣化 | M72: 変状区分 | O72: =VLOOKUP(X64,'様式D-1-1用'!$A$3:$P$1002,6,0) -> 材質劣化
B73: 変状種類 | D73: =VLOOKUP(A64,'様式D-1-1用'!$A$3:$P$1002,7,0) -> うき・はく離 | M73: 変状種類 | O73: =VLOOKUP(X64,'様式D-1-1用'!$A$3:$P$1002,7,0) -> はく落
B74: 対策 区分 | C74: 応急措置前 | E74: =VLOOKUP(A64,'様式D-1-1用'!$A$3:$P$1002,8,0) -> 0 | M74: 対策 区分 | N74: 応急措置前 | P74: =VLOOKUP(X64,'様式D-1-1用'!$A$3:$P$1002,8,0) -> 0
C75: 応急措置後 | E75: =VLOOKUP(A64,'様式D-1-1用'!$A$3:$P$1002,9,0) -> Ⅱb | N75: 応急措置後 | P75: =VLOOKUP(X64,'様式D-1-1用'!$A$3:$P$1002,9,0) -> Ⅰ
B76: 健全性 | D76: =VLOOKUP(A64,'様式D-1-1用'!$A$3:$P$1002,11,0) -> Ⅱ | M76: 健全性 | O76: =VLOOKUP(X64,'様式D-1-1用'!$A$3:$P$1002,11,0) -> Ⅰ
B77: 変状の発生範囲の規模 | E77: =VLOOKUP(A64,'様式D-1-1用'!$A$3:$P$1002,12,0) -> 2.7m×0.1m | M77: 変状の発生範囲の規模 | P77: =VLOOKUP(X64,'様式D-1-1用'!$A$3:$P$1002,12,0) -> 0.4m×0.1m
B78: 前回定期点検時の状態 | E78: =VLOOKUP(A64,'様式D-1-1用'!$A$3:$P$1002,13,0) -> － | M78: 前回定期点検時の状態 | P78: =VLOOKUP(X64,'様式D-1-1用'!$A$3:$P$1002,13,0) -> うき0.3m×0.05m
B79: 調査方針 | E79: =VLOOKUP(A64,'様式D-1-1用'!$A$3:$P$1002,14,0) -> － | M79: 調査方針 | P79: =VLOOKUP(X64,'様式D-1-1用'!$A$3:$P$1002,14,0) -> －
B80: 対策履歴 | E80: =VLOOKUP(A64,'様式D-1-1用'!$A$3:$P$1002,15,0) -> なし | H80: 実施状況（実施日） | M80: 対策履歴 | P80: =VLOOKUP(X64,'様式D-1-1用'!$A$3:$P$1002,15,0) -> なし | S80: 実施状況（実施日）
B81: メモ | D81: =VLOOKUP(A64,'様式D-1-1用'!$A$3:$P$1002,16,0) -> うき・はく離、2.7m×0.1m | M81: メモ | O81: =VLOOKUP(X64,'様式D-1-1用'!$A$3:$P$1002,16,0) -> はく落、0.4m×0.1m
C82: ※ 健全性の判定区分Ⅱ～Ⅳについて添付すること。また、点検前に実施 された措置によりⅠと判定された箇所も添付すること。 | N82: ※ 変状の発生範囲の規模とは、対策を行う際に参考となる変状の長さや面積をいう。
N83: ※ 応急措置を実施しないで判定した変状の対策区分は、対策区分の応急措置後の欄に記入すること。
C84: ※ たたき落としを実施した場合は、実施後の写真を添付すること。 | N84: ※ 変状の発生範囲の規模は、面積・寸法を記載すること。
C85: ※ 画像データは100kb程度とする。 | N85: (ひび割れ幅のみmmとし、その他をm表記とする)
C86: ※ 変状数に準じてシートを追加すること。（１シートに１ページとすること。） | N86: ※ 構造用鋼材以外の異物に伴ううき・はく離については、メモ欄に異物の概要を記入すること。
A87: =A46+4 -> 9 | B87: 写真 番号 | C87: 覆工 スパン 番号 | D87: =VLOOKUP(A87,'様式D-1-1用'!$A$3:$P$1002,2,0) -> 2 | M87: 写真 番号 | N87: 覆工 スパン 番号 | O87: =VLOOKUP(X87,'様式D-1-1用'!$A$3:$P$1002,2,0) -> 2 | X87: =X46+4 -> 10
C89: 変状 番号 | D89: =VLOOKUP(A87,'様式D-1-1用'!$A$3:$P$1002,3,0) -> 2 | N89: 変状 番号 | O89: =VLOOKUP(X87,'様式D-1-1用'!$A$3:$P$1002,3,0) -> 3
B91: 変状 部位 | C91: 対象 箇所 | D91: =VLOOKUP(A87,'様式D-1-1用'!$A$3:$P$1002,4,0) -> 覆工・坑門 | M91: 変状 部位 | N91: 対象 箇所 | O91: =VLOOKUP(X87,'様式D-1-1用'!$A$3:$P$1002,4,0) -> 路面
C93: 部位 区分 | D93: =VLOOKUP(A87,'様式D-1-1用'!$A$3:$P$1002,5,0) -> アーチ（右側） | N93: 部位 区分 | O93: =VLOOKUP(X87,'様式D-1-1用'!$A$3:$P$1002,5,0) -> 監査歩廊
B95: 変状区分 | D95: =VLOOKUP(A87,'様式D-1-1用'!$A$3:$P$1002,6,0) -> 漏水 | M95: 変状区分 | O95: =VLOOKUP(X87,'様式D-1-1用'!$A$3:$P$1002,6,0) -> 材質劣化
B96: 変状種類 | D96: =VLOOKUP(A87,'様式D-1-1用'!$A$3:$P$1002,7,0) -> 漏水 | M96: 変状種類 | O96: =VLOOKUP(X87,'様式D-1-1用'!$A$3:$P$1002,7,0) -> 欠損
B97: 対策 区分 | C97: 応急措置前 | E97: =VLOOKUP(A87,'様式D-1-1用'!$A$3:$P$1002,8,0) -> 0 | M97: 対策 区分 | N97: 応急措置前 | P97: =VLOOKUP(X87,'様式D-1-1用'!$A$3:$P$1002,8,0) -> 0
C98: 応急措置後 | E98: =VLOOKUP(A87,'様式D-1-1用'!$A$3:$P$1002,9,0) -> Ⅱb | N98: 応急措置後 | P98: =VLOOKUP(X87,'様式D-1-1用'!$A$3:$P$1002,9,0) -> －
B99: 健全性 | D99: =VLOOKUP(A87,'様式D-1-1用'!$A$3:$P$1002,11,0) -> Ⅱ | M99: 健全性 | O99: =VLOOKUP(X87,'様式D-1-1用'!$A$3:$P$1002,11,0) -> －
B100: 変状の発生範囲の規模 | E100: =VLOOKUP(A87,'様式D-1-1用'!$A$3:$P$1002,12,0) -> 0.6m×6.8m にじみ | M100: 変状の発生範囲の規模 | P100: =VLOOKUP(X87,'様式D-1-1用'!$A$3:$P$1002,12,0) -> 0.5m×0.2m 内部鉄筋露出
B101: 前回定期点検時の状態 | E101: =VLOOKUP(A87,'様式D-1-1用'!$A$3:$P$1002,13,0) -> 0.6m×6.8m にじみ | M101: 前回定期点検時の状態 | P101: =VLOOKUP(X87,'様式D-1-1用'!$A$3:$P$1002,13,0) -> 鉄筋露出0.4m×0.1m×0.01m
B102: 調査方針 | E102: =VLOOKUP(A87,'様式D-1-1用'!$A$3:$P$1002,14,0) -> － | M102: 調査方針 | P102: =VLOOKUP(X87,'様式D-1-1用'!$A$3:$P$1002,14,0) -> －
B103: 対策履歴 | E103: =VLOOKUP(A87,'様式D-1-1用'!$A$3:$P$1002,15,0) -> 監視（日常巡視） | H103: 実施状況（実施日） | M103: 対策履歴 | P103: =VLOOKUP(X87,'様式D-1-1用'!$A$3:$P$1002,15,0) -> なし | S103: 実施状況（実施日）
B104: メモ | D104: =VLOOKUP(A87,'様式D-1-1用'!$A$3:$P$1002,16,0) -> 漏水、0.6m×6.8m にじみ | M104: メモ | O104: =VLOOKUP(X87,'様式D-1-1用'!$A$3:$P$1002,16,0) -> 欠損、0.5m×0.2m 内部鉄筋露出
A105: =A64+4 -> 11 | B105: 写真 番号 | C105: 覆工 スパン 番号 | D105: =VLOOKUP(A105,'様式D-1-1用'!$A$3:$P$1002,2,0) -> 2 | M105: 写真 番号 | N105: 覆工 スパン 番号 | O105: =VLOOKUP(X105,'様式D-1-1用'!$A$3:$P$1002,2,0) -> 2 | X105: =X64+4 -> 12
C107: 変状 番号 | D107: =VLOOKUP(A105,'様式D-1-1用'!$A$3:$P$1002,3,0) -> 4 | N107: 変状 番号 | O107: =VLOOKUP(X105,'様式D-1-1用'!$A$3:$P$1002,3,0) -> 5
B109: 変状 部位 | C109: 対象 箇所 | D109: =VLOOKUP(A105,'様式D-1-1用'!$A$3:$P$1002,4,0) -> 路面 | M109: 変状 部位 | N109: 対象 箇所 | O109: =VLOOKUP(X105,'様式D-1-1用'!$A$3:$P$1002,4,0) -> 路面
C111: 部位 区分 | D111: =VLOOKUP(A105,'様式D-1-1用'!$A$3:$P$1002,5,0) -> 監査歩廊 | N111: 部位 区分 | O111: =VLOOKUP(X105,'様式D-1-1用'!$A$3:$P$1002,5,0) -> 車道
B113: 変状区分 | D113: =VLOOKUP(A105,'様式D-1-1用'!$A$3:$P$1002,6,0) -> 材質劣化 | M113: 変状区分 | O113: =VLOOKUP(X105,'様式D-1-1用'!$A$3:$P$1002,6,0) -> 漏水
B114: 変状種類 | D114: =VLOOKUP(A105,'様式D-1-1用'!$A$3:$P$1002,7,0) -> 欠損 | M114: 変状種類 | O114: =VLOOKUP(X105,'様式D-1-1用'!$A$3:$P$1002,7,0) -> 漏水
B115: 対策 区分 | C115: 応急措置前 | E115: =VLOOKUP(A105,'様式D-1-1用'!$A$3:$P$1002,8,0) -> 0 | M115: 対策 区分 | N115: 応急措置前 | P115: =VLOOKUP(X105,'様式D-1-1用'!$A$3:$P$1002,8,0) -> 0
C116: 応急措置後 | E116: =VLOOKUP(A105,'様式D-1-1用'!$A$3:$P$1002,9,0) -> － | N116: 応急措置後 | P116: =VLOOKUP(X105,'様式D-1-1用'!$A$3:$P$1002,9,0) -> －
B117: 健全性 | D117: =VLOOKUP(A105,'様式D-1-1用'!$A$3:$P$1002,11,0) -> － | M117: 健全性 | O117: =VLOOKUP(X105,'様式D-1-1用'!$A$3:$P$1002,11,0) -> －
B118: 変状の発生範囲の規模 | E118: =VLOOKUP(A105,'様式D-1-1用'!$A$3:$P$1002,12,0) -> 0.5m×0.1m 内部鉄筋露出 | M118: 変状の発生範囲の規模 | P118: =VLOOKUP(X105,'様式D-1-1用'!$A$3:$P$1002,12,0) -> 1.0m×0.9m 遊離石灰
B119: 前回定期点検時の状態 | E119: =VLOOKUP(A105,'様式D-1-1用'!$A$3:$P$1002,13,0) -> 鉄筋露出0.45m×0.15m×0.01m | M119: 前回定期点検時の状態 | P119: =VLOOKUP(X105,'様式D-1-1用'!$A$3:$P$1002,13,0) -> 1.0m×0.9m 遊離石灰
B120: 調査方針 | E120: =VLOOKUP(A105,'様式D-1-1用'!$A$3:$P$1002,14,0) -> － | M120: 調査方針 | P120: =VLOOKUP(X105,'様式D-1-1用'!$A$3:$P$1002,14,0) -> －
B121: 対策履歴 | E121: =VLOOKUP(A105,'様式D-1-1用'!$A$3:$P$1002,15,0) -> なし | H121: 実施状況（実施日） | M121: 対策履歴 | P121: =VLOOKUP(X105,'様式D-1-1用'!$A$3:$P$1002,15,0) -> なし | S121: 実施状況（実施日）
B122: メモ | D122: =VLOOKUP(A105,'様式D-1-1用'!$A$3:$P$1002,16,0) -> 欠損、0.5m×0.1m 内部鉄筋露出 | M122: メモ | O122: =VLOOKUP(X105,'様式D-1-1用'!$A$3:$P$1002,16,0) -> 漏水、1.0m×0.9m 遊離石灰
C123: ※ 健全性の判定区分Ⅱ～Ⅳについて添付すること。また、点検前に実施 された措置によりⅠと判定された箇所も添付すること。 | N123: ※ 変状の発生範囲の規模とは、対策を行う際に参考となる変状の長さや面積をいう。
N124: ※ 応急措置を実施しないで判定した変状の対策区分は、対策区分の応急措置後の欄に記入すること。
C125: ※ たたき落としを実施した場合は、実施後の写真を添付すること。 | N125: ※ 変状の発生範囲の規模は、面積・寸法を記載すること。
...

Sheet 様式D-1-2
B2: ■定期点検記録様式 異常写真台帳（トンネル内附属物等の取付状態） 【様式D-1-2】
B3: フリガナ | E3: ='様式A-1'!$D$3 -> ユノセトンネル | I3: 路 線 名 | L3: ='様式A-1'!$J$3 -> 一般県道長門峡線 | O3: 定期点検業者 | R3: =様式B!$K$5 -> 日本工営株式会社 | U3: 定期点検年月日 | W3: =様式B!$Q$5 -> 45240
B4: 名 称 | E4: ='様式A-1'!$D$4 -> 湯之瀬トンネル | I4: 管理者名 | L4: ='様式A-1'!$R$3 -> 山口県萩土木事務所 | O4: 定期点検者名 | R4: =様式B!$K$6 -> 横山真一郎
B5: 覆工スパン番号 | E5: =VLOOKUP($Z5,'様式D-1-2用'!$A$3:$O$1002,2,0) -> 1 | F5: 異常番号 | I5: =VLOOKUP($Z5,'様式D-1-2用'!$A$3:$O$1002,3,0) -> 101 | J5: 覆工スパン番号 | M5: =VLOOKUP($Z6,'様式D-1-2用'!$A$3:$O$1002,2,0) -> 2 | N5: 異常番号 | Q5: =VLOOKUP($Z6,'様式D-1-2用'!$A$3:$O$1002,3,0) -> 101 | R5: 覆工スパン番号 | U5: =VLOOKUP($Z7,'様式D-1-2用'!$A$3:$O$1002,2,0) -> 2 | V5: 異常番号 | Y5: =VLOOKUP($Z7,'様式D-1-2用'!$A$3:$O$1002,3,0) -> 102 | Z5: 1
B6: 対象箇所 | D6: =VLOOKUP($Z5,'様式D-1-2用'!$A$3:$O$1002,4,0) -> 照明施設 | E6: =VLOOKUP($Z5,'様式D-1-2用'!$A$3:$O$1002,5,0) -> ケーブル類 | G6: 部位区分 | I6: =VLOOKUP($Z5,'様式D-1-2用'!$A$3:$O$1002,6,0) -> 取付部材 | J6: 対象箇所 | L6: =VLOOKUP($Z6,'様式D-1-2用'!$A$3:$O$1002,4,0) -> 照明施設 | M6: =VLOOKUP($Z6,'様式D-1-2用'!$A$3:$O$1002,5,0) -> ケーブル類 | O6: 部位区分 | Q6: =VLOOKUP($Z6,'様式D-1-2用'!$A$3:$O$1002,6,0) -> 取付部材 | R6: 対象箇所 | T6: =VLOOKUP($Z7,'様式D-1-2用'!$A$3:$O$1002,4,0) -> 照明施設 | U6: =VLOOKUP($Z7,'様式D-1-2用'!$A$3:$O$1002,5,0) -> ケーブル類 | W6: 部位区分 | Y6: =VLOOKUP($Z7,'様式D-1-2用'!$A$3:$O$1002,6,0) -> 取付部材 | Z6: 2
B7: 異常の種類 | D7: =VLOOKUP($Z5,'様式D-1-2用'!$A$3:$O$1002,7,0) -> 腐食 | J7: 異常の種類 | L7: =VLOOKUP($Z6,'様式D-1-2用'!$A$3:$O$1002,7,0) -> 腐食 | R7: 異常の種類 | T7: =VLOOKUP($Z7,'様式D-1-2用'!$A$3:$O$1002,7,0) -> 腐食 | Z7: 3
B8: 異常判定区分 | D8: =VLOOKUP($Z5,'様式D-1-2用'!$A$3:$O$1002,11,0) -> × | E8: メモ | F8: =VLOOKUP($Z5,'様式D-1-2用'!$A$3:$O$1002,15,0) -> 取付金具腐食3箇所 (過年度写S1-11,1-12,1-13) | J8: 異常判定区分 | L8: =VLOOKUP($Z6,'様式D-1-2用'!$A$3:$O$1002,11,0) -> × | M8: メモ | N8: =VLOOKUP($Z6,'様式D-1-2用'!$A$3:$O$1002,15,0) -> 取付金具腐食4箇所 (過年度写S2-7,2-8,2-9,2-10) | R8: 異常判定区分 | T8: =VLOOKUP($Z7,'様式D-1-2用'!$A$3:$O$1002,11,0) -> × | U8: メモ | V8: =VLOOKUP($Z7,'様式D-1-2用'!$A$3:$O$1002,15,0) -> 取付金具腐食4箇所 (過年度写S2-12,2-13,2-14, 2-15)
B22: 覆工スパン番号 | E22: =VLOOKUP($Z22,'様式D-1-2用'!$A$3:$O$1002,2,0) -> 2 | F22: 異常番号 | I22: =VLOOKUP($Z22,'様式D-1-2用'!$A$3:$O$1002,3,0) -> 103 | J22: 覆工スパン番号 | M22: =VLOOKUP($Z23,'様式D-1-2用'!$A$3:$O$1002,2,0) -> 3 | N22: 異常番号 | Q22: =VLOOKUP($Z23,'様式D-1-2用'!$A$3:$O$1002,3,0) -> 101 | R22: 覆工スパン番号 | U22: =VLOOKUP($Z24,'様式D-1-2用'!$A$3:$O$1002,2,0) -> 3 | V22: 異常番号 | Y22: =VLOOKUP($Z24,'様式D-1-2用'!$A$3:$O$1002,3,0) -> 102 | Z22: =Z5+3 -> 4
B23: 対象箇所 | D23: =VLOOKUP($Z22,'様式D-1-2用'!$A$3:$O$1002,4,0) -> 照明施設 | E23: =VLOOKUP($Z22,'様式D-1-2用'!$A$3:$O$1002,5,0) -> 灯具 | G23: 部位区分 | I23: =VLOOKUP($Z22,'様式D-1-2用'!$A$3:$O$1002,6,0) -> 附属物本体 | J23: 対象箇所 | L23: =VLOOKUP($Z23,'様式D-1-2用'!$A$3:$O$1002,4,0) -> 照明施設 | M23: =VLOOKUP($Z23,'様式D-1-2用'!$A$3:$O$1002,5,0) -> ケーブル類 | O23: 部位区分 | Q23: =VLOOKUP($Z23,'様式D-1-2用'!$A$3:$O$1002,6,0) -> 取付部材 | R23: 対象箇所 | T23: =VLOOKUP($Z24,'様式D-1-2用'!$A$3:$O$1002,4,0) -> 照明施設 | U23: =VLOOKUP($Z24,'様式D-1-2用'!$A$3:$O$1002,5,0) -> 灯具 | W23: 部位区分 | Y23: =VLOOKUP($Z24,'様式D-1-2用'!$A$3:$O$1002,6,0) -> 附属物本体 | Z23: =Z6+3 -> 5
B24: 異常の種類 | D24: =VLOOKUP($Z22,'様式D-1-2用'!$A$3:$O$1002,7,0) -> 腐食 | J24: 異常の種類 | L24: =VLOOKUP($Z23,'様式D-1-2用'!$A$3:$O$1002,7,0) -> 腐食 | R24: 異常の種類 | T24: =VLOOKUP($Z24,'様式D-1-2用'!$A$3:$O$1002,7,0) -> 腐食 | Z24: =Z7+3 -> 6
B25: 異常判定区分 | D25: =VLOOKUP($Z22,'様式D-1-2用'!$A$3:$O$1002,11,0) -> × | E25: メモ | F25: =VLOOKUP($Z22,'様式D-1-2用'!$A$3:$O$1002,15,0) -> 照明本体カバー腐食1箇所 (過年度写S2-11) | J25: 異常判定区分 | L25: =VLOOKUP($Z23,'様式D-1-2用'!$A$3:$O$1002,11,0) -> × | M25: メモ | N25: =VLOOKUP($Z23,'様式D-1-2用'!$A$3:$O$1002,15,0) -> 取付金具腐食6箇所(過年度写S3-7, 3-10,3-11,3-12,3-13) | R25: 異常判定区分 | T25: =VLOOKUP($Z24,'様式D-1-2用'!$A$3:$O$1002,11,0) -> × | U25: メモ | V25: =VLOOKUP($Z24,'様式D-1-2用'!$A$3:$O$1002,15,0) -> 照明本体カバー腐食1箇所 (過年度写S3-8,3-9)
B39: 覆工スパン番号 | E39: =VLOOKUP($Z39,'様式D-1-2用'!$A$3:$O$1002,2,0) -> 3 | F39: 異常番号 | I39: =VLOOKUP($Z39,'様式D-1-2用'!$A$3:$O$1002,3,0) -> 103 | J39: 覆工スパン番号 | M39: =VLOOKUP($Z40,'様式D-1-2用'!$A$3:$O$1002,2,0) -> 3 | N39: 異常番号 | Q39: =VLOOKUP($Z40,'様式D-1-2用'!$A$3:$O$1002,3,0) -> 104 | R39: 覆工スパン番号 | U39: =VLOOKUP($Z41,'様式D-1-2用'!$A$3:$O$1002,2,0) -> 4 | V39: 異常番号 | Y39: =VLOOKUP($Z41,'様式D-1-2用'!$A$3:$O$1002,3,0) -> 101 | Z39: =Z22+3 -> 7
B40: 対象箇所 | D40: =VLOOKUP($Z39,'様式D-1-2用'!$A$3:$O$1002,4,0) -> 照明施設 | E40: =VLOOKUP($Z39,'様式D-1-2用'!$A$3:$O$1002,5,0) -> ケーブル類 | G40: 部位区分 | I40: =VLOOKUP($Z39,'様式D-1-2用'!$A$3:$O$1002,6,0) -> 取付部材 | J40: 対象箇所 | L40: =VLOOKUP($Z40,'様式D-1-2用'!$A$3:$O$1002,4,0) -> 照明施設 | M40: =VLOOKUP($Z40,'様式D-1-2用'!$A$3:$O$1002,5,0) -> 灯具 | O40: 部位区分 | Q40: =VLOOKUP($Z40,'様式D-1-2用'!$A$3:$O$1002,6,0) -> 附属物本体 | R40: 対象箇所 | T40: =VLOOKUP($Z41,'様式D-1-2用'!$A$3:$O$1002,4,0) -> 照明施設 | U40: =VLOOKUP($Z41,'様式D-1-2用'!$A$3:$O$1002,5,0) -> ケーブル類 | W40: 部位区分 | Y40: =VLOOKUP($Z41,'様式D-1-2用'!$A$3:$O$1002,6,0) -> 取付部材 | Z40: =Z23+3 -> 8
B41: 異常の種類 | D41: =VLOOKUP($Z39,'様式D-1-2用'!$A$3:$O$1002,7,0) -> 腐食 | J41: 異常の種類 | L41: =VLOOKUP($Z40,'様式D-1-2用'!$A$3:$O$1002,7,0) -> 腐食 | R41: 異常の種類 | T41: =VLOOKUP($Z41,'様式D-1-2用'!$A$3:$O$1002,7,0) -> 腐食 | Z41: =Z24+3 -> 9
B42: 異常判定区分 | D42: =VLOOKUP($Z39,'様式D-1-2用'!$A$3:$O$1002,11,0) -> × | E42: メモ | F42: =VLOOKUP($Z39,'様式D-1-2用'!$A$3:$O$1002,15,0) -> 取付金具腐食4箇所 (過年度写S3-14,3-16-3-17) | J42: 異常判定区分 | L42: =VLOOKUP($Z40,'様式D-1-2用'!$A$3:$O$1002,11,0) -> × | M42: メモ | N42: =VLOOKUP($Z40,'様式D-1-2用'!$A$3:$O$1002,15,0) -> 照明本体カバー腐食1箇所 (過年度写S3-15) | R42: 異常判定区分 | T42: =VLOOKUP($Z41,'様式D-1-2用'!$A$3:$O$1002,11,0) -> × | U42: メモ | V42: =VLOOKUP($Z41,'様式D-1-2用'!$A$3:$O$1002,15,0) -> 取付金具腐食6箇所 (過年度写S4-11,4-12, 4-13,4-14,4-15)
D56: ※ 異常判定区分×について記入すること。また、応急措置前に異常判定区分×とした箇所のうち応急措置により○と判定した箇所も記入すること。
D57: ※ 応急措置を実施した場合は、その実施状況が分かる写真を添付すること。
D58: ※ 画像データは100kb程度とする。 | L58: ※ 変状数に準じてシートを追加すること。（１シートに１ページとすること。）
B59: 覆工スパン番号 | E59: =VLOOKUP($Z59,'様式D-1-2用'!$A$3:$O$1002,2,0) -> 4 | F59: 異常番号 | I59: =VLOOKUP($Z59,'様式D-1-2用'!$A$3:$O$1002,3,0) -> 102 | J59: 覆工スパン番号 | M59: =VLOOKUP($Z60,'様式D-1-2用'!$A$3:$O$1002,2,0) -> 4 | N59: 異常番号 | Q59: =VLOOKUP($Z60,'様式D-1-2用'!$A$3:$O$1002,3,0) -> 103 | R59: 覆工スパン番号 | U59: =VLOOKUP($Z61,'様式D-1-2用'!$A$3:$O$1002,2,0) -> 4 | V59: 異常番号 | Y59: =VLOOKUP($Z61,'様式D-1-2用'!$A$3:$O$1002,3,0) -> 104 | Z59: =Z39+3 -> 10
B60: 対象箇所 | D60: =VLOOKUP($Z59,'様式D-1-2用'!$A$3:$O$1002,4,0) -> 照明施設 | E60: =VLOOKUP($Z59,'様式D-1-2用'!$A$3:$O$1002,5,0) -> 灯具 | G60: 部位区分 | I60: =VLOOKUP($Z59,'様式D-1-2用'!$A$3:$O$1002,6,0) -> 附属物本体 | J60: 対象箇所 | L60: =VLOOKUP($Z60,'様式D-1-2用'!$A$3:$O$1002,4,0) -> 照明施設 | M60: =VLOOKUP($Z60,'様式D-1-2用'!$A$3:$O$1002,5,0) -> ケーブル類 | O60: 部位区分 | Q60: =VLOOKUP($Z60,'様式D-1-2用'!$A$3:$O$1002,6,0) -> 取付部材 | R60: 対象箇所 | T60: =VLOOKUP($Z61,'様式D-1-2用'!$A$3:$O$1002,4,0) -> 照明施設 | U60: =VLOOKUP($Z61,'様式D-1-2用'!$A$3:$O$1002,5,0) -> 灯具 | W60: 部位区分 | Y60: =VLOOKUP($Z61,'様式D-1-2用'!$A$3:$O$1002,6,0) -> 附属物本体 | Z60: =Z40+3 -> 11
B61: 異常の種類 | D61: =VLOOKUP($Z59,'様式D-1-2用'!$A$3:$O$1002,7,0) -> 破損 | J61: 異常の種類 | L61: =VLOOKUP($Z60,'様式D-1-2用'!$A$3:$O$1002,7,0) -> 腐食 | R61: 異常の種類 | T61: =VLOOKUP($Z61,'様式D-1-2用'!$A$3:$O$1002,7,0) -> 腐食 | Z61: =Z41+3 -> 12
B62: 異常判定区分 | D62: =VLOOKUP($Z59,'様式D-1-2用'!$A$3:$O$1002,11,0) -> × | E62: メモ | F62: =VLOOKUP($Z59,'様式D-1-2用'!$A$3:$O$1002,15,0) -> 照明本体カバー破損1箇所 (過年度写S4-16) | J62: 異常判定区分 | L62: =VLOOKUP($Z60,'様式D-1-2用'!$A$3:$O$1002,11,0) -> × | M62: メモ | N62: =VLOOKUP($Z60,'様式D-1-2用'!$A$3:$O$1002,15,0) -> 取付金具腐食6箇所 (過年度写S4-18,4-19,4-20, 4-21,4-22,4-23) | R62: 異常判定区分 | T62: =VLOOKUP($Z61,'様式D-1-2用'!$A$3:$O$1002,11,0) -> × | U62: メモ | V62: =VLOOKUP($Z61,'様式D-1-2用'!$A$3:$O$1002,15,0) -> 照明本体カバー腐食1箇所 (過年度写S4-17)
B76: 覆工スパン番号 | E76: =VLOOKUP($Z76,'様式D-1-2用'!$A$3:$O$1002,2,0) -> 5 | F76: 異常番号 | I76: =VLOOKUP($Z76,'様式D-1-2用'!$A$3:$O$1002,3,0) -> 101 | J76: 覆工スパン番号 | M76: =VLOOKUP($Z77,'様式D-1-2用'!$A$3:$O$1002,2,0) -> 5 | N76: 異常番号 | Q76: =VLOOKUP($Z77,'様式D-1-2用'!$A$3:$O$1002,3,0) -> 102 | R76: 覆工スパン番号 | U76: =VLOOKUP($Z78,'様式D-1-2用'!$A$3:$O$1002,2,0) -> 5 | V76: 異常番号 | Y76: =VLOOKUP($Z78,'様式D-1-2用'!$A$3:$O$1002,3,0) -> 103 | Z76: =Z59+3 -> 13
B77: 対象箇所 | D77: =VLOOKUP($Z76,'様式D-1-2用'!$A$3:$O$1002,4,0) -> 照明施設 | E77: =VLOOKUP($Z76,'様式D-1-2用'!$A$3:$O$1002,5,0) -> ケーブル類 | G77: 部位区分 | I77: =VLOOKUP($Z76,'様式D-1-2用'!$A$3:$O$1002,6,0) -> 取付部材 | J77: 対象箇所 | L77: =VLOOKUP($Z77,'様式D-1-2用'!$A$3:$O$1002,4,0) -> 照明施設 | M77: =VLOOKUP($Z77,'様式D-1-2用'!$A$3:$O$1002,5,0) -> 灯具 | O77: 部位区分 | Q77: =VLOOKUP($Z77,'様式D-1-2用'!$A$3:$O$1002,6,0) -> 附属物本体 | R77: 対象箇所 | T77: =VLOOKUP($Z78,'様式D-1-2用'!$A$3:$O$1002,4,0) -> 照明施設 | U77: =VLOOKUP($Z78,'様式D-1-2用'!$A$3:$O$1002,5,0) -> ケーブル類 | W77: 部位区分 | Y77: =VLOOKUP($Z78,'様式D-1-2用'!$A$3:$O$1002,6,0) -> 取付部材 | Z77: =Z60+3 -> 14
B78: 異常の種類 | D78: =VLOOKUP($Z76,'様式D-1-2用'!$A$3:$O$1002,7,0) -> 腐食 | J78: 異常の種類 | L78: =VLOOKUP($Z77,'様式D-1-2用'!$A$3:$O$1002,7,0) -> 腐食 | R78: 異常の種類 | T78: =VLOOKUP($Z78,'様式D-1-2用'!$A$3:$O$1002,7,0) -> 腐食 | Z78: =Z61+3 -> 15
B79: 異常判定区分 | D79: =VLOOKUP($Z76,'様式D-1-2用'!$A$3:$O$1002,11,0) -> × | E79: メモ | F79: =VLOOKUP($Z76,'様式D-1-2用'!$A$3:$O$1002,15,0) -> 取付金具腐食6箇所 (過年度写S5-14,5-15,5-16, 5-17,5-18,5-19,5-21) | J79: 異常判定区分 | L79: =VLOOKUP($Z77,'様式D-1-2用'!$A$3:$O$1002,11,0) -> × | M79: メモ | N79: =VLOOKUP($Z77,'様式D-1-2用'!$A$3:$O$1002,15,0) -> 照明本体カバー腐食1箇所 (過年度写S5-20) | R79: 異常判定区分 | T79: =VLOOKUP($Z78,'様式D-1-2用'!$A$3:$O$1002,11,0) -> × | U79: メモ | V79: =VLOOKUP($Z78,'様式D-1-2用'!$A$3:$O$1002,15,0) -> 取付金具腐食6箇所 (過年度写S5-22,5-23,5-24, 5-26)
B93: 覆工スパン番号 | E93: =VLOOKUP($Z93,'様式D-1-2用'!$A$3:$O$1002,2,0) -> 5 | F93: 異常番号 | I93: =VLOOKUP($Z93,'様式D-1-2用'!$A$3:$O$1002,3,0) -> 104 | J93: 覆工スパン番号 | M93: =VLOOKUP($Z94,'様式D-1-2用'!$A$3:$O$1002,2,0) -> 6 | N93: 異常番号 | Q93: =VLOOKUP($Z94,'様式D-1-2用'!$A$3:$O$1002,3,0) -> 101 | R93: 覆工スパン番号 | U93: =VLOOKUP($Z95,'様式D-1-2用'!$A$3:$O$1002,2,0) -> 6 | V93: 異常番号 | Y93: =VLOOKUP($Z95,'様式D-1-2用'!$A$3:$O$1002,3,0) -> 102 | Z93: =Z76+3 -> 16
B94: 対象箇所 | D94: =VLOOKUP($Z93,'様式D-1-2用'!$A$3:$O$1002,4,0) -> 照明施設 | E94: =VLOOKUP($Z93,'様式D-1-2用'!$A$3:$O$1002,5,0) -> 灯具 | G94: 部位区分 | I94: =VLOOKUP($Z93,'様式D-1-2用'!$A$3:$O$1002,6,0) -> 附属物本体 | J94: 対象箇所 | L94: =VLOOKUP($Z94,'様式D-1-2用'!$A$3:$O$1002,4,0) -> 照明施設 | M94: =VLOOKUP($Z94,'様式D-1-2用'!$A$3:$O$1002,5,0) -> ケーブル類 | O94: 部位区分 | Q94: =VLOOKUP($Z94,'様式D-1-2用'!$A$3:$O$1002,6,0) -> 取付部材 | R94: 対象箇所 | T94: =VLOOKUP($Z95,'様式D-1-2用'!$A$3:$O$1002,4,0) -> 照明施設 | U94: =VLOOKUP($Z95,'様式D-1-2用'!$A$3:$O$1002,5,0) -> 灯具 | W94: 部位区分 | Y94: =VLOOKUP($Z95,'様式D-1-2用'!$A$3:$O$1002,6,0) -> 附属物本体 | Z94: =Z77+3 -> 17
B95: 異常の種類 | D95: =VLOOKUP($Z93,'様式D-1-2用'!$A$3:$O$1002,7,0) -> 腐食 | J95: 異常の種類 | L95: =VLOOKUP($Z94,'様式D-1-2用'!$A$3:$O$1002,7,0) -> 腐食 | R95: 異常の種類 | T95: =VLOOKUP($Z95,'様式D-1-2用'!$A$3:$O$1002,7,0) -> 腐食 | Z95: =Z78+3 -> 18
B96: 異常判定区分 | D96: =VLOOKUP($Z93,'様式D-1-2用'!$A$3:$O$1002,11,0) -> × | E96: メモ | F96: =VLOOKUP($Z93,'様式D-1-2用'!$A$3:$O$1002,15,0) -> 照明本体カバー腐食1箇所 (過年度写S5-25) | J96: 異常判定区分 | L96: =VLOOKUP($Z94,'様式D-1-2用'!$A$3:$O$1002,11,0) -> × | M96: メモ | N96: =VLOOKUP($Z94,'様式D-1-2用'!$A$3:$O$1002,15,0) -> 取付金具腐食6箇所 (過年度写S6-9,6-10,6-13) | R96: 異常判定区分 | T96: =VLOOKUP($Z95,'様式D-1-2用'!$A$3:$O$1002,11,0) -> × | U96: メモ | V96: =VLOOKUP($Z95,'様式D-1-2用'!$A$3:$O$1002,15,0) -> 照明本体カバー腐食1箇所 (過年度写S6-11,6-12)
D110: ※ 異常判定区分×について記入すること。また、応急措置前に異常判定区分×とした箇所のうち応急措置により○と判定した箇所も記入すること。
D111: ※ 応急措置を実施した場合は、その実施状況が分かる写真を添付すること。
D112: ※ 画像データは100kb程度とする。 | L112: ※ 変状数に準じてシートを追加すること。（１シートに１ページとすること。）
B113: 覆工スパン番号 | E113: =VLOOKUP($Z113,'様式D-1-2用'!$A$3:$O$1002,2,0) -> 6 | F113: 異常番号 | I113: =VLOOKUP($Z113,'様式D-1-2用'!$A$3:$O$1002,3,0) -> 103 | J113: 覆工スパン番号 | M113: =VLOOKUP($Z114,'様式D-1-2用'!$A$3:$O$1002,2,0) -> 6 | N113: 異常番号 | Q113: =VLOOKUP($Z114,'様式D-1-2用'!$A$3:$O$1002,3,0) -> 104 | R113: 覆工スパン番号 | U113: =VLOOKUP($Z115,'様式D-1-2用'!$A$3:$O$1002,2,0) -> 7 | V113: 異常番号 | Y113: =VLOOKUP($Z115,'様式D-1-2用'!$A$3:$O$1002,3,0) -> 101 | Z113: 19
B114: 対象箇所 | D114: =VLOOKUP($Z113,'様式D-1-2用'!$A$3:$O$1002,4,0) -> 照明施設 | E114: =VLOOKUP($Z113,'様式D-1-2用'!$A$3:$O$1002,5,0) -> ケーブル類 | G114: 部位区分 | I114: =VLOOKUP($Z113,'様式D-1-2用'!$A$3:$O$1002,6,0) -> 取付部材 | J114: 対象箇所 | L114: =VLOOKUP($Z114,'様式D-1-2用'!$A$3:$O$1002,4,0) -> 照明施設 | M114: =VLOOKUP($Z114,'様式D-1-2用'!$A$3:$O$1002,5,0) -> 灯具 | O114: 部位区分 | Q114: =VLOOKUP($Z114,'様式D-1-2用'!$A$3:$O$1002,6,0) -> 附属物本体 | R114: 対象箇所 | T114: =VLOOKUP($Z115,'様式D-1-2用'!$A$3:$O$1002,4,0) -> 照明施設 | U114: =VLOOKUP($Z115,'様式D-1-2用'!$A$3:$O$1002,5,0) -> ケーブル類 | W114: 部位区分 | Y114: =VLOOKUP($Z115,'様式D-1-2用'!$A$3:$O$1002,6,0) -> 取付部材 | Z114: 20
B115: 異常の種類 | D115: =VLOOKUP($Z113,'様式D-1-2用'!$A$3:$O$1002,7,0) -> 腐食 | J115: 異常の種類 | L115: =VLOOKUP($Z114,'様式D-1-2用'!$A$3:$O$1002,7,0) -> 腐食 | R115: 異常の種類 | T115: =VLOOKUP($Z115,'様式D-1-2用'!$A$3:$O$1002,7,0) -> 腐食 | Z115: 21
B116: 異常判定区分 | D116: =VLOOKUP($Z113,'様式D-1-2用'!$A$3:$O$1002,11,0) -> × | E116: メモ | F116: =VLOOKUP($Z113,'様式D-1-2用'!$A$3:$O$1002,15,0) -> 取付金具腐食7箇所 (過年度写S6-14,6-15,6-16, 6-19,6-20) | J116: 異常判定区分 | L116: =VLOOKUP($Z114,'様式D-1-2用'!$A$3:$O$1002,11,0) -> × | M116: メモ | N116: =VLOOKUP($Z114,'様式D-1-2用'!$A$3:$O$1002,15,0) -> 照明本体カバー腐食1箇所 (過年度写S6-17,6-18) | R116: 異常判定区分 | T116: =VLOOKUP($Z115,'様式D-1-2用'!$A$3:$O$1002,11,0) -> × | U116: メモ | V116: =VLOOKUP($Z115,'様式D-1-2用'!$A$3:$O$1002,15,0) -> 取付金具腐食5箇所 (過年度写S7-7,7-8,7-9,7-10)
B130: 覆工スパン番号 | E130: =VLOOKUP($Z130,'様式D-1-2用'!$A$3:$O$1002,2,0) -> 7 | F130: 異常番号 | I130: =VLOOKUP($Z130,'様式D-1-2用'!$A$3:$O$1002,3,0) -> 102 | J130: 覆工スパン番号 | M130: =VLOOKUP($Z131,'様式D-1-2用'!$A$3:$O$1002,2,0) -> 8 | N130: 異常番号 | Q130: =VLOOKUP($Z131,'様式D-1-2用'!$A$3:$O$1002,3,0) -> 101 | R130: 覆工スパン番号 | U130: =VLOOKUP($Z132,'様式D-1-2用'!$A$3:$O$1002,2,0) -> 8 | V130: 異常番号 | Y130: =VLOOKUP($Z132,'様式D-1-2用'!$A$3:$O$1002,3,0) -> 102 | Z130: 22
B131: 対象箇所 | D131: =VLOOKUP($Z130,'様式D-1-2用'!$A$3:$O$1002,4,0) -> 照明施設 | E131: =VLOOKUP($Z130,'様式D-1-2用'!$A$3:$O$1002,5,0) -> ケーブル類 | G131: 部位区分 | I131: =VLOOKUP($Z130,'様式D-1-2用'!$A$3:$O$1002,6,0) -> 取付部材 | J131: 対象箇所 | L131: =VLOOKUP($Z131,'様式D-1-2用'!$A$3:$O$1002,4,0) -> 照明施設 | M131: =VLOOKUP($Z131,'様式D-1-2用'!$A$3:$O$1002,5,0) -> ケーブル類 | O131: 部位区分 | Q131: =VLOOKUP($Z131,'様式D-1-2用'!$A$3:$O$1002,6,0) -> 取付部材 | R131: 対象箇所 | T131: =VLOOKUP($Z132,'様式D-1-2用'!$A$3:$O$1002,4,0) -> 照明施設 | U131: =VLOOKUP($Z132,'様式D-1-2用'!$A$3:$O$1002,5,0) -> ケーブル類 | W131: 部位区分 | Y131: =VLOOKUP($Z132,'様式D-1-2用'!$A$3:$O$1002,6,0) -> 取付部材 | Z131: 23
B132: 異常の種類 | D132: =VLOOKUP($Z130,'様式D-1-2用'!$A$3:$O$1002,7,0) -> 腐食 | J132: 異常の種類 | L132: =VLOOKUP($Z131,'様式D-1-2用'!$A$3:$O$1002,7,0) -> 腐食 | R132: 異常の種類 | T132: =VLOOKUP($Z132,'様式D-1-2用'!$A$3:$O$1002,7,0) -> 腐食 | Z132: 24
B133: 異常判定区分 | D133: =VLOOKUP($Z130,'様式D-1-2用'!$A$3:$O$1002,11,0) -> × | E133: メモ | F133: =VLOOKUP($Z130,'様式D-1-2用'!$A$3:$O$1002,15,0) -> 取付金具腐食6箇所 (過年度写S7-11,7-12,7-13, 7-14,7-15,7-16) | J133: 異常判定区分 | L133: =VLOOKUP($Z131,'様式D-1-2用'!$A$3:$O$1002,11,0) -> × | M133: メモ | N133: =VLOOKUP($Z131,'様式D-1-2用'!$A$3:$O$1002,15,0) -> 取付金具腐食5箇所 (過年度写S8-16,8-17,8-18) | R133: 異常判定区分 | T133: =VLOOKUP($Z132,'様式D-1-2用'!$A$3:$O$1002,11,0) -> × | U133: メモ | V133: =VLOOKUP($Z132,'様式D-1-2用'!$A$3:$O$1002,15,0) -> 取付金具腐食5箇所 (過年度写S8-19,8-20,8-21, 8-22)
B147: 覆工スパン番号 | E147: =VLOOKUP($Z147,'様式D-1-2用'!$A$3:$O$1002,2,0) -> 9 | F147: 異常番号 | I147: =VLOOKUP($Z147,'様式D-1-2用'!$A$3:$O$1002,3,0) -> 101 | J147: 覆工スパン番号 | M147: =VLOOKUP($Z148,'様式D-1-2用'!$A$3:$O$1002,2,0) -> 9 | N147: 異常番号 | Q147: =VLOOKUP($Z148,'様式D-1-2用'!$A$3:$O$1002,3,0) -> 102 | R147: 覆工スパン番号 | U147: =VLOOKUP($Z149,'様式D-1-2用'!$A$3:$O$1002,2,0) -> 9 | V147: 異常番号 | Y147: =VLOOKUP($Z149,'様式D-1-2用'!$A$3:$O$1002,3,0) -> 103 | Z147: 25
B148: 対象箇所 | D148: =VLOOKUP($Z147,'様式D-1-2用'!$A$3:$O$1002,4,0) -> 照明施設 | E148: =VLOOKUP($Z147,'様式D-1-2用'!$A$3:$O$1002,5,0) -> ケーブル類 | G148: 部位区分 | I148: =VLOOKUP($Z147,'様式D-1-2用'!$A$3:$O$1002,6,0) -> 取付部材 | J148: 対象箇所 | L148: =VLOOKUP($Z148,'様式D-1-2用'!$A$3:$O$1002,4,0) -> 照明施設 | M148: =VLOOKUP($Z148,'様式D-1-2用'!$A$3:$O$1002,5,0) -> ケーブル類 | O148: 部位区分 | Q148: =VLOOKUP($Z148,'様式D-1-2用'!$A$3:$O$1002,6,0) -> 取付部材 | R148: 対象箇所 | T148: =VLOOKUP($Z149,'様式D-1-2用'!$A$3:$O$1002,4,0) -> 照明施設 | U148: =VLOOKUP($Z149,'様式D-1-2用'!$A$3:$O$1002,5,0) -> 灯具 | W148: 部位区分 | Y148: =VLOOKUP($Z149,'様式D-1-2用'!$A$3:$O$1002,6,0) -> 附属物本体 | Z148: 26
B149: 異常の種類 | D149: =VLOOKUP($Z147,'様式D-1-2用'!$A$3:$O$1002,7,0) -> 腐食 | J149: 異常の種類 | L149: =VLOOKUP($Z148,'様式D-1-2用'!$A$3:$O$1002,7,0) -> 腐食 | R149: 異常の種類 | T149: =VLOOKUP($Z149,'様式D-1-2用'!$A$3:$O$1002,7,0) -> 腐食 | Z149: 27
B150: 異常判定区分 | D150: =VLOOKUP($Z147,'様式D-1-2用'!$A$3:$O$1002,11,0) -> × | E150: メモ | F150: =VLOOKUP($Z147,'様式D-1-2用'!$A$3:$O$1002,15,0) -> 取付金具腐食6箇所 (過年度写S9-12,9-13,9-14) | J150: 異常判定区分 | L150: =VLOOKUP($Z148,'様式D-1-2用'!$A$3:$O$1002,11,0) -> × | M150: メモ | N150: =VLOOKUP($Z148,'様式D-1-2用'!$A$3:$O$1002,15,0) -> 取付金具腐食7箇所 (過年度写S9-15,9-17) | R150: 異常判定区分 | T150: =VLOOKUP($Z149,'様式D-1-2用'!$A$3:$O$1002,11,0) -> × | U150: メモ | V150: =VLOOKUP($Z149,'様式D-1-2用'!$A$3:$O$1002,15,0) -> 照明本体カバー腐食1箇所 (過年度写S9-16)
D164: ※ 異常判定区分×について記入すること。また、応急措置前に異常判定区分×とした箇所のうち応急措置により○と判定した箇所も記入すること。
D165: ※ 応急措置を実施した場合は、その実施状況が分かる写真を添付すること。
D166: ※ 画像データは100kb程度とする。 | L166: ※ 変状数に準じてシートを追加すること。（１シートに１ページとすること。）
B167: 覆工スパン番号 | E167: =VLOOKUP($Z167,'様式D-1-2用'!$A$3:$O$1002,2,0) -> 10 | F167: 異常番号 | I167: =VLOOKUP($Z167,'様式D-1-2用'!$A$3:$O$1002,3,0) -> 101 | J167: 覆工スパン番号 | M167: =VLOOKUP($Z168,'様式D-1-2用'!$A$3:$O$1002,2,0) -> 10 | N167: 異常番号 | Q167: =VLOOKUP($Z168,'様式D-1-2用'!$A$3:$O$1002,3,0) -> 102 | R167: 覆工スパン番号 | U167: =VLOOKUP($Z169,'様式D-1-2用'!$A$3:$O$1002,2,0) -> 11 | V167: 異常番号 | Y167: =VLOOKUP($Z169,'様式D-1-2用'!$A$3:$O$1002,3,0) -> 101 | Z167: 28
B168: 対象箇所 | D168: =VLOOKUP($Z167,'様式D-1-2用'!$A$3:$O$1002,4,0) -> 照明施設 | E168: =VLOOKUP($Z167,'様式D-1-2用'!$A$3:$O$1002,5,0) -> ケーブル類 | G168: 部位区分 | I168: =VLOOKUP($Z167,'様式D-1-2用'!$A$3:$O$1002,6,0) -> 取付部材 | J168: 対象箇所 | L168: =VLOOKUP($Z168,'様式D-1-2用'!$A$3:$O$1002,4,0) -> 照明施設 | M168: =VLOOKUP($Z168,'様式D-1-2用'!$A$3:$O$1002,5,0) -> ケーブル類 | O168: 部位区分 | Q168: =VLOOKUP($Z168,'様式D-1-2用'!$A$3:$O$1002,6,0) -> 取付部材 | R168: 対象箇所 | T168: =VLOOKUP($Z169,'様式D-1-2用'!$A$3:$O$1002,4,0) -> 照明施設 | U168: =VLOOKUP($Z169,'様式D-1-2用'!$A$3:$O$1002,5,0) -> ケーブル類 | W168: 部位区分 | Y168: =VLOOKUP($Z169,'様式D-1-2用'!$A$3:$O$1002,6,0) -> 取付部材 | Z168: 29
B169: 異常の種類 | D169: =VLOOKUP($Z167,'様式D-1-2用'!$A$3:$O$1002,7,0) -> 腐食 | J169: 異常の種類 | L169: =VLOOKUP($Z168,'様式D-1-2用'!$A$3:$O$1002,7,0) -> 腐食 | R169: 異常の種類 | T169: =VLOOKUP($Z169,'様式D-1-2用'!$A$3:$O$1002,7,0) -> 腐食 | Z169: 30
B170: 異常判定区分 | D170: =VLOOKUP($Z167,'様式D-1-2用'!$A$3:$O$1002,11,0) -> × | E170: メモ | F170: =VLOOKUP($Z167,'様式D-1-2用'!$A$3:$O$1002,15,0) -> 取付金具腐食6箇所 (過年度写S10-10,10-11) | J170: 異常判定区分 | L170: =VLOOKUP($Z168,'様式D-1-2用'!$A$3:$O$1002,11,0) -> × | M170: メモ | N170: =VLOOKUP($Z168,'様式D-1-2用'!$A$3:$O$1002,15,0) -> 取付金具腐食5箇所 (過年度写S10-12,10-13,10-14, 10-15) | R170: 異常判定区分 | T170: =VLOOKUP($Z169,'様式D-1-2用'!$A$3:$O$1002,11,0) -> × | U170: メモ | V170: =VLOOKUP($Z169,'様式D-1-2用'!$A$3:$O$1002,15,0) -> 取付金具腐食6箇所 (過年度写S11-10,11-11,11-12)
B184: 覆工スパン番号 | E184: =VLOOKUP($Z184,'様式D-1-2用'!$A$3:$O$1002,2,0) -> 11 | F184: 異常番号 | I184: =VLOOKUP($Z184,'様式D-1-2用'!$A$3:$O$1002,3,0) -> 102 | J184: 覆工スパン番号 | M184: =VLOOKUP($Z185,'様式D-1-2用'!$A$3:$O$1002,2,0) -> 12 | N184: 異常番号 | Q184: =VLOOKUP($Z185,'様式D-1-2用'!$A$3:$O$1002,3,0) -> 101 | R184: 覆工スパン番号 | U184: =VLOOKUP($Z186,'様式D-1-2用'!$A$3:$O$1002,2,0) -> 12 | V184: 異常番号 | Y184: =VLOOKUP($Z186,'様式D-1-2用'!$A$3:$O$1002,3,0) -> 102 | Z184: 31
B185: 対象箇所 | D185: =VLOOKUP($Z184,'様式D-1-2用'!$A$3:$O$1002,4,0) -> 照明施設 | E185: =VLOOKUP($Z184,'様式D-1-2用'!$A$3:$O$1002,5,0) -> ケーブル類 | G185: 部位区分 | I185: =VLOOKUP($Z184,'様式D-1-2用'!$A$3:$O$1002,6,0) -> 取付部材 | J185: 対象箇所 | L185: =VLOOKUP($Z185,'様式D-1-2用'!$A$3:$O$1002,4,0) -> 照明施設 | M185: =VLOOKUP($Z185,'様式D-1-2用'!$A$3:$O$1002,5,0) -> ケーブル類 | O185: 部位区分 | Q185: =VLOOKUP($Z185,'様式D-1-2用'!$A$3:$O$1002,6,0) -> 取付部材 | R185: 対象箇所 | T185: =VLOOKUP($Z186,'様式D-1-2用'!$A$3:$O$1002,4,0) -> 照明施設 | U185: =VLOOKUP($Z186,'様式D-1-2用'!$A$3:$O$1002,5,0) -> ケーブル類 | W185: 部位区分 | Y185: =VLOOKUP($Z186,'様式D-1-2用'!$A$3:$O$1002,6,0) -> 取付部材 | Z185: 32
B186: 異常の種類 | D186: =VLOOKUP($Z184,'様式D-1-2用'!$A$3:$O$1002,7,0) -> 腐食 | J186: 異常の種類 | L186: =VLOOKUP($Z185,'様式D-1-2用'!$A$3:$O$1002,7,0) -> 腐食 | R186: 異常の種類 | T186: =VLOOKUP($Z186,'様式D-1-2用'!$A$3:$O$1002,7,0) -> 腐食 | Z186: 33
B187: 異常判定区分 | D187: =VLOOKUP($Z184,'様式D-1-2用'!$A$3:$O$1002,11,0) -> × | E187: メモ | F187: =VLOOKUP($Z184,'様式D-1-2用'!$A$3:$O$1002,15,0) -> 取付金具腐食5箇所 (過年度写S11-13,11-14,11-15, 11-16) | J187: 異常判定区分 | L187: =VLOOKUP($Z185,'様式D-1-2用'!$A$3:$O$1002,11,0) -> × | M187: メモ | N187: =VLOOKUP($Z185,'様式D-1-2用'!$A$3:$O$1002,15,0) -> 取付金具腐食6箇所 (過年度写S12-8,12-9,12-10, 12-11) | R187: 異常判定区分 | T187: =VLOOKUP($Z186,'様式D-1-2用'!$A$3:$O$1002,11,0) -> × | U187: メモ | V187: =VLOOKUP($Z186,'様式D-1-2用'!$A$3:$O$1002,15,0) -> 取付金具腐食5箇所 (過年度写S12-12,12-13,12-15)
B201: 覆工スパン番号 | E201: =VLOOKUP($Z201,'様式D-1-2用'!$A$3:$O$1002,2,0) -> 12 | F201: 異常番号 | I201: =VLOOKUP($Z201,'様式D-1-2用'!$A$3:$O$1002,3,0) -> 103 | J201: 覆工スパン番号 | M201: =VLOOKUP($Z202,'様式D-1-2用'!$A$3:$O$1002,2,0) -> 13 | N201: 異常番号 | Q201: =VLOOKUP($Z202,'様式D-1-2用'!$A$3:$O$1002,3,0) -> 101 | R201: 覆工スパン番号 | U201: =VLOOKUP($Z203,'様式D-1-2用'!$A$3:$O$1002,2,0) -> 13 | V201: 異常番号 | Y201: =VLOOKUP($Z203,'様式D-1-2用'!$A$3:$O$1002,3,0) -> 102 | Z201: 34
B202: 対象箇所 | D202: =VLOOKUP($Z201,'様式D-1-2用'!$A$3:$O$1002,4,0) -> 照明施設 | E202: =VLOOKUP($Z201,'様式D-1-2用'!$A$3:$O$1002,5,0) -> 灯具 | G202: 部位区分 | I202: =VLOOKUP($Z201,'様式D-1-2用'!$A$3:$O$1002,6,0) -> 附属物本体 | J202: 対象箇所 | L202: =VLOOKUP($Z202,'様式D-1-2用'!$A$3:$O$1002,4,0) -> 照明施設 | M202: =VLOOKUP($Z202,'様式D-1-2用'!$A$3:$O$1002,5,0) -> ケーブル類 | O202: 部位区分 | Q202: =VLOOKUP($Z202,'様式D-1-2用'!$A$3:$O$1002,6,0) -> 取付部材 | R202: 対象箇所 | T202: =VLOOKUP($Z203,'様式D-1-2用'!$A$3:$O$1002,4,0) -> 照明施設 | U202: =VLOOKUP($Z203,'様式D-1-2用'!$A$3:$O$1002,5,0) -> ケーブル類 | W202: 部位区分 | Y202: =VLOOKUP($Z203,'様式D-1-2用'!$A$3:$O$1002,6,0) -> 取付部材 | Z202: 35
B203: 異常の種類 | D203: =VLOOKUP($Z201,'様式D-1-2用'!$A$3:$O$1002,7,0) -> 破損 | J203: 異常の種類 | L203: =VLOOKUP($Z202,'様式D-1-2用'!$A$3:$O$1002,7,0) -> 腐食 | R203: 異常の種類 | T203: =VLOOKUP($Z203,'様式D-1-2用'!$A$3:$O$1002,7,0) -> 腐食 | Z203: 36
B204: 異常判定区分 | D204: =VLOOKUP($Z201,'様式D-1-2用'!$A$3:$O$1002,11,0) -> × | E204: メモ | F204: =VLOOKUP($Z201,'様式D-1-2用'!$A$3:$O$1002,15,0) -> 照明本体カバー破損1箇所 (過年度写S12-14) | J204: 異常判定区分 | L204: =VLOOKUP($Z202,'様式D-1-2用'!$A$3:$O$1002,11,0) -> × | M204: メモ | N204: =VLOOKUP($Z202,'様式D-1-2用'!$A$3:$O$1002,15,0) -> 取付金具腐食5箇所 (過年度写S13-9,13-10) | R204: 異常判定区分 | T204: =VLOOKUP($Z203,'様式D-1-2用'!$A$3:$O$1002,11,0) -> × | U204: メモ | V204: =VLOOKUP($Z203,'様式D-1-2用'!$A$3:$O$1002,15,0) -> 取付金具腐食5箇所(1箇所破損有) (過年度写S13-11,13-12,13-13, 13-14,13-15)
D218: ※ 異常判定区分×について記入すること。また、応急措置前に異常判定区分×とした箇所のうち応急措置により○と判定した箇所も記入すること。
D219: ※ 応急措置を実施した場合は、その実施状況が分かる写真を添付すること。
D220: ※ 画像データは100kb程度とする。 | L220: ※ 変状数に準じてシートを追加すること。（１シートに１ページとすること。）
B221: 覆工スパン番号 | E221: =VLOOKUP($Z221,'様式D-1-2用'!$A$3:$O$1002,2,0) -> 14 | F221: 異常番号 | I221: =VLOOKUP($Z221,'様式D-1-2用'!$A$3:$O$1002,3,0) -> 101 | J221: 覆工スパン番号 | M221: =VLOOKUP($Z222,'様式D-1-2用'!$A$3:$O$1002,2,0) -> 14 | N221: 異常番号 | Q221: =VLOOKUP($Z222,'様式D-1-2用'!$A$3:$O$1002,3,0) -> 102 | R221: 覆工スパン番号 | U221: =VLOOKUP($Z223,'様式D-1-2用'!$A$3:$O$1002,2,0) -> 15 | V221: 異常番号 | Y221: =VLOOKUP($Z223,'様式D-1-2用'!$A$3:$O$1002,3,0) -> 101 | Z221: 37
B222: 対象箇所 | D222: =VLOOKUP($Z221,'様式D-1-2用'!$A$3:$O$1002,4,0) -> 照明施設 | E222: =VLOOKUP($Z221,'様式D-1-2用'!$A$3:$O$1002,5,0) -> ケーブル類 | G222: 部位区分 | I222: =VLOOKUP($Z221,'様式D-1-2用'!$A$3:$O$1002,6,0) -> 取付部材 | J222: 対象箇所 | L222: =VLOOKUP($Z222,'様式D-1-2用'!$A$3:$O$1002,4,0) -> 照明施設 | M222: =VLOOKUP($Z222,'様式D-1-2用'!$A$3:$O$1002,5,0) -> ケーブル類 | O222: 部位区分 | Q222: =VLOOKUP($Z222,'様式D-1-2用'!$A$3:$O$1002,6,0) -> 取付部材 | R222: 対象箇所 | T222: =VLOOKUP($Z223,'様式D-1-2用'!$A$3:$O$1002,4,0) -> 照明施設 | U222: =VLOOKUP($Z223,'様式D-1-2用'!$A$3:$O$1002,5,0) -> ケーブル類 | W222: 部位区分 | Y222: =VLOOKUP($Z223,'様式D-1-2用'!$A$3:$O$1002,6,0) -> 取付部材 | Z222: 38
B223: 異常の種類 | D223: =VLOOKUP($Z221,'様式D-1-2用'!$A$3:$O$1002,7,0) -> 腐食 | J223: 異常の種類 | L223: =VLOOKUP($Z222,'様式D-1-2用'!$A$3:$O$1002,7,0) -> 腐食 | R223: 異常の種類 | T223: =VLOOKUP($Z223,'様式D-1-2用'!$A$3:$O$1002,7,0) -> 腐食 | Z223: 39
B224: 異常判定区分 | D224: =VLOOKUP($Z221,'様式D-1-2用'!$A$3:$O$1002,11,0) -> × | E224: メモ | F224: =VLOOKUP($Z221,'様式D-1-2用'!$A$3:$O$1002,15,0) -> 取付金具腐食5箇所 | J224: 異常判定区分 | L224: =VLOOKUP($Z222,'様式D-1-2用'!$A$3:$O$1002,11,0) -> × | M224: メモ | N224: =VLOOKUP($Z222,'様式D-1-2用'!$A$3:$O$1002,15,0) -> 取付金具腐食6箇所(2箇所破損有) (過年度写S14-7,14-8,14-9) | R224: 異常判定区分 | T224: =VLOOKUP($Z223,'様式D-1-2用'!$A$3:$O$1002,11,0) -> × | U224: メモ | V224: =VLOOKUP($Z223,'様式D-1-2用'!$A$3:$O$1002,15,0) -> 取付金具腐食5箇所 (過年度写S15-11,15-12,15-13, 15-14,15-15)
B238: 覆工スパン番号 | E238: =VLOOKUP($Z238,'様式D-1-2用'!$A$3:$O$1002,2,0) -> 15 | F238: 異常番号 | I238: =VLOOKUP($Z238,'様式D-1-2用'!$A$3:$O$1002,3,0) -> 102 | J238: 覆工スパン番号 | M238: =VLOOKUP($Z239,'様式D-1-2用'!$A$3:$O$1002,2,0) -> 15 | N238: 異常番号 | Q238: =VLOOKUP($Z239,'様式D-1-2用'!$A$3:$O$1002,3,0) -> 103 | R238: 覆工スパン番号 | U238: =VLOOKUP($Z240,'様式D-1-2用'!$A$3:$O$1002,2,0) -> 16 | V238: 異常番号 | Y238: =VLOOKUP($Z240,'様式D-1-2用'!$A$3:$O$1002,3,0) -> 101 | Z238: 40
B239: 対象箇所 | D239: =VLOOKUP($Z238,'様式D-1-2用'!$A$3:$O$1002,4,0) -> 照明施設 | E239: =VLOOKUP($Z238,'様式D-1-2用'!$A$3:$O$1002,5,0) -> 灯具 | G239: 部位区分 | I239: =VLOOKUP($Z238,'様式D-1-2用'!$A$3:$O$1002,6,0) -> 附属物本体 | J239: 対象箇所 | L239: =VLOOKUP($Z239,'様式D-1-2用'!$A$3:$O$1002,4,0) -> 照明施設 | M239: =VLOOKUP($Z239,'様式D-1-2用'!$A$3:$O$1002,5,0) -> ケーブル類 | O239: 部位区分 | Q239: =VLOOKUP($Z239,'様式D-1-2用'!$A$3:$O$1002,6,0) -> 取付部材 | R239: 対象箇所 | T239: =VLOOKUP($Z240,'様式D-1-2用'!$A$3:$O$1002,4,0) -> 照明施設 | U239: =VLOOKUP($Z240,'様式D-1-2用'!$A$3:$O$1002,5,0) -> ケーブル類 | W239: 部位区分 | Y239: =VLOOKUP($Z240,'様式D-1-2用'!$A$3:$O$1002,6,0) -> 取付部材 | Z239: 41
B240: 異常の種類 | D240: =VLOOKUP($Z238,'様式D-1-2用'!$A$3:$O$1002,7,0) -> 腐食 | J240: 異常の種類 | L240: =VLOOKUP($Z239,'様式D-1-2用'!$A$3:$O$1002,7,0) -> 腐食 | R240: 異常の種類 | T240: =VLOOKUP($Z240,'様式D-1-2用'!$A$3:$O$1002,7,0) -> 腐食 | Z240: 42
B241: 異常判定区分 | D241: =VLOOKUP($Z238,'様式D-1-2用'!$A$3:$O$1002,11,0) -> × | E241: メモ | F241: =VLOOKUP($Z238,'様式D-1-2用'!$A$3:$O$1002,15,0) -> 照明本体カバー腐食1箇所 | J241: 異常判定区分 | L241: =VLOOKUP($Z239,'様式D-1-2用'!$A$3:$O$1002,11,0) -> × | M241: メモ | N241: =VLOOKUP($Z239,'様式D-1-2用'!$A$3:$O$1002,15,0) -> 取付金具腐食5箇所 (過年度写S15-16,15-17,15-18, 15-19,15-20) | R241: 異常判定区分 | T241: =VLOOKUP($Z240,'様式D-1-2用'!$A$3:$O$1002,11,0) -> × | U241: メモ | V241: =VLOOKUP($Z240,'様式D-1-2用'!$A$3:$O$1002,15,0) -> 取付金具腐食5箇所 (過年度写S16-9,16-10,16-11, 16-12,16-14)
B255: 覆工スパン番号 | E255: =VLOOKUP($Z255,'様式D-1-2用'!$A$3:$O$1002,2,0) -> 16 | F255: 異常番号 | I255: =VLOOKUP($Z255,'様式D-1-2用'!$A$3:$O$1002,3,0) -> 102 | J255: 覆工スパン番号 | M255: =VLOOKUP($Z256,'様式D-1-2用'!$A$3:$O$1002,2,0) -> 16 | N255: 異常番号 | Q255: =VLOOKUP($Z256,'様式D-1-2用'!$A$3:$O$1002,3,0) -> 103 | R255: 覆工スパン番号 | U255: =VLOOKUP($Z257,'様式D-1-2用'!$A$3:$O$1002,2,0) -> 17 | V255: 異常番号 | Y255: =VLOOKUP($Z257,'様式D-1-2用'!$A$3:$O$1002,3,0) -> 101 | Z255: 43
B256: 対象箇所 | D256: =VLOOKUP($Z255,'様式D-1-2用'!$A$3:$O$1002,4,0) -> 照明施設 | E256: =VLOOKUP($Z255,'様式D-1-2用'!$A$3:$O$1002,5,0) -> 灯具 | G256: 部位区分 | I256: =VLOOKUP($Z255,'様式D-1-2用'!$A$3:$O$1002,6,0) -> 附属物本体 | J256: 対象箇所 | L256: =VLOOKUP($Z256,'様式D-1-2用'!$A$3:$O$1002,4,0) -> 照明施設 | M256: =VLOOKUP($Z256,'様式D-1-2用'!$A$3:$O$1002,5,0) -> ケーブル類 | O256: 部位区分 | Q256: =VLOOKUP($Z256,'様式D-1-2用'!$A$3:$O$1002,6,0) -> 取付部材 | R256: 対象箇所 | T256: =VLOOKUP($Z257,'様式D-1-2用'!$A$3:$O$1002,4,0) -> 照明施設 | U256: =VLOOKUP($Z257,'様式D-1-2用'!$A$3:$O$1002,5,0) -> ケーブル類 | W256: 部位区分 | Y256: =VLOOKUP($Z257,'様式D-1-2用'!$A$3:$O$1002,6,0) -> 取付部材 | Z256: 44
B257: 異常の種類 | D257: =VLOOKUP($Z255,'様式D-1-2用'!$A$3:$O$1002,7,0) -> 腐食 | J257: 異常の種類 | L257: =VLOOKUP($Z256,'様式D-1-2用'!$A$3:$O$1002,7,0) -> 腐食 | R257: 異常の種類 | T257: =VLOOKUP($Z257,'様式D-1-2用'!$A$3:$O$1002,7,0) -> 腐食 | Z257: 45
B258: 異常判定区分 | D258: =VLOOKUP($Z255,'様式D-1-2用'!$A$3:$O$1002,11,0) -> × | E258: メモ | F258: =VLOOKUP($Z255,'様式D-1-2用'!$A$3:$O$1002,15,0) -> 照明本体カバー腐食1箇所 (過年度写S16-13) | J258: 異常判定区分 | L258: =VLOOKUP($Z256,'様式D-1-2用'!$A$3:$O$1002,11,0) -> × | M258: メモ | N258: =VLOOKUP($Z256,'様式D-1-2用'!$A$3:$O$1002,15,0) -> 取付金具腐食2箇所 (過年度写S16-15,16-16) | R258: 異常判定区分 | T258: =VLOOKUP($Z257,'様式D-1-2用'!$A$3:$O$1002,11,0) -> × | U258: メモ | V258: =VLOOKUP($Z257,'様式D-1-2用'!$A$3:$O$1002,15,0) -> 取付金具腐食6箇所 (過年度写S17-11,17-12,17-13)
D272: ※ 異常判定区分×について記入すること。また、応急措置前に異常判定区分×とした箇所のうち応急措置により○と判定した箇所も記入すること。
D273: ※ 応急措置を実施した場合は、その実施状況が分かる写真を添付すること。
D274: ※ 画像データは100kb程度とする。 | L274: ※ 変状数に準じてシートを追加すること。（１シートに１ページとすること。）
B275: 覆工スパン番号 | E275: =VLOOKUP($Z275,'様式D-1-2用'!$A$3:$O$1002,2,0) -> 17 | F275: 異常番号 | I275: =VLOOKUP($Z275,'様式D-1-2用'!$A$3:$O$1002,3,0) -> 102 | J275: 覆工スパン番号 | M275: =VLOOKUP($Z276,'様式D-1-2用'!$A$3:$O$1002,2,0) -> 18 | N275: 異常番号 | Q275: =VLOOKUP($Z276,'様式D-1-2用'!$A$3:$O$1002,3,0) -> 101 | R275: 覆工スパン番号 | U275: =VLOOKUP($Z277,'様式D-1-2用'!$A$3:$O$1002,2,0) -> 18 | V275: 異常番号 | Y275: =VLOOKUP($Z277,'様式D-1-2用'!$A$3:$O$1002,3,0) -> 102 | Z275: 46
B276: 対象箇所 | D276: =VLOOKUP($Z275,'様式D-1-2用'!$A$3:$O$1002,4,0) -> 照明施設 | E276: =VLOOKUP($Z275,'様式D-1-2用'!$A$3:$O$1002,5,0) -> ケーブル類 | G276: 部位区分 | I276: =VLOOKUP($Z275,'様式D-1-2用'!$A$3:$O$1002,6,0) -> 取付部材 | J276: 対象箇所 | L276: =VLOOKUP($Z276,'様式D-1-2用'!$A$3:$O$1002,4,0) -> 照明施設 | M276: =VLOOKUP($Z276,'様式D-1-2用'!$A$3:$O$1002,5,0) -> ケーブル類 | O276: 部位区分 | Q276: =VLOOKUP($Z276,'様式D-1-2用'!$A$3:$O$1002,6,0) -> 取付部材 | R276: 対象箇所 | T276: =VLOOKUP($Z277,'様式D-1-2用'!$A$3:$O$1002,4,0) -> 照明施設 | U276: =VLOOKUP($Z277,'様式D-1-2用'!$A$3:$O$1002,5,0) -> 灯具 | W276: 部位区分 | Y276: =VLOOKUP($Z277,'様式D-1-2用'!$A$3:$O$1002,6,0) -> 附属物本体 | Z276: 47
B277: 異常の種類 | D277: =VLOOKUP($Z275,'様式D-1-2用'!$A$3:$O$1002,7,0) -> 腐食 | J277: 異常の種類 | L277: =VLOOKUP($Z276,'様式D-1-2用'!$A$3:$O$1002,7,0) -> 腐食 | R277: 異常の種類 | T277: =VLOOKUP($Z277,'様式D-1-2用'!$A$3:$O$1002,7,0) -> 腐食 | Z277: 48
B278: 異常判定区分 | D278: =VLOOKUP($Z275,'様式D-1-2用'!$A$3:$O$1002,11,0) -> × | E278: メモ | F278: =VLOOKUP($Z275,'様式D-1-2用'!$A$3:$O$1002,15,0) -> 取付金具腐食5箇所(3箇所破損有) (過年度写S17-14,17-15, 17-16,17-17) | J278: 異常判定区分 | L278: =VLOOKUP($Z276,'様式D-1-2用'!$A$3:$O$1002,11,0) -> × | M278: メモ | N278: =VLOOKUP($Z276,'様式D-1-2用'!$A$3:$O$1002,15,0) -> 取付金具腐食7箇所 (過年度写S18-14,18-15,18-16) | R278: 異常判定区分 | T278: =VLOOKUP($Z277,'様式D-1-2用'!$A$3:$O$1002,11,0) -> × | U278: メモ | V278: =VLOOKUP($Z277,'様式D-1-2用'!$A$3:$O$1002,15,0) -> 照明本体カバー腐食1箇所 (過年度写S18-12,18-13)
B292: 覆工スパン番号 | E292: =VLOOKUP($Z292,'様式D-1-2用'!$A$3:$O$1002,2,0) -> 18 | F292: 異常番号 | I292: =VLOOKUP($Z292,'様式D-1-2用'!$A$3:$O$1002,3,0) -> 103 | J292: 覆工スパン番号 | M292: =VLOOKUP($Z293,'様式D-1-2用'!$A$3:$O$1002,2,0) -> 18 | N292: 異常番号 | Q292: =VLOOKUP($Z293,'様式D-1-2用'!$A$3:$O$1002,3,0) -> 104 | R292: 覆工スパン番号 | U292: =VLOOKUP($Z294,'様式D-1-2用'!$A$3:$O$1002,2,0) -> 19 | V292: 異常番号 | Y292: =VLOOKUP($Z294,'様式D-1-2用'!$A$3:$O$1002,3,0) -> 101 | Z292: 49
B293: 対象箇所 | D293: =VLOOKUP($Z292,'様式D-1-2用'!$A$3:$O$1002,4,0) -> 照明施設 | E293: =VLOOKUP($Z292,'様式D-1-2用'!$A$3:$O$1002,5,0) -> ケーブル類 | G293: 部位区分 | I293: =VLOOKUP($Z292,'様式D-1-2用'!$A$3:$O$1002,6,0) -> 取付部材 | J293: 対象箇所 | L293: =VLOOKUP($Z293,'様式D-1-2用'!$A$3:$O$1002,4,0) -> 照明施設 | M293: =VLOOKUP($Z293,'様式D-1-2用'!$A$3:$O$1002,5,0) -> 灯具 | O293: 部位区分 | Q293: =VLOOKUP($Z293,'様式D-1-2用'!$A$3:$O$1002,6,0) -> 附属物本体 | R293: 対象箇所 | T293: =VLOOKUP($Z294,'様式D-1-2用'!$A$3:$O$1002,4,0) -> 照明施設 | U293: =VLOOKUP($Z294,'様式D-1-2用'!$A$3:$O$1002,5,0) -> ケーブル類 | W293: 部位区分 | Y293: =VLOOKUP($Z294,'様式D-1-2用'!$A$3:$O$1002,6,0) -> 取付部材 | Z293: 50
B294: 異常の種類 | D294: =VLOOKUP($Z292,'様式D-1-2用'!$A$3:$O$1002,7,0) -> 腐食 | J294: 異常の種類 | L294: =VLOOKUP($Z293,'様式D-1-2用'!$A$3:$O$1002,7,0) -> 腐食 | R294: 異常の種類 | T294: =VLOOKUP($Z294,'様式D-1-2用'!$A$3:$O$1002,7,0) -> 腐食 | Z294: 51
B295: 異常判定区分 | D295: =VLOOKUP($Z292,'様式D-1-2用'!$A$3:$O$1002,11,0) -> × | E295: メモ | F295: =VLOOKUP($Z292,'様式D-1-2用'!$A$3:$O$1002,15,0) -> 取付金具腐食6箇所(1箇所破損有) (過年度写S18-18,18-19,18-20) | J295: 異常判定区分 | L295: =VLOOKUP($Z293,'様式D-1-2用'!$A$3:$O$1002,11,0) -> × | M295: メモ | N295: =VLOOKUP($Z293,'様式D-1-2用'!$A$3:$O$1002,15,0) -> 照明本体カバー腐食1箇所 (過年度写S18-17) | R295: 異常判定区分 | T295: =VLOOKUP($Z294,'様式D-1-2用'!$A$3:$O$1002,11,0) -> × | U295: メモ | V295: =VLOOKUP($Z294,'様式D-1-2用'!$A$3:$O$1002,15,0) -> 取付金具腐食6箇所 (過年度写S19-9,19-10,19-11, 19-12,19-13)
B309: 覆工スパン番号 | E309: =VLOOKUP($Z309,'様式D-1-2用'!$A$3:$O$1002,2,0) -> 19 | F309: 異常番号 | I309: =VLOOKUP($Z309,'様式D-1-2用'!$A$3:$O$1002,3,0) -> 102 | J309: 覆工スパン番号 | M309: =VLOOKUP($Z310,'様式D-1-2用'!$A$3:$O$1002,2,0) -> 19 | N309: 異常番号 | Q309: =VLOOKUP($Z310,'様式D-1-2用'!$A$3:$O$1002,3,0) -> 103 | R309: 覆工スパン番号 | U309: =VLOOKUP($Z311,'様式D-1-2用'!$A$3:$O$1002,2,0) -> 19 | V309: 異常番号 | Y309: =VLOOKUP($Z311,'様式D-1-2用'!$A$3:$O$1002,3,0) -> 104 | Z309: 52
B310: 対象箇所 | D310: =VLOOKUP($Z309,'様式D-1-2用'!$A$3:$O$1002,4,0) -> 照明施設 | E310: =VLOOKUP($Z309,'様式D-1-2用'!$A$3:$O$1002,5,0) -> 灯具 | G310: 部位区分 | I310: =VLOOKUP($Z309,'様式D-1-2用'!$A$3:$O$1002,6,0) -> 附属物本体 | J310: 対象箇所 | L310: =VLOOKUP($Z310,'様式D-1-2用'!$A$3:$O$1002,4,0) -> 照明施設 | M310: =VLOOKUP($Z310,'様式D-1-2用'!$A$3:$O$1002,5,0) -> 灯具 | O310: 部位区分 | Q310: =VLOOKUP($Z310,'様式D-1-2用'!$A$3:$O$1002,6,0) -> 附属物本体 | R310: 対象箇所 | T310: =VLOOKUP($Z311,'様式D-1-2用'!$A$3:$O$1002,4,0) -> 照明施設 | U310: =VLOOKUP($Z311,'様式D-1-2用'!$A$3:$O$1002,5,0) -> ケーブル類 | W310: 部位区分 | Y310: =VLOOKUP($Z311,'様式D-1-2用'!$A$3:$O$1002,6,0) -> 取付部材 | Z310: 53
B311: 異常の種類 | D311: =VLOOKUP($Z309,'様式D-1-2用'!$A$3:$O$1002,7,0) -> 腐食 | J311: 異常の種類 | L311: =VLOOKUP($Z310,'様式D-1-2用'!$A$3:$O$1002,7,0) -> 腐食 | R311: 異常の種類 | T311: =VLOOKUP($Z311,'様式D-1-2用'!$A$3:$O$1002,7,0) -> 腐食 | Z311: 54
B312: 異常判定区分 | D312: =VLOOKUP($Z309,'様式D-1-2用'!$A$3:$O$1002,11,0) -> × | E312: メモ | F312: =VLOOKUP($Z309,'様式D-1-2用'!$A$3:$O$1002,15,0) -> 照明本体カバー腐食1箇所 (過年度写S19-8) | J312: 異常判定区分 | L312: =VLOOKUP($Z310,'様式D-1-2用'!$A$3:$O$1002,11,0) -> × | M312: メモ | N312: =VLOOKUP($Z310,'様式D-1-2用'!$A$3:$O$1002,15,0) -> 照明本体カバー腐食1箇所 (過年度写S19-14) | R312: 異常判定区分 | T312: =VLOOKUP($Z311,'様式D-1-2用'!$A$3:$O$1002,11,0) -> × | U312: メモ | V312: =VLOOKUP($Z311,'様式D-1-2用'!$A$3:$O$1002,15,0) -> 取付金具腐食5箇所 (過年度写S19-16,19-17,19-18, 19-19)
D326: ※ 異常判定区分×について記入すること。また、応急措置前に異常判定区分×とした箇所のうち応急措置により○と判定した箇所も記入すること。
D327: ※ 応急措置を実施した場合は、その実施状況が分かる写真を添付すること。
D328: ※ 画像データは100kb程度とする。 | L328: ※ 変状数に準じてシートを追加すること。（１シートに１ページとすること。）
B329: 覆工スパン番号 | E329: =VLOOKUP($Z329,'様式D-1-2用'!$A$3:$O$1002,2,0) -> 19 | F329: 異常番号 | I329: =VLOOKUP($Z329,'様式D-1-2用'!$A$3:$O$1002,3,0) -> 105 | J329: 覆工スパン番号 | M329: =VLOOKUP($Z330,'様式D-1-2用'!$A$3:$O$1002,2,0) -> 19 | N329: 異常番号 | Q329: =VLOOKUP($Z330,'様式D-1-2用'!$A$3:$O$1002,3,0) -> 106 | R329: 覆工スパン番号 | U329: =VLOOKUP($Z331,'様式D-1-2用'!$A$3:$O$1002,2,0) -> 20 | V329: 異常番号 | Y329: =VLOOKUP($Z331,'様式D-1-2用'!$A$3:$O$1002,3,0) -> 101 | Z329: 55
B330: 対象箇所 | D330: =VLOOKUP($Z329,'様式D-1-2用'!$A$3:$O$1002,4,0) -> 照明施設 | E330: =VLOOKUP($Z329,'様式D-1-2用'!$A$3:$O$1002,5,0) -> 灯具 | G330: 部位区分 | I330: =VLOOKUP($Z329,'様式D-1-2用'!$A$3:$O$1002,6,0) -> 附属物本体 | J330: 対象箇所 | L330: =VLOOKUP($Z330,'様式D-1-2用'!$A$3:$O$1002,4,0) -> 照明施設 | M330: =VLOOKUP($Z330,'様式D-1-2用'!$A$3:$O$1002,5,0) -> 灯具 | O330: 部位区分 | Q330: =VLOOKUP($Z330,'様式D-1-2用'!$A$3:$O$1002,6,0) -> 附属物本体 | R330: 対象箇所 | T330: =VLOOKUP($Z331,'様式D-1-2用'!$A$3:$O$1002,4,0) -> 照明施設 | U330: =VLOOKUP($Z331,'様式D-1-2用'!$A$3:$O$1002,5,0) -> ケーブル類 | W330: 部位区分 | Y330: =VLOOKUP($Z331,'様式D-1-2用'!$A$3:$O$1002,6,0) -> 取付部材 | Z330: 56
B331: 異常の種類 | D331: =VLOOKUP($Z329,'様式D-1-2用'!$A$3:$O$1002,7,0) -> 腐食 | J331: 異常の種類 | L331: =VLOOKUP($Z330,'様式D-1-2用'!$A$3:$O$1002,7,0) -> 腐食 | R331: 異常の種類 | T331: =VLOOKUP($Z331,'様式D-1-2用'!$A$3:$O$1002,7,0) -> 腐食 | Z331: 57
B332: 異常判定区分 | D332: =VLOOKUP($Z329,'様式D-1-2用'!$A$3:$O$1002,11,0) -> × | E332: メモ | F332: =VLOOKUP($Z329,'様式D-1-2用'!$A$3:$O$1002,15,0) -> 照明本体カバー腐食1箇所 (過年度写S19-15) | J332: 異常判定区分 | L332: =VLOOKUP($Z330,'様式D-1-2用'!$A$3:$O$1002,11,0) -> × | M332: メモ | N332: =VLOOKUP($Z330,'様式D-1-2用'!$A$3:$O$1002,15,0) -> 照明本体カバー腐食1箇所 (過年度写S19-20) | R332: 異常判定区分 | T332: =VLOOKUP($Z331,'様式D-1-2用'!$A$3:$O$1002,11,0) -> × | U332: メモ | V332: =VLOOKUP($Z331,'様式D-1-2用'!$A$3:$O$1002,15,0) -> 取付金具腐食4箇所 (過年度写S20-13,20-14,20-15, 20-16)
B346: 覆工スパン番号 | E346: =VLOOKUP($Z346,'様式D-1-2用'!$A$3:$O$1002,2,0) -> 20 | F346: 異常番号 | I346: =VLOOKUP($Z346,'様式D-1-2用'!$A$3:$O$1002,3,0) -> 102 | J346: 覆工スパン番号 | M346: =VLOOKUP($Z347,'様式D-1-2用'!$A$3:$O$1002,2,0) -> 20 | N346: 異常番号 | Q346: =VLOOKUP($Z347,'様式D-1-2用'!$A$3:$O$1002,3,0) -> 103 | R346: 覆工スパン番号 | U346: =VLOOKUP($Z348,'様式D-1-2用'!$A$3:$O$1002,2,0) -> 21 | V346: 異常番号 | Y346: =VLOOKUP($Z348,'様式D-1-2用'!$A$3:$O$1002,3,0) -> 101 | Z346: 58
B347: 対象箇所 | D347: =VLOOKUP($Z346,'様式D-1-2用'!$A$3:$O$1002,4,0) -> 照明施設 | E347: =VLOOKUP($Z346,'様式D-1-2用'!$A$3:$O$1002,5,0) -> ケーブル類 | G347: 部位区分 | I347: =VLOOKUP($Z346,'様式D-1-2用'!$A$3:$O$1002,6,0) -> 取付部材 | J347: 対象箇所 | L347: =VLOOKUP($Z347,'様式D-1-2用'!$A$3:$O$1002,4,0) -> 照明施設 | M347: =VLOOKUP($Z347,'様式D-1-2用'!$A$3:$O$1002,5,0) -> 灯具 | O347: 部位区分 | Q347: =VLOOKUP($Z347,'様式D-1-2用'!$A$3:$O$1002,6,0) -> 附属物本体 | R347: 対象箇所 | T347: =VLOOKUP($Z348,'様式D-1-2用'!$A$3:$O$1002,4,0) -> 照明施設 | U347: =VLOOKUP($Z348,'様式D-1-2用'!$A$3:$O$1002,5,0) -> ケーブル類 | W347: 部位区分 | Y347: =VLOOKUP($Z348,'様式D-1-2用'!$A$3:$O$1002,6,0) -> 取付部材 | Z347: 59
B348: 異常の種類 | D348: =VLOOKUP($Z346,'様式D-1-2用'!$A$3:$O$1002,7,0) -> 腐食 | J348: 異常の種類 | L348: =VLOOKUP($Z347,'様式D-1-2用'!$A$3:$O$1002,7,0) -> 腐食 | R348: 異常の種類 | T348: =VLOOKUP($Z348,'様式D-1-2用'!$A$3:$O$1002,7,0) -> 腐食 | Z348: 60
...

Sheet 様式D-2-1
B3: ■定期点検記録様式 トンネル全体変状展開図 【様式D-2-1】
B4: フリガナ | E4: ='様式A-1'!$D$3 -> ユノセトンネル | J4: 路線名 | M4: ='様式A-1'!$J$3 -> 一般県道長門峡線 | S4: 定期点検業者 | W4: =様式B!$K$5 -> 日本工営株式会社 | AC4: 定期点検年月日 | AF4: =様式B!$Q$5 -> 45240
B5: 名 称 | E5: ='様式A-1'!$D$4 -> 湯之瀬トンネル | J5: 管理者名 | M5: ='様式A-1'!$R$3 -> 山口県萩土木事務所 | S5: 定期点検者名 | W5: =様式B!$K$6 -> 横山真一郎
B6: トンネル変状展開図 | C6: トンネル全体変状展開図
V18: 注１：本展開図は、見下げた状態で記載すること。 注２：覆工スパン番号は横断目地毎（矢板工法の場合は上半アーチ の横断目地毎)に設定すること。 注３：横断目地の変状は前の覆工スパン番号で計上すること。 注４：１枚に収まらない場合は、複数枚に分けて作成すること。
B20: トンネル変状展開図 | C20: トンネル全体変状展開図
V32: 注１：本展開図は、見下げた状態で記載すること。 注２：覆工スパン番号は横断目地毎（矢板工法の場合は上半アーチ の横断目地毎)に設定すること。 注３：横断目地の変状は前の覆工スパン番号で計上すること。 注４：１枚に収まらない場合は、複数枚に分けて作成すること。
B34: トンネル変状展開図 | C34: トンネル全体変状展開図
V46: 注１：本展開図は、見下げた状態で記載すること。 注２：覆工スパン番号は横断目地毎（矢板工法の場合は上半アーチ の横断目地毎)に設定すること。 注３：横断目地の変状は前の覆工スパン番号で計上すること。 注４：１枚に収まらない場合は、複数枚に分けて作成すること。
B48: トンネル変状展開図 | C48: トンネル全体変状展開図
V60: 注１：本展開図は、見下げた状態で記載すること。 注２：覆工スパン番号は横断目地毎（矢板工法の場合は上半アーチ の横断目地毎)に設定すること。 注３：横断目地の変状は前の覆工スパン番号で計上すること。 注４：１枚に収まらない場合は、複数枚に分けて作成すること。
B62: トンネル変状展開図 | C62: トンネル全体変状展開図
V74: 注１：本展開図は、見下げた状態で記載すること。 注２：覆工スパン番号は横断目地毎（矢板工法の場合は上半アーチ の横断目地毎)に設定すること。 注３：横断目地の変状は前の覆工スパン番号で計上すること。 注４：１枚に収まらない場合は、複数枚に分けて作成すること。

Sheet 様式D-2-1 
B3: ■定期点検記録様式 トンネル全体変状展開図 【様式D-2-1】
B4: フリガナ | E4: ='様式A-1'!$D$3 -> ユノセトンネル | J4: 路線名 | M4: ='様式A-1'!$J$3 -> 一般県道長門峡線 | S4: 定期点検業者 | W4: =様式B!$K$5 -> 日本工営株式会社 | AC4: 定期点検年月日 | AF4: =様式B!$Q$5 -> 45240
B5: 名 称 | E5: ='様式A-1'!$D$4 -> 湯之瀬トンネル | J5: 管理者名 | M5: ='様式A-1'!$R$3 -> 山口県萩土木事務所 | S5: 定期点検者名 | W5: =様式B!$K$6 -> 横山真一郎
B6: トンネル変状展開図 | C6: トンネル全体変状展開図
V18: 注１：本展開図は、見下げた状態で記載すること。 注２：覆工スパン番号は横断目地毎（矢板工法の場合は上半アーチ の横断目地毎)に設定すること。 注３：横断目地の変状は前の覆工スパン番号で計上すること。 注４：１枚に収まらない場合は、複数枚に分けて作成すること。
B20: トンネル変状展開図 | C20: トンネル全体変状展開図
V32: 注１：本展開図は、見下げた状態で記載すること。 注２：覆工スパン番号は横断目地毎（矢板工法の場合は上半アーチ の横断目地毎)に設定すること。 注３：横断目地の変状は前の覆工スパン番号で計上すること。 注４：１枚に収まらない場合は、複数枚に分けて作成すること。
B34: トンネル変状展開図 | C34: トンネル全体変状展開図
V46: 注１：本展開図は、見下げた状態で記載すること。 注２：覆工スパン番号は横断目地毎（矢板工法の場合は上半アーチ の横断目地毎)に設定すること。 注３：横断目地の変状は前の覆工スパン番号で計上すること。 注４：１枚に収まらない場合は、複数枚に分けて作成すること。
B48: トンネル変状展開図 | C48: トンネル全体変状展開図
V60: 注１：本展開図は、見下げた状態で記載すること。 注２：覆工スパン番号は横断目地毎（矢板工法の場合は上半アーチ の横断目地毎)に設定すること。 注３：横断目地の変状は前の覆工スパン番号で計上すること。 注４：１枚に収まらない場合は、複数枚に分けて作成すること。
B62: トンネル変状展開図 | C62: トンネル全体変状展開図
V74: 注１：本展開図は、見下げた状態で記載すること。 注２：覆工スパン番号は横断目地毎（矢板工法の場合は上半アーチ の横断目地毎)に設定すること。 注３：横断目地の変状は前の覆工スパン番号で計上すること。 注４：１枚に収まらない場合は、複数枚に分けて作成すること。

Sheet 様式D-3_PS
AU1: 様式E-1リンク用→ | AV1: 覆工ｽﾊﾟﾝ 番号 | AW1: ｽﾊﾟﾝ 長 (m) | AX1: 変状数集計 | BS1: 覆工スパン毎の 健全性の診断 | BW1: 変状規模集計
AX2: 対策区分毎の変状数 | BJ2: 健全性の判定区分毎の変状数 | BW2: 覆工スパン長(m) | CA2: 対策区分毎の変状の発生範囲の規模(㎡）
B3: ■定期点検記録様式 覆工スパン別変状詳細展開図 【様式D-3】 | AX3: 外力 | BB3: 材質劣化 | BF3: 漏水 | BJ3: 外力 | BM3: 材質劣化 | BP3: 漏水 | BS3: 外力 | BT3: 材質劣化 | BU3: 漏水 | BV3: 健全性 | BW3: 外力※１ | CA3: 材質劣化 | CE3: 漏水
B4: フリガナ | E4: ='様式A-1'!$D$3 -> ユノセトンネル | K4: 路線名 | N4: ='様式A-1'!$J$3 -> 一般県道長門峡線 | T4: 定期点検業者 | Y4: =様式B!$K$5 -> 日本工営株式会社 | AG4: 定期点検年月日 | AK4: =様式B!$Q$5 -> 45240 | AX4: Ⅳ | AY4: Ⅲ | AZ4: Ⅱa | BA4: Ⅱb | BB4: Ⅳ | BC4: Ⅲ | BD4: Ⅱa | BE4: Ⅱb | BF4: Ⅳ | BG4: Ⅲ | BH4: Ⅱa | BI4: Ⅱb | BJ4: Ⅳ | BK4: Ⅲ | BL4: Ⅱ | BM4: Ⅳ | BN4: Ⅲ | BO4: Ⅱ | BP4: Ⅳ | BQ4: Ⅲ | BR4: Ⅱ | BW4: Ⅳ | BX4: Ⅲ | BY4: Ⅱa | BZ4: Ⅱb | CA4: Ⅳ | CB4: Ⅲ | CC4: Ⅱa | CD4: Ⅱb | CE4: Ⅳ | CF4: Ⅲ | CG4: Ⅱa | CH4: Ⅱb
B5: 名 称 | E5: ='様式A-1'!$D$4 -> 湯之瀬トンネル | K5: 管理者名 | N5: ='様式A-1'!$R$3 -> 山口県萩土木事務所 | T5: 定期点検者名 | Y5: =様式B!$K$6 -> 横山真一郎 | AV5: =N7 -> PS | AW5: =R7 -> 2.77 | AX5: =+Y32 -> 0 | AY5: =+Z32 -> 0 | AZ5: =+AA32 -> 0 | BA5: =+AB32 -> 0 | BB5: =+AC32 -> 0 | BC5: =+AD32 -> 0 | BD5: =+AE32 -> 0 | BE5: =+AF32 -> 0 | ... BI5: =+AJ32 -> 0 | BJ5: =+Y35 -> 0 | BK5: =+Z35 -> 0 | BL5: =+AA35 -> 0 | BM5: =+AC35 -> 0 | BN5: =+AD35 -> 0 | BO5: =+AE35 -> 0 | BP5: =+AG35 -> 0 | BQ5: =+AH35 -> 0 | BR5: =+AI35 -> 0 | BS5: =+Y36 -> Ⅰ | BT5: =+AC36 -> Ⅰ | BU5: =+AG36 -> Ⅰ | BV5: =+Y37 -> Ⅰ | BW5: =IF(Y32>0,$R$7,"") | BX5: =IF(Z32>0,"",IF(AA32>0,$R$7,"")) | BY5: =IF(Y32+Z32>0,"",IF(AA32>0,$R$7,"")) | BZ5: =IF(Y32+Z32+AA32>0,"",IF(AB32>0,$R$7,"")) | CA5: =+AC31 -> 0 | CB5: =+AD31 -> 0 | CC5: =+AE31 -> 0 | CD5: =+AF31 -> 0 | CE5: =+AG31 -> 0 | CF5: =+AH31 -> 0 | CG5: =+AI31 -> 0 | CH5: =+AJ31 -> 0
B6: スパン別変状展開図 | K6: 【健全性判定集計表】
K7: スパン番号 | N7: PS | P7: スパン長 | R7: =IF(N7="","",IFERROR(INDEX('様式A-2'!$C$9:$C$438,MATCH(N7,'様式A-2'!$B$9:$B$438,0)),"")) -> 2.77 | U7: 前回定期点検時の健全性 | W7: 応急措置前の判定 | Y7: 対策区分毎の 変状の有無 | AC7: 対策区分毎の変状の発生範囲の規模(㎡) | AK7: 備考注2 | AS7: =$N$7&"S" -> PSS
K8: 変状番号 | L8: 対象箇所 | N8: 部位区分 | P8: 変状区分 | R8: 変状種類
Y9: 外力注1 | AC9: 材質劣化注1 | AG9: 漏水注1
Y10: Ⅳ | Z10: Ⅲ | AA10: Ⅱa | AB10: Ⅱb | AC10: Ⅳ | AD10: Ⅲ | AE10: Ⅱa | AF10: Ⅱb | AG10: Ⅳ | AH10: Ⅲ | AI10: Ⅱa | AJ10: Ⅱb
K11: =IF(L11="","",AS11) | L11: =IFERROR(VLOOKUP($AS$7&$AS11,'様式C-1-1用'!$C$4:$AI$2973,5,0),"") | N11: =IFERROR(VLOOKUP($AS$7&$AS11,'様式C-1-1用'!$C$4:$AI$2973,6,0),"") | P11: =IFERROR(VLOOKUP($AS$7&$AS11,'様式C-1-1用'!$C$4:$AI$2973,7,0),"") | R11: =IFERROR(VLOOKUP($AS$7&$AS11,'様式C-1-1用'!$C$4:$AI$2973,9,0),"") | U11: =IFERROR(VLOOKUP($AS$7&$AS11,'様式C-1-1用'!$C$4:$AI$2973,20,0),"") | W11: =IFERROR(VLOOKUP($AS$7&$AS11,'様式C-1-1用'!$C$4:$AI$2973,23,0),"") | Y11: =IFERROR(VLOOKUP($AS$7&$AS11,'様式C-1-1用'!$C$4:$CE$2973,58,0),"") | Z11: =IFERROR(VLOOKUP($AS$7&$AS11,'様式C-1-1用'!$C$4:$BS$977,59,0),"") | AA11: =IFERROR(VLOOKUP($AS$7&$AS11,'様式C-1-1用'!$C$4:$BS$977,60,0),"") | AB11: =IFERROR(VLOOKUP($AS$7&$AS11,'様式C-1-1用'!$C$4:$BS$977,61,0),"") | AC11: =IFERROR(VLOOKUP($AS$7&$AS11,'様式C-1-1用'!$C$4:$BS$977,62,0),"") | AD11: =IFERROR(VLOOKUP($AS$7&$AS11,'様式C-1-1用'!$C$4:$BS$976,63,0),"") | AE11: =IFERROR(VLOOKUP($AS$7&$AS11,'様式C-1-1用'!$C$4:$BS$976,64,0),"") | AF11: =IFERROR(VLOOKUP($AS$7&$AS11,'様式C-1-1用'!$C$4:$BS$976,65,0),"") | AG11: =IFERROR(VLOOKUP($AS$7&$AS11,'様式C-1-1用'!$C$4:$BS$977,66,0),"") | AH11: =IFERROR(VLOOKUP($AS$7&$AS11,'様式C-1-1用'!$C$4:$BS$977,67,0),"") | AI11: =IFERROR(VLOOKUP($AS$7&$AS11,'様式C-1-1用'!$C$4:$BS$977,68,0),"") | AJ11: =IFERROR(VLOOKUP($AS$7&$AS11,'様式C-1-1用'!$C$4:$BS$977,69,0),"") | AK11: =IFERROR(VLOOKUP($AS$7&$AS11,'様式C-1-1用'!$C$4:$AI$976,17,0),"") | AQ11: =IF(P11="外力",1,IF(P11="材質劣化",2,IF(P11="漏水",3,0))) -> 0 | AS11: 1
K12: =IF(L12="","",AS12) | L12: =IFERROR(VLOOKUP($AS$7&$AS12,'様式C-1-1用'!$C$4:$AI$2973,5,0),"") | N12: =IFERROR(VLOOKUP($AS$7&$AS12,'様式C-1-1用'!$C$4:$AI$2973,6,0),"") | P12: =IFERROR(VLOOKUP($AS$7&$AS12,'様式C-1-1用'!$C$4:$AI$2973,7,0),"") | R12: =IFERROR(VLOOKUP($AS$7&$AS12,'様式C-1-1用'!$C$4:$AI$2973,9,0),"") | U12: =IFERROR(VLOOKUP($AS$7&$AS12,'様式C-1-1用'!$C$4:$AI$2973,20,0),"") | W12: =IFERROR(VLOOKUP($AS$7&$AS12,'様式C-1-1用'!$C$4:$AI$2973,23,0),"") | Y12: =IFERROR(VLOOKUP($AS$7&$AS12,'様式C-1-1用'!$C$4:$CE$2973,58,0),"") | Z12: =IFERROR(VLOOKUP($AS$7&$AS12,'様式C-1-1用'!$C$4:$BS$977,59,0),"") | AA12: =IFERROR(VLOOKUP($AS$7&$AS12,'様式C-1-1用'!$C$4:$BS$977,60,0),"") | AB12: =IFERROR(VLOOKUP($AS$7&$AS12,'様式C-1-1用'!$C$4:$BS$977,61,0),"") | AC12: =IFERROR(VLOOKUP($AS$7&$AS12,'様式C-1-1用'!$C$4:$BS$977,62,0),"") | AD12: =IFERROR(VLOOKUP($AS$7&$AS12,'様式C-1-1用'!$C$4:$BS$976,63,0),"") | AE12: =IFERROR(VLOOKUP($AS$7&$AS12,'様式C-1-1用'!$C$4:$BS$976,64,0),"") | AF12: =IFERROR(VLOOKUP($AS$7&$AS12,'様式C-1-1用'!$C$4:$BS$976,65,0),"") | AG12: =IFERROR(VLOOKUP($AS$7&$AS12,'様式C-1-1用'!$C$4:$BS$977,66,0),"") | AH12: =IFERROR(VLOOKUP($AS$7&$AS12,'様式C-1-1用'!$C$4:$BS$977,67,0),"") | AI12: =IFERROR(VLOOKUP($AS$7&$AS12,'様式C-1-1用'!$C$4:$BS$977,68,0),"") | AJ12: =IFERROR(VLOOKUP($AS$7&$AS12,'様式C-1-1用'!$C$4:$BS$977,69,0),"") | AK12: =IFERROR(VLOOKUP($AS$7&$AS12,'様式C-1-1用'!$C$4:$AI$976,17,0),"") | AQ12: =IF(P12="外力",1,IF(P12="材質劣化",2,IF(P12="漏水",3,0))) -> 0 | AS12: =AS11+1 -> 2
