Workbook
Name その他: '(参考)リスト'!$C$45:$C$46
Name その他施設: '(参考)リスト'!$C$76:$C$80
Name 外力: '(参考)リスト'!$E$16:$E$23
Name 完成年次: [1]ﾘｽﾄ!$S$27:$S$180
Name 換気: [1]ﾘｽﾄ!$U$3:$U$10
Name 換気施設: '(参考)リスト'!$C$55:$C$59
Name 坑門: '(参考)リスト'!$C$16:$C$29
Name 材質劣化: '(参考)リスト'!$E$24:$E$36
Name 照明施設: '(参考)リスト'!$C$51:$C$53
Name 照明種別: [1]ﾘｽﾄ!$T$3:$T$8
Name 天井板: '(参考)リスト'!$C$34:$C$36
Name 内装板: '(参考)リスト'!$C$31:$C$32
Name 非常用施設: '(参考)リスト'!$C$61:$C$74
Name 覆工: '(参考)リスト'!$C$16:$C$29
Name 覆工・坑門: '(参考)リスト'!$C$16:$C$29
Name 路面: '(参考)リスト'!$C$38:$C$43
Name 漏水: '(参考)リスト'!$E$38:$E$45

Sheet 点検様式作成フロー
A1: 点検様式作成フロ-
A3: 作成フロー図 | H3: 点検調書作成手順
H4: ①様式A-1～A-3（トンネル台帳）
H5: トンネル点検の実施にあたっては，現場点検作業に先行してトンネル情報を収集する。トンネル台帳（様式Ａ－1～様式Ａ－3）はトンネル完成後に作成され，維持管理の段階で引き継がれるが，関連資料等を確認したうえで，追加情報があれば必要に応じて追記することが望ましい。
H9: ②様式D-2-1、様式D-2-1´
H10: 現場点検作業を実施し，近接目視点検で確認した変状状況や補修履歴を忠実に変状展開図に転記する
H12: ③様式D-1-1、様式D-1-2
H13: 変状展開図や撮影した写真等をもとに，対象トンネルの対策区分を判定し，対策区分の判定区分がⅡ～Ⅳの変状および異常判定区分「×」を抽出し，写真台帳を作成する
H16: ④様式B
H17: 写真台帳の作成と同時に，トンネルの構造を展開した位置図に変状写真位置を記録する
H19: ⑤様式D-3
H20: 変状展開図ならびに写真台帳をもとに覆工スパンごとの変状展開図を作成し，変状発生状況をとりまとめる
H22: ⑥様式E-1、様式E-2
H23: 様式Ｄ－1～様式Ｄ－3をもとに，健全性の診断結果を集計する
... H31: ファイルは以下の分割規則に従う。 ※各ファイルとも （参考）リスト のシートを付けて保存すること。 ・様式A-1～A-3は同一ファイルとする。 ・様式B、D-1-1、D-1-2、D-2-1（もしくはD-2-1'）、Eは別ファイルとする。 ・様式C-1-1,C-1-2、C-2は同一ファイルとする。 ・様式D-3、E、Fは同一ファイルとする。

Sheet 変状面積算出方法
A1: 変状面積算出方法
A26: 注1）外力による変状：ひび割れや圧ざの場合は変状の寸法を記録する。
A27: 例）ひび割れ：長さ（L）×最大ひび割れ幅（t）を記録する。 変形，移動，沈下：数値的な記載が可能な場合のみ記載する。
A28: 注2）材料劣化による：打音異常
A29: 例）うき，はく離（閉合ひび割れ）：変状範囲を包括する寸法（L×W） うき，はく離（ひび割れ沿い）：打音異常箇所を包括する寸法（L×W） 鋼材腐食（鉄筋腐食）：一括した対策が適当と考えられる範囲を包括する寸法（L×W）
A30: 注3）漏水による変状：漏水発生範囲を包括し，垂れ下がりの可能性がある側壁下端まで含めた寸法を，L×Wで記録する。打継ぎ目地沿いの 漏水については目地を跨いだ50cm幅を横幅とする。

Sheet 様式A-1
B2: ■トンネル台帳 トンネル諸元、非常用施設諸元 【様式A-1】 | S2: トンネルID | W2: 34.35475,131.55631
B3: フリガナ | D3: ユノセトンネル | H3: 路線名 | J3: 一般県道長門峡線 | P3: 管理者名 | R3: 山口県萩土木事務所 | W3: 緊急輸送道路 | Z3: 有
B4: 名 称 | D4: 湯之瀬トンネル | W4: 代替路の有無 | Z4: 有
B5: 所在地 | D5: 自 | E5: 山口県萩市川上 | H5: 作成者 | K5: 日本工営株式会社 | P5: 作成年月日 | U5: トンネル延長 | X5: L= | Z5: 211.15 | AB5: ｍ
D6: 至 | E6: 山口県萩市川上 | U6: ﾄﾝﾈﾙの分類 | X6: 陸上トンネル（掘進工法）
B7: 起点 | C7: 緯度 | E7: 34°21′23.7″ | H7: 完成年月日 | K7: 29068 | M7: 舗装 | O7: 種 別 | Q7: コンクリ－ト系 | S7: トンネル非常用施設 | T7: 施設の内訳 | X7: 種別・方式 | Y7: 型式 | Z7: 個数 | AA7: 更新年度
C8: 経度 | E8: 131°33′20.3″ | H8: 供用年月日 | K8: - | O8: 厚 さ | Q8: 0.25 | T8: 通報設備 | U8: 通話型通報設備
B9: 終点 | C9: 緯度 | E9: 34°21′17.1″ | H9: トンネル区分 | K9: Ｄ | O9: 面 積 | Q9: 1266.0㎡ | U9: 操作型通報設備
C10: 経度 | E10: 131°33′22.7″ | H10: 内装種類 | K10: 覆工(内装なし） | O10: 更新年次 | Q10: - | U10: 自動通報設備
B11: 一般有料区分 | E11: 一般（無料） | H11: 天井板種類 | K11: 覆工(内装なし） | M11: 排水 | O11: 種 別 | Q11: 自然排水 | T11: 警報設備 | U11: 非常警報設備
B12: 土かぶり | E12: - | G12: m | H12: 坑門 | I12: 起点 | J12: 形式 | K12: 面壁型 | O12: 更新年次 | Q12: - | T12: 消火設備 | U12: 消 火 器
B13: 内空断面積 | E13: 42.14 | G13: ㎡ | J13: 延長 | K13: 2.8 | L13: m | M13: 施設 | P13: 種別・方式 | Q13: 個数 | R13: 更新年次 | U13: 消火栓設備
B14: 交 通 量 | E14: 196 | G14: 台/日 | I14: 終点 | J14: 形式 | K14: 面壁型 | M14: 道路附属物等 | N14: 照明 | P14: ナトリウム灯 | Q14: 34 | T14: 避難誘導設備 | U14: 誘導表示設備
C15: 道 路 幅 | E15: 7.7 | G15: m | J15: 延長 | K15: 2 | L15: m | N15: 換気 | P15: 自然換気 | U15: 避難情報提供設備
B16: 幅 員 | C16: 車 道 幅 | E16: 3 | G16: m | H16: 竣工巻厚 | I16: アーチ | K16: 45 | L16: cm | N16: 標識
E17: 3 | G17: m | I17: 側 壁 | K17: 45 | L17: cm | N17: 警報表示板 | U17: 避難通路
C18: 歩道等幅 | E18: 1.7 | G18: m | K18: - | L18: cm | N18: 吸音板 | U18: 排煙設備
B19: 高さ | C19: 建築限界高 | E19: 4.5 | G19: m | I19: インバート | K19: - | L19: cm | T19: その他の設備 | U19: 給水栓設備
C20: 中央高 | E20: 6.15 | G20: m | H20: 半径 | I20: アーチ | K20: 410 | L20: cm | U20: 無線通信補助設備
C21: 有効高 | E21: 4.84 | G21: m | I21: 側 壁 | K21: 410 | L21: cm | U21: 水噴霧設備
C22: 縦断勾配 | E22: - | I22: インバート | K22: - | L22: cm | U22: 監視設備
B23: 線 形 | C23: 直線区間長 | E23: - | H23: 占用物件 | I23: 種 類 | K23: 寸 法 | M23: 管理者名 | Q23: 更新年次 | S23: 非常用施設 関連設備 | U23: 予備発電設備
C24: 曲線区間 | D24: 区間長 | F24: -
D25: 起点側ｸﾛｿｲﾄﾞ | F25: -
D26: 曲線半径 | F26: -
D27: 終点側ｸﾛｿｲﾄﾞ | F27: - | S27: その他 | U27: 非常駐車帯
B28: トンネル工法 | U28: 方向転換所
C29: ※緯度・経度については、秒の少数第二位の単位まで記入すること。（例；36度20分35.56秒の場合、362035.36と入力）

Sheet 様式A-2
B3: ■トンネル台帳 トンネル情報一覧表 【様式A-2】
B4: フリガナ | E4: ='様式A-1'!D3 -> ユノセトンネル | J4: 路線名 | M4: ='様式A-1'!J3 -> 一般県道長門峡線 | S4: 作成者 | Y4: ='様式A-1'!K5 -> 日本工営株式会社 | AE4: 作成年月日 | AI4: ='様式A-1'!R5
B5: 名 称 | E5: ='様式A-1'!D4 -> 湯之瀬トンネル | J5: 管理者名 | M5: ='様式A-1'!R3 -> 山口県萩土木事務所
B6: 覆工 ｽﾊﾟﾝ 番号 | C6: ｽﾊﾟﾝ長 | D6: 追加距離 | F6: トンネル本体工 | K6: 照明施設 | O6: 非常用施設 | AE6: 換気施設 | AK6: その他附属物等
O7: ='様式A-1'!T8 -> 通報設備 | R7: ='様式A-1'!T11 -> 警報設備 | S7: ='様式A-1'!T12 -> 消火設備 | U7: ='様式A-1'!T14 -> 避難誘導設備 | Y7: ='様式A-1'!T19 -> その他の設備 | AC7: 特記事項
D8: 起点側 | E8: 終点側 | F8: 特記事項 | I8: 内装板 | J8: 天井板 | K8: 基本照明 | L8: 入口出口照明 | M8: 特記事項 | O8: ='様式A-1'!U8 -> 通話型通報設備 | P8: ='様式A-1'!U9 -> 操作型通報設備 | Q8: ='様式A-1'!U10 -> 自動通報設備 | R8: ='様式A-1'!U11 -> 非常警報設備 | S8: ='様式A-1'!U12 -> 消 火 器 | T8: ='様式A-1'!U13 -> 消火栓設備 | U8: ='様式A-1'!U14 -> 誘導表示設備 | V8: ='様式A-1'!U15 -> 避難情報提供設備 | W8: ='様式A-1'!U17 -> 避難通路 | X8: ='様式A-1'!U18 -> 排煙設備 | Y8: ='様式A-1'!U19 -> 給水栓設備 | Z8: ='様式A-1'!U20 -> 無線通信補助設備 | AA8: ='様式A-1'!U21 -> 水噴霧設備 | AB8: ='様式A-1'!U22 -> 監視設備 | AE8: JF | AF8: VI計 | AG8: CO計 | AH8: 風向 風速計 | AI8: 特記事項
C9: (m) | D9: (m) | E9: (m)
B10: PS | C10: 2.77 | D10: 0 | E10: =IF(B10="","",C10+D10) -> 2.77 | F10: 坑門(面壁型)
B11: =IF(OR(B10="",B10="PE"),"",IF(B10="PS",1,B10+1)) -> 1 | C11: 9.002 | D11: =IF(B11="","",+E10) -> 2.77 | E11: =IF(B11="","",E10+C11) -> 11.772 | K11: ○
B12: =IF(OR(B11="",B11="PE"),"",IF(B11="PS",1,B11+1)) -> 2 | C12: 8.94 | D12: =IF(B12="","",+E11) -> 11.772 | E12: =IF(B12="","",E11+C12) -> 20.712 | K12: ○
B13: =IF(OR(B12="",B12="PE"),"",IF(B12="PS",1,B12+1)) -> 3 | C13: 8.94 | D13: =IF(B13="","",+E12) -> 20.712 | E13: =IF(B13="","",E12+C13) -> 29.652 | K13: ○
B14: =IF(OR(B13="",B13="PE"),"",IF(B13="PS",1,B13+1)) -> 4 | C14: 8.861 | D14: =IF(B14="","",+E13) -> 29.652 | E14: =IF(B14="","",E13+C14) -> 38.513 | K14: ○
B15: =IF(OR(B14="",B14="PE"),"",IF(B14="PS",1,B14+1)) -> 5 | C15: 9.082 | D15: =IF(B15="","",+E14) -> 38.513 | E15: =IF(B15="","",E14+C15) -> 47.595 | K15: ○
B16: =IF(OR(B15="",B15="PE"),"",IF(B15="PS",1,B15+1)) -> 6 | C16: 9.003 | D16: =IF(B16="","",+E15) -> 47.595 | E16: =IF(B16="","",E15+C16) -> 56.598 | K16: ○
B17: =IF(OR(B16="",B16="PE"),"",IF(B16="PS",1,B16+1)) -> 7 | C17: 8.976 | D17: =IF(B17="","",+E16) -> 56.598 | E17: =IF(B17="","",E16+C17) -> 65.574
B18: =IF(OR(B17="",B17="PE"),"",IF(B17="PS",1,B17+1)) -> 8 | C18: 8.938 | D18: =IF(B18="","",+E17) -> 65.574 | E18: =IF(B18="","",E17+C18) -> 74.512 | K18: ○
B19: =IF(OR(B18="",B18="PE"),"",IF(B18="PS",1,B18+1)) -> 9 | C19: 8.99 | D19: =IF(B19="","",+E18) -> 74.512 | E19: =IF(B19="","",E18+C19) -> 83.502 | K19: ○
B20: =IF(OR(B19="",B19="PE"),"",IF(B19="PS",1,B19+1)) -> 10 | C20: 8.967 | D20: =IF(B20="","",+E19) -> 83.502 | E20: =IF(B20="","",E19+C20) -> 92.469
B21: =IF(OR(B20="",B20="PE"),"",IF(B20="PS",1,B20+1)) -> 11 | C21: 8.988 | D21: =IF(B21="","",+E20) -> 92.469 | E21: =IF(B21="","",E20+C21) -> 101.457
B22: =IF(OR(B21="",B21="PE"),"",IF(B21="PS",1,B21+1)) -> 12 | C22: 8.945 | D22: =IF(B22="","",+E21) -> 101.457 | E22: =IF(B22="","",E21+C22) -> 110.402 | K22: ○
B23: =IF(OR(B22="",B22="PE"),"",IF(B22="PS",1,B22+1)) -> 13 | C23: 9.013 | D23: =IF(B23="","",+E22) -> 110.402 | E23: =IF(B23="","",E22+C23) -> 119.415
B24: =IF(OR(B23="",B23="PE"),"",IF(B23="PS",1,B23+1)) -> 14 | C24: 8.987 | D24: =IF(B24="","",+E23) -> 119.415 | E24: =IF(B24="","",E23+C24) -> 128.402
B25: =IF(OR(B24="",B24="PE"),"",IF(B24="PS",1,B24+1)) -> 15 | C25: 8.994 | D25: =IF(B25="","",+E24) -> 128.402 | E25: =IF(B25="","",E24+C25) -> 137.396 | K25: ○
B26: =IF(OR(B25="",B25="PE"),"",IF(B25="PS",1,B25+1)) -> 16 | C26: 8.928 | D26: =IF(B26="","",+E25) -> 137.396 | E26: =IF(B26="","",E25+C26) -> 146.324 | K26: ○
B27: =IF(OR(B26="",B26="PE"),"",IF(B26="PS",1,B26+1)) -> 17 | C27: 8.97 | D27: =IF(B27="","",+E26) -> 146.324 | E27: =IF(B27="","",E26+C27) -> 155.294
B28: =IF(OR(B27="",B27="PE"),"",IF(B27="PS",1,B27+1)) -> 18 | C28: 9.006 | D28: =IF(B28="","",+E27) -> 155.294 | E28: =IF(B28="","",E27+C28) -> 164.3 | K28: ○
B29: =IF(OR(B28="",B28="PE"),"",IF(B28="PS",1,B28+1)) -> 19 | C29: 8.994 | D29: =IF(B29="","",+E28) -> 164.3 | E29: =IF(B29="","",E28+C29) -> 173.294 | K29: ○
B30: =IF(OR(B29="",B29="PE"),"",IF(B29="PS",1,B29+1)) -> 20 | C30: 8.961 | D30: =IF(B30="","",+E29) -> 173.294 | E30: =IF(B30="","",E29+C30) -> 182.255 | K30: ○
B31: =IF(OR(B30="",B30="PE"),"",IF(B30="PS",1,B30+1)) -> 21 | C31: 8.915 | D31: =IF(B31="","",+E30) -> 182.255 | E31: =IF(B31="","",E30+C31) -> 191.17 | K31: ○
B32: =IF(OR(B31="",B31="PE"),"",IF(B31="PS",1,B31+1)) -> 22 | C32: 9.047 | D32: =IF(B32="","",+E31) -> 191.17 | E32: =IF(B32="","",E31+C32) -> 200.217 | K32: ○
B33: =IF(OR(B32="",B32="PE"),"",IF(B32="PS",1,B32+1)) -> 23 | C33: 8.933 | D33: =IF(B33="","",+E32) -> 200.217 | E33: =IF(B33="","",E32+C33) -> 209.15 | K33: ○
B34: PE | C34: 2 | D34: =IF(B34="","",+E33) -> 209.15 | E34: =IF(B34="","",E33+C34) -> 211.15 | F34: 坑門(面壁型)
B35: =IF(OR(B34="",B34="PE"),"",IF(B34="PS",1,B34+1)) | D35: =IF(B35="","",+E34) | E35: =IF(B35="","",E34+C35)
B36: =IF(OR(B35="",B35="PE"),"",IF(B35="PS",1,B35+1)) | D36: =IF(B36="","",+E35) | E36: =IF(B36="","",E35+C36)
B37: =IF(OR(B36="",B36="PE"),"",IF(B36="PS",1,B36+1)) | D37: =IF(B37="","",+E36) | E37: =IF(B37="","",E36+C37)
B38: =IF(OR(B37="",B37="PE"),"",IF(B37="PS",1,B37+1)) | D38: =IF(B38="","",+E37) | E38: =IF(B38="","",E37+C38)
B39: =IF(OR(B38="",B38="PE"),"",IF(B38="PS",1,B38+1)) | D39: =IF(B39="","",+E38) | E39: =IF(B39="","",E38+C39)
B40: =IF(OR(B39="",B39="PE"),"",IF(B39="PS",1,B39+1)) | D40: =IF(B40="","",+E39) | E40: =IF(B40="","",E39+C40)
B41: =IF(OR(B40="",B40="PE"),"",IF(B40="PS",1,B40+1)) | D41: =IF(B41="","",+E40) | E41: =IF(B41="","",E40+C41)
B42: =IF(OR(B41="",B41="PE"),"",IF(B41="PS",1,B41+1)) | D42: =IF(B42="","",+E41) | E42: =IF(B42="","",E41+C42)
...

Sheet 様式A-3
B3: ■トンネル台帳 トンネル記録（位置図、断面図、施工実績他）【様式A-3】
B4: フリガナ | E4: ='様式A-1'!D3 -> ユノセトンネル | J4: 路線名 | M4: ='様式A-1'!J3 -> 一般県道長門峡線 | S4: 作成者 | W4: ='様式A-1'!K5 -> 日本工営株式会社 | AC4: 作成年月日 | AF4: ='様式A-1'!R5
B5: 名 称 | E5: ='様式A-1'!D4 -> 湯之瀬トンネル | J5: 管理者名 | M5: ='様式A-1'!R3 -> 山口県萩土木事務所
B6: 位置図・現況写真・標準断面図・地質縦断図・施工実績

Sheet 様式B
B2: ■定期点検記録様式 トンネル変状・異常箇所写真位置図 【様式B】 | T2: トンネルID | V2: 34.35475,131.55631
B3: フリガナ | D3: ='様式A-1'!$D$3 -> ユノセトンネル | H3: 路線名 | J3: ='様式A-1'!$J$3 -> 一般県道長門峡線 | N3: 管理者名 | P3: ='様式A-1'!$R$3 -> 山口県萩土木事務所 | T3: 緊急輸送道路 | V3: ='様式A-1'!$Z$3 -> 有
B4: 名 称 | D4: ='様式A-1'!$D$4 -> 湯之瀬トンネル | T4: 代替路の有無 | V4: ='様式A-1'!$Z$4 -> 有
B5: 所在地 | D5: 自 | E5: ='様式A-1'!$E$5 -> 山口県萩市川上 | H5: 定期点検業者 | K5: 日本工営株式会社 | O5: 定期点検年月日 | Q5: 45240 | T5: トンネル延長 | V5: L= | W5: ='様式A-1'!Z5 -> 211.15 | Y5: ｍ
D6: 至 | E6: ='様式A-1'!$E$6 -> 山口県萩市川上 | H6: 定期点検者名 | K6: 横山真一郎 | T6: ﾄﾝﾈﾙの分類 | V6: ='様式A-1'!$X$6 -> 陸上トンネル（掘進工法）
B7: 起点 | C7: 緯度 | D7: ='様式A-1'!$E$7 -> 34°21′23.7″ | F7: 変状・異常 箇所数合計 | H7: トンネル 本体工 | J7: 材質劣化 | L7: Ⅱ | M7: ='様式C-1-1用'!$CQ$4 -> 73 | N7: Ⅲ | O7: ='様式C-1-1用'!$CN$4 -> 0 | P7: Ⅳ | Q7: ='様式C-1-1用'!$CM$4 -> 0 | R7: トンネル毎 の健全性 | T7: =IF(SUM(Q7:Q18)>0,"Ⅳ",IF(SUM(O7:O18)>0,"Ⅲ",IF(SUM(M7:M18)>0,"Ⅱ","Ⅰ"))) -> Ⅱ | V7: 附属物の 取付状態 | W7: ◯ （応急措置後） | Y7: =COUNTIF('様式C-1-2用'!$L$3:$L$1002,"○") -> 0
C10: 経度 | D10: ='様式A-1'!$E$8 -> 131°33′20.3″
J11: 漏水 | L11: Ⅱ | M11: ='様式C-1-1用'!$CV$4 -> 42 | N11: Ⅲ | O11: ='様式C-1-1用'!$CS$4 -> 0 | P11: Ⅳ | Q11: ='様式C-1-1用'!$CR$4 -> 0
B13: 終点 | C13: 緯度 | D13: ='様式A-1'!$E$9 -> 34°21′17.1″ | W13: ✕ | Y13: =COUNTIF('様式C-1-2用'!$L$3:$L$1002,"×") -> 69
J15: 外力 | L15: Ⅱ | M15: ='様式C-1-1用'!$CL$4 -> 0 | N15: Ⅲ | O15: ='様式C-1-1用'!$CI$4 -> 0 | P15: Ⅳ | Q15: ='様式C-1-1用'!$CH$4 -> 0
C16: 経度 | D16: ='様式A-1'!$E$10 -> 131°33′22.7″
B19: トンネル変状・異常箇所写真位置図
P26: 注１：本位置図は、見下げた状態で記載すること。 注２：覆工スパン番号は横断目地毎(矢板工法の場合は上半アーチ の横断目地毎)に設定すること。 注３：写真番号に付する変状番号は、各覆工スパンの変状に対して新た に確認された場合は順次追加していくこと。 注４：横断目地の変状は前の覆工スパン番号で計上すること。 注５：１枚に収まらない場合は、複数枚に分けて作成すること。
C28: ※1 トンネル本体工の変状数は、材質劣化、漏水に起因するものは変状単位で、外力に起因するものはスパン単位で計上すること。
C29: ※2 本体工の変状に対しては、健全性の判定区分Ⅱ～Ⅳについて表記すること。なお、初回点検（H26以降）以降に、措置が行われた結果、
C30: Ⅰと判定された箇所についても記載すること。
C31: ※3 附属物の取付状態の○欄については、応急措置前に判定区分×とした箇所のうち応急措置により○判定とした箇所の数を記入すること。
C32: ※4 附属物の異常番号は、本体工と番号が重複しないよう101番以降とする等の配慮を行い、分かりやすく記録すること。
B33: トンネル変状・異常箇所写真位置図
P40: 注１：本位置図は、見下げた状態で記載すること。 注２：覆工スパン番号は横断目地毎(矢板工法の場合は上半アーチ の横断目地毎)に設定すること。 注３：写真番号に付する変状番号は、各覆工スパンの変状に対して新た に確認された場合は順次追加していくこと。 注４：横断目地の変状は前の覆工スパン番号で計上すること。 注５：１枚に収まらない場合は、複数枚に分けて作成すること。
C42: ※1 トンネル本体工の変状数は、材質劣化、漏水に起因するものは変状単位で、外力に起因するものはスパン単位で計上すること。
C43: ※2 本体工の変状に対しては、健全性の判定区分Ⅱ～Ⅳについて表記すること。なお、初回点検（H26以降）以降に、措置が行われた結果、
C44: Ⅰと判定された箇所についても記載すること。
C45: ※3 附属物の取付状態の○欄については、応急措置前に判定区分×とした箇所のうち応急措置により○判定とした箇所の数を記入すること。
C46: ※4 附属物の異常番号は、本体工と番号が重複しないよう101番以降とする等の配慮を行い、分かりやすく記録すること。
B47: トンネル変状・異常箇所写真位置図
P54: 注１：本位置図は、見下げた状態で記載すること。 注２：覆工スパン番号は横断目地毎(矢板工法の場合は上半アーチ の横断目地毎)に設定すること。 注３：写真番号に付する変状番号は、各覆工スパンの変状に対して新た に確認された場合は順次追加していくこと。 注４：横断目地の変状は前の覆工スパン番号で計上すること。 注５：１枚に収まらない場合は、複数枚に分けて作成すること。
C56: ※1 トンネル本体工の変状数は、材質劣化、漏水に起因するものは変状単位で、外力に起因するものはスパン単位で計上すること。
C57: ※2 本体工の変状に対しては、健全性の判定区分Ⅱ～Ⅳについて表記すること。なお、初回点検（H26以降）以降に、措置が行われた結果、
C58: Ⅰと判定された箇所についても記載すること。
C59: ※3 附属物の取付状態の○欄については、応急措置前に判定区分×とした箇所のうち応急措置により○判定とした箇所の数を記入すること。
C60: ※4 附属物の異常番号は、本体工と番号が重複しないよう101番以降とする等の配慮を行い、分かりやすく記録すること。
B61: トンネル変状・異常箇所写真位置図
P68: 注１：本位置図は、見下げた状態で記載すること。 注２：覆工スパン番号は横断目地毎(矢板工法の場合は上半アーチ の横断目地毎)に設定すること。 注３：写真番号に付する変状番号は、各覆工スパンの変状に対して新た に確認された場合は順次追加していくこと。 注４：横断目地の変状は前の覆工スパン番号で計上すること。 注５：１枚に収まらない場合は、複数枚に分けて作成すること。
C70: ※1 トンネル本体工の変状数は、材質劣化、漏水に起因するものは変状単位で、外力に起因するものはスパン単位で計上すること。
C71: ※2 本体工の変状に対しては、健全性の判定区分Ⅱ～Ⅳについて表記すること。なお、初回点検（H26以降）以降に、措置が行われた結果、
C72: Ⅰと判定された箇所についても記載すること。
C73: ※3 附属物の取付状態の○欄については、応急措置前に判定区分×とした箇所のうち応急措置により○判定とした箇所の数を記入すること。
C74: ※4 附属物の異常番号は、本体工と番号が重複しないよう101番以降とする等の配慮を行い、分かりやすく記録すること。
B75: トンネル変状・異常箇所写真位置図
...

Sheet 様式C-1-1
B2: ■定期点検記録様式 全スパン定期点検結果総括表（トンネル本体工） 【様式C-1-1】
B3: フリガナ | F3: ='様式A-1'!$D$3 -> ユノセトンネル | I3: 路線名 | K3: ='様式A-1'!$J$3 -> 一般県道長門峡線 | O3: 定期点検業者 | Q3: =様式B!$K$5 -> 日本工営株式会社 | U3: 定期点検年月日 | Y3: =様式B!$Q$5 -> 45240
B4: 名 称 | F4: ='様式A-1'!$D$4 -> 湯之瀬トンネル | I4: 管理者名 | K4: ='様式A-1'!$R$3 -> 山口県萩土木事務所 | O4: 定期点検者名 | Q4: =様式B!$K$6 -> 横山真一郎
C5: 覆工 スパン 番号 | E5: 変状 番号 | F5: 距離 （m） | G5: 変状部位 | I5: 変 状 の 内 容 | O5: 前回定期点検時の状態 | Q5: 今回定期点検結果 | U5: 措置履歴 | Z5: 対応方針 ・ 特記事項
G7: 対象箇所 | H7: 部位区分 | I7: 変状区分 | J7: 変状種類 | M7: 変状の発生範囲の規模 | N7: 前回定期点検時 との比較 | O7: 状態 | P7: 健全性 | Q7: 対策区分 | S7: 調査の 要否 | T7: 措置の 要否 | U7: 実施 | V7: 措置の実施状況
Q8: 応急措置前 | R8: 応急措置後
B9: 定期点検結果 | C9: =IFERROR(VLOOKUP(AB9,'様式C-1-1用'!$A$4:$AH$1073,4,0),0) -> 1 | E9: =IF(C9="","",VLOOKUP(AB9,'様式C-1-1用'!$A$4:$AH$1073,5,0)) -> 1 | F9: =IF(C9="","",VLOOKUP(AB9,'様式C-1-1用'!$A$4:$AH$1073,6,0)) -> 11.772 | G9: =IFERROR(VLOOKUP(AB9,'様式C-1-1用'!$A$4:$AH$1073,7,0),"") -> 覆工・坑門 | H9: =IFERROR(VLOOKUP(AB9,'様式C-1-1用'!$A$4:$AH$1073,8,0),"") -> 側壁（左側） | I9: =IFERROR(VLOOKUP(AB9,'様式C-1-1用'!$A$4:$AH$1073,9,0),"") -> 材質劣化 | J9: =IFERROR(VLOOKUP(AB9,'様式C-1-1用'!$A$4:$AH$1073,10),"") -> うき・はく離 | M9: =IFERROR(VLOOKUP(AB9,'様式C-1-1用'!$A$4:$AH$1073,17,0),"") -> 0.1m×7.5m | N9: =IFERROR(VLOOKUP(AB9,'様式C-1-1用'!$A$4:$AH$1073,20,0),"") -> 進行が認められない | O9: =IFERROR(VLOOKUP(AB9,'様式C-1-1用'!$A$4:$AH$1073,21,0),"") -> 対策区分判定Ⅱb | P9: =IFERROR(VLOOKUP(AB9,'様式C-1-1用'!$A$4:$AH$1073,22,0),"") -> Ⅱ | Q9: =IFERROR(VLOOKUP(AB9,'様式C-1-1用'!$A$4:$AH$1073,23),"") -> 0 | R9: =IFERROR(VLOOKUP(AB9,'様式C-1-1用'!$A$4:$AH$1073,24,0),"") -> Ⅱb | S9: =IFERROR(VLOOKUP(AB9,'様式C-1-1用'!$A$4:$AH$1073,27,0),"") -> 否 | T9: =IFERROR(VLOOKUP(AB9,'様式C-1-1用'!$A$4:$AH$976,28,0),"") -> 要監視 | U9: =IFERROR(VLOOKUP(AB9,'様式C-1-1用'!$A$4:$AH$976,29,0),"") -> 継続 | V9: =IFERROR(VLOOKUP(AB9,'様式C-1-1用'!$A$4:$AH$976,30,0),"") -> 監視（日常巡視） | Z9: =IFERROR(VLOOKUP(AB9,'様式C-1-1用'!$A$4:$AH$976,32,0),"") -> 継続監視 | AB9: 1
C10: =IFERROR(VLOOKUP(AB10,'様式C-1-1用'!$A$4:$AH$1073,4,0),0) -> 1 | E10: =IF(C10="","",VLOOKUP(AB10,'様式C-1-1用'!$A$4:$AH$1073,5,0)) -> 5 | F10: =IF(C10="","",VLOOKUP(AB10,'様式C-1-1用'!$A$4:$AH$1073,6)) -> 11.772 | G10: =IFERROR(VLOOKUP(AB10,'様式C-1-1用'!$A$4:$AH$1073,7,0),"") -> 覆工・坑門 | H10: =IFERROR(VLOOKUP(AB10,'様式C-1-1用'!$A$4:$AH$1073,8,0),"") -> アーチ（左側） | I10: =IFERROR(VLOOKUP(AB10,'様式C-1-1用'!$A$4:$AH$1073,9,0),"") -> 漏水 | J10: =IFERROR(VLOOKUP(AB10,'様式C-1-1用'!$A$4:$AH$1073,10),"") -> 漏水 | M10: =IFERROR(VLOOKUP(AB10,'様式C-1-1用'!$A$4:$AH$1073,17,0),"") -> 0.8m×6.8m にじみ | N10: =IFERROR(VLOOKUP(AB10,'様式C-1-1用'!$A$4:$AH$1073,20,0),"") -> 進行が認められない | O10: =IFERROR(VLOOKUP(AB10,'様式C-1-1用'!$A$4:$AH$1073,21,0),"") -> 対策区分判定Ⅱb | P10: =IFERROR(VLOOKUP(AB10,'様式C-1-1用'!$A$4:$AH$1073,22,0),"") -> Ⅱ | Q10: =IFERROR(VLOOKUP(AB10,'様式C-1-1用'!$A$4:$AH$1073,23),"") -> 0 | R10: =IFERROR(VLOOKUP(AB10,'様式C-1-1用'!$A$4:$AH$1073,24,0),"") -> Ⅱb | S10: =IFERROR(VLOOKUP(AB10,'様式C-1-1用'!$A$4:$AH$1073,27,0),"") -> 否 | T10: =IFERROR(VLOOKUP(AB10,'様式C-1-1用'!$A$4:$AH$976,28,0),"") -> 要監視 | U10: =IFERROR(VLOOKUP(AB10,'様式C-1-1用'!$A$4:$AH$976,29,0),"") -> 継続 | V10: =IFERROR(VLOOKUP(AB10,'様式C-1-1用'!$A$4:$AH$976,30,0),"") -> 監視（日常巡視） | Z10: =IFERROR(VLOOKUP(AB10,'様式C-1-1用'!$A$4:$AH$976,32,0),"") -> 継続監視 | AB10: =AB9+1 -> 2
C11: =IFERROR(VLOOKUP(AB11,'様式C-1-1用'!$A$4:$AH$1073,4,0),0) -> 1 | E11: =IF(C11="","",VLOOKUP(AB11,'様式C-1-1用'!$A$4:$AH$1073,5,0)) -> 6 | F11: =IF(C11="","",VLOOKUP(AB11,'様式C-1-1用'!$A$4:$AH$1073,6)) -> 11.772 | G11: =IFERROR(VLOOKUP(AB11,'様式C-1-1用'!$A$4:$AH$1073,7,0),"") -> 覆工・坑門 | H11: =IFERROR(VLOOKUP(AB11,'様式C-1-1用'!$A$4:$AH$1073,8,0),"") -> アーチ（右側） | I11: =IFERROR(VLOOKUP(AB11,'様式C-1-1用'!$A$4:$AH$1073,9,0),"") -> 漏水 | J11: =IFERROR(VLOOKUP(AB11,'様式C-1-1用'!$A$4:$AH$1073,10),"") -> 漏水 | M11: =IFERROR(VLOOKUP(AB11,'様式C-1-1用'!$A$4:$AH$1073,17,0),"") -> 0.6m×8.3m にじみ | N11: =IFERROR(VLOOKUP(AB11,'様式C-1-1用'!$A$4:$AH$1073,20,0),"") -> 進行が認められない | O11: =IFERROR(VLOOKUP(AB11,'様式C-1-1用'!$A$4:$AH$1073,21,0),"") -> 対策区分判定Ⅱb | P11: =IFERROR(VLOOKUP(AB11,'様式C-1-1用'!$A$4:$AH$1073,22,0),"") -> Ⅱ | Q11: =IFERROR(VLOOKUP(AB11,'様式C-1-1用'!$A$4:$AH$1073,23),"") -> 0 | R11: =IFERROR(VLOOKUP(AB11,'様式C-1-1用'!$A$4:$AH$1073,24,0),"") -> Ⅱb | S11: =IFERROR(VLOOKUP(AB11,'様式C-1-1用'!$A$4:$AH$1073,27,0),"") -> 否 | T11: =IFERROR(VLOOKUP(AB11,'様式C-1-1用'!$A$4:$AH$976,28,0),"") -> 要監視 | U11: =IFERROR(VLOOKUP(AB11,'様式C-1-1用'!$A$4:$AH$976,29,0),"") -> 継続 | V11: =IFERROR(VLOOKUP(AB11,'様式C-1-1用'!$A$4:$AH$976,30,0),"") -> 監視（日常巡視） | Z11: =IFERROR(VLOOKUP(AB11,'様式C-1-1用'!$A$4:$AH$976,32,0),"") -> 継続監視 | AB11: =AB10+1 -> 3
C12: =IFERROR(VLOOKUP(AB12,'様式C-1-1用'!$A$4:$AH$1073,4,0),0) -> 1 | E12: =IF(C12="","",VLOOKUP(AB12,'様式C-1-1用'!$A$4:$AH$1073,5,0)) -> 7 | F12: =IF(C12="","",VLOOKUP(AB12,'様式C-1-1用'!$A$4:$AH$1073,6)) -> 11.772 | G12: =IFERROR(VLOOKUP(AB12,'様式C-1-1用'!$A$4:$AH$1073,7,0),"") -> 覆工・坑門 | H12: =IFERROR(VLOOKUP(AB12,'様式C-1-1用'!$A$4:$AH$1073,8,0),"") -> アーチ（右側） | I12: =IFERROR(VLOOKUP(AB12,'様式C-1-1用'!$A$4:$AH$1073,9,0),"") -> 材質劣化 | J12: =IFERROR(VLOOKUP(AB12,'様式C-1-1用'!$A$4:$AH$1073,10),"") -> 補修跡 | M12: =IFERROR(VLOOKUP(AB12,'様式C-1-1用'!$A$4:$AH$1073,17,0),"") -> 15.6m×0.4m 導水工 | N12: =IFERROR(VLOOKUP(AB12,'様式C-1-1用'!$A$4:$AH$1073,20,0),"") -> 対策済 | O12: =IFERROR(VLOOKUP(AB12,'様式C-1-1用'!$A$4:$AH$1073,21,0),"") -> 対策区分判定Ⅱa | P12: =IFERROR(VLOOKUP(AB12,'様式C-1-1用'!$A$4:$AH$1073,22,0),"") -> Ⅱ | Q12: =IFERROR(VLOOKUP(AB12,'様式C-1-1用'!$A$4:$AH$1073,23),"") -> 0 | R12: =IFERROR(VLOOKUP(AB12,'様式C-1-1用'!$A$4:$AH$1073,24,0),"") -> Ⅰ | S12: =IFERROR(VLOOKUP(AB12,'様式C-1-1用'!$A$4:$AH$1073,27,0),"") -> 否 | T12: =IFERROR(VLOOKUP(AB12,'様式C-1-1用'!$A$4:$AH$976,28,0),"") -> 否 | U12: =IFERROR(VLOOKUP(AB12,'様式C-1-1用'!$A$4:$AH$976,29,0),"") -> 済 | V12: =IFERROR(VLOOKUP(AB12,'様式C-1-1用'!$A$4:$AH$976,30,0),"") -> － | Z12: =IFERROR(VLOOKUP(AB12,'様式C-1-1用'!$A$4:$AH$976,32,0),"") -> － | AB12: =AB11+1 -> 4
C13: =IFERROR(VLOOKUP(AB13,'様式C-1-1用'!$A$4:$AH$1073,4,0),0) -> 1 | E13: =IF(C13="","",VLOOKUP(AB13,'様式C-1-1用'!$A$4:$AH$1073,5,0)) -> 8 | F13: =IF(C13="","",VLOOKUP(AB13,'様式C-1-1用'!$A$4:$AH$1073,6)) -> 11.772 | G13: =IFERROR(VLOOKUP(AB13,'様式C-1-1用'!$A$4:$AH$1073,7,0),"") -> 覆工・坑門 | H13: =IFERROR(VLOOKUP(AB13,'様式C-1-1用'!$A$4:$AH$1073,8,0),"") -> 側壁（右側） | I13: =IFERROR(VLOOKUP(AB13,'様式C-1-1用'!$A$4:$AH$1073,9,0),"") -> 材質劣化 | J13: =IFERROR(VLOOKUP(AB13,'様式C-1-1用'!$A$4:$AH$1073,10),"") -> うき・はく離 | M13: =IFERROR(VLOOKUP(AB13,'様式C-1-1用'!$A$4:$AH$1073,17,0),"") -> 0.2m×1.5m | N13: =IFERROR(VLOOKUP(AB13,'様式C-1-1用'!$A$4:$AH$1073,20,0),"") -> 進行が認められない | O13: =IFERROR(VLOOKUP(AB13,'様式C-1-1用'!$A$4:$AH$1073,21,0),"") -> 対策区分判定Ⅱb | P13: =IFERROR(VLOOKUP(AB13,'様式C-1-1用'!$A$4:$AH$1073,22,0),"") -> Ⅱ | Q13: =IFERROR(VLOOKUP(AB13,'様式C-1-1用'!$A$4:$AH$1073,23),"") -> 0 | R13: =IFERROR(VLOOKUP(AB13,'様式C-1-1用'!$A$4:$AH$1073,24,0),"") -> Ⅱb | S13: =IFERROR(VLOOKUP(AB13,'様式C-1-1用'!$A$4:$AH$1073,27,0),"") -> 否 | T13: =IFERROR(VLOOKUP(AB13,'様式C-1-1用'!$A$4:$AH$976,28,0),"") -> 要監視 | U13: =IFERROR(VLOOKUP(AB13,'様式C-1-1用'!$A$4:$AH$976,29,0),"") -> 継続 | V13: =IFERROR(VLOOKUP(AB13,'様式C-1-1用'!$A$4:$AH$976,30,0),"") -> 監視（日常巡視） | Z13: =IFERROR(VLOOKUP(AB13,'様式C-1-1用'!$A$4:$AH$976,32,0),"") -> 継続監視 | AB13: =AB12+1 -> 5
C14: =IFERROR(VLOOKUP(AB14,'様式C-1-1用'!$A$4:$AH$1073,4,0),0) -> 1 | E14: =IF(C14="","",VLOOKUP(AB14,'様式C-1-1用'!$A$4:$AH$1073,5,0)) -> 10 | F14: =IF(C14="","",VLOOKUP(AB14,'様式C-1-1用'!$A$4:$AH$1073,6)) -> 11.772 | G14: =IFERROR(VLOOKUP(AB14,'様式C-1-1用'!$A$4:$AH$1073,7,0),"") -> 路面 | H14: =IFERROR(VLOOKUP(AB14,'様式C-1-1用'!$A$4:$AH$1073,8,0),"") -> 監査歩廊 | I14: =IFERROR(VLOOKUP(AB14,'様式C-1-1用'!$A$4:$AH$1073,9,0),"") -> 材質劣化 | J14: =IFERROR(VLOOKUP(AB14,'様式C-1-1用'!$A$4:$AH$1073,10),"") -> 欠損 | M14: =IFERROR(VLOOKUP(AB14,'様式C-1-1用'!$A$4:$AH$1073,17,0),"") -> 0.5m×0.5m | N14: =IFERROR(VLOOKUP(AB14,'様式C-1-1用'!$A$4:$AH$1073,20,0),"") -> 進行が認められない | O14: =IFERROR(VLOOKUP(AB14,'様式C-1-1用'!$A$4:$AH$1073,21,0),"") -> 対策区分判定Ⅱb | P14: =IFERROR(VLOOKUP(AB14,'様式C-1-1用'!$A$4:$AH$1073,22,0),"") -> Ⅱ | Q14: =IFERROR(VLOOKUP(AB14,'様式C-1-1用'!$A$4:$AH$1073,23),"") -> 0 | R14: =IFERROR(VLOOKUP(AB14,'様式C-1-1用'!$A$4:$AH$1073,24,0),"") -> － | S14: =IFERROR(VLOOKUP(AB14,'様式C-1-1用'!$A$4:$AH$1073,27,0),"") -> － | T14: － | U14: =IFERROR(VLOOKUP(AB14,'様式C-1-1用'!$A$4:$AH$976,29,0),"") -> － | V14: =IFERROR(VLOOKUP(AB14,'様式C-1-1用'!$A$4:$AH$976,30,0),"") -> － | Z14: =IFERROR(VLOOKUP(AB14,'様式C-1-1用'!$A$4:$AH$976,32,0),"") -> － | AB14: =AB13+1 -> 6
C15: =IFERROR(VLOOKUP(AB15,'様式C-1-1用'!$A$4:$AH$1073,4,0),0) -> 1 | E15: =IF(C15="","",VLOOKUP(AB15,'様式C-1-1用'!$A$4:$AH$1073,5,0)) -> 11 | F15: =IF(C15="","",VLOOKUP(AB15,'様式C-1-1用'!$A$4:$AH$1073,6)) -> 11.772 | G15: =IFERROR(VLOOKUP(AB15,'様式C-1-1用'!$A$4:$AH$1073,7,0),"") -> 覆工・坑門 | H15: =IFERROR(VLOOKUP(AB15,'様式C-1-1用'!$A$4:$AH$1073,8,0),"") -> 側壁（右側） | I15: =IFERROR(VLOOKUP(AB15,'様式C-1-1用'!$A$4:$AH$1073,9,0),"") -> 材質劣化 | J15: =IFERROR(VLOOKUP(AB15,'様式C-1-1用'!$A$4:$AH$1073,10),"") -> うき・はく離 | M15: =IFERROR(VLOOKUP(AB15,'様式C-1-1用'!$A$4:$AH$1073,17,0),"") -> 2.7m×0.1m | N15: =IFERROR(VLOOKUP(AB15,'様式C-1-1用'!$A$4:$AH$1073,20,0),"") -> 新規確認 | O15: =IFERROR(VLOOKUP(AB15,'様式C-1-1用'!$A$4:$AH$1073,21,0),"") -> － | P15: =IFERROR(VLOOKUP(AB15,'様式C-1-1用'!$A$4:$AH$1073,22,0),"") -> － | Q15: =IFERROR(VLOOKUP(AB15,'様式C-1-1用'!$A$4:$AH$1073,23),"") -> 0 | R15: =IFERROR(VLOOKUP(AB15,'様式C-1-1用'!$A$4:$AH$1073,24,0),"") -> Ⅱb | S15: =IFERROR(VLOOKUP(AB15,'様式C-1-1用'!$A$4:$AH$1073,27,0),"") -> 否 | T15: =IFERROR(VLOOKUP(AB15,'様式C-1-1用'!$A$4:$AH$976,28,0),"") -> 要監視 | U15: =IFERROR(VLOOKUP(AB15,'様式C-1-1用'!$A$4:$AH$976,29,0),"") -> 未 | V15: =IFERROR(VLOOKUP(AB15,'様式C-1-1用'!$A$4:$AH$976,30,0),"") -> － | Z15: =IFERROR(VLOOKUP(AB15,'様式C-1-1用'!$A$4:$AH$976,32,0),"") -> 継続監視 | AB15: =AB14+1 -> 7
C16: =IFERROR(VLOOKUP(AB16,'様式C-1-1用'!$A$4:$AH$1073,4,0),0) -> 2 | E16: =IF(C16="","",VLOOKUP(AB16,'様式C-1-1用'!$A$4:$AH$1073,5,0)) -> 1 | F16: =IF(C16="","",VLOOKUP(AB16,'様式C-1-1用'!$A$4:$AH$1073,6)) -> 20.712 | G16: =IFERROR(VLOOKUP(AB16,'様式C-1-1用'!$A$4:$AH$1073,7,0),"") -> 覆工・坑門 | H16: =IFERROR(VLOOKUP(AB16,'様式C-1-1用'!$A$4:$AH$1073,8,0),"") -> アーチ（左側） | I16: =IFERROR(VLOOKUP(AB16,'様式C-1-1用'!$A$4:$AH$1073,9,0),"") -> 材質劣化 | J16: =IFERROR(VLOOKUP(AB16,'様式C-1-1用'!$A$4:$AH$1073,10),"") -> はく落 | M16: =IFERROR(VLOOKUP(AB16,'様式C-1-1用'!$A$4:$AH$1073,17,0),"") -> 0.4m×0.1m | N16: =IFERROR(VLOOKUP(AB16,'様式C-1-1用'!$A$4:$AH$1073,20,0),"") -> うき→はく落 | O16: =IFERROR(VLOOKUP(AB16,'様式C-1-1用'!$A$4:$AH$1073,21,0),"") -> 対策区分判定Ⅱa | P16: =IFERROR(VLOOKUP(AB16,'様式C-1-1用'!$A$4:$AH$1073,22,0),"") -> Ⅱ | Q16: =IFERROR(VLOOKUP(AB16,'様式C-1-1用'!$A$4:$AH$1073,23),"") -> 0 | R16: =IFERROR(VLOOKUP(AB16,'様式C-1-1用'!$A$4:$AH$1073,24,0),"") -> Ⅰ | S16: =IFERROR(VLOOKUP(AB16,'様式C-1-1用'!$A$4:$AH$1073,27,0),"") -> 否 | T16: =IFERROR(VLOOKUP(AB16,'様式C-1-1用'!$A$4:$AH$976,28,0),"") -> 否 | U16: =IFERROR(VLOOKUP(AB16,'様式C-1-1用'!$A$4:$AH$976,29,0),"") -> 済 | V16: =IFERROR(VLOOKUP(AB16,'様式C-1-1用'!$A$4:$AH$976,30,0),"") -> － | Z16: =IFERROR(VLOOKUP(AB16,'様式C-1-1用'!$A$4:$AH$976,32,0),"") -> － | AB16: =AB15+1 -> 8
C17: =IFERROR(VLOOKUP(AB17,'様式C-1-1用'!$A$4:$AH$1073,4,0),0) -> 2 | E17: =IF(C17="","",VLOOKUP(AB17,'様式C-1-1用'!$A$4:$AH$1073,5,0)) -> 2 | F17: =IF(C17="","",VLOOKUP(AB17,'様式C-1-1用'!$A$4:$AH$1073,6)) -> 20.712 | G17: =IFERROR(VLOOKUP(AB17,'様式C-1-1用'!$A$4:$AH$1073,7,0),"") -> 覆工・坑門 | H17: =IFERROR(VLOOKUP(AB17,'様式C-1-1用'!$A$4:$AH$1073,8,0),"") -> アーチ（右側） | I17: =IFERROR(VLOOKUP(AB17,'様式C-1-1用'!$A$4:$AH$1073,9,0),"") -> 漏水 | J17: =IFERROR(VLOOKUP(AB17,'様式C-1-1用'!$A$4:$AH$1073,10),"") -> 漏水 | M17: =IFERROR(VLOOKUP(AB17,'様式C-1-1用'!$A$4:$AH$1073,17,0),"") -> 0.6m×6.8m にじみ | N17: =IFERROR(VLOOKUP(AB17,'様式C-1-1用'!$A$4:$AH$1073,20,0),"") -> 進行が認められない | O17: =IFERROR(VLOOKUP(AB17,'様式C-1-1用'!$A$4:$AH$1073,21,0),"") -> 対策区分判定Ⅱb | P17: =IFERROR(VLOOKUP(AB17,'様式C-1-1用'!$A$4:$AH$1073,22,0),"") -> Ⅱ | Q17: =IFERROR(VLOOKUP(AB17,'様式C-1-1用'!$A$4:$AH$1073,23),"") -> 0 | R17: =IFERROR(VLOOKUP(AB17,'様式C-1-1用'!$A$4:$AH$1073,24,0),"") -> Ⅱb | S17: =IFERROR(VLOOKUP(AB17,'様式C-1-1用'!$A$4:$AH$1073,27,0),"") -> 否 | T17: =IFERROR(VLOOKUP(AB17,'様式C-1-1用'!$A$4:$AH$976,28,0),"") -> 要監視 | U17: =IFERROR(VLOOKUP(AB17,'様式C-1-1用'!$A$4:$AH$976,29,0),"") -> 継続 | V17: =IFERROR(VLOOKUP(AB17,'様式C-1-1用'!$A$4:$AH$976,30,0),"") -> 監視（日常巡視） | Z17: =IFERROR(VLOOKUP(AB17,'様式C-1-1用'!$A$4:$AH$976,32,0),"") -> 継続監視 | AB17: =AB16+1 -> 9
C18: =IFERROR(VLOOKUP(AB18,'様式C-1-1用'!$A$4:$AH$1073,4,0),0) -> 2 | E18: =IF(C18="","",VLOOKUP(AB18,'様式C-1-1用'!$A$4:$AH$1073,5,0)) -> 3 | F18: =IF(C18="","",VLOOKUP(AB18,'様式C-1-1用'!$A$4:$AH$1073,6)) -> 20.712 | G18: =IFERROR(VLOOKUP(AB18,'様式C-1-1用'!$A$4:$AH$1073,7,0),"") -> 路面 | H18: =IFERROR(VLOOKUP(AB18,'様式C-1-1用'!$A$4:$AH$1073,8,0),"") -> 監査歩廊 | I18: =IFERROR(VLOOKUP(AB18,'様式C-1-1用'!$A$4:$AH$1073,9,0),"") -> 材質劣化 | J18: =IFERROR(VLOOKUP(AB18,'様式C-1-1用'!$A$4:$AH$1073,10),"") -> 欠損 | M18: =IFERROR(VLOOKUP(AB18,'様式C-1-1用'!$A$4:$AH$1073,17,0),"") -> 0.5m×0.2m 内部鉄筋露出 | N18: =IFERROR(VLOOKUP(AB18,'様式C-1-1用'!$A$4:$AH$1073,20,0),"") -> 進行が認められない | O18: =IFERROR(VLOOKUP(AB18,'様式C-1-1用'!$A$4:$AH$1073,21,0),"") -> 対策区分判定Ⅱb | P18: =IFERROR(VLOOKUP(AB18,'様式C-1-1用'!$A$4:$AH$1073,22,0),"") -> Ⅱ | Q18: =IFERROR(VLOOKUP(AB18,'様式C-1-1用'!$A$4:$AH$1073,23),"") -> 0 | R18: =IFERROR(VLOOKUP(AB18,'様式C-1-1用'!$A$4:$AH$1073,24,0),"") -> － | S18: =IFERROR(VLOOKUP(AB18,'様式C-1-1用'!$A$4:$AH$1073,27,0),"") -> － | T18: － | U18: =IFERROR(VLOOKUP(AB18,'様式C-1-1用'!$A$4:$AH$976,29,0),"") -> － | V18: =IFERROR(VLOOKUP(AB18,'様式C-1-1用'!$A$4:$AH$976,30,0),"") -> － | Z18: =IFERROR(VLOOKUP(AB18,'様式C-1-1用'!$A$4:$AH$976,32,0),"") -> － | AB18: =AB17+1 -> 10
C19: =IFERROR(VLOOKUP(AB19,'様式C-1-1用'!$A$4:$AH$1073,4,0),0) -> 2 | E19: =IF(C19="","",VLOOKUP(AB19,'様式C-1-1用'!$A$4:$AH$1073,5,0)) -> 4 | F19: =IF(C19="","",VLOOKUP(AB19,'様式C-1-1用'!$A$4:$AH$1073,6)) -> 20.712 | G19: =IFERROR(VLOOKUP(AB19,'様式C-1-1用'!$A$4:$AH$1073,7,0),"") -> 路面 | H19: =IFERROR(VLOOKUP(AB19,'様式C-1-1用'!$A$4:$AH$1073,8,0),"") -> 監査歩廊 | I19: =IFERROR(VLOOKUP(AB19,'様式C-1-1用'!$A$4:$AH$1073,9,0),"") -> 材質劣化 | J19: =IFERROR(VLOOKUP(AB19,'様式C-1-1用'!$A$4:$AH$1073,10),"") -> 欠損 | M19: =IFERROR(VLOOKUP(AB19,'様式C-1-1用'!$A$4:$AH$1073,17,0),"") -> 0.5m×0.1m 内部鉄筋露出 | N19: =IFERROR(VLOOKUP(AB19,'様式C-1-1用'!$A$4:$AH$1073,20,0),"") -> 進行が認められない | O19: =IFERROR(VLOOKUP(AB19,'様式C-1-1用'!$A$4:$AH$1073,21,0),"") -> 対策区分判定Ⅱb | P19: =IFERROR(VLOOKUP(AB19,'様式C-1-1用'!$A$4:$AH$1073,22,0),"") -> Ⅱ | Q19: =IFERROR(VLOOKUP(AB19,'様式C-1-1用'!$A$4:$AH$1073,23),"") -> 0 | R19: =IFERROR(VLOOKUP(AB19,'様式C-1-1用'!$A$4:$AH$1073,24,0),"") -> － | S19: =IFERROR(VLOOKUP(AB19,'様式C-1-1用'!$A$4:$AH$1073,27,0),"") -> － | T19: － | U19: =IFERROR(VLOOKUP(AB19,'様式C-1-1用'!$A$4:$AH$976,29,0),"") -> － | V19: =IFERROR(VLOOKUP(AB19,'様式C-1-1用'!$A$4:$AH$976,30,0),"") -> － | Z19: =IFERROR(VLOOKUP(AB19,'様式C-1-1用'!$A$4:$AH$976,32,0),"") -> － | AB19: =AB18+1 -> 11
C20: =IFERROR(VLOOKUP(AB20,'様式C-1-1用'!$A$4:$AH$1073,4,0),0) -> 2 | E20: =IF(C20="","",VLOOKUP(AB20,'様式C-1-1用'!$A$4:$AH$1073,5,0)) -> 5 | F20: =IF(C20="","",VLOOKUP(AB20,'様式C-1-1用'!$A$4:$AH$1073,6)) -> 20.712 | G20: =IFERROR(VLOOKUP(AB20,'様式C-1-1用'!$A$4:$AH$1073,7,0),"") -> 路面 | H20: =IFERROR(VLOOKUP(AB20,'様式C-1-1用'!$A$4:$AH$1073,8,0),"") -> 車道 | I20: =IFERROR(VLOOKUP(AB20,'様式C-1-1用'!$A$4:$AH$1073,9,0),"") -> 漏水 | J20: =IFERROR(VLOOKUP(AB20,'様式C-1-1用'!$A$4:$AH$1073,10),"") -> 漏水 | M20: =IFERROR(VLOOKUP(AB20,'様式C-1-1用'!$A$4:$AH$1073,17,0),"") -> 1.0m×0.9m 遊離石灰 | N20: =IFERROR(VLOOKUP(AB20,'様式C-1-1用'!$A$4:$AH$1073,20,0),"") -> 進行が認められない | O20: =IFERROR(VLOOKUP(AB20,'様式C-1-1用'!$A$4:$AH$1073,21,0),"") -> 対策区分判定Ⅱb | P20: =IFERROR(VLOOKUP(AB20,'様式C-1-1用'!$A$4:$AH$1073,22,0),"") -> Ⅱ | Q20: =IFERROR(VLOOKUP(AB20,'様式C-1-1用'!$A$4:$AH$1073,23),"") -> 0 | R20: =IFERROR(VLOOKUP(AB20,'様式C-1-1用'!$A$4:$AH$1073,24,0),"") -> － | S20: =IFERROR(VLOOKUP(AB20,'様式C-1-1用'!$A$4:$AH$1073,27,0),"") -> － | T20: － | U20: =IFERROR(VLOOKUP(AB20,'様式C-1-1用'!$A$4:$AH$976,29,0),"") -> － | V20: =IFERROR(VLOOKUP(AB20,'様式C-1-1用'!$A$4:$AH$976,30,0),"") -> － | Z20: =IFERROR(VLOOKUP(AB20,'様式C-1-1用'!$A$4:$AH$976,32,0),"") -> － | AB20: =AB19+1 -> 12
C21: =IFERROR(VLOOKUP(AB21,'様式C-1-1用'!$A$4:$AH$1073,4,0),0) -> 2 | E21: =IF(C21="","",VLOOKUP(AB21,'様式C-1-1用'!$A$4:$AH$1073,5,0)) -> 6 | F21: =IF(C21="","",VLOOKUP(AB21,'様式C-1-1用'!$A$4:$AH$1073,6)) -> 20.712 | G21: =IFERROR(VLOOKUP(AB21,'様式C-1-1用'!$A$4:$AH$1073,7,0),"") -> 路面 | H21: =IFERROR(VLOOKUP(AB21,'様式C-1-1用'!$A$4:$AH$1073,8,0),"") -> 監査歩廊 | I21: =IFERROR(VLOOKUP(AB21,'様式C-1-1用'!$A$4:$AH$1073,9,0),"") -> 材質劣化 | J21: =IFERROR(VLOOKUP(AB21,'様式C-1-1用'!$A$4:$AH$1073,10),"") -> 欠損 | M21: =IFERROR(VLOOKUP(AB21,'様式C-1-1用'!$A$4:$AH$1073,17,0),"") -> 0.5m×0.2m | N21: =IFERROR(VLOOKUP(AB21,'様式C-1-1用'!$A$4:$AH$1073,20,0),"") -> 進行が認められない | O21: =IFERROR(VLOOKUP(AB21,'様式C-1-1用'!$A$4:$AH$1073,21,0),"") -> 対策区分判定Ⅱb | P21: =IFERROR(VLOOKUP(AB21,'様式C-1-1用'!$A$4:$AH$1073,22,0),"") -> Ⅱ | Q21: =IFERROR(VLOOKUP(AB21,'様式C-1-1用'!$A$4:$AH$1073,23),"") -> 0 | R21: =IFERROR(VLOOKUP(AB21,'様式C-1-1用'!$A$4:$AH$1073,24,0),"") -> － | S21: =IFERROR(VLOOKUP(AB21,'様式C-1-1用'!$A$4:$AH$1073,27,0),"") -> － | T21: － | U21: =IFERROR(VLOOKUP(AB21,'様式C-1-1用'!$A$4:$AH$976,29,0),"") -> － | V21: =IFERROR(VLOOKUP(AB21,'様式C-1-1用'!$A$4:$AH$976,30,0),"") -> － | Z21: =IFERROR(VLOOKUP(AB21,'様式C-1-1用'!$A$4:$AH$976,32,0),"") -> － | AB21: =AB20+1 -> 13
C22: =IFERROR(VLOOKUP(AB22,'様式C-1-1用'!$A$4:$AH$1073,4,0),0) -> 3 | E22: =IF(C22="","",VLOOKUP(AB22,'様式C-1-1用'!$A$4:$AH$1073,5,0)) -> 1 | F22: =IF(C22="","",VLOOKUP(AB22,'様式C-1-1用'!$A$4:$AH$1073,6)) -> 29.652 | G22: =IFERROR(VLOOKUP(AB22,'様式C-1-1用'!$A$4:$AH$1073,7,0),"") -> 覆工・坑門 | H22: =IFERROR(VLOOKUP(AB22,'様式C-1-1用'!$A$4:$AH$1073,8,0),"") -> アーチ（天端） | I22: =IFERROR(VLOOKUP(AB22,'様式C-1-1用'!$A$4:$AH$1073,9,0),"") -> 漏水 | J22: =IFERROR(VLOOKUP(AB22,'様式C-1-1用'!$A$4:$AH$1073,10),"") -> 補修跡 | M22: =IFERROR(VLOOKUP(AB22,'様式C-1-1用'!$A$4:$AH$1073,17,0),"") -> 15.6m×0.4m 導水工 | N22: =IFERROR(VLOOKUP(AB22,'様式C-1-1用'!$A$4:$AH$1073,20,0),"") -> 対策済 | O22: =IFERROR(VLOOKUP(AB22,'様式C-1-1用'!$A$4:$AH$1073,21,0),"") -> 対策区分判定Ⅱb | P22: =IFERROR(VLOOKUP(AB22,'様式C-1-1用'!$A$4:$AH$1073,22,0),"") -> Ⅱ | Q22: =IFERROR(VLOOKUP(AB22,'様式C-1-1用'!$A$4:$AH$1073,23),"") -> 0 | R22: =IFERROR(VLOOKUP(AB22,'様式C-1-1用'!$A$4:$AH$1073,24,0),"") -> Ⅰ | S22: =IFERROR(VLOOKUP(AB22,'様式C-1-1用'!$A$4:$AH$1073,27,0),"") -> 否 | T22: =IFERROR(VLOOKUP(AB22,'様式C-1-1用'!$A$4:$AH$976,28,0),"") -> 否 | U22: =IFERROR(VLOOKUP(AB22,'様式C-1-1用'!$A$4:$AH$976,29,0),"") -> 済 | V22: =IFERROR(VLOOKUP(AB22,'様式C-1-1用'!$A$4:$AH$976,30,0),"") -> － | Z22: =IFERROR(VLOOKUP(AB22,'様式C-1-1用'!$A$4:$AH$976,32,0),"") -> － | AB22: =AB21+1 -> 14
C23: =IFERROR(VLOOKUP(AB23,'様式C-1-1用'!$A$4:$AH$1073,4,0),0) -> 3 | E23: =IF(C23="","",VLOOKUP(AB23,'様式C-1-1用'!$A$4:$AH$1073,5,0)) -> 2 | F23: =IF(C23="","",VLOOKUP(AB23,'様式C-1-1用'!$A$4:$AH$1073,6)) -> 29.652 | G23: =IFERROR(VLOOKUP(AB23,'様式C-1-1用'!$A$4:$AH$1073,7,0),"") -> 路面 | H23: =IFERROR(VLOOKUP(AB23,'様式C-1-1用'!$A$4:$AH$1073,8,0),"") -> 監査歩廊 | I23: =IFERROR(VLOOKUP(AB23,'様式C-1-1用'!$A$4:$AH$1073,9,0),"") -> 材質劣化 | J23: =IFERROR(VLOOKUP(AB23,'様式C-1-1用'!$A$4:$AH$1073,10),"") -> 欠損 | M23: =IFERROR(VLOOKUP(AB23,'様式C-1-1用'!$A$4:$AH$1073,17,0),"") -> 0.5m×0.1m 内部鉄筋露出 | N23: =IFERROR(VLOOKUP(AB23,'様式C-1-1用'!$A$4:$AH$1073,20,0),"") -> 進行が認められない | O23: =IFERROR(VLOOKUP(AB23,'様式C-1-1用'!$A$4:$AH$1073,21,0),"") -> 対策区分判定Ⅱb | P23: =IFERROR(VLOOKUP(AB23,'様式C-1-1用'!$A$4:$AH$1073,22,0),"") -> Ⅱ | Q23: =IFERROR(VLOOKUP(AB23,'様式C-1-1用'!$A$4:$AH$1073,23),"") -> 0 | R23: =IFERROR(VLOOKUP(AB23,'様式C-1-1用'!$A$4:$AH$1073,24,0),"") -> － | S23: =IFERROR(VLOOKUP(AB23,'様式C-1-1用'!$A$4:$AH$1073,27,0),"") -> － | T23: － | U23: =IFERROR(VLOOKUP(AB23,'様式C-1-1用'!$A$4:$AH$976,29,0),"") -> － | V23: =IFERROR(VLOOKUP(AB23,'様式C-1-1用'!$A$4:$AH$976,30,0),"") -> － | Z23: =IFERROR(VLOOKUP(AB23,'様式C-1-1用'!$A$4:$AH$976,32,0),"") -> － | AB23: =AB22+1 -> 15
C24: =IFERROR(VLOOKUP(AB24,'様式C-1-1用'!$A$4:$AH$1073,4,0),0) -> 3 | E24: =IF(C24="","",VLOOKUP(AB24,'様式C-1-1用'!$A$4:$AH$1073,5,0)) -> 3 | F24: =IF(C24="","",VLOOKUP(AB24,'様式C-1-1用'!$A$4:$AH$1073,6)) -> 29.652 | G24: =IFERROR(VLOOKUP(AB24,'様式C-1-1用'!$A$4:$AH$1073,7,0),"") -> 路面 | H24: =IFERROR(VLOOKUP(AB24,'様式C-1-1用'!$A$4:$AH$1073,8,0),"") -> 車道 | I24: =IFERROR(VLOOKUP(AB24,'様式C-1-1用'!$A$4:$AH$1073,9,0),"") -> 材質劣化 | J24: =IFERROR(VLOOKUP(AB24,'様式C-1-1用'!$A$4:$AH$1073,10),"") -> うき・はく離 | M24: =IFERROR(VLOOKUP(AB24,'様式C-1-1用'!$A$4:$AH$1073,17,0),"") -> 0.2m×0.1m | N24: =IFERROR(VLOOKUP(AB24,'様式C-1-1用'!$A$4:$AH$1073,20,0),"") -> 進行が認められない | O24: =IFERROR(VLOOKUP(AB24,'様式C-1-1用'!$A$4:$AH$1073,21,0),"") -> 対策区分判定Ⅱb | P24: =IFERROR(VLOOKUP(AB24,'様式C-1-1用'!$A$4:$AH$1073,22,0),"") -> Ⅱ | Q24: =IFERROR(VLOOKUP(AB24,'様式C-1-1用'!$A$4:$AH$1073,23),"") -> 0 | R24: =IFERROR(VLOOKUP(AB24,'様式C-1-1用'!$A$4:$AH$1073,24,0),"") -> － | S24: =IFERROR(VLOOKUP(AB24,'様式C-1-1用'!$A$4:$AH$1073,27,0),"") -> － | T24: － | U24: =IFERROR(VLOOKUP(AB24,'様式C-1-1用'!$A$4:$AH$976,29,0),"") -> － | V24: =IFERROR(VLOOKUP(AB24,'様式C-1-1用'!$A$4:$AH$976,30,0),"") -> － | Z24: =IFERROR(VLOOKUP(AB24,'様式C-1-1用'!$A$4:$AH$976,32,0),"") -> － | AB24: =AB23+1 -> 16
C25: =IFERROR(VLOOKUP(AB25,'様式C-1-1用'!$A$4:$AH$1073,4,0),0) -> 3 | E25: =IF(C25="","",VLOOKUP(AB25,'様式C-1-1用'!$A$4:$AH$1073,5,0)) -> 4 | F25: =IF(C25="","",VLOOKUP(AB25,'様式C-1-1用'!$A$4:$AH$1073,6)) -> 29.652 | G25: =IFERROR(VLOOKUP(AB25,'様式C-1-1用'!$A$4:$AH$1073,7,0),"") -> 路面 | H25: =IFERROR(VLOOKUP(AB25,'様式C-1-1用'!$A$4:$AH$1073,8,0),"") -> 車道 | I25: =IFERROR(VLOOKUP(AB25,'様式C-1-1用'!$A$4:$AH$1073,9,0),"") -> 漏水 | J25: =IFERROR(VLOOKUP(AB25,'様式C-1-1用'!$A$4:$AH$1073,10),"") -> 漏水 | M25: =IFERROR(VLOOKUP(AB25,'様式C-1-1用'!$A$4:$AH$1073,17,0),"") -> 0.5m×1.1m 遊離石灰 | N25: =IFERROR(VLOOKUP(AB25,'様式C-1-1用'!$A$4:$AH$1073,20,0),"") -> 進行が認められない | O25: =IFERROR(VLOOKUP(AB25,'様式C-1-1用'!$A$4:$AH$1073,21,0),"") -> 対策区分判定Ⅱb | P25: =IFERROR(VLOOKUP(AB25,'様式C-1-1用'!$A$4:$AH$1073,22,0),"") -> Ⅱ | Q25: =IFERROR(VLOOKUP(AB25,'様式C-1-1用'!$A$4:$AH$1073,23),"") -> 0 | R25: =IFERROR(VLOOKUP(AB25,'様式C-1-1用'!$A$4:$AH$1073,24,0),"") -> － | S25: =IFERROR(VLOOKUP(AB25,'様式C-1-1用'!$A$4:$AH$1073,27,0),"") -> － | T25: － | U25: =IFERROR(VLOOKUP(AB25,'様式C-1-1用'!$A$4:$AH$976,29,0),"") -> － | V25: =IFERROR(VLOOKUP(AB25,'様式C-1-1用'!$A$4:$AH$976,30,0),"") -> － | Z25: =IFERROR(VLOOKUP(AB25,'様式C-1-1用'!$A$4:$AH$976,32,0),"") -> － | AB25: =AB24+1 -> 17
C26: =IFERROR(VLOOKUP(AB26,'様式C-1-1用'!$A$4:$AH$1073,4,0),0) -> 3 | E26: =IF(C26="","",VLOOKUP(AB26,'様式C-1-1用'!$A$4:$AH$1073,5,0)) -> 5 | F26: =IF(C26="","",VLOOKUP(AB26,'様式C-1-1用'!$A$4:$AH$1073,6)) -> 29.652 | G26: =IFERROR(VLOOKUP(AB26,'様式C-1-1用'!$A$4:$AH$1073,7,0),"") -> 路面 | H26: =IFERROR(VLOOKUP(AB26,'様式C-1-1用'!$A$4:$AH$1073,8,0),"") -> 車道 | I26: =IFERROR(VLOOKUP(AB26,'様式C-1-1用'!$A$4:$AH$1073,9,0),"") -> 材質劣化 | J26: =IFERROR(VLOOKUP(AB26,'様式C-1-1用'!$A$4:$AH$1073,10),"") -> 鉄筋露出 | M26: =IFERROR(VLOOKUP(AB26,'様式C-1-1用'!$A$4:$AH$1073,17,0),"") -> 0.4m×0.1m | N26: =IFERROR(VLOOKUP(AB26,'様式C-1-1用'!$A$4:$AH$1073,20,0),"") -> 進行が認められない | O26: =IFERROR(VLOOKUP(AB26,'様式C-1-1用'!$A$4:$AH$1073,21,0),"") -> 対策区分判定Ⅱb | P26: =IFERROR(VLOOKUP(AB26,'様式C-1-1用'!$A$4:$AH$1073,22,0),"") -> Ⅱ | Q26: =IFERROR(VLOOKUP(AB26,'様式C-1-1用'!$A$4:$AH$1073,23),"") -> 0 | R26: =IFERROR(VLOOKUP(AB26,'様式C-1-1用'!$A$4:$AH$1073,24,0),"") -> － | S26: =IFERROR(VLOOKUP(AB26,'様式C-1-1用'!$A$4:$AH$1073,27,0),"") -> － | T26: － | U26: =IFERROR(VLOOKUP(AB26,'様式C-1-1用'!$A$4:$AH$976,29,0),"") -> － | V26: =IFERROR(VLOOKUP(AB26,'様式C-1-1用'!$A$4:$AH$976,30,0),"") -> － | Z26: =IFERROR(VLOOKUP(AB26,'様式C-1-1用'!$A$4:$AH$976,32,0),"") -> － | AB26: =AB25+1 -> 18
C27: =IFERROR(VLOOKUP(AB27,'様式C-1-1用'!$A$4:$AH$1073,4,0),0) -> 3 | E27: =IF(C27="","",VLOOKUP(AB27,'様式C-1-1用'!$A$4:$AH$1073,5,0)) -> 6 | F27: =IF(C27="","",VLOOKUP(AB27,'様式C-1-1用'!$A$4:$AH$1073,6)) -> 29.652 | G27: =IFERROR(VLOOKUP(AB27,'様式C-1-1用'!$A$4:$AH$1073,7,0),"") -> 路面 | H27: =IFERROR(VLOOKUP(AB27,'様式C-1-1用'!$A$4:$AH$1073,8,0),"") -> 監査歩廊 | I27: =IFERROR(VLOOKUP(AB27,'様式C-1-1用'!$A$4:$AH$1073,9,0),"") -> 材質劣化 | J27: =IFERROR(VLOOKUP(AB27,'様式C-1-1用'!$A$4:$AH$1073,10),"") -> 欠損 | M27: =IFERROR(VLOOKUP(AB27,'様式C-1-1用'!$A$4:$AH$1073,17,0),"") -> 0.5m×0.1m 内部鉄筋露出 | N27: =IFERROR(VLOOKUP(AB27,'様式C-1-1用'!$A$4:$AH$1073,20,0),"") -> 進行が認められない | O27: =IFERROR(VLOOKUP(AB27,'様式C-1-1用'!$A$4:$AH$1073,21,0),"") -> 対策区分判定Ⅱb | P27: =IFERROR(VLOOKUP(AB27,'様式C-1-1用'!$A$4:$AH$1073,22,0),"") -> Ⅱ | Q27: =IFERROR(VLOOKUP(AB27,'様式C-1-1用'!$A$4:$AH$1073,23),"") -> 0 | R27: =IFERROR(VLOOKUP(AB27,'様式C-1-1用'!$A$4:$AH$1073,24,0),"") -> － | S27: =IFERROR(VLOOKUP(AB27,'様式C-1-1用'!$A$4:$AH$1073,27,0),"") -> － | T27: － | U27: =IFERROR(VLOOKUP(AB27,'様式C-1-1用'!$A$4:$AH$976,29,0),"") -> － | V27: =IFERROR(VLOOKUP(AB27,'様式C-1-1用'!$A$4:$AH$976,30,0),"") -> － | Z27: =IFERROR(VLOOKUP(AB27,'様式C-1-1用'!$A$4:$AH$976,32,0),"") -> － | AB27: =AB26+1 -> 19
C28: =IFERROR(VLOOKUP(AB28,'様式C-1-1用'!$A$4:$AH$1073,4,0),0) -> 4 | E28: =IF(C28="","",VLOOKUP(AB28,'様式C-1-1用'!$A$4:$AH$1073,5,0)) -> 1 | F28: =IF(C28="","",VLOOKUP(AB28,'様式C-1-1用'!$A$4:$AH$1073,6)) -> 38.513 | G28: =IFERROR(VLOOKUP(AB28,'様式C-1-1用'!$A$4:$AH$1073,7,0),"") -> 覆工・坑門 | H28: =IFERROR(VLOOKUP(AB28,'様式C-1-1用'!$A$4:$AH$1073,8,0),"") -> 側壁（左側） | I28: =IFERROR(VLOOKUP(AB28,'様式C-1-1用'!$A$4:$AH$1073,9,0),"") -> 材質劣化 | J28: =IFERROR(VLOOKUP(AB28,'様式C-1-1用'!$A$4:$AH$1073,10),"") -> うき・はく離 | M28: =IFERROR(VLOOKUP(AB28,'様式C-1-1用'!$A$4:$AH$1073,17,0),"") -> 2.4m×1.7m | N28: =IFERROR(VLOOKUP(AB28,'様式C-1-1用'!$A$4:$AH$1073,20,0),"") -> 進行が認められない | O28: =IFERROR(VLOOKUP(AB28,'様式C-1-1用'!$A$4:$AH$1073,21,0),"") -> 対策区分判定Ⅱb | P28: =IFERROR(VLOOKUP(AB28,'様式C-1-1用'!$A$4:$AH$1073,22,0),"") -> Ⅱ | Q28: =IFERROR(VLOOKUP(AB28,'様式C-1-1用'!$A$4:$AH$1073,23),"") -> 0 | R28: =IFERROR(VLOOKUP(AB28,'様式C-1-1用'!$A$4:$AH$1073,24,0),"") -> Ⅱb | S28: =IFERROR(VLOOKUP(AB28,'様式C-1-1用'!$A$4:$AH$1073,27,0),"") -> 否 | T28: =IFERROR(VLOOKUP(AB28,'様式C-1-1用'!$A$4:$AH$976,28,0),"") -> 要監視 | U28: =IFERROR(VLOOKUP(AB28,'様式C-1-1用'!$A$4:$AH$976,29,0),"") -> 継続 | V28: =IFERROR(VLOOKUP(AB28,'様式C-1-1用'!$A$4:$AH$976,30,0),"") -> 監視（日常巡視） | Z28: =IFERROR(VLOOKUP(AB28,'様式C-1-1用'!$A$4:$AH$976,32,0),"") -> 継続監視 | AB28: =AB27+1 -> 20
C29: =IFERROR(VLOOKUP(AB29,'様式C-1-1用'!$A$4:$AH$1073,4,0),0) -> 4 | E29: =IF(C29="","",VLOOKUP(AB29,'様式C-1-1用'!$A$4:$AH$1073,5,0)) -> 2 | F29: =IF(C29="","",VLOOKUP(AB29,'様式C-1-1用'!$A$4:$AH$1073,6)) -> 38.513 | G29: =IFERROR(VLOOKUP(AB29,'様式C-1-1用'!$A$4:$AH$1073,7,0),"") -> 覆工・坑門 | H29: =IFERROR(VLOOKUP(AB29,'様式C-1-1用'!$A$4:$AH$1073,8,0),"") -> アーチ（左側） | I29: =IFERROR(VLOOKUP(AB29,'様式C-1-1用'!$A$4:$AH$1073,9,0),"") -> 材質劣化 | J29: =IFERROR(VLOOKUP(AB29,'様式C-1-1用'!$A$4:$AH$1073,10),"") -> 補修跡 | M29: =IFERROR(VLOOKUP(AB29,'様式C-1-1用'!$A$4:$AH$1073,17,0),"") -> 15.6m×0.4m 導水工 | N29: =IFERROR(VLOOKUP(AB29,'様式C-1-1用'!$A$4:$AH$1073,20,0),"") -> 対策済 | O29: =IFERROR(VLOOKUP(AB29,'様式C-1-1用'!$A$4:$AH$1073,21,0),"") -> 対策区分判定Ⅱa | P29: =IFERROR(VLOOKUP(AB29,'様式C-1-1用'!$A$4:$AH$1073,22,0),"") -> Ⅱ | Q29: =IFERROR(VLOOKUP(AB29,'様式C-1-1用'!$A$4:$AH$1073,23),"") -> 0 | R29: =IFERROR(VLOOKUP(AB29,'様式C-1-1用'!$A$4:$AH$1073,24,0),"") -> Ⅰ | S29: =IFERROR(VLOOKUP(AB29,'様式C-1-1用'!$A$4:$AH$1073,27,0),"") -> 否 | T29: =IFERROR(VLOOKUP(AB29,'様式C-1-1用'!$A$4:$AH$976,28,0),"") -> 否 | U29: =IFERROR(VLOOKUP(AB29,'様式C-1-1用'!$A$4:$AH$976,29,0),"") -> 済 | V29: =IFERROR(VLOOKUP(AB29,'様式C-1-1用'!$A$4:$AH$976,30,0),"") -> － | Z29: =IFERROR(VLOOKUP(AB29,'様式C-1-1用'!$A$4:$AH$976,32,0),"") -> － | AB29: =AB28+1 -> 21
C30: =IFERROR(VLOOKUP(AB30,'様式C-1-1用'!$A$4:$AH$1073,4,0),0) -> 4 | E30: =IF(C30="","",VLOOKUP(AB30,'様式C-1-1用'!$A$4:$AH$1073,5,0)) -> 3 | F30: =IF(C30="","",VLOOKUP(AB30,'様式C-1-1用'!$A$4:$AH$1073,6)) -> 38.513 | G30: =IFERROR(VLOOKUP(AB30,'様式C-1-1用'!$A$4:$AH$1073,7,0),"") -> 覆工・坑門 | H30: =IFERROR(VLOOKUP(AB30,'様式C-1-1用'!$A$4:$AH$1073,8,0),"") -> アーチ（左側） | I30: =IFERROR(VLOOKUP(AB30,'様式C-1-1用'!$A$4:$AH$1073,9,0),"") -> 漏水 | J30: =IFERROR(VLOOKUP(AB30,'様式C-1-1用'!$A$4:$AH$1073,10),"") -> 補修跡 | M30: =IFERROR(VLOOKUP(AB30,'様式C-1-1用'!$A$4:$AH$1073,17,0),"") -> 6.4m×0.4m 導水工 | N30: =IFERROR(VLOOKUP(AB30,'様式C-1-1用'!$A$4:$AH$1073,20,0),"") -> 対策済 | O30: =IFERROR(VLOOKUP(AB30,'様式C-1-1用'!$A$4:$AH$1073,21,0),"") -> 対策区分判定Ⅱb | P30: =IFERROR(VLOOKUP(AB30,'様式C-1-1用'!$A$4:$AH$1073,22,0),"") -> Ⅱ | Q30: =IFERROR(VLOOKUP(AB30,'様式C-1-1用'!$A$4:$AH$1073,23),"") -> 0 | R30: =IFERROR(VLOOKUP(AB30,'様式C-1-1用'!$A$4:$AH$1073,24,0),"") -> Ⅰ | S30: =IFERROR(VLOOKUP(AB30,'様式C-1-1用'!$A$4:$AH$1073,27,0),"") -> 否 | T30: =IFERROR(VLOOKUP(AB30,'様式C-1-1用'!$A$4:$AH$976,28,0),"") -> 否 | U30: =IFERROR(VLOOKUP(AB30,'様式C-1-1用'!$A$4:$AH$976,29,0),"") -> 済 | V30: =IFERROR(VLOOKUP(AB30,'様式C-1-1用'!$A$4:$AH$976,30,0),"") -> － | Z30: =IFERROR(VLOOKUP(AB30,'様式C-1-1用'!$A$4:$AH$976,32,0),"") -> － | AB30: =AB29+1 -> 22
C31: =IFERROR(VLOOKUP(AB31,'様式C-1-1用'!$A$4:$AH$1073,4,0),0) -> 4 | E31: =IF(C31="","",VLOOKUP(AB31,'様式C-1-1用'!$A$4:$AH$1073,5,0)) -> 4 | F31: =IF(C31="","",VLOOKUP(AB31,'様式C-1-1用'!$A$4:$AH$1073,6)) -> 38.513 | G31: =IFERROR(VLOOKUP(AB31,'様式C-1-1用'!$A$4:$AH$1073,7,0),"") -> 覆工・坑門 | H31: =IFERROR(VLOOKUP(AB31,'様式C-1-1用'!$A$4:$AH$1073,8,0),"") -> アーチ（天端） | I31: =IFERROR(VLOOKUP(AB31,'様式C-1-1用'!$A$4:$AH$1073,9,0),"") -> 漏水 | J31: =IFERROR(VLOOKUP(AB31,'様式C-1-1用'!$A$4:$AH$1073,10),"") -> 補修跡 | M31: =IFERROR(VLOOKUP(AB31,'様式C-1-1用'!$A$4:$AH$1073,17,0),"") -> 1.8m×0.15m 導水工 | N31: =IFERROR(VLOOKUP(AB31,'様式C-1-1用'!$A$4:$AH$1073,20,0),"") -> 対策済 | O31: =IFERROR(VLOOKUP(AB31,'様式C-1-1用'!$A$4:$AH$1073,21,0),"") -> 対策区分判定Ⅱb | P31: =IFERROR(VLOOKUP(AB31,'様式C-1-1用'!$A$4:$AH$1073,22,0),"") -> Ⅱ | Q31: =IFERROR(VLOOKUP(AB31,'様式C-1-1用'!$A$4:$AH$1073,23),"") -> 0 | R31: =IFERROR(VLOOKUP(AB31,'様式C-1-1用'!$A$4:$AH$1073,24,0),"") -> Ⅰ | S31: =IFERROR(VLOOKUP(AB31,'様式C-1-1用'!$A$4:$AH$1073,27,0),"") -> 否 | T31: =IFERROR(VLOOKUP(AB31,'様式C-1-1用'!$A$4:$AH$976,28,0),"") -> 否 | U31: =IFERROR(VLOOKUP(AB31,'様式C-1-1用'!$A$4:$AH$976,29,0),"") -> 済 | V31: =IFERROR(VLOOKUP(AB31,'様式C-1-1用'!$A$4:$AH$976,30,0),"") -> － | Z31: =IFERROR(VLOOKUP(AB31,'様式C-1-1用'!$A$4:$AH$976,32,0),"") -> － | AB31: =AB30+1 -> 23
C32: =IFERROR(VLOOKUP(AB32,'様式C-1-1用'!$A$4:$AH$1073,4,0),0) -> 4 | E32: =IF(C32="","",VLOOKUP(AB32,'様式C-1-1用'!$A$4:$AH$1073,5,0)) -> 5 | F32: =IF(C32="","",VLOOKUP(AB32,'様式C-1-1用'!$A$4:$AH$1073,6)) -> 38.513 | G32: =IFERROR(VLOOKUP(AB32,'様式C-1-1用'!$A$4:$AH$1073,7,0),"") -> 覆工・坑門 | H32: =IFERROR(VLOOKUP(AB32,'様式C-1-1用'!$A$4:$AH$1073,8,0),"") -> アーチ（右側） | I32: =IFERROR(VLOOKUP(AB32,'様式C-1-1用'!$A$4:$AH$1073,9,0),"") -> 材質劣化 | J32: =IFERROR(VLOOKUP(AB32,'様式C-1-1用'!$A$4:$AH$1073,10),"") -> 補修跡 | M32: =IFERROR(VLOOKUP(AB32,'様式C-1-1用'!$A$4:$AH$1073,17,0),"") -> 3.7m×1.4m メッシュシート | N32: =IFERROR(VLOOKUP(AB32,'様式C-1-1用'!$A$4:$AH$1073,20,0),"") -> 対策済 | O32: =IFERROR(VLOOKUP(AB32,'様式C-1-1用'!$A$4:$AH$1073,21,0),"") -> 対策区分判定Ⅱa | P32: =IFERROR(VLOOKUP(AB32,'様式C-1-1用'!$A$4:$AH$1073,22,0),"") -> Ⅱ | Q32: =IFERROR(VLOOKUP(AB32,'様式C-1-1用'!$A$4:$AH$1073,23),"") -> 0 | R32: =IFERROR(VLOOKUP(AB32,'様式C-1-1用'!$A$4:$AH$1073,24,0),"") -> Ⅰ | S32: =IFERROR(VLOOKUP(AB32,'様式C-1-1用'!$A$4:$AH$1073,27,0),"") -> 否 | T32: =IFERROR(VLOOKUP(AB32,'様式C-1-1用'!$A$4:$AH$976,28,0),"") -> 否 | U32: =IFERROR(VLOOKUP(AB32,'様式C-1-1用'!$A$4:$AH$976,29,0),"") -> 済 | V32: =IFERROR(VLOOKUP(AB32,'様式C-1-1用'!$A$4:$AH$976,30,0),"") -> － | Z32: =IFERROR(VLOOKUP(AB32,'様式C-1-1用'!$A$4:$AH$976,32,0),"") -> － | AB32: =AB31+1 -> 24
C33: =IFERROR(VLOOKUP(AB33,'様式C-1-1用'!$A$4:$AH$1073,4,0),0) -> 4 | E33: =IF(C33="","",VLOOKUP(AB33,'様式C-1-1用'!$A$4:$AH$1073,5,0)) -> 6 | F33: =IF(C33="","",VLOOKUP(AB33,'様式C-1-1用'!$A$4:$AH$1073,6)) -> 38.513 | G33: =IFERROR(VLOOKUP(AB33,'様式C-1-1用'!$A$4:$AH$1073,7,0),"") -> 覆工・坑門 | H33: =IFERROR(VLOOKUP(AB33,'様式C-1-1用'!$A$4:$AH$1073,8,0),"") -> アーチ（右側） | I33: =IFERROR(VLOOKUP(AB33,'様式C-1-1用'!$A$4:$AH$1073,9,0),"") -> 漏水 | J33: =IFERROR(VLOOKUP(AB33,'様式C-1-1用'!$A$4:$AH$1073,10),"") -> 漏水 | M33: =IFERROR(VLOOKUP(AB33,'様式C-1-1用'!$A$4:$AH$1073,17,0),"") -> 0.6m×5.6m にじみ | N33: =IFERROR(VLOOKUP(AB33,'様式C-1-1用'!$A$4:$AH$1073,20,0),"") -> 進行が認められない | O33: =IFERROR(VLOOKUP(AB33,'様式C-1-1用'!$A$4:$AH$1073,21,0),"") -> 対策区分判定Ⅱb | P33: =IFERROR(VLOOKUP(AB33,'様式C-1-1用'!$A$4:$AH$1073,22,0),"") -> Ⅱ | Q33: =IFERROR(VLOOKUP(AB33,'様式C-1-1用'!$A$4:$AH$1073,23),"") -> 0 | R33: =IFERROR(VLOOKUP(AB33,'様式C-1-1用'!$A$4:$AH$1073,24,0),"") -> Ⅱb | S33: =IFERROR(VLOOKUP(AB33,'様式C-1-1用'!$A$4:$AH$1073,27,0),"") -> 否 | T33: =IFERROR(VLOOKUP(AB33,'様式C-1-1用'!$A$4:$AH$976,28,0),"") -> 要監視 | U33: =IFERROR(VLOOKUP(AB33,'様式C-1-1用'!$A$4:$AH$976,29,0),"") -> 継続 | V33: =IFERROR(VLOOKUP(AB33,'様式C-1-1用'!$A$4:$AH$976,30,0),"") -> 監視（日常巡視） | Z33: =IFERROR(VLOOKUP(AB33,'様式C-1-1用'!$A$4:$AH$976,32,0),"") -> 継続監視 | AB33: =AB32+1 -> 25
C34: =IFERROR(VLOOKUP(AB34,'様式C-1-1用'!$A$4:$AH$1073,4,0),0) -> 4 | E34: =IF(C34="","",VLOOKUP(AB34,'様式C-1-1用'!$A$4:$AH$1073,5,0)) -> 7 | F34: =IF(C34="","",VLOOKUP(AB34,'様式C-1-1用'!$A$4:$AH$1073,6)) -> 38.513 | G34: =IFERROR(VLOOKUP(AB34,'様式C-1-1用'!$A$4:$AH$1073,7,0),"") -> 覆工・坑門 | H34: =IFERROR(VLOOKUP(AB34,'様式C-1-1用'!$A$4:$AH$1073,8,0),"") -> 側壁（右側） | I34: =IFERROR(VLOOKUP(AB34,'様式C-1-1用'!$A$4:$AH$1073,9,0),"") -> 材質劣化 | J34: =IFERROR(VLOOKUP(AB34,'様式C-1-1用'!$A$4:$AH$1073,10),"") -> うき・はく離 | M34: =IFERROR(VLOOKUP(AB34,'様式C-1-1用'!$A$4:$AH$1073,17,0),"") -> 0.1m×0.2m | N34: =IFERROR(VLOOKUP(AB34,'様式C-1-1用'!$A$4:$AH$1073,20,0),"") -> 進行が認められない | O34: =IFERROR(VLOOKUP(AB34,'様式C-1-1用'!$A$4:$AH$1073,21,0),"") -> 対策区分判定Ⅱb | P34: =IFERROR(VLOOKUP(AB34,'様式C-1-1用'!$A$4:$AH$1073,22,0),"") -> Ⅱ | Q34: =IFERROR(VLOOKUP(AB34,'様式C-1-1用'!$A$4:$AH$1073,23),"") -> 0 | R34: =IFERROR(VLOOKUP(AB34,'様式C-1-1用'!$A$4:$AH$1073,24,0),"") -> Ⅱb | S34: =IFERROR(VLOOKUP(AB34,'様式C-1-1用'!$A$4:$AH$1073,27,0),"") -> 否 | T34: =IFERROR(VLOOKUP(AB34,'様式C-1-1用'!$A$4:$AH$976,28,0),"") -> 要監視 | U34: =IFERROR(VLOOKUP(AB34,'様式C-1-1用'!$A$4:$AH$976,29,0),"") -> 継続 | V34: =IFERROR(VLOOKUP(AB34,'様式C-1-1用'!$A$4:$AH$976,30,0),"") -> 監視（日常巡視） | Z34: =IFERROR(VLOOKUP(AB34,'様式C-1-1用'!$A$4:$AH$976,32,0),"") -> 継続監視 | AB34: =AB33+1 -> 26
C35: =IFERROR(VLOOKUP(AB35,'様式C-1-1用'!$A$4:$AH$1073,4,0),0) -> 4 | E35: =IF(C35="","",VLOOKUP(AB35,'様式C-1-1用'!$A$4:$AH$1073,5,0)) -> 8 | F35: =IF(C35="","",VLOOKUP(AB35,'様式C-1-1用'!$A$4:$AH$1073,6)) -> 38.513 | G35: =IFERROR(VLOOKUP(AB35,'様式C-1-1用'!$A$4:$AH$1073,7,0),"") -> 路面 | H35: =IFERROR(VLOOKUP(AB35,'様式C-1-1用'!$A$4:$AH$1073,8,0),"") -> 監査歩廊 | I35: =IFERROR(VLOOKUP(AB35,'様式C-1-1用'!$A$4:$AH$1073,9,0),"") -> 材質劣化 | J35: =IFERROR(VLOOKUP(AB35,'様式C-1-1用'!$A$4:$AH$1073,10),"") -> 欠損 | M35: =IFERROR(VLOOKUP(AB35,'様式C-1-1用'!$A$4:$AH$1073,17,0),"") -> 0.15m×0.5m 内部鉄筋露出 | N35: =IFERROR(VLOOKUP(AB35,'様式C-1-1用'!$A$4:$AH$1073,20,0),"") -> 進行が認められない | O35: =IFERROR(VLOOKUP(AB35,'様式C-1-1用'!$A$4:$AH$1073,21,0),"") -> 対策区分判定Ⅱb | P35: =IFERROR(VLOOKUP(AB35,'様式C-1-1用'!$A$4:$AH$1073,22,0),"") -> Ⅱ | Q35: =IFERROR(VLOOKUP(AB35,'様式C-1-1用'!$A$4:$AH$1073,23),"") -> 0 | R35: =IFERROR(VLOOKUP(AB35,'様式C-1-1用'!$A$4:$AH$1073,24,0),"") -> － | S35: =IFERROR(VLOOKUP(AB35,'様式C-1-1用'!$A$4:$AH$1073,27,0),"") -> － | T35: － | U35: =IFERROR(VLOOKUP(AB35,'様式C-1-1用'!$A$4:$AH$976,29,0),"") -> － | V35: =IFERROR(VLOOKUP(AB35,'様式C-1-1用'!$A$4:$AH$976,30,0),"") -> － | Z35: =IFERROR(VLOOKUP(AB35,'様式C-1-1用'!$A$4:$AH$976,32,0),"") -> － | AB35: =AB34+1 -> 27
C36: =IFERROR(VLOOKUP(AB36,'様式C-1-1用'!$A$4:$AH$1073,4,0),0) -> 4 | E36: =IF(C36="","",VLOOKUP(AB36,'様式C-1-1用'!$A$4:$AH$1073,5,0)) -> 9 | F36: =IF(C36="","",VLOOKUP(AB36,'様式C-1-1用'!$A$4:$AH$1073,6)) -> 38.513 | G36: =IFERROR(VLOOKUP(AB36,'様式C-1-1用'!$A$4:$AH$1073,7,0),"") -> 路面 | H36: =IFERROR(VLOOKUP(AB36,'様式C-1-1用'!$A$4:$AH$1073,8,0),"") -> 車道 | I36: =IFERROR(VLOOKUP(AB36,'様式C-1-1用'!$A$4:$AH$1073,9,0),"") -> 漏水 | J36: =IFERROR(VLOOKUP(AB36,'様式C-1-1用'!$A$4:$AH$1073,10),"") -> 漏水 | M36: =IFERROR(VLOOKUP(AB36,'様式C-1-1用'!$A$4:$AH$1073,17,0),"") -> 0.8m×1.3m にじみ,遊離石灰 | N36: =IFERROR(VLOOKUP(AB36,'様式C-1-1用'!$A$4:$AH$1073,20,0),"") -> 進行が認められない | O36: =IFERROR(VLOOKUP(AB36,'様式C-1-1用'!$A$4:$AH$1073,21,0),"") -> 対策区分判定Ⅱb | P36: =IFERROR(VLOOKUP(AB36,'様式C-1-1用'!$A$4:$AH$1073,22,0),"") -> Ⅱ | Q36: =IFERROR(VLOOKUP(AB36,'様式C-1-1用'!$A$4:$AH$1073,23),"") -> 0 | R36: =IFERROR(VLOOKUP(AB36,'様式C-1-1用'!$A$4:$AH$1073,24,0),"") -> － | S36: =IFERROR(VLOOKUP(AB36,'様式C-1-1用'!$A$4:$AH$1073,27,0),"") -> － | T36: － | U36: =IFERROR(VLOOKUP(AB36,'様式C-1-1用'!$A$4:$AH$976,29,0),"") -> － | V36: =IFERROR(VLOOKUP(AB36,'様式C-1-1用'!$A$4:$AH$976,30,0),"") -> － | Z36: =IFERROR(VLOOKUP(AB36,'様式C-1-1用'!$A$4:$AH$976,32,0),"") -> － | AB36: =AB35+1 -> 28
C37: =IFERROR(VLOOKUP(AB37,'様式C-1-1用'!$A$4:$AH$1073,4,0),0) -> 4 | E37: =IF(C37="","",VLOOKUP(AB37,'様式C-1-1用'!$A$4:$AH$1073,5,0)) -> 10 | F37: =IF(C37="","",VLOOKUP(AB37,'様式C-1-1用'!$A$4:$AH$1073,6)) -> 38.513 | G37: =IFERROR(VLOOKUP(AB37,'様式C-1-1用'!$A$4:$AH$1073,7,0),"") -> 路面 | H37: =IFERROR(VLOOKUP(AB37,'様式C-1-1用'!$A$4:$AH$1073,8,0),"") -> 車道 | I37: =IFERROR(VLOOKUP(AB37,'様式C-1-1用'!$A$4:$AH$1073,9,0),"") -> 材質劣化 | J37: =IFERROR(VLOOKUP(AB37,'様式C-1-1用'!$A$4:$AH$1073,10),"") -> うき・はく離 | M37: =IFERROR(VLOOKUP(AB37,'様式C-1-1用'!$A$4:$AH$1073,17,0),"") -> 0.2m×0.1m | N37: =IFERROR(VLOOKUP(AB37,'様式C-1-1用'!$A$4:$AH$1073,20,0),"") -> 進行が認められない | O37: =IFERROR(VLOOKUP(AB37,'様式C-1-1用'!$A$4:$AH$1073,21,0),"") -> 対策区分判定Ⅱb | P37: =IFERROR(VLOOKUP(AB37,'様式C-1-1用'!$A$4:$AH$1073,22,0),"") -> Ⅱ | Q37: =IFERROR(VLOOKUP(AB37,'様式C-1-1用'!$A$4:$AH$1073,23),"") -> 0 | R37: =IFERROR(VLOOKUP(AB37,'様式C-1-1用'!$A$4:$AH$1073,24,0),"") -> － | S37: =IFERROR(VLOOKUP(AB37,'様式C-1-1用'!$A$4:$AH$1073,27,0),"") -> － | T37: － | U37: =IFERROR(VLOOKUP(AB37,'様式C-1-1用'!$A$4:$AH$976,29,0),"") -> － | V37: =IFERROR(VLOOKUP(AB37,'様式C-1-1用'!$A$4:$AH$976,30,0),"") -> － | Z37: =IFERROR(VLOOKUP(AB37,'様式C-1-1用'!$A$4:$AH$976,32,0),"") -> － | AB37: =AB36+1 -> 29
C38: =IFERROR(VLOOKUP(AB38,'様式C-1-1用'!$A$4:$AH$1073,4,0),0) -> 4 | E38: =IF(C38="","",VLOOKUP(AB38,'様式C-1-1用'!$A$4:$AH$1073,5,0)) -> 11 | F38: =IF(C38="","",VLOOKUP(AB38,'様式C-1-1用'!$A$4:$AH$1073,6)) -> 38.513 | G38: =IFERROR(VLOOKUP(AB38,'様式C-1-1用'!$A$4:$AH$1073,7,0),"") -> 覆工・坑門 | H38: =IFERROR(VLOOKUP(AB38,'様式C-1-1用'!$A$4:$AH$1073,8,0),"") -> 側壁（左側） | I38: =IFERROR(VLOOKUP(AB38,'様式C-1-1用'!$A$4:$AH$1073,9,0),"") -> 材質劣化 | J38: =IFERROR(VLOOKUP(AB38,'様式C-1-1用'!$A$4:$AH$1073,10),"") -> うき・はく離 | M38: =IFERROR(VLOOKUP(AB38,'様式C-1-1用'!$A$4:$AH$1073,17,0),"") -> 0.2m×0.6m | N38: =IFERROR(VLOOKUP(AB38,'様式C-1-1用'!$A$4:$AH$1073,20,0),"") -> 新規確認 | O38: =IFERROR(VLOOKUP(AB38,'様式C-1-1用'!$A$4:$AH$1073,21,0),"") -> － | P38: =IFERROR(VLOOKUP(AB38,'様式C-1-1用'!$A$4:$AH$1073,22,0),"") -> － | Q38: =IFERROR(VLOOKUP(AB38,'様式C-1-1用'!$A$4:$AH$1073,23),"") -> 0 | R38: =IFERROR(VLOOKUP(AB38,'様式C-1-1用'!$A$4:$AH$1073,24,0),"") -> Ⅱb | S38: =IFERROR(VLOOKUP(AB38,'様式C-1-1用'!$A$4:$AH$1073,27,0),"") -> 否 | T38: =IFERROR(VLOOKUP(AB38,'様式C-1-1用'!$A$4:$AH$976,28,0),"") -> 要監視 | U38: =IFERROR(VLOOKUP(AB38,'様式C-1-1用'!$A$4:$AH$976,29,0),"") -> 未 | V38: =IFERROR(VLOOKUP(AB38,'様式C-1-1用'!$A$4:$AH$976,30,0),"") -> － | Z38: =IFERROR(VLOOKUP(AB38,'様式C-1-1用'!$A$4:$AH$976,32,0),"") -> 継続監視 | AB38: =AB37+1 -> 30
C39: =IFERROR(VLOOKUP(AB39,'様式C-1-1用'!$A$4:$AH$1073,4,0),0) -> 4 | E39: =IF(C39="","",VLOOKUP(AB39,'様式C-1-1用'!$A$4:$AH$1073,5,0)) -> 12 | F39: =IF(C39="","",VLOOKUP(AB39,'様式C-1-1用'!$A$4:$AH$1073,6)) -> 38.513 | G39: =IFERROR(VLOOKUP(AB39,'様式C-1-1用'!$A$4:$AH$1073,7,0),"") -> 覆工・坑門 | H39: =IFERROR(VLOOKUP(AB39,'様式C-1-1用'!$A$4:$AH$1073,8,0),"") -> 側壁（左側） | I39: =IFERROR(VLOOKUP(AB39,'様式C-1-1用'!$A$4:$AH$1073,9,0),"") -> 材質劣化 | J39: =IFERROR(VLOOKUP(AB39,'様式C-1-1用'!$A$4:$AH$1073,10),"") -> うき・はく離 | M39: =IFERROR(VLOOKUP(AB39,'様式C-1-1用'!$A$4:$AH$1073,17,0),"") -> 0.1m×1.5m | N39: =IFERROR(VLOOKUP(AB39,'様式C-1-1用'!$A$4:$AH$1073,20,0),"") -> 新規確認 | O39: =IFERROR(VLOOKUP(AB39,'様式C-1-1用'!$A$4:$AH$1073,21,0),"") -> － | P39: =IFERROR(VLOOKUP(AB39,'様式C-1-1用'!$A$4:$AH$1073,22,0),"") -> － | Q39: =IFERROR(VLOOKUP(AB39,'様式C-1-1用'!$A$4:$AH$1073,23),"") -> 0 | R39: =IFERROR(VLOOKUP(AB39,'様式C-1-1用'!$A$4:$AH$1073,24,0),"") -> Ⅱb | S39: =IFERROR(VLOOKUP(AB39,'様式C-1-1用'!$A$4:$AH$1073,27,0),"") -> 否 | T39: =IFERROR(VLOOKUP(AB39,'様式C-1-1用'!$A$4:$AH$976,28,0),"") -> 要監視 | U39: =IFERROR(VLOOKUP(AB39,'様式C-1-1用'!$A$4:$AH$976,29,0),"") -> 未 | V39: =IFERROR(VLOOKUP(AB39,'様式C-1-1用'!$A$4:$AH$976,30,0),"") -> － | Z39: =IFERROR(VLOOKUP(AB39,'様式C-1-1用'!$A$4:$AH$976,32,0),"") -> 継続監視 | AB39: =AB38+1 -> 31
C40: ※ 対策区分（応急措置後）の判定区分Ⅱ～Ⅳについて記入すること。また、点検前に実施された措置によりⅠと判定された変状も記入すること。
C41: ※ 応急措置を実施しないで判定した変状の対策区分は、対策区分の応急措置後の欄に記入すること。
C42: ※ 変状の除去が不完全で、緊急対応が必要な場合は対応方針欄に記入すること。
...

Sheet 様式C-1-2
B2: ■定期点検記録様式 定期点検結果総括表（トンネル内附属物等の取付状態） 【様式C-1-2】
B3: フリガナ | F3: ='様式A-1'!$D$3 -> ユノセトンネル | J3: 路線名 | L3: ='様式A-1'!$J$3 -> 一般県道長門峡線 | O3: 定期点検業者 | Q3: =様式B!$K$5 -> 日本工営株式会社 | U3: 定期点検年月日 | Y3: =様式B!$Q$5 -> 45240
B4: 名 称 | F4: ='様式A-1'!$D$4 -> 湯之瀬トンネル | J4: 管理者名 | L4: ='様式A-1'!$R$3 -> 山口県萩土木事務所 | O4: 定期点検者名 | Q4: =様式B!$K$6 -> 横山真一郎
C5: 覆工 スパン 番号 | E5: 異常 番号 | F5: 距離 （m） | G5: 異常部位 | J5: 異 常 の 内 容 | P5: 定期点検結果 | R5: 応急措置の 実施状況 | X5: 対応方針 ・ 特記事項
G6: 対象箇所 | I6: 部位区分 | J6: 異常種類 | N6: 異常の発生範囲の規模 | P6: 異常判定区分 | R6: 実施 | S6: 応急措置の内容
P7: 応急措置前 | Q7: 応急措置後
B8: 定期点検結果 | C8: =VLOOKUP(AA8,'様式C-1-2用'!$A$3:$V$1000,3,0) -> 1 | E8: =VLOOKUP(AA8,'様式C-1-2用'!$A$3:$V$1000,4,0) -> 101 | F8: =VLOOKUP(AA8,'様式C-1-2用'!$A$3:$V$1000,5,0) -> 11.772 | G8: =VLOOKUP(AA8,'様式C-1-2用'!$A$3:$V$1000,6,0) -> 照明施設 | H8: =VLOOKUP(AA8,'様式C-1-2用'!$A$3:$V$1000,7,0) -> ケーブル類 | I8: =VLOOKUP(AA8,'様式C-1-2用'!$A$3:$V$1000,8,0) -> 取付部材 | J8: =VLOOKUP(AA8,'様式C-1-2用'!$A$3:$V$1000,9,0) -> 腐食 | N8: =VLOOKUP(AA8,'様式C-1-2用'!$A$3:$V$1000,10,0) -> 3 | P8: =VLOOKUP(AA8,'様式C-1-2用'!$A$3:$V$1000,11,0) -> 0 | Q8: =VLOOKUP(AA8,'様式C-1-2用'!$A$3:$V$1000,12,0) -> × | R8: =VLOOKUP(AA8,'様式C-1-2用'!$A$3:$V$1000,13,0) -> 未 | S8: =VLOOKUP(AA8,'様式C-1-2用'!$A$3:$V$1000,14,0) -> 0 | X8: =VLOOKUP(AA8,'様式C-1-2用'!$A$3:$V$1000,15,0) -> 交換 | AA8: 1
C9: =VLOOKUP(AA9,'様式C-1-2用'!$A$3:$V$1000,3,0) -> 2 | E9: =VLOOKUP(AA9,'様式C-1-2用'!$A$3:$V$1000,4,0) -> 101 | F9: =VLOOKUP(AA9,'様式C-1-2用'!$A$3:$V$1000,5,0) -> 20.712 | G9: =VLOOKUP(AA9,'様式C-1-2用'!$A$3:$V$1000,6,0) -> 照明施設 | H9: =VLOOKUP(AA9,'様式C-1-2用'!$A$3:$V$1000,7,0) -> ケーブル類 | I9: =VLOOKUP(AA9,'様式C-1-2用'!$A$3:$V$1000,8,0) -> 取付部材 | J9: =VLOOKUP(AA9,'様式C-1-2用'!$A$3:$V$1000,9,0) -> 腐食 | N9: =VLOOKUP(AA9,'様式C-1-2用'!$A$3:$V$1000,10,0) -> 4 | P9: =VLOOKUP(AA9,'様式C-1-2用'!$A$3:$V$1000,11,0) -> 0 | Q9: =VLOOKUP(AA9,'様式C-1-2用'!$A$3:$V$1000,12,0) -> × | R9: =VLOOKUP(AA9,'様式C-1-2用'!$A$3:$V$1000,13,0) -> 未 | S9: =VLOOKUP(AA9,'様式C-1-2用'!$A$3:$V$1000,14,0) -> 0 | X9: =VLOOKUP(AA9,'様式C-1-2用'!$A$3:$V$1000,15,0) -> 交換 | AA9: =AA8+1 -> 2
C10: =VLOOKUP(AA10,'様式C-1-2用'!$A$3:$V$1000,3,0) -> 2 | E10: =VLOOKUP(AA10,'様式C-1-2用'!$A$3:$V$1000,4,0) -> 102 | F10: =VLOOKUP(AA10,'様式C-1-2用'!$A$3:$V$1000,5,0) -> 20.712 | G10: =VLOOKUP(AA10,'様式C-1-2用'!$A$3:$V$1000,6,0) -> 照明施設 | H10: =VLOOKUP(AA10,'様式C-1-2用'!$A$3:$V$1000,7,0) -> ケーブル類 | I10: =VLOOKUP(AA10,'様式C-1-2用'!$A$3:$V$1000,8,0) -> 取付部材 | J10: =VLOOKUP(AA10,'様式C-1-2用'!$A$3:$V$1000,9,0) -> 腐食 | N10: =VLOOKUP(AA10,'様式C-1-2用'!$A$3:$V$1000,10,0) -> 4 | P10: =VLOOKUP(AA10,'様式C-1-2用'!$A$3:$V$1000,11,0) -> 0 | Q10: =VLOOKUP(AA10,'様式C-1-2用'!$A$3:$V$1000,12,0) -> × | R10: =VLOOKUP(AA10,'様式C-1-2用'!$A$3:$V$1000,13,0) -> 未 | S10: =VLOOKUP(AA10,'様式C-1-2用'!$A$3:$V$1000,14,0) -> 0 | X10: =VLOOKUP(AA10,'様式C-1-2用'!$A$3:$V$1000,15,0) -> 交換 | AA10: =AA9+1 -> 3
C11: =VLOOKUP(AA11,'様式C-1-2用'!$A$3:$V$1000,3,0) -> 2 | E11: =VLOOKUP(AA11,'様式C-1-2用'!$A$3:$V$1000,4,0) -> 103 | F11: =VLOOKUP(AA11,'様式C-1-2用'!$A$3:$V$1000,5,0) -> 20.712 | G11: =VLOOKUP(AA11,'様式C-1-2用'!$A$3:$V$1000,6,0) -> 照明施設 | H11: =VLOOKUP(AA11,'様式C-1-2用'!$A$3:$V$1000,7,0) -> 灯具 | I11: =VLOOKUP(AA11,'様式C-1-2用'!$A$3:$V$1000,8,0) -> 附属物本体 | J11: =VLOOKUP(AA11,'様式C-1-2用'!$A$3:$V$1000,9,0) -> 腐食 | N11: =VLOOKUP(AA11,'様式C-1-2用'!$A$3:$V$1000,10,0) -> 1 | P11: =VLOOKUP(AA11,'様式C-1-2用'!$A$3:$V$1000,11,0) -> 0 | Q11: =VLOOKUP(AA11,'様式C-1-2用'!$A$3:$V$1000,12,0) -> × | R11: =VLOOKUP(AA11,'様式C-1-2用'!$A$3:$V$1000,13,0) -> 未 | S11: =VLOOKUP(AA11,'様式C-1-2用'!$A$3:$V$1000,14,0) -> 0 | X11: =VLOOKUP(AA11,'様式C-1-2用'!$A$3:$V$1000,15,0) -> 交換 | AA11: =AA10+1 -> 4
C12: =VLOOKUP(AA12,'様式C-1-2用'!$A$3:$V$1000,3,0) -> 3 | E12: =VLOOKUP(AA12,'様式C-1-2用'!$A$3:$V$1000,4,0) -> 101 | F12: =VLOOKUP(AA12,'様式C-1-2用'!$A$3:$V$1000,5,0) -> 29.652 | G12: =VLOOKUP(AA12,'様式C-1-2用'!$A$3:$V$1000,6,0) -> 照明施設 | H12: =VLOOKUP(AA12,'様式C-1-2用'!$A$3:$V$1000,7,0) -> ケーブル類 | I12: =VLOOKUP(AA12,'様式C-1-2用'!$A$3:$V$1000,8,0) -> 取付部材 | J12: =VLOOKUP(AA12,'様式C-1-2用'!$A$3:$V$1000,9,0) -> 腐食 | N12: =VLOOKUP(AA12,'様式C-1-2用'!$A$3:$V$1000,10,0) -> 6 | P12: =VLOOKUP(AA12,'様式C-1-2用'!$A$3:$V$1000,11,0) -> 0 | Q12: =VLOOKUP(AA12,'様式C-1-2用'!$A$3:$V$1000,12,0) -> × | R12: =VLOOKUP(AA12,'様式C-1-2用'!$A$3:$V$1000,13,0) -> 未 | S12: =VLOOKUP(AA12,'様式C-1-2用'!$A$3:$V$1000,14,0) -> 0 | X12: =VLOOKUP(AA12,'様式C-1-2用'!$A$3:$V$1000,15,0) -> 交換 | AA12: =AA11+1 -> 5
C13: =VLOOKUP(AA13,'様式C-1-2用'!$A$3:$V$1000,3,0) -> 3 | E13: =VLOOKUP(AA13,'様式C-1-2用'!$A$3:$V$1000,4,0) -> 102 | F13: =VLOOKUP(AA13,'様式C-1-2用'!$A$3:$V$1000,5,0) -> 29.652 | G13: =VLOOKUP(AA13,'様式C-1-2用'!$A$3:$V$1000,6,0) -> 照明施設 | H13: =VLOOKUP(AA13,'様式C-1-2用'!$A$3:$V$1000,7,0) -> 灯具 | I13: =VLOOKUP(AA13,'様式C-1-2用'!$A$3:$V$1000,8,0) -> 附属物本体 | J13: =VLOOKUP(AA13,'様式C-1-2用'!$A$3:$V$1000,9,0) -> 腐食 | N13: =VLOOKUP(AA13,'様式C-1-2用'!$A$3:$V$1000,10,0) -> 1 | P13: =VLOOKUP(AA13,'様式C-1-2用'!$A$3:$V$1000,11,0) -> 0 | Q13: =VLOOKUP(AA13,'様式C-1-2用'!$A$3:$V$1000,12,0) -> × | R13: =VLOOKUP(AA13,'様式C-1-2用'!$A$3:$V$1000,13,0) -> 未 | S13: =VLOOKUP(AA13,'様式C-1-2用'!$A$3:$V$1000,14,0) -> 0 | X13: =VLOOKUP(AA13,'様式C-1-2用'!$A$3:$V$1000,15,0) -> 交換 | AA13: =AA12+1 -> 6
C14: =VLOOKUP(AA14,'様式C-1-2用'!$A$3:$V$1000,3,0) -> 3 | E14: =VLOOKUP(AA14,'様式C-1-2用'!$A$3:$V$1000,4,0) -> 103 | F14: =VLOOKUP(AA14,'様式C-1-2用'!$A$3:$V$1000,5,0) -> 29.652 | G14: =VLOOKUP(AA14,'様式C-1-2用'!$A$3:$V$1000,6,0) -> 照明施設 | H14: =VLOOKUP(AA14,'様式C-1-2用'!$A$3:$V$1000,7,0) -> ケーブル類 | I14: =VLOOKUP(AA14,'様式C-1-2用'!$A$3:$V$1000,8,0) -> 取付部材 | J14: =VLOOKUP(AA14,'様式C-1-2用'!$A$3:$V$1000,9,0) -> 腐食 | N14: =VLOOKUP(AA14,'様式C-1-2用'!$A$3:$V$1000,10,0) -> 4 | P14: =VLOOKUP(AA14,'様式C-1-2用'!$A$3:$V$1000,11,0) -> 0 | Q14: =VLOOKUP(AA14,'様式C-1-2用'!$A$3:$V$1000,12,0) -> × | R14: =VLOOKUP(AA14,'様式C-1-2用'!$A$3:$V$1000,13,0) -> 未 | S14: =VLOOKUP(AA14,'様式C-1-2用'!$A$3:$V$1000,14,0) -> 0 | X14: =VLOOKUP(AA14,'様式C-1-2用'!$A$3:$V$1000,15,0) -> 交換 | AA14: =AA13+1 -> 7
