Workbook
Name その他: '(参考)リスト'!$C$47
Name その他施設: '[1](参考)リスト'!#REF!
Name その他施設: '(参考)リスト'!$C$79:$C$83
Name 換気施設: '[1](参考)リスト'!#REF!
Name 換気施設: '(参考)リスト'!$C$56:$C$60
Name 坑門: '(参考)リスト'!$C$31:$C$32
Name 照明施設: '[1](参考)リスト'!#REF!
Name 照明施設: '(参考)リスト'!$C$52:$C$54
Name 対象箇所: [2]!テーブル1[対象箇所]
Name 天井板: '(参考)リスト'!$C$37:$C$39
Name 内装板: '(参考)リスト'!$C$34:$C$35
Name 非常用施設: '[1](参考)リスト'!#REF!
Name 非常用施設: '(参考)リスト'!$C$62:$C$77
Name 覆工: '(参考)リスト'!$C$16:$C$29
Name 路面: '(参考)リスト'!$C$41:$C$45

Sheet 点検様式作成フロー
A1: 点検様式作成フロ-
A3: 作成フロー図 | H3: 点検調書作成手順
H4: ①様式A-1～A-3（トンネル台帳）
H5: トンネル点検の実施にあたっては，現場点検作業に先行してトンネル情報を収集する。トンネル台帳（様式Ａ－1～様式Ａ－3）はトンネル完成後に作成され，維持管理の段階で引き継がれるが，関連資料等を確認したうえで，追加情報があれば必要に応じて追記することが望ましい。
H9: ②様式D-2-1、様式D-2-1´
H10: 現場点検作業を実施し，近接目視点検で確認した変状状況や補修履歴を忠実に変状展開図に転記する。
H12: ③様式D-1-1、様式D-1-2
H13: 変状展開図や撮影した写真等をもとに，対象トンネルの対策区分を決定し，対策区分がⅡ～Ⅳの変状および異常判定区分「×」を抽出し，写真台帳を作成する。
H16: ④様式B
H17: 写真台帳の作成と同時に，トンネルの構造を展開した位置図に変状写真位置を記録する。
H19: ⑤様式D-3
H20: 変状展開図ならびに写真台帳をもとに覆工スパンごとの変状展開図を作成し，変状発生状況をとりまとめる。
H22: ⑥様式E
H23: 近接目視または打音検査，触診ができていない箇所および近接目視によらない方法を講じた場所に対する調査結果を記録する。
... H33: ファイルは以下の分割規則に従う。 ※各ファイルとも （参考）リスト のシートを付けて保存すること。 ・様式A-1～A-3は同一ファイルとする。 ・様式B、D-1-1、D-1-2、D-2-1（もしくはD-2-1'）は別ファイルとする。 ・様式C-1-1、C-1-2、C-2は同一ファイルとする。 ・様式D-3、E、F、Gは同一ファイルとする。

Sheet 変状面積算出方法
A1: 変状面積算出方法
A26: 注1）外力による変状：ひび割れや圧ざの場合は変状の寸法を記録する。
A27: 例）ひび割れ：長さ（L）×最大ひび割れ幅（t）を記録する。 変形，移動，沈下：数値的な記載が可能な場合のみ記載する。
A28: 注2）材料劣化による変状：材質劣化による変状を包括する面積を記録する。
A29: 例）うき，はく離（閉合ひび割れ）：変状範囲を包括する寸法（L×W） うき，はく離（ひび割れ沿い）：打音異常箇所を包括する寸法（L×W） ひび割れ：長さ（L）×幅 * (W=0.1m：一律）を面積として記録する。 *ここでいう幅は実測幅ではなく便宜上一律に0.1mとする。 ※ただし，密集したひび割れの場合は，密集した範囲を面積として記載する。 鋼材腐食（鉄筋腐食）：一括した対策が適当と考えられる範囲を包括する寸法（L×W）
A30: 注3）漏水による変状：漏水発生範囲を包括し，垂れ下がりの可能性がある側壁下端まで含めた寸法を，L×Wで記録する。打継ぎ目地沿いの 漏水については目地を跨いだ50cm幅を横幅とする。

Sheet 記入の留意点
B2: トンネルDBでは、Excelに記載された文字や数値・配置された画像を自動的に読込みデータベースへ登録します。
B3: 記録様式へ記入の留意点を下記に示します。
B5: １．記録様式への記入
C6: ➤各セルに表示されるコメントに従って、様式A-1～様式Gのシートに、点検結果（テキスト入力、選択項目）を入力してください。
C7: ➤位置図(様式B)、変状写真(様式D-1-1)、異常写真(様式D-1-2)は記入した変状写真番号等に対応した画像を間違いないように貼り付けてください。
C8: ➤列や行の挿入削除は行わず、セルの位置がずれないようにしてください。データベースへ読み取り時にずれて取り込まれてしまいます。
B11: ２．画像ファイルの配置の注意点
C12: 登録に使用可能な画像ファイルの拡張子は「jpg」「jpeg」「png」の3種類のみです。
C13: 必ず、１か所に画像１枚のみを張り付けてください。エクセルの図形などのオブジェクトは使用しないでください。
C14: 張り付けた画像はエクセルのトリミング機能を使用しないでください。あらかじめ切り抜いた画像を利用してください。
C15: ※１ 画像の左上を必ずセルの内部に含め、はみ出ないようにしてください。
C16: ※２ 図の書式設定で「セルに合わせて移動やサイズを変更しない」のモードを使用しないでください。
C32: ※３ 「挿入」→「画像」→「セルの上に配置」してください。
B41: ３．シート名の連番について
C42: １ページに記載しきれない場合は、１シート内にページを増やすのではなくシート自体をコピーしシート名の末尾を連番にしてください。
C43: 対象様式
C44: 様式B
C45: 様式D-1-1
C46: 様式D-1-2
C47: 様式D-2-1
C48: 様式D-2-1´
C49: 様式D-3_S00 ※スパン名を記載
C50: 様式G
C52: 末尾の連番の形式例
C53: 様式B(1) 様式B(2) 様式B(3)
C54: 様式B_001 様式B_002 様式B_003
... C61: で示される要領を制限するものではありません。

Sheet 様式A-1
B2: ■トンネル台帳 トンネル諸元、非常用施設諸元 【様式A-1】 | S2: 施設ID | W2: 34.08936,131.90436
B3: フリガナ | D3: ヌクミトンネル | H3: 路線名 | J3: 一般県道三瀬川下松線 | P3: 管理者名 | R3: 周南土木建築事務所 | W3: 緊急輸送道路 | Z3: 指定なし
B4: 名 称 | D4: 温見トンネル | W4: 代替路の有無 | Z4: 有
B5: 所在地 | D5: 自 | E5: 山口県周南市中須南 | H5: 作成者 | K5: 株式会社 長大 鷲尾 寛 | P5: 作成年月日 | R5: 46080 | U5: トンネル延長 | X5: L= | Z5: 51 | AB5: ｍ
D6: 至 | E6: 山口県下松市温見 | U6: ﾄﾝﾈﾙの分類 | X6: 陸上トンネル（掘進工法）
B7: 起点 | C7: 緯度 | E7: 34.08911 | H7: 完成年月日 | K7: 1954年 | M7: 舗装 | O7: 種 別 | Q7: コンクリート系 | S7: トンネル非常用施設 | T7: 施設の内訳 | X7: 種別・方式 | Y7: 型式 | Z7: 個数 | AA7: 更新年度 | AE7: =INT(E7/10000) -> 0 | AF7: =INT(E7/100)-AE7*100 -> 0 | AG7: =E7-AE7*10000-AF7*100 -> 34.08911 | AH7: =ROUND(AE7+AF7/60+AG7/60/60,5) -> 0.00947 | AI7: =TEXT(AH7,"0.00000") -> 0.00947
C8: 経度 | E8: 131.90422 | H8: 供用年月日 | O8: 厚 さ | Q8: 20cm | T8: 通報設備 | U8: 通話型通報設備 | Z8: 無 | AE8: =INT(E8/10000) -> 0 | AF8: =INT(E8/100)-AE8*100 -> 1 | AG8: =E8-AE8*10000-AF8*100 -> 31.90422 | AH8: =ROUND(AE8+AF8/60+AG8/60/60,5) -> 0.02553 | AI8: =TEXT(AH8,"0.00000") -> 0.02553
B9: 終点 | C9: 緯度 | E9: 34.08886 | H9: トンネル区分 | K9: D | O9: 面 積 | Q9: 234.6㎡ | U9: 操作型通報設備 | Z9: 無
C10: 経度 | E10: 131.90394 | H10: 内装種類 | K10: 内装なし | O10: 更新年次 | U10: 自動通報設備 | Z10: 無
B11: 一般有料区分 | E11: 一般（無料） | H11: 天井板種類 | K11: 内装なし | M11: 排水 | O11: 種 別 | T11: 警報設備 | U11: 非常警報設備 | Z11: 無
B12: 土かぶり | G12: m | H12: 坑門 | I12: 起点 | J12: 形式 | K12: 面壁型 | O12: 更新年次 | T12: 消火設備 | U12: 消 火 器 | Z12: 無
B13: 内空断面積 | E13: 24.7 | G13: m2 | J13: 延長 | K13: 0.8 | L13: m | M13: 施設 | P13: 種別・方式 | Q13: 個数 | R13: 更新年次 | U13: 消火栓設備 | Z13: 無
B14: 交 通 量 | E14: 683 | G14: 台/日 | I14: 終点 | J14: 形式 | K14: 面壁型 | M14: 道路附属物等 | N14: 照明 | P14: 無 | T14: 避難誘導設備 | U14: 誘導表示設備 | Z14: 無
C15: 道 路 幅 | E15: 5.6 | G15: m | J15: 延長 | K15: 0.8 | L15: m | N15: 換気 | P15: 自然排気 | U15: 避難情報提供設備 | Z15: 無
B16: 幅 員 | C16: 車 道 幅 | E16: 2 | G16: m | H16: 竣工巻厚 | I16: アーチ | K16: 50 | L16: cm | N16: 標識 | Z16: 無
E17: 2 | G17: m | I17: 側 壁 | L17: cm | N17: 警報表示板 | U17: 避難通路 | Z17: 無
C18: 歩道等幅 | E18: 1.6 | G18: m | L18: cm | N18: 吸音板 | U18: 排煙設備 | Z18: 無
B19: 高さ | C19: 建築限界高 | E19: 4.5 | G19: m | I19: インバート | L19: cm | T19: その他の設備 | U19: 給水栓設備 | Z19: 無
C20: 中央高 | E20: 4.7 | G20: m | H20: 半径 | I20: アーチ | L20: cm | U20: 無線通信補助設備 | Z20: 無
C21: 有効高 | E21: 4 | G21: m | I21: 側 壁 | L21: cm | U21: 水噴霧設備 | Z21: 無
C22: 縦断勾配 | I22: インバート | L22: cm | U22: 監視設備 | Z22: 無
B23: 線 形 | C23: 直線区間長 | H23: 占用物件 | I23: 種 類 | K23: 寸 法 | M23: 管理者名 | Q23: 更新年次 | S23: 非常用施設 関連設備 | U23: 予備発電設備 | Z23: 無
C24: 曲線区間 | D24: 区間長
D25: 起点側ｸﾛｿｲﾄﾞ
D26: 曲線半径
D27: 終点側ｸﾛｿｲﾄﾞ | S27: その他 | U27: 非常駐車帯 | Z27: 無
B28: トンネル工法 | E28: 矢板工法 | U28: 方向転換所 | Z28: 無
C29: ※緯度・経度については、十進緯度経度小数第５位で記入すること。

Sheet 様式A-2
B3: ■トンネル台帳 トンネル情報一覧表 【様式A-2】
B4: フリガナ | E4: ='様式A-1'!D3 -> ヌクミトンネル | J4: 路線名 | M4: ='様式A-1'!J3 -> 一般県道三瀬川下松線 | S4: 作成者 | Y4: ='様式A-1'!K5 -> 株式会社 長大 鷲尾 寛 | AE4: 作成年月日 | AI4: ='様式A-1'!R5 -> 46080
B5: 名 称 | E5: ='様式A-1'!D4 -> 温見トンネル | J5: 管理者名 | M5: ='様式A-1'!R3 -> 周南土木建築事務所
B6: 覆工 ｽﾊﾟﾝ 番号 | C6: ｽﾊﾟﾝ長 | D6: 追加距離 | F6: トンネル本体工 | K6: 照明施設 | O6: 非常用施設 | AE6: 換気施設 | AK6: その他附属物等
O7: 通報設備 | R7: 警報設備 | S7: 消火設備 | U7: 避難誘導設備 | Y7: その他の設備 | AC7: 特記事項
D8: 起点側 | E8: 終点側 | F8: 特記事項 | I8: 内装板 | J8: 天井板 | K8: 基本照明 | L8: 入口出口照明 | M8: 特記事項 | O8: 通話型通報設備 | P8: 操作型通報設備 | Q8: 自動通報設備 | R8: 非常警報設備 | S8: 消 火 器 | T8: 消火栓設備 | U8: 誘導表示設備 | V8: 避難情報提供設備 | W8: 避難通路 | X8: 排煙設備 | Y8: 給水栓設備 | Z8: 無線通信補助設備 | AA8: 水噴霧設備 | AB8: 監視設備 | AE8: JF | AF8: VI計 | AG8: CO計 | AH8: 風向 風速計 | AI8: 特記事項
C9: (m) | D9: (m) | E9: (m)
B10: PS | C10: 0 | D10: 0 | E10: 0
B11: S1 | C11: 10 | D11: 0 | E11: 10
B12: S2 | C12: 10 | D12: 10 | E12: 20
B13: S3 | C13: 10 | D13: 20 | E13: 30
B14: S4 | C14: 10 | D14: 30 | E14: 40
B15: S5 | C15: 10 | D15: 40 | E15: 50
B16: S6 | C16: 1 | D16: 50 | E16: 2
B17: PE | C17: 0 | D17: 51 | E17: 51
B42: ※ 行が不足する場合は、適時、表の行を増やすこと。

Sheet 様式A-3
B3: ■トンネル台帳 トンネル記録（位置図、断面図、施工実績他）【様式A-3】
B4: フリガナ | E4: ='様式A-1'!D3 -> ヌクミトンネル | J4: 路線名 | M4: ='様式A-1'!J3 -> 一般県道三瀬川下松線 | S4: 作成者 | W4: ='様式A-1'!K5 -> 株式会社 長大 鷲尾 寛 | AC4: 作成年月日 | AF4: ='様式A-1'!R5 -> 46080
B5: 名 称 | E5: ='様式A-1'!D4 -> 温見トンネル | J5: 管理者名 | M5: ='様式A-1'!R3 -> 周南土木建築事務所
B6: 位置図・現況写真・標準断面図・地質縦断図・施工実績
B19: 位置図・現況写真・標準断面図・地質縦断図・施工実績
B32: 位置図・現況写真・標準断面図・地質縦断図・施工実績

Sheet 様式B (1)
B2: ■定期点検記録様式 トンネル変状・異常箇所写真位置図 【様式B】 | N2: 定期点検年月日 | P2: 45926 | S2: 施設ID | V2: 34.08936,131.90436
B3: フリガナ | C3: ヌクミトンネル | G3: 路線名 | H3: 三瀬川下松線 | K3: 管理者名 | L3: 周南土木建築事務所 | Q3: 定期点検実施者 | S3: 株式会社 長大 | V3: 起点 | W3: 緯度 | X3: 34.08911
B4: 名 称 | C4: 温見トンネル | S4: 鷲尾 寛 | W4: 経度 | X4: 131.90422
B5: 所在地 | C5: 自 | D5: 周南市中須南地先 | G5: トンネル工法 | I5: 矢板工法 | L5: トンネル延長 | N5: L= | O5: 51 | P5: ｍ | Q5: 自専道 or 一般道 | R5: 一般道 | S5: 代替路の有無 | U5: 有 | V5: 終点 | W5: 緯度 | X5: 34.08886
C6: 至 | D6: 下松市温見地先 | G6: 建設年度 | I6: 1954年 | L6: 幅員 | N6: L= | O6: 5.6 | P6: ｍ | S6: 緊急輸送道路 | U6: 指定なし | W6: 経度 | X6: 131.90394
B7: トンネル毎 の健全性の 診断の区分 | D7: Ⅱ
G8: 変状・異常 箇所数合計 | I8: トンネル本体工 | J8: 材質劣化 | K8: Ⅱ | L8: 30 | N8: Ⅲ | O8: 0 | Q8: Ⅳ | R8: 0 | T8: 附属物等 の取付状態 | V8: ◯ （応急措置後) | X8: 0
J9: 漏水 | K9: Ⅱ | L9: 16 | N9: Ⅲ | O9: 0 | Q9: Ⅳ | R9: 0
V10: ✕ | X10: 0
J11: 外力 | K11: Ⅱ | L11: 0 | N11: Ⅲ | O11: 0 | Q11: Ⅳ | R11: 0
B12: トンネル変状・異常箇所写真位置図
J29: 注１：本位置図は、見下げた状態で記載すること。 注２：覆工スパン番号は横断目地毎(矢板工法の場合は上半アーチの 横断目地毎)に設定すること。 | Q29: 注３：写真番号に付する変状番号は、各覆工スパンの変状に対して新たに確認された場合 は順次追加していくこと。 注４：横断目地の変状は前の覆工スパン番号で計上すること。 注５：１枚に収まらない場合は、複数枚に分けて作成すること。
C30: ※1 トンネル本体工の変状数は、材質劣化、漏水に起因するものは変状単位で、外力に起因するものはスパン単位で計上すること。
C31: ※2 トンネル本体工の変状に対しては、措置の必要性（Ⅱ～Ⅳ）について表記すること。また、点検前に実施された措置によりⅠと判定された箇所についても記載すること。
C32: ※3 附属物等の取付状態の○欄については、応急措置前に判定区分×とした箇所のうち応急措置により○判定とした箇所の数を記入すること。
C33: ※4 附属物等の異常番号は、本体工と番号が重複しないよう101番以降とする等の配慮を行い、分かりやすく記録すること。

Sheet 様式B (2)
B2: ■定期点検記録様式 トンネル変状・異常箇所写真位置図 【様式B】 | N2: 定期点検年月日 | P2: 45926 | S2: 施設ID | V2: 34.08936,131.90436
B3: フリガナ | C3: ヌクミトンネル | G3: 路線名 | H3: 三瀬川下松線 | K3: 管理者名 | L3: 周南土木建築事務所 | Q3: 定期点検実施者 | S3: 株式会社 長大 | V3: 起点 | W3: 緯度 | X3: 34.08911
B4: 名 称 | C4: 温見トンネル | S4: 鷲尾 寛 | W4: 経度 | X4: 131.90422
B5: 所在地 | C5: 自 | D5: 周南市中須南地先 | G5: トンネル工法 | I5: 矢板工法 | L5: トンネル延長 | N5: L= | O5: 51 | P5: ｍ | Q5: 自専道 or 一般道 | R5: 一般道 | S5: 代替路の有無 | U5: 有 | V5: 終点 | W5: 緯度 | X5: 34.08886
C6: 至 | D6: 下松市温見地先 | G6: 建設年度 | I6: 1954年 | L6: 幅員 | N6: L= | O6: 5.6 | P6: ｍ | S6: 緊急輸送道路 | U6: 指定なし | W6: 経度 | X6: 131.90394
B7: トンネル毎 の健全性の 診断の区分 | D7: Ⅱ
G8: 変状・異常 箇所数合計 | I8: トンネル本体工 | J8: 材質劣化 | K8: Ⅱ | L8: 30 | N8: Ⅲ | O8: 0 | Q8: Ⅳ | R8: 0 | T8: 附属物等 の取付状態 | V8: ◯ （応急措置後) | X8: 0
J9: 漏水 | K9: Ⅱ | L9: 16 | N9: Ⅲ | O9: 0 | Q9: Ⅳ | R9: 0
V10: ✕ | X10: 0
J11: 外力 | K11: Ⅱ | L11: 0 | N11: Ⅲ | O11: 0 | Q11: Ⅳ | R11: 0
B12: トンネル変状・異常箇所写真位置図
J29: 注１：本位置図は、見下げた状態で記載すること。 注２：覆工スパン番号は横断目地毎(矢板工法の場合は上半アーチの 横断目地毎)に設定すること。 | Q29: 注３：写真番号に付する変状番号は、各覆工スパンの変状に対して新たに確認された場合 は順次追加していくこと。 注４：横断目地の変状は前の覆工スパン番号で計上すること。 注５：１枚に収まらない場合は、複数枚に分けて作成すること。
C30: ※1 トンネル本体工の変状数は、材質劣化、漏水に起因するものは変状単位で、外力に起因するものはスパン単位で計上すること。
C31: ※2 トンネル本体工の変状に対しては、措置の必要性（Ⅱ～Ⅳ）について表記すること。また、点検前に実施された措置によりⅠと判定された箇所についても記載すること。
C32: ※3 附属物等の取付状態の○欄については、応急措置前に判定区分×とした箇所のうち応急措置により○判定とした箇所の数を記入すること。
C33: ※4 附属物等の異常番号は、本体工と番号が重複しないよう101番以降とする等の配慮を行い、分かりやすく記録すること。

Sheet 様式C-1-1
B2: ■定期点検記録様式 全スパン定期点検結果総括表（トンネル本体工） 【様式C-1-1】
B3: フリガナ | F3: ヌクミトンネル | I3: 路線名 | K3: 三瀬川下松線 | O3: 定期点検実施者 | P3: 株式会社 長大 | T3: 定期点検年月日 | X3: 45926
B4: 名 称 | F4: 温見トンネル | I4: 管理者名 | K4: 周南土木建築事務所 | P4: 鷲尾 寛
C5: 覆工 スパン 番号 | E5: 変状 番号 | F5: 距離 （m） | G5: 変状部位 | I5: 変 状 の 内 容 | O5: 前回定期点検時の状態 | P5: 今回定期点検結果 | T5: 措置履歴 | Y5: 対応方針 ・ 特記事項
O6: 44095
G7: 対象箇所 | H7: 部位区分 | I7: 変状区分 | J7: 変状種類 | M7: 変状の発生範囲の規模 | N7: 前回定期点検時の変状の発生範囲及び規模 | O7: 対策区分 | P7: 対策区分 | R7: 調査の 要否 | S7: 措置の 要否 | T7: 実施 | U7: 措置の実施状況
P8: 応急措置前 | Q8: 応急措置後
B9: 定期点検結果 | C9: PS | E9: 1 | F9: 0 | G9: 坑門 | H9: 面壁・妻壁等 | I9: 材質劣化 | J9: うき・はく離 | M9: 0.34m2 | N9: 0.34m2 | O9: Ⅱb | Q9: Ⅱa | R9: 否 | S9: 要対策 | T9: 継続 | U9: 監視(日常巡視) | Y9: はく落防止対策工
C10: S001 | E10: 1 | F10: 2.7 | G10: 覆工 | H10: 側壁（左側） | I10: 材質劣化 | J10: うき・はく離 | M10: 0.36m2 | N10: 0.36m2 | O10: Ⅱb | Q10: Ⅱa | R10: 否 | S10: 要対策 | T10: 継続 | U10: 監視(日常巡視) | Y10: はく落防止対策工
C11: S001 | E11: 2 | F11: 0.89999998 | G11: 覆工 | H11: アーチ（左側） | I11: 材質劣化 | J11: うき・はく離 | M11: 1.08m2 | N11: 1.08m2 | O11: Ⅱb | Q11: Ⅱb | R11: 否 | S11: 要監視 | T11: 継続 | U11: 監視(日常巡視) | Y11: 監視
C12: S001 | E12: 3 | F12: 1.2 | G12: 覆工 | H12: 側壁（左側） | I12: 材質劣化 | J12: その他 | M12: － | N12: 0.03m2 | O12: Ⅱb | Q12: Ⅰ | R12: 否 | S12: 否 | T12: 済 | U12: 漏水対策工を実施
C13: S001 | E13: 4 | F13: 1.8 | G13: 覆工 | H13: アーチ（左側） | I13: 材質劣化 | J13: うき・はく離 | M13: 2.02m2 | N13: 1.80m2 | O13: Ⅱb | Q13: Ⅱb | R13: 否 | S13: 要監視 | T13: 継続 | U13: 監視(日常巡視) | Y13: 監視
C14: S001 | E14: 5 | F14: 3.3 | G14: 覆工 | H14: アーチ（天端） | I14: 材質劣化 | J14: うき・はく離 | M14: 0.92m2 | N14: － | O14: Ⅱb | Q14: Ⅱa | R14: 否 | S14: 要対策 | T14: 継続 | U14: 監視(日常巡視) | Y14: はく落防止対策工
C15: S001 | E15: 6 | F15: 5.5999999 | G15: 覆工 | H15: アーチ（天端） | I15: 漏水 | J15: その他 | M15: － | N15: 2.85m2 | O15: Ⅱa | Q15: Ⅰ | R15: 否 | S15: 否 | T15: 済 | U15: 漏水対策工を実施
C16: S001 | E16: 7 | F16: 9.3000002 | G16: 覆工 | H16: アーチ（天端） | I16: 漏水 | J16: 漏水 | M16: 2.73m2 | N16: 2.75m2 | O16: Ⅱa | Q16: Ⅱa | R16: 否 | S16: 要対策 | T16: － | U16: － | Y16: 漏水防止対策工
C17: S001 | E17: 8 | F17: 9.5 | G17: 覆工 | H17: アーチ（天端） | I17: 材質劣化 | J17: その他 | M17: － | N17: 覆工厚3cm,空洞深さ20cm | O17: Ⅲ | Q17: Ⅰ | R17: 否 | S17: 否 | T17: 済 | U17: はく落防止対策工を実施
C18: S001 | E18: 9 | F18: 6.5 | G18: 覆工 | H18: アーチ（天端） | I18: 漏水 | J18: 漏水 | M18: 3.30m2 | N18: 3.30m2 | O18: Ⅱa | Q18: Ⅱa | R18: 否 | S18: 要対策 | T18: － | U18: － | Y18: 漏水防止対策工
C19: S001 | E19: 10 | F19: 8.5 | G19: 覆工 | H19: アーチ（天端） | I19: 材質劣化 | J19: その他 | M19: － | N19: 0.02m2 | O19: Ⅱb | Q19: Ⅰ | R19: 否 | S19: 否 | T19: 済 | U19: はく落防止対策工を実施
C20: S001 | E20: 11 | F20: 2.4000001 | G20: 覆工 | H20: アーチ（右側） | I20: 材質劣化 | J20: うき・はく離 | M20: 1.04m2 | N20: 0.30m2 | O20: Ⅱb | Q20: Ⅱb | R20: 否 | S20: 要監視 | T20: 継続 | U20: 監視(日常巡視) | Y20: 監視
C21: S001 | E21: 12 | F21: 7.5999999 | G21: 覆工 | H21: アーチ（右側） | I21: 材質劣化 | J21: うき・はく離 | M21: 0.05m2 | N21: 0.05m2 | O21: Ⅱb | Q21: Ⅱb | R21: 否 | S21: 要監視 | T21: 継続 | U21: 監視(日常巡視) | Y21: 監視
C22: S001 | E22: 13 | F22: 8.3000002 | G22: 覆工 | H22: アーチ（天端） | I22: 漏水 | J22: 漏水 | M22: 2.68m2 | N22: 2.85m2 | O22: Ⅱa | Q22: Ⅱa | R22: 否 | S22: 要対策 | T22: － | U22: － | Y22: 漏水防止対策工
C23: S001 | E23: 14 | F23: 4.1999998 | G23: 覆工 | H23: アーチ（右側） | I23: 材質劣化 | J23: うき・はく離 | M23: 0.06m2 | N23: 0.05m2 | O23: Ⅱb | Q23: Ⅱb | R23: 否 | S23: 要監視 | T23: 継続 | U23: 監視(日常巡視) | Y23: 監視
C24: S001 | E24: 15 | F24: 1.4 | G24: 覆工 | H24: アーチ（左側） | I24: 材質劣化 | J24: うき・はく離 | M24: 0.03m2 | N24: － | O24: － | Q24: Ⅱa | R24: 否 | S24: 要対策 | T24: － | U24: － | Y24: はく落防止対策工
C25: S001 | E25: 16 | F25: 9.1 | G25: 覆工 | H25: アーチ（左側） | I25: 材質劣化 | J25: 補修・補強材の破損 | M25: 0.02m2 | N25: － | O25: － | Q25: Ⅱb | R25: 否 | S25: 要監視 | T25: － | U25: － | Y25: 監視
C26: S001 | E26: 17 | F26: 4.3 | G26: 覆工 | H26: アーチ（天端） | I26: 材質劣化 | J26: その他 | M26: － | N26: － | O26: － | Q26: Ⅰ | R26: 否 | S26: 否 | T26: 済 | U26: はく落防止対策工を実施
C27: S001 | E27: 18 | F27: 9.1 | G27: 覆工 | H27: アーチ（天端） | I27: 材質劣化 | J27: うき・はく離 | M27: 0.14m2 | N27: － | O27: － | Q27: Ⅱb | R27: 否 | S27: 要監視 | T27: － | U27: － | Y27: 監視
C28: S001 | E28: 19 | F28: 6.1 | G28: 覆工 | H28: アーチ（右側） | I28: 材質劣化 | J28: 圧ざ、ひび割れ | M28: 長さ1.70m×幅1.0mm | N28: － | O28: － | Q28: Ⅱb | R28: 否 | S28: 要監視 | T28: － | U28: － | Y28: 監視
C29: S002 | E29: 1 | F29: 13.6 | G29: 覆工 | H29: アーチ（左側） | I29: 材質劣化 | J29: うき・はく離 | M29: 0.02m2 | N29: 0.02m2 | O29: Ⅱb | Q29: Ⅱa | R29: 否 | S29: 要対策 | T29: 継続 | U29: 監視(日常巡視) | Y29: はく落防止対策工
C30: S002 | E30: 2 | F30: 15.8 | G30: 覆工 | H30: アーチ（左側） | I30: 材質劣化 | J30: その他 | M30: － | N30: 0.41m2 | O30: Ⅱa | Q30: Ⅰ | R30: 否 | S30: 否 | T30: 済 | U30: はく落防止対策工を実施
C31: S002 | E31: 3 | F31: 18.9 | G31: 覆工 | H31: 側壁（左側） | I31: 材質劣化 | J31: うき・はく離 | M31: 0.02m2 | N31: 0.02m2 | O31: Ⅱb | Q31: Ⅱb | R31: 否 | S31: 要監視 | T31: 継続 | U31: 監視(日常巡視) | Y31: 監視
C32: S002 | E32: 4 | F32: 10.4 | G32: 覆工 | H32: アーチ（天端） | I32: 材質劣化 | J32: その他 | M32: － | N32: 0.04m2 | O32: Ⅱb | Q32: Ⅰ | R32: 否 | S32: 否 | T32: 済 | U32: はく落防止対策工を実施
C33: S002 | E33: 5 | F33: 13.5 | G33: 覆工 | H33: アーチ（左側） | I33: 漏水 | J33: 漏水 | M33: 2.88m2 | N33: 2.88m2 | O33: Ⅱb | Q33: Ⅱb | R33: 否 | S33: 要監視 | T33: 継続 | U33: 監視(日常巡視) | Y33: 監視
C34: S002 | E34: 6 | F34: 12.3 | G34: 覆工 | H34: アーチ（天端） | I34: 材質劣化 | J34: うき・はく離 | M34: 0.08m2 | N34: 0.08m2 | O34: Ⅱa | Q34: Ⅱa | R34: 否 | S34: 要対策 | T34: － | U34: － | Y34: はく落防止対策工
C35: S002 | E35: 7 | F35: 13.7 | G35: 覆工 | H35: アーチ（天端） | I35: 漏水 | J35: その他 | M35: － | N35: 3.10m2 | O35: Ⅱa | Q35: Ⅰ | R35: 否 | S35: 否 | T35: 済 | U35: 漏水対策工を実施
C36: S002 | E36: 8 | F36: 11.2 | G36: 覆工 | H36: アーチ（天端） | I36: 材質劣化 | J36: うき・はく離 | M36: 1.24m2 | N36: 2.20m2 | O36: Ⅱb | Q36: Ⅱb | R36: 否 | S36: 要監視 | T36: 継続 | U36: 監視(日常巡視) | Y36: 監視
C37: S002 | E37: 9 | F37: 16.5 | G37: 覆工 | H37: アーチ（右側） | I37: 材質劣化 | J37: うき・はく離 | M37: 0.06m2 | N37: 0.06m2 | O37: Ⅱb | Q37: Ⅱb | R37: 否 | S37: 要監視 | T37: 継続 | U37: 監視(日常巡視) | Y37: 監視
C38: S002 | E38: 10 | F38: 18.9 | G38: 覆工 | H38: 側壁（右側） | I38: 材質劣化 | J38: その他 | M38: － | N38: 0.04m2 | O38: Ⅱb | Q38: Ⅰ | R38: 否 | S38: 否 | T38: 済 | U38: 漏水対策工を実施
C39: S002 | E39: 11 | F39: 14.4 | G39: 覆工 | H39: アーチ（左側） | I39: 材質劣化 | J39: 補修・補強材の破損 | M39: 0.02m2 | N39: － | O39: － | Q39: Ⅱb | R39: 否 | S39: 要監視 | T39: － | U39: － | Y39: 監視
C40: S002 | E40: 12 | F40: 17.2 | G40: 覆工 | H40: アーチ（左側） | I40: 材質劣化 | J40: うき・はく離 | M40: 0.36m2 | N40: － | O40: － | Q40: Ⅱb | R40: 否 | S40: 要監視 | T40: － | U40: － | Y40: 監視
C41: S002 | E41: 13 | F41: 13.8 | G41: 覆工 | H41: アーチ（天端） | I41: 漏水 | J41: 漏水 | M41: 3.05m2 | N41: － | O41: － | Q41: Ⅱa | R41: 否 | S41: 要対策 | T41: － | U41: － | Y41: 漏水対策工
C42: S002 | E42: 14 | F42: 12.3 | G42: 覆工 | H42: アーチ（天端） | I42: 漏水 | J42: 漏水 | M42: 3.10m2 | N42: － | O42: － | Q42: Ⅱa | R42: 否 | S42: 要対策 | T42: － | U42: － | Y42: 漏水対策工
B43: 定期点検結果 | C43: S003 | E43: 1 | F43: 22.4 | G43: 覆工 | H43: アーチ（左側） | I43: 材質劣化 | J43: うき・はく離 | M43: 0.05m2 | N43: 0.05m2 | O43: Ⅱb | Q43: Ⅱa | R43: 否 | S43: 要対策 | T43: 継続 | U43: 監視(日常巡視) | Y43: はく落防止対策工
C44: S003 | E44: 2 | F44: 26.200001 | G44: 覆工 | H44: アーチ（天端） | I44: 材質劣化 | J44: その他 | M44: － | N44: 0.45m2 | O44: Ⅰ | Q44: Ⅰ | R44: 否 | S44: 否 | T44: 済 | U44: はく落防止対策工を実施
C45: S003 | E45: 3 | F45: 26.6 | G45: 覆工 | H45: アーチ（左側） | I45: 漏水 | J45: 漏水 | M45: 9.80m2 | N45: 9.80m2 | O45: Ⅱb | Q45: Ⅱb | R45: 否 | S45: 要監視 | T45: 継続 | U45: 監視(日常巡視) | Y45: 監視
C46: S003 | E46: 4 | F46: 26.6 | G46: 覆工 | H46: アーチ（天端） | I46: 材質劣化 | J46: その他 | M46: － | N46: 0.08m2 | O46: Ⅱa | Q46: Ⅰ | R46: 否 | S46: 否 | T46: 済 | U46: はく落防止対策工を実施
C47: S003 | E47: 5 | F47: 24.4 | G47: 覆工 | H47: アーチ（天端） | I47: 漏水 | J47: 漏水 | M47: 3.30m2 | N47: 3.40m2 | O47: Ⅱa | Q47: Ⅱa | R47: 否 | S47: 要対策 | T47: － | U47: － | Y47: 漏水防止対策工
C48: S003 | E48: 6 | F48: 27.6 | G48: 覆工 | H48: アーチ（天端） | I48: 漏水 | J48: その他 | M48: － | N48: 2.95m2 | O48: Ⅱa | Q48: Ⅰ | R48: 否 | S48: 否 | T48: 済 | U48: 漏水対策工を実施
C49: S003 | E49: 7 | F49: 29.4 | G49: 覆工 | H49: アーチ（天端） | I49: 漏水 | J49: その他 | M49: － | N49: 2.95m2 | O49: Ⅱa | Q49: Ⅰ | R49: 否 | S49: 否 | T49: 済 | U49: 漏水対策工を実施
C50: S003 | E50: 8 | F50: 27.5 | G50: 覆工 | H50: アーチ（天端） | I50: 漏水 | J50: その他 | M50: － | N50: 8.71m2 | O50: Ⅱa | Q50: Ⅰ | R50: 否 | S50: 否 | T50: 済 | U50: 漏水対策工を実施
C51: S003 | E51: 9 | F51: 22.799999 | G51: 覆工 | H51: アーチ（右側） | I51: 材質劣化 | J51: その他 | M51: － | N51: 0.12m2 | O51: Ⅱb | Q51: Ⅰ | R51: 否 | S51: 否 | T51: 済 | U51: はく落防止対策工を実施
C52: S003 | E52: 10 | F52: 25.1 | G52: 覆工 | H52: アーチ（右側） | I52: 材質劣化 | J52: うき・はく離 | M52: 0.02m2 | N52: 0.02m2 | O52: Ⅱb | Q52: Ⅱa | R52: 否 | S52: 要対策 | T52: 継続 | U52: 監視(日常巡視) | Y52: はく落防止対策工
C53: S003 | E53: 11 | F53: 27.299999 | G53: 覆工 | H53: アーチ（天端） | I53: 材質劣化 | J53: うき・はく離 | M53: 0.12m2 | N53: 0.12m2 | O53: Ⅱa | Q53: Ⅱa | R53: 否 | S53: 要対策 | T53: － | U53: － | Y53: はく落防止対策工
C54: S003 | E54: 12 | F54: 27.9 | G54: 覆工 | H54: アーチ（天端） | I54: 材質劣化 | J54: うき・はく離 | M54: 0.03m2 | N54: 0.05m2 | O54: Ⅱb | Q54: Ⅱb | R54: 否 | S54: 要監視 | T54: 継続 | U54: 監視(日常巡視) | Y54: 監視
C55: S003 | E55: 13 | F55: 29.3 | G55: 覆工 | H55: アーチ（左側） | I55: 材質劣化 | J55: うき・はく離 | M55: 0.44m2 | N55: － | O55: － | Q55: Ⅱb | R55: 否 | S55: 要監視 | T55: － | U55: － | Y55: 監視
C56: S003 | E56: 14 | F56: 25.9 | G56: 覆工 | H56: アーチ（天端） | I56: 漏水 | J56: 漏水 | M56: 2.80m2 | N56: － | O56: － | Q56: Ⅱa | R56: 否 | S56: 要対策 | T56: － | U56: － | Y56: 漏水対策工
C57: S004 | E57: 1 | F57: 30.700001 | G57: 覆工 | H57: アーチ（左側） | I57: 漏水 | J57: 漏水 | M57: 5.20m2 | N57: 10.73m2 | O57: Ⅱb | Q57: Ⅱb | R57: 否 | S57: 要監視 | T57: 継続 | U57: 監視(日常巡視) | Y57: 監視
C58: S004 | E58: 2 | F58: 31.299999 | G58: 覆工 | H58: 側壁（左側） | I58: 材質劣化 | J58: うき・はく離 | M58: 0.04m2 | N58: 0.04m2 | O58: Ⅱb | Q58: Ⅱb | R58: 否 | S58: 要監視 | T58: 継続 | U58: 監視(日常巡視) | Y58: 監視
C59: S004 | E59: 3 | F59: 33.5 | G59: 覆工 | H59: アーチ（左側） | I59: 材質劣化 | J59: その他 | M59: － | N59: 0.48m2 | O59: Ⅱb | Q59: Ⅰ | R59: 否 | S59: 否 | T59: 済 | U59: 漏水対策工を実施
C60: S004 | E60: 4 | F60: 30.4 | G60: 覆工 | H60: アーチ（天端） | I60: 材質劣化 | J60: 補修・補強材の破損 | M60: 0.10m2 | N60: 0.10m2 | O60: Ⅱb | Q60: Ⅱb | R60: 否 | S60: 要監視 | T60: 継続 | U60: 監視(日常巡視) | Y60: 監視
C61: S004 | E61: 5 | F61: 32.799999 | G61: 覆工 | H61: アーチ（天端） | I61: 漏水 | J61: 漏水 | M61: 3.20m2 | N61: 3.10m2 | O61: Ⅱa | Q61: Ⅱa | R61: 否 | S61: 要対策 | T61: － | U61: － | Y61: 漏水防止対策工
C62: S004 | E62: 6 | F62: 34.400002 | G62: 覆工 | H62: アーチ（天端） | I62: 漏水 | J62: その他 | M62: － | N62: 3.50m2 | O62: Ⅱa | Q62: Ⅰ | R62: 否 | S62: 否 | T62: 済 | U62: 漏水対策工を実施
C63: S004 | E63: 7 | F63: 37.400002 | G63: 覆工 | H63: アーチ（天端） | I63: 漏水 | J63: その他 | M63: － | N63: 10.92m2 | O63: Ⅱa | Q63: Ⅰ | R63: 否 | S63: 否 | T63: 済 | U63: 漏水対策工を実施
C64: S004 | E64: 8 | F64: 38.700001 | G64: 覆工 | H64: アーチ（天端） | I64: 漏水 | J64: その他 | M64: － | N64: 3.50m2 | O64: Ⅱa | Q64: Ⅰ | R64: 否 | S64: 否 | T64: 済 | U64: 漏水対策工を実施
C65: S004 | E65: 9 | F65: 32.900002 | G65: 覆工 | H65: アーチ（天端） | I65: 漏水 | J65: 漏水 | M65: 3.18m2 | N65: 3.00m2 | O65: Ⅱa | Q65: Ⅱa | R65: 否 | S65: 要対策 | T65: － | U65: － | Y65: 漏水防止対策工
C66: S004 | E66: 10 | F66: 33.5 | G66: 覆工 | H66: アーチ（天端） | I66: 漏水 | J66: 漏水 | M66: 2.66m2 | N66: 2.95m2 | O66: Ⅱa | Q66: Ⅱa | R66: 否 | S66: 要対策 | T66: － | U66: － | Y66: 漏水防止対策工
C67: S004 | E67: 11 | F67: 30.5 | G67: 覆工 | H67: アーチ（右側） | I67: 材質劣化 | J67: その他 | M67: － | N67: 0.29m2 | O67: Ⅱb | Q67: Ⅰ | R67: 否 | S67: 否 | T67: 済 | U67: 漏水対策工を実施
C68: S004 | E68: 12 | F68: 34.5 | G68: 覆工 | H68: アーチ（天端） | I68: 材質劣化 | J68: その他 | M68: － | N68: 0.04m2 | O68: Ⅱb | Q68: Ⅰ | R68: 否 | S68: 否 | T68: 済 | U68: 漏水対策工を実施
C69: S004 | E69: 13 | F69: 35.299999 | G69: 覆工 | H69: 側壁（右側） | I69: 材質劣化 | J69: その他 | M69: － | N69: 0.17m2 | O69: Ⅱb | Q69: Ⅰ | R69: 否 | S69: 否 | T69: 済 | U69: 漏水対策工を実施
C70: S004 | E70: 14 | F70: 33.700001 | G70: 路面 | H70: 側溝 | J70: その他 | M70: 3.30m2 | N70: 3.30m2 | O70: Ⅱb | R70: 否 | S70: 否 | T70: － | U70: －
C71: S004 | E71: 15 | F71: 35 | G71: 路面 | H71: 側溝 | J71: その他 | M71: 0.50m×51.00m | N71: 5.00m2 | O71: Ⅱb | R71: 否 | S71: 否 | T71: － | U71: －
C72: S004 | E72: 16 | F72: 37 | G72: 路面 | H72: 車道 | I72: 漏水 | J72: 滞水 | M72: 0.13m2 | N72: 7.50m2 | O72: Ⅱb | Q72: Ⅱb | R72: 否 | S72: 要監視 | T72: 継続 | U72: 監視(日常巡視) | Y72: 監視
C73: S004 | E73: 17 | F73: 37.7 | G73: 覆工 | H73: アーチ（天端） | I73: 漏水 | J73: 漏水 | M73: 3.30m2 | N73: － | O73: － | Q73: Ⅱa | R73: 否 | S73: 要対策 | T73: － | U73: － | Y73: 漏水防止対策工
C74: S004 | E74: 18 | F74: 33.8 | G74: 覆工 | H74: アーチ（右側） | I74: 材質劣化 | J74: うき・はく離 | M74: 0.04m2 | N74: － | O74: － | Q74: Ⅱb | R74: 否 | S74: 要監視 | T74: － | U74: － | Y74: 監視
C75: S005 | E75: 1 | F75: 47 | G75: 覆工 | H75: アーチ（左側） | I75: 材質劣化 | J75: その他 | M75: － | N75: 2.90m2 | O75: Ⅱb | Q75: Ⅰ | R75: 否 | S75: 否 | T75: 済 | U75: 漏水対策工を実施
C76: S005 | E76: 2 | F76: 49.299999 | G76: 覆工 | H76: アーチ（左側） | I76: 漏水 | J76: その他 | M76: － | N76: 3.90m2 | O76: Ⅱb | Q76: Ⅰ | R76: 否 | S76: 否 | T76: 済 | U76: 漏水対策工を実施
B77: 定期点検結果 | C77: S005 | E77: 3 | F77: 40.599998 | G77: 覆工 | H77: アーチ（左側） | I77: 材質劣化 | J77: 補修・補強材の破損 | M77: 0.02m2 | N77: 0.02m2 | O77: Ⅱb | Q77: Ⅱb | R77: 否 | S77: 要監視 | T77: 継続 | U77: 監視(日常巡視) | Y77: 監視
C78: S005 | E78: 4 | F78: 45.200001 | G78: 覆工 | H78: アーチ（右側） | I78: 材質劣化 | J78: その他 | M78: － | N78: 0.09m2 | O78: Ⅱb | Q78: Ⅰ | R78: 否 | S78: 否 | T78: 済 | U78: 漏水対策工を実施
C79: S005 | E79: 5 | F79: 41.200001 | G79: 覆工 | H79: アーチ（右側） | I79: 材質劣化 | J79: その他 | M79: － | N79: 0.09m2 | O79: Ⅱb | Q79: Ⅰ | R79: 否 | S79: 否 | T79: 済 | U79: 漏水対策工を実施
C80: PE | E80: 1 | F80: 51 | G80: 坑門 | H80: 面壁・妻壁等 | I80: 材質劣化 | J80: うき・はく離 | M80: 0.01m2 | N80: 0.01m2 | O80: Ⅱa | Q80: Ⅱa | R80: 否 | S80: 要対策 | T80: － | U80: － | Y80: はく落防止対策工
C81: PE | E81: 2 | F81: 51 | G81: 坑門 | H81: 面壁・妻壁等 | I81: 材質劣化 | J81: うき・はく離 | M81: 0.03m2 | N81: 0.02m2 | O81: Ⅱb | Q81: Ⅱb | R81: 否 | S81: 要監視 | T81: 継続 | U81: 監視(日常巡視) | Y81: 監視
C82: PE | E82: 3 | F82: 51 | G82: 坑門 | H82: 面壁・妻壁等 | I82: 漏水 | J82: 漏水 | M82: 2.31m2 | N82: － | O82: － | Q82: Ⅱb | R82: 否 | S82: 要監視 | T82: － | U82: － | Y82: 監視
C111: ※ 対策区分（応急措置後）のⅡb～Ⅳについて記入すること。また、点検前に実施された措置によりⅠと判定された変状も記入すること。
C112: ※ 応急措置を実施しないで判定した変状の対策区分は、対策区分の応急措置後の欄に記入すること。
C113: ※ 変状の除去が不完全で、緊急対応が必要な場合は対応方針欄に記入すること。
C114: ※ １区間の覆工に複数の変状がある場合は、変状箇所毎に記入すること。
C115: ※ 措置・監視点検を行った場合には、措置履歴、特記事項に記録を残すこと。（実施年度も記載）
C116: ※ 行が不足する場合は、適時、表の行を増やすこと。

Sheet 様式C-1-2
B2: ■定期点検記録様式 定期点検結果総括表（トンネル内附属物等の取付状態） 【様式C-1-2】
B3: フリガナ | F3: ヌクミトンネル | J3: 路線名 | K3: 三瀬川下松線 | M3: 定期点検実施者 | O3: 株式会社 長大 | S3: 定期点検年月日 | W3: 45926
B4: 名 称 | F4: 温見トンネル | J4: 管理者名 | K4: 周南土木建築事務所 | O4: 鷲尾 寛
B5: 定期点検結果 | C5: 覆工 スパン 番号 | E5: 異常 番号 | F5: 距離 （m） | G5: 異常部位 | J5: 異 常 の 内 容 | N5: 定期点検結果 | P5: 応急措置の 実施状況 | V5: 対応方針 ・ 特記事項
G6: 対象箇所 | I6: 部位区分 | J6: 異常種類 | L6: 異常の発生範囲の規模 | N6: 異常判定区分 | P6: 実施 | Q6: 応急措置の内容
N7: 応急措置前 | O7: 応急措置後
C42: ※ 異常判定区分×について記入すること。また、応急措置により○と判定された箇所も記入すること。
C43: ※ 応急措置を実施しないで判定した箇所の異常判定区分は、異常判定区分の応急措置後の欄に記入すること。
C44: ※ 異常の除去が不完全で、緊急対応が必要な場合は対応方針欄に記入すること。
C45: ※ １スパンの覆工に複数の異常がある場合は、異常箇所毎に記入すること。
C46: ※ 行が不足する場合は、適時、表の行を増やすこと。

Sheet 様式C-2
B2: ■定期点検記録様式 状態の把握の内容 【様式C-2】
B3: フリガナ | E3: ヌクミトンネル | H3: 路線名 | J3: 三瀬川下松線 | M3: 定期点検実施者 | Q3: 株式会社 長大 | U3: 定期点検年月日 | X3: 45926
B4: 名 称 | E4: 温見トンネル | H4: 管理者名 | J4: 周南土木建築事務所 | Q4: 鷲尾 寛
B5: 状態の把握の内容 | C5: 覆工スパン 番号 | E5: 変状 番号 | F5: 状態の把握の内容
F6: 年月日 | H6: 内容 | O6: 結果 | Y6: 対策区分の 判定
B22: 注）状態の把握において、微破壊・非破壊検査や各種試験等を実施した場合について記載する。
B23: ※ 行が不足する場合は、適時、表の行を増やすこと。

Sheet 様式D-1-1 (1)
B2: ■定期点検記録様式 変状写真台帳【様式D-1-1】 | R2: 施設ID | T2: 34.08936,131.90436
B3: フリガナ | E3: ヌクミトンネル | H3: 路 線 名 | J3: 三瀬川下松線 | M3: 定期点検実施者 | P3: 株式会社 長大 | S3: 定期点検年月日 | U3: 45926
B4: 名 称 | E4: 温見トンネル | H4: 管理者名 | J4: 周南土木建築事務所 | P4: 鷲尾 寛
B5: 写真 番号 | C5: 覆工スパン 番号 | E5: PS | M5: 写真 番号 | N5: 覆工スパン 番号 | P5: S001
C6: 変状番号 | E6: 1 | N6: 変状番号 | P6: 1
B7: 変状 部位 | C7: 対象箇所 | E7: 坑門 | M7: 変状 部位 | N7: 対象箇所 | P7: 覆工
C8: 部位区分 | E8: 面壁・妻壁等 | N8: 部位区分 | P8: 側壁（左側）
B9: 変状種類 | E9: うき・はく離 | M9: 変状種類 | P9: うき・はく離
B10: 対策 区分 | C10: 変状区分 | E10: 材質劣化 | M10: 対策 区分 | N10: 変状区分 | P10: 材質劣化
C11: 応急措置前 | N11: 応急措置前
C12: 応急措置後 | E12: Ⅱa | N12: 応急措置後 | P12: Ⅱa
B13: 変状の発生範囲及び規模 | E13: 0.34m2(0.20m×1.70m) | H13: 前回変状の発生範囲及び規模 | J13: 0.20m×1.70m (判定Ⅱb) | M13: 変状の発生範囲及び規模 | P13: 0.36m2(0.60m×0.60m) | S13: 前回変状の発生範囲及び規模 | U13: 0.60m×0.60m (判定Ⅱb)
B14: 対策履歴 | E14: 監視(日常巡視) | H14: 実施状況（実施日） | J14: 継続 | M14: 対策履歴 | P14: 監視(日常巡視) | S14: 実施状況（実施日） | U14: 継続
B15: メモ | E15: 面壁に豆板。将来的に利用者に影響が及ぶ可能性があるため、重点的な監視及び計画的な対策を必要とする。 ※打音異常無し | M15: メモ | P15: 側壁部(左側)に豆板(表面劣化)。将来的に利用者に影響が及ぶ可能性があるため、重点的な監視及び計画的な対策を必要とする。 ※打音異常無し
B16: 写真 番号 | C16: 覆工スパン 番号 | E16: S001 | M16: 写真 番号 | N16: 覆工スパン 番号 | P16: S001
C17: 変状番号 | E17: 2 | N17: 変状番号 | P17: 3
B18: 変状 部位 | C18: 対象箇所 | E18: 覆工 | M18: 変状 部位 | N18: 対象箇所 | P18: 覆工
C19: 部位区分 | E19: アーチ（左側） | N19: 部位区分 | P19: 側壁（左側）
B20: 変状種類 | E20: うき・はく離 | M20: 変状種類 | P20: その他
B21: 対策 区分 | C21: 変状区分 | E21: 材質劣化 | M21: 対策 区分 | N21: 変状区分 | P21: 材質劣化
C22: 応急措置前 | N22: 応急措置前
C23: 応急措置後 | E23: Ⅱb | N23: 応急措置後 | P23: Ⅰ
B24: 変状の発生範囲及び規模 | E24: 1.08m2(1.80m×0.60m) | H24: 前回変状の発生範囲及び規模 | J24: 1.80m×0.60m (判定Ⅱb) | M24: 変状の発生範囲及び規模 | P24: － | S24: 前回変状の発生範囲及び規模 | U24: 0.50m×0.05m (判定Ⅱb)
B25: 対策履歴 | E25: 監視(日常巡視) | H25: 実施状況（実施日） | J25: 継続 | M25: 対策履歴 | P25: 漏水対策工を実施 | S25: 実施状況（実施日） | U25: 不明
B26: メモ | E26: アーチ部(左側)に表面劣化。現状で利用者被害の可能性は低いため、監視にとどめる。 ※打音異常無し | M26: メモ | P26: 側壁部(左側)の前回うきがみられた箇所に対策実施(線導水工)。対策箇所に劣化・損傷は無く、現状で利用者被害がないと判断しⅠ判定とした。 ※打音異常無し
C27: ※ 応急措置後の対策区分について添付すること。また、点検前に 実施された措置によりⅠと判定された箇所も添付すること。 | N27: ※ 変状の発生範囲の規模とは、対策を行う際に参考となる変状の長さや面積をいう。
N28: ※ 応急措置を実施しないで決定した変状の対策区分は、対策区分の応急措置後の欄に記入すること。
C29: ※ たたき落としを実施した場合は、実施後の写真を添付すること。 | N29: ※ 変状の発生範囲の規模は、面積・寸法を記載すること。(ひび割れ幅のみmmとし、その他をm表記とする)
N30: ※ 構造用鋼材以外の異物に伴ううき・はく離については、メモ欄に異物の概要を記入すること。

Sheet 様式D-1-1 (2)
B2: ■定期点検記録様式 変状写真台帳【様式D-1-1】 | R2: 施設ID | T2: 34.08936,131.90436
B3: フリガナ | E3: ヌクミトンネル | H3: 路 線 名 | J3: 三瀬川下松線 | M3: 定期点検実施者 | P3: 株式会社 長大 | S3: 定期点検年月日 | U3: 45926
B4: 名 称 | E4: 温見トンネル | H4: 管理者名 | J4: 周南土木建築事務所 | P4: 鷲尾 寛
B5: 写真 番号 | C5: 覆工スパン 番号 | E5: S001 | M5: 写真 番号 | N5: 覆工スパン 番号 | P5: S001
C6: 変状番号 | E6: 4 | N6: 変状番号 | P6: 5
B7: 変状 部位 | C7: 対象箇所 | E7: 覆工 | M7: 変状 部位 | N7: 対象箇所 | P7: 覆工
C8: 部位区分 | E8: アーチ（左側） | N8: 部位区分 | P8: アーチ（天端）
B9: 変状種類 | E9: うき・はく離 | M9: 変状種類 | P9: うき・はく離
B10: 対策 区分 | C10: 変状区分 | E10: 材質劣化 | M10: 対策 区分 | N10: 変状区分 | P10: 材質劣化
C11: 応急措置前 | N11: 応急措置前
C12: 応急措置後 | E12: Ⅱb | N12: 応急措置後 | P12: Ⅱa
B13: 変状の発生範囲及び規模 | E13: 2.02m2(1.10m×1.10m、他1箇所) | H13: 前回変状の発生範囲及び規模 | J13: 1.1m×1.1m、他1箇所 (判定Ⅱb) | M13: 変状の発生範囲及び規模 | P13: 0.92m2(0.70m×0.40m、他1箇所) | S13: 前回変状の発生範囲及び規模 | U13: 0.7m×0.5m、他2箇所 (判定Ⅱb)
B14: 対策履歴 | E14: 監視(日常巡視) | H14: 実施状況（実施日） | J14: 継続 | M14: 対策履歴 | P14: 監視(日常巡視) | S14: 実施状況（実施日） | U14: 継続
B15: メモ | E15: アーチ部(左側)に豆板。現状で利用者被害の可能性は低いため、監視にとどめる。 ※打音異常無し | M15: メモ | P15: アーチ部(天端)に豆板(一部対策実施)。将来的に利用者に影響が及ぶ可能性があるため、重点的な監視及び計画的な対策を必要とする。 ※打音異常無し
B16: 写真 番号 | C16: 覆工スパン 番号 | E16: S001 | M16: 写真 番号 | N16: 覆工スパン 番号 | P16: S001
C17: 変状番号 | E17: 6 | N17: 変状番号 | P17: 7
B18: 変状 部位 | C18: 対象箇所 | E18: 覆工 | M18: 変状 部位 | N18: 対象箇所 | P18: 覆工
C19: 部位区分 | E19: アーチ（天端） | N19: 部位区分 | P19: アーチ（天端）
B20: 変状種類 | E20: その他 | M20: 変状種類 | P20: 漏水
B21: 対策 区分 | C21: 変状区分 | E21: 漏水 | M21: 対策 区分 | N21: 変状区分 | P21: 漏水
C22: 応急措置前 | N22: 応急措置前
C23: 応急措置後 | E23: Ⅰ | N23: 応急措置後 | P23: Ⅱa
B24: 変状の発生範囲及び規模 | E24: － | H24: 前回変状の発生範囲及び規模 | J24: 5.70m×0.50m (判定Ⅱa) | M24: 変状の発生範囲及び規模 | P24: 2.73m2(5.45m×0.50m) | S24: 前回変状の発生範囲及び規模 | U24: 5.50m×0.50m (判定Ⅱa)
B25: 対策履歴 | E25: 漏水対策工を実施 | H25: 実施状況（実施日） | J25: 不明 | M25: 対策履歴 | P25: － | S25: 実施状況（実施日） | U25: －
B26: メモ | E26: アーチ部(天端)の前回滴水がみられた箇所に対策実施(線導水工)。対策箇所に劣化・損傷は無く、現状で利用者被害がないと判断しⅠ判定とした。 | M26: メモ | P26: アーチ部(天端)ににじみ(前回滴水)。将来的に利用者に影響が及ぶ可能性があるため、重点的な監視及び計画的な対策を必要とする。
C27: ※ 応急措置後の対策区分について添付すること。また、点検前に 実施された措置によりⅠと判定された箇所も添付すること。 | N27: ※ 変状の発生範囲の規模とは、対策を行う際に参考となる変状の長さや面積をいう。
N28: ※ 応急措置を実施しないで決定した変状の対策区分は、対策区分の応急措置後の欄に記入すること。
C29: ※ たたき落としを実施した場合は、実施後の写真を添付すること。 | N29: ※ 変状の発生範囲の規模は、面積・寸法を記載すること。(ひび割れ幅のみmmとし、その他をm表記とする)
N30: ※ 構造用鋼材以外の異物に伴ううき・はく離については、メモ欄に異物の概要を記入すること。

Sheet 様式D-1-1 (3)
B2: ■定期点検記録様式 変状写真台帳【様式D-1-1】 | R2: 施設ID | T2: 34.08936,131.90436
B3: フリガナ | E3: ヌクミトンネル | H3: 路 線 名 | J3: 三瀬川下松線 | M3: 定期点検実施者 | P3: 株式会社 長大 | S3: 定期点検年月日 | U3: 45926
B4: 名 称 | E4: 温見トンネル | H4: 管理者名 | J4: 周南土木建築事務所 | P4: 鷲尾 寛
B5: 写真 番号 | C5: 覆工スパン 番号 | E5: S001 | M5: 写真 番号 | N5: 覆工スパン 番号 | P5: S001
C6: 変状番号 | E6: 8 | N6: 変状番号 | P6: 9
B7: 変状 部位 | C7: 対象箇所 | E7: 覆工 | M7: 変状 部位 | N7: 対象箇所 | P7: 覆工
C8: 部位区分 | E8: アーチ（天端） | N8: 部位区分 | P8: アーチ（天端）
B9: 変状種類 | E9: その他 | M9: 変状種類 | P9: 漏水
B10: 対策 区分 | C10: 変状区分 | E10: 材質劣化 | M10: 対策 区分 | N10: 変状区分 | P10: 漏水
C11: 応急措置前 | N11: 応急措置前
C12: 応急措置後 | E12: Ⅰ | N12: 応急措置後 | P12: Ⅱa
B13: 変状の発生範囲及び規模 | E13: － | H13: 前回変状の発生範囲及び規模 | J13: 覆工厚3cm,空洞深さ20cm (判定Ⅲ) | M13: 変状の発生範囲及び規模 | P13: 3.30m2(6.60m×0.50m、2滴/分) | S13: 前回変状の発生範囲及び規模 | U13: 6.60m×0.50m (判定Ⅱa)
B14: 対策履歴 | E14: はく落防止対策工を実施 | H14: 実施状況（実施日） | J14: 不明 | M14: 対策履歴 | P14: － | S14: 実施状況（実施日） | U14: －
B15: メモ | E15: アーチ部(天端)の前回背面空洞及び巻厚不足が確認された箇所に対策実施(炭素繊維シート工)。対策箇所に劣化・損傷は無く、現状で利用者被害がないと判断しⅠ判定とした。 | M15: メモ | P15: アーチ部(天端)に滴水(滞水なし)。将来的に利用者に影響が及ぶ可能性があるため、重点的な監視及び計画的な対策を必要とする。
B16: 写真 番号 | C16: 覆工スパン 番号 | E16: S001 | M16: 写真 番号 | N16: 覆工スパン 番号 | P16: S001
C17: 変状番号 | E17: 10 | N17: 変状番号 | P17: 11
B18: 変状 部位 | C18: 対象箇所 | E18: 覆工 | M18: 変状 部位 | N18: 対象箇所 | P18: 覆工
C19: 部位区分 | E19: アーチ（天端） | N19: 部位区分 | P19: アーチ（右側）
B20: 変状種類 | E20: その他 | M20: 変状種類 | P20: うき・はく離
B21: 対策 区分 | C21: 変状区分 | E21: 材質劣化 | M21: 対策 区分 | N21: 変状区分 | P21: 材質劣化
C22: 応急措置前 | N22: 応急措置前
C23: 応急措置後 | E23: Ⅰ | N23: 応急措置後 | P23: Ⅱb
B24: 変状の発生範囲及び規模 | E24: － | H24: 前回変状の発生範囲及び規模 | J24: 0.15m×0.15m (判定Ⅱb) | M24: 変状の発生範囲及び規模 | P24: 1.04m2(0.50m×0.40m、他1箇所) | S24: 前回変状の発生範囲及び規模 | U24: 0.60m×0.50m (判定Ⅱb)
B25: 対策履歴 | E25: はく落防止対策工を実施 | H25: 実施状況（実施日） | J25: 不明 | M25: 対策履歴 | P25: 監視(日常巡視) | S25: 実施状況（実施日） | U25: 継続
B26: メモ | E26: アーチ部(天端)の前回豆板がみられた箇所に対策実施(炭素繊維シート工)。対策箇所に劣化・損傷は無く、現状で利用者被害がないと判断しⅠ判定とした。 | M26: メモ | P26: アーチ部(右側)に豆板(表面劣化)。劣化進行箇所の追加。現状で利用者被害の可能性は低いため、監視にとどめる。 ※打音異常無し
C27: ※ 応急措置後の対策区分について添付すること。また、点検前に 実施された措置によりⅠと判定された箇所も添付すること。 | N27: ※ 変状の発生範囲の規模とは、対策を行う際に参考となる変状の長さや面積をいう。
N28: ※ 応急措置を実施しないで決定した変状の対策区分は、対策区分の応急措置後の欄に記入すること。
C29: ※ たたき落としを実施した場合は、実施後の写真を添付すること。 | N29: ※ 変状の発生範囲の規模は、面積・寸法を記載すること。(ひび割れ幅のみmmとし、その他をm表記とする)
N30: ※ 構造用鋼材以外の異物に伴ううき・はく離については、メモ欄に異物の概要を記入すること。

Sheet 様式D-1-1 (4)
B2: ■定期点検記録様式 変状写真台帳【様式D-1-1】 | R2: 施設ID | T2: 34.08936,131.90436
B3: フリガナ | E3: ヌクミトンネル | H3: 路 線 名 | J3: 三瀬川下松線 | M3: 定期点検実施者 | P3: 株式会社 長大 | S3: 定期点検年月日 | U3: 45926
B4: 名 称 | E4: 温見トンネル | H4: 管理者名 | J4: 周南土木建築事務所 | P4: 鷲尾 寛
B5: 写真 番号 | C5: 覆工スパン 番号 | E5: S001 | M5: 写真 番号 | N5: 覆工スパン 番号 | P5: S001
C6: 変状番号 | E6: 12 | N6: 変状番号 | P6: 13
B7: 変状 部位 | C7: 対象箇所 | E7: 覆工 | M7: 変状 部位 | N7: 対象箇所 | P7: 覆工
C8: 部位区分 | E8: アーチ（右側） | N8: 部位区分 | P8: アーチ（天端）
B9: 変状種類 | E9: うき・はく離 | M9: 変状種類 | P9: 漏水
B10: 対策 区分 | C10: 変状区分 | E10: 材質劣化 | M10: 対策 区分 | N10: 変状区分 | P10: 漏水
C11: 応急措置前 | N11: 応急措置前
C12: 応急措置後 | E12: Ⅱb | N12: 応急措置後 | P12: Ⅱa
B13: 変状の発生範囲及び規模 | E13: 0.05m2(0.15m×0.30m) | H13: 前回変状の発生範囲及び規模 | J13: 0.15m×0.30m (判定Ⅱb) | M13: 変状の発生範囲及び規模 | P13: 2.68m2(5.35m×0.50m、3滴/分) | S13: 前回変状の発生範囲及び規模 | U13: 5.70m×0.50m (判定Ⅱa)
B14: 対策履歴 | E14: 監視(日常巡視) | H14: 実施状況（実施日） | J14: 継続 | M14: 対策履歴 | P14: － | S14: 実施状況（実施日） | U14: －
B15: メモ | E15: アーチ部(右側)に豆板。現状で利用者被害の可能性は低いため、監視にとどめる。 ※打音異常無し | M15: メモ | P15: アーチ部(天端)に滴水(滞水なし)。将来的に利用者に影響が及ぶ可能性があるため、重点的な監視及び計画的な対策を必要とする。
B16: 写真 番号 | C16: 覆工スパン 番号 | E16: S001 | M16: 写真 番号 | N16: 覆工スパン 番号 | P16: S001
C17: 変状番号 | E17: 14 | N17: 変状番号 | P17: 15
B18: 変状 部位 | C18: 対象箇所 | E18: 覆工 | M18: 変状 部位 | N18: 対象箇所 | P18: 覆工
C19: 部位区分 | E19: アーチ（右側） | N19: 部位区分 | P19: アーチ（左側）
B20: 変状種類 | E20: うき・はく離 | M20: 変状種類 | P20: うき・はく離
B21: 対策 区分 | C21: 変状区分 | E21: 材質劣化 | M21: 対策 区分 | N21: 変状区分 | P21: 材質劣化
C22: 応急措置前 | N22: 応急措置前
C23: 応急措置後 | E23: Ⅱb | N23: 応急措置後 | P23: Ⅱa
B24: 変状の発生範囲及び規模 | E24: 0.06m2(0.20m×0.30m) | H24: 前回変状の発生範囲及び規模 | J24: 0.15m×0.30m (判定Ⅱb) | M24: 変状の発生範囲及び規模 | P24: 0.03m2(0.05m×0.50m) | S24: 前回変状の発生範囲及び規模 | U24: 今回新規変状
B25: 対策履歴 | E25: 監視(日常巡視) | H25: 実施状況（実施日） | J25: 継続 | M25: 対策履歴 | P25: － | S25: 実施状況（実施日） | U25: －
B26: メモ | E26: アーチ部(右側)に豆板。現状で利用者被害の可能性は低いため、監視にとどめる。 ※打音異常無し | M26: メモ | P26: アーチ部(左側)にうき。新たに発生。将来的に利用者に影響が及ぶ可能性があるため、重点的な監視及び計画的な対策を必要とする。 ※打音異常無し
C27: ※ 応急措置後の対策区分について添付すること。また、点検前に 実施された措置によりⅠと判定された箇所も添付すること。 | N27: ※ 変状の発生範囲の規模とは、対策を行う際に参考となる変状の長さや面積をいう。
N28: ※ 応急措置を実施しないで決定した変状の対策区分は、対策区分の応急措置後の欄に記入すること。
C29: ※ たたき落としを実施した場合は、実施後の写真を添付すること。 | N29: ※ 変状の発生範囲の規模は、面積・寸法を記載すること。(ひび割れ幅のみmmとし、その他をm表記とする)
N30: ※ 構造用鋼材以外の異物に伴ううき・はく離については、メモ欄に異物の概要を記入すること。

Sheet 様式D-1-1 (5)
B2: ■定期点検記録様式 変状写真台帳【様式D-1-1】 | R2: 施設ID | T2: 34.08936,131.90436
B3: フリガナ | E3: ヌクミトンネル | H3: 路 線 名 | J3: 三瀬川下松線 | M3: 定期点検実施者 | P3: 株式会社 長大 | S3: 定期点検年月日 | U3: 45926
B4: 名 称 | E4: 温見トンネル | H4: 管理者名 | J4: 周南土木建築事務所 | P4: 鷲尾 寛
B5: 写真 番号 | C5: 覆工スパン 番号 | E5: S001 | M5: 写真 番号 | N5: 覆工スパン 番号 | P5: S001
C6: 変状番号 | E6: 16 | N6: 変状番号 | P6: 17
B7: 変状 部位 | C7: 対象箇所 | E7: 覆工 | M7: 変状 部位 | N7: 対象箇所 | P7: 覆工
C8: 部位区分 | E8: アーチ（左側） | N8: 部位区分 | P8: アーチ（天端）
B9: 変状種類 | E9: 補修・補強材の破損 | M9: 変状種類 | P9: その他
B10: 対策 区分 | C10: 変状区分 | E10: 材質劣化 | M10: 対策 区分 | N10: 変状区分 | P10: 材質劣化
C11: 応急措置前 | N11: 応急措置前
C12: 応急措置後 | E12: Ⅱb | N12: 応急措置後 | P12: Ⅰ
B13: 変状の発生範囲及び規模 | E13: 0.02m2(0.20m×0.10m) | H13: 前回変状の発生範囲及び規模 | J13: 今回新規変状 | M13: 変状の発生範囲及び規模 | P13: － | S13: 前回変状の発生範囲及び規模 | U13: 今回新規変状
B14: 対策履歴 | E14: － | H14: 実施状況（実施日） | J14: － | M14: 対策履歴 | P14: はく落防止対策工を実施 | S14: 実施状況（実施日） | U14: 不明
B15: メモ | E15: アーチ部(左側)に線導水破損(漏水なし)。新たに発生。現状で利用者被害の可能性は低いため、監視にとどめる。 | M15: メモ | P15: アーチ部(天端)の前回豆板(S1-5)がみられた箇所に対策実施(FRPメッシュ工)。対策箇所に劣化・損傷は無く、現状で利用者被害がないと判断しⅠ判定とした。
B16: 写真 番号 | C16: 覆工スパン 番号 | E16: S001 | M16: 写真 番号 | N16: 覆工スパン 番号 | P16: S001
C17: 変状番号 | E17: 18 | N17: 変状番号 | P17: 19
B18: 変状 部位 | C18: 対象箇所 | E18: 覆工 | M18: 変状 部位 | N18: 対象箇所 | P18: 覆工
C19: 部位区分 | E19: アーチ（天端） | N19: 部位区分 | P19: アーチ（右側）
B20: 変状種類 | E20: うき・はく離 | M20: 変状種類 | P20: 圧ざ、ひび割れ
B21: 対策 区分 | C21: 変状区分 | E21: 材質劣化 | M21: 対策 区分 | N21: 変状区分 | P21: 材質劣化
C22: 応急措置前 | N22: 応急措置前
C23: 応急措置後 | E23: Ⅱb | N23: 応急措置後 | P23: Ⅱb
B24: 変状の発生範囲及び規模 | E24: 0.14m2(0.70m×0.20m) | H24: 前回変状の発生範囲及び規模 | J24: 今回新規変状 | M24: 変状の発生範囲及び規模 | P24: 0.70m2(長さ1.70m×幅1.0mm) | S24: 前回変状の発生範囲及び規模 | U24: 今回新規変状
B25: 対策履歴 | E25: － | H25: 実施状況（実施日） | J25: － | M25: 対策履歴 | P25: － | S25: 実施状況（実施日） | U25: －
B26: メモ | E26: アーチ部(天端)に豆板。新たに発生。現状で利用者被害の可能性は低いため、監視にとどめる。 ※打音異常無し | M26: メモ | P26: アーチ部(右側)に縦断方向のひび割れ。新たに発生。現状で利用者被害の可能性は低いため、監視にとどめる。
C27: ※ 応急措置後の対策区分について添付すること。また、点検前に 実施された措置によりⅠと判定された箇所も添付すること。 | N27: ※ 変状の発生範囲の規模とは、対策を行う際に参考となる変状の長さや面積をいう。
N28: ※ 応急措置を実施しないで決定した変状の対策区分は、対策区分の応急措置後の欄に記入すること。
C29: ※ たたき落としを実施した場合は、実施後の写真を添付すること。 | N29: ※ 変状の発生範囲の規模は、面積・寸法を記載すること。(ひび割れ幅のみmmとし、その他をm表記とする)
N30: ※ 構造用鋼材以外の異物に伴ううき・はく離については、メモ欄に異物の概要を記入すること。

Sheet 様式D-1-1 (6)
B2: ■定期点検記録様式 変状写真台帳【様式D-1-1】 | R2: 施設ID | T2: 34.08936,131.90436
B3: フリガナ | E3: ヌクミトンネル | H3: 路 線 名 | J3: 三瀬川下松線 | M3: 定期点検実施者 | P3: 株式会社 長大 | S3: 定期点検年月日 | U3: 45926
B4: 名 称 | E4: 温見トンネル | H4: 管理者名 | J4: 周南土木建築事務所 | P4: 鷲尾 寛
B5: 写真 番号 | C5: 覆工スパン 番号 | E5: S002 | M5: 写真 番号 | N5: 覆工スパン 番号 | P5: S002
C6: 変状番号 | E6: 1 | N6: 変状番号 | P6: 2
B7: 変状 部位 | C7: 対象箇所 | E7: 覆工 | M7: 変状 部位 | N7: 対象箇所 | P7: 覆工
C8: 部位区分 | E8: アーチ（左側） | N8: 部位区分 | P8: アーチ（左側）
B9: 変状種類 | E9: うき・はく離 | M9: 変状種類 | P9: その他
B10: 対策 区分 | C10: 変状区分 | E10: 材質劣化 | M10: 対策 区分 | N10: 変状区分 | P10: 材質劣化
C11: 応急措置前 | N11: 応急措置前
C12: 応急措置後 | E12: Ⅱa | N12: 応急措置後 | P12: Ⅰ
B13: 変状の発生範囲及び規模 | E13: 0.02m2(0.10m×0.20m) | H13: 前回変状の発生範囲及び規模 | J13: 0.10m×0.20m (判定Ⅱb) | M13: 変状の発生範囲及び規模 | P13: － | S13: 前回変状の発生範囲及び規模 | U13: 0.45m×0.90m (判定Ⅱa)
B14: 対策履歴 | E14: 監視(日常巡視) | H14: 実施状況（実施日） | J14: 継続 | M14: 対策履歴 | P14: はく落防止対策工を実施 | S14: 実施状況（実施日） | U14: 不明
B15: メモ | E15: アーチ部(左側)にうき。将来的に利用者に影響が及ぶ可能性があるため、重点的な監視及び計画的な対策を必要とする。 ※打音異常無し | M15: メモ | P15: アーチ部(左側)の前回うきがみられた箇所に対策実施(FRPメッシュ工)。対策箇所に劣化・損傷は無く、現状で利用者被害がないと判断しⅠ判定とした。
B16: 写真 番号 | C16: 覆工スパン 番号 | E16: S002 | M16: 写真 番号 | N16: 覆工スパン 番号 | P16: S002
C17: 変状番号 | E17: 3 | N17: 変状番号 | P17: 4
B18: 変状 部位 | C18: 対象箇所 | E18: 覆工 | M18: 変状 部位 | N18: 対象箇所 | P18: 覆工
C19: 部位区分 | E19: 側壁（左側） | N19: 部位区分 | P19: アーチ（天端）
B20: 変状種類 | E20: うき・はく離 | M20: 変状種類 | P20: その他
B21: 対策 区分 | C21: 変状区分 | E21: 材質劣化 | M21: 対策 区分 | N21: 変状区分 | P21: 材質劣化
C22: 応急措置前 | N22: 応急措置前
C23: 応急措置後 | E23: Ⅱb | N23: 応急措置後 | P23: Ⅰ
B24: 変状の発生範囲及び規模 | E24: 0.02m2(0.20m×0.10m) | H24: 前回変状の発生範囲及び規模 | J24: 0.20m×0.10m (判定Ⅱb) | M24: 変状の発生範囲及び規模 | P24: － | S24: 前回変状の発生範囲及び規模 | U24: 0.40m×0.10m (判定Ⅱb)
B25: 対策履歴 | E25: 監視(日常巡視) | H25: 実施状況（実施日） | J25: 継続 | M25: 対策履歴 | P25: はく落防止対策工を実施 | S25: 実施状況（実施日） | U25: 不明
B26: メモ | E26: 側壁部(左側)にうき。現状で利用者被害の可能性は低いため、監視にとどめる。 ※打音異常無し | M26: メモ | P26: アーチ部(天端)の前回豆板がみられた箇所に対策実施(炭素繊維シート工)。対策箇所に劣化・損傷は無く、現状で利用者被害がないと判断しⅠ判定とした。
C27: ※ 応急措置後の対策区分について添付すること。また、点検前に 実施された措置によりⅠと判定された箇所も添付すること。 | N27: ※ 変状の発生範囲の規模とは、対策を行う際に参考となる変状の長さや面積をいう。
N28: ※ 応急措置を実施しないで決定した変状の対策区分は、対策区分の応急措置後の欄に記入すること。
C29: ※ たたき落としを実施した場合は、実施後の写真を添付すること。 | N29: ※ 変状の発生範囲の規模は、面積・寸法を記載すること。(ひび割れ幅のみmmとし、その他をm表記とする)
N30: ※ 構造用鋼材以外の異物に伴ううき・はく離については、メモ欄に異物の概要を記入すること。

Sheet 様式D-1-1 (7)
B2: ■定期点検記録様式 変状写真台帳【様式D-1-1】 | R2: 施設ID | T2: 34.08936,131.90436
B3: フリガナ | E3: ヌクミトンネル | H3: 路 線 名 | J3: 三瀬川下松線 | M3: 定期点検実施者 | P3: 株式会社 長大 | S3: 定期点検年月日 | U3: 45926
B4: 名 称 | E4: 温見トンネル | H4: 管理者名 | J4: 周南土木建築事務所 | P4: 鷲尾 寛
B5: 写真 番号 | C5: 覆工スパン 番号 | E5: S002 | M5: 写真 番号 | N5: 覆工スパン 番号 | P5: S002
C6: 変状番号 | E6: 5 | N6: 変状番号 | P6: 6
B7: 変状 部位 | C7: 対象箇所 | E7: 覆工 | M7: 変状 部位 | N7: 対象箇所 | P7: 覆工
C8: 部位区分 | E8: アーチ（左側） | N8: 部位区分 | P8: アーチ（天端）
B9: 変状種類 | E9: 漏水 | M9: 変状種類 | P9: うき・はく離
B10: 対策 区分 | C10: 変状区分 | E10: 漏水 | M10: 対策 区分 | N10: 変状区分 | P10: 材質劣化
C11: 応急措置前 | N11: 応急措置前
C12: 応急措置後 | E12: Ⅱb | N12: 応急措置後 | P12: Ⅱa
B13: 変状の発生範囲及び規模 | E13: 2.88m2(4.80m×0.60m) | H13: 前回変状の発生範囲及び規模 | J13: 4.80m×0.60m (判定Ⅱb) | M13: 変状の発生範囲及び規模 | P13: 0.08m2(0.40m×0.20m) | S13: 前回変状の発生範囲及び規模 | U13: 0.40m×0.20m (判定Ⅱa)
B14: 対策履歴 | E14: 監視(日常巡視) | H14: 実施状況（実施日） | J14: 継続 | M14: 対策履歴 | P14: － | S14: 実施状況（実施日） | U14: －
B15: メモ | E15: アーチ部(左側)に漏水跡。(前回にじみ)。現状で利用者被害の可能性は低いため、監視にとどめる。 | M15: メモ | P15: アーチ部(天端)に補修跡うき。将来的に利用者に影響が及ぶ可能性があるため、重点的な監視及び計画的な対策を必要とする。 ※打音異常無し
B16: 写真 番号 | C16: 覆工スパン 番号 | E16: S002 | M16: 写真 番号 | N16: 覆工スパン 番号 | P16: S002
C17: 変状番号 | E17: 7 | N17: 変状番号 | P17: 8
B18: 変状 部位 | C18: 対象箇所 | E18: 覆工 | M18: 変状 部位 | N18: 対象箇所 | P18: 覆工
C19: 部位区分 | E19: アーチ（天端） | N19: 部位区分 | P19: アーチ（天端）
B20: 変状種類 | E20: その他 | M20: 変状種類 | P20: うき・はく離
B21: 対策 区分 | C21: 変状区分 | E21: 漏水 | M21: 対策 区分 | N21: 変状区分 | P21: 材質劣化
C22: 応急措置前 | N22: 応急措置前
C23: 応急措置後 | E23: Ⅰ | N23: 応急措置後 | P23: Ⅱb
B24: 変状の発生範囲及び規模 | E24: － | H24: 前回変状の発生範囲及び規模 | J24: 6.20m×0.50m (判定Ⅱa) | M24: 変状の発生範囲及び規模 | P24: 1.24m2(0.50m×1.70m、他1箇所) | S24: 前回変状の発生範囲及び規模 | U24: 0.5m×1m、他2箇所 (判定Ⅱb)
B25: 対策履歴 | E25: 漏水対策工を実施 | H25: 実施状況（実施日） | J25: 不明 | M25: 対策履歴 | P25: 監視(日常巡視) | S25: 実施状況（実施日） | U25: 継続
B26: メモ | E26: アーチ部(天端)の前回滴水がみられた箇所に対策実施(線導水工)。対策箇所に劣化・損傷は無く、現状で利用者被害がないと判断しⅠ判定とした。 | M26: メモ | P26: アーチ部(天端)にうき。現状で利用者被害の可能性は低いため、監視にとどめる。 ※打音異常無し
C27: ※ 応急措置後の対策区分について添付すること。また、点検前に 実施された措置によりⅠと判定された箇所も添付すること。 | N27: ※ 変状の発生範囲の規模とは、対策を行う際に参考となる変状の長さや面積をいう。
N28: ※ 応急措置を実施しないで決定した変状の対策区分は、対策区分の応急措置後の欄に記入すること。
C29: ※ たたき落としを実施した場合は、実施後の写真を添付すること。 | N29: ※ 変状の発生範囲の規模は、面積・寸法を記載すること。(ひび割れ幅のみmmとし、その他をm表記とする)
N30: ※ 構造用鋼材以外の異物に伴ううき・はく離については、メモ欄に異物の概要を記入すること。

Sheet 様式D-1-1 (8)
B2: ■定期点検記録様式 変状写真台帳【様式D-1-1】 | R2: 施設ID | T2: 34.08936,131.90436
B3: フリガナ | E3: ヌクミトンネル | H3: 路 線 名 | J3: 三瀬川下松線 | M3: 定期点検実施者 | P3: 株式会社 長大 | S3: 定期点検年月日 | U3: 45926
B4: 名 称 | E4: 温見トンネル | H4: 管理者名 | J4: 周南土木建築事務所 | P4: 鷲尾 寛
B5: 写真 番号 | C5: 覆工スパン 番号 | E5: S002 | M5: 写真 番号 | N5: 覆工スパン 番号 | P5: S002
C6: 変状番号 | E6: 9 | N6: 変状番号 | P6: 10
B7: 変状 部位 | C7: 対象箇所 | E7: 覆工 | M7: 変状 部位 | N7: 対象箇所 | P7: 覆工
C8: 部位区分 | E8: アーチ（右側） | N8: 部位区分 | P8: 側壁（右側）
B9: 変状種類 | E9: うき・はく離 | M9: 変状種類 | P9: その他
B10: 対策 区分 | C10: 変状区分 | E10: 材質劣化 | M10: 対策 区分 | N10: 変状区分 | P10: 材質劣化
C11: 応急措置前 | N11: 応急措置前
C12: 応急措置後 | E12: Ⅱb | N12: 応急措置後 | P12: Ⅰ
B13: 変状の発生範囲及び規模 | E13: 0.06m2(0.10m×0.60m) | H13: 前回変状の発生範囲及び規模 | J13: 0.10m×0.60m (判定Ⅱb) | M13: 変状の発生範囲及び規模 | P13: － | S13: 前回変状の発生範囲及び規模 | U13: 0.40m×0.10m (判定Ⅱb)
B14: 対策履歴 | E14: 監視(日常巡視) | H14: 実施状況（実施日） | J14: 継続 | M14: 対策履歴 | P14: 漏水対策工を実施 | S14: 実施状況（実施日） | U14: 不明
B15: メモ | E15: アーチ部(右側)に豆板。現状で利用者被害の可能性は低いため、監視にとどめる。 ※打音異常無し | M15: メモ | P15: 側壁部(右側)の前回線導水工の破損がみられた箇所に対策実施(線導水工)。対策箇所に劣化・損傷は無く、現状で利用者被害がないと判断しⅠ判定とした。
B16: 写真 番号 | C16: 覆工スパン 番号 | E16: S002 | M16: 写真 番号 | N16: 覆工スパン 番号 | P16: S002
C17: 変状番号 | E17: 11 | N17: 変状番号 | P17: 12
B18: 変状 部位 | C18: 対象箇所 | E18: 覆工 | M18: 変状 部位 | N18: 対象箇所 | P18: 覆工
C19: 部位区分 | E19: アーチ（左側） | N19: 部位区分 | P19: アーチ（左側）
B20: 変状種類 | E20: 補修・補強材の破損 | M20: 変状種類 | P20: うき・はく離
B21: 対策 区分 | C21: 変状区分 | E21: 材質劣化 | M21: 対策 区分 | N21: 変状区分 | P21: 材質劣化
C22: 応急措置前 | N22: 応急措置前
C23: 応急措置後 | E23: Ⅱb | N23: 応急措置後 | P23: Ⅱb
B24: 変状の発生範囲及び規模 | E24: 0.02m2(0.05m×0.30m) | H24: 前回変状の発生範囲及び規模 | J24: 今回新規変状 | M24: 変状の発生範囲及び規模 | P24: 0.36m2(0.60m×0.60m) | S24: 前回変状の発生範囲及び規模 | U24: 今回新規変状
B25: 対策履歴 | E25: － | H25: 実施状況（実施日） | J25: － | M25: 対策履歴 | P25: － | S25: 実施状況（実施日） | U25: －
B26: メモ | E26: アーチ部(左側)に線導水破損(漏水なし)。新たに発生。現状で利用者被害の可能性は低いため、監視にとどめる。 | M26: メモ | P26: アーチ部(左側)に豆板。新たに発生。現状で利用者被害の可能性は低いため、監視にとどめる。 ※打音異常無し
C27: ※ 応急措置後の対策区分について添付すること。また、点検前に 実施された措置によりⅠと判定された箇所も添付すること。 | N27: ※ 変状の発生範囲の規模とは、対策を行う際に参考となる変状の長さや面積をいう。
N28: ※ 応急措置を実施しないで決定した変状の対策区分は、対策区分の応急措置後の欄に記入すること。
C29: ※ たたき落としを実施した場合は、実施後の写真を添付すること。 | N29: ※ 変状の発生範囲の規模は、面積・寸法を記載すること。(ひび割れ幅のみmmとし、その他をm表記とする)
N30: ※ 構造用鋼材以外の異物に伴ううき・はく離については、メモ欄に異物の概要を記入すること。

Sheet 様式D-1-1 (9)
B2: ■定期点検記録様式 変状写真台帳【様式D-1-1】 | R2: 施設ID | T2: 34.08936,131.90436
B3: フリガナ | E3: ヌクミトンネル | H3: 路 線 名 | J3: 三瀬川下松線 | M3: 定期点検実施者 | P3: 株式会社 長大 | S3: 定期点検年月日 | U3: 45926
B4: 名 称 | E4: 温見トンネル | H4: 管理者名 | J4: 周南土木建築事務所 | P4: 鷲尾 寛
B5: 写真 番号 | C5: 覆工スパン 番号 | E5: S002 | M5: 写真 番号 | N5: 覆工スパン 番号 | P5: S002
C6: 変状番号 | E6: 13 | N6: 変状番号 | P6: 14
B7: 変状 部位 | C7: 対象箇所 | E7: 覆工 | M7: 変状 部位 | N7: 対象箇所 | P7: 覆工
C8: 部位区分 | E8: アーチ（天端） | N8: 部位区分 | P8: アーチ（天端）
B9: 変状種類 | E9: 漏水 | M9: 変状種類 | P9: 漏水
B10: 対策 区分 | C10: 変状区分 | E10: 漏水 | M10: 対策 区分 | N10: 変状区分 | P10: 漏水
C11: 応急措置前 | N11: 応急措置前
C12: 応急措置後 | E12: Ⅱa | N12: 応急措置後 | P12: Ⅱa
B13: 変状の発生範囲及び規模 | E13: 3.05m2(6.10m×0.50m) | H13: 前回変状の発生範囲及び規模 | J13: 今回新規変状 | M13: 変状の発生範囲及び規模 | P13: 3.10m2(6.20m×0.50m、2滴/分) | S13: 前回変状の発生範囲及び規模 | U13: 今回新規変状
B14: 対策履歴 | E14: － | H14: 実施状況（実施日） | J14: － | M14: 対策履歴 | P14: － | S14: 実施状況（実施日） | U14: －
B15: メモ | E15: アーチ部(天端)に滴水(滞水なし)。新たに発生。将来的に利用者に影響が及ぶ可能性があるため、重点的な監視及び計画的な対策を必要とする。 | M15: メモ | P15: アーチ部(天端)に滴水(滞水なし)。新たに発生。将来的に利用者に影響が及ぶ可能性があるため、重点的な監視及び計画的な対策を必要とする。
B16: 写真 番号 | C16: 覆工スパン 番号 | E16: S003 | M16: 写真 番号 | N16: 覆工スパン 番号 | P16: S003
C17: 変状番号 | E17: 1 | N17: 変状番号 | P17: 2
B18: 変状 部位 | C18: 対象箇所 | E18: 覆工 | M18: 変状 部位 | N18: 対象箇所 | P18: 覆工
C19: 部位区分 | E19: アーチ（左側） | N19: 部位区分 | P19: アーチ（天端）
B20: 変状種類 | E20: うき・はく離 | M20: 変状種類 | P20: その他
B21: 対策 区分 | C21: 変状区分 | E21: 材質劣化 | M21: 対策 区分 | N21: 変状区分 | P21: 材質劣化
C22: 応急措置前 | N22: 応急措置前
C23: 応急措置後 | E23: Ⅱa | N23: 応急措置後 | P23: Ⅰ
B24: 変状の発生範囲及び規模 | E24: 0.05m2(0.10m×0.50m) | H24: 前回変状の発生範囲及び規模 | J24: 0.10m×0.50m (判定Ⅱb) | M24: 変状の発生範囲及び規模 | P24: － | S24: 前回変状の発生範囲及び規模 | U24: 0.90m×0.50m (判定Ⅰ)
B25: 対策履歴 | E25: 監視(日常巡視) | H25: 実施状況（実施日） | J25: 継続 | M25: 対策履歴 | P25: はく落防止対策工を実施 | S25: 実施状況（実施日） | U25: 不明
B26: メモ | E26: アーチ部(左側)にうき。将来的に利用者に影響が及ぶ可能性があるため、重点的な監視及び計画的な対策を必要とする。 ※打音異常無し | M26: メモ | P26: アーチ部(天端)の前回うき(叩落し)がみられた箇所に対策実施(FRPメッシュ工)。対策箇所に劣化・損傷は無く、現状で利用者被害がないと判断しⅠ判定とした。
C27: ※ 応急措置後の対策区分について添付すること。また、点検前に 実施された措置によりⅠと判定された箇所も添付すること。 | N27: ※ 変状の発生範囲の規模とは、対策を行う際に参考となる変状の長さや面積をいう。
N28: ※ 応急措置を実施しないで決定した変状の対策区分は、対策区分の応急措置後の欄に記入すること。
C29: ※ たたき落としを実施した場合は、実施後の写真を添付すること。 | N29: ※ 変状の発生範囲の規模は、面積・寸法を記載すること。(ひび割れ幅のみmmとし、その他をm表記とする)
N30: ※ 構造用鋼材以外の異物に伴ううき・はく離については、メモ欄に異物の概要を記入すること。

Sheet 様式D-1-1 (10)
B2: ■定期点検記録様式 変状写真台帳【様式D-1-1】 | R2: 施設ID | T2: 34.08936,131.90436
B3: フリガナ | E3: ヌクミトンネル | H3: 路 線 名 | J3: 三瀬川下松線 | M3: 定期点検実施者 | P3: 株式会社 長大 | S3: 定期点検年月日 | U3: 45926
B4: 名 称 | E4: 温見トンネル | H4: 管理者名 | J4: 周南土木建築事務所 | P4: 鷲尾 寛
B5: 写真 番号 | C5: 覆工スパン 番号 | E5: S003 | M5: 写真 番号 | N5: 覆工スパン 番号 | P5: S003
C6: 変状番号 | E6: 3 | N6: 変状番号 | P6: 4
B7: 変状 部位 | C7: 対象箇所 | E7: 覆工 | M7: 変状 部位 | N7: 対象箇所 | P7: 覆工
C8: 部位区分 | E8: アーチ（左側） | N8: 部位区分 | P8: アーチ（天端）
B9: 変状種類 | E9: 漏水 | M9: 変状種類 | P9: その他
B10: 対策 区分 | C10: 変状区分 | E10: 漏水 | M10: 対策 区分 | N10: 変状区分 | P10: 材質劣化
C11: 応急措置前 | N11: 応急措置前
C12: 応急措置後 | E12: Ⅱb | N12: 応急措置後 | P12: Ⅰ
B13: 変状の発生範囲及び規模 | E13: 9.80m2(4.90m×2.00m) | H13: 前回変状の発生範囲及び規模 | J13: 4.90m×2.00m (判定Ⅱb) | M13: 変状の発生範囲及び規模 | P13: － | S13: 前回変状の発生範囲及び規模 | U13: 0.40m×0.20m (判定Ⅱa)
B14: 対策履歴 | E14: 監視(日常巡視) | H14: 実施状況（実施日） | J14: 継続 | M14: 対策履歴 | P14: はく落防止対策工を実施 | S14: 実施状況（実施日） | U14: 不明
B15: メモ | E15: アーチ部(左側)ににじみ。現状で利用者被害の可能性は低いため、監視にとどめる。 | M15: メモ | P15: アーチ部(天端)の前回うきがみられた箇所に対策実施(FRPメッシュ工)。対策箇所に劣化・損傷は無く、現状で利用者被害がないと判断しⅠ判定とした。
B16: 写真 番号 | C16: 覆工スパン 番号 | E16: S003 | M16: 写真 番号 | N16: 覆工スパン 番号 | P16: S003
C17: 変状番号 | E17: 5 | N17: 変状番号 | P17: 6
B18: 変状 部位 | C18: 対象箇所 | E18: 覆工 | M18: 変状 部位 | N18: 対象箇所 | P18: 覆工
C19: 部位区分 | E19: アーチ（天端） | N19: 部位区分 | P19: アーチ（天端）
B20: 変状種類 | E20: 漏水 | M20: 変状種類 | P20: その他
B21: 対策 区分 | C21: 変状区分 | E21: 漏水 | M21: 対策 区分 | N21: 変状区分 | P21: 漏水
C22: 応急措置前 | N22: 応急措置前
C23: 応急措置後 | E23: Ⅱa | N23: 応急措置後 | P23: Ⅰ
B24: 変状の発生範囲及び規模 | E24: 3.30m2(6.60m×0.50m、8滴/分) | H24: 前回変状の発生範囲及び規模 | J24: 6.80m×0.50m (判定Ⅱa) | M24: 変状の発生範囲及び規模 | P24: － | S24: 前回変状の発生範囲及び規模 | U24: 5.90m×0.50m (判定Ⅱa)
B25: 対策履歴 | E25: － | H25: 実施状況（実施日） | J25: － | M25: 対策履歴 | P25: 漏水対策工を実施 | S25: 実施状況（実施日） | U25: 不明
B26: メモ | E26: アーチ部(天端)に滴水(滞水なし)。将来的に利用者に影響が及ぶ可能性があるため、重点的な監視及び計画的な対策を必要とする。 | M26: メモ | P26: アーチ部(天端)の前回滴水がみられた箇所に対策実施(線導水工)。対策箇所に劣化・損傷は無く、現状で利用者被害がないと判断しⅠ判定とした。
C27: ※ 応急措置後の対策区分について添付すること。また、点検前に 実施された措置によりⅠと判定された箇所も添付すること。 | N27: ※ 変状の発生範囲の規模とは、対策を行う際に参考となる変状の長さや面積をいう。
N28: ※ 応急措置を実施しないで決定した変状の対策区分は、対策区分の応急措置後の欄に記入すること。
C29: ※ たたき落としを実施した場合は、実施後の写真を添付すること。 | N29: ※ 変状の発生範囲の規模は、面積・寸法を記載すること。(ひび割れ幅のみmmとし、その他をm表記とする)
N30: ※ 構造用鋼材以外の異物に伴ううき・はく離については、メモ欄に異物の概要を記入すること。

Sheet 様式D-1-1 (11)
B2: ■定期点検記録様式 変状写真台帳【様式D-1-1】 | R2: 施設ID | T2: 34.08936,131.90436
B3: フリガナ | E3: ヌクミトンネル | H3: 路 線 名 | J3: 三瀬川下松線 | M3: 定期点検実施者 | P3: 株式会社 長大 | S3: 定期点検年月日 | U3: 45926
B4: 名 称 | E4: 温見トンネル | H4: 管理者名 | J4: 周南土木建築事務所 | P4: 鷲尾 寛
B5: 写真 番号 | C5: 覆工スパン 番号 | E5: S003 | M5: 写真 番号 | N5: 覆工スパン 番号 | P5: S003
C6: 変状番号 | E6: 7 | N6: 変状番号 | P6: 8
B7: 変状 部位 | C7: 対象箇所 | E7: 覆工 | M7: 変状 部位 | N7: 対象箇所 | P7: 覆工
C8: 部位区分 | E8: アーチ（天端） | N8: 部位区分 | P8: アーチ（天端）
B9: 変状種類 | E9: その他 | M9: 変状種類 | P9: その他
B10: 対策 区分 | C10: 変状区分 | E10: 漏水 | M10: 対策 区分 | N10: 変状区分 | P10: 漏水
C11: 応急措置前 | N11: 応急措置前
C12: 応急措置後 | E12: Ⅰ | N12: 応急措置後 | P12: Ⅰ
B13: 変状の発生範囲及び規模 | E13: － | H13: 前回変状の発生範囲及び規模 | J13: 5.90m×0.50m (判定Ⅱa) | M13: 変状の発生範囲及び規模 | P13: － | S13: 前回変状の発生範囲及び規模 | U13: 6.70m×1.30m (判定Ⅱa)
B14: 対策履歴 | E14: 漏水対策工を実施 | H14: 実施状況（実施日） | J14: 不明 | M14: 対策履歴 | P14: 漏水対策工を実施 | S14: 実施状況（実施日） | U14: 不明
B15: メモ | E15: アーチ部(天端)の前回滴水がみられた箇所に対策実施(線導水工)。対策箇所に劣化・損傷は無く、現状で利用者被害がないと判断しⅠ判定とした。 | M15: メモ | P15: アーチ部(天端)の前回滴水がみられた箇所に対策実施(線導水工)。対策箇所に劣化・損傷は無く、現状で利用者被害がないと判断しⅠ判定とした。
B16: 写真 番号 | C16: 覆工スパン 番号 | E16: S003 | M16: 写真 番号 | N16: 覆工スパン 番号 | P16: S003
C17: 変状番号 | E17: 9 | N17: 変状番号 | P17: 10
B18: 変状 部位 | C18: 対象箇所 | E18: 覆工 | M18: 変状 部位 | N18: 対象箇所 | P18: 覆工
C19: 部位区分 | E19: アーチ（右側） | N19: 部位区分 | P19: アーチ（右側）
B20: 変状種類 | E20: その他 | M20: 変状種類 | P20: うき・はく離
B21: 対策 区分 | C21: 変状区分 | E21: 材質劣化 | M21: 対策 区分 | N21: 変状区分 | P21: 材質劣化
C22: 応急措置前 | N22: 応急措置前
C23: 応急措置後 | E23: Ⅰ | N23: 応急措置後 | P23: Ⅱa
B24: 変状の発生範囲及び規模 | E24: － | H24: 前回変状の発生範囲及び規模 | J24: 0.30m×0.40m (判定Ⅱb) | M24: 変状の発生範囲及び規模 | P24: 0.02m2(0.05m×0.40m) | S24: 前回変状の発生範囲及び規模 | U24: 0.05m×0.40m (判定Ⅱb)
B25: 対策履歴 | E25: はく落防止対策工を実施 | H25: 実施状況（実施日） | J25: 不明 | M25: 対策履歴 | P25: 監視(日常巡視) | S25: 実施状況（実施日） | U25: 継続
B26: メモ | E26: アーチ部(右側)の前回豆板がみられた箇所に対策実施(FRPメッシュ工)。対策箇所に劣化・損傷は無く、現状で利用者被害がないと判断しⅠ判定とした。 | M26: メモ | P26: アーチ部(右側)にうき。将来的に利用者に影響が及ぶ可能性があるため、重点的な監視及び計画的な対策を必要とする。 ※打音異常無し
C27: ※ 応急措置後の対策区分について添付すること。また、点検前に 実施された措置によりⅠと判定された箇所も添付すること。 | N27: ※ 変状の発生範囲の規模とは、対策を行う際に参考となる変状の長さや面積をいう。
N28: ※ 応急措置を実施しないで決定した変状の対策区分は、対策区分の応急措置後の欄に記入すること。
C29: ※ たたき落としを実施した場合は、実施後の写真を添付すること。 | N29: ※ 変状の発生範囲の規模は、面積・寸法を記載すること。(ひび割れ幅のみmmとし、その他をm表記とする)
N30: ※ 構造用鋼材以外の異物に伴ううき・はく離については、メモ欄に異物の概要を記入すること。

Sheet 様式D-1-1 (12)
B2: ■定期点検記録様式 変状写真台帳【様式D-1-1】 | R2: 施設ID | T2: 34.08936,131.90436
B3: フリガナ | E3: ヌクミトンネル | H3: 路 線 名 | J3: 三瀬川下松線 | M3: 定期点検実施者 | P3: 株式会社 長大 | S3: 定期点検年月日 | U3: 45926
B4: 名 称 | E4: 温見トンネル | H4: 管理者名 | J4: 周南土木建築事務所 | P4: 鷲尾 寛
B5: 写真 番号 | C5: 覆工スパン 番号 | E5: S003 | M5: 写真 番号 | N5: 覆工スパン 番号 | P5: S003
C6: 変状番号 | E6: 11 | N6: 変状番号 | P6: 12
B7: 変状 部位 | C7: 対象箇所 | E7: 覆工 | M7: 変状 部位 | N7: 対象箇所 | P7: 覆工
C8: 部位区分 | E8: アーチ（天端） | N8: 部位区分 | P8: アーチ（天端）
B9: 変状種類 | E9: うき・はく離 | M9: 変状種類 | P9: うき・はく離
B10: 対策 区分 | C10: 変状区分 | E10: 材質劣化 | M10: 対策 区分 | N10: 変状区分 | P10: 材質劣化
C11: 応急措置前 | N11: 応急措置前
C12: 応急措置後 | E12: Ⅱa | N12: 応急措置後 | P12: Ⅱb
B13: 変状の発生範囲及び規模 | E13: 0.12m2(0.20m×0.60m) | H13: 前回変状の発生範囲及び規模 | J13: 0.20m×0.60m (判定Ⅱa) | M13: 変状の発生範囲及び規模 | P13: 0.03m2(0.30m×0.10m) | S13: 前回変状の発生範囲及び規模 | U13: 0.50m×0.10m (判定Ⅱb)
B14: 対策履歴 | E14: － | H14: 実施状況（実施日） | J14: － | M14: 対策履歴 | P14: 監視(日常巡視) | S14: 実施状況（実施日） | U14: 継続
B15: メモ | E15: アーチ部(天端)に補修跡うき。将来的に利用者に影響が及ぶ可能性があるため、重点的な監視及び計画的な対策を必要とする。 ※打音異常無し | M15: メモ | P15: アーチ部(天端)に豆板。現状で利用者被害の可能性は低いため、監視にとどめる。 ※打音異常無し
B16: 写真 番号 | C16: 覆工スパン 番号 | E16: S003 | M16: 写真 番号 | N16: 覆工スパン 番号 | P16: S003
C17: 変状番号 | E17: 13 | N17: 変状番号 | P17: 14
B18: 変状 部位 | C18: 対象箇所 | E18: 覆工 | M18: 変状 部位 | N18: 対象箇所 | P18: 覆工
C19: 部位区分 | E19: アーチ（左側） | N19: 部位区分 | P19: アーチ（天端）
B20: 変状種類 | E20: うき・はく離 | M20: 変状種類 | P20: 漏水
B21: 対策 区分 | C21: 変状区分 | E21: 材質劣化 | M21: 対策 区分 | N21: 変状区分 | P21: 漏水
C22: 応急措置前 | N22: 応急措置前
C23: 応急措置後 | E23: Ⅱb | N23: 応急措置後 | P23: Ⅱa
B24: 変状の発生範囲及び規模 | E24: 0.44m2(0.40m×1.10m) | H24: 前回変状の発生範囲及び規模 | J24: 今回新規変状 | M24: 変状の発生範囲及び規模 | P24: 2.80m2(5.60m×0.50m、60滴/分) | S24: 前回変状の発生範囲及び規模 | U24: 今回新規変状
B25: 対策履歴 | E25: － | H25: 実施状況（実施日） | J25: － | M25: 対策履歴 | P25: － | S25: 実施状況（実施日） | U25: －
B26: メモ | E26: アーチ部(左側)に豆板。新たに発生。現状で利用者被害の可能性は低いため、監視にとどめる。 ※打音異常無し | M26: メモ | P26: アーチ部(天端)に滴水(滞水あり)。新たに発生。将来的に利用者に影響が及ぶ可能性があるため、重点的な監視及び計画的な対策を必要とする。
C27: ※ 応急措置後の対策区分について添付すること。また、点検前に 実施された措置によりⅠと判定された箇所も添付すること。 | N27: ※ 変状の発生範囲の規模とは、対策を行う際に参考となる変状の長さや面積をいう。
N28: ※ 応急措置を実施しないで決定した変状の対策区分は、対策区分の応急措置後の欄に記入すること。
C29: ※ たたき落としを実施した場合は、実施後の写真を添付すること。 | N29: ※ 変状の発生範囲の規模は、面積・寸法を記載すること。(ひび割れ幅のみmmとし、その他をm表記とする)
N30: ※ 構造用鋼材以外の異物に伴ううき・はく離については、メモ欄に異物の概要を記入すること。

Sheet 様式D-1-1 (13)
B2: ■定期点検記録様式 変状写真台帳【様式D-1-1】 | R2: 施設ID | T2: 34.08936,131.90436
B3: フリガナ | E3: ヌクミトンネル | H3: 路 線 名 | J3: 三瀬川下松線 | M3: 定期点検実施者 | P3: 株式会社 長大 | S3: 定期点検年月日 | U3: 45926
B4: 名 称 | E4: 温見トンネル | H4: 管理者名 | J4: 周南土木建築事務所 | P4: 鷲尾 寛
B5: 写真 番号 | C5: 覆工スパン 番号 | E5: S004 | M5: 写真 番号 | N5: 覆工スパン 番号 | P5: S004
C6: 変状番号 | E6: 1 | N6: 変状番号 | P6: 2
B7: 変状 部位 | C7: 対象箇所 | E7: 覆工 | M7: 変状 部位 | N7: 対象箇所 | P7: 覆工
C8: 部位区分 | E8: アーチ（左側） | N8: 部位区分 | P8: 側壁（左側）
B9: 変状種類 | E9: 漏水 | M9: 変状種類 | P9: うき・はく離
B10: 対策 区分 | C10: 変状区分 | E10: 漏水 | M10: 対策 区分 | N10: 変状区分 | P10: 材質劣化
C11: 応急措置前 | N11: 応急措置前
C12: 応急措置後 | E12: Ⅱb | N12: 応急措置後 | P12: Ⅱb
B13: 変状の発生範囲及び規模 | E13: 5.20m2(3.25m×1.60m) | H13: 前回変状の発生範囲及び規模 | J13: 2.90m×3.70m (判定Ⅱb) | M13: 変状の発生範囲及び規模 | P13: 0.04m2(0.40m×0.10m) | S13: 前回変状の発生範囲及び規模 | U13: 0.40m×0.10m (判定Ⅱb)
B14: 対策履歴 | E14: 監視(日常巡視) | H14: 実施状況（実施日） | J14: 継続 | M14: 対策履歴 | P14: 監視(日常巡視) | S14: 実施状況（実施日） | U14: 継続
B15: メモ | E15: アーチ部(左側)ににじみ。現状で利用者被害の可能性は低いため、監視にとどめる。 | M15: メモ | P15: 側壁部(左側)にうき。現状で利用者被害の可能性は低いため、監視にとどめる。 ※打音異常無し
B16: 写真 番号 | C16: 覆工スパン 番号 | E16: S004 | M16: 写真 番号 | N16: 覆工スパン 番号 | P16: S004
C17: 変状番号 | E17: 3 | N17: 変状番号 | P17: 4
B18: 変状 部位 | C18: 対象箇所 | E18: 覆工 | M18: 変状 部位 | N18: 対象箇所 | P18: 覆工
C19: 部位区分 | E19: アーチ（左側） | N19: 部位区分 | P19: アーチ（天端）
B20: 変状種類 | E20: その他 | M20: 変状種類 | P20: 補修・補強材の破損
B21: 対策 区分 | C21: 変状区分 | E21: 材質劣化 | M21: 対策 区分 | N21: 変状区分 | P21: 材質劣化
C22: 応急措置前 | N22: 応急措置前
C23: 応急措置後 | E23: Ⅰ | N23: 応急措置後 | P23: Ⅱb
B24: 変状の発生範囲及び規模 | E24: － | H24: 前回変状の発生範囲及び規模 | J24: 3.20m×0.15m (判定Ⅱb) | M24: 変状の発生範囲及び規模 | P24: 0.10m2(0.10m×1.00m) | S24: 前回変状の発生範囲及び規模 | U24: 0.10m×1.00m (判定Ⅱb)
B25: 対策履歴 | E25: 漏水対策工を実施 | H25: 実施状況（実施日） | J25: 不明 | M25: 対策履歴 | P25: 監視(日常巡視) | S25: 実施状況（実施日） | U25: 継続
B26: メモ | E26: アーチ部(左側)の前回線導水工の劣化がみられた箇所に対策実施(線導水工)。対策箇所に劣化・損傷は無く、現状で利用者被害がないと判断しⅠ判定とした。 | M26: メモ | P26: アーチ部(天端)に線導水劣化(漏水なし)。現状で利用者被害の可能性は低いため、監視にとどめる。
C27: ※ 応急措置後の対策区分について添付すること。また、点検前に 実施された措置によりⅠと判定された箇所も添付すること。 | N27: ※ 変状の発生範囲の規模とは、対策を行う際に参考となる変状の長さや面積をいう。
N28: ※ 応急措置を実施しないで決定した変状の対策区分は、対策区分の応急措置後の欄に記入すること。
C29: ※ たたき落としを実施した場合は、実施後の写真を添付すること。 | N29: ※ 変状の発生範囲の規模は、面積・寸法を記載すること。(ひび割れ幅のみmmとし、その他をm表記とする)
N30: ※ 構造用鋼材以外の異物に伴ううき・はく離については、メモ欄に異物の概要を記入すること。

Sheet 様式D-1-1 (14)
B2: ■定期点検記録様式 変状写真台帳【様式D-1-1】 | R2: 施設ID | T2: 34.08936,131.90436
B3: フリガナ | E3: ヌクミトンネル | H3: 路 線 名 | J3: 三瀬川下松線 | M3: 定期点検実施者 | P3: 株式会社 長大 | S3: 定期点検年月日 | U3: 45926
B4: 名 称 | E4: 温見トンネル | H4: 管理者名 | J4: 周南土木建築事務所 | P4: 鷲尾 寛
B5: 写真 番号 | C5: 覆工スパン 番号 | E5: S004 | M5: 写真 番号 | N5: 覆工スパン 番号 | P5: S004
C6: 変状番号 | E6: 5 | N6: 変状番号 | P6: 6
B7: 変状 部位 | C7: 対象箇所 | E7: 覆工 | M7: 変状 部位 | N7: 対象箇所 | P7: 覆工
C8: 部位区分 | E8: アーチ（天端） | N8: 部位区分 | P8: アーチ（天端）
B9: 変状種類 | E9: 漏水 | M9: 変状種類 | P9: その他
B10: 対策 区分 | C10: 変状区分 | E10: 漏水 | M10: 対策 区分 | N10: 変状区分 | P10: 漏水
C11: 応急措置前 | N11: 応急措置前
C12: 応急措置後 | E12: Ⅱa | N12: 応急措置後 | P12: Ⅰ
B13: 変状の発生範囲及び規模 | E13: 3.20m2(6.40m×0.50m) | H13: 前回変状の発生範囲及び規模 | J13: 6.20m×0.50m (判定Ⅱa) | M13: 変状の発生範囲及び規模 | P13: － | S13: 前回変状の発生範囲及び規模 | U13: 7.00m×0.50m (判定Ⅱa)
B14: 対策履歴 | E14: － | H14: 実施状況（実施日） | J14: － | M14: 対策履歴 | P14: 漏水対策工を実施 | S14: 実施状況（実施日） | U14: 不明
B15: メモ | E15: アーチ部(天端)ににじみ(前回滴水)。将来的に利用者に影響が及ぶ可能性があるため、重点的な監視及び計画的な対策を必要とする。 | M15: メモ | P15: アーチ部(天端)の前回滴水がみられた箇所に対策実施(線導水工)。対策箇所に劣化・損傷は無く、現状で利用者被害がないと判断しⅠ判定とした。
B16: 写真 番号 | C16: 覆工スパン 番号 | E16: S004 | M16: 写真 番号 | N16: 覆工スパン 番号 | P16: S004
C17: 変状番号 | E17: 7 | N17: 変状番号 | P17: 8
B18: 変状 部位 | C18: 対象箇所 | E18: 覆工 | M18: 変状 部位 | N18: 対象箇所 | P18: 覆工
C19: 部位区分 | E19: アーチ（天端） | N19: 部位区分 | P19: アーチ（天端）
B20: 変状種類 | E20: その他 | M20: 変状種類 | P20: その他
B21: 対策 区分 | C21: 変状区分 | E21: 漏水 | M21: 対策 区分 | N21: 変状区分 | P21: 漏水
C22: 応急措置前 | N22: 応急措置前
C23: 応急措置後 | E23: Ⅰ | N23: 応急措置後 | P23: Ⅰ
B24: 変状の発生範囲及び規模 | E24: － | H24: 前回変状の発生範囲及び規模 | J24: 7.80m×1.40m (判定Ⅱa) | M24: 変状の発生範囲及び規模 | P24: － | S24: 前回変状の発生範囲及び規模 | U24: 7.00m×0.50m (判定Ⅱa)
B25: 対策履歴 | E25: 漏水対策工を実施 | H25: 実施状況（実施日） | J25: 不明 | M25: 対策履歴 | P25: 漏水対策工を実施 | S25: 実施状況（実施日） | U25: 不明
B26: メモ | E26: アーチ部(天端)の前回滴水がみられた箇所に対策実施(線導水工)。対策箇所に劣化・損傷は無く、現状で利用者被害がないと判断しⅠ判定とした。 | M26: メモ | P26: アーチ部(天端)の前回滴水がみられた箇所に対策実施(線導水工)。対策箇所に劣化・損傷は無く、現状で利用者被害がないと判断しⅠ判定とした。
C27: ※ 応急措置後の対策区分について添付すること。また、点検前に 実施された措置によりⅠと判定された箇所も添付すること。 | N27: ※ 変状の発生範囲の規模とは、対策を行う際に参考となる変状の長さや面積をいう。
N28: ※ 応急措置を実施しないで決定した変状の対策区分は、対策区分の応急措置後の欄に記入すること。
C29: ※ たたき落としを実施した場合は、実施後の写真を添付すること。 | N29: ※ 変状の発生範囲の規模は、面積・寸法を記載すること。(ひび割れ幅のみmmとし、その他をm表記とする)
N30: ※ 構造用鋼材以外の異物に伴ううき・はく離については、メモ欄に異物の概要を記入すること。

Sheet 様式D-1-1 (15)
B2: ■定期点検記録様式 変状写真台帳【様式D-1-1】 | R2: 施設ID | T2: 34.08936,131.90436
B3: フリガナ | E3: ヌクミトンネル | H3: 路 線 名 | J3: 三瀬川下松線 | M3: 定期点検実施者 | P3: 株式会社 長大 | S3: 定期点検年月日 | U3: 45926
B4: 名 称 | E4: 温見トンネル | H4: 管理者名 | J4: 周南土木建築事務所 | P4: 鷲尾 寛
B5: 写真 番号 | C5: 覆工スパン 番号 | E5: S004 | M5: 写真 番号 | N5: 覆工スパン 番号 | P5: S004
C6: 変状番号 | E6: 9 | N6: 変状番号 | P6: 10
B7: 変状 部位 | C7: 対象箇所 | E7: 覆工 | M7: 変状 部位 | N7: 対象箇所 | P7: 覆工
C8: 部位区分 | E8: アーチ（天端） | N8: 部位区分 | P8: アーチ（天端）
B9: 変状種類 | E9: 漏水 | M9: 変状種類 | P9: 漏水
B10: 対策 区分 | C10: 変状区分 | E10: 漏水 | M10: 対策 区分 | N10: 変状区分 | P10: 漏水
C11: 応急措置前 | N11: 応急措置前
C12: 応急措置後 | E12: Ⅱa | N12: 応急措置後 | P12: Ⅱa
B13: 変状の発生範囲及び規模 | E13: 3.18m2(6.35m×0.50m、5滴/分) | H13: 前回変状の発生範囲及び規模 | J13: 6.00m×0.50m (判定Ⅱa) | M13: 変状の発生範囲及び規模 | P13: 2.66m2(5.90m×0.45m) | S13: 前回変状の発生範囲及び規模 | U13: 5.90m×0.50m (判定Ⅱa)
B14: 対策履歴 | E14: － | H14: 実施状況（実施日） | J14: － | M14: 対策履歴 | P14: － | S14: 実施状況（実施日） | U14: －
B15: メモ | E15: アーチ部(天端)に滴水(滞水なし)。将来的に利用者に影響が及ぶ可能性があるため、重点的な監視及び計画的な対策を必要とする。 | M15: メモ | P15: アーチ部(天端)ににじみ(前回滴水)。将来的に利用者に影響が及ぶ可能性があるため、重点的な監視及び計画的な対策を必要とする。
B16: 写真 番号 | C16: 覆工スパン 番号 | E16: S004 | M16: 写真 番号 | N16: 覆工スパン 番号 | P16: S004
C17: 変状番号 | E17: 11 | N17: 変状番号 | P17: 12
B18: 変状 部位 | C18: 対象箇所 | E18: 覆工 | M18: 変状 部位 | N18: 対象箇所 | P18: 覆工
C19: 部位区分 | E19: アーチ（右側） | N19: 部位区分 | P19: アーチ（天端）
B20: 変状種類 | E20: その他 | M20: 変状種類 | P20: その他
B21: 対策 区分 | C21: 変状区分 | E21: 材質劣化 | M21: 対策 区分 | N21: 変状区分 | P21: 材質劣化
C22: 応急措置前 | N22: 応急措置前
C23: 応急措置後 | E23: Ⅰ | N23: 応急措置後 | P23: Ⅰ
B24: 変状の発生範囲及び規模 | E24: － | H24: 前回変状の発生範囲及び規模 | J24: 2.90m×0.10m (判定Ⅱb) | M24: 変状の発生範囲及び規模 | P24: － | S24: 前回変状の発生範囲及び規模 | U24: 0.20m×0.20m (判定Ⅱb)
B25: 対策履歴 | E25: 漏水対策工を実施 | H25: 実施状況（実施日） | J25: 不明 | M25: 対策履歴 | P25: 漏水対策工を実施 | S25: 実施状況（実施日） | U25: 不明
B26: メモ | E26: アーチ部(右側)の前回線導水工の劣化がみられた箇所に対策実施(線導水工)。対策箇所に劣化・損傷は無く、現状で利用者被害がないと判断しⅠ判定とした。 ※打音異常無し | M26: メモ | P26: アーチ部(天端)の前回豆板がみられた箇所に対策実施(線導水工)。対策箇所に劣化・損傷は無く、現状で利用者被害がないと判断しⅠ判定とした。 ※打音異常無し
C27: ※ 応急措置後の対策区分について添付すること。また、点検前に 実施された措置によりⅠと判定された箇所も添付すること。 | N27: ※ 変状の発生範囲の規模とは、対策を行う際に参考となる変状の長さや面積をいう。
N28: ※ 応急措置を実施しないで決定した変状の対策区分は、対策区分の応急措置後の欄に記入すること。
C29: ※ たたき落としを実施した場合は、実施後の写真を添付すること。 | N29: ※ 変状の発生範囲の規模は、面積・寸法を記載すること。(ひび割れ幅のみmmとし、その他をm表記とする)
N30: ※ 構造用鋼材以外の異物に伴ううき・はく離については、メモ欄に異物の概要を記入すること。

Sheet 様式D-1-1 (16)
B2: ■定期点検記録様式 変状写真台帳【様式D-1-1】 | R2: 施設ID | T2: 34.08936,131.90436
B3: フリガナ | E3: ヌクミトンネル | H3: 路 線 名 | J3: 三瀬川下松線 | M3: 定期点検実施者 | P3: 株式会社 長大 | S3: 定期点検年月日 | U3: 45926
B4: 名 称 | E4: 温見トンネル | H4: 管理者名 | J4: 周南土木建築事務所 | P4: 鷲尾 寛
B5: 写真 番号 | C5: 覆工スパン 番号 | E5: S004 | M5: 写真 番号 | N5: 覆工スパン 番号 | P5: S004
C6: 変状番号 | E6: 13 | N6: 変状番号 | P6: 14
B7: 変状 部位 | C7: 対象箇所 | E7: 覆工 | M7: 変状 部位 | N7: 対象箇所 | P7: 路面
C8: 部位区分 | E8: 側壁（右側） | N8: 部位区分 | P8: 側溝
B9: 変状種類 | E9: その他 | M9: 変状種類 | P9: その他
B10: 対策 区分 | C10: 変状区分 | E10: 材質劣化 | M10: 対策 区分 | N10: 変状区分
C11: 応急措置前 | N11: 応急措置前
C12: 応急措置後 | E12: Ⅰ | N12: 応急措置後
B13: 変状の発生範囲及び規模 | E13: － | H13: 前回変状の発生範囲及び規模 | J13: 0.10m×1.70m (判定Ⅱb) | M13: 変状の発生範囲及び規模 | P13: 3.30m2(0.50m×6.60m(11枚)H=20～40mm) | S13: 前回変状の発生範囲及び規模 | U13: 0.50m×6.60m (判定Ⅱb)
B14: 対策履歴 | E14: 漏水対策工を実施 | H14: 実施状況（実施日） | J14: 不明 | M14: 対策履歴 | P14: － | S14: 実施状況（実施日） | U14: －
B15: メモ | E15: 側壁部(右側)の前回線導水工の劣化がみられた箇所に対策実施(線導水工)。対策箇所に劣化・損傷は無く、現状で利用者被害がないと判断しⅠ判定とした。 | M15: メモ | P15: 側溝に側溝蓋浮き上がり。利用者被害の可能性は低い。
B16: 写真 番号 | C16: 覆工スパン 番号 | E16: S004 | M16: 写真 番号 | N16: 覆工スパン 番号 | P16: S004
C17: 変状番号 | E17: 15 | N17: 変状番号 | P17: 16
B18: 変状 部位 | C18: 対象箇所 | E18: 路面 | M18: 変状 部位 | N18: 対象箇所 | P18: 路面
C19: 部位区分 | E19: 側溝 | N19: 部位区分 | P19: 車道
B20: 変状種類 | E20: その他 | M20: 変状種類 | P20: 滞水
B21: 対策 区分 | C21: 変状区分 | M21: 対策 区分 | N21: 変状区分 | P21: 漏水
C22: 応急措置前 | N22: 応急措置前
C23: 応急措置後 | N23: 応急措置後 | P23: Ⅱb
B24: 変状の発生範囲及び規模 | E24: (0.50m×51.00m) | H24: 前回変状の発生範囲及び規模 | J24: 0.50m×10.00m (判定Ⅱb) | M24: 変状の発生範囲及び規模 | P24: 0.13m2(0.20m×0.65m) | S24: 前回変状の発生範囲及び規模 | U24: 1.50m×5.00m (判定Ⅱb)
B25: 対策履歴 | E25: － | H25: 実施状況（実施日） | J25: － | M25: 対策履歴 | P25: 監視(日常巡視) | S25: 実施状況（実施日） | U25: 継続
B26: メモ | E26: 側溝に土砂堆積(全線)。現状で利用者被害の可能性は低い。 | M26: メモ | P26: 車道に滞水。現状で利用者被害の可能性は低いため、監視にとどめる。
C27: ※ 応急措置後の対策区分について添付すること。また、点検前に 実施された措置によりⅠと判定された箇所も添付すること。 | N27: ※ 変状の発生範囲の規模とは、対策を行う際に参考となる変状の長さや面積をいう。
N28: ※ 応急措置を実施しないで決定した変状の対策区分は、対策区分の応急措置後の欄に記入すること。
C29: ※ たたき落としを実施した場合は、実施後の写真を添付すること。 | N29: ※ 変状の発生範囲の規模は、面積・寸法を記載すること。(ひび割れ幅のみmmとし、その他をm表記とする)
N30: ※ 構造用鋼材以外の異物に伴ううき・はく離については、メモ欄に異物の概要を記入すること。

Sheet 様式D-1-1 (17)
B2: ■定期点検記録様式 変状写真台帳【様式D-1-1】 | R2: 施設ID | T2: 34.08936,131.90436
B3: フリガナ | E3: ヌクミトンネル | H3: 路 線 名 | J3: 三瀬川下松線 | M3: 定期点検実施者 | P3: 株式会社 長大 | S3: 定期点検年月日 | U3: 45926
B4: 名 称 | E4: 温見トンネル | H4: 管理者名 | J4: 周南土木建築事務所 | P4: 鷲尾 寛
B5: 写真 番号 | C5: 覆工スパン 番号 | E5: S004 | M5: 写真 番号 | N5: 覆工スパン 番号 | P5: S004
C6: 変状番号 | E6: 17 | N6: 変状番号 | P6: 18
B7: 変状 部位 | C7: 対象箇所 | E7: 覆工 | M7: 変状 部位 | N7: 対象箇所 | P7: 覆工
C8: 部位区分 | E8: アーチ（天端） | N8: 部位区分 | P8: アーチ（右側）
B9: 変状種類 | E9: 漏水 | M9: 変状種類 | P9: うき・はく離
B10: 対策 区分 | C10: 変状区分 | E10: 漏水 | M10: 対策 区分 | N10: 変状区分 | P10: 材質劣化
C11: 応急措置前 | N11: 応急措置前
C12: 応急措置後 | E12: Ⅱa | N12: 応急措置後 | P12: Ⅱb
B13: 変状の発生範囲及び規模 | E13: 3.30m2(6.60m×0.50m、2滴/分) | H13: 前回変状の発生範囲及び規模 | J13: 今回新規変状 | M13: 変状の発生範囲及び規模 | P13: 0.04m2(0.20m×0.20m) | S13: 前回変状の発生範囲及び規模 | U13: 今回新規変状
B14: 対策履歴 | E14: － | H14: 実施状況（実施日） | J14: － | M14: 対策履歴 | P14: － | S14: 実施状況（実施日） | U14: －
B15: メモ | E15: アーチ部(天端)に滴水(滞水あり)。新たに発生。将来的に利用者に影響が及ぶ可能性があるため、重点的な監視及び計画的な対策を必要とする。 | M15: メモ | P15: アーチ部(右側)に豆板。新たに発生。現状で利用者被害の可能性は低いため、監視にとどめる。 ※打音異常無し
B16: 写真 番号 | C16: 覆工スパン 番号 | E16: S005 | M16: 写真 番号 | N16: 覆工スパン 番号 | P16: S005
C17: 変状番号 | E17: 1 | N17: 変状番号 | P17: 2
B18: 変状 部位 | C18: 対象箇所 | E18: 覆工 | M18: 変状 部位 | N18: 対象箇所 | P18: 覆工
C19: 部位区分 | E19: アーチ（左側） | N19: 部位区分 | P19: アーチ（左側）
B20: 変状種類 | E20: その他 | M20: 変状種類 | P20: その他
B21: 対策 区分 | C21: 変状区分 | E21: 材質劣化 | M21: 対策 区分 | N21: 変状区分 | P21: 漏水
C22: 応急措置前 | N22: 応急措置前
C23: 応急措置後 | E23: Ⅰ | N23: 応急措置後 | P23: Ⅰ
B24: 変状の発生範囲及び規模 | E24: － | H24: 前回変状の発生範囲及び規模 | J24: 0.15m×2.1m、他3箇所 (判定Ⅱb) | M24: 変状の発生範囲及び規模 | P24: － | S24: 前回変状の発生範囲及び規模 | U24: 3.90m×1.00m (判定Ⅱb)
B25: 対策履歴 | E25: 漏水対策工を実施 | H25: 実施状況（実施日） | J25: 不明 | M25: 対策履歴 | P25: 漏水対策工を実施 | S25: 実施状況（実施日） | U25: 不明
B26: メモ | E26: アーチ部(左側)の前回線導水工の破損がみられた箇所に対策実施(線導水工)。対策箇所に劣化・損傷は無く、現状で利用者被害がないと判断しⅠ判定とした。 | M26: メモ | P26: アーチ部(左側)の前回にじみがみられた箇所に対策実施(線導水工)。対策箇所に劣化・損傷は無く、現状で利用者被害がないと判断しⅠ判定とした。
C27: ※ 応急措置後の対策区分について添付すること。また、点検前に 実施された措置によりⅠと判定された箇所も添付すること。 | N27: ※ 変状の発生範囲の規模とは、対策を行う際に参考となる変状の長さや面積をいう。
N28: ※ 応急措置を実施しないで決定した変状の対策区分は、対策区分の応急措置後の欄に記入すること。
C29: ※ たたき落としを実施した場合は、実施後の写真を添付すること。 | N29: ※ 変状の発生範囲の規模は、面積・寸法を記載すること。(ひび割れ幅のみmmとし、その他をm表記とする)
N30: ※ 構造用鋼材以外の異物に伴ううき・はく離については、メモ欄に異物の概要を記入すること。

Sheet 様式D-1-1 (18)
B2: ■定期点検記録様式 変状写真台帳【様式D-1-1】 | R2: 施設ID | T2: 34.08936,131.90436
B3: フリガナ | E3: ヌクミトンネル | H3: 路 線 名 | J3: 三瀬川下松線 | M3: 定期点検実施者 | P3: 株式会社 長大 | S3: 定期点検年月日 | U3: 45926
B4: 名 称 | E4: 温見トンネル | H4: 管理者名 | J4: 周南土木建築事務所 | P4: 鷲尾 寛
B5: 写真 番号 | C5: 覆工スパン 番号 | E5: S005 | M5: 写真 番号 | N5: 覆工スパン 番号 | P5: S005
C6: 変状番号 | E6: 3 | N6: 変状番号 | P6: 4
B7: 変状 部位 | C7: 対象箇所 | E7: 覆工 | M7: 変状 部位 | N7: 対象箇所 | P7: 覆工
C8: 部位区分 | E8: アーチ（左側） | N8: 部位区分 | P8: アーチ（右側）
B9: 変状種類 | E9: 補修・補強材の破損 | M9: 変状種類 | P9: その他
B10: 対策 区分 | C10: 変状区分 | E10: 材質劣化 | M10: 対策 区分 | N10: 変状区分 | P10: 材質劣化
C11: 応急措置前 | N11: 応急措置前
C12: 応急措置後 | E12: Ⅱb | N12: 応急措置後 | P12: Ⅰ
B13: 変状の発生範囲及び規模 | E13: 0.02m2(0.10m×0.20m) | H13: 前回変状の発生範囲及び規模 | J13: 0.10m×0.20m (判定Ⅱb) | M13: 変状の発生範囲及び規模 | P13: － | S13: 前回変状の発生範囲及び規模 | U13: 0.60m×0.15m (判定Ⅱb)
B14: 対策履歴 | E14: 監視(日常巡視) | H14: 実施状況（実施日） | J14: 継続 | M14: 対策履歴 | P14: 漏水対策工を実施 | S14: 実施状況（実施日） | U14: 不明
B15: メモ | E15: アーチ部(左側)に線導水工の破損(漏水なし)。現状で利用者被害の可能性は低いため、監視にとどめる。 | M15: メモ | P15: アーチ部(右側)の前回線導水工の破損がみられた箇所に対策実施(線導水工)。対策箇所に劣化・損傷は無く、現状で利用者被害がないと判断しⅠ判定とした。
B16: 写真 番号 | C16: 覆工スパン 番号 | E16: S005 | M16: 写真 番号 | N16: 覆工スパン 番号 | P16: PE
C17: 変状番号 | E17: 5 | N17: 変状番号 | P17: 1
B18: 変状 部位 | C18: 対象箇所 | E18: 覆工 | M18: 変状 部位 | N18: 対象箇所 | P18: 坑門
C19: 部位区分 | E19: アーチ（右側） | N19: 部位区分 | P19: 面壁・妻壁等
B20: 変状種類 | E20: その他 | M20: 変状種類 | P20: うき・はく離
B21: 対策 区分 | C21: 変状区分 | E21: 材質劣化 | M21: 対策 区分 | N21: 変状区分 | P21: 材質劣化
C22: 応急措置前 | N22: 応急措置前
C23: 応急措置後 | E23: Ⅰ | N23: 応急措置後 | P23: Ⅱa
B24: 変状の発生範囲及び規模 | E24: － | H24: 前回変状の発生範囲及び規模 | J24: 0.15m×0.60m (判定Ⅱb) | M24: 変状の発生範囲及び規模 | P24: 0.01m2(0.10m×0.10m) | S24: 前回変状の発生範囲及び規模 | U24: 0.10m×0.10m (判定Ⅱa)
B25: 対策履歴 | E25: 漏水対策工を実施 | H25: 実施状況（実施日） | J25: 不明 | M25: 対策履歴 | P25: － | S25: 実施状況（実施日） | U25: －
B26: メモ | E26: アーチ部(右側)の前回線導水工の破損がみられた箇所に対策実施(線導水工)。対策箇所に劣化・損傷は無く、現状で利用者被害がないと判断しⅠ判定とした。 | M26: メモ | P26: c
C27: ※ 応急措置後の対策区分について添付すること。また、点検前に 実施された措置によりⅠと判定された箇所も添付すること。 | N27: ※ 変状の発生範囲の規模とは、対策を行う際に参考となる変状の長さや面積をいう。
N28: ※ 応急措置を実施しないで決定した変状の対策区分は、対策区分の応急措置後の欄に記入すること。
C29: ※ たたき落としを実施した場合は、実施後の写真を添付すること。 | N29: ※ 変状の発生範囲の規模は、面積・寸法を記載すること。(ひび割れ幅のみmmとし、その他をm表記とする)
N30: ※ 構造用鋼材以外の異物に伴ううき・はく離については、メモ欄に異物の概要を記入すること。

Sheet 様式D-1-1 (19)
B2: ■定期点検記録様式 変状写真台帳【様式D-1-1】 | R2: 施設ID | T2: 34.08936,131.90436
B3: フリガナ | E3: ヌクミトンネル | H3: 路 線 名 | J3: 三瀬川下松線 | M3: 定期点検実施者 | P3: 株式会社 長大 | S3: 定期点検年月日 | U3: 45926
B4: 名 称 | E4: 温見トンネル | H4: 管理者名 | J4: 周南土木建築事務所 | P4: 鷲尾 寛
B5: 写真 番号 | C5: 覆工スパン 番号 | E5: PE | M5: 写真 番号 | N5: 覆工スパン 番号 | P5: PE
C6: 変状番号 | E6: 2 | N6: 変状番号 | P6: 3
B7: 変状 部位 | C7: 対象箇所 | E7: 坑門 | M7: 変状 部位 | N7: 対象箇所 | P7: 坑門
C8: 部位区分 | E8: 面壁・妻壁等 | N8: 部位区分 | P8: 面壁・妻壁等
B9: 変状種類 | E9: うき・はく離 | M9: 変状種類 | P9: 漏水
B10: 対策 区分 | C10: 変状区分 | E10: 材質劣化 | M10: 対策 区分 | N10: 変状区分 | P10: 漏水
C11: 応急措置前 | N11: 応急措置前
C12: 応急措置後 | E12: Ⅱb | N12: 応急措置後 | P12: Ⅱb
B13: 変状の発生範囲及び規模 | E13: 0.03m2(0.10m×0.25m) | H13: 前回変状の発生範囲及び規模 | J13: 0.10m×0.15m (判定Ⅱb) | M13: 変状の発生範囲及び規模 | P13: 2.31m2(3.30m×0.70m) | S13: 前回変状の発生範囲及び規模 | U13: 規模記載なし
B14: 対策履歴 | E14: 監視(日常巡視) | H14: 実施状況（実施日） | J14: 継続 | M14: 対策履歴 | P14: － | S14: 実施状況（実施日） | U14: －
B15: メモ | E15: 面壁に豆板。現状で利用者被害の可能性は低いため、監視にとどめる。 ※打音異常無し | M15: メモ | P15: 面壁に漏水跡(前回にじみ)。現状で利用者被害の可能性は低いため、監視にとどめる。
B16: 写真 番号 | C16: 覆工スパン 番号 | M16: 写真 番号 | N16: 覆工スパン 番号
C17: 変状番号 | N17: 変状番号
B18: 変状 部位 | C18: 対象箇所 | M18: 変状 部位 | N18: 対象箇所
C19: 部位区分 | N19: 部位区分
B20: 変状種類 | M20: 変状種類
B21: 対策 区分 | C21: 変状区分 | M21: 対策 区分 | N21: 変状区分
C22: 応急措置前 | N22: 応急措置前
C23: 応急措置後 | N23: 応急措置後
B24: 変状の発生範囲及び規模 | H24: 前回変状の発生範囲及び規模 | M24: 変状の発生範囲及び規模 | S24: 前回変状の発生範囲及び規模
B25: 対策履歴 | H25: 実施状況（実施日） | M25: 対策履歴 | S25: 実施状況（実施日）
B26: メモ | M26: メモ
C27: ※ 応急措置後の対策区分について添付すること。また、点検前に 実施された措置によりⅠと判定された箇所も添付すること。 | N27: ※ 変状の発生範囲の規模とは、対策を行う際に参考となる変状の長さや面積をいう。
N28: ※ 応急措置を実施しないで決定した変状の対策区分は、対策区分の応急措置後の欄に記入すること。
C29: ※ たたき落としを実施した場合は、実施後の写真を添付すること。 | N29: ※ 変状の発生範囲の規模は、面積・寸法を記載すること。(ひび割れ幅のみmmとし、その他をm表記とする)
N30: ※ 構造用鋼材以外の異物に伴ううき・はく離については、メモ欄に異物の概要を記入すること。

Sheet 様式D-1-2
B2: ■定期点検記録様式 異常写真台帳（トンネル内附属物等の取付状態） 【様式D-1-2】
B3: フリガナ | E3: ヌクミトンネル | I3: 路 線 名 | L3: 三瀬川下松線 | O3: 定期点検実施者 | R3: 株式会社 長大 | U3: 定期点検年月日 | W3: 45926
B4: 名 称 | E4: 温見トンネル | I4: 管理者名 | L4: 周南土木建築事務所 | R4: 鷲尾 寛
B5: 覆工スパン番号 | F5: 異常番号 | J5: 覆工スパン番号 | N5: 異常番号 | R5: 覆工スパン番号 | V5: 異常番号
B6: 対象箇所 | J6: 対象箇所 | R6: 対象箇所
B7: 部位区分 | F7: 異常の種類 | J7: 部位区分 | N7: 異常の種類 | R7: 部位区分 | V7: 異常の種類
B8: 異常判定区分 | E8: メモ | J8: 異常判定区分 | M8: メモ | R8: 異常判定区分 | U8: メモ
B22: 覆工スパン番号 | F22: 異常番号 | J22: 覆工スパン番号 | N22: 異常番号 | R22: 覆工スパン番号 | V22: 異常番号
B23: 対象箇所 | J23: 対象箇所 | R23: 対象箇所
B24: 部位区分 | F24: 異常の種類 | J24: 部位区分 | N24: 異常の種類 | R24: 部位区分 | V24: 異常の種類
B25: 異常判定区分 | E25: メモ | J25: 異常判定区分 | M25: メモ | R25: 異常判定区分 | U25: メモ
C39: ※ 異常判定区分×について記入すること。また、応急措置前に異常判定区分×とした箇所のうち応急措置により○と判定した箇所も記入すること。
C40: ※ 応急措置を実施した場合は、その実施状況が分かる写真を添付すること。
C41: ※ 変状数に準じてシートを追加すること。

Sheet 様式D-2-1 (1)
B3: ■定期点検記録様式 トンネル全体変状展開図 【様式D-2-1】
B4: フリガナ | E4: ヌクミトンネル | J4: 路線名 | M4: 三瀬川下松線 | S4: 定期点検実施者 | W4: 株式会社 長大 | AC4: 定期点検年月日 | AF4: 45926
B5: 名 称 | E5: 温見トンネル | J5: 管理者名 | M5: 周南土木建築事務所 | W5: 鷲尾 寛
B6: トンネル変状展開図 | C6: トンネル全体変状展開図
V18: 注１：本展開図は、見下げた状態で記載すること。 注２：覆工スパン番号は横断目地毎（矢板工法の場合は上半アーチ の横断目地毎)に設定すること。 注３：横断目地の変状は前の覆工スパン番号で計上すること。 注４：１枚に収まらない場合は、複数枚に分けて作成すること。

Sheet 様式D-2-1 (2)
B3: ■定期点検記録様式 トンネル全体変状展開図 【様式D-2-1】
B4: フリガナ | E4: ヌクミトンネル | J4: 路線名 | M4: 三瀬川下松線 | S4: 定期点検実施者 | W4: 株式会社 長大 | AC4: 定期点検年月日 | AF4: 45926
B5: 名 称 | E5: 温見トンネル | J5: 管理者名 | M5: 周南土木建築事務所 | W5: 鷲尾 寛
B6: トンネル変状展開図 | C6: トンネル全体変状展開図
V18: 注１：本展開図は、見下げた状態で記載すること。 注２：覆工スパン番号は横断目地毎（矢板工法の場合は上半アーチ の横断目地毎)に設定すること。 注３：横断目地の変状は前の覆工スパン番号で計上すること。 注４：１枚に収まらない場合は、複数枚に分けて作成すること。

Sheet 様式D-2-1´ (1)
B3: ■定期点検記録様式 トンネル全体変状展開図（機器の活用時） 【様式D-2-1’】
B4: フリガナ | E4: ヌクミトンネル | J4: 路線名 | M4: 三瀬川下松線 | S4: 定期点検実施者 | W4: 株式会社 長大 | AC4: 定期点検年月日 | AF4: 45926
B5: 名 称 | E5: 温見トンネル | J5: 管理者名 | M5: 周南土木建築事務所 | W5: 鷲尾 寛
B6: トンネル変状展開図 | C6: トンネル全体変状展開図
V18: 注１：本展開図は、見下げた状態で記載すること。 注２：覆工スパン番号は横断目地毎（矢板工法の場合は上半アーチ の横断目地毎)に設定すること。 注３：横断目地の変状は前の覆工スパン番号で計上すること。 注４：１枚に収まらない場合は、複数枚に分けて作成すること。

Sheet 様式D-3_PS
AU1: 様式F用→ | AV1: 覆工スパン | AY1: 変 状 数 | BK1: 変 状 規 模
AV2: 番号 | AW2: 延長 （ｍ） | AX2: 健全性の診断の 区分 | AY2: 対策区分の判定 | BK2: 覆工スパン長（ｍ） | BO2: 変状の発生範囲の規模（㎡）
B3: ■定期点検記録様式 覆工スパン別変状詳細展開図 【様式D-3】 | AY3: 外力 | BC3: 材質劣化 | BG3: 漏水 | BK3: 外力 注2 | BO3: 材質劣化 | BS3: 漏水
B4: フリガナ | E4: ヌクミトンネル | K4: 路線名 | N4: 三瀬川下松線 | T4: 定期点検実施者 | Y4: 株式会社 長大 | AG4: 定期点検年月日 | AK4: 45926 | AY4: Ⅳ | AZ4: Ⅲ | BA4: Ⅱa | BB4: Ⅱb | BC4: Ⅳ | BD4: Ⅲ | BE4: Ⅱa | BF4: Ⅱb | BG4: Ⅳ | BH4: Ⅲ | BI4: Ⅱa | BJ4: Ⅱb | BK4: Ⅳ | BL4: Ⅲ | BM4: Ⅱa | BN4: Ⅱb | BO4: Ⅳ | BP4: Ⅲ | BQ4: Ⅱa | BR4: Ⅱb | BS4: Ⅳ | BT4: Ⅲ | BU4: Ⅱa | BV4: Ⅱb
B5: 名 称 | E5: 温見トンネル | K5: 管理者名 | N5: 周南土木建築事務所 | Y5: 鷲尾 寛 | AV5: =N7 -> PS | AW5: =R7 -> 0 | AX5: =AM35 -> Ⅱ | AY5: =IF(Y37>0,Y37,"") | AZ5: =IF(Y37>0,"",IF(Z37>0,Z37,"")) | BA5: =IF(Y37+Z37>0,"",IF(AA37>0,AA37,"")) | BB5: =IF(Y37+Z37+AA37>0,"",IF(AB37>0,AB37,"")) | BC5: =AC37 -> 0 | BD5: =AD37 -> 0 | BE5: =AE37 -> 1 | BF5: =AF37 -> 0 | BG5: =AG37 -> 0 | BH5: =AH37 -> 0 | BI5: =AI37 -> 0 | BJ5: =AJ37 -> 0 | BK5: =IF(Y37>0,R7,"") | BL5: =IF(Y37>0,"",IF(Z37>0,R7,"")) | BM5: =IF(Y37+Z37>0,"",IF(AA37>0,R7,"")) | BN5: =IF(Y37+Z37+AA37>0,"",IF(AB37>0,R7,"")) | BO5: =AC35 -> 0 | BP5: =AD35 -> 0 | BQ5: =AE35 -> 0.34 | BR5: =AF35 -> 0 | BS5: =AG35 -> 0 | BT5: =AH35 -> 0 | BU5: =AI35 -> 0 | BV5: =AJ35 -> 0
B6: スパン別変状展開図 | K6: 【健全性判定集計表】
K7: スパン番号 | N7: PS | P7: スパン長 | R7: 0 | U7: 前回定期点検時の判定 | W7: 応急措置前の判定 | Y7: 対策区分毎の 変状の有無 | AC7: 対策区分毎の変状の発生範囲の規模(㎡) | AK7: 備考注2
K8: 変状番号 | L8: 対象箇所 | N8: 部位区分 | P8: 変状区分 | R8: 変状種類
Y9: 外力注1 | AC9: 材質劣化注1 | AG9: 漏水注1
Y10: Ⅳ | Z10: Ⅲ | AA10: Ⅱa | AB10: Ⅱb | AC10: Ⅳ | AD10: Ⅲ | AE10: Ⅱa | AF10: Ⅱb | AG10: Ⅳ | AH10: Ⅲ | AI10: Ⅱa | AJ10: Ⅱb
K11: 1 | L11: 坑門 | N11: 面壁・妻壁等 | P11: 材質劣化 | R11: うき・はく離 | U11: Ⅱb | AE11: 0.34 | AQ11: =IF(P11="材質劣化",2,IF(P11="漏水",3,1)) -> 2 | AS11: =IF(Y11<>"",1,"")
K12: 2 | AQ12: =IF(P12="材質劣化",2,IF(P12="漏水",3,1)) -> 1
K13: 3 | AQ13: =IF(P13="材質劣化",2,IF(P13="漏水",3,1)) -> 1
K14: 4 | AQ14: =IF(P14="材質劣化",2,IF(P14="漏水",3,1)) -> 1
K15: 5 | AQ15: =IF(P15="材質劣化",2,IF(P15="漏水",3,1)) -> 1
K16: 6 | AQ16: =IF(P16="材質劣化",2,IF(P16="漏水",3,1)) -> 1
K17: 7 | AQ17: =IF(P17="材質劣化",2,IF(P17="漏水",3,1)) -> 1
K18: 8 | AQ18: =IF(P18="材質劣化",2,IF(P18="漏水",3,1)) -> 1
K19: 9 | AQ19: =IF(P19="材質劣化",2,IF(P19="漏水",3,1)) -> 1
K20: 10 | AQ20: =IF(P20="材質劣化",2,IF(P20="漏水",3,1)) -> 1
K21: 11 | AQ21: =IF(P21="材質劣化",2,IF(P21="漏水",3,1)) -> 1
K22: 12 | AQ22: =IF(P22="材質劣化",2,IF(P22="漏水",3,1)) -> 1
K23: 13 | AQ23: =IF(P23="材質劣化",2,IF(P23="漏水",3,1)) -> 1
... K27: 17 | AQ27: =IF(P27="材質劣化",2,IF(P27="漏水",3,1)) -> 1
K28: 18 | AQ28: =IF(P30="材質劣化",2,IF(P30="漏水",3,1)) -> 1
K29: 19 | AQ29: =IF(P34="材質劣化",2,IF(P34="漏水",3,1)) -> 1
K30: 20 | AQ30: =IF(P30="材質劣化",2,IF(P30="漏水",3,1)) -> 1
K31: 21 | AQ31: =IF(P33="材質劣化",2,IF(P33="漏水",3,1)) -> 1
K32: 22 | AQ32: =IF(P37="材質劣化",2,IF(P37="漏水",3,1)) -> 1
K33: 23 | AQ33: =IF(P33="材質劣化",2,IF(P33="漏水",3,1)) -> 1
K34: 24 | AQ34: =IF(P36="材質劣化",2,IF(P36="漏水",3,1)) -> 1
K35: 集計 判定 診断 | L35: 変状の発生規模合計(㎡) | Y35: － | AC35: =SUM(AC11:AC34) -> 0 | AD35: =SUM(AD11:AD34) -> 0 | AE35: =SUM(AE11:AE34) -> 0.34 | AF35: =SUM(AF11:AF34) -> 0 | AG35: =SUM(AG11:AG34) -> 0 | AH35: =SUM(AH11:AH34) -> 0 | AI35: =SUM(AI11:AI34) -> 0 | AJ35: =SUM(AJ11:AJ34) -> 0 | AK35: 覆工スパン単位の 健全性の 診断の区分 | AM35: Ⅱ
L36: 対策区分の 判定結果 | O36: 対策区分毎の変状数注3 | Y36: Ⅳ | Z36: Ⅲ | AA36: Ⅱa | AB36: Ⅱb | AC36: Ⅳ | AD36: Ⅲ | AE36: Ⅱa | AF36: Ⅱb | AG36: Ⅳ | AH36: Ⅲ | AI36: Ⅱa | AJ36: Ⅱb
Y37: =IF(COUNTIF(Y11:Y34,"〇")>0,1,0) -> 0 | Z37: =IF(COUNTIF(Z11:Z34,"〇")>0,1,0) -> 0 | AA37: =IF(COUNTIF(AA11:AA34,"〇")>0,1,0) -> 0 | AB37: =IF(COUNTIF(AB11:AB34,"〇")>0,1,0) -> 0 | AC37: =COUNTA(AC11:AC34) -> 0 | AD37: =COUNTA(AD11:AD34) -> 0 | AE37: =COUNTA(AE11:AE34) -> 1 | AF37: =COUNTA(AF11:AF34) -> 0 | AG37: =COUNTA(AG11:AG34) -> 0 | AH37: =COUNTA(AH11:AH34) -> 0 | AI37: =COUNTA(AI11:AI34) -> 0 | AJ37: =COUNTA(AJ11:AJ34) -> 0 | AU37: =+Y37 -> 0
K39: 所見
K43: 注1：誤記入防止のため、当該変状区分以外のセルは灰色表示とすること。
K44: 注2：応急措置を実施した場合は、その詳細を備考に記載すること。
K45: 注3：外力は覆工スパン単位、材質劣化、漏水は変状単位とすること。
B46: （以下、印刷不要）
B47: ※1：本シートは作成洩れのないよう、変状が無くても全スパン分を作成すること．また変状展開図は、様式D-2-1、様式D-2-1'と同じものを覆工スパン単位で拡大し掲載すること。
B48: ※2：変状番号は、様式D-1-1で記入した番号と整合させること。
B49: ※3：対策区分毎の変状発生規模は、様式D-1-1に記載した面積を記入すること（ただし外力はスパン単位で評価するため変状の有無の欄には面積でなく○を記入し、備考欄に状況を記入）。
B50: ※4：本様式は覆工スパン毎に作成すること。
B51: ※5：変状数が多い場合は、適時、表の行を増やして覆工スパン毎に1枚のシートに収めること。また、1スパン１シートとし、スパンに合わせてシートを追加すること。
B52: ※6：対策区分毎の変状の発生範囲の規模とは，対策を行う際に参考となる変状の長さや面積であり，変状を包含する長さや面積とする。
B53: ※7：対策範囲を示す発生範囲の規模を面積で記入することが妥当ではない変状は、発生範囲の規模の欄に○を記入するとともに、備考に内容を記入すること。

Sheet 様式D-3_S001
AU1: 様式F用→ | AV1: 覆工スパン | AY1: 変 状 数 | BK1: 変 状 規 模
AV2: 番号 | AW2: 延長 （ｍ） | AX2: 健全性の診断の 区分 | AY2: 対策区分の判定 | BK2: 覆工スパン長（ｍ） | BO2: 変状の発生範囲の規模（㎡）
B3: ■定期点検記録様式 覆工スパン別変状詳細展開図 【様式D-3】 | AY3: 外力 | BC3: 材質劣化 | BG3: 漏水 | BK3: 外力 注2 | BO3: 材質劣化 | BS3: 漏水
B4: フリガナ | E4: ヌクミトンネル | K4: 路線名 | N4: 三瀬川下松線 | T4: 定期点検実施者 | Y4: 株式会社 長大 | AG4: 定期点検年月日 | AK4: 45926 | AY4: Ⅳ | AZ4: Ⅲ | BA4: Ⅱa | BB4: Ⅱb | BC4: Ⅳ | BD4: Ⅲ | BE4: Ⅱa | BF4: Ⅱb | BG4: Ⅳ | BH4: Ⅲ | BI4: Ⅱa | BJ4: Ⅱb | BK4: Ⅳ | BL4: Ⅲ | BM4: Ⅱa | BN4: Ⅱb | BO4: Ⅳ | BP4: Ⅲ | BQ4: Ⅱa | BR4: Ⅱb | BS4: Ⅳ | BT4: Ⅲ | BU4: Ⅱa | BV4: Ⅱb
B5: 名 称 | E5: 温見トンネル | K5: 管理者名 | N5: 周南土木建築事務所 | Y5: 鷲尾 寛 | AV5: =N7 -> S001 | AW5: =R7 -> 10 | AX5: =AM35 -> Ⅱ | AY5: =IF(Y37>0,Y37,"") | AZ5: =IF(Y37>0,"",IF(Z37>0,Z37,"")) | BA5: =IF(Y37+Z37>0,"",IF(AA37>0,AA37,"")) | BB5: =IF(Y37+Z37+AA37>0,"",IF(AB37>0,AB37,"")) | BC5: =AC37 -> 0 | BD5: =AD37 -> 0 | BE5: =AE37 -> 3 | BF5: =AF37 -> 8 | BG5: =AG37 -> 0 | BH5: =AH37 -> 0 | BI5: =AI37 -> 3 | BJ5: =AJ37 -> 0 | BK5: =IF(Y37>0,R7,"") | BL5: =IF(Y37>0,"",IF(Z37>0,R7,"")) | BM5: =IF(Y37+Z37>0,"",IF(AA37>0,R7,"")) | BN5: =IF(Y37+Z37+AA37>0,"",IF(AB37>0,R7,"")) | BO5: =AC35 -> 0 | BP5: =AD35 -> 0 | BQ5: =AE35 -> 1.31 | BR5: =AF35 -> 5.11 | BS5: =AG35 -> 0 | BT5: =AH35 -> 0 | BU5: =AI35 -> 8.71 | BV5: =AJ35 -> 0
B6: スパン別変状展開図 | K6: 【健全性判定集計表】
K7: スパン番号 | N7: S001 | P7: スパン長 | R7: 10 | U7: 前回定期点検時の判定 | W7: 応急措置前の判定 | Y7: 対策区分毎の 変状の有無 | AC7: 対策区分毎の変状の発生範囲の規模(㎡) | AK7: 備考注2
K8: 変状番号 | L8: 対象箇所 | N8: 部位区分 | P8: 変状区分 | R8: 変状種類
Y9: 外力注1 | AC9: 材質劣化注1 | AG9: 漏水注1
Y10: Ⅳ | Z10: Ⅲ | AA10: Ⅱa | AB10: Ⅱb | AC10: Ⅳ | AD10: Ⅲ | AE10: Ⅱa | AF10: Ⅱb | AG10: Ⅳ | AH10: Ⅲ | AI10: Ⅱa | AJ10: Ⅱb
K11: 1 | L11: 覆工 | N11: 側壁（左側） | P11: 材質劣化 | R11: うき・はく離 | U11: Ⅱb | AE11: 0.36 | AQ11: =IF(P11="材質劣化",2,IF(P11="漏水",3,1)) -> 2 | AS11: =IF(Y11<>"",1,"")
K12: 2 | L12: 覆工 | N12: アーチ（左側） | P12: 材質劣化 | R12: うき・はく離 | U12: Ⅱb | AF12: 1.08 | AQ12: =IF(P12="材質劣化",2,IF(P12="漏水",3,1)) -> 2
K13: 3 | L13: 覆工 | N13: 側壁（左側） | P13: 材質劣化 | R13: その他 | U13: Ⅱb | AQ13: =IF(P13="材質劣化",2,IF(P13="漏水",3,1)) -> 2
K14: 4 | L14: 覆工 | N14: アーチ（左側） | P14: 材質劣化 | R14: うき・はく離 | U14: Ⅱb | AF14: 2.02 | AQ14: =IF(P14="材質劣化",2,IF(P14="漏水",3,1)) -> 2
K15: 5 | L15: 覆工 | N15: アーチ（天端） | P15: 材質劣化 | R15: うき・はく離 | U15: Ⅱb | AE15: 0.92 | AQ15: =IF(P15="材質劣化",2,IF(P15="漏水",3,1)) -> 2
K16: 6 | L16: 覆工 | N16: アーチ（天端） | P16: 漏水 | R16: その他 | U16: Ⅱa | AQ16: =IF(P16="材質劣化",2,IF(P16="漏水",3,1)) -> 3
K17: 7 | L17: 覆工 | N17: アーチ（天端） | P17: 漏水 | R17: 漏水 | U17: Ⅱa | AI17: 2.73 | AQ17: =IF(P17="材質劣化",2,IF(P17="漏水",3,1)) -> 3
K18: 8 | L18: 覆工 | N18: アーチ（天端） | P18: 材質劣化 | R18: その他 | U18: Ⅲ | AQ18: =IF(P18="材質劣化",2,IF(P18="漏水",3,1)) -> 2
K19: 9 | L19: 覆工 | N19: アーチ（天端） | P19: 漏水 | R19: 漏水 | U19: Ⅱa | AI19: 3.3 | AQ19: =IF(P19="材質劣化",2,IF(P19="漏水",3,1)) -> 3
K20: 10 | L20: 覆工 | N20: アーチ（天端） | P20: 材質劣化 | R20: その他 | U20: Ⅱb | AQ20: =IF(P20="材質劣化",2,IF(P20="漏水",3,1)) -> 2
K21: 11 | L21: 覆工 | N21: アーチ（右側） | P21: 材質劣化 | R21: うき・はく離 | U21: Ⅱb | AF21: 1.04 | AQ21: =IF(P21="材質劣化",2,IF(P21="漏水",3,1)) -> 2
K22: 12 | L22: 覆工 | N22: アーチ（右側） | P22: 材質劣化 | R22: うき・はく離 | U22: Ⅱb | AF22: 0.05 | AQ22: =IF(P22="材質劣化",2,IF(P22="漏水",3,1)) -> 2
K23: 13 | L23: 覆工 | N23: アーチ（天端） | P23: 漏水 | R23: 漏水 | U23: Ⅱa | AI23: 2.68 | AQ23: =IF(P23="材質劣化",2,IF(P23="漏水",3,1)) -> 3
K24: 14 | L24: 覆工 | N24: アーチ（右側） | P24: 材質劣化 | R24: うき・はく離 | U24: Ⅱb | AF24: 0.06 | AQ24: =IF(P24="材質劣化",2,IF(P24="漏水",3,1)) -> 2
K25: 15 | L25: 覆工 | N25: アーチ（左側） | P25: 材質劣化 | R25: うき・はく離 | U25: － | AE25: 0.03 | AQ25: =IF(P25="材質劣化",2,IF(P25="漏水",3,1)) -> 2
K26: 16 | L26: 覆工 | N26: アーチ（左側） | P26: 材質劣化 | R26: 補修・補強材の破損 | U26: － | AF26: 0.02 | AQ26: =IF(P26="材質劣化",2,IF(P26="漏水",3,1)) -> 2
K27: 17 | L27: 覆工 | N27: アーチ（天端） | P27: 材質劣化 | R27: その他 | U27: － | AQ27: =IF(P27="材質劣化",2,IF(P27="漏水",3,1)) -> 2
K28: 18 | L28: 覆工 | N28: アーチ（天端） | P28: 材質劣化 | R28: うき・はく離 | U28: － | AF28: 0.14 | AQ28: =IF(P30="材質劣化",2,IF(P30="漏水",3,1)) -> 1
K29: 19 | L29: 覆工 | N29: アーチ（右側） | P29: 材質劣化 | R29: 圧ざ、ひび割れ | U29: － | AF29: 0.7 | AQ29: =IF(P34="材質劣化",2,IF(P34="漏水",3,1)) -> 1
K30: 20 | AQ30: =IF(P30="材質劣化",2,IF(P30="漏水",3,1)) -> 1
K31: 21 | AQ31: =IF(P33="材質劣化",2,IF(P33="漏水",3,1)) -> 1
K32: 22 | AQ32: =IF(P37="材質劣化",2,IF(P37="漏水",3,1)) -> 1
K33: 23 | AQ33: =IF(P33="材質劣化",2,IF(P33="漏水",3,1)) -> 1
K34: 24 | AQ34: =IF(P36="材質劣化",2,IF(P36="漏水",3,1)) -> 1
K35: 集計 判定 診断 | L35: 変状の発生規模合計(㎡) | Y35: － | AC35: =SUM(AC11:AC34) -> 0 | AD35: =SUM(AD11:AD34) -> 0 | AE35: =SUM(AE11:AE34) -> 1.31 | AF35: =SUM(AF11:AF34) -> 5.11 | AG35: =SUM(AG11:AG34) -> 0 | AH35: =SUM(AH11:AH34) -> 0 | AI35: =SUM(AI11:AI34) -> 8.71 | AJ35: =SUM(AJ11:AJ34) -> 0 | AK35: 覆工スパン単位の 健全性の 診断の区分 | AM35: Ⅱ
L36: 対策区分の 判定結果 | O36: 対策区分毎の変状数注3 | Y36: Ⅳ | Z36: Ⅲ | AA36: Ⅱa | AB36: Ⅱb | AC36: Ⅳ | AD36: Ⅲ | AE36: Ⅱa | AF36: Ⅱb | AG36: Ⅳ | AH36: Ⅲ | AI36: Ⅱa | AJ36: Ⅱb
Y37: =IF(COUNTIF(Y11:Y34,"〇")>0,1,0) -> 0 | Z37: =IF(COUNTIF(Z11:Z34,"〇")>0,1,0) -> 0 | AA37: =IF(COUNTIF(AA11:AA34,"〇")>0,1,0) -> 0 | AB37: =IF(COUNTIF(AB11:AB34,"〇")>0,1,0) -> 0 | AC37: =COUNTA(AC11:AC34) -> 0 | AD37: =COUNTA(AD11:AD34) -> 0 | AE37: =COUNTA(AE11:AE34) -> 3 | AF37: =COUNTA(AF11:AF34) -> 8 | AG37: =COUNTA(AG11:AG34) -> 0 | AH37: =COUNTA(AH11:AH34) -> 0 | AI37: =COUNTA(AI11:AI34) -> 3 | AJ37: =COUNTA(AJ11:AJ34) -> 0 | AU37: =+Y37 -> 0
K39: 所見
K43: 注1：誤記入防止のため、当該変状区分以外のセルは灰色表示とすること。
K44: 注2：応急措置を実施した場合は、その詳細を備考に記載すること。
K45: 注3：外力は覆工スパン単位、材質劣化、漏水は変状単位とすること。
B46: （以下、印刷不要）
B47: ※1：本シートは作成洩れのないよう、変状が無くても全スパン分を作成すること．また変状展開図は、様式D-2-1、様式D-2-1'と同じものを覆工スパン単位で拡大し掲載すること。
B48: ※2：変状番号は、様式D-1-1で記入した番号と整合させること。
B49: ※3：対策区分毎の変状発生規模は、様式D-1-1に記載した面積を記入すること（ただし外力はスパン単位で評価するため変状の有無の欄には面積でなく○を記入し、備考欄に状況を記入）。
B50: ※4：本様式は覆工スパン毎に作成すること。
B51: ※5：変状数が多い場合は、適時、表の行を増やして覆工スパン毎に1枚のシートに収めること。また、1スパン１シートとし、スパンに合わせてシートを追加すること。
B52: ※6：対策区分毎の変状の発生範囲の規模とは，対策を行う際に参考となる変状の長さや面積であり，変状を包含する長さや面積とする。
B53: ※7：対策範囲を示す発生範囲の規模を面積で記入することが妥当ではない変状は、発生範囲の規模の欄に○を記入するとともに、備考に内容を記入すること。

Sheet 様式D-3_S002
AU1: 様式F用→ | AV1: 覆工スパン | AY1: 変 状 数 | BK1: 変 状 規 模
AV2: 番号 | AW2: 延長 （ｍ） | AX2: 健全性の診断の 区分 | AY2: 対策区分の判定 | BK2: 覆工スパン長（ｍ） | BO2: 変状の発生範囲の規模（㎡）
B3: ■定期点検記録様式 覆工スパン別変状詳細展開図 【様式D-3】 | AY3: 外力 | BC3: 材質劣化 | BG3: 漏水 | BK3: 外力 注2 | BO3: 材質劣化 | BS3: 漏水
B4: フリガナ | E4: ヌクミトンネル | K4: 路線名 | N4: 三瀬川下松線 | T4: 定期点検実施者 | Y4: 株式会社 長大 | AG4: 定期点検年月日 | AK4: 45926 | AY4: Ⅳ | AZ4: Ⅲ | BA4: Ⅱa | BB4: Ⅱb | BC4: Ⅳ | BD4: Ⅲ | BE4: Ⅱa | BF4: Ⅱb | BG4: Ⅳ | BH4: Ⅲ | BI4: Ⅱa | BJ4: Ⅱb | BK4: Ⅳ | BL4: Ⅲ | BM4: Ⅱa | BN4: Ⅱb | BO4: Ⅳ | BP4: Ⅲ | BQ4: Ⅱa | BR4: Ⅱb | BS4: Ⅳ | BT4: Ⅲ | BU4: Ⅱa | BV4: Ⅱb
B5: 名 称 | E5: 温見トンネル | K5: 管理者名 | N5: 周南土木建築事務所 | Y5: 鷲尾 寛 | AV5: =N7 -> S002 | AW5: =R7 -> 10 | AX5: =AM35 -> Ⅱ | AY5: =IF(Y37>0,Y37,"") | AZ5: =IF(Y37>0,"",IF(Z37>0,Z37,"")) | BA5: =IF(Y37+Z37>0,"",IF(AA37>0,AA37,"")) | BB5: =IF(Y37+Z37+AA37>0,"",IF(AB37>0,AB37,"")) | BC5: =AC37 -> 0 | BD5: =AD37 -> 0 | BE5: =AE37 -> 2 | BF5: =AF37 -> 5 | BG5: =AG37 -> 0 | BH5: =AH37 -> 0 | BI5: =AI37 -> 2 | BJ5: =AJ37 -> 1 | BK5: =IF(Y37>0,R7,"") | BL5: =IF(Y37>0,"",IF(Z37>0,R7,"")) | BM5: =IF(Y37+Z37>0,"",IF(AA37>0,R7,"")) | BN5: =IF(Y37+Z37+AA37>0,"",IF(AB37>0,R7,"")) | BO5: =AC35 -> 0 | BP5: =AD35 -> 0 | BQ5: =AE35 -> 0.1 | BR5: =AF35 -> 1.7 | BS5: =AG35 -> 0 | BT5: =AH35 -> 0 | BU5: =AI35 -> 6.15 | BV5: =AJ35 -> 2.88
B6: スパン別変状展開図 | K6: 【健全性判定集計表】
K7: スパン番号 | N7: S002 | P7: スパン長 | R7: 10 | U7: 前回定期点検時の判定 | W7: 応急措置前の判定 | Y7: 対策区分毎の 変状の有無 | AC7: 対策区分毎の変状の発生範囲の規模(㎡) | AK7: 備考注2
K8: 変状番号 | L8: 対象箇所 | N8: 部位区分 | P8: 変状区分 | R8: 変状種類
Y9: 外力注1 | AC9: 材質劣化注1 | AG9: 漏水注1
Y10: Ⅳ | Z10: Ⅲ | AA10: Ⅱa | AB10: Ⅱb | AC10: Ⅳ | AD10: Ⅲ | AE10: Ⅱa | AF10: Ⅱb | AG10: Ⅳ | AH10: Ⅲ | AI10: Ⅱa | AJ10: Ⅱb
K11: 1 | L11: 覆工 | N11: アーチ（左側） | P11: 材質劣化 | R11: うき・はく離 | U11: Ⅱb | AE11: 0.02 | AQ11: =IF(P11="材質劣化",2,IF(P11="漏水",3,1)) -> 2 | AS11: =IF(Y11<>"",1,"")
K12: 2 | L12: 覆工 | N12: アーチ（左側） | P12: 材質劣化 | R12: その他 | U12: Ⅱa | AQ12: =IF(P12="材質劣化",2,IF(P12="漏水",3,1)) -> 2
K13: 3 | L13: 覆工 | N13: 側壁（左側） | P13: 材質劣化 | R13: うき・はく離 | U13: Ⅱb | AF13: 0.02 | AQ13: =IF(P13="材質劣化",2,IF(P13="漏水",3,1)) -> 2
K14: 4 | L14: 覆工 | N14: アーチ（天端） | P14: 材質劣化 | R14: その他 | U14: Ⅱb | AQ14: =IF(P14="材質劣化",2,IF(P14="漏水",3,1)) -> 2
K15: 5 | L15: 覆工 | N15: アーチ（左側） | P15: 漏水 | R15: 漏水 | U15: Ⅱb | AJ15: 2.88 | AQ15: =IF(P15="材質劣化",2,IF(P15="漏水",3,1)) -> 3
K16: 6 | L16: 覆工 | N16: アーチ（天端） | P16: 材質劣化 | R16: うき・はく離 | U16: Ⅱa | AE16: 0.08 | AQ16: =IF(P16="材質劣化",2,IF(P16="漏水",3,1)) -> 2
K17: 7 | L17: 覆工 | N17: アーチ（天端） | P17: 漏水 | R17: その他 | U17: Ⅱa | AQ17: =IF(P17="材質劣化",2,IF(P17="漏水",3,1)) -> 3
K18: 8 | L18: 覆工 | N18: アーチ（天端） | P18: 材質劣化 | R18: うき・はく離 | U18: Ⅱb | AF18: 1.24 | AQ18: =IF(P18="材質劣化",2,IF(P18="漏水",3,1)) -> 2
K19: 9 | L19: 覆工 | N19: アーチ（右側） | P19: 材質劣化 | R19: うき・はく離 | U19: Ⅱb | AF19: 0.06 | AQ19: =IF(P19="材質劣化",2,IF(P19="漏水",3,1)) -> 2
K20: 10 | L20: 覆工 | N20: 側壁（右側） | P20: 材質劣化 | R20: その他 | U20: Ⅱb | AQ20: =IF(P20="材質劣化",2,IF(P20="漏水",3,1)) -> 2
K21: 11 | L21: 覆工 | N21: アーチ（左側） | P21: 材質劣化 | R21: 補修・補強材の破損 | U21: － | AF21: 0.02 | AQ21: =IF(P21="材質劣化",2,IF(P21="漏水",3,1)) -> 2
K22: 12 | L22: 覆工 | N22: アーチ（左側） | P22: 材質劣化 | R22: うき・はく離 | U22: － | AF22: 0.36 | AQ22: =IF(P22="材質劣化",2,IF(P22="漏水",3,1)) -> 2
K23: 13 | L23: 覆工 | N23: アーチ（天端） | P23: 漏水 | R23: 漏水 | U23: － | AI23: 3.05 | AQ23: =IF(P23="材質劣化",2,IF(P23="漏水",3,1)) -> 3
K24: 14 | L24: 覆工 | N24: アーチ（天端） | P24: 漏水 | R24: 漏水 | U24: － | AI24: 3.1 | AQ24: =IF(P24="材質劣化",2,IF(P24="漏水",3,1)) -> 3
K25: 15 | AQ25: =IF(P25="材質劣化",2,IF(P25="漏水",3,1)) -> 1
K26: 16 | AQ26: =IF(P26="材質劣化",2,IF(P26="漏水",3,1)) -> 1
K27: 17 | AQ27: =IF(P27="材質劣化",2,IF(P27="漏水",3,1)) -> 1
K28: 18 | AQ28: =IF(P30="材質劣化",2,IF(P30="漏水",3,1)) -> 1
K29: 19 | AQ29: =IF(P34="材質劣化",2,IF(P34="漏水",3,1)) -> 1
K30: 20 | AQ30: =IF(P30="材質劣化",2,IF(P30="漏水",3,1)) -> 1
K31: 21 | AQ31: =IF(P33="材質劣化",2,IF(P33="漏水",3,1)) -> 1
K32: 22 | AQ32: =IF(P37="材質劣化",2,IF(P37="漏水",3,1)) -> 1
K33: 23 | AQ33: =IF(P33="材質劣化",2,IF(P33="漏水",3,1)) -> 1
K34: 24 | AQ34: =IF(P36="材質劣化",2,IF(P36="漏水",3,1)) -> 1
K35: 集計 判定 診断 | L35: 変状の発生規模合計(㎡) | Y35: － | AC35: =SUM(AC11:AC34) -> 0 | AD35: =SUM(AD11:AD34) -> 0 | AE35: =SUM(AE11:AE34) -> 0.1 | AF35: =SUM(AF11:AF34) -> 1.7 | AG35: =SUM(AG11:AG34) -> 0 | AH35: =SUM(AH11:AH34) -> 0 | AI35: =SUM(AI11:AI34) -> 6.15 | AJ35: =SUM(AJ11:AJ34) -> 2.88 | AK35: 覆工スパン単位の 健全性の 診断の区分 | AM35: Ⅱ
L36: 対策区分の 判定結果 | O36: 対策区分毎の変状数注3 | Y36: Ⅳ | Z36: Ⅲ | AA36: Ⅱa | AB36: Ⅱb | AC36: Ⅳ | AD36: Ⅲ | AE36: Ⅱa | AF36: Ⅱb | AG36: Ⅳ | AH36: Ⅲ | AI36: Ⅱa | AJ36: Ⅱb
Y37: =IF(COUNTIF(Y11:Y34,"〇")>0,1,0) -> 0 | Z37: =IF(COUNTIF(Z11:Z34,"〇")>0,1,0) -> 0 | AA37: =IF(COUNTIF(AA11:AA34,"〇")>0,1,0) -> 0 | AB37: =IF(COUNTIF(AB11:AB34,"〇")>0,1,0) -> 0 | AC37: =COUNTA(AC11:AC34) -> 0 | AD37: =COUNTA(AD11:AD34) -> 0 | AE37: =COUNTA(AE11:AE34) -> 2 | AF37: =COUNTA(AF11:AF34) -> 5 | AG37: =COUNTA(AG11:AG34) -> 0 | AH37: =COUNTA(AH11:AH34) -> 0 | AI37: =COUNTA(AI11:AI34) -> 2 | AJ37: =COUNTA(AJ11:AJ34) -> 1 | AU37: =+Y37 -> 0
K39: 所見
K43: 注1：誤記入防止のため、当該変状区分以外のセルは灰色表示とすること。
K44: 注2：応急措置を実施した場合は、その詳細を備考に記載すること。
K45: 注3：外力は覆工スパン単位、材質劣化、漏水は変状単位とすること。
B46: （以下、印刷不要）
B47: ※1：本シートは作成洩れのないよう、変状が無くても全スパン分を作成すること．また変状展開図は、様式D-2-1、様式D-2-1'と同じものを覆工スパン単位で拡大し掲載すること。
B48: ※2：変状番号は、様式D-1-1で記入した番号と整合させること。
B49: ※3：対策区分毎の変状発生規模は、様式D-1-1に記載した面積を記入すること（ただし外力はスパン単位で評価するため変状の有無の欄には面積でなく○を記入し、備考欄に状況を記入）。
B50: ※4：本様式は覆工スパン毎に作成すること。
B51: ※5：変状数が多い場合は、適時、表の行を増やして覆工スパン毎に1枚のシートに収めること。また、1スパン１シートとし、スパンに合わせてシートを追加すること。
B52: ※6：対策区分毎の変状の発生範囲の規模とは，対策を行う際に参考となる変状の長さや面積であり，変状を包含する長さや面積とする。
B53: ※7：対策範囲を示す発生範囲の規模を面積で記入することが妥当ではない変状は、発生範囲の規模の欄に○を記入するとともに、備考に内容を記入すること。

Sheet 様式D-3_S003
AU1: 様式F用→ | AV1: 覆工スパン | AY1: 変 状 数 | BK1: 変 状 規 模
AV2: 番号 | AW2: 延長 （ｍ） | AX2: 健全性の診断の 区分 | AY2: 対策区分の判定 | BK2: 覆工スパン長（ｍ） | BO2: 変状の発生範囲の規模（㎡）
B3: ■定期点検記録様式 覆工スパン別変状詳細展開図 【様式D-3】 | AY3: 外力 | BC3: 材質劣化 | BG3: 漏水 | BK3: 外力 注2 | BO3: 材質劣化 | BS3: 漏水
B4: フリガナ | E4: ヌクミトンネル | K4: 路線名 | N4: 三瀬川下松線 | T4: 定期点検実施者 | Y4: 株式会社 長大 | AG4: 定期点検年月日 | AK4: 45926 | AY4: Ⅳ | AZ4: Ⅲ | BA4: Ⅱa | BB4: Ⅱb | BC4: Ⅳ | BD4: Ⅲ | BE4: Ⅱa | BF4: Ⅱb | BG4: Ⅳ | BH4: Ⅲ | BI4: Ⅱa | BJ4: Ⅱb | BK4: Ⅳ | BL4: Ⅲ | BM4: Ⅱa | BN4: Ⅱb | BO4: Ⅳ | BP4: Ⅲ | BQ4: Ⅱa | BR4: Ⅱb | BS4: Ⅳ | BT4: Ⅲ | BU4: Ⅱa | BV4: Ⅱb
B5: 名 称 | E5: 温見トンネル | K5: 管理者名 | N5: 周南土木建築事務所 | Y5: 鷲尾 寛 | AV5: =N7 -> S003 | AW5: =R7 -> 10 | AX5: =AM35 -> Ⅱ | AY5: =IF(Y37>0,Y37,"") | AZ5: =IF(Y37>0,"",IF(Z37>0,Z37,"")) | BA5: =IF(Y37+Z37>0,"",IF(AA37>0,AA37,"")) | BB5: =IF(Y37+Z37+AA37>0,"",IF(AB37>0,AB37,"")) | BC5: =AC37 -> 0 | BD5: =AD37 -> 0 | BE5: =AE37 -> 3 | BF5: =AF37 -> 2 | BG5: =AG37 -> 0 | BH5: =AH37 -> 0 | BI5: =AI37 -> 2 | BJ5: =AJ37 -> 1 | BK5: =IF(Y37>0,R7,"") | BL5: =IF(Y37>0,"",IF(Z37>0,R7,"")) | BM5: =IF(Y37+Z37>0,"",IF(AA37>0,R7,"")) | BN5: =IF(Y37+Z37+AA37>0,"",IF(AB37>0,R7,"")) | BO5: =AC35 -> 0 | BP5: =AD35 -> 0 | BQ5: =AE35 -> 0.19 | BR5: =AF35 -> 0.47 | BS5: =AG35 -> 0 | BT5: =AH35 -> 0 | BU5: =AI35 -> 6.1 | BV5: =AJ35 -> 9.8
B6: スパン別変状展開図 | K6: 【健全性判定集計表】
K7: スパン番号 | N7: S003 | P7: スパン長 | R7: 10 | U7: 前回定期点検時の判定 | W7: 応急措置前の判定 | Y7: 対策区分毎の 変状の有無 | AC7: 対策区分毎の変状の発生範囲の規模(㎡) | AK7: 備考注2
K8: 変状番号 | L8: 対象箇所 | N8: 部位区分 | P8: 変状区分 | R8: 変状種類
Y9: 外力注1 | AC9: 材質劣化注1 | AG9: 漏水注1
Y10: Ⅳ | Z10: Ⅲ | AA10: Ⅱa | AB10: Ⅱb | AC10: Ⅳ | AD10: Ⅲ | AE10: Ⅱa | AF10: Ⅱb | AG10: Ⅳ | AH10: Ⅲ | AI10: Ⅱa | AJ10: Ⅱb
K11: 1 | L11: 覆工 | N11: アーチ（左側） | P11: 材質劣化 | R11: うき・はく離 | U11: Ⅱb | AE11: 0.05 | AQ11: =IF(P11="材質劣化",2,IF(P11="漏水",3,1)) -> 2 | AS11: =IF(Y11<>"",1,"")
K12: 2 | L12: 覆工 | N12: アーチ（天端） | P12: 材質劣化 | R12: その他 | U12: Ⅰ | AQ12: =IF(P12="材質劣化",2,IF(P12="漏水",3,1)) -> 2
K13: 3 | L13: 覆工 | N13: アーチ（左側） | P13: 漏水 | R13: 漏水 | U13: Ⅱb | AJ13: 9.8 | AQ13: =IF(P13="材質劣化",2,IF(P13="漏水",3,1)) -> 3
K14: 4 | L14: 覆工 | N14: アーチ（天端） | P14: 材質劣化 | R14: その他 | U14: Ⅱa | AQ14: =IF(P14="材質劣化",2,IF(P14="漏水",3,1)) -> 2
K15: 5 | L15: 覆工 | N15: アーチ（天端） | P15: 漏水 | R15: 漏水 | U15: Ⅱa | AI15: 3.3 | AQ15: =IF(P15="材質劣化",2,IF(P15="漏水",3,1)) -> 3
K16: 6 | L16: 覆工 | N16: アーチ（天端） | P16: 漏水 | R16: その他 | U16: Ⅱa | AQ16: =IF(P16="材質劣化",2,IF(P16="漏水",3,1)) -> 3
K17: 7 | L17: 覆工 | N17: アーチ（天端） | P17: 漏水 | R17: その他 | U17: Ⅱa | AQ17: =IF(P17="材質劣化",2,IF(P17="漏水",3,1)) -> 3
K18: 8 | L18: 覆工 | N18: アーチ（天端） | P18: 漏水 | R18: その他 | U18: Ⅱa | AQ18: =IF(P18="材質劣化",2,IF(P18="漏水",3,1)) -> 3
K19: 9 | L19: 覆工 | N19: アーチ（右側） | P19: 材質劣化 | R19: その他 | U19: Ⅱb | AQ19: =IF(P19="材質劣化",2,IF(P19="漏水",3,1)) -> 2
K20: 10 | L20: 覆工 | N20: アーチ（右側） | P20: 材質劣化 | R20: うき・はく離 | U20: Ⅱb | AE20: 0.02 | AQ20: =IF(P20="材質劣化",2,IF(P20="漏水",3,1)) -> 2
K21: 11 | L21: 覆工 | N21: アーチ（天端） | P21: 材質劣化 | R21: うき・はく離 | U21: Ⅱa | AE21: 0.12 | AQ21: =IF(P21="材質劣化",2,IF(P21="漏水",3,1)) -> 2
K22: 12 | L22: 覆工 | N22: アーチ（天端） | P22: 材質劣化 | R22: うき・はく離 | U22: Ⅱb | AF22: 0.03 | AQ22: =IF(P22="材質劣化",2,IF(P22="漏水",3,1)) -> 2
K23: 13 | L23: 覆工 | N23: アーチ（左側） | P23: 材質劣化 | R23: うき・はく離 | U23: － | AF23: 0.44 | AQ23: =IF(P23="材質劣化",2,IF(P23="漏水",3,1)) -> 2
K24: 14 | L24: 覆工 | N24: アーチ（天端） | P24: 漏水 | R24: 漏水 | U24: － | AI24: 2.8 | AQ24: =IF(P24="材質劣化",2,IF(P24="漏水",3,1)) -> 3
K25: 15 | AQ25: =IF(P25="材質劣化",2,IF(P25="漏水",3,1)) -> 1
K26: 16 | AQ26: =IF(P26="材質劣化",2,IF(P26="漏水",3,1)) -> 1
K27: 17 | AQ27: =IF(P27="材質劣化",2,IF(P27="漏水",3,1)) -> 1
K28: 18 | AQ28: =IF(P30="材質劣化",2,IF(P30="漏水",3,1)) -> 1
K29: 19 | AQ29: =IF(P34="材質劣化",2,IF(P34="漏水",3,1)) -> 1
K30: 20 | AQ30: =IF(P30="材質劣化",2,IF(P30="漏水",3,1)) -> 1
K31: 21 | AQ31: =IF(P33="材質劣化",2,IF(P33="漏水",3,1)) -> 1
K32: 22 | AQ32: =IF(P37="材質劣化",2,IF(P37="漏水",3,1)) -> 1
K33: 23 | AQ33: =IF(P33="材質劣化",2,IF(P33="漏水",3,1)) -> 1
K34: 24 | AQ34: =IF(P36="材質劣化",2,IF(P36="漏水",3,1)) -> 1
K35: 集計 判定 診断 | L35: 変状の発生規模合計(㎡) | Y35: － | AC35: =SUM(AC11:AC34) -> 0 | AD35: =SUM(AD11:AD34) -> 0 | AE35: =SUM(AE11:AE34) -> 0.19 | AF35: =SUM(AF11:AF34) -> 0.47 | AG35: =SUM(AG11:AG34) -> 0 | AH35: =SUM(AH11:AH34) -> 0 | AI35: =SUM(AI11:AI34) -> 6.1 | AJ35: =SUM(AJ11:AJ34) -> 9.8 | AK35: 覆工スパン単位の 健全性の 診断の区分 | AM35: Ⅱ
L36: 対策区分の 判定結果 | O36: 対策区分毎の変状数注3 | Y36: Ⅳ | Z36: Ⅲ | AA36: Ⅱa | AB36: Ⅱb | AC36: Ⅳ | AD36: Ⅲ | AE36: Ⅱa | AF36: Ⅱb | AG36: Ⅳ | AH36: Ⅲ | AI36: Ⅱa | AJ36: Ⅱb
Y37: =IF(COUNTIF(Y11:Y34,"〇")>0,1,0) -> 0 | Z37: =IF(COUNTIF(Z11:Z34,"〇")>0,1,0) -> 0 | AA37: =IF(COUNTIF(AA11:AA34,"〇")>0,1,0) -> 0 | AB37: =IF(COUNTIF(AB11:AB34,"〇")>0,1,0) -> 0 | AC37: =COUNTA(AC11:AC34) -> 0 | AD37: =COUNTA(AD11:AD34) -> 0 | AE37: =COUNTA(AE11:AE34) -> 3 | AF37: =COUNTA(AF11:AF34) -> 2 | AG37: =COUNTA(AG11:AG34) -> 0 | AH37: =COUNTA(AH11:AH34) -> 0 | AI37: =COUNTA(AI11:AI34) -> 2 | AJ37: =COUNTA(AJ11:AJ34) -> 1 | AU37: =+Y37 -> 0
K39: 所見
K43: 注1：誤記入防止のため、当該変状区分以外のセルは灰色表示とすること。
K44: 注2：応急措置を実施した場合は、その詳細を備考に記載すること。
K45: 注3：外力は覆工スパン単位、材質劣化、漏水は変状単位とすること。
B46: （以下、印刷不要）
B47: ※1：本シートは作成洩れのないよう、変状が無くても全スパン分を作成すること．また変状展開図は、様式D-2-1、様式D-2-1'と同じものを覆工スパン単位で拡大し掲載すること。
B48: ※2：変状番号は、様式D-1-1で記入した番号と整合させること。
B49: ※3：対策区分毎の変状発生規模は、様式D-1-1に記載した面積を記入すること（ただし外力はスパン単位で評価するため変状の有無の欄には面積でなく○を記入し、備考欄に状況を記入）。
B50: ※4：本様式は覆工スパン毎に作成すること。
B51: ※5：変状数が多い場合は、適時、表の行を増やして覆工スパン毎に1枚のシートに収めること。また、1スパン１シートとし、スパンに合わせてシートを追加すること。
B52: ※6：対策区分毎の変状の発生範囲の規模とは，対策を行う際に参考となる変状の長さや面積であり，変状を包含する長さや面積とする。
B53: ※7：対策範囲を示す発生範囲の規模を面積で記入することが妥当ではない変状は、発生範囲の規模の欄に○を記入するとともに、備考に内容を記入すること。

Sheet 様式D-3_S004
AU1: 様式F用→ | AV1: 覆工スパン | AY1: 変 状 数 | BK1: 変 状 規 模
AV2: 番号 | AW2: 延長 （ｍ） | AX2: 健全性の診断の 区分 | AY2: 対策区分の判定 | BK2: 覆工スパン長（ｍ） | BO2: 変状の発生範囲の規模（㎡）
B3: ■定期点検記録様式 覆工スパン別変状詳細展開図 【様式D-3】 | AY3: 外力 | BC3: 材質劣化 | BG3: 漏水 | BK3: 外力 注2 | BO3: 材質劣化 | BS3: 漏水
B4: フリガナ | E4: ヌクミトンネル | K4: 路線名 | N4: 三瀬川下松線 | T4: 定期点検実施者 | Y4: 株式会社 長大 | AG4: 定期点検年月日 | AK4: 45926 | AY4: Ⅳ | AZ4: Ⅲ | BA4: Ⅱa | BB4: Ⅱb | BC4: Ⅳ | BD4: Ⅲ | BE4: Ⅱa | BF4: Ⅱb | BG4: Ⅳ | BH4: Ⅲ | BI4: Ⅱa | BJ4: Ⅱb | BK4: Ⅳ | BL4: Ⅲ | BM4: Ⅱa | BN4: Ⅱb | BO4: Ⅳ | BP4: Ⅲ | BQ4: Ⅱa | BR4: Ⅱb | BS4: Ⅳ | BT4: Ⅲ | BU4: Ⅱa | BV4: Ⅱb
B5: 名 称 | E5: 温見トンネル | K5: 管理者名 | N5: 周南土木建築事務所 | Y5: 鷲尾 寛 | AV5: =N7 -> S004 | AW5: =R7 -> 10 | AX5: =AM35 -> Ⅱ | AY5: =IF(Y37>0,Y37,"") | AZ5: =IF(Y37>0,"",IF(Z37>0,Z37,"")) | BA5: =IF(Y37+Z37>0,"",IF(AA37>0,AA37,"")) | BB5: =IF(Y37+Z37+AA37>0,"",IF(AB37>0,AB37,"")) | BC5: =AC37 -> 0 | BD5: =AD37 -> 0 | BE5: =AE37 -> 0 | BF5: =AF37 -> 3 | BG5: =AG37 -> 0 | BH5: =AH37 -> 0 | BI5: =AI37 -> 4 | BJ5: =AJ37 -> 2 | BK5: =IF(Y37>0,R7,"") | BL5: =IF(Y37>0,"",IF(Z37>0,R7,"")) | BM5: =IF(Y37+Z37>0,"",IF(AA37>0,R7,"")) | BN5: =IF(Y37+Z37+AA37>0,"",IF(AB37>0,R7,"")) | BO5: =AC35 -> 0 | BP5: =AD35 -> 0 | BQ5: =AE35 -> 0 | BR5: =AF35 -> 0.18 | BS5: =AG35 -> 0 | BT5: =AH35 -> 0 | BU5: =AI35 -> 12.34 | BV5: =AJ35 -> 5.33
B6: スパン別変状展開図 | K6: 【健全性判定集計表】
K7: スパン番号 | N7: S004 | P7: スパン長 | R7: 10 | U7: 前回定期点検時の判定 | W7: 応急措置前の判定 | Y7: 対策区分毎の 変状の有無 | AC7: 対策区分毎の変状の発生範囲の規模(㎡) | AK7: 備考注2
K8: 変状番号 | L8: 対象箇所 | N8: 部位区分 | P8: 変状区分 | R8: 変状種類
Y9: 外力注1 | AC9: 材質劣化注1 | AG9: 漏水注1
Y10: Ⅳ | Z10: Ⅲ | AA10: Ⅱa | AB10: Ⅱb | AC10: Ⅳ | AD10: Ⅲ | AE10: Ⅱa | AF10: Ⅱb | AG10: Ⅳ | AH10: Ⅲ | AI10: Ⅱa | AJ10: Ⅱb
K11: 1 | L11: 覆工 | N11: アーチ（左側） | P11: 漏水 | R11: 漏水 | U11: Ⅱb | AJ11: 5.2 | AQ11: =IF(P11="材質劣化",2,IF(P11="漏水",3,1)) -> 3 | AS11: =IF(Y11<>"",1,"")
K12: 2 | L12: 覆工 | N12: 側壁（左側） | P12: 材質劣化 | R12: うき・はく離 | U12: Ⅱb | AF12: 0.04 | AQ12: =IF(P12="材質劣化",2,IF(P12="漏水",3,1)) -> 2
K13: 3 | L13: 覆工 | N13: アーチ（左側） | P13: 材質劣化 | R13: その他 | U13: Ⅱb | AQ13: =IF(P13="材質劣化",2,IF(P13="漏水",3,1)) -> 2
K14: 4 | L14: 覆工 | N14: アーチ（天端） | P14: 材質劣化 | R14: 補修・補強材の破損 | U14: Ⅱb | AF14: 0.1 | AQ14: =IF(P14="材質劣化",2,IF(P14="漏水",3,1)) -> 2
K15: 5 | L15: 覆工 | N15: アーチ（天端） | P15: 漏水 | R15: 漏水 | U15: Ⅱa | AI15: 3.2 | AQ15: =IF(P15="材質劣化",2,IF(P15="漏水",3,1)) -> 3
K16: 6 | L16: 覆工 | N16: アーチ（天端） | P16: 漏水 | R16: その他 | U16: Ⅱa | AQ16: =IF(P16="材質劣化",2,IF(P16="漏水",3,1)) -> 3
K17: 7 | L17: 覆工 | N17: アーチ（天端） | P17: 漏水 | R17: その他 | U17: Ⅱa | AQ17: =IF(P17="材質劣化",2,IF(P17="漏水",3,1)) -> 3
K18: 8 | L18: 覆工 | N18: アーチ（天端） | P18: 漏水 | R18: その他 | U18: Ⅱa | AQ18: =IF(P18="材質劣化",2,IF(P18="漏水",3,1)) -> 3
K19: 9 | L19: 覆工 | N19: アーチ（天端） | P19: 漏水 | R19: 漏水 | U19: Ⅱa | AI19: 3.18 | AQ19: =IF(P19="材質劣化",2,IF(P19="漏水",3,1)) -> 3
K20: 10 | L20: 覆工 | N20: アーチ（天端） | P20: 漏水 | R20: 漏水 | U20: Ⅱa | AI20: 2.66 | AQ20: =IF(P20="材質劣化",2,IF(P20="漏水",3,1)) -> 3
K21: 11 | L21: 覆工 | N21: アーチ（右側） | P21: 材質劣化 | R21: その他 | U21: Ⅱb | AQ21: =IF(P21="材質劣化",2,IF(P21="漏水",3,1)) -> 2
K22: 12 | L22: 覆工 | N22: アーチ（天端） | P22: 材質劣化 | R22: その他 | U22: Ⅱb | AQ22: =IF(P22="材質劣化",2,IF(P22="漏水",3,1)) -> 2
K23: 13 | L23: 覆工 | N23: 側壁（右側） | P23: 材質劣化 | R23: その他 | U23: Ⅱb | AQ23: =IF(P23="材質劣化",2,IF(P23="漏水",3,1)) -> 2
K24: 14 | L24: 路面 | N24: 車道 | R24: その他 | U24: Ⅱb | AQ24: =IF(P24="材質劣化",2,IF(P24="漏水",3,1)) -> 1
K25: 15 | L25: 路面 | N25: 車道 | R25: その他 | U25: Ⅱb | AK25: 0.50m×51.00m | AQ25: =IF(P25="材質劣化",2,IF(P25="漏水",3,1)) -> 1
K26: 16 | L26: 路面 | N26: 車道 | P26: 漏水 | R26: 滞水 | U26: Ⅱb | AJ26: 0.13 | AK26: 0.20m×0.65m | AQ26: =IF(P26="材質劣化",2,IF(P26="漏水",3,1)) -> 3
K27: 17 | L27: 覆工 | N27: アーチ（天端） | P27: 漏水 | R27: 漏水 | U27: － | AI27: 3.3 | AQ27: =IF(P27="材質劣化",2,IF(P27="漏水",3,1)) -> 3
K28: 18 | L28: 覆工 | N28: アーチ（右側） | P28: 材質劣化 | R28: うき・はく離 | U28: － | AF28: 0.04 | AQ28: =IF(P30="材質劣化",2,IF(P30="漏水",3,1)) -> 1
K29: 19 | AQ29: =IF(P34="材質劣化",2,IF(P34="漏水",3,1)) -> 1
K30: 20 | AQ30: =IF(P30="材質劣化",2,IF(P30="漏水",3,1)) -> 1
K31: 21 | AQ31: =IF(P33="材質劣化",2,IF(P33="漏水",3,1)) -> 1
K32: 22 | AQ32: =IF(P37="材質劣化",2,IF(P37="漏水",3,1)) -> 1
K33: 23 | AQ33: =IF(P33="材質劣化",2,IF(P33="漏水",3,1)) -> 1
K34: 24 | AQ34: =IF(P36="材質劣化",2,IF(P36="漏水",3,1)) -> 1
K35: 集計 判定 診断 | L35: 変状の発生規模合計(㎡) | Y35: － | AC35: =SUM(AC11:AC34) -> 0 | AD35: =SUM(AD11:AD34) -> 0 | AE35: =SUM(AE11:AE34) -> 0 | AF35: =SUM(AF11:AF34) -> 0.18 | AG35: =SUM(AG11:AG34) -> 0 | AH35: =SUM(AH11:AH34) -> 0 | AI35: =SUM(AI11:AI34) -> 12.34 | AJ35: =SUM(AJ11:AJ34) -> 5.33 | AK35: 覆工スパン単位の 健全性の 診断の区分 | AM35: Ⅱ
L36: 対策区分の 判定結果 | O36: 対策区分毎の変状数注3 | Y36: Ⅳ | Z36: Ⅲ | AA36: Ⅱa | AB36: Ⅱb | AC36: Ⅳ | AD36: Ⅲ | AE36: Ⅱa | AF36: Ⅱb | AG36: Ⅳ | AH36: Ⅲ | AI36: Ⅱa | AJ36: Ⅱb
Y37: =IF(COUNTIF(Y11:Y34,"〇")>0,1,0) -> 0 | Z37: =IF(COUNTIF(Z11:Z34,"〇")>0,1,0) -> 0 | AA37: =IF(COUNTIF(AA11:AA34,"〇")>0,1,0) -> 0 | AB37: =IF(COUNTIF(AB11:AB34,"〇")>0,1,0) -> 0 | AC37: =COUNTA(AC11:AC34) -> 0 | AD37: =COUNTA(AD11:AD34) -> 0 | AE37: =COUNTA(AE11:AE34) -> 0 | AF37: =COUNTA(AF11:AF34) -> 3 | AG37: =COUNTA(AG11:AG34) -> 0 | AH37: =COUNTA(AH11:AH34) -> 0 | AI37: =COUNTA(AI11:AI34) -> 4 | AJ37: =COUNTA(AJ11:AJ34) -> 2 | AU37: =+Y37 -> 0
K39: 所見
K43: 注1：誤記入防止のため、当該変状区分以外のセルは灰色表示とすること。
K44: 注2：応急措置を実施した場合は、その詳細を備考に記載すること。
K45: 注3：外力は覆工スパン単位、材質劣化、漏水は変状単位とすること。
B46: （以下、印刷不要）
B47: ※1：本シートは作成洩れのないよう、変状が無くても全スパン分を作成すること．また変状展開図は、様式D-2-1、様式D-2-1'と同じものを覆工スパン単位で拡大し掲載すること。
B48: ※2：変状番号は、様式D-1-1で記入した番号と整合させること。
B49: ※3：対策区分毎の変状発生規模は、様式D-1-1に記載した面積を記入すること（ただし外力はスパン単位で評価するため変状の有無の欄には面積でなく○を記入し、備考欄に状況を記入）。
B50: ※4：本様式は覆工スパン毎に作成すること。
B51: ※5：変状数が多い場合は、適時、表の行を増やして覆工スパン毎に1枚のシートに収めること。また、1スパン１シートとし、スパンに合わせてシートを追加すること。
B52: ※6：対策区分毎の変状の発生範囲の規模とは，対策を行う際に参考となる変状の長さや面積であり，変状を包含する長さや面積とする。
B53: ※7：対策範囲を示す発生範囲の規模を面積で記入することが妥当ではない変状は、発生範囲の規模の欄に○を記入するとともに、備考に内容を記入すること。

Sheet 様式D-3_S005
AU1: 様式F用→ | AV1: 覆工スパン | AY1: 変 状 数 | BK1: 変 状 規 模
AV2: 番号 | AW2: 延長 （ｍ） | AX2: 健全性の診断の 区分 | AY2: 対策区分の判定 | BK2: 覆工スパン長（ｍ） | BO2: 変状の発生範囲の規模（㎡）
B3: ■定期点検記録様式 覆工スパン別変状詳細展開図 【様式D-3】 | AY3: 外力 | BC3: 材質劣化 | BG3: 漏水 | BK3: 外力 注2 | BO3: 材質劣化 | BS3: 漏水
B4: フリガナ | E4: ヌクミトンネル | K4: 路線名 | N4: 三瀬川下松線 | T4: 定期点検実施者 | Y4: 株式会社 長大 | AG4: 定期点検年月日 | AK4: 45926 | AY4: Ⅳ | AZ4: Ⅲ | BA4: Ⅱa | BB4: Ⅱb | BC4: Ⅳ | BD4: Ⅲ | BE4: Ⅱa | BF4: Ⅱb | BG4: Ⅳ | BH4: Ⅲ | BI4: Ⅱa | BJ4: Ⅱb | BK4: Ⅳ | BL4: Ⅲ | BM4: Ⅱa | BN4: Ⅱb | BO4: Ⅳ | BP4: Ⅲ | BQ4: Ⅱa | BR4: Ⅱb | BS4: Ⅳ | BT4: Ⅲ | BU4: Ⅱa | BV4: Ⅱb
B5: 名 称 | E5: 温見トンネル | K5: 管理者名 | N5: 周南土木建築事務所 | Y5: 鷲尾 寛 | AV5: =N7 -> S005 | AW5: =R7 -> 10 | AX5: =AM35 -> Ⅱ | AY5: =IF(Y37>0,Y37,"") | AZ5: =IF(Y37>0,"",IF(Z37>0,Z37,"")) | BA5: =IF(Y37+Z37>0,"",IF(AA37>0,AA37,"")) | BB5: =IF(Y37+Z37+AA37>0,"",IF(AB37>0,AB37,"")) | BC5: =AC37 -> 0 | BD5: =AD37 -> 0 | BE5: =AE37 -> 0 | BF5: =AF37 -> 1 | BG5: =AG37 -> 0 | BH5: =AH37 -> 0 | BI5: =AI37 -> 0 | BJ5: =AJ37 -> 0 | BK5: =IF(Y37>0,R7,"") | BL5: =IF(Y37>0,"",IF(Z37>0,R7,"")) | BM5: =IF(Y37+Z37>0,"",IF(AA37>0,R7,"")) | BN5: =IF(Y37+Z37+AA37>0,"",IF(AB37>0,R7,"")) | BO5: =AC35 -> 0 | BP5: =AD35 -> 0 | BQ5: =AE35 -> 0 | BR5: =AF35 -> 0.02 | BS5: =AG35 -> 0 | BT5: =AH35 -> 0 | BU5: =AI35 -> 0 | BV5: =AJ35 -> 0
B6: スパン別変状展開図 | K6: 【健全性判定集計表】
K7: スパン番号 | N7: S005 | P7: スパン長 | R7: 10 | U7: 前回定期点検時の判定 | W7: 応急措置前の判定 | Y7: 対策区分毎の 変状の有無 | AC7: 対策区分毎の変状の発生範囲の規模(㎡) | AK7: 備考注2
K8: 変状番号 | L8: 対象箇所 | N8: 部位区分 | P8: 変状区分 | R8: 変状種類
Y9: 外力注1 | AC9: 材質劣化注1 | AG9: 漏水注1
Y10: Ⅳ | Z10: Ⅲ | AA10: Ⅱa | AB10: Ⅱb | AC10: Ⅳ | AD10: Ⅲ | AE10: Ⅱa | AF10: Ⅱb | AG10: Ⅳ | AH10: Ⅲ | AI10: Ⅱa | AJ10: Ⅱb
K11: 1 | L11: 覆工 | N11: アーチ（左側） | P11: 材質劣化 | R11: その他 | U11: Ⅱb | AQ11: =IF(P11="材質劣化",2,IF(P11="漏水",3,1)) -> 2 | AS11: =IF(Y11<>"",1,"")
K12: 2 | L12: 覆工 | N12: アーチ（左側） | P12: 漏水 | R12: その他 | U12: Ⅱb | AQ12: =IF(P12="材質劣化",2,IF(P12="漏水",3,1)) -> 3
K13: 3 | L13: 覆工 | N13: アーチ（左側） | P13: 材質劣化 | R13: 補修・補強材の破損 | U13: Ⅱb | AF13: 0.02 | AQ13: =IF(P13="材質劣化",2,IF(P13="漏水",3,1)) -> 2
K14: 4 | L14: 覆工 | N14: アーチ（右側） | P14: 材質劣化 | R14: その他 | U14: Ⅱb | AQ14: =IF(P14="材質劣化",2,IF(P14="漏水",3,1)) -> 2
K15: 5 | L15: 覆工 | N15: アーチ（右側） | P15: 材質劣化 | R15: その他 | U15: Ⅱb | AQ15: =IF(P15="材質劣化",2,IF(P15="漏水",3,1)) -> 2
K16: 6 | AQ16: =IF(P16="材質劣化",2,IF(P16="漏水",3,1)) -> 1
K17: 7 | AQ17: =IF(P17="材質劣化",2,IF(P17="漏水",3,1)) -> 1
K18: 8 | AQ18: =IF(P18="材質劣化",2,IF(P18="漏水",3,1)) -> 1
K19: 9 | AQ19: =IF(P19="材質劣化",2,IF(P19="漏水",3,1)) -> 1
K20: 10 | AQ20: =IF(P20="材質劣化",2,IF(P20="漏水",3,1)) -> 1
K21: 11 | AQ21: =IF(P21="材質劣化",2,IF(P21="漏水",3,1)) -> 1
K22: 12 | AQ22: =IF(P22="材質劣化",2,IF(P22="漏水",3,1)) -> 1
K23: 13 | AQ23: =IF(P23="材質劣化",2,IF(P23="漏水",3,1)) -> 1
K24: 14 | AQ24: =IF(P24="材質劣化",2,IF(P24="漏水",3,1)) -> 1
K25: 15 | AQ25: =IF(P25="材質劣化",2,IF(P25="漏水",3,1)) -> 1
K26: 16 | AQ26: =IF(P26="材質劣化",2,IF(P26="漏水",3,1)) -> 1
K27: 17 | AQ27: =IF(P27="材質劣化",2,IF(P27="漏水",3,1)) -> 1
K28: 18 | AQ28: =IF(P30="材質劣化",2,IF(P30="漏水",3,1)) -> 1
K29: 19 | AQ29: =IF(P34="材質劣化",2,IF(P34="漏水",3,1)) -> 1
K30: 20 | AQ30: =IF(P30="材質劣化",2,IF(P30="漏水",3,1)) -> 1
K31: 21 | AQ31: =IF(P33="材質劣化",2,IF(P33="漏水",3,1)) -> 1
K32: 22 | AQ32: =IF(P37="材質劣化",2,IF(P37="漏水",3,1)) -> 1
K33: 23 | AQ33: =IF(P33="材質劣化",2,IF(P33="漏水",3,1)) -> 1
K34: 24 | AQ34: =IF(P36="材質劣化",2,IF(P36="漏水",3,1)) -> 1
K35: 集計 判定 診断 | L35: 変状の発生規模合計(㎡) | Y35: － | AC35: =SUM(AC11:AC34) -> 0 | AD35: =SUM(AD11:AD34) -> 0 | AE35: =SUM(AE11:AE34) -> 0 | AF35: =SUM(AF11:AF34) -> 0.02 | AG35: =SUM(AG11:AG34) -> 0 | AH35: =SUM(AH11:AH34) -> 0 | AI35: =SUM(AI11:AI34) -> 0 | AJ35: =SUM(AJ11:AJ34) -> 0 | AK35: 覆工スパン単位の 健全性の 診断の区分 | AM35: Ⅱ
L36: 対策区分の 判定結果 | O36: 対策区分毎の変状数注3 | Y36: Ⅳ | Z36: Ⅲ | AA36: Ⅱa | AB36: Ⅱb | AC36: Ⅳ | AD36: Ⅲ | AE36: Ⅱa | AF36: Ⅱb | AG36: Ⅳ | AH36: Ⅲ | AI36: Ⅱa | AJ36: Ⅱb
Y37: =IF(COUNTIF(Y11:Y34,"〇")>0,1,0) -> 0 | Z37: =IF(COUNTIF(Z11:Z34,"〇")>0,1,0) -> 0 | AA37: =IF(COUNTIF(AA11:AA34,"〇")>0,1,0) -> 0 | AB37: =IF(COUNTIF(AB11:AB34,"〇")>0,1,0) -> 0 | AC37: =COUNTA(AC11:AC34) -> 0 | AD37: =COUNTA(AD11:AD34) -> 0 | AE37: =COUNTA(AE11:AE34) -> 0 | AF37: =COUNTA(AF11:AF34) -> 1 | AG37: =COUNTA(AG11:AG34) -> 0 | AH37: =COUNTA(AH11:AH34) -> 0 | AI37: =COUNTA(AI11:AI34) -> 0 | AJ37: =COUNTA(AJ11:AJ34) -> 0 | AU37: =+Y37 -> 0
K39: 所見
K43: 注1：誤記入防止のため、当該変状区分以外のセルは灰色表示とすること。
K44: 注2：応急措置を実施した場合は、その詳細を備考に記載すること。
K45: 注3：外力は覆工スパン単位、材質劣化、漏水は変状単位とすること。
B46: （以下、印刷不要）
B47: ※1：本シートは作成洩れのないよう、変状が無くても全スパン分を作成すること．また変状展開図は、様式D-2-1、様式D-2-1'と同じものを覆工スパン単位で拡大し掲載すること。
B48: ※2：変状番号は、様式D-1-1で記入した番号と整合させること。
B49: ※3：対策区分毎の変状発生規模は、様式D-1-1に記載した面積を記入すること（ただし外力はスパン単位で評価するため変状の有無の欄には面積でなく○を記入し、備考欄に状況を記入）。
B50: ※4：本様式は覆工スパン毎に作成すること。
B51: ※5：変状数が多い場合は、適時、表の行を増やして覆工スパン毎に1枚のシートに収めること。また、1スパン１シートとし、スパンに合わせてシートを追加すること。
B52: ※6：対策区分毎の変状の発生範囲の規模とは，対策を行う際に参考となる変状の長さや面積であり，変状を包含する長さや面積とする。
B53: ※7：対策範囲を示す発生範囲の規模を面積で記入することが妥当ではない変状は、発生範囲の規模の欄に○を記入するとともに、備考に内容を記入すること。

Sheet 様式D-3_S006
AU1: 様式F用→ | AV1: 覆工スパン | AY1: 変 状 数 | BK1: 変 状 規 模
AV2: 番号 | AW2: 延長 （ｍ） | AX2: 健全性の診断の 区分 | AY2: 対策区分の判定 | BK2: 覆工スパン長（ｍ） | BO2: 変状の発生範囲の規模（㎡）
B3: ■定期点検記録様式 覆工スパン別変状詳細展開図 【様式D-3】 | AY3: 外力 | BC3: 材質劣化 | BG3: 漏水 | BK3: 外力 注2 | BO3: 材質劣化 | BS3: 漏水
B4: フリガナ | E4: ヌクミトンネル | K4: 路線名 | N4: 三瀬川下松線 | T4: 定期点検実施者 | Y4: 株式会社 長大 | AG4: 定期点検年月日 | AK4: 45926 | AY4: Ⅳ | AZ4: Ⅲ | BA4: Ⅱa | BB4: Ⅱb | BC4: Ⅳ | BD4: Ⅲ | BE4: Ⅱa | BF4: Ⅱb | BG4: Ⅳ | BH4: Ⅲ | BI4: Ⅱa | BJ4: Ⅱb | BK4: Ⅳ | BL4: Ⅲ | BM4: Ⅱa | BN4: Ⅱb | BO4: Ⅳ | BP4: Ⅲ | BQ4: Ⅱa | BR4: Ⅱb | BS4: Ⅳ | BT4: Ⅲ | BU4: Ⅱa | BV4: Ⅱb
B5: 名 称 | E5: 温見トンネル | K5: 管理者名 | N5: 周南土木建築事務所 | Y5: 鷲尾 寛 | AV5: =N7 -> S006 | AW5: =R7 -> 1 | AX5: =AM35 -> Ⅰ | AY5: =IF(Y37>0,Y37,"") | AZ5: =IF(Y37>0,"",IF(Z37>0,Z37,"")) | BA5: =IF(Y37+Z37>0,"",IF(AA37>0,AA37,"")) | BB5: =IF(Y37+Z37+AA37>0,"",IF(AB37>0,AB37,"")) | BC5: =AC37 -> 0 | BD5: =AD37 -> 0 | BE5: =AE37 -> 0 | BF5: =AF37 -> 0 | BG5: =AG37 -> 0 | BH5: =AH37 -> 0 | BI5: =AI37 -> 0 | BJ5: =AJ37 -> 0 | BK5: =IF(Y37>0,R7,"") | BL5: =IF(Y37>0,"",IF(Z37>0,R7,"")) | BM5: =IF(Y37+Z37>0,"",IF(AA37>0,R7,"")) | BN5: =IF(Y37+Z37+AA37>0,"",IF(AB37>0,R7,"")) | BO5: =AC35 -> 0 | BP5: =AD35 -> 0 | BQ5: =AE35 -> 0 | BR5: =AF35 -> 0 | BS5: =AG35 -> 0 | BT5: =AH35 -> 0 | BU5: =AI35 -> 0 | BV5: =AJ35 -> 0
B6: スパン別変状展開図 | K6: 【健全性判定集計表】
K7: スパン番号 | N7: S006 | P7: スパン長 | R7: 1 | U7: 前回定期点検時の判定 | W7: 応急措置前の判定 | Y7: 対策区分毎の 変状の有無 | AC7: 対策区分毎の変状の発生範囲の規模(㎡) | AK7: 備考注2
K8: 変状番号 | L8: 対象箇所 | N8: 部位区分 | P8: 変状区分 | R8: 変状種類
Y9: 外力注1 | AC9: 材質劣化注1 | AG9: 漏水注1
Y10: Ⅳ | Z10: Ⅲ | AA10: Ⅱa | AB10: Ⅱb | AC10: Ⅳ | AD10: Ⅲ | AE10: Ⅱa | AF10: Ⅱb | AG10: Ⅳ | AH10: Ⅲ | AI10: Ⅱa | AJ10: Ⅱb
K11: 1 | AQ11: =IF(P11="材質劣化",2,IF(P11="漏水",3,1)) -> 1 | AS11: =IF(Y11<>"",1,"")
K12: 2 | AQ12: =IF(P12="材質劣化",2,IF(P12="漏水",3,1)) -> 1
K13: 3 | AQ13: =IF(P13="材質劣化",2,IF(P13="漏水",3,1)) -> 1
K14: 4 | AQ14: =IF(P14="材質劣化",2,IF(P14="漏水",3,1)) -> 1
K15: 5 | AQ15: =IF(P15="材質劣化",2,IF(P15="漏水",3,1)) -> 1
K16: 6 | AQ16: =IF(P16="材質劣化",2,IF(P16="漏水",3,1)) -> 1
K17: 7 | AQ17: =IF(P17="材質劣化",2,IF(P17="漏水",3,1)) -> 1
K18: 8 | AQ18: =IF(P18="材質劣化",2,IF(P18="漏水",3,1)) -> 1
K19: 9 | AQ19: =IF(P19="材質劣化",2,IF(P19="漏水",3,1)) -> 1
K20: 10 | AQ20: =IF(P20="材質劣化",2,IF(P20="漏水",3,1)) -> 1
K21: 11 | AQ21: =IF(P21="材質劣化",2,IF(P21="漏水",3,1)) -> 1
K22: 12 | AQ22: =IF(P22="材質劣化",2,IF(P22="漏水",3,1)) -> 1
K23: 13 | AQ23: =IF(P23="材質劣化",2,IF(P23="漏水",3,1)) -> 1
... K27: 17 | AQ27: =IF(P27="材質劣化",2,IF(P27="漏水",3,1)) -> 1
K28: 18 | AQ28: =IF(P30="材質劣化",2,IF(P30="漏水",3,1)) -> 1
K29: 19 | AQ29: =IF(P34="材質劣化",2,IF(P34="漏水",3,1)) -> 1
K30: 20 | AQ30: =IF(P30="材質劣化",2,IF(P30="漏水",3,1)) -> 1
K31: 21 | AQ31: =IF(P33="材質劣化",2,IF(P33="漏水",3,1)) -> 1
K32: 22 | AQ32: =IF(P37="材質劣化",2,IF(P37="漏水",3,1)) -> 1
K33: 23 | AQ33: =IF(P33="材質劣化",2,IF(P33="漏水",3,1)) -> 1
K34: 24 | AQ34: =IF(P36="材質劣化",2,IF(P36="漏水",3,1)) -> 1
K35: 集計 判定 診断 | L35: 変状の発生規模合計(㎡) | Y35: － | AC35: =SUM(AC11:AC34) -> 0 | AD35: =SUM(AD11:AD34) -> 0 | AE35: =SUM(AE11:AE34) -> 0 | AF35: =SUM(AF11:AF34) -> 0 | AG35: =SUM(AG11:AG34) -> 0 | AH35: =SUM(AH11:AH34) -> 0 | AI35: =SUM(AI11:AI34) -> 0 | AJ35: =SUM(AJ11:AJ34) -> 0 | AK35: 覆工スパン単位の 健全性の 診断の区分 | AM35: Ⅰ
L36: 対策区分の 判定結果 | O36: 対策区分毎の変状数注3 | Y36: Ⅳ | Z36: Ⅲ | AA36: Ⅱa | AB36: Ⅱb | AC36: Ⅳ | AD36: Ⅲ | AE36: Ⅱa | AF36: Ⅱb | AG36: Ⅳ | AH36: Ⅲ | AI36: Ⅱa | AJ36: Ⅱb
Y37: =IF(COUNTIF(Y11:Y34,"〇")>0,1,0) -> 0 | Z37: =IF(COUNTIF(Z11:Z34,"〇")>0,1,0) -> 0 | AA37: =IF(COUNTIF(AA11:AA34,"〇")>0,1,0) -> 0 | AB37: =IF(COUNTIF(AB11:AB34,"〇")>0,1,0) -> 0 | AC37: =COUNTA(AC11:AC34) -> 0 | AD37: =COUNTA(AD11:AD34) -> 0 | AE37: =COUNTA(AE11:AE34) -> 0 | AF37: =COUNTA(AF11:AF34) -> 0 | AG37: =COUNTA(AG11:AG34) -> 0 | AH37: =COUNTA(AH11:AH34) -> 0 | AI37: =COUNTA(AI11:AI34) -> 0 | AJ37: =COUNTA(AJ11:AJ34) -> 0 | AU37: =+Y37 -> 0
K39: 所見
K43: 注1：誤記入防止のため、当該変状区分以外のセルは灰色表示とすること。
K44: 注2：応急措置を実施した場合は、その詳細を備考に記載すること。
K45: 注3：外力は覆工スパン単位、材質劣化、漏水は変状単位とすること。
B46: （以下、印刷不要）
B47: ※1：本シートは作成洩れのないよう、変状が無くても全スパン分を作成すること．また変状展開図は、様式D-2-1、様式D-2-1'と同じものを覆工スパン単位で拡大し掲載すること。
B48: ※2：変状番号は、様式D-1-1で記入した番号と整合させること。
B49: ※3：対策区分毎の変状発生規模は、様式D-1-1に記載した面積を記入すること（ただし外力はスパン単位で評価するため変状の有無の欄には面積でなく○を記入し、備考欄に状況を記入）。
B50: ※4：本様式は覆工スパン毎に作成すること。
B51: ※5：変状数が多い場合は、適時、表の行を増やして覆工スパン毎に1枚のシートに収めること。また、1スパン１シートとし、スパンに合わせてシートを追加すること。
B52: ※6：対策区分毎の変状の発生範囲の規模とは，対策を行う際に参考となる変状の長さや面積であり，変状を包含する長さや面積とする。
B53: ※7：対策範囲を示す発生範囲の規模を面積で記入することが妥当ではない変状は、発生範囲の規模の欄に○を記入するとともに、備考に内容を記入すること。

Sheet 様式D-3_PE
AU1: 様式F用→ | AV1: 覆工スパン | AY1: 変 状 数 | BK1: 変 状 規 模
AV2: 番号 | AW2: 延長 （ｍ） | AX2: 健全性の診断の 区分 | AY2: 対策区分の判定 | BK2: 覆工スパン長（ｍ） | BO2: 変状の発生範囲の規模（㎡）
B3: ■定期点検記録様式 覆工スパン別変状詳細展開図 【様式D-3】 | AY3: 外力 | BC3: 材質劣化 | BG3: 漏水 | BK3: 外力 注2 | BO3: 材質劣化 | BS3: 漏水
B4: フリガナ | E4: ヌクミトンネル | K4: 路線名 | N4: 三瀬川下松線 | T4: 定期点検実施者 | Y4: 株式会社 長大 | AG4: 定期点検年月日 | AK4: 45926 | AY4: Ⅳ | AZ4: Ⅲ | BA4: Ⅱa | BB4: Ⅱb | BC4: Ⅳ | BD4: Ⅲ | BE4: Ⅱa | BF4: Ⅱb | BG4: Ⅳ | BH4: Ⅲ | BI4: Ⅱa | BJ4: Ⅱb | BK4: Ⅳ | BL4: Ⅲ | BM4: Ⅱa | BN4: Ⅱb | BO4: Ⅳ | BP4: Ⅲ | BQ4: Ⅱa | BR4: Ⅱb | BS4: Ⅳ | BT4: Ⅲ | BU4: Ⅱa | BV4: Ⅱb
B5: 名 称 | E5: 温見トンネル | K5: 管理者名 | N5: 周南土木建築事務所 | Y5: 鷲尾 寛 | AV5: =N7 -> PE | AW5: =R7 -> 0 | AX5: =AM35 -> Ⅱ | AY5: =IF(Y37>0,Y37,"") | AZ5: =IF(Y37>0,"",IF(Z37>0,Z37,"")) | BA5: =IF(Y37+Z37>0,"",IF(AA37>0,AA37,"")) | BB5: =IF(Y37+Z37+AA37>0,"",IF(AB37>0,AB37,"")) | BC5: =AC37 -> 0 | BD5: =AD37 -> 0 | BE5: =AE37 -> 1 | BF5: =AF37 -> 1 | BG5: =AG37 -> 0 | BH5: =AH37 -> 0 | BI5: =AI37 -> 0 | BJ5: =AJ37 -> 1 | BK5: =IF(Y37>0,R7,"") | BL5: =IF(Y37>0,"",IF(Z37>0,R7,"")) | BM5: =IF(Y37+Z37>0,"",IF(AA37>0,R7,"")) | BN5: =IF(Y37+Z37+AA37>0,"",IF(AB37>0,R7,"")) | BO5: =AC35 -> 0 | BP5: =AD35 -> 0 | BQ5: =AE35 -> 0.01 | BR5: =AF35 -> 0.03 | BS5: =AG35 -> 0 | BT5: =AH35 -> 0 | BU5: =AI35 -> 0 | BV5: =AJ35 -> 2.31
B6: スパン別変状展開図 | K6: 【健全性判定集計表】
K7: スパン番号 | N7: PE | P7: スパン長 | R7: 0 | U7: 前回定期点検時の判定 | W7: 応急措置前の判定 | Y7: 対策区分毎の 変状の有無 | AC7: 対策区分毎の変状の発生範囲の規模(㎡) | AK7: 備考注2
K8: 変状番号 | L8: 対象箇所 | N8: 部位区分 | P8: 変状区分 | R8: 変状種類
Y9: 外力注1 | AC9: 材質劣化注1 | AG9: 漏水注1
Y10: Ⅳ | Z10: Ⅲ | AA10: Ⅱa | AB10: Ⅱb | AC10: Ⅳ | AD10: Ⅲ | AE10: Ⅱa | AF10: Ⅱb | AG10: Ⅳ | AH10: Ⅲ | AI10: Ⅱa | AJ10: Ⅱb
K11: 1 | L11: 坑門 | N11: 面壁・妻壁等 | P11: 材質劣化 | R11: うき・はく離 | U11: Ⅱa | AE11: 0.01 | AQ11: =IF(P11="材質劣化",2,IF(P11="漏水",3,1)) -> 2 | AS11: =IF(Y11<>"",1,"")
K12: 2 | L12: 坑門 | N12: 面壁・妻壁等 | P12: 材質劣化 | R12: うき・はく離 | U12: Ⅱb | AF12: 0.03 | AQ12: =IF(P12="材質劣化",2,IF(P12="漏水",3,1)) -> 2
K13: 3 | L13: 坑門 | N13: 面壁・妻壁等 | P13: 漏水 | R13: 漏水 | U13: － | AJ13: 2.31 | AQ13: =IF(P13="材質劣化",2,IF(P13="漏水",3,1)) -> 3
K14: 4 | AQ14: =IF(P14="材質劣化",2,IF(P14="漏水",3,1)) -> 1
K15: 5 | AQ15: =IF(P15="材質劣化",2,IF(P15="漏水",3,1)) -> 1
K16: 6 | AQ16: =IF(P16="材質劣化",2,IF(P16="漏水",3,1)) -> 1
K17: 7 | AQ17: =IF(P17="材質劣化",2,IF(P17="漏水",3,1)) -> 1
K18: 8 | AQ18: =IF(P18="材質劣化",2,IF(P18="漏水",3,1)) -> 1
K19: 9 | AQ19: =IF(P19="材質劣化",2,IF(P19="漏水",3,1)) -> 1
K20: 10 | AQ20: =IF(P20="材質劣化",2,IF(P20="漏水",3,1)) -> 1
K21: 11 | AQ21: =IF(P21="材質劣化",2,IF(P21="漏水",3,1)) -> 1
K22: 12 | AQ22: =IF(P22="材質劣化",2,IF(P22="漏水",3,1)) -> 1
K23: 13 | AQ23: =IF(P23="材質劣化",2,IF(P23="漏水",3,1)) -> 1
K24: 14 | AQ24: =IF(P24="材質劣化",2,IF(P24="漏水",3,1)) -> 1
K25: 15 | AQ25: =IF(P25="材質劣化",2,IF(P25="漏水",3,1)) -> 1
... K27: 17 | AQ27: =IF(P27="材質劣化",2,IF(P27="漏水",3,1)) -> 1
K28: 18 | AQ28: =IF(P30="材質劣化",2,IF(P30="漏水",3,1)) -> 1
K29: 19 | AQ29: =IF(P34="材質劣化",2,IF(P34="漏水",3,1)) -> 1
K30: 20 | AQ30: =IF(P30="材質劣化",2,IF(P30="漏水",3,1)) -> 1
K31: 21 | AQ31: =IF(P33="材質劣化",2,IF(P33="漏水",3,1)) -> 1
K32: 22 | AQ32: =IF(P37="材質劣化",2,IF(P37="漏水",3,1)) -> 1
K33: 23 | AQ33: =IF(P33="材質劣化",2,IF(P33="漏水",3,1)) -> 1
K34: 24 | AQ34: =IF(P36="材質劣化",2,IF(P36="漏水",3,1)) -> 1
K35: 集計 判定 診断 | L35: 変状の発生規模合計(㎡) | Y35: － | AC35: =SUM(AC11:AC34) -> 0 | AD35: =SUM(AD11:AD34) -> 0 | AE35: =SUM(AE11:AE34) -> 0.01 | AF35: =SUM(AF11:AF34) -> 0.03 | AG35: =SUM(AG11:AG34) -> 0 | AH35: =SUM(AH11:AH34) -> 0 | AI35: =SUM(AI11:AI34) -> 0 | AJ35: =SUM(AJ11:AJ34) -> 2.31 | AK35: 覆工スパン単位の 健全性の 診断の区分 | AM35: Ⅱ
L36: 対策区分の 判定結果 | O36: 対策区分毎の変状数注3 | Y36: Ⅳ | Z36: Ⅲ | AA36: Ⅱa | AB36: Ⅱb | AC36: Ⅳ | AD36: Ⅲ | AE36: Ⅱa | AF36: Ⅱb | AG36: Ⅳ | AH36: Ⅲ | AI36: Ⅱa | AJ36: Ⅱb
Y37: =IF(COUNTIF(Y11:Y34,"〇")>0,1,0) -> 0 | Z37: =IF(COUNTIF(Z11:Z34,"〇")>0,1,0) -> 0 | AA37: =IF(COUNTIF(AA11:AA34,"〇")>0,1,0) -> 0 | AB37: =IF(COUNTIF(AB11:AB34,"〇")>0,1,0) -> 0 | AC37: =COUNTA(AC11:AC34) -> 0 | AD37: =COUNTA(AD11:AD34) -> 0 | AE37: =COUNTA(AE11:AE34) -> 1 | AF37: =COUNTA(AF11:AF34) -> 1 | AG37: =COUNTA(AG11:AG34) -> 0 | AH37: =COUNTA(AH11:AH34) -> 0 | AI37: =COUNTA(AI11:AI34) -> 0 | AJ37: =COUNTA(AJ11:AJ34) -> 1 | AU37: =+Y37 -> 0
K39: 所見
K43: 注1：誤記入防止のため、当該変状区分以外のセルは灰色表示とすること。
K44: 注2：応急措置を実施した場合は、その詳細を備考に記載すること。
K45: 注3：外力は覆工スパン単位、材質劣化、漏水は変状単位とすること。
B46: （以下、印刷不要）
B47: ※1：本シートは作成洩れのないよう、変状が無くても全スパン分を作成すること．また変状展開図は、様式D-2-1、様式D-2-1'と同じものを覆工スパン単位で拡大し掲載すること。
B48: ※2：変状番号は、様式D-1-1で記入した番号と整合させること。
B49: ※3：対策区分毎の変状発生規模は、様式D-1-1に記載した面積を記入すること（ただし外力はスパン単位で評価するため変状の有無の欄には面積でなく○を記入し、備考欄に状況を記入）。
B50: ※4：本様式は覆工スパン毎に作成すること。
B51: ※5：変状数が多い場合は、適時、表の行を増やして覆工スパン毎に1枚のシートに収めること。また、1スパン１シートとし、スパンに合わせてシートを追加すること。
B52: ※6：対策区分毎の変状の発生範囲の規模とは，対策を行う際に参考となる変状の長さや面積であり，変状を包含する長さや面積とする。
B53: ※7：対策範囲を示す発生範囲の規模を面積で記入することが妥当ではない変状は、発生範囲の規模の欄に○を記入するとともに、備考に内容を記入すること。

Sheet 様式E
B2: ■定期点検記録様式 近接目視による状態の把握が不可能な箇所 【様式E】
B3: フリガナ | F3: ヌクミトンネル | U3: 路 線 名 | Z3: 三瀬川下松線 | AI3: 定期点検実施者 | AO3: 株式会社 長大 | AW3: 定期点検年月日 | BC3: 45926
B4: 名 称 | F4: 温見トンネル | U4: 管理者名 | Z4: 周南土木建築事務所 | AO4: 鷲尾 寛
B5: 覆工スパン 番号 | H5: 対象箇所 | P5: 不可能な理由 | AN5: 対応策
D20: 注）近接目視又は打音、触診ができない箇所を記載する。現状の評価、日常の維持管理での注意点を記載する。
D21: ※ 数が多い場合は、適時、表の行を増やすこと。

Sheet 様式F 
B1: ■定期点検記録様式 覆工スパン毎の変状数・変状規模の集計 【様式F】
B2: フリガナ | F2: ヌクミトンネル | L2: 路線名 | O2: 三瀬川下松線 | T2: 定期点検実施者 | V2: 株式会社 長大 鷲尾 寛 | Y2: 定期点検 年月日 | Z2: 45926
B3: 名 称 | F3: 温見トンネル | L3: 管理者名 | O3: 周南土木建築事務所
B5: 【覆工スパン毎の変状数, 変状規模】
B6: 覆工スパン | E6: 変 状 数 | Q6: 変 状 規 模
B7: 番号 | C7: 延長 （ｍ） | D7: 健全性の診断の 区分 | E7: 対策区分の判定注1 | Q7: 覆工スパン長（ｍ） | U7: 変状の発生範囲の規模（㎡）
E8: 外力 | I8: 材質劣化 | M8: 漏水 | Q8: 外力 注2 | U8: 材質劣化 | Y8: 漏水
E9: Ⅳ | F9: Ⅲ | G9: Ⅱa | H9: Ⅱb | I9: Ⅳ | J9: Ⅲ | K9: Ⅱa | L9: Ⅱb | M9: Ⅳ | N9: Ⅲ | O9: Ⅱa | P9: Ⅱb | Q9: Ⅳ | R9: Ⅲ | S9: Ⅱa | T9: Ⅱb | U9: Ⅳ | V9: Ⅲ | W9: Ⅱa | X9: Ⅱb | Y9: Ⅳ | Z9: Ⅲ | AA9: Ⅱa | AB9: Ⅱb
B10: ='様式D-3_PS'!AV5 -> PS | C10: ='様式D-3_PS'!AW5 -> 0 | D10: ='様式D-3_PS'!AX5 -> Ⅱ | E10: ='様式D-3_PS'!AY5 | F10: ='様式D-3_PS'!AZ5 | G10: ='様式D-3_PS'!BA5 | H10: ='様式D-3_PS'!BB5 | I10: ='様式D-3_PS'!BC5 -> 0 | ... AB10: ='様式D-3_PS'!BV5 -> 0
B11: ='様式D-3_S001'!AV5 -> S001 | C11: ='様式D-3_S001'!AW5 -> 10 | D11: ='様式D-3_S001'!AX5 -> Ⅱ | E11: ='様式D-3_S001'!AY5 | F11: ='様式D-3_S001'!AZ5 | G11: ='様式D-3_S001'!BA5 | H11: ='様式D-3_S001'!BB5 | I11: ='様式D-3_S001'!BC5 -> 0 | ... AB11: ='様式D-3_S001'!BV5 -> 0
B12: ='様式D-3_S002'!AV5 -> S002 | C12: ='様式D-3_S002'!AW5 -> 10 | D12: ='様式D-3_S002'!AX5 -> Ⅱ | E12: ='様式D-3_S002'!AY5 | F12: ='様式D-3_S002'!AZ5 | G12: ='様式D-3_S002'!BA5 | H12: ='様式D-3_S002'!BB5 | I12: ='様式D-3_S002'!BC5 -> 0 | ... AB12: ='様式D-3_S002'!BV5 -> 2.88
B13: ='様式D-3_S003'!AV5 -> S003 | C13: ='様式D-3_S003'!AW5 -> 10 | D13: ='様式D-3_S003'!AX5 -> Ⅱ | E13: ='様式D-3_S003'!AY5 | F13: ='様式D-3_S003'!AZ5 | G13: ='様式D-3_S003'!BA5 | H13: ='様式D-3_S003'!BB5 | I13: ='様式D-3_S003'!BC5 -> 0 | ... AB13: ='様式D-3_S003'!BV5 -> 9.8
B14: ='様式D-3_S004'!AV5 -> S004 | C14: ='様式D-3_S004'!AW5 -> 10 | D14: ='様式D-3_S004'!AX5 -> Ⅱ | E14: ='様式D-3_S004'!AY5 | F14: ='様式D-3_S004'!AZ5 | G14: ='様式D-3_S004'!BA5 | H14: ='様式D-3_S004'!BB5 | I14: ='様式D-3_S004'!BC5 -> 0 | ... AB14: ='様式D-3_S004'!BV5 -> 5.33
B15: ='様式D-3_S005'!AV5 -> S005 | C15: ='様式D-3_S005'!AW5 -> 10 | D15: ='様式D-3_S005'!AX5 -> Ⅱ | E15: ='様式D-3_S005'!AY5 | F15: ='様式D-3_S005'!AZ5 | G15: ='様式D-3_S005'!BA5 | H15: ='様式D-3_S005'!BB5 | I15: ='様式D-3_S005'!BC5 -> 0 | ... AB15: ='様式D-3_S005'!BV5 -> 0
B16: ='様式D-3_S006'!AV5 -> S006 | C16: ='様式D-3_S006'!AW5 -> 1 | D16: ='様式D-3_S006'!AX5 -> Ⅰ | E16: ='様式D-3_S006'!AY5 | F16: ='様式D-3_S006'!AZ5 | G16: ='様式D-3_S006'!BA5 | H16: ='様式D-3_S006'!BB5 | I16: ='様式D-3_S006'!BC5 -> 0 | ... AB16: ='様式D-3_S006'!BV5 -> 0
B17: ='様式D-3_PE'!AV5 -> PE | C17: ='様式D-3_PE'!AW5 -> 0 | D17: ='様式D-3_PE'!AX5 -> Ⅱ | E17: ='様式D-3_PE'!AY5 | F17: ='様式D-3_PE'!AZ5 | G17: ='様式D-3_PE'!BA5 | H17: ='様式D-3_PE'!BB5 | I17: ='様式D-3_PE'!BC5 -> 0 | ... AB17: ='様式D-3_PE'!BV5 -> 2.31
B44: 計 | E44: =SUM(E10:E43) -> 0 | F44: =SUM(F10:F43) -> 0 | G44: =SUM(G10:G43) -> 0 | H44: =SUM(H10:H43) -> 0 | I44: =SUM(I10:I43) -> 0 | J44: =SUM(J10:J43) -> 0 | K44: =SUM(K10:K43) -> 10 | L44: =SUM(L10:L43) -> 20 | ... AB44: =SUM(AB10:AB43) -> 20.32
G45: =G44+H44 -> 0 | K45: =K44+L44 -> 30 | O45: =O44+P44 -> 16
B46: 注１：外力は覆工スパン単位で診断するため、覆工スパンの中で最も評価の厳しい対策区分の判定の区分欄にのみスパン数1を、材質劣化、漏水はそれぞれの対策区分に変状数を記入すること。
B47: 注２：外力は覆工スパン単位で診断するため、覆工スパンの中で最も評価の厳しい対策区分の判定の区分欄にのみスパン長を記入すること。
B48: ※１：本様式は様式D‐3の集計結果を掲載すること。
B49: ※２：覆工スパン数が多い場合は、適時、表の行を増やしてトンネル毎に1枚のシートに収めること。
B50: ※３：本様式の集計結果に基づいて、様式Bのトンネル本体工における変状区分毎の対策区分の箇所を記載する。

Sheet 様式G
B2: ■定期点検記録様式 健全性の診断の区分に関する所見【様式G】 | U2: 施設ID | X2: 34.08936,131.90436
B3: フリガナ | E3: ヌクミトンネル | I3: 路線名 | L3: 三瀬川下松線 | O3: 定期点検実施者 | R3: 株式会社 長大 | U3: 定期点検年月日 | X3: 45926
B4: 名 称 | E4: 温見トンネル | I4: 管理者名 | L4: 周南土木建築事務所 | R4: 鷲尾 寛
B5: 道路トンネルの健全性の診断の区分の所見
B6: 【概要】本トンネルの健全性の診断の区分は、予防保全の観点からⅡa判定とする。 1) 変状・異常の内容とそれが確認された部材・部位（客観的事実） ・点検で確認された変状は、縦断方向のひび割れ（Ⅱb判定）、覆工（アーチ、側壁）のうき・豆板（Ⅱa判定）、路面の土砂堆積・滞水・側溝蓋の浮き上がり（Ⅱb判定）、アーチ部からの漏水（Ⅱa判定）であった。 ・アーチ部縦断方向ひび割れ（今回新規変状）については、Ⅱb判定とし、次回点検時に進行性を確認する。 ・うきについては、進行性が認められないことや利用者被害の可能性が低いことからはⅡb判定とし、監視を行う。 ・漏水については、歩道および車道に影響がなく利用者被害の可能性が低いことからはⅡb判定とし、監視を行う。 2) 変状等の原因（推定） ・うきは、経年による「乾燥収縮」によって発生したものと推定されるほか、豆板は建設時の締固め不足に起因して発生したものと推定する。 ・導水工の破損は、車両の接触等の外部からの強い支圧により発生したものと推定する。なお、破損が見られるものの導水機能は維持されている。 ・漏水（滴水）はアーチ中央部（挟め部）に集中しており、コンクリート打設時の締固め不足に起因して発生したものと推定する。 ・側溝の浮き上がりは、S4の路面右側に局所的に見られる。同区間で覆工の押し出しがないことから外力作用の可能性は低いものと判断する。 3) 施設の現状と次回定期点検まで及び将来における構造物の状態（推定） ・温見トンネルの地質は中生代 後期白亜紀に形成された花崗岩類が分布している。 ・現状として、道路トンネルの構造物としての安全性や安定性を損なう変状は見られない。 ・緊急性の高い変状は認められないが、重点監視（2年程度以内を目安に近接目視を行うこと）が必要なⅡa以上の変状が見られる。 ・アーチ部の横断目地やひび割れに沿って発生したうき・豆板について、落下が懸念される状況にある。豆板部は経年によって粗骨材の周囲が風化するため、将来的に粗骨材の緩みが懸念される。 ・アーチで発生する滴水は滞水を伴うなど車両通行の支障となっている。 ・現状として地すべり、膨張性地山、有害水等の特定事象の作用を示唆する変状は見られていない。 4) 措置の必要性の判断に関わる事項 ・現状、構造安定性を損なう状況ではないため、構造安定性に対する措置は不要である。 ・うき、豆板に対して、はつり落しやFRPネット工および繊維シート接着工等によるはく落防止対策の実施が望ましいと判断する。 ・漏水（滴水）は、アーチ中央部のコンクリートがポーラスな位置に点状で発生しており止水は困難である。これらの状況を踏まえ、導水対策が望ましいと判断する。 5) その他、次回定期点検へ引き継ぐ事項等 ・アーチ部縦断方向ひび割れ（今回新規変状）については、Ⅱb判定とし、次回点検時に進行性を確認する。 ・漏水の変状については、管理者へのヒアリングや季節に応じた観察を行い、判定に活用することが望ましい。 ・側溝蓋の変状が進行し、隙間や欠損が生じた場合は車両の通行に支障をきたす可能性があるため補修対策を検討することが望ましい。

Sheet (参考)リスト
B4: 様式A～B
B5: トンネルの分類 | C5: トンネル工法 | D5: 自専道or一般道 | E5: 緊急輸送路 | F5: 代替路
B6: 陸上トンネル（掘進工法） | C6: 山岳トンネル工法（NATM） | D6: 自専道 | E6: 一次 | F6: 有
B7: 陸上トンネル（開削工法） | C7: 矢板工法 | D7: 一般道 | E7: 二次 | F7: 無
B8: 陸上トンネル（その他） | C8: 開削工法 | E8: 三次
B9: 水底トンネル（掘進工法） | C9: シールド工法 | E9: 市町村指定
B10: 水底トンネル（沈埋工法） | C10: その他 | E10: 指定なし
B11: 水底トンネル（開削工法） | C11: 不明
B12: 水底トンネル（その他）
B14: 様式C-1-1(本体工)、C-2、D-1-1、D-3
B15: 対象箇所 | C15: 部位区分 | D15: 変状区分 | E15: 変状種類 | F15: 対策区分 | G15: 健全性 | H15: 調査の要否 | I15: 措置の要否 | J15: 実施有無
B16: 覆工 | C16: アーチ（右側） | D16: 外力 | E16: 圧ざ、ひび割れ | F16: Ⅰ | G16: Ⅰ | H16: 要 | I16: 要監視 | J16: 未
B17: 坑門 | C17: アーチ（左側） | D17: 材質劣化 | E17: うき・はく離 | F17: Ⅱa | G17: Ⅱ | H17: 否 | I17: 要対策 | J17: 済
B18: 内装板 | C18: アーチ（天端） | D18: 漏水 | E18: 鋼材腐食 | F18: Ⅱb | G18: Ⅲ | I18: 否 | J18: 継続
B19: 天井板 | C19: アーチ（全周） | E19: 変形・移動 | F19: Ⅲ | G19: Ⅳ
B20: 路面 | C20: 側壁（右側） | E20: 沈下 | F20: Ⅳ | G20: －
B21: その他 | C21: 側壁（左側） | E21: 隆起 | F21: －
C22: 横断目地（右側） | E22: 巻厚の不足または減少、背面空洞
C23: 横断目地（左側） | E23: 補修・補強材の破損
C24: 横断目地（天端） | E24: 漏水
C25: 横断目地（全周） | E25: 滞水
C26: 水平打ち継ぎ目（右側） | E26: 土砂流出
C27: 水平打ち継ぎ目（左側） | E27: その他
C28: 面壁・妻壁等
C29: その他
C31: 面壁・妻壁等
C32: その他
C34: 側壁
C35: その他
C37: 車道側
C38: ダクト側
C39: その他
C41: 車道
C42: 歩道
C43: 監査歩路
... C47: その他
B50: 様式C-1-2（附属物）、D-1-2
B51: 施設の内訳 | C51: 対象箇所 | D51: 部位区分 | E51: 異常の種類 | F51: 異常判定区分 | G51: 実施有無
B52: 照明施設 | C52: 灯具 | D52: 附属物本体 | E52: 破断 | F52: ○ | G52: 未
B53: 換気施設 | C53: ケーブル本体 | D53: 取付部材 | E53: 緩み、脱落 | F53: × | G53: 済
B54: 非常用施設 | C54: ケーブル本体以外 | D54: ボルト・ナット，アンカー類 | E54: 亀裂 | G54: 継続
B55: その他施設 | E55: 腐食
C56: ジェットファン | E56: 変形，欠損
C57: VI計 | E57: がたつき
C58: CO計 | E58: その他
C59: 風向風速計
C60: その他
C62: 通話型通報設備
C63: 操作型通報設備
C64: 自動通報設備
C65: 非常警報設備
C66: 点 滅 灯
C67: 音信号発生器
C68: 消 火 器
C69: 消火栓設備
C70: 誘導表示施設
C71: 避難情報提供設備
... C83: その他
