Workbook
Name その他: '(参考)リスト'!$C$45
Name その他施設: '(参考)リスト'!$C$76:$C$80
Name 外力: '(参考)リスト'!$E$16:$E$23
Name 換気施設: '(参考)リスト'!$C$55:$C$59
Name 坑門: '(参考)リスト'!$C$16:$C$29
Name 材質劣化: '(参考)リスト'!$E$25:$E$30
Name 照明施設: '(参考)リスト'!$C$51:$C$53
Name 対象箇所: テーブル1[対象箇所]
Name 対象箇所: テーブル1[対象箇所]
Name 対象箇所: テーブル1[対象箇所]
Name 対象箇所: テーブル1[対象箇所]
Name 対象箇所: テーブル1[対象箇所]
Name 対象箇所: テーブル1[対象箇所]
Name 対象箇所: テーブル1[対象箇所]
Name 対象箇所: テーブル1[対象箇所]
Name 対象箇所: テーブル1[対象箇所]
Name 対象箇所: テーブル1[対象箇所]
Name 対象箇所: テーブル1[対象箇所]
Name 対象箇所: テーブル1[対象箇所]
Name 対象箇所: テーブル1[対象箇所]
Name 対象箇所: テーブル1[対象箇所]
Name 対象箇所: テーブル1[対象箇所]
Name 対象箇所: テーブル1[対象箇所]
Name 対象箇所: テーブル1[対象箇所]
Name 対象箇所: テーブル1[対象箇所]
Name 対象箇所: テーブル1[対象箇所]
Name 対象箇所: テーブル1[対象箇所]
Name 対象箇所: テーブル1[対象箇所]
Name 対象箇所: テーブル1[対象箇所]
Name 対象箇所: テーブル1[対象箇所]
Name 対象箇所: テーブル1[対象箇所]
Name 対象箇所: テーブル1[対象箇所]
Name 対象箇所: テーブル1[対象箇所]
Name 対象箇所: テーブル1[対象箇所]
Name 対象箇所: テーブル1[対象箇所]
Name 対象箇所: テーブル1[対象箇所]
Name 対象箇所: テーブル1[対象箇所]
Name 対象箇所: テーブル1[対象箇所]
Name 対象箇所: テーブル1[対象箇所]
Name 対象箇所: テーブル1[対象箇所]
Name 対象箇所: テーブル1[対象箇所]
Name 対象箇所: テーブル1[対象箇所]
Name 対象箇所: テーブル1[対象箇所]
Name 対象箇所: テーブル1[対象箇所]
Name 対象箇所: テーブル1[対象箇所]
Name 対象箇所: テーブル1[対象箇所]
Name 対象箇所: テーブル1[対象箇所]
Name 対象箇所: テーブル1[対象箇所]
Name 対象箇所: テーブル1[対象箇所]
Name 対象箇所: テーブル1[対象箇所]
Name 対象箇所: テーブル1[対象箇所]
Name 対象箇所: テーブル1[対象箇所]
Name 対象箇所: テーブル1[対象箇所]
Name 対象箇所: テーブル1[対象箇所]
Name 対象箇所: テーブル1[対象箇所]
Name 対象箇所: テーブル1[対象箇所]
Name 対象箇所: テーブル1[対象箇所]
Name 対象箇所: テーブル1[対象箇所]
Name 対象箇所: テーブル1[対象箇所]
Name 対象箇所: テーブル1[対象箇所]

Sheet 点検様式作成フロー
A1: 点検様式作成フロ-
A3: 作成フロー図 | H3: 点検調書作成手順
H4: ①様式A-1～A-3（トンネル台帳）
H5: トンネル点検の実施にあたっては，現場点検作業に先行してトンネル情報を収集する。トンネル台帳（様式Ａ－1～様式Ａ－3）はトンネル完成後に作成され，維持管理の段階で引き継がれるが，関連資料等を確認したうえで，追加情報があれば必要に応じて追記することが望ましい。
H9: ②様式D-2-1、様式D-2-1´
H10: 現場点検作業を実施し，近接目視点検で確認した変状状況や補修履歴を忠実に変状展開図に転記する
H12: ③様式D-1-1、様式D-1-2
H13: 変状展開図や撮影した写真等をもとに，対象トンネルの対策区分を判定し，対策区分の判定区分がⅡ～Ⅳの変状および異常判定区分「×」を抽出し，写真台帳を作成する
H16: ④様式B
H17: 写真台帳の作成と同時に，トンネルの構造を展開した位置図に変状写真位置を記録する
H19: ⑤様式D-3
H20: 変状展開図ならびに写真台帳をもとに覆工スパンごとの変状展開図を作成し，変状発生状況をとりまとめる
H22: ⑥様式E-1、様式E-2
H23: 様式Ｄ－1～様式Ｄ－3をもとに，健全性の診断結果を集計する
... H31: ファイルは以下の分割規則に従う。 ※各ファイルとも （参考）リスト のシートを付けて保存すること。 ・様式A-1～A-3は同一ファイルとする。 ・様式B、D-1-1、D-1-2、D-2-1（もしくはD-2-1'）、Eは別ファイルとする。 ・様式C-1-1,C-1-2、C-2は同一ファイルとする。 ・様式D-3、E、Fは同一ファイルとする。

Sheet 変状面積算出方法
A1: 変状面積算出方法
A26: 注1）外力による変状：ひび割れや圧ざの場合は変状の寸法を記録する。
A27: 例）ひび割れ：長さ（L）×最大ひび割れ幅（t）を記録する。 変形，移動，沈下：数値的な記載が可能な場合のみ記載する。
A28: 注2）材料劣化による：打音異常
A29: 例）うき，はく離（閉合ひび割れ）：変状範囲を包括する寸法（L×W） うき，はく離（ひび割れ沿い）：打音異常箇所を包括する寸法（L×W） 鋼材腐食（鉄筋腐食）：一括した対策が適当と考えられる範囲を包括する寸法（L×W）
A30: 注3）漏水による変状：漏水発生範囲を包括し，垂れ下がりの可能性がある側壁下端まで含めた寸法を，L×Wで記録する。打継ぎ目地沿いの 漏水については目地を跨いだ50cm幅を横幅とする。

Sheet 様式A-1
B2: ■トンネル台帳 トンネル諸元、非常用施設諸元 【様式A-1】 | S2: トンネルID | W2: 34.31239,131.19108
B3: フリガナ | D3: シブキ | H3: 路線名 | J3: 一般国道316号 | P3: 管理者名 | R3: 長門土木建築事務所 | W3: 緊急輸送道路 | Z3: 有
B4: 名 称 | D4: 渋木トンネル | W4: 代替路の有無 | Z4: 有
B5: 所在地 | D5: 自 | E5: 山口県長門市渋木 | H5: 作成者 | K5: 株式会社オリエンタルコンサルタンツ 妹尾 優大 | P5: 作成年月日 | R5: 45337 | U5: トンネル延長 | X5: L= | Z5: 320 | AB5: ｍ
D6: 至 | E6: 山口県長門市渋木 | U6: ﾄﾝﾈﾙの分類 | X6: 陸上トンネル（掘進工法）
B7: 起点 | C7: 緯度 | E7: 341844.6 | H7: 完成年月日 | K7: 28550 | M7: 舗装 | O7: 種 別 | Q7: コンクリート系 | S7: トンネル非常用施設 | T7: 施設の内訳 | X7: 種別・方式 | Y7: 型式 | Z7: 個数 | AA7: 更新年度 | AE7: =INT(E7/10000) -> 34 | AF7: =INT(E7/100)-AE7*100 -> 18 | AG7: =E7-AE7*10000-AF7*100 -> 44.6 | AH7: =ROUND(AE7+AF7/60+AG7/60/60,5) -> 34.31239 | AI7: =TEXT(AH7,"0.00000") -> 34.31239
C8: 経度 | E8: 1311127.9 | H8: 供用年月日 | O8: 厚 さ | T8: 通報設備 | U8: 通話型通報設備 | AE8: =INT(E8/10000) -> 131 | AF8: =INT(E8/100)-AE8*100 -> 11 | AG8: =E8-AE8*10000-AF8*100 -> 27.9 | AH8: =ROUND(AE8+AF8/60+AG8/60/60,5) -> 131.19108 | AI8: =TEXT(AH8,"0.00000") -> 131.19108
B9: 終点 | C9: 緯度 | E9: 341841.1 | H9: トンネル区分 | O9: 面 積 | Q9: 2720 | U9: 操作型通報設備
C10: 経度 | E10: 1311138 | H10: 内装種類 | K10: 覆工（内装なし） | O10: 更新年次 | U10: 自動通報設備
B11: 一般有料区分 | E11: 無料 | H11: 天井板種類 | M11: 排水 | O11: 種 別 | T11: 警報設備 | U11: 非常警報設備
B12: 土かぶり | G12: m | H12: 坑門 | I12: 起点 | J12: 形式 | K12: 面壁型 | O12: 更新年次 | T12: 消火設備 | U12: 消 火 器
B13: 内空断面積 | G13: ㎡ | J13: 延長 | L13: m | M13: 施設 | P13: 種別・方式 | Q13: 個数 | R13: 更新年次 | U13: 消火栓設備
B14: 交 通 量 | E14: 6855 | G14: 台/日 | I14: 終点 | J14: 形式 | K14: 面壁型 | M14: 道路附属物等 | N14: 照明 | Q14: 77 | T14: 避難誘導設備 | U14: 誘導表示設備
C15: 道 路 幅 | E15: 8.5 | G15: m | J15: 延長 | L15: m | N15: 換気 | U15: 避難情報提供設備
B16: 幅 員 | C16: 車 道 幅 | E16: 8.5 | G16: m | H16: 竣工巻厚 | I16: アーチ | L16: cm | N16: 標識
G17: m | I17: 側 壁 | L17: cm | N17: 警報表示板 | U17: 避難通路
C18: 歩道等幅 | E18: 0 | G18: m | L18: cm | N18: 吸音板 | U18: 排煙設備
B19: 高さ | C19: 建築限界高 | G19: m | I19: インバート | L19: cm | T19: その他の設備 | U19: 給水栓設備
C20: 中央高 | G20: m | H20: 半径 | I20: アーチ | L20: cm | U20: 無線通信補助設備
C21: 有効高 | G21: m | I21: 側 壁 | L21: cm | U21: 水噴霧設備
C22: 縦断勾配 | I22: インバート | L22: cm | U22: 監視設備
B23: 線 形 | C23: 直線区間長 | H23: 占用物件 | I23: 種 類 | K23: 寸 法 | M23: 管理者名 | Q23: 更新年次 | S23: 非常用施設 関連設備 | U23: 予備発電設備
C24: 曲線区間 | D24: 区間長
D25: 起点側ｸﾛｿｲﾄﾞ
D26: 曲線半径
D27: 終点側ｸﾛｿｲﾄﾞ | S27: その他 | U27: 非常駐車帯
B28: トンネル工法 | E28: 矢板工法 | U28: 方向転換所
C29: ※緯度・経度については、秒の少数第二位の単位まで記入すること。（例；36度20分35.56秒の場合、362035.36と入力）

Sheet 様式A-2
B3: ■トンネル台帳 トンネル情報一覧表 【様式A-2】
B4: フリガナ | E4: ='様式A-1'!D3 -> シブキ | J4: 路線名 | M4: ='様式A-1'!J3 -> 一般国道316号 | S4: 作成者 | Y4: ='様式A-1'!K5 -> 株式会社オリエンタルコンサルタンツ 妹尾 優大 | AE4: 作成年月日 | AI4: ='様式A-1'!R5 -> 45337
B5: 名 称 | E5: ='様式A-1'!D4 -> 渋木トンネル | J5: 管理者名 | M5: ='様式A-1'!R3 -> 長門土木建築事務所
B6: 覆工 ｽﾊﾟﾝ 番号 | C6: ｽﾊﾟﾝ長 | D6: 追加距離 | F6: トンネル本体工 | K6: 照明施設 | O6: 非常用施設 | AE6: 換気施設 | AK6: その他附属物等
O7: ='様式A-1'!T8 -> 通報設備 | R7: ='様式A-1'!T11 -> 警報設備 | S7: ='様式A-1'!T12 -> 消火設備 | U7: ='様式A-1'!T14 -> 避難誘導設備 | Y7: ='様式A-1'!T19 -> その他の設備 | AC7: 特記事項
D8: 起点側 | E8: 終点側 | F8: 特記事項 | I8: 内装板 | J8: 天井板 | K8: 基本照明 | L8: 入口出口照明 | M8: 特記事項 | O8: ='様式A-1'!U8 -> 通話型通報設備 | P8: ='様式A-1'!U9 -> 操作型通報設備 | Q8: ='様式A-1'!U10 -> 自動通報設備 | R8: ='様式A-1'!U11 -> 非常警報設備 | S8: ='様式A-1'!U12 -> 消 火 器 | T8: ='様式A-1'!U13 -> 消火栓設備 | U8: ='様式A-1'!U14 -> 誘導表示設備 | V8: ='様式A-1'!U15 -> 避難情報提供設備 | W8: ='様式A-1'!U17 -> 避難通路 | X8: ='様式A-1'!U18 -> 排煙設備 | Y8: ='様式A-1'!U19 -> 給水栓設備 | Z8: ='様式A-1'!U20 -> 無線通信補助設備 | AA8: ='様式A-1'!U21 -> 水噴霧設備 | AB8: ='様式A-1'!U22 -> 監視設備 | AE8: JF | AF8: VI計 | AG8: CO計 | AH8: 風向 風速計 | AI8: 特記事項
C9: (m) | D9: (m) | E9: (m)
B10: PS | C10: 1.2 | E10: 1.2 | F10: 坑門(面壁型)
B11: S1 | C11: 7.42 | D11: 1.2 | E11: 8.62 | K11: ○
B12: S2 | C12: 10.5 | D12: 8.62 | E12: 19.12 | K12: ○
B13: S3 | C13: 10.78 | D13: 19.12 | E13: 29.9 | K13: ○
B14: S4 | C14: 10.65 | D14: 29.9 | E14: 40.55 | K14: ○
B15: S5 | C15: 10.77 | D15: 40.55 | E15: 51.32 | K15: ○
B16: S6 | C16: 10.4 | D16: 51.32 | E16: 61.72 | K16: ○
B17: S7 | C17: 10.9 | D17: 61.72 | E17: 72.62 | K17: ○
B18: S8 | C18: 10.47 | D18: 72.62 | E18: 83.09 | K18: ○
B19: S9 | C19: 10.83 | D19: 83.09 | E19: 93.92 | K19: ○
B20: S10 | C20: 10.72 | D20: 93.92 | E20: 104.64 | K20: ○
B21: S11 | C21: 10.79 | D21: 104.64 | E21: 115.43 | K21: ○
B22: S12 | C22: 10.41 | D22: 115.43 | E22: 125.84 | K22: ○
... B40: S30 | C40: 4.44 | D40: 304.5 | E40: 308.94 | K40: ○
B41: PE | C41: 1.13 | D41: 308.94 | E41: 310.07 | F41: 坑門(面壁型)
B45: ※ 行が不足する場合は、適時、表の行を増やすこと。

Sheet 様式A-3
B3: ■トンネル台帳 トンネル記録（位置図、断面図、施工実績他）【様式A-3】
B4: フリガナ | E4: ='様式A-1'!D3 -> シブキ | J4: 路線名 | M4: ='様式A-1'!J3 -> 一般国道316号 | S4: 作成者 | W4: ='様式A-1'!K5 -> 株式会社オリエンタルコンサルタンツ 妹尾 優大 | AC4: 作成年月日 | AF4: ='様式A-1'!R5 -> 45337
B5: 名 称 | E5: ='様式A-1'!D4 -> 渋木トンネル | J5: 管理者名 | M5: ='様式A-1'!R3 -> 長門土木建築事務所
B6: 位置図・現況写真・標準断面図・地質縦断図・施工実績

Sheet 様式B
B2: ■定期点検記録様式 トンネル変状・異常箇所写真位置図 【様式B】 | T2: トンネルID | V2: 34.31239,131.19108
B3: フリガナ | D3: シブキ | H3: 路線名 | J3: 一般国道316号 | N3: 管理者名 | P3: 長門土木建築事務所 | T3: 緊急輸送道路 | V3: 有
B4: 名 称 | D4: 渋木トンネル | T4: 代替路の有無 | V4: 有
B5: 所在地 | D5: 自 | E5: 山口県長門市渋木 | H5: 定期点検業者 | K5: 株式会社オリエンタルコンサルタンツ | O5: 定期点検年月日 | Q5: 45281 | T5: トンネル延長 | V5: L= | W5: ='様式A-1'!Z5 -> 320 | Y5: ｍ
D6: 至 | E6: 山口県長門市渋木 | H6: 定期点検者名 | K6: 妹尾 優大 | T6: ﾄﾝﾈﾙの分類 | V6: 陸上トンネル（掘進工法）
B7: 起点 | C7: 緯度 | D7: 341844.6 | F7: 変状・異常 箇所数合計 | H7: トンネル 本体工 | J7: 材質劣化 | L7: Ⅱ | M7: 16 | N7: Ⅲ | P7: Ⅳ | R7: トンネル毎 の健全性 | T7: Ⅱ | V7: 附属物の 取付状態 | W7: ◯ （応急措置後）
C10: 経度 | D10: 1311127.9
J11: 漏水 | L11: Ⅱ | M11: 40 | N11: Ⅲ | P11: Ⅳ
B13: 終点 | C13: 緯度 | D13: 341841.1 | W13: ✕ | Y13: 0
J15: 外力 | L15: Ⅱ | M15: 1 | N15: Ⅲ | P15: Ⅳ | AC15: 0
C16: 経度 | D16: 1311138
B19: トンネル変状・異常箇所写真位置図
P26: 注１：本位置図は、見下げた状態で記載すること。 注２：覆工スパン番号は横断目地毎(矢板工法の場合は上半アーチ の横断目地毎)に設定すること。 注３：写真番号に付する変状番号は、各覆工スパンの変状に対して新た に確認された場合は順次追加していくこと。 注４：横断目地の変状は前の覆工スパン番号で計上すること。 注５：１枚に収まらない場合は、複数枚に分けて作成すること。
C28: ※1 トンネル本体工の変状数は、材質劣化、漏水に起因するものは変状単位で、外力に起因するものはスパン単位で計上すること。
C29: ※2 本体工の変状に対しては、健全性の判定区分Ⅱ～Ⅳについて表記すること。なお、初回点検（H26以降）以降に、措置が行われた結果、
C30: Ⅰと判定された箇所についても記載すること。
C31: ※3 附属物の取付状態の○欄については、応急措置前に判定区分×とした箇所のうち応急措置により○判定とした箇所の数を記入すること。
C32: ※4 附属物の異常番号は、本体工と番号が重複しないよう101番以降とする等の配慮を行い、分かりやすく記録すること。

Sheet 様式B (2)
B2: ■定期点検記録様式 トンネル変状・異常箇所写真位置図 【様式B】 | T2: トンネルID | V2: 34.31239,131.19108
B3: フリガナ | D3: シブキ | H3: 路線名 | J3: 一般国道316号 | N3: 管理者名 | P3: 長門土木建築事務所 | T3: 緊急輸送道路 | V3: 有
B4: 名 称 | D4: 渋木トンネル | T4: 代替路の有無 | V4: 有
B5: 所在地 | D5: 自 | E5: 山口県長門市渋木 | H5: 定期点検業者 | K5: 株式会社オリエンタルコンサルタンツ | O5: 定期点検年月日 | Q5: 45281 | T5: トンネル延長 | V5: L= | W5: ='様式A-1'!Z5 -> 320 | Y5: ｍ
D6: 至 | E6: 山口県長門市渋木 | H6: 定期点検者名 | K6: 妹尾 優大 | T6: ﾄﾝﾈﾙの分類 | V6: 陸上トンネル（掘進工法）
B7: 起点 | C7: 緯度 | D7: 341844.6 | F7: 変状・異常 箇所数合計 | H7: トンネル 本体工 | J7: 材質劣化 | L7: Ⅱ | M7: 16 | N7: Ⅲ | P7: Ⅳ | R7: トンネル毎 の健全性 | T7: Ⅱ | V7: 附属物の 取付状態 | W7: ◯ （応急措置後）
C10: 経度 | D10: 1311127.9
J11: 漏水 | L11: Ⅱ | M11: 40 | N11: Ⅲ | P11: Ⅳ
B13: 終点 | C13: 緯度 | D13: 341841.1 | W13: ✕ | Y13: 4
J15: 外力 | L15: Ⅱ | M15: 1 | N15: Ⅲ | P15: Ⅳ | AC15: 0
C16: 経度 | D16: 1311138
B19: トンネル変状・異常箇所写真位置図
P26: 注１：本位置図は、見下げた状態で記載すること。 注２：覆工スパン番号は横断目地毎(矢板工法の場合は上半アーチ の横断目地毎)に設定すること。 注３：写真番号に付する変状番号は、各覆工スパンの変状に対して新た に確認された場合は順次追加していくこと。 注４：横断目地の変状は前の覆工スパン番号で計上すること。 注５：１枚に収まらない場合は、複数枚に分けて作成すること。
C28: ※1 トンネル本体工の変状数は、材質劣化、漏水に起因するものは変状単位で、外力に起因するものはスパン単位で計上すること。
C29: ※2 本体工の変状に対しては、健全性の判定区分Ⅱ～Ⅳについて表記すること。なお、初回点検（H26以降）以降に、措置が行われた結果、
C30: Ⅰと判定された箇所についても記載すること。
C31: ※3 附属物の取付状態の○欄については、応急措置前に判定区分×とした箇所のうち応急措置により○判定とした箇所の数を記入すること。
C32: ※4 附属物の異常番号は、本体工と番号が重複しないよう101番以降とする等の配慮を行い、分かりやすく記録すること。

Sheet 様式B (3)
B2: ■定期点検記録様式 トンネル変状・異常箇所写真位置図 【様式B】 | T2: トンネルID | V2: 34.31239,131.19108
B3: フリガナ | D3: シブキ | H3: 路線名 | J3: 一般国道316号 | N3: 管理者名 | P3: 長門土木建築事務所 | T3: 緊急輸送道路 | V3: 有
B4: 名 称 | D4: 渋木トンネル | T4: 代替路の有無 | V4: 有
B5: 所在地 | D5: 自 | E5: 山口県長門市渋木 | H5: 定期点検業者 | K5: 株式会社オリエンタルコンサルタンツ | O5: 定期点検年月日 | Q5: 45281 | T5: トンネル延長 | V5: L= | W5: ='様式A-1'!Z5 -> 320 | Y5: ｍ
D6: 至 | E6: 山口県長門市渋木 | H6: 定期点検者名 | K6: 妹尾 優大 | T6: ﾄﾝﾈﾙの分類 | V6: 陸上トンネル（掘進工法）
B7: 起点 | C7: 緯度 | D7: 341844.6 | F7: 変状・異常 箇所数合計 | H7: トンネル 本体工 | J7: 材質劣化 | L7: Ⅱ | M7: 16 | N7: Ⅲ | P7: Ⅳ | R7: トンネル毎 の健全性 | T7: Ⅱ | V7: 附属物の 取付状態 | W7: ◯ （応急措置後）
C10: 経度 | D10: 1311127.9
J11: 漏水 | L11: Ⅱ | M11: 40 | N11: Ⅲ | P11: Ⅳ
B13: 終点 | C13: 緯度 | D13: 341841.1 | W13: ✕ | Y13: 4
J15: 外力 | L15: Ⅱ | M15: 1 | N15: Ⅲ | P15: Ⅳ | AC15: 0
C16: 経度 | D16: 1311138
B19: トンネル変状・異常箇所写真位置図
P26: 注１：本位置図は、見下げた状態で記載すること。 注２：覆工スパン番号は横断目地毎(矢板工法の場合は上半アーチ の横断目地毎)に設定すること。 注３：写真番号に付する変状番号は、各覆工スパンの変状に対して新た に確認された場合は順次追加していくこと。 注４：横断目地の変状は前の覆工スパン番号で計上すること。 注５：１枚に収まらない場合は、複数枚に分けて作成すること。
C28: ※1 トンネル本体工の変状数は、材質劣化、漏水に起因するものは変状単位で、外力に起因するものはスパン単位で計上すること。
C29: ※2 本体工の変状に対しては、健全性の判定区分Ⅱ～Ⅳについて表記すること。なお、初回点検（H26以降）以降に、措置が行われた結果、
C30: Ⅰと判定された箇所についても記載すること。
C31: ※3 附属物の取付状態の○欄については、応急措置前に判定区分×とした箇所のうち応急措置により○判定とした箇所の数を記入すること。
C32: ※4 附属物の異常番号は、本体工と番号が重複しないよう101番以降とする等の配慮を行い、分かりやすく記録すること。

Sheet 様式B (4)
B2: ■定期点検記録様式 トンネル変状・異常箇所写真位置図 【様式B】 | T2: トンネルID | V2: 34.31239,131.19108
B3: フリガナ | D3: シブキ | H3: 路線名 | J3: 一般国道316号 | N3: 管理者名 | P3: 長門土木建築事務所 | T3: 緊急輸送道路 | V3: 有
B4: 名 称 | D4: 渋木トンネル | T4: 代替路の有無 | V4: 有
B5: 所在地 | D5: 自 | E5: 山口県長門市渋木 | H5: 定期点検業者 | K5: 株式会社オリエンタルコンサルタンツ | O5: 定期点検年月日 | Q5: 45281 | T5: トンネル延長 | V5: L= | W5: ='様式A-1'!Z5 -> 320 | Y5: ｍ
D6: 至 | E6: 山口県長門市渋木 | H6: 定期点検者名 | K6: 妹尾 優大 | T6: ﾄﾝﾈﾙの分類 | V6: 陸上トンネル（掘進工法）
B7: 起点 | C7: 緯度 | D7: 341844.6 | F7: 変状・異常 箇所数合計 | H7: トンネル 本体工 | J7: 材質劣化 | L7: Ⅱ | M7: 16 | N7: Ⅲ | P7: Ⅳ | R7: トンネル毎 の健全性 | T7: Ⅱ | V7: 附属物の 取付状態 | W7: ◯ （応急措置後）
C10: 経度 | D10: 1311127.9
J11: 漏水 | L11: Ⅱ | M11: 40 | N11: Ⅲ | P11: Ⅳ
B13: 終点 | C13: 緯度 | D13: 341841.1 | W13: ✕ | Y13: 4
J15: 外力 | L15: Ⅱ | M15: 1 | N15: Ⅲ | P15: Ⅳ | AC15: 0
C16: 経度 | D16: 1311138
B19: トンネル変状・異常箇所写真位置図
P26: 注１：本位置図は、見下げた状態で記載すること。 注２：覆工スパン番号は横断目地毎(矢板工法の場合は上半アーチ の横断目地毎)に設定すること。 注３：写真番号に付する変状番号は、各覆工スパンの変状に対して新た に確認された場合は順次追加していくこと。 注４：横断目地の変状は前の覆工スパン番号で計上すること。 注５：１枚に収まらない場合は、複数枚に分けて作成すること。
C28: ※1 トンネル本体工の変状数は、材質劣化、漏水に起因するものは変状単位で、外力に起因するものはスパン単位で計上すること。
C29: ※2 本体工の変状に対しては、健全性の判定区分Ⅱ～Ⅳについて表記すること。なお、初回点検（H26以降）以降に、措置が行われた結果、
C30: Ⅰと判定された箇所についても記載すること。
C31: ※3 附属物の取付状態の○欄については、応急措置前に判定区分×とした箇所のうち応急措置により○判定とした箇所の数を記入すること。
C32: ※4 附属物の異常番号は、本体工と番号が重複しないよう101番以降とする等の配慮を行い、分かりやすく記録すること。

Sheet 様式C-1-1
B2: ■定期点検記録様式 全スパン定期点検結果総括表（トンネル本体工） 【様式C-1-1】
B3: フリガナ | F3: シブキ | I3: 路線名 | K3: 一般国道316号 | O3: 定期点検業者 | Q3: 株式会社オリエンタルコンサルタンツ | U3: 定期点検年月日 | Y3: 45281
B4: 名 称 | F4: 渋木トンネル | I4: 管理者名 | K4: 長門土木建築事務所 | O4: 定期点検者名 | Q4: 妹尾 優大
C5: 覆工 スパン 番号 | E5: 変状 番号 | F5: 距離 （m） | G5: 変状部位 | I5: 変 状 の 内 容 | O5: 前回定期点検時の状態 | Q5: 今回定期点検結果 | U5: 措置履歴 | Z5: 対応方針 ・ 特記事項
G7: 対象箇所 | H7: 部位区分 | I7: 変状区分 | J7: 変状種類 | M7: 変状の発生範囲の規模 | N7: 前回定期点検時 との比較 | O7: 状態 | P7: 健全性 | Q7: 対策区分 | S7: 調査の 要否 | T7: 措置の 要否 | U7: 実施 | V7: 措置の実施状況
Q8: 応急措置前 | R8: 応急措置後
B9: 定期点検結果 | C9: PS | E9: 1 | F9: 1.2 | G9: 覆工・坑門 | H9: 水平打ち継ぎ目（左側） | I9: 材質劣化 | J9: うき・はく離 | M9: 対策済 | N9: 対策済 | O9: Ⅱb | P9: Ⅱ | R9: Ⅰ | S9: 否 | T9: 否 | U9: 済 | V9: はく落防止工を実施
C10: S001 | E10: 1 | F10: 7.42 | G10: 覆工・坑門 | H10: 水平打ち継ぎ目（左側） | I10: 材質劣化 | J10: うき・はく離 | M10: 対策済 | N10: 対策済 | O10: Ⅱb | P10: Ⅱ | R10: Ⅰ | S10: 否 | T10: 否 | U10: 済 | V10: はく落防止工を実施
C11: S001 | E11: 2 | F11: 7.42 | G11: 覆工・坑門 | H11: アーチ（左側） | I11: 材質劣化 | J11: うき・はく離 | M11: 対策済 | N11: 対策済 | O11: Ⅲ | P11: Ⅲ | R11: Ⅰ | S11: 否 | T11: 否 | U11: 済 | V11: はく落防止工を実施
C12: S001 | E12: 3 | F12: 7.42 | G12: 覆工・坑門 | H12: 横断目地（天端） | I12: 材質劣化 | J12: うき・はく離 | M12: 対策済 | N12: 対策済 | O12: Ⅲ | P12: Ⅲ | R12: Ⅰ | S12: 否 | T12: 否 | U12: 済 | V12: はく落防止工を実施
C13: S001 | E13: 4 | F13: 7.42 | G13: 覆工・坑門 | H13: アーチ（天端） | I13: 材質劣化 | J13: その他 | M13: 対策済 | N13: 対策済 | O13: Ⅱa | P13: Ⅱ | R13: Ⅰ | S13: 否 | T13: 否 | U13: 済 | V13: はく落防止工を実施
C14: S001 | E14: 5 | F14: 7.42 | G14: 覆工・坑門 | H14: アーチ（右側） | I14: 材質劣化 | J14: うき・はく離 | M14: 対策済 | N14: 対策済 | O14: Ⅲ | P14: Ⅲ | R14: Ⅰ | S14: 否 | T14: 否 | U14: 済 | V14: はく落防止工を実施
C15: S001 | E15: 6 | F15: 7.42 | G15: 路面 | H15: 監査歩路 | I15: 漏水 | J15: 滞水 | M15: - | N15: - | O15: Ⅱb | P15: Ⅱ | R15: － | S15: 否 | T15: 否 | U15: 済 | V15: - | Z15: 滞水跡
C16: S001 | E16: 7 | F16: 7.42 | G16: 路面 | H16: 側溝 | I16: 材質劣化 | J16: うき・はく離 | M16: 0.3m×0.1m | N16: 進行が認められない | O16: Ⅱb | P16: Ⅱ | R16: － | S16: 要 | T16: 要監視 | U16: 継続 | V16: 監視(日常巡視) | Z16: はく離
C17: S002 | E17: 1 | F17: 10.5 | G17: 覆工・坑門 | H17: 水平打ち継ぎ目（左側） | I17: 材質劣化 | J17: うき・はく離 | M17: 対策済 | N17: 対策済 | O17: Ⅱb | P17: Ⅱ | R17: Ⅰ | S17: 否 | T17: 否 | U17: 済 | V17: はく落防止工を実施
C18: S002 | E18: 2 | F18: 10.5 | G18: 覆工・坑門 | H18: 水平打ち継ぎ目（左側） | I18: 漏水 | J18: 漏水 | M18: - | N18: - | O18: Ⅱb | P18: Ⅱ | R18: Ⅰ | S18: 否 | T18: 否 | U18: 済 | V18: - | Z18: 漏水跡
C19: S002 | E19: 3 | F19: 10.5 | G19: 覆工・坑門 | H19: 水平打ち継ぎ目（左側） | I19: 漏水 | J19: 漏水 | M19: - | N19: - | O19: Ⅱb | P19: Ⅱ | R19: Ⅰ | S19: 否 | T19: 否 | U19: 済 | V19: - | Z19: 漏水跡
C20: S002 | E20: 4 | F20: 10.5 | G20: 覆工・坑門 | H20: 水平打ち継ぎ目（左側） | I20: 材質劣化 | J20: うき・はく離 | M20: 対策済 | N20: 対策済 | O20: Ⅱb | P20: Ⅱ | R20: Ⅰ | S20: 否 | T20: 否 | U20: 済 | V20: はく落防止工を実施
C21: S002 | E21: 5 | F21: 10.5 | G21: 覆工・坑門 | H21: 水平打ち継ぎ目（左側） | I21: 漏水 | J21: 漏水 | M21: - | N21: - | O21: Ⅱb | P21: Ⅱ | R21: Ⅰ | S21: 否 | T21: 否 | U21: 済 | V21: - | Z21: 漏水跡
C22: S002 | E22: 6 | F22: 10.5 | G22: 覆工・坑門 | H22: アーチ（天端） | I22: 材質劣化 | J22: うき・はく離 | M22: 対策済 | N22: 対策済 | O22: Ⅲ | P22: Ⅲ | R22: Ⅰ | S22: 否 | T22: 否 | U22: 済 | V22: はく落防止工を実施
C23: S002 | E23: 7 | F23: 10.5 | G23: 覆工・坑門 | H23: アーチ（右側） | I23: 材質劣化 | J23: うき・はく離 | M23: 対策済 | N23: 対策済 | O23: Ⅲ | P23: Ⅲ | R23: Ⅰ | S23: 否 | T23: 否 | U23: 済 | V23: はく落防止工を実施
C24: S002 | E24: 8 | F24: 10.5 | G24: 覆工・坑門 | H24: アーチ（天端） | I24: 材質劣化 | J24: うき・はく離 | M24: 対策済 | N24: 対策済 | O24: Ⅲ | P24: Ⅲ | R24: Ⅰ | S24: 否 | T24: 否 | U24: 済 | V24: はく落防止工を実施
C25: S002 | E25: 9 | F25: 10.5 | G25: 覆工・坑門 | H25: 横断目地（右側） | I25: 漏水 | J25: 補強・補修材の破損 | M25: 対策済 | N25: 対策済 | O25: Ⅱa | P25: Ⅱ | R25: Ⅰ | S25: 否 | T25: 否 | U25: 済 | V25: 導水工の更新により対策済
C26: S002 | E26: 10 | F26: 10.5 | G26: 覆工・坑門 | H26: 横断目地（右側） | I26: 漏水 | J26: 漏水 | M26: 対策済 | N26: 対策済 | O26: Ⅱb | P26: Ⅱ | R26: Ⅰ | S26: 否 | T26: 否 | U26: 済 | V26: 導水工の更新により対策済
C27: S002 | E27: 11 | F27: 10.5 | G27: 覆工・坑門 | H27: 側壁（右側） | I27: 漏水 | J27: 漏水 | M27: 2.0m×0.5m | N27: 進行が認められない | O27: Ⅱb | P27: Ⅱ | R27: Ⅱb | S27: 要 | T27: 要監視 | U27: 継続 | V27: 監視(日常巡視) | Z27: にじみ
C28: S002 | E28: 12 | F28: 10.5 | G28: 覆工・坑門 | H28: 水平打ち継ぎ目（右側） | I28: 漏水 | J28: 漏水 | M28: 対策済 | N28: 対策済 | O28: Ⅱb | P28: Ⅱ | R28: Ⅰ | S28: 否 | T28: 否 | U28: 済 | V28: 導水工の更新により対策済
C29: S002 | E29: 13 | F29: 10.5 | G29: 路面 | H29: 監査歩路 | I29: 漏水 | J29: 滞水 | M29: - | N29: - | O29: Ⅱb | P29: Ⅱ | R29: － | S29: 否 | T29: 否 | U29: 済 | V29: - | Z29: 滞水跡
C30: S002 | E30: 14 | F30: 10.5 | G30: 路面 | H30: 側溝 | I30: 材質劣化 | J30: うき・はく離 | M30: 0.2m×0.3m | N30: 進行が認められない | O30: Ⅱb | P30: Ⅱ | R30: － | S30: 要 | T30: 要監視 | U30: 継続 | V30: 監視(日常巡視) | Z30: はく離
C31: S002 | E31: 15 | F31: 10.5 | G31: 路面 | H31: 監査歩路 | I31: 漏水 | J31: 滞水 | M31: - | N31: - | O31: Ⅱb | P31: Ⅱ | R31: － | S31: 否 | T31: 否 | U31: 済 | V31: - | Z31: 滞水跡
C32: S003 | E32: 1 | F32: 10.78 | G32: 覆工・坑門 | H32: 横断目地（左側） | I32: 材質劣化 | J32: うき・はく離 | M32: 対策済 | N32: 対策済 | O32: Ⅲ | P32: Ⅲ | R32: Ⅰ | S32: 否 | T32: 否 | U32: 済 | V32: はく落防止工を実施
C33: S003 | E33: 2 | F33: 10.78 | G33: 覆工・坑門 | H33: 水平打ち継ぎ目（左側） | I33: 材質劣化 | J33: うき・はく離 | M33: 対策済 | N33: 対策済 | O33: Ⅱb | P33: Ⅱ | R33: Ⅰ | S33: 否 | T33: 否 | U33: 済 | V33: はく落防止工を実施
C34: S003 | E34: 3 | F34: 10.78 | G34: 覆工・坑門 | H34: 水平打ち継ぎ目（左側） | I34: 漏水 | J34: 漏水 | M34: 2.5m×0.5m | N34: 新規確認 | O34: － | P34: － | R34: Ⅱb | S34: 要 | T34: 要監視 | U34: 継続 | V34: 監視(日常巡視) | Z34: にじみ
C35: S003 | E35: 4 | F35: 10.78 | G35: 覆工・坑門 | H35: 横断目地（天端） | I35: 材質劣化 | J35: うき・はく離 | M35: 対策済 | N35: 対策済 | O35: Ⅲ | P35: Ⅲ | R35: Ⅰ | S35: 否 | T35: 否 | U35: 済 | V35: はく落防止工を実施
C36: S003 | E36: 5 | F36: 10.78 | G36: 覆工・坑門 | H36: 横断目地（左側） | I36: 漏水 | J36: 漏水 | M36: 5.8m×0.5m | N36: 進行が認められない | O36: Ⅱb | P36: Ⅱ | R36: Ⅱb | S36: 要 | T36: 要監視 | U36: 継続 | V36: 監視(日常巡視) | Z36: にじみ
C37: S003 | E37: 6 | F37: 10.78 | G37: 覆工・坑門 | H37: 水平打ち継ぎ目（右側） | I37: 漏水 | J37: 漏水 | M37: - | N37: - | O37: Ⅱb | P37: Ⅱ | R37: Ⅰ | S37: 否 | T37: 否 | U37: 済 | V37: - | Z37: 漏水跡
C38: S003 | E38: 7 | F38: 10.78 | G38: 覆工・坑門 | H38: 水平打ち継ぎ目（右側） | I38: 材質劣化 | J38: うき・はく離 | M38: 対策済 | N38: 対策済 | O38: Ⅱb | P38: Ⅱ | R38: Ⅰ | S38: 否 | T38: 否 | U38: 済 | V38: はく落防止工を実施
C39: S003 | E39: 8 | F39: 10.78 | G39: 路面 | H39: 側溝 | I39: 材質劣化 | J39: うき・はく離 | M39: 0.3m×0.1m | N39: 進行が認められない | O39: Ⅱb | P39: Ⅱ | R39: － | S39: 要 | T39: 要監視 | U39: 継続 | V39: 監視(日常巡視) | Z39: はく離
C40: S003 | E40: 9 | F40: 10.78 | G40: 路面 | H40: 側溝 | I40: 材質劣化 | J40: うき・はく離 | M40: 0.25m×0.2m | N40: 進行が認められない | O40: Ⅱb | P40: Ⅱ | R40: － | S40: 要 | T40: 要監視 | U40: 継続 | V40: 監視(日常巡視) | Z40: はく離
C41: S003 | E41: 10 | F41: 10.78 | G41: 路面 | H41: 側溝 | I41: 材質劣化 | J41: うき・はく離 | M41: 0.3m×0.1m | N41: 進行が認められない | O41: Ⅱb | P41: Ⅱ | R41: － | S41: 要 | T41: 要監視 | U41: 継続 | V41: 監視(日常巡視) | Z41: はく離
C42: S003 | E42: 11 | F42: 10.78 | G42: 路面 | H42: 側溝 | I42: 材質劣化 | J42: うき・はく離 | M42: 0.3m×0.2m | N42: 進行が認められない | O42: Ⅱb | P42: Ⅱ | R42: － | S42: 要 | T42: 要監視 | U42: 継続 | V42: 監視(日常巡視) | Z42: はく離
...

Sheet 様式C-1-2
B2: ■定期点検記録様式 定期点検結果総括表（トンネル内附属物等の取付状態） 【様式C-1-2】
B3: フリガナ | F3: シブキ | J3: 路線名 | L3: 一般国道316号 | O3: 定期点検業者 | Q3: 株式会社オリエンタルコンサルタンツ | U3: 定期点検年月日 | Y3: 45281
B4: 名 称 | F4: 渋木トンネル | J4: 管理者名 | L4: 長門土木建築事務所 | O4: 定期点検者名 | Q4: 妹尾 優大
B5: 定期点検結果 | C5: 覆工 スパン 番号 | E5: 異常 番号 | F5: 距離 （m） | G5: 異常部位 | J5: 異 常 の 内 容 | P5: 定期点検結果 | R5: 応急措置の 実施状況 | X5: 対応方針 ・ 特記事項
G6: 対象箇所 | I6: 部位区分 | J6: 異常種類 | N6: 異常の発生範囲の規模 | P6: 異常判定区分 | R6: 実施 | S6: 応急措置の内容
P7: 応急措置前 | Q7: 応急措置後
C8: S010 | E8: 101 | F8: 10.72 | G8: その他施設 | H8: その他 | I8: 附属物本体 | J8: 変形，欠損 | N8: 1箇所 | Q8: - | R8: 未 | X8: デリネーター欠損
C9: S013 | E9: 101 | F9: 10.85 | G9: その他施設 | H9: その他 | I9: 附属物本体 | J9: 変形，欠損 | N9: 1箇所 | Q9: - | R9: 未 | X9: デリネーター欠損
C10: S017 | E10: 101 | F10: 10.51 | G10: その他施設 | H10: その他 | I10: 附属物本体 | J10: 変形，欠損 | N10: 1箇所 | Q10: - | R10: 未 | X10: デリネーター欠損
C11: S019 | E11: 101 | F11: 10.75 | G11: その他施設 | H11: その他 | I11: 附属物本体 | J11: 変形，欠損 | N11: 1箇所 | Q11: - | R11: 未 | X11: デリネーター欠損
C39: ※ 異常判定区分×について記入すること。また、応急措置により○と判定された箇所も記入すること。
C40: ※ 応急措置を実施しないで判定した箇所の異常判定区分は、異常判定区分の応急措置後の欄に記入すること。
C41: ※ 異常の除去が不完全で、緊急対応が必要な場合は対応方針欄に記入すること。
C42: ※ １スパンの覆工に複数の異常がある場合は、異常箇所毎に記入すること。
C43: ※ 行が不足する場合は、適時、表の行を増やすこと。

Sheet 様式C-2
B2: ■定期点検記録様式 状態の把握の内容 【様式C-2】
B3: フリガナ | E3: シブキ | H3: 路線名 | J3: 一般国道316号 | M3: 定期点検業者 | R3: 株式会社オリエンタルコンサルタンツ | U3: 定期点検年月日 | X3: 45281
B4: 名 称 | E4: 渋木トンネル | H4: 管理者名 | J4: 長門土木建築事務所 | M4: 定期点検者名 | R4: 妹尾 優大
B5: 状態の把握の内容 | C5: 覆工スパン 番号 | E5: 変状 番号 | F5: 状態の把握の内容
F6: 年月日 | H6: 内容 | O6: 結果 | W6: 対策区分の 判定 | Y6: 健全性
B22: 注）状態の把握において、微破壊・非破壊検査や各種試験等を実施した場合について記載する。
B23: ※ 行が不足する場合は、適時、表の行を増やすこと。

Sheet 様式D-1-1
B2: ■定期点検記録様式 変状写真台帳（トンネル本体工） 【様式D-1-1】
B3: フリガナ | D3: シブキ | H3: 路 線 名 | J3: 一般国道316号 | M3: 定期点検業者 | P3: 株式会社オリエンタルコンサルタンツ | S3: 定期点検年月日 | U3: 45281
B4: 名 称 | D4: 渋木トンネル | H4: 管理者名 | J4: 長門土木建築事務所 | M4: 定期点検者名 | P4: 妹尾 優大
B5: 写真 番号 | C5: 覆工 スパン 番号 | D5: PS | M5: 写真 番号 | N5: 覆工 スパン 番号 | O5: S001
C7: 変状 番号 | D7: 1 | N7: 変状 番号 | O7: 1
B9: 変状 部位 | C9: 対象 箇所 | D9: 覆工・坑門 | M9: 変状 部位 | N9: 対象 箇所 | O9: 覆工・坑門
C11: 部位 区分 | D11: 水平打ち継ぎ目（左側） | N11: 部位 区分 | O11: 水平打ち継ぎ目（左側）
B13: 変状区分 | D13: 材質劣化 | M13: 変状区分 | O13: 材質劣化
B14: 変状種類 | D14: うき・はく離 | M14: 変状種類 | O14: うき・はく離
B15: 対策 区分 | C15: 応急措置前 | M15: 対策 区分 | N15: 応急措置前
C16: 応急措置後 | E16: Ⅰ | N16: 応急措置後 | P16: Ⅰ
B17: 健全性 | D17: Ⅰ | M17: 健全性 | O17: Ⅰ
B18: 変状の発生範囲の規模 | E18: 0.6m×1.1m | M18: 変状の発生範囲の規模 | P18: 0.6m×1.7m
B19: 前回定期点検時の状態 | E19: 0.1m×0.7mのうき | M19: 前回定期点検時の状態 | P19: 0.05m×1.4mのうき
B20: 調査方針 | E20: なし | M20: 調査方針 | P20: なし
B21: 対策履歴 | E21: はく落防止工 | H21: 実施状況（実施日） | M21: 対策履歴 | P21: はく落防止工 | S21: 実施状況（実施日）
B22: メモ | D22: はく落防止工対策済 | M22: メモ | O22: はく落防止工対策済
B23: 写真 番号 | C23: 覆工 スパン 番号 | D23: S001 | M23: 写真 番号 | N23: 覆工 スパン 番号 | O23: S001
C25: 変状 番号 | D25: 2 | N25: 変状 番号 | O25: 3
B27: 変状 部位 | C27: 対象 箇所 | D27: 覆工・坑門 | M27: 変状 部位 | N27: 対象 箇所 | O27: 覆工・坑門
C29: 部位 区分 | D29: アーチ（左側） | N29: 部位 区分 | O29: 横断目地（天端）
B31: 変状区分 | D31: 材質劣化 | M31: 変状区分 | O31: 材質劣化
B32: 変状種類 | D32: うき・はく離 | M32: 変状種類 | O32: うき・はく離
B33: 対策 区分 | C33: 応急措置前 | M33: 対策 区分 | N33: 応急措置前
C34: 応急措置後 | E34: Ⅰ | N34: 応急措置後 | P34: Ⅰ
B35: 健全性 | D35: Ⅰ | M35: 健全性 | O35: Ⅰ
B36: 変状の発生範囲の規模 | E36: 2.2m×1.9m | M36: 変状の発生範囲の規模 | P36: 2.7m×1.0m
B37: 前回定期点検時の状態 | E37: 0.7m×0.4mのうき、0.7m×0.4mの豆板 | M37: 前回定期点検時の状態 | P37: 0.15m×0.05m、0.2m×0.1mのうき
B38: 調査方針 | E38: なし | M38: 調査方針 | P38: なし
B39: 対策履歴 | E39: はく落防止工 | H39: 実施状況（実施日） | M39: 対策履歴 | P39: はく落防止工 | S39: 実施状況（実施日）
B40: メモ | D40: はく落防止工対策済 | M40: メモ | O40: はく落防止工対策済
C41: ※ 健全性の判定区分Ⅱ～Ⅳについて添付すること。また、点検前に実施 された措置によりⅠと判定された箇所も添付すること。 | N41: ※ 変状の発生範囲の規模とは、対策を行う際に参考となる変状の長さや面積をいう。
N42: ※ 応急措置を実施しないで判定した変状の対策区分は、対策区分の応急措置後の欄に記入すること。
C43: ※ たたき落としを実施した場合は、実施後の写真を添付すること。 | N43: ※ 変状の発生範囲の規模は、面積・寸法を記載すること。
C44: ※ 画像データは100kb程度とする。 | N44: (ひび割れ幅のみmmとし、その他をm表記とする)
C45: ※ 変状数に準じてシートを追加すること。（１シートに１ページとすること。） | N45: ※ 構造用鋼材以外の異物に伴ううき・はく離については、メモ欄に異物の概要を記入すること。

Sheet 様式D-1-1 (2)
B2: ■定期点検記録様式 変状写真台帳（トンネル本体工） 【様式D-1-1】
B3: フリガナ | D3: シブキ | H3: 路 線 名 | J3: 一般国道316号 | M3: 定期点検業者 | P3: 株式会社オリエンタルコンサルタンツ | S3: 定期点検年月日 | U3: 45281
B4: 名 称 | D4: 渋木トンネル | H4: 管理者名 | J4: 長門土木建築事務所 | M4: 定期点検者名 | P4: 妹尾 優大
B5: 写真 番号 | C5: 覆工 スパン 番号 | D5: S001 | M5: 写真 番号 | N5: 覆工 スパン 番号 | O5: S001
C7: 変状 番号 | D7: 4 | N7: 変状 番号 | O7: 5
B9: 変状 部位 | C9: 対象 箇所 | D9: 覆工・坑門 | M9: 変状 部位 | N9: 対象 箇所 | O9: 覆工・坑門
C11: 部位 区分 | D11: アーチ（天端） | N11: 部位 区分 | O11: アーチ（右側）
B13: 変状区分 | D13: 材質劣化 | M13: 変状区分 | O13: 材質劣化
B14: 変状種類 | D14: その他 | M14: 変状種類 | O14: うき・はく離
B15: 対策 区分 | C15: 応急措置前 | M15: 対策 区分 | N15: 応急措置前
C16: 応急措置後 | E16: Ⅰ | N16: 応急措置後 | P16: Ⅰ
B17: 健全性 | D17: Ⅰ | M17: 健全性 | O17: Ⅰ
B18: 変状の発生範囲の規模 | E18: 3.4m×2.7m | M18: 変状の発生範囲の規模 | P18: 2.8m×1.7m
B19: 前回定期点検時の状態 | E19: 2.4m×1.5mの豆板 | M19: 前回定期点検時の状態 | P19: 0.3m×0.05m、0.4m×0.1mのうき
B20: 調査方針 | E20: なし | M20: 調査方針 | P20: なし
B21: 対策履歴 | E21: はく落防止工 | H21: 実施状況（実施日） | M21: 対策履歴 | P21: はく落防止工 | S21: 実施状況（実施日）
B22: メモ | D22: はく落防止工対策済 | M22: メモ | O22: はく落防止工対策済
B23: 写真 番号 | C23: 覆工 スパン 番号 | D23: S001 | M23: 写真 番号 | N23: 覆工 スパン 番号 | O23: S001
C25: 変状 番号 | D25: 6 | N25: 変状 番号 | O25: 7
B27: 変状 部位 | C27: 対象 箇所 | D27: 路面 | M27: 変状 部位 | N27: 対象 箇所 | O27: 路面
C29: 部位 区分 | D29: 監査歩路 | N29: 部位 区分 | O29: 側溝
B31: 変状区分 | D31: 漏水 | M31: 変状区分 | O31: 材質劣化
B32: 変状種類 | D32: 滞水 | M32: 変状種類 | O32: うき・はく離
B33: 対策 区分 | C33: 応急措置前 | M33: 対策 区分 | N33: 応急措置前
C34: 応急措置後 | E34: － | N34: 応急措置後 | P34: －
B35: 健全性 | D35: － | M35: 健全性 | O35: －
B36: 変状の発生範囲の規模 | E36: - | M36: 変状の発生範囲の規模 | P36: 0.3m×0.1m
B37: 前回定期点検時の状態 | E37: 滞水 | M37: 前回定期点検時の状態 | P37: 0.3m×0.1mのはく離
B38: 調査方針 | E38: なし | M38: 調査方針 | P38: なし
B39: 対策履歴 | E39: なし | H39: 実施状況（実施日） | M39: 対策履歴 | P39: なし | S39: 実施状況（実施日）
B40: メモ | D40: 滞水跡 | M40: メモ | O40: 側溝蓋のはく離
C41: ※ 健全性の判定区分Ⅱ～Ⅳについて添付すること。また、点検前に実施 された措置によりⅠと判定された箇所も添付すること。 | N41: ※ 変状の発生範囲の規模とは、対策を行う際に参考となる変状の長さや面積をいう。
N42: ※ 応急措置を実施しないで判定した変状の対策区分は、対策区分の応急措置後の欄に記入すること。
C43: ※ たたき落としを実施した場合は、実施後の写真を添付すること。 | N43: ※ 変状の発生範囲の規模は、面積・寸法を記載すること。
C44: ※ 画像データは100kb程度とする。 | N44: (ひび割れ幅のみmmとし、その他をm表記とする)
C45: ※ 変状数に準じてシートを追加すること。（１シートに１ページとすること。） | N45: ※ 構造用鋼材以外の異物に伴ううき・はく離については、メモ欄に異物の概要を記入すること。

Sheet 様式D-1-1 (3)
B2: ■定期点検記録様式 変状写真台帳（トンネル本体工） 【様式D-1-1】
B3: フリガナ | D3: シブキ | H3: 路 線 名 | J3: 一般国道316号 | M3: 定期点検業者 | P3: 株式会社オリエンタルコンサルタンツ | S3: 定期点検年月日 | U3: 45281
B4: 名 称 | D4: 渋木トンネル | H4: 管理者名 | J4: 長門土木建築事務所 | M4: 定期点検者名 | P4: 妹尾 優大
B5: 写真 番号 | C5: 覆工 スパン 番号 | D5: S002 | M5: 写真 番号 | N5: 覆工 スパン 番号 | O5: S002
C7: 変状 番号 | D7: 1 | N7: 変状 番号 | O7: 2
B9: 変状 部位 | C9: 対象 箇所 | D9: 覆工・坑門 | M9: 変状 部位 | N9: 対象 箇所 | O9: 覆工・坑門
C11: 部位 区分 | D11: 水平打ち継ぎ目（左側） | N11: 部位 区分 | O11: 水平打ち継ぎ目（左側）
B13: 変状区分 | D13: 材質劣化 | M13: 変状区分 | O13: 漏水
B14: 変状種類 | D14: うき・はく離 | M14: 変状種類 | O14: 漏水
B15: 対策 区分 | C15: 応急措置前 | M15: 対策 区分 | N15: 応急措置前
C16: 応急措置後 | E16: Ⅰ | N16: 応急措置後 | P16: Ⅰ
B17: 健全性 | D17: Ⅰ | M17: 健全性 | O17: Ⅰ
B18: 変状の発生範囲の規模 | E18: 0.6m×3.1m | M18: 変状の発生範囲の規模 | P18: -
B19: 前回定期点検時の状態 | E19: 1.8m×0.1m、0.05m×0.3mのうき | M19: 前回定期点検時の状態 | P19: 漏水、にじみ
B20: 調査方針 | E20: なし | M20: 調査方針 | P20: なし
B21: 対策履歴 | E21: はく落防止工 | H21: 実施状況（実施日） | M21: 対策履歴 | P21: なし | S21: 実施状況（実施日）
B22: メモ | D22: はく落防止工対策済 | M22: メモ | O22: 漏水跡
B23: 写真 番号 | C23: 覆工 スパン 番号 | D23: S002 | M23: 写真 番号 | N23: 覆工 スパン 番号 | O23: S002
C25: 変状 番号 | D25: 3 | N25: 変状 番号 | O25: 4
B27: 変状 部位 | C27: 対象 箇所 | D27: 覆工・坑門 | M27: 変状 部位 | N27: 対象 箇所 | O27: 覆工・坑門
C29: 部位 区分 | D29: 水平打ち継ぎ目（左側） | N29: 部位 区分 | O29: 水平打ち継ぎ目（左側）
B31: 変状区分 | D31: 漏水 | M31: 変状区分 | O31: 材質劣化
B32: 変状種類 | D32: 漏水 | M32: 変状種類 | O32: うき・はく離
B33: 対策 区分 | C33: 応急措置前 | M33: 対策 区分 | N33: 応急措置前
C34: 応急措置後 | E34: Ⅰ | N34: 応急措置後 | P34: Ⅰ
B35: 健全性 | D35: Ⅰ | M35: 健全性 | O35: Ⅰ
B36: 変状の発生範囲の規模 | E36: - | M36: 変状の発生範囲の規模 | P36: 0.6m×2.3m
B37: 前回定期点検時の状態 | E37: 漏水、にじみ | M37: 前回定期点検時の状態 | P37: 0.1m×1.7mのうき
B38: 調査方針 | E38: なし | M38: 調査方針 | P38: なし
B39: 対策履歴 | E39: なし | H39: 実施状況（実施日） | M39: 対策履歴 | P39: はく落防止工 | S39: 実施状況（実施日）
B40: メモ | D40: 漏水跡 | M40: メモ | O40: はく落防止工対策済
C41: ※ 健全性の判定区分Ⅱ～Ⅳについて添付すること。また、点検前に実施 された措置によりⅠと判定された箇所も添付すること。 | N41: ※ 変状の発生範囲の規模とは、対策を行う際に参考となる変状の長さや面積をいう。
N42: ※ 応急措置を実施しないで判定した変状の対策区分は、対策区分の応急措置後の欄に記入すること。
C43: ※ たたき落としを実施した場合は、実施後の写真を添付すること。 | N43: ※ 変状の発生範囲の規模は、面積・寸法を記載すること。
C44: ※ 画像データは100kb程度とする。 | N44: (ひび割れ幅のみmmとし、その他をm表記とする)
C45: ※ 変状数に準じてシートを追加すること。（１シートに１ページとすること。） | N45: ※ 構造用鋼材以外の異物に伴ううき・はく離については、メモ欄に異物の概要を記入すること。

Sheet 様式D-1-1 (4)
B2: ■定期点検記録様式 変状写真台帳（トンネル本体工） 【様式D-1-1】
B3: フリガナ | D3: シブキ | H3: 路 線 名 | J3: 一般国道316号 | M3: 定期点検業者 | P3: 株式会社オリエンタルコンサルタンツ | S3: 定期点検年月日 | U3: 45281
B4: 名 称 | D4: 渋木トンネル | H4: 管理者名 | J4: 長門土木建築事務所 | M4: 定期点検者名 | P4: 妹尾 優大
B5: 写真 番号 | C5: 覆工 スパン 番号 | D5: S002 | M5: 写真 番号 | N5: 覆工 スパン 番号 | O5: S002
C7: 変状 番号 | D7: 5 | N7: 変状 番号 | O7: 6
B9: 変状 部位 | C9: 対象 箇所 | D9: 覆工・坑門 | M9: 変状 部位 | N9: 対象 箇所 | O9: 覆工・坑門
C11: 部位 区分 | D11: 側壁（左側） | N11: 部位 区分 | O11: アーチ（天端）
B13: 変状区分 | D13: 漏水 | M13: 変状区分 | O13: 材質劣化
B14: 変状種類 | D14: 漏水 | M14: 変状種類 | O14: うき・はく離
B15: 対策 区分 | C15: 応急措置前 | M15: 対策 区分 | N15: 応急措置前
C16: 応急措置後 | E16: Ⅰ | N16: 応急措置後 | P16: Ⅰ
B17: 健全性 | D17: Ⅰ | M17: 健全性 | O17: Ⅰ
B18: 変状の発生範囲の規模 | E18: - | M18: 変状の発生範囲の規模 | P18: 1.0m×1.0m
B19: 前回定期点検時の状態 | E19: 漏水、にじみ | M19: 前回定期点検時の状態 | P19: 0.1m×0.1mのうき
B20: 調査方針 | E20: なし | M20: 調査方針 | P20: なし
B21: 対策履歴 | E21: なし | H21: 実施状況（実施日） | M21: 対策履歴 | P21: はく落防止工 | S21: 実施状況（実施日）
B22: メモ | D22: 漏水跡 | M22: メモ | O22: はく落防止工対策済
B23: 写真 番号 | C23: 覆工 スパン 番号 | D23: S002 | M23: 写真 番号 | N23: 覆工 スパン 番号 | O23: S002
C25: 変状 番号 | D25: 7 | N25: 変状 番号 | O25: 8
B27: 変状 部位 | C27: 対象 箇所 | D27: 覆工・坑門 | M27: 変状 部位 | N27: 対象 箇所 | O27: 覆工・坑門
C29: 部位 区分 | D29: アーチ（右側） | N29: 部位 区分 | O29: アーチ（天端）
B31: 変状区分 | D31: 材質劣化 | M31: 変状区分 | O31: 材質劣化
B32: 変状種類 | D32: うき・はく離 | M32: 変状種類 | O32: うき・はく離
B33: 対策 区分 | C33: 応急措置前 | M33: 対策 区分 | N33: 応急措置前
C34: 応急措置後 | E34: Ⅰ | N34: 応急措置後 | P34: Ⅰ
B35: 健全性 | D35: Ⅰ | M35: 健全性 | O35: Ⅰ
B36: 変状の発生範囲の規模 | E36: 1.2m×1.2m | M36: 変状の発生範囲の規模 | P36: 2.8m×2.0m
B37: 前回定期点検時の状態 | E37: 0.2m×0.2mのうき | M37: 前回定期点検時の状態 | P37: 1.5m×0.9mのうき
B38: 調査方針 | E38: なし | M38: 調査方針 | P38: なし
B39: 対策履歴 | E39: はく落防止工 | H39: 実施状況（実施日） | M39: 対策履歴 | P39: はく落防止工 | S39: 実施状況（実施日）
B40: メモ | D40: はく落防止工対策済 | M40: メモ | O40: はく落防止工対策済
C41: ※ 健全性の判定区分Ⅱ～Ⅳについて添付すること。また、点検前に実施 された措置によりⅠと判定された箇所も添付すること。 | N41: ※ 変状の発生範囲の規模とは、対策を行う際に参考となる変状の長さや面積をいう。
N42: ※ 応急措置を実施しないで判定した変状の対策区分は、対策区分の応急措置後の欄に記入すること。
C43: ※ たたき落としを実施した場合は、実施後の写真を添付すること。 | N43: ※ 変状の発生範囲の規模は、面積・寸法を記載すること。
C44: ※ 画像データは100kb程度とする。 | N44: (ひび割れ幅のみmmとし、その他をm表記とする)
C45: ※ 変状数に準じてシートを追加すること。（１シートに１ページとすること。） | N45: ※ 構造用鋼材以外の異物に伴ううき・はく離については、メモ欄に異物の概要を記入すること。

Sheet 様式D-1-1 (5)
B2: ■定期点検記録様式 変状写真台帳（トンネル本体工） 【様式D-1-1】
B3: フリガナ | D3: シブキ | H3: 路 線 名 | J3: 一般国道316号 | M3: 定期点検業者 | P3: 株式会社オリエンタルコンサルタンツ | S3: 定期点検年月日 | U3: 45281
B4: 名 称 | D4: 渋木トンネル | H4: 管理者名 | J4: 長門土木建築事務所 | M4: 定期点検者名 | P4: 妹尾 優大
B5: 写真 番号 | C5: 覆工 スパン 番号 | D5: S002 | M5: 写真 番号 | N5: 覆工 スパン 番号 | O5: S002
C7: 変状 番号 | D7: 9 | N7: 変状 番号 | O7: =D$7+1 -> 10
B9: 変状 部位 | C9: 対象 箇所 | D9: 覆工・坑門 | M9: 変状 部位 | N9: 対象 箇所 | O9: 覆工・坑門
C11: 部位 区分 | D11: 横断目地（右側） | N11: 部位 区分 | O11: 横断目地（右側）
B13: 変状区分 | D13: 漏水 | M13: 変状区分 | O13: 漏水
B14: 変状種類 | D14: 補強・補修材の破損 | M14: 変状種類 | O14: 漏水
B15: 対策 区分 | C15: 応急措置前 | M15: 対策 区分 | N15: 応急措置前
C16: 応急措置後 | E16: Ⅰ | N16: 応急措置後 | P16: Ⅰ
B17: 健全性 | D17: Ⅰ | M17: 健全性 | O17: Ⅰ
B18: 変状の発生範囲の規模 | E18: - | M18: 変状の発生範囲の規模 | P18: -
B19: 前回定期点検時の状態 | E19: 0.9m×0.1mの導水工破損 | M19: 前回定期点検時の状態 | P19: 漏水、にじみ
B20: 調査方針 | E20: なし | M20: 調査方針 | P20: なし
B21: 対策履歴 | E21: 導水工の更新 | H21: 実施状況（実施日） | M21: 対策履歴 | P21: 導水工の更新 | S21: 実施状況（実施日）
B22: メモ | D22: 導水工の更新により対策済 | M22: メモ | O22: 導水工の更新により対策済
B23: 写真 番号 | C23: 覆工 スパン 番号 | D23: S002 | M23: 写真 番号 | N23: 覆工 スパン 番号 | O23: S002
C25: 変状 番号 | D25: 11 | N25: 変状 番号 | O25: 12
B27: 変状 部位 | C27: 対象 箇所 | D27: 覆工・坑門 | M27: 変状 部位 | N27: 対象 箇所 | O27: 覆工・坑門
C29: 部位 区分 | D29: 側壁（右側） | N29: 部位 区分 | O29: 水平打ち継ぎ目（右側）
B31: 変状区分 | D31: 漏水 | M31: 変状区分 | O31: 漏水
B32: 変状種類 | D32: 漏水 | M32: 変状種類 | O32: 漏水
B33: 対策 区分 | C33: 応急措置前 | M33: 対策 区分 | N33: 応急措置前
C34: 応急措置後 | E34: Ⅱb | N34: 応急措置後 | P34: Ⅰ
B35: 健全性 | D35: Ⅱ | M35: 健全性 | O35: Ⅰ
B36: 変状の発生範囲の規模 | E36: 2.0m×0.5m | M36: 変状の発生範囲の規模 | P36: -
B37: 前回定期点検時の状態 | E37: 漏水、にじみ | M37: 前回定期点検時の状態 | P37: 漏水、にじみ
B38: 調査方針 | E38: なし | M38: 調査方針 | P38: なし
B39: 対策履歴 | E39: なし | H39: 実施状況（実施日） | M39: 対策履歴 | P39: 導水工の更新 | S39: 実施状況（実施日）
B40: メモ | D40: ひび割れからの漏水、にじみ | M40: メモ | O40: 導水工の更新により対策済
C41: ※ 健全性の判定区分Ⅱ～Ⅳについて添付すること。また、点検前に実施 された措置によりⅠと判定された箇所も添付すること。 | N41: ※ 変状の発生範囲の規模とは、対策を行う際に参考となる変状の長さや面積をいう。
N42: ※ 応急措置を実施しないで判定した変状の対策区分は、対策区分の応急措置後の欄に記入すること。
C43: ※ たたき落としを実施した場合は、実施後の写真を添付すること。 | N43: ※ 変状の発生範囲の規模は、面積・寸法を記載すること。
C44: ※ 画像データは100kb程度とする。 | N44: (ひび割れ幅のみmmとし、その他をm表記とする)
C45: ※ 変状数に準じてシートを追加すること。（１シートに１ページとすること。） | N45: ※ 構造用鋼材以外の異物に伴ううき・はく離については、メモ欄に異物の概要を記入すること。

Sheet 様式D-1-1 (6)
B2: ■定期点検記録様式 変状写真台帳（トンネル本体工） 【様式D-1-1】
B3: フリガナ | D3: シブキ | H3: 路 線 名 | J3: 一般国道316号 | M3: 定期点検業者 | P3: 株式会社オリエンタルコンサルタンツ | S3: 定期点検年月日 | U3: 45281
B4: 名 称 | D4: 渋木トンネル | H4: 管理者名 | J4: 長門土木建築事務所 | M4: 定期点検者名 | P4: 妹尾 優大
B5: 写真 番号 | C5: 覆工 スパン 番号 | D5: S002 | M5: 写真 番号 | N5: 覆工 スパン 番号 | O5: S002
C7: 変状 番号 | D7: 13 | N7: 変状 番号 | O7: 14
B9: 変状 部位 | C9: 対象 箇所 | D9: 路面 | M9: 変状 部位 | N9: 対象 箇所 | O9: 路面
C11: 部位 区分 | D11: 監査歩路 | N11: 部位 区分 | O11: 側溝
B13: 変状区分 | D13: 漏水 | M13: 変状区分 | O13: 材質劣化
B14: 変状種類 | D14: 滞水 | M14: 変状種類 | O14: うき・はく離
B15: 対策 区分 | C15: 応急措置前 | M15: 対策 区分 | N15: 応急措置前
C16: 応急措置後 | E16: － | N16: 応急措置後 | P16: －
B17: 健全性 | D17: － | M17: 健全性 | O17: －
B18: 変状の発生範囲の規模 | E18: - | M18: 変状の発生範囲の規模 | P18: 0.2m×0.3m
B19: 前回定期点検時の状態 | E19: 滞水 | M19: 前回定期点検時の状態 | P19: 0.2m×0.3mのはく離
B20: 調査方針 | E20: なし | M20: 調査方針 | P20: なし
B21: 対策履歴 | E21: なし | H21: 実施状況（実施日） | M21: 対策履歴 | P21: なし | S21: 実施状況（実施日）
B22: メモ | D22: 滞水跡 | M22: メモ | O22: 側溝蓋のはく離
B23: 写真 番号 | C23: 覆工 スパン 番号 | D23: S002 | M23: 写真 番号 | N23: 覆工 スパン 番号 | O23: S003
C25: 変状 番号 | D25: 15 | N25: 変状 番号 | O25: 1
B27: 変状 部位 | C27: 対象 箇所 | D27: 路面 | M27: 変状 部位 | N27: 対象 箇所 | O27: 覆工・坑門
C29: 部位 区分 | D29: 監査歩路 | N29: 部位 区分 | O29: 横断目地（左側）
B31: 変状区分 | D31: 漏水 | M31: 変状区分 | O31: 材質劣化
B32: 変状種類 | D32: 滞水 | M32: 変状種類 | O32: うき・はく離
B33: 対策 区分 | C33: 応急措置前 | M33: 対策 区分 | N33: 応急措置前
C34: 応急措置後 | E34: － | N34: 応急措置後 | P34: Ⅰ
B35: 健全性 | D35: － | M35: 健全性 | O35: Ⅰ
B36: 変状の発生範囲の規模 | E36: - | M36: 変状の発生範囲の規模 | P36: 1.0m×1.2m
B37: 前回定期点検時の状態 | E37: 滞水 | M37: 前回定期点検時の状態 | P37: 0.4m×0.15mのうき
B38: 調査方針 | E38: なし | M38: 調査方針 | P38: なし
B39: 対策履歴 | E39: なし | H39: 実施状況（実施日） | M39: 対策履歴 | P39: はく落防止工 | S39: 実施状況（実施日）
B40: メモ | D40: 滞水跡 | M40: メモ | O40: はく落防止工対策済
C41: ※ 健全性の判定区分Ⅱ～Ⅳについて添付すること。また、点検前に実施 された措置によりⅠと判定された箇所も添付すること。 | N41: ※ 変状の発生範囲の規模とは、対策を行う際に参考となる変状の長さや面積をいう。
N42: ※ 応急措置を実施しないで判定した変状の対策区分は、対策区分の応急措置後の欄に記入すること。
C43: ※ たたき落としを実施した場合は、実施後の写真を添付すること。 | N43: ※ 変状の発生範囲の規模は、面積・寸法を記載すること。
C44: ※ 画像データは100kb程度とする。 | N44: (ひび割れ幅のみmmとし、その他をm表記とする)
C45: ※ 変状数に準じてシートを追加すること。（１シートに１ページとすること。） | N45: ※ 構造用鋼材以外の異物に伴ううき・はく離については、メモ欄に異物の概要を記入すること。

Sheet 様式D-1-1 (7)
B2: ■定期点検記録様式 変状写真台帳（トンネル本体工） 【様式D-1-1】
B3: フリガナ | D3: シブキ | H3: 路 線 名 | J3: 一般国道316号 | M3: 定期点検業者 | P3: 株式会社オリエンタルコンサルタンツ | S3: 定期点検年月日 | U3: 45281
B4: 名 称 | D4: 渋木トンネル | H4: 管理者名 | J4: 長門土木建築事務所 | M4: 定期点検者名 | P4: 妹尾 優大
B5: 写真 番号 | C5: 覆工 スパン 番号 | D5: S003 | M5: 写真 番号 | N5: 覆工 スパン 番号 | O5: S003
C7: 変状 番号 | D7: 2 | N7: 変状 番号 | O7: 3
B9: 変状 部位 | C9: 対象 箇所 | D9: 覆工・坑門 | M9: 変状 部位 | N9: 対象 箇所 | O9: 覆工・坑門
C11: 部位 区分 | D11: 水平打ち継ぎ目（左側） | N11: 部位 区分 | O11: 水平打ち継ぎ目（左側）
B13: 変状区分 | D13: 材質劣化 | M13: 変状区分 | O13: 漏水
B14: 変状種類 | D14: うき・はく離 | M14: 変状種類 | O14: 漏水
B15: 対策 区分 | C15: 応急措置前 | M15: 対策 区分 | N15: 応急措置前
C16: 応急措置後 | E16: Ⅰ | N16: 応急措置後 | P16: Ⅱb
B17: 健全性 | D17: Ⅰ | M17: 健全性 | O17: Ⅱ
B18: 変状の発生範囲の規模 | E18: 0.6m×8.6m | M18: 変状の発生範囲の規模 | P18: 2.5m×0.5m
B19: 前回定期点検時の状態 | E19: 0.1m×7.4mのうき | M19: 前回定期点検時の状態 | P19: -
B20: 調査方針 | E20: なし | M20: 調査方針 | P20: なし
B21: 対策履歴 | E21: はく落防止工 | H21: 実施状況（実施日） | M21: 対策履歴 | P21: なし | S21: 実施状況（実施日）
B22: メモ | D22: はく落防止工対策済 | M22: メモ | O22: 導水工からの漏水、にじみ
B23: 写真 番号 | C23: 覆工 スパン 番号 | D23: S003 | M23: 写真 番号 | N23: 覆工 スパン 番号 | O23: S003
C25: 変状 番号 | D25: 4 | N25: 変状 番号 | O25: 5
B27: 変状 部位 | C27: 対象 箇所 | D27: 覆工・坑門 | M27: 変状 部位 | N27: 対象 箇所 | O27: 覆工・坑門
C29: 部位 区分 | D29: 横断目地（天端） | N29: 部位 区分 | O29: 横断目地（左側）
B31: 変状区分 | D31: 材質劣化 | M31: 変状区分 | O31: 漏水
B32: 変状種類 | D32: うき・はく離 | M32: 変状種類 | O32: 漏水
B33: 対策 区分 | C33: 応急措置前 | M33: 対策 区分 | N33: 応急措置前
C34: 応急措置後 | E34: Ⅰ | N34: 応急措置後 | P34: Ⅱb
B35: 健全性 | D35: Ⅰ | M35: 健全性 | O35: Ⅱ
B36: 変状の発生範囲の規模 | E36: 7.8m×1.0m | M36: 変状の発生範囲の規模 | P36: 5.8m×0.5m
B37: 前回定期点検時の状態 | E37: 0.3m×0.15m、1.3m×0.2m、1.6m×0.1m、0.8m×0.15mのうき | M37: 前回定期点検時の状態 | P37: 漏水、にじみ
B38: 調査方針 | E38: なし | M38: 調査方針 | P38: なし
B39: 対策履歴 | E39: はく落防止工 | H39: 実施状況（実施日） | M39: 対策履歴 | P39: なし | S39: 実施状況（実施日）
B40: メモ | D40: はく落防止工対策済 | M40: メモ | O40: 導水工からの漏水、にじみ
C41: ※ 健全性の判定区分Ⅱ～Ⅳについて添付すること。また、点検前に実施 された措置によりⅠと判定された箇所も添付すること。 | N41: ※ 変状の発生範囲の規模とは、対策を行う際に参考となる変状の長さや面積をいう。
N42: ※ 応急措置を実施しないで判定した変状の対策区分は、対策区分の応急措置後の欄に記入すること。
C43: ※ たたき落としを実施した場合は、実施後の写真を添付すること。 | N43: ※ 変状の発生範囲の規模は、面積・寸法を記載すること。
C44: ※ 画像データは100kb程度とする。 | N44: (ひび割れ幅のみmmとし、その他をm表記とする)
C45: ※ 変状数に準じてシートを追加すること。（１シートに１ページとすること。） | N45: ※ 構造用鋼材以外の異物に伴ううき・はく離については、メモ欄に異物の概要を記入すること。

Sheet 様式D-1-1 (8)
B2: ■定期点検記録様式 変状写真台帳（トンネル本体工） 【様式D-1-1】
B3: フリガナ | D3: シブキ | H3: 路 線 名 | J3: 一般国道316号 | M3: 定期点検業者 | P3: 株式会社オリエンタルコンサルタンツ | S3: 定期点検年月日 | U3: 45281
B4: 名 称 | D4: 渋木トンネル | H4: 管理者名 | J4: 長門土木建築事務所 | M4: 定期点検者名 | P4: 妹尾 優大
B5: 写真 番号 | C5: 覆工 スパン 番号 | D5: S003 | M5: 写真 番号 | N5: 覆工 スパン 番号 | O5: S003
C7: 変状 番号 | D7: 6 | N7: 変状 番号 | O7: 7
B9: 変状 部位 | C9: 対象 箇所 | D9: 覆工・坑門 | M9: 変状 部位 | N9: 対象 箇所 | O9: 覆工・坑門
C11: 部位 区分 | D11: 水平打ち継ぎ目（右側） | N11: 部位 区分 | O11: 水平打ち継ぎ目（右側）
B13: 変状区分 | D13: 漏水 | M13: 変状区分 | O13: 材質劣化
B14: 変状種類 | D14: 漏水 | M14: 変状種類 | O14: うき・はく離
B15: 対策 区分 | C15: 応急措置前 | M15: 対策 区分 | N15: 応急措置前
C16: 応急措置後 | E16: Ⅰ | N16: 応急措置後 | P16: Ⅰ
B17: 健全性 | D17: Ⅰ | M17: 健全性 | O17: Ⅰ
B18: 変状の発生範囲の規模 | E18: - | M18: 変状の発生範囲の規模 | P18: 0.6m×11.0m
B19: 前回定期点検時の状態 | E19: 漏水、にじみ | M19: 前回定期点検時の状態 | P19: 0.1m×10.5mのうき
B20: 調査方針 | E20: なし | M20: 調査方針 | P20: なし
B21: 対策履歴 | E21: なし | H21: 実施状況（実施日） | M21: 対策履歴 | P21: はく落防止工 | S21: 実施状況（実施日）
B22: メモ | D22: 漏水跡 | M22: メモ | O22: はく落防止工対策済
B23: 写真 番号 | C23: 覆工 スパン 番号 | D23: S003 | M23: 写真 番号 | N23: 覆工 スパン 番号 | O23: S003
C25: 変状 番号 | D25: 8 | N25: 変状 番号 | O25: 9
B27: 変状 部位 | C27: 対象 箇所 | D27: 路面 | M27: 変状 部位 | N27: 対象 箇所 | O27: 路面
C29: 部位 区分 | D29: 側溝 | N29: 部位 区分 | O29: 側溝
B31: 変状区分 | D31: 材質劣化 | M31: 変状区分 | O31: 材質劣化
B32: 変状種類 | D32: うき・はく離 | M32: 変状種類 | O32: うき・はく離
B33: 対策 区分 | C33: 応急措置前 | M33: 対策 区分 | N33: 応急措置前
C34: 応急措置後 | E34: － | N34: 応急措置後 | P34: －
B35: 健全性 | D35: － | M35: 健全性 | O35: －
B36: 変状の発生範囲の規模 | E36: 0.3m×0.1m | M36: 変状の発生範囲の規模 | P36: 0.25m×0.2m
B37: 前回定期点検時の状態 | E37: 0.3m×0.1mのはく離 | M37: 前回定期点検時の状態 | P37: 0.27m×0.2mのはく離
B38: 調査方針 | E38: なし | M38: 調査方針 | P38: なし
B39: 対策履歴 | E39: なし | H39: 実施状況（実施日） | M39: 対策履歴 | P39: なし | S39: 実施状況（実施日）
B40: メモ | D40: 側溝蓋のはく離 | M40: メモ | O40: 側溝蓋のはく離
C41: ※ 健全性の判定区分Ⅱ～Ⅳについて添付すること。また、点検前に実施 された措置によりⅠと判定された箇所も添付すること。 | N41: ※ 変状の発生範囲の規模とは、対策を行う際に参考となる変状の長さや面積をいう。
N42: ※ 応急措置を実施しないで判定した変状の対策区分は、対策区分の応急措置後の欄に記入すること。
C43: ※ たたき落としを実施した場合は、実施後の写真を添付すること。 | N43: ※ 変状の発生範囲の規模は、面積・寸法を記載すること。
C44: ※ 画像データは100kb程度とする。 | N44: (ひび割れ幅のみmmとし、その他をm表記とする)
C45: ※ 変状数に準じてシートを追加すること。（１シートに１ページとすること。） | N45: ※ 構造用鋼材以外の異物に伴ううき・はく離については、メモ欄に異物の概要を記入すること。

Sheet 様式D-1-1 (9)
B2: ■定期点検記録様式 変状写真台帳（トンネル本体工） 【様式D-1-1】
B3: フリガナ | D3: シブキ | H3: 路 線 名 | J3: 一般国道316号 | M3: 定期点検業者 | P3: 株式会社オリエンタルコンサルタンツ | S3: 定期点検年月日 | U3: 45281
B4: 名 称 | D4: 渋木トンネル | H4: 管理者名 | J4: 長門土木建築事務所 | M4: 定期点検者名 | P4: 妹尾 優大
B5: 写真 番号 | C5: 覆工 スパン 番号 | D5: S003 | M5: 写真 番号 | N5: 覆工 スパン 番号 | O5: S003
C7: 変状 番号 | D7: 10 | N7: 変状 番号 | O7: 11
B9: 変状 部位 | C9: 対象 箇所 | D9: 路面 | M9: 変状 部位 | N9: 対象 箇所 | O9: 路面
C11: 部位 区分 | D11: 側溝 | N11: 部位 区分 | O11: 側溝
B13: 変状区分 | D13: 材質劣化 | M13: 変状区分 | O13: 材質劣化
B14: 変状種類 | D14: うき・はく離 | M14: 変状種類 | O14: うき・はく離
B15: 対策 区分 | C15: 応急措置前 | M15: 対策 区分 | N15: 応急措置前
C16: 応急措置後 | E16: － | N16: 応急措置後 | P16: －
B17: 健全性 | D17: － | M17: 健全性 | O17: －
B18: 変状の発生範囲の規模 | E18: 0.3m×0.1m | M18: 変状の発生範囲の規模 | P18: 0.3m×0.2m
B19: 前回定期点検時の状態 | E19: 0.3m×0.1mのはく離 | M19: 前回定期点検時の状態 | P19: 0.3m×0.2mのはく離
B20: 調査方針 | E20: なし | M20: 調査方針 | P20: なし
B21: 対策履歴 | E21: なし | H21: 実施状況（実施日） | M21: 対策履歴 | P21: なし | S21: 実施状況（実施日）
B22: メモ | D22: 側溝蓋のはく離 | M22: メモ | O22: 側溝蓋のはく離
B23: 写真 番号 | C23: 覆工 スパン 番号 | D23: S003 | M23: 写真 番号 | N23: 覆工 スパン 番号 | O23: S003
C25: 変状 番号 | D25: 12 | N25: 変状 番号 | O25: 13
B27: 変状 部位 | C27: 対象 箇所 | D27: 路面 | M27: 変状 部位 | N27: 対象 箇所 | O27: 路面
C29: 部位 区分 | D29: 側溝 | N29: 部位 区分 | O29: 監査歩路
B31: 変状区分 | D31: 材質劣化 | M31: 変状区分 | O31: 漏水
B32: 変状種類 | D32: うき・はく離 | M32: 変状種類 | O32: 滞水
B33: 対策 区分 | C33: 応急措置前 | M33: 対策 区分 | N33: 応急措置前
C34: 応急措置後 | E34: － | N34: 応急措置後 | P34: －
B35: 健全性 | D35: － | M35: 健全性 | O35: －
B36: 変状の発生範囲の規模 | E36: 0.3m×0.2m、0.35m×0.1m | M36: 変状の発生範囲の規模 | P36: -
B37: 前回定期点検時の状態 | E37: 0.3m×0.2m、0.35m×0.1mのはく離 | M37: 前回定期点検時の状態 | P37: 滞水
B38: 調査方針 | E38: なし | M38: 調査方針 | P38: なし
B39: 対策履歴 | E39: なし | H39: 実施状況（実施日） | M39: 対策履歴 | P39: なし | S39: 実施状況（実施日）
B40: メモ | D40: 側溝蓋のはく離 | M40: メモ | O40: 滞水跡
C41: ※ 健全性の判定区分Ⅱ～Ⅳについて添付すること。また、点検前に実施 された措置によりⅠと判定された箇所も添付すること。 | N41: ※ 変状の発生範囲の規模とは、対策を行う際に参考となる変状の長さや面積をいう。
N42: ※ 応急措置を実施しないで判定した変状の対策区分は、対策区分の応急措置後の欄に記入すること。
C43: ※ たたき落としを実施した場合は、実施後の写真を添付すること。 | N43: ※ 変状の発生範囲の規模は、面積・寸法を記載すること。
C44: ※ 画像データは100kb程度とする。 | N44: (ひび割れ幅のみmmとし、その他をm表記とする)
C45: ※ 変状数に準じてシートを追加すること。（１シートに１ページとすること。） | N45: ※ 構造用鋼材以外の異物に伴ううき・はく離については、メモ欄に異物の概要を記入すること。

Sheet 様式D-1-1 (10)
B2: ■定期点検記録様式 変状写真台帳（トンネル本体工） 【様式D-1-1】
B3: フリガナ | D3: シブキ | H3: 路 線 名 | J3: 一般国道316号 | M3: 定期点検業者 | P3: 株式会社オリエンタルコンサルタンツ | S3: 定期点検年月日 | U3: 45281
B4: 名 称 | D4: 渋木トンネル | H4: 管理者名 | J4: 長門土木建築事務所 | M4: 定期点検者名 | P4: 妹尾 優大
B5: 写真 番号 | C5: 覆工 スパン 番号 | D5: S004 | M5: 写真 番号 | N5: 覆工 スパン 番号 | O5: S004
C7: 変状 番号 | D7: 1 | N7: 変状 番号 | O7: 2
B9: 変状 部位 | C9: 対象 箇所 | D9: 覆工・坑門 | M9: 変状 部位 | N9: 対象 箇所 | O9: 覆工・坑門
C11: 部位 区分 | D11: 水平打ち継ぎ目（左側） | N11: 部位 区分 | O11: アーチ（天端）
B13: 変状区分 | D13: 材質劣化 | M13: 変状区分 | O13: 材質劣化
B14: 変状種類 | D14: うき・はく離 | M14: 変状種類 | O14: うき・はく離
B15: 対策 区分 | C15: 応急措置前 | M15: 対策 区分 | N15: 応急措置前
C16: 応急措置後 | E16: Ⅰ | N16: 応急措置後 | P16: Ⅰ
B17: 健全性 | D17: Ⅰ | M17: 健全性 | O17: Ⅰ
B18: 変状の発生範囲の規模 | E18: 0.6m×3.6m | M18: 変状の発生範囲の規模 | P18: 1.1m×1.2m
B19: 前回定期点検時の状態 | E19: 0.1m×1.4m、0.1m×1.1mのうき | M19: 前回定期点検時の状態 | P19: 0.1m×0.2mのうき
B20: 調査方針 | E20: なし | M20: 調査方針 | P20: なし
B21: 対策履歴 | E21: はく落防止工 | H21: 実施状況（実施日） | M21: 対策履歴 | P21: はく落防止工 | S21: 実施状況（実施日）
B22: メモ | D22: はく落防止工対策済 | M22: メモ | O22: はく落防止工対策済
B23: 写真 番号 | C23: 覆工 スパン 番号 | D23: S004 | M23: 写真 番号 | N23: 覆工 スパン 番号 | O23: S004
C25: 変状 番号 | D25: 3 | N25: 変状 番号 | O25: 4
B27: 変状 部位 | C27: 対象 箇所 | D27: 覆工・坑門 | M27: 変状 部位 | N27: 対象 箇所 | O27: 覆工・坑門
C29: 部位 区分 | D29: 横断目地（左側） | N29: 部位 区分 | O29: 横断目地（天端）
B31: 変状区分 | D31: 材質劣化 | M31: 変状区分 | O31: 材質劣化
B32: 変状種類 | D32: うき・はく離 | M32: 変状種類 | O32: うき・はく離
B33: 対策 区分 | C33: 応急措置前 | M33: 対策 区分 | N33: 応急措置前
C34: 応急措置後 | E34: Ⅰ | N34: 応急措置後 | P34: Ⅰ
B35: 健全性 | D35: Ⅰ | M35: 健全性 | O35: Ⅰ
B36: 変状の発生範囲の規模 | E36: 1.1m×1.0m | M36: 変状の発生範囲の規模 | P36: 1.3m×1.2m
B37: 前回定期点検時の状態 | E37: 0.1m×0.1mのうき | M37: 前回定期点検時の状態 | P37: 0.2m×0.1mのうき
B38: 調査方針 | E38: なし | M38: 調査方針 | P38: なし
B39: 対策履歴 | E39: はく落防止工 | H39: 実施状況（実施日） | M39: 対策履歴 | P39: はく落防止工 | S39: 実施状況（実施日）
B40: メモ | D40: はく落防止工対策済 | M40: メモ | O40: はく落防止工対策済
C41: ※ 健全性の判定区分Ⅱ～Ⅳについて添付すること。また、点検前に実施 された措置によりⅠと判定された箇所も添付すること。 | N41: ※ 変状の発生範囲の規模とは、対策を行う際に参考となる変状の長さや面積をいう。
N42: ※ 応急措置を実施しないで判定した変状の対策区分は、対策区分の応急措置後の欄に記入すること。
C43: ※ たたき落としを実施した場合は、実施後の写真を添付すること。 | N43: ※ 変状の発生範囲の規模は、面積・寸法を記載すること。
C44: ※ 画像データは100kb程度とする。 | N44: (ひび割れ幅のみmmとし、その他をm表記とする)
C45: ※ 変状数に準じてシートを追加すること。（１シートに１ページとすること。） | N45: ※ 構造用鋼材以外の異物に伴ううき・はく離については、メモ欄に異物の概要を記入すること。

Sheet 様式D-1-1 (11)
B2: ■定期点検記録様式 変状写真台帳（トンネル本体工） 【様式D-1-1】
B3: フリガナ | D3: シブキ | H3: 路 線 名 | J3: 一般国道316号 | M3: 定期点検業者 | P3: 株式会社オリエンタルコンサルタンツ | S3: 定期点検年月日 | U3: 45281
B4: 名 称 | D4: 渋木トンネル | H4: 管理者名 | J4: 長門土木建築事務所 | M4: 定期点検者名 | P4: 妹尾 優大
B5: 写真 番号 | C5: 覆工 スパン 番号 | D5: S004 | M5: 写真 番号 | N5: 覆工 スパン 番号 | O5: S004
C7: 変状 番号 | D7: 5 | N7: 変状 番号 | O7: 6
B9: 変状 部位 | C9: 対象 箇所 | D9: 覆工・坑門 | M9: 変状 部位 | N9: 対象 箇所 | O9: 覆工・坑門
C11: 部位 区分 | D11: 横断目地（右側） | N11: 部位 区分 | O11: 水平打ち継ぎ目（右側）
B13: 変状区分 | D13: 材質劣化 | M13: 変状区分 | O13: 材質劣化
B14: 変状種類 | D14: うき・はく離 | M14: 変状種類 | O14: うき・はく離
B15: 対策 区分 | C15: 応急措置前 | M15: 対策 区分 | N15: 応急措置前
C16: 応急措置後 | E16: Ⅰ | N16: 応急措置後 | P16: Ⅰ
B17: 健全性 | D17: Ⅰ | M17: 健全性 | O17: Ⅰ
B18: 変状の発生範囲の規模 | E18: 2.0m×1.0m | M18: 変状の発生範囲の規模 | P18: 0.6m×10.65m
B19: 前回定期点検時の状態 | E19: 0.2m×0.1m、0.1m×0.1mのはく落 | M19: 前回定期点検時の状態 | P19: 0.1m×10.3mのうき
B20: 調査方針 | E20: なし | M20: 調査方針 | P20: なし
B21: 対策履歴 | E21: はく落防止工 | H21: 実施状況（実施日） | M21: 対策履歴 | P21: はく落防止工 | S21: 実施状況（実施日）
B22: メモ | D22: はく落防止工対策済 | M22: メモ | O22: はく落防止工対策済
B23: 写真 番号 | C23: 覆工 スパン 番号 | D23: S004 | M23: 写真 番号 | N23: 覆工 スパン 番号 | O23: S004
C25: 変状 番号 | D25: 7 | N25: 変状 番号 | O25: 8
B27: 変状 部位 | C27: 対象 箇所 | D27: 路面 | M27: 変状 部位 | N27: 対象 箇所 | O27: 路面
C29: 部位 区分 | D29: 側溝 | N29: 部位 区分 | O29: 側溝
B31: 変状区分 | D31: 材質劣化 | M31: 変状区分 | O31: 材質劣化
B32: 変状種類 | D32: うき・はく離 | M32: 変状種類 | O32: うき・はく離
B33: 対策 区分 | C33: 応急措置前 | M33: 対策 区分 | N33: 応急措置前
C34: 応急措置後 | E34: － | N34: 応急措置後 | P34: －
B35: 健全性 | D35: － | M35: 健全性 | O35: －
B36: 変状の発生範囲の規模 | E36: 0.5m×0.2m | M36: 変状の発生範囲の規模 | P36: 0.3m×0.3m
B37: 前回定期点検時の状態 | E37: 0.35m×0.2mのはく離 | M37: 前回定期点検時の状態 | P37: 0.3m×0.3mのはく離
B38: 調査方針 | E38: なし | M38: 調査方針 | P38: なし
B39: 対策履歴 | E39: なし | H39: 実施状況（実施日） | M39: 対策履歴 | P39: なし | S39: 実施状況（実施日）
B40: メモ | D40: 側溝蓋のはく離 | M40: メモ | O40: 側溝蓋のはく離
C41: ※ 健全性の判定区分Ⅱ～Ⅳについて添付すること。また、点検前に実施 された措置によりⅠと判定された箇所も添付すること。 | N41: ※ 変状の発生範囲の規模とは、対策を行う際に参考となる変状の長さや面積をいう。
N42: ※ 応急措置を実施しないで判定した変状の対策区分は、対策区分の応急措置後の欄に記入すること。
C43: ※ たたき落としを実施した場合は、実施後の写真を添付すること。 | N43: ※ 変状の発生範囲の規模は、面積・寸法を記載すること。
C44: ※ 画像データは100kb程度とする。 | N44: (ひび割れ幅のみmmとし、その他をm表記とする)
C45: ※ 変状数に準じてシートを追加すること。（１シートに１ページとすること。） | N45: ※ 構造用鋼材以外の異物に伴ううき・はく離については、メモ欄に異物の概要を記入すること。

Sheet 様式D-1-1 (12)
B2: ■定期点検記録様式 変状写真台帳（トンネル本体工） 【様式D-1-1】
B3: フリガナ | D3: シブキ | H3: 路 線 名 | J3: 一般国道316号 | M3: 定期点検業者 | P3: 株式会社オリエンタルコンサルタンツ | S3: 定期点検年月日 | U3: 45281
B4: 名 称 | D4: 渋木トンネル | H4: 管理者名 | J4: 長門土木建築事務所 | M4: 定期点検者名 | P4: 妹尾 優大
B5: 写真 番号 | C5: 覆工 スパン 番号 | D5: S004 | M5: 写真 番号 | N5: 覆工 スパン 番号 | O5: S004
C7: 変状 番号 | D7: 9 | N7: 変状 番号 | O7: 10
B9: 変状 部位 | C9: 対象 箇所 | D9: 路面 | M9: 変状 部位 | N9: 対象 箇所 | O9: 路面
C11: 部位 区分 | D11: 側溝 | N11: 部位 区分 | O11: 側溝
B13: 変状区分 | D13: 材質劣化 | M13: 変状区分 | O13: 材質劣化
B14: 変状種類 | D14: うき・はく離 | M14: 変状種類 | O14: うき・はく離
B15: 対策 区分 | C15: 応急措置前 | M15: 対策 区分 | N15: 応急措置前
C16: 応急措置後 | E16: － | N16: 応急措置後 | P16: －
B17: 健全性 | D17: － | M17: 健全性 | O17: －
B18: 変状の発生範囲の規模 | E18: 0.4m×0.25m | M18: 変状の発生範囲の規模 | P18: 0.3m×0.15m
B19: 前回定期点検時の状態 | E19: 0.4m×0.25mのうき | M19: 前回定期点検時の状態 | P19: 0.3m×0.15mのはく離
B20: 調査方針 | E20: なし | M20: 調査方針 | P20: なし
B21: 対策履歴 | E21: なし | H21: 実施状況（実施日） | M21: 対策履歴 | P21: なし | S21: 実施状況（実施日）
B22: メモ | D22: 側溝蓋のうき | M22: メモ | O22: 側溝蓋のはく離
B23: 写真 番号 | C23: 覆工 スパン 番号 | D23: S005 | M23: 写真 番号 | N23: 覆工 スパン 番号 | O23: S005
C25: 変状 番号 | D25: 1 | N25: 変状 番号 | O25: 2
B27: 変状 部位 | C27: 対象 箇所 | D27: 覆工・坑門 | M27: 変状 部位 | N27: 対象 箇所 | O27: 覆工・坑門
C29: 部位 区分 | D29: 水平打ち継ぎ目（左側） | N29: 部位 区分 | O29: 水平打ち継ぎ目（左側）
B31: 変状区分 | D31: 材質劣化 | M31: 変状区分 | O31: 材質劣化
B32: 変状種類 | D32: うき・はく離 | M32: 変状種類 | O32: うき・はく離
B33: 対策 区分 | C33: 応急措置前 | M33: 対策 区分 | N33: 応急措置前
C34: 応急措置後 | E34: Ⅰ | N34: 応急措置後 | P34: Ⅰ
B35: 健全性 | D35: Ⅰ | M35: 健全性 | O35: Ⅰ
B36: 変状の発生範囲の規模 | E36: 0.6m×4.0m | M36: 変状の発生範囲の規模 | P36: 0.6m×1.2m
B37: 前回定期点検時の状態 | E37: 0.1m×3.5mのうき | M37: 前回定期点検時の状態 | P37: 0.1m×0.8mのうき
B38: 調査方針 | E38: なし | M38: 調査方針 | P38: なし
B39: 対策履歴 | E39: はく落防止工 | H39: 実施状況（実施日） | M39: 対策履歴 | P39: はく落防止工 | S39: 実施状況（実施日）
B40: メモ | D40: はく落防止工対策済 | M40: メモ | O40: はく落防止工対策済
C41: ※ 健全性の判定区分Ⅱ～Ⅳについて添付すること。また、点検前に実施 された措置によりⅠと判定された箇所も添付すること。 | N41: ※ 変状の発生範囲の規模とは、対策を行う際に参考となる変状の長さや面積をいう。
N42: ※ 応急措置を実施しないで判定した変状の対策区分は、対策区分の応急措置後の欄に記入すること。
C43: ※ たたき落としを実施した場合は、実施後の写真を添付すること。 | N43: ※ 変状の発生範囲の規模は、面積・寸法を記載すること。
C44: ※ 画像データは100kb程度とする。 | N44: (ひび割れ幅のみmmとし、その他をm表記とする)
C45: ※ 変状数に準じてシートを追加すること。（１シートに１ページとすること。） | N45: ※ 構造用鋼材以外の異物に伴ううき・はく離については、メモ欄に異物の概要を記入すること。

Sheet 様式D-1-1 (13)
B2: ■定期点検記録様式 変状写真台帳（トンネル本体工） 【様式D-1-1】
B3: フリガナ | D3: シブキ | H3: 路 線 名 | J3: 一般国道316号 | M3: 定期点検業者 | P3: 株式会社オリエンタルコンサルタンツ | S3: 定期点検年月日 | U3: 45281
B4: 名 称 | D4: 渋木トンネル | H4: 管理者名 | J4: 長門土木建築事務所 | M4: 定期点検者名 | P4: 妹尾 優大
B5: 写真 番号 | C5: 覆工 スパン 番号 | D5: S005 | M5: 写真 番号 | N5: 覆工 スパン 番号 | O5: S005
C7: 変状 番号 | D7: 3 | N7: 変状 番号 | O7: 4
B9: 変状 部位 | C9: 対象 箇所 | D9: 覆工・坑門 | M9: 変状 部位 | N9: 対象 箇所 | O9: 覆工・坑門
C11: 部位 区分 | D11: 水平打ち継ぎ目（左側） | N11: 部位 区分 | O11: 水平打ち継ぎ目（左側）
B13: 変状区分 | D13: 材質劣化 | M13: 変状区分 | O13: 漏水
B14: 変状種類 | D14: うき・はく離 | M14: 変状種類 | O14: 漏水
B15: 対策 区分 | C15: 応急措置前 | M15: 対策 区分 | N15: 応急措置前
C16: 応急措置後 | E16: Ⅰ | N16: 応急措置後 | P16: Ⅱb
B17: 健全性 | D17: Ⅰ | M17: 健全性 | O17: Ⅱ
B18: 変状の発生範囲の規模 | E18: - | M18: 変状の発生範囲の規模 | P18: 2.5m×0.5m
B19: 前回定期点検時の状態 | E19: 0.1m×1.2mのうき | M19: 前回定期点検時の状態 | P19: 漏水、にじみ
B20: 調査方針 | E20: なし | M20: 調査方針 | P20: なし
B21: 対策履歴 | E21: 導水工 | H21: 実施状況（実施日） | M21: 対策履歴 | P21: なし | S21: 実施状況（実施日）
B22: メモ | D22: 導水工新設により対策済 | M22: メモ | O22: 導水工からの漏水、にじみ
B23: 写真 番号 | C23: 覆工 スパン 番号 | D23: S005 | M23: 写真 番号 | N23: 覆工 スパン 番号 | O23: S005
C25: 変状 番号 | D25: 5 | N25: 変状 番号 | O25: 6
B27: 変状 部位 | C27: 対象 箇所 | D27: 覆工・坑門 | M27: 変状 部位 | N27: 対象 箇所 | O27: 覆工・坑門
C29: 部位 区分 | D29: アーチ（天端） | N29: 部位 区分 | O29: アーチ（左側）
B31: 変状区分 | D31: 材質劣化 | M31: 変状区分 | O31: 漏水
B32: 変状種類 | D32: その他 | M32: 変状種類 | O32: 漏水
B33: 対策 区分 | C33: 応急措置前 | M33: 対策 区分 | N33: 応急措置前
C34: 応急措置後 | E34: Ⅰ | N34: 応急措置後 | P34: Ⅱb
B35: 健全性 | D35: Ⅰ | M35: 健全性 | O35: Ⅱ
B36: 変状の発生範囲の規模 | E36: 1.2m×1.5m | M36: 変状の発生範囲の規模 | P36: 7.0m×1.0m
B37: 前回定期点検時の状態 | E37: 0.2m×0.6mの豆板 | M37: 前回定期点検時の状態 | P37: 漏水、にじみ
B38: 調査方針 | E38: なし | M38: 調査方針 | P38: なし
B39: 対策履歴 | E39: はく落防止工 | H39: 実施状況（実施日） | M39: 対策履歴 | P39: なし | S39: 実施状況（実施日）
B40: メモ | D40: はく落防止工対策済 | M40: メモ | O40: ひび割れからの漏水、にじみ
C41: ※ 健全性の判定区分Ⅱ～Ⅳについて添付すること。また、点検前に実施 された措置によりⅠと判定された箇所も添付すること。 | N41: ※ 変状の発生範囲の規模とは、対策を行う際に参考となる変状の長さや面積をいう。
N42: ※ 応急措置を実施しないで判定した変状の対策区分は、対策区分の応急措置後の欄に記入すること。
C43: ※ たたき落としを実施した場合は、実施後の写真を添付すること。 | N43: ※ 変状の発生範囲の規模は、面積・寸法を記載すること。
C44: ※ 画像データは100kb程度とする。 | N44: (ひび割れ幅のみmmとし、その他をm表記とする)
C45: ※ 変状数に準じてシートを追加すること。（１シートに１ページとすること。） | N45: ※ 構造用鋼材以外の異物に伴ううき・はく離については、メモ欄に異物の概要を記入すること。

Sheet 様式D-1-1 (14)
B2: ■定期点検記録様式 変状写真台帳（トンネル本体工） 【様式D-1-1】
B3: フリガナ | D3: シブキ | H3: 路 線 名 | J3: 一般国道316号 | M3: 定期点検業者 | P3: 株式会社オリエンタルコンサルタンツ | S3: 定期点検年月日 | U3: 45281
B4: 名 称 | D4: 渋木トンネル | H4: 管理者名 | J4: 長門土木建築事務所 | M4: 定期点検者名 | P4: 妹尾 優大
B5: 写真 番号 | C5: 覆工 スパン 番号 | D5: S005 | M5: 写真 番号 | N5: 覆工 スパン 番号 | O5: S005
C7: 変状 番号 | D7: 7 | N7: 変状 番号 | O7: 8
B9: 変状 部位 | C9: 対象 箇所 | D9: 覆工・坑門 | M9: 変状 部位 | N9: 対象 箇所 | O9: 覆工・坑門
C11: 部位 区分 | D11: アーチ（天端） | N11: 部位 区分 | O11: アーチ（天端）
B13: 変状区分 | D13: 材質劣化 | M13: 変状区分 | O13: 材質劣化
B14: 変状種類 | D14: うき・はく離 | M14: 変状種類 | O14: その他
B15: 対策 区分 | C15: 応急措置前 | M15: 対策 区分 | N15: 応急措置前
C16: 応急措置後 | E16: Ⅰ | N16: 応急措置後 | P16: Ⅰ
B17: 健全性 | D17: Ⅰ | M17: 健全性 | O17: Ⅰ
B18: 変状の発生範囲の規模 | E18: 5.2m×3.0m | M18: 変状の発生範囲の規模 | P18: 1.2m×1.2m
B19: 前回定期点検時の状態 | E19: 0.7m×0.4mのうき、漏水、にじみ | M19: 前回定期点検時の状態 | P19: φ0.15mの豆板
B20: 調査方針 | E20: なし | M20: 調査方針 | P20: なし
B21: 対策履歴 | E21: はく落防止工 | H21: 実施状況（実施日） | M21: 対策履歴 | P21: はく落防止工 | S21: 実施状況（実施日）
B22: メモ | D22: はく落防止工対策済 | M22: メモ | O22: はく落防止工対策済
B23: 写真 番号 | C23: 覆工 スパン 番号 | D23: S005 | M23: 写真 番号 | N23: 覆工 スパン 番号 | O23: S005
C25: 変状 番号 | D25: 9 | N25: 変状 番号 | O25: 10
B27: 変状 部位 | C27: 対象 箇所 | D27: 覆工・坑門 | M27: 変状 部位 | N27: 対象 箇所 | O27: 覆工・坑門
C29: 部位 区分 | D29: 水平打ち継ぎ目（右側） | N29: 部位 区分 | O29: 水平打ち継ぎ目（右側）
B31: 変状区分 | D31: 材質劣化 | M31: 変状区分 | O31: 材質劣化
B32: 変状種類 | D32: うき・はく離 | M32: 変状種類 | O32: うき・はく離
B33: 対策 区分 | C33: 応急措置前 | M33: 対策 区分 | N33: 応急措置前
C34: 応急措置後 | E34: Ⅰ | N34: 応急措置後 | P34: Ⅰ
B35: 健全性 | D35: Ⅰ | M35: 健全性 | O35: Ⅰ
B36: 変状の発生範囲の規模 | E36: 0.6m×5.1m | M36: 変状の発生範囲の規模 | P36: 0.6m×3.1m
B37: 前回定期点検時の状態 | E37: 0.1m×4.9mのうき | M37: 前回定期点検時の状態 | P37: 0.1m×1.2m、0.1m×0.8mのうき
B38: 調査方針 | E38: なし | M38: 調査方針 | P38: なし
B39: 対策履歴 | E39: はく落防止工 | H39: 実施状況（実施日） | M39: 対策履歴 | P39: はく落防止工 | S39: 実施状況（実施日）
B40: メモ | D40: はく落防止工対策済 | M40: メモ | O40: はく落防止工対策済
C41: ※ 健全性の判定区分Ⅱ～Ⅳについて添付すること。また、点検前に実施 された措置によりⅠと判定された箇所も添付すること。 | N41: ※ 変状の発生範囲の規模とは、対策を行う際に参考となる変状の長さや面積をいう。
N42: ※ 応急措置を実施しないで判定した変状の対策区分は、対策区分の応急措置後の欄に記入すること。
C43: ※ たたき落としを実施した場合は、実施後の写真を添付すること。 | N43: ※ 変状の発生範囲の規模は、面積・寸法を記載すること。
C44: ※ 画像データは100kb程度とする。 | N44: (ひび割れ幅のみmmとし、その他をm表記とする)
C45: ※ 変状数に準じてシートを追加すること。（１シートに１ページとすること。） | N45: ※ 構造用鋼材以外の異物に伴ううき・はく離については、メモ欄に異物の概要を記入すること。

Sheet 様式D-1-1 (15)
B2: ■定期点検記録様式 変状写真台帳（トンネル本体工） 【様式D-1-1】
B3: フリガナ | D3: シブキ | H3: 路 線 名 | J3: 一般国道316号 | M3: 定期点検業者 | P3: 株式会社オリエンタルコンサルタンツ | S3: 定期点検年月日 | U3: 45281
B4: 名 称 | D4: 渋木トンネル | H4: 管理者名 | J4: 長門土木建築事務所 | M4: 定期点検者名 | P4: 妹尾 優大
B5: 写真 番号 | C5: 覆工 スパン 番号 | D5: S005 | M5: 写真 番号 | N5: 覆工 スパン 番号 | O5: S005
C7: 変状 番号 | D7: 11 | N7: 変状 番号 | O7: 12
B9: 変状 部位 | C9: 対象 箇所 | D9: 路面 | M9: 変状 部位 | N9: 対象 箇所 | O9: 路面
C11: 部位 区分 | D11: 側溝 | N11: 部位 区分 | O11: 側溝
B13: 変状区分 | D13: 材質劣化 | M13: 変状区分 | O13: 材質劣化
B14: 変状種類 | D14: うき・はく離 | M14: 変状種類 | O14: うき・はく離
B15: 対策 区分 | C15: 応急措置前 | M15: 対策 区分 | N15: 応急措置前
C16: 応急措置後 | E16: － | N16: 応急措置後 | P16: －
B17: 健全性 | D17: － | M17: 健全性 | O17: －
B18: 変状の発生範囲の規模 | E18: 0.4m×2.8m | M18: 変状の発生範囲の規模 | P18: 0.3m×2.0m
B19: 前回定期点検時の状態 | E19: 0.4m×0.3m、0.25m×0.2m、0.2m×0.2m、0.2m×0.3m、0.3m×0.1mのはく離 | M19: 前回定期点検時の状態 | P19: 0.15m×0.1m、0.3m×0.1m、0.2m×0.15m、0.3m×0.15mのはく離
B20: 調査方針 | E20: なし | M20: 調査方針 | P20: なし
B21: 対策履歴 | E21: なし | H21: 実施状況（実施日） | M21: 対策履歴 | P21: なし | S21: 実施状況（実施日）
B22: メモ | D22: 側溝蓋のはく離 | M22: メモ | O22: 側溝蓋のはく離
B23: 写真 番号 | C23: 覆工 スパン 番号 | D23: S005 | M23: 写真 番号 | N23: 覆工 スパン 番号 | O23: S006
C25: 変状 番号 | D25: 13 | N25: 変状 番号 | O25: 1
B27: 変状 部位 | C27: 対象 箇所 | D27: 路面 | M27: 変状 部位 | N27: 対象 箇所 | O27: 覆工・坑門
C29: 部位 区分 | D29: 側溝 | N29: 部位 区分 | O29: 水平打ち継ぎ目（左側）
B31: 変状区分 | D31: 材質劣化 | M31: 変状区分 | O31: 漏水
B32: 変状種類 | D32: うき・はく離 | M32: 変状種類 | O32: 漏水
B33: 対策 区分 | C33: 応急措置前 | M33: 対策 区分 | N33: 応急措置前
C34: 応急措置後 | E34: － | N34: 応急措置後 | P34: Ⅱb
B35: 健全性 | D35: － | M35: 健全性 | O35: Ⅱ
B36: 変状の発生範囲の規模 | E36: 0.2m×0.3m | M36: 変状の発生範囲の規模 | P36: 2.5m×0.5m
B37: 前回定期点検時の状態 | E37: 0.2m×0.3mのはく離 | M37: 前回定期点検時の状態 | P37: 漏水、にじみ
B38: 調査方針 | E38: なし | M38: 調査方針 | P38: なし
B39: 対策履歴 | E39: なし | H39: 実施状況（実施日） | M39: 対策履歴 | P39: なし | S39: 実施状況（実施日）
B40: メモ | D40: 側溝蓋のはく離 | M40: メモ | O40: 導水工からの漏水、にじみ
C41: ※ 健全性の判定区分Ⅱ～Ⅳについて添付すること。また、点検前に実施 された措置によりⅠと判定された箇所も添付すること。 | N41: ※ 変状の発生範囲の規模とは、対策を行う際に参考となる変状の長さや面積をいう。
N42: ※ 応急措置を実施しないで判定した変状の対策区分は、対策区分の応急措置後の欄に記入すること。
C43: ※ たたき落としを実施した場合は、実施後の写真を添付すること。 | N43: ※ 変状の発生範囲の規模は、面積・寸法を記載すること。
C44: ※ 画像データは100kb程度とする。 | N44: (ひび割れ幅のみmmとし、その他をm表記とする)
C45: ※ 変状数に準じてシートを追加すること。（１シートに１ページとすること。） | N45: ※ 構造用鋼材以外の異物に伴ううき・はく離については、メモ欄に異物の概要を記入すること。

Sheet 様式D-1-1 (16)
B2: ■定期点検記録様式 変状写真台帳（トンネル本体工） 【様式D-1-1】
B3: フリガナ | D3: シブキ | H3: 路 線 名 | J3: 一般国道316号 | M3: 定期点検業者 | P3: 株式会社オリエンタルコンサルタンツ | S3: 定期点検年月日 | U3: 45281
B4: 名 称 | D4: 渋木トンネル | H4: 管理者名 | J4: 長門土木建築事務所 | M4: 定期点検者名 | P4: 妹尾 優大
B5: 写真 番号 | C5: 覆工 スパン 番号 | D5: S006 | M5: 写真 番号 | N5: 覆工 スパン 番号 | O5: S006
C7: 変状 番号 | D7: 2 | N7: 変状 番号 | O7: 3
B9: 変状 部位 | C9: 対象 箇所 | D9: 覆工・坑門 | M9: 変状 部位 | N9: 対象 箇所 | O9: 覆工・坑門
C11: 部位 区分 | D11: アーチ（天端） | N11: 部位 区分 | O11: 水平打ち継ぎ目（右側）
B13: 変状区分 | D13: 漏水 | M13: 変状区分 | O13: 材質劣化
B14: 変状種類 | D14: 漏水 | M14: 変状種類 | O14: うき・はく離
B15: 対策 区分 | C15: 応急措置前 | M15: 対策 区分 | N15: 応急措置前
C16: 応急措置後 | E16: Ⅱb | N16: 応急措置後 | P16: Ⅰ
B17: 健全性 | D17: Ⅱ | M17: 健全性 | O17: Ⅰ
B18: 変状の発生範囲の規模 | E18: 8.0m×0.5m | M18: 変状の発生範囲の規模 | P18: 0.6m×9.2m
B19: 前回定期点検時の状態 | E19: 漏水、にじみ | M19: 前回定期点検時の状態 | P19: 0.1m×8.5mのうき
B20: 調査方針 | E20: なし | M20: 調査方針 | P20: なし
B21: 対策履歴 | E21: なし | H21: 実施状況（実施日） | M21: 対策履歴 | P21: はく落防止工 | S21: 実施状況（実施日）
B22: メモ | D22: ひび割れからの漏水、にじみ | M22: メモ | O22: はく落防止工対策済
B23: 写真 番号 | C23: 覆工 スパン 番号 | D23: S006 | M23: 写真 番号 | N23: 覆工 スパン 番号 | O23: S006
C25: 変状 番号 | D25: 4 | N25: 変状 番号 | O25: 5
B27: 変状 部位 | C27: 対象 箇所 | D27: 路面 | M27: 変状 部位 | N27: 対象 箇所 | O27: 路面
C29: 部位 区分 | D29: 側溝 | N29: 部位 区分 | O29: 監査歩路
B31: 変状区分 | D31: 材質劣化 | M31: 変状区分 | O31: 漏水
B32: 変状種類 | D32: うき・はく離 | M32: 変状種類 | O32: 滞水
B33: 対策 区分 | C33: 応急措置前 | M33: 対策 区分 | N33: 応急措置前
C34: 応急措置後 | E34: － | N34: 応急措置後 | P34: －
B35: 健全性 | D35: － | M35: 健全性 | O35: －
B36: 変状の発生範囲の規模 | E36: 0.3m×0.2m | M36: 変状の発生範囲の規模 | P36: -
B37: 前回定期点検時の状態 | E37: 0.3m×0.2mのはく離 | M37: 前回定期点検時の状態 | P37: 滞水
B38: 調査方針 | E38: なし | M38: 調査方針 | P38: なし
B39: 対策履歴 | E39: なし | H39: 実施状況（実施日） | M39: 対策履歴 | P39: なし | S39: 実施状況（実施日）
B40: メモ | D40: 側溝蓋のはく離 | M40: メモ | O40: 滞水跡
C41: ※ 健全性の判定区分Ⅱ～Ⅳについて添付すること。また、点検前に実施 された措置によりⅠと判定された箇所も添付すること。 | N41: ※ 変状の発生範囲の規模とは、対策を行う際に参考となる変状の長さや面積をいう。
N42: ※ 応急措置を実施しないで判定した変状の対策区分は、対策区分の応急措置後の欄に記入すること。
C43: ※ たたき落としを実施した場合は、実施後の写真を添付すること。 | N43: ※ 変状の発生範囲の規模は、面積・寸法を記載すること。
C44: ※ 画像データは100kb程度とする。 | N44: (ひび割れ幅のみmmとし、その他をm表記とする)
C45: ※ 変状数に準じてシートを追加すること。（１シートに１ページとすること。） | N45: ※ 構造用鋼材以外の異物に伴ううき・はく離については、メモ欄に異物の概要を記入すること。

Sheet 様式D-1-1 (17)
B2: ■定期点検記録様式 変状写真台帳（トンネル本体工） 【様式D-1-1】
B3: フリガナ | D3: シブキ | H3: 路 線 名 | J3: 一般国道316号 | M3: 定期点検業者 | P3: 株式会社オリエンタルコンサルタンツ | S3: 定期点検年月日 | U3: 45281
B4: 名 称 | D4: 渋木トンネル | H4: 管理者名 | J4: 長門土木建築事務所 | M4: 定期点検者名 | P4: 妹尾 優大
B5: 写真 番号 | C5: 覆工 スパン 番号 | D5: S006 | M5: 写真 番号 | N5: 覆工 スパン 番号 | O5: S007
C7: 変状 番号 | D7: 6 | N7: 変状 番号 | O7: 1
B9: 変状 部位 | C9: 対象 箇所 | D9: 路面 | M9: 変状 部位 | N9: 対象 箇所 | O9: 覆工・坑門
C11: 部位 区分 | D11: 側溝 | N11: 部位 区分 | O11: 水平打ち継ぎ目（左側）
B13: 変状区分 | D13: 材質劣化 | M13: 変状区分 | O13: 材質劣化
B14: 変状種類 | D14: うき・はく離 | M14: 変状種類 | O14: うき・はく離
B15: 対策 区分 | C15: 応急措置前 | M15: 対策 区分 | N15: 応急措置前
C16: 応急措置後 | E16: － | N16: 応急措置後 | P16: Ⅰ
B17: 健全性 | D17: － | M17: 健全性 | O17: Ⅰ
B18: 変状の発生範囲の規模 | E18: 0.2m×0.1m | M18: 変状の発生範囲の規模 | P18: -
B19: 前回定期点検時の状態 | E19: 0.2m×0.1mのはく離 | M19: 前回定期点検時の状態 | P19: 0.1m×0.4mのうき
B20: 調査方針 | E20: なし | M20: 調査方針 | P20: なし
B21: 対策履歴 | E21: なし | H21: 実施状況（実施日） | M21: 対策履歴 | P21: 導水工 | S21: 実施状況（実施日）
B22: メモ | D22: 側溝蓋のはく離 | M22: メモ | O22: 導水工新設により対策済
B23: 写真 番号 | C23: 覆工 スパン 番号 | D23: S007 | M23: 写真 番号 | N23: 覆工 スパン 番号 | O23: S007
C25: 変状 番号 | D25: 2 | N25: 変状 番号 | O25: 3
B27: 変状 部位 | C27: 対象 箇所 | D27: 覆工・坑門 | M27: 変状 部位 | N27: 対象 箇所 | O27: 覆工・坑門
C29: 部位 区分 | D29: 水平打ち継ぎ目（左側） | N29: 部位 区分 | O29: 側壁（左側）
B31: 変状区分 | D31: 漏水 | M31: 変状区分 | O31: 漏水
B32: 変状種類 | D32: 漏水 | M32: 変状種類 | O32: 漏水
B33: 対策 区分 | C33: 応急措置前 | M33: 対策 区分 | N33: 応急措置前
C34: 応急措置後 | E34: Ⅰ | N34: 応急措置後 | P34: Ⅰ
B35: 健全性 | D35: Ⅰ | M35: 健全性 | O35: Ⅰ
B36: 変状の発生範囲の規模 | E36: - | M36: 変状の発生範囲の規模 | P36: -
B37: 前回定期点検時の状態 | E37: 漏水、にじみ | M37: 前回定期点検時の状態 | P37: 漏水、にじみ
B38: 調査方針 | E38: なし | M38: 調査方針 | P38: なし
B39: 対策履歴 | E39: 導水工 | H39: 実施状況（実施日） | M39: 対策履歴 | P39: なし | S39: 実施状況（実施日）
B40: メモ | D40: 導水工新設により対策済 | M40: メモ | O40: 漏水跡
C41: ※ 健全性の判定区分Ⅱ～Ⅳについて添付すること。また、点検前に実施 された措置によりⅠと判定された箇所も添付すること。 | N41: ※ 変状の発生範囲の規模とは、対策を行う際に参考となる変状の長さや面積をいう。
N42: ※ 応急措置を実施しないで判定した変状の対策区分は、対策区分の応急措置後の欄に記入すること。
C43: ※ たたき落としを実施した場合は、実施後の写真を添付すること。 | N43: ※ 変状の発生範囲の規模は、面積・寸法を記載すること。
C44: ※ 画像データは100kb程度とする。 | N44: (ひび割れ幅のみmmとし、その他をm表記とする)
C45: ※ 変状数に準じてシートを追加すること。（１シートに１ページとすること。） | N45: ※ 構造用鋼材以外の異物に伴ううき・はく離については、メモ欄に異物の概要を記入すること。

Sheet 様式D-1-1 (18)
B2: ■定期点検記録様式 変状写真台帳（トンネル本体工） 【様式D-1-1】
B3: フリガナ | D3: シブキ | H3: 路 線 名 | J3: 一般国道316号 | M3: 定期点検業者 | P3: 株式会社オリエンタルコンサルタンツ | S3: 定期点検年月日 | U3: 45281
B4: 名 称 | D4: 渋木トンネル | H4: 管理者名 | J4: 長門土木建築事務所 | M4: 定期点検者名 | P4: 妹尾 優大
B5: 写真 番号 | C5: 覆工 スパン 番号 | D5: S007 | M5: 写真 番号 | N5: 覆工 スパン 番号 | O5: S007
C7: 変状 番号 | D7: 4 | N7: 変状 番号 | O7: 5
B9: 変状 部位 | C9: 対象 箇所 | D9: 覆工・坑門 | M9: 変状 部位 | N9: 対象 箇所 | O9: 覆工・坑門
C11: 部位 区分 | D11: 横断目地（左側） | N11: 部位 区分 | O11: 水平打ち継ぎ目（右側）
B13: 変状区分 | D13: 材質劣化 | M13: 変状区分 | O13: 材質劣化
B14: 変状種類 | D14: うき・はく離 | M14: 変状種類 | O14: うき・はく離
B15: 対策 区分 | C15: 応急措置前 | M15: 対策 区分 | N15: 応急措置前
C16: 応急措置後 | E16: Ⅰ | N16: 応急措置後 | P16: Ⅰ
B17: 健全性 | D17: Ⅰ | M17: 健全性
B18: 変状の発生範囲の規模 | E18: 6.9m×1.0m | M18: 変状の発生範囲の規模 | P18: 0.6m×9.2m
B19: 前回定期点検時の状態 | E19: 0.6m×0.1m、1.5m×0.1m、0.3m×0.2m、0.3m×0.1mのうき | M19: 前回定期点検時の状態 | P19: 0.1m×7.9mのうき
B20: 調査方針 | E20: なし | M20: 調査方針 | P20: なし
B21: 対策履歴 | E21: はく落防止工 | H21: 実施状況（実施日） | M21: 対策履歴 | P21: はく落防止工 | S21: 実施状況（実施日）
B22: メモ | D22: はく落防止工対策済 | M22: メモ | O22: はく落防止工対策済
B23: 写真 番号 | C23: 覆工 スパン 番号 | D23: S007 | M23: 写真 番号 | N23: 覆工 スパン 番号 | O23: S007
C25: 変状 番号 | D25: 6 | N25: 変状 番号 | O25: 7
B27: 変状 部位 | C27: 対象 箇所 | D27: 路面 | M27: 変状 部位 | N27: 対象 箇所 | O27: 路面
C29: 部位 区分 | D29: 監査歩路 | N29: 部位 区分 | O29: 監査歩路
B31: 変状区分 | D31: 漏水 | M31: 変状区分 | O31: 材質劣化
B32: 変状種類 | D32: 滞水 | M32: 変状種類 | O32: うき・はく離
B33: 対策 区分 | C33: 応急措置前 | M33: 対策 区分 | N33: 応急措置前
C34: 応急措置後 | E34: － | N34: 応急措置後 | P34: －
B35: 健全性 | D35: － | M35: 健全性 | O35: －
B36: 変状の発生範囲の規模 | E36: - | M36: 変状の発生範囲の規模 | P36: 0.5m×0.4m
B37: 前回定期点検時の状態 | E37: 滞水 | M37: 前回定期点検時の状態 | P37: 0.35m×0.1m、0.1m×0.2mのうき・はく離
B38: 調査方針 | E38: なし | M38: 調査方針 | P38: なし
B39: 対策履歴 | E39: なし | H39: 実施状況（実施日） | M39: 対策履歴 | P39: なし | S39: 実施状況（実施日）
