Workbook
Name その他: '(参考)リスト'!$C$47
Name その他施設: '[1](参考)リスト'!#REF!
Name その他施設: '(参考)リスト'!$C$79:$C$83
Name 換気施設: '[1](参考)リスト'!#REF!
Name 換気施設: '(参考)リスト'!$C$56:$C$60
Name 坑門: '(参考)リスト'!$C$31:$C$32
Name 照明施設: '[1](参考)リスト'!#REF!
Name 照明施設: '(参考)リスト'!$C$52:$C$54
Name 対象箇所: [2]!テーブル1[対象箇所]
Name 天井板: '(参考)リスト'!$C$37:$C$39
Name 内装板: '(参考)リスト'!$C$34:$C$35
Name 非常用施設: '[1](参考)リスト'!#REF!
Name 非常用施設: '(参考)リスト'!$C$62:$C$77
Name 覆工: '(参考)リスト'!$C$16:$C$29
Name 路面: '(参考)リスト'!$C$41:$C$45

Sheet 点検様式作成フロー
A1: 点検様式作成フロ-
A3: 作成フロー図 | H3: 点検調書作成手順
H4: ①様式A-1～A-3（トンネル台帳）
H5: トンネル点検の実施にあたっては，現場点検作業に先行してトンネル情報を収集する。トンネル台帳（様式Ａ－1～様式Ａ－3）はトンネル完成後に作成され，維持管理の段階で引き継がれるが，関連資料等を確認したうえで，追加情報があれば必要に応じて追記することが望ましい。
H9: ②様式D-2-1、様式D-2-1´
H10: 現場点検作業を実施し，近接目視点検で確認した変状状況や補修履歴を忠実に変状展開図に転記する。
H12: ③様式D-1-1、様式D-1-2
H13: 変状展開図や撮影した写真等をもとに，対象トンネルの対策区分を決定し，対策区分がⅡ～Ⅳの変状および異常判定区分「×」を抽出し，写真台帳を作成する。
H16: ④様式B
H17: 写真台帳の作成と同時に，トンネルの構造を展開した位置図に変状写真位置を記録する。
H19: ⑤様式D-3
H20: 変状展開図ならびに写真台帳をもとに覆工スパンごとの変状展開図を作成し，変状発生状況をとりまとめる。
H22: ⑥様式E
H23: 近接目視または打音検査，触診ができていない箇所および近接目視によらない方法を講じた場所に対する調査結果を記録する。
... H33: すること。 ※各ファイルとも （参考）リスト のシートを付けて保存すること。

Sheet 変状面積算出方法
A1: 変状面積算出方法
A26: 注1）外力による変状：ひび割れや圧ざの場合は変状の寸法を記録する。
A27: 例）ひび割れ：長さ（L）×最大ひび割れ幅（t）を記録する。 変形，移動，沈下：数値的な記載が可能な場合のみ記載する。
A28: 注2）材料劣化による：打音異常
A29: 例）うき，はく離（閉合ひび割れ）：変状範囲を包括する寸法（L×W） うき，はく離（ひび割れ沿い）：打音異常箇所を包括する寸法（L×W） 鋼材腐食（鉄筋腐食）：一括した対策が適当と考えられる範囲を包括する寸法（L×W）
A30: 注3）漏水による変状：漏水発生範囲を包括し，垂れ下がりの可能性がある側壁下端まで含めた寸法を，L×Wで記録する。打継ぎ目地沿いの 漏水については目地を跨いだ50cm幅を横幅とする。

Sheet 記入の留意点
B2: トンネルDBでは、Excelに記載された文字や数値・配置された画像を自動的に読込みデータベースへ登録します。
B3: 記録様式へ記入の留意点を下記に示します。
B5: １．記録様式への記入
C6: ➤各セルに表示されるコメントに従って、様式A-1～様式Gのシートに、点検結果（テキスト入力、選択項目）を入力してください。
C7: ➤位置図(様式B)、変状写真(様式D-1-1)、異常写真(様式D-1-2)は記入した変状写真番号等に対応した画像を間違いないように貼り付けてください。
C8: ➤列や行の挿入削除は行わず、セルの位置がずれないようにしてください。データベースへ読み取り時にずれて取り込まれてしまいます。
B11: ２．画像ファイルの配置の注意点
C12: 登録に使用可能な画像ファイルの拡張子は「jpg」「jpeg」「png」の3種類のみです。
C13: 必ず、１か所に画像１枚のみを張り付けてください。エクセルの図形などのオブジェクトは使用しないでください。
C14: 張り付けた画像はエクセルのトリミング機能を使用しないでください。あらかじめ切り抜いた画像を利用してください。
C15: ※１ 画像の左上を必ずセルの内部に含め、はみ出ないようにしてください。
C16: ※２ 図の書式設定で「セルに合わせて移動やサイズを変更しない」のモードを使用しないでください。
C32: ※３ 「挿入」→「画像」→「セルの上に配置」してください。
B41: ３．シート名の連番について
C42: １ページに記載しきれない場合は、１シート内にページを増やすのではなくシート自体をコピーしシート名の末尾を連番にしてください。
C43: 対象様式
C44: 様式B
C45: 様式D-1-1
C46: 様式D-1-2
C47: 様式D-2-1
C48: 様式D-2-1´
C49: 様式D-3_S00 ※スパン名を記載
C50: 様式G
C52: 末尾の連番の形式例
C53: 様式B(1) 様式B(2) 様式B(3)
C54: 様式B_001 様式B_002 様式B_003
... C61: で示される要領を制限するものではありません。

Sheet 様式A-1
B2: ■トンネル台帳 トンネル諸元、非常用施設諸元 【様式A-1】 | S2: 施設ID | W2: 34.23956,131.11619
B3: フリガナ | D3: フカボリズイドウ | H3: 路線名 | J3: 大河内地吉線 | P3: 管理者名 | R3: 山口県下関土木建築事務所 | W3: 緊急輸送道路 | Z3: 一次
B4: 名 称 | D4: 深堀隧道 | W4: 代替路の有無 | Z4: 有
B5: 所在地 | D5: 自 | E5: 山口県下関市豊田町大字地吉 | H5: 作成者 | K5: アジア航測株式会社 飯田 琢巳 | P5: 作成年月日 | R5: 46080 | U5: トンネル延長 | X5: L= | Z5: 93.7 | AB5: ｍ
D6: 至 | E6: 山口県下関市豊田町大字地吉 | U6: ﾄﾝﾈﾙの分類 | X6: 陸上トンネル（掘進工法）
B7: 起点 | C7: 緯度 | E7: 34.23956 | H7: 完成年月日 | K7: 1953年 | M7: 舗装 | O7: 種 別 | Q7: アスファルト系 | S7: トンネル非常用施設 | T7: 施設の内訳 | X7: 種別・方式 | Y7: 型式 | Z7: 個数 | AA7: 更新年度
C8: 経度 | E8: 131.11619 | H8: 供用年月日 | K8: - | O8: 厚 さ | Q8: - | T8: 通報設備 | U8: 通話型通報設備
B9: 終点 | C9: 緯度 | E9: 34.24001 | H9: トンネル区分 | K9: - | O9: 面 積 | Q9: 487.24㎡ | U9: 操作型通報設備
C10: 経度 | E10: 131.11711 | H10: 内装種類 | K10: 覆工(内装なし) | O10: 更新年次 | Q10: - | U10: 自動通報設備
B11: 一般有料区分 | E11: 一般(無料) | H11: 天井板種類 | K11: 覆工(内装なし) | M11: 排水 | O11: 種 別 | Q11: - | T11: 警報設備 | U11: 非常警報設備
B12: 土かぶり | E12: - | G12: ㎡ | H12: 坑門 | I12: 起点 | J12: 形式 | K12: 面壁型 | O12: 更新年次 | Q12: - | T12: 消火設備 | U12: 消 火 器
B13: 内空断面積 | E13: - | J13: 延長 | K13: 0.6 | L13: m | M13: 施設 | P13: 種別・方式 | Q13: 個数 | R13: 更新年次 | U13: 消火栓設備
B14: 交 通 量 | E14: - | G14: 台/日 | I14: 終点 | J14: 形式 | K14: 面壁型 | M14: 道路附属物等 | N14: 照明 | P14: ナトリウム灯 | Q14: 7 | R14: - | T14: 避難誘導設備 | U14: 誘導表示設備
C15: 道 路 幅 | E15: 5 | G15: m | J15: 延長 | K15: 0.6 | L15: m | N15: 換気 | P15: 自然換気 | Q15: - | R15: - | U15: 避難情報提供設備
B16: 幅 員 | C16: 車 道 幅 | E16: 5 | G16: m | H16: 竣工巻厚 | I16: アーチ | K16: - | L16: cm | N16: 標識 | P16: - | Q16: - | R16: -
E17: - | G17: m | I17: 側 壁 | K17: - | L17: cm | N17: 警報表示板 | P17: - | Q17: - | R17: - | U17: 避難通路
C18: 歩道等幅 | E18: - | G18: m | K18: - | L18: cm | N18: 吸音板 | P18: - | Q18: - | R18: - | U18: 排煙設備
B19: 高さ | C19: 建築限界高 | E19: - | G19: m | I19: インバート | K19: - | L19: cm | T19: その他の設備 | U19: 給水栓設備
C20: 中央高 | E20: 4.5 | G20: m | H20: 半径 | I20: アーチ | K20: - | L20: cm | U20: 無線通信補助設備
C21: 有効高 | E21: 4.3 | G21: m | I21: 側 壁 | K21: - | L21: cm | U21: 水噴霧設備
C22: 縦断勾配 | E22: - | I22: インバート | K22: - | L22: cm | U22: 監視設備
B23: 線 形 | C23: 直線区間長 | E23: - | H23: 占用物件 | I23: 種 類 | K23: 寸 法 | M23: 管理者名 | Q23: 更新年次 | S23: 非常用施設 関連設備 | U23: 予備発電設備
C24: 曲線区間 | D24: 区間長 | F24: -
D25: 起点側ｸﾛｿｲﾄﾞ | F25: -
D26: 曲線半径 | F26: -
D27: 終点側ｸﾛｿｲﾄﾞ | F27: - | S27: その他 | U27: 非常駐車帯
B28: トンネル工法 | E28: 矢板工法 | U28: 方向転換所
C29: ※緯度・経度については、秒の小数第二位の単位まで記入すること。

Sheet 様式A-2
B3: ■トンネル台帳 トンネル情報一覧表 【様式A-2】
B4: フリガナ | E4: フカボリズイドウ | J4: 路線名 | M4: 大河内地吉線 | S4: 作成者 | Y4: アジア航測株式会社 飯田 琢巳 | AE4: 作成年月日 | AI4: 46080
B5: 名 称 | E5: 深堀隧道 | J5: 管理者名 | M5: 山口県下関土木建築事務所
B6: 覆工 ｽﾊﾟﾝ 番号 | C6: ｽﾊﾟﾝ長 | D6: 追加距離 | F6: トンネル本体工 | K6: 照明施設 | O6: 非常用施設 | AE6: 換気施設 | AK6: その他附属物等
O7: 通報設備 | R7: 警報設備 | S7: 消火設備 | U7: 避難誘導設備 | Y7: その他の設備 | AC7: 特記事項
D8: 起点側 | E8: 終点側 | F8: 特記事項 | I8: 内装板 | J8: 天井板 | K8: 基本照明 | L8: 入口出口照明 | M8: 特記事項 | O8: 通話型通報設備 | P8: 操作型通報設備 | Q8: 自動通報設備 | R8: 非常警報設備 | S8: 消 火 器 | T8: 消火栓設備 | U8: 誘導表示設備 | V8: 避難情報提供設備 | W8: 避難通路 | X8: 排煙設備 | Y8: 給水栓設備 | Z8: 無線通信補助設備 | AA8: 水噴霧設備 | AB8: 監視設備 | AE8: JF | AF8: VI計 | AG8: CO計 | AH8: 風向 風速計 | AI8: 特記事項
C9: (m) | D9: (m) | E9: (m)
B10: PS | C10: 0.6 | D10: 0 | E10: 0.6
B11: S1 | C11: 10 | D11: 0.6 | E11: 10.6 | K11: ○
B12: S2 | C12: 10 | D12: 10.6 | E12: 20.6
B13: S3 | C13: 10 | D13: 20.6 | E13: 30.6 | K13: ○
B14: S4 | C14: 10 | D14: 30.6 | E14: 40.6 | K14: ○
B15: S5 | C15: 10 | D15: 40.6 | E15: 50.6 | K15: ○
B16: S6 | C16: 10 | D16: 50.6 | E16: 60.6 | K16: ○
B17: S7 | C17: 10 | D17: 60.6 | E17: 70.6
B18: S8 | C18: 10 | D18: 70.6 | E18: 80.6 | K18: ○
B19: S9 | C19: 10 | D19: 80.6 | E19: 90.6 | K19: ○
B20: S10 | C20: 2.5 | D20: 90.6 | E20: 93.1
B21: PE | C21: 0.6 | D21: 93.1 | E21: 93.7
B45: ※ 行が不足する場合は、適時、表の行を増やすこと。

Sheet 様式A-3
B3: ■トンネル台帳 トンネル記録（位置図、断面図、施工実績他）【様式A-3】
B4: フリガナ | E4: フカボリズイドウ | J4: 路線名 | M4: 大河内地吉線 | S4: 作成者 | W4: アジア航測株式会社 飯田 琢巳 | AC4: 作成年月日 | AF4: 46080
B5: 名 称 | E5: 深堀隧道 | J5: 管理者名 | M5: 山口県下関土木建築事務所
B6: 位置図・現況写真・標準断面図・地質縦断図・施工実績

Sheet 様式A-3 (2)
B3: ■トンネル台帳 トンネル記録（位置図、断面図、施工実績他）【様式A-3】
B4: フリガナ | E4: ='様式A-1'!D3 -> フカボリズイドウ | J4: 路線名 | M4: ='様式A-1'!J3 -> 大河内地吉線 | S4: 作成者 | W4: ='様式A-1'!K5 -> アジア航測株式会社 飯田 琢巳 | AC4: 作成年月日 | AF4: ='様式A-1'!R5 -> 46080
B5: 名 称 | E5: ='様式A-1'!D4 -> 深堀隧道 | J5: 管理者名 | M5: ='様式A-1'!R3 -> 山口県下関土木建築事務所
B6: 位置図・現況写真・標準断面図・地質縦断図・施工実績

Sheet 様式A-3 (3)
B3: ■トンネル台帳 トンネル記録（位置図、断面図、施工実績他）【様式A-3】
B4: フリガナ | E4: ='様式A-1'!D3 -> フカボリズイドウ | J4: 路線名 | M4: ='様式A-1'!J3 -> 大河内地吉線 | S4: 作成者 | W4: ='様式A-1'!K5 -> アジア航測株式会社 飯田 琢巳 | AC4: 作成年月日 | AF4: ='様式A-1'!R5 -> 46080
B5: 名 称 | E5: ='様式A-1'!D4 -> 深堀隧道 | J5: 管理者名 | M5: ='様式A-1'!R3 -> 山口県下関土木建築事務所
B6: 位置図・現況写真・標準断面図・地質縦断図・施工実績

Sheet 様式B (1)
B2: ■定期点検記録様式 トンネル変状・異常箇所写真位置図 【様式B】 | N2: 定期点検年月日 | P2: 45926 | S2: 施設ID | V2: 34.23956,131.11619
B3: フリガナ | C3: フカボリズイドウ | G3: 路線名 | H3: 大河内地吉線 | K3: 管理者名 | L3: 山口県下関土木建築事務所 | Q3: 定期点検実施者 | S3: アジア航測株式会社 | V3: 起点 | W3: 緯度 | X3: 34.23956
B4: 名 称 | C4: 深堀隧道 | S4: 飯田 琢巳 | W4: 経度 | X4: 131.11619
B5: 所在地 | C5: 自 | D5: 山口県下関市豊田町大字地吉 | G5: トンネル工法 | I5: 矢板工法 | L5: トンネル延長 | N5: L= | O5: 93.7 | P5: ｍ | Q5: 自専道 or 一般道 | R5: 一般道 | S5: 代替路の有無 | U5: 有 | V5: 終点 | W5: 緯度 | X5: 34.24001
C6: 至 | D6: 山口県下関市豊田町大字地吉 | G6: 建設年度 | I6: 1953年 | L6: 幅員 | N6: L= | O6: 5 | P6: ｍ | S6: 緊急輸送道路 | U6: 一次 | W6: 経度 | X6: 131.11711
B7: トンネル毎 の健全性の 診断の区分 | D7: Ⅱ
G8: 変状・異常 箇所数合計 | I8: トンネル本体工 | J8: 材質劣化 | K8: Ⅱ | L8: 39 | N8: Ⅲ | O8: 0 | Q8: Ⅳ | R8: 0 | T8: 附属物等 の取付状態 | V8: ◯ （応急措置後) | X8: 0
J9: 漏水 | K9: Ⅱ | L9: 48 | N9: Ⅲ | O9: 0 | Q9: Ⅳ | R9: 0
V10: ✕ | X10: 25
J11: 外力 | K11: Ⅱ | L11: 0 | N11: Ⅲ | O11: 0 | Q11: Ⅳ | R11: 0
B12: トンネル変状・異常箇所写真位置図
J29: 注１：本位置図は、見下げた状態で記載すること。 注２：覆工スパン番号は横断目地毎(矢板工法の場合は上半アーチの 横断目地毎)に設定すること。 | Q29: 注３：写真番号に付する変状番号は、各覆工スパンの変状に対して新たに確認された場合 は順次追加していくこと。 注４：横断目地の変状は前の覆工スパン番号で計上すること。 注５：１枚に収まらない場合は、複数枚に分けて作成すること。
C30: ※1 トンネル本体工の変状数は、材質劣化、漏水に起因するものは変状単位で、外力に起因するものはスパン単位で計上すること。
C31: ※2 トンネル本体工の変状に対しては、措置の必要性（Ⅱ～Ⅳ）について表記すること。また、点検前に実施された措置によりⅠと判定された箇所についても記載すること。
C32: ※3 附属物等の取付状態の○欄については、応急措置前に判定区分×とした箇所のうち応急措置により○判定とした箇所の数を記入すること。
C33: ※4 附属物等の異常番号は、本体工と番号が重複しないよう101番以降とする等の配慮を行い、分かりやすく記録すること。

Sheet 様式B (2)
B2: ■定期点検記録様式 トンネル変状・異常箇所写真位置図 【様式B】 | N2: 定期点検年月日 | P2: 45926 | S2: 施設ID | V2: 34.23956,131.11619
B3: フリガナ | C3: フカボリズイドウ | G3: 路線名 | H3: 大河内地吉線 | K3: 管理者名 | L3: 山口県下関土木建築事務所 | Q3: 定期点検実施者 | S3: アジア航測株式会社 | V3: 起点 | W3: 緯度 | X3: 34.23956
B4: 名 称 | C4: 深堀隧道 | S4: 飯田 琢巳 | W4: 経度 | X4: 131.11619
B5: 所在地 | C5: 自 | D5: 山口県下関市豊田町大字地吉 | G5: トンネル工法 | I5: 矢板工法 | L5: トンネル延長 | N5: L= | O5: 93.7 | P5: ｍ | Q5: 自専道 or 一般道 | R5: 一般道 | S5: 代替路の有無 | U5: 有 | V5: 終点 | W5: 緯度 | X5: 34.24001
C6: 至 | D6: 山口県下関市豊田町大字地吉 | G6: 建設年度 | I6: 1953年 | L6: 幅員 | N6: L= | O6: 5 | P6: ｍ | S6: 緊急輸送道路 | U6: 一次 | W6: 経度 | X6: 131.11711
B7: トンネル毎 の健全性の 診断の区分 | D7: Ⅱ
G8: 変状・異常 箇所数合計 | I8: トンネル本体工 | J8: 材質劣化 | K8: Ⅱ | L8: 39 | N8: Ⅲ | O8: 0 | Q8: Ⅳ | R8: 0 | T8: 附属物等 の取付状態 | V8: ◯ （応急措置後) | X8: 0
J9: 漏水 | K9: Ⅱ | L9: 48 | N9: Ⅲ | O9: 0 | Q9: Ⅳ | R9: 0
V10: ✕ | X10: 25
J11: 外力 | K11: Ⅱ | L11: 0 | N11: Ⅲ | O11: 0 | Q11: Ⅳ | R11: 0
B12: トンネル変状・異常箇所写真位置図
J29: 注１：本位置図は、見下げた状態で記載すること。 注２：覆工スパン番号は横断目地毎(矢板工法の場合は上半アーチの 横断目地毎)に設定すること。 | Q29: 注３：写真番号に付する変状番号は、各覆工スパンの変状に対して新たに確認された場合 は順次追加していくこと。 注４：横断目地の変状は前の覆工スパン番号で計上すること。 注５：１枚に収まらない場合は、複数枚に分けて作成すること。
C30: ※1 トンネル本体工の変状数は、材質劣化、漏水に起因するものは変状単位で、外力に起因するものはスパン単位で計上すること。
C31: ※2 トンネル本体工の変状に対しては、措置の必要性（Ⅱ～Ⅳ）について表記すること。また、点検前に実施された措置によりⅠと判定された箇所についても記載すること。
C32: ※3 附属物等の取付状態の○欄については、応急措置前に判定区分×とした箇所のうち応急措置により○判定とした箇所の数を記入すること。
C33: ※4 附属物等の異常番号は、本体工と番号が重複しないよう101番以降とする等の配慮を行い、分かりやすく記録すること。

Sheet 様式C-1-1 (1)
B2: ■定期点検記録様式 全スパン定期点検結果総括表（トンネル本体工） 【様式C-1-1】
B3: フリガナ | F3: フカボリズイドウ | I3: 路線名 | K3: 大河内地吉線 | O3: 定期点検実施者 | P3: アジア航測株式会社 | T3: 定期点検年月日 | X3: 45926
B4: 名 称 | F4: 深堀隧道 | I4: 管理者名 | K4: 山口県下関土木建築事務所 | P4: 飯田 琢巳
B5: 定期点検結果 | C5: 覆工 スパン 番号 | E5: 変状 番号 | F5: 距離 （m） | G5: 変状部位 | I5: 変 状 の 内 容 | O5: 前回定期点検時の状態 | P5: 今回定期点検結果 | T5: 措置履歴 | Y5: 対応方針 ・ 特記事項
O6: 44263
G7: 対象箇所 | H7: 部位区分 | I7: 変状区分 | J7: 変状種類 | M7: 変状の発生範囲の規模 | N7: 前回定期点検時の変状の発生範囲及び規模 | O7: 対策区分 | P7: 対策区分 | R7: 調査の 要否 | S7: 措置の 要否 | T7: 実施 | U7: 措置の実施状況
P8: 応急措置前 | Q8: 応急措置後
C9: PS | E9: 1 | F9: 0 | G9: 覆工 | H9: 面壁・妻壁等 | I9: 材質劣化 | J9: その他 | M9: 0.4m×0.4m | N9: 0.4m×0.4m | O9: Ⅱb | P9: - | Q9: Ⅱa | R9: 否 | S9: 要監視 | T9: 継続 | U9: 監視(日常) | Y9: 判定見直し
C10: PS | E10: 2 | F10: 0 | G10: 覆工 | H10: 面壁・妻壁等 | I10: 材質劣化 | J10: その他 | M10: 0.4m×0.4m | N10: 0.4m×0.4m | O10: Ⅱb | P10: - | Q10: Ⅱa | R10: 否 | S10: 要監視 | T10: 継続 | U10: 監視(日常) | Y10: 判定見直し
C11: PS | E11: 3 | F11: 0 | G11: 覆工 | H11: 面壁・妻壁等 | I11: 漏水 | J11: 漏水 | M11: 4.3m×0.5m | N11: 0.3m×0.3m | O11: Ⅱb | P11: - | Q11: Ⅱb | R11: 否 | S11: 要監視 | T11: 継続 | U11: 監視(日常) | Y11: 寸法変更
C12: PS | E12: 4 | F12: 0 | G12: 覆工 | H12: 面壁・妻壁等 | I12: 材質劣化 | J12: うき・はく離 | M12: 0.4m×0.9m | N12: 0.4m×0.9m | O12: Ⅱa | P12: - | Q12: Ⅱa | R12: 否 | S12: 要監視 | T12: 継続 | U12: 監視(重点)
C13: PS | E13: 5 | F13: 0 | G13: 覆工 | H13: 面壁・妻壁等 | I13: 材質劣化 | J13: うき・はく離 | M13: 0.4m×1.5m | N13: 0.4m×1.5m | O13: Ⅱa | P13: - | Q13: Ⅱa | R13: 否 | S13: 要監視 | T13: 継続 | U13: 監視(重点)
C14: PS | E14: 6 | F14: 0 | G14: 覆工 | H14: 面壁・妻壁等 | I14: 材質劣化 | J14: うき・はく離 | M14: 0.8m×0.8m | N14: 0.8m×0.5m | O14: Ⅱa | P14: - | Q14: Ⅱa | R14: 否 | S14: 要監視 | T14: 継続 | U14: 監視(重点) | Y14: 寸法変更
C15: PS | E15: 7 | F15: 0 | G15: 覆工 | H15: 面壁・妻壁等 | I15: 材質劣化 | J15: うき・はく離 | M15: 0.5m×1.6m | N15: 0.4m×1.6m | O15: Ⅱa | P15: - | Q15: Ⅱa | R15: 否 | S15: 要監視 | T15: 継続 | U15: 監視(重点) | Y15: 寸法変更
C16: PS | E16: 8 | F16: 0 | G16: 覆工 | H16: 面壁・妻壁等 | I16: 材質劣化 | J16: うき・はく離 | M16: 0.25m×1.5m | N16: 0.25m×1.5m | O16: Ⅱa | P16: - | Q16: Ⅱa | R16: 否 | S16: 要監視 | T16: 継続 | U16: 監視(重点)
C17: PS | E17: 9 | F17: 0 | G17: 覆工 | H17: 面壁・妻壁等 | I17: 漏水 | J17: 漏水 | M17: 2.9m×4.5m | N17: 2.9m×4.5m | O17: Ⅱb | P17: - | Q17: Ⅱb | R17: 否 | S17: 要監視 | T17: 継続 | U17: 監視(日常) | Y17: 寸法変更
C18: PS | E18: 10 | F18: 0 | G18: 覆工 | H18: アーチ（左側） | I18: 材質劣化 | J18: うき・はく離 | M18: 0.4m×0.6m | N18: 0.4m×0.2m | O18: Ⅱa | P18: - | Q18: Ⅱa | R18: 否 | S18: 要監視 | T18: 継続 | U18: 監視(重点) | Y18: 寸法変更
C19: PS | E19: 11 | F19: 0 | G19: 覆工 | H19: アーチ（左側） | I19: 材質劣化 | J19: その他 | M19: 0.4m×0.6m | N19: 0.4m×0.6m | O19: Ⅱb | P19: - | Q19: Ⅱb | R19: 否 | S19: 要監視 | T19: 継続 | U19: 監視(日常)
C20: PS | E20: 12 | F20: 0 | G20: 覆工 | H20: アーチ（左側） | I20: 材質劣化 | J20: その他 | M20: 0.4m×0.4m | N20: 0.4m×0.4m | O20: Ⅱb | P20: - | Q20: Ⅱb | R20: 否 | S20: 要監視 | T20: 継続 | U20: 監視(日常)
C21: PS | E21: 13 | F21: 0.1 | G21: 覆工 | H21: アーチ（右側） | I21: 材質劣化 | J21: その他 | M21: 0.3m×0.3m | N21: 0.3m×0.3m | O21: Ⅱb | P21: - | Q21: Ⅱb | R21: 否 | S21: 要監視 | T21: 継続 | U21: 監視(日常)
C22: PS | E22: 14 | F22: 0 | G22: 覆工 | H22: 側壁（右側） | I22: 材質劣化 | J22: うき・はく離 | M22: 2.3m×0.4m・D=0.03m | N22: 2.2m×0.25m | O22: Ⅱb | P22: - | Q22: Ⅱb | R22: 否 | S22: 要監視 | T22: 継続 | U22: 監視(日常) | Y22: 寸法変更
C23: PS | E23: 15 | F23: 0 | G23: 覆工 | H23: 面壁・妻壁等 | I23: 材質劣化 | J23: うき・はく離 | M23: 0.2m×0.5m | N23: - | O23: - | P23: - | Q23: Ⅱb | R23: 否 | S23: 要監視 | T23: 未 | U23: -
C24: 1 | E24: 1 | F24: 0 | G24: 覆工 | H24: アーチ（左側） | I24: 漏水 | J24: 漏水 | M24: 6.5m×3.4m | N24: 6.2m×3.1m | O24: Ⅱb | P24: - | Q24: Ⅱb | R24: 否 | S24: 要監視 | T24: 継続 | U24: 監視(日常) | Y24: 寸法変更
C25: 1 | E25: 2 | F25: 0.59 | G25: 覆工 | H25: アーチ（左側） | I25: 材質劣化 | J25: うき・はく離 | M25: 0.5m×0.3m | N25: 0.5m×0.3m | O25: Ⅱa | P25: - | Q25: Ⅱa | R25: 否 | S25: 要監視 | T25: 継続 | U25: 監視(重点)
C26: 1 | E26: 3 | F26: 0.89 | G26: 覆工 | H26: アーチ（左側） | I26: 漏水 | J26: 漏水 | M26: 6.3m×0.5m | N26: 6.5m×0.5m | O26: Ⅱa | P26: - | Q26: Ⅱb | R26: 否 | S26: 要監視 | T26: 継続 | U26: 監視(日常) | Y26: 寸法・判定見直し
C27: 1 | E27: 4 | F27: 1.41 | G27: 覆工 | H27: アーチ（右側） | I27: 漏水 | J27: 漏水 | M27: 6.5m×0.5m | N27: 6.5m×0.5m | O27: Ⅱa | P27: - | Q27: Ⅱb | R27: 否 | S27: 要監視 | T27: 継続 | U27: 監視(日常) | Y27: 判定見直し
C28: 1 | E28: 5 | F28: 0 | G28: 覆工 | H28: アーチ（右側） | I28: 漏水 | J28: 漏水 | M28: 6.5m×3.3m | N28: 4.2m×1.7m | O28: Ⅱb | P28: - | Q28: Ⅱb | R28: 否 | S28: 要監視 | T28: 継続 | U28: 監視(日常) | Y28: 寸法変更
C29: 1 | E29: 6 | F29: 3.66 | G29: 覆工 | H29: アーチ（左側） | I29: 漏水 | J29: 漏水 | M29: 6.5m×2.1m | N29: 5.1m×1.6m | O29: Ⅱb | P29: - | Q29: Ⅱb | R29: 否 | S29: 要監視 | T29: 継続 | U29: 監視(日常) | Y29: 寸法変更
C30: 1 | E30: 7 | F30: 4.35 | G30: 覆工 | H30: アーチ（左側） | I30: 材質劣化 | J30: うき・はく離 | M30: 1.1m×0.2m | N30: 0.7m×0.2m | O30: Ⅱa | P30: - | Q30: Ⅱa | R30: 否 | S30: 要監視 | T30: 継続 | U30: 監視(重点) | Y30: 寸法変更
C31: 1 | E31: 8 | F31: 3.66 | G31: 覆工 | H31: アーチ（右側） | I31: 漏水 | J31: 漏水 | M31: 6.5m×1.6m | N31: 4.9m×0.7m | O31: Ⅱb | P31: - | Q31: Ⅱb | R31: 否 | S31: 要監視 | T31: 継続 | U31: 監視(日常) | Y31: 寸法変更
C32: 1 | E32: 9 | F32: 6.03 | G32: 覆工 | H32: アーチ（右側） | I32: 漏水 | J32: 漏水 | M32: 4.2m×0.8m | N32: 2.3m×0.8m | O32: Ⅱb | P32: - | Q32: Ⅱb | R32: 否 | S32: 要監視 | T32: 継続 | U32: 監視(日常) | Y32: 寸法変更
C33: 1 | E33: 10 | F33: 9.09 | G33: 覆工 | H33: 側壁（左側） | I33: 漏水 | J33: 漏水 | M33: 2.3m×2.3m | N33: 2.3×0.5m | O33: Ⅱb | P33: - | Q33: Ⅱb | R33: 否 | S33: 要監視 | T33: 継続 | U33: 監視(日常) | Y33: 寸法変更
C34: 1 | E34: 11 | F34: 9.09 | G34: 覆工 | H34: アーチ（左側） | I34: 漏水 | J34: 漏水 | M34: 4.5m×2.1m | N34: 4.5m×0.5m | O34: Ⅱb | P34: - | Q34: Ⅱb | R34: 否 | S34: 要監視 | T34: 継続 | U34: 監視(日常) | Y34: 寸法変更
C35: 1 | E35: 12 | F35: 5.8 | G35: 覆工 | H35: アーチ（天端） | I35: 材質劣化 | J35: 補修・補強材の破損 | M35: 補修工ボルト腐食：16箇所 | N35: 補修工ボルト腐食：16箇所 | O35: Ⅱa | P35: - | Q35: Ⅱa | R35: 否 | S35: 要監視 | T35: 継続 | U35: 監視(重点)
C36: 1 | E36: 13 | F36: 9.43 | G36: 覆工 | H36: アーチ（右側） | I36: 漏水 | J36: 漏水 | M36: 4.5m×0.5m | N36: 4.5m×0.5m | O36: Ⅱb | P36: - | Q36: Ⅱb | R36: 否 | S36: 要監視 | T36: 継続 | U36: 監視(日常)
C37: 1 | E37: 14 | F37: 4.97 | G37: 覆工 | H37: 側壁（右側） | I37: 材質劣化 | J37: 圧ざ、ひび割れ | M37: W=0.6mm×L=3.4m | N37: W=0.6mm×L=3.4m | O37: Ⅱb | P37: - | Q37: Ⅱb | R37: 否 | S37: 要監視 | T37: 継続 | U37: 監視(日常)
C38: 1 | E38: 15 | F38: 0 | G38: 路面 | H38: 車道 | I38: 漏水 | J38: 滞水 | M38: - | N38: 0.2m×0.6m | O38: Ⅱa | R38: 否 | S38: 否 | T38: - | U38: -
C39: 1 | E39: 16 | F39: 7.69 | G39: 覆工 | H39: アーチ（右側） | I39: 漏水 | J39: 漏水 | M39: 3.6m×0.67m | N39: - | O39: - | P39: - | Q39: Ⅱb | R39: 否 | S39: 要監視 | T39: 未 | U39: -
C40: 2 | E40: 1 | F40: 11.62 | G40: 覆工 | H40: アーチ（左側） | I40: 漏水 | J40: 漏水 | M40: 5.3m×1.0m | N40: 5.5m×0.5m | O40: Ⅱb | P40: - | Q40: Ⅱb | R40: 否 | S40: 要監視 | T40: 継続 | U40: 監視(日常) | Y40: 寸法変更
C41: 2 | E41: 2 | F41: 12.5 | G41: 覆工 | H41: アーチ（左側） | I41: 漏水 | J41: 漏水 | M41: 6.1m×0.5m | N41: 6.5m×0.5m | O41: Ⅱa | P41: - | Q41: Ⅱa | R41: 否 | S41: 要監視 | T41: 継続 | U41: 監視(重点) | Y41: 寸法変更
C42: 2 | E42: 3 | F42: 13.42 | G42: 覆工 | H42: アーチ（右側） | I42: 漏水 | J42: 漏水 | M42: 4.7m×1.2m | N42: 4.8m×2.0m | O42: Ⅱb | P42: - | Q42: Ⅱb | R42: 否 | S42: 要監視 | T42: 継続 | U42: 監視(日常) | Y42: 寸法変更
C43: ※ 対策区分（応急措置後）のⅡb～Ⅳについて記入すること。また、点検前に実施された措置によりⅠと判定された変状も記入すること。
C44: ※ 応急措置を実施しないで判定した変状の対策区分は、対策区分の応急措置後の欄に記入すること。
C45: ※ 変状の除去が不完全で、緊急対応が必要な場合は対応方針欄に記入すること。
C46: ※ １区間の覆工に複数の変状がある場合は、変状箇所毎に記入すること。
C47: ※ 措置・監視点検を行った場合には、措置履歴、特記事項に記録を残すこと。（実施年度も記載）
C48: ※ 行が不足する場合は、適時、表の行を増やすこと。

Sheet 様式C-1-1 (2)
B2: ■定期点検記録様式 全スパン定期点検結果総括表（トンネル本体工） 【様式C-1-1】
B3: フリガナ | F3: フカボリズイドウ | I3: 路線名 | K3: 大河内地吉線 | O3: 定期点検実施者 | P3: アジア航測株式会社 | T3: 定期点検年月日 | X3: 45926
B4: 名 称 | F4: 深堀隧道 | I4: 管理者名 | K4: 山口県下関土木建築事務所 | P4: 飯田 琢巳
B5: 定期点検結果 | C5: 覆工 スパン 番号 | E5: 変状 番号 | F5: 距離 （m） | G5: 変状部位 | I5: 変 状 の 内 容 | O5: 前回定期点検時の状態 | P5: 今回定期点検結果 | T5: 措置履歴 | Y5: 対応方針 ・ 特記事項
O6: 44263
G7: 対象箇所 | H7: 部位区分 | I7: 変状区分 | J7: 変状種類 | M7: 変状の発生範囲の規模 | N7: 前回定期点検時の変状の発生範囲及び規模 | O7: 対策区分 | P7: 対策区分 | R7: 調査の 要否 | S7: 措置の 要否 | T7: 実施 | U7: 措置の実施状況
P8: 応急措置前 | Q8: 応急措置後
C9: 2 | E9: 4 | F9: 13.87 | G9: 覆工 | H9: アーチ（左側） | I9: 漏水 | J9: 漏水 | M9: 6.1m×2.5m | N9: 5.8m×1.9m | O9: Ⅱb | P9: - | Q9: Ⅱb | R9: 否 | S9: 要監視 | T9: 継続 | U9: 監視(日常) | Y9: 寸法変更
C10: 2 | E10: 5 | F10: 14.8 | G10: 覆工 | H10: アーチ（右側） | I10: 漏水 | J10: 漏水 | M10: 5.6m×2.0m | N10: 5.5m×1.0m | O10: Ⅱb | P10: - | Q10: Ⅱb | R10: 否 | S10: 要監視 | T10: 継続 | U10: 監視(日常) | Y10: 寸法変更
C11: 2 | E11: 6 | F11: 16.57 | G11: 覆工 | H11: アーチ（左側） | I11: 漏水 | J11: その他 | M11: 3.0m×2.6m | N11: 6.2m×1.0m | O11: Ⅱa | P11: - | Q11: Ⅱb | R11: 否 | S11: 要監視 | T11: 継続 | U11: 監視(日常) | Y11: 寸法変更、判定見直し
C12: 2 | E12: 7 | F12: 12 | G12: 路面 | H12: 車道 | I12: 漏水 | J12: 滞水 | M12: 1.7m×1.1m | N12: 0.5m×0.7m | O12: Ⅱa | R12: 否 | S12: 否 | T12: - | U12: -
C13: 2 | E13: 8 | F13: 17.05 | G13: 路面 | H13: 車道 | I13: 材質劣化 | J13: うき・はく離 | M13: 1.2m×2.5m・D=0.03m | N13: 1.0m×1.1m | O13: Ⅱb | R13: 否 | S13: 否 | T13: - | U13: -
C14: 2 | E14: 9 | F14: 16.58 | G14: 路面 | H14: 車道 | I14: 材質劣化 | J14: うき・はく離 | M14: 1.0m×3.0m・D=0.02m | N14: 0.5m×2.5m | O14: Ⅱb | R14: 否 | S14: 否 | T14: - | U14: -
C15: 2 | E15: 10 | F15: 17.6 | G15: 路面 | H15: 車道 | I15: 漏水 | J15: 滞水 | M15: - | N15: 0.8m×1.2m | O15: Ⅱa | R15: 否 | S15: 否 | T15: - | U15: -
C16: 2 | E16: 11 | F16: 19.71 | G16: 路面 | H16: 車道 | I16: 材質劣化 | J16: うき・はく離 | M16: 1.2m×2.5m・D=0.03m | N16: 1.0m×1.8m | O16: Ⅱb | R16: 否 | S16: 否 | T16: - | U16: -
C17: 3 | E17: 1 | F17: 20.43 | G17: 覆工 | H17: アーチ（左側） | I17: 漏水 | J17: 漏水 | M17: 6.2m×1.1m | N17: 6.2m×1.1m | O17: Ⅱb | P17: - | Q17: Ⅱb | R17: 否 | S17: 要監視 | T17: 継続 | U17: 監視(日常)
C18: 3 | E18: 2 | F18: 21.01 | G18: 覆工 | H18: アーチ（右側） | I18: 材質劣化 | J18: うき・はく離 | M18: 1.0m×0.1m | N18: 0.5m×0.1m | O18: Ⅱa | P18: - | Q18: Ⅱa | R18: 否 | S18: 要監視 | T18: 継続 | U18: 監視(重点) | Y18: 寸法変更
C19: 3 | E19: 3 | F19: 20 | G19: 覆工 | H19: アーチ（右側） | I19: 漏水 | J19: 漏水 | M19: 5.4m×2.8m | N19: 5.0m×2.2m | O19: Ⅱb | P19: - | Q19: Ⅱb | R19: 否 | S19: 要監視 | T19: 継続 | U19: 監視(日常) | Y19: 寸法変更
C20: 3 | E20: 4 | F20: 22.85 | G20: 覆工 | H20: 側壁（左側） | I20: 漏水 | J20: 漏水 | M20: 2.7m×2.5m | N20: 3.0m×2.3m | O20: Ⅱb | P20: - | Q20: Ⅱb | R20: 否 | S20: 要監視 | T20: 継続 | U20: 監視(日常) | Y20: 寸法変更
C21: 3 | E21: 5 | F21: 21.08 | G21: 覆工 | H21: アーチ（右側） | I21: 材質劣化 | J21: うき・はく離 | M21: 0.2m×0.45m・D=0.07m | N21: 0.2m×0.05m | O21: Ⅱa | P21: - | Q21: Ⅱa | R21: 否 | S21: 要監視 | T21: 継続 | U21: 監視(重点) | Y21: 寸法変更
C22: 3 | E22: 6 | F22: 21.61 | G22: 覆工 | H22: アーチ（右側） | I22: 材質劣化 | J22: うき・はく離 | M22: 0.2m×0.3m・D=0.07m | N22: 0.15m×0.1m | O22: Ⅱa | P22: - | Q22: Ⅱa | R22: 否 | S22: 要監視 | T22: 継続 | U22: 監視(重点) | Y22: 寸法変更
C23: 3 | E23: 7 | F23: 22.89 | G23: 覆工 | H23: アーチ（右側） | I23: 漏水 | J23: 漏水 | M23: 4.5m×1.5m | N23: 4.6m×0.5m | O23: Ⅱb | P23: - | Q23: Ⅱb | R23: 否 | S23: 要監視 | T23: 継続 | U23: 監視(日常) | Y23: 寸法変更
C24: 3 | E24: 8 | F24: 26.07 | G24: 覆工 | H24: アーチ（右側） | I24: 材質劣化 | J24: うき・はく離 | M24: 0.05m×0.3m | N24: 0.05m×0.3m | O24: Ⅱa | P24: - | Q24: Ⅱa | R24: 否 | S24: 要監視 | T24: 継続 | U24: 監視(重点)
C25: 3 | E25: 9 | F25: 26.09 | G25: 覆工 | H25: アーチ（右側） | I25: 材質劣化 | J25: うき・はく離 | M25: 0.2m×0.25m | N25: 0.2m×0.25m | O25: Ⅱa | P25: - | Q25: Ⅱa | R25: 否 | S25: 要監視 | T25: 継続 | U25: 監視(重点)
C26: 3 | E26: 10 | F26: 29.59 | G26: 覆工 | H26: アーチ（右側） | I26: 漏水 | J26: 漏水 | M26: 4.5m×0.5m | N26: 3.8m×0.5m | O26: Ⅱb | P26: - | Q26: Ⅱb | R26: 否 | S26: 要監視 | T26: 継続 | U26: 監視(日常) | Y26: 寸法変更
C27: 4 | E27: 1 | F27: 32.3 | G27: 覆工 | H27: アーチ（右側） | I27: 漏水 | J27: 漏水 | M27: 4.2m×0.5m | N27: 3.8m×0.5m | O27: Ⅱb | P27: - | Q27: Ⅱb | R27: 否 | S27: 要監視 | T27: 継続 | U27: 監視(日常) | Y27: 寸法変更
C28: 4 | E28: 2 | F28: 36.11 | G28: 覆工 | H28: アーチ（右側） | I28: 漏水 | J28: 漏水 | M28: 4.6m×0.5m | N28: 4.2m×0.5m | O28: Ⅱb | P28: - | Q28: Ⅱb | R28: 否 | S28: 要監視 | T28: 継続 | U28: 監視(日常) | Y28: 寸法変更
C29: 4 | E29: 3 | F29: 34.6 | G29: 覆工 | H29: 側壁（左側） | I29: 漏水 | J29: 漏水 | M29: 2.5m×7.0m | N29: 2.3m×7.0m | O29: Ⅱb | P29: - | Q29: Ⅱb | R29: 否 | S29: 要監視 | T29: 継続 | U29: 監視(日常) | Y29: 寸法変更
C30: 4 | E30: 4 | F30: 39.33 | G30: 覆工 | H30: アーチ（右側） | I30: 漏水 | J30: 漏水 | M30: 3.1m×1.6m | N30: 2.8m×1.3m | O30: Ⅱb | P30: - | Q30: Ⅱb | R30: 否 | S30: 要監視 | T30: 継続 | U30: 監視(日常) | Y30: 寸法変更
C31: 4 | E31: 5 | F31: 33.07 | G31: 路面 | H31: 車道 | I31: 材質劣化 | J31: うき・はく離 | M31: 1.6m×6.2m・D=0.03m | N31: 1.0m×1.9m | O31: Ⅱb | R31: 否 | S31: 否 | T31: - | U31: -
C32: 4 | E32: 6 | F32: 34.36 | G32: 路面 | H32: 車道 | I32: 材質劣化 | J32: うき・はく離 | M32: 1.5m×10.3m・D=0.03m | N32: 1.1m×7.7m | O32: Ⅱb | R32: 否 | S32: 否 | T32: - | U32: -
C33: 5 | E33: 1 | F33: 42.66 | G33: 覆工 | H33: 側壁（左側） | I33: 漏水 | J33: 漏水 | M33: 1.3m×0.7m | N33: 1.0m×1.9m | O33: Ⅱb | P33: - | Q33: Ⅱb | R33: 否 | S33: 要監視 | T33: 継続 | U33: 監視(日常) | Y33: 寸法変更
C34: 5 | E34: 2 | F34: 40.97 | G34: 覆工 | H34: 側壁（右側） | I34: 漏水 | J34: 漏水 | M34: 2.8m×2.0m | N34: 2.3m×0.7m | O34: Ⅱb | P34: - | Q34: Ⅱb | R34: 否 | S34: 要監視 | T34: 継続 | U34: 監視(日常) | Y34: 寸法変更
C35: 5 | E35: 3 | F35: 44.6 | G35: 覆工 | H35: 側壁（右側） | I35: 漏水 | J35: 漏水 | M35: 3.0m×0.8m | N35: 2.3m×0.5m | O35: Ⅱb | P35: - | Q35: Ⅱb | R35: 否 | S35: 要監視 | T35: 継続 | U35: 監視(日常) | Y35: 寸法変更
C36: 5 | E36: 4 | F36: 45.73 | G36: 覆工 | H36: 側壁（右側） | I36: 漏水 | J36: 漏水 | M36: 2.5m×2.2m | N36: 0.5m×2.3m | O36: Ⅱb | P36: - | Q36: Ⅱb | R36: 否 | S36: 要監視 | T36: 継続 | U36: 監視(日常) | Y36: 寸法変更
C37: 5 | E37: 5 | F37: 48.5 | G37: 覆工 | H37: アーチ（天端） | I37: 材質劣化 | J37: その他 | M37: 1.1m×1.5m | N37: 1.1m×1.5m | O37: Ⅱa | P37: - | Q37: Ⅱa | R37: 否 | S37: 要監視 | T37: 継続 | U37: 監視(重点)
C38: 5 | E38: 6 | F38: 44.91 | G38: 覆工 | H38: アーチ（右側） | I38: 材質劣化 | J38: その他 | M38: 1.5m×2.0m | N38: 1.5m×2.0m | O38: Ⅱa | P38: - | Q38: Ⅱa | R38: 否 | S38: 要監視 | T38: 継続 | U38: 監視(重点)
C39: 5 | E39: 7 | F39: 47.82 | G39: 路面 | H39: 車道 | I39: 材質劣化 | J39: うき・はく離 | M39: 1.2m×5.7m・D=0.03m | N39: 0.9m×3.8m | O39: Ⅱb | R39: 否 | S39: 否 | T39: - | U39: -
C40: 5 | E40: 8 | F40: 45.79 | G40: 路面 | H40: 車道 | I40: 材質劣化 | J40: うき・はく離 | M40: 1.6m×5.7m・D=0.03m | N40: 0.9m×3.2m | O40: Ⅱb | R40: 否 | S40: 否 | T40: - | U40: -
C41: 6 | E41: 1 | F41: 51.08 | G41: 覆工 | H41: アーチ（右側） | I41: 材質劣化 | J41: その他 | M41: 0.8m×0.6m | N41: 0.8m×0.6m | O41: Ⅱa | P41: - | Q41: Ⅱa | R41: 否 | S41: 要監視 | T41: 継続 | U41: 監視(重点)
C42: 6 | E42: 2 | F42: 53.54 | G42: 覆工 | H42: アーチ（右側） | I42: 材質劣化 | J42: その他 | M42: 0.9m×0.7m | N42: 0.9m×0.7m | O42: Ⅱa | P42: - | Q42: Ⅱa | R42: 否 | S42: 要監視 | T42: 継続 | U42: 監視(重点)
C43: ※ 対策区分（応急措置後）のⅡb～Ⅳについて記入すること。また、点検前に実施された措置によりⅠと判定された変状も記入すること。
C44: ※ 応急措置を実施しないで判定した変状の対策区分は、対策区分の応急措置後の欄に記入すること。
C45: ※ 変状の除去が不完全で、緊急対応が必要な場合は対応方針欄に記入すること。
C46: ※ １区間の覆工に複数の変状がある場合は、変状箇所毎に記入すること。
C47: ※ 措置・監視点検を行った場合には、措置履歴、特記事項に記録を残すこと。（実施年度も記載）
C48: ※ 行が不足する場合は、適時、表の行を増やすこと。

Sheet 様式C-1-1 (3)
B2: ■定期点検記録様式 全スパン定期点検結果総括表（トンネル本体工） 【様式C-1-1】
B3: フリガナ | F3: フカボリズイドウ | I3: 路線名 | K3: 大河内地吉線 | O3: 定期点検実施者 | P3: アジア航測株式会社 | T3: 定期点検年月日 | X3: 45926
B4: 名 称 | F4: 深堀隧道 | I4: 管理者名 | K4: 山口県下関土木建築事務所 | P4: 飯田 琢巳
B5: 定期点検結果 | C5: 覆工 スパン 番号 | E5: 変状 番号 | F5: 距離 （m） | G5: 変状部位 | I5: 変 状 の 内 容 | O5: 前回定期点検時の状態 | P5: 今回定期点検結果 | T5: 措置履歴 | Y5: 対応方針 ・ 特記事項
O6: 44263
G7: 対象箇所 | H7: 部位区分 | I7: 変状区分 | J7: 変状種類 | M7: 変状の発生範囲の規模 | N7: 前回定期点検時の変状の発生範囲及び規模 | O7: 対策区分 | P7: 対策区分 | R7: 調査の 要否 | S7: 措置の 要否 | T7: 実施 | U7: 措置の実施状況
P8: 応急措置前 | Q8: 応急措置後
C9: 6 | E9: 3 | F9: 54.53 | G9: 覆工 | H9: 側壁（右側） | I9: 漏水 | J9: 漏水 | M9: 1.5m×0.5m | N9: 1.3m×0.6m | O9: Ⅱb | P9: - | Q9: Ⅱb | R9: 否 | S9: 要監視 | T9: 継続 | U9: 監視(日常) | Y9: 寸法変更
C10: 6 | E10: 4 | F10: 56.81 | G10: 覆工 | H10: 側壁（右側） | I10: 漏水 | J10: 漏水 | M10: 1.0m×0.5m | N10: 0.8m×0.5m | O10: Ⅱb | P10: - | Q10: Ⅱb | R10: 否 | S10: 要監視 | T10: 継続 | U10: 監視(日常) | Y10: 寸法変更
C11: 6 | E11: 5 | F11: 58.87 | G11: 覆工 | H11: 側壁（右側） | I11: 材質劣化 | J11: うき・はく離 | M11: 0.1m×0.5m | N11: 0.1m×0.5m | O11: Ⅱb | P11: - | Q11: Ⅱb | R11: 否 | S11: 要監視 | T11: 継続 | U11: 監視(日常)
C12: 6 | E12: 6 | F12: 56.11 | G12: 覆工 | H12: アーチ（左側） | I12: 材質劣化 | J12: 圧ざ、ひび割れ | M12: W=0.5mm×L=1.8m | N12: W=0.5mm×L=1.9m | O12: Ⅱb | P12: - | Q12: Ⅱb | R12: 否 | S12: 要監視 | T12: 継続 | U12: 監視(日常) | Y12: 寸法変更
C13: 6 | E13: 7 | F13: 55.37 | G13: 覆工 | H13: 側壁（右側） | I13: 材質劣化 | J13: 圧ざ、ひび割れ | M13: W=0.8mm×L=5.4m | N13: W=0.8mm×L=3.4m | O13: Ⅱb | P13: - | Q13: Ⅱb | R13: 否 | S13: 要監視 | T13: 継続 | U13: 監視(日常) | Y13: 寸法変更
C14: 7 | E14: 1 | F14: 61.06 | G14: 覆工 | H14: 側壁（左側） | I14: 材質劣化 | J14: 圧ざ、ひび割れ | M14: W=0.6mm×L=2.5m | N14: W=0.6mm×L=2.3m | O14: Ⅱb | P14: - | Q14: Ⅱb | R14: 否 | S14: 要監視 | T14: 継続 | U14: 監視(日常) | Y14: 寸法変更
C15: 7 | E15: 2 | F15: 63.99 | G15: 覆工 | H15: 側壁（左側） | I15: 材質劣化 | J15: 圧ざ、ひび割れ | M15: W=0.6mm×L=2.4m | N15: W=0.6mm×L=2.2m | O15: Ⅱb | P15: - | Q15: Ⅱb | R15: 否 | S15: 要監視 | T15: 継続 | U15: 監視(日常) | Y15: 寸法変更
C16: 7 | E16: 3 | F16: 61.27 | G16: 覆工 | H16: アーチ（左側） | I16: 材質劣化 | J16: その他 | M16: 0.8m×0.5m | N16: 0.8m×0.5m | O16: Ⅱa | P16: - | Q16: Ⅱa | R16: 否 | S16: 要監視 | T16: 継続 | U16: 監視(重点)
C17: 7 | E17: 4 | F17: 64.16 | G17: 覆工 | H17: アーチ（天端） | I17: 材質劣化 | J17: 圧ざ、ひび割れ | M17: W=0.5mm×L=6.0m | N17: W=0.5mm×L=4.8m | O17: Ⅱb | P17: - | Q17: Ⅱb | R17: 否 | S17: 要監視 | T17: 継続 | U17: 監視(日常) | Y17: 寸法変更
C18: 7 | E18: 5 | F18: 70.97 | G18: 覆工 | H18: アーチ（左側） | I18: 材質劣化 | J18: 圧ざ、ひび割れ | M18: W=0.7mm×L=2.9m | N18: W=0.7mm×L=2.8m | O18: Ⅱb | P18: - | Q18: Ⅱb | R18: 否 | S18: 要監視 | T18: 継続 | U18: 監視(日常) | Y18: 寸法変更
C19: 7 | E19: 6 | F19: 61.81 | G19: 覆工 | H19: 側壁（右側） | I19: 材質劣化 | J19: 圧ざ、ひび割れ | M19: W=0.8mm×L=3.5m | N19: W=0.8mm×L=4.9m | O19: Ⅱb | P19: - | Q19: Ⅱb | R19: 否 | S19: 要監視 | T19: 継続 | U19: 監視(日常) | Y19: 寸法変更
C20: 7 | E20: 7 | F20: 63.43 | G20: 覆工 | H20: アーチ（右側） | I20: 材質劣化 | J20: 圧ざ、ひび割れ | M20: W=0.8mm×L=4.0m | N20: W=0.8mm×L=2.6m | O20: Ⅱb | P20: - | Q20: Ⅱb | R20: 否 | S20: 要監視 | T20: 継続 | U20: 監視(日常) | Y20: 寸法変更
C21: 7 | E21: 8 | F21: 63.88 | G21: 覆工 | H21: 側壁（右側） | I21: 漏水 | J21: 漏水 | M21: 0.7m×0.5m | N21: 0.7m×0.5m | O21: Ⅱb | P21: - | Q21: Ⅱb | R21: 否 | S21: 要監視 | T21: 継続 | U21: 監視(日常) | Y21: 寸法変更
C22: 7 | E22: 9 | F22: 62.11 | G22: 路面 | H22: 車道 | I22: 材質劣化 | J22: うき・はく離 | M22: 1.5m×6.2m・D=0.03m | N22: 0.7m×2.1m | O22: Ⅱb | R22: 否 | S22: 否 | T22: - | U22: -
C23: 7 | E23: 10 | F23: 62.22 | G23: 路面 | H23: 車道 | I23: 材質劣化 | J23: うき・はく離 | M23: 0.8m×7.8m・D=0.03m | N23: 0.5m×5.8m | O23: Ⅱb | R23: 否 | S23: 否 | T23: - | U23: -
C24: 8 | E24: 1 | F24: 72.7 | G24: 覆工 | H24: 側壁（左側） | I24: 漏水 | J24: 漏水 | M24: 2.5m×2.0m | N24: 2.3m×1.9m | O24: Ⅱb | P24: - | Q24: Ⅱb | R24: 否 | S24: 要監視 | T24: 継続 | U24: 監視(日常) | Y24: 寸法変更
C25: 8 | E25: 2 | F25: 74.95 | G25: 覆工 | H25: 側壁（左側） | I25: 漏水 | J25: 漏水 | M25: 2.5m×1.3m | N25: 2.4m×0.7m | O25: Ⅱb | P25: - | Q25: Ⅱb | R25: 否 | S25: 要監視 | T25: 継続 | U25: 監視(日常) | Y25: 寸法変更
C26: 8 | E26: 3 | F26: 73.25 | G26: 覆工 | H26: アーチ（左側） | I26: 材質劣化 | J26: 圧ざ、ひび割れ | M26: W=0.5mm×L=2.3m | N26: W=0.5mm×L=2.4m | O26: Ⅱb | P26: - | Q26: Ⅱb | R26: 否 | S26: 要監視 | T26: 継続 | U26: 監視(日常) | Y26: 寸法変更
C27: 8 | E27: 4 | F27: 72.47 | G27: 覆工 | H27: 側壁（右側） | I27: 漏水 | J27: 漏水 | M27: 2.6m×2.9m | N27: 2.7m×2.3m | O27: Ⅱb | P27: - | Q27: Ⅱb | R27: 否 | S27: 要監視 | T27: 継続 | U27: 監視(日常) | Y27: 寸法変更
C28: 8 | E28: 5 | F28: 78.16 | G28: 覆工 | H28: 側壁（左側） | I28: 漏水 | J28: 漏水 | M28: 2.5m×3.8m | N28: 2.4m×5.2m | O28: Ⅱb | P28: - | Q28: Ⅱb | R28: 否 | S28: 要監視 | T28: 継続 | U28: 監視(日常) | Y28: 寸法変更
C29: 8 | E29: 6 | F29: 76.81 | G29: 覆工 | H29: 側壁（右側） | I29: 漏水 | J29: 漏水 | M29: 2.7m×2.5m | N29: 2.3m×0.5m | O29: Ⅱb | P29: - | Q29: Ⅱb | R29: 否 | S29: 要監視 | T29: 継続 | U29: 監視(日常) | Y29: 寸法変更
C30: 9 | E30: 1 | F30: 84.18 | G30: 覆工 | H30: 側壁（右側） | I30: 漏水 | J30: 漏水 | M30: 2.5m×1.8m | N30: 2.3m×0.6m | O30: Ⅱb | P30: - | Q30: Ⅱb | R30: 否 | S30: 要監視 | T30: 継続 | U30: 監視(日常) | Y30: 寸法変更
C31: 9 | E31: 2 | F31: 86.88 | G31: 覆工 | H31: 側壁（右側） | I31: 漏水 | J31: 漏水 | M31: 2.4m×1.7m | N31: 2.3m×1.3m | O31: Ⅱb | P31: - | Q31: Ⅱb | R31: 否 | S31: 要監視 | T31: 継続 | U31: 監視(日常) | Y31: 寸法変更
C32: 9 | E32: 3 | F32: 88.25 | G32: 覆工 | H32: アーチ（右側） | I32: 漏水 | J32: 漏水 | M32: 6.5m×0.88m | N32: 6.1m×0.5m | O32: Ⅱa | P32: - | Q32: Ⅱb | R32: 否 | S32: 要監視 | T32: 継続 | U32: 監視(日常) | Y32: 寸法変更、判定見直し
C33: 9 | E33: 4 | F33: 87.98 | G33: 覆工 | H33: アーチ（左側） | I33: 漏水 | J33: 漏水 | M33: 6.1m×1.0m | N33: 6.2m×0.5m | O33: Ⅱb | P33: - | Q33: Ⅱb | R33: 否 | S33: 要監視 | T33: 継続 | U33: 監視(日常) | Y33: 寸法変更
C34: 9 | E34: 5 | F34: 89.9 | G34: 覆工 | H34: アーチ（右側） | I34: 漏水 | J34: 漏水 | M34: 6.2m×1.3m | N34: 6.7m×1.7m | O34: Ⅱb | P34: - | Q34: Ⅱa | R34: 否 | S34: 要監視 | T34: 継続 | U34: 監視(日常) | Y34: 寸法変更、判定見直し
C35: 9 | E35: 6 | F35: 87.31 | G35: 路面 | H35: 車道 | I35: 漏水 | J35: 滞水 | M35: 1.0m×1.2m | N35: 0.4m×0.9m | O35: Ⅱa | R35: 否 | S35: 否 | T35: - | U35: -
C36: 10 | E36: 1 | F36: 90.12 | G36: 覆工 | H36: アーチ（左側） | I36: 漏水 | J36: 漏水 | M36: 6.4m×3.1m | N36: 6.1m×2.2m | O36: Ⅱb | P36: - | Q36: Ⅱb | R36: 否 | S36: 要監視 | T36: 継続 | U36: 監視(日常) | Y36: 寸法変更
C37: 10 | E37: 2 | F37: 91.53 | G37: 覆工 | H37: アーチ（右側） | I37: 漏水 | J37: 漏水 | M37: 6.2m×1.8m | N37: 5.8m×1.8m | O37: Ⅱb | P37: - | Q37: Ⅱb | R37: 否 | S37: 要監視 | T37: 継続 | U37: 監視(日常) | Y37: 寸法変更
C38: PE | E38: 1 | F38: 93.01 | G38: 覆工 | H38: 側壁（右側） | I38: 漏水 | J38: 漏水 | M38: 2.4m×0.68m | N38: 4.8m×0.8m | O38: Ⅱb | P38: - | Q38: Ⅱb | R38: 否 | S38: 要監視 | T38: 継続 | U38: 監視(日常) | Y38: 寸法変更
C39: PE | E39: 2 | F39: 102.84 | G39: 覆工 | H39: 面壁・妻壁等 | I39: 材質劣化 | J39: うき・はく離 | M39: 0.4m×0.5m | N39: 0.4m×0.5m | O39: Ⅱa | P39: - | Q39: Ⅱa | R39: 否 | S39: 要監視 | T39: 継続 | U39: 監視(重点)
C40: PE | E40: 3 | F40: 102.96 | G40: 覆工 | H40: 面壁・妻壁等 | I40: 材質劣化 | J40: うき・はく離 | M40: 0.4m×0.5m | N40: - | O40: - | P40: - | Q40: Ⅱa | R40: 否 | S40: 要監視 | T40: 未 | U40: -
C43: ※ 対策区分（応急措置後）のⅡb～Ⅳについて記入すること。また、点検前に実施された措置によりⅠと判定された変状も記入すること。
C44: ※ 応急措置を実施しないで判定した変状の対策区分は、対策区分の応急措置後の欄に記入すること。
C45: ※ 変状の除去が不完全で、緊急対応が必要な場合は対応方針欄に記入すること。
C46: ※ １区間の覆工に複数の変状がある場合は、変状箇所毎に記入すること。
C47: ※ 措置・監視点検を行った場合には、措置履歴、特記事項に記録を残すこと。（実施年度も記載）
C48: ※ 行が不足する場合は、適時、表の行を増やすこと。

Sheet 様式C-1-2 (1)
B2: ■定期点検記録様式 定期点検結果総括表（トンネル内附属物等の取付状態） 【様式C-1-2】
B3: フリガナ | F3: フカボリズイドウ | J3: 路線名 | K3: 大河内地吉線 | M3: 定期点検実施者 | O3: アジア航測株式会社 | S3: 定期点検年月日 | W3: 45926
B4: 名 称 | F4: 深堀隧道 | J4: 管理者名 | K4: 山口県下関土木建築事務所 | O4: 飯田 琢巳
B5: 定期点検結果 | C5: 覆工 スパン 番号 | E5: 異常 番号 | F5: 距離 （m） | G5: 異常部位 | J5: 異 常 の 内 容 | N5: 定期点検結果 | P5: 応急措置の 実施状況 | V5: 対応方針 ・ 特記事項
G6: 対象箇所 | I6: 部位区分 | J6: 異常種類 | L6: 異常の発生範囲の規模 | N6: 異常判定区分 | P6: 実施 | Q6: 応急措置の内容
N7: 応急措置前 | O7: 応急措置後
C8: PS | E8: 101 | F8: 0 | G8: 照明施設 | H8: ケーブル類 | I8: 取付部材 | J8: 腐食 | L8: 1 | O8: × | P8: 未
C9: PS | E9: 102 | F9: 0 | G9: その他施設 | H9: その他 | I9: 附属物本体 | J9: 変形、欠損 | L9: 1 | O9: × | P9: 未
C10: 1 | E10: 101 | F10: 7.61 | G10: 照明施設 | H10: ケーブル類 | I10: ボルト・ﾅｯﾄ・アンカー類 | J10: 腐食 | L10: 2 | O10: × | P10: 未
C11: 1 | E11: 102 | F11: 8.8 | G11: 照明施設 | H11: ケーブル類 | I11: 取付部材 | J11: 変形、欠損 | L11: 1 | O11: × | P11: 未
C12: 1 | E12: 103 | F12: 9.76 | G12: 照明施設 | H12: ケーブル類 | I12: 取付部材 | J12: 変形、欠損 | L12: 1 | O12: × | P12: 未
C13: 1 | E13: 104 | F13: 8.6 | G13: その他施設 | H13: その他 | I13: 附属物本体 | J13: 変形、欠損 | L13: 1 | O13: × | P13: 未
C14: 2 | E14: 101 | F14: 11.38 | G14: 照明施設 | H14: ケーブル類 | I14: 取付部材 | J14: 変形、欠損 | L14: 2 | N14: × | O14: × | P14: 済 | Q14: 金具撤去済
C15: 2 | E15: 102 | F15: 14.16 | G15: 照明施設 | H15: ケーブル類 | I15: 取付部材 | J15: 変形、欠損 | L15: 1 | O15: × | P15: 未
C16: 2 | E16: 103 | F16: 17.21 | G16: 照明施設 | H16: ケーブル類 | I16: 取付部材 | J16: 変形、欠損 | L16: 1 | O16: × | P16: 未
C17: 2 | E17: 104 | F17: 13.52 | G17: その他施設 | H17: その他 | I17: 附属物本体 | J17: 変形、欠損 | L17: 1 | O17: × | P17: 未
C18: 3 | E18: 101 | F18: 20.65 | G18: 照明施設 | H18: ケーブル類 | I18: ボルト・ﾅｯﾄ・アンカー類 | J18: 変形、欠損 | L18: 1 | N18: × | O18: × | P18: 済 | Q18: 応急対策済
C19: 3 | E19: 102 | F19: 26.48 | G19: その他施設 | H19: その他 | I19: 附属物本体 | J19: 変形、欠損 | L19: 1 | O19: × | P19: 未
C20: 4 | E20: 101 | F20: 33.7 | G20: 照明施設 | H20: ケーブル類 | I20: ボルト・ﾅｯﾄ・アンカー類 | J20: 変形、欠損 | L20: 1 | N20: × | O20: × | P20: 済 | Q20: 応急対策済
C21: 4 | E21: 102 | F21: 36.05 | G21: その他施設 | H21: その他 | I21: 附属物本体 | J21: 変形、欠損 | L21: 1 | O21: × | P21: 未
C22: 5 | E22: 101 | F22: 46.77 | G22: 照明施設 | H22: ケーブル類 | I22: ボルト・ﾅｯﾄ・アンカー類 | J22: 変形、欠損 | L22: 1 | O22: × | P22: 未
C23: 5 | E23: 102 | F23: 44.4 | G23: その他施設 | H23: その他 | I23: 附属物本体 | J23: 変形、欠損 | L23: 1 | O23: × | P23: 未
C24: 6 | E24: 101 | F24: 59.89 | G24: 照明施設 | H24: ケーブル類 | I24: ボルト・ﾅｯﾄ・アンカー類 | J24: 腐食 | L24: 2 | O24: × | P24: 未
C25: 6 | E25: 102 | F25: 52.55 | G25: その他施設 | H25: その他 | I25: 附属物本体 | J25: 変形、欠損 | L25: 1 | O25: × | P25: 未
C26: 7 | E26: 101 | F26: 68.94 | G26: その他施設 | H26: その他 | I26: 附属物本体 | J26: 変形、欠損 | L26: 1 | O26: × | P26: 未
C27: 8 | E27: 101 | F27: 72.9 | G27: 照明施設 | H27: ケーブル類 | I27: ボルト・ﾅｯﾄ・アンカー類 | J27: 腐食 | L27: 2 | O27: × | P27: 未
C28: 8 | E28: 102 | F28: 76.82 | G28: その他施設 | H28: その他 | I28: 附属物本体 | J28: 変形、欠損 | L28: 1 | O28: × | P28: 未
C29: 9 | E29: 101 | F29: 85.88 | G29: 照明施設 | H29: ケーブル類 | I29: ボルト・ﾅｯﾄ・アンカー類 | J29: 変形、欠損 | L29: 1 | O29: × | P29: 未
C30: 9 | E30: 102 | F30: 83.52 | G30: その他施設 | H30: その他 | I30: 附属物本体 | J30: 変形、欠損 | L30: 1 | O30: × | P30: 未
C31: 10 | E31: 101 | F31: 92.29 | G31: その他施設 | H31: その他 | I31: 附属物本体 | J31: 変形、欠損 | L31: 1 | O31: × | P31: 未
C32: PE | E32: 101 | F32: 93.28 | G32: 照明施設 | H32: ケーブル類 | I32: 取付部材 | J32: 腐食 | L32: 1 | O32: × | P32: 未
C42: ※ 異常判定区分×について記入すること。また、応急措置により○と判定された箇所も記入すること。
C43: ※ 応急措置を実施しないで判定した箇所の異常判定区分は、異常判定区分の応急措置後の欄に記入すること。
C44: ※ 異常の除去が不完全で、緊急対応が必要な場合は対応方針欄に記入すること。
C45: ※ １スパンの覆工に複数の異常がある場合は、異常箇所毎に記入すること。
C46: ※ 行が不足する場合は、適時、表の行を増やすこと。

Sheet 様式C-2
B2: ■定期点検記録様式 状態の把握の内容 【様式C-2】
B3: フリガナ | E3: フカボリズイドウ | H3: 路線名 | J3: 大河内地吉線 | M3: 定期点検実施者 | Q3: アジア航測株式会社 | U3: 定期点検年月日 | X3: 45926
B4: 名 称 | E4: 深堀隧道 | H4: 管理者名 | J4: 山口県下関土木建築事務所 | Q4: 飯田 琢巳
B5: 状態の把握の内容 | C5: 覆工スパン 番号 | E5: 変状 番号 | F5: 状態の把握の内容
F6: 年月日 | H6: 内容 | O6: 結果 | Y6: 対策区分の 判定
B22: 注）状態の把握において、微破壊・非破壊検査や各種試験等を実施した場合について記載する。
B23: ※ 行が不足する場合は、適時、表の行を増やすこと。

Sheet 様式D-1-1 P001
B2: ■定期点検記録様式 変状写真台帳【様式D-1-1】 | R2: 施設ID | T2: ='様式A-1'!W2 -> 34.23956,131.11619
B3: フリガナ | E3: フカボリズイドウ | H3: 路 線 名 | J3: 大河内地吉線 | M3: 定期点検実施者 | P3: アジア航測株式会社 | S3: 定期点検年月日 | U3: 45926
B4: 名 称 | E4: 深堀隧道 | H4: 管理者名 | J4: 山口県下関土木建築事務所 | P4: 飯田 琢巳
B5: 写真 番号 | C5: 覆工スパン 番号 | E5: PS | M5: 写真 番号 | N5: 覆工スパン 番号 | P5: PS
C6: 変状番号 | E6: 1 | N6: 変状番号 | P6: 2
B7: 変状 部位 | C7: 対象箇所 | E7: 覆工 | M7: 変状 部位 | N7: 対象箇所 | P7: 覆工
C8: 部位区分 | E8: 面壁・妻壁等 | N8: 部位区分 | P8: 面壁・妻壁等
B9: 変状種類 | E9: その他 | M9: 変状種類 | P9: その他
B10: 対策 区分 | C10: 変状区分 | E10: 材質劣化 | M10: 対策 区分 | N10: 変状区分 | P10: 材質劣化
C11: 応急措置前 | E11: - | N11: 応急措置前 | P11: -
C12: 応急措置後 | E12: Ⅱa | N12: 応急措置後 | P12: Ⅱa
B13: 変状の発生範囲及び規模 | E13: 0.4m×0.4m | H13: 前回変状の発生範囲及び規模 | J13: その他 0.4m×0.4m | M13: 変状の発生範囲及び規模 | P13: 0.4m×0.4m | S13: 前回変状の発生範囲及び規模 | U13: その他 0.4m×0.4m
B14: 対策履歴 | E14: - | H14: 実施状況（実施日） | J14: - | M14: 対策履歴 | P14: - | S14: 実施状況（実施日） | U14: -
B15: メモ | E15: 面壁の骨材露出 浸透性硬化剤塗布済 計画的な対策が望まれる | M15: メモ | P15: 面壁の骨材露出 浸透性硬化剤塗布済 計画的な対策が望まれる
B16: 写真 番号 | C16: 覆工スパン 番号 | E16: PS | M16: 写真 番号 | N16: 覆工スパン 番号 | P16: PS
C17: 変状番号 | E17: 3 | N17: 変状番号 | P17: 4
B18: 変状 部位 | C18: 対象箇所 | E18: 覆工 | M18: 変状 部位 | N18: 対象箇所 | P18: 覆工
C19: 部位区分 | E19: 面壁・妻壁等 | N19: 部位区分 | P19: 面壁・妻壁等
B20: 変状種類 | E20: 漏水 | M20: 変状種類 | P20: うき・はく離
B21: 対策 区分 | C21: 変状区分 | E21: 漏水 | M21: 対策 区分 | N21: 変状区分 | P21: 材質劣化
C22: 応急措置前 | E22: - | N22: 応急措置前 | P22: -
C23: 応急措置後 | E23: Ⅱb | N23: 応急措置後 | P23: Ⅱa
B24: 変状の発生範囲及び規模 | E24: 4.3m×0.5m | H24: 前回変状の発生範囲及び規模 | J24: 漏水 0.3m×0.3m | M24: 変状の発生範囲及び規模 | P24: 0.4m×0.9m | S24: 前回変状の発生範囲及び規模 | U24: うき・はく離 0.4m×0.9m
B25: 対策履歴 | E25: - | H25: 実施状況（実施日） | J25: - | M25: 対策履歴 | P25: - | S25: 実施状況（実施日） | U25: -
B26: メモ | E26: 面壁のにじみ 経過観察が望まれる | M26: メモ | P26: 面壁のうき 浸透性硬化剤塗布済 計画的な対策が望まれる
C27: ※ 応急措置後の対策区分について添付すること。また、点検前に 実施された措置によりⅠと判定された箇所も添付すること。 | N27: ※ 変状の発生範囲の規模とは、対策を行う際に参考となる変状の長さや面積をいう。
N28: ※ 応急措置を実施しないで決定した変状の対策区分は、対策区分の応急措置後の欄に記入すること。
C29: ※ たたき落としを実施した場合は、実施後の写真を添付すること。 | N29: ※ 変状の発生範囲の規模は、面積・寸法を記載すること。(ひび割れ幅のみmmとし、その他をm表記とする)
C30: ※ 附属物の取付状態に関する異常写真は別途、任意の書式でとりまとめること。 | N30: ※ 構造用鋼材以外の異物に伴ううき・はく離については、メモ欄に異物の概要を記入すること。

Sheet 様式D-1-1 P002
B2: ■定期点検記録様式 変状写真台帳【様式D-1-1】 | R2: 施設ID | T2: ='様式A-1'!W2 -> 34.23956,131.11619
B3: フリガナ | E3: フカボリズイドウ | H3: 路 線 名 | J3: 大河内地吉線 | M3: 定期点検実施者 | P3: アジア航測株式会社 | S3: 定期点検年月日 | U3: 45926
B4: 名 称 | E4: 深堀隧道 | H4: 管理者名 | J4: 山口県下関土木建築事務所 | P4: 飯田 琢巳
B5: 写真 番号 | C5: 覆工スパン 番号 | E5: PS | M5: 写真 番号 | N5: 覆工スパン 番号 | P5: PS
C6: 変状番号 | E6: 5 | N6: 変状番号 | P6: 6
B7: 変状 部位 | C7: 対象箇所 | E7: 覆工 | M7: 変状 部位 | N7: 対象箇所 | P7: 覆工
C8: 部位区分 | E8: 面壁・妻壁等 | N8: 部位区分 | P8: 面壁・妻壁等
B9: 変状種類 | E9: うき・はく離 | M9: 変状種類 | P9: うき・はく離
B10: 対策 区分 | C10: 変状区分 | E10: 材質劣化 | M10: 対策 区分 | N10: 変状区分 | P10: 材質劣化
C11: 応急措置前 | E11: - | N11: 応急措置前 | P11: -
C12: 応急措置後 | E12: Ⅱa | N12: 応急措置後 | P12: Ⅱa
B13: 変状の発生範囲及び規模 | E13: 0.4m×1.5m | H13: 前回変状の発生範囲及び規模 | J13: うき・はく離 0.4m×1.5m | M13: 変状の発生範囲及び規模 | P13: 0.8m×0.8m | S13: 前回変状の発生範囲及び規模 | U13: うき・はく離 0.8m×0.5m
B14: 対策履歴 | E14: - | H14: 実施状況（実施日） | J14: - | M14: 対策履歴 | P14: - | S14: 実施状況（実施日） | U14: -
B15: メモ | E15: 面壁のうき 浸透性硬化剤塗布済 計画的な対策が望まれる | M15: メモ | P15: 面壁のうき 浸透性硬化剤塗布済 計画的な対策が望まれる
B16: 写真 番号 | C16: 覆工スパン 番号 | E16: PS | M16: 写真 番号 | N16: 覆工スパン 番号 | P16: PS
C17: 変状番号 | E17: 7 | N17: 変状番号 | P17: 8
B18: 変状 部位 | C18: 対象箇所 | E18: 覆工 | M18: 変状 部位 | N18: 対象箇所 | P18: 覆工
C19: 部位区分 | E19: 面壁・妻壁等 | N19: 部位区分 | P19: 面壁・妻壁等
B20: 変状種類 | E20: うき・はく離 | M20: 変状種類 | P20: うき・はく離
B21: 対策 区分 | C21: 変状区分 | E21: 材質劣化 | M21: 対策 区分 | N21: 変状区分 | P21: 材質劣化
C22: 応急措置前 | E22: - | N22: 応急措置前 | P22: -
C23: 応急措置後 | E23: Ⅱa | N23: 応急措置後 | P23: Ⅱa
B24: 変状の発生範囲及び規模 | E24: 0.5m×1.6m | H24: 前回変状の発生範囲及び規模 | J24: うき・はく離 0.4m×1.6m | M24: 変状の発生範囲及び規模 | P24: 0.25m×1.5m | S24: 前回変状の発生範囲及び規模 | U24: うき・はく離 0.25m×1.5m
B25: 対策履歴 | E25: - | H25: 実施状況（実施日） | J25: - | M25: 対策履歴 | P25: - | S25: 実施状況（実施日） | U25: -
B26: メモ | E26: 面壁のうき 浸透性硬化剤塗布済 計画的な対策が望まれる | M26: メモ | P26: 面壁のうき 浸透性硬化剤塗布済 計画的な対策が望まれる
C27: ※ 応急措置後の対策区分について添付すること。また、点検前に 実施された措置によりⅠと判定された箇所も添付すること。 | N27: ※ 変状の発生範囲の規模とは、対策を行う際に参考となる変状の長さや面積をいう。
N28: ※ 応急措置を実施しないで決定した変状の対策区分は、対策区分の応急措置後の欄に記入すること。
C29: ※ たたき落としを実施した場合は、実施後の写真を添付すること。 | N29: ※ 変状の発生範囲の規模は、面積・寸法を記載すること。(ひび割れ幅のみmmとし、その他をm表記とする)
C30: ※ 附属物の取付状態に関する異常写真は別途、任意の書式でとりまとめること。 | N30: ※ 構造用鋼材以外の異物に伴ううき・はく離については、メモ欄に異物の概要を記入すること。

Sheet 様式D-1-1 P003
B2: ■定期点検記録様式 変状写真台帳【様式D-1-1】 | R2: 施設ID | T2: ='様式A-1'!W2 -> 34.23956,131.11619
B3: フリガナ | E3: フカボリズイドウ | H3: 路 線 名 | J3: 大河内地吉線 | M3: 定期点検実施者 | P3: アジア航測株式会社 | S3: 定期点検年月日 | U3: 45926
B4: 名 称 | E4: 深堀隧道 | H4: 管理者名 | J4: 山口県下関土木建築事務所 | P4: 飯田 琢巳
B5: 写真 番号 | C5: 覆工スパン 番号 | E5: PS | M5: 写真 番号 | N5: 覆工スパン 番号 | P5: PS
C6: 変状番号 | E6: 9 | N6: 変状番号 | P6: 10
B7: 変状 部位 | C7: 対象箇所 | E7: 覆工 | M7: 変状 部位 | N7: 対象箇所 | P7: 覆工
C8: 部位区分 | E8: 面壁・妻壁等 | N8: 部位区分 | P8: アーチ（左側）
B9: 変状種類 | E9: 漏水 | M9: 変状種類 | P9: うき・はく離
B10: 対策 区分 | C10: 変状区分 | E10: 漏水 | M10: 対策 区分 | N10: 変状区分 | P10: 材質劣化
C11: 応急措置前 | E11: - | N11: 応急措置前 | P11: -
C12: 応急措置後 | E12: Ⅱb | N12: 応急措置後 | P12: Ⅱa
B13: 変状の発生範囲及び規模 | E13: 2.9m×4.5m | H13: 前回変状の発生範囲及び規模 | J13: 漏水 2.9m×4.5m | M13: 変状の発生範囲及び規模 | P13: 0.4m×0.6m | S13: 前回変状の発生範囲及び規模 | U13: うき・はく離 0.4m×0.2m
B14: 対策履歴 | E14: - | H14: 実施状況（実施日） | J14: - | M14: 対策履歴 | P14: - | S14: 実施状況（実施日） | U14: -
B15: メモ | E15: 面壁のにじみ 経過観察が望まれる | M15: メモ | P15: アーチのうき 浸透性硬化剤塗布済 計画的な対策が望まれる
B16: 写真 番号 | C16: 覆工スパン 番号 | E16: PS | M16: 写真 番号 | N16: 覆工スパン 番号 | P16: PS
C17: 変状番号 | E17: 11 | N17: 変状番号 | P17: 12
B18: 変状 部位 | C18: 対象箇所 | E18: 覆工 | M18: 変状 部位 | N18: 対象箇所 | P18: 覆工
C19: 部位区分 | E19: アーチ（左側） | N19: 部位区分 | P19: アーチ（左側）
B20: 変状種類 | E20: その他 | M20: 変状種類 | P20: その他
B21: 対策 区分 | C21: 変状区分 | E21: 材質劣化 | M21: 対策 区分 | N21: 変状区分 | P21: 材質劣化
C22: 応急措置前 | E22: - | N22: 応急措置前 | P22: -
C23: 応急措置後 | E23: Ⅱb | N23: 応急措置後 | P23: Ⅱb
B24: 変状の発生範囲及び規模 | E24: 0.4m×0.6m | H24: 前回変状の発生範囲及び規模 | J24: その他 0.4m×0.6m | M24: 変状の発生範囲及び規模 | P24: 0.4m×0.4m | S24: 前回変状の発生範囲及び規模 | U24: その他 0.4m×0.4m
B25: 対策履歴 | E25: - | H25: 実施状況（実施日） | J25: - | M25: 対策履歴 | P25: - | S25: 実施状況（実施日） | U25: -
B26: メモ | E26: アーチの骨材露出 浸透性硬化剤塗布済 経過観察が望まれる | M26: メモ | P26: アーチの骨材露出 浸透性硬化剤塗布済 経過観察が望まれる
C27: ※ 応急措置後の対策区分について添付すること。また、点検前に 実施された措置によりⅠと判定された箇所も添付すること。 | N27: ※ 変状の発生範囲の規模とは、対策を行う際に参考となる変状の長さや面積をいう。
N28: ※ 応急措置を実施しないで決定した変状の対策区分は、対策区分の応急措置後の欄に記入すること。
C29: ※ たたき落としを実施した場合は、実施後の写真を添付すること。 | N29: ※ 変状の発生範囲の規模は、面積・寸法を記載すること。(ひび割れ幅のみmmとし、その他をm表記とする)
C30: ※ 附属物の取付状態に関する異常写真は別途、任意の書式でとりまとめること。 | N30: ※ 構造用鋼材以外の異物に伴ううき・はく離については、メモ欄に異物の概要を記入すること。

Sheet 様式D-1-1 P004
B2: ■定期点検記録様式 変状写真台帳【様式D-1-1】 | R2: 施設ID | T2: ='様式A-1'!W2 -> 34.23956,131.11619
B3: フリガナ | E3: フカボリズイドウ | H3: 路 線 名 | J3: 大河内地吉線 | M3: 定期点検実施者 | P3: アジア航測株式会社 | S3: 定期点検年月日 | U3: 45926
B4: 名 称 | E4: 深堀隧道 | H4: 管理者名 | J4: 山口県下関土木建築事務所 | P4: 飯田 琢巳
B5: 写真 番号 | C5: 覆工スパン 番号 | E5: PS | M5: 写真 番号 | N5: 覆工スパン 番号 | P5: PS
C6: 変状番号 | E6: 13 | N6: 変状番号 | P6: 14
B7: 変状 部位 | C7: 対象箇所 | E7: 覆工 | M7: 変状 部位 | N7: 対象箇所 | P7: 覆工
C8: 部位区分 | E8: アーチ（右側） | N8: 部位区分 | P8: 側壁（右側）
B9: 変状種類 | E9: その他 | M9: 変状種類 | P9: うき・はく離
B10: 対策 区分 | C10: 変状区分 | E10: 材質劣化 | M10: 対策 区分 | N10: 変状区分 | P10: 材質劣化
C11: 応急措置前 | E11: - | N11: 応急措置前 | P11: -
C12: 応急措置後 | E12: Ⅱb | N12: 応急措置後 | P12: Ⅱb
B13: 変状の発生範囲及び規模 | E13: 0.3m×0.3m | H13: 前回変状の発生範囲及び規模 | J13: その他 0.3m×0.3m | M13: 変状の発生範囲及び規模 | P13: 2.3m×0.4m・D=0.03m | S13: 前回変状の発生範囲及び規模 | U13: うき・はく離 2.2m×0.25m
B14: 対策履歴 | E14: - | H14: 実施状況（実施日） | J14: - | M14: 対策履歴 | P14: - | S14: 実施状況（実施日） | U14: -
B15: メモ | E15: アーチの骨材露出 浸透性硬化剤塗布済 経過観察が望まれる | M15: メモ | P15: 側壁のうき 経過観察が望まれる
B16: 写真 番号 | C16: 覆工スパン 番号 | E16: PS | M16: 写真 番号 | N16: 覆工スパン 番号 | P16: 1
C17: 変状番号 | E17: 15 | N17: 変状番号 | P17: 1
B18: 変状 部位 | C18: 対象箇所 | E18: 覆工 | M18: 変状 部位 | N18: 対象箇所 | P18: 覆工
C19: 部位区分 | E19: 面壁・妻壁等 | N19: 部位区分 | P19: アーチ（左側）
B20: 変状種類 | E20: うき・はく離 | M20: 変状種類 | P20: 漏水
B21: 対策 区分 | C21: 変状区分 | E21: 材質劣化 | M21: 対策 区分 | N21: 変状区分 | P21: 漏水
C22: 応急措置前 | E22: - | N22: 応急措置前 | P22: -
C23: 応急措置後 | E23: Ⅱb | N23: 応急措置後 | P23: Ⅱb
B24: 変状の発生範囲及び規模 | E24: 0.2m×0.5m | H24: 前回変状の発生範囲及び規模 | J24: 新規 | M24: 変状の発生範囲及び規模 | P24: 6.5m×3.4m | S24: 前回変状の発生範囲及び規模 | U24: 漏水 6.2m×3.1m
B25: 対策履歴 | E25: - | H25: 実施状況（実施日） | J25: - | M25: 対策履歴 | P25: - | S25: 実施状況（実施日） | U25: -
B26: メモ | E26: 面壁のうき 経過観察が望まれる | M26: メモ | P26: アーチのにじみ 経過観察が望まれる
C27: ※ 応急措置後の対策区分について添付すること。また、点検前に 実施された措置によりⅠと判定された箇所も添付すること。 | N27: ※ 変状の発生範囲の規模とは、対策を行う際に参考となる変状の長さや面積をいう。
N28: ※ 応急措置を実施しないで決定した変状の対策区分は、対策区分の応急措置後の欄に記入すること。
C29: ※ たたき落としを実施した場合は、実施後の写真を添付すること。 | N29: ※ 変状の発生範囲の規模は、面積・寸法を記載すること。(ひび割れ幅のみmmとし、その他をm表記とする)
C30: ※ 附属物の取付状態に関する異常写真は別途、任意の書式でとりまとめること。 | N30: ※ 構造用鋼材以外の異物に伴ううき・はく離については、メモ欄に異物の概要を記入すること。

Sheet 様式D-1-1 P005
B2: ■定期点検記録様式 変状写真台帳【様式D-1-1】 | R2: 施設ID | T2: ='様式A-1'!W2 -> 34.23956,131.11619
B3: フリガナ | E3: フカボリズイドウ | H3: 路 線 名 | J3: 大河内地吉線 | M3: 定期点検実施者 | P3: アジア航測株式会社 | S3: 定期点検年月日 | U3: 45926
B4: 名 称 | E4: 深堀隧道 | H4: 管理者名 | J4: 山口県下関土木建築事務所 | P4: 飯田 琢巳
B5: 写真 番号 | C5: 覆工スパン 番号 | E5: 1 | M5: 写真 番号 | N5: 覆工スパン 番号 | P5: 1
C6: 変状番号 | E6: 2 | N6: 変状番号 | P6: 3
B7: 変状 部位 | C7: 対象箇所 | E7: 覆工 | M7: 変状 部位 | N7: 対象箇所 | P7: 覆工
C8: 部位区分 | E8: アーチ（左側） | N8: 部位区分 | P8: アーチ（左側）
B9: 変状種類 | E9: うき・はく離 | M9: 変状種類 | P9: 漏水
B10: 対策 区分 | C10: 変状区分 | E10: 材質劣化 | M10: 対策 区分 | N10: 変状区分 | P10: 漏水
C11: 応急措置前 | E11: - | N11: 応急措置前 | P11: -
C12: 応急措置後 | E12: Ⅱa | N12: 応急措置後 | P12: Ⅱb
B13: 変状の発生範囲及び規模 | E13: 0.5m×0.3m | H13: 前回変状の発生範囲及び規模 | J13: うき・はく離 0.5m×0.3m | M13: 変状の発生範囲及び規模 | P13: 6.3m×0.5m | S13: 前回変状の発生範囲及び規模 | U13: 滴水 6.5m×0.5m
B14: 対策履歴 | E14: - | H14: 実施状況（実施日） | J14: - | M14: 対策履歴 | P14: - | S14: 実施状況（実施日） | U14: -
B15: メモ | E15: アーチのうき 浸透性硬化剤塗布済 計画的な対策が望まれる | M15: メモ | P15: アーチのにじみ 経過観察が望まれる
B16: 写真 番号 | C16: 覆工スパン 番号 | E16: 1 | M16: 写真 番号 | N16: 覆工スパン 番号 | P16: 1
C17: 変状番号 | E17: 4 | N17: 変状番号 | P17: 5
B18: 変状 部位 | C18: 対象箇所 | E18: 覆工 | M18: 変状 部位 | N18: 対象箇所 | P18: 覆工
C19: 部位区分 | E19: アーチ（右側） | N19: 部位区分 | P19: アーチ（右側）
B20: 変状種類 | E20: 漏水 | M20: 変状種類 | P20: 漏水
B21: 対策 区分 | C21: 変状区分 | E21: 漏水 | M21: 対策 区分 | N21: 変状区分 | P21: 漏水
C22: 応急措置前 | E22: - | N22: 応急措置前 | P22: -
C23: 応急措置後 | E23: Ⅱb | N23: 応急措置後 | P23: Ⅱb
B24: 変状の発生範囲及び規模 | E24: 6.5m×0.5m | H24: 前回変状の発生範囲及び規模 | J24: 滴水 6.5m×0.5m | M24: 変状の発生範囲及び規模 | P24: 6.5m×3.3m | S24: 前回変状の発生範囲及び規模 | U24: 漏水 4.2m×1.7m
B25: 対策履歴 | E25: - | H25: 実施状況（実施日） | J25: - | M25: 対策履歴 | P25: - | S25: 実施状況（実施日） | U25: -
B26: メモ | E26: アーチのにじみ 経過観察が望まれる | M26: メモ | P26: アーチのにじみ 経過観察が望まれる
C27: ※ 応急措置後の対策区分について添付すること。また、点検前に 実施された措置によりⅠと判定された箇所も添付すること。 | N27: ※ 変状の発生範囲の規模とは、対策を行う際に参考となる変状の長さや面積をいう。
N28: ※ 応急措置を実施しないで決定した変状の対策区分は、対策区分の応急措置後の欄に記入すること。
C29: ※ たたき落としを実施した場合は、実施後の写真を添付すること。 | N29: ※ 変状の発生範囲の規模は、面積・寸法を記載すること。(ひび割れ幅のみmmとし、その他をm表記とする)
C30: ※ 附属物の取付状態に関する異常写真は別途、任意の書式でとりまとめること。 | N30: ※ 構造用鋼材以外の異物に伴ううき・はく離については、メモ欄に異物の概要を記入すること。

Sheet 様式D-1-1 P006
B2: ■定期点検記録様式 変状写真台帳【様式D-1-1】 | R2: 施設ID | T2: ='様式A-1'!W2 -> 34.23956,131.11619
B3: フリガナ | E3: フカボリズイドウ | H3: 路 線 名 | J3: 大河内地吉線 | M3: 定期点検実施者 | P3: アジア航測株式会社 | S3: 定期点検年月日 | U3: 45926
B4: 名 称 | E4: 深堀隧道 | H4: 管理者名 | J4: 山口県下関土木建築事務所 | P4: 飯田 琢巳
B5: 写真 番号 | C5: 覆工スパン 番号 | E5: 1 | M5: 写真 番号 | N5: 覆工スパン 番号 | P5: 1
C6: 変状番号 | E6: 6 | N6: 変状番号 | P6: 7
B7: 変状 部位 | C7: 対象箇所 | E7: 覆工 | M7: 変状 部位 | N7: 対象箇所 | P7: 覆工
C8: 部位区分 | E8: アーチ（左側） | N8: 部位区分 | P8: アーチ（左側）
B9: 変状種類 | E9: 漏水 | M9: 変状種類 | P9: うき・はく離
B10: 対策 区分 | C10: 変状区分 | E10: 漏水 | M10: 対策 区分 | N10: 変状区分 | P10: 材質劣化
C11: 応急措置前 | E11: - | N11: 応急措置前 | P11: -
C12: 応急措置後 | E12: Ⅱb | N12: 応急措置後 | P12: Ⅱa
B13: 変状の発生範囲及び規模 | E13: 6.5m×2.1m | H13: 前回変状の発生範囲及び規模 | J13: 漏水 5.1m×1.6m | M13: 変状の発生範囲及び規模 | P13: 1.1m×0.2m | S13: 前回変状の発生範囲及び規模 | U13: うき・はく離 0.7m×0.2m
B14: 対策履歴 | E14: - | H14: 実施状況（実施日） | J14: - | M14: 対策履歴 | P14: - | S14: 実施状況（実施日） | U14: -
B15: メモ | E15: アーチのにじみ 経過観察が望まれる | M15: メモ | P15: アーチのうき 計画的な対策が望まれる
B16: 写真 番号 | C16: 覆工スパン 番号 | E16: 1 | M16: 写真 番号 | N16: 覆工スパン 番号 | P16: 1
C17: 変状番号 | E17: 8 | N17: 変状番号 | P17: 9
B18: 変状 部位 | C18: 対象箇所 | E18: 覆工 | M18: 変状 部位 | N18: 対象箇所 | P18: 覆工
C19: 部位区分 | E19: アーチ（右側） | N19: 部位区分 | P19: アーチ（右側）
B20: 変状種類 | E20: 漏水 | M20: 変状種類 | P20: 漏水
B21: 対策 区分 | C21: 変状区分 | E21: 漏水 | M21: 対策 区分 | N21: 変状区分 | P21: 漏水
C22: 応急措置前 | E22: - | N22: 応急措置前 | P22: -
C23: 応急措置後 | E23: Ⅱb | N23: 応急措置後 | P23: Ⅱb
B24: 変状の発生範囲及び規模 | E24: 6.5m×1.6m | H24: 前回変状の発生範囲及び規模 | J24: 漏水 4.9m×0.7m | M24: 変状の発生範囲及び規模 | P24: 4.2m×0.8m | S24: 前回変状の発生範囲及び規模 | U24: 漏水 2.3m×0.8m
B25: 対策履歴 | E25: - | H25: 実施状況（実施日） | J25: - | M25: 対策履歴 | P25: - | S25: 実施状況（実施日） | U25: -
B26: メモ | E26: アーチのにじみ 経過観察が望まれる | M26: メモ | P26: アーチのにじみ 経過観察が望まれる
C27: ※ 応急措置後の対策区分について添付すること。また、点検前に 実施された措置によりⅠと判定された箇所も添付すること。 | N27: ※ 変状の発生範囲の規模とは、対策を行う際に参考となる変状の長さや面積をいう。
N28: ※ 応急措置を実施しないで決定した変状の対策区分は、対策区分の応急措置後の欄に記入すること。
C29: ※ たたき落としを実施した場合は、実施後の写真を添付すること。 | N29: ※ 変状の発生範囲の規模は、面積・寸法を記載すること。(ひび割れ幅のみmmとし、その他をm表記とする)
C30: ※ 附属物の取付状態に関する異常写真は別途、任意の書式でとりまとめること。 | N30: ※ 構造用鋼材以外の異物に伴ううき・はく離については、メモ欄に異物の概要を記入すること。

Sheet 様式D-1-1 P007
B2: ■定期点検記録様式 変状写真台帳【様式D-1-1】 | R2: 施設ID | T2: ='様式A-1'!W2 -> 34.23956,131.11619
B3: フリガナ | E3: フカボリズイドウ | H3: 路 線 名 | J3: 大河内地吉線 | M3: 定期点検実施者 | P3: アジア航測株式会社 | S3: 定期点検年月日 | U3: 45926
B4: 名 称 | E4: 深堀隧道 | H4: 管理者名 | J4: 山口県下関土木建築事務所 | P4: 飯田 琢巳
B5: 写真 番号 | C5: 覆工スパン 番号 | E5: 1 | M5: 写真 番号 | N5: 覆工スパン 番号 | P5: 1
C6: 変状番号 | E6: 10 | N6: 変状番号 | P6: 11
B7: 変状 部位 | C7: 対象箇所 | E7: 覆工 | M7: 変状 部位 | N7: 対象箇所 | P7: 覆工
C8: 部位区分 | E8: 側壁（左側） | N8: 部位区分 | P8: アーチ（左側）
B9: 変状種類 | E9: 漏水 | M9: 変状種類 | P9: 漏水
B10: 対策 区分 | C10: 変状区分 | E10: 漏水 | M10: 対策 区分 | N10: 変状区分 | P10: 漏水
C11: 応急措置前 | E11: - | N11: 応急措置前 | P11: -
C12: 応急措置後 | E12: Ⅱb | N12: 応急措置後 | P12: Ⅱb
B13: 変状の発生範囲及び規模 | E13: 2.3m×2.3m | H13: 前回変状の発生範囲及び規模 | J13: 漏水 2.3×0.5m | M13: 変状の発生範囲及び規模 | P13: 4.5m×2.1m | S13: 前回変状の発生範囲及び規模 | U13: 漏水 4.5m×0.5m
B14: 対策履歴 | E14: - | H14: 実施状況（実施日） | J14: - | M14: 対策履歴 | P14: - | S14: 実施状況（実施日） | U14: -
B15: メモ | E15: 側壁のにじみ 経過観察が望まれる | M15: メモ | P15: アーチのにじみ 経過観察が望まれる
B16: 写真 番号 | C16: 覆工スパン 番号 | E16: 1 | M16: 写真 番号 | N16: 覆工スパン 番号 | P16: 1
C17: 変状番号 | E17: 12 | N17: 変状番号 | P17: 13
B18: 変状 部位 | C18: 対象箇所 | E18: 覆工 | M18: 変状 部位 | N18: 対象箇所 | P18: 覆工
C19: 部位区分 | E19: アーチ（天端） | N19: 部位区分 | P19: アーチ（右側）
B20: 変状種類 | E20: 補修・補強材の破損 | M20: 変状種類 | P20: 漏水
B21: 対策 区分 | C21: 変状区分 | E21: 材質劣化 | M21: 対策 区分 | N21: 変状区分 | P21: 漏水
C22: 応急措置前 | E22: - | N22: 応急措置前 | P22: -
C23: 応急措置後 | E23: Ⅱa | N23: 応急措置後 | P23: Ⅱb
B24: 変状の発生範囲及び規模 | E24: 補修工ボルト腐食：16箇所 | H24: 前回変状の発生範囲及び規模 | J24: 鋼材腐食 補修工ボルト腐食：16箇所 | M24: 変状の発生範囲及び規模 | P24: 4.5m×0.5m | S24: 前回変状の発生範囲及び規模 | U24: 漏水 4.5m×0.5m
B25: 対策履歴 | E25: - | H25: 実施状況（実施日） | J25: - | M25: 対策履歴 | P25: - | S25: 実施状況（実施日） | U25: -
B26: メモ | E26: 鋼板補修工の固定ボルト腐食 防錆材塗布済 計画的な対策が望まれる | M26: メモ | P26: アーチのにじみ 経過観察が望まれる
C27: ※ 応急措置後の対策区分について添付すること。また、点検前に 実施された措置によりⅠと判定された箇所も添付すること。 | N27: ※ 変状の発生範囲の規模とは、対策を行う際に参考となる変状の長さや面積をいう。
N28: ※ 応急措置を実施しないで決定した変状の対策区分は、対策区分の応急措置後の欄に記入すること。
C29: ※ たたき落としを実施した場合は、実施後の写真を添付すること。 | N29: ※ 変状の発生範囲の規模は、面積・寸法を記載すること。(ひび割れ幅のみmmとし、その他をm表記とする)
C30: ※ 附属物の取付状態に関する異常写真は別途、任意の書式でとりまとめること。 | N30: ※ 構造用鋼材以外の異物に伴ううき・はく離については、メモ欄に異物の概要を記入すること。

Sheet 様式D-1-1 P008
B2: ■定期点検記録様式 変状写真台帳【様式D-1-1】 | R2: 施設ID | T2: ='様式A-1'!W2 -> 34.23956,131.11619
B3: フリガナ | E3: フカボリズイドウ | H3: 路 線 名 | J3: 大河内地吉線 | M3: 定期点検実施者 | P3: アジア航測株式会社 | S3: 定期点検年月日 | U3: 45926
B4: 名 称 | E4: 深堀隧道 | H4: 管理者名 | J4: 山口県下関土木建築事務所 | P4: 飯田 琢巳
B5: 写真 番号 | C5: 覆工スパン 番号 | E5: 1 | M5: 写真 番号 | N5: 覆工スパン 番号 | P5: 1
C6: 変状番号 | E6: 14 | N6: 変状番号 | P6: 15
B7: 変状 部位 | C7: 対象箇所 | E7: 覆工 | M7: 変状 部位 | N7: 対象箇所 | P7: 路面
C8: 部位区分 | E8: 側壁（右側） | N8: 部位区分 | P8: 車道
B9: 変状種類 | E9: 圧ざ、ひび割れ | M9: 変状種類 | P9: 滞水
B10: 対策 区分 | C10: 変状区分 | E10: 材質劣化 | M10: 対策 区分 | N10: 変状区分 | P10: 漏水
C11: 応急措置前 | E11: - | N11: 応急措置前
C12: 応急措置後 | E12: Ⅱb | N12: 応急措置後
B13: 変状の発生範囲及び規模 | E13: W=0.6mm×L=3.4m | H13: 前回変状の発生範囲及び規模 | J13: 材質劣化・ひび割れ W=0.6mm×L=3.4m | M13: 変状の発生範囲及び規模 | P13: - | S13: 前回変状の発生範囲及び規模 | U13: 滞水 0.2m×0.6m
B14: 対策履歴 | E14: - | H14: 実施状況（実施日） | J14: - | M14: 対策履歴 | P14: - | S14: 実施状況（実施日） | U14: -
B15: メモ | E15: 側壁のひび割れ 経過観察が望まれる | M15: メモ | P15: 車道の滞水 今回確認されなかった
B16: 写真 番号 | C16: 覆工スパン 番号 | E16: 1 | M16: 写真 番号 | N16: 覆工スパン 番号 | P16: 2
C17: 変状番号 | E17: 16 | N17: 変状番号 | P17: 1
B18: 変状 部位 | C18: 対象箇所 | E18: 覆工 | M18: 変状 部位 | N18: 対象箇所 | P18: 覆工
C19: 部位区分 | E19: アーチ（右側） | N19: 部位区分 | P19: アーチ（左側）
B20: 変状種類 | E20: 漏水 | M20: 変状種類 | P20: 漏水
B21: 対策 区分 | C21: 変状区分 | E21: 漏水 | M21: 対策 区分 | N21: 変状区分 | P21: 漏水
C22: 応急措置前 | E22: - | N22: 応急措置前 | P22: -
C23: 応急措置後 | E23: Ⅱb | N23: 応急措置後 | P23: Ⅱb
B24: 変状の発生範囲及び規模 | E24: 3.6m×0.67m | H24: 前回変状の発生範囲及び規模 | J24: 新規 | M24: 変状の発生範囲及び規模 | P24: 5.3m×1.0m | S24: 前回変状の発生範囲及び規模 | U24: 漏水跡 5.5m×0.5m
B25: 対策履歴 | E25: - | H25: 実施状況（実施日） | J25: - | M25: 対策履歴 | P25: - | S25: 実施状況（実施日） | U25: -
B26: メモ | E26: アーチのにじみ 経過観察が望まれる | M26: メモ | P26: アーチのにじみ 経過観察が望まれる
C27: ※ 応急措置後の対策区分について添付すること。また、点検前に 実施された措置によりⅠと判定された箇所も添付すること。 | N27: ※ 変状の発生範囲の規模とは、対策を行う際に参考となる変状の長さや面積をいう。
N28: ※ 応急措置を実施しないで決定した変状の対策区分は、対策区分の応急措置後の欄に記入すること。
C29: ※ たたき落としを実施した場合は、実施後の写真を添付すること。 | N29: ※ 変状の発生範囲の規模は、面積・寸法を記載すること。(ひび割れ幅のみmmとし、その他をm表記とする)
C30: ※ 附属物の取付状態に関する異常写真は別途、任意の書式でとりまとめること。 | N30: ※ 構造用鋼材以外の異物に伴ううき・はく離については、メモ欄に異物の概要を記入すること。

Sheet 様式D-1-1 P009
B2: ■定期点検記録様式 変状写真台帳【様式D-1-1】 | R2: 施設ID | T2: ='様式A-1'!W2 -> 34.23956,131.11619
B3: フリガナ | E3: フカボリズイドウ | H3: 路 線 名 | J3: 大河内地吉線 | M3: 定期点検実施者 | P3: アジア航測株式会社 | S3: 定期点検年月日 | U3: 45926
B4: 名 称 | E4: 深堀隧道 | H4: 管理者名 | J4: 山口県下関土木建築事務所 | P4: 飯田 琢巳
B5: 写真 番号 | C5: 覆工スパン 番号 | E5: 2 | M5: 写真 番号 | N5: 覆工スパン 番号 | P5: 2
C6: 変状番号 | E6: 2 | N6: 変状番号 | P6: 3
B7: 変状 部位 | C7: 対象箇所 | E7: 覆工 | M7: 変状 部位 | N7: 対象箇所 | P7: 覆工
C8: 部位区分 | E8: アーチ（左側） | N8: 部位区分 | P8: アーチ（右側）
B9: 変状種類 | E9: 漏水 | M9: 変状種類 | P9: 漏水
B10: 対策 区分 | C10: 変状区分 | E10: 漏水 | M10: 対策 区分 | N10: 変状区分 | P10: 漏水
C11: 応急措置前 | E11: - | N11: 応急措置前 | P11: -
C12: 応急措置後 | E12: Ⅱa | N12: 応急措置後 | P12: Ⅱb
B13: 変状の発生範囲及び規模 | E13: 6.1m×0.5m | H13: 前回変状の発生範囲及び規模 | J13: 漏水 6.5m×0.5m | M13: 変状の発生範囲及び規模 | P13: 4.7m×1.2m | S13: 前回変状の発生範囲及び規模 | U13: 漏水 4.8m×2.0m
B14: 対策履歴 | E14: - | H14: 実施状況（実施日） | J14: - | M14: 対策履歴 | P14: - | S14: 実施状況（実施日） | U14: -
B15: メモ | E15: アーチの滴水(5ml/min) 計画的な対策が望まれる | M15: メモ | P15: アーチのにじみ 経過観察が望まれる
B16: 写真 番号 | C16: 覆工スパン 番号 | E16: 2 | M16: 写真 番号 | N16: 覆工スパン 番号 | P16: 2
C17: 変状番号 | E17: 4 | N17: 変状番号 | P17: 5
B18: 変状 部位 | C18: 対象箇所 | E18: 覆工 | M18: 変状 部位 | N18: 対象箇所 | P18: 覆工
C19: 部位区分 | E19: アーチ（左側） | N19: 部位区分 | P19: アーチ（右側）
B20: 変状種類 | E20: 漏水 | M20: 変状種類 | P20: 漏水
B21: 対策 区分 | C21: 変状区分 | E21: 漏水 | M21: 対策 区分 | N21: 変状区分 | P21: 漏水
C22: 応急措置前 | E22: - | N22: 応急措置前 | P22: -
C23: 応急措置後 | E23: Ⅱb | N23: 応急措置後 | P23: Ⅱb
B24: 変状の発生範囲及び規模 | E24: 6.1m×2.5m | H24: 前回変状の発生範囲及び規模 | J24: 漏水 5.8m×1.9m | M24: 変状の発生範囲及び規模 | P24: 5.6m×2.0m | S24: 前回変状の発生範囲及び規模 | U24: 漏水 5.5m×1.0m
B25: 対策履歴 | E25: - | H25: 実施状況（実施日） | J25: - | M25: 対策履歴 | P25: - | S25: 実施状況（実施日） | U25: -
B26: メモ | E26: アーチのにじみ 経過観察が望まれる | M26: メモ | P26: アーチのにじみ 経過観察が望まれる
C27: ※ 応急措置後の対策区分について添付すること。また、点検前に 実施された措置によりⅠと判定された箇所も添付すること。 | N27: ※ 変状の発生範囲の規模とは、対策を行う際に参考となる変状の長さや面積をいう。
N28: ※ 応急措置を実施しないで決定した変状の対策区分は、対策区分の応急措置後の欄に記入すること。
C29: ※ たたき落としを実施した場合は、実施後の写真を添付すること。 | N29: ※ 変状の発生範囲の規模は、面積・寸法を記載すること。(ひび割れ幅のみmmとし、その他をm表記とする)
C30: ※ 附属物の取付状態に関する異常写真は別途、任意の書式でとりまとめること。 | N30: ※ 構造用鋼材以外の異物に伴ううき・はく離については、メモ欄に異物の概要を記入すること。

Sheet 様式D-1-1 P010
B2: ■定期点検記録様式 変状写真台帳【様式D-1-1】 | R2: 施設ID | T2: ='様式A-1'!W2 -> 34.23956,131.11619
B3: フリガナ | E3: フカボリズイドウ | H3: 路 線 名 | J3: 大河内地吉線 | M3: 定期点検実施者 | P3: アジア航測株式会社 | S3: 定期点検年月日 | U3: 45926
B4: 名 称 | E4: 深堀隧道 | H4: 管理者名 | J4: 山口県下関土木建築事務所 | P4: 飯田 琢巳
B5: 写真 番号 | C5: 覆工スパン 番号 | E5: 2 | M5: 写真 番号 | N5: 覆工スパン 番号 | P5: 2
C6: 変状番号 | E6: 6 | N6: 変状番号 | P6: 7
B7: 変状 部位 | C7: 対象箇所 | E7: 覆工 | M7: 変状 部位 | N7: 対象箇所 | P7: 路面
C8: 部位区分 | E8: アーチ（左側） | N8: 部位区分 | P8: 車道
B9: 変状種類 | E9: その他 | M9: 変状種類 | P9: 滞水
B10: 対策 区分 | C10: 変状区分 | E10: 漏水 | M10: 対策 区分 | N10: 変状区分 | P10: 漏水
C11: 応急措置前 | E11: - | N11: 応急措置前
C12: 応急措置後 | E12: Ⅱb | N12: 応急措置後
B13: 変状の発生範囲及び規模 | E13: 3.0m×2.6m | H13: 前回変状の発生範囲及び規模 | J13: 滴水 6.2m×1.0m | M13: 変状の発生範囲及び規模 | P13: 1.7m×1.1m | S13: 前回変状の発生範囲及び規模 | U13: 滞水 0.5m×0.7m
B14: 対策履歴 | E14: - | H14: 実施状況（実施日） | J14: - | M14: 対策履歴 | P14: - | S14: 実施状況（実施日） | U14: -
B15: メモ | E15: アーチの遊離石灰(今回漏水なし) 経過観察が望まれる | M15: メモ | P15: 車道の滞水
B16: 写真 番号 | C16: 覆工スパン 番号 | E16: 2 | M16: 写真 番号 | N16: 覆工スパン 番号 | P16: 2
C17: 変状番号 | E17: 8 | N17: 変状番号 | P17: 9
B18: 変状 部位 | C18: 対象箇所 | E18: 路面 | M18: 変状 部位 | N18: 対象箇所 | P18: 路面
C19: 部位区分 | E19: 車道 | N19: 部位区分 | P19: 車道
B20: 変状種類 | E20: うき・はく離 | M20: 変状種類 | P20: うき・はく離
B21: 対策 区分 | C21: 変状区分 | E21: 材質劣化 | M21: 対策 区分 | N21: 変状区分 | P21: 材質劣化
C22: 応急措置前 | N22: 応急措置前
C23: 応急措置後 | N23: 応急措置後
B24: 変状の発生範囲及び規模 | E24: 1.2m×2.5m・D=0.03m | H24: 前回変状の発生範囲及び規模 | J24: うき・はく離 1.0m×1.1m | M24: 変状の発生範囲及び規模 | P24: 1.0m×3.0m・D=0.02m | S24: 前回変状の発生範囲及び規模 | U24: うき・はく離 0.5m×2.5m
B25: 対策履歴 | E25: - | H25: 実施状況（実施日） | J25: - | M25: 対策履歴 | P25: - | S25: 実施状況（実施日） | U25: -
B26: メモ | E26: 車道のアスファルト欠損 | M26: メモ | P26: 車道のアスファルト欠損
C27: ※ 応急措置後の対策区分について添付すること。また、点検前に 実施された措置によりⅠと判定された箇所も添付すること。 | N27: ※ 変状の発生範囲の規模とは、対策を行う際に参考となる変状の長さや面積をいう。
N28: ※ 応急措置を実施しないで決定した変状の対策区分は、対策区分の応急措置後の欄に記入すること。
C29: ※ たたき落としを実施した場合は、実施後の写真を添付すること。 | N29: ※ 変状の発生範囲の規模は、面積・寸法を記載すること。(ひび割れ幅のみmmとし、その他をm表記とする)
C30: ※ 附属物の取付状態に関する異常写真は別途、任意の書式でとりまとめること。 | N30: ※ 構造用鋼材以外の異物に伴ううき・はく離については、メモ欄に異物の概要を記入すること。

Sheet 様式D-1-1 P011
B2: ■定期点検記録様式 変状写真台帳【様式D-1-1】 | R2: 施設ID | T2: ='様式A-1'!W2 -> 34.23956,131.11619
B3: フリガナ | E3: フカボリズイドウ | H3: 路 線 名 | J3: 大河内地吉線 | M3: 定期点検実施者 | P3: アジア航測株式会社 | S3: 定期点検年月日 | U3: 45926
B4: 名 称 | E4: 深堀隧道 | H4: 管理者名 | J4: 山口県下関土木建築事務所 | P4: 飯田 琢巳
B5: 写真 番号 | C5: 覆工スパン 番号 | E5: 2 | M5: 写真 番号 | N5: 覆工スパン 番号 | P5: 2
C6: 変状番号 | E6: 10 | N6: 変状番号 | P6: 11
B7: 変状 部位 | C7: 対象箇所 | E7: 路面 | M7: 変状 部位 | N7: 対象箇所 | P7: 路面
C8: 部位区分 | E8: 車道 | N8: 部位区分 | P8: 車道
B9: 変状種類 | E9: 滞水 | M9: 変状種類 | P9: うき・はく離
B10: 対策 区分 | C10: 変状区分 | E10: 漏水 | M10: 対策 区分 | N10: 変状区分 | P10: 材質劣化
C11: 応急措置前 | N11: 応急措置前
C12: 応急措置後 | N12: 応急措置後
B13: 変状の発生範囲及び規模 | E13: - | H13: 前回変状の発生範囲及び規模 | J13: 滞水 0.8m×1.2m | M13: 変状の発生範囲及び規模 | P13: 1.2m×2.5m・D=0.03m | S13: 前回変状の発生範囲及び規模 | U13: うき・はく離 1.0m×1.8m
B14: 対策履歴 | E14: - | H14: 実施状況（実施日） | J14: - | M14: 対策履歴 | P14: - | S14: 実施状況（実施日） | U14: -
B15: メモ | E15: 車道の滞水 今回確認されなかった | M15: メモ | P15: 車道のアスファルト欠損
B16: 写真 番号 | C16: 覆工スパン 番号 | E16: 3 | M16: 写真 番号 | N16: 覆工スパン 番号 | P16: 3
C17: 変状番号 | E17: 1 | N17: 変状番号 | P17: 2
B18: 変状 部位 | C18: 対象箇所 | E18: 覆工 | M18: 変状 部位 | N18: 対象箇所 | P18: 覆工
C19: 部位区分 | E19: アーチ（左側） | N19: 部位区分 | P19: アーチ（右側）
B20: 変状種類 | E20: 漏水 | M20: 変状種類 | P20: うき・はく離
B21: 対策 区分 | C21: 変状区分 | E21: 漏水 | M21: 対策 区分 | N21: 変状区分 | P21: 材質劣化
C22: 応急措置前 | E22: - | N22: 応急措置前 | P22: -
C23: 応急措置後 | E23: Ⅱb | N23: 応急措置後 | P23: Ⅱa
B24: 変状の発生範囲及び規模 | E24: 6.2m×1.1m | H24: 前回変状の発生範囲及び規模 | J24: 漏水 6.2m×1.1m | M24: 変状の発生範囲及び規模 | P24: 1.0m×0.1m | S24: 前回変状の発生範囲及び規模 | U24: うき・はく離 0.5m×0.1m
B25: 対策履歴 | E25: - | H25: 実施状況（実施日） | J25: - | M25: 対策履歴 | P25: - | S25: 実施状況（実施日） | U25: -
B26: メモ | E26: アーチのにじみ 経過観察が望まれる | M26: メモ | P26: アーチのうき 浸透性硬化剤塗布済 計画的な対策が望まれる
C27: ※ 応急措置後の対策区分について添付すること。また、点検前に 実施された措置によりⅠと判定された箇所も添付すること。 | N27: ※ 変状の発生範囲の規模とは、対策を行う際に参考となる変状の長さや面積をいう。
N28: ※ 応急措置を実施しないで決定した変状の対策区分は、対策区分の応急措置後の欄に記入すること。
C29: ※ たたき落としを実施した場合は、実施後の写真を添付すること。 | N29: ※ 変状の発生範囲の規模は、面積・寸法を記載すること。(ひび割れ幅のみmmとし、その他をm表記とする)
C30: ※ 附属物の取付状態に関する異常写真は別途、任意の書式でとりまとめること。 | N30: ※ 構造用鋼材以外の異物に伴ううき・はく離については、メモ欄に異物の概要を記入すること。

Sheet 様式D-1-1 P012
B2: ■定期点検記録様式 変状写真台帳【様式D-1-1】 | R2: 施設ID | T2: ='様式A-1'!W2 -> 34.23956,131.11619
B3: フリガナ | E3: フカボリズイドウ | H3: 路 線 名 | J3: 大河内地吉線 | M3: 定期点検実施者 | P3: アジア航測株式会社 | S3: 定期点検年月日 | U3: 45926
B4: 名 称 | E4: 深堀隧道 | H4: 管理者名 | J4: 山口県下関土木建築事務所 | P4: 飯田 琢巳
B5: 写真 番号 | C5: 覆工スパン 番号 | E5: 3 | M5: 写真 番号 | N5: 覆工スパン 番号 | P5: 3
C6: 変状番号 | E6: 3 | N6: 変状番号 | P6: 4
B7: 変状 部位 | C7: 対象箇所 | E7: 覆工 | M7: 変状 部位 | N7: 対象箇所 | P7: 覆工
C8: 部位区分 | E8: アーチ（右側） | N8: 部位区分 | P8: 側壁（左側）
B9: 変状種類 | E9: 漏水 | M9: 変状種類 | P9: 漏水
B10: 対策 区分 | C10: 変状区分 | E10: 漏水 | M10: 対策 区分 | N10: 変状区分 | P10: 漏水
C11: 応急措置前 | E11: - | N11: 応急措置前 | P11: -
C12: 応急措置後 | E12: Ⅱb | N12: 応急措置後 | P12: Ⅱb
B13: 変状の発生範囲及び規模 | E13: 5.4m×2.8m | H13: 前回変状の発生範囲及び規模 | J13: 漏水 5.0m×2.2m | M13: 変状の発生範囲及び規模 | P13: 2.7m×2.5m | S13: 前回変状の発生範囲及び規模 | U13: 漏水 3.0m×2.3m
B14: 対策履歴 | E14: - | H14: 実施状況（実施日） | J14: - | M14: 対策履歴 | P14: - | S14: 実施状況（実施日） | U14: -
B15: メモ | E15: アーチのにじみ 経過観察が望まれる | M15: メモ | P15: 側壁のにじみ 経過観察が望まれる
B16: 写真 番号 | C16: 覆工スパン 番号 | E16: 3 | M16: 写真 番号 | N16: 覆工スパン 番号 | P16: 3
C17: 変状番号 | E17: 5 | N17: 変状番号 | P17: 6
B18: 変状 部位 | C18: 対象箇所 | E18: 覆工 | M18: 変状 部位 | N18: 対象箇所 | P18: 覆工
C19: 部位区分 | E19: アーチ（右側） | N19: 部位区分 | P19: アーチ（右側）
B20: 変状種類 | E20: うき・はく離 | M20: 変状種類 | P20: うき・はく離
B21: 対策 区分 | C21: 変状区分 | E21: 材質劣化 | M21: 対策 区分 | N21: 変状区分 | P21: 材質劣化
C22: 応急措置前 | E22: - | N22: 応急措置前 | P22: -
C23: 応急措置後 | E23: Ⅱa | N23: 応急措置後 | P23: Ⅱa
B24: 変状の発生範囲及び規模 | E24: 0.2m×0.45m・D=0.07m | H24: 前回変状の発生範囲及び規模 | J24: うき・はく離 0.2m×0.05m | M24: 変状の発生範囲及び規模 | P24: 0.2m×0.3m・D=0.07m | S24: 前回変状の発生範囲及び規模 | U24: うき・はく離 0.15m×0.1m
B25: 対策履歴 | E25: - | H25: 実施状況（実施日） | J25: - | M25: 対策履歴 | P25: - | S25: 実施状況（実施日） | U25: -
B26: メモ | E26: アーチのうき 浸透性硬化剤塗布済 計画的な対策が望まれる | M26: メモ | P26: アーチのうき 浸透性硬化剤塗布済 計画的な対策が望まれる
C27: ※ 応急措置後の対策区分について添付すること。また、点検前に 実施された措置によりⅠと判定された箇所も添付すること。 | N27: ※ 変状の発生範囲の規模とは、対策を行う際に参考となる変状の長さや面積をいう。
N28: ※ 応急措置を実施しないで決定した変状の対策区分は、対策区分の応急措置後の欄に記入すること。
C29: ※ たたき落としを実施した場合は、実施後の写真を添付すること。 | N29: ※ 変状の発生範囲の規模は、面積・寸法を記載すること。(ひび割れ幅のみmmとし、その他をm表記とする)
C30: ※ 附属物の取付状態に関する異常写真は別途、任意の書式でとりまとめること。 | N30: ※ 構造用鋼材以外の異物に伴ううき・はく離については、メモ欄に異物の概要を記入すること。

Sheet 様式D-1-1 P013
B2: ■定期点検記録様式 変状写真台帳【様式D-1-1】 | R2: 施設ID | T2: ='様式A-1'!W2 -> 34.23956,131.11619
B3: フリガナ | E3: フカボリズイドウ | H3: 路 線 名 | J3: 大河内地吉線 | M3: 定期点検実施者 | P3: アジア航測株式会社 | S3: 定期点検年月日 | U3: 45926
B4: 名 称 | E4: 深堀隧道 | H4: 管理者名 | J4: 山口県下関土木建築事務所 | P4: 飯田 琢巳
B5: 写真 番号 | C5: 覆工スパン 番号 | E5: 3 | M5: 写真 番号 | N5: 覆工スパン 番号 | P5: 3
C6: 変状番号 | E6: 7 | N6: 変状番号 | P6: 8
B7: 変状 部位 | C7: 対象箇所 | E7: 覆工 | M7: 変状 部位 | N7: 対象箇所 | P7: 覆工
C8: 部位区分 | E8: アーチ（右側） | N8: 部位区分 | P8: アーチ（右側）
B9: 変状種類 | E9: 漏水 | M9: 変状種類 | P9: うき・はく離
B10: 対策 区分 | C10: 変状区分 | E10: 漏水 | M10: 対策 区分 | N10: 変状区分 | P10: 材質劣化
C11: 応急措置前 | E11: - | N11: 応急措置前 | P11: -
C12: 応急措置後 | E12: Ⅱb | N12: 応急措置後 | P12: Ⅱa
B13: 変状の発生範囲及び規模 | E13: 4.5m×1.5m | H13: 前回変状の発生範囲及び規模 | J13: 漏水 4.6m×0.5m | M13: 変状の発生範囲及び規模 | P13: 0.05m×0.3m | S13: 前回変状の発生範囲及び規模 | U13: うき・はく離 0.05m×0.3m
B14: 対策履歴 | E14: - | H14: 実施状況（実施日） | J14: - | M14: 対策履歴 | P14: - | S14: 実施状況（実施日） | U14: -
B15: メモ | E15: アーチのにじみ 経過観察が望まれる | M15: メモ | P15: アーチのうき 浸透性硬化剤塗布済 計画的な対策が望まれる
B16: 写真 番号 | C16: 覆工スパン 番号 | E16: 3 | M16: 写真 番号 | N16: 覆工スパン 番号 | P16: 3
C17: 変状番号 | E17: 9 | N17: 変状番号 | P17: 10
B18: 変状 部位 | C18: 対象箇所 | E18: 覆工 | M18: 変状 部位 | N18: 対象箇所 | P18: 覆工
C19: 部位区分 | E19: アーチ（右側） | N19: 部位区分 | P19: アーチ（右側）
B20: 変状種類 | E20: うき・はく離 | M20: 変状種類 | P20: 漏水
B21: 対策 区分 | C21: 変状区分 | E21: 材質劣化 | M21: 対策 区分 | N21: 変状区分 | P21: 漏水
C22: 応急措置前 | E22: - | N22: 応急措置前 | P22: -
C23: 応急措置後 | E23: Ⅱa | N23: 応急措置後 | P23: Ⅱb
B24: 変状の発生範囲及び規模 | E24: 0.2m×0.25m | H24: 前回変状の発生範囲及び規模 | J24: うき・はく離 0.2m×0.25m | M24: 変状の発生範囲及び規模 | P24: 4.5m×0.5m | S24: 前回変状の発生範囲及び規模 | U24: 漏水(漏水跡) 3.8m×0.5m
B25: 対策履歴 | E25: - | H25: 実施状況（実施日） | J25: - | M25: 対策履歴 | P25: - | S25: 実施状況（実施日） | U25: -
B26: メモ | E26: アーチのうき 浸透性硬化剤塗布済 計画的な対策が望まれる | M26: メモ | P26: アーチの漏水跡 経過観察が望まれる
C27: ※ 応急措置後の対策区分について添付すること。また、点検前に 実施された措置によりⅠと判定された箇所も添付すること。 | N27: ※ 変状の発生範囲の規模とは、対策を行う際に参考となる変状の長さや面積をいう。
N28: ※ 応急措置を実施しないで決定した変状の対策区分は、対策区分の応急措置後の欄に記入すること。
C29: ※ たたき落としを実施した場合は、実施後の写真を添付すること。 | N29: ※ 変状の発生範囲の規模は、面積・寸法を記載すること。(ひび割れ幅のみmmとし、その他をm表記とする)
C30: ※ 附属物の取付状態に関する異常写真は別途、任意の書式でとりまとめること。 | N30: ※ 構造用鋼材以外の異物に伴ううき・はく離については、メモ欄に異物の概要を記入すること。

Sheet 様式D-1-1 P014
B2: ■定期点検記録様式 変状写真台帳【様式D-1-1】 | R2: 施設ID | T2: ='様式A-1'!W2 -> 34.23956,131.11619
B3: フリガナ | E3: フカボリズイドウ | H3: 路 線 名 | J3: 大河内地吉線 | M3: 定期点検実施者 | P3: アジア航測株式会社 | S3: 定期点検年月日 | U3: 45926
B4: 名 称 | E4: 深堀隧道 | H4: 管理者名 | J4: 山口県下関土木建築事務所 | P4: 飯田 琢巳
B5: 写真 番号 | C5: 覆工スパン 番号 | E5: 4 | M5: 写真 番号 | N5: 覆工スパン 番号 | P5: 4
C6: 変状番号 | E6: 1 | N6: 変状番号 | P6: 2
B7: 変状 部位 | C7: 対象箇所 | E7: 覆工 | M7: 変状 部位 | N7: 対象箇所 | P7: 覆工
C8: 部位区分 | E8: アーチ（右側） | N8: 部位区分 | P8: アーチ（右側）
B9: 変状種類 | E9: 漏水 | M9: 変状種類 | P9: 漏水
B10: 対策 区分 | C10: 変状区分 | E10: 漏水 | M10: 対策 区分 | N10: 変状区分 | P10: 漏水
C11: 応急措置前 | E11: - | N11: 応急措置前 | P11: -
C12: 応急措置後 | E12: Ⅱb | N12: 応急措置後 | P12: Ⅱb
B13: 変状の発生範囲及び規模 | E13: 4.2m×0.5m | H13: 前回変状の発生範囲及び規模 | J13: 漏水(漏水跡) 3.8m×0.5m | M13: 変状の発生範囲及び規模 | P13: 4.6m×0.5m | S13: 前回変状の発生範囲及び規模 | U13: 漏水 4.2m×0.5m
B14: 対策履歴 | E14: - | H14: 実施状況（実施日） | J14: - | M14: 対策履歴 | P14: - | S14: 実施状況（実施日） | U14: -
B15: メモ | E15: アーチの漏水跡 経過観察が望まれる | M15: メモ | P15: アーチの漏水跡 経過観察が望まれる
B16: 写真 番号 | C16: 覆工スパン 番号 | E16: 4 | M16: 写真 番号 | N16: 覆工スパン 番号 | P16: 4
C17: 変状番号 | E17: 3 | N17: 変状番号 | P17: 4
B18: 変状 部位 | C18: 対象箇所 | E18: 覆工 | M18: 変状 部位 | N18: 対象箇所 | P18: 覆工
C19: 部位区分 | E19: 側壁（左側） | N19: 部位区分 | P19: アーチ（右側）
B20: 変状種類 | E20: 漏水 | M20: 変状種類 | P20: 漏水
B21: 対策 区分 | C21: 変状区分 | E21: 漏水 | M21: 対策 区分 | N21: 変状区分 | P21: 漏水
C22: 応急措置前 | E22: - | N22: 応急措置前 | P22: -
C23: 応急措置後 | E23: Ⅱb | N23: 応急措置後 | P23: Ⅱb
B24: 変状の発生範囲及び規模 | E24: 2.5m×7.0m | H24: 前回変状の発生範囲及び規模 | J24: 漏水 2.3m×7.0m | M24: 変状の発生範囲及び規模 | P24: 3.1m×1.6m | S24: 前回変状の発生範囲及び規模 | U24: 漏水 2.8m×1.3m
B25: 対策履歴 | E25: - | H25: 実施状況（実施日） | J25: - | M25: 対策履歴 | P25: - | S25: 実施状況（実施日） | U25: -
B26: メモ | E26: 側壁のにじみ 経過観察が望まれる | M26: メモ | P26: アーチのにじみ 経過観察が望まれる
C27: ※ 応急措置後の対策区分について添付すること。また、点検前に 実施された措置によりⅠと判定された箇所も添付すること。 | N27: ※ 変状の発生範囲の規模とは、対策を行う際に参考となる変状の長さや面積をいう。
N28: ※ 応急措置を実施しないで決定した変状の対策区分は、対策区分の応急措置後の欄に記入すること。
C29: ※ たたき落としを実施した場合は、実施後の写真を添付すること。 | N29: ※ 変状の発生範囲の規模は、面積・寸法を記載すること。(ひび割れ幅のみmmとし、その他をm表記とする)
C30: ※ 附属物の取付状態に関する異常写真は別途、任意の書式でとりまとめること。 | N30: ※ 構造用鋼材以外の異物に伴ううき・はく離については、メモ欄に異物の概要を記入すること。

Sheet 様式D-1-1 P015
B2: ■定期点検記録様式 変状写真台帳【様式D-1-1】 | R2: 施設ID | T2: ='様式A-1'!W2 -> 34.23956,131.11619
B3: フリガナ | E3: フカボリズイドウ | H3: 路 線 名 | J3: 大河内地吉線 | M3: 定期点検実施者 | P3: アジア航測株式会社 | S3: 定期点検年月日 | U3: 45926
B4: 名 称 | E4: 深堀隧道 | H4: 管理者名 | J4: 山口県下関土木建築事務所 | P4: 飯田 琢巳
B5: 写真 番号 | C5: 覆工スパン 番号 | E5: 4 | M5: 写真 番号 | N5: 覆工スパン 番号 | P5: 4
C6: 変状番号 | E6: 5 | N6: 変状番号 | P6: 6
B7: 変状 部位 | C7: 対象箇所 | E7: 路面 | M7: 変状 部位 | N7: 対象箇所 | P7: 路面
C8: 部位区分 | E8: 車道 | N8: 部位区分 | P8: 車道
B9: 変状種類 | E9: うき・はく離 | M9: 変状種類 | P9: うき・はく離
B10: 対策 区分 | C10: 変状区分 | E10: 材質劣化 | M10: 対策 区分 | N10: 変状区分 | P10: 材質劣化
C11: 応急措置前 | N11: 応急措置前
C12: 応急措置後 | N12: 応急措置後
B13: 変状の発生範囲及び規模 | E13: 1.6m×6.2m・D=0.03m | H13: 前回変状の発生範囲及び規模 | J13: うき・はく離 1.0m×1.9m | M13: 変状の発生範囲及び規模 | P13: 1.5m×10.3m・D=0.03m | S13: 前回変状の発生範囲及び規模 | U13: うき・はく離 1.1m×7.7m
B14: 対策履歴 | E14: - | H14: 実施状況（実施日） | J14: - | M14: 対策履歴 | P14: - | S14: 実施状況（実施日） | U14: -
B15: メモ | E15: 車道のアスファルト欠損 | M15: メモ | P15: 車道のアスファルト欠損
B16: 写真 番号 | C16: 覆工スパン 番号 | E16: 5 | M16: 写真 番号 | N16: 覆工スパン 番号 | P16: 5
C17: 変状番号 | E17: 1 | N17: 変状番号 | P17: 2
B18: 変状 部位 | C18: 対象箇所 | E18: 覆工 | M18: 変状 部位 | N18: 対象箇所 | P18: 覆工
C19: 部位区分 | E19: 側壁（左側） | N19: 部位区分 | P19: 側壁（右側）
B20: 変状種類 | E20: 漏水 | M20: 変状種類 | P20: 漏水
B21: 対策 区分 | C21: 変状区分 | E21: 漏水 | M21: 対策 区分 | N21: 変状区分 | P21: 漏水
C22: 応急措置前 | E22: - | N22: 応急措置前 | P22: -
C23: 応急措置後 | E23: Ⅱb | N23: 応急措置後 | P23: Ⅱb
B24: 変状の発生範囲及び規模 | E24: 1.3m×0.7m | H24: 前回変状の発生範囲及び規模 | J24: 漏水(漏水跡) 1.0m×1.9m | M24: 変状の発生範囲及び規模 | P24: 2.8m×2.0m | S24: 前回変状の発生範囲及び規模 | U24: 漏水 2.3m×0.7m
B25: 対策履歴 | E25: - | H25: 実施状況（実施日） | J25: - | M25: 対策履歴 | P25: - | S25: 実施状況（実施日） | U25: -
B26: メモ | E26: 側壁の漏水跡 経過観察が望まれる | M26: メモ | P26: 側壁のにじみ 経過観察が望まれる
C27: ※ 応急措置後の対策区分について添付すること。また、点検前に 実施された措置によりⅠと判定された箇所も添付すること。 | N27: ※ 変状の発生範囲の規模とは、対策を行う際に参考となる変状の長さや面積をいう。
N28: ※ 応急措置を実施しないで決定した変状の対策区分は、対策区分の応急措置後の欄に記入すること。
C29: ※ たたき落としを実施した場合は、実施後の写真を添付すること。 | N29: ※ 変状の発生範囲の規模は、面積・寸法を記載すること。(ひび割れ幅のみmmとし、その他をm表記とする)
C30: ※ 附属物の取付状態に関する異常写真は別途、任意の書式でとりまとめること。 | N30: ※ 構造用鋼材以外の異物に伴ううき・はく離については、メモ欄に異物の概要を記入すること。

Sheet 様式D-1-1 P016
B2: ■定期点検記録様式 変状写真台帳【様式D-1-1】 | R2: 施設ID | T2: ='様式A-1'!W2 -> 34.23956,131.11619
B3: フリガナ | E3: フカボリズイドウ | H3: 路 線 名 | J3: 大河内地吉線 | M3: 定期点検実施者 | P3: アジア航測株式会社 | S3: 定期点検年月日 | U3: 45926
B4: 名 称 | E4: 深堀隧道 | H4: 管理者名 | J4: 山口県下関土木建築事務所 | P4: 飯田 琢巳
B5: 写真 番号 | C5: 覆工スパン 番号 | E5: 5 | M5: 写真 番号 | N5: 覆工スパン 番号 | P5: 5
C6: 変状番号 | E6: 3 | N6: 変状番号 | P6: 4
B7: 変状 部位 | C7: 対象箇所 | E7: 覆工 | M7: 変状 部位 | N7: 対象箇所 | P7: 覆工
C8: 部位区分 | E8: 側壁（右側） | N8: 部位区分 | P8: 側壁（右側）
B9: 変状種類 | E9: 漏水 | M9: 変状種類 | P9: 漏水
B10: 対策 区分 | C10: 変状区分 | E10: 漏水 | M10: 対策 区分 | N10: 変状区分 | P10: 漏水
C11: 応急措置前 | E11: - | N11: 応急措置前 | P11: -
C12: 応急措置後 | E12: Ⅱb | N12: 応急措置後 | P12: Ⅱb
B13: 変状の発生範囲及び規模 | E13: 3.0m×0.8m | H13: 前回変状の発生範囲及び規模 | J13: 漏水 2.3m×0.5m | M13: 変状の発生範囲及び規模 | P13: 2.5m×2.2m | S13: 前回変状の発生範囲及び規模 | U13: 漏水 0.5m×2.3m
B14: 対策履歴 | E14: - | H14: 実施状況（実施日） | J14: - | M14: 対策履歴 | P14: - | S14: 実施状況（実施日） | U14: -
B15: メモ | E15: 側壁のにじみ 経過観察が望まれる | M15: メモ | P15: 側壁のにじみ 経過観察が望まれる
B16: 写真 番号 | C16: 覆工スパン 番号 | E16: 5 | M16: 写真 番号 | N16: 覆工スパン 番号 | P16: 5
C17: 変状番号 | E17: 5 | N17: 変状番号 | P17: 6
B18: 変状 部位 | C18: 対象箇所 | E18: 覆工 | M18: 変状 部位 | N18: 対象箇所 | P18: 覆工
C19: 部位区分 | E19: アーチ（天端） | N19: 部位区分 | P19: アーチ（右側）
B20: 変状種類 | E20: その他 | M20: 変状種類 | P20: その他
B21: 対策 区分 | C21: 変状区分 | E21: 材質劣化 | M21: 対策 区分 | N21: 変状区分 | P21: 材質劣化
C22: 応急措置前 | E22: - | N22: 応急措置前 | P22: -
C23: 応急措置後 | E23: Ⅱa | N23: 応急措置後 | P23: Ⅱa
B24: 変状の発生範囲及び規模 | E24: 1.1m×1.5m | H24: 前回変状の発生範囲及び規模 | J24: 目地切れ 1.1m×1.5m | M24: 変状の発生範囲及び規模 | P24: 1.5m×2.0m | S24: 前回変状の発生範囲及び規模 | U24: 目地切れ 1.5m×2.0m
B25: 対策履歴 | E25: - | H25: 実施状況（実施日） | J25: - | M25: 対策履歴 | P25: - | S25: 実施状況（実施日） | U25: -
B26: メモ | E26: アーチの目地切れ(最大10㎜) 計画的な対策が望まれる | M26: メモ | P26: アーチの目地切れ(最大10㎜) 計画的な対策が望まれる
C27: ※ 応急措置後の対策区分について添付すること。また、点検前に 実施された措置によりⅠと判定された箇所も添付すること。 | N27: ※ 変状の発生範囲の規模とは、対策を行う際に参考となる変状の長さや面積をいう。
N28: ※ 応急措置を実施しないで決定した変状の対策区分は、対策区分の応急措置後の欄に記入すること。
C29: ※ たたき落としを実施した場合は、実施後の写真を添付すること。 | N29: ※ 変状の発生範囲の規模は、面積・寸法を記載すること。(ひび割れ幅のみmmとし、その他をm表記とする)
C30: ※ 附属物の取付状態に関する異常写真は別途、任意の書式でとりまとめること。 | N30: ※ 構造用鋼材以外の異物に伴ううき・はく離については、メモ欄に異物の概要を記入すること。

Sheet 様式D-1-1 P017
B2: ■定期点検記録様式 変状写真台帳【様式D-1-1】 | R2: 施設ID | T2: ='様式A-1'!W2 -> 34.23956,131.11619
B3: フリガナ | E3: フカボリズイドウ | H3: 路 線 名 | J3: 大河内地吉線 | M3: 定期点検実施者 | P3: アジア航測株式会社 | S3: 定期点検年月日 | U3: 45926
B4: 名 称 | E4: 深堀隧道 | H4: 管理者名 | J4: 山口県下関土木建築事務所 | P4: 飯田 琢巳
B5: 写真 番号 | C5: 覆工スパン 番号 | E5: 5 | M5: 写真 番号 | N5: 覆工スパン 番号 | P5: 5
C6: 変状番号 | E6: 7 | N6: 変状番号 | P6: 8
B7: 変状 部位 | C7: 対象箇所 | E7: 路面 | M7: 変状 部位 | N7: 対象箇所 | P7: 路面
C8: 部位区分 | E8: 車道 | N8: 部位区分 | P8: 車道
B9: 変状種類 | E9: うき・はく離 | M9: 変状種類 | P9: うき・はく離
B10: 対策 区分 | C10: 変状区分 | E10: 材質劣化 | M10: 対策 区分 | N10: 変状区分 | P10: 材質劣化
C11: 応急措置前 | N11: 応急措置前
C12: 応急措置後 | N12: 応急措置後
B13: 変状の発生範囲及び規模 | E13: 1.2m×5.7m・D=0.03m | H13: 前回変状の発生範囲及び規模 | J13: うき・はく離 0.9m×3.8m | M13: 変状の発生範囲及び規模 | P13: 1.6m×5.7m・D=0.03m | S13: 前回変状の発生範囲及び規模 | U13: うき・はく離 0.9m×3.2m
B14: 対策履歴 | E14: - | H14: 実施状況（実施日） | J14: - | M14: 対策履歴 | P14: - | S14: 実施状況（実施日） | U14: -
B15: メモ | E15: 車道のアスファルト欠損 | M15: メモ | P15: 車道のアスファルト欠損
B16: 写真 番号 | C16: 覆工スパン 番号 | E16: 6 | M16: 写真 番号 | N16: 覆工スパン 番号 | P16: 6
C17: 変状番号 | E17: 1 | N17: 変状番号 | P17: 2
B18: 変状 部位 | C18: 対象箇所 | E18: 覆工 | M18: 変状 部位 | N18: 対象箇所 | P18: 覆工
C19: 部位区分 | E19: アーチ（右側） | N19: 部位区分 | P19: アーチ（右側）
B20: 変状種類 | E20: その他 | M20: 変状種類 | P20: その他
B21: 対策 区分 | C21: 変状区分 | E21: 材質劣化 | M21: 対策 区分 | N21: 変状区分 | P21: 材質劣化
C22: 応急措置前 | E22: - | N22: 応急措置前 | P22: -
C23: 応急措置後 | E23: Ⅱa | N23: 応急措置後 | P23: Ⅱa
B24: 変状の発生範囲及び規模 | E24: 0.8m×0.6m | H24: 前回変状の発生範囲及び規模 | J24: 目地切れ 0.8m×0.6m | M24: 変状の発生範囲及び規模 | P24: 0.9m×0.7m | S24: 前回変状の発生範囲及び規模 | U24: 目地切れ 0.9m×0.7m
B25: 対策履歴 | E25: - | H25: 実施状況（実施日） | J25: - | M25: 対策履歴 | P25: - | S25: 実施状況（実施日） | U25: -
B26: メモ | E26: アーチの目地切れ(最大10㎜) 計画的な対策が望まれる | M26: メモ | P26: アーチの目地切れ(最大10㎜) 計画的な対策が望まれる
C27: ※ 応急措置後の対策区分について添付すること。また、点検前に 実施された措置によりⅠと判定された箇所も添付すること。 | N27: ※ 変状の発生範囲の規模とは、対策を行う際に参考となる変状の長さや面積をいう。
N28: ※ 応急措置を実施しないで決定した変状の対策区分は、対策区分の応急措置後の欄に記入すること。
C29: ※ たたき落としを実施した場合は、実施後の写真を添付すること。 | N29: ※ 変状の発生範囲の規模は、面積・寸法を記載すること。(ひび割れ幅のみmmとし、その他をm表記とする)
C30: ※ 附属物の取付状態に関する異常写真は別途、任意の書式でとりまとめること。 | N30: ※ 構造用鋼材以外の異物に伴ううき・はく離については、メモ欄に異物の概要を記入すること。

Sheet 様式D-1-1 P018
B2: ■定期点検記録様式 変状写真台帳【様式D-1-1】 | R2: 施設ID | T2: ='様式A-1'!W2 -> 34.23956,131.11619
B3: フリガナ | E3: フカボリズイドウ | H3: 路 線 名 | J3: 大河内地吉線 | M3: 定期点検実施者 | P3: アジア航測株式会社 | S3: 定期点検年月日 | U3: 45926
B4: 名 称 | E4: 深堀隧道 | H4: 管理者名 | J4: 山口県下関土木建築事務所 | P4: 飯田 琢巳
B5: 写真 番号 | C5: 覆工スパン 番号 | E5: 6 | M5: 写真 番号 | N5: 覆工スパン 番号 | P5: 6
C6: 変状番号 | E6: 3 | N6: 変状番号 | P6: 4
B7: 変状 部位 | C7: 対象箇所 | E7: 覆工 | M7: 変状 部位 | N7: 対象箇所 | P7: 覆工
C8: 部位区分 | E8: 側壁（右側） | N8: 部位区分 | P8: 側壁（右側）
B9: 変状種類 | E9: 漏水 | M9: 変状種類 | P9: 漏水
B10: 対策 区分 | C10: 変状区分 | E10: 漏水 | M10: 対策 区分 | N10: 変状区分 | P10: 漏水
C11: 応急措置前 | E11: - | N11: 応急措置前 | P11: -
C12: 応急措置後 | E12: Ⅱb | N12: 応急措置後 | P12: Ⅱb
B13: 変状の発生範囲及び規模 | E13: 1.5m×0.5m | H13: 前回変状の発生範囲及び規模 | J13: 漏水(漏水跡) 1.3m×0.6m | M13: 変状の発生範囲及び規模 | P13: 1.0m×0.5m | S13: 前回変状の発生範囲及び規模 | U13: 漏水(漏水跡) 0.8m×0.5m
B14: 対策履歴 | E14: - | H14: 実施状況（実施日） | J14: - | M14: 対策履歴 | P14: - | S14: 実施状況（実施日） | U14: -
B15: メモ | E15: 側壁のにじみ 経過観察が望まれる | M15: メモ | P15: 側壁のにじみ 経過観察が望まれる
B16: 写真 番号 | C16: 覆工スパン 番号 | E16: 6 | M16: 写真 番号 | N16: 覆工スパン 番号 | P16: 6
C17: 変状番号 | E17: 5 | N17: 変状番号 | P17: 6
B18: 変状 部位 | C18: 対象箇所 | E18: 覆工 | M18: 変状 部位 | N18: 対象箇所 | P18: 覆工
C19: 部位区分 | E19: 側壁（右側） | N19: 部位区分 | P19: アーチ（左側）
B20: 変状種類 | E20: うき・はく離 | M20: 変状種類 | P20: 圧ざ、ひび割れ
B21: 対策 区分 | C21: 変状区分 | E21: 材質劣化 | M21: 対策 区分 | N21: 変状区分 | P21: 材質劣化
C22: 応急措置前 | E22: - | N22: 応急措置前 | P22: -
C23: 応急措置後 | E23: Ⅱb | N23: 応急措置後 | P23: Ⅱb
B24: 変状の発生範囲及び規模 | E24: 0.1m×0.5m | H24: 前回変状の発生範囲及び規模 | J24: うき・はく離 0.1m×0.5m | M24: 変状の発生範囲及び規模 | P24: W=0.5mm×L=1.8m | S24: 前回変状の発生範囲及び規模 | U24: 材質劣化・ひび割れ W=0.5mm×L=1.9m
B25: 対策履歴 | E25: - | H25: 実施状況（実施日） | J25: - | M25: 対策履歴 | P25: - | S25: 実施状況（実施日） | U25: -
B26: メモ | E26: 側壁のうき 経過観察が望まれる | M26: メモ | P26: アーチのひび割れ 経過観察が望まれる
C27: ※ 応急措置後の対策区分について添付すること。また、点検前に 実施された措置によりⅠと判定された箇所も添付すること。 | N27: ※ 変状の発生範囲の規模とは、対策を行う際に参考となる変状の長さや面積をいう。
N28: ※ 応急措置を実施しないで決定した変状の対策区分は、対策区分の応急措置後の欄に記入すること。
C29: ※ たたき落としを実施した場合は、実施後の写真を添付すること。 | N29: ※ 変状の発生範囲の規模は、面積・寸法を記載すること。(ひび割れ幅のみmmとし、その他をm表記とする)
C30: ※ 附属物の取付状態に関する異常写真は別途、任意の書式でとりまとめること。 | N30: ※ 構造用鋼材以外の異物に伴ううき・はく離については、メモ欄に異物の概要を記入すること。

Sheet 様式D-1-1 P019
B2: ■定期点検記録様式 変状写真台帳【様式D-1-1】 | R2: 施設ID | T2: ='様式A-1'!W2 -> 34.23956,131.11619
B3: フリガナ | E3: フカボリズイドウ | H3: 路 線 名 | J3: 大河内地吉線 | M3: 定期点検実施者 | P3: アジア航測株式会社 | S3: 定期点検年月日 | U3: 45926
B4: 名 称 | E4: 深堀隧道 | H4: 管理者名 | J4: 山口県下関土木建築事務所 | P4: 飯田 琢巳
B5: 写真 番号 | C5: 覆工スパン 番号 | E5: 6 | M5: 写真 番号 | N5: 覆工スパン 番号 | P5: 7
C6: 変状番号 | E6: 7 | N6: 変状番号 | P6: 1
B7: 変状 部位 | C7: 対象箇所 | E7: 覆工 | M7: 変状 部位 | N7: 対象箇所 | P7: 覆工
C8: 部位区分 | E8: 側壁（右側） | N8: 部位区分 | P8: 側壁（左側）
B9: 変状種類 | E9: 圧ざ、ひび割れ | M9: 変状種類 | P9: 圧ざ、ひび割れ
B10: 対策 区分 | C10: 変状区分 | E10: 材質劣化 | M10: 対策 区分 | N10: 変状区分 | P10: 材質劣化
C11: 応急措置前 | E11: - | N11: 応急措置前 | P11: -
C12: 応急措置後 | E12: Ⅱb | N12: 応急措置後 | P12: Ⅱb
B13: 変状の発生範囲及び規模 | E13: W=0.8mm×L=5.4m | H13: 前回変状の発生範囲及び規模 | J13: 材質劣化・ひび割れ W=0.8mm×L=3.4m | M13: 変状の発生範囲及び規模 | P13: W=0.6mm×L=2.5m | S13: 前回変状の発生範囲及び規模 | U13: 材質劣化・ひび割れ W=0.6mm×L=2.3m
B14: 対策履歴 | E14: - | H14: 実施状況（実施日） | J14: - | M14: 対策履歴 | P14: - | S14: 実施状況（実施日） | U14: -
B15: メモ | E15: 側壁のひび割れ 経過観察が望まれる | M15: メモ | P15: 側壁のひび割れ 経過観察が望まれる
B16: 写真 番号 | C16: 覆工スパン 番号 | E16: 7 | M16: 写真 番号 | N16: 覆工スパン 番号 | P16: 7
C17: 変状番号 | E17: 2 | N17: 変状番号 | P17: 3
B18: 変状 部位 | C18: 対象箇所 | E18: 覆工 | M18: 変状 部位 | N18: 対象箇所 | P18: 覆工
C19: 部位区分 | E19: 側壁（左側） | N19: 部位区分 | P19: アーチ（左側）
B20: 変状種類 | E20: 圧ざ、ひび割れ | M20: 変状種類 | P20: その他
B21: 対策 区分 | C21: 変状区分 | E21: 材質劣化 | M21: 対策 区分 | N21: 変状区分 | P21: 材質劣化
C22: 応急措置前 | E22: - | N22: 応急措置前 | P22: -
C23: 応急措置後 | E23: Ⅱb | N23: 応急措置後 | P23: Ⅱa
B24: 変状の発生範囲及び規模 | E24: W=0.6mm×L=2.4m | H24: 前回変状の発生範囲及び規模 | J24: 材質劣化・ひび割れ W=0.6mm×L=2.2m | M24: 変状の発生範囲及び規模 | P24: 0.8m×0.5m | S24: 前回変状の発生範囲及び規模 | U24: 目地切れ 0.8m×0.5m
B25: 対策履歴 | E25: - | H25: 実施状況（実施日） | J25: - | M25: 対策履歴 | P25: - | S25: 実施状況（実施日） | U25: -
B26: メモ | E26: 側壁のひび割れ 経過観察が望まれる | M26: メモ | P26: アーチの目地切れ(最大20㎜) 計画的な対策が望まれる
C27: ※ 応急措置後の対策区分について添付すること。また、点検前に 実施された措置によりⅠと判定された箇所も添付すること。 | N27: ※ 変状の発生範囲の規模とは、対策を行う際に参考となる変状の長さや面積をいう。
N28: ※ 応急措置を実施しないで決定した変状の対策区分は、対策区分の応急措置後の欄に記入すること。
C29: ※ たたき落としを実施した場合は、実施後の写真を添付すること。 | N29: ※ 変状の発生範囲の規模は、面積・寸法を記載すること。(ひび割れ幅のみmmとし、その他をm表記とする)
C30: ※ 附属物の取付状態に関する異常写真は別途、任意の書式でとりまとめること。 | N30: ※ 構造用鋼材以外の異物に伴ううき・はく離については、メモ欄に異物の概要を記入すること。

Sheet 様式D-1-1 P020
B2: ■定期点検記録様式 変状写真台帳【様式D-1-1】 | R2: 施設ID | T2: ='様式A-1'!W2 -> 34.23956,131.11619
B3: フリガナ | E3: フカボリズイドウ | H3: 路 線 名 | J3: 大河内地吉線 | M3: 定期点検実施者 | P3: アジア航測株式会社 | S3: 定期点検年月日 | U3: 45926
B4: 名 称 | E4: 深堀隧道 | H4: 管理者名 | J4: 山口県下関土木建築事務所 | P4: 飯田 琢巳
B5: 写真 番号 | C5: 覆工スパン 番号 | E5: 7 | M5: 写真 番号 | N5: 覆工スパン 番号 | P5: 7
C6: 変状番号 | E6: 4 | N6: 変状番号 | P6: 5
B7: 変状 部位 | C7: 対象箇所 | E7: 覆工 | M7: 変状 部位 | N7: 対象箇所 | P7: 覆工
C8: 部位区分 | E8: アーチ（天端） | N8: 部位区分 | P8: アーチ（左側）
B9: 変状種類 | E9: 圧ざ、ひび割れ | M9: 変状種類 | P9: 圧ざ、ひび割れ
B10: 対策 区分 | C10: 変状区分 | E10: 材質劣化 | M10: 対策 区分 | N10: 変状区分 | P10: 材質劣化
C11: 応急措置前 | E11: - | N11: 応急措置前 | P11: -
C12: 応急措置後 | E12: Ⅱb | N12: 応急措置後 | P12: Ⅱb
B13: 変状の発生範囲及び規模 | E13: W=0.5mm×L=6.0m | H13: 前回変状の発生範囲及び規模 | J13: 材質劣化・ひび割れ W=0.5mm×L=4.8m | M13: 変状の発生範囲及び規模 | P13: W=0.7mm×L=2.9m | S13: 前回変状の発生範囲及び規模 | U13: 材質劣化・ひび割れ W=0.7mm×L=2.8m
B14: 対策履歴 | E14: - | H14: 実施状況（実施日） | J14: - | M14: 対策履歴 | P14: - | S14: 実施状況（実施日） | U14: -
B15: メモ | E15: アーチのひび割れ 経過観察が望まれる | M15: メモ | P15: アーチのひび割れ 経過観察が望まれる
B16: 写真 番号 | C16: 覆工スパン 番号 | E16: 7 | M16: 写真 番号 | N16: 覆工スパン 番号 | P16: 7
C17: 変状番号 | E17: 6 | N17: 変状番号 | P17: 7
B18: 変状 部位 | C18: 対象箇所 | E18: 覆工 | M18: 変状 部位 | N18: 対象箇所 | P18: 覆工
C19: 部位区分 | E19: 側壁（右側） | N19: 部位区分 | P19: アーチ（右側）
B20: 変状種類 | E20: 圧ざ、ひび割れ | M20: 変状種類 | P20: 圧ざ、ひび割れ
B21: 対策 区分 | C21: 変状区分 | E21: 材質劣化 | M21: 対策 区分 | N21: 変状区分 | P21: 材質劣化
C22: 応急措置前 | E22: - | N22: 応急措置前 | P22: -
C23: 応急措置後 | E23: Ⅱb | N23: 応急措置後 | P23: Ⅱb
B24: 変状の発生範囲及び規模 | E24: W=0.8mm×L=3.5m | H24: 前回変状の発生範囲及び規模 | J24: 材質劣化・ひび割れ W=0.8mm×L=4.9m | M24: 変状の発生範囲及び規模 | P24: W=0.8mm×L=4.0m | S24: 前回変状の発生範囲及び規模 | U24: 材質劣化・ひび割れ W=0.8mm×L=2.6m
B25: 対策履歴 | E25: - | H25: 実施状況（実施日） | J25: - | M25: 対策履歴 | P25: - | S25: 実施状況（実施日） | U25: -
B26: メモ | E26: 側壁のひび割れ 経過観察が望まれる | M26: メモ | P26: アーチのひび割れ 経過観察が望まれる
C27: ※ 応急措置後の対策区分について添付すること。また、点検前に 実施された措置によりⅠと判定された箇所も添付すること。 | N27: ※ 変状の発生範囲の規模とは、対策を行う際に参考となる変状の長さや面積をいう。
N28: ※ 応急措置を実施しないで決定した変状の対策区分は、対策区分の応急措置後の欄に記入すること。
C29: ※ たたき落としを実施した場合は、実施後の写真を添付すること。 | N29: ※ 変状の発生範囲の規模は、面積・寸法を記載すること。(ひび割れ幅のみmmとし、その他をm表記とする)
C30: ※ 附属物の取付状態に関する異常写真は別途、任意の書式でとりまとめること。 | N30: ※ 構造用鋼材以外の異物に伴ううき・はく離については、メモ欄に異物の概要を記入すること。

Sheet 様式D-1-1 P021
B2: ■定期点検記録様式 変状写真台帳【様式D-1-1】 | R2: 施設ID | T2: ='様式A-1'!W2 -> 34.23956,131.11619
B3: フリガナ | E3: フカボリズイドウ | H3: 路 線 名 | J3: 大河内地吉線 | M3: 定期点検実施者 | P3: アジア航測株式会社 | S3: 定期点検年月日 | U3: 45926
B4: 名 称 | E4: 深堀隧道 | H4: 管理者名 | J4: 山口県下関土木建築事務所 | P4: 飯田 琢巳
B5: 写真 番号 | C5: 覆工スパン 番号 | E5: 7 | M5: 写真 番号 | N5: 覆工スパン 番号 | P5: 7
C6: 変状番号 | E6: 8 | N6: 変状番号 | P6: 9
B7: 変状 部位 | C7: 対象箇所 | E7: 覆工 | M7: 変状 部位 | N7: 対象箇所 | P7: 路面
C8: 部位区分 | E8: 側壁（右側） | N8: 部位区分 | P8: 車道
B9: 変状種類 | E9: 漏水 | M9: 変状種類 | P9: うき・はく離
B10: 対策 区分 | C10: 変状区分 | E10: 漏水 | M10: 対策 区分 | N10: 変状区分 | P10: 材質劣化
C11: 応急措置前 | E11: - | N11: 応急措置前
C12: 応急措置後 | E12: Ⅱb | N12: 応急措置後
B13: 変状の発生範囲及び規模 | E13: 0.7m×0.5m | H13: 前回変状の発生範囲及び規模 | J13: 漏水 0.7m×0.5m | M13: 変状の発生範囲及び規模 | P13: 1.5m×6.2m・D=0.03m | S13: 前回変状の発生範囲及び規模 | U13: うき・はく離 0.7m×2.1m
B14: 対策履歴 | E14: - | H14: 実施状況（実施日） | J14: - | M14: 対策履歴 | P14: - | S14: 実施状況（実施日） | U14: -
B15: メモ | E15: 側壁のにじみ 経過観察が望まれる | M15: メモ | P15: 車道のアスファルト欠損
B16: 写真 番号 | C16: 覆工スパン 番号 | E16: 7 | M16: 写真 番号 | N16: 覆工スパン 番号 | P16: 8
C17: 変状番号 | E17: 10 | N17: 変状番号 | P17: 1
B18: 変状 部位 | C18: 対象箇所 | E18: 路面 | M18: 変状 部位 | N18: 対象箇所 | P18: 覆工
C19: 部位区分 | E19: 車道 | N19: 部位区分 | P19: 側壁（左側）
B20: 変状種類 | E20: うき・はく離 | M20: 変状種類 | P20: 漏水
B21: 対策 区分 | C21: 変状区分 | E21: 材質劣化 | M21: 対策 区分 | N21: 変状区分 | P21: 漏水
C22: 応急措置前 | N22: 応急措置前 | P22: -
C23: 応急措置後 | N23: 応急措置後 | P23: Ⅱb
B24: 変状の発生範囲及び規模 | E24: 0.8m×7.8m・D=0.03m | H24: 前回変状の発生範囲及び規模 | J24: うき・はく離 0.5m×5.8m | M24: 変状の発生範囲及び規模 | P24: 2.5m×2.0m | S24: 前回変状の発生範囲及び規模 | U24: 漏水 2.3m×1.9m
B25: 対策履歴 | E25: - | H25: 実施状況（実施日） | J25: - | M25: 対策履歴 | P25: - | S25: 実施状況（実施日） | U25: -
B26: メモ | E26: 車道のアスファルト欠損 | M26: メモ | P26: 側壁のにじみ 経過観察が望まれる
C27: ※ 応急措置後の対策区分について添付すること。また、点検前に 実施された措置によりⅠと判定された箇所も添付すること。 | N27: ※ 変状の発生範囲の規模とは、対策を行う際に参考となる変状の長さや面積をいう。
N28: ※ 応急措置を実施しないで決定した変状の対策区分は、対策区分の応急措置後の欄に記入すること。
C29: ※ たたき落としを実施した場合は、実施後の写真を添付すること。 | N29: ※ 変状の発生範囲の規模は、面積・寸法を記載すること。(ひび割れ幅のみmmとし、その他をm表記とする)
C30: ※ 附属物の取付状態に関する異常写真は別途、任意の書式でとりまとめること。 | N30: ※ 構造用鋼材以外の異物に伴ううき・はく離については、メモ欄に異物の概要を記入すること。

Sheet 様式D-1-1 P022
B2: ■定期点検記録様式 変状写真台帳【様式D-1-1】 | R2: 施設ID | T2: ='様式A-1'!W2 -> 34.23956,131.11619
B3: フリガナ | E3: フカボリズイドウ | H3: 路 線 名 | J3: 大河内地吉線 | M3: 定期点検実施者 | P3: アジア航測株式会社 | S3: 定期点検年月日 | U3: 45926
B4: 名 称 | E4: 深堀隧道 | H4: 管理者名 | J4: 山口県下関土木建築事務所 | P4: 飯田 琢巳
B5: 写真 番号 | C5: 覆工スパン 番号 | E5: 8 | M5: 写真 番号 | N5: 覆工スパン 番号 | P5: 8
C6: 変状番号 | E6: 2 | N6: 変状番号 | P6: 3
B7: 変状 部位 | C7: 対象箇所 | E7: 覆工 | M7: 変状 部位 | N7: 対象箇所 | P7: 覆工
C8: 部位区分 | E8: 側壁（左側） | N8: 部位区分 | P8: アーチ（左側）
B9: 変状種類 | E9: 漏水 | M9: 変状種類 | P9: 圧ざ、ひび割れ
B10: 対策 区分 | C10: 変状区分 | E10: 漏水 | M10: 対策 区分 | N10: 変状区分 | P10: 材質劣化
C11: 応急措置前 | E11: - | N11: 応急措置前 | P11: -
C12: 応急措置後 | E12: Ⅱb | N12: 応急措置後 | P12: Ⅱb
B13: 変状の発生範囲及び規模 | E13: 2.5m×1.3m | H13: 前回変状の発生範囲及び規模 | J13: 漏水(漏水跡) 2.4m×0.7m | M13: 変状の発生範囲及び規模 | P13: W=0.5mm×L=2.3m | S13: 前回変状の発生範囲及び規模 | U13: 材質劣化・ひび割れ W=0.5mm×L=2.4m
B14: 対策履歴 | E14: - | H14: 実施状況（実施日） | J14: - | M14: 対策履歴 | P14: - | S14: 実施状況（実施日） | U14: -
B15: メモ | E15: 側壁のにじみ 経過観察が望まれる | M15: メモ | P15: アーチのひび割れ 経過観察が望まれる
B16: 写真 番号 | C16: 覆工スパン 番号 | E16: 8 | M16: 写真 番号 | N16: 覆工スパン 番号 | P16: 8
C17: 変状番号 | E17: 4 | N17: 変状番号 | P17: 5
B18: 変状 部位 | C18: 対象箇所 | E18: 覆工 | M18: 変状 部位 | N18: 対象箇所 | P18: 覆工
C19: 部位区分 | E19: 側壁（右側） | N19: 部位区分 | P19: 側壁（左側）
B20: 変状種類 | E20: 漏水 | M20: 変状種類 | P20: 漏水
B21: 対策 区分 | C21: 変状区分 | E21: 漏水 | M21: 対策 区分 | N21: 変状区分 | P21: 漏水
C22: 応急措置前 | E22: - | N22: 応急措置前 | P22: -
C23: 応急措置後 | E23: Ⅱb | N23: 応急措置後 | P23: Ⅱb
B24: 変状の発生範囲及び規模 | E24: 2.6m×2.9m | H24: 前回変状の発生範囲及び規模 | J24: 漏水 2.7m×2.3m | M24: 変状の発生範囲及び規模 | P24: 2.5m×3.8m | S24: 前回変状の発生範囲及び規模 | U24: 漏水 2.4m×5.2m
B25: 対策履歴 | E25: - | H25: 実施状況（実施日） | J25: - | M25: 対策履歴 | P25: - | S25: 実施状況（実施日） | U25: -
B26: メモ | E26: 側壁のにじみ 経過観察が望まれる | M26: メモ | P26: 側壁のにじみ 経過観察が望まれる
C27: ※ 応急措置後の対策区分について添付すること。また、点検前に 実施された措置によりⅠと判定された箇所も添付すること。 | N27: ※ 変状の発生範囲の規模とは、対策を行う際に参考となる変状の長さや面積をいう。
N28: ※ 応急措置を実施しないで決定した変状の対策区分は、対策区分の応急措置後の欄に記入すること。
C29: ※ たたき落としを実施した場合は、実施後の写真を添付すること。 | N29: ※ 変状の発生範囲の規模は、面積・寸法を記載すること。(ひび割れ幅のみmmとし、その他をm表記とする)
C30: ※ 附属物の取付状態に関する異常写真は別途、任意の書式でとりまとめること。 | N30: ※ 構造用鋼材以外の異物に伴ううき・はく離については、メモ欄に異物の概要を記入すること。

Sheet 様式D-1-1 P023
B2: ■定期点検記録様式 変状写真台帳【様式D-1-1】 | R2: 施設ID | T2: ='様式A-1'!W2 -> 34.23956,131.11619
B3: フリガナ | E3: フカボリズイドウ | H3: 路 線 名 | J3: 大河内地吉線 | M3: 定期点検実施者 | P3: アジア航測株式会社 | S3: 定期点検年月日 | U3: 45926
B4: 名 称 | E4: 深堀隧道 | H4: 管理者名 | J4: 山口県下関土木建築事務所 | P4: 飯田 琢巳
B5: 写真 番号 | C5: 覆工スパン 番号 | E5: 8 | M5: 写真 番号 | N5: 覆工スパン 番号 | P5: 9
C6: 変状番号 | E6: 6 | N6: 変状番号 | P6: 1
B7: 変状 部位 | C7: 対象箇所 | E7: 覆工 | M7: 変状 部位 | N7: 対象箇所 | P7: 覆工
C8: 部位区分 | E8: 側壁（右側） | N8: 部位区分 | P8: 側壁（右側）
B9: 変状種類 | E9: 漏水 | M9: 変状種類 | P9: 漏水
B10: 対策 区分 | C10: 変状区分 | E10: 漏水 | M10: 対策 区分 | N10: 変状区分 | P10: 漏水
C11: 応急措置前 | E11: - | N11: 応急措置前 | P11: -
C12: 応急措置後 | E12: Ⅱb | N12: 応急措置後 | P12: Ⅱb
B13: 変状の発生範囲及び規模 | E13: 2.7m×2.5m | H13: 前回変状の発生範囲及び規模 | J13: 漏水(漏水跡) 2.3m×0.5m | M13: 変状の発生範囲及び規模 | P13: 2.5m×1.8m | S13: 前回変状の発生範囲及び規模 | U13: 漏水 2.3m×0.6m
B14: 対策履歴 | E14: - | H14: 実施状況（実施日） | J14: - | M14: 対策履歴 | P14: - | S14: 実施状況（実施日） | U14: -
B15: メモ | E15: 側壁のにじみ 経過観察が望まれる | M15: メモ | P15: 側壁のにじみ 経過観察が望まれる
B16: 写真 番号 | C16: 覆工スパン 番号 | E16: 9 | M16: 写真 番号 | N16: 覆工スパン 番号 | P16: 9
C17: 変状番号 | E17: 2 | N17: 変状番号 | P17: 3
B18: 変状 部位 | C18: 対象箇所 | E18: 覆工 | M18: 変状 部位 | N18: 対象箇所 | P18: 覆工
C19: 部位区分 | E19: 側壁（右側） | N19: 部位区分 | P19: アーチ（右側）
B20: 変状種類 | E20: 漏水 | M20: 変状種類 | P20: 漏水
B21: 対策 区分 | C21: 変状区分 | E21: 漏水 | M21: 対策 区分 | N21: 変状区分 | P21: 漏水
C22: 応急措置前 | E22: - | N22: 応急措置前 | P22: -
C23: 応急措置後 | E23: Ⅱb | N23: 応急措置後 | P23: Ⅱb
B24: 変状の発生範囲及び規模 | E24: 2.4m×1.7m | H24: 前回変状の発生範囲及び規模 | J24: 漏水 2.3m×1.3m | M24: 変状の発生範囲及び規模 | P24: 6.5m×0.88m | S24: 前回変状の発生範囲及び規模 | U24: 滴水 6.1m×0.5m
B25: 対策履歴 | E25: - | H25: 実施状況（実施日） | J25: - | M25: 対策履歴 | P25: - | S25: 実施状況（実施日） | U25: -
B26: メモ | E26: 側壁のにじみ 経過観察が望まれる | M26: メモ | P26: アーチのにじみ 経過観察が望まれる
C27: ※ 応急措置後の対策区分について添付すること。また、点検前に 実施された措置によりⅠと判定された箇所も添付すること。 | N27: ※ 変状の発生範囲の規模とは、対策を行う際に参考となる変状の長さや面積をいう。
N28: ※ 応急措置を実施しないで決定した変状の対策区分は、対策区分の応急措置後の欄に記入すること。
C29: ※ たたき落としを実施した場合は、実施後の写真を添付すること。 | N29: ※ 変状の発生範囲の規模は、面積・寸法を記載すること。(ひび割れ幅のみmmとし、その他をm表記とする)
C30: ※ 附属物の取付状態に関する異常写真は別途、任意の書式でとりまとめること。 | N30: ※ 構造用鋼材以外の異物に伴ううき・はく離については、メモ欄に異物の概要を記入すること。

Sheet 様式D-1-1 P024
B2: ■定期点検記録様式 変状写真台帳【様式D-1-1】 | R2: 施設ID | T2: ='様式A-1'!W2 -> 34.23956,131.11619
B3: フリガナ | E3: フカボリズイドウ | H3: 路 線 名 | J3: 大河内地吉線 | M3: 定期点検実施者 | P3: アジア航測株式会社 | S3: 定期点検年月日 | U3: 45926
B4: 名 称 | E4: 深堀隧道 | H4: 管理者名 | J4: 山口県下関土木建築事務所 | P4: 飯田 琢巳
B5: 写真 番号 | C5: 覆工スパン 番号 | E5: 9 | M5: 写真 番号 | N5: 覆工スパン 番号 | P5: 9
C6: 変状番号 | E6: 4 | N6: 変状番号 | P6: 5
B7: 変状 部位 | C7: 対象箇所 | E7: 覆工 | M7: 変状 部位 | N7: 対象箇所 | P7: 覆工
C8: 部位区分 | E8: アーチ（左側） | N8: 部位区分 | P8: アーチ（右側）
B9: 変状種類 | E9: 漏水 | M9: 変状種類 | P9: 漏水
B10: 対策 区分 | C10: 変状区分 | E10: 漏水 | M10: 対策 区分 | N10: 変状区分 | P10: 漏水
C11: 応急措置前 | E11: - | N11: 応急措置前 | P11: -
C12: 応急措置後 | E12: Ⅱb | N12: 応急措置後 | P12: Ⅱa
B13: 変状の発生範囲及び規模 | E13: 6.1m×1.0m | H13: 前回変状の発生範囲及び規模 | J13: 漏水 6.2m×0.5m | M13: 変状の発生範囲及び規模 | P13: 6.2m×1.3m | S13: 前回変状の発生範囲及び規模 | U13: 漏水 6.7m×1.7m
B14: 対策履歴 | E14: - | H14: 実施状況（実施日） | J14: - | M14: 対策履歴 | P14: - | S14: 実施状況（実施日） | U14: -
B15: メモ | E15: アーチのにじみ 経過観察が望まれる | M15: メモ | P15: アーチの滴水(5ml/min) 計画的な対策が望まれる
B16: 写真 番号 | C16: 覆工スパン 番号 | E16: 9 | M16: 写真 番号 | N16: 覆工スパン 番号 | P16: 10
C17: 変状番号 | E17: 6 | N17: 変状番号 | P17: 1
B18: 変状 部位 | C18: 対象箇所 | E18: 路面 | M18: 変状 部位 | N18: 対象箇所 | P18: 覆工
C19: 部位区分 | E19: 車道 | N19: 部位区分 | P19: アーチ（左側）
B20: 変状種類 | E20: 滞水 | M20: 変状種類 | P20: 漏水
B21: 対策 区分 | C21: 変状区分 | E21: 漏水 | M21: 対策 区分 | N21: 変状区分 | P21: 漏水
C22: 応急措置前 | N22: 応急措置前 | P22: -
C23: 応急措置後 | N23: 応急措置後 | P23: Ⅱb
B24: 変状の発生範囲及び規模 | E24: 1.0m×1.2m | H24: 前回変状の発生範囲及び規模 | J24: 滞水 0.4m×0.9m | M24: 変状の発生範囲及び規模 | P24: 6.4m×3.1m | S24: 前回変状の発生範囲及び規模 | U24: 漏水 6.1m×2.2m
B25: 対策履歴 | E25: - | H25: 実施状況（実施日） | J25: - | M25: 対策履歴 | P25: - | S25: 実施状況（実施日） | U25: -
B26: メモ | E26: 車道の滞水 | M26: メモ | P26: アーチのにじみ 経過観察が望まれる
C27: ※ 応急措置後の対策区分について添付すること。また、点検前に 実施された措置によりⅠと判定された箇所も添付すること。 | N27: ※ 変状の発生範囲の規模とは、対策を行う際に参考となる変状の長さや面積をいう。
N28: ※ 応急措置を実施しないで決定した変状の対策区分は、対策区分の応急措置後の欄に記入すること。
C29: ※ たたき落としを実施した場合は、実施後の写真を添付すること。 | N29: ※ 変状の発生範囲の規模は、面積・寸法を記載すること。(ひび割れ幅のみmmとし、その他をm表記とする)
C30: ※ 附属物の取付状態に関する異常写真は別途、任意の書式でとりまとめること。 | N30: ※ 構造用鋼材以外の異物に伴ううき・はく離については、メモ欄に異物の概要を記入すること。

Sheet 様式D-1-1 P025
B2: ■定期点検記録様式 変状写真台帳【様式D-1-1】 | R2: 施設ID | T2: ='様式A-1'!W2 -> 34.23956,131.11619
B3: フリガナ | E3: フカボリズイドウ | H3: 路 線 名 | J3: 大河内地吉線 | M3: 定期点検実施者 | P3: アジア航測株式会社 | S3: 定期点検年月日 | U3: 45926
B4: 名 称 | E4: 深堀隧道 | H4: 管理者名 | J4: 山口県下関土木建築事務所 | P4: 飯田 琢巳
B5: 写真 番号 | C5: 覆工スパン 番号 | E5: 10 | M5: 写真 番号 | N5: 覆工スパン 番号 | P5: PE
C6: 変状番号 | E6: 2 | N6: 変状番号 | P6: 1
B7: 変状 部位 | C7: 対象箇所 | E7: 覆工 | M7: 変状 部位 | N7: 対象箇所 | P7: 覆工
C8: 部位区分 | E8: アーチ（右側） | N8: 部位区分 | P8: 側壁（右側）
B9: 変状種類 | E9: 漏水 | M9: 変状種類 | P9: 漏水
B10: 対策 区分 | C10: 変状区分 | E10: 漏水 | M10: 対策 区分 | N10: 変状区分 | P10: 漏水
C11: 応急措置前 | E11: - | N11: 応急措置前 | P11: -
C12: 応急措置後 | E12: Ⅱb | N12: 応急措置後 | P12: Ⅱb
B13: 変状の発生範囲及び規模 | E13: 6.2m×1.8m | H13: 前回変状の発生範囲及び規模 | J13: 漏水 5.8m×1.8m | M13: 変状の発生範囲及び規模 | P13: 2.4m×0.68m | S13: 前回変状の発生範囲及び規模 | U13: 漏水 4.8m×0.8m
B14: 対策履歴 | E14: - | H14: 実施状況（実施日） | J14: - | M14: 対策履歴 | P14: - | S14: 実施状況（実施日） | U14: -
B15: メモ | E15: アーチのにじみ 経過観察が望まれる | M15: メモ | P15: 側壁のにじみ 経過観察が望まれる
B16: 写真 番号 | C16: 覆工スパン 番号 | E16: PE | M16: 写真 番号 | N16: 覆工スパン 番号 | P16: PE
C17: 変状番号 | E17: 2 | N17: 変状番号 | P17: 3
B18: 変状 部位 | C18: 対象箇所 | E18: 覆工 | M18: 変状 部位 | N18: 対象箇所 | P18: 覆工
C19: 部位区分 | E19: 面壁・妻壁等 | N19: 部位区分 | P19: 面壁・妻壁等
B20: 変状種類 | E20: うき・はく離 | M20: 変状種類 | P20: うき・はく離
B21: 対策 区分 | C21: 変状区分 | E21: 材質劣化 | M21: 対策 区分 | N21: 変状区分 | P21: 材質劣化
C22: 応急措置前 | E22: - | N22: 応急措置前 | P22: -
C23: 応急措置後 | E23: Ⅱa | N23: 応急措置後 | P23: Ⅱa
B24: 変状の発生範囲及び規模 | E24: 0.4m×0.5m | H24: 前回変状の発生範囲及び規模 | J24: うき・はく離 0.4m×0.5m | M24: 変状の発生範囲及び規模 | P24: 0.4m×0.5m | S24: 前回変状の発生範囲及び規模 | U24: 新規
B25: 対策履歴 | E25: - | H25: 実施状況（実施日） | J25: - | M25: 対策履歴 | P25: - | S25: 実施状況（実施日） | U25: -
B26: メモ | E26: 面壁のうき 計画的な対策が望まれる | M26: メモ | P26: 面壁のうき 計画的な対策が望まれる
C27: ※ 応急措置後の対策区分について添付すること。また、点検前に 実施された措置によりⅠと判定された箇所も添付すること。 | N27: ※ 変状の発生範囲の規模とは、対策を行う際に参考となる変状の長さや面積をいう。
N28: ※ 応急措置を実施しないで決定した変状の対策区分は、対策区分の応急措置後の欄に記入すること。
C29: ※ たたき落としを実施した場合は、実施後の写真を添付すること。 | N29: ※ 変状の発生範囲の規模は、面積・寸法を記載すること。(ひび割れ幅のみmmとし、その他をm表記とする)
C30: ※ 附属物の取付状態に関する異常写真は別途、任意の書式でとりまとめること。 | N30: ※ 構造用鋼材以外の異物に伴ううき・はく離については、メモ欄に異物の概要を記入すること。

Sheet 様式D-1-2 P001
B2: ■定期点検記録様式 異常写真台帳（トンネル内附属物等の取付状態） 【様式D-1-2】
B3: フリガナ | E3: フカボリズイドウ | I3: 路 線 名 | L3: 大河内地吉線 | O3: 定期点検実施者 | R3: アジア航測株式会社 | U3: 定期点検年月日 | W3: 45926
B4: 名 称 | E4: 深堀隧道 | I4: 管理者名 | L4: 山口県下関土木建築事務所 | R4: 飯田 琢巳
B5: 覆工スパン番号 | E5: PS | F5: 異常番号 | I5: 101 | J5: 覆工スパン番号 | M5: PS | N5: 異常番号 | Q5: 102 | R5: 覆工スパン番号 | U5: 1 | V5: 異常番号 | Y5: 101
B6: 対象箇所 | D6: 照明施設 | E6: ケーブル類 | J6: 対象箇所 | L6: その他施設 | M6: その他 | R6: 対象箇所 | T6: 照明施設 | U6: ケーブル類
B7: 部位区分 | D7: 取付部材 | F7: 異常の種類 | H7: 腐食 | J7: 部位区分 | L7: 附属物本体 | N7: 異常の種類 | P7: 変形、欠損 | R7: 部位区分 | T7: ボルト・ﾅｯﾄ・アンカー類 | V7: 異常の種類 | X7: 腐食
B8: 異常判定区分 | D8: × | E8: メモ | F8: ｹｰﾌﾞﾙ取付金具の腐食 | J8: 異常判定区分 | L8: × | M8: メモ | N8: 残置配線用ﾊﾟｲﾌﾟの破損 | R8: 異常判定区分 | T8: × | U8: メモ | V8: 照明用ﾌﾟﾙﾎﾞｯｸｽ蓋固定ﾎﾞﾙﾄの腐食
B22: 覆工スパン番号 | E22: 1 | F22: 異常番号 | I22: 102 | J22: 覆工スパン番号 | M22: 1 | N22: 異常番号 | Q22: 103 | R22: 覆工スパン番号 | U22: 1 | V22: 異常番号 | Y22: 104
B23: 対象箇所 | D23: 照明施設 | E23: ケーブル類 | J23: 対象箇所 | L23: 照明施設 | M23: ケーブル類 | R23: 対象箇所 | T23: その他施設 | U23: その他
B24: 部位区分 | D24: 取付部材 | F24: 異常の種類 | H24: 変形、欠損 | J24: 部位区分 | L24: 取付部材 | N24: 異常の種類 | P24: 変形、欠損 | R24: 部位区分 | T24: 附属物本体 | V24: 異常の種類 | X24: 変形、欠損
B25: 異常判定区分 | D25: × | E25: メモ | F25: ｹｰﾌﾞﾙ固定ﾎﾞﾙﾄの欠損 | J25: 異常判定区分 | L25: × | M25: メモ | N25: ｹｰﾌﾞﾙ固定ﾎﾞﾙﾄの欠損 | R25: 異常判定区分 | T25: × | U25: メモ | V25: 残置配線用ﾊﾟｲﾌﾟの破損
C39: ※ 異常判定区分×について記入すること。また、応急措置前に異常判定区分×とした箇所のうち応急措置により○と判定した箇所も記入すること。
C40: ※ 応急措置を実施した場合は、その実施状況が分かる写真を添付すること。
C41: ※ 変状数に準じてシートを追加すること。

Sheet 様式D-1-2 P002
B2: ■定期点検記録様式 異常写真台帳（トンネル内附属物等の取付状態） 【様式D-1-2】
B3: フリガナ | E3: フカボリズイドウ | I3: 路 線 名 | L3: 大河内地吉線 | O3: 定期点検実施者 | R3: アジア航測株式会社 | U3: 定期点検年月日 | W3: 45926
B4: 名 称 | E4: 深堀隧道 | I4: 管理者名 | L4: 山口県下関土木建築事務所 | R4: 飯田 琢巳
B5: 覆工スパン番号 | E5: 2 | F5: 異常番号 | I5: 101 | J5: 覆工スパン番号 | M5: 2 | N5: 異常番号 | Q5: 102 | R5: 覆工スパン番号 | U5: 2 | V5: 異常番号 | Y5: 103
B6: 対象箇所 | D6: 照明施設 | E6: ケーブル類 | J6: 対象箇所 | L6: 照明施設 | M6: ケーブル類 | R6: 対象箇所 | T6: 照明施設 | U6: ケーブル類
B7: 部位区分 | D7: 取付部材 | F7: 異常の種類 | H7: 変形、欠損 | J7: 部位区分 | L7: 取付部材 | N7: 異常の種類 | P7: 変形、欠損 | R7: 部位区分 | T7: 取付部材 | V7: 異常の種類 | X7: 変形、欠損
B8: 異常判定区分 | D8: × | E8: メモ | F8: ｹｰﾌﾞﾙ固定ﾎﾞﾙﾄの欠損・金具撤去済 | J8: 異常判定区分 | L8: × | M8: メモ | N8: ｹｰﾌﾞﾙ固定ﾎﾞﾙﾄの欠損 | R8: 異常判定区分 | T8: × | U8: メモ | V8: ｹｰﾌﾞﾙ固定ﾎﾞﾙﾄの欠損
B22: 覆工スパン番号 | E22: 2 | F22: 異常番号 | I22: 104 | J22: 覆工スパン番号 | M22: 3 | N22: 異常番号 | Q22: 101 | R22: 覆工スパン番号 | U22: 3 | V22: 異常番号 | Y22: 102
B23: 対象箇所 | D23: その他施設 | E23: その他 | J23: 対象箇所 | L23: 照明施設 | M23: ケーブル類 | R23: 対象箇所 | T23: その他施設 | U23: その他
B24: 部位区分 | D24: 附属物本体 | F24: 異常の種類 | H24: 変形、欠損 | J24: 部位区分 | L24: ボルト・ﾅｯﾄ・アンカー類 | N24: 異常の種類 | P24: 変形、欠損 | R24: 部位区分 | T24: 附属物本体 | V24: 異常の種類 | X24: 変形、欠損
B25: 異常判定区分 | D25: × | E25: メモ | F25: 残置配線用ﾊﾟｲﾌﾟの破損 | J25: 異常判定区分 | L25: × | M25: メモ | N25: 照明用ﾌﾟﾙﾎﾞｯｸｽ蓋固定ﾎﾞﾙﾄの腐食 応急対策済 | R25: 異常判定区分 | T25: × | U25: メモ | V25: 残置配線用ﾊﾟｲﾌﾟの破損
C39: ※ 異常判定区分×について記入すること。また、応急措置前に異常判定区分×とした箇所のうち応急措置により○と判定した箇所も記入すること。
C40: ※ 応急措置を実施した場合は、その実施状況が分かる写真を添付すること。
C41: ※ 変状数に準じてシートを追加すること。

Sheet 様式D-1-2 P003
B2: ■定期点検記録様式 異常写真台帳（トンネル内附属物等の取付状態） 【様式D-1-2】
B3: フリガナ | E3: フカボリズイドウ | I3: 路 線 名 | L3: 大河内地吉線 | O3: 定期点検実施者 | R3: アジア航測株式会社 | U3: 定期点検年月日 | W3: 45926
B4: 名 称 | E4: 深堀隧道 | I4: 管理者名 | L4: 山口県下関土木建築事務所 | R4: 飯田 琢巳
B5: 覆工スパン番号 | E5: 4 | F5: 異常番号 | I5: 101 | J5: 覆工スパン番号 | M5: 4 | N5: 異常番号 | Q5: 102 | R5: 覆工スパン番号 | U5: 5 | V5: 異常番号 | Y5: 101
B6: 対象箇所 | D6: 照明施設 | E6: ケーブル類 | J6: 対象箇所 | L6: その他施設 | M6: その他 | R6: 対象箇所 | T6: 照明施設 | U6: ケーブル類
B7: 部位区分 | D7: ボルト・ﾅｯﾄ・アンカー類 | F7: 異常の種類 | H7: 変形、欠損 | J7: 部位区分 | L7: 附属物本体 | N7: 異常の種類 | P7: 変形、欠損 | R7: 部位区分 | T7: ボルト・ﾅｯﾄ・アンカー類 | V7: 異常の種類 | X7: 変形、欠損
B8: 異常判定区分 | D8: × | E8: メモ | F8: 照明用ﾌﾟﾙﾎﾞｯｸｽ蓋固定ﾎﾞﾙﾄの腐食 応急対策済 | J8: 異常判定区分 | L8: × | M8: メモ | N8: 残置配線用ﾊﾟｲﾌﾟの破損 | R8: 異常判定区分 | T8: × | U8: メモ | V8: 照明用ﾌﾟﾙﾎﾞｯｸｽ蓋欠損
B22: 覆工スパン番号 | E22: 5 | F22: 異常番号 | I22: 102 | J22: 覆工スパン番号 | M22: 6 | N22: 異常番号 | Q22: 101 | R22: 覆工スパン番号 | U22: 6 | V22: 異常番号 | Y22: 102
B23: 対象箇所 | D23: その他施設 | E23: その他 | J23: 対象箇所 | L23: 照明施設 | M23: ケーブル類 | R23: 対象箇所 | T23: その他施設 | U23: その他
B24: 部位区分 | D24: 附属物本体 | F24: 異常の種類 | H24: 変形、欠損 | J24: 部位区分 | L24: ボルト・ﾅｯﾄ・アンカー類 | N24: 異常の種類 | P24: 腐食 | R24: 部位区分 | T24: 附属物本体 | V24: 異常の種類 | X24: 変形、欠損
B25: 異常判定区分 | D25: × | E25: メモ | F25: 残置配線用ﾊﾟｲﾌﾟの破損 | J25: 異常判定区分 | L25: × | M25: メモ | N25: 照明用ﾌﾟﾙﾎﾞｯｸｽ蓋固定ﾎﾞﾙﾄの腐食 | R25: 異常判定区分 | T25: × | U25: メモ | V25: 残置配線用ﾊﾟｲﾌﾟの破損
C39: ※ 異常判定区分×について記入すること。また、応急措置前に異常判定区分×とした箇所のうち応急措置により○と判定した箇所も記入すること。
C40: ※ 応急措置を実施した場合は、その実施状況が分かる写真を添付すること。
C41: ※ 変状数に準じてシートを追加すること。

Sheet 様式D-1-2 P004
B2: ■定期点検記録様式 異常写真台帳（トンネル内附属物等の取付状態） 【様式D-1-2】
B3: フリガナ | E3: フカボリズイドウ | I3: 路 線 名 | L3: 大河内地吉線 | O3: 定期点検実施者 | R3: アジア航測株式会社 | U3: 定期点検年月日 | W3: 45926
B4: 名 称 | E4: 深堀隧道 | I4: 管理者名 | L4: 山口県下関土木建築事務所 | R4: 飯田 琢巳
B5: 覆工スパン番号 | E5: 7 | F5: 異常番号 | I5: 101 | J5: 覆工スパン番号 | M5: 8 | N5: 異常番号 | Q5: 101 | R5: 覆工スパン番号 | U5: 8 | V5: 異常番号 | Y5: 102
B6: 対象箇所 | D6: その他施設 | E6: その他 | J6: 対象箇所 | L6: 照明施設 | M6: ケーブル類 | R6: 対象箇所 | T6: その他施設 | U6: その他
B7: 部位区分 | D7: 附属物本体 | F7: 異常の種類 | H7: 変形、欠損 | J7: 部位区分 | L7: ボルト・ﾅｯﾄ・アンカー類 | N7: 異常の種類 | P7: 腐食 | R7: 部位区分 | T7: 附属物本体 | V7: 異常の種類 | X7: 変形、欠損
B8: 異常判定区分 | D8: × | E8: メモ | F8: 残置配線用ﾊﾟｲﾌﾟの破損 | J8: 異常判定区分 | L8: × | M8: メモ | N8: 照明用ﾌﾟﾙﾎﾞｯｸｽ蓋固定ﾎﾞﾙﾄの腐食 | R8: 異常判定区分 | T8: × | U8: メモ | V8: 残置配線用ﾊﾟｲﾌﾟの破損
B22: 覆工スパン番号 | E22: 9 | F22: 異常番号 | I22: 101 | J22: 覆工スパン番号 | M22: 9 | N22: 異常番号 | Q22: 102 | R22: 覆工スパン番号 | U22: 10 | V22: 異常番号 | Y22: 101
B23: 対象箇所 | D23: 照明施設 | E23: ケーブル類 | J23: 対象箇所 | L23: その他施設 | M23: その他 | R23: 対象箇所 | T23: その他施設 | U23: その他
B24: 部位区分 | D24: ボルト・ﾅｯﾄ・アンカー類 | F24: 異常の種類 | H24: 変形、欠損 | J24: 部位区分 | L24: 附属物本体 | N24: 異常の種類 | P24: 変形、欠損 | R24: 部位区分 | T24: 附属物本体 | V24: 異常の種類 | X24: 変形、欠損
B25: 異常判定区分 | D25: × | E25: メモ | F25: 照明用ﾌﾟﾙﾎﾞｯｸｽ蓋欠損 | J25: 異常判定区分 | L25: × | M25: メモ | N25: 残置配線用ﾊﾟｲﾌﾟの破損 | R25: 異常判定区分 | T25: × | U25: メモ | V25: 残置配線用ﾊﾟｲﾌﾟの破損
C39: ※ 異常判定区分×について記入すること。また、応急措置前に異常判定区分×とした箇所のうち応急措置により○と判定した箇所も記入すること。
C40: ※ 応急措置を実施した場合は、その実施状況が分かる写真を添付すること。
C41: ※ 変状数に準じてシートを追加すること。

Sheet 様式D-1-2 P005
B2: ■定期点検記録様式 異常写真台帳（トンネル内附属物等の取付状態） 【様式D-1-2】
B3: フリガナ | E3: フカボリズイドウ | I3: 路 線 名 | L3: 大河内地吉線 | O3: 定期点検実施者 | R3: アジア航測株式会社 | U3: 定期点検年月日 | W3: 45926
B4: 名 称 | E4: 深堀隧道 | I4: 管理者名 | L4: 山口県下関土木建築事務所 | R4: 飯田 琢巳
B5: 覆工スパン番号 | E5: PE | F5: 異常番号 | I5: 101 | J5: 覆工スパン番号 | N5: 異常番号 | R5: 覆工スパン番号 | V5: 異常番号
B6: 対象箇所 | D6: 照明施設 | E6: ケーブル類 | J6: 対象箇所 | R6: 対象箇所
B7: 部位区分 | D7: 取付部材 | F7: 異常の種類 | H7: 腐食 | J7: 部位区分 | N7: 異常の種類 | R7: 部位区分 | V7: 異常の種類
B8: 異常判定区分 | D8: × | E8: メモ | F8: ｹｰﾌﾞﾙ取付金具の腐食 | J8: 異常判定区分 | M8: メモ | R8: 異常判定区分 | U8: メモ
B22: 覆工スパン番号 | F22: 異常番号 | J22: 覆工スパン番号 | N22: 異常番号 | R22: 覆工スパン番号 | V22: 異常番号
B23: 対象箇所 | J23: 対象箇所 | R23: 対象箇所
B24: 部位区分 | F24: 異常の種類 | J24: 部位区分 | N24: 異常の種類 | R24: 部位区分 | V24: 異常の種類
B25: 異常判定区分 | E25: メモ | J25: 異常判定区分 | M25: メモ | R25: 異常判定区分 | U25: メモ
C39: ※ 異常判定区分×について記入すること。また、応急措置前に異常判定区分×とした箇所のうち応急措置により○と判定した箇所も記入すること。
C40: ※ 応急措置を実施した場合は、その実施状況が分かる写真を添付すること。
C41: ※ 変状数に準じてシートを追加すること。

Sheet 様式D-2-1 (1)
B3: ■定期点検記録様式 トンネル全体変状展開図 【様式D-2-1】
B4: フリガナ | E4: フカボリズイドウ | J4: 路線名 | M4: 大河内地吉線 | S4: 定期点検実施者 | W4: アジア航測株式会社 | AC4: 定期点検年月日 | AF4: 45926
B5: 名 称 | E5: 深堀隧道 | J5: 管理者名 | M5: 山口県下関土木建築事務所 | W5: 飯田 琢巳
B6: トンネル変状展開図 | C6: トンネル全体変状展開図
V18: 注１：本展開図は、見下げた状態で記載すること。 注２：覆工スパン番号は横断目地毎（矢板工法の場合は上半アーチ の横断目地毎)に設定すること。 注３：横断目地の変状は前の覆工スパン番号で計上すること。 注４：１枚に収まらない場合は、複数枚に分けて作成すること。

Sheet 様式D-2-1 (2)
B3: ■定期点検記録様式 トンネル全体変状展開図 【様式D-2-1】
B4: フリガナ | E4: フカボリズイドウ | J4: 路線名 | M4: 大河内地吉線 | S4: 定期点検実施者 | W4: アジア航測株式会社 | AC4: 定期点検年月日 | AF4: 45926
B5: 名 称 | E5: 深堀隧道 | J5: 管理者名 | M5: 山口県下関土木建築事務所 | W5: 飯田 琢巳
B6: トンネル変状展開図 | C6: トンネル全体変状展開図
V18: 注１：本展開図は、見下げた状態で記載すること。 注２：覆工スパン番号は横断目地毎（矢板工法の場合は上半アーチ の横断目地毎)に設定すること。 注３：横断目地の変状は前の覆工スパン番号で計上すること。 注４：１枚に収まらない場合は、複数枚に分けて作成すること。

Sheet 様式D-2-1´(1)
B3: ■定期点検記録様式 トンネル全体変状展開図（機器の活用時） 【様式D-2-1’】
B4: フリガナ | E4: フカボリズイドウ | J4: 路線名 | M4: 大河内地吉線 | S4: 定期点検実施者 | W4: アジア航測株式会社 | AC4: 定期点検年月日 | AF4: 45926
B5: 名 称 | E5: 深堀隧道 | J5: 管理者名 | M5: 山口県下関土木建築事務所 | W5: 飯田 琢巳
B6: トンネル変状展開図 | C6: トンネル全体変状展開図
V18: 注１：本展開図は、見下げた状態で記載すること。 注２：覆工スパン番号は横断目地毎（矢板工法の場合は上半アーチ の横断目地毎)に設定すること。 注３：横断目地の変状は前の覆工スパン番号で計上すること。 注４：１枚に収まらない場合は、複数枚に分けて作成すること。

Sheet 様式D-2-1´(2)
B3: ■定期点検記録様式 トンネル全体変状展開図（機器の活用時） 【様式D-2-1’】
B4: フリガナ | E4: フカボリズイドウ | J4: 路線名 | M4: 大河内地吉線 | S4: 定期点検実施者 | W4: アジア航測株式会社 | AC4: 定期点検年月日 | AF4: 45926
B5: 名 称 | E5: 深堀隧道 | J5: 管理者名 | M5: 山口県下関土木建築事務所 | W5: 飯田 琢巳
B6: トンネル変状展開図 | C6: トンネル全体変状展開図
V18: 注１：本展開図は、見下げた状態で記載すること。 注２：覆工スパン番号は横断目地毎（矢板工法の場合は上半アーチ の横断目地毎)に設定すること。 注３：横断目地の変状は前の覆工スパン番号で計上すること。 注４：１枚に収まらない場合は、複数枚に分けて作成すること。

Sheet 様式D-3_PS
AU1: 様式F用→ | AV1: 覆工スパン | AY1: 変 状 数 | BK1: 変 状 規 模
AV2: 番号 | AW2: 延長 （ｍ） | AX2: 健全性の診断の 区分 | AY2: 対策区分の判定 | BK2: 覆工スパン長（ｍ） | BO2: 変状の発生範囲の規模（㎡）
B3: ■定期点検記録様式 覆工スパン別変状詳細展開図 【様式D-3】 | AY3: 外力 | BC3: 材質劣化 | BG3: 漏水 | BK3: 外力 注2 | BO3: 材質劣化 | BS3: 漏水
B4: フリガナ | E4: フカボリズイドウ | K4: 路線名 | N4: 大河内地吉線 | T4: 定期点検実施者 | Y4: アジア航測株式会社 | AG4: 定期点検年月日 | AK4: 45926 | AY4: Ⅳ | AZ4: Ⅲ | BA4: Ⅱa | BB4: Ⅱb | BC4: Ⅳ | BD4: Ⅲ | BE4: Ⅱa | BF4: Ⅱb | BG4: Ⅳ | BH4: Ⅲ | BI4: Ⅱa | BJ4: Ⅱb | BK4: Ⅳ | BL4: Ⅲ | BM4: Ⅱa | BN4: Ⅱb | BO4: Ⅳ | BP4: Ⅲ | BQ4: Ⅱa | BR4: Ⅱb | BS4: Ⅳ | BT4: Ⅲ | BU4: Ⅱa | BV4: Ⅱb
B5: 名 称 | E5: 深堀隧道 | K5: 管理者名 | N5: 山口県下関土木建築事務所 | Y5: 飯田 琢巳 | AV5: =N7 -> PS | AW5: =R7 -> 0.6 | AX5: =AM35 -> Ⅱ | AY5: =Y37 -> 0 | AZ5: =Z37 -> 0 | BA5: =AA37 -> 0 | BB5: =AB37 -> 0 | BC5: =AC37 -> 0 | BD5: =AD37 -> 0 | BE5: =AE37 -> 8 | BF5: =AF37 -> 5 | ... BJ5: =AJ37 -> 2 | BK5: =IF(Y37>0,R7,0) -> 0 | BL5: =IF(Y37>0,0,IF(Z37>0,R7,0)) -> 0 | BM5: =IF(Y37+Z37>0,0,IF(AA37>0,R7,0)) -> 0 | BN5: =IF(Y37+Z37+AA37>0,0,IF(AB37>0,R7,0)) -> 0 | BO5: =AC35 -> 0 | BP5: =AD35 -> 0 | BQ5: =AE35 -> 3.335 | BR5: =AF35 -> 1.51 | BS5: =AG35 -> 0 | BT5: =AH35 -> 0 | BU5: =AI35 -> 0 | BV5: =AJ35 -> 15.2
B6: スパン別変状展開図 | K6: 【健全性判定集計表】
K7: スパン番号 | N7: PS | P7: スパン長 | R7: 0.6 | U7: 前回定期点検時の判定 | W7: 応急措置前の判定 | Y7: 対策区分毎の 変状の有無 | AC7: 対策区分毎の変状の発生範囲の規模(㎡) | AK7: 備考注2
K8: 変状番号 | L8: 対象箇所 | N8: 部位区分 | P8: 変状区分 | R8: 変状種類
Y9: 外力注1 | AC9: 材質劣化注1 | AG9: 漏水注1
Y10: Ⅳ | Z10: Ⅲ | AA10: Ⅱa | AB10: Ⅱb | AC10: Ⅳ | AD10: Ⅲ | AE10: Ⅱa | AF10: Ⅱb | AG10: Ⅳ | AH10: Ⅲ | AI10: Ⅱa | AJ10: Ⅱb
K11: 1 | L11: 覆工 | N11: 面壁・妻壁等 | P11: 材質劣化 | R11: その他 | U11: Ⅱb | W11: - | AE11: 0.16 | AK11: 骨材露出 | AQ11: =IF(P11="材質劣化",2,IF(P11="漏水",3,1)) -> 2 | AS11: =IF(Y11<>"",1,"")
K12: 2 | L12: 覆工 | N12: 面壁・妻壁等 | P12: 材質劣化 | R12: その他 | U12: Ⅱb | W12: - | AE12: 0.16 | AK12: 骨材露出 | AQ12: =IF(P12="材質劣化",2,IF(P12="漏水",3,1)) -> 2
K13: 3 | L13: 覆工 | N13: 面壁・妻壁等 | P13: 漏水 | R13: 漏水 | U13: Ⅱb | W13: - | AJ13: 2.15 | AQ13: =IF(P13="材質劣化",2,IF(P13="漏水",3,1)) -> 3
K14: 4 | L14: 覆工 | N14: 面壁・妻壁等 | P14: 材質劣化 | R14: うき・はく離 | U14: Ⅱa | W14: - | AE14: 0.36 | AQ14: =IF(P14="材質劣化",2,IF(P14="漏水",3,1)) -> 2
K15: 5 | L15: 覆工 | N15: 面壁・妻壁等 | P15: 材質劣化 | R15: うき・はく離 | U15: Ⅱa | W15: - | AE15: 0.6 | AQ15: =IF(P15="材質劣化",2,IF(P15="漏水",3,1)) -> 2
K16: 6 | L16: 覆工 | N16: 面壁・妻壁等 | P16: 材質劣化 | R16: うき・はく離 | U16: Ⅱa | W16: - | AE16: 0.64 | AQ16: =IF(P16="材質劣化",2,IF(P16="漏水",3,1)) -> 2
K17: 7 | L17: 覆工 | N17: 面壁・妻壁等 | P17: 材質劣化 | R17: うき・はく離 | U17: Ⅱa | W17: - | AE17: 0.8 | AQ17: =IF(P17="材質劣化",2,IF(P17="漏水",3,1)) -> 2
K18: 8 | L18: 覆工 | N18: 面壁・妻壁等 | P18: 材質劣化 | R18: うき・はく離 | U18: Ⅱa | W18: - | AE18: 0.375 | AQ18: =IF(P18="材質劣化",2,IF(P18="漏水",3,1)) -> 2
K19: 9 | L19: 覆工 | N19: 面壁・妻壁等 | P19: 漏水 | R19: 漏水 | U19: Ⅱb | W19: - | AJ19: 13.05 | AQ19: =IF(P19="材質劣化",2,IF(P19="漏水",3,1)) -> 3
K20: 10 | L20: 覆工 | N20: アーチ（左側） | P20: 材質劣化 | R20: うき・はく離 | U20: Ⅱa | W20: - | AE20: 0.24 | AQ20: =IF(P20="材質劣化",2,IF(P20="漏水",3,1)) -> 2
K21: 11 | L21: 覆工 | N21: アーチ（左側） | P21: 材質劣化 | R21: その他 | U21: Ⅱb | W21: - | AF21: 0.24 | AK21: 骨材露出 | AQ21: =IF(P21="材質劣化",2,IF(P21="漏水",3,1)) -> 2
K22: 12 | L22: 覆工 | N22: アーチ（左側） | P22: 材質劣化 | R22: その他 | U22: Ⅱb | W22: - | AF22: 0.16 | AK22: 骨材露出 | AQ22: =IF(P22="材質劣化",2,IF(P22="漏水",3,1)) -> 2
K23: 13 | L23: 覆工 | N23: アーチ（右側） | P23: 材質劣化 | R23: その他 | U23: Ⅱb | W23: - | AF23: 0.09 | AK23: 骨材露出 | AQ23: =IF(P23="材質劣化",2,IF(P23="漏水",3,1)) -> 2
K24: 14 | L24: 覆工 | N24: 側壁（右側） | P24: 材質劣化 | R24: うき・はく離 | U24: Ⅱb | W24: - | AF24: 0.92 | AQ24: =IF(P24="材質劣化",2,IF(P24="漏水",3,1)) -> 2
K25: 15 | L25: 覆工 | N25: 面壁・妻壁等 | P25: 材質劣化 | R25: うき・はく離 | U25: - | W25: - | AF25: 0.1 | AQ25: =IF(P25="材質劣化",2,IF(P25="漏水",3,1)) -> 2
K26: 16 | AQ26: =IF(P26="材質劣化",2,IF(P26="漏水",3,1)) -> 1
K27: 17 | AQ27: =IF(P27="材質劣化",2,IF(P27="漏水",3,1)) -> 1
K28: 18 | AQ28: =IF(P30="材質劣化",2,IF(P30="漏水",3,1)) -> 1
K29: 19 | AQ29: =IF(P34="材質劣化",2,IF(P34="漏水",3,1)) -> 1
K30: 20 | AQ30: =IF(P30="材質劣化",2,IF(P30="漏水",3,1)) -> 1
K31: 21 | AQ31: =IF(P33="材質劣化",2,IF(P33="漏水",3,1)) -> 1
K32: 22 | AQ32: =IF(P37="材質劣化",2,IF(P37="漏水",3,1)) -> 1
K33: 23 | AQ33: =IF(P33="材質劣化",2,IF(P33="漏水",3,1)) -> 1
K34: 24 | AQ34: =IF(P36="材質劣化",2,IF(P36="漏水",3,1)) -> 1
K35: 集計 判定 診断 | L35: 変状の発生規模合計(㎡) | Y35: － | AC35: =SUM(AC11:AC34) -> 0 | AD35: =SUM(AD11:AD34) -> 0 | AE35: =SUM(AE11:AE34) -> 3.335 | AF35: =SUM(AF11:AF34) -> 1.51 | AG35: =SUM(AG11:AG34) -> 0 | AH35: =SUM(AH11:AH34) -> 0 | AI35: =SUM(AI11:AI34) -> 0 | AJ35: =SUM(AJ11:AJ34) -> 15.2 | AK35: 覆工スパン単位の 健全性の 診断の区分 | AM35: =IF(Y37+AC37+AG37>0,"Ⅳ",IF(Z37+AD37+AH37>0,"Ⅲ",IF(AA37+AB37+AE37+AF37+AI37+AJ37>0,"Ⅱ","Ⅰ"))) -> Ⅱ
L36: 対策区分の 判定結果 | O36: 対策区分毎の変状数注3 | Y36: Ⅳ | Z36: Ⅲ | AA36: Ⅱa | AB36: Ⅱb | AC36: Ⅳ | AD36: Ⅲ | AE36: Ⅱa | AF36: Ⅱb | AG36: Ⅳ | AH36: Ⅲ | AI36: Ⅱa | AJ36: Ⅱb
Y37: =IF(COUNTIF(Y11:Y34,"〇")>0,1,0) -> 0 | Z37: =IF(COUNTIF(Z11:Z34,"〇")>0,1,0) -> 0 | AA37: =IF(COUNTIF(AA11:AA34,"〇")>0,1,0) -> 0 | AB37: =IF(COUNTIF(AB11:AB34,"〇")>0,1,0) -> 0 | AC37: =COUNTA(AC11:AC34) -> 0 | AD37: =COUNTA(AD11:AD34) -> 0 | AE37: =COUNTA(AE11:AE34) -> 8 | AF37: =COUNTA(AF11:AF34) -> 5 | AG37: =COUNTA(AG11:AG34) -> 0 | AH37: =COUNTA(AH11:AH34) -> 0 | AI37: =COUNTA(AI11:AI34) -> 0 | AJ37: =COUNTA(AJ11:AJ34) -> 2
K39: 所見 | L39: B：将来的に、利用者に対して影響が及ぶ可能性がある状態。
K43: 注1：誤記入防止のため、当該変状区分以外のセルは灰色表示とすること。
K44: 注2：応急措置を実施した場合は、その詳細を備考に記載すること。
K45: 注3：外力は覆工スパン単位、材質劣化、漏水は変状単位とすること。
B46: （以下、印刷不要）
B47: ※1：本シートは作成洩れのないよう、変状が無くても全スパン分を作成すること．また変状展開図は、様式D-2-1、様式D-2-1'と同じものを覆工スパン単位で拡大し掲載すること。
B48: ※2：変状番号は、様式D-1-1で記入した番号と整合させること。
B49: ※3：対策区分毎の変状発生規模は、様式D-1-1に記載した面積を記入すること（ただし外力はスパン単位で評価するため変状の有無の欄には面積でなく○を記入し、備考欄に状況を記入）。
B50: ※4：本様式は覆工スパン毎に作成すること。
B51: ※5：変状数が多い場合は、適時、表の行を増やして覆工スパン毎に1枚のシートに収めること。また、1スパン１シートとし、スパンに合わせてシートを追加すること。
B52: ※6：対策区分毎の変状の発生範囲の規模とは，対策を行う際に参考となる変状の長さや面積であり，変状を包含する長さや面積とする。
B53: ※7：対策範囲を示す発生範囲の規模を面積で記入することが妥当ではない変状は、発生範囲の規模の欄に○を記入するとともに、備考に内容を記入すること。

Sheet 様式D-3_001
AU1: 様式F用→ | AV1: 覆工スパン | AY1: 変 状 数 | BK1: 変 状 規 模
AV2: 番号 | AW2: 延長 （ｍ） | AX2: 健全性の診断の 区分 | AY2: 対策区分の判定 | BK2: 覆工スパン長（ｍ） | BO2: 変状の発生範囲の規模（㎡）
B3: ■定期点検記録様式 覆工スパン別変状詳細展開図 【様式D-3】 | AY3: 外力 | BC3: 材質劣化 | BG3: 漏水 | BK3: 外力 注2 | BO3: 材質劣化 | BS3: 漏水
B4: フリガナ | E4: フカボリズイドウ | K4: 路線名 | N4: 大河内地吉線 | T4: 定期点検実施者 | Y4: アジア航測株式会社 | AG4: 定期点検年月日 | AK4: 45926 | AY4: Ⅳ | AZ4: Ⅲ | BA4: Ⅱa | BB4: Ⅱb | BC4: Ⅳ | BD4: Ⅲ | BE4: Ⅱa | BF4: Ⅱb | BG4: Ⅳ | BH4: Ⅲ | BI4: Ⅱa | BJ4: Ⅱb | BK4: Ⅳ | BL4: Ⅲ | BM4: Ⅱa | BN4: Ⅱb | BO4: Ⅳ | BP4: Ⅲ | BQ4: Ⅱa | BR4: Ⅱb | BS4: Ⅳ | BT4: Ⅲ | BU4: Ⅱa | BV4: Ⅱb
B5: 名 称 | E5: 深堀隧道 | K5: 管理者名 | N5: 山口県下関土木建築事務所 | Y5: 飯田 琢巳 | AV5: =N7 -> 1 | AW5: =R7 -> 10 | AX5: =AM35 -> Ⅱ | AY5: =Y37 -> 0 | AZ5: =Z37 -> 0 | BA5: =AA37 -> 0 | BB5: =AB37 -> 0 | BC5: =AC37 -> 0 | BD5: =AD37 -> 0 | BE5: =AE37 -> 3 | BF5: =AF37 -> 1 | ... BJ5: =AJ37 -> 11 | BK5: =IF(Y37>0,R7,0) -> 0 | BL5: =IF(Y37>0,0,IF(Z37>0,R7,0)) -> 0 | BM5: =IF(Y37+Z37>0,0,IF(AA37>0,R7,0)) -> 0 | BN5: =IF(Y37+Z37+AA37>0,0,IF(AB37>0,R7,0)) -> 0 | BO5: =AC35 -> 0 | BP5: =AD35 -> 0 | BQ5: =AE35 -> 1.01 | BR5: =AF35 -> 0.34 | BS5: =AG35 -> 0 | BT5: =AH35 -> 0 | BU5: =AI35 -> 0 | BV5: =AJ35 -> 96.762
B6: スパン別変状展開図 | K6: 【健全性判定集計表】
K7: スパン番号 | N7: 1 | P7: スパン長 | R7: 10 | U7: 前回定期点検時の判定 | W7: 応急措置前の判定 | Y7: 対策区分毎の 変状の有無 | AC7: 対策区分毎の変状の発生範囲の規模(㎡) | AK7: 備考注2
K8: 変状番号 | L8: 対象箇所 | N8: 部位区分 | P8: 変状区分 | R8: 変状種類
Y9: 外力注1 | AC9: 材質劣化注1 | AG9: 漏水注1
Y10: Ⅳ | Z10: Ⅲ | AA10: Ⅱa | AB10: Ⅱb | AC10: Ⅳ | AD10: Ⅲ | AE10: Ⅱa | AF10: Ⅱb | AG10: Ⅳ | AH10: Ⅲ | AI10: Ⅱa | AJ10: Ⅱb
K11: 1 | L11: 覆工 | N11: アーチ（左側） | P11: 漏水 | R11: 漏水 | U11: Ⅱb | W11: - | AJ11: 22.1 | AQ11: =IF(P11="材質劣化",2,IF(P11="漏水",3,1)) -> 3 | AS11: =IF(Y11<>"",1,"")
K12: 2 | L12: 覆工 | N12: アーチ（左側） | P12: 材質劣化 | R12: うき・はく離 | U12: Ⅱa | W12: - | AE12: 0.15 | AQ12: =IF(P12="材質劣化",2,IF(P12="漏水",3,1)) -> 2
K13: 3 | L13: 覆工 | N13: アーチ（左側） | P13: 漏水 | R13: 漏水 | U13: Ⅱa | W13: - | AJ13: 3.15 | AQ13: =IF(P13="材質劣化",2,IF(P13="漏水",3,1)) -> 3
K14: 4 | L14: 覆工 | N14: アーチ（右側） | P14: 漏水 | R14: 漏水 | U14: Ⅱa | W14: - | AJ14: 3.25 | AQ14: =IF(P14="材質劣化",2,IF(P14="漏水",3,1)) -> 3
K15: 5 | L15: 覆工 | N15: アーチ（右側） | P15: 漏水 | R15: 漏水 | U15: Ⅱb | W15: - | AJ15: 21.45 | AQ15: =IF(P15="材質劣化",2,IF(P15="漏水",3,1)) -> 3
K16: 6 | L16: 覆工 | N16: アーチ（左側） | P16: 漏水 | R16: 漏水 | U16: Ⅱb | W16: - | AJ16: 13.65 | AQ16: =IF(P16="材質劣化",2,IF(P16="漏水",3,1)) -> 3
K17: 7 | L17: 覆工 | N17: アーチ（左側） | P17: 材質劣化 | R17: うき・はく離 | U17: Ⅱa | W17: - | AE17: 0.22 | AQ17: =IF(P17="材質劣化",2,IF(P17="漏水",3,1)) -> 2
K18: 8 | L18: 覆工 | N18: アーチ（右側） | P18: 漏水 | R18: 漏水 | U18: Ⅱb | W18: - | AJ18: 10.4 | AQ18: =IF(P18="材質劣化",2,IF(P18="漏水",3,1)) -> 3
K19: 9 | L19: 覆工 | N19: アーチ（右側） | P19: 漏水 | R19: 漏水 | U19: Ⅱb | W19: - | AJ19: 3.36 | AQ19: =IF(P19="材質劣化",2,IF(P19="漏水",3,1)) -> 3
K20: 10 | L20: 覆工 | N20: 側壁（左側） | P20: 漏水 | R20: 漏水 | U20: Ⅱb | W20: - | AJ20: 5.29 | AQ20: =IF(P20="材質劣化",2,IF(P20="漏水",3,1)) -> 3
K21: 11 | L21: 覆工 | N21: アーチ（左側） | P21: 漏水 | R21: 漏水 | U21: Ⅱb | W21: - | AJ21: 9.45 | AQ21: =IF(P21="材質劣化",2,IF(P21="漏水",3,1)) -> 3
K22: 12 | L22: 覆工 | N22: アーチ（天端） | P22: 材質劣化 | R22: 補修・補強材の破損 | U22: Ⅱa | W22: - | AE22: 0.64 | AQ22: =IF(P22="材質劣化",2,IF(P22="漏水",3,1)) -> 2
K23: 13 | L23: 覆工 | N23: アーチ（右側） | P23: 漏水 | R23: 漏水 | U23: Ⅱb | W23: - | AJ23: 2.25 | AQ23: =IF(P23="材質劣化",2,IF(P23="漏水",3,1)) -> 3
K24: 14 | L24: 覆工 | N24: 側壁（右側） | P24: 材質劣化 | R24: 圧ざ、ひび割れ | U24: Ⅱb | W24: - | AF24: 0.34 | AQ24: =IF(P24="材質劣化",2,IF(P24="漏水",3,1)) -> 2
K25: 15 | L25: 路面 | N25: 車道 | P25: 漏水 | R25: 滞水 | U25: Ⅱa | W25: - | AK25: 滞水なし | AQ25: =IF(P25="材質劣化",2,IF(P25="漏水",3,1)) -> 3
K26: 16 | L26: 覆工 | N26: アーチ（右側） | P26: 漏水 | R26: 漏水 | U26: - | W26: - | AJ26: 2.412 | AQ26: =IF(P26="材質劣化",2,IF(P26="漏水",3,1)) -> 3
K27: 17 | AQ27: =IF(P27="材質劣化",2,IF(P27="漏水",3,1)) -> 1
K28: 18 | AQ28: =IF(P30="材質劣化",2,IF(P30="漏水",3,1)) -> 1
K29: 19 | AQ29: =IF(P34="材質劣化",2,IF(P34="漏水",3,1)) -> 1
K30: 20 | AQ30: =IF(P30="材質劣化",2,IF(P30="漏水",3,1)) -> 1
K31: 21 | AQ31: =IF(P33="材質劣化",2,IF(P33="漏水",3,1)) -> 1
K32: 22 | AQ32: =IF(P37="材質劣化",2,IF(P37="漏水",3,1)) -> 1
K33: 23 | AQ33: =IF(P33="材質劣化",2,IF(P33="漏水",3,1)) -> 1
K34: 24 | AQ34: =IF(P36="材質劣化",2,IF(P36="漏水",3,1)) -> 1
K35: 集計 判定 診断 | L35: 変状の発生規模合計(㎡) | Y35: － | AC35: =SUM(AC11:AC34) -> 0 | AD35: =SUM(AD11:AD34) -> 0 | AE35: =SUM(AE11:AE34) -> 1.01 | AF35: =SUM(AF11:AF34) -> 0.34 | AG35: =SUM(AG11:AG34) -> 0 | AH35: =SUM(AH11:AH34) -> 0 | AI35: =SUM(AI11:AI34) -> 0 | AJ35: =SUM(AJ11:AJ34) -> 96.762 | AK35: 覆工スパン単位の 健全性の 診断の区分 | AM35: =IF(Y37+AC37+AG37>0,"Ⅳ",IF(Z37+AD37+AH37>0,"Ⅲ",IF(AA37+AB37+AE37+AF37+AI37+AJ37>0,"Ⅱ","Ⅰ"))) -> Ⅱ
L36: 対策区分の 判定結果 | O36: 対策区分毎の変状数注3 | Y36: Ⅳ | Z36: Ⅲ | AA36: Ⅱa | AB36: Ⅱb | AC36: Ⅳ | AD36: Ⅲ | AE36: Ⅱa | AF36: Ⅱb | AG36: Ⅳ | AH36: Ⅲ | AI36: Ⅱa | AJ36: Ⅱb
Y37: =IF(COUNTIF(Y11:Y34,"〇")>0,1,0) -> 0 | Z37: =IF(COUNTIF(Z11:Z34,"〇")>0,1,0) -> 0 | AA37: =IF(COUNTIF(AA11:AA34,"〇")>0,1,0) -> 0 | AB37: =IF(COUNTIF(AB11:AB34,"〇")>0,1,0) -> 0 | AC37: =COUNTA(AC11:AC34) -> 0 | AD37: =COUNTA(AD11:AD34) -> 0 | AE37: =COUNTA(AE11:AE34) -> 3 | AF37: =COUNTA(AF11:AF34) -> 1 | AG37: =COUNTA(AG11:AG34) -> 0 | AH37: =COUNTA(AH11:AH34) -> 0 | AI37: =COUNTA(AI11:AI34) -> 0 | AJ37: =COUNTA(AJ11:AJ34) -> 11
K39: 所見 | L39: B：将来的に、利用者に対して影響が及ぶ可能性がある状態。
K43: 注1：誤記入防止のため、当該変状区分以外のセルは灰色表示とすること。
K44: 注2：応急措置を実施した場合は、その詳細を備考に記載すること。
K45: 注3：外力は覆工スパン単位、材質劣化、漏水は変状単位とすること。
B46: （以下、印刷不要）
B47: ※1：本シートは作成洩れのないよう、変状が無くても全スパン分を作成すること．また変状展開図は、様式D-2-1、様式D-2-1'と同じものを覆工スパン単位で拡大し掲載すること。
B48: ※2：変状番号は、様式D-1-1で記入した番号と整合させること。
B49: ※3：対策区分毎の変状発生規模は、様式D-1-1に記載した面積を記入すること（ただし外力はスパン単位で評価するため変状の有無の欄には面積でなく○を記入し、備考欄に状況を記入）。
B50: ※4：本様式は覆工スパン毎に作成すること。
B51: ※5：変状数が多い場合は、適時、表の行を増やして覆工スパン毎に1枚のシートに収めること。また、1スパン１シートとし、スパンに合わせてシートを追加すること。
B52: ※6：対策区分毎の変状の発生範囲の規模とは，対策を行う際に参考となる変状の長さや面積であり，変状を包含する長さや面積とする。
B53: ※7：対策範囲を示す発生範囲の規模を面積で記入することが妥当ではない変状は、発生範囲の規模の欄に○を記入するとともに、備考に内容を記入すること。

Sheet 様式D-3_002
AU1: 様式F用→ | AV1: 覆工スパン | AY1: 変 状 数 | BK1: 変 状 規 模
AV2: 番号 | AW2: 延長 （ｍ） | AX2: 健全性の診断の 区分 | AY2: 対策区分の判定 | BK2: 覆工スパン長（ｍ） | BO2: 変状の発生範囲の規模（㎡）
B3: ■定期点検記録様式 覆工スパン別変状詳細展開図 【様式D-3】 | AY3: 外力 | BC3: 材質劣化 | BG3: 漏水 | BK3: 外力 注2 | BO3: 材質劣化 | BS3: 漏水
B4: フリガナ | E4: フカボリズイドウ | K4: 路線名 | N4: 大河内地吉線 | T4: 定期点検実施者 | Y4: アジア航測株式会社 | AG4: 定期点検年月日 | AK4: 45926 | AY4: Ⅳ | AZ4: Ⅲ | BA4: Ⅱa | BB4: Ⅱb | BC4: Ⅳ | BD4: Ⅲ | BE4: Ⅱa | BF4: Ⅱb | BG4: Ⅳ | BH4: Ⅲ | BI4: Ⅱa | BJ4: Ⅱb | BK4: Ⅳ | BL4: Ⅲ | BM4: Ⅱa | BN4: Ⅱb | BO4: Ⅳ | BP4: Ⅲ | BQ4: Ⅱa | BR4: Ⅱb | BS4: Ⅳ | BT4: Ⅲ | BU4: Ⅱa | BV4: Ⅱb
B5: 名 称 | E5: 深堀隧道 | K5: 管理者名 | N5: 山口県下関土木建築事務所 | Y5: 飯田 琢巳 | AV5: =N7 -> 2 | AW5: =R7 -> 10 | AX5: =AM35 -> Ⅱ | AY5: =Y37 -> 0 | AZ5: =Z37 -> 0 | BA5: =AA37 -> 0 | BB5: =AB37 -> 0 | BC5: =AC37 -> 0 | BD5: =AD37 -> 0 | BE5: =AE37 -> 0 | BF5: =AF37 -> 0 | ... BJ5: =AJ37 -> 5 | BK5: =IF(Y37>0,R7,0) -> 0 | BL5: =IF(Y37>0,0,IF(Z37>0,R7,0)) -> 0 | BM5: =IF(Y37+Z37>0,0,IF(AA37>0,R7,0)) -> 0 | BN5: =IF(Y37+Z37+AA37>0,0,IF(AB37>0,R7,0)) -> 0 | BO5: =AC35 -> 0 | BP5: =AD35 -> 0 | BQ5: =AE35 -> 0 | BR5: =AF35 -> 0 | BS5: =AG35 -> 0 | BT5: =AH35 -> 0 | BU5: =AI35 -> 3.05 | BV5: =AJ35 -> 45.19
B6: スパン別変状展開図 | K6: 【健全性判定集計表】
K7: スパン番号 | N7: 2 | P7: スパン長 | R7: 10 | U7: 前回定期点検時の判定 | W7: 応急措置前の判定 | Y7: 対策区分毎の 変状の有無 | AC7: 対策区分毎の変状の発生範囲の規模(㎡) | AK7: 備考注2
K8: 変状番号 | L8: 対象箇所 | N8: 部位区分 | P8: 変状区分 | R8: 変状種類
Y9: 外力注1 | AC9: 材質劣化注1 | AG9: 漏水注1
Y10: Ⅳ | Z10: Ⅲ | AA10: Ⅱa | AB10: Ⅱb | AC10: Ⅳ | AD10: Ⅲ | AE10: Ⅱa | AF10: Ⅱb | AG10: Ⅳ | AH10: Ⅲ | AI10: Ⅱa | AJ10: Ⅱb
K11: 1 | L11: 覆工 | N11: アーチ（左側） | P11: 漏水 | R11: 漏水 | U11: Ⅱb | W11: - | AJ11: 5.3 | AQ11: =IF(P11="材質劣化",2,IF(P11="漏水",3,1)) -> 3 | AS11: =IF(Y11<>"",1,"")
K12: 2 | L12: 覆工 | N12: アーチ（左側） | P12: 漏水 | R12: 漏水 | U12: Ⅱa | W12: - | AI12: 3.05 | AQ12: =IF(P12="材質劣化",2,IF(P12="漏水",3,1)) -> 3
K13: 3 | L13: 覆工 | N13: アーチ（右側） | P13: 漏水 | R13: 漏水 | U13: Ⅱb | W13: - | AJ13: 5.64 | AQ13: =IF(P13="材質劣化",2,IF(P13="漏水",3,1)) -> 3
K14: 4 | L14: 覆工 | N14: アーチ（左側） | P14: 漏水 | R14: 漏水 | U14: Ⅱb | W14: - | AJ14: 15.25 | AQ14: =IF(P14="材質劣化",2,IF(P14="漏水",3,1)) -> 3
K15: 5 | L15: 覆工 | N15: アーチ（右側） | P15: 漏水 | R15: 漏水 | U15: Ⅱb | W15: - | AJ15: 11.2 | AQ15: =IF(P15="材質劣化",2,IF(P15="漏水",3,1)) -> 3
K16: 6 | L16: 覆工 | N16: アーチ（左側） | P16: 漏水 | R16: その他 | U16: Ⅱa | W16: - | AJ16: 7.8 | AK16: 骨材露出 | AQ16: =IF(P16="材質劣化",2,IF(P16="漏水",3,1)) -> 3
K17: 7 | L17: 路面 | N17: 車道 | P17: 漏水 | R17: 滞水 | U17: Ⅱa | W17: - | AQ17: =IF(P17="材質劣化",2,IF(P17="漏水",3,1)) -> 3
K18: 8 | L18: 路面 | N18: 車道 | P18: 材質劣化 | R18: うき・はく離 | U18: Ⅱb | W18: - | AK18: ｱｽﾌｧﾙﾄ欠損 | AQ18: =IF(P18="材質劣化",2,IF(P18="漏水",3,1)) -> 2
K19: 9 | L19: 路面 | N19: 車道 | P19: 材質劣化 | R19: うき・はく離 | U19: Ⅱb | W19: - | AK19: ｱｽﾌｧﾙﾄ欠損 | AQ19: =IF(P19="材質劣化",2,IF(P19="漏水",3,1)) -> 2
K20: 10 | L20: 路面 | N20: 車道 | P20: 漏水 | R20: 滞水 | U20: Ⅱa | W20: - | AK20: 滞水なし | AQ20: =IF(P20="材質劣化",2,IF(P20="漏水",3,1)) -> 3
K21: 11 | L21: 路面 | N21: 車道 | P21: 材質劣化 | R21: うき・はく離 | U21: Ⅱb | W21: - | AK21: ｱｽﾌｧﾙﾄ欠損 | AQ21: =IF(P21="材質劣化",2,IF(P21="漏水",3,1)) -> 2
K22: 12 | AQ22: =IF(P22="材質劣化",2,IF(P22="漏水",3,1)) -> 1
K23: 13 | AQ23: =IF(P23="材質劣化",2,IF(P23="漏水",3,1)) -> 1
K24: 14 | AQ24: =IF(P24="材質劣化",2,IF(P24="漏水",3,1)) -> 1
K25: 15 | AQ25: =IF(P25="材質劣化",2,IF(P25="漏水",3,1)) -> 1
K26: 16 | AQ26: =IF(P26="材質劣化",2,IF(P26="漏水",3,1)) -> 1
K27: 17 | AQ27: =IF(P27="材質劣化",2,IF(P27="漏水",3,1)) -> 1
K28: 18 | AQ28: =IF(P30="材質劣化",2,IF(P30="漏水",3,1)) -> 1
K29: 19 | AQ29: =IF(P34="材質劣化",2,IF(P34="漏水",3,1)) -> 1
K30: 20 | AQ30: =IF(P30="材質劣化",2,IF(P30="漏水",3,1)) -> 1
K31: 21 | AQ31: =IF(P33="材質劣化",2,IF(P33="漏水",3,1)) -> 1
K32: 22 | AQ32: =IF(P37="材質劣化",2,IF(P37="漏水",3,1)) -> 1
K33: 23 | AQ33: =IF(P33="材質劣化",2,IF(P33="漏水",3,1)) -> 1
K34: 24 | AQ34: =IF(P36="材質劣化",2,IF(P36="漏水",3,1)) -> 1
K35: 集計 判定 診断 | L35: 変状の発生規模合計(㎡) | Y35: － | AC35: =SUM(AC11:AC34) -> 0 | AD35: =SUM(AD11:AD34) -> 0 | AE35: =SUM(AE11:AE34) -> 0 | AF35: =SUM(AF11:AF34) -> 0 | AG35: =SUM(AG11:AG34) -> 0 | AH35: =SUM(AH11:AH34) -> 0 | AI35: =SUM(AI11:AI34) -> 3.05 | AJ35: =SUM(AJ11:AJ34) -> 45.19 | AK35: 覆工スパン単位の 健全性の 診断の区分 | AM35: =IF(Y37+AC37+AG37>0,"Ⅳ",IF(Z37+AD37+AH37>0,"Ⅲ",IF(AA37+AB37+AE37+AF37+AI37+AJ37>0,"Ⅱ","Ⅰ"))) -> Ⅱ
L36: 対策区分の 判定結果 | O36: 対策区分毎の変状数注3 | Y36: Ⅳ | Z36: Ⅲ | AA36: Ⅱa | AB36: Ⅱb | AC36: Ⅳ | AD36: Ⅲ | AE36: Ⅱa | AF36: Ⅱb | AG36: Ⅳ | AH36: Ⅲ | AI36: Ⅱa | AJ36: Ⅱb
Y37: =IF(COUNTIF(Y11:Y34,"〇")>0,1,0) -> 0 | Z37: =IF(COUNTIF(Z11:Z34,"〇")>0,1,0) -> 0 | AA37: =IF(COUNTIF(AA11:AA34,"〇")>0,1,0) -> 0 | AB37: =IF(COUNTIF(AB11:AB34,"〇")>0,1,0) -> 0 | AC37: =COUNTA(AC11:AC34) -> 0 | AD37: =COUNTA(AD11:AD34) -> 0 | AE37: =COUNTA(AE11:AE34) -> 0 | AF37: =COUNTA(AF11:AF34) -> 0 | AG37: =COUNTA(AG11:AG34) -> 0 | AH37: =COUNTA(AH11:AH34) -> 0 | AI37: =COUNTA(AI11:AI34) -> 1 | AJ37: =COUNTA(AJ11:AJ34) -> 5
K39: 所見 | L39: B：将来的に、利用者に対して影響が及ぶ可能性がある状態。
K43: 注1：誤記入防止のため、当該変状区分以外のセルは灰色表示とすること。
K44: 注2：応急措置を実施した場合は、その詳細を備考に記載すること。
K45: 注3：外力は覆工スパン単位、材質劣化、漏水は変状単位とすること。
B46: （以下、印刷不要）
B47: ※1：本シートは作成洩れのないよう、変状が無くても全スパン分を作成すること．また変状展開図は、様式D-2-1、様式D-2-1'と同じものを覆工スパン単位で拡大し掲載すること。
B48: ※2：変状番号は、様式D-1-1で記入した番号と整合させること。
B49: ※3：対策区分毎の変状発生規模は、様式D-1-1に記載した面積を記入すること（ただし外力はスパン単位で評価するため変状の有無の欄には面積でなく○を記入し、備考欄に状況を記入）。
B50: ※4：本様式は覆工スパン毎に作成すること。
B51: ※5：変状数が多い場合は、適時、表の行を増やして覆工スパン毎に1枚のシートに収めること。また、1スパン１シートとし、スパンに合わせてシートを追加すること。
B52: ※6：対策区分毎の変状の発生範囲の規模とは，対策を行う際に参考となる変状の長さや面積であり，変状を包含する長さや面積とする。
B53: ※7：対策範囲を示す発生範囲の規模を面積で記入することが妥当ではない変状は、発生範囲の規模の欄に○を記入するとともに、備考に内容を記入すること。

Sheet 様式D-3_003
AU1: 様式F用→ | AV1: 覆工スパン | AY1: 変 状 数 | BK1: 変 状 規 模
AV2: 番号 | AW2: 延長 （ｍ） | AX2: 健全性の診断の 区分 | AY2: 対策区分の判定 | BK2: 覆工スパン長（ｍ） | BO2: 変状の発生範囲の規模（㎡）
B3: ■定期点検記録様式 覆工スパン別変状詳細展開図 【様式D-3】 | AY3: 外力 | BC3: 材質劣化 | BG3: 漏水 | BK3: 外力 注2 | BO3: 材質劣化 | BS3: 漏水
B4: フリガナ | E4: フカボリズイドウ | K4: 路線名 | N4: 大河内地吉線 | T4: 定期点検実施者 | Y4: アジア航測株式会社 | AG4: 定期点検年月日 | AK4: 45926 | AY4: Ⅳ | AZ4: Ⅲ | BA4: Ⅱa | BB4: Ⅱb | BC4: Ⅳ | BD4: Ⅲ | BE4: Ⅱa | BF4: Ⅱb | BG4: Ⅳ | BH4: Ⅲ | BI4: Ⅱa | BJ4: Ⅱb | BK4: Ⅳ | BL4: Ⅲ | BM4: Ⅱa | BN4: Ⅱb | BO4: Ⅳ | BP4: Ⅲ | BQ4: Ⅱa | BR4: Ⅱb | BS4: Ⅳ | BT4: Ⅲ | BU4: Ⅱa | BV4: Ⅱb
B5: 名 称 | E5: 深堀隧道 | K5: 管理者名 | N5: 山口県下関土木建築事務所 | Y5: 飯田 琢巳 | AV5: =N7 -> 3 | AW5: =R7 -> 10 | AX5: =AM35 -> Ⅱ | AY5: =Y37 -> 0 | AZ5: =Z37 -> 0 | BA5: =AA37 -> 0 | BB5: =AB37 -> 0 | BC5: =AC37 -> 0 | BD5: =AD37 -> 0 | BE5: =AE37 -> 5 | BF5: =AF37 -> 0 | ... BJ5: =AJ37 -> 5 | BK5: =IF(Y37>0,R7,0) -> 0 | BL5: =IF(Y37>0,0,IF(Z37>0,R7,0)) -> 0 | BM5: =IF(Y37+Z37>0,0,IF(AA37>0,R7,0)) -> 0 | BN5: =IF(Y37+Z37+AA37>0,0,IF(AB37>0,R7,0)) -> 0 | BO5: =AC35 -> 0 | BP5: =AD35 -> 0 | BQ5: =AE35 -> 0.315 | BR5: =AF35 -> 0 | BS5: =AG35 -> 0 | BT5: =AH35 -> 0 | BU5: =AI35 -> 0 | BV5: =AJ35 -> 37.69
B6: スパン別変状展開図 | K6: 【健全性判定集計表】
K7: スパン番号 | N7: 3 | P7: スパン長 | R7: 10 | U7: 前回定期点検時の判定 | W7: 応急措置前の判定 | Y7: 対策区分毎の 変状の有無 | AC7: 対策区分毎の変状の発生範囲の規模(㎡) | AK7: 備考注2
K8: 変状番号 | L8: 対象箇所 | N8: 部位区分 | P8: 変状区分 | R8: 変状種類
Y9: 外力注1 | AC9: 材質劣化注1 | AG9: 漏水注1
Y10: Ⅳ | Z10: Ⅲ | AA10: Ⅱa | AB10: Ⅱb | AC10: Ⅳ | AD10: Ⅲ | AE10: Ⅱa | AF10: Ⅱb | AG10: Ⅳ | AH10: Ⅲ | AI10: Ⅱa | AJ10: Ⅱb
K11: 1 | L11: 覆工 | N11: アーチ（左側） | P11: 漏水 | R11: 漏水 | U11: Ⅱb | W11: - | AJ11: 6.82 | AQ11: =IF(P11="材質劣化",2,IF(P11="漏水",3,1)) -> 3 | AS11: =IF(Y11<>"",1,"")
K12: 2 | L12: 覆工 | N12: アーチ（右側） | P12: 材質劣化 | R12: うき・はく離 | U12: Ⅱa | W12: - | AE12: 0.1 | AQ12: =IF(P12="材質劣化",2,IF(P12="漏水",3,1)) -> 2
K13: 3 | L13: 覆工 | N13: アーチ（右側） | P13: 漏水 | R13: 漏水 | U13: Ⅱb | W13: - | AJ13: 15.12 | AQ13: =IF(P13="材質劣化",2,IF(P13="漏水",3,1)) -> 3
K14: 4 | L14: 覆工 | N14: 側壁（左側） | P14: 漏水 | R14: 漏水 | U14: Ⅱb | W14: - | AJ14: 6.75 | AQ14: =IF(P14="材質劣化",2,IF(P14="漏水",3,1)) -> 3
K15: 5 | L15: 覆工 | N15: アーチ（右側） | P15: 材質劣化 | R15: うき・はく離 | U15: Ⅱa | W15: - | AE15: 0.09 | AQ15: =IF(P15="材質劣化",2,IF(P15="漏水",3,1)) -> 2
K16: 6 | L16: 覆工 | N16: アーチ（右側） | P16: 材質劣化 | R16: うき・はく離 | U16: Ⅱa | W16: - | AE16: 0.06 | AQ16: =IF(P16="材質劣化",2,IF(P16="漏水",3,1)) -> 2
K17: 7 | L17: 覆工 | N17: アーチ（右側） | P17: 漏水 | R17: 漏水 | U17: Ⅱb | W17: - | AJ17: 6.75 | AQ17: =IF(P17="材質劣化",2,IF(P17="漏水",3,1)) -> 3
K18: 8 | L18: 覆工 | N18: アーチ（右側） | P18: 材質劣化 | R18: うき・はく離 | U18: Ⅱa | W18: - | AE18: 0.015 | AQ18: =IF(P18="材質劣化",2,IF(P18="漏水",3,1)) -> 2
K19: 9 | L19: 覆工 | N19: アーチ（右側） | P19: 材質劣化 | R19: うき・はく離 | U19: Ⅱa | W19: - | AE19: 0.05 | AQ19: =IF(P19="材質劣化",2,IF(P19="漏水",3,1)) -> 2
K20: 10 | L20: 覆工 | N20: アーチ（右側） | P20: 漏水 | R20: 漏水 | U20: Ⅱb | W20: - | AJ20: 2.25 | AQ20: =IF(P20="材質劣化",2,IF(P20="漏水",3,1)) -> 3
K21: 11 | AQ21: =IF(P21="材質劣化",2,IF(P21="漏水",3,1)) -> 1
K22: 12 | AQ22: =IF(P22="材質劣化",2,IF(P22="漏水",3,1)) -> 1
K23: 13 | AQ23: =IF(P23="材質劣化",2,IF(P23="漏水",3,1)) -> 1
K24: 14 | AQ24: =IF(P24="材質劣化",2,IF(P24="漏水",3,1)) -> 1
K25: 15 | AQ25: =IF(P25="材質劣化",2,IF(P25="漏水",3,1)) -> 1
K26: 16 | AQ26: =IF(P26="材質劣化",2,IF(P26="漏水",3,1)) -> 1
K27: 17 | AQ27: =IF(P27="材質劣化",2,IF(P27="漏水",3,1)) -> 1
K28: 18 | AQ28: =IF(P30="材質劣化",2,IF(P30="漏水",3,1)) -> 1
K29: 19 | AQ29: =IF(P34="材質劣化",2,IF(P34="漏水",3,1)) -> 1
K30: 20 | AQ30: =IF(P30="材質劣化",2,IF(P30="漏水",3,1)) -> 1
K31: 21 | AQ31: =IF(P33="材質劣化",2,IF(P33="漏水",3,1)) -> 1
K32: 22 | AQ32: =IF(P37="材質劣化",2,IF(P37="漏水",3,1)) -> 1
K33: 23 | AQ33: =IF(P33="材質劣化",2,IF(P33="漏水",3,1)) -> 1
K34: 24 | AQ34: =IF(P36="材質劣化",2,IF(P36="漏水",3,1)) -> 1
K35: 集計 判定 診断 | L35: 変状の発生規模合計(㎡) | Y35: － | AC35: =SUM(AC11:AC34) -> 0 | AD35: =SUM(AD11:AD34) -> 0 | AE35: =SUM(AE11:AE34) -> 0.315 | AF35: =SUM(AF11:AF34) -> 0 | AG35: =SUM(AG11:AG34) -> 0 | AH35: =SUM(AH11:AH34) -> 0 | AI35: =SUM(AI11:AI34) -> 0 | AJ35: =SUM(AJ11:AJ34) -> 37.69 | AK35: 覆工スパン単位の 健全性の 診断の区分 | AM35: =IF(Y37+AC37+AG37>0,"Ⅳ",IF(Z37+AD37+AH37>0,"Ⅲ",IF(AA37+AB37+AE37+AF37+AI37+AJ37>0,"Ⅱ","Ⅰ"))) -> Ⅱ
L36: 対策区分の 判定結果 | O36: 対策区分毎の変状数注3 | Y36: Ⅳ | Z36: Ⅲ | AA36: Ⅱa | AB36: Ⅱb | AC36: Ⅳ | AD36: Ⅲ | AE36: Ⅱa | AF36: Ⅱb | AG36: Ⅳ | AH36: Ⅲ | AI36: Ⅱa | AJ36: Ⅱb
Y37: =IF(COUNTIF(Y11:Y34,"〇")>0,1,0) -> 0 | Z37: =IF(COUNTIF(Z11:Z34,"〇")>0,1,0) -> 0 | AA37: =IF(COUNTIF(AA11:AA34,"〇")>0,1,0) -> 0 | AB37: =IF(COUNTIF(AB11:AB34,"〇")>0,1,0) -> 0 | AC37: =COUNTA(AC11:AC34) -> 0 | AD37: =COUNTA(AD11:AD34) -> 0 | AE37: =COUNTA(AE11:AE34) -> 5 | AF37: =COUNTA(AF11:AF34) -> 0 | AG37: =COUNTA(AG11:AG34) -> 0 | AH37: =COUNTA(AH11:AH34) -> 0 | AI37: =COUNTA(AI11:AI34) -> 0 | AJ37: =COUNTA(AJ11:AJ34) -> 5
K39: 所見 | L39: B：将来的に、利用者に対して影響が及ぶ可能性がある状態。
K43: 注1：誤記入防止のため、当該変状区分以外のセルは灰色表示とすること。
K44: 注2：応急措置を実施した場合は、その詳細を備考に記載すること。
K45: 注3：外力は覆工スパン単位、材質劣化、漏水は変状単位とすること。
B46: （以下、印刷不要）
B47: ※1：本シートは作成洩れのないよう、変状が無くても全スパン分を作成すること．また変状展開図は、様式D-2-1、様式D-2-1'と同じものを覆工スパン単位で拡大し掲載すること。
B48: ※2：変状番号は、様式D-1-1で記入した番号と整合させること。
B49: ※3：対策区分毎の変状発生規模は、様式D-1-1に記載した面積を記入すること（ただし外力はスパン単位で評価するため変状の有無の欄には面積でなく○を記入し、備考欄に状況を記入）。
B50: ※4：本様式は覆工スパン毎に作成すること。
B51: ※5：変状数が多い場合は、適時、表の行を増やして覆工スパン毎に1枚のシートに収めること。また、1スパン１シートとし、スパンに合わせてシートを追加すること。
B52: ※6：対策区分毎の変状の発生範囲の規模とは，対策を行う際に参考となる変状の長さや面積であり，変状を包含する長さや面積とする。
B53: ※7：対策範囲を示す発生範囲の規模を面積で記入することが妥当ではない変状は、発生範囲の規模の欄に○を記入するとともに、備考に内容を記入すること。

Sheet 様式D-3_004
AU1: 様式F用→ | AV1: 覆工スパン | AY1: 変 状 数 | BK1: 変 状 規 模
AV2: 番号 | AW2: 延長 （ｍ） | AX2: 健全性の診断の 区分 | AY2: 対策区分の判定 | BK2: 覆工スパン長（ｍ） | BO2: 変状の発生範囲の規模（㎡）
B3: ■定期点検記録様式 覆工スパン別変状詳細展開図 【様式D-3】 | AY3: 外力 | BC3: 材質劣化 | BG3: 漏水 | BK3: 外力 注2 | BO3: 材質劣化 | BS3: 漏水
B4: フリガナ | E4: フカボリズイドウ | K4: 路線名 | N4: 大河内地吉線 | T4: 定期点検実施者 | Y4: アジア航測株式会社 | AG4: 定期点検年月日 | AK4: 45926 | AY4: Ⅳ | AZ4: Ⅲ | BA4: Ⅱa | BB4: Ⅱb | BC4: Ⅳ | BD4: Ⅲ | BE4: Ⅱa | BF4: Ⅱb | BG4: Ⅳ | BH4: Ⅲ | BI4: Ⅱa | BJ4: Ⅱb | BK4: Ⅳ | BL4: Ⅲ | BM4: Ⅱa | BN4: Ⅱb | BO4: Ⅳ | BP4: Ⅲ | BQ4: Ⅱa | BR4: Ⅱb | BS4: Ⅳ | BT4: Ⅲ | BU4: Ⅱa | BV4: Ⅱb
B5: 名 称 | E5: 深堀隧道 | K5: 管理者名 | N5: 山口県下関土木建築事務所 | Y5: 飯田 琢巳 | AV5: =N7 -> 4 | AW5: =R7 -> 10 | AX5: =AM35 -> Ⅱ | AY5: =Y37 -> 0 | AZ5: =Z37 -> 0 | BA5: =AA37 -> 0 | BB5: =AB37 -> 0 | BC5: =AC37 -> 0 | BD5: =AD37 -> 0 | BE5: =AE37 -> 0 | BF5: =AF37 -> 0 | ... BJ5: =AJ37 -> 4 | BK5: =IF(Y37>0,R7,0) -> 0 | BL5: =IF(Y37>0,0,IF(Z37>0,R7,0)) -> 0 | BM5: =IF(Y37+Z37>0,0,IF(AA37>0,R7,0)) -> 0 | BN5: =IF(Y37+Z37+AA37>0,0,IF(AB37>0,R7,0)) -> 0 | BO5: =AC35 -> 0 | BP5: =AD35 -> 0 | BQ5: =AE35 -> 0 | BR5: =AF35 -> 0 | BS5: =AG35 -> 0 | BT5: =AH35 -> 0 | BU5: =AI35 -> 0 | BV5: =AJ35 -> 26.86
B6: スパン別変状展開図 | K6: 【健全性判定集計表】
K7: スパン番号 | N7: 4 | P7: スパン長 | R7: 10 | U7: 前回定期点検時の判定 | W7: 応急措置前の判定 | Y7: 対策区分毎の 変状の有無 | AC7: 対策区分毎の変状の発生範囲の規模(㎡) | AK7: 備考注2
K8: 変状番号 | L8: 対象箇所 | N8: 部位区分 | P8: 変状区分 | R8: 変状種類
Y9: 外力注1 | AC9: 材質劣化注1 | AG9: 漏水注1
Y10: Ⅳ | Z10: Ⅲ | AA10: Ⅱa | AB10: Ⅱb | AC10: Ⅳ | AD10: Ⅲ | AE10: Ⅱa | AF10: Ⅱb | AG10: Ⅳ | AH10: Ⅲ | AI10: Ⅱa | AJ10: Ⅱb
K11: 1 | L11: 覆工 | N11: アーチ（右側） | P11: 漏水 | R11: 漏水 | U11: Ⅱb | W11: - | AJ11: 2.1 | AQ11: =IF(P11="材質劣化",2,IF(P11="漏水",3,1)) -> 3 | AS11: =IF(Y11<>"",1,"")
K12: 2 | L12: 覆工 | N12: アーチ（右側） | P12: 漏水 | R12: 漏水 | U12: Ⅱb | W12: - | AJ12: 2.3 | AQ12: =IF(P12="材質劣化",2,IF(P12="漏水",3,1)) -> 3
K13: 3 | L13: 覆工 | N13: 側壁（左側） | P13: 漏水 | R13: 漏水 | U13: Ⅱb | W13: - | AJ13: 17.5 | AQ13: =IF(P13="材質劣化",2,IF(P13="漏水",3,1)) -> 3
K14: 4 | L14: 覆工 | N14: アーチ（右側） | P14: 漏水 | R14: 漏水 | U14: Ⅱb | W14: - | AJ14: 4.96 | AQ14: =IF(P14="材質劣化",2,IF(P14="漏水",3,1)) -> 3
K15: 5 | L15: 路面 | N15: 車道 | P15: 材質劣化 | R15: うき・はく離 | U15: Ⅱb | W15: - | AK15: ｱｽﾌｧﾙﾄ欠損 | AQ15: =IF(P15="材質劣化",2,IF(P15="漏水",3,1)) -> 2
K16: 6 | L16: 路面 | N16: 車道 | P16: 材質劣化 | R16: うき・はく離 | U16: Ⅱb | W16: - | AK16: ｱｽﾌｧﾙﾄ欠損 | AQ16: =IF(P16="材質劣化",2,IF(P16="漏水",3,1)) -> 2
K17: 7 | AQ17: =IF(P17="材質劣化",2,IF(P17="漏水",3,1)) -> 1
K18: 8 | AQ18: =IF(P18="材質劣化",2,IF(P18="漏水",3,1)) -> 1
K19: 9 | AQ19: =IF(P19="材質劣化",2,IF(P19="漏水",3,1)) -> 1
K20: 10 | AQ20: =IF(P20="材質劣化",2,IF(P20="漏水",3,1)) -> 1
K21: 11 | AQ21: =IF(P21="材質劣化",2,IF(P21="漏水",3,1)) -> 1
K22: 12 | AQ22: =IF(P22="材質劣化",2,IF(P22="漏水",3,1)) -> 1
K23: 13 | AQ23: =IF(P23="材質劣化",2,IF(P23="漏水",3,1)) -> 1
K24: 14 | AQ24: =IF(P24="材質劣化",2,IF(P24="漏水",3,1)) -> 1
K25: 15 | AQ25: =IF(P25="材質劣化",2,IF(P25="漏水",3,1)) -> 1
K26: 16 | AQ26: =IF(P26="材質劣化",2,IF(P26="漏水",3,1)) -> 1
K27: 17 | AQ27: =IF(P27="材質劣化",2,IF(P27="漏水",3,1)) -> 1
K28: 18 | AQ28: =IF(P30="材質劣化",2,IF(P30="漏水",3,1)) -> 1
K29: 19 | AQ29: =IF(P34="材質劣化",2,IF(P34="漏水",3,1)) -> 1
K30: 20 | AQ30: =IF(P30="材質劣化",2,IF(P30="漏水",3,1)) -> 1
K31: 21 | AQ31: =IF(P33="材質劣化",2,IF(P33="漏水",3,1)) -> 1
K32: 22 | AQ32: =IF(P37="材質劣化",2,IF(P37="漏水",3,1)) -> 1
K33: 23 | AQ33: =IF(P33="材質劣化",2,IF(P33="漏水",3,1)) -> 1
K34: 24 | AQ34: =IF(P36="材質劣化",2,IF(P36="漏水",3,1)) -> 1
K35: 集計 判定 診断 | L35: 変状の発生規模合計(㎡) | Y35: － | AC35: =SUM(AC11:AC34) -> 0 | AD35: =SUM(AD11:AD34) -> 0 | AE35: =SUM(AE11:AE34) -> 0 | AF35: =SUM(AF11:AF34) -> 0 | AG35: =SUM(AG11:AG34) -> 0 | AH35: =SUM(AH11:AH34) -> 0 | AI35: =SUM(AI11:AI34) -> 0 | AJ35: =SUM(AJ11:AJ34) -> 26.86 | AK35: 覆工スパン単位の 健全性の 診断の区分 | AM35: =IF(Y37+AC37+AG37>0,"Ⅳ",IF(Z37+AD37+AH37>0,"Ⅲ",IF(AA37+AB37+AE37+AF37+AI37+AJ37>0,"Ⅱ","Ⅰ"))) -> Ⅱ
L36: 対策区分の 判定結果 | O36: 対策区分毎の変状数注3 | Y36: Ⅳ | Z36: Ⅲ | AA36: Ⅱa | AB36: Ⅱb | AC36: Ⅳ | AD36: Ⅲ | AE36: Ⅱa | AF36: Ⅱb | AG36: Ⅳ | AH36: Ⅲ | AI36: Ⅱa | AJ36: Ⅱb
Y37: =IF(COUNTIF(Y11:Y34,"〇")>0,1,0) -> 0 | Z37: =IF(COUNTIF(Z11:Z34,"〇")>0,1,0) -> 0 | AA37: =IF(COUNTIF(AA11:AA34,"〇")>0,1,0) -> 0 | AB37: =IF(COUNTIF(AB11:AB34,"〇")>0,1,0) -> 0 | AC37: =COUNTA(AC11:AC34) -> 0 | AD37: =COUNTA(AD11:AD34) -> 0 | AE37: =COUNTA(AE11:AE34) -> 0 | AF37: =COUNTA(AF11:AF34) -> 0 | AG37: =COUNTA(AG11:AG34) -> 0 | AH37: =COUNTA(AH11:AH34) -> 0 | AI37: =COUNTA(AI11:AI34) -> 0 | AJ37: =COUNTA(AJ11:AJ34) -> 4
K39: 所見 | L39: B：将来的に、利用者に対して影響が及ぶ可能性がある状態。
K43: 注1：誤記入防止のため、当該変状区分以外のセルは灰色表示とすること。
K44: 注2：応急措置を実施した場合は、その詳細を備考に記載すること。
K45: 注3：外力は覆工スパン単位、材質劣化、漏水は変状単位とすること。
B46: （以下、印刷不要）
B47: ※1：本シートは作成洩れのないよう、変状が無くても全スパン分を作成すること．また変状展開図は、様式D-2-1、様式D-2-1'と同じものを覆工スパン単位で拡大し掲載すること。
B48: ※2：変状番号は、様式D-1-1で記入した番号と整合させること。
B49: ※3：対策区分毎の変状発生規模は、様式D-1-1に記載した面積を記入すること（ただし外力はスパン単位で評価するため変状の有無の欄には面積でなく○を記入し、備考欄に状況を記入）。
B50: ※4：本様式は覆工スパン毎に作成すること。
B51: ※5：変状数が多い場合は、適時、表の行を増やして覆工スパン毎に1枚のシートに収めること。また、1スパン１シートとし、スパンに合わせてシートを追加すること。
B52: ※6：対策区分毎の変状の発生範囲の規模とは，対策を行う際に参考となる変状の長さや面積であり，変状を包含する長さや面積とする。
B53: ※7：対策範囲を示す発生範囲の規模を面積で記入することが妥当ではない変状は、発生範囲の規模の欄に○を記入するとともに、備考に内容を記入すること。

Sheet 様式D-3_005
AU1: 様式F用→ | AV1: 覆工スパン | AY1: 変 状 数 | BK1: 変 状 規 模
AV2: 番号 | AW2: 延長 （ｍ） | AX2: 健全性の診断の 区分 | AY2: 対策区分の判定 | BK2: 覆工スパン長（ｍ） | BO2: 変状の発生範囲の規模（㎡）
B3: ■定期点検記録様式 覆工スパン別変状詳細展開図 【様式D-3】 | AY3: 外力 | BC3: 材質劣化 | BG3: 漏水 | BK3: 外力 注2 | BO3: 材質劣化 | BS3: 漏水
B4: フリガナ | E4: フカボリズイドウ | K4: 路線名 | N4: 大河内地吉線 | T4: 定期点検実施者 | Y4: アジア航測株式会社 | AG4: 定期点検年月日 | AK4: 45926 | AY4: Ⅳ | AZ4: Ⅲ | BA4: Ⅱa | BB4: Ⅱb | BC4: Ⅳ | BD4: Ⅲ | BE4: Ⅱa | BF4: Ⅱb | BG4: Ⅳ | BH4: Ⅲ | BI4: Ⅱa | BJ4: Ⅱb | BK4: Ⅳ | BL4: Ⅲ | BM4: Ⅱa | BN4: Ⅱb | BO4: Ⅳ | BP4: Ⅲ | BQ4: Ⅱa | BR4: Ⅱb | BS4: Ⅳ | BT4: Ⅲ | BU4: Ⅱa | BV4: Ⅱb
B5: 名 称 | E5: 深堀隧道 | K5: 管理者名 | N5: 山口県下関土木建築事務所 | Y5: 飯田 琢巳 | AV5: =N7 -> 5 | AW5: =R7 -> 10 | AX5: =AM35 -> Ⅱ | AY5: =Y37 -> 0 | AZ5: =Z37 -> 0 | BA5: =AA37 -> 0 | BB5: =AB37 -> 0 | BC5: =AC37 -> 0 | BD5: =AD37 -> 0 | BE5: =AE37 -> 2 | BF5: =AF37 -> 0 | ... BJ5: =AJ37 -> 4 | BK5: =IF(Y37>0,R7,0) -> 0 | BL5: =IF(Y37>0,0,IF(Z37>0,R7,0)) -> 0 | BM5: =IF(Y37+Z37>0,0,IF(AA37>0,R7,0)) -> 0 | BN5: =IF(Y37+Z37+AA37>0,0,IF(AB37>0,R7,0)) -> 0 | BO5: =AC35 -> 0 | BP5: =AD35 -> 0 | BQ5: =AE35 -> 4.65 | BR5: =AF35 -> 0 | BS5: =AG35 -> 0 | BT5: =AH35 -> 0 | BU5: =AI35 -> 0 | BV5: =AJ35 -> 14.41
B6: スパン別変状展開図 | K6: 【健全性判定集計表】
K7: スパン番号 | N7: 5 | P7: スパン長 | R7: 10 | U7: 前回定期点検時の判定 | W7: 応急措置前の判定 | Y7: 対策区分毎の 変状の有無 | AC7: 対策区分毎の変状の発生範囲の規模(㎡) | AK7: 備考注2
K8: 変状番号 | L8: 対象箇所 | N8: 部位区分 | P8: 変状区分 | R8: 変状種類
Y9: 外力注1 | AC9: 材質劣化注1 | AG9: 漏水注1
Y10: Ⅳ | Z10: Ⅲ | AA10: Ⅱa | AB10: Ⅱb | AC10: Ⅳ | AD10: Ⅲ | AE10: Ⅱa | AF10: Ⅱb | AG10: Ⅳ | AH10: Ⅲ | AI10: Ⅱa | AJ10: Ⅱb
K11: 1 | L11: 覆工 | N11: 側壁（左側） | P11: 漏水 | R11: 漏水 | U11: Ⅱb | W11: - | AJ11: 0.91 | AQ11: =IF(P11="材質劣化",2,IF(P11="漏水",3,1)) -> 3 | AS11: =IF(Y11<>"",1,"")
K12: 2 | L12: 覆工 | N12: 側壁（右側） | P12: 漏水 | R12: 漏水 | U12: Ⅱb | W12: - | AJ12: 5.6 | AQ12: =IF(P12="材質劣化",2,IF(P12="漏水",3,1)) -> 3
K13: 3 | L13: 覆工 | N13: 側壁（右側） | P13: 漏水 | R13: 漏水 | U13: Ⅱb | W13: - | AJ13: 2.4 | AQ13: =IF(P13="材質劣化",2,IF(P13="漏水",3,1)) -> 3
K14: 4 | L14: 覆工 | N14: 側壁（右側） | P14: 漏水 | R14: 漏水 | U14: Ⅱb | W14: - | AJ14: 5.5 | AQ14: =IF(P14="材質劣化",2,IF(P14="漏水",3,1)) -> 3
K15: 5 | L15: 覆工 | N15: アーチ（天端） | P15: 材質劣化 | R15: その他 | U15: Ⅱa | W15: - | AE15: 1.65 | AK15: アーチの目地切れ（最大10㎜） | AQ15: =IF(P15="材質劣化",2,IF(P15="漏水",3,1)) -> 2
K16: 6 | L16: 覆工 | N16: アーチ（右側） | P16: 材質劣化 | R16: その他 | U16: Ⅱa | W16: - | AE16: 3 | AK16: アーチの目地切れ（最大20㎜） | AQ16: =IF(P16="材質劣化",2,IF(P16="漏水",3,1)) -> 2
K17: 7 | L17: 路面 | N17: 車道 | P17: 材質劣化 | R17: うき・はく離 | U17: Ⅱb | W17: - | AK17: ｱｽﾌｧﾙﾄ欠損 | AQ17: =IF(P17="材質劣化",2,IF(P17="漏水",3,1)) -> 2
K18: 8 | L18: 路面 | N18: 車道 | P18: 材質劣化 | R18: うき・はく離 | U18: Ⅱb | W18: - | AK18: ｱｽﾌｧﾙﾄ欠損 | AQ18: =IF(P18="材質劣化",2,IF(P18="漏水",3,1)) -> 2
K19: 9 | AQ19: =IF(P19="材質劣化",2,IF(P19="漏水",3,1)) -> 1
K20: 10 | AQ20: =IF(P20="材質劣化",2,IF(P20="漏水",3,1)) -> 1
K21: 11 | AQ21: =IF(P21="材質劣化",2,IF(P21="漏水",3,1)) -> 1
K22: 12 | AQ22: =IF(P22="材質劣化",2,IF(P22="漏水",3,1)) -> 1
K23: 13 | AQ23: =IF(P23="材質劣化",2,IF(P23="漏水",3,1)) -> 1
K24: 14 | AQ24: =IF(P24="材質劣化",2,IF(P24="漏水",3,1)) -> 1
K25: 15 | AQ25: =IF(P25="材質劣化",2,IF(P25="漏水",3,1)) -> 1
K26: 16 | AQ26: =IF(P26="材質劣化",2,IF(P26="漏水",3,1)) -> 1
K27: 17 | AQ27: =IF(P27="材質劣化",2,IF(P27="漏水",3,1)) -> 1
K28: 18 | AQ28: =IF(P30="材質劣化",2,IF(P30="漏水",3,1)) -> 1
K29: 19 | AQ29: =IF(P34="材質劣化",2,IF(P34="漏水",3,1)) -> 1
K30: 20 | AQ30: =IF(P30="材質劣化",2,IF(P30="漏水",3,1)) -> 1
K31: 21 | AQ31: =IF(P33="材質劣化",2,IF(P33="漏水",3,1)) -> 1
K32: 22 | AQ32: =IF(P37="材質劣化",2,IF(P37="漏水",3,1)) -> 1
K33: 23 | AQ33: =IF(P33="材質劣化",2,IF(P33="漏水",3,1)) -> 1
K34: 24 | AQ34: =IF(P36="材質劣化",2,IF(P36="漏水",3,1)) -> 1
K35: 集計 判定 診断 | L35: 変状の発生規模合計(㎡) | Y35: － | AC35: =SUM(AC11:AC34) -> 0 | AD35: =SUM(AD11:AD34) -> 0 | AE35: =SUM(AE11:AE34) -> 4.65 | AF35: =SUM(AF11:AF34) -> 0 | AG35: =SUM(AG11:AG34) -> 0 | AH35: =SUM(AH11:AH34) -> 0 | AI35: =SUM(AI11:AI34) -> 0 | AJ35: =SUM(AJ11:AJ34) -> 14.41 | AK35: 覆工スパン単位の 健全性の 診断の区分 | AM35: =IF(Y37+AC37+AG37>0,"Ⅳ",IF(Z37+AD37+AH37>0,"Ⅲ",IF(AA37+AB37+AE37+AF37+AI37+AJ37>0,"Ⅱ","Ⅰ"))) -> Ⅱ
L36: 対策区分の 判定結果 | O36: 対策区分毎の変状数注3 | Y36: Ⅳ | Z36: Ⅲ | AA36: Ⅱa | AB36: Ⅱb | AC36: Ⅳ | AD36: Ⅲ | AE36: Ⅱa | AF36: Ⅱb | AG36: Ⅳ | AH36: Ⅲ | AI36: Ⅱa | AJ36: Ⅱb
Y37: =IF(COUNTIF(Y11:Y34,"〇")>0,1,0) -> 0 | Z37: =IF(COUNTIF(Z11:Z34,"〇")>0,1,0) -> 0 | AA37: =IF(COUNTIF(AA11:AA34,"〇")>0,1,0) -> 0 | AB37: =IF(COUNTIF(AB11:AB34,"〇")>0,1,0) -> 0 | AC37: =COUNTA(AC11:AC34) -> 0 | AD37: =COUNTA(AD11:AD34) -> 0 | AE37: =COUNTA(AE11:AE34) -> 2 | AF37: =COUNTA(AF11:AF34) -> 0 | AG37: =COUNTA(AG11:AG34) -> 0 | AH37: =COUNTA(AH11:AH34) -> 0 | AI37: =COUNTA(AI11:AI34) -> 0 | AJ37: =COUNTA(AJ11:AJ34) -> 4
K39: 所見 | L39: B：将来的に、利用者に対して影響が及ぶ可能性がある状態。
K43: 注1：誤記入防止のため、当該変状区分以外のセルは灰色表示とすること。
K44: 注2：応急措置を実施した場合は、その詳細を備考に記載すること。
K45: 注3：外力は覆工スパン単位、材質劣化、漏水は変状単位とすること。
B46: （以下、印刷不要）
B47: ※1：本シートは作成洩れのないよう、変状が無くても全スパン分を作成すること．また変状展開図は、様式D-2-1、様式D-2-1'と同じものを覆工スパン単位で拡大し掲載すること。
B48: ※2：変状番号は、様式D-1-1で記入した番号と整合させること。
B49: ※3：対策区分毎の変状発生規模は、様式D-1-1に記載した面積を記入すること（ただし外力はスパン単位で評価するため変状の有無の欄には面積でなく○を記入し、備考欄に状況を記入）。
B50: ※4：本様式は覆工スパン毎に作成すること。
B51: ※5：変状数が多い場合は、適時、表の行を増やして覆工スパン毎に1枚のシートに収めること。また、1スパン１シートとし、スパンに合わせてシートを追加すること。
B52: ※6：対策区分毎の変状の発生範囲の規模とは，対策を行う際に参考となる変状の長さや面積であり，変状を包含する長さや面積とする。
B53: ※7：対策範囲を示す発生範囲の規模を面積で記入することが妥当ではない変状は、発生範囲の規模の欄に○を記入するとともに、備考に内容を記入すること。

Sheet 様式D-3_006
AU1: 様式F用→ | AV1: 覆工スパン | AY1: 変 状 数 | BK1: 変 状 規 模
AV2: 番号 | AW2: 延長 （ｍ） | AX2: 健全性の診断の 区分 | AY2: 対策区分の判定 | BK2: 覆工スパン長（ｍ） | BO2: 変状の発生範囲の規模（㎡）
B3: ■定期点検記録様式 覆工スパン別変状詳細展開図 【様式D-3】 | AY3: 外力 | BC3: 材質劣化 | BG3: 漏水 | BK3: 外力 注2 | BO3: 材質劣化 | BS3: 漏水
B4: フリガナ | E4: フカボリズイドウ | K4: 路線名 | N4: 大河内地吉線 | T4: 定期点検実施者 | Y4: アジア航測株式会社 | AG4: 定期点検年月日 | AK4: 45926 | AY4: Ⅳ | AZ4: Ⅲ | BA4: Ⅱa | BB4: Ⅱb | BC4: Ⅳ | BD4: Ⅲ | BE4: Ⅱa | BF4: Ⅱb | BG4: Ⅳ | BH4: Ⅲ | BI4: Ⅱa | BJ4: Ⅱb | BK4: Ⅳ | BL4: Ⅲ | BM4: Ⅱa | BN4: Ⅱb | BO4: Ⅳ | BP4: Ⅲ | BQ4: Ⅱa | BR4: Ⅱb | BS4: Ⅳ | BT4: Ⅲ | BU4: Ⅱa | BV4: Ⅱb
B5: 名 称 | E5: 深堀隧道 | K5: 管理者名 | N5: 山口県下関土木建築事務所 | Y5: 飯田 琢巳 | AV5: =N7 -> 6 | AW5: =R7 -> 10 | AX5: =AM35 -> Ⅱ | AY5: =Y37 -> 0 | AZ5: =Z37 -> 0 | BA5: =AA37 -> 0 | BB5: =AB37 -> 0 | BC5: =AC37 -> 0 | BD5: =AD37 -> 0 | BE5: =AE37 -> 2 | BF5: =AF37 -> 3 | ... BJ5: =AJ37 -> 2 | BK5: =IF(Y37>0,R7,0) -> 0 | BL5: =IF(Y37>0,0,IF(Z37>0,R7,0)) -> 0 | BM5: =IF(Y37+Z37>0,0,IF(AA37>0,R7,0)) -> 0 | BN5: =IF(Y37+Z37+AA37>0,0,IF(AB37>0,R7,0)) -> 0 | BO5: =AC35 -> 0 | BP5: =AD35 -> 0 | BQ5: =AE35 -> 1.11 | BR5: =AF35 -> 0.77 | BS5: =AG35 -> 0 | BT5: =AH35 -> 0 | BU5: =AI35 -> 0 | BV5: =AJ35 -> 1.25
B6: スパン別変状展開図 | K6: 【健全性判定集計表】
K7: スパン番号 | N7: 6 | P7: スパン長 | R7: 10 | U7: 前回定期点検時の判定 | W7: 応急措置前の判定 | Y7: 対策区分毎の 変状の有無 | AC7: 対策区分毎の変状の発生範囲の規模(㎡) | AK7: 備考注2
K8: 変状番号 | L8: 対象箇所 | N8: 部位区分 | P8: 変状区分 | R8: 変状種類
Y9: 外力注1 | AC9: 材質劣化注1 | AG9: 漏水注1
Y10: Ⅳ | Z10: Ⅲ | AA10: Ⅱa | AB10: Ⅱb | AC10: Ⅳ | AD10: Ⅲ | AE10: Ⅱa | AF10: Ⅱb | AG10: Ⅳ | AH10: Ⅲ | AI10: Ⅱa | AJ10: Ⅱb
K11: 1 | L11: 覆工 | N11: アーチ（右側） | P11: 材質劣化 | R11: その他 | U11: Ⅱa | W11: - | AE11: 0.48 | AK11: アーチの目地切れ（最大10㎜） | AQ11: =IF(P11="材質劣化",2,IF(P11="漏水",3,1)) -> 2 | AS11: =IF(Y11<>"",1,"")
K12: 2 | L12: 覆工 | N12: アーチ（右側） | P12: 材質劣化 | R12: その他 | U12: Ⅱa | W12: - | AE12: 0.63 | AK12: アーチの目地切れ（最大10㎜） | AQ12: =IF(P12="材質劣化",2,IF(P12="漏水",3,1)) -> 2
K13: 3 | L13: 覆工 | N13: 側壁（右側） | P13: 漏水 | R13: 漏水 | U13: Ⅱb | W13: - | AJ13: 0.75 | AQ13: =IF(P13="材質劣化",2,IF(P13="漏水",3,1)) -> 3
K14: 4 | L14: 覆工 | N14: 側壁（右側） | P14: 漏水 | R14: 漏水 | U14: Ⅱb | W14: - | AJ14: 0.5 | AQ14: =IF(P14="材質劣化",2,IF(P14="漏水",3,1)) -> 3
K15: 5 | L15: 覆工 | N15: 側壁（右側） | P15: 材質劣化 | R15: うき・はく離 | U15: Ⅱb | W15: - | AF15: 0.05 | AQ15: =IF(P15="材質劣化",2,IF(P15="漏水",3,1)) -> 2
K16: 6 | L16: 覆工 | N16: アーチ（左側） | P16: 材質劣化 | R16: 圧ざ、ひび割れ | U16: Ⅱb | W16: - | AF16: 0.18 | AQ16: =IF(P16="材質劣化",2,IF(P16="漏水",3,1)) -> 2
K17: 7 | L17: 覆工 | N17: 側壁（右側） | P17: 材質劣化 | R17: 圧ざ、ひび割れ | U17: Ⅱb | W17: - | AF17: 0.54 | AQ17: =IF(P17="材質劣化",2,IF(P17="漏水",3,1)) -> 2
K18: 8 | AQ18: =IF(P18="材質劣化",2,IF(P18="漏水",3,1)) -> 1
K19: 9 | AQ19: =IF(P19="材質劣化",2,IF(P19="漏水",3,1)) -> 1
K20: 10 | AQ20: =IF(P20="材質劣化",2,IF(P20="漏水",3,1)) -> 1
K21: 11 | AQ21: =IF(P21="材質劣化",2,IF(P21="漏水",3,1)) -> 1
K22: 12 | AQ22: =IF(P22="材質劣化",2,IF(P22="漏水",3,1)) -> 1
K23: 13 | AQ23: =IF(P23="材質劣化",2,IF(P23="漏水",3,1)) -> 1
K24: 14 | AQ24: =IF(P24="材質劣化",2,IF(P24="漏水",3,1)) -> 1
K25: 15 | AQ25: =IF(P25="材質劣化",2,IF(P25="漏水",3,1)) -> 1
K26: 16 | AQ26: =IF(P26="材質劣化",2,IF(P26="漏水",3,1)) -> 1
K27: 17 | AQ27: =IF(P27="材質劣化",2,IF(P27="漏水",3,1)) -> 1
K28: 18 | AQ28: =IF(P30="材質劣化",2,IF(P30="漏水",3,1)) -> 1
K29: 19 | AQ29: =IF(P34="材質劣化",2,IF(P34="漏水",3,1)) -> 1
K30: 20 | AQ30: =IF(P30="材質劣化",2,IF(P30="漏水",3,1)) -> 1
K31: 21 | AQ31: =IF(P33="材質劣化",2,IF(P33="漏水",3,1)) -> 1
K32: 22 | AQ32: =IF(P37="材質劣化",2,IF(P37="漏水",3,1)) -> 1
K33: 23 | AQ33: =IF(P33="材質劣化",2,IF(P33="漏水",3,1)) -> 1
K34: 24 | AQ34: =IF(P36="材質劣化",2,IF(P36="漏水",3,1)) -> 1
K35: 集計 判定 診断 | L35: 変状の発生規模合計(㎡) | Y35: － | AC35: =SUM(AC11:AC34) -> 0 | AD35: =SUM(AD11:AD34) -> 0 | AE35: =SUM(AE11:AE34) -> 1.11 | AF35: =SUM(AF11:AF34) -> 0.77 | AG35: =SUM(AG11:AG34) -> 0 | AH35: =SUM(AH11:AH34) -> 0 | AI35: =SUM(AI11:AI34) -> 0 | AJ35: =SUM(AJ11:AJ34) -> 1.25 | AK35: 覆工スパン単位の 健全性の 診断の区分 | AM35: =IF(Y37+AC37+AG37>0,"Ⅳ",IF(Z37+AD37+AH37>0,"Ⅲ",IF(AA37+AB37+AE37+AF37+AI37+AJ37>0,"Ⅱ","Ⅰ"))) -> Ⅱ
L36: 対策区分の 判定結果 | O36: 対策区分毎の変状数注3 | Y36: Ⅳ | Z36: Ⅲ | AA36: Ⅱa | AB36: Ⅱb | AC36: Ⅳ | AD36: Ⅲ | AE36: Ⅱa | AF36: Ⅱb | AG36: Ⅳ | AH36: Ⅲ | AI36: Ⅱa | AJ36: Ⅱb
Y37: =IF(COUNTIF(Y11:Y34,"〇")>0,1,0) -> 0 | Z37: =IF(COUNTIF(Z11:Z34,"〇")>0,1,0) -> 0 | AA37: =IF(COUNTIF(AA11:AA34,"〇")>0,1,0) -> 0 | AB37: =IF(COUNTIF(AB11:AB34,"〇")>0,1,0) -> 0 | AC37: =COUNTA(AC11:AC34) -> 0 | AD37: =COUNTA(AD11:AD34) -> 0 | AE37: =COUNTA(AE11:AE34) -> 2 | AF37: =COUNTA(AF11:AF34) -> 3 | AG37: =COUNTA(AG11:AG34) -> 0 | AH37: =COUNTA(AH11:AH34) -> 0 | AI37: =COUNTA(AI11:AI34) -> 0 | AJ37: =COUNTA(AJ11:AJ34) -> 2
K39: 所見 | L39: B：将来的に、利用者に対して影響が及ぶ可能性がある状態。
K43: 注1：誤記入防止のため、当該変状区分以外のセルは灰色表示とすること。
K44: 注2：応急措置を実施した場合は、その詳細を備考に記載すること。
K45: 注3：外力は覆工スパン単位、材質劣化、漏水は変状単位とすること。
B46: （以下、印刷不要）
B47: ※1：本シートは作成洩れのないよう、変状が無くても全スパン分を作成すること．また変状展開図は、様式D-2-1、様式D-2-1'と同じものを覆工スパン単位で拡大し掲載すること。
B48: ※2：変状番号は、様式D-1-1で記入した番号と整合させること。
B49: ※3：対策区分毎の変状発生規模は、様式D-1-1に記載した面積を記入すること（ただし外力はスパン単位で評価するため変状の有無の欄には面積でなく○を記入し、備考欄に状況を記入）。
B50: ※4：本様式は覆工スパン毎に作成すること。
B51: ※5：変状数が多い場合は、適時、表の行を増やして覆工スパン毎に1枚のシートに収めること。また、1スパン１シートとし、スパンに合わせてシートを追加すること。
B52: ※6：対策区分毎の変状の発生範囲の規模とは，対策を行う際に参考となる変状の長さや面積であり，変状を包含する長さや面積とする。
B53: ※7：対策範囲を示す発生範囲の規模を面積で記入することが妥当ではない変状は、発生範囲の規模の欄に○を記入するとともに、備考に内容を記入すること。

Sheet 様式D-3_007
AU1: 様式F用→ | AV1: 覆工スパン | AY1: 変 状 数 | BK1: 変 状 規 模
AV2: 番号 | AW2: 延長 （ｍ） | AX2: 健全性の診断の 区分 | AY2: 対策区分の判定 | BK2: 覆工スパン長（ｍ） | BO2: 変状の発生範囲の規模（㎡）
B3: ■定期点検記録様式 覆工スパン別変状詳細展開図 【様式D-3】 | AY3: 外力 | BC3: 材質劣化 | BG3: 漏水 | BK3: 外力 注2 | BO3: 材質劣化 | BS3: 漏水
B4: フリガナ | E4: フカボリズイドウ | K4: 路線名 | N4: 大河内地吉線 | T4: 定期点検実施者 | Y4: アジア航測株式会社 | AG4: 定期点検年月日 | AK4: 45926 | AY4: Ⅳ | AZ4: Ⅲ | BA4: Ⅱa | BB4: Ⅱb | BC4: Ⅳ | BD4: Ⅲ | BE4: Ⅱa | BF4: Ⅱb | BG4: Ⅳ | BH4: Ⅲ | BI4: Ⅱa | BJ4: Ⅱb | BK4: Ⅳ | BL4: Ⅲ | BM4: Ⅱa | BN4: Ⅱb | BO4: Ⅳ | BP4: Ⅲ | BQ4: Ⅱa | BR4: Ⅱb | BS4: Ⅳ | BT4: Ⅲ | BU4: Ⅱa | BV4: Ⅱb
B5: 名 称 | E5: 深堀隧道 | K5: 管理者名 | N5: 山口県下関土木建築事務所 | Y5: 飯田 琢巳 | AV5: =N7 -> 7 | AW5: =R7 -> 10 | AX5: =AM35 -> Ⅱ | AY5: =Y37 -> 0 | AZ5: =Z37 -> 0 | BA5: =AA37 -> 0 | BB5: =AB37 -> 0 | BC5: =AC37 -> 0 | BD5: =AD37 -> 0 | BE5: =AE37 -> 1 | BF5: =AF37 -> 6 | ... BJ5: =AJ37 -> 1 | BK5: =IF(Y37>0,R7,0) -> 0 | BL5: =IF(Y37>0,0,IF(Z37>0,R7,0)) -> 0 | BM5: =IF(Y37+Z37>0,0,IF(AA37>0,R7,0)) -> 0 | BN5: =IF(Y37+Z37+AA37>0,0,IF(AB37>0,R7,0)) -> 0 | BO5: =AC35 -> 0 | BP5: =AD35 -> 0 | BQ5: =AE35 -> 0.4 | BR5: =AF35 -> 2.13 | BS5: =AG35 -> 0 | BT5: =AH35 -> 0 | BU5: =AI35 -> 0 | BV5: =AJ35 -> 0.35
B6: スパン別変状展開図 | K6: 【健全性判定集計表】
K7: スパン番号 | N7: 7 | P7: スパン長 | R7: 10 | U7: 前回定期点検時の判定 | W7: 応急措置前の判定 | Y7: 対策区分毎の 変状の有無 | AC7: 対策区分毎の変状の発生範囲の規模(㎡) | AK7: 備考注2
K8: 変状番号 | L8: 対象箇所 | N8: 部位区分 | P8: 変状区分 | R8: 変状種類
Y9: 外力注1 | AC9: 材質劣化注1 | AG9: 漏水注1
Y10: Ⅳ | Z10: Ⅲ | AA10: Ⅱa | AB10: Ⅱb | AC10: Ⅳ | AD10: Ⅲ | AE10: Ⅱa | AF10: Ⅱb | AG10: Ⅳ | AH10: Ⅲ | AI10: Ⅱa | AJ10: Ⅱb
K11: 1 | L11: 覆工 | N11: 側壁（左側） | P11: 材質劣化 | R11: 圧ざ、ひび割れ | U11: Ⅱb | W11: - | AF11: 0.25 | AQ11: =IF(P11="材質劣化",2,IF(P11="漏水",3,1)) -> 2 | AS11: =IF(Y11<>"",1,"")
K12: 2 | L12: 覆工 | N12: 側壁（左側） | P12: 材質劣化 | R12: 圧ざ、ひび割れ | U12: Ⅱb | W12: - | AF12: 0.24 | AQ12: =IF(P12="材質劣化",2,IF(P12="漏水",3,1)) -> 2
K13: 3 | L13: 覆工 | N13: アーチ（左側） | P13: 材質劣化 | R13: その他 | U13: Ⅱa | W13: - | AE13: 0.4 | AK13: アーチの目地切れ（最大20㎜） | AQ13: =IF(P13="材質劣化",2,IF(P13="漏水",3,1)) -> 2
K14: 4 | L14: 覆工 | N14: アーチ（天端） | P14: 材質劣化 | R14: 圧ざ、ひび割れ | U14: Ⅱb | W14: - | AF14: 0.6 | AQ14: =IF(P14="材質劣化",2,IF(P14="漏水",3,1)) -> 2
K15: 5 | L15: 覆工 | N15: アーチ（左側） | P15: 材質劣化 | R15: 圧ざ、ひび割れ | U15: Ⅱb | W15: - | AF15: 0.29 | AQ15: =IF(P15="材質劣化",2,IF(P15="漏水",3,1)) -> 2
K16: 6 | L16: 覆工 | N16: 側壁（右側） | P16: 材質劣化 | R16: 圧ざ、ひび割れ | U16: Ⅱb | W16: - | AF16: 0.35 | AQ16: =IF(P16="材質劣化",2,IF(P16="漏水",3,1)) -> 2
K17: 7 | L17: 覆工 | N17: アーチ（右側） | P17: 材質劣化 | R17: 圧ざ、ひび割れ | U17: Ⅱb | W17: - | AF17: 0.4 | AQ17: =IF(P17="材質劣化",2,IF(P17="漏水",3,1)) -> 2
K18: 8 | L18: 覆工 | N18: 側壁（右側） | P18: 漏水 | R18: 漏水 | U18: Ⅱb | W18: - | AJ18: 0.35 | AQ18: =IF(P18="材質劣化",2,IF(P18="漏水",3,1)) -> 3
K19: 9 | L19: 路面 | N19: 車道 | P19: 材質劣化 | R19: うき・はく離 | U19: Ⅱb | W19: - | AK19: ｱｽﾌｧﾙﾄ欠損 | AQ19: =IF(P19="材質劣化",2,IF(P19="漏水",3,1)) -> 2
K20: 10 | L20: 路面 | N20: 車道 | P20: 材質劣化 | R20: うき・はく離 | U20: Ⅱb | W20: - | AK20: ｱｽﾌｧﾙﾄ欠損 | AQ20: =IF(P20="材質劣化",2,IF(P20="漏水",3,1)) -> 2
K21: 11 | AQ21: =IF(P21="材質劣化",2,IF(P21="漏水",3,1)) -> 1
K22: 12 | AQ22: =IF(P22="材質劣化",2,IF(P22="漏水",3,1)) -> 1
K23: 13 | AQ23: =IF(P23="材質劣化",2,IF(P23="漏水",3,1)) -> 1
K24: 14 | AQ24: =IF(P24="材質劣化",2,IF(P24="漏水",3,1)) -> 1
K25: 15 | AQ25: =IF(P25="材質劣化",2,IF(P25="漏水",3,1)) -> 1
K26: 16 | AQ26: =IF(P26="材質劣化",2,IF(P26="漏水",3,1)) -> 1
K27: 17 | AQ27: =IF(P27="材質劣化",2,IF(P27="漏水",3,1)) -> 1
K28: 18 | AQ28: =IF(P30="材質劣化",2,IF(P30="漏水",3,1)) -> 1
K29: 19 | AQ29: =IF(P34="材質劣化",2,IF(P34="漏水",3,1)) -> 1
K30: 20 | AQ30: =IF(P30="材質劣化",2,IF(P30="漏水",3,1)) -> 1
K31: 21 | AQ31: =IF(P33="材質劣化",2,IF(P33="漏水",3,1)) -> 1
K32: 22 | AQ32: =IF(P37="材質劣化",2,IF(P37="漏水",3,1)) -> 1
K33: 23 | AQ33: =IF(P33="材質劣化",2,IF(P33="漏水",3,1)) -> 1
K34: 24 | AQ34: =IF(P36="材質劣化",2,IF(P36="漏水",3,1)) -> 1
K35: 集計 判定 診断 | L35: 変状の発生規模合計(㎡) | Y35: － | AC35: =SUM(AC11:AC34) -> 0 | AD35: =SUM(AD11:AD34) -> 0 | AE35: =SUM(AE11:AE34) -> 0.4 | AF35: =SUM(AF11:AF34) -> 2.13 | AG35: =SUM(AG11:AG34) -> 0 | AH35: =SUM(AH11:AH34) -> 0 | AI35: =SUM(AI11:AI34) -> 0 | AJ35: =SUM(AJ11:AJ34) -> 0.35 | AK35: 覆工スパン単位の 健全性の 診断の区分 | AM35: =IF(Y37+AC37+AG37>0,"Ⅳ",IF(Z37+AD37+AH37>0,"Ⅲ",IF(AA37+AB37+AE37+AF37+AI37+AJ37>0,"Ⅱ","Ⅰ"))) -> Ⅱ
L36: 対策区分の 判定結果 | O36: 対策区分毎の変状数注3 | Y36: Ⅳ | Z36: Ⅲ | AA36: Ⅱa | AB36: Ⅱb | AC36: Ⅳ | AD36: Ⅲ | AE36: Ⅱa | AF36: Ⅱb | AG36: Ⅳ | AH36: Ⅲ | AI36: Ⅱa | AJ36: Ⅱb
Y37: =IF(COUNTIF(Y11:Y34,"〇")>0,1,0) -> 0 | Z37: =IF(COUNTIF(Z11:Z34,"〇")>0,1,0) -> 0 | AA37: =IF(COUNTIF(AA11:AA34,"〇")>0,1,0) -> 0 | AB37: =IF(COUNTIF(AB11:AB34,"〇")>0,1,0) -> 0 | AC37: =COUNTA(AC11:AC34) -> 0 | AD37: =COUNTA(AD11:AD34) -> 0 | AE37: =COUNTA(AE11:AE34) -> 1 | AF37: =COUNTA(AF11:AF34) -> 6 | AG37: =COUNTA(AG11:AG34) -> 0 | AH37: =COUNTA(AH11:AH34) -> 0 | AI37: =COUNTA(AI11:AI34) -> 0 | AJ37: =COUNTA(AJ11:AJ34) -> 1
K39: 所見 | L39: B：将来的に、利用者に対して影響が及ぶ可能性がある状態。
K43: 注1：誤記入防止のため、当該変状区分以外のセルは灰色表示とすること。
K44: 注2：応急措置を実施した場合は、その詳細を備考に記載すること。
K45: 注3：外力は覆工スパン単位、材質劣化、漏水は変状単位とすること。
B46: （以下、印刷不要）
B47: ※1：本シートは作成洩れのないよう、変状が無くても全スパン分を作成すること．また変状展開図は、様式D-2-1、様式D-2-1'と同じものを覆工スパン単位で拡大し掲載すること。
B48: ※2：変状番号は、様式D-1-1で記入した番号と整合させること。
B49: ※3：対策区分毎の変状発生規模は、様式D-1-1に記載した面積を記入すること（ただし外力はスパン単位で評価するため変状の有無の欄には面積でなく○を記入し、備考欄に状況を記入）。
B50: ※4：本様式は覆工スパン毎に作成すること。
B51: ※5：変状数が多い場合は、適時、表の行を増やして覆工スパン毎に1枚のシートに収めること。また、1スパン１シートとし、スパンに合わせてシートを追加すること。
B52: ※6：対策区分毎の変状の発生範囲の規模とは，対策を行う際に参考となる変状の長さや面積であり，変状を包含する長さや面積とする。
B53: ※7：対策範囲を示す発生範囲の規模を面積で記入することが妥当ではない変状は、発生範囲の規模の欄に○を記入するとともに、備考に内容を記入すること。

Sheet 様式D-3_008
AU1: 様式F用→ | AV1: 覆工スパン | AY1: 変 状 数 | BK1: 変 状 規 模
AV2: 番号 | AW2: 延長 （ｍ） | AX2: 健全性の診断の 区分 | AY2: 対策区分の判定 | BK2: 覆工スパン長（ｍ） | BO2: 変状の発生範囲の規模（㎡）
B3: ■定期点検記録様式 覆工スパン別変状詳細展開図 【様式D-3】 | AY3: 外力 | BC3: 材質劣化 | BG3: 漏水 | BK3: 外力 注2 | BO3: 材質劣化 | BS3: 漏水
B4: フリガナ | E4: フカボリズイドウ | K4: 路線名 | N4: 大河内地吉線 | T4: 定期点検実施者 | Y4: アジア航測株式会社 | AG4: 定期点検年月日 | AK4: 45926 | AY4: Ⅳ | AZ4: Ⅲ | BA4: Ⅱa | BB4: Ⅱb | BC4: Ⅳ | BD4: Ⅲ | BE4: Ⅱa | BF4: Ⅱb | BG4: Ⅳ | BH4: Ⅲ | BI4: Ⅱa | BJ4: Ⅱb | BK4: Ⅳ | BL4: Ⅲ | BM4: Ⅱa | BN4: Ⅱb | BO4: Ⅳ | BP4: Ⅲ | BQ4: Ⅱa | BR4: Ⅱb | BS4: Ⅳ | BT4: Ⅲ | BU4: Ⅱa | BV4: Ⅱb
B5: 名 称 | E5: 深堀隧道 | K5: 管理者名 | N5: 山口県下関土木建築事務所 | Y5: 飯田 琢巳 | AV5: =N7 -> 8 | AW5: =R7 -> 10 | AX5: =AM35 -> Ⅱ | AY5: =Y37 -> 0 | AZ5: =Z37 -> 0 | BA5: =AA37 -> 0 | BB5: =AB37 -> 0 | BC5: =AC37 -> 0 | BD5: =AD37 -> 0 | BE5: =AE37 -> 0 | BF5: =AF37 -> 1 | ... BJ5: =AJ37 -> 5 | BK5: =IF(Y37>0,R7,0) -> 0 | BL5: =IF(Y37>0,0,IF(Z37>0,R7,0)) -> 0 | BM5: =IF(Y37+Z37>0,0,IF(AA37>0,R7,0)) -> 0 | BN5: =IF(Y37+Z37+AA37>0,0,IF(AB37>0,R7,0)) -> 0 | BO5: =AC35 -> 0 | BP5: =AD35 -> 0 | BQ5: =AE35 -> 0 | BR5: =AF35 -> 0.23 | BS5: =AG35 -> 0 | BT5: =AH35 -> 0 | BU5: =AI35 -> 0 | BV5: =AJ35 -> 32.04
B6: スパン別変状展開図 | K6: 【健全性判定集計表】
K7: スパン番号 | N7: 8 | P7: スパン長 | R7: 10 | U7: 前回定期点検時の判定 | W7: 応急措置前の判定 | Y7: 対策区分毎の 変状の有無 | AC7: 対策区分毎の変状の発生範囲の規模(㎡) | AK7: 備考注2
K8: 変状番号 | L8: 対象箇所 | N8: 部位区分 | P8: 変状区分 | R8: 変状種類
Y9: 外力注1 | AC9: 材質劣化注1 | AG9: 漏水注1
Y10: Ⅳ | Z10: Ⅲ | AA10: Ⅱa | AB10: Ⅱb | AC10: Ⅳ | AD10: Ⅲ | AE10: Ⅱa | AF10: Ⅱb | AG10: Ⅳ | AH10: Ⅲ | AI10: Ⅱa | AJ10: Ⅱb
K11: 1 | L11: 覆工 | N11: 側壁（左側） | P11: 漏水 | R11: 漏水 | U11: Ⅱb | W11: - | AJ11: 5 | AQ11: =IF(P11="材質劣化",2,IF(P11="漏水",3,1)) -> 3 | AS11: =IF(Y11<>"",1,"")
K12: 2 | L12: 覆工 | N12: 側壁（左側） | P12: 漏水 | R12: 漏水 | U12: Ⅱb | W12: - | AJ12: 3.25 | AQ12: =IF(P12="材質劣化",2,IF(P12="漏水",3,1)) -> 3
K13: 3 | L13: 覆工 | N13: アーチ（左側） | P13: 材質劣化 | R13: 圧ざ、ひび割れ | U13: Ⅱb | W13: - | AF13: 0.23 | AQ13: =IF(P13="材質劣化",2,IF(P13="漏水",3,1)) -> 2
K14: 4 | L14: 覆工 | N14: 側壁（右側） | P14: 漏水 | R14: 漏水 | U14: Ⅱb | W14: - | AJ14: 7.54 | AQ14: =IF(P14="材質劣化",2,IF(P14="漏水",3,1)) -> 3
K15: 5 | L15: 覆工 | N15: 側壁（左側） | P15: 漏水 | R15: 漏水 | U15: Ⅱb | W15: - | AJ15: 9.5 | AQ15: =IF(P15="材質劣化",2,IF(P15="漏水",3,1)) -> 3
K16: 6 | L16: 覆工 | N16: 側壁（右側） | P16: 漏水 | R16: 漏水 | U16: Ⅱb | W16: - | AJ16: 6.75 | AQ16: =IF(P16="材質劣化",2,IF(P16="漏水",3,1)) -> 3
K17: 7 | AQ17: =IF(P17="材質劣化",2,IF(P17="漏水",3,1)) -> 1
K18: 8 | AQ18: =IF(P18="材質劣化",2,IF(P18="漏水",3,1)) -> 1
K19: 9 | AQ19: =IF(P19="材質劣化",2,IF(P19="漏水",3,1)) -> 1
K20: 10 | AQ20: =IF(P20="材質劣化",2,IF(P20="漏水",3,1)) -> 1
K21: 11 | AQ21: =IF(P21="材質劣化",2,IF(P21="漏水",3,1)) -> 1
K22: 12 | AQ22: =IF(P22="材質劣化",2,IF(P22="漏水",3,1)) -> 1
K23: 13 | AQ23: =IF(P23="材質劣化",2,IF(P23="漏水",3,1)) -> 1
K24: 14 | AQ24: =IF(P24="材質劣化",2,IF(P24="漏水",3,1)) -> 1
K25: 15 | AQ25: =IF(P25="材質劣化",2,IF(P25="漏水",3,1)) -> 1
K26: 16 | AQ26: =IF(P26="材質劣化",2,IF(P26="漏水",3,1)) -> 1
K27: 17 | AQ27: =IF(P27="材質劣化",2,IF(P27="漏水",3,1)) -> 1
K28: 18 | AQ28: =IF(P30="材質劣化",2,IF(P30="漏水",3,1)) -> 1
K29: 19 | AQ29: =IF(P34="材質劣化",2,IF(P34="漏水",3,1)) -> 1
K30: 20 | AQ30: =IF(P30="材質劣化",2,IF(P30="漏水",3,1)) -> 1
K31: 21 | AQ31: =IF(P33="材質劣化",2,IF(P33="漏水",3,1)) -> 1
K32: 22 | AQ32: =IF(P37="材質劣化",2,IF(P37="漏水",3,1)) -> 1
K33: 23 | AQ33: =IF(P33="材質劣化",2,IF(P33="漏水",3,1)) -> 1
K34: 24 | AQ34: =IF(P36="材質劣化",2,IF(P36="漏水",3,1)) -> 1
K35: 集計 判定 診断 | L35: 変状の発生規模合計(㎡) | Y35: － | AC35: =SUM(AC11:AC34) -> 0 | AD35: =SUM(AD11:AD34) -> 0 | AE35: =SUM(AE11:AE34) -> 0 | AF35: =SUM(AF11:AF34) -> 0.23 | AG35: =SUM(AG11:AG34) -> 0 | AH35: =SUM(AH11:AH34) -> 0 | AI35: =SUM(AI11:AI34) -> 0 | AJ35: =SUM(AJ11:AJ34) -> 32.04 | AK35: 覆工スパン単位の 健全性の 診断の区分 | AM35: =IF(Y37+AC37+AG37>0,"Ⅳ",IF(Z37+AD37+AH37>0,"Ⅲ",IF(AA37+AB37+AE37+AF37+AI37+AJ37>0,"Ⅱ","Ⅰ"))) -> Ⅱ
L36: 対策区分の 判定結果 | O36: 対策区分毎の変状数注3 | Y36: Ⅳ | Z36: Ⅲ | AA36: Ⅱa | AB36: Ⅱb | AC36: Ⅳ | AD36: Ⅲ | AE36: Ⅱa | AF36: Ⅱb | AG36: Ⅳ | AH36: Ⅲ | AI36: Ⅱa | AJ36: Ⅱb
Y37: =IF(COUNTIF(Y11:Y34,"〇")>0,1,0) -> 0 | Z37: =IF(COUNTIF(Z11:Z34,"〇")>0,1,0) -> 0 | AA37: =IF(COUNTIF(AA11:AA34,"〇")>0,1,0) -> 0 | AB37: =IF(COUNTIF(AB11:AB34,"〇")>0,1,0) -> 0 | AC37: =COUNTA(AC11:AC34) -> 0 | AD37: =COUNTA(AD11:AD34) -> 0 | AE37: =COUNTA(AE11:AE34) -> 0 | AF37: =COUNTA(AF11:AF34) -> 1 | AG37: =COUNTA(AG11:AG34) -> 0 | AH37: =COUNTA(AH11:AH34) -> 0 | AI37: =COUNTA(AI11:AI34) -> 0 | AJ37: =COUNTA(AJ11:AJ34) -> 5
K39: 所見 | L39: B：将来的に、利用者に対して影響が及ぶ可能性がある状態。
K43: 注1：誤記入防止のため、当該変状区分以外のセルは灰色表示とすること。
K44: 注2：応急措置を実施した場合は、その詳細を備考に記載すること。
K45: 注3：外力は覆工スパン単位、材質劣化、漏水は変状単位とすること。
B46: （以下、印刷不要）
B47: ※1：本シートは作成洩れのないよう、変状が無くても全スパン分を作成すること．また変状展開図は、様式D-2-1、様式D-2-1'と同じものを覆工スパン単位で拡大し掲載すること。
B48: ※2：変状番号は、様式D-1-1で記入した番号と整合させること。
B49: ※3：対策区分毎の変状発生規模は、様式D-1-1に記載した面積を記入すること（ただし外力はスパン単位で評価するため変状の有無の欄には面積でなく○を記入し、備考欄に状況を記入）。
B50: ※4：本様式は覆工スパン毎に作成すること。
B51: ※5：変状数が多い場合は、適時、表の行を増やして覆工スパン毎に1枚のシートに収めること。また、1スパン１シートとし、スパンに合わせてシートを追加すること。
B52: ※6：対策区分毎の変状の発生範囲の規模とは，対策を行う際に参考となる変状の長さや面積であり，変状を包含する長さや面積とする。
B53: ※7：対策範囲を示す発生範囲の規模を面積で記入することが妥当ではない変状は、発生範囲の規模の欄に○を記入するとともに、備考に内容を記入すること。

Sheet 様式D-3_009
AU1: 様式F用→ | AV1: 覆工スパン | AY1: 変 状 数 | BK1: 変 状 規 模
AV2: 番号 | AW2: 延長 （ｍ） | AX2: 健全性の診断の 区分 | AY2: 対策区分の判定 | BK2: 覆工スパン長（ｍ） | BO2: 変状の発生範囲の規模（㎡）
B3: ■定期点検記録様式 覆工スパン別変状詳細展開図 【様式D-3】 | AY3: 外力 | BC3: 材質劣化 | BG3: 漏水 | BK3: 外力 注2 | BO3: 材質劣化 | BS3: 漏水
B4: フリガナ | E4: フカボリズイドウ | K4: 路線名 | N4: 大河内地吉線 | T4: 定期点検実施者 | Y4: アジア航測株式会社 | AG4: 定期点検年月日 | AK4: 45926 | AY4: Ⅳ | AZ4: Ⅲ | BA4: Ⅱa | BB4: Ⅱb | BC4: Ⅳ | BD4: Ⅲ | BE4: Ⅱa | BF4: Ⅱb | BG4: Ⅳ | BH4: Ⅲ | BI4: Ⅱa | BJ4: Ⅱb | BK4: Ⅳ | BL4: Ⅲ | BM4: Ⅱa | BN4: Ⅱb | BO4: Ⅳ | BP4: Ⅲ | BQ4: Ⅱa | BR4: Ⅱb | BS4: Ⅳ | BT4: Ⅲ | BU4: Ⅱa | BV4: Ⅱb
B5: 名 称 | E5: 深堀隧道 | K5: 管理者名 | N5: 山口県下関土木建築事務所 | Y5: 飯田 琢巳 | AV5: =N7 -> 9 | AW5: =R7 -> 10 | AX5: =AM35 -> Ⅱ | AY5: =Y37 -> 0 | AZ5: =Z37 -> 0 | BA5: =AA37 -> 0 | BB5: =AB37 -> 0 | BC5: =AC37 -> 0 | BD5: =AD37 -> 0 | BE5: =AE37 -> 0 | BF5: =AF37 -> 0 | ... BJ5: =AJ37 -> 4 | BK5: =IF(Y37>0,R7,0) -> 0 | BL5: =IF(Y37>0,0,IF(Z37>0,R7,0)) -> 0 | BM5: =IF(Y37+Z37>0,0,IF(AA37>0,R7,0)) -> 0 | BN5: =IF(Y37+Z37+AA37>0,0,IF(AB37>0,R7,0)) -> 0 | BO5: =AC35 -> 0 | BP5: =AD35 -> 0 | BQ5: =AE35 -> 0 | BR5: =AF35 -> 0 | BS5: =AG35 -> 0 | BT5: =AH35 -> 0 | BU5: =AI35 -> 8.06 | BV5: =AJ35 -> 20.4
B6: スパン別変状展開図 | K6: 【健全性判定集計表】
K7: スパン番号 | N7: 9 | P7: スパン長 | R7: 10 | U7: 前回定期点検時の判定 | W7: 応急措置前の判定 | Y7: 対策区分毎の 変状の有無 | AC7: 対策区分毎の変状の発生範囲の規模(㎡) | AK7: 備考注2
K8: 変状番号 | L8: 対象箇所 | N8: 部位区分 | P8: 変状区分 | R8: 変状種類
Y9: 外力注1 | AC9: 材質劣化注1 | AG9: 漏水注1
Y10: Ⅳ | Z10: Ⅲ | AA10: Ⅱa | AB10: Ⅱb | AC10: Ⅳ | AD10: Ⅲ | AE10: Ⅱa | AF10: Ⅱb | AG10: Ⅳ | AH10: Ⅲ | AI10: Ⅱa | AJ10: Ⅱb
K11: 1 | L11: 覆工 | N11: 側壁（右側） | P11: 漏水 | R11: 漏水 | U11: Ⅱb | W11: - | AJ11: 4.5 | AQ11: =IF(P11="材質劣化",2,IF(P11="漏水",3,1)) -> 3 | AS11: =IF(Y11<>"",1,"")
K12: 2 | L12: 覆工 | N12: 側壁（右側） | P12: 漏水 | R12: 漏水 | U12: Ⅱb | W12: - | AJ12: 4.08 | AQ12: =IF(P12="材質劣化",2,IF(P12="漏水",3,1)) -> 3
K13: 3 | L13: 覆工 | N13: アーチ（右側） | P13: 漏水 | R13: 漏水 | U13: Ⅱa | W13: - | AJ13: 5.72 | AQ13: =IF(P13="材質劣化",2,IF(P13="漏水",3,1)) -> 3
K14: 4 | L14: 覆工 | N14: アーチ（左側） | P14: 漏水 | R14: 漏水 | U14: Ⅱb | W14: - | AJ14: 6.1 | AQ14: =IF(P14="材質劣化",2,IF(P14="漏水",3,1)) -> 3
K15: 5 | L15: 覆工 | N15: アーチ（右側） | P15: 漏水 | R15: 漏水 | U15: Ⅱb | W15: - | AI15: 8.06 | AQ15: =IF(P15="材質劣化",2,IF(P15="漏水",3,1)) -> 3
K16: 6 | L16: 路面 | N16: 車道 | P16: 漏水 | R16: 滞水 | U16: Ⅱa | W16: - | AQ16: =IF(P16="材質劣化",2,IF(P16="漏水",3,1)) -> 3
K17: 7 | AQ17: =IF(P17="材質劣化",2,IF(P17="漏水",3,1)) -> 1
K18: 8 | AQ18: =IF(P18="材質劣化",2,IF(P18="漏水",3,1)) -> 1
K19: 9 | AQ19: =IF(P19="材質劣化",2,IF(P19="漏水",3,1)) -> 1
K20: 10 | AQ20: =IF(P20="材質劣化",2,IF(P20="漏水",3,1)) -> 1
K21: 11 | AQ21: =IF(P21="材質劣化",2,IF(P21="漏水",3,1)) -> 1
K22: 12 | AQ22: =IF(P22="材質劣化",2,IF(P22="漏水",3,1)) -> 1
K23: 13 | AQ23: =IF(P23="材質劣化",2,IF(P23="漏水",3,1)) -> 1
K24: 14 | AQ24: =IF(P24="材質劣化",2,IF(P24="漏水",3,1)) -> 1
K25: 15 | AQ25: =IF(P25="材質劣化",2,IF(P25="漏水",3,1)) -> 1
K26: 16 | AQ26: =IF(P26="材質劣化",2,IF(P26="漏水",3,1)) -> 1
K27: 17 | AQ27: =IF(P27="材質劣化",2,IF(P27="漏水",3,1)) -> 1
K28: 18 | AQ28: =IF(P30="材質劣化",2,IF(P30="漏水",3,1)) -> 1
K29: 19 | AQ29: =IF(P34="材質劣化",2,IF(P34="漏水",3,1)) -> 1
K30: 20 | AQ30: =IF(P30="材質劣化",2,IF(P30="漏水",3,1)) -> 1
K31: 21 | AQ31: =IF(P33="材質劣化",2,IF(P33="漏水",3,1)) -> 1
K32: 22 | AQ32: =IF(P37="材質劣化",2,IF(P37="漏水",3,1)) -> 1
K33: 23 | AQ33: =IF(P33="材質劣化",2,IF(P33="漏水",3,1)) -> 1
K34: 24 | AQ34: =IF(P36="材質劣化",2,IF(P36="漏水",3,1)) -> 1
K35: 集計 判定 診断 | L35: 変状の発生規模合計(㎡) | Y35: － | AC35: =SUM(AC11:AC34) -> 0 | AD35: =SUM(AD11:AD34) -> 0 | AE35: =SUM(AE11:AE34) -> 0 | AF35: =SUM(AF11:AF34) -> 0 | AG35: =SUM(AG11:AG34) -> 0 | AH35: =SUM(AH11:AH34) -> 0 | AI35: =SUM(AI11:AI34) -> 8.06 | AJ35: =SUM(AJ11:AJ34) -> 20.4 | AK35: 覆工スパン単位の 健全性の 診断の区分 | AM35: =IF(Y37+AC37+AG37>0,"Ⅳ",IF(Z37+AD37+AH37>0,"Ⅲ",IF(AA37+AB37+AE37+AF37+AI37+AJ37>0,"Ⅱ","Ⅰ"))) -> Ⅱ
L36: 対策区分の 判定結果 | O36: 対策区分毎の変状数注3 | Y36: Ⅳ | Z36: Ⅲ | AA36: Ⅱa | AB36: Ⅱb | AC36: Ⅳ | AD36: Ⅲ | AE36: Ⅱa | AF36: Ⅱb | AG36: Ⅳ | AH36: Ⅲ | AI36: Ⅱa | AJ36: Ⅱb
Y37: =IF(COUNTIF(Y11:Y34,"〇")>0,1,0) -> 0 | Z37: =IF(COUNTIF(Z11:Z34,"〇")>0,1,0) -> 0 | AA37: =IF(COUNTIF(AA11:AA34,"〇")>0,1,0) -> 0 | AB37: =IF(COUNTIF(AB11:AB34,"〇")>0,1,0) -> 0 | AC37: =COUNTA(AC11:AC34) -> 0 | AD37: =COUNTA(AD11:AD34) -> 0 | AE37: =COUNTA(AE11:AE34) -> 0 | AF37: =COUNTA(AF11:AF34) -> 0 | AG37: =COUNTA(AG11:AG34) -> 0 | AH37: =COUNTA(AH11:AH34) -> 0 | AI37: =COUNTA(AI11:AI34) -> 1 | AJ37: =COUNTA(AJ11:AJ34) -> 4
K39: 所見 | L39: B：将来的に、利用者に対して影響が及ぶ可能性がある状態。
K43: 注1：誤記入防止のため、当該変状区分以外のセルは灰色表示とすること。
K44: 注2：応急措置を実施した場合は、その詳細を備考に記載すること。
K45: 注3：外力は覆工スパン単位、材質劣化、漏水は変状単位とすること。
B46: （以下、印刷不要）
B47: ※1：本シートは作成洩れのないよう、変状が無くても全スパン分を作成すること．また変状展開図は、様式D-2-1、様式D-2-1'と同じものを覆工スパン単位で拡大し掲載すること。
B48: ※2：変状番号は、様式D-1-1で記入した番号と整合させること。
B49: ※3：対策区分毎の変状発生規模は、様式D-1-1に記載した面積を記入すること（ただし外力はスパン単位で評価するため変状の有無の欄には面積でなく○を記入し、備考欄に状況を記入）。
B50: ※4：本様式は覆工スパン毎に作成すること。
B51: ※5：変状数が多い場合は、適時、表の行を増やして覆工スパン毎に1枚のシートに収めること。また、1スパン１シートとし、スパンに合わせてシートを追加すること。
B52: ※6：対策区分毎の変状の発生範囲の規模とは，対策を行う際に参考となる変状の長さや面積であり，変状を包含する長さや面積とする。
B53: ※7：対策範囲を示す発生範囲の規模を面積で記入することが妥当ではない変状は、発生範囲の規模の欄に○を記入するとともに、備考に内容を記入すること。

Sheet 様式D-3_010
AU1: 様式F用→ | AV1: 覆工スパン | AY1: 変 状 数 | BK1: 変 状 規 模
AV2: 番号 | AW2: 延長 （ｍ） | AX2: 健全性の診断の 区分 | AY2: 対策区分の判定 | BK2: 覆工スパン長（ｍ） | BO2: 変状の発生範囲の規模（㎡）
B3: ■定期点検記録様式 覆工スパン別変状詳細展開図 【様式D-3】 | AY3: 外力 | BC3: 材質劣化 | BG3: 漏水 | BK3: 外力 注2 | BO3: 材質劣化 | BS3: 漏水
B4: フリガナ | E4: フカボリズイドウ | K4: 路線名 | N4: 大河内地吉線 | T4: 定期点検実施者 | Y4: アジア航測株式会社 | AG4: 定期点検年月日 | AK4: 45926 | AY4: Ⅳ | AZ4: Ⅲ | BA4: Ⅱa | BB4: Ⅱb | BC4: Ⅳ | BD4: Ⅲ | BE4: Ⅱa | BF4: Ⅱb | BG4: Ⅳ | BH4: Ⅲ | BI4: Ⅱa | BJ4: Ⅱb | BK4: Ⅳ | BL4: Ⅲ | BM4: Ⅱa | BN4: Ⅱb | BO4: Ⅳ | BP4: Ⅲ | BQ4: Ⅱa | BR4: Ⅱb | BS4: Ⅳ | BT4: Ⅲ | BU4: Ⅱa | BV4: Ⅱb
B5: 名 称 | E5: 深堀隧道 | K5: 管理者名 | N5: 山口県下関土木建築事務所 | Y5: 飯田 琢巳 | AV5: =N7 -> 10 | AW5: =R7 -> 2.5 | AX5: =AM35 -> Ⅱ | AY5: =Y37 -> 0 | AZ5: =Z37 -> 0 | BA5: =AA37 -> 0 | BB5: =AB37 -> 0 | BC5: =AC37 -> 0 | BD5: =AD37 -> 0 | BE5: =AE37 -> 0 | BF5: =AF37 -> 0 | ... BJ5: =AJ37 -> 2 | BK5: =IF(Y37>0,R7,0) -> 0 | BL5: =IF(Y37>0,0,IF(Z37>0,R7,0)) -> 0 | BM5: =IF(Y37+Z37>0,0,IF(AA37>0,R7,0)) -> 0 | BN5: =IF(Y37+Z37+AA37>0,0,IF(AB37>0,R7,0)) -> 0 | BO5: =AC35 -> 0 | BP5: =AD35 -> 0 | BQ5: =AE35 -> 0 | BR5: =AF35 -> 0 | BS5: =AG35 -> 0 | BT5: =AH35 -> 0 | BU5: =AI35 -> 0 | BV5: =AJ35 -> 31
B6: スパン別変状展開図 | K6: 【健全性判定集計表】
K7: スパン番号 | N7: 10 | P7: スパン長 | R7: 2.5 | U7: 前回定期点検時の判定 | W7: 応急措置前の判定 | Y7: 対策区分毎の 変状の有無 | AC7: 対策区分毎の変状の発生範囲の規模(㎡) | AK7: 備考注2
K8: 変状番号 | L8: 対象箇所 | N8: 部位区分 | P8: 変状区分 | R8: 変状種類
Y9: 外力注1 | AC9: 材質劣化注1 | AG9: 漏水注1
Y10: Ⅳ | Z10: Ⅲ | AA10: Ⅱa | AB10: Ⅱb | AC10: Ⅳ | AD10: Ⅲ | AE10: Ⅱa | AF10: Ⅱb | AG10: Ⅳ | AH10: Ⅲ | AI10: Ⅱa | AJ10: Ⅱb
K11: 1 | L11: 覆工 | N11: アーチ（左側） | P11: 漏水 | R11: 漏水 | U11: Ⅱb | W11: - | AJ11: 19.84 | AQ11: =IF(P11="材質劣化",2,IF(P11="漏水",3,1)) -> 3 | AS11: =IF(Y11<>"",1,"")
K12: 2 | L12: 覆工 | N12: アーチ（右側） | P12: 漏水 | R12: 漏水 | U12: Ⅱb | W12: - | AJ12: 11.16 | AQ12: =IF(P12="材質劣化",2,IF(P12="漏水",3,1)) -> 3
K13: 3 | AQ13: =IF(P13="材質劣化",2,IF(P13="漏水",3,1)) -> 1
K14: 4 | AQ14: =IF(P14="材質劣化",2,IF(P14="漏水",3,1)) -> 1
K15: 5 | AQ15: =IF(P15="材質劣化",2,IF(P15="漏水",3,1)) -> 1
K16: 6 | AQ16: =IF(P16="材質劣化",2,IF(P16="漏水",3,1)) -> 1
K17: 7 | AQ17: =IF(P17="材質劣化",2,IF(P17="漏水",3,1)) -> 1
K18: 8 | AQ18: =IF(P18="材質劣化",2,IF(P18="漏水",3,1)) -> 1
K19: 9 | AQ19: =IF(P19="材質劣化",2,IF(P19="漏水",3,1)) -> 1
K20: 10 | AQ20: =IF(P20="材質劣化",2,IF(P20="漏水",3,1)) -> 1
K21: 11 | AQ21: =IF(P21="材質劣化",2,IF(P21="漏水",3,1)) -> 1
K22: 12 | AQ22: =IF(P22="材質劣化",2,IF(P22="漏水",3,1)) -> 1
K23: 13 | AQ23: =IF(P23="材質劣化",2,IF(P23="漏水",3,1)) -> 1
K24: 14 | AQ24: =IF(P24="材質劣化",2,IF(P24="漏水",3,1)) -> 1
... K27: 17 | AQ27: =IF(P27="材質劣化",2,IF(P27="漏水",3,1)) -> 1
K28: 18 | AQ28: =IF(P30="材質劣化",2,IF(P30="漏水",3,1)) -> 1
K29: 19 | AQ29: =IF(P34="材質劣化",2,IF(P34="漏水",3,1)) -> 1
K30: 20 | AQ30: =IF(P30="材質劣化",2,IF(P30="漏水",3,1)) -> 1
K31: 21 | AQ31: =IF(P33="材質劣化",2,IF(P33="漏水",3,1)) -> 1
K32: 22 | AQ32: =IF(P37="材質劣化",2,IF(P37="漏水",3,1)) -> 1
K33: 23 | AQ33: =IF(P33="材質劣化",2,IF(P33="漏水",3,1)) -> 1
K34: 24 | AQ34: =IF(P36="材質劣化",2,IF(P36="漏水",3,1)) -> 1
K35: 集計 判定 診断 | L35: 変状の発生規模合計(㎡) | Y35: － | AC35: =SUM(AC11:AC34) -> 0 | AD35: =SUM(AD11:AD34) -> 0 | AE35: =SUM(AE11:AE34) -> 0 | AF35: =SUM(AF11:AF34) -> 0 | AG35: =SUM(AG11:AG34) -> 0 | AH35: =SUM(AH11:AH34) -> 0 | AI35: =SUM(AI11:AI34) -> 0 | AJ35: =SUM(AJ11:AJ34) -> 31 | AK35: 覆工スパン単位の 健全性の 診断の区分 | AM35: =IF(Y37+AC37+AG37>0,"Ⅳ",IF(Z37+AD37+AH37>0,"Ⅲ",IF(AA37+AB37+AE37+AF37+AI37+AJ37>0,"Ⅱ","Ⅰ"))) -> Ⅱ
L36: 対策区分の 判定結果 | O36: 対策区分毎の変状数注3 | Y36: Ⅳ | Z36: Ⅲ | AA36: Ⅱa | AB36: Ⅱb | AC36: Ⅳ | AD36: Ⅲ | AE36: Ⅱa | AF36: Ⅱb | AG36: Ⅳ | AH36: Ⅲ | AI36: Ⅱa | AJ36: Ⅱb
Y37: =IF(COUNTIF(Y11:Y34,"〇")>0,1,0) -> 0 | Z37: =IF(COUNTIF(Z11:Z34,"〇")>0,1,0) -> 0 | AA37: =IF(COUNTIF(AA11:AA34,"〇")>0,1,0) -> 0 | AB37: =IF(COUNTIF(AB11:AB34,"〇")>0,1,0) -> 0 | AC37: =COUNTA(AC11:AC34) -> 0 | AD37: =COUNTA(AD11:AD34) -> 0 | AE37: =COUNTA(AE11:AE34) -> 0 | AF37: =COUNTA(AF11:AF34) -> 0 | AG37: =COUNTA(AG11:AG34) -> 0 | AH37: =COUNTA(AH11:AH34) -> 0 | AI37: =COUNTA(AI11:AI34) -> 0 | AJ37: =COUNTA(AJ11:AJ34) -> 2
K39: 所見 | L39: B：将来的に、利用者に対して影響が及ぶ可能性がある状態。
K43: 注1：誤記入防止のため、当該変状区分以外のセルは灰色表示とすること。
K44: 注2：応急措置を実施した場合は、その詳細を備考に記載すること。
K45: 注3：外力は覆工スパン単位、材質劣化、漏水は変状単位とすること。
B46: （以下、印刷不要）
B47: ※1：本シートは作成洩れのないよう、変状が無くても全スパン分を作成すること．また変状展開図は、様式D-2-1、様式D-2-1'と同じものを覆工スパン単位で拡大し掲載すること。
B48: ※2：変状番号は、様式D-1-1で記入した番号と整合させること。
B49: ※3：対策区分毎の変状発生規模は、様式D-1-1に記載した面積を記入すること（ただし外力はスパン単位で評価するため変状の有無の欄には面積でなく○を記入し、備考欄に状況を記入）。
B50: ※4：本様式は覆工スパン毎に作成すること。
B51: ※5：変状数が多い場合は、適時、表の行を増やして覆工スパン毎に1枚のシートに収めること。また、1スパン１シートとし、スパンに合わせてシートを追加すること。
B52: ※6：対策区分毎の変状の発生範囲の規模とは，対策を行う際に参考となる変状の長さや面積であり，変状を包含する長さや面積とする。
B53: ※7：対策範囲を示す発生範囲の規模を面積で記入することが妥当ではない変状は、発生範囲の規模の欄に○を記入するとともに、備考に内容を記入すること。

Sheet 様式D-3_PE
AU1: 様式F用→ | AV1: 覆工スパン | AY1: 変 状 数 | BK1: 変 状 規 模
AV2: 番号 | AW2: 延長 （ｍ） | AX2: 健全性の診断の 区分 | AY2: 対策区分の判定 | BK2: 覆工スパン長（ｍ） | BO2: 変状の発生範囲の規模（㎡）
B3: ■定期点検記録様式 覆工スパン別変状詳細展開図 【様式D-3】 | AY3: 外力 | BC3: 材質劣化 | BG3: 漏水 | BK3: 外力 注2 | BO3: 材質劣化 | BS3: 漏水
B4: フリガナ | E4: フカボリズイドウ | K4: 路線名 | N4: 大河内地吉線 | T4: 定期点検実施者 | Y4: アジア航測株式会社 | AG4: 定期点検年月日 | AK4: 45926 | AY4: Ⅳ | AZ4: Ⅲ | BA4: Ⅱa | BB4: Ⅱb | BC4: Ⅳ | BD4: Ⅲ | BE4: Ⅱa | BF4: Ⅱb | BG4: Ⅳ | BH4: Ⅲ | BI4: Ⅱa | BJ4: Ⅱb | BK4: Ⅳ | BL4: Ⅲ | BM4: Ⅱa | BN4: Ⅱb | BO4: Ⅳ | BP4: Ⅲ | BQ4: Ⅱa | BR4: Ⅱb | BS4: Ⅳ | BT4: Ⅲ | BU4: Ⅱa | BV4: Ⅱb
B5: 名 称 | E5: 深堀隧道 | K5: 管理者名 | N5: 山口県下関土木建築事務所 | Y5: 飯田 琢巳 | AV5: =N7 -> PE | AW5: =R7 -> 0.6 | AX5: =AM35 -> Ⅱ | AY5: =Y37 -> 0 | AZ5: =Z37 -> 0 | BA5: =AA37 -> 0 | BB5: =AB37 -> 0 | BC5: =AC37 -> 0 | BD5: =AD37 -> 0 | BE5: =AE37 -> 2 | BF5: =AF37 -> 0 | ... BJ5: =AJ37 -> 1 | BK5: =IF(Y37>0,R7,0) -> 0 | BL5: =IF(Y37>0,0,IF(Z37>0,R7,0)) -> 0 | BM5: =IF(Y37+Z37>0,0,IF(AA37>0,R7,0)) -> 0 | BN5: =IF(Y37+Z37+AA37>0,0,IF(AB37>0,R7,0)) -> 0 | BO5: =AC35 -> 0 | BP5: =AD35 -> 0 | BQ5: =AE35 -> 0.4 | BR5: =AF35 -> 0 | BS5: =AG35 -> 0 | BT5: =AH35 -> 0 | BU5: =AI35 -> 0 | BV5: =AJ35 -> 1.632
B6: スパン別変状展開図 | K6: 【健全性判定集計表】
K7: スパン番号 | N7: PE | P7: スパン長 | R7: 0.6 | U7: 前回定期点検時の判定 | W7: 応急措置前の判定 | Y7: 対策区分毎の 変状の有無 | AC7: 対策区分毎の変状の発生範囲の規模(㎡) | AK7: 備考注2
K8: 変状番号 | L8: 対象箇所 | N8: 部位区分 | P8: 変状区分 | R8: 変状種類
Y9: 外力注1 | AC9: 材質劣化注1 | AG9: 漏水注1
Y10: Ⅳ | Z10: Ⅲ | AA10: Ⅱa | AB10: Ⅱb | AC10: Ⅳ | AD10: Ⅲ | AE10: Ⅱa | AF10: Ⅱb | AG10: Ⅳ | AH10: Ⅲ | AI10: Ⅱa | AJ10: Ⅱb
K11: 1 | L11: 覆工 | N11: 側壁（右側） | P11: 漏水 | R11: 漏水 | U11: Ⅱb | W11: - | AJ11: 1.632 | AQ11: =IF(P11="材質劣化",2,IF(P11="漏水",3,1)) -> 3 | AS11: =IF(Y11<>"",1,"")
K12: 2 | L12: 覆工 | N12: 面壁・妻壁等 | P12: 材質劣化 | R12: うき・はく離 | U12: Ⅱa | W12: - | AE12: 0.2 | AQ12: =IF(P12="材質劣化",2,IF(P12="漏水",3,1)) -> 2
K13: 3 | L13: 覆工 | N13: 面壁・妻壁等 | P13: 材質劣化 | R13: うき・はく離 | U13: - | W13: - | AE13: 0.2 | AQ13: =IF(P13="材質劣化",2,IF(P13="漏水",3,1)) -> 2
K14: 4 | AQ14: =IF(P14="材質劣化",2,IF(P14="漏水",3,1)) -> 1
K15: 5 | AQ15: =IF(P15="材質劣化",2,IF(P15="漏水",3,1)) -> 1
K16: 6 | AQ16: =IF(P16="材質劣化",2,IF(P16="漏水",3,1)) -> 1
K17: 7 | AQ17: =IF(P17="材質劣化",2,IF(P17="漏水",3,1)) -> 1
K18: 8 | AQ18: =IF(P18="材質劣化",2,IF(P18="漏水",3,1)) -> 1
K19: 9 | AQ19: =IF(P19="材質劣化",2,IF(P19="漏水",3,1)) -> 1
K20: 10 | AQ20: =IF(P20="材質劣化",2,IF(P20="漏水",3,1)) -> 1
K21: 11 | AQ21: =IF(P21="材質劣化",2,IF(P21="漏水",3,1)) -> 1
K22: 12 | AQ22: =IF(P22="材質劣化",2,IF(P22="漏水",3,1)) -> 1
K23: 13 | AQ23: =IF(P23="材質劣化",2,IF(P23="漏水",3,1)) -> 1
K24: 14 | AQ24: =IF(P24="材質劣化",2,IF(P24="漏水",3,1)) -> 1
K25: 15 | AQ25: =IF(P25="材質劣化",2,IF(P25="漏水",3,1)) -> 1
... K27: 17 | AQ27: =IF(P27="材質劣化",2,IF(P27="漏水",3,1)) -> 1
K28: 18 | AQ28: =IF(P30="材質劣化",2,IF(P30="漏水",3,1)) -> 1
K29: 19 | AQ29: =IF(P34="材質劣化",2,IF(P34="漏水",3,1)) -> 1
K30: 20 | AQ30: =IF(P30="材質劣化",2,IF(P30="漏水",3,1)) -> 1
K31: 21 | AQ31: =IF(P33="材質劣化",2,IF(P33="漏水",3,1)) -> 1
K32: 22 | AQ32: =IF(P37="材質劣化",2,IF(P37="漏水",3,1)) -> 1
K33: 23 | AQ33: =IF(P33="材質劣化",2,IF(P33="漏水",3,1)) -> 1
K34: 24 | AQ34: =IF(P36="材質劣化",2,IF(P36="漏水",3,1)) -> 1
K35: 集計 判定 診断 | L35: 変状の発生規模合計(㎡) | Y35: － | AC35: =SUM(AC11:AC34) -> 0 | AD35: =SUM(AD11:AD34) -> 0 | AE35: =SUM(AE11:AE34) -> 0.4 | AF35: =SUM(AF11:AF34) -> 0 | AG35: =SUM(AG11:AG34) -> 0 | AH35: =SUM(AH11:AH34) -> 0 | AI35: =SUM(AI11:AI34) -> 0 | AJ35: =SUM(AJ11:AJ34) -> 1.632 | AK35: 覆工スパン単位の 健全性の 診断の区分 | AM35: =IF(Y37+AC37+AG37>0,"Ⅳ",IF(Z37+AD37+AH37>0,"Ⅲ",IF(AA37+AB37+AE37+AF37+AI37+AJ37>0,"Ⅱ","Ⅰ"))) -> Ⅱ
L36: 対策区分の 判定結果 | O36: 対策区分毎の変状数注3 | Y36: Ⅳ | Z36: Ⅲ | AA36: Ⅱa | AB36: Ⅱb | AC36: Ⅳ | AD36: Ⅲ | AE36: Ⅱa | AF36: Ⅱb | AG36: Ⅳ | AH36: Ⅲ | AI36: Ⅱa | AJ36: Ⅱb
Y37: =IF(COUNTIF(Y11:Y34,"〇")>0,1,0) -> 0 | Z37: =IF(COUNTIF(Z11:Z34,"〇")>0,1,0) -> 0 | AA37: =IF(COUNTIF(AA11:AA34,"〇")>0,1,0) -> 0 | AB37: =IF(COUNTIF(AB11:AB34,"〇")>0,1,0) -> 0 | AC37: =COUNTA(AC11:AC34) -> 0 | AD37: =COUNTA(AD11:AD34) -> 0 | AE37: =COUNTA(AE11:AE34) -> 2 | AF37: =COUNTA(AF11:AF34) -> 0 | AG37: =COUNTA(AG11:AG34) -> 0 | AH37: =COUNTA(AH11:AH34) -> 0 | AI37: =COUNTA(AI11:AI34) -> 0 | AJ37: =COUNTA(AJ11:AJ34) -> 1
K39: 所見 | L39: B：将来的に、利用者に対して影響が及ぶ可能性がある状態。
K43: 注1：誤記入防止のため、当該変状区分以外のセルは灰色表示とすること。
K44: 注2：応急措置を実施した場合は、その詳細を備考に記載すること。
K45: 注3：外力は覆工スパン単位、材質劣化、漏水は変状単位とすること。
B46: （以下、印刷不要）
B47: ※1：本シートは作成洩れのないよう、変状が無くても全スパン分を作成すること．また変状展開図は、様式D-2-1、様式D-2-1'と同じものを覆工スパン単位で拡大し掲載すること。
B48: ※2：変状番号は、様式D-1-1で記入した番号と整合させること。
B49: ※3：対策区分毎の変状発生規模は、様式D-1-1に記載した面積を記入すること（ただし外力はスパン単位で評価するため変状の有無の欄には面積でなく○を記入し、備考欄に状況を記入）。
B50: ※4：本様式は覆工スパン毎に作成すること。
B51: ※5：変状数が多い場合は、適時、表の行を増やして覆工スパン毎に1枚のシートに収めること。また、1スパン１シートとし、スパンに合わせてシートを追加すること。
B52: ※6：対策区分毎の変状の発生範囲の規模とは，対策を行う際に参考となる変状の長さや面積であり，変状を包含する長さや面積とする。
B53: ※7：対策範囲を示す発生範囲の規模を面積で記入することが妥当ではない変状は、発生範囲の規模の欄に○を記入するとともに、備考に内容を記入すること。

Sheet 様式E
B2: ■定期点検記録様式 近接目視による状態の把握が不可能な箇所 【様式E】
B3: フリガナ | F3: フカボリズイドウ | U3: 路 線 名 | Z3: 大河内地吉線 | AI3: 定期点検実施者 | AO3: アジア航測株式会社 | AW3: 定期点検年月日 | BC3: 45926
B4: 名 称 | F4: 深堀隧道 | U4: 管理者名 | Z4: 山口県下関土木建築事務所 | AO4: 飯田 琢巳
B5: 覆工スパン 番号 | H5: 対象箇所 | P5: 不可能な理由 | AN5: 対応策
D20: 注）近接目視又は打音、触診ができない箇所を記載する。現状の評価、日常の維持管理での注意点を記載する。
D21: ※ 数が多い場合は、適時、表の行を増やすこと。

Sheet 様式F
B1: ■定期点検記録様式 覆工スパン毎の変状数・変状規模の集計 【様式F】
B2: フリガナ | F2: フカボリズイドウ | L2: 路線名 | O2: 大河内地吉線 | T2: 定期点検実施者 | V2: アジア航測株式会社 | Y2: 定期点検 年月日 | Z2: 45926
B3: 名 称 | F3: 深堀隧道 | L3: 管理者名 | O3: 山口県下関土木建築事務所
B5: 【覆工スパン毎の変状数, 変状規模】
B6: 覆工スパン | E6: 変 状 数 | Q6: 変 状 規 模
B7: 番号 | C7: 延長 （ｍ） | D7: 健全性の診断の 区分 | E7: 対策区分の判定注1 | Q7: 覆工スパン長（ｍ） | U7: 変状の発生範囲の規模（㎡）
E8: 外力 | I8: 材質劣化 | M8: 漏水 | Q8: 外力 注2 | U8: 材質劣化 | Y8: 漏水
E9: Ⅳ | F9: Ⅲ | G9: Ⅱa | H9: Ⅱb | I9: Ⅳ | J9: Ⅲ | K9: Ⅱa | L9: Ⅱb | M9: Ⅳ | N9: Ⅲ | O9: Ⅱa | P9: Ⅱb | Q9: Ⅳ | R9: Ⅲ | S9: Ⅱa | T9: Ⅱb | U9: Ⅳ | V9: Ⅲ | W9: Ⅱa | X9: Ⅱb | Y9: Ⅳ | Z9: Ⅲ | AA9: Ⅱa | AB9: Ⅱb
B10: ='様式D-3_PS'!AV5 -> PS | C10: ='様式D-3_PS'!AW5 -> 0.6 | D10: ='様式D-3_PS'!AX5 -> Ⅱ | E10: ='様式D-3_PS'!AY5 -> 0 | F10: ='様式D-3_PS'!AZ5 -> 0 | G10: ='様式D-3_PS'!BA5 -> 0 | H10: ='様式D-3_PS'!BB5 -> 0 | I10: ='様式D-3_PS'!BC5 -> 0 | ... AB10: ='様式D-3_PS'!BV5 -> 15.2
B11: ='様式D-3_001'!AV5 -> 1 | C11: ='様式D-3_001'!AW5 -> 10 | D11: ='様式D-3_001'!AX5 -> Ⅱ | E11: ='様式D-3_001'!AY5 -> 0 | F11: ='様式D-3_001'!AZ5 -> 0 | G11: ='様式D-3_001'!BA5 -> 0 | H11: ='様式D-3_001'!BB5 -> 0 | I11: ='様式D-3_001'!BC5 -> 0 | ... AB11: ='様式D-3_001'!BV5 -> 96.762
B12: ='様式D-3_002'!AV5 -> 2 | C12: ='様式D-3_002'!AW5 -> 10 | D12: ='様式D-3_002'!AX5 -> Ⅱ | E12: ='様式D-3_002'!AY5 -> 0 | F12: ='様式D-3_002'!AZ5 -> 0 | G12: ='様式D-3_002'!BA5 -> 0 | H12: ='様式D-3_002'!BB5 -> 0 | I12: ='様式D-3_002'!BC5 -> 0 | ... AB12: ='様式D-3_002'!BV5 -> 45.19
B13: ='様式D-3_003'!AV5 -> 3 | C13: ='様式D-3_003'!AW5 -> 10 | D13: ='様式D-3_003'!AX5 -> Ⅱ | E13: ='様式D-3_003'!AY5 -> 0 | F13: ='様式D-3_003'!AZ5 -> 0 | G13: ='様式D-3_003'!BA5 -> 0 | H13: ='様式D-3_003'!BB5 -> 0 | I13: ='様式D-3_003'!BC5 -> 0 | ... AB13: ='様式D-3_003'!BV5 -> 37.69
B14: ='様式D-3_004'!AV5 -> 4 | C14: ='様式D-3_004'!AW5 -> 10 | D14: ='様式D-3_004'!AX5 -> Ⅱ | E14: ='様式D-3_004'!AY5 -> 0 | F14: ='様式D-3_004'!AZ5 -> 0 | G14: ='様式D-3_004'!BA5 -> 0 | H14: ='様式D-3_004'!BB5 -> 0 | I14: ='様式D-3_004'!BC5 -> 0 | ... AB14: ='様式D-3_004'!BV5 -> 26.86
B15: ='様式D-3_005'!AV5 -> 5 | C15: ='様式D-3_005'!AW5 -> 10 | D15: ='様式D-3_005'!AX5 -> Ⅱ | E15: ='様式D-3_005'!AY5 -> 0 | F15: ='様式D-3_005'!AZ5 -> 0 | G15: ='様式D-3_005'!BA5 -> 0 | H15: ='様式D-3_005'!BB5 -> 0 | I15: ='様式D-3_005'!BC5 -> 0 | ... AB15: ='様式D-3_005'!BV5 -> 14.41
B16: ='様式D-3_006'!AV5 -> 6 | C16: ='様式D-3_006'!AW5 -> 10 | D16: ='様式D-3_006'!AX5 -> Ⅱ | E16: ='様式D-3_006'!AY5 -> 0 | F16: ='様式D-3_006'!AZ5 -> 0 | G16: ='様式D-3_006'!BA5 -> 0 | H16: ='様式D-3_006'!BB5 -> 0 | I16: ='様式D-3_006'!BC5 -> 0 | ... AB16: ='様式D-3_006'!BV5 -> 1.25
B17: ='様式D-3_007'!AV5 -> 7 | C17: ='様式D-3_007'!AW5 -> 10 | D17: ='様式D-3_007'!AX5 -> Ⅱ | E17: ='様式D-3_007'!AY5 -> 0 | F17: ='様式D-3_007'!AZ5 -> 0 | G17: ='様式D-3_007'!BA5 -> 0 | H17: ='様式D-3_007'!BB5 -> 0 | I17: ='様式D-3_007'!BC5 -> 0 | ... AB17: ='様式D-3_007'!BV5 -> 0.35
B18: ='様式D-3_008'!AV5 -> 8 | C18: ='様式D-3_008'!AW5 -> 10 | D18: ='様式D-3_008'!AX5 -> Ⅱ | E18: ='様式D-3_008'!AY5 -> 0 | F18: ='様式D-3_008'!AZ5 -> 0 | G18: ='様式D-3_008'!BA5 -> 0 | H18: ='様式D-3_008'!BB5 -> 0 | I18: ='様式D-3_008'!BC5 -> 0 | ... AB18: ='様式D-3_008'!BV5 -> 32.04
B19: ='様式D-3_009'!AV5 -> 9 | C19: ='様式D-3_009'!AW5 -> 10 | D19: ='様式D-3_009'!AX5 -> Ⅱ | E19: ='様式D-3_009'!AY5 -> 0 | F19: ='様式D-3_009'!AZ5 -> 0 | G19: ='様式D-3_009'!BA5 -> 0 | H19: ='様式D-3_009'!BB5 -> 0 | I19: ='様式D-3_009'!BC5 -> 0 | ... AB19: ='様式D-3_009'!BV5 -> 20.4
B20: ='様式D-3_010'!AV5 -> 10 | C20: ='様式D-3_010'!AW5 -> 2.5 | D20: ='様式D-3_010'!AX5 -> Ⅱ | E20: ='様式D-3_010'!AY5 -> 0 | F20: ='様式D-3_010'!AZ5 -> 0 | G20: ='様式D-3_010'!BA5 -> 0 | H20: ='様式D-3_010'!BB5 -> 0 | I20: ='様式D-3_010'!BC5 -> 0 | ... AB20: ='様式D-3_010'!BV5 -> 31
B21: ='様式D-3_PE'!AV5 -> PE | C21: ='様式D-3_PE'!AW5 -> 0.6 | D21: ='様式D-3_PE'!AX5 -> Ⅱ | E21: ='様式D-3_PE'!AY5 -> 0 | F21: ='様式D-3_PE'!AZ5 -> 0 | G21: ='様式D-3_PE'!BA5 -> 0 | H21: ='様式D-3_PE'!BB5 -> 0 | I21: ='様式D-3_PE'!BC5 -> 0 | ... AB21: ='様式D-3_PE'!BV5 -> 1.632
B44: 計 | E44: =SUM(E10:E43) -> 0 | F44: =SUM(F10:F43) -> 0 | G44: =SUM(G10:G43) -> 0 | H44: =SUM(H10:H43) -> 0 | I44: =SUM(I10:I43) -> 0 | J44: =SUM(J10:J43) -> 0 | K44: =SUM(K10:K43) -> 23 | L44: =SUM(L10:L43) -> 16 | ... AB44: =SUM(AB10:AB43) -> 322.784
G45: =G44+H44 -> 0 | K45: =K44+L44 -> 39 | O45: =O44+P44 -> 48
B46: 注１：外力は覆工スパン単位で診断するため、覆工スパンの中で最も評価の厳しい対策区分の判定の区分欄にのみスパン数1を、材質劣化、漏水はそれぞれの対策区分に変状数を記入すること。
B47: 注２：外力は覆工スパン単位で診断するため、覆工スパンの中で最も評価の厳しい対策区分の判定の区分欄にのみスパン長を記入すること。
B48: ※１：本様式は様式D‐3の集計結果を掲載すること。
B49: ※２：覆工スパン数が多い場合は、適時、表の行を増やしてトンネル毎に1枚のシートに収めること。
B50: ※３：本様式の集計結果に基づいて、様式Bのトンネル本体工における変状区分毎の対策区分の箇所を記載する。

Sheet 様式G
B2: ■定期点検記録様式 健全性の診断の区分に関する所見【様式G】 | U2: 施設ID | X2: 34.23956,131.11619
B3: フリガナ | E3: フカボリズイドウ | I3: 路線名 | L3: 大河内地吉線 | O3: 定期点検実施者 | R3: アジア航測株式会社 | U3: 定期点検年月日 | X3: 45926
B4: 名 称 | E4: 深堀隧道 | I4: 管理者名 | L4: 山口県下関土木建築事務所 | R4: 飯田 琢巳
B5: 道路トンネルの健全性の診断の区分の所見
B6: １．変状・異常の内容とそれが確認された部材・部位（客観的事実） ○圧ざ・ひび割れ ・覆工アーチのブロック積み覆工面に横断方向のひび割れ、一部縦断ひび割れが認められた。また、側壁部においても、鉛直方向のひび割れも広範囲に認められた。 ・補修履歴からは確認できないが、アーチ部の横断ひび割れについては、ひび割れ補修が講じられているものも確認された。 ○うき・はく離 ・坑門面壁、覆工アーチ部および側壁ひび割れ周辺に沿ったうき・はく離が生じていた。 ・ブロック積み覆工部においては、積層部材単体の表層がはく離を生じていた。一方、S005～S007のアーチ部天端では、ブロック積みの目地切れが広範囲に見受けられた。 ・側壁のコンクリート面においては、表層面が脆弱化し、比較的広範囲に渡りスケーリングを生じていた。 ○漏水 ・覆工アーチ部のひび割れ部および水平目地部において、滴水、にじみ程度の漏水が確認された。前回点検時と同様に、アーチ部全体に渡りブロック積み覆工目地部から遊離石灰の析出が多く認められた。 ○その他 ・平成１７年度に、照明設備が更新されている。アーチ天端に設置されている照明用電気配線のプルボックス蓋が欠損しており、取付ネジも全数において腐食していた。側壁右側に過去に供用していた配管パイプが破断したまま残置されている。 ２．変状等の原因（推定） ・深堀隧道は、1953年に供用開始されており、1950年代で木製支柱式支保工の過渡期に施工された矢板工法のトンネルである。 ・ブロック積み覆工面における横断方向のひび割れ、縦断方向のひび割れについては、構造的な弱点となる目地部において、発生していると思われる。また、側壁の鉛直方向に発生しているひび割れは、前回点検時からの進行性のひび割れは見受けられず、コンクリートの乾燥収縮等により発生しているものと推察される。 ・坑門面壁、ブロック積み覆工および側壁のひび割れ周辺のうき・はく離については、コンクリートブロック、側壁コンクリート面それぞれの表層面が脆弱化しスケーリングを生じることで、うきを認める。トンネル全面に渡り、遊離石灰の析出やひび割れからの漏水によりトンネル覆工面の表層で、乾湿繰り返し作用により脆弱化したものと推察される。 ・漏水については、降雨による背面水の増加やブロック積み覆工目地部の脆弱な水路、ひび割れ部を通じて発生していると推察される。 ３．施設の現状と次回定期点検まで及び将来における構造物の状態（推定） ○構造物としての安全性や安定の推定 ・深堀隧道は、山口県西部を流れる木屋川の上流域に位置する木屋川ダム堤体と豊田湖畔公園を結ぶ経路の標高130ｍの浸食が進んだ丘陵地に建設されている。地質は、中生代白亜紀の関門層群の泥岩・砂岩等の分布域である。 ・1950年代の木製支柱式支保工によると思われるブロック積み覆工トンネルであるが、人力での施工のため背面空洞の残存等が懸念される。施工年度は不明であるが、S001のアーチ天端に、補強プレートが設置されていた。土被りは、20ｍ程度と小さく、膨張性地山には該当せず、有害水も認められない。 ○予防保全の必要性や長寿命化の実現などの観点から経年的劣化に対する評価 ・施工年度は不明であるが、過去に補強プレートの設置、ひび割れ補修および目地材の充填補修が施されている。 ・ブロック積み覆工面に認めるひび割れ、うきおよび目地切れ等は、計画的な重点監視が必要である。また、漏水に起因する劣化進行の有無を定期的に確認する必要がある。 一方、アーチのひび割れやブロック積み覆工目地部から湧出する漏水については、経年により背面空洞を助長する原因になるため、継続的な監視が必要と考えられる。 ○道路利用者被害の発生の可能性 ・経年により、ブロック積み覆工面の目地切れの進行や、ブロック単体のスケーリング等の材質劣化によるうきの進行が、通行車両へのコンクリート片の剥落、飛散に繋がる可能性があるため計画的な措置が必要である。 ４．措置の必要性の判断に関わる事項 ・ブロック積み覆工の母材および側壁面のコンクリートのうき・はく離は計画的な措置が必要である。 ・ブロック積み覆工のひび割れ部および目地脆弱部から認められる漏水については、計画的な措置を講じる必要がある。 ・アーチ天端に設置されている照明用電気配線のプルボックス蓋の更新が必要である。 ５．その他、次回定期点検へ引き継ぐ事項等 ・ブロック積み覆工トンネルにおいては、目地の健全性と背面空洞の有無が耐力に影響するため、双方の要因の継続的な監視が重要となる。 ・ブロック積み覆工面および側壁コンクリート面において、表層劣化の進行やうきの進展の有無については、打音異常がないか入念に確認して継続的に把握すること。 ・降雨時の漏水量の確認をすること。

Sheet (参考)リスト
B4: 様式A～B
B5: トンネルの分類 | C5: トンネル工法 | D5: 自専道or一般道 | E5: 緊急輸送路 | F5: 代替路
B6: 陸上トンネル（掘進工法） | C6: 山岳トンネル工法（NATM） | D6: 自専道 | E6: 一次 | F6: 有
B7: 陸上トンネル（開削工法） | C7: 矢板工法 | D7: 一般道 | E7: 二次 | F7: 無
B8: 陸上トンネル（その他） | C8: 開削工法 | E8: 三次
B9: 水底トンネル（掘進工法） | C9: シールド工法 | E9: 市町村指定
B10: 水底トンネル（沈埋工法） | C10: その他 | E10: 指定なし
B11: 水底トンネル（開削工法） | C11: 不明
B12: 水底トンネル（その他）
B14: 様式C-1-1(本体工)、C-2、D-1-1、D-3
B15: 対象箇所 | C15: 部位区分 | D15: 変状区分 | E15: 変状種類 | F15: 対策区分 | G15: 健全性 | H15: 調査の要否 | I15: 措置の要否 | J15: 実施有無
B16: 覆工 | C16: アーチ（右側） | D16: 外力 | E16: 圧ざ、ひび割れ | F16: Ⅰ | G16: Ⅰ | H16: 要 | I16: 要監視 | J16: 未
B17: 坑門 | C17: アーチ（左側） | D17: 材質劣化 | E17: うき・はく離 | F17: Ⅱa | G17: Ⅱ | H17: 否 | I17: 要対策 | J17: 済
B18: 内装板 | C18: アーチ（天端） | D18: 漏水 | E18: 鋼材腐食 | F18: Ⅱb | G18: Ⅲ | I18: 否 | J18: 継続
B19: 天井板 | C19: アーチ（全周） | E19: 変形・移動 | F19: Ⅲ | G19: Ⅳ
B20: 路面 | C20: 側壁（右側） | E20: 沈下 | F20: Ⅳ | G20: －
B21: その他 | C21: 側壁（左側） | E21: 隆起 | F21: －
C22: 横断目地（右側） | E22: 巻厚の不足または減少、背面空洞
C23: 横断目地（左側） | E23: 補修・補強材の破損
C24: 横断目地（天端） | E24: 漏水
C25: 横断目地（全周） | E25: 滞水
C26: 水平打ち継ぎ目（右側） | E26: 土砂流出
C27: 水平打ち継ぎ目（左側） | E27: その他
C28: 面壁・妻壁等
C29: その他
C31: 面壁・妻壁等
C32: その他
C34: 側壁
C35: その他
C37: 車道側
C38: ダクト側
C39: その他
C41: 車道
C42: 歩道
C43: 監査歩路
... C47: その他
B50: 様式C-1-2（附属物）、D-1-2
B51: 施設の内訳 | C51: 対象箇所 | D51: 部位区分 | E51: 異常の種類 | F51: 異常判定区分 | G51: 実施有無
B52: 照明施設 | C52: 灯具 | D52: 附属物本体 | E52: 破断 | F52: ○ | G52: 未
B53: 換気施設 | C53: ケーブル本体 | D53: 取付部材 | E53: 緩み、脱落 | F53: × | G53: 済
B54: 非常用施設 | C54: ケーブル本体以外 | D54: ボルト・ナット，アンカー類 | E54: 亀裂 | G54: 継続
B55: その他施設 | E55: 腐食
C56: ジェットファン | E56: 変形，欠損
C57: VI計 | E57: がたつき
C58: CO計 | E58: その他
C59: 風向風速計
C60: その他
C62: 通話型通報設備
C63: 操作型通報設備
C64: 自動通報設備
C65: 非常警報設備
C66: 点 滅 灯
C67: 音信号発生器
C68: 消 火 器
C69: 消火栓設備
C70: 誘導表示施設
C71: 避難情報提供設備
... C83: その他
