Workbook
Name その他: '(参考)リスト'!$C$47
Name その他施設: '[1](参考)リスト'!#REF!
Name その他施設: '(参考)リスト'!$C$79:$C$83
Name 換気施設: '[1](参考)リスト'!#REF!
Name 換気施設: '(参考)リスト'!$C$56:$C$60
Name 坑門: '(参考)リスト'!$C$31:$C$32
Name 照明施設: '[1](参考)リスト'!#REF!
Name 照明施設: '(参考)リスト'!$C$52:$C$54
Name 対象箇所: [2]!テーブル1[対象箇所]
Name 天井板: '(参考)リスト'!$C$37:$C$39
Name 内装板: '(参考)リスト'!$C$34:$C$35
Name 非常用施設: '[1](参考)リスト'!#REF!
Name 非常用施設: '(参考)リスト'!$C$62:$C$77
Name 覆工: '(参考)リスト'!$C$16:$C$29
Name 路面: '(参考)リスト'!$C$41:$C$45

Sheet 点検様式作成フロー
A1: 点検様式作成フロ-
A3: 作成フロー図 | H3: 点検調書作成手順
H4: ①様式A-1～A-3（トンネル台帳）
H5: トンネル点検の実施にあたっては，現場点検作業に先行してトンネル情報を収集する。トンネル台帳（様式Ａ－1～様式Ａ－3）はトンネル完成後に作成され，維持管理の段階で引き継がれるが，関連資料等を確認したうえで，追加情報があれば必要に応じて追記することが望ましい。
H9: ②様式D-2-1、様式D-2-1´
H10: 現場点検作業を実施し，近接目視点検で確認した変状状況や補修履歴を忠実に変状展開図に転記する。
H12: ③様式D-1-1、様式D-1-2
H13: 変状展開図や撮影した写真等をもとに，対象トンネルの対策区分を決定し，対策区分がⅡ～Ⅳの変状および異常判定区分「×」を抽出し，写真台帳を作成する。
H16: ④様式B
H17: 写真台帳の作成と同時に，トンネルの構造を展開した位置図に変状写真位置を記録する。
H19: ⑤様式D-3
H20: 変状展開図ならびに写真台帳をもとに覆工スパンごとの変状展開図を作成し，変状発生状況をとりまとめる。
H22: ⑥様式E
H23: 近接目視または打音検査，触診ができていない箇所および近接目視によらない方法を講じた場所に対する調査結果を記録する。
... H33: すること。 ※各ファイルとも （参考）リスト のシートを付けて保存すること。

Sheet 変状面積算出方法
A1: 変状面積算出方法
A26: 注1）外力による変状：ひび割れや圧ざの場合は変状の寸法を記録する。
A27: 例）ひび割れ：長さ（L）×最大ひび割れ幅（t）を記録する。 変形，移動，沈下：数値的な記載が可能な場合のみ記載する。
A28: 注2）材料劣化による：打音異常
A29: 例）うき，はく離（閉合ひび割れ）：変状範囲を包括する寸法（L×W） うき，はく離（ひび割れ沿い）：打音異常箇所を包括する寸法（L×W） 鋼材腐食（鉄筋腐食）：一括した対策が適当と考えられる範囲を包括する寸法（L×W）
A30: 注3）漏水による変状：漏水発生範囲を包括し，垂れ下がりの可能性がある側壁下端まで含めた寸法を，L×Wで記録する。打継ぎ目地沿いの 漏水については目地を跨いだ50cm幅を横幅とする。

Sheet 記入の留意点
B2: トンネルDBでは、Excelに記載された文字や数値・配置された画像を自動的に読込みデータベースへ登録します。
B3: 記録様式へ記入の留意点を下記に示します。
B5: １．記録様式への記入
C6: ➤各セルに表示されるコメントに従って、様式A-1～様式Gのシートに、点検結果（テキスト入力、選択項目）を入力してください。
C7: ➤位置図(様式B)、変状写真(様式D-1-1)、異常写真(様式D-1-2)は記入した変状写真番号等に対応した画像を間違いないように貼り付けてください。
C8: ➤列や行の挿入削除は行わず、セルの位置がずれないようにしてください。データベースへ読み取り時にずれて取り込まれてしまいます。
B11: ２．画像ファイルの配置の注意点
C12: 登録に使用可能な画像ファイルの拡張子は「jpg」「jpeg」「png」の3種類のみです。
C13: 必ず、１か所に画像１枚のみを張り付けてください。エクセルの図形などのオブジェクトは使用しないでください。
C14: 張り付けた画像はエクセルのトリミング機能を使用しないでください。あらかじめ切り抜いた画像を利用してください。
C15: ※１ 画像の左上を必ずセルの内部に含め、はみ出ないようにしてください。
C16: ※２ 図の書式設定で「セルに合わせて移動やサイズを変更しない」のモードを使用しないでください。
C32: ※３ 「挿入」→「画像」→「セルの上に配置」してください。
B41: ３．シート名の連番について
C42: １ページに記載しきれない場合は、１シート内にページを増やすのではなくシート自体をコピーしシート名の末尾を連番にしてください。
C43: 対象様式
C44: 様式B
C45: 様式D-1-1
C46: 様式D-1-2
C47: 様式D-2-1
C48: 様式D-2-1´
C49: 様式D-3_S00 ※スパン名を記載
C50: 様式G
C52: 末尾の連番の形式例
C53: 様式B(1) 様式B(2) 様式B(3)
C54: 様式B_001 様式B_002 様式B_003
... C61: で示される要領を制限するものではありません。

Sheet 様式A-1
B2: ■トンネル台帳 トンネル諸元、非常用施設諸元 【様式A-1】 | S2: 施設ID | W2: 34.25614,130.89992
B3: フリガナ | D3: ツバシキズイドウ | H3: 路線名 | J3: 国道191号 | P3: 管理者名 | R3: 山口県下関土木建築事務所 | W3: 緊急輸送道路 | Z3: 一次
B4: 名 称 | D4: 津波敷隧道 | W4: 代替路の有無 | Z4: 無
B5: 所在地 | D5: 自 | E5: 山口県下関市豊北町大字神田上 | H5: 作成者 | K5: アジア航測株式会社 飯田 琢巳 | P5: 作成年月日 | R5: 46080 | U5: トンネル延長 | X5: L= | Z5: 183.1 | AB5: ｍ
D6: 至 | E6: 山口県下関市豊北町大字神田上 | U6: ﾄﾝﾈﾙの分類 | X6: 陸上トンネル（掘進工法）
B7: 起点 | C7: 緯度 | E7: 34.25614 | H7: 完成年月日 | K7: 昭和53年 | M7: 舗装 | O7: 種 別 | Q7: コンクリート系 | S7: トンネル非常用施設 | T7: 施設の内訳 | X7: 種別・方式 | Y7: 型式 | Z7: 個数 | AA7: 更新年度
C8: 経度 | E8: 130.89992 | H8: 供用年月日 | K8: - | O8: 厚 さ | Q8: - | T8: 通報設備 | U8: 通話型通報設備
B9: 終点 | C9: 緯度 | E9: 34.25777 | H9: トンネル区分 | K9: D | O9: 面 積 | Q9: 1464.8㎡ | U9: 操作型通報設備
C10: 経度 | E10: 130.89964 | H10: 内装種類 | K10: 覆工（内装なし） | O10: 更新年次 | Q10: - | U10: 自動通報設備
B11: 一般有料区分 | E11: 一般(無料) | H11: 天井板種類 | K11: 覆工（内装なし） | M11: 排水 | O11: 種 別 | Q11: U型 | T11: 警報設備 | U11: 非常警報設備
B12: 土かぶり | E12: - | G12: m | H12: 坑門 | I12: 起点 | J12: 形式 | K12: 面壁型 | O12: 更新年次 | Q12: - | T12: 消火設備 | U12: 消 火 器
B13: 内空断面積 | E13: 44.936 | G13: ㎡ | J13: 延長 | K13: 0 | L13: m | M13: 施設 | P13: 種別・方式 | Q13: 個数 | R13: 更新年次 | U13: 消火栓設備
B14: 交 通 量 | E14: 3484 | G14: 台/日 | I14: 終点 | J14: 形式 | K14: 面壁型 | M14: 道路附属物等 | N14: 照明 | P14: ナトリウム灯 | Q14: 41 | R14: - | T14: 避難誘導設備 | U14: 誘導表示設備
C15: 道 路 幅 | E15: 8.1 | G15: m | J15: 延長 | K15: 0 | L15: m | N15: 換気 | P15: 自然換気 | Q15: - | R15: - | U15: 避難情報提供設備
B16: 幅 員 | C16: 車 道 幅 | E16: 6.5 | G16: m | H16: 竣工巻厚 | I16: アーチ | K16: 60 | L16: cm | N16: 標識 | P16: - | Q16: - | R16: -
E17: - | G17: m | I17: 側 壁 | K17: 60 | L17: cm | N17: 警報表示板 | P17: - | Q17: - | R17: - | U17: 避難通路
C18: 歩道等幅 | E18: 1.62 | G18: m | K18: - | L18: cm | N18: 吸音板 | P18: - | Q18: - | R18: - | U18: 排煙設備
B19: 高さ | C19: 建築限界高 | E19: 4.5 | G19: m | I19: インバート | K19: 50 | L19: cm | T19: その他の設備 | U19: 給水栓設備
C20: 中央高 | E20: 6 | G20: m | H20: 半径 | I20: アーチ | K20: 430 | L20: cm | U20: 無線通信補助設備
C21: 有効高 | E21: 4.9 | G21: m | I21: 側 壁 | K21: 430 | L21: cm | U21: 水噴霧設備
C22: 縦断勾配 | E22: - | I22: インバート | K22: 1387 | L22: cm | U22: 監視設備
B23: 線 形 | C23: 直線区間長 | E23: - | H23: 占用物件 | I23: 種 類 | K23: 寸 法 | M23: 管理者名 | Q23: 更新年次 | S23: 非常用施設 関連設備 | U23: 予備発電設備
C24: 曲線区間 | D24: 区間長 | F24: -
D25: 起点側ｸﾛｿｲﾄﾞ | F25: -
D26: 曲線半径 | F26: -
D27: 終点側ｸﾛｿｲﾄﾞ | F27: - | S27: その他 | U27: 非常駐車帯
B28: トンネル工法 | E28: 矢板工法 | U28: 方向転換所
C29: ※緯度・経度については、秒の小数第二位の単位まで記入すること。

Sheet 様式A-2
B3: ■トンネル台帳 トンネル情報一覧表 【様式A-2】
B4: フリガナ | E4: ツバシキズイドウ | J4: 路線名 | M4: 国道191号 | S4: 作成者 | Y4: アジア航測株式会社 飯田 琢巳 | AE4: 作成年月日 | AI4: 46080
B5: 名 称 | E5: 津波敷隧道 | J5: 管理者名 | M5: 山口県下関土木建築事務所
B6: 覆工 ｽﾊﾟﾝ 番号 | C6: ｽﾊﾟﾝ長 | D6: 追加距離 | F6: トンネル本体工 | K6: 照明施設 | O6: 非常用施設 | AE6: 換気施設 | AK6: その他附属物等
O7: 通報設備 | R7: 警報設備 | S7: 消火設備 | U7: 避難誘導設備 | Y7: その他の設備 | AC7: 特記事項
D8: 起点側 | E8: 終点側 | F8: 特記事項 | I8: 内装板 | J8: 天井板 | K8: 基本照明 | L8: 入口出口照明 | M8: 特記事項 | O8: 通話型通報設備 | P8: 操作型通報設備 | Q8: 自動通報設備 | R8: 非常警報設備 | S8: 消 火 器 | T8: 消火栓設備 | U8: 誘導表示設備 | V8: 避難情報提供設備 | W8: 避難通路 | X8: 排煙設備 | Y8: 給水栓設備 | Z8: 無線通信補助設備 | AA8: 水噴霧設備 | AB8: 監視設備 | AE8: JF | AF8: VI計 | AG8: CO計 | AH8: 風向 風速計 | AI8: 特記事項
C9: (m) | D9: (m) | E9: (m)
B10: PS | C10: 0.0 | D10: 0.0 | E10: 0.0 | F10: 坑門(面壁型)
B11: 1 | C11: 9 | D11: 0.0 | E11: 9 | L11: ○
B12: 2 | C12: 9 | D12: 9 | E12: 18 | K12: ○
B13: 3 | C13: 9 | D13: 18 | E13: 27.1 | K13: ○ | L13: ○
B14: 4 | C14: 8.6 | D14: 27.1 | E14: 35.7 | K14: ○
B15: 5 | C15: 9 | D15: 35.7 | E15: 44.7 | K15: ○
B16: 6 | C16: 9.1 | D16: 44.7 | E16: 53.8 | K16: ○ | L16: ○
B17: 7 | C17: 9 | D17: 53.8 | E17: 62.8
B18: 8 | C18: 8.6 | D18: 62.8 | E18: 71.4 | K18: ○ | L18: ○
B19: 9 | C19: 9 | D19: 71.4 | E19: 80.4 | K19: ○
B20: 10 | C20: 9 | D20: 80.4 | E20: 89.4 | K20: ○
B21: 11 | C21: 9 | D21: 89.4 | E21: 98.4 | K21: ○ | L21: ○
B22: 12 | C22: 8.7 | D22: 98.4 | E22: 107.1 | K22: ○
B23: 13 | C23: 9 | D23: 107.1 | E23: 116.1 | L23: ○
B24: 14 | C24: 9.8 | D24: 116.1 | E24: 124.8 | K24: ○
B25: 15 | C25: 9 | D25: 124.8 | E25: 133.8 | K25: ○
B26: 16 | C26: 8.9 | D26: 133.8 | E26: 142.7 | K26: ○ | L26: ○
B27: 17 | C27: 8.9 | D27: 142.7 | E27: 151.6 | K27: ○
B28: 18 | C28: 9 | D28: 151.6 | E28: 160.6 | L28: ○
B29: 19 | C29: 9 | D29: 160.6 | E29: 169.6 | K29: ○
B30: 20 | C30: 8.8 | D30: 169.6 | E30: 178.4 | K30: ○
B31: 21 | C31: 4.2 | D31: 178.4 | E31: 182.6 | L31: ○
B32: PE | C32: 0.0 | D32: 182.6 | E32: 182.6 | F32: 坑門(面壁型)
B45: ※ 行が不足する場合は、適時、表の行を増やすこと。

Sheet 様式A-3
B3: ■トンネル台帳 トンネル記録（位置図、断面図、施工実績他）【様式A-3】
B4: フリガナ | E4: ツバシキズイドウ | J4: 路線名 | M4: 国道191号 | S4: 作成者 | W4: アジア航測株式会社 飯田 琢巳 | AC4: 作成年月日 | AF4: 46080
B5: 名 称 | E5: 津波敷隧道 | J5: 管理者名 | M5: 山口県下関土木建築事務所
B6: 位置図・現況写真・標準断面図・地質縦断図・施工実績

Sheet 様式A-3 (2)
B3: ■トンネル台帳 トンネル記録（位置図、断面図、施工実績他）【様式A-3】
B4: フリガナ | E4: ='様式A-1'!D3 -> ツバシキズイドウ | J4: 路線名 | M4: ='様式A-1'!J3 -> 国道191号 | S4: 作成者 | W4: ='様式A-1'!K5 -> アジア航測株式会社 飯田 琢巳 | AC4: 作成年月日 | AF4: ='様式A-1'!R5 -> 46080
B5: 名 称 | E5: ='様式A-1'!D4 -> 津波敷隧道 | J5: 管理者名 | M5: ='様式A-1'!R3 -> 山口県下関土木建築事務所
B6: 位置図・現況写真・標準断面図・地質縦断図・施工実績

Sheet 様式B (1)
B2: ■定期点検記録様式 トンネル変状・異常箇所写真位置図 【様式B】 | N2: 定期点検年月日 | P2: 45919 | S2: 施設ID | V2: 34.25614,130.89992
B3: フリガナ | C3: ツバシキズイドウ | G3: 路線名 | H3: 国道191号 | K3: 管理者名 | L3: 山口県下関土木建築事務所 | Q3: 定期点検実施者 | S3: アジア航測株式会社 | V3: 起点 | W3: 緯度 | X3: 34.25614
B4: 名 称 | C4: 津波敷隧道 | S4: 飯田 琢巳 | W4: 経度 | X4: 130.89992
B5: 所在地 | C5: 自 | D5: 山口県下関市豊北町大字神田上 | G5: トンネル工法 | I5: 矢板工法 | L5: トンネル延長 | N5: L= | O5: 183.1 | P5: ｍ | Q5: 自専道 or 一般道 | R5: 一般道 | S5: 代替路の有無 | U5: 無 | V5: 終点 | W5: 緯度 | X5: 34.25777
C6: 至 | D6: 山口県下関市豊北町大字神田上 | G6: 建設年度 | I6: 昭和53年 | L6: 幅員 | N6: L= | O6: 8.1 | P6: ｍ | S6: 緊急輸送道路 | U6: 一次 | W6: 経度 | X6: 130.89964
B7: トンネル毎 の健全性の 診断の区分 | D7: Ⅲ
G8: 変状・異常 箇所数合計 | I8: トンネル本体工 | J8: 材質劣化 | K8: Ⅱ | L8: 101 | N8: Ⅲ | O8: 1 | Q8: Ⅳ | R8: 0 | T8: 附属物等 の取付状態 | V8: ◯ （応急措置後) | X8: 0
J9: 漏水 | K9: Ⅱ | L9: 13 | N9: Ⅲ | O9: 0 | Q9: Ⅳ | R9: 0
V10: ✕ | X10: 48
J11: 外力 | K11: Ⅱ | L11: 1 | N11: Ⅲ | O11: 0 | Q11: Ⅳ | R11: 0
B12: トンネル変状・異常箇所写真位置図
J29: 注１：本位置図は、見下げた状態で記載すること。 注２：覆工スパン番号は横断目地毎(矢板工法の場合は上半アーチの 横断目地毎)に設定すること。 | Q29: 注３：写真番号に付する変状番号は、各覆工スパンの変状に対して新たに確認された場合 は順次追加していくこと。 注４：横断目地の変状は前の覆工スパン番号で計上すること。 注５：１枚に収まらない場合は、複数枚に分けて作成すること。
C30: ※1 トンネル本体工の変状数は、材質劣化、漏水に起因するものは変状単位で、外力に起因するものはスパン単位で計上すること。
C31: ※2 トンネル本体工の変状に対しては、措置の必要性（Ⅱ～Ⅳ）について表記すること。また、点検前に実施された措置によりⅠと判定された箇所についても記載すること。
C32: ※3 附属物等の取付状態の○欄については、応急措置前に判定区分×とした箇所のうち応急措置により○判定とした箇所の数を記入すること。
C33: ※4 附属物等の異常番号は、本体工と番号が重複しないよう101番以降とする等の配慮を行い、分かりやすく記録すること。

Sheet 様式B (2)
B2: ■定期点検記録様式 トンネル変状・異常箇所写真位置図 【様式B】 | N2: 定期点検年月日 | P2: 45919 | S2: 施設ID | V2: 34.25614,130.89992
B3: フリガナ | C3: ツバシキズイドウ | G3: 路線名 | H3: 国道191号 | K3: 管理者名 | L3: 山口県下関土木建築事務所 | Q3: 定期点検実施者 | S3: アジア航測株式会社 | V3: 起点 | W3: 緯度 | X3: 34.25614
B4: 名 称 | C4: 津波敷隧道 | S4: 飯田 琢巳 | W4: 経度 | X4: 130.89992
B5: 所在地 | C5: 自 | D5: 山口県下関市豊北町大字神田上 | G5: トンネル工法 | I5: 矢板工法 | L5: トンネル延長 | N5: L= | O5: 183.1 | P5: ｍ | Q5: 自専道 or 一般道 | R5: 一般道 | S5: 代替路の有無 | U5: 無 | V5: 終点 | W5: 緯度 | X5: 34.25777
C6: 至 | D6: 山口県下関市豊北町大字神田上 | G6: 建設年度 | I6: 昭和53年 | L6: 幅員 | N6: L= | O6: 8.1 | P6: ｍ | S6: 緊急輸送道路 | U6: 一次 | W6: 経度 | X6: 130.89964
B7: トンネル毎 の健全性の 診断の区分 | D7: Ⅲ
G8: 変状・異常 箇所数合計 | I8: トンネル本体工 | J8: 材質劣化 | K8: Ⅱ | L8: 101 | N8: Ⅲ | O8: 1 | Q8: Ⅳ | R8: 0 | T8: 附属物等 の取付状態 | V8: ◯ （応急措置後) | X8: 0
J9: 漏水 | K9: Ⅱ | L9: 13 | N9: Ⅲ | O9: 0 | Q9: Ⅳ | R9: 0
V10: ✕ | X10: 48
J11: 外力 | K11: Ⅱ | L11: 1 | N11: Ⅲ | O11: 0 | Q11: Ⅳ | R11: 0
B12: トンネル変状・異常箇所写真位置図
J29: 注１：本位置図は、見下げた状態で記載すること。 注２：覆工スパン番号は横断目地毎(矢板工法の場合は上半アーチの 横断目地毎)に設定すること。 | Q29: 注３：写真番号に付する変状番号は、各覆工スパンの変状に対して新たに確認された場合 は順次追加していくこと。 注４：横断目地の変状は前の覆工スパン番号で計上すること。 注５：１枚に収まらない場合は、複数枚に分けて作成すること。
C30: ※1 トンネル本体工の変状数は、材質劣化、漏水に起因するものは変状単位で、外力に起因するものはスパン単位で計上すること。
C31: ※2 トンネル本体工の変状に対しては、措置の必要性（Ⅱ～Ⅳ）について表記すること。また、点検前に実施された措置によりⅠと判定された箇所についても記載すること。
C32: ※3 附属物等の取付状態の○欄については、応急措置前に判定区分×とした箇所のうち応急措置により○判定とした箇所の数を記入すること。
C33: ※4 附属物等の異常番号は、本体工と番号が重複しないよう101番以降とする等の配慮を行い、分かりやすく記録すること。

Sheet 様式B (3)
B2: ■定期点検記録様式 トンネル変状・異常箇所写真位置図 【様式B】 | N2: 定期点検年月日 | P2: 45919 | S2: 施設ID | V2: 34.25614,130.89992
B3: フリガナ | C3: ツバシキズイドウ | G3: 路線名 | H3: 国道191号 | K3: 管理者名 | L3: 山口県下関土木建築事務所 | Q3: 定期点検実施者 | S3: アジア航測株式会社 | V3: 起点 | W3: 緯度 | X3: 34.25614
B4: 名 称 | C4: 津波敷隧道 | S4: 飯田 琢巳 | W4: 経度 | X4: 130.89992
B5: 所在地 | C5: 自 | D5: 山口県下関市豊北町大字神田上 | G5: トンネル工法 | I5: 矢板工法 | L5: トンネル延長 | N5: L= | O5: 183.1 | P5: ｍ | Q5: 自専道 or 一般道 | R5: 一般道 | S5: 代替路の有無 | U5: 無 | V5: 終点 | W5: 緯度 | X5: 34.25777
C6: 至 | D6: 山口県下関市豊北町大字神田上 | G6: 建設年度 | I6: 昭和53年 | L6: 幅員 | N6: L= | O6: 8.1 | P6: ｍ | S6: 緊急輸送道路 | U6: 一次 | W6: 経度 | X6: 130.89964
B7: トンネル毎 の健全性の 診断の区分 | D7: Ⅲ
G8: 変状・異常 箇所数合計 | I8: トンネル本体工 | J8: 材質劣化 | K8: Ⅱ | L8: 101 | N8: Ⅲ | O8: 1 | Q8: Ⅳ | R8: 0 | T8: 附属物等 の取付状態 | V8: ◯ （応急措置後) | X8: 0
J9: 漏水 | K9: Ⅱ | L9: 13 | N9: Ⅲ | O9: 0 | Q9: Ⅳ | R9: 0
V10: ✕ | X10: 48
J11: 外力 | K11: Ⅱ | L11: 1 | N11: Ⅲ | O11: 0 | Q11: Ⅳ | R11: 0
B12: トンネル変状・異常箇所写真位置図
J29: 注１：本位置図は、見下げた状態で記載すること。 注２：覆工スパン番号は横断目地毎(矢板工法の場合は上半アーチの 横断目地毎)に設定すること。 | Q29: 注３：写真番号に付する変状番号は、各覆工スパンの変状に対して新たに確認された場合 は順次追加していくこと。 注４：横断目地の変状は前の覆工スパン番号で計上すること。 注５：１枚に収まらない場合は、複数枚に分けて作成すること。
C30: ※1 トンネル本体工の変状数は、材質劣化、漏水に起因するものは変状単位で、外力に起因するものはスパン単位で計上すること。
C31: ※2 トンネル本体工の変状に対しては、措置の必要性（Ⅱ～Ⅳ）について表記すること。また、点検前に実施された措置によりⅠと判定された箇所についても記載すること。
C32: ※3 附属物等の取付状態の○欄については、応急措置前に判定区分×とした箇所のうち応急措置により○判定とした箇所の数を記入すること。
C33: ※4 附属物等の異常番号は、本体工と番号が重複しないよう101番以降とする等の配慮を行い、分かりやすく記録すること。

Sheet 様式B (4)
B2: ■定期点検記録様式 トンネル変状・異常箇所写真位置図 【様式B】 | N2: 定期点検年月日 | P2: 45919 | S2: 施設ID | V2: 34.25614,130.89992
B3: フリガナ | C3: ツバシキズイドウ | G3: 路線名 | H3: 国道191号 | K3: 管理者名 | L3: 山口県下関土木建築事務所 | Q3: 定期点検実施者 | S3: アジア航測株式会社 | V3: 起点 | W3: 緯度 | X3: 34.25614
B4: 名 称 | C4: 津波敷隧道 | S4: 飯田 琢巳 | W4: 経度 | X4: 130.89992
B5: 所在地 | C5: 自 | D5: 山口県下関市豊北町大字神田上 | G5: トンネル工法 | I5: 矢板工法 | L5: トンネル延長 | N5: L= | O5: 183.1 | P5: ｍ | Q5: 自専道 or 一般道 | R5: 一般道 | S5: 代替路の有無 | U5: 無 | V5: 終点 | W5: 緯度 | X5: 34.25777
C6: 至 | D6: 山口県下関市豊北町大字神田上 | G6: 建設年度 | I6: 昭和53年 | L6: 幅員 | N6: L= | O6: 8.1 | P6: ｍ | S6: 緊急輸送道路 | U6: 一次 | W6: 経度 | X6: 130.89964
B7: トンネル毎 の健全性の 診断の区分 | D7: Ⅲ
G8: 変状・異常 箇所数合計 | I8: トンネル本体工 | J8: 材質劣化 | K8: Ⅱ | L8: 101 | N8: Ⅲ | O8: 1 | Q8: Ⅳ | R8: 0 | T8: 附属物等 の取付状態 | V8: ◯ （応急措置後) | X8: 0
J9: 漏水 | K9: Ⅱ | L9: 13 | N9: Ⅲ | O9: 0 | Q9: Ⅳ | R9: 0
V10: ✕ | X10: 48
J11: 外力 | K11: Ⅱ | L11: 1 | N11: Ⅲ | O11: 0 | Q11: Ⅳ | R11: 0
B12: トンネル変状・異常箇所写真位置図
J29: 注１：本位置図は、見下げた状態で記載すること。 注２：覆工スパン番号は横断目地毎(矢板工法の場合は上半アーチの 横断目地毎)に設定すること。 | Q29: 注３：写真番号に付する変状番号は、各覆工スパンの変状に対して新たに確認された場合 は順次追加していくこと。 注４：横断目地の変状は前の覆工スパン番号で計上すること。 注５：１枚に収まらない場合は、複数枚に分けて作成すること。
C30: ※1 トンネル本体工の変状数は、材質劣化、漏水に起因するものは変状単位で、外力に起因するものはスパン単位で計上すること。
C31: ※2 トンネル本体工の変状に対しては、措置の必要性（Ⅱ～Ⅳ）について表記すること。また、点検前に実施された措置によりⅠと判定された箇所についても記載すること。
C32: ※3 附属物等の取付状態の○欄については、応急措置前に判定区分×とした箇所のうち応急措置により○判定とした箇所の数を記入すること。
C33: ※4 附属物等の異常番号は、本体工と番号が重複しないよう101番以降とする等の配慮を行い、分かりやすく記録すること。

Sheet 様式C-1-1 (1)
B2: ■定期点検記録様式 全スパン定期点検結果総括表（トンネル本体工） 【様式C-1-1】
B3: フリガナ | F3: ツバシキズイドウ | I3: 路線名 | K3: 国道191号 | O3: 定期点検実施者 | P3: アジア航測株式会社 | T3: 定期点検年月日 | X3: 45919
B4: 名 称 | F4: 津波敷隧道 | I4: 管理者名 | K4: 山口県下関土木建築事務所 | P4: 飯田 琢巳
B5: 定期点検結果 | C5: 覆工 スパン 番号 | E5: 変状 番号 | F5: 距離 （m） | G5: 変状部位 | I5: 変 状 の 内 容 | O5: 前回定期点検時の状態 | P5: 今回定期点検結果 | T5: 措置履歴 | Y5: 対応方針 ・ 特記事項
O6: 44228
G7: 対象箇所 | H7: 部位区分 | I7: 変状区分 | J7: 変状種類 | M7: 変状の発生範囲の規模 | N7: 前回定期点検時の変状の発生範囲及び規模 | O7: 対策区分 | P7: 対策区分 | R7: 調査の 要否 | S7: 措置の 要否 | T7: 実施 | U7: 措置の実施状況
P8: 応急措置前 | Q8: 応急措置後
C9: PS | E9: 1 | F9: 0 | G9: 覆工 | H9: 面壁・妻壁等 | I9: 材質劣化 | J9: その他 | M9: 0.1m×4.7m | N9: W=10.0mm×L=4.7m | O9: Ⅱa | P9: - | Q9: Ⅰ | R9: 否 | S9: 否 | T9: 済
C10: PS | E10: 2 | F10: 0 | G10: 覆工 | H10: 面壁・妻壁等 | I10: 材質劣化 | J10: その他 | M10: 0.1m×1.0m | N10: W=5.0mm×L=1.0m | O10: Ⅱb | P10: - | Q10: Ⅰ | R10: 否 | S10: 否 | T10: 済
C11: PS | E11: 3 | F11: 0 | G11: 覆工 | H11: 面壁・妻壁等 | I11: 材質劣化 | J11: うき・はく離 | M11: 0.1m×0.5m | N11: 0.1m×0.5m | O11: Ⅲ | P11: - | Q11: Ⅱa | R11: 否 | S11: 要監視 | T11: 継続 | U11: 監視(重点) | Y11: 判定見直し
C12: PS | E12: 4 | F12: 0 | G12: 覆工 | H12: 面壁・妻壁等 | I12: 材質劣化 | J12: その他 | M12: 0.1m×0.9m | N12: W=5.0mm×L=0.9m | O12: Ⅱa | P12: - | Q12: Ⅰ | R12: 否 | S12: 否 | T12: 済
C13: PS | E13: 5 | F13: 0 | G13: 覆工 | H13: 面壁・妻壁等 | I13: 材質劣化 | J13: その他 | M13: 0.1m×3.7m | N13: W=1.0mm×L=3.7m | O13: Ⅱb | P13: - | Q13: Ⅰ | R13: 否 | S13: 否 | T13: 済
C14: PS | E14: 6 | F14: 0 | G14: 覆工 | H14: 面壁・妻壁等 | I14: 材質劣化 | J14: その他 | M14: 0.1m×6.2m | N14: W=30.0mm×L=6.2m | O14: Ⅲ | P14: - | Q14: Ⅰ | R14: 否 | S14: 否 | T14: 済
C15: PS | E15: 7 | F15: 0 | G15: 覆工 | H15: 面壁・妻壁等 | I15: 材質劣化 | J15: その他 | M15: 0.1m×2.0m | N15: W=3.0mm×L=2.0m | O15: Ⅱb | P15: - | Q15: Ⅰ | R15: 否 | S15: 否 | T15: 済
C16: PS | E16: 8 | F16: 0 | G16: 覆工 | H16: 面壁・妻壁等 | I16: 材質劣化 | J16: その他 | M16: 0.1m×1.5m | N16: W=1.5mm×L=1.5m | O16: Ⅱb | P16: - | Q16: Ⅰ | R16: 否 | S16: 否 | T16: 済
C17: PS | E17: 9 | F17: 0 | G17: 覆工 | H17: 面壁・妻壁等 | I17: 材質劣化 | J17: その他 | M17: - | N17: 0.1m×3.2m | O17: Ⅱb | P17: - | Q17: Ⅰ | R17: 否 | S17: 否 | T17: 未 | Y17: 判定見直し
C18: PS | E18: 10 | F18: 0 | G18: 覆工 | H18: 面壁・妻壁等 | I18: 材質劣化 | J18: その他 | M18: 1.6m×1.7m | N18: 0.8m×1.0m | O18: Ⅲ | P18: - | Q18: Ⅰ | R18: 否 | S18: 否 | T18: 済
C19: PS | E19: 11 | F19: 0 | G19: 覆工 | H19: 面壁・妻壁等 | I19: 材質劣化 | J19: その他 | M19: 0.1m×1.2m | N19: W=0.85mm×L=1.2m | O19: Ⅱb | P19: - | Q19: Ⅰ | R19: 否 | S19: 否 | T19: 済
C20: PS | E20: 12 | F20: 0 | G20: 覆工 | H20: 面壁・妻壁等 | I20: 材質劣化 | J20: その他 | M20: 0.1m×0.7m | N20: W=1.5mm×L=0.7m | O20: Ⅱb | P20: - | Q20: Ⅰ | R20: 否 | S20: 否 | T20: 済
C21: PS | E21: 13 | F21: 0 | G21: 覆工 | H21: 面壁・妻壁等 | I21: 材質劣化 | J21: うき・はく離 | M21: 1.2m×0.05m | N21: - | O21: - | P21: - | Q21: Ⅱa | R21: 否 | S21: 要監視 | T21: 未 | U21: -
C22: PS | E22: 14 | F22: 0 | G22: 覆工 | H22: 面壁・妻壁等 | I22: 材質劣化 | J22: うき・はく離 | M22: 0.9m×0.05m | N22: - | O22: - | P22: - | Q22: Ⅱa | R22: 否 | S22: 要監視 | T22: 未 | U22: -
C23: PS | E23: 15 | F23: 0 | G23: 覆工 | H23: 面壁・妻壁等 | I23: 材質劣化 | J23: うき・はく離 | M23: 0.05m×0.3m | N23: - | O23: - | P23: - | Q23: Ⅱa | R23: 否 | S23: 要監視 | T23: 未 | U23: -
C24: PS | E24: 16 | F24: 0 | G24: 覆工 | H24: 面壁・妻壁等 | I24: 材質劣化 | J24: 圧ざ、ひび割れ | M24: W=10.0mm×L=0.8m | N24: - | O24: - | P24: - | Q24: Ⅱa | R24: 否 | S24: 要監視 | T24: 未 | U24: -
C25: PS | E25: 17 | F25: 0 | G25: 覆工 | H25: 面壁・妻壁等 | I25: 材質劣化 | J25: 圧ざ、ひび割れ | M25: W=10.0mm×L=1.0m | N25: - | O25: - | P25: - | Q25: Ⅱa | R25: 否 | S25: 要監視 | T25: 未 | U25: -
C26: 1 | E26: 1 | F26: 0.12 | G26: 覆工 | H26: 側壁（左側） | I26: 材質劣化 | J26: その他 | M26: 漏水防止工 | N26: 補修済 漏水防止工 | O26: Ⅰ | P26: - | Q26: Ⅰ | R26: 否 | S26: 否 | T26: 済
C27: 1 | E27: 2 | F27: 1.02 | G27: 覆工 | H27: アーチ（左側） | I27: 材質劣化 | J27: うき・はく離 | M27: 0.6m×0.3m | N27: 0.1m×0.2m | O27: Ⅱb | P27: - | Q27: Ⅱa | R27: 否 | S27: 要監視 | T27: 継続 | U27: 監視(重点) | Y27: 寸法変更、判定見直し
C28: 1 | E28: 3 | F28: 0.11 | G28: 覆工 | H28: アーチ（左側） | I28: 材質劣化 | J28: 圧ざ、ひび割れ | M28: W=0.4mm×L=0.5m | N28: W=0.4mm×L=0.5m | O28: Ⅱb | P28: - | Q28: Ⅱb | R28: 否 | S28: 要監視 | T28: 継続 | U28: 監視(日常)
C29: 1 | E29: 4 | F29: 0.55 | G29: 覆工 | H29: アーチ（左側） | I29: 材質劣化 | J29: うき・はく離 | M29: 0.2m×0.2m | N29: 0.2m×0.2m | O29: Ⅲ | P29: - | Q29: Ⅱa | R29: 否 | S29: 要監視 | T29: 継続 | U29: 監視(重点) | Y29: 判定見直し
C30: 1 | E30: 5 | F30: 3.66 | G30: 覆工 | H30: アーチ（左側） | I30: 漏水 | J30: 漏水 | M30: 7.9m×0.5m | N30: 10.0m×0.7m | O30: Ⅱb | P30: - | Q30: Ⅱa | R30: 否 | S30: 要監視 | T30: 継続 | U30: 監視(重点) | Y30: 寸法変更、判定見直し
C31: 1 | E31: 6 | F31: 6.04 | G31: 覆工 | H31: アーチ（天端） | I31: 材質劣化 | J31: 圧ざ、ひび割れ | M31: W=1.0mm×L=3.0m | N31: W=1.0mm×L=1.8m | O31: Ⅱb | P31: - | Q31: Ⅱb | R31: 否 | S31: 要監視 | T31: 継続 | U31: 監視(日常) | Y31: 寸法変更
C32: 1 | E32: 7 | F32: 2.73 | G32: 覆工 | H32: アーチ（天端） | I32: 材質劣化 | J32: その他 | M32: 漏水防止工 | N32: 補修済 漏水防止工 | O32: Ⅰ | P32: - | Q32: Ⅰ | R32: 否 | S32: 否 | T32: 済
C33: 1 | E33: 8 | F33: 0.46 | G33: 覆工 | H33: 側壁（右側） | I33: 材質劣化 | J33: うき・はく離 | M33: 0.1m×1.3m | N33: 0.1m×0.8m | O33: Ⅱb | P33: - | Q33: Ⅱb | R33: 否 | S33: 要監視 | T33: 継続 | U33: 監視(日常) | Y33: 寸法変更
C34: 1 | E34: 9 | F34: 1.26 | G34: 覆工 | H34: 側壁（右側） | I34: 材質劣化 | J34: その他 | M34: 漏水防止工 | N34: 補修済 漏水防止工 | O34: Ⅰ | P34: - | Q34: Ⅰ | R34: 否 | S34: 否 | T34: 済
C35: 1 | E35: 10 | F35: 8.39 | G35: 覆工 | H35: 側壁（右側） | I35: 材質劣化 | J35: 圧ざ、ひび割れ | M35: W=0.8mm×L=2.4m | N35: W=0.8mm×L=2.4m | O35: Ⅱb | P35: - | Q35: Ⅱb | R35: 否 | S35: 要監視 | T35: 継続 | U35: 監視(日常)
C36: 1 | E36: 11 | F36: 0.22 | G36: 路面 | H36: 車道 | I36: 材質劣化 | J36: その他 | M36: 段差30.0mm×L3.2m | N36: 目地段差30㎜ | O36: Ⅱb | R36: 否 | S36: 否 | T36: - | U36: -
C37: 1 | E37: 12 | F37: 2.36 | G37: 路面 | H37: 車道 | I37: 材質劣化 | J37: 圧ざ、ひび割れ | M37: W=2.0mm×L=3.2m | N37: W=1.5mm×L=3.2m | O37: Ⅱb | R37: 否 | S37: 否 | T37: - | U37: -
C38: 1 | E38: 13 | F38: 3.39 | G38: 路面 | H38: 車道 | I38: 材質劣化 | J38: 圧ざ、ひび割れ | M38: W=0.8mm×L=2.4m | N38: W=0.8mm×L=2.4m | O38: Ⅱb | R38: 否 | S38: 否 | T38: - | U38: -
C39: 1 | E39: 14 | F39: 3.81 | G39: 路面 | H39: 側溝 | I39: 材質劣化 | J39: その他 | M39: 0.45m×4.0m | N39: - | O39: Ⅱb | R39: 否 | S39: 否 | T39: - | U39: -
C40: 2 | E40: 1 | F40: 9 | G40: 覆工 | H40: アーチ（左側） | I40: 材質劣化 | J40: その他 | M40: 漏水防止工 | N40: 補修済 漏水防止工 | O40: Ⅰ | P40: - | Q40: Ⅰ | R40: 否 | S40: 否 | T40: 済
C41: 2 | E41: 2 | F41: 10.54 | G41: 覆工 | H41: 側壁（左側） | I41: 材質劣化 | J41: 圧ざ、ひび割れ | M41: W=1.0mm×L=0.5m | N41: W=1.0mm×L=0.5m | O41: Ⅱb | P41: - | Q41: Ⅱb | R41: 否 | S41: 要監視 | T41: 継続 | U41: 監視(日常)
C42: 2 | E42: 3 | F42: 11.18 | G42: 覆工 | H42: アーチ（左側） | I42: 材質劣化 | J42: 圧ざ、ひび割れ | M42: W=1.4mm×L=4.3m | N42: W=1.4mm×L=2.8m | O42: Ⅱb | P42: - | Q42: Ⅱb | R42: 否 | S42: 要監視 | T42: 継続 | U42: 監視(日常) | Y42: 寸法変更
C43: ※ 対策区分（応急措置後）のⅡb～Ⅳについて記入すること。また、点検前に実施された措置によりⅠと判定された変状も記入すること。
C44: ※ 応急措置を実施しないで判定した変状の対策区分は、対策区分の応急措置後の欄に記入すること。
C45: ※ 変状の除去が不完全で、緊急対応が必要な場合は対応方針欄に記入すること。
C46: ※ １区間の覆工に複数の変状がある場合は、変状箇所毎に記入すること。
C47: ※ 措置・監視点検を行った場合には、措置履歴、特記事項に記録を残すこと。（実施年度も記載）
C48: ※ 行が不足する場合は、適時、表の行を増やすこと。

Sheet 様式C-1-1 (2)
B2: ■定期点検記録様式 全スパン定期点検結果総括表（トンネル本体工） 【様式C-1-1】
B3: フリガナ | F3: ツバシキズイドウ | I3: 路線名 | K3: 国道191号 | O3: 定期点検実施者 | P3: アジア航測株式会社 | T3: 定期点検年月日 | X3: 45919
B4: 名 称 | F4: 津波敷隧道 | I4: 管理者名 | K4: 山口県下関土木建築事務所 | P4: 飯田 琢巳
B5: 定期点検結果 | C5: 覆工 スパン 番号 | E5: 変状 番号 | F5: 距離 （m） | G5: 変状部位 | I5: 変 状 の 内 容 | O5: 前回定期点検時の状態 | P5: 今回定期点検結果 | T5: 措置履歴 | Y5: 対応方針 ・ 特記事項
O6: 44228
G7: 対象箇所 | H7: 部位区分 | I7: 変状区分 | J7: 変状種類 | M7: 変状の発生範囲の規模 | N7: 前回定期点検時の変状の発生範囲及び規模 | O7: 対策区分 | P7: 対策区分 | R7: 調査の 要否 | S7: 措置の 要否 | T7: 実施 | U7: 措置の実施状況
P8: 応急措置前 | Q8: 応急措置後
C9: 2 | E9: 4 | F9: 17.92 | G9: 覆工 | H9: アーチ（左側） | I9: 材質劣化 | J9: その他 | M9: 3.3m×0.15m | N9: 導水工破損 | O9: Ⅱb | P9: - | Q9: Ⅰ | R9: 否 | S9: 否 | T9: 済
C10: 2 | E10: 5 | F10: 11.29 | G10: 覆工 | H10: アーチ（左側） | I10: 漏水 | J10: 漏水 | M10: 7.6m×1.0m | N10: 7.6m×1.0m | O10: Ⅱb | P10: - | Q10: Ⅱb | R10: 否 | S10: 要監視 | T10: 継続 | U10: 監視(日常)
C11: 2 | E11: 6 | F11: 14.04 | G11: 覆工 | H11: アーチ（左側） | I11: 材質劣化 | J11: 圧ざ、ひび割れ | M11: W=0.5mm×L=3.2m | N11: W=0.5mm×L=4.5m | O11: Ⅱb | P11: - | Q11: Ⅱb | R11: 否 | S11: 要監視 | T11: 継続 | U11: 監視(日常) | Y11: 寸法変更
C12: 2 | E12: 7 | F12: 17.89 | G12: 覆工 | H12: アーチ（左側） | I12: 漏水 | J12: 漏水 | M12: 8.0m×0.5m | N12: 8.0m×0.5m | O12: Ⅱb | P12: - | Q12: Ⅱb | R12: 否 | S12: 要監視 | T12: 継続 | U12: 監視(日常)
C13: 2 | E13: 8 | F13: 12.87 | G13: 覆工 | H13: アーチ（右側） | I13: 材質劣化 | J13: 圧ざ、ひび割れ | M13: W=0.5mm×L=1.2m | N13: W=0.5mm×L=0.8m | O13: Ⅱb | P13: - | Q13: Ⅱb | R13: 否 | S13: 要監視 | T13: 継続 | U13: 監視(日常) | Y13: 寸法変更
C14: 2 | E14: 9 | F14: 9 | G14: 覆工 | H14: アーチ（右側） | I14: 材質劣化 | J14: その他 | M14: 漏水防止工 | N14: 補修済 漏水防止工 | O14: Ⅰ | P14: - | Q14: Ⅰ | R14: 否 | S14: 否 | T14: 済
C15: 3 | E15: 1 | F15: 17.98 | G15: 覆工 | H15: 側壁（左側） | I15: 漏水 | J15: 漏水 | M15: 2.5m×1.0m | N15: 2.5m×1.0m | O15: Ⅱb | P15: - | Q15: Ⅱb | R15: 否 | S15: 要監視 | T15: 継続 | U15: 監視(日常)
C16: 3 | E16: 2 | F16: 22.66 | G16: 覆工 | H16: 側壁（左側） | I16: 材質劣化 | J16: その他 | M16: 0.15m×9.0m | N16: W=6.0mm×L=9.0m | O16: Ⅲ | P16: - | Q16: Ⅰ | R16: 否 | S16: 否 | T16: 済
C17: 3 | E17: 3 | F17: 18.98 | G17: 覆工 | H17: アーチ（左側） | I17: 漏水 | J17: 漏水 | M17: 7.6m×0.5m | N17: 7.6m×0.5m | O17: Ⅱb | P17: - | Q17: Ⅱb | R17: 否 | S17: 要監視 | T17: 継続 | U17: 監視(日常)
C18: 3 | E18: 4 | F18: 24.64 | G18: 覆工 | H18: アーチ（左側） | I18: 材質劣化 | J18: うき・はく離 | M18: 0.2m×0.2m | N18: 0.2m×0.2m | O18: Ⅲ | P18: - | Q18: Ⅱa | R18: 否 | S18: 要監視 | T18: 継続 | U18: 監視(重点) | Y18: 判定見直し
C19: 3 | E19: 5 | F19: 20.26 | G19: 覆工 | H19: アーチ（右側） | I19: 材質劣化 | J19: 圧ざ、ひび割れ | M19: W=0.5mm×L=3.0m | N19: W=0.5mm×L=3.0m | O19: Ⅱb | P19: - | Q19: Ⅱb | R19: 否 | S19: 要監視 | T19: 継続 | U19: 監視(日常)
C20: 3 | E20: 6 | F20: 25.28 | G20: 覆工 | H20: アーチ（右側） | I20: 材質劣化 | J20: 圧ざ、ひび割れ | M20: W=1.0mm×L=2.5m | N20: W=1.0mm×L=2.5m | O20: Ⅱb | P20: - | Q20: Ⅱb | R20: 否 | S20: 要監視 | T20: 継続 | U20: 監視(日常)
C21: 3 | E21: 7 | F21: 22.23 | G21: 路面 | H21: 車道 | I21: 材質劣化 | J21: 圧ざ、ひび割れ | M21: W=0.7mm×L=3.2m | N21: W=0.5mm×L=3.2m | O21: Ⅱb | R21: 否 | S21: 否 | T21: - | U21: -
C22: 3 | E22: 8 | F22: 22.17 | G22: 路面 | H22: 車道 | I22: 材質劣化 | J22: 圧ざ、ひび割れ | M22: W=5.0mm×L=3.2m | N22: W=5.0mm×L=3.2m | O22: Ⅱb | R22: 否 | S22: 否 | T22: - | U22: -
C23: 3 | E23: 9 | F23: 18.06 | G23: 覆工 | H23: アーチ（左側） | I23: 材質劣化 | J23: 圧ざ、ひび割れ | M23: W=3.0mm×L=3.9m | N23: - | O23: - | P23: - | Q23: Ⅱb | R23: 否 | S23: 要監視 | T23: 未 | U23: -
C24: 4 | E24: 1 | F24: 28.16 | G24: 覆工 | H24: 側壁（左側） | I24: 材質劣化 | J24: うき・はく離 | M24: 0.1m×1.5m | N24: 0.1m×1.5m | O24: Ⅱb | P24: - | Q24: Ⅱb | R24: 否 | S24: 要監視 | T24: 継続 | U24: 監視(日常)
C25: 4 | E25: 2 | F25: 29.61 | G25: 覆工 | H25: 側壁（左側） | I25: 材質劣化 | J25: その他 | M25: 漏水防止工 | N25: 補修済 漏水防止工 | O25: Ⅰ | P25: - | Q25: Ⅰ | R25: 否 | S25: 否 | T25: 済
C26: 4 | E26: 3 | F26: 30.25 | G26: 覆工 | H26: アーチ（左側） | I26: 漏水 | J26: 漏水 | M26: 7.6m×0.5m | N26: 7.2m×0.5m | O26: Ⅱb | P26: - | Q26: Ⅱb | R26: 否 | S26: 要監視 | T26: 継続 | U26: 監視(日常) | Y26: 寸法変更
C27: 4 | E27: 4 | F27: 30.13 | G27: 覆工 | H27: アーチ（左側） | I27: 材質劣化 | J27: うき・はく離 | M27: 0.7m×0.2m | N27: 0.6m×0.2m | O27: Ⅱb | P27: - | Q27: Ⅱa | R27: 否 | S27: 要監視 | T27: 継続 | U27: 監視(重点) | Y27: 寸法変更、判定見直し
C28: 4 | E28: 5 | F28: 35.65 | G28: 覆工 | H28: アーチ（天端） | I28: 漏水 | J28: 漏水 | M28: 8.4m×0.5m | N28: 7.6m×0.5m | O28: Ⅱb | P28: - | Q28: Ⅱb | R28: 否 | S28: 要監視 | T28: 継続 | U28: 監視(日常) | Y28: 寸法変更
C29: 4 | E29: 6 | F29: 31.52 | G29: 覆工 | H29: アーチ（右側） | I29: 材質劣化 | J29: その他 | M29: 漏水防止工 | N29: 補修済 漏水防止工 | O29: Ⅰ | P29: - | Q29: Ⅰ | R29: 否 | S29: 否 | T29: 済
C30: 4 | E30: 7 | F30: 28.41 | G30: 覆工 | H30: 側壁（右側） | I30: 材質劣化 | J30: その他 | M30: 漏水防止工 | N30: 補修済 漏水防止工 | O30: Ⅰ | P30: - | Q30: Ⅰ | R30: 否 | S30: 否 | T30: 済
C31: 4 | E31: 8 | F31: 28.43 | G31: 路面 | H31: 車道 | I31: 材質劣化 | J31: 圧ざ、ひび割れ | M31: W=3.0mm×L=3.2m | N31: W=3.0mm×L=3.2m | O31: Ⅱb | R31: 否 | S31: 否 | T31: - | U31: -
C32: 4 | E32: 9 | F32: 28.21 | G32: 路面 | H32: 車道 | I32: 材質劣化 | J32: 圧ざ、ひび割れ | M32: W=6.0mm×L=3.2m | N32: W=6.0mm×L=3.2m | O32: Ⅱb | R32: 否 | S32: 否 | T32: - | U32: -
C33: 4 | E33: 10 | F33: 34.82 | G33: 路面 | H33: 車道 | I33: 外力 | J33: 圧ざ、ひび割れ | M33: W=7.0mm×L=3.2m | N33: W=7.0mm×L=3.2m | O33: Ⅱb | P33: - | Q33: Ⅱb | R33: 否 | S33: 要監視 | T33: 継続 | U33: 監視(日常)
C34: 4 | E34: 11 | F34: 35.16 | G34: 路面 | H34: 車道 | I34: 外力 | J34: 圧ざ、ひび割れ | M34: W=4.0mm×L=3.2m | N34: W=4.0mm×L=3.2m | O34: Ⅱb | P34: - | Q34: Ⅱb | R34: 否 | S34: 要監視 | T34: 継続 | U34: 監視(日常)
C35: 5 | E35: 1 | F35: 35.76 | G35: 覆工 | H35: 側壁（左側） | I35: 材質劣化 | J35: うき・はく離 | M35: 0.1m×5.8m | N35: 0.1m×5.8m | O35: Ⅱb | P35: - | Q35: Ⅱb | R35: 否 | S35: 要監視 | T35: 継続 | U35: 監視(日常)
C36: 5 | E36: 2 | F36: 39.1 | G36: 覆工 | H36: アーチ（左側） | I36: 材質劣化 | J36: 圧ざ、ひび割れ | M36: W=0.8mm×L=4.2m | N36: W=0.8mm×L=3.6m | O36: Ⅱb | P36: - | Q36: Ⅱb | R36: 否 | S36: 要監視 | T36: 継続 | U36: 監視(日常) | Y36: 寸法変更
C37: 5 | E37: 3 | F37: 42.23 | G37: 覆工 | H37: アーチ（左側） | I37: 材質劣化 | J37: 圧ざ、ひび割れ | M37: W=1.0mm×L=1.3m | N37: W=1.0mm×L=4.0m | O37: Ⅱb | P37: - | Q37: Ⅱb | R37: 否 | S37: 要監視 | T37: 継続 | U37: 監視(日常) | Y37: 寸法変更
C38: 5 | E38: 4 | F38: 42.97 | G38: 覆工 | H38: 側壁（右側） | I38: 材質劣化 | J38: その他 | M38: 漏水防止工 | N38: 補修済 漏水防止工 | O38: Ⅰ | P38: - | Q38: Ⅰ | R38: 否 | S38: 否 | T38: 済
C39: 5 | E39: 5 | F39: 40.07 | G39: 路面 | H39: 車道 | I39: 材質劣化 | J39: 圧ざ、ひび割れ | M39: W=0.2mm×L=3.2m | N39: W=0.2mm×L=3.2m | O39: Ⅱb | R39: 否 | S39: 否 | T39: - | U39: -
C40: 6 | E40: 1 | F40: 46.12 | G40: 覆工 | H40: 側壁（左側） | I40: 材質劣化 | J40: その他 | M40: 漏水防止工 | N40: 補修済 漏水防止工 | O40: Ⅰ | P40: - | Q40: Ⅰ | R40: 否 | S40: 否 | T40: 済
C41: 6 | E41: 2 | F41: 46.69 | G41: 覆工 | H41: 側壁（左側） | I41: 材質劣化 | J41: うき・はく離 | M41: 0.1m×3.2m | N41: 0.1m×3.2m | O41: Ⅱb | P41: - | Q41: Ⅱb | R41: 否 | S41: 要監視 | T41: 継続 | U41: 監視(日常)
C42: 6 | E42: 3 | F42: 52.42 | G42: 覆工 | H42: 側壁（左側） | I42: 材質劣化 | J42: うき・はく離 | M42: 0.1m×1.3m | N42: 0.1m×1.7m | O42: Ⅱb | P42: - | Q42: Ⅱb | R42: 否 | S42: 要監視 | T42: 継続 | U42: 監視(日常) | Y42: 寸法変更
C43: ※ 対策区分（応急措置後）のⅡb～Ⅳについて記入すること。また、点検前に実施された措置によりⅠと判定された変状も記入すること。
C44: ※ 応急措置を実施しないで判定した変状の対策区分は、対策区分の応急措置後の欄に記入すること。
C45: ※ 変状の除去が不完全で、緊急対応が必要な場合は対応方針欄に記入すること。
C46: ※ １区間の覆工に複数の変状がある場合は、変状箇所毎に記入すること。
C47: ※ 措置・監視点検を行った場合には、措置履歴、特記事項に記録を残すこと。（実施年度も記載）
C48: ※ 行が不足する場合は、適時、表の行を増やすこと。

Sheet 様式C-1-1 (3)
B2: ■定期点検記録様式 全スパン定期点検結果総括表（トンネル本体工） 【様式C-1-1】
B3: フリガナ | F3: ツバシキズイドウ | I3: 路線名 | K3: 国道191号 | O3: 定期点検実施者 | P3: アジア航測株式会社 | T3: 定期点検年月日 | X3: 45919
B4: 名 称 | F4: 津波敷隧道 | I4: 管理者名 | K4: 山口県下関土木建築事務所 | P4: 飯田 琢巳
B5: 定期点検結果 | C5: 覆工 スパン 番号 | E5: 変状 番号 | F5: 距離 （m） | G5: 変状部位 | I5: 変 状 の 内 容 | O5: 前回定期点検時の状態 | P5: 今回定期点検結果 | T5: 措置履歴 | Y5: 対応方針 ・ 特記事項
O6: 44228
G7: 対象箇所 | H7: 部位区分 | I7: 変状区分 | J7: 変状種類 | M7: 変状の発生範囲の規模 | N7: 前回定期点検時の変状の発生範囲及び規模 | O7: 対策区分 | P7: 対策区分 | R7: 調査の 要否 | S7: 措置の 要否 | T7: 実施 | U7: 措置の実施状況
P8: 応急措置前 | Q8: 応急措置後
C9: 6 | E9: 4 | F9: 44.74 | G9: 覆工 | H9: アーチ（左側） | I9: 材質劣化 | J9: 圧ざ、ひび割れ | M9: W=0.8mm×L=4.0m | N9: W=0.8mm×L=4.0m | O9: Ⅱb | P9: - | Q9: Ⅱb | R9: 否 | S9: 要監視 | T9: 継続 | U9: 監視(日常)
C10: 6 | E10: 5 | F10: 50.78 | G10: 覆工 | H10: アーチ（左側） | I10: 材質劣化 | J10: 圧ざ、ひび割れ | M10: W=0.8mm×L=3.1m | N10: W=0.8mm×L=2.8m | O10: Ⅱb | P10: - | Q10: Ⅱb | R10: 否 | S10: 要監視 | T10: 継続 | U10: 監視(日常) | Y10: 寸法変更
C11: 6 | E11: 6 | F11: 50.67 | G11: 覆工 | H11: アーチ（左側） | I11: 材質劣化 | J11: うき・はく離 | M11: 1.4m×0.2m | N11: 1.4m×0.2m | O11: Ⅲ | P11: - | Q11: Ⅱa | R11: 否 | S11: 要監視 | T11: 継続 | U11: 監視(重点) | Y11: 判定見直し
C12: 6 | E12: 7 | F12: 47.03 | G12: 覆工 | H12: アーチ（右側） | I12: 材質劣化 | J12: 圧ざ、ひび割れ | M12: W=0.5mm×L=2.6m | N12: W=0.5mm×L=3.0m | O12: Ⅱb | P12: - | Q12: Ⅱb | R12: 否 | S12: 要監視 | T12: 継続 | U12: 監視(日常) | Y12: 寸法変更
C13: 6 | E13: 8 | F13: 46.09 | G13: 路面 | H13: 車道 | I13: 材質劣化 | J13: 圧ざ、ひび割れ | M13: W=1.0mm×L=3.2m | N13: W=1.0mm×L=3.2m | O13: Ⅱb | R13: 否 | S13: 否 | T13: - | U13: -
C14: 6 | E14: 9 | F14: 52.17 | G14: 路面 | H14: 車道 | I14: 材質劣化 | J14: 圧ざ、ひび割れ | M14: W=1.5mm×L=3.2m | N14: W=1.5mm×L=3.2m | O14: Ⅱb | R14: 否 | S14: 否 | T14: - | U14: -
C15: 6 | E15: 10 | F15: 52.52 | G15: 路面 | H15: 車道 | I15: 材質劣化 | J15: 圧ざ、ひび割れ | M15: W=4.0mm×L=3.2m | N15: W=4.0mm×L=3.2m | O15: Ⅱb | R15: 否 | S15: 否 | T15: - | U15: -
C16: 6 | E16: 11 | F16: 45.13 | G16: 路面 | H16: 側溝 | I16: 材質劣化 | J16: その他 | M16: 0.45m×1.0m | N16: - | O16: Ⅱb | R16: 否 | S16: 否 | T16: - | U16: -
C17: 6 | E17: 12 | F17: 47.63 | G17: 路面 | H17: 側溝 | I17: 材質劣化 | J17: その他 | M17: 0.45m×0.5m | N17: - | O17: Ⅱb | R17: 否 | S17: 否 | T17: - | U17: -
C18: 7 | E18: 1 | F18: 53.8 | G18: 覆工 | H18: 側壁（左側） | I18: 材質劣化 | J18: うき・はく離 | M18: 0.1m×2.8m | N18: 0.1m×2.8m | O18: Ⅱb | P18: - | Q18: Ⅱb | R18: 否 | S18: 要監視 | T18: 継続 | U18: 監視(日常)
C19: 7 | E19: 2 | F19: 58.33 | G19: 覆工 | H19: 側壁（左側） | I19: 材質劣化 | J19: その他 | M19: 漏水防止工 | N19: 補修済 漏水防止工 | O19: Ⅰ | P19: - | Q19: Ⅰ | R19: 否 | S19: 否 | T19: 済
C20: 7 | E20: 3 | F20: 61.14 | G20: 覆工 | H20: 側壁（左側） | I20: 材質劣化 | J20: その他 | M20: 0.15m×4.2m | N20: 0.1m×2.5m、0.1m×1.6m | O20: Ⅱb | P20: - | Q20: Ⅰ | R20: 否 | S20: 否 | T20: 済
C21: 7 | E21: 4 | F21: 60.75 | G21: 覆工 | H21: 側壁（左側） | I21: 材質劣化 | J21: うき・はく離 | M21: 0.1m×2.2m | N21: 0.1m×2.2m | O21: Ⅱb | P21: - | Q21: Ⅱb | R21: 否 | S21: 要監視 | T21: 継続 | U21: 監視(日常)
C22: 7 | E22: 5 | F22: 53.88 | G22: 覆工 | H22: アーチ（右側） | I22: 材質劣化 | J22: 圧ざ、ひび割れ | M22: W=0.5mm×L=1.4m | N22: W=0.5mm×L=1.4m | O22: Ⅱb | P22: - | Q22: Ⅱb | R22: 否 | S22: 要監視 | T22: 継続 | U22: 監視(日常)
C23: 7 | E23: 6 | F23: 53.87 | G23: 覆工 | H23: アーチ（右側） | I23: 材質劣化 | J23: その他 | M23: 漏水防止工 | N23: 補修済 漏水防止工 | O23: Ⅰ | P23: - | Q23: Ⅰ | R23: 否 | S23: 否 | T23: 済
C24: 7 | E24: 7 | F24: 53.86 | G24: 覆工 | H24: 側壁（右側） | I24: 材質劣化 | J24: うき・はく離 | M24: 0.1m×3.2m | N24: 0.1m×3.2m | O24: Ⅱb | P24: - | Q24: Ⅱb | R24: 否 | S24: 要監視 | T24: 継続 | U24: 監視(日常)
C25: 7 | E25: 8 | F25: 58.47 | G25: 路面 | H25: 車道 | I25: 材質劣化 | J25: 圧ざ、ひび割れ | M25: W=5.0mm×L=3.2m | N25: W=5.0mm×L=3.2m | O25: Ⅱb | R25: 否 | S25: 否 | T25: - | U25: -
C26: 7 | E26: 9 | F26: 58.63 | G26: 路面 | H26: 車道 | I26: 材質劣化 | J26: 圧ざ、ひび割れ | M26: W=6.0mm×L=3.2m | N26: W=5.0mm×L=3.2m | O26: Ⅱb | R26: 否 | S26: 否 | T26: - | U26: -
C27: 8 | E27: 1 | F27: 62.9 | G27: 覆工 | H27: 側壁（左側） | I27: 材質劣化 | J27: その他 | M27: 0.15m×1.4m | N27: 0.1m×1.4m | O27: Ⅱb | P27: - | Q27: Ⅰ | R27: 否 | S27: 否 | T27: 済
C28: 8 | E28: 2 | F28: 69.83 | G28: 覆工 | H28: 側壁（左側） | I28: 材質劣化 | J28: うき・はく離 | M28: 0.3m×0.1m | N28: 0.3m×0.1m | O28: Ⅱb | P28: - | Q28: Ⅱb | R28: 否 | S28: 要監視 | T28: 継続 | U28: 監視(日常)
C29: 8 | E29: 3 | F29: 62.9 | G29: 覆工 | H29: 側壁（左側） | I29: 材質劣化 | J29: うき・はく離 | M29: 0.1m×1.4m | N29: 0.1m×1.4m | O29: Ⅱb | P29: - | Q29: Ⅱb | R29: 否 | S29: 要監視 | T29: 継続 | U29: 監視(日常)
C30: 8 | E30: 4 | F30: 65.95 | G30: 覆工 | H30: 側壁（左側） | I30: 材質劣化 | J30: うき・はく離 | M30: 0.1m×5.5m | N30: 0.1m×5.5m | O30: Ⅱb | P30: - | Q30: Ⅱb | R30: 否 | S30: 要監視 | T30: 継続 | U30: 監視(日常)
C31: 8 | E31: 5 | F31: 67.97 | G31: 覆工 | H31: アーチ（左側） | I31: 材質劣化 | J31: 圧ざ、ひび割れ | M31: W=0.5mm×L=3.8m | N31: W=0.5mm×L=3.0m | O31: Ⅱb | P31: - | Q31: Ⅱb | R31: 否 | S31: 要監視 | T31: 継続 | U31: 監視(日常) | Y31: 寸法変更
C32: 8 | E32: 6 | F32: 66.58 | G32: 覆工 | H32: アーチ（右側） | I32: 材質劣化 | J32: その他 | M32: 漏水防止工 | N32: 補修済 漏水防止工 | O32: Ⅰ | P32: - | Q32: Ⅰ | R32: 否 | S32: 否 | T32: 済
C33: 8 | E33: 7 | F33: 69.75 | G33: 覆工 | H33: 側壁（右側） | I33: 材質劣化 | J33: その他 | M33: 漏水防止工 | N33: 補修済 漏水防止工 | O33: Ⅰ | P33: - | Q33: Ⅰ | R33: 否 | S33: 否 | T33: 済
C34: 8 | E34: 8 | F34: 63.92 | G34: 路面 | H34: 車道 | I34: 材質劣化 | J34: 圧ざ、ひび割れ | M34: W=5.0mm×L=3.2m | N34: W=5.0mm×L=3.2m | O34: Ⅱb | R34: 否 | S34: 否 | T34: - | U34: -
C35: 8 | E35: 9 | F35: 70.62 | G35: 路面 | H35: 車道 | I35: 材質劣化 | J35: 圧ざ、ひび割れ | M35: W=5.0mm×L=3.2m | N35: W=5.0mm×L=3.2m | O35: Ⅱb | R35: 否 | S35: 否 | T35: - | U35: -
C36: 8 | E36: 10 | F36: 64.04 | G36: 路面 | H36: 車道 | I36: 材質劣化 | J36: 圧ざ、ひび割れ | M36: W=3.0mm×L=3.2m | N36: W=3.0mm×L=3.2m | O36: Ⅱb | R36: 否 | S36: 否 | T36: - | U36: -
C37: 8 | E37: 11 | F37: 70.42 | G37: 路面 | H37: 車道 | I37: 材質劣化 | J37: 圧ざ、ひび割れ | M37: W=2.0mm×L=3.2m | N37: W=2.0mm×L=3.2m | O37: Ⅱb | R37: 否 | S37: 否 | T37: - | U37: -
C38: 8 | E38: 12 | F38: 69.37 | G38: 覆工 | H38: アーチ（左側） | I38: 材質劣化 | J38: うき・はく離 | M38: 0.2m×0.2m | N38: - | O38: - | P38: - | Q38: Ⅱa | R38: 否 | S38: 要監視 | T38: 未 | U38: -
C39: 9 | E39: 1 | F39: 78.98 | G39: 覆工 | H39: 側壁（左側） | I39: 材質劣化 | J39: うき・はく離 | M39: 0.1m×1.5m | N39: 0.1m×3.2m | O39: Ⅱb | P39: - | Q39: Ⅱb | R39: 否 | S39: 要監視 | T39: 継続 | U39: 監視(日常) | Y39: 寸法変更
C40: 9 | E40: 2 | F40: 73.46 | G40: 覆工 | H40: アーチ（右側） | I40: 材質劣化 | J40: その他 | M40: 漏水防止工 | N40: 補修済 漏水防止工 | O40: Ⅰ | P40: - | Q40: Ⅰ | R40: 否 | S40: 否 | T40: 済
C41: 9 | E41: 3 | F41: 75.79 | G41: 覆工 | H41: 側壁（右側） | I41: 材質劣化 | J41: その他 | M41: 漏水防止工 | N41: 補修済 漏水防止工 | O41: Ⅰ | P41: - | Q41: Ⅰ | R41: 否 | S41: 否 | T41: 済
C42: 9 | E42: 4 | F42: 77.45 | G42: 覆工 | H42: 側壁（右側） | I42: 漏水 | J42: 漏水 | M42: 2.5m×0.5m | N42: 2.5m×0.3m | O42: Ⅱb | P42: - | Q42: Ⅱb | R42: 否 | S42: 要監視 | T42: 継続 | U42: 監視(日常) | Y42: 寸法変更
C43: ※ 対策区分（応急措置後）のⅡb～Ⅳについて記入すること。また、点検前に実施された措置によりⅠと判定された変状も記入すること。
C44: ※ 応急措置を実施しないで判定した変状の対策区分は、対策区分の応急措置後の欄に記入すること。
C45: ※ 変状の除去が不完全で、緊急対応が必要な場合は対応方針欄に記入すること。
C46: ※ １区間の覆工に複数の変状がある場合は、変状箇所毎に記入すること。
C47: ※ 措置・監視点検を行った場合には、措置履歴、特記事項に記録を残すこと。（実施年度も記載）
C48: ※ 行が不足する場合は、適時、表の行を増やすこと。

Sheet 様式C-1-1 (4)
B2: ■定期点検記録様式 全スパン定期点検結果総括表（トンネル本体工） 【様式C-1-1】
B3: フリガナ | F3: ツバシキズイドウ | I3: 路線名 | K3: 国道191号 | O3: 定期点検実施者 | P3: アジア航測株式会社 | T3: 定期点検年月日 | X3: 45919
B4: 名 称 | F4: 津波敷隧道 | I4: 管理者名 | K4: 山口県下関土木建築事務所 | P4: 飯田 琢巳
B5: 定期点検結果 | C5: 覆工 スパン 番号 | E5: 変状 番号 | F5: 距離 （m） | G5: 変状部位 | I5: 変 状 の 内 容 | O5: 前回定期点検時の状態 | P5: 今回定期点検結果 | T5: 措置履歴 | Y5: 対応方針 ・ 特記事項
O6: 44228
G7: 対象箇所 | H7: 部位区分 | I7: 変状区分 | J7: 変状種類 | M7: 変状の発生範囲の規模 | N7: 前回定期点検時の変状の発生範囲及び規模 | O7: 対策区分 | P7: 対策区分 | R7: 調査の 要否 | S7: 措置の 要否 | T7: 実施 | U7: 措置の実施状況
P8: 応急措置前 | Q8: 応急措置後
C9: 9 | E9: 5 | F9: 77.35 | G9: 覆工 | H9: 側壁（右側） | I9: 材質劣化 | J9: うき・はく離 | M9: 0.1m×3.0m | N9: 0.1m×3.0m | O9: Ⅱb | P9: - | Q9: Ⅱb | R9: 否 | S9: 要監視 | T9: 継続 | U9: 監視(日常)
C10: 9 | E10: 6 | F10: 73.81 | G10: 路面 | H10: 車道 | I10: 材質劣化 | J10: うき・はく離 | M10: 0.8m×0.1m | N10: 0.8m×0.1m | O10: Ⅱb | R10: 否 | S10: 否 | T10: - | U10: -
C11: 9 | E11: 7 | F11: 77.97 | G11: 覆工 | H11: アーチ（左側） | I11: 材質劣化 | J11: うき・はく離 | M11: 0.2m×0.2m | N11: - | O11: - | P11: - | Q11: Ⅱa | R11: 否 | S11: 要監視 | T11: 未 | U11: -
C12: 10 | E12: 1 | F12: 80.5 | G12: 覆工 | H12: 側壁（左側） | I12: 材質劣化 | J12: うき・はく離 | M12: 0.1m×3.0m | N12: 0.1m×3.0m | O12: Ⅱb | P12: - | Q12: Ⅱb | R12: 否 | S12: 要監視 | T12: 継続 | U12: 監視(日常)
C13: 10 | E13: 2 | F13: 84.24 | G13: 覆工 | H13: 側壁（左側） | I13: 材質劣化 | J13: その他 | M13: 漏水防止工 | N13: 補修済 漏水防止工 | O13: Ⅰ | P13: - | Q13: Ⅰ | R13: 否 | S13: 否 | T13: 済
C14: 10 | E14: 3 | F14: 80.5 | G14: 覆工 | H14: 側壁（右側） | I14: 材質劣化 | J14: うき・はく離 | M14: 0.1m×4.7m | N14: 0.1m×4.7m | O14: Ⅱb | P14: - | Q14: Ⅱb | R14: 否 | S14: 要監視 | T14: 継続 | U14: 監視(日常)
C15: 10 | E15: 4 | F15: 84.94 | G15: 覆工 | H15: アーチ（右側） | I15: 材質劣化 | J15: その他 | M15: 漏水防止工 | N15: 補修済 漏水防止工 | O15: Ⅰ | P15: - | Q15: Ⅰ | R15: 否 | S15: 否 | T15: 済
C16: 10 | E16: 5 | F16: 81.91 | G16: 路面 | H16: 車道 | I16: 材質劣化 | J16: 圧ざ、ひび割れ | M16: W=3.0mm×L=3.2m | N16: W=3.0mm×L=3.2m | O16: Ⅱb | R16: 否 | S16: 否 | T16: - | U16: -
C17: 10 | E17: 6 | F17: 87.42 | G17: 路面 | H17: 車道 | I17: 材質劣化 | J17: 圧ざ、ひび割れ | M17: W=7.0mm×L=3.2m | N17: W=7.0mm×L=3.2m | O17: Ⅱb | R17: 否 | S17: 否 | T17: - | U17: -
C18: 10 | E18: 7 | F18: 82.27 | G18: 路面 | H18: 車道 | I18: 材質劣化 | J18: 圧ざ、ひび割れ | M18: W=4.0mm×L=3.2m | N18: W=1.5mm×L=3.2m | O18: Ⅱb | R18: 否 | S18: 否 | T18: - | U18: -
C19: 10 | E19: 8 | F19: 87.63 | G19: 路面 | H19: 車道 | I19: 材質劣化 | J19: 圧ざ、ひび割れ | M19: W=5.0mm×L=3.2m | N19: W=2.0mm×L=3.2m | O19: Ⅱb | R19: 否 | S19: 否 | T19: - | U19: -
C20: 10 | E20: 9 | F20: 87.97 | G20: 覆工 | H20: 側壁（左側） | I20: 材質劣化 | J20: うき・はく離 | M20: 0.2m×0.1m | N20: - | O20: - | P20: - | Q20: Ⅱb | R20: 否 | S20: 要監視 | T20: 未 | U20: -
C21: 10 | E21: 10 | F21: 86.39 | G21: 覆工 | H21: 側壁（左側） | I21: 材質劣化 | J21: うき・はく離 | M21: 0.1m×3.0m | N21: - | O21: - | P21: - | Q21: Ⅱb | R21: 否 | S21: 要監視 | T21: 未 | U21: -
C22: 10 | E22: 11 | F22: 81.18 | G22: 覆工 | H22: アーチ（右側） | I22: 材質劣化 | J22: うき・はく離 | M22: 0.2m×0.2m | N22: - | O22: - | P22: - | Q22: Ⅱa | R22: 否 | S22: 要監視 | T22: 未 | U22: -
C23: 10 | E23: 12 | F23: 85.19 | G23: 覆工 | H23: 側壁（右側） | I23: 材質劣化 | J23: 補修・補強材の破損 | M23: 0.2m×0.2m | N23: - | O23: - | P23: - | Q23: Ⅱb | R23: 否 | S23: 要監視 | T23: 未 | U23: -
C24: 10 | E24: 13 | F24: 88 | G24: 覆工 | H24: 側壁（右側） | I24: 材質劣化 | J24: うき・はく離 | M24: 0.1m×1.3m | N24: - | O24: - | P24: - | Q24: Ⅱb | R24: 否 | S24: 要監視 | T24: 未 | U24: -
C25: 11 | E25: 1 | F25: 90.48 | G25: 覆工 | H25: 側壁（左側） | I25: 材質劣化 | J25: 圧ざ、ひび割れ | M25: W=0.5mm×L=2.3m | N25: W=0.5mm×L=2.3m | O25: Ⅱb | P25: - | Q25: Ⅱb | R25: 否 | S25: 要監視 | T25: 継続 | U25: 監視(日常)
C26: 11 | E26: 2 | F26: 89.5 | G26: 覆工 | H26: 側壁（左側） | I26: 漏水 | J26: 漏水 | M26: 2.5m×0.5m | N26: 2.5m×0.5m | O26: Ⅱb | P26: - | Q26: Ⅱb | R26: 否 | S26: 要監視 | T26: 継続 | U26: 監視(日常)
C27: 11 | E27: 3 | F27: 95.32 | G27: 覆工 | H27: アーチ（右側） | I27: 材質劣化 | J27: その他 | M27: 漏水防止工 | N27: 補修済 漏水防止工 | O27: Ⅰ | P27: - | Q27: Ⅰ | R27: 否 | S27: 否 | T27: 済
C28: 11 | E28: 4 | F28: 94.22 | G28: 覆工 | H28: 側壁（右側） | I28: 材質劣化 | J28: うき・はく離 | M28: 0.1m×1.0m | N28: 0.1m×1.0m | O28: Ⅱb | P28: - | Q28: Ⅱb | R28: 否 | S28: 要監視 | T28: 継続 | U28: 監視(日常)
C29: 11 | E29: 5 | F29: 94.83 | G29: 路面 | H29: 車道 | I29: 材質劣化 | J29: 圧ざ、ひび割れ | M29: W=5.0mm×L=3.2m | N29: W=5.0mm×L=3.2m | O29: Ⅱb | R29: 否 | S29: 否 | T29: - | U29: -
C30: 11 | E30: 6 | F30: 94.77 | G30: 路面 | H30: 車道 | I30: 材質劣化 | J30: 圧ざ、ひび割れ | M30: W=3.0mm×L=3.2m | N30: W=3.0mm×L=3.2m | O30: Ⅱb | R30: 否 | S30: 否 | T30: - | U30: -
C31: 12 | E31: 1 | F31: 98.79 | G31: 覆工 | H31: 側壁（左側） | I31: 材質劣化 | J31: うき・はく離 | M31: 0.1m×1.3m、0.1m×1.2m | N31: 0.1m×1.3m、0.1m×1.2m | O31: Ⅱb | P31: - | Q31: Ⅱb | R31: 否 | S31: 要監視 | T31: 継続 | U31: 監視(日常)
C32: 12 | E32: 2 | F32: 101.59 | G32: 覆工 | H32: 側壁（左側） | I32: 材質劣化 | J32: うき・はく離 | M32: 0.1m×2.5m | N32: 0.1m×2.5m | O32: Ⅱb | P32: - | Q32: Ⅱb | R32: 否 | S32: 要監視 | T32: 継続 | U32: 監視(日常)
C33: 12 | E33: 3 | F33: 105.94 | G33: 覆工 | H33: 側壁（左側） | I33: 材質劣化 | J33: うき・はく離 | M33: 0.1m×1.4m | N33: 0.1m×1.4m | O33: Ⅱb | P33: - | Q33: Ⅱb | R33: 否 | S33: 要監視 | T33: 継続 | U33: 監視(日常)
C34: 12 | E34: 4 | F34: 105.27 | G34: 覆工 | H34: アーチ（左側） | I34: 材質劣化 | J34: 圧ざ、ひび割れ | M34: W=0.7mm×L=2.5m | N34: W=0.7mm×L=3.6m | O34: Ⅱb | P34: - | Q34: Ⅱb | R34: 否 | S34: 要監視 | T34: 継続 | U34: 監視(日常) | Y34: 寸法変更
C35: 12 | E35: 5 | F35: 98.67 | G35: 覆工 | H35: 側壁（右側） | I35: 材質劣化 | J35: うき・はく離 | M35: 0.1m×2.7m | N35: 0.1m×3.1m | O35: Ⅱb | P35: - | Q35: Ⅱb | R35: 否 | S35: 要監視 | T35: 継続 | U35: 監視(日常) | Y35: 寸法変更
C36: 12 | E36: 6 | F36: 99.46 | G36: 路面 | H36: 車道 | I36: 材質劣化 | J36: 圧ざ、ひび割れ | M36: W=6.0mm×L=3.2m | N36: W=6.0mm×L=3.2m | O36: Ⅱb | R36: 否 | S36: 否 | T36: - | U36: -
C37: 12 | E37: 7 | F37: 99.21 | G37: 路面 | H37: 車道 | I37: 材質劣化 | J37: 圧ざ、ひび割れ | M37: W=3.0mm×L=3.2m | N37: W=3.0mm×L=3.2m | O37: Ⅱb | R37: 否 | S37: 否 | T37: - | U37: -
C38: 12 | E38: 8 | F38: 104.77 | G38: 覆工 | H38: アーチ（左側） | I38: 材質劣化 | J38: うき・はく離 | M38: 0.2m×0.2m | N38: - | O38: - | P38: - | Q38: Ⅱa | R38: 否 | S38: 要監視 | T38: 未 | U38: -
C39: 13 | E39: 1 | F39: 112.91 | G39: 覆工 | H39: 側壁（左側） | I39: 材質劣化 | J39: うき・はく離 | M39: 0.1m×3.5m | N39: 0.1m×3.8m | O39: Ⅱb | P39: - | Q39: Ⅱb | R39: 否 | S39: 要監視 | T39: 継続 | U39: 監視(日常) | Y39: 寸法変更
C40: 13 | E40: 2 | F40: 112.54 | G40: 覆工 | H40: アーチ（左側） | I40: 材質劣化 | J40: その他 | M40: 漏水防止工 | N40: 補修済 漏水防止工 | O40: Ⅰ | P40: - | Q40: Ⅰ | R40: 否 | S40: 否 | T40: 済
C41: 13 | E41: 3 | F41: 110.85 | G41: 覆工 | H41: アーチ（右側） | I41: 材質劣化 | J41: 圧ざ、ひび割れ | M41: W=0.5mm×L=2.0m | N41: W=0.5mm×L=2.0m | O41: Ⅱb | P41: - | Q41: Ⅱb | R41: 否 | S41: 要監視 | T41: 継続 | U41: 監視(日常)
C42: 13 | E42: 4 | F42: 114.62 | G42: 覆工 | H42: アーチ（右側） | I42: 材質劣化 | J42: 圧ざ、ひび割れ | M42: W=1.0mm×L=1.8m | N42: W=1.0mm×L=1.8m | O42: Ⅱb | P42: - | Q42: Ⅱb | R42: 否 | S42: 要監視 | T42: 継続 | U42: 監視(日常)
C43: ※ 対策区分（応急措置後）のⅡb～Ⅳについて記入すること。また、点検前に実施された措置によりⅠと判定された変状も記入すること。
C44: ※ 応急措置を実施しないで判定した変状の対策区分は、対策区分の応急措置後の欄に記入すること。
C45: ※ 変状の除去が不完全で、緊急対応が必要な場合は対応方針欄に記入すること。
C46: ※ １区間の覆工に複数の変状がある場合は、変状箇所毎に記入すること。
C47: ※ 措置・監視点検を行った場合には、措置履歴、特記事項に記録を残すこと。（実施年度も記載）
C48: ※ 行が不足する場合は、適時、表の行を増やすこと。

Sheet 様式C-1-1 (5)
B2: ■定期点検記録様式 全スパン定期点検結果総括表（トンネル本体工） 【様式C-1-1】
B3: フリガナ | F3: ツバシキズイドウ | I3: 路線名 | K3: 国道191号 | O3: 定期点検実施者 | P3: アジア航測株式会社 | T3: 定期点検年月日 | X3: 45919
B4: 名 称 | F4: 津波敷隧道 | I4: 管理者名 | K4: 山口県下関土木建築事務所 | P4: 飯田 琢巳
B5: 定期点検結果 | C5: 覆工 スパン 番号 | E5: 変状 番号 | F5: 距離 （m） | G5: 変状部位 | I5: 変 状 の 内 容 | O5: 前回定期点検時の状態 | P5: 今回定期点検結果 | T5: 措置履歴 | Y5: 対応方針 ・ 特記事項
O6: 44228
G7: 対象箇所 | H7: 部位区分 | I7: 変状区分 | J7: 変状種類 | M7: 変状の発生範囲の規模 | N7: 前回定期点検時の変状の発生範囲及び規模 | O7: 対策区分 | P7: 対策区分 | R7: 調査の 要否 | S7: 措置の 要否 | T7: 実施 | U7: 措置の実施状況
P8: 応急措置前 | Q8: 応急措置後
C9: 13 | E9: 5 | F9: 112.14 | G9: 覆工 | H9: 側壁（右側） | I9: 材質劣化 | J9: うき・はく離 | M9: 0.1m×4.2m | N9: 0.1m×4.2m | O9: Ⅱb | P9: - | Q9: Ⅱb | R9: 否 | S9: 要監視 | T9: 継続 | U9: 監視(日常)
C10: 13 | E10: 6 | F10: 107.4 | G10: 路面 | H10: 側溝 | I10: 材質劣化 | J10: その他 | M10: 0.45m×8.0m | N10: - | O10: Ⅱb | R10: 否 | S10: 否 | T10: - | U10: -
C11: 13 | E11: 7 | F11: 111.14 | G11: 路面 | H11: 車道 | I11: 材質劣化 | J11: 圧ざ、ひび割れ | M11: W=0.7mm×L=3.2m | N11: W=0.2mm×L=3.2m | O11: Ⅱb | R11: 否 | S11: 否 | T11: - | U11: -
C12: 13 | E12: 8 | F12: 111.49 | G12: 路面 | H12: 車道 | I12: 材質劣化 | J12: 圧ざ、ひび割れ | M12: W=1.0mm×L=3.2m | N12: W=1.0mm×L=3.2m | O12: Ⅱb | R12: 否 | S12: 否 | T12: - | U12: -
C13: 14 | E13: 1 | F13: 116.4 | G13: 覆工 | H13: 側壁（左側） | I13: 材質劣化 | J13: うき・はく離 | M13: 0.1m×1.5m | N13: 0.1m×1.5m | O13: Ⅱb | P13: - | Q13: Ⅱb | R13: 否 | S13: 要監視 | T13: 継続 | U13: 監視(日常)
C14: 14 | E14: 2 | F14: 117.95 | G14: 覆工 | H14: 側壁（左側） | I14: 材質劣化 | J14: うき・はく離 | M14: 0.1m×1.5m | N14: 0.1m×1.5m | O14: Ⅱb | P14: - | Q14: Ⅱb | R14: 否 | S14: 要監視 | T14: 継続 | U14: 監視(日常)
C15: 14 | E15: 3 | F15: 123.62 | G15: 覆工 | H15: 側壁（左側） | I15: 材質劣化 | J15: その他 | M15: 漏水防止工 | N15: 補修済 漏水防止工 | O15: Ⅰ | P15: - | Q15: Ⅰ | R15: 否 | S15: 否 | T15: 済
C16: 14 | E16: 4 | F16: 122.14 | G16: 覆工 | H16: アーチ（左側） | I16: 材質劣化 | J16: うき・はく離 | M16: 0.9m×0.2m | N16: 0.9m×0.2m | O16: Ⅲ | P16: - | Q16: Ⅱa | R16: 否 | S16: 要監視 | T16: 継続 | U16: 監視(重点) | Y16: 判定見直し
C17: 14 | E17: 5 | F17: 123.98 | G17: 覆工 | H17: アーチ（右側） | I17: 材質劣化 | J17: 圧ざ、ひび割れ | M17: W=0.5mm×L=2.8m | N17: W=0.5mm×L=2.2m | O17: Ⅱb | P17: - | Q17: Ⅱb | R17: 否 | S17: 要監視 | T17: 継続 | U17: 監視(日常) | Y17: 寸法変更
C18: 14 | E18: 6 | F18: 121.11 | G18: 覆工 | H18: アーチ（右側） | I18: 材質劣化 | J18: その他 | M18: 漏水防止工 | N18: 補修済 漏水防止工 | O18: Ⅰ | P18: - | Q18: Ⅰ | R18: 否 | S18: 否 | T18: 済
C19: 14 | E19: 7 | F19: 117.95 | G19: 覆工 | H19: 側壁（右側） | I19: 材質劣化 | J19: うき・はく離 | M19: 0.1m×3.3m | N19: 0.1m×3.3m | O19: Ⅱb | P19: - | Q19: Ⅱb | R19: 否 | S19: 要監視 | T19: 継続 | U19: 監視(日常)
C20: 14 | E20: 8 | F20: 123.71 | G20: 覆工 | H20: 側壁（右側） | I20: 材質劣化 | J20: うき・はく離 | M20: 0.1m×1.5m | N20: 0.1m×1.5m | O20: Ⅱb | P20: - | Q20: Ⅱb | R20: 否 | S20: 要監視 | T20: 継続 | U20: 監視(日常)
C21: 14 | E21: 9 | F21: 123.27 | G21: 路面 | H21: 車道 | I21: 材質劣化 | J21: 圧ざ、ひび割れ | M21: W=0.4mm×L=3.2m | N21: W=0.4mm×L=3.2m | O21: Ⅱb | R21: 否 | S21: 否 | T21: - | U21: -
C22: 15 | E22: 1 | F22: 129.6 | G22: 覆工 | H22: 側壁（左側） | I22: 材質劣化 | J22: その他 | M22: 漏水防止工 | N22: 補修済 漏水防止工 | O22: Ⅰ | P22: - | Q22: Ⅰ | R22: 否 | S22: 否 | T22: 済
C23: 15 | E23: 2 | F23: 132.4 | G23: 覆工 | H23: 側壁（左側） | I23: 材質劣化 | J23: うき・はく離 | M23: - | N23: 0.2m×1.5m | O23: Ⅱb | P23: - | Q23: Ⅰ | R23: 否 | S23: 否 | T23: 未 | Y23: 判定見直し
C24: 15 | E24: 3 | F24: 130.28 | G24: 覆工 | H24: 側壁（左側） | I24: 材質劣化 | J24: うき・はく離 | M24: 0.1m×4.0m | N24: 0.1m×4.0m | O24: Ⅱb | P24: - | Q24: Ⅱb | R24: 否 | S24: 要監視 | T24: 継続 | U24: 監視(日常)
C25: 15 | E25: 4 | F25: 127.25 | G25: 覆工 | H25: アーチ（左側） | I25: 材質劣化 | J25: 圧ざ、ひび割れ | M25: W=0.5mm×L=1.8m | N25: W=0.5mm×L=3.0m | O25: Ⅱb | P25: - | Q25: Ⅱb | R25: 否 | S25: 要監視 | T25: 継続 | U25: 監視(日常) | Y25: 寸法変更
C26: 15 | E26: 5 | F26: 131.13 | G26: 覆工 | H26: アーチ（右側） | I26: 材質劣化 | J26: 圧ざ、ひび割れ | M26: W=0.5mm×L=4.3m | N26: W=0.5mm×L=0.8m | O26: Ⅱb | P26: - | Q26: Ⅱb | R26: 否 | S26: 要監視 | T26: 継続 | U26: 監視(日常) | Y26: 寸法変更
C27: 15 | E27: 6 | F27: 128.28 | G27: 覆工 | H27: アーチ（右側） | I27: 材質劣化 | J27: 圧ざ、ひび割れ | M27: W=0.5mm×L=2.1m | N27: W=0.5mm×L=2.0m | O27: Ⅱb | P27: - | Q27: Ⅱb | R27: 否 | S27: 要監視 | T27: 継続 | U27: 監視(日常) | Y27: 寸法変更
C28: 15 | E28: 7 | F28: 125.2 | G28: 覆工 | H28: 側壁（右側） | I28: 材質劣化 | J28: うき・はく離 | M28: 0.1m×4.5m | N28: 0.1m×4.5m | O28: Ⅱb | P28: - | Q28: Ⅱb | R28: 否 | S28: 要監視 | T28: 継続 | U28: 監視(日常)
C29: 15 | E29: 8 | F29: 125.59 | G29: 覆工 | H29: 側壁（右側） | I29: 材質劣化 | J29: 圧ざ、ひび割れ | M29: W=1.0mm×L=2.7m | N29: W=1.0mm×L=2.7m | O29: Ⅱb | P29: - | Q29: Ⅱb | R29: 否 | S29: 要監視 | T29: 継続 | U29: 監視(日常)
C30: 15 | E30: 9 | F30: 129.71 | G30: 覆工 | H30: 側壁（右側） | I30: 材質劣化 | J30: うき・はく離 | M30: 0.1m×4.4m | N30: 0.1m×4.4m | O30: Ⅱb | P30: - | Q30: Ⅱb | R30: 否 | S30: 要監視 | T30: 継続 | U30: 監視(日常)
C31: 15 | E31: 10 | F31: 129.13 | G31: 路面 | H31: 車道 | I31: 材質劣化 | J31: 圧ざ、ひび割れ | M31: W=2.0mm×L=3.2m | N31: W=0.3mm×L=3.2m | O31: Ⅱb | R31: 否 | S31: 否 | T31: - | U31: -
C32: 15 | E32: 11 | F32: 127.36 | G32: 路面 | H32: 車道 | I32: 材質劣化 | J32: うき・はく離 | M32: 3.2m×0.05m | N32: 目地隙間20㎜ | O32: Ⅱb | R32: 否 | S32: 否 | T32: - | U32: -
C33: 15 | E33: 12 | F33: 127.41 | G33: 路面 | H33: 監査歩路 | I33: 材質劣化 | J33: その他 | M33: 0.15m×0.1m | N33: 縁石段差15㎜ | O33: Ⅱb | R33: 否 | S33: 否 | T33: - | U33: -
C34: 16 | E34: 1 | F34: 141.59 | G34: 覆工 | H34: 側壁（左側） | I34: 材質劣化 | J34: その他 | M34: 漏水防止工 | N34: 補修済 漏水防止工 | O34: Ⅰ | P34: - | Q34: Ⅰ | R34: 否 | S34: 否 | T34: 済
C35: 16 | E35: 2 | F35: 136.89 | G35: 覆工 | H35: 側壁（左側） | I35: 材質劣化 | J35: うき・はく離 | M35: 0.1m×4.8m | N35: 0.1m×4.8m | O35: Ⅱb | P35: - | Q35: Ⅱb | R35: 否 | S35: 要監視 | T35: 継続 | U35: 監視(日常)
C36: 16 | E36: 3 | F36: 140.39 | G36: 覆工 | H36: アーチ（右側） | I36: 材質劣化 | J36: 圧ざ、ひび割れ | M36: W=0.5mm×L=1.9m | N36: W=0.5mm×L=1.2m | O36: Ⅱb | P36: - | Q36: Ⅱb | R36: 否 | S36: 要監視 | T36: 継続 | U36: 監視(日常) | Y36: 寸法変更
C37: 16 | E37: 4 | F37: 134.2 | G37: 覆工 | H37: 側壁（右側） | I37: 材質劣化 | J37: うき・はく離 | M37: 0.1m×1.5m | N37: 0.1m×1.5m | O37: Ⅱb | P37: - | Q37: Ⅱb | R37: 否 | S37: 要監視 | T37: 継続 | U37: 監視(日常)
C38: 16 | E38: 5 | F38: 137.37 | G38: 覆工 | H38: 側壁（右側） | I38: 材質劣化 | J38: うき・はく離 | M38: 0.1m×4.2m | N38: 0.1m×4.2m | O38: Ⅱb | P38: - | Q38: Ⅱb | R38: 否 | S38: 要監視 | T38: 継続 | U38: 監視(日常)
C39: 16 | E39: 6 | F39: 141.52 | G39: 覆工 | H39: 側壁（右側） | I39: 材質劣化 | J39: その他 | M39: 漏水防止工 | N39: 補修済 漏水防止工 | O39: Ⅰ | P39: - | Q39: Ⅰ | R39: 否 | S39: 否 | T39: 済
C40: 16 | E40: 7 | F40: 134.67 | G40: 路面 | H40: 側溝 | I40: 材質劣化 | J40: その他 | M40: 0.45m×2.0m | N40: - | O40: Ⅱb | R40: 否 | S40: 否 | T40: - | U40: -
C41: 16 | E41: 8 | F41: 138.17 | G41: 路面 | H41: 側溝 | I41: 材質劣化 | J41: その他 | M41: 0.45m×4.0m | N41: - | O41: Ⅱb | R41: 否 | S41: 否 | T41: - | U41: -
C42: 16 | E42: 9 | F42: 135.82 | G42: 路面 | H42: 車道 | I42: 材質劣化 | J42: 圧ざ、ひび割れ | M42: W=5.0mm×L=3.2m | N42: W=2.0mm×L=3.2m | O42: Ⅱb | R42: 否 | S42: 否 | T42: - | U42: -
C43: ※ 対策区分（応急措置後）のⅡb～Ⅳについて記入すること。また、点検前に実施された措置によりⅠと判定された変状も記入すること。
C44: ※ 応急措置を実施しないで判定した変状の対策区分は、対策区分の応急措置後の欄に記入すること。
C45: ※ 変状の除去が不完全で、緊急対応が必要な場合は対応方針欄に記入すること。
C46: ※ １区間の覆工に複数の変状がある場合は、変状箇所毎に記入すること。
C47: ※ 措置・監視点検を行った場合には、措置履歴、特記事項に記録を残すこと。（実施年度も記載）
C48: ※ 行が不足する場合は、適時、表の行を増やすこと。

Sheet 様式C-1-1 (6)
B2: ■定期点検記録様式 全スパン定期点検結果総括表（トンネル本体工） 【様式C-1-1】
B3: フリガナ | F3: ツバシキズイドウ | I3: 路線名 | K3: 国道191号 | O3: 定期点検実施者 | P3: アジア航測株式会社 | T3: 定期点検年月日 | X3: 45919
B4: 名 称 | F4: 津波敷隧道 | I4: 管理者名 | K4: 山口県下関土木建築事務所 | P4: 飯田 琢巳
B5: 定期点検結果 | C5: 覆工 スパン 番号 | E5: 変状 番号 | F5: 距離 （m） | G5: 変状部位 | I5: 変 状 の 内 容 | O5: 前回定期点検時の状態 | P5: 今回定期点検結果 | T5: 措置履歴 | Y5: 対応方針 ・ 特記事項
O6: 44228
G7: 対象箇所 | H7: 部位区分 | I7: 変状区分 | J7: 変状種類 | M7: 変状の発生範囲の規模 | N7: 前回定期点検時の変状の発生範囲及び規模 | O7: 対策区分 | P7: 対策区分 | R7: 調査の 要否 | S7: 措置の 要否 | T7: 実施 | U7: 措置の実施状況
P8: 応急措置前 | Q8: 応急措置後
C9: 16 | E9: 10 | F9: 142.1 | G9: 路面 | H9: 車道 | I9: 材質劣化 | J9: 圧ざ、ひび割れ | M9: W=1.0mm×L=3.2m | N9: W=1.0mm×L=3.2m | O9: Ⅱb | R9: 否 | S9: 否 | T9: - | U9: -
C10: 16 | E10: 11 | F10: 136.03 | G10: 路面 | H10: 車道 | I10: 材質劣化 | J10: 圧ざ、ひび割れ | M10: W=4.0mm×L=3.2m | N10: W=4.0mm×L=3.2m | O10: Ⅱb | R10: 否 | S10: 否 | T10: - | U10: -
C11: 16 | E11: 12 | F11: 139.87 | G11: 路面 | H11: 車道 | I11: 材質劣化 | J11: 圧ざ、ひび割れ | M11: W=1.0mm×L=0.6m | N11: W=0.6mm×L=1.0m | O11: Ⅱb | R11: 否 | S11: 否 | T11: - | U11: -
C12: 16 | E12: 13 | F12: 142.12 | G12: 路面 | H12: 車道 | I12: 材質劣化 | J12: 圧ざ、ひび割れ | M12: W=1.0mm×L=3.2m | N12: W=1.0mm×L=3.2m | O12: Ⅱb | R12: 否 | S12: 否 | T12: - | U12: -
C13: 16 | E13: 14 | F13: 134.2 | G13: 覆工 | H13: 側壁（左側） | I13: 材質劣化 | J13: うき・はく離 | M13: 0.1m×1.5m | N13: - | O13: - | P13: - | Q13: Ⅱb | R13: 否 | S13: 要監視 | T13: 未 | U13: -
C14: 17 | E14: 1 | F14: 143.26 | G14: 覆工 | H14: 側壁（左側） | I14: 材質劣化 | J14: うき・はく離 | M14: 0.1m×3.5m | N14: 0.1m×3.5m | O14: Ⅱb | P14: - | Q14: Ⅱb | R14: 否 | S14: 要監視 | T14: 継続 | U14: 監視(日常)
C15: 17 | E15: 2 | F15: 147.68 | G15: 覆工 | H15: 側壁（左側） | I15: 材質劣化 | J15: うき・はく離 | M15: 0.1m×4.5m | N15: 0.1m×4.5m | O15: Ⅱb | P15: - | Q15: Ⅱb | R15: 否 | S15: 要監視 | T15: 継続 | U15: 監視(日常)
C16: 17 | E16: 3 | F16: 143.26 | G16: 覆工 | H16: アーチ（右側） | I16: 材質劣化 | J16: その他 | M16: 漏水防止工 | N16: 補修済 漏水防止工 | O16: Ⅰ | P16: - | Q16: Ⅰ | R16: 否 | S16: 否 | T16: 済
C17: 17 | E17: 4 | F17: 147.59 | G17: 覆工 | H17: 側壁（右側） | I17: 材質劣化 | J17: うき・はく離 | M17: 0.1m×4.2m | N17: 0.1m×4.2m | O17: Ⅱb | P17: - | Q17: Ⅱb | R17: 否 | S17: 要監視 | T17: 継続 | U17: 監視(日常)
C18: 17 | E18: 5 | F18: 144.67 | G18: 路面 | H18: 側溝 | I18: 材質劣化 | J18: その他 | M18: 0.45m×2.5m | N18: - | O18: Ⅱb | R18: 否 | S18: 否 | T18: - | U18: -
C19: 17 | E19: 6 | F19: 148.65 | G19: 覆工 | H19: アーチ（右側） | I19: 材質劣化 | J19: うき・はく離 | M19: 0.2m×0.2m | N19: - | O19: - | P19: - | Q19: Ⅱa | R19: 否 | S19: 要監視 | T19: 未 | U19: -
C20: 18 | E20: 1 | F20: 152.1 | G20: 覆工 | H20: 側壁（左側） | I20: 材質劣化 | J20: うき・はく離 | M20: 0.1m×1.5m | N20: 0.1m×1.5m | O20: Ⅱb | P20: - | Q20: Ⅱb | R20: 否 | S20: 要監視 | T20: 継続 | U20: 監視(日常)
C21: 18 | E21: 2 | F21: 154.92 | G21: 覆工 | H21: 側壁（左側） | I21: 材質劣化 | J21: うき・はく離 | M21: 0.1m×6.1m | N21: 0.1m×6.1m | O21: Ⅱb | P21: - | Q21: Ⅱb | R21: 否 | S21: 要監視 | T21: 継続 | U21: 監視(日常)
C22: 18 | E22: 3 | F22: 152.14 | G22: 覆工 | H22: アーチ（右側） | I22: 材質劣化 | J22: その他 | M22: 漏水防止工 | N22: 補修済 漏水防止工 | O22: Ⅰ | P22: - | Q22: Ⅰ | R22: 否 | S22: 否 | T22: 済
C23: 18 | E23: 4 | F23: 152.13 | G23: 覆工 | H23: アーチ（右側） | I23: 材質劣化 | J23: その他 | M23: 0.15m×6.6m | N23: W=1.2mm×L=1.5m | O23: Ⅱb | P23: - | Q23: Ⅰ | R23: 否 | S23: 否 | T23: 済
C24: 18 | E24: 5 | F24: 155.12 | G24: 覆工 | H24: アーチ（右側） | I24: 材質劣化 | J24: その他 | M24: 0.15m×6.8m | N24: W=0.5mm×L=0.5m | O24: Ⅱb | P24: - | Q24: Ⅰ | R24: 否 | S24: 否 | T24: 済
C25: 18 | E25: 6 | F25: 153.65 | G25: 覆工 | H25: 側壁（右側） | I25: 材質劣化 | J25: うき・はく離 | M25: 0.1m×4.5m | N25: 0.1m×4.5m | O25: Ⅱb | P25: - | Q25: Ⅱb | R25: 否 | S25: 要監視 | T25: 継続 | U25: 監視(日常)
C26: 18 | E26: 7 | F26: 158.38 | G26: 覆工 | H26: 側壁（右側） | I26: 材質劣化 | J26: その他 | M26: 0.15m×1.5m | N26: 0.15m×1.5m | O26: Ⅱb | P26: - | Q26: Ⅰ | R26: 否 | S26: 否 | T26: 済
C27: 18 | E27: 8 | F27: 159.38 | G27: 覆工 | H27: 側壁（右側） | I27: 材質劣化 | J27: その他 | M27: 漏水防止工 | N27: 補修済 漏水防止工 | O27: Ⅰ | P27: - | Q27: Ⅰ | R27: 否 | S27: 否 | T27: 済
C28: 18 | E28: 9 | F28: 157.94 | G28: 路面 | H28: 側溝 | I28: 材質劣化 | J28: その他 | M28: 0.45m×1.0m | N28: - | O28: Ⅱb | R28: 否 | S28: 否 | T28: - | U28: -
C29: 18 | E29: 10 | F29: 155.07 | G29: 路面 | H29: 車道 | I29: 材質劣化 | J29: 圧ざ、ひび割れ | M29: W=1.5mm×L=3.2m | N29: W=1.5mm×L=3.2m | O29: Ⅱb | R29: 否 | S29: 否 | T29: - | U29: -
C30: 18 | E30: 11 | F30: 159.74 | G30: 路面 | H30: 車道 | I30: 材質劣化 | J30: 圧ざ、ひび割れ | M30: W=0.3mm×L=1.7m | N30: W=0.3mm×L=1.7m | O30: Ⅱb | R30: 否 | S30: 否 | T30: - | U30: -
C31: 18 | E31: 12 | F31: 155.09 | G31: 路面 | H31: 車道 | I31: 材質劣化 | J31: 圧ざ、ひび割れ | M31: W=1.0mm×L=3.2m | N31: W=0.8mm×L=3.2m | O31: Ⅱb | R31: 否 | S31: 否 | T31: - | U31: -
C32: 18 | E32: 13 | F32: 159.43 | G32: 路面 | H32: 側溝 | I32: 材質劣化 | J32: その他 | M32: 0.45m×1.0m | N32: - | O32: Ⅱb | R32: 否 | S32: 否 | T32: - | U32: -
C33: 18 | E33: 14 | F33: 154.25 | G33: 覆工 | H33: アーチ（左側） | I33: 材質劣化 | J33: うき・はく離 | M33: 0.1m×0.2m | N33: - | O33: - | P33: - | Q33: Ⅱa | R33: 否 | S33: 要監視 | T33: 未 | U33: -
C34: 19 | E34: 1 | F34: 162.07 | G34: 覆工 | H34: 側壁（左側） | I34: 材質劣化 | J34: その他 | M34: 2.4m×0.15m | N34: W=0.5mm×L=2.4m | O34: Ⅱb | P34: - | Q34: Ⅰ | R34: 否 | S34: 否 | T34: 済
C35: 19 | E35: 2 | F35: 165.5 | G35: 覆工 | H35: 側壁（左側） | I35: 材質劣化 | J35: その他 | M35: 2.4m×0.15m | N35: W=1.5mm×L=2.4m | O35: Ⅱb | P35: - | Q35: Ⅰ | R35: 否 | S35: 否 | T35: 済
C36: 19 | E36: 3 | F36: 161.1 | G36: 覆工 | H36: 側壁（左側） | I36: 材質劣化 | J36: うき・はく離 | M36: 0.1m×9.0m | N36: 0.1m×9.0m | O36: Ⅱb | P36: - | Q36: Ⅱb | R36: 否 | S36: 要監視 | T36: 継続 | U36: 監視(日常)
C37: 19 | E37: 4 | F37: 164.85 | G37: 覆工 | H37: アーチ（左側） | I37: 材質劣化 | J37: 圧ざ、ひび割れ | M37: W=0.8mm×L=4.2m | N37: W=0.8mm×L=1.2m | O37: Ⅱb | P37: - | Q37: Ⅱb | R37: 否 | S37: 要監視 | T37: 継続 | U37: 監視(日常) | Y37: 寸法変更
C38: 19 | E38: 5 | F38: 167.42 | G38: 覆工 | H38: アーチ（左側） | I38: 材質劣化 | J38: 圧ざ、ひび割れ | M38: W=1.0mm×L=3.6m | N38: W=1.0mm×L=3.6m | O38: Ⅱb | P38: - | Q38: Ⅱb | R38: 否 | S38: 要監視 | T38: 継続 | U38: 監視(日常)
C39: 19 | E39: 6 | F39: 165.55 | G39: 覆工 | H39: アーチ（左側） | I39: 材質劣化 | J39: 圧ざ、ひび割れ | M39: W=0.6mm×L=1.7m | N39: W=0.6mm×L=4.9m | O39: Ⅱb | P39: - | Q39: Ⅱb | R39: 否 | S39: 要監視 | T39: 継続 | U39: 監視(日常) | Y39: 寸法変更
C40: 19 | E40: 7 | F40: 161.17 | G40: 覆工 | H40: アーチ（右側） | I40: 材質劣化 | J40: 圧ざ、ひび割れ | M40: W=0.5mm×L=2.6m | N40: W=0.5mm×L=3.5m | O40: Ⅱb | P40: - | Q40: Ⅱb | R40: 否 | S40: 要監視 | T40: 継続 | U40: 監視(日常) | Y40: 寸法変更
C41: 19 | E41: 8 | F41: 168.15 | G41: 覆工 | H41: アーチ（右側） | I41: 材質劣化 | J41: 圧ざ、ひび割れ | M41: W=1.0mm×L=6.3m | N41: W=1.0mm×L=4.8m | O41: Ⅱb | P41: - | Q41: Ⅱb | R41: 否 | S41: 要監視 | T41: 継続 | U41: 監視(日常) | Y41: 寸法変更
C42: 19 | E42: 9 | F42: 161.16 | G42: 覆工 | H42: 側壁（右側） | I42: 材質劣化 | J42: うき・はく離 | M42: 0.1m×9.0m | N42: 0.1m×9.0m | O42: Ⅱb | P42: - | Q42: Ⅱb | R42: 否 | S42: 要監視 | T42: 継続 | U42: 監視(日常)
C43: ※ 対策区分（応急措置後）のⅡb～Ⅳについて記入すること。また、点検前に実施された措置によりⅠと判定された変状も記入すること。
C44: ※ 応急措置を実施しないで判定した変状の対策区分は、対策区分の応急措置後の欄に記入すること。
C45: ※ 変状の除去が不完全で、緊急対応が必要な場合は対応方針欄に記入すること。
C46: ※ １区間の覆工に複数の変状がある場合は、変状箇所毎に記入すること。
C47: ※ 措置・監視点検を行った場合には、措置履歴、特記事項に記録を残すこと。（実施年度も記載）
C48: ※ 行が不足する場合は、適時、表の行を増やすこと。

Sheet 様式C-1-1 (7)
B2: ■定期点検記録様式 全スパン定期点検結果総括表（トンネル本体工） 【様式C-1-1】
B3: フリガナ | F3: ツバシキズイドウ | I3: 路線名 | K3: 国道191号 | O3: 定期点検実施者 | P3: アジア航測株式会社 | T3: 定期点検年月日 | X3: 45919
B4: 名 称 | F4: 津波敷隧道 | I4: 管理者名 | K4: 山口県下関土木建築事務所 | P4: 飯田 琢巳
B5: 定期点検結果 | C5: 覆工 スパン 番号 | E5: 変状 番号 | F5: 距離 （m） | G5: 変状部位 | I5: 変 状 の 内 容 | O5: 前回定期点検時の状態 | P5: 今回定期点検結果 | T5: 措置履歴 | Y5: 対応方針 ・ 特記事項
O6: 44228
G7: 対象箇所 | H7: 部位区分 | I7: 変状区分 | J7: 変状種類 | M7: 変状の発生範囲の規模 | N7: 前回定期点検時の変状の発生範囲及び規模 | O7: 対策区分 | P7: 対策区分 | R7: 調査の 要否 | S7: 措置の 要否 | T7: 実施 | U7: 措置の実施状況
P8: 応急措置前 | Q8: 応急措置後
C9: 19 | E9: 10 | F9: 161.79 | G9: 路面 | H9: 側溝 | I9: 材質劣化 | J9: その他 | M9: 0.45m×3.0m | N9: - | O9: Ⅱb | R9: 否 | S9: 否 | T9: - | U9: -
C10: 19 | E10: 11 | F10: 166.73 | G10: 路面 | H10: 車道 | I10: 材質劣化 | J10: 圧ざ、ひび割れ | M10: W=0.3mm×L=3.2m | N10: W=0.3mm×L=3.2m | O10: Ⅱb | R10: 否 | S10: 否 | T10: - | U10: -
C11: 19 | E11: 12 | F11: 169.8 | G11: 覆工 | H11: アーチ（左側） | I11: 漏水 | J11: 漏水 | M11: 7.4m×0.5m | N11: - | O11: - | P11: - | Q11: Ⅱa | R11: 否 | S11: 要監視 | T11: 未 | U11: -
C12: 20 | E12: 1 | F12: 172.76 | G12: 覆工 | H12: 側壁（左側） | I12: 材質劣化 | J12: その他 | M12: 2.7m×0.15m | N12: W=4.0mm×L=2.7m | O12: Ⅲ | P12: - | Q12: Ⅰ | R12: 否 | S12: 否 | T12: 済
C13: 20 | E13: 2 | F13: 173.14 | G13: 覆工 | H13: 側壁（左側） | I13: 材質劣化 | J13: その他 | M13: 0.15m×2.7m | N13: 0.3m×0.05m | O13: Ⅱb | P13: - | Q13: Ⅰ | R13: 否 | S13: 否 | T13: 済
C14: 20 | E14: 3 | F14: 170.1 | G14: 覆工 | H14: 側壁（左側） | I14: 材質劣化 | J14: その他 | M14: 0.15m×4.4m | N14: 4.0m×2.5m | O14: Ⅱb | P14: - | Q14: Ⅰ | R14: 否 | S14: 否 | T14: 済
C15: 20 | E15: 4 | F15: 174.12 | G15: 覆工 | H15: 側壁（左側） | I15: 材質劣化 | J15: その他 | M15: 0.15m×4.4m | N15: 0.2m×0.1m | O15: Ⅱb | P15: - | Q15: Ⅰ | R15: 否 | S15: 否 | T15: 済
C16: 20 | E16: 5 | F16: 174.63 | G16: 覆工 | H16: アーチ（左側） | I16: 材質劣化 | J16: その他 | M16: 3.6m×0.15m | N16: W=7.0mm×L=3.55m | O16: Ⅲ | P16: - | Q16: Ⅰ | R16: 否 | S16: 否 | T16: 済
C17: 20 | E17: 6 | F17: 176.85 | G17: 覆工 | H17: アーチ（左側） | I17: 材質劣化 | J17: 圧ざ、ひび割れ | M17: W=0.5mm×L=3.9m | N17: W=0.5mm×L=2.5m | O17: Ⅱb | P17: - | Q17: Ⅱb | R17: 否 | S17: 要監視 | T17: 継続 | U17: 監視(日常) | Y17: 寸法変更
C18: 20 | E18: 7 | F18: 175.26 | G18: 覆工 | H18: アーチ（左側） | I18: 材質劣化 | J18: 圧ざ、ひび割れ | M18: W=4.0mm×L=1.6m | N18: W=4.0mm×L=4.6m | O18: Ⅱb | P18: - | Q18: Ⅱb | R18: 否 | S18: 要監視 | T18: 継続 | U18: 監視(日常) | Y18: 寸法変更
C19: 20 | E19: 8 | F19: 176.9 | G19: 覆工 | H19: アーチ（天端） | I19: 材質劣化 | J19: その他 | M19: 0.15m×2.7m | N19: W=1.2mm×L=2.7m | O19: Ⅱb | P19: - | Q19: Ⅰ | R19: 否 | S19: 否 | T19: 済
C20: 20 | E20: 9 | F20: 170.15 | G20: 覆工 | H20: アーチ（右側） | I20: 材質劣化 | J20: その他 | M20: 0.15m×9.0m | N20: 7.0m×9.0m | O20: Ⅱb | P20: - | Q20: Ⅰ | R20: 否 | S20: 否 | T20: 済
C21: 20 | E21: 10 | F21: 171.62 | G21: 覆工 | H21: 側壁（右側） | I21: 材質劣化 | J21: うき・はく離 | M21: 0.1m×3.7m | N21: 0.1m×8.8m | O21: Ⅱb | P21: - | Q21: Ⅱb | R21: 否 | S21: 要監視 | T21: 継続 | U21: 監視(日常) | Y21: 寸法変更
C22: 20 | E22: 11 | F22: 169.81 | G22: 路面 | H22: 側溝 | I22: 材質劣化 | J22: その他 | M22: 0.45m×1.0m | N22: - | O22: Ⅱb | R22: 否 | S22: 否 | T22: - | U22: -
C23: 20 | E23: 12 | F23: 172.69 | G23: 路面 | H23: 側溝 | I23: 材質劣化 | J23: その他 | M23: 0.45m×2.5m | N23: - | O23: Ⅱb | R23: 否 | S23: 否 | T23: - | U23: -
C24: 20 | E24: 13 | F24: 178.2 | G24: 路面 | H24: 側溝 | I24: 材質劣化 | J24: その他 | M24: 0.45m×1.5m | N24: - | O24: Ⅱb | R24: 否 | S24: 否 | T24: - | U24: -
C25: 20 | E25: 14 | F25: 175.2 | G25: 覆工 | H25: アーチ（左側） | I25: 材質劣化 | J25: うき・はく離 | M25: 0.2m×0.05m | N25: - | O25: - | P25: - | Q25: Ⅲ | R25: 否 | S25: 要対策 | T25: 未 | U25: -
C26: 20 | E26: 15 | F26: 176.2 | G26: 覆工 | H26: アーチ（左側） | I26: 漏水 | J26: 漏水 | M26: 8.0m×0.5m | N26: - | O26: - | P26: - | Q26: Ⅱa | R26: 否 | S26: 要監視 | T26: 未 | U26: -
C27: 20 | E27: 16 | F27: 178.61 | G27: 覆工 | H27: アーチ（左側） | I27: 漏水 | J27: 漏水 | M27: 8.0m×0.5m | N27: - | O27: - | P27: - | Q27: Ⅱa | R27: 否 | S27: 要監視 | T27: 未 | U27: -
C28: 21 | E28: 1 | F28: 178.9 | G28: 覆工 | H28: 側壁（左側） | I28: 材質劣化 | J28: その他 | M28: 0.15m×3.0m | N28: 0.1m×3.0m | O28: Ⅱb | P28: - | Q28: Ⅰ | R28: 否 | S28: 否 | T28: 済
C29: 21 | E29: 2 | F29: 182.1 | G29: 覆工 | H29: 側壁（左側） | I29: 材質劣化 | J29: その他 | M29: 2.5m×0.15m | N29: 1.0m×0.2m | O29: Ⅱb | P29: - | Q29: Ⅰ | R29: 否 | S29: 否 | T29: 済
C30: 21 | E30: 3 | F30: 180.44 | G30: 覆工 | H30: アーチ（左側） | I30: 材質劣化 | J30: その他 | M30: 0.1m×6.2m | N30: W=2.0mm×L=6.2m | O30: Ⅱa | P30: - | Q30: Ⅰ | R30: 否 | S30: 否 | T30: 済
C31: 21 | E31: 4 | F31: 179.62 | G31: 覆工 | H31: アーチ（左側） | I31: 漏水 | J31: 漏水 | M31: 7.9m×0.9m | N31: 1.4m×8.3m | O31: Ⅱb | P31: - | Q31: Ⅱb | R31: 否 | S31: 要監視 | T31: 継続 | U31: 監視(日常) | Y31: 寸法変更
C32: 21 | E32: 5 | F32: 181.63 | G32: 覆工 | H32: アーチ（左側） | I32: 材質劣化 | J32: その他 | M32: 0.15m×4.7m | N32: W=10.0mm×L=1.7m | O32: Ⅲ | P32: - | Q32: Ⅰ | R32: 否 | S32: 否 | T32: 済
C33: 21 | E33: 6 | F33: 178.91 | G33: 覆工 | H33: アーチ（右側） | I33: 材質劣化 | J33: その他 | M33: 0.15m×2.7m | N33: W=1.0mm×L=1.5m | O33: Ⅱa | P33: - | Q33: Ⅰ | R33: 否 | S33: 否 | T33: 済
C34: 21 | E34: 7 | F34: 180.71 | G34: 覆工 | H34: アーチ（右側） | I34: 材質劣化 | J34: その他 | M34: 0.15m×6.2m | N34: W=1.0mm×L=4.5m | O34: Ⅱb | P34: - | Q34: Ⅰ | R34: 否 | S34: 否 | T34: 済
C35: 21 | E35: 8 | F35: 178.93 | G35: 覆工 | H35: 側壁（右側） | I35: 材質劣化 | J35: その他 | M35: 0.15m×3.2m | N35: 2.5m×1.3m | O35: Ⅱb | P35: - | Q35: Ⅰ | R35: 否 | S35: 否 | T35: 済
C36: 21 | E36: 9 | F36: 182.6 | G36: 路面 | H36: 車道 | I36: 材質劣化 | J36: その他 | M36: 段差30.0ｍｍ×6.5m | N36: 目地段差30㎜ | O36: Ⅱb | R36: 否 | S36: 否 | T36: - | U36: -
C37: 21 | E37: 10 | F37: 181.8 | G37: 覆工 | H37: 側壁（右側） | I37: 材質劣化 | J37: うき・はく離 | M37: 0.3m×0.3m | N37: - | O37: - | P37: - | Q37: Ⅱb | R37: 否 | S37: 要監視 | T37: 未 | U37: -
C38: PE | E38: 1 | F38: 183.6 | G38: 覆工 | H38: 面壁・妻壁等 | I38: 材質劣化 | J38: その他 | M38: 0.1m×2.5m | N38: W=10mm×L=2.48m | O38: Ⅲ | P38: - | Q38: Ⅰ | R38: 否 | S38: 否 | T38: 済
C39: PE | E39: 2 | F39: 183.6 | G39: 覆工 | H39: 面壁・妻壁等 | I39: 材質劣化 | J39: その他 | M39: 0.1m×1.0m | N39: W=7.0mm×L=1.0m | O39: Ⅱb | P39: - | Q39: Ⅰ | R39: 否 | S39: 否 | T39: 済
C40: PE | E40: 3 | F40: 183.6 | G40: 覆工 | H40: 面壁・妻壁等 | I40: 材質劣化 | J40: その他 | M40: 1.3m×1.3m | N40: 0.3m×0.8m | O40: Ⅱa | P40: - | Q40: Ⅰ | R40: 否 | S40: 否 | T40: 済
C41: PE | E41: 4 | F41: 183.6 | G41: 覆工 | H41: 面壁・妻壁等 | I41: 材質劣化 | J41: その他 | M41: 0.1m×3.5m | N41: W8.0mm×3.5m | O41: Ⅲ | P41: - | Q41: Ⅰ | R41: 否 | S41: 否 | T41: 済
C42: PE | E42: 5 | F42: 183.6 | G42: 覆工 | H42: 面壁・妻壁等 | I42: 材質劣化 | J42: その他 | M42: 0.1m×1.0m | N42: W1.5mm×1.0m | O42: Ⅲ | P42: - | Q42: Ⅰ | R42: 否 | S42: 否 | T42: 済
C43: ※ 対策区分（応急措置後）のⅡb～Ⅳについて記入すること。また、点検前に実施された措置によりⅠと判定された変状も記入すること。
C44: ※ 応急措置を実施しないで判定した変状の対策区分は、対策区分の応急措置後の欄に記入すること。
C45: ※ 変状の除去が不完全で、緊急対応が必要な場合は対応方針欄に記入すること。
C46: ※ １区間の覆工に複数の変状がある場合は、変状箇所毎に記入すること。
C47: ※ 措置・監視点検を行った場合には、措置履歴、特記事項に記録を残すこと。（実施年度も記載）
C48: ※ 行が不足する場合は、適時、表の行を増やすこと。

Sheet 様式C-1-1 (8)
B2: ■定期点検記録様式 全スパン定期点検結果総括表（トンネル本体工） 【様式C-1-1】
B3: フリガナ | F3: ツバシキズイドウ | I3: 路線名 | K3: 国道191号 | O3: 定期点検実施者 | P3: アジア航測株式会社 | T3: 定期点検年月日 | X3: 45919
B4: 名 称 | F4: 津波敷隧道 | I4: 管理者名 | K4: 山口県下関土木建築事務所 | P4: 飯田 琢巳
B5: 定期点検結果 | C5: 覆工 スパン 番号 | E5: 変状 番号 | F5: 距離 （m） | G5: 変状部位 | I5: 変 状 の 内 容 | O5: 前回定期点検時の状態 | P5: 今回定期点検結果 | T5: 措置履歴 | Y5: 対応方針 ・ 特記事項
O6: 44228
G7: 対象箇所 | H7: 部位区分 | I7: 変状区分 | J7: 変状種類 | M7: 変状の発生範囲の規模 | N7: 前回定期点検時の変状の発生範囲及び規模 | O7: 対策区分 | P7: 対策区分 | R7: 調査の 要否 | S7: 措置の 要否 | T7: 実施 | U7: 措置の実施状況
P8: 応急措置前 | Q8: 応急措置後
C9: PE | E9: 6 | F9: 183.6 | G9: 覆工 | H9: 面壁・妻壁等 | I9: 材質劣化 | J9: その他 | M9: 0.1m×2.1m | N9: W5.0mm×2.1m | O9: Ⅲ | P9: - | Q9: Ⅰ | R9: 否 | S9: 否 | T9: 済
C10: PE | E10: 7 | F10: 183.6 | G10: 覆工 | H10: 面壁・妻壁等 | I10: 材質劣化 | J10: うき・はく離 | M10: 0.05m×0.7m | N10: - | O10: - | P10: - | Q10: Ⅱa | R10: 否 | S10: 要監視 | T10: 未 | U10: -
C11: PE | E11: 8 | F11: 183.6 | G11: 覆工 | H11: 面壁・妻壁等 | I11: 材質劣化 | J11: うき・はく離 | M11: 0.05m×0.3m | N11: - | O11: - | P11: - | Q11: Ⅱa | R11: 否 | S11: 要監視 | T11: 未 | U11: -
C43: ※ 対策区分（応急措置後）のⅡb～Ⅳについて記入すること。また、点検前に実施された措置によりⅠと判定された変状も記入すること。
C44: ※ 応急措置を実施しないで判定した変状の対策区分は、対策区分の応急措置後の欄に記入すること。
C45: ※ 変状の除去が不完全で、緊急対応が必要な場合は対応方針欄に記入すること。
C46: ※ １区間の覆工に複数の変状がある場合は、変状箇所毎に記入すること。
C47: ※ 措置・監視点検を行った場合には、措置履歴、特記事項に記録を残すこと。（実施年度も記載）
C48: ※ 行が不足する場合は、適時、表の行を増やすこと。

Sheet 様式C-1-2 (1)
B2: ■定期点検記録様式 定期点検結果総括表（トンネル内附属物等の取付状態） 【様式C-1-2】
B3: フリガナ | F3: ツバシキズイドウ | J3: 路線名 | K3: 国道191号 | M3: 定期点検実施者 | O3: アジア航測株式会社 | S3: 定期点検年月日 | W3: 45919
B4: 名 称 | F4: 津波敷隧道 | J4: 管理者名 | K4: 山口県下関土木建築事務所 | O4: 飯田 琢巳
B5: 定期点検結果 | C5: 覆工 スパン 番号 | E5: 異常 番号 | F5: 距離 （m） | G5: 異常部位 | J5: 異 常 の 内 容 | N5: 定期点検結果 | P5: 応急措置の 実施状況 | V5: 対応方針 ・ 特記事項
G6: 対象箇所 | I6: 部位区分 | J6: 異常種類 | L6: 異常の発生範囲の規模 | N6: 異常判定区分 | P6: 実施 | Q6: 応急措置の内容
N7: 応急措置前 | O7: 応急措置後
C8: 1 | E8: 101 | F8: 0.95 | G8: その他施設 | H8: その他 | I8: 附属物本体 | J8: 腐食 | L8: 1 | O8: × | P8: 未
C9: 1 | E9: 102 | F9: 1.03 | G9: その他施設 | H9: その他 | I9: 附属物本体 | J9: 腐食 | L9: 1 | O9: ×
C10: 1 | E10: 103 | F10: 0.92 | G10: その他施設 | H10: その他 | I10: 附属物本体 | J10: 腐食 | L10: 1 | O10: ×
C11: 1 | E11: 104 | F11: 1.03 | G11: その他施設 | H11: その他 | I11: 附属物本体 | J11: 腐食 | L11: 1 | O11: ×
C12: 1 | E12: 105 | F12: 2.72 | G12: 照明施設 | H12: 灯具 | I12: 取付部材 | J12: 腐食 | L12: 1 | O12: ×
C13: 2 | E13: 101 | F13: 9.82 | G13: 照明施設 | H13: 灯具 | I13: 取付部材 | J13: 腐食 | L13: 1 | O13: ×
C14: 2 | E14: 102 | F14: 9.75 | G14: 照明施設 | H14: 灯具 | I14: 取付部材 | J14: 腐食 | L14: 1 | O14: ×
C15: 3 | E15: 101 | F15: 19.69 | G15: 照明施設 | H15: 灯具 | I15: 取付部材 | J15: 腐食 | L15: 1 | O15: ×
C16: 3 | E16: 102 | F16: 19.64 | G16: 照明施設 | H16: 灯具 | I16: 取付部材 | J16: 腐食 | L16: 1 | O16: ×
C17: 3 | E17: 103 | F17: 24.75 | G17: 照明施設 | H17: 灯具 | I17: 取付部材 | J17: 腐食 | L17: 1 | O17: ×
C18: 4 | E18: 101 | F18: 31.09 | G18: 照明施設 | H18: 灯具 | I18: 取付部材 | J18: 腐食 | L18: 1 | O18: ×
C19: 4 | E19: 102 | F19: 31.15 | G19: 照明施設 | H19: 灯具 | I19: 取付部材 | J19: 腐食 | L19: 1 | O19: ×
C20: 5 | E20: 101 | F20: 41.47 | G20: 照明施設 | H20: 灯具 | I20: 取付部材 | J20: 腐食 | L20: 1 | O20: ×
... C41: 15 | E41: 102 | F41: 129 | G41: 照明施設 | H41: 灯具 | I41: 取付部材 | J41: 腐食 | L41: 1 | O41: ×
C42: ※ 異常判定区分×について記入すること。また、応急措置により○と判定された箇所も記入すること。
C43: ※ 応急措置を実施しないで判定した箇所の異常判定区分は、異常判定区分の応急措置後の欄に記入すること。
C44: ※ 異常の除去が不完全で、緊急対応が必要な場合は対応方針欄に記入すること。
C45: ※ １スパンの覆工に複数の異常がある場合は、異常箇所毎に記入すること。
C46: ※ 行が不足する場合は、適時、表の行を増やすこと。

Sheet 様式C-1-2 (2)
B2: ■定期点検記録様式 定期点検結果総括表（トンネル内附属物等の取付状態） 【様式C-1-2】
B3: フリガナ | F3: ツバシキズイドウ | J3: 路線名 | K3: 国道191号 | M3: 定期点検実施者 | O3: アジア航測株式会社 | S3: 定期点検年月日 | W3: 45919
B4: 名 称 | F4: 津波敷隧道 | J4: 管理者名 | K4: 山口県下関土木建築事務所 | O4: 飯田 琢巳
B5: 定期点検結果 | C5: 覆工 スパン 番号 | E5: 異常 番号 | F5: 距離 （m） | G5: 異常部位 | J5: 異 常 の 内 容 | N5: 定期点検結果 | P5: 応急措置の 実施状況 | V5: 対応方針 ・ 特記事項
G6: 対象箇所 | I6: 部位区分 | J6: 異常種類 | L6: 異常の発生範囲の規模 | N6: 異常判定区分 | P6: 実施 | Q6: 応急措置の内容
N7: 応急措置前 | O7: 応急措置後
C8: 15 | E8: 103 | F8: 127.12 | G8: 照明施設 | H8: ケーブル類 | I8: ボルト・ﾅｯﾄ・アンカー類 | J8: 緩み、脱落 | L8: 1 | O8: ×
C9: 16 | E9: 101 | F9: 134.99 | G9: 照明施設 | H9: 灯具 | I9: 取付部材 | J9: 腐食 | L9: 1 | O9: ×
C10: 16 | E10: 102 | F10: 140.81 | G10: 照明施設 | H10: 灯具 | I10: 取付部材 | J10: 腐食 | L10: 1 | O10: ×
C11: 16 | E11: 103 | F11: 141.2 | G11: 照明施設 | H11: 灯具 | I11: 取付部材 | J11: 腐食 | L11: 1 | O11: ×
C12: 17 | E12: 101 | F12: 151.23 | G12: 照明施設 | H12: 灯具 | I12: 取付部材 | J12: 腐食 | L12: 1 | O12: ×
C13: 17 | E13: 102 | F13: 151.68 | G13: 照明施設 | H13: 灯具 | I13: 取付部材 | J13: 腐食 | L13: 1 | O13: ×
C14: 18 | E14: 101 | F14: 157.5 | G14: 照明施設 | H14: 灯具 | I14: 取付部材 | J14: 腐食 | L14: 1 | O14: ×
C15: 19 | E15: 101 | F15: 162.67 | G15: 照明施設 | H15: 灯具 | I15: 取付部材 | J15: 腐食 | L15: 1 | O15: ×
C16: 19 | E16: 102 | F16: 163.19 | G16: 照明施設 | H16: 灯具 | I16: 取付部材 | J16: 腐食 | L16: 1 | O16: ×
C17: 20 | E17: 101 | F17: 172.06 | G17: 照明施設 | H17: 灯具 | I17: 取付部材 | J17: 腐食 | L17: 1 | O17: ×
C18: 20 | E18: 102 | F18: 172.6 | G18: 照明施設 | H18: 灯具 | I18: 取付部材 | J18: 腐食 | L18: 1 | O18: ×
C19: 21 | E19: 101 | F19: 179.07 | G19: 照明施設 | H19: 灯具 | I19: 取付部材 | J19: 腐食 | L19: 1 | O19: ×
... C21: 21 | E21: 103 | F21: 182.38 | G21: その他施設 | H21: その他 | I21: 附属物本体 | J21: 腐食 | L21: 1 | O21: ×
C42: ※ 異常判定区分×について記入すること。また、応急措置により○と判定された箇所も記入すること。
C43: ※ 応急措置を実施しないで判定した箇所の異常判定区分は、異常判定区分の応急措置後の欄に記入すること。
C44: ※ 異常の除去が不完全で、緊急対応が必要な場合は対応方針欄に記入すること。
C45: ※ １スパンの覆工に複数の異常がある場合は、異常箇所毎に記入すること。
C46: ※ 行が不足する場合は、適時、表の行を増やすこと。

Sheet 様式C-2
B2: ■定期点検記録様式 状態の把握の内容 【様式C-2】
B3: フリガナ | E3: ツバシキズイドウ | H3: 路線名 | J3: 国道191号 | M3: 定期点検実施者 | Q3: アジア航測株式会社 | U3: 定期点検年月日 | X3: 45919
B4: 名 称 | E4: 津波敷隧道 | H4: 管理者名 | J4: 山口県下関土木建築事務所 | Q4: 飯田 琢巳
B5: 状態の把握の内容 | C5: 覆工スパン 番号 | E5: 変状 番号 | F5: 状態の把握の内容
F6: 年月日 | H6: 内容 | O6: 結果 | Y6: 対策区分の 判定
B22: 注）状態の把握において、微破壊・非破壊検査や各種試験等を実施した場合について記載する。
B23: ※ 行が不足する場合は、適時、表の行を増やすこと。

Sheet 様式D-1-1 P001
B2: ■定期点検記録様式 変状写真台帳【様式D-1-1】 | R2: 施設ID | T2: ='様式A-1'!W2 -> 34.25614,130.89992
B3: フリガナ | E3: ツバシキズイドウ | H3: 路 線 名 | J3: 国道191号 | M3: 定期点検実施者 | P3: アジア航測株式会社 | S3: 定期点検年月日 | U3: 45919
B4: 名 称 | E4: 津波敷隧道 | H4: 管理者名 | J4: 山口県下関土木建築事務所 | P4: 飯田 琢巳
B5: 写真 番号 | C5: 覆工スパン 番号 | E5: PS | M5: 写真 番号 | N5: 覆工スパン 番号 | P5: PS
C6: 変状番号 | E6: 1 | N6: 変状番号 | P6: 2
B7: 変状 部位 | C7: 対象箇所 | E7: 覆工 | M7: 変状 部位 | N7: 対象箇所 | P7: 覆工
C8: 部位区分 | E8: 面壁・妻壁等 | N8: 部位区分 | P8: 面壁・妻壁等
B9: 変状種類 | E9: その他 | M9: 変状種類 | P9: その他
B10: 対策 区分 | C10: 変状区分 | E10: 材質劣化 | M10: 対策 区分 | N10: 変状区分 | P10: 材質劣化
C11: 応急措置前 | E11: - | N11: 応急措置前 | P11: -
C12: 応急措置後 | E12: Ⅰ | N12: 応急措置後 | P12: Ⅰ
B13: 変状の発生範囲及び規模 | E13: 0.1m×4.7m | H13: 前回変状の発生範囲及び規模 | J13: 外力・ひび割れ W=10.0mm×L=4.7m | M13: 変状の発生範囲及び規模 | P13: 0.1m×1.0m | S13: 前回変状の発生範囲及び規模 | U13: 外力・ひび割れ W=5.0mm×L=1.0m
B14: 対策履歴 | E14: - | H14: 実施状況（実施日） | J14: - | M14: 対策履歴 | P14: - | S14: 実施状況（実施日） | U14: -
B15: メモ | E15: ひび割れ注入工により補修対策済 | M15: メモ | P15: ひび割れ注入工により補修対策済
B16: 写真 番号 | C16: 覆工スパン 番号 | E16: PS | M16: 写真 番号 | N16: 覆工スパン 番号 | P16: PS
C17: 変状番号 | E17: 3 | N17: 変状番号 | P17: 4
B18: 変状 部位 | C18: 対象箇所 | E18: 覆工 | M18: 変状 部位 | N18: 対象箇所 | P18: 覆工
C19: 部位区分 | E19: 面壁・妻壁等 | N19: 部位区分 | P19: 面壁・妻壁等
B20: 変状種類 | E20: うき・はく離 | M20: 変状種類 | P20: その他
B21: 対策 区分 | C21: 変状区分 | E21: 材質劣化 | M21: 対策 区分 | N21: 変状区分 | P21: 材質劣化
C22: 応急措置前 | E22: - | N22: 応急措置前 | P22: -
C23: 応急措置後 | E23: Ⅱa | N23: 応急措置後 | P23: Ⅰ
B24: 変状の発生範囲及び規模 | E24: 0.1m×0.5m | H24: 前回変状の発生範囲及び規模 | J24: うき・はく離 0.1m×0.5m | M24: 変状の発生範囲及び規模 | P24: 0.1m×0.9m | S24: 前回変状の発生範囲及び規模 | U24: 外力・ひび割れ W=5.0mm×L=0.9m
B25: 対策履歴 | E25: - | H25: 実施状況（実施日） | J25: - | M25: 対策履歴 | P25: - | S25: 実施状況（実施日） | U25: -
B26: メモ | E26: 面壁のうき 浸透性硬化剤塗布済 計画的な対策が望まれる | M26: メモ | P26: ひび割れ注入工により補修対策済
C27: ※ 応急措置後の対策区分について添付すること。また、点検前に 実施された措置によりⅠと判定された箇所も添付すること。 | N27: ※ 変状の発生範囲の規模とは、対策を行う際に参考となる変状の長さや面積をいう。
N28: ※ 応急措置を実施しないで決定した変状の対策区分は、対策区分の応急措置後の欄に記入すること。
C29: ※ たたき落としを実施した場合は、実施後の写真を添付すること。 | N29: ※ 変状の発生範囲の規模は、面積・寸法を記載すること。(ひび割れ幅のみmmとし、その他をm表記とする)
C30: ※ 附属物の取付状態に関する異常写真は別途、任意の書式でとりまとめること。 | N30: ※ 構造用鋼材以外の異物に伴ううき・はく離については、メモ欄に異物の概要を記入すること。

Sheet 様式D-1-1 P002
B2: ■定期点検記録様式 変状写真台帳【様式D-1-1】 | R2: 施設ID | T2: ='様式A-1'!W2 -> 34.25614,130.89992
B3: フリガナ | E3: ツバシキズイドウ | H3: 路 線 名 | J3: 国道191号 | M3: 定期点検実施者 | P3: アジア航測株式会社 | S3: 定期点検年月日 | U3: 45919
B4: 名 称 | E4: 津波敷隧道 | H4: 管理者名 | J4: 山口県下関土木建築事務所 | P4: 飯田 琢巳
B5: 写真 番号 | C5: 覆工スパン 番号 | E5: PS | M5: 写真 番号 | N5: 覆工スパン 番号 | P5: PS
C6: 変状番号 | E6: 5 | N6: 変状番号 | P6: 6
B7: 変状 部位 | C7: 対象箇所 | E7: 覆工 | M7: 変状 部位 | N7: 対象箇所 | P7: 覆工
C8: 部位区分 | E8: 面壁・妻壁等 | N8: 部位区分 | P8: 面壁・妻壁等
B9: 変状種類 | E9: その他 | M9: 変状種類 | P9: その他
B10: 対策 区分 | C10: 変状区分 | E10: 材質劣化 | M10: 対策 区分 | N10: 変状区分 | P10: 材質劣化
C11: 応急措置前 | E11: - | N11: 応急措置前 | P11: -
C12: 応急措置後 | E12: Ⅰ | N12: 応急措置後 | P12: Ⅰ
B13: 変状の発生範囲及び規模 | E13: 0.1m×3.7m | H13: 前回変状の発生範囲及び規模 | J13: 外力・ひび割れ W=1.0mm×L=3.7m | M13: 変状の発生範囲及び規模 | P13: 0.1m×6.2m | S13: 前回変状の発生範囲及び規模 | U13: 外力・ひび割れ W=30.0mm×L=6.2m
B14: 対策履歴 | E14: - | H14: 実施状況（実施日） | J14: - | M14: 対策履歴 | P14: - | S14: 実施状況（実施日） | U14: -
B15: メモ | E15: ひび割れ注入工により補修対策済 | M15: メモ | P15: ひび割れ注入工により補修対策済
B16: 写真 番号 | C16: 覆工スパン 番号 | E16: PS | M16: 写真 番号 | N16: 覆工スパン 番号 | P16: PS
C17: 変状番号 | E17: 7 | N17: 変状番号 | P17: 8
B18: 変状 部位 | C18: 対象箇所 | E18: 覆工 | M18: 変状 部位 | N18: 対象箇所 | P18: 覆工
C19: 部位区分 | E19: 面壁・妻壁等 | N19: 部位区分 | P19: 面壁・妻壁等
B20: 変状種類 | E20: その他 | M20: 変状種類 | P20: その他
B21: 対策 区分 | C21: 変状区分 | E21: 材質劣化 | M21: 対策 区分 | N21: 変状区分 | P21: 材質劣化
C22: 応急措置前 | E22: - | N22: 応急措置前 | P22: -
C23: 応急措置後 | E23: Ⅰ | N23: 応急措置後 | P23: Ⅰ
B24: 変状の発生範囲及び規模 | E24: 0.1m×2.0m | H24: 前回変状の発生範囲及び規模 | J24: 外力・ひび割れ W=3.0mm×L=2.0m | M24: 変状の発生範囲及び規模 | P24: 0.1m×1.5m | S24: 前回変状の発生範囲及び規模 | U24: 外力・ひび割れ W=1.5mm×L=1.5m
B25: 対策履歴 | E25: - | H25: 実施状況（実施日） | J25: - | M25: 対策履歴 | P25: - | S25: 実施状況（実施日） | U25: -
B26: メモ | E26: ひび割れ注入工により補修対策済 | M26: メモ | P26: ひび割れ注入工により補修対策済
C27: ※ 応急措置後の対策区分について添付すること。また、点検前に 実施された措置によりⅠと判定された箇所も添付すること。 | N27: ※ 変状の発生範囲の規模とは、対策を行う際に参考となる変状の長さや面積をいう。
N28: ※ 応急措置を実施しないで決定した変状の対策区分は、対策区分の応急措置後の欄に記入すること。
C29: ※ たたき落としを実施した場合は、実施後の写真を添付すること。 | N29: ※ 変状の発生範囲の規模は、面積・寸法を記載すること。(ひび割れ幅のみmmとし、その他をm表記とする)
C30: ※ 附属物の取付状態に関する異常写真は別途、任意の書式でとりまとめること。 | N30: ※ 構造用鋼材以外の異物に伴ううき・はく離については、メモ欄に異物の概要を記入すること。

Sheet 様式D-1-1 P003
B2: ■定期点検記録様式 変状写真台帳【様式D-1-1】 | R2: 施設ID | T2: ='様式A-1'!W2 -> 34.25614,130.89992
B3: フリガナ | E3: ツバシキズイドウ | H3: 路 線 名 | J3: 国道191号 | M3: 定期点検実施者 | P3: アジア航測株式会社 | S3: 定期点検年月日 | U3: 45919
B4: 名 称 | E4: 津波敷隧道 | H4: 管理者名 | J4: 山口県下関土木建築事務所 | P4: 飯田 琢巳
B5: 写真 番号 | C5: 覆工スパン 番号 | E5: PS | M5: 写真 番号 | N5: 覆工スパン 番号 | P5: PS
C6: 変状番号 | E6: 9 | N6: 変状番号 | P6: 10
B7: 変状 部位 | C7: 対象箇所 | E7: 覆工 | M7: 変状 部位 | N7: 対象箇所 | P7: 覆工
C8: 部位区分 | E8: 面壁・妻壁等 | N8: 部位区分 | P8: 面壁・妻壁等
B9: 変状種類 | E9: その他 | M9: 変状種類 | P9: その他
B10: 対策 区分 | C10: 変状区分 | E10: 材質劣化 | M10: 対策 区分 | N10: 変状区分 | P10: 材質劣化
C11: 応急措置前 | E11: - | N11: 応急措置前 | P11: -
C12: 応急措置後 | E12: Ⅰ | N12: 応急措置後 | P12: Ⅰ
B13: 変状の発生範囲及び規模 | E13: - | H13: 前回変状の発生範囲及び規模 | J13: うき・はく離 0.1m×3.2m | M13: 変状の発生範囲及び規模 | P13: 1.6m×1.7m | S13: 前回変状の発生範囲及び規模 | U13: うき・はく離 0.8m×1.0m
B14: 対策履歴 | E14: - | H14: 実施状況（実施日） | J14: - | M14: 対策履歴 | P14: - | S14: 実施状況（実施日） | U14: -
B15: メモ | E15: 面壁の濁音 今回打音異常は確認されなかった | M15: メモ | P15: 剥落対策工により補修済
B16: 写真 番号 | C16: 覆工スパン 番号 | E16: PS | M16: 写真 番号 | N16: 覆工スパン 番号 | P16: PS
C17: 変状番号 | E17: 11 | N17: 変状番号 | P17: 12
B18: 変状 部位 | C18: 対象箇所 | E18: 覆工 | M18: 変状 部位 | N18: 対象箇所 | P18: 覆工
C19: 部位区分 | E19: 面壁・妻壁等 | N19: 部位区分 | P19: 面壁・妻壁等
B20: 変状種類 | E20: その他 | M20: 変状種類 | P20: その他
B21: 対策 区分 | C21: 変状区分 | E21: 材質劣化 | M21: 対策 区分 | N21: 変状区分 | P21: 材質劣化
C22: 応急措置前 | E22: - | N22: 応急措置前 | P22: -
C23: 応急措置後 | E23: Ⅰ | N23: 応急措置後 | P23: Ⅰ
B24: 変状の発生範囲及び規模 | E24: 0.1m×1.2m | H24: 前回変状の発生範囲及び規模 | J24: 外力・ひび割れ W=0.85mm×L=1.2m | M24: 変状の発生範囲及び規模 | P24: 0.1m×0.7m | S24: 前回変状の発生範囲及び規模 | U24: 外力・ひび割れ W=1.5mm×L=0.7m
B25: 対策履歴 | E25: - | H25: 実施状況（実施日） | J25: - | M25: 対策履歴 | P25: - | S25: 実施状況（実施日） | U25: -
B26: メモ | E26: ひび割れ注入工により補修対策済 | M26: メモ | P26: ひび割れ注入工により補修対策済
C27: ※ 応急措置後の対策区分について添付すること。また、点検前に 実施された措置によりⅠと判定された箇所も添付すること。 | N27: ※ 変状の発生範囲の規模とは、対策を行う際に参考となる変状の長さや面積をいう。
N28: ※ 応急措置を実施しないで決定した変状の対策区分は、対策区分の応急措置後の欄に記入すること。
C29: ※ たたき落としを実施した場合は、実施後の写真を添付すること。 | N29: ※ 変状の発生範囲の規模は、面積・寸法を記載すること。(ひび割れ幅のみmmとし、その他をm表記とする)
C30: ※ 附属物の取付状態に関する異常写真は別途、任意の書式でとりまとめること。 | N30: ※ 構造用鋼材以外の異物に伴ううき・はく離については、メモ欄に異物の概要を記入すること。

Sheet 様式D-1-1 P004
B2: ■定期点検記録様式 変状写真台帳【様式D-1-1】 | R2: 施設ID | T2: ='様式A-1'!W2 -> 34.25614,130.89992
B3: フリガナ | E3: ツバシキズイドウ | H3: 路 線 名 | J3: 国道191号 | M3: 定期点検実施者 | P3: アジア航測株式会社 | S3: 定期点検年月日 | U3: 45919
B4: 名 称 | E4: 津波敷隧道 | H4: 管理者名 | J4: 山口県下関土木建築事務所 | P4: 飯田 琢巳
B5: 写真 番号 | C5: 覆工スパン 番号 | E5: PS | M5: 写真 番号 | N5: 覆工スパン 番号 | P5: PS
C6: 変状番号 | E6: 13 | N6: 変状番号 | P6: 14
B7: 変状 部位 | C7: 対象箇所 | E7: 覆工 | M7: 変状 部位 | N7: 対象箇所 | P7: 覆工
C8: 部位区分 | E8: 面壁・妻壁等 | N8: 部位区分 | P8: 面壁・妻壁等
B9: 変状種類 | E9: うき・はく離 | M9: 変状種類 | P9: うき・はく離
B10: 対策 区分 | C10: 変状区分 | E10: 材質劣化 | M10: 対策 区分 | N10: 変状区分 | P10: 材質劣化
C11: 応急措置前 | E11: - | N11: 応急措置前 | P11: -
C12: 応急措置後 | E12: Ⅱa | N12: 応急措置後 | P12: Ⅱa
B13: 変状の発生範囲及び規模 | E13: 1.2m×0.05m | H13: 前回変状の発生範囲及び規模 | J13: 新規 | M13: 変状の発生範囲及び規模 | P13: 0.9m×0.05m | S13: 前回変状の発生範囲及び規模 | U13: 新規
B14: 対策履歴 | E14: - | H14: 実施状況（実施日） | J14: - | M14: 対策履歴 | P14: - | S14: 実施状況（実施日） | U14: -
B15: メモ | E15: 面壁のうき 浸透性硬化剤塗布済 計画的な対策が望まれる | M15: メモ | P15: 面壁のうき 浸透性硬化剤塗布済 計画的な対策が望まれる
B16: 写真 番号 | C16: 覆工スパン 番号 | E16: PS | M16: 写真 番号 | N16: 覆工スパン 番号 | P16: PS
C17: 変状番号 | E17: 15 | N17: 変状番号 | P17: 16
B18: 変状 部位 | C18: 対象箇所 | E18: 覆工 | M18: 変状 部位 | N18: 対象箇所 | P18: 覆工
C19: 部位区分 | E19: 面壁・妻壁等 | N19: 部位区分 | P19: 面壁・妻壁等
B20: 変状種類 | E20: うき・はく離 | M20: 変状種類 | P20: 圧ざ、ひび割れ
B21: 対策 区分 | C21: 変状区分 | E21: 材質劣化 | M21: 対策 区分 | N21: 変状区分 | P21: 材質劣化
C22: 応急措置前 | E22: - | N22: 応急措置前 | P22: -
C23: 応急措置後 | E23: Ⅱa | N23: 応急措置後 | P23: Ⅱa
B24: 変状の発生範囲及び規模 | E24: 0.05m×0.3m | H24: 前回変状の発生範囲及び規模 | J24: 新規 | M24: 変状の発生範囲及び規模 | P24: W=10.0mm×L=0.8m | S24: 前回変状の発生範囲及び規模 | U24: 新規
B25: 対策履歴 | E25: - | H25: 実施状況（実施日） | J25: - | M25: 対策履歴 | P25: - | S25: 実施状況（実施日） | U25: -
B26: メモ | E26: 面壁のうき 浸透性硬化剤塗布済 計画的な対策が望まれる | M26: メモ | P26: 面壁のひび割れ 計画的な対策が望まれる
C27: ※ 応急措置後の対策区分について添付すること。また、点検前に 実施された措置によりⅠと判定された箇所も添付すること。 | N27: ※ 変状の発生範囲の規模とは、対策を行う際に参考となる変状の長さや面積をいう。
N28: ※ 応急措置を実施しないで決定した変状の対策区分は、対策区分の応急措置後の欄に記入すること。
C29: ※ たたき落としを実施した場合は、実施後の写真を添付すること。 | N29: ※ 変状の発生範囲の規模は、面積・寸法を記載すること。(ひび割れ幅のみmmとし、その他をm表記とする)
C30: ※ 附属物の取付状態に関する異常写真は別途、任意の書式でとりまとめること。 | N30: ※ 構造用鋼材以外の異物に伴ううき・はく離については、メモ欄に異物の概要を記入すること。

Sheet 様式D-1-1 P005
B2: ■定期点検記録様式 変状写真台帳【様式D-1-1】 | R2: 施設ID | T2: ='様式A-1'!W2 -> 34.25614,130.89992
B3: フリガナ | E3: ツバシキズイドウ | H3: 路 線 名 | J3: 国道191号 | M3: 定期点検実施者 | P3: アジア航測株式会社 | S3: 定期点検年月日 | U3: 45919
B4: 名 称 | E4: 津波敷隧道 | H4: 管理者名 | J4: 山口県下関土木建築事務所 | P4: 飯田 琢巳
B5: 写真 番号 | C5: 覆工スパン 番号 | E5: PS | M5: 写真 番号 | N5: 覆工スパン 番号 | P5: 1
C6: 変状番号 | E6: 17 | N6: 変状番号 | P6: 1
B7: 変状 部位 | C7: 対象箇所 | E7: 覆工 | M7: 変状 部位 | N7: 対象箇所 | P7: 覆工
C8: 部位区分 | E8: 面壁・妻壁等 | N8: 部位区分 | P8: 側壁（左側）
B9: 変状種類 | E9: 圧ざ、ひび割れ | M9: 変状種類 | P9: その他
B10: 対策 区分 | C10: 変状区分 | E10: 材質劣化 | M10: 対策 区分 | N10: 変状区分 | P10: 材質劣化
C11: 応急措置前 | E11: - | N11: 応急措置前 | P11: -
C12: 応急措置後 | E12: Ⅱa | N12: 応急措置後 | P12: Ⅰ
B13: 変状の発生範囲及び規模 | E13: W=10.0mm×L=1.0m | H13: 前回変状の発生範囲及び規模 | J13: 新規 | M13: 変状の発生範囲及び規模 | P13: 漏水防止工 | S13: 前回変状の発生範囲及び規模 | U13: その他 補修済 漏水防止工
B14: 対策履歴 | E14: - | H14: 実施状況（実施日） | J14: - | M14: 対策履歴 | P14: - | S14: 実施状況（実施日） | U14: -
B15: メモ | E15: 面壁のひび割れ 計画的な対策が望まれる | M15: メモ | P15: 既存補修跡
B16: 写真 番号 | C16: 覆工スパン 番号 | E16: 1 | M16: 写真 番号 | N16: 覆工スパン 番号 | P16: 1
C17: 変状番号 | E17: 2 | N17: 変状番号 | P17: 3
B18: 変状 部位 | C18: 対象箇所 | E18: 覆工 | M18: 変状 部位 | N18: 対象箇所 | P18: 覆工
C19: 部位区分 | E19: アーチ（左側） | N19: 部位区分 | P19: アーチ（左側）
B20: 変状種類 | E20: うき・はく離 | M20: 変状種類 | P20: 圧ざ、ひび割れ
B21: 対策 区分 | C21: 変状区分 | E21: 材質劣化 | M21: 対策 区分 | N21: 変状区分 | P21: 材質劣化
C22: 応急措置前 | E22: - | N22: 応急措置前 | P22: -
C23: 応急措置後 | E23: Ⅱa | N23: 応急措置後 | P23: Ⅱb
B24: 変状の発生範囲及び規模 | E24: 0.6m×0.3m | H24: 前回変状の発生範囲及び規模 | J24: うき・はく離 0.1m×0.2m | M24: 変状の発生範囲及び規模 | P24: W=0.4mm×L=0.5m | S24: 前回変状の発生範囲及び規模 | U24: 外力・ひび割れ W=0.4mm×L=0.5m
B25: 対策履歴 | E25: - | H25: 実施状況（実施日） | J25: - | M25: 対策履歴 | P25: - | S25: 実施状況（実施日） | U25: -
B26: メモ | E26: アーチのうき 浸透性硬化剤塗布済 計画的な対策が望まれる | M26: メモ | P26: アーチのひび割れ 経過観察が望まれる
C27: ※ 応急措置後の対策区分について添付すること。また、点検前に 実施された措置によりⅠと判定された箇所も添付すること。 | N27: ※ 変状の発生範囲の規模とは、対策を行う際に参考となる変状の長さや面積をいう。
N28: ※ 応急措置を実施しないで決定した変状の対策区分は、対策区分の応急措置後の欄に記入すること。
C29: ※ たたき落としを実施した場合は、実施後の写真を添付すること。 | N29: ※ 変状の発生範囲の規模は、面積・寸法を記載すること。(ひび割れ幅のみmmとし、その他をm表記とする)
C30: ※ 附属物の取付状態に関する異常写真は別途、任意の書式でとりまとめること。 | N30: ※ 構造用鋼材以外の異物に伴ううき・はく離については、メモ欄に異物の概要を記入すること。

Sheet 様式D-1-1 P006
B2: ■定期点検記録様式 変状写真台帳【様式D-1-1】 | R2: 施設ID | T2: ='様式A-1'!W2 -> 34.25614,130.89992
B3: フリガナ | E3: ツバシキズイドウ | H3: 路 線 名 | J3: 国道191号 | M3: 定期点検実施者 | P3: アジア航測株式会社 | S3: 定期点検年月日 | U3: 45919
B4: 名 称 | E4: 津波敷隧道 | H4: 管理者名 | J4: 山口県下関土木建築事務所 | P4: 飯田 琢巳
B5: 写真 番号 | C5: 覆工スパン 番号 | E5: 1 | M5: 写真 番号 | N5: 覆工スパン 番号 | P5: 1
C6: 変状番号 | E6: 4 | N6: 変状番号 | P6: 5
B7: 変状 部位 | C7: 対象箇所 | E7: 覆工 | M7: 変状 部位 | N7: 対象箇所 | P7: 覆工
C8: 部位区分 | E8: アーチ（左側） | N8: 部位区分 | P8: アーチ（左側）
B9: 変状種類 | E9: うき・はく離 | M9: 変状種類 | P9: 漏水
B10: 対策 区分 | C10: 変状区分 | E10: 材質劣化 | M10: 対策 区分 | N10: 変状区分 | P10: 漏水
C11: 応急措置前 | E11: - | N11: 応急措置前 | P11: -
C12: 応急措置後 | E12: Ⅱa | N12: 応急措置後 | P12: Ⅱa
B13: 変状の発生範囲及び規模 | E13: 0.2m×0.2m | H13: 前回変状の発生範囲及び規模 | J13: うき・はく離 0.2m×0.2m | M13: 変状の発生範囲及び規模 | P13: 7.9m×0.5m | S13: 前回変状の発生範囲及び規模 | U13: 漏水 10.0m×0.7m
B14: 対策履歴 | E14: - | H14: 実施状況（実施日） | J14: - | M14: 対策履歴 | P14: - | S14: 実施状況（実施日） | U14: -
B15: メモ | E15: アーチのうき 浸透性硬化剤塗布済 計画的な対策が望まれる | M15: メモ | P15: アーチの滴水(10ml/min) 経過観察が望まれる
B16: 写真 番号 | C16: 覆工スパン 番号 | E16: 1 | M16: 写真 番号 | N16: 覆工スパン 番号 | P16: 1
C17: 変状番号 | E17: 6 | N17: 変状番号 | P17: 7
B18: 変状 部位 | C18: 対象箇所 | E18: 覆工 | M18: 変状 部位 | N18: 対象箇所 | P18: 覆工
C19: 部位区分 | E19: アーチ（天端） | N19: 部位区分 | P19: アーチ（天端）
B20: 変状種類 | E20: 圧ざ、ひび割れ | M20: 変状種類 | P20: その他
B21: 対策 区分 | C21: 変状区分 | E21: 材質劣化 | M21: 対策 区分 | N21: 変状区分 | P21: 材質劣化
C22: 応急措置前 | E22: - | N22: 応急措置前 | P22: -
C23: 応急措置後 | E23: Ⅱb | N23: 応急措置後 | P23: Ⅰ
B24: 変状の発生範囲及び規模 | E24: W=1.0mm×L=3.0m | H24: 前回変状の発生範囲及び規模 | J24: 外力・ひび割れ W=1.0mm×L=1.8m | M24: 変状の発生範囲及び規模 | P24: 漏水防止工 | S24: 前回変状の発生範囲及び規模 | U24: その他 補修済 漏水防止工
B25: 対策履歴 | E25: - | H25: 実施状況（実施日） | J25: - | M25: 対策履歴 | P25: - | S25: 実施状況（実施日） | U25: -
B26: メモ | E26: アーチのひび割れ 経過観察が望まれる | M26: メモ | P26: 既存補修跡
C27: ※ 応急措置後の対策区分について添付すること。また、点検前に 実施された措置によりⅠと判定された箇所も添付すること。 | N27: ※ 変状の発生範囲の規模とは、対策を行う際に参考となる変状の長さや面積をいう。
N28: ※ 応急措置を実施しないで決定した変状の対策区分は、対策区分の応急措置後の欄に記入すること。
C29: ※ たたき落としを実施した場合は、実施後の写真を添付すること。 | N29: ※ 変状の発生範囲の規模は、面積・寸法を記載すること。(ひび割れ幅のみmmとし、その他をm表記とする)
C30: ※ 附属物の取付状態に関する異常写真は別途、任意の書式でとりまとめること。 | N30: ※ 構造用鋼材以外の異物に伴ううき・はく離については、メモ欄に異物の概要を記入すること。

Sheet 様式D-1-1 P007
B2: ■定期点検記録様式 変状写真台帳【様式D-1-1】 | R2: 施設ID | T2: ='様式A-1'!W2 -> 34.25614,130.89992
B3: フリガナ | E3: ツバシキズイドウ | H3: 路 線 名 | J3: 国道191号 | M3: 定期点検実施者 | P3: アジア航測株式会社 | S3: 定期点検年月日 | U3: 45919
B4: 名 称 | E4: 津波敷隧道 | H4: 管理者名 | J4: 山口県下関土木建築事務所 | P4: 飯田 琢巳
B5: 写真 番号 | C5: 覆工スパン 番号 | E5: 1 | M5: 写真 番号 | N5: 覆工スパン 番号 | P5: 1
C6: 変状番号 | E6: 8 | N6: 変状番号 | P6: 9
B7: 変状 部位 | C7: 対象箇所 | E7: 覆工 | M7: 変状 部位 | N7: 対象箇所 | P7: 覆工
C8: 部位区分 | E8: 側壁（右側） | N8: 部位区分 | P8: 側壁（右側）
B9: 変状種類 | E9: うき・はく離 | M9: 変状種類 | P9: その他
B10: 対策 区分 | C10: 変状区分 | E10: 材質劣化 | M10: 対策 区分 | N10: 変状区分 | P10: 材質劣化
C11: 応急措置前 | E11: - | N11: 応急措置前 | P11: -
C12: 応急措置後 | E12: Ⅱb | N12: 応急措置後 | P12: Ⅰ
B13: 変状の発生範囲及び規模 | E13: 0.1m×1.3m | H13: 前回変状の発生範囲及び規模 | J13: うき・はく離 0.1m×0.8m | M13: 変状の発生範囲及び規模 | P13: 漏水防止工 | S13: 前回変状の発生範囲及び規模 | U13: その他 補修済 漏水防止工
B14: 対策履歴 | E14: - | H14: 実施状況（実施日） | J14: - | M14: 対策履歴 | P14: - | S14: 実施状況（実施日） | U14: -
B15: メモ | E15: 側壁のうき 経過観察が望まれる | M15: メモ | P15: 既存補修跡
B16: 写真 番号 | C16: 覆工スパン 番号 | E16: 1 | M16: 写真 番号 | N16: 覆工スパン 番号 | P16: 1
C17: 変状番号 | E17: 10 | N17: 変状番号 | P17: 11
B18: 変状 部位 | C18: 対象箇所 | E18: 覆工 | M18: 変状 部位 | N18: 対象箇所 | P18: 路面
C19: 部位区分 | E19: 側壁（右側） | N19: 部位区分 | P19: 車道
B20: 変状種類 | E20: 圧ざ、ひび割れ | M20: 変状種類 | P20: その他
B21: 対策 区分 | C21: 変状区分 | E21: 材質劣化 | M21: 対策 区分 | N21: 変状区分 | P21: 材質劣化
C22: 応急措置前 | E22: - | N22: 応急措置前
C23: 応急措置後 | E23: Ⅱb | N23: 応急措置後
B24: 変状の発生範囲及び規模 | E24: W=0.8mm×L=2.4m | H24: 前回変状の発生範囲及び規模 | J24: 外力・ひび割れ W=0.8mm×L=2.4m | M24: 変状の発生範囲及び規模 | P24: 段差30.0mm×L3.2m | S24: 前回変状の発生範囲及び規模 | U24: 外力・段差 目地段差30㎜
B25: 対策履歴 | E25: - | H25: 実施状況（実施日） | J25: - | M25: 対策履歴 | P25: - | S25: 実施状況（実施日） | U25: -
B26: メモ | E26: 側壁のひび割れ 経過観察が望まれる | M26: メモ | P26: 車道の段差30㎜
C27: ※ 応急措置後の対策区分について添付すること。また、点検前に 実施された措置によりⅠと判定された箇所も添付すること。 | N27: ※ 変状の発生範囲の規模とは、対策を行う際に参考となる変状の長さや面積をいう。
N28: ※ 応急措置を実施しないで決定した変状の対策区分は、対策区分の応急措置後の欄に記入すること。
C29: ※ たたき落としを実施した場合は、実施後の写真を添付すること。 | N29: ※ 変状の発生範囲の規模は、面積・寸法を記載すること。(ひび割れ幅のみmmとし、その他をm表記とする)
C30: ※ 附属物の取付状態に関する異常写真は別途、任意の書式でとりまとめること。 | N30: ※ 構造用鋼材以外の異物に伴ううき・はく離については、メモ欄に異物の概要を記入すること。

Sheet 様式D-1-1 P008
B2: ■定期点検記録様式 変状写真台帳【様式D-1-1】 | R2: 施設ID | T2: ='様式A-1'!W2 -> 34.25614,130.89992
B3: フリガナ | E3: ツバシキズイドウ | H3: 路 線 名 | J3: 国道191号 | M3: 定期点検実施者 | P3: アジア航測株式会社 | S3: 定期点検年月日 | U3: 45919
B4: 名 称 | E4: 津波敷隧道 | H4: 管理者名 | J4: 山口県下関土木建築事務所 | P4: 飯田 琢巳
B5: 写真 番号 | C5: 覆工スパン 番号 | E5: 1 | M5: 写真 番号 | N5: 覆工スパン 番号 | P5: 1
C6: 変状番号 | E6: 12 | N6: 変状番号 | P6: 13
B7: 変状 部位 | C7: 対象箇所 | E7: 路面 | M7: 変状 部位 | N7: 対象箇所 | P7: 路面
C8: 部位区分 | E8: 車道 | N8: 部位区分 | P8: 車道
B9: 変状種類 | E9: 圧ざ、ひび割れ | M9: 変状種類 | P9: 圧ざ、ひび割れ
B10: 対策 区分 | C10: 変状区分 | E10: 材質劣化 | M10: 対策 区分 | N10: 変状区分 | P10: 材質劣化
C11: 応急措置前 | N11: 応急措置前
C12: 応急措置後 | N12: 応急措置後
B13: 変状の発生範囲及び規模 | E13: W=2.0mm×L=3.2m | H13: 前回変状の発生範囲及び規模 | J13: 外力・ひび割れ W=1.5mm×L=3.2m | M13: 変状の発生範囲及び規模 | P13: W=0.8mm×L=2.4m | S13: 前回変状の発生範囲及び規模 | U13: 外力・ひび割れ W=0.8mm×L=2.4m
B14: 対策履歴 | E14: - | H14: 実施状況（実施日） | J14: - | M14: 対策履歴 | P14: - | S14: 実施状況（実施日） | U14: -
B15: メモ | E15: 車道のひび割れ | M15: メモ | P15: 車道のひび割れ
B16: 写真 番号 | C16: 覆工スパン 番号 | E16: 1 | M16: 写真 番号 | N16: 覆工スパン 番号 | P16: 2
C17: 変状番号 | E17: 14 | N17: 変状番号 | P17: 1
B18: 変状 部位 | C18: 対象箇所 | E18: 路面 | M18: 変状 部位 | N18: 対象箇所 | P18: 覆工
C19: 部位区分 | E19: 側溝 | N19: 部位区分 | P19: アーチ（左側）
B20: 変状種類 | E20: その他 | M20: 変状種類 | P20: その他
B21: 対策 区分 | C21: 変状区分 | E21: 材質劣化 | M21: 対策 区分 | N21: 変状区分 | P21: 材質劣化
C22: 応急措置前 | N22: 応急措置前 | P22: -
C23: 応急措置後 | N23: 応急措置後 | P23: Ⅰ
B24: 変状の発生範囲及び規模 | E24: 0.45m×4.0m | H24: 前回変状の発生範囲及び規模 | J24: 材質劣化・ｸﾞﾚｰﾁﾝｸﾞ破損 | M24: 変状の発生範囲及び規模 | P24: 漏水防止工 | S24: 前回変状の発生範囲及び規模 | U24: その他 補修済 漏水防止工
B25: 対策履歴 | E25: - | H25: 実施状況（実施日） | J25: - | M25: 対策履歴 | P25: - | S25: 実施状況（実施日） | U25: -
B26: メモ | E26: 側溝の蓋破損（ひび割れ） | M26: メモ | P26: 既存補修跡
C27: ※ 応急措置後の対策区分について添付すること。また、点検前に 実施された措置によりⅠと判定された箇所も添付すること。 | N27: ※ 変状の発生範囲の規模とは、対策を行う際に参考となる変状の長さや面積をいう。
N28: ※ 応急措置を実施しないで決定した変状の対策区分は、対策区分の応急措置後の欄に記入すること。
C29: ※ たたき落としを実施した場合は、実施後の写真を添付すること。 | N29: ※ 変状の発生範囲の規模は、面積・寸法を記載すること。(ひび割れ幅のみmmとし、その他をm表記とする)
C30: ※ 附属物の取付状態に関する異常写真は別途、任意の書式でとりまとめること。 | N30: ※ 構造用鋼材以外の異物に伴ううき・はく離については、メモ欄に異物の概要を記入すること。

Sheet 様式D-1-1 P009
B2: ■定期点検記録様式 変状写真台帳【様式D-1-1】 | R2: 施設ID | T2: ='様式A-1'!W2 -> 34.25614,130.89992
B3: フリガナ | E3: ツバシキズイドウ | H3: 路 線 名 | J3: 国道191号 | M3: 定期点検実施者 | P3: アジア航測株式会社 | S3: 定期点検年月日 | U3: 45919
B4: 名 称 | E4: 津波敷隧道 | H4: 管理者名 | J4: 山口県下関土木建築事務所 | P4: 飯田 琢巳
B5: 写真 番号 | C5: 覆工スパン 番号 | E5: 2 | M5: 写真 番号 | N5: 覆工スパン 番号 | P5: 2
C6: 変状番号 | E6: 2 | N6: 変状番号 | P6: 3
B7: 変状 部位 | C7: 対象箇所 | E7: 覆工 | M7: 変状 部位 | N7: 対象箇所 | P7: 覆工
C8: 部位区分 | E8: 側壁（左側） | N8: 部位区分 | P8: アーチ（左側）
B9: 変状種類 | E9: 圧ざ、ひび割れ | M9: 変状種類 | P9: 圧ざ、ひび割れ
B10: 対策 区分 | C10: 変状区分 | E10: 材質劣化 | M10: 対策 区分 | N10: 変状区分 | P10: 材質劣化
C11: 応急措置前 | E11: - | N11: 応急措置前 | P11: -
C12: 応急措置後 | E12: Ⅱb | N12: 応急措置後 | P12: Ⅱb
B13: 変状の発生範囲及び規模 | E13: W=1.0mm×L=0.5m | H13: 前回変状の発生範囲及び規模 | J13: 外力・ひび割れ W=1.0mm×L=0.5m | M13: 変状の発生範囲及び規模 | P13: W=1.4mm×L=4.3m | S13: 前回変状の発生範囲及び規模 | U13: 外力・ひび割れ W=1.4mm×L=2.8m
B14: 対策履歴 | E14: - | H14: 実施状況（実施日） | J14: - | M14: 対策履歴 | P14: - | S14: 実施状況（実施日） | U14: -
B15: メモ | E15: 側壁のひび割れ 経過観察が望まれる | M15: メモ | P15: アーチのひび割れ 経過観察が望まれる
B16: 写真 番号 | C16: 覆工スパン 番号 | E16: 2 | M16: 写真 番号 | N16: 覆工スパン 番号 | P16: 2
C17: 変状番号 | E17: 4 | N17: 変状番号 | P17: 5
B18: 変状 部位 | C18: 対象箇所 | E18: 覆工 | M18: 変状 部位 | N18: 対象箇所 | P18: 覆工
C19: 部位区分 | E19: アーチ（左側） | N19: 部位区分 | P19: アーチ（左側）
B20: 変状種類 | E20: その他 | M20: 変状種類 | P20: 漏水
B21: 対策 区分 | C21: 変状区分 | E21: 材質劣化 | M21: 対策 区分 | N21: 変状区分 | P21: 漏水
C22: 応急措置前 | E22: - | N22: 応急措置前 | P22: -
C23: 応急措置後 | E23: Ⅰ | N23: 応急措置後 | P23: Ⅱb
B24: 変状の発生範囲及び規模 | E24: 3.3m×0.15m | H24: 前回変状の発生範囲及び規模 | J24: その他・破損 導水工破損 | M24: 変状の発生範囲及び規模 | P24: 7.6m×1.0m | S24: 前回変状の発生範囲及び規模 | U24: 漏水 7.6m×1.0m
B25: 対策履歴 | E25: - | H25: 実施状況（実施日） | J25: - | M25: 対策履歴 | P25: - | S25: 実施状況（実施日） | U25: -
B26: メモ | E26: 導水工の更新 | M26: メモ | P26: アーチのにじみ 経過観察が望まれる
C27: ※ 応急措置後の対策区分について添付すること。また、点検前に 実施された措置によりⅠと判定された箇所も添付すること。 | N27: ※ 変状の発生範囲の規模とは、対策を行う際に参考となる変状の長さや面積をいう。
N28: ※ 応急措置を実施しないで決定した変状の対策区分は、対策区分の応急措置後の欄に記入すること。
C29: ※ たたき落としを実施した場合は、実施後の写真を添付すること。 | N29: ※ 変状の発生範囲の規模は、面積・寸法を記載すること。(ひび割れ幅のみmmとし、その他をm表記とする)
C30: ※ 附属物の取付状態に関する異常写真は別途、任意の書式でとりまとめること。 | N30: ※ 構造用鋼材以外の異物に伴ううき・はく離については、メモ欄に異物の概要を記入すること。

Sheet 様式D-1-1 P010
B2: ■定期点検記録様式 変状写真台帳【様式D-1-1】 | R2: 施設ID | T2: ='様式A-1'!W2 -> 34.25614,130.89992
B3: フリガナ | E3: ツバシキズイドウ | H3: 路 線 名 | J3: 国道191号 | M3: 定期点検実施者 | P3: アジア航測株式会社 | S3: 定期点検年月日 | U3: 45919
B4: 名 称 | E4: 津波敷隧道 | H4: 管理者名 | J4: 山口県下関土木建築事務所 | P4: 飯田 琢巳
B5: 写真 番号 | C5: 覆工スパン 番号 | E5: 2 | M5: 写真 番号 | N5: 覆工スパン 番号 | P5: 2
C6: 変状番号 | E6: 6 | N6: 変状番号 | P6: 7
B7: 変状 部位 | C7: 対象箇所 | E7: 覆工 | M7: 変状 部位 | N7: 対象箇所 | P7: 覆工
C8: 部位区分 | E8: アーチ（左側） | N8: 部位区分 | P8: アーチ（左側）
B9: 変状種類 | E9: 圧ざ、ひび割れ | M9: 変状種類 | P9: 漏水
B10: 対策 区分 | C10: 変状区分 | E10: 材質劣化 | M10: 対策 区分 | N10: 変状区分 | P10: 漏水
C11: 応急措置前 | E11: - | N11: 応急措置前 | P11: -
C12: 応急措置後 | E12: Ⅱb | N12: 応急措置後 | P12: Ⅱb
B13: 変状の発生範囲及び規模 | E13: W=0.5mm×L=3.2m | H13: 前回変状の発生範囲及び規模 | J13: 外力・ひび割れ W=0.5mm×L=4.5m | M13: 変状の発生範囲及び規模 | P13: 8.0m×0.5m | S13: 前回変状の発生範囲及び規模 | U13: 漏水 8.0m×0.5m
B14: 対策履歴 | E14: - | H14: 実施状況（実施日） | J14: - | M14: 対策履歴 | P14: - | S14: 実施状況（実施日） | U14: -
B15: メモ | E15: アーチのひび割れ 経過観察が望まれる | M15: メモ | P15: アーチの遊離石灰(今回漏水は確認されなかった) 経過観察が望まれる
B16: 写真 番号 | C16: 覆工スパン 番号 | E16: 2 | M16: 写真 番号 | N16: 覆工スパン 番号 | P16: 2
C17: 変状番号 | E17: 8 | N17: 変状番号 | P17: 9
B18: 変状 部位 | C18: 対象箇所 | E18: 覆工 | M18: 変状 部位 | N18: 対象箇所 | P18: 覆工
C19: 部位区分 | E19: アーチ（右側） | N19: 部位区分 | P19: アーチ（右側）
B20: 変状種類 | E20: 圧ざ、ひび割れ | M20: 変状種類 | P20: その他
B21: 対策 区分 | C21: 変状区分 | E21: 材質劣化 | M21: 対策 区分 | N21: 変状区分 | P21: 材質劣化
C22: 応急措置前 | E22: - | N22: 応急措置前 | P22: -
C23: 応急措置後 | E23: Ⅱb | N23: 応急措置後 | P23: Ⅰ
B24: 変状の発生範囲及び規模 | E24: W=0.5mm×L=1.2m | H24: 前回変状の発生範囲及び規模 | J24: 外力・ひび割れ W=0.5mm×L=0.8m | M24: 変状の発生範囲及び規模 | P24: 漏水防止工 | S24: 前回変状の発生範囲及び規模 | U24: その他 補修済 漏水防止工
B25: 対策履歴 | E25: - | H25: 実施状況（実施日） | J25: - | M25: 対策履歴 | P25: - | S25: 実施状況（実施日） | U25: -
B26: メモ | E26: アーチのひび割れ 経過観察が望まれる | M26: メモ | P26: 既存補修跡
C27: ※ 応急措置後の対策区分について添付すること。また、点検前に 実施された措置によりⅠと判定された箇所も添付すること。 | N27: ※ 変状の発生範囲の規模とは、対策を行う際に参考となる変状の長さや面積をいう。
N28: ※ 応急措置を実施しないで決定した変状の対策区分は、対策区分の応急措置後の欄に記入すること。
C29: ※ たたき落としを実施した場合は、実施後の写真を添付すること。 | N29: ※ 変状の発生範囲の規模は、面積・寸法を記載すること。(ひび割れ幅のみmmとし、その他をm表記とする)
C30: ※ 附属物の取付状態に関する異常写真は別途、任意の書式でとりまとめること。 | N30: ※ 構造用鋼材以外の異物に伴ううき・はく離については、メモ欄に異物の概要を記入すること。

Sheet 様式D-1-1 P011
B2: ■定期点検記録様式 変状写真台帳【様式D-1-1】 | R2: 施設ID | T2: ='様式A-1'!W2 -> 34.25614,130.89992
B3: フリガナ | E3: ツバシキズイドウ | H3: 路 線 名 | J3: 国道191号 | M3: 定期点検実施者 | P3: アジア航測株式会社 | S3: 定期点検年月日 | U3: 45919
B4: 名 称 | E4: 津波敷隧道 | H4: 管理者名 | J4: 山口県下関土木建築事務所 | P4: 飯田 琢巳
B5: 写真 番号 | C5: 覆工スパン 番号 | E5: 3 | M5: 写真 番号 | N5: 覆工スパン 番号 | P5: 3
C6: 変状番号 | E6: 1 | N6: 変状番号 | P6: 2
B7: 変状 部位 | C7: 対象箇所 | E7: 覆工 | M7: 変状 部位 | N7: 対象箇所 | P7: 覆工
C8: 部位区分 | E8: 側壁（左側） | N8: 部位区分 | P8: 側壁（左側）
B9: 変状種類 | E9: 漏水 | M9: 変状種類 | P9: その他
B10: 対策 区分 | C10: 変状区分 | E10: 漏水 | M10: 対策 区分 | N10: 変状区分 | P10: 材質劣化
C11: 応急措置前 | E11: - | N11: 応急措置前 | P11: -
C12: 応急措置後 | E12: Ⅱb | N12: 応急措置後 | P12: Ⅰ
B13: 変状の発生範囲及び規模 | E13: 2.5m×1.0m | H13: 前回変状の発生範囲及び規模 | J13: 漏水 2.5m×1.0m | M13: 変状の発生範囲及び規模 | P13: 0.15m×9.0m | S13: 前回変状の発生範囲及び規模 | U13: 外力・ひび割れ W=6.0mm×L=9.0m
B14: 対策履歴 | E14: - | H14: 実施状況（実施日） | J14: - | M14: 対策履歴 | P14: - | S14: 実施状況（実施日） | U14: -
B15: メモ | E15: 側壁の遊離石灰(今回漏水は確認されなかった) 経過観察が望まれる | M15: メモ | P15: 導水工により補修済
B16: 写真 番号 | C16: 覆工スパン 番号 | E16: 3 | M16: 写真 番号 | N16: 覆工スパン 番号 | P16: 3
C17: 変状番号 | E17: 3 | N17: 変状番号 | P17: 4
B18: 変状 部位 | C18: 対象箇所 | E18: 覆工 | M18: 変状 部位 | N18: 対象箇所 | P18: 覆工
C19: 部位区分 | E19: アーチ（左側） | N19: 部位区分 | P19: アーチ（左側）
B20: 変状種類 | E20: 漏水 | M20: 変状種類 | P20: うき・はく離
B21: 対策 区分 | C21: 変状区分 | E21: 漏水 | M21: 対策 区分 | N21: 変状区分 | P21: 材質劣化
C22: 応急措置前 | E22: - | N22: 応急措置前 | P22: -
C23: 応急措置後 | E23: Ⅱb | N23: 応急措置後 | P23: Ⅱa
B24: 変状の発生範囲及び規模 | E24: 7.6m×0.5m | H24: 前回変状の発生範囲及び規模 | J24: 漏水 7.6m×0.5m | M24: 変状の発生範囲及び規模 | P24: 0.2m×0.2m | S24: 前回変状の発生範囲及び規模 | U24: うき・はく離 0.2m×0.2m
B25: 対策履歴 | E25: - | H25: 実施状況（実施日） | J25: - | M25: 対策履歴 | P25: - | S25: 実施状況（実施日） | U25: -
B26: メモ | E26: アーチの遊離石灰(今回漏水は確認されなかった) 経過観察が望まれる | M26: メモ | P26: アーチのうき 浸透性硬化剤塗布済 計画的な対策が望まれる
C27: ※ 応急措置後の対策区分について添付すること。また、点検前に 実施された措置によりⅠと判定された箇所も添付すること。 | N27: ※ 変状の発生範囲の規模とは、対策を行う際に参考となる変状の長さや面積をいう。
N28: ※ 応急措置を実施しないで決定した変状の対策区分は、対策区分の応急措置後の欄に記入すること。
C29: ※ たたき落としを実施した場合は、実施後の写真を添付すること。 | N29: ※ 変状の発生範囲の規模は、面積・寸法を記載すること。(ひび割れ幅のみmmとし、その他をm表記とする)
C30: ※ 附属物の取付状態に関する異常写真は別途、任意の書式でとりまとめること。 | N30: ※ 構造用鋼材以外の異物に伴ううき・はく離については、メモ欄に異物の概要を記入すること。

Sheet 様式D-1-1 P012
B2: ■定期点検記録様式 変状写真台帳【様式D-1-1】 | R2: 施設ID | T2: ='様式A-1'!W2 -> 34.25614,130.89992
B3: フリガナ | E3: ツバシキズイドウ | H3: 路 線 名 | J3: 国道191号 | M3: 定期点検実施者 | P3: アジア航測株式会社 | S3: 定期点検年月日 | U3: 45919
B4: 名 称 | E4: 津波敷隧道 | H4: 管理者名 | J4: 山口県下関土木建築事務所 | P4: 飯田 琢巳
B5: 写真 番号 | C5: 覆工スパン 番号 | E5: 3 | M5: 写真 番号 | N5: 覆工スパン 番号 | P5: 3
C6: 変状番号 | E6: 5 | N6: 変状番号 | P6: 6
B7: 変状 部位 | C7: 対象箇所 | E7: 覆工 | M7: 変状 部位 | N7: 対象箇所 | P7: 覆工
C8: 部位区分 | E8: アーチ（右側） | N8: 部位区分 | P8: アーチ（右側）
B9: 変状種類 | E9: 圧ざ、ひび割れ | M9: 変状種類 | P9: 圧ざ、ひび割れ
B10: 対策 区分 | C10: 変状区分 | E10: 材質劣化 | M10: 対策 区分 | N10: 変状区分 | P10: 材質劣化
C11: 応急措置前 | E11: - | N11: 応急措置前 | P11: -
C12: 応急措置後 | E12: Ⅱb | N12: 応急措置後 | P12: Ⅱb
B13: 変状の発生範囲及び規模 | E13: W=0.5mm×L=3.0m | H13: 前回変状の発生範囲及び規模 | J13: 外力・ひび割れ W=0.5mm×L=3.0m | M13: 変状の発生範囲及び規模 | P13: W=1.0mm×L=2.5m | S13: 前回変状の発生範囲及び規模 | U13: 外力・ひび割れ W=1.0mm×L=2.5m
B14: 対策履歴 | E14: - | H14: 実施状況（実施日） | J14: - | M14: 対策履歴 | P14: - | S14: 実施状況（実施日） | U14: -
B15: メモ | E15: アーチのひび割れ 経過観察が望まれる | M15: メモ | P15: アーチのひび割れ 経過観察が望まれる
B16: 写真 番号 | C16: 覆工スパン 番号 | E16: 3 | M16: 写真 番号 | N16: 覆工スパン 番号 | P16: 3
C17: 変状番号 | E17: 7 | N17: 変状番号 | P17: 8
B18: 変状 部位 | C18: 対象箇所 | E18: 路面 | M18: 変状 部位 | N18: 対象箇所 | P18: 路面
C19: 部位区分 | E19: 車道 | N19: 部位区分 | P19: 車道
B20: 変状種類 | E20: 圧ざ、ひび割れ | M20: 変状種類 | P20: 圧ざ、ひび割れ
B21: 対策 区分 | C21: 変状区分 | E21: 材質劣化 | M21: 対策 区分 | N21: 変状区分 | P21: 材質劣化
C22: 応急措置前 | N22: 応急措置前
C23: 応急措置後 | N23: 応急措置後
B24: 変状の発生範囲及び規模 | E24: W=0.7mm×L=3.2m | H24: 前回変状の発生範囲及び規模 | J24: 外力・ひび割れ W=0.5mm×L=3.2m | M24: 変状の発生範囲及び規模 | P24: W=5.0mm×L=3.2m | S24: 前回変状の発生範囲及び規模 | U24: 外力・ひび割れ W=5.0mm×L=3.2m
B25: 対策履歴 | E25: - | H25: 実施状況（実施日） | J25: - | M25: 対策履歴 | P25: - | S25: 実施状況（実施日） | U25: -
B26: メモ | E26: 車道のひび割れ | M26: メモ | P26: 車道のひび割れ
C27: ※ 応急措置後の対策区分について添付すること。また、点検前に 実施された措置によりⅠと判定された箇所も添付すること。 | N27: ※ 変状の発生範囲の規模とは、対策を行う際に参考となる変状の長さや面積をいう。
N28: ※ 応急措置を実施しないで決定した変状の対策区分は、対策区分の応急措置後の欄に記入すること。
C29: ※ たたき落としを実施した場合は、実施後の写真を添付すること。 | N29: ※ 変状の発生範囲の規模は、面積・寸法を記載すること。(ひび割れ幅のみmmとし、その他をm表記とする)
C30: ※ 附属物の取付状態に関する異常写真は別途、任意の書式でとりまとめること。 | N30: ※ 構造用鋼材以外の異物に伴ううき・はく離については、メモ欄に異物の概要を記入すること。

Sheet 様式D-1-1 P013
B2: ■定期点検記録様式 変状写真台帳【様式D-1-1】 | R2: 施設ID | T2: ='様式A-1'!W2 -> 34.25614,130.89992
B3: フリガナ | E3: ツバシキズイドウ | H3: 路 線 名 | J3: 国道191号 | M3: 定期点検実施者 | P3: アジア航測株式会社 | S3: 定期点検年月日 | U3: 45919
B4: 名 称 | E4: 津波敷隧道 | H4: 管理者名 | J4: 山口県下関土木建築事務所 | P4: 飯田 琢巳
B5: 写真 番号 | C5: 覆工スパン 番号 | E5: 3 | M5: 写真 番号 | N5: 覆工スパン 番号 | P5: 4
C6: 変状番号 | E6: 9 | N6: 変状番号 | P6: 1
B7: 変状 部位 | C7: 対象箇所 | E7: 覆工 | M7: 変状 部位 | N7: 対象箇所 | P7: 覆工
C8: 部位区分 | E8: アーチ（左側） | N8: 部位区分 | P8: 側壁（左側）
B9: 変状種類 | E9: 圧ざ、ひび割れ | M9: 変状種類 | P9: うき・はく離
B10: 対策 区分 | C10: 変状区分 | E10: 材質劣化 | M10: 対策 区分 | N10: 変状区分 | P10: 材質劣化
C11: 応急措置前 | E11: - | N11: 応急措置前 | P11: -
C12: 応急措置後 | E12: Ⅱb | N12: 応急措置後 | P12: Ⅱb
B13: 変状の発生範囲及び規模 | E13: W=3.0mm×L=3.9m | H13: 前回変状の発生範囲及び規模 | J13: 新規 | M13: 変状の発生範囲及び規模 | P13: 0.1m×1.5m | S13: 前回変状の発生範囲及び規模 | U13: うき・はく離 0.1m×1.5m
B14: 対策履歴 | E14: - | H14: 実施状況（実施日） | J14: - | M14: 対策履歴 | P14: - | S14: 実施状況（実施日） | U14: -
B15: メモ | E15: アーチのひび割れ 経過観察が望まれる | M15: メモ | P15: 側壁のうき 経過観察が望まれる
B16: 写真 番号 | C16: 覆工スパン 番号 | E16: 4 | M16: 写真 番号 | N16: 覆工スパン 番号 | P16: 4
C17: 変状番号 | E17: 2 | N17: 変状番号 | P17: 3
B18: 変状 部位 | C18: 対象箇所 | E18: 覆工 | M18: 変状 部位 | N18: 対象箇所 | P18: 覆工
C19: 部位区分 | E19: 側壁（左側） | N19: 部位区分 | P19: アーチ（左側）
B20: 変状種類 | E20: その他 | M20: 変状種類 | P20: 漏水
B21: 対策 区分 | C21: 変状区分 | E21: 材質劣化 | M21: 対策 区分 | N21: 変状区分 | P21: 漏水
C22: 応急措置前 | E22: - | N22: 応急措置前 | P22: -
C23: 応急措置後 | E23: Ⅰ | N23: 応急措置後 | P23: Ⅱb
B24: 変状の発生範囲及び規模 | E24: 漏水防止工 | H24: 前回変状の発生範囲及び規模 | J24: その他 補修済 漏水防止工 | M24: 変状の発生範囲及び規模 | P24: 7.6m×0.5m | S24: 前回変状の発生範囲及び規模 | U24: 漏水 7.2m×0.5m
B25: 対策履歴 | E25: - | H25: 実施状況（実施日） | J25: - | M25: 対策履歴 | P25: - | S25: 実施状況（実施日） | U25: -
B26: メモ | E26: 既存補修跡 | M26: メモ | P26: アーチのにじみ 経過観察が望まれる
C27: ※ 応急措置後の対策区分について添付すること。また、点検前に 実施された措置によりⅠと判定された箇所も添付すること。 | N27: ※ 変状の発生範囲の規模とは、対策を行う際に参考となる変状の長さや面積をいう。
N28: ※ 応急措置を実施しないで決定した変状の対策区分は、対策区分の応急措置後の欄に記入すること。
C29: ※ たたき落としを実施した場合は、実施後の写真を添付すること。 | N29: ※ 変状の発生範囲の規模は、面積・寸法を記載すること。(ひび割れ幅のみmmとし、その他をm表記とする)
C30: ※ 附属物の取付状態に関する異常写真は別途、任意の書式でとりまとめること。 | N30: ※ 構造用鋼材以外の異物に伴ううき・はく離については、メモ欄に異物の概要を記入すること。

Sheet 様式D-1-1 P014
B2: ■定期点検記録様式 変状写真台帳【様式D-1-1】 | R2: 施設ID | T2: ='様式A-1'!W2 -> 34.25614,130.89992
B3: フリガナ | E3: ツバシキズイドウ | H3: 路 線 名 | J3: 国道191号 | M3: 定期点検実施者 | P3: アジア航測株式会社 | S3: 定期点検年月日 | U3: 45919
B4: 名 称 | E4: 津波敷隧道 | H4: 管理者名 | J4: 山口県下関土木建築事務所 | P4: 飯田 琢巳
B5: 写真 番号 | C5: 覆工スパン 番号 | E5: 4 | M5: 写真 番号 | N5: 覆工スパン 番号 | P5: 4
C6: 変状番号 | E6: 4 | N6: 変状番号 | P6: 5
B7: 変状 部位 | C7: 対象箇所 | E7: 覆工 | M7: 変状 部位 | N7: 対象箇所 | P7: 覆工
C8: 部位区分 | E8: アーチ（左側） | N8: 部位区分 | P8: アーチ（天端）
B9: 変状種類 | E9: うき・はく離 | M9: 変状種類 | P9: 漏水
B10: 対策 区分 | C10: 変状区分 | E10: 材質劣化 | M10: 対策 区分 | N10: 変状区分 | P10: 漏水
C11: 応急措置前 | E11: - | N11: 応急措置前 | P11: -
C12: 応急措置後 | E12: Ⅱa | N12: 応急措置後 | P12: Ⅱb
B13: 変状の発生範囲及び規模 | E13: 0.7m×0.2m | H13: 前回変状の発生範囲及び規模 | J13: うき・はく離 0.6m×0.2m | M13: 変状の発生範囲及び規模 | P13: 8.4m×0.5m | S13: 前回変状の発生範囲及び規模 | U13: 漏水 7.6m×0.5m
B14: 対策履歴 | E14: - | H14: 実施状況（実施日） | J14: - | M14: 対策履歴 | P14: - | S14: 実施状況（実施日） | U14: -
B15: メモ | E15: アーチのうき 浸透性硬化剤塗布済 計画的な対策が望まれる | M15: メモ | P15: アーチの遊離石灰(今回漏水は確認されなかった) 経過観察が望まれる
B16: 写真 番号 | C16: 覆工スパン 番号 | E16: 4 | M16: 写真 番号 | N16: 覆工スパン 番号 | P16: 4
C17: 変状番号 | E17: 6 | N17: 変状番号 | P17: 7
B18: 変状 部位 | C18: 対象箇所 | E18: 覆工 | M18: 変状 部位 | N18: 対象箇所 | P18: 覆工
C19: 部位区分 | E19: アーチ（右側） | N19: 部位区分 | P19: 側壁（右側）
B20: 変状種類 | E20: その他 | M20: 変状種類 | P20: その他
B21: 対策 区分 | C21: 変状区分 | E21: 材質劣化 | M21: 対策 区分 | N21: 変状区分 | P21: 材質劣化
C22: 応急措置前 | E22: - | N22: 応急措置前 | P22: -
C23: 応急措置後 | E23: Ⅰ | N23: 応急措置後 | P23: Ⅰ
B24: 変状の発生範囲及び規模 | E24: 漏水防止工 | H24: 前回変状の発生範囲及び規模 | J24: その他 補修済 漏水防止工 | M24: 変状の発生範囲及び規模 | P24: 漏水防止工 | S24: 前回変状の発生範囲及び規模 | U24: その他 補修済 漏水防止工
B25: 対策履歴 | E25: - | H25: 実施状況（実施日） | J25: - | M25: 対策履歴 | P25: - | S25: 実施状況（実施日） | U25: -
B26: メモ | E26: 既存補修跡 | M26: メモ | P26: 既存補修跡
C27: ※ 応急措置後の対策区分について添付すること。また、点検前に 実施された措置によりⅠと判定された箇所も添付すること。 | N27: ※ 変状の発生範囲の規模とは、対策を行う際に参考となる変状の長さや面積をいう。
N28: ※ 応急措置を実施しないで決定した変状の対策区分は、対策区分の応急措置後の欄に記入すること。
C29: ※ たたき落としを実施した場合は、実施後の写真を添付すること。 | N29: ※ 変状の発生範囲の規模は、面積・寸法を記載すること。(ひび割れ幅のみmmとし、その他をm表記とする)
C30: ※ 附属物の取付状態に関する異常写真は別途、任意の書式でとりまとめること。 | N30: ※ 構造用鋼材以外の異物に伴ううき・はく離については、メモ欄に異物の概要を記入すること。

Sheet 様式D-1-1 P015
B2: ■定期点検記録様式 変状写真台帳【様式D-1-1】 | R2: 施設ID | T2: ='様式A-1'!W2 -> 34.25614,130.89992
B3: フリガナ | E3: ツバシキズイドウ | H3: 路 線 名 | J3: 国道191号 | M3: 定期点検実施者 | P3: アジア航測株式会社 | S3: 定期点検年月日 | U3: 45919
B4: 名 称 | E4: 津波敷隧道 | H4: 管理者名 | J4: 山口県下関土木建築事務所 | P4: 飯田 琢巳
B5: 写真 番号 | C5: 覆工スパン 番号 | E5: 4 | M5: 写真 番号 | N5: 覆工スパン 番号 | P5: 4
C6: 変状番号 | E6: 8 | N6: 変状番号 | P6: 9
B7: 変状 部位 | C7: 対象箇所 | E7: 路面 | M7: 変状 部位 | N7: 対象箇所 | P7: 路面
C8: 部位区分 | E8: 車道 | N8: 部位区分 | P8: 車道
B9: 変状種類 | E9: 圧ざ、ひび割れ | M9: 変状種類 | P9: 圧ざ、ひび割れ
B10: 対策 区分 | C10: 変状区分 | E10: 材質劣化 | M10: 対策 区分 | N10: 変状区分 | P10: 材質劣化
C11: 応急措置前 | N11: 応急措置前
C12: 応急措置後 | N12: 応急措置後
B13: 変状の発生範囲及び規模 | E13: W=3.0mm×L=3.2m | H13: 前回変状の発生範囲及び規模 | J13: 外力・ひび割れ W=3.0mm×L=3.2m | M13: 変状の発生範囲及び規模 | P13: W=6.0mm×L=3.2m | S13: 前回変状の発生範囲及び規模 | U13: 外力・ひび割れ W=6.0mm×L=3.2m
B14: 対策履歴 | E14: - | H14: 実施状況（実施日） | J14: - | M14: 対策履歴 | P14: - | S14: 実施状況（実施日） | U14: -
B15: メモ | E15: 車道のひび割れ | M15: メモ | P15: 車道のひび割れ
B16: 写真 番号 | C16: 覆工スパン 番号 | E16: 4 | M16: 写真 番号 | N16: 覆工スパン 番号 | P16: 4
C17: 変状番号 | E17: 10 | N17: 変状番号 | P17: 11
B18: 変状 部位 | C18: 対象箇所 | E18: 路面 | M18: 変状 部位 | N18: 対象箇所 | P18: 路面
C19: 部位区分 | E19: 車道 | N19: 部位区分 | P19: 車道
B20: 変状種類 | E20: 圧ざ、ひび割れ | M20: 変状種類 | P20: 圧ざ、ひび割れ
B21: 対策 区分 | C21: 変状区分 | E21: 外力 | M21: 対策 区分 | N21: 変状区分 | P21: 外力
C22: 応急措置前 | E22: - | N22: 応急措置前 | P22: -
C23: 応急措置後 | E23: Ⅱb | N23: 応急措置後 | P23: Ⅱb
B24: 変状の発生範囲及び規模 | E24: W=7.0mm×L=3.2m | H24: 前回変状の発生範囲及び規模 | J24: 外力・ひび割れ W=7.0mm×L=3.2m | M24: 変状の発生範囲及び規模 | P24: W=4.0mm×L=3.2m | S24: 前回変状の発生範囲及び規模 | U24: 外力・ひび割れ W=4.0mm×L=3.2m
B25: 対策履歴 | E25: - | H25: 実施状況（実施日） | J25: - | M25: 対策履歴 | P25: - | S25: 実施状況（実施日） | U25: -
B26: メモ | E26: 車道のひび割れ段差(3.0㎜)を伴うひび割れ 経過観察が望まれる | M26: メモ | P26: 車道のひび割れ段差(2.0㎜)を伴うひび割れ 経過観察が望まれる
C27: ※ 応急措置後の対策区分について添付すること。また、点検前に 実施された措置によりⅠと判定された箇所も添付すること。 | N27: ※ 変状の発生範囲の規模とは、対策を行う際に参考となる変状の長さや面積をいう。
N28: ※ 応急措置を実施しないで決定した変状の対策区分は、対策区分の応急措置後の欄に記入すること。
C29: ※ たたき落としを実施した場合は、実施後の写真を添付すること。 | N29: ※ 変状の発生範囲の規模は、面積・寸法を記載すること。(ひび割れ幅のみmmとし、その他をm表記とする)
C30: ※ 附属物の取付状態に関する異常写真は別途、任意の書式でとりまとめること。 | N30: ※ 構造用鋼材以外の異物に伴ううき・はく離については、メモ欄に異物の概要を記入すること。

Sheet 様式D-1-1 P016
B2: ■定期点検記録様式 変状写真台帳【様式D-1-1】 | R2: 施設ID | T2: ='様式A-1'!W2 -> 34.25614,130.89992
B3: フリガナ | E3: ツバシキズイドウ | H3: 路 線 名 | J3: 国道191号 | M3: 定期点検実施者 | P3: アジア航測株式会社 | S3: 定期点検年月日 | U3: 45919
B4: 名 称 | E4: 津波敷隧道 | H4: 管理者名 | J4: 山口県下関土木建築事務所 | P4: 飯田 琢巳
B5: 写真 番号 | C5: 覆工スパン 番号 | E5: 5 | M5: 写真 番号 | N5: 覆工スパン 番号 | P5: 5
C6: 変状番号 | E6: 1 | N6: 変状番号 | P6: 2
B7: 変状 部位 | C7: 対象箇所 | E7: 覆工 | M7: 変状 部位 | N7: 対象箇所 | P7: 覆工
C8: 部位区分 | E8: 側壁（左側） | N8: 部位区分 | P8: アーチ（左側）
B9: 変状種類 | E9: うき・はく離 | M9: 変状種類 | P9: 圧ざ、ひび割れ
B10: 対策 区分 | C10: 変状区分 | E10: 材質劣化 | M10: 対策 区分 | N10: 変状区分 | P10: 材質劣化
C11: 応急措置前 | E11: - | N11: 応急措置前 | P11: -
C12: 応急措置後 | E12: Ⅱb | N12: 応急措置後 | P12: Ⅱb
B13: 変状の発生範囲及び規模 | E13: 0.1m×5.8m | H13: 前回変状の発生範囲及び規模 | J13: うき・はく離 0.1m×5.8m | M13: 変状の発生範囲及び規模 | P13: W=0.8mm×L=4.2m | S13: 前回変状の発生範囲及び規模 | U13: 外力・ひび割れ W=0.8mm×L=3.6m
B14: 対策履歴 | E14: - | H14: 実施状況（実施日） | J14: - | M14: 対策履歴 | P14: - | S14: 実施状況（実施日） | U14: -
B15: メモ | E15: 側壁のうき 経過観察が望まれる | M15: メモ | P15: アーチのひび割れ 経過観察が望まれる
B16: 写真 番号 | C16: 覆工スパン 番号 | E16: 5 | M16: 写真 番号 | N16: 覆工スパン 番号 | P16: 5
C17: 変状番号 | E17: 3 | N17: 変状番号 | P17: 4
B18: 変状 部位 | C18: 対象箇所 | E18: 覆工 | M18: 変状 部位 | N18: 対象箇所 | P18: 覆工
C19: 部位区分 | E19: アーチ（左側） | N19: 部位区分 | P19: 側壁（右側）
B20: 変状種類 | E20: 圧ざ、ひび割れ | M20: 変状種類 | P20: その他
B21: 対策 区分 | C21: 変状区分 | E21: 材質劣化 | M21: 対策 区分 | N21: 変状区分 | P21: 材質劣化
C22: 応急措置前 | E22: - | N22: 応急措置前 | P22: -
C23: 応急措置後 | E23: Ⅱb | N23: 応急措置後 | P23: Ⅰ
B24: 変状の発生範囲及び規模 | E24: W=1.0mm×L=1.3m | H24: 前回変状の発生範囲及び規模 | J24: 外力・ひび割れ W=1.0mm×L=4.0m | M24: 変状の発生範囲及び規模 | P24: 漏水防止工 | S24: 前回変状の発生範囲及び規模 | U24: その他 補修済 漏水防止工
B25: 対策履歴 | E25: - | H25: 実施状況（実施日） | J25: - | M25: 対策履歴 | P25: - | S25: 実施状況（実施日） | U25: -
B26: メモ | E26: アーチのひび割れ 経過観察が望まれる | M26: メモ | P26: 既存補修跡
C27: ※ 応急措置後の対策区分について添付すること。また、点検前に 実施された措置によりⅠと判定された箇所も添付すること。 | N27: ※ 変状の発生範囲の規模とは、対策を行う際に参考となる変状の長さや面積をいう。
N28: ※ 応急措置を実施しないで決定した変状の対策区分は、対策区分の応急措置後の欄に記入すること。
C29: ※ たたき落としを実施した場合は、実施後の写真を添付すること。 | N29: ※ 変状の発生範囲の規模は、面積・寸法を記載すること。(ひび割れ幅のみmmとし、その他をm表記とする)
C30: ※ 附属物の取付状態に関する異常写真は別途、任意の書式でとりまとめること。 | N30: ※ 構造用鋼材以外の異物に伴ううき・はく離については、メモ欄に異物の概要を記入すること。

Sheet 様式D-1-1 P017
B2: ■定期点検記録様式 変状写真台帳【様式D-1-1】 | R2: 施設ID | T2: ='様式A-1'!W2 -> 34.25614,130.89992
B3: フリガナ | E3: ツバシキズイドウ | H3: 路 線 名 | J3: 国道191号 | M3: 定期点検実施者 | P3: アジア航測株式会社 | S3: 定期点検年月日 | U3: 45919
B4: 名 称 | E4: 津波敷隧道 | H4: 管理者名 | J4: 山口県下関土木建築事務所 | P4: 飯田 琢巳
B5: 写真 番号 | C5: 覆工スパン 番号 | E5: 5 | M5: 写真 番号 | N5: 覆工スパン 番号 | P5: 6
C6: 変状番号 | E6: 5 | N6: 変状番号 | P6: 1
B7: 変状 部位 | C7: 対象箇所 | E7: 路面 | M7: 変状 部位 | N7: 対象箇所 | P7: 覆工
C8: 部位区分 | E8: 車道 | N8: 部位区分 | P8: 側壁（左側）
B9: 変状種類 | E9: 圧ざ、ひび割れ | M9: 変状種類 | P9: その他
B10: 対策 区分 | C10: 変状区分 | E10: 材質劣化 | M10: 対策 区分 | N10: 変状区分 | P10: 材質劣化
C11: 応急措置前 | N11: 応急措置前 | P11: -
C12: 応急措置後 | N12: 応急措置後 | P12: Ⅰ
B13: 変状の発生範囲及び規模 | E13: W=0.2mm×L=3.2m | H13: 前回変状の発生範囲及び規模 | J13: 外力・ひび割れ W=0.2mm×L=3.2m | M13: 変状の発生範囲及び規模 | P13: 漏水防止工 | S13: 前回変状の発生範囲及び規模 | U13: その他 補修済 漏水防止工
B14: 対策履歴 | E14: - | H14: 実施状況（実施日） | J14: - | M14: 対策履歴 | P14: - | S14: 実施状況（実施日） | U14: -
B15: メモ | E15: 車道のひび割れ | M15: メモ | P15: 既存補修跡
B16: 写真 番号 | C16: 覆工スパン 番号 | E16: 6 | M16: 写真 番号 | N16: 覆工スパン 番号 | P16: 6
C17: 変状番号 | E17: 2 | N17: 変状番号 | P17: 3
B18: 変状 部位 | C18: 対象箇所 | E18: 覆工 | M18: 変状 部位 | N18: 対象箇所 | P18: 覆工
C19: 部位区分 | E19: 側壁（左側） | N19: 部位区分 | P19: 側壁（左側）
B20: 変状種類 | E20: うき・はく離 | M20: 変状種類 | P20: うき・はく離
B21: 対策 区分 | C21: 変状区分 | E21: 材質劣化 | M21: 対策 区分 | N21: 変状区分 | P21: 材質劣化
C22: 応急措置前 | E22: - | N22: 応急措置前 | P22: -
C23: 応急措置後 | E23: Ⅱb | N23: 応急措置後 | P23: Ⅱb
B24: 変状の発生範囲及び規模 | E24: 0.1m×3.2m | H24: 前回変状の発生範囲及び規模 | J24: うき・はく離 0.1m×3.2m | M24: 変状の発生範囲及び規模 | P24: 0.1m×1.3m | S24: 前回変状の発生範囲及び規模 | U24: うき・はく離 0.1m×1.7m
B25: 対策履歴 | E25: - | H25: 実施状況（実施日） | J25: - | M25: 対策履歴 | P25: - | S25: 実施状況（実施日） | U25: -
B26: メモ | E26: 側壁のうき 経過観察が望まれる | M26: メモ | P26: 側壁のうき 経過観察が望まれる
C27: ※ 応急措置後の対策区分について添付すること。また、点検前に 実施された措置によりⅠと判定された箇所も添付すること。 | N27: ※ 変状の発生範囲の規模とは、対策を行う際に参考となる変状の長さや面積をいう。
N28: ※ 応急措置を実施しないで決定した変状の対策区分は、対策区分の応急措置後の欄に記入すること。
C29: ※ たたき落としを実施した場合は、実施後の写真を添付すること。 | N29: ※ 変状の発生範囲の規模は、面積・寸法を記載すること。(ひび割れ幅のみmmとし、その他をm表記とする)
C30: ※ 附属物の取付状態に関する異常写真は別途、任意の書式でとりまとめること。 | N30: ※ 構造用鋼材以外の異物に伴ううき・はく離については、メモ欄に異物の概要を記入すること。

Sheet 様式D-1-1 P018
B2: ■定期点検記録様式 変状写真台帳【様式D-1-1】 | R2: 施設ID | T2: ='様式A-1'!W2 -> 34.25614,130.89992
B3: フリガナ | E3: ツバシキズイドウ | H3: 路 線 名 | J3: 国道191号 | M3: 定期点検実施者 | P3: アジア航測株式会社 | S3: 定期点検年月日 | U3: 45919
B4: 名 称 | E4: 津波敷隧道 | H4: 管理者名 | J4: 山口県下関土木建築事務所 | P4: 飯田 琢巳
B5: 写真 番号 | C5: 覆工スパン 番号 | E5: 6 | M5: 写真 番号 | N5: 覆工スパン 番号 | P5: 6
C6: 変状番号 | E6: 4 | N6: 変状番号 | P6: 5
B7: 変状 部位 | C7: 対象箇所 | E7: 覆工 | M7: 変状 部位 | N7: 対象箇所 | P7: 覆工
C8: 部位区分 | E8: アーチ（左側） | N8: 部位区分 | P8: アーチ（左側）
B9: 変状種類 | E9: 圧ざ、ひび割れ | M9: 変状種類 | P9: 圧ざ、ひび割れ
B10: 対策 区分 | C10: 変状区分 | E10: 材質劣化 | M10: 対策 区分 | N10: 変状区分 | P10: 材質劣化
C11: 応急措置前 | E11: - | N11: 応急措置前 | P11: -
C12: 応急措置後 | E12: Ⅱb | N12: 応急措置後 | P12: Ⅱb
B13: 変状の発生範囲及び規模 | E13: W=0.8mm×L=4.0m | H13: 前回変状の発生範囲及び規模 | J13: 外力・ひび割れ W=0.8mm×L=4.0m | M13: 変状の発生範囲及び規模 | P13: W=0.8mm×L=3.1m | S13: 前回変状の発生範囲及び規模 | U13: 外力・ひび割れ W=0.8mm×L=2.8m
B14: 対策履歴 | E14: - | H14: 実施状況（実施日） | J14: - | M14: 対策履歴 | P14: - | S14: 実施状況（実施日） | U14: -
B15: メモ | E15: アーチのひび割れ 経過観察が望まれる | M15: メモ | P15: アーチのひび割れ 経過観察が望まれる
B16: 写真 番号 | C16: 覆工スパン 番号 | E16: 6 | M16: 写真 番号 | N16: 覆工スパン 番号 | P16: 6
C17: 変状番号 | E17: 6 | N17: 変状番号 | P17: 7
B18: 変状 部位 | C18: 対象箇所 | E18: 覆工 | M18: 変状 部位 | N18: 対象箇所 | P18: 覆工
C19: 部位区分 | E19: アーチ（左側） | N19: 部位区分 | P19: アーチ（右側）
B20: 変状種類 | E20: うき・はく離 | M20: 変状種類 | P20: 圧ざ、ひび割れ
B21: 対策 区分 | C21: 変状区分 | E21: 材質劣化 | M21: 対策 区分 | N21: 変状区分 | P21: 材質劣化
C22: 応急措置前 | E22: - | N22: 応急措置前 | P22: -
C23: 応急措置後 | E23: Ⅱa | N23: 応急措置後 | P23: Ⅱb
B24: 変状の発生範囲及び規模 | E24: 1.4m×0.2m | H24: 前回変状の発生範囲及び規模 | J24: うき・はく離 1.4m×0.2m | M24: 変状の発生範囲及び規模 | P24: W=0.5mm×L=2.6m | S24: 前回変状の発生範囲及び規模 | U24: 外力・ひび割れ W=0.5mm×L=3.0m
B25: 対策履歴 | E25: - | H25: 実施状況（実施日） | J25: - | M25: 対策履歴 | P25: - | S25: 実施状況（実施日） | U25: -
B26: メモ | E26: アーチのうき 浸透性硬化剤塗布済 計画的な対策が望まれる | M26: メモ | P26: アーチのひび割れ 経過観察が望まれる
C27: ※ 応急措置後の対策区分について添付すること。また、点検前に 実施された措置によりⅠと判定された箇所も添付すること。 | N27: ※ 変状の発生範囲の規模とは、対策を行う際に参考となる変状の長さや面積をいう。
N28: ※ 応急措置を実施しないで決定した変状の対策区分は、対策区分の応急措置後の欄に記入すること。
C29: ※ たたき落としを実施した場合は、実施後の写真を添付すること。 | N29: ※ 変状の発生範囲の規模は、面積・寸法を記載すること。(ひび割れ幅のみmmとし、その他をm表記とする)
C30: ※ 附属物の取付状態に関する異常写真は別途、任意の書式でとりまとめること。 | N30: ※ 構造用鋼材以外の異物に伴ううき・はく離については、メモ欄に異物の概要を記入すること。

Sheet 様式D-1-1 P019
B2: ■定期点検記録様式 変状写真台帳【様式D-1-1】 | R2: 施設ID | T2: ='様式A-1'!W2 -> 34.25614,130.89992
B3: フリガナ | E3: ツバシキズイドウ | H3: 路 線 名 | J3: 国道191号 | M3: 定期点検実施者 | P3: アジア航測株式会社 | S3: 定期点検年月日 | U3: 45919
B4: 名 称 | E4: 津波敷隧道 | H4: 管理者名 | J4: 山口県下関土木建築事務所 | P4: 飯田 琢巳
B5: 写真 番号 | C5: 覆工スパン 番号 | E5: 6 | M5: 写真 番号 | N5: 覆工スパン 番号 | P5: 6
C6: 変状番号 | E6: 8 | N6: 変状番号 | P6: 9
B7: 変状 部位 | C7: 対象箇所 | E7: 路面 | M7: 変状 部位 | N7: 対象箇所 | P7: 路面
C8: 部位区分 | E8: 車道 | N8: 部位区分 | P8: 車道
B9: 変状種類 | E9: 圧ざ、ひび割れ | M9: 変状種類 | P9: 圧ざ、ひび割れ
B10: 対策 区分 | C10: 変状区分 | E10: 材質劣化 | M10: 対策 区分 | N10: 変状区分 | P10: 材質劣化
C11: 応急措置前 | N11: 応急措置前
C12: 応急措置後 | N12: 応急措置後
B13: 変状の発生範囲及び規模 | E13: W=1.0mm×L=3.2m | H13: 前回変状の発生範囲及び規模 | J13: 外力・ひび割れ W=1.0mm×L=3.2m | M13: 変状の発生範囲及び規模 | P13: W=1.5mm×L=3.2m | S13: 前回変状の発生範囲及び規模 | U13: 外力・ひび割れ W=1.5mm×L=3.2m
B14: 対策履歴 | E14: - | H14: 実施状況（実施日） | J14: - | M14: 対策履歴 | P14: - | S14: 実施状況（実施日） | U14: -
B15: メモ | E15: 車道のひび割れ | M15: メモ | P15: 車道のひび割れ
B16: 写真 番号 | C16: 覆工スパン 番号 | E16: 6 | M16: 写真 番号 | N16: 覆工スパン 番号 | P16: 6
C17: 変状番号 | E17: 10 | N17: 変状番号 | P17: 11
B18: 変状 部位 | C18: 対象箇所 | E18: 路面 | M18: 変状 部位 | N18: 対象箇所 | P18: 路面
C19: 部位区分 | E19: 車道 | N19: 部位区分 | P19: 側溝
B20: 変状種類 | E20: 圧ざ、ひび割れ | M20: 変状種類 | P20: その他
B21: 対策 区分 | C21: 変状区分 | E21: 材質劣化 | M21: 対策 区分 | N21: 変状区分 | P21: 材質劣化
C22: 応急措置前 | N22: 応急措置前
C23: 応急措置後 | N23: 応急措置後
B24: 変状の発生範囲及び規模 | E24: W=4.0mm×L=3.2m | H24: 前回変状の発生範囲及び規模 | J24: 外力・ひび割れ W=4.0mm×L=3.2m | M24: 変状の発生範囲及び規模 | P24: 0.45m×1.0m | S24: 前回変状の発生範囲及び規模 | U24: 材質劣化・ｸﾞﾚｰﾁﾝｸﾞ破損
B25: 対策履歴 | E25: - | H25: 実施状況（実施日） | J25: - | M25: 対策履歴 | P25: - | S25: 実施状況（実施日） | U25: -
B26: メモ | E26: 車道のひび割れ | M26: メモ | P26: 側溝の蓋破損（ひび割れ）
C27: ※ 応急措置後の対策区分について添付すること。また、点検前に 実施された措置によりⅠと判定された箇所も添付すること。 | N27: ※ 変状の発生範囲の規模とは、対策を行う際に参考となる変状の長さや面積をいう。
N28: ※ 応急措置を実施しないで決定した変状の対策区分は、対策区分の応急措置後の欄に記入すること。
C29: ※ たたき落としを実施した場合は、実施後の写真を添付すること。 | N29: ※ 変状の発生範囲の規模は、面積・寸法を記載すること。(ひび割れ幅のみmmとし、その他をm表記とする)
C30: ※ 附属物の取付状態に関する異常写真は別途、任意の書式でとりまとめること。 | N30: ※ 構造用鋼材以外の異物に伴ううき・はく離については、メモ欄に異物の概要を記入すること。

Sheet 様式D-1-1 P020
B2: ■定期点検記録様式 変状写真台帳【様式D-1-1】 | R2: 施設ID | T2: ='様式A-1'!W2 -> 34.25614,130.89992
B3: フリガナ | E3: ツバシキズイドウ | H3: 路 線 名 | J3: 国道191号 | M3: 定期点検実施者 | P3: アジア航測株式会社 | S3: 定期点検年月日 | U3: 45919
B4: 名 称 | E4: 津波敷隧道 | H4: 管理者名 | J4: 山口県下関土木建築事務所 | P4: 飯田 琢巳
B5: 写真 番号 | C5: 覆工スパン 番号 | E5: 6 | M5: 写真 番号 | N5: 覆工スパン 番号 | P5: 7
C6: 変状番号 | E6: 12 | N6: 変状番号 | P6: 1
B7: 変状 部位 | C7: 対象箇所 | E7: 路面 | M7: 変状 部位 | N7: 対象箇所 | P7: 覆工
C8: 部位区分 | E8: 側溝 | N8: 部位区分 | P8: 側壁（左側）
B9: 変状種類 | E9: その他 | M9: 変状種類 | P9: うき・はく離
B10: 対策 区分 | C10: 変状区分 | E10: 材質劣化 | M10: 対策 区分 | N10: 変状区分 | P10: 材質劣化
C11: 応急措置前 | N11: 応急措置前 | P11: -
C12: 応急措置後 | N12: 応急措置後 | P12: Ⅱb
B13: 変状の発生範囲及び規模 | E13: 0.45m×0.5m | H13: 前回変状の発生範囲及び規模 | J13: 材質劣化・ｸﾞﾚｰﾁﾝｸﾞ破損 | M13: 変状の発生範囲及び規模 | P13: 0.1m×2.8m | S13: 前回変状の発生範囲及び規模 | U13: うき・はく離 0.1m×2.8m
B14: 対策履歴 | E14: - | H14: 実施状況（実施日） | J14: - | M14: 対策履歴 | P14: - | S14: 実施状況（実施日） | U14: -
B15: メモ | E15: 側溝の蓋破損（ひび割れ） | M15: メモ | P15: 側壁のうき 経過観察が望まれる
B16: 写真 番号 | C16: 覆工スパン 番号 | E16: 7 | M16: 写真 番号 | N16: 覆工スパン 番号 | P16: 7
C17: 変状番号 | E17: 2 | N17: 変状番号 | P17: 3
B18: 変状 部位 | C18: 対象箇所 | E18: 覆工 | M18: 変状 部位 | N18: 対象箇所 | P18: 覆工
C19: 部位区分 | E19: 側壁（左側） | N19: 部位区分 | P19: 側壁（左側）
B20: 変状種類 | E20: その他 | M20: 変状種類 | P20: その他
B21: 対策 区分 | C21: 変状区分 | E21: 材質劣化 | M21: 対策 区分 | N21: 変状区分 | P21: 材質劣化
C22: 応急措置前 | E22: - | N22: 応急措置前 | P22: -
C23: 応急措置後 | E23: Ⅰ | N23: 応急措置後 | P23: Ⅰ
B24: 変状の発生範囲及び規模 | E24: 漏水防止工 | H24: 前回変状の発生範囲及び規模 | J24: その他 補修済 漏水防止工 | M24: 変状の発生範囲及び規模 | P24: 0.15m×4.2m | S24: 前回変状の発生範囲及び規模 | U24: うき・はく離 0.1m×2.5m、0.1m×1.6m
B25: 対策履歴 | E25: - | H25: 実施状況（実施日） | J25: - | M25: 対策履歴 | P25: - | S25: 実施状況（実施日） | U25: -
B26: メモ | E26: 既存補修跡 | M26: メモ | P26: 導水工により補修対策済
C27: ※ 応急措置後の対策区分について添付すること。また、点検前に 実施された措置によりⅠと判定された箇所も添付すること。 | N27: ※ 変状の発生範囲の規模とは、対策を行う際に参考となる変状の長さや面積をいう。
N28: ※ 応急措置を実施しないで決定した変状の対策区分は、対策区分の応急措置後の欄に記入すること。
C29: ※ たたき落としを実施した場合は、実施後の写真を添付すること。 | N29: ※ 変状の発生範囲の規模は、面積・寸法を記載すること。(ひび割れ幅のみmmとし、その他をm表記とする)
C30: ※ 附属物の取付状態に関する異常写真は別途、任意の書式でとりまとめること。 | N30: ※ 構造用鋼材以外の異物に伴ううき・はく離については、メモ欄に異物の概要を記入すること。

Sheet 様式D-1-1 P021
B2: ■定期点検記録様式 変状写真台帳【様式D-1-1】 | R2: 施設ID | T2: ='様式A-1'!W2 -> 34.25614,130.89992
B3: フリガナ | E3: ツバシキズイドウ | H3: 路 線 名 | J3: 国道191号 | M3: 定期点検実施者 | P3: アジア航測株式会社 | S3: 定期点検年月日 | U3: 45919
B4: 名 称 | E4: 津波敷隧道 | H4: 管理者名 | J4: 山口県下関土木建築事務所 | P4: 飯田 琢巳
B5: 写真 番号 | C5: 覆工スパン 番号 | E5: 7 | M5: 写真 番号 | N5: 覆工スパン 番号 | P5: 7
C6: 変状番号 | E6: 4 | N6: 変状番号 | P6: 5
B7: 変状 部位 | C7: 対象箇所 | E7: 覆工 | M7: 変状 部位 | N7: 対象箇所 | P7: 覆工
C8: 部位区分 | E8: 側壁（左側） | N8: 部位区分 | P8: アーチ（右側）
B9: 変状種類 | E9: うき・はく離 | M9: 変状種類 | P9: 圧ざ、ひび割れ
B10: 対策 区分 | C10: 変状区分 | E10: 材質劣化 | M10: 対策 区分 | N10: 変状区分 | P10: 材質劣化
C11: 応急措置前 | E11: - | N11: 応急措置前 | P11: -
C12: 応急措置後 | E12: Ⅱb | N12: 応急措置後 | P12: Ⅱb
B13: 変状の発生範囲及び規模 | E13: 0.1m×2.2m | H13: 前回変状の発生範囲及び規模 | J13: うき・はく離 0.1m×2.2m | M13: 変状の発生範囲及び規模 | P13: W=0.5mm×L=1.4m | S13: 前回変状の発生範囲及び規模 | U13: 外力・ひび割れ W=0.5mm×L=1.4m
B14: 対策履歴 | E14: - | H14: 実施状況（実施日） | J14: - | M14: 対策履歴 | P14: - | S14: 実施状況（実施日） | U14: -
B15: メモ | E15: 側壁のうき 経過観察が望まれる | M15: メモ | P15: アーチのひび割れ 経過観察が望まれる
B16: 写真 番号 | C16: 覆工スパン 番号 | E16: 7 | M16: 写真 番号 | N16: 覆工スパン 番号 | P16: 7
C17: 変状番号 | E17: 6 | N17: 変状番号 | P17: 7
B18: 変状 部位 | C18: 対象箇所 | E18: 覆工 | M18: 変状 部位 | N18: 対象箇所 | P18: 覆工
C19: 部位区分 | E19: アーチ（右側） | N19: 部位区分 | P19: 側壁（右側）
B20: 変状種類 | E20: その他 | M20: 変状種類 | P20: うき・はく離
B21: 対策 区分 | C21: 変状区分 | E21: 材質劣化 | M21: 対策 区分 | N21: 変状区分 | P21: 材質劣化
C22: 応急措置前 | E22: - | N22: 応急措置前 | P22: -
C23: 応急措置後 | E23: Ⅰ | N23: 応急措置後 | P23: Ⅱb
B24: 変状の発生範囲及び規模 | E24: 漏水防止工 | H24: 前回変状の発生範囲及び規模 | J24: その他 補修済 漏水防止工 | M24: 変状の発生範囲及び規模 | P24: 0.1m×3.2m | S24: 前回変状の発生範囲及び規模 | U24: うき・はく離 0.1m×3.2m
B25: 対策履歴 | E25: - | H25: 実施状況（実施日） | J25: - | M25: 対策履歴 | P25: - | S25: 実施状況（実施日） | U25: -
B26: メモ | E26: 既存補修跡 | M26: メモ | P26: 側壁のうき 経過観察が望まれる
C27: ※ 応急措置後の対策区分について添付すること。また、点検前に 実施された措置によりⅠと判定された箇所も添付すること。 | N27: ※ 変状の発生範囲の規模とは、対策を行う際に参考となる変状の長さや面積をいう。
N28: ※ 応急措置を実施しないで決定した変状の対策区分は、対策区分の応急措置後の欄に記入すること。
C29: ※ たたき落としを実施した場合は、実施後の写真を添付すること。 | N29: ※ 変状の発生範囲の規模は、面積・寸法を記載すること。(ひび割れ幅のみmmとし、その他をm表記とする)
C30: ※ 附属物の取付状態に関する異常写真は別途、任意の書式でとりまとめること。 | N30: ※ 構造用鋼材以外の異物に伴ううき・はく離については、メモ欄に異物の概要を記入すること。

Sheet 様式D-1-1 P022
B2: ■定期点検記録様式 変状写真台帳【様式D-1-1】 | R2: 施設ID | T2: ='様式A-1'!W2 -> 34.25614,130.89992
B3: フリガナ | E3: ツバシキズイドウ | H3: 路 線 名 | J3: 国道191号 | M3: 定期点検実施者 | P3: アジア航測株式会社 | S3: 定期点検年月日 | U3: 45919
B4: 名 称 | E4: 津波敷隧道 | H4: 管理者名 | J4: 山口県下関土木建築事務所 | P4: 飯田 琢巳
B5: 写真 番号 | C5: 覆工スパン 番号 | E5: 7 | M5: 写真 番号 | N5: 覆工スパン 番号 | P5: 7
C6: 変状番号 | E6: 8 | N6: 変状番号 | P6: 9
B7: 変状 部位 | C7: 対象箇所 | E7: 路面 | M7: 変状 部位 | N7: 対象箇所 | P7: 路面
C8: 部位区分 | E8: 車道 | N8: 部位区分 | P8: 車道
B9: 変状種類 | E9: 圧ざ、ひび割れ | M9: 変状種類 | P9: 圧ざ、ひび割れ
B10: 対策 区分 | C10: 変状区分 | E10: 材質劣化 | M10: 対策 区分 | N10: 変状区分 | P10: 材質劣化
C11: 応急措置前 | N11: 応急措置前
C12: 応急措置後 | N12: 応急措置後
B13: 変状の発生範囲及び規模 | E13: W=5.0mm×L=3.2m | H13: 前回変状の発生範囲及び規模 | J13: 外力・ひび割れ W=5.0mm×L=3.2m | M13: 変状の発生範囲及び規模 | P13: W=6.0mm×L=3.2m | S13: 前回変状の発生範囲及び規模 | U13: 外力・ひび割れ W=5.0mm×L=3.2m
B14: 対策履歴 | E14: - | H14: 実施状況（実施日） | J14: - | M14: 対策履歴 | P14: - | S14: 実施状況（実施日） | U14: -
B15: メモ | E15: 車道のひび割れ | M15: メモ | P15: 車道のひび割れ
B16: 写真 番号 | C16: 覆工スパン 番号 | E16: 8 | M16: 写真 番号 | N16: 覆工スパン 番号 | P16: 8
C17: 変状番号 | E17: 1 | N17: 変状番号 | P17: 2
B18: 変状 部位 | C18: 対象箇所 | E18: 覆工 | M18: 変状 部位 | N18: 対象箇所 | P18: 覆工
C19: 部位区分 | E19: 側壁（左側） | N19: 部位区分 | P19: 側壁（左側）
B20: 変状種類 | E20: その他 | M20: 変状種類 | P20: うき・はく離
B21: 対策 区分 | C21: 変状区分 | E21: 材質劣化 | M21: 対策 区分 | N21: 変状区分 | P21: 材質劣化
C22: 応急措置前 | E22: - | N22: 応急措置前 | P22: -
C23: 応急措置後 | E23: Ⅰ | N23: 応急措置後 | P23: Ⅱb
B24: 変状の発生範囲及び規模 | E24: 0.15m×1.4m | H24: 前回変状の発生範囲及び規模 | J24: うき・はく離 0.1m×1.4m | M24: 変状の発生範囲及び規模 | P24: 0.3m×0.1m | S24: 前回変状の発生範囲及び規模 | U24: うき・はく離 0.3m×0.1m
B25: 対策履歴 | E25: - | H25: 実施状況（実施日） | J25: - | M25: 対策履歴 | P25: - | S25: 実施状況（実施日） | U25: -
B26: メモ | E26: 導水工により補修対策済 | M26: メモ | P26: 側壁のうき 経過観察が望まれる
C27: ※ 応急措置後の対策区分について添付すること。また、点検前に 実施された措置によりⅠと判定された箇所も添付すること。 | N27: ※ 変状の発生範囲の規模とは、対策を行う際に参考となる変状の長さや面積をいう。
N28: ※ 応急措置を実施しないで決定した変状の対策区分は、対策区分の応急措置後の欄に記入すること。
C29: ※ たたき落としを実施した場合は、実施後の写真を添付すること。 | N29: ※ 変状の発生範囲の規模は、面積・寸法を記載すること。(ひび割れ幅のみmmとし、その他をm表記とする)
C30: ※ 附属物の取付状態に関する異常写真は別途、任意の書式でとりまとめること。 | N30: ※ 構造用鋼材以外の異物に伴ううき・はく離については、メモ欄に異物の概要を記入すること。

Sheet 様式D-1-1 P023
B2: ■定期点検記録様式 変状写真台帳【様式D-1-1】 | R2: 施設ID | T2: ='様式A-1'!W2 -> 34.25614,130.89992
B3: フリガナ | E3: ツバシキズイドウ | H3: 路 線 名 | J3: 国道191号 | M3: 定期点検実施者 | P3: アジア航測株式会社 | S3: 定期点検年月日 | U3: 45919
B4: 名 称 | E4: 津波敷隧道 | H4: 管理者名 | J4: 山口県下関土木建築事務所 | P4: 飯田 琢巳
B5: 写真 番号 | C5: 覆工スパン 番号 | E5: 8 | M5: 写真 番号 | N5: 覆工スパン 番号 | P5: 8
C6: 変状番号 | E6: 3 | N6: 変状番号 | P6: 4
B7: 変状 部位 | C7: 対象箇所 | E7: 覆工 | M7: 変状 部位 | N7: 対象箇所 | P7: 覆工
C8: 部位区分 | E8: 側壁（左側） | N8: 部位区分 | P8: 側壁（左側）
B9: 変状種類 | E9: うき・はく離 | M9: 変状種類 | P9: うき・はく離
B10: 対策 区分 | C10: 変状区分 | E10: 材質劣化 | M10: 対策 区分 | N10: 変状区分 | P10: 材質劣化
C11: 応急措置前 | E11: - | N11: 応急措置前 | P11: -
C12: 応急措置後 | E12: Ⅱb | N12: 応急措置後 | P12: Ⅱb
B13: 変状の発生範囲及び規模 | E13: 0.1m×1.4m | H13: 前回変状の発生範囲及び規模 | J13: うき・はく離 0.1m×1.4m | M13: 変状の発生範囲及び規模 | P13: 0.1m×5.5m | S13: 前回変状の発生範囲及び規模 | U13: うき・はく離 0.1m×5.5m
B14: 対策履歴 | E14: - | H14: 実施状況（実施日） | J14: - | M14: 対策履歴 | P14: - | S14: 実施状況（実施日） | U14: -
B15: メモ | E15: 側壁のうき 経過観察が望まれる | M15: メモ | P15: 側壁のうき 経過観察が望まれる
B16: 写真 番号 | C16: 覆工スパン 番号 | E16: 8 | M16: 写真 番号 | N16: 覆工スパン 番号 | P16: 8
C17: 変状番号 | E17: 5 | N17: 変状番号 | P17: 6
B18: 変状 部位 | C18: 対象箇所 | E18: 覆工 | M18: 変状 部位 | N18: 対象箇所 | P18: 覆工
C19: 部位区分 | E19: アーチ（左側） | N19: 部位区分 | P19: アーチ（右側）
B20: 変状種類 | E20: 圧ざ、ひび割れ | M20: 変状種類 | P20: その他
B21: 対策 区分 | C21: 変状区分 | E21: 材質劣化 | M21: 対策 区分 | N21: 変状区分 | P21: 材質劣化
C22: 応急措置前 | E22: - | N22: 応急措置前 | P22: -
C23: 応急措置後 | E23: Ⅱb | N23: 応急措置後 | P23: Ⅰ
B24: 変状の発生範囲及び規模 | E24: W=0.5mm×L=3.8m | H24: 前回変状の発生範囲及び規模 | J24: 外力・ひび割れ W=0.5mm×L=3.0m | M24: 変状の発生範囲及び規模 | P24: 漏水防止工 | S24: 前回変状の発生範囲及び規模 | U24: その他 補修済 漏水防止工
B25: 対策履歴 | E25: - | H25: 実施状況（実施日） | J25: - | M25: 対策履歴 | P25: - | S25: 実施状況（実施日） | U25: -
B26: メモ | E26: アーチのひび割れ 経過観察が望まれる | M26: メモ | P26: 既存補修跡
C27: ※ 応急措置後の対策区分について添付すること。また、点検前に 実施された措置によりⅠと判定された箇所も添付すること。 | N27: ※ 変状の発生範囲の規模とは、対策を行う際に参考となる変状の長さや面積をいう。
N28: ※ 応急措置を実施しないで決定した変状の対策区分は、対策区分の応急措置後の欄に記入すること。
C29: ※ たたき落としを実施した場合は、実施後の写真を添付すること。 | N29: ※ 変状の発生範囲の規模は、面積・寸法を記載すること。(ひび割れ幅のみmmとし、その他をm表記とする)
C30: ※ 附属物の取付状態に関する異常写真は別途、任意の書式でとりまとめること。 | N30: ※ 構造用鋼材以外の異物に伴ううき・はく離については、メモ欄に異物の概要を記入すること。

Sheet 様式D-1-1 P024
B2: ■定期点検記録様式 変状写真台帳【様式D-1-1】 | R2: 施設ID | T2: ='様式A-1'!W2 -> 34.25614,130.89992
B3: フリガナ | E3: ツバシキズイドウ | H3: 路 線 名 | J3: 国道191号 | M3: 定期点検実施者 | P3: アジア航測株式会社 | S3: 定期点検年月日 | U3: 45919
B4: 名 称 | E4: 津波敷隧道 | H4: 管理者名 | J4: 山口県下関土木建築事務所 | P4: 飯田 琢巳
B5: 写真 番号 | C5: 覆工スパン 番号 | E5: 8 | M5: 写真 番号 | N5: 覆工スパン 番号 | P5: 8
C6: 変状番号 | E6: 7 | N6: 変状番号 | P6: 8
B7: 変状 部位 | C7: 対象箇所 | E7: 覆工 | M7: 変状 部位 | N7: 対象箇所 | P7: 路面
C8: 部位区分 | E8: 側壁（右側） | N8: 部位区分 | P8: 車道
B9: 変状種類 | E9: その他 | M9: 変状種類 | P9: 圧ざ、ひび割れ
B10: 対策 区分 | C10: 変状区分 | E10: 材質劣化 | M10: 対策 区分 | N10: 変状区分 | P10: 材質劣化
C11: 応急措置前 | E11: - | N11: 応急措置前
C12: 応急措置後 | E12: Ⅰ | N12: 応急措置後
B13: 変状の発生範囲及び規模 | E13: 漏水防止工 | H13: 前回変状の発生範囲及び規模 | J13: その他 補修済 漏水防止工 | M13: 変状の発生範囲及び規模 | P13: W=5.0mm×L=3.2m | S13: 前回変状の発生範囲及び規模 | U13: 外力・ひび割れ W=5.0mm×L=3.2m
B14: 対策履歴 | E14: - | H14: 実施状況（実施日） | J14: - | M14: 対策履歴 | P14: - | S14: 実施状況（実施日） | U14: -
B15: メモ | E15: 既存補修跡 | M15: メモ | P15: 車道のひび割れ
B16: 写真 番号 | C16: 覆工スパン 番号 | E16: 8 | M16: 写真 番号 | N16: 覆工スパン 番号 | P16: 8
C17: 変状番号 | E17: 9 | N17: 変状番号 | P17: 10
B18: 変状 部位 | C18: 対象箇所 | E18: 路面 | M18: 変状 部位 | N18: 対象箇所 | P18: 路面
C19: 部位区分 | E19: 車道 | N19: 部位区分 | P19: 車道
B20: 変状種類 | E20: 圧ざ、ひび割れ | M20: 変状種類 | P20: 圧ざ、ひび割れ
B21: 対策 区分 | C21: 変状区分 | E21: 材質劣化 | M21: 対策 区分 | N21: 変状区分 | P21: 材質劣化
C22: 応急措置前 | N22: 応急措置前
C23: 応急措置後 | N23: 応急措置後
B24: 変状の発生範囲及び規模 | E24: W=5.0mm×L=3.2m | H24: 前回変状の発生範囲及び規模 | J24: 外力・ひび割れ W=5.0mm×L=3.2m | M24: 変状の発生範囲及び規模 | P24: W=3.0mm×L=3.2m | S24: 前回変状の発生範囲及び規模 | U24: 外力・ひび割れ W=3.0mm×L=3.2m
B25: 対策履歴 | E25: - | H25: 実施状況（実施日） | J25: - | M25: 対策履歴 | P25: - | S25: 実施状況（実施日） | U25: -
B26: メモ | E26: 車道のひび割れ | M26: メモ | P26: 車道のひび割れ
C27: ※ 応急措置後の対策区分について添付すること。また、点検前に 実施された措置によりⅠと判定された箇所も添付すること。 | N27: ※ 変状の発生範囲の規模とは、対策を行う際に参考となる変状の長さや面積をいう。
N28: ※ 応急措置を実施しないで決定した変状の対策区分は、対策区分の応急措置後の欄に記入すること。
C29: ※ たたき落としを実施した場合は、実施後の写真を添付すること。 | N29: ※ 変状の発生範囲の規模は、面積・寸法を記載すること。(ひび割れ幅のみmmとし、その他をm表記とする)
C30: ※ 附属物の取付状態に関する異常写真は別途、任意の書式でとりまとめること。 | N30: ※ 構造用鋼材以外の異物に伴ううき・はく離については、メモ欄に異物の概要を記入すること。

Sheet 様式D-1-1 P025
B2: ■定期点検記録様式 変状写真台帳【様式D-1-1】 | R2: 施設ID | T2: ='様式A-1'!W2 -> 34.25614,130.89992
B3: フリガナ | E3: ツバシキズイドウ | H3: 路 線 名 | J3: 国道191号 | M3: 定期点検実施者 | P3: アジア航測株式会社 | S3: 定期点検年月日 | U3: 45919
B4: 名 称 | E4: 津波敷隧道 | H4: 管理者名 | J4: 山口県下関土木建築事務所 | P4: 飯田 琢巳
B5: 写真 番号 | C5: 覆工スパン 番号 | E5: 8 | M5: 写真 番号 | N5: 覆工スパン 番号 | P5: 8
C6: 変状番号 | E6: 11 | N6: 変状番号 | P6: 12
B7: 変状 部位 | C7: 対象箇所 | E7: 路面 | M7: 変状 部位 | N7: 対象箇所 | P7: 覆工
C8: 部位区分 | E8: 車道 | N8: 部位区分 | P8: アーチ（左側）
B9: 変状種類 | E9: 圧ざ、ひび割れ | M9: 変状種類 | P9: うき・はく離
B10: 対策 区分 | C10: 変状区分 | E10: 材質劣化 | M10: 対策 区分 | N10: 変状区分 | P10: 材質劣化
C11: 応急措置前 | N11: 応急措置前 | P11: -
C12: 応急措置後 | N12: 応急措置後 | P12: Ⅱa
B13: 変状の発生範囲及び規模 | E13: W=2.0mm×L=3.2m | H13: 前回変状の発生範囲及び規模 | J13: 外力・ひび割れ W=2.0mm×L=3.2m | M13: 変状の発生範囲及び規模 | P13: 0.2m×0.2m | S13: 前回変状の発生範囲及び規模 | U13: 新規
B14: 対策履歴 | E14: - | H14: 実施状況（実施日） | J14: - | M14: 対策履歴 | P14: - | S14: 実施状況（実施日） | U14: -
B15: メモ | E15: 車道のひび割れ | M15: メモ | P15: アーチのうき 浸透性硬化剤塗布済 計画的な対策が望まれる
B16: 写真 番号 | C16: 覆工スパン 番号 | E16: 9 | M16: 写真 番号 | N16: 覆工スパン 番号 | P16: 9
C17: 変状番号 | E17: 1 | N17: 変状番号 | P17: 2
B18: 変状 部位 | C18: 対象箇所 | E18: 覆工 | M18: 変状 部位 | N18: 対象箇所 | P18: 覆工
C19: 部位区分 | E19: 側壁（左側） | N19: 部位区分 | P19: アーチ（右側）
B20: 変状種類 | E20: うき・はく離 | M20: 変状種類 | P20: その他
B21: 対策 区分 | C21: 変状区分 | E21: 材質劣化 | M21: 対策 区分 | N21: 変状区分 | P21: 材質劣化
C22: 応急措置前 | E22: - | N22: 応急措置前 | P22: -
C23: 応急措置後 | E23: Ⅱb | N23: 応急措置後 | P23: Ⅰ
B24: 変状の発生範囲及び規模 | E24: 0.1m×1.5m | H24: 前回変状の発生範囲及び規模 | J24: うき・はく離 0.1m×3.2m | M24: 変状の発生範囲及び規模 | P24: 漏水防止工 | S24: 前回変状の発生範囲及び規模 | U24: その他 補修済 漏水防止工
B25: 対策履歴 | E25: - | H25: 実施状況（実施日） | J25: - | M25: 対策履歴 | P25: - | S25: 実施状況（実施日） | U25: -
B26: メモ | E26: 側壁のうき 経過観察が望まれる | M26: メモ | P26: 既存補修跡
C27: ※ 応急措置後の対策区分について添付すること。また、点検前に 実施された措置によりⅠと判定された箇所も添付すること。 | N27: ※ 変状の発生範囲の規模とは、対策を行う際に参考となる変状の長さや面積をいう。
N28: ※ 応急措置を実施しないで決定した変状の対策区分は、対策区分の応急措置後の欄に記入すること。
C29: ※ たたき落としを実施した場合は、実施後の写真を添付すること。 | N29: ※ 変状の発生範囲の規模は、面積・寸法を記載すること。(ひび割れ幅のみmmとし、その他をm表記とする)
C30: ※ 附属物の取付状態に関する異常写真は別途、任意の書式でとりまとめること。 | N30: ※ 構造用鋼材以外の異物に伴ううき・はく離については、メモ欄に異物の概要を記入すること。

Sheet 様式D-1-1 P026
B2: ■定期点検記録様式 変状写真台帳【様式D-1-1】 | R2: 施設ID | T2: ='様式A-1'!W2 -> 34.25614,130.89992
B3: フリガナ | E3: ツバシキズイドウ | H3: 路 線 名 | J3: 国道191号 | M3: 定期点検実施者 | P3: アジア航測株式会社 | S3: 定期点検年月日 | U3: 45919
B4: 名 称 | E4: 津波敷隧道 | H4: 管理者名 | J4: 山口県下関土木建築事務所 | P4: 飯田 琢巳
B5: 写真 番号 | C5: 覆工スパン 番号 | E5: 9 | M5: 写真 番号 | N5: 覆工スパン 番号 | P5: 9
C6: 変状番号 | E6: 3 | N6: 変状番号 | P6: 4
B7: 変状 部位 | C7: 対象箇所 | E7: 覆工 | M7: 変状 部位 | N7: 対象箇所 | P7: 覆工
C8: 部位区分 | E8: 側壁（右側） | N8: 部位区分 | P8: 側壁（右側）
B9: 変状種類 | E9: その他 | M9: 変状種類 | P9: 漏水
B10: 対策 区分 | C10: 変状区分 | E10: 材質劣化 | M10: 対策 区分 | N10: 変状区分 | P10: 漏水
C11: 応急措置前 | E11: - | N11: 応急措置前 | P11: -
C12: 応急措置後 | E12: Ⅰ | N12: 応急措置後 | P12: Ⅱb
B13: 変状の発生範囲及び規模 | E13: 漏水防止工 | H13: 前回変状の発生範囲及び規模 | J13: その他 補修済 漏水防止工 | M13: 変状の発生範囲及び規模 | P13: 2.5m×0.5m | S13: 前回変状の発生範囲及び規模 | U13: 漏水 2.5m×0.3m
B14: 対策履歴 | E14: - | H14: 実施状況（実施日） | J14: - | M14: 対策履歴 | P14: - | S14: 実施状況（実施日） | U14: -
B15: メモ | E15: 既存補修跡 | M15: メモ | P15: 側壁のにじみ 経過観察が望まれる
B16: 写真 番号 | C16: 覆工スパン 番号 | E16: 9 | M16: 写真 番号 | N16: 覆工スパン 番号 | P16: 9
C17: 変状番号 | E17: 5 | N17: 変状番号 | P17: 6
B18: 変状 部位 | C18: 対象箇所 | E18: 覆工 | M18: 変状 部位 | N18: 対象箇所 | P18: 路面
C19: 部位区分 | E19: 側壁（右側） | N19: 部位区分 | P19: 車道
B20: 変状種類 | E20: うき・はく離 | M20: 変状種類 | P20: うき・はく離
B21: 対策 区分 | C21: 変状区分 | E21: 材質劣化 | M21: 対策 区分 | N21: 変状区分 | P21: 材質劣化
C22: 応急措置前 | E22: - | N22: 応急措置前
C23: 応急措置後 | E23: Ⅱb | N23: 応急措置後
B24: 変状の発生範囲及び規模 | E24: 0.1m×3.0m | H24: 前回変状の発生範囲及び規模 | J24: うき・はく離 0.1m×3.0m | M24: 変状の発生範囲及び規模 | P24: 0.8m×0.1m | S24: 前回変状の発生範囲及び規模 | U24: 欠損 0.8m×0.1m
B25: 対策履歴 | E25: - | H25: 実施状況（実施日） | J25: - | M25: 対策履歴 | P25: - | S25: 実施状況（実施日） | U25: -
B26: メモ | E26: 側壁のうき 経過観察が望まれる | M26: メモ | P26: 車道目地の欠損
C27: ※ 応急措置後の対策区分について添付すること。また、点検前に 実施された措置によりⅠと判定された箇所も添付すること。 | N27: ※ 変状の発生範囲の規模とは、対策を行う際に参考となる変状の長さや面積をいう。
N28: ※ 応急措置を実施しないで決定した変状の対策区分は、対策区分の応急措置後の欄に記入すること。
C29: ※ たたき落としを実施した場合は、実施後の写真を添付すること。 | N29: ※ 変状の発生範囲の規模は、面積・寸法を記載すること。(ひび割れ幅のみmmとし、その他をm表記とする)
C30: ※ 附属物の取付状態に関する異常写真は別途、任意の書式でとりまとめること。 | N30: ※ 構造用鋼材以外の異物に伴ううき・はく離については、メモ欄に異物の概要を記入すること。

Sheet 様式D-1-1 P027
B2: ■定期点検記録様式 変状写真台帳【様式D-1-1】 | R2: 施設ID | T2: ='様式A-1'!W2 -> 34.25614,130.89992
B3: フリガナ | E3: ツバシキズイドウ | H3: 路 線 名 | J3: 国道191号 | M3: 定期点検実施者 | P3: アジア航測株式会社 | S3: 定期点検年月日 | U3: 45919
B4: 名 称 | E4: 津波敷隧道 | H4: 管理者名 | J4: 山口県下関土木建築事務所 | P4: 飯田 琢巳
B5: 写真 番号 | C5: 覆工スパン 番号 | E5: 9 | M5: 写真 番号 | N5: 覆工スパン 番号 | P5: 10
C6: 変状番号 | E6: 7 | N6: 変状番号 | P6: 1
B7: 変状 部位 | C7: 対象箇所 | E7: 覆工 | M7: 変状 部位 | N7: 対象箇所 | P7: 覆工
C8: 部位区分 | E8: アーチ（左側） | N8: 部位区分 | P8: 側壁（左側）
B9: 変状種類 | E9: うき・はく離 | M9: 変状種類 | P9: うき・はく離
B10: 対策 区分 | C10: 変状区分 | E10: 材質劣化 | M10: 対策 区分 | N10: 変状区分 | P10: 材質劣化
C11: 応急措置前 | E11: - | N11: 応急措置前 | P11: -
C12: 応急措置後 | E12: Ⅱa | N12: 応急措置後 | P12: Ⅱb
B13: 変状の発生範囲及び規模 | E13: 0.2m×0.2m | H13: 前回変状の発生範囲及び規模 | J13: 新規 | M13: 変状の発生範囲及び規模 | P13: 0.1m×3.0m | S13: 前回変状の発生範囲及び規模 | U13: うき・はく離 0.1m×3.0m
B14: 対策履歴 | E14: - | H14: 実施状況（実施日） | J14: - | M14: 対策履歴 | P14: - | S14: 実施状況（実施日） | U14: -
B15: メモ | E15: アーチのうき 浸透性硬化剤塗布済 計画的な対策が望まれる | M15: メモ | P15: 側壁のうき 経過観察が望まれる
B16: 写真 番号 | C16: 覆工スパン 番号 | E16: 10 | M16: 写真 番号 | N16: 覆工スパン 番号 | P16: 10
C17: 変状番号 | E17: 2 | N17: 変状番号 | P17: 3
B18: 変状 部位 | C18: 対象箇所 | E18: 覆工 | M18: 変状 部位 | N18: 対象箇所 | P18: 覆工
C19: 部位区分 | E19: 側壁（左側） | N19: 部位区分 | P19: 側壁（右側）
B20: 変状種類 | E20: その他 | M20: 変状種類 | P20: うき・はく離
B21: 対策 区分 | C21: 変状区分 | E21: 材質劣化 | M21: 対策 区分 | N21: 変状区分 | P21: 材質劣化
C22: 応急措置前 | E22: - | N22: 応急措置前 | P22: -
C23: 応急措置後 | E23: Ⅰ | N23: 応急措置後 | P23: Ⅱb
B24: 変状の発生範囲及び規模 | E24: 漏水防止工 | H24: 前回変状の発生範囲及び規模 | J24: その他 補修済 漏水防止工 | M24: 変状の発生範囲及び規模 | P24: 0.1m×4.7m | S24: 前回変状の発生範囲及び規模 | U24: うき・はく離 0.1m×4.7m
B25: 対策履歴 | E25: - | H25: 実施状況（実施日） | J25: - | M25: 対策履歴 | P25: - | S25: 実施状況（実施日） | U25: -
B26: メモ | E26: 既存補修跡 | M26: メモ | P26: 側壁のうき 経過観察が望まれる
C27: ※ 応急措置後の対策区分について添付すること。また、点検前に 実施された措置によりⅠと判定された箇所も添付すること。 | N27: ※ 変状の発生範囲の規模とは、対策を行う際に参考となる変状の長さや面積をいう。
N28: ※ 応急措置を実施しないで決定した変状の対策区分は、対策区分の応急措置後の欄に記入すること。
C29: ※ たたき落としを実施した場合は、実施後の写真を添付すること。 | N29: ※ 変状の発生範囲の規模は、面積・寸法を記載すること。(ひび割れ幅のみmmとし、その他をm表記とする)
C30: ※ 附属物の取付状態に関する異常写真は別途、任意の書式でとりまとめること。 | N30: ※ 構造用鋼材以外の異物に伴ううき・はく離については、メモ欄に異物の概要を記入すること。

Sheet 様式D-1-1 P028
B2: ■定期点検記録様式 変状写真台帳【様式D-1-1】 | R2: 施設ID | T2: ='様式A-1'!W2 -> 34.25614,130.89992
B3: フリガナ | E3: ツバシキズイドウ | H3: 路 線 名 | J3: 国道191号 | M3: 定期点検実施者 | P3: アジア航測株式会社 | S3: 定期点検年月日 | U3: 45919
B4: 名 称 | E4: 津波敷隧道 | H4: 管理者名 | J4: 山口県下関土木建築事務所 | P4: 飯田 琢巳
B5: 写真 番号 | C5: 覆工スパン 番号 | E5: 10 | M5: 写真 番号 | N5: 覆工スパン 番号 | P5: 10
C6: 変状番号 | E6: 4 | N6: 変状番号 | P6: 5
B7: 変状 部位 | C7: 対象箇所 | E7: 覆工 | M7: 変状 部位 | N7: 対象箇所 | P7: 路面
C8: 部位区分 | E8: アーチ（右側） | N8: 部位区分 | P8: 車道
B9: 変状種類 | E9: その他 | M9: 変状種類 | P9: 圧ざ、ひび割れ
B10: 対策 区分 | C10: 変状区分 | E10: 材質劣化 | M10: 対策 区分 | N10: 変状区分 | P10: 材質劣化
C11: 応急措置前 | E11: - | N11: 応急措置前
C12: 応急措置後 | E12: Ⅰ | N12: 応急措置後
B13: 変状の発生範囲及び規模 | E13: 漏水防止工 | H13: 前回変状の発生範囲及び規模 | J13: その他 補修済 漏水防止工 | M13: 変状の発生範囲及び規模 | P13: W=3.0mm×L=3.2m | S13: 前回変状の発生範囲及び規模 | U13: 外力・ひび割れ W=3.0mm×L=3.2m
B14: 対策履歴 | E14: - | H14: 実施状況（実施日） | J14: - | M14: 対策履歴 | P14: - | S14: 実施状況（実施日） | U14: -
B15: メモ | E15: 既存補修跡 | M15: メモ | P15: 車道のひび割れ
B16: 写真 番号 | C16: 覆工スパン 番号 | E16: 10 | M16: 写真 番号 | N16: 覆工スパン 番号 | P16: 10
C17: 変状番号 | E17: 6 | N17: 変状番号 | P17: 7
B18: 変状 部位 | C18: 対象箇所 | E18: 路面 | M18: 変状 部位 | N18: 対象箇所 | P18: 路面
C19: 部位区分 | E19: 車道 | N19: 部位区分 | P19: 車道
B20: 変状種類 | E20: 圧ざ、ひび割れ | M20: 変状種類 | P20: 圧ざ、ひび割れ
B21: 対策 区分 | C21: 変状区分 | E21: 材質劣化 | M21: 対策 区分 | N21: 変状区分 | P21: 材質劣化
C22: 応急措置前 | N22: 応急措置前
C23: 応急措置後 | N23: 応急措置後
B24: 変状の発生範囲及び規模 | E24: W=7.0mm×L=3.2m | H24: 前回変状の発生範囲及び規模 | J24: 外力・ひび割れ W=7.0mm×L=3.2m | M24: 変状の発生範囲及び規模 | P24: W=4.0mm×L=3.2m | S24: 前回変状の発生範囲及び規模 | U24: 外力・ひび割れ W=1.5mm×L=3.2m
B25: 対策履歴 | E25: - | H25: 実施状況（実施日） | J25: - | M25: 対策履歴 | P25: - | S25: 実施状況（実施日） | U25: -
B26: メモ | E26: 車道のひび割れ | M26: メモ | P26: 車道のひび割れ
C27: ※ 応急措置後の対策区分について添付すること。また、点検前に 実施された措置によりⅠと判定された箇所も添付すること。 | N27: ※ 変状の発生範囲の規模とは、対策を行う際に参考となる変状の長さや面積をいう。
N28: ※ 応急措置を実施しないで決定した変状の対策区分は、対策区分の応急措置後の欄に記入すること。
C29: ※ たたき落としを実施した場合は、実施後の写真を添付すること。 | N29: ※ 変状の発生範囲の規模は、面積・寸法を記載すること。(ひび割れ幅のみmmとし、その他をm表記とする)
C30: ※ 附属物の取付状態に関する異常写真は別途、任意の書式でとりまとめること。 | N30: ※ 構造用鋼材以外の異物に伴ううき・はく離については、メモ欄に異物の概要を記入すること。

Sheet 様式D-1-1 P029
B2: ■定期点検記録様式 変状写真台帳【様式D-1-1】 | R2: 施設ID | T2: ='様式A-1'!W2 -> 34.25614,130.89992
B3: フリガナ | E3: ツバシキズイドウ | H3: 路 線 名 | J3: 国道191号 | M3: 定期点検実施者 | P3: アジア航測株式会社 | S3: 定期点検年月日 | U3: 45919
B4: 名 称 | E4: 津波敷隧道 | H4: 管理者名 | J4: 山口県下関土木建築事務所 | P4: 飯田 琢巳
B5: 写真 番号 | C5: 覆工スパン 番号 | E5: 10 | M5: 写真 番号 | N5: 覆工スパン 番号 | P5: 10
C6: 変状番号 | E6: 8 | N6: 変状番号 | P6: 9
B7: 変状 部位 | C7: 対象箇所 | E7: 路面 | M7: 変状 部位 | N7: 対象箇所 | P7: 覆工
C8: 部位区分 | E8: 車道 | N8: 部位区分 | P8: 側壁（左側）
B9: 変状種類 | E9: 圧ざ、ひび割れ | M9: 変状種類 | P9: うき・はく離
B10: 対策 区分 | C10: 変状区分 | E10: 材質劣化 | M10: 対策 区分 | N10: 変状区分 | P10: 材質劣化
C11: 応急措置前 | N11: 応急措置前 | P11: -
C12: 応急措置後 | N12: 応急措置後 | P12: Ⅱb
B13: 変状の発生範囲及び規模 | E13: W=5.0mm×L=3.2m | H13: 前回変状の発生範囲及び規模 | J13: 外力・ひび割れ W=2.0mm×L=3.2m | M13: 変状の発生範囲及び規模 | P13: 0.2m×0.1m | S13: 前回変状の発生範囲及び規模 | U13: 新規
B14: 対策履歴 | E14: - | H14: 実施状況（実施日） | J14: - | M14: 対策履歴 | P14: - | S14: 実施状況（実施日） | U14: -
B15: メモ | E15: 車道のひび割れ | M15: メモ | P15: 側壁のうき 経過観察が望まれる
B16: 写真 番号 | C16: 覆工スパン 番号 | E16: 10 | M16: 写真 番号 | N16: 覆工スパン 番号 | P16: 10
C17: 変状番号 | E17: 10 | N17: 変状番号 | P17: 11
B18: 変状 部位 | C18: 対象箇所 | E18: 覆工 | M18: 変状 部位 | N18: 対象箇所 | P18: 覆工
C19: 部位区分 | E19: 側壁（左側） | N19: 部位区分 | P19: アーチ（右側）
B20: 変状種類 | E20: うき・はく離 | M20: 変状種類 | P20: うき・はく離
B21: 対策 区分 | C21: 変状区分 | E21: 材質劣化 | M21: 対策 区分 | N21: 変状区分 | P21: 材質劣化
C22: 応急措置前 | E22: - | N22: 応急措置前 | P22: -
C23: 応急措置後 | E23: Ⅱb | N23: 応急措置後 | P23: Ⅱa
B24: 変状の発生範囲及び規模 | E24: 0.1m×3.0m | H24: 前回変状の発生範囲及び規模 | J24: 新規 | M24: 変状の発生範囲及び規模 | P24: 0.2m×0.2m | S24: 前回変状の発生範囲及び規模 | U24: 新規
B25: 対策履歴 | E25: - | H25: 実施状況（実施日） | J25: - | M25: 対策履歴 | P25: - | S25: 実施状況（実施日） | U25: -
B26: メモ | E26: 側壁のうき 経過観察が望まれる | M26: メモ | P26: アーチのうき 浸透性硬化剤塗布済 計画的な対策が望まれる
C27: ※ 応急措置後の対策区分について添付すること。また、点検前に 実施された措置によりⅠと判定された箇所も添付すること。 | N27: ※ 変状の発生範囲の規模とは、対策を行う際に参考となる変状の長さや面積をいう。
N28: ※ 応急措置を実施しないで決定した変状の対策区分は、対策区分の応急措置後の欄に記入すること。
C29: ※ たたき落としを実施した場合は、実施後の写真を添付すること。 | N29: ※ 変状の発生範囲の規模は、面積・寸法を記載すること。(ひび割れ幅のみmmとし、その他をm表記とする)
C30: ※ 附属物の取付状態に関する異常写真は別途、任意の書式でとりまとめること。 | N30: ※ 構造用鋼材以外の異物に伴ううき・はく離については、メモ欄に異物の概要を記入すること。

Sheet 様式D-1-1 P030
B2: ■定期点検記録様式 変状写真台帳【様式D-1-1】 | R2: 施設ID | T2: ='様式A-1'!W2 -> 34.25614,130.89992
B3: フリガナ | E3: ツバシキズイドウ | H3: 路 線 名 | J3: 国道191号 | M3: 定期点検実施者 | P3: アジア航測株式会社 | S3: 定期点検年月日 | U3: 45919
B4: 名 称 | E4: 津波敷隧道 | H4: 管理者名 | J4: 山口県下関土木建築事務所 | P4: 飯田 琢巳
B5: 写真 番号 | C5: 覆工スパン 番号 | E5: 10 | M5: 写真 番号 | N5: 覆工スパン 番号 | P5: 10
C6: 変状番号 | E6: 12 | N6: 変状番号 | P6: 13
B7: 変状 部位 | C7: 対象箇所 | E7: 覆工 | M7: 変状 部位 | N7: 対象箇所 | P7: 覆工
C8: 部位区分 | E8: 側壁（右側） | N8: 部位区分 | P8: 側壁（右側）
B9: 変状種類 | E9: 補修・補強材の破損 | M9: 変状種類 | P9: うき・はく離
B10: 対策 区分 | C10: 変状区分 | E10: 材質劣化 | M10: 対策 区分 | N10: 変状区分 | P10: 材質劣化
C11: 応急措置前 | E11: - | N11: 応急措置前 | P11: -
C12: 応急措置後 | E12: Ⅱb | N12: 応急措置後 | P12: Ⅱb
B13: 変状の発生範囲及び規模 | E13: 0.2m×0.2m | H13: 前回変状の発生範囲及び規模 | J13: 新規 | M13: 変状の発生範囲及び規模 | P13: 0.1m×1.3m | S13: 前回変状の発生範囲及び規模 | U13: 新規
B14: 対策履歴 | E14: - | H14: 実施状況（実施日） | J14: - | M14: 対策履歴 | P14: - | S14: 実施状況（実施日） | U14: -
B15: メモ | E15: 側壁の導水工破損 経過観察が望まれる | M15: メモ | P15: 側壁のうき 経過観察が望まれる
B16: 写真 番号 | C16: 覆工スパン 番号 | E16: 11 | M16: 写真 番号 | N16: 覆工スパン 番号 | P16: 11
C17: 変状番号 | E17: 1 | N17: 変状番号 | P17: 2
B18: 変状 部位 | C18: 対象箇所 | E18: 覆工 | M18: 変状 部位 | N18: 対象箇所 | P18: 覆工
C19: 部位区分 | E19: 側壁（左側） | N19: 部位区分 | P19: 側壁（左側）
B20: 変状種類 | E20: 圧ざ、ひび割れ | M20: 変状種類 | P20: 漏水
B21: 対策 区分 | C21: 変状区分 | E21: 材質劣化 | M21: 対策 区分 | N21: 変状区分 | P21: 漏水
C22: 応急措置前 | E22: - | N22: 応急措置前 | P22: -
C23: 応急措置後 | E23: Ⅱb | N23: 応急措置後 | P23: Ⅱb
B24: 変状の発生範囲及び規模 | E24: W=0.5mm×L=2.3m | H24: 前回変状の発生範囲及び規模 | J24: 外力・ひび割れ W=0.5mm×L=2.3m | M24: 変状の発生範囲及び規模 | P24: 2.5m×0.5m | S24: 前回変状の発生範囲及び規模 | U24: 漏水 2.5m×0.5m
B25: 対策履歴 | E25: - | H25: 実施状況（実施日） | J25: - | M25: 対策履歴 | P25: - | S25: 実施状況（実施日） | U25: -
B26: メモ | E26: 側壁のひび割れ 経過観察が望まれる | M26: メモ | P26: 側壁の遊離石灰(今回漏水は確認されなかった) 経過観察が望まれる
C27: ※ 応急措置後の対策区分について添付すること。また、点検前に 実施された措置によりⅠと判定された箇所も添付すること。 | N27: ※ 変状の発生範囲の規模とは、対策を行う際に参考となる変状の長さや面積をいう。
N28: ※ 応急措置を実施しないで決定した変状の対策区分は、対策区分の応急措置後の欄に記入すること。
C29: ※ たたき落としを実施した場合は、実施後の写真を添付すること。 | N29: ※ 変状の発生範囲の規模は、面積・寸法を記載すること。(ひび割れ幅のみmmとし、その他をm表記とする)
C30: ※ 附属物の取付状態に関する異常写真は別途、任意の書式でとりまとめること。 | N30: ※ 構造用鋼材以外の異物に伴ううき・はく離については、メモ欄に異物の概要を記入すること。

Sheet 様式D-1-1 P031
B2: ■定期点検記録様式 変状写真台帳【様式D-1-1】 | R2: 施設ID | T2: ='様式A-1'!W2 -> 34.25614,130.89992
B3: フリガナ | E3: ツバシキズイドウ | H3: 路 線 名 | J3: 国道191号 | M3: 定期点検実施者 | P3: アジア航測株式会社 | S3: 定期点検年月日 | U3: 45919
B4: 名 称 | E4: 津波敷隧道 | H4: 管理者名 | J4: 山口県下関土木建築事務所 | P4: 飯田 琢巳
B5: 写真 番号 | C5: 覆工スパン 番号 | E5: 11 | M5: 写真 番号 | N5: 覆工スパン 番号 | P5: 11
C6: 変状番号 | E6: 3 | N6: 変状番号 | P6: 4
B7: 変状 部位 | C7: 対象箇所 | E7: 覆工 | M7: 変状 部位 | N7: 対象箇所 | P7: 覆工
C8: 部位区分 | E8: アーチ（右側） | N8: 部位区分 | P8: 側壁（右側）
B9: 変状種類 | E9: その他 | M9: 変状種類 | P9: うき・はく離
B10: 対策 区分 | C10: 変状区分 | E10: 材質劣化 | M10: 対策 区分 | N10: 変状区分 | P10: 材質劣化
C11: 応急措置前 | E11: - | N11: 応急措置前 | P11: -
C12: 応急措置後 | E12: Ⅰ | N12: 応急措置後 | P12: Ⅱb
B13: 変状の発生範囲及び規模 | E13: 漏水防止工 | H13: 前回変状の発生範囲及び規模 | J13: その他 補修済 漏水防止工 | M13: 変状の発生範囲及び規模 | P13: 0.1m×1.0m | S13: 前回変状の発生範囲及び規模 | U13: うき・はく離 0.1m×1.0m
B14: 対策履歴 | E14: - | H14: 実施状況（実施日） | J14: - | M14: 対策履歴 | P14: - | S14: 実施状況（実施日） | U14: -
B15: メモ | E15: 既存補修跡 | M15: メモ | P15: 側壁のうき 経過観察が望まれる
B16: 写真 番号 | C16: 覆工スパン 番号 | E16: 11 | M16: 写真 番号 | N16: 覆工スパン 番号 | P16: 11
C17: 変状番号 | E17: 5 | N17: 変状番号 | P17: 6
B18: 変状 部位 | C18: 対象箇所 | E18: 路面 | M18: 変状 部位 | N18: 対象箇所 | P18: 路面
C19: 部位区分 | E19: 車道 | N19: 部位区分 | P19: 車道
B20: 変状種類 | E20: 圧ざ、ひび割れ | M20: 変状種類 | P20: 圧ざ、ひび割れ
B21: 対策 区分 | C21: 変状区分 | E21: 材質劣化 | M21: 対策 区分 | N21: 変状区分 | P21: 材質劣化
C22: 応急措置前 | N22: 応急措置前
C23: 応急措置後 | N23: 応急措置後
B24: 変状の発生範囲及び規模 | E24: W=5.0mm×L=3.2m | H24: 前回変状の発生範囲及び規模 | J24: 外力・ひび割れ W=5.0mm×L=3.2m | M24: 変状の発生範囲及び規模 | P24: W=3.0mm×L=3.2m | S24: 前回変状の発生範囲及び規模 | U24: 外力・ひび割れ W=3.0mm×L=3.2m
B25: 対策履歴 | E25: - | H25: 実施状況（実施日） | J25: - | M25: 対策履歴 | P25: - | S25: 実施状況（実施日） | U25: -
B26: メモ | E26: 車道のひび割れ | M26: メモ | P26: 車道のひび割れ
C27: ※ 応急措置後の対策区分について添付すること。また、点検前に 実施された措置によりⅠと判定された箇所も添付すること。 | N27: ※ 変状の発生範囲の規模とは、対策を行う際に参考となる変状の長さや面積をいう。
N28: ※ 応急措置を実施しないで決定した変状の対策区分は、対策区分の応急措置後の欄に記入すること。
C29: ※ たたき落としを実施した場合は、実施後の写真を添付すること。 | N29: ※ 変状の発生範囲の規模は、面積・寸法を記載すること。(ひび割れ幅のみmmとし、その他をm表記とする)
C30: ※ 附属物の取付状態に関する異常写真は別途、任意の書式でとりまとめること。 | N30: ※ 構造用鋼材以外の異物に伴ううき・はく離については、メモ欄に異物の概要を記入すること。

Sheet 様式D-1-1 P032
B2: ■定期点検記録様式 変状写真台帳【様式D-1-1】 | R2: 施設ID | T2: ='様式A-1'!W2 -> 34.25614,130.89992
B3: フリガナ | E3: ツバシキズイドウ | H3: 路 線 名 | J3: 国道191号 | M3: 定期点検実施者 | P3: アジア航測株式会社 | S3: 定期点検年月日 | U3: 45919
B4: 名 称 | E4: 津波敷隧道 | H4: 管理者名 | J4: 山口県下関土木建築事務所 | P4: 飯田 琢巳
B5: 写真 番号 | C5: 覆工スパン 番号 | E5: 12 | M5: 写真 番号 | N5: 覆工スパン 番号 | P5: 12
C6: 変状番号 | E6: 1 | N6: 変状番号 | P6: 2
B7: 変状 部位 | C7: 対象箇所 | E7: 覆工 | M7: 変状 部位 | N7: 対象箇所 | P7: 覆工
C8: 部位区分 | E8: 側壁（左側） | N8: 部位区分 | P8: 側壁（左側）
B9: 変状種類 | E9: うき・はく離 | M9: 変状種類 | P9: うき・はく離
B10: 対策 区分 | C10: 変状区分 | E10: 材質劣化 | M10: 対策 区分 | N10: 変状区分 | P10: 材質劣化
C11: 応急措置前 | E11: - | N11: 応急措置前 | P11: -
C12: 応急措置後 | E12: Ⅱb | N12: 応急措置後 | P12: Ⅱb
B13: 変状の発生範囲及び規模 | E13: 0.1m×1.3m、0.1m×1.2m | H13: 前回変状の発生範囲及び規模 | J13: うき・はく離 0.1m×1.3m、0.1m×1.2m | M13: 変状の発生範囲及び規模 | P13: 0.1m×2.5m | S13: 前回変状の発生範囲及び規模 | U13: うき・はく離 0.1m×2.5m
B14: 対策履歴 | E14: - | H14: 実施状況（実施日） | J14: - | M14: 対策履歴 | P14: - | S14: 実施状況（実施日） | U14: -
B15: メモ | E15: 側壁のうき 経過観察が望まれる | M15: メモ | P15: 側壁のうき 経過観察が望まれる
B16: 写真 番号 | C16: 覆工スパン 番号 | E16: 12 | M16: 写真 番号 | N16: 覆工スパン 番号 | P16: 12
C17: 変状番号 | E17: 3 | N17: 変状番号 | P17: 4
B18: 変状 部位 | C18: 対象箇所 | E18: 覆工 | M18: 変状 部位 | N18: 対象箇所 | P18: 覆工
C19: 部位区分 | E19: 側壁（左側） | N19: 部位区分 | P19: アーチ（左側）
B20: 変状種類 | E20: うき・はく離 | M20: 変状種類 | P20: 圧ざ、ひび割れ
B21: 対策 区分 | C21: 変状区分 | E21: 材質劣化 | M21: 対策 区分 | N21: 変状区分 | P21: 材質劣化
C22: 応急措置前 | E22: - | N22: 応急措置前 | P22: -
C23: 応急措置後 | E23: Ⅱb | N23: 応急措置後 | P23: Ⅱb
B24: 変状の発生範囲及び規模 | E24: 0.1m×1.4m | H24: 前回変状の発生範囲及び規模 | J24: うき・はく離 0.1m×1.4m | M24: 変状の発生範囲及び規模 | P24: W=0.7mm×L=2.5m | S24: 前回変状の発生範囲及び規模 | U24: 外力・ひび割れ W=0.7mm×L=3.6m
B25: 対策履歴 | E25: - | H25: 実施状況（実施日） | J25: - | M25: 対策履歴 | P25: - | S25: 実施状況（実施日） | U25: -
B26: メモ | E26: 側壁のうき 経過観察が望まれる | M26: メモ | P26: アーチのひび割れ 経過観察が望まれる
C27: ※ 応急措置後の対策区分について添付すること。また、点検前に 実施された措置によりⅠと判定された箇所も添付すること。 | N27: ※ 変状の発生範囲の規模とは、対策を行う際に参考となる変状の長さや面積をいう。
N28: ※ 応急措置を実施しないで決定した変状の対策区分は、対策区分の応急措置後の欄に記入すること。
C29: ※ たたき落としを実施した場合は、実施後の写真を添付すること。 | N29: ※ 変状の発生範囲の規模は、面積・寸法を記載すること。(ひび割れ幅のみmmとし、その他をm表記とする)
C30: ※ 附属物の取付状態に関する異常写真は別途、任意の書式でとりまとめること。 | N30: ※ 構造用鋼材以外の異物に伴ううき・はく離については、メモ欄に異物の概要を記入すること。

Sheet 様式D-1-1 P033
B2: ■定期点検記録様式 変状写真台帳【様式D-1-1】 | R2: 施設ID | T2: ='様式A-1'!W2 -> 34.25614,130.89992
B3: フリガナ | E3: ツバシキズイドウ | H3: 路 線 名 | J3: 国道191号 | M3: 定期点検実施者 | P3: アジア航測株式会社 | S3: 定期点検年月日 | U3: 45919
B4: 名 称 | E4: 津波敷隧道 | H4: 管理者名 | J4: 山口県下関土木建築事務所 | P4: 飯田 琢巳
B5: 写真 番号 | C5: 覆工スパン 番号 | E5: 12 | M5: 写真 番号 | N5: 覆工スパン 番号 | P5: 12
C6: 変状番号 | E6: 5 | N6: 変状番号 | P6: 6
B7: 変状 部位 | C7: 対象箇所 | E7: 覆工 | M7: 変状 部位 | N7: 対象箇所 | P7: 路面
C8: 部位区分 | E8: 側壁（右側） | N8: 部位区分 | P8: 車道
B9: 変状種類 | E9: うき・はく離 | M9: 変状種類 | P9: 圧ざ、ひび割れ
B10: 対策 区分 | C10: 変状区分 | E10: 材質劣化 | M10: 対策 区分 | N10: 変状区分 | P10: 材質劣化
C11: 応急措置前 | E11: - | N11: 応急措置前
C12: 応急措置後 | E12: Ⅱb | N12: 応急措置後
B13: 変状の発生範囲及び規模 | E13: 0.1m×2.7m | H13: 前回変状の発生範囲及び規模 | J13: うき・はく離 0.1m×3.1m | M13: 変状の発生範囲及び規模 | P13: W=6.0mm×L=3.2m | S13: 前回変状の発生範囲及び規模 | U13: 外力・ひび割れ W=6.0mm×L=3.2m
B14: 対策履歴 | E14: - | H14: 実施状況（実施日） | J14: - | M14: 対策履歴 | P14: - | S14: 実施状況（実施日） | U14: -
B15: メモ | E15: 側壁のうき 経過観察が望まれる | M15: メモ | P15: 車道のひび割れ
B16: 写真 番号 | C16: 覆工スパン 番号 | E16: 12 | M16: 写真 番号 | N16: 覆工スパン 番号 | P16: 12
C17: 変状番号 | E17: 7 | N17: 変状番号 | P17: 8
B18: 変状 部位 | C18: 対象箇所 | E18: 路面 | M18: 変状 部位 | N18: 対象箇所 | P18: 覆工
C19: 部位区分 | E19: 車道 | N19: 部位区分 | P19: アーチ（左側）
B20: 変状種類 | E20: 圧ざ、ひび割れ | M20: 変状種類 | P20: うき・はく離
B21: 対策 区分 | C21: 変状区分 | E21: 材質劣化 | M21: 対策 区分 | N21: 変状区分 | P21: 材質劣化
C22: 応急措置前 | N22: 応急措置前 | P22: -
C23: 応急措置後 | N23: 応急措置後 | P23: Ⅱa
B24: 変状の発生範囲及び規模 | E24: W=3.0mm×L=3.2m | H24: 前回変状の発生範囲及び規模 | J24: 外力・ひび割れ W=3.0mm×L=3.2m | M24: 変状の発生範囲及び規模 | P24: 0.2m×0.2m | S24: 前回変状の発生範囲及び規模 | U24: 新規
B25: 対策履歴 | E25: - | H25: 実施状況（実施日） | J25: - | M25: 対策履歴 | P25: - | S25: 実施状況（実施日） | U25: -
B26: メモ | E26: 車道のひび割れ | M26: メモ | P26: アーチのうき 浸透性硬化剤塗布済 計画的な対策が望まれる
C27: ※ 応急措置後の対策区分について添付すること。また、点検前に 実施された措置によりⅠと判定された箇所も添付すること。 | N27: ※ 変状の発生範囲の規模とは、対策を行う際に参考となる変状の長さや面積をいう。
N28: ※ 応急措置を実施しないで決定した変状の対策区分は、対策区分の応急措置後の欄に記入すること。
C29: ※ たたき落としを実施した場合は、実施後の写真を添付すること。 | N29: ※ 変状の発生範囲の規模は、面積・寸法を記載すること。(ひび割れ幅のみmmとし、その他をm表記とする)
C30: ※ 附属物の取付状態に関する異常写真は別途、任意の書式でとりまとめること。 | N30: ※ 構造用鋼材以外の異物に伴ううき・はく離については、メモ欄に異物の概要を記入すること。

Sheet 様式D-1-1 P034
B2: ■定期点検記録様式 変状写真台帳【様式D-1-1】 | R2: 施設ID | T2: ='様式A-1'!W2 -> 34.25614,130.89992
B3: フリガナ | E3: ツバシキズイドウ | H3: 路 線 名 | J3: 国道191号 | M3: 定期点検実施者 | P3: アジア航測株式会社 | S3: 定期点検年月日 | U3: 45919
B4: 名 称 | E4: 津波敷隧道 | H4: 管理者名 | J4: 山口県下関土木建築事務所 | P4: 飯田 琢巳
B5: 写真 番号 | C5: 覆工スパン 番号 | E5: 13 | M5: 写真 番号 | N5: 覆工スパン 番号 | P5: 13
C6: 変状番号 | E6: 1 | N6: 変状番号 | P6: 2
B7: 変状 部位 | C7: 対象箇所 | E7: 覆工 | M7: 変状 部位 | N7: 対象箇所 | P7: 覆工
C8: 部位区分 | E8: 側壁（左側） | N8: 部位区分 | P8: アーチ（左側）
B9: 変状種類 | E9: うき・はく離 | M9: 変状種類 | P9: その他
B10: 対策 区分 | C10: 変状区分 | E10: 材質劣化 | M10: 対策 区分 | N10: 変状区分 | P10: 材質劣化
C11: 応急措置前 | E11: - | N11: 応急措置前 | P11: -
C12: 応急措置後 | E12: Ⅱb | N12: 応急措置後 | P12: Ⅰ
B13: 変状の発生範囲及び規模 | E13: 0.1m×3.5m | H13: 前回変状の発生範囲及び規模 | J13: うき・はく離 0.1m×3.8m | M13: 変状の発生範囲及び規模 | P13: 漏水防止工 | S13: 前回変状の発生範囲及び規模 | U13: その他 補修済 漏水防止工
B14: 対策履歴 | E14: - | H14: 実施状況（実施日） | J14: - | M14: 対策履歴 | P14: - | S14: 実施状況（実施日） | U14: -
B15: メモ | E15: 側壁のうき 経過観察が望まれる | M15: メモ | P15: 既存補修跡
B16: 写真 番号 | C16: 覆工スパン 番号 | E16: 13 | M16: 写真 番号 | N16: 覆工スパン 番号 | P16: 13
C17: 変状番号 | E17: 3 | N17: 変状番号 | P17: 4
B18: 変状 部位 | C18: 対象箇所 | E18: 覆工 | M18: 変状 部位 | N18: 対象箇所 | P18: 覆工
C19: 部位区分 | E19: アーチ（右側） | N19: 部位区分 | P19: アーチ（右側）
B20: 変状種類 | E20: 圧ざ、ひび割れ | M20: 変状種類 | P20: 圧ざ、ひび割れ
B21: 対策 区分 | C21: 変状区分 | E21: 材質劣化 | M21: 対策 区分 | N21: 変状区分 | P21: 材質劣化
C22: 応急措置前 | E22: - | N22: 応急措置前 | P22: -
C23: 応急措置後 | E23: Ⅱb | N23: 応急措置後 | P23: Ⅱb
B24: 変状の発生範囲及び規模 | E24: W=0.5mm×L=2.0m | H24: 前回変状の発生範囲及び規模 | J24: 外力・ひび割れ W=0.5mm×L=2.0m | M24: 変状の発生範囲及び規模 | P24: W=1.0mm×L=1.8m | S24: 前回変状の発生範囲及び規模 | U24: 外力・ひび割れ W=1.0mm×L=1.8m
B25: 対策履歴 | E25: - | H25: 実施状況（実施日） | J25: - | M25: 対策履歴 | P25: - | S25: 実施状況（実施日） | U25: -
B26: メモ | E26: アーチのひび割れ 経過観察が望まれる | M26: メモ | P26: アーチのひび割れ 経過観察が望まれる
C27: ※ 応急措置後の対策区分について添付すること。また、点検前に 実施された措置によりⅠと判定された箇所も添付すること。 | N27: ※ 変状の発生範囲の規模とは、対策を行う際に参考となる変状の長さや面積をいう。
N28: ※ 応急措置を実施しないで決定した変状の対策区分は、対策区分の応急措置後の欄に記入すること。
C29: ※ たたき落としを実施した場合は、実施後の写真を添付すること。 | N29: ※ 変状の発生範囲の規模は、面積・寸法を記載すること。(ひび割れ幅のみmmとし、その他をm表記とする)
C30: ※ 附属物の取付状態に関する異常写真は別途、任意の書式でとりまとめること。 | N30: ※ 構造用鋼材以外の異物に伴ううき・はく離については、メモ欄に異物の概要を記入すること。

Sheet 様式D-1-1 P035
B2: ■定期点検記録様式 変状写真台帳【様式D-1-1】 | R2: 施設ID | T2: ='様式A-1'!W2 -> 34.25614,130.89992
B3: フリガナ | E3: ツバシキズイドウ | H3: 路 線 名 | J3: 国道191号 | M3: 定期点検実施者 | P3: アジア航測株式会社 | S3: 定期点検年月日 | U3: 45919
B4: 名 称 | E4: 津波敷隧道 | H4: 管理者名 | J4: 山口県下関土木建築事務所 | P4: 飯田 琢巳
B5: 写真 番号 | C5: 覆工スパン 番号 | E5: 13 | M5: 写真 番号 | N5: 覆工スパン 番号 | P5: 13
C6: 変状番号 | E6: 5 | N6: 変状番号 | P6: 6
B7: 変状 部位 | C7: 対象箇所 | E7: 覆工 | M7: 変状 部位 | N7: 対象箇所 | P7: 路面
C8: 部位区分 | E8: 側壁（右側） | N8: 部位区分 | P8: 側溝
B9: 変状種類 | E9: うき・はく離 | M9: 変状種類 | P9: その他
B10: 対策 区分 | C10: 変状区分 | E10: 材質劣化 | M10: 対策 区分 | N10: 変状区分 | P10: 材質劣化
C11: 応急措置前 | E11: - | N11: 応急措置前
C12: 応急措置後 | E12: Ⅱb | N12: 応急措置後
B13: 変状の発生範囲及び規模 | E13: 0.1m×4.2m | H13: 前回変状の発生範囲及び規模 | J13: うき・はく離 0.1m×4.2m | M13: 変状の発生範囲及び規模 | P13: 0.45m×8.0m | S13: 前回変状の発生範囲及び規模 | U13: 材質劣化・ｸﾞﾚｰﾁﾝｸﾞ破損
B14: 対策履歴 | E14: - | H14: 実施状況（実施日） | J14: - | M14: 対策履歴 | P14: - | S14: 実施状況（実施日） | U14: -
B15: メモ | E15: 側壁のうき 経過観察が望まれる | M15: メモ | P15: 側溝の蓋破損（ひび割れ）
B16: 写真 番号 | C16: 覆工スパン 番号 | E16: 13 | M16: 写真 番号 | N16: 覆工スパン 番号 | P16: 13
C17: 変状番号 | E17: 7 | N17: 変状番号 | P17: 8
B18: 変状 部位 | C18: 対象箇所 | E18: 路面 | M18: 変状 部位 | N18: 対象箇所 | P18: 路面
C19: 部位区分 | E19: 車道 | N19: 部位区分 | P19: 車道
B20: 変状種類 | E20: 圧ざ、ひび割れ | M20: 変状種類 | P20: 圧ざ、ひび割れ
B21: 対策 区分 | C21: 変状区分 | E21: 材質劣化 | M21: 対策 区分 | N21: 変状区分 | P21: 材質劣化
C22: 応急措置前 | N22: 応急措置前
C23: 応急措置後 | N23: 応急措置後
B24: 変状の発生範囲及び規模 | E24: W=0.7mm×L=3.2m | H24: 前回変状の発生範囲及び規模 | J24: 外力・ひび割れ W=0.2mm×L=3.2m | M24: 変状の発生範囲及び規模 | P24: W=1.0mm×L=3.2m | S24: 前回変状の発生範囲及び規模 | U24: 外力・ひび割れ W=1.0mm×L=3.2m
B25: 対策履歴 | E25: - | H25: 実施状況（実施日） | J25: - | M25: 対策履歴 | P25: - | S25: 実施状況（実施日） | U25: -
B26: メモ | E26: 車道のひび割れ | M26: メモ | P26: 車道のひび割れ
C27: ※ 応急措置後の対策区分について添付すること。また、点検前に 実施された措置によりⅠと判定された箇所も添付すること。 | N27: ※ 変状の発生範囲の規模とは、対策を行う際に参考となる変状の長さや面積をいう。
N28: ※ 応急措置を実施しないで決定した変状の対策区分は、対策区分の応急措置後の欄に記入すること。
C29: ※ たたき落としを実施した場合は、実施後の写真を添付すること。 | N29: ※ 変状の発生範囲の規模は、面積・寸法を記載すること。(ひび割れ幅のみmmとし、その他をm表記とする)
C30: ※ 附属物の取付状態に関する異常写真は別途、任意の書式でとりまとめること。 | N30: ※ 構造用鋼材以外の異物に伴ううき・はく離については、メモ欄に異物の概要を記入すること。

Sheet 様式D-1-1 P036
B2: ■定期点検記録様式 変状写真台帳【様式D-1-1】 | R2: 施設ID | T2: ='様式A-1'!W2 -> 34.25614,130.89992
B3: フリガナ | E3: ツバシキズイドウ | H3: 路 線 名 | J3: 国道191号 | M3: 定期点検実施者 | P3: アジア航測株式会社 | S3: 定期点検年月日 | U3: 45919
B4: 名 称 | E4: 津波敷隧道 | H4: 管理者名 | J4: 山口県下関土木建築事務所 | P4: 飯田 琢巳
B5: 写真 番号 | C5: 覆工スパン 番号 | E5: 14 | M5: 写真 番号 | N5: 覆工スパン 番号 | P5: 14
C6: 変状番号 | E6: 1 | N6: 変状番号 | P6: 2
B7: 変状 部位 | C7: 対象箇所 | E7: 覆工 | M7: 変状 部位 | N7: 対象箇所 | P7: 覆工
C8: 部位区分 | E8: 側壁（左側） | N8: 部位区分 | P8: 側壁（左側）
B9: 変状種類 | E9: うき・はく離 | M9: 変状種類 | P9: うき・はく離
B10: 対策 区分 | C10: 変状区分 | E10: 材質劣化 | M10: 対策 区分 | N10: 変状区分 | P10: 材質劣化
C11: 応急措置前 | E11: - | N11: 応急措置前 | P11: -
C12: 応急措置後 | E12: Ⅱb | N12: 応急措置後 | P12: Ⅱb
B13: 変状の発生範囲及び規模 | E13: 0.1m×1.5m | H13: 前回変状の発生範囲及び規模 | J13: うき・はく離 0.1m×1.5m | M13: 変状の発生範囲及び規模 | P13: 0.1m×1.5m | S13: 前回変状の発生範囲及び規模 | U13: うき・はく離 0.1m×1.5m
B14: 対策履歴 | E14: - | H14: 実施状況（実施日） | J14: - | M14: 対策履歴 | P14: - | S14: 実施状況（実施日） | U14: -
B15: メモ | E15: 側壁のうき 経過観察が望まれる | M15: メモ | P15: 側壁のうき 経過観察が望まれる
B16: 写真 番号 | C16: 覆工スパン 番号 | E16: 14 | M16: 写真 番号 | N16: 覆工スパン 番号 | P16: 14
C17: 変状番号 | E17: 3 | N17: 変状番号 | P17: 4
B18: 変状 部位 | C18: 対象箇所 | E18: 覆工 | M18: 変状 部位 | N18: 対象箇所 | P18: 覆工
C19: 部位区分 | E19: 側壁（左側） | N19: 部位区分 | P19: アーチ（左側）
B20: 変状種類 | E20: その他 | M20: 変状種類 | P20: うき・はく離
B21: 対策 区分 | C21: 変状区分 | E21: 材質劣化 | M21: 対策 区分 | N21: 変状区分 | P21: 材質劣化
C22: 応急措置前 | E22: - | N22: 応急措置前 | P22: -
C23: 応急措置後 | E23: Ⅰ | N23: 応急措置後 | P23: Ⅱa
B24: 変状の発生範囲及び規模 | E24: 漏水防止工 | H24: 前回変状の発生範囲及び規模 | J24: その他 補修済 漏水防止工 | M24: 変状の発生範囲及び規模 | P24: 0.9m×0.2m | S24: 前回変状の発生範囲及び規模 | U24: うき・はく離 0.9m×0.2m
B25: 対策履歴 | E25: - | H25: 実施状況（実施日） | J25: - | M25: 対策履歴 | P25: - | S25: 実施状況（実施日） | U25: -
B26: メモ | E26: 既存補修跡 | M26: メモ | P26: アーチのうき 浸透性硬化剤塗布済 計画的な対策が望まれる
C27: ※ 応急措置後の対策区分について添付すること。また、点検前に 実施された措置によりⅠと判定された箇所も添付すること。 | N27: ※ 変状の発生範囲の規模とは、対策を行う際に参考となる変状の長さや面積をいう。
N28: ※ 応急措置を実施しないで決定した変状の対策区分は、対策区分の応急措置後の欄に記入すること。
C29: ※ たたき落としを実施した場合は、実施後の写真を添付すること。 | N29: ※ 変状の発生範囲の規模は、面積・寸法を記載すること。(ひび割れ幅のみmmとし、その他をm表記とする)
C30: ※ 附属物の取付状態に関する異常写真は別途、任意の書式でとりまとめること。 | N30: ※ 構造用鋼材以外の異物に伴ううき・はく離については、メモ欄に異物の概要を記入すること。

Sheet 様式D-1-1 P037
B2: ■定期点検記録様式 変状写真台帳【様式D-1-1】 | R2: 施設ID | T2: ='様式A-1'!W2 -> 34.25614,130.89992
B3: フリガナ | E3: ツバシキズイドウ | H3: 路 線 名 | J3: 国道191号 | M3: 定期点検実施者 | P3: アジア航測株式会社 | S3: 定期点検年月日 | U3: 45919
B4: 名 称 | E4: 津波敷隧道 | H4: 管理者名 | J4: 山口県下関土木建築事務所 | P4: 飯田 琢巳
B5: 写真 番号 | C5: 覆工スパン 番号 | E5: 14 | M5: 写真 番号 | N5: 覆工スパン 番号 | P5: 14
C6: 変状番号 | E6: 5 | N6: 変状番号 | P6: 6
B7: 変状 部位 | C7: 対象箇所 | E7: 覆工 | M7: 変状 部位 | N7: 対象箇所 | P7: 覆工
C8: 部位区分 | E8: アーチ（右側） | N8: 部位区分 | P8: アーチ（右側）
B9: 変状種類 | E9: 圧ざ、ひび割れ | M9: 変状種類 | P9: その他
B10: 対策 区分 | C10: 変状区分 | E10: 材質劣化 | M10: 対策 区分 | N10: 変状区分 | P10: 材質劣化
C11: 応急措置前 | E11: - | N11: 応急措置前 | P11: -
C12: 応急措置後 | E12: Ⅱb | N12: 応急措置後 | P12: Ⅰ
B13: 変状の発生範囲及び規模 | E13: W=0.5mm×L=2.8m | H13: 前回変状の発生範囲及び規模 | J13: 外力・ひび割れ W=0.5mm×L=2.2m | M13: 変状の発生範囲及び規模 | P13: 漏水防止工 | S13: 前回変状の発生範囲及び規模 | U13: その他 補修済 漏水防止工
B14: 対策履歴 | E14: - | H14: 実施状況（実施日） | J14: - | M14: 対策履歴 | P14: - | S14: 実施状況（実施日） | U14: -
B15: メモ | E15: アーチのひび割れ 経過観察が望まれる | M15: メモ | P15: 既存補修跡
B16: 写真 番号 | C16: 覆工スパン 番号 | E16: 14 | M16: 写真 番号 | N16: 覆工スパン 番号 | P16: 14
C17: 変状番号 | E17: 7 | N17: 変状番号 | P17: 8
B18: 変状 部位 | C18: 対象箇所 | E18: 覆工 | M18: 変状 部位 | N18: 対象箇所 | P18: 覆工
C19: 部位区分 | E19: 側壁（右側） | N19: 部位区分 | P19: 側壁（右側）
B20: 変状種類 | E20: うき・はく離 | M20: 変状種類 | P20: うき・はく離
B21: 対策 区分 | C21: 変状区分 | E21: 材質劣化 | M21: 対策 区分 | N21: 変状区分 | P21: 材質劣化
C22: 応急措置前 | E22: - | N22: 応急措置前 | P22: -
C23: 応急措置後 | E23: Ⅱb | N23: 応急措置後 | P23: Ⅱb
B24: 変状の発生範囲及び規模 | E24: 0.1m×3.3m | H24: 前回変状の発生範囲及び規模 | J24: うき・はく離 0.1m×3.3m | M24: 変状の発生範囲及び規模 | P24: 0.1m×1.5m | S24: 前回変状の発生範囲及び規模 | U24: うき・はく離 0.1m×1.5m
B25: 対策履歴 | E25: - | H25: 実施状況（実施日） | J25: - | M25: 対策履歴 | P25: - | S25: 実施状況（実施日） | U25: -
B26: メモ | E26: 側壁のうき 経過観察が望まれる | M26: メモ | P26: 側壁のうき 経過観察が望まれる
C27: ※ 応急措置後の対策区分について添付すること。また、点検前に 実施された措置によりⅠと判定された箇所も添付すること。 | N27: ※ 変状の発生範囲の規模とは、対策を行う際に参考となる変状の長さや面積をいう。
N28: ※ 応急措置を実施しないで決定した変状の対策区分は、対策区分の応急措置後の欄に記入すること。
C29: ※ たたき落としを実施した場合は、実施後の写真を添付すること。 | N29: ※ 変状の発生範囲の規模は、面積・寸法を記載すること。(ひび割れ幅のみmmとし、その他をm表記とする)
C30: ※ 附属物の取付状態に関する異常写真は別途、任意の書式でとりまとめること。 | N30: ※ 構造用鋼材以外の異物に伴ううき・はく離については、メモ欄に異物の概要を記入すること。

Sheet 様式D-1-1 P038
B2: ■定期点検記録様式 変状写真台帳【様式D-1-1】 | R2: 施設ID | T2: ='様式A-1'!W2 -> 34.25614,130.89992
B3: フリガナ | E3: ツバシキズイドウ | H3: 路 線 名 | J3: 国道191号 | M3: 定期点検実施者 | P3: アジア航測株式会社 | S3: 定期点検年月日 | U3: 45919
B4: 名 称 | E4: 津波敷隧道 | H4: 管理者名 | J4: 山口県下関土木建築事務所 | P4: 飯田 琢巳
B5: 写真 番号 | C5: 覆工スパン 番号 | E5: 14 | M5: 写真 番号 | N5: 覆工スパン 番号 | P5: 15
C6: 変状番号 | E6: 9 | N6: 変状番号 | P6: 1
B7: 変状 部位 | C7: 対象箇所 | E7: 路面 | M7: 変状 部位 | N7: 対象箇所 | P7: 覆工
C8: 部位区分 | E8: 車道 | N8: 部位区分 | P8: 側壁（左側）
B9: 変状種類 | E9: 圧ざ、ひび割れ | M9: 変状種類 | P9: その他
B10: 対策 区分 | C10: 変状区分 | E10: 材質劣化 | M10: 対策 区分 | N10: 変状区分 | P10: 材質劣化
C11: 応急措置前 | N11: 応急措置前 | P11: -
C12: 応急措置後 | N12: 応急措置後 | P12: Ⅰ
B13: 変状の発生範囲及び規模 | E13: W=0.4mm×L=3.2m | H13: 前回変状の発生範囲及び規模 | J13: 外力・ひび割れ W=0.4mm×L=3.2m | M13: 変状の発生範囲及び規模 | P13: 漏水防止工 | S13: 前回変状の発生範囲及び規模 | U13: その他 補修済 漏水防止工
B14: 対策履歴 | E14: - | H14: 実施状況（実施日） | J14: - | M14: 対策履歴 | P14: - | S14: 実施状況（実施日） | U14: -
B15: メモ | E15: 車道のひび割れ | M15: メモ | P15: 既存補修跡
B16: 写真 番号 | C16: 覆工スパン 番号 | E16: 15 | M16: 写真 番号 | N16: 覆工スパン 番号 | P16: 15
C17: 変状番号 | E17: 2 | N17: 変状番号 | P17: 3
B18: 変状 部位 | C18: 対象箇所 | E18: 覆工 | M18: 変状 部位 | N18: 対象箇所 | P18: 覆工
C19: 部位区分 | E19: 側壁（左側） | N19: 部位区分 | P19: 側壁（左側）
B20: 変状種類 | E20: うき・はく離 | M20: 変状種類 | P20: うき・はく離
B21: 対策 区分 | C21: 変状区分 | E21: 材質劣化 | M21: 対策 区分 | N21: 変状区分 | P21: 材質劣化
C22: 応急措置前 | E22: - | N22: 応急措置前 | P22: -
C23: 応急措置後 | E23: Ⅰ | N23: 応急措置後 | P23: Ⅱb
B24: 変状の発生範囲及び規模 | E24: - | H24: 前回変状の発生範囲及び規模 | J24: うき・はく離 0.2m×1.5m | M24: 変状の発生範囲及び規模 | P24: 0.1m×4.0m | S24: 前回変状の発生範囲及び規模 | U24: うき・はく離 0.1m×4.0m
B25: 対策履歴 | E25: - | H25: 実施状況（実施日） | J25: - | M25: 対策履歴 | P25: - | S25: 実施状況（実施日） | U25: -
B26: メモ | E26: 側壁のうき 今回打音異常は確認されなかった | M26: メモ | P26: 側壁のうき 経過観察が望まれる
C27: ※ 応急措置後の対策区分について添付すること。また、点検前に 実施された措置によりⅠと判定された箇所も添付すること。 | N27: ※ 変状の発生範囲の規模とは、対策を行う際に参考となる変状の長さや面積をいう。
N28: ※ 応急措置を実施しないで決定した変状の対策区分は、対策区分の応急措置後の欄に記入すること。
C29: ※ たたき落としを実施した場合は、実施後の写真を添付すること。 | N29: ※ 変状の発生範囲の規模は、面積・寸法を記載すること。(ひび割れ幅のみmmとし、その他をm表記とする)
C30: ※ 附属物の取付状態に関する異常写真は別途、任意の書式でとりまとめること。 | N30: ※ 構造用鋼材以外の異物に伴ううき・はく離については、メモ欄に異物の概要を記入すること。

Sheet 様式D-1-1 P039
B2: ■定期点検記録様式 変状写真台帳【様式D-1-1】 | R2: 施設ID | T2: ='様式A-1'!W2 -> 34.25614,130.89992
B3: フリガナ | E3: ツバシキズイドウ | H3: 路 線 名 | J3: 国道191号 | M3: 定期点検実施者 | P3: アジア航測株式会社 | S3: 定期点検年月日 | U3: 45919
B4: 名 称 | E4: 津波敷隧道 | H4: 管理者名 | J4: 山口県下関土木建築事務所 | P4: 飯田 琢巳
B5: 写真 番号 | C5: 覆工スパン 番号 | E5: 15 | M5: 写真 番号 | N5: 覆工スパン 番号 | P5: 15
C6: 変状番号 | E6: 4 | N6: 変状番号 | P6: 5
B7: 変状 部位 | C7: 対象箇所 | E7: 覆工 | M7: 変状 部位 | N7: 対象箇所 | P7: 覆工
C8: 部位区分 | E8: アーチ（左側） | N8: 部位区分 | P8: アーチ（右側）
B9: 変状種類 | E9: 圧ざ、ひび割れ | M9: 変状種類 | P9: 圧ざ、ひび割れ
B10: 対策 区分 | C10: 変状区分 | E10: 材質劣化 | M10: 対策 区分 | N10: 変状区分 | P10: 材質劣化
C11: 応急措置前 | E11: - | N11: 応急措置前 | P11: -
C12: 応急措置後 | E12: Ⅱb | N12: 応急措置後 | P12: Ⅱb
B13: 変状の発生範囲及び規模 | E13: W=0.5mm×L=1.8m | H13: 前回変状の発生範囲及び規模 | J13: 外力・ひび割れ W=0.5mm×L=3.0m | M13: 変状の発生範囲及び規模 | P13: W=0.5mm×L=4.3m | S13: 前回変状の発生範囲及び規模 | U13: 外力・ひび割れ W=0.5mm×L=0.8m
B14: 対策履歴 | E14: - | H14: 実施状況（実施日） | J14: - | M14: 対策履歴 | P14: - | S14: 実施状況（実施日） | U14: -
B15: メモ | E15: アーチのひび割れ 経過観察が望まれる | M15: メモ | P15: アーチのひび割れ 経過観察が望まれる
B16: 写真 番号 | C16: 覆工スパン 番号 | E16: 15 | M16: 写真 番号 | N16: 覆工スパン 番号 | P16: 15
C17: 変状番号 | E17: 6 | N17: 変状番号 | P17: 7
B18: 変状 部位 | C18: 対象箇所 | E18: 覆工 | M18: 変状 部位 | N18: 対象箇所 | P18: 覆工
C19: 部位区分 | E19: アーチ（右側） | N19: 部位区分 | P19: 側壁（右側）
B20: 変状種類 | E20: 圧ざ、ひび割れ | M20: 変状種類 | P20: うき・はく離
B21: 対策 区分 | C21: 変状区分 | E21: 材質劣化 | M21: 対策 区分 | N21: 変状区分 | P21: 材質劣化
C22: 応急措置前 | E22: - | N22: 応急措置前 | P22: -
C23: 応急措置後 | E23: Ⅱb | N23: 応急措置後 | P23: Ⅱb
B24: 変状の発生範囲及び規模 | E24: W=0.5mm×L=2.1m | H24: 前回変状の発生範囲及び規模 | J24: 外力・ひび割れ W=0.5mm×L=2.0m | M24: 変状の発生範囲及び規模 | P24: 0.1m×4.5m | S24: 前回変状の発生範囲及び規模 | U24: うき・はく離 0.1m×4.5m
B25: 対策履歴 | E25: - | H25: 実施状況（実施日） | J25: - | M25: 対策履歴 | P25: - | S25: 実施状況（実施日） | U25: -
B26: メモ | E26: アーチのひび割れ 経過観察が望まれる | M26: メモ | P26: 側壁のうき 経過観察が望まれる
C27: ※ 応急措置後の対策区分について添付すること。また、点検前に 実施された措置によりⅠと判定された箇所も添付すること。 | N27: ※ 変状の発生範囲の規模とは、対策を行う際に参考となる変状の長さや面積をいう。
N28: ※ 応急措置を実施しないで決定した変状の対策区分は、対策区分の応急措置後の欄に記入すること。
C29: ※ たたき落としを実施した場合は、実施後の写真を添付すること。 | N29: ※ 変状の発生範囲の規模は、面積・寸法を記載すること。(ひび割れ幅のみmmとし、その他をm表記とする)
C30: ※ 附属物の取付状態に関する異常写真は別途、任意の書式でとりまとめること。 | N30: ※ 構造用鋼材以外の異物に伴ううき・はく離については、メモ欄に異物の概要を記入すること。

Sheet 様式D-1-1 P040
B2: ■定期点検記録様式 変状写真台帳【様式D-1-1】 | R2: 施設ID | T2: ='様式A-1'!W2 -> 34.25614,130.89992
B3: フリガナ | E3: ツバシキズイドウ | H3: 路 線 名 | J3: 国道191号 | M3: 定期点検実施者 | P3: アジア航測株式会社 | S3: 定期点検年月日 | U3: 45919
B4: 名 称 | E4: 津波敷隧道 | H4: 管理者名 | J4: 山口県下関土木建築事務所 | P4: 飯田 琢巳
B5: 写真 番号 | C5: 覆工スパン 番号 | E5: 15 | M5: 写真 番号 | N5: 覆工スパン 番号 | P5: 15
C6: 変状番号 | E6: 8 | N6: 変状番号 | P6: 9
B7: 変状 部位 | C7: 対象箇所 | E7: 覆工 | M7: 変状 部位 | N7: 対象箇所 | P7: 覆工
C8: 部位区分 | E8: 側壁（右側） | N8: 部位区分 | P8: 側壁（右側）
B9: 変状種類 | E9: 圧ざ、ひび割れ | M9: 変状種類 | P9: うき・はく離
B10: 対策 区分 | C10: 変状区分 | E10: 材質劣化 | M10: 対策 区分 | N10: 変状区分 | P10: 材質劣化
C11: 応急措置前 | E11: - | N11: 応急措置前 | P11: -
C12: 応急措置後 | E12: Ⅱb | N12: 応急措置後 | P12: Ⅱb
B13: 変状の発生範囲及び規模 | E13: W=1.0mm×L=2.7m | H13: 前回変状の発生範囲及び規模 | J13: 外力・ひび割れ W=1.0mm×L=2.7m | M13: 変状の発生範囲及び規模 | P13: 0.1m×4.4m | S13: 前回変状の発生範囲及び規模 | U13: うき・はく離 0.1m×4.4m
B14: 対策履歴 | E14: - | H14: 実施状況（実施日） | J14: - | M14: 対策履歴 | P14: - | S14: 実施状況（実施日） | U14: -
B15: メモ | E15: 側壁のひび割れ 経過観察が望まれる | M15: メモ | P15: 側壁のうき 経過観察が望まれる
B16: 写真 番号 | C16: 覆工スパン 番号 | E16: 15 | M16: 写真 番号 | N16: 覆工スパン 番号 | P16: 15
C17: 変状番号 | E17: 10 | N17: 変状番号 | P17: 11
B18: 変状 部位 | C18: 対象箇所 | E18: 路面 | M18: 変状 部位 | N18: 対象箇所 | P18: 路面
C19: 部位区分 | E19: 車道 | N19: 部位区分 | P19: 車道
B20: 変状種類 | E20: 圧ざ、ひび割れ | M20: 変状種類 | P20: うき・はく離
B21: 対策 区分 | C21: 変状区分 | E21: 材質劣化 | M21: 対策 区分 | N21: 変状区分 | P21: 材質劣化
C22: 応急措置前 | N22: 応急措置前
C23: 応急措置後 | N23: 応急措置後
B24: 変状の発生範囲及び規模 | E24: W=2.0mm×L=3.2m | H24: 前回変状の発生範囲及び規模 | J24: 外力・ひび割れ W=0.3mm×L=3.2m | M24: 変状の発生範囲及び規模 | P24: 3.2m×0.05m | S24: 前回変状の発生範囲及び規模 | U24: うき・はく離 目地隙間20㎜
B25: 対策履歴 | E25: - | H25: 実施状況（実施日） | J25: - | M25: 対策履歴 | P25: - | S25: 実施状況（実施日） | U25: -
B26: メモ | E26: 車道のひび割れ | M26: メモ | P26: 車道の目地隙間20㎜
C27: ※ 応急措置後の対策区分について添付すること。また、点検前に 実施された措置によりⅠと判定された箇所も添付すること。 | N27: ※ 変状の発生範囲の規模とは、対策を行う際に参考となる変状の長さや面積をいう。
N28: ※ 応急措置を実施しないで決定した変状の対策区分は、対策区分の応急措置後の欄に記入すること。
C29: ※ たたき落としを実施した場合は、実施後の写真を添付すること。 | N29: ※ 変状の発生範囲の規模は、面積・寸法を記載すること。(ひび割れ幅のみmmとし、その他をm表記とする)
C30: ※ 附属物の取付状態に関する異常写真は別途、任意の書式でとりまとめること。 | N30: ※ 構造用鋼材以外の異物に伴ううき・はく離については、メモ欄に異物の概要を記入すること。

Sheet 様式D-1-1 P041
B2: ■定期点検記録様式 変状写真台帳【様式D-1-1】 | R2: 施設ID | T2: ='様式A-1'!W2 -> 34.25614,130.89992
B3: フリガナ | E3: ツバシキズイドウ | H3: 路 線 名 | J3: 国道191号 | M3: 定期点検実施者 | P3: アジア航測株式会社 | S3: 定期点検年月日 | U3: 45919
B4: 名 称 | E4: 津波敷隧道 | H4: 管理者名 | J4: 山口県下関土木建築事務所 | P4: 飯田 琢巳
B5: 写真 番号 | C5: 覆工スパン 番号 | E5: 15 | M5: 写真 番号 | N5: 覆工スパン 番号 | P5: 16
C6: 変状番号 | E6: 12 | N6: 変状番号 | P6: 1
B7: 変状 部位 | C7: 対象箇所 | E7: 路面 | M7: 変状 部位 | N7: 対象箇所 | P7: 覆工
C8: 部位区分 | E8: 監査歩路 | N8: 部位区分 | P8: 側壁（左側）
B9: 変状種類 | E9: その他 | M9: 変状種類 | P9: その他
B10: 対策 区分 | C10: 変状区分 | E10: 材質劣化 | M10: 対策 区分 | N10: 変状区分 | P10: 材質劣化
C11: 応急措置前 | N11: 応急措置前 | P11: -
C12: 応急措置後 | N12: 応急措置後 | P12: Ⅰ
B13: 変状の発生範囲及び規模 | E13: 0.15m×0.1m | H13: 前回変状の発生範囲及び規模 | J13: 外力・段差 縁石段差15㎜ | M13: 変状の発生範囲及び規模 | P13: 漏水防止工 | S13: 前回変状の発生範囲及び規模 | U13: その他 補修済 漏水防止工
B14: 対策履歴 | E14: - | H14: 実施状況（実施日） | J14: - | M14: 対策履歴 | P14: - | S14: 実施状況（実施日） | U14: -
B15: メモ | E15: 縁石段差15㎜ | M15: メモ | P15: 既存補修跡
B16: 写真 番号 | C16: 覆工スパン 番号 | E16: 16 | M16: 写真 番号 | N16: 覆工スパン 番号 | P16: 16
C17: 変状番号 | E17: 2 | N17: 変状番号 | P17: 3
B18: 変状 部位 | C18: 対象箇所 | E18: 覆工 | M18: 変状 部位 | N18: 対象箇所 | P18: 覆工
C19: 部位区分 | E19: 側壁（左側） | N19: 部位区分 | P19: アーチ（右側）
B20: 変状種類 | E20: うき・はく離 | M20: 変状種類 | P20: 圧ざ、ひび割れ
B21: 対策 区分 | C21: 変状区分 | E21: 材質劣化 | M21: 対策 区分 | N21: 変状区分 | P21: 材質劣化
C22: 応急措置前 | E22: - | N22: 応急措置前 | P22: -
C23: 応急措置後 | E23: Ⅱb | N23: 応急措置後 | P23: Ⅱb
B24: 変状の発生範囲及び規模 | E24: 0.1m×4.8m | H24: 前回変状の発生範囲及び規模 | J24: うき・はく離 0.1m×4.8m | M24: 変状の発生範囲及び規模 | P24: W=0.5mm×L=1.9m | S24: 前回変状の発生範囲及び規模 | U24: 外力・ひび割れ W=0.5mm×L=1.2m
B25: 対策履歴 | E25: - | H25: 実施状況（実施日） | J25: - | M25: 対策履歴 | P25: - | S25: 実施状況（実施日） | U25: -
B26: メモ | E26: 側壁のうき 経過観察が望まれる | M26: メモ | P26: アーチのひび割れ 経過観察が望まれる
C27: ※ 応急措置後の対策区分について添付すること。また、点検前に 実施された措置によりⅠと判定された箇所も添付すること。 | N27: ※ 変状の発生範囲の規模とは、対策を行う際に参考となる変状の長さや面積をいう。
N28: ※ 応急措置を実施しないで決定した変状の対策区分は、対策区分の応急措置後の欄に記入すること。
C29: ※ たたき落としを実施した場合は、実施後の写真を添付すること。 | N29: ※ 変状の発生範囲の規模は、面積・寸法を記載すること。(ひび割れ幅のみmmとし、その他をm表記とする)
C30: ※ 附属物の取付状態に関する異常写真は別途、任意の書式でとりまとめること。 | N30: ※ 構造用鋼材以外の異物に伴ううき・はく離については、メモ欄に異物の概要を記入すること。

Sheet 様式D-1-1 P042
B2: ■定期点検記録様式 変状写真台帳【様式D-1-1】 | R2: 施設ID | T2: ='様式A-1'!W2 -> 34.25614,130.89992
B3: フリガナ | E3: ツバシキズイドウ | H3: 路 線 名 | J3: 国道191号 | M3: 定期点検実施者 | P3: アジア航測株式会社 | S3: 定期点検年月日 | U3: 45919
B4: 名 称 | E4: 津波敷隧道 | H4: 管理者名 | J4: 山口県下関土木建築事務所 | P4: 飯田 琢巳
B5: 写真 番号 | C5: 覆工スパン 番号 | E5: 16 | M5: 写真 番号 | N5: 覆工スパン 番号 | P5: 16
C6: 変状番号 | E6: 4 | N6: 変状番号 | P6: 5
B7: 変状 部位 | C7: 対象箇所 | E7: 覆工 | M7: 変状 部位 | N7: 対象箇所 | P7: 覆工
C8: 部位区分 | E8: 側壁（右側） | N8: 部位区分 | P8: 側壁（右側）
B9: 変状種類 | E9: うき・はく離 | M9: 変状種類 | P9: うき・はく離
B10: 対策 区分 | C10: 変状区分 | E10: 材質劣化 | M10: 対策 区分 | N10: 変状区分 | P10: 材質劣化
C11: 応急措置前 | E11: - | N11: 応急措置前 | P11: -
C12: 応急措置後 | E12: Ⅱb | N12: 応急措置後 | P12: Ⅱb
B13: 変状の発生範囲及び規模 | E13: 0.1m×1.5m | H13: 前回変状の発生範囲及び規模 | J13: うき・はく離 0.1m×1.5m | M13: 変状の発生範囲及び規模 | P13: 0.1m×4.2m | S13: 前回変状の発生範囲及び規模 | U13: うき・はく離 0.1m×4.2m
B14: 対策履歴 | E14: - | H14: 実施状況（実施日） | J14: - | M14: 対策履歴 | P14: - | S14: 実施状況（実施日） | U14: -
B15: メモ | E15: 側壁のうき 経過観察が望まれる | M15: メモ | P15: 側壁のうき 経過観察が望まれる
B16: 写真 番号 | C16: 覆工スパン 番号 | E16: 16 | M16: 写真 番号 | N16: 覆工スパン 番号 | P16: 16
C17: 変状番号 | E17: 6 | N17: 変状番号 | P17: 7
B18: 変状 部位 | C18: 対象箇所 | E18: 覆工 | M18: 変状 部位 | N18: 対象箇所 | P18: 路面
C19: 部位区分 | E19: 側壁（右側） | N19: 部位区分 | P19: 側溝
B20: 変状種類 | E20: その他 | M20: 変状種類 | P20: その他
B21: 対策 区分 | C21: 変状区分 | E21: 材質劣化 | M21: 対策 区分 | N21: 変状区分 | P21: 材質劣化
C22: 応急措置前 | E22: - | N22: 応急措置前
C23: 応急措置後 | E23: Ⅰ | N23: 応急措置後
B24: 変状の発生範囲及び規模 | E24: 漏水防止工 | H24: 前回変状の発生範囲及び規模 | J24: その他 補修済 漏水防止工 | M24: 変状の発生範囲及び規模 | P24: 0.45m×2.0m | S24: 前回変状の発生範囲及び規模 | U24: 材質劣化・ｸﾞﾚｰﾁﾝｸﾞ破損
B25: 対策履歴 | E25: - | H25: 実施状況（実施日） | J25: - | M25: 対策履歴 | P25: - | S25: 実施状況（実施日） | U25: -
B26: メモ | E26: 既存補修跡 | M26: メモ | P26: 側溝の蓋破損（ひび割れ）
C27: ※ 応急措置後の対策区分について添付すること。また、点検前に 実施された措置によりⅠと判定された箇所も添付すること。 | N27: ※ 変状の発生範囲の規模とは、対策を行う際に参考となる変状の長さや面積をいう。
N28: ※ 応急措置を実施しないで決定した変状の対策区分は、対策区分の応急措置後の欄に記入すること。
C29: ※ たたき落としを実施した場合は、実施後の写真を添付すること。 | N29: ※ 変状の発生範囲の規模は、面積・寸法を記載すること。(ひび割れ幅のみmmとし、その他をm表記とする)
C30: ※ 附属物の取付状態に関する異常写真は別途、任意の書式でとりまとめること。 | N30: ※ 構造用鋼材以外の異物に伴ううき・はく離については、メモ欄に異物の概要を記入すること。

Sheet 様式D-1-1 P043
B2: ■定期点検記録様式 変状写真台帳【様式D-1-1】 | R2: 施設ID | T2: ='様式A-1'!W2 -> 34.25614,130.89992
B3: フリガナ | E3: ツバシキズイドウ | H3: 路 線 名 | J3: 国道191号 | M3: 定期点検実施者 | P3: アジア航測株式会社 | S3: 定期点検年月日 | U3: 45919
B4: 名 称 | E4: 津波敷隧道 | H4: 管理者名 | J4: 山口県下関土木建築事務所 | P4: 飯田 琢巳
B5: 写真 番号 | C5: 覆工スパン 番号 | E5: 16 | M5: 写真 番号 | N5: 覆工スパン 番号 | P5: 16
C6: 変状番号 | E6: 8 | N6: 変状番号 | P6: 9
B7: 変状 部位 | C7: 対象箇所 | E7: 路面 | M7: 変状 部位 | N7: 対象箇所 | P7: 路面
C8: 部位区分 | E8: 側溝 | N8: 部位区分 | P8: 車道
B9: 変状種類 | E9: その他 | M9: 変状種類 | P9: 圧ざ、ひび割れ
B10: 対策 区分 | C10: 変状区分 | E10: 材質劣化 | M10: 対策 区分 | N10: 変状区分 | P10: 材質劣化
C11: 応急措置前 | N11: 応急措置前
C12: 応急措置後 | N12: 応急措置後
B13: 変状の発生範囲及び規模 | E13: 0.45m×4.0m | H13: 前回変状の発生範囲及び規模 | J13: 材質劣化・ｸﾞﾚｰﾁﾝｸﾞ破損 | M13: 変状の発生範囲及び規模 | P13: W=5.0mm×L=3.2m | S13: 前回変状の発生範囲及び規模 | U13: 外力・ひび割れ W=2.0mm×L=3.2m
B14: 対策履歴 | E14: - | H14: 実施状況（実施日） | J14: - | M14: 対策履歴 | P14: - | S14: 実施状況（実施日） | U14: -
B15: メモ | E15: 側溝の蓋破損（ひび割れ） | M15: メモ | P15: 車道のひび割れ
B16: 写真 番号 | C16: 覆工スパン 番号 | E16: 16 | M16: 写真 番号 | N16: 覆工スパン 番号 | P16: 16
C17: 変状番号 | E17: 10 | N17: 変状番号 | P17: 11
B18: 変状 部位 | C18: 対象箇所 | E18: 路面 | M18: 変状 部位 | N18: 対象箇所 | P18: 路面
C19: 部位区分 | E19: 車道 | N19: 部位区分 | P19: 車道
B20: 変状種類 | E20: 圧ざ、ひび割れ | M20: 変状種類 | P20: 圧ざ、ひび割れ
B21: 対策 区分 | C21: 変状区分 | E21: 材質劣化 | M21: 対策 区分 | N21: 変状区分 | P21: 材質劣化
C22: 応急措置前 | N22: 応急措置前
C23: 応急措置後 | N23: 応急措置後
B24: 変状の発生範囲及び規模 | E24: W=1.0mm×L=3.2m | H24: 前回変状の発生範囲及び規模 | J24: 外力・ひび割れ W=1.0mm×L=3.2m | M24: 変状の発生範囲及び規模 | P24: W=4.0mm×L=3.2m | S24: 前回変状の発生範囲及び規模 | U24: 外力・ひび割れ W=4.0mm×L=3.2m
B25: 対策履歴 | E25: - | H25: 実施状況（実施日） | J25: - | M25: 対策履歴 | P25: - | S25: 実施状況（実施日） | U25: -
B26: メモ | E26: 車道のひび割れ | M26: メモ | P26: 車道のひび割れ
C27: ※ 応急措置後の対策区分について添付すること。また、点検前に 実施された措置によりⅠと判定された箇所も添付すること。 | N27: ※ 変状の発生範囲の規模とは、対策を行う際に参考となる変状の長さや面積をいう。
N28: ※ 応急措置を実施しないで決定した変状の対策区分は、対策区分の応急措置後の欄に記入すること。
C29: ※ たたき落としを実施した場合は、実施後の写真を添付すること。 | N29: ※ 変状の発生範囲の規模は、面積・寸法を記載すること。(ひび割れ幅のみmmとし、その他をm表記とする)
C30: ※ 附属物の取付状態に関する異常写真は別途、任意の書式でとりまとめること。 | N30: ※ 構造用鋼材以外の異物に伴ううき・はく離については、メモ欄に異物の概要を記入すること。

Sheet 様式D-1-1 P044
B2: ■定期点検記録様式 変状写真台帳【様式D-1-1】 | R2: 施設ID | T2: ='様式A-1'!W2 -> 34.25614,130.89992
B3: フリガナ | E3: ツバシキズイドウ | H3: 路 線 名 | J3: 国道191号 | M3: 定期点検実施者 | P3: アジア航測株式会社 | S3: 定期点検年月日 | U3: 45919
B4: 名 称 | E4: 津波敷隧道 | H4: 管理者名 | J4: 山口県下関土木建築事務所 | P4: 飯田 琢巳
B5: 写真 番号 | C5: 覆工スパン 番号 | E5: 16 | M5: 写真 番号 | N5: 覆工スパン 番号 | P5: 16
C6: 変状番号 | E6: 12 | N6: 変状番号 | P6: 13
B7: 変状 部位 | C7: 対象箇所 | E7: 路面 | M7: 変状 部位 | N7: 対象箇所 | P7: 路面
C8: 部位区分 | E8: 車道 | N8: 部位区分 | P8: 車道
B9: 変状種類 | E9: 圧ざ、ひび割れ | M9: 変状種類 | P9: 圧ざ、ひび割れ
B10: 対策 区分 | C10: 変状区分 | E10: 材質劣化 | M10: 対策 区分 | N10: 変状区分 | P10: 材質劣化
C11: 応急措置前 | N11: 応急措置前
C12: 応急措置後 | N12: 応急措置後
B13: 変状の発生範囲及び規模 | E13: W=1.0mm×L=0.6m | H13: 前回変状の発生範囲及び規模 | J13: 外力・ひび割れ W=0.6mm×L=1.0m | M13: 変状の発生範囲及び規模 | P13: W=1.0mm×L=3.2m | S13: 前回変状の発生範囲及び規模 | U13: 外力・ひび割れ W=1.0mm×L=3.2m
B14: 対策履歴 | E14: - | H14: 実施状況（実施日） | J14: - | M14: 対策履歴 | P14: - | S14: 実施状況（実施日） | U14: -
B15: メモ | E15: 車道のひび割れ | M15: メモ | P15: 車道のひび割れ
B16: 写真 番号 | C16: 覆工スパン 番号 | E16: 16 | M16: 写真 番号 | N16: 覆工スパン 番号 | P16: 17
C17: 変状番号 | E17: 14 | N17: 変状番号 | P17: 1
B18: 変状 部位 | C18: 対象箇所 | E18: 覆工 | M18: 変状 部位 | N18: 対象箇所 | P18: 覆工
C19: 部位区分 | E19: 側壁（左側） | N19: 部位区分 | P19: 側壁（左側）
B20: 変状種類 | E20: うき・はく離 | M20: 変状種類 | P20: うき・はく離
B21: 対策 区分 | C21: 変状区分 | E21: 材質劣化 | M21: 対策 区分 | N21: 変状区分 | P21: 材質劣化
C22: 応急措置前 | E22: - | N22: 応急措置前 | P22: -
C23: 応急措置後 | E23: Ⅱb | N23: 応急措置後 | P23: Ⅱb
B24: 変状の発生範囲及び規模 | E24: 0.1m×1.5m | H24: 前回変状の発生範囲及び規模 | J24: 新規 | M24: 変状の発生範囲及び規模 | P24: 0.1m×3.5m | S24: 前回変状の発生範囲及び規模 | U24: うき・はく離 0.1m×3.5m
B25: 対策履歴 | E25: - | H25: 実施状況（実施日） | J25: - | M25: 対策履歴 | P25: - | S25: 実施状況（実施日） | U25: -
B26: メモ | E26: 側壁のうき 経過観察が望まれる | M26: メモ | P26: 側壁のうき 経過観察が望まれる
C27: ※ 応急措置後の対策区分について添付すること。また、点検前に 実施された措置によりⅠと判定された箇所も添付すること。 | N27: ※ 変状の発生範囲の規模とは、対策を行う際に参考となる変状の長さや面積をいう。
N28: ※ 応急措置を実施しないで決定した変状の対策区分は、対策区分の応急措置後の欄に記入すること。
C29: ※ たたき落としを実施した場合は、実施後の写真を添付すること。 | N29: ※ 変状の発生範囲の規模は、面積・寸法を記載すること。(ひび割れ幅のみmmとし、その他をm表記とする)
C30: ※ 附属物の取付状態に関する異常写真は別途、任意の書式でとりまとめること。 | N30: ※ 構造用鋼材以外の異物に伴ううき・はく離については、メモ欄に異物の概要を記入すること。

Sheet 様式D-1-1 P045
B2: ■定期点検記録様式 変状写真台帳【様式D-1-1】 | R2: 施設ID | T2: ='様式A-1'!W2 -> 34.25614,130.89992
B3: フリガナ | E3: ツバシキズイドウ | H3: 路 線 名 | J3: 国道191号 | M3: 定期点検実施者 | P3: アジア航測株式会社 | S3: 定期点検年月日 | U3: 45919
B4: 名 称 | E4: 津波敷隧道 | H4: 管理者名 | J4: 山口県下関土木建築事務所 | P4: 飯田 琢巳
B5: 写真 番号 | C5: 覆工スパン 番号 | E5: 17 | M5: 写真 番号 | N5: 覆工スパン 番号 | P5: 17
C6: 変状番号 | E6: 2 | N6: 変状番号 | P6: 3
B7: 変状 部位 | C7: 対象箇所 | E7: 覆工 | M7: 変状 部位 | N7: 対象箇所 | P7: 覆工
C8: 部位区分 | E8: 側壁（左側） | N8: 部位区分 | P8: アーチ（右側）
B9: 変状種類 | E9: うき・はく離 | M9: 変状種類 | P9: その他
B10: 対策 区分 | C10: 変状区分 | E10: 材質劣化 | M10: 対策 区分 | N10: 変状区分 | P10: 材質劣化
C11: 応急措置前 | E11: - | N11: 応急措置前 | P11: -
C12: 応急措置後 | E12: Ⅱb | N12: 応急措置後 | P12: Ⅰ
B13: 変状の発生範囲及び規模 | E13: 0.1m×4.5m | H13: 前回変状の発生範囲及び規模 | J13: うき・はく離 0.1m×4.5m | M13: 変状の発生範囲及び規模 | P13: 漏水防止工 | S13: 前回変状の発生範囲及び規模 | U13: その他 補修済 漏水防止工
B14: 対策履歴 | E14: - | H14: 実施状況（実施日） | J14: - | M14: 対策履歴 | P14: - | S14: 実施状況（実施日） | U14: -
B15: メモ | E15: 側壁のうき 経過観察が望まれる | M15: メモ | P15: 既存補修跡
B16: 写真 番号 | C16: 覆工スパン 番号 | E16: 17 | M16: 写真 番号 | N16: 覆工スパン 番号 | P16: 17
C17: 変状番号 | E17: 4 | N17: 変状番号 | P17: 5
B18: 変状 部位 | C18: 対象箇所 | E18: 覆工 | M18: 変状 部位 | N18: 対象箇所 | P18: 路面
C19: 部位区分 | E19: 側壁（右側） | N19: 部位区分 | P19: 側溝
B20: 変状種類 | E20: うき・はく離 | M20: 変状種類 | P20: その他
B21: 対策 区分 | C21: 変状区分 | E21: 材質劣化 | M21: 対策 区分 | N21: 変状区分 | P21: 材質劣化
C22: 応急措置前 | E22: - | N22: 応急措置前
C23: 応急措置後 | E23: Ⅱb | N23: 応急措置後
B24: 変状の発生範囲及び規模 | E24: 0.1m×4.2m | H24: 前回変状の発生範囲及び規模 | J24: うき・はく離 0.1m×4.2m | M24: 変状の発生範囲及び規模 | P24: 0.45m×2.5m | S24: 前回変状の発生範囲及び規模 | U24: 材質劣化・ｸﾞﾚｰﾁﾝｸﾞ破損
B25: 対策履歴 | E25: - | H25: 実施状況（実施日） | J25: - | M25: 対策履歴 | P25: - | S25: 実施状況（実施日） | U25: -
B26: メモ | E26: 側壁のうき 経過観察が望まれる | M26: メモ | P26: 側溝の蓋破損（ひび割れ）
C27: ※ 応急措置後の対策区分について添付すること。また、点検前に 実施された措置によりⅠと判定された箇所も添付すること。 | N27: ※ 変状の発生範囲の規模とは、対策を行う際に参考となる変状の長さや面積をいう。
N28: ※ 応急措置を実施しないで決定した変状の対策区分は、対策区分の応急措置後の欄に記入すること。
C29: ※ たたき落としを実施した場合は、実施後の写真を添付すること。 | N29: ※ 変状の発生範囲の規模は、面積・寸法を記載すること。(ひび割れ幅のみmmとし、その他をm表記とする)
C30: ※ 附属物の取付状態に関する異常写真は別途、任意の書式でとりまとめること。 | N30: ※ 構造用鋼材以外の異物に伴ううき・はく離については、メモ欄に異物の概要を記入すること。

Sheet 様式D-1-1 P046
B2: ■定期点検記録様式 変状写真台帳【様式D-1-1】 | R2: 施設ID | T2: ='様式A-1'!W2 -> 34.25614,130.89992
B3: フリガナ | E3: ツバシキズイドウ | H3: 路 線 名 | J3: 国道191号 | M3: 定期点検実施者 | P3: アジア航測株式会社 | S3: 定期点検年月日 | U3: 45919
B4: 名 称 | E4: 津波敷隧道 | H4: 管理者名 | J4: 山口県下関土木建築事務所 | P4: 飯田 琢巳
B5: 写真 番号 | C5: 覆工スパン 番号 | E5: 17 | M5: 写真 番号 | N5: 覆工スパン 番号 | P5: 18
C6: 変状番号 | E6: 6 | N6: 変状番号 | P6: 1
B7: 変状 部位 | C7: 対象箇所 | E7: 覆工 | M7: 変状 部位 | N7: 対象箇所 | P7: 覆工
C8: 部位区分 | E8: アーチ（右側） | N8: 部位区分 | P8: 側壁（左側）
B9: 変状種類 | E9: うき・はく離 | M9: 変状種類 | P9: うき・はく離
B10: 対策 区分 | C10: 変状区分 | E10: 材質劣化 | M10: 対策 区分 | N10: 変状区分 | P10: 材質劣化
C11: 応急措置前 | E11: - | N11: 応急措置前 | P11: -
C12: 応急措置後 | E12: Ⅱa | N12: 応急措置後 | P12: Ⅱb
B13: 変状の発生範囲及び規模 | E13: 0.2m×0.2m | H13: 前回変状の発生範囲及び規模 | J13: 新規 | M13: 変状の発生範囲及び規模 | P13: 0.1m×1.5m | S13: 前回変状の発生範囲及び規模 | U13: うき・はく離 0.1m×1.5m
B14: 対策履歴 | E14: - | H14: 実施状況（実施日） | J14: - | M14: 対策履歴 | P14: - | S14: 実施状況（実施日） | U14: -
B15: メモ | E15: アーチのうき 浸透性硬化剤塗布済 計画的な対策が望まれる | M15: メモ | P15: 側壁のうき 経過観察が望まれる
B16: 写真 番号 | C16: 覆工スパン 番号 | E16: 18 | M16: 写真 番号 | N16: 覆工スパン 番号 | P16: 18
C17: 変状番号 | E17: 2 | N17: 変状番号 | P17: 3
B18: 変状 部位 | C18: 対象箇所 | E18: 覆工 | M18: 変状 部位 | N18: 対象箇所 | P18: 覆工
C19: 部位区分 | E19: 側壁（左側） | N19: 部位区分 | P19: アーチ（右側）
B20: 変状種類 | E20: うき・はく離 | M20: 変状種類 | P20: その他
B21: 対策 区分 | C21: 変状区分 | E21: 材質劣化 | M21: 対策 区分 | N21: 変状区分 | P21: 材質劣化
C22: 応急措置前 | E22: - | N22: 応急措置前 | P22: -
C23: 応急措置後 | E23: Ⅱb | N23: 応急措置後 | P23: Ⅰ
B24: 変状の発生範囲及び規模 | E24: 0.1m×6.1m | H24: 前回変状の発生範囲及び規模 | J24: うき・はく離 0.1m×6.1m | M24: 変状の発生範囲及び規模 | P24: 漏水防止工 | S24: 前回変状の発生範囲及び規模 | U24: その他 補修済 漏水防止工
B25: 対策履歴 | E25: - | H25: 実施状況（実施日） | J25: - | M25: 対策履歴 | P25: - | S25: 実施状況（実施日） | U25: -
B26: メモ | E26: 側壁のうき 経過観察が望まれる | M26: メモ | P26: 既存補修跡
C27: ※ 応急措置後の対策区分について添付すること。また、点検前に 実施された措置によりⅠと判定された箇所も添付すること。 | N27: ※ 変状の発生範囲の規模とは、対策を行う際に参考となる変状の長さや面積をいう。
N28: ※ 応急措置を実施しないで決定した変状の対策区分は、対策区分の応急措置後の欄に記入すること。
C29: ※ たたき落としを実施した場合は、実施後の写真を添付すること。 | N29: ※ 変状の発生範囲の規模は、面積・寸法を記載すること。(ひび割れ幅のみmmとし、その他をm表記とする)
C30: ※ 附属物の取付状態に関する異常写真は別途、任意の書式でとりまとめること。 | N30: ※ 構造用鋼材以外の異物に伴ううき・はく離については、メモ欄に異物の概要を記入すること。

Sheet 様式D-1-1 P047
B2: ■定期点検記録様式 変状写真台帳【様式D-1-1】 | R2: 施設ID | T2: ='様式A-1'!W2 -> 34.25614,130.89992
B3: フリガナ | E3: ツバシキズイドウ | H3: 路 線 名 | J3: 国道191号 | M3: 定期点検実施者 | P3: アジア航測株式会社 | S3: 定期点検年月日 | U3: 45919
B4: 名 称 | E4: 津波敷隧道 | H4: 管理者名 | J4: 山口県下関土木建築事務所 | P4: 飯田 琢巳
B5: 写真 番号 | C5: 覆工スパン 番号 | E5: 18 | M5: 写真 番号 | N5: 覆工スパン 番号 | P5: 18
C6: 変状番号 | E6: 4 | N6: 変状番号 | P6: 5
B7: 変状 部位 | C7: 対象箇所 | E7: 覆工 | M7: 変状 部位 | N7: 対象箇所 | P7: 覆工
C8: 部位区分 | E8: アーチ（右側） | N8: 部位区分 | P8: アーチ（右側）
B9: 変状種類 | E9: その他 | M9: 変状種類 | P9: その他
B10: 対策 区分 | C10: 変状区分 | E10: 材質劣化 | M10: 対策 区分 | N10: 変状区分 | P10: 材質劣化
C11: 応急措置前 | E11: - | N11: 応急措置前 | P11: -
C12: 応急措置後 | E12: Ⅰ | N12: 応急措置後 | P12: Ⅰ
B13: 変状の発生範囲及び規模 | E13: 0.15m×6.6m | H13: 前回変状の発生範囲及び規模 | J13: 外力・ひび割れ W=1.2mm×L=1.5m | M13: 変状の発生範囲及び規模 | P13: 0.15m×6.8m | S13: 前回変状の発生範囲及び規模 | U13: 外力・ひび割れ W=0.5mm×L=0.5m
B14: 対策履歴 | E14: - | H14: 実施状況（実施日） | J14: - | M14: 対策履歴 | P14: - | S14: 実施状況（実施日） | U14: -
B15: メモ | E15: 導水工により補修対策済 | M15: メモ | P15: 導水工により補修対策済
B16: 写真 番号 | C16: 覆工スパン 番号 | E16: 18 | M16: 写真 番号 | N16: 覆工スパン 番号 | P16: 18
C17: 変状番号 | E17: 6 | N17: 変状番号 | P17: 7
B18: 変状 部位 | C18: 対象箇所 | E18: 覆工 | M18: 変状 部位 | N18: 対象箇所 | P18: 覆工
C19: 部位区分 | E19: 側壁（右側） | N19: 部位区分 | P19: 側壁（右側）
B20: 変状種類 | E20: うき・はく離 | M20: 変状種類 | P20: その他
B21: 対策 区分 | C21: 変状区分 | E21: 材質劣化 | M21: 対策 区分 | N21: 変状区分 | P21: 材質劣化
C22: 応急措置前 | E22: - | N22: 応急措置前 | P22: -
C23: 応急措置後 | E23: Ⅱb | N23: 応急措置後 | P23: Ⅰ
B24: 変状の発生範囲及び規模 | E24: 0.1m×4.5m | H24: 前回変状の発生範囲及び規模 | J24: うき・はく離 0.1m×4.5m | M24: 変状の発生範囲及び規模 | P24: 0.15m×1.5m | S24: 前回変状の発生範囲及び規模 | U24: うき・はく離 0.15m×1.5m
B25: 対策履歴 | E25: - | H25: 実施状況（実施日） | J25: - | M25: 対策履歴 | P25: - | S25: 実施状況（実施日） | U25: -
B26: メモ | E26: 側壁のうき 経過観察が望まれる | M26: メモ | P26: 導水工により補修対策済
C27: ※ 応急措置後の対策区分について添付すること。また、点検前に 実施された措置によりⅠと判定された箇所も添付すること。 | N27: ※ 変状の発生範囲の規模とは、対策を行う際に参考となる変状の長さや面積をいう。
N28: ※ 応急措置を実施しないで決定した変状の対策区分は、対策区分の応急措置後の欄に記入すること。
C29: ※ たたき落としを実施した場合は、実施後の写真を添付すること。 | N29: ※ 変状の発生範囲の規模は、面積・寸法を記載すること。(ひび割れ幅のみmmとし、その他をm表記とする)
C30: ※ 附属物の取付状態に関する異常写真は別途、任意の書式でとりまとめること。 | N30: ※ 構造用鋼材以外の異物に伴ううき・はく離については、メモ欄に異物の概要を記入すること。

Sheet 様式D-1-1 P048
B2: ■定期点検記録様式 変状写真台帳【様式D-1-1】 | R2: 施設ID | T2: ='様式A-1'!W2 -> 34.25614,130.89992
B3: フリガナ | E3: ツバシキズイドウ | H3: 路 線 名 | J3: 国道191号 | M3: 定期点検実施者 | P3: アジア航測株式会社 | S3: 定期点検年月日 | U3: 45919
B4: 名 称 | E4: 津波敷隧道 | H4: 管理者名 | J4: 山口県下関土木建築事務所 | P4: 飯田 琢巳
B5: 写真 番号 | C5: 覆工スパン 番号 | E5: 18 | M5: 写真 番号 | N5: 覆工スパン 番号 | P5: 18
C6: 変状番号 | E6: 8 | N6: 変状番号 | P6: 9
B7: 変状 部位 | C7: 対象箇所 | E7: 覆工 | M7: 変状 部位 | N7: 対象箇所 | P7: 路面
C8: 部位区分 | E8: 側壁（右側） | N8: 部位区分 | P8: 側溝
B9: 変状種類 | E9: その他 | M9: 変状種類 | P9: その他
B10: 対策 区分 | C10: 変状区分 | E10: 材質劣化 | M10: 対策 区分 | N10: 変状区分 | P10: 材質劣化
C11: 応急措置前 | E11: - | N11: 応急措置前
C12: 応急措置後 | E12: Ⅰ | N12: 応急措置後
B13: 変状の発生範囲及び規模 | E13: 漏水防止工 | H13: 前回変状の発生範囲及び規模 | J13: その他 補修済 漏水防止工 | M13: 変状の発生範囲及び規模 | P13: 0.45m×1.0m | S13: 前回変状の発生範囲及び規模 | U13: 材質劣化・ｸﾞﾚｰﾁﾝｸﾞ破損
B14: 対策履歴 | E14: - | H14: 実施状況（実施日） | J14: - | M14: 対策履歴 | P14: - | S14: 実施状況（実施日） | U14: -
B15: メモ | E15: 既存補修跡 | M15: メモ | P15: 側溝の蓋破損（ひび割れ）
B16: 写真 番号 | C16: 覆工スパン 番号 | E16: 18 | M16: 写真 番号 | N16: 覆工スパン 番号 | P16: 18
C17: 変状番号 | E17: 10 | N17: 変状番号 | P17: 11
B18: 変状 部位 | C18: 対象箇所 | E18: 路面 | M18: 変状 部位 | N18: 対象箇所 | P18: 路面
C19: 部位区分 | E19: 車道 | N19: 部位区分 | P19: 車道
B20: 変状種類 | E20: 圧ざ、ひび割れ | M20: 変状種類 | P20: 圧ざ、ひび割れ
B21: 対策 区分 | C21: 変状区分 | E21: 材質劣化 | M21: 対策 区分 | N21: 変状区分 | P21: 材質劣化
C22: 応急措置前 | N22: 応急措置前
C23: 応急措置後 | N23: 応急措置後
B24: 変状の発生範囲及び規模 | E24: W=1.5mm×L=3.2m | H24: 前回変状の発生範囲及び規模 | J24: 外力・ひび割れ W=1.5mm×L=3.2m | M24: 変状の発生範囲及び規模 | P24: W=0.3mm×L=1.7m | S24: 前回変状の発生範囲及び規模 | U24: 外力・ひび割れ W=0.3mm×L=1.7m
B25: 対策履歴 | E25: - | H25: 実施状況（実施日） | J25: - | M25: 対策履歴 | P25: - | S25: 実施状況（実施日） | U25: -
B26: メモ | E26: 車道のひび割れ | M26: メモ | P26: 車道のひび割れ
C27: ※ 応急措置後の対策区分について添付すること。また、点検前に 実施された措置によりⅠと判定された箇所も添付すること。 | N27: ※ 変状の発生範囲の規模とは、対策を行う際に参考となる変状の長さや面積をいう。
N28: ※ 応急措置を実施しないで決定した変状の対策区分は、対策区分の応急措置後の欄に記入すること。
C29: ※ たたき落としを実施した場合は、実施後の写真を添付すること。 | N29: ※ 変状の発生範囲の規模は、面積・寸法を記載すること。(ひび割れ幅のみmmとし、その他をm表記とする)
C30: ※ 附属物の取付状態に関する異常写真は別途、任意の書式でとりまとめること。 | N30: ※ 構造用鋼材以外の異物に伴ううき・はく離については、メモ欄に異物の概要を記入すること。

Sheet 様式D-1-1 P049
B2: ■定期点検記録様式 変状写真台帳【様式D-1-1】 | R2: 施設ID | T2: ='様式A-1'!W2 -> 34.25614,130.89992
B3: フリガナ | E3: ツバシキズイドウ | H3: 路 線 名 | J3: 国道191号 | M3: 定期点検実施者 | P3: アジア航測株式会社 | S3: 定期点検年月日 | U3: 45919
B4: 名 称 | E4: 津波敷隧道 | H4: 管理者名 | J4: 山口県下関土木建築事務所 | P4: 飯田 琢巳
B5: 写真 番号 | C5: 覆工スパン 番号 | E5: 18 | M5: 写真 番号 | N5: 覆工スパン 番号 | P5: 18
C6: 変状番号 | E6: 12 | N6: 変状番号 | P6: 13
B7: 変状 部位 | C7: 対象箇所 | E7: 路面 | M7: 変状 部位 | N7: 対象箇所 | P7: 路面
C8: 部位区分 | E8: 車道 | N8: 部位区分 | P8: 側溝
B9: 変状種類 | E9: 圧ざ、ひび割れ | M9: 変状種類 | P9: その他
B10: 対策 区分 | C10: 変状区分 | E10: 材質劣化 | M10: 対策 区分 | N10: 変状区分 | P10: 材質劣化
C11: 応急措置前 | N11: 応急措置前
C12: 応急措置後 | N12: 応急措置後
B13: 変状の発生範囲及び規模 | E13: W=1.0mm×L=3.2m | H13: 前回変状の発生範囲及び規模 | J13: 外力・ひび割れ W=0.8mm×L=3.2m | M13: 変状の発生範囲及び規模 | P13: 0.45m×1.0m | S13: 前回変状の発生範囲及び規模 | U13: 材質劣化・ｸﾞﾚｰﾁﾝｸﾞ破損
B14: 対策履歴 | E14: - | H14: 実施状況（実施日） | J14: - | M14: 対策履歴 | P14: - | S14: 実施状況（実施日） | U14: -
B15: メモ | E15: 車道のひび割れ | M15: メモ | P15: 側溝の蓋破損（ひび割れ）
B16: 写真 番号 | C16: 覆工スパン 番号 | E16: 18 | M16: 写真 番号 | N16: 覆工スパン 番号 | P16: 19
C17: 変状番号 | E17: 14 | N17: 変状番号 | P17: 1
B18: 変状 部位 | C18: 対象箇所 | E18: 覆工 | M18: 変状 部位 | N18: 対象箇所 | P18: 覆工
C19: 部位区分 | E19: アーチ（左側） | N19: 部位区分 | P19: 側壁（左側）
B20: 変状種類 | E20: うき・はく離 | M20: 変状種類 | P20: その他
B21: 対策 区分 | C21: 変状区分 | E21: 材質劣化 | M21: 対策 区分 | N21: 変状区分 | P21: 材質劣化
C22: 応急措置前 | E22: - | N22: 応急措置前 | P22: -
C23: 応急措置後 | E23: Ⅱa | N23: 応急措置後 | P23: Ⅰ
B24: 変状の発生範囲及び規模 | E24: 0.1m×0.2m | H24: 前回変状の発生範囲及び規模 | J24: 新規 | M24: 変状の発生範囲及び規模 | P24: 2.4m×0.15m | S24: 前回変状の発生範囲及び規模 | U24: 外力・ひび割れ W=0.5mm×L=2.4m
B25: 対策履歴 | E25: - | H25: 実施状況（実施日） | J25: - | M25: 対策履歴 | P25: - | S25: 実施状況（実施日） | U25: -
B26: メモ | E26: アーチのうき 浸透性硬化剤塗布済 計画的な対策が望まれる | M26: メモ | P26: 導水工により補修対策済
C27: ※ 応急措置後の対策区分について添付すること。また、点検前に 実施された措置によりⅠと判定された箇所も添付すること。 | N27: ※ 変状の発生範囲の規模とは、対策を行う際に参考となる変状の長さや面積をいう。
N28: ※ 応急措置を実施しないで決定した変状の対策区分は、対策区分の応急措置後の欄に記入すること。
C29: ※ たたき落としを実施した場合は、実施後の写真を添付すること。 | N29: ※ 変状の発生範囲の規模は、面積・寸法を記載すること。(ひび割れ幅のみmmとし、その他をm表記とする)
C30: ※ 附属物の取付状態に関する異常写真は別途、任意の書式でとりまとめること。 | N30: ※ 構造用鋼材以外の異物に伴ううき・はく離については、メモ欄に異物の概要を記入すること。

Sheet 様式D-1-1 P050
B2: ■定期点検記録様式 変状写真台帳【様式D-1-1】 | R2: 施設ID | T2: ='様式A-1'!W2 -> 34.25614,130.89992
B3: フリガナ | E3: ツバシキズイドウ | H3: 路 線 名 | J3: 国道191号 | M3: 定期点検実施者 | P3: アジア航測株式会社 | S3: 定期点検年月日 | U3: 45919
B4: 名 称 | E4: 津波敷隧道 | H4: 管理者名 | J4: 山口県下関土木建築事務所 | P4: 飯田 琢巳
B5: 写真 番号 | C5: 覆工スパン 番号 | E5: 19 | M5: 写真 番号 | N5: 覆工スパン 番号 | P5: 19
C6: 変状番号 | E6: 2 | N6: 変状番号 | P6: 3
B7: 変状 部位 | C7: 対象箇所 | E7: 覆工 | M7: 変状 部位 | N7: 対象箇所 | P7: 覆工
C8: 部位区分 | E8: 側壁（左側） | N8: 部位区分 | P8: 側壁（左側）
B9: 変状種類 | E9: その他 | M9: 変状種類 | P9: うき・はく離
B10: 対策 区分 | C10: 変状区分 | E10: 材質劣化 | M10: 対策 区分 | N10: 変状区分 | P10: 材質劣化
C11: 応急措置前 | E11: - | N11: 応急措置前 | P11: -
C12: 応急措置後 | E12: Ⅰ | N12: 応急措置後 | P12: Ⅱb
B13: 変状の発生範囲及び規模 | E13: 2.4m×0.15m | H13: 前回変状の発生範囲及び規模 | J13: 外力・ひび割れ W=1.5mm×L=2.4m | M13: 変状の発生範囲及び規模 | P13: 0.1m×9.0m | S13: 前回変状の発生範囲及び規模 | U13: うき・はく離 0.1m×9.0m
B14: 対策履歴 | E14: - | H14: 実施状況（実施日） | J14: - | M14: 対策履歴 | P14: - | S14: 実施状況（実施日） | U14: -
B15: メモ | E15: 導水工により補修対策済 | M15: メモ | P15: 側壁のうき 経過観察が望まれる
B16: 写真 番号 | C16: 覆工スパン 番号 | E16: 19 | M16: 写真 番号 | N16: 覆工スパン 番号 | P16: 19
C17: 変状番号 | E17: 4 | N17: 変状番号 | P17: 5
B18: 変状 部位 | C18: 対象箇所 | E18: 覆工 | M18: 変状 部位 | N18: 対象箇所 | P18: 覆工
C19: 部位区分 | E19: アーチ（左側） | N19: 部位区分 | P19: アーチ（左側）
B20: 変状種類 | E20: 圧ざ、ひび割れ | M20: 変状種類 | P20: 圧ざ、ひび割れ
B21: 対策 区分 | C21: 変状区分 | E21: 材質劣化 | M21: 対策 区分 | N21: 変状区分 | P21: 材質劣化
C22: 応急措置前 | E22: - | N22: 応急措置前 | P22: -
C23: 応急措置後 | E23: Ⅱb | N23: 応急措置後 | P23: Ⅱb
B24: 変状の発生範囲及び規模 | E24: W=0.8mm×L=4.2m | H24: 前回変状の発生範囲及び規模 | J24: 外力・ひび割れ W=0.8mm×L=1.2m | M24: 変状の発生範囲及び規模 | P24: W=1.0mm×L=3.6m | S24: 前回変状の発生範囲及び規模 | U24: 外力・ひび割れ W=1.0mm×L=3.6m
B25: 対策履歴 | E25: - | H25: 実施状況（実施日） | J25: - | M25: 対策履歴 | P25: - | S25: 実施状況（実施日） | U25: -
B26: メモ | E26: アーチのひび割れ 経過観察が望まれる | M26: メモ | P26: アーチのひび割れ 経過観察が望まれる
C27: ※ 応急措置後の対策区分について添付すること。また、点検前に 実施された措置によりⅠと判定された箇所も添付すること。 | N27: ※ 変状の発生範囲の規模とは、対策を行う際に参考となる変状の長さや面積をいう。
N28: ※ 応急措置を実施しないで決定した変状の対策区分は、対策区分の応急措置後の欄に記入すること。
C29: ※ たたき落としを実施した場合は、実施後の写真を添付すること。 | N29: ※ 変状の発生範囲の規模は、面積・寸法を記載すること。(ひび割れ幅のみmmとし、その他をm表記とする)
C30: ※ 附属物の取付状態に関する異常写真は別途、任意の書式でとりまとめること。 | N30: ※ 構造用鋼材以外の異物に伴ううき・はく離については、メモ欄に異物の概要を記入すること。

Sheet 様式D-1-1 P051
B2: ■定期点検記録様式 変状写真台帳【様式D-1-1】 | R2: 施設ID | T2: ='様式A-1'!W2 -> 34.25614,130.89992
B3: フリガナ | E3: ツバシキズイドウ | H3: 路 線 名 | J3: 国道191号 | M3: 定期点検実施者 | P3: アジア航測株式会社 | S3: 定期点検年月日 | U3: 45919
B4: 名 称 | E4: 津波敷隧道 | H4: 管理者名 | J4: 山口県下関土木建築事務所 | P4: 飯田 琢巳
B5: 写真 番号 | C5: 覆工スパン 番号 | E5: 19 | M5: 写真 番号 | N5: 覆工スパン 番号 | P5: 19
C6: 変状番号 | E6: 6 | N6: 変状番号 | P6: 7
B7: 変状 部位 | C7: 対象箇所 | E7: 覆工 | M7: 変状 部位 | N7: 対象箇所 | P7: 覆工
C8: 部位区分 | E8: アーチ（左側） | N8: 部位区分 | P8: アーチ（右側）
B9: 変状種類 | E9: 圧ざ、ひび割れ | M9: 変状種類 | P9: 圧ざ、ひび割れ
B10: 対策 区分 | C10: 変状区分 | E10: 材質劣化 | M10: 対策 区分 | N10: 変状区分 | P10: 材質劣化
C11: 応急措置前 | E11: - | N11: 応急措置前 | P11: -
C12: 応急措置後 | E12: Ⅱb | N12: 応急措置後 | P12: Ⅱb
B13: 変状の発生範囲及び規模 | E13: W=0.6mm×L=1.7m | H13: 前回変状の発生範囲及び規模 | J13: 外力・ひび割れ W=0.6mm×L=4.9m | M13: 変状の発生範囲及び規模 | P13: W=0.5mm×L=2.6m | S13: 前回変状の発生範囲及び規模 | U13: 外力・ひび割れ W=0.5mm×L=3.5m
B14: 対策履歴 | E14: - | H14: 実施状況（実施日） | J14: - | M14: 対策履歴 | P14: - | S14: 実施状況（実施日） | U14: -
B15: メモ | E15: アーチのひび割れ 経過観察が望まれる | M15: メモ | P15: アーチのひび割れ 経過観察が望まれる
B16: 写真 番号 | C16: 覆工スパン 番号 | E16: 19 | M16: 写真 番号 | N16: 覆工スパン 番号 | P16: 19
C17: 変状番号 | E17: 8 | N17: 変状番号 | P17: 9
B18: 変状 部位 | C18: 対象箇所 | E18: 覆工 | M18: 変状 部位 | N18: 対象箇所 | P18: 覆工
C19: 部位区分 | E19: アーチ（右側） | N19: 部位区分 | P19: 側壁（右側）
B20: 変状種類 | E20: 圧ざ、ひび割れ | M20: 変状種類 | P20: うき・はく離
B21: 対策 区分 | C21: 変状区分 | E21: 材質劣化 | M21: 対策 区分 | N21: 変状区分 | P21: 材質劣化
C22: 応急措置前 | E22: - | N22: 応急措置前 | P22: -
C23: 応急措置後 | E23: Ⅱb | N23: 応急措置後 | P23: Ⅱb
B24: 変状の発生範囲及び規模 | E24: W=1.0mm×L=6.3m | H24: 前回変状の発生範囲及び規模 | J24: 外力・ひび割れ W=1.0mm×L=4.8m | M24: 変状の発生範囲及び規模 | P24: 0.1m×9.0m | S24: 前回変状の発生範囲及び規模 | U24: うき・はく離 0.1m×9.0m
B25: 対策履歴 | E25: - | H25: 実施状況（実施日） | J25: - | M25: 対策履歴 | P25: - | S25: 実施状況（実施日） | U25: -
B26: メモ | E26: アーチのひび割れ 経過観察が望まれる | M26: メモ | P26: 側壁のうき 経過観察が望まれる
C27: ※ 応急措置後の対策区分について添付すること。また、点検前に 実施された措置によりⅠと判定された箇所も添付すること。 | N27: ※ 変状の発生範囲の規模とは、対策を行う際に参考となる変状の長さや面積をいう。
N28: ※ 応急措置を実施しないで決定した変状の対策区分は、対策区分の応急措置後の欄に記入すること。
C29: ※ たたき落としを実施した場合は、実施後の写真を添付すること。 | N29: ※ 変状の発生範囲の規模は、面積・寸法を記載すること。(ひび割れ幅のみmmとし、その他をm表記とする)
C30: ※ 附属物の取付状態に関する異常写真は別途、任意の書式でとりまとめること。 | N30: ※ 構造用鋼材以外の異物に伴ううき・はく離については、メモ欄に異物の概要を記入すること。

Sheet 様式D-1-1 P052
B2: ■定期点検記録様式 変状写真台帳【様式D-1-1】 | R2: 施設ID | T2: ='様式A-1'!W2 -> 34.25614,130.89992
B3: フリガナ | E3: ツバシキズイドウ | H3: 路 線 名 | J3: 国道191号 | M3: 定期点検実施者 | P3: アジア航測株式会社 | S3: 定期点検年月日 | U3: 45919
B4: 名 称 | E4: 津波敷隧道 | H4: 管理者名 | J4: 山口県下関土木建築事務所 | P4: 飯田 琢巳
B5: 写真 番号 | C5: 覆工スパン 番号 | E5: 19 | M5: 写真 番号 | N5: 覆工スパン 番号 | P5: 19
C6: 変状番号 | E6: 10 | N6: 変状番号 | P6: 11
B7: 変状 部位 | C7: 対象箇所 | E7: 路面 | M7: 変状 部位 | N7: 対象箇所 | P7: 路面
C8: 部位区分 | E8: 側溝 | N8: 部位区分 | P8: 車道
B9: 変状種類 | E9: その他 | M9: 変状種類 | P9: 圧ざ、ひび割れ
B10: 対策 区分 | C10: 変状区分 | E10: 材質劣化 | M10: 対策 区分 | N10: 変状区分 | P10: 材質劣化
C11: 応急措置前 | N11: 応急措置前
C12: 応急措置後 | N12: 応急措置後
B13: 変状の発生範囲及び規模 | E13: 0.45m×3.0m | H13: 前回変状の発生範囲及び規模 | J13: 材質劣化・ｸﾞﾚｰﾁﾝｸﾞ破損 | M13: 変状の発生範囲及び規模 | P13: W=0.3mm×L=3.2m | S13: 前回変状の発生範囲及び規模 | U13: 外力・ひび割れ W=0.3mm×L=3.2m
B14: 対策履歴 | E14: - | H14: 実施状況（実施日） | J14: - | M14: 対策履歴 | P14: - | S14: 実施状況（実施日） | U14: -
B15: メモ | E15: 側溝の蓋破損（ひび割れ） | M15: メモ | P15: 車道のひび割れ
B16: 写真 番号 | C16: 覆工スパン 番号 | E16: 19 | M16: 写真 番号 | N16: 覆工スパン 番号 | P16: 20
C17: 変状番号 | E17: 12 | N17: 変状番号 | P17: 1
B18: 変状 部位 | C18: 対象箇所 | E18: 覆工 | M18: 変状 部位 | N18: 対象箇所 | P18: 覆工
C19: 部位区分 | E19: アーチ（左側） | N19: 部位区分 | P19: 側壁（左側）
B20: 変状種類 | E20: 漏水 | M20: 変状種類 | P20: その他
B21: 対策 区分 | C21: 変状区分 | E21: 漏水 | M21: 対策 区分 | N21: 変状区分 | P21: 材質劣化
C22: 応急措置前 | E22: - | N22: 応急措置前 | P22: -
C23: 応急措置後 | E23: Ⅱa | N23: 応急措置後 | P23: Ⅰ
B24: 変状の発生範囲及び規模 | E24: 7.4m×0.5m | H24: 前回変状の発生範囲及び規模 | J24: 新規 | M24: 変状の発生範囲及び規模 | P24: 2.7m×0.15m | S24: 前回変状の発生範囲及び規模 | U24: 外力・ひび割れ W=4.0mm×L=2.7m
B25: 対策履歴 | E25: - | H25: 実施状況（実施日） | J25: - | M25: 対策履歴 | P25: - | S25: 実施状況（実施日） | U25: -
B26: メモ | E26: アーチの滴水(20ml/min) 計画的な対策が望まれる | M26: メモ | P26: 導水工により補修対策済
C27: ※ 応急措置後の対策区分について添付すること。また、点検前に 実施された措置によりⅠと判定された箇所も添付すること。 | N27: ※ 変状の発生範囲の規模とは、対策を行う際に参考となる変状の長さや面積をいう。
N28: ※ 応急措置を実施しないで決定した変状の対策区分は、対策区分の応急措置後の欄に記入すること。
C29: ※ たたき落としを実施した場合は、実施後の写真を添付すること。 | N29: ※ 変状の発生範囲の規模は、面積・寸法を記載すること。(ひび割れ幅のみmmとし、その他をm表記とする)
C30: ※ 附属物の取付状態に関する異常写真は別途、任意の書式でとりまとめること。 | N30: ※ 構造用鋼材以外の異物に伴ううき・はく離については、メモ欄に異物の概要を記入すること。

Sheet 様式D-1-1 P053
B2: ■定期点検記録様式 変状写真台帳【様式D-1-1】 | R2: 施設ID | T2: ='様式A-1'!W2 -> 34.25614,130.89992
B3: フリガナ | E3: ツバシキズイドウ | H3: 路 線 名 | J3: 国道191号 | M3: 定期点検実施者 | P3: アジア航測株式会社 | S3: 定期点検年月日 | U3: 45919
B4: 名 称 | E4: 津波敷隧道 | H4: 管理者名 | J4: 山口県下関土木建築事務所 | P4: 飯田 琢巳
B5: 写真 番号 | C5: 覆工スパン 番号 | E5: 20 | M5: 写真 番号 | N5: 覆工スパン 番号 | P5: 20
C6: 変状番号 | E6: 2 | N6: 変状番号 | P6: 3
B7: 変状 部位 | C7: 対象箇所 | E7: 覆工 | M7: 変状 部位 | N7: 対象箇所 | P7: 覆工
C8: 部位区分 | E8: 側壁（左側） | N8: 部位区分 | P8: 側壁（左側）
B9: 変状種類 | E9: その他 | M9: 変状種類 | P9: その他
B10: 対策 区分 | C10: 変状区分 | E10: 材質劣化 | M10: 対策 区分 | N10: 変状区分 | P10: 材質劣化
C11: 応急措置前 | E11: - | N11: 応急措置前 | P11: -
C12: 応急措置後 | E12: Ⅰ | N12: 応急措置後 | P12: Ⅰ
B13: 変状の発生範囲及び規模 | E13: 0.15m×2.7m | H13: 前回変状の発生範囲及び規模 | J13: うき・はく離 0.3m×0.05m | M13: 変状の発生範囲及び規模 | P13: 0.15m×4.4m | S13: 前回変状の発生範囲及び規模 | U13: 漏水 4.0m×2.5m
B14: 対策履歴 | E14: - | H14: 実施状況（実施日） | J14: - | M14: 対策履歴 | P14: - | S14: 実施状況（実施日） | U14: -
B15: メモ | E15: 導水工により補修対策済 | M15: メモ | P15: 導水工により補修対策済
B16: 写真 番号 | C16: 覆工スパン 番号 | E16: 20 | M16: 写真 番号 | N16: 覆工スパン 番号 | P16: 20
C17: 変状番号 | E17: 4 | N17: 変状番号 | P17: 5
B18: 変状 部位 | C18: 対象箇所 | E18: 覆工 | M18: 変状 部位 | N18: 対象箇所 | P18: 覆工
C19: 部位区分 | E19: 側壁（左側） | N19: 部位区分 | P19: アーチ（左側）
B20: 変状種類 | E20: その他 | M20: 変状種類 | P20: その他
B21: 対策 区分 | C21: 変状区分 | E21: 材質劣化 | M21: 対策 区分 | N21: 変状区分 | P21: 材質劣化
C22: 応急措置前 | E22: - | N22: 応急措置前 | P22: -
C23: 応急措置後 | E23: Ⅰ | N23: 応急措置後 | P23: Ⅰ
B24: 変状の発生範囲及び規模 | E24: 0.15m×4.4m | H24: 前回変状の発生範囲及び規模 | J24: うき・はく離 0.2m×0.1m | M24: 変状の発生範囲及び規模 | P24: 3.6m×0.15m | S24: 前回変状の発生範囲及び規模 | U24: 外力・ひび割れ W=7.0mm×L=3.55m
B25: 対策履歴 | E25: - | H25: 実施状況（実施日） | J25: - | M25: 対策履歴 | P25: - | S25: 実施状況（実施日） | U25: -
B26: メモ | E26: 導水工により補修対策済 | M26: メモ | P26: 導水工により補修対策済
C27: ※ 応急措置後の対策区分について添付すること。また、点検前に 実施された措置によりⅠと判定された箇所も添付すること。 | N27: ※ 変状の発生範囲の規模とは、対策を行う際に参考となる変状の長さや面積をいう。
N28: ※ 応急措置を実施しないで決定した変状の対策区分は、対策区分の応急措置後の欄に記入すること。
C29: ※ たたき落としを実施した場合は、実施後の写真を添付すること。 | N29: ※ 変状の発生範囲の規模は、面積・寸法を記載すること。(ひび割れ幅のみmmとし、その他をm表記とする)
C30: ※ 附属物の取付状態に関する異常写真は別途、任意の書式でとりまとめること。 | N30: ※ 構造用鋼材以外の異物に伴ううき・はく離については、メモ欄に異物の概要を記入すること。

Sheet 様式D-1-1 P054
B2: ■定期点検記録様式 変状写真台帳【様式D-1-1】 | R2: 施設ID | T2: ='様式A-1'!W2 -> 34.25614,130.89992
B3: フリガナ | E3: ツバシキズイドウ | H3: 路 線 名 | J3: 国道191号 | M3: 定期点検実施者 | P3: アジア航測株式会社 | S3: 定期点検年月日 | U3: 45919
B4: 名 称 | E4: 津波敷隧道 | H4: 管理者名 | J4: 山口県下関土木建築事務所 | P4: 飯田 琢巳
B5: 写真 番号 | C5: 覆工スパン 番号 | E5: 20 | M5: 写真 番号 | N5: 覆工スパン 番号 | P5: 20
C6: 変状番号 | E6: 6 | N6: 変状番号 | P6: 7
B7: 変状 部位 | C7: 対象箇所 | E7: 覆工 | M7: 変状 部位 | N7: 対象箇所 | P7: 覆工
C8: 部位区分 | E8: アーチ（左側） | N8: 部位区分 | P8: アーチ（左側）
B9: 変状種類 | E9: 圧ざ、ひび割れ | M9: 変状種類 | P9: 圧ざ、ひび割れ
B10: 対策 区分 | C10: 変状区分 | E10: 材質劣化 | M10: 対策 区分 | N10: 変状区分 | P10: 材質劣化
C11: 応急措置前 | E11: - | N11: 応急措置前 | P11: -
C12: 応急措置後 | E12: Ⅱb | N12: 応急措置後 | P12: Ⅱb
B13: 変状の発生範囲及び規模 | E13: W=0.5mm×L=3.9m | H13: 前回変状の発生範囲及び規模 | J13: 外力・ひび割れ W=0.5mm×L=2.5m | M13: 変状の発生範囲及び規模 | P13: W=4.0mm×L=1.6m | S13: 前回変状の発生範囲及び規模 | U13: 外力・ひび割れ W=4.0mm×L=4.6m
B14: 対策履歴 | E14: - | H14: 実施状況（実施日） | J14: - | M14: 対策履歴 | P14: - | S14: 実施状況（実施日） | U14: -
B15: メモ | E15: アーチのひび割れ 経過観察が望まれる | M15: メモ | P15: アーチのひび割れ 経過観察が望まれる
B16: 写真 番号 | C16: 覆工スパン 番号 | E16: 20 | M16: 写真 番号 | N16: 覆工スパン 番号 | P16: 20
C17: 変状番号 | E17: 8 | N17: 変状番号 | P17: 9
B18: 変状 部位 | C18: 対象箇所 | E18: 覆工 | M18: 変状 部位 | N18: 対象箇所 | P18: 覆工
C19: 部位区分 | E19: アーチ（天端） | N19: 部位区分 | P19: アーチ（右側）
B20: 変状種類 | E20: その他 | M20: 変状種類 | P20: その他
B21: 対策 区分 | C21: 変状区分 | E21: 材質劣化 | M21: 対策 区分 | N21: 変状区分 | P21: 材質劣化
C22: 応急措置前 | E22: - | N22: 応急措置前 | P22: -
C23: 応急措置後 | E23: Ⅰ | N23: 応急措置後 | P23: Ⅰ
B24: 変状の発生範囲及び規模 | E24: 0.15m×2.7m | H24: 前回変状の発生範囲及び規模 | J24: 外力・ひび割れ W=1.2mm×L=2.7m | M24: 変状の発生範囲及び規模 | P24: 0.15m×9.0m | S24: 前回変状の発生範囲及び規模 | U24: 漏水 7.0m×9.0m
B25: 対策履歴 | E25: - | H25: 実施状況（実施日） | J25: - | M25: 対策履歴 | P25: - | S25: 実施状況（実施日） | U25: -
B26: メモ | E26: 導水工により補修対策済 | M26: メモ | P26: 導水工により補修対策済
C27: ※ 応急措置後の対策区分について添付すること。また、点検前に 実施された措置によりⅠと判定された箇所も添付すること。 | N27: ※ 変状の発生範囲の規模とは、対策を行う際に参考となる変状の長さや面積をいう。
N28: ※ 応急措置を実施しないで決定した変状の対策区分は、対策区分の応急措置後の欄に記入すること。
C29: ※ たたき落としを実施した場合は、実施後の写真を添付すること。 | N29: ※ 変状の発生範囲の規模は、面積・寸法を記載すること。(ひび割れ幅のみmmとし、その他をm表記とする)
C30: ※ 附属物の取付状態に関する異常写真は別途、任意の書式でとりまとめること。 | N30: ※ 構造用鋼材以外の異物に伴ううき・はく離については、メモ欄に異物の概要を記入すること。

Sheet 様式D-1-1 P055
B2: ■定期点検記録様式 変状写真台帳【様式D-1-1】 | R2: 施設ID | T2: ='様式A-1'!W2 -> 34.25614,130.89992
B3: フリガナ | E3: ツバシキズイドウ | H3: 路 線 名 | J3: 国道191号 | M3: 定期点検実施者 | P3: アジア航測株式会社 | S3: 定期点検年月日 | U3: 45919
B4: 名 称 | E4: 津波敷隧道 | H4: 管理者名 | J4: 山口県下関土木建築事務所 | P4: 飯田 琢巳
B5: 写真 番号 | C5: 覆工スパン 番号 | E5: 20 | M5: 写真 番号 | N5: 覆工スパン 番号 | P5: 20
C6: 変状番号 | E6: 10 | N6: 変状番号 | P6: 11
B7: 変状 部位 | C7: 対象箇所 | E7: 覆工 | M7: 変状 部位 | N7: 対象箇所 | P7: 路面
C8: 部位区分 | E8: 側壁（右側） | N8: 部位区分 | P8: 側溝
B9: 変状種類 | E9: うき・はく離 | M9: 変状種類 | P9: その他
B10: 対策 区分 | C10: 変状区分 | E10: 材質劣化 | M10: 対策 区分 | N10: 変状区分 | P10: 材質劣化
C11: 応急措置前 | E11: - | N11: 応急措置前
C12: 応急措置後 | E12: Ⅱb | N12: 応急措置後
B13: 変状の発生範囲及び規模 | E13: 0.1m×3.7m | H13: 前回変状の発生範囲及び規模 | J13: うき・はく離 0.1m×8.8m | M13: 変状の発生範囲及び規模 | P13: 0.45m×1.0m | S13: 前回変状の発生範囲及び規模 | U13: 材質劣化・ｸﾞﾚｰﾁﾝｸﾞ破損
B14: 対策履歴 | E14: - | H14: 実施状況（実施日） | J14: - | M14: 対策履歴 | P14: - | S14: 実施状況（実施日） | U14: -
B15: メモ | E15: 側壁のうき 経過観察が望まれる | M15: メモ | P15: 側溝の蓋破損（ひび割れ）
B16: 写真 番号 | C16: 覆工スパン 番号 | E16: 20 | M16: 写真 番号 | N16: 覆工スパン 番号 | P16: 20
C17: 変状番号 | E17: 12 | N17: 変状番号 | P17: 13
B18: 変状 部位 | C18: 対象箇所 | E18: 路面 | M18: 変状 部位 | N18: 対象箇所 | P18: 路面
C19: 部位区分 | E19: 側溝 | N19: 部位区分 | P19: 側溝
B20: 変状種類 | E20: その他 | M20: 変状種類 | P20: その他
B21: 対策 区分 | C21: 変状区分 | E21: 材質劣化 | M21: 対策 区分 | N21: 変状区分 | P21: 材質劣化
C22: 応急措置前 | N22: 応急措置前
C23: 応急措置後 | N23: 応急措置後
B24: 変状の発生範囲及び規模 | E24: 0.45m×2.5m | H24: 前回変状の発生範囲及び規模 | J24: 材質劣化・ｸﾞﾚｰﾁﾝｸﾞ破損 | M24: 変状の発生範囲及び規模 | P24: 0.45m×1.5m | S24: 前回変状の発生範囲及び規模 | U24: 材質劣化・ｸﾞﾚｰﾁﾝｸﾞ破損
B25: 対策履歴 | E25: - | H25: 実施状況（実施日） | J25: - | M25: 対策履歴 | P25: - | S25: 実施状況（実施日） | U25: -
B26: メモ | E26: 側溝の蓋破損（ひび割れ） | M26: メモ | P26: 側溝の蓋破損（ひび割れ）
C27: ※ 応急措置後の対策区分について添付すること。また、点検前に 実施された措置によりⅠと判定された箇所も添付すること。 | N27: ※ 変状の発生範囲の規模とは、対策を行う際に参考となる変状の長さや面積をいう。
N28: ※ 応急措置を実施しないで決定した変状の対策区分は、対策区分の応急措置後の欄に記入すること。
C29: ※ たたき落としを実施した場合は、実施後の写真を添付すること。 | N29: ※ 変状の発生範囲の規模は、面積・寸法を記載すること。(ひび割れ幅のみmmとし、その他をm表記とする)
C30: ※ 附属物の取付状態に関する異常写真は別途、任意の書式でとりまとめること。 | N30: ※ 構造用鋼材以外の異物に伴ううき・はく離については、メモ欄に異物の概要を記入すること。

Sheet 様式D-1-1 P056
B2: ■定期点検記録様式 変状写真台帳【様式D-1-1】 | R2: 施設ID | T2: ='様式A-1'!W2 -> 34.25614,130.89992
B3: フリガナ | E3: ツバシキズイドウ | H3: 路 線 名 | J3: 国道191号 | M3: 定期点検実施者 | P3: アジア航測株式会社 | S3: 定期点検年月日 | U3: 45919
B4: 名 称 | E4: 津波敷隧道 | H4: 管理者名 | J4: 山口県下関土木建築事務所 | P4: 飯田 琢巳
B5: 写真 番号 | C5: 覆工スパン 番号 | E5: 20 | M5: 写真 番号 | N5: 覆工スパン 番号 | P5: 20
C6: 変状番号 | E6: 14 | N6: 変状番号 | P6: 15
B7: 変状 部位 | C7: 対象箇所 | E7: 覆工 | M7: 変状 部位 | N7: 対象箇所 | P7: 覆工
C8: 部位区分 | E8: アーチ（左側） | N8: 部位区分 | P8: アーチ（左側）
B9: 変状種類 | E9: うき・はく離 | M9: 変状種類 | P9: 漏水
B10: 対策 区分 | C10: 変状区分 | E10: 材質劣化 | M10: 対策 区分 | N10: 変状区分 | P10: 漏水
C11: 応急措置前 | E11: - | N11: 応急措置前 | P11: -
C12: 応急措置後 | E12: Ⅲ | N12: 応急措置後 | P12: Ⅱa
B13: 変状の発生範囲及び規模 | E13: 0.2m×0.05m | H13: 前回変状の発生範囲及び規模 | J13: 新規 | M13: 変状の発生範囲及び規模 | P13: 8.0m×0.5m | S13: 前回変状の発生範囲及び規模 | U13: 新規
B14: 対策履歴 | E14: - | H14: 実施状況（実施日） | J14: - | M14: 対策履歴 | P14: - | S14: 実施状況（実施日） | U14: -
B15: メモ | E15: 幅4.0㎜のひび割れ沿いのうき 一部剥離・漏水を伴っておりｺﾝｸﾘｰﾄ劣化が懸念されるため早急な対策が望まれる | M15: メモ | P15: アーチの滴水(10ml/min) 計画的な対策が望まれる
B16: 写真 番号 | C16: 覆工スパン 番号 | E16: 20 | M16: 写真 番号 | N16: 覆工スパン 番号 | P16: 21
C17: 変状番号 | E17: 16 | N17: 変状番号 | P17: 1
B18: 変状 部位 | C18: 対象箇所 | E18: 覆工 | M18: 変状 部位 | N18: 対象箇所 | P18: 覆工
C19: 部位区分 | E19: アーチ（左側） | N19: 部位区分 | P19: 側壁（左側）
B20: 変状種類 | E20: 漏水 | M20: 変状種類 | P20: その他
B21: 対策 区分 | C21: 変状区分 | E21: 漏水 | M21: 対策 区分 | N21: 変状区分 | P21: 材質劣化
C22: 応急措置前 | E22: - | N22: 応急措置前 | P22: -
C23: 応急措置後 | E23: Ⅱa | N23: 応急措置後 | P23: Ⅰ
B24: 変状の発生範囲及び規模 | E24: 8.0m×0.5m | H24: 前回変状の発生範囲及び規模 | J24: 新規 | M24: 変状の発生範囲及び規模 | P24: 0.15m×3.0m | S24: 前回変状の発生範囲及び規模 | U24: うき・はく離 0.1m×3.0m
B25: 対策履歴 | E25: - | H25: 実施状況（実施日） | J25: - | M25: 対策履歴 | P25: - | S25: 実施状況（実施日） | U25: -
B26: メモ | E26: アーチの滴水(5ml/min) 計画的な対策が望まれる | M26: メモ | P26: 導水工により補修対策済
C27: ※ 応急措置後の対策区分について添付すること。また、点検前に 実施された措置によりⅠと判定された箇所も添付すること。 | N27: ※ 変状の発生範囲の規模とは、対策を行う際に参考となる変状の長さや面積をいう。
N28: ※ 応急措置を実施しないで決定した変状の対策区分は、対策区分の応急措置後の欄に記入すること。
C29: ※ たたき落としを実施した場合は、実施後の写真を添付すること。 | N29: ※ 変状の発生範囲の規模は、面積・寸法を記載すること。(ひび割れ幅のみmmとし、その他をm表記とする)
C30: ※ 附属物の取付状態に関する異常写真は別途、任意の書式でとりまとめること。 | N30: ※ 構造用鋼材以外の異物に伴ううき・はく離については、メモ欄に異物の概要を記入すること。

Sheet 様式D-1-1 P057
B2: ■定期点検記録様式 変状写真台帳【様式D-1-1】 | R2: 施設ID | T2: ='様式A-1'!W2 -> 34.25614,130.89992
B3: フリガナ | E3: ツバシキズイドウ | H3: 路 線 名 | J3: 国道191号 | M3: 定期点検実施者 | P3: アジア航測株式会社 | S3: 定期点検年月日 | U3: 45919
B4: 名 称 | E4: 津波敷隧道 | H4: 管理者名 | J4: 山口県下関土木建築事務所 | P4: 飯田 琢巳
B5: 写真 番号 | C5: 覆工スパン 番号 | E5: 21 | M5: 写真 番号 | N5: 覆工スパン 番号 | P5: 21
C6: 変状番号 | E6: 2 | N6: 変状番号 | P6: 3
B7: 変状 部位 | C7: 対象箇所 | E7: 覆工 | M7: 変状 部位 | N7: 対象箇所 | P7: 覆工
C8: 部位区分 | E8: 側壁（左側） | N8: 部位区分 | P8: アーチ（左側）
B9: 変状種類 | E9: その他 | M9: 変状種類 | P9: その他
B10: 対策 区分 | C10: 変状区分 | E10: 材質劣化 | M10: 対策 区分 | N10: 変状区分 | P10: 材質劣化
C11: 応急措置前 | E11: - | N11: 応急措置前 | P11: -
C12: 応急措置後 | E12: Ⅰ | N12: 応急措置後 | P12: Ⅰ
B13: 変状の発生範囲及び規模 | E13: 2.5m×0.15m | H13: 前回変状の発生範囲及び規模 | J13: うき・はく離 1.0m×0.2m | M13: 変状の発生範囲及び規模 | P13: 0.1m×6.2m | S13: 前回変状の発生範囲及び規模 | U13: 外力・ひび割れ W=2.0mm×L=6.2m
B14: 対策履歴 | E14: - | H14: 実施状況（実施日） | J14: - | M14: 対策履歴 | P14: - | S14: 実施状況（実施日） | U14: -
B15: メモ | E15: 導水工により補修対策済 | M15: メモ | P15: ひび割れ注入工により補修対策済
B16: 写真 番号 | C16: 覆工スパン 番号 | E16: 21 | M16: 写真 番号 | N16: 覆工スパン 番号 | P16: 21
C17: 変状番号 | E17: 4 | N17: 変状番号 | P17: 5
B18: 変状 部位 | C18: 対象箇所 | E18: 覆工 | M18: 変状 部位 | N18: 対象箇所 | P18: 覆工
C19: 部位区分 | E19: アーチ（左側） | N19: 部位区分 | P19: アーチ（左側）
B20: 変状種類 | E20: 漏水 | M20: 変状種類 | P20: その他
B21: 対策 区分 | C21: 変状区分 | E21: 漏水 | M21: 対策 区分 | N21: 変状区分 | P21: 材質劣化
C22: 応急措置前 | E22: - | N22: 応急措置前 | P22: -
C23: 応急措置後 | E23: Ⅱb | N23: 応急措置後 | P23: Ⅰ
B24: 変状の発生範囲及び規模 | E24: 7.9m×0.9m | H24: 前回変状の発生範囲及び規模 | J24: 漏水 1.4m×8.3m | M24: 変状の発生範囲及び規模 | P24: 0.15m×4.7m | S24: 前回変状の発生範囲及び規模 | U24: 外力・ひび割れ W=10.0mm×L=1.7m
B25: 対策履歴 | E25: - | H25: 実施状況（実施日） | J25: - | M25: 対策履歴 | P25: - | S25: 実施状況（実施日） | U25: -
B26: メモ | E26: アーチのにじみ 経過観察が望まれる | M26: メモ | P26: 導水工により補修対策済
C27: ※ 応急措置後の対策区分について添付すること。また、点検前に 実施された措置によりⅠと判定された箇所も添付すること。 | N27: ※ 変状の発生範囲の規模とは、対策を行う際に参考となる変状の長さや面積をいう。
N28: ※ 応急措置を実施しないで決定した変状の対策区分は、対策区分の応急措置後の欄に記入すること。
C29: ※ たたき落としを実施した場合は、実施後の写真を添付すること。 | N29: ※ 変状の発生範囲の規模は、面積・寸法を記載すること。(ひび割れ幅のみmmとし、その他をm表記とする)
C30: ※ 附属物の取付状態に関する異常写真は別途、任意の書式でとりまとめること。 | N30: ※ 構造用鋼材以外の異物に伴ううき・はく離については、メモ欄に異物の概要を記入すること。

Sheet 様式D-1-1 P058
B2: ■定期点検記録様式 変状写真台帳【様式D-1-1】 | R2: 施設ID | T2: ='様式A-1'!W2 -> 34.25614,130.89992
B3: フリガナ | E3: ツバシキズイドウ | H3: 路 線 名 | J3: 国道191号 | M3: 定期点検実施者 | P3: アジア航測株式会社 | S3: 定期点検年月日 | U3: 45919
B4: 名 称 | E4: 津波敷隧道 | H4: 管理者名 | J4: 山口県下関土木建築事務所 | P4: 飯田 琢巳
B5: 写真 番号 | C5: 覆工スパン 番号 | E5: 21 | M5: 写真 番号 | N5: 覆工スパン 番号 | P5: 21
C6: 変状番号 | E6: 6 | N6: 変状番号 | P6: 7
B7: 変状 部位 | C7: 対象箇所 | E7: 覆工 | M7: 変状 部位 | N7: 対象箇所 | P7: 覆工
C8: 部位区分 | E8: アーチ（右側） | N8: 部位区分 | P8: アーチ（右側）
B9: 変状種類 | E9: その他 | M9: 変状種類 | P9: その他
B10: 対策 区分 | C10: 変状区分 | E10: 材質劣化 | M10: 対策 区分 | N10: 変状区分 | P10: 材質劣化
C11: 応急措置前 | E11: - | N11: 応急措置前 | P11: -
C12: 応急措置後 | E12: Ⅰ | N12: 応急措置後 | P12: Ⅰ
B13: 変状の発生範囲及び規模 | E13: 0.15m×2.7m | H13: 前回変状の発生範囲及び規模 | J13: 外力・ひび割れ W=1.0mm×L=1.5m | M13: 変状の発生範囲及び規模 | P13: 0.15m×6.2m | S13: 前回変状の発生範囲及び規模 | U13: 外力・ひび割れ W=1.0mm×L=4.5m
B14: 対策履歴 | E14: - | H14: 実施状況（実施日） | J14: - | M14: 対策履歴 | P14: - | S14: 実施状況（実施日） | U14: -
B15: メモ | E15: 導水工により補修対策済 | M15: メモ | P15: 導水工により補修対策済
B16: 写真 番号 | C16: 覆工スパン 番号 | E16: 21 | M16: 写真 番号 | N16: 覆工スパン 番号 | P16: 21
C17: 変状番号 | E17: 8 | N17: 変状番号 | P17: 9
B18: 変状 部位 | C18: 対象箇所 | E18: 覆工 | M18: 変状 部位 | N18: 対象箇所 | P18: 路面
C19: 部位区分 | E19: 側壁（右側） | N19: 部位区分 | P19: 車道
B20: 変状種類 | E20: その他 | M20: 変状種類 | P20: その他
B21: 対策 区分 | C21: 変状区分 | E21: 材質劣化 | M21: 対策 区分 | N21: 変状区分 | P21: 材質劣化
C22: 応急措置前 | E22: - | N22: 応急措置前
C23: 応急措置後 | E23: Ⅰ | N23: 応急措置後
B24: 変状の発生範囲及び規模 | E24: 0.15m×3.2m | H24: 前回変状の発生範囲及び規模 | J24: 漏水 2.5m×1.3m | M24: 変状の発生範囲及び規模 | P24: 段差30.0ｍｍ×6.5m | S24: 前回変状の発生範囲及び規模 | U24: 外力・段差 目地段差30㎜
B25: 対策履歴 | E25: - | H25: 実施状況（実施日） | J25: - | M25: 対策履歴 | P25: - | S25: 実施状況（実施日） | U25: -
B26: メモ | E26: 導水工により補修対策済 | M26: メモ | P26: 車道の段差30㎜
C27: ※ 応急措置後の対策区分について添付すること。また、点検前に 実施された措置によりⅠと判定された箇所も添付すること。 | N27: ※ 変状の発生範囲の規模とは、対策を行う際に参考となる変状の長さや面積をいう。
N28: ※ 応急措置を実施しないで決定した変状の対策区分は、対策区分の応急措置後の欄に記入すること。
C29: ※ たたき落としを実施した場合は、実施後の写真を添付すること。 | N29: ※ 変状の発生範囲の規模は、面積・寸法を記載すること。(ひび割れ幅のみmmとし、その他をm表記とする)
C30: ※ 附属物の取付状態に関する異常写真は別途、任意の書式でとりまとめること。 | N30: ※ 構造用鋼材以外の異物に伴ううき・はく離については、メモ欄に異物の概要を記入すること。

Sheet 様式D-1-1 P059
B2: ■定期点検記録様式 変状写真台帳【様式D-1-1】 | R2: 施設ID | T2: ='様式A-1'!W2 -> 34.25614,130.89992
B3: フリガナ | E3: ツバシキズイドウ | H3: 路 線 名 | J3: 国道191号 | M3: 定期点検実施者 | P3: アジア航測株式会社 | S3: 定期点検年月日 | U3: 45919
B4: 名 称 | E4: 津波敷隧道 | H4: 管理者名 | J4: 山口県下関土木建築事務所 | P4: 飯田 琢巳
B5: 写真 番号 | C5: 覆工スパン 番号 | E5: 21 | M5: 写真 番号 | N5: 覆工スパン 番号 | P5: PE
C6: 変状番号 | E6: 10 | N6: 変状番号 | P6: 1
B7: 変状 部位 | C7: 対象箇所 | E7: 覆工 | M7: 変状 部位 | N7: 対象箇所 | P7: 覆工
C8: 部位区分 | E8: 側壁（右側） | N8: 部位区分 | P8: 面壁・妻壁等
B9: 変状種類 | E9: うき・はく離 | M9: 変状種類 | P9: その他
B10: 対策 区分 | C10: 変状区分 | E10: 材質劣化 | M10: 対策 区分 | N10: 変状区分 | P10: 材質劣化
C11: 応急措置前 | E11: - | N11: 応急措置前 | P11: -
C12: 応急措置後 | E12: Ⅱb | N12: 応急措置後 | P12: Ⅰ
B13: 変状の発生範囲及び規模 | E13: 0.3m×0.3m | H13: 前回変状の発生範囲及び規模 | J13: 新規 | M13: 変状の発生範囲及び規模 | P13: 0.1m×2.5m | S13: 前回変状の発生範囲及び規模 | U13: 外力・目地開き W=10mm×L=2.48m
B14: 対策履歴 | E14: - | H14: 実施状況（実施日） | J14: - | M14: 対策履歴 | P14: - | S14: 実施状況（実施日） | U14: -
B15: メモ | E15: 側壁のうき 浸透性硬化剤塗布済 経過観察が望まれる | M15: メモ | P15: ひび割れ注入工により補修対策済
B16: 写真 番号 | C16: 覆工スパン 番号 | E16: PE | M16: 写真 番号 | N16: 覆工スパン 番号 | P16: PE
C17: 変状番号 | E17: 2 | N17: 変状番号 | P17: 3
B18: 変状 部位 | C18: 対象箇所 | E18: 覆工 | M18: 変状 部位 | N18: 対象箇所 | P18: 覆工
C19: 部位区分 | E19: 面壁・妻壁等 | N19: 部位区分 | P19: 面壁・妻壁等
B20: 変状種類 | E20: その他 | M20: 変状種類 | P20: その他
B21: 対策 区分 | C21: 変状区分 | E21: 材質劣化 | M21: 対策 区分 | N21: 変状区分 | P21: 材質劣化
C22: 応急措置前 | E22: - | N22: 応急措置前 | P22: -
C23: 応急措置後 | E23: Ⅰ | N23: 応急措置後 | P23: Ⅰ
B24: 変状の発生範囲及び規模 | E24: 0.1m×1.0m | H24: 前回変状の発生範囲及び規模 | J24: 外力・ひび割れ W=7.0mm×L=1.0m | M24: 変状の発生範囲及び規模 | P24: 1.3m×1.3m | S24: 前回変状の発生範囲及び規模 | U24: うき・はく離 0.3m×0.8m
B25: 対策履歴 | E25: - | H25: 実施状況（実施日） | J25: - | M25: 対策履歴 | P25: - | S25: 実施状況（実施日） | U25: -
B26: メモ | E26: ひび割れ注入工により補修対策済 | M26: メモ | P26: 剥落対策工により補修済
C27: ※ 応急措置後の対策区分について添付すること。また、点検前に 実施された措置によりⅠと判定された箇所も添付すること。 | N27: ※ 変状の発生範囲の規模とは、対策を行う際に参考となる変状の長さや面積をいう。
N28: ※ 応急措置を実施しないで決定した変状の対策区分は、対策区分の応急措置後の欄に記入すること。
C29: ※ たたき落としを実施した場合は、実施後の写真を添付すること。 | N29: ※ 変状の発生範囲の規模は、面積・寸法を記載すること。(ひび割れ幅のみmmとし、その他をm表記とする)
C30: ※ 附属物の取付状態に関する異常写真は別途、任意の書式でとりまとめること。 | N30: ※ 構造用鋼材以外の異物に伴ううき・はく離については、メモ欄に異物の概要を記入すること。

Sheet 様式D-1-1 P060
B2: ■定期点検記録様式 変状写真台帳【様式D-1-1】 | R2: 施設ID | T2: ='様式A-1'!W2 -> 34.25614,130.89992
B3: フリガナ | E3: ツバシキズイドウ | H3: 路 線 名 | J3: 国道191号 | M3: 定期点検実施者 | P3: アジア航測株式会社 | S3: 定期点検年月日 | U3: 45919
B4: 名 称 | E4: 津波敷隧道 | H4: 管理者名 | J4: 山口県下関土木建築事務所 | P4: 飯田 琢巳
B5: 写真 番号 | C5: 覆工スパン 番号 | E5: PE | M5: 写真 番号 | N5: 覆工スパン 番号 | P5: PE
C6: 変状番号 | E6: 4 | N6: 変状番号 | P6: 5
B7: 変状 部位 | C7: 対象箇所 | E7: 覆工 | M7: 変状 部位 | N7: 対象箇所 | P7: 覆工
C8: 部位区分 | E8: 面壁・妻壁等 | N8: 部位区分 | P8: 面壁・妻壁等
B9: 変状種類 | E9: その他 | M9: 変状種類 | P9: その他
B10: 対策 区分 | C10: 変状区分 | E10: 材質劣化 | M10: 対策 区分 | N10: 変状区分 | P10: 材質劣化
C11: 応急措置前 | E11: - | N11: 応急措置前 | P11: -
C12: 応急措置後 | E12: Ⅰ | N12: 応急措置後 | P12: Ⅰ
B13: 変状の発生範囲及び規模 | E13: 0.1m×3.5m | H13: 前回変状の発生範囲及び規模 | J13: 外力・ひび割れ W8.0mm×3.5m | M13: 変状の発生範囲及び規模 | P13: 0.1m×1.0m | S13: 前回変状の発生範囲及び規模 | U13: 外力・ひび割れ W1.5mm×1.0m
B14: 対策履歴 | E14: - | H14: 実施状況（実施日） | J14: - | M14: 対策履歴 | P14: - | S14: 実施状況（実施日） | U14: -
B15: メモ | E15: ひび割れ注入工により補修対策済 | M15: メモ | P15: ひび割れ注入工により補修対策済
B16: 写真 番号 | C16: 覆工スパン 番号 | E16: PE | M16: 写真 番号 | N16: 覆工スパン 番号 | P16: PE
C17: 変状番号 | E17: 6 | N17: 変状番号 | P17: 7
B18: 変状 部位 | C18: 対象箇所 | E18: 覆工 | M18: 変状 部位 | N18: 対象箇所 | P18: 覆工
C19: 部位区分 | E19: 面壁・妻壁等 | N19: 部位区分 | P19: 面壁・妻壁等
B20: 変状種類 | E20: その他 | M20: 変状種類 | P20: うき・はく離
B21: 対策 区分 | C21: 変状区分 | E21: 材質劣化 | M21: 対策 区分 | N21: 変状区分 | P21: 材質劣化
C22: 応急措置前 | E22: - | N22: 応急措置前 | P22: -
C23: 応急措置後 | E23: Ⅰ | N23: 応急措置後 | P23: Ⅱa
B24: 変状の発生範囲及び規模 | E24: 0.1m×2.1m | H24: 前回変状の発生範囲及び規模 | J24: 外力・ひび割れ W5.0mm×2.1m | M24: 変状の発生範囲及び規模 | P24: 0.05m×0.7m | S24: 前回変状の発生範囲及び規模 | U24: 新規
B25: 対策履歴 | E25: - | H25: 実施状況（実施日） | J25: - | M25: 対策履歴 | P25: - | S25: 実施状況（実施日） | U25: -
B26: メモ | E26: ひび割れ注入工により補修対策済 | M26: メモ | P26: 面壁のうき 浸透性硬化剤塗布済 計画的な対策が望まれる
C27: ※ 応急措置後の対策区分について添付すること。また、点検前に 実施された措置によりⅠと判定された箇所も添付すること。 | N27: ※ 変状の発生範囲の規模とは、対策を行う際に参考となる変状の長さや面積をいう。
N28: ※ 応急措置を実施しないで決定した変状の対策区分は、対策区分の応急措置後の欄に記入すること。
C29: ※ たたき落としを実施した場合は、実施後の写真を添付すること。 | N29: ※ 変状の発生範囲の規模は、面積・寸法を記載すること。(ひび割れ幅のみmmとし、その他をm表記とする)
C30: ※ 附属物の取付状態に関する異常写真は別途、任意の書式でとりまとめること。 | N30: ※ 構造用鋼材以外の異物に伴ううき・はく離については、メモ欄に異物の概要を記入すること。

Sheet 様式D-1-1 P061
B2: ■定期点検記録様式 変状写真台帳【様式D-1-1】 | R2: 施設ID | T2: ='様式A-1'!W2 -> 34.25614,130.89992
B3: フリガナ | E3: ツバシキズイドウ | H3: 路 線 名 | J3: 国道191号 | M3: 定期点検実施者 | P3: アジア航測株式会社 | S3: 定期点検年月日 | U3: 45919
B4: 名 称 | E4: 津波敷隧道 | H4: 管理者名 | J4: 山口県下関土木建築事務所 | P4: 飯田 琢巳
B5: 写真 番号 | C5: 覆工スパン 番号 | E5: PE | M5: 写真 番号 | N5: 覆工スパン 番号
C6: 変状番号 | E6: 8 | N6: 変状番号
B7: 変状 部位 | C7: 対象箇所 | E7: 覆工 | M7: 変状 部位 | N7: 対象箇所
C8: 部位区分 | E8: 面壁・妻壁等 | N8: 部位区分
B9: 変状種類 | E9: うき・はく離 | M9: 変状種類
B10: 対策 区分 | C10: 変状区分 | E10: 材質劣化 | M10: 対策 区分 | N10: 変状区分
C11: 応急措置前 | E11: - | N11: 応急措置前
C12: 応急措置後 | E12: Ⅱa | N12: 応急措置後
B13: 変状の発生範囲及び規模 | E13: 0.05m×0.3m | H13: 前回変状の発生範囲及び規模 | J13: 新規 | M13: 変状の発生範囲及び規模 | S13: 前回変状の発生範囲及び規模
B14: 対策履歴 | E14: - | H14: 実施状況（実施日） | J14: - | M14: 対策履歴 | S14: 実施状況（実施日）
B15: メモ | E15: 面壁のうき 浸透性硬化剤塗布済 計画的な対策が望まれる | M15: メモ
B16: 写真 番号 | C16: 覆工スパン 番号 | M16: 写真 番号 | N16: 覆工スパン 番号
C17: 変状番号 | N17: 変状番号
B18: 変状 部位 | C18: 対象箇所 | M18: 変状 部位 | N18: 対象箇所
C19: 部位区分 | N19: 部位区分
B20: 変状種類 | M20: 変状種類
B21: 対策 区分 | C21: 変状区分 | M21: 対策 区分 | N21: 変状区分
C22: 応急措置前 | N22: 応急措置前
C23: 応急措置後 | N23: 応急措置後
B24: 変状の発生範囲及び規模 | H24: 前回変状の発生範囲及び規模 | M24: 変状の発生範囲及び規模 | S24: 前回変状の発生範囲及び規模
B25: 対策履歴 | H25: 実施状況（実施日） | M25: 対策履歴 | S25: 実施状況（実施日）
B26: メモ | M26: メモ
C27: ※ 応急措置後の対策区分について添付すること。また、点検前に 実施された措置によりⅠと判定された箇所も添付すること。 | N27: ※ 変状の発生範囲の規模とは、対策を行う際に参考となる変状の長さや面積をいう。
N28: ※ 応急措置を実施しないで決定した変状の対策区分は、対策区分の応急措置後の欄に記入すること。
C29: ※ たたき落としを実施した場合は、実施後の写真を添付すること。 | N29: ※ 変状の発生範囲の規模は、面積・寸法を記載すること。(ひび割れ幅のみmmとし、その他をm表記とする)
C30: ※ 附属物の取付状態に関する異常写真は別途、任意の書式でとりまとめること。 | N30: ※ 構造用鋼材以外の異物に伴ううき・はく離については、メモ欄に異物の概要を記入すること。

Sheet 様式D-1-2 P001
B2: ■定期点検記録様式 異常写真台帳（トンネル内附属物等の取付状態） 【様式D-1-2】
B3: フリガナ | E3: ツバシキズイドウ | I3: 路 線 名 | L3: 国道191号 | O3: 定期点検実施者 | R3: アジア航測株式会社 | U3: 定期点検年月日 | W3: 45919
B4: 名 称 | E4: 津波敷隧道 | I4: 管理者名 | L4: 山口県下関土木建築事務所 | R4: 飯田 琢巳
B5: 覆工スパン番号 | E5: 1 | F5: 異常番号 | I5: 101 | J5: 覆工スパン番号 | M5: 1 | N5: 異常番号 | Q5: 102 | R5: 覆工スパン番号 | U5: 1 | V5: 異常番号 | Y5: 103
B6: 対象箇所 | D6: その他施設 | E6: その他 | J6: 対象箇所 | L6: その他施設 | M6: その他 | R6: 対象箇所 | T6: その他施設 | U6: その他
B7: 部位区分 | D7: 附属物本体 | F7: 異常の種類 | H7: 腐食 | J7: 部位区分 | L7: 附属物本体 | N7: 異常の種類 | P7: 腐食 | R7: 部位区分 | T7: 附属物本体 | V7: 異常の種類 | X7: 腐食
B8: 異常判定区分 | D8: × | E8: メモ | F8: ﾌﾟﾙﾎﾞｯｸｽの腐食 | J8: 異常判定区分 | L8: × | M8: メモ | N8: 配管の腐食 | R8: 異常判定区分 | T8: × | U8: メモ | V8: ﾌﾟﾙﾎﾞｯｸｽの腐食
B22: 覆工スパン番号 | E22: 1 | F22: 異常番号 | I22: 104 | J22: 覆工スパン番号 | M22: 1 | N22: 異常番号 | Q22: 105 | R22: 覆工スパン番号 | U22: 2 | V22: 異常番号 | Y22: 101
B23: 対象箇所 | D23: その他施設 | E23: その他 | J23: 対象箇所 | L23: 照明施設 | M23: 灯具 | R23: 対象箇所 | T23: 照明施設 | U23: 灯具
B24: 部位区分 | D24: 附属物本体 | F24: 異常の種類 | H24: 腐食 | J24: 部位区分 | L24: 取付部材 | N24: 異常の種類 | P24: 腐食 | R24: 部位区分 | T24: 取付部材 | V24: 異常の種類 | X24: 腐食
B25: 異常判定区分 | D25: × | E25: メモ | F25: 配管の腐食 | J25: 異常判定区分 | L25: × | M25: メモ | N25: 照明(L-01)の取付部腐食 | R25: 異常判定区分 | T25: × | U25: メモ | V25: 照明(L-02)の取付部腐食
C39: ※ 異常判定区分×について記入すること。また、応急措置前に異常判定区分×とした箇所のうち応急措置により○と判定した箇所も記入すること。
C40: ※ 応急措置を実施した場合は、その実施状況が分かる写真を添付すること。
C41: ※ 変状数に準じてシートを追加すること。

Sheet 様式D-1-2 P002
B2: ■定期点検記録様式 異常写真台帳（トンネル内附属物等の取付状態） 【様式D-1-2】
B3: フリガナ | E3: ツバシキズイドウ | I3: 路 線 名 | L3: 国道191号 | O3: 定期点検実施者 | R3: アジア航測株式会社 | U3: 定期点検年月日 | W3: 45919
B4: 名 称 | E4: 津波敷隧道 | I4: 管理者名 | L4: 山口県下関土木建築事務所 | R4: 飯田 琢巳
B5: 覆工スパン番号 | E5: 2 | F5: 異常番号 | I5: 102 | J5: 覆工スパン番号 | M5: 3 | N5: 異常番号 | Q5: 101 | R5: 覆工スパン番号 | U5: 3 | V5: 異常番号 | Y5: 102
B6: 対象箇所 | D6: 照明施設 | E6: 灯具 | J6: 対象箇所 | L6: 照明施設 | M6: 灯具 | R6: 対象箇所 | T6: 照明施設 | U6: 灯具
B7: 部位区分 | D7: 取付部材 | F7: 異常の種類 | H7: 腐食 | J7: 部位区分 | L7: 取付部材 | N7: 異常の種類 | P7: 腐食 | R7: 部位区分 | T7: 取付部材 | V7: 異常の種類 | X7: 腐食
B8: 異常判定区分 | D8: × | E8: メモ | F8: 照明(R-01)の取付部腐食 | J8: 異常判定区分 | L8: × | M8: メモ | N8: 照明(L-03)の取付部腐食 | R8: 異常判定区分 | T8: × | U8: メモ | V8: 照明(R-02)の取付部腐食
B22: 覆工スパン番号 | E22: 3 | F22: 異常番号 | I22: 103 | J22: 覆工スパン番号 | M22: 4 | N22: 異常番号 | Q22: 101 | R22: 覆工スパン番号 | U22: 4 | V22: 異常番号 | Y22: 102
B23: 対象箇所 | D23: 照明施設 | E23: 灯具 | J23: 対象箇所 | L23: 照明施設 | M23: 灯具 | R23: 対象箇所 | T23: 照明施設 | U23: 灯具
B24: 部位区分 | D24: 取付部材 | F24: 異常の種類 | H24: 腐食 | J24: 部位区分 | L24: 取付部材 | N24: 異常の種類 | P24: 腐食 | R24: 部位区分 | T24: 取付部材 | V24: 異常の種類 | X24: 腐食
B25: 異常判定区分 | D25: × | E25: メモ | F25: 照明(R-03)の取付部腐食 | J25: 異常判定区分 | L25: × | M25: メモ | N25: 照明(L-04)の取付部腐食 | R25: 異常判定区分 | T25: × | U25: メモ | V25: 照明(R-04)の取付部腐食
C39: ※ 異常判定区分×について記入すること。また、応急措置前に異常判定区分×とした箇所のうち応急措置により○と判定した箇所も記入すること。
C40: ※ 応急措置を実施した場合は、その実施状況が分かる写真を添付すること。
C41: ※ 変状数に準じてシートを追加すること。

Sheet 様式D-1-2 P003
B2: ■定期点検記録様式 異常写真台帳（トンネル内附属物等の取付状態） 【様式D-1-2】
B3: フリガナ | E3: ツバシキズイドウ | I3: 路 線 名 | L3: 国道191号 | O3: 定期点検実施者 | R3: アジア航測株式会社 | U3: 定期点検年月日 | W3: 45919
B4: 名 称 | E4: 津波敷隧道 | I4: 管理者名 | L4: 山口県下関土木建築事務所 | R4: 飯田 琢巳
B5: 覆工スパン番号 | E5: 5 | F5: 異常番号 | I5: 101 | J5: 覆工スパン番号 | M5: 5 | N5: 異常番号 | Q5: 102 | R5: 覆工スパン番号 | U5: 6 | V5: 異常番号 | Y5: 101
B6: 対象箇所 | D6: 照明施設 | E6: 灯具 | J6: 対象箇所 | L6: 照明施設 | M6: 灯具 | R6: 対象箇所 | T6: 照明施設 | U6: 灯具
B7: 部位区分 | D7: 取付部材 | F7: 異常の種類 | H7: 腐食 | J7: 部位区分 | L7: 取付部材 | N7: 異常の種類 | P7: 腐食 | R7: 部位区分 | T7: 取付部材 | V7: 異常の種類 | X7: 腐食
B8: 異常判定区分 | D8: × | E8: メモ | F8: 照明(L-05)の取付部腐食 | J8: 異常判定区分 | L8: × | M8: メモ | N8: 照明(R-05)の取付部腐食 | R8: 異常判定区分 | T8: × | U8: メモ | V8: 照明(L-06)の取付部腐食
B22: 覆工スパン番号 | E22: 6 | F22: 異常番号 | I22: 102 | J22: 覆工スパン番号 | M22: 6 | N22: 異常番号 | Q22: 103 | R22: 覆工スパン番号 | U22: 8 | V22: 異常番号 | Y22: 101
B23: 対象箇所 | D23: 照明施設 | E23: 灯具 | J23: 対象箇所 | L23: 照明施設 | M23: 灯具 | R23: 対象箇所 | T23: 照明施設 | U23: 灯具
B24: 部位区分 | D24: 取付部材 | F24: 異常の種類 | H24: 腐食 | J24: 部位区分 | L24: 取付部材 | N24: 異常の種類 | P24: 腐食 | R24: 部位区分 | T24: 取付部材 | V24: 異常の種類 | X24: 腐食
B25: 異常判定区分 | D25: × | E25: メモ | F25: 照明(L-07)の取付部腐食 | J25: 異常判定区分 | L25: × | M25: メモ | N25: 照明(R-06)の取付部腐食 | R25: 異常判定区分 | T25: × | U25: メモ | V25: 照明(L-08)の取付部腐食
C39: ※ 異常判定区分×について記入すること。また、応急措置前に異常判定区分×とした箇所のうち応急措置により○と判定した箇所も記入すること。
C40: ※ 応急措置を実施した場合は、その実施状況が分かる写真を添付すること。
C41: ※ 変状数に準じてシートを追加すること。

Sheet 様式D-1-2 P004
B2: ■定期点検記録様式 異常写真台帳（トンネル内附属物等の取付状態） 【様式D-1-2】
B3: フリガナ | E3: ツバシキズイドウ | I3: 路 線 名 | L3: 国道191号 | O3: 定期点検実施者 | R3: アジア航測株式会社 | U3: 定期点検年月日 | W3: 45919
B4: 名 称 | E4: 津波敷隧道 | I4: 管理者名 | L4: 山口県下関土木建築事務所 | R4: 飯田 琢巳
B5: 覆工スパン番号 | E5: 8 | F5: 異常番号 | I5: 102 | J5: 覆工スパン番号 | M5: 8 | N5: 異常番号 | Q5: 103 | R5: 覆工スパン番号 | U5: 9 | V5: 異常番号 | Y5: 101
B6: 対象箇所 | D6: 照明施設 | E6: 灯具 | J6: 対象箇所 | L6: 照明施設 | M6: 灯具 | R6: 対象箇所 | T6: 照明施設 | U6: 灯具
B7: 部位区分 | D7: 取付部材 | F7: 異常の種類 | H7: 腐食 | J7: 部位区分 | L7: 取付部材 | N7: 異常の種類 | P7: 腐食 | R7: 部位区分 | T7: 取付部材 | V7: 異常の種類 | X7: 腐食
B8: 異常判定区分 | D8: × | E8: メモ | F8: 照明(R-07)の取付部腐食 | J8: 異常判定区分 | L8: × | M8: メモ | N8: 照明(R-08)の取付部腐食 | R8: 異常判定区分 | T8: × | U8: メモ | V8: 照明(L-09)の取付部腐食
B22: 覆工スパン番号 | E22: 9 | F22: 異常番号 | I22: 102 | J22: 覆工スパン番号 | M22: 10 | N22: 異常番号 | Q22: 101 | R22: 覆工スパン番号 | U22: 10 | V22: 異常番号 | Y22: 102
B23: 対象箇所 | D23: 照明施設 | E23: 灯具 | J23: 対象箇所 | L23: 照明施設 | M23: 灯具 | R23: 対象箇所 | T23: 照明施設 | U23: 灯具
B24: 部位区分 | D24: 取付部材 | F24: 異常の種類 | H24: 腐食 | J24: 部位区分 | L24: 取付部材 | N24: 異常の種類 | P24: 腐食 | R24: 部位区分 | T24: 取付部材 | V24: 異常の種類 | X24: 腐食
B25: 異常判定区分 | D25: × | E25: メモ | F25: 照明(R-09)の取付部腐食 | J25: 異常判定区分 | L25: × | M25: メモ | N25: 照明(L-10)の取付部腐食 | R25: 異常判定区分 | T25: × | U25: メモ | V25: 照明(R-10)の取付部腐食
C39: ※ 異常判定区分×について記入すること。また、応急措置前に異常判定区分×とした箇所のうち応急措置により○と判定した箇所も記入すること。
C40: ※ 応急措置を実施した場合は、その実施状況が分かる写真を添付すること。
C41: ※ 変状数に準じてシートを追加すること。

Sheet 様式D-1-2 P005
B2: ■定期点検記録様式 異常写真台帳（トンネル内附属物等の取付状態） 【様式D-1-2】
B3: フリガナ | E3: ツバシキズイドウ | I3: 路 線 名 | L3: 国道191号 | O3: 定期点検実施者 | R3: アジア航測株式会社 | U3: 定期点検年月日 | W3: 45919
B4: 名 称 | E4: 津波敷隧道 | I4: 管理者名 | L4: 山口県下関土木建築事務所 | R4: 飯田 琢巳
B5: 覆工スパン番号 | E5: 11 | F5: 異常番号 | I5: 101 | J5: 覆工スパン番号 | M5: 11 | N5: 異常番号 | Q5: 102 | R5: 覆工スパン番号 | U5: 11 | V5: 異常番号 | Y5: 103
B6: 対象箇所 | D6: 照明施設 | E6: 灯具 | J6: 対象箇所 | L6: 照明施設 | M6: 灯具 | R6: 対象箇所 | T6: 照明施設 | U6: 灯具
