Workbook
Name その他: '(参考)リスト'!$C$47
Name その他施設: '[1](参考)リスト'!#REF!
Name その他施設: '(参考)リスト'!$C$79:$C$83
Name 換気施設: '[1](参考)リスト'!#REF!
Name 換気施設: '(参考)リスト'!$C$56:$C$60
Name 坑門: '(参考)リスト'!$C$31:$C$32
Name 照明施設: '[1](参考)リスト'!#REF!
Name 照明施設: '(参考)リスト'!$C$52:$C$54
Name 対象箇所: [2]!テーブル1[対象箇所]
Name 天井板: '(参考)リスト'!$C$37:$C$39
Name 内装板: '(参考)リスト'!$C$34:$C$35
Name 非常用施設: '[1](参考)リスト'!#REF!
Name 非常用施設: '(参考)リスト'!$C$62:$C$77
Name 覆工: '(参考)リスト'!$C$16:$C$29
Name 路面: '(参考)リスト'!$C$41:$C$45

Sheet 点検様式作成フロー
A1: 点検様式作成フロ-
A3: 作成フロー図 | H3: 点検調書作成手順
H4: ①様式A-1～A-3（トンネル台帳）
H5: トンネル点検の実施にあたっては，現場点検作業に先行してトンネル情報を収集する。トンネル台帳（様式Ａ－1～様式Ａ－3）はトンネル完成後に作成され，維持管理の段階で引き継がれるが，関連資料等を確認したうえで，追加情報があれば必要に応じて追記することが望ましい。
H9: ②様式D-2-1、様式D-2-1´
H10: 現場点検作業を実施し，近接目視点検で確認した変状状況や補修履歴を忠実に変状展開図に転記する。
H12: ③様式D-1-1、様式D-1-2
H13: 変状展開図や撮影した写真等をもとに，対象トンネルの対策区分を決定し，対策区分がⅡ～Ⅳの変状および異常判定区分「×」を抽出し，写真台帳を作成する。
H16: ④様式B
H17: 写真台帳の作成と同時に，トンネルの構造を展開した位置図に変状写真位置を記録する。
H19: ⑤様式D-3
H20: 変状展開図ならびに写真台帳をもとに覆工スパンごとの変状展開図を作成し，変状発生状況をとりまとめる。
H22: ⑥様式E
H23: 近接目視または打音検査，触診ができていない箇所および近接目視によらない方法を講じた場所に対する調査結果を記録する。
... H33: すること。 ※各ファイルとも （参考）リスト のシートを付けて保存すること。

Sheet 変状面積算出方法
A1: 変状面積算出方法
A26: 注1）外力による変状：ひび割れや圧ざの場合は変状の寸法を記録する。
A27: 例）ひび割れ：長さ（L）×最大ひび割れ幅（t）を記録する。 変形，移動，沈下：数値的な記載が可能な場合のみ記載する。
A28: 注2）材料劣化による：打音異常
A29: 例）うき，はく離（閉合ひび割れ）：変状範囲を包括する寸法（L×W） うき，はく離（ひび割れ沿い）：打音異常箇所を包括する寸法（L×W） 鋼材腐食（鉄筋腐食）：一括した対策が適当と考えられる範囲を包括する寸法（L×W）
A30: 注3）漏水による変状：漏水発生範囲を包括し，垂れ下がりの可能性がある側壁下端まで含めた寸法を，L×Wで記録する。打継ぎ目地沿いの 漏水については目地を跨いだ50cm幅を横幅とする。

Sheet 記入の留意点
B2: トンネルDBでは、Excelに記載された文字や数値・配置された画像を自動的に読込みデータベースへ登録します。
B3: 記録様式へ記入の留意点を下記に示します。
B5: １．記録様式への記入
C6: ➤各セルに表示されるコメントに従って、様式A-1～様式Gのシートに、点検結果（テキスト入力、選択項目）を入力してください。
C7: ➤位置図(様式B)、変状写真(様式D-1-1)、異常写真(様式D-1-2)は記入した変状写真番号等に対応した画像を間違いないように貼り付けてください。
C8: ➤列や行の挿入削除は行わず、セルの位置がずれないようにしてください。データベースへ読み取り時にずれて取り込まれてしまいます。
B11: ２．画像ファイルの配置の注意点
C12: 登録に使用可能な画像ファイルの拡張子は「jpg」「jpeg」「png」の3種類のみです。
C13: 必ず、１か所に画像１枚のみを張り付けてください。エクセルの図形などのオブジェクトは使用しないでください。
C14: 張り付けた画像はエクセルのトリミング機能を使用しないでください。あらかじめ切り抜いた画像を利用してください。
C15: ※１ 画像の左上を必ずセルの内部に含め、はみ出ないようにしてください。
C16: ※２ 図の書式設定で「セルに合わせて移動やサイズを変更しない」のモードを使用しないでください。
C32: ※３ 「挿入」→「画像」→「セルの上に配置」してください。
B41: ３．シート名の連番について
C42: １ページに記載しきれない場合は、１シート内にページを増やすのではなくシート自体をコピーしシート名の末尾を連番にしてください。
C43: 対象様式
C44: 様式B
C45: 様式D-1-1
C46: 様式D-1-2
C47: 様式D-2-1
C48: 様式D-2-1´
C49: 様式D-3_S00 ※スパン名を記載
C50: 様式G
C52: 末尾の連番の形式例
C53: 様式B(1) 様式B(2) 様式B(3)
C54: 様式B_001 様式B_002 様式B_003
... C61: で示される要領を制限するものではありません。

Sheet 様式A-1
B2: ■トンネル台帳 トンネル諸元、非常用施設諸元 【様式A-1】 | S2: 施設ID | W2: 33.97056,130.94306
B3: フリガナ | D3: ムクノトンネル クダリ | H3: 路線名 | J3: 山口県道57号下関港線（下り） | P3: 管理者名 | R3: 山口県 下関土木建築事務所 | W3: 緊急輸送道路
B4: 名 称 | D4: 椋野トンネル（下り） | W4: 代替路の有無 | Z4: 有
B5: 所在地 | D5: 自 | E5: 山口県下関市椋野町 | H5: 作成者 | K5: アジア航測株式会社 | P5: 作成年月日 | R5: 46069 | U5: トンネル延長 | X5: L= | Z5: 385 | AB5: ｍ
D6: 至 | E6: 山口県下関市椋野町 | U6: ﾄﾝﾈﾙの分類 | X6: 陸上トンネル（掘進工法）
B7: 起点 | C7: 緯度 | E7: 33.97056 | H7: 完成年月日 | K7: 1973年 | M7: 舗装 | O7: 種 別 | Q7: セメント系 | S7: トンネル非常用施設 | T7: 施設の内訳 | X7: 種別・方式 | Y7: 型式 | Z7: 個数 | AA7: 更新年度
C8: 経度 | E8: 130.94306 | H8: 供用年月日 | O8: 厚 さ | Q8: m | T8: 通報設備 | U8: 通話型通報設備 | Z8: 2
B9: 終点 | C9: 緯度 | E9: 33.97323 | H9: トンネル区分 | K9: 下線(本線) | O9: 面 積 | Q9: 3561㎡ | U9: 操作型通報設備 | Z9: 8
C10: 経度 | E10: 130.94598 | H10: 内装種類 | K10: 内装あり | O10: 更新年次 | U10: 自動通報設備
B11: 一般有料区分 | E11: 一般（無料） | H11: 天井板種類 | K11: 内装なし覆工 | M11: 排水 | O11: 種 別 | T11: 警報設備 | U11: 非常警報設備
B12: 土かぶり | G12: m | H12: 坑門 | I12: 起点 | J12: 形式 | K12: 面壁型 | O12: 更新年次 | T12: 消火設備 | U12: 消 火 器 | Z12: 8
B13: 内空断面積 | E13: 54.8 | G13: m2 | J13: 延長 | L13: m | M13: 施設 | P13: 種別・方式 | Q13: 個数 | R13: 更新年次 | U13: 消火栓設備
B14: 交 通 量 | G14: 台/日 | I14: 終点 | J14: 形式 | K14: 面壁型 | M14: 道路附属物等 | N14: 照明 | P14: LED | Q14: 62 | T14: 避難誘導設備 | U14: 誘導表示設備 | Z14: 16
C15: 道 路 幅 | E15: 9.25 | G15: m | J15: 延長 | L15: m | N15: 換気 | U15: 避難情報提供設備
B16: 幅 員 | C16: 車 道 幅 | E16: 3.25 | G16: m | H16: 竣工巻厚 | I16: アーチ | L16: cm | N16: 標識
E17: 3.25 | G17: m | I17: 側 壁 | L17: cm | N17: 警報表示板 | U17: 避難通路
C18: 歩道等幅 | E18: 1.75 | G18: m | L18: cm | N18: 吸音板 | Q18: 200 | U18: 排煙設備
B19: 高さ | C19: 建築限界高 | E19: 4.5 | G19: m | I19: インバート | L19: cm | T19: その他の設備 | U19: 給水栓設備
C20: 中央高 | E20: 6.6 | G20: m | H20: 半径 | I20: アーチ | K20: 500 | L20: cm | U20: 無線通信補助設備
C21: 有効高 | E21: 4.5 | G21: m | I21: 側 壁 | K21: 800 | L21: cm | U21: 水噴霧設備
C22: 縦断勾配 | E22: 2.93 | I22: インバート | L22: cm | U22: 監視設備
B23: 線 形 | C23: 直線区間長 | E23: 385 | H23: 占用物件 | I23: 種 類 | K23: 寸 法 | M23: 管理者名 | Q23: 更新年次 | S23: 非常用施設 関連設備 | U23: 予備発電設備
C24: 曲線区間 | D24: 区間長
D25: 起点側ｸﾛｿｲﾄﾞ
D26: 曲線半径
D27: 終点側ｸﾛｿｲﾄﾞ | S27: その他 | U27: 非常駐車帯
B28: トンネル工法 | E28: 矢板工法 | U28: 方向転換所
C29: ※緯度・経度については、秒の小数第二位の単位まで記入すること。

Sheet 様式A-2
B3: ■トンネル台帳 トンネル情報一覧表 【様式A-2】
B4: フリガナ | E4: ='様式A-1'!D3 -> ムクノトンネル クダリ | J4: 路線名 | M4: ='様式A-1'!J3 -> 山口県道57号下関港線（下り） | S4: 作成者 | Y4: ='様式A-1'!K5 -> アジア航測株式会社 | AE4: 作成年月日 | AI4: ='様式A-1'!R5 -> 46069
B5: 名 称 | E5: ='様式A-1'!D4 -> 椋野トンネル（下り） | J5: 管理者名 | M5: ='様式A-1'!R3 -> 山口県 下関土木建築事務所
B6: 覆工 ｽﾊﾟﾝ 番号 | C6: ｽﾊﾟﾝ長 | D6: 追加距離 | F6: トンネル本体工 | K6: 照明施設 | O6: 非常用施設 | AE6: 換気施設 | AK6: その他附属物等
O7: 通報設備 | R7: 警報設備 | S7: 消火設備 | U7: 避難誘導設備 | Y7: その他の設備 | AC7: 特記事項
D8: 起点側 | E8: 終点側 | F8: 特記事項 | I8: 内装板 | J8: 天井板 | K8: 基本照明 | L8: 入口出口照明 | M8: 特記事項 | O8: 通話型通報設備 | P8: 操作型通報設備 | Q8: 自動通報設備 | R8: 非常警報設備 | S8: 消 火 器 | T8: 消火栓設備 | U8: 誘導表示設備 | V8: 避難情報提供設備 | W8: 避難通路 | X8: 排煙設備 | Y8: 給水栓設備 | Z8: 無線通信補助設備 | AA8: 水噴霧設備 | AB8: 監視設備 | AE8: JF | AF8: VI計 | AG8: CO計 | AH8: 風向 風速計 | AI8: 特記事項
C9: (m) | D9: (m) | E9: (m)
B10: PS | C10: 2.5 | D10: 0 | E10: 2.5 | F10: 坑門（面壁型） | I10: ○ | K10: ○
B11: S1 | C11: 9 | D11: 2.5 | E11: 11.5 | I11: ○ | K11: ○
B12: S2 | C12: 8.8 | D12: 11.5 | E12: 20.3 | I12: ○ | K12: ○ | P12: ○ | S12: ○ | U12: ○
B13: S3 | C13: 9.2 | D13: 20.3 | E13: 29.5 | I13: ○ | K13: ○
B14: S4 | C14: 6 | D14: 29.5 | E14: 35.5 | I14: ○ | K14: ○
B15: S5 | C15: 3 | D15: 35.5 | E15: 38.5 | I15: ○ | K15: ○
B16: S6 | C16: 9 | D16: 38.5 | E16: 47.5 | I16: ○ | K16: ○ | U16: ○
B17: S7 | C17: 8.9 | D17: 47.5 | E17: 56.4 | I17: ○ | K17: ○
B18: S8 | C18: 9 | D18: 56.4 | E18: 65.4 | I18: ○ | K18: ○
B19: S9 | C19: 8.8 | D19: 65.4 | E19: 74.2 | I19: ○ | K19: ○ | O19: ○ | P19: ○ | S19: ○
B20: S10 | C20: 8.7 | D20: 74.2 | E20: 82.9 | I20: ○ | K20: ○
B21: S11 | C21: 9.2 | D21: 82.9 | E21: 92.1 | I21: ○ | K21: ○
B22: S12 | C22: 9 | D22: 92.1 | E22: 101.1 | I22: ○ | K22: ○ | U22: ○2
B23: S13 | C23: 8.9 | D23: 101.1 | E23: 110 | I23: ○ | K23: ○
B24: S14 | C24: 8 | D24: 110 | E24: 118 | I24: ○ | K24: ○ | P24: ○ | S24: ○ | U24: ○
B25: S15 | C25: 9.3 | D25: 118 | E25: 127.3 | I25: ○ | K25: ○
B26: S16 | C26: 8.7 | D26: 127.3 | E26: 136 | I26: ○ | K26: ○
B27: S17 | C27: 9 | D27: 136 | E27: 145 | I27: ○ | K27: ○ | U27: ○
B28: S18 | C28: 9.2 | D28: 145 | E28: 154.2 | I28: ○ | K28: ○
B29: S19 | C29: 8.7 | D29: 154.2 | E29: 162.9 | I29: ○ | K29: ○
B30: S20 | C30: 9.1 | D30: 162.9 | E30: 172 | I30: ○ | K30: ○ | P30: ○ | S30: ○ | U30: ○
B31: S21 | C31: 8.9 | D31: 172 | E31: 180.9 | I31: ○
B32: S22 | C32: 8.9 | D32: 180.9 | E32: 189.8 | I32: ○ | K32: ○
B33: S23 | C33: 9 | D33: 189.8 | E33: 198.8 | I33: ○ | U33: ○2
B34: S24 | C34: 8.9 | D34: 198.8 | E34: 207.7 | I34: ○ | K34: ○
B35: S25 | C35: 9.1 | D35: 207.7 | E35: 216.8 | I35: ○ | K35: ○
B36: S26 | C36: 9.1 | D36: 216.8 | E36: 225.9 | I36: ○ | K36: ○ | P36: ○ | S36: ○ | U36: ○
B37: S27 | C37: 8.6 | D37: 225.9 | E37: 234.5 | I37: ○
B38: S28 | C38: 8.8 | D38: 234.5 | E38: 243.3 | I38: ○ | K38: ○ | U38: ○
B39: S29 | C39: 9.2 | D39: 243.3 | E39: 252.5 | I39: ○ | K39: ○
B40: S30 | C40: 9 | D40: 252.5 | E40: 261.5 | I40: ○ | K40: ○
B41: S31 | C41: 8.8 | D41: 261.5 | E41: 270.3 | I41: ○ | K41: ○ | O41: ○ | P41: ○ | S41: ○
B42: S32 | C42: 9 | D42: 270.3 | E42: 279.3 | I42: ○
...

Sheet 様式A-2 (2)
B3: ■トンネル台帳 トンネル情報一覧表 【様式A-2】
B4: フリガナ | E4: ='様式A-1'!D3 -> ムクノトンネル クダリ | J4: 路線名 | M4: ='様式A-1'!J3 -> 山口県道57号下関港線（下り） | S4: 作成者 | Y4: ='様式A-1'!K5 -> アジア航測株式会社 | AE4: 作成年月日 | AI4: ='様式A-1'!R5 -> 46069
B5: 名 称 | E5: ='様式A-1'!D4 -> 椋野トンネル（下り） | J5: 管理者名 | M5: ='様式A-1'!R3 -> 山口県 下関土木建築事務所
B6: 覆工 ｽﾊﾟﾝ 番号 | C6: ｽﾊﾟﾝ長 | D6: 追加距離 | F6: トンネル本体工 | K6: 照明施設 | O6: 非常用施設 | AE6: 換気施設 | AK6: その他附属物等
O7: 通報設備 | R7: 警報設備 | S7: 消火設備 | U7: 避難誘導設備 | Y7: その他の設備 | AC7: 特記事項
D8: 起点側 | E8: 終点側 | F8: 特記事項 | I8: 内装板 | J8: 天井板 | K8: 基本照明 | L8: 入口出口照明 | M8: 特記事項 | O8: 通話型通報設備 | P8: 操作型通報設備 | Q8: 自動通報設備 | R8: 非常警報設備 | S8: 消 火 器 | T8: 消火栓設備 | U8: 誘導表示設備 | V8: 避難情報提供設備 | W8: 避難通路 | X8: 排煙設備 | Y8: 給水栓設備 | Z8: 無線通信補助設備 | AA8: 水噴霧設備 | AB8: 監視設備 | AE8: JF | AF8: VI計 | AG8: CO計 | AH8: 風向 風速計 | AI8: 特記事項
C9: (m) | D9: (m) | E9: (m)
B10: S38 | C10: 8.8 | D10: 323.8 | E10: 332.6 | I10: ○ | K10: ○
B11: S39 | C11: 8.9 | D11: 332.6 | E11: 341.5 | I11: ○ | K11: ○
B12: S40 | C12: 8.9 | D12: 341.5 | E12: 350.4 | I12: ○ | K12: ○ | U12: ○
B13: S41 | C13: 9.1 | D13: 350.4 | E13: 359.5 | I13: ○ | K13: ○
B14: S42 | C14: 8.9 | D14: 359.5 | E14: 368.4 | I14: ○ | K14: ○ | P14: ○ | S14: ○ | U14: ○
B15: S43 | C15: 9.1 | D15: 368.4 | E15: 377.5 | I15: ○ | K15: ○
B16: S44 | C16: 6.3 | D16: 377.5 | E16: 383.8 | I16: ○ | K16: ○
B17: PE | C17: 1.2 | D17: 383.8 | E17: 385 | F17: 坑門（面壁型） | I17: ○
B48: ※ 行が不足する場合は、適時、表の行を増やすこと。

Sheet 様式A-3
B3: ■トンネル台帳 トンネル記録（位置図、断面図、施工実績他）【様式A-3】
B4: フリガナ | E4: ='様式A-1'!D3 -> ムクノトンネル クダリ | J4: 路線名 | M4: ='様式A-1'!J3 -> 山口県道57号下関港線（下り） | S4: 作成者 | W4: ='様式A-1'!K5 -> アジア航測株式会社 | AC4: 作成年月日 | AF4: ='様式A-1'!R5 -> 46069
B5: 名 称 | E5: ='様式A-1'!D4 -> 椋野トンネル（下り） | J5: 管理者名 | M5: ='様式A-1'!R3 -> 山口県 下関土木建築事務所
B6: 位置図・現況写真・標準断面図・地質縦断図・施工実績
B19: 位置図・現況写真・標準断面図・地質縦断図・施工実績

Sheet 様式B (1)
B2: ■定期点検記録様式 トンネル変状・異常箇所写真位置図 【様式B】 | N2: 定期点検年月日 | P2: 45890 | S2: 施設ID | V2: 33.97056,130.94306
B3: フリガナ | C3: ='様式A-1'!D3 -> ムクノトンネル クダリ | G3: 路線名 | H3: ='様式A-1'!J3 -> 山口県道57号下関港線（下り） | K3: 管理者名 | L3: ='様式A-1'!R3 -> 山口県 下関土木建築事務所 | Q3: 定期点検実施者 | S3: アジア航測株式会社 | V3: 起点 | W3: 緯度 | X3: 33.97056
B4: 名 称 | C4: ='様式A-1'!D4 -> 椋野トンネル（下り） | S4: 飯田 琢巳 | W4: 経度 | X4: 130.94306
B5: 所在地 | C5: 自 | D5: ='様式A-1'!E5 -> 山口県下関市椋野町 | G5: トンネル工法 | I5: 矢板工法 | L5: トンネル延長 | N5: L= | O5: ='様式A-1'!Z5 -> 385 | P5: ｍ | Q5: 自専道 or 一般道 | R5: 一般道 | S5: 代替路の有無 | U5: 有 | V5: 終点 | W5: 緯度 | X5: 33.97323
C6: 至 | D6: ='様式A-1'!E6 -> 山口県下関市椋野町 | G6: 建設年度 | I6: ='様式A-1'!K7 -> 1973年 | L6: 幅員 | N6: L= | O6: ='様式A-1'!E15 -> 9.25 | P6: ｍ | S6: 緊急輸送道路 | W6: 経度 | X6: 130.94598
B7: トンネル毎 の健全性の 診断の区分 | D7: Ⅱ
G8: 変状・異常 箇所数合計 | I8: トンネル本体工 | J8: 材質劣化 | K8: Ⅱ | L8: 54 | N8: Ⅲ | O8: 0 | Q8: Ⅳ | R8: 0 | T8: 附属物等 の取付状態 | V8: ◯ （応急措置後) | X8: 1
J9: 漏水 | K9: Ⅱ | L9: 73 | N9: Ⅲ | O9: 0 | Q9: Ⅳ | R9: 0
V10: ✕ | X10: 17
J11: 外力 | K11: Ⅱ | L11: 3 | N11: Ⅲ | O11: 0 | Q11: Ⅳ | R11: 0
B12: トンネル変状・異常箇所写真位置図
J29: 注１：本位置図は、見下げた状態で記載すること。 注２：覆工スパン番号は横断目地毎(矢板工法の場合は上半アーチの 横断目地毎)に設定すること。 | Q29: 注３：写真番号に付する変状番号は、各覆工スパンの変状に対して新たに確認された場合 は順次追加していくこと。 注４：横断目地の変状は前の覆工スパン番号で計上すること。 注５：１枚に収まらない場合は、複数枚に分けて作成すること。
C30: ※1 トンネル本体工の変状数は、材質劣化、漏水に起因するものは変状単位で、外力に起因するものはスパン単位で計上すること。
C31: ※2 トンネル本体工の変状に対しては、措置の必要性（Ⅱ～Ⅳ）について表記すること。また、点検前に実施された措置によりⅠと判定された箇所についても記載すること。
C32: ※3 附属物等の取付状態の○欄については、応急措置前に判定区分×とした箇所のうち応急措置により○判定とした箇所の数を記入すること。
C33: ※4 附属物等の異常番号は、本体工と番号が重複しないよう101番以降とする等の配慮を行い、分かりやすく記録すること。

Sheet 様式B (2)
B2: ■定期点検記録様式 トンネル変状・異常箇所写真位置図 【様式B】 | N2: 定期点検年月日 | P2: 45890 | S2: 施設ID | V2: ='様式A-1'!W2 -> 33.97056,130.94306
B3: フリガナ | C3: ='様式A-1'!D3 -> ムクノトンネル クダリ | G3: 路線名 | H3: ='様式A-1'!J3 -> 山口県道57号下関港線（下り） | K3: 管理者名 | L3: ='様式A-1'!R3 -> 山口県 下関土木建築事務所 | Q3: 定期点検実施者 | S3: アジア航測株式会社 | V3: 起点 | W3: 緯度 | X3: 33.97056
B4: 名 称 | C4: ='様式A-1'!D4 -> 椋野トンネル（下り） | S4: 飯田 琢巳 | W4: 経度 | X4: 130.94306
B5: 所在地 | C5: 自 | D5: ='様式A-1'!E5 -> 山口県下関市椋野町 | G5: トンネル工法 | I5: 矢板工法 | L5: トンネル延長 | N5: L= | O5: ='様式A-1'!Z5 -> 385 | P5: ｍ | Q5: 自専道 or 一般道 | R5: 一般道 | S5: 代替路の有無 | U5: 有 | V5: 終点 | W5: 緯度 | X5: 33.97323
C6: 至 | D6: ='様式A-1'!E6 -> 山口県下関市椋野町 | G6: 建設年度 | I6: ='様式A-1'!K7 -> 1973年 | L6: 幅員 | N6: L= | O6: ='様式A-1'!E15 -> 9.25 | P6: ｍ | S6: 緊急輸送道路 | W6: 経度 | X6: 130.94598
B7: トンネル毎 の健全性の 診断の区分 | D7: Ⅱ
G8: 変状・異常 箇所数合計 | I8: トンネル本体工 | J8: 材質劣化 | K8: Ⅱ | L8: 54 | N8: Ⅲ | O8: 0 | Q8: Ⅳ | R8: 0 | T8: 附属物等 の取付状態 | V8: ◯ （応急措置後) | X8: 1
J9: 漏水 | K9: Ⅱ | L9: 73 | N9: Ⅲ | O9: 0 | Q9: Ⅳ | R9: 0
V10: ✕ | X10: 17
J11: 外力 | K11: Ⅱ | L11: 3 | N11: Ⅲ | O11: 0 | Q11: Ⅳ | R11: 0
B12: トンネル変状・異常箇所写真位置図
J29: 注１：本位置図は、見下げた状態で記載すること。 注２：覆工スパン番号は横断目地毎(矢板工法の場合は上半アーチの 横断目地毎)に設定すること。 | Q29: 注３：写真番号に付する変状番号は、各覆工スパンの変状に対して新たに確認された場合 は順次追加していくこと。 注４：横断目地の変状は前の覆工スパン番号で計上すること。 注５：１枚に収まらない場合は、複数枚に分けて作成すること。
C30: ※1 トンネル本体工の変状数は、材質劣化、漏水に起因するものは変状単位で、外力に起因するものはスパン単位で計上すること。
C31: ※2 トンネル本体工の変状に対しては、措置の必要性（Ⅱ～Ⅳ）について表記すること。また、点検前に実施された措置によりⅠと判定された箇所についても記載すること。
C32: ※3 附属物等の取付状態の○欄については、応急措置前に判定区分×とした箇所のうち応急措置により○判定とした箇所の数を記入すること。
C33: ※4 附属物等の異常番号は、本体工と番号が重複しないよう101番以降とする等の配慮を行い、分かりやすく記録すること。

Sheet 様式B (3)
B2: ■定期点検記録様式 トンネル変状・異常箇所写真位置図 【様式B】 | N2: 定期点検年月日 | P2: 45890 | S2: 施設ID | V2: 33.97056,130.94306
B3: フリガナ | C3: ='様式A-1'!D3 -> ムクノトンネル クダリ | G3: 路線名 | H3: ='様式A-1'!J3 -> 山口県道57号下関港線（下り） | K3: 管理者名 | L3: ='様式A-1'!R3 -> 山口県 下関土木建築事務所 | Q3: 定期点検実施者 | S3: アジア航測株式会社 | V3: 起点 | W3: 緯度 | X3: 33.97056
B4: 名 称 | C4: ='様式A-1'!D4 -> 椋野トンネル（下り） | S4: 飯田 琢巳 | W4: 経度 | X4: 130.94306
B5: 所在地 | C5: 自 | D5: ='様式A-1'!E5 -> 山口県下関市椋野町 | G5: トンネル工法 | I5: 矢板工法 | L5: トンネル延長 | N5: L= | O5: ='様式A-1'!Z5 -> 385 | P5: ｍ | Q5: 自専道 or 一般道 | R5: 一般道 | S5: 代替路の有無 | U5: 有 | V5: 終点 | W5: 緯度 | X5: 33.97323
C6: 至 | D6: ='様式A-1'!E6 -> 山口県下関市椋野町 | G6: 建設年度 | I6: ='様式A-1'!K7 -> 1973年 | L6: 幅員 | N6: L= | O6: ='様式A-1'!E15 -> 9.25 | P6: ｍ | S6: 緊急輸送道路 | W6: 経度 | X6: 130.94598
B7: トンネル毎 の健全性の 診断の区分 | D7: Ⅱ
G8: 変状・異常 箇所数合計 | I8: トンネル本体工 | J8: 材質劣化 | K8: Ⅱ | L8: 54 | N8: Ⅲ | O8: 0 | Q8: Ⅳ | R8: 0 | T8: 附属物等 の取付状態 | V8: ◯ （応急措置後) | X8: 1
J9: 漏水 | K9: Ⅱ | L9: 73 | N9: Ⅲ | O9: 0 | Q9: Ⅳ | R9: 0
V10: ✕ | X10: 17
J11: 外力 | K11: Ⅱ | L11: 3 | N11: Ⅲ | O11: 0 | Q11: Ⅳ | R11: 0
B12: トンネル変状・異常箇所写真位置図
J29: 注１：本位置図は、見下げた状態で記載すること。 注２：覆工スパン番号は横断目地毎(矢板工法の場合は上半アーチの 横断目地毎)に設定すること。 | Q29: 注３：写真番号に付する変状番号は、各覆工スパンの変状に対して新たに確認された場合 は順次追加していくこと。 注４：横断目地の変状は前の覆工スパン番号で計上すること。 注５：１枚に収まらない場合は、複数枚に分けて作成すること。
C30: ※1 トンネル本体工の変状数は、材質劣化、漏水に起因するものは変状単位で、外力に起因するものはスパン単位で計上すること。
C31: ※2 トンネル本体工の変状に対しては、措置の必要性（Ⅱ～Ⅳ）について表記すること。また、点検前に実施された措置によりⅠと判定された箇所についても記載すること。
C32: ※3 附属物等の取付状態の○欄については、応急措置前に判定区分×とした箇所のうち応急措置により○判定とした箇所の数を記入すること。
C33: ※4 附属物等の異常番号は、本体工と番号が重複しないよう101番以降とする等の配慮を行い、分かりやすく記録すること。

Sheet 様式B (4)
B2: ■定期点検記録様式 トンネル変状・異常箇所写真位置図 【様式B】 | N2: 定期点検年月日 | P2: 45890 | S2: 施設ID | V2: 33.97056,130.94306
B3: フリガナ | C3: ='様式A-1'!D3 -> ムクノトンネル クダリ | G3: 路線名 | H3: ='様式A-1'!J3 -> 山口県道57号下関港線（下り） | K3: 管理者名 | L3: ='様式A-1'!R3 -> 山口県 下関土木建築事務所 | Q3: 定期点検実施者 | S3: アジア航測株式会社 | V3: 起点 | W3: 緯度 | X3: 33.97056
B4: 名 称 | C4: ='様式A-1'!D4 -> 椋野トンネル（下り） | S4: 飯田 琢巳 | W4: 経度 | X4: 130.94306
B5: 所在地 | C5: 自 | D5: ='様式A-1'!E5 -> 山口県下関市椋野町 | G5: トンネル工法 | I5: 矢板工法 | L5: トンネル延長 | N5: L= | O5: ='様式A-1'!Z5 -> 385 | P5: ｍ | Q5: 自専道 or 一般道 | R5: 一般道 | S5: 代替路の有無 | U5: 有 | V5: 終点 | W5: 緯度 | X5: 33.97323
C6: 至 | D6: ='様式A-1'!E6 -> 山口県下関市椋野町 | G6: 建設年度 | I6: ='様式A-1'!K7 -> 1973年 | L6: 幅員 | N6: L= | O6: ='様式A-1'!E15 -> 9.25 | P6: ｍ | S6: 緊急輸送道路 | W6: 経度 | X6: 130.94598
B7: トンネル毎 の健全性の 診断の区分 | D7: Ⅱ
G8: 変状・異常 箇所数合計 | I8: トンネル本体工 | J8: 材質劣化 | K8: Ⅱ | L8: 54 | N8: Ⅲ | O8: 0 | Q8: Ⅳ | R8: 0 | T8: 附属物等 の取付状態 | V8: ◯ （応急措置後) | X8: 1
J9: 漏水 | K9: Ⅱ | L9: 73 | N9: Ⅲ | O9: 0 | Q9: Ⅳ | R9: 0
V10: ✕ | X10: 17
J11: 外力 | K11: Ⅱ | L11: 3 | N11: Ⅲ | O11: 0 | Q11: Ⅳ | R11: 0
B12: トンネル変状・異常箇所写真位置図
J29: 注１：本位置図は、見下げた状態で記載すること。 注２：覆工スパン番号は横断目地毎(矢板工法の場合は上半アーチの 横断目地毎)に設定すること。 | Q29: 注３：写真番号に付する変状番号は、各覆工スパンの変状に対して新たに確認された場合 は順次追加していくこと。 注４：横断目地の変状は前の覆工スパン番号で計上すること。 注５：１枚に収まらない場合は、複数枚に分けて作成すること。
C30: ※1 トンネル本体工の変状数は、材質劣化、漏水に起因するものは変状単位で、外力に起因するものはスパン単位で計上すること。
C31: ※2 トンネル本体工の変状に対しては、措置の必要性（Ⅱ～Ⅳ）について表記すること。また、点検前に実施された措置によりⅠと判定された箇所についても記載すること。
C32: ※3 附属物等の取付状態の○欄については、応急措置前に判定区分×とした箇所のうち応急措置により○判定とした箇所の数を記入すること。
C33: ※4 附属物等の異常番号は、本体工と番号が重複しないよう101番以降とする等の配慮を行い、分かりやすく記録すること。

Sheet 様式B (5)
B2: ■定期点検記録様式 トンネル変状・異常箇所写真位置図 【様式B】 | N2: 定期点検年月日 | P2: 45890 | S2: 施設ID | V2: 33.97056,130.94306
B3: フリガナ | C3: ='様式A-1'!D3 -> ムクノトンネル クダリ | G3: 路線名 | H3: ='様式A-1'!J3 -> 山口県道57号下関港線（下り） | K3: 管理者名 | L3: ='様式A-1'!R3 -> 山口県 下関土木建築事務所 | Q3: 定期点検実施者 | S3: アジア航測株式会社 | V3: 起点 | W3: 緯度 | X3: 33.97056
B4: 名 称 | C4: ='様式A-1'!D4 -> 椋野トンネル（下り） | S4: 飯田 琢巳 | W4: 経度 | X4: 130.94306
B5: 所在地 | C5: 自 | D5: ='様式A-1'!E5 -> 山口県下関市椋野町 | G5: トンネル工法 | I5: 矢板工法 | L5: トンネル延長 | N5: L= | O5: ='様式A-1'!Z5 -> 385 | P5: ｍ | Q5: 自専道 or 一般道 | R5: 一般道 | S5: 代替路の有無 | U5: 有 | V5: 終点 | W5: 緯度 | X5: 33.97323
C6: 至 | D6: ='様式A-1'!E6 -> 山口県下関市椋野町 | G6: 建設年度 | I6: ='様式A-1'!K7 -> 1973年 | L6: 幅員 | N6: L= | O6: ='様式A-1'!E15 -> 9.25 | P6: ｍ | S6: 緊急輸送道路 | W6: 経度 | X6: 130.94598
B7: トンネル毎 の健全性の 診断の区分 | D7: Ⅱ
G8: 変状・異常 箇所数合計 | I8: トンネル本体工 | J8: 材質劣化 | K8: Ⅱ | L8: 54 | N8: Ⅲ | O8: 0 | Q8: Ⅳ | R8: 0 | T8: 附属物等 の取付状態 | V8: ◯ （応急措置後) | X8: 1
J9: 漏水 | K9: Ⅱ | L9: 73 | N9: Ⅲ | O9: 0 | Q9: Ⅳ | R9: 0
V10: ✕ | X10: 17
J11: 外力 | K11: Ⅱ | L11: 3 | N11: Ⅲ | O11: 0 | Q11: Ⅳ | R11: 0
B12: トンネル変状・異常箇所写真位置図
J29: 注１：本位置図は、見下げた状態で記載すること。 注２：覆工スパン番号は横断目地毎(矢板工法の場合は上半アーチの 横断目地毎)に設定すること。 | Q29: 注３：写真番号に付する変状番号は、各覆工スパンの変状に対して新たに確認された場合 は順次追加していくこと。 注４：横断目地の変状は前の覆工スパン番号で計上すること。 注５：１枚に収まらない場合は、複数枚に分けて作成すること。
C30: ※1 トンネル本体工の変状数は、材質劣化、漏水に起因するものは変状単位で、外力に起因するものはスパン単位で計上すること。
C31: ※2 トンネル本体工の変状に対しては、措置の必要性（Ⅱ～Ⅳ）について表記すること。また、点検前に実施された措置によりⅠと判定された箇所についても記載すること。
C32: ※3 附属物等の取付状態の○欄については、応急措置前に判定区分×とした箇所のうち応急措置により○判定とした箇所の数を記入すること。
C33: ※4 附属物等の異常番号は、本体工と番号が重複しないよう101番以降とする等の配慮を行い、分かりやすく記録すること。

Sheet 様式C-1-1
B2: ■定期点検記録様式 全スパン定期点検結果総括表（トンネル本体工） 【様式C-1-1】
B3: フリガナ | F3: ='様式A-1'!D3 -> ムクノトンネル クダリ | I3: 路線名 | K3: ='様式A-1'!J3 -> 山口県道57号下関港線（下り） | O3: 定期点検実施者 | P3: ='様式B (1)'!$S$3 -> アジア航測株式会社 | T3: 定期点検年月日 | X3: ='様式B (1)'!$P$2 -> 45890
B4: 名 称 | F4: ='様式A-1'!D4 -> 椋野トンネル（下り） | I4: 管理者名 | K4: ='様式A-1'!R3 -> 山口県 下関土木建築事務所 | P4: ='様式B (1)'!$S$4 -> 飯田 琢巳
C5: 覆工 スパン 番号 | E5: 変状 番号 | F5: 距離 （m） | G5: 変状部位 | I5: 変 状 の 内 容 | O5: 前回定期点検時の状態 | P5: 今回定期点検結果 | T5: 措置履歴 | Y5: 対応方針 ・ 特記事項
O6: 44166
G7: 対象箇所 | H7: 部位区分 | I7: 変状区分 | J7: 変状種類 | M7: 変状の発生範囲の規模 | N7: 前回定期点検時の変状の発生範囲及び規模 | O7: 対策区分 | P7: 対策区分 | R7: 調査の 要否 | S7: 措置の 要否 | T7: 実施 | U7: 措置の実施状況
P8: 応急措置前 | Q8: 応急措置後
B9: 定期点検結果 | C9: PS | E9: 1 | F9: 0 | G9: 坑門 | H9: 面壁・妻壁等 | I9: 材質劣化 | J9: うき・はく離 | M9: 1.16 | N9: 0.0675 | O9: Ⅱa | P9: － | Q9: Ⅱa | R9: 否 | S9: 要対策 | T9: 未 | U9: ー | Y9: はく落防止工
C10: S1 | E10: 1 | F10: 2.5 | G10: 覆工 | H10: アーチ（左側） | I10: 材質劣化 | J10: 圧ざ、ひび割れ | M10: 0.95 | N10: 1.07 | O10: Ⅱb | P10: － | Q10: Ⅱb | R10: 否 | S10: 要監視 | T10: 未 | U10: ー | Y10: 継続監視
C11: S1 | E11: 2 | F11: 4 | G11: 覆工 | H11: アーチ（右側） | I11: 材質劣化 | J11: 圧ざ、ひび割れ | M11: 0.65 | N11: 0.87 | O11: Ⅱb | P11: － | Q11: Ⅱb | R11: 否 | S11: 要監視 | T11: 未 | U11: ー | Y11: 継続監視
C12: S1 | E12: 3 | F12: 4.3 | G12: 覆工 | H12: アーチ（右側） | I12: 漏水 | J12: 漏水 | M12: 4.45 | N12: 4.005 | O12: Ⅱb | P12: － | Q12: Ⅱb | R12: 否 | S12: 要監視 | T12: 未 | U12: ー | Y12: 継続監視
C13: S1 | E13: 4 | F13: 11.5 | G13: 覆工 | H13: 横断目地（右側） | I13: 材質劣化 | J13: その他 | M13: - | N13: - | O13: Ⅱb | P13: － | Q13: Ⅰ | R13: 否 | S13: 否 | T13: 未 | U13: ー | Y13: （補修済）
C14: S2 | E14: 1 | F14: 12.1 | G14: 覆工 | H14: アーチ（左側） | I14: 材質劣化 | J14: 圧ざ、ひび割れ | M14: 0.4 | N14: 0.4 | O14: Ⅱb | P14: － | Q14: Ⅱb | R14: 否 | S14: 要監視 | T14: 未 | U14: ー | Y14: 継続監視
C15: S3 | E15: 1 | F15: 22.7 | G15: 覆工 | H15: アーチ（右側） | I15: 材質劣化 | J15: その他 | M15: 0.0225 | N15: 0.0225 | O15: Ⅱb | P15: － | Q15: Ⅱb | R15: 否 | S15: 要監視 | T15: 未 | U15: ー | Y15: 継続監視
C16: S3 | E16: 2 | F16: 25.7 | G16: 覆工 | H16: アーチ（右側） | I16: 漏水 | J16: 漏水 | M16: 3.84 | N16: 7.38 | O16: Ⅱb | P16: － | Q16: Ⅱb | R16: 否 | S16: 要監視 | T16: 未 | U16: ー | Y16: 継続監視
C17: S3 | E17: 3 | F17: 29.5 | G17: 覆工 | H17: 横断目地（左側） | I17: 材質劣化 | J17: その他 | M17: - | N17: - | O17: Ⅱb | P17: － | Q17: Ⅰ | R17: 否 | S17: 否 | T17: 未 | U17: ー | Y17: （補修済）
C18: S4 | E18: 1 | F18: 30.5 | G18: 覆工 | H18: アーチ（左側） | I18: 材質劣化 | J18: 圧ざ、ひび割れ | M18: 0.25 | N18: 0.19 | O18: Ⅱb | P18: － | Q18: Ⅱb | R18: 否 | S18: 要監視 | T18: 未 | U18: ー | Y18: 継続監視
C19: S5 | E19: 1 | F19: 38.5 | G19: 覆工 | H19: アーチ（全周） | I19: 材質劣化 | J19: その他 | M19: - | N19: - | O19: Ⅱb | P19: － | Q19: Ⅰ | R19: 否 | S19: 否 | T19: 未 | U19: ー | Y19: （補修済）
C20: S6 | E20: 1 | F20: 43.6 | G20: 覆工 | H20: アーチ（右側） | I20: 材質劣化 | J20: うき・はく離 | M20: 0.0225 | N20: 0.04 | O20: Ⅱa | P20: － | Q20: Ⅱa | R20: 否 | S20: 要対策 | T20: 未 | U20: ー | Y20: はく落防止工
C21: S6 | E21: 2 | F21: 38.9 | G21: 覆工 | H21: アーチ（右側） | I21: 材質劣化 | J21: 圧ざ、ひび割れ | M21: 0.79 | N21: 0.63 | O21: Ⅱb | P21: － | Q21: Ⅱb | R21: 否 | S21: 要監視 | T21: 未 | U21: ー | Y21: 継続監視
C22: S6 | E22: 3 | F22: 44.4 | G22: 覆工 | H22: アーチ（右側） | I22: 材質劣化 | J22: うき・はく離 | M22: 0.02 | N22: 0.02 | O22: Ⅱa | P22: － | Q22: Ⅱa | R22: 否 | S22: 要対策 | T22: 未 | U22: ー | Y22: はく落防止工
C23: S7 | E23: 1 | F23: 52.7 | G23: 覆工 | H23: アーチ（左側） | I23: 漏水 | J23: 漏水 | M23: 3.35 | N23: 5.39 | O23: Ⅱb | P23: － | Q23: Ⅱb | R23: 否 | S23: 要監視 | T23: 未 | U23: ー | Y23: 継続監視
C24: S7 | E24: 2 | F24: 51.1 | G24: 覆工 | H24: アーチ（右側） | I24: 材質劣化 | J24: 圧ざ、ひび割れ | M24: 0.98 | N24: 0.85 | O24: Ⅱb | P24: － | Q24: Ⅱb | R24: 否 | S24: 要監視 | T24: 未 | U24: ー | Y24: 継続監視
C25: S7 | E25: 3 | F25: 47.5 | G25: 覆工 | H25: 横断目地（左側） | I25: 外力 | J25: 変形・移動 | M25: 18mm | N25: （新規確認） | O25: － | P25: － | Q25: Ⅱb | R25: 否 | S25: 要監視 | T25: 未 | U25: ー | Y25: 監視
C26: S8 | E26: 1 | F26: 56.4 | G26: 覆工 | H26: アーチ（天端） | I26: 材質劣化 | J26: うき・はく離 | M26: 0.0075 | N26: 0.0225 | O26: Ⅱa | P26: － | Q26: Ⅱa | R26: 否 | S26: 要対策 | T26: 未 | U26: ー | Y26: はく落防止工
C27: S8 | E27: 2 | F27: 56.4 | G27: 覆工 | H27: 横断目地（右側） | I27: 材質劣化 | J27: その他 | M27: - | N27: - | O27: Ⅱb | P27: － | Q27: Ⅰ | R27: 否 | S27: 否 | T27: 未 | U27: ー | Y27: （補修済）
C28: S8 | E28: 3 | F28: 60.3 | G28: 覆工 | H28: アーチ（天端） | I28: 材質劣化 | J28: その他 | M28: 7.74 | N28: 5.7 | O28: Ⅱb | P28: － | Q28: Ⅱb | R28: 否 | S28: 要監視 | T28: 未 | U28: ー | Y28: 継続監視
C29: S9 | E29: 1 | F29: 65.4 | G29: 覆工 | H29: アーチ（右側） | I29: 材質劣化 | J29: 圧ざ、ひび割れ | M29: 0.97 | N29: 0.86 | O29: Ⅱb | P29: － | Q29: Ⅱb | R29: 否 | S29: 要監視 | T29: 未 | U29: ー | Y29: 継続監視
C30: S9 | E30: 2 | F30: 72.9 | G30: 覆工 | H30: アーチ（天端） | I30: 材質劣化 | J30: その他 | M30: 2.97 | N30: 1.33 | O30: Ⅱb | P30: － | Q30: Ⅱb | R30: 否 | S30: 要監視 | T30: 未 | U30: ー | Y30: 継続監視
C31: S9 | E31: 3 | F31: 74.2 | G31: 覆工 | H31: アーチ（右側） | I31: 漏水 | J31: 漏水 | M31: 3.45 | N31: 2.92 | O31: Ⅱb | P31: － | Q31: Ⅱb | R31: 否 | S31: 要監視 | T31: 未 | U31: ー | Y31: 継続監視
C32: S9 | E32: 4 | F32: 67.8 | G32: 覆工 | H32: アーチ（天端） | I32: 材質劣化 | J32: その他 | M32: 9.12 | N32: （新規確認） | O32: － | P32: － | Q32: Ⅱb | R32: 否 | S32: 要監視 | T32: 未 | U32: ー | Y32: 監視
C33: S10 | E33: 1 | F33: 74.2 | G33: 覆工 | H33: アーチ（右側） | I33: 材質劣化 | J33: 圧ざ、ひび割れ | M33: 0.45 | N33: 0.59 | O33: Ⅱb | P33: － | Q33: Ⅱb | R33: 否 | S33: 要監視 | T33: 未 | U33: ー | Y33: 継続監視
C34: S10 | E34: 2 | F34: 78.1 | G34: 覆工 | H34: アーチ（右側） | I34: 漏水 | J34: 漏水 | M34: 3.3 | N34: 9.36 | O34: Ⅱb | P34: － | Q34: Ⅱb | R34: 否 | S34: 要監視 | T34: 未 | U34: ー | Y34: 継続監視
C35: S10 | E35: 3 | F35: 82.9 | G35: 覆工 | H35: アーチ（左側） | I35: 材質劣化 | J35: うき・はく離 | M35: 0.05 | N35: （新規確認） | O35: － | P35: － | Q35: Ⅱb | R35: 否 | S35: 要監視 | T35: 未 | U35: ー | Y35: 監視
C36: S11 | E36: 1 | F36: 85.3 | G36: 覆工 | H36: アーチ（右側） | I36: 漏水 | J36: 漏水 | M36: 3.3 | N36: 3.9 | O36: Ⅱb | P36: － | Q36: Ⅱb | R36: 否 | S36: 要監視 | T36: 未 | U36: ー | Y36: 継続監視
C37: S11 | E37: 2 | F37: 88.4 | G37: 覆工 | H37: アーチ（右側） | I37: 漏水 | J37: 漏水 | M37: 3.2 | N37: 6.24 | O37: Ⅱb | P37: － | Q37: Ⅱb | R37: 否 | S37: 要監視 | T37: 未 | U37: ー | Y37: 継続監視
C38: S12 | E38: 1 | F38: 92.3 | G38: 覆工 | H38: アーチ（天端） | I38: 材質劣化 | J38: その他 | M38: 6.46 | N38: 1.98 | O38: Ⅱb | P38: － | Q38: Ⅱb | R38: 否 | S38: 要監視 | T38: 未 | U38: ー | Y38: 継続監視
C39: S12 | E39: 2 | F39: 97.7 | G39: 覆工 | H39: アーチ（右側） | I39: 材質劣化 | J39: 圧ざ、ひび割れ | M39: 0.34 | N39: 0.35 | O39: Ⅱb | P39: － | Q39: Ⅱb | R39: 否 | S39: 要監視 | T39: 未 | U39: ー | Y39: 継続監視
C40: S13 | E40: 1 | F40: 101.1 | G40: 覆工 | H40: アーチ（左側） | I40: 材質劣化 | J40: うき・はく離 | M40: 0.06 | N40: 0.06 | O40: Ⅱa | P40: － | Q40: Ⅱa | R40: 否 | S40: 要対策 | T40: 未 | U40: ー | Y40: はく落防止工
C41: S13 | E41: 2 | F41: 104.3 | G41: 覆工 | H41: アーチ（右側） | I41: 漏水 | J41: 漏水 | M41: 2.7 | N41: 3.78 | O41: Ⅱb | P41: － | Q41: Ⅱb | R41: 否 | S41: 要監視 | T41: 未 | U41: ー | Y41: 継続監視
...

Sheet 様式C-1-1 (2)
B2: ■定期点検記録様式 全スパン定期点検結果総括表（トンネル本体工） 【様式C-1-1】
B3: フリガナ | F3: ='様式A-1'!D3 -> ムクノトンネル クダリ | I3: 路線名 | K3: ='様式A-1'!J3 -> 山口県道57号下関港線（下り） | O3: 定期点検実施者 | P3: ='様式B (1)'!$S$3 -> アジア航測株式会社 | T3: 定期点検年月日 | X3: ='様式B (1)'!$P$2 -> 45890
B4: 名 称 | F4: ='様式A-1'!D4 -> 椋野トンネル（下り） | I4: 管理者名 | K4: ='様式A-1'!R3 -> 山口県 下関土木建築事務所 | P4: ='様式B (1)'!$S$4 -> 飯田 琢巳
C5: 覆工 スパン 番号 | E5: 変状 番号 | F5: 距離 （m） | G5: 変状部位 | I5: 変 状 の 内 容 | O5: 前回定期点検時の状態 | P5: 今回定期点検結果 | T5: 措置履歴 | Y5: 対応方針 ・ 特記事項
O6: 44166
G7: 対象箇所 | H7: 部位区分 | I7: 変状区分 | J7: 変状種類 | M7: 変状の発生範囲の規模 | N7: 前回定期点検時の変状の発生範囲及び規模 | O7: 対策区分 | P7: 対策区分 | R7: 調査の 要否 | S7: 措置の 要否 | T7: 実施 | U7: 措置の実施状況
P8: 応急措置前 | Q8: 応急措置後
B9: 定期点検結果 | C9: S13 | E9: 3 | F9: 106 | G9: 覆工 | H9: アーチ（右側） | I9: 材質劣化 | J9: 圧ざ、ひび割れ | M9: 0.41 | N9: 0.47 | O9: Ⅱb | P9: － | Q9: Ⅱb | R9: 否 | S9: 要監視 | T9: 未 | U9: ー | Y9: 継続監視
C10: S13 | E10: 4 | F10: 105.3 | G10: 覆工 | H10: アーチ（天端） | I10: 材質劣化 | J10: その他 | M10: 1.98 | N10: 1.98 | O10: Ⅱb | P10: － | Q10: Ⅱb | R10: 否 | S10: 要監視 | T10: 未 | U10: ー | Y10: 継続監視
C11: S14 | E11: 1 | F11: 113.2 | G11: 覆工 | H11: アーチ（右側） | I11: 材質劣化 | J11: 圧ざ、ひび割れ | M11: 0.6 | N11: 0.69 | O11: Ⅱb | P11: － | Q11: Ⅱb | R11: 否 | S11: 要監視 | T11: 未 | U11: ー | Y11: 継続監視
C12: S14 | E12: 2 | F12: 118 | G12: 覆工 | H12: アーチ（左側） | I12: 漏水 | J12: 漏水 | M12: 1.75 | N12: 4.84 | O12: Ⅱb | P12: － | Q12: Ⅱb | R12: 否 | S12: 要監視 | T12: 未 | U12: ー | Y12: 継続監視
C13: S14 | E13: 3 | F13: 118 | G13: 覆工 | H13: アーチ（左側） | I13: 漏水 | J13: 漏水 | M13: 3.35 | N13: 9.13 | O13: Ⅱb | P13: － | Q13: Ⅱb | R13: 否 | S13: 要監視 | T13: 未 | U13: ー | Y13: 継続監視
C14: S14 | E14: 4 | F14: 118 | G14: 覆工 | H14: アーチ（右側） | I14: 漏水 | J14: 漏水 | M14: 2.75 | N14: 12.16 | O14: Ⅱb | P14: － | Q14: Ⅱb | R14: 否 | S14: 要監視 | T14: 未 | U14: ー | Y14: 継続監視
C15: S15 | E15: 1 | F15: 118 | G15: 覆工 | H15: アーチ（天端） | I15: 材質劣化 | J15: うき・はく離 | M15: 0.0225 | N15: 0.0225 | O15: Ⅱa | P15: － | Q15: Ⅰ | R15: 否 | S15: 否 | T15: 未 | U15: ー | Y15: 判定見直し
C16: S15 | E16: 2 | F16: 122.6 | G16: 覆工 | H16: アーチ（左側） | I16: 漏水 | J16: 漏水 | M16: 1.45 | N16: 1.08 | O16: Ⅱb | P16: － | Q16: Ⅱb | R16: 否 | S16: 要監視 | T16: 未 | U16: ー | Y16: 継続監視
C17: S15 | E17: 3 | F17: 127.3 | G17: 覆工 | H17: 横断目地（左側） | I17: 漏水 | J17: 漏水 | M17: 3.1 | N17: 4.97 | O17: Ⅱb | P17: － | Q17: Ⅱb | R17: 否 | S17: 要監視 | T17: 未 | U17: ー | Y17: 継続監視
C18: S15 | E18: 4 | F18: 127.3 | G18: 覆工 | H18: アーチ（右側） | I18: 漏水 | J18: 漏水 | M18: 6.08 | N18: 6.24 | O18: Ⅱb | P18: － | Q18: Ⅱb | R18: 否 | S18: 要監視 | T18: 未 | U18: ー | Y18: 継続監視
C19: S15 | E19: 5 | F19: 118 | G19: 路面 | H19: 車道 | J19: その他 | M19: 1.2 | N19: 1.2 | O19: Ⅱb | P19: － | R19: 否 | S19: 否 | U19: ー
C20: S16 | E20: 1 | F20: 134.1 | G20: 覆工 | H20: アーチ（左側） | I20: 漏水 | J20: 漏水 | M20: 1.2 | N20: 1.02 | O20: Ⅱb | P20: － | Q20: Ⅱb | R20: 否 | S20: 要監視 | T20: 未 | U20: ー | Y20: 継続監視
C21: S16 | E21: 2 | F21: 136 | G21: 覆工 | H21: アーチ（右側） | I21: 漏水 | J21: 漏水 | M21: ー | N21: 5.18 | O21: Ⅱb | P21: － | Q21: Ⅰ | R21: 否 | S21: 否 | T21: 未 | U21: ー | Y21: 判定見直し
C22: S16 | E22: 3 | F22: 127.3 | G22: 路面 | H22: 車道 | J22: その他 | M22: ー | N22: 1.2 | O22: Ⅱb | P22: － | R22: 否 | S22: 否 | U22: ー
C23: S17 | E23: 1 | F23: 136.4 | G23: 覆工 | H23: アーチ（右側） | I23: 漏水 | J23: 漏水 | M23: 3.4 | N23: 3.75 | O23: Ⅱb | P23: － | Q23: Ⅱb | R23: 否 | S23: 要監視 | T23: 未 | U23: ー | Y23: 継続監視
C24: S17 | E24: 2 | F24: 137 | G24: 覆工 | H24: アーチ（右側） | I24: 材質劣化 | J24: 圧ざ、ひび割れ | M24: 0.87 | N24: 0.85 | O24: Ⅱb | P24: － | Q24: Ⅱb | R24: 否 | S24: 要監視 | T24: 未 | U24: ー | Y24: 継続監視
C25: S17 | E25: 3 | F25: 145 | G25: 覆工 | H25: 横断目地（左側） | I25: 漏水 | J25: 漏水 | M25: 2.25 | N25: 5.18 | O25: Ⅱb | P25: － | Q25: Ⅱb | R25: 否 | S25: 要監視 | T25: 未 | U25: ー | Y25: 継続監視
C26: S17 | E26: 4 | F26: 138 | G26: 覆工 | H26: アーチ（右側） | I26: 漏水 | J26: 漏水 | M26: 3.4 | N26: （新規確認） | O26: － | P26: － | Q26: Ⅱb | R26: 否 | S26: 要監視 | T26: 未 | U26: ー | Y26: 監視
C27: S18 | E27: 1 | F27: 145.3 | G27: 覆工 | H27: アーチ（右側） | I27: 漏水 | J27: 漏水 | M27: 4.1 | N27: 11 | O27: Ⅱb | P27: － | Q27: Ⅱb | R27: 否 | S27: 要監視 | T27: 未 | U27: ー | Y27: 継続監視
C28: S18 | E28: 2 | F28: 150.3 | G28: 覆工 | H28: アーチ（左側） | I28: 材質劣化 | J28: うき・はく離 | M28: 0.09 | N28: 0.25 | O28: Ⅱa | P28: － | Q28: Ⅱa | R28: 否 | S28: 要対策 | T28: 未 | U28: ー | Y28: はく落防止工
C29: S18 | E29: 3 | F29: 148 | G29: 覆工 | H29: アーチ（左側） | I29: 材質劣化 | J29: 圧ざ、ひび割れ | M29: 0.51 | N29: 0.55 | O29: Ⅱb | P29: － | Q29: Ⅱb | R29: 否 | S29: 要監視 | T29: 未 | U29: ー | Y29: 継続監視
C30: S18 | E30: 4 | F30: 154.2 | G30: 覆工 | H30: 横断目地（右側） | I30: 材質劣化 | J30: うき・はく離 | M30: 0.16 | N30: 0.16 | O30: Ⅱa | P30: － | Q30: Ⅱa | R30: 否 | S30: 要対策 | T30: 未 | U30: ー | Y30: はく落防止工
C31: S18 | E31: 5 | F31: 145.8 | G31: 路面 | H31: 歩道 | J31: その他 | M31: 20mm | N31: 20mm | O31: Ⅱb | P31: － | R31: 否 | S31: 否 | U31: ー
C32: S18 | E32: 6 | F32: 145 | G32: 路面 | H32: 監査歩路 | J32: その他 | M32: 0.15 | N32: 0.15 | O32: Ⅱb | P32: － | R32: 否 | S32: 否 | U32: ー
C33: S18 | E33: 7 | F33: 145 | G33: 路面 | H33: 車道 | J33: その他 | M33: 1.84 | N33: 1.84 | O33: Ⅱb | P33: － | R33: 否 | S33: 否 | U33: ー
C34: S19 | E34: 1 | F34: 154.2 | G34: 覆工 | H34: 横断目地（左側） | I34: 漏水 | J34: 漏水 | M34: 1.2 | N34: 2.6 | O34: Ⅱb | P34: － | Q34: Ⅱb | R34: 否 | S34: 要監視 | T34: 未 | U34: ー | Y34: 継続監視
C35: S19 | E35: 2 | F35: 155.9 | G35: 路面 | H35: 歩道 | J35: その他 | M35: 20mm | N35: 20mm | O35: Ⅱb | P35: － | R35: 否 | S35: 否 | U35: ー
C36: S20 | E36: 1 | F36: 162.9 | G36: 覆工 | H36: アーチ（右側） | I36: 材質劣化 | J36: 圧ざ、ひび割れ | M36: 0.94 | N36: 0.96 | O36: Ⅱb | P36: － | Q36: Ⅱb | R36: 否 | S36: 要監視 | T36: 未 | U36: ー | Y36: 継続監視
C37: S20 | E37: 2 | F37: 168.1 | G37: 覆工 | H37: アーチ（右側） | I37: 漏水 | J37: 漏水 | M37: 3.15 | N37: 6.32 | O37: Ⅱb | P37: － | Q37: Ⅱb | R37: 否 | S37: 要監視 | T37: 未 | U37: ー | Y37: 継続監視
C38: S20 | E38: 3 | F38: 169 | G38: 覆工 | H38: アーチ（右側） | I38: 漏水 | J38: 漏水 | M38: 2.1 | N38: 1.56 | O38: Ⅱb | P38: － | Q38: Ⅱb | R38: 否 | S38: 要監視 | T38: 未 | U38: ー | Y38: 継続監視
C39: S20 | E39: 4 | F39: 172 | G39: 覆工 | H39: 横断目地（右側） | I39: 漏水 | J39: 漏水 | M39: 3.3 | N39: 7.83 | O39: Ⅱb | P39: － | Q39: Ⅱb | R39: 否 | S39: 要監視 | T39: 未 | U39: ー | Y39: 継続監視
C40: S20 | E40: 5 | F40: 163.8 | G40: 路面 | H40: 歩道 | J40: その他 | M40: 20mm | N40: 20mm | O40: Ⅱb | P40: － | R40: 否 | S40: 否 | U40: ー
C41: S21 | E41: 1 | F41: 175.7 | G41: 覆工 | H41: アーチ（右側） | I41: 漏水 | J41: 漏水 | M41: 1.95 | N41: 2.88 | O41: Ⅱb | P41: － | Q41: Ⅱb | R41: 否 | S41: 要監視 | T41: 未 | U41: ー | Y41: 継続監視
...

Sheet 様式C-1-1 (3)
B2: ■定期点検記録様式 全スパン定期点検結果総括表（トンネル本体工） 【様式C-1-1】
B3: フリガナ | F3: ='様式A-1'!D3 -> ムクノトンネル クダリ | I3: 路線名 | K3: ='様式A-1'!J3 -> 山口県道57号下関港線（下り） | O3: 定期点検実施者 | P3: ='様式B (1)'!$S$3 -> アジア航測株式会社 | T3: 定期点検年月日 | X3: ='様式B (1)'!$P$2 -> 45890
B4: 名 称 | F4: ='様式A-1'!D4 -> 椋野トンネル（下り） | I4: 管理者名 | K4: ='様式A-1'!R3 -> 山口県 下関土木建築事務所 | P4: ='様式B (1)'!$S$4 -> 飯田 琢巳
C5: 覆工 スパン 番号 | E5: 変状 番号 | F5: 距離 （m） | G5: 変状部位 | I5: 変 状 の 内 容 | O5: 前回定期点検時の状態 | P5: 今回定期点検結果 | T5: 措置履歴 | Y5: 対応方針 ・ 特記事項
O6: 44166
G7: 対象箇所 | H7: 部位区分 | I7: 変状区分 | J7: 変状種類 | M7: 変状の発生範囲の規模 | N7: 前回定期点検時の変状の発生範囲及び規模 | O7: 対策区分 | P7: 対策区分 | R7: 調査の 要否 | S7: 措置の 要否 | T7: 実施 | U7: 措置の実施状況
P8: 応急措置前 | Q8: 応急措置後
B9: 定期点検結果 | C9: S21 | E9: 2 | F9: 180.9 | G9: 覆工 | H9: アーチ（右側） | I9: 漏水 | J9: 漏水 | M9: 2.5 | N9: 9.15 | O9: Ⅱb | P9: － | Q9: Ⅱb | R9: 否 | S9: 要監視 | T9: 未 | U9: ー | Y9: 継続監視
C10: S21 | E10: 3 | F10: 178.4 | G10: 路面 | H10: 車道 | J10: その他 | M10: 0.5 | N10: 0.5 | O10: Ⅱb | P10: － | R10: 否 | S10: 否 | U10: ー
C11: S22 | E11: 1 | F11: 180.9 | G11: 覆工 | H11: 横断目地（左側） | I11: 材質劣化 | J11: うき・はく離 | M11: 0.15 | N11: 0.15 | O11: Ⅱa | P11: － | Q11: Ⅱa | R11: 否 | S11: 要監視 | T11: 未 | U11: ー | Y11: はく落防止工
C12: S22 | E12: 2 | F12: 180.9 | G12: 覆工 | H12: アーチ（左側） | I12: 漏水 | J12: 漏水 | M12: 2.17 | N12: 2.45 | O12: Ⅱb | P12: － | Q12: Ⅱb | R12: 否 | S12: 要監視 | T12: 未 | U12: ー | Y12: 継続監視
C13: S22 | E13: 3 | F13: 186 | G13: 覆工 | H13: アーチ（左側） | I13: 漏水 | J13: 漏水 | M13: 3.25 | N13: 3.8 | O13: Ⅱb | P13: － | Q13: Ⅱb | R13: 否 | S13: 要監視 | T13: 未 | U13: ー | Y13: 継続監視
C14: S22 | E14: 4 | F14: 189.1 | G14: 覆工 | H14: アーチ（左側） | I14: 漏水 | J14: 漏水 | M14: 1.8 | N14: 2.2 | O14: Ⅱb | P14: － | Q14: Ⅱb | R14: 否 | S14: 要監視 | T14: 未 | U14: ー | Y14: 継続監視
C15: S22 | E15: 5 | F15: 189.8 | G15: 覆工 | H15: アーチ（天端） | I15: 材質劣化 | J15: うき・はく離 | M15: 0.14 | N15: 0.14 | O15: Ⅱa | P15: － | Q15: Ⅱa | R15: 否 | S15: 要対策 | T15: 未 | U15: ー | Y15: はく落防止工
C16: S22 | E16: 6 | F16: 189.8 | G16: 覆工 | H16: アーチ（右側） | I16: 漏水 | J16: 漏水 | M16: 2.9 | N16: 2.16 | O16: Ⅱb | P16: － | Q16: Ⅱb | R16: 否 | S16: 要監視 | T16: 未 | U16: ー | Y16: 継続監視
C17: S22 | E17: 7 | F17: 189.8 | G17: 覆工 | H17: 横断目地（右側） | I17: 漏水 | J17: 補修・補強材の破損 | M17: 0.15 | N17: （新規確認） | O17: － | P17: － | Q17: Ⅱb | R17: 否 | S17: 要監視 | T17: 未 | U17: ー | Y17: 監視
C18: S23 | E18: 1 | F18: 193.2 | G18: 覆工 | H18: アーチ（右側） | I18: 漏水 | J18: 漏水 | M18: 2.95 | N18: 10.88 | O18: Ⅱb | P18: － | Q18: Ⅱb | R18: 否 | S18: 要監視 | T18: 未 | U18: ー | Y18: 継続監視
C19: S23 | E19: 2 | F19: 194.4 | G19: 覆工 | H19: アーチ（右側） | I19: 漏水 | J19: 漏水 | M19: 8.2 | N19: 8.9 | O19: Ⅱb | P19: － | Q19: Ⅱb | R19: 否 | S19: 要監視 | T19: 未 | U19: ー | Y19: 継続監視
C20: S23 | E20: 3 | F20: 198.8 | G20: 覆工 | H20: 横断目地（右側） | I20: 漏水 | J20: 漏水 | M20: 3.2 | N20: 9.66 | O20: Ⅱb | P20: － | Q20: Ⅱb | R20: 否 | S20: 要監視 | T20: 未 | U20: ー | Y20: 継続監視
C21: S23 | E21: 4 | F21: 198.4 | G21: 路面 | H21: 歩道 | J21: その他 | M21: － | N21: 20mm | O21: Ⅱb | P21: － | R21: 否 | S21: 否 | U21: ー
C22: S23 | E22: 5 | F22: 194.7 | G22: 路面 | H22: 車道 | J22: その他 | M22: 0.96 | N22: 0.96 | O22: Ⅱb | P22: － | R22: 否 | S22: 否 | U22: ー
C23: S24 | E23: 1 | F23: 202.1 | G23: 覆工 | H23: アーチ（右側） | I23: 漏水 | J23: 漏水 | M23: 1.45 | N23: 5.98 | O23: Ⅱb | P23: － | Q23: Ⅱb | R23: 否 | S23: 要監視 | T23: 未 | U23: ー | Y23: 継続監視
C24: S24 | E24: 2 | F24: 204 | G24: 覆工 | H24: アーチ（右側） | I24: 漏水 | J24: 漏水 | M24: 2.35 | N24: 3.6 | O24: Ⅱb | P24: － | Q24: Ⅱb | R24: 否 | S24: 要監視 | T24: 未 | U24: ー | Y24: 継続監視
C25: S24 | E25: 3 | F25: 207.7 | G25: 覆工 | H25: アーチ（右側） | I25: 漏水 | J25: 漏水 | M25: 2.45 | N25: 4.76 | O25: Ⅱb | P25: － | Q25: Ⅱb | R25: 否 | S25: 要監視 | T25: 未 | U25: ー | Y25: 継続監視
C26: S25 | E26: 1 | F26: 207.7 | G26: 覆工 | H26: アーチ（左側） | I26: 漏水 | J26: 漏水 | M26: 1.4 | N26: 2.59 | O26: Ⅱb | P26: － | Q26: Ⅱb | R26: 否 | S26: 要監視 | T26: 未 | U26: ー | Y26: 継続監視
C27: S25 | E27: 2 | F27: 211.1 | G27: 覆工 | H27: アーチ（右側） | I27: 漏水 | J27: 漏水 | M27: 3.9 | N27: 2.64 | O27: Ⅱb | P27: － | Q27: Ⅱb | R27: 否 | S27: 要監視 | T27: 未 | U27: ー | Y27: 継続監視
C28: S25 | E28: 3 | F28: 211.7 | G28: 覆工 | H28: アーチ（左側） | I28: 材質劣化 | J28: 圧ざ、ひび割れ | M28: 0.42 | N28: 0.43 | O28: Ⅱb | P28: － | Q28: Ⅱb | R28: 否 | S28: 要監視 | T28: 未 | U28: ー | Y28: 継続監視
C29: S25 | E29: 4 | F29: 216.8 | G29: 覆工 | H29: 横断目地（天端） | I29: 材質劣化 | J29: うき・はく離 | M29: 0.01 | N29: 0.03 | O29: Ⅱa | P29: － | Q29: Ⅱa | R29: 否 | S29: 要対策 | T29: 未 | U29: ー | Y29: はく落防止工
C30: S25 | E30: 5 | F30: 216.8 | G30: 覆工 | H30: 横断目地（右側） | I30: 漏水 | J30: 漏水 | M30: 4.05 | N30: 5.16 | O30: Ⅱb | P30: － | Q30: Ⅱb | R30: 否 | S30: 要監視 | T30: 未 | U30: ー | Y30: 継続監視
C31: S26 | E31: 1 | F31: 216.8 | G31: 覆工 | H31: 横断目地（右側） | I31: 材質劣化 | J31: その他 | M31: 0.35 | N31: 0.35 | O31: Ⅱb | P31: － | Q31: Ⅱb | R31: 否 | S31: 要監視 | T31: 未 | U31: ー | Y31: 継続監視
C32: S26 | E32: 2 | F32: 217.1 | G32: 覆工 | H32: アーチ（左側） | I32: 漏水 | J32: 漏水 | M32: 3.7 | N32: 2.59 | O32: Ⅱb | P32: － | Q32: Ⅱb | R32: 否 | S32: 要監視 | T32: 未 | U32: ー | Y32: 継続監視
C33: S26 | E33: 3 | F33: 219.8 | G33: 覆工 | H33: アーチ（左側） | I33: 材質劣化 | J33: 圧ざ、ひび割れ | M33: 0.55 | N33: 0.42 | O33: Ⅱb | P33: － | Q33: Ⅱb | R33: 否 | S33: 要監視 | T33: 未 | U33: ー | Y33: 継続監視
C34: S26 | E34: 4 | F34: 222.5 | G34: 覆工 | H34: アーチ（右側） | I34: 漏水 | J34: 漏水 | M34: 1.55 | N34: 2.59 | O34: Ⅱb | P34: － | Q34: Ⅱb | R34: 否 | S34: 要監視 | T34: 未 | U34: ー | Y34: 継続監視
... C36: S26 | E36: 6 | F36: 225.9 | G36: 覆工 | H36: 横断目地（右側） | I36: 漏水 | J36: 漏水 | M36: 1.6 | N36: 2.59 | O36: Ⅱb | P36: － | Q36: Ⅱb | R36: 否 | S36: 要監視 | T36: 未 | U36: ー | Y36: 継続監視
C37: S26 | E37: 7 | F37: 220.4 | G37: 覆工 | H37: アーチ（左側） | I37: 漏水 | J37: 漏水 | M37: 1.3 | N37: （新規確認） | O37: － | P37: － | Q37: Ⅱb | R37: 否 | S37: 要監視 | T37: 未 | U37: ー | Y37: 監視
C38: S27 | E38: 1 | F38: 226.3 | G38: 覆工 | H38: アーチ（左側） | I38: 材質劣化 | J38: その他 | M38: 0.08 | N38: 0.06 | O38: Ⅱb | P38: － | Q38: Ⅱb | R38: 否 | S38: 要監視 | T38: 未 | U38: ー | Y38: 継続監視
C39: S27 | E39: 2 | F39: 225.9 | G39: 覆工 | H39: 横断目地（天端） | I39: 材質劣化 | J39: うき・はく離 | M39: 0.07 | N39: 0.08 | O39: Ⅱa | P39: － | Q39: Ⅱa | R39: 否 | S39: 要対策 | T39: 未 | U39: ー | Y39: はく落防止工
C40: S27 | E40: 3 | F40: 227.5 | G40: 覆工 | H40: アーチ（右側） | I40: 漏水 | J40: 漏水 | M40: 2.15 | N40: 10.95 | O40: Ⅱb | P40: － | Q40: Ⅱb | R40: 否 | S40: 要監視 | T40: 未 | U40: ー | Y40: 継続監視
C41: S27 | E41: 4 | F41: 231 | G41: 覆工 | H41: アーチ（右側） | I41: 漏水 | J41: 漏水 | M41: 2.05 | N41: 9.9 | O41: Ⅱb | P41: － | Q41: Ⅱb | R41: 否 | S41: 要監視 | T41: 未 | U41: ー | Y41: 継続監視
C42: ※ 対策区分（応急措置後）のⅡb～Ⅳについて記入すること。また、点検前に実施された措置によりⅠと判定された変状も記入すること。
...

Sheet 様式C-1-1 (4)
B2: ■定期点検記録様式 全スパン定期点検結果総括表（トンネル本体工） 【様式C-1-1】
B3: フリガナ | F3: ='様式A-1'!D3 -> ムクノトンネル クダリ | I3: 路線名 | K3: ='様式A-1'!J3 -> 山口県道57号下関港線（下り） | O3: 定期点検実施者 | P3: ='様式B (1)'!$S$3 -> アジア航測株式会社 | T3: 定期点検年月日 | X3: ='様式B (1)'!$P$2 -> 45890
B4: 名 称 | F4: ='様式A-1'!D4 -> 椋野トンネル（下り） | I4: 管理者名 | K4: ='様式A-1'!R3 -> 山口県 下関土木建築事務所 | P4: ='様式B (1)'!$S$4 -> 飯田 琢巳
C5: 覆工 スパン 番号 | E5: 変状 番号 | F5: 距離 （m） | G5: 変状部位 | I5: 変 状 の 内 容 | O5: 前回定期点検時の状態 | P5: 今回定期点検結果 | T5: 措置履歴 | Y5: 対応方針 ・ 特記事項
O6: 44166
G7: 対象箇所 | H7: 部位区分 | I7: 変状区分 | J7: 変状種類 | M7: 変状の発生範囲の規模 | N7: 前回定期点検時の変状の発生範囲及び規模 | O7: 対策区分 | P7: 対策区分 | R7: 調査の 要否 | S7: 措置の 要否 | T7: 実施 | U7: 措置の実施状況
P8: 応急措置前 | Q8: 応急措置後
B9: 定期点検結果 | C9: S27 | E9: 5 | F9: 234.5 | G9: 覆工 | H9: 横断目地（天端） | I9: 材質劣化 | J9: うき・はく離 | M9: 0.04 | N9: 0.04 | O9: Ⅱa | P9: － | Q9: Ⅱa | R9: 否 | S9: 要対策 | T9: 未 | U9: ー | Y9: はく落防止工
C10: S27 | E10: 6 | F10: 234.5 | G10: 覆工 | H10: 横断目地（右側） | I10: 材質劣化 | J10: うき・はく離 | M10: 0.04 | N10: 0.04 | O10: Ⅱa | P10: － | Q10: Ⅱa | R10: 否 | S10: 要対策 | T10: 未 | U10: ー | Y10: はく落防止工
C11: S28 | E11: 1 | F11: 243.3 | G11: 覆工 | H11: 横断目地（左側） | I11: 漏水 | J11: 漏水 | M11: 1.55 | N11: 4.64 | O11: Ⅱb | P11: － | Q11: Ⅱb | R11: 否 | S11: 要監視 | T11: 未 | U11: ー | Y11: 継続監視
C12: S28 | E12: 2 | F12: 243.3 | G12: 覆工 | H12: 横断目地（右側） | I12: 漏水 | J12: 漏水 | M12: 3.35 | N12: 14 | O12: Ⅱb | P12: － | Q12: Ⅱb | R12: 否 | S12: 要監視 | T12: 未 | U12: ー | Y12: 継続監視
C13: S29 | E13: 1 | F13: 243.3 | G13: 覆工 | H13: 横断目地（天端） | I13: 材質劣化 | J13: その他 | M13: 11.47 | N13: 11.47 | O13: Ⅱb | P13: － | Q13: Ⅱb | R13: 否 | S13: 要監視 | T13: 未 | U13: ー | Y13: 継続監視
C14: S29 | E14: 2 | F14: 252.5 | G14: 覆工 | H14: 横断目地（右側） | I14: 漏水 | J14: 補修・補強材の破損 | M14: 0.09 | N14: （新規確認） | O14: － | P14: － | Q14: Ⅱb | R14: 否 | S14: 要監視 | T14: 未 | U14: ー | Y14: 継続監視
C15: S30 | E15: 1 | F15: 252.5 | G15: 覆工 | H15: 横断目地（天端） | I15: 材質劣化 | J15: その他 | M15: 5.64 | N15: 5.64 | O15: Ⅱb | P15: － | Q15: Ⅱb | R15: 否 | S15: 要監視 | T15: 未 | U15: ー | Y15: 継続監視
C16: S30 | E16: 2 | F16: 257.9 | G16: 覆工 | H16: アーチ（右側） | I16: 漏水 | J16: 漏水 | M16: 3 | N16: 6.12 | O16: Ⅱb | P16: － | Q16: Ⅱb | R16: 否 | S16: 要監視 | T16: 未 | U16: ー | Y16: 継続監視
C17: S30 | E17: 3 | F17: 261.5 | G17: 覆工 | H17: アーチ（左側） | I17: 漏水 | J17: 漏水 | M17: 1.9 | N17: （新規確認） | O17: － | P17: － | Q17: Ⅱb | R17: 否 | S17: 要監視 | T17: 未 | U17: ー | Y17: 監視
C18: S31 | E18: 1 | F18: 261.5 | G18: 覆工 | H18: 横断目地（左側） | I18: 材質劣化 | J18: その他 | M18: 0.78 | N18: 0.78 | O18: Ⅱb | P18: － | Q18: Ⅱb | R18: 否 | S18: 要監視 | T18: 未 | U18: ー | Y18: 継続監視
C19: S31 | E19: 2 | F19: 266.7 | G19: 覆工 | H19: アーチ（左側） | I19: 漏水 | J19: 漏水 | M19: 1.25 | N19: 1.12 | O19: Ⅱb | P19: － | Q19: Ⅱb | R19: 否 | S19: 要監視 | T19: 未 | U19: ー | Y19: 継続監視
C20: S31 | E20: 3 | F20: 269.8 | G20: 覆工 | H20: アーチ（左側） | I20: 漏水 | J20: 漏水 | M20: 4.4 | N20: 4.29 | O20: Ⅱb | P20: － | Q20: Ⅱb | R20: 否 | S20: 要監視 | T20: 未 | U20: ー | Y20: 継続監視
C21: S31 | E21: 4 | F21: 270.3 | G21: 路面 | H21: 歩道 | J21: その他 | M21: 0.15 | N21: 0.15 | O21: Ⅱb | P21: － | R21: 否 | S21: 否 | U21: ー
C22: S31 | E22: 5 | F22: 266.5 | G22: 覆工 | H22: アーチ（右側） | I22: 漏水 | J22: 補修・補強材の破損 | M22: 0.12 | N22: （新規確認） | O22: － | P22: － | Q22: Ⅱb | R22: 否 | S22: 要監視 | T22: 未 | U22: ー | Y22: 監視
C23: S31 | E23: 6 | F23: 266 | G23: 覆工 | H23: アーチ（右側） | I23: 漏水 | J23: 漏水 | M23: 1.55 | N23: （新規確認） | O23: － | P23: － | Q23: Ⅱb | R23: 否 | S23: 要監視 | T23: 未 | U23: ー | Y23: 監視
C24: S32 | E24: 1 | F24: 274.1 | G24: 覆工 | H24: アーチ（左側） | I24: 漏水 | J24: 漏水 | M24: 2.8 | N24: 0.54 | O24: Ⅱb | P24: － | Q24: Ⅱb | R24: 否 | S24: 要監視 | T24: 未 | U24: ー | Y24: 継続監視
C25: S32 | E25: 2 | F25: 270.3 | G25: 路面 | H25: 歩道 | J25: その他 | M25: 0.25 | N25: 0.25 | O25: Ⅱb | P25: － | R25: 否 | S25: 否 | U25: ー
C26: S32 | E26: 3 | F26: 274.5 | G26: 路面 | H26: 歩道 | J26: その他 | M26: 20mm | N26: 20mm | O26: Ⅱb | P26: － | R26: 否 | S26: 否 | U26: ー
C27: S32 | E27: 4 | F27: 270.3 | G27: 覆工 | H27: 横断目地（天端） | I27: 外力 | J27: 変形・移動 | M27: 16mm | N27: （新規確認） | O27: － | P27: － | Q27: Ⅱb | R27: 否 | S27: 要監視 | T27: 未 | U27: ー | Y27: 監視
C28: S33 | E28: 1 | F28: 283.9 | G28: 覆工 | H28: アーチ（左側） | I28: 漏水 | J28: 漏水 | M28: 2.45 | N28: 2.82 | O28: Ⅱb | P28: － | Q28: Ⅱb | R28: 否 | S28: 要監視 | T28: 未 | U28: ー | Y28: 継続監視
C29: S33 | E29: 2 | F29: 288 | G29: 覆工 | H29: 横断目地（左側） | I29: 漏水 | J29: 漏水 | M29: 3.1 | N29: 4.8 | O29: Ⅱb | P29: － | Q29: Ⅱb | R29: 否 | S29: 要監視 | T29: 未 | U29: ー | Y29: 継続監視
C30: S33 | E30: 3 | F30: 283.2 | G30: 覆工 | H30: アーチ（左側） | I30: 漏水 | J30: 補修・補強材の破損 | M30: 0.02 | N30: （新規確認） | O30: － | P30: － | Q30: Ⅱb | R30: 否 | S30: 要監視 | T30: 未 | U30: ー | Y30: 監視
C31: S34 | E31: 1 | F31: 291.2 | G31: 覆工 | H31: アーチ（左側） | I31: 材質劣化 | J31: その他 | M31: 1.08 | N31: 0.44 | O31: Ⅱb | P31: － | Q31: Ⅱb | R31: 否 | S31: 要監視 | T31: 未 | U31: ー | Y31: 継続監視
C32: S34 | E32: 2 | F32: 293 | G32: 覆工 | H32: アーチ（左側） | I32: 漏水 | J32: 漏水 | M32: 3.2 | N32: 5.36 | O32: Ⅱb | P32: － | Q32: Ⅱb | R32: 否 | S32: 要監視 | T32: 未 | U32: ー | Y32: 継続監視
C33: S34 | E33: 3 | F33: 296.7 | G33: 覆工 | H33: 横断目地（左側） | I33: 漏水 | J33: 漏水 | M33: 3.3 | N33: 3.28 | O33: Ⅱb | P33: － | Q33: Ⅱb | R33: 否 | S33: 要監視 | T33: 未 | U33: ー | Y33: 継続監視
C34: S34 | E34: 4 | F34: 294.9 | G34: 路面 | H34: 歩道 | J34: その他 | M34: 30mm | N34: 30mm | O34: Ⅱb | P34: － | R34: 否 | S34: 否 | U34: ー
C35: S34 | E35: 5 | F35: 295.1 | G35: 覆工 | H35: アーチ（左側） | I35: 漏水 | J35: 漏水 | M35: 1.45 | N35: （新規確認） | O35: － | P35: － | Q35: Ⅱb | R35: 否 | S35: 要監視 | T35: 未 | U35: ー | Y35: 監視
C36: S34 | E36: 6 | F36: 292.9 | G36: 覆工 | H36: アーチ（右側） | I36: 漏水 | J36: 漏水 | M36: 1.5 | N36: （新規確認） | O36: － | P36: － | Q36: Ⅱb | R36: 否 | S36: 要監視 | T36: 未 | U36: ー | Y36: 監視
C37: S35 | E37: 1 | F37: 306 | G37: 覆工 | H37: 横断目地（左側） | I37: 漏水 | J37: 漏水 | M37: 3.3 | N37: 5.04 | O37: Ⅱb | P37: － | Q37: Ⅱb | R37: 否 | S37: 要監視 | T37: 未 | U37: ー | Y37: 継続監視
C38: S35 | E38: 2 | F38: 306 | G38: 覆工 | H38: 横断目地（右側） | I38: 漏水 | J38: 漏水 | M38: 3.25 | N38: 2.52 | O38: Ⅱb | P38: － | Q38: Ⅱb | R38: 否 | S38: 要監視 | T38: 未 | U38: ー | Y38: 継続監視
C39: S36 | E39: 1 | F39: 306 | G39: 覆工 | H39: 横断目地（左側） | I39: 材質劣化 | J39: うき・はく離 | M39: 0.12 | N39: 0.12 | O39: Ⅱa | P39: － | Q39: Ⅱa | R39: 否 | S39: 要対策 | T39: 未 | U39: ー | Y39: はく落防止工
C40: S36 | E40: 2 | F40: 310.3 | G40: 覆工 | H40: アーチ（左側） | I40: 材質劣化 | J40: 圧ざ、ひび割れ | M40: 0.51 | N40: 0.63 | O40: Ⅱb | P40: － | Q40: Ⅱb | R40: 否 | S40: 要監視 | T40: 未 | U40: ー | Y40: 継続監視
C41: S36 | E41: 3 | F41: 314.8 | G41: 覆工 | H41: 横断目地（右側） | I41: 材質劣化 | J41: うき・はく離 | M41: 0.06 | N41: 0.06 | O41: Ⅱa | P41: － | Q41: Ⅱa | R41: 否 | S41: 要対策 | T41: 未 | U41: ー | Y41: はく落防止工
...

Sheet 様式C-1-1 (5)
B2: ■定期点検記録様式 全スパン定期点検結果総括表（トンネル本体工） 【様式C-1-1】
B3: フリガナ | F3: ='様式A-1'!D3 -> ムクノトンネル クダリ | I3: 路線名 | K3: ='様式A-1'!J3 -> 山口県道57号下関港線（下り） | O3: 定期点検実施者 | P3: ='様式B (1)'!$S$3 -> アジア航測株式会社 | T3: 定期点検年月日 | X3: ='様式B (1)'!$P$2 -> 45890
B4: 名 称 | F4: ='様式A-1'!D4 -> 椋野トンネル（下り） | I4: 管理者名 | K4: ='様式A-1'!R3 -> 山口県 下関土木建築事務所 | P4: ='様式B (1)'!$S$4 -> 飯田 琢巳
C5: 覆工 スパン 番号 | E5: 変状 番号 | F5: 距離 （m） | G5: 変状部位 | I5: 変 状 の 内 容 | O5: 前回定期点検時の状態 | P5: 今回定期点検結果 | T5: 措置履歴 | Y5: 対応方針 ・ 特記事項
O6: 44166
G7: 対象箇所 | H7: 部位区分 | I7: 変状区分 | J7: 変状種類 | M7: 変状の発生範囲の規模 | N7: 前回定期点検時の変状の発生範囲及び規模 | O7: 対策区分 | P7: 対策区分 | R7: 調査の 要否 | S7: 措置の 要否 | T7: 実施 | U7: 措置の実施状況
P8: 応急措置前 | Q8: 応急措置後
B9: 定期点検結果 | C9: S36 | E9: 4 | F9: 314.8 | G9: 覆工 | H9: 横断目地（右側） | I9: 漏水 | J9: 漏水 | M9: 1.55 | N9: （新規確認） | O9: － | P9: － | Q9: Ⅱb | R9: 否 | S9: 要監視 | T9: 未 | U9: ー | Y9: 監視
C10: S37 | E10: 1 | F10: 314.8 | G10: 覆工 | H10: アーチ（左側） | I10: 漏水 | J10: 漏水 | M10: 3.84 | N10: 12.25 | O10: Ⅱb | P10: － | Q10: Ⅱb | R10: 否 | S10: 要監視 | T10: 未 | U10: ー | Y10: 継続監視
C11: S37 | E11: 2 | F11: 318.1 | G11: 覆工 | H11: アーチ（左側） | I11: 漏水 | J11: 漏水 | M11: 2.58 | N11: 2.58 | O11: Ⅱb | P11: － | Q11: Ⅱb | R11: 否 | S11: 要監視 | T11: 未 | U11: ー | Y11: 継続監視
C12: S37 | E12: 3 | F12: 323.8 | G12: 覆工 | H12: 横断目地（右側） | I12: 漏水 | J12: 漏水 | M12: 1.95 | N12: 3.99 | O12: Ⅱb | P12: － | Q12: Ⅱb | R12: 否 | S12: 要監視 | T12: 未 | U12: ー | Y12: 継続監視
C13: S37 | E13: 4 | F13: 315.2 | G13: 路面 | H13: 歩道 | J13: その他 | M13: 20mm | N13: 20mm | O13: Ⅱb | P13: － | R13: 否 | S13: 否 | U13: ー
C14: S38 | E14: 1 | F14: 324.6 | G14: 覆工 | H14: アーチ（左側） | I14: 材質劣化 | J14: その他 | M14: 1.8 | N14: 1.8 | O14: Ⅱb | P14: － | Q14: Ⅱb | R14: 否 | S14: 要監視 | T14: 未 | U14: ー | Y14: 継続監視
C15: S38 | E15: 2 | F15: 328 | G15: 覆工 | H15: アーチ（右側） | I15: 漏水 | J15: 漏水 | M15: 8.68 | N15: 10.08 | O15: Ⅱb | P15: － | Q15: Ⅱb | R15: 否 | S15: 要監視 | T15: 未 | U15: ー | Y15: 継続監視
C16: S39 | E16: 1 | F16: 332.6 | G16: 覆工 | H16: アーチ（右側） | I16: 材質劣化 | J16: 圧ざ、ひび割れ | M16: 0.43 | N16: 0.32 | O16: Ⅱb | P16: － | Q16: Ⅱb | R16: 否 | S16: 要監視 | T16: 未 | U16: ー | Y16: 継続監視
C17: S39 | E17: 2 | F17: 335.9 | G17: 覆工 | H17: アーチ（天端） | I17: 材質劣化 | J17: その他 | M17: 3.19 | N17: （新規確認） | O17: － | P17: － | Q17: Ⅱb | R17: 否 | S17: 要監視 | T17: 未 | U17: ー | Y17: 監視
C18: S39 | E18: 3 | F18: 333.8 | G18: 覆工 | H18: アーチ（右側） | I18: 漏水 | J18: 漏水 | M18: 1.15 | N18: （新規確認） | O18: － | P18: － | Q18: Ⅱb | R18: 否 | S18: 要監視 | T18: 未 | U18: ー | Y18: 監視
C19: S40 | E19: 1 | F19: 345.3 | G19: 覆工 | H19: アーチ（天端） | I19: 材質劣化 | J19: 圧ざ、ひび割れ | M19: 0.98 | N19: 0.98 | O19: Ⅱb | P19: － | Q19: Ⅱb | R19: 否 | S19: 要監視 | T19: 未 | U19: ー | Y19: 継続監視
C20: S40 | E20: 2 | F20: 344.5 | G20: 覆工 | H20: アーチ（右側） | I20: 材質劣化 | J20: 圧ざ、ひび割れ | M20: 0.64 | N20: 0.42 | O20: Ⅱb | P20: － | Q20: Ⅱb | R20: 否 | S20: 要監視 | T20: 未 | U20: ー | Y20: 継続監視
C21: S41 | E21: 1 | F21: 351 | G21: 覆工 | H21: アーチ（左側） | I21: 漏水 | J21: 漏水 | M21: 11.76 | N21: 11.76 | O21: Ⅱb | P21: － | Q21: Ⅱb | R21: 否 | S21: 要監視 | T21: 未 | U21: ー | Y21: 継続監視
C22: S41 | E22: 2 | F22: 352.6 | G22: 覆工 | H22: アーチ（左側） | I22: 材質劣化 | J22: 圧ざ、ひび割れ | M22: 0.82 | N22: 0.97 | O22: Ⅱb | P22: － | Q22: Ⅱb | R22: 否 | S22: 要監視 | T22: 未 | U22: ー | Y22: 継続監視
C23: S41 | E23: 3 | F23: 355.7 | G23: 覆工 | H23: アーチ（左側） | I23: 漏水 | J23: 漏水 | M23: 3.4 | N23: 6.08 | O23: Ⅱb | P23: － | Q23: Ⅱb | R23: 否 | S23: 要監視 | T23: 未 | U23: ー | Y23: 継続監視
C24: S42 | E24: 1 | F24: 363.9 | G24: 覆工 | H24: アーチ（左側） | I24: 材質劣化 | J24: 圧ざ、ひび割れ | M24: 0.48 | N24: 0.46 | O24: Ⅱb | P24: － | Q24: Ⅱb | R24: 否 | S24: 要監視 | T24: 未 | U24: ー | Y24: 継続監視
C25: S42 | E25: 2 | F25: 364.7 | G25: 覆工 | H25: アーチ（右側） | I25: 材質劣化 | J25: 圧ざ、ひび割れ | M25: 0.62 | N25: 0.58 | O25: Ⅱb | P25: － | Q25: Ⅱb | R25: 否 | S25: 要監視 | T25: 未 | U25: ー | Y25: 継続監視
C26: S44 | E26: 1 | F26: 383.5 | G26: 覆工 | H26: アーチ（左側） | I26: 漏水 | J26: 漏水 | M26: 2.8 | N26: 1.62 | O26: Ⅱb | P26: － | Q26: Ⅱb | R26: 否 | S26: 要監視 | T26: 未 | U26: ー | Y26: 継続監視
C27: S44 | E27: 2 | F27: 377.5 | G27: 覆工 | H27: 横断目地（左側） | I27: 外力 | J27: 変形・移動 | M27: 15mm | N27: （新規確認） | O27: － | P27: － | Q27: Ⅱb | R27: 否 | S27: 要監視 | T27: 未 | U27: ー | Y27: 監視
C42: ※ 対策区分（応急措置後）のⅡb～Ⅳについて記入すること。また、点検前に実施された措置によりⅠと判定された変状も記入すること。
C43: ※ 応急措置を実施しないで判定した変状の対策区分は、対策区分の応急措置後の欄に記入すること。
C44: ※ 変状の除去が不完全で、緊急対応が必要な場合は対応方針欄に記入すること。
C45: ※ １区間の覆工に複数の変状がある場合は、変状箇所毎に記入すること。
C46: ※ 措置・監視点検を行った場合には、措置履歴、特記事項に記録を残すこと。（実施年度も記載）
C47: ※ 行が不足する場合は、適時、表の行を増やすこと。

Sheet 様式C-1-2
B2: ■定期点検記録様式 定期点検結果総括表（トンネル内附属物等の取付状態） 【様式C-1-2】
B3: フリガナ | F3: ='様式A-1'!D3 -> ムクノトンネル クダリ | J3: 路線名 | K3: ='様式A-1'!J3 -> 山口県道57号下関港線（下り） | M3: 定期点検実施者 | O3: ='様式B (1)'!$S$3 -> アジア航測株式会社 | S3: 定期点検年月日 | W3: ='様式B (1)'!$P$2 -> 45890
B4: 名 称 | F4: ='様式A-1'!D4 -> 椋野トンネル（下り） | J4: 管理者名 | K4: ='様式A-1'!R3 -> 山口県 下関土木建築事務所 | O4: ='様式B (1)'!$S$4 -> 飯田 琢巳
B5: 定期点検結果 | C5: 覆工 スパン 番号 | E5: 異常 番号 | F5: 距離 （m） | G5: 異常部位 | J5: 異 常 の 内 容 | N5: 定期点検結果 | P5: 応急措置の 実施状況 | V5: 対応方針 ・ 特記事項
G6: 対象箇所 | I6: 部位区分 | J6: 異常種類 | L6: 異常の発生範囲の規模 | N6: 異常判定区分 | P6: 実施 | Q6: 応急措置の内容
N7: 応急措置前 | O7: 応急措置後
C8: PS | E8: 101 | F8: 0 | G8: 照明施設 | H8: ケーブル本体 | I8: 取付部材 | J8: 腐食 | L8: 2箇所 | N8: × | P8: 未
C9: PS | E9: 102 | F9: 0 | G9: 照明施設 | H9: ケーブル本体 | I9: 取付部材 | J9: 腐食 | L9: 1箇所 | N9: × | P9: 未
C10: PS | E10: 103 | F10: 1.6 | G10: その他施設 | H10: その他 | I10: ボルト・ナット，アンカー類 | J10: 緩み、脱落 | L10: 3箇所 | N10: × | P10: 未
C11: S7 | E11: 101 | F11: 52.4 | G11: その他施設 | H11: その他 | I11: 附属物本体 | J11: 変形，欠損 | L11: 0.2×0.6 | N11: × | P11: 未 | V11: 新規確認
C12: S9 | E12: 101 | F12: 67.1 | G12: その他施設 | H12: その他 | I12: 附属物本体 | J12: 変形，欠損 | L12: 0.2×0.5 | N12: × | P12: 未 | V12: 新規確認
C13: S9 | E13: 102 | F13: 72.4 | G13: その他施設 | H13: その他 | I13: 附属物本体 | J13: 変形，欠損 | L13: 0.1×1.2 | N13: × | P13: 未 | V13: 新規確認
C14: S11 | E14: 101 | F14: 84.4 | G14: その他施設 | H14: その他 | I14: 附属物本体 | J14: 変形，欠損 | L14: 0.1×0.6 | N14: × | P14: 未 | V14: 新規確認
C15: S12 | E15: 101 | F15: 93.4 | G15: その他施設 | H15: その他 | I15: 附属物本体 | J15: 変形，欠損 | L15: 0.1×0.3 | N15: × | P15: 未 | V15: 新規確認
C16: S13 | E16: 101 | F16: 105.2 | G16: その他施設 | H16: その他 | I16: 附属物本体 | J16: 変形，欠損 | L16: ー | N16: ○ | P16: 未 | V16: 損傷が確認できない
C17: S14 | E17: 101 | F17: 113.6 | G17: その他施設 | H17: その他 | I17: 附属物本体 | J17: 変形，欠損 | L17: 1.9×2.6 | N17: × | P17: 未 | V17: 新規確認
C18: S16 | E18: 101 | F18: 132.3 | G18: その他施設 | H18: その他 | I18: 附属物本体 | J18: 変形，欠損 | L18: 0.1×0.7 | N18: × | P18: 未 | V18: 新規確認
C19: S17 | E19: 101 | F19: 137.8 | G19: 照明施設 | H19: ケーブル本体以外 | I19: 取付部材 | J19: 腐食 | L19: 1箇所 | N19: × | P19: 未
C20: S19 | E20: 101 | F20: 162.3 | G20: その他施設 | H20: その他 | I20: 附属物本体 | J20: 変形，欠損 | L20: 1.8×0.6 | N20: × | P20: 未 | V20: 新規確認
C21: S20 | E21: 101 | F21: 162.9 | G21: その他施設 | H21: その他 | I21: 附属物本体 | J21: 変形，欠損 | L21: 1.8×6.0 | N21: × | P21: 未
C22: S21 | E22: 101 | F22: 173.4 | G22: その他施設 | H22: その他 | I22: 附属物本体 | J22: 変形，欠損 | L22: 0.1×1.0 | N22: × | P22: 未 | V22: 新規確認
C23: S27 | E23: 101 | F23: 229.1 | G23: その他施設 | H23: その他 | I23: 附属物本体 | J23: 変形，欠損 | L23: 0.2×1.6 | N23: × | P23: 未
C24: S30 | E24: 101 | F24: 261.1 | G24: その他施設 | H24: その他 | I24: 附属物本体 | J24: 変形，欠損 | L24: 0.1×0.3 | N24: × | P24: 未 | V24: 新規確認
C25: S33 | E25: 101 | F25: 285 | G25: その他施設 | H25: その他 | I25: 附属物本体 | J25: 変形，欠損 | L25: 0.6×0.1 | N25: × | P25: 未
C44: ※ 異常判定区分×について記入すること。また、応急措置により○と判定された箇所も記入すること。
C45: ※ 応急措置を実施しないで判定した箇所の異常判定区分は、異常判定区分の応急措置後の欄に記入すること。
C46: ※ 異常の除去が不完全で、緊急対応が必要な場合は対応方針欄に記入すること。
C47: ※ １スパンの覆工に複数の異常がある場合は、異常箇所毎に記入すること。
C48: ※ 行が不足する場合は、適時、表の行を増やすこと。

Sheet 様式C-2
B2: ■定期点検記録様式 状態の把握の内容 【様式C-2】
B3: フリガナ | E3: ='様式A-1'!D3 -> ムクノトンネル クダリ | H3: 路線名 | J3: ='様式A-1'!J3:O4 -> 山口県道57号下関港線（下り） | M3: 定期点検実施者 | Q3: ='様式B (1)'!S3 -> アジア航測株式会社 | U3: 定期点検年月日 | X3: ='様式B (1)'!P2 -> 45890
B4: 名 称 | E4: ='様式A-1'!D4 -> 椋野トンネル（下り） | H4: 管理者名 | J4: ='様式A-1'!R3 -> 山口県 下関土木建築事務所 | Q4: ='様式B (1)'!S4 -> 飯田 琢巳
B5: 状態の把握の内容 | C5: 覆工スパン 番号 | E5: 変状 番号 | F5: 状態の把握の内容
F6: 年月日 | H6: 内容 | O6: 結果 | Y6: 対策区分の 判定
B22: 注）状態の把握において、微破壊・非破壊検査や各種試験等を実施した場合について記載する。
B23: ※ 行が不足する場合は、適時、表の行を増やすこと。

Sheet 様式D-1-1 (1)
B2: ■定期点検記録様式 変状写真台帳【様式D-1-1】 | R2: 施設ID | T2: ='様式A-1'!W2 -> 33.97056,130.94306
B3: フリガナ | E3: ='様式A-1'!D3 -> ムクノトンネル クダリ | H3: 路 線 名 | J3: ='様式A-1'!J3:O4 -> 山口県道57号下関港線（下り） | M3: 定期点検実施者 | P3: ='様式B (1)'!$S$3 -> アジア航測株式会社 | S3: 定期点検年月日 | U3: ='様式B (1)'!$P$2 -> 45890
B4: 名 称 | E4: ='様式A-1'!D4 -> 椋野トンネル（下り） | H4: 管理者名 | J4: ='様式A-1'!R3 -> 山口県 下関土木建築事務所 | P4: ='様式B (1)'!S4 -> 飯田 琢巳
B5: 写真 番号 | C5: 覆工スパン 番号 | E5: PS | M5: 写真 番号 | N5: 覆工スパン 番号 | P5: S1
C6: 変状番号 | E6: 1 | N6: 変状番号 | P6: 1
B7: 変状 部位 | C7: 対象箇所 | E7: 坑門 | M7: 変状 部位 | N7: 対象箇所 | P7: 覆工
C8: 部位区分 | E8: 面壁・妻壁等 | N8: 部位区分 | P8: アーチ（左側）
B9: 変状種類 | E9: うき・はく離 | M9: 変状種類 | P9: 圧ざ、ひび割れ
B10: 対策 区分 | C10: 変状区分 | E10: 材質劣化 | M10: 対策 区分 | N10: 変状区分 | P10: 材質劣化
C11: 応急措置前 | E11: － | N11: 応急措置前 | P11: －
C12: 応急措置後 | E12: Ⅱa | N12: 応急措置後 | P12: Ⅱb
B13: 変状の発生範囲及び規模 | E13: 0.15m×3.9m、0.95m×0.3×2箇所 | H13: 前回変状の発生範囲及び規模 | J13: 0.45m×0.15m | M13: 変状の発生範囲及び規模 | P13: 幅3.0㎜ 長さ9.5m | S13: 前回変状の発生範囲及び規模 | U13: 幅3.0㎜ 長さ10.7m
B14: 対策履歴 | E14: － | H14: 実施状況（実施日） | J14: － | M14: 対策履歴 | P14: － | S14: 実施状況（実施日） | U14: －
B15: メモ | E15: 0.15m×3.9m、0.95m×0.3×2箇所のうき・はく離（面積1.16㎡） 打音異常あり。名板周りのモルタルのうき、変状位置が坑口直上のため重点的な監視を要する。 状況により計画的に対策を講じことが望ましい。 | M15: メモ | P15: 幅3.0㎜ 長さ9.5mのひび割れ 前回からの進行が見られないが、構造物の機能が低下する可能性があるため引き続いて監視を行う。
B16: 写真 番号 | C16: 覆工スパン 番号 | E16: S1 | M16: 写真 番号 | N16: 覆工スパン 番号 | P16: S1
C17: 変状番号 | E17: 2 | N17: 変状番号 | P17: 3
B18: 変状 部位 | C18: 対象箇所 | E18: 覆工 | M18: 変状 部位 | N18: 対象箇所 | P18: 覆工
C19: 部位区分 | E19: アーチ（右側） | N19: 部位区分 | P19: アーチ（右側）
B20: 変状種類 | E20: 圧ざ、ひび割れ | M20: 変状種類 | P20: 漏水
B21: 対策 区分 | C21: 変状区分 | E21: 材質劣化 | M21: 対策 区分 | N21: 変状区分 | P21: 漏水
C22: 応急措置前 | E22: － | N22: 応急措置前 | P22: －
C23: 応急措置後 | E23: Ⅱb | N23: 応急措置後 | P23: Ⅱb
B24: 変状の発生範囲及び規模 | E24: 幅2.0㎜ 長さ6.5m | H24: 前回変状の発生範囲及び規模 | J24: 幅2.0㎜ 長さ8.7m | M24: 変状の発生範囲及び規模 | P24: 8.9m×0.5m | S24: 前回変状の発生範囲及び規模 | U24: 8.9m×0.45m
B25: 対策履歴 | E25: － | H25: 実施状況（実施日） | J25: － | M25: 対策履歴 | P25: － | S25: 実施状況（実施日） | U25: －
B26: メモ | E26: 幅2.0㎜ 長さ6.5mのひび割れ 前回からの進行が見られないが、構造物の機能が低下する可能性があるため引き続いて監視を行う。 | M26: メモ | P26: 8.9m×0.5mの漏水跡 利用者にはほとんど影響はないが、日常巡視により監視を行う。
C27: ※ 応急措置後の対策区分について添付すること。また、点検前に 実施された措置によりⅠと判定された箇所も添付すること。 | N27: ※ 変状の発生範囲の規模とは、対策を行う際に参考となる変状の長さや面積をいう。
N28: ※ 応急措置を実施しないで決定した変状の対策区分は、対策区分の応急措置後の欄に記入すること。
C29: ※ たたき落としを実施した場合は、実施後の写真を添付すること。 | N29: ※ 変状の発生範囲の規模は、面積・寸法を記載すること。(ひび割れ幅のみmmとし、その他をm表記とする)
C30: ※ 附属物の取付状態に関する異常写真は別途、任意の書式でとりまとめること。 | N30: ※ 構造用鋼材以外の異物に伴ううき・はく離については、メモ欄に異物の概要を記入すること。

Sheet 様式D-1-1 (2)
B2: ■定期点検記録様式 変状写真台帳【様式D-1-1】 | R2: 施設ID | T2: ='様式A-1'!W2 -> 33.97056,130.94306
B3: フリガナ | E3: ='様式A-1'!D3 -> ムクノトンネル クダリ | H3: 路 線 名 | J3: ='様式A-1'!J3:O4 -> 山口県道57号下関港線（下り） | M3: 定期点検実施者 | P3: ='様式B (1)'!$S$3 -> アジア航測株式会社 | S3: 定期点検年月日 | U3: ='様式B (1)'!$P$2 -> 45890
B4: 名 称 | E4: ='様式A-1'!D4 -> 椋野トンネル（下り） | H4: 管理者名 | J4: ='様式A-1'!R3 -> 山口県 下関土木建築事務所 | P4: ='様式B (1)'!S4 -> 飯田 琢巳
B5: 写真 番号 | C5: 覆工スパン 番号 | E5: S1 | M5: 写真 番号 | N5: 覆工スパン 番号 | P5: S2
C6: 変状番号 | E6: 4 | N6: 変状番号 | P6: 1
B7: 変状 部位 | C7: 対象箇所 | E7: 覆工 | M7: 変状 部位 | N7: 対象箇所 | P7: 覆工
C8: 部位区分 | E8: 横断目地（右側） | N8: 部位区分 | P8: アーチ（左側）
B9: 変状種類 | E9: その他 | M9: 変状種類 | P9: 圧ざ、ひび割れ
B10: 対策 区分 | C10: 変状区分 | E10: 材質劣化 | M10: 対策 区分 | N10: 変状区分 | P10: 材質劣化
C11: 応急措置前 | E11: － | N11: 応急措置前 | P11: －
C12: 応急措置後 | E12: Ⅰ | N12: 応急措置後 | P12: Ⅱb
B13: 変状の発生範囲及び規模 | E13: － | H13: 前回変状の発生範囲及び規模 | J13: － | M13: 変状の発生範囲及び規模 | P13: 幅3.0㎜ 長さ4.0m | S13: 前回変状の発生範囲及び規模 | U13: 幅3.0㎜ 長さ4.0m
B14: 対策履歴 | E14: － | H14: 実施状況（実施日） | J14: － | M14: 対策履歴 | P14: － | S14: 実施状況（実施日） | U14: －
B15: メモ | E15: 導水工割れは補修されているため、判定を見直し | M15: メモ | P15: 幅3.0㎜ 長さ4.0mのひび割れ 前回からの進行が見られないが、構造物の機能が低下する可能性があるため引き続いて監視を行う。
B16: 写真 番号 | C16: 覆工スパン 番号 | E16: S3 | M16: 写真 番号 | N16: 覆工スパン 番号 | P16: S3
C17: 変状番号 | E17: 1 | N17: 変状番号 | P17: 2
B18: 変状 部位 | C18: 対象箇所 | E18: 覆工 | M18: 変状 部位 | N18: 対象箇所 | P18: 覆工
C19: 部位区分 | E19: アーチ（右側） | N19: 部位区分 | P19: アーチ（右側）
B20: 変状種類 | E20: その他 | M20: 変状種類 | P20: 漏水
B21: 対策 区分 | C21: 変状区分 | E21: 材質劣化 | M21: 対策 区分 | N21: 変状区分 | P21: 漏水
C22: 応急措置前 | E22: － | N22: 応急措置前 | P22: －
C23: 応急措置後 | E23: Ⅱb | N23: 応急措置後 | P23: Ⅱb
B24: 変状の発生範囲及び規模 | E24: 0.15m×0.15m | H24: 前回変状の発生範囲及び規模 | J24: 0.15m×0.15m | M24: 変状の発生範囲及び規模 | P24: 6.4m×0.6m | S24: 前回変状の発生範囲及び規模 | U24: 8.2m×0.9m
B25: 対策履歴 | E25: － | H25: 実施状況（実施日） | J25: － | M25: 対策履歴 | P25: － | S25: 実施状況（実施日） | U25: －
B26: メモ | E26: 0.15m×0.15mの木材混入 日常巡視により監視を行う。 | M26: メモ | P26: 6.4m×0.6mの漏水跡 利用者にはほとんど影響はないが、日常巡視により監視を行う。
C27: ※ 応急措置後の対策区分について添付すること。また、点検前に 実施された措置によりⅠと判定された箇所も添付すること。 | N27: ※ 変状の発生範囲の規模とは、対策を行う際に参考となる変状の長さや面積をいう。
N28: ※ 応急措置を実施しないで決定した変状の対策区分は、対策区分の応急措置後の欄に記入すること。
C29: ※ たたき落としを実施した場合は、実施後の写真を添付すること。 | N29: ※ 変状の発生範囲の規模は、面積・寸法を記載すること。(ひび割れ幅のみmmとし、その他をm表記とする)
C30: ※ 附属物の取付状態に関する異常写真は別途、任意の書式でとりまとめること。 | N30: ※ 構造用鋼材以外の異物に伴ううき・はく離については、メモ欄に異物の概要を記入すること。

Sheet 様式D-1-1 (3)
B2: ■定期点検記録様式 変状写真台帳【様式D-1-1】 | R2: 施設ID | T2: ='様式A-1'!W2 -> 33.97056,130.94306
B3: フリガナ | E3: ='様式A-1'!D3 -> ムクノトンネル クダリ | H3: 路 線 名 | J3: ='様式A-1'!J3:O4 -> 山口県道57号下関港線（下り） | M3: 定期点検実施者 | P3: ='様式B (1)'!$S$3 -> アジア航測株式会社 | S3: 定期点検年月日 | U3: ='様式B (1)'!$P$2 -> 45890
B4: 名 称 | E4: ='様式A-1'!D4 -> 椋野トンネル（下り） | H4: 管理者名 | J4: ='様式A-1'!R3 -> 山口県 下関土木建築事務所 | P4: ='様式B (1)'!S4 -> 飯田 琢巳
B5: 写真 番号 | C5: 覆工スパン 番号 | E5: S3 | M5: 写真 番号 | N5: 覆工スパン 番号 | P5: S4
C6: 変状番号 | E6: 3 | N6: 変状番号 | P6: 1
B7: 変状 部位 | C7: 対象箇所 | E7: 覆工 | M7: 変状 部位 | N7: 対象箇所 | P7: 覆工
C8: 部位区分 | E8: 横断目地（左側） | N8: 部位区分 | P8: アーチ（左側）
B9: 変状種類 | E9: その他 | M9: 変状種類 | P9: 圧ざ、ひび割れ
B10: 対策 区分 | C10: 変状区分 | E10: 材質劣化 | M10: 対策 区分 | N10: 変状区分 | P10: 材質劣化
C11: 応急措置前 | E11: － | N11: 応急措置前 | P11: －
C12: 応急措置後 | E12: Ⅰ | N12: 応急措置後 | P12: Ⅱb
B13: 変状の発生範囲及び規模 | E13: － | H13: 前回変状の発生範囲及び規模 | J13: － | M13: 変状の発生範囲及び規模 | P13: 幅3.0㎜ 長さ2.5m | S13: 前回変状の発生範囲及び規模 | U13: 幅3.0㎜ 長さ1.9m
B14: 対策履歴 | E14: － | H14: 実施状況（実施日） | J14: － | M14: 対策履歴 | P14: － | S14: 実施状況（実施日） | U14: －
B15: メモ | E15: 導水工割れは補修されているため、判定を見直し | M15: メモ | P15: 幅3.0㎜ 長2.5mのひび割れ 前回からの進行が見られないが、構造物の機能が低下する可能性があるため引き続いて監視を行う。
B16: 写真 番号 | C16: 覆工スパン 番号 | E16: S5 | M16: 写真 番号 | N16: 覆工スパン 番号 | P16: S6
C17: 変状番号 | E17: 1 | N17: 変状番号 | P17: 1
B18: 変状 部位 | C18: 対象箇所 | E18: 覆工 | M18: 変状 部位 | N18: 対象箇所 | P18: 覆工
C19: 部位区分 | E19: アーチ（全周） | N19: 部位区分 | P19: アーチ（右側）
B20: 変状種類 | E20: その他 | M20: 変状種類 | P20: うき・はく離
B21: 対策 区分 | C21: 変状区分 | E21: 材質劣化 | M21: 対策 区分 | N21: 変状区分 | P21: 材質劣化
C22: 応急措置前 | E22: － | N22: 応急措置前 | P22: －
C23: 応急措置後 | E23: Ⅰ | N23: 応急措置後 | P23: Ⅱa
B24: 変状の発生範囲及び規模 | E24: － | H24: 前回変状の発生範囲及び規模 | J24: － | M24: 変状の発生範囲及び規模 | P24: 0.15m×0.15m | S24: 前回変状の発生範囲及び規模 | U24: 0.2m×0.2m
B25: 対策履歴 | E25: － | H25: 実施状況（実施日） | J25: － | M25: 対策履歴 | P25: － | S25: 実施状況（実施日） | U25: －
B26: メモ | E26: 導水工割れは補修されているため、判定を見直し | M26: メモ | P26: 0.15m×0.15mのうき・はく離 打音異常あり。覆工上部のうきにより、重点的な監視を要する。 状況により計画的に対策を講じことが望ましい。
C27: ※ 応急措置後の対策区分について添付すること。また、点検前に 実施された措置によりⅠと判定された箇所も添付すること。 | N27: ※ 変状の発生範囲の規模とは、対策を行う際に参考となる変状の長さや面積をいう。
N28: ※ 応急措置を実施しないで決定した変状の対策区分は、対策区分の応急措置後の欄に記入すること。
C29: ※ たたき落としを実施した場合は、実施後の写真を添付すること。 | N29: ※ 変状の発生範囲の規模は、面積・寸法を記載すること。(ひび割れ幅のみmmとし、その他をm表記とする)
C30: ※ 附属物の取付状態に関する異常写真は別途、任意の書式でとりまとめること。 | N30: ※ 構造用鋼材以外の異物に伴ううき・はく離については、メモ欄に異物の概要を記入すること。

Sheet 様式D-1-1 (4)
B2: ■定期点検記録様式 変状写真台帳【様式D-1-1】 | R2: 施設ID | T2: ='様式A-1'!W2 -> 33.97056,130.94306
B3: フリガナ | E3: ='様式A-1'!D3 -> ムクノトンネル クダリ | H3: 路 線 名 | J3: ='様式A-1'!J3:O4 -> 山口県道57号下関港線（下り） | M3: 定期点検実施者 | P3: ='様式B (1)'!$S$3 -> アジア航測株式会社 | S3: 定期点検年月日 | U3: ='様式B (1)'!$P$2 -> 45890
B4: 名 称 | E4: ='様式A-1'!D4 -> 椋野トンネル（下り） | H4: 管理者名 | J4: ='様式A-1'!R3 -> 山口県 下関土木建築事務所 | P4: ='様式B (1)'!S4 -> 飯田 琢巳
B5: 写真 番号 | C5: 覆工スパン 番号 | E5: S6 | M5: 写真 番号 | N5: 覆工スパン 番号 | P5: S6
C6: 変状番号 | E6: 2 | N6: 変状番号 | P6: 3
B7: 変状 部位 | C7: 対象箇所 | E7: 覆工 | M7: 変状 部位 | N7: 対象箇所 | P7: 覆工
C8: 部位区分 | E8: アーチ（右側） | N8: 部位区分 | P8: アーチ（右側）
B9: 変状種類 | E9: 圧ざ、ひび割れ | M9: 変状種類 | P9: うき・はく離
B10: 対策 区分 | C10: 変状区分 | E10: 材質劣化 | M10: 対策 区分 | N10: 変状区分 | P10: 材質劣化
C11: 応急措置前 | E11: － | N11: 応急措置前 | P11: －
C12: 応急措置後 | E12: Ⅱb | N12: 応急措置後 | P12: Ⅱa
B13: 変状の発生範囲及び規模 | E13: 幅3.0㎜ 長さ7.9m | H13: 前回変状の発生範囲及び規模 | J13: 幅3.0㎜ 長さ6.3m | M13: 変状の発生範囲及び規模 | P13: 0.2m×0.1m | S13: 前回変状の発生範囲及び規模 | U13: 0.2m×0.1m
B14: 対策履歴 | E14: － | H14: 実施状況（実施日） | J14: － | M14: 対策履歴 | P14: － | S14: 実施状況（実施日） | U14: －
B15: メモ | E15: 幅3.0㎜ 長さ7.9mのひび割れ 前回からの進行が見られないが、構造物の機能が低下する可能性があるため引き続いて監視を行う。 | M15: メモ | P15: 0.2m×0.1mのうき・はく離 打音異常あり。覆工上部のうきにより、重点的な監視を要する。 状況により計画的に対策を講じことが望ましい。
B16: 写真 番号 | C16: 覆工スパン 番号 | E16: S7 | M16: 写真 番号 | N16: 覆工スパン 番号 | P16: S7
C17: 変状番号 | E17: 1 | N17: 変状番号 | P17: 2
B18: 変状 部位 | C18: 対象箇所 | E18: 覆工 | M18: 変状 部位 | N18: 対象箇所 | P18: 覆工
C19: 部位区分 | E19: アーチ（左側） | N19: 部位区分 | P19: アーチ（右側）
B20: 変状種類 | E20: 漏水 | M20: 変状種類 | P20: 圧ざ、ひび割れ
B21: 対策 区分 | C21: 変状区分 | E21: 漏水 | M21: 対策 区分 | N21: 変状区分 | P21: 材質劣化
C22: 応急措置前 | E22: － | N22: 応急措置前 | P22: －
C23: 応急措置後 | E23: Ⅱb | N23: 応急措置後 | P23: Ⅱb
B24: 変状の発生範囲及び規模 | E24: 6.7m×0.5m | H24: 前回変状の発生範囲及び規模 | J24: 7.7m×0.7m | M24: 変状の発生範囲及び規模 | P24: 幅3.0㎜ 長さ9.8m | S24: 前回変状の発生範囲及び規模 | U24: 幅3.0㎜ 長さ8.5m
B25: 対策履歴 | E25: － | H25: 実施状況（実施日） | J25: － | M25: 対策履歴 | P25: － | S25: 実施状況（実施日） | U25: －
B26: メモ | E26: 6.7m×0.5mの漏水跡 利用者にはほとんど影響はないが、日常巡視により監視を行う。 | M26: メモ | P26: 幅3.0㎜ 長さ9.8mのひび割れ 前回からの進行が見られないが、構造物の機能が低下する可能性があるため引き続いて監視を行う。
