Workbook
Name その他: '(参考)リスト'!$C$47
Name その他施設: '[1](参考)リスト'!#REF!
Name その他施設: '(参考)リスト'!$C$79:$C$83
Name 換気施設: '[1](参考)リスト'!#REF!
Name 換気施設: '(参考)リスト'!$C$56:$C$60
Name 坑門: '(参考)リスト'!$C$31:$C$32
Name 照明施設: '[1](参考)リスト'!#REF!
Name 照明施設: '(参考)リスト'!$C$52:$C$54
Name 対象箇所: [2]!テーブル1[対象箇所]
Name 天井板: '(参考)リスト'!$C$37:$C$39
Name 内装板: '(参考)リスト'!$C$34:$C$35
Name 非常用施設: '[1](参考)リスト'!#REF!
Name 非常用施設: '(参考)リスト'!$C$62:$C$77
Name 覆工: '(参考)リスト'!$C$16:$C$29
Name 路面: '(参考)リスト'!$C$41:$C$45

Sheet 点検様式作成フロー
A1: 点検様式作成フロ-
A3: 作成フロー図 | H3: 点検調書作成手順
H4: ①様式A-1～A-3（トンネル台帳）
H5: トンネル点検の実施にあたっては，現場点検作業に先行してトンネル情報を収集する。トンネル台帳（様式Ａ－1～様式Ａ－3）はトンネル完成後に作成され，維持管理の段階で引き継がれるが，関連資料等を確認したうえで，追加情報があれば必要に応じて追記することが望ましい。
H9: ②様式D-2-1、様式D-2-1´
H10: 現場点検作業を実施し，近接目視点検で確認した変状状況や補修履歴を忠実に変状展開図に転記する。
H12: ③様式D-1-1、様式D-1-2
H13: 変状展開図や撮影した写真等をもとに，対象トンネルの対策区分を決定し，対策区分がⅡ～Ⅳの変状および異常判定区分「×」を抽出し，写真台帳を作成する。
H16: ④様式B
H17: 写真台帳の作成と同時に，トンネルの構造を展開した位置図に変状写真位置を記録する。
H19: ⑤様式D-3
H20: 変状展開図ならびに写真台帳をもとに覆工スパンごとの変状展開図を作成し，変状発生状況をとりまとめる。
H22: ⑥様式E
H23: 近接目視または打音検査，触診ができていない箇所および近接目視によらない方法を講じた場所に対する調査結果を記録する。
... H33: すること。 ※各ファイルとも （参考）リスト のシートを付けて保存すること。

Sheet 変状面積算出方法
A1: 変状面積算出方法
A26: 注1）外力による変状：ひび割れや圧ざの場合は変状の寸法を記録する。
A27: 例）ひび割れ：長さ（L）×最大ひび割れ幅（t）を記録する。 変形，移動，沈下：数値的な記載が可能な場合のみ記載する。
A28: 注2）材料劣化による：打音異常
A29: 例）うき，はく離（閉合ひび割れ）：変状範囲を包括する寸法（L×W） うき，はく離（ひび割れ沿い）：打音異常箇所を包括する寸法（L×W） 鋼材腐食（鉄筋腐食）：一括した対策が適当と考えられる範囲を包括する寸法（L×W）
A30: 注3）漏水による変状：漏水発生範囲を包括し，垂れ下がりの可能性がある側壁下端まで含めた寸法を，L×Wで記録する。打継ぎ目地沿いの 漏水については目地を跨いだ50cm幅を横幅とする。

Sheet 記入の留意点
B2: トンネルDBでは、Excelに記載された文字や数値・配置された画像を自動的に読込みデータベースへ登録します。
B3: 記録様式へ記入の留意点を下記に示します。
B5: １．記録様式への記入
C6: ➤各セルに表示されるコメントに従って、様式A-1～様式Gのシートに、点検結果（テキスト入力、選択項目）を入力してください。
C7: ➤位置図(様式B)、変状写真(様式D-1-1)、異常写真(様式D-1-2)は記入した変状写真番号等に対応した画像を間違いないように貼り付けてください。
C8: ➤列や行の挿入削除は行わず、セルの位置がずれないようにしてください。データベースへ読み取り時にずれて取り込まれてしまいます。
B11: ２．画像ファイルの配置の注意点
C12: 登録に使用可能な画像ファイルの拡張子は「jpg」「jpeg」「png」の3種類のみです。
C13: 必ず、１か所に画像１枚のみを張り付けてください。エクセルの図形などのオブジェクトは使用しないでください。
C14: 張り付けた画像はエクセルのトリミング機能を使用しないでください。あらかじめ切り抜いた画像を利用してください。
C15: ※１ 画像の左上を必ずセルの内部に含め、はみ出ないようにしてください。
C16: ※２ 図の書式設定で「セルに合わせて移動やサイズを変更しない」のモードを使用しないでください。
C32: ※３ 「挿入」→「画像」→「セルの上に配置」してください。
B41: ３．シート名の連番について
C42: １ページに記載しきれない場合は、１シート内にページを増やすのではなくシート自体をコピーしシート名の末尾を連番にしてください。
C43: 対象様式
C44: 様式B
C45: 様式D-1-1
C46: 様式D-1-2
C47: 様式D-2-1
C48: 様式D-2-1´
C49: 様式D-3_S00 ※スパン名を記載
C50: 様式G
C52: 末尾の連番の形式例
C53: 様式B(1) 様式B(2) 様式B(3)
C54: 様式B_001 様式B_002 様式B_003
... C61: で示される要領を制限するものではありません。

Sheet 様式A-1
B2: ■トンネル台帳 トンネル諸元、非常用施設諸元 【様式A-1】 | S2: 施設ID | W2: 33.97028,130.94306
B3: フリガナ | D3: ムクノトンネル ノボリ | H3: 路線名 | J3: 山口県道57号下関港線（上り） | P3: 管理者名 | R3: 山口県 下関土木建築事務所 | W3: 緊急輸送道路 | Z3: 一次
B4: 名 称 | D4: 椋野トンネル（上り） | W4: 代替路の有無 | Z4: 有
B5: 所在地 | D5: 自 | E5: 山口県下関市椋野町 | H5: 作成者 | K5: アジア航測株式会社 | P5: 作成年月日 | R5: 46069 | U5: トンネル延長 | X5: L= | Z5: 360 | AB5: ｍ
D6: 至 | E6: 山口県下関市椋野町 | U6: ﾄﾝﾈﾙの分類 | X6: 陸上トンネル（掘進工法）
B7: 起点 | C7: 緯度 | E7: 33.97028 | H7: 完成年月日 | K7: 1962年 | M7: 舗装 | O7: 種 別 | Q7: セメント系 | S7: トンネル非常用施設 | T7: 施設の内訳 | X7: 種別・方式 | Y7: 型式 | Z7: 個数 | AA7: 更新年度
C8: 経度 | E8: 130.94306 | H8: 供用年月日 | O8: 厚 さ | Q8: 0.28m | T8: 通報設備 | U8: 通話型通報設備 | Z8: 2
B9: 終点 | C9: 緯度 | E9: 33.97050 | H9: トンネル区分 | K9: 上線（本線） | O9: 面 積 | Q9: 2520㎡ | U9: 操作型通報設備 | Z9: 8
C10: 経度 | E10: 130.94329 | H10: 内装種類 | K10: 内装あり | O10: 更新年次 | U10: 自動通報設備
B11: 一般有料区分 | E11: 一般（無料） | H11: 天井板種類 | K11: 内装なし覆工 | M11: 排水 | O11: 種 別 | T11: 警報設備 | U11: 非常警報設備
B12: 土かぶり | G12: m | H12: 坑門 | I12: 起点 | J12: 形式 | K12: 面壁型 | O12: 更新年次 | T12: 消火設備 | U12: 消 火 器 | Z12: 8
B13: 内空断面積 | E13: 40.22 | G13: m2 | J13: 延長 | L13: m | M13: 施設 | P13: 種別・方式 | Q13: 個数 | R13: 更新年次 | U13: 消火栓設備
B14: 交 通 量 | E14: 26239 | G14: 台/日 | I14: 終点 | J14: 形式 | K14: 面壁型 | M14: 道路附属物等 | N14: 照明 | P14: ナト・蛍光 | Q14: 71 | T14: 避難誘導設備 | U14: 誘導表示設備 | Z14: 15
C15: 道 路 幅 | E15: 7 | G15: m | J15: 延長 | L15: m | N15: 換気 | P15: 自然換気 | U15: 避難情報提供設備
B16: 幅 員 | C16: 車 道 幅 | E16: 3 | G16: m | H16: 竣工巻厚 | I16: アーチ | L16: cm | N16: 標識
E17: 3 | G17: m | I17: 側 壁 | L17: cm | N17: 警報表示板 | U17: 避難通路
C18: 歩道等幅 | E18: 0 | G18: m | L18: cm | N18: 吸音板 | Q18: 184 | U18: 排煙設備
B19: 高さ | C19: 建築限界高 | E19: 4.5 | G19: m | I19: インバート | L19: cm | T19: その他の設備 | U19: 給水栓設備
C20: 中央高 | E20: 6.6 | G20: m | H20: 半径 | I20: アーチ | K20: 440 | L20: cm | U20: 無線通信補助設備
C21: 有効高 | E21: 4.5 | G21: m | I21: 側 壁 | K21: 505 | L21: cm | U21: 水噴霧設備
C22: 縦断勾配 | E22: 2.93 | I22: インバート | L22: cm | U22: 監視設備
B23: 線 形 | C23: 直線区間長 | E23: 360 | H23: 占用物件 | I23: 種 類 | K23: 寸 法 | M23: 管理者名 | Q23: 更新年次 | S23: 非常用施設 関連設備 | U23: 予備発電設備
C24: 曲線区間 | D24: 区間長
D25: 起点側ｸﾛｿｲﾄﾞ
D26: 曲線半径
D27: 終点側ｸﾛｿｲﾄﾞ | S27: その他 | U27: 非常駐車帯
B28: トンネル工法 | E28: 矢板工法 | U28: 方向転換所
C29: ※緯度・経度については、秒の小数第二位の単位まで記入すること。

Sheet 様式A-2
B3: ■トンネル台帳 トンネル情報一覧表 【様式A-2】
B4: フリガナ | E4: ='様式A-1'!D3 -> ムクノトンネル ノボリ | J4: 路線名 | M4: ='様式A-1'!J3 -> 山口県道57号下関港線（上り） | S4: 作成者 | Y4: ='様式A-1'!K5 -> アジア航測株式会社 | AE4: 作成年月日 | AI4: ='様式A-1'!R5 -> 46069
B5: 名 称 | E5: ='様式A-1'!D4 -> 椋野トンネル（上り） | J5: 管理者名 | M5: ='様式A-1'!R3 -> 山口県 下関土木建築事務所
B6: 覆工 ｽﾊﾟﾝ 番号 | C6: ｽﾊﾟﾝ長 | D6: 追加距離 | F6: トンネル本体工 | K6: 照明施設 | O6: 非常用施設 | AE6: 換気施設 | AK6: その他附属物等
O7: 通報設備 | R7: 警報設備 | S7: 消火設備 | U7: 避難誘導設備 | Y7: その他の設備 | AC7: 特記事項
D8: 起点側 | E8: 終点側 | F8: 特記事項 | I8: 内装板 | J8: 天井板 | K8: 基本照明 | L8: 入口出口照明 | M8: 特記事項 | O8: 通話型通報設備 | P8: 操作型通報設備 | Q8: 自動通報設備 | R8: 非常警報設備 | S8: 消 火 器 | T8: 消火栓設備 | U8: 誘導表示設備 | V8: 避難情報提供設備 | W8: 避難通路 | X8: 排煙設備 | Y8: 給水栓設備 | Z8: 無線通信補助設備 | AA8: 水噴霧設備 | AB8: 監視設備 | AE8: JF | AF8: VI計 | AG8: CO計 | AH8: 風向 風速計 | AI8: 特記事項
C9: (m) | D9: (m) | E9: (m)
B10: PS | C10: 1 | D10: 0 | E10: 1 | F10: 坑門（面壁型） | I10: ○
B11: S1 | C11: 5.5 | D11: 1 | E11: 6.5 | I11: ○ | K11: ○ | P11: 〇 | S11: 〇 | U11: 〇
B12: S2 | C12: 5.4 | D12: 6.5 | E12: 11.9 | I12: ○
B13: S3 | C13: 5.5 | D13: 11.9 | E13: 17.4 | I13: ○ | K13: ○
B14: S4 | C14: 9.1 | D14: 17.4 | E14: 26.5 | I14: ○
B15: S5 | C15: 8.8 | D15: 26.5 | E15: 35.3 | I15: ○ | K15: ○ | U15: 〇
B16: S6 | C16: 13 | D16: 35.3 | E16: 48.3 | I16: ○ | K16: ○
B17: S7 | C17: 7.4 | D17: 48.3 | E17: 55.7 | I17: ○ | K17: ○ | P17: 〇 | S17: 〇
B18: S8 | C18: 5.2 | D18: 55.7 | E18: 60.9 | I18: ○ | U18: 〇
B19: S9 | C19: 5.8 | D19: 60.9 | E19: 66.7 | I19: ○
B20: S10 | C20: 6 | D20: 66.7 | E20: 72.7 | I20: ○ | K20: ○
B21: S11 | C21: 6.2 | D21: 72.7 | E21: 78.9 | I21: ○
B22: S12 | C22: 5.6 | D22: 78.9 | E22: 84.5 | I22: ○ | K22: ○ | U22: 〇2
B23: S13 | C23: 4.1 | D23: 84.5 | E23: 88.6 | I23: ○
B24: S14 | C24: 5.4 | D24: 88.6 | E24: 94 | I24: ○ | K24: ○
B25: S15 | C25: 8.5 | D25: 94 | E25: 102.5 | I25: ○
B26: S16 | C26: 4.6 | D26: 102.5 | E26: 107.1 | I26: ○ | K26: ○ | O26: 〇 | P26: 〇 | S26: 〇
B27: S17 | C27: 4.3 | D27: 107.1 | E27: 111.4 | I27: ○
B28: S18 | C28: 6.1 | D28: 111.4 | E28: 117.5 | I28: ○
B29: S19 | C29: 6.1 | D29: 117.5 | E29: 123.6 | I29: ○ | K29: ○
B30: S20 | C30: 5.4 | D30: 123.6 | E30: 129 | I30: ○
B31: S21 | C31: 6.1 | D31: 129 | E31: 135.1 | I31: ○ | K31: ○ | U31: 〇
B32: S22 | C32: 5.8 | D32: 135.1 | E32: 140.9 | I32: ○
B33: S23 | C33: 4.2 | D33: 140.9 | E33: 145.1 | I33: ○ | K33: ○
B34: S24 | C34: 4 | D34: 145.1 | E34: 149.1 | I34: ○
B35: S25 | C35: 4.6 | D35: 149.1 | E35: 153.7 | I35: ○
B36: S26 | C36: 6.2 | D36: 153.7 | E36: 159.9 | I36: ○ | K36: ○ | P36: 〇 | S36: 〇 | U36: 〇
B37: S27 | C37: 4.1 | D37: 159.9 | E37: 164 | I37: ○
B38: S28 | C38: 6.1 | D38: 164 | E38: 170.1 | I38: ○ | K38: ○
B39: S29 | C39: 4.6 | D39: 170.1 | E39: 174.7 | I39: ○
B40: S30 | C40: 4.3 | D40: 174.7 | E40: 179 | I40: ○
B41: S31 | C41: 4.4 | D41: 179 | E41: 183.4 | I41: ○ | K41: ○ | U41: 〇2
B42: S32 | C42: 4.1 | D42: 183.4 | E42: 187.5 | I42: ○
B43: S33 | C43: 6.3 | D43: 187.5 | E43: 193.8 | I43: ○ | K43: ○
B44: S34 | C44: 7.1 | D44: 193.8 | E44: 200.9 | I44: ○ | K44: ○
B45: S35 | C45: 4.6 | D45: 200.9 | E45: 205.5 | I45: ○ | K45: ○ | P45: 〇 | S45: 〇
B46: S36 | C46: 6.3 | D46: 205.5 | E46: 211.8 | I46: ○ | U46: 〇
B47: S37 | C47: 6 | D47: 211.8 | E47: 217.8 | I47: ○ | K47: ○
B48: ※ 行が不足する場合は、適時、表の行を増やすこと。

Sheet 様式A-2 (2)
B3: ■トンネル台帳 トンネル情報一覧表 【様式A-2】
B4: フリガナ | E4: ='様式A-1'!D3 -> ムクノトンネル ノボリ | J4: 路線名 | M4: ='様式A-1'!J3 -> 山口県道57号下関港線（上り） | S4: 作成者 | Y4: ='様式A-1'!K5 -> アジア航測株式会社 | AE4: 作成年月日 | AI4: ='様式A-1'!R5 -> 46069
B5: 名 称 | E5: ='様式A-1'!D4 -> 椋野トンネル（上り） | J5: 管理者名 | M5: ='様式A-1'!R3 -> 山口県 下関土木建築事務所
B6: 覆工 ｽﾊﾟﾝ 番号 | C6: ｽﾊﾟﾝ長 | D6: 追加距離 | F6: トンネル本体工 | K6: 照明施設 | O6: 非常用施設 | AE6: 換気施設 | AK6: その他附属物等
O7: 通報設備 | R7: 警報設備 | S7: 消火設備 | U7: 避難誘導設備 | Y7: その他の設備 | AC7: 特記事項
D8: 起点側 | E8: 終点側 | F8: 特記事項 | I8: 内装板 | J8: 天井板 | K8: 基本照明 | L8: 入口出口照明 | M8: 特記事項 | O8: 通話型通報設備 | P8: 操作型通報設備 | Q8: 自動通報設備 | R8: 非常警報設備 | S8: 消 火 器 | T8: 消火栓設備 | U8: 誘導表示設備 | V8: 避難情報提供設備 | W8: 避難通路 | X8: 排煙設備 | Y8: 給水栓設備 | Z8: 無線通信補助設備 | AA8: 水噴霧設備 | AB8: 監視設備 | AE8: JF | AF8: VI計 | AG8: CO計 | AH8: 風向 風速計 | AI8: 特記事項
C9: (m) | D9: (m) | E9: (m)
B10: S38 | C10: 6.1 | D10: 217.8 | E10: 223.9 | I10: ○ | K10: ○
B11: S39 | C11: 4.7 | D11: 223.9 | E11: 228.6 | I11: ○ | K11: ○
B12: S40 | C12: 4.5 | D12: 228.6 | E12: 233.1 | I12: ○ | K12: ○ | U12: 〇
B13: S41 | C13: 4.2 | D13: 233.1 | E13: 237.3 | I13: ○
B14: S42 | C14: 6.1 | D14: 237.3 | E14: 243.4 | I14: ○ | K14: ○
B15: S43 | C15: 6.1 | D15: 243.4 | E15: 249.5 | I15: ○ | K15: ○
B16: S44 | C16: 6.1 | D16: 249.5 | E16: 255.6 | I16: ○ | K16: ○ | P16: 〇 | S16: 〇
B17: S45 | C17: 7.2 | D17: 255.6 | E17: 262.8 | I17: ○ | K17: ○ | U17: 〇
B18: S46 | C18: 6.1 | D18: 262.8 | E18: 268.9 | I18: ○ | K18: ○
B19: S47 | C19: 6.2 | D19: 268.9 | E19: 275.1 | I19: ○ | K19: ○
B20: S48 | C20: 6.1 | D20: 275.1 | E20: 281.2 | I20: ○ | K20: ○ | U20: 〇
B21: S49 | C21: 6 | D21: 281.2 | E21: 287.2 | I21: ○ | K21: ○
B22: S50 | C22: 6 | D22: 287.2 | E22: 293.2 | I22: ○ | K22: ○
B23: S51 | C23: 6 | D23: 293.2 | E23: 299.2 | I23: ○ | K23: ○
B24: S52 | C24: 3.4 | D24: 299.2 | E24: 302.6 | I24: ○
B25: S53 | C25: 4.2 | D25: 302.6 | E25: 306.8 | I25: ○ | K25: ○ | O25: 〇 | P25: 〇 | S25: 〇
B26: S54 | C26: 1.5 | D26: 306.8 | E26: 308.3 | I26: ○
B27: S55 | C27: 10 | D27: 308.3 | E27: 318.3 | I27: ○ | K27: ○
B28: S56 | C28: 7.2 | D28: 318.3 | E28: 325.5 | I28: ○ | K28: ○
B29: S57 | C29: 5 | D29: 325.5 | E29: 330.5 | I29: ○ | K29: ○ | U29: 〇
B30: S58 | C30: 5.1 | D30: 330.5 | E30: 335.6 | I30: ○ | K30: ○
B31: S59 | C31: 5.6 | D31: 335.6 | E31: 341.2 | I31: ○ | K31: ○
B32: S60 | C32: 6 | D32: 341.2 | E32: 347.2 | I32: ○ | K32: ○
B33: S61 | C33: 6.9 | D33: 347.2 | E33: 354.1 | I33: ○ | K33: ○
B34: S62 | C34: 5.2 | D34: 354.1 | E34: 359.3 | I34: ○ | K34: ○ | P34: 〇 | S34: 〇 | U34: 〇
B35: PE | C35: 0.7 | D35: 359.3 | E35: 360 | F35: 坑門（面壁型）
B48: ※ 行が不足する場合は、適時、表の行を増やすこと。

Sheet 様式A-3
B3: ■トンネル台帳 トンネル記録（位置図、断面図、施工実績他）【様式A-3】
B4: フリガナ | E4: ='様式A-1'!D3 -> ムクノトンネル ノボリ | J4: 路線名 | M4: ='様式A-1'!J3 -> 山口県道57号下関港線（上り） | S4: 作成者 | W4: ='様式A-1'!K5 -> アジア航測株式会社 | AC4: 作成年月日 | AF4: ='様式A-1'!R5 -> 46069
B5: 名 称 | E5: ='様式A-1'!D4 -> 椋野トンネル（上り） | J5: 管理者名 | M5: ='様式A-1'!R3 -> 山口県 下関土木建築事務所
B6: 位置図・現況写真・標準断面図・地質縦断図・施工実績
B19: 位置図・現況写真・標準断面図・地質縦断図・施工実績

Sheet 様式B (1)
B2: ■定期点検記録様式 トンネル変状・異常箇所写真位置図 【様式B】 | N2: 定期点検年月日 | P2: 45892 | S2: 施設ID | V2: 33.97028,130.94306
B3: フリガナ | C3: ='様式A-1'!D3 -> ムクノトンネル ノボリ | G3: 路線名 | H3: ='様式A-1'!J3 -> 山口県道57号下関港線（上り） | K3: 管理者名 | L3: ='様式A-1'!R3 -> 山口県 下関土木建築事務所 | Q3: 定期点検実施者 | S3: アジア航測株式会社 | V3: 起点 | W3: 緯度 | X3: 33.97028
B4: 名 称 | C4: ='様式A-1'!D4 -> 椋野トンネル（上り） | S4: 飯田 琢巳 | W4: 経度 | X4: 130.94306
B5: 所在地 | C5: 自 | D5: ='様式A-1'!E5 -> 山口県下関市椋野町 | G5: トンネル工法 | I5: 矢板工法 | L5: トンネル延長 | N5: L= | O5: ='様式A-1'!Z5 -> 360 | P5: ｍ | Q5: 自専道 or 一般道 | R5: 一般道 | S5: 代替路の有無 | U5: 有 | V5: 終点 | W5: 緯度 | X5: 33.97050
C6: 至 | D6: ='様式A-1'!E6 -> 山口県下関市椋野町 | G6: 建設年度 | I6: ='様式A-1'!K7 -> 1962年 | L6: 幅員 | N6: L= | O6: ='様式A-1'!E15 -> 7 | P6: ｍ | S6: 緊急輸送道路 | W6: 経度 | X6: 130.94329
B7: トンネル毎 の健全性の 診断の区分 | D7: Ⅱ
G8: 変状・異常 箇所数合計 | I8: トンネル本体工 | J8: 材質劣化 | K8: Ⅱ | L8: 206 | N8: Ⅲ | O8: 0 | Q8: Ⅳ | R8: 0 | T8: 附属物等 の取付状態 | V8: ◯ （応急措置後) | X8: 0
J9: 漏水 | K9: Ⅱ | L9: 106 | N9: Ⅲ | O9: 0 | Q9: Ⅳ | R9: 0
V10: ✕ | X10: 34
J11: 外力 | K11: Ⅱ | L11: 0 | N11: Ⅲ | O11: 0 | Q11: Ⅳ | R11: 0
B12: トンネル変状・異常箇所写真位置図
J29: 注１：本位置図は、見下げた状態で記載すること。 注２：覆工スパン番号は横断目地毎(矢板工法の場合は上半アーチの 横断目地毎)に設定すること。 | Q29: 注３：写真番号に付する変状番号は、各覆工スパンの変状に対して新たに確認された場合 は順次追加していくこと。 注４：横断目地の変状は前の覆工スパン番号で計上すること。 注５：１枚に収まらない場合は、複数枚に分けて作成すること。
C30: ※1 トンネル本体工の変状数は、材質劣化、漏水に起因するものは変状単位で、外力に起因するものはスパン単位で計上すること。
C31: ※2 トンネル本体工の変状に対しては、措置の必要性（Ⅱ～Ⅳ）について表記すること。また、点検前に実施された措置によりⅠと判定された箇所についても記載すること。
C32: ※3 附属物等の取付状態の○欄については、応急措置前に判定区分×とした箇所のうち応急措置により○判定とした箇所の数を記入すること。
C33: ※4 附属物等の異常番号は、本体工と番号が重複しないよう101番以降とする等の配慮を行い、分かりやすく記録すること。

Sheet 様式B (2)
B2: ■定期点検記録様式 トンネル変状・異常箇所写真位置図 【様式B】 | N2: 定期点検年月日 | P2: ='様式B (1)'!P2 -> 45892 | S2: 施設ID | V2: 33.97028,130.94306
B3: フリガナ | C3: ='様式A-1'!D3 -> ムクノトンネル ノボリ | G3: 路線名 | H3: ='様式A-1'!J3 -> 山口県道57号下関港線（上り） | K3: 管理者名 | L3: ='様式A-1'!R3 -> 山口県 下関土木建築事務所 | Q3: 定期点検実施者 | S3: アジア航測株式会社 | V3: 起点 | W3: 緯度 | X3: 33.97028
B4: 名 称 | C4: ='様式A-1'!D4 -> 椋野トンネル（上り） | S4: 飯田 琢巳 | W4: 経度 | X4: 130.94306
B5: 所在地 | C5: 自 | D5: ='様式A-1'!E5 -> 山口県下関市椋野町 | G5: トンネル工法 | I5: 矢板工法 | L5: トンネル延長 | N5: L= | O5: ='様式A-1'!Z5 -> 360 | P5: ｍ | Q5: 自専道 or 一般道 | R5: 一般道 | S5: 代替路の有無 | U5: 有 | V5: 終点 | W5: 緯度 | X5: 33.97050
C6: 至 | D6: ='様式A-1'!E6 -> 山口県下関市椋野町 | G6: 建設年度 | I6: ='様式A-1'!K7 -> 1962年 | L6: 幅員 | N6: L= | O6: ='様式A-1'!E15 -> 7 | P6: ｍ | S6: 緊急輸送道路 | W6: 経度 | X6: 130.94329
B7: トンネル毎 の健全性の 診断の区分 | D7: Ⅱ
G8: 変状・異常 箇所数合計 | I8: トンネル本体工 | J8: 材質劣化 | K8: Ⅱ | L8: 206 | N8: Ⅲ | O8: 0 | Q8: Ⅳ | R8: 0 | T8: 附属物等 の取付状態 | V8: ◯ （応急措置後) | X8: 0
J9: 漏水 | K9: Ⅱ | L9: 106 | N9: Ⅲ | O9: 0 | Q9: Ⅳ | R9: 0
V10: ✕ | X10: 34
J11: 外力 | K11: Ⅱ | L11: 0 | N11: Ⅲ | O11: 0 | Q11: Ⅳ | R11: 0
B12: トンネル変状・異常箇所写真位置図
J29: 注１：本位置図は、見下げた状態で記載すること。 注２：覆工スパン番号は横断目地毎(矢板工法の場合は上半アーチの 横断目地毎)に設定すること。 | Q29: 注３：写真番号に付する変状番号は、各覆工スパンの変状に対して新たに確認された場合 は順次追加していくこと。 注４：横断目地の変状は前の覆工スパン番号で計上すること。 注５：１枚に収まらない場合は、複数枚に分けて作成すること。
C30: ※1 トンネル本体工の変状数は、材質劣化、漏水に起因するものは変状単位で、外力に起因するものはスパン単位で計上すること。
C31: ※2 トンネル本体工の変状に対しては、措置の必要性（Ⅱ～Ⅳ）について表記すること。また、点検前に実施された措置によりⅠと判定された箇所についても記載すること。
C32: ※3 附属物等の取付状態の○欄については、応急措置前に判定区分×とした箇所のうち応急措置により○判定とした箇所の数を記入すること。
C33: ※4 附属物等の異常番号は、本体工と番号が重複しないよう101番以降とする等の配慮を行い、分かりやすく記録すること。

Sheet 様式B (3)
B2: ■定期点検記録様式 トンネル変状・異常箇所写真位置図 【様式B】 | N2: 定期点検年月日 | P2: ='様式B (1)'!P2 -> 45892 | S2: 施設ID | V2: 33.97028,130.94306
B3: フリガナ | C3: ='様式A-1'!D3 -> ムクノトンネル ノボリ | G3: 路線名 | H3: ='様式A-1'!J3 -> 山口県道57号下関港線（上り） | K3: 管理者名 | L3: ='様式A-1'!R3 -> 山口県 下関土木建築事務所 | Q3: 定期点検実施者 | S3: アジア航測株式会社 | V3: 起点 | W3: 緯度 | X3: 33.97028
B4: 名 称 | C4: ='様式A-1'!D4 -> 椋野トンネル（上り） | S4: 飯田 琢巳 | W4: 経度 | X4: 130.94306
B5: 所在地 | C5: 自 | D5: ='様式A-1'!E5 -> 山口県下関市椋野町 | G5: トンネル工法 | I5: 矢板工法 | L5: トンネル延長 | N5: L= | O5: ='様式A-1'!Z5 -> 360 | P5: ｍ | Q5: 自専道 or 一般道 | R5: 一般道 | S5: 代替路の有無 | U5: 有 | V5: 終点 | W5: 緯度 | X5: 33.97050
C6: 至 | D6: ='様式A-1'!E6 -> 山口県下関市椋野町 | G6: 建設年度 | I6: ='様式A-1'!K7 -> 1962年 | L6: 幅員 | N6: L= | O6: ='様式A-1'!E15 -> 7 | P6: ｍ | S6: 緊急輸送道路 | W6: 経度 | X6: 130.94329
B7: トンネル毎 の健全性の 診断の区分 | D7: Ⅱ
G8: 変状・異常 箇所数合計 | I8: トンネル本体工 | J8: 材質劣化 | K8: Ⅱ | L8: 206 | N8: Ⅲ | O8: 0 | Q8: Ⅳ | R8: 0 | T8: 附属物等 の取付状態 | V8: ◯ （応急措置後) | X8: 0
J9: 漏水 | K9: Ⅱ | L9: 106 | N9: Ⅲ | O9: 0 | Q9: Ⅳ | R9: 0
V10: ✕ | X10: 34
J11: 外力 | K11: Ⅱ | L11: 0 | N11: Ⅲ | O11: 0 | Q11: Ⅳ | R11: 0
B12: トンネル変状・異常箇所写真位置図
J29: 注１：本位置図は、見下げた状態で記載すること。 注２：覆工スパン番号は横断目地毎(矢板工法の場合は上半アーチの 横断目地毎)に設定すること。 | Q29: 注３：写真番号に付する変状番号は、各覆工スパンの変状に対して新たに確認された場合 は順次追加していくこと。 注４：横断目地の変状は前の覆工スパン番号で計上すること。 注５：１枚に収まらない場合は、複数枚に分けて作成すること。
C30: ※1 トンネル本体工の変状数は、材質劣化、漏水に起因するものは変状単位で、外力に起因するものはスパン単位で計上すること。
C31: ※2 トンネル本体工の変状に対しては、措置の必要性（Ⅱ～Ⅳ）について表記すること。また、点検前に実施された措置によりⅠと判定された箇所についても記載すること。
C32: ※3 附属物等の取付状態の○欄については、応急措置前に判定区分×とした箇所のうち応急措置により○判定とした箇所の数を記入すること。
C33: ※4 附属物等の異常番号は、本体工と番号が重複しないよう101番以降とする等の配慮を行い、分かりやすく記録すること。

Sheet 様式B (4)
B2: ■定期点検記録様式 トンネル変状・異常箇所写真位置図 【様式B】 | N2: 定期点検年月日 | P2: 45892 | S2: 施設ID | V2: 33.97028,130.94306
B3: フリガナ | C3: ='様式A-1'!D3 -> ムクノトンネル ノボリ | G3: 路線名 | H3: ='様式A-1'!J3 -> 山口県道57号下関港線（上り） | K3: 管理者名 | L3: ='様式A-1'!R3 -> 山口県 下関土木建築事務所 | Q3: 定期点検実施者 | S3: アジア航測株式会社 | V3: 起点 | W3: 緯度 | X3: 33.97028
B4: 名 称 | C4: ='様式A-1'!D4 -> 椋野トンネル（上り） | S4: 飯田 琢巳 | W4: 経度 | X4: 130.94306
B5: 所在地 | C5: 自 | D5: ='様式A-1'!E5 -> 山口県下関市椋野町 | G5: トンネル工法 | I5: 矢板工法 | L5: トンネル延長 | N5: L= | O5: ='様式A-1'!Z5 -> 360 | P5: ｍ | Q5: 自専道 or 一般道 | R5: 一般道 | S5: 代替路の有無 | U5: 有 | V5: 終点 | W5: 緯度 | X5: 33.97050
C6: 至 | D6: ='様式A-1'!E6 -> 山口県下関市椋野町 | G6: 建設年度 | I6: ='様式A-1'!K7 -> 1962年 | L6: 幅員 | N6: L= | O6: ='様式A-1'!E15 -> 7 | P6: ｍ | S6: 緊急輸送道路 | W6: 経度 | X6: 130.94329
B7: トンネル毎 の健全性の 診断の区分 | D7: Ⅱ
G8: 変状・異常 箇所数合計 | I8: トンネル本体工 | J8: 材質劣化 | K8: Ⅱ | L8: 206 | N8: Ⅲ | O8: 0 | Q8: Ⅳ | R8: 0 | T8: 附属物等 の取付状態 | V8: ◯ （応急措置後) | X8: 0
J9: 漏水 | K9: Ⅱ | L9: 106 | N9: Ⅲ | O9: 0 | Q9: Ⅳ | R9: 0
V10: ✕ | X10: 34
J11: 外力 | K11: Ⅱ | L11: 0 | N11: Ⅲ | O11: 0 | Q11: Ⅳ | R11: 0
B12: トンネル変状・異常箇所写真位置図
J29: 注１：本位置図は、見下げた状態で記載すること。 注２：覆工スパン番号は横断目地毎(矢板工法の場合は上半アーチの 横断目地毎)に設定すること。 | Q29: 注３：写真番号に付する変状番号は、各覆工スパンの変状に対して新たに確認された場合 は順次追加していくこと。 注４：横断目地の変状は前の覆工スパン番号で計上すること。 注５：１枚に収まらない場合は、複数枚に分けて作成すること。
C30: ※1 トンネル本体工の変状数は、材質劣化、漏水に起因するものは変状単位で、外力に起因するものはスパン単位で計上すること。
C31: ※2 トンネル本体工の変状に対しては、措置の必要性（Ⅱ～Ⅳ）について表記すること。また、点検前に実施された措置によりⅠと判定された箇所についても記載すること。
C32: ※3 附属物等の取付状態の○欄については、応急措置前に判定区分×とした箇所のうち応急措置により○判定とした箇所の数を記入すること。
C33: ※4 附属物等の異常番号は、本体工と番号が重複しないよう101番以降とする等の配慮を行い、分かりやすく記録すること。

Sheet 様式B (5)
B2: ■定期点検記録様式 トンネル変状・異常箇所写真位置図 【様式B】 | N2: 定期点検年月日 | P2: ='様式B (1)'!P2 -> 45892 | S2: 施設ID | V2: 33.97028,130.94306
B3: フリガナ | C3: ='様式A-1'!D3 -> ムクノトンネル ノボリ | G3: 路線名 | H3: ='様式A-1'!J3 -> 山口県道57号下関港線（上り） | K3: 管理者名 | L3: ='様式A-1'!R3 -> 山口県 下関土木建築事務所 | Q3: 定期点検実施者 | S3: アジア航測株式会社 | V3: 起点 | W3: 緯度 | X3: 33.97028
B4: 名 称 | C4: ='様式A-1'!D4 -> 椋野トンネル（上り） | S4: 飯田 琢巳 | W4: 経度 | X4: 130.94306
B5: 所在地 | C5: 自 | D5: ='様式A-1'!E5 -> 山口県下関市椋野町 | G5: トンネル工法 | I5: 矢板工法 | L5: トンネル延長 | N5: L= | O5: ='様式A-1'!Z5 -> 360 | P5: ｍ | Q5: 自専道 or 一般道 | R5: 一般道 | S5: 代替路の有無 | U5: 有 | V5: 終点 | W5: 緯度 | X5: 33.97050
C6: 至 | D6: ='様式A-1'!E6 -> 山口県下関市椋野町 | G6: 建設年度 | I6: ='様式A-1'!K7 -> 1962年 | L6: 幅員 | N6: L= | O6: ='様式A-1'!E15 -> 7 | P6: ｍ | S6: 緊急輸送道路 | W6: 経度 | X6: 130.94329
B7: トンネル毎 の健全性の 診断の区分 | D7: Ⅱ
G8: 変状・異常 箇所数合計 | I8: トンネル本体工 | J8: 材質劣化 | K8: Ⅱ | L8: 206 | N8: Ⅲ | O8: 0 | Q8: Ⅳ | R8: 0 | T8: 附属物等 の取付状態 | V8: ◯ （応急措置後) | X8: 0
J9: 漏水 | K9: Ⅱ | L9: 106 | N9: Ⅲ | O9: 0 | Q9: Ⅳ | R9: 0
V10: ✕ | X10: 34
J11: 外力 | K11: Ⅱ | L11: 0 | N11: Ⅲ | O11: 0 | Q11: Ⅳ | R11: 0
B12: トンネル変状・異常箇所写真位置図
J29: 注１：本位置図は、見下げた状態で記載すること。 注２：覆工スパン番号は横断目地毎(矢板工法の場合は上半アーチの 横断目地毎)に設定すること。 | Q29: 注３：写真番号に付する変状番号は、各覆工スパンの変状に対して新たに確認された場合 は順次追加していくこと。 注４：横断目地の変状は前の覆工スパン番号で計上すること。 注５：１枚に収まらない場合は、複数枚に分けて作成すること。
C30: ※1 トンネル本体工の変状数は、材質劣化、漏水に起因するものは変状単位で、外力に起因するものはスパン単位で計上すること。
C31: ※2 トンネル本体工の変状に対しては、措置の必要性（Ⅱ～Ⅳ）について表記すること。また、点検前に実施された措置によりⅠと判定された箇所についても記載すること。
C32: ※3 附属物等の取付状態の○欄については、応急措置前に判定区分×とした箇所のうち応急措置により○判定とした箇所の数を記入すること。
C33: ※4 附属物等の異常番号は、本体工と番号が重複しないよう101番以降とする等の配慮を行い、分かりやすく記録すること。

Sheet 様式B (6)
B2: ■定期点検記録様式 トンネル変状・異常箇所写真位置図 【様式B】 | N2: 定期点検年月日 | P2: 45892 | S2: 施設ID | V2: 33.97028,130.94306
B3: フリガナ | C3: ='様式A-1'!D3 -> ムクノトンネル ノボリ | G3: 路線名 | H3: ='様式A-1'!J3 -> 山口県道57号下関港線（上り） | K3: 管理者名 | L3: ='様式A-1'!R3 -> 山口県 下関土木建築事務所 | Q3: 定期点検実施者 | S3: アジア航測株式会社 | V3: 起点 | W3: 緯度 | X3: 33.97028
B4: 名 称 | C4: ='様式A-1'!D4 -> 椋野トンネル（上り） | S4: 飯田 琢巳 | W4: 経度 | X4: 130.94306
B5: 所在地 | C5: 自 | D5: ='様式A-1'!E5 -> 山口県下関市椋野町 | G5: トンネル工法 | I5: 矢板工法 | L5: トンネル延長 | N5: L= | O5: ='様式A-1'!Z5 -> 360 | P5: ｍ | Q5: 自専道 or 一般道 | R5: 一般道 | S5: 代替路の有無 | U5: 有 | V5: 終点 | W5: 緯度 | X5: 33.97050
C6: 至 | D6: ='様式A-1'!E6 -> 山口県下関市椋野町 | G6: 建設年度 | I6: ='様式A-1'!K7 -> 1962年 | L6: 幅員 | N6: L= | O6: ='様式A-1'!E15 -> 7 | P6: ｍ | S6: 緊急輸送道路 | W6: 経度 | X6: 130.94329
B7: トンネル毎 の健全性の 診断の区分 | D7: Ⅱ
G8: 変状・異常 箇所数合計 | I8: トンネル本体工 | J8: 材質劣化 | K8: Ⅱ | L8: 206 | N8: Ⅲ | O8: 0 | Q8: Ⅳ | R8: 0 | T8: 附属物等 の取付状態 | V8: ◯ （応急措置後) | X8: 0
J9: 漏水 | K9: Ⅱ | L9: 106 | N9: Ⅲ | O9: 0 | Q9: Ⅳ | R9: 0
V10: ✕ | X10: 34
J11: 外力 | K11: Ⅱ | L11: 0 | N11: Ⅲ | O11: 0 | Q11: Ⅳ | R11: 0
B12: トンネル変状・異常箇所写真位置図
J29: 注１：本位置図は、見下げた状態で記載すること。 注２：覆工スパン番号は横断目地毎(矢板工法の場合は上半アーチの 横断目地毎)に設定すること。 | Q29: 注３：写真番号に付する変状番号は、各覆工スパンの変状に対して新たに確認された場合 は順次追加していくこと。 注４：横断目地の変状は前の覆工スパン番号で計上すること。 注５：１枚に収まらない場合は、複数枚に分けて作成すること。
C30: ※1 トンネル本体工の変状数は、材質劣化、漏水に起因するものは変状単位で、外力に起因するものはスパン単位で計上すること。
C31: ※2 トンネル本体工の変状に対しては、措置の必要性（Ⅱ～Ⅳ）について表記すること。また、点検前に実施された措置によりⅠと判定された箇所についても記載すること。
C32: ※3 附属物等の取付状態の○欄については、応急措置前に判定区分×とした箇所のうち応急措置により○判定とした箇所の数を記入すること。
C33: ※4 附属物等の異常番号は、本体工と番号が重複しないよう101番以降とする等の配慮を行い、分かりやすく記録すること。

Sheet 様式C-1-1
B2: ■定期点検記録様式 全スパン定期点検結果総括表（トンネル本体工） 【様式C-1-1】
B3: フリガナ | F3: ='様式A-1'!D3 -> ムクノトンネル ノボリ | I3: 路線名 | K3: ='様式A-1'!J3 -> 山口県道57号下関港線（上り） | O3: 定期点検実施者 | P3: ='様式B (1)'!S3 -> アジア航測株式会社 | T3: 定期点検年月日 | X3: ='様式B (1)'!P2 -> 45892
B4: 名 称 | F4: ='様式A-1'!D4 -> 椋野トンネル（上り） | I4: 管理者名 | K4: ='様式A-1'!R3 -> 山口県 下関土木建築事務所 | P4: ='様式B (1)'!S4 -> 飯田 琢巳
C5: 覆工 スパン 番号 | E5: 変状 番号 | F5: 距離 （m） | G5: 変状部位 | I5: 変 状 の 内 容 | O5: 前回定期点検時の状態 | P5: 今回定期点検結果 | T5: 措置履歴 | Y5: 対応方針 ・ 特記事項
O6: 44168
G7: 対象箇所 | H7: 部位区分 | I7: 変状区分 | J7: 変状種類 | M7: 変状の発生範囲の規模 | N7: 前回定期点検時の変状の発生範囲及び規模 | O7: 対策区分 | P7: 対策区分 | R7: 調査の 要否 | S7: 措置の 要否 | T7: 実施 | U7: 措置の実施状況
P8: 応急措置前 | Q8: 応急措置後
B9: 定期点検結果 | C9: PS | E9: 1 | F9: 0 | G9: 坑門 | H9: 面壁・妻壁等 | I9: 材質劣化 | J9: うき・はく離 | M9: 0.035 | N9: 0.07 | O9: Ⅱa | P9: － | Q9: Ⅱa | R9: 否 | S9: 要対策 | T9: 未 | U9: － | Y9: はく落防止工
C10: PS | E10: 2 | F10: 0.1 | G10: 覆工 | H10: アーチ（天端） | I10: 材質劣化 | J10: 鋼材腐食 | M10: 0.09 | N10: 0.09 | O10: Ⅱb | P10: － | Q10: Ⅱb | R10: 否 | S10: 要監視 | T10: 未 | U10: － | Y10: 継続監視
C11: PS | E11: 3 | F11: 1 | G11: 覆工 | H11: 横断目地（左側） | I11: 漏水 | J11: 漏水 | M11: 2.3 | N11: （新規確認） | O11: － | P11: － | Q11: Ⅱb | R11: 否 | S11: 要監視 | T11: 未 | U11: － | Y11: 監視
C12: S1 | E12: 1 | F12: 4 | G12: 覆工 | H12: アーチ（天端） | I12: 材質劣化 | J12: 鋼材腐食 | M12: 0.09 | N12: 0.09 | O12: Ⅱb | P12: － | Q12: Ⅱb | R12: 否 | S12: 要監視 | T12: 未 | U12: － | Y12: 継続監視
C13: S1 | E13: 2 | F13: 6.2 | G13: 覆工 | H13: 横断目地（左側） | I13: 材質劣化 | J13: うき・はく離 | M13: 0.64 | N13: 1.02 | O13: Ⅱa | P13: － | Q13: Ⅱa | R13: 否 | S13: 要対策 | T13: 未 | U13: － | Y13: はく落防止工
C14: S1 | E14: 3 | F14: 1.8 | G14: 覆工 | H14: アーチ（左側） | I14: 漏水 | J14: 漏水 | M14: 2.7 | N14: （新規確認） | O14: － | P14: － | Q14: Ⅱb | R14: 否 | S14: 要監視 | T14: 未 | U14: － | Y14: 監視
C15: S1 | E15: 4 | F15: 6.4 | G15: 覆工 | H15: 横断目地（右側） | I15: 漏水 | J15: 補修・補強材の破損 | M15: 0.08 | N15: （新規確認） | O15: － | P15: － | Q15: Ⅱb | R15: 否 | S15: 要監視 | T15: 未 | U15: － | Y15: 監視
C16: S2 | E16: 1 | F16: 9.8 | G16: 覆工 | H16: アーチ（天端） | I16: 材質劣化 | J16: 鋼材腐食 | M16: 0.09 | N16: 0.09 | O16: Ⅱb | P16: － | Q16: Ⅱb | R16: 否 | S16: 要監視 | T16: 未 | U16: － | Y16: 継続監視
C17: S2 | E17: 2 | F17: 10.5 | G17: 覆工 | H17: アーチ（左側） | I17: 漏水 | J17: 漏水 | M17: 3.4 | N17: 2.52 | O17: Ⅱb | P17: － | Q17: Ⅱb | R17: 否 | S17: 要監視 | T17: 未 | U17: － | Y17: 継続監視
C18: S3 | E18: 1 | F18: 17.4 | G18: 覆工 | H18: 横断目地（左側） | I18: 漏水 | J18: 漏水 | M18: 2.35 | N18: 2.25 | O18: Ⅱb | P18: － | Q18: Ⅱb | R18: 否 | S18: 要監視 | T18: 未 | U18: － | Y18: 継続監視
C19: S3 | E19: 2 | F19: 17.4 | G19: 覆工 | H19: 横断目地（左側） | I19: 材質劣化 | J19: うき・はく離 | M19: 0.45 | N19: 0.39 | O19: Ⅱa | P19: － | Q19: Ⅱa | R19: 否 | S19: 要対策 | T19: 未 | U19: － | Y19: はく落防止工
C20: S3 | E20: 3 | F20: 17.4 | G20: 覆工 | H20: 横断目地（右側） | I20: 漏水 | J20: 漏水 | M20: 2.45 | N20: 2.55 | O20: Ⅱb | P20: － | Q20: Ⅱb | R20: 否 | S20: 要監視 | T20: 未 | U20: － | Y20: 継続監視
C21: S3 | E21: 4 | F21: 17.4 | G21: 覆工 | H21: 横断目地（左側） | I21: 漏水 | J21: 漏水 | M21: 3.4 | N21: （新規確認） | O21: － | P21: － | Q21: Ⅱb | R21: 否 | S21: 要監視 | T21: 未 | U21: － | Y21: 監視
C22: S3 | E22: 5 | F22: 11.9 | G22: 覆工 | H22: 横断目地（右側） | I22: 漏水 | J22: 漏水 | M22: 3.1 | N22: （新規確認） | O22: － | P22: － | Q22: Ⅱb | R22: 否 | S22: 要監視 | T22: 未 | U22: － | Y22: 監視
C23: S4 | E23: 1 | F23: 23.4 | G23: 覆工 | H23: アーチ（左側） | I23: 漏水 | J23: 補修・補強材の破損 | M23: 0.04 | N23: （新規確認） | O23: － | P23: － | Q23: Ⅱb | R23: 否 | S23: 要監視 | T23: 未 | U23: － | Y23: 監視
C24: S4 | E24: 2 | F24: 18 | G24: 覆工 | H24: アーチ（右側） | I24: 漏水 | J24: 漏水 | M24: 3.15 | N24: （新規確認） | O24: － | P24: － | Q24: Ⅱb | R24: 否 | S24: 要監視 | T24: 未 | U24: － | Y24: 監視
C25: S4 | E25: 3 | F25: 17.7 | G25: 覆工 | H25: アーチ（右側） | I25: 漏水 | J25: 漏水 | M25: 2.5 | N25: （新規確認） | O25: － | P25: － | Q25: Ⅱb | R25: 否 | S25: 要監視 | T25: 未 | U25: － | Y25: 監視
C26: S4 | E26: 4 | F26: 26.5 | G26: 覆工 | H26: 横断目地（左側） | I26: 漏水 | J26: 補修・補強材の破損 | M26: 0.08 | N26: （新規確認） | O26: － | P26: － | Q26: Ⅱb | R26: 否 | S26: 要監視 | T26: 未 | U26: － | Y26: 監視
C27: S5 | E27: 1 | F27: 35.3 | G27: 覆工 | H27: 横断目地（左側） | I27: 材質劣化 | J27: うき・はく離 | M27: 0.28 | N27: 0.16 | O27: Ⅱa | P27: － | Q27: Ⅱa | R27: 否 | S27: 要対策 | T27: 未 | U27: － | Y27: はく落防止工
C28: S5 | E28: 2 | F28: 29.4 | G28: 覆工 | H28: アーチ（左側） | I28: 漏水 | J28: 補修・補強材の破損 | M28: 0.1 | N28: （新規確認） | O28: － | P28: － | Q28: Ⅱb | R28: 否 | S28: 要監視 | T28: 未 | U28: － | Y28: 監視
C29: S5 | E29: 3 | F29: 35.3 | G29: 覆工 | H29: 横断目地（左側） | I29: 漏水 | J29: 漏水 | M29: 3.75 | N29: （新規確認） | O29: － | P29: － | Q29: Ⅱb | R29: 否 | S29: 要監視 | T29: 未 | U29: － | Y29: 監視
C30: S5 | E30: 4 | F30: 35.3 | G30: 覆工 | H30: 横断目地（右側） | I30: 漏水 | J30: 漏水 | M30: 3.1 | N30: （新規確認） | O30: － | P30: － | Q30: Ⅱb | R30: 否 | S30: 要監視 | T30: 未 | U30: － | Y30: 監視
C31: S6 | E31: 1 | F31: 40.1 | G31: 覆工 | H31: アーチ（天端） | I31: 材質劣化 | J31: 鋼材腐食 | M31: 0.09 | N31: 0.09 | O31: Ⅱb | P31: － | Q31: Ⅱb | R31: 否 | S31: 要監視 | T31: 未 | U31: － | Y31: 継続監視
C32: S6 | E32: 2 | F32: 39.1 | G32: 覆工 | H32: アーチ（左側） | I32: 材質劣化 | J32: うき・はく離 | M32: 0.4 | N32: 0.4 | O32: Ⅱa | P32: － | Q32: Ⅱa | R32: 否 | S32: 要対策 | T32: 未 | U32: － | Y32: はく落防止工
C33: S6 | E33: 3 | F33: 45.8 | G33: 覆工 | H33: アーチ（天端） | I33: 材質劣化 | J33: 鋼材腐食 | M33: 0.09 | N33: 0.09 | O33: Ⅱb | P33: － | Q33: Ⅱb | R33: 否 | S33: 要監視 | T33: 未 | U33: － | Y33: 継続監視
C34: S6 | E34: 4 | F34: 47.4 | G34: 覆工 | H34: アーチ（左側） | I34: 材質劣化 | J34: うき・はく離 | M34: 0.28 | N34: 0.28 | O34: Ⅱa | P34: － | Q34: Ⅱa | R34: 否 | S34: 要対策 | T34: 未 | U34: － | Y34: はく落防止工
C35: S6 | E35: 5 | F35: 37.8 | G35: 覆工 | H35: アーチ（右側） | I35: 漏水 | J35: 漏水 | M35: 2.5 | N35: （新規確認） | O35: － | P35: － | Q35: Ⅱb | R35: 否 | S35: 要監視 | T35: 未 | U35: － | Y35: 監視
C36: S7 | E36: 1 | F36: 51.8 | G36: 覆工 | H36: アーチ（天端） | I36: 材質劣化 | J36: 鋼材腐食 | M36: 0.09 | N36: 0.09 | O36: Ⅱb | P36: － | Q36: Ⅱb | R36: 否 | S36: 要監視 | T36: 未 | U36: － | Y36: 継続監視
C37: S7 | E37: 2 | F37: 51 | G37: 覆工 | H37: アーチ（右側） | I37: 漏水 | J37: 補修・補強材の破損 | M37: 0.04 | N37: （新規確認） | O37: － | P37: － | Q37: Ⅱb | R37: 否 | S37: 要監視 | T37: 未 | U37: － | Y37: 監視
C38: S7 | E38: 3 | F38: 52.6 | G38: 覆工 | H38: 水平打ち継ぎ目（右側） | I38: 材質劣化 | J38: うき・はく離 | M38: 0.255 | N38: （新規確認） | O38: － | P38: － | Q38: Ⅱa | R38: 否 | S38: 要対策 | T38: 未 | U38: － | Y38: はく落防止工
C39: S8 | E39: 1 | F39: 58.8 | G39: 覆工 | H39: アーチ（右側） | I39: 材質劣化 | J39: うき・はく離 | M39: 0.01 | N39: 0.01 | O39: Ⅱa | P39: － | Q39: Ⅱa | R39: 否 | S39: 要対策 | T39: 未 | U39: － | Y39: はく落防止工
C40: S8 | E40: 2 | F40: 58.2 | G40: 覆工 | H40: アーチ（天端） | I40: 材質劣化 | J40: 鋼材腐食 | M40: 0.09 | N40: 0.09 | O40: Ⅱb | P40: － | Q40: Ⅱb | R40: 否 | S40: 要監視 | T40: 未 | U40: － | Y40: 継続監視
C41: S9 | E41: 1 | F41: 64.3 | G41: 覆工 | H41: アーチ（天端） | I41: 材質劣化 | J41: 鋼材腐食 | M41: 0.09 | N41: 0.09 | O41: Ⅱb | P41: － | Q41: Ⅱb | R41: 否 | S41: 要監視 | T41: 未 | U41: － | Y41: 継続監視
C42: ※ 対策区分（応急措置後）のⅡb～Ⅳについて記入すること。また、点検前に実施された措置によりⅠと判定された変状も記入すること。
C43: ※ 応急措置を実施しないで判定した変状の対策区分は、対策区分の応急措置後の欄に記入すること。
C44: ※ 変状の除去が不完全で、緊急対応が必要な場合は対応方針欄に記入すること。
C45: ※ １区間の覆工に複数の変状がある場合は、変状箇所毎に記入すること。
C46: ※ 措置・監視点検を行った場合には、措置履歴、特記事項に記録を残すこと。（実施年度も記載）
C47: ※ 行が不足する場合は、適時、表の行を増やすこと。

Sheet 様式C-1-1 (2)
B2: ■定期点検記録様式 全スパン定期点検結果総括表（トンネル本体工） 【様式C-1-1】
B3: フリガナ | F3: ='様式A-1'!D3 -> ムクノトンネル ノボリ | I3: 路線名 | K3: ='様式A-1'!J3 -> 山口県道57号下関港線（上り） | O3: 定期点検実施者 | P3: ='様式B (1)'!S3 -> アジア航測株式会社 | T3: 定期点検年月日 | X3: ='様式B (1)'!P2 -> 45892
B4: 名 称 | F4: ='様式A-1'!D4 -> 椋野トンネル（上り） | I4: 管理者名 | K4: ='様式A-1'!R3 -> 山口県 下関土木建築事務所 | P4: ='様式B (1)'!S4 -> 飯田 琢巳
C5: 覆工 スパン 番号 | E5: 変状 番号 | F5: 距離 （m） | G5: 変状部位 | I5: 変 状 の 内 容 | O5: 前回定期点検時の状態 | P5: 今回定期点検結果 | T5: 措置履歴 | Y5: 対応方針 ・ 特記事項
O6: 44168
G7: 対象箇所 | H7: 部位区分 | I7: 変状区分 | J7: 変状種類 | M7: 変状の発生範囲の規模 | N7: 前回定期点検時の変状の発生範囲及び規模 | O7: 対策区分 | P7: 対策区分 | R7: 調査の 要否 | S7: 措置の 要否 | T7: 実施 | U7: 措置の実施状況
P8: 応急措置前 | Q8: 応急措置後
B9: 定期点検結果 | C9: S10 | E9: 1 | F9: 67 | G9: 覆工 | H9: 水平打ち継ぎ目（左側） | I9: 材質劣化 | J9: うき・はく離 | M9: 0.51 | N9: 0.48 | O9: Ⅱa | P9: － | Q9: Ⅱa | R9: 否 | S9: 要対策 | T9: 未 | U9: － | Y9: はく落防止工
C10: S10 | E10: 2 | F10: 70.8 | G10: 覆工 | H10: アーチ（天端） | I10: 材質劣化 | J10: 鋼材腐食 | M10: 0.09 | N10: 0.09 | O10: Ⅱb | P10: － | Q10: Ⅱb | R10: 否 | S10: 要監視 | T10: 未 | U10: － | Y10: 継続監視
C11: S10 | E11: 3 | F11: 72.7 | G11: 覆工 | H11: アーチ（右側） | I11: 材質劣化 | J11: うき・はく離 | M11: 0.03 | N11: 0.03 | O11: Ⅱa | P11: － | Q11: Ⅱa | R11: 否 | S11: 要対策 | T11: 未 | U11: － | Y11: はく落防止工
C12: S10 | E12: 4 | F12: 72.7 | G12: 覆工 | H12: アーチ（右側） | I12: 材質劣化 | J12: うき・はく離 | M12: 0.03 | N12: 0.03 | O12: Ⅱa | P12: － | Q12: Ⅱa | R12: 否 | S12: 要対策 | T12: 未 | U12: － | Y12: はく落防止工
C13: S10 | E13: 5 | F13: 72.7 | G13: 覆工 | H13: 横断目地（左側） | I13: 材質劣化 | J13: うき・はく離 | M13: 0.2 | N13: 1 | O13: Ⅱa | P13: － | Q13: Ⅱa | R13: 否 | S13: 要対策 | T13: 未 | U13: － | Y13: はく落防止工
C14: S10 | E14: 6 | F14: 66.7 | G14: 覆工 | H14: 横断目地（左側） | I14: 漏水 | J14: 補修・補強材の破損 | M14: 0.01 | N14: （新規確認） | O14: － | P14: － | Q14: Ⅱb | R14: 否 | S14: 要監視 | T14: 未 | U14: － | Y14: 監視
C15: S10 | E15: 7 | F15: 72.7 | G15: 覆工 | H15: 横断目地（右側） | I15: 漏水 | J15: 漏水 | M15: 3 | N15: （新規確認） | O15: － | P15: － | Q15: Ⅱb | R15: 否 | S15: 要監視 | T15: 未 | U15: － | Y15: 監視
C16: S10 | E16: 8 | F16: 68.7 | G16: 覆工 | H16: アーチ（右側） | I16: 材質劣化 | J16: うき・はく離 | M16: 0.06 | N16: （新規確認） | O16: － | P16: － | Q16: Ⅱa | R16: 否 | S16: 要対策 | T16: 未 | U16: － | Y16: はく落防止工
C17: S11 | E17: 1 | F17: 73.1 | G17: 覆工 | H17: アーチ（左側） | I17: 材質劣化 | J17: うき・はく離 | M17: 0.3 | N17: 0.33 | O17: Ⅱa | P17: － | Q17: Ⅱa | R17: 否 | S17: 要対策 | T17: 未 | U17: － | Y17: はく落防止工
C18: S11 | E18: 2 | F18: 76.3 | G18: 覆工 | H18: アーチ（天端） | I18: 材質劣化 | J18: 鋼材腐食 | M18: 0.09 | N18: 0.09 | O18: Ⅱb | P18: － | Q18: Ⅱb | R18: 否 | S18: 要監視 | T18: 未 | U18: － | Y18: 継続監視
C19: S11 | E19: 3 | F19: 77.7 | G19: 覆工 | H19: アーチ（左側） | I19: 漏水 | J19: 漏水 | M19: 2.5 | N19: 4.86 | O19: Ⅱb | P19: － | Q19: Ⅱb | R19: 否 | S19: 要監視 | T19: 未 | U19: － | Y19: 継続監視
C20: S11 | E20: 4 | F20: 78.9 | G20: 覆工 | H20: 横断目地（天端） | I20: 材質劣化 | J20: うき・はく離 | M20: 0.28 | N20: 0.28 | O20: Ⅱa | P20: － | Q20: Ⅱa | R20: 否 | S20: 要対策 | T20: 未 | U20: － | Y20: はく落防止工
C21: S12 | E21: 1 | F21: 80.1 | G21: 覆工 | H21: アーチ（右側） | I21: 材質劣化 | J21: うき・はく離 | M21: 0.0225 | N21: 0.0225 | O21: Ⅱa | P21: － | Q21: Ⅱa | R21: 否 | S21: 要対策 | T21: 未 | U21: － | Y21: はく落防止工
C22: S12 | E22: 2 | F22: 82.8 | G22: 覆工 | H22: アーチ（右側） | I22: 材質劣化 | J22: うき・はく離 | M22: 0.0225 | N22: 0.01 | O22: Ⅱa | P22: － | Q22: Ⅱa | R22: 否 | S22: 要対策 | T22: 未 | U22: － | Y22: はく落防止工
C23: S12 | E23: 3 | F23: 83.8 | G23: 覆工 | H23: アーチ（左側） | I23: 材質劣化 | J23: 鋼材腐食 | M23: 0.04 | N23: 0.04 | O23: Ⅱa | P23: － | Q23: Ⅱb | R23: 否 | S23: 要監視 | T23: 未 | U23: － | Y23: 継続監視
C24: S12 | E24: 4 | F24: 82 | G24: 覆工 | H24: 水平打ち継ぎ目（左側） | I24: 材質劣化 | J24: うき・はく離 | M24: 0.075 | N24: （新規確認） | O24: － | P24: － | Q24: Ⅱa | R24: 否 | S24: 要対策 | T24: 未 | U24: － | Y24: はく落防止工
C25: S12 | E25: 5 | F25: 81 | G25: 覆工 | H25: アーチ（左側） | I25: 材質劣化 | J25: うき・はく離 | M25: 0.0225 | N25: （新規確認） | O25: － | P25: － | Q25: Ⅱa | R25: 否 | S25: 要対策 | T25: 未 | U25: － | Y25: はく落防止工
C26: S12 | E26: 6 | F26: 82.5 | G26: 覆工 | H26: アーチ（天端） | I26: 材質劣化 | J26: 鋼材腐食 | M26: 0.09 | N26: （新規確認） | O26: － | P26: － | Q26: Ⅱb | R26: 否 | S26: 要監視 | T26: 未 | U26: － | Y26: 監視
C27: S12 | E27: 7 | F27: 80.8 | G27: 覆工 | H27: 水平打ち継ぎ目（右側） | I27: 漏水 | J27: 漏水 | M27: 2.6 | N27: （新規確認） | O27: － | P27: － | Q27: Ⅱb | R27: 否 | S27: 要監視 | T27: 未 | U27: － | Y27: 監視
C28: S13 | E28: 1 | F28: 85 | G28: 覆工 | H28: アーチ（左側） | I28: 材質劣化 | J28: うき・はく離 | M28: 0.0225 | N28: 0.0225 | O28: Ⅱa | P28: － | Q28: Ⅱa | R28: 否 | S28: 要対策 | T28: 未 | U28: － | Y28: はく落防止工
C29: S13 | E29: 2 | F29: 85.9 | G29: 覆工 | H29: 水平打ち継ぎ目（右側） | I29: 材質劣化 | J29: うき・はく離 | M29: 0.25 | N29: 0.19 | O29: Ⅱa | P29: － | Q29: Ⅱa | R29: 否 | S29: 要対策 | T29: 未 | U29: － | Y29: はく落防止工
C30: S13 | E30: 3 | F30: 86.4 | G30: 覆工 | H30: アーチ（左側） | I30: 材質劣化 | J30: うき・はく離 | M30: 0.0225 | N30: 0.0225 | O30: Ⅱa | P30: － | Q30: Ⅱa | R30: 否 | S30: 要対策 | T30: 未 | U30: － | Y30: はく落防止工
C31: S13 | E31: 4 | F31: 88.2 | G31: 覆工 | H31: アーチ（天端） | I31: 材質劣化 | J31: 鋼材腐食 | M31: 0.09 | N31: 0.09 | O31: Ⅱb | P31: － | Q31: Ⅱb | R31: 否 | S31: 要監視 | T31: 未 | U31: － | Y31: 継続監視
C32: S13 | E32: 5 | F32: 88.6 | G32: 覆工 | H32: アーチ（右側） | I32: 材質劣化 | J32: うき・はく離 | M32: 0.0225 | N32: 0.0225 | O32: Ⅱa | P32: － | Q32: Ⅱa | R32: 否 | S32: 要対策 | T32: 未 | U32: － | Y32: はく落防止工
C33: S14 | E33: 1 | F33: 90.4 | G33: 覆工 | H33: アーチ（天端） | I33: 材質劣化 | J33: うき・はく離 | M33: 0.0225 | N33: 0.0225 | O33: Ⅱa | P33: － | Q33: Ⅱa | R33: 否 | S33: 要対策 | T33: 未 | U33: － | Y33: はく落防止工
C34: S14 | E34: 2 | F34: 89.7 | G34: 覆工 | H34: アーチ（左側） | I34: 材質劣化 | J34: うき・はく離 | M34: 0.0225 | N34: 0.0225 | O34: Ⅱa | P34: － | Q34: Ⅱa | R34: 否 | S34: 要対策 | T34: 未 | U34: － | Y34: はく落防止工
C35: S14 | E35: 3 | F35: 91.2 | G35: 覆工 | H35: アーチ（左側） | I35: 材質劣化 | J35: うき・はく離 | M35: 0.0225 | N35: 0.0225 | O35: Ⅱa | P35: － | Q35: Ⅱa | R35: 否 | S35: 要対策 | T35: 未 | U35: － | Y35: はく落防止工
C36: S14 | E36: 4 | F36: 91.2 | G36: 覆工 | H36: アーチ（右側） | I36: 材質劣化 | J36: うき・はく離 | M36: 0.01 | N36: 0.01 | O36: Ⅱa | P36: － | Q36: Ⅱa | R36: 否 | S36: 要対策 | T36: 未 | U36: － | Y36: はく落防止工
C37: S14 | E37: 5 | F37: 93.2 | G37: 覆工 | H37: アーチ（天端） | I37: 漏水 | J37: 漏水 | M37: 3.6 | N37: 3.95 | O37: Ⅱb | P37: － | Q37: Ⅱb | R37: 否 | S37: 要監視 | T37: 未 | U37: － | Y37: 継続監視
C38: S14 | E38: 6 | F38: 94 | G38: 覆工 | H38: 横断目地（右側） | I38: 材質劣化 | J38: うき・はく離 | M38: 0.24 | N38: 0.24 | O38: Ⅱa | P38: － | Q38: Ⅱa | R38: 否 | S38: 要対策 | T38: 未 | U38: － | Y38: はく落防止工
C39: S14 | E39: 7 | F39: 89 | G39: 覆工 | H39: アーチ（右側） | I39: 材質劣化 | J39: うき・はく離 | M39: 0.15 | N39: 0.18 | O39: Ⅱa | P39: － | Q39: Ⅱa | R39: 否 | S39: 要対策 | T39: 未 | U39: － | Y39: はく落防止工
C40: S14 | E40: 8 | F40: 91.8 | G40: 覆工 | H40: 水平打ち継ぎ目（右側） | I40: 漏水 | J40: 漏水 | M40: 1.25 | N40: （新規確認） | O40: － | P40: － | Q40: Ⅱb | R40: 否 | S40: 要監視 | T40: 未 | U40: － | Y40: 監視
C41: S15 | E41: 1 | F41: 94.3 | G41: 覆工 | H41: アーチ（天端） | I41: 材質劣化 | J41: 鋼材腐食 | M41: 0.09 | N41: 0.09 | O41: Ⅱb | P41: － | Q41: Ⅱb | R41: 否 | S41: 要監視 | T41: 未 | U41: － | Y41: 継続監視
C42: ※ 対策区分（応急措置後）のⅡb～Ⅳについて記入すること。また、点検前に実施された措置によりⅠと判定された変状も記入すること。
C43: ※ 応急措置を実施しないで判定した変状の対策区分は、対策区分の応急措置後の欄に記入すること。
C44: ※ 変状の除去が不完全で、緊急対応が必要な場合は対応方針欄に記入すること。
C45: ※ １区間の覆工に複数の変状がある場合は、変状箇所毎に記入すること。
C46: ※ 措置・監視点検を行った場合には、措置履歴、特記事項に記録を残すこと。（実施年度も記載）
C47: ※ 行が不足する場合は、適時、表の行を増やすこと。

Sheet 様式C-1-1 (3)
B2: ■定期点検記録様式 全スパン定期点検結果総括表（トンネル本体工） 【様式C-1-1】
B3: フリガナ | F3: ='様式A-1'!D3 -> ムクノトンネル ノボリ | I3: 路線名 | K3: ='様式A-1'!J3 -> 山口県道57号下関港線（上り） | O3: 定期点検実施者 | P3: ='様式B (1)'!S3 -> アジア航測株式会社 | T3: 定期点検年月日 | X3: ='様式B (1)'!P2 -> 45892
B4: 名 称 | F4: ='様式A-1'!D4 -> 椋野トンネル（上り） | I4: 管理者名 | K4: ='様式A-1'!R3 -> 山口県 下関土木建築事務所 | P4: ='様式B (1)'!S4 -> 飯田 琢巳
C5: 覆工 スパン 番号 | E5: 変状 番号 | F5: 距離 （m） | G5: 変状部位 | I5: 変 状 の 内 容 | O5: 前回定期点検時の状態 | P5: 今回定期点検結果 | T5: 措置履歴 | Y5: 対応方針 ・ 特記事項
O6: 44168
G7: 対象箇所 | H7: 部位区分 | I7: 変状区分 | J7: 変状種類 | M7: 変状の発生範囲の規模 | N7: 前回定期点検時の変状の発生範囲及び規模 | O7: 対策区分 | P7: 対策区分 | R7: 調査の 要否 | S7: 措置の 要否 | T7: 実施 | U7: 措置の実施状況
P8: 応急措置前 | Q8: 応急措置後
B9: 定期点検結果 | C9: S15 | E9: 2 | F9: 96 | G9: 覆工 | H9: アーチ（左側） | I9: 材質劣化 | J9: うき・はく離 | M9: 0.0225 | N9: 0.0225 | O9: Ⅱa | P9: － | Q9: Ⅱa | R9: 否 | S9: 要対策 | T9: 未 | U9: － | Y9: はく落防止工
C10: S15 | E10: 3 | F10: 98.7 | G10: 覆工 | H10: アーチ（左側） | I10: 材質劣化 | J10: その他 | M10: 0.04 | N10: 0.04 | O10: Ⅱb | P10: － | Q10: Ⅱb | R10: 否 | S10: 要監視 | T10: 未 | U10: － | Y10: 継続監視
C11: S15 | E11: 4 | F11: 100.3 | G11: 覆工 | H11: アーチ（天端） | I11: 材質劣化 | J11: 鋼材腐食 | M11: 0.09 | N11: 0.09 | O11: Ⅱb | P11: － | Q11: Ⅱb | R11: 否 | S11: 要監視 | T11: 未 | U11: － | Y11: 継続監視
C12: S15 | E12: 5 | F12: 98.6 | G12: 覆工 | H12: 水平打ち継ぎ目（右側） | I12: 材質劣化 | J12: うき・はく離 | M12: 1.68 | N12: 0.3 | O12: Ⅱa | P12: － | Q12: Ⅱa | R12: 否 | S12: 要対策 | T12: 未 | U12: － | Y12: はく落防止工
C13: S15 | E13: 6 | F13: 101.4 | G13: 覆工 | H13: アーチ（左側） | I13: 材質劣化 | J13: うき・はく離 | M13: 0.0225 | N13: 0.0225 | O13: Ⅱa | P13: － | Q13: Ⅱa | R13: 否 | S13: 要対策 | T13: 未 | U13: － | Y13: はく落防止工
C14: S15 | E14: 7 | F14: 96.4 | G14: 覆工 | H14: 水平打ち継ぎ目（左側） | I14: 材質劣化 | J14: うき・はく離 | M14: 0.42 | N14: （新規確認） | O14: － | P14: － | Q14: Ⅱa | R14: 否 | S14: 要対策 | T14: 未 | U14: － | Y14: はく落防止工
C15: S15 | E15: 8 | F15: 94 | G15: 覆工 | H15: 横断目地（右側） | I15: 漏水 | J15: 漏水 | M15: 1.7 | N15: （新規確認） | O15: － | P15: － | Q15: Ⅱb | R15: 否 | S15: 要監視 | T15: 未 | U15: － | Y15: 監視
C16: S15 | E16: 9 | F16: 94.2 | G16: 覆工 | H16: 横断目地（右側） | I16: 材質劣化 | J16: うき・はく離 | M16: 0.06 | N16: （新規確認） | O16: － | P16: － | Q16: Ⅱa | R16: 否 | S16: 要対策 | T16: 未 | U16: － | Y16: はく落防止工
C17: S15 | E17: 10 | F17: 100.7 | G17: 覆工 | H17: 横断目地（左側） | I17: 材質劣化 | J17: うき・はく離 | M17: 0.085 | N17: （新規確認） | O17: － | P17: － | Q17: Ⅱa | R17: 否 | S17: 要対策 | T17: 未 | U17: － | Y17: はく落防止工
C18: S16 | E18: 1 | F18: 107.1 | G18: 覆工 | H18: アーチ（左側） | I18: 漏水 | J18: 漏水 | M18: 3.5 | N18: 3.3 | O18: Ⅱa | P18: － | Q18: Ⅱb | R18: 否 | S18: 要監視 | T18: 未 | U18: － | Y18: 判定見直し
C19: S16 | E19: 2 | F19: 107.1 | G19: 覆工 | H19: アーチ（左側） | I19: 材質劣化 | J19: うき・はく離 | M19: 0.09 | N19: 0.09 | O19: Ⅱa | P19: － | Q19: Ⅱa | R19: 否 | S19: 要対策 | T19: 未 | U19: － | Y19: はく落防止工
C20: S16 | E20: 3 | F20: 107.1 | G20: 覆工 | H20: アーチ（天端） | I20: 材質劣化 | J20: うき・はく離 | M20: 0.02 | N20: 0.08 | O20: Ⅱa | P20: － | Q20: Ⅱa | R20: 否 | S20: 要対策 | T20: 未 | U20: － | Y20: はく落防止工
C21: S16 | E21: 4 | F21: 107.1 | G21: 覆工 | H21: 横断目地（右側） | I21: 漏水 | J21: 漏水 | M21: - | N21: 3.4 | O21: Ⅱa | P21: － | Q21: Ⅰ | R21: 否 | S21: 否 | T21: 未 | U21: － | Y21: （補修済）
C22: S16 | E22: 5 | F22: 106.7 | G22: 路面 | H22: 車道 | J22: その他 | M22: - | N22: 1.8 | O22: Ⅱa | P22: － | R22: 否 | S22: 否 | U22: ー
C23: S16 | E23: 6 | F23: 106.4 | G23: 路面 | H23: 車道 | J23: その他 | M23: - | N23: 1.26 | O23: Ⅱa | P23: － | R23: 否 | S23: 否 | U23: －
C24: S16 | E24: 7 | F24: 105.5 | G24: 覆工 | H24: アーチ（左側） | I24: 漏水 | J24: 補修・補強材の破損 | M24: 0.04 | N24: （新規確認） | O24: － | P24: － | Q24: Ⅱb | R24: 否 | S24: 要監視 | T24: 未 | U24: － | Y24: 監視
C25: S17 | E25: 1 | F25: 110.2 | G25: 覆工 | H25: 水平打ち継ぎ目（右側） | I25: 材質劣化 | J25: うき・はく離 | M25: 0.22 | N25: 0.15 | O25: Ⅱa | P25: － | Q25: Ⅱa | R25: 否 | S25: 要対策 | T25: 未 | U25: － | Y25: はく落防止工
C26: S17 | E26: 2 | F26: 111.4 | G26: 覆工 | H26: 横断目地（右側） | I26: 漏水 | J26: 漏水 | M26: 3.4 | N26: 3.6 | O26: Ⅱb | P26: － | Q26: Ⅱb | R26: 否 | S26: 要監視 | T26: 未 | U26: － | Y26: 継続監視
C27: S18 | E27: 1 | F27: 111.8 | G27: 覆工 | H27: 水平打ち継ぎ目（左側） | I27: 材質劣化 | J27: うき・はく離 | M27: - | N27: 0.06 | O27: Ⅱa | P27: － | Q27: Ⅰ | R27: 否 | S27: 要対策 | T27: 未 | U27: －
C28: S18 | E28: 2 | F28: 112.2 | G28: 覆工 | H28: アーチ（天端） | I28: 材質劣化 | J28: 鋼材腐食 | M28: 0.09 | N28: 0.09 | O28: Ⅱb | P28: － | Q28: Ⅱb | R28: 否 | S28: 要監視 | T28: 未 | U28: － | Y28: 継続監視
C29: S18 | E29: 3 | F29: 115.9 | G29: 覆工 | H29: 水平打ち継ぎ目（右側） | I29: 材質劣化 | J29: うき・はく離 | M29: 0.025 | N29: 0.0275 | O29: Ⅱa | P29: － | Q29: Ⅱa | R29: 否 | S29: 要対策 | T29: 未 | U29: － | Y29: はく落防止工
C30: S18 | E30: 4 | F30: 112.6 | G30: 覆工 | H30: 水平打ち継ぎ目（右側） | I30: 漏水 | J30: 漏水 | M30: 2.16 | N30: （新規確認） | O30: － | P30: － | Q30: Ⅱb | R30: 否 | S30: 要監視 | T30: 未 | U30: － | Y30: 監視
C31: S19 | E31: 1 | F31: 117.7 | G31: 覆工 | H31: アーチ（右側） | I31: 材質劣化 | J31: その他 | M31: 0.7 | N31: 0.7 | O31: Ⅱb | P31: － | Q31: Ⅱb | R31: 否 | S31: 要監視 | T31: 未 | U31: － | Y31: 継続監視
C32: S19 | E32: 2 | F32: 117.7 | G32: 覆工 | H32: アーチ（左側） | I32: 材質劣化 | J32: 圧ざ、ひび割れ | M32: 0.6 | N32: 0.57 | O32: Ⅱb | P32: － | Q32: Ⅱb | R32: 否 | S32: 要監視 | T32: 未 | U32: － | Y32: 継続監視
C33: S19 | E33: 3 | F33: 117.8 | G33: 覆工 | H33: 水平打ち継ぎ目（右側） | I33: 材質劣化 | J33: うき・はく離 | M33: 0.28 | N33: 0.12 | O33: Ⅱa | P33: － | Q33: Ⅱa | R33: 否 | S33: 要対策 | T33: 未 | U33: － | Y33: はく落防止工
C34: S19 | E34: 4 | F34: 118.4 | G34: 覆工 | H34: アーチ（天端） | I34: 材質劣化 | J34: 鋼材腐食 | M34: 0.09 | N34: 0.09 | O34: Ⅱb | P34: － | Q34: Ⅱb | R34: 否 | S34: 要監視 | T34: 未 | U34: － | Y34: 継続監視
C35: S19 | E35: 5 | F35: 120.2 | G35: 覆工 | H35: アーチ（左側） | I35: 材質劣化 | J35: その他 | M35: 0.66 | N35: 0.66 | O35: Ⅱb | P35: － | Q35: Ⅱb | R35: 否 | S35: 要監視 | T35: 未 | U35: － | Y35: 継続監視
C36: S19 | E36: 6 | F36: 120.8 | G36: 覆工 | H36: アーチ（左側） | I36: 材質劣化 | J36: 圧ざ、ひび割れ | M36: 0.28 | N36: 0.27 | O36: Ⅱb | P36: － | Q36: Ⅱb | R36: 否 | S36: 要監視 | T36: 未 | U36: － | Y36: 継続監視
C37: S19 | E37: 7 | F37: 119.4 | G37: 覆工 | H37: 水平打ち継ぎ目（右側） | I37: 材質劣化 | J37: うき・はく離 | M37: 0.1 | N37: （新規確認） | O37: － | P37: － | Q37: Ⅱa | R37: 否 | S37: 要対策 | T37: 未 | U37: － | Y37: はく落防止工
C38: S20 | E38: 1 | F38: 124.7 | G38: 覆工 | H38: アーチ（天端） | I38: 材質劣化 | J38: 鋼材腐食 | M38: 0.09 | N38: 0.09 | O38: Ⅱb | P38: － | Q38: Ⅱb | R38: 否 | S38: 要監視 | T38: 未 | U38: － | Y38: 継続監視
C39: S20 | E39: 2 | F39: 128 | G39: 覆工 | H39: 横断目地（右側） | I39: 漏水 | J39: 補修・補強材の破損 | M39: 0.12 | N39: （新規確認） | O39: － | P39: － | Q39: Ⅱb | R39: 否 | S39: 要監視 | T39: 未 | U39: － | Y39: 監視
C40: S21 | E40: 1 | F40: 129.1 | G40: 覆工 | H40: アーチ（左側） | I40: 材質劣化 | J40: うき・はく離 | M40: 0.03 | N40: 0.0225 | O40: Ⅱa | P40: － | Q40: Ⅱa | R40: 否 | S40: 要対策 | T40: 未 | U40: － | Y40: はく落防止工
C41: S21 | E41: 2 | F41: 130.4 | G41: 覆工 | H41: アーチ（天端） | I41: 材質劣化 | J41: その他 | M41: 0.18 | N41: 0.18 | O41: Ⅱb | P41: － | Q41: Ⅱb | R41: 否 | S41: 要監視 | T41: 未 | U41: － | Y41: 継続監視
C42: ※ 対策区分（応急措置後）のⅡb～Ⅳについて記入すること。また、点検前に実施された措置によりⅠと判定された変状も記入すること。
C43: ※ 応急措置を実施しないで判定した変状の対策区分は、対策区分の応急措置後の欄に記入すること。
C44: ※ 変状の除去が不完全で、緊急対応が必要な場合は対応方針欄に記入すること。
C45: ※ １区間の覆工に複数の変状がある場合は、変状箇所毎に記入すること。
C46: ※ 措置・監視点検を行った場合には、措置履歴、特記事項に記録を残すこと。（実施年度も記載）
C47: ※ 行が不足する場合は、適時、表の行を増やすこと。

Sheet 様式C-1-1 (4)
B2: ■定期点検記録様式 全スパン定期点検結果総括表（トンネル本体工） 【様式C-1-1】
B3: フリガナ | F3: ='様式A-1'!D3 -> ムクノトンネル ノボリ | I3: 路線名 | K3: ='様式A-1'!J3 -> 山口県道57号下関港線（上り） | O3: 定期点検実施者 | P3: ='様式B (1)'!S3 -> アジア航測株式会社 | T3: 定期点検年月日 | X3: ='様式B (1)'!P2 -> 45892
B4: 名 称 | F4: ='様式A-1'!D4 -> 椋野トンネル（上り） | I4: 管理者名 | K4: ='様式A-1'!R3 -> 山口県 下関土木建築事務所 | P4: ='様式B (1)'!S4 -> 飯田 琢巳
C5: 覆工 スパン 番号 | E5: 変状 番号 | F5: 距離 （m） | G5: 変状部位 | I5: 変 状 の 内 容 | O5: 前回定期点検時の状態 | P5: 今回定期点検結果 | T5: 措置履歴 | Y5: 対応方針 ・ 特記事項
O6: 44168
G7: 対象箇所 | H7: 部位区分 | I7: 変状区分 | J7: 変状種類 | M7: 変状の発生範囲の規模 | N7: 前回定期点検時の変状の発生範囲及び規模 | O7: 対策区分 | P7: 対策区分 | R7: 調査の 要否 | S7: 措置の 要否 | T7: 実施 | U7: 措置の実施状況
P8: 応急措置前 | Q8: 応急措置後
B9: 定期点検結果 | C9: S21 | E9: 3 | F9: 130.8 | G9: 覆工 | H9: アーチ（天端） | I9: 材質劣化 | J9: 鋼材腐食 | M9: 0.09 | N9: 0.09 | O9: Ⅱb | P9: － | Q9: Ⅱb | R9: 否 | S9: 要監視 | T9: 未 | U9: － | Y9: 継続監視
C10: S21 | E10: 4 | F10: 131.9 | G10: 覆工 | H10: アーチ（左側） | I10: 材質劣化 | J10: その他 | M10: 0.3 | N10: 0.51 | O10: Ⅱb | P10: － | Q10: Ⅱb | R10: 否 | S10: 要監視 | T10: 未 | U10: － | Y10: 継続監視
C11: S21 | E11: 5 | F11: 133.7 | G11: 覆工 | H11: アーチ（右側） | I11: 材質劣化 | J11: その他 | M11: 0.2 | N11: 0.3 | O11: Ⅱb | P11: － | Q11: Ⅱb | R11: 否 | S11: 要監視 | T11: 未 | U11: － | Y11: 継続監視
C12: S21 | E12: 6 | F12: 133.4 | G12: 覆工 | H12: 水平打ち継ぎ目（右側） | I12: 材質劣化 | J12: うき・はく離 | M12: 0.225 | N12: 0.135 | O12: Ⅱa | P12: － | Q12: Ⅰ | R12: 否 | S12: 否 | T12: 未 | U12: － | Y12: 判定見直し
C13: S22 | E13: 1 | F13: 136.1 | G13: 覆工 | H13: アーチ（左側） | I13: 材質劣化 | J13: その他 | M13: 0.12 | N13: 0.1 | O13: Ⅱb | P13: － | Q13: Ⅱb | R13: 否 | S13: 要監視 | T13: 未 | U13: － | Y13: 継続監視
C14: S22 | E14: 2 | F14: 136.5 | G14: 覆工 | H14: アーチ（左側） | I14: 材質劣化 | J14: その他 | M14: 0.0625 | N14: 0.0625 | O14: Ⅱb | P14: － | Q14: Ⅱb | R14: 否 | S14: 要監視 | T14: 未 | U14: － | Y14: 継続監視
C15: S22 | E15: 3 | F15: 137 | G15: 覆工 | H15: アーチ（天端） | I15: 材質劣化 | J15: 鋼材腐食 | M15: 0.09 | N15: 0.09 | O15: Ⅱb | P15: － | Q15: Ⅱb | R15: 否 | S15: 要監視 | T15: 未 | U15: － | Y15: 継続監視
C16: S22 | E16: 4 | F16: 136.6 | G16: 覆工 | H16: 水平打ち継ぎ目（左側） | I16: 材質劣化 | J16: うき・はく離 | M16: 0.24 | N16: 0.36 | O16: Ⅱa | P16: － | Q16: Ⅱa | R16: 否 | S16: 要対策 | T16: 未 | U16: － | Y16: はく落防止工
C17: S22 | E17: 5 | F17: 136.6 | G17: 覆工 | H17: アーチ（左側） | I17: 漏水 | J17: 漏水 | M17: 3.35 | N17: （新規確認） | O17: － | P17: － | Q17: Ⅱb | R17: 否 | S17: 要監視 | T17: 未 | U17: － | Y17: 監視
C18: S22 | E18: 6 | F18: 136.7 | G18: 覆工 | H18: アーチ（天端） | I18: 材質劣化 | J18: その他 | M18: 0.06 | N18: （新規確認） | O18: － | P18: － | Q18: Ⅱb | R18: 否 | S18: 要監視 | T18: 未 | U18: － | Y18: 監視
C19: S22 | E19: 7 | F19: 138.3 | G19: 覆工 | H19: アーチ（右側） | I19: 材質劣化 | J19: その他 | M19: 0.15 | N19: （新規確認） | O19: － | P19: － | Q19: Ⅱb | R19: 否 | S19: 要監視 | T19: 未 | U19: － | Y19: 監視
C20: S23 | E20: 1 | F20: 141 | G20: 覆工 | H20: アーチ（右側） | I20: 材質劣化 | J20: その他 | M20: 0.6 | N20: 0.6 | O20: Ⅱb | P20: － | Q20: Ⅱb | R20: 否 | S20: 要監視 | T20: 未 | U20: － | Y20: 継続監視
C21: S23 | E21: 2 | F21: 141 | G21: 覆工 | H21: アーチ（左側） | I21: 材質劣化 | J21: その他 | M21: 0.28 | N21: 0.28 | O21: Ⅱb | P21: － | Q21: Ⅱb | R21: 否 | S21: 要監視 | T21: 未 | U21: － | Y21: 継続監視
C22: S23 | E22: 3 | F22: 142.6 | G22: 覆工 | H22: アーチ（天端） | I22: 材質劣化 | J22: 鋼材腐食 | M22: 0.09 | N22: 0.09 | O22: Ⅱb | P22: － | Q22: Ⅱb | R22: 否 | S22: 要監視 | T22: 未 | U22: － | Y22: 継続監視
C23: S23 | E23: 4 | F23: 142.3 | G23: 覆工 | H23: アーチ（左側） | I23: 漏水 | J23: 漏水 | M23: 3.35 | N23: 4.15 | O23: Ⅱa | P23: － | Q23: Ⅱb | R23: 否 | S23: 要監視 | T23: 未 | U23: － | Y23: 判定見直し
C24: S23 | E24: 5 | F24: 144.5 | G24: 覆工 | H24: アーチ（右側） | I24: 漏水 | J24: 漏水 | M24: - | N24: 3.4 | O24: Ⅱa | P24: － | Q24: Ⅰ | R24: 否 | S24: 否 | T24: 未 | U24: － | Y24: （補修済）
C25: S23 | E25: 6 | F25: 145.1 | G25: 覆工 | H25: 横断目地（左側） | I25: 漏水 | J25: 漏水 | M25: 3 | N25: 3.05 | O25: Ⅱb | P25: － | Q25: Ⅱb | R25: 否 | S25: 要監視 | T25: 未 | U25: － | Y25: 継続監視
C26: S23 | E26: 7 | F26: 142.8 | G26: 路面 | H26: 車道 | J26: その他 | M26: - | N26: 1.36 | O26: Ⅱa | P26: － | R26: 否 | S26: 否 | U26: ー
C27: S23 | E27: 8 | F27: 144 | G27: 路面 | H27: 車道 | J27: その他 | M27: - | N27: 0.95 | O27: Ⅱa | P27: － | R27: 否 | S27: 否 | U27: －
C28: S23 | E28: 9 | F28: 141 | G28: 覆工 | H28: 水平打ち継ぎ目（左側） | I28: 漏水 | J28: 漏水 | M28: 2.52 | N28: （新規確認） | O28: － | P28: － | Q28: Ⅱb | R28: 否 | S28: 要監視 | T28: 未 | U28: － | Y28: 監視
C29: S24 | E29: 1 | F29: 147.1 | G29: 覆工 | H29: アーチ（天端） | I29: 材質劣化 | J29: うき・はく離 | M29: 0.01 | N29: 0.01 | O29: Ⅱa | P29: － | Q29: Ⅱa | R29: 否 | S29: 要対策 | T29: 未 | U29: － | Y29: はく落防止工
C30: S24 | E30: 2 | F30: 146.8 | G30: 覆工 | H30: 水平打ち継ぎ目（右側） | I30: 材質劣化 | J30: うき・はく離 | M30: 0.045 | N30: 0.045 | O30: Ⅱa | P30: － | Q30: Ⅱa | R30: 否 | S30: 要対策 | T30: 未 | U30: － | Y30: はく落防止工
C31: S24 | E31: 3 | F31: 148.4 | G31: 覆工 | H31: アーチ（天端） | I31: 材質劣化 | J31: 鋼材腐食 | M31: 0.09 | N31: 0.09 | O31: Ⅱb | P31: － | Q31: Ⅱb | R31: 否 | S31: 要監視 | T31: 未 | U31: － | Y31: 継続監視
C32: S24 | E32: 4 | F32: 148.2 | G32: 覆工 | H32: アーチ（右側） | I32: 漏水 | J32: 漏水 | M32: 2.1 | N32: 0.74 | O32: Ⅱb | P32: － | Q32: Ⅱb | R32: 否 | S32: 要監視 | T32: 未 | U32: － | Y32: 継続監視
C33: S25 | E33: 1 | F33: 149.9 | G33: 覆工 | H33: アーチ（右側） | I33: 材質劣化 | J33: うき・はく離 | M33: 0.01 | N33: 0.01 | O33: Ⅱa | P33: － | Q33: Ⅱa | R33: 否 | S33: 要対策 | T33: 未 | U33: － | Y33: はく落防止工
C34: S26 | E34: 1 | F34: 153.8 | G34: 覆工 | H34: アーチ（右側） | I34: 材質劣化 | J34: うき・はく離 | M34: 0.24 | N34: 0.0225 | O34: Ⅱa | P34: － | Q34: Ⅱa | R34: 否 | S34: 要対策 | T34: 未 | U34: － | Y34: はく落防止工
C35: S26 | E35: 2 | F35: 154.2 | G35: 覆工 | H35: 水平打ち継ぎ目（右側） | I35: 材質劣化 | J35: うき・はく離 | M35: 0.06 | N35: 0.03 | O35: Ⅱa | P35: － | Q35: Ⅱa | R35: 否 | S35: 要対策 | T35: 未 | U35: － | Y35: はく落防止工
C36: S26 | E36: 3 | F36: 154.9 | G36: 覆工 | H36: アーチ（天端） | I36: 材質劣化 | J36: 鋼材腐食 | M36: 0.09 | N36: 0.09 | O36: Ⅱb | P36: － | Q36: Ⅱb | R36: 否 | S36: 要監視 | T36: 未 | U36: － | Y36: 継続監視
C37: S26 | E37: 4 | F37: 158.4 | G37: 覆工 | H37: 水平打ち継ぎ目（右側） | I37: 材質劣化 | J37: うき・はく離 | M37: 0.13 | N37: 0.06 | O37: Ⅱa | P37: － | Q37: Ⅱa | R37: 否 | S37: 要対策 | T37: 未 | U37: － | Y37: はく落防止工
C38: S26 | E38: 5 | F38: 159.9 | G38: 覆工 | H38: 横断目地（左側） | I38: 材質劣化 | J38: うき・はく離 | M38: 0.06 | N38: 0.06 | O38: Ⅱa | P38: － | Q38: Ⅱa | R38: 否 | S38: 要対策 | T38: 未 | U38: － | Y38: はく落防止工
C39: S27 | E39: 1 | F39: 160.8 | G39: 覆工 | H39: アーチ（天端） | I39: 材質劣化 | J39: その他 | M39: 0.03 | N39: 0.02 | O39: Ⅱb | P39: － | Q39: Ⅱb | R39: 否 | S39: 要監視 | T39: 未 | U39: － | Y39: 継続監視
C40: S27 | E40: 2 | F40: 160.9 | G40: 覆工 | H40: アーチ（天端） | I40: 材質劣化 | J40: 鋼材腐食 | M40: 0.09 | N40: 0.09 | O40: Ⅱb | P40: － | Q40: Ⅱb | R40: 否 | S40: 要監視 | T40: 未 | U40: － | Y40: 継続監視
C41: S27 | E41: 3 | F41: 160.2 | G41: 覆工 | H41: 水平打ち継ぎ目（右側） | I41: 材質劣化 | J41: その他 | M41: 1.75 | N41: 0.45 | O41: Ⅱb | P41: － | Q41: Ⅱb | R41: 否 | S41: 要監視 | T41: 未 | U41: － | Y41: 継続監視
C42: ※ 対策区分（応急措置後）のⅡb～Ⅳについて記入すること。また、点検前に実施された措置によりⅠと判定された変状も記入すること。
C43: ※ 応急措置を実施しないで判定した変状の対策区分は、対策区分の応急措置後の欄に記入すること。
C44: ※ 変状の除去が不完全で、緊急対応が必要な場合は対応方針欄に記入すること。
C45: ※ １区間の覆工に複数の変状がある場合は、変状箇所毎に記入すること。
C46: ※ 措置・監視点検を行った場合には、措置履歴、特記事項に記録を残すこと。（実施年度も記載）
C47: ※ 行が不足する場合は、適時、表の行を増やすこと。

Sheet 様式C-1-1 (5)
B2: ■定期点検記録様式 全スパン定期点検結果総括表（トンネル本体工） 【様式C-1-1】
B3: フリガナ | F3: ='様式A-1'!D3 -> ムクノトンネル ノボリ | I3: 路線名 | K3: ='様式A-1'!J3 -> 山口県道57号下関港線（上り） | O3: 定期点検実施者 | P3: ='様式B (1)'!S3 -> アジア航測株式会社 | T3: 定期点検年月日 | X3: ='様式B (1)'!P2 -> 45892
B4: 名 称 | F4: ='様式A-1'!D4 -> 椋野トンネル（上り） | I4: 管理者名 | K4: ='様式A-1'!R3 -> 山口県 下関土木建築事務所 | P4: ='様式B (1)'!S4 -> 飯田 琢巳
C5: 覆工 スパン 番号 | E5: 変状 番号 | F5: 距離 （m） | G5: 変状部位 | I5: 変 状 の 内 容 | O5: 前回定期点検時の状態 | P5: 今回定期点検結果 | T5: 措置履歴 | Y5: 対応方針 ・ 特記事項
O6: 44168
G7: 対象箇所 | H7: 部位区分 | I7: 変状区分 | J7: 変状種類 | M7: 変状の発生範囲の規模 | N7: 前回定期点検時の変状の発生範囲及び規模 | O7: 対策区分 | P7: 対策区分 | R7: 調査の 要否 | S7: 措置の 要否 | T7: 実施 | U7: 措置の実施状況
P8: 応急措置前 | Q8: 応急措置後
B9: 定期点検結果 | C9: S27 | E9: 4 | F9: 162.5 | G9: 覆工 | H9: 水平打ち継ぎ目（左側） | I9: 材質劣化 | J9: うき・はく離 | M9: 0.195 | N9: 0.195 | O9: Ⅱa | P9: － | Q9: Ⅱa | R9: 否 | S9: 要対策 | T9: 未 | U9: － | Y9: はく落防止工
C10: S27 | E10: 5 | F10: 164 | G10: 覆工 | H10: 横断目地（左側） | I10: 漏水 | J10: 漏水 | M10: 3.7 | N10: 3.7 | O10: Ⅱa | P10: － | Q10: Ⅱb | R10: 否 | S10: 要監視 | T10: 未 | U10: － | Y10: 判定見直し
C11: S27 | E11: 6 | F11: 164 | G11: 覆工 | H11: 横断目地（左側） | I11: 漏水 | J11: 漏水 | M11: 1.95 | N11: 1.8 | O11: Ⅱb | P11: － | Q11: Ⅱb | R11: 否 | S11: 要監視 | T11: 未 | U11: － | Y11: 継続監視
C12: S27 | E12: 7 | F12: 164 | G12: 覆工 | H12: 横断目地（左側） | I12: 材質劣化 | J12: うき・はく離 | M12: 0.32 | N12: 0.28 | O12: Ⅱa | P12: － | Q12: Ⅱa | R12: 否 | S12: 要対策 | T12: 未 | U12: － | Y12: はく落防止工
C13: S27 | E13: 8 | F13: 163.3 | G13: 路面 | H13: 車道 | J13: その他 | M13: - | N13: 0.27 | O13: Ⅱa | P13: － | R13: 否 | S13: 否 | U13: －
C14: S28 | E14: 1 | F14: 164.1 | G14: 覆工 | H14: 水平打ち継ぎ目（左側） | I14: 材質劣化 | J14: うき・はく離 | M14: 0.195 | N14: 0.08 | O14: Ⅱa | P14: － | Q14: Ⅱa | R14: 否 | S14: 要対策 | T14: 未 | U14: － | Y14: はく落防止工
C15: S28 | E15: 2 | F15: 166 | G15: 覆工 | H15: アーチ（天端） | I15: 材質劣化 | J15: 鋼材腐食 | M15: 0.09 | N15: 0.09 | O15: Ⅱb | P15: － | Q15: Ⅱb | R15: 否 | S15: 要監視 | T15: 未 | U15: － | Y15: 継続監視
C16: S28 | E16: 3 | F16: 167.4 | G16: 覆工 | H16: アーチ（右側） | I16: 漏水 | J16: 漏水 | M16: 2.5 | N16: 1.06 | O16: Ⅱb | P16: － | Q16: Ⅱb | R16: 否 | S16: 要監視 | T16: 未 | U16: － | Y16: 継続監視
C17: S28 | E17: 4 | F17: 168.4 | G17: 覆工 | H17: 水平打ち継ぎ目（左側） | I17: 材質劣化 | J17: うき・はく離 | M17: 0.65 | N17: 0.32 | O17: Ⅱa | P17: － | Q17: Ⅱa | R17: 否 | S17: 要対策 | T17: 未 | U17: － | Y17: はく落防止工
C18: S29 | E18: 1 | F18: 170.2 | G18: 覆工 | H18: 水平打ち継ぎ目（左側） | I18: 材質劣化 | J18: うき・はく離 | M18: 0.9 | N18: 0.72 | O18: Ⅱa | P18: － | Q18: Ⅱa | R18: 否 | S18: 要対策 | T18: 未 | U18: － | Y18: はく落防止工
C19: S29 | E19: 2 | F19: 171.8 | G19: 覆工 | H19: アーチ（天端） | I19: 材質劣化 | J19: 鋼材腐食 | M19: 0.09 | N19: 0.09 | O19: Ⅱb | P19: － | Q19: Ⅱb | R19: 否 | S19: 要監視 | T19: 未 | U19: － | Y19: 継続監視
C20: S29 | E20: 3 | F20: 172.6 | G20: 覆工 | H20: 水平打ち継ぎ目（右側） | I20: 材質劣化 | J20: うき・はく離 | M20: 0.12 | N20: 0.03 | O20: Ⅱa | P20: － | Q20: Ⅰ | R20: 否 | S20: 否 | T20: 未 | U20: － | Y20: 判定見直し
C21: S29 | E21: 4 | F21: 173.5 | G21: 覆工 | H21: 水平打ち継ぎ目（左側） | I21: 材質劣化 | J21: うき・はく離 | M21: 0.195 | N21: 0.18 | O21: Ⅱa | P21: － | Q21: Ⅱa | R21: 否 | S21: 要対策 | T21: 未 | U21: － | Y21: はく落防止工
C22: S29 | E22: 5 | F22: 174.7 | G22: 覆工 | H22: 横断目地（左側） | I22: 材質劣化 | J22: うき・はく離 | M22: 0.1 | N22: 0.1 | O22: Ⅱa | P22: － | Q22: Ⅱa | R22: 否 | S22: 要対策 | T22: 未 | U22: － | Y22: はく落防止工
C23: S29 | E23: 6 | F23: 174.7 | G23: 覆工 | H23: 横断目地（左側） | I23: 漏水 | J23: 漏水 | M23: 2.75 | N23: 3.05 | O23: Ⅱb | P23: － | Q23: Ⅱb | R23: 否 | S23: 要監視 | T23: 未 | U23: － | Y23: 継続監視
C24: S29 | E24: 7 | F24: 172.8 | G24: 覆工 | H24: アーチ（左側） | I24: 漏水 | J24: 漏水 | M24: 2.05 | N24: （新規確認） | O24: － | P24: － | Q24: Ⅱb | R24: 否 | S24: 要監視 | T24: 未 | U24: － | Y24: 監視
C25: S30 | E25: 1 | F25: 174.9 | G25: 覆工 | H25: 水平打ち継ぎ目（左側） | I25: 材質劣化 | J25: うき・はく離 | M25: 0.15 | N25: 0.18 | O25: Ⅱa | P25: － | Q25: Ⅱa | R25: 否 | S25: 要対策 | T25: 未 | U25: － | Y25: はく落防止工
C26: S30 | E26: 2 | F26: 176.6 | G26: 覆工 | H26: 水平打ち継ぎ目（右側） | I26: 材質劣化 | J26: うき・はく離 | M26: 0.09 | N26: 0.03 | O26: Ⅱa | P26: － | Q26: Ⅱa | R26: 否 | S26: 要対策 | T26: 未 | U26: － | Y26: はく落防止工
C27: S30 | E27: 3 | F27: 177.8 | G27: 覆工 | H27: 水平打ち継ぎ目（左側） | I27: 材質劣化 | J27: うき・はく離 | M27: 0.06 | N27: 0.045 | O27: Ⅱa | P27: － | Q27: Ⅰ | R27: 否 | S27: 否 | T27: 未 | U27: － | Y27: 判定見直し
C28: S30 | E28: 4 | F28: 178 | G28: 覆工 | H28: アーチ（天端） | I28: 材質劣化 | J28: 鋼材腐食 | M28: 0.09 | N28: 0.09 | O28: Ⅱb | P28: － | Q28: Ⅱb | R28: 否 | S28: 要監視 | T28: 未 | U28: － | Y28: 継続監視
C29: S30 | E29: 5 | F29: 174.7 | G29: 覆工 | H29: 横断目地（天端） | I29: 漏水 | J29: 補修・補強材の破損 | M29: 0.05 | N29: （新規確認） | O29: － | P29: － | Q29: Ⅱb | R29: 否 | S29: 要監視 | T29: 未 | U29: － | Y29: 監視
C30: S30 | E30: 6 | F30: 174.7 | G30: 覆工 | H30: 横断目地（右側） | I30: 漏水 | J30: 補修・補強材の破損 | M30: 0.03 | N30: （新規確認） | O30: － | P30: － | Q30: Ⅱb | R30: 否 | S30: 要監視 | T30: 未 | U30: － | Y30: 監視
C31: S31 | E31: 1 | F31: 179.1 | G31: 覆工 | H31: 水平打ち継ぎ目（左側） | I31: 材質劣化 | J31: うき・はく離 | M31: 0.345 | N31: 0.3 | O31: Ⅱa | P31: － | Q31: Ⅱa | R31: 否 | S31: 要対策 | T31: 未 | U31: － | Y31: はく落防止工
C32: S31 | E32: 2 | F32: 181.2 | G32: 覆工 | H32: アーチ（左側） | I32: 材質劣化 | J32: その他 | M32: 0.12 | N32: 0.12 | O32: Ⅱb | P32: － | Q32: Ⅱb | R32: 否 | S32: 要監視 | T32: 未 | U32: － | Y32: 継続監視
C33: S31 | E33: 3 | F33: 182.1 | G33: 覆工 | H33: アーチ（左側） | I33: 漏水 | J33: 漏水 | M33: 2.95 | N33: 3.66 | O33: Ⅱb | P33: － | Q33: Ⅱb | R33: 否 | S33: 要監視 | T33: 未 | U33: － | Y33: 継続監視
C34: S31 | E34: 4 | F34: 182.2 | G34: 覆工 | H34: アーチ（左側） | I34: 漏水 | J34: 補修・補強材の破損 | M34: 0.02 | N34: （新規確認） | O34: － | P34: － | Q34: Ⅱb | R34: 否 | S34: 要監視 | T34: 未 | U34: － | Y34: 監視
C35: S32 | E35: 1 | F35: 183.5 | G35: 覆工 | H35: 水平打ち継ぎ目（左側） | I35: 材質劣化 | J35: うき・はく離 | M35: 0.195 | N35: 0.195 | O35: Ⅱa | P35: － | Q35: Ⅱa | R35: 否 | S35: 要対策 | T35: 未 | U35: － | Y35: はく落防止工
C36: S32 | E36: 2 | F36: 184.9 | G36: 覆工 | H36: 水平打ち継ぎ目（右側） | I36: 材質劣化 | J36: うき・はく離 | M36: 0.165 | N36: 0.165 | O36: Ⅱa | P36: － | Q36: Ⅱa | R36: 否 | S36: 要対策 | T36: 未 | U36: － | Y36: はく落防止工
C37: S32 | E37: 3 | F37: 186.5 | G37: 覆工 | H37: 水平打ち継ぎ目（右側） | I37: 材質劣化 | J37: うき・はく離 | M37: 0.055 | N37: 0.055 | O37: Ⅱa | P37: － | Q37: Ⅱa | R37: 否 | S37: 要対策 | T37: 未 | U37: － | Y37: はく落防止工
C38: S32 | E38: 4 | F38: 187.5 | G38: 覆工 | H38: 横断目地（左側） | I38: 漏水 | J38: 漏水 | M38: 1.75 | N38: 1.8 | O38: Ⅱb | P38: － | Q38: Ⅱb | R38: 否 | S38: 要監視 | T38: 未 | U38: － | Y38: 継続監視
C39: S33 | E39: 1 | F39: 190.2 | G39: 覆工 | H39: アーチ（天端） | I39: 材質劣化 | J39: 鋼材腐食 | M39: 0.09 | N39: 0.09 | O39: Ⅱb | P39: － | Q39: Ⅱb | R39: 否 | S39: 要監視 | T39: 未 | U39: － | Y39: 継続監視
C40: S33 | E40: 2 | F40: 190.7 | G40: 覆工 | H40: 水平打ち継ぎ目（左側） | I40: 材質劣化 | J40: うき・はく離 | M40: 0.045 | N40: 0.0375 | O40: Ⅱa | P40: － | Q40: Ⅱa | R40: 否 | S40: 要対策 | T40: 未 | U40: － | Y40: はく落防止工
C41: S33 | E41: 3 | F41: 193.2 | G41: 覆工 | H41: 水平打ち継ぎ目（右側） | I41: 材質劣化 | J41: その他 | M41: 0.1 | N41: 0.03 | O41: Ⅱb | P41: － | Q41: Ⅱb | R41: 否 | S41: 要監視 | T41: 未 | U41: － | Y41: 継続監視
C42: ※ 対策区分（応急措置後）のⅡb～Ⅳについて記入すること。また、点検前に実施された措置によりⅠと判定された変状も記入すること。
C43: ※ 応急措置を実施しないで判定した変状の対策区分は、対策区分の応急措置後の欄に記入すること。
C44: ※ 変状の除去が不完全で、緊急対応が必要な場合は対応方針欄に記入すること。
C45: ※ １区間の覆工に複数の変状がある場合は、変状箇所毎に記入すること。
C46: ※ 措置・監視点検を行った場合には、措置履歴、特記事項に記録を残すこと。（実施年度も記載）
C47: ※ 行が不足する場合は、適時、表の行を増やすこと。

Sheet 様式C-1-1 (6)
B2: ■定期点検記録様式 全スパン定期点検結果総括表（トンネル本体工） 【様式C-1-1】
B3: フリガナ | F3: ='様式A-1'!D3 -> ムクノトンネル ノボリ | I3: 路線名 | K3: ='様式A-1'!J3 -> 山口県道57号下関港線（上り） | O3: 定期点検実施者 | P3: ='様式B (1)'!S3 -> アジア航測株式会社 | T3: 定期点検年月日 | X3: ='様式B (1)'!P2 -> 45892
B4: 名 称 | F4: ='様式A-1'!D4 -> 椋野トンネル（上り） | I4: 管理者名 | K4: ='様式A-1'!R3 -> 山口県 下関土木建築事務所 | P4: ='様式B (1)'!S4 -> 飯田 琢巳
C5: 覆工 スパン 番号 | E5: 変状 番号 | F5: 距離 （m） | G5: 変状部位 | I5: 変 状 の 内 容 | O5: 前回定期点検時の状態 | P5: 今回定期点検結果 | T5: 措置履歴 | Y5: 対応方針 ・ 特記事項
O6: 44168
G7: 対象箇所 | H7: 部位区分 | I7: 変状区分 | J7: 変状種類 | M7: 変状の発生範囲の規模 | N7: 前回定期点検時の変状の発生範囲及び規模 | O7: 対策区分 | P7: 対策区分 | R7: 調査の 要否 | S7: 措置の 要否 | T7: 実施 | U7: 措置の実施状況
P8: 応急措置前 | Q8: 応急措置後
B9: 定期点検結果 | C9: S34 | E9: 1 | F9: 195.2 | G9: 覆工 | H9: アーチ（右側） | I9: 材質劣化 | J9: その他 | M9: 0.36 | N9: 0.36 | O9: Ⅱb | P9: － | Q9: Ⅱb | R9: 否 | S9: 要監視 | T9: 未 | U9: － | Y9: 継続監視
C10: S34 | E10: 2 | F10: 196.8 | G10: 覆工 | H10: アーチ（天端） | I10: 材質劣化 | J10: 鋼材腐食 | M10: 0.09 | N10: 0.09 | O10: Ⅱb | P10: － | Q10: Ⅱb | R10: 否 | S10: 要監視 | T10: 未 | U10: － | Y10: 継続監視
C11: S34 | E11: 3 | F11: 197.2 | G11: 覆工 | H11: 水平打ち継ぎ目（右側） | I11: 材質劣化 | J11: うき・はく離 | M11: 0.2 | N11: 0.03 | O11: Ⅱa | P11: － | Q11: Ⅱa | R11: 否 | S11: 要対策 | T11: 未 | U11: － | Y11: はく落防止工
C12: S34 | E12: 4 | F12: 199 | G12: 覆工 | H12: 水平打ち継ぎ目（右側） | I12: 材質劣化 | J12: うき・はく離 | M12: 0.02 | N12: 0.0625 | O12: Ⅱa | P12: － | Q12: Ⅱa | R12: 否 | S12: 要対策 | T12: 未 | U12: － | Y12: はく落防止工
C13: S34 | E13: 5 | F13: 199.5 | G13: 覆工 | H13: 水平打ち継ぎ目（右側） | I13: 材質劣化 | J13: うき・はく離 | M13: 0.2 | N13: 0.165 | O13: Ⅱa | P13: － | Q13: Ⅱa | R13: 否 | S13: 要対策 | T13: 未 | U13: － | Y13: はく落防止工
C14: S34 | E14: 6 | F14: 196.4 | G14: 覆工 | H14: アーチ（左側） | I14: 漏水 | J14: 漏水 | M14: 1.6 | N14: （新規確認） | O14: － | P14: － | Q14: Ⅱb | R14: 否 | S14: 要監視 | T14: 未 | U14: － | Y14: 監視
C15: S34 | E15: 7 | F15: 198.7 | G15: 覆工 | H15: 水平打ち継ぎ目（右側） | I15: 漏水 | J15: 漏水 | M15: 1.4 | N15: （新規確認） | O15: － | P15: － | Q15: Ⅱb | R15: 否 | S15: 要監視 | T15: 未 | U15: － | Y15: 監視
C16: S35 | E16: 1 | F16: 201.2 | G16: 覆工 | H16: アーチ（右側） | I16: 材質劣化 | J16: その他 | M16: 1.05 | N16: 0.6 | O16: Ⅱb | P16: － | Q16: Ⅱb | R16: 否 | S16: 要監視 | T16: 未 | U16: － | Y16: 継続監視
C17: S35 | E17: 2 | F17: 202.4 | G17: 覆工 | H17: アーチ（天端） | I17: 材質劣化 | J17: 鋼材腐食 | M17: 0.09 | N17: 0.09 | O17: Ⅱb | P17: － | Q17: Ⅱb | R17: 否 | S17: 要監視 | T17: 未 | U17: － | Y17: 継続監視
C18: S35 | E18: 3 | F18: 202.6 | G18: 覆工 | H18: アーチ（左側） | I18: 漏水 | J18: 漏水 | M18: 2.6 | N18: 3.43 | O18: Ⅱb | P18: － | Q18: Ⅱb | R18: 否 | S18: 要監視 | T18: 未 | U18: － | Y18: 継続監視
C19: S35 | E19: 4 | F19: 204.8 | G19: 覆工 | H19: アーチ（左側） | I19: 漏水 | J19: 漏水 | M19: 2.45 | N19: 2.55 | O19: Ⅱb | P19: － | Q19: Ⅱb | R19: 否 | S19: 要監視 | T19: 未 | U19: － | Y19: 継続監視
C20: S35 | E20: 5 | F20: 203.2 | G20: 路面 | H20: 車道 | J20: その他 | M20: 0.6 | N20: 0.6 | O20: Ⅱb | P20: － | R20: 否 | S20: 否 | U20: －
C21: S35 | E21: 6 | F21: 200.9 | G21: 覆工 | H21: 横断目地（右側） | I21: 漏水 | J21: 漏水 | M21: 1.65 | N21: （新規確認） | O21: － | P21: － | Q21: Ⅱb | R21: 否 | S21: 要監視 | T21: 未 | U21: － | Y21: 監視
C22: S36 | E22: 1 | F22: 205.8 | G22: 覆工 | H22: アーチ（左側） | I22: 材質劣化 | J22: その他 | M22: 0.2 | N22: 0.18 | O22: Ⅱb | P22: － | Q22: Ⅱb | R22: 否 | S22: 要監視 | T22: 未 | U22: － | Y22: 継続監視
C23: S36 | E23: 2 | F23: 206.8 | G23: 覆工 | H23: アーチ（右側） | I23: 材質劣化 | J23: その他 | M23: 0.99 | N23: 0.99 | O23: Ⅱb | P23: － | Q23: Ⅱb | R23: 否 | S23: 要監視 | T23: 未 | U23: － | Y23: 継続監視
C24: S36 | E24: 3 | F24: 207.6 | G24: 覆工 | H24: アーチ（左側） | I24: 材質劣化 | J24: その他 | M24: 0.28 | N24: 0.28 | O24: Ⅱb | P24: － | Q24: Ⅱb | R24: 否 | S24: 要監視 | T24: 未 | U24: － | Y24: 継続監視
C25: S36 | E25: 4 | F25: 207.4 | G25: 覆工 | H25: アーチ（右側） | I25: 漏水 | J25: 漏水 | M25: 2.7 | N25: 1.24 | O25: Ⅱb | P25: － | Q25: Ⅱb | R25: 否 | S25: 要監視 | T25: 未 | U25: － | Y25: 継続監視
C26: S36 | E26: 5 | F26: 208.3 | G26: 覆工 | H26: アーチ（天端） | I26: 材質劣化 | J26: 鋼材腐食 | M26: 0.09 | N26: 0.09 | O26: Ⅱb | P26: － | Q26: Ⅱb | R26: 否 | S26: 要監視 | T26: 未 | U26: － | Y26: 継続監視
C27: S36 | E27: 6 | F27: 209.1 | G27: 覆工 | H27: アーチ（右側） | I27: 材質劣化 | J27: その他 | M27: 0.78 | N27: 0.91 | O27: Ⅱb | P27: － | Q27: Ⅱb | R27: 否 | S27: 要監視 | T27: 未 | U27: － | Y27: 継続監視
C28: S36 | E28: 7 | F28: 209.4 | G28: 覆工 | H28: 水平打ち継ぎ目（右側） | I28: 材質劣化 | J28: うき・はく離 | M28: 0.075 | N28: （新規確認） | O28: － | P28: － | Q28: Ⅱa | R28: 否 | S28: 要対策 | T28: 未 | U28: － | Y28: はく落防止工
C29: S37 | E29: 1 | F29: 211.9 | G29: 覆工 | H29: 水平打ち継ぎ目（右側） | I29: 材質劣化 | J29: その他 | M29: 0.84 | N29: 0.45 | O29: Ⅱb | P29: － | Q29: Ⅱb | R29: 否 | S29: 要監視 | T29: 未 | U29: － | Y29: 継続監視
C30: S37 | E30: 2 | F30: 214.2 | G30: 覆工 | H30: アーチ（天端） | I30: 材質劣化 | J30: 鋼材腐食 | M30: 0.09 | N30: 0.09 | O30: Ⅱb | P30: － | Q30: Ⅱb | R30: 否 | S30: 要監視 | T30: 未 | U30: － | Y30: 継続監視
C31: S37 | E31: 3 | F31: 216.6 | G31: 覆工 | H31: アーチ（右側） | I31: 漏水 | J31: 漏水 | M31: - | N31: 3.45 | O31: Ⅱa | P31: － | Q31: Ⅰ | R31: 否 | S31: 否 | T31: 未 | U31: － | Y31: （補修済）
C32: S37 | E32: 4 | F32: 216.9 | G32: 覆工 | H32: 水平打ち継ぎ目（右側） | I32: 材質劣化 | J32: うき・はく離 | M32: 0.12 | N32: 0.165 | O32: Ⅱa | P32: － | Q32: Ⅱa | R32: 否 | S32: 要対策 | T32: 未 | U32: － | Y32: はく落防止工
C33: S37 | E33: 5 | F33: 213.3 | G33: 路面 | H33: 車道 | J33: その他 | M33: - | N33: 9.5 | O33: Ⅱa | P33: － | R33: 否 | S33: 否 | U33: －
C34: S38 | E34: 1 | F34: 218.1 | G34: 覆工 | H34: アーチ（右側） | I34: 漏水 | J34: 漏水 | M34: 4.14 | N34: 9.12 | O34: Ⅱb | P34: － | Q34: Ⅱb | R34: 否 | S34: 要監視 | T34: 未 | U34: － | Y34: 継続監視
C35: S38 | E35: 2 | F35: 219.3 | G35: 覆工 | H35: アーチ（左側） | I35: 漏水 | J35: 漏水 | M35: 3.85 | N35: 3.4 | O35: Ⅱa | P35: － | Q35: Ⅱa | R35: 否 | S35: 要対策 | T35: 未 | U35: － | Y35: 導水工施工
C36: S38 | E36: 3 | F36: 219.4 | G36: 覆工 | H36: 水平打ち継ぎ目（左側） | I36: 材質劣化 | J36: うき・はく離 | M36: 0.045 | N36: 0.055 | O36: Ⅱa | P36: － | Q36: Ⅱa | R36: 否 | S36: 要対策 | T36: 未 | U36: － | Y36: はく落防止工
C37: S38 | E37: 4 | F37: 219.4 | G37: 覆工 | H37: アーチ（右側） | I37: 漏水 | J37: 漏水 | M37: 2.7 | N37: 0.84 | O37: Ⅱb | P37: － | Q37: Ⅱb | R37: 否 | S37: 要監視 | T37: 未 | U37: － | Y37: 継続監視
C38: S38 | E38: 5 | F38: 220.2 | G38: 覆工 | H38: アーチ（天端） | I38: 材質劣化 | J38: 鋼材腐食 | M38: 0.09 | N38: 0.09 | O38: Ⅱb | P38: － | Q38: Ⅱb | R38: 否 | S38: 要監視 | T38: 未 | U38: － | Y38: 継続監視
C39: S38 | E39: 6 | F39: 220.3 | G39: 覆工 | H39: 水平打ち継ぎ目（右側） | I39: 材質劣化 | J39: うき・はく離 | M39: 0.1 | N39: 0.0625 | O39: Ⅱa | P39: － | Q39: Ⅱa | R39: 否 | S39: 要対策 | T39: 未 | U39: － | Y39: はく落防止工
C40: S38 | E40: 7 | F40: 220.9 | G40: 覆工 | H40: 水平打ち継ぎ目（左側） | I40: 材質劣化 | J40: うき・はく離 | M40: 0.135 | N40: 0.07 | O40: Ⅱa | P40: － | Q40: Ⅱa | R40: 否 | S40: 要対策 | T40: 未 | U40: － | Y40: はく落防止工
C41: S38 | E41: 8 | F41: 219 | G41: 路面 | H41: 車道 | J41: その他 | M41: - | N41: 5.2 | O41: Ⅱa | P41: － | R41: 否 | S41: 否 | U41: －
C42: ※ 対策区分（応急措置後）のⅡb～Ⅳについて記入すること。また、点検前に実施された措置によりⅠと判定された変状も記入すること。
C43: ※ 応急措置を実施しないで判定した変状の対策区分は、対策区分の応急措置後の欄に記入すること。
C44: ※ 変状の除去が不完全で、緊急対応が必要な場合は対応方針欄に記入すること。
C45: ※ １区間の覆工に複数の変状がある場合は、変状箇所毎に記入すること。
C46: ※ 措置・監視点検を行った場合には、措置履歴、特記事項に記録を残すこと。（実施年度も記載）
C47: ※ 行が不足する場合は、適時、表の行を増やすこと。

Sheet 様式C-1-1 (7)
B2: ■定期点検記録様式 全スパン定期点検結果総括表（トンネル本体工） 【様式C-1-1】
B3: フリガナ | F3: ='様式A-1'!D3 -> ムクノトンネル ノボリ | I3: 路線名 | K3: ='様式A-1'!J3 -> 山口県道57号下関港線（上り） | O3: 定期点検実施者 | P3: ='様式B (1)'!S3 -> アジア航測株式会社 | T3: 定期点検年月日 | X3: ='様式B (1)'!P2 -> 45892
B4: 名 称 | F4: ='様式A-1'!D4 -> 椋野トンネル（上り） | I4: 管理者名 | K4: ='様式A-1'!R3 -> 山口県 下関土木建築事務所 | P4: ='様式B (1)'!S4 -> 飯田 琢巳
C5: 覆工 スパン 番号 | E5: 変状 番号 | F5: 距離 （m） | G5: 変状部位 | I5: 変 状 の 内 容 | O5: 前回定期点検時の状態 | P5: 今回定期点検結果 | T5: 措置履歴 | Y5: 対応方針 ・ 特記事項
O6: 44168
G7: 対象箇所 | H7: 部位区分 | I7: 変状区分 | J7: 変状種類 | M7: 変状の発生範囲の規模 | N7: 前回定期点検時の変状の発生範囲及び規模 | O7: 対策区分 | P7: 対策区分 | R7: 調査の 要否 | S7: 措置の 要否 | T7: 実施 | U7: 措置の実施状況
P8: 応急措置前 | Q8: 応急措置後
B9: 定期点検結果 | C9: S38 | E9: 9 | F9: 219.4 | G9: 覆工 | H9: アーチ（右側） | I9: 漏水 | J9: 補修・補強材の破損 | M9: 0.21 | N9: （新規確認） | O9: － | P9: － | Q9: Ⅱb | R9: 否 | S9: 要監視 | T9: 未 | U9: － | Y9: 監視
C10: S38 | E10: 10 | F10: 219.3 | G10: 覆工 | H10: アーチ（右側） | I10: 漏水 | J10: 漏水 | M10: 1.65 | N10: （新規確認） | O10: － | P10: － | Q10: Ⅱb | R10: 否 | S10: 要監視 | T10: 未 | U10: － | Y10: 監視
C11: S38 | E11: 11 | F11: 220.6 | G11: 覆工 | H11: アーチ（左側） | I11: 漏水 | J11: 漏水 | M11: 1.7 | N11: （新規確認） | O11: － | P11: － | Q11: Ⅱb | R11: 否 | S11: 要監視 | T11: 未 | U11: － | Y11: 監視
C12: S38 | E12: 12 | F12: 223.9 | G12: 覆工 | H12: 横断目地（右側） | I12: 漏水 | J12: 漏水 | M12: 2.6 | N12: （新規確認） | O12: － | P12: － | Q12: Ⅱb | R12: 否 | S12: 要監視 | T12: 未 | U12: － | Y12: 監視
C13: S39 | E13: 1 | F13: 224 | G13: 覆工 | H13: 水平打ち継ぎ目（左側） | I13: 材質劣化 | J13: うき・はく離 | M13: 0.135 | N13: 0.09 | O13: Ⅱa | P13: － | Q13: Ⅱa | R13: 否 | S13: 要対策 | T13: 未 | U13: － | Y13: はく落防止工
C14: S39 | E14: 2 | F14: 225.5 | G14: 覆工 | H14: 水平打ち継ぎ目（右側） | I14: 材質劣化 | J14: うき・はく離 | M14: 0.3 | N14: 0.21 | O14: Ⅱa | P14: － | Q14: Ⅱa | R14: 否 | S14: 要対策 | T14: 未 | U14: － | Y14: はく落防止工
C15: S39 | E15: 3 | F15: 225.7 | G15: 覆工 | H15: 水平打ち継ぎ目（左側） | I15: 材質劣化 | J15: うき・はく離 | M15: 0.165 | N15: 0.135 | O15: Ⅱa | P15: － | Q15: Ⅱa | R15: 否 | S15: 要対策 | T15: 未 | U15: － | Y15: はく落防止工
C16: S39 | E16: 4 | F16: 228.6 | G16: 覆工 | H16: 横断目地（右側） | I16: 漏水 | J16: 漏水 | M16: 2.75 | N16: 5.58 | O16: Ⅱb | P16: － | Q16: Ⅱb | R16: 否 | S16: 要監視 | T16: 未 | U16: － | Y16: 継続監視
C17: S39 | E17: 5 | F17: 228.3 | G17: 覆工 | H17: 水平打ち継ぎ目（左側） | I17: 漏水 | J17: 漏水 | M17: 1.3 | N17: （新規確認） | O17: － | P17: － | Q17: Ⅱb | R17: 否 | S17: 要監視 | T17: 未 | U17: － | Y17: 監視
C18: S40 | E18: 1 | F18: 228.8 | G18: 覆工 | H18: 水平打ち継ぎ目（左側） | I18: 材質劣化 | J18: うき・はく離 | M18: 0.22 | N18: 0.165 | O18: Ⅱa | P18: － | Q18: Ⅱa | R18: 否 | S18: 要対策 | T18: 未 | U18: － | Y18: はく落防止工
C19: S40 | E19: 2 | F19: 230.2 | G19: 覆工 | H19: 水平打ち継ぎ目（右側） | I19: 材質劣化 | J19: その他 | M19: 0.14 | N19: 0.105 | O19: Ⅱb | P19: － | Q19: Ⅱb | R19: 否 | S19: 要監視 | T19: 未 | U19: － | Y19: 継続監視
C20: S40 | E20: 3 | F20: 231.5 | G20: 覆工 | H20: アーチ（右側） | I20: 漏水 | J20: 漏水 | M20: 4.4 | N20: 1.29 | O20: Ⅱb | P20: － | Q20: Ⅱb | R20: 否 | S20: 要監視 | T20: 未 | U20: － | Y20: 継続監視
C21: S40 | E21: 4 | F21: 233.1 | G21: 覆工 | H21: 横断目地（右側） | I21: 漏水 | J21: 漏水 | M21: 2.05 | N21: 0.86 | O21: Ⅱb | P21: － | Q21: Ⅱb | R21: 否 | S21: 要監視 | T21: 未 | U21: － | Y21: 継続監視
C22: S40 | E22: 5 | F22: 229.3 | G22: 覆工 | H22: アーチ（右側） | I22: 漏水 | J22: 漏水 | M22: 2.05 | N22: （新規確認） | O22: － | P22: － | Q22: Ⅱb | R22: 否 | S22: 要監視 | T22: 未 | U22: － | Y22: 監視
C23: S41 | E23: 1 | F23: 233.2 | G23: 覆工 | H23: アーチ（右側） | I23: 材質劣化 | J23: うき・はく離 | M23: 0.075 | N23: 0.1 | O23: Ⅱa | P23: － | Q23: Ⅱa | R23: 否 | S23: 要対策 | T23: 未 | U23: － | Y23: はく落防止工
C24: S41 | E24: 2 | F24: 235.5 | G24: 覆工 | H24: アーチ（右側） | I24: 漏水 | J24: 漏水 | M24: 2.05 | N24: 2.05 | O24: Ⅱb | P24: － | Q24: Ⅱb | R24: 否 | S24: 要監視 | T24: 未 | U24: － | Y24: 継続監視
C25: S41 | E25: 3 | F25: 236 | G25: 覆工 | H25: 水平打ち継ぎ目（右側） | I25: 材質劣化 | J25: うき・はく離 | M25: - | N25: 0.015 | O25: Ⅱa | P25: － | Q25: Ⅰ | R25: 否 | S25: 否 | T25: 未 | U25: － | Y25: 判定見直し
C26: S41 | E26: 4 | F26: 236.4 | G26: 覆工 | H26: 水平打ち継ぎ目（左側） | I26: 漏水 | J26: 補修・補強材の破損 | M26: 0.2 | N26: 0.12 | O26: Ⅱa | P26: － | Q26: Ⅱa | R26: 否 | S26: 要対策 | T26: 未 | U26: － | Y26: 導水工施工
C27: S41 | E27: 5 | F27: 234.4 | G27: 覆工 | H27: アーチ（左側） | I27: 漏水 | J27: 漏水 | M27: 2.75 | N27: （新規確認） | O27: － | P27: － | Q27: Ⅱb | R27: 否 | S27: 要監視 | T27: 未 | U27: － | Y27: 監視
C28: S41 | E28: 6 | F28: 233.2 | G28: 覆工 | H28: 水平打ち継ぎ目（右側） | I28: 漏水 | J28: 漏水 | M28: 3.51 | N28: （新規確認） | O28: － | P28: － | Q28: Ⅱb | R28: 否 | S28: 要監視 | T28: 未 | U28: － | Y28: 監視
C29: S41 | E29: 7 | F29: 236.6 | G29: 覆工 | H29: 水平打ち継ぎ目（右側） | I29: 材質劣化 | J29: うき・はく離 | M29: 0.06 | N29: （新規確認） | O29: － | P29: － | Q29: Ⅱa | R29: 否 | S29: 要対策 | T29: 未 | U29: － | Y29: はく落防止工
C30: S42 | E30: 1 | F30: 238.7 | G30: 覆工 | H30: アーチ（天端） | I30: 材質劣化 | J30: 鋼材腐食 | M30: 0.09 | N30: 0.09 | O30: Ⅱb | P30: － | Q30: Ⅱb | R30: 否 | S30: 要監視 | T30: 未 | U30: － | Y30: 継続監視
C31: S42 | E31: 2 | F31: 239.3 | G31: 覆工 | H31: アーチ（右側） | I31: 材質劣化 | J31: うき・はく離 | M31: 0.04 | N31: 0.04 | O31: Ⅱa | P31: － | Q31: Ⅱa | R31: 否 | S31: 要対策 | T31: 未 | U31: － | Y31: はく落防止工
C32: S42 | E32: 3 | F32: 241.8 | G32: 覆工 | H32: 水平打ち継ぎ目（左側） | I32: 材質劣化 | J32: うき・はく離 | M32: 0.25 | N32: 0.325 | O32: Ⅱa | P32: － | Q32: Ⅱa | R32: 否 | S32: 要対策 | T32: 未 | U32: － | Y32: はく落防止工
C33: S42 | E33: 4 | F33: 243.4 | G33: 覆工 | H33: 横断目地（天端） | I33: 材質劣化 | J33: うき・はく離 | M33: 0.46 | N33: 0.46 | O33: Ⅱa | P33: － | Q33: Ⅱa | R33: 否 | S33: 要対策 | T33: 未 | U33: － | Y33: はく落防止工
C34: S42 | E34: 5 | F34: 243.4 | G34: 覆工 | H34: 横断目地（左側） | I34: 漏水 | J34: 補修・補強材の破損 | M34: 0.0225 | N34: （新規確認） | O34: － | P34: － | Q34: Ⅱb | R34: 否 | S34: 要監視 | T34: 未 | U34: － | Y34: 監視
C35: S42 | E35: 6 | F35: 237.8 | G35: 覆工 | H35: アーチ（左側） | I35: 漏水 | J35: 漏水 | M35: 5.04 | N35: （新規確認） | O35: － | P35: － | Q35: Ⅱb | R35: 否 | S35: 要監視 | T35: 未 | U35: － | Y35: 監視
C36: S43 | E36: 1 | F36: 243.7 | G36: 覆工 | H36: 水平打ち継ぎ目（右側） | I36: 材質劣化 | J36: うき・はく離 | M36: 0.24 | N36: 0.12 | O36: Ⅱa | P36: － | Q36: Ⅱa | R36: 否 | S36: 要対策 | T36: 未 | U36: － | Y36: はく落防止工
C37: S43 | E37: 2 | F37: 244.9 | G37: 覆工 | H37: アーチ（天端） | I37: 材質劣化 | J37: 鋼材腐食 | M37: 0.09 | N37: 0.09 | O37: Ⅱb | P37: － | Q37: Ⅱb | R37: 否 | S37: 要監視 | T37: 未 | U37: － | Y37: 継続監視
C38: S43 | E38: 3 | F38: 245 | G38: 覆工 | H38: 水平打ち継ぎ目（右側） | I38: 材質劣化 | J38: うき・はく離 | M38: 0.105 | N38: 0.07 | O38: Ⅱa | P38: － | Q38: Ⅱa | R38: 否 | S38: 要対策 | T38: 未 | U38: － | Y38: はく落防止工
C39: S43 | E39: 4 | F39: 249.5 | G39: 覆工 | H39: 横断目地（左側） | I39: 材質劣化 | J39: うき・はく離 | M39: 0.15 | N39: 0.15 | O39: Ⅱa | P39: － | Q39: Ⅱa | R39: 否 | S39: 要対策 | T39: 未 | U39: － | Y39: はく落防止工
C40: S43 | E40: 5 | F40: 243.4 | G40: 覆工 | H40: アーチ（左側） | I40: 漏水 | J40: 補修・補強材の破損 | M40: 0.0225 | N40: （新規確認） | O40: － | P40: － | Q40: Ⅱb | R40: 否 | S40: 要監視 | T40: 未 | U40: － | Y40: 監視
C41: S43 | E41: 6 | F41: 247.5 | G41: 覆工 | H41: 水平打ち継ぎ目（右側） | I41: 材質劣化 | J41: うき・はく離 | M41: 0.3 | N41: （新規確認） | O41: － | P41: － | Q41: Ⅱa | R41: 否 | S41: 要対策 | T41: 未 | U41: － | Y41: はく落防止工
C42: ※ 対策区分（応急措置後）のⅡb～Ⅳについて記入すること。また、点検前に実施された措置によりⅠと判定された変状も記入すること。
C43: ※ 応急措置を実施しないで判定した変状の対策区分は、対策区分の応急措置後の欄に記入すること。
C44: ※ 変状の除去が不完全で、緊急対応が必要な場合は対応方針欄に記入すること。
C45: ※ １区間の覆工に複数の変状がある場合は、変状箇所毎に記入すること。
C46: ※ 措置・監視点検を行った場合には、措置履歴、特記事項に記録を残すこと。（実施年度も記載）
C47: ※ 行が不足する場合は、適時、表の行を増やすこと。

Sheet 様式C-1-1 (8)
B2: ■定期点検記録様式 全スパン定期点検結果総括表（トンネル本体工） 【様式C-1-1】
B3: フリガナ | F3: ='様式A-1'!D3 -> ムクノトンネル ノボリ | I3: 路線名 | K3: ='様式A-1'!J3 -> 山口県道57号下関港線（上り） | O3: 定期点検実施者 | P3: ='様式B (1)'!S3 -> アジア航測株式会社 | T3: 定期点検年月日 | X3: ='様式B (1)'!P2 -> 45892
B4: 名 称 | F4: ='様式A-1'!D4 -> 椋野トンネル（上り） | I4: 管理者名 | K4: ='様式A-1'!R3 -> 山口県 下関土木建築事務所 | P4: ='様式B (1)'!S4 -> 飯田 琢巳
C5: 覆工 スパン 番号 | E5: 変状 番号 | F5: 距離 （m） | G5: 変状部位 | I5: 変 状 の 内 容 | O5: 前回定期点検時の状態 | P5: 今回定期点検結果 | T5: 措置履歴 | Y5: 対応方針 ・ 特記事項
O6: 44168
G7: 対象箇所 | H7: 部位区分 | I7: 変状区分 | J7: 変状種類 | M7: 変状の発生範囲の規模 | N7: 前回定期点検時の変状の発生範囲及び規模 | O7: 対策区分 | P7: 対策区分 | R7: 調査の 要否 | S7: 措置の 要否 | T7: 実施 | U7: 措置の実施状況
P8: 応急措置前 | Q8: 応急措置後
B9: 定期点検結果 | C9: S44 | E9: 1 | F9: 249.5 | G9: 覆工 | H9: 水平打ち継ぎ目（右側） | I9: 材質劣化 | J9: うき・はく離 | M9: 0.68 | N9: 0.135 | O9: Ⅱa | P9: － | Q9: Ⅱa | R9: 否 | S9: 要対策 | T9: 未 | U9: － | Y9: はく落防止工
C10: S44 | E10: 2 | F10: 251.9 | G10: 覆工 | H10: アーチ（右側） | I10: 材質劣化 | J10: うき・はく離 | M10: 0.08 | N10: 0.08 | O10: Ⅱa | P10: － | Q10: Ⅱa | R10: 否 | S10: 要対策 | T10: 未 | U10: － | Y10: はく落防止工
C11: S44 | E11: 3 | F11: 251.1 | G11: 覆工 | H11: アーチ（天端） | I11: 材質劣化 | J11: 鋼材腐食 | M11: 0.09 | N11: 0.09 | O11: Ⅱb | P11: － | Q11: Ⅱb | R11: 否 | S11: 要監視 | T11: 未 | U11: － | Y11: 継続監視
C12: S44 | E12: 4 | F12: 253.4 | G12: 覆工 | H12: アーチ（左側） | I12: 漏水 | J12: 漏水 | M12: 2.3 | N12: 0.86 | O12: Ⅱb | P12: － | Q12: Ⅱb | R12: 否 | S12: 要監視 | T12: 未 | U12: － | Y12: 継続監視
C13: S44 | E13: 5 | F13: 254.2 | G13: 覆工 | H13: 水平打ち継ぎ目（右側） | I13: 材質劣化 | J13: うき・はく離 | M13: 0.13 | N13: 0.1 | O13: Ⅱa | P13: － | Q13: Ⅱa | R13: 否 | S13: 要対策 | T13: 未 | U13: － | Y13: はく落防止工
C14: S44 | E14: 6 | F14: 255 | G14: 覆工 | H14: 水平打ち継ぎ目（左側） | I14: 材質劣化 | J14: うき・はく離 | M14: 0.08 | N14: 0.06 | O14: Ⅱa | P14: － | Q14: Ⅱa | R14: 否 | S14: 要対策 | T14: 未 | U14: － | Y14: はく落防止工
C15: S45 | E15: 1 | F15: 255.6 | G15: 覆工 | H15: アーチ（右側） | I15: 材質劣化 | J15: うき・はく離 | M15: 0.04 | N15: 0.0225 | O15: Ⅱa | P15: － | Q15: Ⅱa | R15: 否 | S15: 要対策 | T15: 未 | U15: － | Y15: はく落防止工
C16: S45 | E16: 2 | F16: 255.7 | G16: 覆工 | H16: 水平打ち継ぎ目（右側） | I16: 材質劣化 | J16: うき・はく離 | M16: 0.06 | N16: 0.06 | O16: Ⅱa | P16: － | Q16: Ⅱa | R16: 否 | S16: 要対策 | T16: 未 | U16: － | Y16: はく落防止工
C17: S45 | E17: 3 | F17: 257 | G17: 覆工 | H17: 水平打ち継ぎ目（左側） | I17: 材質劣化 | J17: うき・はく離 | M17: 0.495 | N17: 0.675 | O17: Ⅱa | P17: － | Q17: Ⅱa | R17: 否 | S17: 要対策 | T17: 未 | U17: － | Y17: はく落防止工
C18: S45 | E18: 4 | F18: 257 | G18: 覆工 | H18: アーチ（天端） | I18: 材質劣化 | J18: うき・はく離 | M18: 0.04 | N18: 0.04 | O18: Ⅱa | P18: － | Q18: Ⅱa | R18: 否 | S18: 要対策 | T18: 未 | U18: － | Y18: はく落防止工
C19: S45 | E19: 5 | F19: 257 | G19: 覆工 | H19: アーチ（左側） | I19: 材質劣化 | J19: その他 | M19: 0.45 | N19: 0.45 | O19: Ⅱb | P19: － | Q19: Ⅱb | R19: 否 | S19: 要監視 | T19: 未 | U19: － | Y19: 継続監視
C20: S45 | E20: 6 | F20: 257.3 | G20: 覆工 | H20: アーチ（天端） | I20: 材質劣化 | J20: 鋼材腐食 | M20: 0.09 | N20: 0.09 | O20: Ⅱb | P20: － | Q20: Ⅱb | R20: 否 | S20: 要監視 | T20: 未 | U20: － | Y20: 継続監視
C21: S45 | E21: 7 | F21: 258 | G21: 覆工 | H21: アーチ（右側） | I21: 材質劣化 | J21: その他 | M21: 0.4 | N21: 0.48 | O21: Ⅱb | P21: － | Q21: Ⅱb | R21: 否 | S21: 要監視 | T21: 未 | U21: － | Y21: 継続監視
... C27: S45 | E27: 13 | F27: 262.2 | G27: 覆工 | H27: 水平打ち継ぎ目（左側） | I27: 材質劣化 | J27: うき・はく離 | M27: 0.03 | N27: 0.045 | O27: Ⅱa | P27: － | Q27: Ⅱa | R27: 否 | S27: 要対策 | T27: 未 | U27: － | Y27: はく落防止工
C28: S45 | E28: 14 | F28: 261.9 | G28: 覆工 | H28: アーチ（左側） | I28: 漏水 | J28: 漏水 | M28: 3.6 | N28: （新規確認） | O28: － | P28: － | Q28: Ⅱb | R28: 否 | S28: 要監視 | T28: 未 | U28: － | Y28: 監視
C29: S45 | E29: 15 | F29: 259.8 | G29: 覆工 | H29: アーチ（右側） | I29: 漏水 | J29: 補修・補強材の破損 | M29: 0.06 | N29: （新規確認） | O29: － | P29: － | Q29: Ⅱb | R29: 否 | S29: 要監視 | T29: 未 | U29: － | Y29: 監視
C30: S45 | E30: 16 | F30: 257 | G30: 覆工 | H30: 水平打ち継ぎ目（右側） | I30: 漏水 | J30: 補修・補強材の破損 | M30: 0.015 | N30: （新規確認） | O30: － | P30: － | Q30: Ⅱb | R30: 否 | S30: 要監視 | T30: 未 | U30: － | Y30: 監視
C31: S45 | E31: 17 | F31: 257 | G31: 覆工 | H31: アーチ（右側） | I31: 漏水 | J31: 補修・補強材の破損 | M31: 0.03 | N31: （新規確認） | O31: － | P31: － | Q31: Ⅱb | R31: 否 | S31: 要監視 | T31: 未 | U31: － | Y31: 監視
C32: S46 | E32: 1 | F32: 263 | G32: 覆工 | H32: 水平打ち継ぎ目（右側） | I32: 材質劣化 | J32: うき・はく離 | M32: 0.13 | N32: 0.045 | O32: Ⅱa | P32: － | Q32: Ⅱa | R32: 否 | S32: 要対策 | T32: 未 | U32: － | Y32: はく落防止工
C33: S46 | E33: 2 | F33: 263.5 | G33: 覆工 | H33: アーチ（天端） | I33: 材質劣化 | J33: 鋼材腐食 | M33: 0.09 | N33: 0.09 | O33: Ⅱb | P33: － | Q33: Ⅱb | R33: 否 | S33: 要監視 | T33: 未 | U33: － | Y33: 継続監視
C34: S46 | E34: 3 | F34: 268 | G34: 覆工 | H34: アーチ（左側） | I34: 漏水 | J34: 漏水 | M34: 3.4 | N34: 1.4 | O34: Ⅱb | P34: － | Q34: Ⅱb | R34: 否 | S34: 要監視 | T34: 未 | U34: － | Y34: 継続監視
C35: S46 | E35: 4 | F35: 265.6 | G35: 覆工 | H35: アーチ（右側） | I35: 材質劣化 | J35: その他 | M35: 0.075 | N35: 0.04 | O35: Ⅱb | P35: － | Q35: Ⅱb | R35: 否 | S35: 要監視 | T35: 未 | U35: － | Y35: 継続監視
C36: S46 | E36: 5 | F36: 265.7 | G36: 覆工 | H36: アーチ（右側） | I36: 漏水 | J36: 漏水 | M36: 3.6 | N36: 2.19 | O36: Ⅱb | P36: － | Q36: Ⅱb | R36: 否 | S36: 要監視 | T36: 未 | U36: － | Y36: 継続監視
C37: S46 | E37: 6 | F37: 268.9 | G37: 覆工 | H37: 横断目地（天端） | I37: 材質劣化 | J37: その他 | M37: 0.2 | N37: 0.2 | O37: Ⅱb | P37: － | Q37: Ⅱb | R37: 否 | S37: 要監視 | T37: 未 | U37: － | Y37: 継続監視
C38: S46 | E38: 7 | F38: 268.9 | G38: 覆工 | H38: 横断目地（右側） | I38: 材質劣化 | J38: その他 | M38: 0.34 | N38: 0.34 | O38: Ⅱb | P38: － | Q38: Ⅱb | R38: 否 | S38: 要監視 | T38: 未 | U38: － | Y38: 継続監視
C39: S46 | E39: 8 | F39: 262.8 | G39: 路面 | H39: 車道 | J39: その他 | M39: 3.05 | N39: 3 | O39: Ⅱb | P39: － | R39: 否 | S39: 否 | U39: －
C40: S46 | E40: 9 | F40: 268 | G40: 覆工 | H40: 水平打ち継ぎ目（左側） | I40: 漏水 | J40: 漏水 | M40: 1.4 | N40: （新規確認） | O40: － | P40: － | Q40: Ⅱb | R40: 否 | S40: 要監視 | T40: 未 | U40: － | Y40: 監視
C41: S46 | E41: 10 | F41: 268.9 | G41: 覆工 | H41: 横断目地（左側） | I41: 漏水 | J41: 補修・補強材の破損 | M41: 0.02 | N41: （新規確認） | O41: － | P41: － | Q41: Ⅱb | R41: 否 | S41: 要監視 | T41: 未 | U41: － | Y41: 監視
C42: ※ 対策区分（応急措置後）のⅡb～Ⅳについて記入すること。また、点検前に実施された措置によりⅠと判定された変状も記入すること。
C43: ※ 応急措置を実施しないで判定した変状の対策区分は、対策区分の応急措置後の欄に記入すること。
C44: ※ 変状の除去が不完全で、緊急対応が必要な場合は対応方針欄に記入すること。
C45: ※ １区間の覆工に複数の変状がある場合は、変状箇所毎に記入すること。
C46: ※ 措置・監視点検を行った場合には、措置履歴、特記事項に記録を残すこと。（実施年度も記載）
C47: ※ 行が不足する場合は、適時、表の行を増やすこと。

Sheet 様式C-1-1 (9)
B2: ■定期点検記録様式 全スパン定期点検結果総括表（トンネル本体工） 【様式C-1-1】
B3: フリガナ | F3: ='様式A-1'!D3 -> ムクノトンネル ノボリ | I3: 路線名 | K3: ='様式A-1'!J3 -> 山口県道57号下関港線（上り） | O3: 定期点検実施者 | P3: ='様式B (1)'!S3 -> アジア航測株式会社 | T3: 定期点検年月日 | X3: ='様式B (1)'!P2 -> 45892
B4: 名 称 | F4: ='様式A-1'!D4 -> 椋野トンネル（上り） | I4: 管理者名 | K4: ='様式A-1'!R3 -> 山口県 下関土木建築事務所 | P4: ='様式B (1)'!S4 -> 飯田 琢巳
C5: 覆工 スパン 番号 | E5: 変状 番号 | F5: 距離 （m） | G5: 変状部位 | I5: 変 状 の 内 容 | O5: 前回定期点検時の状態 | P5: 今回定期点検結果 | T5: 措置履歴 | Y5: 対応方針 ・ 特記事項
O6: 44168
G7: 対象箇所 | H7: 部位区分 | I7: 変状区分 | J7: 変状種類 | M7: 変状の発生範囲の規模 | N7: 前回定期点検時の変状の発生範囲及び規模 | O7: 対策区分 | P7: 対策区分 | R7: 調査の 要否 | S7: 措置の 要否 | T7: 実施 | U7: 措置の実施状況
P8: 応急措置前 | Q8: 応急措置後
B9: 定期点検結果 | C9: S46 | E9: 11 | F9: 262.8 | G9: 覆工 | H9: 横断目地（右側） | I9: 漏水 | J9: 漏水 | M9: 2.7 | N9: （新規確認） | O9: － | P9: － | Q9: Ⅱb | R9: 否 | S9: 要監視 | T9: 未 | U9: － | Y9: 監視
C10: S46 | E10: 12 | F10: 262.8 | G10: 覆工 | H10: 水平打ち継ぎ目（右側） | I10: 漏水 | J10: 漏水 | M10: 2.9 | N10: （新規確認） | O10: － | P10: － | Q10: Ⅱb | R10: 否 | S10: 要監視 | T10: 未 | U10: － | Y10: 監視
C11: S47 | E11: 1 | F11: 268.9 | G11: 覆工 | H11: 横断目地（左側） | I11: 材質劣化 | J11: その他 | M11: 0.12 | N11: 0.18 | O11: Ⅱb | P11: － | Q11: Ⅱb | R11: 否 | S11: 要監視 | T11: 未 | U11: － | Y11: 継続監視
C12: S47 | E12: 2 | F12: 269.1 | G12: 覆工 | H12: アーチ（左側） | I12: 材質劣化 | J12: その他 | M12: 0.32 | N12: 0.45 | O12: Ⅱb | P12: － | Q12: Ⅱb | R12: 否 | S12: 要監視 | T12: 未 | U12: － | Y12: 継続監視
C13: S47 | E13: 3 | F13: 270.3 | G13: 覆工 | H13: アーチ（右側） | I13: 漏水 | J13: 漏水 | M13: 1.75 | N13: 4.34 | O13: Ⅱb | P13: － | Q13: Ⅱb | R13: 否 | S13: 要監視 | T13: 未 | U13: － | Y13: 継続監視
C14: S47 | E14: 4 | F14: 269.6 | G14: 覆工 | H14: アーチ（右側） | I14: 材質劣化 | J14: うき・はく離 | M14: 0.04 | N14: 0.04 | O14: Ⅱa | P14: － | Q14: Ⅱa | R14: 否 | S14: 要対策 | T14: 未 | U14: － | Y14: はく落防止工
C15: S47 | E15: 5 | F15: 269.7 | G15: 覆工 | H15: アーチ（天端） | I15: 材質劣化 | J15: 鋼材腐食 | M15: 0.09 | N15: 0.09 | O15: Ⅱb | P15: － | Q15: Ⅱb | R15: 否 | S15: 要監視 | T15: 未 | U15: － | Y15: 継続監視
C16: S47 | E16: 6 | F16: 270.7 | G16: 覆工 | H16: アーチ（右側） | I16: 材質劣化 | J16: その他 | M16: 1.2 | N16: 1.12 | O16: Ⅱb | P16: － | Q16: Ⅱb | R16: 否 | S16: 要監視 | T16: 未 | U16: － | Y16: 継続監視
C17: S47 | E17: 7 | F17: 271.9 | G17: 覆工 | H17: アーチ（左側） | I17: 材質劣化 | J17: その他 | M17: 0.55 | N17: 0.5 | O17: Ⅱb | P17: － | Q17: Ⅱb | R17: 否 | S17: 要監視 | T17: 未 | U17: － | Y17: 継続監視
C18: S47 | E18: 8 | F18: 272 | G18: 覆工 | H18: アーチ（右側） | I18: 漏水 | J18: 漏水 | M18: 1.9 | N18: 1.08 | O18: Ⅱb | P18: － | Q18: Ⅱb | R18: 否 | S18: 要監視 | T18: 未 | U18: － | Y18: 継続監視
C19: S47 | E19: 9 | F19: 272.3 | G19: 覆工 | H19: アーチ（左側） | I19: 材質劣化 | J19: その他 | M19: 0.12 | N19: 0.1 | O19: Ⅱb | P19: － | Q19: Ⅱb | R19: 否 | S19: 要監視 | T19: 未 | U19: － | Y19: 継続監視
C20: S47 | E20: 10 | F20: 272.3 | G20: 覆工 | H20: アーチ（左側） | I20: 材質劣化 | J20: うき・はく離 | M20: 0.55 | N20: 0.55 | O20: Ⅱa | P20: － | Q20: Ⅱa | R20: 否 | S20: 要対策 | T20: 未 | U20: － | Y20: はく落防止工
C21: S47 | E21: 11 | F21: 273.5 | G21: 覆工 | H21: アーチ（右側） | I21: 漏水 | J21: 漏水 | M21: 3.65 | N21: 3.04 | O21: Ⅱb | P21: － | Q21: Ⅱb | R21: 否 | S21: 要監視 | T21: 未 | U21: － | Y21: 継続監視
C22: S47 | E22: 12 | F22: 274.1 | G22: 覆工 | H22: アーチ（天端） | I22: 漏水 | J22: 漏水 | M22: 3.95 | N22: 2.37 | O22: Ⅱb | P22: － | Q22: Ⅱb | R22: 否 | S22: 要監視 | T22: 未 | U22: － | Y22: 継続監視
C23: S47 | E23: 13 | F23: 275.1 | G23: 覆工 | H23: 横断目地（左側） | I23: 漏水 | J23: 漏水 | M23: 2.4 | N23: 2.3 | O23: Ⅱb | P23: － | Q23: Ⅱb | R23: 否 | S23: 要監視 | T23: 未 | U23: － | Y23: 継続監視
C24: S47 | E24: 14 | F24: 268.9 | G24: 路面 | H24: 車道 | J24: その他 | M24: 3.1 | N24: 3 | O24: Ⅱb | P24: － | R24: 否 | S24: 否 | U24: －
C25: S47 | E25: 15 | F25: 271.9 | G25: 覆工 | H25: 水平打ち継ぎ目（左側） | I25: 漏水 | J25: 漏水 | M25: 1.4 | N25: （新規確認） | O25: － | P25: － | Q25: Ⅱb | R25: 否 | S25: 要監視 | T25: 未 | U25: － | Y25: 監視
C26: S47 | E26: 16 | F26: 269.6 | G26: 覆工 | H26: アーチ（左側） | I26: 漏水 | J26: 漏水 | M26: 5.36 | N26: （新規確認） | O26: － | P26: － | Q26: Ⅱb | R26: 否 | S26: 要監視 | T26: 未 | U26: － | Y26: 監視
C27: S47 | E27: 17 | F27: 269 | G27: 覆工 | H27: 水平打ち継ぎ目（右側） | I27: 漏水 | J27: 漏水 | M27: 2.24 | N27: （新規確認） | O27: － | P27: － | Q27: Ⅱb | R27: 否 | S27: 要監視 | T27: 未 | U27: － | Y27: 監視
C28: S48 | E28: 1 | F28: 275.2 | G28: 覆工 | H28: アーチ（右側） | I28: 材質劣化 | J28: うき・はく離 | M28: 0.125 | N28: 0.125 | O28: Ⅱa | P28: － | Q28: Ⅰ | R28: 否 | S28: 否 | T28: 未 | U28: － | Y28: 判定見直し
C29: S48 | E29: 2 | F29: 275.9 | G29: 覆工 | H29: アーチ（天端） | I29: 材質劣化 | J29: 鋼材腐食 | M29: 0.09 | N29: 0.09 | O29: Ⅱb | P29: － | Q29: Ⅱb | R29: 否 | S29: 要監視 | T29: 未 | U29: － | Y29: 継続監視
C30: S48 | E30: 3 | F30: 277.5 | G30: 覆工 | H30: 水平打ち継ぎ目（右側） | I30: 材質劣化 | J30: うき・はく離 | M30: 0.05 | N30: 0.05 | O30: Ⅱa | P30: － | Q30: Ⅱa | R30: 否 | S30: 要対策 | T30: 未 | U30: － | Y30: はく落防止工
C31: S48 | E31: 4 | F31: 277.3 | G31: 覆工 | H31: アーチ（右側） | I31: 材質劣化 | J31: 鋼材腐食 | M31: 0.02 | N31: （新規確認） | O31: － | P31: － | Q31: Ⅱb | R31: 否 | S31: 要監視 | T31: 未 | U31: － | Y31: 監視
C32: S48 | E32: 5 | F32: 275.1 | G32: 覆工 | H32: 横断目地（右側） | I32: 漏水 | J32: 漏水 | M32: 3.7 | N32: （新規確認） | O32: － | P32: － | Q32: Ⅱb | R32: 否 | S32: 要監視 | T32: 未 | U32: － | Y32: 監視
C33: S49 | E33: 1 | F33: 281.2 | G33: 覆工 | H33: 水平打ち継ぎ目（右側） | I33: 材質劣化 | J33: うき・はく離 | M33: 0.3 | N33: 0.15 | O33: Ⅱa | P33: － | Q33: Ⅱa | R33: 否 | S33: 要対策 | T33: 未 | U33: － | Y33: はく落防止工
C34: S49 | E34: 2 | F34: 282 | G34: 覆工 | H34: アーチ（天端） | I34: 材質劣化 | J34: 鋼材腐食 | M34: 0.09 | N34: 0.09 | O34: Ⅱb | P34: － | Q34: Ⅱb | R34: 否 | S34: 要監視 | T34: 未 | U34: － | Y34: 継続監視
C35: S49 | E35: 3 | F35: 284.2 | G35: 覆工 | H35: アーチ（右側） | I35: 材質劣化 | J35: その他 | M35: 0.12 | N35: 0.12 | O35: Ⅱb | P35: － | Q35: Ⅱb | R35: 否 | S35: 要監視 | T35: 未 | U35: － | Y35: 継続監視
C36: S49 | E36: 4 | F36: 284.3 | G36: 覆工 | H36: 水平打ち継ぎ目（左側） | I36: 材質劣化 | J36: うき・はく離 | M36: 0.12 | N36: 0.065 | O36: Ⅱa | P36: － | Q36: Ⅱa | R36: 否 | S36: 要対策 | T36: 未 | U36: － | Y36: はく落防止工
C37: S49 | E37: 5 | F37: 286.5 | G37: 覆工 | H37: 水平打ち継ぎ目（右側） | I37: 材質劣化 | J37: うき・はく離 | M37: 0.015 | N37: 0.035 | O37: Ⅱa | P37: － | Q37: Ⅱa | R37: 否 | S37: 要対策 | T37: 未 | U37: － | Y37: はく落防止工
C38: S50 | E38: 1 | F38: 288 | G38: 覆工 | H38: アーチ（天端） | I38: 材質劣化 | J38: 鋼材腐食 | M38: 0.09 | N38: 0.09 | O38: Ⅱb | P38: － | Q38: Ⅱb | R38: 否 | S38: 要監視 | T38: 未 | U38: － | Y38: 継続監視
C39: S50 | E39: 2 | F39: 287.3 | G39: 覆工 | H39: 水平打ち継ぎ目（右側） | I39: 材質劣化 | J39: うき・はく離 | M39: 0.165 | N39: 0.3 | O39: Ⅱa | P39: － | Q39: Ⅱa | R39: 否 | S39: 要対策 | T39: 未 | U39: － | Y39: はく落防止工
C40: S51 | E40: 1 | F40: 293.3 | G40: 覆工 | H40: 水平打ち継ぎ目（右側） | I40: 材質劣化 | J40: うき・はく離 | M40: 0.11 | N40: 0.05 | O40: Ⅱa | P40: － | Q40: Ⅱa | R40: 否 | S40: 要対策 | T40: 未 | U40: － | Y40: はく落防止工
C41: S51 | E41: 2 | F41: 293.8 | G41: 覆工 | H41: アーチ（天端） | I41: 材質劣化 | J41: その他 | M41: 0.03 | N41: 0.045 | O41: Ⅱb | P41: － | Q41: Ⅱb | R41: 否 | S41: 要監視 | T41: 未 | U41: － | Y41: 継続監視
C42: ※ 対策区分（応急措置後）のⅡb～Ⅳについて記入すること。また、点検前に実施された措置によりⅠと判定された変状も記入すること。
C43: ※ 応急措置を実施しないで判定した変状の対策区分は、対策区分の応急措置後の欄に記入すること。
C44: ※ 変状の除去が不完全で、緊急対応が必要な場合は対応方針欄に記入すること。
C45: ※ １区間の覆工に複数の変状がある場合は、変状箇所毎に記入すること。
C46: ※ 措置・監視点検を行った場合には、措置履歴、特記事項に記録を残すこと。（実施年度も記載）
C47: ※ 行が不足する場合は、適時、表の行を増やすこと。

Sheet 様式C-1-1 (10)
B2: ■定期点検記録様式 全スパン定期点検結果総括表（トンネル本体工） 【様式C-1-1】
B3: フリガナ | F3: ='様式A-1'!D3 -> ムクノトンネル ノボリ | I3: 路線名 | K3: ='様式A-1'!J3 -> 山口県道57号下関港線（上り） | O3: 定期点検実施者 | P3: ='様式B (1)'!S3 -> アジア航測株式会社 | T3: 定期点検年月日 | X3: ='様式B (1)'!P2 -> 45892
B4: 名 称 | F4: ='様式A-1'!D4 -> 椋野トンネル（上り） | I4: 管理者名 | K4: ='様式A-1'!R3 -> 山口県 下関土木建築事務所 | P4: ='様式B (1)'!S4 -> 飯田 琢巳
C5: 覆工 スパン 番号 | E5: 変状 番号 | F5: 距離 （m） | G5: 変状部位 | I5: 変 状 の 内 容 | O5: 前回定期点検時の状態 | P5: 今回定期点検結果 | T5: 措置履歴 | Y5: 対応方針 ・ 特記事項
O6: 44168
G7: 対象箇所 | H7: 部位区分 | I7: 変状区分 | J7: 変状種類 | M7: 変状の発生範囲の規模 | N7: 前回定期点検時の変状の発生範囲及び規模 | O7: 対策区分 | P7: 対策区分 | R7: 調査の 要否 | S7: 措置の 要否 | T7: 実施 | U7: 措置の実施状況
P8: 応急措置前 | Q8: 応急措置後
B9: 定期点検結果 | C9: S51 | E9: 3 | F9: 293.9 | G9: 覆工 | H9: アーチ（天端） | I9: 材質劣化 | J9: 鋼材腐食 | M9: 0.09 | N9: 0.09 | O9: Ⅱb | P9: － | Q9: Ⅱb | R9: 否 | S9: 要監視 | T9: 未 | U9: － | Y9: 継続監視
C10: S51 | E10: 4 | F10: 294.5 | G10: 覆工 | H10: 水平打ち継ぎ目（右側） | I10: 材質劣化 | J10: うき・はく離 | M10: 0.045 | N10: 0.045 | O10: Ⅱa | P10: － | Q10: Ⅱa | R10: 否 | S10: 要対策 | T10: 未 | U10: － | Y10: はく落防止工
C11: S51 | E11: 5 | F11: 295 | G11: 覆工 | H11: 水平打ち継ぎ目（右側） | I11: 材質劣化 | J11: うき・はく離 | M11: 0.08 | N11: 0.015 | O11: Ⅱa | P11: － | Q11: Ⅱa | R11: 否 | S11: 要対策 | T11: 未 | U11: － | Y11: はく落防止工
C12: S51 | E12: 6 | F12: 295.5 | G12: 覆工 | H12: 水平打ち継ぎ目（右側） | I12: 材質劣化 | J12: うき・はく離 | M12: 0.1 | N12: 0.04 | O12: Ⅱa | P12: － | Q12: Ⅱa | R12: 否 | S12: 要対策 | T12: 未 | U12: － | Y12: はく落防止工
C13: S51 | E13: 7 | F13: 293.6 | G13: 覆工 | H13: 水平打ち継ぎ目（左側） | I13: 材質劣化 | J13: うき・はく離 | M13: 0.045 | N13: （新規確認） | O13: － | P13: － | Q13: Ⅱa | R13: 否 | S13: 要対策 | T13: 未 | U13: － | Y13: はく落防止工
C14: S51 | E14: 8 | F14: 294.5 | G14: 覆工 | H14: 水平打ち継ぎ目（右側） | I14: 材質劣化 | J14: うき・はく離 | M14: 0.04 | N14: （新規確認） | O14: － | P14: － | Q14: Ⅱa | R14: 否 | S14: 要対策 | T14: 未 | U14: － | Y14: はく落防止工
C15: S51 | E15: 9 | F15: 299 | G15: 覆工 | H15: 横断目地（左側） | I15: 漏水 | J15: 補修・補強材の破損 | M15: 0.04 | N15: （新規確認） | O15: － | P15: － | Q15: Ⅱb | R15: 否 | S15: 要監視 | T15: 未 | U15: － | Y15: 継続監視
C16: S51 | E16: 10 | F16: 296.5 | G16: 覆工 | H16: 水平打ち継ぎ目（右側） | I16: 材質劣化 | J16: うき・はく離 | M16: 0.14 | N16: （新規確認） | O16: － | P16: － | Q16: Ⅱa | R16: 否 | S16: 要対策 | T16: 未 | U16: － | Y16: はく落防止工
C17: S51 | E17: 11 | F17: 297.4 | G17: 覆工 | H17: 水平打ち継ぎ目（右側） | I17: 材質劣化 | J17: うき・はく離 | M17: 0.06 | N17: （新規確認） | O17: － | P17: － | Q17: Ⅱa | R17: 否 | S17: 要対策 | T17: 未 | U17: － | Y17: はく落防止工
C18: S52 | E18: 1 | F18: 299.3 | G18: 覆工 | H18: アーチ（右側） | I18: 材質劣化 | J18: その他 | M18: 0.135 | N18: 0.135 | O18: Ⅱb | P18: － | Q18: Ⅱb | R18: 否 | S18: 要監視 | T18: 未 | U18: － | Y18: 継続監視
C19: S52 | E19: 2 | F19: 300 | G19: 覆工 | H19: アーチ（天端） | I19: 材質劣化 | J19: 鋼材腐食 | M19: 0.09 | N19: 0.09 | O19: Ⅱb | P19: － | Q19: Ⅱb | R19: 否 | S19: 要監視 | T19: 未 | U19: － | Y19: 継続監視
C20: S52 | E20: 3 | F20: 299.3 | G20: 覆工 | H20: 水平打ち継ぎ目（左側） | I20: 材質劣化 | J20: うき・はく離 | M20: 0.68 | N20: 0.44 | O20: Ⅱa | P20: － | Q20: Ⅱa | R20: 否 | S20: 要対策 | T20: 未 | U20: － | Y20: はく落防止工
C21: S52 | E21: 4 | F21: 300.6 | G21: 覆工 | H21: 水平打ち継ぎ目（右側） | I21: 漏水 | J21: 漏水 | M21: 4.5 | N21: （新規確認） | O21: － | P21: － | Q21: Ⅱb | R21: 否 | S21: 要監視 | T21: 未 | U21: － | Y21: 監視
C22: S52 | E22: 5 | F22: 299.4 | G22: 覆工 | H22: 水平打ち継ぎ目（右側） | I22: 漏水 | J22: 補修・補強材の破損 | M22: 0.08 | N22: （新規確認） | O22: － | P22: － | Q22: Ⅱb | R22: 否 | S22: 要監視 | T22: 未 | U22: － | Y22: 監視
C23: S53 | E23: 1 | F23: 302.7 | G23: 覆工 | H23: 水平打ち継ぎ目（左側） | I23: 材質劣化 | J23: うき・はく離 | M23: 0.18 | N23: 0.195 | O23: Ⅱa | P23: － | Q23: Ⅱa | R23: 否 | S23: 要対策 | T23: 未 | U23: － | Y23: はく落防止工
C24: S53 | E24: 2 | F24: 304.9 | G24: 覆工 | H24: アーチ（天端） | I24: 材質劣化 | J24: 鋼材腐食 | M24: 0.09 | N24: 0.09 | O24: Ⅱb | P24: － | Q24: Ⅱb | R24: 否 | S24: 要監視 | T24: 未 | U24: － | Y24: 継続監視
C25: S53 | E25: 3 | F25: 303.4 | G25: 覆工 | H25: 水平打ち継ぎ目（右側） | I25: 漏水 | J25: 補修・補強材の破損 | M25: 0.03 | N25: （新規確認） | O25: － | P25: － | Q25: Ⅱb | R25: 否 | S25: 要監視 | T25: 未 | U25: － | Y25: 監視
C26: S55 | E26: 1 | F26: 312.3 | G26: 覆工 | H26: アーチ（左側） | I26: 材質劣化 | J26: うき・はく離 | M26: 0.01 | N26: 0.01 | O26: Ⅱa | P26: － | Q26: Ⅱa | R26: 否 | S26: 要対策 | T26: 未 | U26: － | Y26: はく落防止工
C27: S55 | E27: 2 | F27: 314.7 | G27: 覆工 | H27: アーチ（左側） | I27: 材質劣化 | J27: うき・はく離 | M27: 0.01 | N27: 0.01 | O27: Ⅱa | P27: － | Q27: Ⅱa | R27: 否 | S27: 要対策 | T27: 未 | U27: － | Y27: はく落防止工
C28: S55 | E28: 3 | F28: 318.3 | G28: 覆工 | H28: 横断目地（左側） | I28: 漏水 | J28: 漏水 | M28: 2.85 | N28: 3.35 | O28: Ⅱb | P28: － | Q28: Ⅱb | R28: 否 | S28: 要監視 | T28: 未 | U28: － | Y28: 継続監視
C29: S55 | E29: 4 | F29: 318.3 | G29: 覆工 | H29: 横断目地（右側） | I29: 漏水 | J29: 漏水 | M29: 2.95 | N29: 3.1 | O29: Ⅱb | P29: － | Q29: Ⅱb | R29: 否 | S29: 要監視 | T29: 未 | U29: － | Y29: 継続監視
C30: S55 | E30: 5 | F30: 309.6 | G30: 路面 | H30: 車道 | J30: その他 | M30: 0.87 | N30: 3.48 | O30: Ⅱb | P30: － | R30: 否 | S30: 否 | U30: －
C31: S55 | E31: 6 | F31: 318.3 | G31: 覆工 | H31: 横断目地（右側） | I31: 漏水 | J31: 補修・補強材の破損 | M31: 0.12 | N31: （新規確認） | O31: － | P31: － | Q31: Ⅱb | R31: 否 | S31: 要監視 | T31: 未 | U31: － | Y31: 監視
C32: S56 | E32: 1 | F32: 323.8 | G32: 覆工 | H32: アーチ（右側） | I32: 材質劣化 | J32: その他 | M32: 0.25 | N32: 0.25 | O32: Ⅱb | P32: － | Q32: Ⅱb | R32: 否 | S32: 要監視 | T32: 未 | U32: － | Y32: 継続監視
C33: S56 | E33: 2 | F33: 325.5 | G33: 覆工 | H33: 横断目地（左側） | I33: 漏水 | J33: 漏水 | M33: - | N33: 7 | O33: Ⅱa | P33: － | Q33: Ⅰ | R33: 否 | S33: 否 | T33: 未 | U33: － | Y33: （補修済）
C34: S56 | E34: 3 | F34: 325.5 | G34: 覆工 | H34: 横断目地（右側） | I34: 漏水 | J34: 漏水 | M34: 4.76 | N34: 4.9 | O34: Ⅱb | P34: － | Q34: Ⅱa | R34: 否 | S34: 要対策 | T34: 未 | U34: － | Y34: 導水工の施工
C35: S56 | E35: 4 | F35: 323.7 | G35: 路面 | H35: 車道 | J35: その他 | M35: 4.76 | N35: 6.16 | O35: Ⅱa | P35: － | R35: 否 | S35: 否 | U35: －
C36: S56 | E36: 5 | F36: 318.3 | G36: 路面 | H36: 車道 | J36: その他 | M36: 2.88 | N36: 2.88 | O36: Ⅱb | P36: － | R36: 否 | S36: 否 | U36: －
C37: S56 | E37: 6 | F37: 325.5 | G37: 覆工 | H37: 横断目地（左側） | I37: 漏水 | J37: 漏水 | M37: 3.85 | N37: （新規確認） | O37: － | P37: － | Q37: Ⅱa | R37: 否 | S37: 要対策 | T37: 未 | U37: － | Y37: 導水工の施工
C38: S56 | E38: 7 | F38: 325.5 | G38: 覆工 | H38: 横断目地（右側） | I38: 漏水 | J38: 補修・補強材の破損 | M38: 0.18 | N38: （新規確認） | O38: － | P38: － | Q38: Ⅱb | R38: 否 | S38: 要監視 | T38: 未 | U38: － | Y38: 監視
C39: S56 | E39: 8 | F39: 318.3 | G39: 覆工 | H39: 横断目地（右側） | I39: 漏水 | J39: 補修・補強材の破損 | M39: 0.02 | N39: （新規確認） | O39: － | P39: － | Q39: Ⅱb | R39: 否 | S39: 要監視 | T39: 未 | U39: － | Y39: 監視
C40: S57 | E40: 1 | F40: 325.5 | G40: 路面 | H40: 車道 | J40: その他 | M40: 1.56 | N40: 1.56 | O40: Ⅱb | P40: － | R40: 否 | S40: 否 | U40: －
C41: S57 | E41: 2 | F41: 328.4 | G41: 覆工 | H41: アーチ（右側） | I41: 材質劣化 | J41: うき・はく離 | M41: 0.04 | N41: （新規確認） | O41: － | P41: － | Q41: Ⅱa | R41: 否 | S41: 要対策 | T41: 未 | U41: － | Y41: はく落防止工
C42: ※ 対策区分（応急措置後）のⅡb～Ⅳについて記入すること。また、点検前に実施された措置によりⅠと判定された変状も記入すること。
C43: ※ 応急措置を実施しないで判定した変状の対策区分は、対策区分の応急措置後の欄に記入すること。
C44: ※ 変状の除去が不完全で、緊急対応が必要な場合は対応方針欄に記入すること。
C45: ※ １区間の覆工に複数の変状がある場合は、変状箇所毎に記入すること。
C46: ※ 措置・監視点検を行った場合には、措置履歴、特記事項に記録を残すこと。（実施年度も記載）
C47: ※ 行が不足する場合は、適時、表の行を増やすこと。

Sheet 様式C-1-1 (11)
B2: ■定期点検記録様式 全スパン定期点検結果総括表（トンネル本体工） 【様式C-1-1】
B3: フリガナ | F3: ='様式A-1'!D3 -> ムクノトンネル ノボリ | I3: 路線名 | K3: ='様式A-1'!J3 -> 山口県道57号下関港線（上り） | O3: 定期点検実施者 | P3: ='様式B (1)'!S3 -> アジア航測株式会社 | T3: 定期点検年月日 | X3: ='様式B (1)'!P2 -> 45892
B4: 名 称 | F4: ='様式A-1'!D4 -> 椋野トンネル（上り） | I4: 管理者名 | K4: ='様式A-1'!R3 -> 山口県 下関土木建築事務所 | P4: ='様式B (1)'!S4 -> 飯田 琢巳
C5: 覆工 スパン 番号 | E5: 変状 番号 | F5: 距離 （m） | G5: 変状部位 | I5: 変 状 の 内 容 | O5: 前回定期点検時の状態 | P5: 今回定期点検結果 | T5: 措置履歴 | Y5: 対応方針 ・ 特記事項
O6: 44168
G7: 対象箇所 | H7: 部位区分 | I7: 変状区分 | J7: 変状種類 | M7: 変状の発生範囲の規模 | N7: 前回定期点検時の変状の発生範囲及び規模 | O7: 対策区分 | P7: 対策区分 | R7: 調査の 要否 | S7: 措置の 要否 | T7: 実施 | U7: 措置の実施状況
P8: 応急措置前 | Q8: 応急措置後
B9: 定期点検結果 | C9: S58 | E9: 1 | F9: 334.4 | G9: 覆工 | H9: アーチ（右側） | I9: 漏水 | J9: 漏水 | M9: 2.9 | N9: （新規確認） | O9: － | P9: － | Q9: Ⅱb | R9: 否 | S9: 要監視 | T9: 未 | U9: － | Y9: 監視
C10: S59 | E10: 1 | F10: 338.2 | G10: 覆工 | H10: アーチ（左側） | I10: 材質劣化 | J10: その他 | M10: 0.09 | N10: 0.09 | O10: Ⅱb | P10: － | Q10: Ⅱb | R10: 否 | S10: 要監視 | T10: 未 | U10: － | Y10: 継続監視
C11: S59 | E11: 2 | F11: 341.2 | G11: 覆工 | H11: 横断目地（左側） | I11: 漏水 | J11: 漏水 | M11: 3.5 | N11: 3.5 | O11: Ⅱb | P11: － | Q11: Ⅱb | R11: 否 | S11: 要監視 | T11: 未 | U11: － | Y11: 継続監視
C12: S59 | E12: 3 | F12: 335.6 | G12: 路面 | H12: 車道 | J12: その他 | M12: 0.78 | N12: 1.56 | O12: Ⅱb | P12: － | R12: 否 | S12: 否 | U12: －
C13: S60 | E13: 1 | F13: 347.1 | G13: 覆工 | H13: アーチ（右側） | I13: 漏水 | J13: 漏水 | M13: 4.34 | N13: 3.5 | O13: Ⅱb | P13: － | Q13: Ⅱb | R13: 否 | S13: 要監視 | T13: 未 | U13: － | Y13: 継続監視
C14: S60 | E14: 2 | F14: 347.1 | G14: 覆工 | H14: アーチ（左側） | I14: 漏水 | J14: 漏水 | M14: 3.45 | N14: 3.9 | O14: Ⅱb | P14: － | Q14: Ⅱb | R14: 否 | S14: 要監視 | T14: 未 | U14: － | Y14: 継続監視
C15: S61 | E15: 1 | F15: 349 | G15: 覆工 | H15: アーチ（右側） | I15: 漏水 | J15: 漏水 | M15: 3.1 | N15: 1.34 | O15: Ⅱb | P15: － | Q15: Ⅱb | R15: 否 | S15: 要監視 | T15: 未 | U15: － | Y15: 継続監視
C16: S61 | E16: 2 | F16: 349.5 | G16: 覆工 | H16: アーチ（右側） | I16: 材質劣化 | J16: その他 | M16: 0.04 | N16: 0.04 | O16: Ⅱb | P16: － | Q16: Ⅱb | R16: 否 | S16: 要監視 | T16: 未 | U16: － | Y16: 継続監視
C42: ※ 対策区分（応急措置後）のⅡb～Ⅳについて記入すること。また、点検前に実施された措置によりⅠと判定された変状も記入すること。
C43: ※ 応急措置を実施しないで判定した変状の対策区分は、対策区分の応急措置後の欄に記入すること。
C44: ※ 変状の除去が不完全で、緊急対応が必要な場合は対応方針欄に記入すること。
C45: ※ １区間の覆工に複数の変状がある場合は、変状箇所毎に記入すること。
C46: ※ 措置・監視点検を行った場合には、措置履歴、特記事項に記録を残すこと。（実施年度も記載）
C47: ※ 行が不足する場合は、適時、表の行を増やすこと。

Sheet 様式C-1-2
B2: ■定期点検記録様式 定期点検結果総括表（トンネル内附属物等の取付状態） 【様式C-1-2】
B3: フリガナ | F3: ='様式A-1'!D3 -> ムクノトンネル ノボリ | J3: 路線名 | K3: ='様式A-1'!J3 -> 山口県道57号下関港線（上り） | M3: 定期点検実施者 | O3: ='様式B (1)'!S3 -> アジア航測株式会社 | S3: 定期点検年月日 | W3: ='様式B (1)'!P2 -> 45892
B4: 名 称 | F4: ='様式A-1'!D4 -> 椋野トンネル（上り） | J4: 管理者名 | K4: ='様式A-1'!R3 -> 山口県 下関土木建築事務所 | O4: ='様式B (1)'!S4 -> 飯田 琢巳
B5: 定期点検結果 | C5: 覆工 スパン 番号 | E5: 異常 番号 | F5: 距離 （m） | G5: 異常部位 | J5: 異 常 の 内 容 | N5: 定期点検結果 | P5: 応急措置の 実施状況 | V5: 対応方針 ・ 特記事項
G6: 対象箇所 | I6: 部位区分 | J6: 異常種類 | L6: 異常の発生範囲の規模 | N6: 異常判定区分 | P6: 実施 | Q6: 応急措置の内容
N7: 応急措置前 | O7: 応急措置後
C8: PS | E8: 101 | F8: 0 | G8: 照明施設 | H8: ケーブル本体以外 | I8: 取付部材 | J8: 腐食 | L8: 1箇所 | N8: × | P8: 未
C9: PS | E9: 102 | F9: 0 | G9: 照明施設 | H9: ケーブル本体 | I9: 附属物本体 | J9: 破断 | L9: 1箇所 | N9: × | P9: 未
C10: PS | E10: 103 | F10: 0.2 | G10: その他施設 | H10: その他 | I10: ボルト・ナット，アンカー類 | J10: 緩み、脱落 | L10: 4箇所 | N10: × | P10: 未
C11: S3 | E11: 101 | F11: 16.6 | G11: その他施設 | H11: 内装板取付部材 | I11: ボルト・ナット，アンカー類 | J11: 緩み、脱落 | L11: 1箇所 | N11: × | P11: 未 | V11: 新規確認
C12: S4 | E12: 101 | F12: 17.6 | G12: その他施設 | H12: その他 | I12: 附属物本体 | J12: その他 | L12: 排水施設より漏水 | N12: × | P12: 未 | V12: 新規確認
C13: S5 | E13: 101 | F13: 30.1 | G13: その他施設 | H13: その他 | I13: 附属物本体 | J13: その他 | L13: 排水施設より漏水 | N13: × | P13: 未 | V13: 新規確認
C14: S9 | E14: 101 | F14: 63.8 | G14: その他施設 | H14: その他 | I14: 附属物本体 | J14: 変形，欠損 | L14: 0.1m×0.7m | N14: × | P14: 未 | V14: 新規確認
C15: S17 | E15: 101 | F15: 109 | G15: その他施設 | H15: その他 | I15: 附属物本体 | J15: 変形，欠損 | L15: 0.4m×0.3m | N15: × | P15: 未 | V15: 新規確認
C16: S19 | E16: 101 | F16: 122.7 | G16: その他施設 | H16: その他 | I16: 附属物本体 | J16: 変形，欠損 | L16: 0.8m×0.2m | N16: × | P16: 未 | V16: 新規確認
C17: S23 | E17: 101 | F17: 144.9 | G17: 照明施設 | H17: ケーブル本体以外 | I17: 取付部材 | J17: 腐食 | L17: ケーブルラックの腐食 | N17: × | P17: 未 | V17: 新規確認
C18: S29 | E18: 101 | F18: 174.1 | G18: その他施設 | H18: その他 | I18: 附属物本体 | J18: その他 | L18: 排水施設より漏水 | N18: × | P18: 未 | V18: 新規確認
C19: S31 | E19: 101 | F19: 182.8 | G19: その他施設 | H19: その他 | I19: 附属物本体 | J19: 変形，欠損 | L19: 0.2m×0.3m | N19: × | P19: 未 | V19: 新規確認
C20: S34 | E20: 101 | F20: 195.1 | G20: その他施設 | H20: その他 | I20: 附属物本体 | J20: 変形，欠損 | L20: 0.4m×0.4m | N20: × | P20: 未 | V20: 新規確認
C21: S38 | E21: 101 | F21: 218.6 | G21: その他施設 | H21: その他 | I21: 附属物本体 | J21: その他 | L21: 排水施設より漏水 | N21: × | P21: 未 | V21: 新規確認
C22: S41 | E22: 101 | F22: 234.4 | G22: その他施設 | H22: その他 | I22: 附属物本体 | J22: 変形，欠損 | L22: 0.5m×0.1m | N22: × | P22: 未 | V22: 新規確認
... C40: S61 | E40: 105 | F40: 358.4 | G40: その他施設 | H40: 内装板取付部材 | I40: ボルト・ナット，アンカー類 | J40: 変形，欠損 | L40: ボルトの破損 | N40: × | P40: 未 | V40: 新規確認
C41: PE | E41: 101 | F41: 359.8 | G41: 照明施設 | H41: ケーブル本体以外 | I41: 取付部材 | J41: 腐食 | L41: 1箇所 | N41: × | P41: 未
C44: ※ 異常判定区分×について記入すること。また、応急措置により○と判定された箇所も記入すること。
C45: ※ 応急措置を実施しないで判定した箇所の異常判定区分は、異常判定区分の応急措置後の欄に記入すること。
C46: ※ 異常の除去が不完全で、緊急対応が必要な場合は対応方針欄に記入すること。
C47: ※ １スパンの覆工に複数の異常がある場合は、異常箇所毎に記入すること。
C48: ※ 行が不足する場合は、適時、表の行を増やすこと。

Sheet 様式C-2
B2: ■定期点検記録様式 状態の把握の内容 【様式C-2】
B3: フリガナ | E3: ='様式A-1'!D3 -> ムクノトンネル ノボリ | H3: 路線名 | J3: ='様式A-1'!J3:O4 -> 山口県道57号下関港線（上り） | M3: 定期点検実施者 | Q3: ='様式B (1)'!S3 -> アジア航測株式会社 | U3: 定期点検年月日 | X3: ='様式B (1)'!P2 -> 45892
B4: 名 称 | E4: ='様式A-1'!D4 -> 椋野トンネル（上り） | H4: 管理者名 | J4: ='様式A-1'!R3 -> 山口県 下関土木建築事務所 | Q4: ='様式B (1)'!S4 -> 飯田 琢巳
B5: 状態の把握の内容 | C5: 覆工スパン 番号 | E5: 変状 番号 | F5: 状態の把握の内容
F6: 年月日 | H6: 内容 | O6: 結果 | Y6: 対策区分の 判定
B22: 注）状態の把握において、微破壊・非破壊検査や各種試験等を実施した場合について記載する。
B23: ※ 行が不足する場合は、適時、表の行を増やすこと。

Sheet 様式D-1-1 (1)
B2: ■定期点検記録様式 変状写真台帳【様式D-1-1】 | R2: 施設ID | T2: ='様式A-1'!W2 -> 33.97028,130.94306
B3: フリガナ | E3: ='様式A-1'!D3 -> ムクノトンネル ノボリ | H3: 路 線 名 | J3: ='様式A-1'!J3:O4 -> 山口県道57号下関港線（上り） | M3: 定期点検実施者 | P3: ='様式B (1)'!S3 -> アジア航測株式会社 | S3: 定期点検年月日 | U3: ='様式B (1)'!P2 -> 45892
B4: 名 称 | E4: ='様式A-1'!D4 -> 椋野トンネル（上り） | H4: 管理者名 | J4: ='様式A-1'!R3 -> 山口県 下関土木建築事務所 | P4: ='様式B (5)'!S4 -> 飯田 琢巳
B5: 写真 番号 | C5: 覆工スパン 番号 | E5: PS | M5: 写真 番号 | N5: 覆工スパン 番号 | P5: PS
C6: 変状番号 | E6: 1 | N6: 変状番号 | P6: 2
B7: 変状 部位 | C7: 対象箇所 | E7: 坑門 | M7: 変状 部位 | N7: 対象箇所 | P7: 覆工
C8: 部位区分 | E8: 面壁・妻壁等 | N8: 部位区分 | P8: アーチ（天端）
B9: 変状種類 | E9: うき・はく離 | M9: 変状種類 | P9: 鋼材腐食
B10: 対策 区分 | C10: 変状区分 | E10: 材質劣化 | M10: 対策 区分 | N10: 変状区分 | P10: 材質劣化
C11: 応急措置前 | E11: － | N11: 応急措置前 | P11: －
C12: 応急措置後 | E12: Ⅱa | N12: 応急措置後 | P12: Ⅱb
B13: 変状の発生範囲及び規模 | E13: 0.7m×0.05m | H13: 前回変状の発生範囲及び規模 | J13: 0.7m×0.1m | M13: 変状の発生範囲及び規模 | P13: 0.3m×0.3m | S13: 前回変状の発生範囲及び規模 | U13: 0.3m×0.3m
B14: 対策履歴 | E14: － | H14: 実施状況（実施日） | J14: － | M14: 対策履歴 | P14: － | S14: 実施状況（実施日） | U14: －
B15: メモ | E15: 0.7m×0.05mのうき・はく離 打音異常あり。名板周りのモルタルのうき、変状位置が坑口直上のため重点的な監視を要する。 | M15: メモ | P15: 0.3m×0.3mの鋼材腐食 表面的な錆、日常巡視により監視を行う。
B16: 写真 番号 | C16: 覆工スパン 番号 | E16: PS | M16: 写真 番号 | N16: 覆工スパン 番号 | P16: S1
C17: 変状番号 | E17: 3 | N17: 変状番号 | P17: 1
B18: 変状 部位 | C18: 対象箇所 | E18: 覆工 | M18: 変状 部位 | N18: 対象箇所 | P18: 覆工
C19: 部位区分 | E19: 横断目地（左側） | N19: 部位区分 | P19: アーチ（天端）
B20: 変状種類 | E20: 漏水 | M20: 変状種類 | P20: 鋼材腐食
B21: 対策 区分 | C21: 変状区分 | E21: 漏水 | M21: 対策 区分 | N21: 変状区分 | P21: 材質劣化
C22: 応急措置前 | E22: － | N22: 応急措置前 | P22: －
C23: 応急措置後 | E23: Ⅱb | N23: 応急措置後 | P23: Ⅱb
B24: 変状の発生範囲及び規模 | E24: 4.6m×0.5m | H24: 前回変状の発生範囲及び規模 | J24: 今回新規変状 | M24: 変状の発生範囲及び規模 | P24: 0.3m×0.3m | S24: 前回変状の発生範囲及び規模 | U24: 0.3m×0.3m
B25: 対策履歴 | E25: － | H25: 実施状況（実施日） | J25: － | M25: 対策履歴 | P25: － | S25: 実施状況（実施日） | U25: －
B26: メモ | E26: 4.6m×0.5mの漏水跡 利用者にはほとんど影響はないが、日常巡視により監視を行う。 | M26: メモ | P26: 0.3m×0.3mの鋼材腐食 表面的な錆、日常巡視により監視を行う。
C27: ※ 応急措置後の対策区分について添付すること。また、点検前に 実施された措置によりⅠと判定された箇所も添付すること。 | N27: ※ 変状の発生範囲の規模とは、対策を行う際に参考となる変状の長さや面積をいう。
N28: ※ 応急措置を実施しないで決定した変状の対策区分は、対策区分の応急措置後の欄に記入すること。
C29: ※ たたき落としを実施した場合は、実施後の写真を添付すること。 | N29: ※ 変状の発生範囲の規模は、面積・寸法を記載すること。(ひび割れ幅のみmmとし、その他をm表記とする)
C30: ※ 附属物の取付状態に関する異常写真は別途、任意の書式でとりまとめること。 | N30: ※ 構造用鋼材以外の異物に伴ううき・はく離については、メモ欄に異物の概要を記入すること。

Sheet 様式D-1-1 (2)
B2: ■定期点検記録様式 変状写真台帳【様式D-1-1】 | R2: 施設ID | T2: ='様式A-1'!W2 -> 33.97028,130.94306
B3: フリガナ | E3: ='様式A-1'!D3 -> ムクノトンネル ノボリ | H3: 路 線 名 | J3: ='様式A-1'!J3:O4 -> 山口県道57号下関港線（上り） | M3: 定期点検実施者 | P3: ='様式B (1)'!S3 -> アジア航測株式会社 | S3: 定期点検年月日 | U3: ='様式B (1)'!P2 -> 45892
B4: 名 称 | E4: ='様式A-1'!D4 -> 椋野トンネル（上り） | H4: 管理者名 | J4: ='様式A-1'!R3 -> 山口県 下関土木建築事務所 | P4: ='様式B (5)'!S4 -> 飯田 琢巳
B5: 写真 番号 | C5: 覆工スパン 番号 | E5: S1 | M5: 写真 番号 | N5: 覆工スパン 番号 | P5: S1
C6: 変状番号 | E6: 2 | N6: 変状番号 | P6: 3
B7: 変状 部位 | C7: 対象箇所 | E7: 覆工 | M7: 変状 部位 | N7: 対象箇所 | P7: 覆工
C8: 部位区分 | E8: 横断目地（左側） | N8: 部位区分 | P8: アーチ（左側）
B9: 変状種類 | E9: うき・はく離 | M9: 変状種類 | P9: 漏水
B10: 対策 区分 | C10: 変状区分 | E10: 材質劣化 | M10: 対策 区分 | N10: 変状区分 | P10: 漏水
C11: 応急措置前 | E11: － | N11: 応急措置前 | P11: －
C12: 応急措置後 | E12: Ⅱa | N12: 応急措置後 | P12: Ⅱb
B13: 変状の発生範囲及び規模 | E13: 3.2m×0.2m | H13: 前回変状の発生範囲及び規模 | J13: 3.4m×0.3m | M13: 変状の発生範囲及び規模 | P13: 5.4m×0.5m | S13: 前回変状の発生範囲及び規模 | U13: 今回新規変状
B14: 対策履歴 | E14: － | H14: 実施状況（実施日） | J14: － | M14: 対策履歴 | P14: － | S14: 実施状況（実施日） | U14: －
B15: メモ | E15: 3.2m×0.2mのうき・はく離 打音異常あり。覆工上部のうきにより、重点的な監視を要する。 状況により計画的に対策を講じことが望ましい。 | M15: メモ | P15: 5.4m×0.5mの漏水跡 利用者にはほとんど影響はないが、日常巡視により監視を行う。
B16: 写真 番号 | C16: 覆工スパン 番号 | E16: S1 | M16: 写真 番号 | N16: 覆工スパン 番号 | P16: S2
C17: 変状番号 | E17: 4 | N17: 変状番号 | P17: 1
B18: 変状 部位 | C18: 対象箇所 | E18: 覆工 | M18: 変状 部位 | N18: 対象箇所 | P18: 覆工
C19: 部位区分 | E19: 横断目地（右側） | N19: 部位区分 | P19: アーチ（天端）
B20: 変状種類 | E20: 補修・補強材の破損 | M20: 変状種類 | P20: 鋼材腐食
B21: 対策 区分 | C21: 変状区分 | E21: 漏水 | M21: 対策 区分 | N21: 変状区分 | P21: 材質劣化
C22: 応急措置前 | E22: － | N22: 応急措置前 | P22: －
C23: 応急措置後 | E23: Ⅱb | N23: 応急措置後 | P23: Ⅱb
B24: 変状の発生範囲及び規模 | E24: 0.8m×0.1m | H24: 前回変状の発生範囲及び規模 | J24: 今回新規変状 | M24: 変状の発生範囲及び規模 | P24: 0.3m×0.3m | S24: 前回変状の発生範囲及び規模 | U24: 0.3m×0.3m
B25: 対策履歴 | E25: － | H25: 実施状況（実施日） | J25: － | M25: 対策履歴 | P25: － | S25: 実施状況（実施日） | U25: －
B26: メモ | E26: 0.8m×0.1mの導水工破損 漏水なし、日常巡視により監視を行う。 | M26: メモ | P26: 0.3m×0.3mの鋼材腐食 表面的な錆、日常巡視により監視を行う。
C27: ※ 応急措置後の対策区分について添付すること。また、点検前に 実施された措置によりⅠと判定された箇所も添付すること。 | N27: ※ 変状の発生範囲の規模とは、対策を行う際に参考となる変状の長さや面積をいう。
N28: ※ 応急措置を実施しないで決定した変状の対策区分は、対策区分の応急措置後の欄に記入すること。
C29: ※ たたき落としを実施した場合は、実施後の写真を添付すること。 | N29: ※ 変状の発生範囲の規模は、面積・寸法を記載すること。(ひび割れ幅のみmmとし、その他をm表記とする)
C30: ※ 附属物の取付状態に関する異常写真は別途、任意の書式でとりまとめること。 | N30: ※ 構造用鋼材以外の異物に伴ううき・はく離については、メモ欄に異物の概要を記入すること。

Sheet 様式D-1-1 (3)
B2: ■定期点検記録様式 変状写真台帳【様式D-1-1】 | R2: 施設ID | T2: ='様式A-1'!W2 -> 33.97028,130.94306
B3: フリガナ | E3: ='様式A-1'!D3 -> ムクノトンネル ノボリ | H3: 路 線 名 | J3: ='様式A-1'!J3:O4 -> 山口県道57号下関港線（上り） | M3: 定期点検実施者 | P3: ='様式B (1)'!S3 -> アジア航測株式会社 | S3: 定期点検年月日 | U3: ='様式B (1)'!P2 -> 45892
B4: 名 称 | E4: ='様式A-1'!D4 -> 椋野トンネル（上り） | H4: 管理者名 | J4: ='様式A-1'!R3 -> 山口県 下関土木建築事務所 | P4: ='様式B (5)'!S4 -> 飯田 琢巳
B5: 写真 番号 | C5: 覆工スパン 番号 | E5: S2 | M5: 写真 番号 | N5: 覆工スパン 番号 | P5: S3
C6: 変状番号 | E6: 2 | N6: 変状番号 | P6: 1
B7: 変状 部位 | C7: 対象箇所 | E7: 覆工 | M7: 変状 部位 | N7: 対象箇所 | P7: 覆工
C8: 部位区分 | E8: アーチ（左側） | N8: 部位区分 | P8: 横断目地（左側）
B9: 変状種類 | E9: 漏水 | M9: 変状種類 | P9: 漏水
B10: 対策 区分 | C10: 変状区分 | E10: 漏水 | M10: 対策 区分 | N10: 変状区分 | P10: 漏水
C11: 応急措置前 | E11: － | N11: 応急措置前 | P11: －
C12: 応急措置後 | E12: Ⅱb | N12: 応急措置後 | P12: Ⅱb
B13: 変状の発生範囲及び規模 | E13: 6.8m×0.5m | H13: 前回変状の発生範囲及び規模 | J13: 6.3m×0.4m | M13: 変状の発生範囲及び規模 | P13: 4.7m×0.5m | S13: 前回変状の発生範囲及び規模 | U13: 4.5m×0.5m
B14: 対策履歴 | E14: － | H14: 実施状況（実施日） | J14: － | M14: 対策履歴 | P14: － | S14: 実施状況（実施日） | U14: －
B15: メモ | E15: 6.8m×0.5mの漏水跡 利用者にはほとんど影響はないが、日常巡視により監視を行う。 | M15: メモ | P15: 4.7m×0.5mの漏水（滴水3.6ml/min） 漏水は少量で伝い水のため、利用者にはほとんど影響はない。日常巡視により監視を行う。
B16: 写真 番号 | C16: 覆工スパン 番号 | E16: S3 | M16: 写真 番号 | N16: 覆工スパン 番号 | P16: S3
C17: 変状番号 | E17: 2 | N17: 変状番号 | P17: 3
B18: 変状 部位 | C18: 対象箇所 | E18: 覆工 | M18: 変状 部位 | N18: 対象箇所 | P18: 覆工
C19: 部位区分 | E19: 横断目地（左側） | N19: 部位区分 | P19: 横断目地（右側）
B20: 変状種類 | E20: うき・はく離 | M20: 変状種類 | P20: 漏水
B21: 対策 区分 | C21: 変状区分 | E21: 材質劣化 | M21: 対策 区分 | N21: 変状区分 | P21: 漏水
C22: 応急措置前 | E22: － | N22: 応急措置前 | P22: －
C23: 応急措置後 | E23: Ⅱa | N23: 応急措置後 | P23: Ⅱb
B24: 変状の発生範囲及び規模 | E24: 1.5m×0.3m | H24: 前回変状の発生範囲及び規模 | J24: 1.5m×0.3m | M24: 変状の発生範囲及び規模 | P24: 4.9m×0.5m | S24: 前回変状の発生範囲及び規模 | U24: 5.1m×0.5m
B25: 対策履歴 | E25: － | H25: 実施状況（実施日） | J25: － | M25: 対策履歴 | P25: － | S25: 実施状況（実施日） | U25: －
B26: メモ | E26: 1.5m×0.3mのうき・はく離 打音異常あり。覆工上部のうきにより、重点的な監視を要する。 状況により計画的に対策を講じことが望ましい。 | M26: メモ | P26: 4.9m×0.5mの漏水（にじみ） 利用者にはほとんど影響はないが、日常巡視により監視を行う。
C27: ※ 応急措置後の対策区分について添付すること。また、点検前に 実施された措置によりⅠと判定された箇所も添付すること。 | N27: ※ 変状の発生範囲の規模とは、対策を行う際に参考となる変状の長さや面積をいう。
N28: ※ 応急措置を実施しないで決定した変状の対策区分は、対策区分の応急措置後の欄に記入すること。
C29: ※ たたき落としを実施した場合は、実施後の写真を添付すること。 | N29: ※ 変状の発生範囲の規模は、面積・寸法を記載すること。(ひび割れ幅のみmmとし、その他をm表記とする)
C30: ※ 附属物の取付状態に関する異常写真は別途、任意の書式でとりまとめること。 | N30: ※ 構造用鋼材以外の異物に伴ううき・はく離については、メモ欄に異物の概要を記入すること。

Sheet 様式D-1-1 (4)
B2: ■定期点検記録様式 変状写真台帳【様式D-1-1】 | R2: 施設ID | T2: ='様式A-1'!W2 -> 33.97028,130.94306
B3: フリガナ | E3: ='様式A-1'!D3 -> ムクノトンネル ノボリ | H3: 路 線 名 | J3: ='様式A-1'!J3:O4 -> 山口県道57号下関港線（上り） | M3: 定期点検実施者 | P3: ='様式B (1)'!S3 -> アジア航測株式会社 | S3: 定期点検年月日 | U3: ='様式B (1)'!P2 -> 45892
B4: 名 称 | E4: ='様式A-1'!D4 -> 椋野トンネル（上り） | H4: 管理者名 | J4: ='様式A-1'!R3 -> 山口県 下関土木建築事務所 | P4: ='様式B (5)'!S4 -> 飯田 琢巳
B5: 写真 番号 | C5: 覆工スパン 番号 | E5: S3 | M5: 写真 番号 | N5: 覆工スパン 番号 | P5: S3
C6: 変状番号 | E6: 4 | N6: 変状番号 | P6: 5
B7: 変状 部位 | C7: 対象箇所 | E7: 覆工 | M7: 変状 部位 | N7: 対象箇所 | P7: 覆工
C8: 部位区分 | E8: 横断目地（左側） | N8: 部位区分 | P8: 横断目地（右側）
B9: 変状種類 | E9: 漏水 | M9: 変状種類 | P9: 漏水
B10: 対策 区分 | C10: 変状区分 | E10: 漏水 | M10: 対策 区分 | N10: 変状区分 | P10: 漏水
C11: 応急措置前 | E11: － | N11: 応急措置前 | P11: －
C12: 応急措置後 | E12: Ⅱb | N12: 応急措置後 | P12: Ⅱb
B13: 変状の発生範囲及び規模 | E13: 6.8m×0.5m | H13: 前回変状の発生範囲及び規模 | J13: 今回新規変状 | M13: 変状の発生範囲及び規模 | P13: 6.2m×0.5m | S13: 前回変状の発生範囲及び規模 | U13: 今回新規変状
B14: 対策履歴 | E14: － | H14: 実施状況（実施日） | J14: － | M14: 対策履歴 | P14: － | S14: 実施状況（実施日） | U14: －
B15: メモ | E15: 6.8m×0.5mの漏水（にじみ） 利用者にはほとんど影響はないが、日常巡視により監視を行う。 | M15: メモ | P15: 6.2m×0.5mの漏水（にじみ） 利用者にはほとんど影響はないが、日常巡視により監視を行う。
B16: 写真 番号 | C16: 覆工スパン 番号 | E16: S4 | M16: 写真 番号 | N16: 覆工スパン 番号 | P16: S4
C17: 変状番号 | E17: 1 | N17: 変状番号 | P17: 2
B18: 変状 部位 | C18: 対象箇所 | E18: 覆工 | M18: 変状 部位 | N18: 対象箇所 | P18: 覆工
C19: 部位区分 | E19: アーチ（左側） | N19: 部位区分 | P19: アーチ（右側）
B20: 変状種類 | E20: 補修・補強材の破損 | M20: 変状種類 | P20: 漏水
B21: 対策 区分 | C21: 変状区分 | E21: 漏水 | M21: 対策 区分 | N21: 変状区分 | P21: 漏水
C22: 応急措置前 | E22: － | N22: 応急措置前 | P22: －
C23: 応急措置後 | E23: Ⅱb | N23: 応急措置後 | P23: Ⅱb
B24: 変状の発生範囲及び規模 | E24: 0.2m×0.2m | H24: 前回変状の発生範囲及び規模 | J24: 今回新規変状 | M24: 変状の発生範囲及び規模 | P24: 6.3m×0.5m | S24: 前回変状の発生範囲及び規模 | U24: 今回新規変状
B25: 対策履歴 | E25: － | H25: 実施状況（実施日） | J25: － | M25: 対策履歴 | P25: － | S25: 実施状況（実施日） | U25: －
B26: メモ | E26: 0.2m×0.2mの導水工破損 漏水なし、日常巡視により監視を行う。 | M26: メモ | P26: 6.3m×0.5mの漏水（にじみ） 利用者にはほとんど影響はないが、日常巡視により監視を行う。
C27: ※ 応急措置後の対策区分について添付すること。また、点検前に 実施された措置によりⅠと判定された箇所も添付すること。 | N27: ※ 変状の発生範囲の規模とは、対策を行う際に参考となる変状の長さや面積をいう。
N28: ※ 応急措置を実施しないで決定した変状の対策区分は、対策区分の応急措置後の欄に記入すること。
C29: ※ たたき落としを実施した場合は、実施後の写真を添付すること。 | N29: ※ 変状の発生範囲の規模は、面積・寸法を記載すること。(ひび割れ幅のみmmとし、その他をm表記とする)
C30: ※ 附属物の取付状態に関する異常写真は別途、任意の書式でとりまとめること。 | N30: ※ 構造用鋼材以外の異物に伴ううき・はく離については、メモ欄に異物の概要を記入すること。

Sheet 様式D-1-1 (5)
B2: ■定期点検記録様式 変状写真台帳【様式D-1-1】 | R2: 施設ID | T2: ='様式A-1'!W2 -> 33.97028,130.94306
B3: フリガナ | E3: ='様式A-1'!D3 -> ムクノトンネル ノボリ | H3: 路 線 名 | J3: ='様式A-1'!J3:O4 -> 山口県道57号下関港線（上り） | M3: 定期点検実施者 | P3: ='様式B (1)'!S3 -> アジア航測株式会社 | S3: 定期点検年月日 | U3: ='様式B (1)'!P2 -> 45892
B4: 名 称 | E4: ='様式A-1'!D4 -> 椋野トンネル（上り） | H4: 管理者名 | J4: ='様式A-1'!R3 -> 山口県 下関土木建築事務所 | P4: ='様式B (5)'!S4 -> 飯田 琢巳
B5: 写真 番号 | C5: 覆工スパン 番号 | E5: S4 | M5: 写真 番号 | N5: 覆工スパン 番号 | P5: S4
C6: 変状番号 | E6: 3 | N6: 変状番号 | P6: 4
B7: 変状 部位 | C7: 対象箇所 | E7: 覆工 | M7: 変状 部位 | N7: 対象箇所 | P7: 覆工
C8: 部位区分 | E8: アーチ（右側） | N8: 部位区分 | P8: 横断目地（左側）
B9: 変状種類 | E9: 漏水 | M9: 変状種類 | P9: 補修・補強材の破損
B10: 対策 区分 | C10: 変状区分 | E10: 漏水 | M10: 対策 区分 | N10: 変状区分 | P10: 漏水
C11: 応急措置前 | E11: － | N11: 応急措置前 | P11: －
C12: 応急措置後 | E12: Ⅱb | N12: 応急措置後 | P12: Ⅱb
B13: 変状の発生範囲及び規模 | E13: 5.0m×0.5m | H13: 前回変状の発生範囲及び規模 | J13: 今回新規変状 | M13: 変状の発生範囲及び規模 | P13: 0.4m×0.2m | S13: 前回変状の発生範囲及び規模 | U13: 今回新規変状
B14: 対策履歴 | E14: － | H14: 実施状況（実施日） | J14: － | M14: 対策履歴 | P14: － | S14: 実施状況（実施日） | U14: －
B15: メモ | E15: 5.0m×0.5mの漏水（にじみ） 利用者にはほとんど影響はないが、日常巡視により監視を行う。 | M15: メモ | P15: 0.4m×0.2mの導水工破損 漏水なし、日常巡視により監視を行う。
B16: 写真 番号 | C16: 覆工スパン 番号 | E16: S5 | M16: 写真 番号 | N16: 覆工スパン 番号 | P16: S5
C17: 変状番号 | E17: 1 | N17: 変状番号 | P17: 2
B18: 変状 部位 | C18: 対象箇所 | E18: 覆工 | M18: 変状 部位 | N18: 対象箇所 | P18: 覆工
C19: 部位区分 | E19: 横断目地（左側） | N19: 部位区分 | P19: アーチ（左側）
B20: 変状種類 | E20: うき・はく離 | M20: 変状種類 | P20: 補修・補強材の破損
B21: 対策 区分 | C21: 変状区分 | E21: 材質劣化 | M21: 対策 区分 | N21: 変状区分 | P21: 漏水
C22: 応急措置前 | E22: － | N22: 応急措置前 | P22: －
C23: 応急措置後 | E23: Ⅱa | N23: 応急措置後 | P23: Ⅱb
B24: 変状の発生範囲及び規模 | E24: 1.4m×0.2m | H24: 前回変状の発生範囲及び規模 | J24: 0.8m×0.2m | M24: 変状の発生範囲及び規模 | P24: 0.5m×0.2m | S24: 前回変状の発生範囲及び規模 | U24: 今回新規変状
B25: 対策履歴 | E25: － | H25: 実施状況（実施日） | J25: － | M25: 対策履歴 | P25: － | S25: 実施状況（実施日） | U25: －
B26: メモ | E26: 1.4m×0.2mのうき・はく離 打音異常あり。覆工上部のうきにより、重点的な監視を要する。 状況により計画的に対策を講じことが望ましい。 | M26: メモ | P26: 0.5m×0.2mの導水工破損 漏水なし、日常巡視により監視を行う。
C27: ※ 応急措置後の対策区分について添付すること。また、点検前に 実施された措置によりⅠと判定された箇所も添付すること。 | N27: ※ 変状の発生範囲の規模とは、対策を行う際に参考となる変状の長さや面積をいう。
N28: ※ 応急措置を実施しないで決定した変状の対策区分は、対策区分の応急措置後の欄に記入すること。
C29: ※ たたき落としを実施した場合は、実施後の写真を添付すること。 | N29: ※ 変状の発生範囲の規模は、面積・寸法を記載すること。(ひび割れ幅のみmmとし、その他をm表記とする)
C30: ※ 附属物の取付状態に関する異常写真は別途、任意の書式でとりまとめること。 | N30: ※ 構造用鋼材以外の異物に伴ううき・はく離については、メモ欄に異物の概要を記入すること。

Sheet 様式D-1-1 (6)
B2: ■定期点検記録様式 変状写真台帳【様式D-1-1】 | R2: 施設ID | T2: ='様式A-1'!W2 -> 33.97028,130.94306
B3: フリガナ | E3: ='様式A-1'!D3 -> ムクノトンネル ノボリ | H3: 路 線 名 | J3: ='様式A-1'!J3:O4 -> 山口県道57号下関港線（上り） | M3: 定期点検実施者 | P3: ='様式B (1)'!S3 -> アジア航測株式会社 | S3: 定期点検年月日 | U3: ='様式B (1)'!P2 -> 45892
B4: 名 称 | E4: ='様式A-1'!D4 -> 椋野トンネル（上り） | H4: 管理者名 | J4: ='様式A-1'!R3 -> 山口県 下関土木建築事務所 | P4: ='様式B (5)'!S4 -> 飯田 琢巳
B5: 写真 番号 | C5: 覆工スパン 番号 | E5: S5 | M5: 写真 番号 | N5: 覆工スパン 番号 | P5: S5
C6: 変状番号 | E6: 3 | N6: 変状番号 | P6: 4
B7: 変状 部位 | C7: 対象箇所 | E7: 覆工 | M7: 変状 部位 | N7: 対象箇所 | P7: 覆工
C8: 部位区分 | E8: 横断目地（左側） | N8: 部位区分 | P8: 横断目地（右側）
B9: 変状種類 | E9: 漏水 | M9: 変状種類 | P9: 漏水
B10: 対策 区分 | C10: 変状区分 | E10: 漏水 | M10: 対策 区分 | N10: 変状区分 | P10: 漏水
C11: 応急措置前 | E11: － | N11: 応急措置前 | P11: －
C12: 応急措置後 | E12: Ⅱb | N12: 応急措置後 | P12: Ⅱb
B13: 変状の発生範囲及び規模 | E13: 7.5m×0.5m | H13: 前回変状の発生範囲及び規模 | J13: 今回新規変状 | M13: 変状の発生範囲及び規模 | P13: 6.2m×0.5m | S13: 前回変状の発生範囲及び規模 | U13: 今回新規変状
B14: 対策履歴 | E14: － | H14: 実施状況（実施日） | J14: － | M14: 対策履歴 | P14: － | S14: 実施状況（実施日） | U14: －
B15: メモ | E15: 7.5m×0.5mの漏水（にじみ） 利用者にはほとんど影響はないが、日常巡視により監視を行う。 | M15: メモ | P15: 6.2m×0.5mの漏水（にじみ） 利用者にはほとんど影響はないが、日常巡視により監視を行う。
B16: 写真 番号 | C16: 覆工スパン 番号 | E16: S6 | M16: 写真 番号 | N16: 覆工スパン 番号 | P16: S6
C17: 変状番号 | E17: 1 | N17: 変状番号 | P17: 2
B18: 変状 部位 | C18: 対象箇所 | E18: 覆工 | M18: 変状 部位 | N18: 対象箇所 | P18: 覆工
C19: 部位区分 | E19: アーチ（天端） | N19: 部位区分 | P19: アーチ（左側）
B20: 変状種類 | E20: 鋼材腐食 | M20: 変状種類 | P20: うき・はく離
B21: 対策 区分 | C21: 変状区分 | E21: 材質劣化 | M21: 対策 区分 | N21: 変状区分 | P21: 材質劣化
C22: 応急措置前 | E22: － | N22: 応急措置前 | P22: －
C23: 応急措置後 | E23: Ⅱb | N23: 応急措置後 | P23: Ⅱa
B24: 変状の発生範囲及び規模 | E24: 0.3m×0.3m | H24: 前回変状の発生範囲及び規模 | J24: 0.3m×0.3m | M24: 変状の発生範囲及び規模 | P24: 2.0m×0.2m | S24: 前回変状の発生範囲及び規模 | U24: 2.0m×0.2m
B25: 対策履歴 | E25: － | H25: 実施状況（実施日） | J25: － | M25: 対策履歴 | P25: － | S25: 実施状況（実施日） | U25: －
B26: メモ | E26: 0.3m×0.3mの鋼材腐食 表面的な錆、日常巡視により監視を行う。 | M26: メモ | P26: 2.0m×0.2mのうき・はく離 打音異常あり。覆工上部のうきにより、重点的な監視を要する。 状況により計画的に対策を講じことが望ましい。
C27: ※ 応急措置後の対策区分について添付すること。また、点検前に 実施された措置によりⅠと判定された箇所も添付すること。 | N27: ※ 変状の発生範囲の規模とは、対策を行う際に参考となる変状の長さや面積をいう。
N28: ※ 応急措置を実施しないで決定した変状の対策区分は、対策区分の応急措置後の欄に記入すること。
C29: ※ たたき落としを実施した場合は、実施後の写真を添付すること。 | N29: ※ 変状の発生範囲の規模は、面積・寸法を記載すること。(ひび割れ幅のみmmとし、その他をm表記とする)
C30: ※ 附属物の取付状態に関する異常写真は別途、任意の書式でとりまとめること。 | N30: ※ 構造用鋼材以外の異物に伴ううき・はく離については、メモ欄に異物の概要を記入すること。

Sheet 様式D-1-1 (7)
B2: ■定期点検記録様式 変状写真台帳【様式D-1-1】 | R2: 施設ID | T2: ='様式A-1'!W2 -> 33.97028,130.94306
B3: フリガナ | E3: ='様式A-1'!D3 -> ムクノトンネル ノボリ | H3: 路 線 名 | J3: ='様式A-1'!J3:O4 -> 山口県道57号下関港線（上り） | M3: 定期点検実施者 | P3: ='様式B (1)'!S3 -> アジア航測株式会社 | S3: 定期点検年月日 | U3: ='様式B (1)'!P2 -> 45892
B4: 名 称 | E4: ='様式A-1'!D4 -> 椋野トンネル（上り） | H4: 管理者名 | J4: ='様式A-1'!R3 -> 山口県 下関土木建築事務所 | P4: ='様式B (5)'!S4 -> 飯田 琢巳
B5: 写真 番号 | C5: 覆工スパン 番号 | E5: S6 | M5: 写真 番号 | N5: 覆工スパン 番号 | P5: S6
C6: 変状番号 | E6: 3 | N6: 変状番号 | P6: 4
B7: 変状 部位 | C7: 対象箇所 | E7: 覆工 | M7: 変状 部位 | N7: 対象箇所 | P7: 覆工
C8: 部位区分 | E8: アーチ（天端） | N8: 部位区分 | P8: アーチ（左側）
B9: 変状種類 | E9: 鋼材腐食 | M9: 変状種類 | P9: うき・はく離
B10: 対策 区分 | C10: 変状区分 | E10: 材質劣化 | M10: 対策 区分 | N10: 変状区分 | P10: 材質劣化
C11: 応急措置前 | E11: － | N11: 応急措置前 | P11: －
C12: 応急措置後 | E12: Ⅱb | N12: 応急措置後 | P12: Ⅱa
B13: 変状の発生範囲及び規模 | E13: 0.3m×0.3m | H13: 前回変状の発生範囲及び規模 | J13: 0.3m×0.3m | M13: 変状の発生範囲及び規模 | P13: 0.35m×0.8m | S13: 前回変状の発生範囲及び規模 | U13: 0.35m×0.8m
B14: 対策履歴 | E14: － | H14: 実施状況（実施日） | J14: － | M14: 対策履歴 | P14: － | S14: 実施状況（実施日） | U14: －
B15: メモ | E15: 0.3m×0.3mの鋼材腐食 表面的な錆、日常巡視により監視を行う。 | M15: メモ | P15: 0.35m×0.8mのうき・はく離 打音異常あり。覆工上部のうきにより、重点的な監視を要する。 状況により計画的に対策を講じことが望ましい。
B16: 写真 番号 | C16: 覆工スパン 番号 | E16: S6 | M16: 写真 番号 | N16: 覆工スパン 番号 | P16: S7
C17: 変状番号 | E17: 5 | N17: 変状番号 | P17: 1
B18: 変状 部位 | C18: 対象箇所 | E18: 覆工 | M18: 変状 部位 | N18: 対象箇所 | P18: 覆工
C19: 部位区分 | E19: アーチ（右側） | N19: 部位区分 | P19: アーチ（天端）
B20: 変状種類 | E20: 漏水 | M20: 変状種類 | P20: 鋼材腐食
B21: 対策 区分 | C21: 変状区分 | E21: 漏水 | M21: 対策 区分 | N21: 変状区分 | P21: 材質劣化
C22: 応急措置前 | E22: － | N22: 応急措置前 | P22: －
C23: 応急措置後 | E23: Ⅱb | N23: 応急措置後 | P23: Ⅱb
B24: 変状の発生範囲及び規模 | E24: 5.0m×0.5m | H24: 前回変状の発生範囲及び規模 | J24: 今回新規変状 | M24: 変状の発生範囲及び規模 | P24: 0.3m×0.3m | S24: 前回変状の発生範囲及び規模 | U24: 0.3m×0.3m
B25: 対策履歴 | E25: － | H25: 実施状況（実施日） | J25: － | M25: 対策履歴 | P25: － | S25: 実施状況（実施日） | U25: －
B26: メモ | E26: 5.0m×0.5mの漏水（にじみ） 利用者にはほとんど影響はないが、日常巡視により監視を行う。 | M26: メモ | P26: 0.3m×0.3mの鋼材腐食 表面的な錆、日常巡視により監視を行う。
C27: ※ 応急措置後の対策区分について添付すること。また、点検前に 実施された措置によりⅠと判定された箇所も添付すること。 | N27: ※ 変状の発生範囲の規模とは、対策を行う際に参考となる変状の長さや面積をいう。
N28: ※ 応急措置を実施しないで決定した変状の対策区分は、対策区分の応急措置後の欄に記入すること。
C29: ※ たたき落としを実施した場合は、実施後の写真を添付すること。 | N29: ※ 変状の発生範囲の規模は、面積・寸法を記載すること。(ひび割れ幅のみmmとし、その他をm表記とする)
C30: ※ 附属物の取付状態に関する異常写真は別途、任意の書式でとりまとめること。 | N30: ※ 構造用鋼材以外の異物に伴ううき・はく離については、メモ欄に異物の概要を記入すること。

Sheet 様式D-1-1 (8)
B2: ■定期点検記録様式 変状写真台帳【様式D-1-1】 | R2: 施設ID | T2: ='様式A-1'!W2 -> 33.97028,130.94306
B3: フリガナ | E3: ='様式A-1'!D3 -> ムクノトンネル ノボリ | H3: 路 線 名 | J3: ='様式A-1'!J3:O4 -> 山口県道57号下関港線（上り） | M3: 定期点検実施者 | P3: ='様式B (1)'!S3 -> アジア航測株式会社 | S3: 定期点検年月日 | U3: ='様式B (1)'!P2 -> 45892
B4: 名 称 | E4: ='様式A-1'!D4 -> 椋野トンネル（上り） | H4: 管理者名 | J4: ='様式A-1'!R3 -> 山口県 下関土木建築事務所 | P4: ='様式B (5)'!S4 -> 飯田 琢巳
B5: 写真 番号 | C5: 覆工スパン 番号 | E5: S7 | M5: 写真 番号 | N5: 覆工スパン 番号 | P5: S7
C6: 変状番号 | E6: 2 | N6: 変状番号 | P6: 3
B7: 変状 部位 | C7: 対象箇所 | E7: 覆工 | M7: 変状 部位 | N7: 対象箇所 | P7: 覆工
C8: 部位区分 | E8: アーチ（右側） | N8: 部位区分 | P8: 水平打ち継ぎ目（右側）
B9: 変状種類 | E9: 補修・補強材の破損 | M9: 変状種類 | P9: うき・はく離
B10: 対策 区分 | C10: 変状区分 | E10: 漏水 | M10: 対策 区分 | N10: 変状区分 | P10: 材質劣化
C11: 応急措置前 | E11: － | N11: 応急措置前 | P11: －
C12: 応急措置後 | E12: Ⅱb | N12: 応急措置後 | P12: Ⅱa
B13: 変状の発生範囲及び規模 | E13: 0.2m×0.2m | H13: 前回変状の発生範囲及び規模 | J13: 今回新規変状 | M13: 変状の発生範囲及び規模 | P13: 0.15m×1.7m | S13: 前回変状の発生範囲及び規模 | U13: 今回新規変状
B14: 対策履歴 | E14: － | H14: 実施状況（実施日） | J14: － | M14: 対策履歴 | P14: － | S14: 実施状況（実施日） | U14: －
B15: メモ | E15: 0.2m×0.2mの導水工破損 漏水なし、日常巡視により監視を行う。 | M15: メモ | P15: 0.15m×1.7mのうき・はく離 打音異常あり。引き続き重点的な監視を行い、状況により計画的に対策を講じことが望ましい。
B16: 写真 番号 | C16: 覆工スパン 番号 | E16: S8 | M16: 写真 番号 | N16: 覆工スパン 番号 | P16: S8
C17: 変状番号 | E17: 1 | N17: 変状番号 | P17: 2
B18: 変状 部位 | C18: 対象箇所 | E18: 覆工 | M18: 変状 部位 | N18: 対象箇所 | P18: 覆工
C19: 部位区分 | E19: アーチ（右側） | N19: 部位区分 | P19: アーチ（天端）
B20: 変状種類 | E20: うき・はく離 | M20: 変状種類 | P20: 鋼材腐食
B21: 対策 区分 | C21: 変状区分 | E21: 材質劣化 | M21: 対策 区分 | N21: 変状区分 | P21: 材質劣化
C22: 応急措置前 | E22: － | N22: 応急措置前 | P22: －
C23: 応急措置後 | E23: Ⅱa | N23: 応急措置後 | P23: Ⅱb
B24: 変状の発生範囲及び規模 | E24: 0.1m×0.1m | H24: 前回変状の発生範囲及び規模 | J24: 0.1m×0.1m | M24: 変状の発生範囲及び規模 | P24: 0.3m×0.3m | S24: 前回変状の発生範囲及び規模 | U24: 0.3m×0.3m
B25: 対策履歴 | E25: － | H25: 実施状況（実施日） | J25: － | M25: 対策履歴 | P25: － | S25: 実施状況（実施日） | U25: －
B26: メモ | E26: 0.1m×0.1mのうき・はく離 打音異常あり。覆工上部のうきにより、重点的な監視を要する。 状況により計画的に対策を講じことが望ましい。 | M26: メモ | P26: 0.3m×0.3mの鋼材腐食 表面的な錆、日常巡視により監視を行う。
C27: ※ 応急措置後の対策区分について添付すること。また、点検前に 実施された措置によりⅠと判定された箇所も添付すること。 | N27: ※ 変状の発生範囲の規模とは、対策を行う際に参考となる変状の長さや面積をいう。
N28: ※ 応急措置を実施しないで決定した変状の対策区分は、対策区分の応急措置後の欄に記入すること。
C29: ※ たたき落としを実施した場合は、実施後の写真を添付すること。 | N29: ※ 変状の発生範囲の規模は、面積・寸法を記載すること。(ひび割れ幅のみmmとし、その他をm表記とする)
C30: ※ 附属物の取付状態に関する異常写真は別途、任意の書式でとりまとめること。 | N30: ※ 構造用鋼材以外の異物に伴ううき・はく離については、メモ欄に異物の概要を記入すること。

Sheet 様式D-1-1 (9)
B2: ■定期点検記録様式 変状写真台帳【様式D-1-1】 | R2: 施設ID | T2: ='様式A-1'!W2 -> 33.97028,130.94306
B3: フリガナ | E3: ='様式A-1'!D3 -> ムクノトンネル ノボリ | H3: 路 線 名 | J3: ='様式A-1'!J3:O4 -> 山口県道57号下関港線（上り） | M3: 定期点検実施者 | P3: ='様式B (1)'!S3 -> アジア航測株式会社 | S3: 定期点検年月日 | U3: ='様式B (1)'!P2 -> 45892
B4: 名 称 | E4: ='様式A-1'!D4 -> 椋野トンネル（上り） | H4: 管理者名 | J4: ='様式A-1'!R3 -> 山口県 下関土木建築事務所 | P4: ='様式B (5)'!S4 -> 飯田 琢巳
B5: 写真 番号 | C5: 覆工スパン 番号 | E5: S9 | M5: 写真 番号 | N5: 覆工スパン 番号 | P5: S10
C6: 変状番号 | E6: 1 | N6: 変状番号 | P6: 1
B7: 変状 部位 | C7: 対象箇所 | E7: 覆工 | M7: 変状 部位 | N7: 対象箇所 | P7: 覆工
C8: 部位区分 | E8: アーチ（天端） | N8: 部位区分 | P8: 水平打ち継ぎ目（左側）
B9: 変状種類 | E9: 鋼材腐食 | M9: 変状種類 | P9: うき・はく離
B10: 対策 区分 | C10: 変状区分 | E10: 材質劣化 | M10: 対策 区分 | N10: 変状区分 | P10: 材質劣化
C11: 応急措置前 | E11: － | N11: 応急措置前 | P11: －
C12: 応急措置後 | E12: Ⅱb | N12: 応急措置後 | P12: Ⅱa
B13: 変状の発生範囲及び規模 | E13: 0.3m×0.3m | H13: 前回変状の発生範囲及び規模 | J13: 0.3m×0.3m | M13: 変状の発生範囲及び規模 | P13: 0.3m×1.7m | S13: 前回変状の発生範囲及び規模 | U13: 0.3m×1.6m
B14: 対策履歴 | E14: － | H14: 実施状況（実施日） | J14: － | M14: 対策履歴 | P14: － | S14: 実施状況（実施日） | U14: －
B15: メモ | E15: 0.3m×0.3mの鋼材腐食 表面的な錆、日常巡視により監視を行う。 | M15: メモ | P15: 0.3m×1.7mのうき・はく離 打音異常あり。引き続き重点的な監視を行い、状況により計画的に対策を講じことが望ましい。
B16: 写真 番号 | C16: 覆工スパン 番号 | E16: S10 | M16: 写真 番号 | N16: 覆工スパン 番号 | P16: S10
C17: 変状番号 | E17: 2 | N17: 変状番号 | P17: 3
B18: 変状 部位 | C18: 対象箇所 | E18: 覆工 | M18: 変状 部位 | N18: 対象箇所 | P18: 覆工
C19: 部位区分 | E19: アーチ（天端） | N19: 部位区分 | P19: アーチ（右側）
B20: 変状種類 | E20: 鋼材腐食 | M20: 変状種類 | P20: うき・はく離
B21: 対策 区分 | C21: 変状区分 | E21: 材質劣化 | M21: 対策 区分 | N21: 変状区分 | P21: 材質劣化
C22: 応急措置前 | E22: － | N22: 応急措置前 | P22: －
C23: 応急措置後 | E23: Ⅱb | N23: 応急措置後 | P23: Ⅱa
B24: 変状の発生範囲及び規模 | E24: 0.3m×0.3m | H24: 前回変状の発生範囲及び規模 | J24: 0.3m×0.3m | M24: 変状の発生範囲及び規模 | P24: 0.3m×0.1m | S24: 前回変状の発生範囲及び規模 | U24: 0.3m×0.1m
B25: 対策履歴 | E25: － | H25: 実施状況（実施日） | J25: － | M25: 対策履歴 | P25: － | S25: 実施状況（実施日） | U25: －
B26: メモ | E26: 0.3m×0.3mの鋼材腐食 表面的な錆、日常巡視により監視を行う。 | M26: メモ | P26: 0.3m×0.1mのうき・はく離 打音異常あり。覆工上部のうきにより、重点的な監視を要する。 状況により計画的に対策を講じことが望ましい。
C27: ※ 応急措置後の対策区分について添付すること。また、点検前に 実施された措置によりⅠと判定された箇所も添付すること。 | N27: ※ 変状の発生範囲の規模とは、対策を行う際に参考となる変状の長さや面積をいう。
N28: ※ 応急措置を実施しないで決定した変状の対策区分は、対策区分の応急措置後の欄に記入すること。
C29: ※ たたき落としを実施した場合は、実施後の写真を添付すること。 | N29: ※ 変状の発生範囲の規模は、面積・寸法を記載すること。(ひび割れ幅のみmmとし、その他をm表記とする)
C30: ※ 附属物の取付状態に関する異常写真は別途、任意の書式でとりまとめること。 | N30: ※ 構造用鋼材以外の異物に伴ううき・はく離については、メモ欄に異物の概要を記入すること。

Sheet 様式D-1-1 (10)
B2: ■定期点検記録様式 変状写真台帳【様式D-1-1】 | R2: 施設ID | T2: ='様式A-1'!W2 -> 33.97028,130.94306
B3: フリガナ | E3: ='様式A-1'!D3 -> ムクノトンネル ノボリ | H3: 路 線 名 | J3: ='様式A-1'!J3:O4 -> 山口県道57号下関港線（上り） | M3: 定期点検実施者 | P3: ='様式B (1)'!S3 -> アジア航測株式会社 | S3: 定期点検年月日 | U3: ='様式B (1)'!P2 -> 45892
B4: 名 称 | E4: ='様式A-1'!D4 -> 椋野トンネル（上り） | H4: 管理者名 | J4: ='様式A-1'!R3 -> 山口県 下関土木建築事務所 | P4: ='様式B (5)'!S4 -> 飯田 琢巳
B5: 写真 番号 | C5: 覆工スパン 番号 | E5: S10 | M5: 写真 番号 | N5: 覆工スパン 番号 | P5: S10
C6: 変状番号 | E6: 4 | N6: 変状番号 | P6: 5
B7: 変状 部位 | C7: 対象箇所 | E7: 覆工 | M7: 変状 部位 | N7: 対象箇所 | P7: 覆工
C8: 部位区分 | E8: アーチ（右側） | N8: 部位区分 | P8: 横断目地（左側）
B9: 変状種類 | E9: うき・はく離 | M9: 変状種類 | P9: うき・はく離
B10: 対策 区分 | C10: 変状区分 | E10: 材質劣化 | M10: 対策 区分 | N10: 変状区分 | P10: 材質劣化
C11: 応急措置前 | E11: － | N11: 応急措置前 | P11: －
C12: 応急措置後 | E12: Ⅱa | N12: 応急措置後 | P12: Ⅱa
B13: 変状の発生範囲及び規模 | E13: 0.3m×0.1m | H13: 前回変状の発生範囲及び規模 | J13: 0.3m×0.1m | M13: 変状の発生範囲及び規模 | P13: 0.7m×0.2m、0.3m×0.2m | S13: 前回変状の発生範囲及び規模 | U13: 5.0m×0.2
B14: 対策履歴 | E14: － | H14: 実施状況（実施日） | J14: － | M14: 対策履歴 | P14: － | S14: 実施状況（実施日） | U14: －
B15: メモ | E15: 0.3m×0.1mのうき・はく離 打音異常あり。覆工上部のうきにより、重点的な監視を要する。 状況により計画的に対策を講じことが望ましい。 | M15: メモ | P15: 0.7m×0.2m、0.3m×0.2mのうき・はく離 打音異常あり。覆工上部のうきにより、重点的な監視を要する。 状況により計画的に対策を講じことが望ましい。
B16: 写真 番号 | C16: 覆工スパン 番号 | E16: S10 | M16: 写真 番号 | N16: 覆工スパン 番号 | P16: S10
C17: 変状番号 | E17: 5 | N17: 変状番号 | P17: 6
B18: 変状 部位 | C18: 対象箇所 | E18: 覆工 | M18: 変状 部位 | N18: 対象箇所 | P18: 覆工
C19: 部位区分 | E19: 横断目地（左側） | N19: 部位区分 | P19: 横断目地（左側）
B20: 変状種類 | E20: うき・はく離 | M20: 変状種類 | P20: 補修・補強材の破損
B21: 対策 区分 | C21: 変状区分 | E21: 材質劣化 | M21: 対策 区分 | N21: 変状区分 | P21: 漏水
C22: 応急措置前 | E22: － | N22: 応急措置前 | P22: －
C23: 応急措置後 | E23: Ⅱa | N23: 応急措置後 | P23: Ⅱb
B24: 変状の発生範囲及び規模 | E24: 0.7m×0.2m、0.3m×0.2m | H24: 前回変状の発生範囲及び規模 | J24: 5.0m×0.2 | M24: 変状の発生範囲及び規模 | P24: 0.1m×0.1m | S24: 前回変状の発生範囲及び規模 | U24: 今回新規変状
B25: 対策履歴 | E25: － | H25: 実施状況（実施日） | J25: － | M25: 対策履歴 | P25: － | S25: 実施状況（実施日） | U25: －
B26: メモ | E26: 0.7m×0.2m、0.3m×0.2mのうき・はく離 打音異常あり。覆工上部のうきにより、重点的な監視を要する。 状況により計画的に対策を講じことが望ましい。 | M26: メモ | P26: 0.1m×0.1mの導水工破損 日常巡視により監視を行う。
C27: ※ 応急措置後の対策区分について添付すること。また、点検前に 実施された措置によりⅠと判定された箇所も添付すること。 | N27: ※ 変状の発生範囲の規模とは、対策を行う際に参考となる変状の長さや面積をいう。
N28: ※ 応急措置を実施しないで決定した変状の対策区分は、対策区分の応急措置後の欄に記入すること。
C29: ※ たたき落としを実施した場合は、実施後の写真を添付すること。 | N29: ※ 変状の発生範囲の規模は、面積・寸法を記載すること。(ひび割れ幅のみmmとし、その他をm表記とする)
C30: ※ 附属物の取付状態に関する異常写真は別途、任意の書式でとりまとめること。 | N30: ※ 構造用鋼材以外の異物に伴ううき・はく離については、メモ欄に異物の概要を記入すること。

Sheet 様式D-1-1 (11)
B2: ■定期点検記録様式 変状写真台帳【様式D-1-1】 | R2: 施設ID | T2: ='様式A-1'!W2 -> 33.97028,130.94306
B3: フリガナ | E3: ='様式A-1'!D3 -> ムクノトンネル ノボリ | H3: 路 線 名 | J3: ='様式A-1'!J3:O4 -> 山口県道57号下関港線（上り） | M3: 定期点検実施者 | P3: ='様式B (1)'!S3 -> アジア航測株式会社 | S3: 定期点検年月日 | U3: ='様式B (1)'!P2 -> 45892
B4: 名 称 | E4: ='様式A-1'!D4 -> 椋野トンネル（上り） | H4: 管理者名 | J4: ='様式A-1'!R3 -> 山口県 下関土木建築事務所 | P4: ='様式B (5)'!S4 -> 飯田 琢巳
B5: 写真 番号 | C5: 覆工スパン 番号 | E5: S10 | M5: 写真 番号 | N5: 覆工スパン 番号 | P5: S10
C6: 変状番号 | E6: 7 | N6: 変状番号 | P6: 8
B7: 変状 部位 | C7: 対象箇所 | E7: 覆工 | M7: 変状 部位 | N7: 対象箇所 | P7: 覆工
C8: 部位区分 | E8: 横断目地（右側） | N8: 部位区分 | P8: アーチ（右側）
B9: 変状種類 | E9: 漏水 | M9: 変状種類 | P9: うき・はく離
B10: 対策 区分 | C10: 変状区分 | E10: 漏水 | M10: 対策 区分 | N10: 変状区分 | P10: 材質劣化
C11: 応急措置前 | E11: － | N11: 応急措置前 | P11: －
C12: 応急措置後 | E12: Ⅱb | N12: 応急措置後 | P12: Ⅱa
B13: 変状の発生範囲及び規模 | E13: 6.0m×0.5m | H13: 前回変状の発生範囲及び規模 | J13: 今回新規変状 | M13: 変状の発生範囲及び規模 | P13: 0.1m×0.6m | S13: 前回変状の発生範囲及び規模 | U13: 今回新規変状
B14: 対策履歴 | E14: － | H14: 実施状況（実施日） | J14: － | M14: 対策履歴 | P14: － | S14: 実施状況（実施日） | U14: －
B15: メモ | E15: 6.0m×0.5mの漏水（にじみ） 利用者にはほとんど影響はないが、日常巡視により監視を行う。 | M15: メモ | P15: 0.1m×0.6mのうき・はく離 打音異常あり。重点的な監視を行い、状況により計画的に対策を講じことが望ましい。
B16: 写真 番号 | C16: 覆工スパン 番号 | E16: S11 | M16: 写真 番号 | N16: 覆工スパン 番号 | P16: S11
C17: 変状番号 | E17: 1 | N17: 変状番号 | P17: 2
B18: 変状 部位 | C18: 対象箇所 | E18: 覆工 | M18: 変状 部位 | N18: 対象箇所 | P18: 覆工
C19: 部位区分 | E19: アーチ（左側） | N19: 部位区分 | P19: アーチ（天端）
B20: 変状種類 | E20: うき・はく離 | M20: 変状種類 | P20: 鋼材腐食
B21: 対策 区分 | C21: 変状区分 | E21: 材質劣化 | M21: 対策 区分 | N21: 変状区分 | P21: 材質劣化
C22: 応急措置前 | E22: － | N22: 応急措置前 | P22: －
C23: 応急措置後 | E23: Ⅱa | N23: 応急措置後 | P23: Ⅱb
B24: 変状の発生範囲及び規模 | E24: 0.3m×1.0m | H24: 前回変状の発生範囲及び規模 | J24: 0.3m×1.1m | M24: 変状の発生範囲及び規模 | P24: 0.3m×0.3m | S24: 前回変状の発生範囲及び規模 | U24: 0.3m×0.3m
B25: 対策履歴 | E25: － | H25: 実施状況（実施日） | J25: － | M25: 対策履歴 | P25: － | S25: 実施状況（実施日） | U25: －
B26: メモ | E26: 0.3m×1.0mのうき・はく離 打音異常あり。重点的な監視を行い、状況により計画的に対策を講じことが望ましい。 | M26: メモ | P26: 0.3m×0.3mの鋼材腐食 表面的な錆、日常巡視により監視を行う。
C27: ※ 応急措置後の対策区分について添付すること。また、点検前に 実施された措置によりⅠと判定された箇所も添付すること。 | N27: ※ 変状の発生範囲の規模とは、対策を行う際に参考となる変状の長さや面積をいう。
N28: ※ 応急措置を実施しないで決定した変状の対策区分は、対策区分の応急措置後の欄に記入すること。
C29: ※ たたき落としを実施した場合は、実施後の写真を添付すること。 | N29: ※ 変状の発生範囲の規模は、面積・寸法を記載すること。(ひび割れ幅のみmmとし、その他をm表記とする)
C30: ※ 附属物の取付状態に関する異常写真は別途、任意の書式でとりまとめること。 | N30: ※ 構造用鋼材以外の異物に伴ううき・はく離については、メモ欄に異物の概要を記入すること。

Sheet 様式D-1-1 (12)
B2: ■定期点検記録様式 変状写真台帳【様式D-1-1】 | R2: 施設ID | T2: ='様式A-1'!W2 -> 33.97028,130.94306
B3: フリガナ | E3: ='様式A-1'!D3 -> ムクノトンネル ノボリ | H3: 路 線 名 | J3: ='様式A-1'!J3:O4 -> 山口県道57号下関港線（上り） | M3: 定期点検実施者 | P3: ='様式B (1)'!S3 -> アジア航測株式会社 | S3: 定期点検年月日 | U3: ='様式B (1)'!P2 -> 45892
B4: 名 称 | E4: ='様式A-1'!D4 -> 椋野トンネル（上り） | H4: 管理者名 | J4: ='様式A-1'!R3 -> 山口県 下関土木建築事務所 | P4: ='様式B (5)'!S4 -> 飯田 琢巳
B5: 写真 番号 | C5: 覆工スパン 番号 | E5: S11 | M5: 写真 番号 | N5: 覆工スパン 番号 | P5: S11
C6: 変状番号 | E6: 3 | N6: 変状番号 | P6: 4
B7: 変状 部位 | C7: 対象箇所 | E7: 覆工 | M7: 変状 部位 | N7: 対象箇所 | P7: 覆工
C8: 部位区分 | E8: アーチ（左側） | N8: 部位区分 | P8: 横断目地（天端）
B9: 変状種類 | E9: 漏水 | M9: 変状種類 | P9: うき・はく離
B10: 対策 区分 | C10: 変状区分 | E10: 漏水 | M10: 対策 区分 | N10: 変状区分 | P10: 材質劣化
C11: 応急措置前 | E11: － | N11: 応急措置前 | P11: －
C12: 応急措置後 | E12: Ⅱb | N12: 応急措置後 | P12: Ⅱa
B13: 変状の発生範囲及び規模 | E13: 5.0m×0.5m | H13: 前回変状の発生範囲及び規模 | J13: 5.4m×0.9m | M13: 変状の発生範囲及び規模 | P13: 1.4m×0.2m | S13: 前回変状の発生範囲及び規模 | U13: 1.4m×0.2m
B14: 対策履歴 | E14: － | H14: 実施状況（実施日） | J14: － | M14: 対策履歴 | P14: － | S14: 実施状況（実施日） | U14: －
B15: メモ | E15: 5.0m×0.5mの漏水跡 利用者にはほとんど影響はないが、日常巡視により監視を行う。 | M15: メモ | P15: 1.4m×0.2mのうき・はく離 打音異常あり。覆工上部のうきにより、重点的な監視を要する。 状況により計画的に対策を講じことが望ましい。
B16: 写真 番号 | C16: 覆工スパン 番号 | E16: S12 | M16: 写真 番号 | N16: 覆工スパン 番号 | P16: S12
C17: 変状番号 | E17: 1 | N17: 変状番号 | P17: 2
B18: 変状 部位 | C18: 対象箇所 | E18: 覆工 | M18: 変状 部位 | N18: 対象箇所 | P18: 覆工
C19: 部位区分 | E19: アーチ（右側） | N19: 部位区分 | P19: アーチ（右側）
B20: 変状種類 | E20: うき・はく離 | M20: 変状種類 | P20: うき・はく離
B21: 対策 区分 | C21: 変状区分 | E21: 材質劣化 | M21: 対策 区分 | N21: 変状区分 | P21: 材質劣化
C22: 応急措置前 | E22: － | N22: 応急措置前 | P22: －
C23: 応急措置後 | E23: Ⅱa | N23: 応急措置後 | P23: Ⅱa
B24: 変状の発生範囲及び規模 | E24: 0.15m×0.15m | H24: 前回変状の発生範囲及び規模 | J24: 0.15m×0.15m | M24: 変状の発生範囲及び規模 | P24: 0.15m×0.15m | S24: 前回変状の発生範囲及び規模 | U24: 0.1m×0.1m
B25: 対策履歴 | E25: － | H25: 実施状況（実施日） | J25: － | M25: 対策履歴 | P25: － | S25: 実施状況（実施日） | U25: －
B26: メモ | E26: 0.15m×0.15mのうき・はく離 打音異常あり。覆工上部のうきにより、重点的な監視を要する。 状況により計画的に対策を講じことが望ましい。 | M26: メモ | P26: 0.15m×0.15mのうき・はく離 打音異常あり。覆工上部のうきにより、重点的な監視を要する。 状況により計画的に対策を講じことが望ましい。
C27: ※ 応急措置後の対策区分について添付すること。また、点検前に 実施された措置によりⅠと判定された箇所も添付すること。 | N27: ※ 変状の発生範囲の規模とは、対策を行う際に参考となる変状の長さや面積をいう。
N28: ※ 応急措置を実施しないで決定した変状の対策区分は、対策区分の応急措置後の欄に記入すること。
C29: ※ たたき落としを実施した場合は、実施後の写真を添付すること。 | N29: ※ 変状の発生範囲の規模は、面積・寸法を記載すること。(ひび割れ幅のみmmとし、その他をm表記とする)
C30: ※ 附属物の取付状態に関する異常写真は別途、任意の書式でとりまとめること。 | N30: ※ 構造用鋼材以外の異物に伴ううき・はく離については、メモ欄に異物の概要を記入すること。

Sheet 様式D-1-1 (13)
B2: ■定期点検記録様式 変状写真台帳【様式D-1-1】 | R2: 施設ID | T2: ='様式A-1'!W2 -> 33.97028,130.94306
B3: フリガナ | E3: ='様式A-1'!D3 -> ムクノトンネル ノボリ | H3: 路 線 名 | J3: ='様式A-1'!J3:O4 -> 山口県道57号下関港線（上り） | M3: 定期点検実施者 | P3: ='様式B (1)'!S3 -> アジア航測株式会社 | S3: 定期点検年月日 | U3: ='様式B (1)'!P2 -> 45892
B4: 名 称 | E4: ='様式A-1'!D4 -> 椋野トンネル（上り） | H4: 管理者名 | J4: ='様式A-1'!R3 -> 山口県 下関土木建築事務所 | P4: ='様式B (5)'!S4 -> 飯田 琢巳
B5: 写真 番号 | C5: 覆工スパン 番号 | E5: S12 | M5: 写真 番号 | N5: 覆工スパン 番号 | P5: S12
C6: 変状番号 | E6: 3 | N6: 変状番号 | P6: 4
B7: 変状 部位 | C7: 対象箇所 | E7: 覆工 | M7: 変状 部位 | N7: 対象箇所 | P7: 覆工
C8: 部位区分 | E8: アーチ（左側） | N8: 部位区分 | P8: 水平打ち継ぎ目（左側）
B9: 変状種類 | E9: 鋼材腐食 | M9: 変状種類 | P9: うき・はく離
B10: 対策 区分 | C10: 変状区分 | E10: 材質劣化 | M10: 対策 区分 | N10: 変状区分 | P10: 材質劣化
C11: 応急措置前 | E11: － | N11: 応急措置前 | P11: －
C12: 応急措置後 | E12: Ⅱb | N12: 応急措置後 | P12: Ⅱa
B13: 変状の発生範囲及び規模 | E13: 0.2m×0.2m | H13: 前回変状の発生範囲及び規模 | J13: 0.2m×0.2m | M13: 変状の発生範囲及び規模 | P13: 0.15m×0.5m | S13: 前回変状の発生範囲及び規模 | U13: 今回新規変状
B14: 対策履歴 | E14: － | H14: 実施状況（実施日） | J14: － | M14: 対策履歴 | P14: － | S14: 実施状況（実施日） | U14: －
B15: メモ | E15: 前回の「うき・はく離」は現地確認で「鋼材腐食」になっているため、判定を見直し 表面的な錆、日常巡視により監視を行う。 | M15: メモ | P15: 0.15m×0.5mのうき・はく離 打音異常あり。重点的な監視を行い、状況により計画的に対策を講じことが望ましい。
B16: 写真 番号 | C16: 覆工スパン 番号 | E16: S12 | M16: 写真 番号 | N16: 覆工スパン 番号 | P16: S12
C17: 変状番号 | E17: 5 | N17: 変状番号 | P17: 6
B18: 変状 部位 | C18: 対象箇所 | E18: 覆工 | M18: 変状 部位 | N18: 対象箇所 | P18: 覆工
C19: 部位区分 | E19: アーチ（左側） | N19: 部位区分 | P19: アーチ（天端）
B20: 変状種類 | E20: うき・はく離 | M20: 変状種類 | P20: 鋼材腐食
B21: 対策 区分 | C21: 変状区分 | E21: 材質劣化 | M21: 対策 区分 | N21: 変状区分 | P21: 材質劣化
C22: 応急措置前 | E22: － | N22: 応急措置前 | P22: －
C23: 応急措置後 | E23: Ⅱa | N23: 応急措置後 | P23: Ⅱb
B24: 変状の発生範囲及び規模 | E24: 0.15m×0.15m | H24: 前回変状の発生範囲及び規模 | J24: 今回新規変状 | M24: 変状の発生範囲及び規模 | P24: 0.3m×0.3m | S24: 前回変状の発生範囲及び規模 | U24: 今回新規変状
B25: 対策履歴 | E25: － | H25: 実施状況（実施日） | J25: － | M25: 対策履歴 | P25: － | S25: 実施状況（実施日） | U25: －
B26: メモ | E26: 0.15m×0.5mのうき・はく離 打音異常あり。覆工上部のうきにより、重点的な監視を要する。 状況により計画的に対策を講じことが望ましい。 | M26: メモ | P26: 0.3m×0.3mの鋼材腐食 表面的な錆、日常巡視により監視を行う。
C27: ※ 応急措置後の対策区分について添付すること。また、点検前に 実施された措置によりⅠと判定された箇所も添付すること。 | N27: ※ 変状の発生範囲の規模とは、対策を行う際に参考となる変状の長さや面積をいう。
N28: ※ 応急措置を実施しないで決定した変状の対策区分は、対策区分の応急措置後の欄に記入すること。
C29: ※ たたき落としを実施した場合は、実施後の写真を添付すること。 | N29: ※ 変状の発生範囲の規模は、面積・寸法を記載すること。(ひび割れ幅のみmmとし、その他をm表記とする)
C30: ※ 附属物の取付状態に関する異常写真は別途、任意の書式でとりまとめること。 | N30: ※ 構造用鋼材以外の異物に伴ううき・はく離については、メモ欄に異物の概要を記入すること。

Sheet 様式D-1-1 (14)
B2: ■定期点検記録様式 変状写真台帳【様式D-1-1】 | R2: 施設ID | T2: ='様式A-1'!W2 -> 33.97028,130.94306
B3: フリガナ | E3: ='様式A-1'!D3 -> ムクノトンネル ノボリ | H3: 路 線 名 | J3: ='様式A-1'!J3:O4 -> 山口県道57号下関港線（上り） | M3: 定期点検実施者 | P3: ='様式B (1)'!S3 -> アジア航測株式会社 | S3: 定期点検年月日 | U3: ='様式B (1)'!P2 -> 45892
B4: 名 称 | E4: ='様式A-1'!D4 -> 椋野トンネル（上り） | H4: 管理者名 | J4: ='様式A-1'!R3 -> 山口県 下関土木建築事務所 | P4: ='様式B (5)'!S4 -> 飯田 琢巳
B5: 写真 番号 | C5: 覆工スパン 番号 | E5: S12 | M5: 写真 番号 | N5: 覆工スパン 番号 | P5: S13
C6: 変状番号 | E6: 7 | N6: 変状番号 | P6: 1
B7: 変状 部位 | C7: 対象箇所 | E7: 覆工 | M7: 変状 部位 | N7: 対象箇所 | P7: 覆工
C8: 部位区分 | E8: 水平打ち継ぎ目（右側） | N8: 部位区分 | P8: アーチ（左側）
B9: 変状種類 | E9: 漏水 | M9: 変状種類 | P9: うき・はく離
B10: 対策 区分 | C10: 変状区分 | E10: 漏水 | M10: 対策 区分 | N10: 変状区分 | P10: 材質劣化
C11: 応急措置前 | E11: － | N11: 応急措置前 | P11: －
C12: 応急措置後 | E12: Ⅱb | N12: 応急措置後 | P12: Ⅱa
B13: 変状の発生範囲及び規模 | E13: 2.6m×1.0m | H13: 前回変状の発生範囲及び規模 | J13: 今回新規変状 | M13: 変状の発生範囲及び規模 | P13: 0.15m×0.15m | S13: 前回変状の発生範囲及び規模 | U13: 0.15m×0.15m
B14: 対策履歴 | E14: － | H14: 実施状況（実施日） | J14: － | M14: 対策履歴 | P14: － | S14: 実施状況（実施日） | U14: －
B15: メモ | E15: 2.6m×1.0mの漏水（にじみ） 利用者にはほとんど影響はないが、日常巡視により監視を行う。 | M15: メモ | P15: 0.15m×0.15mのうき・はく離 打音異常あり。覆工上部のうきにより、重点的な監視を要する。 状況により計画的に対策を講じことが望ましい。
B16: 写真 番号 | C16: 覆工スパン 番号 | E16: S13 | M16: 写真 番号 | N16: 覆工スパン 番号 | P16: S13
C17: 変状番号 | E17: 2 | N17: 変状番号 | P17: 3
B18: 変状 部位 | C18: 対象箇所 | E18: 覆工 | M18: 変状 部位 | N18: 対象箇所 | P18: 覆工
C19: 部位区分 | E19: 水平打ち継ぎ目（右側） | N19: 部位区分 | P19: アーチ（左側）
B20: 変状種類 | E20: うき・はく離 | M20: 変状種類 | P20: うき・はく離
B21: 対策 区分 | C21: 変状区分 | E21: 材質劣化 | M21: 対策 区分 | N21: 変状区分 | P21: 材質劣化
C22: 応急措置前 | E22: － | N22: 応急措置前 | P22: －
C23: 応急措置後 | E23: Ⅱa | N23: 応急措置後 | P23: Ⅱa
B24: 変状の発生範囲及び規模 | E24: 0.1m×2.5m | H24: 前回変状の発生範囲及び規模 | J24: 0.1m×1.9m | M24: 変状の発生範囲及び規模 | P24: 0.15m×0.15m | S24: 前回変状の発生範囲及び規模 | U24: 0.15m×0.15m
B25: 対策履歴 | E25: － | H25: 実施状況（実施日） | J25: － | M25: 対策履歴 | P25: － | S25: 実施状況（実施日） | U25: －
B26: メモ | E26: 0.1m×2.5mのうき・はく離 打音異常あり。うきに進行がみられ、範囲が拡大している。 引き続き重点的な監視を行い、状況により計画的に対策を講じことが望ましい。 | M26: メモ | P26: 0.15m×0.15mのうき・はく離 打音異常あり。覆工上部のうきにより、重点的な監視を要する。 状況により計画的に対策を講じことが望ましい。
C27: ※ 応急措置後の対策区分について添付すること。また、点検前に 実施された措置によりⅠと判定された箇所も添付すること。 | N27: ※ 変状の発生範囲の規模とは、対策を行う際に参考となる変状の長さや面積をいう。
N28: ※ 応急措置を実施しないで決定した変状の対策区分は、対策区分の応急措置後の欄に記入すること。
C29: ※ たたき落としを実施した場合は、実施後の写真を添付すること。 | N29: ※ 変状の発生範囲の規模は、面積・寸法を記載すること。(ひび割れ幅のみmmとし、その他をm表記とする)
C30: ※ 附属物の取付状態に関する異常写真は別途、任意の書式でとりまとめること。 | N30: ※ 構造用鋼材以外の異物に伴ううき・はく離については、メモ欄に異物の概要を記入すること。

Sheet 様式D-1-1 (15)
B2: ■定期点検記録様式 変状写真台帳【様式D-1-1】 | R2: 施設ID | T2: ='様式A-1'!W2 -> 33.97028,130.94306
B3: フリガナ | E3: ='様式A-1'!D3 -> ムクノトンネル ノボリ | H3: 路 線 名 | J3: ='様式A-1'!J3:O4 -> 山口県道57号下関港線（上り） | M3: 定期点検実施者 | P3: ='様式B (1)'!S3 -> アジア航測株式会社 | S3: 定期点検年月日 | U3: ='様式B (1)'!P2 -> 45892
B4: 名 称 | E4: ='様式A-1'!D4 -> 椋野トンネル（上り） | H4: 管理者名 | J4: ='様式A-1'!R3 -> 山口県 下関土木建築事務所 | P4: ='様式B (5)'!S4 -> 飯田 琢巳
B5: 写真 番号 | C5: 覆工スパン 番号 | E5: S13 | M5: 写真 番号 | N5: 覆工スパン 番号 | P5: S13
C6: 変状番号 | E6: 4 | N6: 変状番号 | P6: 5
B7: 変状 部位 | C7: 対象箇所 | E7: 覆工 | M7: 変状 部位 | N7: 対象箇所 | P7: 覆工
C8: 部位区分 | E8: アーチ（天端） | N8: 部位区分 | P8: アーチ（右側）
B9: 変状種類 | E9: 鋼材腐食 | M9: 変状種類 | P9: うき・はく離
B10: 対策 区分 | C10: 変状区分 | E10: 材質劣化 | M10: 対策 区分 | N10: 変状区分 | P10: 材質劣化
C11: 応急措置前 | E11: － | N11: 応急措置前 | P11: －
C12: 応急措置後 | E12: Ⅱb | N12: 応急措置後 | P12: Ⅱa
B13: 変状の発生範囲及び規模 | E13: 0.3m×0.3m | H13: 前回変状の発生範囲及び規模 | J13: 0.3m×0.3m | M13: 変状の発生範囲及び規模 | P13: 0.15m×0.15m | S13: 前回変状の発生範囲及び規模 | U13: 0.15m×0.15m
B14: 対策履歴 | E14: － | H14: 実施状況（実施日） | J14: － | M14: 対策履歴 | P14: － | S14: 実施状況（実施日） | U14: －
B15: メモ | E15: 0.3m×0.3mの鋼材腐食 表面的な錆、日常巡視により監視を行う。 | M15: メモ | P15: 0.15m×0.15mのうき・はく離 打音異常あり。覆工上部のうきにより、重点的な監視を要する。 状況により計画的に対策を講じことが望ましい。
B16: 写真 番号 | C16: 覆工スパン 番号 | E16: S14 | M16: 写真 番号 | N16: 覆工スパン 番号 | P16: S14
C17: 変状番号 | E17: 1 | N17: 変状番号 | P17: 2
B18: 変状 部位 | C18: 対象箇所 | E18: 覆工 | M18: 変状 部位 | N18: 対象箇所 | P18: 覆工
C19: 部位区分 | E19: アーチ（天端） | N19: 部位区分 | P19: アーチ（左側）
B20: 変状種類 | E20: うき・はく離 | M20: 変状種類 | P20: うき・はく離
B21: 対策 区分 | C21: 変状区分 | E21: 材質劣化 | M21: 対策 区分 | N21: 変状区分 | P21: 材質劣化
C22: 応急措置前 | E22: － | N22: 応急措置前 | P22: －
C23: 応急措置後 | E23: Ⅱa | N23: 応急措置後 | P23: Ⅱa
B24: 変状の発生範囲及び規模 | E24: 0.15m×0.15m | H24: 前回変状の発生範囲及び規模 | J24: 0.15m×0.15m | M24: 変状の発生範囲及び規模 | P24: 0.15m×0.15m | S24: 前回変状の発生範囲及び規模 | U24: 0.15m×0.15m
B25: 対策履歴 | E25: － | H25: 実施状況（実施日） | J25: － | M25: 対策履歴 | P25: － | S25: 実施状況（実施日） | U25: －
B26: メモ | E26: 0.15m×0.15mのうき・はく離 打音異常あり。覆工上部のうきにより、重点的な監視を要する。 状況により計画的に対策を講じことが望ましい。 | M26: メモ | P26: 0.15m×0.15mのうき・はく離 打音異常あり。覆工上部のうきにより、重点的な監視を要する。 状況により計画的に対策を講じことが望ましい。
C27: ※ 応急措置後の対策区分について添付すること。また、点検前に 実施された措置によりⅠと判定された箇所も添付すること。 | N27: ※ 変状の発生範囲の規模とは、対策を行う際に参考となる変状の長さや面積をいう。
N28: ※ 応急措置を実施しないで決定した変状の対策区分は、対策区分の応急措置後の欄に記入すること。
C29: ※ たたき落としを実施した場合は、実施後の写真を添付すること。 | N29: ※ 変状の発生範囲の規模は、面積・寸法を記載すること。(ひび割れ幅のみmmとし、その他をm表記とする)
C30: ※ 附属物の取付状態に関する異常写真は別途、任意の書式でとりまとめること。 | N30: ※ 構造用鋼材以外の異物に伴ううき・はく離については、メモ欄に異物の概要を記入すること。

Sheet 様式D-1-1 (16)
B2: ■定期点検記録様式 変状写真台帳【様式D-1-1】 | R2: 施設ID | T2: ='様式A-1'!W2 -> 33.97028,130.94306
B3: フリガナ | E3: ='様式A-1'!D3 -> ムクノトンネル ノボリ | H3: 路 線 名 | J3: ='様式A-1'!J3:O4 -> 山口県道57号下関港線（上り） | M3: 定期点検実施者 | P3: ='様式B (1)'!S3 -> アジア航測株式会社 | S3: 定期点検年月日 | U3: ='様式B (1)'!P2 -> 45892
B4: 名 称 | E4: ='様式A-1'!D4 -> 椋野トンネル（上り） | H4: 管理者名 | J4: ='様式A-1'!R3 -> 山口県 下関土木建築事務所 | P4: ='様式B (5)'!S4 -> 飯田 琢巳
B5: 写真 番号 | C5: 覆工スパン 番号 | E5: S14 | M5: 写真 番号 | N5: 覆工スパン 番号 | P5: S14
C6: 変状番号 | E6: 3 | N6: 変状番号 | P6: 4
B7: 変状 部位 | C7: 対象箇所 | E7: 覆工 | M7: 変状 部位 | N7: 対象箇所 | P7: 覆工
C8: 部位区分 | E8: アーチ（左側） | N8: 部位区分 | P8: アーチ（右側）
B9: 変状種類 | E9: うき・はく離 | M9: 変状種類 | P9: うき・はく離
B10: 対策 区分 | C10: 変状区分 | E10: 材質劣化 | M10: 対策 区分 | N10: 変状区分 | P10: 材質劣化
C11: 応急措置前 | E11: － | N11: 応急措置前 | P11: －
C12: 応急措置後 | E12: Ⅱa | N12: 応急措置後 | P12: Ⅱa
B13: 変状の発生範囲及び規模 | E13: 0.15m×0.15m | H13: 前回変状の発生範囲及び規模 | J13: 0.15m×0.15m | M13: 変状の発生範囲及び規模 | P13: 0.1m×0.1m | S13: 前回変状の発生範囲及び規模 | U13: 0.1m×0.1m
B14: 対策履歴 | E14: － | H14: 実施状況（実施日） | J14: － | M14: 対策履歴 | P14: － | S14: 実施状況（実施日） | U14: －
B15: メモ | E15: 0.15m×0.15mのうき・はく離 打音異常あり。覆工上部のうきにより、重点的な監視を要する。 状況により計画的に対策を講じことが望ましい。 | M15: メモ | P15: 0.1m×0.1mのうき・はく離 打音異常あり。覆工上部のうきにより、重点的な監視を要する。 状況により計画的に対策を講じことが望ましい。
B16: 写真 番号 | C16: 覆工スパン 番号 | E16: S14 | M16: 写真 番号 | N16: 覆工スパン 番号 | P16: S14
C17: 変状番号 | E17: 5 | N17: 変状番号 | P17: 6
B18: 変状 部位 | C18: 対象箇所 | E18: 覆工 | M18: 変状 部位 | N18: 対象箇所 | P18: 覆工
C19: 部位区分 | E19: アーチ（天端） | N19: 部位区分 | P19: 横断目地（右側）
B20: 変状種類 | E20: 漏水 | M20: 変状種類 | P20: うき・はく離
B21: 対策 区分 | C21: 変状区分 | E21: 漏水 | M21: 対策 区分 | N21: 変状区分 | P21: 材質劣化
C22: 応急措置前 | E22: － | N22: 応急措置前 | P22: －
C23: 応急措置後 | E23: Ⅱb | N23: 応急措置後 | P23: Ⅱa
B24: 変状の発生範囲及び規模 | E24: 7.2m×0.5m | H24: 前回変状の発生範囲及び規模 | J24: 7.9m×0.5m | M24: 変状の発生範囲及び規模 | P24: 1.2m×0.2m | S24: 前回変状の発生範囲及び規模 | U24: 1.2m×0.2m
B25: 対策履歴 | E25: － | H25: 実施状況（実施日） | J25: － | M25: 対策履歴 | P25: － | S25: 実施状況（実施日） | U25: －
B26: メモ | E26: 7.2m×0.5mの漏水跡 利用者にはほとんど影響はないが、日常巡視により監視を行う。 | M26: メモ | P26: 1.2m×0.2mのうき・はく離 打音異常あり。覆工上部のうきにより、重点的な監視を要する。 状況により計画的に対策を講じことが望ましい。
C27: ※ 応急措置後の対策区分について添付すること。また、点検前に 実施された措置によりⅠと判定された箇所も添付すること。 | N27: ※ 変状の発生範囲の規模とは、対策を行う際に参考となる変状の長さや面積をいう。
N28: ※ 応急措置を実施しないで決定した変状の対策区分は、対策区分の応急措置後の欄に記入すること。
C29: ※ たたき落としを実施した場合は、実施後の写真を添付すること。 | N29: ※ 変状の発生範囲の規模は、面積・寸法を記載すること。(ひび割れ幅のみmmとし、その他をm表記とする)
C30: ※ 附属物の取付状態に関する異常写真は別途、任意の書式でとりまとめること。 | N30: ※ 構造用鋼材以外の異物に伴ううき・はく離については、メモ欄に異物の概要を記入すること。

Sheet 様式D-1-1 (17)
B2: ■定期点検記録様式 変状写真台帳【様式D-1-1】 | R2: 施設ID | T2: ='様式A-1'!W2 -> 33.97028,130.94306
B3: フリガナ | E3: ='様式A-1'!D3 -> ムクノトンネル ノボリ | H3: 路 線 名 | J3: ='様式A-1'!J3:O4 -> 山口県道57号下関港線（上り） | M3: 定期点検実施者 | P3: ='様式B (1)'!S3 -> アジア航測株式会社 | S3: 定期点検年月日 | U3: ='様式B (1)'!P2 -> 45892
B4: 名 称 | E4: ='様式A-1'!D4 -> 椋野トンネル（上り） | H4: 管理者名 | J4: ='様式A-1'!R3 -> 山口県 下関土木建築事務所 | P4: ='様式B (5)'!S4 -> 飯田 琢巳
B5: 写真 番号 | C5: 覆工スパン 番号 | E5: S14 | M5: 写真 番号 | N5: 覆工スパン 番号 | P5: S14
C6: 変状番号 | E6: 7 | N6: 変状番号 | P6: 8
B7: 変状 部位 | C7: 対象箇所 | E7: 覆工 | M7: 変状 部位 | N7: 対象箇所 | P7: 覆工
C8: 部位区分 | E8: アーチ（右側） | N8: 部位区分 | P8: 水平打ち継ぎ目（右側）
B9: 変状種類 | E9: うき・はく離 | M9: 変状種類 | P9: 漏水
B10: 対策 区分 | C10: 変状区分 | E10: 材質劣化 | M10: 対策 区分 | N10: 変状区分 | P10: 漏水
C11: 応急措置前 | E11: － | N11: 応急措置前 | P11: －
C12: 応急措置後 | E12: Ⅱa | N12: 応急措置後 | P12: Ⅱb
B13: 変状の発生範囲及び規模 | E13: 0.15m×1.0m | H13: 前回変状の発生範囲及び規模 | J13: 0.15m×1.2m | M13: 変状の発生範囲及び規模 | P13: 2.5m×0.5m | S13: 前回変状の発生範囲及び規模 | U13: 今回新規変状
B14: 対策履歴 | E14: － | H14: 実施状況（実施日） | J14: － | M14: 対策履歴 | P14: － | S14: 実施状況（実施日） | U14: －
B15: メモ | E15: 0.15m×1.0mのうき・はく離（前回のS13-6） 打音異常あり。重点的な監視を行い、状況により計画的に対策を講じことが望ましい。 | M15: メモ | P15: 2.5m×0.5mの漏水（滴水：計測不可） 利用者にはほとんど影響はない。日常巡視により監視を行う。
B16: 写真 番号 | C16: 覆工スパン 番号 | E16: S15 | M16: 写真 番号 | N16: 覆工スパン 番号 | P16: S15
C17: 変状番号 | E17: 1 | N17: 変状番号 | P17: 2
B18: 変状 部位 | C18: 対象箇所 | E18: 覆工 | M18: 変状 部位 | N18: 対象箇所 | P18: 覆工
C19: 部位区分 | E19: アーチ（天端） | N19: 部位区分 | P19: アーチ（左側）
B20: 変状種類 | E20: 鋼材腐食 | M20: 変状種類 | P20: うき・はく離
B21: 対策 区分 | C21: 変状区分 | E21: 材質劣化 | M21: 対策 区分 | N21: 変状区分 | P21: 材質劣化
C22: 応急措置前 | E22: － | N22: 応急措置前 | P22: －
C23: 応急措置後 | E23: Ⅱb | N23: 応急措置後 | P23: Ⅱa
B24: 変状の発生範囲及び規模 | E24: 0.3m×0.3m | H24: 前回変状の発生範囲及び規模 | J24: 0.3m×0.3m | M24: 変状の発生範囲及び規模 | P24: 0.15m×0.15m | S24: 前回変状の発生範囲及び規模 | U24: 0.15m×0.15m
B25: 対策履歴 | E25: － | H25: 実施状況（実施日） | J25: － | M25: 対策履歴 | P25: － | S25: 実施状況（実施日） | U25: －
B26: メモ | E26: 0.3m×0.3mの鋼材腐食 表面的な錆、日常巡視により監視を行う。 | M26: メモ | P26: 0.15m×0.15mのうき・はく離 打音異常あり。覆工上部のうきにより、重点的な監視を要する。 状況により計画的に対策を講じことが望ましい。
C27: ※ 応急措置後の対策区分について添付すること。また、点検前に 実施された措置によりⅠと判定された箇所も添付すること。 | N27: ※ 変状の発生範囲の規模とは、対策を行う際に参考となる変状の長さや面積をいう。
N28: ※ 応急措置を実施しないで決定した変状の対策区分は、対策区分の応急措置後の欄に記入すること。
C29: ※ たたき落としを実施した場合は、実施後の写真を添付すること。 | N29: ※ 変状の発生範囲の規模は、面積・寸法を記載すること。(ひび割れ幅のみmmとし、その他をm表記とする)
C30: ※ 附属物の取付状態に関する異常写真は別途、任意の書式でとりまとめること。 | N30: ※ 構造用鋼材以外の異物に伴ううき・はく離については、メモ欄に異物の概要を記入すること。

Sheet 様式D-1-1 (18)
B2: ■定期点検記録様式 変状写真台帳【様式D-1-1】 | R2: 施設ID | T2: ='様式A-1'!W2 -> 33.97028,130.94306
B3: フリガナ | E3: ='様式A-1'!D3 -> ムクノトンネル ノボリ | H3: 路 線 名 | J3: ='様式A-1'!J3:O4 -> 山口県道57号下関港線（上り） | M3: 定期点検実施者 | P3: ='様式B (1)'!S3 -> アジア航測株式会社 | S3: 定期点検年月日 | U3: ='様式B (1)'!P2 -> 45892
B4: 名 称 | E4: ='様式A-1'!D4 -> 椋野トンネル（上り） | H4: 管理者名 | J4: ='様式A-1'!R3 -> 山口県 下関土木建築事務所 | P4: ='様式B (5)'!S4 -> 飯田 琢巳
B5: 写真 番号 | C5: 覆工スパン 番号 | E5: S15 | M5: 写真 番号 | N5: 覆工スパン 番号 | P5: S15
C6: 変状番号 | E6: 3 | N6: 変状番号 | P6: 4
B7: 変状 部位 | C7: 対象箇所 | E7: 覆工 | M7: 変状 部位 | N7: 対象箇所 | P7: 覆工
C8: 部位区分 | E8: アーチ（左側） | N8: 部位区分 | P8: アーチ（天端）
B9: 変状種類 | E9: その他 | M9: 変状種類 | P9: 鋼材腐食
B10: 対策 区分 | C10: 変状区分 | E10: 材質劣化 | M10: 対策 区分 | N10: 変状区分 | P10: 材質劣化
C11: 応急措置前 | E11: － | N11: 応急措置前 | P11: －
C12: 応急措置後 | E12: Ⅱb | N12: 応急措置後 | P12: Ⅱb
B13: 変状の発生範囲及び規模 | E13: 0.2m×0.2m | H13: 前回変状の発生範囲及び規模 | J13: 0.2m×0.2m | M13: 変状の発生範囲及び規模 | P13: 0.3m×0.3m | S13: 前回変状の発生範囲及び規模 | U13: 0.3m×0.3m
B14: 対策履歴 | E14: － | H14: 実施状況（実施日） | J14: － | M14: 対策履歴 | P14: － | S14: 実施状況（実施日） | U14: －
B15: メモ | E15: 0.2m×0.2mの豆板 前回からの進行が見られないが、引き続いて監視を行う。 | M15: メモ | P15: 0.3m×0.3mの鋼材腐食 表面的な錆、日常巡視により監視を行う。
B16: 写真 番号 | C16: 覆工スパン 番号 | E16: S15 | M16: 写真 番号 | N16: 覆工スパン 番号 | P16: S15
C17: 変状番号 | E17: 5 | N17: 変状番号 | P17: 6
B18: 変状 部位 | C18: 対象箇所 | E18: 覆工 | M18: 変状 部位 | N18: 対象箇所 | P18: 覆工
C19: 部位区分 | E19: 水平打ち継ぎ目（右側） | N19: 部位区分 | P19: アーチ（左側）
B20: 変状種類 | E20: うき・はく離 | M20: 変状種類 | P20: うき・はく離
B21: 対策 区分 | C21: 変状区分 | E21: 材質劣化 | M21: 対策 区分 | N21: 変状区分 | P21: 材質劣化
C22: 応急措置前 | E22: － | N22: 応急措置前 | P22: －
C23: 応急措置後 | E23: Ⅱa | N23: 応急措置後 | P23: Ⅱa
B24: 変状の発生範囲及び規模 | E24: 0.4m×4.2m | H24: 前回変状の発生範囲及び規模 | J24: 0.15m×2.0m | M24: 変状の発生範囲及び規模 | P24: 0.15m×0.15m | S24: 前回変状の発生範囲及び規模 | U24: 0.15m×0.15m
B25: 対策履歴 | E25: － | H25: 実施状況（実施日） | J25: － | M25: 対策履歴 | P25: － | S25: 実施状況（実施日） | U25: －
B26: メモ | E26: 0.4m×4.2mのうき・はく離 打音異常あり。うきに進行がみられ、範囲が拡大している。 引き続き重点的な監視を行い、状況により計画的に対策を講じことが望ましい。 | M26: メモ | P26: 0.15m×0.15mのうき・はく離 打音異常あり。覆工上部のうきにより、重点的な監視を要する。 状況により計画的に対策を講じことが望ましい。
C27: ※ 応急措置後の対策区分について添付すること。また、点検前に 実施された措置によりⅠと判定された箇所も添付すること。 | N27: ※ 変状の発生範囲の規模とは、対策を行う際に参考となる変状の長さや面積をいう。
N28: ※ 応急措置を実施しないで決定した変状の対策区分は、対策区分の応急措置後の欄に記入すること。
C29: ※ たたき落としを実施した場合は、実施後の写真を添付すること。 | N29: ※ 変状の発生範囲の規模は、面積・寸法を記載すること。(ひび割れ幅のみmmとし、その他をm表記とする)
C30: ※ 附属物の取付状態に関する異常写真は別途、任意の書式でとりまとめること。 | N30: ※ 構造用鋼材以外の異物に伴ううき・はく離については、メモ欄に異物の概要を記入すること。

Sheet 様式D-1-1 (19)
B2: ■定期点検記録様式 変状写真台帳【様式D-1-1】 | R2: 施設ID | T2: ='様式A-1'!W2 -> 33.97028,130.94306
B3: フリガナ | E3: ='様式A-1'!D3 -> ムクノトンネル ノボリ | H3: 路 線 名 | J3: ='様式A-1'!J3:O4 -> 山口県道57号下関港線（上り） | M3: 定期点検実施者 | P3: ='様式B (1)'!S3 -> アジア航測株式会社 | S3: 定期点検年月日 | U3: ='様式B (1)'!P2 -> 45892
B4: 名 称 | E4: ='様式A-1'!D4 -> 椋野トンネル（上り） | H4: 管理者名 | J4: ='様式A-1'!R3 -> 山口県 下関土木建築事務所 | P4: ='様式B (5)'!S4 -> 飯田 琢巳
B5: 写真 番号 | C5: 覆工スパン 番号 | E5: S15 | M5: 写真 番号 | N5: 覆工スパン 番号 | P5: S15
C6: 変状番号 | E6: 7 | N6: 変状番号 | P6: 8
B7: 変状 部位 | C7: 対象箇所 | E7: 覆工 | M7: 変状 部位 | N7: 対象箇所 | P7: 覆工
C8: 部位区分 | E8: 水平打ち継ぎ目（左側） | N8: 部位区分 | P8: 横断目地（右側）
B9: 変状種類 | E9: うき・はく離 | M9: 変状種類 | P9: 漏水
B10: 対策 区分 | C10: 変状区分 | E10: 材質劣化 | M10: 対策 区分 | N10: 変状区分 | P10: 漏水
C11: 応急措置前 | E11: － | N11: 応急措置前 | P11: －
C12: 応急措置後 | E12: Ⅱa | N12: 応急措置後 | P12: Ⅱb
B13: 変状の発生範囲及び規模 | E13: 0.3m×1.4m | H13: 前回変状の発生範囲及び規模 | J13: 今回新規変状 | M13: 変状の発生範囲及び規模 | P13: 3.4m×0.5m | S13: 前回変状の発生範囲及び規模 | U13: 今回新規変状
B14: 対策履歴 | E14: － | H14: 実施状況（実施日） | J14: － | M14: 対策履歴 | P14: － | S14: 実施状況（実施日） | U14: －
B15: メモ | E15: 0.3m×1.4mのうき・はく離 打音異常あり。重点的な監視を行い、状況により計画的に対策を講じことが望ましい。 | M15: メモ | P15: 3.4m×0.5mの漏水（にじみ） 利用者にはほとんど影響はないが、日常巡視により監視を行う。
B16: 写真 番号 | C16: 覆工スパン 番号 | E16: S15 | M16: 写真 番号 | N16: 覆工スパン 番号 | P16: S15
C17: 変状番号 | E17: 9 | N17: 変状番号 | P17: 10
B18: 変状 部位 | C18: 対象箇所 | E18: 覆工 | M18: 変状 部位 | N18: 対象箇所 | P18: 覆工
C19: 部位区分 | E19: 横断目地（右側） | N19: 部位区分 | P19: 横断目地（左側）
B20: 変状種類 | E20: うき・はく離 | M20: 変状種類 | P20: うき・はく離
B21: 対策 区分 | C21: 変状区分 | E21: 材質劣化 | M21: 対策 区分 | N21: 変状区分 | P21: 材質劣化
C22: 応急措置前 | E22: － | N22: 応急措置前 | P22: －
C23: 応急措置後 | E23: Ⅱa | N23: 応急措置後 | P23: Ⅱa
B24: 変状の発生範囲及び規模 | E24: 0.15m×0.4m | H24: 前回変状の発生範囲及び規模 | J24: 今回新規変状 | M24: 変状の発生範囲及び規模 | P24: 0.05m×1.7m | S24: 前回変状の発生範囲及び規模 | U24: 今回新規変状
B25: 対策履歴 | E25: － | H25: 実施状況（実施日） | J25: － | M25: 対策履歴 | P25: － | S25: 実施状況（実施日） | U25: －
B26: メモ | E26: 0.15m×0.4mのうき・はく離 打音異常あり。重点的な監視を行い、状況により計画的に対策を講じことが望ましい。 | M26: メモ | P26: 0.05m×1.7mのうき・はく離 打音異常あり。重点的な監視を行い、状況により計画的に対策を講じことが望ましい。
C27: ※ 応急措置後の対策区分について添付すること。また、点検前に 実施された措置によりⅠと判定された箇所も添付すること。 | N27: ※ 変状の発生範囲の規模とは、対策を行う際に参考となる変状の長さや面積をいう。
N28: ※ 応急措置を実施しないで決定した変状の対策区分は、対策区分の応急措置後の欄に記入すること。
C29: ※ たたき落としを実施した場合は、実施後の写真を添付すること。 | N29: ※ 変状の発生範囲の規模は、面積・寸法を記載すること。(ひび割れ幅のみmmとし、その他をm表記とする)
C30: ※ 附属物の取付状態に関する異常写真は別途、任意の書式でとりまとめること。 | N30: ※ 構造用鋼材以外の異物に伴ううき・はく離については、メモ欄に異物の概要を記入すること。

Sheet 様式D-1-1 (20)
B2: ■定期点検記録様式 変状写真台帳【様式D-1-1】 | R2: 施設ID | T2: ='様式A-1'!W2 -> 33.97028,130.94306
B3: フリガナ | E3: ='様式A-1'!D3 -> ムクノトンネル ノボリ | H3: 路 線 名 | J3: ='様式A-1'!J3:O4 -> 山口県道57号下関港線（上り） | M3: 定期点検実施者 | P3: ='様式B (1)'!S3 -> アジア航測株式会社 | S3: 定期点検年月日 | U3: ='様式B (1)'!P2 -> 45892
B4: 名 称 | E4: ='様式A-1'!D4 -> 椋野トンネル（上り） | H4: 管理者名 | J4: ='様式A-1'!R3 -> 山口県 下関土木建築事務所 | P4: ='様式B (5)'!S4 -> 飯田 琢巳
B5: 写真 番号 | C5: 覆工スパン 番号 | E5: S16 | M5: 写真 番号 | N5: 覆工スパン 番号 | P5: S16
C6: 変状番号 | E6: 1 | N6: 変状番号 | P6: 2
B7: 変状 部位 | C7: 対象箇所 | E7: 覆工 | M7: 変状 部位 | N7: 対象箇所 | P7: 覆工
C8: 部位区分 | E8: アーチ（左側） | N8: 部位区分 | P8: アーチ（左側）
B9: 変状種類 | E9: 漏水 | M9: 変状種類 | P9: うき・はく離
B10: 対策 区分 | C10: 変状区分 | E10: 漏水 | M10: 対策 区分 | N10: 変状区分 | P10: 材質劣化
C11: 応急措置前 | E11: － | N11: 応急措置前 | P11: －
C12: 応急措置後 | E12: Ⅱb | N12: 応急措置後 | P12: Ⅱa
B13: 変状の発生範囲及び規模 | E13: 7.0m×0.5m（0ml/min） | H13: 前回変状の発生範囲及び規模 | J13: 6.6m×0.5m（100ml/min） | M13: 変状の発生範囲及び規模 | P13: 0.3m×0.3m | S13: 前回変状の発生範囲及び規模 | U13: 0.3m×0.3m
B14: 対策履歴 | E14: － | H14: 実施状況（実施日） | J14: － | M14: 対策履歴 | P14: － | S14: 実施状況（実施日） | U14: －
B15: メモ | E15: 7.0m×0.5mの漏水跡 利用者にはほとんど影響はないが、日常巡視により監視を行う。（判定を見直し） | M15: メモ | P15: 0.3m×0.3mのうき・はく離 打音異常あり。覆工上部のうきにより、重点的な監視を要する。 状況により計画的に対策を講じことが望ましい。
B16: 写真 番号 | C16: 覆工スパン 番号 | E16: S16 | M16: 写真 番号 | N16: 覆工スパン 番号 | P16: S16
C17: 変状番号 | E17: 3 | N17: 変状番号 | P17: 4
B18: 変状 部位 | C18: 対象箇所 | E18: 覆工 | M18: 変状 部位 | N18: 対象箇所 | P18: 覆工
C19: 部位区分 | E19: アーチ（天端） | N19: 部位区分 | P19: 横断目地（右側）
B20: 変状種類 | E20: うき・はく離 | M20: 変状種類 | P20: 漏水
B21: 対策 区分 | C21: 変状区分 | E21: 材質劣化 | M21: 対策 区分 | N21: 変状区分 | P21: 漏水
C22: 応急措置前 | E22: － | N22: 応急措置前 | P22: －
C23: 応急措置後 | E23: Ⅱa | N23: 応急措置後 | P23: Ⅰ
B24: 変状の発生範囲及び規模 | E24: 0.2m×0.1m | H24: 前回変状の発生範囲及び規模 | J24: 0.8m×0.1m | M24: 変状の発生範囲及び規模 | P24: 補修済 | S24: 前回変状の発生範囲及び規模 | U24: 6.8m×0.5m
B25: 対策履歴 | E25: － | H25: 実施状況（実施日） | J25: － | M25: 対策履歴 | P25: － | S25: 実施状況（実施日） | U25: －
B26: メモ | E26: 0.2m×0.1mのうき・はく離 （一部補修済） 打音異常あり。覆工上部のうきにより、重点的な監視を要する。 状況により計画的に対策を講じことが望ましい。 | M26: メモ | P26: 9.0m×0.5mの漏水（補修済） 判定の見直し
C27: ※ 応急措置後の対策区分について添付すること。また、点検前に 実施された措置によりⅠと判定された箇所も添付すること。 | N27: ※ 変状の発生範囲の規模とは、対策を行う際に参考となる変状の長さや面積をいう。
N28: ※ 応急措置を実施しないで決定した変状の対策区分は、対策区分の応急措置後の欄に記入すること。
C29: ※ たたき落としを実施した場合は、実施後の写真を添付すること。 | N29: ※ 変状の発生範囲の規模は、面積・寸法を記載すること。(ひび割れ幅のみmmとし、その他をm表記とする)
C30: ※ 附属物の取付状態に関する異常写真は別途、任意の書式でとりまとめること。 | N30: ※ 構造用鋼材以外の異物に伴ううき・はく離については、メモ欄に異物の概要を記入すること。

Sheet 様式D-1-1 (21)
B2: ■定期点検記録様式 変状写真台帳【様式D-1-1】 | R2: 施設ID | T2: ='様式A-1'!W2 -> 33.97028,130.94306
B3: フリガナ | E3: ='様式A-1'!D3 -> ムクノトンネル ノボリ | H3: 路 線 名 | J3: ='様式A-1'!J3:O4 -> 山口県道57号下関港線（上り） | M3: 定期点検実施者 | P3: ='様式B (1)'!S3 -> アジア航測株式会社 | S3: 定期点検年月日 | U3: ='様式B (1)'!P2 -> 45892
B4: 名 称 | E4: ='様式A-1'!D4 -> 椋野トンネル（上り） | H4: 管理者名 | J4: ='様式A-1'!R3 -> 山口県 下関土木建築事務所 | P4: ='様式B (5)'!S4 -> 飯田 琢巳
B5: 写真 番号 | C5: 覆工スパン 番号 | E5: S16 | M5: 写真 番号 | N5: 覆工スパン 番号 | P5: S16
C6: 変状番号 | E6: 5 | N6: 変状番号 | P6: 6
B7: 変状 部位 | C7: 対象箇所 | E7: 路面 | M7: 変状 部位 | N7: 対象箇所 | P7: 路面
C8: 部位区分 | E8: 車道 | N8: 部位区分 | P8: 車道
B9: 変状種類 | E9: その他 | M9: 変状種類 | P9: その他
B10: 対策 区分 | C10: 変状区分 | M10: 対策 区分 | N10: 変状区分
C11: 応急措置前 | N11: 応急措置前
C12: 応急措置後 | N12: 応急措置後
B13: 変状の発生範囲及び規模 | E13: － | H13: 前回変状の発生範囲及び規模 | J13: 1.0m×1.8m | M13: 変状の発生範囲及び規模 | P13: － | S13: 前回変状の発生範囲及び規模 | U13: 0.9m×1.4m
B14: 対策履歴 | E14: － | H14: 実施状況（実施日） | J14: － | M14: 対策履歴 | P14: － | S14: 実施状況（実施日） | U14: －
B15: メモ | E15: 滞水は見られない 判定の見直し（トンネル本体の評価外） | M15: メモ | P15: 滞水は見られない 判定の見直し（トンネル本体の評価外）
B16: 写真 番号 | C16: 覆工スパン 番号 | E16: S16 | M16: 写真 番号 | N16: 覆工スパン 番号 | P16: S17
C17: 変状番号 | E17: 7 | N17: 変状番号 | P17: 1
B18: 変状 部位 | C18: 対象箇所 | E18: 覆工 | M18: 変状 部位 | N18: 対象箇所 | P18: 覆工
C19: 部位区分 | E19: アーチ（左側） | N19: 部位区分 | P19: 水平打ち継ぎ目（右側）
B20: 変状種類 | E20: 補修・補強材の破損 | M20: 変状種類 | P20: うき・はく離
B21: 対策 区分 | C21: 変状区分 | E21: 漏水 | M21: 対策 区分 | N21: 変状区分 | P21: 材質劣化
C22: 応急措置前 | E22: － | N22: 応急措置前 | P22: －
C23: 応急措置後 | E23: Ⅱb | N23: 応急措置後 | P23: Ⅱa
B24: 変状の発生範囲及び規模 | E24: 0.2m×0.2m | H24: 前回変状の発生範囲及び規模 | J24: 今回新規変状 | M24: 変状の発生範囲及び規模 | P24: 0.2m×1.1m | S24: 前回変状の発生範囲及び規模 | U24: 0.15m×1.0m
B25: 対策履歴 | E25: － | H25: 実施状況（実施日） | J25: － | M25: 対策履歴 | P25: － | S25: 実施状況（実施日） | U25: －
B26: メモ | E26: 0.2m×0.2mの導水工破損 漏水なし、日常巡視により監視を行う。 | M26: メモ | P26: 0.2m×1.1mのうき・はく離 打音異常あり。引き続き重点的な監視を行い、状況により計画的に対策を講じことが望ましい。
C27: ※ 応急措置後の対策区分について添付すること。また、点検前に 実施された措置によりⅠと判定された箇所も添付すること。 | N27: ※ 変状の発生範囲の規模とは、対策を行う際に参考となる変状の長さや面積をいう。
N28: ※ 応急措置を実施しないで決定した変状の対策区分は、対策区分の応急措置後の欄に記入すること。
C29: ※ たたき落としを実施した場合は、実施後の写真を添付すること。 | N29: ※ 変状の発生範囲の規模は、面積・寸法を記載すること。(ひび割れ幅のみmmとし、その他をm表記とする)
C30: ※ 附属物の取付状態に関する異常写真は別途、任意の書式でとりまとめること。 | N30: ※ 構造用鋼材以外の異物に伴ううき・はく離については、メモ欄に異物の概要を記入すること。

Sheet 様式D-1-1 (22)
B2: ■定期点検記録様式 変状写真台帳【様式D-1-1】 | R2: 施設ID | T2: ='様式A-1'!W2 -> 33.97028,130.94306
B3: フリガナ | E3: ='様式A-1'!D3 -> ムクノトンネル ノボリ | H3: 路 線 名 | J3: ='様式A-1'!J3:O4 -> 山口県道57号下関港線（上り） | M3: 定期点検実施者 | P3: ='様式B (1)'!S3 -> アジア航測株式会社 | S3: 定期点検年月日 | U3: ='様式B (1)'!P2 -> 45892
B4: 名 称 | E4: ='様式A-1'!D4 -> 椋野トンネル（上り） | H4: 管理者名 | J4: ='様式A-1'!R3 -> 山口県 下関土木建築事務所 | P4: ='様式B (5)'!S4 -> 飯田 琢巳
B5: 写真 番号 | C5: 覆工スパン 番号 | E5: S17 | M5: 写真 番号 | N5: 覆工スパン 番号 | P5: S18
C6: 変状番号 | E6: 2 | N6: 変状番号 | P6: 1
B7: 変状 部位 | C7: 対象箇所 | E7: 覆工 | M7: 変状 部位 | N7: 対象箇所 | P7: 覆工
C8: 部位区分 | E8: 横断目地（右側） | N8: 部位区分 | P8: 水平打ち継ぎ目（左側）
B9: 変状種類 | E9: 漏水 | M9: 変状種類 | P9: うき・はく離
B10: 対策 区分 | C10: 変状区分 | E10: 漏水 | M10: 対策 区分 | N10: 変状区分 | P10: 材質劣化
C11: 応急措置前 | E11: － | N11: 応急措置前 | P11: －
C12: 応急措置後 | E12: Ⅱb | N12: 応急措置後 | P12: Ⅰ
B13: 変状の発生範囲及び規模 | E13: 6.8m×0.5m | H13: 前回変状の発生範囲及び規模 | J13: 7.2m×0.5m | M13: 変状の発生範囲及び規模 | P13: － | S13: 前回変状の発生範囲及び規模 | U13: 0.1m×0.6m
B14: 対策履歴 | E14: － | H14: 実施状況（実施日） | J14: － | M14: 対策履歴 | P14: － | S14: 実施状況（実施日） | U14: －
B15: メモ | E15: 6.8m×0.5mの漏水跡 利用者にはほとんど影響はないが、日常巡視により監視を行う。 | M15: メモ | P15: 現地にて「うき・はく離」は確認できなかった。
B16: 写真 番号 | C16: 覆工スパン 番号 | E16: S18 | M16: 写真 番号 | N16: 覆工スパン 番号 | P16: S18
C17: 変状番号 | E17: 2 | N17: 変状番号 | P17: 3
B18: 変状 部位 | C18: 対象箇所 | E18: 覆工 | M18: 変状 部位 | N18: 対象箇所 | P18: 覆工
C19: 部位区分 | E19: アーチ（天端） | N19: 部位区分 | P19: 水平打ち継ぎ目（右側）
B20: 変状種類 | E20: 鋼材腐食 | M20: 変状種類 | P20: うき・はく離
B21: 対策 区分 | C21: 変状区分 | E21: 材質劣化 | M21: 対策 区分 | N21: 変状区分 | P21: 材質劣化
C22: 応急措置前 | E22: － | N22: 応急措置前 | P22: －
C23: 応急措置後 | E23: Ⅱb | N23: 応急措置後 | P23: Ⅱa
B24: 変状の発生範囲及び規模 | E24: 0.3m×0.3m | H24: 前回変状の発生範囲及び規模 | J24: 0.3m×0.3m | M24: 変状の発生範囲及び規模 | P24: 0.05m×0.5m | S24: 前回変状の発生範囲及び規模 | U24: 0.05m×0.55m
B25: 対策履歴 | E25: － | H25: 実施状況（実施日） | J25: － | M25: 対策履歴 | P25: － | S25: 実施状況（実施日） | U25: －
B26: メモ | E26: 0.3m×0.3mの鋼材腐食 表面的な錆、日常巡視により監視を行う。 | M26: メモ | P26: 0.05m×0.5mのうき・はく離 打音異常あり。引き続き重点的な監視を行い、状況により計画的に対策を講じことが望ましい。
C27: ※ 応急措置後の対策区分について添付すること。また、点検前に 実施された措置によりⅠと判定された箇所も添付すること。 | N27: ※ 変状の発生範囲の規模とは、対策を行う際に参考となる変状の長さや面積をいう。
N28: ※ 応急措置を実施しないで決定した変状の対策区分は、対策区分の応急措置後の欄に記入すること。
C29: ※ たたき落としを実施した場合は、実施後の写真を添付すること。 | N29: ※ 変状の発生範囲の規模は、面積・寸法を記載すること。(ひび割れ幅のみmmとし、その他をm表記とする)
C30: ※ 附属物の取付状態に関する異常写真は別途、任意の書式でとりまとめること。 | N30: ※ 構造用鋼材以外の異物に伴ううき・はく離については、メモ欄に異物の概要を記入すること。

Sheet 様式D-1-1 (23)
B2: ■定期点検記録様式 変状写真台帳【様式D-1-1】 | R2: 施設ID | T2: ='様式A-1'!W2 -> 33.97028,130.94306
B3: フリガナ | E3: ='様式A-1'!D3 -> ムクノトンネル ノボリ | H3: 路 線 名 | J3: ='様式A-1'!J3:O4 -> 山口県道57号下関港線（上り） | M3: 定期点検実施者 | P3: ='様式B (1)'!S3 -> アジア航測株式会社 | S3: 定期点検年月日 | U3: ='様式B (1)'!P2 -> 45892
B4: 名 称 | E4: ='様式A-1'!D4 -> 椋野トンネル（上り） | H4: 管理者名 | J4: ='様式A-1'!R3 -> 山口県 下関土木建築事務所 | P4: ='様式B (5)'!S4 -> 飯田 琢巳
B5: 写真 番号 | C5: 覆工スパン 番号 | E5: S18 | M5: 写真 番号 | N5: 覆工スパン 番号 | P5: S19
C6: 変状番号 | E6: 4 | N6: 変状番号 | P6: 1
B7: 変状 部位 | C7: 対象箇所 | E7: 覆工 | M7: 変状 部位 | N7: 対象箇所 | P7: 覆工
C8: 部位区分 | E8: 水平打ち継ぎ目（右側） | N8: 部位区分 | P8: アーチ（右側）
B9: 変状種類 | E9: 漏水 | M9: 変状種類 | P9: その他
B10: 対策 区分 | C10: 変状区分 | E10: 漏水 | M10: 対策 区分 | N10: 変状区分 | P10: 材質劣化
C11: 応急措置前 | E11: － | N11: 応急措置前 | P11: －
C12: 応急措置後 | E12: Ⅱb | N12: 応急措置後 | P12: Ⅱb
B13: 変状の発生範囲及び規模 | E13: 2.7m×0.8m | H13: 前回変状の発生範囲及び規模 | J13: 今回新規変状 | M13: 変状の発生範囲及び規模 | P13: 0.5m×1.4m | S13: 前回変状の発生範囲及び規模 | U13: 0.5m×1.4m
B14: 対策履歴 | E14: － | H14: 実施状況（実施日） | J14: － | M14: 対策履歴 | P14: － | S14: 実施状況（実施日） | U14: －
B15: メモ | E15: 2.7m×0.8mの漏水（にじみ） 利用者にはほとんど影響はないが、日常巡視により監視を行う。 | M15: メモ | P15: 0.5m×1.4mの豆板 前回からの進行が見られないが、引き続いて監視を行う。
B16: 写真 番号 | C16: 覆工スパン 番号 | E16: S19 | M16: 写真 番号 | N16: 覆工スパン 番号 | P16: S19
C17: 変状番号 | E17: 2 | N17: 変状番号 | P17: 3
B18: 変状 部位 | C18: 対象箇所 | E18: 覆工 | M18: 変状 部位 | N18: 対象箇所 | P18: 覆工
C19: 部位区分 | E19: アーチ（左側） | N19: 部位区分 | P19: 水平打ち継ぎ目（右側）
B20: 変状種類 | E20: 圧ざ、ひび割れ | M20: 変状種類 | P20: うき・はく離
B21: 対策 区分 | C21: 変状区分 | E21: 材質劣化 | M21: 対策 区分 | N21: 変状区分 | P21: 材質劣化
C22: 応急措置前 | E22: － | N22: 応急措置前 | P22: －
C23: 応急措置後 | E23: Ⅱb | N23: 応急措置後 | P23: Ⅱa
B24: 変状の発生範囲及び規模 | E24: 幅1.0㎜ 長さ6.0m | H24: 前回変状の発生範囲及び規模 | J24: 幅1.2㎜ 長さ5.7m | M24: 変状の発生範囲及び規模 | P24: 0.2m×1.4m | S24: 前回変状の発生範囲及び規模 | U24: 0.1m×1.2m
B25: 対策履歴 | E25: － | H25: 実施状況（実施日） | J25: － | M25: 対策履歴 | P25: － | S25: 実施状況（実施日） | U25: －
B26: メモ | E26: 幅1.0㎜ 長さ6.0mのひび割れ 前回からの進行が見られないが、構造物の機能が低下する可能性があるため引き続いて監視を行う。 | M26: メモ | P26: 0.2m×1.4mのうき・はく離 打音異常あり。引き続き重点的な監視を行い、状況により計画的に対策を講じことが望ましい。
C27: ※ 応急措置後の対策区分について添付すること。また、点検前に 実施された措置によりⅠと判定された箇所も添付すること。 | N27: ※ 変状の発生範囲の規模とは、対策を行う際に参考となる変状の長さや面積をいう。
N28: ※ 応急措置を実施しないで決定した変状の対策区分は、対策区分の応急措置後の欄に記入すること。
C29: ※ たたき落としを実施した場合は、実施後の写真を添付すること。 | N29: ※ 変状の発生範囲の規模は、面積・寸法を記載すること。(ひび割れ幅のみmmとし、その他をm表記とする)
C30: ※ 附属物の取付状態に関する異常写真は別途、任意の書式でとりまとめること。 | N30: ※ 構造用鋼材以外の異物に伴ううき・はく離については、メモ欄に異物の概要を記入すること。

Sheet 様式D-1-1 (24)
B2: ■定期点検記録様式 変状写真台帳【様式D-1-1】 | R2: 施設ID | T2: ='様式A-1'!W2 -> 33.97028,130.94306
B3: フリガナ | E3: ='様式A-1'!D3 -> ムクノトンネル ノボリ | H3: 路 線 名 | J3: ='様式A-1'!J3:O4 -> 山口県道57号下関港線（上り） | M3: 定期点検実施者 | P3: ='様式B (1)'!S3 -> アジア航測株式会社 | S3: 定期点検年月日 | U3: ='様式B (1)'!P2 -> 45892
B4: 名 称 | E4: ='様式A-1'!D4 -> 椋野トンネル（上り） | H4: 管理者名 | J4: ='様式A-1'!R3 -> 山口県 下関土木建築事務所 | P4: ='様式B (5)'!S4 -> 飯田 琢巳
B5: 写真 番号 | C5: 覆工スパン 番号 | E5: S19 | M5: 写真 番号 | N5: 覆工スパン 番号 | P5: S19
C6: 変状番号 | E6: 4 | N6: 変状番号 | P6: 5
B7: 変状 部位 | C7: 対象箇所 | E7: 覆工 | M7: 変状 部位 | N7: 対象箇所 | P7: 覆工
C8: 部位区分 | E8: アーチ（天端） | N8: 部位区分 | P8: アーチ（左側）
B9: 変状種類 | E9: 鋼材腐食 | M9: 変状種類 | P9: その他
B10: 対策 区分 | C10: 変状区分 | E10: 材質劣化 | M10: 対策 区分 | N10: 変状区分 | P10: 材質劣化
C11: 応急措置前 | E11: － | N11: 応急措置前 | P11: －
C12: 応急措置後 | E12: Ⅱb | N12: 応急措置後 | P12: Ⅱb
B13: 変状の発生範囲及び規模 | E13: 0.3m×0.3m | H13: 前回変状の発生範囲及び規模 | J13: 0.3m×0.3m | M13: 変状の発生範囲及び規模 | P13: 0.2m×3.3m | S13: 前回変状の発生範囲及び規模 | U13: 0.2m×3.3m
B14: 対策履歴 | E14: － | H14: 実施状況（実施日） | J14: － | M14: 対策履歴 | P14: － | S14: 実施状況（実施日） | U14: －
B15: メモ | E15: 0.3m×0.3mの鋼材腐食 表面的な錆、日常巡視により監視を行う。 | M15: メモ | P15: 0.2m×3.3mの豆板 前回からの進行が見られないが、引き続いて監視を行う。
B16: 写真 番号 | C16: 覆工スパン 番号 | E16: S19 | M16: 写真 番号 | N16: 覆工スパン 番号 | P16: S19
C17: 変状番号 | E17: 6 | N17: 変状番号 | P17: 7
B18: 変状 部位 | C18: 対象箇所 | E18: 覆工 | M18: 変状 部位 | N18: 対象箇所 | P18: 覆工
C19: 部位区分 | E19: アーチ（左側） | N19: 部位区分 | P19: 水平打ち継ぎ目（右側）
B20: 変状種類 | E20: 圧ざ、ひび割れ | M20: 変状種類 | P20: うき・はく離
B21: 対策 区分 | C21: 変状区分 | E21: 材質劣化 | M21: 対策 区分 | N21: 変状区分 | P21: 材質劣化
C22: 応急措置前 | E22: － | N22: 応急措置前 | P22: －
C23: 応急措置後 | E23: Ⅱb | N23: 応急措置後 | P23: Ⅱa
B24: 変状の発生範囲及び規模 | E24: 幅1.0㎜ 長さ2.8m | H24: 前回変状の発生範囲及び規模 | J24: 幅1.0㎜ 長さ2.7m | M24: 変状の発生範囲及び規模 | P24: 0.1m×1.0m | S24: 前回変状の発生範囲及び規模 | U24: 今回新規変状
B25: 対策履歴 | E25: － | H25: 実施状況（実施日） | J25: － | M25: 対策履歴 | P25: － | S25: 実施状況（実施日） | U25: －
B26: メモ | E26: 幅1.0㎜ 長さ2.8mのひび割れ 前回からの進行が見られないが、構造物の機能が低下する可能性があるため引き続いて監視を行う。 | M26: メモ | P26: 0.1m×1.0mのうき・はく離 打音異常あり。引き続き重点的な監視を行い、状況により計画的に対策を講じことが望ましい。
C27: ※ 応急措置後の対策区分について添付すること。また、点検前に 実施された措置によりⅠと判定された箇所も添付すること。 | N27: ※ 変状の発生範囲の規模とは、対策を行う際に参考となる変状の長さや面積をいう。
N28: ※ 応急措置を実施しないで決定した変状の対策区分は、対策区分の応急措置後の欄に記入すること。
C29: ※ たたき落としを実施した場合は、実施後の写真を添付すること。 | N29: ※ 変状の発生範囲の規模は、面積・寸法を記載すること。(ひび割れ幅のみmmとし、その他をm表記とする)
C30: ※ 附属物の取付状態に関する異常写真は別途、任意の書式でとりまとめること。 | N30: ※ 構造用鋼材以外の異物に伴ううき・はく離については、メモ欄に異物の概要を記入すること。

Sheet 様式D-1-1 (25)
B2: ■定期点検記録様式 変状写真台帳【様式D-1-1】 | R2: 施設ID | T2: ='様式A-1'!W2 -> 33.97028,130.94306
B3: フリガナ | E3: ='様式A-1'!D3 -> ムクノトンネル ノボリ | H3: 路 線 名 | J3: ='様式A-1'!J3:O4 -> 山口県道57号下関港線（上り） | M3: 定期点検実施者 | P3: ='様式B (1)'!S3 -> アジア航測株式会社 | S3: 定期点検年月日 | U3: ='様式B (1)'!P2 -> 45892
B4: 名 称 | E4: ='様式A-1'!D4 -> 椋野トンネル（上り） | H4: 管理者名 | J4: ='様式A-1'!R3 -> 山口県 下関土木建築事務所 | P4: ='様式B (5)'!S4 -> 飯田 琢巳
B5: 写真 番号 | C5: 覆工スパン 番号 | E5: S20 | M5: 写真 番号 | N5: 覆工スパン 番号 | P5: S20
C6: 変状番号 | E6: 1 | N6: 変状番号 | P6: 2
B7: 変状 部位 | C7: 対象箇所 | E7: 覆工 | M7: 変状 部位 | N7: 対象箇所 | P7: 覆工
C8: 部位区分 | E8: アーチ（天端） | N8: 部位区分 | P8: 横断目地（右側）
B9: 変状種類 | E9: 鋼材腐食 | M9: 変状種類 | P9: 補修・補強材の破損
B10: 対策 区分 | C10: 変状区分 | E10: 材質劣化 | M10: 対策 区分 | N10: 変状区分 | P10: 漏水
C11: 応急措置前 | E11: － | N11: 応急措置前 | P11: －
C12: 応急措置後 | E12: Ⅱb | N12: 応急措置後 | P12: Ⅱb
B13: 変状の発生範囲及び規模 | E13: 0.3m×0.3m | H13: 前回変状の発生範囲及び規模 | J13: 0.3m×0.3m | M13: 変状の発生範囲及び規模 | P13: 1.2m×0.1m | S13: 前回変状の発生範囲及び規模 | U13: 今回新規変状
B14: 対策履歴 | E14: － | H14: 実施状況（実施日） | J14: － | M14: 対策履歴 | P14: － | S14: 実施状況（実施日） | U14: －
B15: メモ | E15: 0.3m×0.3mの鋼材腐食 表面的な錆、日常巡視により監視を行う。 | M15: メモ | P15: 1.2m×0.1mの導水工破損 漏水なし、日常巡視により監視を行う。
B16: 写真 番号 | C16: 覆工スパン 番号 | E16: S21 | M16: 写真 番号 | N16: 覆工スパン 番号 | P16: S21
C17: 変状番号 | E17: 1 | N17: 変状番号 | P17: 2
B18: 変状 部位 | C18: 対象箇所 | E18: 覆工 | M18: 変状 部位 | N18: 対象箇所 | P18: 覆工
C19: 部位区分 | E19: アーチ（左側） | N19: 部位区分 | P19: アーチ（天端）
B20: 変状種類 | E20: うき・はく離 | M20: 変状種類 | P20: その他
B21: 対策 区分 | C21: 変状区分 | E21: 材質劣化 | M21: 対策 区分 | N21: 変状区分 | P21: 材質劣化
C22: 応急措置前 | E22: － | N22: 応急措置前 | P22: －
C23: 応急措置後 | E23: Ⅱa | N23: 応急措置後 | P23: Ⅱb
B24: 変状の発生範囲及び規模 | E24: 0.15m×0.2m | H24: 前回変状の発生範囲及び規模 | J24: 0.15m×0.15m | M24: 変状の発生範囲及び規模 | P24: 0.9m×0.2m | S24: 前回変状の発生範囲及び規模 | U24: 0.9m×0.2m
B25: 対策履歴 | E25: － | H25: 実施状況（実施日） | J25: － | M25: 対策履歴 | P25: － | S25: 実施状況（実施日） | U25: －
B26: メモ | E26: 0.15m×0.2mのうき・はく離 打音異常あり。引き続き重点的な監視を行い、状況により計画的に対策を講じことが望ましい。 | M26: メモ | P26: 0.9m×0.2mの豆板 前回からの進行が見られないが、引き続いて監視を行う。
C27: ※ 応急措置後の対策区分について添付すること。また、点検前に 実施された措置によりⅠと判定された箇所も添付すること。 | N27: ※ 変状の発生範囲の規模とは、対策を行う際に参考となる変状の長さや面積をいう。
N28: ※ 応急措置を実施しないで決定した変状の対策区分は、対策区分の応急措置後の欄に記入すること。
C29: ※ たたき落としを実施した場合は、実施後の写真を添付すること。 | N29: ※ 変状の発生範囲の規模は、面積・寸法を記載すること。(ひび割れ幅のみmmとし、その他をm表記とする)
C30: ※ 附属物の取付状態に関する異常写真は別途、任意の書式でとりまとめること。 | N30: ※ 構造用鋼材以外の異物に伴ううき・はく離については、メモ欄に異物の概要を記入すること。

Sheet 様式D-1-1 (26)
B2: ■定期点検記録様式 変状写真台帳【様式D-1-1】 | R2: 施設ID | T2: ='様式A-1'!W2 -> 33.97028,130.94306
B3: フリガナ | E3: ='様式A-1'!D3 -> ムクノトンネル ノボリ | H3: 路 線 名 | J3: ='様式A-1'!J3:O4 -> 山口県道57号下関港線（上り） | M3: 定期点検実施者 | P3: ='様式B (1)'!S3 -> アジア航測株式会社 | S3: 定期点検年月日 | U3: ='様式B (1)'!P2 -> 45892
B4: 名 称 | E4: ='様式A-1'!D4 -> 椋野トンネル（上り） | H4: 管理者名 | J4: ='様式A-1'!R3 -> 山口県 下関土木建築事務所 | P4: ='様式B (5)'!S4 -> 飯田 琢巳
B5: 写真 番号 | C5: 覆工スパン 番号 | E5: S21 | M5: 写真 番号 | N5: 覆工スパン 番号 | P5: S21
C6: 変状番号 | E6: 3 | N6: 変状番号 | P6: 4
B7: 変状 部位 | C7: 対象箇所 | E7: 覆工 | M7: 変状 部位 | N7: 対象箇所 | P7: 覆工
C8: 部位区分 | E8: アーチ（天端） | N8: 部位区分 | P8: アーチ（左側）
B9: 変状種類 | E9: 鋼材腐食 | M9: 変状種類 | P9: その他
B10: 対策 区分 | C10: 変状区分 | E10: 材質劣化 | M10: 対策 区分 | N10: 変状区分 | P10: 材質劣化
C11: 応急措置前 | E11: － | N11: 応急措置前 | P11: －
C12: 応急措置後 | E12: Ⅱb | N12: 応急措置後 | P12: Ⅱb
B13: 変状の発生範囲及び規模 | E13: 0.3m×0.3m | H13: 前回変状の発生範囲及び規模 | J13: 0.3m×0.3m | M13: 変状の発生範囲及び規模 | P13: 0.2m×1.5m | S13: 前回変状の発生範囲及び規模 | U13: 0.3m×1.7m
B14: 対策履歴 | E14: － | H14: 実施状況（実施日） | J14: － | M14: 対策履歴 | P14: － | S14: 実施状況（実施日） | U14: －
B15: メモ | E15: 0.3m×0.3mの鋼材腐食 表面的な錆、日常巡視により監視を行う。 | M15: メモ | P15: 0.2m×1.5mの豆板 前回からの進行が見られないが、引き続いて監視を行う。
B16: 写真 番号 | C16: 覆工スパン 番号 | E16: S21 | M16: 写真 番号 | N16: 覆工スパン 番号 | P16: S21
C17: 変状番号 | E17: 5 | N17: 変状番号 | P17: 6
B18: 変状 部位 | C18: 対象箇所 | E18: 覆工 | M18: 変状 部位 | N18: 対象箇所 | P18: 覆工
C19: 部位区分 | E19: アーチ（右側） | N19: 部位区分 | P19: 水平打ち継ぎ目（右側）
B20: 変状種類 | E20: その他 | M20: 変状種類 | P20: うき・はく離
B21: 対策 区分 | C21: 変状区分 | E21: 材質劣化 | M21: 対策 区分 | N21: 変状区分 | P21: 材質劣化
C22: 応急措置前 | E22: － | N22: 応急措置前 | P22: －
C23: 応急措置後 | E23: Ⅱb | N23: 応急措置後 | P23: Ⅰ
B24: 変状の発生範囲及び規模 | E24: 0.2m×1.0m | H24: 前回変状の発生範囲及び規模 | J24: 0.3m×1.0m | M24: 変状の発生範囲及び規模 | P24: 0.15m×1.5m | S24: 前回変状の発生範囲及び規模 | U24: 0.15m×0.9m
B25: 対策履歴 | E25: － | H25: 実施状況（実施日） | J25: － | M25: 対策履歴 | P25: － | S25: 実施状況（実施日） | U25: －
B26: メモ | E26: 0.2m×1.0mの豆板 前回からの進行が見られないが、引き続いて監視を行う。 | M26: メモ | P26: 「うき・はく離」は現地では「はく落」となっているため、判定を見直し
C27: ※ 応急措置後の対策区分について添付すること。また、点検前に 実施された措置によりⅠと判定された箇所も添付すること。 | N27: ※ 変状の発生範囲の規模とは、対策を行う際に参考となる変状の長さや面積をいう。
N28: ※ 応急措置を実施しないで決定した変状の対策区分は、対策区分の応急措置後の欄に記入すること。
C29: ※ たたき落としを実施した場合は、実施後の写真を添付すること。 | N29: ※ 変状の発生範囲の規模は、面積・寸法を記載すること。(ひび割れ幅のみmmとし、その他をm表記とする)
C30: ※ 附属物の取付状態に関する異常写真は別途、任意の書式でとりまとめること。 | N30: ※ 構造用鋼材以外の異物に伴ううき・はく離については、メモ欄に異物の概要を記入すること。

Sheet 様式D-1-1 (27)
B2: ■定期点検記録様式 変状写真台帳【様式D-1-1】 | R2: 施設ID | T2: ='様式A-1'!W2 -> 33.97028,130.94306
B3: フリガナ | E3: ='様式A-1'!D3 -> ムクノトンネル ノボリ | H3: 路 線 名 | J3: ='様式A-1'!J3:O4 -> 山口県道57号下関港線（上り） | M3: 定期点検実施者 | P3: ='様式B (1)'!S3 -> アジア航測株式会社 | S3: 定期点検年月日 | U3: ='様式B (1)'!P2 -> 45892
B4: 名 称 | E4: ='様式A-1'!D4 -> 椋野トンネル（上り） | H4: 管理者名 | J4: ='様式A-1'!R3 -> 山口県 下関土木建築事務所 | P4: ='様式B (5)'!S4 -> 飯田 琢巳
B5: 写真 番号 | C5: 覆工スパン 番号 | E5: S22 | M5: 写真 番号 | N5: 覆工スパン 番号 | P5: S22
C6: 変状番号 | E6: 1 | N6: 変状番号 | P6: 2
B7: 変状 部位 | C7: 対象箇所 | E7: 覆工 | M7: 変状 部位 | N7: 対象箇所 | P7: 覆工
C8: 部位区分 | E8: アーチ（左側） | N8: 部位区分 | P8: アーチ（左側）
B9: 変状種類 | E9: その他 | M9: 変状種類 | P9: その他
B10: 対策 区分 | C10: 変状区分 | E10: 材質劣化 | M10: 対策 区分 | N10: 変状区分 | P10: 材質劣化
C11: 応急措置前 | E11: － | N11: 応急措置前 | P11: －
C12: 応急措置後 | E12: Ⅱb | N12: 応急措置後 | P12: Ⅱb
B13: 変状の発生範囲及び規模 | E13: 0.3m×0.4m | H13: 前回変状の発生範囲及び規模 | J13: 0.25m×0.4m | M13: 変状の発生範囲及び規模 | P13: 0.25m×0.25m | S13: 前回変状の発生範囲及び規模 | U13: 0.25m×0.25m
B14: 対策履歴 | E14: － | H14: 実施状況（実施日） | J14: － | M14: 対策履歴 | P14: － | S14: 実施状況（実施日） | U14: －
B15: メモ | E15: 0.3m×0.4mの豆板 前回からの進行が見られないが、引き続いて監視を行う。 | M15: メモ | P15: 0.25m×0.25mの豆板 前回からの進行が見られないが、引き続いて監視を行う。
B16: 写真 番号 | C16: 覆工スパン 番号 | E16: S22 | M16: 写真 番号 | N16: 覆工スパン 番号 | P16: S22
C17: 変状番号 | E17: 3 | N17: 変状番号 | P17: 4
B18: 変状 部位 | C18: 対象箇所 | E18: 覆工 | M18: 変状 部位 | N18: 対象箇所 | P18: 覆工
C19: 部位区分 | E19: アーチ（天端） | N19: 部位区分 | P19: 水平打ち継ぎ目（左側）
B20: 変状種類 | E20: 鋼材腐食 | M20: 変状種類 | P20: うき・はく離
B21: 対策 区分 | C21: 変状区分 | E21: 材質劣化 | M21: 対策 区分 | N21: 変状区分 | P21: 材質劣化
C22: 応急措置前 | E22: － | N22: 応急措置前 | P22: －
C23: 応急措置後 | E23: Ⅱb | N23: 応急措置後 | P23: Ⅱa
B24: 変状の発生範囲及び規模 | E24: 0.3m×0.3m | H24: 前回変状の発生範囲及び規模 | J24: 0.3m×0.3m | M24: 変状の発生範囲及び規模 | P24: 0.15m×1.6m | S24: 前回変状の発生範囲及び規模 | U24: 0.3m×1.2m
B25: 対策履歴 | E25: － | H25: 実施状況（実施日） | J25: － | M25: 対策履歴 | P25: － | S25: 実施状況（実施日） | U25: －
B26: メモ | E26: 0.3m×0.3mの鋼材腐食 小規模の腐食、日常巡視により監視を行う。 | M26: メモ | P26: 0.15m×1.6mのうき・はく離 打音異常あり。引き続き重点的な監視を行い、状況により計画的に対策を講じことが望ましい。
C27: ※ 応急措置後の対策区分について添付すること。また、点検前に 実施された措置によりⅠと判定された箇所も添付すること。 | N27: ※ 変状の発生範囲の規模とは、対策を行う際に参考となる変状の長さや面積をいう。
N28: ※ 応急措置を実施しないで決定した変状の対策区分は、対策区分の応急措置後の欄に記入すること。
C29: ※ たたき落としを実施した場合は、実施後の写真を添付すること。 | N29: ※ 変状の発生範囲の規模は、面積・寸法を記載すること。(ひび割れ幅のみmmとし、その他をm表記とする)
C30: ※ 附属物の取付状態に関する異常写真は別途、任意の書式でとりまとめること。 | N30: ※ 構造用鋼材以外の異物に伴ううき・はく離については、メモ欄に異物の概要を記入すること。

Sheet 様式D-1-1 (28)
B2: ■定期点検記録様式 変状写真台帳【様式D-1-1】 | R2: 施設ID | T2: ='様式A-1'!W2 -> 33.97028,130.94306
B3: フリガナ | E3: ='様式A-1'!D3 -> ムクノトンネル ノボリ | H3: 路 線 名 | J3: ='様式A-1'!J3:O4 -> 山口県道57号下関港線（上り） | M3: 定期点検実施者 | P3: ='様式B (1)'!S3 -> アジア航測株式会社 | S3: 定期点検年月日 | U3: ='様式B (1)'!P2 -> 45892
B4: 名 称 | E4: ='様式A-1'!D4 -> 椋野トンネル（上り） | H4: 管理者名 | J4: ='様式A-1'!R3 -> 山口県 下関土木建築事務所 | P4: ='様式B (5)'!S4 -> 飯田 琢巳
B5: 写真 番号 | C5: 覆工スパン 番号 | E5: S22 | M5: 写真 番号 | N5: 覆工スパン 番号 | P5: S22
C6: 変状番号 | E6: 5 | N6: 変状番号 | P6: 6
B7: 変状 部位 | C7: 対象箇所 | E7: 覆工 | M7: 変状 部位 | N7: 対象箇所 | P7: 覆工
C8: 部位区分 | E8: アーチ（左側） | N8: 部位区分 | P8: アーチ（天端）
B9: 変状種類 | E9: 漏水 | M9: 変状種類 | P9: その他
B10: 対策 区分 | C10: 変状区分 | E10: 漏水 | M10: 対策 区分 | N10: 変状区分 | P10: 材質劣化
C11: 応急措置前 | E11: － | N11: 応急措置前 | P11: －
C12: 応急措置後 | E12: Ⅱb | N12: 応急措置後 | P12: Ⅱb
B13: 変状の発生範囲及び規模 | E13: 6.7m×0.5m | H13: 前回変状の発生範囲及び規模 | J13: 今回新規変状 | M13: 変状の発生範囲及び規模 | P13: 0.3m×0.2m | S13: 前回変状の発生範囲及び規模 | U13: 今回新規変状
B14: 対策履歴 | E14: － | H14: 実施状況（実施日） | J14: － | M14: 対策履歴 | P14: － | S14: 実施状況（実施日） | U14: －
B15: メモ | E15: 6.7m×0.5mの漏水（にじみ） 利用者にはほとんど影響はないが、日常巡視により監視を行う。 | M15: メモ | P15: 0.3m×0.2mの豆板 日常巡視により監視を行う。
B16: 写真 番号 | C16: 覆工スパン 番号 | E16: S22 | M16: 写真 番号 | N16: 覆工スパン 番号 | P16: S23
C17: 変状番号 | E17: 7 | N17: 変状番号 | P17: 1
B18: 変状 部位 | C18: 対象箇所 | E18: 覆工 | M18: 変状 部位 | N18: 対象箇所 | P18: 覆工
C19: 部位区分 | E19: アーチ（右側） | N19: 部位区分 | P19: アーチ（右側）
B20: 変状種類 | E20: その他 | M20: 変状種類 | P20: その他
B21: 対策 区分 | C21: 変状区分 | E21: 材質劣化 | M21: 対策 区分 | N21: 変状区分 | P21: 材質劣化
C22: 応急措置前 | E22: － | N22: 応急措置前 | P22: －
C23: 応急措置後 | E23: Ⅱb | N23: 応急措置後 | P23: Ⅱb
B24: 変状の発生範囲及び規模 | E24: 0.3m×0.5m | H24: 前回変状の発生範囲及び規模 | J24: 今回新規変状 | M24: 変状の発生範囲及び規模 | P24: 0.5m×1.2m | S24: 前回変状の発生範囲及び規模 | U24: 0.5m×1.2m
B25: 対策履歴 | E25: － | H25: 実施状況（実施日） | J25: － | M25: 対策履歴 | P25: － | S25: 実施状況（実施日） | U25: －
B26: メモ | E26: 0.3m×0.5mの豆板 日常巡視により監視を行う。 | M26: メモ | P26: 0.5m×1.2mの豆板 前回からの進行が見られないが、引き続いて監視を行う。
C27: ※ 応急措置後の対策区分について添付すること。また、点検前に 実施された措置によりⅠと判定された箇所も添付すること。 | N27: ※ 変状の発生範囲の規模とは、対策を行う際に参考となる変状の長さや面積をいう。
N28: ※ 応急措置を実施しないで決定した変状の対策区分は、対策区分の応急措置後の欄に記入すること。
C29: ※ たたき落としを実施した場合は、実施後の写真を添付すること。 | N29: ※ 変状の発生範囲の規模は、面積・寸法を記載すること。(ひび割れ幅のみmmとし、その他をm表記とする)
C30: ※ 附属物の取付状態に関する異常写真は別途、任意の書式でとりまとめること。 | N30: ※ 構造用鋼材以外の異物に伴ううき・はく離については、メモ欄に異物の概要を記入すること。

Sheet 様式D-1-1 (29)
B2: ■定期点検記録様式 変状写真台帳【様式D-1-1】 | R2: 施設ID | T2: ='様式A-1'!W2 -> 33.97028,130.94306
B3: フリガナ | E3: ='様式A-1'!D3 -> ムクノトンネル ノボリ | H3: 路 線 名 | J3: ='様式A-1'!J3:O4 -> 山口県道57号下関港線（上り） | M3: 定期点検実施者 | P3: ='様式B (1)'!S3 -> アジア航測株式会社 | S3: 定期点検年月日 | U3: ='様式B (1)'!P2 -> 45892
B4: 名 称 | E4: ='様式A-1'!D4 -> 椋野トンネル（上り） | H4: 管理者名 | J4: ='様式A-1'!R3 -> 山口県 下関土木建築事務所 | P4: ='様式B (5)'!S4 -> 飯田 琢巳
B5: 写真 番号 | C5: 覆工スパン 番号 | E5: S23 | M5: 写真 番号 | N5: 覆工スパン 番号 | P5: S23
C6: 変状番号 | E6: 2 | N6: 変状番号 | P6: 3
B7: 変状 部位 | C7: 対象箇所 | E7: 覆工 | M7: 変状 部位 | N7: 対象箇所 | P7: 覆工
C8: 部位区分 | E8: アーチ（左側） | N8: 部位区分 | P8: アーチ（天端）
B9: 変状種類 | E9: その他 | M9: 変状種類 | P9: 鋼材腐食
B10: 対策 区分 | C10: 変状区分 | E10: 材質劣化 | M10: 対策 区分 | N10: 変状区分 | P10: 材質劣化
C11: 応急措置前 | E11: － | N11: 応急措置前 | P11: －
C12: 応急措置後 | E12: Ⅱb | N12: 応急措置後 | P12: Ⅱb
B13: 変状の発生範囲及び規模 | E13: 0.2m×1.4m | H13: 前回変状の発生範囲及び規模 | J13: 0.2m×1.4m | M13: 変状の発生範囲及び規模 | P13: 0.3m×0.3m | S13: 前回変状の発生範囲及び規模 | U13: 0.3m×0.3m
B14: 対策履歴 | E14: － | H14: 実施状況（実施日） | J14: － | M14: 対策履歴 | P14: － | S14: 実施状況（実施日） | U14: －
B15: メモ | E15: 0.2m×1.4mの豆板 前回からの進行が見られないが、引き続いて監視を行う。 | M15: メモ | P15: 0.3m×0.3mの鋼材腐食 表面的な錆、日常巡視により監視を行う。
B16: 写真 番号 | C16: 覆工スパン 番号 | E16: S23 | M16: 写真 番号 | N16: 覆工スパン 番号 | P16: S23
C17: 変状番号 | E17: 4 | N17: 変状番号 | P17: 5
B18: 変状 部位 | C18: 対象箇所 | E18: 覆工 | M18: 変状 部位 | N18: 対象箇所 | P18: 覆工
C19: 部位区分 | E19: アーチ（左側） | N19: 部位区分 | P19: アーチ（右側）
B20: 変状種類 | E20: 漏水 | M20: 変状種類 | P20: 漏水
B21: 対策 区分 | C21: 変状区分 | E21: 漏水 | M21: 対策 区分 | N21: 変状区分 | P21: 漏水
C22: 応急措置前 | E22: － | N22: 応急措置前 | P22: －
C23: 応急措置後 | E23: Ⅱb | N23: 応急措置後 | P23: Ⅰ
B24: 変状の発生範囲及び規模 | E24: 6.7m×0.5m（0ml/min） | H24: 前回変状の発生範囲及び規模 | J24: 8.3m×0.5m（100ml/min） | M24: 変状の発生範囲及び規模 | P24: － | S24: 前回変状の発生範囲及び規模 | U24: 6.8m×0.5m
B25: 対策履歴 | E25: － | H25: 実施状況（実施日） | J25: － | M25: 対策履歴 | P25: － | S25: 実施状況（実施日） | U25: －
B26: メモ | E26: 6.7m×0.5mの漏水跡 利用者にはほとんど影響はないが、日常巡視により監視を行う。（判定の見直し） | M26: メモ | P26: 漏水は補修されているため、判定を見直し
C27: ※ 応急措置後の対策区分について添付すること。また、点検前に 実施された措置によりⅠと判定された箇所も添付すること。 | N27: ※ 変状の発生範囲の規模とは、対策を行う際に参考となる変状の長さや面積をいう。
N28: ※ 応急措置を実施しないで決定した変状の対策区分は、対策区分の応急措置後の欄に記入すること。
C29: ※ たたき落としを実施した場合は、実施後の写真を添付すること。 | N29: ※ 変状の発生範囲の規模は、面積・寸法を記載すること。(ひび割れ幅のみmmとし、その他をm表記とする)
C30: ※ 附属物の取付状態に関する異常写真は別途、任意の書式でとりまとめること。 | N30: ※ 構造用鋼材以外の異物に伴ううき・はく離については、メモ欄に異物の概要を記入すること。

Sheet 様式D-1-1 (30)
B2: ■定期点検記録様式 変状写真台帳【様式D-1-1】 | R2: 施設ID | T2: ='様式A-1'!W2 -> 33.97028,130.94306
B3: フリガナ | E3: ='様式A-1'!D3 -> ムクノトンネル ノボリ | H3: 路 線 名 | J3: ='様式A-1'!J3:O4 -> 山口県道57号下関港線（上り） | M3: 定期点検実施者 | P3: ='様式B (1)'!S3 -> アジア航測株式会社 | S3: 定期点検年月日 | U3: ='様式B (1)'!P2 -> 45892
B4: 名 称 | E4: ='様式A-1'!D4 -> 椋野トンネル（上り） | H4: 管理者名 | J4: ='様式A-1'!R3 -> 山口県 下関土木建築事務所 | P4: ='様式B (5)'!S4 -> 飯田 琢巳
B5: 写真 番号 | C5: 覆工スパン 番号 | E5: S23 | M5: 写真 番号 | N5: 覆工スパン 番号 | P5: S23
C6: 変状番号 | E6: 6 | N6: 変状番号 | P6: 7
B7: 変状 部位 | C7: 対象箇所 | E7: 覆工 | M7: 変状 部位 | N7: 対象箇所 | P7: 路面
C8: 部位区分 | E8: 横断目地（左側） | N8: 部位区分 | P8: 車道
B9: 変状種類 | E9: 漏水 | M9: 変状種類 | P9: その他
B10: 対策 区分 | C10: 変状区分 | E10: 漏水 | M10: 対策 区分 | N10: 変状区分
C11: 応急措置前 | E11: － | N11: 応急措置前
C12: 応急措置後 | E12: Ⅱb | N12: 応急措置後
B13: 変状の発生範囲及び規模 | E13: 6.0m×0.5m | H13: 前回変状の発生範囲及び規模 | J13: 6.1m×0.5m | M13: 変状の発生範囲及び規模 | P13: － | S13: 前回変状の発生範囲及び規模 | U13: 0.8m×1.7m
B14: 対策履歴 | E14: － | H14: 実施状況（実施日） | J14: － | M14: 対策履歴 | P14: － | S14: 実施状況（実施日） | U14: －
B15: メモ | E15: 6.0m×0.5mの漏水（にじみ） 利用者にはほとんど影響はないが、日常巡視により監視を行う。 | M15: メモ | P15: 滞水は見られない 判定の見直し（トンネル本体の評価外）
B16: 写真 番号 | C16: 覆工スパン 番号 | E16: S23 | M16: 写真 番号 | N16: 覆工スパン 番号 | P16: S23
C17: 変状番号 | E17: 8 | N17: 変状番号 | P17: 9
B18: 変状 部位 | C18: 対象箇所 | E18: 路面 | M18: 変状 部位 | N18: 対象箇所 | P18: 覆工
C19: 部位区分 | E19: 車道 | N19: 部位区分 | P19: 水平打ち継ぎ目（左側）
B20: 変状種類 | E20: その他 | M20: 変状種類 | P20: 漏水
B21: 対策 区分 | C21: 変状区分 | M21: 対策 区分 | N21: 変状区分 | P21: 漏水
C22: 応急措置前 | N22: 応急措置前 | P22: －
C23: 応急措置後 | N23: 応急措置後 | P23: Ⅱb
B24: 変状の発生範囲及び規模 | E24: － | H24: 前回変状の発生範囲及び規模 | J24: 0.5m×1.9m | M24: 変状の発生範囲及び規模 | P24: 2.8m×0.9m | S24: 前回変状の発生範囲及び規模 | U24: 今回新規変状
B25: 対策履歴 | E25: － | H25: 実施状況（実施日） | J25: － | M25: 対策履歴 | P25: － | S25: 実施状況（実施日） | U25: －
B26: メモ | E26: 滞水は見られない 判定の見直し（トンネル本体の評価外） | M26: メモ | P26: 2.8m×0.9mの漏水（にじみ） 利用者にはほとんど影響はないが、日常巡視により監視を行う。
C27: ※ 応急措置後の対策区分について添付すること。また、点検前に 実施された措置によりⅠと判定された箇所も添付すること。 | N27: ※ 変状の発生範囲の規模とは、対策を行う際に参考となる変状の長さや面積をいう。
N28: ※ 応急措置を実施しないで決定した変状の対策区分は、対策区分の応急措置後の欄に記入すること。
C29: ※ たたき落としを実施した場合は、実施後の写真を添付すること。 | N29: ※ 変状の発生範囲の規模は、面積・寸法を記載すること。(ひび割れ幅のみmmとし、その他をm表記とする)
C30: ※ 附属物の取付状態に関する異常写真は別途、任意の書式でとりまとめること。 | N30: ※ 構造用鋼材以外の異物に伴ううき・はく離については、メモ欄に異物の概要を記入すること。

Sheet 様式D-1-1 (31)
B2: ■定期点検記録様式 変状写真台帳【様式D-1-1】 | R2: 施設ID | T2: ='様式A-1'!W2 -> 33.97028,130.94306
B3: フリガナ | E3: ='様式A-1'!D3 -> ムクノトンネル ノボリ | H3: 路 線 名 | J3: ='様式A-1'!J3:O4 -> 山口県道57号下関港線（上り） | M3: 定期点検実施者 | P3: ='様式B (1)'!S3 -> アジア航測株式会社 | S3: 定期点検年月日 | U3: ='様式B (1)'!P2 -> 45892
B4: 名 称 | E4: ='様式A-1'!D4 -> 椋野トンネル（上り） | H4: 管理者名 | J4: ='様式A-1'!R3 -> 山口県 下関土木建築事務所 | P4: ='様式B (5)'!S4 -> 飯田 琢巳
B5: 写真 番号 | C5: 覆工スパン 番号 | E5: S24 | M5: 写真 番号 | N5: 覆工スパン 番号 | P5: S24
C6: 変状番号 | E6: 1 | N6: 変状番号 | P6: 2
B7: 変状 部位 | C7: 対象箇所 | E7: 覆工 | M7: 変状 部位 | N7: 対象箇所 | P7: 覆工
C8: 部位区分 | E8: アーチ（天端） | N8: 部位区分 | P8: 水平打ち継ぎ目（右側）
B9: 変状種類 | E9: うき・はく離 | M9: 変状種類 | P9: うき・はく離
B10: 対策 区分 | C10: 変状区分 | E10: 材質劣化 | M10: 対策 区分 | N10: 変状区分 | P10: 材質劣化
C11: 応急措置前 | E11: － | N11: 応急措置前 | P11: －
C12: 応急措置後 | E12: Ⅱa | N12: 応急措置後 | P12: Ⅱa
B13: 変状の発生範囲及び規模 | E13: 0.1m×0.1m | H13: 前回変状の発生範囲及び規模 | J13: 0.1m×0.1m | M13: 変状の発生範囲及び規模 | P13: 0.15m×0.3m | S13: 前回変状の発生範囲及び規模 | U13: 0.1m×0.45m
B14: 対策履歴 | E14: － | H14: 実施状況（実施日） | J14: － | M14: 対策履歴 | P14: － | S14: 実施状況（実施日） | U14: －
B15: メモ | E15: 0.1m×0.1mのうき・はく離 打音異常あり。覆工上部のうきにより、重点的な監視を要する。 状況により計画的に対策を講じことが望ましい。 | M15: メモ | P15: 0.15m×0.3mのうき・はく離 打音異常あり。引き続き重点的な監視を行い、状況により計画的に対策を講じことが望ましい。
B16: 写真 番号 | C16: 覆工スパン 番号 | E16: S24 | M16: 写真 番号 | N16: 覆工スパン 番号 | P16: S24
C17: 変状番号 | E17: 3 | N17: 変状番号 | P17: 4
B18: 変状 部位 | C18: 対象箇所 | E18: 覆工 | M18: 変状 部位 | N18: 対象箇所 | P18: 覆工
C19: 部位区分 | E19: アーチ（天端） | N19: 部位区分 | P19: アーチ（右側）
B20: 変状種類 | E20: 鋼材腐食 | M20: 変状種類 | P20: 漏水
B21: 対策 区分 | C21: 変状区分 | E21: 材質劣化 | M21: 対策 区分 | N21: 変状区分 | P21: 漏水
C22: 応急措置前 | E22: － | N22: 応急措置前 | P22: －
C23: 応急措置後 | E23: Ⅱb | N23: 応急措置後 | P23: Ⅱb
B24: 変状の発生範囲及び規模 | E24: 0.3m×0.3m | H24: 前回変状の発生範囲及び規模 | J24: 0.3m×0.3m | M24: 変状の発生範囲及び規模 | P24: 4.2m×0.5m | S24: 前回変状の発生範囲及び規模 | U24: 3.7m×0.2m
B25: 対策履歴 | E25: － | H25: 実施状況（実施日） | J25: － | M25: 対策履歴 | P25: － | S25: 実施状況（実施日） | U25: －
B26: メモ | E26: 0.3m×0.3mの鋼材腐食 表面的な錆、日常巡視により監視を行う。 | M26: メモ | P26: 4.2m×0.5mの漏水跡 利用者にはほとんど影響はないが、日常巡視により監視を行う。
C27: ※ 応急措置後の対策区分について添付すること。また、点検前に 実施された措置によりⅠと判定された箇所も添付すること。 | N27: ※ 変状の発生範囲の規模とは、対策を行う際に参考となる変状の長さや面積をいう。
N28: ※ 応急措置を実施しないで決定した変状の対策区分は、対策区分の応急措置後の欄に記入すること。
C29: ※ たたき落としを実施した場合は、実施後の写真を添付すること。 | N29: ※ 変状の発生範囲の規模は、面積・寸法を記載すること。(ひび割れ幅のみmmとし、その他をm表記とする)
C30: ※ 附属物の取付状態に関する異常写真は別途、任意の書式でとりまとめること。 | N30: ※ 構造用鋼材以外の異物に伴ううき・はく離については、メモ欄に異物の概要を記入すること。

Sheet 様式D-1-1 (32)
B2: ■定期点検記録様式 変状写真台帳【様式D-1-1】 | R2: 施設ID | T2: ='様式A-1'!W2 -> 33.97028,130.94306
B3: フリガナ | E3: ='様式A-1'!D3 -> ムクノトンネル ノボリ | H3: 路 線 名 | J3: ='様式A-1'!J3:O4 -> 山口県道57号下関港線（上り） | M3: 定期点検実施者 | P3: ='様式B (1)'!S3 -> アジア航測株式会社 | S3: 定期点検年月日 | U3: ='様式B (1)'!P2 -> 45892
B4: 名 称 | E4: ='様式A-1'!D4 -> 椋野トンネル（上り） | H4: 管理者名 | J4: ='様式A-1'!R3 -> 山口県 下関土木建築事務所 | P4: ='様式B (5)'!S4 -> 飯田 琢巳
B5: 写真 番号 | C5: 覆工スパン 番号 | E5: S25 | M5: 写真 番号 | N5: 覆工スパン 番号 | P5: S26
C6: 変状番号 | E6: 1 | N6: 変状番号 | P6: 1
B7: 変状 部位 | C7: 対象箇所 | E7: 覆工 | M7: 変状 部位 | N7: 対象箇所 | P7: 覆工
C8: 部位区分 | E8: アーチ（右側） | N8: 部位区分 | P8: アーチ（右側）
B9: 変状種類 | E9: うき・はく離 | M9: 変状種類 | P9: うき・はく離
B10: 対策 区分 | C10: 変状区分 | E10: 材質劣化 | M10: 対策 区分 | N10: 変状区分 | P10: 材質劣化
C11: 応急措置前 | E11: － | N11: 応急措置前 | P11: －
C12: 応急措置後 | E12: Ⅱa | N12: 応急措置後 | P12: Ⅱa
B13: 変状の発生範囲及び規模 | E13: 0.1m×0.1m | H13: 前回変状の発生範囲及び規模 | J13: 0.1m×0.1m | M13: 変状の発生範囲及び規模 | P13: 0.6m×0.4m | S13: 前回変状の発生範囲及び規模 | U13: 0.15m×0.15m
B14: 対策履歴 | E14: － | H14: 実施状況（実施日） | J14: － | M14: 対策履歴 | P14: － | S14: 実施状況（実施日） | U14: －
B15: メモ | E15: 0.1m×0.1mのうき・はく離 打音異常あり。覆工上部のうきにより、重点的な監視を要する。 状況により計画的に対策を講じことが望ましい。 | M15: メモ | P15: 0.6m×0.4mのうき・はく離 打音異常あり。うきに進行がみられ、範囲が拡大している。 引き続き重点的な監視を行い、状況により計画的に対策を講じことが望ましい。
B16: 写真 番号 | C16: 覆工スパン 番号 | E16: S26 | M16: 写真 番号 | N16: 覆工スパン 番号 | P16: S26
C17: 変状番号 | E17: 2 | N17: 変状番号 | P17: 3
B18: 変状 部位 | C18: 対象箇所 | E18: 覆工 | M18: 変状 部位 | N18: 対象箇所 | P18: 覆工
C19: 部位区分 | E19: 水平打ち継ぎ目（右側） | N19: 部位区分 | P19: アーチ（天端）
B20: 変状種類 | E20: うき・はく離 | M20: 変状種類 | P20: 鋼材腐食
B21: 対策 区分 | C21: 変状区分 | E21: 材質劣化 | M21: 対策 区分 | N21: 変状区分 | P21: 材質劣化
C22: 応急措置前 | E22: － | N22: 応急措置前 | P22: －
C23: 応急措置後 | E23: Ⅱa | N23: 応急措置後 | P23: Ⅱb
B24: 変状の発生範囲及び規模 | E24: 0.1m×0.6m | H24: 前回変状の発生範囲及び規模 | J24: 0.05m×0.6m | M24: 変状の発生範囲及び規模 | P24: 0.3m×0.3m | S24: 前回変状の発生範囲及び規模 | U24: 0.3m×0.3m
B25: 対策履歴 | E25: － | H25: 実施状況（実施日） | J25: － | M25: 対策履歴 | P25: － | S25: 実施状況（実施日） | U25: －
B26: メモ | E26: 0.1m×0.6mのうき・はく離 打音異常あり。引き続き重点的な監視を行い、状況により計画的に対策を講じことが望ましい。 | M26: メモ | P26: 0.3m×0.3mの鋼材腐食 表面的な錆、日常巡視により監視を行う。
C27: ※ 応急措置後の対策区分について添付すること。また、点検前に 実施された措置によりⅠと判定された箇所も添付すること。 | N27: ※ 変状の発生範囲の規模とは、対策を行う際に参考となる変状の長さや面積をいう。
N28: ※ 応急措置を実施しないで決定した変状の対策区分は、対策区分の応急措置後の欄に記入すること。
C29: ※ たたき落としを実施した場合は、実施後の写真を添付すること。 | N29: ※ 変状の発生範囲の規模は、面積・寸法を記載すること。(ひび割れ幅のみmmとし、その他をm表記とする)
C30: ※ 附属物の取付状態に関する異常写真は別途、任意の書式でとりまとめること。 | N30: ※ 構造用鋼材以外の異物に伴ううき・はく離については、メモ欄に異物の概要を記入すること。

Sheet 様式D-1-1 (33)
B2: ■定期点検記録様式 変状写真台帳【様式D-1-1】 | R2: 施設ID | T2: ='様式A-1'!W2 -> 33.97028,130.94306
B3: フリガナ | E3: ='様式A-1'!D3 -> ムクノトンネル ノボリ | H3: 路 線 名 | J3: ='様式A-1'!J3:O4 -> 山口県道57号下関港線（上り） | M3: 定期点検実施者 | P3: ='様式B (1)'!S3 -> アジア航測株式会社 | S3: 定期点検年月日 | U3: ='様式B (1)'!P2 -> 45892
B4: 名 称 | E4: ='様式A-1'!D4 -> 椋野トンネル（上り） | H4: 管理者名 | J4: ='様式A-1'!R3 -> 山口県 下関土木建築事務所 | P4: ='様式B (5)'!S4 -> 飯田 琢巳
B5: 写真 番号 | C5: 覆工スパン 番号 | E5: S26 | M5: 写真 番号 | N5: 覆工スパン 番号 | P5: S26
C6: 変状番号 | E6: 4 | N6: 変状番号 | P6: 5
B7: 変状 部位 | C7: 対象箇所 | E7: 覆工 | M7: 変状 部位 | N7: 対象箇所 | P7: 覆工
C8: 部位区分 | E8: 水平打ち継ぎ目（右側） | N8: 部位区分 | P8: 横断目地（左側）
B9: 変状種類 | E9: うき・はく離 | M9: 変状種類 | P9: うき・はく離
B10: 対策 区分 | C10: 変状区分 | E10: 材質劣化 | M10: 対策 区分 | N10: 変状区分 | P10: 材質劣化
C11: 応急措置前 | E11: － | N11: 応急措置前 | P11: －
C12: 応急措置後 | E12: Ⅱa | N12: 応急措置後 | P12: Ⅱa
B13: 変状の発生範囲及び規模 | E13: 0.1m×1.3m | H13: 前回変状の発生範囲及び規模 | J13: 0.05m×1.2m | M13: 変状の発生範囲及び規模 | P13: 0.3m×0.2m | S13: 前回変状の発生範囲及び規模 | U13: 0.3m×0.2m
B14: 対策履歴 | E14: － | H14: 実施状況（実施日） | J14: － | M14: 対策履歴 | P14: － | S14: 実施状況（実施日） | U14: －
B15: メモ | E15: 0.1m×1.3mのうき・はく離 打音異常あり。引き続き重点的な監視を行い、状況により計画的に対策を講じことが望ましい。 | M15: メモ | P15: 0.3m×0.2mのうき・はく離 打音異常あり。覆工上部のうきにより、重点的な監視を要する。 状況により計画的に対策を講じことが望ましい。
B16: 写真 番号 | C16: 覆工スパン 番号 | E16: S27 | M16: 写真 番号 | N16: 覆工スパン 番号 | P16: S27
C17: 変状番号 | E17: 1 | N17: 変状番号 | P17: 2
B18: 変状 部位 | C18: 対象箇所 | E18: 覆工 | M18: 変状 部位 | N18: 対象箇所 | P18: 覆工
C19: 部位区分 | E19: アーチ（天端） | N19: 部位区分 | P19: アーチ（天端）
B20: 変状種類 | E20: その他 | M20: 変状種類 | P20: 鋼材腐食
B21: 対策 区分 | C21: 変状区分 | E21: 材質劣化 | M21: 対策 区分 | N21: 変状区分 | P21: 材質劣化
C22: 応急措置前 | E22: － | N22: 応急措置前 | P22: －
C23: 応急措置後 | E23: Ⅱb | N23: 応急措置後 | P23: Ⅱb
B24: 変状の発生範囲及び規模 | E24: 0.3m×0.1m | H24: 前回変状の発生範囲及び規模 | J24: 0.2m×0.1m | M24: 変状の発生範囲及び規模 | P24: 0.3m×0.3m | S24: 前回変状の発生範囲及び規模 | U24: 0.3m×0.3m
B25: 対策履歴 | E25: － | H25: 実施状況（実施日） | J25: － | M25: 対策履歴 | P25: － | S25: 実施状況（実施日） | U25: －
B26: メモ | E26: 0.3m×0.1mの豆板 前回からの進行が見られないが、引き続いて監視を行う。 | M26: メモ | P26: 0.3m×0.3mの鋼材腐食 表面的な錆、日常巡視により監視を行う。
C27: ※ 応急措置後の対策区分について添付すること。また、点検前に 実施された措置によりⅠと判定された箇所も添付すること。 | N27: ※ 変状の発生範囲の規模とは、対策を行う際に参考となる変状の長さや面積をいう。
N28: ※ 応急措置を実施しないで決定した変状の対策区分は、対策区分の応急措置後の欄に記入すること。
C29: ※ たたき落としを実施した場合は、実施後の写真を添付すること。 | N29: ※ 変状の発生範囲の規模は、面積・寸法を記載すること。(ひび割れ幅のみmmとし、その他をm表記とする)
C30: ※ 附属物の取付状態に関する異常写真は別途、任意の書式でとりまとめること。 | N30: ※ 構造用鋼材以外の異物に伴ううき・はく離については、メモ欄に異物の概要を記入すること。

Sheet 様式D-1-1 (34)
B2: ■定期点検記録様式 変状写真台帳【様式D-1-1】 | R2: 施設ID | T2: ='様式A-1'!W2 -> 33.97028,130.94306
B3: フリガナ | E3: ='様式A-1'!D3 -> ムクノトンネル ノボリ | H3: 路 線 名 | J3: ='様式A-1'!J3:O4 -> 山口県道57号下関港線（上り） | M3: 定期点検実施者 | P3: ='様式B (1)'!S3 -> アジア航測株式会社 | S3: 定期点検年月日 | U3: ='様式B (1)'!P2 -> 45892
B4: 名 称 | E4: ='様式A-1'!D4 -> 椋野トンネル（上り） | H4: 管理者名 | J4: ='様式A-1'!R3 -> 山口県 下関土木建築事務所 | P4: ='様式B (5)'!S4 -> 飯田 琢巳
B5: 写真 番号 | C5: 覆工スパン 番号 | E5: S27 | M5: 写真 番号 | N5: 覆工スパン 番号 | P5: S27
C6: 変状番号 | E6: 3 | N6: 変状番号 | P6: 4
B7: 変状 部位 | C7: 対象箇所 | E7: 覆工 | M7: 変状 部位 | N7: 対象箇所 | P7: 覆工
C8: 部位区分 | E8: 水平打ち継ぎ目（右側） | N8: 部位区分 | P8: 水平打ち継ぎ目（左側）
B9: 変状種類 | E9: その他 | M9: 変状種類 | P9: うき・はく離
B10: 対策 区分 | C10: 変状区分 | E10: 材質劣化 | M10: 対策 区分 | N10: 変状区分 | P10: 材質劣化
C11: 応急措置前 | E11: － | N11: 応急措置前 | P11: －
C12: 応急措置後 | E12: Ⅱb | N12: 応急措置後 | P12: Ⅱa
B13: 変状の発生範囲及び規模 | E13: 0.5m×3.5m | H13: 前回変状の発生範囲及び規模 | J13: 0.3m×1.5m | M13: 変状の発生範囲及び規模 | P13: 0.15m×1.3m | S13: 前回変状の発生範囲及び規模 | U13: 0.15m×1.3m
B14: 対策履歴 | E14: － | H14: 実施状況（実施日） | J14: － | M14: 対策履歴 | P14: － | S14: 実施状況（実施日） | U14: －
B15: メモ | E15: 0.5m×3.5mの豆板 日常巡視により監視を行う。 | M15: メモ | P15: 0.15m×1.3mのうき・はく離 打音異常あり。引き続き重点的な監視を行い、状況により計画的に対策を講じことが望ましい。
B16: 写真 番号 | C16: 覆工スパン 番号 | E16: S27 | M16: 写真 番号 | N16: 覆工スパン 番号 | P16: S27
C17: 変状番号 | E17: 5 | N17: 変状番号 | P17: 6
B18: 変状 部位 | C18: 対象箇所 | E18: 覆工 | M18: 変状 部位 | N18: 対象箇所 | P18: 覆工
C19: 部位区分 | E19: 横断目地（左側） | N19: 部位区分 | P19: 横断目地（左側）
B20: 変状種類 | E20: 漏水 | M20: 変状種類 | P20: 漏水
B21: 対策 区分 | C21: 変状区分 | E21: 漏水 | M21: 対策 区分 | N21: 変状区分 | P21: 漏水
C22: 応急措置前 | E22: － | N22: 応急措置前 | P22: －
C23: 応急措置後 | E23: Ⅱb | N23: 応急措置後 | P23: Ⅱb
B24: 変状の発生範囲及び規模 | E24: 7.4m×0.5m（0ml/min） | H24: 前回変状の発生範囲及び規模 | J24: 7.4m×0.5m（10ml/min） | M24: 変状の発生範囲及び規模 | P24: 3.9m×0.5m | S24: 前回変状の発生範囲及び規模 | U24: 3.6m×0.5m
B25: 対策履歴 | E25: － | H25: 実施状況（実施日） | J25: － | M25: 対策履歴 | P25: － | S25: 実施状況（実施日） | U25: －
B26: メモ | E26: 7.4m×0.5mの漏水跡 利用者にはほとんど影響はないが、日常巡視により監視を行う。（判定の見直し） | M26: メモ | P26: 3.9m×0.5mの漏水（にじみ） 利用者にはほとんど影響はないが、日常巡視により監視を行う。
C27: ※ 応急措置後の対策区分について添付すること。また、点検前に 実施された措置によりⅠと判定された箇所も添付すること。 | N27: ※ 変状の発生範囲の規模とは、対策を行う際に参考となる変状の長さや面積をいう。
N28: ※ 応急措置を実施しないで決定した変状の対策区分は、対策区分の応急措置後の欄に記入すること。
C29: ※ たたき落としを実施した場合は、実施後の写真を添付すること。 | N29: ※ 変状の発生範囲の規模は、面積・寸法を記載すること。(ひび割れ幅のみmmとし、その他をm表記とする)
C30: ※ 附属物の取付状態に関する異常写真は別途、任意の書式でとりまとめること。 | N30: ※ 構造用鋼材以外の異物に伴ううき・はく離については、メモ欄に異物の概要を記入すること。

Sheet 様式D-1-1 (35)
B2: ■定期点検記録様式 変状写真台帳【様式D-1-1】 | R2: 施設ID | T2: ='様式A-1'!W2 -> 33.97028,130.94306
B3: フリガナ | E3: ='様式A-1'!D3 -> ムクノトンネル ノボリ | H3: 路 線 名 | J3: ='様式A-1'!J3:O4 -> 山口県道57号下関港線（上り） | M3: 定期点検実施者 | P3: ='様式B (1)'!S3 -> アジア航測株式会社 | S3: 定期点検年月日 | U3: ='様式B (1)'!P2 -> 45892
B4: 名 称 | E4: ='様式A-1'!D4 -> 椋野トンネル（上り） | H4: 管理者名 | J4: ='様式A-1'!R3 -> 山口県 下関土木建築事務所 | P4: ='様式B (5)'!S4 -> 飯田 琢巳
B5: 写真 番号 | C5: 覆工スパン 番号 | E5: S27 | M5: 写真 番号 | N5: 覆工スパン 番号 | P5: S27
C6: 変状番号 | E6: 7 | N6: 変状番号 | P6: 8
B7: 変状 部位 | C7: 対象箇所 | E7: 覆工 | M7: 変状 部位 | N7: 対象箇所 | P7: 路面
C8: 部位区分 | E8: 横断目地（左側） | N8: 部位区分 | P8: 車道
B9: 変状種類 | E9: うき・はく離 | M9: 変状種類 | P9: その他
B10: 対策 区分 | C10: 変状区分 | E10: 材質劣化 | M10: 対策 区分 | N10: 変状区分
C11: 応急措置前 | E11: － | N11: 応急措置前
C12: 応急措置後 | E12: Ⅱa | N12: 応急措置後
B13: 変状の発生範囲及び規模 | E13: 1.6m×0.2m | H13: 前回変状の発生範囲及び規模 | J13: 1.4m×0.2m | M13: 変状の発生範囲及び規模 | P13: － | S13: 前回変状の発生範囲及び規模 | U13: 0.3m×0.9m
B14: 対策履歴 | E14: － | H14: 実施状況（実施日） | J14: － | M14: 対策履歴 | P14: － | S14: 実施状況（実施日） | U14: －
B15: メモ | E15: 1.6m×0.2mのうき・はく離 打音異常あり。覆工上部のうきにより、重点的な監視を要する。 状況により計画的に対策を講じことが望ましい。 | M15: メモ | P15: 滞水は見られない（トンネル本体の評価外）
B16: 写真 番号 | C16: 覆工スパン 番号 | E16: S28 | M16: 写真 番号 | N16: 覆工スパン 番号 | P16: S28
C17: 変状番号 | E17: 1 | N17: 変状番号 | P17: 2
B18: 変状 部位 | C18: 対象箇所 | E18: 覆工 | M18: 変状 部位 | N18: 対象箇所 | P18: 覆工
C19: 部位区分 | E19: 水平打ち継ぎ目（左側） | N19: 部位区分 | P19: アーチ（天端）
B20: 変状種類 | E20: うき・はく離 | M20: 変状種類 | P20: 鋼材腐食
B21: 対策 区分 | C21: 変状区分 | E21: 材質劣化 | M21: 対策 区分 | N21: 変状区分 | P21: 材質劣化
C22: 応急措置前 | E22: － | N22: 応急措置前 | P22: －
C23: 応急措置後 | E23: Ⅱa | N23: 応急措置後 | P23: Ⅱb
B24: 変状の発生範囲及び規模 | E24: 0.15m×1.3m | H24: 前回変状の発生範囲及び規模 | J24: 0.2m×0.4m | M24: 変状の発生範囲及び規模 | P24: 0.3m×0.3m | S24: 前回変状の発生範囲及び規模 | U24: 0.3m×0.3m
B25: 対策履歴 | E25: － | H25: 実施状況（実施日） | J25: － | M25: 対策履歴 | P25: － | S25: 実施状況（実施日） | U25: －
B26: メモ | E26: 0.15m×1.3mのうき・はく離 打音異常あり。うきに進行がみられ、範囲が拡大している。 引き続き重点的な監視を行い、状況により計画的に対策を講じことが望ましい。 | M26: メモ | P26: 0.3m×0.3mの鋼材腐食 表面的な錆、日常巡視により監視を行う。
C27: ※ 応急措置後の対策区分について添付すること。また、点検前に 実施された措置によりⅠと判定された箇所も添付すること。 | N27: ※ 変状の発生範囲の規模とは、対策を行う際に参考となる変状の長さや面積をいう。
N28: ※ 応急措置を実施しないで決定した変状の対策区分は、対策区分の応急措置後の欄に記入すること。
C29: ※ たたき落としを実施した場合は、実施後の写真を添付すること。 | N29: ※ 変状の発生範囲の規模は、面積・寸法を記載すること。(ひび割れ幅のみmmとし、その他をm表記とする)
C30: ※ 附属物の取付状態に関する異常写真は別途、任意の書式でとりまとめること。 | N30: ※ 構造用鋼材以外の異物に伴ううき・はく離については、メモ欄に異物の概要を記入すること。

Sheet 様式D-1-1 (36)
B2: ■定期点検記録様式 変状写真台帳【様式D-1-1】 | R2: 施設ID | T2: ='様式A-1'!W2 -> 33.97028,130.94306
B3: フリガナ | E3: ='様式A-1'!D3 -> ムクノトンネル ノボリ | H3: 路 線 名 | J3: ='様式A-1'!J3:O4 -> 山口県道57号下関港線（上り） | M3: 定期点検実施者 | P3: ='様式B (1)'!S3 -> アジア航測株式会社 | S3: 定期点検年月日 | U3: ='様式B (1)'!P2 -> 45892
B4: 名 称 | E4: ='様式A-1'!D4 -> 椋野トンネル（上り） | H4: 管理者名 | J4: ='様式A-1'!R3 -> 山口県 下関土木建築事務所 | P4: ='様式B (5)'!S4 -> 飯田 琢巳
B5: 写真 番号 | C5: 覆工スパン 番号 | E5: S28 | M5: 写真 番号 | N5: 覆工スパン 番号 | P5: S28
C6: 変状番号 | E6: 3 | N6: 変状番号 | P6: 4
B7: 変状 部位 | C7: 対象箇所 | E7: 覆工 | M7: 変状 部位 | N7: 対象箇所 | P7: 覆工
C8: 部位区分 | E8: アーチ（右側） | N8: 部位区分 | P8: 水平打ち継ぎ目（左側）
B9: 変状種類 | E9: 漏水 | M9: 変状種類 | P9: うき・はく離
B10: 対策 区分 | C10: 変状区分 | E10: 漏水 | M10: 対策 区分 | N10: 変状区分 | P10: 材質劣化
C11: 応急措置前 | E11: － | N11: 応急措置前 | P11: －
C12: 応急措置後 | E12: Ⅱb | N12: 応急措置後 | P12: Ⅱa
B13: 変状の発生範囲及び規模 | E13: 5.0m×0.5m | H13: 前回変状の発生範囲及び規模 | J13: 5.3m×0.2m | M13: 変状の発生範囲及び規模 | P13: 0.5m×1.3m | S13: 前回変状の発生範囲及び規模 | U13: 0.2m×1.6m
B14: 対策履歴 | E14: － | H14: 実施状況（実施日） | J14: － | M14: 対策履歴 | P14: － | S14: 実施状況（実施日） | U14: －
B15: メモ | E15: 5.0m×0.5mの漏水跡 利用者にはほとんど影響はないが、日常巡視により監視を行う。 | M15: メモ | P15: 0.5m×1.3mのうき・はく離 打音異常あり。引き続き重点的な監視を行い、状況により計画的に対策を講じことが望ましい。
B16: 写真 番号 | C16: 覆工スパン 番号 | E16: S29 | M16: 写真 番号 | N16: 覆工スパン 番号 | P16: S29
C17: 変状番号 | E17: 1 | N17: 変状番号 | P17: 2
B18: 変状 部位 | C18: 対象箇所 | E18: 覆工 | M18: 変状 部位 | N18: 対象箇所 | P18: 覆工
C19: 部位区分 | E19: 水平打ち継ぎ目（左側） | N19: 部位区分 | P19: アーチ（天端）
B20: 変状種類 | E20: うき・はく離 | M20: 変状種類 | P20: 鋼材腐食
B21: 対策 区分 | C21: 変状区分 | E21: 材質劣化 | M21: 対策 区分 | N21: 変状区分 | P21: 材質劣化
C22: 応急措置前 | E22: － | N22: 応急措置前 | P22: －
C23: 応急措置後 | E23: Ⅱa | N23: 応急措置後 | P23: Ⅱb
B24: 変状の発生範囲及び規模 | E24: 0.3m×3.0m | H24: 前回変状の発生範囲及び規模 | J24: 0.3m×2.4m | M24: 変状の発生範囲及び規模 | P24: 0.3m×0.3m | S24: 前回変状の発生範囲及び規模 | U24: 0.3m×0.3m
B25: 対策履歴 | E25: － | H25: 実施状況（実施日） | J25: － | M25: 対策履歴 | P25: － | S25: 実施状況（実施日） | U25: －
B26: メモ | E26: 0.3m×3.0mのうき・はく離 打音異常あり。うきに進行がみられ、範囲が拡大している。 引き続き重点的な監視を行い、状況により計画的に対策を講じことが望ましい。 | M26: メモ | P26: 0.3m×0.3mの鋼材腐食 小規模の腐食、日常巡視により監視を行う。
C27: ※ 応急措置後の対策区分について添付すること。また、点検前に 実施された措置によりⅠと判定された箇所も添付すること。 | N27: ※ 変状の発生範囲の規模とは、対策を行う際に参考となる変状の長さや面積をいう。
N28: ※ 応急措置を実施しないで決定した変状の対策区分は、対策区分の応急措置後の欄に記入すること。
C29: ※ たたき落としを実施した場合は、実施後の写真を添付すること。 | N29: ※ 変状の発生範囲の規模は、面積・寸法を記載すること。(ひび割れ幅のみmmとし、その他をm表記とする)
C30: ※ 附属物の取付状態に関する異常写真は別途、任意の書式でとりまとめること。 | N30: ※ 構造用鋼材以外の異物に伴ううき・はく離については、メモ欄に異物の概要を記入すること。

Sheet 様式D-1-1 (37)
B2: ■定期点検記録様式 変状写真台帳【様式D-1-1】 | R2: 施設ID | T2: ='様式A-1'!W2 -> 33.97028,130.94306
B3: フリガナ | E3: ='様式A-1'!D3 -> ムクノトンネル ノボリ | H3: 路 線 名 | J3: ='様式A-1'!J3:O4 -> 山口県道57号下関港線（上り） | M3: 定期点検実施者 | P3: ='様式B (1)'!S3 -> アジア航測株式会社 | S3: 定期点検年月日 | U3: ='様式B (1)'!P2 -> 45892
B4: 名 称 | E4: ='様式A-1'!D4 -> 椋野トンネル（上り） | H4: 管理者名 | J4: ='様式A-1'!R3 -> 山口県 下関土木建築事務所 | P4: ='様式B (5)'!S4 -> 飯田 琢巳
B5: 写真 番号 | C5: 覆工スパン 番号 | E5: S29 | M5: 写真 番号 | N5: 覆工スパン 番号 | P5: S29
C6: 変状番号 | E6: 3 | N6: 変状番号 | P6: 4
B7: 変状 部位 | C7: 対象箇所 | E7: 覆工 | M7: 変状 部位 | N7: 対象箇所 | P7: 覆工
C8: 部位区分 | E8: 水平打ち継ぎ目（右側） | N8: 部位区分 | P8: 水平打ち継ぎ目（左側）
B9: 変状種類 | E9: うき・はく離 | M9: 変状種類 | P9: うき・はく離
B10: 対策 区分 | C10: 変状区分 | E10: 材質劣化 | M10: 対策 区分 | N10: 変状区分 | P10: 材質劣化
C11: 応急措置前 | E11: － | N11: 応急措置前 | P11: －
C12: 応急措置後 | E12: Ⅰ | N12: 応急措置後 | P12: Ⅱa
B13: 変状の発生範囲及び規模 | E13: 0.2m×0.6m | H13: 前回変状の発生範囲及び規模 | J13: 0.15m×0.2m | M13: 変状の発生範囲及び規模 | P13: 0.15m×1.3m | S13: 前回変状の発生範囲及び規模 | U13: 0.15m×1.2m
B14: 対策履歴 | E14: － | H14: 実施状況（実施日） | J14: － | M14: 対策履歴 | P14: － | S14: 実施状況（実施日） | U14: －
B15: メモ | E15: 「うき・はく離」は現地確認で「はく落」になっているため、判定を見直し | M15: メモ | P15: 0.15m×1.3mのうき・はく離 打音異常あり。引き続き重点的な監視を行い、状況により計画的に対策を講じことが望ましい。
B16: 写真 番号 | C16: 覆工スパン 番号 | E16: S29 | M16: 写真 番号 | N16: 覆工スパン 番号 | P16: S29
C17: 変状番号 | E17: 5 | N17: 変状番号 | P17: 6
B18: 変状 部位 | C18: 対象箇所 | E18: 覆工 | M18: 変状 部位 | N18: 対象箇所 | P18: 覆工
C19: 部位区分 | E19: 横断目地（左側） | N19: 部位区分 | P19: 横断目地（左側）
B20: 変状種類 | E20: うき・はく離 | M20: 変状種類 | P20: 漏水
B21: 対策 区分 | C21: 変状区分 | E21: 材質劣化 | M21: 対策 区分 | N21: 変状区分 | P21: 漏水
C22: 応急措置前 | E22: － | N22: 応急措置前 | P22: －
C23: 応急措置後 | E23: Ⅱa | N23: 応急措置後 | P23: Ⅱb
B24: 変状の発生範囲及び規模 | E24: 0.5m×0.2m | H24: 前回変状の発生範囲及び規模 | J24: 0.5m×0.2m | M24: 変状の発生範囲及び規模 | P24: 5.5m×0.5m | S24: 前回変状の発生範囲及び規模 | U24: 6.1m×0.5m
B25: 対策履歴 | E25: － | H25: 実施状況（実施日） | J25: － | M25: 対策履歴 | P25: － | S25: 実施状況（実施日） | U25: －
B26: メモ | E26: 0.5m×0.2mのうき・はく離 打音異常あり。覆工上部のうきにより、重点的な監視を要する。 状況により計画的に対策を講じことが望ましい。 | M26: メモ | P26: 5.5m×0.5mの漏水跡 利用者にはほとんど影響はないが、日常巡視により監視を行う。
C27: ※ 応急措置後の対策区分について添付すること。また、点検前に 実施された措置によりⅠと判定された箇所も添付すること。 | N27: ※ 変状の発生範囲の規模とは、対策を行う際に参考となる変状の長さや面積をいう。
N28: ※ 応急措置を実施しないで決定した変状の対策区分は、対策区分の応急措置後の欄に記入すること。
C29: ※ たたき落としを実施した場合は、実施後の写真を添付すること。 | N29: ※ 変状の発生範囲の規模は、面積・寸法を記載すること。(ひび割れ幅のみmmとし、その他をm表記とする)
C30: ※ 附属物の取付状態に関する異常写真は別途、任意の書式でとりまとめること。 | N30: ※ 構造用鋼材以外の異物に伴ううき・はく離については、メモ欄に異物の概要を記入すること。

Sheet 様式D-1-1 (38)
B2: ■定期点検記録様式 変状写真台帳【様式D-1-1】 | R2: 施設ID | T2: ='様式A-1'!W2 -> 33.97028,130.94306
B3: フリガナ | E3: ='様式A-1'!D3 -> ムクノトンネル ノボリ | H3: 路 線 名 | J3: ='様式A-1'!J3:O4 -> 山口県道57号下関港線（上り） | M3: 定期点検実施者 | P3: ='様式B (1)'!S3 -> アジア航測株式会社 | S3: 定期点検年月日 | U3: ='様式B (1)'!P2 -> 45892
B4: 名 称 | E4: ='様式A-1'!D4 -> 椋野トンネル（上り） | H4: 管理者名 | J4: ='様式A-1'!R3 -> 山口県 下関土木建築事務所 | P4: ='様式B (5)'!S4 -> 飯田 琢巳
B5: 写真 番号 | C5: 覆工スパン 番号 | E5: S29 | M5: 写真 番号 | N5: 覆工スパン 番号 | P5: S30
C6: 変状番号 | E6: 7 | N6: 変状番号 | P6: 1
B7: 変状 部位 | C7: 対象箇所 | E7: 覆工 | M7: 変状 部位 | N7: 対象箇所 | P7: 覆工
C8: 部位区分 | E8: アーチ（左側） | N8: 部位区分 | P8: 水平打ち継ぎ目（左側）
B9: 変状種類 | E9: 漏水 | M9: 変状種類 | P9: うき・はく離
B10: 対策 区分 | C10: 変状区分 | E10: 漏水 | M10: 対策 区分 | N10: 変状区分 | P10: 材質劣化
C11: 応急措置前 | E11: － | N11: 応急措置前 | P11: －
C12: 応急措置後 | E12: Ⅱb | N12: 応急措置後 | P12: Ⅱa
B13: 変状の発生範囲及び規模 | E13: 4.1m×0.5m | H13: 前回変状の発生範囲及び規模 | J13: 今回新規変状 | M13: 変状の発生範囲及び規模 | P13: 0.15m×1.0m | S13: 前回変状の発生範囲及び規模 | U13: 0.15m×1.2m
B14: 対策履歴 | E14: － | H14: 実施状況（実施日） | J14: － | M14: 対策履歴 | P14: － | S14: 実施状況（実施日） | U14: －
B15: メモ | E15: 4.1m×0.5mの漏水（にじみ） 利用者にはほとんど影響はないが、日常巡視により監視を行う。 | M15: メモ | P15: 0.15m×1.0mのうき・はく離 打音異常あり。引き続き重点的な監視を行い、状況により計画的に対策を講じことが望ましい。
B16: 写真 番号 | C16: 覆工スパン 番号 | E16: S30 | M16: 写真 番号 | N16: 覆工スパン 番号 | P16: S30
C17: 変状番号 | E17: 2 | N17: 変状番号 | P17: 3
B18: 変状 部位 | C18: 対象箇所 | E18: 覆工 | M18: 変状 部位 | N18: 対象箇所 | P18: 覆工
C19: 部位区分 | E19: 水平打ち継ぎ目（右側） | N19: 部位区分 | P19: 水平打ち継ぎ目（左側）
B20: 変状種類 | E20: うき・はく離 | M20: 変状種類 | P20: うき・はく離
B21: 対策 区分 | C21: 変状区分 | E21: 材質劣化 | M21: 対策 区分 | N21: 変状区分 | P21: 材質劣化
C22: 応急措置前 | E22: － | N22: 応急措置前 | P22: －
C23: 応急措置後 | E23: Ⅱa | N23: 応急措置後 | P23: Ⅰ
B24: 変状の発生範囲及び規模 | E24: 0.15m×0.6m | H24: 前回変状の発生範囲及び規模 | J24: 0.15m×0.3m | M24: 変状の発生範囲及び規模 | P24: 0.2m×0.3m | S24: 前回変状の発生範囲及び規模 | U24: 0.15m×0.3m
B25: 対策履歴 | E25: － | H25: 実施状況（実施日） | J25: － | M25: 対策履歴 | P25: － | S25: 実施状況（実施日） | U25: －
B26: メモ | E26: 0.15m×0.6mのうき・はく離 打音異常あり。引き続き重点的な監視を行い、状況により計画的に対策を講じことが望ましい。 | M26: メモ | P26: 「うき・はく離」は現地確認で「はく落」になっているため、判定を見直し
C27: ※ 応急措置後の対策区分について添付すること。また、点検前に 実施された措置によりⅠと判定された箇所も添付すること。 | N27: ※ 変状の発生範囲の規模とは、対策を行う際に参考となる変状の長さや面積をいう。
N28: ※ 応急措置を実施しないで決定した変状の対策区分は、対策区分の応急措置後の欄に記入すること。
C29: ※ たたき落としを実施した場合は、実施後の写真を添付すること。 | N29: ※ 変状の発生範囲の規模は、面積・寸法を記載すること。(ひび割れ幅のみmmとし、その他をm表記とする)
C30: ※ 附属物の取付状態に関する異常写真は別途、任意の書式でとりまとめること。 | N30: ※ 構造用鋼材以外の異物に伴ううき・はく離については、メモ欄に異物の概要を記入すること。

Sheet 様式D-1-1 (39)
B2: ■定期点検記録様式 変状写真台帳【様式D-1-1】 | R2: 施設ID | T2: ='様式A-1'!W2 -> 33.97028,130.94306
B3: フリガナ | E3: ='様式A-1'!D3 -> ムクノトンネル ノボリ | H3: 路 線 名 | J3: ='様式A-1'!J3:O4 -> 山口県道57号下関港線（上り） | M3: 定期点検実施者 | P3: ='様式B (1)'!S3 -> アジア航測株式会社 | S3: 定期点検年月日 | U3: ='様式B (1)'!P2 -> 45892
B4: 名 称 | E4: ='様式A-1'!D4 -> 椋野トンネル（上り） | H4: 管理者名 | J4: ='様式A-1'!R3 -> 山口県 下関土木建築事務所 | P4: ='様式B (5)'!S4 -> 飯田 琢巳
B5: 写真 番号 | C5: 覆工スパン 番号 | E5: S30 | M5: 写真 番号 | N5: 覆工スパン 番号 | P5: S30
C6: 変状番号 | E6: 4 | N6: 変状番号 | P6: 5
B7: 変状 部位 | C7: 対象箇所 | E7: 覆工 | M7: 変状 部位 | N7: 対象箇所 | P7: 覆工
C8: 部位区分 | E8: アーチ（天端） | N8: 部位区分 | P8: 横断目地（天端）
B9: 変状種類 | E9: 鋼材腐食 | M9: 変状種類 | P9: 補修・補強材の破損
B10: 対策 区分 | C10: 変状区分 | E10: 材質劣化 | M10: 対策 区分 | N10: 変状区分 | P10: 漏水
C11: 応急措置前 | E11: － | N11: 応急措置前 | P11: －
C12: 応急措置後 | E12: Ⅱb | N12: 応急措置後 | P12: Ⅱb
B13: 変状の発生範囲及び規模 | E13: 0.3m×0.3m | H13: 前回変状の発生範囲及び規模 | J13: 0.3m×0.3m | M13: 変状の発生範囲及び規模 | P13: 0.2m×0.1m、0.3m×0.1m | S13: 前回変状の発生範囲及び規模 | U13: 今回新規変状
B14: 対策履歴 | E14: － | H14: 実施状況（実施日） | J14: － | M14: 対策履歴 | P14: － | S14: 実施状況（実施日） | U14: －
B15: メモ | E15: 0.3m×0.3mの鋼材腐食 表面的な錆、日常巡視により監視を行う。 | M15: メモ | P15: 0.2m×0.1m、0.3m×0.1mの導水工破損 漏水なし、日常巡視により監視を行う。
B16: 写真 番号 | C16: 覆工スパン 番号 | E16: S30 | M16: 写真 番号 | N16: 覆工スパン 番号 | P16: S31
C17: 変状番号 | E17: 6 | N17: 変状番号 | P17: 1
B18: 変状 部位 | C18: 対象箇所 | E18: 覆工 | M18: 変状 部位 | N18: 対象箇所 | P18: 覆工
C19: 部位区分 | E19: 横断目地（右側） | N19: 部位区分 | P19: 水平打ち継ぎ目（左側）
B20: 変状種類 | E20: 補修・補強材の破損 | M20: 変状種類 | P20: うき・はく離
B21: 対策 区分 | C21: 変状区分 | E21: 漏水 | M21: 対策 区分 | N21: 変状区分 | P21: 材質劣化
C22: 応急措置前 | E22: － | N22: 応急措置前 | P22: －
C23: 応急措置後 | E23: Ⅱb | N23: 応急措置後 | P23: Ⅱa
B24: 変状の発生範囲及び規模 | E24: 0.3m×0.1m | H24: 前回変状の発生範囲及び規模 | J24: 今回新規変状 | M24: 変状の発生範囲及び規模 | P24: 0.15m×2.3m | S24: 前回変状の発生範囲及び規模 | U24: 0.3m×1.0m
B25: 対策履歴 | E25: － | H25: 実施状況（実施日） | J25: － | M25: 対策履歴 | P25: － | S25: 実施状況（実施日） | U25: －
B26: メモ | E26: 0.3m×0.1mの導水工破損 漏水なし、日常巡視により監視を行う。 | M26: メモ | P26: 0.15m×2.3mのうき・はく離 打音異常あり。うきに進行がみられ、範囲が拡大している。 引き続き重点的な監視を行い、状況により計画的に対策を講じことが望ましい。
C27: ※ 応急措置後の対策区分について添付すること。また、点検前に 実施された措置によりⅠと判定された箇所も添付すること。 | N27: ※ 変状の発生範囲の規模とは、対策を行う際に参考となる変状の長さや面積をいう。
N28: ※ 応急措置を実施しないで決定した変状の対策区分は、対策区分の応急措置後の欄に記入すること。
C29: ※ たたき落としを実施した場合は、実施後の写真を添付すること。 | N29: ※ 変状の発生範囲の規模は、面積・寸法を記載すること。(ひび割れ幅のみmmとし、その他をm表記とする)
C30: ※ 附属物の取付状態に関する異常写真は別途、任意の書式でとりまとめること。 | N30: ※ 構造用鋼材以外の異物に伴ううき・はく離については、メモ欄に異物の概要を記入すること。

Sheet 様式D-1-1 (40)
B2: ■定期点検記録様式 変状写真台帳【様式D-1-1】 | R2: 施設ID | T2: ='様式A-1'!W2 -> 33.97028,130.94306
B3: フリガナ | E3: ='様式A-1'!D3 -> ムクノトンネル ノボリ | H3: 路 線 名 | J3: ='様式A-1'!J3:O4 -> 山口県道57号下関港線（上り） | M3: 定期点検実施者 | P3: ='様式B (1)'!S3 -> アジア航測株式会社 | S3: 定期点検年月日 | U3: ='様式B (1)'!P2 -> 45892
B4: 名 称 | E4: ='様式A-1'!D4 -> 椋野トンネル（上り） | H4: 管理者名 | J4: ='様式A-1'!R3 -> 山口県 下関土木建築事務所 | P4: ='様式B (5)'!S4 -> 飯田 琢巳
B5: 写真 番号 | C5: 覆工スパン 番号 | E5: S31 | M5: 写真 番号 | N5: 覆工スパン 番号 | P5: S31
C6: 変状番号 | E6: 2 | N6: 変状番号 | P6: 3
B7: 変状 部位 | C7: 対象箇所 | E7: 覆工 | M7: 変状 部位 | N7: 対象箇所 | P7: 覆工
C8: 部位区分 | E8: アーチ（左側） | N8: 部位区分 | P8: アーチ（左側）
B9: 変状種類 | E9: その他 | M9: 変状種類 | P9: 漏水
B10: 対策 区分 | C10: 変状区分 | E10: 材質劣化 | M10: 対策 区分 | N10: 変状区分 | P10: 漏水
C11: 応急措置前 | E11: － | N11: 応急措置前 | P11: －
C12: 応急措置後 | E12: Ⅱb | N12: 応急措置後 | P12: Ⅱb
B13: 変状の発生範囲及び規模 | E13: 0.2m×0.6m | H13: 前回変状の発生範囲及び規模 | J13: 0.2m×0.6m | M13: 変状の発生範囲及び規模 | P13: 5.9m×0.5m | S13: 前回変状の発生範囲及び規模 | U13: 6.1m×0.6m
B14: 対策履歴 | E14: － | H14: 実施状況（実施日） | J14: － | M14: 対策履歴 | P14: － | S14: 実施状況（実施日） | U14: －
B15: メモ | E15: 0.2m×0.6mの豆板 前回からの進行が見られないが、引き続いて監視を行う。 | M15: メモ | P15: 5.9m×0.5mの漏水跡 利用者にはほとんど影響はないが、日常巡視により監視を行う。
B16: 写真 番号 | C16: 覆工スパン 番号 | E16: S31 | M16: 写真 番号 | N16: 覆工スパン 番号 | P16: S32
C17: 変状番号 | E17: 4 | N17: 変状番号 | P17: 1
B18: 変状 部位 | C18: 対象箇所 | E18: 覆工 | M18: 変状 部位 | N18: 対象箇所 | P18: 覆工
C19: 部位区分 | E19: アーチ（左側） | N19: 部位区分 | P19: 水平打ち継ぎ目（左側）
B20: 変状種類 | E20: 補修・補強材の破損 | M20: 変状種類 | P20: うき・はく離
B21: 対策 区分 | C21: 変状区分 | E21: 漏水 | M21: 対策 区分 | N21: 変状区分 | P21: 材質劣化
C22: 応急措置前 | E22: － | N22: 応急措置前 | P22: －
C23: 応急措置後 | E23: Ⅱb | N23: 応急措置後 | P23: Ⅱa
B24: 変状の発生範囲及び規模 | E24: 0.2m×0.1m | H24: 前回変状の発生範囲及び規模 | J24: 今回新規変状 | M24: 変状の発生範囲及び規模 | P24: 0.15m×1.3m | S24: 前回変状の発生範囲及び規模 | U24: 0.15m×1.3m
B25: 対策履歴 | E25: － | H25: 実施状況（実施日） | J25: － | M25: 対策履歴 | P25: － | S25: 実施状況（実施日） | U25: －
B26: メモ | E26: 0.2m×0.1mの導水工破損 漏水なし、日常巡視により監視を行う。 | M26: メモ | P26: 0.15m×1.3mのうき・はく離 打音異常あり。引き続き重点的な監視を行い、状況により計画的に対策を講じことが望ましい。
C27: ※ 応急措置後の対策区分について添付すること。また、点検前に 実施された措置によりⅠと判定された箇所も添付すること。 | N27: ※ 変状の発生範囲の規模とは、対策を行う際に参考となる変状の長さや面積をいう。
N28: ※ 応急措置を実施しないで決定した変状の対策区分は、対策区分の応急措置後の欄に記入すること。
C29: ※ たたき落としを実施した場合は、実施後の写真を添付すること。 | N29: ※ 変状の発生範囲の規模は、面積・寸法を記載すること。(ひび割れ幅のみmmとし、その他をm表記とする)
C30: ※ 附属物の取付状態に関する異常写真は別途、任意の書式でとりまとめること。 | N30: ※ 構造用鋼材以外の異物に伴ううき・はく離については、メモ欄に異物の概要を記入すること。

Sheet 様式D-1-1 (41)
B2: ■定期点検記録様式 変状写真台帳【様式D-1-1】 | R2: 施設ID | T2: ='様式A-1'!W2 -> 33.97028,130.94306
B3: フリガナ | E3: ='様式A-1'!D3 -> ムクノトンネル ノボリ | H3: 路 線 名 | J3: ='様式A-1'!J3:O4 -> 山口県道57号下関港線（上り） | M3: 定期点検実施者 | P3: ='様式B (1)'!S3 -> アジア航測株式会社 | S3: 定期点検年月日 | U3: ='様式B (1)'!P2 -> 45892
B4: 名 称 | E4: ='様式A-1'!D4 -> 椋野トンネル（上り） | H4: 管理者名 | J4: ='様式A-1'!R3 -> 山口県 下関土木建築事務所 | P4: ='様式B (5)'!S4 -> 飯田 琢巳
B5: 写真 番号 | C5: 覆工スパン 番号 | E5: S32 | M5: 写真 番号 | N5: 覆工スパン 番号 | P5: S32
C6: 変状番号 | E6: 2 | N6: 変状番号 | P6: 3
B7: 変状 部位 | C7: 対象箇所 | E7: 覆工 | M7: 変状 部位 | N7: 対象箇所 | P7: 覆工
C8: 部位区分 | E8: 水平打ち継ぎ目（右側） | N8: 部位区分 | P8: 水平打ち継ぎ目（右側）
B9: 変状種類 | E9: うき・はく離 | M9: 変状種類 | P9: うき・はく離
B10: 対策 区分 | C10: 変状区分 | E10: 材質劣化 | M10: 対策 区分 | N10: 変状区分 | P10: 材質劣化
C11: 応急措置前 | E11: － | N11: 応急措置前 | P11: －
C12: 応急措置後 | E12: Ⅱa | N12: 応急措置後 | P12: Ⅱa
B13: 変状の発生範囲及び規模 | E13: 0.15m×1.1m | H13: 前回変状の発生範囲及び規模 | J13: 0.15m×1.1m | M13: 変状の発生範囲及び規模 | P13: 0.1m×0.55m | S13: 前回変状の発生範囲及び規模 | U13: 0.1m×0.55m
B14: 対策履歴 | E14: － | H14: 実施状況（実施日） | J14: － | M14: 対策履歴 | P14: － | S14: 実施状況（実施日） | U14: －
B15: メモ | E15: 0.15m×1.1mのうき・はく離 打音異常あり。引き続き重点的な監視を行い、状況により計画的に対策を講じことが望ましい。 | M15: メモ | P15: 0.1m×0.55mのうき・はく離 打音異常あり。引き続き重点的な監視を行い、状況により計画的に対策を講じことが望ましい。
B16: 写真 番号 | C16: 覆工スパン 番号 | E16: S32 | M16: 写真 番号 | N16: 覆工スパン 番号 | P16: S33
C17: 変状番号 | E17: 4 | N17: 変状番号 | P17: 1
B18: 変状 部位 | C18: 対象箇所 | E18: 覆工 | M18: 変状 部位 | N18: 対象箇所 | P18: 覆工
C19: 部位区分 | E19: 横断目地（左側） | N19: 部位区分 | P19: アーチ（天端）
B20: 変状種類 | E20: 漏水 | M20: 変状種類 | P20: 鋼材腐食
B21: 対策 区分 | C21: 変状区分 | E21: 漏水 | M21: 対策 区分 | N21: 変状区分 | P21: 材質劣化
C22: 応急措置前 | E22: － | N22: 応急措置前 | P22: －
C23: 応急措置後 | E23: Ⅱb | N23: 応急措置後 | P23: Ⅱb
B24: 変状の発生範囲及び規模 | E24: 3.5m×0.5m | H24: 前回変状の発生範囲及び規模 | J24: 3.6m×0.5m | M24: 変状の発生範囲及び規模 | P24: 0.3m×0.3m | S24: 前回変状の発生範囲及び規模 | U24: 0.3m×0.3m
B25: 対策履歴 | E25: － | H25: 実施状況（実施日） | J25: － | M25: 対策履歴 | P25: － | S25: 実施状況（実施日） | U25: －
B26: メモ | E26: 3.5m×0.5mの漏水（にじみ） 利用者にはほとんど影響はないが、日常巡視により監視を行う。 | M26: メモ | P26: 0.3m×0.3mの鋼材腐食 小規模の腐食、日常巡視により監視を行う。
C27: ※ 応急措置後の対策区分について添付すること。また、点検前に 実施された措置によりⅠと判定された箇所も添付すること。 | N27: ※ 変状の発生範囲の規模とは、対策を行う際に参考となる変状の長さや面積をいう。
N28: ※ 応急措置を実施しないで決定した変状の対策区分は、対策区分の応急措置後の欄に記入すること。
C29: ※ たたき落としを実施した場合は、実施後の写真を添付すること。 | N29: ※ 変状の発生範囲の規模は、面積・寸法を記載すること。(ひび割れ幅のみmmとし、その他をm表記とする)
C30: ※ 附属物の取付状態に関する異常写真は別途、任意の書式でとりまとめること。 | N30: ※ 構造用鋼材以外の異物に伴ううき・はく離については、メモ欄に異物の概要を記入すること。

Sheet 様式D-1-1 (42)
B2: ■定期点検記録様式 変状写真台帳【様式D-1-1】 | R2: 施設ID | T2: ='様式A-1'!W2 -> 33.97028,130.94306
B3: フリガナ | E3: ='様式A-1'!D3 -> ムクノトンネル ノボリ | H3: 路 線 名 | J3: ='様式A-1'!J3:O4 -> 山口県道57号下関港線（上り） | M3: 定期点検実施者 | P3: ='様式B (1)'!S3 -> アジア航測株式会社 | S3: 定期点検年月日 | U3: ='様式B (1)'!P2 -> 45892
B4: 名 称 | E4: ='様式A-1'!D4 -> 椋野トンネル（上り） | H4: 管理者名 | J4: ='様式A-1'!R3 -> 山口県 下関土木建築事務所 | P4: ='様式B (5)'!S4 -> 飯田 琢巳
B5: 写真 番号 | C5: 覆工スパン 番号 | E5: S33 | M5: 写真 番号 | N5: 覆工スパン 番号 | P5: S33
C6: 変状番号 | E6: 2 | N6: 変状番号 | P6: 3
B7: 変状 部位 | C7: 対象箇所 | E7: 覆工 | M7: 変状 部位 | N7: 対象箇所 | P7: 覆工
C8: 部位区分 | E8: 水平打ち継ぎ目（左側） | N8: 部位区分 | P8: 水平打ち継ぎ目（右側）
B9: 変状種類 | E9: うき・はく離 | M9: 変状種類 | P9: その他
B10: 対策 区分 | C10: 変状区分 | E10: 材質劣化 | M10: 対策 区分 | N10: 変状区分 | P10: 材質劣化
C11: 応急措置前 | E11: － | N11: 応急措置前 | P11: －
C12: 応急措置後 | E12: Ⅱa | N12: 応急措置後 | P12: Ⅱb
B13: 変状の発生範囲及び規模 | E13: 0.15m×0.3m | H13: 前回変状の発生範囲及び規模 | J13: 0.15m×0.25m | M13: 変状の発生範囲及び規模 | P13: 0.2m×0.5m | S13: 前回変状の発生範囲及び規模 | U13: 0.1m×0.3m
B14: 対策履歴 | E14: － | H14: 実施状況（実施日） | J14: － | M14: 対策履歴 | P14: － | S14: 実施状況（実施日） | U14: －
B15: メモ | E15: 0.15m×0.3mのうき・はく離 打音異常あり。引き続き重点的な監視を行い、状況により計画的に対策を講じことが望ましい。 | M15: メモ | P15: 0.2m×0.5mの豆板 前回からの進行が見られないが、引き続いて監視を行う。
B16: 写真 番号 | C16: 覆工スパン 番号 | E16: S34 | M16: 写真 番号 | N16: 覆工スパン 番号 | P16: S34
C17: 変状番号 | E17: 1 | N17: 変状番号 | P17: 2
B18: 変状 部位 | C18: 対象箇所 | E18: 覆工 | M18: 変状 部位 | N18: 対象箇所 | P18: 覆工
C19: 部位区分 | E19: アーチ（右側） | N19: 部位区分 | P19: アーチ（天端）
B20: 変状種類 | E20: その他 | M20: 変状種類 | P20: 鋼材腐食
B21: 対策 区分 | C21: 変状区分 | E21: 材質劣化 | M21: 対策 区分 | N21: 変状区分 | P21: 材質劣化
C22: 応急措置前 | E22: － | N22: 応急措置前 | P22: －
C23: 応急措置後 | E23: Ⅱb | N23: 応急措置後 | P23: Ⅱb
B24: 変状の発生範囲及び規模 | E24: 0.2m×1.8m | H24: 前回変状の発生範囲及び規模 | J24: 0.2m×1.8m | M24: 変状の発生範囲及び規模 | P24: 0.3m×0.3m | S24: 前回変状の発生範囲及び規模 | U24: 0.3m×0.3m
B25: 対策履歴 | E25: － | H25: 実施状況（実施日） | J25: － | M25: 対策履歴 | P25: － | S25: 実施状況（実施日） | U25: －
B26: メモ | E26: 0.2m×1.8mの豆板 前回からの進行が見られないが、引き続いて監視を行う。 | M26: メモ | P26: 0.3m×0.3mの鋼材腐食 表面的な錆、日常巡視により監視を行う。
C27: ※ 応急措置後の対策区分について添付すること。また、点検前に 実施された措置によりⅠと判定された箇所も添付すること。 | N27: ※ 変状の発生範囲の規模とは、対策を行う際に参考となる変状の長さや面積をいう。
N28: ※ 応急措置を実施しないで決定した変状の対策区分は、対策区分の応急措置後の欄に記入すること。
C29: ※ たたき落としを実施した場合は、実施後の写真を添付すること。 | N29: ※ 変状の発生範囲の規模は、面積・寸法を記載すること。(ひび割れ幅のみmmとし、その他をm表記とする)
C30: ※ 附属物の取付状態に関する異常写真は別途、任意の書式でとりまとめること。 | N30: ※ 構造用鋼材以外の異物に伴ううき・はく離については、メモ欄に異物の概要を記入すること。

Sheet 様式D-1-1 (43)
B2: ■定期点検記録様式 変状写真台帳【様式D-1-1】 | R2: 施設ID | T2: ='様式A-1'!W2 -> 33.97028,130.94306
B3: フリガナ | E3: ='様式A-1'!D3 -> ムクノトンネル ノボリ | H3: 路 線 名 | J3: ='様式A-1'!J3:O4 -> 山口県道57号下関港線（上り） | M3: 定期点検実施者 | P3: ='様式B (1)'!S3 -> アジア航測株式会社 | S3: 定期点検年月日 | U3: ='様式B (1)'!P2 -> 45892
B4: 名 称 | E4: ='様式A-1'!D4 -> 椋野トンネル（上り） | H4: 管理者名 | J4: ='様式A-1'!R3 -> 山口県 下関土木建築事務所 | P4: ='様式B (5)'!S4 -> 飯田 琢巳
B5: 写真 番号 | C5: 覆工スパン 番号 | E5: S34 | M5: 写真 番号 | N5: 覆工スパン 番号 | P5: S34
C6: 変状番号 | E6: 3 | N6: 変状番号 | P6: 4
B7: 変状 部位 | C7: 対象箇所 | E7: 覆工 | M7: 変状 部位 | N7: 対象箇所 | P7: 覆工
C8: 部位区分 | E8: 水平打ち継ぎ目（右側） | N8: 部位区分 | P8: 水平打ち継ぎ目（右側）
B9: 変状種類 | E9: うき・はく離 | M9: 変状種類 | P9: うき・はく離
B10: 対策 区分 | C10: 変状区分 | E10: 材質劣化 | M10: 対策 区分 | N10: 変状区分 | P10: 材質劣化
C11: 応急措置前 | E11: － | N11: 応急措置前 | P11: －
C12: 応急措置後 | E12: Ⅱa | N12: 応急措置後 | P12: Ⅱa
B13: 変状の発生範囲及び規模 | E13: 0.2m×1.0m | H13: 前回変状の発生範囲及び規模 | J13: 0.1m×0.3m | M13: 変状の発生範囲及び規模 | P13: 0.1m×0.2m | S13: 前回変状の発生範囲及び規模 | U13: 0.25m×0.25m
B14: 対策履歴 | E14: － | H14: 実施状況（実施日） | J14: － | M14: 対策履歴 | P14: － | S14: 実施状況（実施日） | U14: －
B15: メモ | E15: 0.2m×1.0mのうき・はく離 打音異常あり。うきに進行がみられ、範囲が拡大している。 引き続き重点的な監視を行い、状況により計画的に対策を講じことが望ましい。 | M15: メモ | P15: 0.1m×0.2mのうき・はく離 打音異常あり。引き続き重点的な監視を行い、状況により計画的に対策を講じことが望ましい。
B16: 写真 番号 | C16: 覆工スパン 番号 | E16: S34 | M16: 写真 番号 | N16: 覆工スパン 番号 | P16: S34
C17: 変状番号 | E17: 5 | N17: 変状番号 | P17: 6
B18: 変状 部位 | C18: 対象箇所 | E18: 覆工 | M18: 変状 部位 | N18: 対象箇所 | P18: 覆工
C19: 部位区分 | E19: 水平打ち継ぎ目（右側） | N19: 部位区分 | P19: アーチ（左側）
B20: 変状種類 | E20: うき・はく離 | M20: 変状種類 | P20: 漏水
B21: 対策 区分 | C21: 変状区分 | E21: 材質劣化 | M21: 対策 区分 | N21: 変状区分 | P21: 漏水
C22: 応急措置前 | E22: － | N22: 応急措置前 | P22: －
C23: 応急措置後 | E23: Ⅱa | N23: 応急措置後 | P23: Ⅱb
B24: 変状の発生範囲及び規模 | E24: 0.2m×1.0m | H24: 前回変状の発生範囲及び規模 | J24: 0.15m×1.1m | M24: 変状の発生範囲及び規模 | P24: 3.2m×0.5m | S24: 前回変状の発生範囲及び規模 | U24: 今回新規変状
B25: 対策履歴 | E25: － | H25: 実施状況（実施日） | J25: － | M25: 対策履歴 | P25: － | S25: 実施状況（実施日） | U25: －
B26: メモ | E26: 0.2m×1.0mのうき・はく離 打音異常あり。引き続き重点的な監視を行い、状況により計画的に対策を講じことが望ましい。 | M26: メモ | P26: 3.2m×0.5mの漏水（にじみ） 利用者にはほとんど影響はないが、日常巡視により監視を行う。
C27: ※ 応急措置後の対策区分について添付すること。また、点検前に 実施された措置によりⅠと判定された箇所も添付すること。 | N27: ※ 変状の発生範囲の規模とは、対策を行う際に参考となる変状の長さや面積をいう。
N28: ※ 応急措置を実施しないで決定した変状の対策区分は、対策区分の応急措置後の欄に記入すること。
C29: ※ たたき落としを実施した場合は、実施後の写真を添付すること。 | N29: ※ 変状の発生範囲の規模は、面積・寸法を記載すること。(ひび割れ幅のみmmとし、その他をm表記とする)
C30: ※ 附属物の取付状態に関する異常写真は別途、任意の書式でとりまとめること。 | N30: ※ 構造用鋼材以外の異物に伴ううき・はく離については、メモ欄に異物の概要を記入すること。

Sheet 様式D-1-1 (44)
B2: ■定期点検記録様式 変状写真台帳【様式D-1-1】 | R2: 施設ID | T2: ='様式A-1'!W2 -> 33.97028,130.94306
B3: フリガナ | E3: ='様式A-1'!D3 -> ムクノトンネル ノボリ | H3: 路 線 名 | J3: ='様式A-1'!J3:O4 -> 山口県道57号下関港線（上り） | M3: 定期点検実施者 | P3: ='様式B (1)'!S3 -> アジア航測株式会社 | S3: 定期点検年月日 | U3: ='様式B (1)'!P2 -> 45892
B4: 名 称 | E4: ='様式A-1'!D4 -> 椋野トンネル（上り） | H4: 管理者名 | J4: ='様式A-1'!R3 -> 山口県 下関土木建築事務所 | P4: ='様式B (5)'!S4 -> 飯田 琢巳
B5: 写真 番号 | C5: 覆工スパン 番号 | E5: S34 | M5: 写真 番号 | N5: 覆工スパン 番号 | P5: S35
C6: 変状番号 | E6: 7 | N6: 変状番号 | P6: 1
B7: 変状 部位 | C7: 対象箇所 | E7: 覆工 | M7: 変状 部位 | N7: 対象箇所 | P7: 覆工
C8: 部位区分 | E8: 水平打ち継ぎ目（右側） | N8: 部位区分 | P8: アーチ（右側）
B9: 変状種類 | E9: 漏水 | M9: 変状種類 | P9: その他
B10: 対策 区分 | C10: 変状区分 | E10: 漏水 | M10: 対策 区分 | N10: 変状区分 | P10: 材質劣化
C11: 応急措置前 | E11: － | N11: 応急措置前 | P11: －
C12: 応急措置後 | E12: Ⅱb | N12: 応急措置後 | P12: Ⅱb
B13: 変状の発生範囲及び規模 | E13: 2.8m×0.5m | H13: 前回変状の発生範囲及び規模 | J13: 今回新規変状 | M13: 変状の発生範囲及び規模 | P13: 0.7m×1.5m | S13: 前回変状の発生範囲及び規模 | U13: 0.6m×1.0m
B14: 対策履歴 | E14: － | H14: 実施状況（実施日） | J14: － | M14: 対策履歴 | P14: － | S14: 実施状況（実施日） | U14: －
B15: メモ | E15: 2.8m×0.5mの漏水跡 利用者にはほとんど影響はないが、日常巡視により監視を行う。 | M15: メモ | P15: 0.7m×1.5mの豆板 前回からの進行が見られないが、引き続いて監視を行う。
B16: 写真 番号 | C16: 覆工スパン 番号 | E16: S35 | M16: 写真 番号 | N16: 覆工スパン 番号 | P16: S35
C17: 変状番号 | E17: 2 | N17: 変状番号 | P17: 3
B18: 変状 部位 | C18: 対象箇所 | E18: 覆工 | M18: 変状 部位 | N18: 対象箇所 | P18: 覆工
C19: 部位区分 | E19: アーチ（天端） | N19: 部位区分 | P19: アーチ（左側）
B20: 変状種類 | E20: 鋼材腐食 | M20: 変状種類 | P20: 漏水
B21: 対策 区分 | C21: 変状区分 | E21: 材質劣化 | M21: 対策 区分 | N21: 変状区分 | P21: 漏水
C22: 応急措置前 | E22: － | N22: 応急措置前 | P22: －
C23: 応急措置後 | E23: Ⅱb | N23: 応急措置後 | P23: Ⅱb
B24: 変状の発生範囲及び規模 | E24: 0.3m×0.3m | H24: 前回変状の発生範囲及び規模 | J24: 0.3m×0.3m | M24: 変状の発生範囲及び規模 | P24: 5.2m×0.5m | S24: 前回変状の発生範囲及び規模 | U24: 4.9m×0.7m
B25: 対策履歴 | E25: － | H25: 実施状況（実施日） | J25: － | M25: 対策履歴 | P25: － | S25: 実施状況（実施日） | U25: －
B26: メモ | E26: 0.3m×0.3mの鋼材腐食 表面的な錆、日常巡視により監視を行う。 | M26: メモ | P26: 5.2m×0.5mの漏水跡 利用者にはほとんど影響はないが、日常巡視により監視を行う。
C27: ※ 応急措置後の対策区分について添付すること。また、点検前に 実施された措置によりⅠと判定された箇所も添付すること。 | N27: ※ 変状の発生範囲の規模とは、対策を行う際に参考となる変状の長さや面積をいう。
N28: ※ 応急措置を実施しないで決定した変状の対策区分は、対策区分の応急措置後の欄に記入すること。
C29: ※ たたき落としを実施した場合は、実施後の写真を添付すること。 | N29: ※ 変状の発生範囲の規模は、面積・寸法を記載すること。(ひび割れ幅のみmmとし、その他をm表記とする)
C30: ※ 附属物の取付状態に関する異常写真は別途、任意の書式でとりまとめること。 | N30: ※ 構造用鋼材以外の異物に伴ううき・はく離については、メモ欄に異物の概要を記入すること。

Sheet 様式D-1-1 (45)
B2: ■定期点検記録様式 変状写真台帳【様式D-1-1】 | R2: 施設ID | T2: ='様式A-1'!W2 -> 33.97028,130.94306
B3: フリガナ | E3: ='様式A-1'!D3 -> ムクノトンネル ノボリ | H3: 路 線 名 | J3: ='様式A-1'!J3:O4 -> 山口県道57号下関港線（上り） | M3: 定期点検実施者 | P3: ='様式B (1)'!S3 -> アジア航測株式会社 | S3: 定期点検年月日 | U3: ='様式B (1)'!P2 -> 45892
B4: 名 称 | E4: ='様式A-1'!D4 -> 椋野トンネル（上り） | H4: 管理者名 | J4: ='様式A-1'!R3 -> 山口県 下関土木建築事務所 | P4: ='様式B (5)'!S4 -> 飯田 琢巳
B5: 写真 番号 | C5: 覆工スパン 番号 | E5: S35 | M5: 写真 番号 | N5: 覆工スパン 番号 | P5: S35
C6: 変状番号 | E6: 4 | N6: 変状番号 | P6: 5
B7: 変状 部位 | C7: 対象箇所 | E7: 覆工 | M7: 変状 部位 | N7: 対象箇所 | P7: 路面
C8: 部位区分 | E8: アーチ（左側） | N8: 部位区分 | P8: 車道
B9: 変状種類 | E9: 漏水 | M9: 変状種類 | P9: その他
B10: 対策 区分 | C10: 変状区分 | E10: 漏水 | M10: 対策 区分 | N10: 変状区分
C11: 応急措置前 | E11: － | N11: 応急措置前
C12: 応急措置後 | E12: Ⅱb | N12: 応急措置後
B13: 変状の発生範囲及び規模 | E13: 4.9m×0.5m | H13: 前回変状の発生範囲及び規模 | J13: 5.1m×0.5m | M13: 変状の発生範囲及び規模 | P13: 0.3m×2.0m | S13: 前回変状の発生範囲及び規模 | U13: 0.3m×2.0m
B14: 対策履歴 | E14: － | H14: 実施状況（実施日） | J14: － | M14: 対策履歴 | P14: － | S14: 実施状況（実施日） | U14: －
B15: メモ | E15: 4.9m×0.5mの漏水（にじみ） 利用者にはほとんど影響はないが、日常巡視により監視を行う。 | M15: メモ | P15: 0.3m×2.0mの滞水（トンネル本体の評価外）
B16: 写真 番号 | C16: 覆工スパン 番号 | E16: S35 | M16: 写真 番号 | N16: 覆工スパン 番号 | P16: S36
C17: 変状番号 | E17: 6 | N17: 変状番号 | P17: 1
B18: 変状 部位 | C18: 対象箇所 | E18: 覆工 | M18: 変状 部位 | N18: 対象箇所 | P18: 覆工
C19: 部位区分 | E19: 横断目地（右側） | N19: 部位区分 | P19: アーチ（左側）
B20: 変状種類 | E20: 漏水 | M20: 変状種類 | P20: その他
B21: 対策 区分 | C21: 変状区分 | E21: 漏水 | M21: 対策 区分 | N21: 変状区分 | P21: 材質劣化
C22: 応急措置前 | E22: － | N22: 応急措置前 | P22: －
C23: 応急措置後 | E23: Ⅱb | N23: 応急措置後 | P23: Ⅱb
