Workbook
Name その他: '(参考)リスト'!$C$47
Name その他施設: '(参考)リスト'!$C$79:$C$83
Name 換気施設: '(参考)リスト'!$C$56:$C$60
Name 坑門: '(参考)リスト'!$C$31:$C$32
Name 照明施設: '(参考)リスト'!$C$52:$C$54
Name 天井板: '(参考)リスト'!$C$37:$C$39
Name 内装板: '(参考)リスト'!$C$34:$C$35
Name 非常用施設: '(参考)リスト'!$C$62:$C$77
Name 覆工: '(参考)リスト'!$C$16:$C$29
Name 路面: '(参考)リスト'!$C$41:$C$45

Sheet 点検様式作成フロー
A1: 点検様式作成フロ-
A3: 作成フロー図 | H3: 点検調書作成手順
H4: ①様式A-1～A-3（トンネル台帳）
H5: トンネル点検の実施にあたっては，現場点検作業に先行してトンネル情報を収集する。トンネル台帳（様式Ａ－1～様式Ａ－3）はトンネル完成後に作成され，維持管理の段階で引き継がれるが，関連資料等を確認したうえで，追加情報があれば必要に応じて追記することが望ましい。
H9: ②様式D-2-1、様式D-2-1´
H10: 現場点検作業を実施し，近接目視点検で確認した変状状況や補修履歴を忠実に変状展開図に転記する。
H12: ③様式D-1-1、様式D-1-2
H13: 変状展開図や撮影した写真等をもとに，対象トンネルの対策区分を決定し，対策区分がⅡ～Ⅳの変状および異常判定区分「×」を抽出し，写真台帳を作成する。
H16: ④様式B
H17: 写真台帳の作成と同時に，トンネルの構造を展開した位置図に変状写真位置を記録する。
H19: ⑤様式D-3
H20: 変状展開図ならびに写真台帳をもとに覆工スパンごとの変状展開図を作成し，変状発生状況をとりまとめる。
H22: ⑥様式E
H23: 近接目視または打音検査，触診ができていない箇所および近接目視によらない方法を講じた場所に対する調査結果を記録する。
... H33: ファイルは以下の分割規則に従う。 ※各ファイルとも （参考）リスト のシートを付けて保存すること。 ・様式A-1～A-3は同一ファイルとする。 ・様式B、D-1-1、D-1-2、D-2-1（もしくはD-2-1'）は別ファイルとする。 ・様式C-1-1、C-1-2、C-2は同一ファイルとする。 ・様式D-3、E、F、Gは同一ファイルとする。

Sheet 変状面積算出方法
A1: 変状面積算出方法
A26: 注1）外力による変状：ひび割れや圧ざの場合は変状の寸法を記録する。
A27: 例）ひび割れ：長さ（L）×最大ひび割れ幅（t）を記録する。 変形，移動，沈下：数値的な記載が可能な場合のみ記載する。
A28: 注2）材料劣化による：打音異常
A29: 例）うき，はく離（閉合ひび割れ）：変状範囲を包括する寸法（L×W） うき，はく離（ひび割れ沿い）：打音異常箇所を包括する寸法（L×W） 鋼材腐食（鉄筋腐食）：一括した対策が適当と考えられる範囲を包括する寸法（L×W）
A30: 注3）漏水による変状：漏水発生範囲を包括し，垂れ下がりの可能性がある側壁下端まで含めた寸法を，L×Wで記録する。打継ぎ目地沿いの 漏水については目地を跨いだ50cm幅を横幅とする。

Sheet 様式A-1
B2: ■トンネル台帳 トンネル諸元、非常用施設諸元 【様式A-1】 | S2: 施設ID | W2: 34.14861,132.16333
B3: フリガナ | D3: モリガハラダイイチトンネル | H3: 路線名 | J3: 岩国大竹線 | P3: 管理者名 | R3: 山口県岩国土木建築事務所 | W3: 緊急輸送道路 | Z3: 指定なし
B4: 名 称 | D4: 森ヶ原第１トンネル | W4: 代替路の有無 | Z4: 無
B5: 所在地 | D5: 自 | E5: 岩国市御庄森ヶ原 | H5: 作成者 | K5: 株式会社エイト日本技術開発 岡根 三千夫 | P5: 作成年月日 | R5: 45651 | U5: トンネル延長 | X5: L= | Z5: 189 | AB5: ｍ
D6: 至 | E6: 岩国市御庄森ヶ原 | U6: ﾄﾝﾈﾙの分類 | X6: 陸上トンネル（掘進工法）
B7: 起点 | C7: 緯度 | E7: 340855 | H7: 完成年月日 | K7: 2018年2月 | M7: 舗装 | O7: 種 別 | Q7: コンクリート | S7: トンネル非常用施設 | T7: 施設の内訳 | X7: 種別・方式 | Y7: 型式 | Z7: 個数 | AA7: 更新年度 | AE7: =INT(E7/10000) -> 34 | AF7: =INT(E7/100)-AE7*100 -> 8 | AG7: =E7-AE7*10000-AF7*100 -> 55 | AH7: =ROUND(AE7+AF7/60+AG7/60/60,5) -> 34.14861 | AI7: =TEXT(AH7,"0.00000") -> 34.14861
C8: 経度 | E8: 1320948 | H8: 供用年月日 | O8: 厚 さ | Q8: 25㎝ | T8: 通報設備 | U8: 通話型通報設備 | X8: - | Y8: - | Z8: 1 | AA8: - | AE8: =INT(E8/10000) -> 132 | AF8: =INT(E8/100)-AE8*100 -> 9 | AG8: =E8-AE8*10000-AF8*100 -> 48 | AH8: =ROUND(AE8+AF8/60+AG8/60/60,5) -> 132.16333 | AI8: =TEXT(AH8,"0.00000") -> 132.16333
B9: 終点 | C9: 緯度 | E9: 320855 | H9: トンネル区分 | K9: B | O9: 面 積 | U9: 操作型通報設備 | X9: - | Y9: - | Z9: 4 | AA9: -
C10: 経度 | E10: 1320948 | H10: 内装種類 | K10: なし | O10: 更新年次 | U10: 自動通報設備 | X10: - | Y10: - | Z10: - | AA10: -
B11: 一般有料区分 | E11: 無料 | H11: 天井板種類 | K11: なし | M11: 排水 | O11: 種 別 | Q11: 薄型円形水路 | T11: 警報設備 | U11: 非常警報設備 | X11: - | Y11: - | Z11: - | AA11: -
B12: 土かぶり | G12: m | H12: 坑門 | I12: 起点 | J12: 形式 | K12: 面壁型 | O12: 更新年次 | T12: 消火設備 | U12: 消 火 器 | X12: - | Y12: - | Z12: 4 | AA12: -
B13: 内空断面積 | E13: 62.342 | G13: m2 | J13: 延長 | L13: m | M13: 施設 | P13: 種別・方式 | Q13: 個数 | R13: 更新年次 | U13: 消火栓設備 | X13: - | Y13: - | Z13: - | AA13: -
B14: 交 通 量 | E14: 7800 | G14: 台/日 | I14: 終点 | J14: 形式 | K14: 面壁型 | M14: 道路附属物等 | N14: 照明 | P14: LED | Q14: 63 | R14: - | T14: 避難誘導設備 | U14: 誘導表示設備 | X14: - | Y14: - | Z14: 1 | AA14: -
C15: 道 路 幅 | E15: 10.75 | G15: m | J15: 延長 | L15: m | N15: 換気 | P15: 自然換気 | U15: 避難情報提供設備 | X15: - | Y15: - | Z15: - | AA15: -
B16: 幅 員 | C16: 車 道 幅 | E16: 3.75 | G16: m | H16: 竣工巻厚 | I16: アーチ | K16: 30㎝～35 | L16: cm | N16: 標識 | P16: - | Q16: - | R16: - | X16: - | Y16: - | Z16: - | AA16: -
E17: 3.75 | G17: m | I17: 側 壁 | K17: 30㎝～35 | L17: cm | N17: 警報表示板 | P17: - | Q17: - | R17: - | U17: 避難通路 | X17: - | Y17: - | Z17: - | AA17: -
C18: 歩道等幅 | E18: 3.25 | G18: m | K18: 30㎝～35 | L18: cm | N18: 吸音板 | P18: - | Q18: - | R18: - | U18: 排煙設備 | X18: - | Y18: - | Z18: - | AA18: -
B19: 高さ | C19: 建築限界高 | E19: 4.5 | G19: m | I19: インバート | K19: 45 | L19: cm | T19: その他の設備 | U19: 給水栓設備 | X19: - | Y19: - | Z19: - | AA19: -
C20: 中央高 | E20: 6.3 | G20: m | H20: 半径 | I20: アーチ | K20: 632 | L20: cm | U20: 無線通信補助設備 | X20: - | Y20: - | Z20: - | AA20: -
C21: 有効高 | E21: 4.5 | G21: m | I21: 側 壁 | K21: 414 | L21: cm | U21: 水噴霧設備 | X21: - | Y21: - | Z21: - | AA21: -
C22: 縦断勾配 | E22: 2.0～3.0% | I22: インバート | K22: 1530 | L22: cm | U22: 監視設備 | X22: - | Y22: - | Z22: - | AA22: -
B23: 線 形 | C23: 直線区間長 | H23: 占用物件 | I23: 種 類 | K23: 寸 法 | M23: 管理者名 | Q23: 更新年次 | S23: 非常用施設 関連設備 | U23: 予備発電設備 | X23: - | Y23: - | Z23: - | AA23: -
C24: 曲線区間 | D24: 区間長 | F24: -
D25: 起点側ｸﾛｿｲﾄﾞ | F25: -
D26: 曲線半径 | F26: -
D27: 終点側ｸﾛｿｲﾄﾞ | F27: - | S27: その他 | U27: 非常駐車帯 | X27: - | Y27: - | Z27: - | AA27: -
B28: トンネル工法 | E28: 山岳トンネル工法（NATM） | U28: 方向転換所 | X28: - | Y28: - | Z28: - | AA28: -
C29: ※緯度・経度については、秒の小数第二位の単位まで記入すること。

Sheet 様式A-2
B3: ■トンネル台帳 トンネル情報一覧表 【様式A-2】
B4: フリガナ | E4: ='様式A-1'!D3 -> モリガハラダイイチトンネル | J4: 路線名 | M4: ='様式A-1'!J3 -> 岩国大竹線 | S4: 作成者 | Y4: ='様式A-1'!K5 -> 株式会社エイト日本技術開発 岡根 三千夫 | AE4: 作成年月日 | AI4: ='様式A-1'!R5 -> 45651
B5: 名 称 | E5: ='様式A-1'!D4 -> 森ヶ原第１トンネル | J5: 管理者名 | M5: ='様式A-1'!R3 -> 山口県岩国土木建築事務所
B6: 覆工 ｽﾊﾟﾝ 番号 | C6: ｽﾊﾟﾝ長 | D6: 追加距離 | F6: トンネル本体工 | K6: 照明施設 | O6: 非常用施設 | AE6: 換気施設 | AK6: その他附属物等
O7: 通報設備 | R7: 警報設備 | S7: 消火設備 | U7: 避難誘導設備 | Y7: その他の設備 | AC7: 特記事項
D8: 起点側 | E8: 終点側 | F8: 特記事項 | I8: 内装板 | J8: 天井板 | K8: 基本照明 | L8: 入口出口照明 | M8: 特記事項 | O8: 通話型通報設備 | P8: 操作型通報設備 | Q8: 自動通報設備 | R8: 非常警報設備 | S8: 消 火 器 | T8: 消火栓設備 | U8: 誘導表示設備 | V8: 避難情報提供設備 | W8: 避難通路 | X8: 排煙設備 | Y8: 給水栓設備 | Z8: 無線通信補助設備 | AA8: 水噴霧設備 | AB8: 監視設備 | AE8: JF | AF8: VI計 | AG8: CO計 | AH8: 風向 風速計 | AI8: 特記事項
C9: (m) | D9: (m) | E9: (m)
B10: PS | C10: 0 | D10: 0 | E10: 0 | F10: 坑門(面壁型)
B11: S1 | C11: 6 | D11: 0 | E11: 6 | K11: ○
B12: S2 | C12: 10.5 | D12: 6 | E12: 16.5 | L12: ○
B13: S3 | C13: 10.5 | D13: 16.5 | E13: 27 | K13: ○ | L13: ○ | O13: ① | P13: ① | T13: ①
B14: S4 | C14: 10.5 | D14: 27 | E14: 37.5 | L14: ○
B15: S5 | C15: 10.5 | D15: 37.5 | E15: 48 | K15: ○ | L15: ○
B16: S6 | C16: 10.3 | D16: 48 | E16: 58.3 | L16: ○
B17: S7 | C17: 10.5 | D17: 58.3 | E17: 68.8 | K17: ○ | L17: ○
B18: S8 | C18: 10.5 | D18: 68.8 | E18: 79.3 | K18: ○ | L18: ○ | P18: ② | T18: ②
B19: S9 | C19: 10.5 | D19: 79.3 | E19: 89.8 | L19: ○
B20: S10 | C20: 10.5 | D20: 89.8 | E20: 100.3 | K20: ○ | L20: ○ | U20: ①
B21: S11 | C21: 10.5 | D21: 100.3 | E21: 110.8 | L21: ○
B22: S12 | C22: 10 | D22: 110.8 | E22: 120.8 | K22: ○ | L22: ○
B23: S13 | C23: 10.1 | D23: 120.8 | E23: 130.9 | K23: ○ | L23: ○ | P23: ③ | T23: ③
B24: S14 | C24: 10 | D24: 130.9 | E24: 140.9 | L24: ○
B25: S15 | C25: 10 | D25: 140.9 | E25: 150.9 | K25: ○ | L25: ○
B26: S16 | C26: 10.1 | D26: 150.9 | E26: 161 | L26: ○
B27: S17 | C27: 10.5 | D27: 161 | E27: 171.5 | K27: ○ | L27: ○
B28: S18 | C28: 10.5 | D28: 171.5 | E28: 182 | L28: ○ | P28: ④ | T28: ④
B29: S19 | C29: 7 | D29: 182 | E29: 189 | K29: ○
B30: PE | C30: 0 | D30: 189 | E30: 189 | F30: 坑門(面壁型)
B42: ※ 行が不足する場合は、適時、表の行を増やすこと。

Sheet 様式A-3
B3: ■トンネル台帳 トンネル記録（位置図、断面図、施工実績他）【様式A-3】
B4: フリガナ | E4: ='様式A-1'!D3 -> モリガハラダイイチトンネル | J4: 路線名 | M4: ='様式A-1'!J3 -> 岩国大竹線 | S4: 作成者 | W4: ='様式A-1'!K5 -> 株式会社エイト日本技術開発 岡根 三千夫 | AC4: 作成年月日 | AF4: ='様式A-1'!R5 -> 45651
B5: 名 称 | E5: ='様式A-1'!D4 -> 森ヶ原第１トンネル | J5: 管理者名 | M5: ='様式A-1'!R3 -> 山口県岩国土木建築事務所
B6: 位置図・現況写真・標準断面図・地質縦断図・施工実績

Sheet 様式B_001
B2: ■定期点検記録様式 トンネル変状・異常箇所写真位置図 【様式B】 | N2: 定期点検年月日 | P2: 2024年10月29日、30日 | S2: 施設ID | V2: 34.14861,132.16333
B3: フリガナ | C3: モリガハラダイイチ | G3: 路線名 | H3: 岩国大竹線 | K3: 管理者名 | L3: 山口県岩国土木建築事務所 | Q3: 定期点検実施者 | S3: 株式会社エイト日本技術開発 | V3: 起点 | W3: 緯度 | X3: 340855
B4: 名 称 | C4: 森ヶ原第１トンネル | S4: 岡根 三千夫 | W4: 経度 | X4: 1320948
B5: 所在地 | C5: 自 | D5: 岩国市御庄森ヶ原 | G5: トンネル工法 | I5: 山岳トンネル工法（NATM） | L5: トンネル延長 | N5: L= | O5: 189 | P5: ｍ | Q5: 自専道 or 一般道 | R5: 一般道 | S5: 代替路の有無 | U5: 有 | V5: 終点 | W5: 緯度 | X5: 320855
C6: 至 | D6: 岩国市御庄森ヶ原 | G6: 建設年度 | I6: 2018年 | L6: 幅員 | N6: L= | O6: 10.75 | P6: ｍ | S6: 緊急輸送道路 | U6: 指定なし | W6: 経度 | X6: 1320948
B7: トンネル毎 の健全性の 診断の区分 | D7: Ⅰ
G8: 変状・異常 箇所数合計 | I8: トンネル本体工 | J8: 材質劣化 | K8: Ⅱ | L8: 0 | N8: Ⅲ | O8: 0 | Q8: Ⅳ | R8: 0 | T8: 附属物等 の取付状態 | V8: ◯ （応急措置後) | X8: 0
J9: 漏水 | K9: Ⅱ | L9: 0 | N9: Ⅲ | O9: 0 | Q9: Ⅳ | R9: 0
V10: ✕ | X10: 0
J11: 外力 | K11: Ⅱ | L11: 0 | N11: 0 | O11: 0 | Q11: Ⅳ | R11: 0
B12: トンネル変状・異常箇所写真位置図
J29: 注１：本位置図は、見下げた状態で記載すること。 注２：覆工スパン番号は横断目地毎(矢板工法の場合は上半アーチの 横断目地毎)に設定すること。 | Q29: 注３：写真番号に付する変状番号は、各覆工スパンの変状に対して新たに確認された場合 は順次追加していくこと。 注４：横断目地の変状は前の覆工スパン番号で計上すること。 注５：１枚に収まらない場合は、複数枚に分けて作成すること。
C30: ※1 トンネル本体工の変状数は、材質劣化、漏水に起因するものは変状単位で、外力に起因するものはスパン単位で計上すること。
C31: ※2 トンネル本体工の変状に対しては、措置の必要性（Ⅱ～Ⅳ）について表記すること。また、点検前に実施された措置によりⅠと判定された箇所についても記載すること。
C32: ※3 附属物等の取付状態の○欄については、応急措置前に判定区分×とした箇所のうち応急措置により○判定とした箇所の数を記入すること。
C33: ※4 附属物等の異常番号は、本体工と番号が重複しないよう101番以降とする等の配慮を行い、分かりやすく記録すること。

Sheet 様式B_002
B2: ■定期点検記録様式 トンネル変状・異常箇所写真位置図 【様式B】 | N2: 定期点検年月日 | P2: 2024年10月29日、30日 | S2: 施設ID | V2: 34.14861,132.16333
B3: フリガナ | C3: モリガハラダイイチ | G3: 路線名 | H3: 岩国大竹線 | K3: 管理者名 | L3: 山口県岩国土木建築事務所 | Q3: 定期点検実施者 | S3: 株式会社エイト日本技術開発 | V3: 起点 | W3: 緯度 | X3: 340855
B4: 名 称 | C4: 森ヶ原第１トンネル | S4: 岡根 三千夫 | W4: 経度 | X4: 1320948
B5: 所在地 | C5: 自 | D5: 岩国市御庄森ヶ原 | G5: トンネル工法 | I5: 山岳トンネル工法（NATM） | L5: トンネル延長 | N5: L= | O5: 189 | P5: ｍ | Q5: 自専道 or 一般道 | R5: 一般道 | S5: 代替路の有無 | U5: 有 | V5: 終点 | W5: 緯度 | X5: 320855
C6: 至 | D6: 岩国市御庄森ヶ原 | G6: 建設年度 | I6: 2018年 | L6: 幅員 | N6: L= | O6: 10.75 | P6: ｍ | S6: 緊急輸送道路 | U6: 指定なし | W6: 経度 | X6: 1320948
B7: トンネル毎 の健全性の 診断の区分 | D7: Ⅰ
G8: 変状・異常 箇所数合計 | I8: トンネル本体工 | J8: 材質劣化 | K8: Ⅱ | L8: 0 | N8: Ⅲ | O8: 0 | Q8: Ⅳ | R8: 0 | T8: 附属物等 の取付状態 | V8: ◯ （応急措置後) | X8: 0
J9: 漏水 | K9: Ⅱ | L9: 0 | N9: Ⅲ | O9: 0 | Q9: Ⅳ | R9: 0
V10: ✕ | X10: 0
J11: 外力 | K11: Ⅱ | L11: 0 | N11: 0 | O11: 0 | Q11: Ⅳ | R11: 0
B12: トンネル変状・異常箇所写真位置図
J29: 注１：本位置図は、見下げた状態で記載すること。 注２：覆工スパン番号は横断目地毎(矢板工法の場合は上半アーチの 横断目地毎)に設定すること。 | Q29: 注３：写真番号に付する変状番号は、各覆工スパンの変状に対して新たに確認された場合 は順次追加していくこと。 注４：横断目地の変状は前の覆工スパン番号で計上すること。 注５：１枚に収まらない場合は、複数枚に分けて作成すること。
C30: ※1 トンネル本体工の変状数は、材質劣化、漏水に起因するものは変状単位で、外力に起因するものはスパン単位で計上すること。
C31: ※2 トンネル本体工の変状に対しては、措置の必要性（Ⅱ～Ⅳ）について表記すること。また、点検前に実施された措置によりⅠと判定された箇所についても記載すること。
C32: ※3 附属物等の取付状態の○欄については、応急措置前に判定区分×とした箇所のうち応急措置により○判定とした箇所の数を記入すること。
C33: ※4 附属物等の異常番号は、本体工と番号が重複しないよう101番以降とする等の配慮を行い、分かりやすく記録すること。

Sheet 様式B_003
B2: ■定期点検記録様式 トンネル変状・異常箇所写真位置図 【様式B】 | N2: 定期点検年月日 | P2: 2024年10月29日、30日 | S2: 施設ID | V2: 34.14861,132.16333
B3: フリガナ | C3: モリガハラダイイチ | G3: 路線名 | H3: 岩国大竹線 | K3: 管理者名 | L3: 山口県岩国土木建築事務所 | Q3: 定期点検実施者 | S3: 株式会社エイト日本技術開発 | V3: 起点 | W3: 緯度 | X3: 340855
B4: 名 称 | C4: 森ヶ原第１トンネル | S4: 岡根 三千夫 | W4: 経度 | X4: 1320948
B5: 所在地 | C5: 自 | D5: 岩国市御庄森ヶ原 | G5: トンネル工法 | I5: 山岳トンネル工法（NATM） | L5: トンネル延長 | N5: L= | O5: 189 | P5: ｍ | Q5: 自専道 or 一般道 | R5: 一般道 | S5: 代替路の有無 | U5: 有 | V5: 終点 | W5: 緯度 | X5: 320855
C6: 至 | D6: 岩国市御庄森ヶ原 | G6: 建設年度 | I6: 2018年 | L6: 幅員 | N6: L= | O6: 10.75 | P6: ｍ | S6: 緊急輸送道路 | U6: 指定なし | W6: 経度 | X6: 1320948
B7: トンネル毎 の健全性の 診断の区分 | D7: Ⅰ
G8: 変状・異常 箇所数合計 | I8: トンネル本体工 | J8: 材質劣化 | K8: Ⅱ | L8: 0 | N8: Ⅲ | O8: 0 | Q8: Ⅳ | R8: 0 | T8: 附属物等 の取付状態 | V8: ◯ （応急措置後) | X8: 0
J9: 漏水 | K9: Ⅱ | L9: 0 | N9: Ⅲ | O9: 0 | Q9: Ⅳ | R9: 0
V10: ✕ | X10: 0
J11: 外力 | K11: Ⅱ | L11: 0 | N11: 0 | O11: 0 | Q11: Ⅳ | R11: 0
B12: トンネル変状・異常箇所写真位置図
J29: 注１：本位置図は、見下げた状態で記載すること。 注２：覆工スパン番号は横断目地毎(矢板工法の場合は上半アーチの 横断目地毎)に設定すること。 | Q29: 注３：写真番号に付する変状番号は、各覆工スパンの変状に対して新たに確認された場合 は順次追加していくこと。 注４：横断目地の変状は前の覆工スパン番号で計上すること。 注５：１枚に収まらない場合は、複数枚に分けて作成すること。
C30: ※1 トンネル本体工の変状数は、材質劣化、漏水に起因するものは変状単位で、外力に起因するものはスパン単位で計上すること。
C31: ※2 トンネル本体工の変状に対しては、措置の必要性（Ⅱ～Ⅳ）について表記すること。また、点検前に実施された措置によりⅠと判定された箇所についても記載すること。
C32: ※3 附属物等の取付状態の○欄については、応急措置前に判定区分×とした箇所のうち応急措置により○判定とした箇所の数を記入すること。
C33: ※4 附属物等の異常番号は、本体工と番号が重複しないよう101番以降とする等の配慮を行い、分かりやすく記録すること。

Sheet 様式B_004
B2: ■定期点検記録様式 トンネル変状・異常箇所写真位置図 【様式B】 | N2: 定期点検年月日 | P2: 2024年10月29日、30日 | S2: 施設ID | V2: 34.14861,132.16333
B3: フリガナ | C3: モリガハラダイイチ | G3: 路線名 | H3: 岩国大竹線 | K3: 管理者名 | L3: 山口県岩国土木建築事務所 | Q3: 定期点検実施者 | S3: 株式会社エイト日本技術開発 | V3: 起点 | W3: 緯度 | X3: 340855
B4: 名 称 | C4: 森ヶ原第１トンネル | S4: 岡根 三千夫 | W4: 経度 | X4: 1320948
B5: 所在地 | C5: 自 | D5: 岩国市御庄森ヶ原 | G5: トンネル工法 | I5: 山岳トンネル工法（NATM） | L5: トンネル延長 | N5: L= | O5: 189 | P5: ｍ | Q5: 自専道 or 一般道 | R5: 一般道 | S5: 代替路の有無 | U5: 有 | V5: 終点 | W5: 緯度 | X5: 320855
C6: 至 | D6: 岩国市御庄森ヶ原 | G6: 建設年度 | I6: 2018年 | L6: 幅員 | N6: L= | O6: 10.75 | P6: ｍ | S6: 緊急輸送道路 | U6: 指定なし | W6: 経度 | X6: 1320948
B7: トンネル毎 の健全性の 診断の区分 | D7: Ⅰ
G8: 変状・異常 箇所数合計 | I8: トンネル本体工 | J8: 材質劣化 | K8: Ⅱ | L8: 0 | N8: Ⅲ | O8: 0 | Q8: Ⅳ | R8: 0 | T8: 附属物等 の取付状態 | V8: ◯ （応急措置後) | X8: 0
J9: 漏水 | K9: Ⅱ | L9: 0 | N9: Ⅲ | O9: 0 | Q9: Ⅳ | R9: 0
V10: ✕ | X10: 0
J11: 外力 | K11: Ⅱ | L11: 0 | N11: 0 | O11: 0 | Q11: Ⅳ | R11: 0
B12: トンネル変状・異常箇所写真位置図
J29: 注１：本位置図は、見下げた状態で記載すること。 注２：覆工スパン番号は横断目地毎(矢板工法の場合は上半アーチの 横断目地毎)に設定すること。 | Q29: 注３：写真番号に付する変状番号は、各覆工スパンの変状に対して新たに確認された場合 は順次追加していくこと。 注４：横断目地の変状は前の覆工スパン番号で計上すること。 注５：１枚に収まらない場合は、複数枚に分けて作成すること。
C30: ※1 トンネル本体工の変状数は、材質劣化、漏水に起因するものは変状単位で、外力に起因するものはスパン単位で計上すること。
C31: ※2 トンネル本体工の変状に対しては、措置の必要性（Ⅱ～Ⅳ）について表記すること。また、点検前に実施された措置によりⅠと判定された箇所についても記載すること。
C32: ※3 附属物等の取付状態の○欄については、応急措置前に判定区分×とした箇所のうち応急措置により○判定とした箇所の数を記入すること。
C33: ※4 附属物等の異常番号は、本体工と番号が重複しないよう101番以降とする等の配慮を行い、分かりやすく記録すること。

Sheet 様式B_005
B2: ■定期点検記録様式 トンネル変状・異常箇所写真位置図 【様式B】 | N2: 定期点検年月日 | P2: 2024年10月29日、30日 | S2: 施設ID | V2: 34.14861,132.16333
B3: フリガナ | C3: モリガハラダイイチ | G3: 路線名 | H3: 岩国大竹線 | K3: 管理者名 | L3: 山口県岩国土木建築事務所 | Q3: 定期点検実施者 | S3: 株式会社エイト日本技術開発 | V3: 起点 | W3: 緯度 | X3: 340855
B4: 名 称 | C4: 森ヶ原第１トンネル | S4: 岡根 三千夫 | W4: 経度 | X4: 1320948
B5: 所在地 | C5: 自 | D5: 岩国市御庄森ヶ原 | G5: トンネル工法 | I5: 山岳トンネル工法（NATM） | L5: トンネル延長 | N5: L= | O5: 189 | P5: ｍ | Q5: 自専道 or 一般道 | R5: 一般道 | S5: 代替路の有無 | U5: 有 | V5: 終点 | W5: 緯度 | X5: 320855
C6: 至 | D6: 岩国市御庄森ヶ原 | G6: 建設年度 | I6: 2018年 | L6: 幅員 | N6: L= | O6: 10.75 | P6: ｍ | S6: 緊急輸送道路 | U6: 指定なし | W6: 経度 | X6: 1320948
B7: トンネル毎 の健全性の 診断の区分 | D7: Ⅰ
G8: 変状・異常 箇所数合計 | I8: トンネル本体工 | J8: 材質劣化 | K8: Ⅱ | L8: 0 | N8: Ⅲ | O8: 0 | Q8: Ⅳ | R8: 0 | T8: 附属物等 の取付状態 | V8: ◯ （応急措置後) | X8: 0
J9: 漏水 | K9: Ⅱ | L9: 0 | N9: Ⅲ | O9: 0 | Q9: Ⅳ | R9: 0
V10: ✕ | X10: 0
J11: 外力 | K11: Ⅱ | L11: 0 | N11: 0 | O11: 0 | Q11: Ⅳ | R11: 0
B12: トンネル変状・異常箇所写真位置図
J29: 注１：本位置図は、見下げた状態で記載すること。 注２：覆工スパン番号は横断目地毎(矢板工法の場合は上半アーチの 横断目地毎)に設定すること。 | Q29: 注３：写真番号に付する変状番号は、各覆工スパンの変状に対して新たに確認された場合 は順次追加していくこと。 注４：横断目地の変状は前の覆工スパン番号で計上すること。 注５：１枚に収まらない場合は、複数枚に分けて作成すること。
C30: ※1 トンネル本体工の変状数は、材質劣化、漏水に起因するものは変状単位で、外力に起因するものはスパン単位で計上すること。
C31: ※2 トンネル本体工の変状に対しては、措置の必要性（Ⅱ～Ⅳ）について表記すること。また、点検前に実施された措置によりⅠと判定された箇所についても記載すること。
C32: ※3 附属物等の取付状態の○欄については、応急措置前に判定区分×とした箇所のうち応急措置により○判定とした箇所の数を記入すること。
C33: ※4 附属物等の異常番号は、本体工と番号が重複しないよう101番以降とする等の配慮を行い、分かりやすく記録すること。

Sheet 様式C-1-1
B2: ■定期点検記録様式 全スパン定期点検結果総括表（トンネル本体工） 【様式C-1-1】
B3: フリガナ | F3: モリガハラダイイチトンネル | I3: 路線名 | K3: 岩国大竹線 | O3: 定期点検実施者 | P3: 株式会社エイト日本技術開発 | T3: 定期点検年月日 | X3: 2024年10月29日、30日
B4: 名 称 | F4: 森ヶ原第１トンネル | I4: 管理者名 | K4: 山口県岩国土木建築事務所 | P4: 岡根 三千夫
B5: 定期点検結果 | C5: 覆工 スパン 番号 | E5: 変状 番号 | F5: 距離 （m） | G5: 変状部位 | I5: 変 状 の 内 容 | O5: 前回定期点検時の状態 | P5: 今回定期点検結果 | T5: 措置履歴 | Y5: 対応方針 ・ 特記事項
G7: 対象箇所 | H7: 部位区分 | I7: 変状区分 | J7: 変状種類 | M7: 変状の発生範囲の規模 | N7: 前回定期点検時の変状の発生範囲及び規模 | O7: 対策区分 | P7: 対策区分 | R7: 調査の 要否 | S7: 措置の 要否 | T7: 実施 | U7: 措置の実施状況
P8: 応急措置前 | Q8: 応急措置後
C40: ※ 対策区分（応急措置後）のⅡb～Ⅳについて記入すること。また、点検前に実施された措置によりⅠと判定された変状も記入すること。
C41: ※ 応急措置を実施しないで判定した変状の対策区分は、対策区分の応急措置後の欄に記入すること。
C42: ※ 変状の除去が不完全で、緊急対応が必要な場合は対応方針欄に記入すること。
C43: ※ １区間の覆工に複数の変状がある場合は、変状箇所毎に記入すること。
C44: ※ 措置・監視点検を行った場合には、措置履歴、特記事項に記録を残すこと。（実施年度も記載）
C45: ※ 行が不足する場合は、適時、表の行を増やすこと。

Sheet 様式C-1-2
B2: ■定期点検記録様式 定期点検結果総括表（トンネル内附属物等の取付状態） 【様式C-1-2】
B3: フリガナ | F3: モリガハラダイイチトンネル | J3: 路線名 | K3: 岩国大竹線 | M3: 定期点検実施者 | O3: 株式会社エイト日本技術開発 | S3: 定期点検年月日 | W3: 2024年10月29日、30日
B4: 名 称 | F4: 森ヶ原第１トンネル | J4: 管理者名 | K4: 山口県岩国土木建築事務所 | O4: 岡根 三千夫
B5: 定期点検結果 | C5: 覆工 スパン 番号 | E5: 異常 番号 | F5: 距離 （m） | G5: 異常部位 | J5: 異 常 の 内 容 | N5: 定期点検結果 | P5: 応急措置の 実施状況 | V5: 対応方針 ・ 特記事項
G6: 対象箇所 | I6: 部位区分 | J6: 異常種類 | L6: 異常の発生範囲の規模 | N6: 異常判定区分 | P6: 実施 | Q6: 応急措置の内容
N7: 応急措置前 | O7: 応急措置後
C42: ※ 異常判定区分×について記入すること。また、応急措置により○と判定された箇所も記入すること。
C43: ※ 応急措置を実施しないで判定した箇所の異常判定区分は、異常判定区分の応急措置後の欄に記入すること。
C44: ※ 異常の除去が不完全で、緊急対応が必要な場合は対応方針欄に記入すること。
C45: ※ １スパンの覆工に複数の異常がある場合は、異常箇所毎に記入すること。
C46: ※ 行が不足する場合は、適時、表の行を増やすこと。

Sheet 様式C-2
B2: ■定期点検記録様式 状態の把握の内容 【様式C-2】
B3: フリガナ | E3: モリガハラダイイチトンネル | H3: 路線名 | J3: 岩国大竹線 | M3: 定期点検実施者 | Q3: 株式会社エイト日本技術開発 | U3: 定期点検年月日 | X3: 2024年10月29日、30日
B4: 名 称 | E4: 森ヶ原第１トンネル | H4: 管理者名 | J4: 山口県岩国土木建築事務所 | Q4: 岡根 三千夫
B5: 状態の把握の内容 | C5: 覆工スパン 番号 | E5: 変状 番号 | F5: 状態の把握の内容
F6: 年月日 | H6: 内容 | O6: 結果 | Y6: 対策区分の 判定
B22: 注）状態の把握において、微破壊・非破壊検査や各種試験等を実施した場合について記載する。
B23: ※ 行が不足する場合は、適時、表の行を増やすこと。

Sheet 様式D-1-1
B2: ■定期点検記録様式 変状写真台帳【様式D-1-1】 | R2: 施設ID | T2: 34.14861,132.16333
B3: フリガナ | E3: モリガハラダイイチトンネル | H3: 路 線 名 | J3: 岩国大竹線 | M3: 定期点検実施者 | P3: 株式会社エイト日本技術開発 | S3: 定期点検年月日 | U3: 2024年10月29日、30日
B4: 名 称 | E4: 森ヶ原第１トンネル | H4: 管理者名 | J4: 山口県岩国土木建築事務所 | P4: 岡根 三千夫
B5: 写真 番号 | C5: 覆工スパン 番号 | M5: 写真 番号 | N5: 覆工スパン 番号
C6: 変状番号 | N6: 変状番号
B7: 変状 部位 | C7: 対象箇所 | M7: 変状 部位 | N7: 対象箇所
C8: 部位区分 | N8: 部位区分
B9: 変状種類 | M9: 変状種類
B10: 対策 区分 | C10: 変状区分 | M10: 対策 区分 | N10: 変状区分
C11: 応急措置前 | N11: 応急措置前
C12: 応急措置後 | N12: 応急措置後
B13: 変状の発生範囲及び規模 | H13: 前回変状の発生範囲及び規模 | M13: 変状の発生範囲及び規模 | S13: 前回変状の発生範囲及び規模
B14: 対策履歴 | H14: 実施状況（実施日） | M14: 対策履歴 | S14: 実施状況（実施日）
B15: メモ | M15: メモ
B16: 写真 番号 | C16: 覆工スパン 番号 | M16: 写真 番号 | N16: 覆工スパン 番号
C17: 変状番号 | N17: 変状番号
B18: 変状 部位 | C18: 対象箇所 | M18: 変状 部位 | N18: 対象箇所
C19: 部位区分 | N19: 部位区分
B20: 変状種類 | M20: 変状種類
B21: 対策 区分 | C21: 変状区分 | M21: 対策 区分 | N21: 変状区分
C22: 応急措置前 | N22: 応急措置前
C23: 応急措置後 | N23: 応急措置後
B24: 変状の発生範囲及び規模 | H24: 前回変状の発生範囲及び規模 | M24: 変状の発生範囲及び規模 | S24: 前回変状の発生範囲及び規模
B25: 対策履歴 | H25: 実施状況（実施日） | M25: 対策履歴 | S25: 実施状況（実施日）
B26: メモ | M26: メモ
C27: ※ 応急措置後の対策区分について添付すること。また、点検前に 実施された措置によりⅠと判定された箇所も添付すること。 | N27: ※ 変状の発生範囲の規模とは、対策を行う際に参考となる変状の長さや面積をいう。
N28: ※ 応急措置を実施しないで決定した変状の対策区分は、対策区分の応急措置後の欄に記入すること。
C29: ※ たたき落としを実施した場合は、実施後の写真を添付すること。 | N29: ※ 変状の発生範囲の規模は、面積・寸法を記載すること。(ひび割れ幅のみmmとし、その他をm表記とする)
C30: ※ 附属物の取付状態に関する異常写真は別途、任意の書式でとりまとめること。 | N30: ※ 構造用鋼材以外の異物に伴ううき・はく離については、メモ欄に異物の概要を記入すること。

Sheet 様式D-1-2
B2: ■定期点検記録様式 異常写真台帳（トンネル内附属物等の取付状態） 【様式D-1-2】
B3: フリガナ | E3: モリガハラダイイチトンネル | I3: 路 線 名 | L3: 岩国大竹線 | O3: 定期点検実施者 | R3: 株式会社エイト日本技術開発 | U3: 定期点検年月日 | W3: 2024年10月29日、30日
B4: 名 称 | E4: 森ヶ原第１トンネル | I4: 管理者名 | L4: 山口県岩国土木建築事務所 | R4: 岡根 三千夫
B5: 覆工スパン番号 | F5: 異常番号 | J5: 覆工スパン番号 | N5: 異常番号 | R5: 覆工スパン番号 | V5: 異常番号
B6: 対象箇所 | J6: 対象箇所 | R6: 対象箇所
B7: 部位区分 | F7: 異常の種類 | J7: 部位区分 | N7: 異常の種類 | R7: 部位区分 | V7: 異常の種類
B8: 異常判定区分 | E8: メモ | J8: 異常判定区分 | M8: メモ | R8: 異常判定区分 | U8: メモ
B22: 覆工スパン番号 | F22: 異常番号 | J22: 覆工スパン番号 | N22: 異常番号 | R22: 覆工スパン番号 | V22: 異常番号
B23: 対象箇所 | J23: 対象箇所 | R23: 対象箇所
B24: 部位区分 | F24: 異常の種類 | J24: 部位区分 | N24: 異常の種類 | R24: 部位区分 | V24: 異常の種類
B25: 異常判定区分 | E25: メモ | J25: 異常判定区分 | M25: メモ | R25: 異常判定区分 | U25: メモ
C39: ※ 異常判定区分×について記入すること。また、応急措置前に異常判定区分×とした箇所のうち応急措置により○と判定した箇所も記入すること。
C40: ※ 応急措置を実施した場合は、その実施状況が分かる写真を添付すること。
C41: ※ 変状数に準じてシートを追加すること。

Sheet 様式D-2-1_001
B3: ■定期点検記録様式 トンネル全体変状展開図 【様式D-2-1】
B4: フリガナ | E4: モリガハラダイイチトンネル | J4: 路線名 | M4: 岩国大竹線 | S4: 定期点検実施者 | W4: 株式会社エイト日本技術開発 | AC4: 定期点検年月日 | AF4: 2024年10月29日、30日
B5: 名 称 | E5: 森ヶ原第１トンネル | J5: 管理者名 | M5: 山口県岩国土木建築事務所 | W5: 岡根 三千夫
B6: トンネル変状展開図 | C6: トンネル全体変状展開図
V18: 注１：本展開図は、見下げた状態で記載すること。 注２：覆工スパン番号は横断目地毎（矢板工法の場合は上半アーチ の横断目地毎)に設定すること。 注３：横断目地の変状は前の覆工スパン番号で計上すること。 注４：１枚に収まらない場合は、複数枚に分けて作成すること。

Sheet 様式D-2-1_002
B3: ■定期点検記録様式 トンネル全体変状展開図 【様式D-2-1】
B4: フリガナ | E4: モリガハラダイイチトンネル | J4: 路線名 | M4: 岩国大竹線 | S4: 定期点検実施者 | W4: 株式会社エイト日本技術開発 | AC4: 定期点検年月日 | AF4: 2024年10月29日、30日
B5: 名 称 | E5: 森ヶ原第１トンネル | J5: 管理者名 | M5: 山口県岩国土木建築事務所 | W5: 岡根 三千夫
B6: トンネル変状展開図 | C6: トンネル全体変状展開図
V18: 注１：本展開図は、見下げた状態で記載すること。 注２：覆工スパン番号は横断目地毎（矢板工法の場合は上半アーチ の横断目地毎)に設定すること。 注３：横断目地の変状は前の覆工スパン番号で計上すること。 注４：１枚に収まらない場合は、複数枚に分けて作成すること。

Sheet 様式D-2-1_003
B3: ■定期点検記録様式 トンネル全体変状展開図 【様式D-2-1】
B4: フリガナ | E4: モリガハラダイイチトンネル | J4: 路線名 | M4: 岩国大竹線 | S4: 定期点検実施者 | W4: 株式会社エイト日本技術開発 | AC4: 定期点検年月日 | AF4: 2024年10月29日、30日
B5: 名 称 | E5: 森ヶ原第１トンネル | J5: 管理者名 | M5: 山口県岩国土木建築事務所 | W5: 岡根 三千夫
B6: トンネル変状展開図 | C6: トンネル全体変状展開図
V18: 注１：本展開図は、見下げた状態で記載すること。 注２：覆工スパン番号は横断目地毎（矢板工法の場合は上半アーチ の横断目地毎)に設定すること。 注３：横断目地の変状は前の覆工スパン番号で計上すること。 注４：１枚に収まらない場合は、複数枚に分けて作成すること。

Sheet 様式D-2-1_004
B3: ■定期点検記録様式 トンネル全体変状展開図 【様式D-2-1】
B4: フリガナ | E4: モリガハラダイイチトンネル | J4: 路線名 | M4: 岩国大竹線 | S4: 定期点検実施者 | W4: 株式会社エイト日本技術開発 | AC4: 定期点検年月日 | AF4: 2024年10月29日、30日
B5: 名 称 | E5: 森ヶ原第１トンネル | J5: 管理者名 | M5: 山口県岩国土木建築事務所 | W5: 岡根 三千夫
B6: トンネル変状展開図 | C6: トンネル全体変状展開図
V18: 注１：本展開図は、見下げた状態で記載すること。 注２：覆工スパン番号は横断目地毎（矢板工法の場合は上半アーチ の横断目地毎)に設定すること。 注３：横断目地の変状は前の覆工スパン番号で計上すること。 注４：１枚に収まらない場合は、複数枚に分けて作成すること。

Sheet 様式D-2-1_005
B3: ■定期点検記録様式 トンネル全体変状展開図 【様式D-2-1】
B4: フリガナ | E4: モリガハラダイイチトンネル | J4: 路線名 | M4: 岩国大竹線 | S4: 定期点検実施者 | W4: 株式会社エイト日本技術開発 | AC4: 定期点検年月日 | AF4: 2024年10月29日、30日
B5: 名 称 | E5: 森ヶ原第１トンネル | J5: 管理者名 | M5: 山口県岩国土木建築事務所 | W5: 岡根 三千夫
B6: トンネル変状展開図 | C6: トンネル全体変状展開図
V18: 注１：本展開図は、見下げた状態で記載すること。 注２：覆工スパン番号は横断目地毎（矢板工法の場合は上半アーチ の横断目地毎)に設定すること。 注３：横断目地の変状は前の覆工スパン番号で計上すること。 注４：１枚に収まらない場合は、複数枚に分けて作成すること。

Sheet 様式D-2-1´_001
B3: ■定期点検記録様式 トンネル全体変状展開図（機器の活用時） 【様式D-2-1’】
B4: フリガナ | E4: モリガハラダイイチトンネル | J4: 路線名 | M4: 岩国大竹線 | S4: 定期点検実施者 | W4: 株式会社エイト日本技術開発 | AC4: 定期点検年月日 | AF4: 2024年10月29日、30日
B5: 名 称 | E5: 森ヶ原第１トンネル | J5: 管理者名 | M5: 山口県岩国土木建築事務所 | W5: 岡根 三千夫
B6: トンネル変状展開図 | C6: トンネル全体変状展開図
V18: 注１：本展開図は、見下げた状態で記載すること。 注２：覆工スパン番号は横断目地毎（矢板工法の場合は上半アーチ の横断目地毎)に設定すること。 注３：横断目地の変状は前の覆工スパン番号で計上すること。 注４：１枚に収まらない場合は、複数枚に分けて作成すること。

Sheet 様式D-2-1´_002
B3: ■定期点検記録様式 トンネル全体変状展開図（機器の活用時） 【様式D-2-1’】
B4: フリガナ | E4: モリガハラダイイチトンネル | J4: 路線名 | M4: 岩国大竹線 | S4: 定期点検実施者 | W4: 株式会社エイト日本技術開発 | AC4: 定期点検年月日 | AF4: 2024年10月29日、30日
B5: 名 称 | E5: 森ヶ原第１トンネル | J5: 管理者名 | M5: 山口県岩国土木建築事務所 | W5: 岡根 三千夫
B6: トンネル変状展開図 | C6: トンネル全体変状展開図
V18: 注１：本展開図は、見下げた状態で記載すること。 注２：覆工スパン番号は横断目地毎（矢板工法の場合は上半アーチ の横断目地毎)に設定すること。 注３：横断目地の変状は前の覆工スパン番号で計上すること。 注４：１枚に収まらない場合は、複数枚に分けて作成すること。

Sheet 様式D-2-1´_003
B3: ■定期点検記録様式 トンネル全体変状展開図（機器の活用時） 【様式D-2-1’】
B4: フリガナ | E4: モリガハラダイイチトンネル | J4: 路線名 | M4: 岩国大竹線 | S4: 定期点検実施者 | W4: 株式会社エイト日本技術開発 | AC4: 定期点検年月日 | AF4: 2024年10月29日、30日
B5: 名 称 | E5: 森ヶ原第１トンネル | J5: 管理者名 | M5: 山口県岩国土木建築事務所 | W5: 岡根 三千夫
B6: トンネル変状展開図 | C6: トンネル全体変状展開図
V18: 注１：本展開図は、見下げた状態で記載すること。 注２：覆工スパン番号は横断目地毎（矢板工法の場合は上半アーチ の横断目地毎)に設定すること。 注３：横断目地の変状は前の覆工スパン番号で計上すること。 注４：１枚に収まらない場合は、複数枚に分けて作成すること。

Sheet 様式D-3_PS
AU1: 様式F用→ | AV1: 覆工スパン | AY1: 変 状 数 | BK1: 変 状 規 模
AV2: 番号 | AW2: 延長 （ｍ） | AX2: 健全性の診断の 区分 | AY2: 対策区分の判定 | BK2: 覆工スパン長（ｍ） | BO2: 変状の発生範囲の規模（㎡）
B3: ■定期点検記録様式 覆工スパン別変状詳細展開図 【様式D-3】 | AY3: 外力 | BC3: 材質劣化 | BG3: 漏水 | BK3: 外力 注2 | BO3: 材質劣化 | BS3: 漏水
B4: フリガナ | E4: モリガハラダイイチトンネル | K4: 路線名 | N4: 岩国大竹線 | T4: 定期点検実施者 | Y4: 株式会社エイト日本技術開発 | AG4: 定期点検年月日 | AK4: 2024年10月29日、30日 | AY4: Ⅳ | AZ4: Ⅲ | BA4: Ⅱa | BB4: Ⅱb | BC4: Ⅳ | BD4: Ⅲ | BE4: Ⅱa | BF4: Ⅱb | BG4: Ⅳ | BH4: Ⅲ | BI4: Ⅱa | BJ4: Ⅱb | BK4: Ⅳ | BL4: Ⅲ | BM4: Ⅱa | BN4: Ⅱb | BO4: Ⅳ | BP4: Ⅲ | BQ4: Ⅱa | BR4: Ⅱb | BS4: Ⅳ | BT4: Ⅲ | BU4: Ⅱa | BV4: Ⅱb
B5: 名 称 | E5: 森ヶ原第１トンネル | K5: 管理者名 | N5: 山口県岩国土木建築事務所 | Y5: 岡根 三千夫 | AV5: =N7 -> PS | AW5: =R7 -> 0 | AX5: =AM35 -> Ⅰ | AY5: =Y37 | AZ5: =Z37 | BA5: =AA37 | BB5: =AB37 | BC5: =AC37 -> 0 | BD5: =AD37 -> 0 | BE5: =AE37 -> 0 | BF5: =AF37 -> 0 | ... BJ5: =AJ37 -> 0 | BK5: =IF(Y37>0,R7,"") -> 0 | BL5: =IF(Y37>0,"",IF(Z37>0,R7,"")) | BM5: =IF(Y37+Z37>0,"",IF(AA37>0,R7,"")) -> #VALUE! | BN5: =IF(Y37+Z37+AA37>0,"",IF(AB37>0,R7,"")) -> #VALUE! | BO5: =AC35 -> 0 | BP5: =AD35 -> 0 | BQ5: =AE35 -> 0 | BR5: =AF35 -> 0 | BS5: =AG35 -> 0 | BT5: =AH35 -> 0 | BU5: =AI35 -> 0 | BV5: =AJ35 -> 0
B6: スパン別変状展開図 | K6: 【健全性判定集計表】
K7: スパン番号 | N7: PS | P7: スパン長 | R7: 0 | U7: 前回定期点検時の判定 | W7: 応急措置前の判定 | Y7: 対策区分毎の 変状の有無 | AC7: 対策区分毎の変状の発生範囲の規模(㎡) | AK7: 備考注2
K8: 変状番号 | L8: 対象箇所 | N8: 部位区分 | P8: 変状区分 | R8: 変状種類
Y9: 外力注1 | AC9: 材質劣化注1 | AG9: 漏水注1
Y10: Ⅳ | Z10: Ⅲ | AA10: Ⅱa | AB10: Ⅱb | AC10: Ⅳ | AD10: Ⅲ | AE10: Ⅱa | AF10: Ⅱb | AG10: Ⅳ | AH10: Ⅲ | AI10: Ⅱa | AJ10: Ⅱb
AQ11: =IF(P11="材質劣化",2,IF(P11="漏水",3,1)) -> 1 | AS11: =IF(Y11<>"",1,"")
AQ12: =IF(P12="材質劣化",2,IF(P12="漏水",3,1)) -> 1
AQ13: =IF(P13="材質劣化",2,IF(P13="漏水",3,1)) -> 1
AQ14: =IF(P14="材質劣化",2,IF(P14="漏水",3,1)) -> 1
AQ15: =IF(P15="材質劣化",2,IF(P15="漏水",3,1)) -> 1
AQ16: =IF(P16="材質劣化",2,IF(P16="漏水",3,1)) -> 1
AQ17: =IF(P17="材質劣化",2,IF(P17="漏水",3,1)) -> 1
AQ18: =IF(P18="材質劣化",2,IF(P18="漏水",3,1)) -> 1
AQ19: =IF(P19="材質劣化",2,IF(P19="漏水",3,1)) -> 1
AQ20: =IF(P20="材質劣化",2,IF(P20="漏水",3,1)) -> 1
AQ21: =IF(P21="材質劣化",2,IF(P21="漏水",3,1)) -> 1
AQ22: =IF(P22="材質劣化",2,IF(P22="漏水",3,1)) -> 1
AQ23: =IF(P23="材質劣化",2,IF(P23="漏水",3,1)) -> 1
... AQ27: =IF(P27="材質劣化",2,IF(P27="漏水",3,1)) -> 1
AQ28: =IF(P30="材質劣化",2,IF(P30="漏水",3,1)) -> 1
AQ29: =IF(P34="材質劣化",2,IF(P34="漏水",3,1)) -> 1
AQ30: =IF(P30="材質劣化",2,IF(P30="漏水",3,1)) -> 1
AQ31: =IF(P33="材質劣化",2,IF(P33="漏水",3,1)) -> 1
AQ32: =IF(P37="材質劣化",2,IF(P37="漏水",3,1)) -> 1
AQ33: =IF(P33="材質劣化",2,IF(P33="漏水",3,1)) -> 1
AQ34: =IF(P36="材質劣化",2,IF(P36="漏水",3,1)) -> 1
K35: 集計 判定 診断 | L35: 変状の発生規模合計(㎡) | Y35: － | AC35: =SUM(AC11:AC34) -> 0 | AD35: =SUM(AD11:AD34) -> 0 | AE35: =SUM(AE11:AE34) -> 0 | AF35: =SUM(AF11:AF34) -> 0 | AG35: =SUM(AG11:AG34) -> 0 | AH35: =SUM(AH11:AH34) -> 0 | AI35: =SUM(AI11:AI34) -> 0 | AJ35: =SUM(AJ11:AJ34) -> 0 | AK35: 覆工スパン単位の 健全性の 診断の区分 | AM35: Ⅰ
L36: 対策区分の 判定結果 | O36: 対策区分毎の変状数注3 | Y36: Ⅳ | Z36: Ⅲ | AA36: Ⅱa | AB36: Ⅱb | AC36: Ⅳ | AD36: Ⅲ | AE36: Ⅱa | AF36: Ⅱb | AG36: Ⅳ | AH36: Ⅲ | AI36: Ⅱa | AJ36: Ⅱb
Y37: =IF(COUNTIF(Y11:Y34,"〇")>0,"1"," ") | Z37: =IF(COUNTIF(Z11:Z34,"〇")>0,"1"," ") | AA37: =IF(COUNTIF(AA11:AA34,"〇")>0,"1"," ") | AB37: =IF(COUNTIF(AB11:AB34,"〇")>0,"1"," ") | AC37: =COUNTA(AC11:AC34) -> 0 | AD37: =COUNTA(AD11:AD34) -> 0 | AE37: =COUNTA(AE11:AE34) -> 0 | AF37: =COUNTA(AF11:AF34) -> 0 | AG37: =COUNTA(AG11:AG34) -> 0 | AH37: =COUNTA(AH11:AH34) -> 0 | AI37: =COUNTA(AI11:AI34) -> 0 | AJ37: =COUNTA(AJ11:AJ34) -> 0
K39: 所見
K43: 注1：誤記入防止のため、当該変状区分以外のセルは灰色表示とすること。
K44: 注2：応急措置を実施した場合は、その詳細を備考に記載すること。
K45: 注3：外力は覆工スパン単位、材質劣化、漏水は変状単位とすること。
B46: （以下、印刷不要）
B47: ※1：本シートは作成洩れのないよう、変状が無くても全スパン分を作成すること．また変状展開図は、様式D-2-1、様式D-2-1'と同じものを覆工スパン単位で拡大し掲載すること。
B48: ※2：変状番号は、様式D-1-1で記入した番号と整合させること。
B49: ※3：対策区分毎の変状発生規模は、様式D-1-1に記載した面積を記入すること（ただし外力はスパン単位で評価するため変状の有無の欄には面積でなく○を記入し、備考欄に状況を記入）。
B50: ※4：本様式は覆工スパン毎に作成すること。
B51: ※5：変状数が多い場合は、適時、表の行を増やして覆工スパン毎に1枚のシートに収めること。また、1スパン１シートとし、スパンに合わせてシートを追加すること。
B52: ※6：対策区分毎の変状の発生範囲の規模とは，対策を行う際に参考となる変状の長さや面積であり，変状を包含する長さや面積とする。
B53: ※7：対策範囲を示す発生範囲の規模を面積で記入することが妥当ではない変状は、発生範囲の規模の欄に○を記入するとともに、備考に内容を記入すること。

Sheet 様式D-3_S001
AU1: 様式F用→ | AV1: 覆工スパン | AY1: 変 状 数 | BK1: 変 状 規 模
AV2: 番号 | AW2: 延長 （ｍ） | AX2: 健全性の診断の 区分 | AY2: 対策区分の判定 | BK2: 覆工スパン長（ｍ） | BO2: 変状の発生範囲の規模（㎡）
B3: ■定期点検記録様式 覆工スパン別変状詳細展開図 【様式D-3】 | AY3: 外力 | BC3: 材質劣化 | BG3: 漏水 | BK3: 外力 注2 | BO3: 材質劣化 | BS3: 漏水
B4: フリガナ | E4: モリガハラダイイチトンネル | K4: 路線名 | N4: 岩国大竹線 | T4: 定期点検実施者 | Y4: 株式会社エイト日本技術開発 | AG4: 定期点検年月日 | AK4: 2024年10月29日、30日 | AY4: Ⅳ | AZ4: Ⅲ | BA4: Ⅱa | BB4: Ⅱb | BC4: Ⅳ | BD4: Ⅲ | BE4: Ⅱa | BF4: Ⅱb | BG4: Ⅳ | BH4: Ⅲ | BI4: Ⅱa | BJ4: Ⅱb | BK4: Ⅳ | BL4: Ⅲ | BM4: Ⅱa | BN4: Ⅱb | BO4: Ⅳ | BP4: Ⅲ | BQ4: Ⅱa | BR4: Ⅱb | BS4: Ⅳ | BT4: Ⅲ | BU4: Ⅱa | BV4: Ⅱb
B5: 名 称 | E5: 森ヶ原第１トンネル | K5: 管理者名 | N5: 山口県岩国土木建築事務所 | Y5: 岡根 三千夫 | AV5: =N7 -> 1 | AW5: =R7 -> 6 | AX5: =AM35 -> Ⅰ | AY5: =Y37 | AZ5: =Z37 | BA5: =AA37 | BB5: =AB37 | BC5: =AC37 -> 0 | BD5: =AD37 -> 0 | BE5: =AE37 -> 0 | BF5: =AF37 -> 0 | ... BJ5: =AJ37 -> 0 | BK5: =IF(Y37>0,R7,"") -> 6 | BL5: =IF(Y37>0,"",IF(Z37>0,R7,"")) | BM5: =IF(Y37+Z37>0,"",IF(AA37>0,R7,"")) -> #VALUE! | BN5: =IF(Y37+Z37+AA37>0,"",IF(AB37>0,R7,"")) -> #VALUE! | BO5: =AC35 -> 0 | BP5: =AD35 -> 0 | BQ5: =AE35 -> 0 | BR5: =AF35 -> 0 | BS5: =AG35 -> 0 | BT5: =AH35 -> 0 | BU5: =AI35 -> 0 | BV5: =AJ35 -> 0
B6: スパン別変状展開図 | K6: 【健全性判定集計表】
K7: スパン番号 | N7: 1 | P7: スパン長 | R7: 6 | U7: 前回定期点検時の判定 | W7: 応急措置前の判定 | Y7: 対策区分毎の 変状の有無 | AC7: 対策区分毎の変状の発生範囲の規模(㎡) | AK7: 備考注2
K8: 変状番号 | L8: 対象箇所 | N8: 部位区分 | P8: 変状区分 | R8: 変状種類
Y9: 外力注1 | AC9: 材質劣化注1 | AG9: 漏水注1
Y10: Ⅳ | Z10: Ⅲ | AA10: Ⅱa | AB10: Ⅱb | AC10: Ⅳ | AD10: Ⅲ | AE10: Ⅱa | AF10: Ⅱb | AG10: Ⅳ | AH10: Ⅲ | AI10: Ⅱa | AJ10: Ⅱb
AQ11: =IF(P11="材質劣化",2,IF(P11="漏水",3,1)) -> 1 | AS11: =IF(Y11<>"",1,"")
AQ12: =IF(P12="材質劣化",2,IF(P12="漏水",3,1)) -> 1
AQ13: =IF(P13="材質劣化",2,IF(P13="漏水",3,1)) -> 1
AQ14: =IF(P14="材質劣化",2,IF(P14="漏水",3,1)) -> 1
AQ15: =IF(P15="材質劣化",2,IF(P15="漏水",3,1)) -> 1
AQ16: =IF(P16="材質劣化",2,IF(P16="漏水",3,1)) -> 1
AQ17: =IF(P17="材質劣化",2,IF(P17="漏水",3,1)) -> 1
AQ18: =IF(P18="材質劣化",2,IF(P18="漏水",3,1)) -> 1
AQ19: =IF(P19="材質劣化",2,IF(P19="漏水",3,1)) -> 1
AQ20: =IF(P20="材質劣化",2,IF(P20="漏水",3,1)) -> 1
AQ21: =IF(P21="材質劣化",2,IF(P21="漏水",3,1)) -> 1
AQ22: =IF(P22="材質劣化",2,IF(P22="漏水",3,1)) -> 1
AQ23: =IF(P23="材質劣化",2,IF(P23="漏水",3,1)) -> 1
... AQ27: =IF(P27="材質劣化",2,IF(P27="漏水",3,1)) -> 1
AQ28: =IF(P30="材質劣化",2,IF(P30="漏水",3,1)) -> 1
AQ29: =IF(P34="材質劣化",2,IF(P34="漏水",3,1)) -> 1
AQ30: =IF(P30="材質劣化",2,IF(P30="漏水",3,1)) -> 1
AQ31: =IF(P33="材質劣化",2,IF(P33="漏水",3,1)) -> 1
AQ32: =IF(P37="材質劣化",2,IF(P37="漏水",3,1)) -> 1
AQ33: =IF(P33="材質劣化",2,IF(P33="漏水",3,1)) -> 1
AQ34: =IF(P36="材質劣化",2,IF(P36="漏水",3,1)) -> 1
K35: 集計 判定 診断 | L35: 変状の発生規模合計(㎡) | Y35: － | AC35: =SUM(AC11:AC34) -> 0 | AD35: =SUM(AD11:AD34) -> 0 | AE35: =SUM(AE11:AE34) -> 0 | AF35: =SUM(AF11:AF34) -> 0 | AG35: =SUM(AG11:AG34) -> 0 | AH35: =SUM(AH11:AH34) -> 0 | AI35: =SUM(AI11:AI34) -> 0 | AJ35: =SUM(AJ11:AJ34) -> 0 | AK35: 覆工スパン単位の 健全性の 診断の区分 | AM35: Ⅰ
L36: 対策区分の 判定結果 | O36: 対策区分毎の変状数注3 | Y36: Ⅳ | Z36: Ⅲ | AA36: Ⅱa | AB36: Ⅱb | AC36: Ⅳ | AD36: Ⅲ | AE36: Ⅱa | AF36: Ⅱb | AG36: Ⅳ | AH36: Ⅲ | AI36: Ⅱa | AJ36: Ⅱb
Y37: =IF(COUNTIF(Y11:Y34,"〇")>0,"1"," ") | Z37: =IF(COUNTIF(Z11:Z34,"〇")>0,"1"," ") | AA37: =IF(COUNTIF(AA11:AA34,"〇")>0,"1"," ") | AB37: =IF(COUNTIF(AB11:AB34,"〇")>0,"1"," ") | AC37: =COUNTA(AC11:AC34) -> 0 | AD37: =COUNTA(AD11:AD34) -> 0 | AE37: =COUNTA(AE11:AE34) -> 0 | AF37: =COUNTA(AF11:AF34) -> 0 | AG37: =COUNTA(AG11:AG34) -> 0 | AH37: =COUNTA(AH11:AH34) -> 0 | AI37: =COUNTA(AI11:AI34) -> 0 | AJ37: =COUNTA(AJ11:AJ34) -> 0
K39: 所見
K43: 注1：誤記入防止のため、当該変状区分以外のセルは灰色表示とすること。
K44: 注2：応急措置を実施した場合は、その詳細を備考に記載すること。
K45: 注3：外力は覆工スパン単位、材質劣化、漏水は変状単位とすること。
B46: （以下、印刷不要）
B47: ※1：本シートは作成洩れのないよう、変状が無くても全スパン分を作成すること．また変状展開図は、様式D-2-1、様式D-2-1'と同じものを覆工スパン単位で拡大し掲載すること。
B48: ※2：変状番号は、様式D-1-1で記入した番号と整合させること。
B49: ※3：対策区分毎の変状発生規模は、様式D-1-1に記載した面積を記入すること（ただし外力はスパン単位で評価するため変状の有無の欄には面積でなく○を記入し、備考欄に状況を記入）。
B50: ※4：本様式は覆工スパン毎に作成すること。
B51: ※5：変状数が多い場合は、適時、表の行を増やして覆工スパン毎に1枚のシートに収めること。また、1スパン１シートとし、スパンに合わせてシートを追加すること。
B52: ※6：対策区分毎の変状の発生範囲の規模とは，対策を行う際に参考となる変状の長さや面積であり，変状を包含する長さや面積とする。
B53: ※7：対策範囲を示す発生範囲の規模を面積で記入することが妥当ではない変状は、発生範囲の規模の欄に○を記入するとともに、備考に内容を記入すること。

Sheet 様式D-3_S002
AU1: 様式F用→ | AV1: 覆工スパン | AY1: 変 状 数 | BK1: 変 状 規 模
AV2: 番号 | AW2: 延長 （ｍ） | AX2: 健全性の診断の 区分 | AY2: 対策区分の判定 | BK2: 覆工スパン長（ｍ） | BO2: 変状の発生範囲の規模（㎡）
B3: ■定期点検記録様式 覆工スパン別変状詳細展開図 【様式D-3】 | AY3: 外力 | BC3: 材質劣化 | BG3: 漏水 | BK3: 外力 注2 | BO3: 材質劣化 | BS3: 漏水
B4: フリガナ | E4: モリガハラダイイチトンネル | K4: 路線名 | N4: 岩国大竹線 | T4: 定期点検実施者 | Y4: 株式会社エイト日本技術開発 | AG4: 定期点検年月日 | AK4: 2024年10月29日、30日 | AY4: Ⅳ | AZ4: Ⅲ | BA4: Ⅱa | BB4: Ⅱb | BC4: Ⅳ | BD4: Ⅲ | BE4: Ⅱa | BF4: Ⅱb | BG4: Ⅳ | BH4: Ⅲ | BI4: Ⅱa | BJ4: Ⅱb | BK4: Ⅳ | BL4: Ⅲ | BM4: Ⅱa | BN4: Ⅱb | BO4: Ⅳ | BP4: Ⅲ | BQ4: Ⅱa | BR4: Ⅱb | BS4: Ⅳ | BT4: Ⅲ | BU4: Ⅱa | BV4: Ⅱb
B5: 名 称 | E5: 森ヶ原第１トンネル | K5: 管理者名 | N5: 山口県岩国土木建築事務所 | Y5: 岡根 三千夫 | AV5: =N7 -> 2 | AW5: =R7 -> 10.5 | AX5: =AM35 -> Ⅰ | AY5: =Y37 | AZ5: =Z37 | BA5: =AA37 | BB5: =AB37 | BC5: =AC37 -> 0 | BD5: =AD37 -> 0 | BE5: =AE37 -> 0 | BF5: =AF37 -> 0 | ... BJ5: =AJ37 -> 0 | BK5: =IF(Y37>0,R7,"") -> 10.5 | BL5: =IF(Y37>0,"",IF(Z37>0,R7,"")) | BM5: =IF(Y37+Z37>0,"",IF(AA37>0,R7,"")) -> #VALUE! | BN5: =IF(Y37+Z37+AA37>0,"",IF(AB37>0,R7,"")) -> #VALUE! | BO5: =AC35 -> 0 | BP5: =AD35 -> 0 | BQ5: =AE35 -> 0 | BR5: =AF35 -> 0 | BS5: =AG35 -> 0 | BT5: =AH35 -> 0 | BU5: =AI35 -> 0 | BV5: =AJ35 -> 0
B6: スパン別変状展開図 | K6: 【健全性判定集計表】
K7: スパン番号 | N7: 2 | P7: スパン長 | R7: 10.5 | U7: 前回定期点検時の判定 | W7: 応急措置前の判定 | Y7: 対策区分毎の 変状の有無 | AC7: 対策区分毎の変状の発生範囲の規模(㎡) | AK7: 備考注2
K8: 変状番号 | L8: 対象箇所 | N8: 部位区分 | P8: 変状区分 | R8: 変状種類
Y9: 外力注1 | AC9: 材質劣化注1 | AG9: 漏水注1
Y10: Ⅳ | Z10: Ⅲ | AA10: Ⅱa | AB10: Ⅱb | AC10: Ⅳ | AD10: Ⅲ | AE10: Ⅱa | AF10: Ⅱb | AG10: Ⅳ | AH10: Ⅲ | AI10: Ⅱa | AJ10: Ⅱb
AQ11: =IF(P11="材質劣化",2,IF(P11="漏水",3,1)) -> 1 | AS11: =IF(Y11<>"",1,"")
AQ12: =IF(P12="材質劣化",2,IF(P12="漏水",3,1)) -> 1
AQ13: =IF(P13="材質劣化",2,IF(P13="漏水",3,1)) -> 1
AQ14: =IF(P14="材質劣化",2,IF(P14="漏水",3,1)) -> 1
AQ15: =IF(P15="材質劣化",2,IF(P15="漏水",3,1)) -> 1
AQ16: =IF(P16="材質劣化",2,IF(P16="漏水",3,1)) -> 1
AQ17: =IF(P17="材質劣化",2,IF(P17="漏水",3,1)) -> 1
AQ18: =IF(P18="材質劣化",2,IF(P18="漏水",3,1)) -> 1
AQ19: =IF(P19="材質劣化",2,IF(P19="漏水",3,1)) -> 1
AQ20: =IF(P20="材質劣化",2,IF(P20="漏水",3,1)) -> 1
AQ21: =IF(P21="材質劣化",2,IF(P21="漏水",3,1)) -> 1
AQ22: =IF(P22="材質劣化",2,IF(P22="漏水",3,1)) -> 1
AQ23: =IF(P23="材質劣化",2,IF(P23="漏水",3,1)) -> 1
... AQ27: =IF(P27="材質劣化",2,IF(P27="漏水",3,1)) -> 1
AQ28: =IF(P30="材質劣化",2,IF(P30="漏水",3,1)) -> 1
AQ29: =IF(P34="材質劣化",2,IF(P34="漏水",3,1)) -> 1
AQ30: =IF(P30="材質劣化",2,IF(P30="漏水",3,1)) -> 1
AQ31: =IF(P33="材質劣化",2,IF(P33="漏水",3,1)) -> 1
AQ32: =IF(P37="材質劣化",2,IF(P37="漏水",3,1)) -> 1
AQ33: =IF(P33="材質劣化",2,IF(P33="漏水",3,1)) -> 1
AQ34: =IF(P36="材質劣化",2,IF(P36="漏水",3,1)) -> 1
K35: 集計 判定 診断 | L35: 変状の発生規模合計(㎡) | Y35: － | AC35: =SUM(AC11:AC34) -> 0 | AD35: =SUM(AD11:AD34) -> 0 | AE35: =SUM(AE11:AE34) -> 0 | AF35: =SUM(AF11:AF34) -> 0 | AG35: =SUM(AG11:AG34) -> 0 | AH35: =SUM(AH11:AH34) -> 0 | AI35: =SUM(AI11:AI34) -> 0 | AJ35: =SUM(AJ11:AJ34) -> 0 | AK35: 覆工スパン単位の 健全性の 診断の区分 | AM35: Ⅰ
L36: 対策区分の 判定結果 | O36: 対策区分毎の変状数注3 | Y36: Ⅳ | Z36: Ⅲ | AA36: Ⅱa | AB36: Ⅱb | AC36: Ⅳ | AD36: Ⅲ | AE36: Ⅱa | AF36: Ⅱb | AG36: Ⅳ | AH36: Ⅲ | AI36: Ⅱa | AJ36: Ⅱb
Y37: =IF(COUNTIF(Y11:Y34,"〇")>0,"1"," ") | Z37: =IF(COUNTIF(Z11:Z34,"〇")>0,"1"," ") | AA37: =IF(COUNTIF(AA11:AA34,"〇")>0,"1"," ") | AB37: =IF(COUNTIF(AB11:AB34,"〇")>0,"1"," ") | AC37: =COUNTA(AC11:AC34) -> 0 | AD37: =COUNTA(AD11:AD34) -> 0 | AE37: =COUNTA(AE11:AE34) -> 0 | AF37: =COUNTA(AF11:AF34) -> 0 | AG37: =COUNTA(AG11:AG34) -> 0 | AH37: =COUNTA(AH11:AH34) -> 0 | AI37: =COUNTA(AI11:AI34) -> 0 | AJ37: =COUNTA(AJ11:AJ34) -> 0
K39: 所見
K43: 注1：誤記入防止のため、当該変状区分以外のセルは灰色表示とすること。
K44: 注2：応急措置を実施した場合は、その詳細を備考に記載すること。
K45: 注3：外力は覆工スパン単位、材質劣化、漏水は変状単位とすること。
B46: （以下、印刷不要）
B47: ※1：本シートは作成洩れのないよう、変状が無くても全スパン分を作成すること．また変状展開図は、様式D-2-1、様式D-2-1'と同じものを覆工スパン単位で拡大し掲載すること。
B48: ※2：変状番号は、様式D-1-1で記入した番号と整合させること。
B49: ※3：対策区分毎の変状発生規模は、様式D-1-1に記載した面積を記入すること（ただし外力はスパン単位で評価するため変状の有無の欄には面積でなく○を記入し、備考欄に状況を記入）。
B50: ※4：本様式は覆工スパン毎に作成すること。
B51: ※5：変状数が多い場合は、適時、表の行を増やして覆工スパン毎に1枚のシートに収めること。また、1スパン１シートとし、スパンに合わせてシートを追加すること。
B52: ※6：対策区分毎の変状の発生範囲の規模とは，対策を行う際に参考となる変状の長さや面積であり，変状を包含する長さや面積とする。
B53: ※7：対策範囲を示す発生範囲の規模を面積で記入することが妥当ではない変状は、発生範囲の規模の欄に○を記入するとともに、備考に内容を記入すること。

Sheet 様式D-3_S003
AU1: 様式F用→ | AV1: 覆工スパン | AY1: 変 状 数 | BK1: 変 状 規 模
AV2: 番号 | AW2: 延長 （ｍ） | AX2: 健全性の診断の 区分 | AY2: 対策区分の判定 | BK2: 覆工スパン長（ｍ） | BO2: 変状の発生範囲の規模（㎡）
B3: ■定期点検記録様式 覆工スパン別変状詳細展開図 【様式D-3】 | AY3: 外力 | BC3: 材質劣化 | BG3: 漏水 | BK3: 外力 注2 | BO3: 材質劣化 | BS3: 漏水
B4: フリガナ | E4: モリガハラダイイチトンネル | K4: 路線名 | N4: 岩国大竹線 | T4: 定期点検実施者 | Y4: 株式会社エイト日本技術開発 | AG4: 定期点検年月日 | AK4: 2024年10月29日、30日 | AY4: Ⅳ | AZ4: Ⅲ | BA4: Ⅱa | BB4: Ⅱb | BC4: Ⅳ | BD4: Ⅲ | BE4: Ⅱa | BF4: Ⅱb | BG4: Ⅳ | BH4: Ⅲ | BI4: Ⅱa | BJ4: Ⅱb | BK4: Ⅳ | BL4: Ⅲ | BM4: Ⅱa | BN4: Ⅱb | BO4: Ⅳ | BP4: Ⅲ | BQ4: Ⅱa | BR4: Ⅱb | BS4: Ⅳ | BT4: Ⅲ | BU4: Ⅱa | BV4: Ⅱb
B5: 名 称 | E5: 森ヶ原第１トンネル | K5: 管理者名 | N5: 山口県岩国土木建築事務所 | Y5: 岡根 三千夫 | AV5: =N7 -> 3 | AW5: =R7 -> 10.5 | AX5: =AM35 -> Ⅰ | AY5: =Y37 | AZ5: =Z37 | BA5: =AA37 | BB5: =AB37 | BC5: =AC37 -> 0 | BD5: =AD37 -> 0 | BE5: =AE37 -> 0 | BF5: =AF37 -> 0 | ... BJ5: =AJ37 -> 0 | BK5: =IF(Y37>0,R7,"") -> 10.5 | BL5: =IF(Y37>0,"",IF(Z37>0,R7,"")) | BM5: =IF(Y37+Z37>0,"",IF(AA37>0,R7,"")) -> #VALUE! | BN5: =IF(Y37+Z37+AA37>0,"",IF(AB37>0,R7,"")) -> #VALUE! | BO5: =AC35 -> 0 | BP5: =AD35 -> 0 | BQ5: =AE35 -> 0 | BR5: =AF35 -> 0 | BS5: =AG35 -> 0 | BT5: =AH35 -> 0 | BU5: =AI35 -> 0 | BV5: =AJ35 -> 0
B6: スパン別変状展開図 | K6: 【健全性判定集計表】
K7: スパン番号 | N7: 3 | P7: スパン長 | R7: 10.5 | U7: 前回定期点検時の判定 | W7: 応急措置前の判定 | Y7: 対策区分毎の 変状の有無 | AC7: 対策区分毎の変状の発生範囲の規模(㎡) | AK7: 備考注2
K8: 変状番号 | L8: 対象箇所 | N8: 部位区分 | P8: 変状区分 | R8: 変状種類
Y9: 外力注1 | AC9: 材質劣化注1 | AG9: 漏水注1
Y10: Ⅳ | Z10: Ⅲ | AA10: Ⅱa | AB10: Ⅱb | AC10: Ⅳ | AD10: Ⅲ | AE10: Ⅱa | AF10: Ⅱb | AG10: Ⅳ | AH10: Ⅲ | AI10: Ⅱa | AJ10: Ⅱb
AQ11: =IF(P11="材質劣化",2,IF(P11="漏水",3,1)) -> 1 | AS11: =IF(Y11<>"",1,"")
AQ12: =IF(P12="材質劣化",2,IF(P12="漏水",3,1)) -> 1
AQ13: =IF(P13="材質劣化",2,IF(P13="漏水",3,1)) -> 1
AQ14: =IF(P14="材質劣化",2,IF(P14="漏水",3,1)) -> 1
AQ15: =IF(P15="材質劣化",2,IF(P15="漏水",3,1)) -> 1
AQ16: =IF(P16="材質劣化",2,IF(P16="漏水",3,1)) -> 1
AQ17: =IF(P17="材質劣化",2,IF(P17="漏水",3,1)) -> 1
AQ18: =IF(P18="材質劣化",2,IF(P18="漏水",3,1)) -> 1
AQ19: =IF(P19="材質劣化",2,IF(P19="漏水",3,1)) -> 1
AQ20: =IF(P20="材質劣化",2,IF(P20="漏水",3,1)) -> 1
AQ21: =IF(P21="材質劣化",2,IF(P21="漏水",3,1)) -> 1
AQ22: =IF(P22="材質劣化",2,IF(P22="漏水",3,1)) -> 1
AQ23: =IF(P23="材質劣化",2,IF(P23="漏水",3,1)) -> 1
... AQ27: =IF(P27="材質劣化",2,IF(P27="漏水",3,1)) -> 1
AQ28: =IF(P30="材質劣化",2,IF(P30="漏水",3,1)) -> 1
AQ29: =IF(P34="材質劣化",2,IF(P34="漏水",3,1)) -> 1
AQ30: =IF(P30="材質劣化",2,IF(P30="漏水",3,1)) -> 1
AQ31: =IF(P33="材質劣化",2,IF(P33="漏水",3,1)) -> 1
AQ32: =IF(P37="材質劣化",2,IF(P37="漏水",3,1)) -> 1
AQ33: =IF(P33="材質劣化",2,IF(P33="漏水",3,1)) -> 1
AQ34: =IF(P36="材質劣化",2,IF(P36="漏水",3,1)) -> 1
K35: 集計 判定 診断 | L35: 変状の発生規模合計(㎡) | Y35: － | AC35: =SUM(AC11:AC34) -> 0 | AD35: =SUM(AD11:AD34) -> 0 | AE35: =SUM(AE11:AE34) -> 0 | AF35: =SUM(AF11:AF34) -> 0 | AG35: =SUM(AG11:AG34) -> 0 | AH35: =SUM(AH11:AH34) -> 0 | AI35: =SUM(AI11:AI34) -> 0 | AJ35: =SUM(AJ11:AJ34) -> 0 | AK35: 覆工スパン単位の 健全性の 診断の区分 | AM35: Ⅰ
L36: 対策区分の 判定結果 | O36: 対策区分毎の変状数注3 | Y36: Ⅳ | Z36: Ⅲ | AA36: Ⅱa | AB36: Ⅱb | AC36: Ⅳ | AD36: Ⅲ | AE36: Ⅱa | AF36: Ⅱb | AG36: Ⅳ | AH36: Ⅲ | AI36: Ⅱa | AJ36: Ⅱb
Y37: =IF(COUNTIF(Y11:Y34,"〇")>0,"1"," ") | Z37: =IF(COUNTIF(Z11:Z34,"〇")>0,"1"," ") | AA37: =IF(COUNTIF(AA11:AA34,"〇")>0,"1"," ") | AB37: =IF(COUNTIF(AB11:AB34,"〇")>0,"1"," ") | AC37: =COUNTA(AC11:AC34) -> 0 | AD37: =COUNTA(AD11:AD34) -> 0 | AE37: =COUNTA(AE11:AE34) -> 0 | AF37: =COUNTA(AF11:AF34) -> 0 | AG37: =COUNTA(AG11:AG34) -> 0 | AH37: =COUNTA(AH11:AH34) -> 0 | AI37: =COUNTA(AI11:AI34) -> 0 | AJ37: =COUNTA(AJ11:AJ34) -> 0
K39: 所見
K43: 注1：誤記入防止のため、当該変状区分以外のセルは灰色表示とすること。
K44: 注2：応急措置を実施した場合は、その詳細を備考に記載すること。
K45: 注3：外力は覆工スパン単位、材質劣化、漏水は変状単位とすること。
B46: （以下、印刷不要）
B47: ※1：本シートは作成洩れのないよう、変状が無くても全スパン分を作成すること．また変状展開図は、様式D-2-1、様式D-2-1'と同じものを覆工スパン単位で拡大し掲載すること。
B48: ※2：変状番号は、様式D-1-1で記入した番号と整合させること。
B49: ※3：対策区分毎の変状発生規模は、様式D-1-1に記載した面積を記入すること（ただし外力はスパン単位で評価するため変状の有無の欄には面積でなく○を記入し、備考欄に状況を記入）。
B50: ※4：本様式は覆工スパン毎に作成すること。
B51: ※5：変状数が多い場合は、適時、表の行を増やして覆工スパン毎に1枚のシートに収めること。また、1スパン１シートとし、スパンに合わせてシートを追加すること。
B52: ※6：対策区分毎の変状の発生範囲の規模とは，対策を行う際に参考となる変状の長さや面積であり，変状を包含する長さや面積とする。
B53: ※7：対策範囲を示す発生範囲の規模を面積で記入することが妥当ではない変状は、発生範囲の規模の欄に○を記入するとともに、備考に内容を記入すること。

Sheet 様式D-3_S004
AU1: 様式F用→ | AV1: 覆工スパン | AY1: 変 状 数 | BK1: 変 状 規 模
AV2: 番号 | AW2: 延長 （ｍ） | AX2: 健全性の診断の 区分 | AY2: 対策区分の判定 | BK2: 覆工スパン長（ｍ） | BO2: 変状の発生範囲の規模（㎡）
B3: ■定期点検記録様式 覆工スパン別変状詳細展開図 【様式D-3】 | AY3: 外力 | BC3: 材質劣化 | BG3: 漏水 | BK3: 外力 注2 | BO3: 材質劣化 | BS3: 漏水
B4: フリガナ | E4: モリガハラダイイチトンネル | K4: 路線名 | N4: 岩国大竹線 | T4: 定期点検実施者 | Y4: 株式会社エイト日本技術開発 | AG4: 定期点検年月日 | AK4: 2024年10月29日、30日 | AY4: Ⅳ | AZ4: Ⅲ | BA4: Ⅱa | BB4: Ⅱb | BC4: Ⅳ | BD4: Ⅲ | BE4: Ⅱa | BF4: Ⅱb | BG4: Ⅳ | BH4: Ⅲ | BI4: Ⅱa | BJ4: Ⅱb | BK4: Ⅳ | BL4: Ⅲ | BM4: Ⅱa | BN4: Ⅱb | BO4: Ⅳ | BP4: Ⅲ | BQ4: Ⅱa | BR4: Ⅱb | BS4: Ⅳ | BT4: Ⅲ | BU4: Ⅱa | BV4: Ⅱb
B5: 名 称 | E5: 森ヶ原第１トンネル | K5: 管理者名 | N5: 山口県岩国土木建築事務所 | Y5: 岡根 三千夫 | AV5: =N7 -> 4 | AW5: =R7 -> 10.5 | AX5: =AM35 -> Ⅰ | AY5: =Y37 | AZ5: =Z37 | BA5: =AA37 | BB5: =AB37 | BC5: =AC37 -> 0 | BD5: =AD37 -> 0 | BE5: =AE37 -> 0 | BF5: =AF37 -> 0 | ... BJ5: =AJ37 -> 0 | BK5: =IF(Y37>0,R7,"") -> 10.5 | BL5: =IF(Y37>0,"",IF(Z37>0,R7,"")) | BM5: =IF(Y37+Z37>0,"",IF(AA37>0,R7,"")) -> #VALUE! | BN5: =IF(Y37+Z37+AA37>0,"",IF(AB37>0,R7,"")) -> #VALUE! | BO5: =AC35 -> 0 | BP5: =AD35 -> 0 | BQ5: =AE35 -> 0 | BR5: =AF35 -> 0 | BS5: =AG35 -> 0 | BT5: =AH35 -> 0 | BU5: =AI35 -> 0 | BV5: =AJ35 -> 0
B6: スパン別変状展開図 | K6: 【健全性判定集計表】
K7: スパン番号 | N7: 4 | P7: スパン長 | R7: 10.5 | U7: 前回定期点検時の判定 | W7: 応急措置前の判定 | Y7: 対策区分毎の 変状の有無 | AC7: 対策区分毎の変状の発生範囲の規模(㎡) | AK7: 備考注2
K8: 変状番号 | L8: 対象箇所 | N8: 部位区分 | P8: 変状区分 | R8: 変状種類
Y9: 外力注1 | AC9: 材質劣化注1 | AG9: 漏水注1
Y10: Ⅳ | Z10: Ⅲ | AA10: Ⅱa | AB10: Ⅱb | AC10: Ⅳ | AD10: Ⅲ | AE10: Ⅱa | AF10: Ⅱb | AG10: Ⅳ | AH10: Ⅲ | AI10: Ⅱa | AJ10: Ⅱb
AQ11: =IF(P11="材質劣化",2,IF(P11="漏水",3,1)) -> 1 | AS11: =IF(Y11<>"",1,"")
AQ12: =IF(P12="材質劣化",2,IF(P12="漏水",3,1)) -> 1
AQ13: =IF(P13="材質劣化",2,IF(P13="漏水",3,1)) -> 1
AQ14: =IF(P14="材質劣化",2,IF(P14="漏水",3,1)) -> 1
AQ15: =IF(P15="材質劣化",2,IF(P15="漏水",3,1)) -> 1
AQ16: =IF(P16="材質劣化",2,IF(P16="漏水",3,1)) -> 1
AQ17: =IF(P17="材質劣化",2,IF(P17="漏水",3,1)) -> 1
AQ18: =IF(P18="材質劣化",2,IF(P18="漏水",3,1)) -> 1
AQ19: =IF(P19="材質劣化",2,IF(P19="漏水",3,1)) -> 1
AQ20: =IF(P20="材質劣化",2,IF(P20="漏水",3,1)) -> 1
AQ21: =IF(P21="材質劣化",2,IF(P21="漏水",3,1)) -> 1
AQ22: =IF(P22="材質劣化",2,IF(P22="漏水",3,1)) -> 1
AQ23: =IF(P23="材質劣化",2,IF(P23="漏水",3,1)) -> 1
... AQ27: =IF(P27="材質劣化",2,IF(P27="漏水",3,1)) -> 1
AQ28: =IF(P30="材質劣化",2,IF(P30="漏水",3,1)) -> 1
AQ29: =IF(P34="材質劣化",2,IF(P34="漏水",3,1)) -> 1
AQ30: =IF(P30="材質劣化",2,IF(P30="漏水",3,1)) -> 1
AQ31: =IF(P33="材質劣化",2,IF(P33="漏水",3,1)) -> 1
AQ32: =IF(P37="材質劣化",2,IF(P37="漏水",3,1)) -> 1
AQ33: =IF(P33="材質劣化",2,IF(P33="漏水",3,1)) -> 1
AQ34: =IF(P36="材質劣化",2,IF(P36="漏水",3,1)) -> 1
K35: 集計 判定 診断 | L35: 変状の発生規模合計(㎡) | Y35: － | AC35: =SUM(AC11:AC34) -> 0 | AD35: =SUM(AD11:AD34) -> 0 | AE35: =SUM(AE11:AE34) -> 0 | AF35: =SUM(AF11:AF34) -> 0 | AG35: =SUM(AG11:AG34) -> 0 | AH35: =SUM(AH11:AH34) -> 0 | AI35: =SUM(AI11:AI34) -> 0 | AJ35: =SUM(AJ11:AJ34) -> 0 | AK35: 覆工スパン単位の 健全性の 診断の区分 | AM35: Ⅰ
L36: 対策区分の 判定結果 | O36: 対策区分毎の変状数注3 | Y36: Ⅳ | Z36: Ⅲ | AA36: Ⅱa | AB36: Ⅱb | AC36: Ⅳ | AD36: Ⅲ | AE36: Ⅱa | AF36: Ⅱb | AG36: Ⅳ | AH36: Ⅲ | AI36: Ⅱa | AJ36: Ⅱb
Y37: =IF(COUNTIF(Y11:Y34,"〇")>0,"1"," ") | Z37: =IF(COUNTIF(Z11:Z34,"〇")>0,"1"," ") | AA37: =IF(COUNTIF(AA11:AA34,"〇")>0,"1"," ") | AB37: =IF(COUNTIF(AB11:AB34,"〇")>0,"1"," ") | AC37: =COUNTA(AC11:AC34) -> 0 | AD37: =COUNTA(AD11:AD34) -> 0 | AE37: =COUNTA(AE11:AE34) -> 0 | AF37: =COUNTA(AF11:AF34) -> 0 | AG37: =COUNTA(AG11:AG34) -> 0 | AH37: =COUNTA(AH11:AH34) -> 0 | AI37: =COUNTA(AI11:AI34) -> 0 | AJ37: =COUNTA(AJ11:AJ34) -> 0
K39: 所見
K43: 注1：誤記入防止のため、当該変状区分以外のセルは灰色表示とすること。
K44: 注2：応急措置を実施した場合は、その詳細を備考に記載すること。
K45: 注3：外力は覆工スパン単位、材質劣化、漏水は変状単位とすること。
B46: （以下、印刷不要）
B47: ※1：本シートは作成洩れのないよう、変状が無くても全スパン分を作成すること．また変状展開図は、様式D-2-1、様式D-2-1'と同じものを覆工スパン単位で拡大し掲載すること。
B48: ※2：変状番号は、様式D-1-1で記入した番号と整合させること。
B49: ※3：対策区分毎の変状発生規模は、様式D-1-1に記載した面積を記入すること（ただし外力はスパン単位で評価するため変状の有無の欄には面積でなく○を記入し、備考欄に状況を記入）。
B50: ※4：本様式は覆工スパン毎に作成すること。
B51: ※5：変状数が多い場合は、適時、表の行を増やして覆工スパン毎に1枚のシートに収めること。また、1スパン１シートとし、スパンに合わせてシートを追加すること。
B52: ※6：対策区分毎の変状の発生範囲の規模とは，対策を行う際に参考となる変状の長さや面積であり，変状を包含する長さや面積とする。
B53: ※7：対策範囲を示す発生範囲の規模を面積で記入することが妥当ではない変状は、発生範囲の規模の欄に○を記入するとともに、備考に内容を記入すること。

Sheet 様式D-3_S005
AU1: 様式F用→ | AV1: 覆工スパン | AY1: 変 状 数 | BK1: 変 状 規 模
AV2: 番号 | AW2: 延長 （ｍ） | AX2: 健全性の診断の 区分 | AY2: 対策区分の判定 | BK2: 覆工スパン長（ｍ） | BO2: 変状の発生範囲の規模（㎡）
B3: ■定期点検記録様式 覆工スパン別変状詳細展開図 【様式D-3】 | AY3: 外力 | BC3: 材質劣化 | BG3: 漏水 | BK3: 外力 注2 | BO3: 材質劣化 | BS3: 漏水
B4: フリガナ | E4: モリガハラダイイチトンネル | K4: 路線名 | N4: 岩国大竹線 | T4: 定期点検実施者 | Y4: 株式会社エイト日本技術開発 | AG4: 定期点検年月日 | AK4: 2024年10月29日、30日 | AY4: Ⅳ | AZ4: Ⅲ | BA4: Ⅱa | BB4: Ⅱb | BC4: Ⅳ | BD4: Ⅲ | BE4: Ⅱa | BF4: Ⅱb | BG4: Ⅳ | BH4: Ⅲ | BI4: Ⅱa | BJ4: Ⅱb | BK4: Ⅳ | BL4: Ⅲ | BM4: Ⅱa | BN4: Ⅱb | BO4: Ⅳ | BP4: Ⅲ | BQ4: Ⅱa | BR4: Ⅱb | BS4: Ⅳ | BT4: Ⅲ | BU4: Ⅱa | BV4: Ⅱb
B5: 名 称 | E5: 森ヶ原第１トンネル | K5: 管理者名 | N5: 山口県岩国土木建築事務所 | Y5: 岡根 三千夫 | AV5: =N7 -> 5 | AW5: =R7 -> 10.5 | AX5: =AM35 -> Ⅰ | AY5: =Y37 | AZ5: =Z37 | BA5: =AA37 | BB5: =AB37 | BC5: =AC37 -> 0 | BD5: =AD37 -> 0 | BE5: =AE37 -> 0 | BF5: =AF37 -> 0 | ... BJ5: =AJ37 -> 0 | BK5: =IF(Y37>0,R7,"") -> 10.5 | BL5: =IF(Y37>0,"",IF(Z37>0,R7,"")) | BM5: =IF(Y37+Z37>0,"",IF(AA37>0,R7,"")) -> #VALUE! | BN5: =IF(Y37+Z37+AA37>0,"",IF(AB37>0,R7,"")) -> #VALUE! | BO5: =AC35 -> 0 | BP5: =AD35 -> 0 | BQ5: =AE35 -> 0 | BR5: =AF35 -> 0 | BS5: =AG35 -> 0 | BT5: =AH35 -> 0 | BU5: =AI35 -> 0 | BV5: =AJ35 -> 0
B6: スパン別変状展開図 | K6: 【健全性判定集計表】
K7: スパン番号 | N7: 5 | P7: スパン長 | R7: 10.5 | U7: 前回定期点検時の判定 | W7: 応急措置前の判定 | Y7: 対策区分毎の 変状の有無 | AC7: 対策区分毎の変状の発生範囲の規模(㎡) | AK7: 備考注2
K8: 変状番号 | L8: 対象箇所 | N8: 部位区分 | P8: 変状区分 | R8: 変状種類
Y9: 外力注1 | AC9: 材質劣化注1 | AG9: 漏水注1
Y10: Ⅳ | Z10: Ⅲ | AA10: Ⅱa | AB10: Ⅱb | AC10: Ⅳ | AD10: Ⅲ | AE10: Ⅱa | AF10: Ⅱb | AG10: Ⅳ | AH10: Ⅲ | AI10: Ⅱa | AJ10: Ⅱb
AQ11: =IF(P11="材質劣化",2,IF(P11="漏水",3,1)) -> 1 | AS11: =IF(Y11<>"",1,"")
AQ12: =IF(P12="材質劣化",2,IF(P12="漏水",3,1)) -> 1
AQ13: =IF(P13="材質劣化",2,IF(P13="漏水",3,1)) -> 1
AQ14: =IF(P14="材質劣化",2,IF(P14="漏水",3,1)) -> 1
AQ15: =IF(P15="材質劣化",2,IF(P15="漏水",3,1)) -> 1
AQ16: =IF(P16="材質劣化",2,IF(P16="漏水",3,1)) -> 1
AQ17: =IF(P17="材質劣化",2,IF(P17="漏水",3,1)) -> 1
AQ18: =IF(P18="材質劣化",2,IF(P18="漏水",3,1)) -> 1
AQ19: =IF(P19="材質劣化",2,IF(P19="漏水",3,1)) -> 1
AQ20: =IF(P20="材質劣化",2,IF(P20="漏水",3,1)) -> 1
AQ21: =IF(P21="材質劣化",2,IF(P21="漏水",3,1)) -> 1
AQ22: =IF(P22="材質劣化",2,IF(P22="漏水",3,1)) -> 1
AQ23: =IF(P23="材質劣化",2,IF(P23="漏水",3,1)) -> 1
... AQ27: =IF(P27="材質劣化",2,IF(P27="漏水",3,1)) -> 1
AQ28: =IF(P30="材質劣化",2,IF(P30="漏水",3,1)) -> 1
AQ29: =IF(P34="材質劣化",2,IF(P34="漏水",3,1)) -> 1
AQ30: =IF(P30="材質劣化",2,IF(P30="漏水",3,1)) -> 1
AQ31: =IF(P33="材質劣化",2,IF(P33="漏水",3,1)) -> 1
AQ32: =IF(P37="材質劣化",2,IF(P37="漏水",3,1)) -> 1
AQ33: =IF(P33="材質劣化",2,IF(P33="漏水",3,1)) -> 1
AQ34: =IF(P36="材質劣化",2,IF(P36="漏水",3,1)) -> 1
K35: 集計 判定 診断 | L35: 変状の発生規模合計(㎡) | Y35: － | AC35: =SUM(AC11:AC34) -> 0 | AD35: =SUM(AD11:AD34) -> 0 | AE35: =SUM(AE11:AE34) -> 0 | AF35: =SUM(AF11:AF34) -> 0 | AG35: =SUM(AG11:AG34) -> 0 | AH35: =SUM(AH11:AH34) -> 0 | AI35: =SUM(AI11:AI34) -> 0 | AJ35: =SUM(AJ11:AJ34) -> 0 | AK35: 覆工スパン単位の 健全性の 診断の区分 | AM35: Ⅰ
L36: 対策区分の 判定結果 | O36: 対策区分毎の変状数注3 | Y36: Ⅳ | Z36: Ⅲ | AA36: Ⅱa | AB36: Ⅱb | AC36: Ⅳ | AD36: Ⅲ | AE36: Ⅱa | AF36: Ⅱb | AG36: Ⅳ | AH36: Ⅲ | AI36: Ⅱa | AJ36: Ⅱb
Y37: =IF(COUNTIF(Y11:Y34,"〇")>0,"1"," ") | Z37: =IF(COUNTIF(Z11:Z34,"〇")>0,"1"," ") | AA37: =IF(COUNTIF(AA11:AA34,"〇")>0,"1"," ") | AB37: =IF(COUNTIF(AB11:AB34,"〇")>0,"1"," ") | AC37: =COUNTA(AC11:AC34) -> 0 | AD37: =COUNTA(AD11:AD34) -> 0 | AE37: =COUNTA(AE11:AE34) -> 0 | AF37: =COUNTA(AF11:AF34) -> 0 | AG37: =COUNTA(AG11:AG34) -> 0 | AH37: =COUNTA(AH11:AH34) -> 0 | AI37: =COUNTA(AI11:AI34) -> 0 | AJ37: =COUNTA(AJ11:AJ34) -> 0
K39: 所見
K43: 注1：誤記入防止のため、当該変状区分以外のセルは灰色表示とすること。
K44: 注2：応急措置を実施した場合は、その詳細を備考に記載すること。
K45: 注3：外力は覆工スパン単位、材質劣化、漏水は変状単位とすること。
B46: （以下、印刷不要）
B47: ※1：本シートは作成洩れのないよう、変状が無くても全スパン分を作成すること．また変状展開図は、様式D-2-1、様式D-2-1'と同じものを覆工スパン単位で拡大し掲載すること。
B48: ※2：変状番号は、様式D-1-1で記入した番号と整合させること。
B49: ※3：対策区分毎の変状発生規模は、様式D-1-1に記載した面積を記入すること（ただし外力はスパン単位で評価するため変状の有無の欄には面積でなく○を記入し、備考欄に状況を記入）。
B50: ※4：本様式は覆工スパン毎に作成すること。
B51: ※5：変状数が多い場合は、適時、表の行を増やして覆工スパン毎に1枚のシートに収めること。また、1スパン１シートとし、スパンに合わせてシートを追加すること。
B52: ※6：対策区分毎の変状の発生範囲の規模とは，対策を行う際に参考となる変状の長さや面積であり，変状を包含する長さや面積とする。
B53: ※7：対策範囲を示す発生範囲の規模を面積で記入することが妥当ではない変状は、発生範囲の規模の欄に○を記入するとともに、備考に内容を記入すること。

Sheet 様式D-3_S006
AU1: 様式F用→ | AV1: 覆工スパン | AY1: 変 状 数 | BK1: 変 状 規 模
AV2: 番号 | AW2: 延長 （ｍ） | AX2: 健全性の診断の 区分 | AY2: 対策区分の判定 | BK2: 覆工スパン長（ｍ） | BO2: 変状の発生範囲の規模（㎡）
B3: ■定期点検記録様式 覆工スパン別変状詳細展開図 【様式D-3】 | AY3: 外力 | BC3: 材質劣化 | BG3: 漏水 | BK3: 外力 注2 | BO3: 材質劣化 | BS3: 漏水
B4: フリガナ | E4: モリガハラダイイチトンネル | K4: 路線名 | N4: 岩国大竹線 | T4: 定期点検実施者 | Y4: 株式会社エイト日本技術開発 | AG4: 定期点検年月日 | AK4: 2024年10月29日、30日 | AY4: Ⅳ | AZ4: Ⅲ | BA4: Ⅱa | BB4: Ⅱb | BC4: Ⅳ | BD4: Ⅲ | BE4: Ⅱa | BF4: Ⅱb | BG4: Ⅳ | BH4: Ⅲ | BI4: Ⅱa | BJ4: Ⅱb | BK4: Ⅳ | BL4: Ⅲ | BM4: Ⅱa | BN4: Ⅱb | BO4: Ⅳ | BP4: Ⅲ | BQ4: Ⅱa | BR4: Ⅱb | BS4: Ⅳ | BT4: Ⅲ | BU4: Ⅱa | BV4: Ⅱb
B5: 名 称 | E5: 森ヶ原第１トンネル | K5: 管理者名 | N5: 山口県岩国土木建築事務所 | Y5: 岡根 三千夫 | AV5: =N7 -> 6 | AW5: =R7 -> 10.3 | AX5: =AM35 -> Ⅰ | AY5: =Y37 | AZ5: =Z37 | BA5: =AA37 | BB5: =AB37 | BC5: =AC37 -> 0 | BD5: =AD37 -> 0 | BE5: =AE37 -> 0 | BF5: =AF37 -> 0 | ... BJ5: =AJ37 -> 0 | BK5: =IF(Y37>0,R7,"") -> 10.3 | BL5: =IF(Y37>0,"",IF(Z37>0,R7,"")) | BM5: =IF(Y37+Z37>0,"",IF(AA37>0,R7,"")) -> #VALUE! | BN5: =IF(Y37+Z37+AA37>0,"",IF(AB37>0,R7,"")) -> #VALUE! | BO5: =AC35 -> 0 | BP5: =AD35 -> 0 | BQ5: =AE35 -> 0 | BR5: =AF35 -> 0 | BS5: =AG35 -> 0 | BT5: =AH35 -> 0 | BU5: =AI35 -> 0 | BV5: =AJ35 -> 0
B6: スパン別変状展開図 | K6: 【健全性判定集計表】
K7: スパン番号 | N7: 6 | P7: スパン長 | R7: 10.3 | U7: 前回定期点検時の判定 | W7: 応急措置前の判定 | Y7: 対策区分毎の 変状の有無 | AC7: 対策区分毎の変状の発生範囲の規模(㎡) | AK7: 備考注2
K8: 変状番号 | L8: 対象箇所 | N8: 部位区分 | P8: 変状区分 | R8: 変状種類
Y9: 外力注1 | AC9: 材質劣化注1 | AG9: 漏水注1
Y10: Ⅳ | Z10: Ⅲ | AA10: Ⅱa | AB10: Ⅱb | AC10: Ⅳ | AD10: Ⅲ | AE10: Ⅱa | AF10: Ⅱb | AG10: Ⅳ | AH10: Ⅲ | AI10: Ⅱa | AJ10: Ⅱb
AQ11: =IF(P11="材質劣化",2,IF(P11="漏水",3,1)) -> 1 | AS11: =IF(Y11<>"",1,"")
AQ12: =IF(P12="材質劣化",2,IF(P12="漏水",3,1)) -> 1
AQ13: =IF(P13="材質劣化",2,IF(P13="漏水",3,1)) -> 1
AQ14: =IF(P14="材質劣化",2,IF(P14="漏水",3,1)) -> 1
AQ15: =IF(P15="材質劣化",2,IF(P15="漏水",3,1)) -> 1
AQ16: =IF(P16="材質劣化",2,IF(P16="漏水",3,1)) -> 1
AQ17: =IF(P17="材質劣化",2,IF(P17="漏水",3,1)) -> 1
AQ18: =IF(P18="材質劣化",2,IF(P18="漏水",3,1)) -> 1
AQ19: =IF(P19="材質劣化",2,IF(P19="漏水",3,1)) -> 1
AQ20: =IF(P20="材質劣化",2,IF(P20="漏水",3,1)) -> 1
AQ21: =IF(P21="材質劣化",2,IF(P21="漏水",3,1)) -> 1
AQ22: =IF(P22="材質劣化",2,IF(P22="漏水",3,1)) -> 1
AQ23: =IF(P23="材質劣化",2,IF(P23="漏水",3,1)) -> 1
... AQ27: =IF(P27="材質劣化",2,IF(P27="漏水",3,1)) -> 1
AQ28: =IF(P30="材質劣化",2,IF(P30="漏水",3,1)) -> 1
AQ29: =IF(P34="材質劣化",2,IF(P34="漏水",3,1)) -> 1
AQ30: =IF(P30="材質劣化",2,IF(P30="漏水",3,1)) -> 1
AQ31: =IF(P33="材質劣化",2,IF(P33="漏水",3,1)) -> 1
AQ32: =IF(P37="材質劣化",2,IF(P37="漏水",3,1)) -> 1
AQ33: =IF(P33="材質劣化",2,IF(P33="漏水",3,1)) -> 1
AQ34: =IF(P36="材質劣化",2,IF(P36="漏水",3,1)) -> 1
K35: 集計 判定 診断 | L35: 変状の発生規模合計(㎡) | Y35: － | AC35: =SUM(AC11:AC34) -> 0 | AD35: =SUM(AD11:AD34) -> 0 | AE35: =SUM(AE11:AE34) -> 0 | AF35: =SUM(AF11:AF34) -> 0 | AG35: =SUM(AG11:AG34) -> 0 | AH35: =SUM(AH11:AH34) -> 0 | AI35: =SUM(AI11:AI34) -> 0 | AJ35: =SUM(AJ11:AJ34) -> 0 | AK35: 覆工スパン単位の 健全性の 診断の区分 | AM35: Ⅰ
L36: 対策区分の 判定結果 | O36: 対策区分毎の変状数注3 | Y36: Ⅳ | Z36: Ⅲ | AA36: Ⅱa | AB36: Ⅱb | AC36: Ⅳ | AD36: Ⅲ | AE36: Ⅱa | AF36: Ⅱb | AG36: Ⅳ | AH36: Ⅲ | AI36: Ⅱa | AJ36: Ⅱb
Y37: =IF(COUNTIF(Y11:Y34,"〇")>0,"1"," ") | Z37: =IF(COUNTIF(Z11:Z34,"〇")>0,"1"," ") | AA37: =IF(COUNTIF(AA11:AA34,"〇")>0,"1"," ") | AB37: =IF(COUNTIF(AB11:AB34,"〇")>0,"1"," ") | AC37: =COUNTA(AC11:AC34) -> 0 | AD37: =COUNTA(AD11:AD34) -> 0 | AE37: =COUNTA(AE11:AE34) -> 0 | AF37: =COUNTA(AF11:AF34) -> 0 | AG37: =COUNTA(AG11:AG34) -> 0 | AH37: =COUNTA(AH11:AH34) -> 0 | AI37: =COUNTA(AI11:AI34) -> 0 | AJ37: =COUNTA(AJ11:AJ34) -> 0
K39: 所見
K43: 注1：誤記入防止のため、当該変状区分以外のセルは灰色表示とすること。
K44: 注2：応急措置を実施した場合は、その詳細を備考に記載すること。
K45: 注3：外力は覆工スパン単位、材質劣化、漏水は変状単位とすること。
B46: （以下、印刷不要）
B47: ※1：本シートは作成洩れのないよう、変状が無くても全スパン分を作成すること．また変状展開図は、様式D-2-1、様式D-2-1'と同じものを覆工スパン単位で拡大し掲載すること。
B48: ※2：変状番号は、様式D-1-1で記入した番号と整合させること。
B49: ※3：対策区分毎の変状発生規模は、様式D-1-1に記載した面積を記入すること（ただし外力はスパン単位で評価するため変状の有無の欄には面積でなく○を記入し、備考欄に状況を記入）。
B50: ※4：本様式は覆工スパン毎に作成すること。
B51: ※5：変状数が多い場合は、適時、表の行を増やして覆工スパン毎に1枚のシートに収めること。また、1スパン１シートとし、スパンに合わせてシートを追加すること。
B52: ※6：対策区分毎の変状の発生範囲の規模とは，対策を行う際に参考となる変状の長さや面積であり，変状を包含する長さや面積とする。
B53: ※7：対策範囲を示す発生範囲の規模を面積で記入することが妥当ではない変状は、発生範囲の規模の欄に○を記入するとともに、備考に内容を記入すること。

Sheet 様式D-3_S007
AU1: 様式F用→ | AV1: 覆工スパン | AY1: 変 状 数 | BK1: 変 状 規 模
AV2: 番号 | AW2: 延長 （ｍ） | AX2: 健全性の診断の 区分 | AY2: 対策区分の判定 | BK2: 覆工スパン長（ｍ） | BO2: 変状の発生範囲の規模（㎡）
B3: ■定期点検記録様式 覆工スパン別変状詳細展開図 【様式D-3】 | AY3: 外力 | BC3: 材質劣化 | BG3: 漏水 | BK3: 外力 注2 | BO3: 材質劣化 | BS3: 漏水
B4: フリガナ | E4: モリガハラダイイチトンネル | K4: 路線名 | N4: 岩国大竹線 | T4: 定期点検実施者 | Y4: 株式会社エイト日本技術開発 | AG4: 定期点検年月日 | AK4: 2024年10月29日、30日 | AY4: Ⅳ | AZ4: Ⅲ | BA4: Ⅱa | BB4: Ⅱb | BC4: Ⅳ | BD4: Ⅲ | BE4: Ⅱa | BF4: Ⅱb | BG4: Ⅳ | BH4: Ⅲ | BI4: Ⅱa | BJ4: Ⅱb | BK4: Ⅳ | BL4: Ⅲ | BM4: Ⅱa | BN4: Ⅱb | BO4: Ⅳ | BP4: Ⅲ | BQ4: Ⅱa | BR4: Ⅱb | BS4: Ⅳ | BT4: Ⅲ | BU4: Ⅱa | BV4: Ⅱb
B5: 名 称 | E5: 森ヶ原第１トンネル | K5: 管理者名 | N5: 山口県岩国土木建築事務所 | Y5: 岡根 三千夫 | AV5: =N7 -> 7 | AW5: =R7 -> 10.5 | AX5: =AM35 -> Ⅰ | AY5: =Y37 | AZ5: =Z37 | BA5: =AA37 | BB5: =AB37 | BC5: =AC37 -> 0 | BD5: =AD37 -> 0 | BE5: =AE37 -> 0 | BF5: =AF37 -> 0 | ... BJ5: =AJ37 -> 0 | BK5: =IF(Y37>0,R7,"") -> 10.5 | BL5: =IF(Y37>0,"",IF(Z37>0,R7,"")) | BM5: =IF(Y37+Z37>0,"",IF(AA37>0,R7,"")) -> #VALUE! | BN5: =IF(Y37+Z37+AA37>0,"",IF(AB37>0,R7,"")) -> #VALUE! | BO5: =AC35 -> 0 | BP5: =AD35 -> 0 | BQ5: =AE35 -> 0 | BR5: =AF35 -> 0 | BS5: =AG35 -> 0 | BT5: =AH35 -> 0 | BU5: =AI35 -> 0 | BV5: =AJ35 -> 0
B6: スパン別変状展開図 | K6: 【健全性判定集計表】
K7: スパン番号 | N7: 7 | P7: スパン長 | R7: 10.5 | U7: 前回定期点検時の判定 | W7: 応急措置前の判定 | Y7: 対策区分毎の 変状の有無 | AC7: 対策区分毎の変状の発生範囲の規模(㎡) | AK7: 備考注2
K8: 変状番号 | L8: 対象箇所 | N8: 部位区分 | P8: 変状区分 | R8: 変状種類
Y9: 外力注1 | AC9: 材質劣化注1 | AG9: 漏水注1
Y10: Ⅳ | Z10: Ⅲ | AA10: Ⅱa | AB10: Ⅱb | AC10: Ⅳ | AD10: Ⅲ | AE10: Ⅱa | AF10: Ⅱb | AG10: Ⅳ | AH10: Ⅲ | AI10: Ⅱa | AJ10: Ⅱb
AQ11: =IF(P11="材質劣化",2,IF(P11="漏水",3,1)) -> 1 | AS11: =IF(Y11<>"",1,"")
AQ12: =IF(P12="材質劣化",2,IF(P12="漏水",3,1)) -> 1
AQ13: =IF(P13="材質劣化",2,IF(P13="漏水",3,1)) -> 1
AQ14: =IF(P14="材質劣化",2,IF(P14="漏水",3,1)) -> 1
AQ15: =IF(P15="材質劣化",2,IF(P15="漏水",3,1)) -> 1
AQ16: =IF(P16="材質劣化",2,IF(P16="漏水",3,1)) -> 1
AQ17: =IF(P17="材質劣化",2,IF(P17="漏水",3,1)) -> 1
AQ18: =IF(P18="材質劣化",2,IF(P18="漏水",3,1)) -> 1
AQ19: =IF(P19="材質劣化",2,IF(P19="漏水",3,1)) -> 1
AQ20: =IF(P20="材質劣化",2,IF(P20="漏水",3,1)) -> 1
AQ21: =IF(P21="材質劣化",2,IF(P21="漏水",3,1)) -> 1
AQ22: =IF(P22="材質劣化",2,IF(P22="漏水",3,1)) -> 1
AQ23: =IF(P23="材質劣化",2,IF(P23="漏水",3,1)) -> 1
... AQ27: =IF(P27="材質劣化",2,IF(P27="漏水",3,1)) -> 1
AQ28: =IF(P30="材質劣化",2,IF(P30="漏水",3,1)) -> 1
AQ29: =IF(P34="材質劣化",2,IF(P34="漏水",3,1)) -> 1
AQ30: =IF(P30="材質劣化",2,IF(P30="漏水",3,1)) -> 1
AQ31: =IF(P33="材質劣化",2,IF(P33="漏水",3,1)) -> 1
AQ32: =IF(P37="材質劣化",2,IF(P37="漏水",3,1)) -> 1
AQ33: =IF(P33="材質劣化",2,IF(P33="漏水",3,1)) -> 1
AQ34: =IF(P36="材質劣化",2,IF(P36="漏水",3,1)) -> 1
K35: 集計 判定 診断 | L35: 変状の発生規模合計(㎡) | Y35: － | AC35: =SUM(AC11:AC34) -> 0 | AD35: =SUM(AD11:AD34) -> 0 | AE35: =SUM(AE11:AE34) -> 0 | AF35: =SUM(AF11:AF34) -> 0 | AG35: =SUM(AG11:AG34) -> 0 | AH35: =SUM(AH11:AH34) -> 0 | AI35: =SUM(AI11:AI34) -> 0 | AJ35: =SUM(AJ11:AJ34) -> 0 | AK35: 覆工スパン単位の 健全性の 診断の区分 | AM35: Ⅰ
L36: 対策区分の 判定結果 | O36: 対策区分毎の変状数注3 | Y36: Ⅳ | Z36: Ⅲ | AA36: Ⅱa | AB36: Ⅱb | AC36: Ⅳ | AD36: Ⅲ | AE36: Ⅱa | AF36: Ⅱb | AG36: Ⅳ | AH36: Ⅲ | AI36: Ⅱa | AJ36: Ⅱb
Y37: =IF(COUNTIF(Y11:Y34,"〇")>0,"1"," ") | Z37: =IF(COUNTIF(Z11:Z34,"〇")>0,"1"," ") | AA37: =IF(COUNTIF(AA11:AA34,"〇")>0,"1"," ") | AB37: =IF(COUNTIF(AB11:AB34,"〇")>0,"1"," ") | AC37: =COUNTA(AC11:AC34) -> 0 | AD37: =COUNTA(AD11:AD34) -> 0 | AE37: =COUNTA(AE11:AE34) -> 0 | AF37: =COUNTA(AF11:AF34) -> 0 | AG37: =COUNTA(AG11:AG34) -> 0 | AH37: =COUNTA(AH11:AH34) -> 0 | AI37: =COUNTA(AI11:AI34) -> 0 | AJ37: =COUNTA(AJ11:AJ34) -> 0
K39: 所見
K43: 注1：誤記入防止のため、当該変状区分以外のセルは灰色表示とすること。
K44: 注2：応急措置を実施した場合は、その詳細を備考に記載すること。
K45: 注3：外力は覆工スパン単位、材質劣化、漏水は変状単位とすること。
B46: （以下、印刷不要）
B47: ※1：本シートは作成洩れのないよう、変状が無くても全スパン分を作成すること．また変状展開図は、様式D-2-1、様式D-2-1'と同じものを覆工スパン単位で拡大し掲載すること。
B48: ※2：変状番号は、様式D-1-1で記入した番号と整合させること。
B49: ※3：対策区分毎の変状発生規模は、様式D-1-1に記載した面積を記入すること（ただし外力はスパン単位で評価するため変状の有無の欄には面積でなく○を記入し、備考欄に状況を記入）。
B50: ※4：本様式は覆工スパン毎に作成すること。
B51: ※5：変状数が多い場合は、適時、表の行を増やして覆工スパン毎に1枚のシートに収めること。また、1スパン１シートとし、スパンに合わせてシートを追加すること。
B52: ※6：対策区分毎の変状の発生範囲の規模とは，対策を行う際に参考となる変状の長さや面積であり，変状を包含する長さや面積とする。
B53: ※7：対策範囲を示す発生範囲の規模を面積で記入することが妥当ではない変状は、発生範囲の規模の欄に○を記入するとともに、備考に内容を記入すること。

Sheet 様式D-3_S008
AU1: 様式F用→ | AV1: 覆工スパン | AY1: 変 状 数 | BK1: 変 状 規 模
AV2: 番号 | AW2: 延長 （ｍ） | AX2: 健全性の診断の 区分 | AY2: 対策区分の判定 | BK2: 覆工スパン長（ｍ） | BO2: 変状の発生範囲の規模（㎡）
B3: ■定期点検記録様式 覆工スパン別変状詳細展開図 【様式D-3】 | AY3: 外力 | BC3: 材質劣化 | BG3: 漏水 | BK3: 外力 注2 | BO3: 材質劣化 | BS3: 漏水
B4: フリガナ | E4: モリガハラダイイチトンネル | K4: 路線名 | N4: 岩国大竹線 | T4: 定期点検実施者 | Y4: 株式会社エイト日本技術開発 | AG4: 定期点検年月日 | AK4: 2024年10月29日、30日 | AY4: Ⅳ | AZ4: Ⅲ | BA4: Ⅱa | BB4: Ⅱb | BC4: Ⅳ | BD4: Ⅲ | BE4: Ⅱa | BF4: Ⅱb | BG4: Ⅳ | BH4: Ⅲ | BI4: Ⅱa | BJ4: Ⅱb | BK4: Ⅳ | BL4: Ⅲ | BM4: Ⅱa | BN4: Ⅱb | BO4: Ⅳ | BP4: Ⅲ | BQ4: Ⅱa | BR4: Ⅱb | BS4: Ⅳ | BT4: Ⅲ | BU4: Ⅱa | BV4: Ⅱb
B5: 名 称 | E5: 森ヶ原第１トンネル | K5: 管理者名 | N5: 山口県岩国土木建築事務所 | Y5: 岡根 三千夫 | AV5: =N7 -> 8 | AW5: =R7 -> 10.5 | AX5: =AM35 -> Ⅰ | AY5: =Y37 | AZ5: =Z37 | BA5: =AA37 | BB5: =AB37 | BC5: =AC37 -> 0 | BD5: =AD37 -> 0 | BE5: =AE37 -> 0 | BF5: =AF37 -> 0 | ... BJ5: =AJ37 -> 0 | BK5: =IF(Y37>0,R7,"") -> 10.5 | BL5: =IF(Y37>0,"",IF(Z37>0,R7,"")) | BM5: =IF(Y37+Z37>0,"",IF(AA37>0,R7,"")) -> #VALUE! | BN5: =IF(Y37+Z37+AA37>0,"",IF(AB37>0,R7,"")) -> #VALUE! | BO5: =AC35 -> 0 | BP5: =AD35 -> 0 | BQ5: =AE35 -> 0 | BR5: =AF35 -> 0 | BS5: =AG35 -> 0 | BT5: =AH35 -> 0 | BU5: =AI35 -> 0 | BV5: =AJ35 -> 0
B6: スパン別変状展開図 | K6: 【健全性判定集計表】
K7: スパン番号 | N7: 8 | P7: スパン長 | R7: 10.5 | U7: 前回定期点検時の判定 | W7: 応急措置前の判定 | Y7: 対策区分毎の 変状の有無 | AC7: 対策区分毎の変状の発生範囲の規模(㎡) | AK7: 備考注2
K8: 変状番号 | L8: 対象箇所 | N8: 部位区分 | P8: 変状区分 | R8: 変状種類
Y9: 外力注1 | AC9: 材質劣化注1 | AG9: 漏水注1
Y10: Ⅳ | Z10: Ⅲ | AA10: Ⅱa | AB10: Ⅱb | AC10: Ⅳ | AD10: Ⅲ | AE10: Ⅱa | AF10: Ⅱb | AG10: Ⅳ | AH10: Ⅲ | AI10: Ⅱa | AJ10: Ⅱb
AQ11: =IF(P11="材質劣化",2,IF(P11="漏水",3,1)) -> 1 | AS11: =IF(Y11<>"",1,"")
AQ12: =IF(P12="材質劣化",2,IF(P12="漏水",3,1)) -> 1
AQ13: =IF(P13="材質劣化",2,IF(P13="漏水",3,1)) -> 1
AQ14: =IF(P14="材質劣化",2,IF(P14="漏水",3,1)) -> 1
AQ15: =IF(P15="材質劣化",2,IF(P15="漏水",3,1)) -> 1
AQ16: =IF(P16="材質劣化",2,IF(P16="漏水",3,1)) -> 1
AQ17: =IF(P17="材質劣化",2,IF(P17="漏水",3,1)) -> 1
AQ18: =IF(P18="材質劣化",2,IF(P18="漏水",3,1)) -> 1
AQ19: =IF(P19="材質劣化",2,IF(P19="漏水",3,1)) -> 1
AQ20: =IF(P20="材質劣化",2,IF(P20="漏水",3,1)) -> 1
AQ21: =IF(P21="材質劣化",2,IF(P21="漏水",3,1)) -> 1
AQ22: =IF(P22="材質劣化",2,IF(P22="漏水",3,1)) -> 1
AQ23: =IF(P23="材質劣化",2,IF(P23="漏水",3,1)) -> 1
... AQ27: =IF(P27="材質劣化",2,IF(P27="漏水",3,1)) -> 1
AQ28: =IF(P30="材質劣化",2,IF(P30="漏水",3,1)) -> 1
AQ29: =IF(P34="材質劣化",2,IF(P34="漏水",3,1)) -> 1
AQ30: =IF(P30="材質劣化",2,IF(P30="漏水",3,1)) -> 1
AQ31: =IF(P33="材質劣化",2,IF(P33="漏水",3,1)) -> 1
AQ32: =IF(P37="材質劣化",2,IF(P37="漏水",3,1)) -> 1
AQ33: =IF(P33="材質劣化",2,IF(P33="漏水",3,1)) -> 1
AQ34: =IF(P36="材質劣化",2,IF(P36="漏水",3,1)) -> 1
K35: 集計 判定 診断 | L35: 変状の発生規模合計(㎡) | Y35: － | AC35: =SUM(AC11:AC34) -> 0 | AD35: =SUM(AD11:AD34) -> 0 | AE35: =SUM(AE11:AE34) -> 0 | AF35: =SUM(AF11:AF34) -> 0 | AG35: =SUM(AG11:AG34) -> 0 | AH35: =SUM(AH11:AH34) -> 0 | AI35: =SUM(AI11:AI34) -> 0 | AJ35: =SUM(AJ11:AJ34) -> 0 | AK35: 覆工スパン単位の 健全性の 診断の区分 | AM35: Ⅰ
L36: 対策区分の 判定結果 | O36: 対策区分毎の変状数注3 | Y36: Ⅳ | Z36: Ⅲ | AA36: Ⅱa | AB36: Ⅱb | AC36: Ⅳ | AD36: Ⅲ | AE36: Ⅱa | AF36: Ⅱb | AG36: Ⅳ | AH36: Ⅲ | AI36: Ⅱa | AJ36: Ⅱb
Y37: =IF(COUNTIF(Y11:Y34,"〇")>0,"1"," ") | Z37: =IF(COUNTIF(Z11:Z34,"〇")>0,"1"," ") | AA37: =IF(COUNTIF(AA11:AA34,"〇")>0,"1"," ") | AB37: =IF(COUNTIF(AB11:AB34,"〇")>0,"1"," ") | AC37: =COUNTA(AC11:AC34) -> 0 | AD37: =COUNTA(AD11:AD34) -> 0 | AE37: =COUNTA(AE11:AE34) -> 0 | AF37: =COUNTA(AF11:AF34) -> 0 | AG37: =COUNTA(AG11:AG34) -> 0 | AH37: =COUNTA(AH11:AH34) -> 0 | AI37: =COUNTA(AI11:AI34) -> 0 | AJ37: =COUNTA(AJ11:AJ34) -> 0
K39: 所見
K43: 注1：誤記入防止のため、当該変状区分以外のセルは灰色表示とすること。
K44: 注2：応急措置を実施した場合は、その詳細を備考に記載すること。
K45: 注3：外力は覆工スパン単位、材質劣化、漏水は変状単位とすること。
B46: （以下、印刷不要）
B47: ※1：本シートは作成洩れのないよう、変状が無くても全スパン分を作成すること．また変状展開図は、様式D-2-1、様式D-2-1'と同じものを覆工スパン単位で拡大し掲載すること。
B48: ※2：変状番号は、様式D-1-1で記入した番号と整合させること。
B49: ※3：対策区分毎の変状発生規模は、様式D-1-1に記載した面積を記入すること（ただし外力はスパン単位で評価するため変状の有無の欄には面積でなく○を記入し、備考欄に状況を記入）。
B50: ※4：本様式は覆工スパン毎に作成すること。
B51: ※5：変状数が多い場合は、適時、表の行を増やして覆工スパン毎に1枚のシートに収めること。また、1スパン１シートとし、スパンに合わせてシートを追加すること。
B52: ※6：対策区分毎の変状の発生範囲の規模とは，対策を行う際に参考となる変状の長さや面積であり，変状を包含する長さや面積とする。
B53: ※7：対策範囲を示す発生範囲の規模を面積で記入することが妥当ではない変状は、発生範囲の規模の欄に○を記入するとともに、備考に内容を記入すること。

Sheet 様式D-3_S009
AU1: 様式F用→ | AV1: 覆工スパン | AY1: 変 状 数 | BK1: 変 状 規 模
AV2: 番号 | AW2: 延長 （ｍ） | AX2: 健全性の診断の 区分 | AY2: 対策区分の判定 | BK2: 覆工スパン長（ｍ） | BO2: 変状の発生範囲の規模（㎡）
B3: ■定期点検記録様式 覆工スパン別変状詳細展開図 【様式D-3】 | AY3: 外力 | BC3: 材質劣化 | BG3: 漏水 | BK3: 外力 注2 | BO3: 材質劣化 | BS3: 漏水
B4: フリガナ | E4: モリガハラダイイチトンネル | K4: 路線名 | N4: 岩国大竹線 | T4: 定期点検実施者 | Y4: 株式会社エイト日本技術開発 | AG4: 定期点検年月日 | AK4: 2024年10月29日、30日 | AY4: Ⅳ | AZ4: Ⅲ | BA4: Ⅱa | BB4: Ⅱb | BC4: Ⅳ | BD4: Ⅲ | BE4: Ⅱa | BF4: Ⅱb | BG4: Ⅳ | BH4: Ⅲ | BI4: Ⅱa | BJ4: Ⅱb | BK4: Ⅳ | BL4: Ⅲ | BM4: Ⅱa | BN4: Ⅱb | BO4: Ⅳ | BP4: Ⅲ | BQ4: Ⅱa | BR4: Ⅱb | BS4: Ⅳ | BT4: Ⅲ | BU4: Ⅱa | BV4: Ⅱb
B5: 名 称 | E5: 森ヶ原第１トンネル | K5: 管理者名 | N5: 山口県岩国土木建築事務所 | Y5: 岡根 三千夫 | AV5: =N7 -> 9 | AW5: =R7 -> 10.5 | AX5: =AM35 -> Ⅰ | AY5: =Y37 | AZ5: =Z37 | BA5: =AA37 | BB5: =AB37 | BC5: =AC37 -> 0 | BD5: =AD37 -> 0 | BE5: =AE37 -> 0 | BF5: =AF37 -> 0 | ... BJ5: =AJ37 -> 0 | BK5: =IF(Y37>0,R7,"") -> 10.5 | BL5: =IF(Y37>0,"",IF(Z37>0,R7,"")) | BM5: =IF(Y37+Z37>0,"",IF(AA37>0,R7,"")) -> #VALUE! | BN5: =IF(Y37+Z37+AA37>0,"",IF(AB37>0,R7,"")) -> #VALUE! | BO5: =AC35 -> 0 | BP5: =AD35 -> 0 | BQ5: =AE35 -> 0 | BR5: =AF35 -> 0 | BS5: =AG35 -> 0 | BT5: =AH35 -> 0 | BU5: =AI35 -> 0 | BV5: =AJ35 -> 0
B6: スパン別変状展開図 | K6: 【健全性判定集計表】
K7: スパン番号 | N7: 9 | P7: スパン長 | R7: 10.5 | U7: 前回定期点検時の判定 | W7: 応急措置前の判定 | Y7: 対策区分毎の 変状の有無 | AC7: 対策区分毎の変状の発生範囲の規模(㎡) | AK7: 備考注2
K8: 変状番号 | L8: 対象箇所 | N8: 部位区分 | P8: 変状区分 | R8: 変状種類
Y9: 外力注1 | AC9: 材質劣化注1 | AG9: 漏水注1
Y10: Ⅳ | Z10: Ⅲ | AA10: Ⅱa | AB10: Ⅱb | AC10: Ⅳ | AD10: Ⅲ | AE10: Ⅱa | AF10: Ⅱb | AG10: Ⅳ | AH10: Ⅲ | AI10: Ⅱa | AJ10: Ⅱb
AQ11: =IF(P11="材質劣化",2,IF(P11="漏水",3,1)) -> 1 | AS11: =IF(Y11<>"",1,"")
AQ12: =IF(P12="材質劣化",2,IF(P12="漏水",3,1)) -> 1
AQ13: =IF(P13="材質劣化",2,IF(P13="漏水",3,1)) -> 1
AQ14: =IF(P14="材質劣化",2,IF(P14="漏水",3,1)) -> 1
AQ15: =IF(P15="材質劣化",2,IF(P15="漏水",3,1)) -> 1
AQ16: =IF(P16="材質劣化",2,IF(P16="漏水",3,1)) -> 1
AQ17: =IF(P17="材質劣化",2,IF(P17="漏水",3,1)) -> 1
AQ18: =IF(P18="材質劣化",2,IF(P18="漏水",3,1)) -> 1
AQ19: =IF(P19="材質劣化",2,IF(P19="漏水",3,1)) -> 1
AQ20: =IF(P20="材質劣化",2,IF(P20="漏水",3,1)) -> 1
AQ21: =IF(P21="材質劣化",2,IF(P21="漏水",3,1)) -> 1
AQ22: =IF(P22="材質劣化",2,IF(P22="漏水",3,1)) -> 1
AQ23: =IF(P23="材質劣化",2,IF(P23="漏水",3,1)) -> 1
... AQ27: =IF(P27="材質劣化",2,IF(P27="漏水",3,1)) -> 1
AQ28: =IF(P30="材質劣化",2,IF(P30="漏水",3,1)) -> 1
AQ29: =IF(P34="材質劣化",2,IF(P34="漏水",3,1)) -> 1
AQ30: =IF(P30="材質劣化",2,IF(P30="漏水",3,1)) -> 1
AQ31: =IF(P33="材質劣化",2,IF(P33="漏水",3,1)) -> 1
AQ32: =IF(P37="材質劣化",2,IF(P37="漏水",3,1)) -> 1
AQ33: =IF(P33="材質劣化",2,IF(P33="漏水",3,1)) -> 1
AQ34: =IF(P36="材質劣化",2,IF(P36="漏水",3,1)) -> 1
K35: 集計 判定 診断 | L35: 変状の発生規模合計(㎡) | Y35: － | AC35: =SUM(AC11:AC34) -> 0 | AD35: =SUM(AD11:AD34) -> 0 | AE35: =SUM(AE11:AE34) -> 0 | AF35: =SUM(AF11:AF34) -> 0 | AG35: =SUM(AG11:AG34) -> 0 | AH35: =SUM(AH11:AH34) -> 0 | AI35: =SUM(AI11:AI34) -> 0 | AJ35: =SUM(AJ11:AJ34) -> 0 | AK35: 覆工スパン単位の 健全性の 診断の区分 | AM35: Ⅰ
L36: 対策区分の 判定結果 | O36: 対策区分毎の変状数注3 | Y36: Ⅳ | Z36: Ⅲ | AA36: Ⅱa | AB36: Ⅱb | AC36: Ⅳ | AD36: Ⅲ | AE36: Ⅱa | AF36: Ⅱb | AG36: Ⅳ | AH36: Ⅲ | AI36: Ⅱa | AJ36: Ⅱb
Y37: =IF(COUNTIF(Y11:Y34,"〇")>0,"1"," ") | Z37: =IF(COUNTIF(Z11:Z34,"〇")>0,"1"," ") | AA37: =IF(COUNTIF(AA11:AA34,"〇")>0,"1"," ") | AB37: =IF(COUNTIF(AB11:AB34,"〇")>0,"1"," ") | AC37: =COUNTA(AC11:AC34) -> 0 | AD37: =COUNTA(AD11:AD34) -> 0 | AE37: =COUNTA(AE11:AE34) -> 0 | AF37: =COUNTA(AF11:AF34) -> 0 | AG37: =COUNTA(AG11:AG34) -> 0 | AH37: =COUNTA(AH11:AH34) -> 0 | AI37: =COUNTA(AI11:AI34) -> 0 | AJ37: =COUNTA(AJ11:AJ34) -> 0
K39: 所見
K43: 注1：誤記入防止のため、当該変状区分以外のセルは灰色表示とすること。
K44: 注2：応急措置を実施した場合は、その詳細を備考に記載すること。
K45: 注3：外力は覆工スパン単位、材質劣化、漏水は変状単位とすること。
B46: （以下、印刷不要）
B47: ※1：本シートは作成洩れのないよう、変状が無くても全スパン分を作成すること．また変状展開図は、様式D-2-1、様式D-2-1'と同じものを覆工スパン単位で拡大し掲載すること。
B48: ※2：変状番号は、様式D-1-1で記入した番号と整合させること。
B49: ※3：対策区分毎の変状発生規模は、様式D-1-1に記載した面積を記入すること（ただし外力はスパン単位で評価するため変状の有無の欄には面積でなく○を記入し、備考欄に状況を記入）。
B50: ※4：本様式は覆工スパン毎に作成すること。
B51: ※5：変状数が多い場合は、適時、表の行を増やして覆工スパン毎に1枚のシートに収めること。また、1スパン１シートとし、スパンに合わせてシートを追加すること。
B52: ※6：対策区分毎の変状の発生範囲の規模とは，対策を行う際に参考となる変状の長さや面積であり，変状を包含する長さや面積とする。
B53: ※7：対策範囲を示す発生範囲の規模を面積で記入することが妥当ではない変状は、発生範囲の規模の欄に○を記入するとともに、備考に内容を記入すること。

Sheet 様式D-3_S010
AU1: 様式F用→ | AV1: 覆工スパン | AY1: 変 状 数 | BK1: 変 状 規 模
AV2: 番号 | AW2: 延長 （ｍ） | AX2: 健全性の診断の 区分 | AY2: 対策区分の判定 | BK2: 覆工スパン長（ｍ） | BO2: 変状の発生範囲の規模（㎡）
B3: ■定期点検記録様式 覆工スパン別変状詳細展開図 【様式D-3】 | AY3: 外力 | BC3: 材質劣化 | BG3: 漏水 | BK3: 外力 注2 | BO3: 材質劣化 | BS3: 漏水
B4: フリガナ | E4: モリガハラダイイチトンネル | K4: 路線名 | N4: 岩国大竹線 | T4: 定期点検実施者 | Y4: 株式会社エイト日本技術開発 | AG4: 定期点検年月日 | AK4: 2024年10月29日、30日 | AY4: Ⅳ | AZ4: Ⅲ | BA4: Ⅱa | BB4: Ⅱb | BC4: Ⅳ | BD4: Ⅲ | BE4: Ⅱa | BF4: Ⅱb | BG4: Ⅳ | BH4: Ⅲ | BI4: Ⅱa | BJ4: Ⅱb | BK4: Ⅳ | BL4: Ⅲ | BM4: Ⅱa | BN4: Ⅱb | BO4: Ⅳ | BP4: Ⅲ | BQ4: Ⅱa | BR4: Ⅱb | BS4: Ⅳ | BT4: Ⅲ | BU4: Ⅱa | BV4: Ⅱb
B5: 名 称 | E5: 森ヶ原第１トンネル | K5: 管理者名 | N5: 山口県岩国土木建築事務所 | Y5: 岡根 三千夫 | AV5: =N7 -> 10 | AW5: =R7 -> 10.5 | AX5: =AM35 -> Ⅰ | AY5: =Y37 | AZ5: =Z37 | BA5: =AA37 | BB5: =AB37 | BC5: =AC37 -> 0 | BD5: =AD37 -> 0 | BE5: =AE37 -> 0 | BF5: =AF37 -> 0 | ... BJ5: =AJ37 -> 0 | BK5: =IF(Y37>0,R7,"") -> 10.5 | BL5: =IF(Y37>0,"",IF(Z37>0,R7,"")) | BM5: =IF(Y37+Z37>0,"",IF(AA37>0,R7,"")) -> #VALUE! | BN5: =IF(Y37+Z37+AA37>0,"",IF(AB37>0,R7,"")) -> #VALUE! | BO5: =AC35 -> 0 | BP5: =AD35 -> 0 | BQ5: =AE35 -> 0 | BR5: =AF35 -> 0 | BS5: =AG35 -> 0 | BT5: =AH35 -> 0 | BU5: =AI35 -> 0 | BV5: =AJ35 -> 0
B6: スパン別変状展開図 | K6: 【健全性判定集計表】
K7: スパン番号 | N7: 10 | P7: スパン長 | R7: 10.5 | U7: 前回定期点検時の判定 | W7: 応急措置前の判定 | Y7: 対策区分毎の 変状の有無 | AC7: 対策区分毎の変状の発生範囲の規模(㎡) | AK7: 備考注2
K8: 変状番号 | L8: 対象箇所 | N8: 部位区分 | P8: 変状区分 | R8: 変状種類
Y9: 外力注1 | AC9: 材質劣化注1 | AG9: 漏水注1
Y10: Ⅳ | Z10: Ⅲ | AA10: Ⅱa | AB10: Ⅱb | AC10: Ⅳ | AD10: Ⅲ | AE10: Ⅱa | AF10: Ⅱb | AG10: Ⅳ | AH10: Ⅲ | AI10: Ⅱa | AJ10: Ⅱb
AQ11: =IF(P11="材質劣化",2,IF(P11="漏水",3,1)) -> 1 | AS11: =IF(Y11<>"",1,"")
AQ12: =IF(P12="材質劣化",2,IF(P12="漏水",3,1)) -> 1
AQ13: =IF(P13="材質劣化",2,IF(P13="漏水",3,1)) -> 1
AQ14: =IF(P14="材質劣化",2,IF(P14="漏水",3,1)) -> 1
AQ15: =IF(P15="材質劣化",2,IF(P15="漏水",3,1)) -> 1
AQ16: =IF(P16="材質劣化",2,IF(P16="漏水",3,1)) -> 1
AQ17: =IF(P17="材質劣化",2,IF(P17="漏水",3,1)) -> 1
AQ18: =IF(P18="材質劣化",2,IF(P18="漏水",3,1)) -> 1
AQ19: =IF(P19="材質劣化",2,IF(P19="漏水",3,1)) -> 1
AQ20: =IF(P20="材質劣化",2,IF(P20="漏水",3,1)) -> 1
AQ21: =IF(P21="材質劣化",2,IF(P21="漏水",3,1)) -> 1
AQ22: =IF(P22="材質劣化",2,IF(P22="漏水",3,1)) -> 1
AQ23: =IF(P23="材質劣化",2,IF(P23="漏水",3,1)) -> 1
... AQ27: =IF(P27="材質劣化",2,IF(P27="漏水",3,1)) -> 1
AQ28: =IF(P30="材質劣化",2,IF(P30="漏水",3,1)) -> 1
AQ29: =IF(P34="材質劣化",2,IF(P34="漏水",3,1)) -> 1
AQ30: =IF(P30="材質劣化",2,IF(P30="漏水",3,1)) -> 1
AQ31: =IF(P33="材質劣化",2,IF(P33="漏水",3,1)) -> 1
AQ32: =IF(P37="材質劣化",2,IF(P37="漏水",3,1)) -> 1
AQ33: =IF(P33="材質劣化",2,IF(P33="漏水",3,1)) -> 1
AQ34: =IF(P36="材質劣化",2,IF(P36="漏水",3,1)) -> 1
K35: 集計 判定 診断 | L35: 変状の発生規模合計(㎡) | Y35: － | AC35: =SUM(AC11:AC34) -> 0 | AD35: =SUM(AD11:AD34) -> 0 | AE35: =SUM(AE11:AE34) -> 0 | AF35: =SUM(AF11:AF34) -> 0 | AG35: =SUM(AG11:AG34) -> 0 | AH35: =SUM(AH11:AH34) -> 0 | AI35: =SUM(AI11:AI34) -> 0 | AJ35: =SUM(AJ11:AJ34) -> 0 | AK35: 覆工スパン単位の 健全性の 診断の区分 | AM35: Ⅰ
L36: 対策区分の 判定結果 | O36: 対策区分毎の変状数注3 | Y36: Ⅳ | Z36: Ⅲ | AA36: Ⅱa | AB36: Ⅱb | AC36: Ⅳ | AD36: Ⅲ | AE36: Ⅱa | AF36: Ⅱb | AG36: Ⅳ | AH36: Ⅲ | AI36: Ⅱa | AJ36: Ⅱb
Y37: =IF(COUNTIF(Y11:Y34,"〇")>0,"1"," ") | Z37: =IF(COUNTIF(Z11:Z34,"〇")>0,"1"," ") | AA37: =IF(COUNTIF(AA11:AA34,"〇")>0,"1"," ") | AB37: =IF(COUNTIF(AB11:AB34,"〇")>0,"1"," ") | AC37: =COUNTA(AC11:AC34) -> 0 | AD37: =COUNTA(AD11:AD34) -> 0 | AE37: =COUNTA(AE11:AE34) -> 0 | AF37: =COUNTA(AF11:AF34) -> 0 | AG37: =COUNTA(AG11:AG34) -> 0 | AH37: =COUNTA(AH11:AH34) -> 0 | AI37: =COUNTA(AI11:AI34) -> 0 | AJ37: =COUNTA(AJ11:AJ34) -> 0
K39: 所見
K43: 注1：誤記入防止のため、当該変状区分以外のセルは灰色表示とすること。
K44: 注2：応急措置を実施した場合は、その詳細を備考に記載すること。
K45: 注3：外力は覆工スパン単位、材質劣化、漏水は変状単位とすること。
B46: （以下、印刷不要）
B47: ※1：本シートは作成洩れのないよう、変状が無くても全スパン分を作成すること．また変状展開図は、様式D-2-1、様式D-2-1'と同じものを覆工スパン単位で拡大し掲載すること。
B48: ※2：変状番号は、様式D-1-1で記入した番号と整合させること。
B49: ※3：対策区分毎の変状発生規模は、様式D-1-1に記載した面積を記入すること（ただし外力はスパン単位で評価するため変状の有無の欄には面積でなく○を記入し、備考欄に状況を記入）。
B50: ※4：本様式は覆工スパン毎に作成すること。
B51: ※5：変状数が多い場合は、適時、表の行を増やして覆工スパン毎に1枚のシートに収めること。また、1スパン１シートとし、スパンに合わせてシートを追加すること。
B52: ※6：対策区分毎の変状の発生範囲の規模とは，対策を行う際に参考となる変状の長さや面積であり，変状を包含する長さや面積とする。
B53: ※7：対策範囲を示す発生範囲の規模を面積で記入することが妥当ではない変状は、発生範囲の規模の欄に○を記入するとともに、備考に内容を記入すること。

Sheet 様式D-3_S011
AU1: 様式F用→ | AV1: 覆工スパン | AY1: 変 状 数 | BK1: 変 状 規 模
AV2: 番号 | AW2: 延長 （ｍ） | AX2: 健全性の診断の 区分 | AY2: 対策区分の判定 | BK2: 覆工スパン長（ｍ） | BO2: 変状の発生範囲の規模（㎡）
B3: ■定期点検記録様式 覆工スパン別変状詳細展開図 【様式D-3】 | AY3: 外力 | BC3: 材質劣化 | BG3: 漏水 | BK3: 外力 注2 | BO3: 材質劣化 | BS3: 漏水
B4: フリガナ | E4: モリガハラダイイチトンネル | K4: 路線名 | N4: 岩国大竹線 | T4: 定期点検実施者 | Y4: 株式会社エイト日本技術開発 | AG4: 定期点検年月日 | AK4: 2024年10月29日、30日 | AY4: Ⅳ | AZ4: Ⅲ | BA4: Ⅱa | BB4: Ⅱb | BC4: Ⅳ | BD4: Ⅲ | BE4: Ⅱa | BF4: Ⅱb | BG4: Ⅳ | BH4: Ⅲ | BI4: Ⅱa | BJ4: Ⅱb | BK4: Ⅳ | BL4: Ⅲ | BM4: Ⅱa | BN4: Ⅱb | BO4: Ⅳ | BP4: Ⅲ | BQ4: Ⅱa | BR4: Ⅱb | BS4: Ⅳ | BT4: Ⅲ | BU4: Ⅱa | BV4: Ⅱb
B5: 名 称 | E5: 森ヶ原第１トンネル | K5: 管理者名 | N5: 山口県岩国土木建築事務所 | Y5: 岡根 三千夫 | AV5: =N7 -> 11 | AW5: =R7 -> 10.5 | AX5: =AM35 -> Ⅰ | AY5: =Y37 | AZ5: =Z37 | BA5: =AA37 | BB5: =AB37 | BC5: =AC37 -> 0 | BD5: =AD37 -> 0 | BE5: =AE37 -> 0 | BF5: =AF37 -> 0 | ... BJ5: =AJ37 -> 0 | BK5: =IF(Y37>0,R7,"") -> 10.5 | BL5: =IF(Y37>0,"",IF(Z37>0,R7,"")) | BM5: =IF(Y37+Z37>0,"",IF(AA37>0,R7,"")) -> #VALUE! | BN5: =IF(Y37+Z37+AA37>0,"",IF(AB37>0,R7,"")) -> #VALUE! | BO5: =AC35 -> 0 | BP5: =AD35 -> 0 | BQ5: =AE35 -> 0 | BR5: =AF35 -> 0 | BS5: =AG35 -> 0 | BT5: =AH35 -> 0 | BU5: =AI35 -> 0 | BV5: =AJ35 -> 0
B6: スパン別変状展開図 | K6: 【健全性判定集計表】
K7: スパン番号 | N7: 11 | P7: スパン長 | R7: 10.5 | U7: 前回定期点検時の判定 | W7: 応急措置前の判定 | Y7: 対策区分毎の 変状の有無 | AC7: 対策区分毎の変状の発生範囲の規模(㎡) | AK7: 備考注2
K8: 変状番号 | L8: 対象箇所 | N8: 部位区分 | P8: 変状区分 | R8: 変状種類
Y9: 外力注1 | AC9: 材質劣化注1 | AG9: 漏水注1
Y10: Ⅳ | Z10: Ⅲ | AA10: Ⅱa | AB10: Ⅱb | AC10: Ⅳ | AD10: Ⅲ | AE10: Ⅱa | AF10: Ⅱb | AG10: Ⅳ | AH10: Ⅲ | AI10: Ⅱa | AJ10: Ⅱb
AQ11: =IF(P11="材質劣化",2,IF(P11="漏水",3,1)) -> 1 | AS11: =IF(Y11<>"",1,"")
AQ12: =IF(P12="材質劣化",2,IF(P12="漏水",3,1)) -> 1
AQ13: =IF(P13="材質劣化",2,IF(P13="漏水",3,1)) -> 1
AQ14: =IF(P14="材質劣化",2,IF(P14="漏水",3,1)) -> 1
AQ15: =IF(P15="材質劣化",2,IF(P15="漏水",3,1)) -> 1
AQ16: =IF(P16="材質劣化",2,IF(P16="漏水",3,1)) -> 1
AQ17: =IF(P17="材質劣化",2,IF(P17="漏水",3,1)) -> 1
AQ18: =IF(P18="材質劣化",2,IF(P18="漏水",3,1)) -> 1
AQ19: =IF(P19="材質劣化",2,IF(P19="漏水",3,1)) -> 1
AQ20: =IF(P20="材質劣化",2,IF(P20="漏水",3,1)) -> 1
AQ21: =IF(P21="材質劣化",2,IF(P21="漏水",3,1)) -> 1
AQ22: =IF(P22="材質劣化",2,IF(P22="漏水",3,1)) -> 1
AQ23: =IF(P23="材質劣化",2,IF(P23="漏水",3,1)) -> 1
... AQ27: =IF(P27="材質劣化",2,IF(P27="漏水",3,1)) -> 1
AQ28: =IF(P30="材質劣化",2,IF(P30="漏水",3,1)) -> 1
AQ29: =IF(P34="材質劣化",2,IF(P34="漏水",3,1)) -> 1
AQ30: =IF(P30="材質劣化",2,IF(P30="漏水",3,1)) -> 1
AQ31: =IF(P33="材質劣化",2,IF(P33="漏水",3,1)) -> 1
AQ32: =IF(P37="材質劣化",2,IF(P37="漏水",3,1)) -> 1
AQ33: =IF(P33="材質劣化",2,IF(P33="漏水",3,1)) -> 1
AQ34: =IF(P36="材質劣化",2,IF(P36="漏水",3,1)) -> 1
K35: 集計 判定 診断 | L35: 変状の発生規模合計(㎡) | Y35: － | AC35: =SUM(AC11:AC34) -> 0 | AD35: =SUM(AD11:AD34) -> 0 | AE35: =SUM(AE11:AE34) -> 0 | AF35: =SUM(AF11:AF34) -> 0 | AG35: =SUM(AG11:AG34) -> 0 | AH35: =SUM(AH11:AH34) -> 0 | AI35: =SUM(AI11:AI34) -> 0 | AJ35: =SUM(AJ11:AJ34) -> 0 | AK35: 覆工スパン単位の 健全性の 診断の区分 | AM35: Ⅰ
L36: 対策区分の 判定結果 | O36: 対策区分毎の変状数注3 | Y36: Ⅳ | Z36: Ⅲ | AA36: Ⅱa | AB36: Ⅱb | AC36: Ⅳ | AD36: Ⅲ | AE36: Ⅱa | AF36: Ⅱb | AG36: Ⅳ | AH36: Ⅲ | AI36: Ⅱa | AJ36: Ⅱb
Y37: =IF(COUNTIF(Y11:Y34,"〇")>0,"1"," ") | Z37: =IF(COUNTIF(Z11:Z34,"〇")>0,"1"," ") | AA37: =IF(COUNTIF(AA11:AA34,"〇")>0,"1"," ") | AB37: =IF(COUNTIF(AB11:AB34,"〇")>0,"1"," ") | AC37: =COUNTA(AC11:AC34) -> 0 | AD37: =COUNTA(AD11:AD34) -> 0 | AE37: =COUNTA(AE11:AE34) -> 0 | AF37: =COUNTA(AF11:AF34) -> 0 | AG37: =COUNTA(AG11:AG34) -> 0 | AH37: =COUNTA(AH11:AH34) -> 0 | AI37: =COUNTA(AI11:AI34) -> 0 | AJ37: =COUNTA(AJ11:AJ34) -> 0
K39: 所見
K43: 注1：誤記入防止のため、当該変状区分以外のセルは灰色表示とすること。
K44: 注2：応急措置を実施した場合は、その詳細を備考に記載すること。
K45: 注3：外力は覆工スパン単位、材質劣化、漏水は変状単位とすること。
B46: （以下、印刷不要）
B47: ※1：本シートは作成洩れのないよう、変状が無くても全スパン分を作成すること．また変状展開図は、様式D-2-1、様式D-2-1'と同じものを覆工スパン単位で拡大し掲載すること。
B48: ※2：変状番号は、様式D-1-1で記入した番号と整合させること。
B49: ※3：対策区分毎の変状発生規模は、様式D-1-1に記載した面積を記入すること（ただし外力はスパン単位で評価するため変状の有無の欄には面積でなく○を記入し、備考欄に状況を記入）。
B50: ※4：本様式は覆工スパン毎に作成すること。
B51: ※5：変状数が多い場合は、適時、表の行を増やして覆工スパン毎に1枚のシートに収めること。また、1スパン１シートとし、スパンに合わせてシートを追加すること。
B52: ※6：対策区分毎の変状の発生範囲の規模とは，対策を行う際に参考となる変状の長さや面積であり，変状を包含する長さや面積とする。
B53: ※7：対策範囲を示す発生範囲の規模を面積で記入することが妥当ではない変状は、発生範囲の規模の欄に○を記入するとともに、備考に内容を記入すること。

Sheet 様式D-3_S012
AU1: 様式F用→ | AV1: 覆工スパン | AY1: 変 状 数 | BK1: 変 状 規 模
AV2: 番号 | AW2: 延長 （ｍ） | AX2: 健全性の診断の 区分 | AY2: 対策区分の判定 | BK2: 覆工スパン長（ｍ） | BO2: 変状の発生範囲の規模（㎡）
B3: ■定期点検記録様式 覆工スパン別変状詳細展開図 【様式D-3】 | AY3: 外力 | BC3: 材質劣化 | BG3: 漏水 | BK3: 外力 注2 | BO3: 材質劣化 | BS3: 漏水
B4: フリガナ | E4: モリガハラダイイチトンネル | K4: 路線名 | N4: 岩国大竹線 | T4: 定期点検実施者 | Y4: 株式会社エイト日本技術開発 | AG4: 定期点検年月日 | AK4: 2024年10月29日、30日 | AY4: Ⅳ | AZ4: Ⅲ | BA4: Ⅱa | BB4: Ⅱb | BC4: Ⅳ | BD4: Ⅲ | BE4: Ⅱa | BF4: Ⅱb | BG4: Ⅳ | BH4: Ⅲ | BI4: Ⅱa | BJ4: Ⅱb | BK4: Ⅳ | BL4: Ⅲ | BM4: Ⅱa | BN4: Ⅱb | BO4: Ⅳ | BP4: Ⅲ | BQ4: Ⅱa | BR4: Ⅱb | BS4: Ⅳ | BT4: Ⅲ | BU4: Ⅱa | BV4: Ⅱb
B5: 名 称 | E5: 森ヶ原第１トンネル | K5: 管理者名 | N5: 山口県岩国土木建築事務所 | Y5: 岡根 三千夫 | AV5: =N7 -> 12 | AW5: =R7 -> 10 | AX5: =AM35 -> Ⅰ | AY5: =Y37 | AZ5: =Z37 | BA5: =AA37 | BB5: =AB37 | BC5: =AC37 -> 0 | BD5: =AD37 -> 0 | BE5: =AE37 -> 0 | BF5: =AF37 -> 0 | ... BJ5: =AJ37 -> 0 | BK5: =IF(Y37>0,R7,"") -> 10 | BL5: =IF(Y37>0,"",IF(Z37>0,R7,"")) | BM5: =IF(Y37+Z37>0,"",IF(AA37>0,R7,"")) -> #VALUE! | BN5: =IF(Y37+Z37+AA37>0,"",IF(AB37>0,R7,"")) -> #VALUE! | BO5: =AC35 -> 0 | BP5: =AD35 -> 0 | BQ5: =AE35 -> 0 | BR5: =AF35 -> 0 | BS5: =AG35 -> 0 | BT5: =AH35 -> 0 | BU5: =AI35 -> 0 | BV5: =AJ35 -> 0
B6: スパン別変状展開図 | K6: 【健全性判定集計表】
K7: スパン番号 | N7: 12 | P7: スパン長 | R7: 10 | U7: 前回定期点検時の判定 | W7: 応急措置前の判定 | Y7: 対策区分毎の 変状の有無 | AC7: 対策区分毎の変状の発生範囲の規模(㎡) | AK7: 備考注2
K8: 変状番号 | L8: 対象箇所 | N8: 部位区分 | P8: 変状区分 | R8: 変状種類
Y9: 外力注1 | AC9: 材質劣化注1 | AG9: 漏水注1
Y10: Ⅳ | Z10: Ⅲ | AA10: Ⅱa | AB10: Ⅱb | AC10: Ⅳ | AD10: Ⅲ | AE10: Ⅱa | AF10: Ⅱb | AG10: Ⅳ | AH10: Ⅲ | AI10: Ⅱa | AJ10: Ⅱb
AQ11: =IF(P11="材質劣化",2,IF(P11="漏水",3,1)) -> 1 | AS11: =IF(Y11<>"",1,"")
AQ12: =IF(P12="材質劣化",2,IF(P12="漏水",3,1)) -> 1
AQ13: =IF(P13="材質劣化",2,IF(P13="漏水",3,1)) -> 1
AQ14: =IF(P14="材質劣化",2,IF(P14="漏水",3,1)) -> 1
AQ15: =IF(P15="材質劣化",2,IF(P15="漏水",3,1)) -> 1
AQ16: =IF(P16="材質劣化",2,IF(P16="漏水",3,1)) -> 1
AQ17: =IF(P17="材質劣化",2,IF(P17="漏水",3,1)) -> 1
AQ18: =IF(P18="材質劣化",2,IF(P18="漏水",3,1)) -> 1
AQ19: =IF(P19="材質劣化",2,IF(P19="漏水",3,1)) -> 1
AQ20: =IF(P20="材質劣化",2,IF(P20="漏水",3,1)) -> 1
AQ21: =IF(P21="材質劣化",2,IF(P21="漏水",3,1)) -> 1
AQ22: =IF(P22="材質劣化",2,IF(P22="漏水",3,1)) -> 1
AQ23: =IF(P23="材質劣化",2,IF(P23="漏水",3,1)) -> 1
... AQ27: =IF(P27="材質劣化",2,IF(P27="漏水",3,1)) -> 1
AQ28: =IF(P30="材質劣化",2,IF(P30="漏水",3,1)) -> 1
AQ29: =IF(P34="材質劣化",2,IF(P34="漏水",3,1)) -> 1
AQ30: =IF(P30="材質劣化",2,IF(P30="漏水",3,1)) -> 1
AQ31: =IF(P33="材質劣化",2,IF(P33="漏水",3,1)) -> 1
AQ32: =IF(P37="材質劣化",2,IF(P37="漏水",3,1)) -> 1
AQ33: =IF(P33="材質劣化",2,IF(P33="漏水",3,1)) -> 1
AQ34: =IF(P36="材質劣化",2,IF(P36="漏水",3,1)) -> 1
K35: 集計 判定 診断 | L35: 変状の発生規模合計(㎡) | Y35: － | AC35: =SUM(AC11:AC34) -> 0 | AD35: =SUM(AD11:AD34) -> 0 | AE35: =SUM(AE11:AE34) -> 0 | AF35: =SUM(AF11:AF34) -> 0 | AG35: =SUM(AG11:AG34) -> 0 | AH35: =SUM(AH11:AH34) -> 0 | AI35: =SUM(AI11:AI34) -> 0 | AJ35: =SUM(AJ11:AJ34) -> 0 | AK35: 覆工スパン単位の 健全性の 診断の区分 | AM35: Ⅰ
L36: 対策区分の 判定結果 | O36: 対策区分毎の変状数注3 | Y36: Ⅳ | Z36: Ⅲ | AA36: Ⅱa | AB36: Ⅱb | AC36: Ⅳ | AD36: Ⅲ | AE36: Ⅱa | AF36: Ⅱb | AG36: Ⅳ | AH36: Ⅲ | AI36: Ⅱa | AJ36: Ⅱb
Y37: =IF(COUNTIF(Y11:Y34,"〇")>0,"1"," ") | Z37: =IF(COUNTIF(Z11:Z34,"〇")>0,"1"," ") | AA37: =IF(COUNTIF(AA11:AA34,"〇")>0,"1"," ") | AB37: =IF(COUNTIF(AB11:AB34,"〇")>0,"1"," ") | AC37: =COUNTA(AC11:AC34) -> 0 | AD37: =COUNTA(AD11:AD34) -> 0 | AE37: =COUNTA(AE11:AE34) -> 0 | AF37: =COUNTA(AF11:AF34) -> 0 | AG37: =COUNTA(AG11:AG34) -> 0 | AH37: =COUNTA(AH11:AH34) -> 0 | AI37: =COUNTA(AI11:AI34) -> 0 | AJ37: =COUNTA(AJ11:AJ34) -> 0
K39: 所見
K43: 注1：誤記入防止のため、当該変状区分以外のセルは灰色表示とすること。
K44: 注2：応急措置を実施した場合は、その詳細を備考に記載すること。
K45: 注3：外力は覆工スパン単位、材質劣化、漏水は変状単位とすること。
B46: （以下、印刷不要）
B47: ※1：本シートは作成洩れのないよう、変状が無くても全スパン分を作成すること．また変状展開図は、様式D-2-1、様式D-2-1'と同じものを覆工スパン単位で拡大し掲載すること。
B48: ※2：変状番号は、様式D-1-1で記入した番号と整合させること。
B49: ※3：対策区分毎の変状発生規模は、様式D-1-1に記載した面積を記入すること（ただし外力はスパン単位で評価するため変状の有無の欄には面積でなく○を記入し、備考欄に状況を記入）。
B50: ※4：本様式は覆工スパン毎に作成すること。
B51: ※5：変状数が多い場合は、適時、表の行を増やして覆工スパン毎に1枚のシートに収めること。また、1スパン１シートとし、スパンに合わせてシートを追加すること。
B52: ※6：対策区分毎の変状の発生範囲の規模とは，対策を行う際に参考となる変状の長さや面積であり，変状を包含する長さや面積とする。
B53: ※7：対策範囲を示す発生範囲の規模を面積で記入することが妥当ではない変状は、発生範囲の規模の欄に○を記入するとともに、備考に内容を記入すること。

Sheet 様式D-3_S013
AU1: 様式F用→ | AV1: 覆工スパン | AY1: 変 状 数 | BK1: 変 状 規 模
AV2: 番号 | AW2: 延長 （ｍ） | AX2: 健全性の診断の 区分 | AY2: 対策区分の判定 | BK2: 覆工スパン長（ｍ） | BO2: 変状の発生範囲の規模（㎡）
B3: ■定期点検記録様式 覆工スパン別変状詳細展開図 【様式D-3】 | AY3: 外力 | BC3: 材質劣化 | BG3: 漏水 | BK3: 外力 注2 | BO3: 材質劣化 | BS3: 漏水
B4: フリガナ | E4: モリガハラダイイチトンネル | K4: 路線名 | N4: 岩国大竹線 | T4: 定期点検実施者 | Y4: 株式会社エイト日本技術開発 | AG4: 定期点検年月日 | AK4: 2024年10月29日、30日 | AY4: Ⅳ | AZ4: Ⅲ | BA4: Ⅱa | BB4: Ⅱb | BC4: Ⅳ | BD4: Ⅲ | BE4: Ⅱa | BF4: Ⅱb | BG4: Ⅳ | BH4: Ⅲ | BI4: Ⅱa | BJ4: Ⅱb | BK4: Ⅳ | BL4: Ⅲ | BM4: Ⅱa | BN4: Ⅱb | BO4: Ⅳ | BP4: Ⅲ | BQ4: Ⅱa | BR4: Ⅱb | BS4: Ⅳ | BT4: Ⅲ | BU4: Ⅱa | BV4: Ⅱb
B5: 名 称 | E5: 森ヶ原第１トンネル | K5: 管理者名 | N5: 山口県岩国土木建築事務所 | Y5: 岡根 三千夫 | AV5: =N7 -> 13 | AW5: =R7 -> 10.1 | AX5: =AM35 -> Ⅰ | AY5: =Y37 | AZ5: =Z37 | BA5: =AA37 | BB5: =AB37 | BC5: =AC37 -> 0 | BD5: =AD37 -> 0 | BE5: =AE37 -> 0 | BF5: =AF37 -> 0 | ... BJ5: =AJ37 -> 0 | BK5: =IF(Y37>0,R7,"") -> 10.1 | BL5: =IF(Y37>0,"",IF(Z37>0,R7,"")) | BM5: =IF(Y37+Z37>0,"",IF(AA37>0,R7,"")) -> #VALUE! | BN5: =IF(Y37+Z37+AA37>0,"",IF(AB37>0,R7,"")) -> #VALUE! | BO5: =AC35 -> 0 | BP5: =AD35 -> 0 | BQ5: =AE35 -> 0 | BR5: =AF35 -> 0 | BS5: =AG35 -> 0 | BT5: =AH35 -> 0 | BU5: =AI35 -> 0 | BV5: =AJ35 -> 0
B6: スパン別変状展開図 | K6: 【健全性判定集計表】
K7: スパン番号 | N7: 13 | P7: スパン長 | R7: 10.1 | U7: 前回定期点検時の判定 | W7: 応急措置前の判定 | Y7: 対策区分毎の 変状の有無 | AC7: 対策区分毎の変状の発生範囲の規模(㎡) | AK7: 備考注2
K8: 変状番号 | L8: 対象箇所 | N8: 部位区分 | P8: 変状区分 | R8: 変状種類
Y9: 外力注1 | AC9: 材質劣化注1 | AG9: 漏水注1
Y10: Ⅳ | Z10: Ⅲ | AA10: Ⅱa | AB10: Ⅱb | AC10: Ⅳ | AD10: Ⅲ | AE10: Ⅱa | AF10: Ⅱb | AG10: Ⅳ | AH10: Ⅲ | AI10: Ⅱa | AJ10: Ⅱb
AQ11: =IF(P11="材質劣化",2,IF(P11="漏水",3,1)) -> 1 | AS11: =IF(Y11<>"",1,"")
AQ12: =IF(P12="材質劣化",2,IF(P12="漏水",3,1)) -> 1
AQ13: =IF(P13="材質劣化",2,IF(P13="漏水",3,1)) -> 1
AQ14: =IF(P14="材質劣化",2,IF(P14="漏水",3,1)) -> 1
AQ15: =IF(P15="材質劣化",2,IF(P15="漏水",3,1)) -> 1
AQ16: =IF(P16="材質劣化",2,IF(P16="漏水",3,1)) -> 1
AQ17: =IF(P17="材質劣化",2,IF(P17="漏水",3,1)) -> 1
AQ18: =IF(P18="材質劣化",2,IF(P18="漏水",3,1)) -> 1
AQ19: =IF(P19="材質劣化",2,IF(P19="漏水",3,1)) -> 1
AQ20: =IF(P20="材質劣化",2,IF(P20="漏水",3,1)) -> 1
AQ21: =IF(P21="材質劣化",2,IF(P21="漏水",3,1)) -> 1
AQ22: =IF(P22="材質劣化",2,IF(P22="漏水",3,1)) -> 1
AQ23: =IF(P23="材質劣化",2,IF(P23="漏水",3,1)) -> 1
... AQ27: =IF(P27="材質劣化",2,IF(P27="漏水",3,1)) -> 1
AQ28: =IF(P30="材質劣化",2,IF(P30="漏水",3,1)) -> 1
AQ29: =IF(P34="材質劣化",2,IF(P34="漏水",3,1)) -> 1
AQ30: =IF(P30="材質劣化",2,IF(P30="漏水",3,1)) -> 1
AQ31: =IF(P33="材質劣化",2,IF(P33="漏水",3,1)) -> 1
AQ32: =IF(P37="材質劣化",2,IF(P37="漏水",3,1)) -> 1
AQ33: =IF(P33="材質劣化",2,IF(P33="漏水",3,1)) -> 1
AQ34: =IF(P36="材質劣化",2,IF(P36="漏水",3,1)) -> 1
K35: 集計 判定 診断 | L35: 変状の発生規模合計(㎡) | Y35: － | AC35: =SUM(AC11:AC34) -> 0 | AD35: =SUM(AD11:AD34) -> 0 | AE35: =SUM(AE11:AE34) -> 0 | AF35: =SUM(AF11:AF34) -> 0 | AG35: =SUM(AG11:AG34) -> 0 | AH35: =SUM(AH11:AH34) -> 0 | AI35: =SUM(AI11:AI34) -> 0 | AJ35: =SUM(AJ11:AJ34) -> 0 | AK35: 覆工スパン単位の 健全性の 診断の区分 | AM35: Ⅰ
L36: 対策区分の 判定結果 | O36: 対策区分毎の変状数注3 | Y36: Ⅳ | Z36: Ⅲ | AA36: Ⅱa | AB36: Ⅱb | AC36: Ⅳ | AD36: Ⅲ | AE36: Ⅱa | AF36: Ⅱb | AG36: Ⅳ | AH36: Ⅲ | AI36: Ⅱa | AJ36: Ⅱb
Y37: =IF(COUNTIF(Y11:Y34,"〇")>0,"1"," ") | Z37: =IF(COUNTIF(Z11:Z34,"〇")>0,"1"," ") | AA37: =IF(COUNTIF(AA11:AA34,"〇")>0,"1"," ") | AB37: =IF(COUNTIF(AB11:AB34,"〇")>0,"1"," ") | AC37: =COUNTA(AC11:AC34) -> 0 | AD37: =COUNTA(AD11:AD34) -> 0 | AE37: =COUNTA(AE11:AE34) -> 0 | AF37: =COUNTA(AF11:AF34) -> 0 | AG37: =COUNTA(AG11:AG34) -> 0 | AH37: =COUNTA(AH11:AH34) -> 0 | AI37: =COUNTA(AI11:AI34) -> 0 | AJ37: =COUNTA(AJ11:AJ34) -> 0
K39: 所見
K43: 注1：誤記入防止のため、当該変状区分以外のセルは灰色表示とすること。
K44: 注2：応急措置を実施した場合は、その詳細を備考に記載すること。
K45: 注3：外力は覆工スパン単位、材質劣化、漏水は変状単位とすること。
B46: （以下、印刷不要）
B47: ※1：本シートは作成洩れのないよう、変状が無くても全スパン分を作成すること．また変状展開図は、様式D-2-1、様式D-2-1'と同じものを覆工スパン単位で拡大し掲載すること。
B48: ※2：変状番号は、様式D-1-1で記入した番号と整合させること。
B49: ※3：対策区分毎の変状発生規模は、様式D-1-1に記載した面積を記入すること（ただし外力はスパン単位で評価するため変状の有無の欄には面積でなく○を記入し、備考欄に状況を記入）。
B50: ※4：本様式は覆工スパン毎に作成すること。
B51: ※5：変状数が多い場合は、適時、表の行を増やして覆工スパン毎に1枚のシートに収めること。また、1スパン１シートとし、スパンに合わせてシートを追加すること。
B52: ※6：対策区分毎の変状の発生範囲の規模とは，対策を行う際に参考となる変状の長さや面積であり，変状を包含する長さや面積とする。
B53: ※7：対策範囲を示す発生範囲の規模を面積で記入することが妥当ではない変状は、発生範囲の規模の欄に○を記入するとともに、備考に内容を記入すること。

Sheet 様式D-3_S014
AU1: 様式F用→ | AV1: 覆工スパン | AY1: 変 状 数 | BK1: 変 状 規 模
AV2: 番号 | AW2: 延長 （ｍ） | AX2: 健全性の診断の 区分 | AY2: 対策区分の判定 | BK2: 覆工スパン長（ｍ） | BO2: 変状の発生範囲の規模（㎡）
B3: ■定期点検記録様式 覆工スパン別変状詳細展開図 【様式D-3】 | AY3: 外力 | BC3: 材質劣化 | BG3: 漏水 | BK3: 外力 注2 | BO3: 材質劣化 | BS3: 漏水
B4: フリガナ | E4: モリガハラダイイチトンネル | K4: 路線名 | N4: 岩国大竹線 | T4: 定期点検実施者 | Y4: 株式会社エイト日本技術開発 | AG4: 定期点検年月日 | AK4: 2024年10月29日、30日 | AY4: Ⅳ | AZ4: Ⅲ | BA4: Ⅱa | BB4: Ⅱb | BC4: Ⅳ | BD4: Ⅲ | BE4: Ⅱa | BF4: Ⅱb | BG4: Ⅳ | BH4: Ⅲ | BI4: Ⅱa | BJ4: Ⅱb | BK4: Ⅳ | BL4: Ⅲ | BM4: Ⅱa | BN4: Ⅱb | BO4: Ⅳ | BP4: Ⅲ | BQ4: Ⅱa | BR4: Ⅱb | BS4: Ⅳ | BT4: Ⅲ | BU4: Ⅱa | BV4: Ⅱb
B5: 名 称 | E5: 森ヶ原第１トンネル | K5: 管理者名 | N5: 山口県岩国土木建築事務所 | Y5: 岡根 三千夫 | AV5: =N7 -> 14 | AW5: =R7 -> 10 | AX5: =AM35 -> Ⅰ | AY5: =Y37 | AZ5: =Z37 | BA5: =AA37 | BB5: =AB37 | BC5: =AC37 -> 0 | BD5: =AD37 -> 0 | BE5: =AE37 -> 0 | BF5: =AF37 -> 0 | ... BJ5: =AJ37 -> 0 | BK5: =IF(Y37>0,R7,"") -> 10 | BL5: =IF(Y37>0,"",IF(Z37>0,R7,"")) | BM5: =IF(Y37+Z37>0,"",IF(AA37>0,R7,"")) -> #VALUE! | BN5: =IF(Y37+Z37+AA37>0,"",IF(AB37>0,R7,"")) -> #VALUE! | BO5: =AC35 -> 0 | BP5: =AD35 -> 0 | BQ5: =AE35 -> 0 | BR5: =AF35 -> 0 | BS5: =AG35 -> 0 | BT5: =AH35 -> 0 | BU5: =AI35 -> 0 | BV5: =AJ35 -> 0
B6: スパン別変状展開図 | K6: 【健全性判定集計表】
K7: スパン番号 | N7: 14 | P7: スパン長 | R7: 10 | U7: 前回定期点検時の判定 | W7: 応急措置前の判定 | Y7: 対策区分毎の 変状の有無 | AC7: 対策区分毎の変状の発生範囲の規模(㎡) | AK7: 備考注2
K8: 変状番号 | L8: 対象箇所 | N8: 部位区分 | P8: 変状区分 | R8: 変状種類
Y9: 外力注1 | AC9: 材質劣化注1 | AG9: 漏水注1
Y10: Ⅳ | Z10: Ⅲ | AA10: Ⅱa | AB10: Ⅱb | AC10: Ⅳ | AD10: Ⅲ | AE10: Ⅱa | AF10: Ⅱb | AG10: Ⅳ | AH10: Ⅲ | AI10: Ⅱa | AJ10: Ⅱb
AQ11: =IF(P11="材質劣化",2,IF(P11="漏水",3,1)) -> 1 | AS11: =IF(Y11<>"",1,"")
AQ12: =IF(P12="材質劣化",2,IF(P12="漏水",3,1)) -> 1
AQ13: =IF(P13="材質劣化",2,IF(P13="漏水",3,1)) -> 1
AQ14: =IF(P14="材質劣化",2,IF(P14="漏水",3,1)) -> 1
AQ15: =IF(P15="材質劣化",2,IF(P15="漏水",3,1)) -> 1
AQ16: =IF(P16="材質劣化",2,IF(P16="漏水",3,1)) -> 1
AQ17: =IF(P17="材質劣化",2,IF(P17="漏水",3,1)) -> 1
AQ18: =IF(P18="材質劣化",2,IF(P18="漏水",3,1)) -> 1
AQ19: =IF(P19="材質劣化",2,IF(P19="漏水",3,1)) -> 1
AQ20: =IF(P20="材質劣化",2,IF(P20="漏水",3,1)) -> 1
AQ21: =IF(P21="材質劣化",2,IF(P21="漏水",3,1)) -> 1
AQ22: =IF(P22="材質劣化",2,IF(P22="漏水",3,1)) -> 1
AQ23: =IF(P23="材質劣化",2,IF(P23="漏水",3,1)) -> 1
... AQ27: =IF(P27="材質劣化",2,IF(P27="漏水",3,1)) -> 1
AQ28: =IF(P30="材質劣化",2,IF(P30="漏水",3,1)) -> 1
AQ29: =IF(P34="材質劣化",2,IF(P34="漏水",3,1)) -> 1
AQ30: =IF(P30="材質劣化",2,IF(P30="漏水",3,1)) -> 1
AQ31: =IF(P33="材質劣化",2,IF(P33="漏水",3,1)) -> 1
AQ32: =IF(P37="材質劣化",2,IF(P37="漏水",3,1)) -> 1
AQ33: =IF(P33="材質劣化",2,IF(P33="漏水",3,1)) -> 1
AQ34: =IF(P36="材質劣化",2,IF(P36="漏水",3,1)) -> 1
K35: 集計 判定 診断 | L35: 変状の発生規模合計(㎡) | Y35: － | AC35: =SUM(AC11:AC34) -> 0 | AD35: =SUM(AD11:AD34) -> 0 | AE35: =SUM(AE11:AE34) -> 0 | AF35: =SUM(AF11:AF34) -> 0 | AG35: =SUM(AG11:AG34) -> 0 | AH35: =SUM(AH11:AH34) -> 0 | AI35: =SUM(AI11:AI34) -> 0 | AJ35: =SUM(AJ11:AJ34) -> 0 | AK35: 覆工スパン単位の 健全性の 診断の区分 | AM35: Ⅰ
L36: 対策区分の 判定結果 | O36: 対策区分毎の変状数注3 | Y36: Ⅳ | Z36: Ⅲ | AA36: Ⅱa | AB36: Ⅱb | AC36: Ⅳ | AD36: Ⅲ | AE36: Ⅱa | AF36: Ⅱb | AG36: Ⅳ | AH36: Ⅲ | AI36: Ⅱa | AJ36: Ⅱb
Y37: =IF(COUNTIF(Y11:Y34,"〇")>0,"1"," ") | Z37: =IF(COUNTIF(Z11:Z34,"〇")>0,"1"," ") | AA37: =IF(COUNTIF(AA11:AA34,"〇")>0,"1"," ") | AB37: =IF(COUNTIF(AB11:AB34,"〇")>0,"1"," ") | AC37: =COUNTA(AC11:AC34) -> 0 | AD37: =COUNTA(AD11:AD34) -> 0 | AE37: =COUNTA(AE11:AE34) -> 0 | AF37: =COUNTA(AF11:AF34) -> 0 | AG37: =COUNTA(AG11:AG34) -> 0 | AH37: =COUNTA(AH11:AH34) -> 0 | AI37: =COUNTA(AI11:AI34) -> 0 | AJ37: =COUNTA(AJ11:AJ34) -> 0
K39: 所見
K43: 注1：誤記入防止のため、当該変状区分以外のセルは灰色表示とすること。
K44: 注2：応急措置を実施した場合は、その詳細を備考に記載すること。
K45: 注3：外力は覆工スパン単位、材質劣化、漏水は変状単位とすること。
B46: （以下、印刷不要）
B47: ※1：本シートは作成洩れのないよう、変状が無くても全スパン分を作成すること．また変状展開図は、様式D-2-1、様式D-2-1'と同じものを覆工スパン単位で拡大し掲載すること。
B48: ※2：変状番号は、様式D-1-1で記入した番号と整合させること。
B49: ※3：対策区分毎の変状発生規模は、様式D-1-1に記載した面積を記入すること（ただし外力はスパン単位で評価するため変状の有無の欄には面積でなく○を記入し、備考欄に状況を記入）。
B50: ※4：本様式は覆工スパン毎に作成すること。
B51: ※5：変状数が多い場合は、適時、表の行を増やして覆工スパン毎に1枚のシートに収めること。また、1スパン１シートとし、スパンに合わせてシートを追加すること。
B52: ※6：対策区分毎の変状の発生範囲の規模とは，対策を行う際に参考となる変状の長さや面積であり，変状を包含する長さや面積とする。
B53: ※7：対策範囲を示す発生範囲の規模を面積で記入することが妥当ではない変状は、発生範囲の規模の欄に○を記入するとともに、備考に内容を記入すること。

Sheet 様式D-3_S015
AU1: 様式F用→ | AV1: 覆工スパン | AY1: 変 状 数 | BK1: 変 状 規 模
AV2: 番号 | AW2: 延長 （ｍ） | AX2: 健全性の診断の 区分 | AY2: 対策区分の判定 | BK2: 覆工スパン長（ｍ） | BO2: 変状の発生範囲の規模（㎡）
B3: ■定期点検記録様式 覆工スパン別変状詳細展開図 【様式D-3】 | AY3: 外力 | BC3: 材質劣化 | BG3: 漏水 | BK3: 外力 注2 | BO3: 材質劣化 | BS3: 漏水
B4: フリガナ | E4: モリガハラダイイチトンネル | K4: 路線名 | N4: 岩国大竹線 | T4: 定期点検実施者 | Y4: 株式会社エイト日本技術開発 | AG4: 定期点検年月日 | AK4: 2024年10月29日、30日 | AY4: Ⅳ | AZ4: Ⅲ | BA4: Ⅱa | BB4: Ⅱb | BC4: Ⅳ | BD4: Ⅲ | BE4: Ⅱa | BF4: Ⅱb | BG4: Ⅳ | BH4: Ⅲ | BI4: Ⅱa | BJ4: Ⅱb | BK4: Ⅳ | BL4: Ⅲ | BM4: Ⅱa | BN4: Ⅱb | BO4: Ⅳ | BP4: Ⅲ | BQ4: Ⅱa | BR4: Ⅱb | BS4: Ⅳ | BT4: Ⅲ | BU4: Ⅱa | BV4: Ⅱb
B5: 名 称 | E5: 森ヶ原第１トンネル | K5: 管理者名 | N5: 山口県岩国土木建築事務所 | Y5: 岡根 三千夫 | AV5: =N7 -> 15 | AW5: =R7 -> 10 | AX5: =AM35 -> Ⅰ | AY5: =Y37 | AZ5: =Z37 | BA5: =AA37 | BB5: =AB37 | BC5: =AC37 -> 0 | BD5: =AD37 -> 0 | BE5: =AE37 -> 0 | BF5: =AF37 -> 0 | ... BJ5: =AJ37 -> 0 | BK5: =IF(Y37>0,R7,"") -> 10 | BL5: =IF(Y37>0,"",IF(Z37>0,R7,"")) | BM5: =IF(Y37+Z37>0,"",IF(AA37>0,R7,"")) -> #VALUE! | BN5: =IF(Y37+Z37+AA37>0,"",IF(AB37>0,R7,"")) -> #VALUE! | BO5: =AC35 -> 0 | BP5: =AD35 -> 0 | BQ5: =AE35 -> 0 | BR5: =AF35 -> 0 | BS5: =AG35 -> 0 | BT5: =AH35 -> 0 | BU5: =AI35 -> 0 | BV5: =AJ35 -> 0
B6: スパン別変状展開図 | K6: 【健全性判定集計表】
K7: スパン番号 | N7: 15 | P7: スパン長 | R7: 10 | U7: 前回定期点検時の判定 | W7: 応急措置前の判定 | Y7: 対策区分毎の 変状の有無 | AC7: 対策区分毎の変状の発生範囲の規模(㎡) | AK7: 備考注2
K8: 変状番号 | L8: 対象箇所 | N8: 部位区分 | P8: 変状区分 | R8: 変状種類
Y9: 外力注1 | AC9: 材質劣化注1 | AG9: 漏水注1
Y10: Ⅳ | Z10: Ⅲ | AA10: Ⅱa | AB10: Ⅱb | AC10: Ⅳ | AD10: Ⅲ | AE10: Ⅱa | AF10: Ⅱb | AG10: Ⅳ | AH10: Ⅲ | AI10: Ⅱa | AJ10: Ⅱb
AQ11: =IF(P11="材質劣化",2,IF(P11="漏水",3,1)) -> 1 | AS11: =IF(Y11<>"",1,"")
AQ12: =IF(P12="材質劣化",2,IF(P12="漏水",3,1)) -> 1
AQ13: =IF(P13="材質劣化",2,IF(P13="漏水",3,1)) -> 1
AQ14: =IF(P14="材質劣化",2,IF(P14="漏水",3,1)) -> 1
AQ15: =IF(P15="材質劣化",2,IF(P15="漏水",3,1)) -> 1
AQ16: =IF(P16="材質劣化",2,IF(P16="漏水",3,1)) -> 1
AQ17: =IF(P17="材質劣化",2,IF(P17="漏水",3,1)) -> 1
AQ18: =IF(P18="材質劣化",2,IF(P18="漏水",3,1)) -> 1
AQ19: =IF(P19="材質劣化",2,IF(P19="漏水",3,1)) -> 1
AQ20: =IF(P20="材質劣化",2,IF(P20="漏水",3,1)) -> 1
AQ21: =IF(P21="材質劣化",2,IF(P21="漏水",3,1)) -> 1
AQ22: =IF(P22="材質劣化",2,IF(P22="漏水",3,1)) -> 1
AQ23: =IF(P23="材質劣化",2,IF(P23="漏水",3,1)) -> 1
... AQ27: =IF(P27="材質劣化",2,IF(P27="漏水",3,1)) -> 1
AQ28: =IF(P30="材質劣化",2,IF(P30="漏水",3,1)) -> 1
AQ29: =IF(P34="材質劣化",2,IF(P34="漏水",3,1)) -> 1
AQ30: =IF(P30="材質劣化",2,IF(P30="漏水",3,1)) -> 1
AQ31: =IF(P33="材質劣化",2,IF(P33="漏水",3,1)) -> 1
AQ32: =IF(P37="材質劣化",2,IF(P37="漏水",3,1)) -> 1
AQ33: =IF(P33="材質劣化",2,IF(P33="漏水",3,1)) -> 1
AQ34: =IF(P36="材質劣化",2,IF(P36="漏水",3,1)) -> 1
K35: 集計 判定 診断 | L35: 変状の発生規模合計(㎡) | Y35: － | AC35: =SUM(AC11:AC34) -> 0 | AD35: =SUM(AD11:AD34) -> 0 | AE35: =SUM(AE11:AE34) -> 0 | AF35: =SUM(AF11:AF34) -> 0 | AG35: =SUM(AG11:AG34) -> 0 | AH35: =SUM(AH11:AH34) -> 0 | AI35: =SUM(AI11:AI34) -> 0 | AJ35: =SUM(AJ11:AJ34) -> 0 | AK35: 覆工スパン単位の 健全性の 診断の区分 | AM35: Ⅰ
L36: 対策区分の 判定結果 | O36: 対策区分毎の変状数注3 | Y36: Ⅳ | Z36: Ⅲ | AA36: Ⅱa | AB36: Ⅱb | AC36: Ⅳ | AD36: Ⅲ | AE36: Ⅱa | AF36: Ⅱb | AG36: Ⅳ | AH36: Ⅲ | AI36: Ⅱa | AJ36: Ⅱb
Y37: =IF(COUNTIF(Y11:Y34,"〇")>0,"1"," ") | Z37: =IF(COUNTIF(Z11:Z34,"〇")>0,"1"," ") | AA37: =IF(COUNTIF(AA11:AA34,"〇")>0,"1"," ") | AB37: =IF(COUNTIF(AB11:AB34,"〇")>0,"1"," ") | AC37: =COUNTA(AC11:AC34) -> 0 | AD37: =COUNTA(AD11:AD34) -> 0 | AE37: =COUNTA(AE11:AE34) -> 0 | AF37: =COUNTA(AF11:AF34) -> 0 | AG37: =COUNTA(AG11:AG34) -> 0 | AH37: =COUNTA(AH11:AH34) -> 0 | AI37: =COUNTA(AI11:AI34) -> 0 | AJ37: =COUNTA(AJ11:AJ34) -> 0
K39: 所見
K43: 注1：誤記入防止のため、当該変状区分以外のセルは灰色表示とすること。
K44: 注2：応急措置を実施した場合は、その詳細を備考に記載すること。
K45: 注3：外力は覆工スパン単位、材質劣化、漏水は変状単位とすること。
B46: （以下、印刷不要）
B47: ※1：本シートは作成洩れのないよう、変状が無くても全スパン分を作成すること．また変状展開図は、様式D-2-1、様式D-2-1'と同じものを覆工スパン単位で拡大し掲載すること。
B48: ※2：変状番号は、様式D-1-1で記入した番号と整合させること。
B49: ※3：対策区分毎の変状発生規模は、様式D-1-1に記載した面積を記入すること（ただし外力はスパン単位で評価するため変状の有無の欄には面積でなく○を記入し、備考欄に状況を記入）。
B50: ※4：本様式は覆工スパン毎に作成すること。
B51: ※5：変状数が多い場合は、適時、表の行を増やして覆工スパン毎に1枚のシートに収めること。また、1スパン１シートとし、スパンに合わせてシートを追加すること。
B52: ※6：対策区分毎の変状の発生範囲の規模とは，対策を行う際に参考となる変状の長さや面積であり，変状を包含する長さや面積とする。
B53: ※7：対策範囲を示す発生範囲の規模を面積で記入することが妥当ではない変状は、発生範囲の規模の欄に○を記入するとともに、備考に内容を記入すること。

Sheet 様式D-3_S016
AU1: 様式F用→ | AV1: 覆工スパン | AY1: 変 状 数 | BK1: 変 状 規 模
AV2: 番号 | AW2: 延長 （ｍ） | AX2: 健全性の診断の 区分 | AY2: 対策区分の判定 | BK2: 覆工スパン長（ｍ） | BO2: 変状の発生範囲の規模（㎡）
B3: ■定期点検記録様式 覆工スパン別変状詳細展開図 【様式D-3】 | AY3: 外力 | BC3: 材質劣化 | BG3: 漏水 | BK3: 外力 注2 | BO3: 材質劣化 | BS3: 漏水
B4: フリガナ | E4: モリガハラダイイチトンネル | K4: 路線名 | N4: 岩国大竹線 | T4: 定期点検実施者 | Y4: 株式会社エイト日本技術開発 | AG4: 定期点検年月日 | AK4: 2024年10月29日、30日 | AY4: Ⅳ | AZ4: Ⅲ | BA4: Ⅱa | BB4: Ⅱb | BC4: Ⅳ | BD4: Ⅲ | BE4: Ⅱa | BF4: Ⅱb | BG4: Ⅳ | BH4: Ⅲ | BI4: Ⅱa | BJ4: Ⅱb | BK4: Ⅳ | BL4: Ⅲ | BM4: Ⅱa | BN4: Ⅱb | BO4: Ⅳ | BP4: Ⅲ | BQ4: Ⅱa | BR4: Ⅱb | BS4: Ⅳ | BT4: Ⅲ | BU4: Ⅱa | BV4: Ⅱb
B5: 名 称 | E5: 森ヶ原第１トンネル | K5: 管理者名 | N5: 山口県岩国土木建築事務所 | Y5: 岡根 三千夫 | AV5: =N7 -> 16 | AW5: =R7 -> 10.1 | AX5: =AM35 -> Ⅰ | AY5: =Y37 | AZ5: =Z37 | BA5: =AA37 | BB5: =AB37 | BC5: =AC37 -> 0 | BD5: =AD37 -> 0 | BE5: =AE37 -> 0 | BF5: =AF37 -> 0 | ... BJ5: =AJ37 -> 0 | BK5: =IF(Y37>0,R7,"") -> 10.1 | BL5: =IF(Y37>0,"",IF(Z37>0,R7,"")) | BM5: =IF(Y37+Z37>0,"",IF(AA37>0,R7,"")) -> #VALUE! | BN5: =IF(Y37+Z37+AA37>0,"",IF(AB37>0,R7,"")) -> #VALUE! | BO5: =AC35 -> 0 | BP5: =AD35 -> 0 | BQ5: =AE35 -> 0 | BR5: =AF35 -> 0 | BS5: =AG35 -> 0 | BT5: =AH35 -> 0 | BU5: =AI35 -> 0 | BV5: =AJ35 -> 0
B6: スパン別変状展開図 | K6: 【健全性判定集計表】
K7: スパン番号 | N7: 16 | P7: スパン長 | R7: 10.1 | U7: 前回定期点検時の判定 | W7: 応急措置前の判定 | Y7: 対策区分毎の 変状の有無 | AC7: 対策区分毎の変状の発生範囲の規模(㎡) | AK7: 備考注2
K8: 変状番号 | L8: 対象箇所 | N8: 部位区分 | P8: 変状区分 | R8: 変状種類
Y9: 外力注1 | AC9: 材質劣化注1 | AG9: 漏水注1
Y10: Ⅳ | Z10: Ⅲ | AA10: Ⅱa | AB10: Ⅱb | AC10: Ⅳ | AD10: Ⅲ | AE10: Ⅱa | AF10: Ⅱb | AG10: Ⅳ | AH10: Ⅲ | AI10: Ⅱa | AJ10: Ⅱb
AQ11: =IF(P11="材質劣化",2,IF(P11="漏水",3,1)) -> 1 | AS11: =IF(Y11<>"",1,"")
AQ12: =IF(P12="材質劣化",2,IF(P12="漏水",3,1)) -> 1
AQ13: =IF(P13="材質劣化",2,IF(P13="漏水",3,1)) -> 1
AQ14: =IF(P14="材質劣化",2,IF(P14="漏水",3,1)) -> 1
AQ15: =IF(P15="材質劣化",2,IF(P15="漏水",3,1)) -> 1
AQ16: =IF(P16="材質劣化",2,IF(P16="漏水",3,1)) -> 1
AQ17: =IF(P17="材質劣化",2,IF(P17="漏水",3,1)) -> 1
AQ18: =IF(P18="材質劣化",2,IF(P18="漏水",3,1)) -> 1
AQ19: =IF(P19="材質劣化",2,IF(P19="漏水",3,1)) -> 1
AQ20: =IF(P20="材質劣化",2,IF(P20="漏水",3,1)) -> 1
AQ21: =IF(P21="材質劣化",2,IF(P21="漏水",3,1)) -> 1
AQ22: =IF(P22="材質劣化",2,IF(P22="漏水",3,1)) -> 1
AQ23: =IF(P23="材質劣化",2,IF(P23="漏水",3,1)) -> 1
... AQ27: =IF(P27="材質劣化",2,IF(P27="漏水",3,1)) -> 1
AQ28: =IF(P30="材質劣化",2,IF(P30="漏水",3,1)) -> 1
AQ29: =IF(P34="材質劣化",2,IF(P34="漏水",3,1)) -> 1
AQ30: =IF(P30="材質劣化",2,IF(P30="漏水",3,1)) -> 1
AQ31: =IF(P33="材質劣化",2,IF(P33="漏水",3,1)) -> 1
AQ32: =IF(P37="材質劣化",2,IF(P37="漏水",3,1)) -> 1
AQ33: =IF(P33="材質劣化",2,IF(P33="漏水",3,1)) -> 1
AQ34: =IF(P36="材質劣化",2,IF(P36="漏水",3,1)) -> 1
K35: 集計 判定 診断 | L35: 変状の発生規模合計(㎡) | Y35: － | AC35: =SUM(AC11:AC34) -> 0 | AD35: =SUM(AD11:AD34) -> 0 | AE35: =SUM(AE11:AE34) -> 0 | AF35: =SUM(AF11:AF34) -> 0 | AG35: =SUM(AG11:AG34) -> 0 | AH35: =SUM(AH11:AH34) -> 0 | AI35: =SUM(AI11:AI34) -> 0 | AJ35: =SUM(AJ11:AJ34) -> 0 | AK35: 覆工スパン単位の 健全性の 診断の区分 | AM35: Ⅰ
L36: 対策区分の 判定結果 | O36: 対策区分毎の変状数注3 | Y36: Ⅳ | Z36: Ⅲ | AA36: Ⅱa | AB36: Ⅱb | AC36: Ⅳ | AD36: Ⅲ | AE36: Ⅱa | AF36: Ⅱb | AG36: Ⅳ | AH36: Ⅲ | AI36: Ⅱa | AJ36: Ⅱb
Y37: =IF(COUNTIF(Y11:Y34,"〇")>0,"1"," ") | Z37: =IF(COUNTIF(Z11:Z34,"〇")>0,"1"," ") | AA37: =IF(COUNTIF(AA11:AA34,"〇")>0,"1"," ") | AB37: =IF(COUNTIF(AB11:AB34,"〇")>0,"1"," ") | AC37: =COUNTA(AC11:AC34) -> 0 | AD37: =COUNTA(AD11:AD34) -> 0 | AE37: =COUNTA(AE11:AE34) -> 0 | AF37: =COUNTA(AF11:AF34) -> 0 | AG37: =COUNTA(AG11:AG34) -> 0 | AH37: =COUNTA(AH11:AH34) -> 0 | AI37: =COUNTA(AI11:AI34) -> 0 | AJ37: =COUNTA(AJ11:AJ34) -> 0
K39: 所見
K43: 注1：誤記入防止のため、当該変状区分以外のセルは灰色表示とすること。
K44: 注2：応急措置を実施した場合は、その詳細を備考に記載すること。
K45: 注3：外力は覆工スパン単位、材質劣化、漏水は変状単位とすること。
B46: （以下、印刷不要）
B47: ※1：本シートは作成洩れのないよう、変状が無くても全スパン分を作成すること．また変状展開図は、様式D-2-1、様式D-2-1'と同じものを覆工スパン単位で拡大し掲載すること。
B48: ※2：変状番号は、様式D-1-1で記入した番号と整合させること。
B49: ※3：対策区分毎の変状発生規模は、様式D-1-1に記載した面積を記入すること（ただし外力はスパン単位で評価するため変状の有無の欄には面積でなく○を記入し、備考欄に状況を記入）。
B50: ※4：本様式は覆工スパン毎に作成すること。
B51: ※5：変状数が多い場合は、適時、表の行を増やして覆工スパン毎に1枚のシートに収めること。また、1スパン１シートとし、スパンに合わせてシートを追加すること。
B52: ※6：対策区分毎の変状の発生範囲の規模とは，対策を行う際に参考となる変状の長さや面積であり，変状を包含する長さや面積とする。
B53: ※7：対策範囲を示す発生範囲の規模を面積で記入することが妥当ではない変状は、発生範囲の規模の欄に○を記入するとともに、備考に内容を記入すること。

Sheet 様式D-3_S017
AU1: 様式F用→ | AV1: 覆工スパン | AY1: 変 状 数 | BK1: 変 状 規 模
AV2: 番号 | AW2: 延長 （ｍ） | AX2: 健全性の診断の 区分 | AY2: 対策区分の判定 | BK2: 覆工スパン長（ｍ） | BO2: 変状の発生範囲の規模（㎡）
B3: ■定期点検記録様式 覆工スパン別変状詳細展開図 【様式D-3】 | AY3: 外力 | BC3: 材質劣化 | BG3: 漏水 | BK3: 外力 注2 | BO3: 材質劣化 | BS3: 漏水
B4: フリガナ | E4: モリガハラダイイチトンネル | K4: 路線名 | N4: 岩国大竹線 | T4: 定期点検実施者 | Y4: 株式会社エイト日本技術開発 | AG4: 定期点検年月日 | AK4: 2024年10月29日、30日 | AY4: Ⅳ | AZ4: Ⅲ | BA4: Ⅱa | BB4: Ⅱb | BC4: Ⅳ | BD4: Ⅲ | BE4: Ⅱa | BF4: Ⅱb | BG4: Ⅳ | BH4: Ⅲ | BI4: Ⅱa | BJ4: Ⅱb | BK4: Ⅳ | BL4: Ⅲ | BM4: Ⅱa | BN4: Ⅱb | BO4: Ⅳ | BP4: Ⅲ | BQ4: Ⅱa | BR4: Ⅱb | BS4: Ⅳ | BT4: Ⅲ | BU4: Ⅱa | BV4: Ⅱb
B5: 名 称 | E5: 森ヶ原第１トンネル | K5: 管理者名 | N5: 山口県岩国土木建築事務所 | Y5: 岡根 三千夫 | AV5: =N7 -> 17 | AW5: =R7 -> 10.5 | AX5: =AM35 -> Ⅰ | AY5: =Y37 | AZ5: =Z37 | BA5: =AA37 | BB5: =AB37 | BC5: =AC37 -> 0 | BD5: =AD37 -> 0 | BE5: =AE37 -> 0 | BF5: =AF37 -> 0 | ... BJ5: =AJ37 -> 0 | BK5: =IF(Y37>0,R7,"") -> 10.5 | BL5: =IF(Y37>0,"",IF(Z37>0,R7,"")) | BM5: =IF(Y37+Z37>0,"",IF(AA37>0,R7,"")) -> #VALUE! | BN5: =IF(Y37+Z37+AA37>0,"",IF(AB37>0,R7,"")) -> #VALUE! | BO5: =AC35 -> 0 | BP5: =AD35 -> 0 | BQ5: =AE35 -> 0 | BR5: =AF35 -> 0 | BS5: =AG35 -> 0 | BT5: =AH35 -> 0 | BU5: =AI35 -> 0 | BV5: =AJ35 -> 0
B6: スパン別変状展開図 | K6: 【健全性判定集計表】
K7: スパン番号 | N7: 17 | P7: スパン長 | R7: 10.5 | U7: 前回定期点検時の判定 | W7: 応急措置前の判定 | Y7: 対策区分毎の 変状の有無 | AC7: 対策区分毎の変状の発生範囲の規模(㎡) | AK7: 備考注2
K8: 変状番号 | L8: 対象箇所 | N8: 部位区分 | P8: 変状区分 | R8: 変状種類
Y9: 外力注1 | AC9: 材質劣化注1 | AG9: 漏水注1
Y10: Ⅳ | Z10: Ⅲ | AA10: Ⅱa | AB10: Ⅱb | AC10: Ⅳ | AD10: Ⅲ | AE10: Ⅱa | AF10: Ⅱb | AG10: Ⅳ | AH10: Ⅲ | AI10: Ⅱa | AJ10: Ⅱb
AQ11: =IF(P11="材質劣化",2,IF(P11="漏水",3,1)) -> 1 | AS11: =IF(Y11<>"",1,"")
AQ12: =IF(P12="材質劣化",2,IF(P12="漏水",3,1)) -> 1
AQ13: =IF(P13="材質劣化",2,IF(P13="漏水",3,1)) -> 1
AQ14: =IF(P14="材質劣化",2,IF(P14="漏水",3,1)) -> 1
AQ15: =IF(P15="材質劣化",2,IF(P15="漏水",3,1)) -> 1
AQ16: =IF(P16="材質劣化",2,IF(P16="漏水",3,1)) -> 1
AQ17: =IF(P17="材質劣化",2,IF(P17="漏水",3,1)) -> 1
AQ18: =IF(P18="材質劣化",2,IF(P18="漏水",3,1)) -> 1
AQ19: =IF(P19="材質劣化",2,IF(P19="漏水",3,1)) -> 1
AQ20: =IF(P20="材質劣化",2,IF(P20="漏水",3,1)) -> 1
AQ21: =IF(P21="材質劣化",2,IF(P21="漏水",3,1)) -> 1
AQ22: =IF(P22="材質劣化",2,IF(P22="漏水",3,1)) -> 1
AQ23: =IF(P23="材質劣化",2,IF(P23="漏水",3,1)) -> 1
... AQ27: =IF(P27="材質劣化",2,IF(P27="漏水",3,1)) -> 1
AQ28: =IF(P30="材質劣化",2,IF(P30="漏水",3,1)) -> 1
AQ29: =IF(P34="材質劣化",2,IF(P34="漏水",3,1)) -> 1
AQ30: =IF(P30="材質劣化",2,IF(P30="漏水",3,1)) -> 1
AQ31: =IF(P33="材質劣化",2,IF(P33="漏水",3,1)) -> 1
AQ32: =IF(P37="材質劣化",2,IF(P37="漏水",3,1)) -> 1
AQ33: =IF(P33="材質劣化",2,IF(P33="漏水",3,1)) -> 1
AQ34: =IF(P36="材質劣化",2,IF(P36="漏水",3,1)) -> 1
K35: 集計 判定 診断 | L35: 変状の発生規模合計(㎡) | Y35: － | AC35: =SUM(AC11:AC34) -> 0 | AD35: =SUM(AD11:AD34) -> 0 | AE35: =SUM(AE11:AE34) -> 0 | AF35: =SUM(AF11:AF34) -> 0 | AG35: =SUM(AG11:AG34) -> 0 | AH35: =SUM(AH11:AH34) -> 0 | AI35: =SUM(AI11:AI34) -> 0 | AJ35: =SUM(AJ11:AJ34) -> 0 | AK35: 覆工スパン単位の 健全性の 診断の区分 | AM35: Ⅰ
L36: 対策区分の 判定結果 | O36: 対策区分毎の変状数注3 | Y36: Ⅳ | Z36: Ⅲ | AA36: Ⅱa | AB36: Ⅱb | AC36: Ⅳ | AD36: Ⅲ | AE36: Ⅱa | AF36: Ⅱb | AG36: Ⅳ | AH36: Ⅲ | AI36: Ⅱa | AJ36: Ⅱb
Y37: =IF(COUNTIF(Y11:Y34,"〇")>0,"1"," ") | Z37: =IF(COUNTIF(Z11:Z34,"〇")>0,"1"," ") | AA37: =IF(COUNTIF(AA11:AA34,"〇")>0,"1"," ") | AB37: =IF(COUNTIF(AB11:AB34,"〇")>0,"1"," ") | AC37: =COUNTA(AC11:AC34) -> 0 | AD37: =COUNTA(AD11:AD34) -> 0 | AE37: =COUNTA(AE11:AE34) -> 0 | AF37: =COUNTA(AF11:AF34) -> 0 | AG37: =COUNTA(AG11:AG34) -> 0 | AH37: =COUNTA(AH11:AH34) -> 0 | AI37: =COUNTA(AI11:AI34) -> 0 | AJ37: =COUNTA(AJ11:AJ34) -> 0
K39: 所見
K43: 注1：誤記入防止のため、当該変状区分以外のセルは灰色表示とすること。
K44: 注2：応急措置を実施した場合は、その詳細を備考に記載すること。
K45: 注3：外力は覆工スパン単位、材質劣化、漏水は変状単位とすること。
B46: （以下、印刷不要）
B47: ※1：本シートは作成洩れのないよう、変状が無くても全スパン分を作成すること．また変状展開図は、様式D-2-1、様式D-2-1'と同じものを覆工スパン単位で拡大し掲載すること。
B48: ※2：変状番号は、様式D-1-1で記入した番号と整合させること。
B49: ※3：対策区分毎の変状発生規模は、様式D-1-1に記載した面積を記入すること（ただし外力はスパン単位で評価するため変状の有無の欄には面積でなく○を記入し、備考欄に状況を記入）。
B50: ※4：本様式は覆工スパン毎に作成すること。
B51: ※5：変状数が多い場合は、適時、表の行を増やして覆工スパン毎に1枚のシートに収めること。また、1スパン１シートとし、スパンに合わせてシートを追加すること。
B52: ※6：対策区分毎の変状の発生範囲の規模とは，対策を行う際に参考となる変状の長さや面積であり，変状を包含する長さや面積とする。
B53: ※7：対策範囲を示す発生範囲の規模を面積で記入することが妥当ではない変状は、発生範囲の規模の欄に○を記入するとともに、備考に内容を記入すること。

Sheet 様式D-3_S018
AU1: 様式F用→ | AV1: 覆工スパン | AY1: 変 状 数 | BK1: 変 状 規 模
AV2: 番号 | AW2: 延長 （ｍ） | AX2: 健全性の診断の 区分 | AY2: 対策区分の判定 | BK2: 覆工スパン長（ｍ） | BO2: 変状の発生範囲の規模（㎡）
B3: ■定期点検記録様式 覆工スパン別変状詳細展開図 【様式D-3】 | AY3: 外力 | BC3: 材質劣化 | BG3: 漏水 | BK3: 外力 注2 | BO3: 材質劣化 | BS3: 漏水
B4: フリガナ | E4: モリガハラダイイチトンネル | K4: 路線名 | N4: 岩国大竹線 | T4: 定期点検実施者 | Y4: 株式会社エイト日本技術開発 | AG4: 定期点検年月日 | AK4: 2024年10月29日、30日 | AY4: Ⅳ | AZ4: Ⅲ | BA4: Ⅱa | BB4: Ⅱb | BC4: Ⅳ | BD4: Ⅲ | BE4: Ⅱa | BF4: Ⅱb | BG4: Ⅳ | BH4: Ⅲ | BI4: Ⅱa | BJ4: Ⅱb | BK4: Ⅳ | BL4: Ⅲ | BM4: Ⅱa | BN4: Ⅱb | BO4: Ⅳ | BP4: Ⅲ | BQ4: Ⅱa | BR4: Ⅱb | BS4: Ⅳ | BT4: Ⅲ | BU4: Ⅱa | BV4: Ⅱb
B5: 名 称 | E5: 森ヶ原第１トンネル | K5: 管理者名 | N5: 山口県岩国土木建築事務所 | Y5: 岡根 三千夫 | AV5: =N7 -> 18 | AW5: =R7 -> 10.5 | AX5: =AM35 -> Ⅰ | AY5: =Y37 | AZ5: =Z37 | BA5: =AA37 | BB5: =AB37 | BC5: =AC37 -> 0 | BD5: =AD37 -> 0 | BE5: =AE37 -> 0 | BF5: =AF37 -> 0 | ... BJ5: =AJ37 -> 0 | BK5: =IF(Y37>0,R7,"") -> 10.5 | BL5: =IF(Y37>0,"",IF(Z37>0,R7,"")) | BM5: =IF(Y37+Z37>0,"",IF(AA37>0,R7,"")) -> #VALUE! | BN5: =IF(Y37+Z37+AA37>0,"",IF(AB37>0,R7,"")) -> #VALUE! | BO5: =AC35 -> 0 | BP5: =AD35 -> 0 | BQ5: =AE35 -> 0 | BR5: =AF35 -> 0 | BS5: =AG35 -> 0 | BT5: =AH35 -> 0 | BU5: =AI35 -> 0 | BV5: =AJ35 -> 0
B6: スパン別変状展開図 | K6: 【健全性判定集計表】
K7: スパン番号 | N7: 18 | P7: スパン長 | R7: 10.5 | U7: 前回定期点検時の判定 | W7: 応急措置前の判定 | Y7: 対策区分毎の 変状の有無 | AC7: 対策区分毎の変状の発生範囲の規模(㎡) | AK7: 備考注2
K8: 変状番号 | L8: 対象箇所 | N8: 部位区分 | P8: 変状区分 | R8: 変状種類
Y9: 外力注1 | AC9: 材質劣化注1 | AG9: 漏水注1
Y10: Ⅳ | Z10: Ⅲ | AA10: Ⅱa | AB10: Ⅱb | AC10: Ⅳ | AD10: Ⅲ | AE10: Ⅱa | AF10: Ⅱb | AG10: Ⅳ | AH10: Ⅲ | AI10: Ⅱa | AJ10: Ⅱb
AQ11: =IF(P11="材質劣化",2,IF(P11="漏水",3,1)) -> 1 | AS11: =IF(Y11<>"",1,"")
AQ12: =IF(P12="材質劣化",2,IF(P12="漏水",3,1)) -> 1
AQ13: =IF(P13="材質劣化",2,IF(P13="漏水",3,1)) -> 1
AQ14: =IF(P14="材質劣化",2,IF(P14="漏水",3,1)) -> 1
AQ15: =IF(P15="材質劣化",2,IF(P15="漏水",3,1)) -> 1
AQ16: =IF(P16="材質劣化",2,IF(P16="漏水",3,1)) -> 1
AQ17: =IF(P17="材質劣化",2,IF(P17="漏水",3,1)) -> 1
AQ18: =IF(P18="材質劣化",2,IF(P18="漏水",3,1)) -> 1
AQ19: =IF(P19="材質劣化",2,IF(P19="漏水",3,1)) -> 1
AQ20: =IF(P20="材質劣化",2,IF(P20="漏水",3,1)) -> 1
AQ21: =IF(P21="材質劣化",2,IF(P21="漏水",3,1)) -> 1
AQ22: =IF(P22="材質劣化",2,IF(P22="漏水",3,1)) -> 1
AQ23: =IF(P23="材質劣化",2,IF(P23="漏水",3,1)) -> 1
... AQ27: =IF(P27="材質劣化",2,IF(P27="漏水",3,1)) -> 1
AQ28: =IF(P30="材質劣化",2,IF(P30="漏水",3,1)) -> 1
AQ29: =IF(P34="材質劣化",2,IF(P34="漏水",3,1)) -> 1
AQ30: =IF(P30="材質劣化",2,IF(P30="漏水",3,1)) -> 1
AQ31: =IF(P33="材質劣化",2,IF(P33="漏水",3,1)) -> 1
AQ32: =IF(P37="材質劣化",2,IF(P37="漏水",3,1)) -> 1
AQ33: =IF(P33="材質劣化",2,IF(P33="漏水",3,1)) -> 1
AQ34: =IF(P36="材質劣化",2,IF(P36="漏水",3,1)) -> 1
K35: 集計 判定 診断 | L35: 変状の発生規模合計(㎡) | Y35: － | AC35: =SUM(AC11:AC34) -> 0 | AD35: =SUM(AD11:AD34) -> 0 | AE35: =SUM(AE11:AE34) -> 0 | AF35: =SUM(AF11:AF34) -> 0 | AG35: =SUM(AG11:AG34) -> 0 | AH35: =SUM(AH11:AH34) -> 0 | AI35: =SUM(AI11:AI34) -> 0 | AJ35: =SUM(AJ11:AJ34) -> 0 | AK35: 覆工スパン単位の 健全性の 診断の区分 | AM35: Ⅰ
L36: 対策区分の 判定結果 | O36: 対策区分毎の変状数注3 | Y36: Ⅳ | Z36: Ⅲ | AA36: Ⅱa | AB36: Ⅱb | AC36: Ⅳ | AD36: Ⅲ | AE36: Ⅱa | AF36: Ⅱb | AG36: Ⅳ | AH36: Ⅲ | AI36: Ⅱa | AJ36: Ⅱb
Y37: =IF(COUNTIF(Y11:Y34,"〇")>0,"1"," ") | Z37: =IF(COUNTIF(Z11:Z34,"〇")>0,"1"," ") | AA37: =IF(COUNTIF(AA11:AA34,"〇")>0,"1"," ") | AB37: =IF(COUNTIF(AB11:AB34,"〇")>0,"1"," ") | AC37: =COUNTA(AC11:AC34) -> 0 | AD37: =COUNTA(AD11:AD34) -> 0 | AE37: =COUNTA(AE11:AE34) -> 0 | AF37: =COUNTA(AF11:AF34) -> 0 | AG37: =COUNTA(AG11:AG34) -> 0 | AH37: =COUNTA(AH11:AH34) -> 0 | AI37: =COUNTA(AI11:AI34) -> 0 | AJ37: =COUNTA(AJ11:AJ34) -> 0
K39: 所見
K43: 注1：誤記入防止のため、当該変状区分以外のセルは灰色表示とすること。
K44: 注2：応急措置を実施した場合は、その詳細を備考に記載すること。
K45: 注3：外力は覆工スパン単位、材質劣化、漏水は変状単位とすること。
B46: （以下、印刷不要）
B47: ※1：本シートは作成洩れのないよう、変状が無くても全スパン分を作成すること．また変状展開図は、様式D-2-1、様式D-2-1'と同じものを覆工スパン単位で拡大し掲載すること。
B48: ※2：変状番号は、様式D-1-1で記入した番号と整合させること。
B49: ※3：対策区分毎の変状発生規模は、様式D-1-1に記載した面積を記入すること（ただし外力はスパン単位で評価するため変状の有無の欄には面積でなく○を記入し、備考欄に状況を記入）。
B50: ※4：本様式は覆工スパン毎に作成すること。
B51: ※5：変状数が多い場合は、適時、表の行を増やして覆工スパン毎に1枚のシートに収めること。また、1スパン１シートとし、スパンに合わせてシートを追加すること。
B52: ※6：対策区分毎の変状の発生範囲の規模とは，対策を行う際に参考となる変状の長さや面積であり，変状を包含する長さや面積とする。
B53: ※7：対策範囲を示す発生範囲の規模を面積で記入することが妥当ではない変状は、発生範囲の規模の欄に○を記入するとともに、備考に内容を記入すること。

Sheet 様式D-3_S019
AU1: 様式F用→ | AV1: 覆工スパン | AY1: 変 状 数 | BK1: 変 状 規 模
AV2: 番号 | AW2: 延長 （ｍ） | AX2: 健全性の診断の 区分 | AY2: 対策区分の判定 | BK2: 覆工スパン長（ｍ） | BO2: 変状の発生範囲の規模（㎡）
B3: ■定期点検記録様式 覆工スパン別変状詳細展開図 【様式D-3】 | AY3: 外力 | BC3: 材質劣化 | BG3: 漏水 | BK3: 外力 注2 | BO3: 材質劣化 | BS3: 漏水
B4: フリガナ | E4: モリガハラダイイチトンネル | K4: 路線名 | N4: 岩国大竹線 | T4: 定期点検実施者 | Y4: 株式会社エイト日本技術開発 | AG4: 定期点検年月日 | AK4: 2024年10月29日、30日 | AY4: Ⅳ | AZ4: Ⅲ | BA4: Ⅱa | BB4: Ⅱb | BC4: Ⅳ | BD4: Ⅲ | BE4: Ⅱa | BF4: Ⅱb | BG4: Ⅳ | BH4: Ⅲ | BI4: Ⅱa | BJ4: Ⅱb | BK4: Ⅳ | BL4: Ⅲ | BM4: Ⅱa | BN4: Ⅱb | BO4: Ⅳ | BP4: Ⅲ | BQ4: Ⅱa | BR4: Ⅱb | BS4: Ⅳ | BT4: Ⅲ | BU4: Ⅱa | BV4: Ⅱb
B5: 名 称 | E5: 森ヶ原第１トンネル | K5: 管理者名 | N5: 山口県岩国土木建築事務所 | Y5: 岡根 三千夫 | AV5: =N7 -> 19 | AW5: =R7 -> 7 | AX5: =AM35 -> Ⅰ | AY5: =Y37 | AZ5: =Z37 | BA5: =AA37 | BB5: =AB37 | BC5: =AC37 -> 0 | BD5: =AD37 -> 0 | BE5: =AE37 -> 0 | BF5: =AF37 -> 0 | ... BJ5: =AJ37 -> 0 | BK5: =IF(Y37>0,R7,"") -> 7 | BL5: =IF(Y37>0,"",IF(Z37>0,R7,"")) | BM5: =IF(Y37+Z37>0,"",IF(AA37>0,R7,"")) -> #VALUE! | BN5: =IF(Y37+Z37+AA37>0,"",IF(AB37>0,R7,"")) -> #VALUE! | BO5: =AC35 -> 0 | BP5: =AD35 -> 0 | BQ5: =AE35 -> 0 | BR5: =AF35 -> 0 | BS5: =AG35 -> 0 | BT5: =AH35 -> 0 | BU5: =AI35 -> 0 | BV5: =AJ35 -> 0
B6: スパン別変状展開図 | K6: 【健全性判定集計表】
K7: スパン番号 | N7: 19 | P7: スパン長 | R7: 7 | U7: 前回定期点検時の判定 | W7: 応急措置前の判定 | Y7: 対策区分毎の 変状の有無 | AC7: 対策区分毎の変状の発生範囲の規模(㎡) | AK7: 備考注2
K8: 変状番号 | L8: 対象箇所 | N8: 部位区分 | P8: 変状区分 | R8: 変状種類
Y9: 外力注1 | AC9: 材質劣化注1 | AG9: 漏水注1
Y10: Ⅳ | Z10: Ⅲ | AA10: Ⅱa | AB10: Ⅱb | AC10: Ⅳ | AD10: Ⅲ | AE10: Ⅱa | AF10: Ⅱb | AG10: Ⅳ | AH10: Ⅲ | AI10: Ⅱa | AJ10: Ⅱb
AQ11: =IF(P11="材質劣化",2,IF(P11="漏水",3,1)) -> 1 | AS11: =IF(Y11<>"",1,"")
AQ12: =IF(P12="材質劣化",2,IF(P12="漏水",3,1)) -> 1
AQ13: =IF(P13="材質劣化",2,IF(P13="漏水",3,1)) -> 1
AQ14: =IF(P14="材質劣化",2,IF(P14="漏水",3,1)) -> 1
AQ15: =IF(P15="材質劣化",2,IF(P15="漏水",3,1)) -> 1
AQ16: =IF(P16="材質劣化",2,IF(P16="漏水",3,1)) -> 1
AQ17: =IF(P17="材質劣化",2,IF(P17="漏水",3,1)) -> 1
AQ18: =IF(P18="材質劣化",2,IF(P18="漏水",3,1)) -> 1
AQ19: =IF(P19="材質劣化",2,IF(P19="漏水",3,1)) -> 1
AQ20: =IF(P20="材質劣化",2,IF(P20="漏水",3,1)) -> 1
AQ21: =IF(P21="材質劣化",2,IF(P21="漏水",3,1)) -> 1
AQ22: =IF(P22="材質劣化",2,IF(P22="漏水",3,1)) -> 1
AQ23: =IF(P23="材質劣化",2,IF(P23="漏水",3,1)) -> 1
... AQ27: =IF(P27="材質劣化",2,IF(P27="漏水",3,1)) -> 1
AQ28: =IF(P30="材質劣化",2,IF(P30="漏水",3,1)) -> 1
AQ29: =IF(P34="材質劣化",2,IF(P34="漏水",3,1)) -> 1
AQ30: =IF(P30="材質劣化",2,IF(P30="漏水",3,1)) -> 1
AQ31: =IF(P33="材質劣化",2,IF(P33="漏水",3,1)) -> 1
AQ32: =IF(P37="材質劣化",2,IF(P37="漏水",3,1)) -> 1
AQ33: =IF(P33="材質劣化",2,IF(P33="漏水",3,1)) -> 1
AQ34: =IF(P36="材質劣化",2,IF(P36="漏水",3,1)) -> 1
K35: 集計 判定 診断 | L35: 変状の発生規模合計(㎡) | Y35: － | AC35: =SUM(AC11:AC34) -> 0 | AD35: =SUM(AD11:AD34) -> 0 | AE35: =SUM(AE11:AE34) -> 0 | AF35: =SUM(AF11:AF34) -> 0 | AG35: =SUM(AG11:AG34) -> 0 | AH35: =SUM(AH11:AH34) -> 0 | AI35: =SUM(AI11:AI34) -> 0 | AJ35: =SUM(AJ11:AJ34) -> 0 | AK35: 覆工スパン単位の 健全性の 診断の区分 | AM35: Ⅰ
L36: 対策区分の 判定結果 | O36: 対策区分毎の変状数注3 | Y36: Ⅳ | Z36: Ⅲ | AA36: Ⅱa | AB36: Ⅱb | AC36: Ⅳ | AD36: Ⅲ | AE36: Ⅱa | AF36: Ⅱb | AG36: Ⅳ | AH36: Ⅲ | AI36: Ⅱa | AJ36: Ⅱb
Y37: =IF(COUNTIF(Y11:Y34,"〇")>0,"1"," ") | Z37: =IF(COUNTIF(Z11:Z34,"〇")>0,"1"," ") | AA37: =IF(COUNTIF(AA11:AA34,"〇")>0,"1"," ") | AB37: =IF(COUNTIF(AB11:AB34,"〇")>0,"1"," ") | AC37: =COUNTA(AC11:AC34) -> 0 | AD37: =COUNTA(AD11:AD34) -> 0 | AE37: =COUNTA(AE11:AE34) -> 0 | AF37: =COUNTA(AF11:AF34) -> 0 | AG37: =COUNTA(AG11:AG34) -> 0 | AH37: =COUNTA(AH11:AH34) -> 0 | AI37: =COUNTA(AI11:AI34) -> 0 | AJ37: =COUNTA(AJ11:AJ34) -> 0
K39: 所見
K43: 注1：誤記入防止のため、当該変状区分以外のセルは灰色表示とすること。
K44: 注2：応急措置を実施した場合は、その詳細を備考に記載すること。
K45: 注3：外力は覆工スパン単位、材質劣化、漏水は変状単位とすること。
B46: （以下、印刷不要）
B47: ※1：本シートは作成洩れのないよう、変状が無くても全スパン分を作成すること．また変状展開図は、様式D-2-1、様式D-2-1'と同じものを覆工スパン単位で拡大し掲載すること。
B48: ※2：変状番号は、様式D-1-1で記入した番号と整合させること。
B49: ※3：対策区分毎の変状発生規模は、様式D-1-1に記載した面積を記入すること（ただし外力はスパン単位で評価するため変状の有無の欄には面積でなく○を記入し、備考欄に状況を記入）。
B50: ※4：本様式は覆工スパン毎に作成すること。
B51: ※5：変状数が多い場合は、適時、表の行を増やして覆工スパン毎に1枚のシートに収めること。また、1スパン１シートとし、スパンに合わせてシートを追加すること。
B52: ※6：対策区分毎の変状の発生範囲の規模とは，対策を行う際に参考となる変状の長さや面積であり，変状を包含する長さや面積とする。
B53: ※7：対策範囲を示す発生範囲の規模を面積で記入することが妥当ではない変状は、発生範囲の規模の欄に○を記入するとともに、備考に内容を記入すること。

Sheet 様式D-3_PE
AU1: 様式F用→ | AV1: 覆工スパン | AY1: 変 状 数 | BK1: 変 状 規 模
AV2: 番号 | AW2: 延長 （ｍ） | AX2: 健全性の診断の 区分 | AY2: 対策区分の判定 | BK2: 覆工スパン長（ｍ） | BO2: 変状の発生範囲の規模（㎡）
B3: ■定期点検記録様式 覆工スパン別変状詳細展開図 【様式D-3】 | AY3: 外力 | BC3: 材質劣化 | BG3: 漏水 | BK3: 外力 注2 | BO3: 材質劣化 | BS3: 漏水
B4: フリガナ | E4: モリガハラダイイチトンネル | K4: 路線名 | N4: 岩国大竹線 | T4: 定期点検実施者 | Y4: 株式会社エイト日本技術開発 | AG4: 定期点検年月日 | AK4: 2024年10月29日、30日 | AY4: Ⅳ | AZ4: Ⅲ | BA4: Ⅱa | BB4: Ⅱb | BC4: Ⅳ | BD4: Ⅲ | BE4: Ⅱa | BF4: Ⅱb | BG4: Ⅳ | BH4: Ⅲ | BI4: Ⅱa | BJ4: Ⅱb | BK4: Ⅳ | BL4: Ⅲ | BM4: Ⅱa | BN4: Ⅱb | BO4: Ⅳ | BP4: Ⅲ | BQ4: Ⅱa | BR4: Ⅱb | BS4: Ⅳ | BT4: Ⅲ | BU4: Ⅱa | BV4: Ⅱb
B5: 名 称 | E5: 森ヶ原第１トンネル | K5: 管理者名 | N5: 山口県岩国土木建築事務所 | Y5: 岡根 三千夫 | AV5: =N7 -> PE | AW5: =R7 -> 0 | AX5: =AM35 -> Ⅰ | AY5: =Y37 | AZ5: =Z37 | BA5: =AA37 | BB5: =AB37 | BC5: =AC37 -> 0 | BD5: =AD37 -> 0 | BE5: =AE37 -> 0 | BF5: =AF37 -> 0 | ... BJ5: =AJ37 -> 0 | BK5: =IF(Y37>0,R7,"") -> 0 | BL5: =IF(Y37>0,"",IF(Z37>0,R7,"")) | BM5: =IF(Y37+Z37>0,"",IF(AA37>0,R7,"")) -> #VALUE! | BN5: =IF(Y37+Z37+AA37>0,"",IF(AB37>0,R7,"")) -> #VALUE! | BO5: =AC35 -> 0 | BP5: =AD35 -> 0 | BQ5: =AE35 -> 0 | BR5: =AF35 -> 0 | BS5: =AG35 -> 0 | BT5: =AH35 -> 0 | BU5: =AI35 -> 0 | BV5: =AJ35 -> 0
B6: スパン別変状展開図 | K6: 【健全性判定集計表】
K7: スパン番号 | N7: PE | P7: スパン長 | R7: 0 | U7: 前回定期点検時の判定 | W7: 応急措置前の判定 | Y7: 対策区分毎の 変状の有無 | AC7: 対策区分毎の変状の発生範囲の規模(㎡) | AK7: 備考注2
K8: 変状番号 | L8: 対象箇所 | N8: 部位区分 | P8: 変状区分 | R8: 変状種類
Y9: 外力注1 | AC9: 材質劣化注1 | AG9: 漏水注1
Y10: Ⅳ | Z10: Ⅲ | AA10: Ⅱa | AB10: Ⅱb | AC10: Ⅳ | AD10: Ⅲ | AE10: Ⅱa | AF10: Ⅱb | AG10: Ⅳ | AH10: Ⅲ | AI10: Ⅱa | AJ10: Ⅱb
AQ11: =IF(P11="材質劣化",2,IF(P11="漏水",3,1)) -> 1 | AS11: =IF(Y11<>"",1,"")
AQ12: =IF(P12="材質劣化",2,IF(P12="漏水",3,1)) -> 1
AQ13: =IF(P13="材質劣化",2,IF(P13="漏水",3,1)) -> 1
AQ14: =IF(P14="材質劣化",2,IF(P14="漏水",3,1)) -> 1
AQ15: =IF(P15="材質劣化",2,IF(P15="漏水",3,1)) -> 1
AQ16: =IF(P16="材質劣化",2,IF(P16="漏水",3,1)) -> 1
AQ17: =IF(P17="材質劣化",2,IF(P17="漏水",3,1)) -> 1
AQ18: =IF(P18="材質劣化",2,IF(P18="漏水",3,1)) -> 1
AQ19: =IF(P19="材質劣化",2,IF(P19="漏水",3,1)) -> 1
AQ20: =IF(P20="材質劣化",2,IF(P20="漏水",3,1)) -> 1
AQ21: =IF(P21="材質劣化",2,IF(P21="漏水",3,1)) -> 1
AQ22: =IF(P22="材質劣化",2,IF(P22="漏水",3,1)) -> 1
AQ23: =IF(P23="材質劣化",2,IF(P23="漏水",3,1)) -> 1
... AQ27: =IF(P27="材質劣化",2,IF(P27="漏水",3,1)) -> 1
AQ28: =IF(P30="材質劣化",2,IF(P30="漏水",3,1)) -> 1
AQ29: =IF(P34="材質劣化",2,IF(P34="漏水",3,1)) -> 1
AQ30: =IF(P30="材質劣化",2,IF(P30="漏水",3,1)) -> 1
AQ31: =IF(P33="材質劣化",2,IF(P33="漏水",3,1)) -> 1
AQ32: =IF(P37="材質劣化",2,IF(P37="漏水",3,1)) -> 1
AQ33: =IF(P33="材質劣化",2,IF(P33="漏水",3,1)) -> 1
AQ34: =IF(P36="材質劣化",2,IF(P36="漏水",3,1)) -> 1
K35: 集計 判定 診断 | L35: 変状の発生規模合計(㎡) | Y35: － | AC35: =SUM(AC11:AC34) -> 0 | AD35: =SUM(AD11:AD34) -> 0 | AE35: =SUM(AE11:AE34) -> 0 | AF35: =SUM(AF11:AF34) -> 0 | AG35: =SUM(AG11:AG34) -> 0 | AH35: =SUM(AH11:AH34) -> 0 | AI35: =SUM(AI11:AI34) -> 0 | AJ35: =SUM(AJ11:AJ34) -> 0 | AK35: 覆工スパン単位の 健全性の 診断の区分 | AM35: Ⅰ
L36: 対策区分の 判定結果 | O36: 対策区分毎の変状数注3 | Y36: Ⅳ | Z36: Ⅲ | AA36: Ⅱa | AB36: Ⅱb | AC36: Ⅳ | AD36: Ⅲ | AE36: Ⅱa | AF36: Ⅱb | AG36: Ⅳ | AH36: Ⅲ | AI36: Ⅱa | AJ36: Ⅱb
Y37: =IF(COUNTIF(Y11:Y34,"〇")>0,"1"," ") | Z37: =IF(COUNTIF(Z11:Z34,"〇")>0,"1"," ") | AA37: =IF(COUNTIF(AA11:AA34,"〇")>0,"1"," ") | AB37: =IF(COUNTIF(AB11:AB34,"〇")>0,"1"," ") | AC37: =COUNTA(AC11:AC34) -> 0 | AD37: =COUNTA(AD11:AD34) -> 0 | AE37: =COUNTA(AE11:AE34) -> 0 | AF37: =COUNTA(AF11:AF34) -> 0 | AG37: =COUNTA(AG11:AG34) -> 0 | AH37: =COUNTA(AH11:AH34) -> 0 | AI37: =COUNTA(AI11:AI34) -> 0 | AJ37: =COUNTA(AJ11:AJ34) -> 0
K39: 所見
K43: 注1：誤記入防止のため、当該変状区分以外のセルは灰色表示とすること。
K44: 注2：応急措置を実施した場合は、その詳細を備考に記載すること。
K45: 注3：外力は覆工スパン単位、材質劣化、漏水は変状単位とすること。
B46: （以下、印刷不要）
B47: ※1：本シートは作成洩れのないよう、変状が無くても全スパン分を作成すること．また変状展開図は、様式D-2-1、様式D-2-1'と同じものを覆工スパン単位で拡大し掲載すること。
B48: ※2：変状番号は、様式D-1-1で記入した番号と整合させること。
B49: ※3：対策区分毎の変状発生規模は、様式D-1-1に記載した面積を記入すること（ただし外力はスパン単位で評価するため変状の有無の欄には面積でなく○を記入し、備考欄に状況を記入）。
B50: ※4：本様式は覆工スパン毎に作成すること。
B51: ※5：変状数が多い場合は、適時、表の行を増やして覆工スパン毎に1枚のシートに収めること。また、1スパン１シートとし、スパンに合わせてシートを追加すること。
B52: ※6：対策区分毎の変状の発生範囲の規模とは，対策を行う際に参考となる変状の長さや面積であり，変状を包含する長さや面積とする。
B53: ※7：対策範囲を示す発生範囲の規模を面積で記入することが妥当ではない変状は、発生範囲の規模の欄に○を記入するとともに、備考に内容を記入すること。

Sheet 様式E
B2: ■定期点検記録様式 近接目視による状態の把握が不可能な箇所 【様式E】
B3: フリガナ | F3: モリガハラダイイチトンネル | U3: 路 線 名 | Z3: 主要県道 岩国大竹線 | AI3: 定期点検実施者 | AO3: 株式会社エイト日本技術開発 | AW3: 定期点検年月日 | BC3: 2024年10月29日、30日
B4: 名 称 | F4: 森ヶ原第１トンネル | U4: 管理者名 | Z4: 山口県岩国土木建築事務所 | AO4: 岡根 三千夫
B5: 覆工スパン 番号 | H5: 対象箇所 | P5: 不可能な理由 | AN5: 対応策
D20: 注）近接目視又は打音、触診ができない箇所を記載する。現状の評価、日常の維持管理での注意点を記載する。
D21: ※ 数が多い場合は、適時、表の行を増やすこと。

Sheet 様式F 
B1: ■定期点検記録様式 覆工スパン毎の変状数・変状規模の集計 【様式F】
B2: フリガナ | F2: モリガハラダイイチトンネル | L2: 路線名 | O2: 岩国大竹線 | T2: 定期点検実施者 | V2: 株式会社エイト日本技術開発 | Y2: 定期点検 年月日 | Z2: 2024年10月29日、30日
B3: 名 称 | F3: 森ヶ原第１トンネル | L3: 管理者名 | O3: 山口県岩国土木建築事務所 | V3: 岡根 三千夫
B5: 【覆工スパン毎の変状数, 変状規模】
B6: 覆工スパン | E6: 変 状 数 | Q6: 変 状 規 模
B7: 番号 | C7: 延長 （ｍ） | D7: 健全性の診断の 区分 | E7: 対策区分の判定注1 | Q7: 覆工スパン長（ｍ） | U7: 変状の発生範囲の規模（㎡）
E8: 外力 | I8: 材質劣化 | M8: 漏水 | Q8: 外力 注2 | U8: 材質劣化 | Y8: 漏水
E9: Ⅳ | F9: Ⅲ | G9: Ⅱa | H9: Ⅱb | I9: Ⅳ | J9: Ⅲ | K9: Ⅱa | L9: Ⅱb | M9: Ⅳ | N9: Ⅲ | O9: Ⅱa | P9: Ⅱb | Q9: Ⅳ | R9: Ⅲ | S9: Ⅱa | T9: Ⅱb | U9: Ⅳ | V9: Ⅲ | W9: Ⅱa | X9: Ⅱb | Y9: Ⅳ | Z9: Ⅲ | AA9: Ⅱa | AB9: Ⅱb
B10: PS | C10: 0 | D10: Ⅰ | E10: 0 | F10: 0 | G10: 0 | H10: 0 | I10: 0 | J10: 0 | K10: 0 | L10: 0 | M10: 0 | N10: 0 | O10: 0 | P10: 0 | Q10: 0 | R10: 0 | S10: 0 | T10: 0 | U10: 0 | V10: 0 | W10: 0 | X10: 0 | Y10: 0 | Z10: 0 | AA10: 0 | AB10: 0
B11: 1 | C11: 6 | D11: Ⅰ | E11: 0 | F11: 0 | G11: 0 | H11: 0 | I11: 0 | J11: 0 | K11: 0 | L11: 0 | M11: 0 | N11: 0 | O11: 0 | P11: 0 | Q11: 0 | R11: 0 | S11: 0 | T11: 0 | U11: 0 | V11: 0 | W11: 0 | X11: 0 | Y11: 0 | Z11: 0 | AA11: 0 | AB11: 0
B12: 2 | C12: 10.5 | D12: Ⅰ | E12: 0 | F12: 0 | G12: 0 | H12: 0 | I12: 0 | J12: 0 | K12: 0 | L12: 0 | M12: 0 | N12: 0 | O12: 0 | P12: 0 | Q12: 0 | R12: 0 | S12: 0 | T12: 0 | U12: 0 | V12: 0 | W12: 0 | X12: 0 | Y12: 0 | Z12: 0 | AA12: 0 | AB12: 0
B13: 3 | C13: 10.5 | D13: Ⅰ | E13: 0 | F13: 0 | G13: 0 | H13: 0 | I13: 0 | J13: 0 | K13: 0 | L13: 0 | M13: 0 | N13: 0 | O13: 0 | P13: 0 | Q13: 0 | R13: 0 | S13: 0 | T13: 0 | U13: 0 | V13: 0 | W13: 0 | X13: 0 | Y13: 0 | Z13: 0 | AA13: 0 | AB13: 0
B14: 4 | C14: 10.5 | D14: Ⅰ | E14: 0 | F14: 0 | G14: 0 | H14: 0 | I14: 0 | J14: 0 | K14: 0 | L14: 0 | M14: 0 | N14: 0 | O14: 0 | P14: 0 | Q14: 0 | R14: 0 | S14: 0 | T14: 0 | U14: 0 | V14: 0 | W14: 0 | X14: 0 | Y14: 0 | Z14: 0 | AA14: 0 | AB14: 0
B15: 5 | C15: 10.5 | D15: Ⅰ | E15: 0 | F15: 0 | G15: 0 | H15: 0 | I15: 0 | J15: 0 | K15: 0 | L15: 0 | M15: 0 | N15: 0 | O15: 0 | P15: 0 | Q15: 0 | R15: 0 | S15: 0 | T15: 0 | U15: 0 | V15: 0 | W15: 0 | X15: 0 | Y15: 0 | Z15: 0 | AA15: 0 | AB15: 0
B16: 6 | C16: 10.3 | D16: Ⅰ | E16: 0 | F16: 0 | G16: 0 | H16: 0 | I16: 0 | J16: 0 | K16: 0 | L16: 0 | M16: 0 | N16: 0 | O16: 0 | P16: 0 | Q16: 0 | R16: 0 | S16: 0 | T16: 0 | U16: 0 | V16: 0 | W16: 0 | X16: 0 | Y16: 0 | Z16: 0 | AA16: 0 | AB16: 0
B17: 7 | C17: 10.5 | D17: Ⅰ | E17: 0 | F17: 0 | G17: 0 | H17: 0 | I17: 0 | J17: 0 | K17: 0 | L17: 0 | M17: 0 | N17: 0 | O17: 0 | P17: 0 | Q17: 0 | R17: 0 | S17: 0 | T17: 0 | U17: 0 | V17: 0 | W17: 0 | X17: 0 | Y17: 0 | Z17: 0 | AA17: 0 | AB17: 0
B18: 8 | C18: 10.5 | D18: Ⅰ | E18: 0 | F18: 0 | G18: 0 | H18: 0 | I18: 0 | J18: 0 | K18: 0 | L18: 0 | M18: 0 | N18: 0 | O18: 0 | P18: 0 | Q18: 0 | R18: 0 | S18: 0 | T18: 0 | U18: 0 | V18: 0 | W18: 0 | X18: 0 | Y18: 0 | Z18: 0 | AA18: 0 | AB18: 0
B19: 9 | C19: 10.5 | D19: Ⅰ | E19: 0 | F19: 0 | G19: 0 | H19: 0 | I19: 0 | J19: 0 | K19: 0 | L19: 0 | M19: 0 | N19: 0 | O19: 0 | P19: 0 | Q19: 0 | R19: 0 | S19: 0 | T19: 0 | U19: 0 | V19: 0 | W19: 0 | X19: 0 | Y19: 0 | Z19: 0 | AA19: 0 | AB19: 0
B20: 10 | C20: 10.5 | D20: Ⅰ | E20: 0 | F20: 0 | G20: 0 | H20: 0 | I20: 0 | J20: 0 | K20: 0 | L20: 0 | M20: 0 | N20: 0 | O20: 0 | P20: 0 | Q20: 0 | R20: 0 | S20: 0 | T20: 0 | U20: 0 | V20: 0 | W20: 0 | X20: 0 | Y20: 0 | Z20: 0 | AA20: 0 | AB20: 0
B21: 11 | C21: 10.5 | D21: Ⅰ | E21: 0 | F21: 0 | G21: 0 | H21: 0 | I21: 0 | J21: 0 | K21: 0 | L21: 0 | M21: 0 | N21: 0 | O21: 0 | P21: 0 | Q21: 0 | R21: 0 | S21: 0 | T21: 0 | U21: 0 | V21: 0 | W21: 0 | X21: 0 | Y21: 0 | Z21: 0 | AA21: 0 | AB21: 0
B22: 12 | C22: 10 | D22: Ⅰ | E22: 0 | F22: 0 | G22: 0 | H22: 0 | I22: 0 | J22: 0 | K22: 0 | L22: 0 | M22: 0 | N22: 0 | O22: 0 | P22: 0 | Q22: 0 | R22: 0 | S22: 0 | T22: 0 | U22: 0 | V22: 0 | W22: 0 | X22: 0 | Y22: 0 | Z22: 0 | AA22: 0 | AB22: 0
... B29: 19 | C29: 7 | D29: Ⅰ | E29: 0 | F29: 0 | G29: 0 | H29: 0 | I29: 0 | J29: 0 | K29: 0 | L29: 0 | M29: 0 | N29: 0 | O29: 0 | P29: 0 | Q29: 0 | R29: 0 | S29: 0 | T29: 0 | U29: 0 | V29: 0 | W29: 0 | X29: 0 | Y29: 0 | Z29: 0 | AA29: 0 | AB29: 0
B30: PE | C30: 0 | D30: Ⅰ | E30: 0 | F30: 0 | G30: 0 | H30: 0 | I30: 0 | J30: 0 | K30: 0 | L30: 0 | M30: 0 | N30: 0 | O30: 0 | P30: 0 | Q30: 0 | R30: 0 | S30: 0 | T30: 0 | U30: 0 | V30: 0 | W30: 0 | X30: 0 | Y30: 0 | Z30: 0 | AA30: 0 | AB30: 0
B44: 計 | E44: =SUM(E10:E43) -> 0 | F44: =SUM(F10:F43) -> 0 | G44: =SUM(G10:G43) -> 0 | H44: =SUM(H10:H43) -> 0 | I44: =SUM(I10:I43) -> 0 | J44: =SUM(J10:J43) -> 0 | K44: =SUM(K10:K43) -> 0 | L44: =SUM(L10:L43) -> 0 | ... AB44: =SUM(AB10:AB43) -> 0
G45: =G44+H44 -> 0 | K45: =K44+L44 -> 0 | O45: =O44+P44 -> 0
B46: 注１：外力は覆工スパン単位で診断するため、覆工スパンの中で最も評価の厳しい対策区分の判定の区分欄にのみスパン数1を、材質劣化、漏水はそれぞれの対策区分に変状数を記入すること。
B47: 注２：外力は覆工スパン単位で診断するため、覆工スパンの中で最も評価の厳しい対策区分の判定の区分欄にのみスパン長を記入すること。
B48: ※１：本様式は様式D‐3の集計結果を掲載すること。
B49: ※２：覆工スパン数が多い場合は、適時、表の行を増やしてトンネル毎に1枚のシートに収めること。
B50: ※３：本様式の集計結果に基づいて、様式Bのトンネル本体工における変状区分毎の対策区分の箇所を記載する。

Sheet 様式G
B2: ■定期点検記録様式 健全性の診断の区分に関する所見【様式G】 | U2: 施設ID | X2: 34.14861,132.16333
B3: フリガナ | E3: モリガハラダイイチトンネル | I3: 路線名 | L3: 岩国大竹線 | O3: 定期点検実施者 | R3: 株式会社エイト日本技術開発 | U3: 定期点検年月日 | X3: 2024年10月29日、30日
B4: 名 称 | E4: 森ヶ原第１トンネル | I4: 管理者名 | L4: 山口県岩国土木建築事務所 | R4: 岡根 三千夫
B5: 道路トンネルの健全性の診断の区分の所見
B6: １． 変状・異常の内容と部位 ・軽微なひび割れ以外の変状は生じていない。 ２．変状等の原因（推定） ・2018年の施工から7年しか経過していない。初回点検時も変状は生じていなかった。 ３．施設の現状と次回定期点検まで及び将来における構造物の状態（推定） ■構造物としての安全性や安定 ・最新のNATM工法のトンネルであり、現状、外力や施工に起因する変状は生じていない。次回以降の点検も将来的にも構造物としての安定性には問題はないと考えられる。 ■道路利用者被害の発生の可能性 ・うき、はく離に進行により、路面への剥落の可能性がある。 ■特定事象との関連性 ・当該地域の基岩盤は泥岩であるため、スレーキングなどが懸念される。ただし、その兆候は認められない。地すべりには該当せず、膨張性地山の可能性も低い。有害水も認められない。 ■その他の変状の状態 ・該当する変状はない。 ４．措置の必要性の判断に関わる事項 ・今後は横断目地部周辺のうき・はく離、ひび割れの発生、進行について利用者被害の観点から状態を把握する必要がある。点検時の叩き落しなどの措置を講じることで措置は完了する可能性が高い。継続して観察する。 ５．その他、次回定期点検への引継ぎ事項 ・横断目地部周辺は新規のうき、はく離が生じることが想定されるため、その状態を入念に確認すること。

Sheet (参考)リスト
B4: 様式A～B
B5: トンネルの分類 | C5: トンネル工法 | D5: 自専道or一般道 | E5: 緊急輸送路 | F5: 代替路
B6: 陸上トンネル（掘進工法） | C6: 山岳トンネル工法（NATM） | D6: 自専道 | E6: 一次 | F6: 有
B7: 陸上トンネル（開削工法） | C7: 矢板工法 | D7: 一般道 | E7: 二次 | F7: 無
B8: 陸上トンネル（その他） | C8: 開削工法 | E8: 三次
B9: 水底トンネル（掘進工法） | C9: シールド工法 | E9: 市町村指定
B10: 水底トンネル（沈埋工法） | C10: その他 | E10: 指定なし
B11: 水底トンネル（開削工法） | C11: 不明
B12: 水底トンネル（その他）
B14: 様式C-1-1(本体工)、C-2、D-1-1、D-3
B15: 対象箇所 | C15: 部位区分 | D15: 変状区分 | E15: 変状種類 | F15: 対策区分 | G15: 健全性 | H15: 調査の要否 | I15: 措置の要否 | J15: 実施有無
B16: 覆工 | C16: アーチ（右側） | D16: 外力 | E16: 圧ざ、ひび割れ | F16: Ⅰ | G16: Ⅰ | H16: 要 | I16: 要監視 | J16: 未
B17: 坑門 | C17: アーチ（左側） | D17: 材質劣化 | E17: うき・はく離 | F17: Ⅱa | G17: Ⅱ | H17: 否 | I17: 要対策 | J17: 済
B18: 内装板 | C18: アーチ（天端） | D18: 漏水 | E18: 鋼材腐食 | F18: Ⅱb | G18: Ⅲ | I18: 否 | J18: 継続
B19: 天井板 | C19: アーチ（全周） | E19: 変形・移動 | F19: Ⅲ | G19: Ⅳ
B20: 路面 | C20: 側壁（右側） | E20: 沈下 | F20: Ⅳ | G20: －
B21: その他 | C21: 側壁（左側） | E21: 隆起 | F21: －
C22: 横断目地（右側） | E22: 巻厚の不足または減少、背面空洞
C23: 横断目地（左側） | E23: 補修・補強材の破損
C24: 横断目地（天端） | E24: 漏水
C25: 横断目地（全周） | E25: 滞水
C26: 水平打ち継ぎ目（右側） | E26: 土砂流出
C27: 水平打ち継ぎ目（左側） | E27: その他
C28: 面壁・妻壁等
C29: その他
C31: 面壁・妻壁等
C32: その他
C34: 側壁
C35: その他
C37: 車道側
C38: ダクト側
C39: その他
C41: 車道
C42: 歩道
C43: 監査歩路
... C47: その他
B50: 様式C-1-2（附属物）、D-1-2
B51: 施設の内訳 | C51: 対象箇所 | D51: 部位区分 | E51: 異常の種類 | F51: 異常判定区分 | G51: 実施有無
B52: 照明施設 | C52: 灯具 | D52: 附属物本体 | E52: 破断 | F52: ○ | G52: 未
B53: 換気施設 | C53: ケーブル本体 | D53: 取付部材 | E53: 緩み、脱落 | F53: × | G53: 済
B54: 非常用施設 | C54: ケーブル本体以外 | D54: ボルト・ナット，アンカー類 | E54: 亀裂 | G54: 継続
B55: その他施設 | E55: 腐食
C56: ジェットファン | E56: 変形，欠損
C57: VI計 | E57: がたつき
C58: CO計 | E58: その他
C59: 風向風速計
C60: その他
C62: 通話型通報設備
C63: 操作型通報設備
C64: 自動通報設備
C65: 非常警報設備
C66: 点 滅 灯
C67: 音信号発生器
C68: 消 火 器
C69: 消火栓設備
C70: 誘導表示施設
C71: 避難情報提供設備
... C83: その他
