Workbook
Name その他: '(参考)リスト'!$C$47
Name その他施設: '[1](参考)リスト'!#REF!
Name その他施設: '(参考)リスト'!$C$79:$C$83
Name 換気施設: '[1](参考)リスト'!#REF!
Name 換気施設: '(参考)リスト'!$C$56:$C$60
Name 坑門: '(参考)リスト'!$C$31:$C$32
Name 照明施設: '[1](参考)リスト'!#REF!
Name 照明施設: '(参考)リスト'!$C$52:$C$54
Name 対象箇所: [2]!テーブル1[対象箇所]
Name 天井板: '(参考)リスト'!$C$37:$C$39
Name 内装板: '(参考)リスト'!$C$34:$C$35
Name 非常用施設: '[1](参考)リスト'!#REF!
Name 非常用施設: '(参考)リスト'!$C$62:$C$77
Name 覆工: '(参考)リスト'!$C$16:$C$29
Name 路面: '(参考)リスト'!$C$41:$C$45

Sheet 点検様式作成フロー
A1: 点検様式作成フロ-
A3: 作成フロー図 | H3: 点検調書作成手順
H4: ①様式A-1～A-3（トンネル台帳）
H5: トンネル点検の実施にあたっては，現場点検作業に先行してトンネル情報を収集する。トンネル台帳（様式Ａ－1～様式Ａ－3）はトンネル完成後に作成され，維持管理の段階で引き継がれるが，関連資料等を確認したうえで，追加情報があれば必要に応じて追記することが望ましい。
H9: ②様式D-2-1、様式D-2-1´
H10: 現場点検作業を実施し，近接目視点検で確認した変状状況や補修履歴を忠実に変状展開図に転記する。
H12: ③様式D-1-1、様式D-1-2
H13: 変状展開図や撮影した写真等をもとに，対象トンネルの対策区分を決定し，対策区分がⅡ～Ⅳの変状および異常判定区分「×」を抽出し，写真台帳を作成する。
H16: ④様式B
H17: 写真台帳の作成と同時に，トンネルの構造を展開した位置図に変状写真位置を記録する。
H19: ⑤様式D-3
H20: 変状展開図ならびに写真台帳をもとに覆工スパンごとの変状展開図を作成し，変状発生状況をとりまとめる。
H22: ⑥様式E
H23: 近接目視または打音検査，触診ができていない箇所および近接目視によらない方法を講じた場所に対する調査結果を記録する。
... H33: ファイルは以下の分割規則に従う。 ※各ファイルとも （参考）リスト のシートを付けて保存すること。 ・様式A-1～A-3は同一ファイルとする。 ・様式B、D-1-1、D-1-2、D-2-1（もしくはD-2-1'）は別ファイルとする。 ・様式C-1-1、C-1-2、C-2は同一ファイルとする。 ・様式D-3、E、F、Gは同一ファイルとする。

Sheet 変状面積算出方法
A1: 変状面積算出方法
A26: 注1）外力による変状：ひび割れや圧ざの場合は変状の寸法を記録する。
A27: 例）ひび割れ：長さ（L）×最大ひび割れ幅（t）を記録する。 変形，移動，沈下：数値的な記載が可能な場合のみ記載する。
A28: 注2）材料劣化による変状：材質劣化による変状を包括する面積を記録する。
A29: 例）うき，はく離（閉合ひび割れ）：変状範囲を包括する寸法（L×W） うき，はく離（ひび割れ沿い）：打音異常箇所を包括する寸法（L×W） ひび割れ：長さ（L）×幅 * (W=0.1m：一律）を面積として記録する。 *ここでいう幅は実測幅ではなく便宜上一律に0.1mとする。 ※ただし，密集したひび割れの場合は，密集した範囲を面積として記載する。 鋼材腐食（鉄筋腐食）：一括した対策が適当と考えられる範囲を包括する寸法（L×W）
A30: 注3）漏水による変状：漏水発生範囲を包括し，垂れ下がりの可能性がある側壁下端まで含めた寸法を，L×Wで記録する。打継ぎ目地沿いの 漏水については目地を跨いだ50cm幅を横幅とする。

Sheet 記入の留意点
B2: トンネルDBでは、Excelに記載された文字や数値・配置された画像を自動的に読込みデータベースへ登録します。
B3: 記録様式へ記入の留意点を下記に示します。
B5: １．記録様式への記入
C6: ➤各セルに表示されるコメントに従って、様式A-1～様式Gのシートに、点検結果（テキスト入力、選択項目）を入力してください。
C7: ➤位置図(様式B)、変状写真(様式D-1-1)、異常写真(様式D-1-2)は記入した変状写真番号等に対応した画像を間違いないように貼り付けてください。
C8: ➤列や行の挿入削除は行わず、セルの位置がずれないようにしてください。データベースへ読み取り時にずれて取り込まれてしまいます。
B11: ２．画像ファイルの配置の注意点
C12: 登録に使用可能な画像ファイルの拡張子は「jpg」「jpeg」「png」の3種類のみです。
C13: 必ず、１か所に画像１枚のみを張り付けてください。エクセルの図形などのオブジェクトは使用しないでください。
C14: 張り付けた画像はエクセルのトリミング機能を使用しないでください。あらかじめ切り抜いた画像を利用してください。
C15: ※１ 画像の左上を必ずセルの内部に含め、はみ出ないようにしてください。
C16: ※２ 図の書式設定で「セルに合わせて移動やサイズを変更しない」のモードを使用しないでください。
C32: ※３ 「挿入」→「画像」→「セルの上に配置」してください。
B41: ３．シート名の連番について
C42: １ページに記載しきれない場合は、１シート内にページを増やすのではなくシート自体をコピーしシート名の末尾を連番にしてください。
C43: 対象様式
C44: 様式B
C45: 様式D-1-1
C46: 様式D-1-2
C47: 様式D-2-1
C48: 様式D-2-1´
C49: 様式D-3_S00 ※スパン名を記載
C50: 様式G
C52: 末尾の連番の形式例
C53: 様式B(1) 様式B(2) 様式B(3)
C54: 様式B_001 様式B_002 様式B_003
... C61: で示される要領を制限するものではありません。

Sheet 様式A-1
B2: ■トンネル台帳 トンネル諸元、非常用施設諸元 【様式A-1】 | S2: 施設ID | W2: 34.10222,131.98036
B3: フリガナ | D3: ヒヨヂトンネル | H3: 路線名 | J3: 一般国道376号 | P3: 管理者名 | R3: 山口県 岩国土木建築事務所 | W3: 緊急輸送道路 | Z3: 一次
B4: 名 称 | D4: 桧余地トンネル | W4: 代替路の有無 | Z4: 有
B5: 所在地 | D5: 自 | E5: 山口県岩国市周東町桧余地 | H5: 作成者 | K5: 株式会社 長大 鷲尾 寛 | P5: 作成年月日 | R5: 46080 | U5: トンネル延長 | X5: L= | Z5: 75 | AB5: ｍ
D6: 至 | E6: 山口県岩国市周東町桧余地 | U6: ﾄﾝﾈﾙの分類 | X6: 陸上トンネル（掘進工法）
B7: 起点 | C7: 緯度 | E7: 34.16833 | H7: 完成年月日 | K7: 昭和61年2月 | M7: 舗装 | O7: 種 別 | Q7: コンクリート系 | S7: トンネル非常用施設 | T7: 施設の内訳 | X7: 種別・方式 | Y7: 型式 | Z7: 個数 | AA7: 更新年度 | AE7: =INT(E7/10000) -> 0 | AF7: =INT(E7/100)-AE7*100 -> 0 | AG7: =E7-AE7*10000-AF7*100 -> 34.16833 | AH7: =ROUND(AE7+AF7/60+AG7/60/60,5) -> 0.00949 | AI7: =TEXT(AH7,"0.00000") -> 0.00949
C8: 経度 | E8: 132.61927 | H8: 供用年月日 | O8: 厚 さ | Q8: 20cm | T8: 通報設備 | U8: 通話型通報設備 | Y8: - | Z8: * | AE8: =INT(E8/10000) -> 0 | AF8: =INT(E8/100)-AE8*100 -> 1 | AG8: =E8-AE8*10000-AF8*100 -> 32.61927 | AH8: =ROUND(AE8+AF8/60+AG8/60/60,5) -> 0.02573 | AI8: =TEXT(AH8,"0.00000") -> 0.02573
B9: 終点 | C9: 緯度 | E9: 34.18175 | H9: トンネル区分 | O9: 面 積 | U9: 操作型通報設備 | Y9: - | Z9: *
C10: 経度 | E10: 132.61875 | H10: 内装種類 | K10: 覆工（内装なし） | O10: 更新年次 | U10: 自動通報設備 | Y10: - | Z10: *
B11: 一般有料区分 | E11: 無料 | H11: 天井板種類 | K11: 覆工（内装なし） | M11: 排水 | O11: 種 別 | T11: 警報設備 | U11: 非常警報設備 | Y11: - | Z11: *
B12: 土かぶり | E12: 0 | G12: m | H12: 坑門 | I12: 起点 | J12: 形式 | K12: 面壁型 | O12: 更新年次 | T12: 消火設備 | U12: 消 火 器 | Y12: - | Z12: *
B13: 内空断面積 | E13: 42.2 | G13: m2 | J13: 延長 | K13: 0 | L13: m | M13: 施設 | P13: 種別・方式 | Q13: 個数 | R13: 更新年次 | U13: 消火栓設備 | Y13: - | Z13: *
B14: 交 通 量 | E14: 2526 | G14: 台/日 | I14: 終点 | J14: 形式 | K14: 面壁型 | M14: 道路附属物等 | N14: 照明 | P14: * | T14: 避難誘導設備 | U14: 誘導表示設備 | Y14: - | Z14: *
C15: 道 路 幅 | E15: 8.5 | G15: m | J15: 延長 | K15: 0 | L15: m | N15: 換気 | P15: 自然換気 | U15: 避難情報提供設備 | Y15: - | Z15: *
B16: 幅 員 | C16: 車 道 幅 | E16: 3 | G16: m | H16: 竣工巻厚 | I16: アーチ | K16: 60 | L16: cm | N16: 標識 | P16: ＊ | Y16: - | Z16: *
E17: 3 | G17: m | I17: 側 壁 | L17: cm | N17: 警報表示板 | P17: ＊ | U17: 避難通路 | Y17: - | Z17: *
C18: 歩道等幅 | E18: 2.5 | G18: m | L18: cm | N18: 吸音板 | P18: ＊ | U18: 排煙設備 | Y18: - | Z18: *
B19: 高さ | C19: 建築限界高 | E19: 4.5 | G19: m | I19: インバート | K19: 40 | L19: cm | T19: その他の設備 | U19: 給水栓設備 | Y19: - | Z19: *
C20: 中央高 | E20: 5.8 | G20: m | H20: 半径 | I20: アーチ | K20: 415 | L20: cm | U20: 無線通信補助設備 | Y20: - | Z20: *
C21: 有効高 | E21: 4.5 | G21: m | I21: 側 壁 | K21: 870 | L21: cm | U21: 水噴霧設備 | Y21: - | Z21: *
C22: 縦断勾配 | E22: 0 | I22: インバート | K22: 1010.6 | L22: cm | U22: 監視設備 | Y22: - | Z22: *
B23: 線 形 | C23: 直線区間長 | E23: 0 | H23: 占用物件 | I23: 種 類 | K23: 寸 法 | M23: 管理者名 | Q23: 更新年次 | S23: 非常用施設 関連設備 | U23: 予備発電設備 | Y23: - | Z23: *
C24: 曲線区間 | D24: 区間長 | F24: 0
D25: 起点側ｸﾛｿｲﾄﾞ | F25: 0
D26: 曲線半径 | F26: 0
D27: 終点側ｸﾛｿｲﾄﾞ | F27: 0 | S27: その他 | U27: 非常駐車帯 | Y27: - | Z27: *
B28: トンネル工法 | E28: 山岳トンネル工法（NATM） | U28: 方向転換所 | Y28: - | Z28: *
C29: ※緯度・経度については、十進緯度経度小数第５位で記入すること。

Sheet 様式A-2
B3: ■トンネル台帳 トンネル情報一覧表 【様式A-2】
B4: フリガナ | E4: ='様式A-1'!D3 -> ヒヨヂトンネル | J4: 路線名 | M4: ='様式A-1'!J3 -> 一般国道376号 | S4: 作成者 | Y4: ='様式A-1'!K5 -> 株式会社 長大 鷲尾 寛 | AE4: 作成年月日 | AI4: ='様式A-1'!R5 -> 46080
B5: 名 称 | E5: ='様式A-1'!D4 -> 桧余地トンネル | J5: 管理者名 | M5: ='様式A-1'!R3 -> 山口県 岩国土木建築事務所
B6: 覆工 ｽﾊﾟﾝ 番号 | C6: ｽﾊﾟﾝ長 | D6: 追加距離 | F6: トンネル本体工 | K6: 照明施設 | O6: 非常用施設 | AE6: 換気施設 | AK6: その他附属物等
O7: 通報設備 | R7: 警報設備 | S7: 消火設備 | U7: 避難誘導設備 | Y7: その他の設備 | AC7: 特記事項
D8: 起点側 | E8: 終点側 | F8: 特記事項 | I8: 内装板 | J8: 天井板 | K8: 基本照明 | L8: 入口出口照明 | M8: 特記事項 | O8: 通話型通報設備 | P8: 操作型通報設備 | Q8: 自動通報設備 | R8: 非常警報設備 | S8: 消 火 器 | T8: 消火栓設備 | U8: 誘導表示設備 | V8: 避難情報提供設備 | W8: 避難通路 | X8: 排煙設備 | Y8: 給水栓設備 | Z8: 無線通信補助設備 | AA8: 水噴霧設備 | AB8: 監視設備 | AE8: JF | AF8: VI計 | AG8: CO計 | AH8: 風向 風速計 | AI8: 特記事項
C9: (m) | D9: (m) | E9: (m)
B10: PS | C10: 0 | D10: 0 | E10: 0 | AK10: トラ表示板
B11: S001 | C11: 8.6 | D11: 0 | E11: 8.6
B12: S002 | C12: 5.6 | D12: 8.6 | E12: 14.2
B13: S003 | C13: 5.8 | D13: 14.2 | E13: 20
B14: S004 | C14: 5.7 | D14: 20 | E14: 2526 | AK14: 距離標
B15: S005 | C15: 5.8 | D15: 25.7 | E15: 31.4
B16: S006 | C16: 5.8 | D16: 31.4 | E16: 37.2
B17: S007 | C17: 5.7 | D17: 37.2 | E17: 42.9
B18: S008 | C18: 5.8 | D18: 42.9 | E18: 48.7
B19: S009 | C19: 5.7 | D19: 48.7 | E19: 54.4
B20: S010 | C20: 5.8 | D20: 54.4 | E20: 60.2
B21: S011 | C21: 5.8 | D21: 60.2 | E21: 66
B22: S012 | C22: 5.8 | D22: 66 | E22: 71.8
B23: S013 | C23: 3.2 | D23: 71.8 | E23: 75
B24: PE | C24: 0 | D24: 75 | E24: 75 | AK24: トラ表示板
B42: ※ 行が不足する場合は、適時、表の行を増やすこと。

Sheet 様式A-3
B3: ■トンネル台帳 トンネル記録（位置図、断面図、施工実績他）【様式A-3】
B4: フリガナ | E4: ='様式A-1'!D3 -> ヒヨヂトンネル | J4: 路線名 | M4: ='様式A-1'!J3 -> 一般国道376号 | S4: 作成者 | W4: ='様式A-1'!K5 -> 株式会社 長大 鷲尾 寛 | AC4: 作成年月日 | AF4: ='様式A-1'!R5 -> 46080
B5: 名 称 | E5: ='様式A-1'!D4 -> 桧余地トンネル | J5: 管理者名 | M5: ='様式A-1'!R3 -> 山口県 岩国土木建築事務所
B6: 位置図・現況写真・標準断面図・地質縦断図・施工実績
B19: 位置図・現況写真・標準断面図・地質縦断図・施工実績

Sheet 様式B (1)
B2: ■定期点検記録様式 トンネル変状・異常箇所写真位置図 【様式B】 | N2: 定期点検年月日 | P2: 45908 | S2: 施設ID | V2: 34.10222,131.98036
B3: フリガナ | C3: ヒヨヂトンネル | G3: 路線名 | H3: 国道376号 | K3: 管理者名 | L3: 岩国土木建築事務所 | Q3: 定期点検実施者 | S3: 株式会社 長大 | V3: 起点 | W3: 緯度 | X3: 34.16833
B4: 名 称 | C4: 桧余地トンネル | S4: 鷲尾 寛 | W4: 経度 | X4: 132.61927
B5: 所在地 | C5: 自 | D5: 山口県岩国市周東町桧余地地先 | G5: トンネル工法 | I5: 矢板工法 | L5: トンネル延長 | N5: L= | O5: 75 | P5: ｍ | Q5: 自専道 or 一般道 | R5: 一般道 | S5: 代替路の有無 | U5: 有 | V5: 終点 | W5: 緯度 | X5: 34.18175
C6: 至 | D6: 山口県岩国市周東町桧余地地先 | G6: 建設年度 | I6: 1986年 | L6: 幅員 | N6: L= | O6: 8.5 | P6: ｍ | S6: 緊急輸送道路 | U6: 一次 | W6: 経度 | X6: 132.61875
B7: トンネル毎 の健全性の 診断の区分 | D7: Ⅲ
G8: 変状・異常 箇所数合計 | I8: トンネル本体工 | J8: 材質劣化 | K8: Ⅱ | L8: 93 | N8: Ⅲ | O8: 1 | Q8: Ⅳ | R8: 0 | T8: 附属物等 の取付状態 | V8: ◯ （応急措置後) | X8: 0
J9: 漏水 | K9: Ⅱ | L9: 2 | N9: Ⅲ | O9: 0 | Q9: Ⅳ | R9: 0
V10: ✕ | X10: 1
J11: 外力 | K11: Ⅱ | L11: 0 | N11: Ⅲ | O11: 0 | Q11: Ⅳ | R11: 0
B12: トンネル変状・異常箇所写真位置図
J29: 注１：本位置図は、見下げた状態で記載すること。 注２：覆工スパン番号は横断目地毎(矢板工法の場合は上半アーチの 横断目地毎)に設定すること。 | Q29: 注３：写真番号に付する変状番号は、各覆工スパンの変状に対して新たに確認された場合 は順次追加していくこと。 注４：横断目地の変状は前の覆工スパン番号で計上すること。 注５：１枚に収まらない場合は、複数枚に分けて作成すること。
C30: ※1 トンネル本体工の変状数は、材質劣化、漏水に起因するものは変状単位で、外力に起因するものはスパン単位で計上すること。
C31: ※2 トンネル本体工の変状に対しては、措置の必要性（Ⅱ～Ⅳ）について表記すること。また、点検前に実施された措置によりⅠと判定された箇所についても記載すること。
C32: ※3 附属物等の取付状態の○欄については、応急措置前に判定区分×とした箇所のうち応急措置により○判定とした箇所の数を記入すること。
C33: ※4 附属物等の異常番号は、本体工と番号が重複しないよう101番以降とする等の配慮を行い、分かりやすく記録すること。

Sheet 様式B (2)
B2: ■定期点検記録様式 トンネル変状・異常箇所写真位置図 【様式B】 | N2: 定期点検年月日 | P2: 45908 | S2: 施設ID | V2: 34.10222,131.98036
B3: フリガナ | C3: ヒヨヂトンネル | G3: 路線名 | H3: 国道376号 | K3: 管理者名 | L3: 岩国土木建築事務所 | Q3: 定期点検実施者 | S3: 株式会社 長大 | V3: 起点 | W3: 緯度 | X3: 34.16833
B4: 名 称 | C4: 桧余地トンネル | S4: 鷲尾 寛 | W4: 経度 | X4: 132.61927
B5: 所在地 | C5: 自 | D5: 山口県岩国市周東町桧余地地先 | G5: トンネル工法 | I5: 矢板工法 | L5: トンネル延長 | N5: L= | O5: 75 | P5: ｍ | Q5: 自専道 or 一般道 | R5: 一般道 | S5: 代替路の有無 | U5: 有 | V5: 終点 | W5: 緯度 | X5: 34.18175
C6: 至 | D6: 山口県岩国市周東町桧余地地先 | G6: 建設年度 | I6: 1986年 | L6: 幅員 | N6: L= | O6: 8.5 | P6: ｍ | S6: 緊急輸送道路 | U6: 一次 | W6: 経度 | X6: 132.61875
B7: トンネル毎 の健全性の 診断の区分 | D7: Ⅲ
G8: 変状・異常 箇所数合計 | I8: トンネル本体工 | J8: 材質劣化 | K8: Ⅱ | L8: 93 | N8: Ⅲ | O8: 1 | Q8: Ⅳ | R8: 0 | T8: 附属物等 の取付状態 | V8: ◯ （応急措置後) | X8: 0
J9: 漏水 | K9: Ⅱ | L9: 2 | N9: Ⅲ | O9: 0 | Q9: Ⅳ | R9: 0
V10: ✕ | X10: 1
J11: 外力 | K11: Ⅱ | L11: 0 | N11: Ⅲ | O11: 0 | Q11: Ⅳ | R11: 0
B12: トンネル変状・異常箇所写真位置図
J29: 注１：本位置図は、見下げた状態で記載すること。 注２：覆工スパン番号は横断目地毎(矢板工法の場合は上半アーチの 横断目地毎)に設定すること。 | Q29: 注３：写真番号に付する変状番号は、各覆工スパンの変状に対して新たに確認された場合 は順次追加していくこと。 注４：横断目地の変状は前の覆工スパン番号で計上すること。 注５：１枚に収まらない場合は、複数枚に分けて作成すること。
C30: ※1 トンネル本体工の変状数は、材質劣化、漏水に起因するものは変状単位で、外力に起因するものはスパン単位で計上すること。
C31: ※2 トンネル本体工の変状に対しては、措置の必要性（Ⅱ～Ⅳ）について表記すること。また、点検前に実施された措置によりⅠと判定された箇所についても記載すること。
C32: ※3 附属物等の取付状態の○欄については、応急措置前に判定区分×とした箇所のうち応急措置により○判定とした箇所の数を記入すること。
C33: ※4 附属物等の異常番号は、本体工と番号が重複しないよう101番以降とする等の配慮を行い、分かりやすく記録すること。

Sheet 様式C-1-1
B2: ■定期点検記録様式 全スパン定期点検結果総括表（トンネル本体工） 【様式C-1-1】
B3: フリガナ | F3: ヒヨヂトンネル | I3: 路線名 | K3: 国道376号 | O3: 定期点検実施者 | P3: 株式会社 長大 | T3: 定期点検年月日 | X3: 45908
B4: 名 称 | F4: 桧余地トンネル | I4: 管理者名 | K4: 岩国土木建築事務所 | P4: 鷲尾 寛
C5: 覆工 スパン 番号 | E5: 変状 番号 | F5: 距離 （m） | G5: 変状部位 | I5: 変 状 の 内 容 | O5: 前回定期点検時の状態 | P5: 今回定期点検結果 | T5: 措置履歴 | Y5: 対応方針 ・ 特記事項
O6: 44025
G7: 対象箇所 | H7: 部位区分 | I7: 変状区分 | J7: 変状種類 | M7: 変状の発生範囲の規模 | N7: 前回定期点検時の変状の発生範囲及び規模 | O7: 対策区分 | P7: 対策区分 | R7: 調査の 要否 | S7: 措置の 要否 | T7: 実施 | U7: 措置の実施状況
P8: 応急措置前 | Q8: 応急措置後
B9: 定期点検結果 | C9: PS | E9: 2 | F9: 0 | G9: 坑門 | H9: 面壁・妻壁等 | I9: 漏水 | J9: 漏水 | M9: 3.50m2 | N9: － | O9: Ⅱb | Q9: Ⅱb | R9: 否 | S9: 要監視 | T9: 継続 | U9: 監視(日常巡視) | Y9: 監視
C10: S001 | E10: 5 | F10: 4 | G10: 覆工 | H10: アーチ（天端） | I10: 材質劣化 | J10: 圧ざ、ひび割れ | M10: 長さ6.0m×幅0.40m | N10: 0.4mm,L=5.8m | O10: Ⅱb | Q10: Ⅱb | R10: 否 | S10: 要監視 | T10: 継続 | U10: 監視(日常巡視) | Y10: 監視
C11: S001 | E11: 13 | F11: 6.8 | G11: 覆工 | H11: アーチ（天端） | I11: 材質劣化 | J11: うき・はく離 | M11: 0.01m2 | N11: 0.01m2 | O11: Ⅱb | Q11: Ⅱa | R11: 否 | S11: 要対策 | T11: 継続 | U11: 監視(日常巡視) | Y11: はく落防止対策工
C12: S001 | E12: 14 | F12: 6.4 | G12: 覆工 | H12: アーチ（左側） | I12: 材質劣化 | J12: 鋼材腐食 | M12: 0.01m2 | N12: 0.01m2 | O12: Ⅱb | Q12: Ⅱb | R12: 否 | S12: 要監視 | T12: 継続 | U12: 監視(日常巡視) | Y12: 監視
C13: S001 | E13: 15 | F13: 6.5 | G13: 覆工 | H13: アーチ（天端） | I13: 材質劣化 | J13: 圧ざ、ひび割れ | M13: 長さ6.0m×幅0.60m | N13: 0.5mm,L=6.0m | O13: Ⅱb | Q13: Ⅱb | R13: 否 | S13: 要監視 | T13: 継続 | U13: 監視(日常巡視) | Y13: 監視
C14: S001 | E14: 25 | F14: 7.9 | G14: 覆工 | H14: 水平打ち継ぎ目（左側） | I14: 材質劣化 | J14: うき・はく離 | M14: 0.13m2 | N14: 0.86m2 | O14: Ⅱa | Q14: Ⅲ | R14: 否 | S14: 要対策 | T14: － | U14: － | Y14: はく落防止対策工
C15: S001 | E15: 26 | F15: 3.2 | G15: 覆工 | H15: 水平打ち継ぎ目（右側） | I15: 材質劣化 | J15: うき・はく離 | M15: 0.86m2 | N15: 0.86m2 | O15: Ⅱa | Q15: Ⅱb | R15: 否 | S15: 要監視 | T15: － | U15: － | Y15: 監視
C16: S001 | E16: 27 | F16: 8.4 | G16: 覆工 | H16: 水平打ち継ぎ目（右側） | I16: 材質劣化 | J16: うき・はく離 | M16: 0.04m2 | N16: 0.04m2 | O16: Ⅱb | Q16: Ⅱb | R16: 否 | S16: 要監視 | T16: 継続 | U16: 監視(日常巡視) | Y16: 監視
C17: S001 | E17: 30 | F17: 8.3 | G17: 覆工 | H17: アーチ（左側） | I17: 材質劣化 | J17: うき・はく離 | M17: 0.01m2 | N17: － | O17: － | Q17: Ⅱa | R17: 否 | S17: 要対策 | T17: － | U17: － | Y17: はく落防止対策工
C18: S001 | E18: 31 | F18: 5.2 | G18: 覆工 | H18: アーチ（天端） | I18: 材質劣化 | J18: うき・はく離 | M18: 0.01m2 | N18: － | O18: － | Q18: Ⅱa | R18: 否 | S18: 要対策 | T18: － | U18: － | Y18: はく落防止対策工
C19: S002 | E19: 3 | F19: 11.8 | G19: 覆工 | H19: アーチ（天端） | I19: 材質劣化 | J19: 圧ざ、ひび割れ | M19: 長さ5.8m×幅0.60m | N19: 1.0mm,L=5.6m | O19: Ⅱb | Q19: Ⅱb | R19: 否 | S19: 要監視 | T19: 継続 | U19: 監視(日常巡視) | Y19: 監視
C20: S002 | E20: 5 | F20: 9.9 | G20: 覆工 | H20: アーチ（左側） | I20: 材質劣化 | J20: 鋼材腐食 | M20: 0.01m2 | N20: 0.01m2 | O20: Ⅱb | Q20: Ⅱb | R20: 否 | S20: 要監視 | T20: 継続 | U20: 監視(日常巡視) | Y20: 監視
C21: S002 | E21: 6 | F21: 9.6 | G21: 覆工 | H21: アーチ（左側） | I21: 材質劣化 | J21: 鋼材腐食 | M21: 0.01m2 | N21: 0.01m2 | O21: Ⅱb | Q21: Ⅱb | R21: 否 | S21: 要監視 | T21: 継続 | U21: 監視(日常巡視) | Y21: 監視
... C42: S005 | E42: 4 | F42: 30.1 | G42: 覆工 | H42: アーチ（左側） | I42: 材質劣化 | J42: 鋼材腐食 | M42: 0.01m2 | N42: 0.01m2 | O42: Ⅱb | Q42: Ⅱb | R42: 否 | S42: 要監視 | T42: 継続 | U42: 監視(日常巡視) | Y42: 監視
B43: 定期点検結果 | C43: S005 | E43: 5 | F43: 28.2 | G43: 覆工 | H43: アーチ（左側） | I43: 材質劣化 | J43: 鋼材腐食 | M43: 0.01m2 | N43: 0.01m2 | O43: Ⅱb | Q43: Ⅱb | R43: 否 | S43: 要監視 | T43: 継続 | U43: 監視(日常巡視) | Y43: 監視
C44: S005 | E44: 6 | F44: 27.7 | G44: 覆工 | H44: アーチ（左側） | I44: 材質劣化 | J44: 鋼材腐食 | M44: 0.01m2 | N44: 0.01m2 | O44: Ⅱb | Q44: Ⅱb | R44: 否 | S44: 要監視 | T44: 継続 | U44: 監視(日常巡視) | Y44: 監視
C45: S005 | E45: 7 | F45: 28.2 | G45: 覆工 | H45: アーチ（左側） | I45: 漏水 | J45: 漏水 | M45: 2.60m2 | N45: － | O45: Ⅱb | Q45: Ⅱb | R45: 否 | S45: 要監視 | T45: 継続 | U45: 監視(日常巡視) | Y45: 監視
C46: S005 | E46: 16 | F46: 28.3 | G46: 覆工 | H46: 水平打ち継ぎ目（左側） | I46: 材質劣化 | J46: うき・はく離 | M46: 0.17m2 | N46: 0.57m2 | O46: Ⅱa | Q46: Ⅱb | R46: 否 | S46: 要監視 | T46: － | U46: － | Y46: 監視
C47: S005 | E47: 17 | F47: 26.4 | G47: 覆工 | H47: 水平打ち継ぎ目（右側） | I47: 材質劣化 | J47: うき・はく離 | M47: 0.57m2 | N47: 0.57m2 | O47: Ⅱa | Q47: Ⅱb | R47: 否 | S47: 要監視 | T47: － | U47: － | Y47: 監視
C48: S005 | E48: 18 | F48: 31.4 | G48: 覆工 | H48: 水平打ち継ぎ目（右側） | I48: 材質劣化 | J48: うき・はく離 | M48: 0.02m2 | N48: 0.02m2 | O48: Ⅱb | Q48: Ⅱb | R48: 否 | S48: 要監視 | T48: 継続 | U48: 監視(日常巡視) | Y48: 監視
C49: S005 | E49: 20 | F49: 31.1 | G49: 覆工 | H49: 側壁（右側） | I49: 材質劣化 | J49: うき・はく離 | M49: 0.01m2 | N49: 0.01m2 | O49: Ⅱb | Q49: Ⅱb | R49: 否 | S49: 要監視 | T49: 継続 | U49: 監視(日常巡視) | Y49: 監視
C50: S005 | E50: 26 | F50: 28.2 | G50: 覆工 | H50: アーチ（右側） | I50: 材質劣化 | J50: 鋼材腐食 | M50: 0.01m2 | N50: － | O50: － | Q50: Ⅱb | R50: 否 | S50: 要監視 | T50: － | U50: － | Y50: 監視
C51: S006 | E51: 5 | F51: 33.9 | G51: 覆工 | H51: アーチ（左側） | I51: 材質劣化 | J51: うき・はく離 | M51: 0.01m2 | N51: 0.01m2 | O51: Ⅱb | Q51: Ⅱa | R51: 否 | S51: 要対策 | T51: 継続 | U51: 監視(日常巡視) | Y51: はく落防止対策工
C52: S006 | E52: 9 | F52: 35.7 | G52: 覆工 | H52: アーチ（右側） | I52: 材質劣化 | J52: うき・はく離 | M52: 0.01m2 | N52: 0.01m2 | O52: Ⅱb | Q52: Ⅱa | R52: 否 | S52: 要対策 | T52: 継続 | U52: 監視(日常巡視) | Y52: はく落防止対策工
C53: S006 | E53: 12 | F53: 34.4 | G53: 覆工 | H53: 側壁（左側） | I53: 材質劣化 | J53: 鋼材腐食 | M53: 0.01m2 | N53: 0.01m2 | O53: Ⅱb | Q53: Ⅱb | R53: 否 | S53: 要監視 | T53: 継続 | U53: 監視(日常巡視) | Y53: 監視
C54: S006 | E54: 13 | F54: 32.1 | G54: 覆工 | H54: 水平打ち継ぎ目（左側） | I54: 材質劣化 | J54: うき・はく離 | M54: 0.30m2 | N54: 0.58m2 | O54: Ⅱa | Q54: Ⅱb | R54: 否 | S54: 要監視 | T54: － | U54: － | Y54: 監視
C55: S006 | E55: 14 | F55: 32.5 | G55: 覆工 | H55: 水平打ち継ぎ目（右側） | I55: 材質劣化 | J55: うき・はく離 | M55: 0.58m2 | N55: 0.58m2 | O55: Ⅱa | Q55: Ⅱb | R55: 否 | S55: 要監視 | T55: － | U55: － | Y55: 監視
... C76: S009 | E76: 8 | F76: 50 | G76: 覆工 | H76: アーチ（右側） | I76: 材質劣化 | J76: うき・はく離 | M76: 0.01m2 | N76: 0.01m2 | O76: Ⅱb | Q76: Ⅱa | R76: 否 | S76: 要対策 | T76: 継続 | U76: 監視(日常巡視) | Y76: はく落防止対策工
B77: 定期点検結果 | C77: S009 | E77: 9 | F77: 51.2 | G77: 覆工 | H77: アーチ（右側） | I77: 材質劣化 | J77: うき・はく離 | M77: 0.01m2 | N77: 0.02m2 | O77: Ⅱb | Q77: Ⅱa | R77: 否 | S77: 要対策 | T77: 継続 | U77: 監視(日常巡視) | Y77: はく落防止対策工
C78: S009 | E78: 10 | F78: 51.6 | G78: 覆工 | H78: アーチ（右側） | I78: 材質劣化 | J78: うき・はく離 | M78: 0.01m2 | N78: 0.01m2 | O78: Ⅱb | Q78: Ⅱa | R78: 否 | S78: 要対策 | T78: 継続 | U78: 監視(日常巡視) | Y78: はく落防止対策工
C79: S009 | E79: 11 | F79: 51.9 | G79: 覆工 | H79: アーチ（右側） | I79: 材質劣化 | J79: うき・はく離 | M79: 0.01m2 | N79: 0.01m2 | O79: Ⅱb | Q79: Ⅱa | R79: 否 | S79: 要対策 | T79: 継続 | U79: 監視(日常巡視) | Y79: はく落防止対策工
C80: S009 | E80: 12 | F80: 54.1 | G80: 覆工 | H80: アーチ（天端） | I80: 材質劣化 | J80: 鋼材腐食 | M80: 0.06m2 | N80: 0.02m2 | O80: Ⅱb | Q80: Ⅱb | R80: 否 | S80: 要監視 | T80: 継続 | U80: 監視(日常巡視) | Y80: 監視
C81: S009 | E81: 15 | F81: 54.4 | G81: 覆工 | H81: アーチ（右側） | I81: 材質劣化 | J81: 圧ざ、ひび割れ | M81: 長さ0.7m×幅1.0m | N81: 1.0mm,L=0.7m | O81: Ⅱb | Q81: Ⅱb | R81: 否 | S81: 要監視 | T81: 継続 | U81: 監視(日常巡視) | Y81: 監視
C82: S009 | E82: 21 | F82: 50.6 | G82: 覆工 | H82: 水平打ち継ぎ目（左側） | I82: 材質劣化 | J82: うき・はく離 | M82: 0.26m2 | N82: 0.57m2 | O82: Ⅱa | Q82: Ⅱb | R82: 否 | S82: 要監視 | T82: － | U82: － | Y82: 監視
C83: S009 | E83: 22 | F83: 49.1 | G83: 覆工 | H83: 水平打ち継ぎ目（右側） | I83: 材質劣化 | J83: うき・はく離 | M83: 0.57m2 | N83: 0.57m2 | O83: Ⅱa | Q83: Ⅱb | R83: 否 | S83: 要監視 | T83: － | U83: － | Y83: 監視
C84: S010 | E84: 1 | F84: 56.5 | G84: 覆工 | H84: アーチ（天端） | I84: 材質劣化 | J84: 圧ざ、ひび割れ | M84: 長さ6.0m×幅0.80m | N84: 0.75mm,L=5.8m | O84: Ⅱb | Q84: Ⅱb | R84: 否 | S84: 要監視 | T84: 継続 | U84: 監視(日常巡視) | Y84: 監視
C85: S010 | E85: 4 | F85: 60.3 | G85: 覆工 | H85: 横断目地（左側） | I85: 材質劣化 | J85: うき・はく離 | M85: 0.01m2 | N85: 0.01m2 | O85: Ⅱb | Q85: Ⅱb | R85: 否 | S85: 要監視 | T85: 継続 | U85: 監視(日常巡視) | Y85: 監視
C86: S010 | E86: 5 | F86: 60.3 | G86: 覆工 | H86: 横断目地（天端） | I86: 材質劣化 | J86: うき・はく離 | M86: 0.02m2 | N86: 0.02m2 | O86: Ⅱb | Q86: Ⅱa | R86: 否 | S86: 要対策 | T86: 継続 | U86: 監視(日常巡視) | Y86: はく落防止対策工
C87: S010 | E87: 7 | F87: 60.1 | G87: 覆工 | H87: 水平打ち継ぎ目（左側） | I87: 材質劣化 | J87: うき・はく離 | M87: 0.02m2 | N87: 0.58m2 | O87: Ⅱa | Q87: Ⅱb | R87: 否 | S87: 要監視 | T87: － | U87: － | Y87: 監視
C88: S010 | E88: 8 | F88: 57 | G88: 覆工 | H88: 水平打ち継ぎ目（右側） | I88: 材質劣化 | J88: うき・はく離 | M88: 0.58m2 | N88: 0.58m2 | O88: Ⅱa | Q88: Ⅱb | R88: 否 | S88: 要監視 | T88: － | U88: － | Y88: 監視
C89: S010 | E89: 9 | F89: 59.9 | G89: 覆工 | H89: 側壁（右側） | I89: 材質劣化 | J89: うき・はく離 | M89: 0.06m2 | N89: 0.06m2 | O89: Ⅱb | Q89: Ⅱb | R89: 否 | S89: 要監視 | T89: 継続 | U89: 監視(日常巡視) | Y89: 監視
... C104: PE | E104: 3 | F104: 75.1 | G104: 坑門 | H104: 面壁・妻壁等 | I104: 材質劣化 | J104: 圧ざ、ひび割れ | M104: 長さ0.6m×幅0.20m | N104: 0.03m2 | O104: Ⅱb | Q104: Ⅱb | R104: 否 | S104: 要監視 | T104: 継続 | U104: 監視(日常巡視) | Y104: 監視
C111: ※ 対策区分（応急措置後）のⅡb～Ⅳについて記入すること。また、点検前に実施された措置によりⅠと判定された変状も記入すること。
C112: ※ 応急措置を実施しないで判定した変状の対策区分は、対策区分の応急措置後の欄に記入すること。
C113: ※ 変状の除去が不完全で、緊急対応が必要な場合は対応方針欄に記入すること。
C114: ※ １区間の覆工に複数の変状がある場合は、変状箇所毎に記入すること。
C115: ※ 措置・監視点検を行った場合には、措置履歴、特記事項に記録を残すこと。（実施年度も記載）
C116: ※ 行が不足する場合は、適時、表の行を増やすこと。

Sheet 様式C-1-2
B2: ■定期点検記録様式 定期点検結果総括表（トンネル内附属物等の取付状態） 【様式C-1-2】
B3: フリガナ | F3: ヒヨヂトンネル | J3: 路線名 | K3: 国道376号 | M3: 定期点検実施者 | O3: 株式会社 長大 | S3: 定期点検年月日 | W3: 45908
B4: 名 称 | F4: 桧余地トンネル | J4: 管理者名 | K4: 岩国土木建築事務所 | O4: 鷲尾 寛
B5: 定期点検結果 | C5: 覆工 スパン 番号 | E5: 異常 番号 | F5: 距離 （m） | G5: 異常部位 | J5: 異 常 の 内 容 | N5: 定期点検結果 | P5: 応急措置の 実施状況 | V5: 対応方針 ・ 特記事項
G6: 対象箇所 | I6: 部位区分 | J6: 異常種類 | L6: 異常の発生範囲の規模 | N6: 異常判定区分 | P6: 実施 | Q6: 応急措置の内容
N7: 応急措置前 | O7: 応急措置後
C8: S001 | E8: 1 | F8: 0.3 | G8: その他施設 | H8: その他 | I8: 附属物本体 | J8: 緩み、脱落 | L8: 1箇所 | O8: × | V8: 反射材脱落
C42: ※ 異常判定区分×について記入すること。また、応急措置により○と判定された箇所も記入すること。
C43: ※ 応急措置を実施しないで判定した箇所の異常判定区分は、異常判定区分の応急措置後の欄に記入すること。
C44: ※ 異常の除去が不完全で、緊急対応が必要な場合は対応方針欄に記入すること。
C45: ※ １スパンの覆工に複数の異常がある場合は、異常箇所毎に記入すること。
C46: ※ 行が不足する場合は、適時、表の行を増やすこと。

Sheet 様式C-2
B2: ■定期点検記録様式 状態の把握の内容 【様式C-2】
B3: フリガナ | E3: ヒヨヂトンネル | H3: 路線名 | J3: 国道376号 | M3: 定期点検実施者 | Q3: 株式会社 長大 | U3: 定期点検年月日 | X3: 45908
B4: 名 称 | E4: 桧余地トンネル | H4: 管理者名 | J4: 岩国土木建築事務所 | Q4: 鷲尾 寛
B5: 状態の把握の内容 | C5: 覆工スパン 番号 | E5: 変状 番号 | F5: 状態の把握の内容
F6: 年月日 | H6: 内容 | O6: 結果 | Y6: 対策区分の 判定
B22: 注）状態の把握において、微破壊・非破壊検査や各種試験等を実施した場合について記載する。
B23: ※ 行が不足する場合は、適時、表の行を増やすこと。

Sheet 様式D-1-1 (1)
B2: ■定期点検記録様式 変状写真台帳【様式D-1-1】 | R2: 施設ID | T2: 34.10222,131.98036
B3: フリガナ | E3: ヒヨヂトンネル | H3: 路 線 名 | J3: 国道376号 | M3: 定期点検実施者 | P3: 株式会社 長大 | S3: 定期点検年月日 | U3: 45908
B4: 名 称 | E4: 桧余地トンネル | H4: 管理者名 | J4: 岩国土木建築事務所 | P4: 鷲尾 寛
B5: 写真 番号 | C5: 覆工スパン 番号 | E5: PS | M5: 写真 番号 | N5: 覆工スパン 番号 | P5: S001
C6: 変状番号 | E6: 2 | N6: 変状番号 | P6: 5
B7: 変状 部位 | C7: 対象箇所 | E7: 坑門 | M7: 変状 部位 | N7: 対象箇所 | P7: 覆工
C8: 部位区分 | E8: 面壁・妻壁等 | N8: 部位区分 | P8: アーチ（天端）
B9: 変状種類 | E9: 漏水 | M9: 変状種類 | P9: 圧ざ、ひび割れ
B10: 対策 区分 | C10: 変状区分 | E10: 漏水 | M10: 対策 区分 | N10: 変状区分 | P10: 材質劣化
C11: 応急措置前 | N11: 応急措置前
C12: 応急措置後 | E12: Ⅱb | N12: 応急措置後 | P12: Ⅱb
B13: 変状の発生範囲及び規模 | E13: 3.50m2(2.80m×1.25m) | H13: 前回変状の発生範囲及び規模 | J13: 規模記載なし (判定Ⅱb) | M13: 変状の発生範囲及び規模 | P13: 0.60m2(長さ6.0m×幅0.40m) | S13: 前回変状の発生範囲及び規模 | U13: 0.4mm,L=5.8m (判定Ⅱb)
B14: 対策履歴 | E14: 監視(日常巡視) | H14: 実施状況（実施日） | J14: 継続 | M14: 対策履歴 | P14: 監視(日常巡視) | S14: 実施状況（実施日） | U14: 継続
B15: メモ | E15: 面壁銘版下部に遊離石灰。現状で利用者被害の可能性は低いため、監視にとどめる。 | M15: メモ | P15: アーチ部(天端)に縦断方向のひび割れ。現状で利用者被害の可能性は低いため、監視にとどめる。
B16: 写真 番号 | C16: 覆工スパン 番号 | E16: S001 | M16: 写真 番号 | N16: 覆工スパン 番号 | P16: S001
C17: 変状番号 | E17: 13 | N17: 変状番号 | P17: 14
B18: 変状 部位 | C18: 対象箇所 | E18: 覆工 | M18: 変状 部位 | N18: 対象箇所 | P18: 覆工
C19: 部位区分 | E19: アーチ（天端） | N19: 部位区分 | P19: アーチ（左側）
B20: 変状種類 | E20: うき・はく離 | M20: 変状種類 | P20: 鋼材腐食
B21: 対策 区分 | C21: 変状区分 | E21: 材質劣化 | M21: 対策 区分 | N21: 変状区分 | P21: 材質劣化
C22: 応急措置前 | N22: 応急措置前
C23: 応急措置後 | E23: Ⅱa | N23: 応急措置後 | P23: Ⅱb
B24: 変状の発生範囲及び規模 | E24: 0.01m2(0.10m×0.10m) | H24: 前回変状の発生範囲及び規模 | J24: 0.1m×0.1m (判定Ⅱb) | M24: 変状の発生範囲及び規模 | P24: 0.01m2(0.10m×0.10m) | S24: 前回変状の発生範囲及び規模 | U24: 0.1m×0.1m (判定Ⅱb)
B25: 対策履歴 | E25: 監視(日常巡視) | H25: 実施状況（実施日） | J25: 継続 | M25: 対策履歴 | P25: 監視(日常巡視) | S25: 実施状況（実施日） | U25: 継続
B26: メモ | E26: アーチ部(天端)に補修跡うき。将来的に利用者に影響が及ぶ可能性があるため、重点的な監視及び計画的な対策を必要とする。 ※打音異常無し | M26: メモ | P26: アーチ部(左側)に鋼材露出。現状で利用者被害の可能性は低いため、監視にとどめる。
C27: ※ 応急措置後の対策区分について添付すること。また、点検前に 実施された措置によりⅠと判定された箇所も添付すること。 | N27: ※ 変状の発生範囲の規模とは、対策を行う際に参考となる変状の長さや面積をいう。
N28: ※ 応急措置を実施しないで決定した変状の対策区分は、対策区分の応急措置後の欄に記入すること。
C29: ※ たたき落としを実施した場合は、実施後の写真を添付すること。 | N29: ※ 変状の発生範囲の規模は、面積・寸法を記載すること。(ひび割れ幅のみmmとし、その他をm表記とする)
N30: ※ 構造用鋼材以外の異物に伴ううき・はく離については、メモ欄に異物の概要を記入すること。

Sheet 様式D-1-1 (2)
B2: ■定期点検記録様式 変状写真台帳【様式D-1-1】 | R2: 施設ID | T2: 34.10222,131.98036
B3: フリガナ | E3: ヒヨヂトンネル | H3: 路 線 名 | J3: 国道376号 | M3: 定期点検実施者 | P3: 株式会社 長大 | S3: 定期点検年月日 | U3: 45908
B4: 名 称 | E4: 桧余地トンネル | H4: 管理者名 | J4: 岩国土木建築事務所 | P4: 鷲尾 寛
B5: 写真 番号 | C5: 覆工スパン 番号 | E5: S001 | M5: 写真 番号 | N5: 覆工スパン 番号 | P5: S001
C6: 変状番号 | E6: 15 | N6: 変状番号 | P6: 25
B7: 変状 部位 | C7: 対象箇所 | E7: 覆工 | M7: 変状 部位 | N7: 対象箇所 | P7: 覆工
C8: 部位区分 | E8: アーチ（天端） | N8: 部位区分 | P8: 水平打ち継ぎ目（左側）
B9: 変状種類 | E9: 圧ざ、ひび割れ | M9: 変状種類 | P9: うき・はく離
B10: 対策 区分 | C10: 変状区分 | E10: 材質劣化 | M10: 対策 区分 | N10: 変状区分 | P10: 材質劣化
C11: 応急措置前 | N11: 応急措置前
C12: 応急措置後 | E12: Ⅱb | N12: 応急措置後 | P12: Ⅲ
B13: 変状の発生範囲及び規模 | E13: 0.60m2(長さ6.0m×幅0.60m) | H13: 前回変状の発生範囲及び規模 | J13: 0.5mm,L=6.0m (判定Ⅱb) | M13: 変状の発生範囲及び規模 | P13: 0.13m2(0.10m×1.30m) | S13: 前回変状の発生範囲及び規模 | U13: 8.6m×0.1m (判定Ⅱa)
B14: 対策履歴 | E14: 監視(日常巡視) | H14: 実施状況（実施日） | J14: 継続 | M14: 対策履歴 | P14: － | S14: 実施状況（実施日） | U14: －
B15: メモ | E15: アーチ部(天端)に縦断方向のひび割れ。現状で利用者被害の可能性は低いため、監視にとどめる。 | M15: メモ | P15: 水平打ち継ぎ目(左側)沿いにうき。将来的に利用者に影響が及ぶ可能性があるため、重点的な監視及び計画的な対策を必要とする。 ※打音異常有り
B16: 写真 番号 | C16: 覆工スパン 番号 | E16: S001 | M16: 写真 番号 | N16: 覆工スパン 番号 | P16: S001
C17: 変状番号 | E17: 26 | N17: 変状番号 | P17: 27
B18: 変状 部位 | C18: 対象箇所 | E18: 覆工 | M18: 変状 部位 | N18: 対象箇所 | P18: 覆工
C19: 部位区分 | E19: 水平打ち継ぎ目（右側） | N19: 部位区分 | P19: 水平打ち継ぎ目（右側）
B20: 変状種類 | E20: うき・はく離 | M20: 変状種類 | P20: うき・はく離
B21: 対策 区分 | C21: 変状区分 | E21: 材質劣化 | M21: 対策 区分 | N21: 変状区分 | P21: 材質劣化
C22: 応急措置前 | N22: 応急措置前
C23: 応急措置後 | E23: Ⅱb | N23: 応急措置後 | P23: Ⅱb
B24: 変状の発生範囲及び規模 | E24: 0.86m2(0.10m×8.60m) | H24: 前回変状の発生範囲及び規模 | J24: 8.6m×0.1m (判定Ⅱa) | M24: 変状の発生範囲及び規模 | P24: 0.04m2(0.10m×0.40m) | S24: 前回変状の発生範囲及び規模 | U24: 0.4m×0.1m (判定Ⅱb)
B25: 対策履歴 | E25: － | H25: 実施状況（実施日） | J25: － | M25: 対策履歴 | P25: 監視(日常巡視) | S25: 実施状況（実施日） | U25: 継続
B26: メモ | E26: 水平打ち継ぎ目(右側)沿いにうき。現状で利用者被害の可能性は低いため、監視にとどめる。 ※打音異常無し | M26: メモ | P26: 水平打ち継ぎ目(右側)沿いにはく落。現状で利用者被害の可能性は低いため、監視にとどめる。 ※打音異常無し
C27: ※ 応急措置後の対策区分について添付すること。また、点検前に 実施された措置によりⅠと判定された箇所も添付すること。 | N27: ※ 変状の発生範囲の規模とは、対策を行う際に参考となる変状の長さや面積をいう。
N28: ※ 応急措置を実施しないで決定した変状の対策区分は、対策区分の応急措置後の欄に記入すること。
C29: ※ たたき落としを実施した場合は、実施後の写真を添付すること。 | N29: ※ 変状の発生範囲の規模は、面積・寸法を記載すること。(ひび割れ幅のみmmとし、その他をm表記とする)
N30: ※ 構造用鋼材以外の異物に伴ううき・はく離については、メモ欄に異物の概要を記入すること。

Sheet 様式D-1-1 (3)
B2: ■定期点検記録様式 変状写真台帳【様式D-1-1】 | R2: 施設ID | T2: 34.10222,131.98036
B3: フリガナ | E3: ヒヨヂトンネル | H3: 路 線 名 | J3: 国道376号 | M3: 定期点検実施者 | P3: 株式会社 長大 | S3: 定期点検年月日 | U3: 45908
B4: 名 称 | E4: 桧余地トンネル | H4: 管理者名 | J4: 岩国土木建築事務所 | P4: 鷲尾 寛
B5: 写真 番号 | C5: 覆工スパン 番号 | E5: S001 | M5: 写真 番号 | N5: 覆工スパン 番号 | P5: S001
C6: 変状番号 | E6: 30 | N6: 変状番号 | P6: 31
B7: 変状 部位 | C7: 対象箇所 | E7: 覆工 | M7: 変状 部位 | N7: 対象箇所 | P7: 覆工
C8: 部位区分 | E8: アーチ（左側） | N8: 部位区分 | P8: アーチ（天端）
B9: 変状種類 | E9: うき・はく離 | M9: 変状種類 | P9: うき・はく離
B10: 対策 区分 | C10: 変状区分 | E10: 材質劣化 | M10: 対策 区分 | N10: 変状区分 | P10: 材質劣化
C11: 応急措置前 | N11: 応急措置前
C12: 応急措置後 | E12: Ⅱa | N12: 応急措置後 | P12: Ⅱa
B13: 変状の発生範囲及び規模 | E13: 0.01m2(0.10m×0.10m) | H13: 前回変状の発生範囲及び規模 | J13: 今回新規変状 | M13: 変状の発生範囲及び規模 | P13: 0.01m2(0.05m×0.20m) | S13: 前回変状の発生範囲及び規模 | U13: 今回新規変状
B14: 対策履歴 | E14: － | H14: 実施状況（実施日） | J14: － | M14: 対策履歴 | P14: － | S14: 実施状況（実施日） | U14: －
B15: メモ | E15: アーチ部(左側)に補修跡うき。新たに発生。将来的に利用者に影響が及ぶ可能性があるため、重点的な監視及び計画的な対策を必要とする。 ※打音異常無し | M15: メモ | P15: アーチ部(天端)にひび割れ沿いのうき。新たに発生。将来的に利用者に影響が及ぶ可能性があるため、重点的な監視及び計画的な対策を必要とする。 ※打音異常無し
B16: 写真 番号 | C16: 覆工スパン 番号 | E16: S002 | M16: 写真 番号 | N16: 覆工スパン 番号 | P16: S002
C17: 変状番号 | E17: 3 | N17: 変状番号 | P17: 5
B18: 変状 部位 | C18: 対象箇所 | E18: 覆工 | M18: 変状 部位 | N18: 対象箇所 | P18: 覆工
C19: 部位区分 | E19: アーチ（天端） | N19: 部位区分 | P19: アーチ（左側）
B20: 変状種類 | E20: 圧ざ、ひび割れ | M20: 変状種類 | P20: 鋼材腐食
B21: 対策 区分 | C21: 変状区分 | E21: 材質劣化 | M21: 対策 区分 | N21: 変状区分 | P21: 材質劣化
C22: 応急措置前 | N22: 応急措置前
C23: 応急措置後 | E23: Ⅱb | N23: 応急措置後 | P23: Ⅱb
B24: 変状の発生範囲及び規模 | E24: 0.58m2(長さ5.8m×幅0.60m) | H24: 前回変状の発生範囲及び規模 | J24: 1.0mm,L=5.6m (判定Ⅱb) | M24: 変状の発生範囲及び規模 | P24: 0.01m2(0.05m×0.05m) | S24: 前回変状の発生範囲及び規模 | U24: 0.1m×0.1m (判定Ⅱb)
B25: 対策履歴 | E25: 監視(日常巡視) | H25: 実施状況（実施日） | J25: 継続 | M25: 対策履歴 | P25: 監視(日常巡視) | S25: 実施状況（実施日） | U25: 継続
B26: メモ | E26: アーチ部(天端)に縦断方向のひび割れ。現状で利用者被害の可能性は低いため、監視にとどめる。 | M26: メモ | P26: アーチ部(左側)に鋼材露出。現状で利用者被害の可能性は低いため、監視にとどめる。
C27: ※ 応急措置後の対策区分について添付すること。また、点検前に 実施された措置によりⅠと判定された箇所も添付すること。 | N27: ※ 変状の発生範囲の規模とは、対策を行う際に参考となる変状の長さや面積をいう。
N28: ※ 応急措置を実施しないで決定した変状の対策区分は、対策区分の応急措置後の欄に記入すること。
C29: ※ たたき落としを実施した場合は、実施後の写真を添付すること。 | N29: ※ 変状の発生範囲の規模は、面積・寸法を記載すること。(ひび割れ幅のみmmとし、その他をm表記とする)
N30: ※ 構造用鋼材以外の異物に伴ううき・はく離については、メモ欄に異物の概要を記入すること。

Sheet 様式D-1-1 (4)
B2: ■定期点検記録様式 変状写真台帳【様式D-1-1】 | R2: 施設ID | T2: 34.10222,131.98036
B3: フリガナ | E3: ヒヨヂトンネル | H3: 路 線 名 | J3: 国道376号 | M3: 定期点検実施者 | P3: 株式会社 長大 | S3: 定期点検年月日 | U3: 45908
B4: 名 称 | E4: 桧余地トンネル | H4: 管理者名 | J4: 岩国土木建築事務所 | P4: 鷲尾 寛
B5: 写真 番号 | C5: 覆工スパン 番号 | E5: S002 | M5: 写真 番号 | N5: 覆工スパン 番号 | P5: S002
C6: 変状番号 | E6: 6 | N6: 変状番号 | P6: 9
B7: 変状 部位 | C7: 対象箇所 | E7: 覆工 | M7: 変状 部位 | N7: 対象箇所 | P7: 覆工
C8: 部位区分 | E8: アーチ（左側） | N8: 部位区分 | P8: 水平打ち継ぎ目（左側）
B9: 変状種類 | E9: 鋼材腐食 | M9: 変状種類 | P9: うき・はく離
B10: 対策 区分 | C10: 変状区分 | E10: 材質劣化 | M10: 対策 区分 | N10: 変状区分 | P10: 材質劣化
C11: 応急措置前 | N11: 応急措置前
C12: 応急措置後 | E12: Ⅱb | N12: 応急措置後 | P12: Ⅱb
B13: 変状の発生範囲及び規模 | E13: 0.01m2(0.05m×0.05m) | H13: 前回変状の発生範囲及び規模 | J13: 0.1m×0.1m (判定Ⅱb) | M13: 変状の発生範囲及び規模 | P13: 0.56m2(0.10m×5.60m) | S13: 前回変状の発生範囲及び規模 | U13: 5.6m×0.1m (判定Ⅱa)
B14: 対策履歴 | E14: 監視(日常巡視) | H14: 実施状況（実施日） | J14: 継続 | M14: 対策履歴 | P14: － | S14: 実施状況（実施日） | U14: －
B15: メモ | E15: アーチ部(左側)に鋼材露出。現状で利用者被害の可能性は低いため、監視にとどめる。 | M15: メモ | P15: 水平打ち継ぎ目(左側)沿いにうき。現状で利用者被害の可能性は低いため、監視にとどめる。 ※打音異常無し
B16: 写真 番号 | C16: 覆工スパン 番号 | E16: S002 | M16: 写真 番号 | N16: 覆工スパン 番号 | P16: S002
C17: 変状番号 | E17: 10 | N17: 変状番号 | P17: 14
B18: 変状 部位 | C18: 対象箇所 | E18: 覆工 | M18: 変状 部位 | N18: 対象箇所 | P18: 覆工
C19: 部位区分 | E19: 水平打ち継ぎ目（右側） | N19: 部位区分 | P19: アーチ（左側）
B20: 変状種類 | E20: うき・はく離 | M20: 変状種類 | P20: うき・はく離
B21: 対策 区分 | C21: 変状区分 | E21: 材質劣化 | M21: 対策 区分 | N21: 変状区分 | P21: 材質劣化
C22: 応急措置前 | N22: 応急措置前
C23: 応急措置後 | E23: Ⅱb | N23: 応急措置後 | P23: Ⅱa
B24: 変状の発生範囲及び規模 | E24: 0.56m2(0.10m×5.60m) | H24: 前回変状の発生範囲及び規模 | J24: 5.6m×0.1m (判定Ⅱa) | M24: 変状の発生範囲及び規模 | P24: 0.01m2(0.10m×0.10m) | S24: 前回変状の発生範囲及び規模 | U24: 今回新規変状
B25: 対策履歴 | E25: － | H25: 実施状況（実施日） | J25: － | M25: 対策履歴 | P25: － | S25: 実施状況（実施日） | U25: －
B26: メモ | E26: 水平打ち継ぎ目(右側)沿いにうき。現状で利用者被害の可能性は低いため、監視にとどめる。 | M26: メモ | P26: アーチ部(左側)に補修跡うき。新たに発生。将来的に利用者に影響が及ぶ可能性があるため、重点的な監視及び計画的な対策を必要とする。 ※打音異常無し
C27: ※ 応急措置後の対策区分について添付すること。また、点検前に 実施された措置によりⅠと判定された箇所も添付すること。 | N27: ※ 変状の発生範囲の規模とは、対策を行う際に参考となる変状の長さや面積をいう。
N28: ※ 応急措置を実施しないで決定した変状の対策区分は、対策区分の応急措置後の欄に記入すること。
C29: ※ たたき落としを実施した場合は、実施後の写真を添付すること。 | N29: ※ 変状の発生範囲の規模は、面積・寸法を記載すること。(ひび割れ幅のみmmとし、その他をm表記とする)
N30: ※ 構造用鋼材以外の異物に伴ううき・はく離については、メモ欄に異物の概要を記入すること。

Sheet 様式D-1-1 (5)
B2: ■定期点検記録様式 変状写真台帳【様式D-1-1】 | R2: 施設ID | T2: 34.10222,131.98036
B3: フリガナ | E3: ヒヨヂトンネル | H3: 路 線 名 | J3: 国道376号 | M3: 定期点検実施者 | P3: 株式会社 長大 | S3: 定期点検年月日 | U3: 45908
B4: 名 称 | E4: 桧余地トンネル | H4: 管理者名 | J4: 岩国土木建築事務所 | P4: 鷲尾 寛
B5: 写真 番号 | C5: 覆工スパン 番号 | E5: S002 | M5: 写真 番号 | N5: 覆工スパン 番号 | P5: S003
C6: 変状番号 | E6: 15 | N6: 変状番号 | P6: 1
B7: 変状 部位 | C7: 対象箇所 | E7: 覆工 | M7: 変状 部位 | N7: 対象箇所 | P7: 覆工
C8: 部位区分 | E8: アーチ（右側） | N8: 部位区分 | P8: アーチ（天端）
B9: 変状種類 | E9: うき・はく離 | M9: 変状種類 | P9: うき・はく離
B10: 対策 区分 | C10: 変状区分 | E10: 材質劣化 | M10: 対策 区分 | N10: 変状区分 | P10: 材質劣化
C11: 応急措置前 | N11: 応急措置前
C12: 応急措置後 | E12: Ⅱa | N12: 応急措置後 | P12: Ⅱa
B13: 変状の発生範囲及び規模 | E13: 0.01m2(0.10m×0.10m) | H13: 前回変状の発生範囲及び規模 | J13: 今回新規変状 | M13: 変状の発生範囲及び規模 | P13: 0.01m2(0.10m×0.10m) | S13: 前回変状の発生範囲及び規模 | U13: 0.1m×0.1m (判定Ⅱb)
B14: 対策履歴 | E14: － | H14: 実施状況（実施日） | J14: － | M14: 対策履歴 | P14: 監視(日常巡視) | S14: 実施状況（実施日） | U14: 継続
B15: メモ | E15: アーチ部(右側)に補修跡うき。新たに発生。将来的に利用者に影響が及ぶ可能性があるため、重点的な監視及び計画的な対策を必要とする。 ※打音異常無し | M15: メモ | P15: アーチ部(天端)に補修跡うき。将来的に利用者に影響が及ぶ可能性があるため、重点的な監視及び計画的な対策を必要とする。 ※打音異常無し
B16: 写真 番号 | C16: 覆工スパン 番号 | E16: S003 | M16: 写真 番号 | N16: 覆工スパン 番号 | P16: S003
C17: 変状番号 | E17: 2 | N17: 変状番号 | P17: 3
B18: 変状 部位 | C18: 対象箇所 | E18: 覆工 | M18: 変状 部位 | N18: 対象箇所 | P18: 覆工
C19: 部位区分 | E19: アーチ（天端） | N19: 部位区分 | P19: アーチ（右側）
B20: 変状種類 | E20: うき・はく離 | M20: 変状種類 | P20: うき・はく離
B21: 対策 区分 | C21: 変状区分 | E21: 材質劣化 | M21: 対策 区分 | N21: 変状区分 | P21: 材質劣化
C22: 応急措置前 | N22: 応急措置前
C23: 応急措置後 | E23: Ⅱa | N23: 応急措置後 | P23: Ⅱa
B24: 変状の発生範囲及び規模 | E24: 0.01m2(0.05m×0.10m) | H24: 前回変状の発生範囲及び規模 | J24: 0.1m×0.05m (判定Ⅱb) | M24: 変状の発生範囲及び規模 | P24: 0.01m2(0.10m×0.10m) | S24: 前回変状の発生範囲及び規模 | U24: 0.1m×0.1m (判定Ⅱb)
B25: 対策履歴 | E25: 監視(日常巡視) | H25: 実施状況（実施日） | J25: 継続 | M25: 対策履歴 | P25: 監視(日常巡視) | S25: 実施状況（実施日） | U25: 継続
B26: メモ | E26: アーチ部(天端)にひび割れ沿いのうき。将来的に利用者に影響が及ぶ可能性があるため、重点的な監視及び計画的な対策を必要とする。 ※打音異常無し | M26: メモ | P26: アーチ部(右側)に補修跡うき。緩みの進行。将来的に利用者に影響が及ぶ可能性があるため、重点的な監視及び計画的な対策を必要とする。 ※打音異常無し
C27: ※ 応急措置後の対策区分について添付すること。また、点検前に 実施された措置によりⅠと判定された箇所も添付すること。 | N27: ※ 変状の発生範囲の規模とは、対策を行う際に参考となる変状の長さや面積をいう。
N28: ※ 応急措置を実施しないで決定した変状の対策区分は、対策区分の応急措置後の欄に記入すること。
C29: ※ たたき落としを実施した場合は、実施後の写真を添付すること。 | N29: ※ 変状の発生範囲の規模は、面積・寸法を記載すること。(ひび割れ幅のみmmとし、その他をm表記とする)
N30: ※ 構造用鋼材以外の異物に伴ううき・はく離については、メモ欄に異物の概要を記入すること。

Sheet 様式D-1-1 (6)
B2: ■定期点検記録様式 変状写真台帳【様式D-1-1】 | R2: 施設ID | T2: 34.10222,131.98036
B3: フリガナ | E3: ヒヨヂトンネル | H3: 路 線 名 | J3: 国道376号 | M3: 定期点検実施者 | P3: 株式会社 長大 | S3: 定期点検年月日 | U3: 45908
B4: 名 称 | E4: 桧余地トンネル | H4: 管理者名 | J4: 岩国土木建築事務所 | P4: 鷲尾 寛
B5: 写真 番号 | C5: 覆工スパン 番号 | E5: S003 | M5: 写真 番号 | N5: 覆工スパン 番号 | P5: S003
C6: 変状番号 | E6: 5 | N6: 変状番号 | P6: 12
B7: 変状 部位 | C7: 対象箇所 | E7: 覆工 | M7: 変状 部位 | N7: 対象箇所 | P7: 覆工
C8: 部位区分 | E8: アーチ（左側） | N8: 部位区分 | P8: 水平打ち継ぎ目（左側）
B9: 変状種類 | E9: 圧ざ、ひび割れ | M9: 変状種類 | P9: うき・はく離
B10: 対策 区分 | C10: 変状区分 | E10: 材質劣化 | M10: 対策 区分 | N10: 変状区分 | P10: 材質劣化
C11: 応急措置前 | N11: 応急措置前
C12: 応急措置後 | E12: Ⅱa | N12: 応急措置後 | P12: Ⅱb
B13: 変状の発生範囲及び規模 | E13: 0.60m2(長さ6.0m×幅1.0mm) | H13: 前回変状の発生範囲及び規模 | J13: 0.65mm,L=5.8m (判定Ⅱb) | M13: 変状の発生範囲及び規模 | P13: 0.58m2(0.10m×5.80m) | S13: 前回変状の発生範囲及び規模 | U13: 5.8m×0.1m (判定Ⅱa)
B14: 対策履歴 | E14: 監視(日常巡視) | H14: 実施状況（実施日） | J14: 継続 | M14: 対策履歴 | P14: － | S14: 実施状況（実施日） | U14: －
B15: メモ | E15: アーチ部(左側)に縦断方向のひび割れ。拡幅。将来的に利用者に影響が及ぶ可能性があるため、重点的な監視を必要とする。 | M15: メモ | P15: 水平打ち継ぎ目(左側)沿いにうき。現状で利用者被害の可能性は低いため、監視にとどめる。 ※打音異常無し
B16: 写真 番号 | C16: 覆工スパン 番号 | E16: S003 | M16: 写真 番号 | N16: 覆工スパン 番号 | P16: S003
C17: 変状番号 | E17: 13 | N17: 変状番号 | P17: 16
B18: 変状 部位 | C18: 対象箇所 | E18: 覆工 | M18: 変状 部位 | N18: 対象箇所 | P18: 覆工
C19: 部位区分 | E19: 水平打ち継ぎ目（右側） | N19: 部位区分 | P19: アーチ（左側）
B20: 変状種類 | E20: うき・はく離 | M20: 変状種類 | P20: うき・はく離
B21: 対策 区分 | C21: 変状区分 | E21: 材質劣化 | M21: 対策 区分 | N21: 変状区分 | P21: 材質劣化
C22: 応急措置前 | N22: 応急措置前
C23: 応急措置後 | E23: Ⅱb | N23: 応急措置後 | P23: Ⅱa
B24: 変状の発生範囲及び規模 | E24: 0.58m2(0.10m×5.80m) | H24: 前回変状の発生範囲及び規模 | J24: 5.8m×0.1m (判定Ⅱa) | M24: 変状の発生範囲及び規模 | P24: 0.11m2(0.05m×0.15m、他) | S24: 前回変状の発生範囲及び規模 | U24: 今回新規変状
B25: 対策履歴 | E25: － | H25: 実施状況（実施日） | J25: － | M25: 対策履歴 | P25: － | S25: 実施状況（実施日） | U25: －
B26: メモ | E26: 水平打ち継ぎ目(右側)沿いにうき。現状で利用者被害の可能性は低いため、監視にとどめる。 ※打音異常無し | M26: メモ | P26: アーチ部(左側)にひび割れ沿いのうき。新たに発生。将来的に利用者に影響が及ぶ可能性があるため、重点的な監視及び計画的な対策を必要とする。 ※打音異常無し
C27: ※ 応急措置後の対策区分について添付すること。また、点検前に 実施された措置によりⅠと判定された箇所も添付すること。 | N27: ※ 変状の発生範囲の規模とは、対策を行う際に参考となる変状の長さや面積をいう。
N28: ※ 応急措置を実施しないで決定した変状の対策区分は、対策区分の応急措置後の欄に記入すること。
C29: ※ たたき落としを実施した場合は、実施後の写真を添付すること。 | N29: ※ 変状の発生範囲の規模は、面積・寸法を記載すること。(ひび割れ幅のみmmとし、その他をm表記とする)
N30: ※ 構造用鋼材以外の異物に伴ううき・はく離については、メモ欄に異物の概要を記入すること。

Sheet 様式D-1-1 (7)
B2: ■定期点検記録様式 変状写真台帳【様式D-1-1】 | R2: 施設ID | T2: 34.10222,131.98036
B3: フリガナ | E3: ヒヨヂトンネル | H3: 路 線 名 | J3: 国道376号 | M3: 定期点検実施者 | P3: 株式会社 長大 | S3: 定期点検年月日 | U3: 45908
B4: 名 称 | E4: 桧余地トンネル | H4: 管理者名 | J4: 岩国土木建築事務所 | P4: 鷲尾 寛
B5: 写真 番号 | C5: 覆工スパン 番号 | E5: S003 | M5: 写真 番号 | N5: 覆工スパン 番号 | P5: S003
C6: 変状番号 | E6: 17 | N6: 変状番号 | P6: 18
B7: 変状 部位 | C7: 対象箇所 | E7: 覆工 | M7: 変状 部位 | N7: 対象箇所 | P7: 覆工
C8: 部位区分 | E8: アーチ（左側） | N8: 部位区分 | P8: アーチ（左側）
B9: 変状種類 | E9: うき・はく離 | M9: 変状種類 | P9: 鋼材腐食
B10: 対策 区分 | C10: 変状区分 | E10: 材質劣化 | M10: 対策 区分 | N10: 変状区分 | P10: 材質劣化
C11: 応急措置前 | N11: 応急措置前
C12: 応急措置後 | E12: Ⅱa | N12: 応急措置後 | P12: Ⅱb
B13: 変状の発生範囲及び規模 | E13: 0.01m2(0.10m×0.10m) | H13: 前回変状の発生範囲及び規模 | J13: 今回新規変状 | M13: 変状の発生範囲及び規模 | P13: 0.01m2(0.05m×0.05m) | S13: 前回変状の発生範囲及び規模 | U13: 今回新規変状
B14: 対策履歴 | E14: － | H14: 実施状況（実施日） | J14: － | M14: 対策履歴 | P14: － | S14: 実施状況（実施日） | U14: －
B15: メモ | E15: アーチ部(左側)に補修跡うき。新たに発生。将来的に利用者に影響が及ぶ可能性があるため、重点的な監視及び計画的な対策を必要とする。 ※打音異常無し | M15: メモ | P15: アーチ部(左側)に鋼材露出。新たに発生。現状で利用者被害の可能性は低いため、監視にとどめる。
B16: 写真 番号 | C16: 覆工スパン 番号 | E16: S003 | M16: 写真 番号 | N16: 覆工スパン 番号 | P16: S003
C17: 変状番号 | E17: 19 | N17: 変状番号 | P17: 20
B18: 変状 部位 | C18: 対象箇所 | E18: 覆工 | M18: 変状 部位 | N18: 対象箇所 | P18: 覆工
C19: 部位区分 | E19: アーチ（左側） | N19: 部位区分 | P19: アーチ（右側）
B20: 変状種類 | E20: 鋼材腐食 | M20: 変状種類 | P20: 圧ざ、ひび割れ
B21: 対策 区分 | C21: 変状区分 | E21: 材質劣化 | M21: 対策 区分 | N21: 変状区分 | P21: 材質劣化
C22: 応急措置前 | N22: 応急措置前
C23: 応急措置後 | E23: Ⅱb | N23: 応急措置後 | P23: Ⅱb
B24: 変状の発生範囲及び規模 | E24: 0.01m2(0.05m×0.05m) | H24: 前回変状の発生範囲及び規模 | J24: 今回新規変状 | M24: 変状の発生範囲及び規模 | P24: 長さ1.2m×幅1.2mm、他 | S24: 前回変状の発生範囲及び規模 | U24: 前回調書記載なし
B25: 対策履歴 | E25: － | H25: 実施状況（実施日） | J25: － | M25: 対策履歴 | P25: － | S25: 実施状況（実施日） | U25: －
B26: メモ | E26: アーチ部(左側)に鋼材露出。新たに発生。現状で利用者被害の可能性は低いため、監視にとどめる。 | M26: メモ | P26: アーチ部(右側)に縦断方向のひび割れ。前回調書記載なし。現状で利用者被害の可能性は低いため、監視にとどめる。
C27: ※ 応急措置後の対策区分について添付すること。また、点検前に 実施された措置によりⅠと判定された箇所も添付すること。 | N27: ※ 変状の発生範囲の規模とは、対策を行う際に参考となる変状の長さや面積をいう。
N28: ※ 応急措置を実施しないで決定した変状の対策区分は、対策区分の応急措置後の欄に記入すること。
C29: ※ たたき落としを実施した場合は、実施後の写真を添付すること。 | N29: ※ 変状の発生範囲の規模は、面積・寸法を記載すること。(ひび割れ幅のみmmとし、その他をm表記とする)
N30: ※ 構造用鋼材以外の異物に伴ううき・はく離については、メモ欄に異物の概要を記入すること。

Sheet 様式D-1-1 (8)
B2: ■定期点検記録様式 変状写真台帳【様式D-1-1】 | R2: 施設ID | T2: 34.10222,131.98036
B3: フリガナ | E3: ヒヨヂトンネル | H3: 路 線 名 | J3: 国道376号 | M3: 定期点検実施者 | P3: 株式会社 長大 | S3: 定期点検年月日 | U3: 45908
B4: 名 称 | E4: 桧余地トンネル | H4: 管理者名 | J4: 岩国土木建築事務所 | P4: 鷲尾 寛
B5: 写真 番号 | C5: 覆工スパン 番号 | E5: S004 | M5: 写真 番号 | N5: 覆工スパン 番号 | P5: S004
C6: 変状番号 | E6: 1 | N6: 変状番号 | P6: 12
B7: 変状 部位 | C7: 対象箇所 | E7: 覆工 | M7: 変状 部位 | N7: 対象箇所 | P7: 覆工
C8: 部位区分 | E8: アーチ（天端） | N8: 部位区分 | P8: 水平打ち継ぎ目（左側）
B9: 変状種類 | E9: うき・はく離 | M9: 変状種類 | P9: うき・はく離
B10: 対策 区分 | C10: 変状区分 | E10: 材質劣化 | M10: 対策 区分 | N10: 変状区分 | P10: 材質劣化
C11: 応急措置前 | N11: 応急措置前
C12: 応急措置後 | E12: Ⅱa | N12: 応急措置後 | P12: Ⅱb
B13: 変状の発生範囲及び規模 | E13: 0.01m2(0.10m×0.10m) | H13: 前回変状の発生範囲及び規模 | J13: 0.1m×0.1m (判定Ⅱb) | M13: 変状の発生範囲及び規模 | P13: 0.57m2(0.10m×5.70m) | S13: 前回変状の発生範囲及び規模 | U13: 5.7m×0.1m (判定Ⅱa)
B14: 対策履歴 | E14: 監視(日常巡視) | H14: 実施状況（実施日） | J14: 継続 | M14: 対策履歴 | P14: － | S14: 実施状況（実施日） | U14: －
B15: メモ | E15: アーチ部(天端)に補修跡うき。将来的に利用者に影響が及ぶ可能性があるため、重点的な監視及び計画的な対策を必要とする。 ※打音異常無し | M15: メモ | P15: 水平打ち継ぎ目(左側)沿いにうき。現状で利用者被害の可能性は低いため、監視にとどめる。 ※打音異常無し
B16: 写真 番号 | C16: 覆工スパン 番号 | E16: S004 | M16: 写真 番号 | N16: 覆工スパン 番号 | P16: S004
C17: 変状番号 | E17: 13 | N17: 変状番号 | P17: 18
B18: 変状 部位 | C18: 対象箇所 | E18: 覆工 | M18: 変状 部位 | N18: 対象箇所 | P18: 覆工
C19: 部位区分 | E19: 水平打ち継ぎ目（右側） | N19: 部位区分 | P19: アーチ（右側）
B20: 変状種類 | E20: うき・はく離 | M20: 変状種類 | P20: 鋼材腐食
B21: 対策 区分 | C21: 変状区分 | E21: 材質劣化 | M21: 対策 区分 | N21: 変状区分 | P21: 材質劣化
C22: 応急措置前 | N22: 応急措置前
C23: 応急措置後 | E23: Ⅱb | N23: 応急措置後 | P23: Ⅱb
B24: 変状の発生範囲及び規模 | E24: 0.57m2(0.10m×5.70m) | H24: 前回変状の発生範囲及び規模 | J24: 5.7m×0.1m (判定Ⅱa) | M24: 変状の発生範囲及び規模 | P24: 0.01m2(0.05m×0.05m) | S24: 前回変状の発生範囲及び規模 | U24: 今回新規変状
B25: 対策履歴 | E25: － | H25: 実施状況（実施日） | J25: － | M25: 対策履歴 | P25: － | S25: 実施状況（実施日） | U25: －
B26: メモ | E26: 水平打ち継ぎ目(右側)沿いにうき。現状で利用者被害の可能性は低いため、監視にとどめる。 ※打音異常無し | M26: メモ | P26: アーチ部(右側)に鋼材露出。新たに発生。現状で利用者被害の可能性は低いため、監視にとどめる。
C27: ※ 応急措置後の対策区分について添付すること。また、点検前に 実施された措置によりⅠと判定された箇所も添付すること。 | N27: ※ 変状の発生範囲の規模とは、対策を行う際に参考となる変状の長さや面積をいう。
N28: ※ 応急措置を実施しないで決定した変状の対策区分は、対策区分の応急措置後の欄に記入すること。
C29: ※ たたき落としを実施した場合は、実施後の写真を添付すること。 | N29: ※ 変状の発生範囲の規模は、面積・寸法を記載すること。(ひび割れ幅のみmmとし、その他をm表記とする)
N30: ※ 構造用鋼材以外の異物に伴ううき・はく離については、メモ欄に異物の概要を記入すること。

Sheet 様式D-1-1 (9)
B2: ■定期点検記録様式 変状写真台帳【様式D-1-1】 | R2: 施設ID | T2: 34.10222,131.98036
B3: フリガナ | E3: ヒヨヂトンネル | H3: 路 線 名 | J3: 国道376号 | M3: 定期点検実施者 | P3: 株式会社 長大 | S3: 定期点検年月日 | U3: 45908
B4: 名 称 | E4: 桧余地トンネル | H4: 管理者名 | J4: 岩国土木建築事務所 | P4: 鷲尾 寛
B5: 写真 番号 | C5: 覆工スパン 番号 | E5: S004 | M5: 写真 番号 | N5: 覆工スパン 番号 | P5: S005
C6: 変状番号 | E6: 19 | N6: 変状番号 | P6: 4
B7: 変状 部位 | C7: 対象箇所 | E7: 覆工 | M7: 変状 部位 | N7: 対象箇所 | P7: 覆工
C8: 部位区分 | E8: アーチ（右側） | N8: 部位区分 | P8: アーチ（左側）
B9: 変状種類 | E9: 圧ざ、ひび割れ | M9: 変状種類 | P9: 鋼材腐食
B10: 対策 区分 | C10: 変状区分 | E10: 材質劣化 | M10: 対策 区分 | N10: 変状区分 | P10: 材質劣化
C11: 応急措置前 | N11: 応急措置前
C12: 応急措置後 | E12: Ⅱb | N12: 応急措置後 | P12: Ⅱb
B13: 変状の発生範囲及び規模 | E13: 長さ1.6m×幅1.2mm、他 | H13: 前回変状の発生範囲及び規模 | J13: 前回調書記載なし | M13: 変状の発生範囲及び規模 | P13: 0.01m2(0.05m×0.10m) | S13: 前回変状の発生範囲及び規模 | U13: 0.1m×0.1m (判定Ⅱb)
B14: 対策履歴 | E14: － | H14: 実施状況（実施日） | J14: － | M14: 対策履歴 | P14: 監視(日常巡視) | S14: 実施状況（実施日） | U14: 継続
B15: メモ | E15: アーチ部(右側)に縦断方向のひび割れ。前回調書記載なし。現状で利用者被害の可能性は低いため、監視にとどめる。 | M15: メモ | P15: アーチ部(左側)に鋼材露出。現状で利用者被害の可能性は低いため、監視にとどめる。
B16: 写真 番号 | C16: 覆工スパン 番号 | E16: S005 | M16: 写真 番号 | N16: 覆工スパン 番号 | P16: S005
C17: 変状番号 | E17: 5 | N17: 変状番号 | P17: 6
B18: 変状 部位 | C18: 対象箇所 | E18: 覆工 | M18: 変状 部位 | N18: 対象箇所 | P18: 覆工
C19: 部位区分 | E19: アーチ（左側） | N19: 部位区分 | P19: アーチ（左側）
B20: 変状種類 | E20: 鋼材腐食 | M20: 変状種類 | P20: 鋼材腐食
B21: 対策 区分 | C21: 変状区分 | E21: 材質劣化 | M21: 対策 区分 | N21: 変状区分 | P21: 材質劣化
C22: 応急措置前 | N22: 応急措置前
C23: 応急措置後 | E23: Ⅱb | N23: 応急措置後 | P23: Ⅱb
B24: 変状の発生範囲及び規模 | E24: 0.01m2(0.05m×0.05m) | H24: 前回変状の発生範囲及び規模 | J24: 0.1m×0.1m (判定Ⅱb) | M24: 変状の発生範囲及び規模 | P24: 0.01m2(0.05m×0.05m) | S24: 前回変状の発生範囲及び規模 | U24: 0.05m×0.05m (判定Ⅱb)
B25: 対策履歴 | E25: 監視(日常巡視) | H25: 実施状況（実施日） | J25: 継続 | M25: 対策履歴 | P25: 監視(日常巡視) | S25: 実施状況（実施日） | U25: 継続
B26: メモ | E26: アーチ部(左側)に鋼材露出。現状で利用者被害の可能性は低いため、監視にとどめる。 | M26: メモ | P26: アーチ部(左側)に鋼材露出。現状で利用者被害の可能性は低いため、監視にとどめる。
C27: ※ 応急措置後の対策区分について添付すること。また、点検前に 実施された措置によりⅠと判定された箇所も添付すること。 | N27: ※ 変状の発生範囲の規模とは、対策を行う際に参考となる変状の長さや面積をいう。
N28: ※ 応急措置を実施しないで決定した変状の対策区分は、対策区分の応急措置後の欄に記入すること。
C29: ※ たたき落としを実施した場合は、実施後の写真を添付すること。 | N29: ※ 変状の発生範囲の規模は、面積・寸法を記載すること。(ひび割れ幅のみmmとし、その他をm表記とする)
N30: ※ 構造用鋼材以外の異物に伴ううき・はく離については、メモ欄に異物の概要を記入すること。

Sheet 様式D-1-1 (10)
B2: ■定期点検記録様式 変状写真台帳【様式D-1-1】 | R2: 施設ID | T2: 34.10222,131.98036
B3: フリガナ | E3: ヒヨヂトンネル | H3: 路 線 名 | J3: 国道376号 | M3: 定期点検実施者 | P3: 株式会社 長大 | S3: 定期点検年月日 | U3: 45908
B4: 名 称 | E4: 桧余地トンネル | H4: 管理者名 | J4: 岩国土木建築事務所 | P4: 鷲尾 寛
B5: 写真 番号 | C5: 覆工スパン 番号 | E5: S005 | M5: 写真 番号 | N5: 覆工スパン 番号 | P5: S005
C6: 変状番号 | E6: 7 | N6: 変状番号 | P6: 16
B7: 変状 部位 | C7: 対象箇所 | E7: 覆工 | M7: 変状 部位 | N7: 対象箇所 | P7: 覆工
C8: 部位区分 | E8: アーチ（左側） | N8: 部位区分 | P8: 水平打ち継ぎ目（左側）
B9: 変状種類 | E9: 漏水 | M9: 変状種類 | P9: うき・はく離
B10: 対策 区分 | C10: 変状区分 | E10: 漏水 | M10: 対策 区分 | N10: 変状区分 | P10: 材質劣化
C11: 応急措置前 | N11: 応急措置前
C12: 応急措置後 | E12: Ⅱb | N12: 応急措置後 | P12: Ⅱb
B13: 変状の発生範囲及び規模 | E13: 2.60m2(5.20m×0.50m) | H13: 前回変状の発生範囲及び規模 | J13: 規模記載なし (判定Ⅱb) | M13: 変状の発生範囲及び規模 | P13: 0.17m2(0.10m×1.70m) | S13: 前回変状の発生範囲及び規模 | U13: 5.7m×0.1m (判定Ⅱa)
B14: 対策履歴 | E14: 監視(日常巡視) | H14: 実施状況（実施日） | J14: 継続 | M14: 対策履歴 | P14: － | S14: 実施状況（実施日） | U14: －
B15: メモ | E15: アーチ部(左側)に遊離石灰。現状で利用者被害の可能性は低いため、監視にとどめる。 | M15: メモ | P15: 水平打ち継ぎ目(左側)沿いにうき。現状で利用者被害の可能性は低いため、監視にとどめる。 ※打音異常無し
B16: 写真 番号 | C16: 覆工スパン 番号 | E16: S005 | M16: 写真 番号 | N16: 覆工スパン 番号 | P16: S005
C17: 変状番号 | E17: 17 | N17: 変状番号 | P17: 18
B18: 変状 部位 | C18: 対象箇所 | E18: 覆工 | M18: 変状 部位 | N18: 対象箇所 | P18: 覆工
C19: 部位区分 | E19: 水平打ち継ぎ目（右側） | N19: 部位区分 | P19: 水平打ち継ぎ目（右側）
B20: 変状種類 | E20: うき・はく離 | M20: 変状種類 | P20: うき・はく離
B21: 対策 区分 | C21: 変状区分 | E21: 材質劣化 | M21: 対策 区分 | N21: 変状区分 | P21: 材質劣化
C22: 応急措置前 | N22: 応急措置前
C23: 応急措置後 | E23: Ⅱb | N23: 応急措置後 | P23: Ⅱb
B24: 変状の発生範囲及び規模 | E24: 0.57m2(0.10m×5.70m) | H24: 前回変状の発生範囲及び規模 | J24: 5.7m×0.1m (判定Ⅱa) | M24: 変状の発生範囲及び規模 | P24: 0.02m2(0.05m×0.30m) | S24: 前回変状の発生範囲及び規模 | U24: 0.3m×0.05m (判定Ⅱb)
B25: 対策履歴 | E25: － | H25: 実施状況（実施日） | J25: － | M25: 対策履歴 | P25: 監視(日常巡視) | S25: 実施状況（実施日） | U25: 継続
B26: メモ | E26: 水平打ち継ぎ目(右側)沿いにうき。現状で利用者被害の可能性は低いため、監視にとどめる。 ※打音異常無し | M26: メモ | P26: 水平打ち継ぎ目(右側)沿いにはく落。現状で利用者被害の可能性は低いため、監視にとどめる。 ※打音異常無し
C27: ※ 応急措置後の対策区分について添付すること。また、点検前に 実施された措置によりⅠと判定された箇所も添付すること。 | N27: ※ 変状の発生範囲の規模とは、対策を行う際に参考となる変状の長さや面積をいう。
N28: ※ 応急措置を実施しないで決定した変状の対策区分は、対策区分の応急措置後の欄に記入すること。
C29: ※ たたき落としを実施した場合は、実施後の写真を添付すること。 | N29: ※ 変状の発生範囲の規模は、面積・寸法を記載すること。(ひび割れ幅のみmmとし、その他をm表記とする)
N30: ※ 構造用鋼材以外の異物に伴ううき・はく離については、メモ欄に異物の概要を記入すること。

Sheet 様式D-1-1 (11)
B2: ■定期点検記録様式 変状写真台帳【様式D-1-1】 | R2: 施設ID | T2: 34.10222,131.98036
B3: フリガナ | E3: ヒヨヂトンネル | H3: 路 線 名 | J3: 国道376号 | M3: 定期点検実施者 | P3: 株式会社 長大 | S3: 定期点検年月日 | U3: 45908
B4: 名 称 | E4: 桧余地トンネル | H4: 管理者名 | J4: 岩国土木建築事務所 | P4: 鷲尾 寛
B5: 写真 番号 | C5: 覆工スパン 番号 | E5: S005 | M5: 写真 番号 | N5: 覆工スパン 番号 | P5: S005
C6: 変状番号 | E6: 20 | N6: 変状番号 | P6: 26
B7: 変状 部位 | C7: 対象箇所 | E7: 覆工 | M7: 変状 部位 | N7: 対象箇所 | P7: 覆工
C8: 部位区分 | E8: 側壁（右側） | N8: 部位区分 | P8: アーチ（右側）
B9: 変状種類 | E9: うき・はく離 | M9: 変状種類 | P9: 鋼材腐食
B10: 対策 区分 | C10: 変状区分 | E10: 材質劣化 | M10: 対策 区分 | N10: 変状区分 | P10: 材質劣化
C11: 応急措置前 | N11: 応急措置前
C12: 応急措置後 | E12: Ⅱb | N12: 応急措置後 | P12: Ⅱb
B13: 変状の発生範囲及び規模 | E13: 0.01m2(0.20m×0.05m) | H13: 前回変状の発生範囲及び規模 | J13: 0.05m×0.2m (判定Ⅱb) | M13: 変状の発生範囲及び規模 | P13: 0.01m2(0.05m×0.05m) | S13: 前回変状の発生範囲及び規模 | U13: 今回新規変状
B14: 対策履歴 | E14: 監視(日常巡視) | H14: 実施状況（実施日） | J14: 継続 | M14: 対策履歴 | P14: － | S14: 実施状況（実施日） | U14: －
B15: メモ | E15: 側壁部(右側)にうき。現状で利用者被害の可能性は低いため、監視にとどめる。 ※打音異常無し | M15: メモ | P15: アーチ部(右側)に鋼材露出。新たに発生。現状で利用者被害の可能性は低いため、監視にとどめる。
B16: 写真 番号 | C16: 覆工スパン 番号 | E16: S006 | M16: 写真 番号 | N16: 覆工スパン 番号 | P16: S006
C17: 変状番号 | E17: 5 | N17: 変状番号 | P17: 9
B18: 変状 部位 | C18: 対象箇所 | E18: 覆工 | M18: 変状 部位 | N18: 対象箇所 | P18: 覆工
C19: 部位区分 | E19: アーチ（左側） | N19: 部位区分 | P19: アーチ（右側）
B20: 変状種類 | E20: うき・はく離 | M20: 変状種類 | P20: うき・はく離
B21: 対策 区分 | C21: 変状区分 | E21: 材質劣化 | M21: 対策 区分 | N21: 変状区分 | P21: 材質劣化
C22: 応急措置前 | N22: 応急措置前
C23: 応急措置後 | E23: Ⅱa | N23: 応急措置後 | P23: Ⅱa
B24: 変状の発生範囲及び規模 | E24: 0.01m2(0.05m×0.15m) | H24: 前回変状の発生範囲及び規模 | J24: 0.2m×0.05m (判定Ⅱb) | M24: 変状の発生範囲及び規模 | P24: 0.01m2(0.05m×0.10m) | S24: 前回変状の発生範囲及び規模 | U24: 0.1m×0.05m (判定Ⅱb)
B25: 対策履歴 | E25: 監視(日常巡視) | H25: 実施状況（実施日） | J25: 継続 | M25: 対策履歴 | P25: 監視(日常巡視) | S25: 実施状況（実施日） | U25: 継続
B26: メモ | E26: アーチ部(左側)にひび割れ沿いのうき。将来的に利用者に影響が及ぶ可能性があるため、重点的な監視及び計画的な対策を必要とする。 ※打音異常無し | M26: メモ | P26: アーチ部(右側)にひび割れ沿いのうき。将来的に利用者に影響が及ぶ可能性があるため、重点的な監視及び計画的な対策を必要とする。 ※打音異常無し
C27: ※ 応急措置後の対策区分について添付すること。また、点検前に 実施された措置によりⅠと判定された箇所も添付すること。 | N27: ※ 変状の発生範囲の規模とは、対策を行う際に参考となる変状の長さや面積をいう。
N28: ※ 応急措置を実施しないで決定した変状の対策区分は、対策区分の応急措置後の欄に記入すること。
C29: ※ たたき落としを実施した場合は、実施後の写真を添付すること。 | N29: ※ 変状の発生範囲の規模は、面積・寸法を記載すること。(ひび割れ幅のみmmとし、その他をm表記とする)
N30: ※ 構造用鋼材以外の異物に伴ううき・はく離については、メモ欄に異物の概要を記入すること。

Sheet 様式D-1-1 (12)
B2: ■定期点検記録様式 変状写真台帳【様式D-1-1】 | R2: 施設ID | T2: 34.10222,131.98036
B3: フリガナ | E3: ヒヨヂトンネル | H3: 路 線 名 | J3: 国道376号 | M3: 定期点検実施者 | P3: 株式会社 長大 | S3: 定期点検年月日 | U3: 45908
B4: 名 称 | E4: 桧余地トンネル | H4: 管理者名 | J4: 岩国土木建築事務所 | P4: 鷲尾 寛
B5: 写真 番号 | C5: 覆工スパン 番号 | E5: S006 | M5: 写真 番号 | N5: 覆工スパン 番号 | P5: S006
C6: 変状番号 | E6: 12 | N6: 変状番号 | P6: 13
B7: 変状 部位 | C7: 対象箇所 | E7: 覆工 | M7: 変状 部位 | N7: 対象箇所 | P7: 覆工
C8: 部位区分 | E8: 側壁（左側） | N8: 部位区分 | P8: 水平打ち継ぎ目（左側）
B9: 変状種類 | E9: 鋼材腐食 | M9: 変状種類 | P9: うき・はく離
B10: 対策 区分 | C10: 変状区分 | E10: 材質劣化 | M10: 対策 区分 | N10: 変状区分 | P10: 材質劣化
C11: 応急措置前 | N11: 応急措置前
C12: 応急措置後 | E12: Ⅱb | N12: 応急措置後 | P12: Ⅱb
B13: 変状の発生範囲及び規模 | E13: 0.01m2(0.05m×0.05m) | H13: 前回変状の発生範囲及び規模 | J13: 0.05m×0.05m (判定Ⅱb) | M13: 変状の発生範囲及び規模 | P13: 0.30m2(0.10m×3.00m) | S13: 前回変状の発生範囲及び規模 | U13: 5.8m×0.1m (判定Ⅱa)
B14: 対策履歴 | E14: 監視(日常巡視) | H14: 実施状況（実施日） | J14: 継続 | M14: 対策履歴 | P14: － | S14: 実施状況（実施日） | U14: －
B15: メモ | E15: 側壁部(左側)に鋼材露出。現状で利用者被害の可能性は低いため、監視にとどめる。 | M15: メモ | P15: 水平打ち継ぎ目(左側)沿いにうき。現状で利用者被害の可能性は低いため、監視にとどめる。 ※打音異常無し
B16: 写真 番号 | C16: 覆工スパン 番号 | E16: S006 | M16: 写真 番号 | N16: 覆工スパン 番号 | P16: S006
C17: 変状番号 | E17: 14 | N17: 変状番号 | P17: 15
B18: 変状 部位 | C18: 対象箇所 | E18: 覆工 | M18: 変状 部位 | N18: 対象箇所 | P18: 覆工
C19: 部位区分 | E19: 水平打ち継ぎ目（右側） | N19: 部位区分 | P19: 側壁（右側）
B20: 変状種類 | E20: うき・はく離 | M20: 変状種類 | P20: 鋼材腐食
B21: 対策 区分 | C21: 変状区分 | E21: 材質劣化 | M21: 対策 区分 | N21: 変状区分 | P21: 材質劣化
C22: 応急措置前 | N22: 応急措置前
C23: 応急措置後 | E23: Ⅱb | N23: 応急措置後 | P23: Ⅱb
B24: 変状の発生範囲及び規模 | E24: 0.58m2(0.10m×5.80m) | H24: 前回変状の発生範囲及び規模 | J24: 5.8m×0.1m (判定Ⅱa) | M24: 変状の発生範囲及び規模 | P24: 0.01m2(0.05m×0.05m) | S24: 前回変状の発生範囲及び規模 | U24: 0.05m×0.05m (判定Ⅱb)
B25: 対策履歴 | E25: － | H25: 実施状況（実施日） | J25: － | M25: 対策履歴 | P25: 監視(日常巡視) | S25: 実施状況（実施日） | U25: 継続
B26: メモ | E26: 水平打ち継ぎ目(右側)沿いにうき。現状で利用者被害の可能性は低いため、監視にとどめる。 ※打音異常無し | M26: メモ | P26: 側壁部(右側)に鋼材露出。現状で利用者被害の可能性は低いため、監視にとどめる。
C27: ※ 応急措置後の対策区分について添付すること。また、点検前に 実施された措置によりⅠと判定された箇所も添付すること。 | N27: ※ 変状の発生範囲の規模とは、対策を行う際に参考となる変状の長さや面積をいう。
N28: ※ 応急措置を実施しないで決定した変状の対策区分は、対策区分の応急措置後の欄に記入すること。
C29: ※ たたき落としを実施した場合は、実施後の写真を添付すること。 | N29: ※ 変状の発生範囲の規模は、面積・寸法を記載すること。(ひび割れ幅のみmmとし、その他をm表記とする)
N30: ※ 構造用鋼材以外の異物に伴ううき・はく離については、メモ欄に異物の概要を記入すること。

Sheet 様式D-1-1 (13)
B2: ■定期点検記録様式 変状写真台帳【様式D-1-1】 | R2: 施設ID | T2: 34.10222,131.98036
B3: フリガナ | E3: ヒヨヂトンネル | H3: 路 線 名 | J3: 国道376号 | M3: 定期点検実施者 | P3: 株式会社 長大 | S3: 定期点検年月日 | U3: 45908
B4: 名 称 | E4: 桧余地トンネル | H4: 管理者名 | J4: 岩国土木建築事務所 | P4: 鷲尾 寛
B5: 写真 番号 | C5: 覆工スパン 番号 | E5: S006 | M5: 写真 番号 | N5: 覆工スパン 番号 | P5: S007
C6: 変状番号 | E6: 18 | N6: 変状番号 | P6: 3
B7: 変状 部位 | C7: 対象箇所 | E7: 覆工 | M7: 変状 部位 | N7: 対象箇所 | P7: 覆工
C8: 部位区分 | E8: アーチ（天端） | N8: 部位区分 | P8: 横断目地（天端）
B9: 変状種類 | E9: うき・はく離 | M9: 変状種類 | P9: うき・はく離
B10: 対策 区分 | C10: 変状区分 | E10: 材質劣化 | M10: 対策 区分 | N10: 変状区分 | P10: 材質劣化
C11: 応急措置前 | N11: 応急措置前
C12: 応急措置後 | E12: Ⅱa | N12: 応急措置後 | P12: Ⅱa
B13: 変状の発生範囲及び規模 | E13: 0.01m2(0.10m×0.10m) | H13: 前回変状の発生範囲及び規模 | J13: 今回新規変状 | M13: 変状の発生範囲及び規模 | P13: 0.06m2(1.10m×0.05m) | S13: 前回変状の発生範囲及び規模 | U13: 0.05m×1.1m (判定Ⅱb)
B14: 対策履歴 | E14: － | H14: 実施状況（実施日） | J14: － | M14: 対策履歴 | P14: 監視(日常巡視) | S14: 実施状況（実施日） | U14: 継続
B15: メモ | E15: アーチ部(天端)に補修跡うき。新たに発生。将来的に利用者に影響が及ぶ可能性があるため、重点的な監視及び計画的な対策を必要とする。 ※打音異常無し | M15: メモ | P15: 横断目地部(天端)にうき。将来的に利用者に影響が及ぶ可能性があるため、重点的な監視及び計画的な対策を必要とする。 ※打音異常無し
B16: 写真 番号 | C16: 覆工スパン 番号 | E16: S007 | M16: 写真 番号 | N16: 覆工スパン 番号 | P16: S007
C17: 変状番号 | E17: 5 | N17: 変状番号 | P17: 6
B18: 変状 部位 | C18: 対象箇所 | E18: 覆工 | M18: 変状 部位 | N18: 対象箇所 | P18: 覆工
C19: 部位区分 | E19: アーチ（天端） | N19: 部位区分 | P19: アーチ（天端）
B20: 変状種類 | E20: うき・はく離 | M20: 変状種類 | P20: うき・はく離
B21: 対策 区分 | C21: 変状区分 | E21: 材質劣化 | M21: 対策 区分 | N21: 変状区分 | P21: 材質劣化
C22: 応急措置前 | N22: 応急措置前
C23: 応急措置後 | E23: Ⅱa | N23: 応急措置後 | P23: Ⅱa
B24: 変状の発生範囲及び規模 | E24: 0.01m2(0.05m×0.20m) | H24: 前回変状の発生範囲及び規模 | J24: 0.2m×0.05m (判定Ⅱb) | M24: 変状の発生範囲及び規模 | P24: 0.02m2(0.05m×0.40m) | S24: 前回変状の発生範囲及び規模 | U24: 0.4m×0.05m (判定Ⅱb)
B25: 対策履歴 | E25: 監視(日常巡視) | H25: 実施状況（実施日） | J25: 継続 | M25: 対策履歴 | P25: 監視(日常巡視) | S25: 実施状況（実施日） | U25: 継続
B26: メモ | E26: アーチ部(天端)にひび割れ沿いのうき。将来的に利用者に影響が及ぶ可能性があるため、重点的な監視及び計画的な対策を必要とする。 ※打音異常無し | M26: メモ | P26: アーチ部(天端)にひび割れ沿いのうき。将来的に利用者に影響が及ぶ可能性があるため、重点的な監視及び計画的な対策を必要とする。 ※打音異常無し
C27: ※ 応急措置後の対策区分について添付すること。また、点検前に 実施された措置によりⅠと判定された箇所も添付すること。 | N27: ※ 変状の発生範囲の規模とは、対策を行う際に参考となる変状の長さや面積をいう。
N28: ※ 応急措置を実施しないで決定した変状の対策区分は、対策区分の応急措置後の欄に記入すること。
C29: ※ たたき落としを実施した場合は、実施後の写真を添付すること。 | N29: ※ 変状の発生範囲の規模は、面積・寸法を記載すること。(ひび割れ幅のみmmとし、その他をm表記とする)
N30: ※ 構造用鋼材以外の異物に伴ううき・はく離については、メモ欄に異物の概要を記入すること。

Sheet 様式D-1-1 (14)
B2: ■定期点検記録様式 変状写真台帳【様式D-1-1】 | R2: 施設ID | T2: 34.10222,131.98036
B3: フリガナ | E3: ヒヨヂトンネル | H3: 路 線 名 | J3: 国道376号 | M3: 定期点検実施者 | P3: 株式会社 長大 | S3: 定期点検年月日 | U3: 45908
B4: 名 称 | E4: 桧余地トンネル | H4: 管理者名 | J4: 岩国土木建築事務所 | P4: 鷲尾 寛
B5: 写真 番号 | C5: 覆工スパン 番号 | E5: S007 | M5: 写真 番号 | N5: 覆工スパン 番号 | P5: S007
C6: 変状番号 | E6: 7 | N6: 変状番号 | P6: 8
B7: 変状 部位 | C7: 対象箇所 | E7: 覆工 | M7: 変状 部位 | N7: 対象箇所 | P7: 覆工
C8: 部位区分 | E8: 横断目地（右側） | N8: 部位区分 | P8: アーチ（天端）
B9: 変状種類 | E9: うき・はく離 | M9: 変状種類 | P9: 鋼材腐食
B10: 対策 区分 | C10: 変状区分 | E10: 材質劣化 | M10: 対策 区分 | N10: 変状区分 | P10: 材質劣化
C11: 応急措置前 | N11: 応急措置前
C12: 応急措置後 | E12: Ⅱb | N12: 応急措置後 | P12: Ⅱb
B13: 変状の発生範囲及び規模 | E13: 0.01m2(0.20m×0.05m) | H13: 前回変状の発生範囲及び規模 | J13: 0.05m×0.15m (判定Ⅱb) | M13: 変状の発生範囲及び規模 | P13: 0.01m2(0.05m×0.10m) | S13: 前回変状の発生範囲及び規模 | U13: 0.15m×0.05m (判定Ⅱb)
B14: 対策履歴 | E14: 監視(日常巡視) | H14: 実施状況（実施日） | J14: 継続 | M14: 対策履歴 | P14: 監視(日常巡視) | S14: 実施状況（実施日） | U14: 継続
B15: メモ | E15: 横断目地部(アーチ右側)にはく落。現状で利用者被害の可能性は低いため、監視にとどめる。 ※打音異常無し | M15: メモ | P15: アーチ部(天端)に鋼材露出。現状で利用者被害の可能性は低いため、監視にとどめる。
B16: 写真 番号 | C16: 覆工スパン 番号 | E16: S007 | M16: 写真 番号 | N16: 覆工スパン 番号 | P16: S007
C17: 変状番号 | E17: 12 | N17: 変状番号 | P17: 13
B18: 変状 部位 | C18: 対象箇所 | E18: 覆工 | M18: 変状 部位 | N18: 対象箇所 | P18: 覆工
C19: 部位区分 | E19: 水平打ち継ぎ目（左側） | N19: 部位区分 | P19: 水平打ち継ぎ目（右側）
B20: 変状種類 | E20: うき・はく離 | M20: 変状種類 | P20: うき・はく離
B21: 対策 区分 | C21: 変状区分 | E21: 材質劣化 | M21: 対策 区分 | N21: 変状区分 | P21: 材質劣化
C22: 応急措置前 | N22: 応急措置前
C23: 応急措置後 | E23: Ⅱb | N23: 応急措置後 | P23: Ⅱb
B24: 変状の発生範囲及び規模 | E24: 0.04m2(0.05m×0.80m) | H24: 前回変状の発生範囲及び規模 | J24: 5.7m×0.1m (判定Ⅱa) | M24: 変状の発生範囲及び規模 | P24: 0.57m2(0.10m×5.70m) | S24: 前回変状の発生範囲及び規模 | U24: 5.7m×0.1m (判定Ⅱa)
B25: 対策履歴 | E25: － | H25: 実施状況（実施日） | J25: － | M25: 対策履歴 | P25: － | S25: 実施状況（実施日） | U25: －
B26: メモ | E26: 水平打ち継ぎ目(左側)沿いにうき。現状で利用者被害の可能性は低いため、監視にとどめる。 ※打音異常無し | M26: メモ | P26: 水平打ち継ぎ目(右側)沿いにうき。現状で利用者被害の可能性は低いため、監視にとどめる。 ※打音異常無し
C27: ※ 応急措置後の対策区分について添付すること。また、点検前に 実施された措置によりⅠと判定された箇所も添付すること。 | N27: ※ 変状の発生範囲の規模とは、対策を行う際に参考となる変状の長さや面積をいう。
N28: ※ 応急措置を実施しないで決定した変状の対策区分は、対策区分の応急措置後の欄に記入すること。
C29: ※ たたき落としを実施した場合は、実施後の写真を添付すること。 | N29: ※ 変状の発生範囲の規模は、面積・寸法を記載すること。(ひび割れ幅のみmmとし、その他をm表記とする)
N30: ※ 構造用鋼材以外の異物に伴ううき・はく離については、メモ欄に異物の概要を記入すること。

Sheet 様式D-1-1 (15)
B2: ■定期点検記録様式 変状写真台帳【様式D-1-1】 | R2: 施設ID | T2: 34.10222,131.98036
B3: フリガナ | E3: ヒヨヂトンネル | H3: 路 線 名 | J3: 国道376号 | M3: 定期点検実施者 | P3: 株式会社 長大 | S3: 定期点検年月日 | U3: 45908
B4: 名 称 | E4: 桧余地トンネル | H4: 管理者名 | J4: 岩国土木建築事務所 | P4: 鷲尾 寛
B5: 写真 番号 | C5: 覆工スパン 番号 | E5: S007 | M5: 写真 番号 | N5: 覆工スパン 番号 | P5: S008
C6: 変状番号 | E6: 17 | N6: 変状番号 | P6: 2
B7: 変状 部位 | C7: 対象箇所 | E7: 覆工 | M7: 変状 部位 | N7: 対象箇所 | P7: 覆工
C8: 部位区分 | E8: 側壁（左側） | N8: 部位区分 | P8: アーチ（左側）
B9: 変状種類 | E9: 鋼材腐食 | M9: 変状種類 | P9: うき・はく離
B10: 対策 区分 | C10: 変状区分 | E10: 材質劣化 | M10: 対策 区分 | N10: 変状区分 | P10: 材質劣化
C11: 応急措置前 | N11: 応急措置前
C12: 応急措置後 | E12: Ⅱb | N12: 応急措置後 | P12: Ⅱa
B13: 変状の発生範囲及び規模 | E13: 0.01m2(0.05m×0.05m) | H13: 前回変状の発生範囲及び規模 | J13: 今回新規変状 | M13: 変状の発生範囲及び規模 | P13: 0.01m2(0.05m×0.10m) | S13: 前回変状の発生範囲及び規模 | U13: 0.1m×0.05m (判定Ⅱb)
B14: 対策履歴 | E14: － | H14: 実施状況（実施日） | J14: － | M14: 対策履歴 | P14: 監視(日常巡視) | S14: 実施状況（実施日） | U14: 継続
B15: メモ | E15: 側壁部(左側)に鋼材露出。新たに発生。現状で利用者被害の可能性は低いため、監視にとどめる。 | M15: メモ | P15: アーチ部(左側)にひび割れ沿いのうき。将来的に利用者に影響が及ぶ可能性があるため、重点的な監視及び計画的な対策を必要とする。 ※打音異常無し
B16: 写真 番号 | C16: 覆工スパン 番号 | E16: S008 | M16: 写真 番号 | N16: 覆工スパン 番号 | P16: S008
C17: 変状番号 | E17: 6 | N17: 変状番号 | P17: 7
B18: 変状 部位 | C18: 対象箇所 | E18: 覆工 | M18: 変状 部位 | N18: 対象箇所 | P18: 覆工
C19: 部位区分 | E19: アーチ（右側） | N19: 部位区分 | P19: アーチ（右側）
B20: 変状種類 | E20: うき・はく離 | M20: 変状種類 | P20: うき・はく離
B21: 対策 区分 | C21: 変状区分 | E21: 材質劣化 | M21: 対策 区分 | N21: 変状区分 | P21: 材質劣化
C22: 応急措置前 | N22: 応急措置前
C23: 応急措置後 | E23: Ⅱa | N23: 応急措置後 | P23: Ⅱa
B24: 変状の発生範囲及び規模 | E24: 0.01m2(0.05m×0.10m) | H24: 前回変状の発生範囲及び規模 | J24: 0.1m×0.05m (判定Ⅱb) | M24: 変状の発生範囲及び規模 | P24: 0.01m2(0.05m×0.15m) | S24: 前回変状の発生範囲及び規模 | U24: 0.15m×0.05m (判定Ⅱb)
B25: 対策履歴 | E25: 監視(日常巡視) | H25: 実施状況（実施日） | J25: 継続 | M25: 対策履歴 | P25: 監視(日常巡視) | S25: 実施状況（実施日） | U25: 継続
B26: メモ | E26: アーチ部(右側)にひび割れ沿いのうき。将来的に利用者に影響が及ぶ可能性があるため、重点的な監視及び計画的な対策を必要とする。 ※打音異常無し | M26: メモ | P26: アーチ部(右側)にひび割れ沿いのうき。将来的に利用者に影響が及ぶ可能性があるため、重点的な監視及び計画的な対策を必要とする。 ※打音異常無し
C27: ※ 応急措置後の対策区分について添付すること。また、点検前に 実施された措置によりⅠと判定された箇所も添付すること。 | N27: ※ 変状の発生範囲の規模とは、対策を行う際に参考となる変状の長さや面積をいう。
N28: ※ 応急措置を実施しないで決定した変状の対策区分は、対策区分の応急措置後の欄に記入すること。
C29: ※ たたき落としを実施した場合は、実施後の写真を添付すること。 | N29: ※ 変状の発生範囲の規模は、面積・寸法を記載すること。(ひび割れ幅のみmmとし、その他をm表記とする)
N30: ※ 構造用鋼材以外の異物に伴ううき・はく離については、メモ欄に異物の概要を記入すること。

Sheet 様式D-1-1 (16)
B2: ■定期点検記録様式 変状写真台帳【様式D-1-1】 | R2: 施設ID | T2: 34.10222,131.98036
B3: フリガナ | E3: ヒヨヂトンネル | H3: 路 線 名 | J3: 国道376号 | M3: 定期点検実施者 | P3: 株式会社 長大 | S3: 定期点検年月日 | U3: 45908
B4: 名 称 | E4: 桧余地トンネル | H4: 管理者名 | J4: 岩国土木建築事務所 | P4: 鷲尾 寛
B5: 写真 番号 | C5: 覆工スパン 番号 | E5: S008 | M5: 写真 番号 | N5: 覆工スパン 番号 | P5: S008
C6: 変状番号 | E6: 10 | N6: 変状番号 | P6: 11
B7: 変状 部位 | C7: 対象箇所 | E7: 覆工 | M7: 変状 部位 | N7: 対象箇所 | P7: 覆工
C8: 部位区分 | E8: 側壁（左側） | N8: 部位区分 | P8: 水平打ち継ぎ目（左側）
B9: 変状種類 | E9: 鋼材腐食 | M9: 変状種類 | P9: うき・はく離
B10: 対策 区分 | C10: 変状区分 | E10: 材質劣化 | M10: 対策 区分 | N10: 変状区分 | P10: 材質劣化
C11: 応急措置前 | N11: 応急措置前
C12: 応急措置後 | E12: Ⅱb | N12: 応急措置後 | P12: Ⅱb
B13: 変状の発生範囲及び規模 | E13: 0.01m2(0.20m×0.05m) | H13: 前回変状の発生範囲及び規模 | J13: 0.05m×0.2m (判定Ⅱb) | M13: 変状の発生範囲及び規模 | P13: 0.54m2(0.10m×5.40m) | S13: 前回変状の発生範囲及び規模 | U13: 5.8m×0.1m (判定Ⅱa)
B14: 対策履歴 | E14: 監視(日常巡視) | H14: 実施状況（実施日） | J14: 継続 | M14: 対策履歴 | P14: － | S14: 実施状況（実施日） | U14: －
B15: メモ | E15: 側壁部(左側)にはく落(鋼材露出)。現状で利用者被害の可能性は低いため、監視にとどめる。 | M15: メモ | P15: 水平打ち継ぎ目(左側)沿いにうき。現状で利用者被害の可能性は低いため、監視にとどめる。 ※打音異常無し
B16: 写真 番号 | C16: 覆工スパン 番号 | E16: S008 | M16: 写真 番号 | N16: 覆工スパン 番号 | P16: S008
C17: 変状番号 | E17: 12 | N17: 変状番号 | P17: 15
B18: 変状 部位 | C18: 対象箇所 | E18: 覆工 | M18: 変状 部位 | N18: 対象箇所 | P18: 覆工
C19: 部位区分 | E19: 水平打ち継ぎ目（右側） | N19: 部位区分 | P19: アーチ（天端）
B20: 変状種類 | E20: うき・はく離 | M20: 変状種類 | P20: うき・はく離
B21: 対策 区分 | C21: 変状区分 | E21: 材質劣化 | M21: 対策 区分 | N21: 変状区分 | P21: 材質劣化
C22: 応急措置前 | N22: 応急措置前
C23: 応急措置後 | E23: Ⅱb | N23: 応急措置後 | P23: Ⅱa
B24: 変状の発生範囲及び規模 | E24: 0.58m2(0.10m×5.80m) | H24: 前回変状の発生範囲及び規模 | J24: 5.8m×0.1m (判定Ⅱa) | M24: 変状の発生範囲及び規模 | P24: 0.01m2(0.10m×0.10m) | S24: 前回変状の発生範囲及び規模 | U24: 今回新規変状
B25: 対策履歴 | E25: － | H25: 実施状況（実施日） | J25: － | M25: 対策履歴 | P25: － | S25: 実施状況（実施日） | U25: －
B26: メモ | E26: 水平打ち継ぎ目(右側)沿いにうき。現状で利用者被害の可能性は低いため、監視にとどめる。 ※打音異常無し | M26: メモ | P26: アーチ部(天端)に補修跡うき。新たに発生。将来的に利用者に影響が及ぶ可能性があるため、重点的な監視及び計画的な対策を必要とする。 ※打音異常無し
C27: ※ 応急措置後の対策区分について添付すること。また、点検前に 実施された措置によりⅠと判定された箇所も添付すること。 | N27: ※ 変状の発生範囲の規模とは、対策を行う際に参考となる変状の長さや面積をいう。
N28: ※ 応急措置を実施しないで決定した変状の対策区分は、対策区分の応急措置後の欄に記入すること。
C29: ※ たたき落としを実施した場合は、実施後の写真を添付すること。 | N29: ※ 変状の発生範囲の規模は、面積・寸法を記載すること。(ひび割れ幅のみmmとし、その他をm表記とする)
N30: ※ 構造用鋼材以外の異物に伴ううき・はく離については、メモ欄に異物の概要を記入すること。

Sheet 様式D-1-1 (17)
B2: ■定期点検記録様式 変状写真台帳【様式D-1-1】 | R2: 施設ID | T2: 34.10222,131.98036
B3: フリガナ | E3: ヒヨヂトンネル | H3: 路 線 名 | J3: 国道376号 | M3: 定期点検実施者 | P3: 株式会社 長大 | S3: 定期点検年月日 | U3: 45908
B4: 名 称 | E4: 桧余地トンネル | H4: 管理者名 | J4: 岩国土木建築事務所 | P4: 鷲尾 寛
B5: 写真 番号 | C5: 覆工スパン 番号 | E5: S009 | M5: 写真 番号 | N5: 覆工スパン 番号 | P5: S009
C6: 変状番号 | E6: 4 | N6: 変状番号 | P6: 5
B7: 変状 部位 | C7: 対象箇所 | E7: 覆工 | M7: 変状 部位 | N7: 対象箇所 | P7: 覆工
C8: 部位区分 | E8: 横断目地（左側） | N8: 部位区分 | P8: 横断目地（天端）
B9: 変状種類 | E9: うき・はく離 | M9: 変状種類 | P9: うき・はく離
B10: 対策 区分 | C10: 変状区分 | E10: 材質劣化 | M10: 対策 区分 | N10: 変状区分 | P10: 材質劣化
C11: 応急措置前 | N11: 応急措置前
C12: 応急措置後 | E12: Ⅱa | N12: 応急措置後 | P12: Ⅱb
B13: 変状の発生範囲及び規模 | E13: 0.01m2(0.05m×0.10m) | H13: 前回変状の発生範囲及び規模 | J13: 0.1m×0.1m (判定Ⅱb) | M13: 変状の発生範囲及び規模 | P13: 0.12m2(2.40m×0.05m) | S13: 前回変状の発生範囲及び規模 | U13: 0.05m×2.4m (判定Ⅱb)
B14: 対策履歴 | E14: 監視(日常巡視) | H14: 実施状況（実施日） | J14: 継続 | M14: 対策履歴 | P14: 監視(日常巡視) | S14: 実施状況（実施日） | U14: 継続
B15: メモ | E15: 横断目地部(アーチ左側)にひび割れ沿いのうき。将来的に利用者に影響が及ぶ可能性があるため、重点的な監視及び計画的な対策を必要とする。 ※打音異常無し | M15: メモ | P15: 横断目地部(天端)にはく落。H26に一部応急措置済み(FRPメッシュ)。現状で利用者被害の可能性は低いため、監視にとどめる。 ※打音異常無し
B16: 写真 番号 | C16: 覆工スパン 番号 | E16: S009 | M16: 写真 番号 | N16: 覆工スパン 番号 | P16: S009
C17: 変状番号 | E17: 7 | N17: 変状番号 | P17: 8
B18: 変状 部位 | C18: 対象箇所 | E18: 覆工 | M18: 変状 部位 | N18: 対象箇所 | P18: 覆工
C19: 部位区分 | E19: アーチ（右側） | N19: 部位区分 | P19: アーチ（右側）
B20: 変状種類 | E20: うき・はく離 | M20: 変状種類 | P20: うき・はく離
B21: 対策 区分 | C21: 変状区分 | E21: 材質劣化 | M21: 対策 区分 | N21: 変状区分 | P21: 材質劣化
C22: 応急措置前 | N22: 応急措置前
C23: 応急措置後 | E23: Ⅱa | N23: 応急措置後 | P23: Ⅱa
B24: 変状の発生範囲及び規模 | E24: 0.02m2(0.05m×0.35m) | H24: 前回変状の発生範囲及び規模 | J24: 0.35m×0.05m (判定Ⅱb) | M24: 変状の発生範囲及び規模 | P24: 0.01m2(0.05m×0.10m) | S24: 前回変状の発生範囲及び規模 | U24: 0.1m×0.05m (判定Ⅱb)
B25: 対策履歴 | E25: 監視(日常巡視) | H25: 実施状況（実施日） | J25: 継続 | M25: 対策履歴 | P25: 監視(日常巡視) | S25: 実施状況（実施日） | U25: 継続
B26: メモ | E26: アーチ部(右側)にひび割れ沿いのうき。将来的に利用者に影響が及ぶ可能性があるため、重点的な監視及び計画的な対策を必要とする。 ※打音異常無し | M26: メモ | P26: アーチ部(右側)にひび割れ沿いのうき。将来的に利用者に影響が及ぶ可能性があるため、重点的な監視及び計画的な対策を必要とする。 ※打音異常無し
C27: ※ 応急措置後の対策区分について添付すること。また、点検前に 実施された措置によりⅠと判定された箇所も添付すること。 | N27: ※ 変状の発生範囲の規模とは、対策を行う際に参考となる変状の長さや面積をいう。
N28: ※ 応急措置を実施しないで決定した変状の対策区分は、対策区分の応急措置後の欄に記入すること。
C29: ※ たたき落としを実施した場合は、実施後の写真を添付すること。 | N29: ※ 変状の発生範囲の規模は、面積・寸法を記載すること。(ひび割れ幅のみmmとし、その他をm表記とする)
N30: ※ 構造用鋼材以外の異物に伴ううき・はく離については、メモ欄に異物の概要を記入すること。

Sheet 様式D-1-1 (18)
B2: ■定期点検記録様式 変状写真台帳【様式D-1-1】 | R2: 施設ID | T2: 34.10222,131.98036
B3: フリガナ | E3: ヒヨヂトンネル | H3: 路 線 名 | J3: 国道376号 | M3: 定期点検実施者 | P3: 株式会社 長大 | S3: 定期点検年月日 | U3: 45908
B4: 名 称 | E4: 桧余地トンネル | H4: 管理者名 | J4: 岩国土木建築事務所 | P4: 鷲尾 寛
B5: 写真 番号 | C5: 覆工スパン 番号 | E5: S009 | M5: 写真 番号 | N5: 覆工スパン 番号 | P5: S009
C6: 変状番号 | E6: 9 | N6: 変状番号 | P6: 10
B7: 変状 部位 | C7: 対象箇所 | E7: 覆工 | M7: 変状 部位 | N7: 対象箇所 | P7: 覆工
C8: 部位区分 | E8: アーチ（右側） | N8: 部位区分 | P8: アーチ（右側）
B9: 変状種類 | E9: うき・はく離 | M9: 変状種類 | P9: うき・はく離
B10: 対策 区分 | C10: 変状区分 | E10: 材質劣化 | M10: 対策 区分 | N10: 変状区分 | P10: 材質劣化
C11: 応急措置前 | N11: 応急措置前
C12: 応急措置後 | E12: Ⅱa | N12: 応急措置後 | P12: Ⅱa
B13: 変状の発生範囲及び規模 | E13: 0.01m2(0.05m×0.20m) | H13: 前回変状の発生範囲及び規模 | J13: 0.2m×0.1m (判定Ⅱb) | M13: 変状の発生範囲及び規模 | P13: 0.01m2(0.05m×0.20m) | S13: 前回変状の発生範囲及び規模 | U13: 0.2m×0.05m (判定Ⅱb)
B14: 対策履歴 | E14: 監視(日常巡視) | H14: 実施状況（実施日） | J14: 継続 | M14: 対策履歴 | P14: 監視(日常巡視) | S14: 実施状況（実施日） | U14: 継続
B15: メモ | E15: アーチ部(右側)にひび割れ沿いのうき。将来的に利用者に影響が及ぶ可能性があるため、重点的な監視及び計画的な対策を必要とする。 ※打音異常無し | M15: メモ | P15: アーチ部(右側)にひび割れ沿いのうき。将来的に利用者に影響が及ぶ可能性があるため、重点的な監視及び計画的な対策を必要とする。 ※打音異常無し
B16: 写真 番号 | C16: 覆工スパン 番号 | E16: S009 | M16: 写真 番号 | N16: 覆工スパン 番号 | P16: S009
C17: 変状番号 | E17: 11 | N17: 変状番号 | P17: 12
B18: 変状 部位 | C18: 対象箇所 | E18: 覆工 | M18: 変状 部位 | N18: 対象箇所 | P18: 覆工
C19: 部位区分 | E19: アーチ（右側） | N19: 部位区分 | P19: アーチ（天端）
B20: 変状種類 | E20: うき・はく離 | M20: 変状種類 | P20: 鋼材腐食
B21: 対策 区分 | C21: 変状区分 | E21: 材質劣化 | M21: 対策 区分 | N21: 変状区分 | P21: 材質劣化
C22: 応急措置前 | N22: 応急措置前
C23: 応急措置後 | E23: Ⅱa | N23: 応急措置後 | P23: Ⅱb
B24: 変状の発生範囲及び規模 | E24: 0.01m2(0.05m×0.15m) | H24: 前回変状の発生範囲及び規模 | J24: 0.15m×0.05m (判定Ⅱb) | M24: 変状の発生範囲及び規模 | P24: 0.06m2(1.10m×0.05m) | S24: 前回変状の発生範囲及び規模 | U24: 0.45m×0.05m (判定Ⅱb)
B25: 対策履歴 | E25: 監視(日常巡視) | H25: 実施状況（実施日） | J25: 継続 | M25: 対策履歴 | P25: 監視(日常巡視) | S25: 実施状況（実施日） | U25: 継続
B26: メモ | E26: アーチ部(右側)にひび割れ沿いのうき。将来的に利用者に影響が及ぶ可能性があるため、重点的な監視及び計画的な対策を必要とする。 ※打音異常無し | M26: メモ | P26: アーチ部(天端)に鋼材露出。範囲拡大。現状で利用者被害の可能性は低いため、監視にとどめる。
C27: ※ 応急措置後の対策区分について添付すること。また、点検前に 実施された措置によりⅠと判定された箇所も添付すること。 | N27: ※ 変状の発生範囲の規模とは、対策を行う際に参考となる変状の長さや面積をいう。
N28: ※ 応急措置を実施しないで決定した変状の対策区分は、対策区分の応急措置後の欄に記入すること。
C29: ※ たたき落としを実施した場合は、実施後の写真を添付すること。 | N29: ※ 変状の発生範囲の規模は、面積・寸法を記載すること。(ひび割れ幅のみmmとし、その他をm表記とする)
N30: ※ 構造用鋼材以外の異物に伴ううき・はく離については、メモ欄に異物の概要を記入すること。

Sheet 様式D-1-1 (19)
B2: ■定期点検記録様式 変状写真台帳【様式D-1-1】 | R2: 施設ID | T2: 34.10222,131.98036
B3: フリガナ | E3: ヒヨヂトンネル | H3: 路 線 名 | J3: 国道376号 | M3: 定期点検実施者 | P3: 株式会社 長大 | S3: 定期点検年月日 | U3: 45908
B4: 名 称 | E4: 桧余地トンネル | H4: 管理者名 | J4: 岩国土木建築事務所 | P4: 鷲尾 寛
B5: 写真 番号 | C5: 覆工スパン 番号 | E5: S009 | M5: 写真 番号 | N5: 覆工スパン 番号 | P5: S009
C6: 変状番号 | E6: 15 | N6: 変状番号 | P6: 21
B7: 変状 部位 | C7: 対象箇所 | E7: 覆工 | M7: 変状 部位 | N7: 対象箇所 | P7: 覆工
C8: 部位区分 | E8: アーチ（右側） | N8: 部位区分 | P8: 水平打ち継ぎ目（左側）
B9: 変状種類 | E9: 圧ざ、ひび割れ | M9: 変状種類 | P9: うき・はく離
B10: 対策 区分 | C10: 変状区分 | E10: 材質劣化 | M10: 対策 区分 | N10: 変状区分 | P10: 材質劣化
C11: 応急措置前 | N11: 応急措置前
C12: 応急措置後 | E12: Ⅱb | N12: 応急措置後 | P12: Ⅱb
B13: 変状の発生範囲及び規模 | E13: 0.07m2(長さ0.7m×幅1.0m) | H13: 前回変状の発生範囲及び規模 | J13: 1.0mm,L=0.7m (判定Ⅱb) | M13: 変状の発生範囲及び規模 | P13: 0.10m×1.10m、他2箇所 | S13: 前回変状の発生範囲及び規模 | U13: 5.7m×0.1m (判定Ⅱa)
B14: 対策履歴 | E14: 監視(日常巡視) | H14: 実施状況（実施日） | J14: 継続 | M14: 対策履歴 | P14: － | S14: 実施状況（実施日） | U14: －
B15: メモ | E15: アーチ部(右側)に横断方向のひび割れ。現状で利用者被害の可能性は低いため、監視にとどめる。 | M15: メモ | P15: 水平打ち継ぎ目(左側)沿いにうき。現状で利用者被害の可能性は低いため、監視にとどめる。 ※打音異常無し
B16: 写真 番号 | C16: 覆工スパン 番号 | E16: S009 | M16: 写真 番号 | N16: 覆工スパン 番号 | P16: S010
C17: 変状番号 | E17: 22 | N17: 変状番号 | P17: 1
B18: 変状 部位 | C18: 対象箇所 | E18: 覆工 | M18: 変状 部位 | N18: 対象箇所 | P18: 覆工
C19: 部位区分 | E19: 水平打ち継ぎ目（右側） | N19: 部位区分 | P19: アーチ（天端）
B20: 変状種類 | E20: うき・はく離 | M20: 変状種類 | P20: 圧ざ、ひび割れ
B21: 対策 区分 | C21: 変状区分 | E21: 材質劣化 | M21: 対策 区分 | N21: 変状区分 | P21: 材質劣化
C22: 応急措置前 | N22: 応急措置前
C23: 応急措置後 | E23: Ⅱb | N23: 応急措置後 | P23: Ⅱb
B24: 変状の発生範囲及び規模 | E24: 0.57m2(0.10m×5.70m) | H24: 前回変状の発生範囲及び規模 | J24: 5.7m×0.1m (判定Ⅱa) | M24: 変状の発生範囲及び規模 | P24: 0.60m2(長さ6.0m×幅0.80m) | S24: 前回変状の発生範囲及び規模 | U24: 0.75mm,L=5.8m (判定Ⅱb)
B25: 対策履歴 | E25: － | H25: 実施状況（実施日） | J25: － | M25: 対策履歴 | P25: 監視(日常巡視) | S25: 実施状況（実施日） | U25: 継続
B26: メモ | E26: 水平打ち継ぎ目(右側)沿いにうき。現状で利用者被害の可能性は低いため、監視にとどめる。 ※打音異常無し | M26: メモ | P26: アーチ部(天端)に縦断方向のひび割れ。現状で利用者被害の可能性は低いため、監視にとどめる。
C27: ※ 応急措置後の対策区分について添付すること。また、点検前に 実施された措置によりⅠと判定された箇所も添付すること。 | N27: ※ 変状の発生範囲の規模とは、対策を行う際に参考となる変状の長さや面積をいう。
N28: ※ 応急措置を実施しないで決定した変状の対策区分は、対策区分の応急措置後の欄に記入すること。
C29: ※ たたき落としを実施した場合は、実施後の写真を添付すること。 | N29: ※ 変状の発生範囲の規模は、面積・寸法を記載すること。(ひび割れ幅のみmmとし、その他をm表記とする)
N30: ※ 構造用鋼材以外の異物に伴ううき・はく離については、メモ欄に異物の概要を記入すること。

Sheet 様式D-1-1 (20)
B2: ■定期点検記録様式 変状写真台帳【様式D-1-1】 | R2: 施設ID | T2: 34.10222,131.98036
B3: フリガナ | E3: ヒヨヂトンネル | H3: 路 線 名 | J3: 国道376号 | M3: 定期点検実施者 | P3: 株式会社 長大 | S3: 定期点検年月日 | U3: 45908
B4: 名 称 | E4: 桧余地トンネル | H4: 管理者名 | J4: 岩国土木建築事務所 | P4: 鷲尾 寛
B5: 写真 番号 | C5: 覆工スパン 番号 | E5: S010 | M5: 写真 番号 | N5: 覆工スパン 番号 | P5: S010
C6: 変状番号 | E6: 4 | N6: 変状番号 | P6: 5
B7: 変状 部位 | C7: 対象箇所 | E7: 覆工 | M7: 変状 部位 | N7: 対象箇所 | P7: 覆工
C8: 部位区分 | E8: 横断目地（左側） | N8: 部位区分 | P8: 横断目地（天端）
B9: 変状種類 | E9: うき・はく離 | M9: 変状種類 | P9: うき・はく離
B10: 対策 区分 | C10: 変状区分 | E10: 材質劣化 | M10: 対策 区分 | N10: 変状区分 | P10: 材質劣化
C11: 応急措置前 | N11: 応急措置前
C12: 応急措置後 | E12: Ⅱb | N12: 応急措置後 | P12: Ⅱa
B13: 変状の発生範囲及び規模 | E13: 0.01m2(0.20m×0.05m) | H13: 前回変状の発生範囲及び規模 | J13: 0.05m×0.2m (判定Ⅱb) | M13: 変状の発生範囲及び規模 | P13: 0.02m2(0.05m×0.30m) | S13: 前回変状の発生範囲及び規模 | U13: 0.05m×0.3m (判定Ⅱb)
B14: 対策履歴 | E14: 監視(日常巡視) | H14: 実施状況（実施日） | J14: 継続 | M14: 対策履歴 | P14: 監視(日常巡視) | S14: 実施状況（実施日） | U14: 継続
B15: メモ | E15: 横断目地部(アーチ左側)にはく落。現状で利用者被害の可能性は低いため、監視にとどめる。 ※打音異常無し | M15: メモ | P15: 横断目地部(天端)にうき。将来的に利用者に影響が及ぶ可能性があるため、重点的な監視及び計画的な対策を必要とする。 ※打音異常無し
B16: 写真 番号 | C16: 覆工スパン 番号 | E16: S010 | M16: 写真 番号 | N16: 覆工スパン 番号 | P16: S010
C17: 変状番号 | E17: 7 | N17: 変状番号 | P17: 8
B18: 変状 部位 | C18: 対象箇所 | E18: 覆工 | M18: 変状 部位 | N18: 対象箇所 | P18: 覆工
C19: 部位区分 | E19: 水平打ち継ぎ目（左側） | N19: 部位区分 | P19: 水平打ち継ぎ目（右側）
B20: 変状種類 | E20: うき・はく離 | M20: 変状種類 | P20: うき・はく離
B21: 対策 区分 | C21: 変状区分 | E21: 材質劣化 | M21: 対策 区分 | N21: 変状区分 | P21: 材質劣化
C22: 応急措置前 | N22: 応急措置前
C23: 応急措置後 | E23: Ⅱb | N23: 応急措置後 | P23: Ⅱb
B24: 変状の発生範囲及び規模 | E24: 0.02m2(0.10m×0.20m) | H24: 前回変状の発生範囲及び規模 | J24: 5.8m×0.1m (判定Ⅱa) | M24: 変状の発生範囲及び規模 | P24: 0.58m2(0.10m×5.80m) | S24: 前回変状の発生範囲及び規模 | U24: 5.8m×0.1m (判定Ⅱa)
B25: 対策履歴 | E25: － | H25: 実施状況（実施日） | J25: － | M25: 対策履歴 | P25: － | S25: 実施状況（実施日） | U25: －
B26: メモ | E26: 水平打ち継ぎ目(左側)沿いにうき。現状で利用者被害の可能性は低いため、監視にとどめる。 ※打音異常無し | M26: メモ | P26: 水平打ち継ぎ目(右側)沿いにうき。現状で利用者被害の可能性は低いため、監視にとどめる。 ※打音異常無し
C27: ※ 応急措置後の対策区分について添付すること。また、点検前に 実施された措置によりⅠと判定された箇所も添付すること。 | N27: ※ 変状の発生範囲の規模とは、対策を行う際に参考となる変状の長さや面積をいう。
N28: ※ 応急措置を実施しないで決定した変状の対策区分は、対策区分の応急措置後の欄に記入すること。
C29: ※ たたき落としを実施した場合は、実施後の写真を添付すること。 | N29: ※ 変状の発生範囲の規模は、面積・寸法を記載すること。(ひび割れ幅のみmmとし、その他をm表記とする)
N30: ※ 構造用鋼材以外の異物に伴ううき・はく離については、メモ欄に異物の概要を記入すること。

Sheet 様式D-1-1 (21)
B2: ■定期点検記録様式 変状写真台帳【様式D-1-1】 | R2: 施設ID | T2: 34.10222,131.98036
B3: フリガナ | E3: ヒヨヂトンネル | H3: 路 線 名 | J3: 国道376号 | M3: 定期点検実施者 | P3: 株式会社 長大 | S3: 定期点検年月日 | U3: 45908
B4: 名 称 | E4: 桧余地トンネル | H4: 管理者名 | J4: 岩国土木建築事務所 | P4: 鷲尾 寛
B5: 写真 番号 | C5: 覆工スパン 番号 | E5: S010 | M5: 写真 番号 | N5: 覆工スパン 番号 | P5: S010
C6: 変状番号 | E6: 9 | N6: 変状番号 | P6: 12
B7: 変状 部位 | C7: 対象箇所 | E7: 覆工 | M7: 変状 部位 | N7: 対象箇所 | P7: 覆工
C8: 部位区分 | E8: 側壁（右側） | N8: 部位区分 | P8: アーチ（左側）
B9: 変状種類 | E9: うき・はく離 | M9: 変状種類 | P9: うき・はく離
B10: 対策 区分 | C10: 変状区分 | E10: 材質劣化 | M10: 対策 区分 | N10: 変状区分 | P10: 材質劣化
C11: 応急措置前 | N11: 応急措置前
C12: 応急措置後 | E12: Ⅱb | N12: 応急措置後 | P12: Ⅱa
B13: 変状の発生範囲及び規模 | E13: 0.06m2(0.60m×0.10m) | H13: 前回変状の発生範囲及び規模 | J13: 0.1m×0.6m (判定Ⅱb) | M13: 変状の発生範囲及び規模 | P13: 0.01m2(0.10m×0.10m) | S13: 前回変状の発生範囲及び規模 | U13: 今回新規変状
B14: 対策履歴 | E14: 監視(日常巡視) | H14: 実施状況（実施日） | J14: 継続 | M14: 対策履歴 | P14: － | S14: 実施状況（実施日） | U14: －
B15: メモ | E15: 側壁部(右側)にうき。現状で利用者被害の可能性は低いため、監視にとどめる。 ※打音異常無し | M15: メモ | P15: アーチ部(左側)に補修跡うき。新たに発生。将来的に利用者に影響が及ぶ可能性があるため、重点的な監視及び計画的な対策を必要とする。 ※打音異常無し
B16: 写真 番号 | C16: 覆工スパン 番号 | E16: S011 | M16: 写真 番号 | N16: 覆工スパン 番号 | P16: S011
C17: 変状番号 | E17: 5 | N17: 変状番号 | P17: 9
B18: 変状 部位 | C18: 対象箇所 | E18: 覆工 | M18: 変状 部位 | N18: 対象箇所 | P18: 覆工
C19: 部位区分 | E19: アーチ（天端） | N19: 部位区分 | P19: 横断目地（左側）
B20: 変状種類 | E20: うき・はく離 | M20: 変状種類 | P20: うき・はく離
B21: 対策 区分 | C21: 変状区分 | E21: 材質劣化 | M21: 対策 区分 | N21: 変状区分 | P21: 材質劣化
C22: 応急措置前 | N22: 応急措置前
C23: 応急措置後 | E23: Ⅱa | N23: 応急措置後 | P23: Ⅱb
B24: 変状の発生範囲及び規模 | E24: 0.03m2(0.05m×0.50m) | H24: 前回変状の発生範囲及び規模 | J24: 0.5m×0.05m (判定Ⅱb) | M24: 変状の発生範囲及び規模 | P24: 0.01m2(0.10m×0.05m) | S24: 前回変状の発生範囲及び規模 | U24: 0.05m×0.1m (判定Ⅱb)
B25: 対策履歴 | E25: 監視(日常巡視) | H25: 実施状況（実施日） | J25: 継続 | M25: 対策履歴 | P25: 監視(日常巡視) | S25: 実施状況（実施日） | U25: 継続
B26: メモ | E26: アーチ部(天端)にひび割れ沿いのうき。将来的に利用者に影響が及ぶ可能性があるため、重点的な監視及び計画的な対策を必要とする。 ※打音異常無し | M26: メモ | P26: 横断目地部(側壁左側)にうき。現状で利用者被害の可能性は低いため、監視にとどめる。 ※打音異常無し
C27: ※ 応急措置後の対策区分について添付すること。また、点検前に 実施された措置によりⅠと判定された箇所も添付すること。 | N27: ※ 変状の発生範囲の規模とは、対策を行う際に参考となる変状の長さや面積をいう。
N28: ※ 応急措置を実施しないで決定した変状の対策区分は、対策区分の応急措置後の欄に記入すること。
C29: ※ たたき落としを実施した場合は、実施後の写真を添付すること。 | N29: ※ 変状の発生範囲の規模は、面積・寸法を記載すること。(ひび割れ幅のみmmとし、その他をm表記とする)
N30: ※ 構造用鋼材以外の異物に伴ううき・はく離については、メモ欄に異物の概要を記入すること。

Sheet 様式D-1-1 (22)
B2: ■定期点検記録様式 変状写真台帳【様式D-1-1】 | R2: 施設ID | T2: 34.10222,131.98036
B3: フリガナ | E3: ヒヨヂトンネル | H3: 路 線 名 | J3: 国道376号 | M3: 定期点検実施者 | P3: 株式会社 長大 | S3: 定期点検年月日 | U3: 45908
B4: 名 称 | E4: 桧余地トンネル | H4: 管理者名 | J4: 岩国土木建築事務所 | P4: 鷲尾 寛
B5: 写真 番号 | C5: 覆工スパン 番号 | E5: S011 | M5: 写真 番号 | N5: 覆工スパン 番号 | P5: S011
C6: 変状番号 | E6: 11 | N6: 変状番号 | P6: 12
B7: 変状 部位 | C7: 対象箇所 | E7: 覆工 | M7: 変状 部位 | N7: 対象箇所 | P7: 覆工
C8: 部位区分 | E8: 水平打ち継ぎ目（左側） | N8: 部位区分 | P8: 水平打ち継ぎ目（右側）
B9: 変状種類 | E9: うき・はく離 | M9: 変状種類 | P9: うき・はく離
B10: 対策 区分 | C10: 変状区分 | E10: 材質劣化 | M10: 対策 区分 | N10: 変状区分 | P10: 材質劣化
C11: 応急措置前 | N11: 応急措置前
C12: 応急措置後 | E12: Ⅱb | N12: 応急措置後 | P12: Ⅱb
B13: 変状の発生範囲及び規模 | E13: 0.15m2(0.10m×1.50m) | H13: 前回変状の発生範囲及び規模 | J13: 5.8m×0.1m (判定Ⅱa) | M13: 変状の発生範囲及び規模 | P13: 0.58m2(0.10m×5.80m) | S13: 前回変状の発生範囲及び規模 | U13: 5.8m×0.1m (判定Ⅱa)
B14: 対策履歴 | E14: － | H14: 実施状況（実施日） | J14: － | M14: 対策履歴 | P14: － | S14: 実施状況（実施日） | U14: －
B15: メモ | E15: 水平打ち継ぎ目(左側)沿いにうき。現状で利用者被害の可能性は低いため、監視にとどめる。 ※打音異常無し | M15: メモ | P15: 水平打ち継ぎ目(右側)沿いにうき。現状で利用者被害の可能性は低いため、監視にとどめる。 ※打音異常無し
B16: 写真 番号 | C16: 覆工スパン 番号 | E16: S012 | M16: 写真 番号 | N16: 覆工スパン 番号 | P16: S012
C17: 変状番号 | E17: 4 | N17: 変状番号 | P17: 10
B18: 変状 部位 | C18: 対象箇所 | E18: 覆工 | M18: 変状 部位 | N18: 対象箇所 | P18: 覆工
C19: 部位区分 | E19: 横断目地（天端） | N19: 部位区分 | P19: 横断目地（右側）
B20: 変状種類 | E20: うき・はく離 | M20: 変状種類 | P20: うき・はく離
B21: 対策 区分 | C21: 変状区分 | E21: 材質劣化 | M21: 対策 区分 | N21: 変状区分 | P21: 材質劣化
C22: 応急措置前 | N22: 応急措置前
C23: 応急措置後 | E23: Ⅱb | N23: 応急措置後 | P23: Ⅱb
B24: 変状の発生範囲及び規模 | E24: 0.03m2(0.60m×0.05m) | H24: 前回変状の発生範囲及び規模 | J24: 0.05m×0.6m (判定Ⅱb) | M24: 変状の発生範囲及び規模 | P24: 0.01m2(0.05m×0.05m) | S24: 前回変状の発生範囲及び規模 | U24: 0.05m×0.05m (判定Ⅱb)
B25: 対策履歴 | E25: 監視(日常巡視) | H25: 実施状況（実施日） | J25: 継続 | M25: 対策履歴 | P25: 監視(日常巡視) | S25: 実施状況（実施日） | U25: 継続
B26: メモ | E26: 横断目地部(天端)にはく落。現状で利用者被害の可能性は低いため、監視にとどめる。 ※打音異常無し | M26: メモ | P26: 横断目地部(アーチ右側)にはく落。現状で利用者被害の可能性は低いため、監視にとどめる。 ※打音異常無し
C27: ※ 応急措置後の対策区分について添付すること。また、点検前に 実施された措置によりⅠと判定された箇所も添付すること。 | N27: ※ 変状の発生範囲の規模とは、対策を行う際に参考となる変状の長さや面積をいう。
N28: ※ 応急措置を実施しないで決定した変状の対策区分は、対策区分の応急措置後の欄に記入すること。
C29: ※ たたき落としを実施した場合は、実施後の写真を添付すること。 | N29: ※ 変状の発生範囲の規模は、面積・寸法を記載すること。(ひび割れ幅のみmmとし、その他をm表記とする)
N30: ※ 構造用鋼材以外の異物に伴ううき・はく離については、メモ欄に異物の概要を記入すること。

Sheet 様式D-1-1 (23)
B2: ■定期点検記録様式 変状写真台帳【様式D-1-1】 | R2: 施設ID | T2: 34.10222,131.98036
B3: フリガナ | E3: ヒヨヂトンネル | H3: 路 線 名 | J3: 国道376号 | M3: 定期点検実施者 | P3: 株式会社 長大 | S3: 定期点検年月日 | U3: 45908
B4: 名 称 | E4: 桧余地トンネル | H4: 管理者名 | J4: 岩国土木建築事務所 | P4: 鷲尾 寛
B5: 写真 番号 | C5: 覆工スパン 番号 | E5: S012 | M5: 写真 番号 | N5: 覆工スパン 番号 | P5: S012
C6: 変状番号 | E6: 11 | N6: 変状番号 | P6: 12
B7: 変状 部位 | C7: 対象箇所 | E7: 覆工 | M7: 変状 部位 | N7: 対象箇所 | P7: 覆工
C8: 部位区分 | E8: 横断目地（左側） | N8: 部位区分 | P8: 水平打ち継ぎ目（左側）
B9: 変状種類 | E9: うき・はく離 | M9: 変状種類 | P9: うき・はく離
B10: 対策 区分 | C10: 変状区分 | E10: 材質劣化 | M10: 対策 区分 | N10: 変状区分 | P10: 材質劣化
C11: 応急措置前 | N11: 応急措置前
C12: 応急措置後 | E12: Ⅱb | N12: 応急措置後 | P12: Ⅱb
B13: 変状の発生範囲及び規模 | E13: 0.19m2(0.30m×0.05m) | H13: 前回変状の発生範囲及び規模 | J13: 0.05m×0.3m (判定Ⅱa) | M13: 変状の発生範囲及び規模 | P13: 0.17m2(0.10m×1.70m) | S13: 前回変状の発生範囲及び規模 | U13: 5.8m×0.1m (判定Ⅱa)
B14: 対策履歴 | E14: － | H14: 実施状況（実施日） | J14: － | M14: 対策履歴 | P14: － | S14: 実施状況（実施日） | U14: －
B15: メモ | E15: 横断目地部(側壁左側)にうき。現状で利用者被害の可能性は低いため、監視にとどめる。 ※打音異常無し | M15: メモ | P15: 水平打ち継ぎ目(左側)沿いにうき。現状で利用者被害の可能性は低いため、監視にとどめる。 ※打音異常無し
B16: 写真 番号 | C16: 覆工スパン 番号 | E16: S012 | M16: 写真 番号 | N16: 覆工スパン 番号 | P16: S012
C17: 変状番号 | E17: 13 | N17: 変状番号 | P17: 14
B18: 変状 部位 | C18: 対象箇所 | E18: 覆工 | M18: 変状 部位 | N18: 対象箇所 | P18: 覆工
C19: 部位区分 | E19: 水平打ち継ぎ目（右側） | N19: 部位区分 | P19: 側壁（右側）
B20: 変状種類 | E20: うき・はく離 | M20: 変状種類 | P20: うき・はく離
B21: 対策 区分 | C21: 変状区分 | E21: 材質劣化 | M21: 対策 区分 | N21: 変状区分 | P21: 材質劣化
C22: 応急措置前 | N22: 応急措置前
C23: 応急措置後 | E23: Ⅱb | N23: 応急措置後 | P23: Ⅱb
B24: 変状の発生範囲及び規模 | E24: 0.58m2(0.10m×5.80m) | H24: 前回変状の発生範囲及び規模 | J24: 5.8m×0.1m (判定Ⅱa) | M24: 変状の発生範囲及び規模 | P24: 0.02m2(0.40m×0.05m) | S24: 前回変状の発生範囲及び規模 | U24: 0.05m×0.4m (判定Ⅱa)
B25: 対策履歴 | E25: － | H25: 実施状況（実施日） | J25: － | M25: 対策履歴 | P25: － | S25: 実施状況（実施日） | U25: －
B26: メモ | E26: 水平打ち継ぎ目(右側)沿いにうき。現状で利用者被害の可能性は低いため、監視にとどめる。 ※打音異常無し | M26: メモ | P26: 側壁部(右側)にうき。現状で利用者被害の可能性は低いため、監視にとどめる。 ※打音異常無し
C27: ※ 応急措置後の対策区分について添付すること。また、点検前に 実施された措置によりⅠと判定された箇所も添付すること。 | N27: ※ 変状の発生範囲の規模とは、対策を行う際に参考となる変状の長さや面積をいう。
N28: ※ 応急措置を実施しないで決定した変状の対策区分は、対策区分の応急措置後の欄に記入すること。
C29: ※ たたき落としを実施した場合は、実施後の写真を添付すること。 | N29: ※ 変状の発生範囲の規模は、面積・寸法を記載すること。(ひび割れ幅のみmmとし、その他をm表記とする)
N30: ※ 構造用鋼材以外の異物に伴ううき・はく離については、メモ欄に異物の概要を記入すること。

Sheet 様式D-1-1 (24)
B2: ■定期点検記録様式 変状写真台帳【様式D-1-1】 | R2: 施設ID | T2: 34.10222,131.98036
B3: フリガナ | E3: ヒヨヂトンネル | H3: 路 線 名 | J3: 国道376号 | M3: 定期点検実施者 | P3: 株式会社 長大 | S3: 定期点検年月日 | U3: 45908
B4: 名 称 | E4: 桧余地トンネル | H4: 管理者名 | J4: 岩国土木建築事務所 | P4: 鷲尾 寛
B5: 写真 番号 | C5: 覆工スパン 番号 | E5: S013 | M5: 写真 番号 | N5: 覆工スパン 番号 | P5: S013
C6: 変状番号 | E6: 5 | N6: 変状番号 | P6: 10
B7: 変状 部位 | C7: 対象箇所 | E7: 覆工 | M7: 変状 部位 | N7: 対象箇所 | P7: 覆工
C8: 部位区分 | E8: アーチ（天端） | N8: 部位区分 | P8: 水平打ち継ぎ目（左側）
B9: 変状種類 | E9: 圧ざ、ひび割れ | M9: 変状種類 | P9: うき・はく離
B10: 対策 区分 | C10: 変状区分 | E10: 材質劣化 | M10: 対策 区分 | N10: 変状区分 | P10: 材質劣化
C11: 応急措置前 | N11: 応急措置前
C12: 応急措置後 | E12: Ⅱb | N12: 応急措置後 | P12: Ⅱb
B13: 変状の発生範囲及び規模 | E13: 0.17m2(長さ1.6m×幅0.30m) | H13: 前回変状の発生範囲及び規模 | J13: 0.45mm,L=1.7m (判定Ⅱb) | M13: 変状の発生範囲及び規模 | P13: 0.28m2(0.10m×2.80m) | S13: 前回変状の発生範囲及び規模 | U13: 3.2m×0.1m (判定Ⅱa)
B14: 対策履歴 | E14: 監視(日常巡視) | H14: 実施状況（実施日） | J14: 継続 | M14: 対策履歴 | P14: － | S14: 実施状況（実施日） | U14: －
B15: メモ | E15: アーチ部(天端)に縦断方向のひび割れ。現状で利用者被害の可能性は低いため、監視にとどめる。 | M15: メモ | P15: 水平打ち継ぎ目(左側)沿いにうき。現状で利用者被害の可能性は低いため、監視にとどめる。 ※打音異常無し
B16: 写真 番号 | C16: 覆工スパン 番号 | E16: S013 | M16: 写真 番号 | N16: 覆工スパン 番号 | P16: PE
C17: 変状番号 | E17: 11 | N17: 変状番号 | P17: 3
B18: 変状 部位 | C18: 対象箇所 | E18: 覆工 | M18: 変状 部位 | N18: 対象箇所 | P18: 坑門
C19: 部位区分 | E19: 水平打ち継ぎ目（右側） | N19: 部位区分 | P19: 面壁・妻壁等
B20: 変状種類 | E20: うき・はく離 | M20: 変状種類 | P20: 圧ざ、ひび割れ
B21: 対策 区分 | C21: 変状区分 | E21: 材質劣化 | M21: 対策 区分 | N21: 変状区分 | P21: 材質劣化
C22: 応急措置前 | N22: 応急措置前
C23: 応急措置後 | E23: Ⅱb | N23: 応急措置後 | P23: Ⅱb
B24: 変状の発生範囲及び規模 | E24: 0.32m2(0.10m×3.20m) | H24: 前回変状の発生範囲及び規模 | J24: 3.2m×0.1m (判定Ⅱa) | M24: 変状の発生範囲及び規模 | P24: 0.06m2(長さ0.6m×幅0.20m) | S24: 前回変状の発生範囲及び規模 | U24: 0.3mm,L=0.25m (判定Ⅱb)
B25: 対策履歴 | E25: － | H25: 実施状況（実施日） | J25: － | M25: 対策履歴 | P25: 監視(日常巡視) | S25: 実施状況（実施日） | U25: 継続
B26: メモ | E26: 水平打ち継ぎ目(右側)沿いにうき。現状で利用者被害の可能性は低いため、監視にとどめる。 ※打音異常無し | M26: メモ | P26: 面壁に鉛直方向のひび割れ。延伸。現状で利用者被害の可能性は低いため、監視にとどめる。
C27: ※ 応急措置後の対策区分について添付すること。また、点検前に 実施された措置によりⅠと判定された箇所も添付すること。 | N27: ※ 変状の発生範囲の規模とは、対策を行う際に参考となる変状の長さや面積をいう。
N28: ※ 応急措置を実施しないで決定した変状の対策区分は、対策区分の応急措置後の欄に記入すること。
C29: ※ たたき落としを実施した場合は、実施後の写真を添付すること。 | N29: ※ 変状の発生範囲の規模は、面積・寸法を記載すること。(ひび割れ幅のみmmとし、その他をm表記とする)
N30: ※ 構造用鋼材以外の異物に伴ううき・はく離については、メモ欄に異物の概要を記入すること。

Sheet 様式D-1-2
B2: ■定期点検記録様式 異常写真台帳（トンネル内附属物等の取付状態） 【様式D-1-2】
B3: フリガナ | E3: ヒヨヂトンネル | I3: 路 線 名 | L3: 国道376号 | O3: 定期点検実施者 | R3: 株式会社 長大 | U3: 定期点検年月日 | W3: 45908
B4: 名 称 | E4: 桧余地トンネル | I4: 管理者名 | L4: 岩国土木建築事務所 | R4: 鷲尾 寛
B5: 覆工スパン番号 | E5: S001 | F5: 異常番号 | I5: 1 | J5: 覆工スパン番号 | N5: 異常番号 | R5: 覆工スパン番号 | V5: 異常番号
B6: 対象箇所 | D6: その他施設 | E6: その他 | J6: 対象箇所 | R6: 対象箇所
B7: 部位区分 | D7: 附属物本体 | F7: 異常の種類 | H7: 緩み、脱落 | J7: 部位区分 | N7: 異常の種類 | R7: 部位区分 | V7: 異常の種類
B8: 異常判定区分 | D8: × | E8: メモ | F8: 反射材脱落 | J8: 異常判定区分 | M8: メモ | R8: 異常判定区分 | U8: メモ
B22: 覆工スパン番号 | F22: 異常番号 | J22: 覆工スパン番号 | N22: 異常番号 | R22: 覆工スパン番号 | V22: 異常番号
B23: 対象箇所 | J23: 対象箇所 | R23: 対象箇所
B24: 部位区分 | F24: 異常の種類 | J24: 部位区分 | N24: 異常の種類 | R24: 部位区分 | V24: 異常の種類
B25: 異常判定区分 | E25: メモ | J25: 異常判定区分 | M25: メモ | R25: 異常判定区分 | U25: メモ
C39: ※ 異常判定区分×について記入すること。また、応急措置前に異常判定区分×とした箇所のうち応急措置により○と判定した箇所も記入すること。
C40: ※ 応急措置を実施した場合は、その実施状況が分かる写真を添付すること。
C41: ※ 変状数に準じてシートを追加すること。

Sheet 様式D-2-1 (1)
B3: ■定期点検記録様式 トンネル全体変状展開図 【様式D-2-1】
B4: フリガナ | E4: ヒヨヂトンネル | J4: 路線名 | M4: 国道376号 | S4: 定期点検実施者 | W4: 株式会社 長大 | AC4: 定期点検年月日 | AF4: 45908
B5: 名 称 | E5: 桧余地トンネル | J5: 管理者名 | M5: 岩国土木建築事務所 | W5: 鷲尾 寛
B6: トンネル変状展開図 | C6: トンネル全体変状展開図
V18: 注１：本展開図は、見下げた状態で記載すること。 注２：覆工スパン番号は横断目地毎（矢板工法の場合は上半アーチ の横断目地毎)に設定すること。 注３：横断目地の変状は前の覆工スパン番号で計上すること。 注４：１枚に収まらない場合は、複数枚に分けて作成すること。

Sheet 様式D-2-1 (2)
B3: ■定期点検記録様式 トンネル全体変状展開図 【様式D-2-1】
B4: フリガナ | E4: ヒヨヂトンネル | J4: 路線名 | M4: 国道376号 | S4: 定期点検実施者 | W4: 株式会社 長大 | AC4: 定期点検年月日 | AF4: 45908
B5: 名 称 | E5: 桧余地トンネル | J5: 管理者名 | M5: 岩国土木建築事務所 | W5: 鷲尾 寛
B6: トンネル変状展開図 | C6: トンネル全体変状展開図
V18: 注１：本展開図は、見下げた状態で記載すること。 注２：覆工スパン番号は横断目地毎（矢板工法の場合は上半アーチ の横断目地毎)に設定すること。 注３：横断目地の変状は前の覆工スパン番号で計上すること。 注４：１枚に収まらない場合は、複数枚に分けて作成すること。

Sheet 様式D-2-1´ (1)
B3: ■定期点検記録様式 トンネル全体変状展開図（機器の活用時） 【様式D-2-1’】
B4: フリガナ | E4: ヒヨヂトンネル | J4: 路線名 | M4: 国道376号 | S4: 定期点検実施者 | W4: 株式会社 長大 | AC4: 定期点検年月日 | AF4: 45908
B5: 名 称 | E5: 桧余地トンネル | J5: 管理者名 | M5: 岩国土木建築事務所 | W5: 鷲尾 寛
B6: トンネル変状展開図 | C6: トンネル全体変状展開図
V18: 注１：本展開図は、見下げた状態で記載すること。 注２：覆工スパン番号は横断目地毎（矢板工法の場合は上半アーチ の横断目地毎)に設定すること。 注３：横断目地の変状は前の覆工スパン番号で計上すること。 注４：１枚に収まらない場合は、複数枚に分けて作成すること。

Sheet 様式D-2-1´ (2)
B3: ■定期点検記録様式 トンネル全体変状展開図（機器の活用時） 【様式D-2-1’】
B4: フリガナ | E4: ヒヨヂトンネル | J4: 路線名 | M4: 国道376号 | S4: 定期点検実施者 | W4: 株式会社 長大 | AC4: 定期点検年月日 | AF4: 45908
B5: 名 称 | E5: 桧余地トンネル | J5: 管理者名 | M5: 岩国土木建築事務所 | W5: 鷲尾 寛
B6: トンネル変状展開図 | C6: トンネル全体変状展開図
V18: 注１：本展開図は、見下げた状態で記載すること。 注２：覆工スパン番号は横断目地毎（矢板工法の場合は上半アーチ の横断目地毎)に設定すること。 注３：横断目地の変状は前の覆工スパン番号で計上すること。 注４：１枚に収まらない場合は、複数枚に分けて作成すること。

Sheet 様式D-3_PS
AU1: 様式F用→ | AV1: 覆工スパン | AY1: 変 状 数 | BK1: 変 状 規 模
AV2: 番号 | AW2: 延長 （ｍ） | AX2: 健全性の診断の 区分 | AY2: 対策区分の判定 | BK2: 覆工スパン長（ｍ） | BO2: 変状の発生範囲の規模（㎡）
B3: ■定期点検記録様式 覆工スパン別変状詳細展開図 【様式D-3】 | AY3: 外力 | BC3: 材質劣化 | BG3: 漏水 | BK3: 外力 注2 | BO3: 材質劣化 | BS3: 漏水
B4: フリガナ | E4: ヒヨヂトンネル | K4: 路線名 | N4: 国道376号 | T4: 定期点検実施者 | Y4: 株式会社 長大 | AG4: 定期点検年月日 | AK4: 45908 | AY4: Ⅳ | AZ4: Ⅲ | BA4: Ⅱa | BB4: Ⅱb | BC4: Ⅳ | BD4: Ⅲ | BE4: Ⅱa | BF4: Ⅱb | BG4: Ⅳ | BH4: Ⅲ | BI4: Ⅱa | BJ4: Ⅱb | BK4: Ⅳ | BL4: Ⅲ | BM4: Ⅱa | BN4: Ⅱb | BO4: Ⅳ | BP4: Ⅲ | BQ4: Ⅱa | BR4: Ⅱb | BS4: Ⅳ | BT4: Ⅲ | BU4: Ⅱa | BV4: Ⅱb
B5: 名 称 | E5: 桧余地トンネル | K5: 管理者名 | N5: 岩国土木建築事務所 | Y5: 鷲尾 寛 | AV5: =N7 -> PS | AW5: =R7 -> 0 | AX5: =AM35 -> Ⅱ | AY5: =IF(Y37>0,Y37,"") | AZ5: =IF(Y37>0,"",IF(Z37>0,Z37,"")) | BA5: =IF(Y37+Z37>0,"",IF(AA37>0,AA37,"")) | BB5: =IF(Y37+Z37+AA37>0,"",IF(AB37>0,AB37,"")) | BC5: =AC37 -> 0 | BD5: =AD37 -> 0 | BE5: =AE37 -> 0 | BF5: =AF37 -> 0 | BG5: =AG37 -> 0 | BH5: =AH37 -> 0 | BI5: =AI37 -> 0 | BJ5: =AJ37 -> 1 | BK5: =IF(Y37>0,R7,"") | BL5: =IF(Y37>0,"",IF(Z37>0,R7,"")) | BM5: =IF(Y37+Z37>0,"",IF(AA37>0,R7,"")) | BN5: =IF(Y37+Z37+AA37>0,"",IF(AB37>0,R7,"")) | BO5: =AC35 -> 0 | BP5: =AD35 -> 0 | BQ5: =AE35 -> 0 | BR5: =AF35 -> 0 | BS5: =AG35 -> 0 | BT5: =AH35 -> 0 | BU5: =AI35 -> 0 | BV5: =AJ35 -> 3.5
B6: スパン別変状展開図 | K6: 【健全性判定集計表】
K7: スパン番号 | N7: PS | P7: スパン長 | R7: 0 | U7: 前回定期点検時の判定 | W7: 応急措置前の判定 | Y7: 対策区分毎の 変状の有無 | AC7: 対策区分毎の変状の発生範囲の規模(㎡) | AK7: 備考注2
K8: 変状番号 | L8: 対象箇所 | N8: 部位区分 | P8: 変状区分 | R8: 変状種類
Y9: 外力注1 | AC9: 材質劣化注1 | AG9: 漏水注1
Y10: Ⅳ | Z10: Ⅲ | AA10: Ⅱa | AB10: Ⅱb | AC10: Ⅳ | AD10: Ⅲ | AE10: Ⅱa | AF10: Ⅱb | AG10: Ⅳ | AH10: Ⅲ | AI10: Ⅱa | AJ10: Ⅱb
K11: 2 | L11: 坑門 | N11: 面壁・妻壁等 | P11: 漏水 | R11: 漏水 | U11: Ⅱb | AJ11: 3.5 | AQ11: =IF(P11="材質劣化",2,IF(P11="漏水",3,1)) -> 3 | AS11: =IF(Y11<>"",1,"")
K12: 2 | AQ12: =IF(P12="材質劣化",2,IF(P12="漏水",3,1)) -> 1
K13: 3 | AQ13: =IF(P13="材質劣化",2,IF(P13="漏水",3,1)) -> 1
K14: 4 | AQ14: =IF(P14="材質劣化",2,IF(P14="漏水",3,1)) -> 1
K15: 5 | AQ15: =IF(P15="材質劣化",2,IF(P15="漏水",3,1)) -> 1
K16: 6 | AQ16: =IF(P16="材質劣化",2,IF(P16="漏水",3,1)) -> 1
K17: 7 | AQ17: =IF(P17="材質劣化",2,IF(P17="漏水",3,1)) -> 1
K18: 8 | AQ18: =IF(P18="材質劣化",2,IF(P18="漏水",3,1)) -> 1
K19: 9 | AQ19: =IF(P19="材質劣化",2,IF(P19="漏水",3,1)) -> 1
K20: 10 | AQ20: =IF(P20="材質劣化",2,IF(P20="漏水",3,1)) -> 1
K21: 11 | AQ21: =IF(P21="材質劣化",2,IF(P21="漏水",3,1)) -> 1
K22: 12 | AQ22: =IF(P22="材質劣化",2,IF(P22="漏水",3,1)) -> 1
K23: 13 | AQ23: =IF(P23="材質劣化",2,IF(P23="漏水",3,1)) -> 1
... K27: 17 | AQ27: =IF(P27="材質劣化",2,IF(P27="漏水",3,1)) -> 1
K28: 18 | AQ28: =IF(P30="材質劣化",2,IF(P30="漏水",3,1)) -> 1
K29: 19 | AQ29: =IF(P34="材質劣化",2,IF(P34="漏水",3,1)) -> 1
K30: 20 | AQ30: =IF(P30="材質劣化",2,IF(P30="漏水",3,1)) -> 1
K31: 21 | AQ31: =IF(P33="材質劣化",2,IF(P33="漏水",3,1)) -> 1
K32: 22 | AQ32: =IF(P37="材質劣化",2,IF(P37="漏水",3,1)) -> 1
K33: 23 | AQ33: =IF(P33="材質劣化",2,IF(P33="漏水",3,1)) -> 1
K34: 24 | AQ34: =IF(P36="材質劣化",2,IF(P36="漏水",3,1)) -> 1
K35: 集計 判定 診断 | L35: 変状の発生規模合計(㎡) | Y35: － | AC35: =SUM(AC11:AC34) -> 0 | AD35: =SUM(AD11:AD34) -> 0 | AE35: =SUM(AE11:AE34) -> 0 | AF35: =SUM(AF11:AF34) -> 0 | AG35: =SUM(AG11:AG34) -> 0 | AH35: =SUM(AH11:AH34) -> 0 | AI35: =SUM(AI11:AI34) -> 0 | AJ35: =SUM(AJ11:AJ34) -> 3.5 | AK35: 覆工スパン単位の 健全性の 診断の区分 | AM35: Ⅱ
L36: 対策区分の 判定結果 | O36: 対策区分毎の変状数注3 | Y36: Ⅳ | Z36: Ⅲ | AA36: Ⅱa | AB36: Ⅱb | AC36: Ⅳ | AD36: Ⅲ | AE36: Ⅱa | AF36: Ⅱb | AG36: Ⅳ | AH36: Ⅲ | AI36: Ⅱa | AJ36: Ⅱb
Y37: =IF(COUNTIF(Y11:Y34,"〇")>0,1,0) -> 0 | Z37: =IF(COUNTIF(Z11:Z34,"〇")>0,1,0) -> 0 | AA37: =IF(COUNTIF(AA11:AA34,"〇")>0,1,0) -> 0 | AB37: =IF(COUNTIF(AB11:AB34,"〇")>0,1,0) -> 0 | AC37: =COUNTA(AC11:AC34) -> 0 | AD37: =COUNTA(AD11:AD34) -> 0 | AE37: =COUNTA(AE11:AE34) -> 0 | AF37: =COUNTA(AF11:AF34) -> 0 | AG37: =COUNTA(AG11:AG34) -> 0 | AH37: =COUNTA(AH11:AH34) -> 0 | AI37: =COUNTA(AI11:AI34) -> 0 | AJ37: =COUNTA(AJ11:AJ34) -> 1 | AU37: =+Y37 -> 0
K39: 所見
K43: 注1：誤記入防止のため、当該変状区分以外のセルは灰色表示とすること。
K44: 注2：応急措置を実施した場合は、その詳細を備考に記載すること。
K45: 注3：外力は覆工スパン単位、材質劣化、漏水は変状単位とすること。
B46: （以下、印刷不要）
B47: ※1：本シートは作成洩れのないよう、変状が無くても全スパン分を作成すること．また変状展開図は、様式D-2-1、様式D-2-1'と同じものを覆工スパン単位で拡大し掲載すること。
B48: ※2：変状番号は、様式D-1-1で記入した番号と整合させること。
B49: ※3：対策区分毎の変状発生規模は、様式D-1-1に記載した面積を記入すること（ただし外力はスパン単位で評価するため変状の有無の欄には面積でなく○を記入し、備考欄に状況を記入）。
B50: ※4：本様式は覆工スパン毎に作成すること。
B51: ※5：変状数が多い場合は、適時、表の行を増やして覆工スパン毎に1枚のシートに収めること。また、1スパン１シートとし、スパンに合わせてシートを追加すること。
B52: ※6：対策区分毎の変状の発生範囲の規模とは，対策を行う際に参考となる変状の長さや面積であり，変状を包含する長さや面積とする。
B53: ※7：対策範囲を示す発生範囲の規模を面積で記入することが妥当ではない変状は、発生範囲の規模の欄に○を記入するとともに、備考に内容を記入すること。

Sheet 様式D-3_S001
AU1: 様式F用→ | AV1: 覆工スパン | AY1: 変 状 数 | BK1: 変 状 規 模
AV2: 番号 | AW2: 延長 （ｍ） | AX2: 健全性の診断の 区分 | AY2: 対策区分の判定 | BK2: 覆工スパン長（ｍ） | BO2: 変状の発生範囲の規模（㎡）
B3: ■定期点検記録様式 覆工スパン別変状詳細展開図 【様式D-3】 | AY3: 外力 | BC3: 材質劣化 | BG3: 漏水 | BK3: 外力 注2 | BO3: 材質劣化 | BS3: 漏水
B4: フリガナ | E4: ヒヨヂトンネル | K4: 路線名 | N4: 国道376号 | T4: 定期点検実施者 | Y4: 株式会社 長大 | AG4: 定期点検年月日 | AK4: 45908 | AY4: Ⅳ | AZ4: Ⅲ | BA4: Ⅱa | BB4: Ⅱb | BC4: Ⅳ | BD4: Ⅲ | BE4: Ⅱa | BF4: Ⅱb | BG4: Ⅳ | BH4: Ⅲ | BI4: Ⅱa | BJ4: Ⅱb | BK4: Ⅳ | BL4: Ⅲ | BM4: Ⅱa | BN4: Ⅱb | BO4: Ⅳ | BP4: Ⅲ | BQ4: Ⅱa | BR4: Ⅱb | BS4: Ⅳ | BT4: Ⅲ | BU4: Ⅱa | BV4: Ⅱb
B5: 名 称 | E5: 桧余地トンネル | K5: 管理者名 | N5: 岩国土木建築事務所 | Y5: 鷲尾 寛 | AV5: =N7 -> S001 | AW5: =R7 -> 8.6 | AX5: =AM35 -> Ⅱ | AY5: =IF(Y37>0,Y37,"") | AZ5: =IF(Y37>0,"",IF(Z37>0,Z37,"")) | BA5: =IF(Y37+Z37>0,"",IF(AA37>0,AA37,"")) | BB5: =IF(Y37+Z37+AA37>0,"",IF(AB37>0,AB37,"")) | BC5: =AC37 -> 0 | BD5: =AD37 -> 1 | BE5: =AE37 -> 3 | BF5: =AF37 -> 5 | BG5: =AG37 -> 0 | BH5: =AH37 -> 0 | BI5: =AI37 -> 0 | BJ5: =AJ37 -> 0 | BK5: =IF(Y37>0,R7,"") | BL5: =IF(Y37>0,"",IF(Z37>0,R7,"")) | BM5: =IF(Y37+Z37>0,"",IF(AA37>0,R7,"")) | BN5: =IF(Y37+Z37+AA37>0,"",IF(AB37>0,R7,"")) | BO5: =AC35 -> 0 | BP5: =AD35 -> 0.13 | BQ5: =AE35 -> 0.03 | BR5: =AF35 -> 2.11 | BS5: =AG35 -> 0 | BT5: =AH35 -> 0 | BU5: =AI35 -> 0 | BV5: =AJ35 -> 0
B6: スパン別変状展開図 | K6: 【健全性判定集計表】
K7: スパン番号 | N7: S001 | P7: スパン長 | R7: 8.6 | U7: 前回定期点検時の判定 | W7: 応急措置前の判定 | Y7: 対策区分毎の 変状の有無 | AC7: 対策区分毎の変状の発生範囲の規模(㎡) | AK7: 備考注2
K8: 変状番号 | L8: 対象箇所 | N8: 部位区分 | P8: 変状区分 | R8: 変状種類
Y9: 外力注1 | AC9: 材質劣化注1 | AG9: 漏水注1
Y10: Ⅳ | Z10: Ⅲ | AA10: Ⅱa | AB10: Ⅱb | AC10: Ⅳ | AD10: Ⅲ | AE10: Ⅱa | AF10: Ⅱb | AG10: Ⅳ | AH10: Ⅲ | AI10: Ⅱa | AJ10: Ⅱb
K11: 5 | L11: 覆工 | N11: アーチ（天端） | P11: 材質劣化 | R11: 圧ざ、ひび割れ | U11: Ⅱb | AF11: 0.6 | AQ11: =IF(P11="材質劣化",2,IF(P11="漏水",3,1)) -> 2 | AS11: =IF(Y11<>"",1,"")
K12: 13 | L12: 覆工 | N12: アーチ（天端） | P12: 材質劣化 | R12: うき・はく離 | U12: Ⅱb | AE12: 0.01 | AQ12: =IF(P12="材質劣化",2,IF(P12="漏水",3,1)) -> 2
K13: 14 | L13: 覆工 | N13: アーチ（左側） | P13: 材質劣化 | R13: 鋼材腐食 | U13: Ⅱb | AF13: 0.01 | AQ13: =IF(P13="材質劣化",2,IF(P13="漏水",3,1)) -> 2
K14: 15 | L14: 覆工 | N14: アーチ（天端） | P14: 材質劣化 | R14: 圧ざ、ひび割れ | U14: Ⅱb | AF14: 0.6 | AQ14: =IF(P14="材質劣化",2,IF(P14="漏水",3,1)) -> 2
K15: 25 | L15: 覆工 | N15: 水平打ち継ぎ目（左側） | P15: 材質劣化 | R15: うき・はく離 | U15: Ⅱa | AD15: 0.13 | AQ15: =IF(P15="材質劣化",2,IF(P15="漏水",3,1)) -> 2
K16: 26 | L16: 覆工 | N16: 水平打ち継ぎ目（右側） | P16: 材質劣化 | R16: うき・はく離 | U16: Ⅱa | AF16: 0.86 | AQ16: =IF(P16="材質劣化",2,IF(P16="漏水",3,1)) -> 2
K17: 27 | L17: 覆工 | N17: 水平打ち継ぎ目（右側） | P17: 材質劣化 | R17: うき・はく離 | U17: Ⅱb | AF17: 0.04 | AQ17: =IF(P17="材質劣化",2,IF(P17="漏水",3,1)) -> 2
K18: 30 | L18: 覆工 | N18: アーチ（左側） | P18: 材質劣化 | R18: うき・はく離 | U18: － | AE18: 0.01 | AQ18: =IF(P18="材質劣化",2,IF(P18="漏水",3,1)) -> 2
K19: 31 | L19: 覆工 | N19: アーチ（天端） | P19: 材質劣化 | R19: うき・はく離 | U19: － | AE19: 0.01 | AQ19: =IF(P19="材質劣化",2,IF(P19="漏水",3,1)) -> 2
K20: 10 | AQ20: =IF(P20="材質劣化",2,IF(P20="漏水",3,1)) -> 1
K21: 11 | AQ21: =IF(P21="材質劣化",2,IF(P21="漏水",3,1)) -> 1
K22: 12 | AQ22: =IF(P22="材質劣化",2,IF(P22="漏水",3,1)) -> 1
K23: 13 | AQ23: =IF(P23="材質劣化",2,IF(P23="漏水",3,1)) -> 1
K24: 14 | AQ24: =IF(P24="材質劣化",2,IF(P24="漏水",3,1)) -> 1
K25: 15 | AQ25: =IF(P25="材質劣化",2,IF(P25="漏水",3,1)) -> 1
K26: 16 | AQ26: =IF(P26="材質劣化",2,IF(P26="漏水",3,1)) -> 1
K27: 17 | AQ27: =IF(P27="材質劣化",2,IF(P27="漏水",3,1)) -> 1
K28: 18 | AQ28: =IF(P30="材質劣化",2,IF(P30="漏水",3,1)) -> 1
K29: 19 | AQ29: =IF(P34="材質劣化",2,IF(P34="漏水",3,1)) -> 1
K30: 20 | AQ30: =IF(P30="材質劣化",2,IF(P30="漏水",3,1)) -> 1
K31: 21 | AQ31: =IF(P33="材質劣化",2,IF(P33="漏水",3,1)) -> 1
K32: 22 | AQ32: =IF(P37="材質劣化",2,IF(P37="漏水",3,1)) -> 1
K33: 23 | AQ33: =IF(P33="材質劣化",2,IF(P33="漏水",3,1)) -> 1
K34: 24 | AQ34: =IF(P36="材質劣化",2,IF(P36="漏水",3,1)) -> 1
K35: 集計 判定 診断 | L35: 変状の発生規模合計(㎡) | Y35: － | AC35: =SUM(AC11:AC34) -> 0 | AD35: =SUM(AD11:AD34) -> 0.13 | AE35: =SUM(AE11:AE34) -> 0.03 | AF35: =SUM(AF11:AF34) -> 2.11 | AG35: =SUM(AG11:AG34) -> 0 | AH35: =SUM(AH11:AH34) -> 0 | AI35: =SUM(AI11:AI34) -> 0 | AJ35: =SUM(AJ11:AJ34) -> 0 | AK35: 覆工スパン単位の 健全性の 診断の区分 | AM35: Ⅱ
L36: 対策区分の 判定結果 | O36: 対策区分毎の変状数注3 | Y36: Ⅳ | Z36: Ⅲ | AA36: Ⅱa | AB36: Ⅱb | AC36: Ⅳ | AD36: Ⅲ | AE36: Ⅱa | AF36: Ⅱb | AG36: Ⅳ | AH36: Ⅲ | AI36: Ⅱa | AJ36: Ⅱb
Y37: =IF(COUNTIF(Y11:Y34,"〇")>0,1,0) -> 0 | Z37: =IF(COUNTIF(Z11:Z34,"〇")>0,1,0) -> 0 | AA37: =IF(COUNTIF(AA11:AA34,"〇")>0,1,0) -> 0 | AB37: =IF(COUNTIF(AB11:AB34,"〇")>0,1,0) -> 0 | AC37: =COUNTA(AC11:AC34) -> 0 | AD37: =COUNTA(AD11:AD34) -> 1 | AE37: =COUNTA(AE11:AE34) -> 3 | AF37: =COUNTA(AF11:AF34) -> 5 | AG37: =COUNTA(AG11:AG34) -> 0 | AH37: =COUNTA(AH11:AH34) -> 0 | AI37: =COUNTA(AI11:AI34) -> 0 | AJ37: =COUNTA(AJ11:AJ34) -> 0 | AU37: =+Y37 -> 0
K39: 所見
K43: 注1：誤記入防止のため、当該変状区分以外のセルは灰色表示とすること。
K44: 注2：応急措置を実施した場合は、その詳細を備考に記載すること。
K45: 注3：外力は覆工スパン単位、材質劣化、漏水は変状単位とすること。
B46: （以下、印刷不要）
B47: ※1：本シートは作成洩れのないよう、変状が無くても全スパン分を作成すること．また変状展開図は、様式D-2-1、様式D-2-1'と同じものを覆工スパン単位で拡大し掲載すること。
B48: ※2：変状番号は、様式D-1-1で記入した番号と整合させること。
B49: ※3：対策区分毎の変状発生規模は、様式D-1-1に記載した面積を記入すること（ただし外力はスパン単位で評価するため変状の有無の欄には面積でなく○を記入し、備考欄に状況を記入）。
B50: ※4：本様式は覆工スパン毎に作成すること。
B51: ※5：変状数が多い場合は、適時、表の行を増やして覆工スパン毎に1枚のシートに収めること。また、1スパン１シートとし、スパンに合わせてシートを追加すること。
B52: ※6：対策区分毎の変状の発生範囲の規模とは，対策を行う際に参考となる変状の長さや面積であり，変状を包含する長さや面積とする。
B53: ※7：対策範囲を示す発生範囲の規模を面積で記入することが妥当ではない変状は、発生範囲の規模の欄に○を記入するとともに、備考に内容を記入すること。

Sheet 様式D-3_S002
AU1: 様式F用→ | AV1: 覆工スパン | AY1: 変 状 数 | BK1: 変 状 規 模
AV2: 番号 | AW2: 延長 （ｍ） | AX2: 健全性の診断の 区分 | AY2: 対策区分の判定 | BK2: 覆工スパン長（ｍ） | BO2: 変状の発生範囲の規模（㎡）
B3: ■定期点検記録様式 覆工スパン別変状詳細展開図 【様式D-3】 | AY3: 外力 | BC3: 材質劣化 | BG3: 漏水 | BK3: 外力 注2 | BO3: 材質劣化 | BS3: 漏水
B4: フリガナ | E4: ヒヨヂトンネル | K4: 路線名 | N4: 国道376号 | T4: 定期点検実施者 | Y4: 株式会社 長大 | AG4: 定期点検年月日 | AK4: 45908 | AY4: Ⅳ | AZ4: Ⅲ | BA4: Ⅱa | BB4: Ⅱb | BC4: Ⅳ | BD4: Ⅲ | BE4: Ⅱa | BF4: Ⅱb | BG4: Ⅳ | BH4: Ⅲ | BI4: Ⅱa | BJ4: Ⅱb | BK4: Ⅳ | BL4: Ⅲ | BM4: Ⅱa | BN4: Ⅱb | BO4: Ⅳ | BP4: Ⅲ | BQ4: Ⅱa | BR4: Ⅱb | BS4: Ⅳ | BT4: Ⅲ | BU4: Ⅱa | BV4: Ⅱb
B5: 名 称 | E5: 桧余地トンネル | K5: 管理者名 | N5: 岩国土木建築事務所 | Y5: 鷲尾 寛 | AV5: =N7 -> S002 | AW5: =R7 -> 5.6 | AX5: =AM35 -> Ⅱ | AY5: =IF(Y37>0,Y37,"") | AZ5: =IF(Y37>0,"",IF(Z37>0,Z37,"")) | BA5: =IF(Y37+Z37>0,"",IF(AA37>0,AA37,"")) | BB5: =IF(Y37+Z37+AA37>0,"",IF(AB37>0,AB37,"")) | BC5: =AC37 -> 0 | BD5: =AD37 -> 0 | BE5: =AE37 -> 2 | BF5: =AF37 -> 5 | BG5: =AG37 -> 0 | BH5: =AH37 -> 0 | BI5: =AI37 -> 0 | BJ5: =AJ37 -> 0 | BK5: =IF(Y37>0,R7,"") | BL5: =IF(Y37>0,"",IF(Z37>0,R7,"")) | BM5: =IF(Y37+Z37>0,"",IF(AA37>0,R7,"")) | BN5: =IF(Y37+Z37+AA37>0,"",IF(AB37>0,R7,"")) | BO5: =AC35 -> 0 | BP5: =AD35 -> 0 | BQ5: =AE35 -> 0.02 | BR5: =AF35 -> 1.72 | BS5: =AG35 -> 0 | BT5: =AH35 -> 0 | BU5: =AI35 -> 0 | BV5: =AJ35 -> 0
B6: スパン別変状展開図 | K6: 【健全性判定集計表】
K7: スパン番号 | N7: S002 | P7: スパン長 | R7: 5.6 | U7: 前回定期点検時の判定 | W7: 応急措置前の判定 | Y7: 対策区分毎の 変状の有無 | AC7: 対策区分毎の変状の発生範囲の規模(㎡) | AK7: 備考注2
K8: 変状番号 | L8: 対象箇所 | N8: 部位区分 | P8: 変状区分 | R8: 変状種類
Y9: 外力注1 | AC9: 材質劣化注1 | AG9: 漏水注1
Y10: Ⅳ | Z10: Ⅲ | AA10: Ⅱa | AB10: Ⅱb | AC10: Ⅳ | AD10: Ⅲ | AE10: Ⅱa | AF10: Ⅱb | AG10: Ⅳ | AH10: Ⅲ | AI10: Ⅱa | AJ10: Ⅱb
K11: 3 | L11: 覆工 | N11: アーチ（天端） | P11: 材質劣化 | R11: 圧ざ、ひび割れ | U11: Ⅱb | AF11: 0.58 | AQ11: =IF(P11="材質劣化",2,IF(P11="漏水",3,1)) -> 2 | AS11: =IF(Y11<>"",1,"")
K12: 5 | L12: 覆工 | N12: アーチ（左側） | P12: 材質劣化 | R12: 鋼材腐食 | U12: Ⅱb | AF12: 0.01 | AQ12: =IF(P12="材質劣化",2,IF(P12="漏水",3,1)) -> 2
K13: 6 | L13: 覆工 | N13: アーチ（左側） | P13: 材質劣化 | R13: 鋼材腐食 | U13: Ⅱb | AF13: 0.01 | AQ13: =IF(P13="材質劣化",2,IF(P13="漏水",3,1)) -> 2
K14: 9 | L14: 覆工 | N14: 水平打ち継ぎ目（左側） | P14: 材質劣化 | R14: うき・はく離 | U14: Ⅱa | AF14: 0.56 | AQ14: =IF(P14="材質劣化",2,IF(P14="漏水",3,1)) -> 2
K15: 10 | L15: 覆工 | N15: 水平打ち継ぎ目（右側） | P15: 材質劣化 | R15: うき・はく離 | U15: Ⅱa | AF15: 0.56 | AQ15: =IF(P15="材質劣化",2,IF(P15="漏水",3,1)) -> 2
K16: 14 | L16: 覆工 | N16: アーチ（左側） | P16: 材質劣化 | R16: うき・はく離 | U16: － | AE16: 0.01 | AQ16: =IF(P16="材質劣化",2,IF(P16="漏水",3,1)) -> 2
K17: 15 | L17: 覆工 | N17: アーチ（右側） | P17: 材質劣化 | R17: うき・はく離 | U17: － | AE17: 0.01 | AQ17: =IF(P17="材質劣化",2,IF(P17="漏水",3,1)) -> 2
K18: 8 | AQ18: =IF(P18="材質劣化",2,IF(P18="漏水",3,1)) -> 1
K19: 9 | AQ19: =IF(P19="材質劣化",2,IF(P19="漏水",3,1)) -> 1
K20: 10 | AQ20: =IF(P20="材質劣化",2,IF(P20="漏水",3,1)) -> 1
K21: 11 | AQ21: =IF(P21="材質劣化",2,IF(P21="漏水",3,1)) -> 1
K22: 12 | AQ22: =IF(P22="材質劣化",2,IF(P22="漏水",3,1)) -> 1
K23: 13 | AQ23: =IF(P23="材質劣化",2,IF(P23="漏水",3,1)) -> 1
K24: 14 | AQ24: =IF(P24="材質劣化",2,IF(P24="漏水",3,1)) -> 1
K25: 15 | AQ25: =IF(P25="材質劣化",2,IF(P25="漏水",3,1)) -> 1
K26: 16 | AQ26: =IF(P26="材質劣化",2,IF(P26="漏水",3,1)) -> 1
K27: 17 | AQ27: =IF(P27="材質劣化",2,IF(P27="漏水",3,1)) -> 1
K28: 18 | AQ28: =IF(P30="材質劣化",2,IF(P30="漏水",3,1)) -> 1
K29: 19 | AQ29: =IF(P34="材質劣化",2,IF(P34="漏水",3,1)) -> 1
K30: 20 | AQ30: =IF(P30="材質劣化",2,IF(P30="漏水",3,1)) -> 1
K31: 21 | AQ31: =IF(P33="材質劣化",2,IF(P33="漏水",3,1)) -> 1
K32: 22 | AQ32: =IF(P37="材質劣化",2,IF(P37="漏水",3,1)) -> 1
K33: 23 | AQ33: =IF(P33="材質劣化",2,IF(P33="漏水",3,1)) -> 1
K34: 24 | AQ34: =IF(P36="材質劣化",2,IF(P36="漏水",3,1)) -> 1
K35: 集計 判定 診断 | L35: 変状の発生規模合計(㎡) | Y35: － | AC35: =SUM(AC11:AC34) -> 0 | AD35: =SUM(AD11:AD34) -> 0 | AE35: =SUM(AE11:AE34) -> 0.02 | AF35: =SUM(AF11:AF34) -> 1.72 | AG35: =SUM(AG11:AG34) -> 0 | AH35: =SUM(AH11:AH34) -> 0 | AI35: =SUM(AI11:AI34) -> 0 | AJ35: =SUM(AJ11:AJ34) -> 0 | AK35: 覆工スパン単位の 健全性の 診断の区分 | AM35: Ⅱ
L36: 対策区分の 判定結果 | O36: 対策区分毎の変状数注3 | Y36: Ⅳ | Z36: Ⅲ | AA36: Ⅱa | AB36: Ⅱb | AC36: Ⅳ | AD36: Ⅲ | AE36: Ⅱa | AF36: Ⅱb | AG36: Ⅳ | AH36: Ⅲ | AI36: Ⅱa | AJ36: Ⅱb
Y37: =IF(COUNTIF(Y11:Y34,"〇")>0,1,0) -> 0 | Z37: =IF(COUNTIF(Z11:Z34,"〇")>0,1,0) -> 0 | AA37: =IF(COUNTIF(AA11:AA34,"〇")>0,1,0) -> 0 | AB37: =IF(COUNTIF(AB11:AB34,"〇")>0,1,0) -> 0 | AC37: =COUNTA(AC11:AC34) -> 0 | AD37: =COUNTA(AD11:AD34) -> 0 | AE37: =COUNTA(AE11:AE34) -> 2 | AF37: =COUNTA(AF11:AF34) -> 5 | AG37: =COUNTA(AG11:AG34) -> 0 | AH37: =COUNTA(AH11:AH34) -> 0 | AI37: =COUNTA(AI11:AI34) -> 0 | AJ37: =COUNTA(AJ11:AJ34) -> 0 | AU37: =+Y37 -> 0
K39: 所見
K43: 注1：誤記入防止のため、当該変状区分以外のセルは灰色表示とすること。
K44: 注2：応急措置を実施した場合は、その詳細を備考に記載すること。
K45: 注3：外力は覆工スパン単位、材質劣化、漏水は変状単位とすること。
B46: （以下、印刷不要）
B47: ※1：本シートは作成洩れのないよう、変状が無くても全スパン分を作成すること．また変状展開図は、様式D-2-1、様式D-2-1'と同じものを覆工スパン単位で拡大し掲載すること。
B48: ※2：変状番号は、様式D-1-1で記入した番号と整合させること。
B49: ※3：対策区分毎の変状発生規模は、様式D-1-1に記載した面積を記入すること（ただし外力はスパン単位で評価するため変状の有無の欄には面積でなく○を記入し、備考欄に状況を記入）。
B50: ※4：本様式は覆工スパン毎に作成すること。
B51: ※5：変状数が多い場合は、適時、表の行を増やして覆工スパン毎に1枚のシートに収めること。また、1スパン１シートとし、スパンに合わせてシートを追加すること。
B52: ※6：対策区分毎の変状の発生範囲の規模とは，対策を行う際に参考となる変状の長さや面積であり，変状を包含する長さや面積とする。
B53: ※7：対策範囲を示す発生範囲の規模を面積で記入することが妥当ではない変状は、発生範囲の規模の欄に○を記入するとともに、備考に内容を記入すること。

Sheet 様式D-3_S003
AU1: 様式F用→ | AV1: 覆工スパン | AY1: 変 状 数 | BK1: 変 状 規 模
AV2: 番号 | AW2: 延長 （ｍ） | AX2: 健全性の診断の 区分 | AY2: 対策区分の判定 | BK2: 覆工スパン長（ｍ） | BO2: 変状の発生範囲の規模（㎡）
B3: ■定期点検記録様式 覆工スパン別変状詳細展開図 【様式D-3】 | AY3: 外力 | BC3: 材質劣化 | BG3: 漏水 | BK3: 外力 注2 | BO3: 材質劣化 | BS3: 漏水
B4: フリガナ | E4: ヒヨヂトンネル | K4: 路線名 | N4: 国道376号 | T4: 定期点検実施者 | Y4: 株式会社 長大 | AG4: 定期点検年月日 | AK4: 45908 | AY4: Ⅳ | AZ4: Ⅲ | BA4: Ⅱa | BB4: Ⅱb | BC4: Ⅳ | BD4: Ⅲ | BE4: Ⅱa | BF4: Ⅱb | BG4: Ⅳ | BH4: Ⅲ | BI4: Ⅱa | BJ4: Ⅱb | BK4: Ⅳ | BL4: Ⅲ | BM4: Ⅱa | BN4: Ⅱb | BO4: Ⅳ | BP4: Ⅲ | BQ4: Ⅱa | BR4: Ⅱb | BS4: Ⅳ | BT4: Ⅲ | BU4: Ⅱa | BV4: Ⅱb
B5: 名 称 | E5: 桧余地トンネル | K5: 管理者名 | N5: 岩国土木建築事務所 | Y5: 鷲尾 寛 | AV5: =N7 -> S003 | AW5: =R7 -> 5.8 | AX5: =AM35 -> Ⅱ | AY5: =IF(Y37>0,Y37,"") | AZ5: =IF(Y37>0,"",IF(Z37>0,Z37,"")) | BA5: =IF(Y37+Z37>0,"",IF(AA37>0,AA37,"")) | BB5: =IF(Y37+Z37+AA37>0,"",IF(AB37>0,AB37,"")) | BC5: =AC37 -> 0 | BD5: =AD37 -> 0 | BE5: =AE37 -> 6 | BF5: =AF37 -> 5 | BG5: =AG37 -> 0 | BH5: =AH37 -> 0 | BI5: =AI37 -> 0 | BJ5: =AJ37 -> 0 | BK5: =IF(Y37>0,R7,"") | BL5: =IF(Y37>0,"",IF(Z37>0,R7,"")) | BM5: =IF(Y37+Z37>0,"",IF(AA37>0,R7,"")) | BN5: =IF(Y37+Z37+AA37>0,"",IF(AB37>0,R7,"")) | BO5: =AC35 -> 0 | BP5: =AD35 -> 0 | BQ5: =AE35 -> 0.75 | BR5: =AF35 -> 1.3 | BS5: =AG35 -> 0 | BT5: =AH35 -> 0 | BU5: =AI35 -> 0 | BV5: =AJ35 -> 0
B6: スパン別変状展開図 | K6: 【健全性判定集計表】
K7: スパン番号 | N7: S003 | P7: スパン長 | R7: 5.8 | U7: 前回定期点検時の判定 | W7: 応急措置前の判定 | Y7: 対策区分毎の 変状の有無 | AC7: 対策区分毎の変状の発生範囲の規模(㎡) | AK7: 備考注2
K8: 変状番号 | L8: 対象箇所 | N8: 部位区分 | P8: 変状区分 | R8: 変状種類
Y9: 外力注1 | AC9: 材質劣化注1 | AG9: 漏水注1
Y10: Ⅳ | Z10: Ⅲ | AA10: Ⅱa | AB10: Ⅱb | AC10: Ⅳ | AD10: Ⅲ | AE10: Ⅱa | AF10: Ⅱb | AG10: Ⅳ | AH10: Ⅲ | AI10: Ⅱa | AJ10: Ⅱb
K11: 1 | L11: 覆工 | N11: アーチ（天端） | P11: 材質劣化 | R11: うき・はく離 | U11: Ⅱb | AE11: 0.01 | AQ11: =IF(P11="材質劣化",2,IF(P11="漏水",3,1)) -> 2 | AS11: =IF(Y11<>"",1,"")
K12: 2 | L12: 覆工 | N12: アーチ（天端） | P12: 材質劣化 | R12: うき・はく離 | U12: Ⅱb | AE12: 0.01 | AQ12: =IF(P12="材質劣化",2,IF(P12="漏水",3,1)) -> 2
K13: 3 | L13: 覆工 | N13: アーチ（右側） | P13: 材質劣化 | R13: うき・はく離 | U13: Ⅱb | AE13: 0.01 | AQ13: =IF(P13="材質劣化",2,IF(P13="漏水",3,1)) -> 2
K14: 5 | L14: 覆工 | N14: アーチ（左側） | P14: 材質劣化 | R14: 圧ざ、ひび割れ | U14: Ⅱb | AE14: 0.6 | AQ14: =IF(P14="材質劣化",2,IF(P14="漏水",3,1)) -> 2
K15: 12 | L15: 覆工 | N15: 水平打ち継ぎ目（左側） | P15: 材質劣化 | R15: うき・はく離 | U15: Ⅱa | AF15: 0.58 | AQ15: =IF(P15="材質劣化",2,IF(P15="漏水",3,1)) -> 2
K16: 13 | L16: 覆工 | N16: 水平打ち継ぎ目（右側） | P16: 材質劣化 | R16: うき・はく離 | U16: Ⅱa | AF16: 0.58 | AQ16: =IF(P16="材質劣化",2,IF(P16="漏水",3,1)) -> 2
K17: 16 | L17: 覆工 | N17: アーチ（左側） | P17: 材質劣化 | R17: うき・はく離 | U17: － | AE17: 0.11 | AQ17: =IF(P17="材質劣化",2,IF(P17="漏水",3,1)) -> 2
K18: 17 | L18: 覆工 | N18: アーチ（左側） | P18: 材質劣化 | R18: うき・はく離 | U18: － | AE18: 0.01 | AQ18: =IF(P18="材質劣化",2,IF(P18="漏水",3,1)) -> 2
K19: 18 | L19: 覆工 | N19: アーチ（左側） | P19: 材質劣化 | R19: 鋼材腐食 | U19: － | AF19: 0.01 | AQ19: =IF(P19="材質劣化",2,IF(P19="漏水",3,1)) -> 2
K20: 19 | L20: 覆工 | N20: アーチ（左側） | P20: 材質劣化 | R20: 鋼材腐食 | U20: － | AF20: 0.01 | AQ20: =IF(P20="材質劣化",2,IF(P20="漏水",3,1)) -> 2
K21: 20 | L21: 覆工 | N21: アーチ（右側） | P21: 材質劣化 | R21: 圧ざ、ひび割れ | U21: － | AF21: 0.12 | AQ21: =IF(P21="材質劣化",2,IF(P21="漏水",3,1)) -> 2
K22: 12 | AQ22: =IF(P22="材質劣化",2,IF(P22="漏水",3,1)) -> 1
K23: 13 | AQ23: =IF(P23="材質劣化",2,IF(P23="漏水",3,1)) -> 1
K24: 14 | AQ24: =IF(P24="材質劣化",2,IF(P24="漏水",3,1)) -> 1
K25: 15 | AQ25: =IF(P25="材質劣化",2,IF(P25="漏水",3,1)) -> 1
K26: 16 | AQ26: =IF(P26="材質劣化",2,IF(P26="漏水",3,1)) -> 1
K27: 17 | AQ27: =IF(P27="材質劣化",2,IF(P27="漏水",3,1)) -> 1
K28: 18 | AQ28: =IF(P30="材質劣化",2,IF(P30="漏水",3,1)) -> 1
K29: 19 | AQ29: =IF(P34="材質劣化",2,IF(P34="漏水",3,1)) -> 1
K30: 20 | AQ30: =IF(P30="材質劣化",2,IF(P30="漏水",3,1)) -> 1
K31: 21 | AQ31: =IF(P33="材質劣化",2,IF(P33="漏水",3,1)) -> 1
K32: 22 | AQ32: =IF(P37="材質劣化",2,IF(P37="漏水",3,1)) -> 1
K33: 23 | AQ33: =IF(P33="材質劣化",2,IF(P33="漏水",3,1)) -> 1
K34: 24 | AQ34: =IF(P36="材質劣化",2,IF(P36="漏水",3,1)) -> 1
K35: 集計 判定 診断 | L35: 変状の発生規模合計(㎡) | Y35: － | AC35: =SUM(AC11:AC34) -> 0 | AD35: =SUM(AD11:AD34) -> 0 | AE35: =SUM(AE11:AE34) -> 0.75 | AF35: =SUM(AF11:AF34) -> 1.3 | AG35: =SUM(AG11:AG34) -> 0 | AH35: =SUM(AH11:AH34) -> 0 | AI35: =SUM(AI11:AI34) -> 0 | AJ35: =SUM(AJ11:AJ34) -> 0 | AK35: 覆工スパン単位の 健全性の 診断の区分 | AM35: Ⅱ
L36: 対策区分の 判定結果 | O36: 対策区分毎の変状数注3 | Y36: Ⅳ | Z36: Ⅲ | AA36: Ⅱa | AB36: Ⅱb | AC36: Ⅳ | AD36: Ⅲ | AE36: Ⅱa | AF36: Ⅱb | AG36: Ⅳ | AH36: Ⅲ | AI36: Ⅱa | AJ36: Ⅱb
Y37: =IF(COUNTIF(Y11:Y34,"〇")>0,1,0) -> 0 | Z37: =IF(COUNTIF(Z11:Z34,"〇")>0,1,0) -> 0 | AA37: =IF(COUNTIF(AA11:AA34,"〇")>0,1,0) -> 0 | AB37: =IF(COUNTIF(AB11:AB34,"〇")>0,1,0) -> 0 | AC37: =COUNTA(AC11:AC34) -> 0 | AD37: =COUNTA(AD11:AD34) -> 0 | AE37: =COUNTA(AE11:AE34) -> 6 | AF37: =COUNTA(AF11:AF34) -> 5 | AG37: =COUNTA(AG11:AG34) -> 0 | AH37: =COUNTA(AH11:AH34) -> 0 | AI37: =COUNTA(AI11:AI34) -> 0 | AJ37: =COUNTA(AJ11:AJ34) -> 0 | AU37: =+Y37 -> 0
K39: 所見
K43: 注1：誤記入防止のため、当該変状区分以外のセルは灰色表示とすること。
K44: 注2：応急措置を実施した場合は、その詳細を備考に記載すること。
K45: 注3：外力は覆工スパン単位、材質劣化、漏水は変状単位とすること。
B46: （以下、印刷不要）
B47: ※1：本シートは作成洩れのないよう、変状が無くても全スパン分を作成すること．また変状展開図は、様式D-2-1、様式D-2-1'と同じものを覆工スパン単位で拡大し掲載すること。
B48: ※2：変状番号は、様式D-1-1で記入した番号と整合させること。
B49: ※3：対策区分毎の変状発生規模は、様式D-1-1に記載した面積を記入すること（ただし外力はスパン単位で評価するため変状の有無の欄には面積でなく○を記入し、備考欄に状況を記入）。
B50: ※4：本様式は覆工スパン毎に作成すること。
B51: ※5：変状数が多い場合は、適時、表の行を増やして覆工スパン毎に1枚のシートに収めること。また、1スパン１シートとし、スパンに合わせてシートを追加すること。
B52: ※6：対策区分毎の変状の発生範囲の規模とは，対策を行う際に参考となる変状の長さや面積であり，変状を包含する長さや面積とする。
B53: ※7：対策範囲を示す発生範囲の規模を面積で記入することが妥当ではない変状は、発生範囲の規模の欄に○を記入するとともに、備考に内容を記入すること。

Sheet 様式D-3_S004
AU1: 様式F用→ | AV1: 覆工スパン | AY1: 変 状 数 | BK1: 変 状 規 模
AV2: 番号 | AW2: 延長 （ｍ） | AX2: 健全性の診断の 区分 | AY2: 対策区分の判定 | BK2: 覆工スパン長（ｍ） | BO2: 変状の発生範囲の規模（㎡）
B3: ■定期点検記録様式 覆工スパン別変状詳細展開図 【様式D-3】 | AY3: 外力 | BC3: 材質劣化 | BG3: 漏水 | BK3: 外力 注2 | BO3: 材質劣化 | BS3: 漏水
B4: フリガナ | E4: ヒヨヂトンネル | K4: 路線名 | N4: 国道376号 | T4: 定期点検実施者 | Y4: 株式会社 長大 | AG4: 定期点検年月日 | AK4: 45908 | AY4: Ⅳ | AZ4: Ⅲ | BA4: Ⅱa | BB4: Ⅱb | BC4: Ⅳ | BD4: Ⅲ | BE4: Ⅱa | BF4: Ⅱb | BG4: Ⅳ | BH4: Ⅲ | BI4: Ⅱa | BJ4: Ⅱb | BK4: Ⅳ | BL4: Ⅲ | BM4: Ⅱa | BN4: Ⅱb | BO4: Ⅳ | BP4: Ⅲ | BQ4: Ⅱa | BR4: Ⅱb | BS4: Ⅳ | BT4: Ⅲ | BU4: Ⅱa | BV4: Ⅱb
B5: 名 称 | E5: 桧余地トンネル | K5: 管理者名 | N5: 岩国土木建築事務所 | Y5: 鷲尾 寛 | AV5: =N7 -> S004 | AW5: =R7 -> 5.7 | AX5: =AM35 -> Ⅱ | AY5: =IF(Y37>0,Y37,"") | AZ5: =IF(Y37>0,"",IF(Z37>0,Z37,"")) | BA5: =IF(Y37+Z37>0,"",IF(AA37>0,AA37,"")) | BB5: =IF(Y37+Z37+AA37>0,"",IF(AB37>0,AB37,"")) | BC5: =AC37 -> 0 | BD5: =AD37 -> 0 | BE5: =AE37 -> 1 | BF5: =AF37 -> 4 | BG5: =AG37 -> 0 | BH5: =AH37 -> 0 | BI5: =AI37 -> 0 | BJ5: =AJ37 -> 0 | BK5: =IF(Y37>0,R7,"") | BL5: =IF(Y37>0,"",IF(Z37>0,R7,"")) | BM5: =IF(Y37+Z37>0,"",IF(AA37>0,R7,"")) | BN5: =IF(Y37+Z37+AA37>0,"",IF(AB37>0,R7,"")) | BO5: =AC35 -> 0 | BP5: =AD35 -> 0 | BQ5: =AE35 -> 0.01 | BR5: =AF35 -> 1.31 | BS5: =AG35 -> 0 | BT5: =AH35 -> 0 | BU5: =AI35 -> 0 | BV5: =AJ35 -> 0
B6: スパン別変状展開図 | K6: 【健全性判定集計表】
K7: スパン番号 | N7: S004 | P7: スパン長 | R7: 5.7 | U7: 前回定期点検時の判定 | W7: 応急措置前の判定 | Y7: 対策区分毎の 変状の有無 | AC7: 対策区分毎の変状の発生範囲の規模(㎡) | AK7: 備考注2
K8: 変状番号 | L8: 対象箇所 | N8: 部位区分 | P8: 変状区分 | R8: 変状種類
Y9: 外力注1 | AC9: 材質劣化注1 | AG9: 漏水注1
Y10: Ⅳ | Z10: Ⅲ | AA10: Ⅱa | AB10: Ⅱb | AC10: Ⅳ | AD10: Ⅲ | AE10: Ⅱa | AF10: Ⅱb | AG10: Ⅳ | AH10: Ⅲ | AI10: Ⅱa | AJ10: Ⅱb
K11: 1 | L11: 覆工 | N11: アーチ（天端） | P11: 材質劣化 | R11: うき・はく離 | U11: Ⅱb | AE11: 0.01 | AQ11: =IF(P11="材質劣化",2,IF(P11="漏水",3,1)) -> 2 | AS11: =IF(Y11<>"",1,"")
K12: 12 | L12: 覆工 | N12: 水平打ち継ぎ目（左側） | P12: 材質劣化 | R12: うき・はく離 | U12: Ⅱa | AF12: 0.57 | AQ12: =IF(P12="材質劣化",2,IF(P12="漏水",3,1)) -> 2
K13: 13 | L13: 覆工 | N13: 水平打ち継ぎ目（右側） | P13: 材質劣化 | R13: うき・はく離 | U13: Ⅱa | AF13: 0.57 | AQ13: =IF(P13="材質劣化",2,IF(P13="漏水",3,1)) -> 2
K14: 18 | L14: 覆工 | N14: アーチ（右側） | P14: 材質劣化 | R14: 鋼材腐食 | U14: － | AF14: 0.01 | AQ14: =IF(P14="材質劣化",2,IF(P14="漏水",3,1)) -> 2
K15: 19 | L15: 覆工 | N15: アーチ（右側） | P15: 材質劣化 | R15: 圧ざ、ひび割れ | U15: － | AF15: 0.16 | AQ15: =IF(P15="材質劣化",2,IF(P15="漏水",3,1)) -> 2
K16: 6 | AQ16: =IF(P16="材質劣化",2,IF(P16="漏水",3,1)) -> 1
K17: 7 | AQ17: =IF(P17="材質劣化",2,IF(P17="漏水",3,1)) -> 1
K18: 8 | AQ18: =IF(P18="材質劣化",2,IF(P18="漏水",3,1)) -> 1
K19: 9 | AQ19: =IF(P19="材質劣化",2,IF(P19="漏水",3,1)) -> 1
K20: 10 | AQ20: =IF(P20="材質劣化",2,IF(P20="漏水",3,1)) -> 1
K21: 11 | AQ21: =IF(P21="材質劣化",2,IF(P21="漏水",3,1)) -> 1
K22: 12 | AQ22: =IF(P22="材質劣化",2,IF(P22="漏水",3,1)) -> 1
K23: 13 | AQ23: =IF(P23="材質劣化",2,IF(P23="漏水",3,1)) -> 1
K24: 14 | AQ24: =IF(P24="材質劣化",2,IF(P24="漏水",3,1)) -> 1
K25: 15 | AQ25: =IF(P25="材質劣化",2,IF(P25="漏水",3,1)) -> 1
K26: 16 | AQ26: =IF(P26="材質劣化",2,IF(P26="漏水",3,1)) -> 1
K27: 17 | AQ27: =IF(P27="材質劣化",2,IF(P27="漏水",3,1)) -> 1
K28: 18 | AQ28: =IF(P30="材質劣化",2,IF(P30="漏水",3,1)) -> 1
K29: 19 | AQ29: =IF(P34="材質劣化",2,IF(P34="漏水",3,1)) -> 1
K30: 20 | AQ30: =IF(P30="材質劣化",2,IF(P30="漏水",3,1)) -> 1
K31: 21 | AQ31: =IF(P33="材質劣化",2,IF(P33="漏水",3,1)) -> 1
K32: 22 | AQ32: =IF(P37="材質劣化",2,IF(P37="漏水",3,1)) -> 1
K33: 23 | AQ33: =IF(P33="材質劣化",2,IF(P33="漏水",3,1)) -> 1
K34: 24 | AQ34: =IF(P36="材質劣化",2,IF(P36="漏水",3,1)) -> 1
K35: 集計 判定 診断 | L35: 変状の発生規模合計(㎡) | Y35: － | AC35: =SUM(AC11:AC34) -> 0 | AD35: =SUM(AD11:AD34) -> 0 | AE35: =SUM(AE11:AE34) -> 0.01 | AF35: =SUM(AF11:AF34) -> 1.31 | AG35: =SUM(AG11:AG34) -> 0 | AH35: =SUM(AH11:AH34) -> 0 | AI35: =SUM(AI11:AI34) -> 0 | AJ35: =SUM(AJ11:AJ34) -> 0 | AK35: 覆工スパン単位の 健全性の 診断の区分 | AM35: Ⅱ
L36: 対策区分の 判定結果 | O36: 対策区分毎の変状数注3 | Y36: Ⅳ | Z36: Ⅲ | AA36: Ⅱa | AB36: Ⅱb | AC36: Ⅳ | AD36: Ⅲ | AE36: Ⅱa | AF36: Ⅱb | AG36: Ⅳ | AH36: Ⅲ | AI36: Ⅱa | AJ36: Ⅱb
Y37: =IF(COUNTIF(Y11:Y34,"〇")>0,1,0) -> 0 | Z37: =IF(COUNTIF(Z11:Z34,"〇")>0,1,0) -> 0 | AA37: =IF(COUNTIF(AA11:AA34,"〇")>0,1,0) -> 0 | AB37: =IF(COUNTIF(AB11:AB34,"〇")>0,1,0) -> 0 | AC37: =COUNTA(AC11:AC34) -> 0 | AD37: =COUNTA(AD11:AD34) -> 0 | AE37: =COUNTA(AE11:AE34) -> 1 | AF37: =COUNTA(AF11:AF34) -> 4 | AG37: =COUNTA(AG11:AG34) -> 0 | AH37: =COUNTA(AH11:AH34) -> 0 | AI37: =COUNTA(AI11:AI34) -> 0 | AJ37: =COUNTA(AJ11:AJ34) -> 0 | AU37: =+Y37 -> 0
K39: 所見
K43: 注1：誤記入防止のため、当該変状区分以外のセルは灰色表示とすること。
K44: 注2：応急措置を実施した場合は、その詳細を備考に記載すること。
K45: 注3：外力は覆工スパン単位、材質劣化、漏水は変状単位とすること。
B46: （以下、印刷不要）
B47: ※1：本シートは作成洩れのないよう、変状が無くても全スパン分を作成すること．また変状展開図は、様式D-2-1、様式D-2-1'と同じものを覆工スパン単位で拡大し掲載すること。
B48: ※2：変状番号は、様式D-1-1で記入した番号と整合させること。
B49: ※3：対策区分毎の変状発生規模は、様式D-1-1に記載した面積を記入すること（ただし外力はスパン単位で評価するため変状の有無の欄には面積でなく○を記入し、備考欄に状況を記入）。
B50: ※4：本様式は覆工スパン毎に作成すること。
B51: ※5：変状数が多い場合は、適時、表の行を増やして覆工スパン毎に1枚のシートに収めること。また、1スパン１シートとし、スパンに合わせてシートを追加すること。
B52: ※6：対策区分毎の変状の発生範囲の規模とは，対策を行う際に参考となる変状の長さや面積であり，変状を包含する長さや面積とする。
B53: ※7：対策範囲を示す発生範囲の規模を面積で記入することが妥当ではない変状は、発生範囲の規模の欄に○を記入するとともに、備考に内容を記入すること。

Sheet 様式D-3_S005
AU1: 様式F用→ | AV1: 覆工スパン | AY1: 変 状 数 | BK1: 変 状 規 模
AV2: 番号 | AW2: 延長 （ｍ） | AX2: 健全性の診断の 区分 | AY2: 対策区分の判定 | BK2: 覆工スパン長（ｍ） | BO2: 変状の発生範囲の規模（㎡）
B3: ■定期点検記録様式 覆工スパン別変状詳細展開図 【様式D-3】 | AY3: 外力 | BC3: 材質劣化 | BG3: 漏水 | BK3: 外力 注2 | BO3: 材質劣化 | BS3: 漏水
B4: フリガナ | E4: ヒヨヂトンネル | K4: 路線名 | N4: 国道376号 | T4: 定期点検実施者 | Y4: 株式会社 長大 | AG4: 定期点検年月日 | AK4: 45908 | AY4: Ⅳ | AZ4: Ⅲ | BA4: Ⅱa | BB4: Ⅱb | BC4: Ⅳ | BD4: Ⅲ | BE4: Ⅱa | BF4: Ⅱb | BG4: Ⅳ | BH4: Ⅲ | BI4: Ⅱa | BJ4: Ⅱb | BK4: Ⅳ | BL4: Ⅲ | BM4: Ⅱa | BN4: Ⅱb | BO4: Ⅳ | BP4: Ⅲ | BQ4: Ⅱa | BR4: Ⅱb | BS4: Ⅳ | BT4: Ⅲ | BU4: Ⅱa | BV4: Ⅱb
B5: 名 称 | E5: 桧余地トンネル | K5: 管理者名 | N5: 岩国土木建築事務所 | Y5: 鷲尾 寛 | AV5: =N7 -> S005 | AW5: =R7 -> 5.8 | AX5: =AM35 -> Ⅱ | AY5: =IF(Y37>0,Y37,"") | AZ5: =IF(Y37>0,"",IF(Z37>0,Z37,"")) | BA5: =IF(Y37+Z37>0,"",IF(AA37>0,AA37,"")) | BB5: =IF(Y37+Z37+AA37>0,"",IF(AB37>0,AB37,"")) | BC5: =AC37 -> 0 | BD5: =AD37 -> 0 | BE5: =AE37 -> 0 | BF5: =AF37 -> 8 | BG5: =AG37 -> 0 | BH5: =AH37 -> 0 | BI5: =AI37 -> 0 | BJ5: =AJ37 -> 1 | BK5: =IF(Y37>0,R7,"") | BL5: =IF(Y37>0,"",IF(Z37>0,R7,"")) | BM5: =IF(Y37+Z37>0,"",IF(AA37>0,R7,"")) | BN5: =IF(Y37+Z37+AA37>0,"",IF(AB37>0,R7,"")) | BO5: =AC35 -> 0 | BP5: =AD35 -> 0 | BQ5: =AE35 -> 0 | BR5: =AF35 -> 0.81 | BS5: =AG35 -> 0 | BT5: =AH35 -> 0 | BU5: =AI35 -> 0 | BV5: =AJ35 -> 2.6
B6: スパン別変状展開図 | K6: 【健全性判定集計表】
K7: スパン番号 | N7: S005 | P7: スパン長 | R7: 5.8 | U7: 前回定期点検時の判定 | W7: 応急措置前の判定 | Y7: 対策区分毎の 変状の有無 | AC7: 対策区分毎の変状の発生範囲の規模(㎡) | AK7: 備考注2
K8: 変状番号 | L8: 対象箇所 | N8: 部位区分 | P8: 変状区分 | R8: 変状種類
Y9: 外力注1 | AC9: 材質劣化注1 | AG9: 漏水注1
Y10: Ⅳ | Z10: Ⅲ | AA10: Ⅱa | AB10: Ⅱb | AC10: Ⅳ | AD10: Ⅲ | AE10: Ⅱa | AF10: Ⅱb | AG10: Ⅳ | AH10: Ⅲ | AI10: Ⅱa | AJ10: Ⅱb
K11: 4 | L11: 覆工 | N11: アーチ（左側） | P11: 材質劣化 | R11: 鋼材腐食 | U11: Ⅱb | AF11: 0.01 | AQ11: =IF(P11="材質劣化",2,IF(P11="漏水",3,1)) -> 2 | AS11: =IF(Y11<>"",1,"")
K12: 5 | L12: 覆工 | N12: アーチ（左側） | P12: 材質劣化 | R12: 鋼材腐食 | U12: Ⅱb | AF12: 0.01 | AQ12: =IF(P12="材質劣化",2,IF(P12="漏水",3,1)) -> 2
K13: 6 | L13: 覆工 | N13: アーチ（左側） | P13: 材質劣化 | R13: 鋼材腐食 | U13: Ⅱb | AF13: 0.01 | AQ13: =IF(P13="材質劣化",2,IF(P13="漏水",3,1)) -> 2
K14: 7 | L14: 覆工 | N14: アーチ（左側） | P14: 漏水 | R14: 漏水 | U14: Ⅱb | AJ14: 2.6 | AQ14: =IF(P14="材質劣化",2,IF(P14="漏水",3,1)) -> 3
K15: 16 | L15: 覆工 | N15: 水平打ち継ぎ目（左側） | P15: 材質劣化 | R15: うき・はく離 | U15: Ⅱa | AF15: 0.17 | AQ15: =IF(P15="材質劣化",2,IF(P15="漏水",3,1)) -> 2
K16: 17 | L16: 覆工 | N16: 水平打ち継ぎ目（右側） | P16: 材質劣化 | R16: うき・はく離 | U16: Ⅱa | AF16: 0.57 | AQ16: =IF(P16="材質劣化",2,IF(P16="漏水",3,1)) -> 2
K17: 18 | L17: 覆工 | N17: 水平打ち継ぎ目（右側） | P17: 材質劣化 | R17: うき・はく離 | U17: Ⅱb | AF17: 0.02 | AQ17: =IF(P17="材質劣化",2,IF(P17="漏水",3,1)) -> 2
K18: 20 | L18: 覆工 | N18: 側壁（右側） | P18: 材質劣化 | R18: うき・はく離 | U18: Ⅱb | AF18: 0.01 | AQ18: =IF(P18="材質劣化",2,IF(P18="漏水",3,1)) -> 2
K19: 26 | L19: 覆工 | N19: アーチ（右側） | P19: 材質劣化 | R19: 鋼材腐食 | U19: － | AF19: 0.01 | AQ19: =IF(P19="材質劣化",2,IF(P19="漏水",3,1)) -> 2
K20: 10 | AQ20: =IF(P20="材質劣化",2,IF(P20="漏水",3,1)) -> 1
K21: 11 | AQ21: =IF(P21="材質劣化",2,IF(P21="漏水",3,1)) -> 1
K22: 12 | AQ22: =IF(P22="材質劣化",2,IF(P22="漏水",3,1)) -> 1
K23: 13 | AQ23: =IF(P23="材質劣化",2,IF(P23="漏水",3,1)) -> 1
K24: 14 | AQ24: =IF(P24="材質劣化",2,IF(P24="漏水",3,1)) -> 1
K25: 15 | AQ25: =IF(P25="材質劣化",2,IF(P25="漏水",3,1)) -> 1
K26: 16 | AQ26: =IF(P26="材質劣化",2,IF(P26="漏水",3,1)) -> 1
K27: 17 | AQ27: =IF(P27="材質劣化",2,IF(P27="漏水",3,1)) -> 1
K28: 18 | AQ28: =IF(P30="材質劣化",2,IF(P30="漏水",3,1)) -> 1
K29: 19 | AQ29: =IF(P34="材質劣化",2,IF(P34="漏水",3,1)) -> 1
K30: 20 | AQ30: =IF(P30="材質劣化",2,IF(P30="漏水",3,1)) -> 1
K31: 21 | AQ31: =IF(P33="材質劣化",2,IF(P33="漏水",3,1)) -> 1
K32: 22 | AQ32: =IF(P37="材質劣化",2,IF(P37="漏水",3,1)) -> 1
K33: 23 | AQ33: =IF(P33="材質劣化",2,IF(P33="漏水",3,1)) -> 1
K34: 24 | AQ34: =IF(P36="材質劣化",2,IF(P36="漏水",3,1)) -> 1
K35: 集計 判定 診断 | L35: 変状の発生規模合計(㎡) | Y35: － | AC35: =SUM(AC11:AC34) -> 0 | AD35: =SUM(AD11:AD34) -> 0 | AE35: =SUM(AE11:AE34) -> 0 | AF35: =SUM(AF11:AF34) -> 0.81 | AG35: =SUM(AG11:AG34) -> 0 | AH35: =SUM(AH11:AH34) -> 0 | AI35: =SUM(AI11:AI34) -> 0 | AJ35: =SUM(AJ11:AJ34) -> 2.6 | AK35: 覆工スパン単位の 健全性の 診断の区分 | AM35: Ⅱ
L36: 対策区分の 判定結果 | O36: 対策区分毎の変状数注3 | Y36: Ⅳ | Z36: Ⅲ | AA36: Ⅱa | AB36: Ⅱb | AC36: Ⅳ | AD36: Ⅲ | AE36: Ⅱa | AF36: Ⅱb | AG36: Ⅳ | AH36: Ⅲ | AI36: Ⅱa | AJ36: Ⅱb
Y37: =IF(COUNTIF(Y11:Y34,"〇")>0,1,0) -> 0 | Z37: =IF(COUNTIF(Z11:Z34,"〇")>0,1,0) -> 0 | AA37: =IF(COUNTIF(AA11:AA34,"〇")>0,1,0) -> 0 | AB37: =IF(COUNTIF(AB11:AB34,"〇")>0,1,0) -> 0 | AC37: =COUNTA(AC11:AC34) -> 0 | AD37: =COUNTA(AD11:AD34) -> 0 | AE37: =COUNTA(AE11:AE34) -> 0 | AF37: =COUNTA(AF11:AF34) -> 8 | AG37: =COUNTA(AG11:AG34) -> 0 | AH37: =COUNTA(AH11:AH34) -> 0 | AI37: =COUNTA(AI11:AI34) -> 0 | AJ37: =COUNTA(AJ11:AJ34) -> 1 | AU37: =+Y37 -> 0
K39: 所見
K43: 注1：誤記入防止のため、当該変状区分以外のセルは灰色表示とすること。
K44: 注2：応急措置を実施した場合は、その詳細を備考に記載すること。
K45: 注3：外力は覆工スパン単位、材質劣化、漏水は変状単位とすること。
B46: （以下、印刷不要）
B47: ※1：本シートは作成洩れのないよう、変状が無くても全スパン分を作成すること．また変状展開図は、様式D-2-1、様式D-2-1'と同じものを覆工スパン単位で拡大し掲載すること。
B48: ※2：変状番号は、様式D-1-1で記入した番号と整合させること。
B49: ※3：対策区分毎の変状発生規模は、様式D-1-1に記載した面積を記入すること（ただし外力はスパン単位で評価するため変状の有無の欄には面積でなく○を記入し、備考欄に状況を記入）。
B50: ※4：本様式は覆工スパン毎に作成すること。
B51: ※5：変状数が多い場合は、適時、表の行を増やして覆工スパン毎に1枚のシートに収めること。また、1スパン１シートとし、スパンに合わせてシートを追加すること。
B52: ※6：対策区分毎の変状の発生範囲の規模とは，対策を行う際に参考となる変状の長さや面積であり，変状を包含する長さや面積とする。
B53: ※7：対策範囲を示す発生範囲の規模を面積で記入することが妥当ではない変状は、発生範囲の規模の欄に○を記入するとともに、備考に内容を記入すること。

Sheet 様式D-3_S006
AU1: 様式F用→ | AV1: 覆工スパン | AY1: 変 状 数 | BK1: 変 状 規 模
AV2: 番号 | AW2: 延長 （ｍ） | AX2: 健全性の診断の 区分 | AY2: 対策区分の判定 | BK2: 覆工スパン長（ｍ） | BO2: 変状の発生範囲の規模（㎡）
B3: ■定期点検記録様式 覆工スパン別変状詳細展開図 【様式D-3】 | AY3: 外力 | BC3: 材質劣化 | BG3: 漏水 | BK3: 外力 注2 | BO3: 材質劣化 | BS3: 漏水
B4: フリガナ | E4: ヒヨヂトンネル | K4: 路線名 | N4: 国道376号 | T4: 定期点検実施者 | Y4: 株式会社 長大 | AG4: 定期点検年月日 | AK4: 45908 | AY4: Ⅳ | AZ4: Ⅲ | BA4: Ⅱa | BB4: Ⅱb | BC4: Ⅳ | BD4: Ⅲ | BE4: Ⅱa | BF4: Ⅱb | BG4: Ⅳ | BH4: Ⅲ | BI4: Ⅱa | BJ4: Ⅱb | BK4: Ⅳ | BL4: Ⅲ | BM4: Ⅱa | BN4: Ⅱb | BO4: Ⅳ | BP4: Ⅲ | BQ4: Ⅱa | BR4: Ⅱb | BS4: Ⅳ | BT4: Ⅲ | BU4: Ⅱa | BV4: Ⅱb
B5: 名 称 | E5: 桧余地トンネル | K5: 管理者名 | N5: 岩国土木建築事務所 | Y5: 鷲尾 寛 | AV5: =N7 -> S006 | AW5: =R7 -> 5.8 | AX5: =AM35 -> Ⅱ | AY5: =IF(Y37>0,Y37,"") | AZ5: =IF(Y37>0,"",IF(Z37>0,Z37,"")) | BA5: =IF(Y37+Z37>0,"",IF(AA37>0,AA37,"")) | BB5: =IF(Y37+Z37+AA37>0,"",IF(AB37>0,AB37,"")) | BC5: =AC37 -> 0 | BD5: =AD37 -> 0 | BE5: =AE37 -> 3 | BF5: =AF37 -> 4 | BG5: =AG37 -> 0 | BH5: =AH37 -> 0 | BI5: =AI37 -> 0 | BJ5: =AJ37 -> 0 | BK5: =IF(Y37>0,R7,"") | BL5: =IF(Y37>0,"",IF(Z37>0,R7,"")) | BM5: =IF(Y37+Z37>0,"",IF(AA37>0,R7,"")) | BN5: =IF(Y37+Z37+AA37>0,"",IF(AB37>0,R7,"")) | BO5: =AC35 -> 0 | BP5: =AD35 -> 0 | BQ5: =AE35 -> 0.03 | BR5: =AF35 -> 0.9 | BS5: =AG35 -> 0 | BT5: =AH35 -> 0 | BU5: =AI35 -> 0 | BV5: =AJ35 -> 0
B6: スパン別変状展開図 | K6: 【健全性判定集計表】
K7: スパン番号 | N7: S006 | P7: スパン長 | R7: 5.8 | U7: 前回定期点検時の判定 | W7: 応急措置前の判定 | Y7: 対策区分毎の 変状の有無 | AC7: 対策区分毎の変状の発生範囲の規模(㎡) | AK7: 備考注2
K8: 変状番号 | L8: 対象箇所 | N8: 部位区分 | P8: 変状区分 | R8: 変状種類
Y9: 外力注1 | AC9: 材質劣化注1 | AG9: 漏水注1
Y10: Ⅳ | Z10: Ⅲ | AA10: Ⅱa | AB10: Ⅱb | AC10: Ⅳ | AD10: Ⅲ | AE10: Ⅱa | AF10: Ⅱb | AG10: Ⅳ | AH10: Ⅲ | AI10: Ⅱa | AJ10: Ⅱb
K11: 5 | L11: 覆工 | N11: アーチ（左側） | P11: 材質劣化 | R11: うき・はく離 | U11: Ⅱb | AE11: 0.01 | AQ11: =IF(P11="材質劣化",2,IF(P11="漏水",3,1)) -> 2 | AS11: =IF(Y11<>"",1,"")
K12: 9 | L12: 覆工 | N12: アーチ（右側） | P12: 材質劣化 | R12: うき・はく離 | U12: Ⅱb | AE12: 0.01 | AQ12: =IF(P12="材質劣化",2,IF(P12="漏水",3,1)) -> 2
K13: 12 | L13: 覆工 | N13: 側壁（左側） | P13: 材質劣化 | R13: 鋼材腐食 | U13: Ⅱb | AF13: 0.01 | AQ13: =IF(P13="材質劣化",2,IF(P13="漏水",3,1)) -> 2
K14: 13 | L14: 覆工 | N14: 水平打ち継ぎ目（左側） | P14: 材質劣化 | R14: うき・はく離 | U14: Ⅱa | AF14: 0.3 | AQ14: =IF(P14="材質劣化",2,IF(P14="漏水",3,1)) -> 2
K15: 14 | L15: 覆工 | N15: 水平打ち継ぎ目（右側） | P15: 材質劣化 | R15: うき・はく離 | U15: Ⅱa | AF15: 0.58 | AQ15: =IF(P15="材質劣化",2,IF(P15="漏水",3,1)) -> 2
K16: 15 | L16: 覆工 | N16: 側壁（右側） | P16: 材質劣化 | R16: 鋼材腐食 | U16: Ⅱb | AF16: 0.01 | AQ16: =IF(P16="材質劣化",2,IF(P16="漏水",3,1)) -> 2
K17: 18 | L17: 覆工 | N17: アーチ（天端） | P17: 材質劣化 | R17: うき・はく離 | U17: － | AE17: 0.01 | AQ17: =IF(P17="材質劣化",2,IF(P17="漏水",3,1)) -> 2
K18: 8 | AQ18: =IF(P18="材質劣化",2,IF(P18="漏水",3,1)) -> 1
K19: 9 | AQ19: =IF(P19="材質劣化",2,IF(P19="漏水",3,1)) -> 1
K20: 10 | AQ20: =IF(P20="材質劣化",2,IF(P20="漏水",3,1)) -> 1
K21: 11 | AQ21: =IF(P21="材質劣化",2,IF(P21="漏水",3,1)) -> 1
K22: 12 | AQ22: =IF(P22="材質劣化",2,IF(P22="漏水",3,1)) -> 1
K23: 13 | AQ23: =IF(P23="材質劣化",2,IF(P23="漏水",3,1)) -> 1
K24: 14 | AQ24: =IF(P24="材質劣化",2,IF(P24="漏水",3,1)) -> 1
K25: 15 | AQ25: =IF(P25="材質劣化",2,IF(P25="漏水",3,1)) -> 1
K26: 16 | AQ26: =IF(P26="材質劣化",2,IF(P26="漏水",3,1)) -> 1
K27: 17 | AQ27: =IF(P27="材質劣化",2,IF(P27="漏水",3,1)) -> 1
K28: 18 | AQ28: =IF(P30="材質劣化",2,IF(P30="漏水",3,1)) -> 1
K29: 19 | AQ29: =IF(P34="材質劣化",2,IF(P34="漏水",3,1)) -> 1
K30: 20 | AQ30: =IF(P30="材質劣化",2,IF(P30="漏水",3,1)) -> 1
K31: 21 | AQ31: =IF(P33="材質劣化",2,IF(P33="漏水",3,1)) -> 1
K32: 22 | AQ32: =IF(P37="材質劣化",2,IF(P37="漏水",3,1)) -> 1
K33: 23 | AQ33: =IF(P33="材質劣化",2,IF(P33="漏水",3,1)) -> 1
K34: 24 | AQ34: =IF(P36="材質劣化",2,IF(P36="漏水",3,1)) -> 1
K35: 集計 判定 診断 | L35: 変状の発生規模合計(㎡) | Y35: － | AC35: =SUM(AC11:AC34) -> 0 | AD35: =SUM(AD11:AD34) -> 0 | AE35: =SUM(AE11:AE34) -> 0.03 | AF35: =SUM(AF11:AF34) -> 0.9 | AG35: =SUM(AG11:AG34) -> 0 | AH35: =SUM(AH11:AH34) -> 0 | AI35: =SUM(AI11:AI34) -> 0 | AJ35: =SUM(AJ11:AJ34) -> 0 | AK35: 覆工スパン単位の 健全性の 診断の区分 | AM35: Ⅱ
L36: 対策区分の 判定結果 | O36: 対策区分毎の変状数注3 | Y36: Ⅳ | Z36: Ⅲ | AA36: Ⅱa | AB36: Ⅱb | AC36: Ⅳ | AD36: Ⅲ | AE36: Ⅱa | AF36: Ⅱb | AG36: Ⅳ | AH36: Ⅲ | AI36: Ⅱa | AJ36: Ⅱb
Y37: =IF(COUNTIF(Y11:Y34,"〇")>0,1,0) -> 0 | Z37: =IF(COUNTIF(Z11:Z34,"〇")>0,1,0) -> 0 | AA37: =IF(COUNTIF(AA11:AA34,"〇")>0,1,0) -> 0 | AB37: =IF(COUNTIF(AB11:AB34,"〇")>0,1,0) -> 0 | AC37: =COUNTA(AC11:AC34) -> 0 | AD37: =COUNTA(AD11:AD34) -> 0 | AE37: =COUNTA(AE11:AE34) -> 3 | AF37: =COUNTA(AF11:AF34) -> 4 | AG37: =COUNTA(AG11:AG34) -> 0 | AH37: =COUNTA(AH11:AH34) -> 0 | AI37: =COUNTA(AI11:AI34) -> 0 | AJ37: =COUNTA(AJ11:AJ34) -> 0 | AU37: =+Y37 -> 0
K39: 所見
K43: 注1：誤記入防止のため、当該変状区分以外のセルは灰色表示とすること。
K44: 注2：応急措置を実施した場合は、その詳細を備考に記載すること。
K45: 注3：外力は覆工スパン単位、材質劣化、漏水は変状単位とすること。
B46: （以下、印刷不要）
B47: ※1：本シートは作成洩れのないよう、変状が無くても全スパン分を作成すること．また変状展開図は、様式D-2-1、様式D-2-1'と同じものを覆工スパン単位で拡大し掲載すること。
B48: ※2：変状番号は、様式D-1-1で記入した番号と整合させること。
B49: ※3：対策区分毎の変状発生規模は、様式D-1-1に記載した面積を記入すること（ただし外力はスパン単位で評価するため変状の有無の欄には面積でなく○を記入し、備考欄に状況を記入）。
B50: ※4：本様式は覆工スパン毎に作成すること。
B51: ※5：変状数が多い場合は、適時、表の行を増やして覆工スパン毎に1枚のシートに収めること。また、1スパン１シートとし、スパンに合わせてシートを追加すること。
B52: ※6：対策区分毎の変状の発生範囲の規模とは，対策を行う際に参考となる変状の長さや面積であり，変状を包含する長さや面積とする。
B53: ※7：対策範囲を示す発生範囲の規模を面積で記入することが妥当ではない変状は、発生範囲の規模の欄に○を記入するとともに、備考に内容を記入すること。

Sheet 様式D-3_S007
AU1: 様式F用→ | AV1: 覆工スパン | AY1: 変 状 数 | BK1: 変 状 規 模
AV2: 番号 | AW2: 延長 （ｍ） | AX2: 健全性の診断の 区分 | AY2: 対策区分の判定 | BK2: 覆工スパン長（ｍ） | BO2: 変状の発生範囲の規模（㎡）
B3: ■定期点検記録様式 覆工スパン別変状詳細展開図 【様式D-3】 | AY3: 外力 | BC3: 材質劣化 | BG3: 漏水 | BK3: 外力 注2 | BO3: 材質劣化 | BS3: 漏水
B4: フリガナ | E4: ヒヨヂトンネル | K4: 路線名 | N4: 国道376号 | T4: 定期点検実施者 | Y4: 株式会社 長大 | AG4: 定期点検年月日 | AK4: 45908 | AY4: Ⅳ | AZ4: Ⅲ | BA4: Ⅱa | BB4: Ⅱb | BC4: Ⅳ | BD4: Ⅲ | BE4: Ⅱa | BF4: Ⅱb | BG4: Ⅳ | BH4: Ⅲ | BI4: Ⅱa | BJ4: Ⅱb | BK4: Ⅳ | BL4: Ⅲ | BM4: Ⅱa | BN4: Ⅱb | BO4: Ⅳ | BP4: Ⅲ | BQ4: Ⅱa | BR4: Ⅱb | BS4: Ⅳ | BT4: Ⅲ | BU4: Ⅱa | BV4: Ⅱb
B5: 名 称 | E5: 桧余地トンネル | K5: 管理者名 | N5: 岩国土木建築事務所 | Y5: 鷲尾 寛 | AV5: =N7 -> S007 | AW5: =R7 -> 5.7 | AX5: =AM35 -> Ⅱ | AY5: =IF(Y37>0,Y37,"") | AZ5: =IF(Y37>0,"",IF(Z37>0,Z37,"")) | BA5: =IF(Y37+Z37>0,"",IF(AA37>0,AA37,"")) | BB5: =IF(Y37+Z37+AA37>0,"",IF(AB37>0,AB37,"")) | BC5: =AC37 -> 0 | BD5: =AD37 -> 0 | BE5: =AE37 -> 3 | BF5: =AF37 -> 5 | BG5: =AG37 -> 0 | BH5: =AH37 -> 0 | BI5: =AI37 -> 0 | BJ5: =AJ37 -> 0 | BK5: =IF(Y37>0,R7,"") | BL5: =IF(Y37>0,"",IF(Z37>0,R7,"")) | BM5: =IF(Y37+Z37>0,"",IF(AA37>0,R7,"")) | BN5: =IF(Y37+Z37+AA37>0,"",IF(AB37>0,R7,"")) | BO5: =AC35 -> 0 | BP5: =AD35 -> 0 | BQ5: =AE35 -> 0.09 | BR5: =AF35 -> 0.64 | BS5: =AG35 -> 0 | BT5: =AH35 -> 0 | BU5: =AI35 -> 0 | BV5: =AJ35 -> 0
B6: スパン別変状展開図 | K6: 【健全性判定集計表】
K7: スパン番号 | N7: S007 | P7: スパン長 | R7: 5.7 | U7: 前回定期点検時の判定 | W7: 応急措置前の判定 | Y7: 対策区分毎の 変状の有無 | AC7: 対策区分毎の変状の発生範囲の規模(㎡) | AK7: 備考注2
K8: 変状番号 | L8: 対象箇所 | N8: 部位区分 | P8: 変状区分 | R8: 変状種類
Y9: 外力注1 | AC9: 材質劣化注1 | AG9: 漏水注1
Y10: Ⅳ | Z10: Ⅲ | AA10: Ⅱa | AB10: Ⅱb | AC10: Ⅳ | AD10: Ⅲ | AE10: Ⅱa | AF10: Ⅱb | AG10: Ⅳ | AH10: Ⅲ | AI10: Ⅱa | AJ10: Ⅱb
K11: 3 | L11: 覆工 | N11: 横断目地（天端） | P11: 材質劣化 | R11: うき・はく離 | U11: Ⅱb | AE11: 0.06 | AQ11: =IF(P11="材質劣化",2,IF(P11="漏水",3,1)) -> 2 | AS11: =IF(Y11<>"",1,"")
K12: 5 | L12: 覆工 | N12: アーチ（天端） | P12: 材質劣化 | R12: うき・はく離 | U12: Ⅱb | AE12: 0.01 | AQ12: =IF(P12="材質劣化",2,IF(P12="漏水",3,1)) -> 2
K13: 6 | L13: 覆工 | N13: アーチ（天端） | P13: 材質劣化 | R13: うき・はく離 | U13: Ⅱb | AE13: 0.02 | AQ13: =IF(P13="材質劣化",2,IF(P13="漏水",3,1)) -> 2
K14: 7 | L14: 覆工 | N14: 横断目地（右側） | P14: 材質劣化 | R14: うき・はく離 | U14: Ⅱb | AF14: 0.01 | AQ14: =IF(P14="材質劣化",2,IF(P14="漏水",3,1)) -> 2
K15: 8 | L15: 覆工 | N15: アーチ（天端） | P15: 材質劣化 | R15: 鋼材腐食 | U15: Ⅱb | AF15: 0.01 | AQ15: =IF(P15="材質劣化",2,IF(P15="漏水",3,1)) -> 2
K16: 12 | L16: 覆工 | N16: 水平打ち継ぎ目（左側） | P16: 材質劣化 | R16: うき・はく離 | U16: Ⅱa | AF16: 0.04 | AQ16: =IF(P16="材質劣化",2,IF(P16="漏水",3,1)) -> 2
K17: 13 | L17: 覆工 | N17: 水平打ち継ぎ目（右側） | P17: 材質劣化 | R17: うき・はく離 | U17: Ⅱa | AF17: 0.57 | AQ17: =IF(P17="材質劣化",2,IF(P17="漏水",3,1)) -> 2
K18: 17 | L18: 覆工 | N18: 側壁（左側） | P18: 材質劣化 | R18: 鋼材腐食 | U18: － | AF18: 0.01 | AQ18: =IF(P18="材質劣化",2,IF(P18="漏水",3,1)) -> 2
K19: 9 | AQ19: =IF(P19="材質劣化",2,IF(P19="漏水",3,1)) -> 1
K20: 10 | AQ20: =IF(P20="材質劣化",2,IF(P20="漏水",3,1)) -> 1
K21: 11 | AQ21: =IF(P21="材質劣化",2,IF(P21="漏水",3,1)) -> 1
K22: 12 | AQ22: =IF(P22="材質劣化",2,IF(P22="漏水",3,1)) -> 1
K23: 13 | AQ23: =IF(P23="材質劣化",2,IF(P23="漏水",3,1)) -> 1
K24: 14 | AQ24: =IF(P24="材質劣化",2,IF(P24="漏水",3,1)) -> 1
K25: 15 | AQ25: =IF(P25="材質劣化",2,IF(P25="漏水",3,1)) -> 1
K26: 16 | AQ26: =IF(P26="材質劣化",2,IF(P26="漏水",3,1)) -> 1
K27: 17 | AQ27: =IF(P27="材質劣化",2,IF(P27="漏水",3,1)) -> 1
K28: 18 | AQ28: =IF(P30="材質劣化",2,IF(P30="漏水",3,1)) -> 1
K29: 19 | AQ29: =IF(P34="材質劣化",2,IF(P34="漏水",3,1)) -> 1
K30: 20 | AQ30: =IF(P30="材質劣化",2,IF(P30="漏水",3,1)) -> 1
K31: 21 | AQ31: =IF(P33="材質劣化",2,IF(P33="漏水",3,1)) -> 1
K32: 22 | AQ32: =IF(P37="材質劣化",2,IF(P37="漏水",3,1)) -> 1
K33: 23 | AQ33: =IF(P33="材質劣化",2,IF(P33="漏水",3,1)) -> 1
K34: 24 | AQ34: =IF(P36="材質劣化",2,IF(P36="漏水",3,1)) -> 1
K35: 集計 判定 診断 | L35: 変状の発生規模合計(㎡) | Y35: － | AC35: =SUM(AC11:AC34) -> 0 | AD35: =SUM(AD11:AD34) -> 0 | AE35: =SUM(AE11:AE34) -> 0.09 | AF35: =SUM(AF11:AF34) -> 0.64 | AG35: =SUM(AG11:AG34) -> 0 | AH35: =SUM(AH11:AH34) -> 0 | AI35: =SUM(AI11:AI34) -> 0 | AJ35: =SUM(AJ11:AJ34) -> 0 | AK35: 覆工スパン単位の 健全性の 診断の区分 | AM35: Ⅱ
L36: 対策区分の 判定結果 | O36: 対策区分毎の変状数注3 | Y36: Ⅳ | Z36: Ⅲ | AA36: Ⅱa | AB36: Ⅱb | AC36: Ⅳ | AD36: Ⅲ | AE36: Ⅱa | AF36: Ⅱb | AG36: Ⅳ | AH36: Ⅲ | AI36: Ⅱa | AJ36: Ⅱb
Y37: =IF(COUNTIF(Y11:Y34,"〇")>0,1,0) -> 0 | Z37: =IF(COUNTIF(Z11:Z34,"〇")>0,1,0) -> 0 | AA37: =IF(COUNTIF(AA11:AA34,"〇")>0,1,0) -> 0 | AB37: =IF(COUNTIF(AB11:AB34,"〇")>0,1,0) -> 0 | AC37: =COUNTA(AC11:AC34) -> 0 | AD37: =COUNTA(AD11:AD34) -> 0 | AE37: =COUNTA(AE11:AE34) -> 3 | AF37: =COUNTA(AF11:AF34) -> 5 | AG37: =COUNTA(AG11:AG34) -> 0 | AH37: =COUNTA(AH11:AH34) -> 0 | AI37: =COUNTA(AI11:AI34) -> 0 | AJ37: =COUNTA(AJ11:AJ34) -> 0 | AU37: =+Y37 -> 0
K39: 所見
K43: 注1：誤記入防止のため、当該変状区分以外のセルは灰色表示とすること。
K44: 注2：応急措置を実施した場合は、その詳細を備考に記載すること。
K45: 注3：外力は覆工スパン単位、材質劣化、漏水は変状単位とすること。
B46: （以下、印刷不要）
B47: ※1：本シートは作成洩れのないよう、変状が無くても全スパン分を作成すること．また変状展開図は、様式D-2-1、様式D-2-1'と同じものを覆工スパン単位で拡大し掲載すること。
B48: ※2：変状番号は、様式D-1-1で記入した番号と整合させること。
B49: ※3：対策区分毎の変状発生規模は、様式D-1-1に記載した面積を記入すること（ただし外力はスパン単位で評価するため変状の有無の欄には面積でなく○を記入し、備考欄に状況を記入）。
B50: ※4：本様式は覆工スパン毎に作成すること。
B51: ※5：変状数が多い場合は、適時、表の行を増やして覆工スパン毎に1枚のシートに収めること。また、1スパン１シートとし、スパンに合わせてシートを追加すること。
B52: ※6：対策区分毎の変状の発生範囲の規模とは，対策を行う際に参考となる変状の長さや面積であり，変状を包含する長さや面積とする。
B53: ※7：対策範囲を示す発生範囲の規模を面積で記入することが妥当ではない変状は、発生範囲の規模の欄に○を記入するとともに、備考に内容を記入すること。

Sheet 様式D-3_S008
AU1: 様式F用→ | AV1: 覆工スパン | AY1: 変 状 数 | BK1: 変 状 規 模
AV2: 番号 | AW2: 延長 （ｍ） | AX2: 健全性の診断の 区分 | AY2: 対策区分の判定 | BK2: 覆工スパン長（ｍ） | BO2: 変状の発生範囲の規模（㎡）
B3: ■定期点検記録様式 覆工スパン別変状詳細展開図 【様式D-3】 | AY3: 外力 | BC3: 材質劣化 | BG3: 漏水 | BK3: 外力 注2 | BO3: 材質劣化 | BS3: 漏水
B4: フリガナ | E4: ヒヨヂトンネル | K4: 路線名 | N4: 国道376号 | T4: 定期点検実施者 | Y4: 株式会社 長大 | AG4: 定期点検年月日 | AK4: 45908 | AY4: Ⅳ | AZ4: Ⅲ | BA4: Ⅱa | BB4: Ⅱb | BC4: Ⅳ | BD4: Ⅲ | BE4: Ⅱa | BF4: Ⅱb | BG4: Ⅳ | BH4: Ⅲ | BI4: Ⅱa | BJ4: Ⅱb | BK4: Ⅳ | BL4: Ⅲ | BM4: Ⅱa | BN4: Ⅱb | BO4: Ⅳ | BP4: Ⅲ | BQ4: Ⅱa | BR4: Ⅱb | BS4: Ⅳ | BT4: Ⅲ | BU4: Ⅱa | BV4: Ⅱb
B5: 名 称 | E5: 桧余地トンネル | K5: 管理者名 | N5: 岩国土木建築事務所 | Y5: 鷲尾 寛 | AV5: =N7 -> S008 | AW5: =R7 -> 5.8 | AX5: =AM35 -> Ⅱ | AY5: =IF(Y37>0,Y37,"") | AZ5: =IF(Y37>0,"",IF(Z37>0,Z37,"")) | BA5: =IF(Y37+Z37>0,"",IF(AA37>0,AA37,"")) | BB5: =IF(Y37+Z37+AA37>0,"",IF(AB37>0,AB37,"")) | BC5: =AC37 -> 0 | BD5: =AD37 -> 0 | BE5: =AE37 -> 4 | BF5: =AF37 -> 3 | BG5: =AG37 -> 0 | BH5: =AH37 -> 0 | BI5: =AI37 -> 0 | BJ5: =AJ37 -> 0 | BK5: =IF(Y37>0,R7,"") | BL5: =IF(Y37>0,"",IF(Z37>0,R7,"")) | BM5: =IF(Y37+Z37>0,"",IF(AA37>0,R7,"")) | BN5: =IF(Y37+Z37+AA37>0,"",IF(AB37>0,R7,"")) | BO5: =AC35 -> 0 | BP5: =AD35 -> 0 | BQ5: =AE35 -> 0.04 | BR5: =AF35 -> 1.13 | BS5: =AG35 -> 0 | BT5: =AH35 -> 0 | BU5: =AI35 -> 0 | BV5: =AJ35 -> 0
B6: スパン別変状展開図 | K6: 【健全性判定集計表】
K7: スパン番号 | N7: S008 | P7: スパン長 | R7: 5.8 | U7: 前回定期点検時の判定 | W7: 応急措置前の判定 | Y7: 対策区分毎の 変状の有無 | AC7: 対策区分毎の変状の発生範囲の規模(㎡) | AK7: 備考注2
K8: 変状番号 | L8: 対象箇所 | N8: 部位区分 | P8: 変状区分 | R8: 変状種類
Y9: 外力注1 | AC9: 材質劣化注1 | AG9: 漏水注1
Y10: Ⅳ | Z10: Ⅲ | AA10: Ⅱa | AB10: Ⅱb | AC10: Ⅳ | AD10: Ⅲ | AE10: Ⅱa | AF10: Ⅱb | AG10: Ⅳ | AH10: Ⅲ | AI10: Ⅱa | AJ10: Ⅱb
K11: 2 | L11: 覆工 | N11: アーチ（左側） | P11: 材質劣化 | R11: うき・はく離 | U11: Ⅱb | AE11: 0.01 | AQ11: =IF(P11="材質劣化",2,IF(P11="漏水",3,1)) -> 2 | AS11: =IF(Y11<>"",1,"")
K12: 6 | L12: 覆工 | N12: アーチ（右側） | P12: 材質劣化 | R12: うき・はく離 | U12: Ⅱb | AE12: 0.01 | AQ12: =IF(P12="材質劣化",2,IF(P12="漏水",3,1)) -> 2
K13: 7 | L13: 覆工 | N13: アーチ（右側） | P13: 材質劣化 | R13: うき・はく離 | U13: Ⅱb | AE13: 0.01 | AQ13: =IF(P13="材質劣化",2,IF(P13="漏水",3,1)) -> 2
K14: 10 | L14: 覆工 | N14: 側壁（左側） | P14: 材質劣化 | R14: 鋼材腐食 | U14: Ⅱb | AF14: 0.01 | AQ14: =IF(P14="材質劣化",2,IF(P14="漏水",3,1)) -> 2
K15: 11 | L15: 覆工 | N15: 水平打ち継ぎ目（左側） | P15: 材質劣化 | R15: うき・はく離 | U15: Ⅱa | AF15: 0.54 | AQ15: =IF(P15="材質劣化",2,IF(P15="漏水",3,1)) -> 2
K16: 12 | L16: 覆工 | N16: 水平打ち継ぎ目（右側） | P16: 材質劣化 | R16: うき・はく離 | U16: Ⅱa | AF16: 0.58 | AQ16: =IF(P16="材質劣化",2,IF(P16="漏水",3,1)) -> 2
K17: 15 | L17: 覆工 | N17: アーチ（天端） | P17: 材質劣化 | R17: うき・はく離 | U17: － | AE17: 0.01 | AQ17: =IF(P17="材質劣化",2,IF(P17="漏水",3,1)) -> 2
K18: 8 | AQ18: =IF(P18="材質劣化",2,IF(P18="漏水",3,1)) -> 1
K19: 9 | AQ19: =IF(P19="材質劣化",2,IF(P19="漏水",3,1)) -> 1
K20: 10 | AQ20: =IF(P20="材質劣化",2,IF(P20="漏水",3,1)) -> 1
K21: 11 | AQ21: =IF(P21="材質劣化",2,IF(P21="漏水",3,1)) -> 1
K22: 12 | AQ22: =IF(P22="材質劣化",2,IF(P22="漏水",3,1)) -> 1
K23: 13 | AQ23: =IF(P23="材質劣化",2,IF(P23="漏水",3,1)) -> 1
K24: 14 | AQ24: =IF(P24="材質劣化",2,IF(P24="漏水",3,1)) -> 1
K25: 15 | AQ25: =IF(P25="材質劣化",2,IF(P25="漏水",3,1)) -> 1
K26: 16 | AQ26: =IF(P26="材質劣化",2,IF(P26="漏水",3,1)) -> 1
K27: 17 | AQ27: =IF(P27="材質劣化",2,IF(P27="漏水",3,1)) -> 1
K28: 18 | AQ28: =IF(P30="材質劣化",2,IF(P30="漏水",3,1)) -> 1
K29: 19 | AQ29: =IF(P34="材質劣化",2,IF(P34="漏水",3,1)) -> 1
K30: 20 | AQ30: =IF(P30="材質劣化",2,IF(P30="漏水",3,1)) -> 1
K31: 21 | AQ31: =IF(P33="材質劣化",2,IF(P33="漏水",3,1)) -> 1
K32: 22 | AQ32: =IF(P37="材質劣化",2,IF(P37="漏水",3,1)) -> 1
K33: 23 | AQ33: =IF(P33="材質劣化",2,IF(P33="漏水",3,1)) -> 1
K34: 24 | AQ34: =IF(P36="材質劣化",2,IF(P36="漏水",3,1)) -> 1
K35: 集計 判定 診断 | L35: 変状の発生規模合計(㎡) | Y35: － | AC35: =SUM(AC11:AC34) -> 0 | AD35: =SUM(AD11:AD34) -> 0 | AE35: =SUM(AE11:AE34) -> 0.04 | AF35: =SUM(AF11:AF34) -> 1.13 | AG35: =SUM(AG11:AG34) -> 0 | AH35: =SUM(AH11:AH34) -> 0 | AI35: =SUM(AI11:AI34) -> 0 | AJ35: =SUM(AJ11:AJ34) -> 0 | AK35: 覆工スパン単位の 健全性の 診断の区分 | AM35: Ⅱ
L36: 対策区分の 判定結果 | O36: 対策区分毎の変状数注3 | Y36: Ⅳ | Z36: Ⅲ | AA36: Ⅱa | AB36: Ⅱb | AC36: Ⅳ | AD36: Ⅲ | AE36: Ⅱa | AF36: Ⅱb | AG36: Ⅳ | AH36: Ⅲ | AI36: Ⅱa | AJ36: Ⅱb
Y37: =IF(COUNTIF(Y11:Y34,"〇")>0,1,0) -> 0 | Z37: =IF(COUNTIF(Z11:Z34,"〇")>0,1,0) -> 0 | AA37: =IF(COUNTIF(AA11:AA34,"〇")>0,1,0) -> 0 | AB37: =IF(COUNTIF(AB11:AB34,"〇")>0,1,0) -> 0 | AC37: =COUNTA(AC11:AC34) -> 0 | AD37: =COUNTA(AD11:AD34) -> 0 | AE37: =COUNTA(AE11:AE34) -> 4 | AF37: =COUNTA(AF11:AF34) -> 3 | AG37: =COUNTA(AG11:AG34) -> 0 | AH37: =COUNTA(AH11:AH34) -> 0 | AI37: =COUNTA(AI11:AI34) -> 0 | AJ37: =COUNTA(AJ11:AJ34) -> 0 | AU37: =+Y37 -> 0
K39: 所見
K43: 注1：誤記入防止のため、当該変状区分以外のセルは灰色表示とすること。
K44: 注2：応急措置を実施した場合は、その詳細を備考に記載すること。
K45: 注3：外力は覆工スパン単位、材質劣化、漏水は変状単位とすること。
B46: （以下、印刷不要）
B47: ※1：本シートは作成洩れのないよう、変状が無くても全スパン分を作成すること．また変状展開図は、様式D-2-1、様式D-2-1'と同じものを覆工スパン単位で拡大し掲載すること。
B48: ※2：変状番号は、様式D-1-1で記入した番号と整合させること。
B49: ※3：対策区分毎の変状発生規模は、様式D-1-1に記載した面積を記入すること（ただし外力はスパン単位で評価するため変状の有無の欄には面積でなく○を記入し、備考欄に状況を記入）。
B50: ※4：本様式は覆工スパン毎に作成すること。
B51: ※5：変状数が多い場合は、適時、表の行を増やして覆工スパン毎に1枚のシートに収めること。また、1スパン１シートとし、スパンに合わせてシートを追加すること。
B52: ※6：対策区分毎の変状の発生範囲の規模とは，対策を行う際に参考となる変状の長さや面積であり，変状を包含する長さや面積とする。
B53: ※7：対策範囲を示す発生範囲の規模を面積で記入することが妥当ではない変状は、発生範囲の規模の欄に○を記入するとともに、備考に内容を記入すること。

Sheet 様式D-3_S009
AU1: 様式F用→ | AV1: 覆工スパン | AY1: 変 状 数 | BK1: 変 状 規 模
AV2: 番号 | AW2: 延長 （ｍ） | AX2: 健全性の診断の 区分 | AY2: 対策区分の判定 | BK2: 覆工スパン長（ｍ） | BO2: 変状の発生範囲の規模（㎡）
B3: ■定期点検記録様式 覆工スパン別変状詳細展開図 【様式D-3】 | AY3: 外力 | BC3: 材質劣化 | BG3: 漏水 | BK3: 外力 注2 | BO3: 材質劣化 | BS3: 漏水
B4: フリガナ | E4: ヒヨヂトンネル | K4: 路線名 | N4: 国道376号 | T4: 定期点検実施者 | Y4: 株式会社 長大 | AG4: 定期点検年月日 | AK4: 45908 | AY4: Ⅳ | AZ4: Ⅲ | BA4: Ⅱa | BB4: Ⅱb | BC4: Ⅳ | BD4: Ⅲ | BE4: Ⅱa | BF4: Ⅱb | BG4: Ⅳ | BH4: Ⅲ | BI4: Ⅱa | BJ4: Ⅱb | BK4: Ⅳ | BL4: Ⅲ | BM4: Ⅱa | BN4: Ⅱb | BO4: Ⅳ | BP4: Ⅲ | BQ4: Ⅱa | BR4: Ⅱb | BS4: Ⅳ | BT4: Ⅲ | BU4: Ⅱa | BV4: Ⅱb
B5: 名 称 | E5: 桧余地トンネル | K5: 管理者名 | N5: 岩国土木建築事務所 | Y5: 鷲尾 寛 | AV5: =N7 -> S009 | AW5: =R7 -> 5.7 | AX5: =AM35 -> Ⅱ | AY5: =IF(Y37>0,Y37,"") | AZ5: =IF(Y37>0,"",IF(Z37>0,Z37,"")) | BA5: =IF(Y37+Z37>0,"",IF(AA37>0,AA37,"")) | BB5: =IF(Y37+Z37+AA37>0,"",IF(AB37>0,AB37,"")) | BC5: =AC37 -> 0 | BD5: =AD37 -> 0 | BE5: =AE37 -> 6 | BF5: =AF37 -> 5 | BG5: =AG37 -> 0 | BH5: =AH37 -> 0 | BI5: =AI37 -> 0 | BJ5: =AJ37 -> 0 | BK5: =IF(Y37>0,R7,"") | BL5: =IF(Y37>0,"",IF(Z37>0,R7,"")) | BM5: =IF(Y37+Z37>0,"",IF(AA37>0,R7,"")) | BN5: =IF(Y37+Z37+AA37>0,"",IF(AB37>0,R7,"")) | BO5: =AC35 -> 0 | BP5: =AD35 -> 0 | BQ5: =AE35 -> 0.07 | BR5: =AF35 -> 1.08 | BS5: =AG35 -> 0 | BT5: =AH35 -> 0 | BU5: =AI35 -> 0 | BV5: =AJ35 -> 0
B6: スパン別変状展開図 | K6: 【健全性判定集計表】
K7: スパン番号 | N7: S009 | P7: スパン長 | R7: 5.7 | U7: 前回定期点検時の判定 | W7: 応急措置前の判定 | Y7: 対策区分毎の 変状の有無 | AC7: 対策区分毎の変状の発生範囲の規模(㎡) | AK7: 備考注2
K8: 変状番号 | L8: 対象箇所 | N8: 部位区分 | P8: 変状区分 | R8: 変状種類
Y9: 外力注1 | AC9: 材質劣化注1 | AG9: 漏水注1
Y10: Ⅳ | Z10: Ⅲ | AA10: Ⅱa | AB10: Ⅱb | AC10: Ⅳ | AD10: Ⅲ | AE10: Ⅱa | AF10: Ⅱb | AG10: Ⅳ | AH10: Ⅲ | AI10: Ⅱa | AJ10: Ⅱb
K11: 4 | L11: 覆工 | N11: 横断目地（左側） | P11: 材質劣化 | R11: うき・はく離 | U11: Ⅱb | AE11: 0.01 | AQ11: =IF(P11="材質劣化",2,IF(P11="漏水",3,1)) -> 2 | AS11: =IF(Y11<>"",1,"")
K12: 5 | L12: 覆工 | N12: 横断目地（天端） | P12: 材質劣化 | R12: うき・はく離 | U12: Ⅱb | AF12: 0.12 | AK12: はく落防止措置実施(H26) | AQ12: =IF(P12="材質劣化",2,IF(P12="漏水",3,1)) -> 2
K13: 7 | L13: 覆工 | N13: アーチ（右側） | P13: 材質劣化 | R13: うき・はく離 | U13: Ⅱb | AE13: 0.02 | AQ13: =IF(P13="材質劣化",2,IF(P13="漏水",3,1)) -> 2
K14: 8 | L14: 覆工 | N14: アーチ（右側） | P14: 材質劣化 | R14: うき・はく離 | U14: Ⅱb | AE14: 0.01 | AQ14: =IF(P14="材質劣化",2,IF(P14="漏水",3,1)) -> 2
K15: 9 | L15: 覆工 | N15: アーチ（右側） | P15: 材質劣化 | R15: うき・はく離 | U15: Ⅱb | AE15: 0.01 | AQ15: =IF(P15="材質劣化",2,IF(P15="漏水",3,1)) -> 2
K16: 10 | L16: 覆工 | N16: アーチ（右側） | P16: 材質劣化 | R16: うき・はく離 | U16: Ⅱb | AE16: 0.01 | AQ16: =IF(P16="材質劣化",2,IF(P16="漏水",3,1)) -> 2
K17: 11 | L17: 覆工 | N17: アーチ（右側） | P17: 材質劣化 | R17: うき・はく離 | U17: Ⅱb | AE17: 0.01 | AQ17: =IF(P17="材質劣化",2,IF(P17="漏水",3,1)) -> 2
K18: 12 | L18: 覆工 | N18: アーチ（天端） | P18: 材質劣化 | R18: 鋼材腐食 | U18: Ⅱb | AF18: 0.06 | AQ18: =IF(P18="材質劣化",2,IF(P18="漏水",3,1)) -> 2
K19: 15 | L19: 覆工 | N19: アーチ（右側） | P19: 材質劣化 | R19: 圧ざ、ひび割れ | U19: Ⅱb | AF19: 0.07 | AQ19: =IF(P19="材質劣化",2,IF(P19="漏水",3,1)) -> 2
K20: 21 | L20: 覆工 | N20: 水平打ち継ぎ目（左側） | P20: 材質劣化 | R20: うき・はく離 | U20: Ⅱa | AF20: 0.26 | AQ20: =IF(P20="材質劣化",2,IF(P20="漏水",3,1)) -> 2
K21: 22 | L21: 覆工 | N21: 水平打ち継ぎ目（右側） | P21: 材質劣化 | R21: うき・はく離 | U21: Ⅱa | AF21: 0.57 | AQ21: =IF(P21="材質劣化",2,IF(P21="漏水",3,1)) -> 2
K22: 12 | AQ22: =IF(P22="材質劣化",2,IF(P22="漏水",3,1)) -> 1
K23: 13 | AQ23: =IF(P23="材質劣化",2,IF(P23="漏水",3,1)) -> 1
K24: 14 | AQ24: =IF(P24="材質劣化",2,IF(P24="漏水",3,1)) -> 1
K25: 15 | AQ25: =IF(P25="材質劣化",2,IF(P25="漏水",3,1)) -> 1
K26: 16 | AQ26: =IF(P26="材質劣化",2,IF(P26="漏水",3,1)) -> 1
K27: 17 | AQ27: =IF(P27="材質劣化",2,IF(P27="漏水",3,1)) -> 1
K28: 18 | AQ28: =IF(P30="材質劣化",2,IF(P30="漏水",3,1)) -> 1
K29: 19 | AQ29: =IF(P34="材質劣化",2,IF(P34="漏水",3,1)) -> 1
K30: 20 | AQ30: =IF(P30="材質劣化",2,IF(P30="漏水",3,1)) -> 1
K31: 21 | AQ31: =IF(P33="材質劣化",2,IF(P33="漏水",3,1)) -> 1
K32: 22 | AQ32: =IF(P37="材質劣化",2,IF(P37="漏水",3,1)) -> 1
K33: 23 | AQ33: =IF(P33="材質劣化",2,IF(P33="漏水",3,1)) -> 1
K34: 24 | AQ34: =IF(P36="材質劣化",2,IF(P36="漏水",3,1)) -> 1
K35: 集計 判定 診断 | L35: 変状の発生規模合計(㎡) | Y35: － | AC35: =SUM(AC11:AC34) -> 0 | AD35: =SUM(AD11:AD34) -> 0 | AE35: =SUM(AE11:AE34) -> 0.07 | AF35: =SUM(AF11:AF34) -> 1.08 | AG35: =SUM(AG11:AG34) -> 0 | AH35: =SUM(AH11:AH34) -> 0 | AI35: =SUM(AI11:AI34) -> 0 | AJ35: =SUM(AJ11:AJ34) -> 0 | AK35: 覆工スパン単位の 健全性の 診断の区分 | AM35: Ⅱ
L36: 対策区分の 判定結果 | O36: 対策区分毎の変状数注3 | Y36: Ⅳ | Z36: Ⅲ | AA36: Ⅱa | AB36: Ⅱb | AC36: Ⅳ | AD36: Ⅲ | AE36: Ⅱa | AF36: Ⅱb | AG36: Ⅳ | AH36: Ⅲ | AI36: Ⅱa | AJ36: Ⅱb
Y37: =IF(COUNTIF(Y11:Y34,"〇")>0,1,0) -> 0 | Z37: =IF(COUNTIF(Z11:Z34,"〇")>0,1,0) -> 0 | AA37: =IF(COUNTIF(AA11:AA34,"〇")>0,1,0) -> 0 | AB37: =IF(COUNTIF(AB11:AB34,"〇")>0,1,0) -> 0 | AC37: =COUNTA(AC11:AC34) -> 0 | AD37: =COUNTA(AD11:AD34) -> 0 | AE37: =COUNTA(AE11:AE34) -> 6 | AF37: =COUNTA(AF11:AF34) -> 5 | AG37: =COUNTA(AG11:AG34) -> 0 | AH37: =COUNTA(AH11:AH34) -> 0 | AI37: =COUNTA(AI11:AI34) -> 0 | AJ37: =COUNTA(AJ11:AJ34) -> 0 | AU37: =+Y37 -> 0
K39: 所見
K43: 注1：誤記入防止のため、当該変状区分以外のセルは灰色表示とすること。
K44: 注2：応急措置を実施した場合は、その詳細を備考に記載すること。
K45: 注3：外力は覆工スパン単位、材質劣化、漏水は変状単位とすること。
B46: （以下、印刷不要）
B47: ※1：本シートは作成洩れのないよう、変状が無くても全スパン分を作成すること．また変状展開図は、様式D-2-1、様式D-2-1'と同じものを覆工スパン単位で拡大し掲載すること。
B48: ※2：変状番号は、様式D-1-1で記入した番号と整合させること。
B49: ※3：対策区分毎の変状発生規模は、様式D-1-1に記載した面積を記入すること（ただし外力はスパン単位で評価するため変状の有無の欄には面積でなく○を記入し、備考欄に状況を記入）。
B50: ※4：本様式は覆工スパン毎に作成すること。
B51: ※5：変状数が多い場合は、適時、表の行を増やして覆工スパン毎に1枚のシートに収めること。また、1スパン１シートとし、スパンに合わせてシートを追加すること。
B52: ※6：対策区分毎の変状の発生範囲の規模とは，対策を行う際に参考となる変状の長さや面積であり，変状を包含する長さや面積とする。
B53: ※7：対策範囲を示す発生範囲の規模を面積で記入することが妥当ではない変状は、発生範囲の規模の欄に○を記入するとともに、備考に内容を記入すること。

Sheet 様式D-3_S010
AU1: 様式F用→ | AV1: 覆工スパン | AY1: 変 状 数 | BK1: 変 状 規 模
AV2: 番号 | AW2: 延長 （ｍ） | AX2: 健全性の診断の 区分 | AY2: 対策区分の判定 | BK2: 覆工スパン長（ｍ） | BO2: 変状の発生範囲の規模（㎡）
B3: ■定期点検記録様式 覆工スパン別変状詳細展開図 【様式D-3】 | AY3: 外力 | BC3: 材質劣化 | BG3: 漏水 | BK3: 外力 注2 | BO3: 材質劣化 | BS3: 漏水
B4: フリガナ | E4: ヒヨヂトンネル | K4: 路線名 | N4: 国道376号 | T4: 定期点検実施者 | Y4: 株式会社 長大 | AG4: 定期点検年月日 | AK4: 45908 | AY4: Ⅳ | AZ4: Ⅲ | BA4: Ⅱa | BB4: Ⅱb | BC4: Ⅳ | BD4: Ⅲ | BE4: Ⅱa | BF4: Ⅱb | BG4: Ⅳ | BH4: Ⅲ | BI4: Ⅱa | BJ4: Ⅱb | BK4: Ⅳ | BL4: Ⅲ | BM4: Ⅱa | BN4: Ⅱb | BO4: Ⅳ | BP4: Ⅲ | BQ4: Ⅱa | BR4: Ⅱb | BS4: Ⅳ | BT4: Ⅲ | BU4: Ⅱa | BV4: Ⅱb
B5: 名 称 | E5: 桧余地トンネル | K5: 管理者名 | N5: 岩国土木建築事務所 | Y5: 鷲尾 寛 | AV5: =N7 -> S010 | AW5: =R7 -> 5.8 | AX5: =AM35 -> Ⅱ | AY5: =IF(Y37>0,Y37,"") | AZ5: =IF(Y37>0,"",IF(Z37>0,Z37,"")) | BA5: =IF(Y37+Z37>0,"",IF(AA37>0,AA37,"")) | BB5: =IF(Y37+Z37+AA37>0,"",IF(AB37>0,AB37,"")) | BC5: =AC37 -> 0 | BD5: =AD37 -> 0 | BE5: =AE37 -> 2 | BF5: =AF37 -> 5 | BG5: =AG37 -> 0 | BH5: =AH37 -> 0 | BI5: =AI37 -> 0 | BJ5: =AJ37 -> 0 | BK5: =IF(Y37>0,R7,"") | BL5: =IF(Y37>0,"",IF(Z37>0,R7,"")) | BM5: =IF(Y37+Z37>0,"",IF(AA37>0,R7,"")) | BN5: =IF(Y37+Z37+AA37>0,"",IF(AB37>0,R7,"")) | BO5: =AC35 -> 0 | BP5: =AD35 -> 0 | BQ5: =AE35 -> 0.03 | BR5: =AF35 -> 1.27 | BS5: =AG35 -> 0 | BT5: =AH35 -> 0 | BU5: =AI35 -> 0 | BV5: =AJ35 -> 0
B6: スパン別変状展開図 | K6: 【健全性判定集計表】
K7: スパン番号 | N7: S010 | P7: スパン長 | R7: 5.8 | U7: 前回定期点検時の判定 | W7: 応急措置前の判定 | Y7: 対策区分毎の 変状の有無 | AC7: 対策区分毎の変状の発生範囲の規模(㎡) | AK7: 備考注2
K8: 変状番号 | L8: 対象箇所 | N8: 部位区分 | P8: 変状区分 | R8: 変状種類
Y9: 外力注1 | AC9: 材質劣化注1 | AG9: 漏水注1
Y10: Ⅳ | Z10: Ⅲ | AA10: Ⅱa | AB10: Ⅱb | AC10: Ⅳ | AD10: Ⅲ | AE10: Ⅱa | AF10: Ⅱb | AG10: Ⅳ | AH10: Ⅲ | AI10: Ⅱa | AJ10: Ⅱb
K11: 1 | L11: 覆工 | N11: アーチ（天端） | P11: 材質劣化 | R11: 圧ざ、ひび割れ | U11: Ⅱb | AF11: 0.6 | AQ11: =IF(P11="材質劣化",2,IF(P11="漏水",3,1)) -> 2 | AS11: =IF(Y11<>"",1,"")
K12: 4 | L12: 覆工 | N12: 横断目地（左側） | P12: 材質劣化 | R12: うき・はく離 | U12: Ⅱb | AF12: 0.01 | AQ12: =IF(P12="材質劣化",2,IF(P12="漏水",3,1)) -> 2
K13: 5 | L13: 覆工 | N13: 横断目地（天端） | P13: 材質劣化 | R13: うき・はく離 | U13: Ⅱb | AE13: 0.02 | AQ13: =IF(P13="材質劣化",2,IF(P13="漏水",3,1)) -> 2
K14: 7 | L14: 覆工 | N14: 水平打ち継ぎ目（左側） | P14: 材質劣化 | R14: うき・はく離 | U14: Ⅱa | AF14: 0.02 | AQ14: =IF(P14="材質劣化",2,IF(P14="漏水",3,1)) -> 2
K15: 8 | L15: 覆工 | N15: 水平打ち継ぎ目（右側） | P15: 材質劣化 | R15: うき・はく離 | U15: Ⅱa | AF15: 0.58 | AQ15: =IF(P15="材質劣化",2,IF(P15="漏水",3,1)) -> 2
K16: 9 | L16: 覆工 | N16: 側壁（右側） | P16: 材質劣化 | R16: うき・はく離 | U16: Ⅱb | AF16: 0.06 | AQ16: =IF(P16="材質劣化",2,IF(P16="漏水",3,1)) -> 2
K17: 12 | L17: 覆工 | N17: アーチ（左側） | P17: 材質劣化 | R17: うき・はく離 | U17: － | AE17: 0.01 | AQ17: =IF(P17="材質劣化",2,IF(P17="漏水",3,1)) -> 2
K18: 8 | AQ18: =IF(P18="材質劣化",2,IF(P18="漏水",3,1)) -> 1
K19: 9 | AQ19: =IF(P19="材質劣化",2,IF(P19="漏水",3,1)) -> 1
K20: 10 | AQ20: =IF(P20="材質劣化",2,IF(P20="漏水",3,1)) -> 1
K21: 11 | AQ21: =IF(P21="材質劣化",2,IF(P21="漏水",3,1)) -> 1
K22: 12 | AQ22: =IF(P22="材質劣化",2,IF(P22="漏水",3,1)) -> 1
K23: 13 | AQ23: =IF(P23="材質劣化",2,IF(P23="漏水",3,1)) -> 1
K24: 14 | AQ24: =IF(P24="材質劣化",2,IF(P24="漏水",3,1)) -> 1
K25: 15 | AQ25: =IF(P25="材質劣化",2,IF(P25="漏水",3,1)) -> 1
K26: 16 | AQ26: =IF(P26="材質劣化",2,IF(P26="漏水",3,1)) -> 1
K27: 17 | AQ27: =IF(P27="材質劣化",2,IF(P27="漏水",3,1)) -> 1
K28: 18 | AQ28: =IF(P30="材質劣化",2,IF(P30="漏水",3,1)) -> 1
K29: 19 | AQ29: =IF(P34="材質劣化",2,IF(P34="漏水",3,1)) -> 1
K30: 20 | AQ30: =IF(P30="材質劣化",2,IF(P30="漏水",3,1)) -> 1
K31: 21 | AQ31: =IF(P33="材質劣化",2,IF(P33="漏水",3,1)) -> 1
K32: 22 | AQ32: =IF(P37="材質劣化",2,IF(P37="漏水",3,1)) -> 1
K33: 23 | AQ33: =IF(P33="材質劣化",2,IF(P33="漏水",3,1)) -> 1
K34: 24 | AQ34: =IF(P36="材質劣化",2,IF(P36="漏水",3,1)) -> 1
K35: 集計 判定 診断 | L35: 変状の発生規模合計(㎡) | Y35: － | AC35: =SUM(AC11:AC34) -> 0 | AD35: =SUM(AD11:AD34) -> 0 | AE35: =SUM(AE11:AE34) -> 0.03 | AF35: =SUM(AF11:AF34) -> 1.27 | AG35: =SUM(AG11:AG34) -> 0 | AH35: =SUM(AH11:AH34) -> 0 | AI35: =SUM(AI11:AI34) -> 0 | AJ35: =SUM(AJ11:AJ34) -> 0 | AK35: 覆工スパン単位の 健全性の 診断の区分 | AM35: Ⅱ
L36: 対策区分の 判定結果 | O36: 対策区分毎の変状数注3 | Y36: Ⅳ | Z36: Ⅲ | AA36: Ⅱa | AB36: Ⅱb | AC36: Ⅳ | AD36: Ⅲ | AE36: Ⅱa | AF36: Ⅱb | AG36: Ⅳ | AH36: Ⅲ | AI36: Ⅱa | AJ36: Ⅱb
Y37: =IF(COUNTIF(Y11:Y34,"〇")>0,1,0) -> 0 | Z37: =IF(COUNTIF(Z11:Z34,"〇")>0,1,0) -> 0 | AA37: =IF(COUNTIF(AA11:AA34,"〇")>0,1,0) -> 0 | AB37: =IF(COUNTIF(AB11:AB34,"〇")>0,1,0) -> 0 | AC37: =COUNTA(AC11:AC34) -> 0 | AD37: =COUNTA(AD11:AD34) -> 0 | AE37: =COUNTA(AE11:AE34) -> 2 | AF37: =COUNTA(AF11:AF34) -> 5 | AG37: =COUNTA(AG11:AG34) -> 0 | AH37: =COUNTA(AH11:AH34) -> 0 | AI37: =COUNTA(AI11:AI34) -> 0 | AJ37: =COUNTA(AJ11:AJ34) -> 0 | AU37: =+Y37 -> 0
K39: 所見
K43: 注1：誤記入防止のため、当該変状区分以外のセルは灰色表示とすること。
K44: 注2：応急措置を実施した場合は、その詳細を備考に記載すること。
K45: 注3：外力は覆工スパン単位、材質劣化、漏水は変状単位とすること。
B46: （以下、印刷不要）
B47: ※1：本シートは作成洩れのないよう、変状が無くても全スパン分を作成すること．また変状展開図は、様式D-2-1、様式D-2-1'と同じものを覆工スパン単位で拡大し掲載すること。
B48: ※2：変状番号は、様式D-1-1で記入した番号と整合させること。
B49: ※3：対策区分毎の変状発生規模は、様式D-1-1に記載した面積を記入すること（ただし外力はスパン単位で評価するため変状の有無の欄には面積でなく○を記入し、備考欄に状況を記入）。
B50: ※4：本様式は覆工スパン毎に作成すること。
B51: ※5：変状数が多い場合は、適時、表の行を増やして覆工スパン毎に1枚のシートに収めること。また、1スパン１シートとし、スパンに合わせてシートを追加すること。
B52: ※6：対策区分毎の変状の発生範囲の規模とは，対策を行う際に参考となる変状の長さや面積であり，変状を包含する長さや面積とする。
B53: ※7：対策範囲を示す発生範囲の規模を面積で記入することが妥当ではない変状は、発生範囲の規模の欄に○を記入するとともに、備考に内容を記入すること。

Sheet 様式D-3_S011
AU1: 様式F用→ | AV1: 覆工スパン | AY1: 変 状 数 | BK1: 変 状 規 模
AV2: 番号 | AW2: 延長 （ｍ） | AX2: 健全性の診断の 区分 | AY2: 対策区分の判定 | BK2: 覆工スパン長（ｍ） | BO2: 変状の発生範囲の規模（㎡）
B3: ■定期点検記録様式 覆工スパン別変状詳細展開図 【様式D-3】 | AY3: 外力 | BC3: 材質劣化 | BG3: 漏水 | BK3: 外力 注2 | BO3: 材質劣化 | BS3: 漏水
B4: フリガナ | E4: ヒヨヂトンネル | K4: 路線名 | N4: 国道376号 | T4: 定期点検実施者 | Y4: 株式会社 長大 | AG4: 定期点検年月日 | AK4: 45908 | AY4: Ⅳ | AZ4: Ⅲ | BA4: Ⅱa | BB4: Ⅱb | BC4: Ⅳ | BD4: Ⅲ | BE4: Ⅱa | BF4: Ⅱb | BG4: Ⅳ | BH4: Ⅲ | BI4: Ⅱa | BJ4: Ⅱb | BK4: Ⅳ | BL4: Ⅲ | BM4: Ⅱa | BN4: Ⅱb | BO4: Ⅳ | BP4: Ⅲ | BQ4: Ⅱa | BR4: Ⅱb | BS4: Ⅳ | BT4: Ⅲ | BU4: Ⅱa | BV4: Ⅱb
B5: 名 称 | E5: 桧余地トンネル | K5: 管理者名 | N5: 岩国土木建築事務所 | Y5: 鷲尾 寛 | AV5: =N7 -> S011 | AW5: =R7 -> 5.8 | AX5: =AM35 -> Ⅱ | AY5: =IF(Y37>0,Y37,"") | AZ5: =IF(Y37>0,"",IF(Z37>0,Z37,"")) | BA5: =IF(Y37+Z37>0,"",IF(AA37>0,AA37,"")) | BB5: =IF(Y37+Z37+AA37>0,"",IF(AB37>0,AB37,"")) | BC5: =AC37 -> 0 | BD5: =AD37 -> 0 | BE5: =AE37 -> 1 | BF5: =AF37 -> 3 | BG5: =AG37 -> 0 | BH5: =AH37 -> 0 | BI5: =AI37 -> 0 | BJ5: =AJ37 -> 0 | BK5: =IF(Y37>0,R7,"") | BL5: =IF(Y37>0,"",IF(Z37>0,R7,"")) | BM5: =IF(Y37+Z37>0,"",IF(AA37>0,R7,"")) | BN5: =IF(Y37+Z37+AA37>0,"",IF(AB37>0,R7,"")) | BO5: =AC35 -> 0 | BP5: =AD35 -> 0 | BQ5: =AE35 -> 0.03 | BR5: =AF35 -> 0.74 | BS5: =AG35 -> 0 | BT5: =AH35 -> 0 | BU5: =AI35 -> 0 | BV5: =AJ35 -> 0
B6: スパン別変状展開図 | K6: 【健全性判定集計表】
K7: スパン番号 | N7: S011 | P7: スパン長 | R7: 5.8 | U7: 前回定期点検時の判定 | W7: 応急措置前の判定 | Y7: 対策区分毎の 変状の有無 | AC7: 対策区分毎の変状の発生範囲の規模(㎡) | AK7: 備考注2
K8: 変状番号 | L8: 対象箇所 | N8: 部位区分 | P8: 変状区分 | R8: 変状種類
Y9: 外力注1 | AC9: 材質劣化注1 | AG9: 漏水注1
Y10: Ⅳ | Z10: Ⅲ | AA10: Ⅱa | AB10: Ⅱb | AC10: Ⅳ | AD10: Ⅲ | AE10: Ⅱa | AF10: Ⅱb | AG10: Ⅳ | AH10: Ⅲ | AI10: Ⅱa | AJ10: Ⅱb
K11: 5 | L11: 覆工 | N11: アーチ（天端） | P11: 材質劣化 | R11: うき・はく離 | U11: Ⅱb | AE11: 0.03 | AQ11: =IF(P11="材質劣化",2,IF(P11="漏水",3,1)) -> 2 | AS11: =IF(Y11<>"",1,"")
K12: 9 | L12: 覆工 | N12: 横断目地（左側） | P12: 材質劣化 | R12: うき・はく離 | U12: Ⅱb | AF12: 0.01 | AQ12: =IF(P12="材質劣化",2,IF(P12="漏水",3,1)) -> 2
K13: 11 | L13: 覆工 | N13: 水平打ち継ぎ目（左側） | P13: 材質劣化 | R13: うき・はく離 | U13: Ⅱa | AF13: 0.15 | AQ13: =IF(P13="材質劣化",2,IF(P13="漏水",3,1)) -> 2
K14: 12 | L14: 覆工 | N14: 水平打ち継ぎ目（右側） | P14: 材質劣化 | R14: うき・はく離 | U14: Ⅱa | AF14: 0.58 | AQ14: =IF(P14="材質劣化",2,IF(P14="漏水",3,1)) -> 2
K15: 5 | AQ15: =IF(P15="材質劣化",2,IF(P15="漏水",3,1)) -> 1
K16: 6 | AQ16: =IF(P16="材質劣化",2,IF(P16="漏水",3,1)) -> 1
K17: 7 | AQ17: =IF(P17="材質劣化",2,IF(P17="漏水",3,1)) -> 1
K18: 8 | AQ18: =IF(P18="材質劣化",2,IF(P18="漏水",3,1)) -> 1
K19: 9 | AQ19: =IF(P19="材質劣化",2,IF(P19="漏水",3,1)) -> 1
K20: 10 | AQ20: =IF(P20="材質劣化",2,IF(P20="漏水",3,1)) -> 1
K21: 11 | AQ21: =IF(P21="材質劣化",2,IF(P21="漏水",3,1)) -> 1
K22: 12 | AQ22: =IF(P22="材質劣化",2,IF(P22="漏水",3,1)) -> 1
K23: 13 | AQ23: =IF(P23="材質劣化",2,IF(P23="漏水",3,1)) -> 1
K24: 14 | AQ24: =IF(P24="材質劣化",2,IF(P24="漏水",3,1)) -> 1
K25: 15 | AQ25: =IF(P25="材質劣化",2,IF(P25="漏水",3,1)) -> 1
K26: 16 | AQ26: =IF(P26="材質劣化",2,IF(P26="漏水",3,1)) -> 1
K27: 17 | AQ27: =IF(P27="材質劣化",2,IF(P27="漏水",3,1)) -> 1
K28: 18 | AQ28: =IF(P30="材質劣化",2,IF(P30="漏水",3,1)) -> 1
K29: 19 | AQ29: =IF(P34="材質劣化",2,IF(P34="漏水",3,1)) -> 1
K30: 20 | AQ30: =IF(P30="材質劣化",2,IF(P30="漏水",3,1)) -> 1
K31: 21 | AQ31: =IF(P33="材質劣化",2,IF(P33="漏水",3,1)) -> 1
K32: 22 | AQ32: =IF(P37="材質劣化",2,IF(P37="漏水",3,1)) -> 1
K33: 23 | AQ33: =IF(P33="材質劣化",2,IF(P33="漏水",3,1)) -> 1
K34: 24 | AQ34: =IF(P36="材質劣化",2,IF(P36="漏水",3,1)) -> 1
K35: 集計 判定 診断 | L35: 変状の発生規模合計(㎡) | Y35: － | AC35: =SUM(AC11:AC34) -> 0 | AD35: =SUM(AD11:AD34) -> 0 | AE35: =SUM(AE11:AE34) -> 0.03 | AF35: =SUM(AF11:AF34) -> 0.74 | AG35: =SUM(AG11:AG34) -> 0 | AH35: =SUM(AH11:AH34) -> 0 | AI35: =SUM(AI11:AI34) -> 0 | AJ35: =SUM(AJ11:AJ34) -> 0 | AK35: 覆工スパン単位の 健全性の 診断の区分 | AM35: Ⅱ
L36: 対策区分の 判定結果 | O36: 対策区分毎の変状数注3 | Y36: Ⅳ | Z36: Ⅲ | AA36: Ⅱa | AB36: Ⅱb | AC36: Ⅳ | AD36: Ⅲ | AE36: Ⅱa | AF36: Ⅱb | AG36: Ⅳ | AH36: Ⅲ | AI36: Ⅱa | AJ36: Ⅱb
Y37: =IF(COUNTIF(Y11:Y34,"〇")>0,1,0) -> 0 | Z37: =IF(COUNTIF(Z11:Z34,"〇")>0,1,0) -> 0 | AA37: =IF(COUNTIF(AA11:AA34,"〇")>0,1,0) -> 0 | AB37: =IF(COUNTIF(AB11:AB34,"〇")>0,1,0) -> 0 | AC37: =COUNTA(AC11:AC34) -> 0 | AD37: =COUNTA(AD11:AD34) -> 0 | AE37: =COUNTA(AE11:AE34) -> 1 | AF37: =COUNTA(AF11:AF34) -> 3 | AG37: =COUNTA(AG11:AG34) -> 0 | AH37: =COUNTA(AH11:AH34) -> 0 | AI37: =COUNTA(AI11:AI34) -> 0 | AJ37: =COUNTA(AJ11:AJ34) -> 0 | AU37: =+Y37 -> 0
K39: 所見
K43: 注1：誤記入防止のため、当該変状区分以外のセルは灰色表示とすること。
K44: 注2：応急措置を実施した場合は、その詳細を備考に記載すること。
K45: 注3：外力は覆工スパン単位、材質劣化、漏水は変状単位とすること。
B46: （以下、印刷不要）
B47: ※1：本シートは作成洩れのないよう、変状が無くても全スパン分を作成すること．また変状展開図は、様式D-2-1、様式D-2-1'と同じものを覆工スパン単位で拡大し掲載すること。
B48: ※2：変状番号は、様式D-1-1で記入した番号と整合させること。
B49: ※3：対策区分毎の変状発生規模は、様式D-1-1に記載した面積を記入すること（ただし外力はスパン単位で評価するため変状の有無の欄には面積でなく○を記入し、備考欄に状況を記入）。
B50: ※4：本様式は覆工スパン毎に作成すること。
B51: ※5：変状数が多い場合は、適時、表の行を増やして覆工スパン毎に1枚のシートに収めること。また、1スパン１シートとし、スパンに合わせてシートを追加すること。
B52: ※6：対策区分毎の変状の発生範囲の規模とは，対策を行う際に参考となる変状の長さや面積であり，変状を包含する長さや面積とする。
B53: ※7：対策範囲を示す発生範囲の規模を面積で記入することが妥当ではない変状は、発生範囲の規模の欄に○を記入するとともに、備考に内容を記入すること。

Sheet 様式D-3_S012
AU1: 様式F用→ | AV1: 覆工スパン | AY1: 変 状 数 | BK1: 変 状 規 模
AV2: 番号 | AW2: 延長 （ｍ） | AX2: 健全性の診断の 区分 | AY2: 対策区分の判定 | BK2: 覆工スパン長（ｍ） | BO2: 変状の発生範囲の規模（㎡）
B3: ■定期点検記録様式 覆工スパン別変状詳細展開図 【様式D-3】 | AY3: 外力 | BC3: 材質劣化 | BG3: 漏水 | BK3: 外力 注2 | BO3: 材質劣化 | BS3: 漏水
B4: フリガナ | E4: ヒヨヂトンネル | K4: 路線名 | N4: 国道376号 | T4: 定期点検実施者 | Y4: 株式会社 長大 | AG4: 定期点検年月日 | AK4: 45908 | AY4: Ⅳ | AZ4: Ⅲ | BA4: Ⅱa | BB4: Ⅱb | BC4: Ⅳ | BD4: Ⅲ | BE4: Ⅱa | BF4: Ⅱb | BG4: Ⅳ | BH4: Ⅲ | BI4: Ⅱa | BJ4: Ⅱb | BK4: Ⅳ | BL4: Ⅲ | BM4: Ⅱa | BN4: Ⅱb | BO4: Ⅳ | BP4: Ⅲ | BQ4: Ⅱa | BR4: Ⅱb | BS4: Ⅳ | BT4: Ⅲ | BU4: Ⅱa | BV4: Ⅱb
B5: 名 称 | E5: 桧余地トンネル | K5: 管理者名 | N5: 岩国土木建築事務所 | Y5: 鷲尾 寛 | AV5: =N7 -> S012 | AW5: =R7 -> 5.8 | AX5: =AM35 -> Ⅱ | AY5: =IF(Y37>0,Y37,"") | AZ5: =IF(Y37>0,"",IF(Z37>0,Z37,"")) | BA5: =IF(Y37+Z37>0,"",IF(AA37>0,AA37,"")) | BB5: =IF(Y37+Z37+AA37>0,"",IF(AB37>0,AB37,"")) | BC5: =AC37 -> 0 | BD5: =AD37 -> 0 | BE5: =AE37 -> 0 | BF5: =AF37 -> 6 | BG5: =AG37 -> 0 | BH5: =AH37 -> 0 | BI5: =AI37 -> 0 | BJ5: =AJ37 -> 0 | BK5: =IF(Y37>0,R7,"") | BL5: =IF(Y37>0,"",IF(Z37>0,R7,"")) | BM5: =IF(Y37+Z37>0,"",IF(AA37>0,R7,"")) | BN5: =IF(Y37+Z37+AA37>0,"",IF(AB37>0,R7,"")) | BO5: =AC35 -> 0 | BP5: =AD35 -> 0 | BQ5: =AE35 -> 0 | BR5: =AF35 -> 1 | BS5: =AG35 -> 0 | BT5: =AH35 -> 0 | BU5: =AI35 -> 0 | BV5: =AJ35 -> 0
B6: スパン別変状展開図 | K6: 【健全性判定集計表】
K7: スパン番号 | N7: S012 | P7: スパン長 | R7: 5.8 | U7: 前回定期点検時の判定 | W7: 応急措置前の判定 | Y7: 対策区分毎の 変状の有無 | AC7: 対策区分毎の変状の発生範囲の規模(㎡) | AK7: 備考注2
K8: 変状番号 | L8: 対象箇所 | N8: 部位区分 | P8: 変状区分 | R8: 変状種類
Y9: 外力注1 | AC9: 材質劣化注1 | AG9: 漏水注1
Y10: Ⅳ | Z10: Ⅲ | AA10: Ⅱa | AB10: Ⅱb | AC10: Ⅳ | AD10: Ⅲ | AE10: Ⅱa | AF10: Ⅱb | AG10: Ⅳ | AH10: Ⅲ | AI10: Ⅱa | AJ10: Ⅱb
K11: 4 | L11: 覆工 | N11: 横断目地（天端） | P11: 材質劣化 | R11: うき・はく離 | U11: Ⅱb | AF11: 0.03 | AQ11: =IF(P11="材質劣化",2,IF(P11="漏水",3,1)) -> 2 | AS11: =IF(Y11<>"",1,"")
K12: 10 | L12: 覆工 | N12: 横断目地（右側） | P12: 材質劣化 | R12: うき・はく離 | U12: Ⅱb | AF12: 0.01 | AQ12: =IF(P12="材質劣化",2,IF(P12="漏水",3,1)) -> 2
K13: 11 | L13: 覆工 | N13: 横断目地（左側） | P13: 材質劣化 | R13: うき・はく離 | U13: Ⅱa | AF13: 0.19 | AQ13: =IF(P13="材質劣化",2,IF(P13="漏水",3,1)) -> 2
K14: 12 | L14: 覆工 | N14: 水平打ち継ぎ目（左側） | P14: 材質劣化 | R14: うき・はく離 | U14: Ⅱa | AF14: 0.17 | AQ14: =IF(P14="材質劣化",2,IF(P14="漏水",3,1)) -> 2
K15: 13 | L15: 覆工 | N15: 水平打ち継ぎ目（右側） | P15: 材質劣化 | R15: うき・はく離 | U15: Ⅱa | AF15: 0.58 | AQ15: =IF(P15="材質劣化",2,IF(P15="漏水",3,1)) -> 2
K16: 14 | L16: 覆工 | N16: 側壁（右側） | P16: 材質劣化 | R16: うき・はく離 | U16: Ⅱa | AF16: 0.02 | AQ16: =IF(P16="材質劣化",2,IF(P16="漏水",3,1)) -> 2
K17: 7 | AQ17: =IF(P17="材質劣化",2,IF(P17="漏水",3,1)) -> 1
K18: 8 | AQ18: =IF(P18="材質劣化",2,IF(P18="漏水",3,1)) -> 1
K19: 9 | AQ19: =IF(P19="材質劣化",2,IF(P19="漏水",3,1)) -> 1
K20: 10 | AQ20: =IF(P20="材質劣化",2,IF(P20="漏水",3,1)) -> 1
K21: 11 | AQ21: =IF(P21="材質劣化",2,IF(P21="漏水",3,1)) -> 1
K22: 12 | AQ22: =IF(P22="材質劣化",2,IF(P22="漏水",3,1)) -> 1
K23: 13 | AQ23: =IF(P23="材質劣化",2,IF(P23="漏水",3,1)) -> 1
K24: 14 | AQ24: =IF(P24="材質劣化",2,IF(P24="漏水",3,1)) -> 1
K25: 15 | AQ25: =IF(P25="材質劣化",2,IF(P25="漏水",3,1)) -> 1
K26: 16 | AQ26: =IF(P26="材質劣化",2,IF(P26="漏水",3,1)) -> 1
K27: 17 | AQ27: =IF(P27="材質劣化",2,IF(P27="漏水",3,1)) -> 1
K28: 18 | AQ28: =IF(P30="材質劣化",2,IF(P30="漏水",3,1)) -> 1
K29: 19 | AQ29: =IF(P34="材質劣化",2,IF(P34="漏水",3,1)) -> 1
K30: 20 | AQ30: =IF(P30="材質劣化",2,IF(P30="漏水",3,1)) -> 1
K31: 21 | AQ31: =IF(P33="材質劣化",2,IF(P33="漏水",3,1)) -> 1
K32: 22 | AQ32: =IF(P37="材質劣化",2,IF(P37="漏水",3,1)) -> 1
K33: 23 | AQ33: =IF(P33="材質劣化",2,IF(P33="漏水",3,1)) -> 1
K34: 24 | AQ34: =IF(P36="材質劣化",2,IF(P36="漏水",3,1)) -> 1
K35: 集計 判定 診断 | L35: 変状の発生規模合計(㎡) | Y35: － | AC35: =SUM(AC11:AC34) -> 0 | AD35: =SUM(AD11:AD34) -> 0 | AE35: =SUM(AE11:AE34) -> 0 | AF35: =SUM(AF11:AF34) -> 1 | AG35: =SUM(AG11:AG34) -> 0 | AH35: =SUM(AH11:AH34) -> 0 | AI35: =SUM(AI11:AI34) -> 0 | AJ35: =SUM(AJ11:AJ34) -> 0 | AK35: 覆工スパン単位の 健全性の 診断の区分 | AM35: Ⅱ
L36: 対策区分の 判定結果 | O36: 対策区分毎の変状数注3 | Y36: Ⅳ | Z36: Ⅲ | AA36: Ⅱa | AB36: Ⅱb | AC36: Ⅳ | AD36: Ⅲ | AE36: Ⅱa | AF36: Ⅱb | AG36: Ⅳ | AH36: Ⅲ | AI36: Ⅱa | AJ36: Ⅱb
Y37: =IF(COUNTIF(Y11:Y34,"〇")>0,1,0) -> 0 | Z37: =IF(COUNTIF(Z11:Z34,"〇")>0,1,0) -> 0 | AA37: =IF(COUNTIF(AA11:AA34,"〇")>0,1,0) -> 0 | AB37: =IF(COUNTIF(AB11:AB34,"〇")>0,1,0) -> 0 | AC37: =COUNTA(AC11:AC34) -> 0 | AD37: =COUNTA(AD11:AD34) -> 0 | AE37: =COUNTA(AE11:AE34) -> 0 | AF37: =COUNTA(AF11:AF34) -> 6 | AG37: =COUNTA(AG11:AG34) -> 0 | AH37: =COUNTA(AH11:AH34) -> 0 | AI37: =COUNTA(AI11:AI34) -> 0 | AJ37: =COUNTA(AJ11:AJ34) -> 0 | AU37: =+Y37 -> 0
K39: 所見
K43: 注1：誤記入防止のため、当該変状区分以外のセルは灰色表示とすること。
K44: 注2：応急措置を実施した場合は、その詳細を備考に記載すること。
K45: 注3：外力は覆工スパン単位、材質劣化、漏水は変状単位とすること。
B46: （以下、印刷不要）
B47: ※1：本シートは作成洩れのないよう、変状が無くても全スパン分を作成すること．また変状展開図は、様式D-2-1、様式D-2-1'と同じものを覆工スパン単位で拡大し掲載すること。
B48: ※2：変状番号は、様式D-1-1で記入した番号と整合させること。
B49: ※3：対策区分毎の変状発生規模は、様式D-1-1に記載した面積を記入すること（ただし外力はスパン単位で評価するため変状の有無の欄には面積でなく○を記入し、備考欄に状況を記入）。
B50: ※4：本様式は覆工スパン毎に作成すること。
B51: ※5：変状数が多い場合は、適時、表の行を増やして覆工スパン毎に1枚のシートに収めること。また、1スパン１シートとし、スパンに合わせてシートを追加すること。
B52: ※6：対策区分毎の変状の発生範囲の規模とは，対策を行う際に参考となる変状の長さや面積であり，変状を包含する長さや面積とする。
B53: ※7：対策範囲を示す発生範囲の規模を面積で記入することが妥当ではない変状は、発生範囲の規模の欄に○を記入するとともに、備考に内容を記入すること。

Sheet 様式D-3_S013
AU1: 様式F用→ | AV1: 覆工スパン | AY1: 変 状 数 | BK1: 変 状 規 模
AV2: 番号 | AW2: 延長 （ｍ） | AX2: 健全性の診断の 区分 | AY2: 対策区分の判定 | BK2: 覆工スパン長（ｍ） | BO2: 変状の発生範囲の規模（㎡）
B3: ■定期点検記録様式 覆工スパン別変状詳細展開図 【様式D-3】 | AY3: 外力 | BC3: 材質劣化 | BG3: 漏水 | BK3: 外力 注2 | BO3: 材質劣化 | BS3: 漏水
B4: フリガナ | E4: ヒヨヂトンネル | K4: 路線名 | N4: 国道376号 | T4: 定期点検実施者 | Y4: 株式会社 長大 | AG4: 定期点検年月日 | AK4: 45908 | AY4: Ⅳ | AZ4: Ⅲ | BA4: Ⅱa | BB4: Ⅱb | BC4: Ⅳ | BD4: Ⅲ | BE4: Ⅱa | BF4: Ⅱb | BG4: Ⅳ | BH4: Ⅲ | BI4: Ⅱa | BJ4: Ⅱb | BK4: Ⅳ | BL4: Ⅲ | BM4: Ⅱa | BN4: Ⅱb | BO4: Ⅳ | BP4: Ⅲ | BQ4: Ⅱa | BR4: Ⅱb | BS4: Ⅳ | BT4: Ⅲ | BU4: Ⅱa | BV4: Ⅱb
B5: 名 称 | E5: 桧余地トンネル | K5: 管理者名 | N5: 岩国土木建築事務所 | Y5: 鷲尾 寛 | AV5: =N7 -> S013 | AW5: =R7 -> 3.2 | AX5: =AM35 -> Ⅱ | AY5: =IF(Y37>0,Y37,"") | AZ5: =IF(Y37>0,"",IF(Z37>0,Z37,"")) | BA5: =IF(Y37+Z37>0,"",IF(AA37>0,AA37,"")) | BB5: =IF(Y37+Z37+AA37>0,"",IF(AB37>0,AB37,"")) | BC5: =AC37 -> 0 | BD5: =AD37 -> 0 | BE5: =AE37 -> 0 | BF5: =AF37 -> 3 | BG5: =AG37 -> 0 | BH5: =AH37 -> 0 | BI5: =AI37 -> 0 | BJ5: =AJ37 -> 0 | BK5: =IF(Y37>0,R7,"") | BL5: =IF(Y37>0,"",IF(Z37>0,R7,"")) | BM5: =IF(Y37+Z37>0,"",IF(AA37>0,R7,"")) | BN5: =IF(Y37+Z37+AA37>0,"",IF(AB37>0,R7,"")) | BO5: =AC35 -> 0 | BP5: =AD35 -> 0 | BQ5: =AE35 -> 0 | BR5: =AF35 -> 0.77 | BS5: =AG35 -> 0 | BT5: =AH35 -> 0 | BU5: =AI35 -> 0 | BV5: =AJ35 -> 0
B6: スパン別変状展開図 | K6: 【健全性判定集計表】
K7: スパン番号 | N7: S013 | P7: スパン長 | R7: 3.2 | U7: 前回定期点検時の判定 | W7: 応急措置前の判定 | Y7: 対策区分毎の 変状の有無 | AC7: 対策区分毎の変状の発生範囲の規模(㎡) | AK7: 備考注2
K8: 変状番号 | L8: 対象箇所 | N8: 部位区分 | P8: 変状区分 | R8: 変状種類
Y9: 外力注1 | AC9: 材質劣化注1 | AG9: 漏水注1
Y10: Ⅳ | Z10: Ⅲ | AA10: Ⅱa | AB10: Ⅱb | AC10: Ⅳ | AD10: Ⅲ | AE10: Ⅱa | AF10: Ⅱb | AG10: Ⅳ | AH10: Ⅲ | AI10: Ⅱa | AJ10: Ⅱb
K11: 5 | L11: 覆工 | N11: アーチ（天端） | P11: 材質劣化 | R11: 圧ざ、ひび割れ | U11: Ⅱb | AF11: 0.17 | AQ11: =IF(P11="材質劣化",2,IF(P11="漏水",3,1)) -> 2 | AS11: =IF(Y11<>"",1,"")
K12: 10 | L12: 覆工 | N12: 水平打ち継ぎ目（左側） | P12: 材質劣化 | R12: うき・はく離 | U12: Ⅱa | AF12: 0.28 | AQ12: =IF(P12="材質劣化",2,IF(P12="漏水",3,1)) -> 2
K13: 11 | L13: 覆工 | N13: 水平打ち継ぎ目（右側） | P13: 材質劣化 | R13: うき・はく離 | U13: Ⅱa | AF13: 0.32 | AQ13: =IF(P13="材質劣化",2,IF(P13="漏水",3,1)) -> 2
K14: 4 | AQ14: =IF(P14="材質劣化",2,IF(P14="漏水",3,1)) -> 1
K15: 5 | AQ15: =IF(P15="材質劣化",2,IF(P15="漏水",3,1)) -> 1
K16: 6 | AQ16: =IF(P16="材質劣化",2,IF(P16="漏水",3,1)) -> 1
K17: 7 | AQ17: =IF(P17="材質劣化",2,IF(P17="漏水",3,1)) -> 1
K18: 8 | AQ18: =IF(P18="材質劣化",2,IF(P18="漏水",3,1)) -> 1
K19: 9 | AQ19: =IF(P19="材質劣化",2,IF(P19="漏水",3,1)) -> 1
K20: 10 | AQ20: =IF(P20="材質劣化",2,IF(P20="漏水",3,1)) -> 1
K21: 11 | AQ21: =IF(P21="材質劣化",2,IF(P21="漏水",3,1)) -> 1
K22: 12 | AQ22: =IF(P22="材質劣化",2,IF(P22="漏水",3,1)) -> 1
K23: 13 | AQ23: =IF(P23="材質劣化",2,IF(P23="漏水",3,1)) -> 1
K24: 14 | AQ24: =IF(P24="材質劣化",2,IF(P24="漏水",3,1)) -> 1
K25: 15 | AQ25: =IF(P25="材質劣化",2,IF(P25="漏水",3,1)) -> 1
... K27: 17 | AQ27: =IF(P27="材質劣化",2,IF(P27="漏水",3,1)) -> 1
K28: 18 | AQ28: =IF(P30="材質劣化",2,IF(P30="漏水",3,1)) -> 1
K29: 19 | AQ29: =IF(P34="材質劣化",2,IF(P34="漏水",3,1)) -> 1
K30: 20 | AQ30: =IF(P30="材質劣化",2,IF(P30="漏水",3,1)) -> 1
K31: 21 | AQ31: =IF(P33="材質劣化",2,IF(P33="漏水",3,1)) -> 1
K32: 22 | AQ32: =IF(P37="材質劣化",2,IF(P37="漏水",3,1)) -> 1
K33: 23 | AQ33: =IF(P33="材質劣化",2,IF(P33="漏水",3,1)) -> 1
K34: 24 | AQ34: =IF(P36="材質劣化",2,IF(P36="漏水",3,1)) -> 1
K35: 集計 判定 診断 | L35: 変状の発生規模合計(㎡) | Y35: － | AC35: =SUM(AC11:AC34) -> 0 | AD35: =SUM(AD11:AD34) -> 0 | AE35: =SUM(AE11:AE34) -> 0 | AF35: =SUM(AF11:AF34) -> 0.77 | AG35: =SUM(AG11:AG34) -> 0 | AH35: =SUM(AH11:AH34) -> 0 | AI35: =SUM(AI11:AI34) -> 0 | AJ35: =SUM(AJ11:AJ34) -> 0 | AK35: 覆工スパン単位の 健全性の 診断の区分 | AM35: Ⅱ
L36: 対策区分の 判定結果 | O36: 対策区分毎の変状数注3 | Y36: Ⅳ | Z36: Ⅲ | AA36: Ⅱa | AB36: Ⅱb | AC36: Ⅳ | AD36: Ⅲ | AE36: Ⅱa | AF36: Ⅱb | AG36: Ⅳ | AH36: Ⅲ | AI36: Ⅱa | AJ36: Ⅱb
Y37: =IF(COUNTIF(Y11:Y34,"〇")>0,1,0) -> 0 | Z37: =IF(COUNTIF(Z11:Z34,"〇")>0,1,0) -> 0 | AA37: =IF(COUNTIF(AA11:AA34,"〇")>0,1,0) -> 0 | AB37: =IF(COUNTIF(AB11:AB34,"〇")>0,1,0) -> 0 | AC37: =COUNTA(AC11:AC34) -> 0 | AD37: =COUNTA(AD11:AD34) -> 0 | AE37: =COUNTA(AE11:AE34) -> 0 | AF37: =COUNTA(AF11:AF34) -> 3 | AG37: =COUNTA(AG11:AG34) -> 0 | AH37: =COUNTA(AH11:AH34) -> 0 | AI37: =COUNTA(AI11:AI34) -> 0 | AJ37: =COUNTA(AJ11:AJ34) -> 0 | AU37: =+Y37 -> 0
K39: 所見
K43: 注1：誤記入防止のため、当該変状区分以外のセルは灰色表示とすること。
K44: 注2：応急措置を実施した場合は、その詳細を備考に記載すること。
K45: 注3：外力は覆工スパン単位、材質劣化、漏水は変状単位とすること。
B46: （以下、印刷不要）
B47: ※1：本シートは作成洩れのないよう、変状が無くても全スパン分を作成すること．また変状展開図は、様式D-2-1、様式D-2-1'と同じものを覆工スパン単位で拡大し掲載すること。
B48: ※2：変状番号は、様式D-1-1で記入した番号と整合させること。
B49: ※3：対策区分毎の変状発生規模は、様式D-1-1に記載した面積を記入すること（ただし外力はスパン単位で評価するため変状の有無の欄には面積でなく○を記入し、備考欄に状況を記入）。
B50: ※4：本様式は覆工スパン毎に作成すること。
B51: ※5：変状数が多い場合は、適時、表の行を増やして覆工スパン毎に1枚のシートに収めること。また、1スパン１シートとし、スパンに合わせてシートを追加すること。
B52: ※6：対策区分毎の変状の発生範囲の規模とは，対策を行う際に参考となる変状の長さや面積であり，変状を包含する長さや面積とする。
B53: ※7：対策範囲を示す発生範囲の規模を面積で記入することが妥当ではない変状は、発生範囲の規模の欄に○を記入するとともに、備考に内容を記入すること。

Sheet 様式D-3_PE
AU1: 様式F用→ | AV1: 覆工スパン | AY1: 変 状 数 | BK1: 変 状 規 模
AV2: 番号 | AW2: 延長 （ｍ） | AX2: 健全性の診断の 区分 | AY2: 対策区分の判定 | BK2: 覆工スパン長（ｍ） | BO2: 変状の発生範囲の規模（㎡）
B3: ■定期点検記録様式 覆工スパン別変状詳細展開図 【様式D-3】 | AY3: 外力 | BC3: 材質劣化 | BG3: 漏水 | BK3: 外力 注2 | BO3: 材質劣化 | BS3: 漏水
B4: フリガナ | E4: ヒヨヂトンネル | K4: 路線名 | N4: 国道376号 | T4: 定期点検実施者 | Y4: 株式会社 長大 | AG4: 定期点検年月日 | AK4: 45908 | AY4: Ⅳ | AZ4: Ⅲ | BA4: Ⅱa | BB4: Ⅱb | BC4: Ⅳ | BD4: Ⅲ | BE4: Ⅱa | BF4: Ⅱb | BG4: Ⅳ | BH4: Ⅲ | BI4: Ⅱa | BJ4: Ⅱb | BK4: Ⅳ | BL4: Ⅲ | BM4: Ⅱa | BN4: Ⅱb | BO4: Ⅳ | BP4: Ⅲ | BQ4: Ⅱa | BR4: Ⅱb | BS4: Ⅳ | BT4: Ⅲ | BU4: Ⅱa | BV4: Ⅱb
B5: 名 称 | E5: 桧余地トンネル | K5: 管理者名 | N5: 岩国土木建築事務所 | Y5: 鷲尾 寛 | AV5: =N7 -> PE | AW5: =R7 -> 0 | AX5: =AM35 -> Ⅱ | AY5: =IF(Y37>0,Y37,"") | AZ5: =IF(Y37>0,"",IF(Z37>0,Z37,"")) | BA5: =IF(Y37+Z37>0,"",IF(AA37>0,AA37,"")) | BB5: =IF(Y37+Z37+AA37>0,"",IF(AB37>0,AB37,"")) | BC5: =AC37 -> 0 | BD5: =AD37 -> 0 | BE5: =AE37 -> 0 | BF5: =AF37 -> 1 | BG5: =AG37 -> 0 | BH5: =AH37 -> 0 | BI5: =AI37 -> 0 | BJ5: =AJ37 -> 0 | BK5: =IF(Y37>0,R7,"") | BL5: =IF(Y37>0,"",IF(Z37>0,R7,"")) | BM5: =IF(Y37+Z37>0,"",IF(AA37>0,R7,"")) | BN5: =IF(Y37+Z37+AA37>0,"",IF(AB37>0,R7,"")) | BO5: =AC35 -> 0 | BP5: =AD35 -> 0 | BQ5: =AE35 -> 0 | BR5: =AF35 -> 0.06 | BS5: =AG35 -> 0 | BT5: =AH35 -> 0 | BU5: =AI35 -> 0 | BV5: =AJ35 -> 0
B6: スパン別変状展開図 | K6: 【健全性判定集計表】
K7: スパン番号 | N7: PE | P7: スパン長 | R7: 0 | U7: 前回定期点検時の判定 | W7: 応急措置前の判定 | Y7: 対策区分毎の 変状の有無 | AC7: 対策区分毎の変状の発生範囲の規模(㎡) | AK7: 備考注2
K8: 変状番号 | L8: 対象箇所 | N8: 部位区分 | P8: 変状区分 | R8: 変状種類
Y9: 外力注1 | AC9: 材質劣化注1 | AG9: 漏水注1
Y10: Ⅳ | Z10: Ⅲ | AA10: Ⅱa | AB10: Ⅱb | AC10: Ⅳ | AD10: Ⅲ | AE10: Ⅱa | AF10: Ⅱb | AG10: Ⅳ | AH10: Ⅲ | AI10: Ⅱa | AJ10: Ⅱb
K11: 3 | L11: 坑門 | N11: 面壁・妻壁等 | P11: 材質劣化 | R11: 圧ざ、ひび割れ | U11: Ⅱb | AF11: 0.06 | AQ11: =IF(P11="材質劣化",2,IF(P11="漏水",3,1)) -> 2 | AS11: =IF(Y11<>"",1,"")
K12: 2 | AQ12: =IF(P12="材質劣化",2,IF(P12="漏水",3,1)) -> 1
K13: 3 | AQ13: =IF(P13="材質劣化",2,IF(P13="漏水",3,1)) -> 1
K14: 4 | AQ14: =IF(P14="材質劣化",2,IF(P14="漏水",3,1)) -> 1
K15: 5 | AQ15: =IF(P15="材質劣化",2,IF(P15="漏水",3,1)) -> 1
K16: 6 | AQ16: =IF(P16="材質劣化",2,IF(P16="漏水",3,1)) -> 1
K17: 7 | AQ17: =IF(P17="材質劣化",2,IF(P17="漏水",3,1)) -> 1
K18: 8 | AQ18: =IF(P18="材質劣化",2,IF(P18="漏水",3,1)) -> 1
K19: 9 | AQ19: =IF(P19="材質劣化",2,IF(P19="漏水",3,1)) -> 1
K20: 10 | AQ20: =IF(P20="材質劣化",2,IF(P20="漏水",3,1)) -> 1
K21: 11 | AQ21: =IF(P21="材質劣化",2,IF(P21="漏水",3,1)) -> 1
K22: 12 | AQ22: =IF(P22="材質劣化",2,IF(P22="漏水",3,1)) -> 1
K23: 13 | AQ23: =IF(P23="材質劣化",2,IF(P23="漏水",3,1)) -> 1
... K27: 17 | AQ27: =IF(P27="材質劣化",2,IF(P27="漏水",3,1)) -> 1
K28: 18 | AQ28: =IF(P30="材質劣化",2,IF(P30="漏水",3,1)) -> 1
K29: 19 | AQ29: =IF(P34="材質劣化",2,IF(P34="漏水",3,1)) -> 1
K30: 20 | AQ30: =IF(P30="材質劣化",2,IF(P30="漏水",3,1)) -> 1
K31: 21 | AQ31: =IF(P33="材質劣化",2,IF(P33="漏水",3,1)) -> 1
K32: 22 | AQ32: =IF(P37="材質劣化",2,IF(P37="漏水",3,1)) -> 1
K33: 23 | AQ33: =IF(P33="材質劣化",2,IF(P33="漏水",3,1)) -> 1
K34: 24 | AQ34: =IF(P36="材質劣化",2,IF(P36="漏水",3,1)) -> 1
K35: 集計 判定 診断 | L35: 変状の発生規模合計(㎡) | Y35: － | AC35: =SUM(AC11:AC34) -> 0 | AD35: =SUM(AD11:AD34) -> 0 | AE35: =SUM(AE11:AE34) -> 0 | AF35: =SUM(AF11:AF34) -> 0.06 | AG35: =SUM(AG11:AG34) -> 0 | AH35: =SUM(AH11:AH34) -> 0 | AI35: =SUM(AI11:AI34) -> 0 | AJ35: =SUM(AJ11:AJ34) -> 0 | AK35: 覆工スパン単位の 健全性の 診断の区分 | AM35: Ⅱ
L36: 対策区分の 判定結果 | O36: 対策区分毎の変状数注3 | Y36: Ⅳ | Z36: Ⅲ | AA36: Ⅱa | AB36: Ⅱb | AC36: Ⅳ | AD36: Ⅲ | AE36: Ⅱa | AF36: Ⅱb | AG36: Ⅳ | AH36: Ⅲ | AI36: Ⅱa | AJ36: Ⅱb
Y37: =IF(COUNTIF(Y11:Y34,"〇")>0,1,0) -> 0 | Z37: =IF(COUNTIF(Z11:Z34,"〇")>0,1,0) -> 0 | AA37: =IF(COUNTIF(AA11:AA34,"〇")>0,1,0) -> 0 | AB37: =IF(COUNTIF(AB11:AB34,"〇")>0,1,0) -> 0 | AC37: =COUNTA(AC11:AC34) -> 0 | AD37: =COUNTA(AD11:AD34) -> 0 | AE37: =COUNTA(AE11:AE34) -> 0 | AF37: =COUNTA(AF11:AF34) -> 1 | AG37: =COUNTA(AG11:AG34) -> 0 | AH37: =COUNTA(AH11:AH34) -> 0 | AI37: =COUNTA(AI11:AI34) -> 0 | AJ37: =COUNTA(AJ11:AJ34) -> 0 | AU37: =+Y37 -> 0
K39: 所見
K43: 注1：誤記入防止のため、当該変状区分以外のセルは灰色表示とすること。
K44: 注2：応急措置を実施した場合は、その詳細を備考に記載すること。
K45: 注3：外力は覆工スパン単位、材質劣化、漏水は変状単位とすること。
B46: （以下、印刷不要）
B47: ※1：本シートは作成洩れのないよう、変状が無くても全スパン分を作成すること．また変状展開図は、様式D-2-1、様式D-2-1'と同じものを覆工スパン単位で拡大し掲載すること。
B48: ※2：変状番号は、様式D-1-1で記入した番号と整合させること。
B49: ※3：対策区分毎の変状発生規模は、様式D-1-1に記載した面積を記入すること（ただし外力はスパン単位で評価するため変状の有無の欄には面積でなく○を記入し、備考欄に状況を記入）。
B50: ※4：本様式は覆工スパン毎に作成すること。
B51: ※5：変状数が多い場合は、適時、表の行を増やして覆工スパン毎に1枚のシートに収めること。また、1スパン１シートとし、スパンに合わせてシートを追加すること。
B52: ※6：対策区分毎の変状の発生範囲の規模とは，対策を行う際に参考となる変状の長さや面積であり，変状を包含する長さや面積とする。
B53: ※7：対策範囲を示す発生範囲の規模を面積で記入することが妥当ではない変状は、発生範囲の規模の欄に○を記入するとともに、備考に内容を記入すること。

Sheet 様式E
B2: ■定期点検記録様式 近接目視による状態の把握が不可能な箇所 【様式E】
B3: フリガナ | F3: ヒヨヂトンネル | U3: 路 線 名 | Z3: 国道376号 | AI3: 定期点検実施者 | AO3: 株式会社 長大 | AW3: 定期点検年月日 | BC3: 45908
B4: 名 称 | F4: 桧余地トンネル | U4: 管理者名 | Z4: 岩国土木建築事務所 | AO4: 鷲尾 寛
B5: 覆工スパン 番号 | H5: 対象箇所 | P5: 不可能な理由 | AN5: 対応策
D20: 注）近接目視又は打音、触診ができない箇所を記載する。現状の評価、日常の維持管理での注意点を記載する。
D21: ※ 数が多い場合は、適時、表の行を増やすこと。

Sheet 様式F 
B1: ■定期点検記録様式 覆工スパン毎の変状数・変状規模の集計 【様式F】
B2: フリガナ | F2: ヒヨヂトンネル | L2: 路線名 | O2: 国道376号 | T2: 定期点検実施者 | V2: 株式会社 長大 鷲尾 寛 | Y2: 定期点検 年月日 | Z2: 45908
B3: 名 称 | F3: 桧余地トンネル | L3: 管理者名 | O3: 岩国土木建築事務所
B5: 【覆工スパン毎の変状数, 変状規模】
B6: 覆工スパン | E6: 変 状 数 | Q6: 変 状 規 模
B7: 番号 | C7: 延長 （ｍ） | D7: 健全性の診断の 区分 | E7: 対策区分の判定注1 | Q7: 覆工スパン長（ｍ） | U7: 変状の発生範囲の規模（㎡）
E8: 外力 | I8: 材質劣化 | M8: 漏水 | Q8: 外力 注2 | U8: 材質劣化 | Y8: 漏水
E9: Ⅳ | F9: Ⅲ | G9: Ⅱa | H9: Ⅱb | I9: Ⅳ | J9: Ⅲ | K9: Ⅱa | L9: Ⅱb | M9: Ⅳ | N9: Ⅲ | O9: Ⅱa | P9: Ⅱb | Q9: Ⅳ | R9: Ⅲ | S9: Ⅱa | T9: Ⅱb | U9: Ⅳ | V9: Ⅲ | W9: Ⅱa | X9: Ⅱb | Y9: Ⅳ | Z9: Ⅲ | AA9: Ⅱa | AB9: Ⅱb
B10: ='様式D-3_PS'!AV5 -> PS | C10: ='様式D-3_PS'!AW5 -> 0 | D10: ='様式D-3_PS'!AX5 -> Ⅱ | E10: ='様式D-3_PS'!AY5 | F10: ='様式D-3_PS'!AZ5 | G10: ='様式D-3_PS'!BA5 | H10: ='様式D-3_PS'!BB5 | I10: ='様式D-3_PS'!BC5 -> 0 | ... AB10: ='様式D-3_PS'!BV5 -> 3.5
B11: ='様式D-3_S001'!AV5 -> S001 | C11: ='様式D-3_S001'!AW5 -> 8.6 | D11: ='様式D-3_S001'!AX5 -> Ⅱ | E11: ='様式D-3_S001'!AY5 | F11: ='様式D-3_S001'!AZ5 | G11: ='様式D-3_S001'!BA5 | H11: ='様式D-3_S001'!BB5 | I11: ='様式D-3_S001'!BC5 -> 0 | ... AB11: ='様式D-3_S001'!BV5 -> 0
B12: ='様式D-3_S002'!AV5 -> S002 | C12: ='様式D-3_S002'!AW5 -> 5.6 | D12: ='様式D-3_S002'!AX5 -> Ⅱ | E12: ='様式D-3_S002'!AY5 | F12: ='様式D-3_S002'!AZ5 | G12: ='様式D-3_S002'!BA5 | H12: ='様式D-3_S002'!BB5 | I12: ='様式D-3_S002'!BC5 -> 0 | ... AB12: ='様式D-3_S002'!BV5 -> 0
B13: ='様式D-3_S003'!AV5 -> S003 | C13: ='様式D-3_S003'!AW5 -> 5.8 | D13: ='様式D-3_S003'!AX5 -> Ⅱ | E13: ='様式D-3_S003'!AY5 | F13: ='様式D-3_S003'!AZ5 | G13: ='様式D-3_S003'!BA5 | H13: ='様式D-3_S003'!BB5 | I13: ='様式D-3_S003'!BC5 -> 0 | ... AB13: ='様式D-3_S003'!BV5 -> 0
B14: ='様式D-3_S004'!AV5 -> S004 | C14: ='様式D-3_S004'!AW5 -> 5.7 | D14: ='様式D-3_S004'!AX5 -> Ⅱ | E14: ='様式D-3_S004'!AY5 | F14: ='様式D-3_S004'!AZ5 | G14: ='様式D-3_S004'!BA5 | H14: ='様式D-3_S004'!BB5 | I14: ='様式D-3_S004'!BC5 -> 0 | ... AB14: ='様式D-3_S004'!BV5 -> 0
B15: ='様式D-3_S005'!AV5 -> S005 | C15: ='様式D-3_S005'!AW5 -> 5.8 | D15: ='様式D-3_S005'!AX5 -> Ⅱ | E15: ='様式D-3_S005'!AY5 | F15: ='様式D-3_S005'!AZ5 | G15: ='様式D-3_S005'!BA5 | H15: ='様式D-3_S005'!BB5 | I15: ='様式D-3_S005'!BC5 -> 0 | ... AB15: ='様式D-3_S005'!BV5 -> 2.6
B16: ='様式D-3_S006'!AV5 -> S006 | C16: ='様式D-3_S006'!AW5 -> 5.8 | D16: ='様式D-3_S006'!AX5 -> Ⅱ | E16: ='様式D-3_S006'!AY5 | F16: ='様式D-3_S006'!AZ5 | G16: ='様式D-3_S006'!BA5 | H16: ='様式D-3_S006'!BB5 | I16: ='様式D-3_S006'!BC5 -> 0 | ... AB16: ='様式D-3_S006'!BV5 -> 0
B17: ='様式D-3_S007'!AV5 -> S007 | C17: ='様式D-3_S007'!AW5 -> 5.7 | D17: ='様式D-3_S007'!AX5 -> Ⅱ | E17: ='様式D-3_S007'!AY5 | F17: ='様式D-3_S007'!AZ5 | G17: ='様式D-3_S007'!BA5 | H17: ='様式D-3_S007'!BB5 | I17: ='様式D-3_S007'!BC5 -> 0 | ... AB17: ='様式D-3_S007'!BV5 -> 0
B18: ='様式D-3_S008'!AV5 -> S008 | C18: ='様式D-3_S008'!AW5 -> 5.8 | D18: ='様式D-3_S008'!AX5 -> Ⅱ | E18: ='様式D-3_S008'!AY5 | F18: ='様式D-3_S008'!AZ5 | G18: ='様式D-3_S008'!BA5 | H18: ='様式D-3_S008'!BB5 | I18: ='様式D-3_S008'!BC5 -> 0 | ... AB18: ='様式D-3_S008'!BV5 -> 0
B19: ='様式D-3_S009'!AV5 -> S009 | C19: ='様式D-3_S009'!AW5 -> 5.7 | D19: ='様式D-3_S009'!AX5 -> Ⅱ | E19: ='様式D-3_S009'!AY5 | F19: ='様式D-3_S009'!AZ5 | G19: ='様式D-3_S009'!BA5 | H19: ='様式D-3_S009'!BB5 | I19: ='様式D-3_S009'!BC5 -> 0 | ... AB19: ='様式D-3_S009'!BV5 -> 0
B20: ='様式D-3_S010'!AV5 -> S010 | C20: ='様式D-3_S010'!AW5 -> 5.8 | D20: ='様式D-3_S010'!AX5 -> Ⅱ | E20: ='様式D-3_S010'!AY5 | F20: ='様式D-3_S010'!AZ5 | G20: ='様式D-3_S010'!BA5 | H20: ='様式D-3_S010'!BB5 | I20: ='様式D-3_S010'!BC5 -> 0 | ... AB20: ='様式D-3_S010'!BV5 -> 0
B21: ='様式D-3_S011'!AV5 -> S011 | C21: ='様式D-3_S011'!AW5 -> 5.8 | D21: ='様式D-3_S011'!AX5 -> Ⅱ | E21: ='様式D-3_S011'!AY5 | F21: ='様式D-3_S011'!AZ5 | G21: ='様式D-3_S011'!BA5 | H21: ='様式D-3_S011'!BB5 | I21: ='様式D-3_S011'!BC5 -> 0 | ... AB21: ='様式D-3_S011'!BV5 -> 0
B22: ='様式D-3_S012'!AV5 -> S012 | C22: ='様式D-3_S012'!AW5 -> 5.8 | D22: ='様式D-3_S012'!AX5 -> Ⅱ | E22: ='様式D-3_S012'!AY5 | F22: ='様式D-3_S012'!AZ5 | G22: ='様式D-3_S012'!BA5 | H22: ='様式D-3_S012'!BB5 | I22: ='様式D-3_S012'!BC5 -> 0 | ... AB22: ='様式D-3_S012'!BV5 -> 0
B23: ='様式D-3_S013'!AV5 -> S013 | C23: ='様式D-3_S013'!AW5 -> 3.2 | D23: ='様式D-3_S013'!AX5 -> Ⅱ | E23: ='様式D-3_S013'!AY5 | F23: ='様式D-3_S013'!AZ5 | G23: ='様式D-3_S013'!BA5 | H23: ='様式D-3_S013'!BB5 | I23: ='様式D-3_S013'!BC5 -> 0 | ... AB23: ='様式D-3_S013'!BV5 -> 0
B24: ='様式D-3_PE'!AV5 -> PE | C24: ='様式D-3_PE'!AW5 -> 0 | D24: ='様式D-3_PE'!AX5 -> Ⅱ | E24: ='様式D-3_PE'!AY5 | F24: ='様式D-3_PE'!AZ5 | G24: ='様式D-3_PE'!BA5 | H24: ='様式D-3_PE'!BB5 | I24: ='様式D-3_PE'!BC5 -> 0 | ... AB24: ='様式D-3_PE'!BV5 -> 0
B44: 計 | E44: =SUM(E10:E43) -> 0 | F44: =SUM(F10:F43) -> 0 | G44: =SUM(G10:G43) -> 0 | H44: =SUM(H10:H43) -> 0 | I44: =SUM(I10:I43) -> 0 | J44: =SUM(J10:J43) -> 1 | K44: =SUM(K10:K43) -> 31 | L44: =SUM(L10:L43) -> 62 | ... AB44: =SUM(AB10:AB43) -> 6.1
G45: =G44+H44 -> 0 | K45: =K44+L44 -> 93 | O45: =O44+P44 -> 2
B46: 注１：外力は覆工スパン単位で診断するため、覆工スパンの中で最も評価の厳しい対策区分の判定の区分欄にのみスパン数1を、材質劣化、漏水はそれぞれの対策区分に変状数を記入すること。
B47: 注２：外力は覆工スパン単位で診断するため、覆工スパンの中で最も評価の厳しい対策区分の判定の区分欄にのみスパン長を記入すること。
B48: ※１：本様式は様式D‐3の集計結果を掲載すること。
B49: ※２：覆工スパン数が多い場合は、適時、表の行を増やしてトンネル毎に1枚のシートに収めること。
B50: ※３：本様式の集計結果に基づいて、様式Bのトンネル本体工における変状区分毎の対策区分の箇所を記載する。

Sheet 様式G
B2: ■定期点検記録様式 健全性の診断の区分に関する所見【様式G】 | U2: 施設ID | X2: 34.10222,131.98036
B3: フリガナ | E3: ヒヨヂトンネル | I3: 路線名 | L3: 国道376号 | O3: 定期点検実施者 | R3: 株式会社 長大 | U3: 定期点検年月日 | X3: 45908
B4: 名 称 | E4: 桧余地トンネル | I4: 管理者名 | L4: 岩国土木建築事務所 | R4: 鷲尾 寛
B5: 道路トンネルの健全性の診断の区分の所見
B6: 【概要】本トンネルの健全性の診断の区分は、早期に措置が必要であるためⅢ判定とする。 1) 変状・異常の内容とそれが確認された部材・部位（客観的事実） ・点検で確認された変状は、縦横断方向のひび割れ（Ⅱa判定）、覆工（アーチ、横断目地、側壁、水平打ち継ぎ目、ひび割れ沿い）のうき（Ⅲ判定）、グラウト孔のうき（Ⅱa判定）、はく落（Ⅱb判定）、鋼材腐食（Ⅱb判定）、面壁銘板下部からの漏水（Ⅱb判定）、覆工（アーチ）の遊離石灰（Ⅱb判定）であった。 ・アーチ部に発生するひび割れのうち、進行性が認められないひび割れについては、Ⅱb判定とし、監視を行う。 ・うきについては、進行性が認められないことや利用者被害の可能性が低いことからⅡb判定とし、監視を行う。 ・グラウト孔の鋼材露出について、小規模で利用者被害の可能性が低く、点検時に防錆剤を噴霧し当面の措置を完了しているため、Ⅱb判定とし、監視にとどめる。 2) 変状等の原因（推定） ・ひび割れは経年による「乾燥収縮」によって発生したものと推定される。 ・ひび割れや横断目地沿いのうきは、コンクリートの伸縮に起因して新たなひび割れが派生してうきに至ったものと推定される。 ・当該トンネルでは、裏込め注入工が施工されており、アーチ部の各所でグラウト孔の形跡が見られる。これらのグラウト孔の表面はモルタルで閉塞されているものの、経年による劣化で閉塞材が脱落し、注入管（ガス管）が露出している。 3) 施設の現状と次回定期点検まで及び将来における構造物の状態（推定） ・本トンネルは、中生代白亜紀の山陽帯花崗岩類に属する花崗岩が広く分布する。花崗岩は新鮮部では硬質であるが、風化部ではマサ化して軟質となる傾向がある。 ・現状として、道路トンネルの構造物としての安全性や安定性を損なう変状は見られない。 ・緊急性の高い変状として、水平打継目に発生したS001-25のうきが挙げられる。前回点検時にうきはⅡa判定であったが打音異常が発生している。落下時に利用者被害の可能性があるため、早期に措置を行うことが望ましい。 ・縦断ひび割れに沿ってうきが散見されている。今後も、気温変動に伴うコンクリートの伸縮によって新たなうきが発生する可能性がある。 ・アーチ部の横断目地やひび割れに沿って発生したうきは、落下が懸念される状況にある。 ・グラウト孔の内部には注入管（ガス管）が埋設されており、将来的に注入管の腐食膨張に起因した閉塞材のゆるみが進行する可能性がある。 ・現状として地すべり、膨張性地山、有害水等の特定事象の作用を示唆する変状は見られていない。 ・Ⅲ判定の変状の対策を行う際には、予防保全の観点からⅡa判定以上の変状も合わせて対策を行うことが望ましい。 4) 措置の必要性の判断に関わる事項 ・現状、構造安定性を損なう状況ではないため、構造安定性に対する措置は不要である。 ・うきに対して、はつり落しやFRPネット工および繊維シート接着工等によるはく落防止対策の実施が望ましいと判断する。 5) その他、次回定期点検へ引き継ぐ事項等 ・漏水の変状については、管理者へのヒアリングや季節に応じた観察を行い、判定に活用することが望ましい。

Sheet (参考)リスト
B4: 様式A～B
B5: トンネルの分類 | C5: トンネル工法 | D5: 自専道or一般道 | E5: 緊急輸送路 | F5: 代替路
B6: 陸上トンネル（掘進工法） | C6: 山岳トンネル工法（NATM） | D6: 自専道 | E6: 一次 | F6: 有
B7: 陸上トンネル（開削工法） | C7: 矢板工法 | D7: 一般道 | E7: 二次 | F7: 無
B8: 陸上トンネル（その他） | C8: 開削工法 | E8: 三次
B9: 水底トンネル（掘進工法） | C9: シールド工法 | E9: 市町村指定
B10: 水底トンネル（沈埋工法） | C10: その他 | E10: 指定なし
B11: 水底トンネル（開削工法） | C11: 不明
B12: 水底トンネル（その他）
B14: 様式C-1-1(本体工)、C-2、D-1-1、D-3
B15: 対象箇所 | C15: 部位区分 | D15: 変状区分 | E15: 変状種類 | F15: 対策区分 | G15: 健全性 | H15: 調査の要否 | I15: 措置の要否 | J15: 実施有無
B16: 覆工 | C16: アーチ（右側） | D16: 外力 | E16: 圧ざ、ひび割れ | F16: Ⅰ | G16: Ⅰ | H16: 要 | I16: 要監視 | J16: 未
B17: 坑門 | C17: アーチ（左側） | D17: 材質劣化 | E17: うき・はく離 | F17: Ⅱa | G17: Ⅱ | H17: 否 | I17: 要対策 | J17: 済
B18: 内装板 | C18: アーチ（天端） | D18: 漏水 | E18: 鋼材腐食 | F18: Ⅱb | G18: Ⅲ | I18: 否 | J18: 継続
B19: 天井板 | C19: アーチ（全周） | E19: 変形・移動 | F19: Ⅲ | G19: Ⅳ
B20: 路面 | C20: 側壁（右側） | E20: 沈下 | F20: Ⅳ | G20: －
B21: その他 | C21: 側壁（左側） | E21: 隆起 | F21: －
C22: 横断目地（右側） | E22: 巻厚の不足または減少、背面空洞
C23: 横断目地（左側） | E23: 補修・補強材の破損
C24: 横断目地（天端） | E24: 漏水
C25: 横断目地（全周） | E25: 滞水
C26: 水平打ち継ぎ目（右側） | E26: 土砂流出
C27: 水平打ち継ぎ目（左側） | E27: その他
C28: 面壁・妻壁等
C29: その他
C31: 面壁・妻壁等
C32: その他
C34: 側壁
C35: その他
C37: 車道側
C38: ダクト側
C39: その他
C41: 車道
C42: 歩道
C43: 監査歩路
... C47: その他
B50: 様式C-1-2（附属物）、D-1-2
B51: 施設の内訳 | C51: 対象箇所 | D51: 部位区分 | E51: 異常の種類 | F51: 異常判定区分 | G51: 実施有無
B52: 照明施設 | C52: 灯具 | D52: 附属物本体 | E52: 破断 | F52: ○ | G52: 未
B53: 換気施設 | C53: ケーブル本体 | D53: 取付部材 | E53: 緩み、脱落 | F53: × | G53: 済
B54: 非常用施設 | C54: ケーブル本体以外 | D54: ボルト・ナット，アンカー類 | E54: 亀裂 | G54: 継続
B55: その他施設 | E55: 腐食
C56: ジェットファン | E56: 変形，欠損
C57: VI計 | E57: がたつき
C58: CO計 | E58: その他
C59: 風向風速計
C60: その他
C62: 通話型通報設備
C63: 操作型通報設備
C64: 自動通報設備
C65: 非常警報設備
C66: 点 滅 灯
C67: 音信号発生器
C68: 消 火 器
C69: 消火栓設備
C70: 誘導表示施設
C71: 避難情報提供設備
... C83: その他
