Workbook
Name その他: '(参考)リスト'!$C$47
Name その他施設: '[1](参考)リスト'!#REF!
Name その他施設: '(参考)リスト'!$C$79:$C$83
Name 換気施設: '[1](参考)リスト'!#REF!
Name 換気施設: '(参考)リスト'!$C$56:$C$60
Name 坑門: '(参考)リスト'!$C$31:$C$32
Name 照明施設: '[1](参考)リスト'!#REF!
Name 照明施設: '(参考)リスト'!$C$52:$C$54
Name 対象箇所: [2]!テーブル1[対象箇所]
Name 天井板: '(参考)リスト'!$C$37:$C$39
Name 内装板: '(参考)リスト'!$C$34:$C$35
Name 非常用施設: '[1](参考)リスト'!#REF!
Name 非常用施設: '(参考)リスト'!$C$62:$C$77
Name 覆工: '(参考)リスト'!$C$16:$C$29
Name 路面: '(参考)リスト'!$C$41:$C$45

Sheet 点検様式作成フロー
A1: 点検様式作成フロ-
A3: 作成フロー図 | H3: 点検調書作成手順
H4: ①様式A-1～A-3（トンネル台帳）
H5: トンネル点検の実施にあたっては，現場点検作業に先行してトンネル情報を収集する。トンネル台帳（様式Ａ－1～様式Ａ－3）はトンネル完成後に作成され，維持管理の段階で引き継がれるが，関連資料等を確認したうえで，追加情報があれば必要に応じて追記することが望ましい。
H9: ②様式D-2-1、様式D-2-1´
H10: 現場点検作業を実施し，近接目視点検で確認した変状状況や補修履歴を忠実に変状展開図に転記する。
H12: ③様式D-1-1、様式D-1-2
H13: 変状展開図や撮影した写真等をもとに，対象トンネルの対策区分を決定し，対策区分がⅡ～Ⅳの変状および異常判定区分「×」を抽出し，写真台帳を作成する。
H16: ④様式B
H17: 写真台帳の作成と同時に，トンネルの構造を展開した位置図に変状写真位置を記録する。
H19: ⑤様式D-3
H20: 変状展開図ならびに写真台帳をもとに覆工スパンごとの変状展開図を作成し，変状発生状況をとりまとめる。
H22: ⑥様式E
H23: 近接目視または打音検査，触診ができていない箇所および近接目視によらない方法を講じた場所に対する調査結果を記録する。
... H33: すること。 ※各ファイルとも （参考）リスト のシートを付けて保存すること。

Sheet 変状面積算出方法
A1: 変状面積算出方法
A26: 注1）外力による変状：ひび割れや圧ざの場合は変状の寸法を記録する。
A27: 例）ひび割れ：長さ（L）×最大ひび割れ幅（t）を記録する。 変形，移動，沈下：数値的な記載が可能な場合のみ記載する。
A28: 注2）材料劣化による：打音異常
A29: 例）うき，はく離（閉合ひび割れ）：変状範囲を包括する寸法（L×W） うき，はく離（ひび割れ沿い）：打音異常箇所を包括する寸法（L×W） 鋼材腐食（鉄筋腐食）：一括した対策が適当と考えられる範囲を包括する寸法（L×W）
A30: 注3）漏水による変状：漏水発生範囲を包括し，垂れ下がりの可能性がある側壁下端まで含めた寸法を，L×Wで記録する。打継ぎ目地沿いの 漏水については目地を跨いだ50cm幅を横幅とする。

Sheet 記入の留意点
B2: トンネルDBでは、Excelに記載された文字や数値・配置された画像を自動的に読込みデータベースへ登録します。
B3: 記録様式へ記入の留意点を下記に示します。
B5: １．記録様式への記入
C6: ➤各セルに表示されるコメントに従って、様式A-1～様式Gのシートに、点検結果（テキスト入力、選択項目）を入力してください。
C7: ➤位置図(様式B)、変状写真(様式D-1-1)、異常写真(様式D-1-2)は記入した変状写真番号等に対応した画像を間違いないように貼り付けてください。
C8: ➤列や行の挿入削除は行わず、セルの位置がずれないようにしてください。データベースへ読み取り時にずれて取り込まれてしまいます。
B11: ２．画像ファイルの配置の注意点
C12: 登録に使用可能な画像ファイルの拡張子は「jpg」「jpeg」「png」の3種類のみです。
C13: 必ず、１か所に画像１枚のみを張り付けてください。エクセルの図形などのオブジェクトは使用しないでください。
C14: 張り付けた画像はエクセルのトリミング機能を使用しないでください。あらかじめ切り抜いた画像を利用してください。
C15: ※１ 画像の左上を必ずセルの内部に含め、はみ出ないようにしてください。
C16: ※２ 図の書式設定で「セルに合わせて移動やサイズを変更しない」のモードを使用しないでください。
C32: ※３ 「挿入」→「画像」→「セルの上に配置」してください。
B41: ３．シート名の連番について
C42: １ページに記載しきれない場合は、１シート内にページを増やすのではなくシート自体をコピーしシート名の末尾を連番にしてください。
C43: 対象様式
C44: 様式B
C45: 様式D-1-1
C46: 様式D-1-2
C47: 様式D-2-1
C48: 様式D-2-1´
C49: 様式D-3_S00 ※スパン名を記載
C50: 様式G
C52: 末尾の連番の形式例
C53: 様式B(1) 様式B(2) 様式B(3)
C54: 様式B_001 様式B_002 様式B_003
... C61: で示される要領を制限するものではありません。

Sheet 様式A-1
B2: ■トンネル台帳 トンネル諸元、非常用施設諸元 【様式A-1】 | S2: 施設ID | W2: 34.14178,132.16544
B3: フリガナ | D3: ハシラノズイドウ | H3: 路線名 | J3: 主要地方道岩国玖珂線 | P3: 管理者名 | R3: 山口県岩国土木建築事務所 | W3: 緊急輸送道路 | Z3: 一次
B4: 名 称 | D4: 柱野隧道 | W4: 代替路の有無 | Z4: 無
B5: 所在地 | D5: 自 | E5: 岩国市柱野 | H5: 作成者 | K5: 復建調査設計㈱・小笠原洋 | P5: 作成年月日 | R5: 45944 | U5: トンネル延長 | X5: L= | Z5: 358 | AB5: ｍ
D6: 至 | E6: 岩国市柱野 | U6: ﾄﾝﾈﾙの分類 | X6: 陸上トンネル（その他）
B7: 起点 | C7: 緯度 | E7: 34.14505 | H7: 完成年月日 | K7: 1971年 | M7: 舗装 | O7: 種 別 | S7: トンネル非常用施設 | T7: 施設の内訳 | X7: 種別・方式 | Y7: 型式 | Z7: 個数 | AA7: 更新年度 | AE7: =INT(E7/10000) -> 0 | AF7: =INT(E7/100)-AE7*100 -> 0 | AG7: =E7-AE7*10000-AF7*100 -> 34.14505 | AH7: =ROUND(AE7+AF7/60+AG7/60/60,5) -> 0.00948 | AI7: =TEXT(AH7,"0.00000") -> 0.00948
C8: 経度 | E8: 132.16321 | H8: 供用年月日 | K8: 1972年 | O8: 厚 さ | T8: 通報設備 | U8: 通話型通報設備 | Z8: 4 | AE8: =INT(E8/10000) -> 0 | AF8: =INT(E8/100)-AE8*100 -> 1 | AG8: =E8-AE8*10000-AF8*100 -> 32.16321 | AH8: =ROUND(AE8+AF8/60+AG8/60/60,5) -> 0.0256 | AI8: =TEXT(AH8,"0.00000") -> 0.02560
B9: 終点 | C9: 緯度 | E9: 34.142981 | H9: トンネル区分 | O9: 面 積 | U9: 操作型通報設備 | Z9: 8
C10: 経度 | E10: 132.15968 | H10: 内装種類 | K10: 内装板 | O10: 更新年次 | U10: 自動通報設備
B11: 一般有料区分 | E11: 一般トンネル | H11: 天井板種類 | K11: なし | M11: 排水 | O11: 種 別 | Q11: 円型水路 | T11: 警報設備 | U11: 非常警報設備
B12: 土かぶり | E12: 70 | G12: m | H12: 坑門 | I12: 起点 | J12: 形式 | K12: 面壁型 | O12: 更新年次 | T12: 消火設備 | U12: 消 火 器 | Z12: 8
B13: 内空断面積 | G13: m2 | J13: 延長 | L13: m | M13: 施設 | P13: 種別・方式 | Q13: 個数 | R13: 更新年次 | U13: 消火栓設備
B14: 交 通 量 | E14: 19742 | G14: 台/日 | I14: 終点 | J14: 形式 | K14: 面壁型 | M14: 道路附属物等 | N14: 照明 | P14: LED | Q14: 87 | T14: 避難誘導設備 | U14: 誘導表示設備 | Z14: 21
C15: 道 路 幅 | E15: 9 | G15: m | J15: 延長 | L15: m | N15: 換気 | U15: 避難情報提供設備
B16: 幅 員 | C16: 車 道 幅 | E16: 3.5 | G16: m | H16: 竣工巻厚 | I16: アーチ | K16: 40 | L16: cm | N16: 標識
E17: 3.5 | G17: m | I17: 側 壁 | K17: 40 | L17: cm | N17: 警報表示板 | U17: 避難通路
C18: 歩道等幅 | E18: 1 | G18: m | K18: 40 | L18: cm | N18: 吸音板 | U18: 排煙設備
B19: 高さ | C19: 建築限界高 | E19: 4.7 | G19: m | I19: インバート | K19: 50 | L19: cm | T19: その他の設備 | U19: 給水栓設備
C20: 中央高 | E20: 6.2 | G20: m | H20: 半径 | I20: アーチ | K20: 450 | L20: cm | U20: 無線通信補助設備
C21: 有効高 | E21: 4.5 | G21: m | I21: 側 壁 | K21: 450 | L21: cm | U21: 水噴霧設備
C22: 縦断勾配 | I22: インバート | L22: cm | U22: 監視設備
B23: 線 形 | C23: 直線区間長 | H23: 占用物件 | I23: 種 類 | K23: 寸 法 | M23: 管理者名 | Q23: 更新年次 | S23: 非常用施設 関連設備 | U23: 予備発電設備
C24: 曲線区間 | D24: 区間長
D25: 起点側ｸﾛｿｲﾄﾞ
D26: 曲線半径
D27: 終点側ｸﾛｿｲﾄﾞ | S27: その他 | U27: 非常駐車帯
B28: トンネル工法 | E28: 矢板工法 | U28: 方向転換所
C29: ※緯度・経度については、秒の小数第二位の単位まで記入すること。

Sheet 様式A-2
B3: ■トンネル台帳 トンネル情報一覧表 【様式A-2】
B4: フリガナ | E4: ='様式A-1'!$D$3 -> ハシラノズイドウ | J4: 路線名 | M4: ='様式A-1'!$J$3 -> 主要地方道岩国玖珂線 | S4: 作成者 | Y4: ='様式A-1'!$K$5 -> 復建調査設計㈱・小笠原洋 | AE4: 作成年月日 | AI4: ='様式A-1'!$R$5 -> 45944
B5: 名 称 | E5: ='様式A-1'!$D$4 -> 柱野隧道 | J5: 管理者名 | M5: ='様式A-1'!$R$3 -> 山口県岩国土木建築事務所
B6: 覆工 ｽﾊﾟﾝ 番号 | C6: ｽﾊﾟﾝ長 | D6: 追加距離 | F6: トンネル本体工 | K6: 照明施設 | O6: 非常用施設 | AE6: 換気施設 | AK6: その他附属物等
O7: 通報設備 | R7: 警報設備 | S7: 消火設備 | U7: 避難誘導設備 | Y7: その他の設備 | AC7: 特記事項
D8: 起点側 | E8: 終点側 | F8: 特記事項 | I8: 内装板 | J8: 天井板 | K8: 基本照明 | L8: 入口出口照明 | M8: 特記事項 | O8: 通話型通報設備 | P8: 操作型通報設備 | Q8: 自動通報設備 | R8: 非常警報設備 | S8: 消 火 器 | T8: 消火栓設備 | U8: 誘導表示設備 | V8: 避難情報提供設備 | W8: 避難通路 | X8: 排煙設備 | Y8: 給水栓設備 | Z8: 無線通信補助設備 | AA8: 水噴霧設備 | AB8: 監視設備 | AE8: JF | AF8: VI計 | AG8: CO計 | AH8: 風向 風速計 | AI8: 特記事項
C9: (m) | D9: (m) | E9: (m)
B10: PS | C10: 2.5 | E10: =C10+D10 -> 2.5 | F10: 坑門(面壁型) | I10: ○
B11: S1 | C11: 7.7 | D11: =E10 -> 2.5 | E11: =C11+D11 -> 10.2 | I11: ○ | K11: ○ | L11: ○ | U11: ○
B12: S2 | C12: 9 | D12: =E11 -> 10.2 | E12: =C12+D12 -> 19.2 | I12: ○ | L12: ○ | O12: ○ | P12: ○ | S12: ○
B13: S3 | C13: 8.8 | D13: =E12 -> 19.2 | E13: =C13+D13 -> 28 | I13: ○ | K13: ○ | L13: ○
B14: S4 | C14: 8.9 | D14: =E13 -> 28 | E14: =C14+D14 -> 36.9 | I14: ○ | L14: ○
B15: S5 | C15: 9 | D15: =E14 -> 36.9 | E15: =C15+D15 -> 45.9 | I15: ○ | K15: ○ | L15: ○ | U15: ○
B16: S6 | C16: 8.8 | D16: =E15 -> 45.9 | E16: =C16+D16 -> 54.7 | I16: ○ | L16: ○ | P16: ○ | S16: ○
B17: S7 | C17: 8.7 | D17: =E16 -> 54.7 | E17: =C17+D17 -> 63.4 | I17: ○ | K17: ○ | L17: ○ | U17: ○
B18: S8 | C18: 9 | D18: =E17 -> 63.4 | E18: =C18+D18 -> 72.4 | I18: ○ | L18: ○
B19: S9 | C19: 9 | D19: =E18 -> 72.4 | E19: =C19+D19 -> 81.4 | I19: ○ | L19: ○ | U19: ○
B20: S10 | C20: 8.9 | D20: =E19 -> 81.4 | E20: =C20+D20 -> 90.3 | I20: ○ | K20: ○ | L20: ○ | U20: ○
B21: S11 | C21: 9 | D21: =E20 -> 90.3 | E21: =C21+D21 -> 99.3 | I21: ○ | L21: ○
B22: S12 | C22: 8.9 | D22: =E21 -> 99.3 | E22: =C22+D22 -> 108.2 | I22: ○ | K22: ○ | P22: ○ | S22: ○ | U22: ○
B23: S13 | C23: 8.9 | D23: =E22 -> 108.2 | E23: =C23+D23 -> 117.1 | I23: ○ | L23: ○ | U23: ○
B24: S14 | C24: 9 | D24: =E23 -> 117.1 | E24: =C24+D24 -> 126.1 | I24: ○ | K24: ○
B25: S15 | C25: 9 | D25: =E24 -> 126.1 | E25: =C25+D25 -> 135.1 | I25: ○ | L25: ○ | U25: ○
B26: S16 | C26: 9.1 | D26: =E25 -> 135.1 | E26: =C26+D26 -> 144.2 | I26: ○ | K26: ○
B27: S17 | C27: 8.1 | D27: =E26 -> 144.2 | E27: =C27+D27 -> 152.3 | I27: ○ | L27: ○
B28: S18 | C28: 9 | D28: =E27 -> 152.3 | E28: =C28+D28 -> 161.3 | I28: ○ | K28: ○ | O28: ○ | P28: ○ | S28: ○ | U28: ○
B29: S19 | C29: 8.9 | D29: =E28 -> 161.3 | E29: =C29+D29 -> 170.2 | I29: ○ | L29: ○
B30: S20 | C30: 9 | D30: =E29 -> 170.2 | E30: =C30+D30 -> 179.2 | I30: ○ | K30: ○
B31: S21 | C31: 9 | D31: =E30 -> 179.2 | E31: =C31+D31 -> 188.2 | I31: ○ | U31: ○
B32: S22 | C32: 9 | D32: =E31 -> 188.2 | E32: =C32+D32 -> 197.2 | I32: ○ | L32: ○
B33: S23 | C33: 9.1 | D33: =E32 -> 197.2 | E33: =C33+D33 -> 206.3 | I33: ○ | K33: ○ | O33: ○ | P33: ○ | S33: ○ | U33: ○
B34: S24 | C34: 8.9 | D34: =E33 -> 206.3 | E34: =C34+D34 -> 215.2 | I34: ○ | L34: ○
B35: S25 | C35: 9.1 | D35: =E34 -> 215.2 | E35: =C35+D35 -> 224.3 | I35: ○ | K35: ○
B36: S26 | C36: 9 | D36: =E35 -> 224.3 | E36: =C36+D36 -> 233.3 | I36: ○ | L36: ○ | U36: ○
B37: S27 | C37: 9.1 | D37: =E36 -> 233.3 | E37: =C37+D37 -> 242.4 | I37: ○ | L37: ○
B38: S28 | C38: 8.9 | D38: =E37 -> 242.4 | E38: =C38+D38 -> 251.3 | I38: ○ | L38: ○ | U38: ○
B39: S29 | C39: 9.1 | D39: =E38 -> 251.3 | E39: =C39+D39 -> 260.4 | I39: ○ | K39: ○ | P39: ○ | S39: ○ | U39: ○
B40: S30 | C40: 8.9 | D40: =E39 -> 260.4 | E40: =C40+D40 -> 269.3 | I40: ○ | L40: ○
B41: S31 | C41: 8.8 | D41: =E40 -> 269.3 | E41: =C41+D41 -> 278.1 | I41: ○ | K41: ○ | L41: ○ | U41: ○
B42: S32 | C42: 9.1 | D42: =E41 -> 278.1 | E42: =C42+D42 -> 287.2 | I42: ○ | L42: ○ | U42: ○
B43: S33 | C43: 9 | D43: =E42 -> 287.2 | E43: =C43+D43 -> 296.2 | I43: ○ | K43: ○ | L43: ○ | U43: ○
B44: S34 | C44: 7.6 | D44: =E43 -> 296.2 | E44: =C44+D44 -> 303.8 | I44: ○ | L44: ○ | P44: ○ | S44: ○ | U44: ○
B45: S35 | C45: 9 | D45: =E44 -> 303.8 | E45: =C45+D45 -> 312.8 | I45: ○ | L45: ○ | U45: ○
B46: S36 | C46: 10.4 | D46: =E45 -> 312.8 | E46: =C46+D46 -> 323.2 | I46: ○ | K46: ○ | L46: ○ | U46: ○
B47: S37 | C47: 8.9 | D47: =E46 -> 323.2 | E47: =C47+D47 -> 332.1 | I47: ○ | L47: ○ | U47: ○
B48: S38 | C48: 7.5 | D48: =E47 -> 332.1 | E48: =C48+D48 -> 339.6 | I48: ○ | K48: ○ | L48: ○
B49: S39 | C49: 10.1 | D49: =E48 -> 339.6 | E49: =C49+D49 -> 349.7 | I49: ○ | L49: ○ | O49: ○ | P49: ○ | S49: ○
B50: S40 | C50: 6 | D50: =E49 -> 349.7 | E50: =C50+D50 -> 355.7 | I50: ○ | K50: ○ | U50: ○
B51: PE | C51: 2.3 | D51: =E50 -> 355.7 | E51: =+C51+D51 -> 358 | F51: 坑門(面壁型) | I51: ○
B89: ※ 行が不足する場合は、適時、表の行を増やすこと。

Sheet 様式A-3
B3: ■トンネル台帳 トンネル記録（位置図、断面図、施工実績他）【様式A-3】
B4: フリガナ | E4: ='様式A-1'!$D$3 -> ハシラノズイドウ | J4: 路線名 | M4: ='様式A-1'!$J$3 -> 主要地方道岩国玖珂線 | S4: 作成者 | W4: ='様式A-1'!$K$5 -> 復建調査設計㈱・小笠原洋 | AC4: 作成年月日 | AF4: ='様式A-1'!$R$5 -> 45944
B5: 名 称 | E5: ='様式A-1'!$D$4 -> 柱野隧道 | J5: 管理者名 | M5: ='様式A-1'!$R$3 -> 山口県岩国土木建築事務所
B6: 位置図・現況写真・標準断面図・地質縦断図・施工実績

Sheet 様式B (1)
B2: ■定期点検記録様式 トンネル変状・異常箇所写真位置図 【様式B】 | N2: 定期点検年月日 | P2: 45867 | S2: 施設ID | V2: =+'様式A-1'!$W$2 -> 34.14178,132.16544
B3: フリガナ | C3: =+'様式A-1'!$D$3 -> ハシラノズイドウ | G3: 路線名 | H3: =+'様式A-1'!$J$3 -> 主要地方道岩国玖珂線 | K3: 管理者名 | L3: =+'様式A-1'!$R$3 -> 山口県岩国土木建築事務所 | Q3: 定期点検実施者 | S3: 復建調査設計株式会社 | V3: 起点 | W3: 緯度 | X3: =+'様式A-1'!$E$7 -> 34.14505
B4: 名 称 | C4: =+'様式A-1'!$D$4 -> 柱野隧道 | S4: 小笠原洋 | W4: 経度 | X4: =+'様式A-1'!$E$8 -> 132.16321
B5: 所在地 | C5: 自 | D5: =+'様式A-1'!$E$5 -> 岩国市柱野 | G5: トンネル工法 | I5: 矢板工法 | L5: トンネル延長 | N5: L= | O5: =+'様式A-1'!$Z$5 -> 358 | P5: ｍ | Q5: 自専道 or 一般道 | R5: 一般道 | S5: 代替路の有無 | U5: 無 | V5: 終点 | W5: 緯度 | X5: =+'様式A-1'!$E$9 -> 34.142981
C6: 至 | D6: =+'様式A-1'!$E$6 -> 岩国市柱野 | G6: 建設年度 | I6: 1971年 | L6: 幅員 | N6: L= | O6: =+'様式A-1'!$E$15 -> 9 | P6: ｍ | S6: 緊急輸送道路 | U6: 指定なし | W6: 経度 | X6: =+'様式A-1'!$E$10 -> 132.15968
B7: トンネル毎 の健全性の 診断の区分 | D7: Ⅲ
G8: 変状・異常 箇所数合計 | I8: トンネル本体工 | J8: 材質劣化 | K8: Ⅱ | L8: 13 | N8: Ⅲ | O8: 2 | Q8: Ⅳ | R8: 0 | T8: 附属物等 の取付状態 | V8: ◯ （応急措置後)
J9: 漏水 | K9: Ⅱ | L9: 130 | N9: Ⅲ | O9: 0 | Q9: Ⅳ | R9: 0
V10: ✕ | X10: 10
J11: 外力 | K11: Ⅱ | L11: 1 | N11: Ⅲ | O11: 0 | Q11: Ⅳ | R11: 0
B12: トンネル変状・異常箇所写真位置図
J29: 注１：本位置図は、見下げた状態で記載すること。 注２：覆工スパン番号は横断目地毎(矢板工法の場合は上半アーチの 横断目地毎)に設定すること。 | Q29: 注３：写真番号に付する変状番号は、各覆工スパンの変状に対して新たに確認された場合 は順次追加していくこと。 注４：横断目地の変状は前の覆工スパン番号で計上すること。 注５：１枚に収まらない場合は、複数枚に分けて作成すること。
C30: ※1 トンネル本体工の変状数は、材質劣化、漏水に起因するものは変状単位で、外力に起因するものはスパン単位で計上すること。
C31: ※2 トンネル本体工の変状に対しては、措置の必要性（Ⅱ～Ⅳ）について表記すること。また、点検前に実施された措置によりⅠと判定された箇所についても記載すること。
C32: ※3 附属物等の取付状態の○欄については、応急措置前に判定区分×とした箇所のうち応急措置により○判定とした箇所の数を記入すること。
C33: ※4 附属物等の異常番号は、本体工と番号が重複しないよう101番以降とする等の配慮を行い、分かりやすく記録すること。

Sheet 様式B (2)
B2: ■定期点検記録様式 トンネル変状・異常箇所写真位置図 【様式B】 | N2: 定期点検年月日 | P2: 45862 | S2: 施設ID | V2: =+'様式A-1'!$W$2 -> 34.14178,132.16544
B3: フリガナ | C3: =+'様式A-1'!$D$3 -> ハシラノズイドウ | G3: 路線名 | H3: =+'様式A-1'!$J$3 -> 主要地方道岩国玖珂線 | K3: 管理者名 | L3: =+'様式A-1'!$R$3 -> 山口県岩国土木建築事務所 | Q3: 定期点検実施者 | S3: ='様式B (1)'!$S$3 -> 復建調査設計株式会社 | V3: 起点 | W3: 緯度 | X3: =+'様式A-1'!$E$7 -> 34.14505
B4: 名 称 | C4: =+'様式A-1'!$D$4 -> 柱野隧道 | S4: ='様式B (1)'!$S$4 -> 小笠原洋 | W4: 経度 | X4: =+'様式A-1'!$E$8 -> 132.16321
B5: 所在地 | C5: 自 | D5: =+'様式A-1'!$E$5 -> 岩国市柱野 | G5: トンネル工法 | I5: ='様式B (1)'!$I$5 -> 矢板工法 | L5: トンネル延長 | N5: L= | O5: =+'様式A-1'!$Z$5 -> 358 | P5: ｍ | Q5: 自専道 or 一般道 | R5: ='様式B (1)'!$R$5 -> 一般道 | S5: 代替路の有無 | U5: ='様式B (1)'!$U$5 -> 無 | V5: 終点 | W5: 緯度 | X5: =+'様式A-1'!$E$9 -> 34.142981
C6: 至 | D6: =+'様式A-1'!$E$6 -> 岩国市柱野 | G6: 建設年度 | I6: ='様式B (1)'!$I$6 -> 1971年 | L6: 幅員 | N6: L= | O6: =+'様式A-1'!$E$15 -> 9 | P6: ｍ | S6: 緊急輸送道路 | U6: ='様式B (1)'!$U$6 -> 指定なし | W6: 経度 | X6: =+'様式A-1'!$E$10 -> 132.15968
B7: トンネル毎 の健全性の 診断の区分 | D7: ='様式B (1)'!$D$7 -> Ⅲ
G8: 変状・異常 箇所数合計 | I8: トンネル本体工 | J8: 材質劣化 | K8: Ⅱ | L8: ='様式B (1)'!$L$8 -> 13 | N8: Ⅲ | O8: ='様式B (1)'!$O$8 -> 2 | Q8: Ⅳ | R8: ='様式B (1)'!$R$8 -> 0 | T8: 附属物等 の取付状態 | V8: ◯ （応急措置後) | X8: ='様式B (1)'!$X$8 -> 0
J9: 漏水 | K9: Ⅱ | L9: ='様式B (1)'!$L$9 -> 130 | N9: Ⅲ | O9: ='様式B (1)'!$O$9 -> 0 | Q9: Ⅳ | R9: ='様式B (1)'!$R$9 -> 0
V10: ✕ | X10: ='様式B (1)'!$X$10 -> 10
J11: 外力 | K11: Ⅱ | L11: ='様式B (1)'!$L$11 -> 1 | N11: Ⅲ | O11: ='様式B (1)'!$O$11 -> 0 | Q11: Ⅳ | R11: ='様式B (1)'!$R$11 -> 0
B12: トンネル変状・異常箇所写真位置図
J29: 注１：本位置図は、見下げた状態で記載すること。 注２：覆工スパン番号は横断目地毎(矢板工法の場合は上半アーチの 横断目地毎)に設定すること。 | Q29: 注３：写真番号に付する変状番号は、各覆工スパンの変状に対して新たに確認された場合 は順次追加していくこと。 注４：横断目地の変状は前の覆工スパン番号で計上すること。 注５：１枚に収まらない場合は、複数枚に分けて作成すること。
C30: ※1 トンネル本体工の変状数は、材質劣化、漏水に起因するものは変状単位で、外力に起因するものはスパン単位で計上すること。
C31: ※2 トンネル本体工の変状に対しては、措置の必要性（Ⅱ～Ⅳ）について表記すること。また、点検前に実施された措置によりⅠと判定された箇所についても記載すること。
C32: ※3 附属物等の取付状態の○欄については、応急措置前に判定区分×とした箇所のうち応急措置により○判定とした箇所の数を記入すること。
C33: ※4 附属物等の異常番号は、本体工と番号が重複しないよう101番以降とする等の配慮を行い、分かりやすく記録すること。

Sheet 様式B (3)
B2: ■定期点検記録様式 トンネル変状・異常箇所写真位置図 【様式B】 | N2: 定期点検年月日 | P2: 45862 | S2: 施設ID | V2: =+'様式A-1'!$W$2 -> 34.14178,132.16544
B3: フリガナ | C3: =+'様式A-1'!$D$3 -> ハシラノズイドウ | G3: 路線名 | H3: =+'様式A-1'!$J$3 -> 主要地方道岩国玖珂線 | K3: 管理者名 | L3: =+'様式A-1'!$R$3 -> 山口県岩国土木建築事務所 | Q3: 定期点検実施者 | S3: ='様式B (1)'!$S$3 -> 復建調査設計株式会社 | V3: 起点 | W3: 緯度 | X3: =+'様式A-1'!$E$7 -> 34.14505
B4: 名 称 | C4: =+'様式A-1'!$D$4 -> 柱野隧道 | S4: ='様式B (1)'!$S$4 -> 小笠原洋 | W4: 経度 | X4: =+'様式A-1'!$E$8 -> 132.16321
B5: 所在地 | C5: 自 | D5: =+'様式A-1'!$E$5 -> 岩国市柱野 | G5: トンネル工法 | I5: ='様式B (1)'!$I$5 -> 矢板工法 | L5: トンネル延長 | N5: L= | O5: =+'様式A-1'!$Z$5 -> 358 | P5: ｍ | Q5: 自専道 or 一般道 | R5: ='様式B (1)'!$R$5 -> 一般道 | S5: 代替路の有無 | U5: ='様式B (1)'!$U$5 -> 無 | V5: 終点 | W5: 緯度 | X5: =+'様式A-1'!$E$9 -> 34.142981
C6: 至 | D6: =+'様式A-1'!$E$6 -> 岩国市柱野 | G6: 建設年度 | I6: ='様式B (1)'!$I$6 -> 1971年 | L6: 幅員 | N6: L= | O6: =+'様式A-1'!$E$15 -> 9 | P6: ｍ | S6: 緊急輸送道路 | U6: ='様式B (1)'!$U$6 -> 指定なし | W6: 経度 | X6: =+'様式A-1'!$E$10 -> 132.15968
B7: トンネル毎 の健全性の 診断の区分 | D7: ='様式B (1)'!$D$7 -> Ⅲ
G8: 変状・異常 箇所数合計 | I8: トンネル本体工 | J8: 材質劣化 | K8: Ⅱ | L8: ='様式B (1)'!$L$8 -> 13 | N8: Ⅲ | O8: ='様式B (1)'!$O$8 -> 2 | Q8: Ⅳ | R8: ='様式B (1)'!$R$8 -> 0 | T8: 附属物等 の取付状態 | V8: ◯ （応急措置後) | X8: ='様式B (1)'!$X$8 -> 0
J9: 漏水 | K9: Ⅱ | L9: ='様式B (1)'!$L$9 -> 130 | N9: Ⅲ | O9: ='様式B (1)'!$O$9 -> 0 | Q9: Ⅳ | R9: ='様式B (1)'!$R$9 -> 0
V10: ✕ | X10: ='様式B (1)'!$X$10 -> 10
J11: 外力 | K11: Ⅱ | L11: ='様式B (1)'!$L$11 -> 1 | N11: Ⅲ | O11: ='様式B (1)'!$O$11 -> 0 | Q11: Ⅳ | R11: ='様式B (1)'!$R$11 -> 0
B12: トンネル変状・異常箇所写真位置図
J29: 注１：本位置図は、見下げた状態で記載すること。 注２：覆工スパン番号は横断目地毎(矢板工法の場合は上半アーチの 横断目地毎)に設定すること。 | Q29: 注３：写真番号に付する変状番号は、各覆工スパンの変状に対して新たに確認された場合 は順次追加していくこと。 注４：横断目地の変状は前の覆工スパン番号で計上すること。 注５：１枚に収まらない場合は、複数枚に分けて作成すること。
C30: ※1 トンネル本体工の変状数は、材質劣化、漏水に起因するものは変状単位で、外力に起因するものはスパン単位で計上すること。
C31: ※2 トンネル本体工の変状に対しては、措置の必要性（Ⅱ～Ⅳ）について表記すること。また、点検前に実施された措置によりⅠと判定された箇所についても記載すること。
C32: ※3 附属物等の取付状態の○欄については、応急措置前に判定区分×とした箇所のうち応急措置により○判定とした箇所の数を記入すること。
C33: ※4 附属物等の異常番号は、本体工と番号が重複しないよう101番以降とする等の配慮を行い、分かりやすく記録すること。

Sheet 様式B (4)
B2: ■定期点検記録様式 トンネル変状・異常箇所写真位置図 【様式B】 | N2: 定期点検年月日 | P2: 45862 | S2: 施設ID | V2: =+'様式A-1'!$W$2 -> 34.14178,132.16544
B3: フリガナ | C3: =+'様式A-1'!$D$3 -> ハシラノズイドウ | G3: 路線名 | H3: =+'様式A-1'!$J$3 -> 主要地方道岩国玖珂線 | K3: 管理者名 | L3: =+'様式A-1'!$R$3 -> 山口県岩国土木建築事務所 | Q3: 定期点検実施者 | S3: ='様式B (1)'!$S$3 -> 復建調査設計株式会社 | V3: 起点 | W3: 緯度 | X3: =+'様式A-1'!$E$7 -> 34.14505
B4: 名 称 | C4: =+'様式A-1'!$D$4 -> 柱野隧道 | S4: ='様式B (1)'!$S$4 -> 小笠原洋 | W4: 経度 | X4: =+'様式A-1'!$E$8 -> 132.16321
B5: 所在地 | C5: 自 | D5: =+'様式A-1'!$E$5 -> 岩国市柱野 | G5: トンネル工法 | I5: ='様式B (1)'!$I$5 -> 矢板工法 | L5: トンネル延長 | N5: L= | O5: =+'様式A-1'!$Z$5 -> 358 | P5: ｍ | Q5: 自専道 or 一般道 | R5: ='様式B (1)'!$R$5 -> 一般道 | S5: 代替路の有無 | U5: ='様式B (1)'!$U$5 -> 無 | V5: 終点 | W5: 緯度 | X5: =+'様式A-1'!$E$9 -> 34.142981
C6: 至 | D6: =+'様式A-1'!$E$6 -> 岩国市柱野 | G6: 建設年度 | I6: ='様式B (1)'!$I$6 -> 1971年 | L6: 幅員 | N6: L= | O6: =+'様式A-1'!$E$15 -> 9 | P6: ｍ | S6: 緊急輸送道路 | U6: ='様式B (1)'!$U$6 -> 指定なし | W6: 経度 | X6: =+'様式A-1'!$E$10 -> 132.15968
B7: トンネル毎 の健全性の 診断の区分 | D7: ='様式B (1)'!$D$7 -> Ⅲ
G8: 変状・異常 箇所数合計 | I8: トンネル本体工 | J8: 材質劣化 | K8: Ⅱ | L8: ='様式B (1)'!$L$8 -> 13 | N8: Ⅲ | O8: ='様式B (1)'!$O$8 -> 2 | Q8: Ⅳ | R8: ='様式B (1)'!$R$8 -> 0 | T8: 附属物等 の取付状態 | V8: ◯ （応急措置後) | X8: ='様式B (1)'!$X$8 -> 0
J9: 漏水 | K9: Ⅱ | L9: ='様式B (1)'!$L$9 -> 130 | N9: Ⅲ | O9: ='様式B (1)'!$O$9 -> 0 | Q9: Ⅳ | R9: ='様式B (1)'!$R$9 -> 0
V10: ✕ | X10: ='様式B (1)'!$X$10 -> 10
J11: 外力 | K11: Ⅱ | L11: ='様式B (1)'!$L$11 -> 1 | N11: Ⅲ | O11: ='様式B (1)'!$O$11 -> 0 | Q11: Ⅳ | R11: ='様式B (1)'!$R$11 -> 0
B12: トンネル変状・異常箇所写真位置図
J29: 注１：本位置図は、見下げた状態で記載すること。 注２：覆工スパン番号は横断目地毎(矢板工法の場合は上半アーチの 横断目地毎)に設定すること。 | Q29: 注３：写真番号に付する変状番号は、各覆工スパンの変状に対して新たに確認された場合 は順次追加していくこと。 注４：横断目地の変状は前の覆工スパン番号で計上すること。 注５：１枚に収まらない場合は、複数枚に分けて作成すること。
C30: ※1 トンネル本体工の変状数は、材質劣化、漏水に起因するものは変状単位で、外力に起因するものはスパン単位で計上すること。
C31: ※2 トンネル本体工の変状に対しては、措置の必要性（Ⅱ～Ⅳ）について表記すること。また、点検前に実施された措置によりⅠと判定された箇所についても記載すること。
C32: ※3 附属物等の取付状態の○欄については、応急措置前に判定区分×とした箇所のうち応急措置により○判定とした箇所の数を記入すること。
C33: ※4 附属物等の異常番号は、本体工と番号が重複しないよう101番以降とする等の配慮を行い、分かりやすく記録すること。

Sheet 様式B (5)
B2: ■定期点検記録様式 トンネル変状・異常箇所写真位置図 【様式B】 | N2: 定期点検年月日 | P2: 45862 | S2: 施設ID | V2: =+'様式A-1'!$W$2 -> 34.14178,132.16544
B3: フリガナ | C3: =+'様式A-1'!$D$3 -> ハシラノズイドウ | G3: 路線名 | H3: =+'様式A-1'!$J$3 -> 主要地方道岩国玖珂線 | K3: 管理者名 | L3: =+'様式A-1'!$R$3 -> 山口県岩国土木建築事務所 | Q3: 定期点検実施者 | S3: ='様式B (1)'!$S$3 -> 復建調査設計株式会社 | V3: 起点 | W3: 緯度 | X3: =+'様式A-1'!$E$7 -> 34.14505
B4: 名 称 | C4: =+'様式A-1'!$D$4 -> 柱野隧道 | S4: ='様式B (1)'!$S$4 -> 小笠原洋 | W4: 経度 | X4: =+'様式A-1'!$E$8 -> 132.16321
B5: 所在地 | C5: 自 | D5: =+'様式A-1'!$E$5 -> 岩国市柱野 | G5: トンネル工法 | I5: ='様式B (1)'!$I$5 -> 矢板工法 | L5: トンネル延長 | N5: L= | O5: =+'様式A-1'!$Z$5 -> 358 | P5: ｍ | Q5: 自専道 or 一般道 | R5: ='様式B (1)'!$R$5 -> 一般道 | S5: 代替路の有無 | U5: ='様式B (1)'!$U$5 -> 無 | V5: 終点 | W5: 緯度 | X5: =+'様式A-1'!$E$9 -> 34.142981
C6: 至 | D6: =+'様式A-1'!$E$6 -> 岩国市柱野 | G6: 建設年度 | I6: ='様式B (1)'!$I$6 -> 1971年 | L6: 幅員 | N6: L= | O6: =+'様式A-1'!$E$15 -> 9 | P6: ｍ | S6: 緊急輸送道路 | U6: ='様式B (1)'!$U$6 -> 指定なし | W6: 経度 | X6: =+'様式A-1'!$E$10 -> 132.15968
B7: トンネル毎 の健全性の 診断の区分 | D7: ='様式B (1)'!$D$7 -> Ⅲ
G8: 変状・異常 箇所数合計 | I8: トンネル本体工 | J8: 材質劣化 | K8: Ⅱ | L8: ='様式B (1)'!$L$8 -> 13 | N8: Ⅲ | O8: ='様式B (1)'!$O$8 -> 2 | Q8: Ⅳ | R8: ='様式B (1)'!$R$8 -> 0 | T8: 附属物等 の取付状態 | V8: ◯ （応急措置後) | X8: ='様式B (1)'!$X$8 -> 0
J9: 漏水 | K9: Ⅱ | L9: ='様式B (1)'!$L$9 -> 130 | N9: Ⅲ | O9: ='様式B (1)'!$O$9 -> 0 | Q9: Ⅳ | R9: ='様式B (1)'!$R$9 -> 0
V10: ✕ | X10: ='様式B (1)'!$X$10 -> 10
J11: 外力 | K11: Ⅱ | L11: ='様式B (1)'!$L$11 -> 1 | N11: Ⅲ | O11: ='様式B (1)'!$O$11 -> 0 | Q11: Ⅳ | R11: ='様式B (1)'!$R$11 -> 0
B12: トンネル変状・異常箇所写真位置図
J29: 注１：本位置図は、見下げた状態で記載すること。 注２：覆工スパン番号は横断目地毎(矢板工法の場合は上半アーチの 横断目地毎)に設定すること。 | Q29: 注３：写真番号に付する変状番号は、各覆工スパンの変状に対して新たに確認された場合 は順次追加していくこと。 注４：横断目地の変状は前の覆工スパン番号で計上すること。 注５：１枚に収まらない場合は、複数枚に分けて作成すること。
C30: ※1 トンネル本体工の変状数は、材質劣化、漏水に起因するものは変状単位で、外力に起因するものはスパン単位で計上すること。
C31: ※2 トンネル本体工の変状に対しては、措置の必要性（Ⅱ～Ⅳ）について表記すること。また、点検前に実施された措置によりⅠと判定された箇所についても記載すること。
C32: ※3 附属物等の取付状態の○欄については、応急措置前に判定区分×とした箇所のうち応急措置により○判定とした箇所の数を記入すること。
C33: ※4 附属物等の異常番号は、本体工と番号が重複しないよう101番以降とする等の配慮を行い、分かりやすく記録すること。

Sheet 様式B (6)
B2: ■定期点検記録様式 トンネル変状・異常箇所写真位置図 【様式B】 | N2: 定期点検年月日 | P2: 45862 | S2: 施設ID | V2: =+'様式A-1'!$W$2 -> 34.14178,132.16544
B3: フリガナ | C3: =+'様式A-1'!$D$3 -> ハシラノズイドウ | G3: 路線名 | H3: =+'様式A-1'!$J$3 -> 主要地方道岩国玖珂線 | K3: 管理者名 | L3: =+'様式A-1'!$R$3 -> 山口県岩国土木建築事務所 | Q3: 定期点検実施者 | S3: ='様式B (1)'!$S$3 -> 復建調査設計株式会社 | V3: 起点 | W3: 緯度 | X3: =+'様式A-1'!$E$7 -> 34.14505
B4: 名 称 | C4: =+'様式A-1'!$D$4 -> 柱野隧道 | S4: ='様式B (1)'!$S$4 -> 小笠原洋 | W4: 経度 | X4: =+'様式A-1'!$E$8 -> 132.16321
B5: 所在地 | C5: 自 | D5: =+'様式A-1'!$E$5 -> 岩国市柱野 | G5: トンネル工法 | I5: ='様式B (1)'!$I$5 -> 矢板工法 | L5: トンネル延長 | N5: L= | O5: =+'様式A-1'!$Z$5 -> 358 | P5: ｍ | Q5: 自専道 or 一般道 | R5: ='様式B (1)'!$R$5 -> 一般道 | S5: 代替路の有無 | U5: ='様式B (1)'!$U$5 -> 無 | V5: 終点 | W5: 緯度 | X5: =+'様式A-1'!$E$9 -> 34.142981
C6: 至 | D6: =+'様式A-1'!$E$6 -> 岩国市柱野 | G6: 建設年度 | I6: ='様式B (1)'!$I$6 -> 1971年 | L6: 幅員 | N6: L= | O6: =+'様式A-1'!$E$15 -> 9 | P6: ｍ | S6: 緊急輸送道路 | U6: ='様式B (1)'!$U$6 -> 指定なし | W6: 経度 | X6: =+'様式A-1'!$E$10 -> 132.15968
B7: トンネル毎 の健全性の 診断の区分 | D7: ='様式B (1)'!$D$7 -> Ⅲ
G8: 変状・異常 箇所数合計 | I8: トンネル本体工 | J8: 材質劣化 | K8: Ⅱ | L8: ='様式B (1)'!$L$8 -> 13 | N8: Ⅲ | O8: ='様式B (1)'!$O$8 -> 2 | Q8: Ⅳ | R8: ='様式B (1)'!$R$8 -> 0 | T8: 附属物等 の取付状態 | V8: ◯ （応急措置後) | X8: ='様式B (1)'!$X$8 -> 0
J9: 漏水 | K9: Ⅱ | L9: ='様式B (1)'!$L$9 -> 130 | N9: Ⅲ | O9: ='様式B (1)'!$O$9 -> 0 | Q9: Ⅳ | R9: ='様式B (1)'!$R$9 -> 0
V10: ✕ | X10: ='様式B (1)'!$X$10 -> 10
J11: 外力 | K11: Ⅱ | L11: ='様式B (1)'!$L$11 -> 1 | N11: Ⅲ | O11: ='様式B (1)'!$O$11 -> 0 | Q11: Ⅳ | R11: ='様式B (1)'!$R$11 -> 0
B12: トンネル変状・異常箇所写真位置図
J29: 注１：本位置図は、見下げた状態で記載すること。 注２：覆工スパン番号は横断目地毎(矢板工法の場合は上半アーチの 横断目地毎)に設定すること。 | Q29: 注３：写真番号に付する変状番号は、各覆工スパンの変状に対して新たに確認された場合 は順次追加していくこと。 注４：横断目地の変状は前の覆工スパン番号で計上すること。 注５：１枚に収まらない場合は、複数枚に分けて作成すること。
C30: ※1 トンネル本体工の変状数は、材質劣化、漏水に起因するものは変状単位で、外力に起因するものはスパン単位で計上すること。
C31: ※2 トンネル本体工の変状に対しては、措置の必要性（Ⅱ～Ⅳ）について表記すること。また、点検前に実施された措置によりⅠと判定された箇所についても記載すること。
C32: ※3 附属物等の取付状態の○欄については、応急措置前に判定区分×とした箇所のうち応急措置により○判定とした箇所の数を記入すること。
C33: ※4 附属物等の異常番号は、本体工と番号が重複しないよう101番以降とする等の配慮を行い、分かりやすく記録すること。

Sheet 様式C-1-1
B2: ■定期点検記録様式 全スパン定期点検結果総括表（トンネル本体工） 【様式C-1-1】
B3: フリガナ | F3: =+'様式A-1'!$D$3 -> ハシラノズイドウ | I3: 路線名 | K3: =+'様式A-1'!$J$3 -> 主要地方道岩国玖珂線 | O3: 定期点検実施者 | P3: =+'様式B (1)'!$S$3 -> 復建調査設計株式会社 | T3: 定期点検年月日 | X3: =+'様式B (1)'!$P$2 -> 45867
B4: 名 称 | F4: =+'様式A-1'!$D$4 -> 柱野隧道 | I4: 管理者名 | K4: =+'様式A-1'!$R$3 -> 山口県岩国土木建築事務所 | P4: =+'様式B (1)'!$S$4 -> 小笠原洋
B5: 定期点検結果 | C5: 覆工 スパン 番号 | E5: 変状 番号 | F5: 距離 （m） | G5: 変状部位 | I5: 変 状 の 内 容 | O5: 前回定期点検時の状態 | P5: 今回定期点検結果 | T5: 措置履歴 | Y5: 対応方針 ・ 特記事項
G7: 対象箇所 | H7: 部位区分 | I7: 変状区分 | J7: 変状種類 | M7: 変状の発生範囲の規模 | N7: 前回定期点検時の変状の発生範囲及び規模 | O7: 対策区分 | P7: 対策区分 | R7: 調査の 要否 | S7: 措置の 要否 | T7: 実施 | U7: 措置の実施状況
P8: 応急措置前 | Q8: 応急措置後
C9: PS | E9: 1 | F9: 0.001 | G9: 坑門 | H9: 面壁・妻壁等 | I9: 漏水 | J9: 漏水 | M9: 2.5m×2.0m | N9: － | O9: Ⅱa | Q9: Ⅱb | R9: 否 | S9: 否 | T9: 継続 | U9: 監視(日常巡視)
C10: PS | E10: 2 | F10: 0.001 | G10: 坑門 | H10: 面壁・妻壁等 | I10: 漏水 | J10: 漏水 | M10: 2.5m×0.5m | N10: － | O10: Ⅰ | Q10: Ⅱb | R10: 否 | S10: 否 | T10: 継続 | U10: 監視(日常巡視)
C11: S1 | E11: 1 | F11: 5 | G11: 覆工 | H11: アーチ（左側） | I11: 材質劣化 | J11: うき・はく離 | M11: 0.1m×0.1m | N11: － | O11: － | P11: Ⅱa | Q11: Ⅱb | R11: 否 | S11: 要監視 | T11: 済 | U11: 叩き落とし済 | Y11: 鋼材露出あり
C12: S1 | E12: 2 | F12: 7 | G12: 覆工 | H12: アーチ（左側） | I12: 材質劣化 | J12: その他 | M12: 0.3m×1.2m | N12: 0.2m×0.6m、0.3m×0.7m | O12: Ⅱb | Q12: Ⅱb | R12: 否 | S12: 否 | T12: 継続 | U12: 監視(日常巡視) | Y12: 豆板
C13: S1 | E13: 3 | F13: 10 | G13: 覆工 | H13: アーチ（右側） | I13: 漏水 | J13: 漏水 | M13: 6.8m×0.5m | N13: － | O13: Ⅱb | Q13: Ⅱb | R13: 否 | S13: 否 | T13: 継続 | U13: 監視(日常巡視)
C14: S2 | E14: 1 | F14: 11.5 | G14: 覆工 | H14: アーチ（左側） | I14: 漏水 | J14: 漏水 | M14: 3.5m×0.5m | N14: － | O14: Ⅱb | Q14: Ⅱb | R14: 否 | S14: 否 | T14: 継続 | U14: 監視(日常巡視)
C15: S2 | E15: 2 | F15: 11 | G15: 覆工 | H15: アーチ（右側） | I15: 漏水 | J15: 漏水 | M15: 7.5m×0.5m | N15: － | O15: Ⅱb | Q15: Ⅱb | R15: 否 | S15: 否 | T15: 継続 | U15: 監視(日常巡視) | Y15: 漏水跡
C16: S2 | E16: 3 | F16: 18 | G16: 覆工 | H16: アーチ（右側） | I16: 材質劣化 | J16: うき・はく離 | M16: － | N16: 0.6m×0.7m | O16: Ⅲ | Q16: Ⅰ | R16: 否 | S16: 否 | T16: 済 | U16: はく落対策工補修済
C17: S2 | E17: 4 | F17: 19 | G17: 覆工 | H17: アーチ（右側） | I17: 材質劣化 | J17: うき・はく離 | M17: 0.9m×0.4m | N17: 0.9m×0.4m | O17: Ⅱb | Q17: Ⅱb | R17: 否 | S17: 否 | T17: 継続 | U17: 監視(日常巡視)
C18: S2 | E18: 5 | F18: 17 | G18: 覆工 | H18: アーチ（右側） | I18: 材質劣化 | J18: うき・はく離 | M18: 0.25m×0.9m | N18: － | O18: － | Q18: Ⅱb | R18: 否 | S18: 否 | T18: 継続 | U18: 監視(日常巡視)
C19: S3 | E19: 1 | F19: 26.5 | G19: 覆工 | H19: アーチ（左側） | I19: 漏水 | J19: 漏水 | M19: 4.6m×0.7m | N19: － | O19: － | Q19: Ⅱb | R19: 否 | S19: 否 | T19: 継続 | U19: 監視(日常巡視)
C20: S3 | E20: 2 | F20: 25.5 | G20: 覆工 | H20: アーチ（左側） | I20: 材質劣化 | J20: その他 | M20: 0.4m×0.4m | N20: － | O20: － | Q20: Ⅱb | R20: 否 | S20: 否 | T20: 継続 | U20: 監視(日常巡視) | Y20: 豆板
C21: S3 | E21: 3 | F21: 23.5 | G21: 覆工 | H21: アーチ（右側） | I21: 漏水 | J21: 漏水 | M21: 7.3m×0.5m | N21: － | O21: Ⅱa | Q21: Ⅱb | R21: 否 | S21: 否 | T21: 継続 | U21: 監視(日常巡視)
C22: S4 | E22: 1 | F22: 36 | G22: 覆工 | H22: アーチ（左側） | I22: 漏水 | J22: 漏水 | M22: 4.6m×0.7m | N22: － | O22: － | Q22: Ⅱb | R22: 否 | S22: 否 | T22: 継続 | U22: 監視(日常巡視)
C23: S4 | E23: 2 | F23: 28 | G23: 覆工 | H23: 横断目地（左側） | I23: 漏水 | J23: 漏水 | M23: 6.8m×0.5m | N23: － | O23: Ⅱb | Q23: Ⅱb | R23: 否 | S23: 否 | T23: 継続 | U23: 監視(日常巡視) | Y23: 漏水跡
C24: S4 | E24: 3 | F24: 32 | G24: 覆工 | H24: アーチ（天端） | I24: 漏水 | J24: 漏水 | M24: 6.8m×0.5m | N24: － | O24: － | Q24: Ⅱb | R24: 否 | S24: 否 | T24: 継続 | U24: 監視(日常巡視)
C25: S4 | E25: 4 | F25: 33 | G25: 覆工 | H25: アーチ（右側） | I25: 漏水 | J25: 漏水 | M25: 6.8m×0.5m | N25: － | O25: Ⅱa | Q25: Ⅱa | R25: 否 | S25: 要監視 | T25: 未 | U25: 漏水対策工 | Y25: 滴水
C26: S4 | E26: 5 | F26: 31 | G26: 覆工 | H26: アーチ（右側） | I26: 漏水 | J26: 漏水 | M26: 6.8m×0.5m | N26: － | O26: Ⅱb | Q26: Ⅱb | R26: 否 | S26: 否 | T26: 継続 | U26: 監視(日常巡視)
C27: S4 | E27: 6 | F27: 33.5 | G27: 覆工 | H27: アーチ（右側） | I27: 材質劣化 | J27: うき・はく離 | M27: 6.8m×0.5m | N27: － | O27: － | P27: Ⅱa | Q27: Ⅰ | R27: 否 | S27: 否 | T27: 済 | U27: 叩き落とし済
C28: S4 | E28: 7 | F28: 28.5 | G28: 覆工 | H28: アーチ（右側） | I28: 漏水 | J28: 漏水 | M28: 6.0m×0.5m | N28: － | O28: － | Q28: Ⅱb | R28: 否 | S28: 否 | T28: 継続 | U28: 監視(日常巡視)
C29: S4 | E29: 8 | F29: 29 | G29: 覆工 | H29: アーチ（右側） | I29: 漏水 | J29: 漏水 | M29: 5.2m×0.7m | N29: － | O29: － | Q29: Ⅱb | R29: 否 | S29: 否 | T29: 継続 | U29: 監視(日常巡視)
C30: S4 | E30: 9 | F30: 34 | G30: 覆工 | H30: アーチ（右側） | I30: 材質劣化 | J30: うき・はく離 | M30: － | N30: 0.18m×0.34m | O30: Ⅲ | Q30: Ⅰ | R30: 否 | S30: 否 | T30: 済 | U30: はく落対策工補修済
C31: S5 | E31: 1 | F31: 37.5 | G31: 覆工 | H31: アーチ（左側） | I31: 漏水 | J31: 漏水 | M31: 7.8m×0.9m | N31: － | O31: Ⅱb | Q31: Ⅱb | R31: 否 | S31: 否 | T31: 継続 | U31: 監視(日常巡視) | Y31: 漏水跡
C32: S5 | E32: 2 | F32: 45.9 | G32: 覆工 | H32: 横断目地（左側） | I32: 漏水 | J32: 漏水 | M32: 8.1m×0.5m | N32: － | O32: Ⅱb | Q32: Ⅱb | R32: 否 | S32: 否 | T32: 継続 | U32: 監視(日常巡視)
C33: S6 | E33: 1 | F33: 46 | G33: 覆工 | H33: アーチ（左側） | I33: 漏水 | J33: 漏水 | M33: 7.7m×2.8m | N33: － | O33: Ⅱb | Q33: Ⅱb | R33: 否 | S33: 否 | T33: 継続 | U33: 監視(日常巡視)
C34: S6 | E34: 2 | F34: 50 | G34: 覆工 | H34: アーチ（右側） | I34: 漏水 | J34: 漏水 | M34: 7.6m×2.5m | N34: － | O34: － | Q34: Ⅱb | R34: 否 | S34: 否 | T34: 継続 | U34: 監視(日常巡視)
C35: S6 | E35: 3 | F35: 54.9 | G35: 覆工 | H35: 横断目地（右側） | I35: 材質劣化 | J35: うき・はく離 | M35: － | N35: 0.5m×0.3m | O35: Ⅲ | Q35: Ⅰ | R35: 否 | S35: 否 | T35: 済 | U35: はく落対策工補修済
C36: S7 | E36: 1 | F36: 61.5 | G36: 覆工 | H36: アーチ（左側） | I36: 材質劣化 | J36: その他 | M36: 0.2m×0.7m | N36: 0.2m×0.2m、0.08m×0.5m | O36: Ⅱb | Q36: Ⅱb | R36: 否 | S36: 否 | T36: 継続 | U36: 監視(日常巡視) | Y36: 豆板
C37: S7 | E37: 2 | F37: 57 | G37: 覆工 | H37: アーチ（天端） | I37: 漏水 | J37: 漏水 | M37: 8.9m×0.5m | N37: － | O37: Ⅱb | Q37: Ⅱb | R37: 否 | S37: 否 | T37: 継続 | U37: 監視(日常巡視) | Y37: 漏水跡
C38: S7 | E38: 3 | F38: 56 | G38: 覆工 | H38: アーチ（天端） | I38: 材質劣化 | J38: うき・はく離 | M38: 0.35m×0.7m | N38: － | O38: － | Q38: Ⅱb | R38: 否 | S38: 否 | T38: 継続 | U38: 監視(日常巡視)
C39: S7 | E39: 4 | F39: 57.5 | G39: 覆工 | H39: アーチ（右側） | I39: 漏水 | J39: 漏水 | M39: 8.1m×0.5m | N39: － | O39: Ⅱa | Q39: Ⅱa | R39: 否 | S39: 要監視 | T39: 未 | U39: 漏水対策工 | Y39: 滴水
C40: S7 | E40: 5 | F40: 60 | G40: 覆工 | H40: アーチ（右側） | I40: 漏水 | J40: 漏水 | M40: 5.5m×0.5m | N40: － | O40: Ⅱb | Q40: Ⅱb | R40: 否 | S40: 否 | T40: 継続 | U40: 監視(日常巡視)
C41: S7 | E41: 6 | F41: 59 | G41: 覆工 | H41: アーチ（右側） | I41: 漏水 | J41: 漏水 | M41: 3.3m×0.5m | N41: － | O41: Ⅱb | Q41: Ⅱb | R41: 否 | S41: 否 | T41: 継続 | U41: 監視(日常巡視)
C42: S8 | E42: 1 | F42: 67 | G42: 覆工 | H42: アーチ（天端） | I42: 材質劣化 | J42: うき・はく離 | M42: － | N42: 0.6m×0.4m | O42: Ⅲ | Q42: Ⅰ | R42: 否 | S42: 否 | T42: 済 | U42: はく落対策工補修済
C43: ※ 対策区分（応急措置後）のⅡb～Ⅳについて記入すること。また、点検前に実施された措置によりⅠと判定された変状も記入すること。
C44: ※ 応急措置を実施しないで判定した変状の対策区分は、対策区分の応急措置後の欄に記入すること。
C45: ※ 変状の除去が不完全で、緊急対応が必要な場合は対応方針欄に記入すること。
C46: ※ １区間の覆工に複数の変状がある場合は、変状箇所毎に記入すること。
C47: ※ 措置・監視点検を行った場合には、措置履歴、特記事項に記録を残すこと。（実施年度も記載）
C48: ※ 行が不足する場合は、適時、表の行を増やすこと。
B49: ■定期点検記録様式 全スパン定期点検結果総括表（トンネル本体工） 【様式C-1-1】
B50: フリガナ | F50: =+'様式A-1'!$D$3 -> ハシラノズイドウ | I50: 路線名 | K50: =+'様式A-1'!$J$3 -> 主要地方道岩国玖珂線 | O50: 定期点検実施者 | P50: =+'様式B (1)'!$S$3 -> 復建調査設計株式会社 | T50: 定期点検年月日 | X50: =+'様式B (1)'!$P$2 -> 45867
B51: 名 称 | F51: =+'様式A-1'!$D$4 -> 柱野隧道 | I51: 管理者名 | K51: =+'様式A-1'!$R$3 -> 山口県岩国土木建築事務所 | P51: =+'様式B (1)'!$S$4 -> 小笠原洋
B52: 定期点検結果 | C52: 覆工 スパン 番号 | E52: 変状 番号 | F52: 距離 （m） | G52: 変状部位 | I52: 変 状 の 内 容 | O52: 前回定期点検時の状態 | P52: 今回定期点検結果 | T52: 措置履歴 | Y52: 対応方針 ・ 特記事項
G54: 対象箇所 | H54: 部位区分 | I54: 変状区分 | J54: 変状種類 | M54: 変状の発生範囲の規模 | N54: 前回定期点検時の変状の発生範囲及び規模 | O54: 対策区分 | P54: 対策区分 | R54: 調査の 要否 | S54: 措置の 要否 | T54: 実施 | U54: 措置の実施状況
P55: 応急措置前 | Q55: 応急措置後
C56: S8 | E56: 2 | F56: 67.5 | G56: 覆工 | H56: アーチ（天端） | I56: 漏水 | J56: 漏水 | M56: 8.9m×0.5m | N56: － | O56: Ⅱa | Q56: Ⅱa | R56: 否 | S56: 要監視 | T56: 未 | U56: 漏水対策工 | Y56: 滴水
C57: S8 | E57: 3 | F57: 66.5 | G57: 覆工 | H57: アーチ（右側） | I57: 漏水 | J57: 漏水 | M57: 7.3m×0.5m | N57: － | O57: Ⅱb | Q57: Ⅱb | R57: 否 | S57: 否 | T57: 継続 | U57: 監視(日常巡視)
C58: S8 | E58: 4 | F58: 72.4 | G58: 覆工 | H58: 横断目地（右側） | I58: 材質劣化 | J58: うき・はく離 | M58: － | N58: 0.5m×0.2m | O58: Ⅲ | Q58: Ⅰ | R58: 否 | S58: 否 | T58: 済 | U58: はく落対策工補修済
C59: S9 | E59: 1 | F59: 81.4 | G59: 覆工 | H59: 横断目地（左側） | I59: 漏水 | J59: 漏水 | M59: 6.0m×0.5m | N59: － | O59: Ⅱb | Q59: Ⅱb | R59: 否 | S59: 否 | T59: 継続 | U59: 監視(日常巡視) | Y59: 漏水跡
C60: S9 | E60: 2 | F60: 77 | G60: 覆工 | H60: アーチ（左側） | I60: 漏水 | J60: 漏水 | M60: 7.7m×0.5m | N60: － | O60: Ⅱa | Q60: Ⅱb | R60: 否 | S60: 否 | T60: 継続 | U60: 監視(日常巡視)
C61: S9 | E61: 3 | F61: 73.5 | G61: 覆工 | H61: アーチ（天端） | I61: 漏水 | J61: 漏水 | M61: 8.5m×0.5m | N61: － | O61: Ⅱb | Q61: Ⅱb | R61: 否 | S61: 否 | T61: 継続 | U61: 監視(日常巡視)
C62: S10 | E62: 1 | F62: 87.5 | G62: 覆工 | H62: アーチ（左側） | I62: 漏水 | J62: 漏水 | M62: 3.7m×0.5m | N62: － | O62: Ⅱb | Q62: Ⅱb | R62: 否 | S62: 否 | T62: 継続 | U62: 監視(日常巡視)
C63: S10 | E63: 2 | F63: 85.5 | G63: 覆工 | H63: アーチ（左側） | I63: 漏水 | J63: 漏水 | M63: 4.6m×0.7m | N63: － | O63: Ⅱb | Q63: Ⅱb | R63: 否 | S63: 否 | T63: 継続 | U63: 監視(日常巡視)
C64: S10 | E64: 3 | F64: 83 | G64: 覆工 | H64: アーチ（左側） | I64: 漏水 | J64: 漏水 | M64: 8.2m×0.5m | N64: － | O64: Ⅱb | Q64: Ⅱb | R64: 否 | S64: 否 | T64: 継続 | U64: 監視(日常巡視) | Y64: 漏水跡
C65: S11 | E65: 1 | F65: 90.5 | G65: 覆工 | H65: アーチ（左側） | I65: 漏水 | J65: 漏水 | M65: 4.5m×0.5m | N65: － | O65: Ⅱb | Q65: Ⅱb | R65: 否 | S65: 否 | T65: 継続 | U65: 監視(日常巡視)
C66: S11 | E66: 2 | F66: 97.5 | G66: 覆工 | H66: アーチ（左側） | I66: 漏水 | J66: 漏水 | M66: 4.8m×0.5m | N66: － | O66: － | Q66: Ⅱb | R66: 否 | S66: 否 | T66: 継続 | U66: 監視(日常巡視)
C67: S11 | E67: 3 | F67: 99.3 | G67: 覆工 | H67: 横断目地（左側） | I67: 漏水 | J67: 漏水 | M67: 7.4m×0.5m | N67: － | O67: － | Q67: Ⅱb | R67: 否 | S67: 否 | T67: 継続 | U67: 監視(日常巡視)
C68: S11 | E68: 4 | F68: 95.5 | G68: 覆工 | H68: アーチ（天端） | I68: 漏水 | J68: 漏水 | M68: 8.6m×0.5m | N68: － | O68: Ⅱb | Q68: Ⅱa | R68: 否 | S68: 要監視 | T68: 未 | U68: 漏水対策工 | Y68: 滴水
C69: S11 | E69: 5 | F69: 99.3 | G69: 覆工 | H69: 横断目地（右側） | I69: 漏水 | J69: 漏水 | M69: 7.0m×0.5m | N69: － | O69: － | Q69: Ⅱb | R69: 否 | S69: 否 | T69: 継続 | U69: 監視(日常巡視)
C70: S11 | E70: 6 | F70: 92.5 | G70: 覆工 | H70: アーチ（右側） | I70: 漏水 | J70: 漏水 | M70: 5.9m×0.5m | N70: － | O70: Ⅱb | Q70: Ⅱb | R70: 否 | S70: 否 | T70: 継続 | U70: 監視(日常巡視)
C71: S12 | E71: 1 | F71: 101.5 | G71: 覆工 | H71: アーチ（左側） | I71: 漏水 | J71: 漏水 | M71: 6.8m×0.9m | N71: － | O71: Ⅱb | Q71: Ⅱb | R71: 否 | S71: 否 | T71: 継続 | U71: 監視(日常巡視)
C72: S12 | E72: 2 | F72: 102 | G72: 覆工 | H72: アーチ（左側） | I72: 漏水 | J72: 漏水 | M72: 7.3m×0.5m | N72: － | O72: Ⅱb | Q72: Ⅱb | R72: 否 | S72: 否 | T72: 継続 | U72: 監視(日常巡視)
C73: S12 | E73: 3 | F73: 104.5 | G73: 覆工 | H73: アーチ（天端） | I73: 漏水 | J73: 漏水 | M73: 8.2m×0.5m | N73: － | O73: Ⅱa | Q73: Ⅱa | R73: 否 | S73: 要監視 | T73: 未 | U73: 漏水対策工 | Y73: 滴水
C74: S12 | E74: 4 | F74: 108.2 | G74: 覆工 | H74: 横断目地（左側） | I74: 漏水 | J74: 漏水 | M74: 8.0m×0.5m | N74: － | O74: Ⅱb | Q74: Ⅱb | R74: 否 | S74: 否 | T74: 継続 | U74: 監視(日常巡視)
C75: S13 | E75: 1 | F75: 117.1 | G75: 覆工 | H75: 横断目地（左側） | I75: 漏水 | J75: 漏水 | M75: 4.9m×0.5m | N75: － | O75: Ⅱb | Q75: Ⅱb | R75: 否 | S75: 否 | T75: 継続 | U75: 監視(日常巡視)
C76: S13 | E76: 2 | F76: 109 | G76: 覆工 | H76: アーチ（左側） | I76: 漏水 | J76: 漏水 | M76: 7.2m×0.5m | N76: － | O76: Ⅱa | Q76: Ⅱa | R76: 否 | S76: 要監視 | T76: 未 | U76: 漏水対策工 | Y76: 滴水
C77: S13 | E77: 3 | F77: 114.5 | G77: 覆工 | H77: アーチ（左側） | I77: 材質劣化 | J77: その他 | M77: 0.3m×0.15m | N77: － | O77: Ⅱa | Q77: Ⅱb | R77: 否 | S77: 否 | T77: 継続 | U77: 監視(日常巡視) | Y77: ｽﾃﾝﾚｽﾌﾟﾚｰﾄの汚れ
C78: S13 | E78: 4 | F78: 114.5 | G78: 覆工 | H78: アーチ（左側） | I78: 漏水 | J78: 漏水 | M78: 7.5m×0.5m | N78: － | O78: － | Q78: Ⅱb | R78: 否 | S78: 否 | T78: 継続 | U78: 監視(日常巡視)
C79: S13 | E79: 5 | F79: 117.1 | G79: 覆工 | H79: 横断目地（右側） | I79: 漏水 | J79: 漏水 | M79: 8.2m×0.5m | N79: － | O79: Ⅱb | Q79: Ⅱb | R79: 否 | S79: 否 | T79: 継続 | U79: 監視(日常巡視) | Y79: 漏水跡
C80: S13 | E80: 6 | F80: 108.2 | G80: 覆工 | H80: 横断目地（右側） | I80: 漏水 | J80: 漏水 | M80: 7.7m×0.5m | N80: － | O80: － | Q80: Ⅱb | R80: 否 | S80: 否 | T80: 継続 | U80: 監視(日常巡視)
C81: S13 | E81: 7 | F81: 114 | G81: 覆工 | H81: アーチ（右側） | I81: 漏水 | J81: 漏水 | M81: 3.4m×0.5m | N81: － | O81: Ⅱb | Q81: Ⅱb | R81: 否 | S81: 否 | T81: 継続 | U81: 監視(日常巡視)
C82: S14 | E82: 1 | F82: 126.1 | G82: 覆工 | H82: 横断目地（左側） | I82: 漏水 | J82: 漏水 | M82: 6.8m×0.5m | N82: － | O82: Ⅱb | Q82: Ⅱb | R82: 否 | S82: 否 | T82: 継続 | U82: 監視(日常巡視)
C83: S14 | E83: 2 | F83: 119.5 | G83: 覆工 | H83: アーチ（天端） | I83: 漏水 | J83: 漏水 | M83: 9.0m×0.5m | N83: － | O83: Ⅱb | Q83: Ⅱb | R83: 否 | S83: 否 | T83: 継続 | U83: 監視(日常巡視) | Y83: 漏水跡
C84: S14 | E84: 3 | F84: 126.1 | G84: 覆工 | H84: 横断目地（右側） | I84: 漏水 | J84: 漏水 | M84: 5.3m×0.5m | N84: － | O84: Ⅱb | Q84: Ⅱb | R84: 否 | S84: 否 | T84: 継続 | U84: 監視(日常巡視)
C85: S15 | E85: 1 | F85: 135.1 | G85: 覆工 | H85: 横断目地（左側） | I85: 漏水 | J85: 漏水 | M85: 4.2m×0.5m | N85: － | O85: Ⅱb | Q85: Ⅱb | R85: 否 | S85: 否 | T85: 継続 | U85: 監視(日常巡視) | Y85: 漏水跡
C86: S15 | E86: 2 | F86: 131 | G86: 覆工 | H86: アーチ（左側） | I86: 漏水 | J86: 漏水 | M86: 5.4m×0.5m | N86: － | O86: Ⅱb | Q86: Ⅱb | R86: 否 | S86: 否 | T86: 継続 | U86: 監視(日常巡視) | Y86: 漏水跡
C87: S15 | E87: 3 | F87: 130 | G87: 覆工 | H87: アーチ（左側） | I87: 漏水 | J87: 漏水 | M87: 6.9m×0.7m | N87: － | O87: － | Q87: Ⅱb | R87: 否 | S87: 否 | T87: 継続 | U87: 監視(日常巡視)
C88: S15 | E88: 4 | F88: 135.1 | G88: 覆工 | H88: 横断目地（右側） | I88: 材質劣化 | J88: うき・はく離 | M88: － | N88: 0.6m×0.35m | O88: Ⅲ | Q88: Ⅰ | R88: 否 | S88: 否 | T88: 済 | U88: はく落対策工補修済
C89: S15 | E89: 5 | F89: 134 | G89: 覆工 | H89: アーチ（右側） | I89: 漏水 | J89: 漏水 | M89: 7.2m×0.5m | N89: － | O89: Ⅱb | Q89: Ⅱb | R89: 否 | S89: 否 | T89: 継続 | U89: 監視(日常巡視)
C90: ※ 対策区分（応急措置後）のⅡb～Ⅳについて記入すること。また、点検前に実施された措置によりⅠと判定された変状も記入すること。
C91: ※ 応急措置を実施しないで判定した変状の対策区分は、対策区分の応急措置後の欄に記入すること。
C92: ※ 変状の除去が不完全で、緊急対応が必要な場合は対応方針欄に記入すること。
C93: ※ １区間の覆工に複数の変状がある場合は、変状箇所毎に記入すること。
C94: ※ 措置・監視点検を行った場合には、措置履歴、特記事項に記録を残すこと。（実施年度も記載）
C95: ※ 行が不足する場合は、適時、表の行を増やすこと。
B96: ■定期点検記録様式 全スパン定期点検結果総括表（トンネル本体工） 【様式C-1-1】
B97: フリガナ | F97: =+'様式A-1'!$D$3 -> ハシラノズイドウ | I97: 路線名 | K97: =+'様式A-1'!$J$3 -> 主要地方道岩国玖珂線 | O97: 定期点検実施者 | P97: =+'様式B (1)'!$S$3 -> 復建調査設計株式会社 | T97: 定期点検年月日 | X97: =+'様式B (1)'!$P$2 -> 45867
B98: 名 称 | F98: =+'様式A-1'!$D$4 -> 柱野隧道 | I98: 管理者名 | K98: =+'様式A-1'!$R$3 -> 山口県岩国土木建築事務所 | P98: =+'様式B (1)'!$S$4 -> 小笠原洋
B99: 定期点検結果 | C99: 覆工 スパン 番号 | E99: 変状 番号 | F99: 距離 （m） | G99: 変状部位 | I99: 変 状 の 内 容 | O99: 前回定期点検時の状態 | P99: 今回定期点検結果 | T99: 措置履歴 | Y99: 対応方針 ・ 特記事項
G101: 対象箇所 | H101: 部位区分 | I101: 変状区分 | J101: 変状種類 | M101: 変状の発生範囲の規模 | N101: 前回定期点検時の変状の発生範囲及び規模 | O101: 対策区分 | P101: 対策区分 | R101: 調査の 要否 | S101: 措置の 要否 | T101: 実施 | U101: 措置の実施状況
P102: 応急措置前 | Q102: 応急措置後
C103: S16 | E103: 1 | F103: 144.2 | G103: 覆工 | H103: 横断目地（天端） | I103: 漏水 | J103: 漏水 | M103: 8.5m×0.5m | N103: － | O103: Ⅱb | Q103: Ⅱb | R103: 否 | S103: 否 | T103: 継続 | U103: 監視(日常巡視) | Y103: 漏水跡
C104: S16 | E104: 2 | F104: 141 | G104: 覆工 | H104: アーチ（天端） | I104: 材質劣化 | J104: うき・はく離 | M104: 0.3m×0.5m | N104: － | O104: － | Q104: Ⅱb | R104: 否 | S104: 否 | T104: 継続 | U104: 監視(日常巡視)
...

Sheet 様式C-1-2
B2: ■定期点検記録様式 定期点検結果総括表（トンネル内附属物等の取付状態） 【様式C-1-2】
B3: フリガナ | F3: =+'様式A-1'!$D$3 -> ハシラノズイドウ | J3: 路線名 | K3: =+'様式A-1'!$J$3 -> 主要地方道岩国玖珂線 | M3: 定期点検実施者 | O3: =+'様式B (1)'!$S$3 -> 復建調査設計株式会社 | S3: 定期点検年月日 | W3: =+'様式B (1)'!$P$2 -> 45867
B4: 名 称 | F4: =+'様式A-1'!$D$4 -> 柱野隧道 | J4: 管理者名 | K4: =+'様式A-1'!$R$3 -> 山口県岩国土木建築事務所 | O4: =+'様式B (1)'!$S$4 -> 小笠原洋
B5: 定期点検結果 | C5: 覆工 スパン 番号 | E5: 異常 番号 | F5: 距離 （m） | G5: 異常部位 | J5: 異 常 の 内 容 | N5: 定期点検結果 | P5: 応急措置の 実施状況 | V5: 対応方針 ・ 特記事項
G6: 対象箇所 | I6: 部位区分 | J6: 異常種類 | L6: 異常の発生範囲の規模 | N6: 異常判定区分 | P6: 実施 | Q6: 応急措置の内容
N7: 応急措置前 | O7: 応急措置後
C8: 附S1 | E8: 1 | F8: 5 | G8: その他施設 | H8: その他 | I8: 附属物本体 | J8: 緩み、脱落 | L8: １箇所 | O8: × | P8: 済 | Q8: ワイヤー固定
C9: 附S2 | E9: 1 | F9: 11.5 | G9: その他施設 | H9: 内装板取付部材 | I9: 取付部材 | J9: 緩み、脱落 | L9: １箇所 | O9: × | P9: 未
C10: 附S2 | E10: 2 | F10: 11 | G10: その他施設 | H10: その他 | I10: 附属物本体 | J10: 緩み、脱落 | L10: １箇所 | O10: × | P10: 済 | Q10: ワイヤー固定
C11: 附S4 | E11: 1 | F11: 31.5 | G11: その他施設 | H11: その他 | I11: 附属物本体 | J11: 緩み、脱落 | L11: １箇所 | O11: × | P11: 済 | Q11: ワイヤー固定
C12: 附S4 | E12: 2 | F12: 32.5 | G12: その他施設 | H12: その他 | I12: 附属物本体 | J12: その他 | L12: １箇所 | O12: × | P12: 未
C13: 附S8 | E13: 1 | F13: 67 | G13: その他施設 | H13: その他 | I13: 附属物本体 | J13: 腐食 | L13: １箇所 | O13: × | P13: 未
C14: 附S8 | E14: 2 | F14: 68 | G14: その他施設 | H14: その他 | I14: 附属物本体 | J14: 緩み、脱落 | L14: １箇所 | O14: × | P14: 済 | Q14: ワイヤー固定
C15: 附S31 | E15: 1 | F15: 271.5 | G15: その他施設 | H15: 内装板取付部材 | I15: 取付部材 | J15: 緩み、脱落 | L15: １箇所 | O15: × | P15: 未
C16: 附S36 | E16: 1 | F16: 314 | G16: その他施設 | H16: その他 | I16: 附属物本体 | J16: 腐食 | L16: １箇所 | O16: × | P16: 未
C17: 附S38 | E17: 1 | F17: 336.5 | G17: その他施設 | H17: その他 | I17: 附属物本体 | J17: 腐食 | L17: １箇所 | O17: × | P17: 未
C42: ※ 異常判定区分×について記入すること。また、応急措置により○と判定された箇所も記入すること。
C43: ※ 応急措置を実施しないで判定した箇所の異常判定区分は、異常判定区分の応急措置後の欄に記入すること。
C44: ※ 異常の除去が不完全で、緊急対応が必要な場合は対応方針欄に記入すること。
C45: ※ １スパンの覆工に複数の異常がある場合は、異常箇所毎に記入すること。
C46: ※ 行が不足する場合は、適時、表の行を増やすこと。

Sheet 様式C-2
B2: ■定期点検記録様式 状態の把握の内容 【様式C-2】
B3: フリガナ | E3: =+'様式A-1'!$D$3 -> ハシラノズイドウ | H3: 路線名 | J3: =+'様式A-1'!$J$3 -> 主要地方道岩国玖珂線 | M3: 定期点検実施者 | Q3: =+'様式B (1)'!$S$3 -> 復建調査設計株式会社 | U3: 定期点検年月日 | X3: =+'様式B (1)'!$P$2 -> 45867
B4: 名 称 | E4: =+'様式A-1'!$D$4 -> 柱野隧道 | H4: 管理者名 | J4: =+'様式A-1'!$R$3 -> 山口県岩国土木建築事務所 | Q4: =+'様式B (1)'!$S$4 -> 小笠原洋
B5: 状態の把握の内容 | C5: 覆工スパン 番号 | E5: 変状 番号 | F5: 状態の把握の内容
F6: 年月日 | H6: 内容 | O6: 結果 | Y6: 対策区分の 判定
B22: 注）状態の把握において、微破壊・非破壊検査や各種試験等を実施した場合について記載する。
B23: ※ 行が不足する場合は、適時、表の行を増やすこと。

Sheet 様式D-1-1 (1)
B2: ■定期点検記録様式 変状写真台帳【様式D-1-1】 | R2: 施設ID | T2: =+'様式A-1'!$W$2 -> 34.14178,132.16544
B3: フリガナ | E3: =+'様式A-1'!$D$3 -> ハシラノズイドウ | H3: 路 線 名 | J3: =+'様式A-1'!$J$3 -> 主要地方道岩国玖珂線 | M3: 定期点検実施者 | P3: =+'様式B (1)'!$S$3 -> 復建調査設計株式会社 | S3: 定期点検年月日 | U3: =+'様式B (1)'!$P$2 -> 45867
B4: 名 称 | E4: =+'様式A-1'!$D$4 -> 柱野隧道 | H4: 管理者名 | J4: =+'様式A-1'!$R$3 -> 山口県岩国土木建築事務所 | P4: =+'様式B (1)'!$S$4 -> 小笠原洋
B5: 写真 番号 | C5: 覆工スパン 番号 | E5: PS | M5: 写真 番号 | N5: 覆工スパン 番号 | P5: PS
C6: 変状番号 | E6: 1 | N6: 変状番号 | P6: 2
B7: 変状 部位 | C7: 対象箇所 | E7: 坑門 | M7: 変状 部位 | N7: 対象箇所 | P7: 坑門
C8: 部位区分 | E8: 面壁・妻壁等 | N8: 部位区分 | P8: 面壁・妻壁等
B9: 変状種類 | E9: 漏水 | M9: 変状種類 | P9: 漏水
B10: 対策 区分 | C10: 変状区分 | E10: 漏水 | M10: 対策 区分 | N10: 変状区分 | P10: 漏水
C11: 応急措置前 | N11: 応急措置前
C12: 応急措置後 | E12: Ⅱb | N12: 応急措置後 | P12: Ⅱb
B13: 変状の発生範囲及び規模 | E13: 2.5m×2.0m | H13: 前回変状の発生範囲及び規模 | J13: － | M13: 変状の発生範囲及び規模 | P13: 2.5m×0.5m | S13: 前回変状の発生範囲及び規模 | U13: －
B14: 対策履歴 | E14: 監視(日常巡視) | H14: 実施状況（実施日） | M14: 対策履歴 | P14: 監視(日常巡視) | S14: 実施状況（実施日）
B15: メモ | E15: 2.5m×2.0mの面壁からの漏水、にじみ （写真番号PS-1・前回Ⅱa判定） | M15: メモ | P15: 2.5m×0.5mの漏水、にじみ （写真番号PS-3・前回Ⅰ判定）
B16: 写真 番号 | C16: 覆工スパン 番号 | E16: S1 | M16: 写真 番号 | N16: 覆工スパン 番号 | P16: S1
C17: 変状番号 | E17: 1 | N17: 変状番号 | P17: 2
B18: 変状 部位 | C18: 対象箇所 | E18: 覆工 | M18: 変状 部位 | N18: 対象箇所 | P18: 覆工
C19: 部位区分 | E19: アーチ（左側） | N19: 部位区分 | P19: アーチ（左側）
B20: 変状種類 | E20: うき・はく離 | M20: 変状種類 | P20: その他
B21: 対策 区分 | C21: 変状区分 | E21: 材質劣化 | M21: 対策 区分 | N21: 変状区分 | P21: 材質劣化
C22: 応急措置前 | E22: Ⅱa | N22: 応急措置前
C23: 応急措置後 | E23: Ⅱb | N23: 応急措置後 | P23: Ⅱb
B24: 変状の発生範囲及び規模 | E24: 0.1m×0.1m | H24: 前回変状の発生範囲及び規模 | J24: － | M24: 変状の発生範囲及び規模 | P24: 0.3m×1.2m | S24: 前回変状の発生範囲及び規模 | U24: 0.2m×0.6m、0.3m×0.7m
B25: 対策履歴 | E25: 叩き落とし | H25: 実施状況（実施日） | J25: 45867 | M25: 対策履歴 | P25: 監視(日常巡視) | S25: 実施状況（実施日）
B26: メモ | E26: 0.1m×0.1mのうきをハンマーで叩き落とした、叩き落した後に鋼材露出あり | M26: メモ | P26: 0.3m×1.2mの豆板（ジャンカ）、打音異常なし （写真番号S1-3・前回Ⅱb判定）
C27: ※ 応急措置後の対策区分について添付すること。また、点検前に 実施された措置によりⅠと判定された箇所も添付すること。 | N27: ※ 変状の発生範囲の規模とは、対策を行う際に参考となる変状の長さや面積をいう。
N28: ※ 応急措置を実施しないで決定した変状の対策区分は、対策区分の応急措置後の欄に記入すること。
C29: ※ たたき落としを実施した場合は、実施後の写真を添付すること。 | N29: ※ 変状の発生範囲の規模は、面積・寸法を記載すること。(ひび割れ幅のみmmとし、その他をm表記とする)
C30: ※ 附属物の取付状態に関する異常写真は別途、任意の書式でとりまとめること。 | N30: ※ 構造用鋼材以外の異物に伴ううき・はく離については、メモ欄に異物の概要を記入すること。

Sheet 様式D-1-1 (2)
B2: ■定期点検記録様式 変状写真台帳【様式D-1-1】 | R2: 施設ID | T2: =+'様式A-1'!$W$2 -> 34.14178,132.16544
B3: フリガナ | E3: =+'様式A-1'!$D$3 -> ハシラノズイドウ | H3: 路 線 名 | J3: =+'様式A-1'!$J$3 -> 主要地方道岩国玖珂線 | M3: 定期点検実施者 | P3: =+'様式B (1)'!$S$3 -> 復建調査設計株式会社 | S3: 定期点検年月日 | U3: =+'様式B (1)'!$P$2 -> 45867
B4: 名 称 | E4: =+'様式A-1'!$D$4 -> 柱野隧道 | H4: 管理者名 | J4: =+'様式A-1'!$R$3 -> 山口県岩国土木建築事務所 | P4: =+'様式B (1)'!$S$4 -> 小笠原洋
B5: 写真 番号 | C5: 覆工スパン 番号 | E5: S1 | M5: 写真 番号 | N5: 覆工スパン 番号 | P5: S2
C6: 変状番号 | E6: 3 | N6: 変状番号 | P6: 1
B7: 変状 部位 | C7: 対象箇所 | E7: 覆工 | M7: 変状 部位 | N7: 対象箇所 | P7: 覆工
C8: 部位区分 | E8: アーチ（右側） | N8: 部位区分 | P8: アーチ（左側）
B9: 変状種類 | E9: 漏水 | M9: 変状種類 | P9: 漏水
B10: 対策 区分 | C10: 変状区分 | E10: 漏水 | M10: 対策 区分 | N10: 変状区分 | P10: 漏水
C11: 応急措置前 | N11: 応急措置前
C12: 応急措置後 | E12: Ⅱb | N12: 応急措置後 | P12: Ⅱb
B13: 変状の発生範囲及び規模 | E13: 6.8m×0.5m | H13: 前回変状の発生範囲及び規模 | J13: － | M13: 変状の発生範囲及び規模 | P13: 3.5m×0.5m | S13: 前回変状の発生範囲及び規模 | U13: －
B14: 対策履歴 | E14: 監視(日常巡視) | H14: 実施状況（実施日） | M14: 対策履歴 | P14: 監視(日常巡視) | S14: 実施状況（実施日）
B15: メモ | E15: 6.8m×0.5mの補修跡からの漏水、にじみ （写真番号S1-4・前回Ⅱb判定） | M15: メモ | P15: 3.5m×0.5mのひび割れからの漏水、にじみ （写真番号S2-1・前回Ⅱb判定）
B16: 写真 番号 | C16: 覆工スパン 番号 | E16: S2 | M16: 写真 番号 | N16: 覆工スパン 番号 | P16: S2
C17: 変状番号 | E17: 2 | N17: 変状番号 | P17: 3
B18: 変状 部位 | C18: 対象箇所 | E18: 覆工 | M18: 変状 部位 | N18: 対象箇所 | P18: 覆工
C19: 部位区分 | E19: アーチ（右側） | N19: 部位区分 | P19: アーチ（右側）
B20: 変状種類 | E20: 漏水 | M20: 変状種類 | P20: うき・はく離
B21: 対策 区分 | C21: 変状区分 | E21: 漏水 | M21: 対策 区分 | N21: 変状区分 | P21: 材質劣化
C22: 応急措置前 | N22: 応急措置前
C23: 応急措置後 | E23: Ⅱb | N23: 応急措置後 | P23: Ⅰ
B24: 変状の発生範囲及び規模 | E24: 7.5m×0.5m | H24: 前回変状の発生範囲及び規模 | J24: － | M24: 変状の発生範囲及び規模 | P24: － | S24: 前回変状の発生範囲及び規模 | U24: 0.6m×0.7m
B25: 対策履歴 | E25: 監視(日常巡視) | H25: 実施状況（実施日） | M25: 対策履歴 | P25: 補修済 | S25: 実施状況（実施日）
B26: メモ | E26: 覆工からの漏水跡 （写真番号S2-2・前回Ⅱb判定） | M26: メモ | P26: 補修済（FRPネット工） （写真番号S2-5・前回Ⅲ判定）
C27: ※ 応急措置後の対策区分について添付すること。また、点検前に 実施された措置によりⅠと判定された箇所も添付すること。 | N27: ※ 変状の発生範囲の規模とは、対策を行う際に参考となる変状の長さや面積をいう。
N28: ※ 応急措置を実施しないで決定した変状の対策区分は、対策区分の応急措置後の欄に記入すること。
C29: ※ たたき落としを実施した場合は、実施後の写真を添付すること。 | N29: ※ 変状の発生範囲の規模は、面積・寸法を記載すること。(ひび割れ幅のみmmとし、その他をm表記とする)
C30: ※ 附属物の取付状態に関する異常写真は別途、任意の書式でとりまとめること。 | N30: ※ 構造用鋼材以外の異物に伴ううき・はく離については、メモ欄に異物の概要を記入すること。

Sheet 様式D-1-1 (3)
B2: ■定期点検記録様式 変状写真台帳【様式D-1-1】 | R2: 施設ID | T2: =+'様式A-1'!$W$2 -> 34.14178,132.16544
B3: フリガナ | E3: =+'様式A-1'!$D$3 -> ハシラノズイドウ | H3: 路 線 名 | J3: =+'様式A-1'!$J$3 -> 主要地方道岩国玖珂線 | M3: 定期点検実施者 | P3: =+'様式B (1)'!$S$3 -> 復建調査設計株式会社 | S3: 定期点検年月日 | U3: =+'様式B (1)'!$P$2 -> 45867
B4: 名 称 | E4: =+'様式A-1'!$D$4 -> 柱野隧道 | H4: 管理者名 | J4: =+'様式A-1'!$R$3 -> 山口県岩国土木建築事務所 | P4: =+'様式B (1)'!$S$4 -> 小笠原洋
B5: 写真 番号 | C5: 覆工スパン 番号 | E5: S2 | M5: 写真 番号 | N5: 覆工スパン 番号 | P5: S2
C6: 変状番号 | E6: 4 | N6: 変状番号 | P6: 5
B7: 変状 部位 | C7: 対象箇所 | E7: 覆工 | M7: 変状 部位 | N7: 対象箇所 | P7: 覆工
C8: 部位区分 | E8: アーチ（右側） | N8: 部位区分 | P8: アーチ（右側）
B9: 変状種類 | E9: うき・はく離 | M9: 変状種類 | P9: うき・はく離
B10: 対策 区分 | C10: 変状区分 | E10: 材質劣化 | M10: 対策 区分 | N10: 変状区分 | P10: 材質劣化
C11: 応急措置前 | N11: 応急措置前
C12: 応急措置後 | E12: Ⅱb | N12: 応急措置後 | P12: Ⅱb
B13: 変状の発生範囲及び規模 | E13: 0.9m×0.4m | H13: 前回変状の発生範囲及び規模 | J13: 0.9m×0.4m | M13: 変状の発生範囲及び規模 | P13: 0.25m×0.9m | S13: 前回変状の発生範囲及び規模 | U13: －
B14: 対策履歴 | E14: 監視(日常巡視) | H14: 実施状況（実施日） | M14: 対策履歴 | P14: 監視(日常巡視) | S14: 実施状況（実施日）
B15: メモ | E15: 0.9m×0.4mの覆工の打音異常部 （写真番号S2-4・前回Ⅱb判定） | M15: メモ | P15: 0.25m×0.9mの補修箇所の打音異常部
B16: 写真 番号 | C16: 覆工スパン 番号 | E16: S3 | M16: 写真 番号 | N16: 覆工スパン 番号 | P16: S3
C17: 変状番号 | E17: 1 | N17: 変状番号 | P17: 2
B18: 変状 部位 | C18: 対象箇所 | E18: 覆工 | M18: 変状 部位 | N18: 対象箇所 | P18: 覆工
C19: 部位区分 | E19: アーチ（左側） | N19: 部位区分 | P19: アーチ（左側）
B20: 変状種類 | E20: 漏水 | M20: 変状種類 | P20: その他
B21: 対策 区分 | C21: 変状区分 | E21: 漏水 | M21: 対策 区分 | N21: 変状区分 | P21: 材質劣化
C22: 応急措置前 | N22: 応急措置前
C23: 応急措置後 | E23: Ⅱb | N23: 応急措置後 | P23: Ⅱb
B24: 変状の発生範囲及び規模 | E24: 4.6m×0.7m | H24: 前回変状の発生範囲及び規模 | J24: － | M24: 変状の発生範囲及び規模 | P24: 0.4m×0.4m | S24: 前回変状の発生範囲及び規模 | U24: －
B25: 対策履歴 | E25: 監視(日常巡視) | H25: 実施状況（実施日） | M25: 対策履歴 | P25: 監視(日常巡視) | S25: 実施状況（実施日）
B26: メモ | E26: 4.6m×0.7mの旧照明の箱抜き跡からの漏水、にじみ | M26: メモ | P26: 0.4m×0.4mの豆板（ジャンカ）、打音異常なし
C27: ※ 応急措置後の対策区分について添付すること。また、点検前に 実施された措置によりⅠと判定された箇所も添付すること。 | N27: ※ 変状の発生範囲の規模とは、対策を行う際に参考となる変状の長さや面積をいう。
N28: ※ 応急措置を実施しないで決定した変状の対策区分は、対策区分の応急措置後の欄に記入すること。
C29: ※ たたき落としを実施した場合は、実施後の写真を添付すること。 | N29: ※ 変状の発生範囲の規模は、面積・寸法を記載すること。(ひび割れ幅のみmmとし、その他をm表記とする)
C30: ※ 附属物の取付状態に関する異常写真は別途、任意の書式でとりまとめること。 | N30: ※ 構造用鋼材以外の異物に伴ううき・はく離については、メモ欄に異物の概要を記入すること。

Sheet 様式D-1-1 (4)
B2: ■定期点検記録様式 変状写真台帳【様式D-1-1】 | R2: 施設ID | T2: =+'様式A-1'!$W$2 -> 34.14178,132.16544
B3: フリガナ | E3: =+'様式A-1'!$D$3 -> ハシラノズイドウ | H3: 路 線 名 | J3: =+'様式A-1'!$J$3 -> 主要地方道岩国玖珂線 | M3: 定期点検実施者 | P3: =+'様式B (1)'!$S$3 -> 復建調査設計株式会社 | S3: 定期点検年月日 | U3: =+'様式B (1)'!$P$2 -> 45867
B4: 名 称 | E4: =+'様式A-1'!$D$4 -> 柱野隧道 | H4: 管理者名 | J4: =+'様式A-1'!$R$3 -> 山口県岩国土木建築事務所 | P4: =+'様式B (1)'!$S$4 -> 小笠原洋
B5: 写真 番号 | C5: 覆工スパン 番号 | E5: S3 | M5: 写真 番号 | N5: 覆工スパン 番号 | P5: S4
C6: 変状番号 | E6: 3 | N6: 変状番号 | P6: 1
B7: 変状 部位 | C7: 対象箇所 | E7: 覆工 | M7: 変状 部位 | N7: 対象箇所 | P7: 覆工
C8: 部位区分 | E8: アーチ（右側） | N8: 部位区分 | P8: アーチ（左側）
B9: 変状種類 | E9: 漏水 | M9: 変状種類 | P9: 漏水
B10: 対策 区分 | C10: 変状区分 | E10: 漏水 | M10: 対策 区分 | N10: 変状区分 | P10: 漏水
C11: 応急措置前 | N11: 応急措置前
C12: 応急措置後 | E12: Ⅱb | N12: 応急措置後 | P12: Ⅱb
B13: 変状の発生範囲及び規模 | E13: 7.3m×0.5m | H13: 前回変状の発生範囲及び規模 | J13: － | M13: 変状の発生範囲及び規模 | P13: 4.6m×0.7m | S13: 前回変状の発生範囲及び規模 | U13: －
B14: 対策履歴 | E14: 監視(日常巡視) | H14: 実施状況（実施日） | M14: 対策履歴 | P14: 監視(日常巡視) | S14: 実施状況（実施日）
B15: メモ | E15: 7.3m×0.5mの覆工からの漏水、にじみ （写真番号S3-2・前回Ⅱa判定） | M15: メモ | P15: 4.6m×0.7mの旧照明の箱抜き跡からの漏水、にじみ
B16: 写真 番号 | C16: 覆工スパン 番号 | E16: S4 | M16: 写真 番号 | N16: 覆工スパン 番号 | P16: S4
C17: 変状番号 | E17: 2 | N17: 変状番号 | P17: 3
B18: 変状 部位 | C18: 対象箇所 | E18: 覆工 | M18: 変状 部位 | N18: 対象箇所 | P18: 覆工
C19: 部位区分 | E19: 横断目地（左側） | N19: 部位区分 | P19: アーチ（天端）
B20: 変状種類 | E20: 漏水 | M20: 変状種類 | P20: 漏水
B21: 対策 区分 | C21: 変状区分 | E21: 漏水 | M21: 対策 区分 | N21: 変状区分 | P21: 漏水
C22: 応急措置前 | N22: 応急措置前
C23: 応急措置後 | E23: Ⅱb | N23: 応急措置後 | P23: Ⅱb
B24: 変状の発生範囲及び規模 | E24: 6.8m×0.5m | H24: 前回変状の発生範囲及び規模 | J24: － | M24: 変状の発生範囲及び規模 | P24: 8.3m×0.5m | S24: 前回変状の発生範囲及び規模 | U24: －
B25: 対策履歴 | E25: 監視(日常巡視) | H25: 実施状況（実施日） | M25: 対策履歴 | P25: 監視(日常巡視) | S25: 実施状況（実施日）
B26: メモ | E26: 横断方向目地からの漏水跡 （写真番号S3-5・前回Ⅱb判定） | M26: メモ | P26: 8.3m×0.5mのひび割れからの漏水、にじみ
C27: ※ 応急措置後の対策区分について添付すること。また、点検前に 実施された措置によりⅠと判定された箇所も添付すること。 | N27: ※ 変状の発生範囲の規模とは、対策を行う際に参考となる変状の長さや面積をいう。
N28: ※ 応急措置を実施しないで決定した変状の対策区分は、対策区分の応急措置後の欄に記入すること。
C29: ※ たたき落としを実施した場合は、実施後の写真を添付すること。 | N29: ※ 変状の発生範囲の規模は、面積・寸法を記載すること。(ひび割れ幅のみmmとし、その他をm表記とする)
C30: ※ 附属物の取付状態に関する異常写真は別途、任意の書式でとりまとめること。 | N30: ※ 構造用鋼材以外の異物に伴ううき・はく離については、メモ欄に異物の概要を記入すること。

Sheet 様式D-1-1 (5)
B2: ■定期点検記録様式 変状写真台帳【様式D-1-1】 | R2: 施設ID | T2: =+'様式A-1'!$W$2 -> 34.14178,132.16544
B3: フリガナ | E3: =+'様式A-1'!$D$3 -> ハシラノズイドウ | H3: 路 線 名 | J3: =+'様式A-1'!$J$3 -> 主要地方道岩国玖珂線 | M3: 定期点検実施者 | P3: =+'様式B (1)'!$S$3 -> 復建調査設計株式会社 | S3: 定期点検年月日 | U3: =+'様式B (1)'!$P$2 -> 45867
B4: 名 称 | E4: =+'様式A-1'!$D$4 -> 柱野隧道 | H4: 管理者名 | J4: =+'様式A-1'!$R$3 -> 山口県岩国土木建築事務所 | P4: =+'様式B (1)'!$S$4 -> 小笠原洋
B5: 写真 番号 | C5: 覆工スパン 番号 | E5: S4 | M5: 写真 番号 | N5: 覆工スパン 番号 | P5: S4
C6: 変状番号 | E6: 4 | N6: 変状番号 | P6: 5
B7: 変状 部位 | C7: 対象箇所 | E7: 覆工 | M7: 変状 部位 | N7: 対象箇所 | P7: 覆工
C8: 部位区分 | E8: アーチ（右側） | N8: 部位区分 | P8: アーチ（右側）
B9: 変状種類 | E9: 漏水 | M9: 変状種類 | P9: 漏水
B10: 対策 区分 | C10: 変状区分 | E10: 漏水 | M10: 対策 区分 | N10: 変状区分 | P10: 漏水
C11: 応急措置前 | N11: 応急措置前
C12: 応急措置後 | E12: Ⅱa | N12: 応急措置後 | P12: Ⅱb
B13: 変状の発生範囲及び規模 | E13: 8.1m×3.2m | H13: 前回変状の発生範囲及び規模 | J13: － | M13: 変状の発生範囲及び規模 | P13: 6.7m×0.5m | S13: 前回変状の発生範囲及び規模 | U13: －
B14: 対策履歴 | E14: 漏水対策工 | H14: 実施状況（実施日） | M14: 対策履歴 | P14: 監視(日常巡視) | S14: 実施状況（実施日）
B15: メモ | E15: 8.1m×3.2mのひび割れからの漏水、滴水、20滴/分 （写真番号S4-4・前回Ⅱa判定） | M15: メモ | P15: 6.7m×0.5mのひび割れからの漏水、にじみ （写真番号S4-2・前回Ⅱb判定）
B16: 写真 番号 | C16: 覆工スパン 番号 | E16: S4 | M16: 写真 番号 | N16: 覆工スパン 番号 | P16: S4
C17: 変状番号 | E17: 6 | N17: 変状番号 | P17: 7
B18: 変状 部位 | C18: 対象箇所 | E18: 覆工 | M18: 変状 部位 | N18: 対象箇所 | P18: 覆工
C19: 部位区分 | E19: アーチ（右側） | N19: 部位区分 | P19: アーチ（右側）
B20: 変状種類 | E20: うき・はく離 | M20: 変状種類 | P20: 漏水
B21: 対策 区分 | C21: 変状区分 | E21: 材質劣化 | M21: 対策 区分 | N21: 変状区分 | P21: 漏水
C22: 応急措置前 | E22: Ⅱa | N22: 応急措置前
C23: 応急措置後 | E23: Ⅰ | N23: 応急措置後 | P23: Ⅱb
B24: 変状の発生範囲及び規模 | E24: 0.4m×0.2m | H24: 前回変状の発生範囲及び規模 | J24: － | M24: 変状の発生範囲及び規模 | P24: 6.0m×0.5m | S24: 前回変状の発生範囲及び規模 | U24: －
B25: 対策履歴 | E25: 叩き落とし | H25: 実施状況（実施日） | J25: 45867 | M25: 対策履歴 | P25: 監視(日常巡視) | S25: 実施状況（実施日）
B26: メモ | E26: 0.4m×0.2mのうきをハンマーで叩き落とした | M26: メモ | P26: 6.0m×0.5mのひび割れからの漏水、にじみ
C27: ※ 応急措置後の対策区分について添付すること。また、点検前に 実施された措置によりⅠと判定された箇所も添付すること。 | N27: ※ 変状の発生範囲の規模とは、対策を行う際に参考となる変状の長さや面積をいう。
N28: ※ 応急措置を実施しないで決定した変状の対策区分は、対策区分の応急措置後の欄に記入すること。
C29: ※ たたき落としを実施した場合は、実施後の写真を添付すること。 | N29: ※ 変状の発生範囲の規模は、面積・寸法を記載すること。(ひび割れ幅のみmmとし、その他をm表記とする)
C30: ※ 附属物の取付状態に関する異常写真は別途、任意の書式でとりまとめること。 | N30: ※ 構造用鋼材以外の異物に伴ううき・はく離については、メモ欄に異物の概要を記入すること。

Sheet 様式D-1-1 (6)
B2: ■定期点検記録様式 変状写真台帳【様式D-1-1】 | R2: 施設ID | T2: =+'様式A-1'!$W$2 -> 34.14178,132.16544
B3: フリガナ | E3: =+'様式A-1'!$D$3 -> ハシラノズイドウ | H3: 路 線 名 | J3: =+'様式A-1'!$J$3 -> 主要地方道岩国玖珂線 | M3: 定期点検実施者 | P3: =+'様式B (1)'!$S$3 -> 復建調査設計株式会社 | S3: 定期点検年月日 | U3: =+'様式B (1)'!$P$2 -> 45867
B4: 名 称 | E4: =+'様式A-1'!$D$4 -> 柱野隧道 | H4: 管理者名 | J4: =+'様式A-1'!$R$3 -> 山口県岩国土木建築事務所 | P4: =+'様式B (1)'!$S$4 -> 小笠原洋
B5: 写真 番号 | C5: 覆工スパン 番号 | E5: S4 | M5: 写真 番号 | N5: 覆工スパン 番号 | P5: S4
C6: 変状番号 | E6: 8 | N6: 変状番号 | P6: 9
B7: 変状 部位 | C7: 対象箇所 | E7: 覆工 | M7: 変状 部位 | N7: 対象箇所 | P7: 覆工
C8: 部位区分 | E8: アーチ（右側） | N8: 部位区分 | P8: アーチ（右側）
B9: 変状種類 | E9: 漏水 | M9: 変状種類 | P9: うき・はく離
B10: 対策 区分 | C10: 変状区分 | E10: 漏水 | M10: 対策 区分 | N10: 変状区分 | P10: 材質劣化
C11: 応急措置前 | N11: 応急措置前
C12: 応急措置後 | E12: Ⅱb | N12: 応急措置後 | P12: Ⅰ
B13: 変状の発生範囲及び規模 | E13: 5.2m×0.7m | H13: 前回変状の発生範囲及び規模 | J13: － | M13: 変状の発生範囲及び規模 | P13: － | S13: 前回変状の発生範囲及び規模 | U13: 0.18m×0.34m
B14: 対策履歴 | E14: 監視(日常巡視) | H14: 実施状況（実施日） | M14: 対策履歴 | P14: 補修済 | S14: 実施状況（実施日）
B15: メモ | E15: 5.2m×0.7mのひび割れからの漏水、にじみ | M15: メモ | P15: 補修済（FRPネット工） （写真番号S4-5・前回Ⅲ判定）
B16: 写真 番号 | C16: 覆工スパン 番号 | E16: S5 | M16: 写真 番号 | N16: 覆工スパン 番号 | P16: S5
C17: 変状番号 | E17: 1 | N17: 変状番号 | P17: 2
B18: 変状 部位 | C18: 対象箇所 | E18: 覆工 | M18: 変状 部位 | N18: 対象箇所 | P18: 覆工
C19: 部位区分 | E19: アーチ（左側） | N19: 部位区分 | P19: 横断目地（左側）
B20: 変状種類 | E20: 漏水 | M20: 変状種類 | P20: 漏水
B21: 対策 区分 | C21: 変状区分 | E21: 漏水 | M21: 対策 区分 | N21: 変状区分 | P21: 漏水
C22: 応急措置前 | N22: 応急措置前
C23: 応急措置後 | E23: Ⅱb | N23: 応急措置後 | P23: Ⅱb
B24: 変状の発生範囲及び規模 | E24: 7.8m×0.9m | H24: 前回変状の発生範囲及び規模 | J24: － | M24: 変状の発生範囲及び規模 | P24: 8.1m×0.5m | S24: 前回変状の発生範囲及び規模 | U24: －
B25: 対策履歴 | E25: 監視(日常巡視) | H25: 実施状況（実施日） | M25: 対策履歴 | P25: 監視(日常巡視) | S25: 実施状況（実施日）
B26: メモ | E26: 補修箇所からの漏水跡 （写真番号S5-1・前回Ⅱb判定） | M26: メモ | P26: 8.1m×0.5mの横断方向目地からの漏水、にじみ （写真番号S5-4・前回Ⅱb判定）
C27: ※ 応急措置後の対策区分について添付すること。また、点検前に 実施された措置によりⅠと判定された箇所も添付すること。 | N27: ※ 変状の発生範囲の規模とは、対策を行う際に参考となる変状の長さや面積をいう。
N28: ※ 応急措置を実施しないで決定した変状の対策区分は、対策区分の応急措置後の欄に記入すること。
C29: ※ たたき落としを実施した場合は、実施後の写真を添付すること。 | N29: ※ 変状の発生範囲の規模は、面積・寸法を記載すること。(ひび割れ幅のみmmとし、その他をm表記とする)
C30: ※ 附属物の取付状態に関する異常写真は別途、任意の書式でとりまとめること。 | N30: ※ 構造用鋼材以外の異物に伴ううき・はく離については、メモ欄に異物の概要を記入すること。

Sheet 様式D-1-1 (7)
B2: ■定期点検記録様式 変状写真台帳【様式D-1-1】 | R2: 施設ID | T2: =+'様式A-1'!$W$2 -> 34.14178,132.16544
B3: フリガナ | E3: =+'様式A-1'!$D$3 -> ハシラノズイドウ | H3: 路 線 名 | J3: =+'様式A-1'!$J$3 -> 主要地方道岩国玖珂線 | M3: 定期点検実施者 | P3: =+'様式B (1)'!$S$3 -> 復建調査設計株式会社 | S3: 定期点検年月日 | U3: =+'様式B (1)'!$P$2 -> 45867
B4: 名 称 | E4: =+'様式A-1'!$D$4 -> 柱野隧道 | H4: 管理者名 | J4: =+'様式A-1'!$R$3 -> 山口県岩国土木建築事務所 | P4: =+'様式B (1)'!$S$4 -> 小笠原洋
B5: 写真 番号 | C5: 覆工スパン 番号 | E5: S6 | M5: 写真 番号 | N5: 覆工スパン 番号 | P5: S6
C6: 変状番号 | E6: 1 | N6: 変状番号 | P6: 2
B7: 変状 部位 | C7: 対象箇所 | E7: 覆工 | M7: 変状 部位 | N7: 対象箇所 | P7: 覆工
C8: 部位区分 | E8: アーチ（左側） | N8: 部位区分 | P8: アーチ（右側）
B9: 変状種類 | E9: 漏水 | M9: 変状種類 | P9: 漏水
B10: 対策 区分 | C10: 変状区分 | E10: 漏水 | M10: 対策 区分 | N10: 変状区分 | P10: 漏水
C11: 応急措置前 | N11: 応急措置前
C12: 応急措置後 | E12: Ⅱb | N12: 応急措置後 | P12: Ⅱb
B13: 変状の発生範囲及び規模 | E13: 7.7m×2.8m | H13: 前回変状の発生範囲及び規模 | J13: － | M13: 変状の発生範囲及び規模 | P13: 7.6m×2.5m | S13: 前回変状の発生範囲及び規模 | U13: －
B14: 対策履歴 | E14: 監視(日常巡視) | H14: 実施状況（実施日） | M14: 対策履歴 | P14: 監視(日常巡視) | S14: 実施状況（実施日）
B15: メモ | E15: 7.7m×2.8mのひび割れからの漏水、にじみ （写真番号S6-1・前回Ⅱb判定） | M15: メモ | P15: 7.6m×2.5mのひび割れからの漏水、にじみ
B16: 写真 番号 | C16: 覆工スパン 番号 | E16: S6 | M16: 写真 番号 | N16: 覆工スパン 番号 | P16: S7
C17: 変状番号 | E17: 3 | N17: 変状番号 | P17: 1
B18: 変状 部位 | C18: 対象箇所 | E18: 覆工 | M18: 変状 部位 | N18: 対象箇所 | P18: 覆工
C19: 部位区分 | E19: 横断目地（右側） | N19: 部位区分 | P19: アーチ（左側）
B20: 変状種類 | E20: うき・はく離 | M20: 変状種類 | P20: その他
B21: 対策 区分 | C21: 変状区分 | E21: 材質劣化 | M21: 対策 区分 | N21: 変状区分 | P21: 材質劣化
C22: 応急措置前 | N22: 応急措置前
C23: 応急措置後 | E23: Ⅰ | N23: 応急措置後 | P23: Ⅱb
B24: 変状の発生範囲及び規模 | E24: － | H24: 前回変状の発生範囲及び規模 | J24: 0.5m×0.3m | M24: 変状の発生範囲及び規模 | P24: 0.2m×0.7m | S24: 前回変状の発生範囲及び規模 | U24: 0.2m×0.2m、0.08m×0.5m
B25: 対策履歴 | E25: 補修済 | H25: 実施状況（実施日） | M25: 対策履歴 | P25: 監視(日常巡視) | S25: 実施状況（実施日）
B26: メモ | E26: 補修済（FRPネット工） （写真番号S6-5・前回Ⅲ判定） | M26: メモ | P26: 0.2m×0.7mの豆板（ジャンカ）、打音異常なし （写真番号S7-6・前回Ⅱb判定）
C27: ※ 応急措置後の対策区分について添付すること。また、点検前に 実施された措置によりⅠと判定された箇所も添付すること。 | N27: ※ 変状の発生範囲の規模とは、対策を行う際に参考となる変状の長さや面積をいう。
N28: ※ 応急措置を実施しないで決定した変状の対策区分は、対策区分の応急措置後の欄に記入すること。
C29: ※ たたき落としを実施した場合は、実施後の写真を添付すること。 | N29: ※ 変状の発生範囲の規模は、面積・寸法を記載すること。(ひび割れ幅のみmmとし、その他をm表記とする)
C30: ※ 附属物の取付状態に関する異常写真は別途、任意の書式でとりまとめること。 | N30: ※ 構造用鋼材以外の異物に伴ううき・はく離については、メモ欄に異物の概要を記入すること。

Sheet 様式D-1-1 (8)
B2: ■定期点検記録様式 変状写真台帳【様式D-1-1】 | R2: 施設ID | T2: =+'様式A-1'!$W$2 -> 34.14178,132.16544
B3: フリガナ | E3: =+'様式A-1'!$D$3 -> ハシラノズイドウ | H3: 路 線 名 | J3: =+'様式A-1'!$J$3 -> 主要地方道岩国玖珂線 | M3: 定期点検実施者 | P3: =+'様式B (1)'!$S$3 -> 復建調査設計株式会社 | S3: 定期点検年月日 | U3: =+'様式B (1)'!$P$2 -> 45867
B4: 名 称 | E4: =+'様式A-1'!$D$4 -> 柱野隧道 | H4: 管理者名 | J4: =+'様式A-1'!$R$3 -> 山口県岩国土木建築事務所 | P4: =+'様式B (1)'!$S$4 -> 小笠原洋
B5: 写真 番号 | C5: 覆工スパン 番号 | E5: S7 | M5: 写真 番号 | N5: 覆工スパン 番号 | P5: S7
C6: 変状番号 | E6: 2 | N6: 変状番号 | P6: 3
B7: 変状 部位 | C7: 対象箇所 | E7: 覆工 | M7: 変状 部位 | N7: 対象箇所 | P7: 覆工
C8: 部位区分 | E8: アーチ（天端） | N8: 部位区分 | P8: アーチ（天端）
B9: 変状種類 | E9: 漏水 | M9: 変状種類 | P9: うき・はく離
B10: 対策 区分 | C10: 変状区分 | E10: 漏水 | M10: 対策 区分 | N10: 変状区分 | P10: 材質劣化
C11: 応急措置前 | N11: 応急措置前
C12: 応急措置後 | E12: Ⅱb | N12: 応急措置後 | P12: Ⅱb
B13: 変状の発生範囲及び規模 | E13: 8.9m×0.5m | H13: 前回変状の発生範囲及び規模 | J13: － | M13: 変状の発生範囲及び規模 | P13: 0.35m×0.7m | S13: 前回変状の発生範囲及び規模 | U13: －
B14: 対策履歴 | E14: 監視(日常巡視) | H14: 実施状況（実施日） | M14: 対策履歴 | P14: 監視(日常巡視) | S14: 実施状況（実施日）
B15: メモ | E15: 覆工からの漏水跡 （写真番号S7-1・前回Ⅱb判定） | M15: メモ | P15: 0.35m×0.7mの打音異常部、ひび割れなし
B16: 写真 番号 | C16: 覆工スパン 番号 | E16: S7 | M16: 写真 番号 | N16: 覆工スパン 番号 | P16: S7
C17: 変状番号 | E17: 4 | N17: 変状番号 | P17: 5
B18: 変状 部位 | C18: 対象箇所 | E18: 覆工 | M18: 変状 部位 | N18: 対象箇所 | P18: 覆工
C19: 部位区分 | E19: アーチ（右側） | N19: 部位区分 | P19: アーチ（右側）
B20: 変状種類 | E20: 漏水 | M20: 変状種類 | P20: 漏水
B21: 対策 区分 | C21: 変状区分 | E21: 漏水 | M21: 対策 区分 | N21: 変状区分 | P21: 漏水
C22: 応急措置前 | N22: 応急措置前
C23: 応急措置後 | E23: Ⅱa | N23: 応急措置後 | P23: Ⅱb
B24: 変状の発生範囲及び規模 | E24: 8.1m×0.5m | H24: 前回変状の発生範囲及び規模 | J24: － | M24: 変状の発生範囲及び規模 | P24: 5.5m×0.5m | S24: 前回変状の発生範囲及び規模 | U24: －
B25: 対策履歴 | E25: 漏水対策工 | H25: 実施状況（実施日） | M25: 対策履歴 | P25: 監視(日常巡視) | S25: 実施状況（実施日）
B26: メモ | E26: 8.1m×0.5mの覆工からの漏水、滴水、1滴/分 （写真番号S7-2・前回Ⅱa判定） | M26: メモ | P26: 5.5m×0.5mの覆工からの漏水、にじみ （写真番号S7-4・前回Ⅱb判定）
C27: ※ 応急措置後の対策区分について添付すること。また、点検前に 実施された措置によりⅠと判定された箇所も添付すること。 | N27: ※ 変状の発生範囲の規模とは、対策を行う際に参考となる変状の長さや面積をいう。
N28: ※ 応急措置を実施しないで決定した変状の対策区分は、対策区分の応急措置後の欄に記入すること。
C29: ※ たたき落としを実施した場合は、実施後の写真を添付すること。 | N29: ※ 変状の発生範囲の規模は、面積・寸法を記載すること。(ひび割れ幅のみmmとし、その他をm表記とする)
C30: ※ 附属物の取付状態に関する異常写真は別途、任意の書式でとりまとめること。 | N30: ※ 構造用鋼材以外の異物に伴ううき・はく離については、メモ欄に異物の概要を記入すること。

Sheet 様式D-1-1 (9)
B2: ■定期点検記録様式 変状写真台帳【様式D-1-1】 | R2: 施設ID | T2: =+'様式A-1'!$W$2 -> 34.14178,132.16544
B3: フリガナ | E3: =+'様式A-1'!$D$3 -> ハシラノズイドウ | H3: 路 線 名 | J3: =+'様式A-1'!$J$3 -> 主要地方道岩国玖珂線 | M3: 定期点検実施者 | P3: =+'様式B (1)'!$S$3 -> 復建調査設計株式会社 | S3: 定期点検年月日 | U3: =+'様式B (1)'!$P$2 -> 45867
B4: 名 称 | E4: =+'様式A-1'!$D$4 -> 柱野隧道 | H4: 管理者名 | J4: =+'様式A-1'!$R$3 -> 山口県岩国土木建築事務所 | P4: =+'様式B (1)'!$S$4 -> 小笠原洋
B5: 写真 番号 | C5: 覆工スパン 番号 | E5: S7 | M5: 写真 番号 | N5: 覆工スパン 番号 | P5: S8
C6: 変状番号 | E6: 6 | N6: 変状番号 | P6: 1
B7: 変状 部位 | C7: 対象箇所 | E7: 覆工 | M7: 変状 部位 | N7: 対象箇所 | P7: 覆工
C8: 部位区分 | E8: アーチ（右側） | N8: 部位区分 | P8: アーチ（天端）
B9: 変状種類 | E9: 漏水 | M9: 変状種類 | P9: うき・はく離
B10: 対策 区分 | C10: 変状区分 | E10: 漏水 | M10: 対策 区分 | N10: 変状区分 | P10: 材質劣化
C11: 応急措置前 | N11: 応急措置前
C12: 応急措置後 | E12: Ⅱb | N12: 応急措置後 | P12: Ⅰ
B13: 変状の発生範囲及び規模 | E13: 3.3m×0.5m | H13: 前回変状の発生範囲及び規模 | J13: － | M13: 変状の発生範囲及び規模 | P13: － | S13: 前回変状の発生範囲及び規模 | U13: 0.6m×0.4m
B14: 対策履歴 | E14: 監視(日常巡視) | H14: 実施状況（実施日） | M14: 対策履歴 | P14: 補修済 | S14: 実施状況（実施日）
B15: メモ | E15: 3.3m×0.5mのひび割れからの漏水、にじみ （写真番号S7-3・前回Ⅱb判定） | M15: メモ | P15: 補修済（FRPネット工） （写真番号S8-3・前回Ⅲ判定）
B16: 写真 番号 | C16: 覆工スパン 番号 | E16: S8 | M16: 写真 番号 | N16: 覆工スパン 番号 | P16: S8
C17: 変状番号 | E17: 2 | N17: 変状番号 | P17: 3
B18: 変状 部位 | C18: 対象箇所 | E18: 覆工 | M18: 変状 部位 | N18: 対象箇所 | P18: 覆工
C19: 部位区分 | E19: アーチ（天端） | N19: 部位区分 | P19: アーチ（右側）
B20: 変状種類 | E20: 漏水 | M20: 変状種類 | P20: 漏水
B21: 対策 区分 | C21: 変状区分 | E21: 漏水 | M21: 対策 区分 | N21: 変状区分 | P21: 漏水
C22: 応急措置前 | N22: 応急措置前
C23: 応急措置後 | E23: Ⅱa | N23: 応急措置後 | P23: Ⅱb
B24: 変状の発生範囲及び規模 | E24: 8.9m×0.5m | H24: 前回変状の発生範囲及び規模 | J24: － | M24: 変状の発生範囲及び規模 | P24: 7.3m×0.5m | S24: 前回変状の発生範囲及び規模 | U24: －
B25: 対策履歴 | E25: 漏水対策工 | H25: 実施状況（実施日） | M25: 対策履歴 | P25: 監視(日常巡視) | S25: 実施状況（実施日）
B26: メモ | E26: 8.9m×0.5mの覆工からの漏水、滴水、12滴/分 （写真番号S8-2・前回Ⅱa判定） | M26: メモ | P26: 7.3m×0.5mの補修箇所からの漏水、にじみ （写真番号S8-1・前回Ⅱb判定）
C27: ※ 応急措置後の対策区分について添付すること。また、点検前に 実施された措置によりⅠと判定された箇所も添付すること。 | N27: ※ 変状の発生範囲の規模とは、対策を行う際に参考となる変状の長さや面積をいう。
N28: ※ 応急措置を実施しないで決定した変状の対策区分は、対策区分の応急措置後の欄に記入すること。
C29: ※ たたき落としを実施した場合は、実施後の写真を添付すること。 | N29: ※ 変状の発生範囲の規模は、面積・寸法を記載すること。(ひび割れ幅のみmmとし、その他をm表記とする)
C30: ※ 附属物の取付状態に関する異常写真は別途、任意の書式でとりまとめること。 | N30: ※ 構造用鋼材以外の異物に伴ううき・はく離については、メモ欄に異物の概要を記入すること。

Sheet 様式D-1-1 (10)
B2: ■定期点検記録様式 変状写真台帳【様式D-1-1】 | R2: 施設ID | T2: =+'様式A-1'!$W$2 -> 34.14178,132.16544
B3: フリガナ | E3: =+'様式A-1'!$D$3 -> ハシラノズイドウ | H3: 路 線 名 | J3: =+'様式A-1'!$J$3 -> 主要地方道岩国玖珂線 | M3: 定期点検実施者 | P3: =+'様式B (1)'!$S$3 -> 復建調査設計株式会社 | S3: 定期点検年月日 | U3: =+'様式B (1)'!$P$2 -> 45867
B4: 名 称 | E4: =+'様式A-1'!$D$4 -> 柱野隧道 | H4: 管理者名 | J4: =+'様式A-1'!$R$3 -> 山口県岩国土木建築事務所 | P4: =+'様式B (1)'!$S$4 -> 小笠原洋
B5: 写真 番号 | C5: 覆工スパン 番号 | E5: S8 | M5: 写真 番号 | N5: 覆工スパン 番号 | P5: S9
C6: 変状番号 | E6: 4 | N6: 変状番号 | P6: 1
B7: 変状 部位 | C7: 対象箇所 | E7: 覆工 | M7: 変状 部位 | N7: 対象箇所 | P7: 覆工
C8: 部位区分 | E8: 横断目地（右側） | N8: 部位区分 | P8: 横断目地（左側）
B9: 変状種類 | E9: うき・はく離 | M9: 変状種類 | P9: 漏水
B10: 対策 区分 | C10: 変状区分 | E10: 材質劣化 | M10: 対策 区分 | N10: 変状区分 | P10: 漏水
C11: 応急措置前 | N11: 応急措置前
C12: 応急措置後 | E12: Ⅰ | N12: 応急措置後 | P12: Ⅱb
B13: 変状の発生範囲及び規模 | E13: － | H13: 前回変状の発生範囲及び規模 | J13: 0.5m×0.2m | M13: 変状の発生範囲及び規模 | P13: 6.0m×0.5m | S13: 前回変状の発生範囲及び規模 | U13: －
B14: 対策履歴 | E14: 補修済 | H14: 実施状況（実施日） | M14: 対策履歴 | P14: 監視(日常巡視) | S14: 実施状況（実施日）
B15: メモ | E15: 補修済（FRPネット工） （写真番号S8-5・前回Ⅲ判定） | M15: メモ | P15: 横断方向目地からの漏水跡 （写真番号S9-3・前回Ⅱb判定）
B16: 写真 番号 | C16: 覆工スパン 番号 | E16: S9 | M16: 写真 番号 | N16: 覆工スパン 番号 | P16: S9
C17: 変状番号 | E17: 2 | N17: 変状番号 | P17: 3
B18: 変状 部位 | C18: 対象箇所 | E18: 覆工 | M18: 変状 部位 | N18: 対象箇所 | P18: 覆工
C19: 部位区分 | E19: アーチ（左側） | N19: 部位区分 | P19: アーチ（天端）
B20: 変状種類 | E20: 漏水 | M20: 変状種類 | P20: 漏水
B21: 対策 区分 | C21: 変状区分 | E21: 漏水 | M21: 対策 区分 | N21: 変状区分 | P21: 漏水
C22: 応急措置前 | N22: 応急措置前
C23: 応急措置後 | E23: Ⅱb | N23: 応急措置後 | P23: Ⅱb
B24: 変状の発生範囲及び規模 | E24: 7.7m×0.5m | H24: 前回変状の発生範囲及び規模 | J24: － | M24: 変状の発生範囲及び規模 | P24: 8.5m×0.5m | S24: 前回変状の発生範囲及び規模 | U24: －
B25: 対策履歴 | E25: 監視(日常巡視) | H25: 実施状況（実施日） | M25: 対策履歴 | P25: 監視(日常巡視) | S25: 実施状況（実施日）
B26: メモ | E26: 7.7m×0.5mのひび割れからの漏水、にじみ （写真番号S9-2・前回Ⅱa判定） | M26: メモ | P26: 8.5m×0.5mのひび割れからの漏水、にじみ （写真番号S9-1・前回Ⅱb判定）
C27: ※ 応急措置後の対策区分について添付すること。また、点検前に 実施された措置によりⅠと判定された箇所も添付すること。 | N27: ※ 変状の発生範囲の規模とは、対策を行う際に参考となる変状の長さや面積をいう。
N28: ※ 応急措置を実施しないで決定した変状の対策区分は、対策区分の応急措置後の欄に記入すること。
C29: ※ たたき落としを実施した場合は、実施後の写真を添付すること。 | N29: ※ 変状の発生範囲の規模は、面積・寸法を記載すること。(ひび割れ幅のみmmとし、その他をm表記とする)
C30: ※ 附属物の取付状態に関する異常写真は別途、任意の書式でとりまとめること。 | N30: ※ 構造用鋼材以外の異物に伴ううき・はく離については、メモ欄に異物の概要を記入すること。

Sheet 様式D-1-1 (11)
B2: ■定期点検記録様式 変状写真台帳【様式D-1-1】 | R2: 施設ID | T2: =+'様式A-1'!$W$2 -> 34.14178,132.16544
B3: フリガナ | E3: =+'様式A-1'!$D$3 -> ハシラノズイドウ | H3: 路 線 名 | J3: =+'様式A-1'!$J$3 -> 主要地方道岩国玖珂線 | M3: 定期点検実施者 | P3: =+'様式B (1)'!$S$3 -> 復建調査設計株式会社 | S3: 定期点検年月日 | U3: =+'様式B (1)'!$P$2 -> 45867
B4: 名 称 | E4: =+'様式A-1'!$D$4 -> 柱野隧道 | H4: 管理者名 | J4: =+'様式A-1'!$R$3 -> 山口県岩国土木建築事務所 | P4: =+'様式B (1)'!$S$4 -> 小笠原洋
B5: 写真 番号 | C5: 覆工スパン 番号 | E5: S10 | M5: 写真 番号 | N5: 覆工スパン 番号 | P5: S10
C6: 変状番号 | E6: 1 | N6: 変状番号 | P6: 2
B7: 変状 部位 | C7: 対象箇所 | E7: 覆工 | M7: 変状 部位 | N7: 対象箇所 | P7: 覆工
C8: 部位区分 | E8: アーチ（左側） | N8: 部位区分 | P8: アーチ（左側）
B9: 変状種類 | E9: 漏水 | M9: 変状種類 | P9: 漏水
B10: 対策 区分 | C10: 変状区分 | E10: 漏水 | M10: 対策 区分 | N10: 変状区分 | P10: 漏水
C11: 応急措置前 | N11: 応急措置前
C12: 応急措置後 | E12: Ⅱb | N12: 応急措置後 | P12: Ⅱb
B13: 変状の発生範囲及び規模 | E13: 3.7m×0.5m | H13: 前回変状の発生範囲及び規模 | J13: － | M13: 変状の発生範囲及び規模 | P13: 4.6m×0.7m | S13: 前回変状の発生範囲及び規模 | U13: －
B14: 対策履歴 | E14: 監視(日常巡視) | H14: 実施状況（実施日） | M14: 対策履歴 | P14: 監視(日常巡視) | S14: 実施状況（実施日）
B15: メモ | E15: 3.7m×0.5mの補修箇所からの漏水、にじみ （写真番号S10-3・前回Ⅱb判定） | M15: メモ | P15: 4.6m×0.7mの旧照明の箱抜き跡からの漏水、にじみ （写真番号S10-3・前回Ⅱb判定）
B16: 写真 番号 | C16: 覆工スパン 番号 | E16: S10 | M16: 写真 番号 | N16: 覆工スパン 番号 | P16: S11
C17: 変状番号 | E17: 3 | N17: 変状番号 | P17: 1
B18: 変状 部位 | C18: 対象箇所 | E18: 覆工 | M18: 変状 部位 | N18: 対象箇所 | P18: 覆工
C19: 部位区分 | E19: アーチ（左側） | N19: 部位区分 | P19: アーチ（左側）
B20: 変状種類 | E20: 漏水 | M20: 変状種類 | P20: 漏水
B21: 対策 区分 | C21: 変状区分 | E21: 漏水 | M21: 対策 区分 | N21: 変状区分 | P21: 漏水
C22: 応急措置前 | N22: 応急措置前
C23: 応急措置後 | E23: Ⅱb | N23: 応急措置後 | P23: Ⅱb
B24: 変状の発生範囲及び規模 | E24: 8.2m×0.5m | H24: 前回変状の発生範囲及び規模 | J24: － | M24: 変状の発生範囲及び規模 | P24: 4.5m×0.5m | S24: 前回変状の発生範囲及び規模 | U24: －
B25: 対策履歴 | E25: 監視(日常巡視) | H25: 実施状況（実施日） | M25: 対策履歴 | P25: 監視(日常巡視) | S25: 実施状況（実施日）
B26: メモ | E26: 覆工からの漏水跡 （写真番号S10-1・前回Ⅱb判定） | M26: メモ | P26: 4.5m×0.5mのひび割れからの漏水、にじみ （写真番号S10-4・前回Ⅱb判定）
C27: ※ 応急措置後の対策区分について添付すること。また、点検前に 実施された措置によりⅠと判定された箇所も添付すること。 | N27: ※ 変状の発生範囲の規模とは、対策を行う際に参考となる変状の長さや面積をいう。
N28: ※ 応急措置を実施しないで決定した変状の対策区分は、対策区分の応急措置後の欄に記入すること。
C29: ※ たたき落としを実施した場合は、実施後の写真を添付すること。 | N29: ※ 変状の発生範囲の規模は、面積・寸法を記載すること。(ひび割れ幅のみmmとし、その他をm表記とする)
C30: ※ 附属物の取付状態に関する異常写真は別途、任意の書式でとりまとめること。 | N30: ※ 構造用鋼材以外の異物に伴ううき・はく離については、メモ欄に異物の概要を記入すること。

Sheet 様式D-1-1 (12)
B2: ■定期点検記録様式 変状写真台帳【様式D-1-1】 | R2: 施設ID | T2: =+'様式A-1'!$W$2 -> 34.14178,132.16544
B3: フリガナ | E3: =+'様式A-1'!$D$3 -> ハシラノズイドウ | H3: 路 線 名 | J3: =+'様式A-1'!$J$3 -> 主要地方道岩国玖珂線 | M3: 定期点検実施者 | P3: =+'様式B (1)'!$S$3 -> 復建調査設計株式会社 | S3: 定期点検年月日 | U3: =+'様式B (1)'!$P$2 -> 45867
B4: 名 称 | E4: =+'様式A-1'!$D$4 -> 柱野隧道 | H4: 管理者名 | J4: =+'様式A-1'!$R$3 -> 山口県岩国土木建築事務所 | P4: =+'様式B (1)'!$S$4 -> 小笠原洋
B5: 写真 番号 | C5: 覆工スパン 番号 | E5: S11 | M5: 写真 番号 | N5: 覆工スパン 番号 | P5: S11
C6: 変状番号 | E6: 2 | N6: 変状番号 | P6: 3
B7: 変状 部位 | C7: 対象箇所 | E7: 覆工 | M7: 変状 部位 | N7: 対象箇所 | P7: 覆工
C8: 部位区分 | E8: アーチ（左側） | N8: 部位区分 | P8: 横断目地（左側）
B9: 変状種類 | E9: 漏水 | M9: 変状種類 | P9: 漏水
B10: 対策 区分 | C10: 変状区分 | E10: 漏水 | M10: 対策 区分 | N10: 変状区分 | P10: 漏水
C11: 応急措置前 | N11: 応急措置前
C12: 応急措置後 | E12: Ⅱb | N12: 応急措置後 | P12: Ⅱb
B13: 変状の発生範囲及び規模 | E13: 4.8m×0.5m | H13: 前回変状の発生範囲及び規模 | J13: － | M13: 変状の発生範囲及び規模 | P13: 7.4m×0.5m | S13: 前回変状の発生範囲及び規模 | U13: －
B14: 対策履歴 | E14: 監視(日常巡視) | H14: 実施状況（実施日） | M14: 対策履歴 | P14: 監視(日常巡視) | S14: 実施状況（実施日）
B15: メモ | E15: 4.8m×0.5mの覆工からの漏水、にじみ | M15: メモ | P15: 7.4m×0.5mの横断方向目地からの漏水、にじみ
B16: 写真 番号 | C16: 覆工スパン 番号 | E16: S11 | M16: 写真 番号 | N16: 覆工スパン 番号 | P16: S11
C17: 変状番号 | E17: 4 | N17: 変状番号 | P17: 5
B18: 変状 部位 | C18: 対象箇所 | E18: 覆工 | M18: 変状 部位 | N18: 対象箇所 | P18: 覆工
C19: 部位区分 | E19: アーチ（天端） | N19: 部位区分 | P19: 横断目地（右側）
B20: 変状種類 | E20: 漏水 | M20: 変状種類 | P20: 漏水
B21: 対策 区分 | C21: 変状区分 | E21: 漏水 | M21: 対策 区分 | N21: 変状区分 | P21: 漏水
C22: 応急措置前 | N22: 応急措置前
C23: 応急措置後 | E23: Ⅱa | N23: 応急措置後 | P23: Ⅱb
B24: 変状の発生範囲及び規模 | E24: 8.6m×0.5m | H24: 前回変状の発生範囲及び規模 | J24: － | M24: 変状の発生範囲及び規模 | P24: 7.0m×0.5m | S24: 前回変状の発生範囲及び規模 | U24: －
B25: 対策履歴 | E25: 漏水対策工 | H25: 実施状況（実施日） | M25: 対策履歴 | P25: 監視(日常巡視) | S25: 実施状況（実施日）
B26: メモ | E26: 8.6m×0.5mの補修箇所からの漏水、滴水、1滴/分 （写真番号S11-2・前回Ⅱb判定） | M26: メモ | P26: 7.0m×0.5mの横断方向目地からの漏水、にじみ
C27: ※ 応急措置後の対策区分について添付すること。また、点検前に 実施された措置によりⅠと判定された箇所も添付すること。 | N27: ※ 変状の発生範囲の規模とは、対策を行う際に参考となる変状の長さや面積をいう。
N28: ※ 応急措置を実施しないで決定した変状の対策区分は、対策区分の応急措置後の欄に記入すること。
C29: ※ たたき落としを実施した場合は、実施後の写真を添付すること。 | N29: ※ 変状の発生範囲の規模は、面積・寸法を記載すること。(ひび割れ幅のみmmとし、その他をm表記とする)
C30: ※ 附属物の取付状態に関する異常写真は別途、任意の書式でとりまとめること。 | N30: ※ 構造用鋼材以外の異物に伴ううき・はく離については、メモ欄に異物の概要を記入すること。

Sheet 様式D-1-1 (13)
B2: ■定期点検記録様式 変状写真台帳【様式D-1-1】 | R2: 施設ID | T2: =+'様式A-1'!$W$2 -> 34.14178,132.16544
B3: フリガナ | E3: =+'様式A-1'!$D$3 -> ハシラノズイドウ | H3: 路 線 名 | J3: =+'様式A-1'!$J$3 -> 主要地方道岩国玖珂線 | M3: 定期点検実施者 | P3: =+'様式B (1)'!$S$3 -> 復建調査設計株式会社 | S3: 定期点検年月日 | U3: =+'様式B (1)'!$P$2 -> 45867
B4: 名 称 | E4: =+'様式A-1'!$D$4 -> 柱野隧道 | H4: 管理者名 | J4: =+'様式A-1'!$R$3 -> 山口県岩国土木建築事務所 | P4: =+'様式B (1)'!$S$4 -> 小笠原洋
B5: 写真 番号 | C5: 覆工スパン 番号 | E5: S11 | M5: 写真 番号 | N5: 覆工スパン 番号 | P5: S12
C6: 変状番号 | E6: 6 | N6: 変状番号 | P6: 1
B7: 変状 部位 | C7: 対象箇所 | E7: 覆工 | M7: 変状 部位 | N7: 対象箇所 | P7: 覆工
C8: 部位区分 | E8: アーチ（右側） | N8: 部位区分 | P8: アーチ（左側）
B9: 変状種類 | E9: 漏水 | M9: 変状種類 | P9: 漏水
B10: 対策 区分 | C10: 変状区分 | E10: 漏水 | M10: 対策 区分 | N10: 変状区分 | P10: 漏水
C11: 応急措置前 | N11: 応急措置前
C12: 応急措置後 | E12: Ⅱb | N12: 応急措置後 | P12: Ⅱb
B13: 変状の発生範囲及び規模 | E13: 5.9m×0.5m | H13: 前回変状の発生範囲及び規模 | J13: － | M13: 変状の発生範囲及び規模 | P13: 6.8m×0.9m | S13: 前回変状の発生範囲及び規模 | U13: －
B14: 対策履歴 | E14: 監視(日常巡視) | H14: 実施状況（実施日） | M14: 対策履歴 | P14: 監視(日常巡視) | S14: 実施状況（実施日）
B15: メモ | E15: 5.9m×0.5mの補修箇所からの漏水、にじみ （写真番号S11-1・前回Ⅱb判定） | M15: メモ | P15: 6.8m×0.9mのひび割れからの漏水、にじみ （写真番号S12-1・前回Ⅱb判定）
B16: 写真 番号 | C16: 覆工スパン 番号 | E16: S12 | M16: 写真 番号 | N16: 覆工スパン 番号 | P16: S12
C17: 変状番号 | E17: 2 | N17: 変状番号 | P17: 3
B18: 変状 部位 | C18: 対象箇所 | E18: 覆工 | M18: 変状 部位 | N18: 対象箇所 | P18: 覆工
C19: 部位区分 | E19: アーチ（左側） | N19: 部位区分 | P19: アーチ（天端）
B20: 変状種類 | E20: 漏水 | M20: 変状種類 | P20: 漏水
B21: 対策 区分 | C21: 変状区分 | E21: 漏水 | M21: 対策 区分 | N21: 変状区分 | P21: 漏水
C22: 応急措置前 | N22: 応急措置前
C23: 応急措置後 | E23: Ⅱb | N23: 応急措置後 | P23: Ⅱa
B24: 変状の発生範囲及び規模 | E24: 7.3m×0.5m | H24: 前回変状の発生範囲及び規模 | J24: － | M24: 変状の発生範囲及び規模 | P24: 8.2m×0.5m | S24: 前回変状の発生範囲及び規模 | U24: －
B25: 対策履歴 | E25: 監視(日常巡視) | H25: 実施状況（実施日） | M25: 対策履歴 | P25: 漏水対策工 | S25: 実施状況（実施日）
B26: メモ | E26: 7.3m×0.5mのひび割れからの漏水、にじみ （写真番号S12-1・前回Ⅱb判定） | M26: メモ | P26: 8.2m×0.5mの覆工からの漏水、滴水、1滴/分 （写真番号S12-4・前回Ⅱa判定）
C27: ※ 応急措置後の対策区分について添付すること。また、点検前に 実施された措置によりⅠと判定された箇所も添付すること。 | N27: ※ 変状の発生範囲の規模とは、対策を行う際に参考となる変状の長さや面積をいう。
N28: ※ 応急措置を実施しないで決定した変状の対策区分は、対策区分の応急措置後の欄に記入すること。
C29: ※ たたき落としを実施した場合は、実施後の写真を添付すること。 | N29: ※ 変状の発生範囲の規模は、面積・寸法を記載すること。(ひび割れ幅のみmmとし、その他をm表記とする)
C30: ※ 附属物の取付状態に関する異常写真は別途、任意の書式でとりまとめること。 | N30: ※ 構造用鋼材以外の異物に伴ううき・はく離については、メモ欄に異物の概要を記入すること。

Sheet 様式D-1-1 (14)
B2: ■定期点検記録様式 変状写真台帳【様式D-1-1】 | R2: 施設ID | T2: =+'様式A-1'!$W$2 -> 34.14178,132.16544
B3: フリガナ | E3: =+'様式A-1'!$D$3 -> ハシラノズイドウ | H3: 路 線 名 | J3: =+'様式A-1'!$J$3 -> 主要地方道岩国玖珂線 | M3: 定期点検実施者 | P3: =+'様式B (1)'!$S$3 -> 復建調査設計株式会社 | S3: 定期点検年月日 | U3: =+'様式B (1)'!$P$2 -> 45867
B4: 名 称 | E4: =+'様式A-1'!$D$4 -> 柱野隧道 | H4: 管理者名 | J4: =+'様式A-1'!$R$3 -> 山口県岩国土木建築事務所 | P4: =+'様式B (1)'!$S$4 -> 小笠原洋
B5: 写真 番号 | C5: 覆工スパン 番号 | E5: S12 | M5: 写真 番号 | N5: 覆工スパン 番号 | P5: S13
C6: 変状番号 | E6: 4 | N6: 変状番号 | P6: 1
B7: 変状 部位 | C7: 対象箇所 | E7: 覆工 | M7: 変状 部位 | N7: 対象箇所 | P7: 覆工
C8: 部位区分 | E8: 横断目地（左側） | N8: 部位区分 | P8: 横断目地（左側）
B9: 変状種類 | E9: 漏水 | M9: 変状種類 | P9: 漏水
B10: 対策 区分 | C10: 変状区分 | E10: 漏水 | M10: 対策 区分 | N10: 変状区分 | P10: 漏水
C11: 応急措置前 | N11: 応急措置前
C12: 応急措置後 | E12: Ⅱb | N12: 応急措置後 | P12: Ⅱb
B13: 変状の発生範囲及び規模 | E13: 8.0m×0.5m | H13: 前回変状の発生範囲及び規模 | J13: － | M13: 変状の発生範囲及び規模 | P13: 4.9m×0.5m | S13: 前回変状の発生範囲及び規模 | U13: －
B14: 対策履歴 | E14: 監視(日常巡視) | H14: 実施状況（実施日） | M14: 対策履歴 | P14: 監視(日常巡視) | S14: 実施状況（実施日）
B15: メモ | E15: 8.0m×0.5mの横断方向目地からの漏水、にじみ （写真番号S12-5、S12-6・前回Ⅱb判定） | M15: メモ | P15: 4.9m×0.5mの横断方向目地からの漏水、にじみ （写真番号S13-8・前回Ⅱb判定）
B16: 写真 番号 | C16: 覆工スパン 番号 | E16: S13 | M16: 写真 番号 | N16: 覆工スパン 番号 | P16: S13
C17: 変状番号 | E17: 2 | N17: 変状番号 | P17: 3
B18: 変状 部位 | C18: 対象箇所 | E18: 覆工 | M18: 変状 部位 | N18: 対象箇所 | P18: 覆工
C19: 部位区分 | E19: アーチ（左側） | N19: 部位区分 | P19: アーチ（左側）
B20: 変状種類 | E20: 漏水 | M20: 変状種類 | P20: その他
B21: 対策 区分 | C21: 変状区分 | E21: 漏水 | M21: 対策 区分 | N21: 変状区分 | P21: 材質劣化
C22: 応急措置前 | N22: 応急措置前
C23: 応急措置後 | E23: Ⅱa | N23: 応急措置後 | P23: Ⅱb
B24: 変状の発生範囲及び規模 | E24: 7.2m×0.5m | H24: 前回変状の発生範囲及び規模 | J24: － | M24: 変状の発生範囲及び規模 | P24: 0.3m×0.15m | S24: 前回変状の発生範囲及び規模 | U24: －
B25: 対策履歴 | E25: 漏水対策工 | H25: 実施状況（実施日） | M25: 対策履歴 | P25: 監視(日常巡視) | S25: 実施状況（実施日）
B26: メモ | E26: 7.2m×0.5mの覆工からの漏水、滴水、1滴/分 （写真番号S13-1・前回Ⅱa判定） | M26: メモ | P26: 検査孔跡を塞ぐプレートの汚れ、ステンレスプレートのため腐食の可能性は低い、４箇所 （写真番号S13-7・前回Ⅱa判定）
C27: ※ 応急措置後の対策区分について添付すること。また、点検前に 実施された措置によりⅠと判定された箇所も添付すること。 | N27: ※ 変状の発生範囲の規模とは、対策を行う際に参考となる変状の長さや面積をいう。
N28: ※ 応急措置を実施しないで決定した変状の対策区分は、対策区分の応急措置後の欄に記入すること。
C29: ※ たたき落としを実施した場合は、実施後の写真を添付すること。 | N29: ※ 変状の発生範囲の規模は、面積・寸法を記載すること。(ひび割れ幅のみmmとし、その他をm表記とする)
C30: ※ 附属物の取付状態に関する異常写真は別途、任意の書式でとりまとめること。 | N30: ※ 構造用鋼材以外の異物に伴ううき・はく離については、メモ欄に異物の概要を記入すること。

Sheet 様式D-1-1 (15)
B2: ■定期点検記録様式 変状写真台帳【様式D-1-1】 | R2: 施設ID | T2: =+'様式A-1'!$W$2 -> 34.14178,132.16544
B3: フリガナ | E3: =+'様式A-1'!$D$3 -> ハシラノズイドウ | H3: 路 線 名 | J3: =+'様式A-1'!$J$3 -> 主要地方道岩国玖珂線 | M3: 定期点検実施者 | P3: =+'様式B (1)'!$S$3 -> 復建調査設計株式会社 | S3: 定期点検年月日 | U3: =+'様式B (1)'!$P$2 -> 45867
B4: 名 称 | E4: =+'様式A-1'!$D$4 -> 柱野隧道 | H4: 管理者名 | J4: =+'様式A-1'!$R$3 -> 山口県岩国土木建築事務所 | P4: =+'様式B (1)'!$S$4 -> 小笠原洋
B5: 写真 番号 | C5: 覆工スパン 番号 | E5: S13 | M5: 写真 番号 | N5: 覆工スパン 番号 | P5: S13
C6: 変状番号 | E6: 4 | N6: 変状番号 | P6: 5
B7: 変状 部位 | C7: 対象箇所 | E7: 覆工 | M7: 変状 部位 | N7: 対象箇所 | P7: 覆工
C8: 部位区分 | E8: アーチ（左側） | N8: 部位区分 | P8: 横断目地（右側）
B9: 変状種類 | E9: 漏水 | M9: 変状種類 | P9: 漏水
B10: 対策 区分 | C10: 変状区分 | E10: 漏水 | M10: 対策 区分 | N10: 変状区分 | P10: 漏水
C11: 応急措置前 | N11: 応急措置前
C12: 応急措置後 | E12: Ⅱb | N12: 応急措置後 | P12: Ⅱb
B13: 変状の発生範囲及び規模 | E13: 7.5m×0.5m | H13: 前回変状の発生範囲及び規模 | J13: － | M13: 変状の発生範囲及び規模 | P13: 8.2m×0.5m | S13: 前回変状の発生範囲及び規模 | U13: －
B14: 対策履歴 | E14: 監視(日常巡視) | H14: 実施状況（実施日） | M14: 対策履歴 | P14: 監視(日常巡視) | S14: 実施状況（実施日）
B15: メモ | E15: 7.5m×0.5mのひび割れからの漏水、にじみ | M15: メモ | P15: 横断方向目地からの漏水跡 （写真番号S13-9・前回Ⅱb判定）
B16: 写真 番号 | C16: 覆工スパン 番号 | E16: S13 | M16: 写真 番号 | N16: 覆工スパン 番号 | P16: S13
C17: 変状番号 | E17: 6 | N17: 変状番号 | P17: 7
B18: 変状 部位 | C18: 対象箇所 | E18: 覆工 | M18: 変状 部位 | N18: 対象箇所 | P18: 覆工
C19: 部位区分 | E19: 横断目地（右側） | N19: 部位区分 | P19: アーチ（右側）
B20: 変状種類 | E20: 漏水 | M20: 変状種類 | P20: 漏水
B21: 対策 区分 | C21: 変状区分 | E21: 漏水 | M21: 対策 区分 | N21: 変状区分 | P21: 漏水
C22: 応急措置前 | N22: 応急措置前
C23: 応急措置後 | E23: Ⅱb | N23: 応急措置後 | P23: Ⅱb
B24: 変状の発生範囲及び規模 | E24: 7.7m×0.5m | H24: 前回変状の発生範囲及び規模 | J24: － | M24: 変状の発生範囲及び規模 | P24: 3.4m×0.5m | S24: 前回変状の発生範囲及び規模 | U24: －
B25: 対策履歴 | E25: 監視(日常巡視) | H25: 実施状況（実施日） | M25: 対策履歴 | P25: 監視(日常巡視) | S25: 実施状況（実施日）
B26: メモ | E26: 7.7m×0.5mの横断方向目地からの漏水、にじみ | M26: メモ | P26: 3.4m×0.5mの補修箇所からの漏水、にじみ （写真番号S13-5・前回Ⅱb判定）
C27: ※ 応急措置後の対策区分について添付すること。また、点検前に 実施された措置によりⅠと判定された箇所も添付すること。 | N27: ※ 変状の発生範囲の規模とは、対策を行う際に参考となる変状の長さや面積をいう。
N28: ※ 応急措置を実施しないで決定した変状の対策区分は、対策区分の応急措置後の欄に記入すること。
C29: ※ たたき落としを実施した場合は、実施後の写真を添付すること。 | N29: ※ 変状の発生範囲の規模は、面積・寸法を記載すること。(ひび割れ幅のみmmとし、その他をm表記とする)
C30: ※ 附属物の取付状態に関する異常写真は別途、任意の書式でとりまとめること。 | N30: ※ 構造用鋼材以外の異物に伴ううき・はく離については、メモ欄に異物の概要を記入すること。

Sheet 様式D-1-1 (16)
B2: ■定期点検記録様式 変状写真台帳【様式D-1-1】 | R2: 施設ID | T2: =+'様式A-1'!$W$2 -> 34.14178,132.16544
B3: フリガナ | E3: =+'様式A-1'!$D$3 -> ハシラノズイドウ | H3: 路 線 名 | J3: =+'様式A-1'!$J$3 -> 主要地方道岩国玖珂線 | M3: 定期点検実施者 | P3: =+'様式B (1)'!$S$3 -> 復建調査設計株式会社 | S3: 定期点検年月日 | U3: =+'様式B (1)'!$P$2 -> 45867
B4: 名 称 | E4: =+'様式A-1'!$D$4 -> 柱野隧道 | H4: 管理者名 | J4: =+'様式A-1'!$R$3 -> 山口県岩国土木建築事務所 | P4: =+'様式B (1)'!$S$4 -> 小笠原洋
B5: 写真 番号 | C5: 覆工スパン 番号 | E5: S14 | M5: 写真 番号 | N5: 覆工スパン 番号 | P5: S14
C6: 変状番号 | E6: 1 | N6: 変状番号 | P6: 2
B7: 変状 部位 | C7: 対象箇所 | E7: 覆工 | M7: 変状 部位 | N7: 対象箇所 | P7: 覆工
C8: 部位区分 | E8: 横断目地（左側） | N8: 部位区分 | P8: アーチ（天端）
B9: 変状種類 | E9: 漏水 | M9: 変状種類 | P9: 漏水
B10: 対策 区分 | C10: 変状区分 | E10: 漏水 | M10: 対策 区分 | N10: 変状区分 | P10: 漏水
C11: 応急措置前 | N11: 応急措置前
C12: 応急措置後 | E12: Ⅱb | N12: 応急措置後 | P12: Ⅱb
B13: 変状の発生範囲及び規模 | E13: 6.8m×0.5m | H13: 前回変状の発生範囲及び規模 | J13: － | M13: 変状の発生範囲及び規模 | P13: 9.0m×0.5m | S13: 前回変状の発生範囲及び規模 | U13: －
B14: 対策履歴 | E14: 監視(日常巡視) | H14: 実施状況（実施日） | M14: 対策履歴 | P14: 監視(日常巡視) | S14: 実施状況（実施日）
B15: メモ | E15: 6.8m×0.5mの横断方向目地からの漏水、にじみ （写真番号S14-3・前回Ⅱb判定） | M15: メモ | P15: ひび割れからの漏水跡 （写真番号S14-1・前回Ⅱb判定）
B16: 写真 番号 | C16: 覆工スパン 番号 | E16: S14 | M16: 写真 番号 | N16: 覆工スパン 番号 | P16: S15
C17: 変状番号 | E17: 3 | N17: 変状番号 | P17: 1
B18: 変状 部位 | C18: 対象箇所 | E18: 覆工 | M18: 変状 部位 | N18: 対象箇所 | P18: 覆工
C19: 部位区分 | E19: 横断目地（右側） | N19: 部位区分 | P19: 横断目地（左側）
B20: 変状種類 | E20: 漏水 | M20: 変状種類 | P20: 漏水
B21: 対策 区分 | C21: 変状区分 | E21: 漏水 | M21: 対策 区分 | N21: 変状区分 | P21: 漏水
C22: 応急措置前 | N22: 応急措置前
C23: 応急措置後 | E23: Ⅱb | N23: 応急措置後 | P23: Ⅱb
B24: 変状の発生範囲及び規模 | E24: 5.3m×0.5m | H24: 前回変状の発生範囲及び規模 | J24: － | M24: 変状の発生範囲及び規模 | P24: 4.2m×0.5m | S24: 前回変状の発生範囲及び規模 | U24: －
B25: 対策履歴 | E25: 監視(日常巡視) | H25: 実施状況（実施日） | M25: 対策履歴 | P25: 監視(日常巡視) | S25: 実施状況（実施日）
B26: メモ | E26: 5.3m×0.5mの横断方向目地からの漏水、にじみ （写真番号S14-4・前回Ⅱb判定） | M26: メモ | P26: 横断方向目地からの漏水跡 （写真番号S15-5・前回Ⅱb判定）
C27: ※ 応急措置後の対策区分について添付すること。また、点検前に 実施された措置によりⅠと判定された箇所も添付すること。 | N27: ※ 変状の発生範囲の規模とは、対策を行う際に参考となる変状の長さや面積をいう。
N28: ※ 応急措置を実施しないで決定した変状の対策区分は、対策区分の応急措置後の欄に記入すること。
C29: ※ たたき落としを実施した場合は、実施後の写真を添付すること。 | N29: ※ 変状の発生範囲の規模は、面積・寸法を記載すること。(ひび割れ幅のみmmとし、その他をm表記とする)
C30: ※ 附属物の取付状態に関する異常写真は別途、任意の書式でとりまとめること。 | N30: ※ 構造用鋼材以外の異物に伴ううき・はく離については、メモ欄に異物の概要を記入すること。

Sheet 様式D-1-1 (17)
B2: ■定期点検記録様式 変状写真台帳【様式D-1-1】 | R2: 施設ID | T2: =+'様式A-1'!$W$2 -> 34.14178,132.16544
B3: フリガナ | E3: =+'様式A-1'!$D$3 -> ハシラノズイドウ | H3: 路 線 名 | J3: =+'様式A-1'!$J$3 -> 主要地方道岩国玖珂線 | M3: 定期点検実施者 | P3: =+'様式B (1)'!$S$3 -> 復建調査設計株式会社 | S3: 定期点検年月日 | U3: =+'様式B (1)'!$P$2 -> 45867
B4: 名 称 | E4: =+'様式A-1'!$D$4 -> 柱野隧道 | H4: 管理者名 | J4: =+'様式A-1'!$R$3 -> 山口県岩国土木建築事務所 | P4: =+'様式B (1)'!$S$4 -> 小笠原洋
B5: 写真 番号 | C5: 覆工スパン 番号 | E5: S15 | M5: 写真 番号 | N5: 覆工スパン 番号 | P5: S15
C6: 変状番号 | E6: 2 | N6: 変状番号 | P6: 3
B7: 変状 部位 | C7: 対象箇所 | E7: 覆工 | M7: 変状 部位 | N7: 対象箇所 | P7: 覆工
C8: 部位区分 | E8: アーチ（左側） | N8: 部位区分 | P8: アーチ（左側）
B9: 変状種類 | E9: 漏水 | M9: 変状種類 | P9: 漏水
B10: 対策 区分 | C10: 変状区分 | E10: 漏水 | M10: 対策 区分 | N10: 変状区分 | P10: 漏水
C11: 応急措置前 | N11: 応急措置前
C12: 応急措置後 | E12: Ⅱb | N12: 応急措置後 | P12: Ⅱb
B13: 変状の発生範囲及び規模 | E13: 5.4m×0.5m | H13: 前回変状の発生範囲及び規模 | J13: － | M13: 変状の発生範囲及び規模 | P13: 6.9m×0.7m | S13: 前回変状の発生範囲及び規模 | U13: －
B14: 対策履歴 | E14: 監視(日常巡視) | H14: 実施状況（実施日） | M14: 対策履歴 | P14: 監視(日常巡視) | S14: 実施状況（実施日）
B15: メモ | E15: 覆工からの漏水跡 （写真番号S15-2・前回Ⅱb判定） | M15: メモ | P15: 6.9m×0.7mの補修箇所からの漏水、にじみ
B16: 写真 番号 | C16: 覆工スパン 番号 | E16: S15 | M16: 写真 番号 | N16: 覆工スパン 番号 | P16: S15
C17: 変状番号 | E17: 4 | N17: 変状番号 | P17: 5
B18: 変状 部位 | C18: 対象箇所 | E18: 覆工 | M18: 変状 部位 | N18: 対象箇所 | P18: 覆工
C19: 部位区分 | E19: 横断目地（右側） | N19: 部位区分 | P19: アーチ（右側）
B20: 変状種類 | E20: うき・はく離 | M20: 変状種類 | P20: 漏水
B21: 対策 区分 | C21: 変状区分 | E21: 材質劣化 | M21: 対策 区分 | N21: 変状区分 | P21: 漏水
C22: 応急措置前 | N22: 応急措置前
C23: 応急措置後 | E23: Ⅰ | N23: 応急措置後 | P23: Ⅱb
B24: 変状の発生範囲及び規模 | E24: － | H24: 前回変状の発生範囲及び規模 | J24: 0.6m×0.35m | M24: 変状の発生範囲及び規模 | P24: 7.2m×0.5m | S24: 前回変状の発生範囲及び規模 | U24: －
B25: 対策履歴 | E25: 補修済 | H25: 実施状況（実施日） | M25: 対策履歴 | P25: 監視(日常巡視) | S25: 実施状況（実施日）
B26: メモ | E26: 補修済（FRPネット工） （写真番号S15-6・前回Ⅲ判定） | M26: メモ | P26: 7.2m×0.5mの覆工からの漏水、にじみ （写真番号S15-4・前回Ⅱb判定）
C27: ※ 応急措置後の対策区分について添付すること。また、点検前に 実施された措置によりⅠと判定された箇所も添付すること。 | N27: ※ 変状の発生範囲の規模とは、対策を行う際に参考となる変状の長さや面積をいう。
N28: ※ 応急措置を実施しないで決定した変状の対策区分は、対策区分の応急措置後の欄に記入すること。
C29: ※ たたき落としを実施した場合は、実施後の写真を添付すること。 | N29: ※ 変状の発生範囲の規模は、面積・寸法を記載すること。(ひび割れ幅のみmmとし、その他をm表記とする)
C30: ※ 附属物の取付状態に関する異常写真は別途、任意の書式でとりまとめること。 | N30: ※ 構造用鋼材以外の異物に伴ううき・はく離については、メモ欄に異物の概要を記入すること。

Sheet 様式D-1-1 (18)
B2: ■定期点検記録様式 変状写真台帳【様式D-1-1】 | R2: 施設ID | T2: =+'様式A-1'!$W$2 -> 34.14178,132.16544
B3: フリガナ | E3: =+'様式A-1'!$D$3 -> ハシラノズイドウ | H3: 路 線 名 | J3: =+'様式A-1'!$J$3 -> 主要地方道岩国玖珂線 | M3: 定期点検実施者 | P3: =+'様式B (1)'!$S$3 -> 復建調査設計株式会社 | S3: 定期点検年月日 | U3: =+'様式B (1)'!$P$2 -> 45867
B4: 名 称 | E4: =+'様式A-1'!$D$4 -> 柱野隧道 | H4: 管理者名 | J4: =+'様式A-1'!$R$3 -> 山口県岩国土木建築事務所 | P4: =+'様式B (1)'!$S$4 -> 小笠原洋
B5: 写真 番号 | C5: 覆工スパン 番号 | E5: S16 | M5: 写真 番号 | N5: 覆工スパン 番号 | P5: S16
C6: 変状番号 | E6: 1 | N6: 変状番号 | P6: 2
B7: 変状 部位 | C7: 対象箇所 | E7: 覆工 | M7: 変状 部位 | N7: 対象箇所 | P7: 覆工
C8: 部位区分 | E8: 横断目地（天端） | N8: 部位区分 | P8: アーチ（天端）
B9: 変状種類 | E9: 漏水 | M9: 変状種類 | P9: うき・はく離
B10: 対策 区分 | C10: 変状区分 | E10: 漏水 | M10: 対策 区分 | N10: 変状区分 | P10: 材質劣化
C11: 応急措置前 | N11: 応急措置前
C12: 応急措置後 | E12: Ⅱb | N12: 応急措置後 | P12: Ⅱb
B13: 変状の発生範囲及び規模 | E13: 8.5m×0.5m | H13: 前回変状の発生範囲及び規模 | J13: － | M13: 変状の発生範囲及び規模 | P13: 0.3m×0.5m | S13: 前回変状の発生範囲及び規模 | U13: －
B14: 対策履歴 | E14: 監視(日常巡視) | H14: 実施状況（実施日） | M14: 対策履歴 | P14: 監視(日常巡視) | S14: 実施状況（実施日）
B15: メモ | E15: 横断方向目地からの漏水跡 （写真番号S16-2・前回Ⅱb判定） | M15: メモ | P15: 0.3m×0.5mの補修箇所の打音異常部、ひび割れなし
B16: 写真 番号 | C16: 覆工スパン 番号 | E16: S17 | M16: 写真 番号 | N16: 覆工スパン 番号 | P16: S17
C17: 変状番号 | E17: 1 | N17: 変状番号 | P17: 2
B18: 変状 部位 | C18: 対象箇所 | E18: 覆工 | M18: 変状 部位 | N18: 対象箇所 | P18: 覆工
C19: 部位区分 | E19: アーチ（左側） | N19: 部位区分 | P19: 横断目地（左側）
B20: 変状種類 | E20: 漏水 | M20: 変状種類 | P20: 漏水
B21: 対策 区分 | C21: 変状区分 | E21: 漏水 | M21: 対策 区分 | N21: 変状区分 | P21: 漏水
C22: 応急措置前 | N22: 応急措置前
C23: 応急措置後 | E23: Ⅱb | N23: 応急措置後 | P23: Ⅱb
B24: 変状の発生範囲及び規模 | E24: 3.5m×0.5m | H24: 前回変状の発生範囲及び規模 | J24: － | M24: 変状の発生範囲及び規模 | P24: 4.6m×0.5m | S24: 前回変状の発生範囲及び規模 | U24: －
B25: 対策履歴 | E25: 監視(日常巡視) | H25: 実施状況（実施日） | M25: 対策履歴 | P25: 監視(日常巡視) | S25: 実施状況（実施日）
B26: メモ | E26: 覆工からの漏水跡 （写真番号S17-2・前回Ⅱb判定） | M26: メモ | P26: 4.6m×0.5mの横断方向目地からの漏水、にじみ （写真番号S17-3・前回Ⅱb判定）
C27: ※ 応急措置後の対策区分について添付すること。また、点検前に 実施された措置によりⅠと判定された箇所も添付すること。 | N27: ※ 変状の発生範囲の規模とは、対策を行う際に参考となる変状の長さや面積をいう。
N28: ※ 応急措置を実施しないで決定した変状の対策区分は、対策区分の応急措置後の欄に記入すること。
C29: ※ たたき落としを実施した場合は、実施後の写真を添付すること。 | N29: ※ 変状の発生範囲の規模は、面積・寸法を記載すること。(ひび割れ幅のみmmとし、その他をm表記とする)
C30: ※ 附属物の取付状態に関する異常写真は別途、任意の書式でとりまとめること。 | N30: ※ 構造用鋼材以外の異物に伴ううき・はく離については、メモ欄に異物の概要を記入すること。

Sheet 様式D-1-1 (19)
B2: ■定期点検記録様式 変状写真台帳【様式D-1-1】 | R2: 施設ID | T2: =+'様式A-1'!$W$2 -> 34.14178,132.16544
B3: フリガナ | E3: =+'様式A-1'!$D$3 -> ハシラノズイドウ | H3: 路 線 名 | J3: =+'様式A-1'!$J$3 -> 主要地方道岩国玖珂線 | M3: 定期点検実施者 | P3: =+'様式B (1)'!$S$3 -> 復建調査設計株式会社 | S3: 定期点検年月日 | U3: =+'様式B (1)'!$P$2 -> 45867
B4: 名 称 | E4: =+'様式A-1'!$D$4 -> 柱野隧道 | H4: 管理者名 | J4: =+'様式A-1'!$R$3 -> 山口県岩国土木建築事務所 | P4: =+'様式B (1)'!$S$4 -> 小笠原洋
B5: 写真 番号 | C5: 覆工スパン 番号 | E5: S18 | M5: 写真 番号 | N5: 覆工スパン 番号 | P5: S18
C6: 変状番号 | E6: 1 | N6: 変状番号 | P6: 2
B7: 変状 部位 | C7: 対象箇所 | E7: 覆工 | M7: 変状 部位 | N7: 対象箇所 | P7: 覆工
C8: 部位区分 | E8: アーチ（左側） | N8: 部位区分 | P8: アーチ（右側）
B9: 変状種類 | E9: 漏水 | M9: 変状種類 | P9: その他
B10: 対策 区分 | C10: 変状区分 | E10: 漏水 | M10: 対策 区分 | N10: 変状区分 | P10: 材質劣化
C11: 応急措置前 | N11: 応急措置前
C12: 応急措置後 | E12: Ⅱb | N12: 応急措置後 | P12: Ⅱb
B13: 変状の発生範囲及び規模 | E13: 3.6m×0.5m | H13: 前回変状の発生範囲及び規模 | J13: － | M13: 変状の発生範囲及び規模 | P13: 1.0m×3.3m | S13: 前回変状の発生範囲及び規模 | U13: －
B14: 対策履歴 | E14: 監視(日常巡視) | H14: 実施状況（実施日） | M14: 対策履歴 | P14: 監視(日常巡視) | S14: 実施状況（実施日）
B15: メモ | E15: 3.6m×0.5mの補修箇所からの漏水、にじみ （写真番号S18-2・前回Ⅰ判定） | M15: メモ | P15: 検査孔跡を塞ぐプレートの汚れ、ステンレスプレートのため腐食の可能性は低い、３箇所 （写真番号S18-1、S18-3・前回Ⅱa判定）
B16: 写真 番号 | C16: 覆工スパン 番号 | E16: S18 | M16: 写真 番号 | N16: 覆工スパン 番号 | P16: S19
C17: 変状番号 | E17: 3 | N17: 変状番号 | P17: 1
B18: 変状 部位 | C18: 対象箇所 | E18: 覆工 | M18: 変状 部位 | N18: 対象箇所 | P18: 覆工
C19: 部位区分 | E19: アーチ（右側） | N19: 部位区分 | P19: アーチ（左側）
B20: 変状種類 | E20: 漏水 | M20: 変状種類 | P20: 漏水
B21: 対策 区分 | C21: 変状区分 | E21: 漏水 | M21: 対策 区分 | N21: 変状区分 | P21: 漏水
C22: 応急措置前 | N22: 応急措置前
C23: 応急措置後 | E23: Ⅱb | N23: 応急措置後 | P23: Ⅱb
B24: 変状の発生範囲及び規模 | E24: 6.7m×0.5m | H24: 前回変状の発生範囲及び規模 | J24: － | M24: 変状の発生範囲及び規模 | P24: 6.5m×0.5m | S24: 前回変状の発生範囲及び規模 | U24: －
B25: 対策履歴 | E25: 監視(日常巡視) | H25: 実施状況（実施日） | M25: 対策履歴 | P25: 監視(日常巡視) | S25: 実施状況（実施日）
B26: メモ | E26: 6.7m×0.5mの覆工からの漏水、にじみ （写真番号S18-4・前回Ⅱb判定） | M26: メモ | P26: 6.5m×0.5mの補修箇所からの漏水、にじみ （写真番号S19-3・前回Ⅱb判定）
C27: ※ 応急措置後の対策区分について添付すること。また、点検前に 実施された措置によりⅠと判定された箇所も添付すること。 | N27: ※ 変状の発生範囲の規模とは、対策を行う際に参考となる変状の長さや面積をいう。
N28: ※ 応急措置を実施しないで決定した変状の対策区分は、対策区分の応急措置後の欄に記入すること。
C29: ※ たたき落としを実施した場合は、実施後の写真を添付すること。 | N29: ※ 変状の発生範囲の規模は、面積・寸法を記載すること。(ひび割れ幅のみmmとし、その他をm表記とする)
C30: ※ 附属物の取付状態に関する異常写真は別途、任意の書式でとりまとめること。 | N30: ※ 構造用鋼材以外の異物に伴ううき・はく離については、メモ欄に異物の概要を記入すること。

Sheet 様式D-1-1 (20)
B2: ■定期点検記録様式 変状写真台帳【様式D-1-1】 | R2: 施設ID | T2: =+'様式A-1'!$W$2 -> 34.14178,132.16544
B3: フリガナ | E3: =+'様式A-1'!$D$3 -> ハシラノズイドウ | H3: 路 線 名 | J3: =+'様式A-1'!$J$3 -> 主要地方道岩国玖珂線 | M3: 定期点検実施者 | P3: =+'様式B (1)'!$S$3 -> 復建調査設計株式会社 | S3: 定期点検年月日 | U3: =+'様式B (1)'!$P$2 -> 45867
B4: 名 称 | E4: =+'様式A-1'!$D$4 -> 柱野隧道 | H4: 管理者名 | J4: =+'様式A-1'!$R$3 -> 山口県岩国土木建築事務所 | P4: =+'様式B (1)'!$S$4 -> 小笠原洋
B5: 写真 番号 | C5: 覆工スパン 番号 | E5: S19 | M5: 写真 番号 | N5: 覆工スパン 番号 | P5: S19
C6: 変状番号 | E6: 2 | N6: 変状番号 | P6: 3
B7: 変状 部位 | C7: 対象箇所 | E7: 覆工 | M7: 変状 部位 | N7: 対象箇所 | P7: 覆工
C8: 部位区分 | E8: 横断目地（左側） | N8: 部位区分 | P8: アーチ（右側）
B9: 変状種類 | E9: 漏水 | M9: 変状種類 | P9: 漏水
B10: 対策 区分 | C10: 変状区分 | E10: 漏水 | M10: 対策 区分 | N10: 変状区分 | P10: 漏水
C11: 応急措置前 | N11: 応急措置前
C12: 応急措置後 | E12: Ⅱb | N12: 応急措置後 | P12: Ⅱb
B13: 変状の発生範囲及び規模 | E13: 8.3m×0.5m | H13: 前回変状の発生範囲及び規模 | J13: － | M13: 変状の発生範囲及び規模 | P13: 7.4m×0.5m | S13: 前回変状の発生範囲及び規模 | U13: －
B14: 対策履歴 | E14: 監視(日常巡視) | H14: 実施状況（実施日） | M14: 対策履歴 | P14: 監視(日常巡視) | S14: 実施状況（実施日）
B15: メモ | E15: 横断方向目地からの漏水跡 （写真番号S19-5・前回Ⅱa判定） | M15: メモ | P15: 覆工からの漏水跡 （写真番号S19-1・前回Ⅱb判定）
B16: 写真 番号 | C16: 覆工スパン 番号 | E16: S19 | M16: 写真 番号 | N16: 覆工スパン 番号 | P16: S20
C17: 変状番号 | E17: 4 | N17: 変状番号 | P17: 1
B18: 変状 部位 | C18: 対象箇所 | E18: 覆工 | M18: 変状 部位 | N18: 対象箇所 | P18: 覆工
C19: 部位区分 | E19: アーチ（右側） | N19: 部位区分 | P19: アーチ（天端）
B20: 変状種類 | E20: 漏水 | M20: 変状種類 | P20: 漏水
B21: 対策 区分 | C21: 変状区分 | E21: 漏水 | M21: 対策 区分 | N21: 変状区分 | P21: 漏水
C22: 応急措置前 | N22: 応急措置前
C23: 応急措置後 | E23: Ⅱb | N23: 応急措置後 | P23: Ⅱb
B24: 変状の発生範囲及び規模 | E24: 7.4m×0.5m | H24: 前回変状の発生範囲及び規模 | J24: － | M24: 変状の発生範囲及び規模 | P24: 8.6m×0.5m | S24: 前回変状の発生範囲及び規模 | U24: －
B25: 対策履歴 | E25: 監視(日常巡視) | H25: 実施状況（実施日） | M25: 対策履歴 | P25: 監視(日常巡視) | S25: 実施状況（実施日）
B26: メモ | E26: ひび割れからの漏水跡 （写真番号S19-2・前回Ⅱb判定） | M26: メモ | P26: ひび割れからの漏水跡 （写真番号S20-1・前回Ⅱa判定）
C27: ※ 応急措置後の対策区分について添付すること。また、点検前に 実施された措置によりⅠと判定された箇所も添付すること。 | N27: ※ 変状の発生範囲の規模とは、対策を行う際に参考となる変状の長さや面積をいう。
N28: ※ 応急措置を実施しないで決定した変状の対策区分は、対策区分の応急措置後の欄に記入すること。
C29: ※ たたき落としを実施した場合は、実施後の写真を添付すること。 | N29: ※ 変状の発生範囲の規模は、面積・寸法を記載すること。(ひび割れ幅のみmmとし、その他をm表記とする)
C30: ※ 附属物の取付状態に関する異常写真は別途、任意の書式でとりまとめること。 | N30: ※ 構造用鋼材以外の異物に伴ううき・はく離については、メモ欄に異物の概要を記入すること。

Sheet 様式D-1-1 (21)
B2: ■定期点検記録様式 変状写真台帳【様式D-1-1】 | R2: 施設ID | T2: =+'様式A-1'!$W$2 -> 34.14178,132.16544
B3: フリガナ | E3: =+'様式A-1'!$D$3 -> ハシラノズイドウ | H3: 路 線 名 | J3: =+'様式A-1'!$J$3 -> 主要地方道岩国玖珂線 | M3: 定期点検実施者 | P3: =+'様式B (1)'!$S$3 -> 復建調査設計株式会社 | S3: 定期点検年月日 | U3: =+'様式B (1)'!$P$2 -> 45867
B4: 名 称 | E4: =+'様式A-1'!$D$4 -> 柱野隧道 | H4: 管理者名 | J4: =+'様式A-1'!$R$3 -> 山口県岩国土木建築事務所 | P4: =+'様式B (1)'!$S$4 -> 小笠原洋
B5: 写真 番号 | C5: 覆工スパン 番号 | E5: S20 | M5: 写真 番号 | N5: 覆工スパン 番号 | P5: S20
C6: 変状番号 | E6: 2 | N6: 変状番号 | P6: 3
B7: 変状 部位 | C7: 対象箇所 | E7: 覆工 | M7: 変状 部位 | N7: 対象箇所 | P7: 覆工
C8: 部位区分 | E8: アーチ（右側） | N8: 部位区分 | P8: 横断目地（右側）
B9: 変状種類 | E9: 漏水 | M9: 変状種類 | P9: 漏水
B10: 対策 区分 | C10: 変状区分 | E10: 漏水 | M10: 対策 区分 | N10: 変状区分 | P10: 漏水
C11: 応急措置前 | N11: 応急措置前
C12: 応急措置後 | E12: Ⅱb | N12: 応急措置後 | P12: Ⅱb
B13: 変状の発生範囲及び規模 | E13: 3.7m×0.5m | H13: 前回変状の発生範囲及び規模 | J13: － | M13: 変状の発生範囲及び規模 | P13: 3.2m×0.5m | S13: 前回変状の発生範囲及び規模 | U13: －
B14: 対策履歴 | E14: 監視(日常巡視) | H14: 実施状況（実施日） | M14: 対策履歴 | P14: 監視(日常巡視) | S14: 実施状況（実施日）
B15: メモ | E15: 3.7m×0.5mのひび割れからの漏水、にじみ （写真番号S20-2・前回Ⅱb判定） | M15: メモ | P15: 3.2m×0.5mの横断方向目地からの漏水、にじみ （写真番号S20-3・前回Ⅱb判定）
B16: 写真 番号 | C16: 覆工スパン 番号 | E16: S21 | M16: 写真 番号 | N16: 覆工スパン 番号 | P16: S22
C17: 変状番号 | E17: 1 | N17: 変状番号 | P17: 1
B18: 変状 部位 | C18: 対象箇所 | E18: 覆工 | M18: 変状 部位 | N18: 対象箇所 | P18: 覆工
C19: 部位区分 | E19: アーチ（右側） | N19: 部位区分 | P19: アーチ（左側）
B20: 変状種類 | E20: 漏水 | M20: 変状種類 | P20: 漏水
B21: 対策 区分 | C21: 変状区分 | E21: 漏水 | M21: 対策 区分 | N21: 変状区分 | P21: 漏水
C22: 応急措置前 | N22: 応急措置前
C23: 応急措置後 | E23: Ⅱb | N23: 応急措置後 | P23: Ⅱb
B24: 変状の発生範囲及び規模 | E24: 4.8m×0.6m | H24: 前回変状の発生範囲及び規模 | J24: － | M24: 変状の発生範囲及び規模 | P24: 7.8m×0.5m | S24: 前回変状の発生範囲及び規模 | U24: －
B25: 対策履歴 | E25: 監視(日常巡視) | H25: 実施状況（実施日） | M25: 対策履歴 | P25: 監視(日常巡視) | S25: 実施状況（実施日）
B26: メモ | E26: 補修箇所からの漏水跡 （写真番号S21-3・前回Ⅱb判定） | M26: メモ | P26: 7.8m×0.5mの補修箇所からの漏水、にじみ （写真番号S22-2・前回Ⅱb判定）
C27: ※ 応急措置後の対策区分について添付すること。また、点検前に 実施された措置によりⅠと判定された箇所も添付すること。 | N27: ※ 変状の発生範囲の規模とは、対策を行う際に参考となる変状の長さや面積をいう。
N28: ※ 応急措置を実施しないで決定した変状の対策区分は、対策区分の応急措置後の欄に記入すること。
C29: ※ たたき落としを実施した場合は、実施後の写真を添付すること。 | N29: ※ 変状の発生範囲の規模は、面積・寸法を記載すること。(ひび割れ幅のみmmとし、その他をm表記とする)
C30: ※ 附属物の取付状態に関する異常写真は別途、任意の書式でとりまとめること。 | N30: ※ 構造用鋼材以外の異物に伴ううき・はく離については、メモ欄に異物の概要を記入すること。

Sheet 様式D-1-1 (22)
B2: ■定期点検記録様式 変状写真台帳【様式D-1-1】 | R2: 施設ID | T2: =+'様式A-1'!$W$2 -> 34.14178,132.16544
B3: フリガナ | E3: =+'様式A-1'!$D$3 -> ハシラノズイドウ | H3: 路 線 名 | J3: =+'様式A-1'!$J$3 -> 主要地方道岩国玖珂線 | M3: 定期点検実施者 | P3: =+'様式B (1)'!$S$3 -> 復建調査設計株式会社 | S3: 定期点検年月日 | U3: =+'様式B (1)'!$P$2 -> 45867
B4: 名 称 | E4: =+'様式A-1'!$D$4 -> 柱野隧道 | H4: 管理者名 | J4: =+'様式A-1'!$R$3 -> 山口県岩国土木建築事務所 | P4: =+'様式B (1)'!$S$4 -> 小笠原洋
B5: 写真 番号 | C5: 覆工スパン 番号 | E5: S22 | M5: 写真 番号 | N5: 覆工スパン 番号 | P5: S22
C6: 変状番号 | E6: 2 | N6: 変状番号 | P6: 3
B7: 変状 部位 | C7: 対象箇所 | E7: 覆工 | M7: 変状 部位 | N7: 対象箇所 | P7: 覆工
C8: 部位区分 | E8: アーチ（左側） | N8: 部位区分 | P8: アーチ（左側）
B9: 変状種類 | E9: 漏水 | M9: 変状種類 | P9: 漏水
B10: 対策 区分 | C10: 変状区分 | E10: 漏水 | M10: 対策 区分 | N10: 変状区分 | P10: 漏水
C11: 応急措置前 | N11: 応急措置前
C12: 応急措置後 | E12: Ⅱb | N12: 応急措置後 | P12: Ⅱb
B13: 変状の発生範囲及び規模 | E13: 7.5m×0.5m | H13: 前回変状の発生範囲及び規模 | J13: － | M13: 変状の発生範囲及び規模 | P13: 8.1m×0.5m | S13: 前回変状の発生範囲及び規模 | U13: －
B14: 対策履歴 | E14: 監視(日常巡視) | H14: 実施状況（実施日） | M14: 対策履歴 | P14: 監視(日常巡視) | S14: 実施状況（実施日）
B15: メモ | E15: ひび割れからの漏水跡 （写真番号S22-5・前回Ⅱb判定） | M15: メモ | P15: 覆工からの漏水跡 （写真番号S22-4・前回Ⅱb判定）
B16: 写真 番号 | C16: 覆工スパン 番号 | E16: S22 | M16: 写真 番号 | N16: 覆工スパン 番号 | P16: S22
C17: 変状番号 | E17: 4 | N17: 変状番号 | P17: 5
B18: 変状 部位 | C18: 対象箇所 | E18: 覆工 | M18: 変状 部位 | N18: 対象箇所 | P18: 覆工
C19: 部位区分 | E19: アーチ（右側） | N19: 部位区分 | P19: 横断目地（右側）
B20: 変状種類 | E20: 漏水 | M20: 変状種類 | P20: 漏水
B21: 対策 区分 | C21: 変状区分 | E21: 漏水 | M21: 対策 区分 | N21: 変状区分 | P21: 漏水
C22: 応急措置前 | N22: 応急措置前
C23: 応急措置後 | E23: Ⅱb | N23: 応急措置後 | P23: Ⅱb
B24: 変状の発生範囲及び規模 | E24: 7.4m×0.5m | H24: 前回変状の発生範囲及び規模 | J24: － | M24: 変状の発生範囲及び規模 | P24: 7.0m×0.5m | S24: 前回変状の発生範囲及び規模 | U24: －
B25: 対策履歴 | E25: 監視(日常巡視) | H25: 実施状況（実施日） | M25: 対策履歴 | P25: 監視(日常巡視) | S25: 実施状況（実施日）
B26: メモ | E26: 補修箇所からの漏水跡 （写真番号S22-3・前回Ⅱb判定） | M26: メモ | P26: 7.0m×0.5mの横断方向目地からの漏水、にじみ
C27: ※ 応急措置後の対策区分について添付すること。また、点検前に 実施された措置によりⅠと判定された箇所も添付すること。 | N27: ※ 変状の発生範囲の規模とは、対策を行う際に参考となる変状の長さや面積をいう。
N28: ※ 応急措置を実施しないで決定した変状の対策区分は、対策区分の応急措置後の欄に記入すること。
C29: ※ たたき落としを実施した場合は、実施後の写真を添付すること。 | N29: ※ 変状の発生範囲の規模は、面積・寸法を記載すること。(ひび割れ幅のみmmとし、その他をm表記とする)
C30: ※ 附属物の取付状態に関する異常写真は別途、任意の書式でとりまとめること。 | N30: ※ 構造用鋼材以外の異物に伴ううき・はく離については、メモ欄に異物の概要を記入すること。

Sheet 様式D-1-1 (23)
B2: ■定期点検記録様式 変状写真台帳【様式D-1-1】 | R2: 施設ID | T2: =+'様式A-1'!$W$2 -> 34.14178,132.16544
B3: フリガナ | E3: =+'様式A-1'!$D$3 -> ハシラノズイドウ | H3: 路 線 名 | J3: =+'様式A-1'!$J$3 -> 主要地方道岩国玖珂線 | M3: 定期点検実施者 | P3: =+'様式B (1)'!$S$3 -> 復建調査設計株式会社 | S3: 定期点検年月日 | U3: =+'様式B (1)'!$P$2 -> 45867
B4: 名 称 | E4: =+'様式A-1'!$D$4 -> 柱野隧道 | H4: 管理者名 | J4: =+'様式A-1'!$R$3 -> 山口県岩国土木建築事務所 | P4: =+'様式B (1)'!$S$4 -> 小笠原洋
B5: 写真 番号 | C5: 覆工スパン 番号 | E5: S22 | M5: 写真 番号 | N5: 覆工スパン 番号 | P5: S22
C6: 変状番号 | E6: 6 | N6: 変状番号 | P6: 7
B7: 変状 部位 | C7: 対象箇所 | E7: 覆工 | M7: 変状 部位 | N7: 対象箇所 | P7: 覆工
C8: 部位区分 | E8: 横断目地（右側） | N8: 部位区分 | P8: アーチ（右側）
B9: 変状種類 | E9: 漏水 | M9: 変状種類 | P9: 漏水
B10: 対策 区分 | C10: 変状区分 | E10: 漏水 | M10: 対策 区分 | N10: 変状区分 | P10: 漏水
C11: 応急措置前 | N11: 応急措置前
C12: 応急措置後 | E12: Ⅱb | N12: 応急措置後 | P12: Ⅱb
B13: 変状の発生範囲及び規模 | E13: 4.0m×0.5m | H13: 前回変状の発生範囲及び規模 | J13: － | M13: 変状の発生範囲及び規模 | P13: 3.9m×0.5m | S13: 前回変状の発生範囲及び規模 | U13: －
B14: 対策履歴 | E14: 監視(日常巡視) | H14: 実施状況（実施日） | M14: 対策履歴 | P14: 監視(日常巡視) | S14: 実施状況（実施日）
B15: メモ | E15: 4.0m×0.5mの横断方向目地からの漏水、にじみ （写真番号S22-6・前回Ⅱb判定） | M15: メモ | P15: ひび割れからの漏水跡 （写真番号S22-1・前回Ⅱb判定）
B16: 写真 番号 | C16: 覆工スパン 番号 | E16: S23 | M16: 写真 番号 | N16: 覆工スパン 番号 | P16: S23
C17: 変状番号 | E17: 1 | N17: 変状番号 | P17: 2
B18: 変状 部位 | C18: 対象箇所 | E18: 覆工 | M18: 変状 部位 | N18: 対象箇所 | P18: 覆工
C19: 部位区分 | E19: アーチ（左側） | N19: 部位区分 | P19: アーチ（左側）
B20: 変状種類 | E20: 漏水 | M20: 変状種類 | P20: 漏水
B21: 対策 区分 | C21: 変状区分 | E21: 漏水 | M21: 対策 区分 | N21: 変状区分 | P21: 漏水
C22: 応急措置前 | N22: 応急措置前
C23: 応急措置後 | E23: Ⅱb | N23: 応急措置後 | P23: Ⅱb
B24: 変状の発生範囲及び規模 | E24: 6.9m×1.3m | H24: 前回変状の発生範囲及び規模 | J24: － | M24: 変状の発生範囲及び規模 | P24: 8.1m×0.5m | S24: 前回変状の発生範囲及び規模 | U24: －
B25: 対策履歴 | E25: 監視(日常巡視) | H25: 実施状況（実施日） | M25: 対策履歴 | P25: 監視(日常巡視) | S25: 実施状況（実施日）
B26: メモ | E26: 補修箇所からの漏水跡 （写真番号S23-3・前回Ⅱb判定） | M26: メモ | P26: 8.1m×0.5mの覆工からの漏水、にじみ （写真番号S23-1・前回Ⅱb判定）
C27: ※ 応急措置後の対策区分について添付すること。また、点検前に 実施された措置によりⅠと判定された箇所も添付すること。 | N27: ※ 変状の発生範囲の規模とは、対策を行う際に参考となる変状の長さや面積をいう。
N28: ※ 応急措置を実施しないで決定した変状の対策区分は、対策区分の応急措置後の欄に記入すること。
C29: ※ たたき落としを実施した場合は、実施後の写真を添付すること。 | N29: ※ 変状の発生範囲の規模は、面積・寸法を記載すること。(ひび割れ幅のみmmとし、その他をm表記とする)
C30: ※ 附属物の取付状態に関する異常写真は別途、任意の書式でとりまとめること。 | N30: ※ 構造用鋼材以外の異物に伴ううき・はく離については、メモ欄に異物の概要を記入すること。

Sheet 様式D-1-1 (24)
B2: ■定期点検記録様式 変状写真台帳【様式D-1-1】 | R2: 施設ID | T2: =+'様式A-1'!$W$2 -> 34.14178,132.16544
B3: フリガナ | E3: =+'様式A-1'!$D$3 -> ハシラノズイドウ | H3: 路 線 名 | J3: =+'様式A-1'!$J$3 -> 主要地方道岩国玖珂線 | M3: 定期点検実施者 | P3: =+'様式B (1)'!$S$3 -> 復建調査設計株式会社 | S3: 定期点検年月日 | U3: =+'様式B (1)'!$P$2 -> 45867
B4: 名 称 | E4: =+'様式A-1'!$D$4 -> 柱野隧道 | H4: 管理者名 | J4: =+'様式A-1'!$R$3 -> 山口県岩国土木建築事務所 | P4: =+'様式B (1)'!$S$4 -> 小笠原洋
B5: 写真 番号 | C5: 覆工スパン 番号 | E5: S23 | M5: 写真 番号 | N5: 覆工スパン 番号 | P5: S23
C6: 変状番号 | E6: 3 | N6: 変状番号 | P6: 4
B7: 変状 部位 | C7: 対象箇所 | E7: 覆工 | M7: 変状 部位 | N7: 対象箇所 | P7: 覆工
C8: 部位区分 | E8: アーチ（右側） | N8: 部位区分 | P8: アーチ（右側）
B9: 変状種類 | E9: 漏水 | M9: 変状種類 | P9: 漏水
B10: 対策 区分 | C10: 変状区分 | E10: 漏水 | M10: 対策 区分 | N10: 変状区分 | P10: 漏水
C11: 応急措置前 | N11: 応急措置前
C12: 応急措置後 | E12: Ⅱb | N12: 応急措置後 | P12: Ⅱb
B13: 変状の発生範囲及び規模 | E13: 7.8m×0.5m | H13: 前回変状の発生範囲及び規模 | J13: － | M13: 変状の発生範囲及び規模 | P13: 5.0m×2.4m | S13: 前回変状の発生範囲及び規模 | U13: －
B14: 対策履歴 | E14: 監視(日常巡視) | H14: 実施状況（実施日） | M14: 対策履歴 | P14: 監視(日常巡視) | S14: 実施状況（実施日）
B15: メモ | E15: 7.8m×0.5mの覆工からの漏水、にじみ （写真番号S23-2・前回Ⅱa判定） | M15: メモ | P15: 補修箇所からの漏水跡 （写真番号S23-4・前回Ⅱb判定）
B16: 写真 番号 | C16: 覆工スパン 番号 | E16: S24 | M16: 写真 番号 | N16: 覆工スパン 番号 | P16: S24
C17: 変状番号 | E17: 1 | N17: 変状番号 | P17: 2
B18: 変状 部位 | C18: 対象箇所 | E18: 覆工 | M18: 変状 部位 | N18: 対象箇所 | P18: 覆工
C19: 部位区分 | E19: アーチ（天端） | N19: 部位区分 | P19: アーチ（右側）
B20: 変状種類 | E20: 漏水 | M20: 変状種類 | P20: 漏水
B21: 対策 区分 | C21: 変状区分 | E21: 漏水 | M21: 対策 区分 | N21: 変状区分 | P21: 漏水
C22: 応急措置前 | N22: 応急措置前
C23: 応急措置後 | E23: Ⅱa | N23: 応急措置後 | P23: Ⅱb
B24: 変状の発生範囲及び規模 | E24: 8.2m×0.5m | H24: 前回変状の発生範囲及び規模 | J24: － | M24: 変状の発生範囲及び規模 | P24: 4.4m×0.5m | S24: 前回変状の発生範囲及び規模 | U24: －
B25: 対策履歴 | E25: 漏水対策工 | H25: 実施状況（実施日） | M25: 対策履歴 | P25: 監視(日常巡視) | S25: 実施状況（実施日）
B26: メモ | E26: 8.2m×0.5mの覆工からの漏水、滴水、1滴/分 （写真番号S24-1・前回Ⅱa判定） | M26: メモ | P26: 4.4m×0.5mのひび割れからの漏水、にじみ （写真番号S24-2・前回Ⅱb判定）
C27: ※ 応急措置後の対策区分について添付すること。また、点検前に 実施された措置によりⅠと判定された箇所も添付すること。 | N27: ※ 変状の発生範囲の規模とは、対策を行う際に参考となる変状の長さや面積をいう。
N28: ※ 応急措置を実施しないで決定した変状の対策区分は、対策区分の応急措置後の欄に記入すること。
C29: ※ たたき落としを実施した場合は、実施後の写真を添付すること。 | N29: ※ 変状の発生範囲の規模は、面積・寸法を記載すること。(ひび割れ幅のみmmとし、その他をm表記とする)
C30: ※ 附属物の取付状態に関する異常写真は別途、任意の書式でとりまとめること。 | N30: ※ 構造用鋼材以外の異物に伴ううき・はく離については、メモ欄に異物の概要を記入すること。

Sheet 様式D-1-1 (25)
B2: ■定期点検記録様式 変状写真台帳【様式D-1-1】 | R2: 施設ID | T2: =+'様式A-1'!$W$2 -> 34.14178,132.16544
B3: フリガナ | E3: =+'様式A-1'!$D$3 -> ハシラノズイドウ | H3: 路 線 名 | J3: =+'様式A-1'!$J$3 -> 主要地方道岩国玖珂線 | M3: 定期点検実施者 | P3: =+'様式B (1)'!$S$3 -> 復建調査設計株式会社 | S3: 定期点検年月日 | U3: =+'様式B (1)'!$P$2 -> 45867
B4: 名 称 | E4: =+'様式A-1'!$D$4 -> 柱野隧道 | H4: 管理者名 | J4: =+'様式A-1'!$R$3 -> 山口県岩国土木建築事務所 | P4: =+'様式B (1)'!$S$4 -> 小笠原洋
B5: 写真 番号 | C5: 覆工スパン 番号 | E5: S24 | M5: 写真 番号 | N5: 覆工スパン 番号 | P5: S25
C6: 変状番号 | E6: 3 | N6: 変状番号 | P6: 1
B7: 変状 部位 | C7: 対象箇所 | E7: 覆工 | M7: 変状 部位 | N7: 対象箇所 | P7: 覆工
C8: 部位区分 | E8: 横断目地（右側） | N8: 部位区分 | P8: アーチ（左側）
B9: 変状種類 | E9: 漏水 | M9: 変状種類 | P9: 漏水
B10: 対策 区分 | C10: 変状区分 | E10: 漏水 | M10: 対策 区分 | N10: 変状区分 | P10: 漏水
C11: 応急措置前 | N11: 応急措置前
C12: 応急措置後 | E12: Ⅱb | N12: 応急措置後 | P12: Ⅱb
B13: 変状の発生範囲及び規模 | E13: 4.3m×0.5m | H13: 前回変状の発生範囲及び規模 | J13: － | M13: 変状の発生範囲及び規模 | P13: 4.4m×0.5m | S13: 前回変状の発生範囲及び規模 | U13: －
B14: 対策履歴 | E14: 監視(日常巡視) | H14: 実施状況（実施日） | M14: 対策履歴 | P14: 監視(日常巡視) | S14: 実施状況（実施日）
B15: メモ | E15: 4.3m×0.5mの横断方向目地からの漏水、にじみ （写真番号S24-3、S24-4・前回Ⅱa判定） | M15: メモ | P15: 4.4m×0.5mのひび割れからの漏水、にじみ （写真番号S25-2・前回Ⅱb判定）
B16: 写真 番号 | C16: 覆工スパン 番号 | E16: S25 | M16: 写真 番号 | N16: 覆工スパン 番号 | P16: S26
C17: 変状番号 | E17: 2 | N17: 変状番号 | P17: 1
B18: 変状 部位 | C18: 対象箇所 | E18: 覆工 | M18: 変状 部位 | N18: 対象箇所 | P18: 覆工
C19: 部位区分 | E19: アーチ（左側） | N19: 部位区分 | P19: アーチ（左側）
B20: 変状種類 | E20: 漏水 | M20: 変状種類 | P20: 漏水
B21: 対策 区分 | C21: 変状区分 | E21: 漏水 | M21: 対策 区分 | N21: 変状区分 | P21: 漏水
C22: 応急措置前 | N22: 応急措置前
C23: 応急措置後 | E23: Ⅱb | N23: 応急措置後 | P23: Ⅱb
B24: 変状の発生範囲及び規模 | E24: 4.5m×0.5m | H24: 前回変状の発生範囲及び規模 | J24: － | M24: 変状の発生範囲及び規模 | P24: 6.1m×0.8m | S24: 前回変状の発生範囲及び規模 | U24: －
B25: 対策履歴 | E25: 監視(日常巡視) | H25: 実施状況（実施日） | M25: 対策履歴 | P25: 監視(日常巡視) | S25: 実施状況（実施日）
B26: メモ | E26: 4.5m×0.5mのはく落跡からの漏水、にじみ | M26: メモ | P26: 6.1m×0.8mのひび割れからの漏水、にじみ （写真番号S26-2・前回Ⅱb判定）
C27: ※ 応急措置後の対策区分について添付すること。また、点検前に 実施された措置によりⅠと判定された箇所も添付すること。 | N27: ※ 変状の発生範囲の規模とは、対策を行う際に参考となる変状の長さや面積をいう。
N28: ※ 応急措置を実施しないで決定した変状の対策区分は、対策区分の応急措置後の欄に記入すること。
C29: ※ たたき落としを実施した場合は、実施後の写真を添付すること。 | N29: ※ 変状の発生範囲の規模は、面積・寸法を記載すること。(ひび割れ幅のみmmとし、その他をm表記とする)
C30: ※ 附属物の取付状態に関する異常写真は別途、任意の書式でとりまとめること。 | N30: ※ 構造用鋼材以外の異物に伴ううき・はく離については、メモ欄に異物の概要を記入すること。

Sheet 様式D-1-1 (26)
B2: ■定期点検記録様式 変状写真台帳【様式D-1-1】 | R2: 施設ID | T2: =+'様式A-1'!$W$2 -> 34.14178,132.16544
B3: フリガナ | E3: =+'様式A-1'!$D$3 -> ハシラノズイドウ | H3: 路 線 名 | J3: =+'様式A-1'!$J$3 -> 主要地方道岩国玖珂線 | M3: 定期点検実施者 | P3: =+'様式B (1)'!$S$3 -> 復建調査設計株式会社 | S3: 定期点検年月日 | U3: =+'様式B (1)'!$P$2 -> 45867
B4: 名 称 | E4: =+'様式A-1'!$D$4 -> 柱野隧道 | H4: 管理者名 | J4: =+'様式A-1'!$R$3 -> 山口県岩国土木建築事務所 | P4: =+'様式B (1)'!$S$4 -> 小笠原洋
B5: 写真 番号 | C5: 覆工スパン 番号 | E5: S26 | M5: 写真 番号 | N5: 覆工スパン 番号 | P5: S27
C6: 変状番号 | E6: 2 | N6: 変状番号 | P6: 1
B7: 変状 部位 | C7: 対象箇所 | E7: 覆工 | M7: 変状 部位 | N7: 対象箇所 | P7: 覆工
C8: 部位区分 | E8: アーチ（右側） | N8: 部位区分 | P8: アーチ（左側）
B9: 変状種類 | E9: 漏水 | M9: 変状種類 | P9: うき・はく離
B10: 対策 区分 | C10: 変状区分 | E10: 漏水 | M10: 対策 区分 | N10: 変状区分 | P10: 材質劣化
C11: 応急措置前 | N11: 応急措置前
C12: 応急措置後 | E12: Ⅱb | N12: 応急措置後 | P12: Ⅰ
B13: 変状の発生範囲及び規模 | E13: 4.8m×2.0m | H13: 前回変状の発生範囲及び規模 | J13: － | M13: 変状の発生範囲及び規模 | P13: － | S13: 前回変状の発生範囲及び規模 | U13: 0.2m×0.5m
B14: 対策履歴 | E14: 監視(日常巡視) | H14: 実施状況（実施日） | M14: 対策履歴 | P14: 補修済 | S14: 実施状況（実施日）
B15: メモ | E15: 4.8m×2.0mの補修箇所からの漏水、にじみ （写真番号S26-3・前回Ⅱa判定） | M15: メモ | P15: 補修済（FRPネット工） （写真番号S27-1・前回Ⅲ判定）
B16: 写真 番号 | C16: 覆工スパン 番号 | E16: S27 | M16: 写真 番号 | N16: 覆工スパン 番号 | P16: S27
C17: 変状番号 | E17: 2 | N17: 変状番号 | P17: 3
B18: 変状 部位 | C18: 対象箇所 | E18: 覆工 | M18: 変状 部位 | N18: 対象箇所 | P18: 覆工
C19: 部位区分 | E19: アーチ（右側） | N19: 部位区分 | P19: 横断目地（右側）
B20: 変状種類 | E20: 漏水 | M20: 変状種類 | P20: うき・はく離
B21: 対策 区分 | C21: 変状区分 | E21: 漏水 | M21: 対策 区分 | N21: 変状区分 | P21: 材質劣化
C22: 応急措置前 | N22: 応急措置前 | P22: Ⅱa
C23: 応急措置後 | E23: Ⅱb | N23: 応急措置後 | P23: Ⅰ
B24: 変状の発生範囲及び規模 | E24: 7.7m×0.5m | H24: 前回変状の発生範囲及び規模 | J24: － | M24: 変状の発生範囲及び規模 | P24: 0.65m×0.2m | S24: 前回変状の発生範囲及び規模 | U24: －
B25: 対策履歴 | E25: 監視(日常巡視) | H25: 実施状況（実施日） | M25: 対策履歴 | P25: 叩き落とし | S25: 実施状況（実施日） | U25: 45867
B26: メモ | E26: ひび割れからの漏水跡 （写真番号S27-2・前回Ⅱb判定） | M26: メモ | P26: 0.65m×0.2mのうきをハンマーで叩き落とした
C27: ※ 応急措置後の対策区分について添付すること。また、点検前に 実施された措置によりⅠと判定された箇所も添付すること。 | N27: ※ 変状の発生範囲の規模とは、対策を行う際に参考となる変状の長さや面積をいう。
N28: ※ 応急措置を実施しないで決定した変状の対策区分は、対策区分の応急措置後の欄に記入すること。
C29: ※ たたき落としを実施した場合は、実施後の写真を添付すること。 | N29: ※ 変状の発生範囲の規模は、面積・寸法を記載すること。(ひび割れ幅のみmmとし、その他をm表記とする)
C30: ※ 附属物の取付状態に関する異常写真は別途、任意の書式でとりまとめること。 | N30: ※ 構造用鋼材以外の異物に伴ううき・はく離については、メモ欄に異物の概要を記入すること。

Sheet 様式D-1-1 (27)
B2: ■定期点検記録様式 変状写真台帳【様式D-1-1】 | R2: 施設ID | T2: =+'様式A-1'!$W$2 -> 34.14178,132.16544
B3: フリガナ | E3: =+'様式A-1'!$D$3 -> ハシラノズイドウ | H3: 路 線 名 | J3: =+'様式A-1'!$J$3 -> 主要地方道岩国玖珂線 | M3: 定期点検実施者 | P3: =+'様式B (1)'!$S$3 -> 復建調査設計株式会社 | S3: 定期点検年月日 | U3: =+'様式B (1)'!$P$2 -> 45867
B4: 名 称 | E4: =+'様式A-1'!$D$4 -> 柱野隧道 | H4: 管理者名 | J4: =+'様式A-1'!$R$3 -> 山口県岩国土木建築事務所 | P4: =+'様式B (1)'!$S$4 -> 小笠原洋
B5: 写真 番号 | C5: 覆工スパン 番号 | E5: S27 | M5: 写真 番号 | N5: 覆工スパン 番号 | P5: S27
C6: 変状番号 | E6: 4 | N6: 変状番号 | P6: 5
B7: 変状 部位 | C7: 対象箇所 | E7: 覆工 | M7: 変状 部位 | N7: 対象箇所 | P7: 覆工
C8: 部位区分 | E8: 横断目地（右側） | N8: 部位区分 | P8: アーチ（右側）
B9: 変状種類 | E9: 漏水 | M9: 変状種類 | P9: うき・はく離
B10: 対策 区分 | C10: 変状区分 | E10: 漏水 | M10: 対策 区分 | N10: 変状区分 | P10: 材質劣化
C11: 応急措置前 | N11: 応急措置前
C12: 応急措置後 | E12: Ⅱb | N12: 応急措置後 | P12: Ⅱb
B13: 変状の発生範囲及び規模 | E13: 4.9m×0.5m | H13: 前回変状の発生範囲及び規模 | J13: － | M13: 変状の発生範囲及び規模 | P13: 0.4m×0.25m | S13: 前回変状の発生範囲及び規模 | U13: 0.4m×0.25m
B14: 対策履歴 | E14: 監視(日常巡視) | H14: 実施状況（実施日） | M14: 対策履歴 | P14: 監視(日常巡視) | S14: 実施状況（実施日）
B15: メモ | E15: 4.9m×0.5mの横断方向目地からの漏水、にじみ （写真番号S27-7・前回Ⅱb判定） | M15: メモ | P15: 0.4m×0.25mの補修箇所の打音異常部 （写真番号S27-5・前回Ⅱb判定）
B16: 写真 番号 | C16: 覆工スパン 番号 | E16: S28 | M16: 写真 番号 | N16: 覆工スパン 番号 | P16: S28
C17: 変状番号 | E17: 1 | N17: 変状番号 | P17: 2
B18: 変状 部位 | C18: 対象箇所 | E18: 覆工 | M18: 変状 部位 | N18: 対象箇所 | P18: 覆工
C19: 部位区分 | E19: アーチ（左側） | N19: 部位区分 | P19: 横断目地（左側）
B20: 変状種類 | E20: 漏水 | M20: 変状種類 | P20: 漏水
B21: 対策 区分 | C21: 変状区分 | E21: 漏水 | M21: 対策 区分 | N21: 変状区分 | P21: 漏水
C22: 応急措置前 | N22: 応急措置前
C23: 応急措置後 | E23: Ⅱb | N23: 応急措置後 | P23: Ⅱb
B24: 変状の発生範囲及び規模 | E24: 4.4m×0.5m | H24: 前回変状の発生範囲及び規模 | J24: － | M24: 変状の発生範囲及び規模 | P24: 6.4m×0.5m | S24: 前回変状の発生範囲及び規模 | U24: －
B25: 対策履歴 | E25: 監視(日常巡視) | H25: 実施状況（実施日） | M25: 対策履歴 | P25: 監視(日常巡視) | S25: 実施状況（実施日）
B26: メモ | E26: 4.4m×0.5mのひび割れからの漏水、にじみ （写真番号S28-2・前回Ⅱb判定） | M26: メモ | P26: 6.4m×0.5mの横断方向目地からの漏水、にじみ （写真番号S28-7・前回Ⅱb判定）
C27: ※ 応急措置後の対策区分について添付すること。また、点検前に 実施された措置によりⅠと判定された箇所も添付すること。 | N27: ※ 変状の発生範囲の規模とは、対策を行う際に参考となる変状の長さや面積をいう。
N28: ※ 応急措置を実施しないで決定した変状の対策区分は、対策区分の応急措置後の欄に記入すること。
C29: ※ たたき落としを実施した場合は、実施後の写真を添付すること。 | N29: ※ 変状の発生範囲の規模は、面積・寸法を記載すること。(ひび割れ幅のみmmとし、その他をm表記とする)
C30: ※ 附属物の取付状態に関する異常写真は別途、任意の書式でとりまとめること。 | N30: ※ 構造用鋼材以外の異物に伴ううき・はく離については、メモ欄に異物の概要を記入すること。

Sheet 様式D-1-1 (28)
B2: ■定期点検記録様式 変状写真台帳【様式D-1-1】 | R2: 施設ID | T2: =+'様式A-1'!$W$2 -> 34.14178,132.16544
B3: フリガナ | E3: =+'様式A-1'!$D$3 -> ハシラノズイドウ | H3: 路 線 名 | J3: =+'様式A-1'!$J$3 -> 主要地方道岩国玖珂線 | M3: 定期点検実施者 | P3: =+'様式B (1)'!$S$3 -> 復建調査設計株式会社 | S3: 定期点検年月日 | U3: =+'様式B (1)'!$P$2 -> 45867
B4: 名 称 | E4: =+'様式A-1'!$D$4 -> 柱野隧道 | H4: 管理者名 | J4: =+'様式A-1'!$R$3 -> 山口県岩国土木建築事務所 | P4: =+'様式B (1)'!$S$4 -> 小笠原洋
B5: 写真 番号 | C5: 覆工スパン 番号 | E5: S28 | M5: 写真 番号 | N5: 覆工スパン 番号 | P5: S28
C6: 変状番号 | E6: 3 | N6: 変状番号 | P6: 4
B7: 変状 部位 | C7: 対象箇所 | E7: 覆工 | M7: 変状 部位 | N7: 対象箇所 | P7: 覆工
C8: 部位区分 | E8: 横断目地（右側） | N8: 部位区分 | P8: アーチ（右側）
B9: 変状種類 | E9: 漏水 | M9: 変状種類 | P9: 漏水
B10: 対策 区分 | C10: 変状区分 | E10: 漏水 | M10: 対策 区分 | N10: 変状区分 | P10: 漏水
C11: 応急措置前 | N11: 応急措置前
C12: 応急措置後 | E12: Ⅱb | N12: 応急措置後 | P12: Ⅱb
B13: 変状の発生範囲及び規模 | E13: 7.5m×0.5m | H13: 前回変状の発生範囲及び規模 | J13: － | M13: 変状の発生範囲及び規模 | P13: 3.7m×0.5m | S13: 前回変状の発生範囲及び規模 | U13: －
B14: 対策履歴 | E14: 監視(日常巡視) | H14: 実施状況（実施日） | M14: 対策履歴 | P14: 監視(日常巡視) | S14: 実施状況（実施日）
B15: メモ | E15: 横断方向目地からの漏水跡 （写真番号S28-8、S28-9・前回Ⅱb判定） | M15: メモ | P15: ひび割れからの漏水跡 （写真番号S28-6・前回Ⅱb判定）
B16: 写真 番号 | C16: 覆工スパン 番号 | E16: S29 | M16: 写真 番号 | N16: 覆工スパン 番号 | P16: S29
C17: 変状番号 | E17: 1 | N17: 変状番号 | P17: 2
B18: 変状 部位 | C18: 対象箇所 | E18: 覆工 | M18: 変状 部位 | N18: 対象箇所 | P18: 覆工
C19: 部位区分 | E19: 横断目地（左側） | N19: 部位区分 | P19: 横断目地（右側）
B20: 変状種類 | E20: 漏水 | M20: 変状種類 | P20: 漏水
B21: 対策 区分 | C21: 変状区分 | E21: 漏水 | M21: 対策 区分 | N21: 変状区分 | P21: 漏水
C22: 応急措置前 | N22: 応急措置前
C23: 応急措置後 | E23: Ⅱb | N23: 応急措置後 | P23: Ⅱb
B24: 変状の発生範囲及び規模 | E24: 5.3m×0.5m | H24: 前回変状の発生範囲及び規模 | J24: － | M24: 変状の発生範囲及び規模 | P24: 7.1m×0.5m | S24: 前回変状の発生範囲及び規模 | U24: －
B25: 対策履歴 | E25: 監視(日常巡視) | H25: 実施状況（実施日） | M25: 対策履歴 | P25: 監視(日常巡視) | S25: 実施状況（実施日）
B26: メモ | E26: 5.3m×0.5mの横断方向目地からの漏水、にじみ （写真番号S29-7・前回Ⅱb判定） | M26: メモ | P26: 7.1m×0.5mの横断方向目地からの漏水、にじみ
C27: ※ 応急措置後の対策区分について添付すること。また、点検前に 実施された措置によりⅠと判定された箇所も添付すること。 | N27: ※ 変状の発生範囲の規模とは、対策を行う際に参考となる変状の長さや面積をいう。
N28: ※ 応急措置を実施しないで決定した変状の対策区分は、対策区分の応急措置後の欄に記入すること。
C29: ※ たたき落としを実施した場合は、実施後の写真を添付すること。 | N29: ※ 変状の発生範囲の規模は、面積・寸法を記載すること。(ひび割れ幅のみmmとし、その他をm表記とする)
C30: ※ 附属物の取付状態に関する異常写真は別途、任意の書式でとりまとめること。 | N30: ※ 構造用鋼材以外の異物に伴ううき・はく離については、メモ欄に異物の概要を記入すること。

Sheet 様式D-1-1 (29)
B2: ■定期点検記録様式 変状写真台帳【様式D-1-1】 | R2: 施設ID | T2: =+'様式A-1'!$W$2 -> 34.14178,132.16544
B3: フリガナ | E3: =+'様式A-1'!$D$3 -> ハシラノズイドウ | H3: 路 線 名 | J3: =+'様式A-1'!$J$3 -> 主要地方道岩国玖珂線 | M3: 定期点検実施者 | P3: =+'様式B (1)'!$S$3 -> 復建調査設計株式会社 | S3: 定期点検年月日 | U3: =+'様式B (1)'!$P$2 -> 45867
B4: 名 称 | E4: =+'様式A-1'!$D$4 -> 柱野隧道 | H4: 管理者名 | J4: =+'様式A-1'!$R$3 -> 山口県岩国土木建築事務所 | P4: =+'様式B (1)'!$S$4 -> 小笠原洋
B5: 写真 番号 | C5: 覆工スパン 番号 | E5: S29 | M5: 写真 番号 | N5: 覆工スパン 番号 | P5: S30
C6: 変状番号 | E6: 3 | N6: 変状番号 | P6: 1
B7: 変状 部位 | C7: 対象箇所 | E7: 覆工 | M7: 変状 部位 | N7: 対象箇所 | P7: 覆工
C8: 部位区分 | E8: アーチ（右側） | N8: 部位区分 | P8: 横断目地（左側）
B9: 変状種類 | E9: 漏水 | M9: 変状種類 | P9: 漏水
B10: 対策 区分 | C10: 変状区分 | E10: 漏水 | M10: 対策 区分 | N10: 変状区分 | P10: 漏水
C11: 応急措置前 | N11: 応急措置前
C12: 応急措置後 | E12: Ⅱb | N12: 応急措置後 | P12: Ⅱb
B13: 変状の発生範囲及び規模 | E13: 4.7m×0.5m | H13: 前回変状の発生範囲及び規模 | J13: － | M13: 変状の発生範囲及び規模 | P13: 8.5m×0.5m | S13: 前回変状の発生範囲及び規模 | U13: －
B14: 対策履歴 | E14: 監視(日常巡視) | H14: 実施状況（実施日） | M14: 対策履歴 | P14: 監視(日常巡視) | S14: 実施状況（実施日）
B15: メモ | E15: 4.7m×0.5mの覆工からの漏水、にじみ （写真番号S29-5・前回Ⅱb判定） | M15: メモ | P15: 横断方向目地からの漏水跡 （写真番号S31-1・前回Ⅱb判定）
B16: 写真 番号 | C16: 覆工スパン 番号 | E16: S30 | M16: 写真 番号 | N16: 覆工スパン 番号 | P16: S31
C17: 変状番号 | E17: 2 | N17: 変状番号 | P17: 1
B18: 変状 部位 | C18: 対象箇所 | E18: 覆工 | M18: 変状 部位 | N18: 対象箇所 | P18: 覆工
C19: 部位区分 | E19: アーチ（右側） | N19: 部位区分 | P19: アーチ（左側）
B20: 変状種類 | E20: 漏水 | M20: 変状種類 | P20: 漏水
B21: 対策 区分 | C21: 変状区分 | E21: 漏水 | M21: 対策 区分 | N21: 変状区分 | P21: 漏水
C22: 応急措置前 | N22: 応急措置前
C23: 応急措置後 | E23: Ⅱa | N23: 応急措置後 | P23: Ⅱa
B24: 変状の発生範囲及び規模 | E24: 8.8m×0.5m | H24: 前回変状の発生範囲及び規模 | J24: － | M24: 変状の発生範囲及び規模 | P24: 5.1m×0.5m | S24: 前回変状の発生範囲及び規模 | U24: －
B25: 対策履歴 | E25: 漏水対策工 | H25: 実施状況（実施日） | M25: 対策履歴 | P25: 漏水対策工 | S25: 実施状況（実施日）
B26: メモ | E26: 8.8m×0.5mの覆工からの漏水、滴水、1滴/分 （写真番号S30-5・前回Ⅱa判定） | M26: メモ | P26: 5.1m×0.5mの旧照明の箱抜き跡からの漏水、滴水、8滴/分
C27: ※ 応急措置後の対策区分について添付すること。また、点検前に 実施された措置によりⅠと判定された箇所も添付すること。 | N27: ※ 変状の発生範囲の規模とは、対策を行う際に参考となる変状の長さや面積をいう。
N28: ※ 応急措置を実施しないで決定した変状の対策区分は、対策区分の応急措置後の欄に記入すること。
C29: ※ たたき落としを実施した場合は、実施後の写真を添付すること。 | N29: ※ 変状の発生範囲の規模は、面積・寸法を記載すること。(ひび割れ幅のみmmとし、その他をm表記とする)
C30: ※ 附属物の取付状態に関する異常写真は別途、任意の書式でとりまとめること。 | N30: ※ 構造用鋼材以外の異物に伴ううき・はく離については、メモ欄に異物の概要を記入すること。

Sheet 様式D-1-1 (30)
B2: ■定期点検記録様式 変状写真台帳【様式D-1-1】 | R2: 施設ID | T2: =+'様式A-1'!$W$2 -> 34.14178,132.16544
B3: フリガナ | E3: =+'様式A-1'!$D$3 -> ハシラノズイドウ | H3: 路 線 名 | J3: =+'様式A-1'!$J$3 -> 主要地方道岩国玖珂線 | M3: 定期点検実施者 | P3: =+'様式B (1)'!$S$3 -> 復建調査設計株式会社 | S3: 定期点検年月日 | U3: =+'様式B (1)'!$P$2 -> 45867
B4: 名 称 | E4: =+'様式A-1'!$D$4 -> 柱野隧道 | H4: 管理者名 | J4: =+'様式A-1'!$R$3 -> 山口県岩国土木建築事務所 | P4: =+'様式B (1)'!$S$4 -> 小笠原洋
B5: 写真 番号 | C5: 覆工スパン 番号 | E5: S31 | M5: 写真 番号 | N5: 覆工スパン 番号 | P5: S31
C6: 変状番号 | E6: 2 | N6: 変状番号 | P6: 3
B7: 変状 部位 | C7: 対象箇所 | E7: 覆工 | M7: 変状 部位 | N7: 対象箇所 | P7: 覆工
C8: 部位区分 | E8: アーチ（左側） | N8: 部位区分 | P8: アーチ（右側）
B9: 変状種類 | E9: 漏水 | M9: 変状種類 | P9: 漏水
B10: 対策 区分 | C10: 変状区分 | E10: 漏水 | M10: 対策 区分 | N10: 変状区分 | P10: 漏水
C11: 応急措置前 | N11: 応急措置前
C12: 応急措置後 | E12: Ⅱb | N12: 応急措置後 | P12: Ⅱa
B13: 変状の発生範囲及び規模 | E13: 7.6m×0.5m | H13: 前回変状の発生範囲及び規模 | J13: － | M13: 変状の発生範囲及び規模 | P13: 8.4m×0.5m | S13: 前回変状の発生範囲及び規模 | U13: －
B14: 対策履歴 | E14: 監視(日常巡視) | H14: 実施状況（実施日） | M14: 対策履歴 | P14: 漏水対策工 | S14: 実施状況（実施日）
B15: メモ | E15: 覆工からの漏水跡 （写真番号S31-7・前回Ⅱb判定） | M15: メモ | P15: 8.4m×0.5mの補修箇所からの漏水、滴水、3滴/分 （写真番号S31-6・前回Ⅱb判定）
B16: 写真 番号 | C16: 覆工スパン 番号 | E16: S31 | M16: 写真 番号 | N16: 覆工スパン 番号 | P16: S31
C17: 変状番号 | E17: 4 | N17: 変状番号 | P17: 5
B18: 変状 部位 | C18: 対象箇所 | E18: 覆工 | M18: 変状 部位 | N18: 対象箇所 | P18: 覆工
C19: 部位区分 | E19: 横断目地（右側） | N19: 部位区分 | P19: 横断目地（右側）
B20: 変状種類 | E20: 漏水 | M20: 変状種類 | P20: うき・はく離
B21: 対策 区分 | C21: 変状区分 | E21: 漏水 | M21: 対策 区分 | N21: 変状区分 | P21: 材質劣化
C22: 応急措置前 | N22: 応急措置前
C23: 応急措置後 | E23: Ⅱb | N23: 応急措置後 | P23: Ⅲ
B24: 変状の発生範囲及び規模 | E24: 9.4m×0.5m | H24: 前回変状の発生範囲及び規模 | J24: － | M24: 変状の発生範囲及び規模 | P24: 0.4m×0.2m | S24: 前回変状の発生範囲及び規模 | U24: 0.4m×0.2m
B25: 対策履歴 | E25: 監視(日常巡視) | H25: 実施状況（実施日） | M25: 対策履歴 | P25: はく落対策工 | S25: 実施状況（実施日）
B26: メモ | E26: 9.4m×0.5mの横断方向目地からの漏水、にじみ （写真番号S31-11・前回Ⅱb判定） | M26: メモ | P26: 0.4m×0.2mの横断方向目地周辺の補修箇所の材質劣化による打音異常部 （写真番号S31-2・前回Ⅲ判定）
C27: ※ 応急措置後の対策区分について添付すること。また、点検前に 実施された措置によりⅠと判定された箇所も添付すること。 | N27: ※ 変状の発生範囲の規模とは、対策を行う際に参考となる変状の長さや面積をいう。
N28: ※ 応急措置を実施しないで決定した変状の対策区分は、対策区分の応急措置後の欄に記入すること。
C29: ※ たたき落としを実施した場合は、実施後の写真を添付すること。 | N29: ※ 変状の発生範囲の規模は、面積・寸法を記載すること。(ひび割れ幅のみmmとし、その他をm表記とする)
C30: ※ 附属物の取付状態に関する異常写真は別途、任意の書式でとりまとめること。 | N30: ※ 構造用鋼材以外の異物に伴ううき・はく離については、メモ欄に異物の概要を記入すること。

Sheet 様式D-1-1 (31)
B2: ■定期点検記録様式 変状写真台帳【様式D-1-1】 | R2: 施設ID | T2: =+'様式A-1'!$W$2 -> 34.14178,132.16544
B3: フリガナ | E3: =+'様式A-1'!$D$3 -> ハシラノズイドウ | H3: 路 線 名 | J3: =+'様式A-1'!$J$3 -> 主要地方道岩国玖珂線 | M3: 定期点検実施者 | P3: =+'様式B (1)'!$S$3 -> 復建調査設計株式会社 | S3: 定期点検年月日 | U3: =+'様式B (1)'!$P$2 -> 45867
B4: 名 称 | E4: =+'様式A-1'!$D$4 -> 柱野隧道 | H4: 管理者名 | J4: =+'様式A-1'!$R$3 -> 山口県岩国土木建築事務所 | P4: =+'様式B (1)'!$S$4 -> 小笠原洋
B5: 写真 番号 | C5: 覆工スパン 番号 | E5: S31 | M5: 写真 番号 | N5: 覆工スパン 番号 | P5: S31
C6: 変状番号 | E6: 6 | N6: 変状番号 | P6: 7
B7: 変状 部位 | C7: 対象箇所 | E7: 覆工 | M7: 変状 部位 | N7: 対象箇所 | P7: 覆工
C8: 部位区分 | E8: アーチ（右側） | N8: 部位区分 | P8: 横断目地（右側）
B9: 変状種類 | E9: 漏水 | M9: 変状種類 | P9: 漏水
B10: 対策 区分 | C10: 変状区分 | E10: 漏水 | M10: 対策 区分 | N10: 変状区分 | P10: 漏水
C11: 応急措置前 | N11: 応急措置前
C12: 応急措置後 | E12: Ⅱa | N12: 応急措置後 | P12: Ⅱb
B13: 変状の発生範囲及び規模 | E13: 6.4m×0.9m | H13: 前回変状の発生範囲及び規模 | J13: － | M13: 変状の発生範囲及び規模 | P13: 6.2m×0.5m | S13: 前回変状の発生範囲及び規模 | U13: －
B14: 対策履歴 | E14: 漏水対策工 | H14: 実施状況（実施日） | M14: 対策履歴 | P14: 監視(日常巡視) | S14: 実施状況（実施日）
B15: メモ | E15: 6.4m×0.9mのひび割れからの漏水、滴水、24滴/分 | M15: メモ | P15: 6.2m×0.5mの横断方向目地からの漏水、にじみ
B16: 写真 番号 | C16: 覆工スパン 番号 | E16: S32 | M16: 写真 番号 | N16: 覆工スパン 番号 | P16: S32
C17: 変状番号 | E17: 1 | N17: 変状番号 | P17: 2
B18: 変状 部位 | C18: 対象箇所 | E18: 覆工 | M18: 変状 部位 | N18: 対象箇所 | P18: 覆工
C19: 部位区分 | E19: アーチ（左側） | N19: 部位区分 | P19: アーチ（右側）
B20: 変状種類 | E20: うき・はく離 | M20: 変状種類 | P20: 漏水
B21: 対策 区分 | C21: 変状区分 | E21: 材質劣化 | M21: 対策 区分 | N21: 変状区分 | P21: 漏水
C22: 応急措置前 | N22: 応急措置前
C23: 応急措置後 | E23: Ⅲ | N23: 応急措置後 | P23: Ⅱa
B24: 変状の発生範囲及び規模 | E24: 0.4m×0.4m | H24: 前回変状の発生範囲及び規模 | J24: 0.4m×0.4m | M24: 変状の発生範囲及び規模 | P24: 7.9m×0.5m | S24: 前回変状の発生範囲及び規模 | U24: －
B25: 対策履歴 | E25: はく落対策工 | H25: 実施状況（実施日） | M25: 対策履歴 | P25: 漏水対策工 | S25: 実施状況（実施日）
B26: メモ | E26: 0.4m×0.4mの補修箇所の材質劣化による打音異常部 （写真番号S32-4・前回Ⅲ判定） | M26: メモ | P26: 7.9m×0.5mの覆工からの漏水、滴水、3滴/分 （写真番号S32-7・前回Ⅱb判定）
C27: ※ 応急措置後の対策区分について添付すること。また、点検前に 実施された措置によりⅠと判定された箇所も添付すること。 | N27: ※ 変状の発生範囲の規模とは、対策を行う際に参考となる変状の長さや面積をいう。
N28: ※ 応急措置を実施しないで決定した変状の対策区分は、対策区分の応急措置後の欄に記入すること。
C29: ※ たたき落としを実施した場合は、実施後の写真を添付すること。 | N29: ※ 変状の発生範囲の規模は、面積・寸法を記載すること。(ひび割れ幅のみmmとし、その他をm表記とする)
C30: ※ 附属物の取付状態に関する異常写真は別途、任意の書式でとりまとめること。 | N30: ※ 構造用鋼材以外の異物に伴ううき・はく離については、メモ欄に異物の概要を記入すること。

Sheet 様式D-1-1 (32)
B2: ■定期点検記録様式 変状写真台帳【様式D-1-1】 | R2: 施設ID | T2: =+'様式A-1'!$W$2 -> 34.14178,132.16544
B3: フリガナ | E3: =+'様式A-1'!$D$3 -> ハシラノズイドウ | H3: 路 線 名 | J3: =+'様式A-1'!$J$3 -> 主要地方道岩国玖珂線 | M3: 定期点検実施者 | P3: =+'様式B (1)'!$S$3 -> 復建調査設計株式会社 | S3: 定期点検年月日 | U3: =+'様式B (1)'!$P$2 -> 45867
B4: 名 称 | E4: =+'様式A-1'!$D$4 -> 柱野隧道 | H4: 管理者名 | J4: =+'様式A-1'!$R$3 -> 山口県岩国土木建築事務所 | P4: =+'様式B (1)'!$S$4 -> 小笠原洋
B5: 写真 番号 | C5: 覆工スパン 番号 | E5: S32 | M5: 写真 番号 | N5: 覆工スパン 番号 | P5: S32
C6: 変状番号 | E6: 3 | N6: 変状番号 | P6: 4
B7: 変状 部位 | C7: 対象箇所 | E7: 覆工 | M7: 変状 部位 | N7: 対象箇所 | P7: 覆工
C8: 部位区分 | E8: 横断目地（右側） | N8: 部位区分 | P8: アーチ（右側）
B9: 変状種類 | E9: 漏水 | M9: 変状種類 | P9: 漏水
B10: 対策 区分 | C10: 変状区分 | E10: 漏水 | M10: 対策 区分 | N10: 変状区分 | P10: 漏水
C11: 応急措置前 | N11: 応急措置前
C12: 応急措置後 | E12: Ⅱb | N12: 応急措置後 | P12: Ⅱb
B13: 変状の発生範囲及び規模 | E13: 8.2m×0.5m | H13: 前回変状の発生範囲及び規模 | J13: － | M13: 変状の発生範囲及び規模 | P13: 5.9m×0.5m | S13: 前回変状の発生範囲及び規模 | U13: －
B14: 対策履歴 | E14: 監視(日常巡視) | H14: 実施状況（実施日） | M14: 対策履歴 | P14: 監視(日常巡視) | S14: 実施状況（実施日）
B15: メモ | E15: 横断方向目地からの漏水跡 （写真番号S32-9・前回Ⅱb判定） | M15: メモ | P15: 補修箇所からの漏水跡 （写真番号S32-3・前回Ⅱb判定）
B16: 写真 番号 | C16: 覆工スパン 番号 | E16: S32 | M16: 写真 番号 | N16: 覆工スパン 番号 | P16: S33
C17: 変状番号 | E17: 5 | N17: 変状番号 | P17: 1
B18: 変状 部位 | C18: 対象箇所 | E18: 覆工 | M18: 変状 部位 | N18: 対象箇所 | P18: 覆工
C19: 部位区分 | E19: 横断目地（右側） | N19: 部位区分 | P19: アーチ（左側）
B20: 変状種類 | E20: 漏水 | M20: 変状種類 | P20: 漏水
B21: 対策 区分 | C21: 変状区分 | E21: 漏水 | M21: 対策 区分 | N21: 変状区分 | P21: 漏水
C22: 応急措置前 | N22: 応急措置前
C23: 応急措置後 | E23: Ⅱb | N23: 応急措置後 | P23: Ⅱb
B24: 変状の発生範囲及び規模 | E24: 4.7m×0.5m | H24: 前回変状の発生範囲及び規模 | J24: － | M24: 変状の発生範囲及び規模 | P24: 4.7m×0.7m | S24: 前回変状の発生範囲及び規模 | U24: －
B25: 対策履歴 | E25: 監視(日常巡視) | H25: 実施状況（実施日） | M25: 対策履歴 | P25: 監視(日常巡視) | S25: 実施状況（実施日）
B26: メモ | E26: 4.7m×0.5mの横断方向目地からの漏水、にじみ | M26: メモ | P26: 旧照明の箱抜き跡からの漏水跡 （写真番号S33-3・前回Ⅱb判定）
C27: ※ 応急措置後の対策区分について添付すること。また、点検前に 実施された措置によりⅠと判定された箇所も添付すること。 | N27: ※ 変状の発生範囲の規模とは、対策を行う際に参考となる変状の長さや面積をいう。
N28: ※ 応急措置を実施しないで決定した変状の対策区分は、対策区分の応急措置後の欄に記入すること。
C29: ※ たたき落としを実施した場合は、実施後の写真を添付すること。 | N29: ※ 変状の発生範囲の規模は、面積・寸法を記載すること。(ひび割れ幅のみmmとし、その他をm表記とする)
C30: ※ 附属物の取付状態に関する異常写真は別途、任意の書式でとりまとめること。 | N30: ※ 構造用鋼材以外の異物に伴ううき・はく離については、メモ欄に異物の概要を記入すること。

Sheet 様式D-1-1 (33)
B2: ■定期点検記録様式 変状写真台帳【様式D-1-1】 | R2: 施設ID | T2: =+'様式A-1'!$W$2 -> 34.14178,132.16544
B3: フリガナ | E3: =+'様式A-1'!$D$3 -> ハシラノズイドウ | H3: 路 線 名 | J3: =+'様式A-1'!$J$3 -> 主要地方道岩国玖珂線 | M3: 定期点検実施者 | P3: =+'様式B (1)'!$S$3 -> 復建調査設計株式会社 | S3: 定期点検年月日 | U3: =+'様式B (1)'!$P$2 -> 45867
B4: 名 称 | E4: =+'様式A-1'!$D$4 -> 柱野隧道 | H4: 管理者名 | J4: =+'様式A-1'!$R$3 -> 山口県岩国土木建築事務所 | P4: =+'様式B (1)'!$S$4 -> 小笠原洋
B5: 写真 番号 | C5: 覆工スパン 番号 | E5: S33 | M5: 写真 番号 | N5: 覆工スパン 番号 | P5: S34
C6: 変状番号 | E6: 2 | N6: 変状番号 | P6: 1
B7: 変状 部位 | C7: 対象箇所 | E7: 覆工 | M7: 変状 部位 | N7: 対象箇所 | P7: 覆工
C8: 部位区分 | E8: 横断目地（右側） | N8: 部位区分 | P8: 横断目地（右側）
B9: 変状種類 | E9: 漏水 | M9: 変状種類 | P9: うき・はく離
B10: 対策 区分 | C10: 変状区分 | E10: 漏水 | M10: 対策 区分 | N10: 変状区分 | P10: 材質劣化
C11: 応急措置前 | N11: 応急措置前
C12: 応急措置後 | E12: Ⅱb | N12: 応急措置後 | P12: Ⅰ
B13: 変状の発生範囲及び規模 | E13: 5.2m×0.5m | H13: 前回変状の発生範囲及び規模 | J13: － | M13: 変状の発生範囲及び規模 | P13: － | S13: 前回変状の発生範囲及び規模 | U13: 0.64m×0.1m
B14: 対策履歴 | E14: 監視(日常巡視) | H14: 実施状況（実施日） | M14: 対策履歴 | P14: 補修済 | S14: 実施状況（実施日）
B15: メモ | E15: 5.2m×0.5mの横断方向目地からの漏水、にじみ | M15: メモ | P15: 補修済（FRPネット工） （写真番号S34-6・前回Ⅲ判定）
B16: 写真 番号 | C16: 覆工スパン 番号 | E16: S35 | M16: 写真 番号 | N16: 覆工スパン 番号 | P16: S35
C17: 変状番号 | E17: 1 | N17: 変状番号 | P17: 2
B18: 変状 部位 | C18: 対象箇所 | E18: 覆工 | M18: 変状 部位 | N18: 対象箇所 | P18: 覆工
C19: 部位区分 | E19: アーチ（左側） | N19: 部位区分 | P19: アーチ（左側）
B20: 変状種類 | E20: うき・はく離 | M20: 変状種類 | P20: うき・はく離
B21: 対策 区分 | C21: 変状区分 | E21: 材質劣化 | M21: 対策 区分 | N21: 変状区分 | P21: 材質劣化
C22: 応急措置前 | E22: Ⅱa | N22: 応急措置前 | P22: Ⅱa
C23: 応急措置後 | E23: Ⅰ | N23: 応急措置後 | P23: Ⅰ
B24: 変状の発生範囲及び規模 | E24: 1.0m×0.5m | H24: 前回変状の発生範囲及び規模 | J24: － | M24: 変状の発生範囲及び規模 | P24: 0.5m×0.6m | S24: 前回変状の発生範囲及び規模 | U24: －
B25: 対策履歴 | E25: 叩き落とし | H25: 実施状況（実施日） | J25: 45867 | M25: 対策履歴 | P25: 叩き落とし | S25: 実施状況（実施日） | U25: 45867
B26: メモ | E26: 1.0m×0.5mのうきをハンマーで叩き落とした | M26: メモ | P26: 0.5m×0.6mのうきをハンマーで叩き落とした
C27: ※ 応急措置後の対策区分について添付すること。また、点検前に 実施された措置によりⅠと判定された箇所も添付すること。 | N27: ※ 変状の発生範囲の規模とは、対策を行う際に参考となる変状の長さや面積をいう。
N28: ※ 応急措置を実施しないで決定した変状の対策区分は、対策区分の応急措置後の欄に記入すること。
C29: ※ たたき落としを実施した場合は、実施後の写真を添付すること。 | N29: ※ 変状の発生範囲の規模は、面積・寸法を記載すること。(ひび割れ幅のみmmとし、その他をm表記とする)
C30: ※ 附属物の取付状態に関する異常写真は別途、任意の書式でとりまとめること。 | N30: ※ 構造用鋼材以外の異物に伴ううき・はく離については、メモ欄に異物の概要を記入すること。

Sheet 様式D-1-1 (34)
B2: ■定期点検記録様式 変状写真台帳【様式D-1-1】 | R2: 施設ID | T2: =+'様式A-1'!$W$2 -> 34.14178,132.16544
B3: フリガナ | E3: =+'様式A-1'!$D$3 -> ハシラノズイドウ | H3: 路 線 名 | J3: =+'様式A-1'!$J$3 -> 主要地方道岩国玖珂線 | M3: 定期点検実施者 | P3: =+'様式B (1)'!$S$3 -> 復建調査設計株式会社 | S3: 定期点検年月日 | U3: =+'様式B (1)'!$P$2 -> 45867
B4: 名 称 | E4: =+'様式A-1'!$D$4 -> 柱野隧道 | H4: 管理者名 | J4: =+'様式A-1'!$R$3 -> 山口県岩国土木建築事務所 | P4: =+'様式B (1)'!$S$4 -> 小笠原洋
B5: 写真 番号 | C5: 覆工スパン 番号 | E5: S35 | M5: 写真 番号 | N5: 覆工スパン 番号 | P5: S35
C6: 変状番号 | E6: 3 | N6: 変状番号 | P6: 4
B7: 変状 部位 | C7: 対象箇所 | E7: 覆工 | M7: 変状 部位 | N7: 対象箇所 | P7: 覆工
C8: 部位区分 | E8: アーチ（左側） | N8: 部位区分 | P8: アーチ（左側）
B9: 変状種類 | E9: 漏水 | M9: 変状種類 | P9: うき・はく離
B10: 対策 区分 | C10: 変状区分 | E10: 漏水 | M10: 対策 区分 | N10: 変状区分 | P10: 材質劣化
C11: 応急措置前 | N11: 応急措置前
C12: 応急措置後 | E12: Ⅱb | N12: 応急措置後 | P12: Ⅰ
B13: 変状の発生範囲及び規模 | E13: 6.0m×0.5m | H13: 前回変状の発生範囲及び規模 | J13: － | M13: 変状の発生範囲及び規模 | P13: － | S13: 前回変状の発生範囲及び規模 | U13: 0.5m×0.3m
B14: 対策履歴 | E14: 監視(日常巡視) | H14: 実施状況（実施日） | M14: 対策履歴 | P14: 補修済 | S14: 実施状況（実施日）
B15: メモ | E15: ひび割れからの漏水跡 （写真番号S35-8・前回Ⅱb判定） | M15: メモ | P15: 補修済（FRPネット工） （写真番号S35-3・前回Ⅲ判定）
B16: 写真 番号 | C16: 覆工スパン 番号 | E16: S35 | M16: 写真 番号 | N16: 覆工スパン 番号 | P16: S35
C17: 変状番号 | E17: 5 | N17: 変状番号 | P17: 6
B18: 変状 部位 | C18: 対象箇所 | E18: 覆工 | M18: 変状 部位 | N18: 対象箇所 | P18: 覆工
C19: 部位区分 | E19: アーチ（右側） | N19: 部位区分 | P19: アーチ（右側）
B20: 変状種類 | E20: その他 | M20: 変状種類 | P20: 漏水
B21: 対策 区分 | C21: 変状区分 | E21: 材質劣化 | M21: 対策 区分 | N21: 変状区分 | P21: 漏水
C22: 応急措置前 | N22: 応急措置前
C23: 応急措置後 | E23: Ⅱb | N23: 応急措置後 | P23: Ⅱa
B24: 変状の発生範囲及び規模 | E24: 0.3m×1.0m | H24: 前回変状の発生範囲及び規模 | J24: 0.2m×0.9m | M24: 変状の発生範囲及び規模 | P24: 5.1m×0.85m | S24: 前回変状の発生範囲及び規模 | U24: －
B25: 対策履歴 | E25: 監視(日常巡視) | H25: 実施状況（実施日） | M25: 対策履歴 | P25: 漏水対策工 | S25: 実施状況（実施日）
B26: メモ | E26: 0.3m×1.0mの豆板（ジャンカ）、打音異常なし （写真番号S35-4・前回Ⅱb判定） | M26: メモ | P26: 5.1m×0.85mの旧照明の箱抜き跡からの漏水、滴水、60滴/分 （写真番号S35-5、S35-6・前回Ⅱa判定）
C27: ※ 応急措置後の対策区分について添付すること。また、点検前に 実施された措置によりⅠと判定された箇所も添付すること。 | N27: ※ 変状の発生範囲の規模とは、対策を行う際に参考となる変状の長さや面積をいう。
N28: ※ 応急措置を実施しないで決定した変状の対策区分は、対策区分の応急措置後の欄に記入すること。
C29: ※ たたき落としを実施した場合は、実施後の写真を添付すること。 | N29: ※ 変状の発生範囲の規模は、面積・寸法を記載すること。(ひび割れ幅のみmmとし、その他をm表記とする)
C30: ※ 附属物の取付状態に関する異常写真は別途、任意の書式でとりまとめること。 | N30: ※ 構造用鋼材以外の異物に伴ううき・はく離については、メモ欄に異物の概要を記入すること。

Sheet 様式D-1-1 (35)
B2: ■定期点検記録様式 変状写真台帳【様式D-1-1】 | R2: 施設ID | T2: =+'様式A-1'!$W$2 -> 34.14178,132.16544
B3: フリガナ | E3: =+'様式A-1'!$D$3 -> ハシラノズイドウ | H3: 路 線 名 | J3: =+'様式A-1'!$J$3 -> 主要地方道岩国玖珂線 | M3: 定期点検実施者 | P3: =+'様式B (1)'!$S$3 -> 復建調査設計株式会社 | S3: 定期点検年月日 | U3: =+'様式B (1)'!$P$2 -> 45867
B4: 名 称 | E4: =+'様式A-1'!$D$4 -> 柱野隧道 | H4: 管理者名 | J4: =+'様式A-1'!$R$3 -> 山口県岩国土木建築事務所 | P4: =+'様式B (1)'!$S$4 -> 小笠原洋
B5: 写真 番号 | C5: 覆工スパン 番号 | E5: S35 | M5: 写真 番号 | N5: 覆工スパン 番号 | P5: S35
C6: 変状番号 | E6: 7 | N6: 変状番号 | P6: 8
B7: 変状 部位 | C7: 対象箇所 | E7: 覆工 | M7: 変状 部位 | N7: 対象箇所 | P7: 覆工
C8: 部位区分 | E8: アーチ（右側） | N8: 部位区分 | P8: アーチ（右側）
B9: 変状種類 | E9: うき・はく離 | M9: 変状種類 | P9: 漏水
B10: 対策 区分 | C10: 変状区分 | E10: 材質劣化 | M10: 対策 区分 | N10: 変状区分 | P10: 漏水
C11: 応急措置前 | N11: 応急措置前
C12: 応急措置後 | E12: Ⅰ | N12: 応急措置後 | P12: Ⅱb
B13: 変状の発生範囲及び規模 | E13: － | H13: 前回変状の発生範囲及び規模 | J13: 0.8m×0.4m | M13: 変状の発生範囲及び規模 | P13: 3.7m×0.5m | S13: 前回変状の発生範囲及び規模 | U13: －
B14: 対策履歴 | E14: 補修済 | H14: 実施状況（実施日） | M14: 対策履歴 | P14: 監視(日常巡視) | S14: 実施状況（実施日）
B15: メモ | E15: 補修済（FRPネット工） （写真番号S35-1・前回Ⅲ判定） | M15: メモ | P15: 3.7m×0.5mの覆工からの漏水、にじみ
B16: 写真 番号 | C16: 覆工スパン 番号 | E16: S36 | M16: 写真 番号 | N16: 覆工スパン 番号 | P16: S36
C17: 変状番号 | E17: 1 | N17: 変状番号 | P17: 2
B18: 変状 部位 | C18: 対象箇所 | E18: 覆工 | M18: 変状 部位 | N18: 対象箇所 | P18: 覆工
C19: 部位区分 | E19: アーチ（天端） | N19: 部位区分 | P19: アーチ（右側）
B20: 変状種類 | E20: うき・はく離 | M20: 変状種類 | P20: 漏水
B21: 対策 区分 | C21: 変状区分 | E21: 材質劣化 | M21: 対策 区分 | N21: 変状区分 | P21: 漏水
C22: 応急措置前 | N22: 応急措置前
C23: 応急措置後 | E23: Ⅰ | N23: 応急措置後 | P23: Ⅱb
B24: 変状の発生範囲及び規模 | E24: － | H24: 前回変状の発生範囲及び規模 | J24: 0.18m×0.12m | M24: 変状の発生範囲及び規模 | P24: 8.0m×0.5m | S24: 前回変状の発生範囲及び規模 | U24: －
B25: 対策履歴 | E25: 補修済 | H25: 実施状況（実施日） | M25: 対策履歴 | P25: 監視(日常巡視) | S25: 実施状況（実施日）
B26: メモ | E26: 補修済（FRPネット工） （写真番号S36-5・前回Ⅲ判定） | M26: メモ | P26: 8.0m×0.5mのひび割れからの漏水、にじみ
C27: ※ 応急措置後の対策区分について添付すること。また、点検前に 実施された措置によりⅠと判定された箇所も添付すること。 | N27: ※ 変状の発生範囲の規模とは、対策を行う際に参考となる変状の長さや面積をいう。
N28: ※ 応急措置を実施しないで決定した変状の対策区分は、対策区分の応急措置後の欄に記入すること。
C29: ※ たたき落としを実施した場合は、実施後の写真を添付すること。 | N29: ※ 変状の発生範囲の規模は、面積・寸法を記載すること。(ひび割れ幅のみmmとし、その他をm表記とする)
C30: ※ 附属物の取付状態に関する異常写真は別途、任意の書式でとりまとめること。 | N30: ※ 構造用鋼材以外の異物に伴ううき・はく離については、メモ欄に異物の概要を記入すること。

Sheet 様式D-1-1 (36)
B2: ■定期点検記録様式 変状写真台帳【様式D-1-1】 | R2: 施設ID | T2: =+'様式A-1'!$W$2 -> 34.14178,132.16544
B3: フリガナ | E3: =+'様式A-1'!$D$3 -> ハシラノズイドウ | H3: 路 線 名 | J3: =+'様式A-1'!$J$3 -> 主要地方道岩国玖珂線 | M3: 定期点検実施者 | P3: =+'様式B (1)'!$S$3 -> 復建調査設計株式会社 | S3: 定期点検年月日 | U3: =+'様式B (1)'!$P$2 -> 45867
B4: 名 称 | E4: =+'様式A-1'!$D$4 -> 柱野隧道 | H4: 管理者名 | J4: =+'様式A-1'!$R$3 -> 山口県岩国土木建築事務所 | P4: =+'様式B (1)'!$S$4 -> 小笠原洋
B5: 写真 番号 | C5: 覆工スパン 番号 | E5: S36 | M5: 写真 番号 | N5: 覆工スパン 番号 | P5: S36
C6: 変状番号 | E6: 3 | N6: 変状番号 | P6: 4
B7: 変状 部位 | C7: 対象箇所 | E7: 覆工 | M7: 変状 部位 | N7: 対象箇所 | P7: 覆工
C8: 部位区分 | E8: アーチ（右側） | N8: 部位区分 | P8: アーチ（右側）
B9: 変状種類 | E9: 漏水 | M9: 変状種類 | P9: 漏水
B10: 対策 区分 | C10: 変状区分 | E10: 漏水 | M10: 対策 区分 | N10: 変状区分 | P10: 漏水
C11: 応急措置前 | N11: 応急措置前
C12: 応急措置後 | E12: Ⅱb | N12: 応急措置後 | P12: Ⅱb
B13: 変状の発生範囲及び規模 | E13: 5.2m×0.7m | H13: 前回変状の発生範囲及び規模 | J13: － | M13: 変状の発生範囲及び規模 | P13: 5.1m×0.5m | S13: 前回変状の発生範囲及び規模 | U13: －
B14: 対策履歴 | E14: 監視(日常巡視) | H14: 実施状況（実施日） | M14: 対策履歴 | P14: 監視(日常巡視) | S14: 実施状況（実施日）
B15: メモ | E15: 5.2m×0.7mの旧照明の箱抜き跡からの漏水、にじみ | M15: メモ | P15: 5.1m×0.5mの覆工からの漏水、にじみ
B16: 写真 番号 | C16: 覆工スパン 番号 | E16: S36 | M16: 写真 番号 | N16: 覆工スパン 番号 | P16: S37
C17: 変状番号 | E17: 5 | N17: 変状番号 | P17: 1
B18: 変状 部位 | C18: 対象箇所 | E18: 覆工 | M18: 変状 部位 | N18: 対象箇所 | P18: 覆工
C19: 部位区分 | E19: アーチ（右側） | N19: 部位区分 | P19: 側壁（左側）
B20: 変状種類 | E20: 漏水 | M20: 変状種類 | P20: 漏水
B21: 対策 区分 | C21: 変状区分 | E21: 漏水 | M21: 対策 区分 | N21: 変状区分 | P21: 漏水
C22: 応急措置前 | N22: 応急措置前
C23: 応急措置後 | E23: Ⅱb | N23: 応急措置後 | P23: Ⅱb
B24: 変状の発生範囲及び規模 | E24: 4.8m×0.7m | H24: 前回変状の発生範囲及び規模 | J24: － | M24: 変状の発生範囲及び規模 | P24: 2.0m×0.5m | S24: 前回変状の発生範囲及び規模 | U24: －
B25: 対策履歴 | E25: 監視(日常巡視) | H25: 実施状況（実施日） | M25: 対策履歴 | P25: 監視(日常巡視) | S25: 実施状況（実施日）
B26: メモ | E26: 4.8m×0.7mの旧照明の箱抜き跡からの漏水、にじみ | M26: メモ | P26: 2.0m×0.5mの側壁からの漏水、にじみ （写真番号S36-7・前回Ⅱa判定）
C27: ※ 応急措置後の対策区分について添付すること。また、点検前に 実施された措置によりⅠと判定された箇所も添付すること。 | N27: ※ 変状の発生範囲の規模とは、対策を行う際に参考となる変状の長さや面積をいう。
N28: ※ 応急措置を実施しないで決定した変状の対策区分は、対策区分の応急措置後の欄に記入すること。
C29: ※ たたき落としを実施した場合は、実施後の写真を添付すること。 | N29: ※ 変状の発生範囲の規模は、面積・寸法を記載すること。(ひび割れ幅のみmmとし、その他をm表記とする)
C30: ※ 附属物の取付状態に関する異常写真は別途、任意の書式でとりまとめること。 | N30: ※ 構造用鋼材以外の異物に伴ううき・はく離については、メモ欄に異物の概要を記入すること。

Sheet 様式D-1-1 (37)
B2: ■定期点検記録様式 変状写真台帳【様式D-1-1】 | R2: 施設ID | T2: =+'様式A-1'!$W$2 -> 34.14178,132.16544
B3: フリガナ | E3: =+'様式A-1'!$D$3 -> ハシラノズイドウ | H3: 路 線 名 | J3: =+'様式A-1'!$J$3 -> 主要地方道岩国玖珂線 | M3: 定期点検実施者 | P3: =+'様式B (1)'!$S$3 -> 復建調査設計株式会社 | S3: 定期点検年月日 | U3: =+'様式B (1)'!$P$2 -> 45867
B4: 名 称 | E4: =+'様式A-1'!$D$4 -> 柱野隧道 | H4: 管理者名 | J4: =+'様式A-1'!$R$3 -> 山口県岩国土木建築事務所 | P4: =+'様式B (1)'!$S$4 -> 小笠原洋
B5: 写真 番号 | C5: 覆工スパン 番号 | E5: S37 | M5: 写真 番号 | N5: 覆工スパン 番号 | P5: S37
C6: 変状番号 | E6: 2 | N6: 変状番号 | P6: 3
B7: 変状 部位 | C7: 対象箇所 | E7: 覆工 | M7: 変状 部位 | N7: 対象箇所 | P7: 覆工
C8: 部位区分 | E8: アーチ（左側） | N8: 部位区分 | P8: アーチ（左側）
B9: 変状種類 | E9: 漏水 | M9: 変状種類 | P9: 漏水
B10: 対策 区分 | C10: 変状区分 | E10: 漏水 | M10: 対策 区分 | N10: 変状区分 | P10: 漏水
C11: 応急措置前 | N11: 応急措置前
C12: 応急措置後 | E12: Ⅱb | N12: 応急措置後 | P12: Ⅱa
B13: 変状の発生範囲及び規模 | E13: 5.9m×0.5m | H13: 前回変状の発生範囲及び規模 | J13: － | M13: 変状の発生範囲及び規模 | P13: 6.9m×0.5m | S13: 前回変状の発生範囲及び規模 | U13: －
B14: 対策履歴 | E14: 監視(日常巡視) | H14: 実施状況（実施日） | M14: 対策履歴 | P14: 漏水対策工 | S14: 実施状況（実施日）
B15: メモ | E15: ひび割れからの漏水跡 （写真番号S37-6・前回Ⅱb判定） | M15: メモ | P15: 6.9m×0.5mの覆工からの漏水、滴水、2滴/分 （写真番号S37-1・前回Ⅱa判定）
B16: 写真 番号 | C16: 覆工スパン 番号 | E16: S37 | M16: 写真 番号 | N16: 覆工スパン 番号 | P16: S37
C17: 変状番号 | E17: 4 | N17: 変状番号 | P17: 5
B18: 変状 部位 | C18: 対象箇所 | E18: 覆工 | M18: 変状 部位 | N18: 対象箇所 | P18: 覆工
C19: 部位区分 | E19: アーチ（天端） | N19: 部位区分 | P19: アーチ（右側）
B20: 変状種類 | E20: うき・はく離 | M20: 変状種類 | P20: 漏水
B21: 対策 区分 | C21: 変状区分 | E21: 材質劣化 | M21: 対策 区分 | N21: 変状区分 | P21: 漏水
C22: 応急措置前 | N22: 応急措置前
C23: 応急措置後 | E23: Ⅰ | N23: 応急措置後 | P23: Ⅱb
B24: 変状の発生範囲及び規模 | E24: － | H24: 前回変状の発生範囲及び規模 | J24: 1.8m×0.1m | M24: 変状の発生範囲及び規模 | P24: 6.5m×0.5m | S24: 前回変状の発生範囲及び規模 | U24: －
B25: 対策履歴 | E25: 補修済 | H25: 実施状況（実施日） | M25: 対策履歴 | P25: 監視(日常巡視) | S25: 実施状況（実施日）
B26: メモ | E26: 補修済（FRPネット工） （写真番号S37-7・前回Ⅲ判定） | M26: メモ | P26: 補修箇所からの漏水跡 （写真番号S37-4・前回Ⅱb判定）
C27: ※ 応急措置後の対策区分について添付すること。また、点検前に 実施された措置によりⅠと判定された箇所も添付すること。 | N27: ※ 変状の発生範囲の規模とは、対策を行う際に参考となる変状の長さや面積をいう。
N28: ※ 応急措置を実施しないで決定した変状の対策区分は、対策区分の応急措置後の欄に記入すること。
C29: ※ たたき落としを実施した場合は、実施後の写真を添付すること。 | N29: ※ 変状の発生範囲の規模は、面積・寸法を記載すること。(ひび割れ幅のみmmとし、その他をm表記とする)
C30: ※ 附属物の取付状態に関する異常写真は別途、任意の書式でとりまとめること。 | N30: ※ 構造用鋼材以外の異物に伴ううき・はく離については、メモ欄に異物の概要を記入すること。

Sheet 様式D-1-1 (38)
B2: ■定期点検記録様式 変状写真台帳【様式D-1-1】 | R2: 施設ID | T2: =+'様式A-1'!$W$2 -> 34.14178,132.16544
B3: フリガナ | E3: =+'様式A-1'!$D$3 -> ハシラノズイドウ | H3: 路 線 名 | J3: =+'様式A-1'!$J$3 -> 主要地方道岩国玖珂線 | M3: 定期点検実施者 | P3: =+'様式B (1)'!$S$3 -> 復建調査設計株式会社 | S3: 定期点検年月日 | U3: =+'様式B (1)'!$P$2 -> 45867
B4: 名 称 | E4: =+'様式A-1'!$D$4 -> 柱野隧道 | H4: 管理者名 | J4: =+'様式A-1'!$R$3 -> 山口県岩国土木建築事務所 | P4: =+'様式B (1)'!$S$4 -> 小笠原洋
B5: 写真 番号 | C5: 覆工スパン 番号 | E5: S37 | M5: 写真 番号 | N5: 覆工スパン 番号 | P5: S37
C6: 変状番号 | E6: 6 | N6: 変状番号 | P6: 7
B7: 変状 部位 | C7: 対象箇所 | E7: 覆工 | M7: 変状 部位 | N7: 対象箇所 | P7: 覆工
C8: 部位区分 | E8: アーチ（右側） | N8: 部位区分 | P8: アーチ（右側）
B9: 変状種類 | E9: 漏水 | M9: 変状種類 | P9: うき・はく離
B10: 対策 区分 | C10: 変状区分 | E10: 漏水 | M10: 対策 区分 | N10: 変状区分 | P10: 材質劣化
C11: 応急措置前 | N11: 応急措置前
C12: 応急措置後 | E12: Ⅱb | N12: 応急措置後 | P12: Ⅱb
B13: 変状の発生範囲及び規模 | E13: 6.2m×0.5m | H13: 前回変状の発生範囲及び規模 | J13: － | M13: 変状の発生範囲及び規模 | P13: 0.25m×0.2m | S13: 前回変状の発生範囲及び規模 | U13: 0.25m×0.2m
B14: 対策履歴 | E14: 監視(日常巡視) | H14: 実施状況（実施日） | M14: 対策履歴 | P14: 監視(日常巡視) | S14: 実施状況（実施日）
B15: メモ | E15: 補修箇所からの漏水跡 （写真番号S37-3・前回Ⅱb判定） | M15: メモ | P15: 0.25m×0.2mの補修箇所の打音異常部 （写真番号S37-5・前回Ⅱb判定）
B16: 写真 番号 | C16: 覆工スパン 番号 | E16: S38 | M16: 写真 番号 | N16: 覆工スパン 番号 | P16: S38
C17: 変状番号 | E17: 1 | N17: 変状番号 | P17: 2
B18: 変状 部位 | C18: 対象箇所 | E18: 覆工 | M18: 変状 部位 | N18: 対象箇所 | P18: 覆工
C19: 部位区分 | E19: アーチ（右側） | N19: 部位区分 | P19: アーチ（右側）
B20: 変状種類 | E20: 漏水 | M20: 変状種類 | P20: 漏水
B21: 対策 区分 | C21: 変状区分 | E21: 漏水 | M21: 対策 区分 | N21: 変状区分 | P21: 漏水
C22: 応急措置前 | N22: 応急措置前
C23: 応急措置後 | E23: Ⅱb | N23: 応急措置後 | P23: Ⅱb
B24: 変状の発生範囲及び規模 | E24: 7.4m×0.5m | H24: 前回変状の発生範囲及び規模 | J24: － | M24: 変状の発生範囲及び規模 | P24: 5.2m×0.5m | S24: 前回変状の発生範囲及び規模 | U24: －
B25: 対策履歴 | E25: 監視(日常巡視) | H25: 実施状況（実施日） | M25: 対策履歴 | P25: 監視(日常巡視) | S25: 実施状況（実施日）
B26: メモ | E26: ひび割れからの漏水跡 （写真番号S38-1・前回Ⅱb判定） | M26: メモ | P26: 5.2m×0.5mの覆工からの漏水、にじみ （写真番号S38-2・前回Ⅱb判定）
C27: ※ 応急措置後の対策区分について添付すること。また、点検前に 実施された措置によりⅠと判定された箇所も添付すること。 | N27: ※ 変状の発生範囲の規模とは、対策を行う際に参考となる変状の長さや面積をいう。
N28: ※ 応急措置を実施しないで決定した変状の対策区分は、対策区分の応急措置後の欄に記入すること。
C29: ※ たたき落としを実施した場合は、実施後の写真を添付すること。 | N29: ※ 変状の発生範囲の規模は、面積・寸法を記載すること。(ひび割れ幅のみmmとし、その他をm表記とする)
C30: ※ 附属物の取付状態に関する異常写真は別途、任意の書式でとりまとめること。 | N30: ※ 構造用鋼材以外の異物に伴ううき・はく離については、メモ欄に異物の概要を記入すること。

Sheet 様式D-1-1 (39)
B2: ■定期点検記録様式 変状写真台帳【様式D-1-1】 | R2: 施設ID | T2: =+'様式A-1'!$W$2 -> 34.14178,132.16544
B3: フリガナ | E3: =+'様式A-1'!$D$3 -> ハシラノズイドウ | H3: 路 線 名 | J3: =+'様式A-1'!$J$3 -> 主要地方道岩国玖珂線 | M3: 定期点検実施者 | P3: =+'様式B (1)'!$S$3 -> 復建調査設計株式会社 | S3: 定期点検年月日 | U3: =+'様式B (1)'!$P$2 -> 45867
B4: 名 称 | E4: =+'様式A-1'!$D$4 -> 柱野隧道 | H4: 管理者名 | J4: =+'様式A-1'!$R$3 -> 山口県岩国土木建築事務所 | P4: =+'様式B (1)'!$S$4 -> 小笠原洋
B5: 写真 番号 | C5: 覆工スパン 番号 | E5: S38 | M5: 写真 番号 | N5: 覆工スパン 番号 | P5: S39
C6: 変状番号 | E6: 3 | N6: 変状番号 | P6: 1
B7: 変状 部位 | C7: 対象箇所 | E7: 覆工 | M7: 変状 部位 | N7: 対象箇所 | P7: 覆工
C8: 部位区分 | E8: アーチ（右側） | N8: 部位区分 | P8: アーチ（右側）
B9: 変状種類 | E9: 漏水 | M9: 変状種類 | P9: 漏水
B10: 対策 区分 | C10: 変状区分 | E10: 漏水 | M10: 対策 区分 | N10: 変状区分 | P10: 漏水
C11: 応急措置前 | N11: 応急措置前
C12: 応急措置後 | E12: Ⅱb | N12: 応急措置後 | P12: Ⅱb
B13: 変状の発生範囲及び規模 | E13: 4.1m×0.5m | H13: 前回変状の発生範囲及び規模 | J13: － | M13: 変状の発生範囲及び規模 | P13: 7.8m×0.5m | S13: 前回変状の発生範囲及び規模 | U13: －
B14: 対策履歴 | E14: 監視(日常巡視) | H14: 実施状況（実施日） | M14: 対策履歴 | P14: 監視(日常巡視) | S14: 実施状況（実施日）
B15: メモ | E15: 4.1m×0.5mの覆工からの漏水、にじみ （写真番号S38-2・前回Ⅱb判定） | M15: メモ | P15: 7.8m×0.5mの覆工からの漏水、にじみ （写真番号S39-1、S39-2、S39-3・前回Ⅱa判定）
B16: 写真 番号 | C16: 覆工スパン 番号 | E16: S39 | M16: 写真 番号 | N16: 覆工スパン 番号 | P16: S39
C17: 変状番号 | E17: 2 | N17: 変状番号 | P17: 3
B18: 変状 部位 | C18: 対象箇所 | E18: 覆工 | M18: 変状 部位 | N18: 対象箇所 | P18: 覆工
C19: 部位区分 | E19: アーチ（右側） | N19: 部位区分 | P19: アーチ（右側）
B20: 変状種類 | E20: うき・はく離 | M20: 変状種類 | P20: 漏水
B21: 対策 区分 | C21: 変状区分 | E21: 材質劣化 | M21: 対策 区分 | N21: 変状区分 | P21: 漏水
C22: 応急措置前 | N22: 応急措置前
C23: 応急措置後 | E23: Ⅰ | N23: 応急措置後 | P23: Ⅱb
B24: 変状の発生範囲及び規模 | E24: － | H24: 前回変状の発生範囲及び規模 | J24: 1.37m×0.25m、0.6m×0.2m | M24: 変状の発生範囲及び規模 | P24: 5.2m×0.7m | S24: 前回変状の発生範囲及び規模 | U24: －
B25: 対策履歴 | E25: 補修済 | H25: 実施状況（実施日） | M25: 対策履歴 | P25: 監視(日常巡視) | S25: 実施状況（実施日）
B26: メモ | E26: 補修済（FRPネット工） （写真番号S39-6・前回Ⅲ判定） | M26: メモ | P26: 5.2m×0.7mの補修箇所からの漏水、にじみ （写真番号S39-5・前回Ⅱb判定）
C27: ※ 応急措置後の対策区分について添付すること。また、点検前に 実施された措置によりⅠと判定された箇所も添付すること。 | N27: ※ 変状の発生範囲の規模とは、対策を行う際に参考となる変状の長さや面積をいう。
N28: ※ 応急措置を実施しないで決定した変状の対策区分は、対策区分の応急措置後の欄に記入すること。
C29: ※ たたき落としを実施した場合は、実施後の写真を添付すること。 | N29: ※ 変状の発生範囲の規模は、面積・寸法を記載すること。(ひび割れ幅のみmmとし、その他をm表記とする)
C30: ※ 附属物の取付状態に関する異常写真は別途、任意の書式でとりまとめること。 | N30: ※ 構造用鋼材以外の異物に伴ううき・はく離については、メモ欄に異物の概要を記入すること。

Sheet 様式D-1-1 (40)
B2: ■定期点検記録様式 変状写真台帳【様式D-1-1】 | R2: 施設ID | T2: =+'様式A-1'!$W$2 -> 34.14178,132.16544
B3: フリガナ | E3: =+'様式A-1'!$D$3 -> ハシラノズイドウ | H3: 路 線 名 | J3: =+'様式A-1'!$J$3 -> 主要地方道岩国玖珂線 | M3: 定期点検実施者 | P3: =+'様式B (1)'!$S$3 -> 復建調査設計株式会社 | S3: 定期点検年月日 | U3: =+'様式B (1)'!$P$2 -> 45867
B4: 名 称 | E4: =+'様式A-1'!$D$4 -> 柱野隧道 | H4: 管理者名 | J4: =+'様式A-1'!$R$3 -> 山口県岩国土木建築事務所 | P4: =+'様式B (1)'!$S$4 -> 小笠原洋
B5: 写真 番号 | C5: 覆工スパン 番号 | E5: S39 | M5: 写真 番号 | N5: 覆工スパン 番号 | P5: S39
C6: 変状番号 | E6: 4 | N6: 変状番号 | P6: 5
B7: 変状 部位 | C7: 対象箇所 | E7: 覆工 | M7: 変状 部位 | N7: 対象箇所 | P7: 覆工
C8: 部位区分 | E8: アーチ（右側） | N8: 部位区分 | P8: アーチ（右側）
B9: 変状種類 | E9: 漏水 | M9: 変状種類 | P9: 漏水
B10: 対策 区分 | C10: 変状区分 | E10: 漏水 | M10: 対策 区分 | N10: 変状区分 | P10: 漏水
C11: 応急措置前 | N11: 応急措置前
C12: 応急措置後 | E12: Ⅱb | N12: 応急措置後 | P12: Ⅱb
B13: 変状の発生範囲及び規模 | E13: 5.0m×0.5m | H13: 前回変状の発生範囲及び規模 | J13: － | M13: 変状の発生範囲及び規模 | P13: 4.8m×0.7m | S13: 前回変状の発生範囲及び規模 | U13: －
B14: 対策履歴 | E14: 監視(日常巡視) | H14: 実施状況（実施日） | M14: 対策履歴 | P14: 監視(日常巡視) | S14: 実施状況（実施日）
B15: メモ | E15: 覆工からの漏水跡 （写真番号S39-8・前回Ⅱb判定） | M15: メモ | P15: 4.8m×0.7mの旧照明の箱抜き跡からの漏水、にじみ
B16: 写真 番号 | C16: 覆工スパン 番号 | E16: S39 | M16: 写真 番号 | N16: 覆工スパン 番号 | P16: S40
C17: 変状番号 | E17: 6 | N17: 変状番号 | P17: 1
B18: 変状 部位 | C18: 対象箇所 | E18: 覆工 | M18: 変状 部位 | N18: 対象箇所 | P18: 覆工
C19: 部位区分 | E19: アーチ（右側） | N19: 部位区分 | P19: アーチ（左側）
B20: 変状種類 | E20: 漏水 | M20: 変状種類 | P20: 漏水
B21: 対策 区分 | C21: 変状区分 | E21: 漏水 | M21: 対策 区分 | N21: 変状区分 | P21: 漏水
C22: 応急措置前 | N22: 応急措置前
C23: 応急措置後 | E23: Ⅱb | N23: 応急措置後 | P23: Ⅱb
B24: 変状の発生範囲及び規模 | E24: 4.3m×0.7m | H24: 前回変状の発生範囲及び規模 | J24: － | M24: 変状の発生範囲及び規模 | P24: 4.9m×0.5m | S24: 前回変状の発生範囲及び規模 | U24: －
B25: 対策履歴 | E25: 監視(日常巡視) | H25: 実施状況（実施日） | M25: 対策履歴 | P25: 監視(日常巡視) | S25: 実施状況（実施日）
B26: メモ | E26: 4.3m×0.7mの補修箇所からの漏水、にじみ | M26: メモ | P26: ひび割れからの漏水跡 （写真番号S40-1・前回Ⅱb判定）
C27: ※ 応急措置後の対策区分について添付すること。また、点検前に 実施された措置によりⅠと判定された箇所も添付すること。 | N27: ※ 変状の発生範囲の規模とは、対策を行う際に参考となる変状の長さや面積をいう。
N28: ※ 応急措置を実施しないで決定した変状の対策区分は、対策区分の応急措置後の欄に記入すること。
C29: ※ たたき落としを実施した場合は、実施後の写真を添付すること。 | N29: ※ 変状の発生範囲の規模は、面積・寸法を記載すること。(ひび割れ幅のみmmとし、その他をm表記とする)
C30: ※ 附属物の取付状態に関する異常写真は別途、任意の書式でとりまとめること。 | N30: ※ 構造用鋼材以外の異物に伴ううき・はく離については、メモ欄に異物の概要を記入すること。

Sheet 様式D-1-1 (41)
B2: ■定期点検記録様式 変状写真台帳【様式D-1-1】 | R2: 施設ID | T2: =+'様式A-1'!$W$2 -> 34.14178,132.16544
B3: フリガナ | E3: =+'様式A-1'!$D$3 -> ハシラノズイドウ | H3: 路 線 名 | J3: =+'様式A-1'!$J$3 -> 主要地方道岩国玖珂線 | M3: 定期点検実施者 | P3: =+'様式B (1)'!$S$3 -> 復建調査設計株式会社 | S3: 定期点検年月日 | U3: =+'様式B (1)'!$P$2 -> 45867
B4: 名 称 | E4: =+'様式A-1'!$D$4 -> 柱野隧道 | H4: 管理者名 | J4: =+'様式A-1'!$R$3 -> 山口県岩国土木建築事務所 | P4: =+'様式B (1)'!$S$4 -> 小笠原洋
B5: 写真 番号 | C5: 覆工スパン 番号 | E5: S40 | M5: 写真 番号 | N5: 覆工スパン 番号 | P5: PE
C6: 変状番号 | E6: 2 | N6: 変状番号 | P6: 1
B7: 変状 部位 | C7: 対象箇所 | E7: 覆工 | M7: 変状 部位 | N7: 対象箇所 | P7: 覆工
C8: 部位区分 | E8: アーチ（右側） | N8: 部位区分 | P8: アーチ（右側）
B9: 変状種類 | E9: 漏水 | M9: 変状種類 | P9: 漏水
B10: 対策 区分 | C10: 変状区分 | E10: 漏水 | M10: 対策 区分 | N10: 変状区分 | P10: 漏水
C11: 応急措置前 | N11: 応急措置前
C12: 応急措置後 | E12: Ⅱb | N12: 応急措置後 | P12: Ⅱb
B13: 変状の発生範囲及び規模 | E13: 5.0m×0.6m | H13: 前回変状の発生範囲及び規模 | J13: － | M13: 変状の発生範囲及び規模 | P13: 5.4m×0.7m | S13: 前回変状の発生範囲及び規模 | U13: －
B14: 対策履歴 | E14: 監視(日常巡視) | H14: 実施状況（実施日） | M14: 対策履歴 | P14: 監視(日常巡視) | S14: 実施状況（実施日）
B15: メモ | E15: 覆工からの漏水跡 （写真番号S40-2・前回Ⅱb判定） | M15: メモ | P15: ひび割れからの漏水跡 （写真番号PE-2・前回Ⅱb判定）
B16: 写真 番号 | C16: 覆工スパン 番号 | E16: PE | M16: 写真 番号 | N16: 覆工スパン 番号 | P16: PE
C17: 変状番号 | E17: 2 | N17: 変状番号 | P17: 3
B18: 変状 部位 | C18: 対象箇所 | E18: 坑門 | M18: 変状 部位 | N18: 対象箇所 | P18: 坑門
C19: 部位区分 | E19: 面壁・妻壁等 | N19: 部位区分 | P19: 面壁・妻壁等
B20: 変状種類 | E20: 圧ざ、ひび割れ | M20: 変状種類 | P20: 圧ざ、ひび割れ
B21: 対策 区分 | C21: 変状区分 | E21: 外力 | M21: 対策 区分 | N21: 変状区分 | P21: 外力
C22: 応急措置前 | N22: 応急措置前
C23: 応急措置後 | E23: Ⅱb | N23: 応急措置後 | P23: Ⅰ
B24: 変状の発生範囲及び規模 | E24: 0.5m×0.1m | H24: 前回変状の発生範囲及び規模 | J24: － | M24: 変状の発生範囲及び規模 | P24: － | S24: 前回変状の発生範囲及び規模 | U24: －
B25: 対策履歴 | E25: 監視(日常巡視) | H25: 実施状況（実施日） | M25: 対策履歴 | P25: 補修済 | S25: 実施状況（実施日）
B26: メモ | E26: 幅4.0mm、長さ0.5mのひび割れ （写真番号PE-4・前回Ⅲ判定） | M26: メモ | P26: 補修済（ひび割れ注入工） （写真番号PE-5・前回Ⅲ判定）
C27: ※ 応急措置後の対策区分について添付すること。また、点検前に 実施された措置によりⅠと判定された箇所も添付すること。 | N27: ※ 変状の発生範囲の規模とは、対策を行う際に参考となる変状の長さや面積をいう。
N28: ※ 応急措置を実施しないで決定した変状の対策区分は、対策区分の応急措置後の欄に記入すること。
C29: ※ たたき落としを実施した場合は、実施後の写真を添付すること。 | N29: ※ 変状の発生範囲の規模は、面積・寸法を記載すること。(ひび割れ幅のみmmとし、その他をm表記とする)
C30: ※ 附属物の取付状態に関する異常写真は別途、任意の書式でとりまとめること。 | N30: ※ 構造用鋼材以外の異物に伴ううき・はく離については、メモ欄に異物の概要を記入すること。

Sheet 様式D-1-1 (42)
B2: ■定期点検記録様式 変状写真台帳【様式D-1-1】 | R2: 施設ID | T2: =+'様式A-1'!$W$2 -> 34.14178,132.16544
B3: フリガナ | E3: =+'様式A-1'!$D$3 -> ハシラノズイドウ | H3: 路 線 名 | J3: =+'様式A-1'!$J$3 -> 主要地方道岩国玖珂線 | M3: 定期点検実施者 | P3: =+'様式B (1)'!$S$3 -> 復建調査設計株式会社 | S3: 定期点検年月日 | U3: =+'様式B (1)'!$P$2 -> 45867
B4: 名 称 | E4: =+'様式A-1'!$D$4 -> 柱野隧道 | H4: 管理者名 | J4: =+'様式A-1'!$R$3 -> 山口県岩国土木建築事務所 | P4: =+'様式B (1)'!$S$4 -> 小笠原洋
B5: 写真 番号 | C5: 覆工スパン 番号 | E5: PE | M5: 写真 番号 | N5: 覆工スパン 番号 | P5: PE
C6: 変状番号 | E6: 4 | N6: 変状番号 | P6: 5
B7: 変状 部位 | C7: 対象箇所 | E7: 坑門 | M7: 変状 部位 | N7: 対象箇所 | P7: 坑門
C8: 部位区分 | E8: 面壁・妻壁等 | N8: 部位区分 | P8: 面壁・妻壁等
B9: 変状種類 | E9: 圧ざ、ひび割れ | M9: 変状種類 | P9: 圧ざ、ひび割れ
B10: 対策 区分 | C10: 変状区分 | E10: 外力 | M10: 対策 区分 | N10: 変状区分 | P10: 外力
C11: 応急措置前 | N11: 応急措置前
C12: 応急措置後 | E12: Ⅱb | N12: 応急措置後 | P12: Ⅱb
B13: 変状の発生範囲及び規模 | E13: 1.0m×0.1m | H13: 前回変状の発生範囲及び規模 | J13: － | M13: 変状の発生範囲及び規模 | P13: 0.5m×0.1m | S13: 前回変状の発生範囲及び規模 | U13: －
B14: 対策履歴 | E14: 監視(日常巡視) | H14: 実施状況（実施日） | M14: 対策履歴 | P14: 監視(日常巡視) | S14: 実施状況（実施日）
B15: メモ | E15: 幅1.5mm、長さ1.0mのひび割れ （写真番号PE-6・前回Ⅱb判定） | M15: メモ | P15: 幅0.5mm、長さ0.5mのひび割れ （写真番号PE-7・前回Ⅱb判定）
B16: 写真 番号 | C16: 覆工スパン 番号 | M16: 写真 番号 | N16: 覆工スパン 番号
C17: 変状番号 | N17: 変状番号
B18: 変状 部位 | C18: 対象箇所 | M18: 変状 部位 | N18: 対象箇所
C19: 部位区分 | N19: 部位区分
B20: 変状種類 | M20: 変状種類
B21: 対策 区分 | C21: 変状区分 | M21: 対策 区分 | N21: 変状区分
C22: 応急措置前 | N22: 応急措置前
C23: 応急措置後 | N23: 応急措置後
B24: 変状の発生範囲及び規模 | H24: 前回変状の発生範囲及び規模 | M24: 変状の発生範囲及び規模 | S24: 前回変状の発生範囲及び規模
B25: 対策履歴 | H25: 実施状況（実施日） | M25: 対策履歴 | S25: 実施状況（実施日）
B26: メモ | M26: メモ
C27: ※ 応急措置後の対策区分について添付すること。また、点検前に 実施された措置によりⅠと判定された箇所も添付すること。 | N27: ※ 変状の発生範囲の規模とは、対策を行う際に参考となる変状の長さや面積をいう。
N28: ※ 応急措置を実施しないで決定した変状の対策区分は、対策区分の応急措置後の欄に記入すること。
C29: ※ たたき落としを実施した場合は、実施後の写真を添付すること。 | N29: ※ 変状の発生範囲の規模は、面積・寸法を記載すること。(ひび割れ幅のみmmとし、その他をm表記とする)
C30: ※ 附属物の取付状態に関する異常写真は別途、任意の書式でとりまとめること。 | N30: ※ 構造用鋼材以外の異物に伴ううき・はく離については、メモ欄に異物の概要を記入すること。

Sheet 様式D-1-2 (1)
B2: ■定期点検記録様式 異常写真台帳（トンネル内附属物等の取付状態） 【様式D-1-2】
B3: フリガナ | E3: =+'様式A-1'!$D$3 -> ハシラノズイドウ | I3: 路 線 名 | L3: =+'様式A-1'!$J$3 -> 主要地方道岩国玖珂線 | O3: 定期点検実施者 | R3: =+'様式B (1)'!$S$3 -> 復建調査設計株式会社 | U3: 定期点検年月日 | W3: =+'様式B (1)'!$P$2 -> 45867
B4: 名 称 | E4: =+'様式A-1'!$D$4 -> 柱野隧道 | I4: 管理者名 | L4: =+'様式A-1'!$R$3 -> 山口県岩国土木建築事務所 | R4: =+'様式B (1)'!$S$4 -> 小笠原洋
B5: 覆工スパン番号 | E5: 附S1 | F5: 異常番号 | I5: 1 | J5: 覆工スパン番号 | M5: 附S2 | N5: 異常番号 | Q5: 1 | R5: 覆工スパン番号 | U5: 附S2 | V5: 異常番号 | Y5: 2
B6: 対象箇所 | D6: その他施設 | E6: その他 | J6: 対象箇所 | L6: その他施設 | M6: 内装板取付部材 | R6: 対象箇所 | T6: その他施設 | U6: その他
B7: 部位区分 | D7: 附属物本体 | F7: 異常の種類 | H7: 緩み、脱落 | J7: 部位区分 | L7: 取付部材 | N7: 異常の種類 | P7: 緩み、脱落 | R7: 部位区分 | T7: 附属物本体 | V7: 異常の種類 | X7: 緩み、脱落
B8: 異常判定区分 | D8: × | E8: メモ | F8: 内装板本体の脱落、ワイヤー固定済 | J8: 異常判定区分 | L8: × | M8: メモ | N8: 内装板取付金具の脱落 | R8: 異常判定区分 | T8: × | U8: メモ | V8: 内装板本体の脱落、ワイヤー固定済
B22: 覆工スパン番号 | E22: 附S4 | F22: 異常番号 | I22: 1 | J22: 覆工スパン番号 | M22: 附S4 | N22: 異常番号 | Q22: 2 | R22: 覆工スパン番号 | U22: 附S8 | V22: 異常番号 | Y22: 1
B23: 対象箇所 | D23: その他施設 | E23: その他 | J23: 対象箇所 | L23: その他施設 | M23: その他 | R23: 対象箇所 | T23: その他施設 | U23: その他
B24: 部位区分 | D24: 附属物本体 | F24: 異常の種類 | H24: 緩み、脱落 | J24: 部位区分 | L24: 附属物本体 | N24: 異常の種類 | P24: その他 | R24: 部位区分 | T24: 附属物本体 | V24: 異常の種類 | X24: 腐食
B25: 異常判定区分 | D25: × | E25: メモ | F25: 内装板本体の脱落、ワイヤー固定済 | J25: 異常判定区分 | L25: × | M25: メモ | N25: 内装板の接触跡 | R25: 異常判定区分 | T25: × | U25: メモ | V25: 旧照明受枠の腐食
C39: ※ 異常判定区分×について記入すること。また、応急措置前に異常判定区分×とした箇所のうち応急措置により○と判定した箇所も記入すること。
C40: ※ 応急措置を実施した場合は、その実施状況が分かる写真を添付すること。
C41: ※ 変状数に準じてシートを追加すること。

Sheet 様式D-1-2 (2)
B2: ■定期点検記録様式 異常写真台帳（トンネル内附属物等の取付状態） 【様式D-1-2】
B3: フリガナ | E3: =+'様式A-1'!$D$3 -> ハシラノズイドウ | I3: 路 線 名 | L3: =+'様式A-1'!$J$3 -> 主要地方道岩国玖珂線 | O3: 定期点検実施者 | R3: =+'様式B (1)'!$S$3 -> 復建調査設計株式会社 | U3: 定期点検年月日 | W3: =+'様式B (1)'!$P$2 -> 45867
B4: 名 称 | E4: =+'様式A-1'!$D$4 -> 柱野隧道 | I4: 管理者名 | L4: =+'様式A-1'!$R$3 -> 山口県岩国土木建築事務所 | R4: =+'様式B (1)'!$S$4 -> 小笠原洋
B5: 覆工スパン番号 | E5: 附S8 | F5: 異常番号 | I5: 2 | J5: 覆工スパン番号 | M5: 附S31 | N5: 異常番号 | Q5: 1 | R5: 覆工スパン番号 | U5: 附S36 | V5: 異常番号 | Y5: 1
B6: 対象箇所 | D6: その他施設 | E6: その他 | J6: 対象箇所 | L6: その他施設 | M6: 内装板取付部材 | R6: 対象箇所 | T6: その他施設 | U6: その他
B7: 部位区分 | D7: 附属物本体 | F7: 異常の種類 | H7: 緩み、脱落 | J7: 部位区分 | L7: 取付部材 | N7: 異常の種類 | P7: 緩み、脱落 | R7: 部位区分 | T7: 附属物本体 | V7: 異常の種類 | X7: 腐食
B8: 異常判定区分 | D8: × | E8: メモ | F8: 内装板本体の脱落、ワイヤー固定済 | J8: 異常判定区分 | L8: × | M8: メモ | N8: 内装板取付金具の脱落 | R8: 異常判定区分 | T8: × | U8: メモ | V8: 旧照明受枠の腐食
B22: 覆工スパン番号 | E22: 附S38 | F22: 異常番号 | I22: 1 | J22: 覆工スパン番号 | N22: 異常番号 | R22: 覆工スパン番号 | V22: 異常番号
B23: 対象箇所 | D23: その他施設 | E23: その他 | J23: 対象箇所 | R23: 対象箇所
B24: 部位区分 | D24: 附属物本体 | F24: 異常の種類 | H24: 腐食 | J24: 部位区分 | N24: 異常の種類 | R24: 部位区分 | V24: 異常の種類
B25: 異常判定区分 | D25: × | E25: メモ | F25: 旧照明受枠の腐食 | J25: 異常判定区分 | M25: メモ | R25: 異常判定区分 | U25: メモ
C39: ※ 異常判定区分×について記入すること。また、応急措置前に異常判定区分×とした箇所のうち応急措置により○と判定した箇所も記入すること。
C40: ※ 応急措置を実施した場合は、その実施状況が分かる写真を添付すること。
C41: ※ 変状数に準じてシートを追加すること。

Sheet 様式D-2-1 (1)
B3: ■定期点検記録様式 トンネル全体変状展開図 【様式D-2-1】
B4: フリガナ | E4: =+'様式A-1'!$D$3 -> ハシラノズイドウ | J4: 路線名 | M4: =+'様式A-1'!$J$3 -> 主要地方道岩国玖珂線 | S4: 定期点検実施者 | W4: =+'様式B (1)'!$S$3 -> 復建調査設計株式会社 | AC4: 定期点検年月日 | AF4: =+'様式B (1)'!$P$2 -> 45867
B5: 名 称 | E5: =+'様式A-1'!$D$4 -> 柱野隧道 | J5: 管理者名 | M5: =+'様式A-1'!$R$3 -> 山口県岩国土木建築事務所 | W5: =+'様式B (1)'!$S$4 -> 小笠原洋
B6: トンネル変状展開図 | C6: トンネル全体変状展開図
V18: 注１：本展開図は、見下げた状態で記載すること。 注２：覆工スパン番号は横断目地毎（矢板工法の場合は上半アーチ の横断目地毎)に設定すること。 注３：横断目地の変状は前の覆工スパン番号で計上すること。 注４：１枚に収まらない場合は、複数枚に分けて作成すること。

Sheet 様式D-2-1 (2)
B3: ■定期点検記録様式 トンネル全体変状展開図 【様式D-2-1】
B4: フリガナ | E4: =+'様式A-1'!$D$3 -> ハシラノズイドウ | J4: 路線名 | M4: =+'様式A-1'!$J$3 -> 主要地方道岩国玖珂線 | S4: 定期点検実施者 | W4: =+'様式B (1)'!$S$3 -> 復建調査設計株式会社 | AC4: 定期点検年月日 | AF4: =+'様式B (1)'!$P$2 -> 45867
B5: 名 称 | E5: =+'様式A-1'!$D$4 -> 柱野隧道 | J5: 管理者名 | M5: =+'様式A-1'!$R$3 -> 山口県岩国土木建築事務所 | W5: =+'様式B (1)'!$S$4 -> 小笠原洋
B6: トンネル変状展開図 | C6: トンネル全体変状展開図
V18: 注１：本展開図は、見下げた状態で記載すること。 注２：覆工スパン番号は横断目地毎（矢板工法の場合は上半アーチ の横断目地毎)に設定すること。 注３：横断目地の変状は前の覆工スパン番号で計上すること。 注４：１枚に収まらない場合は、複数枚に分けて作成すること。

Sheet 様式D-2-1 (3)
B3: ■定期点検記録様式 トンネル全体変状展開図 【様式D-2-1】
B4: フリガナ | E4: =+'様式A-1'!$D$3 -> ハシラノズイドウ | J4: 路線名 | M4: =+'様式A-1'!$J$3 -> 主要地方道岩国玖珂線 | S4: 定期点検実施者 | W4: =+'様式B (1)'!$S$3 -> 復建調査設計株式会社 | AC4: 定期点検年月日 | AF4: =+'様式B (1)'!$P$2 -> 45867
B5: 名 称 | E5: =+'様式A-1'!$D$4 -> 柱野隧道 | J5: 管理者名 | M5: =+'様式A-1'!$R$3 -> 山口県岩国土木建築事務所 | W5: =+'様式B (1)'!$S$4 -> 小笠原洋
B6: トンネル変状展開図 | C6: トンネル全体変状展開図
V18: 注１：本展開図は、見下げた状態で記載すること。 注２：覆工スパン番号は横断目地毎（矢板工法の場合は上半アーチ の横断目地毎)に設定すること。 注３：横断目地の変状は前の覆工スパン番号で計上すること。 注４：１枚に収まらない場合は、複数枚に分けて作成すること。

Sheet 様式D-2-1 (4)
B3: ■定期点検記録様式 トンネル全体変状展開図 【様式D-2-1】
B4: フリガナ | E4: =+'様式A-1'!$D$3 -> ハシラノズイドウ | J4: 路線名 | M4: =+'様式A-1'!$J$3 -> 主要地方道岩国玖珂線 | S4: 定期点検実施者 | W4: =+'様式B (1)'!$S$3 -> 復建調査設計株式会社 | AC4: 定期点検年月日 | AF4: =+'様式B (1)'!$P$2 -> 45867
B5: 名 称 | E5: =+'様式A-1'!$D$4 -> 柱野隧道 | J5: 管理者名 | M5: =+'様式A-1'!$R$3 -> 山口県岩国土木建築事務所 | W5: =+'様式B (1)'!$S$4 -> 小笠原洋
B6: トンネル変状展開図 | C6: トンネル全体変状展開図
V18: 注１：本展開図は、見下げた状態で記載すること。 注２：覆工スパン番号は横断目地毎（矢板工法の場合は上半アーチ の横断目地毎)に設定すること。 注３：横断目地の変状は前の覆工スパン番号で計上すること。 注４：１枚に収まらない場合は、複数枚に分けて作成すること。

Sheet 様式D-2-1 (5)
B3: ■定期点検記録様式 トンネル全体変状展開図 【様式D-2-1】
B4: フリガナ | E4: =+'様式A-1'!$D$3 -> ハシラノズイドウ | J4: 路線名 | M4: =+'様式A-1'!$J$3 -> 主要地方道岩国玖珂線 | S4: 定期点検実施者 | W4: =+'様式B (1)'!$S$3 -> 復建調査設計株式会社 | AC4: 定期点検年月日 | AF4: =+'様式B (1)'!$P$2 -> 45867
B5: 名 称 | E5: =+'様式A-1'!$D$4 -> 柱野隧道 | J5: 管理者名 | M5: =+'様式A-1'!$R$3 -> 山口県岩国土木建築事務所 | W5: =+'様式B (1)'!$S$4 -> 小笠原洋
B6: トンネル変状展開図 | C6: トンネル全体変状展開図
V18: 注１：本展開図は、見下げた状態で記載すること。 注２：覆工スパン番号は横断目地毎（矢板工法の場合は上半アーチ の横断目地毎)に設定すること。 注３：横断目地の変状は前の覆工スパン番号で計上すること。 注４：１枚に収まらない場合は、複数枚に分けて作成すること。

Sheet 様式D-2-1 (6)
B3: ■定期点検記録様式 トンネル全体変状展開図 【様式D-2-1】
B4: フリガナ | E4: =+'様式A-1'!$D$3 -> ハシラノズイドウ | J4: 路線名 | M4: =+'様式A-1'!$J$3 -> 主要地方道岩国玖珂線 | S4: 定期点検実施者 | W4: =+'様式B (1)'!$S$3 -> 復建調査設計株式会社 | AC4: 定期点検年月日 | AF4: =+'様式B (1)'!$P$2 -> 45867
B5: 名 称 | E5: =+'様式A-1'!$D$4 -> 柱野隧道 | J5: 管理者名 | M5: =+'様式A-1'!$R$3 -> 山口県岩国土木建築事務所 | W5: =+'様式B (1)'!$S$4 -> 小笠原洋
B6: トンネル変状展開図 | C6: トンネル全体変状展開図
V18: 注１：本展開図は、見下げた状態で記載すること。 注２：覆工スパン番号は横断目地毎（矢板工法の場合は上半アーチ の横断目地毎)に設定すること。 注３：横断目地の変状は前の覆工スパン番号で計上すること。 注４：１枚に収まらない場合は、複数枚に分けて作成すること。

Sheet 様式D-2-1´
B3: ■定期点検記録様式 トンネル全体変状展開図（機器の活用時） 【様式D-2-1’】
B4: フリガナ | E4: =+'様式A-1'!$D$3 -> ハシラノズイドウ | J4: 路線名 | M4: =+'様式A-1'!$J$3 -> 主要地方道岩国玖珂線 | S4: 定期点検実施者 | W4: =+'様式B (1)'!$S$3 -> 復建調査設計株式会社 | AC4: 定期点検年月日 | AF4: =+'様式B (1)'!$P$2 -> 45867
B5: 名 称 | E5: =+'様式A-1'!$D$4 -> 柱野隧道 | J5: 管理者名 | M5: =+'様式A-1'!$R$3 -> 山口県岩国土木建築事務所 | W5: =+'様式B (1)'!$S$4 -> 小笠原洋
B6: トンネル変状展開図 | C6: トンネル全体変状展開図
V18: 注１：本展開図は、見下げた状態で記載すること。 注２：覆工スパン番号は横断目地毎（矢板工法の場合は上半アーチ の横断目地毎)に設定すること。 注３：横断目地の変状は前の覆工スパン番号で計上すること。 注４：１枚に収まらない場合は、複数枚に分けて作成すること。

Sheet 様式D-3_PS
AU1: 様式F用→ | AV1: 覆工スパン | AY1: 変 状 数 | BK1: 変 状 規 模
AV2: 番号 | AW2: 延長 （ｍ） | AX2: 健全性の診断の 区分 | AY2: 対策区分の判定 | BK2: 覆工スパン長（ｍ） | BO2: 変状の発生範囲の規模（㎡）
B3: ■定期点検記録様式 覆工スパン別変状詳細展開図 【様式D-3】 | AY3: 外力 | BC3: 材質劣化 | BG3: 漏水 | BK3: 外力 注2 | BO3: 材質劣化 | BS3: 漏水
B4: フリガナ | E4: ='様式A-1'!$D$3 -> ハシラノズイドウ | K4: 路線名 | N4: ='様式A-1'!$J$3 -> 主要地方道岩国玖珂線 | T4: 定期点検実施者 | Y4: =+'様式B (1)'!$S$3 -> 復建調査設計株式会社 | AG4: 定期点検年月日 | AK4: =+'様式B (1)'!$P$2 -> 45867 | AY4: Ⅳ | AZ4: Ⅲ | BA4: Ⅱa | BB4: Ⅱb | BC4: Ⅳ | BD4: Ⅲ | BE4: Ⅱa | BF4: Ⅱb | BG4: Ⅳ | BH4: Ⅲ | BI4: Ⅱa | BJ4: Ⅱb | BK4: Ⅳ | BL4: Ⅲ | BM4: Ⅱa | BN4: Ⅱb | BO4: Ⅳ | BP4: Ⅲ | BQ4: Ⅱa | BR4: Ⅱb | BS4: Ⅳ | BT4: Ⅲ | BU4: Ⅱa | BV4: Ⅱb
B5: 名 称 | E5: ='様式A-1'!$D$4 -> 柱野隧道 | K5: 管理者名 | N5: ='様式A-1'!$R$3 -> 山口県岩国土木建築事務所 | Y5: =+'様式B (1)'!$S$4 -> 小笠原洋 | AV5: =N7 -> PS | AW5: =R7 -> 2.5 | AX5: =AM35 -> Ⅱ | AY5: =Y37 -> 0 | AZ5: =Z37 -> 0 | BA5: =AA37 -> 0 | BB5: =AB37 -> 0 | BC5: =AC37 -> 0 | BD5: =AD37 -> 0 | BE5: =AE37 -> 0 | BF5: =AF37 -> 0 | ... BJ5: =AJ37 -> 2 | BK5: =IF(Y37>0,R7,"") | BL5: =IF(Y37>0,"",IF(Z37>0,R7,"")) | BM5: =IF(Y37+Z37>0,"",IF(AA37>0,R7,"")) | BN5: =IF(Y37+Z37+AA37>0,"",IF(AB37>0,R7,"")) | BO5: =AC35 -> 0 | BP5: =AD35 -> 0 | BQ5: =AE35 -> 0 | BR5: =AF35 -> 0 | BS5: =AG35 -> 0 | BT5: =AH35 -> 0 | BU5: =AI35 -> 0 | BV5: =AJ35 -> 6.25
B6: スパン別変状展開図 | K6: 【健全性判定集計表】
K7: スパン番号 | N7: PS | P7: スパン長 | R7: 2.5 | U7: 前回定期点検時の判定 | W7: 応急措置前の判定 | Y7: 対策区分毎の 変状の有無 | AC7: 対策区分毎の変状の発生範囲の規模(㎡) | AK7: 備考注2
K8: 変状番号 | L8: 対象箇所 | N8: 部位区分 | P8: 変状区分 | R8: 変状種類
Y9: 外力注1 | AC9: 材質劣化注1 | AG9: 漏水注1
Y10: Ⅳ | Z10: Ⅲ | AA10: Ⅱa | AB10: Ⅱb | AC10: Ⅳ | AD10: Ⅲ | AE10: Ⅱa | AF10: Ⅱb | AG10: Ⅳ | AH10: Ⅲ | AI10: Ⅱa | AJ10: Ⅱb
K11: 1 | L11: 坑門 | N11: 面壁・妻壁等 | P11: 漏水 | R11: 漏水 | U11: Ⅱa | W11: Ⅱb | AJ11: 5 | AQ11: =IF(P11="材質劣化",2,IF(P11="漏水",3,1)) -> 3 | AS11: =IF(Y11<>"",1,"")
K12: 2 | L12: 坑門 | N12: 面壁・妻壁等 | P12: 漏水 | R12: 漏水 | U12: Ⅰ | W12: Ⅱb | AJ12: 1.25 | AQ12: =IF(P12="材質劣化",2,IF(P12="漏水",3,1)) -> 3
AQ13: =IF(P13="材質劣化",2,IF(P13="漏水",3,1)) -> 1
AQ14: =IF(P14="材質劣化",2,IF(P14="漏水",3,1)) -> 1
AQ15: =IF(P15="材質劣化",2,IF(P15="漏水",3,1)) -> 1
AQ16: =IF(P16="材質劣化",2,IF(P16="漏水",3,1)) -> 1
AQ17: =IF(P17="材質劣化",2,IF(P17="漏水",3,1)) -> 1
AQ18: =IF(P18="材質劣化",2,IF(P18="漏水",3,1)) -> 1
AQ19: =IF(P19="材質劣化",2,IF(P19="漏水",3,1)) -> 1
AQ20: =IF(P20="材質劣化",2,IF(P20="漏水",3,1)) -> 1
AQ21: =IF(P21="材質劣化",2,IF(P21="漏水",3,1)) -> 1
AQ22: =IF(P22="材質劣化",2,IF(P22="漏水",3,1)) -> 1
AQ23: =IF(P23="材質劣化",2,IF(P23="漏水",3,1)) -> 1
AQ24: =IF(P24="材質劣化",2,IF(P24="漏水",3,1)) -> 1
... AQ27: =IF(P27="材質劣化",2,IF(P27="漏水",3,1)) -> 1
AQ28: =IF(P30="材質劣化",2,IF(P30="漏水",3,1)) -> 1
AQ29: =IF(P34="材質劣化",2,IF(P34="漏水",3,1)) -> 1
AQ30: =IF(P30="材質劣化",2,IF(P30="漏水",3,1)) -> 1
AQ31: =IF(P33="材質劣化",2,IF(P33="漏水",3,1)) -> 1
AQ32: =IF(P37="材質劣化",2,IF(P37="漏水",3,1)) -> 1
AQ33: =IF(P33="材質劣化",2,IF(P33="漏水",3,1)) -> 1
AQ34: =IF(P36="材質劣化",2,IF(P36="漏水",3,1)) -> 1
K35: 集計 判定 診断 | L35: 変状の発生規模合計(㎡) | Y35: － | AC35: =SUM(AC11:AC34) -> 0 | AD35: =SUM(AD11:AD34) -> 0 | AE35: =SUM(AE11:AE34) -> 0 | AF35: =SUM(AF11:AF34) -> 0 | AG35: =SUM(AG11:AG34) -> 0 | AH35: =SUM(AH11:AH34) -> 0 | AI35: =SUM(AI11:AI34) -> 0 | AJ35: =SUM(AJ11:AJ34) -> 6.25 | AK35: 覆工スパン単位の 健全性の 診断の区分 | AM35: Ⅱ
L36: 対策区分の 判定結果 | O36: 対策区分毎の変状数注3 | Y36: Ⅳ | Z36: Ⅲ | AA36: Ⅱa | AB36: Ⅱb | AC36: Ⅳ | AD36: Ⅲ | AE36: Ⅱa | AF36: Ⅱb | AG36: Ⅳ | AH36: Ⅲ | AI36: Ⅱa | AJ36: Ⅱb
Y37: =IF(COUNTIF(Y11:Y34,"〇")>0,"1",0) -> 0 | Z37: =IF(COUNTIF(Z11:Z34,"〇")>0,"1",0) -> 0 | AA37: =IF(COUNTIF(AA11:AA34,"〇")>0,"1",0) -> 0 | AB37: =IF(COUNTIF(AB11:AB34,"〇")>0,"1",0) -> 0 | AC37: =COUNTA(AC11:AC34) -> 0 | AD37: =COUNTA(AD11:AD34) -> 0 | AE37: =COUNTA(AE11:AE34) -> 0 | AF37: =COUNTA(AF11:AF34) -> 0 | AG37: =COUNTA(AG11:AG34) -> 0 | AH37: =COUNTA(AH11:AH34) -> 0 | AI37: =COUNTA(AI11:AI34) -> 0 | AJ37: =COUNTA(AJ11:AJ34) -> 2
K39: 所見
K43: 注1：誤記入防止のため、当該変状区分以外のセルは灰色表示とすること。
K44: 注2：応急措置を実施した場合は、その詳細を備考に記載すること。
K45: 注3：外力は覆工スパン単位、材質劣化、漏水は変状単位とすること。
B46: （以下、印刷不要）
B47: ※1：本シートは作成洩れのないよう、変状が無くても全スパン分を作成すること．また変状展開図は、様式D-2-1、様式D-2-1'と同じものを覆工スパン単位で拡大し掲載すること。
B48: ※2：変状番号は、様式D-1-1で記入した番号と整合させること。
B49: ※3：対策区分毎の変状発生規模は、様式D-1-1に記載した面積を記入すること（ただし外力はスパン単位で評価するため変状の有無の欄には面積でなく○を記入し、備考欄に状況を記入）。
B50: ※4：本様式は覆工スパン毎に作成すること。
B51: ※5：変状数が多い場合は、適時、表の行を増やして覆工スパン毎に1枚のシートに収めること。また、1スパン１シートとし、スパンに合わせてシートを追加すること。
B52: ※6：対策区分毎の変状の発生範囲の規模とは，対策を行う際に参考となる変状の長さや面積であり，変状を包含する長さや面積とする。
B53: ※7：対策範囲を示す発生範囲の規模を面積で記入することが妥当ではない変状は、発生範囲の規模の欄に○を記入するとともに、備考に内容を記入すること。

Sheet 様式D-3_S001
AU1: 様式F用→ | AV1: 覆工スパン | AY1: 変 状 数 | BK1: 変 状 規 模
AV2: 番号 | AW2: 延長 （ｍ） | AX2: 健全性の診断の 区分 | AY2: 対策区分の判定 | BK2: 覆工スパン長（ｍ） | BO2: 変状の発生範囲の規模（㎡）
B3: ■定期点検記録様式 覆工スパン別変状詳細展開図 【様式D-3】 | AY3: 外力 | BC3: 材質劣化 | BG3: 漏水 | BK3: 外力 注2 | BO3: 材質劣化 | BS3: 漏水
B4: フリガナ | E4: ='様式A-1'!$D$3 -> ハシラノズイドウ | K4: 路線名 | N4: ='様式A-1'!$J$3 -> 主要地方道岩国玖珂線 | T4: 定期点検実施者 | Y4: =+'様式B (1)'!$S$3 -> 復建調査設計株式会社 | AG4: 定期点検年月日 | AK4: =+'様式B (1)'!$P$2 -> 45867 | AY4: Ⅳ | AZ4: Ⅲ | BA4: Ⅱa | BB4: Ⅱb | BC4: Ⅳ | BD4: Ⅲ | BE4: Ⅱa | BF4: Ⅱb | BG4: Ⅳ | BH4: Ⅲ | BI4: Ⅱa | BJ4: Ⅱb | BK4: Ⅳ | BL4: Ⅲ | BM4: Ⅱa | BN4: Ⅱb | BO4: Ⅳ | BP4: Ⅲ | BQ4: Ⅱa | BR4: Ⅱb | BS4: Ⅳ | BT4: Ⅲ | BU4: Ⅱa | BV4: Ⅱb
B5: 名 称 | E5: ='様式A-1'!$D$4 -> 柱野隧道 | K5: 管理者名 | N5: ='様式A-1'!$R$3 -> 山口県岩国土木建築事務所 | Y5: =+'様式B (1)'!$S$4 -> 小笠原洋 | AV5: =N7 -> S001 | AW5: =R7 -> 7.7 | AX5: =AM35 -> Ⅱ | AY5: =Y37 -> 0 | AZ5: =Z37 -> 0 | BA5: =AA37 -> 0 | BB5: =AB37 -> 0 | BC5: =AC37 -> 0 | BD5: =AD37 -> 0 | BE5: =AE37 -> 0 | BF5: =AF37 -> 2 | ... BJ5: =AJ37 -> 1 | BK5: =IF(Y37>0,R7,"") | BL5: =IF(Y37>0,"",IF(Z37>0,R7,"")) | BM5: =IF(Y37+Z37>0,"",IF(AA37>0,R7,"")) | BN5: =IF(Y37+Z37+AA37>0,"",IF(AB37>0,R7,"")) | BO5: =AC35 -> 0 | BP5: =AD35 -> 0 | BQ5: =AE35 -> 0 | BR5: =AF35 -> 0.37 | BS5: =AG35 -> 0 | BT5: =AH35 -> 0 | BU5: =AI35 -> 0 | BV5: =AJ35 -> 3.4
B6: スパン別変状展開図 | K6: 【健全性判定集計表】
K7: スパン番号 | N7: S001 | P7: スパン長 | R7: 7.7 | U7: 前回定期点検時の判定 | W7: 応急措置前の判定 | Y7: 対策区分毎の 変状の有無 | AC7: 対策区分毎の変状の発生範囲の規模(㎡) | AK7: 備考注2
K8: 変状番号 | L8: 対象箇所 | N8: 部位区分 | P8: 変状区分 | R8: 変状種類
Y9: 外力注1 | AC9: 材質劣化注1 | AG9: 漏水注1
Y10: Ⅳ | Z10: Ⅲ | AA10: Ⅱa | AB10: Ⅱb | AC10: Ⅳ | AD10: Ⅲ | AE10: Ⅱa | AF10: Ⅱb | AG10: Ⅳ | AH10: Ⅲ | AI10: Ⅱa | AJ10: Ⅱb
K11: 1 | L11: 覆工 | N11: アーチ（左側） | P11: 材質劣化 | R11: うき・はく離 | U11: － | W11: Ⅱa | AF11: 0.01 | AK11: 鋼材露出ありのため健全性"Ⅱb" | AQ11: =IF(P11="材質劣化",2,IF(P11="漏水",3,1)) -> 2 | AS11: =IF(Y11<>"",1,"")
K12: 2 | L12: 覆工 | N12: アーチ（左側） | P12: 材質劣化 | R12: その他 | U12: Ⅱb | W12: Ⅱb | AF12: 0.36 | AK12: 豆板 | AQ12: =IF(P12="材質劣化",2,IF(P12="漏水",3,1)) -> 2
K13: 3 | L13: 覆工 | N13: アーチ（右側） | P13: 漏水 | R13: 漏水 | U13: Ⅱb | W13: Ⅱb | AJ13: 3.4 | AQ13: =IF(P13="材質劣化",2,IF(P13="漏水",3,1)) -> 3
AQ14: =IF(P14="材質劣化",2,IF(P14="漏水",3,1)) -> 1
AQ15: =IF(P15="材質劣化",2,IF(P15="漏水",3,1)) -> 1
AQ16: =IF(P16="材質劣化",2,IF(P16="漏水",3,1)) -> 1
AQ17: =IF(P17="材質劣化",2,IF(P17="漏水",3,1)) -> 1
AQ18: =IF(P18="材質劣化",2,IF(P18="漏水",3,1)) -> 1
AQ19: =IF(P19="材質劣化",2,IF(P19="漏水",3,1)) -> 1
AQ20: =IF(P20="材質劣化",2,IF(P20="漏水",3,1)) -> 1
AQ21: =IF(P21="材質劣化",2,IF(P21="漏水",3,1)) -> 1
AQ22: =IF(P22="材質劣化",2,IF(P22="漏水",3,1)) -> 1
AQ23: =IF(P23="材質劣化",2,IF(P23="漏水",3,1)) -> 1
AQ24: =IF(P24="材質劣化",2,IF(P24="漏水",3,1)) -> 1
AQ25: =IF(P25="材質劣化",2,IF(P25="漏水",3,1)) -> 1
... AQ27: =IF(P27="材質劣化",2,IF(P27="漏水",3,1)) -> 1
AQ28: =IF(P30="材質劣化",2,IF(P30="漏水",3,1)) -> 1
AQ29: =IF(P34="材質劣化",2,IF(P34="漏水",3,1)) -> 1
AQ30: =IF(P30="材質劣化",2,IF(P30="漏水",3,1)) -> 1
AQ31: =IF(P33="材質劣化",2,IF(P33="漏水",3,1)) -> 1
AQ32: =IF(P37="材質劣化",2,IF(P37="漏水",3,1)) -> 1
AQ33: =IF(P33="材質劣化",2,IF(P33="漏水",3,1)) -> 1
AQ34: =IF(P36="材質劣化",2,IF(P36="漏水",3,1)) -> 1
K35: 集計 判定 診断 | L35: 変状の発生規模合計(㎡) | Y35: － | AC35: =SUM(AC11:AC34) -> 0 | AD35: =SUM(AD11:AD34) -> 0 | AE35: =SUM(AE11:AE34) -> 0 | AF35: =SUM(AF11:AF34) -> 0.37 | AG35: =SUM(AG11:AG34) -> 0 | AH35: =SUM(AH11:AH34) -> 0 | AI35: =SUM(AI11:AI34) -> 0 | AJ35: =SUM(AJ11:AJ34) -> 3.4 | AK35: 覆工スパン単位の 健全性の 診断の区分 | AM35: Ⅱ
L36: 対策区分の 判定結果 | O36: 対策区分毎の変状数注3 | Y36: Ⅳ | Z36: Ⅲ | AA36: Ⅱa | AB36: Ⅱb | AC36: Ⅳ | AD36: Ⅲ | AE36: Ⅱa | AF36: Ⅱb | AG36: Ⅳ | AH36: Ⅲ | AI36: Ⅱa | AJ36: Ⅱb
Y37: =IF(COUNTIF(Y11:Y34,"〇")>0,"1",0) -> 0 | Z37: =IF(COUNTIF(Z11:Z34,"〇")>0,"1",0) -> 0 | AA37: =IF(COUNTIF(AA11:AA34,"〇")>0,"1",0) -> 0 | AB37: =IF(COUNTIF(AB11:AB34,"〇")>0,"1",0) -> 0 | AC37: =COUNTA(AC11:AC34) -> 0 | AD37: =COUNTA(AD11:AD34) -> 0 | AE37: =COUNTA(AE11:AE34) -> 0 | AF37: =COUNTA(AF11:AF34) -> 2 | AG37: =COUNTA(AG11:AG34) -> 0 | AH37: =COUNTA(AH11:AH34) -> 0 | AI37: =COUNTA(AI11:AI34) -> 0 | AJ37: =COUNTA(AJ11:AJ34) -> 1
K39: 所見
K43: 注1：誤記入防止のため、当該変状区分以外のセルは灰色表示とすること。
K44: 注2：応急措置を実施した場合は、その詳細を備考に記載すること。
K45: 注3：外力は覆工スパン単位、材質劣化、漏水は変状単位とすること。
B46: （以下、印刷不要）
B47: ※1：本シートは作成洩れのないよう、変状が無くても全スパン分を作成すること．また変状展開図は、様式D-2-1、様式D-2-1'と同じものを覆工スパン単位で拡大し掲載すること。
B48: ※2：変状番号は、様式D-1-1で記入した番号と整合させること。
B49: ※3：対策区分毎の変状発生規模は、様式D-1-1に記載した面積を記入すること（ただし外力はスパン単位で評価するため変状の有無の欄には面積でなく○を記入し、備考欄に状況を記入）。
B50: ※4：本様式は覆工スパン毎に作成すること。
B51: ※5：変状数が多い場合は、適時、表の行を増やして覆工スパン毎に1枚のシートに収めること。また、1スパン１シートとし、スパンに合わせてシートを追加すること。
B52: ※6：対策区分毎の変状の発生範囲の規模とは，対策を行う際に参考となる変状の長さや面積であり，変状を包含する長さや面積とする。
B53: ※7：対策範囲を示す発生範囲の規模を面積で記入することが妥当ではない変状は、発生範囲の規模の欄に○を記入するとともに、備考に内容を記入すること。

Sheet 様式D-3_S002
AU1: 様式F用→ | AV1: 覆工スパン | AY1: 変 状 数 | BK1: 変 状 規 模
AV2: 番号 | AW2: 延長 （ｍ） | AX2: 健全性の診断の 区分 | AY2: 対策区分の判定 | BK2: 覆工スパン長（ｍ） | BO2: 変状の発生範囲の規模（㎡）
B3: ■定期点検記録様式 覆工スパン別変状詳細展開図 【様式D-3】 | AY3: 外力 | BC3: 材質劣化 | BG3: 漏水 | BK3: 外力 注2 | BO3: 材質劣化 | BS3: 漏水
B4: フリガナ | E4: ='様式A-1'!$D$3 -> ハシラノズイドウ | K4: 路線名 | N4: ='様式A-1'!$J$3 -> 主要地方道岩国玖珂線 | T4: 定期点検実施者 | Y4: =+'様式B (1)'!$S$3 -> 復建調査設計株式会社 | AG4: 定期点検年月日 | AK4: =+'様式B (1)'!$P$2 -> 45867 | AY4: Ⅳ | AZ4: Ⅲ | BA4: Ⅱa | BB4: Ⅱb | BC4: Ⅳ | BD4: Ⅲ | BE4: Ⅱa | BF4: Ⅱb | BG4: Ⅳ | BH4: Ⅲ | BI4: Ⅱa | BJ4: Ⅱb | BK4: Ⅳ | BL4: Ⅲ | BM4: Ⅱa | BN4: Ⅱb | BO4: Ⅳ | BP4: Ⅲ | BQ4: Ⅱa | BR4: Ⅱb | BS4: Ⅳ | BT4: Ⅲ | BU4: Ⅱa | BV4: Ⅱb
B5: 名 称 | E5: ='様式A-1'!$D$4 -> 柱野隧道 | K5: 管理者名 | N5: ='様式A-1'!$R$3 -> 山口県岩国土木建築事務所 | Y5: =+'様式B (1)'!$S$4 -> 小笠原洋 | AV5: =N7 -> S002 | AW5: =R7 -> 9 | AX5: =AM35 -> Ⅱ | AY5: =Y37 -> 0 | AZ5: =Z37 -> 0 | BA5: =AA37 -> 0 | BB5: =AB37 -> 0 | BC5: =AC37 -> 0 | BD5: =AD37 -> 0 | BE5: =AE37 -> 0 | BF5: =AF37 -> 2 | ... BJ5: =AJ37 -> 2 | BK5: =IF(Y37>0,R7,"") | BL5: =IF(Y37>0,"",IF(Z37>0,R7,"")) | BM5: =IF(Y37+Z37>0,"",IF(AA37>0,R7,"")) | BN5: =IF(Y37+Z37+AA37>0,"",IF(AB37>0,R7,"")) | BO5: =AC35 -> 0 | BP5: =AD35 -> 0 | BQ5: =AE35 -> 0 | BR5: =AF35 -> 0.585 | BS5: =AG35 -> 0 | BT5: =AH35 -> 0 | BU5: =AI35 -> 0 | BV5: =AJ35 -> 5.5
B6: スパン別変状展開図 | K6: 【健全性判定集計表】
K7: スパン番号 | N7: S002 | P7: スパン長 | R7: 9 | U7: 前回定期点検時の判定 | W7: 応急措置前の判定 | Y7: 対策区分毎の 変状の有無 | AC7: 対策区分毎の変状の発生範囲の規模(㎡) | AK7: 備考注2
K8: 変状番号 | L8: 対象箇所 | N8: 部位区分 | P8: 変状区分 | R8: 変状種類
Y9: 外力注1 | AC9: 材質劣化注1 | AG9: 漏水注1
Y10: Ⅳ | Z10: Ⅲ | AA10: Ⅱa | AB10: Ⅱb | AC10: Ⅳ | AD10: Ⅲ | AE10: Ⅱa | AF10: Ⅱb | AG10: Ⅳ | AH10: Ⅲ | AI10: Ⅱa | AJ10: Ⅱb
K11: 1 | L11: 覆工 | N11: アーチ（左側） | P11: 漏水 | R11: 漏水 | U11: Ⅱb | W11: Ⅱb | AJ11: 1.75 | AQ11: =IF(P11="材質劣化",2,IF(P11="漏水",3,1)) -> 3 | AS11: =IF(Y11<>"",1,"")
K12: 2 | L12: 覆工 | N12: アーチ（右側） | P12: 漏水 | R12: 漏水 | U12: Ⅱb | W12: Ⅱb | AJ12: 3.75 | AK12: 漏水跡 | AQ12: =IF(P12="材質劣化",2,IF(P12="漏水",3,1)) -> 3
K13: 3 | L13: 覆工 | N13: アーチ（右側） | P13: 材質劣化 | R13: うき・はく離 | U13: Ⅲ | W13: Ⅰ | AK13: はく落対策工補修済 | AQ13: =IF(P13="材質劣化",2,IF(P13="漏水",3,1)) -> 2
K14: 4 | L14: 覆工 | N14: アーチ（右側） | P14: 材質劣化 | R14: うき・はく離 | U14: Ⅱb | W14: Ⅱb | AF14: 0.36 | AQ14: =IF(P14="材質劣化",2,IF(P14="漏水",3,1)) -> 2
K15: 5 | L15: 覆工 | N15: アーチ（右側） | P15: 材質劣化 | R15: うき・はく離 | U15: － | W15: Ⅱb | AF15: 0.225 | AQ15: =IF(P15="材質劣化",2,IF(P15="漏水",3,1)) -> 2
AQ16: =IF(P16="材質劣化",2,IF(P16="漏水",3,1)) -> 1
AQ17: =IF(P17="材質劣化",2,IF(P17="漏水",3,1)) -> 1
AQ18: =IF(P18="材質劣化",2,IF(P18="漏水",3,1)) -> 1
AQ19: =IF(P19="材質劣化",2,IF(P19="漏水",3,1)) -> 1
AQ20: =IF(P20="材質劣化",2,IF(P20="漏水",3,1)) -> 1
AQ21: =IF(P21="材質劣化",2,IF(P21="漏水",3,1)) -> 1
AQ22: =IF(P22="材質劣化",2,IF(P22="漏水",3,1)) -> 1
AQ23: =IF(P23="材質劣化",2,IF(P23="漏水",3,1)) -> 1
AQ24: =IF(P24="材質劣化",2,IF(P24="漏水",3,1)) -> 1
AQ25: =IF(P25="材質劣化",2,IF(P25="漏水",3,1)) -> 1
AQ26: =IF(P26="材質劣化",2,IF(P26="漏水",3,1)) -> 1
AQ27: =IF(P27="材質劣化",2,IF(P27="漏水",3,1)) -> 1
AQ28: =IF(P30="材質劣化",2,IF(P30="漏水",3,1)) -> 1
AQ29: =IF(P34="材質劣化",2,IF(P34="漏水",3,1)) -> 1
AQ30: =IF(P30="材質劣化",2,IF(P30="漏水",3,1)) -> 1
AQ31: =IF(P33="材質劣化",2,IF(P33="漏水",3,1)) -> 1
AQ32: =IF(P37="材質劣化",2,IF(P37="漏水",3,1)) -> 1
AQ33: =IF(P33="材質劣化",2,IF(P33="漏水",3,1)) -> 1
AQ34: =IF(P36="材質劣化",2,IF(P36="漏水",3,1)) -> 1
K35: 集計 判定 診断 | L35: 変状の発生規模合計(㎡) | Y35: － | AC35: =SUM(AC11:AC34) -> 0 | AD35: =SUM(AD11:AD34) -> 0 | AE35: =SUM(AE11:AE34) -> 0 | AF35: =SUM(AF11:AF34) -> 0.585 | AG35: =SUM(AG11:AG34) -> 0 | AH35: =SUM(AH11:AH34) -> 0 | AI35: =SUM(AI11:AI34) -> 0 | AJ35: =SUM(AJ11:AJ34) -> 5.5 | AK35: 覆工スパン単位の 健全性の 診断の区分 | AM35: Ⅱ
L36: 対策区分の 判定結果 | O36: 対策区分毎の変状数注3 | Y36: Ⅳ | Z36: Ⅲ | AA36: Ⅱa | AB36: Ⅱb | AC36: Ⅳ | AD36: Ⅲ | AE36: Ⅱa | AF36: Ⅱb | AG36: Ⅳ | AH36: Ⅲ | AI36: Ⅱa | AJ36: Ⅱb
Y37: =IF(COUNTIF(Y11:Y34,"〇")>0,"1",0) -> 0 | Z37: =IF(COUNTIF(Z11:Z34,"〇")>0,"1",0) -> 0 | AA37: =IF(COUNTIF(AA11:AA34,"〇")>0,"1",0) -> 0 | AB37: =IF(COUNTIF(AB11:AB34,"〇")>0,"1",0) -> 0 | AC37: =COUNTA(AC11:AC34) -> 0 | AD37: =COUNTA(AD11:AD34) -> 0 | AE37: =COUNTA(AE11:AE34) -> 0 | AF37: =COUNTA(AF11:AF34) -> 2 | AG37: =COUNTA(AG11:AG34) -> 0 | AH37: =COUNTA(AH11:AH34) -> 0 | AI37: =COUNTA(AI11:AI34) -> 0 | AJ37: =COUNTA(AJ11:AJ34) -> 2
K39: 所見
K43: 注1：誤記入防止のため、当該変状区分以外のセルは灰色表示とすること。
K44: 注2：応急措置を実施した場合は、その詳細を備考に記載すること。
K45: 注3：外力は覆工スパン単位、材質劣化、漏水は変状単位とすること。
B46: （以下、印刷不要）
B47: ※1：本シートは作成洩れのないよう、変状が無くても全スパン分を作成すること．また変状展開図は、様式D-2-1、様式D-2-1'と同じものを覆工スパン単位で拡大し掲載すること。
B48: ※2：変状番号は、様式D-1-1で記入した番号と整合させること。
B49: ※3：対策区分毎の変状発生規模は、様式D-1-1に記載した面積を記入すること（ただし外力はスパン単位で評価するため変状の有無の欄には面積でなく○を記入し、備考欄に状況を記入）。
B50: ※4：本様式は覆工スパン毎に作成すること。
B51: ※5：変状数が多い場合は、適時、表の行を増やして覆工スパン毎に1枚のシートに収めること。また、1スパン１シートとし、スパンに合わせてシートを追加すること。
B52: ※6：対策区分毎の変状の発生範囲の規模とは，対策を行う際に参考となる変状の長さや面積であり，変状を包含する長さや面積とする。
B53: ※7：対策範囲を示す発生範囲の規模を面積で記入することが妥当ではない変状は、発生範囲の規模の欄に○を記入するとともに、備考に内容を記入すること。

Sheet 様式D-3_S003
AU1: 様式F用→ | AV1: 覆工スパン | AY1: 変 状 数 | BK1: 変 状 規 模
AV2: 番号 | AW2: 延長 （ｍ） | AX2: 健全性の診断の 区分 | AY2: 対策区分の判定 | BK2: 覆工スパン長（ｍ） | BO2: 変状の発生範囲の規模（㎡）
B3: ■定期点検記録様式 覆工スパン別変状詳細展開図 【様式D-3】 | AY3: 外力 | BC3: 材質劣化 | BG3: 漏水 | BK3: 外力 注2 | BO3: 材質劣化 | BS3: 漏水
B4: フリガナ | E4: ='様式A-1'!$D$3 -> ハシラノズイドウ | K4: 路線名 | N4: ='様式A-1'!$J$3 -> 主要地方道岩国玖珂線 | T4: 定期点検実施者 | Y4: =+'様式B (1)'!$S$3 -> 復建調査設計株式会社 | AG4: 定期点検年月日 | AK4: =+'様式B (1)'!$P$2 -> 45867 | AY4: Ⅳ | AZ4: Ⅲ | BA4: Ⅱa | BB4: Ⅱb | BC4: Ⅳ | BD4: Ⅲ | BE4: Ⅱa | BF4: Ⅱb | BG4: Ⅳ | BH4: Ⅲ | BI4: Ⅱa | BJ4: Ⅱb | BK4: Ⅳ | BL4: Ⅲ | BM4: Ⅱa | BN4: Ⅱb | BO4: Ⅳ | BP4: Ⅲ | BQ4: Ⅱa | BR4: Ⅱb | BS4: Ⅳ | BT4: Ⅲ | BU4: Ⅱa | BV4: Ⅱb
B5: 名 称 | E5: ='様式A-1'!$D$4 -> 柱野隧道 | K5: 管理者名 | N5: ='様式A-1'!$R$3 -> 山口県岩国土木建築事務所 | Y5: =+'様式B (1)'!$S$4 -> 小笠原洋 | AV5: =N7 -> S003 | AW5: =R7 -> 8.8 | AX5: =AM35 -> Ⅱ | AY5: =Y37 -> 0 | AZ5: =Z37 -> 0 | BA5: =AA37 -> 0 | BB5: =AB37 -> 0 | BC5: =AC37 -> 0 | BD5: =AD37 -> 0 | BE5: =AE37 -> 0 | BF5: =AF37 -> 1 | ... BJ5: =AJ37 -> 2 | BK5: =IF(Y37>0,R7,"") | BL5: =IF(Y37>0,"",IF(Z37>0,R7,"")) | BM5: =IF(Y37+Z37>0,"",IF(AA37>0,R7,"")) | BN5: =IF(Y37+Z37+AA37>0,"",IF(AB37>0,R7,"")) | BO5: =AC35 -> 0 | BP5: =AD35 -> 0 | BQ5: =AE35 -> 0 | BR5: =AF35 -> 0.16 | BS5: =AG35 -> 0 | BT5: =AH35 -> 0 | BU5: =AI35 -> 0 | BV5: =AJ35 -> 6.87
B6: スパン別変状展開図 | K6: 【健全性判定集計表】
K7: スパン番号 | N7: S003 | P7: スパン長 | R7: 8.8 | U7: 前回定期点検時の判定 | W7: 応急措置前の判定 | Y7: 対策区分毎の 変状の有無 | AC7: 対策区分毎の変状の発生範囲の規模(㎡) | AK7: 備考注2
K8: 変状番号 | L8: 対象箇所 | N8: 部位区分 | P8: 変状区分 | R8: 変状種類
Y9: 外力注1 | AC9: 材質劣化注1 | AG9: 漏水注1
Y10: Ⅳ | Z10: Ⅲ | AA10: Ⅱa | AB10: Ⅱb | AC10: Ⅳ | AD10: Ⅲ | AE10: Ⅱa | AF10: Ⅱb | AG10: Ⅳ | AH10: Ⅲ | AI10: Ⅱa | AJ10: Ⅱb
K11: 1 | L11: 覆工 | N11: アーチ（左側） | P11: 漏水 | R11: 漏水 | U11: － | W11: Ⅱb | AJ11: 3.22 | AQ11: =IF(P11="材質劣化",2,IF(P11="漏水",3,1)) -> 3 | AS11: =IF(Y11<>"",1,"")
K12: 2 | L12: 覆工 | N12: アーチ（左側） | P12: 材質劣化 | R12: その他 | U12: － | W12: Ⅱb | AF12: 0.16 | AK12: 豆板 | AQ12: =IF(P12="材質劣化",2,IF(P12="漏水",3,1)) -> 2
K13: 3 | L13: 覆工 | N13: アーチ（右側） | P13: 漏水 | R13: 漏水 | U13: Ⅱa | W13: Ⅱb | AJ13: 3.65 | AQ13: =IF(P13="材質劣化",2,IF(P13="漏水",3,1)) -> 3
AQ14: =IF(P14="材質劣化",2,IF(P14="漏水",3,1)) -> 1
AQ15: =IF(P15="材質劣化",2,IF(P15="漏水",3,1)) -> 1
AQ16: =IF(P16="材質劣化",2,IF(P16="漏水",3,1)) -> 1
AQ17: =IF(P17="材質劣化",2,IF(P17="漏水",3,1)) -> 1
AQ18: =IF(P18="材質劣化",2,IF(P18="漏水",3,1)) -> 1
AQ19: =IF(P19="材質劣化",2,IF(P19="漏水",3,1)) -> 1
AQ20: =IF(P20="材質劣化",2,IF(P20="漏水",3,1)) -> 1
AQ21: =IF(P21="材質劣化",2,IF(P21="漏水",3,1)) -> 1
AQ22: =IF(P22="材質劣化",2,IF(P22="漏水",3,1)) -> 1
AQ23: =IF(P23="材質劣化",2,IF(P23="漏水",3,1)) -> 1
AQ24: =IF(P24="材質劣化",2,IF(P24="漏水",3,1)) -> 1
AQ25: =IF(P25="材質劣化",2,IF(P25="漏水",3,1)) -> 1
... AQ27: =IF(P27="材質劣化",2,IF(P27="漏水",3,1)) -> 1
AQ28: =IF(P30="材質劣化",2,IF(P30="漏水",3,1)) -> 1
AQ29: =IF(P34="材質劣化",2,IF(P34="漏水",3,1)) -> 1
AQ30: =IF(P30="材質劣化",2,IF(P30="漏水",3,1)) -> 1
AQ31: =IF(P33="材質劣化",2,IF(P33="漏水",3,1)) -> 1
AQ32: =IF(P37="材質劣化",2,IF(P37="漏水",3,1)) -> 1
AQ33: =IF(P33="材質劣化",2,IF(P33="漏水",3,1)) -> 1
AQ34: =IF(P36="材質劣化",2,IF(P36="漏水",3,1)) -> 1
K35: 集計 判定 診断 | L35: 変状の発生規模合計(㎡) | Y35: － | AC35: =SUM(AC11:AC34) -> 0 | AD35: =SUM(AD11:AD34) -> 0 | AE35: =SUM(AE11:AE34) -> 0 | AF35: =SUM(AF11:AF34) -> 0.16 | AG35: =SUM(AG11:AG34) -> 0 | AH35: =SUM(AH11:AH34) -> 0 | AI35: =SUM(AI11:AI34) -> 0 | AJ35: =SUM(AJ11:AJ34) -> 6.87 | AK35: 覆工スパン単位の 健全性の 診断の区分 | AM35: Ⅱ
L36: 対策区分の 判定結果 | O36: 対策区分毎の変状数注3 | Y36: Ⅳ | Z36: Ⅲ | AA36: Ⅱa | AB36: Ⅱb | AC36: Ⅳ | AD36: Ⅲ | AE36: Ⅱa | AF36: Ⅱb | AG36: Ⅳ | AH36: Ⅲ | AI36: Ⅱa | AJ36: Ⅱb
Y37: =IF(COUNTIF(Y11:Y34,"〇")>0,"1",0) -> 0 | Z37: =IF(COUNTIF(Z11:Z34,"〇")>0,"1",0) -> 0 | AA37: =IF(COUNTIF(AA11:AA34,"〇")>0,"1",0) -> 0 | AB37: =IF(COUNTIF(AB11:AB34,"〇")>0,"1",0) -> 0 | AC37: =COUNTA(AC11:AC34) -> 0 | AD37: =COUNTA(AD11:AD34) -> 0 | AE37: =COUNTA(AE11:AE34) -> 0 | AF37: =COUNTA(AF11:AF34) -> 1 | AG37: =COUNTA(AG11:AG34) -> 0 | AH37: =COUNTA(AH11:AH34) -> 0 | AI37: =COUNTA(AI11:AI34) -> 0 | AJ37: =COUNTA(AJ11:AJ34) -> 2
K39: 所見
K43: 注1：誤記入防止のため、当該変状区分以外のセルは灰色表示とすること。
K44: 注2：応急措置を実施した場合は、その詳細を備考に記載すること。
K45: 注3：外力は覆工スパン単位、材質劣化、漏水は変状単位とすること。
B46: （以下、印刷不要）
B47: ※1：本シートは作成洩れのないよう、変状が無くても全スパン分を作成すること．また変状展開図は、様式D-2-1、様式D-2-1'と同じものを覆工スパン単位で拡大し掲載すること。
B48: ※2：変状番号は、様式D-1-1で記入した番号と整合させること。
B49: ※3：対策区分毎の変状発生規模は、様式D-1-1に記載した面積を記入すること（ただし外力はスパン単位で評価するため変状の有無の欄には面積でなく○を記入し、備考欄に状況を記入）。
B50: ※4：本様式は覆工スパン毎に作成すること。
B51: ※5：変状数が多い場合は、適時、表の行を増やして覆工スパン毎に1枚のシートに収めること。また、1スパン１シートとし、スパンに合わせてシートを追加すること。
B52: ※6：対策区分毎の変状の発生範囲の規模とは，対策を行う際に参考となる変状の長さや面積であり，変状を包含する長さや面積とする。
B53: ※7：対策範囲を示す発生範囲の規模を面積で記入することが妥当ではない変状は、発生範囲の規模の欄に○を記入するとともに、備考に内容を記入すること。

Sheet 様式D-3_S004
AU1: 様式F用→ | AV1: 覆工スパン | AY1: 変 状 数 | BK1: 変 状 規 模
AV2: 番号 | AW2: 延長 （ｍ） | AX2: 健全性の診断の 区分 | AY2: 対策区分の判定 | BK2: 覆工スパン長（ｍ） | BO2: 変状の発生範囲の規模（㎡）
B3: ■定期点検記録様式 覆工スパン別変状詳細展開図 【様式D-3】 | AY3: 外力 | BC3: 材質劣化 | BG3: 漏水 | BK3: 外力 注2 | BO3: 材質劣化 | BS3: 漏水
B4: フリガナ | E4: ='様式A-1'!$D$3 -> ハシラノズイドウ | K4: 路線名 | N4: ='様式A-1'!$J$3 -> 主要地方道岩国玖珂線 | T4: 定期点検実施者 | Y4: =+'様式B (1)'!$S$3 -> 復建調査設計株式会社 | AG4: 定期点検年月日 | AK4: =+'様式B (1)'!$P$2 -> 45867 | AY4: Ⅳ | AZ4: Ⅲ | BA4: Ⅱa | BB4: Ⅱb | BC4: Ⅳ | BD4: Ⅲ | BE4: Ⅱa | BF4: Ⅱb | BG4: Ⅳ | BH4: Ⅲ | BI4: Ⅱa | BJ4: Ⅱb | BK4: Ⅳ | BL4: Ⅲ | BM4: Ⅱa | BN4: Ⅱb | BO4: Ⅳ | BP4: Ⅲ | BQ4: Ⅱa | BR4: Ⅱb | BS4: Ⅳ | BT4: Ⅲ | BU4: Ⅱa | BV4: Ⅱb
B5: 名 称 | E5: ='様式A-1'!$D$4 -> 柱野隧道 | K5: 管理者名 | N5: ='様式A-1'!$R$3 -> 山口県岩国土木建築事務所 | Y5: =+'様式B (1)'!$S$4 -> 小笠原洋 | AV5: =N7 -> S004 | AW5: =R7 -> 8.9 | AX5: =AM35 -> Ⅱ | AY5: =Y37 -> 0 | AZ5: =Z37 -> 0 | BA5: =AA37 -> 0 | BB5: =AB37 -> 0 | BC5: =AC37 -> 0 | BD5: =AD37 -> 0 | BE5: =AE37 -> 0 | BF5: =AF37 -> 0 | ... BJ5: =AJ37 -> 6 | BK5: =IF(Y37>0,R7,"") | BL5: =IF(Y37>0,"",IF(Z37>0,R7,"")) | BM5: =IF(Y37+Z37>0,"",IF(AA37>0,R7,"")) | BN5: =IF(Y37+Z37+AA37>0,"",IF(AB37>0,R7,"")) | BO5: =AC35 -> 0 | BP5: =AD35 -> 0 | BQ5: =AE35 -> 0 | BR5: =AF35 -> 0 | BS5: =AG35 -> 0 | BT5: =AH35 -> 0 | BU5: =AI35 -> 25.92 | BV5: =AJ35 -> 20.76
B6: スパン別変状展開図 | K6: 【健全性判定集計表】
K7: スパン番号 | N7: S004 | P7: スパン長 | R7: 8.9 | U7: 前回定期点検時の判定 | W7: 応急措置前の判定 | Y7: 対策区分毎の 変状の有無 | AC7: 対策区分毎の変状の発生範囲の規模(㎡) | AK7: 備考注2
K8: 変状番号 | L8: 対象箇所 | N8: 部位区分 | P8: 変状区分 | R8: 変状種類
Y9: 外力注1 | AC9: 材質劣化注1 | AG9: 漏水注1
Y10: Ⅳ | Z10: Ⅲ | AA10: Ⅱa | AB10: Ⅱb | AC10: Ⅳ | AD10: Ⅲ | AE10: Ⅱa | AF10: Ⅱb | AG10: Ⅳ | AH10: Ⅲ | AI10: Ⅱa | AJ10: Ⅱb
K11: 1 | L11: 覆工 | N11: アーチ（左側） | P11: 漏水 | R11: 漏水 | U11: － | W11: Ⅱb | AJ11: 3.22 | AQ11: =IF(P11="材質劣化",2,IF(P11="漏水",3,1)) -> 3 | AS11: =IF(Y11<>"",1,"")
K12: 2 | L12: 覆工 | N12: 横断目地（左側） | P12: 漏水 | R12: 漏水 | U12: Ⅱb | W12: Ⅱb | AJ12: 3.4 | AK12: 漏水跡 | AQ12: =IF(P12="材質劣化",2,IF(P12="漏水",3,1)) -> 3
K13: 3 | L13: 覆工 | N13: アーチ（天端） | P13: 漏水 | R13: 漏水 | U13: － | W13: Ⅱb | AJ13: 4.15 | AQ13: =IF(P13="材質劣化",2,IF(P13="漏水",3,1)) -> 3
K14: 4 | L14: 覆工 | N14: アーチ（右側） | P14: 漏水 | R14: 漏水 | U14: Ⅱa | W14: Ⅱa | AI14: 25.92 | AK14: 滴水 | AQ14: =IF(P14="材質劣化",2,IF(P14="漏水",3,1)) -> 3
K15: 5 | L15: 覆工 | N15: アーチ（右側） | P15: 漏水 | R15: 漏水 | U15: Ⅱb | W15: Ⅱb | AJ15: 3.35 | AQ15: =IF(P15="材質劣化",2,IF(P15="漏水",3,1)) -> 3
K16: 6 | L16: 覆工 | N16: アーチ（右側） | P16: 材質劣化 | R16: うき・はく離 | U16: － | W16: Ⅱa | AK16: 叩き落しにより健全性"Ⅰ" | AQ16: =IF(P16="材質劣化",2,IF(P16="漏水",3,1)) -> 2
K17: 7 | L17: 覆工 | N17: アーチ（右側） | P17: 漏水 | R17: 漏水 | U17: － | W17: Ⅱb | AJ17: 3 | AQ17: =IF(P17="材質劣化",2,IF(P17="漏水",3,1)) -> 3
K18: 8 | L18: 覆工 | N18: アーチ（右側） | P18: 漏水 | R18: 漏水 | U18: － | W18: Ⅱb | AJ18: 3.64 | AQ18: =IF(P18="材質劣化",2,IF(P18="漏水",3,1)) -> 3
K19: 9 | L19: 覆工 | N19: アーチ（右側） | P19: 材質劣化 | R19: うき・はく離 | U19: Ⅲ | W19: Ⅰ | AK19: はく落対策工補修済 | AQ19: =IF(P19="材質劣化",2,IF(P19="漏水",3,1)) -> 2
AQ20: =IF(P20="材質劣化",2,IF(P20="漏水",3,1)) -> 1
AQ21: =IF(P21="材質劣化",2,IF(P21="漏水",3,1)) -> 1
AQ22: =IF(P22="材質劣化",2,IF(P22="漏水",3,1)) -> 1
AQ23: =IF(P23="材質劣化",2,IF(P23="漏水",3,1)) -> 1
AQ24: =IF(P24="材質劣化",2,IF(P24="漏水",3,1)) -> 1
AQ25: =IF(P25="材質劣化",2,IF(P25="漏水",3,1)) -> 1
AQ26: =IF(P26="材質劣化",2,IF(P26="漏水",3,1)) -> 1
AQ27: =IF(P27="材質劣化",2,IF(P27="漏水",3,1)) -> 1
AQ28: =IF(P30="材質劣化",2,IF(P30="漏水",3,1)) -> 1
AQ29: =IF(P34="材質劣化",2,IF(P34="漏水",3,1)) -> 1
AQ30: =IF(P30="材質劣化",2,IF(P30="漏水",3,1)) -> 1
AQ31: =IF(P33="材質劣化",2,IF(P33="漏水",3,1)) -> 1
AQ32: =IF(P37="材質劣化",2,IF(P37="漏水",3,1)) -> 1
AQ33: =IF(P33="材質劣化",2,IF(P33="漏水",3,1)) -> 1
AQ34: =IF(P36="材質劣化",2,IF(P36="漏水",3,1)) -> 1
K35: 集計 判定 診断 | L35: 変状の発生規模合計(㎡) | Y35: － | AC35: =SUM(AC11:AC34) -> 0 | AD35: =SUM(AD11:AD34) -> 0 | AE35: =SUM(AE11:AE34) -> 0 | AF35: =SUM(AF11:AF34) -> 0 | AG35: =SUM(AG11:AG34) -> 0 | AH35: =SUM(AH11:AH34) -> 0 | AI35: =SUM(AI11:AI34) -> 25.92 | AJ35: =SUM(AJ11:AJ34) -> 20.76 | AK35: 覆工スパン単位の 健全性の 診断の区分 | AM35: Ⅱ
L36: 対策区分の 判定結果 | O36: 対策区分毎の変状数注3 | Y36: Ⅳ | Z36: Ⅲ | AA36: Ⅱa | AB36: Ⅱb | AC36: Ⅳ | AD36: Ⅲ | AE36: Ⅱa | AF36: Ⅱb | AG36: Ⅳ | AH36: Ⅲ | AI36: Ⅱa | AJ36: Ⅱb
Y37: =IF(COUNTIF(Y11:Y34,"〇")>0,"1",0) -> 0 | Z37: =IF(COUNTIF(Z11:Z34,"〇")>0,"1",0) -> 0 | AA37: =IF(COUNTIF(AA11:AA34,"〇")>0,"1",0) -> 0 | AB37: =IF(COUNTIF(AB11:AB34,"〇")>0,"1",0) -> 0 | AC37: =COUNTA(AC11:AC34) -> 0 | AD37: =COUNTA(AD11:AD34) -> 0 | AE37: =COUNTA(AE11:AE34) -> 0 | AF37: =COUNTA(AF11:AF34) -> 0 | AG37: =COUNTA(AG11:AG34) -> 0 | AH37: =COUNTA(AH11:AH34) -> 0 | AI37: =COUNTA(AI11:AI34) -> 1 | AJ37: =COUNTA(AJ11:AJ34) -> 6
K39: 所見
K43: 注1：誤記入防止のため、当該変状区分以外のセルは灰色表示とすること。
K44: 注2：応急措置を実施した場合は、その詳細を備考に記載すること。
K45: 注3：外力は覆工スパン単位、材質劣化、漏水は変状単位とすること。
B46: （以下、印刷不要）
B47: ※1：本シートは作成洩れのないよう、変状が無くても全スパン分を作成すること．また変状展開図は、様式D-2-1、様式D-2-1'と同じものを覆工スパン単位で拡大し掲載すること。
B48: ※2：変状番号は、様式D-1-1で記入した番号と整合させること。
B49: ※3：対策区分毎の変状発生規模は、様式D-1-1に記載した面積を記入すること（ただし外力はスパン単位で評価するため変状の有無の欄には面積でなく○を記入し、備考欄に状況を記入）。
B50: ※4：本様式は覆工スパン毎に作成すること。
B51: ※5：変状数が多い場合は、適時、表の行を増やして覆工スパン毎に1枚のシートに収めること。また、1スパン１シートとし、スパンに合わせてシートを追加すること。
B52: ※6：対策区分毎の変状の発生範囲の規模とは，対策を行う際に参考となる変状の長さや面積であり，変状を包含する長さや面積とする。
B53: ※7：対策範囲を示す発生範囲の規模を面積で記入することが妥当ではない変状は、発生範囲の規模の欄に○を記入するとともに、備考に内容を記入すること。

Sheet 様式D-3_S005
AU1: 様式F用→ | AV1: 覆工スパン | AY1: 変 状 数 | BK1: 変 状 規 模
AV2: 番号 | AW2: 延長 （ｍ） | AX2: 健全性の診断の 区分 | AY2: 対策区分の判定 | BK2: 覆工スパン長（ｍ） | BO2: 変状の発生範囲の規模（㎡）
B3: ■定期点検記録様式 覆工スパン別変状詳細展開図 【様式D-3】 | AY3: 外力 | BC3: 材質劣化 | BG3: 漏水 | BK3: 外力 注2 | BO3: 材質劣化 | BS3: 漏水
B4: フリガナ | E4: ='様式A-1'!$D$3 -> ハシラノズイドウ | K4: 路線名 | N4: ='様式A-1'!$J$3 -> 主要地方道岩国玖珂線 | T4: 定期点検実施者 | Y4: =+'様式B (1)'!$S$3 -> 復建調査設計株式会社 | AG4: 定期点検年月日 | AK4: =+'様式B (1)'!$P$2 -> 45867 | AY4: Ⅳ | AZ4: Ⅲ | BA4: Ⅱa | BB4: Ⅱb | BC4: Ⅳ | BD4: Ⅲ | BE4: Ⅱa | BF4: Ⅱb | BG4: Ⅳ | BH4: Ⅲ | BI4: Ⅱa | BJ4: Ⅱb | BK4: Ⅳ | BL4: Ⅲ | BM4: Ⅱa | BN4: Ⅱb | BO4: Ⅳ | BP4: Ⅲ | BQ4: Ⅱa | BR4: Ⅱb | BS4: Ⅳ | BT4: Ⅲ | BU4: Ⅱa | BV4: Ⅱb
B5: 名 称 | E5: ='様式A-1'!$D$4 -> 柱野隧道 | K5: 管理者名 | N5: ='様式A-1'!$R$3 -> 山口県岩国土木建築事務所 | Y5: =+'様式B (1)'!$S$4 -> 小笠原洋 | AV5: =N7 -> S005 | AW5: =R7 -> 9 | AX5: =AM35 -> Ⅱ | AY5: =Y37 -> 0 | AZ5: =Z37 -> 0 | BA5: =AA37 -> 0 | BB5: =AB37 -> 0 | BC5: =AC37 -> 0 | BD5: =AD37 -> 0 | BE5: =AE37 -> 0 | BF5: =AF37 -> 0 | ... BJ5: =AJ37 -> 2 | BK5: =IF(Y37>0,R7,"") | BL5: =IF(Y37>0,"",IF(Z37>0,R7,"")) | BM5: =IF(Y37+Z37>0,"",IF(AA37>0,R7,"")) | BN5: =IF(Y37+Z37+AA37>0,"",IF(AB37>0,R7,"")) | BO5: =AC35 -> 0 | BP5: =AD35 -> 0 | BQ5: =AE35 -> 0 | BR5: =AF35 -> 0 | BS5: =AG35 -> 0 | BT5: =AH35 -> 0 | BU5: =AI35 -> 0 | BV5: =AJ35 -> 11.07
B6: スパン別変状展開図 | K6: 【健全性判定集計表】
K7: スパン番号 | N7: S005 | P7: スパン長 | R7: 9 | U7: 前回定期点検時の判定 | W7: 応急措置前の判定 | Y7: 対策区分毎の 変状の有無 | AC7: 対策区分毎の変状の発生範囲の規模(㎡) | AK7: 備考注2
K8: 変状番号 | L8: 対象箇所 | N8: 部位区分 | P8: 変状区分 | R8: 変状種類
Y9: 外力注1 | AC9: 材質劣化注1 | AG9: 漏水注1
Y10: Ⅳ | Z10: Ⅲ | AA10: Ⅱa | AB10: Ⅱb | AC10: Ⅳ | AD10: Ⅲ | AE10: Ⅱa | AF10: Ⅱb | AG10: Ⅳ | AH10: Ⅲ | AI10: Ⅱa | AJ10: Ⅱb
K11: 1 | L11: 覆工 | N11: アーチ（左側） | P11: 漏水 | R11: 漏水 | U11: Ⅱb | W11: Ⅱb | AJ11: 7.02 | AK11: 漏水跡 | AQ11: =IF(P11="材質劣化",2,IF(P11="漏水",3,1)) -> 3 | AS11: =IF(Y11<>"",1,"")
K12: 2 | L12: 覆工 | N12: 横断目地（左側） | P12: 漏水 | R12: 漏水 | U12: Ⅱb | W12: Ⅱb | AJ12: 4.05 | AQ12: =IF(P12="材質劣化",2,IF(P12="漏水",3,1)) -> 3
AQ13: =IF(P13="材質劣化",2,IF(P13="漏水",3,1)) -> 1
AQ14: =IF(P14="材質劣化",2,IF(P14="漏水",3,1)) -> 1
AQ15: =IF(P15="材質劣化",2,IF(P15="漏水",3,1)) -> 1
AQ16: =IF(P16="材質劣化",2,IF(P16="漏水",3,1)) -> 1
AQ17: =IF(P17="材質劣化",2,IF(P17="漏水",3,1)) -> 1
AQ18: =IF(P18="材質劣化",2,IF(P18="漏水",3,1)) -> 1
AQ19: =IF(P19="材質劣化",2,IF(P19="漏水",3,1)) -> 1
AQ20: =IF(P20="材質劣化",2,IF(P20="漏水",3,1)) -> 1
AQ21: =IF(P21="材質劣化",2,IF(P21="漏水",3,1)) -> 1
AQ22: =IF(P22="材質劣化",2,IF(P22="漏水",3,1)) -> 1
AQ23: =IF(P23="材質劣化",2,IF(P23="漏水",3,1)) -> 1
AQ24: =IF(P24="材質劣化",2,IF(P24="漏水",3,1)) -> 1
... AQ27: =IF(P27="材質劣化",2,IF(P27="漏水",3,1)) -> 1
AQ28: =IF(P30="材質劣化",2,IF(P30="漏水",3,1)) -> 1
AQ29: =IF(P34="材質劣化",2,IF(P34="漏水",3,1)) -> 1
AQ30: =IF(P30="材質劣化",2,IF(P30="漏水",3,1)) -> 1
AQ31: =IF(P33="材質劣化",2,IF(P33="漏水",3,1)) -> 1
AQ32: =IF(P37="材質劣化",2,IF(P37="漏水",3,1)) -> 1
AQ33: =IF(P33="材質劣化",2,IF(P33="漏水",3,1)) -> 1
AQ34: =IF(P36="材質劣化",2,IF(P36="漏水",3,1)) -> 1
K35: 集計 判定 診断 | L35: 変状の発生規模合計(㎡) | Y35: － | AC35: =SUM(AC11:AC34) -> 0 | AD35: =SUM(AD11:AD34) -> 0 | AE35: =SUM(AE11:AE34) -> 0 | AF35: =SUM(AF11:AF34) -> 0 | AG35: =SUM(AG11:AG34) -> 0 | AH35: =SUM(AH11:AH34) -> 0 | AI35: =SUM(AI11:AI34) -> 0 | AJ35: =SUM(AJ11:AJ34) -> 11.07 | AK35: 覆工スパン単位の 健全性の 診断の区分 | AM35: Ⅱ
L36: 対策区分の 判定結果 | O36: 対策区分毎の変状数注3 | Y36: Ⅳ | Z36: Ⅲ | AA36: Ⅱa | AB36: Ⅱb | AC36: Ⅳ | AD36: Ⅲ | AE36: Ⅱa | AF36: Ⅱb | AG36: Ⅳ | AH36: Ⅲ | AI36: Ⅱa | AJ36: Ⅱb
Y37: =IF(COUNTIF(Y11:Y34,"〇")>0,"1",0) -> 0 | Z37: =IF(COUNTIF(Z11:Z34,"〇")>0,"1",0) -> 0 | AA37: =IF(COUNTIF(AA11:AA34,"〇")>0,"1",0) -> 0 | AB37: =IF(COUNTIF(AB11:AB34,"〇")>0,"1",0) -> 0 | AC37: =COUNTA(AC11:AC34) -> 0 | AD37: =COUNTA(AD11:AD34) -> 0 | AE37: =COUNTA(AE11:AE34) -> 0 | AF37: =COUNTA(AF11:AF34) -> 0 | AG37: =COUNTA(AG11:AG34) -> 0 | AH37: =COUNTA(AH11:AH34) -> 0 | AI37: =COUNTA(AI11:AI34) -> 0 | AJ37: =COUNTA(AJ11:AJ34) -> 2
K39: 所見
K43: 注1：誤記入防止のため、当該変状区分以外のセルは灰色表示とすること。
K44: 注2：応急措置を実施した場合は、その詳細を備考に記載すること。
K45: 注3：外力は覆工スパン単位、材質劣化、漏水は変状単位とすること。
B46: （以下、印刷不要）
B47: ※1：本シートは作成洩れのないよう、変状が無くても全スパン分を作成すること．また変状展開図は、様式D-2-1、様式D-2-1'と同じものを覆工スパン単位で拡大し掲載すること。
B48: ※2：変状番号は、様式D-1-1で記入した番号と整合させること。
B49: ※3：対策区分毎の変状発生規模は、様式D-1-1に記載した面積を記入すること（ただし外力はスパン単位で評価するため変状の有無の欄には面積でなく○を記入し、備考欄に状況を記入）。
B50: ※4：本様式は覆工スパン毎に作成すること。
B51: ※5：変状数が多い場合は、適時、表の行を増やして覆工スパン毎に1枚のシートに収めること。また、1スパン１シートとし、スパンに合わせてシートを追加すること。
B52: ※6：対策区分毎の変状の発生範囲の規模とは，対策を行う際に参考となる変状の長さや面積であり，変状を包含する長さや面積とする。
B53: ※7：対策範囲を示す発生範囲の規模を面積で記入することが妥当ではない変状は、発生範囲の規模の欄に○を記入するとともに、備考に内容を記入すること。

Sheet 様式D-3_S006
AU1: 様式F用→ | AV1: 覆工スパン | AY1: 変 状 数 | BK1: 変 状 規 模
AV2: 番号 | AW2: 延長 （ｍ） | AX2: 健全性の診断の 区分 | AY2: 対策区分の判定 | BK2: 覆工スパン長（ｍ） | BO2: 変状の発生範囲の規模（㎡）
B3: ■定期点検記録様式 覆工スパン別変状詳細展開図 【様式D-3】 | AY3: 外力 | BC3: 材質劣化 | BG3: 漏水 | BK3: 外力 注2 | BO3: 材質劣化 | BS3: 漏水
B4: フリガナ | E4: ='様式A-1'!$D$3 -> ハシラノズイドウ | K4: 路線名 | N4: ='様式A-1'!$J$3 -> 主要地方道岩国玖珂線 | T4: 定期点検実施者 | Y4: =+'様式B (1)'!$S$3 -> 復建調査設計株式会社 | AG4: 定期点検年月日 | AK4: =+'様式B (1)'!$P$2 -> 45867 | AY4: Ⅳ | AZ4: Ⅲ | BA4: Ⅱa | BB4: Ⅱb | BC4: Ⅳ | BD4: Ⅲ | BE4: Ⅱa | BF4: Ⅱb | BG4: Ⅳ | BH4: Ⅲ | BI4: Ⅱa | BJ4: Ⅱb | BK4: Ⅳ | BL4: Ⅲ | BM4: Ⅱa | BN4: Ⅱb | BO4: Ⅳ | BP4: Ⅲ | BQ4: Ⅱa | BR4: Ⅱb | BS4: Ⅳ | BT4: Ⅲ | BU4: Ⅱa | BV4: Ⅱb
B5: 名 称 | E5: ='様式A-1'!$D$4 -> 柱野隧道 | K5: 管理者名 | N5: ='様式A-1'!$R$3 -> 山口県岩国土木建築事務所 | Y5: =+'様式B (1)'!$S$4 -> 小笠原洋 | AV5: =N7 -> S006 | AW5: =R7 -> 8.8 | AX5: =AM35 -> Ⅱ | AY5: =Y37 -> 0 | AZ5: =Z37 -> 0 | BA5: =AA37 -> 0 | BB5: =AB37 -> 0 | BC5: =AC37 -> 0 | BD5: =AD37 -> 0 | BE5: =AE37 -> 0 | BF5: =AF37 -> 0 | ... BJ5: =AJ37 -> 2 | BK5: =IF(Y37>0,R7,"") | BL5: =IF(Y37>0,"",IF(Z37>0,R7,"")) | BM5: =IF(Y37+Z37>0,"",IF(AA37>0,R7,"")) | BN5: =IF(Y37+Z37+AA37>0,"",IF(AB37>0,R7,"")) | BO5: =AC35 -> 0 | BP5: =AD35 -> 0 | BQ5: =AE35 -> 0 | BR5: =AF35 -> 0 | BS5: =AG35 -> 0 | BT5: =AH35 -> 0 | BU5: =AI35 -> 0 | BV5: =AJ35 -> 40.56
B6: スパン別変状展開図 | K6: 【健全性判定集計表】
K7: スパン番号 | N7: S006 | P7: スパン長 | R7: 8.8 | U7: 前回定期点検時の判定 | W7: 応急措置前の判定 | Y7: 対策区分毎の 変状の有無 | AC7: 対策区分毎の変状の発生範囲の規模(㎡) | AK7: 備考注2
K8: 変状番号 | L8: 対象箇所 | N8: 部位区分 | P8: 変状区分 | R8: 変状種類
Y9: 外力注1 | AC9: 材質劣化注1 | AG9: 漏水注1
Y10: Ⅳ | Z10: Ⅲ | AA10: Ⅱa | AB10: Ⅱb | AC10: Ⅳ | AD10: Ⅲ | AE10: Ⅱa | AF10: Ⅱb | AG10: Ⅳ | AH10: Ⅲ | AI10: Ⅱa | AJ10: Ⅱb
K11: 1 | L11: 覆工 | N11: アーチ（左側） | P11: 漏水 | R11: 漏水 | U11: Ⅱb | W11: Ⅱb | AJ11: 21.56 | AQ11: =IF(P11="材質劣化",2,IF(P11="漏水",3,1)) -> 3 | AS11: =IF(Y11<>"",1,"")
K12: 2 | L12: 覆工 | N12: アーチ（右側） | P12: 漏水 | R12: 漏水 | U12: － | W12: Ⅱb | AJ12: 19 | AQ12: =IF(P12="材質劣化",2,IF(P12="漏水",3,1)) -> 3
K13: 3 | L13: 覆工 | N13: 横断目地（右側） | P13: 材質劣化 | R13: うき・はく離 | U13: Ⅲ | W13: Ⅰ | AK13: はく落対策工補修済 | AQ13: =IF(P13="材質劣化",2,IF(P13="漏水",3,1)) -> 2
AQ14: =IF(P14="材質劣化",2,IF(P14="漏水",3,1)) -> 1
AQ15: =IF(P15="材質劣化",2,IF(P15="漏水",3,1)) -> 1
AQ16: =IF(P16="材質劣化",2,IF(P16="漏水",3,1)) -> 1
AQ17: =IF(P17="材質劣化",2,IF(P17="漏水",3,1)) -> 1
AQ18: =IF(P18="材質劣化",2,IF(P18="漏水",3,1)) -> 1
AQ19: =IF(P19="材質劣化",2,IF(P19="漏水",3,1)) -> 1
AQ20: =IF(P20="材質劣化",2,IF(P20="漏水",3,1)) -> 1
AQ21: =IF(P21="材質劣化",2,IF(P21="漏水",3,1)) -> 1
AQ22: =IF(P22="材質劣化",2,IF(P22="漏水",3,1)) -> 1
AQ23: =IF(P23="材質劣化",2,IF(P23="漏水",3,1)) -> 1
AQ24: =IF(P24="材質劣化",2,IF(P24="漏水",3,1)) -> 1
AQ25: =IF(P25="材質劣化",2,IF(P25="漏水",3,1)) -> 1
... AQ27: =IF(P27="材質劣化",2,IF(P27="漏水",3,1)) -> 1
AQ28: =IF(P30="材質劣化",2,IF(P30="漏水",3,1)) -> 1
AQ29: =IF(P34="材質劣化",2,IF(P34="漏水",3,1)) -> 1
AQ30: =IF(P30="材質劣化",2,IF(P30="漏水",3,1)) -> 1
AQ31: =IF(P33="材質劣化",2,IF(P33="漏水",3,1)) -> 1
AQ32: =IF(P37="材質劣化",2,IF(P37="漏水",3,1)) -> 1
AQ33: =IF(P33="材質劣化",2,IF(P33="漏水",3,1)) -> 1
AQ34: =IF(P36="材質劣化",2,IF(P36="漏水",3,1)) -> 1
K35: 集計 判定 診断 | L35: 変状の発生規模合計(㎡) | Y35: － | AC35: =SUM(AC11:AC34) -> 0 | AD35: =SUM(AD11:AD34) -> 0 | AE35: =SUM(AE11:AE34) -> 0 | AF35: =SUM(AF11:AF34) -> 0 | AG35: =SUM(AG11:AG34) -> 0 | AH35: =SUM(AH11:AH34) -> 0 | AI35: =SUM(AI11:AI34) -> 0 | AJ35: =SUM(AJ11:AJ34) -> 40.56 | AK35: 覆工スパン単位の 健全性の 診断の区分 | AM35: Ⅱ
L36: 対策区分の 判定結果 | O36: 対策区分毎の変状数注3 | Y36: Ⅳ | Z36: Ⅲ | AA36: Ⅱa | AB36: Ⅱb | AC36: Ⅳ | AD36: Ⅲ | AE36: Ⅱa | AF36: Ⅱb | AG36: Ⅳ | AH36: Ⅲ | AI36: Ⅱa | AJ36: Ⅱb
Y37: =IF(COUNTIF(Y11:Y34,"〇")>0,"1",0) -> 0 | Z37: =IF(COUNTIF(Z11:Z34,"〇")>0,"1",0) -> 0 | AA37: =IF(COUNTIF(AA11:AA34,"〇")>0,"1",0) -> 0 | AB37: =IF(COUNTIF(AB11:AB34,"〇")>0,"1",0) -> 0 | AC37: =COUNTA(AC11:AC34) -> 0 | AD37: =COUNTA(AD11:AD34) -> 0 | AE37: =COUNTA(AE11:AE34) -> 0 | AF37: =COUNTA(AF11:AF34) -> 0 | AG37: =COUNTA(AG11:AG34) -> 0 | AH37: =COUNTA(AH11:AH34) -> 0 | AI37: =COUNTA(AI11:AI34) -> 0 | AJ37: =COUNTA(AJ11:AJ34) -> 2
K39: 所見
K43: 注1：誤記入防止のため、当該変状区分以外のセルは灰色表示とすること。
K44: 注2：応急措置を実施した場合は、その詳細を備考に記載すること。
K45: 注3：外力は覆工スパン単位、材質劣化、漏水は変状単位とすること。
B46: （以下、印刷不要）
B47: ※1：本シートは作成洩れのないよう、変状が無くても全スパン分を作成すること．また変状展開図は、様式D-2-1、様式D-2-1'と同じものを覆工スパン単位で拡大し掲載すること。
B48: ※2：変状番号は、様式D-1-1で記入した番号と整合させること。
B49: ※3：対策区分毎の変状発生規模は、様式D-1-1に記載した面積を記入すること（ただし外力はスパン単位で評価するため変状の有無の欄には面積でなく○を記入し、備考欄に状況を記入）。
B50: ※4：本様式は覆工スパン毎に作成すること。
B51: ※5：変状数が多い場合は、適時、表の行を増やして覆工スパン毎に1枚のシートに収めること。また、1スパン１シートとし、スパンに合わせてシートを追加すること。
B52: ※6：対策区分毎の変状の発生範囲の規模とは，対策を行う際に参考となる変状の長さや面積であり，変状を包含する長さや面積とする。
B53: ※7：対策範囲を示す発生範囲の規模を面積で記入することが妥当ではない変状は、発生範囲の規模の欄に○を記入するとともに、備考に内容を記入すること。

Sheet 様式D-3_S007
AU1: 様式F用→ | AV1: 覆工スパン | AY1: 変 状 数 | BK1: 変 状 規 模
AV2: 番号 | AW2: 延長 （ｍ） | AX2: 健全性の診断の 区分 | AY2: 対策区分の判定 | BK2: 覆工スパン長（ｍ） | BO2: 変状の発生範囲の規模（㎡）
B3: ■定期点検記録様式 覆工スパン別変状詳細展開図 【様式D-3】 | AY3: 外力 | BC3: 材質劣化 | BG3: 漏水 | BK3: 外力 注2 | BO3: 材質劣化 | BS3: 漏水
B4: フリガナ | E4: ='様式A-1'!$D$3 -> ハシラノズイドウ | K4: 路線名 | N4: ='様式A-1'!$J$3 -> 主要地方道岩国玖珂線 | T4: 定期点検実施者 | Y4: =+'様式B (1)'!$S$3 -> 復建調査設計株式会社 | AG4: 定期点検年月日 | AK4: =+'様式B (1)'!$P$2 -> 45867 | AY4: Ⅳ | AZ4: Ⅲ | BA4: Ⅱa | BB4: Ⅱb | BC4: Ⅳ | BD4: Ⅲ | BE4: Ⅱa | BF4: Ⅱb | BG4: Ⅳ | BH4: Ⅲ | BI4: Ⅱa | BJ4: Ⅱb | BK4: Ⅳ | BL4: Ⅲ | BM4: Ⅱa | BN4: Ⅱb | BO4: Ⅳ | BP4: Ⅲ | BQ4: Ⅱa | BR4: Ⅱb | BS4: Ⅳ | BT4: Ⅲ | BU4: Ⅱa | BV4: Ⅱb
B5: 名 称 | E5: ='様式A-1'!$D$4 -> 柱野隧道 | K5: 管理者名 | N5: ='様式A-1'!$R$3 -> 山口県岩国土木建築事務所 | Y5: =+'様式B (1)'!$S$4 -> 小笠原洋 | AV5: =N7 -> S007 | AW5: =R7 -> 8.7 | AX5: =AM35 -> Ⅱ | AY5: =Y37 -> 0 | AZ5: =Z37 -> 0 | BA5: =AA37 -> 0 | BB5: =AB37 -> 0 | BC5: =AC37 -> 0 | BD5: =AD37 -> 0 | BE5: =AE37 -> 0 | BF5: =AF37 -> 2 | ... BJ5: =AJ37 -> 3 | BK5: =IF(Y37>0,R7,"") | BL5: =IF(Y37>0,"",IF(Z37>0,R7,"")) | BM5: =IF(Y37+Z37>0,"",IF(AA37>0,R7,"")) | BN5: =IF(Y37+Z37+AA37>0,"",IF(AB37>0,R7,"")) | BO5: =AC35 -> 0 | BP5: =AD35 -> 0 | BQ5: =AE35 -> 0 | BR5: =AF35 -> 0.385 | BS5: =AG35 -> 0 | BT5: =AH35 -> 0 | BU5: =AI35 -> 4.05 | BV5: =AJ35 -> 8.85
B6: スパン別変状展開図 | K6: 【健全性判定集計表】
K7: スパン番号 | N7: S007 | P7: スパン長 | R7: 8.7 | U7: 前回定期点検時の判定 | W7: 応急措置前の判定 | Y7: 対策区分毎の 変状の有無 | AC7: 対策区分毎の変状の発生範囲の規模(㎡) | AK7: 備考注2
K8: 変状番号 | L8: 対象箇所 | N8: 部位区分 | P8: 変状区分 | R8: 変状種類
Y9: 外力注1 | AC9: 材質劣化注1 | AG9: 漏水注1
Y10: Ⅳ | Z10: Ⅲ | AA10: Ⅱa | AB10: Ⅱb | AC10: Ⅳ | AD10: Ⅲ | AE10: Ⅱa | AF10: Ⅱb | AG10: Ⅳ | AH10: Ⅲ | AI10: Ⅱa | AJ10: Ⅱb
K11: 1 | L11: 覆工 | N11: アーチ（左側） | P11: 材質劣化 | R11: その他 | U11: Ⅱb | W11: Ⅱb | AF11: 0.14 | AK11: 豆板 | AQ11: =IF(P11="材質劣化",2,IF(P11="漏水",3,1)) -> 2 | AS11: =IF(Y11<>"",1,"")
K12: 2 | L12: 覆工 | N12: アーチ（天端） | P12: 漏水 | R12: 漏水 | U12: Ⅱb | W12: Ⅱb | AJ12: 4.45 | AK12: 漏水跡 | AQ12: =IF(P12="材質劣化",2,IF(P12="漏水",3,1)) -> 3
K13: 3 | L13: 覆工 | N13: アーチ（天端） | P13: 材質劣化 | R13: うき・はく離 | U13: － | W13: Ⅱb | AF13: 0.245 | AQ13: =IF(P13="材質劣化",2,IF(P13="漏水",3,1)) -> 2
K14: 4 | L14: 覆工 | N14: アーチ（右側） | P14: 漏水 | R14: 漏水 | U14: Ⅱa | W14: Ⅱa | AI14: 4.05 | AQ14: =IF(P14="材質劣化",2,IF(P14="漏水",3,1)) -> 3
K15: 5 | L15: 覆工 | N15: アーチ（右側） | P15: 漏水 | R15: 漏水 | U15: Ⅱb | W15: Ⅱb | AJ15: 2.75 | AQ15: =IF(P15="材質劣化",2,IF(P15="漏水",3,1)) -> 3
K16: 6 | L16: 覆工 | N16: アーチ（右側） | P16: 漏水 | R16: 漏水 | U16: Ⅱb | W16: Ⅱb | AJ16: 1.65 | AQ16: =IF(P16="材質劣化",2,IF(P16="漏水",3,1)) -> 3
AQ17: =IF(P17="材質劣化",2,IF(P17="漏水",3,1)) -> 1
AQ18: =IF(P18="材質劣化",2,IF(P18="漏水",3,1)) -> 1
AQ19: =IF(P19="材質劣化",2,IF(P19="漏水",3,1)) -> 1
AQ20: =IF(P20="材質劣化",2,IF(P20="漏水",3,1)) -> 1
AQ21: =IF(P21="材質劣化",2,IF(P21="漏水",3,1)) -> 1
AQ22: =IF(P22="材質劣化",2,IF(P22="漏水",3,1)) -> 1
AQ23: =IF(P23="材質劣化",2,IF(P23="漏水",3,1)) -> 1
AQ24: =IF(P24="材質劣化",2,IF(P24="漏水",3,1)) -> 1
AQ25: =IF(P25="材質劣化",2,IF(P25="漏水",3,1)) -> 1
AQ26: =IF(P26="材質劣化",2,IF(P26="漏水",3,1)) -> 1
AQ27: =IF(P27="材質劣化",2,IF(P27="漏水",3,1)) -> 1
AQ28: =IF(P30="材質劣化",2,IF(P30="漏水",3,1)) -> 1
AQ29: =IF(P34="材質劣化",2,IF(P34="漏水",3,1)) -> 1
AQ30: =IF(P30="材質劣化",2,IF(P30="漏水",3,1)) -> 1
AQ31: =IF(P33="材質劣化",2,IF(P33="漏水",3,1)) -> 1
AQ32: =IF(P37="材質劣化",2,IF(P37="漏水",3,1)) -> 1
AQ33: =IF(P33="材質劣化",2,IF(P33="漏水",3,1)) -> 1
AQ34: =IF(P36="材質劣化",2,IF(P36="漏水",3,1)) -> 1
K35: 集計 判定 診断 | L35: 変状の発生規模合計(㎡) | Y35: － | AC35: =SUM(AC11:AC34) -> 0 | AD35: =SUM(AD11:AD34) -> 0 | AE35: =SUM(AE11:AE34) -> 0 | AF35: =SUM(AF11:AF34) -> 0.385 | AG35: =SUM(AG11:AG34) -> 0 | AH35: =SUM(AH11:AH34) -> 0 | AI35: =SUM(AI11:AI34) -> 4.05 | AJ35: =SUM(AJ11:AJ34) -> 8.85 | AK35: 覆工スパン単位の 健全性の 診断の区分 | AM35: Ⅱ
L36: 対策区分の 判定結果 | O36: 対策区分毎の変状数注3 | Y36: Ⅳ | Z36: Ⅲ | AA36: Ⅱa | AB36: Ⅱb | AC36: Ⅳ | AD36: Ⅲ | AE36: Ⅱa | AF36: Ⅱb | AG36: Ⅳ | AH36: Ⅲ | AI36: Ⅱa | AJ36: Ⅱb
Y37: =IF(COUNTIF(Y11:Y34,"〇")>0,"1",0) -> 0 | Z37: =IF(COUNTIF(Z11:Z34,"〇")>0,"1",0) -> 0 | AA37: =IF(COUNTIF(AA11:AA34,"〇")>0,"1",0) -> 0 | AB37: =IF(COUNTIF(AB11:AB34,"〇")>0,"1",0) -> 0 | AC37: =COUNTA(AC11:AC34) -> 0 | AD37: =COUNTA(AD11:AD34) -> 0 | AE37: =COUNTA(AE11:AE34) -> 0 | AF37: =COUNTA(AF11:AF34) -> 2 | AG37: =COUNTA(AG11:AG34) -> 0 | AH37: =COUNTA(AH11:AH34) -> 0 | AI37: =COUNTA(AI11:AI34) -> 1 | AJ37: =COUNTA(AJ11:AJ34) -> 3
K39: 所見
K43: 注1：誤記入防止のため、当該変状区分以外のセルは灰色表示とすること。
K44: 注2：応急措置を実施した場合は、その詳細を備考に記載すること。
K45: 注3：外力は覆工スパン単位、材質劣化、漏水は変状単位とすること。
B46: （以下、印刷不要）
B47: ※1：本シートは作成洩れのないよう、変状が無くても全スパン分を作成すること．また変状展開図は、様式D-2-1、様式D-2-1'と同じものを覆工スパン単位で拡大し掲載すること。
B48: ※2：変状番号は、様式D-1-1で記入した番号と整合させること。
B49: ※3：対策区分毎の変状発生規模は、様式D-1-1に記載した面積を記入すること（ただし外力はスパン単位で評価するため変状の有無の欄には面積でなく○を記入し、備考欄に状況を記入）。
B50: ※4：本様式は覆工スパン毎に作成すること。
B51: ※5：変状数が多い場合は、適時、表の行を増やして覆工スパン毎に1枚のシートに収めること。また、1スパン１シートとし、スパンに合わせてシートを追加すること。
B52: ※6：対策区分毎の変状の発生範囲の規模とは，対策を行う際に参考となる変状の長さや面積であり，変状を包含する長さや面積とする。
B53: ※7：対策範囲を示す発生範囲の規模を面積で記入することが妥当ではない変状は、発生範囲の規模の欄に○を記入するとともに、備考に内容を記入すること。

Sheet 様式D-3_S008
AU1: 様式F用→ | AV1: 覆工スパン | AY1: 変 状 数 | BK1: 変 状 規 模
AV2: 番号 | AW2: 延長 （ｍ） | AX2: 健全性の診断の 区分 | AY2: 対策区分の判定 | BK2: 覆工スパン長（ｍ） | BO2: 変状の発生範囲の規模（㎡）
B3: ■定期点検記録様式 覆工スパン別変状詳細展開図 【様式D-3】 | AY3: 外力 | BC3: 材質劣化 | BG3: 漏水 | BK3: 外力 注2 | BO3: 材質劣化 | BS3: 漏水
B4: フリガナ | E4: ='様式A-1'!$D$3 -> ハシラノズイドウ | K4: 路線名 | N4: ='様式A-1'!$J$3 -> 主要地方道岩国玖珂線 | T4: 定期点検実施者 | Y4: =+'様式B (1)'!$S$3 -> 復建調査設計株式会社 | AG4: 定期点検年月日 | AK4: =+'様式B (1)'!$P$2 -> 45867 | AY4: Ⅳ | AZ4: Ⅲ | BA4: Ⅱa | BB4: Ⅱb | BC4: Ⅳ | BD4: Ⅲ | BE4: Ⅱa | BF4: Ⅱb | BG4: Ⅳ | BH4: Ⅲ | BI4: Ⅱa | BJ4: Ⅱb | BK4: Ⅳ | BL4: Ⅲ | BM4: Ⅱa | BN4: Ⅱb | BO4: Ⅳ | BP4: Ⅲ | BQ4: Ⅱa | BR4: Ⅱb | BS4: Ⅳ | BT4: Ⅲ | BU4: Ⅱa | BV4: Ⅱb
B5: 名 称 | E5: ='様式A-1'!$D$4 -> 柱野隧道 | K5: 管理者名 | N5: ='様式A-1'!$R$3 -> 山口県岩国土木建築事務所 | Y5: =+'様式B (1)'!$S$4 -> 小笠原洋 | AV5: =N7 -> S008 | AW5: =R7 -> 9 | AX5: =AM35 -> Ⅱ | AY5: =Y37 -> 0 | AZ5: =Z37 -> 0 | BA5: =AA37 -> 0 | BB5: =AB37 -> 0 | BC5: =AC37 -> 0 | BD5: =AD37 -> 0 | BE5: =AE37 -> 0 | BF5: =AF37 -> 0 | ... BJ5: =AJ37 -> 1 | BK5: =IF(Y37>0,R7,"") | BL5: =IF(Y37>0,"",IF(Z37>0,R7,"")) | BM5: =IF(Y37+Z37>0,"",IF(AA37>0,R7,"")) | BN5: =IF(Y37+Z37+AA37>0,"",IF(AB37>0,R7,"")) | BO5: =AC35 -> 0 | BP5: =AD35 -> 0 | BQ5: =AE35 -> 0 | BR5: =AF35 -> 0 | BS5: =AG35 -> 0 | BT5: =AH35 -> 0 | BU5: =AI35 -> 4.45 | BV5: =AJ35 -> 3.65
B6: スパン別変状展開図 | K6: 【健全性判定集計表】
K7: スパン番号 | N7: S008 | P7: スパン長 | R7: 9 | U7: 前回定期点検時の判定 | W7: 応急措置前の判定 | Y7: 対策区分毎の 変状の有無 | AC7: 対策区分毎の変状の発生範囲の規模(㎡) | AK7: 備考注2
K8: 変状番号 | L8: 対象箇所 | N8: 部位区分 | P8: 変状区分 | R8: 変状種類
Y9: 外力注1 | AC9: 材質劣化注1 | AG9: 漏水注1
Y10: Ⅳ | Z10: Ⅲ | AA10: Ⅱa | AB10: Ⅱb | AC10: Ⅳ | AD10: Ⅲ | AE10: Ⅱa | AF10: Ⅱb | AG10: Ⅳ | AH10: Ⅲ | AI10: Ⅱa | AJ10: Ⅱb
K11: 1 | L11: 覆工 | N11: アーチ（天端） | P11: 材質劣化 | R11: うき・はく離 | U11: Ⅲ | W11: Ⅰ | AK11: はく落対策工補修済 | AQ11: =IF(P11="材質劣化",2,IF(P11="漏水",3,1)) -> 2 | AS11: =IF(Y11<>"",1,"")
K12: 2 | L12: 覆工 | N12: アーチ（天端） | P12: 漏水 | R12: 漏水 | U12: Ⅱa | W12: Ⅱa | AI12: 4.45 | AK12: 滴水 | AQ12: =IF(P12="材質劣化",2,IF(P12="漏水",3,1)) -> 3
K13: 3 | L13: 覆工 | N13: アーチ（右側） | P13: 漏水 | R13: 漏水 | U13: Ⅱb | W13: Ⅱb | AJ13: 3.65 | AQ13: =IF(P13="材質劣化",2,IF(P13="漏水",3,1)) -> 3
K14: 4 | L14: 覆工 | N14: 横断目地（右側） | P14: 材質劣化 | R14: うき・はく離 | U14: Ⅲ | W14: Ⅰ | AK14: はく落対策工補修済 | AQ14: =IF(P14="材質劣化",2,IF(P14="漏水",3,1)) -> 2
AQ15: =IF(P15="材質劣化",2,IF(P15="漏水",3,1)) -> 1
AQ16: =IF(P16="材質劣化",2,IF(P16="漏水",3,1)) -> 1
AQ17: =IF(P17="材質劣化",2,IF(P17="漏水",3,1)) -> 1
AQ18: =IF(P18="材質劣化",2,IF(P18="漏水",3,1)) -> 1
AQ19: =IF(P19="材質劣化",2,IF(P19="漏水",3,1)) -> 1
AQ20: =IF(P20="材質劣化",2,IF(P20="漏水",3,1)) -> 1
AQ21: =IF(P21="材質劣化",2,IF(P21="漏水",3,1)) -> 1
AQ22: =IF(P22="材質劣化",2,IF(P22="漏水",3,1)) -> 1
AQ23: =IF(P23="材質劣化",2,IF(P23="漏水",3,1)) -> 1
AQ24: =IF(P24="材質劣化",2,IF(P24="漏水",3,1)) -> 1
AQ25: =IF(P25="材質劣化",2,IF(P25="漏水",3,1)) -> 1
AQ26: =IF(P26="材質劣化",2,IF(P26="漏水",3,1)) -> 1
AQ27: =IF(P27="材質劣化",2,IF(P27="漏水",3,1)) -> 1
AQ28: =IF(P30="材質劣化",2,IF(P30="漏水",3,1)) -> 1
AQ29: =IF(P34="材質劣化",2,IF(P34="漏水",3,1)) -> 1
AQ30: =IF(P30="材質劣化",2,IF(P30="漏水",3,1)) -> 1
AQ31: =IF(P33="材質劣化",2,IF(P33="漏水",3,1)) -> 1
AQ32: =IF(P37="材質劣化",2,IF(P37="漏水",3,1)) -> 1
AQ33: =IF(P33="材質劣化",2,IF(P33="漏水",3,1)) -> 1
AQ34: =IF(P36="材質劣化",2,IF(P36="漏水",3,1)) -> 1
K35: 集計 判定 診断 | L35: 変状の発生規模合計(㎡) | Y35: － | AC35: =SUM(AC11:AC34) -> 0 | AD35: =SUM(AD11:AD34) -> 0 | AE35: =SUM(AE11:AE34) -> 0 | AF35: =SUM(AF11:AF34) -> 0 | AG35: =SUM(AG11:AG34) -> 0 | AH35: =SUM(AH11:AH34) -> 0 | AI35: =SUM(AI11:AI34) -> 4.45 | AJ35: =SUM(AJ11:AJ34) -> 3.65 | AK35: 覆工スパン単位の 健全性の 診断の区分 | AM35: Ⅱ
L36: 対策区分の 判定結果 | O36: 対策区分毎の変状数注3 | Y36: Ⅳ | Z36: Ⅲ | AA36: Ⅱa | AB36: Ⅱb | AC36: Ⅳ | AD36: Ⅲ | AE36: Ⅱa | AF36: Ⅱb | AG36: Ⅳ | AH36: Ⅲ | AI36: Ⅱa | AJ36: Ⅱb
Y37: =IF(COUNTIF(Y11:Y34,"〇")>0,"1",0) -> 0 | Z37: =IF(COUNTIF(Z11:Z34,"〇")>0,"1",0) -> 0 | AA37: =IF(COUNTIF(AA11:AA34,"〇")>0,"1",0) -> 0 | AB37: =IF(COUNTIF(AB11:AB34,"〇")>0,"1",0) -> 0 | AC37: =COUNTA(AC11:AC34) -> 0 | AD37: =COUNTA(AD11:AD34) -> 0 | AE37: =COUNTA(AE11:AE34) -> 0 | AF37: =COUNTA(AF11:AF34) -> 0 | AG37: =COUNTA(AG11:AG34) -> 0 | AH37: =COUNTA(AH11:AH34) -> 0 | AI37: =COUNTA(AI11:AI34) -> 1 | AJ37: =COUNTA(AJ11:AJ34) -> 1
K39: 所見
K43: 注1：誤記入防止のため、当該変状区分以外のセルは灰色表示とすること。
K44: 注2：応急措置を実施した場合は、その詳細を備考に記載すること。
K45: 注3：外力は覆工スパン単位、材質劣化、漏水は変状単位とすること。
B46: （以下、印刷不要）
B47: ※1：本シートは作成洩れのないよう、変状が無くても全スパン分を作成すること．また変状展開図は、様式D-2-1、様式D-2-1'と同じものを覆工スパン単位で拡大し掲載すること。
B48: ※2：変状番号は、様式D-1-1で記入した番号と整合させること。
B49: ※3：対策区分毎の変状発生規模は、様式D-1-1に記載した面積を記入すること（ただし外力はスパン単位で評価するため変状の有無の欄には面積でなく○を記入し、備考欄に状況を記入）。
B50: ※4：本様式は覆工スパン毎に作成すること。
B51: ※5：変状数が多い場合は、適時、表の行を増やして覆工スパン毎に1枚のシートに収めること。また、1スパン１シートとし、スパンに合わせてシートを追加すること。
B52: ※6：対策区分毎の変状の発生範囲の規模とは，対策を行う際に参考となる変状の長さや面積であり，変状を包含する長さや面積とする。
B53: ※7：対策範囲を示す発生範囲の規模を面積で記入することが妥当ではない変状は、発生範囲の規模の欄に○を記入するとともに、備考に内容を記入すること。

Sheet 様式D-3_S009
AU1: 様式F用→ | AV1: 覆工スパン | AY1: 変 状 数 | BK1: 変 状 規 模
AV2: 番号 | AW2: 延長 （ｍ） | AX2: 健全性の診断の 区分 | AY2: 対策区分の判定 | BK2: 覆工スパン長（ｍ） | BO2: 変状の発生範囲の規模（㎡）
B3: ■定期点検記録様式 覆工スパン別変状詳細展開図 【様式D-3】 | AY3: 外力 | BC3: 材質劣化 | BG3: 漏水 | BK3: 外力 注2 | BO3: 材質劣化 | BS3: 漏水
B4: フリガナ | E4: ='様式A-1'!$D$3 -> ハシラノズイドウ | K4: 路線名 | N4: ='様式A-1'!$J$3 -> 主要地方道岩国玖珂線 | T4: 定期点検実施者 | Y4: =+'様式B (1)'!$S$3 -> 復建調査設計株式会社 | AG4: 定期点検年月日 | AK4: =+'様式B (1)'!$P$2 -> 45867 | AY4: Ⅳ | AZ4: Ⅲ | BA4: Ⅱa | BB4: Ⅱb | BC4: Ⅳ | BD4: Ⅲ | BE4: Ⅱa | BF4: Ⅱb | BG4: Ⅳ | BH4: Ⅲ | BI4: Ⅱa | BJ4: Ⅱb | BK4: Ⅳ | BL4: Ⅲ | BM4: Ⅱa | BN4: Ⅱb | BO4: Ⅳ | BP4: Ⅲ | BQ4: Ⅱa | BR4: Ⅱb | BS4: Ⅳ | BT4: Ⅲ | BU4: Ⅱa | BV4: Ⅱb
B5: 名 称 | E5: ='様式A-1'!$D$4 -> 柱野隧道 | K5: 管理者名 | N5: ='様式A-1'!$R$3 -> 山口県岩国土木建築事務所 | Y5: =+'様式B (1)'!$S$4 -> 小笠原洋 | AV5: =N7 -> S009 | AW5: =R7 -> 9 | AX5: =AM35 -> Ⅱ | AY5: =Y37 -> 0 | AZ5: =Z37 -> 0 | BA5: =AA37 -> 0 | BB5: =AB37 -> 0 | BC5: =AC37 -> 0 | BD5: =AD37 -> 0 | BE5: =AE37 -> 0 | BF5: =AF37 -> 0 | ... BJ5: =AJ37 -> 3 | BK5: =IF(Y37>0,R7,"") | BL5: =IF(Y37>0,"",IF(Z37>0,R7,"")) | BM5: =IF(Y37+Z37>0,"",IF(AA37>0,R7,"")) | BN5: =IF(Y37+Z37+AA37>0,"",IF(AB37>0,R7,"")) | BO5: =AC35 -> 0 | BP5: =AD35 -> 0 | BQ5: =AE35 -> 0 | BR5: =AF35 -> 0 | BS5: =AG35 -> 0 | BT5: =AH35 -> 0 | BU5: =AI35 -> 0 | BV5: =AJ35 -> 11.1
B6: スパン別変状展開図 | K6: 【健全性判定集計表】
K7: スパン番号 | N7: S009 | P7: スパン長 | R7: 9 | U7: 前回定期点検時の判定 | W7: 応急措置前の判定 | Y7: 対策区分毎の 変状の有無 | AC7: 対策区分毎の変状の発生範囲の規模(㎡) | AK7: 備考注2
K8: 変状番号 | L8: 対象箇所 | N8: 部位区分 | P8: 変状区分 | R8: 変状種類
Y9: 外力注1 | AC9: 材質劣化注1 | AG9: 漏水注1
Y10: Ⅳ | Z10: Ⅲ | AA10: Ⅱa | AB10: Ⅱb | AC10: Ⅳ | AD10: Ⅲ | AE10: Ⅱa | AF10: Ⅱb | AG10: Ⅳ | AH10: Ⅲ | AI10: Ⅱa | AJ10: Ⅱb
K11: 1 | L11: 覆工 | N11: 横断目地（左側） | P11: 漏水 | R11: 漏水 | U11: Ⅱb | W11: Ⅱb | AJ11: 3 | AK11: 漏水跡 | AQ11: =IF(P11="材質劣化",2,IF(P11="漏水",3,1)) -> 3 | AS11: =IF(Y11<>"",1,"")
K12: 2 | L12: 覆工 | N12: アーチ（左側） | P12: 漏水 | R12: 漏水 | U12: Ⅱa | W12: Ⅱb | AJ12: 3.85 | AQ12: =IF(P12="材質劣化",2,IF(P12="漏水",3,1)) -> 3
K13: 3 | L13: 覆工 | N13: アーチ（天端） | P13: 漏水 | R13: 漏水 | U13: Ⅱb | W13: Ⅱb | AJ13: 4.25 | AQ13: =IF(P13="材質劣化",2,IF(P13="漏水",3,1)) -> 3
AQ14: =IF(P14="材質劣化",2,IF(P14="漏水",3,1)) -> 1
AQ15: =IF(P15="材質劣化",2,IF(P15="漏水",3,1)) -> 1
AQ16: =IF(P16="材質劣化",2,IF(P16="漏水",3,1)) -> 1
AQ17: =IF(P17="材質劣化",2,IF(P17="漏水",3,1)) -> 1
AQ18: =IF(P18="材質劣化",2,IF(P18="漏水",3,1)) -> 1
AQ19: =IF(P19="材質劣化",2,IF(P19="漏水",3,1)) -> 1
AQ20: =IF(P20="材質劣化",2,IF(P20="漏水",3,1)) -> 1
AQ21: =IF(P21="材質劣化",2,IF(P21="漏水",3,1)) -> 1
AQ22: =IF(P22="材質劣化",2,IF(P22="漏水",3,1)) -> 1
AQ23: =IF(P23="材質劣化",2,IF(P23="漏水",3,1)) -> 1
AQ24: =IF(P24="材質劣化",2,IF(P24="漏水",3,1)) -> 1
AQ25: =IF(P25="材質劣化",2,IF(P25="漏水",3,1)) -> 1
... AQ27: =IF(P27="材質劣化",2,IF(P27="漏水",3,1)) -> 1
AQ28: =IF(P30="材質劣化",2,IF(P30="漏水",3,1)) -> 1
AQ29: =IF(P34="材質劣化",2,IF(P34="漏水",3,1)) -> 1
AQ30: =IF(P30="材質劣化",2,IF(P30="漏水",3,1)) -> 1
AQ31: =IF(P33="材質劣化",2,IF(P33="漏水",3,1)) -> 1
AQ32: =IF(P37="材質劣化",2,IF(P37="漏水",3,1)) -> 1
AQ33: =IF(P33="材質劣化",2,IF(P33="漏水",3,1)) -> 1
AQ34: =IF(P36="材質劣化",2,IF(P36="漏水",3,1)) -> 1
K35: 集計 判定 診断 | L35: 変状の発生規模合計(㎡) | Y35: － | AC35: =SUM(AC11:AC34) -> 0 | AD35: =SUM(AD11:AD34) -> 0 | AE35: =SUM(AE11:AE34) -> 0 | AF35: =SUM(AF11:AF34) -> 0 | AG35: =SUM(AG11:AG34) -> 0 | AH35: =SUM(AH11:AH34) -> 0 | AI35: =SUM(AI11:AI34) -> 0 | AJ35: =SUM(AJ11:AJ34) -> 11.1 | AK35: 覆工スパン単位の 健全性の 診断の区分 | AM35: Ⅱ
L36: 対策区分の 判定結果 | O36: 対策区分毎の変状数注3 | Y36: Ⅳ | Z36: Ⅲ | AA36: Ⅱa | AB36: Ⅱb | AC36: Ⅳ | AD36: Ⅲ | AE36: Ⅱa | AF36: Ⅱb | AG36: Ⅳ | AH36: Ⅲ | AI36: Ⅱa | AJ36: Ⅱb
Y37: =IF(COUNTIF(Y11:Y34,"〇")>0,"1",0) -> 0 | Z37: =IF(COUNTIF(Z11:Z34,"〇")>0,"1",0) -> 0 | AA37: =IF(COUNTIF(AA11:AA34,"〇")>0,"1",0) -> 0 | AB37: =IF(COUNTIF(AB11:AB34,"〇")>0,"1",0) -> 0 | AC37: =COUNTA(AC11:AC34) -> 0 | AD37: =COUNTA(AD11:AD34) -> 0 | AE37: =COUNTA(AE11:AE34) -> 0 | AF37: =COUNTA(AF11:AF34) -> 0 | AG37: =COUNTA(AG11:AG34) -> 0 | AH37: =COUNTA(AH11:AH34) -> 0 | AI37: =COUNTA(AI11:AI34) -> 0 | AJ37: =COUNTA(AJ11:AJ34) -> 3
K39: 所見
K43: 注1：誤記入防止のため、当該変状区分以外のセルは灰色表示とすること。
K44: 注2：応急措置を実施した場合は、その詳細を備考に記載すること。
K45: 注3：外力は覆工スパン単位、材質劣化、漏水は変状単位とすること。
B46: （以下、印刷不要）
B47: ※1：本シートは作成洩れのないよう、変状が無くても全スパン分を作成すること．また変状展開図は、様式D-2-1、様式D-2-1'と同じものを覆工スパン単位で拡大し掲載すること。
B48: ※2：変状番号は、様式D-1-1で記入した番号と整合させること。
B49: ※3：対策区分毎の変状発生規模は、様式D-1-1に記載した面積を記入すること（ただし外力はスパン単位で評価するため変状の有無の欄には面積でなく○を記入し、備考欄に状況を記入）。
B50: ※4：本様式は覆工スパン毎に作成すること。
B51: ※5：変状数が多い場合は、適時、表の行を増やして覆工スパン毎に1枚のシートに収めること。また、1スパン１シートとし、スパンに合わせてシートを追加すること。
B52: ※6：対策区分毎の変状の発生範囲の規模とは，対策を行う際に参考となる変状の長さや面積であり，変状を包含する長さや面積とする。
B53: ※7：対策範囲を示す発生範囲の規模を面積で記入することが妥当ではない変状は、発生範囲の規模の欄に○を記入するとともに、備考に内容を記入すること。

Sheet 様式D-3_S010
AU1: 様式F用→ | AV1: 覆工スパン | AY1: 変 状 数 | BK1: 変 状 規 模
AV2: 番号 | AW2: 延長 （ｍ） | AX2: 健全性の診断の 区分 | AY2: 対策区分の判定 | BK2: 覆工スパン長（ｍ） | BO2: 変状の発生範囲の規模（㎡）
B3: ■定期点検記録様式 覆工スパン別変状詳細展開図 【様式D-3】 | AY3: 外力 | BC3: 材質劣化 | BG3: 漏水 | BK3: 外力 注2 | BO3: 材質劣化 | BS3: 漏水
B4: フリガナ | E4: ='様式A-1'!$D$3 -> ハシラノズイドウ | K4: 路線名 | N4: ='様式A-1'!$J$3 -> 主要地方道岩国玖珂線 | T4: 定期点検実施者 | Y4: =+'様式B (1)'!$S$3 -> 復建調査設計株式会社 | AG4: 定期点検年月日 | AK4: =+'様式B (1)'!$P$2 -> 45867 | AY4: Ⅳ | AZ4: Ⅲ | BA4: Ⅱa | BB4: Ⅱb | BC4: Ⅳ | BD4: Ⅲ | BE4: Ⅱa | BF4: Ⅱb | BG4: Ⅳ | BH4: Ⅲ | BI4: Ⅱa | BJ4: Ⅱb | BK4: Ⅳ | BL4: Ⅲ | BM4: Ⅱa | BN4: Ⅱb | BO4: Ⅳ | BP4: Ⅲ | BQ4: Ⅱa | BR4: Ⅱb | BS4: Ⅳ | BT4: Ⅲ | BU4: Ⅱa | BV4: Ⅱb
B5: 名 称 | E5: ='様式A-1'!$D$4 -> 柱野隧道 | K5: 管理者名 | N5: ='様式A-1'!$R$3 -> 山口県岩国土木建築事務所 | Y5: =+'様式B (1)'!$S$4 -> 小笠原洋 | AV5: =N7 -> S010 | AW5: =R7 -> 8.9 | AX5: =AM35 -> Ⅱ | AY5: =Y37 -> 0 | AZ5: =Z37 -> 0 | BA5: =AA37 -> 0 | BB5: =AB37 -> 0 | BC5: =AC37 -> 0 | BD5: =AD37 -> 0 | BE5: =AE37 -> 0 | BF5: =AF37 -> 0 | ... BJ5: =AJ37 -> 3 | BK5: =IF(Y37>0,R7,"") | BL5: =IF(Y37>0,"",IF(Z37>0,R7,"")) | BM5: =IF(Y37+Z37>0,"",IF(AA37>0,R7,"")) | BN5: =IF(Y37+Z37+AA37>0,"",IF(AB37>0,R7,"")) | BO5: =AC35 -> 0 | BP5: =AD35 -> 0 | BQ5: =AE35 -> 0 | BR5: =AF35 -> 0 | BS5: =AG35 -> 0 | BT5: =AH35 -> 0 | BU5: =AI35 -> 0 | BV5: =AJ35 -> 9.17
B6: スパン別変状展開図 | K6: 【健全性判定集計表】
K7: スパン番号 | N7: S010 | P7: スパン長 | R7: 8.9 | U7: 前回定期点検時の判定 | W7: 応急措置前の判定 | Y7: 対策区分毎の 変状の有無 | AC7: 対策区分毎の変状の発生範囲の規模(㎡) | AK7: 備考注2
K8: 変状番号 | L8: 対象箇所 | N8: 部位区分 | P8: 変状区分 | R8: 変状種類
Y9: 外力注1 | AC9: 材質劣化注1 | AG9: 漏水注1
Y10: Ⅳ | Z10: Ⅲ | AA10: Ⅱa | AB10: Ⅱb | AC10: Ⅳ | AD10: Ⅲ | AE10: Ⅱa | AF10: Ⅱb | AG10: Ⅳ | AH10: Ⅲ | AI10: Ⅱa | AJ10: Ⅱb
K11: 1 | L11: 覆工 | N11: アーチ（左側） | P11: 漏水 | R11: 漏水 | U11: Ⅱb | W11: Ⅱb | AJ11: 1.85 | AQ11: =IF(P11="材質劣化",2,IF(P11="漏水",3,1)) -> 3 | AS11: =IF(Y11<>"",1,"")
K12: 2 | L12: 覆工 | N12: アーチ（左側） | P12: 漏水 | R12: 漏水 | U12: Ⅱb | W12: Ⅱb | AJ12: 3.22 | AQ12: =IF(P12="材質劣化",2,IF(P12="漏水",3,1)) -> 3
K13: 3 | L13: 覆工 | N13: アーチ（左側） | P13: 漏水 | R13: 漏水 | U13: Ⅱb | W13: Ⅱb | AJ13: 4.1 | AK13: 漏水跡 | AQ13: =IF(P13="材質劣化",2,IF(P13="漏水",3,1)) -> 3
AQ14: =IF(P14="材質劣化",2,IF(P14="漏水",3,1)) -> 1
AQ15: =IF(P15="材質劣化",2,IF(P15="漏水",3,1)) -> 1
AQ16: =IF(P16="材質劣化",2,IF(P16="漏水",3,1)) -> 1
AQ17: =IF(P17="材質劣化",2,IF(P17="漏水",3,1)) -> 1
AQ18: =IF(P18="材質劣化",2,IF(P18="漏水",3,1)) -> 1
AQ19: =IF(P19="材質劣化",2,IF(P19="漏水",3,1)) -> 1
AQ20: =IF(P20="材質劣化",2,IF(P20="漏水",3,1)) -> 1
AQ21: =IF(P21="材質劣化",2,IF(P21="漏水",3,1)) -> 1
AQ22: =IF(P22="材質劣化",2,IF(P22="漏水",3,1)) -> 1
AQ23: =IF(P23="材質劣化",2,IF(P23="漏水",3,1)) -> 1
AQ24: =IF(P24="材質劣化",2,IF(P24="漏水",3,1)) -> 1
AQ25: =IF(P25="材質劣化",2,IF(P25="漏水",3,1)) -> 1
... AQ27: =IF(P27="材質劣化",2,IF(P27="漏水",3,1)) -> 1
AQ28: =IF(P30="材質劣化",2,IF(P30="漏水",3,1)) -> 1
AQ29: =IF(P34="材質劣化",2,IF(P34="漏水",3,1)) -> 1
AQ30: =IF(P30="材質劣化",2,IF(P30="漏水",3,1)) -> 1
AQ31: =IF(P33="材質劣化",2,IF(P33="漏水",3,1)) -> 1
AQ32: =IF(P37="材質劣化",2,IF(P37="漏水",3,1)) -> 1
AQ33: =IF(P33="材質劣化",2,IF(P33="漏水",3,1)) -> 1
AQ34: =IF(P36="材質劣化",2,IF(P36="漏水",3,1)) -> 1
K35: 集計 判定 診断 | L35: 変状の発生規模合計(㎡) | Y35: － | AC35: =SUM(AC11:AC34) -> 0 | AD35: =SUM(AD11:AD34) -> 0 | AE35: =SUM(AE11:AE34) -> 0 | AF35: =SUM(AF11:AF34) -> 0 | AG35: =SUM(AG11:AG34) -> 0 | AH35: =SUM(AH11:AH34) -> 0 | AI35: =SUM(AI11:AI34) -> 0 | AJ35: =SUM(AJ11:AJ34) -> 9.17 | AK35: 覆工スパン単位の 健全性の 診断の区分 | AM35: Ⅱ
L36: 対策区分の 判定結果 | O36: 対策区分毎の変状数注3 | Y36: Ⅳ | Z36: Ⅲ | AA36: Ⅱa | AB36: Ⅱb | AC36: Ⅳ | AD36: Ⅲ | AE36: Ⅱa | AF36: Ⅱb | AG36: Ⅳ | AH36: Ⅲ | AI36: Ⅱa | AJ36: Ⅱb
Y37: =IF(COUNTIF(Y11:Y34,"〇")>0,"1",0) -> 0 | Z37: =IF(COUNTIF(Z11:Z34,"〇")>0,"1",0) -> 0 | AA37: =IF(COUNTIF(AA11:AA34,"〇")>0,"1",0) -> 0 | AB37: =IF(COUNTIF(AB11:AB34,"〇")>0,"1",0) -> 0 | AC37: =COUNTA(AC11:AC34) -> 0 | AD37: =COUNTA(AD11:AD34) -> 0 | AE37: =COUNTA(AE11:AE34) -> 0 | AF37: =COUNTA(AF11:AF34) -> 0 | AG37: =COUNTA(AG11:AG34) -> 0 | AH37: =COUNTA(AH11:AH34) -> 0 | AI37: =COUNTA(AI11:AI34) -> 0 | AJ37: =COUNTA(AJ11:AJ34) -> 3
K39: 所見
K43: 注1：誤記入防止のため、当該変状区分以外のセルは灰色表示とすること。
K44: 注2：応急措置を実施した場合は、その詳細を備考に記載すること。
K45: 注3：外力は覆工スパン単位、材質劣化、漏水は変状単位とすること。
B46: （以下、印刷不要）
B47: ※1：本シートは作成洩れのないよう、変状が無くても全スパン分を作成すること．また変状展開図は、様式D-2-1、様式D-2-1'と同じものを覆工スパン単位で拡大し掲載すること。
B48: ※2：変状番号は、様式D-1-1で記入した番号と整合させること。
B49: ※3：対策区分毎の変状発生規模は、様式D-1-1に記載した面積を記入すること（ただし外力はスパン単位で評価するため変状の有無の欄には面積でなく○を記入し、備考欄に状況を記入）。
B50: ※4：本様式は覆工スパン毎に作成すること。
B51: ※5：変状数が多い場合は、適時、表の行を増やして覆工スパン毎に1枚のシートに収めること。また、1スパン１シートとし、スパンに合わせてシートを追加すること。
B52: ※6：対策区分毎の変状の発生範囲の規模とは，対策を行う際に参考となる変状の長さや面積であり，変状を包含する長さや面積とする。
B53: ※7：対策範囲を示す発生範囲の規模を面積で記入することが妥当ではない変状は、発生範囲の規模の欄に○を記入するとともに、備考に内容を記入すること。

Sheet 様式D-3_S011
AU1: 様式F用→ | AV1: 覆工スパン | AY1: 変 状 数 | BK1: 変 状 規 模
AV2: 番号 | AW2: 延長 （ｍ） | AX2: 健全性の診断の 区分 | AY2: 対策区分の判定 | BK2: 覆工スパン長（ｍ） | BO2: 変状の発生範囲の規模（㎡）
B3: ■定期点検記録様式 覆工スパン別変状詳細展開図 【様式D-3】 | AY3: 外力 | BC3: 材質劣化 | BG3: 漏水 | BK3: 外力 注2 | BO3: 材質劣化 | BS3: 漏水
B4: フリガナ | E4: ='様式A-1'!$D$3 -> ハシラノズイドウ | K4: 路線名 | N4: ='様式A-1'!$J$3 -> 主要地方道岩国玖珂線 | T4: 定期点検実施者 | Y4: =+'様式B (1)'!$S$3 -> 復建調査設計株式会社 | AG4: 定期点検年月日 | AK4: =+'様式B (1)'!$P$2 -> 45867 | AY4: Ⅳ | AZ4: Ⅲ | BA4: Ⅱa | BB4: Ⅱb | BC4: Ⅳ | BD4: Ⅲ | BE4: Ⅱa | BF4: Ⅱb | BG4: Ⅳ | BH4: Ⅲ | BI4: Ⅱa | BJ4: Ⅱb | BK4: Ⅳ | BL4: Ⅲ | BM4: Ⅱa | BN4: Ⅱb | BO4: Ⅳ | BP4: Ⅲ | BQ4: Ⅱa | BR4: Ⅱb | BS4: Ⅳ | BT4: Ⅲ | BU4: Ⅱa | BV4: Ⅱb
B5: 名 称 | E5: ='様式A-1'!$D$4 -> 柱野隧道 | K5: 管理者名 | N5: ='様式A-1'!$R$3 -> 山口県岩国土木建築事務所 | Y5: =+'様式B (1)'!$S$4 -> 小笠原洋 | AV5: =N7 -> S011 | AW5: =R7 -> 9 | AX5: =AM35 -> Ⅱ | AY5: =Y37 -> 0 | AZ5: =Z37 -> 0 | BA5: =AA37 -> 0 | BB5: =AB37 -> 0 | BC5: =AC37 -> 0 | BD5: =AD37 -> 0 | BE5: =AE37 -> 0 | BF5: =AF37 -> 0 | ... BJ5: =AJ37 -> 5 | BK5: =IF(Y37>0,R7,"") | BL5: =IF(Y37>0,"",IF(Z37>0,R7,"")) | BM5: =IF(Y37+Z37>0,"",IF(AA37>0,R7,"")) | BN5: =IF(Y37+Z37+AA37>0,"",IF(AB37>0,R7,"")) | BO5: =AC35 -> 0 | BP5: =AD35 -> 0 | BQ5: =AE35 -> 0 | BR5: =AF35 -> 0 | BS5: =AG35 -> 0 | BT5: =AH35 -> 0 | BU5: =AI35 -> 4.3 | BV5: =AJ35 -> 14.8
B6: スパン別変状展開図 | K6: 【健全性判定集計表】
K7: スパン番号 | N7: S011 | P7: スパン長 | R7: 9 | U7: 前回定期点検時の判定 | W7: 応急措置前の判定 | Y7: 対策区分毎の 変状の有無 | AC7: 対策区分毎の変状の発生範囲の規模(㎡) | AK7: 備考注2
K8: 変状番号 | L8: 対象箇所 | N8: 部位区分 | P8: 変状区分 | R8: 変状種類
Y9: 外力注1 | AC9: 材質劣化注1 | AG9: 漏水注1
Y10: Ⅳ | Z10: Ⅲ | AA10: Ⅱa | AB10: Ⅱb | AC10: Ⅳ | AD10: Ⅲ | AE10: Ⅱa | AF10: Ⅱb | AG10: Ⅳ | AH10: Ⅲ | AI10: Ⅱa | AJ10: Ⅱb
K11: 1 | L11: 覆工 | N11: アーチ（左側） | P11: 漏水 | R11: 漏水 | U11: Ⅱb | W11: Ⅱb | AJ11: 2.25 | AQ11: =IF(P11="材質劣化",2,IF(P11="漏水",3,1)) -> 3 | AS11: =IF(Y11<>"",1,"")
K12: 2 | L12: 覆工 | N12: アーチ（左側） | P12: 漏水 | R12: 漏水 | U12: － | W12: Ⅱb | AJ12: 2.4 | AQ12: =IF(P12="材質劣化",2,IF(P12="漏水",3,1)) -> 3
K13: 3 | L13: 覆工 | N13: 横断目地（左側） | P13: 漏水 | R13: 漏水 | U13: － | W13: Ⅱb | AJ13: 3.7 | AQ13: =IF(P13="材質劣化",2,IF(P13="漏水",3,1)) -> 3
K14: 4 | L14: 覆工 | N14: アーチ（天端） | P14: 漏水 | R14: 漏水 | U14: Ⅱb | W14: Ⅱa | AI14: 4.3 | AK14: 滴水 | AQ14: =IF(P14="材質劣化",2,IF(P14="漏水",3,1)) -> 3
K15: 5 | L15: 覆工 | N15: 横断目地（右側） | P15: 漏水 | R15: 漏水 | U15: － | W15: Ⅱb | AJ15: 3.5 | AQ15: =IF(P15="材質劣化",2,IF(P15="漏水",3,1)) -> 3
K16: 6 | L16: 覆工 | N16: アーチ（右側） | P16: 漏水 | R16: 漏水 | U16: Ⅱb | W16: Ⅱb | AJ16: 2.95 | AQ16: =IF(P16="材質劣化",2,IF(P16="漏水",3,1)) -> 3
AQ17: =IF(P17="材質劣化",2,IF(P17="漏水",3,1)) -> 1
AQ18: =IF(P18="材質劣化",2,IF(P18="漏水",3,1)) -> 1
AQ19: =IF(P19="材質劣化",2,IF(P19="漏水",3,1)) -> 1
AQ20: =IF(P20="材質劣化",2,IF(P20="漏水",3,1)) -> 1
AQ21: =IF(P21="材質劣化",2,IF(P21="漏水",3,1)) -> 1
AQ22: =IF(P22="材質劣化",2,IF(P22="漏水",3,1)) -> 1
AQ23: =IF(P23="材質劣化",2,IF(P23="漏水",3,1)) -> 1
AQ24: =IF(P24="材質劣化",2,IF(P24="漏水",3,1)) -> 1
AQ25: =IF(P25="材質劣化",2,IF(P25="漏水",3,1)) -> 1
AQ26: =IF(P26="材質劣化",2,IF(P26="漏水",3,1)) -> 1
AQ27: =IF(P27="材質劣化",2,IF(P27="漏水",3,1)) -> 1
AQ28: =IF(P30="材質劣化",2,IF(P30="漏水",3,1)) -> 1
AQ29: =IF(P34="材質劣化",2,IF(P34="漏水",3,1)) -> 1
AQ30: =IF(P30="材質劣化",2,IF(P30="漏水",3,1)) -> 1
AQ31: =IF(P33="材質劣化",2,IF(P33="漏水",3,1)) -> 1
AQ32: =IF(P37="材質劣化",2,IF(P37="漏水",3,1)) -> 1
AQ33: =IF(P33="材質劣化",2,IF(P33="漏水",3,1)) -> 1
AQ34: =IF(P36="材質劣化",2,IF(P36="漏水",3,1)) -> 1
K35: 集計 判定 診断 | L35: 変状の発生規模合計(㎡) | Y35: － | AC35: =SUM(AC11:AC34) -> 0 | AD35: =SUM(AD11:AD34) -> 0 | AE35: =SUM(AE11:AE34) -> 0 | AF35: =SUM(AF11:AF34) -> 0 | AG35: =SUM(AG11:AG34) -> 0 | AH35: =SUM(AH11:AH34) -> 0 | AI35: =SUM(AI11:AI34) -> 4.3 | AJ35: =SUM(AJ11:AJ34) -> 14.8 | AK35: 覆工スパン単位の 健全性の 診断の区分 | AM35: Ⅱ
L36: 対策区分の 判定結果 | O36: 対策区分毎の変状数注3 | Y36: Ⅳ | Z36: Ⅲ | AA36: Ⅱa | AB36: Ⅱb | AC36: Ⅳ | AD36: Ⅲ | AE36: Ⅱa | AF36: Ⅱb | AG36: Ⅳ | AH36: Ⅲ | AI36: Ⅱa | AJ36: Ⅱb
Y37: =IF(COUNTIF(Y11:Y34,"〇")>0,"1",0) -> 0 | Z37: =IF(COUNTIF(Z11:Z34,"〇")>0,"1",0) -> 0 | AA37: =IF(COUNTIF(AA11:AA34,"〇")>0,"1",0) -> 0 | AB37: =IF(COUNTIF(AB11:AB34,"〇")>0,"1",0) -> 0 | AC37: =COUNTA(AC11:AC34) -> 0 | AD37: =COUNTA(AD11:AD34) -> 0 | AE37: =COUNTA(AE11:AE34) -> 0 | AF37: =COUNTA(AF11:AF34) -> 0 | AG37: =COUNTA(AG11:AG34) -> 0 | AH37: =COUNTA(AH11:AH34) -> 0 | AI37: =COUNTA(AI11:AI34) -> 1 | AJ37: =COUNTA(AJ11:AJ34) -> 5
K39: 所見
K43: 注1：誤記入防止のため、当該変状区分以外のセルは灰色表示とすること。
K44: 注2：応急措置を実施した場合は、その詳細を備考に記載すること。
K45: 注3：外力は覆工スパン単位、材質劣化、漏水は変状単位とすること。
B46: （以下、印刷不要）
B47: ※1：本シートは作成洩れのないよう、変状が無くても全スパン分を作成すること．また変状展開図は、様式D-2-1、様式D-2-1'と同じものを覆工スパン単位で拡大し掲載すること。
B48: ※2：変状番号は、様式D-1-1で記入した番号と整合させること。
B49: ※3：対策区分毎の変状発生規模は、様式D-1-1に記載した面積を記入すること（ただし外力はスパン単位で評価するため変状の有無の欄には面積でなく○を記入し、備考欄に状況を記入）。
B50: ※4：本様式は覆工スパン毎に作成すること。
B51: ※5：変状数が多い場合は、適時、表の行を増やして覆工スパン毎に1枚のシートに収めること。また、1スパン１シートとし、スパンに合わせてシートを追加すること。
B52: ※6：対策区分毎の変状の発生範囲の規模とは，対策を行う際に参考となる変状の長さや面積であり，変状を包含する長さや面積とする。
B53: ※7：対策範囲を示す発生範囲の規模を面積で記入することが妥当ではない変状は、発生範囲の規模の欄に○を記入するとともに、備考に内容を記入すること。

Sheet 様式D-3_S012
AU1: 様式F用→ | AV1: 覆工スパン | AY1: 変 状 数 | BK1: 変 状 規 模
AV2: 番号 | AW2: 延長 （ｍ） | AX2: 健全性の診断の 区分 | AY2: 対策区分の判定 | BK2: 覆工スパン長（ｍ） | BO2: 変状の発生範囲の規模（㎡）
B3: ■定期点検記録様式 覆工スパン別変状詳細展開図 【様式D-3】 | AY3: 外力 | BC3: 材質劣化 | BG3: 漏水 | BK3: 外力 注2 | BO3: 材質劣化 | BS3: 漏水
B4: フリガナ | E4: ='様式A-1'!$D$3 -> ハシラノズイドウ | K4: 路線名 | N4: ='様式A-1'!$J$3 -> 主要地方道岩国玖珂線 | T4: 定期点検実施者 | Y4: =+'様式B (1)'!$S$3 -> 復建調査設計株式会社 | AG4: 定期点検年月日 | AK4: =+'様式B (1)'!$P$2 -> 45867 | AY4: Ⅳ | AZ4: Ⅲ | BA4: Ⅱa | BB4: Ⅱb | BC4: Ⅳ | BD4: Ⅲ | BE4: Ⅱa | BF4: Ⅱb | BG4: Ⅳ | BH4: Ⅲ | BI4: Ⅱa | BJ4: Ⅱb | BK4: Ⅳ | BL4: Ⅲ | BM4: Ⅱa | BN4: Ⅱb | BO4: Ⅳ | BP4: Ⅲ | BQ4: Ⅱa | BR4: Ⅱb | BS4: Ⅳ | BT4: Ⅲ | BU4: Ⅱa | BV4: Ⅱb
B5: 名 称 | E5: ='様式A-1'!$D$4 -> 柱野隧道 | K5: 管理者名 | N5: ='様式A-1'!$R$3 -> 山口県岩国土木建築事務所 | Y5: =+'様式B (1)'!$S$4 -> 小笠原洋 | AV5: =N7 -> S012 | AW5: =R7 -> 8.9 | AX5: =AM35 -> Ⅱ | AY5: =Y37 -> 0 | AZ5: =Z37 -> 0 | BA5: =AA37 -> 0 | BB5: =AB37 -> 0 | BC5: =AC37 -> 0 | BD5: =AD37 -> 0 | BE5: =AE37 -> 0 | BF5: =AF37 -> 0 | ... BJ5: =AJ37 -> 3 | BK5: =IF(Y37>0,R7,"") | BL5: =IF(Y37>0,"",IF(Z37>0,R7,"")) | BM5: =IF(Y37+Z37>0,"",IF(AA37>0,R7,"")) | BN5: =IF(Y37+Z37+AA37>0,"",IF(AB37>0,R7,"")) | BO5: =AC35 -> 0 | BP5: =AD35 -> 0 | BQ5: =AE35 -> 0 | BR5: =AF35 -> 0 | BS5: =AG35 -> 0 | BT5: =AH35 -> 0 | BU5: =AI35 -> 4.1 | BV5: =AJ35 -> 13.77
B6: スパン別変状展開図 | K6: 【健全性判定集計表】
K7: スパン番号 | N7: S012 | P7: スパン長 | R7: 8.9 | U7: 前回定期点検時の判定 | W7: 応急措置前の判定 | Y7: 対策区分毎の 変状の有無 | AC7: 対策区分毎の変状の発生範囲の規模(㎡) | AK7: 備考注2
K8: 変状番号 | L8: 対象箇所 | N8: 部位区分 | P8: 変状区分 | R8: 変状種類
Y9: 外力注1 | AC9: 材質劣化注1 | AG9: 漏水注1
Y10: Ⅳ | Z10: Ⅲ | AA10: Ⅱa | AB10: Ⅱb | AC10: Ⅳ | AD10: Ⅲ | AE10: Ⅱa | AF10: Ⅱb | AG10: Ⅳ | AH10: Ⅲ | AI10: Ⅱa | AJ10: Ⅱb
K11: 1 | L11: 覆工 | N11: アーチ（左側） | P11: 漏水 | R11: 漏水 | U11: Ⅱb | W11: Ⅱb | AJ11: 6.12 | AQ11: =IF(P11="材質劣化",2,IF(P11="漏水",3,1)) -> 3 | AS11: =IF(Y11<>"",1,"")
K12: 2 | L12: 覆工 | N12: アーチ（左側） | P12: 漏水 | R12: 漏水 | U12: Ⅱb | W12: Ⅱb | AJ12: 3.65 | AQ12: =IF(P12="材質劣化",2,IF(P12="漏水",3,1)) -> 3
K13: 3 | L13: 覆工 | N13: アーチ（天端） | P13: 漏水 | R13: 漏水 | U13: Ⅱa | W13: Ⅱa | AI13: 4.1 | AK13: 滴水 | AQ13: =IF(P13="材質劣化",2,IF(P13="漏水",3,1)) -> 3
K14: 4 | L14: 覆工 | N14: 横断目地（左側） | P14: 漏水 | R14: 漏水 | U14: Ⅱb | W14: Ⅱb | AJ14: 4 | AQ14: =IF(P14="材質劣化",2,IF(P14="漏水",3,1)) -> 3
AQ15: =IF(P15="材質劣化",2,IF(P15="漏水",3,1)) -> 1
AQ16: =IF(P16="材質劣化",2,IF(P16="漏水",3,1)) -> 1
AQ17: =IF(P17="材質劣化",2,IF(P17="漏水",3,1)) -> 1
AQ18: =IF(P18="材質劣化",2,IF(P18="漏水",3,1)) -> 1
AQ19: =IF(P19="材質劣化",2,IF(P19="漏水",3,1)) -> 1
AQ20: =IF(P20="材質劣化",2,IF(P20="漏水",3,1)) -> 1
AQ21: =IF(P21="材質劣化",2,IF(P21="漏水",3,1)) -> 1
AQ22: =IF(P22="材質劣化",2,IF(P22="漏水",3,1)) -> 1
AQ23: =IF(P23="材質劣化",2,IF(P23="漏水",3,1)) -> 1
AQ24: =IF(P24="材質劣化",2,IF(P24="漏水",3,1)) -> 1
AQ25: =IF(P25="材質劣化",2,IF(P25="漏水",3,1)) -> 1
AQ26: =IF(P26="材質劣化",2,IF(P26="漏水",3,1)) -> 1
AQ27: =IF(P27="材質劣化",2,IF(P27="漏水",3,1)) -> 1
AQ28: =IF(P30="材質劣化",2,IF(P30="漏水",3,1)) -> 1
AQ29: =IF(P34="材質劣化",2,IF(P34="漏水",3,1)) -> 1
AQ30: =IF(P30="材質劣化",2,IF(P30="漏水",3,1)) -> 1
AQ31: =IF(P33="材質劣化",2,IF(P33="漏水",3,1)) -> 1
AQ32: =IF(P37="材質劣化",2,IF(P37="漏水",3,1)) -> 1
AQ33: =IF(P33="材質劣化",2,IF(P33="漏水",3,1)) -> 1
AQ34: =IF(P36="材質劣化",2,IF(P36="漏水",3,1)) -> 1
K35: 集計 判定 診断 | L35: 変状の発生規模合計(㎡) | Y35: － | AC35: =SUM(AC11:AC34) -> 0 | AD35: =SUM(AD11:AD34) -> 0 | AE35: =SUM(AE11:AE34) -> 0 | AF35: =SUM(AF11:AF34) -> 0 | AG35: =SUM(AG11:AG34) -> 0 | AH35: =SUM(AH11:AH34) -> 0 | AI35: =SUM(AI11:AI34) -> 4.1 | AJ35: =SUM(AJ11:AJ34) -> 13.77 | AK35: 覆工スパン単位の 健全性の 診断の区分 | AM35: Ⅱ
L36: 対策区分の 判定結果 | O36: 対策区分毎の変状数注3 | Y36: Ⅳ | Z36: Ⅲ | AA36: Ⅱa | AB36: Ⅱb | AC36: Ⅳ | AD36: Ⅲ | AE36: Ⅱa | AF36: Ⅱb | AG36: Ⅳ | AH36: Ⅲ | AI36: Ⅱa | AJ36: Ⅱb
Y37: =IF(COUNTIF(Y11:Y34,"〇")>0,"1",0) -> 0 | Z37: =IF(COUNTIF(Z11:Z34,"〇")>0,"1",0) -> 0 | AA37: =IF(COUNTIF(AA11:AA34,"〇")>0,"1",0) -> 0 | AB37: =IF(COUNTIF(AB11:AB34,"〇")>0,"1",0) -> 0 | AC37: =COUNTA(AC11:AC34) -> 0 | AD37: =COUNTA(AD11:AD34) -> 0 | AE37: =COUNTA(AE11:AE34) -> 0 | AF37: =COUNTA(AF11:AF34) -> 0 | AG37: =COUNTA(AG11:AG34) -> 0 | AH37: =COUNTA(AH11:AH34) -> 0 | AI37: =COUNTA(AI11:AI34) -> 1 | AJ37: =COUNTA(AJ11:AJ34) -> 3
K39: 所見
K43: 注1：誤記入防止のため、当該変状区分以外のセルは灰色表示とすること。
K44: 注2：応急措置を実施した場合は、その詳細を備考に記載すること。
K45: 注3：外力は覆工スパン単位、材質劣化、漏水は変状単位とすること。
B46: （以下、印刷不要）
B47: ※1：本シートは作成洩れのないよう、変状が無くても全スパン分を作成すること．また変状展開図は、様式D-2-1、様式D-2-1'と同じものを覆工スパン単位で拡大し掲載すること。
B48: ※2：変状番号は、様式D-1-1で記入した番号と整合させること。
B49: ※3：対策区分毎の変状発生規模は、様式D-1-1に記載した面積を記入すること（ただし外力はスパン単位で評価するため変状の有無の欄には面積でなく○を記入し、備考欄に状況を記入）。
B50: ※4：本様式は覆工スパン毎に作成すること。
B51: ※5：変状数が多い場合は、適時、表の行を増やして覆工スパン毎に1枚のシートに収めること。また、1スパン１シートとし、スパンに合わせてシートを追加すること。
B52: ※6：対策区分毎の変状の発生範囲の規模とは，対策を行う際に参考となる変状の長さや面積であり，変状を包含する長さや面積とする。
B53: ※7：対策範囲を示す発生範囲の規模を面積で記入することが妥当ではない変状は、発生範囲の規模の欄に○を記入するとともに、備考に内容を記入すること。

Sheet 様式D-3_S013
AU1: 様式F用→ | AV1: 覆工スパン | AY1: 変 状 数 | BK1: 変 状 規 模
AV2: 番号 | AW2: 延長 （ｍ） | AX2: 健全性の診断の 区分 | AY2: 対策区分の判定 | BK2: 覆工スパン長（ｍ） | BO2: 変状の発生範囲の規模（㎡）
B3: ■定期点検記録様式 覆工スパン別変状詳細展開図 【様式D-3】 | AY3: 外力 | BC3: 材質劣化 | BG3: 漏水 | BK3: 外力 注2 | BO3: 材質劣化 | BS3: 漏水
B4: フリガナ | E4: ='様式A-1'!$D$3 -> ハシラノズイドウ | K4: 路線名 | N4: ='様式A-1'!$J$3 -> 主要地方道岩国玖珂線 | T4: 定期点検実施者 | Y4: =+'様式B (1)'!$S$3 -> 復建調査設計株式会社 | AG4: 定期点検年月日 | AK4: =+'様式B (1)'!$P$2 -> 45867 | AY4: Ⅳ | AZ4: Ⅲ | BA4: Ⅱa | BB4: Ⅱb | BC4: Ⅳ | BD4: Ⅲ | BE4: Ⅱa | BF4: Ⅱb | BG4: Ⅳ | BH4: Ⅲ | BI4: Ⅱa | BJ4: Ⅱb | BK4: Ⅳ | BL4: Ⅲ | BM4: Ⅱa | BN4: Ⅱb | BO4: Ⅳ | BP4: Ⅲ | BQ4: Ⅱa | BR4: Ⅱb | BS4: Ⅳ | BT4: Ⅲ | BU4: Ⅱa | BV4: Ⅱb
