Workbook
Name その他: '(参考)リスト'!$C$47
Name その他施設: '[1](参考)リスト'!#REF!
Name その他施設: '(参考)リスト'!$C$79:$C$83
Name 換気施設: '[1](参考)リスト'!#REF!
Name 換気施設: '(参考)リスト'!$C$56:$C$60
Name 坑門: '(参考)リスト'!$C$31:$C$32
Name 照明施設: '[1](参考)リスト'!#REF!
Name 照明施設: '(参考)リスト'!$C$52:$C$54
Name 対象箇所: [2]!テーブル1[対象箇所]
Name 天井板: '(参考)リスト'!$C$37:$C$39
Name 内装板: '(参考)リスト'!$C$34:$C$35
Name 非常用施設: '[1](参考)リスト'!#REF!
Name 非常用施設: '(参考)リスト'!$C$62:$C$77
Name 覆工: '(参考)リスト'!$C$16:$C$29
Name 路面: '(参考)リスト'!$C$41:$C$45

Sheet 点検様式作成フロー
A1: 点検様式作成フロ-
A3: 作成フロー図 | H3: 点検調書作成手順
H4: ①様式A-1～A-3（トンネル台帳）
H5: トンネル点検の実施にあたっては，現場点検作業に先行してトンネル情報を収集する。トンネル台帳（様式Ａ－1～様式Ａ－3）はトンネル完成後に作成され，維持管理の段階で引き継がれるが，関連資料等を確認したうえで，追加情報があれば必要に応じて追記することが望ましい。
H9: ②様式D-2-1、様式D-2-1´
H10: 現場点検作業を実施し，近接目視点検で確認した変状状況や補修履歴を忠実に変状展開図に転記する。
H12: ③様式D-1-1、様式D-1-2
H13: 変状展開図や撮影した写真等をもとに，対象トンネルの対策区分を決定し，対策区分がⅡ～Ⅳの変状および異常判定区分「×」を抽出し，写真台帳を作成する。
H16: ④様式B
H17: 写真台帳の作成と同時に，トンネルの構造を展開した位置図に変状写真位置を記録する。
H19: ⑤様式D-3
H20: 変状展開図ならびに写真台帳をもとに覆工スパンごとの変状展開図を作成し，変状発生状況をとりまとめる。
H22: ⑥様式E
H23: 近接目視または打音検査，触診ができていない箇所および近接目視によらない方法を講じた場所に対する調査結果を記録する。
... H33: すること。 ※各ファイルとも （参考）リスト のシートを付けて保存すること。

Sheet 変状面積算出方法
A1: 変状面積算出方法
A26: 注1）外力による変状：ひび割れや圧ざの場合は変状の寸法を記録する。
A27: 例）ひび割れ：長さ（L）×最大ひび割れ幅（t）を記録する。 変形，移動，沈下：数値的な記載が可能な場合のみ記載する。
A28: 注2）材料劣化による：打音異常
A29: 例）うき，はく離（閉合ひび割れ）：変状範囲を包括する寸法（L×W） うき，はく離（ひび割れ沿い）：打音異常箇所を包括する寸法（L×W） 鋼材腐食（鉄筋腐食）：一括した対策が適当と考えられる範囲を包括する寸法（L×W）
A30: 注3）漏水による変状：漏水発生範囲を包括し，垂れ下がりの可能性がある側壁下端まで含めた寸法を，L×Wで記録する。打継ぎ目地沿いの 漏水については目地を跨いだ50cm幅を横幅とする。

Sheet 記入の留意点
B2: トンネルDBでは、Excelに記載された文字や数値・配置された画像を自動的に読込みデータベースへ登録します。
B3: 記録様式へ記入の留意点を下記に示します。
B5: １．記録様式への記入
C6: ➤各セルに表示されるコメントに従って、様式A-1～様式Gのシートに、点検結果（テキスト入力、選択項目）を入力してください。
C7: ➤位置図(様式B)、変状写真(様式D-1-1)、異常写真(様式D-1-2)は記入した変状写真番号等に対応した画像を間違いないように貼り付けてください。
C8: ➤列や行の挿入削除は行わず、セルの位置がずれないようにしてください。データベースへ読み取り時にずれて取り込まれてしまいます。
B11: ２．画像ファイルの配置の注意点
C12: 登録に使用可能な画像ファイルの拡張子は「jpg」「jpeg」「png」の3種類のみです。
C13: 必ず、１か所に画像１枚のみを張り付けてください。エクセルの図形などのオブジェクトは使用しないでください。
C14: 張り付けた画像はエクセルのトリミング機能を使用しないでください。あらかじめ切り抜いた画像を利用してください。
C15: ※１ 画像の左上を必ずセルの内部に含め、はみ出ないようにしてください。
C16: ※２ 図の書式設定で「セルに合わせて移動やサイズを変更しない」のモードを使用しないでください。
C32: ※３ 「挿入」→「画像」→「セルの上に配置」してください。
B41: ３．シート名の連番について
C42: １ページに記載しきれない場合は、１シート内にページを増やすのではなくシート自体をコピーしシート名の末尾を連番にしてください。
C43: 対象様式
C44: 様式B
C45: 様式D-1-1
C46: 様式D-1-2
C47: 様式D-2-1
C48: 様式D-2-1´
C49: 様式D-3_S00 ※スパン名を記載
C50: 様式G
C52: 末尾の連番の形式例
C53: 様式B(1) 様式B(2) 様式B(3)
C54: 様式B_001 様式B_002 様式B_003
... C61: で示される要領を制限するものではありません。

Sheet 様式A-1
B2: ■トンネル台帳 トンネル諸元、非常用施設諸元 【様式A-1】 | S2: 施設ID | W2: 33.93588,130.90785
B3: フリガナ | D3: ヒコシマトンネル | H3: 路線名 | J3: 福浦港金毘羅線 | P3: 管理者名 | R3: 山口県 下関土木建築事務所 | W3: 緊急輸送道路 | Z3: 指定なし
B4: 名 称 | D4: 彦島トンネル | W4: 代替路の有無 | Z4: 有
B5: 所在地 | D5: 自 | E5: 下関市迫町 | H5: 作成者 | K5: アジア航測株式会社 | P5: 作成年月日 | R5: 46069 | U5: トンネル延長 | X5: L= | Z5: 868 | AB5: ｍ
D6: 至 | E6: 下関市迫町 | U6: ﾄﾝﾈﾙの分類 | X6: 陸上トンネル（掘進工法）
B7: 起点 | C7: 緯度 | E7: 33.93588 | H7: 完成年月日 | K7: 1975年 | M7: 舗装 | O7: 種 別 | Q7: コンクリート | S7: トンネル非常用施設 | T7: 施設の内訳 | X7: 種別・方式 | Y7: 型式 | Z7: 個数 | AA7: 更新年度
C8: 経度 | E8: 130.90785 | H8: 供用年月日 | O8: 厚 さ | Q8: m | T8: 通報設備 | U8: 通話型通報設備 | Z8: 5
B9: 終点 | C9: 緯度 | E9: 33.94033 | H9: トンネル区分 | O9: 面 積 | Q9: 7855㎡ | U9: 操作型通報設備 | Z9: 17
C10: 経度 | E10: 130.90161 | H10: 内装種類 | K10: 内装なし | O10: 更新年次 | U10: 自動通報設備
B11: 一般有料区分 | E11: 一般（無料） | H11: 天井板種類 | K11: 内装なし覆工 | M11: 排水 | O11: 種 別 | Q11: 側溝 | T11: 警報設備 | U11: 非常警報設備
B12: 土かぶり | G12: m | H12: 坑門 | I12: 起点 | J12: 形式 | K12: 面壁型 | O12: 更新年次 | T12: 消火設備 | U12: 消 火 器 | Z12: 17
B13: 内空断面積 | E13: 51.1 | G13: m2 | J13: 延長 | L13: m | M13: 施設 | P13: 種別・方式 | Q13: 個数 | R13: 更新年次 | U13: 消火栓設備 | Z13: 5
B14: 交 通 量 | E14: 1376 | G14: 台/日 | I14: 終点 | J14: 形式 | K14: 面壁型 | M14: 道路附属物等 | N14: 照明 | P14: ナト・蛍光 | Q14: 171 | T14: 避難誘導設備 | U14: 誘導表示設備 | Z14: 39
C15: 道 路 幅 | E15: 9.05 | G15: m | J15: 延長 | L15: m | N15: 換気 | P15: 自然換気 | U15: 避難情報提供設備
B16: 幅 員 | C16: 車 道 幅 | E16: 3.32 | G16: m | H16: 竣工巻厚 | I16: アーチ | L16: cm | N16: 標識
E17: 3.33 | G17: m | I17: 側 壁 | L17: cm | N17: 警報表示板 | U17: 避難通路
C18: 歩道等幅 | E18: 2.4 | G18: m | L18: cm | N18: 吸音板 | U18: 排煙設備
B19: 高さ | C19: 建築限界高 | E19: 4.5 | G19: m | I19: インバート | L19: cm | T19: その他の設備 | U19: 給水栓設備
C20: 中央高 | E20: 6.4 | G20: m | H20: 半径 | I20: アーチ | L20: cm | U20: 無線通信補助設備
C21: 有効高 | E21: 4.5 | G21: m | I21: 側 壁 | L21: cm | U21: 水噴霧設備
C22: 縦断勾配 | I22: インバート | L22: cm | U22: 監視設備
B23: 線 形 | C23: 直線区間長 | H23: 占用物件 | I23: 種 類 | K23: 寸 法 | M23: 管理者名 | Q23: 更新年次 | S23: 非常用施設 関連設備 | U23: 予備発電設備
C24: 曲線区間 | D24: 区間長
D25: 起点側ｸﾛｿｲﾄﾞ
D26: 曲線半径
D27: 終点側ｸﾛｿｲﾄﾞ | S27: その他 | U27: 非常駐車帯
B28: トンネル工法 | E28: 矢板工法 | U28: 方向転換所
C29: ※緯度・経度については、秒の小数第二位の単位まで記入すること。

Sheet 様式A-2
B3: ■トンネル台帳 トンネル情報一覧表 【様式A-2】
B4: フリガナ | E4: ='様式A-1'!D3 -> ヒコシマトンネル | J4: 路線名 | M4: ='様式A-1'!J3 -> 福浦港金毘羅線 | S4: 作成者 | Y4: ='様式A-1'!K5 -> アジア航測株式会社 | AE4: 作成年月日 | AI4: ='様式A-1'!R5 -> 46069
B5: 名 称 | E5: ='様式A-1'!D4 -> 彦島トンネル | J5: 管理者名 | M5: ='様式A-1'!R3 -> 山口県 下関土木建築事務所
B6: 覆工 ｽﾊﾟﾝ 番号 | C6: ｽﾊﾟﾝ長 | D6: 追加距離 | F6: トンネル本体工 | K6: 照明施設 | O6: 非常用施設 | AE6: 換気施設 | AK6: その他附属物等
O7: 通報設備 | R7: 警報設備 | S7: 消火設備 | U7: 避難誘導設備 | Y7: その他の設備 | AC7: 特記事項
D8: 起点側 | E8: 終点側 | F8: 特記事項 | I8: 内装板 | J8: 天井板 | K8: 基本照明 | L8: 入口出口照明 | M8: 特記事項 | O8: 通話型通報設備 | P8: 操作型通報設備 | Q8: 自動通報設備 | R8: 非常警報設備 | S8: 消 火 器 | T8: 消火栓設備 | U8: 誘導表示設備 | V8: 避難情報提供設備 | W8: 避難通路 | X8: 排煙設備 | Y8: 給水栓設備 | Z8: 無線通信補助設備 | AA8: 水噴霧設備 | AB8: 監視設備 | AE8: JF | AF8: VI計 | AG8: CO計 | AH8: 風向 風速計 | AI8: 特記事項
C9: (m) | D9: (m) | E9: (m)
B10: PS | C10: 2.7 | D10: 0 | E10: 2.7 | F10: 坑門（面壁型）
B11: 1 | C11: 10.5 | D11: 2.7 | E11: 13.2 | K11: ○ | O11: 〇
B12: 2 | C12: 4.5 | D12: 13.2 | E12: 17.7 | K12: ○
B13: 3 | C13: 10.5 | D13: 17.7 | E13: 28.2 | K13: ○ | U13: ○
B14: 4 | C14: 10.6 | D14: 28.2 | E14: 38.8 | K14: ○ | P14: 〇 | S14: 〇
B15: 5 | C15: 10.5 | D15: 38.8 | E15: 49.3 | K15: ○
B16: 6 | C16: 10.5 | D16: 49.3 | E16: 59.8 | K16: ○ | U16: ○
B17: 7 | C17: 10.5 | D17: 59.8 | E17: 70.3 | K17: ○
B18: 8 | C18: 10.5 | D18: 70.3 | E18: 80.8 | K18: ○ | U18: ○
B19: 9 | C19: 10.5 | D19: 80.8 | E19: 91.3 | K19: ○ | P19: 〇 | S19: 〇 | T19: 〇
B20: 10 | C20: 10.5 | D20: 91.3 | E20: 101.8 | K20: ○ | U20: ○
B21: 11 | C21: 10.5 | D21: 101.8 | E21: 112.3 | K21: ○
B22: 12 | C22: 10.5 | D22: 112.3 | E22: 122.8 | K22: ○
B23: 13 | C23: 10.5 | D23: 122.8 | E23: 133.3 | K23: ○ | P23: 〇 | S23: 〇 | U23: ○2
B24: 14 | C24: 10.5 | D24: 133.3 | E24: 143.8 | K24: ○
B25: 15 | C25: 10.5 | D25: 143.8 | E25: 154.3 | K25: ○
B26: 16 | C26: 10.5 | D26: 154.3 | E26: 164.8 | K26: ○ | U26: ○
B27: 17 | C27: 10.5 | D27: 164.8 | E27: 175.3 | K27: ○
B28: 18 | C28: 10.5 | D28: 175.3 | E28: 185.8 | K28: ○ | P28: 〇 | S28: 〇 | U28: ○
B29: 19 | C29: 10.5 | D29: 185.8 | E29: 196.3 | K29: ○
B30: 20 | C30: 10.5 | D30: 196.3 | E30: 206.8 | K30: ○ | U30: ○
B31: 21 | C31: 10.6 | D31: 206.8 | E31: 217.4 | K31: ○
B32: 22 | C32: 10.5 | D32: 217.4 | E32: 227.9 | K32: ○
B33: 23 | C33: 10.5 | D33: 227.9 | E33: 238.4 | K33: ○ | O33: 〇 | P33: 〇 | S33: 〇 | U33: ○
B34: 24 | C34: 10.5 | D34: 238.4 | E34: 248.9 | K34: ○
B35: 25 | C35: 10.5 | D35: 248.9 | E35: 259.4 | K35: ○ | U35: ○
B36: 26 | C36: 10.5 | D36: 259.4 | E36: 269.9 | K36: ○
B37: 27 | C37: 10.5 | D37: 269.9 | E37: 280.4 | P37: 〇 | S37: 〇 | T37: 〇 | U37: ○
B38: 28 | C38: 10.5 | D38: 280.4 | E38: 290.9 | K38: ○
B39: 29 | C39: 10.5 | D39: 290.9 | E39: 301.4 | K39: ○
B40: 30 | C40: 10.5 | D40: 301.4 | E40: 311.9 | K40: ○ | U40: ○
B41: 31 | C41: 10.5 | D41: 311.9 | E41: 322.4 | K41: ○
B42: 32 | C42: 10.5 | D42: 322.4 | E42: 332.9 | K42: ○ | P42: 〇 | S42: 〇 | U42: ○3
...

Sheet 様式A-2 (2)
B3: ■トンネル台帳 トンネル情報一覧表 【様式A-2】
B4: フリガナ | E4: ='様式A-1'!D3 -> ヒコシマトンネル | J4: 路線名 | M4: ='様式A-1'!J3 -> 福浦港金毘羅線 | S4: 作成者 | Y4: ='様式A-1'!K5 -> アジア航測株式会社 | AE4: 作成年月日 | AI4: ='様式A-1'!R5 -> 46069
B5: 名 称 | E5: ='様式A-1'!D4 -> 彦島トンネル | J5: 管理者名 | M5: ='様式A-1'!R3 -> 山口県 下関土木建築事務所
B6: 覆工 ｽﾊﾟﾝ 番号 | C6: ｽﾊﾟﾝ長 | D6: 追加距離 | F6: トンネル本体工 | K6: 照明施設 | O6: 非常用施設 | AE6: 換気施設 | AK6: その他附属物等
O7: 通報設備 | R7: 警報設備 | S7: 消火設備 | U7: 避難誘導設備 | Y7: その他の設備 | AC7: 特記事項
D8: 起点側 | E8: 終点側 | F8: 特記事項 | I8: 内装板 | J8: 天井板 | K8: 基本照明 | L8: 入口出口照明 | M8: 特記事項 | O8: 通話型通報設備 | P8: 操作型通報設備 | Q8: 自動通報設備 | R8: 非常警報設備 | S8: 消 火 器 | T8: 消火栓設備 | U8: 誘導表示設備 | V8: 避難情報提供設備 | W8: 避難通路 | X8: 排煙設備 | Y8: 給水栓設備 | Z8: 無線通信補助設備 | AA8: 水噴霧設備 | AB8: 監視設備 | AE8: JF | AF8: VI計 | AG8: CO計 | AH8: 風向 風速計 | AI8: 特記事項
C9: (m) | D9: (m) | E9: (m)
B10: 38 | C10: 10.6 | D10: 385.5 | E10: 396.1 | K10: ○
B11: 39 | C11: 10.6 | D11: 396.1 | E11: 406.7 | K11: ○ | U11: ○
B12: 40 | C12: 10.6 | D12: 406.7 | E12: 417.3 | K12: ○
B13: 41 | C13: 10.6 | D13: 417.3 | E13: 427.9 | K13: ○
B14: 42 | C14: 10.6 | D14: 427.9 | E14: 438.5 | K14: ○ | O14: 〇 | P14: 〇 | S14: 〇 | U14: 〇 | AK14: 上り車線に待避所
B15: 43 | C15: 10.6 | D15: 438.5 | E15: 449.1 | K15: ○
B16: 44 | C16: 10.6 | D16: 449.1 | E16: 459.7 | U16: ○
B17: 45 | C17: 10.6 | D17: 459.7 | E17: 470.3 | K17: ○
B18: 46 | C18: 10.6 | D18: 470.3 | E18: 480.9 | K18: ○ | P18: 〇 | S18: 〇 | T18: 〇 | U18: ○
B19: 47 | C19: 10.6 | D19: 480.9 | E19: 491.5 | K19: ○
B20: 48 | C20: 10.6 | D20: 491.5 | E20: 502.1 | K20: ○
B21: 49 | C21: 10.6 | D21: 502.1 | E21: 512.7 | K21: ○ | U21: ○
B22: 50 | C22: 10.6 | D22: 512.7 | E22: 523.3 | K22: ○
B23: 51 | C23: 10.6 | D23: 523.3 | E23: 533.9 | K23: ○ | P23: 〇 | S23: 〇 | U23: ○2
B24: 52 | C24: 10.6 | D24: 533.9 | E24: 544.5 | U24: ○
B25: 53 | C25: 10.6 | D25: 544.5 | E25: 555.1 | K25: ○
B26: 54 | C26: 10.6 | D26: 555.1 | E26: 565.7 | K26: ○ | U26: ○
B27: 55 | C27: 10.6 | D27: 565.7 | E27: 576.3 | K27: ○
B28: 56 | C28: 10.6 | D28: 576.3 | E28: 586.9 | K28: ○ | P28: 〇 | S28: 〇 | U28: ○
B29: 57 | C29: 10.6 | D29: 586.9 | E29: 597.5 | K29: ○
B30: 58 | C30: 10.5 | D30: 597.5 | E30: 608 | K30: ○ | U30: ○
B31: 59 | C31: 10.6 | D31: 608 | E31: 618.6 | K31: ○
B32: 60 | C32: 10.6 | D32: 618.6 | E32: 629.2
B33: 61 | C33: 10.6 | D33: 629.2 | E33: 639.8 | K33: ○ | O33: 〇 | P33: 〇 | S33: 〇 | U33: ○
B34: 62 | C34: 10.6 | D34: 639.8 | E34: 650.4 | K34: ○
B35: 63 | C35: 10.6 | D35: 650.4 | E35: 661 | K35: ○ | U35: ○
B36: 64 | C36: 10.6 | D36: 661 | E36: 671.6 | K36: ○
B37: 65 | C37: 10.6 | D37: 671.6 | E37: 682.2 | K37: ○ | P37: 〇 | S37: 〇 | T37: 〇 | U37: ○
B38: 66 | C38: 10.6 | D38: 682.2 | E38: 692.8 | K38: ○
B39: 67 | C39: 10.6 | D39: 692.8 | E39: 703.4 | K39: ○
B40: 68 | C40: 10.6 | D40: 703.4 | E40: 714 | K40: ○ | U40: ○
B41: 69 | C41: 10.6 | D41: 714 | E41: 724.6 | K41: ○
B42: 70 | C42: 10.6 | D42: 724.6 | E42: 735.2 | K42: ○ | P42: 〇 | S42: 〇 | U42: ○
...

Sheet 様式A-2 (3)
B3: ■トンネル台帳 トンネル情報一覧表 【様式A-2】
B4: フリガナ | E4: ='様式A-1'!D3 -> ヒコシマトンネル | J4: 路線名 | M4: ='様式A-1'!J3 -> 福浦港金毘羅線 | S4: 作成者 | Y4: ='様式A-1'!K5 -> アジア航測株式会社 | AE4: 作成年月日 | AI4: ='様式A-1'!R5 -> 46069
B5: 名 称 | E5: ='様式A-1'!D4 -> 彦島トンネル | J5: 管理者名 | M5: ='様式A-1'!R3 -> 山口県 下関土木建築事務所
B6: 覆工 ｽﾊﾟﾝ 番号 | C6: ｽﾊﾟﾝ長 | D6: 追加距離 | F6: トンネル本体工 | K6: 照明施設 | O6: 非常用施設 | AE6: 換気施設 | AK6: その他附属物等
O7: 通報設備 | R7: 警報設備 | S7: 消火設備 | U7: 避難誘導設備 | Y7: その他の設備 | AC7: 特記事項
D8: 起点側 | E8: 終点側 | F8: 特記事項 | I8: 内装板 | J8: 天井板 | K8: 基本照明 | L8: 入口出口照明 | M8: 特記事項 | O8: 通話型通報設備 | P8: 操作型通報設備 | Q8: 自動通報設備 | R8: 非常警報設備 | S8: 消 火 器 | T8: 消火栓設備 | U8: 誘導表示設備 | V8: 避難情報提供設備 | W8: 避難通路 | X8: 排煙設備 | Y8: 給水栓設備 | Z8: 無線通信補助設備 | AA8: 水噴霧設備 | AB8: 監視設備 | AE8: JF | AF8: VI計 | AG8: CO計 | AH8: 風向 風速計 | AI8: 特記事項
C9: (m) | D9: (m) | E9: (m)
B10: 76 | C10: 10.6 | D10: 788.2 | E10: 798.8 | K10: ○
B11: 77 | C11: 10.6 | D11: 798.8 | E11: 809.4 | K11: ○
B12: 78 | C12: 10.6 | D12: 809.4 | E12: 820 | K12: ○ | U12: ○
B13: 79 | C13: 10.6 | D13: 820 | E13: 830.6 | K13: ○
B14: 80 | C14: 10.6 | D14: 830.6 | E14: 841.2 | K14: ○ | T14: ○ | U14: ○
B15: 81 | C15: 10.5 | D15: 841.2 | E15: 851.7 | K15: ○
B16: 82 | C16: 10.6 | D16: 851.7 | E16: 862.3 | K16: ○ | O16: 〇 | P16: ○ | S16: ○
B17: 83 | C17: 3 | D17: 862.3 | E17: 865.3 | K17: ○
B18: PE | C18: 2.6 | D18: 865.3 | E18: 867.9 | F18: 坑門（面壁型）
B48: ※ 行が不足する場合は、適時、表の行を増やすこと。

Sheet 様式A-3
B3: ■トンネル台帳 トンネル記録（位置図、断面図、施工実績他）【様式A-3】
B4: フリガナ | E4: ='様式A-1'!D3 -> ヒコシマトンネル | J4: 路線名 | M4: ='様式A-1'!J3 -> 福浦港金毘羅線 | S4: 作成者 | W4: ='様式A-1'!K5 -> アジア航測株式会社 | AC4: 作成年月日 | AF4: ='様式A-1'!R5 -> 46069
B5: 名 称 | E5: ='様式A-1'!D4 -> 彦島トンネル | J5: 管理者名 | M5: ='様式A-1'!R3 -> 山口県 下関土木建築事務所
B6: 位置図・現況写真・標準断面図・地質縦断図・施工実績
B19: 位置図・現況写真・標準断面図・地質縦断図・施工実績

Sheet 様式B (1)
B2: ■定期点検記録様式 トンネル変状・異常箇所写真位置図 【様式B】 | N2: 定期点検年月日 | P2: 45896 | S2: 施設ID | V2: 33.93588,130.90785
B3: フリガナ | C3: ='様式A-1'!D3 -> ヒコシマトンネル | G3: 路線名 | H3: ='様式A-1'!J3 -> 福浦港金毘羅線 | K3: 管理者名 | L3: ='様式A-1'!R3 -> 山口県 下関土木建築事務所 | Q3: 定期点検実施者 | S3: アジア航測株式会社 | V3: 起点 | W3: 緯度 | X3: 33.93588
B4: 名 称 | C4: ='様式A-1'!D4 -> 彦島トンネル | S4: 飯田 琢巳 | W4: 経度 | X4: 130.90785
B5: 所在地 | C5: 自 | D5: ='様式A-1'!E5 -> 下関市迫町 | G5: トンネル工法 | I5: 矢板工法 | L5: トンネル延長 | N5: L= | O5: ='様式A-1'!Z5 -> 868 | P5: ｍ | Q5: 自専道 or 一般道 | R5: 一般道 | S5: 代替路の有無 | U5: 有 | V5: 終点 | W5: 緯度 | X5: 33.94033
C6: 至 | D6: ='様式A-1'!E6 -> 下関市迫町 | G6: 建設年度 | I6: ='様式A-1'!K7 -> 1975年 | L6: 幅員 | N6: L= | O6: ='様式A-1'!E15 -> 9.05 | P6: ｍ | S6: 緊急輸送道路 | W6: 経度 | X6: 130.90161
B7: トンネル毎 の健全性の 診断の区分 | D7: Ⅲ
G8: 変状・異常 箇所数合計 | I8: トンネル本体工 | J8: 材質劣化 | K8: Ⅱ | L8: 623 | N8: Ⅲ | O8: 60 | Q8: Ⅳ | R8: 0 | T8: 附属物等 の取付状態 | V8: ◯ （応急措置後)
J9: 漏水 | K9: Ⅱ | L9: 187 | N9: Ⅲ | O9: 0 | Q9: Ⅳ | R9: 0
V10: ✕ | X10: 61
J11: 外力 | K11: Ⅱ | L11: 3 | N11: Ⅲ | O11: 0 | Q11: Ⅳ | R11: 0
B12: トンネル変状・異常箇所写真位置図
J29: 注１：本位置図は、見下げた状態で記載すること。 注２：覆工スパン番号は横断目地毎(矢板工法の場合は上半アーチの 横断目地毎)に設定すること。 | Q29: 注３：写真番号に付する変状番号は、各覆工スパンの変状に対して新たに確認された場合 は順次追加していくこと。 注４：横断目地の変状は前の覆工スパン番号で計上すること。 注５：１枚に収まらない場合は、複数枚に分けて作成すること。
C30: ※1 トンネル本体工の変状数は、材質劣化、漏水に起因するものは変状単位で、外力に起因するものはスパン単位で計上すること。
C31: ※2 トンネル本体工の変状に対しては、措置の必要性（Ⅱ～Ⅳ）について表記すること。また、点検前に実施された措置によりⅠと判定された箇所についても記載すること。
C32: ※3 附属物等の取付状態の○欄については、応急措置前に判定区分×とした箇所のうち応急措置により○判定とした箇所の数を記入すること。
C33: ※4 附属物等の異常番号は、本体工と番号が重複しないよう101番以降とする等の配慮を行い、分かりやすく記録すること。

Sheet 様式B (2)
B2: ■定期点検記録様式 トンネル変状・異常箇所写真位置図 【様式B】 | N2: 定期点検年月日 | P2: ='様式B (1)'!P2 -> 45896 | S2: 施設ID | V2: 33.93588,130.90785
B3: フリガナ | C3: ='様式A-1'!D3 -> ヒコシマトンネル | G3: 路線名 | H3: ='様式A-1'!J3 -> 福浦港金毘羅線 | K3: 管理者名 | L3: ='様式A-1'!R3 -> 山口県 下関土木建築事務所 | Q3: 定期点検実施者 | S3: アジア航測株式会社 | V3: 起点 | W3: 緯度 | X3: 33.93588
B4: 名 称 | C4: ='様式A-1'!D4 -> 彦島トンネル | S4: 飯田 琢巳 | W4: 経度 | X4: 130.90785
B5: 所在地 | C5: 自 | D5: ='様式A-1'!E5 -> 下関市迫町 | G5: トンネル工法 | I5: 矢板工法 | L5: トンネル延長 | N5: L= | O5: ='様式A-1'!Z5 -> 868 | P5: ｍ | Q5: 自専道 or 一般道 | R5: 一般道 | S5: 代替路の有無 | U5: 有 | V5: 終点 | W5: 緯度 | X5: 33.94033
C6: 至 | D6: ='様式A-1'!E6 -> 下関市迫町 | G6: 建設年度 | I6: ='様式A-1'!K7 -> 1975年 | L6: 幅員 | N6: L= | O6: ='様式A-1'!E15 -> 9.05 | P6: ｍ | S6: 緊急輸送道路 | W6: 経度 | X6: 130.90161
B7: トンネル毎 の健全性の 診断の区分 | D7: Ⅲ
G8: 変状・異常 箇所数合計 | I8: トンネル本体工 | J8: 材質劣化 | K8: Ⅱ | L8: 623 | N8: Ⅲ | O8: 60 | Q8: Ⅳ | R8: 0 | T8: 附属物等 の取付状態 | V8: ◯ （応急措置後) | X8: 0
J9: 漏水 | K9: Ⅱ | L9: 187 | N9: Ⅲ | O9: 0 | Q9: Ⅳ | R9: 0
V10: ✕ | X10: 61
J11: 外力 | K11: Ⅱ | L11: 3 | N11: Ⅲ | O11: 0 | Q11: Ⅳ | R11: 0
B12: トンネル変状・異常箇所写真位置図
J29: 注１：本位置図は、見下げた状態で記載すること。 注２：覆工スパン番号は横断目地毎(矢板工法の場合は上半アーチの 横断目地毎)に設定すること。 | Q29: 注３：写真番号に付する変状番号は、各覆工スパンの変状に対して新たに確認された場合 は順次追加していくこと。 注４：横断目地の変状は前の覆工スパン番号で計上すること。 注５：１枚に収まらない場合は、複数枚に分けて作成すること。
C30: ※1 トンネル本体工の変状数は、材質劣化、漏水に起因するものは変状単位で、外力に起因するものはスパン単位で計上すること。
C31: ※2 トンネル本体工の変状に対しては、措置の必要性（Ⅱ～Ⅳ）について表記すること。また、点検前に実施された措置によりⅠと判定された箇所についても記載すること。
C32: ※3 附属物等の取付状態の○欄については、応急措置前に判定区分×とした箇所のうち応急措置により○判定とした箇所の数を記入すること。
C33: ※4 附属物等の異常番号は、本体工と番号が重複しないよう101番以降とする等の配慮を行い、分かりやすく記録すること。

Sheet 様式B (3)
B2: ■定期点検記録様式 トンネル変状・異常箇所写真位置図 【様式B】 | N2: 定期点検年月日 | P2: ='様式B (1)'!P2 -> 45896 | S2: 施設ID | V2: 33.93588,130.90785
B3: フリガナ | C3: ='様式A-1'!D3 -> ヒコシマトンネル | G3: 路線名 | H3: ='様式A-1'!J3 -> 福浦港金毘羅線 | K3: 管理者名 | L3: ='様式A-1'!R3 -> 山口県 下関土木建築事務所 | Q3: 定期点検実施者 | S3: アジア航測株式会社 | V3: 起点 | W3: 緯度 | X3: 33.93588
B4: 名 称 | C4: ='様式A-1'!D4 -> 彦島トンネル | S4: 飯田 琢巳 | W4: 経度 | X4: 130.90785
B5: 所在地 | C5: 自 | D5: ='様式A-1'!E5 -> 下関市迫町 | G5: トンネル工法 | I5: 矢板工法 | L5: トンネル延長 | N5: L= | O5: ='様式A-1'!Z5 -> 868 | P5: ｍ | Q5: 自専道 or 一般道 | R5: 一般道 | S5: 代替路の有無 | U5: 有 | V5: 終点 | W5: 緯度 | X5: 33.94033
C6: 至 | D6: ='様式A-1'!E6 -> 下関市迫町 | G6: 建設年度 | I6: ='様式A-1'!K7 -> 1975年 | L6: 幅員 | N6: L= | O6: ='様式A-1'!E15 -> 9.05 | P6: ｍ | S6: 緊急輸送道路 | W6: 経度 | X6: 130.90161
B7: トンネル毎 の健全性の 診断の区分 | D7: Ⅲ
G8: 変状・異常 箇所数合計 | I8: トンネル本体工 | J8: 材質劣化 | K8: Ⅱ | L8: 623 | N8: Ⅲ | O8: 60 | Q8: Ⅳ | R8: 0 | T8: 附属物等 の取付状態 | V8: ◯ （応急措置後) | X8: 0
J9: 漏水 | K9: Ⅱ | L9: 187 | N9: Ⅲ | O9: 0 | Q9: Ⅳ | R9: 0
V10: ✕ | X10: 61
J11: 外力 | K11: Ⅱ | L11: 3 | N11: Ⅲ | O11: 0 | Q11: Ⅳ | R11: 0
B12: トンネル変状・異常箇所写真位置図
J29: 注１：本位置図は、見下げた状態で記載すること。 注２：覆工スパン番号は横断目地毎(矢板工法の場合は上半アーチの 横断目地毎)に設定すること。 | Q29: 注３：写真番号に付する変状番号は、各覆工スパンの変状に対して新たに確認された場合 は順次追加していくこと。 注４：横断目地の変状は前の覆工スパン番号で計上すること。 注５：１枚に収まらない場合は、複数枚に分けて作成すること。
C30: ※1 トンネル本体工の変状数は、材質劣化、漏水に起因するものは変状単位で、外力に起因するものはスパン単位で計上すること。
C31: ※2 トンネル本体工の変状に対しては、措置の必要性（Ⅱ～Ⅳ）について表記すること。また、点検前に実施された措置によりⅠと判定された箇所についても記載すること。
C32: ※3 附属物等の取付状態の○欄については、応急措置前に判定区分×とした箇所のうち応急措置により○判定とした箇所の数を記入すること。
C33: ※4 附属物等の異常番号は、本体工と番号が重複しないよう101番以降とする等の配慮を行い、分かりやすく記録すること。

Sheet 様式B (4)
B2: ■定期点検記録様式 トンネル変状・異常箇所写真位置図 【様式B】 | N2: 定期点検年月日 | P2: ='様式B (1)'!P2 -> 45896 | S2: 施設ID | V2: 33.93588,130.90785
B3: フリガナ | C3: ='様式A-1'!D3 -> ヒコシマトンネル | G3: 路線名 | H3: ='様式A-1'!J3 -> 福浦港金毘羅線 | K3: 管理者名 | L3: ='様式A-1'!R3 -> 山口県 下関土木建築事務所 | Q3: 定期点検実施者 | S3: アジア航測株式会社 | V3: 起点 | W3: 緯度 | X3: 33.93588
B4: 名 称 | C4: ='様式A-1'!D4 -> 彦島トンネル | S4: 飯田 琢巳 | W4: 経度 | X4: 130.90785
B5: 所在地 | C5: 自 | D5: ='様式A-1'!E5 -> 下関市迫町 | G5: トンネル工法 | I5: 矢板工法 | L5: トンネル延長 | N5: L= | O5: ='様式A-1'!Z5 -> 868 | P5: ｍ | Q5: 自専道 or 一般道 | R5: 一般道 | S5: 代替路の有無 | U5: 有 | V5: 終点 | W5: 緯度 | X5: 33.94033
C6: 至 | D6: ='様式A-1'!E6 -> 下関市迫町 | G6: 建設年度 | I6: ='様式A-1'!K7 -> 1975年 | L6: 幅員 | N6: L= | O6: ='様式A-1'!E15 -> 9.05 | P6: ｍ | S6: 緊急輸送道路 | W6: 経度 | X6: 130.90161
B7: トンネル毎 の健全性の 診断の区分 | D7: Ⅲ
G8: 変状・異常 箇所数合計 | I8: トンネル本体工 | J8: 材質劣化 | K8: Ⅱ | L8: 623 | N8: Ⅲ | O8: 60 | Q8: Ⅳ | R8: 0 | T8: 附属物等 の取付状態 | V8: ◯ （応急措置後) | X8: 0
J9: 漏水 | K9: Ⅱ | L9: 187 | N9: Ⅲ | O9: 0 | Q9: Ⅳ | R9: 0
V10: ✕ | X10: 61
J11: 外力 | K11: Ⅱ | L11: 3 | N11: Ⅲ | O11: 0 | Q11: Ⅳ | R11: 0
B12: トンネル変状・異常箇所写真位置図
J29: 注１：本位置図は、見下げた状態で記載すること。 注２：覆工スパン番号は横断目地毎(矢板工法の場合は上半アーチの 横断目地毎)に設定すること。 | Q29: 注３：写真番号に付する変状番号は、各覆工スパンの変状に対して新たに確認された場合 は順次追加していくこと。 注４：横断目地の変状は前の覆工スパン番号で計上すること。 注５：１枚に収まらない場合は、複数枚に分けて作成すること。
C30: ※1 トンネル本体工の変状数は、材質劣化、漏水に起因するものは変状単位で、外力に起因するものはスパン単位で計上すること。
C31: ※2 トンネル本体工の変状に対しては、措置の必要性（Ⅱ～Ⅳ）について表記すること。また、点検前に実施された措置によりⅠと判定された箇所についても記載すること。
C32: ※3 附属物等の取付状態の○欄については、応急措置前に判定区分×とした箇所のうち応急措置により○判定とした箇所の数を記入すること。
C33: ※4 附属物等の異常番号は、本体工と番号が重複しないよう101番以降とする等の配慮を行い、分かりやすく記録すること。

Sheet 様式B (5)
B2: ■定期点検記録様式 トンネル変状・異常箇所写真位置図 【様式B】 | N2: 定期点検年月日 | P2: ='様式B (1)'!P2 -> 45896 | S2: 施設ID | V2: 33.93588,130.90785
B3: フリガナ | C3: ='様式A-1'!D3 -> ヒコシマトンネル | G3: 路線名 | H3: ='様式A-1'!J3 -> 福浦港金毘羅線 | K3: 管理者名 | L3: ='様式A-1'!R3 -> 山口県 下関土木建築事務所 | Q3: 定期点検実施者 | S3: アジア航測株式会社 | V3: 起点 | W3: 緯度 | X3: 33.93588
B4: 名 称 | C4: ='様式A-1'!D4 -> 彦島トンネル | S4: 飯田 琢巳 | W4: 経度 | X4: 130.90785
B5: 所在地 | C5: 自 | D5: ='様式A-1'!E5 -> 下関市迫町 | G5: トンネル工法 | I5: 矢板工法 | L5: トンネル延長 | N5: L= | O5: ='様式A-1'!Z5 -> 868 | P5: ｍ | Q5: 自専道 or 一般道 | R5: 一般道 | S5: 代替路の有無 | U5: 有 | V5: 終点 | W5: 緯度 | X5: 33.94033
C6: 至 | D6: ='様式A-1'!E6 -> 下関市迫町 | G6: 建設年度 | I6: ='様式A-1'!K7 -> 1975年 | L6: 幅員 | N6: L= | O6: ='様式A-1'!E15 -> 9.05 | P6: ｍ | S6: 緊急輸送道路 | W6: 経度 | X6: 130.90161
B7: トンネル毎 の健全性の 診断の区分 | D7: Ⅲ
G8: 変状・異常 箇所数合計 | I8: トンネル本体工 | J8: 材質劣化 | K8: Ⅱ | L8: 623 | N8: Ⅲ | O8: 60 | Q8: Ⅳ | R8: 0 | T8: 附属物等 の取付状態 | V8: ◯ （応急措置後) | X8: 0
J9: 漏水 | K9: Ⅱ | L9: 187 | N9: Ⅲ | O9: 0 | Q9: Ⅳ | R9: 0
V10: ✕ | X10: 61
J11: 外力 | K11: Ⅱ | L11: 3 | N11: Ⅲ | O11: 0 | Q11: Ⅳ | R11: 0
B12: トンネル変状・異常箇所写真位置図
J29: 注１：本位置図は、見下げた状態で記載すること。 注２：覆工スパン番号は横断目地毎(矢板工法の場合は上半アーチの 横断目地毎)に設定すること。 | Q29: 注３：写真番号に付する変状番号は、各覆工スパンの変状に対して新たに確認された場合 は順次追加していくこと。 注４：横断目地の変状は前の覆工スパン番号で計上すること。 注５：１枚に収まらない場合は、複数枚に分けて作成すること。
C30: ※1 トンネル本体工の変状数は、材質劣化、漏水に起因するものは変状単位で、外力に起因するものはスパン単位で計上すること。
C31: ※2 トンネル本体工の変状に対しては、措置の必要性（Ⅱ～Ⅳ）について表記すること。また、点検前に実施された措置によりⅠと判定された箇所についても記載すること。
C32: ※3 附属物等の取付状態の○欄については、応急措置前に判定区分×とした箇所のうち応急措置により○判定とした箇所の数を記入すること。
C33: ※4 附属物等の異常番号は、本体工と番号が重複しないよう101番以降とする等の配慮を行い、分かりやすく記録すること。

Sheet 様式B (6)
B2: ■定期点検記録様式 トンネル変状・異常箇所写真位置図 【様式B】 | N2: 定期点検年月日 | P2: ='様式B (1)'!P2 -> 45896 | S2: 施設ID | V2: 33.93588,130.90785
B3: フリガナ | C3: ='様式A-1'!D3 -> ヒコシマトンネル | G3: 路線名 | H3: ='様式A-1'!J3 -> 福浦港金毘羅線 | K3: 管理者名 | L3: ='様式A-1'!R3 -> 山口県 下関土木建築事務所 | Q3: 定期点検実施者 | S3: アジア航測株式会社 | V3: 起点 | W3: 緯度 | X3: 33.93588
B4: 名 称 | C4: ='様式A-1'!D4 -> 彦島トンネル | S4: 飯田 琢巳 | W4: 経度 | X4: 130.90785
B5: 所在地 | C5: 自 | D5: ='様式A-1'!E5 -> 下関市迫町 | G5: トンネル工法 | I5: 矢板工法 | L5: トンネル延長 | N5: L= | O5: ='様式A-1'!Z5 -> 868 | P5: ｍ | Q5: 自専道 or 一般道 | R5: 一般道 | S5: 代替路の有無 | U5: 有 | V5: 終点 | W5: 緯度 | X5: 33.94033
C6: 至 | D6: ='様式A-1'!E6 -> 下関市迫町 | G6: 建設年度 | I6: ='様式A-1'!K7 -> 1975年 | L6: 幅員 | N6: L= | O6: ='様式A-1'!E15 -> 9.05 | P6: ｍ | S6: 緊急輸送道路 | W6: 経度 | X6: 130.90161
B7: トンネル毎 の健全性の 診断の区分 | D7: Ⅲ
G8: 変状・異常 箇所数合計 | I8: トンネル本体工 | J8: 材質劣化 | K8: Ⅱ | L8: 623 | N8: Ⅲ | O8: 60 | Q8: Ⅳ | R8: 0 | T8: 附属物等 の取付状態 | V8: ◯ （応急措置後) | X8: 0
J9: 漏水 | K9: Ⅱ | L9: 187 | N9: Ⅲ | O9: 0 | Q9: Ⅳ | R9: 0
V10: ✕ | X10: 61
J11: 外力 | K11: Ⅱ | L11: 3 | N11: Ⅲ | O11: 0 | Q11: Ⅳ | R11: 0
B12: トンネル変状・異常箇所写真位置図
J29: 注１：本位置図は、見下げた状態で記載すること。 注２：覆工スパン番号は横断目地毎(矢板工法の場合は上半アーチの 横断目地毎)に設定すること。 | Q29: 注３：写真番号に付する変状番号は、各覆工スパンの変状に対して新たに確認された場合 は順次追加していくこと。 注４：横断目地の変状は前の覆工スパン番号で計上すること。 注５：１枚に収まらない場合は、複数枚に分けて作成すること。
C30: ※1 トンネル本体工の変状数は、材質劣化、漏水に起因するものは変状単位で、外力に起因するものはスパン単位で計上すること。
C31: ※2 トンネル本体工の変状に対しては、措置の必要性（Ⅱ～Ⅳ）について表記すること。また、点検前に実施された措置によりⅠと判定された箇所についても記載すること。
C32: ※3 附属物等の取付状態の○欄については、応急措置前に判定区分×とした箇所のうち応急措置により○判定とした箇所の数を記入すること。
C33: ※4 附属物等の異常番号は、本体工と番号が重複しないよう101番以降とする等の配慮を行い、分かりやすく記録すること。

Sheet 様式B (7)
B2: ■定期点検記録様式 トンネル変状・異常箇所写真位置図 【様式B】 | N2: 定期点検年月日 | P2: ='様式B (1)'!P2 -> 45896 | S2: 施設ID | V2: 33.93588,130.90785
B3: フリガナ | C3: ='様式A-1'!D3 -> ヒコシマトンネル | G3: 路線名 | H3: ='様式A-1'!J3 -> 福浦港金毘羅線 | K3: 管理者名 | L3: ='様式A-1'!R3 -> 山口県 下関土木建築事務所 | Q3: 定期点検実施者 | S3: アジア航測株式会社 | V3: 起点 | W3: 緯度 | X3: 33.93588
B4: 名 称 | C4: ='様式A-1'!D4 -> 彦島トンネル | S4: 飯田 琢巳 | W4: 経度 | X4: 130.90785
B5: 所在地 | C5: 自 | D5: ='様式A-1'!E5 -> 下関市迫町 | G5: トンネル工法 | I5: 矢板工法 | L5: トンネル延長 | N5: L= | O5: ='様式A-1'!Z5 -> 868 | P5: ｍ | Q5: 自専道 or 一般道 | R5: 一般道 | S5: 代替路の有無 | U5: 有 | V5: 終点 | W5: 緯度 | X5: 33.94033
C6: 至 | D6: ='様式A-1'!E6 -> 下関市迫町 | G6: 建設年度 | I6: ='様式A-1'!K7 -> 1975年 | L6: 幅員 | N6: L= | O6: ='様式A-1'!E15 -> 9.05 | P6: ｍ | S6: 緊急輸送道路 | W6: 経度 | X6: 130.90161
B7: トンネル毎 の健全性の 診断の区分 | D7: Ⅲ
G8: 変状・異常 箇所数合計 | I8: トンネル本体工 | J8: 材質劣化 | K8: Ⅱ | L8: 623 | N8: Ⅲ | O8: 60 | Q8: Ⅳ | R8: 0 | T8: 附属物等 の取付状態 | V8: ◯ （応急措置後) | X8: 0
J9: 漏水 | K9: Ⅱ | L9: 187 | N9: Ⅲ | O9: 0 | Q9: Ⅳ | R9: 0
V10: ✕ | X10: 61
J11: 外力 | K11: Ⅱ | L11: 3 | N11: Ⅲ | O11: 0 | Q11: Ⅳ | R11: 0
B12: トンネル変状・異常箇所写真位置図
J29: 注１：本位置図は、見下げた状態で記載すること。 注２：覆工スパン番号は横断目地毎(矢板工法の場合は上半アーチの 横断目地毎)に設定すること。 | Q29: 注３：写真番号に付する変状番号は、各覆工スパンの変状に対して新たに確認された場合 は順次追加していくこと。 注４：横断目地の変状は前の覆工スパン番号で計上すること。 注５：１枚に収まらない場合は、複数枚に分けて作成すること。
C30: ※1 トンネル本体工の変状数は、材質劣化、漏水に起因するものは変状単位で、外力に起因するものはスパン単位で計上すること。
C31: ※2 トンネル本体工の変状に対しては、措置の必要性（Ⅱ～Ⅳ）について表記すること。また、点検前に実施された措置によりⅠと判定された箇所についても記載すること。
C32: ※3 附属物等の取付状態の○欄については、応急措置前に判定区分×とした箇所のうち応急措置により○判定とした箇所の数を記入すること。
C33: ※4 附属物等の異常番号は、本体工と番号が重複しないよう101番以降とする等の配慮を行い、分かりやすく記録すること。

Sheet 様式B (8)
B2: ■定期点検記録様式 トンネル変状・異常箇所写真位置図 【様式B】 | N2: 定期点検年月日 | P2: ='様式B (1)'!P2 -> 45896 | S2: 施設ID | V2: 33.93588,130.90785
B3: フリガナ | C3: ='様式A-1'!D3 -> ヒコシマトンネル | G3: 路線名 | H3: ='様式A-1'!J3 -> 福浦港金毘羅線 | K3: 管理者名 | L3: ='様式A-1'!R3 -> 山口県 下関土木建築事務所 | Q3: 定期点検実施者 | S3: アジア航測株式会社 | V3: 起点 | W3: 緯度 | X3: 33.93588
B4: 名 称 | C4: ='様式A-1'!D4 -> 彦島トンネル | S4: 飯田 琢巳 | W4: 経度 | X4: 130.90785
B5: 所在地 | C5: 自 | D5: ='様式A-1'!E5 -> 下関市迫町 | G5: トンネル工法 | I5: 矢板工法 | L5: トンネル延長 | N5: L= | O5: ='様式A-1'!Z5 -> 868 | P5: ｍ | Q5: 自専道 or 一般道 | R5: 一般道 | S5: 代替路の有無 | U5: 有 | V5: 終点 | W5: 緯度 | X5: 33.94033
C6: 至 | D6: ='様式A-1'!E6 -> 下関市迫町 | G6: 建設年度 | I6: ='様式A-1'!K7 -> 1975年 | L6: 幅員 | N6: L= | O6: ='様式A-1'!E15 -> 9.05 | P6: ｍ | S6: 緊急輸送道路 | W6: 経度 | X6: 130.90161
B7: トンネル毎 の健全性の 診断の区分 | D7: Ⅲ
G8: 変状・異常 箇所数合計 | I8: トンネル本体工 | J8: 材質劣化 | K8: Ⅱ | L8: 623 | N8: Ⅲ | O8: 60 | Q8: Ⅳ | R8: 0 | T8: 附属物等 の取付状態 | V8: ◯ （応急措置後) | X8: 0
J9: 漏水 | K9: Ⅱ | L9: 187 | N9: Ⅲ | O9: 0 | Q9: Ⅳ | R9: 0
V10: ✕ | X10: 61
J11: 外力 | K11: Ⅱ | L11: 3 | N11: Ⅲ | O11: 0 | Q11: Ⅳ | R11: 0
B12: トンネル変状・異常箇所写真位置図
J29: 注１：本位置図は、見下げた状態で記載すること。 注２：覆工スパン番号は横断目地毎(矢板工法の場合は上半アーチの 横断目地毎)に設定すること。 | Q29: 注３：写真番号に付する変状番号は、各覆工スパンの変状に対して新たに確認された場合 は順次追加していくこと。 注４：横断目地の変状は前の覆工スパン番号で計上すること。 注５：１枚に収まらない場合は、複数枚に分けて作成すること。
C30: ※1 トンネル本体工の変状数は、材質劣化、漏水に起因するものは変状単位で、外力に起因するものはスパン単位で計上すること。
C31: ※2 トンネル本体工の変状に対しては、措置の必要性（Ⅱ～Ⅳ）について表記すること。また、点検前に実施された措置によりⅠと判定された箇所についても記載すること。
C32: ※3 附属物等の取付状態の○欄については、応急措置前に判定区分×とした箇所のうち応急措置により○判定とした箇所の数を記入すること。
C33: ※4 附属物等の異常番号は、本体工と番号が重複しないよう101番以降とする等の配慮を行い、分かりやすく記録すること。

Sheet 様式B (9)
B2: ■定期点検記録様式 トンネル変状・異常箇所写真位置図 【様式B】 | N2: 定期点検年月日 | P2: ='様式B (1)'!P2 -> 45896 | S2: 施設ID | V2: 33.93588,130.90785
B3: フリガナ | C3: ='様式A-1'!D3 -> ヒコシマトンネル | G3: 路線名 | H3: ='様式A-1'!J3 -> 福浦港金毘羅線 | K3: 管理者名 | L3: ='様式A-1'!R3 -> 山口県 下関土木建築事務所 | Q3: 定期点検実施者 | S3: アジア航測株式会社 | V3: 起点 | W3: 緯度 | X3: 33.93588
B4: 名 称 | C4: ='様式A-1'!D4 -> 彦島トンネル | S4: 飯田 琢巳 | W4: 経度 | X4: 130.90785
B5: 所在地 | C5: 自 | D5: ='様式A-1'!E5 -> 下関市迫町 | G5: トンネル工法 | I5: 矢板工法 | L5: トンネル延長 | N5: L= | O5: ='様式A-1'!Z5 -> 868 | P5: ｍ | Q5: 自専道 or 一般道 | R5: 一般道 | S5: 代替路の有無 | U5: 有 | V5: 終点 | W5: 緯度 | X5: 33.94033
C6: 至 | D6: ='様式A-1'!E6 -> 下関市迫町 | G6: 建設年度 | I6: ='様式A-1'!K7 -> 1975年 | L6: 幅員 | N6: L= | O6: ='様式A-1'!E15 -> 9.05 | P6: ｍ | S6: 緊急輸送道路 | W6: 経度 | X6: 130.90161
B7: トンネル毎 の健全性の 診断の区分 | D7: Ⅲ
G8: 変状・異常 箇所数合計 | I8: トンネル本体工 | J8: 材質劣化 | K8: Ⅱ | L8: 623 | N8: Ⅲ | O8: 60 | Q8: Ⅳ | R8: 0 | T8: 附属物等 の取付状態 | V8: ◯ （応急措置後) | X8: 0
J9: 漏水 | K9: Ⅱ | L9: 187 | N9: Ⅲ | O9: 0 | Q9: Ⅳ | R9: 0
V10: ✕ | X10: 61
J11: 外力 | K11: Ⅱ | L11: 3 | N11: Ⅲ | O11: 0 | Q11: Ⅳ | R11: 0
B12: トンネル変状・異常箇所写真位置図
J29: 注１：本位置図は、見下げた状態で記載すること。 注２：覆工スパン番号は横断目地毎(矢板工法の場合は上半アーチの 横断目地毎)に設定すること。 | Q29: 注３：写真番号に付する変状番号は、各覆工スパンの変状に対して新たに確認された場合 は順次追加していくこと。 注４：横断目地の変状は前の覆工スパン番号で計上すること。 注５：１枚に収まらない場合は、複数枚に分けて作成すること。
C30: ※1 トンネル本体工の変状数は、材質劣化、漏水に起因するものは変状単位で、外力に起因するものはスパン単位で計上すること。
C31: ※2 トンネル本体工の変状に対しては、措置の必要性（Ⅱ～Ⅳ）について表記すること。また、点検前に実施された措置によりⅠと判定された箇所についても記載すること。
C32: ※3 附属物等の取付状態の○欄については、応急措置前に判定区分×とした箇所のうち応急措置により○判定とした箇所の数を記入すること。
C33: ※4 附属物等の異常番号は、本体工と番号が重複しないよう101番以降とする等の配慮を行い、分かりやすく記録すること。

Sheet 様式B (10)
B2: ■定期点検記録様式 トンネル変状・異常箇所写真位置図 【様式B】 | N2: 定期点検年月日 | P2: ='様式B (1)'!P2 -> 45896 | S2: 施設ID | V2: 33.93588,130.90785
B3: フリガナ | C3: ='様式A-1'!D3 -> ヒコシマトンネル | G3: 路線名 | H3: ='様式A-1'!J3 -> 福浦港金毘羅線 | K3: 管理者名 | L3: ='様式A-1'!R3 -> 山口県 下関土木建築事務所 | Q3: 定期点検実施者 | S3: アジア航測株式会社 | V3: 起点 | W3: 緯度 | X3: 33.93588
B4: 名 称 | C4: ='様式A-1'!D4 -> 彦島トンネル | S4: 飯田 琢巳 | W4: 経度 | X4: 130.90785
B5: 所在地 | C5: 自 | D5: ='様式A-1'!E5 -> 下関市迫町 | G5: トンネル工法 | I5: 矢板工法 | L5: トンネル延長 | N5: L= | O5: ='様式A-1'!Z5 -> 868 | P5: ｍ | Q5: 自専道 or 一般道 | R5: 一般道 | S5: 代替路の有無 | U5: 有 | V5: 終点 | W5: 緯度 | X5: 33.94033
C6: 至 | D6: ='様式A-1'!E6 -> 下関市迫町 | G6: 建設年度 | I6: ='様式A-1'!K7 -> 1975年 | L6: 幅員 | N6: L= | O6: ='様式A-1'!E15 -> 9.05 | P6: ｍ | S6: 緊急輸送道路 | W6: 経度 | X6: 130.90161
B7: トンネル毎 の健全性の 診断の区分 | D7: Ⅲ
G8: 変状・異常 箇所数合計 | I8: トンネル本体工 | J8: 材質劣化 | K8: Ⅱ | L8: 623 | N8: Ⅲ | O8: 60 | Q8: Ⅳ | R8: 0 | T8: 附属物等 の取付状態 | V8: ◯ （応急措置後) | X8: 0
J9: 漏水 | K9: Ⅱ | L9: 187 | N9: Ⅲ | O9: 0 | Q9: Ⅳ | R9: 0
V10: ✕ | X10: 61
J11: 外力 | K11: Ⅱ | L11: 3 | N11: Ⅲ | O11: 0 | Q11: Ⅳ | R11: 0
B12: トンネル変状・異常箇所写真位置図
J29: 注１：本位置図は、見下げた状態で記載すること。 注２：覆工スパン番号は横断目地毎(矢板工法の場合は上半アーチの 横断目地毎)に設定すること。 | Q29: 注３：写真番号に付する変状番号は、各覆工スパンの変状に対して新たに確認された場合 は順次追加していくこと。 注４：横断目地の変状は前の覆工スパン番号で計上すること。 注５：１枚に収まらない場合は、複数枚に分けて作成すること。
C30: ※1 トンネル本体工の変状数は、材質劣化、漏水に起因するものは変状単位で、外力に起因するものはスパン単位で計上すること。
C31: ※2 トンネル本体工の変状に対しては、措置の必要性（Ⅱ～Ⅳ）について表記すること。また、点検前に実施された措置によりⅠと判定された箇所についても記載すること。
C32: ※3 附属物等の取付状態の○欄については、応急措置前に判定区分×とした箇所のうち応急措置により○判定とした箇所の数を記入すること。
C33: ※4 附属物等の異常番号は、本体工と番号が重複しないよう101番以降とする等の配慮を行い、分かりやすく記録すること。

Sheet 様式C-1-1
B2: ■定期点検記録様式 全スパン定期点検結果総括表（トンネル本体工） 【様式C-1-1】
B3: フリガナ | F3: ='様式A-1'!D3 -> ヒコシマトンネル | I3: 路線名 | K3: ='様式A-1'!J3 -> 福浦港金毘羅線 | O3: 定期点検実施者 | P3: ='様式B (1)'!S3 -> アジア航測株式会社 | T3: 定期点検年月日 | X3: ='様式B (1)'!P2 -> 45896
B4: 名 称 | F4: ='様式A-1'!D4 -> 彦島トンネル | I4: 管理者名 | K4: ='様式A-1'!R3 -> 山口県 下関土木建築事務所 | P4: ='様式B (1)'!S4 -> 飯田 琢巳
C5: 覆工 スパン 番号 | E5: 変状 番号 | F5: 距離 （m） | G5: 変状部位 | I5: 変 状 の 内 容 | O5: 前回定期点検時の状態 | P5: 今回定期点検結果 | T5: 措置履歴 | Y5: 対応方針 ・ 特記事項
O6: 44271
G7: 対象箇所 | H7: 部位区分 | I7: 変状区分 | J7: 変状種類 | M7: 変状の発生範囲の規模 | N7: 前回定期点検時の変状の発生範囲及び規模 | O7: 対策区分 | P7: 対策区分 | R7: 調査の 要否 | S7: 措置の 要否 | T7: 実施 | U7: 措置の実施状況
P8: 応急措置前 | Q8: 応急措置後
B9: 定期点検結果 | C9: PS | E9: 1 | F9: 0 | G9: 坑門 | H9: 面壁・妻壁等 | I9: 材質劣化 | J9: うき・はく離 | M9: 1.05 | N9: 2.1 | O9: Ⅱb | P9: － | Q9: Ⅱb | R9: 否 | S9: 要監視 | T9: 未 | U9: ー | Y9: 継続監視
C10: PS | E10: 2 | F10: 0 | G10: 坑門 | H10: 面壁・妻壁等 | I10: 材質劣化 | J10: 圧ざ、ひび割れ | M10: 0.09 | N10: 0.09 | O10: Ⅱb | P10: － | Q10: Ⅱb | R10: 否 | S10: 要監視 | T10: 未 | U10: ー | Y10: 継続監視
C11: PS | E11: 3 | F11: 1 | G11: 覆工 | H11: アーチ（左側） | I11: 材質劣化 | J11: 圧ざ、ひび割れ | M11: 0.17 | N11: 0.18 | O11: Ⅱb | P11: － | Q11: Ⅱb | R11: 否 | S11: 要監視 | T11: 未 | U11: ー | Y11: 継続監視
C12: PS | E12: 4 | F12: 0 | G12: 路面 | H12: 歩道 | J12: その他 | M12: 1.44 | N12: 1.2 | O12: Ⅱb | R12: 否 | S12: 否 | U12: ー
C13: S1 | E13: 1 | F13: 12 | G13: 覆工 | H13: 側壁（左側） | I13: 材質劣化 | J13: うき・はく離 | M13: 0.01 | N13: 0.01 | O13: Ⅱb | P13: － | Q13: Ⅱb | R13: 否 | S13: 要監視 | T13: 未 | U13: ー | Y13: 継続監視
C14: S1 | E14: 2 | F14: 11.9 | G14: 覆工 | H14: アーチ（左側） | I14: 材質劣化 | J14: うき・はく離 | M14: 0.04 | N14: 0.04 | O14: Ⅱb | P14: － | Q14: Ⅰ | R14: 否 | S14: 否 | T14: 未 | U14: ー | Y14: 判定見直し
C15: S1 | E15: 3 | F15: 8.9 | G15: 覆工 | H15: アーチ（全周） | I15: 材質劣化 | J15: 圧ざ、ひび割れ | M15: 0.48 | N15: 0.5 | O15: Ⅱb | P15: － | Q15: Ⅱb | R15: 否 | S15: 要監視 | T15: 未 | U15: ー | Y15: 継続監視
C16: S1 | E16: 4 | F16: 9.2 | G16: 覆工 | H16: アーチ（右側） | I16: 材質劣化 | J16: うき・はく離 | M16: 0.02 | N16: 0.02 | O16: Ⅱb | P16: － | Q16: Ⅱb | R16: 否 | S16: 要監視 | T16: 未 | U16: ー | Y16: 継続監視
C17: S1 | E17: 5 | F17: 4.2 | G17: 覆工 | H17: 側壁（右側） | I17: 材質劣化 | J17: うき・はく離 | M17: 0.015 | N17: 0.02 | O17: Ⅱb | P17: － | Q17: Ⅱb | R17: 否 | S17: 要監視 | T17: 未 | U17: ー | Y17: 継続監視
C18: S1 | E18: 6 | F18: 6.3 | G18: 覆工 | H18: アーチ（右側） | I18: 漏水 | J18: 漏水 | M18: 1.25 | N18: - | O18: Ⅱb | P18: － | Q18: Ⅱb | R18: 否 | S18: 要監視 | T18: 未 | U18: ー | Y18: 継続監視
C19: S1 | E19: 7 | F19: 3.4 | G19: 覆工 | H19: 側壁（左側） | I19: 材質劣化 | J19: うき・はく離 | M19: 0.04 | N19: （新規確認） | O19: － | P19: － | Q19: Ⅱb | R19: 否 | S19: 要監視 | T19: 未 | U19: ー | Y19: 監視
C20: S1 | E20: 8 | F20: 4.1 | G20: 覆工 | H20: 側壁（左側） | I20: 漏水 | J20: 補修・補強材の破損 | M20: 0.06 | N20: （新規確認） | O20: － | P20: － | Q20: Ⅱb | R20: 否 | S20: 要監視 | T20: 未 | U20: ー | Y20: 監視
C21: S1 | E21: 9 | F21: 4.1 | G21: 覆工 | H21: 側壁（左側） | I21: 漏水 | J21: 漏水 | M21: 0.9 | N21: （新規確認） | O21: － | P21: － | Q21: Ⅱb | R21: 否 | S21: 要監視 | T21: 未 | U21: ー | Y21: 継続監視
C22: S2 | E22: 1 | F22: 14.4 | G22: 覆工 | H22: 水平打ち継ぎ目（左側） | I22: 材質劣化 | J22: うき・はく離 | M22: 0.03 | N22: 0.03 | O22: Ⅱb | P22: － | Q22: Ⅱb | R22: 否 | S22: 要監視 | T22: 未 | U22: ー | Y22: 継続監視
C23: S2 | E23: 2 | F23: 13.3 | G23: 覆工 | H23: アーチ（左側） | I23: 材質劣化 | J23: 圧ざ、ひび割れ | M23: 0.16 | N23: 0.2 | O23: Ⅱb | P23: － | Q23: Ⅱb | R23: 否 | S23: 要監視 | T23: 未 | U23: ー | Y23: 継続監視
C24: S2 | E24: 3 | F24: 14 | G24: 覆工 | H24: アーチ（天端） | I24: 材質劣化 | J24: うき・はく離 | M24: 0.01 | N24: 0.01 | O24: Ⅱb | P24: － | Q24: Ⅱb | R24: 否 | S24: 要監視 | T24: 未 | U24: ー | Y24: 継続監視
C25: S2 | E25: 4 | F25: 15.2 | G25: 覆工 | H25: アーチ（天端） | I25: 材質劣化 | J25: 圧ざ、ひび割れ | M25: 0.42 | N25: 0.47 | O25: Ⅱb | P25: － | Q25: Ⅱb | R25: 否 | S25: 要監視 | T25: 未 | U25: ー | Y25: 継続監視
C26: S2 | E26: 5 | F26: 13.2 | G26: 覆工 | H26: アーチ（右側） | I26: 材質劣化 | J26: うき・はく離 | M26: 0.005 | N26: 0.005 | O26: Ⅱb | P26: － | Q26: Ⅱb | R26: 否 | S26: 要監視 | T26: 未 | U26: ー | Y26: 継続監視
C27: S2 | E27: 6 | F27: 17.2 | G27: 覆工 | H27: 横断目地（右側） | I27: 漏水 | J27: 漏水 | M27: 1.3 | N27: - | O27: Ⅱb | P27: － | Q27: Ⅱb | R27: 否 | S27: 要監視 | T27: 未 | U27: ー | Y27: 継続監視
C28: S2 | E28: 7 | F28: 17.6 | G28: 覆工 | H28: 横断目地（左側） | I28: 漏水 | J28: 補修・補強材の破損 | M28: 0.01 | N28: （新規確認） | O28: － | P28: － | Q28: Ⅱb | R28: 否 | S28: 要監視 | T28: 未 | U28: ー | Y28: 継続監視
C29: S3 | E29: 1 | F29: 24.2 | G29: 覆工 | H29: 水平打ち継ぎ目（左側） | I29: 漏水 | J29: 補修・補強材の破損 | M29: 0.02 | N29: 0.03 | O29: Ⅱb | P29: － | Q29: Ⅱb | R29: 否 | S29: 要監視 | T29: 未 | U29: ー | Y29: 継続監視
C30: S3 | E30: 2 | F30: 22.8 | G30: 覆工 | H30: アーチ（左側） | I30: 材質劣化 | J30: 圧ざ、ひび割れ | M30: 0.57 | N30: 0.42 | O30: Ⅱb | P30: － | Q30: Ⅱb | R30: 否 | S30: 要監視 | T30: 未 | U30: ー | Y30: 継続監視
C31: S3 | E31: 3 | F31: 22.5 | G31: 覆工 | H31: アーチ（左側） | I31: 漏水 | J31: 補修・補強材の破損 | M31: 0.02 | N31: 0.02 | O31: Ⅱb | P31: － | Q31: Ⅱb | R31: 否 | S31: 要監視 | T31: 未 | U31: ー | Y31: 継続監視
C32: S3 | E32: 4 | F32: 23.1 | G32: 覆工 | H32: アーチ（左側） | I32: 材質劣化 | J32: うき・はく離 | M32: 0.02 | N32: 0.02 | O32: Ⅱb | P32: － | Q32: Ⅱb | R32: 否 | S32: 要監視 | T32: 未 | U32: ー | Y32: 継続監視
C33: S3 | E33: 5 | F33: 28.1 | G33: 覆工 | H33: 横断目地（左側） | I33: 材質劣化 | J33: うき・はく離 | M33: 0.05 | N33: 0.05 | O33: Ⅱb | P33: － | Q33: Ⅱb | R33: 否 | S33: 要監視 | T33: 未 | U33: ー | Y33: 継続監視
C34: S3 | E34: 6 | F34: 17.9 | G34: 覆工 | H34: アーチ（右側） | I34: 漏水 | J34: 漏水 | M34: - | N34: - | O34: Ⅱb | P34: － | Q34: Ⅰ | R34: 否 | S34: 否 | T34: 未 | U34: ー | Y34: （補修済）
C35: S3 | E35: 7 | F35: 20.3 | G35: 覆工 | H35: アーチ（右側） | I35: 材質劣化 | J35: うき・はく離 | M35: 0.0175 | N35: 0.0175 | O35: Ⅱb | P35: － | Q35: Ⅱb | R35: 否 | S35: 要監視 | T35: 未 | U35: ー | Y35: 継続監視
C36: S3 | E36: 8 | F36: 23.2 | G36: 覆工 | H36: アーチ（右側） | I36: 材質劣化 | J36: 圧ざ、ひび割れ | M36: 0.53 | N36: 0.31 | O36: Ⅱb | P36: － | Q36: Ⅱb | R36: 否 | S36: 要監視 | T36: 未 | U36: ー | Y36: 継続監視
C37: S3 | E37: 9 | F37: 24.7 | G37: 覆工 | H37: 水平打ち継ぎ目（左側） | I37: 材質劣化 | J37: うき・はく離 | M37: 0.045 | N37: （新規確認） | O37: － | P37: － | Q37: Ⅱb | R37: 否 | S37: 要監視 | T37: 未 | U37: ー | Y37: 継続監視
C38: S4 | E38: 1 | F38: 30.1 | G38: 覆工 | H38: 水平打ち継ぎ目（左側） | I38: 材質劣化 | J38: うき・はく離 | M38: 0.04 | N38: 0.04 | O38: Ⅱb | P38: － | Q38: Ⅱb | R38: 否 | S38: 要監視 | T38: 未 | U38: ー | Y38: 継続監視
C39: S4 | E39: 2 | F39: 32.2 | G39: 覆工 | H39: 水平打ち継ぎ目（左側） | I39: 材質劣化 | J39: うき・はく離 | M39: 0.085 | N39: 0.085 | O39: Ⅱb | P39: － | Q39: Ⅰ | R39: 否 | S39: 否 | T39: 未 | U39: ー | Y39: 判定見直し
C40: S4 | E40: 3 | F40: 32.8 | G40: 覆工 | H40: アーチ（左側） | I40: 漏水 | J40: 漏水 | M40: 4.9 | N40: - | O40: Ⅱb | P40: － | Q40: Ⅱb | R40: 否 | S40: 要監視 | T40: 未 | U40: ー | Y40: 継続監視
C41: S4 | E41: 4 | F41: 37.2 | G41: 覆工 | H41: アーチ（左側） | I41: 材質劣化 | J41: うき・はく離 | M41: 0.04 | N41: 0.04 | O41: Ⅱb | P41: － | Q41: Ⅰ | R41: 否 | S41: 否 | T41: 未 | U41: ー | Y41: 判定見直し
...

Sheet 様式C-1-1 (2)
B2: ■定期点検記録様式 全スパン定期点検結果総括表（トンネル本体工） 【様式C-1-1】
B3: フリガナ | F3: ='様式A-1'!D3 -> ヒコシマトンネル | I3: 路線名 | K3: ='様式A-1'!J3 -> 福浦港金毘羅線 | O3: 定期点検実施者 | P3: ='様式B (1)'!S3 -> アジア航測株式会社 | T3: 定期点検年月日 | X3: ='様式B (1)'!P2 -> 45896
B4: 名 称 | F4: ='様式A-1'!D4 -> 彦島トンネル | I4: 管理者名 | K4: ='様式A-1'!R3 -> 山口県 下関土木建築事務所 | P4: ='様式B (1)'!S4 -> 飯田 琢巳
C5: 覆工 スパン 番号 | E5: 変状 番号 | F5: 距離 （m） | G5: 変状部位 | I5: 変 状 の 内 容 | O5: 前回定期点検時の状態 | P5: 今回定期点検結果 | T5: 措置履歴 | Y5: 対応方針 ・ 特記事項
O6: 44271
G7: 対象箇所 | H7: 部位区分 | I7: 変状区分 | J7: 変状種類 | M7: 変状の発生範囲の規模 | N7: 前回定期点検時の変状の発生範囲及び規模 | O7: 対策区分 | P7: 対策区分 | R7: 調査の 要否 | S7: 措置の 要否 | T7: 実施 | U7: 措置の実施状況
P8: 応急措置前 | Q8: 応急措置後
B9: 定期点検結果 | C9: S4 | E9: 5 | F9: 28.7 | G9: 覆工 | H9: アーチ（全周） | I9: 材質劣化 | J9: 圧ざ、ひび割れ | M9: 0.51 | N9: 0.51 | O9: Ⅱb | P9: － | Q9: Ⅱb | R9: 否 | S9: 要監視 | T9: 未 | U9: ー | Y9: 継続監視
C10: S4 | E10: 6 | F10: 28.3 | G10: 覆工 | H10: アーチ（右側） | I10: 材質劣化 | J10: うき・はく離 | M10: 0.0075 | N10: 0.0075 | O10: Ⅱb | P10: － | Q10: Ⅱb | R10: 否 | S10: 要監視 | T10: 未 | U10: ー | Y10: 継続監視
C11: S4 | E11: 7 | F11: 32.3 | G11: 覆工 | H11: アーチ（右側） | I11: 材質劣化 | J11: うき・はく離 | M11: 0.01 | N11: 0.01 | O11: Ⅱb | P11: － | Q11: Ⅱb | R11: 否 | S11: 要監視 | T11: 未 | U11: ー | Y11: 継続監視
C12: S4 | E12: 8 | F12: 37.7 | G12: 覆工 | H12: アーチ（右側） | I12: 材質劣化 | J12: うき・はく離 | M12: 0.01 | N12: 0.01 | O12: Ⅱb | P12: － | Q12: Ⅱb | R12: 否 | S12: 要監視 | T12: 未 | U12: ー | Y12: 継続監視
C13: S4 | E13: 9 | F13: 36 | G13: 覆工 | H13: アーチ（右側） | I13: 材質劣化 | J13: うき・はく離 | M13: 0.13 | N13: 0.13 | O13: Ⅱb | P13: － | Q13: Ⅰ | R13: 否 | S13: 否 | T13: 未 | U13: ー | Y13: 判定見直し
C14: S4 | E14: 10 | F14: 29.8 | G14: 覆工 | H14: 側壁（右側） | I14: 材質劣化 | J14: うき・はく離 | M14: 0.22 | N14: 0.1 | O14: Ⅱb | P14: － | Q14: Ⅱb | R14: 否 | S14: 要監視 | T14: 未 | U14: ー | Y14: 継続監視
C15: S4 | E15: 11 | F15: 31 | G15: 覆工 | H15: 水平打ち継ぎ目（右側） | I15: 漏水 | J15: 補修・補強材の破損 | M15: 0.08 | N15: 0.015 | O15: Ⅱb | P15: － | Q15: Ⅱb | R15: 否 | S15: 要監視 | T15: 未 | U15: ー | Y15: 継続監視
C16: S5 | E16: 1 | F16: 38.8 | G16: 覆工 | H16: アーチ（左側） | I16: 漏水 | J16: 補修・補強材の破損 | M16: 0.04 | N16: 0.015 | O16: Ⅱb | P16: － | Q16: Ⅱb | R16: 否 | S16: 要監視 | T16: 未 | U16: ー | Y16: 継続監視
C17: S5 | E17: 2 | F17: 42.4 | G17: 覆工 | H17: アーチ（左側） | I17: 材質劣化 | J17: うき・はく離 | M17: 0.02 | N17: 0.02 | O17: Ⅱb | P17: － | Q17: Ⅱb | R17: 否 | S17: 要監視 | T17: 未 | U17: ー | Y17: 継続監視
C18: S5 | E18: 3 | F18: 45.2 | G18: 覆工 | H18: アーチ（左側） | I18: 漏水 | J18: 補修・補強材の破損 | M18: 0.03 | N18: 0.02 | O18: Ⅱb | P18: － | Q18: Ⅱb | R18: 否 | S18: 要監視 | T18: 未 | U18: ー | Y18: 継続監視
C19: S5 | E19: 4 | F19: 48.1 | G19: 覆工 | H19: アーチ（左側） | I19: 材質劣化 | J19: うき・はく離 | M19: 0.01 | N19: 0.01 | O19: Ⅱb | P19: － | Q19: Ⅱb | R19: 否 | S19: 要監視 | T19: 未 | U19: ー | Y19: 継続監視
C20: S5 | E20: 5 | F20: 45.6 | G20: 覆工 | H20: アーチ（左側） | I20: 材質劣化 | J20: 圧ざ、ひび割れ | M20: 0.32 | N20: 0.32 | O20: Ⅱb | P20: － | Q20: Ⅱb | R20: 否 | S20: 要監視 | T20: 未 | U20: ー | Y20: 継続監視
C21: S5 | E21: 6 | F21: 39.3 | G21: 覆工 | H21: アーチ（天端） | I21: 材質劣化 | J21: うき・はく離 | M21: 0.04 | N21: 0.04 | O21: Ⅱb | P21: － | Q21: Ⅱb | R21: 否 | S21: 要監視 | T21: 未 | U21: ー | Y21: 継続監視
C22: S5 | E22: 7 | F22: 45 | G22: 覆工 | H22: アーチ（天端） | I22: 材質劣化 | J22: うき・はく離 | M22: 0.0225 | N22: 0.0225 | O22: Ⅱb | P22: － | Q22: Ⅱb | R22: 否 | S22: 要監視 | T22: 未 | U22: ー | Y22: 継続監視
C23: S5 | E23: 8 | F23: 41.6 | G23: 覆工 | H23: アーチ（天端） | I23: 漏水 | J23: 漏水 | M23: 4 | N23: - | O23: Ⅱb | P23: － | Q23: Ⅱb | R23: 否 | S23: 要監視 | T23: 未 | U23: ー | Y23: 継続監視
C24: S5 | E24: 9 | F24: 45 | G24: 覆工 | H24: アーチ（右側） | I24: 材質劣化 | J24: 圧ざ、ひび割れ | M24: 0.42 | N24: 0.4 | O24: Ⅱb | P24: － | Q24: Ⅱb | R24: 否 | S24: 要監視 | T24: 未 | U24: ー | Y24: 継続監視
C25: S5 | E25: 10 | F25: 43 | G25: 覆工 | H25: アーチ（右側） | I25: 材質劣化 | J25: うき・はく離 | M25: 0.01 | N25: 0.01 | O25: Ⅱb | P25: － | Q25: Ⅱb | R25: 否 | S25: 要監視 | T25: 未 | U25: ー | Y25: 継続監視
C26: S5 | E26: 11 | F26: 45.5 | G26: 覆工 | H26: アーチ（天端） | I26: 材質劣化 | J26: うき・はく離 | M26: 0.0125 | N26: 0.0125 | O26: Ⅲ | P26: － | Q26: Ⅲ | R26: 否 | S26: 要対策 | T26: 未 | U26: ー | Y26: はく落防止工
C27: S5 | E27: 12 | F27: 48.2 | G27: 覆工 | H27: アーチ（天端） | I27: 材質劣化 | J27: うき・はく離 | M27: 0.02 | N27: 0.02 | O27: Ⅲ | P27: － | Q27: Ⅲ | R27: 否 | S27: 要対策 | T27: 未 | U27: ー | Y27: はく落防止工
C28: S5 | E28: 13 | F28: 43.7 | G28: 覆工 | H28: 側壁（右側） | I28: 材質劣化 | J28: 圧ざ、ひび割れ | M28: 0.21 | N28: 0.21 | O28: Ⅱb | P28: － | Q28: Ⅱb | R28: 否 | S28: 要監視 | T28: 未 | U28: ー | Y28: 継続監視
C29: S5 | E29: 14 | F29: 45.7 | G29: 覆工 | H29: 側壁（右側） | I29: 漏水 | J29: 漏水 | M29: 1.1 | N29: （新規確認） | O29: － | P29: － | Q29: Ⅱb | R29: 否 | S29: 要監視 | T29: 未 | U29: ー | Y29: 監視
C30: S6 | E30: 1 | F30: 53.9 | G30: 覆工 | H30: 側壁（左側） | I30: 材質劣化 | J30: 圧ざ、ひび割れ | M30: 0.13 | N30: 0.23 | O30: Ⅱb | P30: － | Q30: Ⅱb | R30: 否 | S30: 要監視 | T30: 未 | U30: ー | Y30: 継続監視
C31: S6 | E31: 2 | F31: 55.9 | G31: 覆工 | H31: アーチ（左側） | I31: 材質劣化 | J31: 圧ざ、ひび割れ | M31: 0.18 | N31: 0.15 | O31: Ⅱb | P31: － | Q31: Ⅱb | R31: 否 | S31: 要監視 | T31: 未 | U31: ー | Y31: 継続監視
C32: S6 | E32: 3 | F32: 57.4 | G32: 覆工 | H32: アーチ（天端） | I32: 材質劣化 | J32: うき・はく離 | M32: 0.0125 | N32: 0.0125 | O32: Ⅱb | P32: － | Q32: Ⅱb | R32: 否 | S32: 要監視 | T32: 未 | U32: ー | Y32: 継続監視
C33: S6 | E33: 4 | F33: 57.4 | G33: 覆工 | H33: アーチ（天端） | I33: 材質劣化 | J33: うき・はく離 | M33: 0.09 | N33: 0.09 | O33: Ⅱb | P33: － | Q33: Ⅱb | R33: 否 | S33: 要監視 | T33: 未 | U33: ー | Y33: 継続監視
C34: S6 | E34: 5 | F34: 53 | G34: 覆工 | H34: アーチ（天端） | I34: 材質劣化 | J34: うき・はく離 | M34: 0.0075 | N34: 0.0075 | O34: Ⅲ | P34: － | Q34: Ⅲ | R34: 否 | S34: 要対策 | T34: 未 | U34: ー | Y34: はく落防止工
C35: S6 | E35: 6 | F35: 51.9 | G35: 覆工 | H35: アーチ（天端） | I35: 材質劣化 | J35: うき・はく離 | M35: 0.03 | N35: 0.03 | O35: Ⅲ | P35: － | Q35: Ⅲ | R35: 否 | S35: 要対策 | T35: 未 | U35: ー | Y35: はく落防止工
C36: S6 | E36: 7 | F36: 58.5 | G36: 覆工 | H36: アーチ（天端） | I36: 材質劣化 | J36: うき・はく離 | M36: 0.01 | N36: 0.01 | O36: Ⅱb | P36: － | Q36: Ⅱb | R36: 否 | S36: 要監視 | T36: 未 | U36: ー | Y36: 継続監視
C37: S6 | E37: 8 | F37: 53.4 | G37: 覆工 | H37: アーチ（右側） | I37: 材質劣化 | J37: うき・はく離 | M37: 0.01 | N37: 0.01 | O37: Ⅱb | P37: － | Q37: Ⅱb | R37: 否 | S37: 要監視 | T37: 未 | U37: ー | Y37: 継続監視
C38: S6 | E38: 9 | F38: 58.8 | G38: 覆工 | H38: アーチ（右側） | I38: 材質劣化 | J38: うき・はく離 | M38: 0.01 | N38: 0.01 | O38: Ⅱb | P38: － | Q38: Ⅱb | R38: 否 | S38: 要監視 | T38: 未 | U38: ー | Y38: 継続監視
C39: S6 | E39: 10 | F39: 50.1 | G39: 覆工 | H39: 水平打ち継ぎ目（右側） | I39: 材質劣化 | J39: うき・はく離 | M39: 0.03 | N39: 0.06 | O39: Ⅱb | P39: － | Q39: Ⅱb | R39: 否 | S39: 要監視 | T39: 未 | U39: ー | Y39: 継続監視
C40: S6 | E40: 11 | F40: 49.8 | G40: 覆工 | H40: 水平打ち継ぎ目（右側） | I40: 材質劣化 | J40: 圧ざ、ひび割れ | M40: 0.43 | N40: 0.39 | O40: Ⅱb | P40: － | Q40: Ⅱb | R40: 否 | S40: 要監視 | T40: 未 | U40: ー | Y40: 継続監視
C41: S6 | E41: 12 | F41: 53.2 | G41: 覆工 | H41: 側壁（右側） | I41: 材質劣化 | J41: 圧ざ、ひび割れ | M41: 0.23 | N41: 0.23 | O41: Ⅱb | P41: － | Q41: Ⅱb | R41: 否 | S41: 要監視 | T41: 未 | U41: ー | Y41: 継続監視
...

Sheet 様式C-1-1 (3)
B2: ■定期点検記録様式 全スパン定期点検結果総括表（トンネル本体工） 【様式C-1-1】
B3: フリガナ | F3: ='様式A-1'!D3 -> ヒコシマトンネル | I3: 路線名 | K3: ='様式A-1'!J3 -> 福浦港金毘羅線 | O3: 定期点検実施者 | P3: ='様式B (1)'!S3 -> アジア航測株式会社 | T3: 定期点検年月日 | X3: ='様式B (1)'!P2 -> 45896
B4: 名 称 | F4: ='様式A-1'!D4 -> 彦島トンネル | I4: 管理者名 | K4: ='様式A-1'!R3 -> 山口県 下関土木建築事務所 | P4: ='様式B (1)'!S4 -> 飯田 琢巳
C5: 覆工 スパン 番号 | E5: 変状 番号 | F5: 距離 （m） | G5: 変状部位 | I5: 変 状 の 内 容 | O5: 前回定期点検時の状態 | P5: 今回定期点検結果 | T5: 措置履歴 | Y5: 対応方針 ・ 特記事項
O6: 44271
G7: 対象箇所 | H7: 部位区分 | I7: 変状区分 | J7: 変状種類 | M7: 変状の発生範囲の規模 | N7: 前回定期点検時の変状の発生範囲及び規模 | O7: 対策区分 | P7: 対策区分 | R7: 調査の 要否 | S7: 措置の 要否 | T7: 実施 | U7: 措置の実施状況
P8: 応急措置前 | Q8: 応急措置後
B9: 定期点検結果 | C9: S6 | E9: 13 | F9: 50.8 | G9: 覆工 | H9: 側壁（左側） | I9: 漏水 | J9: 補修・補強材の破損 | M9: 0.03 | N9: （新規確認） | O9: － | P9: － | Q9: Ⅱb | R9: 否 | S9: 要監視 | T9: 未 | U9: ー | Y9: 監視
C10: S6 | E10: 14 | F10: 59.8 | G10: 覆工 | H10: 横断目地（左側） | I10: 漏水 | J10: 補修・補強材の破損 | M10: 0.05 | N10: （新規確認） | O10: － | P10: － | Q10: Ⅱb | R10: 否 | S10: 要監視 | T10: 未 | U10: ー | Y10: 監視
C11: S6 | E11: 15 | F11: 59.8 | G11: 覆工 | H11: 横断目地（右側） | I11: 漏水 | J11: 補修・補強材の破損 | M11: 0.06 | N11: （新規確認） | O11: － | P11: － | Q11: Ⅱb | R11: 否 | S11: 要監視 | T11: 未 | U11: ー | Y11: 監視
C12: S6 | E12: 16 | F12: 59.7 | G12: 覆工 | H12: 横断目地（右側） | I12: 漏水 | J12: 補修・補強材の破損 | M12: 0.04 | N12: （新規確認） | O12: － | P12: － | Q12: Ⅱb | R12: 否 | S12: 要監視 | T12: 未 | U12: ー | Y12: 監視
C13: S6 | E13: 17 | F13: 50.8 | G13: 覆工 | H13: 水平打ち継ぎ目（右側） | I13: 材質劣化 | J13: うき・はく離 | M13: 1.12 | N13: （新規確認） | O13: － | P13: － | Q13: Ⅱa | R13: 否 | S13: 要対策 | T13: 未 | U13: ー | Y13: はく落防止工
C14: S7 | E14: 1 | F14: 64 | G14: 覆工 | H14: 水平打ち継ぎ目（左側） | I14: 材質劣化 | J14: うき・はく離 | M14: 0.08 | N14: 0.08 | O14: Ⅱb | P14: － | Q14: Ⅱb | R14: 否 | S14: 要監視 | T14: 未 | U14: ー | Y14: 継続監視
C15: S7 | E15: 2 | F15: 66.8 | G15: 覆工 | H15: 側壁（左側） | I15: 材質劣化 | J15: 圧ざ、ひび割れ | M15: 0.2 | N15: 0.23 | O15: Ⅱb | P15: － | Q15: Ⅱb | R15: 否 | S15: 要監視 | T15: 未 | U15: ー | Y15: 継続監視
C16: S7 | E16: 3 | F16: 68.8 | G16: 覆工 | H16: 水平打ち継ぎ目（左側） | I16: 漏水 | J16: 補修・補強材の破損 | M16: 0.15 | N16: 0.14 | O16: Ⅱb | P16: － | Q16: Ⅱb | R16: 否 | S16: 要監視 | T16: 未 | U16: ー | Y16: 継続監視
C17: S7 | E17: 4 | F17: 59.8 | G17: 覆工 | H17: 水平打ち継ぎ目（左側） | I17: 漏水 | J17: 補修・補強材の破損 | M17: 0.02 | N17: 0.02 | O17: Ⅱb | P17: － | Q17: Ⅱb | R17: 否 | S17: 要監視 | T17: 未 | U17: ー | Y17: 継続監視
C18: S7 | E18: 5 | F18: 66.9 | G18: 覆工 | H18: アーチ（左側） | I18: 材質劣化 | J18: うき・はく離 | M18: 0.005 | N18: 0.005 | O18: Ⅲ | P18: － | Q18: Ⅲ | R18: 否 | S18: 要対策 | T18: 未 | U18: ー | Y18: はく落防止工
C19: S7 | E19: 6 | F19: 68.1 | G19: 覆工 | H19: アーチ（左側） | I19: 材質劣化 | J19: うき・はく離 | M19: 0.005 | N19: 0.005 | O19: Ⅱb | P19: － | Q19: Ⅱb | R19: 否 | S19: 要監視 | T19: 未 | U19: ー | Y19: 継続監視
C20: S7 | E20: 7 | F20: 60 | G20: 覆工 | H20: アーチ（全周） | I20: 材質劣化 | J20: 圧ざ、ひび割れ | M20: 0.49 | N20: 0.48 | O20: Ⅱb | P20: － | Q20: Ⅱb | R20: 否 | S20: 要監視 | T20: 未 | U20: ー | Y20: 継続監視
C21: S7 | E21: 8 | F21: 66.1 | G21: 覆工 | H21: アーチ（天端） | I21: 材質劣化 | J21: うき・はく離 | M21: 0.015 | N21: 0.015 | O21: Ⅲ | P21: － | Q21: Ⅲ | R21: 否 | S21: 要対策 | T21: 未 | U21: ー | Y21: はく落防止工
C22: S7 | E22: 9 | F22: 62.4 | G22: 覆工 | H22: アーチ（天端） | I22: 材質劣化 | J22: うき・はく離 | M22: 0.01 | N22: 0.01 | O22: Ⅲ | P22: － | Q22: Ⅲ | R22: 否 | S22: 要対策 | T22: 未 | U22: ー | Y22: はく落防止工
C23: S7 | E23: 10 | F23: 69.5 | G23: 覆工 | H23: アーチ（天端） | I23: 材質劣化 | J23: うき・はく離 | M23: 0.03 | N23: 0.03 | O23: Ⅲ | P23: － | Q23: Ⅲ | R23: 否 | S23: 要対策 | T23: 未 | U23: ー | Y23: はく落防止工
C24: S7 | E24: 11 | F24: 68.3 | G24: 覆工 | H24: アーチ（天端） | I24: 材質劣化 | J24: うき・はく離 | M24: 0.0075 | N24: 0.0075 | O24: Ⅲ | P24: － | Q24: Ⅲ | R24: 否 | S24: 要対策 | T24: 未 | U24: ー | Y24: はく落防止工
C25: S7 | E25: 12 | F25: 69.2 | G25: 覆工 | H25: アーチ（左側） | I25: 材質劣化 | J25: うき・はく離 | M25: 0.01 | N25: 0.01 | O25: Ⅱb | P25: － | Q25: Ⅱb | R25: 否 | S25: 要監視 | T25: 未 | U25: ー | Y25: 継続監視
C26: S7 | E26: 13 | F26: 63.6 | G26: 覆工 | H26: 側壁（右側） | I26: 材質劣化 | J26: 圧ざ、ひび割れ | M26: 0.23 | N26: 0.23 | O26: Ⅱb | P26: － | Q26: Ⅱb | R26: 否 | S26: 要監視 | T26: 未 | U26: ー | Y26: 継続監視
C27: S7 | E27: 14 | F27: 66.8 | G27: 覆工 | H27: 水平打ち継ぎ目（左側） | I27: 材質劣化 | J27: うき・はく離 | M27: 0.06 | N27: （新規確認） | O27: － | P27: － | Q27: Ⅱb | R27: 否 | S27: 要監視 | T27: 未 | U27: ー | Y27: 監視
C28: S7 | E28: 15 | F28: 66.7 | G28: 覆工 | H28: アーチ（天端） | I28: 材質劣化 | J28: うき・はく離 | M28: 0.02 | N28: （新規確認） | O28: － | P28: － | Q28: Ⅱb | R28: 否 | S28: 要監視 | T28: 未 | U28: ー | Y28: 監視
C29: S8 | E29: 1 | F29: 74.8 | G29: 覆工 | H29: 側壁（左側） | I29: 材質劣化 | J29: 圧ざ、ひび割れ | M29: 0.21 | N29: 0.22 | O29: Ⅱb | P29: － | Q29: Ⅱb | R29: 否 | S29: 要監視 | T29: 未 | U29: ー | Y29: 継続監視
C30: S8 | E30: 2 | F30: 74.3 | G30: 覆工 | H30: 水平打ち継ぎ目（左側） | I30: 材質劣化 | J30: うき・はく離 | M30: 0.42 | N30: 0.25 | O30: Ⅱb | P30: － | Q30: Ⅱa | R30: 否 | S30: 要対策 | T30: 未 | U30: ー | Y30: はく落防止工
C31: S8 | E31: 3 | F31: 70.3 | G31: 覆工 | H31: 横断目地（左側） | I31: 材質劣化 | J31: うき・はく離 | M31: 0.05 | N31: 0.05 | O31: Ⅱb | P31: － | Q31: Ⅱb | R31: 否 | S31: 要監視 | T31: 未 | U31: ー | Y31: 継続監視
C32: S8 | E32: 4 | F32: 73.3 | G32: 覆工 | H32: アーチ（左側） | I32: 材質劣化 | J32: 圧ざ、ひび割れ | M32: 0.44 | N32: 0.42 | O32: Ⅱb | P32: － | Q32: Ⅱb | R32: 否 | S32: 要監視 | T32: 未 | U32: ー | Y32: 継続監視
C33: S8 | E33: 5 | F33: 77.1 | G33: 覆工 | H33: アーチ（天端） | I33: 材質劣化 | J33: うき・はく離 | M33: 0.01 | N33: 0.01 | O33: Ⅱb | P33: － | Q33: Ⅱb | R33: 否 | S33: 要監視 | T33: 未 | U33: ー | Y33: 継続監視
C34: S8 | E34: 6 | F34: 70.3 | G34: 覆工 | H34: 横断目地（天端） | I34: 材質劣化 | J34: うき・はく離 | M34: 0.0175 | N34: 0.0175 | O34: Ⅱb | P34: － | Q34: Ⅰ | R34: 否 | S34: 否 | T34: 未 | U34: ー | Y34: 判定見直し
C35: S8 | E35: 7 | F35: 70.3 | G35: 覆工 | H35: 横断目地（天端） | I35: 材質劣化 | J35: うき・はく離 | M35: 0.015 | N35: 0.015 | O35: Ⅱb | P35: － | Q35: Ⅱb | R35: 否 | S35: 要監視 | T35: 未 | U35: ー | Y35: 継続監視
C36: S8 | E36: 8 | F36: 72 | G36: 覆工 | H36: アーチ（天端） | I36: 材質劣化 | J36: うき・はく離 | M36: 0.01 | N36: 0.01 | O36: Ⅱb | P36: － | Q36: Ⅱb | R36: 否 | S36: 要監視 | T36: 未 | U36: ー | Y36: 継続監視
C37: S8 | E37: 9 | F37: 74 | G37: 覆工 | H37: アーチ（右側） | I37: 材質劣化 | J37: 圧ざ、ひび割れ | M37: 0.57 | N37: 0.52 | O37: Ⅱb | P37: － | Q37: Ⅱb | R37: 否 | S37: 要監視 | T37: 未 | U37: ー | Y37: 継続監視
C38: S8 | E38: 10 | F38: 74.6 | G38: 覆工 | H38: 側壁（右側） | I38: 材質劣化 | J38: 圧ざ、ひび割れ | M38: 0.24 | N38: 0.22 | O38: Ⅱb | P38: － | Q38: Ⅱb | R38: 否 | S38: 要監視 | T38: 未 | U38: ー | Y38: 継続監視
C39: S8 | E39: 11 | F39: 71.9 | G39: 覆工 | H39: 水平打ち継ぎ目（左側） | I39: 材質劣化 | J39: うき・はく離 | M39: 0.135 | N39: （新規確認） | O39: － | P39: － | Q39: Ⅱb | R39: 否 | S39: 要監視 | T39: 未 | U39: ー | Y39: 監視
C40: S8 | E40: 12 | F40: 71.8 | G40: 覆工 | H40: 水平打ち継ぎ目（右側） | I40: 材質劣化 | J40: うき・はく離 | M40: 1.2 | N40: （新規確認） | O40: － | P40: － | Q40: Ⅱa | R40: 否 | S40: 要対策 | T40: 未 | U40: ー | Y40: はく落防止工
C41: S9 | E41: 1 | F41: 85.9 | G41: 覆工 | H41: 側壁（左側） | I41: 材質劣化 | J41: 圧ざ、ひび割れ | M41: 0.16 | N41: 0.23 | O41: Ⅱb | P41: － | Q41: Ⅱb | R41: 否 | S41: 要監視 | T41: 未 | U41: ー | Y41: 継続監視
...

Sheet 様式C-1-1 (4)
B2: ■定期点検記録様式 全スパン定期点検結果総括表（トンネル本体工） 【様式C-1-1】
B3: フリガナ | F3: ='様式A-1'!D3 -> ヒコシマトンネル | I3: 路線名 | K3: ='様式A-1'!J3 -> 福浦港金毘羅線 | O3: 定期点検実施者 | P3: ='様式B (1)'!S3 -> アジア航測株式会社 | T3: 定期点検年月日 | X3: ='様式B (1)'!P2 -> 45896
B4: 名 称 | F4: ='様式A-1'!D4 -> 彦島トンネル | I4: 管理者名 | K4: ='様式A-1'!R3 -> 山口県 下関土木建築事務所 | P4: ='様式B (1)'!S4 -> 飯田 琢巳
C5: 覆工 スパン 番号 | E5: 変状 番号 | F5: 距離 （m） | G5: 変状部位 | I5: 変 状 の 内 容 | O5: 前回定期点検時の状態 | P5: 今回定期点検結果 | T5: 措置履歴 | Y5: 対応方針 ・ 特記事項
O6: 44271
G7: 対象箇所 | H7: 部位区分 | I7: 変状区分 | J7: 変状種類 | M7: 変状の発生範囲の規模 | N7: 前回定期点検時の変状の発生範囲及び規模 | O7: 対策区分 | P7: 対策区分 | R7: 調査の 要否 | S7: 措置の 要否 | T7: 実施 | U7: 措置の実施状況
P8: 応急措置前 | Q8: 応急措置後
B9: 定期点検結果 | C9: S9 | E9: 2 | F9: 80.8 | G9: 覆工 | H9: 水平打ち継ぎ目（左側） | I9: 材質劣化 | J9: うき・はく離 | M9: 0.135 | N9: 0.06 | O9: Ⅱb | P9: － | Q9: Ⅱb | R9: 否 | S9: 要監視 | T9: 未 | U9: ー | Y9: 継続監視
C10: S9 | E10: 3 | F10: 82.5 | G10: 覆工 | H10: アーチ（全周） | I10: 材質劣化 | J10: 圧ざ、ひび割れ | M10: 0.66 | N10: 0.41 | O10: Ⅱb | P10: － | Q10: Ⅱb | R10: 否 | S10: 要監視 | T10: 未 | U10: ー | Y10: 継続監視
C11: S9 | E11: 4 | F11: 80.8 | G11: 覆工 | H11: 横断目地（天端） | I11: 材質劣化 | J11: うき・はく離 | M11: 0.0125 | N11: 0.0125 | O11: Ⅰ | P11: － | Q11: Ⅰ | R11: 否 | S11: 否 | T11: 未 | U11: ー
C12: S9 | E12: 5 | F12: 85 | G12: 覆工 | H12: 側壁（右側） | I12: 漏水 | J12: 漏水 | M12: 1.26 | N12: - | O12: Ⅱb | P12: － | Q12: Ⅱb | R12: 否 | S12: 要監視 | T12: 未 | U12: ー | Y12: 継続監視
C13: S10 | E13: 1 | F13: 101.8 | G13: 覆工 | H13: 横断目地（左側） | I13: 漏水 | J13: 漏水 | M13: 1.25 | N13: - | O13: Ⅱb | P13: － | Q13: Ⅱb | R13: 否 | S13: 要監視 | T13: 未 | U13: ー | Y13: 継続監視
C14: S10 | E14: 2 | F14: 95.4 | G14: 覆工 | H14: アーチ（左側） | I14: 材質劣化 | J14: うき・はく離 | M14: 0.01 | N14: 0.01 | O14: Ⅱb | P14: － | Q14: Ⅱb | R14: 否 | S14: 要監視 | T14: 未 | U14: ー | Y14: 継続監視
C15: S10 | E15: 3 | F15: 95.9 | G15: 覆工 | H15: アーチ（左側） | I15: 漏水 | J15: 漏水 | M15: 2.65 | N15: - | O15: Ⅱb | P15: － | Q15: Ⅱb | R15: 否 | S15: 要監視 | T15: 未 | U15: ー | Y15: 継続監視
C16: S10 | E16: 4 | F16: 95.7 | G16: 覆工 | H16: アーチ（左側） | I16: 漏水 | J16: 補修・補強材の破損 | M16: 0.02 | N16: 0.02 | O16: Ⅱb | P16: － | Q16: Ⅱb | R16: 否 | S16: 要監視 | T16: 未 | U16: ー | Y16: 継続監視
C17: S10 | E17: 5 | F17: 94.6 | G17: 覆工 | H17: アーチ（全周） | I17: 材質劣化 | J17: 圧ざ、ひび割れ | M17: 0.94 | N17: 0.95 | O17: Ⅱb | P17: － | Q17: Ⅱb | R17: 否 | S17: 要監視 | T17: 未 | U17: ー | Y17: 継続監視
C18: S10 | E18: 6 | F18: 95.4 | G18: 覆工 | H18: アーチ（右側） | I18: 材質劣化 | J18: うき・はく離 | M18: 0.01 | N18: 0.01 | O18: Ⅱb | P18: － | Q18: Ⅱb | R18: 否 | S18: 要監視 | T18: 未 | U18: ー | Y18: 継続監視
C19: S10 | E19: 7 | F19: 100.7 | G19: 覆工 | H19: アーチ（右側） | I19: 材質劣化 | J19: うき・はく離 | M19: 0.01 | N19: 0.01 | O19: Ⅱb | P19: － | Q19: Ⅱb | R19: 否 | S19: 要監視 | T19: 未 | U19: ー | Y19: 継続監視
C20: S10 | E20: 8 | F20: 95.3 | G20: 覆工 | H20: 側壁（右側） | I20: 材質劣化 | J20: 圧ざ、ひび割れ | M20: 0.23 | N20: 0.22 | O20: Ⅱb | P20: － | Q20: Ⅱb | R20: 否 | S20: 要監視 | T20: 未 | U20: ー | Y20: 継続監視
C21: S11 | E21: 1 | F21: 103.7 | G21: 覆工 | H21: アーチ（左側） | I21: 材質劣化 | J21: うき・はく離 | M21: 0.0125 | N21: 0.0125 | O21: Ⅱb | P21: － | Q21: Ⅱb | R21: 否 | S21: 要監視 | T21: 未 | U21: ー | Y21: 継続監視
C22: S11 | E22: 2 | F22: 104.7 | G22: 覆工 | H22: アーチ（左側） | I22: 漏水 | J22: 漏水 | M22: 1.6 | N22: - | O22: Ⅱb | P22: － | Q22: Ⅱb | R22: 否 | S22: 要監視 | T22: 未 | U22: ー | Y22: 継続監視
C23: S11 | E23: 3 | F23: 108.2 | G23: 覆工 | H23: アーチ（左側） | I23: 漏水 | J23: 漏水 | M23: 10.6 | N23: - | O23: Ⅱb | P23: － | Q23: Ⅱb | R23: 否 | S23: 要監視 | T23: 未 | U23: ー | Y23: 継続監視
C24: S11 | E24: 4 | F24: 106.2 | G24: 覆工 | H24: アーチ（全周） | I24: 材質劣化 | J24: 圧ざ、ひび割れ | M24: 0.42 | N24: 0.51 | O24: Ⅱb | P24: － | Q24: Ⅱb | R24: 否 | S24: 要監視 | T24: 未 | U24: ー | Y24: 継続監視
C25: S11 | E25: 5 | F25: 104.5 | G25: 覆工 | H25: 水平打ち継ぎ目（右側） | I25: 材質劣化 | J25: うき・はく離 | M25: 0.05 | N25: 0.04 | O25: Ⅱb | P25: － | Q25: Ⅱb | R25: 否 | S25: 要監視 | T25: 未 | U25: ー | Y25: 継続監視
C26: S11 | E26: 6 | F26: 105.1 | G26: 覆工 | H26: 側壁（右側） | I26: 材質劣化 | J26: 圧ざ、ひび割れ | M26: 0.23 | N26: 0.21 | O26: Ⅱb | P26: － | Q26: Ⅱb | R26: 否 | S26: 要監視 | T26: 未 | U26: ー | Y26: 継続監視
C27: S11 | E27: 7 | F27: 106.8 | G27: 路面 | H27: 歩道 | J27: その他 | M27: - | N27: - | O27: Ⅱb | R27: 否 | S27: 否 | T27: 未 | U27: ー
C28: S12 | E28: 1 | F28: 117.2 | G28: 覆工 | H28: 側壁（左側） | I28: 材質劣化 | J28: 圧ざ、ひび割れ | M28: 0.14 | N28: 0.23 | O28: Ⅱb | P28: － | Q28: Ⅱb | R28: 否 | S28: 要監視 | T28: 未 | U28: ー | Y28: 継続監視
C29: S12 | E29: 2 | F29: 116.7 | G29: 覆工 | H29: アーチ（全周） | I29: 漏水 | J29: 漏水 | M29: 15.15 | N29: - | O29: Ⅱb | P29: － | Q29: Ⅱb | R29: 否 | S29: 要監視 | T29: 未 | U29: ー | Y29: 継続監視
C30: S12 | E30: 3 | F30: 116.8 | G30: 覆工 | H30: アーチ（全周） | I30: 材質劣化 | J30: 圧ざ、ひび割れ | M30: 0.2 | N30: 0.21 | O30: Ⅱb | P30: － | Q30: Ⅱb | R30: 否 | S30: 要監視 | T30: 未 | U30: ー | Y30: 継続監視
C31: S12 | E31: 4 | F31: 113.7 | G31: 覆工 | H31: アーチ（右側） | I31: 材質劣化 | J31: うき・はく離 | M31: 0.01 | N31: 0.01 | O31: Ⅱb | P31: － | Q31: Ⅱb | R31: 否 | S31: 要監視 | T31: 未 | U31: ー | Y31: 継続監視
C32: S12 | E32: 5 | F32: 114.1 | G32: 覆工 | H32: アーチ（右側） | I32: 材質劣化 | J32: うき・はく離 | M32: 0.065 | N32: 0.06 | O32: Ⅲ | P32: － | Q32: Ⅲ | R32: 否 | S32: 要対策 | T32: 未 | U32: ー | Y32: はく落防止工
C33: S12 | E33: 6 | F33: 113.7 | G33: 覆工 | H33: 水平打ち継ぎ目（右側） | I33: 材質劣化 | J33: うき・はく離 | M33: 0.05 | N33: 0.025 | O33: Ⅱb | P33: － | Q33: Ⅱb | R33: 否 | S33: 要監視 | T33: 未 | U33: ー | Y33: 継続監視
C34: S12 | E34: 7 | F34: 116.3 | G34: 覆工 | H34: 側壁（右側） | I34: 材質劣化 | J34: 圧ざ、ひび割れ | M34: 0.23 | N34: 0.22 | O34: Ⅱb | P34: － | Q34: Ⅱb | R34: 否 | S34: 要監視 | T34: 未 | U34: ー | Y34: 継続監視
C35: S13 | E35: 1 | F35: 130 | G35: 覆工 | H35: アーチ（左側） | I35: 材質劣化 | J35: 圧ざ、ひび割れ | M35: 0.41 | N35: 0.39 | O35: Ⅱb | P35: － | Q35: Ⅱb | R35: 否 | S35: 要監視 | T35: 未 | U35: ー | Y35: 継続監視
C36: S13 | E36: 2 | F36: 133.3 | G36: 覆工 | H36: 横断目地（左側） | I36: 漏水 | J36: 漏水 | M36: 3.25 | N36: - | O36: Ⅱb | P36: － | Q36: Ⅱb | R36: 否 | S36: 要監視 | T36: 未 | U36: ー | Y36: 継続監視
C37: S13 | E37: 3 | F37: 122.9 | G37: 覆工 | H37: アーチ（右側） | I37: 材質劣化 | J37: うき・はく離 | M37: 0.015 | N37: 0.015 | O37: Ⅱb | P37: － | Q37: Ⅱb | R37: 否 | S37: 要監視 | T37: 未 | U37: ー | Y37: 継続監視
C38: S13 | E38: 4 | F38: 133.3 | G38: 覆工 | H38: アーチ（右側） | I38: 材質劣化 | J38: うき・はく離 | M38: 0.01 | N38: 0.01 | O38: Ⅱb | P38: － | Q38: Ⅰ | R38: 否 | S38: 否 | T38: 未 | U38: ー | Y38: （補修済）
C39: S13 | E39: 5 | F39: 132.2 | G39: 覆工 | H39: アーチ（右側） | I39: 材質劣化 | J39: うき・はく離 | M39: 0.01 | N39: 0.01 | O39: Ⅱb | P39: － | Q39: Ⅱb | R39: 否 | S39: 要監視 | T39: 未 | U39: ー | Y39: 継続監視
C40: S13 | E40: 6 | F40: 128.2 | G40: 覆工 | H40: アーチ（右側） | I40: 材質劣化 | J40: 圧ざ、ひび割れ | M40: 0.53 | N40: 0.52 | O40: Ⅱb | P40: － | Q40: Ⅱb | R40: 否 | S40: 要監視 | T40: 未 | U40: ー | Y40: 継続監視
C41: S13 | E41: 7 | F41: 127.4 | G41: 覆工 | H41: 側壁（左側） | I41: 漏水 | J41: 漏水 | M41: 2 | N41: （新規確認） | O41: － | P41: － | Q41: Ⅱb | R41: 否 | S41: 要監視 | T41: 未 | U41: ー | Y41: 監視
...

Sheet 様式C-1-1 (5)
B2: ■定期点検記録様式 全スパン定期点検結果総括表（トンネル本体工） 【様式C-1-1】
B3: フリガナ | F3: ='様式A-1'!D3 -> ヒコシマトンネル | I3: 路線名 | K3: ='様式A-1'!J3 -> 福浦港金毘羅線 | O3: 定期点検実施者 | P3: ='様式B (1)'!S3 -> アジア航測株式会社 | T3: 定期点検年月日 | X3: ='様式B (1)'!P2 -> 45896
B4: 名 称 | F4: ='様式A-1'!D4 -> 彦島トンネル | I4: 管理者名 | K4: ='様式A-1'!R3 -> 山口県 下関土木建築事務所 | P4: ='様式B (1)'!S4 -> 飯田 琢巳
C5: 覆工 スパン 番号 | E5: 変状 番号 | F5: 距離 （m） | G5: 変状部位 | I5: 変 状 の 内 容 | O5: 前回定期点検時の状態 | P5: 今回定期点検結果 | T5: 措置履歴 | Y5: 対応方針 ・ 特記事項
O6: 44271
G7: 対象箇所 | H7: 部位区分 | I7: 変状区分 | J7: 変状種類 | M7: 変状の発生範囲の規模 | N7: 前回定期点検時の変状の発生範囲及び規模 | O7: 対策区分 | P7: 対策区分 | R7: 調査の 要否 | S7: 措置の 要否 | T7: 実施 | U7: 措置の実施状況
P8: 応急措置前 | Q8: 応急措置後
B9: 定期点検結果 | C9: S13 | E9: 8 | F9: 133.3 | G9: 覆工 | H9: 横断目地（天端） | I9: 漏水 | J9: 補修・補強材の破損 | M9: 0.02 | N9: （新規確認） | O9: － | P9: － | Q9: Ⅱb | R9: 否 | S9: 要監視 | T9: 未 | U9: ー | Y9: 監視
C10: S14 | E10: 1 | F10: 138.9 | G10: 覆工 | H10: 側壁（左側） | I10: 材質劣化 | J10: 圧ざ、ひび割れ | M10: 0.23 | N10: 0.21 | O10: Ⅱb | P10: － | Q10: Ⅱb | R10: 否 | S10: 要監視 | T10: 未 | U10: ー | Y10: 継続監視
C11: S14 | E11: 2 | F11: 134.7 | G11: 覆工 | H11: アーチ（左側） | I11: 材質劣化 | J11: 圧ざ、ひび割れ | M11: 0.29 | N11: 0.25 | O11: Ⅱb | P11: － | Q11: Ⅱb | R11: 否 | S11: 要監視 | T11: 未 | U11: ー | Y11: 継続監視
C12: S14 | E12: 3 | F12: 143.6 | G12: 覆工 | H12: 横断目地（左側） | I12: 材質劣化 | J12: うき・はく離 | M12: 0.01 | N12: 0.01 | O12: Ⅱb | P12: － | Q12: Ⅱb | R12: 否 | S12: 要監視 | T12: 未 | U12: ー | Y12: 継続監視
C13: S14 | E13: 4 | F13: 142.5 | G13: 覆工 | H13: アーチ（左側） | I13: 材質劣化 | J13: うき・はく離 | M13: 0.01 | N13: 0.01 | O13: Ⅱb | P13: － | Q13: Ⅱb | R13: 否 | S13: 要監視 | T13: 未 | U13: ー | Y13: 継続監視
C14: S14 | E14: 5 | F14: 134.4 | G14: 覆工 | H14: アーチ（右側） | I14: 材質劣化 | J14: うき・はく離 | M14: 0.02 | N14: 0.02 | O14: Ⅱb | P14: － | Q14: Ⅱb | R14: 否 | S14: 要監視 | T14: 未 | U14: ー | Y14: 継続監視
C15: S14 | E15: 6 | F15: 134 | G15: 覆工 | H15: アーチ（右側） | I15: 材質劣化 | J15: 圧ざ、ひび割れ | M15: 0.19 | N15: 0.22 | O15: Ⅱb | P15: － | Q15: Ⅱb | R15: 否 | S15: 要監視 | T15: 未 | U15: ー | Y15: 継続監視
C16: S14 | E16: 7 | F16: 135.2 | G16: 覆工 | H16: アーチ（右側） | I16: 材質劣化 | J16: うき・はく離 | M16: 0.025 | N16: 0.025 | O16: Ⅲ | P16: － | Q16: Ⅲ | R16: 否 | S16: 要対策 | T16: 未 | U16: ー | Y16: はく落防止工
C17: S14 | E17: 8 | F17: 137.4 | G17: 覆工 | H17: アーチ（右側） | I17: 材質劣化 | J17: うき・はく離 | M17: 0.01 | N17: 0.01 | O17: Ⅱb | P17: － | Q17: Ⅱb | R17: 否 | S17: 要監視 | T17: 未 | U17: ー | Y17: 継続監視
C18: S14 | E18: 9 | F18: 138.9 | G18: 覆工 | H18: アーチ（右側） | I18: 材質劣化 | J18: うき・はく離 | M18: 0.005 | N18: 0.005 | O18: Ⅲ | P18: － | Q18: Ⅲ | R18: 否 | S18: 要対策 | T18: 未 | U18: ー | Y18: はく落防止工
C19: S15 | E19: 1 | F19: 152.8 | G19: 覆工 | H19: 側壁（左側） | I19: 材質劣化 | J19: うき・はく離 | M19: 0.03 | N19: 0.03 | O19: Ⅱb | P19: － | Q19: Ⅱb | R19: 否 | S19: 要監視 | T19: 未 | U19: ー | Y19: 継続監視
C20: S15 | E20: 2 | F20: 145.4 | G20: 覆工 | H20: アーチ（左側） | I20: 漏水 | J20: 漏水 | M20: 3.2 | N20: - | O20: Ⅱb | P20: － | Q20: Ⅱb | R20: 否 | S20: 要監視 | T20: 未 | U20: ー | Y20: 継続監視
C21: S15 | E21: 3 | F21: 151.2 | G21: 覆工 | H21: アーチ（左側） | I21: 漏水 | J21: 漏水 | M21: 3.55 | N21: - | O21: Ⅱb | P21: － | Q21: Ⅱb | R21: 否 | S21: 要監視 | T21: 未 | U21: ー | Y21: 継続監視
C22: S15 | E22: 4 | F22: 149.1 | G22: 覆工 | H22: アーチ（全周） | I22: 材質劣化 | J22: 圧ざ、ひび割れ | M22: 0.11 | N22: 0.13 | O22: Ⅱb | P22: － | Q22: Ⅱb | R22: 否 | S22: 要監視 | T22: 未 | U22: ー | Y22: 継続監視
C23: S15 | E23: 5 | F23: 145.4 | G23: 覆工 | H23: アーチ（天端） | I23: 材質劣化 | J23: うき・はく離 | M23: 0.01 | N23: 0.01 | O23: Ⅱb | P23: － | Q23: Ⅱb | R23: 否 | S23: 要監視 | T23: 未 | U23: ー | Y23: 継続監視
C24: S15 | E24: 6 | F24: 148 | G24: 覆工 | H24: アーチ（右側） | I24: 材質劣化 | J24: うき・はく離 | M24: 0.01 | N24: 0.01 | O24: Ⅱb | P24: － | Q24: Ⅱb | R24: 否 | S24: 要監視 | T24: 未 | U24: ー | Y24: 継続監視
C25: S15 | E25: 7 | F25: 149.9 | G25: 覆工 | H25: アーチ（右側） | I25: 材質劣化 | J25: うき・はく離 | M25: 0.01 | N25: 0.01 | O25: Ⅱb | P25: － | Q25: Ⅱb | R25: 否 | S25: 要監視 | T25: 未 | U25: ー | Y25: 継続監視
C26: S15 | E26: 8 | F26: 148.8 | G26: 覆工 | H26: 水平打ち継ぎ目（右側） | I26: 材質劣化 | J26: うき・はく離 | M26: 0.58 | N26: 0.38 | O26: Ⅱb | P26: － | Q26: Ⅱa | R26: 否 | S26: 要対策 | T26: 未 | U26: ー | Y26: はく落防止工
C27: S15 | E27: 9 | F27: 149.9 | G27: 覆工 | H27: 側壁（右側） | I27: 材質劣化 | J27: 圧ざ、ひび割れ | M27: 0.13 | N27: 0.14 | O27: Ⅱb | P27: － | Q27: Ⅱb | R27: 否 | S27: 要監視 | T27: 未 | U27: ー | Y27: 継続監視
C28: S15 | E28: 10 | F28: 144 | G28: 覆工 | H28: 水平打ち継ぎ目（左側） | I28: 漏水 | J28: 補修・補強材の破損 | M28: 0.2 | N28: （新規確認） | O28: － | P28: － | Q28: Ⅱb | R28: 否 | S28: 要監視 | T28: 未 | U28: ー | Y28: 監視
C29: S15 | E29: 11 | F29: 154.3 | G29: 覆工 | H29: 横断目地（左側） | I29: 漏水 | J29: 補修・補強材の破損 | M29: 0.23 | N29: （新規確認） | O29: － | P29: － | Q29: Ⅱb | R29: 否 | S29: 要監視 | T29: 未 | U29: ー | Y29: 監視
C30: S15 | E30: 12 | F30: 154.3 | G30: 覆工 | H30: 横断目地（左側） | I30: 漏水 | J30: 補修・補強材の破損 | M30: 0.15 | N30: （新規確認） | O30: － | P30: － | Q30: Ⅱb | R30: 否 | S30: 要監視 | T30: 未 | U30: ー | Y30: 監視
C31: S15 | E31: 13 | F31: 154.3 | G31: 覆工 | H31: アーチ（天端） | I31: 漏水 | J31: 補修・補強材の破損 | M31: 0.11 | N31: （新規確認） | O31: － | P31: － | Q31: Ⅱb | R31: 否 | S31: 要監視 | T31: 未 | U31: ー | Y31: 監視
C32: S15 | E32: 14 | F32: 153.3 | G32: 覆工 | H32: 水平打ち継ぎ目（右側） | I32: 漏水 | J32: 補修・補強材の破損 | M32: 0.03 | N32: （新規確認） | O32: － | P32: － | Q32: Ⅱb | R32: 否 | S32: 要監視 | T32: 未 | U32: ー | Y32: 監視
C33: S15 | E33: 15 | F33: 152.8 | G33: 覆工 | H33: 側壁（右側） | I33: 漏水 | J33: 補修・補強材の破損 | M33: 0.17 | N33: （新規確認） | O33: － | P33: － | Q33: Ⅱb | R33: 否 | S33: 要監視 | T33: 未 | U33: ー | Y33: 監視
C34: S16 | E34: 1 | F34: 154.3 | G34: 覆工 | H34: アーチ（全周） | I34: 材質劣化 | J34: 圧ざ、ひび割れ | M34: 0.35 | N34: 0.35 | O34: Ⅱb | P34: － | Q34: Ⅱb | R34: 否 | S34: 要監視 | T34: 未 | U34: ー | Y34: 継続監視
C35: S16 | E35: 2 | F35: 163.1 | G35: 覆工 | H35: アーチ（左側） | I35: 材質劣化 | J35: うき・はく離 | M35: 0.003 | N35: 0.003 | O35: Ⅱb | P35: － | Q35: Ⅱb | R35: 否 | S35: 要監視 | T35: 未 | U35: ー | Y35: 継続監視
