Workbook
Name その他: '(参考)リスト'!$C$47
Name その他施設: '[1](参考)リスト'!#REF!
Name その他施設: '(参考)リスト'!$C$79:$C$83
Name 換気施設: '[1](参考)リスト'!#REF!
Name 換気施設: '(参考)リスト'!$C$56:$C$60
Name 坑門: '(参考)リスト'!$C$31:$C$32
Name 照明施設: '[1](参考)リスト'!#REF!
Name 照明施設: '(参考)リスト'!$C$52:$C$54
Name 対象箇所: [2]!テーブル1[対象箇所]
Name 天井板: '(参考)リスト'!$C$37:$C$39
Name 内装板: '(参考)リスト'!$C$34:$C$35
Name 非常用施設: '[1](参考)リスト'!#REF!
Name 非常用施設: '(参考)リスト'!$C$62:$C$77
Name 覆工: '(参考)リスト'!$C$16:$C$29
Name 路面: '(参考)リスト'!$C$41:$C$45

Sheet 点検様式作成フロー
A1: 点検様式作成フロ-
A3: 作成フロー図 | H3: 点検調書作成手順
H4: ①様式A-1～A-3（トンネル台帳）
H5: トンネル点検の実施にあたっては，現場点検作業に先行してトンネル情報を収集する。トンネル台帳（様式Ａ－1～様式Ａ－3）はトンネル完成後に作成され，維持管理の段階で引き継がれるが，関連資料等を確認したうえで，追加情報があれば必要に応じて追記することが望ましい。
H9: ②様式D-2-1、様式D-2-1´
H10: 現場点検作業を実施し，近接目視点検で確認した変状状況や補修履歴を忠実に変状展開図に転記する。
H12: ③様式D-1-1、様式D-1-2
H13: 変状展開図や撮影した写真等をもとに，対象トンネルの対策区分を決定し，対策区分がⅡ～Ⅳの変状および異常判定区分「×」を抽出し，写真台帳を作成する。
H16: ④様式B
H17: 写真台帳の作成と同時に，トンネルの構造を展開した位置図に変状写真位置を記録する。
H19: ⑤様式D-3
H20: 変状展開図ならびに写真台帳をもとに覆工スパンごとの変状展開図を作成し，変状発生状況をとりまとめる。
H22: ⑥様式E
H23: 近接目視または打音検査，触診ができていない箇所および近接目視によらない方法を講じた場所に対する調査結果を記録する。
... H33: すること。 ※各ファイルとも （参考）リスト のシートを付けて保存すること。

Sheet 変状面積算出方法
A1: 変状面積算出方法
A26: 注1）外力による変状：ひび割れや圧ざの場合は変状の寸法を記録する。
A27: 例）ひび割れ：長さ（L）×最大ひび割れ幅（t）を記録する。 変形，移動，沈下：数値的な記載が可能な場合のみ記載する。
A28: 注2）材料劣化による：打音異常
A29: 例）うき，はく離（閉合ひび割れ）：変状範囲を包括する寸法（L×W） うき，はく離（ひび割れ沿い）：打音異常箇所を包括する寸法（L×W） 鋼材腐食（鉄筋腐食）：一括した対策が適当と考えられる範囲を包括する寸法（L×W）
A30: 注3）漏水による変状：漏水発生範囲を包括し，垂れ下がりの可能性がある側壁下端まで含めた寸法を，L×Wで記録する。打継ぎ目地沿いの 漏水については目地を跨いだ50cm幅を横幅とする。

Sheet 記入の留意点
B2: トンネルDBでは、Excelに記載された文字や数値・配置された画像を自動的に読込みデータベースへ登録します。
B3: 記録様式へ記入の留意点を下記に示します。
B5: １．記録様式への記入
C6: ➤各セルに表示されるコメントに従って、様式A-1～様式Gのシートに、点検結果（テキスト入力、選択項目）を入力してください。
C7: ➤位置図(様式B)、変状写真(様式D-1-1)、異常写真(様式D-1-2)は記入した変状写真番号等に対応した画像を間違いないように貼り付けてください。
C8: ➤列や行の挿入削除は行わず、セルの位置がずれないようにしてください。データベースへ読み取り時にずれて取り込まれてしまいます。
B11: ２．画像ファイルの配置の注意点
C12: 登録に使用可能な画像ファイルの拡張子は「jpg」「jpeg」「png」の3種類のみです。
C13: 必ず、１か所に画像１枚のみを張り付けてください。エクセルの図形などのオブジェクトは使用しないでください。
C14: 張り付けた画像はエクセルのトリミング機能を使用しないでください。あらかじめ切り抜いた画像を利用してください。
C15: ※１ 画像の左上を必ずセルの内部に含め、はみ出ないようにしてください。
C16: ※２ 図の書式設定で「セルに合わせて移動やサイズを変更しない」のモードを使用しないでください。
C32: ※３ 「挿入」→「画像」→「セルの上に配置」してください。
B41: ３．シート名の連番について
C42: １ページに記載しきれない場合は、１シート内にページを増やすのではなくシート自体をコピーしシート名の末尾を連番にしてください。
C43: 対象様式
C44: 様式B
C45: 様式D-1-1
C46: 様式D-1-2
C47: 様式D-2-1
C48: 様式D-2-1´
C49: 様式D-3_S00 ※スパン名を記載
C50: 様式G
C52: 末尾の連番の形式例
C53: 様式B(1) 様式B(2) 様式B(3)
C54: 様式B_001 様式B_002 様式B_003
... C61: で示される要領を制限するものではありません。

Sheet 様式A-1
B2: ■トンネル台帳 トンネル諸元、非常用施設諸元 【様式A-1】 | S2: 施設ID | W2: 33.93588,130.90785
B3: フリガナ | D3: ヒコシマトンネル | H3: 路線名 | J3: 福浦港金毘羅線 | P3: 管理者名 | R3: 山口県 下関土木建築事務所 | W3: 緊急輸送道路 | Z3: 指定なし
B4: 名 称 | D4: 彦島トンネル | W4: 代替路の有無 | Z4: 有
B5: 所在地 | D5: 自 | E5: 下関市迫町 | H5: 作成者 | K5: アジア航測株式会社 | P5: 作成年月日 | R5: 46069 | U5: トンネル延長 | X5: L= | Z5: 868 | AB5: ｍ
D6: 至 | E6: 下関市迫町 | U6: ﾄﾝﾈﾙの分類 | X6: 陸上トンネル（掘進工法）
B7: 起点 | C7: 緯度 | E7: 33.93588 | H7: 完成年月日 | K7: 1975年 | M7: 舗装 | O7: 種 別 | Q7: コンクリート | S7: トンネル非常用施設 | T7: 施設の内訳 | X7: 種別・方式 | Y7: 型式 | Z7: 個数 | AA7: 更新年度
C8: 経度 | E8: 130.90785 | H8: 供用年月日 | O8: 厚 さ | Q8: m | T8: 通報設備 | U8: 通話型通報設備 | Z8: 5
B9: 終点 | C9: 緯度 | E9: 33.94033 | H9: トンネル区分 | O9: 面 積 | Q9: 7855㎡ | U9: 操作型通報設備 | Z9: 17
C10: 経度 | E10: 130.90161 | H10: 内装種類 | K10: 内装なし | O10: 更新年次 | U10: 自動通報設備
B11: 一般有料区分 | E11: 一般（無料） | H11: 天井板種類 | K11: 内装なし覆工 | M11: 排水 | O11: 種 別 | Q11: 側溝 | T11: 警報設備 | U11: 非常警報設備
B12: 土かぶり | G12: m | H12: 坑門 | I12: 起点 | J12: 形式 | K12: 面壁型 | O12: 更新年次 | T12: 消火設備 | U12: 消 火 器 | Z12: 17
B13: 内空断面積 | E13: 51.1 | G13: m2 | J13: 延長 | L13: m | M13: 施設 | P13: 種別・方式 | Q13: 個数 | R13: 更新年次 | U13: 消火栓設備 | Z13: 5
B14: 交 通 量 | E14: 1376 | G14: 台/日 | I14: 終点 | J14: 形式 | K14: 面壁型 | M14: 道路附属物等 | N14: 照明 | P14: ナト・蛍光 | Q14: 171 | T14: 避難誘導設備 | U14: 誘導表示設備 | Z14: 39
C15: 道 路 幅 | E15: 9.05 | G15: m | J15: 延長 | L15: m | N15: 換気 | P15: 自然換気 | U15: 避難情報提供設備
B16: 幅 員 | C16: 車 道 幅 | E16: 3.32 | G16: m | H16: 竣工巻厚 | I16: アーチ | L16: cm | N16: 標識
E17: 3.33 | G17: m | I17: 側 壁 | L17: cm | N17: 警報表示板 | U17: 避難通路
C18: 歩道等幅 | E18: 2.4 | G18: m | L18: cm | N18: 吸音板 | U18: 排煙設備
B19: 高さ | C19: 建築限界高 | E19: 4.5 | G19: m | I19: インバート | L19: cm | T19: その他の設備 | U19: 給水栓設備
C20: 中央高 | E20: 6.4 | G20: m | H20: 半径 | I20: アーチ | L20: cm | U20: 無線通信補助設備
C21: 有効高 | E21: 4.5 | G21: m | I21: 側 壁 | L21: cm | U21: 水噴霧設備
C22: 縦断勾配 | I22: インバート | L22: cm | U22: 監視設備
B23: 線 形 | C23: 直線区間長 | H23: 占用物件 | I23: 種 類 | K23: 寸 法 | M23: 管理者名 | Q23: 更新年次 | S23: 非常用施設 関連設備 | U23: 予備発電設備
C24: 曲線区間 | D24: 区間長
D25: 起点側ｸﾛｿｲﾄﾞ
D26: 曲線半径
D27: 終点側ｸﾛｿｲﾄﾞ | S27: その他 | U27: 非常駐車帯
B28: トンネル工法 | E28: 矢板工法 | U28: 方向転換所
C29: ※緯度・経度については、秒の小数第二位の単位まで記入すること。

Sheet 様式A-2
B3: ■トンネル台帳 トンネル情報一覧表 【様式A-2】
B4: フリガナ | E4: ='様式A-1'!D3 -> ヒコシマトンネル | J4: 路線名 | M4: ='様式A-1'!J3 -> 福浦港金毘羅線 | S4: 作成者 | Y4: ='様式A-1'!K5 -> アジア航測株式会社 | AE4: 作成年月日 | AI4: ='様式A-1'!R5 -> 46069
B5: 名 称 | E5: ='様式A-1'!D4 -> 彦島トンネル | J5: 管理者名 | M5: ='様式A-1'!R3 -> 山口県 下関土木建築事務所
B6: 覆工 ｽﾊﾟﾝ 番号 | C6: ｽﾊﾟﾝ長 | D6: 追加距離 | F6: トンネル本体工 | K6: 照明施設 | O6: 非常用施設 | AE6: 換気施設 | AK6: その他附属物等
O7: 通報設備 | R7: 警報設備 | S7: 消火設備 | U7: 避難誘導設備 | Y7: その他の設備 | AC7: 特記事項
D8: 起点側 | E8: 終点側 | F8: 特記事項 | I8: 内装板 | J8: 天井板 | K8: 基本照明 | L8: 入口出口照明 | M8: 特記事項 | O8: 通話型通報設備 | P8: 操作型通報設備 | Q8: 自動通報設備 | R8: 非常警報設備 | S8: 消 火 器 | T8: 消火栓設備 | U8: 誘導表示設備 | V8: 避難情報提供設備 | W8: 避難通路 | X8: 排煙設備 | Y8: 給水栓設備 | Z8: 無線通信補助設備 | AA8: 水噴霧設備 | AB8: 監視設備 | AE8: JF | AF8: VI計 | AG8: CO計 | AH8: 風向 風速計 | AI8: 特記事項
C9: (m) | D9: (m) | E9: (m)
B10: PS | C10: 2.7 | D10: 0 | E10: 2.7 | F10: 坑門（面壁型）
B11: 1 | C11: 10.5 | D11: 2.7 | E11: 13.2 | K11: ○ | O11: 〇
B12: 2 | C12: 4.5 | D12: 13.2 | E12: 17.7 | K12: ○
B13: 3 | C13: 10.5 | D13: 17.7 | E13: 28.2 | K13: ○ | U13: ○
B14: 4 | C14: 10.6 | D14: 28.2 | E14: 38.8 | K14: ○ | P14: 〇 | S14: 〇
B15: 5 | C15: 10.5 | D15: 38.8 | E15: 49.3 | K15: ○
B16: 6 | C16: 10.5 | D16: 49.3 | E16: 59.8 | K16: ○ | U16: ○
B17: 7 | C17: 10.5 | D17: 59.8 | E17: 70.3 | K17: ○
B18: 8 | C18: 10.5 | D18: 70.3 | E18: 80.8 | K18: ○ | U18: ○
B19: 9 | C19: 10.5 | D19: 80.8 | E19: 91.3 | K19: ○ | P19: 〇 | S19: 〇 | T19: 〇
B20: 10 | C20: 10.5 | D20: 91.3 | E20: 101.8 | K20: ○ | U20: ○
B21: 11 | C21: 10.5 | D21: 101.8 | E21: 112.3 | K21: ○
B22: 12 | C22: 10.5 | D22: 112.3 | E22: 122.8 | K22: ○
B23: 13 | C23: 10.5 | D23: 122.8 | E23: 133.3 | K23: ○ | P23: 〇 | S23: 〇 | U23: ○2
B24: 14 | C24: 10.5 | D24: 133.3 | E24: 143.8 | K24: ○
B25: 15 | C25: 10.5 | D25: 143.8 | E25: 154.3 | K25: ○
B26: 16 | C26: 10.5 | D26: 154.3 | E26: 164.8 | K26: ○ | U26: ○
B27: 17 | C27: 10.5 | D27: 164.8 | E27: 175.3 | K27: ○
B28: 18 | C28: 10.5 | D28: 175.3 | E28: 185.8 | K28: ○ | P28: 〇 | S28: 〇 | U28: ○
B29: 19 | C29: 10.5 | D29: 185.8 | E29: 196.3 | K29: ○
B30: 20 | C30: 10.5 | D30: 196.3 | E30: 206.8 | K30: ○ | U30: ○
B31: 21 | C31: 10.6 | D31: 206.8 | E31: 217.4 | K31: ○
B32: 22 | C32: 10.5 | D32: 217.4 | E32: 227.9 | K32: ○
B33: 23 | C33: 10.5 | D33: 227.9 | E33: 238.4 | K33: ○ | O33: 〇 | P33: 〇 | S33: 〇 | U33: ○
B34: 24 | C34: 10.5 | D34: 238.4 | E34: 248.9 | K34: ○
B35: 25 | C35: 10.5 | D35: 248.9 | E35: 259.4 | K35: ○ | U35: ○
B36: 26 | C36: 10.5 | D36: 259.4 | E36: 269.9 | K36: ○
B37: 27 | C37: 10.5 | D37: 269.9 | E37: 280.4 | P37: 〇 | S37: 〇 | T37: 〇 | U37: ○
B38: 28 | C38: 10.5 | D38: 280.4 | E38: 290.9 | K38: ○
B39: 29 | C39: 10.5 | D39: 290.9 | E39: 301.4 | K39: ○
B40: 30 | C40: 10.5 | D40: 301.4 | E40: 311.9 | K40: ○ | U40: ○
B41: 31 | C41: 10.5 | D41: 311.9 | E41: 322.4 | K41: ○
B42: 32 | C42: 10.5 | D42: 322.4 | E42: 332.9 | K42: ○ | P42: 〇 | S42: 〇 | U42: ○3
B43: 33 | C43: 10.5 | D43: 332.9 | E43: 343.4 | K43: ○
B44: 34 | C44: 10.5 | D44: 343.4 | E44: 353.9 | K44: ○ | U44: ○
B45: 35 | C45: 10.5 | D45: 353.9 | E45: 364.4 | K45: ○
B46: 36 | C46: 10.5 | D46: 364.4 | E46: 374.9
B47: 37 | C47: 10.6 | D47: 374.9 | E47: 385.5 | K47: ○ | P47: 〇 | S47: 〇 | U47: ○
B48: ※ 行が不足する場合は、適時、表の行を増やすこと。

Sheet 様式A-2 (2)
B3: ■トンネル台帳 トンネル情報一覧表 【様式A-2】
B4: フリガナ | E4: ='様式A-1'!D3 -> ヒコシマトンネル | J4: 路線名 | M4: ='様式A-1'!J3 -> 福浦港金毘羅線 | S4: 作成者 | Y4: ='様式A-1'!K5 -> アジア航測株式会社 | AE4: 作成年月日 | AI4: ='様式A-1'!R5 -> 46069
B5: 名 称 | E5: ='様式A-1'!D4 -> 彦島トンネル | J5: 管理者名 | M5: ='様式A-1'!R3 -> 山口県 下関土木建築事務所
B6: 覆工 ｽﾊﾟﾝ 番号 | C6: ｽﾊﾟﾝ長 | D6: 追加距離 | F6: トンネル本体工 | K6: 照明施設 | O6: 非常用施設 | AE6: 換気施設 | AK6: その他附属物等
O7: 通報設備 | R7: 警報設備 | S7: 消火設備 | U7: 避難誘導設備 | Y7: その他の設備 | AC7: 特記事項
D8: 起点側 | E8: 終点側 | F8: 特記事項 | I8: 内装板 | J8: 天井板 | K8: 基本照明 | L8: 入口出口照明 | M8: 特記事項 | O8: 通話型通報設備 | P8: 操作型通報設備 | Q8: 自動通報設備 | R8: 非常警報設備 | S8: 消 火 器 | T8: 消火栓設備 | U8: 誘導表示設備 | V8: 避難情報提供設備 | W8: 避難通路 | X8: 排煙設備 | Y8: 給水栓設備 | Z8: 無線通信補助設備 | AA8: 水噴霧設備 | AB8: 監視設備 | AE8: JF | AF8: VI計 | AG8: CO計 | AH8: 風向 風速計 | AI8: 特記事項
C9: (m) | D9: (m) | E9: (m)
B10: 38 | C10: 10.6 | D10: 385.5 | E10: 396.1 | K10: ○
B11: 39 | C11: 10.6 | D11: 396.1 | E11: 406.7 | K11: ○ | U11: ○
B12: 40 | C12: 10.6 | D12: 406.7 | E12: 417.3 | K12: ○
B13: 41 | C13: 10.6 | D13: 417.3 | E13: 427.9 | K13: ○
B14: 42 | C14: 10.6 | D14: 427.9 | E14: 438.5 | K14: ○ | O14: 〇 | P14: 〇 | S14: 〇 | U14: 〇 | AK14: 上り車線に待避所
B15: 43 | C15: 10.6 | D15: 438.5 | E15: 449.1 | K15: ○
B16: 44 | C16: 10.6 | D16: 449.1 | E16: 459.7 | U16: ○
B17: 45 | C17: 10.6 | D17: 459.7 | E17: 470.3 | K17: ○
B18: 46 | C18: 10.6 | D18: 470.3 | E18: 480.9 | K18: ○ | P18: 〇 | S18: 〇 | T18: 〇 | U18: ○
B19: 47 | C19: 10.6 | D19: 480.9 | E19: 491.5 | K19: ○
B20: 48 | C20: 10.6 | D20: 491.5 | E20: 502.1 | K20: ○
B21: 49 | C21: 10.6 | D21: 502.1 | E21: 512.7 | K21: ○ | U21: ○
B22: 50 | C22: 10.6 | D22: 512.7 | E22: 523.3 | K22: ○
B23: 51 | C23: 10.6 | D23: 523.3 | E23: 533.9 | K23: ○ | P23: 〇 | S23: 〇 | U23: ○2
B24: 52 | C24: 10.6 | D24: 533.9 | E24: 544.5 | U24: ○
B25: 53 | C25: 10.6 | D25: 544.5 | E25: 555.1 | K25: ○
B26: 54 | C26: 10.6 | D26: 555.1 | E26: 565.7 | K26: ○ | U26: ○
B27: 55 | C27: 10.6 | D27: 565.7 | E27: 576.3 | K27: ○
B28: 56 | C28: 10.6 | D28: 576.3 | E28: 586.9 | K28: ○ | P28: 〇 | S28: 〇 | U28: ○
B29: 57 | C29: 10.6 | D29: 586.9 | E29: 597.5 | K29: ○
B30: 58 | C30: 10.5 | D30: 597.5 | E30: 608 | K30: ○ | U30: ○
B31: 59 | C31: 10.6 | D31: 608 | E31: 618.6 | K31: ○
B32: 60 | C32: 10.6 | D32: 618.6 | E32: 629.2
B33: 61 | C33: 10.6 | D33: 629.2 | E33: 639.8 | K33: ○ | O33: 〇 | P33: 〇 | S33: 〇 | U33: ○
B34: 62 | C34: 10.6 | D34: 639.8 | E34: 650.4 | K34: ○
B35: 63 | C35: 10.6 | D35: 650.4 | E35: 661 | K35: ○ | U35: ○
B36: 64 | C36: 10.6 | D36: 661 | E36: 671.6 | K36: ○
B37: 65 | C37: 10.6 | D37: 671.6 | E37: 682.2 | K37: ○ | P37: 〇 | S37: 〇 | T37: 〇 | U37: ○
B38: 66 | C38: 10.6 | D38: 682.2 | E38: 692.8 | K38: ○
B39: 67 | C39: 10.6 | D39: 692.8 | E39: 703.4 | K39: ○
B40: 68 | C40: 10.6 | D40: 703.4 | E40: 714 | K40: ○ | U40: ○
B41: 69 | C41: 10.6 | D41: 714 | E41: 724.6 | K41: ○
B42: 70 | C42: 10.6 | D42: 724.6 | E42: 735.2 | K42: ○ | P42: 〇 | S42: 〇 | U42: ○
B43: 71 | C43: 10.6 | D43: 735.2 | E43: 745.8 | K43: ○ | U43: ○
B44: 72 | C44: 10.6 | D44: 745.8 | E44: 756.4 | K44: ○
B45: 73 | C45: 10.6 | D45: 756.4 | E45: 767 | K45: ○ | U45: ○
B46: 74 | C46: 10.6 | D46: 767 | E46: 777.6 | K46: ○
B47: 75 | C47: 10.6 | D47: 777.6 | E47: 788.2 | K47: ○ | P47: 〇 | S47: 〇 | U47: ○
B48: ※ 行が不足する場合は、適時、表の行を増やすこと。

Sheet 様式A-2 (3)
B3: ■トンネル台帳 トンネル情報一覧表 【様式A-2】
B4: フリガナ | E4: ='様式A-1'!D3 -> ヒコシマトンネル | J4: 路線名 | M4: ='様式A-1'!J3 -> 福浦港金毘羅線 | S4: 作成者 | Y4: ='様式A-1'!K5 -> アジア航測株式会社 | AE4: 作成年月日 | AI4: ='様式A-1'!R5 -> 46069
B5: 名 称 | E5: ='様式A-1'!D4 -> 彦島トンネル | J5: 管理者名 | M5: ='様式A-1'!R3 -> 山口県 下関土木建築事務所
B6: 覆工 ｽﾊﾟﾝ 番号 | C6: ｽﾊﾟﾝ長 | D6: 追加距離 | F6: トンネル本体工 | K6: 照明施設 | O6: 非常用施設 | AE6: 換気施設 | AK6: その他附属物等
O7: 通報設備 | R7: 警報設備 | S7: 消火設備 | U7: 避難誘導設備 | Y7: その他の設備 | AC7: 特記事項
D8: 起点側 | E8: 終点側 | F8: 特記事項 | I8: 内装板 | J8: 天井板 | K8: 基本照明 | L8: 入口出口照明 | M8: 特記事項 | O8: 通話型通報設備 | P8: 操作型通報設備 | Q8: 自動通報設備 | R8: 非常警報設備 | S8: 消 火 器 | T8: 消火栓設備 | U8: 誘導表示設備 | V8: 避難情報提供設備 | W8: 避難通路 | X8: 排煙設備 | Y8: 給水栓設備 | Z8: 無線通信補助設備 | AA8: 水噴霧設備 | AB8: 監視設備 | AE8: JF | AF8: VI計 | AG8: CO計 | AH8: 風向 風速計 | AI8: 特記事項
C9: (m) | D9: (m) | E9: (m)
B10: 76 | C10: 10.6 | D10: 788.2 | E10: 798.8 | K10: ○
B11: 77 | C11: 10.6 | D11: 798.8 | E11: 809.4 | K11: ○
B12: 78 | C12: 10.6 | D12: 809.4 | E12: 820 | K12: ○ | U12: ○
B13: 79 | C13: 10.6 | D13: 820 | E13: 830.6 | K13: ○
B14: 80 | C14: 10.6 | D14: 830.6 | E14: 841.2 | K14: ○ | T14: ○ | U14: ○
B15: 81 | C15: 10.5 | D15: 841.2 | E15: 851.7 | K15: ○
B16: 82 | C16: 10.6 | D16: 851.7 | E16: 862.3 | K16: ○ | O16: 〇 | P16: ○ | S16: ○
B17: 83 | C17: 3 | D17: 862.3 | E17: 865.3 | K17: ○
B18: PE | C18: 2.6 | D18: 865.3 | E18: 867.9 | F18: 坑門（面壁型）
B48: ※ 行が不足する場合は、適時、表の行を増やすこと。

Sheet 様式A-3
B3: ■トンネル台帳 トンネル記録（位置図、断面図、施工実績他）【様式A-3】
B4: フリガナ | E4: ='様式A-1'!D3 -> ヒコシマトンネル | J4: 路線名 | M4: ='様式A-1'!J3 -> 福浦港金毘羅線 | S4: 作成者 | W4: ='様式A-1'!K5 -> アジア航測株式会社 | AC4: 作成年月日 | AF4: ='様式A-1'!R5 -> 46069
B5: 名 称 | E5: ='様式A-1'!D4 -> 彦島トンネル | J5: 管理者名 | M5: ='様式A-1'!R3 -> 山口県 下関土木建築事務所
B6: 位置図・現況写真・標準断面図・地質縦断図・施工実績
B19: 位置図・現況写真・標準断面図・地質縦断図・施工実績

Sheet 様式B (1)
B2: ■定期点検記録様式 トンネル変状・異常箇所写真位置図 【様式B】 | N2: 定期点検年月日 | P2: 45896 | S2: 施設ID | V2: 33.93588,130.90785
B3: フリガナ | C3: ='様式A-1'!D3 -> ヒコシマトンネル | G3: 路線名 | H3: ='様式A-1'!J3 -> 福浦港金毘羅線 | K3: 管理者名 | L3: ='様式A-1'!R3 -> 山口県 下関土木建築事務所 | Q3: 定期点検実施者 | S3: アジア航測株式会社 | V3: 起点 | W3: 緯度 | X3: 33.93588
B4: 名 称 | C4: ='様式A-1'!D4 -> 彦島トンネル | S4: 飯田 琢巳 | W4: 経度 | X4: 130.90785
B5: 所在地 | C5: 自 | D5: ='様式A-1'!E5 -> 下関市迫町 | G5: トンネル工法 | I5: 矢板工法 | L5: トンネル延長 | N5: L= | O5: ='様式A-1'!Z5 -> 868 | P5: ｍ | Q5: 自専道 or 一般道 | R5: 一般道 | S5: 代替路の有無 | U5: 有 | V5: 終点 | W5: 緯度 | X5: 33.94033
C6: 至 | D6: ='様式A-1'!E6 -> 下関市迫町 | G6: 建設年度 | I6: ='様式A-1'!K7 -> 1975年 | L6: 幅員 | N6: L= | O6: ='様式A-1'!E15 -> 9.05 | P6: ｍ | S6: 緊急輸送道路 | W6: 経度 | X6: 130.90161
B7: トンネル毎 の健全性の 診断の区分 | D7: Ⅲ
G8: 変状・異常 箇所数合計 | I8: トンネル本体工 | J8: 材質劣化 | K8: Ⅱ | L8: 623 | N8: Ⅲ | O8: 60 | Q8: Ⅳ | R8: 0 | T8: 附属物等 の取付状態 | V8: ◯ （応急措置後)
J9: 漏水 | K9: Ⅱ | L9: 187 | N9: Ⅲ | O9: 0 | Q9: Ⅳ | R9: 0
V10: ✕ | X10: 61
J11: 外力 | K11: Ⅱ | L11: 3 | N11: Ⅲ | O11: 0 | Q11: Ⅳ | R11: 0
B12: トンネル変状・異常箇所写真位置図
J29: 注１：本位置図は、見下げた状態で記載すること。 注２：覆工スパン番号は横断目地毎(矢板工法の場合は上半アーチの 横断目地毎)に設定すること。 | Q29: 注３：写真番号に付する変状番号は、各覆工スパンの変状に対して新たに確認された場合 は順次追加していくこと。 注４：横断目地の変状は前の覆工スパン番号で計上すること。 注５：１枚に収まらない場合は、複数枚に分けて作成すること。
C30: ※1 トンネル本体工の変状数は、材質劣化、漏水に起因するものは変状単位で、外力に起因するものはスパン単位で計上すること。
C31: ※2 トンネル本体工の変状に対しては、措置の必要性（Ⅱ～Ⅳ）について表記すること。また、点検前に実施された措置によりⅠと判定された箇所についても記載すること。
C32: ※3 附属物等の取付状態の○欄については、応急措置前に判定区分×とした箇所のうち応急措置により○判定とした箇所の数を記入すること。
C33: ※4 附属物等の異常番号は、本体工と番号が重複しないよう101番以降とする等の配慮を行い、分かりやすく記録すること。

Sheet 様式B (2)
B2: ■定期点検記録様式 トンネル変状・異常箇所写真位置図 【様式B】 | N2: 定期点検年月日 | P2: ='様式B (1)'!P2 -> 45896 | S2: 施設ID | V2: 33.93588,130.90785
B3: フリガナ | C3: ='様式A-1'!D3 -> ヒコシマトンネル | G3: 路線名 | H3: ='様式A-1'!J3 -> 福浦港金毘羅線 | K3: 管理者名 | L3: ='様式A-1'!R3 -> 山口県 下関土木建築事務所 | Q3: 定期点検実施者 | S3: アジア航測株式会社 | V3: 起点 | W3: 緯度 | X3: 33.93588
B4: 名 称 | C4: ='様式A-1'!D4 -> 彦島トンネル | S4: 飯田 琢巳 | W4: 経度 | X4: 130.90785
B5: 所在地 | C5: 自 | D5: ='様式A-1'!E5 -> 下関市迫町 | G5: トンネル工法 | I5: 矢板工法 | L5: トンネル延長 | N5: L= | O5: ='様式A-1'!Z5 -> 868 | P5: ｍ | Q5: 自専道 or 一般道 | R5: 一般道 | S5: 代替路の有無 | U5: 有 | V5: 終点 | W5: 緯度 | X5: 33.94033
C6: 至 | D6: ='様式A-1'!E6 -> 下関市迫町 | G6: 建設年度 | I6: ='様式A-1'!K7 -> 1975年 | L6: 幅員 | N6: L= | O6: ='様式A-1'!E15 -> 9.05 | P6: ｍ | S6: 緊急輸送道路 | W6: 経度 | X6: 130.90161
B7: トンネル毎 の健全性の 診断の区分 | D7: Ⅲ
G8: 変状・異常 箇所数合計 | I8: トンネル本体工 | J8: 材質劣化 | K8: Ⅱ | L8: 623 | N8: Ⅲ | O8: 60 | Q8: Ⅳ | R8: 0 | T8: 附属物等 の取付状態 | V8: ◯ （応急措置後) | X8: 0
J9: 漏水 | K9: Ⅱ | L9: 187 | N9: Ⅲ | O9: 0 | Q9: Ⅳ | R9: 0
V10: ✕ | X10: 61
J11: 外力 | K11: Ⅱ | L11: 3 | N11: Ⅲ | O11: 0 | Q11: Ⅳ | R11: 0
B12: トンネル変状・異常箇所写真位置図
J29: 注１：本位置図は、見下げた状態で記載すること。 注２：覆工スパン番号は横断目地毎(矢板工法の場合は上半アーチの 横断目地毎)に設定すること。 | Q29: 注３：写真番号に付する変状番号は、各覆工スパンの変状に対して新たに確認された場合 は順次追加していくこと。 注４：横断目地の変状は前の覆工スパン番号で計上すること。 注５：１枚に収まらない場合は、複数枚に分けて作成すること。
C30: ※1 トンネル本体工の変状数は、材質劣化、漏水に起因するものは変状単位で、外力に起因するものはスパン単位で計上すること。
C31: ※2 トンネル本体工の変状に対しては、措置の必要性（Ⅱ～Ⅳ）について表記すること。また、点検前に実施された措置によりⅠと判定された箇所についても記載すること。
C32: ※3 附属物等の取付状態の○欄については、応急措置前に判定区分×とした箇所のうち応急措置により○判定とした箇所の数を記入すること。
C33: ※4 附属物等の異常番号は、本体工と番号が重複しないよう101番以降とする等の配慮を行い、分かりやすく記録すること。

Sheet 様式B (3)
B2: ■定期点検記録様式 トンネル変状・異常箇所写真位置図 【様式B】 | N2: 定期点検年月日 | P2: ='様式B (1)'!P2 -> 45896 | S2: 施設ID | V2: 33.93588,130.90785
B3: フリガナ | C3: ='様式A-1'!D3 -> ヒコシマトンネル | G3: 路線名 | H3: ='様式A-1'!J3 -> 福浦港金毘羅線 | K3: 管理者名 | L3: ='様式A-1'!R3 -> 山口県 下関土木建築事務所 | Q3: 定期点検実施者 | S3: アジア航測株式会社 | V3: 起点 | W3: 緯度 | X3: 33.93588
B4: 名 称 | C4: ='様式A-1'!D4 -> 彦島トンネル | S4: 飯田 琢巳 | W4: 経度 | X4: 130.90785
B5: 所在地 | C5: 自 | D5: ='様式A-1'!E5 -> 下関市迫町 | G5: トンネル工法 | I5: 矢板工法 | L5: トンネル延長 | N5: L= | O5: ='様式A-1'!Z5 -> 868 | P5: ｍ | Q5: 自専道 or 一般道 | R5: 一般道 | S5: 代替路の有無 | U5: 有 | V5: 終点 | W5: 緯度 | X5: 33.94033
C6: 至 | D6: ='様式A-1'!E6 -> 下関市迫町 | G6: 建設年度 | I6: ='様式A-1'!K7 -> 1975年 | L6: 幅員 | N6: L= | O6: ='様式A-1'!E15 -> 9.05 | P6: ｍ | S6: 緊急輸送道路 | W6: 経度 | X6: 130.90161
B7: トンネル毎 の健全性の 診断の区分 | D7: Ⅲ
G8: 変状・異常 箇所数合計 | I8: トンネル本体工 | J8: 材質劣化 | K8: Ⅱ | L8: 623 | N8: Ⅲ | O8: 60 | Q8: Ⅳ | R8: 0 | T8: 附属物等 の取付状態 | V8: ◯ （応急措置後) | X8: 0
J9: 漏水 | K9: Ⅱ | L9: 187 | N9: Ⅲ | O9: 0 | Q9: Ⅳ | R9: 0
V10: ✕ | X10: 61
J11: 外力 | K11: Ⅱ | L11: 3 | N11: Ⅲ | O11: 0 | Q11: Ⅳ | R11: 0
B12: トンネル変状・異常箇所写真位置図
J29: 注１：本位置図は、見下げた状態で記載すること。 注２：覆工スパン番号は横断目地毎(矢板工法の場合は上半アーチの 横断目地毎)に設定すること。 | Q29: 注３：写真番号に付する変状番号は、各覆工スパンの変状に対して新たに確認された場合 は順次追加していくこと。 注４：横断目地の変状は前の覆工スパン番号で計上すること。 注５：１枚に収まらない場合は、複数枚に分けて作成すること。
C30: ※1 トンネル本体工の変状数は、材質劣化、漏水に起因するものは変状単位で、外力に起因するものはスパン単位で計上すること。
C31: ※2 トンネル本体工の変状に対しては、措置の必要性（Ⅱ～Ⅳ）について表記すること。また、点検前に実施された措置によりⅠと判定された箇所についても記載すること。
C32: ※3 附属物等の取付状態の○欄については、応急措置前に判定区分×とした箇所のうち応急措置により○判定とした箇所の数を記入すること。
C33: ※4 附属物等の異常番号は、本体工と番号が重複しないよう101番以降とする等の配慮を行い、分かりやすく記録すること。

Sheet 様式B (4)
B2: ■定期点検記録様式 トンネル変状・異常箇所写真位置図 【様式B】 | N2: 定期点検年月日 | P2: ='様式B (1)'!P2 -> 45896 | S2: 施設ID | V2: 33.93588,130.90785
B3: フリガナ | C3: ='様式A-1'!D3 -> ヒコシマトンネル | G3: 路線名 | H3: ='様式A-1'!J3 -> 福浦港金毘羅線 | K3: 管理者名 | L3: ='様式A-1'!R3 -> 山口県 下関土木建築事務所 | Q3: 定期点検実施者 | S3: アジア航測株式会社 | V3: 起点 | W3: 緯度 | X3: 33.93588
B4: 名 称 | C4: ='様式A-1'!D4 -> 彦島トンネル | S4: 飯田 琢巳 | W4: 経度 | X4: 130.90785
B5: 所在地 | C5: 自 | D5: ='様式A-1'!E5 -> 下関市迫町 | G5: トンネル工法 | I5: 矢板工法 | L5: トンネル延長 | N5: L= | O5: ='様式A-1'!Z5 -> 868 | P5: ｍ | Q5: 自専道 or 一般道 | R5: 一般道 | S5: 代替路の有無 | U5: 有 | V5: 終点 | W5: 緯度 | X5: 33.94033
C6: 至 | D6: ='様式A-1'!E6 -> 下関市迫町 | G6: 建設年度 | I6: ='様式A-1'!K7 -> 1975年 | L6: 幅員 | N6: L= | O6: ='様式A-1'!E15 -> 9.05 | P6: ｍ | S6: 緊急輸送道路 | W6: 経度 | X6: 130.90161
B7: トンネル毎 の健全性の 診断の区分 | D7: Ⅲ
G8: 変状・異常 箇所数合計 | I8: トンネル本体工 | J8: 材質劣化 | K8: Ⅱ | L8: 623 | N8: Ⅲ | O8: 60 | Q8: Ⅳ | R8: 0 | T8: 附属物等 の取付状態 | V8: ◯ （応急措置後) | X8: 0
J9: 漏水 | K9: Ⅱ | L9: 187 | N9: Ⅲ | O9: 0 | Q9: Ⅳ | R9: 0
V10: ✕ | X10: 61
J11: 外力 | K11: Ⅱ | L11: 3 | N11: Ⅲ | O11: 0 | Q11: Ⅳ | R11: 0
B12: トンネル変状・異常箇所写真位置図
J29: 注１：本位置図は、見下げた状態で記載すること。 注２：覆工スパン番号は横断目地毎(矢板工法の場合は上半アーチの 横断目地毎)に設定すること。 | Q29: 注３：写真番号に付する変状番号は、各覆工スパンの変状に対して新たに確認された場合 は順次追加していくこと。 注４：横断目地の変状は前の覆工スパン番号で計上すること。 注５：１枚に収まらない場合は、複数枚に分けて作成すること。
C30: ※1 トンネル本体工の変状数は、材質劣化、漏水に起因するものは変状単位で、外力に起因するものはスパン単位で計上すること。
C31: ※2 トンネル本体工の変状に対しては、措置の必要性（Ⅱ～Ⅳ）について表記すること。また、点検前に実施された措置によりⅠと判定された箇所についても記載すること。
C32: ※3 附属物等の取付状態の○欄については、応急措置前に判定区分×とした箇所のうち応急措置により○判定とした箇所の数を記入すること。
C33: ※4 附属物等の異常番号は、本体工と番号が重複しないよう101番以降とする等の配慮を行い、分かりやすく記録すること。

Sheet 様式B (5)
B2: ■定期点検記録様式 トンネル変状・異常箇所写真位置図 【様式B】 | N2: 定期点検年月日 | P2: ='様式B (1)'!P2 -> 45896 | S2: 施設ID | V2: 33.93588,130.90785
B3: フリガナ | C3: ='様式A-1'!D3 -> ヒコシマトンネル | G3: 路線名 | H3: ='様式A-1'!J3 -> 福浦港金毘羅線 | K3: 管理者名 | L3: ='様式A-1'!R3 -> 山口県 下関土木建築事務所 | Q3: 定期点検実施者 | S3: アジア航測株式会社 | V3: 起点 | W3: 緯度 | X3: 33.93588
B4: 名 称 | C4: ='様式A-1'!D4 -> 彦島トンネル | S4: 飯田 琢巳 | W4: 経度 | X4: 130.90785
B5: 所在地 | C5: 自 | D5: ='様式A-1'!E5 -> 下関市迫町 | G5: トンネル工法 | I5: 矢板工法 | L5: トンネル延長 | N5: L= | O5: ='様式A-1'!Z5 -> 868 | P5: ｍ | Q5: 自専道 or 一般道 | R5: 一般道 | S5: 代替路の有無 | U5: 有 | V5: 終点 | W5: 緯度 | X5: 33.94033
C6: 至 | D6: ='様式A-1'!E6 -> 下関市迫町 | G6: 建設年度 | I6: ='様式A-1'!K7 -> 1975年 | L6: 幅員 | N6: L= | O6: ='様式A-1'!E15 -> 9.05 | P6: ｍ | S6: 緊急輸送道路 | W6: 経度 | X6: 130.90161
B7: トンネル毎 の健全性の 診断の区分 | D7: Ⅲ
G8: 変状・異常 箇所数合計 | I8: トンネル本体工 | J8: 材質劣化 | K8: Ⅱ | L8: 623 | N8: Ⅲ | O8: 60 | Q8: Ⅳ | R8: 0 | T8: 附属物等 の取付状態 | V8: ◯ （応急措置後) | X8: 0
J9: 漏水 | K9: Ⅱ | L9: 187 | N9: Ⅲ | O9: 0 | Q9: Ⅳ | R9: 0
V10: ✕ | X10: 61
J11: 外力 | K11: Ⅱ | L11: 3 | N11: Ⅲ | O11: 0 | Q11: Ⅳ | R11: 0
B12: トンネル変状・異常箇所写真位置図
J29: 注１：本位置図は、見下げた状態で記載すること。 注２：覆工スパン番号は横断目地毎(矢板工法の場合は上半アーチの 横断目地毎)に設定すること。 | Q29: 注３：写真番号に付する変状番号は、各覆工スパンの変状に対して新たに確認された場合 は順次追加していくこと。 注４：横断目地の変状は前の覆工スパン番号で計上すること。 注５：１枚に収まらない場合は、複数枚に分けて作成すること。
C30: ※1 トンネル本体工の変状数は、材質劣化、漏水に起因するものは変状単位で、外力に起因するものはスパン単位で計上すること。
C31: ※2 トンネル本体工の変状に対しては、措置の必要性（Ⅱ～Ⅳ）について表記すること。また、点検前に実施された措置によりⅠと判定された箇所についても記載すること。
C32: ※3 附属物等の取付状態の○欄については、応急措置前に判定区分×とした箇所のうち応急措置により○判定とした箇所の数を記入すること。
C33: ※4 附属物等の異常番号は、本体工と番号が重複しないよう101番以降とする等の配慮を行い、分かりやすく記録すること。

Sheet 様式B (6)
B2: ■定期点検記録様式 トンネル変状・異常箇所写真位置図 【様式B】 | N2: 定期点検年月日 | P2: ='様式B (1)'!P2 -> 45896 | S2: 施設ID | V2: 33.93588,130.90785
B3: フリガナ | C3: ='様式A-1'!D3 -> ヒコシマトンネル | G3: 路線名 | H3: ='様式A-1'!J3 -> 福浦港金毘羅線 | K3: 管理者名 | L3: ='様式A-1'!R3 -> 山口県 下関土木建築事務所 | Q3: 定期点検実施者 | S3: アジア航測株式会社 | V3: 起点 | W3: 緯度 | X3: 33.93588
B4: 名 称 | C4: ='様式A-1'!D4 -> 彦島トンネル | S4: 飯田 琢巳 | W4: 経度 | X4: 130.90785
B5: 所在地 | C5: 自 | D5: ='様式A-1'!E5 -> 下関市迫町 | G5: トンネル工法 | I5: 矢板工法 | L5: トンネル延長 | N5: L= | O5: ='様式A-1'!Z5 -> 868 | P5: ｍ | Q5: 自専道 or 一般道 | R5: 一般道 | S5: 代替路の有無 | U5: 有 | V5: 終点 | W5: 緯度 | X5: 33.94033
C6: 至 | D6: ='様式A-1'!E6 -> 下関市迫町 | G6: 建設年度 | I6: ='様式A-1'!K7 -> 1975年 | L6: 幅員 | N6: L= | O6: ='様式A-1'!E15 -> 9.05 | P6: ｍ | S6: 緊急輸送道路 | W6: 経度 | X6: 130.90161
B7: トンネル毎 の健全性の 診断の区分 | D7: Ⅲ
G8: 変状・異常 箇所数合計 | I8: トンネル本体工 | J8: 材質劣化 | K8: Ⅱ | L8: 623 | N8: Ⅲ | O8: 60 | Q8: Ⅳ | R8: 0 | T8: 附属物等 の取付状態 | V8: ◯ （応急措置後) | X8: 0
J9: 漏水 | K9: Ⅱ | L9: 187 | N9: Ⅲ | O9: 0 | Q9: Ⅳ | R9: 0
V10: ✕ | X10: 61
J11: 外力 | K11: Ⅱ | L11: 3 | N11: Ⅲ | O11: 0 | Q11: Ⅳ | R11: 0
B12: トンネル変状・異常箇所写真位置図
J29: 注１：本位置図は、見下げた状態で記載すること。 注２：覆工スパン番号は横断目地毎(矢板工法の場合は上半アーチの 横断目地毎)に設定すること。 | Q29: 注３：写真番号に付する変状番号は、各覆工スパンの変状に対して新たに確認された場合 は順次追加していくこと。 注４：横断目地の変状は前の覆工スパン番号で計上すること。 注５：１枚に収まらない場合は、複数枚に分けて作成すること。
C30: ※1 トンネル本体工の変状数は、材質劣化、漏水に起因するものは変状単位で、外力に起因するものはスパン単位で計上すること。
C31: ※2 トンネル本体工の変状に対しては、措置の必要性（Ⅱ～Ⅳ）について表記すること。また、点検前に実施された措置によりⅠと判定された箇所についても記載すること。
C32: ※3 附属物等の取付状態の○欄については、応急措置前に判定区分×とした箇所のうち応急措置により○判定とした箇所の数を記入すること。
C33: ※4 附属物等の異常番号は、本体工と番号が重複しないよう101番以降とする等の配慮を行い、分かりやすく記録すること。

Sheet 様式B (7)
B2: ■定期点検記録様式 トンネル変状・異常箇所写真位置図 【様式B】 | N2: 定期点検年月日 | P2: ='様式B (1)'!P2 -> 45896 | S2: 施設ID | V2: 33.93588,130.90785
B3: フリガナ | C3: ='様式A-1'!D3 -> ヒコシマトンネル | G3: 路線名 | H3: ='様式A-1'!J3 -> 福浦港金毘羅線 | K3: 管理者名 | L3: ='様式A-1'!R3 -> 山口県 下関土木建築事務所 | Q3: 定期点検実施者 | S3: アジア航測株式会社 | V3: 起点 | W3: 緯度 | X3: 33.93588
B4: 名 称 | C4: ='様式A-1'!D4 -> 彦島トンネル | S4: 飯田 琢巳 | W4: 経度 | X4: 130.90785
B5: 所在地 | C5: 自 | D5: ='様式A-1'!E5 -> 下関市迫町 | G5: トンネル工法 | I5: 矢板工法 | L5: トンネル延長 | N5: L= | O5: ='様式A-1'!Z5 -> 868 | P5: ｍ | Q5: 自専道 or 一般道 | R5: 一般道 | S5: 代替路の有無 | U5: 有 | V5: 終点 | W5: 緯度 | X5: 33.94033
C6: 至 | D6: ='様式A-1'!E6 -> 下関市迫町 | G6: 建設年度 | I6: ='様式A-1'!K7 -> 1975年 | L6: 幅員 | N6: L= | O6: ='様式A-1'!E15 -> 9.05 | P6: ｍ | S6: 緊急輸送道路 | W6: 経度 | X6: 130.90161
B7: トンネル毎 の健全性の 診断の区分 | D7: Ⅲ
G8: 変状・異常 箇所数合計 | I8: トンネル本体工 | J8: 材質劣化 | K8: Ⅱ | L8: 623 | N8: Ⅲ | O8: 60 | Q8: Ⅳ | R8: 0 | T8: 附属物等 の取付状態 | V8: ◯ （応急措置後) | X8: 0
J9: 漏水 | K9: Ⅱ | L9: 187 | N9: Ⅲ | O9: 0 | Q9: Ⅳ | R9: 0
V10: ✕ | X10: 61
J11: 外力 | K11: Ⅱ | L11: 3 | N11: Ⅲ | O11: 0 | Q11: Ⅳ | R11: 0
B12: トンネル変状・異常箇所写真位置図
J29: 注１：本位置図は、見下げた状態で記載すること。 注２：覆工スパン番号は横断目地毎(矢板工法の場合は上半アーチの 横断目地毎)に設定すること。 | Q29: 注３：写真番号に付する変状番号は、各覆工スパンの変状に対して新たに確認された場合 は順次追加していくこと。 注４：横断目地の変状は前の覆工スパン番号で計上すること。 注５：１枚に収まらない場合は、複数枚に分けて作成すること。
C30: ※1 トンネル本体工の変状数は、材質劣化、漏水に起因するものは変状単位で、外力に起因するものはスパン単位で計上すること。
C31: ※2 トンネル本体工の変状に対しては、措置の必要性（Ⅱ～Ⅳ）について表記すること。また、点検前に実施された措置によりⅠと判定された箇所についても記載すること。
C32: ※3 附属物等の取付状態の○欄については、応急措置前に判定区分×とした箇所のうち応急措置により○判定とした箇所の数を記入すること。
C33: ※4 附属物等の異常番号は、本体工と番号が重複しないよう101番以降とする等の配慮を行い、分かりやすく記録すること。

Sheet 様式B (8)
B2: ■定期点検記録様式 トンネル変状・異常箇所写真位置図 【様式B】 | N2: 定期点検年月日 | P2: ='様式B (1)'!P2 -> 45896 | S2: 施設ID | V2: 33.93588,130.90785
B3: フリガナ | C3: ='様式A-1'!D3 -> ヒコシマトンネル | G3: 路線名 | H3: ='様式A-1'!J3 -> 福浦港金毘羅線 | K3: 管理者名 | L3: ='様式A-1'!R3 -> 山口県 下関土木建築事務所 | Q3: 定期点検実施者 | S3: アジア航測株式会社 | V3: 起点 | W3: 緯度 | X3: 33.93588
B4: 名 称 | C4: ='様式A-1'!D4 -> 彦島トンネル | S4: 飯田 琢巳 | W4: 経度 | X4: 130.90785
B5: 所在地 | C5: 自 | D5: ='様式A-1'!E5 -> 下関市迫町 | G5: トンネル工法 | I5: 矢板工法 | L5: トンネル延長 | N5: L= | O5: ='様式A-1'!Z5 -> 868 | P5: ｍ | Q5: 自専道 or 一般道 | R5: 一般道 | S5: 代替路の有無 | U5: 有 | V5: 終点 | W5: 緯度 | X5: 33.94033
C6: 至 | D6: ='様式A-1'!E6 -> 下関市迫町 | G6: 建設年度 | I6: ='様式A-1'!K7 -> 1975年 | L6: 幅員 | N6: L= | O6: ='様式A-1'!E15 -> 9.05 | P6: ｍ | S6: 緊急輸送道路 | W6: 経度 | X6: 130.90161
B7: トンネル毎 の健全性の 診断の区分 | D7: Ⅲ
G8: 変状・異常 箇所数合計 | I8: トンネル本体工 | J8: 材質劣化 | K8: Ⅱ | L8: 623 | N8: Ⅲ | O8: 60 | Q8: Ⅳ | R8: 0 | T8: 附属物等 の取付状態 | V8: ◯ （応急措置後) | X8: 0
J9: 漏水 | K9: Ⅱ | L9: 187 | N9: Ⅲ | O9: 0 | Q9: Ⅳ | R9: 0
V10: ✕ | X10: 61
J11: 外力 | K11: Ⅱ | L11: 3 | N11: Ⅲ | O11: 0 | Q11: Ⅳ | R11: 0
B12: トンネル変状・異常箇所写真位置図
J29: 注１：本位置図は、見下げた状態で記載すること。 注２：覆工スパン番号は横断目地毎(矢板工法の場合は上半アーチの 横断目地毎)に設定すること。 | Q29: 注３：写真番号に付する変状番号は、各覆工スパンの変状に対して新たに確認された場合 は順次追加していくこと。 注４：横断目地の変状は前の覆工スパン番号で計上すること。 注５：１枚に収まらない場合は、複数枚に分けて作成すること。
C30: ※1 トンネル本体工の変状数は、材質劣化、漏水に起因するものは変状単位で、外力に起因するものはスパン単位で計上すること。
C31: ※2 トンネル本体工の変状に対しては、措置の必要性（Ⅱ～Ⅳ）について表記すること。また、点検前に実施された措置によりⅠと判定された箇所についても記載すること。
C32: ※3 附属物等の取付状態の○欄については、応急措置前に判定区分×とした箇所のうち応急措置により○判定とした箇所の数を記入すること。
C33: ※4 附属物等の異常番号は、本体工と番号が重複しないよう101番以降とする等の配慮を行い、分かりやすく記録すること。

Sheet 様式B (9)
B2: ■定期点検記録様式 トンネル変状・異常箇所写真位置図 【様式B】 | N2: 定期点検年月日 | P2: ='様式B (1)'!P2 -> 45896 | S2: 施設ID | V2: 33.93588,130.90785
B3: フリガナ | C3: ='様式A-1'!D3 -> ヒコシマトンネル | G3: 路線名 | H3: ='様式A-1'!J3 -> 福浦港金毘羅線 | K3: 管理者名 | L3: ='様式A-1'!R3 -> 山口県 下関土木建築事務所 | Q3: 定期点検実施者 | S3: アジア航測株式会社 | V3: 起点 | W3: 緯度 | X3: 33.93588
B4: 名 称 | C4: ='様式A-1'!D4 -> 彦島トンネル | S4: 飯田 琢巳 | W4: 経度 | X4: 130.90785
B5: 所在地 | C5: 自 | D5: ='様式A-1'!E5 -> 下関市迫町 | G5: トンネル工法 | I5: 矢板工法 | L5: トンネル延長 | N5: L= | O5: ='様式A-1'!Z5 -> 868 | P5: ｍ | Q5: 自専道 or 一般道 | R5: 一般道 | S5: 代替路の有無 | U5: 有 | V5: 終点 | W5: 緯度 | X5: 33.94033
C6: 至 | D6: ='様式A-1'!E6 -> 下関市迫町 | G6: 建設年度 | I6: ='様式A-1'!K7 -> 1975年 | L6: 幅員 | N6: L= | O6: ='様式A-1'!E15 -> 9.05 | P6: ｍ | S6: 緊急輸送道路 | W6: 経度 | X6: 130.90161
B7: トンネル毎 の健全性の 診断の区分 | D7: Ⅲ
G8: 変状・異常 箇所数合計 | I8: トンネル本体工 | J8: 材質劣化 | K8: Ⅱ | L8: 623 | N8: Ⅲ | O8: 60 | Q8: Ⅳ | R8: 0 | T8: 附属物等 の取付状態 | V8: ◯ （応急措置後) | X8: 0
J9: 漏水 | K9: Ⅱ | L9: 187 | N9: Ⅲ | O9: 0 | Q9: Ⅳ | R9: 0
V10: ✕ | X10: 61
J11: 外力 | K11: Ⅱ | L11: 3 | N11: Ⅲ | O11: 0 | Q11: Ⅳ | R11: 0
B12: トンネル変状・異常箇所写真位置図
J29: 注１：本位置図は、見下げた状態で記載すること。 注２：覆工スパン番号は横断目地毎(矢板工法の場合は上半アーチの 横断目地毎)に設定すること。 | Q29: 注３：写真番号に付する変状番号は、各覆工スパンの変状に対して新たに確認された場合 は順次追加していくこと。 注４：横断目地の変状は前の覆工スパン番号で計上すること。 注５：１枚に収まらない場合は、複数枚に分けて作成すること。
C30: ※1 トンネル本体工の変状数は、材質劣化、漏水に起因するものは変状単位で、外力に起因するものはスパン単位で計上すること。
C31: ※2 トンネル本体工の変状に対しては、措置の必要性（Ⅱ～Ⅳ）について表記すること。また、点検前に実施された措置によりⅠと判定された箇所についても記載すること。
C32: ※3 附属物等の取付状態の○欄については、応急措置前に判定区分×とした箇所のうち応急措置により○判定とした箇所の数を記入すること。
C33: ※4 附属物等の異常番号は、本体工と番号が重複しないよう101番以降とする等の配慮を行い、分かりやすく記録すること。

Sheet 様式B (10)
B2: ■定期点検記録様式 トンネル変状・異常箇所写真位置図 【様式B】 | N2: 定期点検年月日 | P2: ='様式B (1)'!P2 -> 45896 | S2: 施設ID | V2: 33.93588,130.90785
B3: フリガナ | C3: ='様式A-1'!D3 -> ヒコシマトンネル | G3: 路線名 | H3: ='様式A-1'!J3 -> 福浦港金毘羅線 | K3: 管理者名 | L3: ='様式A-1'!R3 -> 山口県 下関土木建築事務所 | Q3: 定期点検実施者 | S3: アジア航測株式会社 | V3: 起点 | W3: 緯度 | X3: 33.93588
B4: 名 称 | C4: ='様式A-1'!D4 -> 彦島トンネル | S4: 飯田 琢巳 | W4: 経度 | X4: 130.90785
B5: 所在地 | C5: 自 | D5: ='様式A-1'!E5 -> 下関市迫町 | G5: トンネル工法 | I5: 矢板工法 | L5: トンネル延長 | N5: L= | O5: ='様式A-1'!Z5 -> 868 | P5: ｍ | Q5: 自専道 or 一般道 | R5: 一般道 | S5: 代替路の有無 | U5: 有 | V5: 終点 | W5: 緯度 | X5: 33.94033
C6: 至 | D6: ='様式A-1'!E6 -> 下関市迫町 | G6: 建設年度 | I6: ='様式A-1'!K7 -> 1975年 | L6: 幅員 | N6: L= | O6: ='様式A-1'!E15 -> 9.05 | P6: ｍ | S6: 緊急輸送道路 | W6: 経度 | X6: 130.90161
B7: トンネル毎 の健全性の 診断の区分 | D7: Ⅲ
G8: 変状・異常 箇所数合計 | I8: トンネル本体工 | J8: 材質劣化 | K8: Ⅱ | L8: 623 | N8: Ⅲ | O8: 60 | Q8: Ⅳ | R8: 0 | T8: 附属物等 の取付状態 | V8: ◯ （応急措置後) | X8: 0
J9: 漏水 | K9: Ⅱ | L9: 187 | N9: Ⅲ | O9: 0 | Q9: Ⅳ | R9: 0
V10: ✕ | X10: 61
J11: 外力 | K11: Ⅱ | L11: 3 | N11: Ⅲ | O11: 0 | Q11: Ⅳ | R11: 0
B12: トンネル変状・異常箇所写真位置図
J29: 注１：本位置図は、見下げた状態で記載すること。 注２：覆工スパン番号は横断目地毎(矢板工法の場合は上半アーチの 横断目地毎)に設定すること。 | Q29: 注３：写真番号に付する変状番号は、各覆工スパンの変状に対して新たに確認された場合 は順次追加していくこと。 注４：横断目地の変状は前の覆工スパン番号で計上すること。 注５：１枚に収まらない場合は、複数枚に分けて作成すること。
C30: ※1 トンネル本体工の変状数は、材質劣化、漏水に起因するものは変状単位で、外力に起因するものはスパン単位で計上すること。
C31: ※2 トンネル本体工の変状に対しては、措置の必要性（Ⅱ～Ⅳ）について表記すること。また、点検前に実施された措置によりⅠと判定された箇所についても記載すること。
C32: ※3 附属物等の取付状態の○欄については、応急措置前に判定区分×とした箇所のうち応急措置により○判定とした箇所の数を記入すること。
C33: ※4 附属物等の異常番号は、本体工と番号が重複しないよう101番以降とする等の配慮を行い、分かりやすく記録すること。

Sheet 様式C-1-1
B2: ■定期点検記録様式 全スパン定期点検結果総括表（トンネル本体工） 【様式C-1-1】
B3: フリガナ | F3: ='様式A-1'!D3 -> ヒコシマトンネル | I3: 路線名 | K3: ='様式A-1'!J3 -> 福浦港金毘羅線 | O3: 定期点検実施者 | P3: ='様式B (1)'!S3 -> アジア航測株式会社 | T3: 定期点検年月日 | X3: ='様式B (1)'!P2 -> 45896
B4: 名 称 | F4: ='様式A-1'!D4 -> 彦島トンネル | I4: 管理者名 | K4: ='様式A-1'!R3 -> 山口県 下関土木建築事務所 | P4: ='様式B (1)'!S4 -> 飯田 琢巳
C5: 覆工 スパン 番号 | E5: 変状 番号 | F5: 距離 （m） | G5: 変状部位 | I5: 変 状 の 内 容 | O5: 前回定期点検時の状態 | P5: 今回定期点検結果 | T5: 措置履歴 | Y5: 対応方針 ・ 特記事項
O6: 44271
G7: 対象箇所 | H7: 部位区分 | I7: 変状区分 | J7: 変状種類 | M7: 変状の発生範囲の規模 | N7: 前回定期点検時の変状の発生範囲及び規模 | O7: 対策区分 | P7: 対策区分 | R7: 調査の 要否 | S7: 措置の 要否 | T7: 実施 | U7: 措置の実施状況
P8: 応急措置前 | Q8: 応急措置後
B9: 定期点検結果 | C9: PS | E9: 1 | F9: 0 | G9: 坑門 | H9: 面壁・妻壁等 | I9: 材質劣化 | J9: うき・はく離 | M9: 1.05 | N9: 2.1 | O9: Ⅱb | P9: － | Q9: Ⅱb | R9: 否 | S9: 要監視 | T9: 未 | U9: ー | Y9: 継続監視
C10: PS | E10: 2 | F10: 0 | G10: 坑門 | H10: 面壁・妻壁等 | I10: 材質劣化 | J10: 圧ざ、ひび割れ | M10: 0.09 | N10: 0.09 | O10: Ⅱb | P10: － | Q10: Ⅱb | R10: 否 | S10: 要監視 | T10: 未 | U10: ー | Y10: 継続監視
C11: PS | E11: 3 | F11: 1 | G11: 覆工 | H11: アーチ（左側） | I11: 材質劣化 | J11: 圧ざ、ひび割れ | M11: 0.17 | N11: 0.18 | O11: Ⅱb | P11: － | Q11: Ⅱb | R11: 否 | S11: 要監視 | T11: 未 | U11: ー | Y11: 継続監視
C12: PS | E12: 4 | F12: 0 | G12: 路面 | H12: 歩道 | J12: その他 | M12: 1.44 | N12: 1.2 | O12: Ⅱb | R12: 否 | S12: 否 | U12: ー
C13: S1 | E13: 1 | F13: 12 | G13: 覆工 | H13: 側壁（左側） | I13: 材質劣化 | J13: うき・はく離 | M13: 0.01 | N13: 0.01 | O13: Ⅱb | P13: － | Q13: Ⅱb | R13: 否 | S13: 要監視 | T13: 未 | U13: ー | Y13: 継続監視
C14: S1 | E14: 2 | F14: 11.9 | G14: 覆工 | H14: アーチ（左側） | I14: 材質劣化 | J14: うき・はく離 | M14: 0.04 | N14: 0.04 | O14: Ⅱb | P14: － | Q14: Ⅰ | R14: 否 | S14: 否 | T14: 未 | U14: ー | Y14: 判定見直し
C15: S1 | E15: 3 | F15: 8.9 | G15: 覆工 | H15: アーチ（全周） | I15: 材質劣化 | J15: 圧ざ、ひび割れ | M15: 0.48 | N15: 0.5 | O15: Ⅱb | P15: － | Q15: Ⅱb | R15: 否 | S15: 要監視 | T15: 未 | U15: ー | Y15: 継続監視
C16: S1 | E16: 4 | F16: 9.2 | G16: 覆工 | H16: アーチ（右側） | I16: 材質劣化 | J16: うき・はく離 | M16: 0.02 | N16: 0.02 | O16: Ⅱb | P16: － | Q16: Ⅱb | R16: 否 | S16: 要監視 | T16: 未 | U16: ー | Y16: 継続監視
C17: S1 | E17: 5 | F17: 4.2 | G17: 覆工 | H17: 側壁（右側） | I17: 材質劣化 | J17: うき・はく離 | M17: 0.015 | N17: 0.02 | O17: Ⅱb | P17: － | Q17: Ⅱb | R17: 否 | S17: 要監視 | T17: 未 | U17: ー | Y17: 継続監視
C18: S1 | E18: 6 | F18: 6.3 | G18: 覆工 | H18: アーチ（右側） | I18: 漏水 | J18: 漏水 | M18: 1.25 | N18: - | O18: Ⅱb | P18: － | Q18: Ⅱb | R18: 否 | S18: 要監視 | T18: 未 | U18: ー | Y18: 継続監視
C19: S1 | E19: 7 | F19: 3.4 | G19: 覆工 | H19: 側壁（左側） | I19: 材質劣化 | J19: うき・はく離 | M19: 0.04 | N19: （新規確認） | O19: － | P19: － | Q19: Ⅱb | R19: 否 | S19: 要監視 | T19: 未 | U19: ー | Y19: 監視
C20: S1 | E20: 8 | F20: 4.1 | G20: 覆工 | H20: 側壁（左側） | I20: 漏水 | J20: 補修・補強材の破損 | M20: 0.06 | N20: （新規確認） | O20: － | P20: － | Q20: Ⅱb | R20: 否 | S20: 要監視 | T20: 未 | U20: ー | Y20: 監視
C21: S1 | E21: 9 | F21: 4.1 | G21: 覆工 | H21: 側壁（左側） | I21: 漏水 | J21: 漏水 | M21: 0.9 | N21: （新規確認） | O21: － | P21: － | Q21: Ⅱb | R21: 否 | S21: 要監視 | T21: 未 | U21: ー | Y21: 継続監視
C22: S2 | E22: 1 | F22: 14.4 | G22: 覆工 | H22: 水平打ち継ぎ目（左側） | I22: 材質劣化 | J22: うき・はく離 | M22: 0.03 | N22: 0.03 | O22: Ⅱb | P22: － | Q22: Ⅱb | R22: 否 | S22: 要監視 | T22: 未 | U22: ー | Y22: 継続監視
C23: S2 | E23: 2 | F23: 13.3 | G23: 覆工 | H23: アーチ（左側） | I23: 材質劣化 | J23: 圧ざ、ひび割れ | M23: 0.16 | N23: 0.2 | O23: Ⅱb | P23: － | Q23: Ⅱb | R23: 否 | S23: 要監視 | T23: 未 | U23: ー | Y23: 継続監視
C24: S2 | E24: 3 | F24: 14 | G24: 覆工 | H24: アーチ（天端） | I24: 材質劣化 | J24: うき・はく離 | M24: 0.01 | N24: 0.01 | O24: Ⅱb | P24: － | Q24: Ⅱb | R24: 否 | S24: 要監視 | T24: 未 | U24: ー | Y24: 継続監視
C25: S2 | E25: 4 | F25: 15.2 | G25: 覆工 | H25: アーチ（天端） | I25: 材質劣化 | J25: 圧ざ、ひび割れ | M25: 0.42 | N25: 0.47 | O25: Ⅱb | P25: － | Q25: Ⅱb | R25: 否 | S25: 要監視 | T25: 未 | U25: ー | Y25: 継続監視
C26: S2 | E26: 5 | F26: 13.2 | G26: 覆工 | H26: アーチ（右側） | I26: 材質劣化 | J26: うき・はく離 | M26: 0.005 | N26: 0.005 | O26: Ⅱb | P26: － | Q26: Ⅱb | R26: 否 | S26: 要監視 | T26: 未 | U26: ー | Y26: 継続監視
C27: S2 | E27: 6 | F27: 17.2 | G27: 覆工 | H27: 横断目地（右側） | I27: 漏水 | J27: 漏水 | M27: 1.3 | N27: - | O27: Ⅱb | P27: － | Q27: Ⅱb | R27: 否 | S27: 要監視 | T27: 未 | U27: ー | Y27: 継続監視
C28: S2 | E28: 7 | F28: 17.6 | G28: 覆工 | H28: 横断目地（左側） | I28: 漏水 | J28: 補修・補強材の破損 | M28: 0.01 | N28: （新規確認） | O28: － | P28: － | Q28: Ⅱb | R28: 否 | S28: 要監視 | T28: 未 | U28: ー | Y28: 継続監視
C29: S3 | E29: 1 | F29: 24.2 | G29: 覆工 | H29: 水平打ち継ぎ目（左側） | I29: 漏水 | J29: 補修・補強材の破損 | M29: 0.02 | N29: 0.03 | O29: Ⅱb | P29: － | Q29: Ⅱb | R29: 否 | S29: 要監視 | T29: 未 | U29: ー | Y29: 継続監視
C30: S3 | E30: 2 | F30: 22.8 | G30: 覆工 | H30: アーチ（左側） | I30: 材質劣化 | J30: 圧ざ、ひび割れ | M30: 0.57 | N30: 0.42 | O30: Ⅱb | P30: － | Q30: Ⅱb | R30: 否 | S30: 要監視 | T30: 未 | U30: ー | Y30: 継続監視
C31: S3 | E31: 3 | F31: 22.5 | G31: 覆工 | H31: アーチ（左側） | I31: 漏水 | J31: 補修・補強材の破損 | M31: 0.02 | N31: 0.02 | O31: Ⅱb | P31: － | Q31: Ⅱb | R31: 否 | S31: 要監視 | T31: 未 | U31: ー | Y31: 継続監視
C32: S3 | E32: 4 | F32: 23.1 | G32: 覆工 | H32: アーチ（左側） | I32: 材質劣化 | J32: うき・はく離 | M32: 0.02 | N32: 0.02 | O32: Ⅱb | P32: － | Q32: Ⅱb | R32: 否 | S32: 要監視 | T32: 未 | U32: ー | Y32: 継続監視
C33: S3 | E33: 5 | F33: 28.1 | G33: 覆工 | H33: 横断目地（左側） | I33: 材質劣化 | J33: うき・はく離 | M33: 0.05 | N33: 0.05 | O33: Ⅱb | P33: － | Q33: Ⅱb | R33: 否 | S33: 要監視 | T33: 未 | U33: ー | Y33: 継続監視
C34: S3 | E34: 6 | F34: 17.9 | G34: 覆工 | H34: アーチ（右側） | I34: 漏水 | J34: 漏水 | M34: - | N34: - | O34: Ⅱb | P34: － | Q34: Ⅰ | R34: 否 | S34: 否 | T34: 未 | U34: ー | Y34: （補修済）
C35: S3 | E35: 7 | F35: 20.3 | G35: 覆工 | H35: アーチ（右側） | I35: 材質劣化 | J35: うき・はく離 | M35: 0.0175 | N35: 0.0175 | O35: Ⅱb | P35: － | Q35: Ⅱb | R35: 否 | S35: 要監視 | T35: 未 | U35: ー | Y35: 継続監視
C36: S3 | E36: 8 | F36: 23.2 | G36: 覆工 | H36: アーチ（右側） | I36: 材質劣化 | J36: 圧ざ、ひび割れ | M36: 0.53 | N36: 0.31 | O36: Ⅱb | P36: － | Q36: Ⅱb | R36: 否 | S36: 要監視 | T36: 未 | U36: ー | Y36: 継続監視
C37: S3 | E37: 9 | F37: 24.7 | G37: 覆工 | H37: 水平打ち継ぎ目（左側） | I37: 材質劣化 | J37: うき・はく離 | M37: 0.045 | N37: （新規確認） | O37: － | P37: － | Q37: Ⅱb | R37: 否 | S37: 要監視 | T37: 未 | U37: ー | Y37: 継続監視
C38: S4 | E38: 1 | F38: 30.1 | G38: 覆工 | H38: 水平打ち継ぎ目（左側） | I38: 材質劣化 | J38: うき・はく離 | M38: 0.04 | N38: 0.04 | O38: Ⅱb | P38: － | Q38: Ⅱb | R38: 否 | S38: 要監視 | T38: 未 | U38: ー | Y38: 継続監視
C39: S4 | E39: 2 | F39: 32.2 | G39: 覆工 | H39: 水平打ち継ぎ目（左側） | I39: 材質劣化 | J39: うき・はく離 | M39: 0.085 | N39: 0.085 | O39: Ⅱb | P39: － | Q39: Ⅰ | R39: 否 | S39: 否 | T39: 未 | U39: ー | Y39: 判定見直し
C40: S4 | E40: 3 | F40: 32.8 | G40: 覆工 | H40: アーチ（左側） | I40: 漏水 | J40: 漏水 | M40: 4.9 | N40: - | O40: Ⅱb | P40: － | Q40: Ⅱb | R40: 否 | S40: 要監視 | T40: 未 | U40: ー | Y40: 継続監視
C41: S4 | E41: 4 | F41: 37.2 | G41: 覆工 | H41: アーチ（左側） | I41: 材質劣化 | J41: うき・はく離 | M41: 0.04 | N41: 0.04 | O41: Ⅱb | P41: － | Q41: Ⅰ | R41: 否 | S41: 否 | T41: 未 | U41: ー | Y41: 判定見直し
C42: ※ 対策区分（応急措置後）のⅡb～Ⅳについて記入すること。また、点検前に実施された措置によりⅠと判定された変状も記入すること。
C43: ※ 応急措置を実施しないで判定した変状の対策区分は、対策区分の応急措置後の欄に記入すること。
C44: ※ 変状の除去が不完全で、緊急対応が必要な場合は対応方針欄に記入すること。
C45: ※ １区間の覆工に複数の変状がある場合は、変状箇所毎に記入すること。
C46: ※ 措置・監視点検を行った場合には、措置履歴、特記事項に記録を残すこと。（実施年度も記載）
C47: ※ 行が不足する場合は、適時、表の行を増やすこと。

Sheet 様式C-1-1 (2)
B2: ■定期点検記録様式 全スパン定期点検結果総括表（トンネル本体工） 【様式C-1-1】
B3: フリガナ | F3: ='様式A-1'!D3 -> ヒコシマトンネル | I3: 路線名 | K3: ='様式A-1'!J3 -> 福浦港金毘羅線 | O3: 定期点検実施者 | P3: ='様式B (1)'!S3 -> アジア航測株式会社 | T3: 定期点検年月日 | X3: ='様式B (1)'!P2 -> 45896
B4: 名 称 | F4: ='様式A-1'!D4 -> 彦島トンネル | I4: 管理者名 | K4: ='様式A-1'!R3 -> 山口県 下関土木建築事務所 | P4: ='様式B (1)'!S4 -> 飯田 琢巳
C5: 覆工 スパン 番号 | E5: 変状 番号 | F5: 距離 （m） | G5: 変状部位 | I5: 変 状 の 内 容 | O5: 前回定期点検時の状態 | P5: 今回定期点検結果 | T5: 措置履歴 | Y5: 対応方針 ・ 特記事項
O6: 44271
G7: 対象箇所 | H7: 部位区分 | I7: 変状区分 | J7: 変状種類 | M7: 変状の発生範囲の規模 | N7: 前回定期点検時の変状の発生範囲及び規模 | O7: 対策区分 | P7: 対策区分 | R7: 調査の 要否 | S7: 措置の 要否 | T7: 実施 | U7: 措置の実施状況
P8: 応急措置前 | Q8: 応急措置後
B9: 定期点検結果 | C9: S4 | E9: 5 | F9: 28.7 | G9: 覆工 | H9: アーチ（全周） | I9: 材質劣化 | J9: 圧ざ、ひび割れ | M9: 0.51 | N9: 0.51 | O9: Ⅱb | P9: － | Q9: Ⅱb | R9: 否 | S9: 要監視 | T9: 未 | U9: ー | Y9: 継続監視
C10: S4 | E10: 6 | F10: 28.3 | G10: 覆工 | H10: アーチ（右側） | I10: 材質劣化 | J10: うき・はく離 | M10: 0.0075 | N10: 0.0075 | O10: Ⅱb | P10: － | Q10: Ⅱb | R10: 否 | S10: 要監視 | T10: 未 | U10: ー | Y10: 継続監視
C11: S4 | E11: 7 | F11: 32.3 | G11: 覆工 | H11: アーチ（右側） | I11: 材質劣化 | J11: うき・はく離 | M11: 0.01 | N11: 0.01 | O11: Ⅱb | P11: － | Q11: Ⅱb | R11: 否 | S11: 要監視 | T11: 未 | U11: ー | Y11: 継続監視
C12: S4 | E12: 8 | F12: 37.7 | G12: 覆工 | H12: アーチ（右側） | I12: 材質劣化 | J12: うき・はく離 | M12: 0.01 | N12: 0.01 | O12: Ⅱb | P12: － | Q12: Ⅱb | R12: 否 | S12: 要監視 | T12: 未 | U12: ー | Y12: 継続監視
C13: S4 | E13: 9 | F13: 36 | G13: 覆工 | H13: アーチ（右側） | I13: 材質劣化 | J13: うき・はく離 | M13: 0.13 | N13: 0.13 | O13: Ⅱb | P13: － | Q13: Ⅰ | R13: 否 | S13: 否 | T13: 未 | U13: ー | Y13: 判定見直し
C14: S4 | E14: 10 | F14: 29.8 | G14: 覆工 | H14: 側壁（右側） | I14: 材質劣化 | J14: うき・はく離 | M14: 0.22 | N14: 0.1 | O14: Ⅱb | P14: － | Q14: Ⅱb | R14: 否 | S14: 要監視 | T14: 未 | U14: ー | Y14: 継続監視
C15: S4 | E15: 11 | F15: 31 | G15: 覆工 | H15: 水平打ち継ぎ目（右側） | I15: 漏水 | J15: 補修・補強材の破損 | M15: 0.08 | N15: 0.015 | O15: Ⅱb | P15: － | Q15: Ⅱb | R15: 否 | S15: 要監視 | T15: 未 | U15: ー | Y15: 継続監視
C16: S5 | E16: 1 | F16: 38.8 | G16: 覆工 | H16: アーチ（左側） | I16: 漏水 | J16: 補修・補強材の破損 | M16: 0.04 | N16: 0.015 | O16: Ⅱb | P16: － | Q16: Ⅱb | R16: 否 | S16: 要監視 | T16: 未 | U16: ー | Y16: 継続監視
C17: S5 | E17: 2 | F17: 42.4 | G17: 覆工 | H17: アーチ（左側） | I17: 材質劣化 | J17: うき・はく離 | M17: 0.02 | N17: 0.02 | O17: Ⅱb | P17: － | Q17: Ⅱb | R17: 否 | S17: 要監視 | T17: 未 | U17: ー | Y17: 継続監視
C18: S5 | E18: 3 | F18: 45.2 | G18: 覆工 | H18: アーチ（左側） | I18: 漏水 | J18: 補修・補強材の破損 | M18: 0.03 | N18: 0.02 | O18: Ⅱb | P18: － | Q18: Ⅱb | R18: 否 | S18: 要監視 | T18: 未 | U18: ー | Y18: 継続監視
C19: S5 | E19: 4 | F19: 48.1 | G19: 覆工 | H19: アーチ（左側） | I19: 材質劣化 | J19: うき・はく離 | M19: 0.01 | N19: 0.01 | O19: Ⅱb | P19: － | Q19: Ⅱb | R19: 否 | S19: 要監視 | T19: 未 | U19: ー | Y19: 継続監視
C20: S5 | E20: 5 | F20: 45.6 | G20: 覆工 | H20: アーチ（左側） | I20: 材質劣化 | J20: 圧ざ、ひび割れ | M20: 0.32 | N20: 0.32 | O20: Ⅱb | P20: － | Q20: Ⅱb | R20: 否 | S20: 要監視 | T20: 未 | U20: ー | Y20: 継続監視
C21: S5 | E21: 6 | F21: 39.3 | G21: 覆工 | H21: アーチ（天端） | I21: 材質劣化 | J21: うき・はく離 | M21: 0.04 | N21: 0.04 | O21: Ⅱb | P21: － | Q21: Ⅱb | R21: 否 | S21: 要監視 | T21: 未 | U21: ー | Y21: 継続監視
C22: S5 | E22: 7 | F22: 45 | G22: 覆工 | H22: アーチ（天端） | I22: 材質劣化 | J22: うき・はく離 | M22: 0.0225 | N22: 0.0225 | O22: Ⅱb | P22: － | Q22: Ⅱb | R22: 否 | S22: 要監視 | T22: 未 | U22: ー | Y22: 継続監視
C23: S5 | E23: 8 | F23: 41.6 | G23: 覆工 | H23: アーチ（天端） | I23: 漏水 | J23: 漏水 | M23: 4 | N23: - | O23: Ⅱb | P23: － | Q23: Ⅱb | R23: 否 | S23: 要監視 | T23: 未 | U23: ー | Y23: 継続監視
C24: S5 | E24: 9 | F24: 45 | G24: 覆工 | H24: アーチ（右側） | I24: 材質劣化 | J24: 圧ざ、ひび割れ | M24: 0.42 | N24: 0.4 | O24: Ⅱb | P24: － | Q24: Ⅱb | R24: 否 | S24: 要監視 | T24: 未 | U24: ー | Y24: 継続監視
C25: S5 | E25: 10 | F25: 43 | G25: 覆工 | H25: アーチ（右側） | I25: 材質劣化 | J25: うき・はく離 | M25: 0.01 | N25: 0.01 | O25: Ⅱb | P25: － | Q25: Ⅱb | R25: 否 | S25: 要監視 | T25: 未 | U25: ー | Y25: 継続監視
C26: S5 | E26: 11 | F26: 45.5 | G26: 覆工 | H26: アーチ（天端） | I26: 材質劣化 | J26: うき・はく離 | M26: 0.0125 | N26: 0.0125 | O26: Ⅲ | P26: － | Q26: Ⅲ | R26: 否 | S26: 要対策 | T26: 未 | U26: ー | Y26: はく落防止工
C27: S5 | E27: 12 | F27: 48.2 | G27: 覆工 | H27: アーチ（天端） | I27: 材質劣化 | J27: うき・はく離 | M27: 0.02 | N27: 0.02 | O27: Ⅲ | P27: － | Q27: Ⅲ | R27: 否 | S27: 要対策 | T27: 未 | U27: ー | Y27: はく落防止工
C28: S5 | E28: 13 | F28: 43.7 | G28: 覆工 | H28: 側壁（右側） | I28: 材質劣化 | J28: 圧ざ、ひび割れ | M28: 0.21 | N28: 0.21 | O28: Ⅱb | P28: － | Q28: Ⅱb | R28: 否 | S28: 要監視 | T28: 未 | U28: ー | Y28: 継続監視
C29: S5 | E29: 14 | F29: 45.7 | G29: 覆工 | H29: 側壁（右側） | I29: 漏水 | J29: 漏水 | M29: 1.1 | N29: （新規確認） | O29: － | P29: － | Q29: Ⅱb | R29: 否 | S29: 要監視 | T29: 未 | U29: ー | Y29: 監視
C30: S6 | E30: 1 | F30: 53.9 | G30: 覆工 | H30: 側壁（左側） | I30: 材質劣化 | J30: 圧ざ、ひび割れ | M30: 0.13 | N30: 0.23 | O30: Ⅱb | P30: － | Q30: Ⅱb | R30: 否 | S30: 要監視 | T30: 未 | U30: ー | Y30: 継続監視
C31: S6 | E31: 2 | F31: 55.9 | G31: 覆工 | H31: アーチ（左側） | I31: 材質劣化 | J31: 圧ざ、ひび割れ | M31: 0.18 | N31: 0.15 | O31: Ⅱb | P31: － | Q31: Ⅱb | R31: 否 | S31: 要監視 | T31: 未 | U31: ー | Y31: 継続監視
C32: S6 | E32: 3 | F32: 57.4 | G32: 覆工 | H32: アーチ（天端） | I32: 材質劣化 | J32: うき・はく離 | M32: 0.0125 | N32: 0.0125 | O32: Ⅱb | P32: － | Q32: Ⅱb | R32: 否 | S32: 要監視 | T32: 未 | U32: ー | Y32: 継続監視
C33: S6 | E33: 4 | F33: 57.4 | G33: 覆工 | H33: アーチ（天端） | I33: 材質劣化 | J33: うき・はく離 | M33: 0.09 | N33: 0.09 | O33: Ⅱb | P33: － | Q33: Ⅱb | R33: 否 | S33: 要監視 | T33: 未 | U33: ー | Y33: 継続監視
C34: S6 | E34: 5 | F34: 53 | G34: 覆工 | H34: アーチ（天端） | I34: 材質劣化 | J34: うき・はく離 | M34: 0.0075 | N34: 0.0075 | O34: Ⅲ | P34: － | Q34: Ⅲ | R34: 否 | S34: 要対策 | T34: 未 | U34: ー | Y34: はく落防止工
C35: S6 | E35: 6 | F35: 51.9 | G35: 覆工 | H35: アーチ（天端） | I35: 材質劣化 | J35: うき・はく離 | M35: 0.03 | N35: 0.03 | O35: Ⅲ | P35: － | Q35: Ⅲ | R35: 否 | S35: 要対策 | T35: 未 | U35: ー | Y35: はく落防止工
C36: S6 | E36: 7 | F36: 58.5 | G36: 覆工 | H36: アーチ（天端） | I36: 材質劣化 | J36: うき・はく離 | M36: 0.01 | N36: 0.01 | O36: Ⅱb | P36: － | Q36: Ⅱb | R36: 否 | S36: 要監視 | T36: 未 | U36: ー | Y36: 継続監視
C37: S6 | E37: 8 | F37: 53.4 | G37: 覆工 | H37: アーチ（右側） | I37: 材質劣化 | J37: うき・はく離 | M37: 0.01 | N37: 0.01 | O37: Ⅱb | P37: － | Q37: Ⅱb | R37: 否 | S37: 要監視 | T37: 未 | U37: ー | Y37: 継続監視
C38: S6 | E38: 9 | F38: 58.8 | G38: 覆工 | H38: アーチ（右側） | I38: 材質劣化 | J38: うき・はく離 | M38: 0.01 | N38: 0.01 | O38: Ⅱb | P38: － | Q38: Ⅱb | R38: 否 | S38: 要監視 | T38: 未 | U38: ー | Y38: 継続監視
C39: S6 | E39: 10 | F39: 50.1 | G39: 覆工 | H39: 水平打ち継ぎ目（右側） | I39: 材質劣化 | J39: うき・はく離 | M39: 0.03 | N39: 0.06 | O39: Ⅱb | P39: － | Q39: Ⅱb | R39: 否 | S39: 要監視 | T39: 未 | U39: ー | Y39: 継続監視
C40: S6 | E40: 11 | F40: 49.8 | G40: 覆工 | H40: 水平打ち継ぎ目（右側） | I40: 材質劣化 | J40: 圧ざ、ひび割れ | M40: 0.43 | N40: 0.39 | O40: Ⅱb | P40: － | Q40: Ⅱb | R40: 否 | S40: 要監視 | T40: 未 | U40: ー | Y40: 継続監視
C41: S6 | E41: 12 | F41: 53.2 | G41: 覆工 | H41: 側壁（右側） | I41: 材質劣化 | J41: 圧ざ、ひび割れ | M41: 0.23 | N41: 0.23 | O41: Ⅱb | P41: － | Q41: Ⅱb | R41: 否 | S41: 要監視 | T41: 未 | U41: ー | Y41: 継続監視
C42: ※ 対策区分（応急措置後）のⅡb～Ⅳについて記入すること。また、点検前に実施された措置によりⅠと判定された変状も記入すること。
C43: ※ 応急措置を実施しないで判定した変状の対策区分は、対策区分の応急措置後の欄に記入すること。
C44: ※ 変状の除去が不完全で、緊急対応が必要な場合は対応方針欄に記入すること。
C45: ※ １区間の覆工に複数の変状がある場合は、変状箇所毎に記入すること。
C46: ※ 措置・監視点検を行った場合には、措置履歴、特記事項に記録を残すこと。（実施年度も記載）
C47: ※ 行が不足する場合は、適時、表の行を増やすこと。

Sheet 様式C-1-1 (3)
B2: ■定期点検記録様式 全スパン定期点検結果総括表（トンネル本体工） 【様式C-1-1】
B3: フリガナ | F3: ='様式A-1'!D3 -> ヒコシマトンネル | I3: 路線名 | K3: ='様式A-1'!J3 -> 福浦港金毘羅線 | O3: 定期点検実施者 | P3: ='様式B (1)'!S3 -> アジア航測株式会社 | T3: 定期点検年月日 | X3: ='様式B (1)'!P2 -> 45896
B4: 名 称 | F4: ='様式A-1'!D4 -> 彦島トンネル | I4: 管理者名 | K4: ='様式A-1'!R3 -> 山口県 下関土木建築事務所 | P4: ='様式B (1)'!S4 -> 飯田 琢巳
C5: 覆工 スパン 番号 | E5: 変状 番号 | F5: 距離 （m） | G5: 変状部位 | I5: 変 状 の 内 容 | O5: 前回定期点検時の状態 | P5: 今回定期点検結果 | T5: 措置履歴 | Y5: 対応方針 ・ 特記事項
O6: 44271
G7: 対象箇所 | H7: 部位区分 | I7: 変状区分 | J7: 変状種類 | M7: 変状の発生範囲の規模 | N7: 前回定期点検時の変状の発生範囲及び規模 | O7: 対策区分 | P7: 対策区分 | R7: 調査の 要否 | S7: 措置の 要否 | T7: 実施 | U7: 措置の実施状況
P8: 応急措置前 | Q8: 応急措置後
B9: 定期点検結果 | C9: S6 | E9: 13 | F9: 50.8 | G9: 覆工 | H9: 側壁（左側） | I9: 漏水 | J9: 補修・補強材の破損 | M9: 0.03 | N9: （新規確認） | O9: － | P9: － | Q9: Ⅱb | R9: 否 | S9: 要監視 | T9: 未 | U9: ー | Y9: 監視
C10: S6 | E10: 14 | F10: 59.8 | G10: 覆工 | H10: 横断目地（左側） | I10: 漏水 | J10: 補修・補強材の破損 | M10: 0.05 | N10: （新規確認） | O10: － | P10: － | Q10: Ⅱb | R10: 否 | S10: 要監視 | T10: 未 | U10: ー | Y10: 監視
C11: S6 | E11: 15 | F11: 59.8 | G11: 覆工 | H11: 横断目地（右側） | I11: 漏水 | J11: 補修・補強材の破損 | M11: 0.06 | N11: （新規確認） | O11: － | P11: － | Q11: Ⅱb | R11: 否 | S11: 要監視 | T11: 未 | U11: ー | Y11: 監視
C12: S6 | E12: 16 | F12: 59.7 | G12: 覆工 | H12: 横断目地（右側） | I12: 漏水 | J12: 補修・補強材の破損 | M12: 0.04 | N12: （新規確認） | O12: － | P12: － | Q12: Ⅱb | R12: 否 | S12: 要監視 | T12: 未 | U12: ー | Y12: 監視
C13: S6 | E13: 17 | F13: 50.8 | G13: 覆工 | H13: 水平打ち継ぎ目（右側） | I13: 材質劣化 | J13: うき・はく離 | M13: 1.12 | N13: （新規確認） | O13: － | P13: － | Q13: Ⅱa | R13: 否 | S13: 要対策 | T13: 未 | U13: ー | Y13: はく落防止工
C14: S7 | E14: 1 | F14: 64 | G14: 覆工 | H14: 水平打ち継ぎ目（左側） | I14: 材質劣化 | J14: うき・はく離 | M14: 0.08 | N14: 0.08 | O14: Ⅱb | P14: － | Q14: Ⅱb | R14: 否 | S14: 要監視 | T14: 未 | U14: ー | Y14: 継続監視
C15: S7 | E15: 2 | F15: 66.8 | G15: 覆工 | H15: 側壁（左側） | I15: 材質劣化 | J15: 圧ざ、ひび割れ | M15: 0.2 | N15: 0.23 | O15: Ⅱb | P15: － | Q15: Ⅱb | R15: 否 | S15: 要監視 | T15: 未 | U15: ー | Y15: 継続監視
C16: S7 | E16: 3 | F16: 68.8 | G16: 覆工 | H16: 水平打ち継ぎ目（左側） | I16: 漏水 | J16: 補修・補強材の破損 | M16: 0.15 | N16: 0.14 | O16: Ⅱb | P16: － | Q16: Ⅱb | R16: 否 | S16: 要監視 | T16: 未 | U16: ー | Y16: 継続監視
C17: S7 | E17: 4 | F17: 59.8 | G17: 覆工 | H17: 水平打ち継ぎ目（左側） | I17: 漏水 | J17: 補修・補強材の破損 | M17: 0.02 | N17: 0.02 | O17: Ⅱb | P17: － | Q17: Ⅱb | R17: 否 | S17: 要監視 | T17: 未 | U17: ー | Y17: 継続監視
C18: S7 | E18: 5 | F18: 66.9 | G18: 覆工 | H18: アーチ（左側） | I18: 材質劣化 | J18: うき・はく離 | M18: 0.005 | N18: 0.005 | O18: Ⅲ | P18: － | Q18: Ⅲ | R18: 否 | S18: 要対策 | T18: 未 | U18: ー | Y18: はく落防止工
C19: S7 | E19: 6 | F19: 68.1 | G19: 覆工 | H19: アーチ（左側） | I19: 材質劣化 | J19: うき・はく離 | M19: 0.005 | N19: 0.005 | O19: Ⅱb | P19: － | Q19: Ⅱb | R19: 否 | S19: 要監視 | T19: 未 | U19: ー | Y19: 継続監視
C20: S7 | E20: 7 | F20: 60 | G20: 覆工 | H20: アーチ（全周） | I20: 材質劣化 | J20: 圧ざ、ひび割れ | M20: 0.49 | N20: 0.48 | O20: Ⅱb | P20: － | Q20: Ⅱb | R20: 否 | S20: 要監視 | T20: 未 | U20: ー | Y20: 継続監視
C21: S7 | E21: 8 | F21: 66.1 | G21: 覆工 | H21: アーチ（天端） | I21: 材質劣化 | J21: うき・はく離 | M21: 0.015 | N21: 0.015 | O21: Ⅲ | P21: － | Q21: Ⅲ | R21: 否 | S21: 要対策 | T21: 未 | U21: ー | Y21: はく落防止工
C22: S7 | E22: 9 | F22: 62.4 | G22: 覆工 | H22: アーチ（天端） | I22: 材質劣化 | J22: うき・はく離 | M22: 0.01 | N22: 0.01 | O22: Ⅲ | P22: － | Q22: Ⅲ | R22: 否 | S22: 要対策 | T22: 未 | U22: ー | Y22: はく落防止工
C23: S7 | E23: 10 | F23: 69.5 | G23: 覆工 | H23: アーチ（天端） | I23: 材質劣化 | J23: うき・はく離 | M23: 0.03 | N23: 0.03 | O23: Ⅲ | P23: － | Q23: Ⅲ | R23: 否 | S23: 要対策 | T23: 未 | U23: ー | Y23: はく落防止工
C24: S7 | E24: 11 | F24: 68.3 | G24: 覆工 | H24: アーチ（天端） | I24: 材質劣化 | J24: うき・はく離 | M24: 0.0075 | N24: 0.0075 | O24: Ⅲ | P24: － | Q24: Ⅲ | R24: 否 | S24: 要対策 | T24: 未 | U24: ー | Y24: はく落防止工
C25: S7 | E25: 12 | F25: 69.2 | G25: 覆工 | H25: アーチ（左側） | I25: 材質劣化 | J25: うき・はく離 | M25: 0.01 | N25: 0.01 | O25: Ⅱb | P25: － | Q25: Ⅱb | R25: 否 | S25: 要監視 | T25: 未 | U25: ー | Y25: 継続監視
C26: S7 | E26: 13 | F26: 63.6 | G26: 覆工 | H26: 側壁（右側） | I26: 材質劣化 | J26: 圧ざ、ひび割れ | M26: 0.23 | N26: 0.23 | O26: Ⅱb | P26: － | Q26: Ⅱb | R26: 否 | S26: 要監視 | T26: 未 | U26: ー | Y26: 継続監視
C27: S7 | E27: 14 | F27: 66.8 | G27: 覆工 | H27: 水平打ち継ぎ目（左側） | I27: 材質劣化 | J27: うき・はく離 | M27: 0.06 | N27: （新規確認） | O27: － | P27: － | Q27: Ⅱb | R27: 否 | S27: 要監視 | T27: 未 | U27: ー | Y27: 監視
C28: S7 | E28: 15 | F28: 66.7 | G28: 覆工 | H28: アーチ（天端） | I28: 材質劣化 | J28: うき・はく離 | M28: 0.02 | N28: （新規確認） | O28: － | P28: － | Q28: Ⅱb | R28: 否 | S28: 要監視 | T28: 未 | U28: ー | Y28: 監視
C29: S8 | E29: 1 | F29: 74.8 | G29: 覆工 | H29: 側壁（左側） | I29: 材質劣化 | J29: 圧ざ、ひび割れ | M29: 0.21 | N29: 0.22 | O29: Ⅱb | P29: － | Q29: Ⅱb | R29: 否 | S29: 要監視 | T29: 未 | U29: ー | Y29: 継続監視
C30: S8 | E30: 2 | F30: 74.3 | G30: 覆工 | H30: 水平打ち継ぎ目（左側） | I30: 材質劣化 | J30: うき・はく離 | M30: 0.42 | N30: 0.25 | O30: Ⅱb | P30: － | Q30: Ⅱa | R30: 否 | S30: 要対策 | T30: 未 | U30: ー | Y30: はく落防止工
C31: S8 | E31: 3 | F31: 70.3 | G31: 覆工 | H31: 横断目地（左側） | I31: 材質劣化 | J31: うき・はく離 | M31: 0.05 | N31: 0.05 | O31: Ⅱb | P31: － | Q31: Ⅱb | R31: 否 | S31: 要監視 | T31: 未 | U31: ー | Y31: 継続監視
C32: S8 | E32: 4 | F32: 73.3 | G32: 覆工 | H32: アーチ（左側） | I32: 材質劣化 | J32: 圧ざ、ひび割れ | M32: 0.44 | N32: 0.42 | O32: Ⅱb | P32: － | Q32: Ⅱb | R32: 否 | S32: 要監視 | T32: 未 | U32: ー | Y32: 継続監視
C33: S8 | E33: 5 | F33: 77.1 | G33: 覆工 | H33: アーチ（天端） | I33: 材質劣化 | J33: うき・はく離 | M33: 0.01 | N33: 0.01 | O33: Ⅱb | P33: － | Q33: Ⅱb | R33: 否 | S33: 要監視 | T33: 未 | U33: ー | Y33: 継続監視
C34: S8 | E34: 6 | F34: 70.3 | G34: 覆工 | H34: 横断目地（天端） | I34: 材質劣化 | J34: うき・はく離 | M34: 0.0175 | N34: 0.0175 | O34: Ⅱb | P34: － | Q34: Ⅰ | R34: 否 | S34: 否 | T34: 未 | U34: ー | Y34: 判定見直し
C35: S8 | E35: 7 | F35: 70.3 | G35: 覆工 | H35: 横断目地（天端） | I35: 材質劣化 | J35: うき・はく離 | M35: 0.015 | N35: 0.015 | O35: Ⅱb | P35: － | Q35: Ⅱb | R35: 否 | S35: 要監視 | T35: 未 | U35: ー | Y35: 継続監視
C36: S8 | E36: 8 | F36: 72 | G36: 覆工 | H36: アーチ（天端） | I36: 材質劣化 | J36: うき・はく離 | M36: 0.01 | N36: 0.01 | O36: Ⅱb | P36: － | Q36: Ⅱb | R36: 否 | S36: 要監視 | T36: 未 | U36: ー | Y36: 継続監視
C37: S8 | E37: 9 | F37: 74 | G37: 覆工 | H37: アーチ（右側） | I37: 材質劣化 | J37: 圧ざ、ひび割れ | M37: 0.57 | N37: 0.52 | O37: Ⅱb | P37: － | Q37: Ⅱb | R37: 否 | S37: 要監視 | T37: 未 | U37: ー | Y37: 継続監視
C38: S8 | E38: 10 | F38: 74.6 | G38: 覆工 | H38: 側壁（右側） | I38: 材質劣化 | J38: 圧ざ、ひび割れ | M38: 0.24 | N38: 0.22 | O38: Ⅱb | P38: － | Q38: Ⅱb | R38: 否 | S38: 要監視 | T38: 未 | U38: ー | Y38: 継続監視
C39: S8 | E39: 11 | F39: 71.9 | G39: 覆工 | H39: 水平打ち継ぎ目（左側） | I39: 材質劣化 | J39: うき・はく離 | M39: 0.135 | N39: （新規確認） | O39: － | P39: － | Q39: Ⅱb | R39: 否 | S39: 要監視 | T39: 未 | U39: ー | Y39: 監視
C40: S8 | E40: 12 | F40: 71.8 | G40: 覆工 | H40: 水平打ち継ぎ目（右側） | I40: 材質劣化 | J40: うき・はく離 | M40: 1.2 | N40: （新規確認） | O40: － | P40: － | Q40: Ⅱa | R40: 否 | S40: 要対策 | T40: 未 | U40: ー | Y40: はく落防止工
C41: S9 | E41: 1 | F41: 85.9 | G41: 覆工 | H41: 側壁（左側） | I41: 材質劣化 | J41: 圧ざ、ひび割れ | M41: 0.16 | N41: 0.23 | O41: Ⅱb | P41: － | Q41: Ⅱb | R41: 否 | S41: 要監視 | T41: 未 | U41: ー | Y41: 継続監視
C42: ※ 対策区分（応急措置後）のⅡb～Ⅳについて記入すること。また、点検前に実施された措置によりⅠと判定された変状も記入すること。
C43: ※ 応急措置を実施しないで判定した変状の対策区分は、対策区分の応急措置後の欄に記入すること。
C44: ※ 変状の除去が不完全で、緊急対応が必要な場合は対応方針欄に記入すること。
C45: ※ １区間の覆工に複数の変状がある場合は、変状箇所毎に記入すること。
C46: ※ 措置・監視点検を行った場合には、措置履歴、特記事項に記録を残すこと。（実施年度も記載）
C47: ※ 行が不足する場合は、適時、表の行を増やすこと。

Sheet 様式C-1-1 (4)
B2: ■定期点検記録様式 全スパン定期点検結果総括表（トンネル本体工） 【様式C-1-1】
B3: フリガナ | F3: ='様式A-1'!D3 -> ヒコシマトンネル | I3: 路線名 | K3: ='様式A-1'!J3 -> 福浦港金毘羅線 | O3: 定期点検実施者 | P3: ='様式B (1)'!S3 -> アジア航測株式会社 | T3: 定期点検年月日 | X3: ='様式B (1)'!P2 -> 45896
B4: 名 称 | F4: ='様式A-1'!D4 -> 彦島トンネル | I4: 管理者名 | K4: ='様式A-1'!R3 -> 山口県 下関土木建築事務所 | P4: ='様式B (1)'!S4 -> 飯田 琢巳
C5: 覆工 スパン 番号 | E5: 変状 番号 | F5: 距離 （m） | G5: 変状部位 | I5: 変 状 の 内 容 | O5: 前回定期点検時の状態 | P5: 今回定期点検結果 | T5: 措置履歴 | Y5: 対応方針 ・ 特記事項
O6: 44271
G7: 対象箇所 | H7: 部位区分 | I7: 変状区分 | J7: 変状種類 | M7: 変状の発生範囲の規模 | N7: 前回定期点検時の変状の発生範囲及び規模 | O7: 対策区分 | P7: 対策区分 | R7: 調査の 要否 | S7: 措置の 要否 | T7: 実施 | U7: 措置の実施状況
P8: 応急措置前 | Q8: 応急措置後
B9: 定期点検結果 | C9: S9 | E9: 2 | F9: 80.8 | G9: 覆工 | H9: 水平打ち継ぎ目（左側） | I9: 材質劣化 | J9: うき・はく離 | M9: 0.135 | N9: 0.06 | O9: Ⅱb | P9: － | Q9: Ⅱb | R9: 否 | S9: 要監視 | T9: 未 | U9: ー | Y9: 継続監視
C10: S9 | E10: 3 | F10: 82.5 | G10: 覆工 | H10: アーチ（全周） | I10: 材質劣化 | J10: 圧ざ、ひび割れ | M10: 0.66 | N10: 0.41 | O10: Ⅱb | P10: － | Q10: Ⅱb | R10: 否 | S10: 要監視 | T10: 未 | U10: ー | Y10: 継続監視
C11: S9 | E11: 4 | F11: 80.8 | G11: 覆工 | H11: 横断目地（天端） | I11: 材質劣化 | J11: うき・はく離 | M11: 0.0125 | N11: 0.0125 | O11: Ⅰ | P11: － | Q11: Ⅰ | R11: 否 | S11: 否 | T11: 未 | U11: ー
C12: S9 | E12: 5 | F12: 85 | G12: 覆工 | H12: 側壁（右側） | I12: 漏水 | J12: 漏水 | M12: 1.26 | N12: - | O12: Ⅱb | P12: － | Q12: Ⅱb | R12: 否 | S12: 要監視 | T12: 未 | U12: ー | Y12: 継続監視
C13: S10 | E13: 1 | F13: 101.8 | G13: 覆工 | H13: 横断目地（左側） | I13: 漏水 | J13: 漏水 | M13: 1.25 | N13: - | O13: Ⅱb | P13: － | Q13: Ⅱb | R13: 否 | S13: 要監視 | T13: 未 | U13: ー | Y13: 継続監視
C14: S10 | E14: 2 | F14: 95.4 | G14: 覆工 | H14: アーチ（左側） | I14: 材質劣化 | J14: うき・はく離 | M14: 0.01 | N14: 0.01 | O14: Ⅱb | P14: － | Q14: Ⅱb | R14: 否 | S14: 要監視 | T14: 未 | U14: ー | Y14: 継続監視
C15: S10 | E15: 3 | F15: 95.9 | G15: 覆工 | H15: アーチ（左側） | I15: 漏水 | J15: 漏水 | M15: 2.65 | N15: - | O15: Ⅱb | P15: － | Q15: Ⅱb | R15: 否 | S15: 要監視 | T15: 未 | U15: ー | Y15: 継続監視
C16: S10 | E16: 4 | F16: 95.7 | G16: 覆工 | H16: アーチ（左側） | I16: 漏水 | J16: 補修・補強材の破損 | M16: 0.02 | N16: 0.02 | O16: Ⅱb | P16: － | Q16: Ⅱb | R16: 否 | S16: 要監視 | T16: 未 | U16: ー | Y16: 継続監視
C17: S10 | E17: 5 | F17: 94.6 | G17: 覆工 | H17: アーチ（全周） | I17: 材質劣化 | J17: 圧ざ、ひび割れ | M17: 0.94 | N17: 0.95 | O17: Ⅱb | P17: － | Q17: Ⅱb | R17: 否 | S17: 要監視 | T17: 未 | U17: ー | Y17: 継続監視
C18: S10 | E18: 6 | F18: 95.4 | G18: 覆工 | H18: アーチ（右側） | I18: 材質劣化 | J18: うき・はく離 | M18: 0.01 | N18: 0.01 | O18: Ⅱb | P18: － | Q18: Ⅱb | R18: 否 | S18: 要監視 | T18: 未 | U18: ー | Y18: 継続監視
C19: S10 | E19: 7 | F19: 100.7 | G19: 覆工 | H19: アーチ（右側） | I19: 材質劣化 | J19: うき・はく離 | M19: 0.01 | N19: 0.01 | O19: Ⅱb | P19: － | Q19: Ⅱb | R19: 否 | S19: 要監視 | T19: 未 | U19: ー | Y19: 継続監視
C20: S10 | E20: 8 | F20: 95.3 | G20: 覆工 | H20: 側壁（右側） | I20: 材質劣化 | J20: 圧ざ、ひび割れ | M20: 0.23 | N20: 0.22 | O20: Ⅱb | P20: － | Q20: Ⅱb | R20: 否 | S20: 要監視 | T20: 未 | U20: ー | Y20: 継続監視
C21: S11 | E21: 1 | F21: 103.7 | G21: 覆工 | H21: アーチ（左側） | I21: 材質劣化 | J21: うき・はく離 | M21: 0.0125 | N21: 0.0125 | O21: Ⅱb | P21: － | Q21: Ⅱb | R21: 否 | S21: 要監視 | T21: 未 | U21: ー | Y21: 継続監視
C22: S11 | E22: 2 | F22: 104.7 | G22: 覆工 | H22: アーチ（左側） | I22: 漏水 | J22: 漏水 | M22: 1.6 | N22: - | O22: Ⅱb | P22: － | Q22: Ⅱb | R22: 否 | S22: 要監視 | T22: 未 | U22: ー | Y22: 継続監視
C23: S11 | E23: 3 | F23: 108.2 | G23: 覆工 | H23: アーチ（左側） | I23: 漏水 | J23: 漏水 | M23: 10.6 | N23: - | O23: Ⅱb | P23: － | Q23: Ⅱb | R23: 否 | S23: 要監視 | T23: 未 | U23: ー | Y23: 継続監視
C24: S11 | E24: 4 | F24: 106.2 | G24: 覆工 | H24: アーチ（全周） | I24: 材質劣化 | J24: 圧ざ、ひび割れ | M24: 0.42 | N24: 0.51 | O24: Ⅱb | P24: － | Q24: Ⅱb | R24: 否 | S24: 要監視 | T24: 未 | U24: ー | Y24: 継続監視
C25: S11 | E25: 5 | F25: 104.5 | G25: 覆工 | H25: 水平打ち継ぎ目（右側） | I25: 材質劣化 | J25: うき・はく離 | M25: 0.05 | N25: 0.04 | O25: Ⅱb | P25: － | Q25: Ⅱb | R25: 否 | S25: 要監視 | T25: 未 | U25: ー | Y25: 継続監視
C26: S11 | E26: 6 | F26: 105.1 | G26: 覆工 | H26: 側壁（右側） | I26: 材質劣化 | J26: 圧ざ、ひび割れ | M26: 0.23 | N26: 0.21 | O26: Ⅱb | P26: － | Q26: Ⅱb | R26: 否 | S26: 要監視 | T26: 未 | U26: ー | Y26: 継続監視
C27: S11 | E27: 7 | F27: 106.8 | G27: 路面 | H27: 歩道 | J27: その他 | M27: - | N27: - | O27: Ⅱb | R27: 否 | S27: 否 | T27: 未 | U27: ー
C28: S12 | E28: 1 | F28: 117.2 | G28: 覆工 | H28: 側壁（左側） | I28: 材質劣化 | J28: 圧ざ、ひび割れ | M28: 0.14 | N28: 0.23 | O28: Ⅱb | P28: － | Q28: Ⅱb | R28: 否 | S28: 要監視 | T28: 未 | U28: ー | Y28: 継続監視
C29: S12 | E29: 2 | F29: 116.7 | G29: 覆工 | H29: アーチ（全周） | I29: 漏水 | J29: 漏水 | M29: 15.15 | N29: - | O29: Ⅱb | P29: － | Q29: Ⅱb | R29: 否 | S29: 要監視 | T29: 未 | U29: ー | Y29: 継続監視
C30: S12 | E30: 3 | F30: 116.8 | G30: 覆工 | H30: アーチ（全周） | I30: 材質劣化 | J30: 圧ざ、ひび割れ | M30: 0.2 | N30: 0.21 | O30: Ⅱb | P30: － | Q30: Ⅱb | R30: 否 | S30: 要監視 | T30: 未 | U30: ー | Y30: 継続監視
C31: S12 | E31: 4 | F31: 113.7 | G31: 覆工 | H31: アーチ（右側） | I31: 材質劣化 | J31: うき・はく離 | M31: 0.01 | N31: 0.01 | O31: Ⅱb | P31: － | Q31: Ⅱb | R31: 否 | S31: 要監視 | T31: 未 | U31: ー | Y31: 継続監視
C32: S12 | E32: 5 | F32: 114.1 | G32: 覆工 | H32: アーチ（右側） | I32: 材質劣化 | J32: うき・はく離 | M32: 0.065 | N32: 0.06 | O32: Ⅲ | P32: － | Q32: Ⅲ | R32: 否 | S32: 要対策 | T32: 未 | U32: ー | Y32: はく落防止工
C33: S12 | E33: 6 | F33: 113.7 | G33: 覆工 | H33: 水平打ち継ぎ目（右側） | I33: 材質劣化 | J33: うき・はく離 | M33: 0.05 | N33: 0.025 | O33: Ⅱb | P33: － | Q33: Ⅱb | R33: 否 | S33: 要監視 | T33: 未 | U33: ー | Y33: 継続監視
C34: S12 | E34: 7 | F34: 116.3 | G34: 覆工 | H34: 側壁（右側） | I34: 材質劣化 | J34: 圧ざ、ひび割れ | M34: 0.23 | N34: 0.22 | O34: Ⅱb | P34: － | Q34: Ⅱb | R34: 否 | S34: 要監視 | T34: 未 | U34: ー | Y34: 継続監視
C35: S13 | E35: 1 | F35: 130 | G35: 覆工 | H35: アーチ（左側） | I35: 材質劣化 | J35: 圧ざ、ひび割れ | M35: 0.41 | N35: 0.39 | O35: Ⅱb | P35: － | Q35: Ⅱb | R35: 否 | S35: 要監視 | T35: 未 | U35: ー | Y35: 継続監視
C36: S13 | E36: 2 | F36: 133.3 | G36: 覆工 | H36: 横断目地（左側） | I36: 漏水 | J36: 漏水 | M36: 3.25 | N36: - | O36: Ⅱb | P36: － | Q36: Ⅱb | R36: 否 | S36: 要監視 | T36: 未 | U36: ー | Y36: 継続監視
C37: S13 | E37: 3 | F37: 122.9 | G37: 覆工 | H37: アーチ（右側） | I37: 材質劣化 | J37: うき・はく離 | M37: 0.015 | N37: 0.015 | O37: Ⅱb | P37: － | Q37: Ⅱb | R37: 否 | S37: 要監視 | T37: 未 | U37: ー | Y37: 継続監視
C38: S13 | E38: 4 | F38: 133.3 | G38: 覆工 | H38: アーチ（右側） | I38: 材質劣化 | J38: うき・はく離 | M38: 0.01 | N38: 0.01 | O38: Ⅱb | P38: － | Q38: Ⅰ | R38: 否 | S38: 否 | T38: 未 | U38: ー | Y38: （補修済）
C39: S13 | E39: 5 | F39: 132.2 | G39: 覆工 | H39: アーチ（右側） | I39: 材質劣化 | J39: うき・はく離 | M39: 0.01 | N39: 0.01 | O39: Ⅱb | P39: － | Q39: Ⅱb | R39: 否 | S39: 要監視 | T39: 未 | U39: ー | Y39: 継続監視
C40: S13 | E40: 6 | F40: 128.2 | G40: 覆工 | H40: アーチ（右側） | I40: 材質劣化 | J40: 圧ざ、ひび割れ | M40: 0.53 | N40: 0.52 | O40: Ⅱb | P40: － | Q40: Ⅱb | R40: 否 | S40: 要監視 | T40: 未 | U40: ー | Y40: 継続監視
C41: S13 | E41: 7 | F41: 127.4 | G41: 覆工 | H41: 側壁（左側） | I41: 漏水 | J41: 漏水 | M41: 2 | N41: （新規確認） | O41: － | P41: － | Q41: Ⅱb | R41: 否 | S41: 要監視 | T41: 未 | U41: ー | Y41: 監視
C42: ※ 対策区分（応急措置後）のⅡb～Ⅳについて記入すること。また、点検前に実施された措置によりⅠと判定された変状も記入すること。
C43: ※ 応急措置を実施しないで判定した変状の対策区分は、対策区分の応急措置後の欄に記入すること。
C44: ※ 変状の除去が不完全で、緊急対応が必要な場合は対応方針欄に記入すること。
C45: ※ １区間の覆工に複数の変状がある場合は、変状箇所毎に記入すること。
C46: ※ 措置・監視点検を行った場合には、措置履歴、特記事項に記録を残すこと。（実施年度も記載）
C47: ※ 行が不足する場合は、適時、表の行を増やすこと。

Sheet 様式C-1-1 (5)
B2: ■定期点検記録様式 全スパン定期点検結果総括表（トンネル本体工） 【様式C-1-1】
B3: フリガナ | F3: ='様式A-1'!D3 -> ヒコシマトンネル | I3: 路線名 | K3: ='様式A-1'!J3 -> 福浦港金毘羅線 | O3: 定期点検実施者 | P3: ='様式B (1)'!S3 -> アジア航測株式会社 | T3: 定期点検年月日 | X3: ='様式B (1)'!P2 -> 45896
B4: 名 称 | F4: ='様式A-1'!D4 -> 彦島トンネル | I4: 管理者名 | K4: ='様式A-1'!R3 -> 山口県 下関土木建築事務所 | P4: ='様式B (1)'!S4 -> 飯田 琢巳
C5: 覆工 スパン 番号 | E5: 変状 番号 | F5: 距離 （m） | G5: 変状部位 | I5: 変 状 の 内 容 | O5: 前回定期点検時の状態 | P5: 今回定期点検結果 | T5: 措置履歴 | Y5: 対応方針 ・ 特記事項
O6: 44271
G7: 対象箇所 | H7: 部位区分 | I7: 変状区分 | J7: 変状種類 | M7: 変状の発生範囲の規模 | N7: 前回定期点検時の変状の発生範囲及び規模 | O7: 対策区分 | P7: 対策区分 | R7: 調査の 要否 | S7: 措置の 要否 | T7: 実施 | U7: 措置の実施状況
P8: 応急措置前 | Q8: 応急措置後
B9: 定期点検結果 | C9: S13 | E9: 8 | F9: 133.3 | G9: 覆工 | H9: 横断目地（天端） | I9: 漏水 | J9: 補修・補強材の破損 | M9: 0.02 | N9: （新規確認） | O9: － | P9: － | Q9: Ⅱb | R9: 否 | S9: 要監視 | T9: 未 | U9: ー | Y9: 監視
C10: S14 | E10: 1 | F10: 138.9 | G10: 覆工 | H10: 側壁（左側） | I10: 材質劣化 | J10: 圧ざ、ひび割れ | M10: 0.23 | N10: 0.21 | O10: Ⅱb | P10: － | Q10: Ⅱb | R10: 否 | S10: 要監視 | T10: 未 | U10: ー | Y10: 継続監視
C11: S14 | E11: 2 | F11: 134.7 | G11: 覆工 | H11: アーチ（左側） | I11: 材質劣化 | J11: 圧ざ、ひび割れ | M11: 0.29 | N11: 0.25 | O11: Ⅱb | P11: － | Q11: Ⅱb | R11: 否 | S11: 要監視 | T11: 未 | U11: ー | Y11: 継続監視
C12: S14 | E12: 3 | F12: 143.6 | G12: 覆工 | H12: 横断目地（左側） | I12: 材質劣化 | J12: うき・はく離 | M12: 0.01 | N12: 0.01 | O12: Ⅱb | P12: － | Q12: Ⅱb | R12: 否 | S12: 要監視 | T12: 未 | U12: ー | Y12: 継続監視
C13: S14 | E13: 4 | F13: 142.5 | G13: 覆工 | H13: アーチ（左側） | I13: 材質劣化 | J13: うき・はく離 | M13: 0.01 | N13: 0.01 | O13: Ⅱb | P13: － | Q13: Ⅱb | R13: 否 | S13: 要監視 | T13: 未 | U13: ー | Y13: 継続監視
C14: S14 | E14: 5 | F14: 134.4 | G14: 覆工 | H14: アーチ（右側） | I14: 材質劣化 | J14: うき・はく離 | M14: 0.02 | N14: 0.02 | O14: Ⅱb | P14: － | Q14: Ⅱb | R14: 否 | S14: 要監視 | T14: 未 | U14: ー | Y14: 継続監視
C15: S14 | E15: 6 | F15: 134 | G15: 覆工 | H15: アーチ（右側） | I15: 材質劣化 | J15: 圧ざ、ひび割れ | M15: 0.19 | N15: 0.22 | O15: Ⅱb | P15: － | Q15: Ⅱb | R15: 否 | S15: 要監視 | T15: 未 | U15: ー | Y15: 継続監視
C16: S14 | E16: 7 | F16: 135.2 | G16: 覆工 | H16: アーチ（右側） | I16: 材質劣化 | J16: うき・はく離 | M16: 0.025 | N16: 0.025 | O16: Ⅲ | P16: － | Q16: Ⅲ | R16: 否 | S16: 要対策 | T16: 未 | U16: ー | Y16: はく落防止工
C17: S14 | E17: 8 | F17: 137.4 | G17: 覆工 | H17: アーチ（右側） | I17: 材質劣化 | J17: うき・はく離 | M17: 0.01 | N17: 0.01 | O17: Ⅱb | P17: － | Q17: Ⅱb | R17: 否 | S17: 要監視 | T17: 未 | U17: ー | Y17: 継続監視
C18: S14 | E18: 9 | F18: 138.9 | G18: 覆工 | H18: アーチ（右側） | I18: 材質劣化 | J18: うき・はく離 | M18: 0.005 | N18: 0.005 | O18: Ⅲ | P18: － | Q18: Ⅲ | R18: 否 | S18: 要対策 | T18: 未 | U18: ー | Y18: はく落防止工
C19: S15 | E19: 1 | F19: 152.8 | G19: 覆工 | H19: 側壁（左側） | I19: 材質劣化 | J19: うき・はく離 | M19: 0.03 | N19: 0.03 | O19: Ⅱb | P19: － | Q19: Ⅱb | R19: 否 | S19: 要監視 | T19: 未 | U19: ー | Y19: 継続監視
C20: S15 | E20: 2 | F20: 145.4 | G20: 覆工 | H20: アーチ（左側） | I20: 漏水 | J20: 漏水 | M20: 3.2 | N20: - | O20: Ⅱb | P20: － | Q20: Ⅱb | R20: 否 | S20: 要監視 | T20: 未 | U20: ー | Y20: 継続監視
C21: S15 | E21: 3 | F21: 151.2 | G21: 覆工 | H21: アーチ（左側） | I21: 漏水 | J21: 漏水 | M21: 3.55 | N21: - | O21: Ⅱb | P21: － | Q21: Ⅱb | R21: 否 | S21: 要監視 | T21: 未 | U21: ー | Y21: 継続監視
C22: S15 | E22: 4 | F22: 149.1 | G22: 覆工 | H22: アーチ（全周） | I22: 材質劣化 | J22: 圧ざ、ひび割れ | M22: 0.11 | N22: 0.13 | O22: Ⅱb | P22: － | Q22: Ⅱb | R22: 否 | S22: 要監視 | T22: 未 | U22: ー | Y22: 継続監視
C23: S15 | E23: 5 | F23: 145.4 | G23: 覆工 | H23: アーチ（天端） | I23: 材質劣化 | J23: うき・はく離 | M23: 0.01 | N23: 0.01 | O23: Ⅱb | P23: － | Q23: Ⅱb | R23: 否 | S23: 要監視 | T23: 未 | U23: ー | Y23: 継続監視
C24: S15 | E24: 6 | F24: 148 | G24: 覆工 | H24: アーチ（右側） | I24: 材質劣化 | J24: うき・はく離 | M24: 0.01 | N24: 0.01 | O24: Ⅱb | P24: － | Q24: Ⅱb | R24: 否 | S24: 要監視 | T24: 未 | U24: ー | Y24: 継続監視
C25: S15 | E25: 7 | F25: 149.9 | G25: 覆工 | H25: アーチ（右側） | I25: 材質劣化 | J25: うき・はく離 | M25: 0.01 | N25: 0.01 | O25: Ⅱb | P25: － | Q25: Ⅱb | R25: 否 | S25: 要監視 | T25: 未 | U25: ー | Y25: 継続監視
C26: S15 | E26: 8 | F26: 148.8 | G26: 覆工 | H26: 水平打ち継ぎ目（右側） | I26: 材質劣化 | J26: うき・はく離 | M26: 0.58 | N26: 0.38 | O26: Ⅱb | P26: － | Q26: Ⅱa | R26: 否 | S26: 要対策 | T26: 未 | U26: ー | Y26: はく落防止工
C27: S15 | E27: 9 | F27: 149.9 | G27: 覆工 | H27: 側壁（右側） | I27: 材質劣化 | J27: 圧ざ、ひび割れ | M27: 0.13 | N27: 0.14 | O27: Ⅱb | P27: － | Q27: Ⅱb | R27: 否 | S27: 要監視 | T27: 未 | U27: ー | Y27: 継続監視
C28: S15 | E28: 10 | F28: 144 | G28: 覆工 | H28: 水平打ち継ぎ目（左側） | I28: 漏水 | J28: 補修・補強材の破損 | M28: 0.2 | N28: （新規確認） | O28: － | P28: － | Q28: Ⅱb | R28: 否 | S28: 要監視 | T28: 未 | U28: ー | Y28: 監視
C29: S15 | E29: 11 | F29: 154.3 | G29: 覆工 | H29: 横断目地（左側） | I29: 漏水 | J29: 補修・補強材の破損 | M29: 0.23 | N29: （新規確認） | O29: － | P29: － | Q29: Ⅱb | R29: 否 | S29: 要監視 | T29: 未 | U29: ー | Y29: 監視
C30: S15 | E30: 12 | F30: 154.3 | G30: 覆工 | H30: 横断目地（左側） | I30: 漏水 | J30: 補修・補強材の破損 | M30: 0.15 | N30: （新規確認） | O30: － | P30: － | Q30: Ⅱb | R30: 否 | S30: 要監視 | T30: 未 | U30: ー | Y30: 監視
C31: S15 | E31: 13 | F31: 154.3 | G31: 覆工 | H31: アーチ（天端） | I31: 漏水 | J31: 補修・補強材の破損 | M31: 0.11 | N31: （新規確認） | O31: － | P31: － | Q31: Ⅱb | R31: 否 | S31: 要監視 | T31: 未 | U31: ー | Y31: 監視
C32: S15 | E32: 14 | F32: 153.3 | G32: 覆工 | H32: 水平打ち継ぎ目（右側） | I32: 漏水 | J32: 補修・補強材の破損 | M32: 0.03 | N32: （新規確認） | O32: － | P32: － | Q32: Ⅱb | R32: 否 | S32: 要監視 | T32: 未 | U32: ー | Y32: 監視
C33: S15 | E33: 15 | F33: 152.8 | G33: 覆工 | H33: 側壁（右側） | I33: 漏水 | J33: 補修・補強材の破損 | M33: 0.17 | N33: （新規確認） | O33: － | P33: － | Q33: Ⅱb | R33: 否 | S33: 要監視 | T33: 未 | U33: ー | Y33: 監視
C34: S16 | E34: 1 | F34: 154.3 | G34: 覆工 | H34: アーチ（全周） | I34: 材質劣化 | J34: 圧ざ、ひび割れ | M34: 0.35 | N34: 0.35 | O34: Ⅱb | P34: － | Q34: Ⅱb | R34: 否 | S34: 要監視 | T34: 未 | U34: ー | Y34: 継続監視
C35: S16 | E35: 2 | F35: 163.1 | G35: 覆工 | H35: アーチ（左側） | I35: 材質劣化 | J35: うき・はく離 | M35: 0.003 | N35: 0.003 | O35: Ⅱb | P35: － | Q35: Ⅱb | R35: 否 | S35: 要監視 | T35: 未 | U35: ー | Y35: 継続監視
C36: S16 | E36: 3 | F36: 158.4 | G36: 覆工 | H36: アーチ（右側） | I36: 材質劣化 | J36: うき・はく離 | M36: 0.01 | N36: 0.01 | O36: Ⅱb | P36: － | Q36: Ⅱb | R36: 否 | S36: 要監視 | T36: 未 | U36: ー | Y36: 継続監視
C37: S16 | E37: 4 | F37: 164.8 | G37: 覆工 | H37: 横断目地（右側） | I37: 漏水 | J37: 補修・補強材の破損 | M37: 0.11 | N37: （新規確認） | O37: － | P37: － | Q37: Ⅱb | R37: 否 | S37: 要監視 | T37: 未 | U37: ー | Y37: 監視
C38: S16 | E38: 5 | F38: 154.3 | G38: 覆工 | H38: 横断目地（右側） | I38: 漏水 | J38: 補修・補強材の破損 | M38: 0.16 | N38: （新規確認） | O38: － | P38: － | Q38: Ⅱb | R38: 否 | S38: 要監視 | T38: 未 | U38: ー | Y38: 監視
C39: S16 | E39: 6 | F39: 155.9 | G39: 覆工 | H39: 水平打ち継ぎ目（右側） | I39: 材質劣化 | J39: うき・はく離 | M39: 0.82 | N39: （新規確認） | O39: － | P39: － | Q39: Ⅱa | R39: 否 | S39: 要対策 | T39: 未 | U39: ー | Y39: はく落防止工
C40: S16 | E40: 7 | F40: 163 | G40: 覆工 | H40: 水平打ち継ぎ目（右側） | I40: 材質劣化 | J40: うき・はく離 | M40: 0.03 | N40: （新規確認） | O40: － | P40: － | Q40: Ⅱb | R40: 否 | S40: 要監視 | T40: 未 | U40: ー | Y40: 監視
C41: S16 | E41: 8 | F41: 164.8 | G41: 覆工 | H41: 横断目地（右側） | I41: 漏水 | J41: 補修・補強材の破損 | M41: 0.03 | N41: （新規確認） | O41: － | P41: － | Q41: Ⅱb | R41: 否 | S41: 要監視 | T41: 未 | U41: ー | Y41: 監視
C42: ※ 対策区分（応急措置後）のⅡb～Ⅳについて記入すること。また、点検前に実施された措置によりⅠと判定された変状も記入すること。
C43: ※ 応急措置を実施しないで判定した変状の対策区分は、対策区分の応急措置後の欄に記入すること。
C44: ※ 変状の除去が不完全で、緊急対応が必要な場合は対応方針欄に記入すること。
C45: ※ １区間の覆工に複数の変状がある場合は、変状箇所毎に記入すること。
C46: ※ 措置・監視点検を行った場合には、措置履歴、特記事項に記録を残すこと。（実施年度も記載）
C47: ※ 行が不足する場合は、適時、表の行を増やすこと。

Sheet 様式C-1-1 (6)
B2: ■定期点検記録様式 全スパン定期点検結果総括表（トンネル本体工） 【様式C-1-1】
B3: フリガナ | F3: ='様式A-1'!D3 -> ヒコシマトンネル | I3: 路線名 | K3: ='様式A-1'!J3 -> 福浦港金毘羅線 | O3: 定期点検実施者 | P3: ='様式B (1)'!S3 -> アジア航測株式会社 | T3: 定期点検年月日 | X3: ='様式B (1)'!P2 -> 45896
B4: 名 称 | F4: ='様式A-1'!D4 -> 彦島トンネル | I4: 管理者名 | K4: ='様式A-1'!R3 -> 山口県 下関土木建築事務所 | P4: ='様式B (1)'!S4 -> 飯田 琢巳
C5: 覆工 スパン 番号 | E5: 変状 番号 | F5: 距離 （m） | G5: 変状部位 | I5: 変 状 の 内 容 | O5: 前回定期点検時の状態 | P5: 今回定期点検結果 | T5: 措置履歴 | Y5: 対応方針 ・ 特記事項
O6: 44271
G7: 対象箇所 | H7: 部位区分 | I7: 変状区分 | J7: 変状種類 | M7: 変状の発生範囲の規模 | N7: 前回定期点検時の変状の発生範囲及び規模 | O7: 対策区分 | P7: 対策区分 | R7: 調査の 要否 | S7: 措置の 要否 | T7: 実施 | U7: 措置の実施状況
P8: 応急措置前 | Q8: 応急措置後
B9: 定期点検結果 | C9: S17 | E9: 1 | F9: 168.8 | G9: 覆工 | H9: 側壁（左側） | I9: 材質劣化 | J9: 圧ざ、ひび割れ | M9: 0.23 | N9: 0.24 | O9: Ⅱb | P9: － | Q9: Ⅱb | R9: 否 | S9: 要監視 | T9: 未 | U9: ー | Y9: 継続監視
C10: S17 | E10: 2 | F10: 173.9 | G10: 覆工 | H10: 水平打ち継ぎ目（左側） | I10: 漏水 | J10: 補修・補強材の破損 | M10: 0.24 | N10: 0.165 | O10: Ⅱa | P10: － | Q10: Ⅱa | R10: 否 | S10: 要対策 | T10: 未 | U10: ー | Y10: 導水工施工
C11: S17 | E11: 3 | F11: 164.8 | G11: 覆工 | H11: アーチ（全周） | I11: 材質劣化 | J11: 圧ざ、ひび割れ | M11: 0.67 | N11: 0.67 | O11: Ⅱb | P11: － | Q11: Ⅱb | R11: 否 | S11: 要監視 | T11: 未 | U11: ー | Y11: 継続監視
C12: S17 | E12: 4 | F12: 168.8 | G12: 覆工 | H12: アーチ（左側） | I12: 材質劣化 | J12: うき・はく離 | M12: 0.01 | N12: 0.01 | O12: Ⅱb | P12: － | Q12: Ⅱb | R12: 否 | S12: 要監視 | T12: 未 | U12: ー | Y12: 継続監視
C13: S17 | E13: 5 | F13: 164.9 | G13: 覆工 | H13: アーチ（右側） | I13: 材質劣化 | J13: うき・はく離 | M13: 0.06 | N13: 0.06 | O13: Ⅱb | P13: － | Q13: Ⅱb | R13: 否 | S13: 要監視 | T13: 未 | U13: ー | Y13: 継続監視
C14: S17 | E14: 6 | F14: 173.9 | G14: 覆工 | H14: 水平打ち継ぎ目（右側） | I14: 漏水 | J14: 補修・補強材の破損 | M14: 0.2 | N14: 0.18 | O14: Ⅱa | P14: － | Q14: Ⅱa | R14: 否 | S14: 要対策 | T14: 未 | U14: ー | Y14: 導水工施工
C15: S17 | E15: 7 | F15: 175.3 | G15: 覆工 | H15: 横断目地（天端） | I15: 漏水 | J15: 補修・補強材の破損 | M15: 0.06 | N15: （新規確認） | O15: － | P15: － | Q15: Ⅱb | R15: 否 | S15: 要監視 | T15: 未 | U15: ー | Y15: 監視
C16: S17 | E16: 8 | F16: 175.3 | G16: 覆工 | H16: 横断目地（右側） | I16: 漏水 | J16: 補修・補強材の破損 | M16: 0.28 | N16: （新規確認） | O16: － | P16: － | Q16: Ⅱb | R16: 否 | S16: 要監視 | T16: 未 | U16: ー | Y16: 監視
C17: S17 | E17: 9 | F17: 166.2 | G17: 覆工 | H17: 側壁（右側） | I17: 漏水 | J17: 補修・補強材の破損 | M17: 0.07 | N17: （新規確認） | O17: － | P17: － | Q17: Ⅱb | R17: 否 | S17: 要監視 | T17: 未 | U17: ー | Y17: 監視
C18: S17 | E18: 10 | F18: 169 | G18: 覆工 | H18: 水平打ち継ぎ目（右側） | I18: 材質劣化 | J18: うき・はく離 | M18: 0.12 | N18: （新規確認） | O18: － | P18: － | Q18: Ⅱb | R18: 否 | S18: 要監視 | T18: 未 | U18: ー | Y18: 監視
C19: S17 | E19: 11 | F19: 171 | G19: 覆工 | H19: 水平打ち継ぎ目（右側） | I19: 材質劣化 | J19: うき・はく離 | M19: 0.21 | N19: （新規確認） | O19: － | P19: － | Q19: Ⅱb | R19: 否 | S19: 要監視 | T19: 未 | U19: ー | Y19: 監視
C20: S17 | E20: 12 | F20: 173.4 | G20: 覆工 | H20: 側壁（右側） | I20: 材質劣化 | J20: うき・はく離 | M20: 0.08 | N20: （新規確認） | O20: － | P20: － | Q20: Ⅱb | R20: 否 | S20: 要監視 | T20: 未 | U20: ー | Y20: 監視
C21: S17 | E21: 13 | F21: 173.7 | G21: 覆工 | H21: 側壁（右側） | I21: 漏水 | J21: 補修・補強材の破損 | M21: 0.19 | N21: （新規確認） | O21: － | P21: － | Q21: Ⅱb | R21: 否 | S21: 要監視 | T21: 未 | U21: ー | Y21: 監視
C22: S18 | E22: 1 | F22: 175.9 | G22: 覆工 | H22: 水平打ち継ぎ目（左側） | I22: 漏水 | J22: 補修・補強材の破損 | M22: 0.18 | N22: 0.22 | O22: Ⅱa | P22: － | Q22: Ⅱa | R22: 否 | S22: 要対策 | T22: 未 | U22: ー | Y22: 導水工施工
C23: S18 | E23: 2 | F23: 179.3 | G23: 覆工 | H23: アーチ（左側） | I23: 材質劣化 | J23: うき・はく離 | M23: 0.01 | N23: 0.01 | O23: Ⅱb | P23: － | Q23: Ⅱb | R23: 否 | S23: 要監視 | T23: 未 | U23: ー | Y23: 継続監視
C24: S18 | E24: 3 | F24: 181.3 | G24: 覆工 | H24: アーチ（左側） | I24: 材質劣化 | J24: 鋼材腐食 | M24: 0.0025 | N24: 0.0025 | O24: Ⅱb | P24: － | Q24: Ⅱb | R24: 否 | S24: 要監視 | T24: 未 | U24: ー | Y24: 継続監視
C25: S18 | E25: 4 | F25: 184.6 | G25: 覆工 | H25: アーチ（左側） | I25: 材質劣化 | J25: うき・はく離 | M25: 0.01 | N25: 0.01 | O25: Ⅱb | P25: － | Q25: Ⅱb | R25: 否 | S25: 要監視 | T25: 未 | U25: ー | Y25: 継続監視
C26: S18 | E26: 5 | F26: 175.9 | G26: 覆工 | H26: アーチ（左側） | I26: 材質劣化 | J26: うき・はく離 | M26: 0.0225 | N26: 0.0225 | O26: Ⅱb | P26: － | Q26: Ⅱb | R26: 否 | S26: 要監視 | T26: 未 | U26: ー | Y26: 継続監視
C27: S18 | E27: 6 | F27: 179.9 | G27: 覆工 | H27: アーチ（天端） | I27: 材質劣化 | J27: うき・はく離 | M27: 0.0375 | N27: 0.0375 | O27: Ⅱb | P27: － | Q27: Ⅱb | R27: 否 | S27: 要監視 | T27: 未 | U27: ー | Y27: 継続監視
C28: S18 | E28: 7 | F28: 182.1 | G28: 覆工 | H28: アーチ（天端） | I28: 材質劣化 | J28: うき・はく離 | M28: 0.005 | N28: 0.005 | O28: Ⅱb | P28: － | Q28: Ⅱb | R28: 否 | S28: 要監視 | T28: 未 | U28: ー | Y28: 継続監視
C29: S18 | E29: 8 | F29: 185.7 | G29: 覆工 | H29: 横断目地（天端） | I29: 材質劣化 | J29: うき・はく離 | M29: 0.01 | N29: 0.01 | O29: Ⅱb | P29: － | Q29: Ⅱb | R29: 否 | S29: 要監視 | T29: 未 | U29: ー | Y29: 継続監視
C30: S18 | E30: 9 | F30: 180.3 | G30: 覆工 | H30: アーチ（全周） | I30: 材質劣化 | J30: 圧ざ、ひび割れ | M30: 0.53 | N30: 0.47 | O30: Ⅱb | P30: － | Q30: Ⅱb | R30: 否 | S30: 要監視 | T30: 未 | U30: ー | Y30: 継続監視
C31: S18 | E31: 10 | F31: 179.4 | G31: 覆工 | H31: アーチ（右側） | I31: 材質劣化 | J31: うき・はく離 | M31: 0.01 | N31: 0.01 | O31: Ⅱb | P31: － | Q31: Ⅱb | R31: 否 | S31: 要監視 | T31: 未 | U31: ー | Y31: 継続監視
C32: S18 | E32: 11 | F32: 175.8 | G32: 覆工 | H32: 水平打ち継ぎ目（右側） | I32: 漏水 | J32: 補修・補強材の破損 | M32: 0.2 | N32: 0.2 | O32: Ⅱa | P32: － | Q32: Ⅱa | R32: 否 | S32: 要対策 | T32: 未 | U32: ー | Y32: 導水工施工
C33: S18 | E33: 12 | F33: 185.3 | G33: 覆工 | H33: 水平打ち継ぎ目（右側） | I33: 漏水 | J33: 補修・補強材の破損 | M33: 0.15 | N33: 0.04 | O33: Ⅱa | P33: － | Q33: Ⅱa | R33: 否 | S33: 要対策 | T33: 未 | U33: ー | Y33: 導水工施工
C34: S18 | E34: 13 | F34: 179.8 | G34: 覆工 | H34: 水平打ち継ぎ目（左側） | I34: 材質劣化 | J34: うき・はく離 | M34: 0.045 | N34: （新規確認） | O34: － | P34: － | Q34: Ⅱb | R34: 否 | S34: 要監視 | T34: 未 | U34: ー | Y34: 監視
C35: S18 | E35: 14 | F35: 185.8 | G35: 覆工 | H35: 横断目地（左側） | I35: 漏水 | J35: 補修・補強材の破損 | M35: 0.15 | N35: （新規確認） | O35: － | P35: － | Q35: Ⅱb | R35: 否 | S35: 要監視 | T35: 未 | U35: ー | Y35: 監視
C36: S18 | E36: 15 | F36: 176.9 | G36: 覆工 | H36: 水平打ち継ぎ目（右側） | I36: 材質劣化 | J36: うき・はく離 | M36: 0.045 | N36: （新規確認） | O36: － | P36: － | Q36: Ⅱb | R36: 否 | S36: 要監視 | T36: 未 | U36: ー | Y36: 監視
C37: S18 | E37: 16 | F37: 179.2 | G37: 覆工 | H37: 水平打ち継ぎ目（右側） | I37: 材質劣化 | J37: うき・はく離 | M37: 0.465 | N37: （新規確認） | O37: － | P37: － | Q37: Ⅱa | R37: 否 | S37: 要対策 | T37: 未 | U37: ー | Y37: はく落防止工
C38: S18 | E38: 17 | F38: 184.1 | G38: 覆工 | H38: 水平打ち継ぎ目（右側） | I38: 材質劣化 | J38: うき・はく離 | M38: 0.015 | N38: （新規確認） | O38: － | P38: － | Q38: Ⅱb | R38: 否 | S38: 要監視 | T38: 未 | U38: ー | Y38: 監視
C39: S19 | E39: 1 | F39: 191.1 | G39: 覆工 | H39: 側壁（左側） | I39: 材質劣化 | J39: 圧ざ、ひび割れ | M39: 0.21 | N39: 0.22 | O39: Ⅱb | P39: － | Q39: Ⅱb | R39: 否 | S39: 要監視 | T39: 未 | U39: ー | Y39: 継続監視
C40: S19 | E40: 2 | F40: 187.3 | G40: 覆工 | H40: 水平打ち継ぎ目（左側） | I40: 材質劣化 | J40: うき・はく離 | M40: 0.33 | N40: 0.35 | O40: Ⅱb | P40: － | Q40: Ⅱa | R40: 否 | S40: 要対策 | T40: 未 | U40: ー | Y40: はく落防止工
C41: S19 | E41: 3 | F41: 188.3 | G41: 覆工 | H41: アーチ（左側） | I41: 材質劣化 | J41: うき・はく離 | M41: 0.0045 | N41: 0.0045 | O41: Ⅱb | P41: － | Q41: Ⅱb | R41: 否 | S41: 要監視 | T41: 未 | U41: ー | Y41: 継続監視
C42: ※ 対策区分（応急措置後）のⅡb～Ⅳについて記入すること。また、点検前に実施された措置によりⅠと判定された変状も記入すること。
C43: ※ 応急措置を実施しないで判定した変状の対策区分は、対策区分の応急措置後の欄に記入すること。
C44: ※ 変状の除去が不完全で、緊急対応が必要な場合は対応方針欄に記入すること。
C45: ※ １区間の覆工に複数の変状がある場合は、変状箇所毎に記入すること。
C46: ※ 措置・監視点検を行った場合には、措置履歴、特記事項に記録を残すこと。（実施年度も記載）
C47: ※ 行が不足する場合は、適時、表の行を増やすこと。

Sheet 様式C-1-1 (7)
B2: ■定期点検記録様式 全スパン定期点検結果総括表（トンネル本体工） 【様式C-1-1】
B3: フリガナ | F3: ='様式A-1'!D3 -> ヒコシマトンネル | I3: 路線名 | K3: ='様式A-1'!J3 -> 福浦港金毘羅線 | O3: 定期点検実施者 | P3: ='様式B (1)'!S3 -> アジア航測株式会社 | T3: 定期点検年月日 | X3: ='様式B (1)'!P2 -> 45896
B4: 名 称 | F4: ='様式A-1'!D4 -> 彦島トンネル | I4: 管理者名 | K4: ='様式A-1'!R3 -> 山口県 下関土木建築事務所 | P4: ='様式B (1)'!S4 -> 飯田 琢巳
C5: 覆工 スパン 番号 | E5: 変状 番号 | F5: 距離 （m） | G5: 変状部位 | I5: 変 状 の 内 容 | O5: 前回定期点検時の状態 | P5: 今回定期点検結果 | T5: 措置履歴 | Y5: 対応方針 ・ 特記事項
O6: 44271
G7: 対象箇所 | H7: 部位区分 | I7: 変状区分 | J7: 変状種類 | M7: 変状の発生範囲の規模 | N7: 前回定期点検時の変状の発生範囲及び規模 | O7: 対策区分 | P7: 対策区分 | R7: 調査の 要否 | S7: 措置の 要否 | T7: 実施 | U7: 措置の実施状況
P8: 応急措置前 | Q8: 応急措置後
B9: 定期点検結果 | C9: S19 | E9: 4 | F9: 185.9 | G9: 覆工 | H9: アーチ（左側） | I9: 材質劣化 | J9: 圧ざ、ひび割れ | M9: 1.09 | N9: 1.05 | O9: Ⅱb | P9: － | Q9: Ⅱb | R9: 否 | S9: 要監視 | T9: 未 | U9: ー | Y9: 継続監視
C10: S19 | E10: 5 | F10: 185.9 | G10: 覆工 | H10: アーチ（右側） | I10: 材質劣化 | J10: うき・はく離 | M10: 0.12 | N10: 0.12 | O10: Ⅲ | P10: － | Q10: Ⅲ | R10: 否 | S10: 要対策 | T10: 未 | U10: ー | Y10: はく落防止工
C11: S19 | E11: 6 | F11: 191.6 | G11: 覆工 | H11: アーチ（右側） | I11: 材質劣化 | J11: 圧ざ、ひび割れ | M11: 0.54 | N11: 0.51 | O11: Ⅱb | P11: － | Q11: Ⅱb | R11: 否 | S11: 要監視 | T11: 未 | U11: ー | Y11: 継続監視
C12: S19 | E12: 7 | F12: 195.2 | G12: 覆工 | H12: アーチ（右側） | I12: 材質劣化 | J12: うき・はく離 | M12: 0.01 | N12: 0.01 | O12: Ⅱb | P12: － | Q12: Ⅱb | R12: 否 | S12: 要監視 | T12: 未 | U12: ー | Y12: 継続監視
C13: S19 | E13: 8 | F13: 190.7 | G13: 覆工 | H13: 水平打ち継ぎ目（右側） | I13: 材質劣化 | J13: うき・はく離 | M13: 0.6 | N13: 0.06 | O13: Ⅱb | P13: － | Q13: Ⅱa | R13: 否 | S13: 要対策 | T13: 未 | U13: ー | Y13: はく落防止工
C14: S19 | E14: 9 | F14: 191.3 | G14: 覆工 | H14: 側壁（右側） | I14: 材質劣化 | J14: 圧ざ、ひび割れ | M14: 0.23 | N14: 0.19 | O14: Ⅱb | P14: － | Q14: Ⅱb | R14: 否 | S14: 要監視 | T14: 未 | U14: ー | Y14: 継続監視
C15: S19 | E15: 10 | F15: 196.2 | G15: 覆工 | H15: 横断目地（左側） | I15: 漏水 | J15: 補修・補強材の破損 | M15: 0.04 | N15: （新規確認） | O15: － | P15: － | Q15: Ⅱb | R15: 否 | S15: 要監視 | T15: 未 | U15: ー | Y15: 継続監視
C16: S19 | E16: 11 | F16: 187.4 | G16: 覆工 | H16: 水平打ち継ぎ目（右側） | I16: 材質劣化 | J16: うき・はく離 | M16: 0.03 | N16: （新規確認） | O16: － | P16: － | Q16: Ⅱb | R16: 否 | S16: 要監視 | T16: 未 | U16: ー | Y16: 継続監視
C17: S19 | E17: 12 | F17: 196.2 | G17: 覆工 | H17: 横断目地（右側） | I17: 漏水 | J17: 補修・補強材の破損 | M17: 0.14 | N17: （新規確認） | O17: － | P17: － | Q17: Ⅱb | R17: 否 | S17: 要監視 | T17: 未 | U17: ー | Y17: 継続監視
C18: S20 | E18: 1 | F18: 201.3 | G18: 覆工 | H18: 側壁（左側） | I18: 材質劣化 | J18: 圧ざ、ひび割れ | M18: 0.23 | N18: 0.24 | O18: Ⅱb | P18: － | Q18: Ⅱb | R18: 否 | S18: 要監視 | T18: 未 | U18: ー | Y18: 継続監視
C19: S20 | E19: 2 | F19: 200 | G19: 覆工 | H19: アーチ（天端） | I19: 材質劣化 | J19: うき・はく離 | M19: 0.01 | N19: 0.01 | O19: Ⅱb | P19: － | Q19: Ⅱb | R19: 否 | S19: 要監視 | T19: 未 | U19: ー | Y19: 継続監視
C20: S20 | E20: 3 | F20: 198.7 | G20: 覆工 | H20: アーチ（全周） | I20: 材質劣化 | J20: 圧ざ、ひび割れ | M20: 0.9 | N20: 0.86 | O20: Ⅱb | P20: － | Q20: Ⅱb | R20: 否 | S20: 要監視 | T20: 未 | U20: ー | Y20: 継続監視
C21: S20 | E21: 4 | F21: 197.9 | G21: 覆工 | H21: 水平打ち継ぎ目（右側） | I21: 材質劣化 | J21: うき・はく離 | M21: 1.4 | N21: 0.065 | O21: Ⅱb | P21: － | Q21: Ⅱa | R21: 否 | S21: 要対策 | T21: 未 | U21: ー | Y21: はく落防止工
C22: S20 | E22: 5 | F22: 201.8 | G22: 覆工 | H22: 側壁（右側） | I22: 材質劣化 | J22: 圧ざ、ひび割れ | M22: 0.24 | N22: 0.22 | O22: Ⅱb | P22: － | Q22: Ⅱb | R22: 否 | S22: 要監視 | T22: 未 | U22: ー | Y22: 継続監視
C23: S20 | E23: 6 | F23: 197.8 | G23: 覆工 | H23: 水平打ち継ぎ目（左側） | I23: 材質劣化 | J23: うき・はく離 | M23: 2.22 | N23: （新規確認） | O23: － | P23: － | Q23: Ⅱa | R23: 否 | S23: 要対策 | T23: 未 | U23: ー | Y23: はく落防止工
C24: S20 | E24: 7 | F24: 206.7 | G24: 覆工 | H24: 横断目地（右側） | I24: 漏水 | J24: 補修・補強材の破損 | M24: 0.04 | N24: （新規確認） | O24: － | P24: － | Q24: Ⅱb | R24: 否 | S24: 要監視 | T24: 未 | U24: ー | Y24: 監視
C25: S21 | E25: 1 | F25: 210.5 | G25: 覆工 | H25: 側壁（左側） | I25: 材質劣化 | J25: 圧ざ、ひび割れ | M25: 0.23 | N25: 0.24 | O25: Ⅱb | P25: － | Q25: Ⅱb | R25: 否 | S25: 要監視 | T25: 未 | U25: ー | Y25: 継続監視
C26: S21 | E26: 2 | F26: 210.6 | G26: 覆工 | H26: 側壁（左側） | I26: 材質劣化 | J26: うき・はく離 | M26: 0.02 | N26: 0.02 | O26: Ⅱb | P26: － | Q26: Ⅰ | R26: 否 | S26: 否 | T26: 未 | U26: ー | Y26: 判定見直し
C27: S21 | E27: 3 | F27: 208.4 | G27: 覆工 | H27: 水平打ち継ぎ目（左側） | I27: 材質劣化 | J27: うき・はく離 | M27: 2.22 | N27: 0.11 | O27: Ⅱb | P27: － | Q27: Ⅱa | R27: 否 | S27: 要対策 | T27: 未 | U27: ー | Y27: はく落防止工
C28: S21 | E28: 4 | F28: 206.9 | G28: 覆工 | H28: アーチ（全周） | I28: 材質劣化 | J28: 圧ざ、ひび割れ | M28: 0.8 | N28: 0.78 | O28: Ⅱb | P28: － | Q28: Ⅱb | R28: 否 | S28: 要監視 | T28: 未 | U28: ー | Y28: 継続監視
C29: S21 | E29: 5 | F29: 208.5 | G29: 覆工 | H29: 横断目地（天端） | I29: 材質劣化 | J29: うき・はく離 | M29: 0.01 | N29: 0.01 | O29: Ⅱb | P29: － | Q29: Ⅱb | R29: 否 | S29: 要監視 | T29: 未 | U29: ー | Y29: 継続監視
C30: S21 | E30: 6 | F30: 216.3 | G30: 覆工 | H30: アーチ（右側） | I30: 材質劣化 | J30: うき・はく離 | M30: 0.01 | N30: 0.01 | O30: Ⅱb | P30: － | Q30: Ⅱb | R30: 否 | S30: 要監視 | T30: 未 | U30: ー | Y30: 継続監視
C31: S21 | E31: 7 | F31: 208.4 | G31: 覆工 | H31: 水平打ち継ぎ目（右側） | I31: 材質劣化 | J31: うき・はく離 | M31: 2.22 | N31: 0.025 | O31: Ⅱb | P31: － | Q31: Ⅱa | R31: 否 | S31: 要対策 | T31: 未 | U31: ー | Y31: はく落防止工
C32: S22 | E32: 1 | F32: 221.6 | G32: 覆工 | H32: 側壁（左側） | I32: 材質劣化 | J32: 圧ざ、ひび割れ | M32: 0.22 | N32: 0.23 | O32: Ⅱb | P32: － | Q32: Ⅱb | R32: 否 | S32: 要監視 | T32: 未 | U32: ー | Y32: 継続監視
C33: S22 | E33: 2 | F33: 223.5 | G33: 覆工 | H33: アーチ（左側） | I33: 材質劣化 | J33: 圧ざ、ひび割れ | M33: 0.62 | N33: 0.62 | O33: Ⅱb | P33: － | Q33: Ⅱb | R33: 否 | S33: 要監視 | T33: 未 | U33: ー | Y33: 継続監視
C34: S22 | E34: 3 | F34: 217.5 | G34: 覆工 | H34: アーチ（右側） | I34: 材質劣化 | J34: うき・はく離 | M34: 0.05 | N34: 0.045 | O34: Ⅱb | P34: － | Q34: Ⅱb | R34: 否 | S34: 要監視 | T34: 未 | U34: ー | Y34: 継続監視
C35: S22 | E35: 4 | F35: 219.3 | G35: 覆工 | H35: アーチ（右側） | I35: 材質劣化 | J35: うき・はく離 | M35: 0.0175 | N35: 0.0175 | O35: Ⅱb | P35: － | Q35: Ⅰ | R35: 否 | S35: 否 | T35: 未 | U35: ー | Y35: （補修済）
C36: S22 | E36: 5 | F36: 224.2 | G36: 覆工 | H36: アーチ（右側） | I36: 材質劣化 | J36: 圧ざ、ひび割れ | M36: 0.31 | N36: 0.34 | O36: Ⅱb | P36: － | Q36: Ⅱb | R36: 否 | S36: 要監視 | T36: 未 | U36: ー | Y36: 継続監視
... C38: S22 | E38: 7 | F38: 222.8 | G38: 覆工 | H38: 側壁（右側） | I38: 材質劣化 | J38: 圧ざ、ひび割れ | M38: 0.22 | N38: 0.22 | O38: Ⅱb | P38: － | Q38: Ⅱb | R38: 否 | S38: 要監視 | T38: 未 | U38: ー | Y38: 継続監視
C39: S22 | E39: 8 | F39: 218.9 | G39: 覆工 | H39: 水平打ち継ぎ目（左側） | I39: 材質劣化 | J39: うき・はく離 | M39: 1.11 | N39: （新規確認） | O39: － | P39: － | Q39: Ⅱa | R39: 否 | S39: 要対策 | T39: 未 | U39: ー | Y39: はく落防止工
C40: S22 | E40: 9 | F40: 218.9 | G40: 覆工 | H40: 水平打ち継ぎ目（右側） | I40: 材質劣化 | J40: うき・はく離 | M40: 1.48 | N40: （新規確認） | O40: － | P40: － | Q40: Ⅱa | R40: 否 | S40: 要対策 | T40: 未 | U40: ー | Y40: はく落防止工
C41: S23 | E41: 1 | F41: 232.5 | G41: 覆工 | H41: 側壁（左側） | I41: 材質劣化 | J41: 圧ざ、ひび割れ | M41: 0.18 | N41: 0.2 | O41: Ⅱb | P41: － | Q41: Ⅱb | R41: 否 | S41: 要監視 | T41: 未 | U41: ー | Y41: 継続監視
C42: ※ 対策区分（応急措置後）のⅡb～Ⅳについて記入すること。また、点検前に実施された措置によりⅠと判定された変状も記入すること。
C43: ※ 応急措置を実施しないで判定した変状の対策区分は、対策区分の応急措置後の欄に記入すること。
C44: ※ 変状の除去が不完全で、緊急対応が必要な場合は対応方針欄に記入すること。
C45: ※ １区間の覆工に複数の変状がある場合は、変状箇所毎に記入すること。
C46: ※ 措置・監視点検を行った場合には、措置履歴、特記事項に記録を残すこと。（実施年度も記載）
C47: ※ 行が不足する場合は、適時、表の行を増やすこと。

Sheet 様式C-1-1 (8)
B2: ■定期点検記録様式 全スパン定期点検結果総括表（トンネル本体工） 【様式C-1-1】
B3: フリガナ | F3: ='様式A-1'!D3 -> ヒコシマトンネル | I3: 路線名 | K3: ='様式A-1'!J3 -> 福浦港金毘羅線 | O3: 定期点検実施者 | P3: ='様式B (1)'!S3 -> アジア航測株式会社 | T3: 定期点検年月日 | X3: ='様式B (1)'!P2 -> 45896
B4: 名 称 | F4: ='様式A-1'!D4 -> 彦島トンネル | I4: 管理者名 | K4: ='様式A-1'!R3 -> 山口県 下関土木建築事務所 | P4: ='様式B (1)'!S4 -> 飯田 琢巳
C5: 覆工 スパン 番号 | E5: 変状 番号 | F5: 距離 （m） | G5: 変状部位 | I5: 変 状 の 内 容 | O5: 前回定期点検時の状態 | P5: 今回定期点検結果 | T5: 措置履歴 | Y5: 対応方針 ・ 特記事項
O6: 44271
G7: 対象箇所 | H7: 部位区分 | I7: 変状区分 | J7: 変状種類 | M7: 変状の発生範囲の規模 | N7: 前回定期点検時の変状の発生範囲及び規模 | O7: 対策区分 | P7: 対策区分 | R7: 調査の 要否 | S7: 措置の 要否 | T7: 実施 | U7: 措置の実施状況
P8: 応急措置前 | Q8: 応急措置後
B9: 定期点検結果 | C9: S23 | E9: 2 | F9: 233.2 | G9: 覆工 | H9: 水平打ち継ぎ目（左側） | I9: 材質劣化 | J9: うき・はく離 | M9: 0.03 | N9: 0.03 | O9: Ⅱb | P9: － | Q9: Ⅰ | R9: 否 | S9: 否 | T9: 未 | U9: ー | Y9: 判定見直し
C10: S23 | E10: 3 | F10: 228 | G10: 覆工 | H10: アーチ（左側） | I10: 材質劣化 | J10: 圧ざ、ひび割れ | M10: 0.27 | N10: 0.24 | O10: Ⅱb | P10: － | Q10: Ⅱb | R10: 否 | S10: 要監視 | T10: 未 | U10: ー | Y10: 継続監視
C11: S23 | E11: 4 | F11: 238.3 | G11: 覆工 | H11: 横断目地（左側） | I11: 漏水 | J11: 補修・補強材の破損 | M11: 0.0225 | N11: 0.04 | O11: Ⅱb | P11: － | Q11: Ⅱb | R11: 否 | S11: 要監視 | T11: 未 | U11: ー | Y11: 継続監視
C12: S23 | E12: 5 | F12: 227.9 | G12: 覆工 | H12: アーチ（右側） | I12: 材質劣化 | J12: 圧ざ、ひび割れ | M12: 0.42 | N12: 0.39 | O12: Ⅱb | P12: － | Q12: Ⅱb | R12: 否 | S12: 要監視 | T12: 未 | U12: ー | Y12: 継続監視
C13: S23 | E13: 6 | F13: 232 | G13: 覆工 | H13: アーチ（右側） | I13: 材質劣化 | J13: うき・はく離 | M13: 0.01 | N13: 0.01 | O13: Ⅱb | P13: － | Q13: Ⅱb | R13: 否 | S13: 要監視 | T13: 未 | U13: ー | Y13: 継続監視
C14: S23 | E14: 7 | F14: 237.3 | G14: 覆工 | H14: アーチ（右側） | I14: 材質劣化 | J14: うき・はく離 | M14: 0.01 | N14: 0.01 | O14: Ⅱb | P14: － | Q14: Ⅱb | R14: 否 | S14: 要監視 | T14: 未 | U14: ー | Y14: 継続監視
C15: S23 | E15: 8 | F15: 232.5 | G15: 覆工 | H15: 側壁（右側） | I15: 材質劣化 | J15: 圧ざ、ひび割れ | M15: 0.24 | N15: 0.22 | O15: Ⅱb | P15: － | Q15: Ⅱb | R15: 否 | S15: 要監視 | T15: 未 | U15: ー | Y15: 継続監視
C16: S23 | E16: 9 | F16: 233.8 | G16: 覆工 | H16: 水平打ち継ぎ目（左側） | I16: 材質劣化 | J16: うき・はく離 | M16: 0.17 | N16: （新規確認） | O16: － | P16: － | Q16: Ⅱb | R16: 否 | S16: 要監視 | T16: 未 | U16: ー | Y16: 監視
C17: S23 | E17: 10 | F17: 238.3 | G17: 覆工 | H17: 横断目地（右側） | I17: 漏水 | J17: 補修・補強材の破損 | M17: 0.04 | N17: （新規確認） | O17: － | P17: － | Q17: Ⅱb | R17: 否 | S17: 要監視 | T17: 未 | U17: ー | Y17: 監視
C18: S24 | E18: 1 | F18: 243.5 | G18: 覆工 | H18: 側壁（左側） | I18: 材質劣化 | J18: 圧ざ、ひび割れ | M18: 0.13 | N18: 0.12 | O18: Ⅱb | P18: － | Q18: Ⅱb | R18: 否 | S18: 要監視 | T18: 未 | U18: ー | Y18: 継続監視
C19: S24 | E19: 2 | F19: 238.4 | G19: 覆工 | H19: アーチ（全周） | I19: 材質劣化 | J19: 圧ざ、ひび割れ | M19: 0.43 | N19: 0.4 | O19: Ⅱb | P19: － | Q19: Ⅱb | R19: 否 | S19: 要監視 | T19: 未 | U19: ー | Y19: 継続監視
C20: S24 | E20: 3 | F20: 238.4 | G20: 覆工 | H20: アーチ（右側） | I20: 材質劣化 | J20: 圧ざ、ひび割れ | M20: 0.31 | N20: 0.27 | O20: Ⅱb | P20: － | Q20: Ⅱb | R20: 否 | S20: 要監視 | T20: 未 | U20: ー | Y20: 継続監視
C21: S24 | E21: 4 | F21: 241 | G21: 覆工 | H21: アーチ（右側） | I21: 材質劣化 | J21: うき・はく離 | M21: 0.0375 | N21: 0.0375 | O21: Ⅱb | P21: － | Q21: Ⅱb | R21: 否 | S21: 要監視 | T21: 未 | U21: ー | Y21: 継続監視
C22: S24 | E22: 5 | F22: 242.5 | G22: 覆工 | H22: アーチ（右側） | I22: 材質劣化 | J22: うき・はく離 | M22: 0.01 | N22: 0.01 | O22: Ⅱb | P22: － | Q22: Ⅱb | R22: 否 | S22: 要監視 | T22: 未 | U22: ー | Y22: 継続監視
C23: S24 | E23: 6 | F23: 247.8 | G23: 覆工 | H23: アーチ（右側） | I23: 材質劣化 | J23: うき・はく離 | M23: 0.01 | N23: 0.01 | O23: Ⅱb | P23: － | Q23: Ⅱb | R23: 否 | S23: 要監視 | T23: 未 | U23: ー | Y23: 継続監視
C24: S24 | E24: 7 | F24: 243 | G24: 覆工 | H24: 側壁（右側） | I24: 材質劣化 | J24: 圧ざ、ひび割れ | M24: 0.14 | N24: 0.11 | O24: Ⅱb | P24: － | Q24: Ⅱb | R24: 否 | S24: 要監視 | T24: 未 | U24: ー | Y24: 継続監視
C25: S24 | E25: 8 | F25: 240.2 | G25: 覆工 | H25: 水平打ち継ぎ目（右側） | I25: 材質劣化 | J25: うき・はく離 | M25: 1.48 | N25: （新規確認） | O25: － | P25: － | Q25: Ⅱa | R25: 否 | S25: 要対策 | T25: 未 | U25: ー | Y25: はく落防止工
C26: S25 | E26: 1 | F26: 249.9 | G26: 覆工 | H26: 水平打ち継ぎ目（左側） | I26: 漏水 | J26: 補修・補強材の破損 | M26: 0.1 | N26: 0.045 | O26: Ⅱb | P26: － | Q26: Ⅱb | R26: 否 | S26: 要監視 | T26: 未 | U26: ー | Y26: 継続監視
C27: S25 | E27: 2 | F27: 250.4 | G27: 覆工 | H27: 水平打ち継ぎ目（左側） | I27: 材質劣化 | J27: うき・はく離 | M27: 0.08 | N27: 0.06 | O27: Ⅱb | P27: － | Q27: Ⅱb | R27: 否 | S27: 要監視 | T27: 未 | U27: ー | Y27: 継続監視
C28: S25 | E28: 3 | F28: 254.1 | G28: 覆工 | H28: 側壁（左側） | I28: 材質劣化 | J28: 圧ざ、ひび割れ | M28: 0.23 | N28: 0.24 | O28: Ⅱb | P28: － | Q28: Ⅱb | R28: 否 | S28: 要監視 | T28: 未 | U28: ー | Y28: 継続監視
C29: S25 | E29: 4 | F29: 257.4 | G29: 覆工 | H29: 水平打ち継ぎ目（左側） | I29: 材質劣化 | J29: うき・はく離 | M29: 0.075 | N29: 0.04 | O29: Ⅱb | P29: － | Q29: Ⅱb | R29: 否 | S29: 要監視 | T29: 未 | U29: ー | Y29: 継続監視
C30: S25 | E30: 5 | F30: 258 | G30: 覆工 | H30: 水平打ち継ぎ目（左側） | I30: 漏水 | J30: 補修・補強材の破損 | M30: 0.06 | N30: 0.06 | O30: Ⅱa | P30: － | Q30: Ⅱa | R30: 否 | S30: 要対策 | T30: 未 | U30: ー | Y30: 導水工施工
C31: S25 | E31: 6 | F31: 249 | G31: 覆工 | H31: アーチ（全周） | I31: 材質劣化 | J31: 圧ざ、ひび割れ | M31: 0.57 | N31: 0.58 | O31: Ⅱb | P31: － | Q31: Ⅱb | R31: 否 | S31: 要監視 | T31: 未 | U31: ー | Y31: 継続監視
C32: S25 | E32: 7 | F32: 249 | G32: 覆工 | H32: アーチ（右側） | I32: 材質劣化 | J32: うき・はく離 | M32: 0.0625 | N32: 0.0625 | O32: Ⅱb | P32: － | Q32: Ⅱb | R32: 否 | S32: 要監視 | T32: 未 | U32: ー | Y32: 継続監視
C33: S25 | E33: 8 | F33: 253.4 | G33: 覆工 | H33: 側壁（右側） | I33: 材質劣化 | J33: 圧ざ、ひび割れ | M33: 0.22 | N33: 0.21 | O33: Ⅱb | P33: － | Q33: Ⅱb | R33: 否 | S33: 要監視 | T33: 未 | U33: ー | Y33: 継続監視
C34: S25 | E34: 9 | F34: 251.6 | G34: 覆工 | H34: 水平打ち継ぎ目（左側） | I34: 材質劣化 | J34: うき・はく離 | M34: 0.06 | N34: （新規確認） | O34: － | P34: － | Q34: Ⅱb | R34: 否 | S34: 要監視 | T34: 未 | U34: ー | Y34: 継続監視
C35: S25 | E35: 10 | F35: 250.4 | G35: 覆工 | H35: 水平打ち継ぎ目（右側） | I35: 材質劣化 | J35: うき・はく離 | M35: 1.48 | N35: （新規確認） | O35: － | P35: － | Q35: Ⅱa | R35: 否 | S35: 要対策 | T35: 未 | U35: ー | Y35: はく落防止工
C36: S26 | E36: 1 | F36: 265.1 | G36: 覆工 | H36: 側壁（左側） | I36: 材質劣化 | J36: 圧ざ、ひび割れ | M36: 0.22 | N36: 0.22 | O36: Ⅱb | P36: － | Q36: Ⅱb | R36: 否 | S36: 要監視 | T36: 未 | U36: ー | Y36: 継続監視
C37: S26 | E37: 2 | F37: 263.2 | G37: 覆工 | H37: アーチ（左側） | I37: 漏水 | J37: 漏水 | M37: 2.3 | N37: - | O37: Ⅱb | P37: － | Q37: Ⅱb | R37: 否 | S37: 要監視 | T37: 未 | U37: ー | Y37: 継続監視
C38: S26 | E38: 3 | F38: 268.6 | G38: 覆工 | H38: アーチ（左側） | I38: 材質劣化 | J38: うき・はく離 | M38: 0.01 | N38: 0.01 | O38: Ⅱb | P38: － | Q38: Ⅱb | R38: 否 | S38: 要監視 | T38: 未 | U38: ー | Y38: 継続監視
C39: S26 | E39: 4 | F39: 259.5 | G39: 覆工 | H39: アーチ（全周） | I39: 材質劣化 | J39: 圧ざ、ひび割れ | M39: 0.38 | N39: 0.39 | O39: Ⅱb | P39: － | Q39: Ⅱb | R39: 否 | S39: 要監視 | T39: 未 | U39: ー | Y39: 継続監視
C40: S26 | E40: 5 | F40: 264.7 | G40: 覆工 | H40: 水平打ち継ぎ目（右側） | I40: 材質劣化 | J40: うき・はく離 | M40: 0.54 | N40: 0.075 | O40: Ⅱb | P40: － | Q40: Ⅱa | R40: 否 | S40: 要対策 | T40: 未 | U40: ー | Y40: はく落防止工
C41: S26 | E41: 6 | F41: 269.8 | G41: 覆工 | H41: 横断目地（右側） | I41: 漏水 | J41: 補修・補強材の破損 | M41: 0.045 | N41: 0.03 | O41: Ⅱa | P41: － | Q41: Ⅱa | R41: 否 | S41: 要対策 | T41: 未 | U41: ー | Y41: 導水工施工
C42: ※ 対策区分（応急措置後）のⅡb～Ⅳについて記入すること。また、点検前に実施された措置によりⅠと判定された変状も記入すること。
C43: ※ 応急措置を実施しないで判定した変状の対策区分は、対策区分の応急措置後の欄に記入すること。
C44: ※ 変状の除去が不完全で、緊急対応が必要な場合は対応方針欄に記入すること。
C45: ※ １区間の覆工に複数の変状がある場合は、変状箇所毎に記入すること。
C46: ※ 措置・監視点検を行った場合には、措置履歴、特記事項に記録を残すこと。（実施年度も記載）
C47: ※ 行が不足する場合は、適時、表の行を増やすこと。

Sheet 様式C-1-1 (9)
B2: ■定期点検記録様式 全スパン定期点検結果総括表（トンネル本体工） 【様式C-1-1】
B3: フリガナ | F3: ='様式A-1'!D3 -> ヒコシマトンネル | I3: 路線名 | K3: ='様式A-1'!J3 -> 福浦港金毘羅線 | O3: 定期点検実施者 | P3: ='様式B (1)'!S3 -> アジア航測株式会社 | T3: 定期点検年月日 | X3: ='様式B (1)'!P2 -> 45896
B4: 名 称 | F4: ='様式A-1'!D4 -> 彦島トンネル | I4: 管理者名 | K4: ='様式A-1'!R3 -> 山口県 下関土木建築事務所 | P4: ='様式B (1)'!S4 -> 飯田 琢巳
C5: 覆工 スパン 番号 | E5: 変状 番号 | F5: 距離 （m） | G5: 変状部位 | I5: 変 状 の 内 容 | O5: 前回定期点検時の状態 | P5: 今回定期点検結果 | T5: 措置履歴 | Y5: 対応方針 ・ 特記事項
O6: 44271
G7: 対象箇所 | H7: 部位区分 | I7: 変状区分 | J7: 変状種類 | M7: 変状の発生範囲の規模 | N7: 前回定期点検時の変状の発生範囲及び規模 | O7: 対策区分 | P7: 対策区分 | R7: 調査の 要否 | S7: 措置の 要否 | T7: 実施 | U7: 措置の実施状況
P8: 応急措置前 | Q8: 応急措置後
B9: 定期点検結果 | C9: S26 | E9: 7 | F9: 263.6 | G9: 覆工 | H9: 側壁（右側） | I9: 材質劣化 | J9: 圧ざ、ひび割れ | M9: 0.21 | N9: 0.22 | O9: Ⅱb | P9: － | Q9: Ⅱb | R9: 否 | S9: 要監視 | T9: 未 | U9: ー | Y9: 継続監視
C10: S26 | E10: 8 | F10: 267.8 | G10: 覆工 | H10: 側壁（左側） | I10: 漏水 | J10: 漏水 | M10: 1.4 | N10: （新規確認） | O10: － | P10: － | Q10: Ⅱb | R10: 否 | S10: 要監視 | T10: 未 | U10: ー | Y10: 監視
C11: S26 | E11: 9 | F11: 269.7 | G11: 覆工 | H11: 横断目地（右側） | I11: 材質劣化 | J11: うき・はく離 | M11: 0.0375 | N11: （新規確認） | O11: － | P11: － | Q11: Ⅱb | R11: 否 | S11: 要監視 | T11: 未 | U11: ー | Y11: 監視
C12: S26 | E12: 10 | F12: 259.8 | G12: 覆工 | H12: 水平打ち継ぎ目（右側） | I12: 材質劣化 | J12: うき・はく離 | M12: 0.46 | N12: （新規確認） | O12: － | P12: － | Q12: Ⅱa | R12: 否 | S12: 要対策 | T12: 未 | U12: ー | Y12: はく落防止工
C13: S26 | E13: 11 | F13: 262.6 | G13: 覆工 | H13: 水平打ち継ぎ目（右側） | I13: 材質劣化 | J13: うき・はく離 | M13: 0.28 | N13: （新規確認） | O13: － | P13: － | Q13: Ⅱa | R13: 否 | S13: 要対策 | T13: 未 | U13: ー | Y13: はく落防止工
C14: S27 | E14: 1 | F14: 277.3 | G14: 覆工 | H14: 側壁（左側） | I14: 材質劣化 | J14: 圧ざ、ひび割れ | M14: 0.12 | N14: 0.13 | O14: Ⅱb | P14: － | Q14: Ⅱb | R14: 否 | S14: 要監視 | T14: 未 | U14: ー | Y14: 継続監視
C15: S27 | E15: 2 | F15: 274.1 | G15: 覆工 | H15: 水平打ち継ぎ目（左側） | I15: 漏水 | J15: 補修・補強材の破損 | M15: 0.675 | N15: 0.45 | O15: Ⅱb | P15: － | Q15: Ⅱb | R15: 否 | S15: 要監視 | T15: 未 | U15: ー | Y15: 継続監視
C16: S27 | E16: 3 | F16: 273.9 | G16: 覆工 | H16: アーチ（左側） | I16: 材質劣化 | J16: うき・はく離 | M16: 0.02 | N16: 0.02 | O16: Ⅱb | P16: － | Q16: Ⅰ | R16: 否 | S16: 否 | T16: 未 | U16: ー | Y16: 判定見直し
C17: S27 | E17: 4 | F17: 273.5 | G17: 覆工 | H17: アーチ（天端） | I17: 漏水 | J17: 漏水 | M17: 4.45 | N17: - | O17: Ⅱb | P17: － | Q17: Ⅱb | R17: 否 | S17: 要監視 | T17: 未 | U17: ー | Y17: 継続監視
C18: S27 | E18: 5 | F18: 272.5 | G18: 覆工 | H18: アーチ（全周） | I18: 材質劣化 | J18: 圧ざ、ひび割れ | M18: 0.66 | N18: 0.62 | O18: Ⅱb | P18: － | Q18: Ⅱb | R18: 否 | S18: 要監視 | T18: 未 | U18: ー | Y18: 継続監視
C19: S27 | E19: 6 | F19: 274.1 | G19: 覆工 | H19: 側壁（右側） | I19: 材質劣化 | J19: 圧ざ、ひび割れ | M19: 0.22 | N19: 0.23 | O19: Ⅱb | P19: － | Q19: Ⅱb | R19: 否 | S19: 要監視 | T19: 未 | U19: ー | Y19: 継続監視
C20: S27 | E20: 7 | F20: 271.5 | G20: 覆工 | H20: 水平打ち継ぎ目（右側） | I20: 材質劣化 | J20: うき・はく離 | M20: 0.025 | N20: （新規確認） | O20: － | P20: － | Q20: Ⅱb | R20: 否 | S20: 要監視 | T20: 未 | U20: ー | Y20: 監視
C21: S27 | E21: 8 | F21: 271.3 | G21: 覆工 | H21: 側壁（右側） | I21: 材質劣化 | J21: うき・はく離 | M21: 0.02 | N21: （新規確認） | O21: － | P21: － | Q21: Ⅱb | R21: 否 | S21: 要監視 | T21: 未 | U21: ー | Y21: 監視
C22: S28 | E22: 1 | F22: 285.1 | G22: 覆工 | H22: 側壁（左側） | I22: 材質劣化 | J22: 圧ざ、ひび割れ | M22: 0.22 | N22: 0.21 | O22: Ⅱb | P22: － | Q22: Ⅱb | R22: 否 | S22: 要監視 | T22: 未 | U22: ー | Y22: 継続監視
C23: S28 | E23: 2 | F23: 282.4 | G23: 覆工 | H23: 側壁（左側） | I23: 材質劣化 | J23: うき・はく離 | M23: 0.06 | N23: 0.06 | O23: Ⅱb | P23: － | Q23: Ⅱb | R23: 否 | S23: 要監視 | T23: 未 | U23: ー | Y23: 継続監視
C24: S28 | E24: 3 | F24: 285.1 | G24: 覆工 | H24: 水平打ち継ぎ目（左側） | I24: 材質劣化 | J24: うき・はく離 | M24: 0.645 | N24: 0.63 | O24: Ⅱb | P24: － | Q24: Ⅱa | R24: 否 | S24: 要対策 | T24: 未 | U24: ー | Y24: はく落防止工
C25: S28 | E25: 4 | F25: 284 | G25: 覆工 | H25: アーチ（左側） | I25: 材質劣化 | J25: うき・はく離 | M25: 0.01 | N25: 0.006 | O25: Ⅱb | P25: － | Q25: Ⅱb | R25: 否 | S25: 要監視 | T25: 未 | U25: ー | Y25: 継続監視
C26: S28 | E26: 5 | F26: 287.2 | G26: 覆工 | H26: アーチ（全周） | I26: 材質劣化 | J26: 圧ざ、ひび割れ | M26: 0.54 | N26: 0.58 | O26: Ⅱb | P26: － | Q26: Ⅱb | R26: 否 | S26: 要監視 | T26: 未 | U26: ー | Y26: 継続監視
C27: S28 | E27: 6 | F27: 287.8 | G27: 覆工 | H27: アーチ（天端） | I27: 漏水 | J27: 漏水 | M27: 4.4 | N27: - | O27: Ⅱb | P27: － | Q27: Ⅱb | R27: 否 | S27: 要監視 | T27: 未 | U27: ー | Y27: 継続監視
C28: S28 | E28: 7 | F28: 284.5 | G28: 覆工 | H28: アーチ（右側） | I28: 材質劣化 | J28: うき・はく離 | M28: 0.01 | N28: 0.01 | O28: Ⅱb | P28: － | Q28: Ⅱb | R28: 否 | S28: 要監視 | T28: 未 | U28: ー | Y28: 継続監視
C29: S28 | E29: 8 | F29: 284.8 | G29: 覆工 | H29: アーチ（右側） | I29: 材質劣化 | J29: うき・はく離 | M29: 0.015 | N29: 0.015 | O29: Ⅱb | P29: － | Q29: Ⅱb | R29: 否 | S29: 要監視 | T29: 未 | U29: ー | Y29: 継続監視
C30: S28 | E30: 9 | F30: 289 | G30: 覆工 | H30: アーチ（右側） | I30: 材質劣化 | J30: うき・はく離 | M30: 0.01 | N30: 0.01 | O30: Ⅱb | P30: － | Q30: Ⅱb | R30: 否 | S30: 要監視 | T30: 未 | U30: ー | Y30: 継続監視
C31: S28 | E31: 10 | F31: 282 | G31: 覆工 | H31: 水平打ち継ぎ目（右側） | I31: 材質劣化 | J31: うき・はく離 | M31: 0.76 | N31: 0.03 | O31: Ⅱb | P31: － | Q31: Ⅱa | R31: 否 | S31: 要対策 | T31: 未 | U31: ー | Y31: はく落防止工
C32: S28 | E32: 11 | F32: 285.8 | G32: 覆工 | H32: 水平打ち継ぎ目（右側） | I32: 材質劣化 | J32: うき・はく離 | M32: 0.7 | N32: 0.12 | O32: Ⅱb | P32: － | Q32: Ⅱa | R32: 否 | S32: 要対策 | T32: 未 | U32: ー | Y32: はく落防止工
C33: S28 | E33: 12 | F33: 285.7 | G33: 覆工 | H33: 側壁（右側） | I33: 材質劣化 | J33: 圧ざ、ひび割れ | M33: 0.23 | N33: 0.21 | O33: Ⅱb | P33: － | Q33: Ⅱb | R33: 否 | S33: 要監視 | T33: 未 | U33: ー | Y33: 継続監視
C34: S29 | E34: 1 | F34: 300.3 | G34: 覆工 | H34: アーチ（左側） | I34: 材質劣化 | J34: うき・はく離 | M34: 0.01 | N34: 0.01 | O34: Ⅱb | P34: － | Q34: Ⅱb | R34: 否 | S34: 要監視 | T34: 未 | U34: ー | Y34: 継続監視
C35: S29 | E35: 2 | F35: 296.7 | G35: 覆工 | H35: アーチ（全周） | I35: 材質劣化 | J35: 圧ざ、ひび割れ | M35: 0.83 | N35: 1.26 | O35: Ⅱb | P35: － | Q35: Ⅱb | R35: 否 | S35: 要監視 | T35: 未 | U35: ー | Y35: 継続監視
C36: S29 | E36: 3 | F36: 292.4 | G36: 覆工 | H36: アーチ（右側） | I36: 材質劣化 | J36: うき・はく離 | M36: 0.0075 | N36: 0.0075 | O36: Ⅱb | P36: － | Q36: Ⅰ | R36: 否 | S36: 否 | T36: 未 | U36: ー | Y36: （補修済）
C37: S29 | E37: 4 | F37: 295 | G37: 覆工 | H37: アーチ（右側） | I37: 材質劣化 | J37: うき・はく離 | M37: 0.01 | N37: 0.01 | O37: Ⅱb | P37: － | Q37: Ⅰ | R37: 否 | S37: 否 | T37: 未 | U37: ー | Y37: （補修済）
C38: S29 | E38: 5 | F38: 300.4 | G38: 覆工 | H38: アーチ（右側） | I38: 材質劣化 | J38: うき・はく離 | M38: 0.01 | N38: 0.01 | O38: Ⅱb | P38: － | Q38: Ⅱb | R38: 否 | S38: 要監視 | T38: 未 | U38: ー | Y38: 継続監視
C39: S29 | E39: 6 | F39: 292.4 | G39: 覆工 | H39: 水平打ち継ぎ目（右側） | I39: 材質劣化 | J39: うき・はく離 | M39: 2.22 | N39: 0.15 | O39: Ⅱb | P39: － | Q39: Ⅱa | R39: 否 | S39: 要対策 | T39: 未 | U39: ー | Y39: はく落防止工
C40: S29 | E40: 7 | F40: 297.5 | G40: 覆工 | H40: 側壁（右側） | I40: 材質劣化 | J40: 圧ざ、ひび割れ | M40: 0.17 | N40: 0.16 | O40: Ⅱb | P40: － | Q40: Ⅱb | R40: 否 | S40: 要監視 | T40: 未 | U40: ー | Y40: 継続監視
C41: S29 | E41: 8 | F41: 297.6 | G41: 覆工 | H41: 側壁（右側） | I41: 漏水 | J41: 漏水 | M41: 0.35 | N41: - | O41: Ⅱb | P41: － | Q41: Ⅱb | R41: 否 | S41: 要監視 | T41: 未 | U41: ー | Y41: 継続監視
C42: ※ 対策区分（応急措置後）のⅡb～Ⅳについて記入すること。また、点検前に実施された措置によりⅠと判定された変状も記入すること。
C43: ※ 応急措置を実施しないで判定した変状の対策区分は、対策区分の応急措置後の欄に記入すること。
C44: ※ 変状の除去が不完全で、緊急対応が必要な場合は対応方針欄に記入すること。
C45: ※ １区間の覆工に複数の変状がある場合は、変状箇所毎に記入すること。
C46: ※ 措置・監視点検を行った場合には、措置履歴、特記事項に記録を残すこと。（実施年度も記載）
C47: ※ 行が不足する場合は、適時、表の行を増やすこと。

Sheet 様式C-1-1 (10)
B2: ■定期点検記録様式 全スパン定期点検結果総括表（トンネル本体工） 【様式C-1-1】
B3: フリガナ | F3: ='様式A-1'!D3 -> ヒコシマトンネル | I3: 路線名 | K3: ='様式A-1'!J3 -> 福浦港金毘羅線 | O3: 定期点検実施者 | P3: ='様式B (1)'!S3 -> アジア航測株式会社 | T3: 定期点検年月日 | X3: ='様式B (1)'!P2 -> 45896
B4: 名 称 | F4: ='様式A-1'!D4 -> 彦島トンネル | I4: 管理者名 | K4: ='様式A-1'!R3 -> 山口県 下関土木建築事務所 | P4: ='様式B (1)'!S4 -> 飯田 琢巳
C5: 覆工 スパン 番号 | E5: 変状 番号 | F5: 距離 （m） | G5: 変状部位 | I5: 変 状 の 内 容 | O5: 前回定期点検時の状態 | P5: 今回定期点検結果 | T5: 措置履歴 | Y5: 対応方針 ・ 特記事項
O6: 44271
G7: 対象箇所 | H7: 部位区分 | I7: 変状区分 | J7: 変状種類 | M7: 変状の発生範囲の規模 | N7: 前回定期点検時の変状の発生範囲及び規模 | O7: 対策区分 | P7: 対策区分 | R7: 調査の 要否 | S7: 措置の 要否 | T7: 実施 | U7: 措置の実施状況
P8: 応急措置前 | Q8: 応急措置後
B9: 定期点検結果 | C9: S29 | E9: 9 | F9: 296.8 | G9: 路面 | H9: 歩道 | J9: その他 | M9: - | N9: - | O9: Ⅱb | R9: 否 | S9: 否 | T9: 未 | U9: ー
C10: S30 | E10: 1 | F10: 309.7 | G10: 覆工 | H10: アーチ（全周） | I10: 材質劣化 | J10: 圧ざ、ひび割れ | M10: 0.23 | N10: 0.21 | O10: Ⅱb | P10: － | Q10: Ⅱb | R10: 否 | S10: 要監視 | T10: 未 | U10: ー | Y10: 継続監視
C11: S30 | E11: 2 | F11: 310.2 | G11: 覆工 | H11: アーチ（左側） | I11: 材質劣化 | J11: うき・はく離 | M11: 0.0025 | N11: 0.0025 | O11: Ⅱb | P11: － | Q11: Ⅱb | R11: 否 | S11: 要監視 | T11: 未 | U11: ー | Y11: 継続監視
C12: S30 | E12: 3 | F12: 303.8 | G12: 覆工 | H12: アーチ（左側） | I12: 材質劣化 | J12: うき・はく離 | M12: 0.005 | N12: 0.0025 | O12: Ⅱb | P12: － | Q12: Ⅱb | R12: 否 | S12: 要監視 | T12: 未 | U12: ー | Y12: 継続監視
C13: S30 | E13: 4 | F13: 308.2 | G13: 覆工 | H13: アーチ（天端） | I13: 材質劣化 | J13: うき・はく離 | M13: 0.01 | N13: 0.01 | O13: Ⅱb | P13: － | Q13: Ⅱb | R13: 否 | S13: 要監視 | T13: 未 | U13: ー | Y13: 継続監視
C14: S30 | E14: 5 | F14: 308.1 | G14: 覆工 | H14: アーチ（天端） | I14: 漏水 | J14: 漏水 | M14: 3.65 | N14: - | O14: Ⅱb | P14: － | Q14: Ⅱb | R14: 否 | S14: 要監視 | T14: 未 | U14: ー | Y14: 継続監視
C15: S30 | E15: 6 | F15: 308.1 | G15: 覆工 | H15: アーチ（右側） | I15: 材質劣化 | J15: うき・はく離 | M15: 0.015 | N15: 0.015 | O15: Ⅲ | P15: － | Q15: Ⅲ | R15: 否 | S15: 要対策 | T15: 未 | U15: ー | Y15: はく落防止工
C16: S30 | E16: 7 | F16: 304.4 | G16: 覆工 | H16: 水平打ち継ぎ目（左側） | I16: 材質劣化 | J16: うき・はく離 | M16: 0.01 | N16: （新規確認） | O16: － | P16: － | Q16: Ⅱb | R16: 否 | S16: 要監視 | T16: 未 | U16: ー | Y16: 監視
C17: S30 | E17: 8 | F17: 302.9 | G17: 覆工 | H17: 側壁（右側） | I17: 漏水 | J17: 漏水 | M17: 0.95 | N17: （新規確認） | O17: － | P17: － | Q17: Ⅱb | R17: 否 | S17: 要監視 | T17: 未 | U17: ー | Y17: 監視
C18: S30 | E18: 9 | F18: 302.8 | G18: 覆工 | H18: 側壁（右側） | I18: 材質劣化 | J18: うき・はく離 | M18: 0.025 | N18: （新規確認） | O18: － | P18: － | Q18: Ⅱb | R18: 否 | S18: 要監視 | T18: 未 | U18: ー | Y18: 監視
C19: S30 | E19: 10 | F19: 302.8 | G19: 覆工 | H19: 側壁（右側） | I19: 材質劣化 | J19: うき・はく離 | M19: 0.03 | N19: （新規確認） | O19: － | P19: － | Q19: Ⅱb | R19: 否 | S19: 要監視 | T19: 未 | U19: ー | Y19: 監視
C20: S30 | E20: 11 | F20: 311.8 | G20: 覆工 | H20: 横断目地（右側） | I20: 材質劣化 | J20: うき・はく離 | M20: 0.03 | N20: （新規確認） | O20: － | P20: － | Q20: Ⅱb | R20: 否 | S20: 要監視 | T20: 未 | U20: ー | Y20: 監視
C21: S31 | E21: 1 | F21: 312.7 | G21: 覆工 | H21: アーチ（左側） | I21: 外力 | J21: 変形・移動 | M21: 2.0mm | N21: 0.5～1.0mm | O21: Ⅱb | P21: － | Q21: Ⅱb | R21: 否 | S21: 要監視 | T21: 未 | U21: ー | Y21: 継続監視
C22: S31 | E22: 2 | F22: 315.1 | G22: 覆工 | H22: アーチ（左側） | I22: 材質劣化 | J22: うき・はく離 | M22: 0.05 | N22: 0.02 | O22: Ⅱb | P22: － | Q22: Ⅱb | R22: 否 | S22: 要監視 | T22: 未 | U22: ー | Y22: 継続監視
C23: S31 | E23: 3 | F23: 317.3 | G23: 覆工 | H23: アーチ（左側） | I23: 材質劣化 | J23: 圧ざ、ひび割れ | M23: 0.25 | N23: 0.25 | O23: Ⅱb | P23: － | Q23: Ⅱb | R23: 否 | S23: 要監視 | T23: 未 | U23: ー | Y23: 継続監視
C24: S31 | E24: 4 | F24: 317.2 | G24: 覆工 | H24: アーチ（右側） | I24: 材質劣化 | J24: 圧ざ、ひび割れ | M24: 0.33 | N24: 0.27 | O24: Ⅱb | P24: － | Q24: Ⅱb | R24: 否 | S24: 要監視 | T24: 未 | U24: ー | Y24: 継続監視
C25: S31 | E25: 5 | F25: 316 | G25: 覆工 | H25: アーチ（右側） | I25: 材質劣化 | J25: うき・はく離 | M25: 0.01 | N25: 0.01 | O25: Ⅱb | P25: － | Q25: Ⅱb | R25: 否 | S25: 要監視 | T25: 未 | U25: ー | Y25: 継続監視
C26: S31 | E26: 6 | F26: 313.6 | G26: 覆工 | H26: アーチ（右側） | I26: 材質劣化 | J26: うき・はく離 | M26: 0.07 | N26: 0.07 | O26: Ⅱb | P26: － | Q26: Ⅱb | R26: 否 | S26: 要監視 | T26: 未 | U26: ー | Y26: 継続監視
C27: S31 | E27: 7 | F27: 321.3 | G27: 覆工 | H27: アーチ（右側） | I27: 材質劣化 | J27: うき・はく離 | M27: 0.01 | N27: 0.01 | O27: Ⅱb | P27: － | Q27: Ⅰ | R27: 否 | S27: 否 | T27: 未 | U27: ー | Y27: （補修済）
C28: S31 | E28: 8 | F28: 316.9 | G28: 覆工 | H28: 側壁（右側） | I28: 材質劣化 | J28: 圧ざ、ひび割れ | M28: 0.15 | N28: 0.15 | O28: Ⅱb | P28: － | Q28: Ⅱb | R28: 否 | S28: 要監視 | T28: 未 | U28: ー | Y28: 継続監視
C29: S31 | E29: 9 | F29: 320.9 | G29: 覆工 | H29: 側壁（右側） | I29: 漏水 | J29: 漏水 | M29: 1.1 | N29: （新規確認） | O29: － | P29: － | Q29: Ⅱb | R29: 否 | S29: 要監視 | T29: 未 | U29: ー | Y29: 監視
C30: S32 | E30: 1 | F30: 328.4 | G30: 覆工 | H30: アーチ（左側） | I30: 材質劣化 | J30: 圧ざ、ひび割れ | M30: 0.27 | N30: 0.26 | O30: Ⅱb | P30: － | Q30: Ⅱb | R30: 否 | S30: 要監視 | T30: 未 | U30: ー | Y30: 継続監視
C31: S32 | E31: 2 | F31: 332.7 | G31: 覆工 | H31: 横断目地（左側） | I31: 材質劣化 | J31: うき・はく離 | M31: 0.13 | N31: 0.13 | O31: Ⅲ | P31: － | Q31: Ⅰ | R31: 否 | S31: 否 | T31: 未 | U31: ー | Y31: （補修済）
C32: S32 | E32: 3 | F32: 323.8 | G32: 覆工 | H32: アーチ（右側） | I32: 材質劣化 | J32: 圧ざ、ひび割れ | M32: 0.23 | N32: 0.26 | O32: Ⅱb | P32: － | Q32: Ⅱb | R32: 否 | S32: 要監視 | T32: 未 | U32: ー | Y32: 継続監視
C33: S32 | E33: 4 | F33: 326.5 | G33: 覆工 | H33: アーチ（右側） | I33: 材質劣化 | J33: うき・はく離 | M33: 0.01 | N33: 0.01 | O33: Ⅱb | P33: － | Q33: Ⅰ | R33: 否 | S33: 否 | T33: 未 | U33: ー | Y33: （補修済）
C34: S32 | E34: 5 | F34: 332.8 | G34: 覆工 | H34: アーチ（右側） | I34: 材質劣化 | J34: うき・はく離 | M34: 0.04 | N34: 0.04 | O34: Ⅱb | P34: － | Q34: Ⅱb | R34: 否 | S34: 要監視 | T34: 未 | U34: ー | Y34: 継続監視
C35: S32 | E35: 6 | F35: 332.7 | G35: 覆工 | H35: アーチ（右側） | I35: 材質劣化 | J35: うき・はく離 | M35: 0.04 | N35: 0.04 | O35: Ⅱb | P35: － | Q35: Ⅱb | R35: 否 | S35: 要監視 | T35: 未 | U35: ー | Y35: 継続監視
C36: S32 | E36: 7 | F36: 322.9 | G36: 覆工 | H36: 水平打ち継ぎ目（右側） | I36: 材質劣化 | J36: うき・はく離 | M36: 0.06 | N36: 0.06 | O36: Ⅱb | P36: － | Q36: Ⅱb | R36: 否 | S36: 要監視 | T36: 未 | U36: ー | Y36: 継続監視
C37: S32 | E37: 8 | F37: 332.8 | G37: 覆工 | H37: 横断目地（右側） | I37: 漏水 | J37: 補修・補強材の破損 | M37: 0.06 | N37: （新規確認） | O37: － | P37: － | Q37: Ⅱb | R37: 否 | S37: 要監視 | T37: 未 | U37: ー | Y37: 監視
C38: S32 | E38: 9 | F38: 332.8 | G38: 覆工 | H38: 横断目地（右側） | I38: 漏水 | J38: 補修・補強材の破損 | M38: 0.06 | N38: （新規確認） | O38: － | P38: － | Q38: Ⅱb | R38: 否 | S38: 要監視 | T38: 未 | U38: ー | Y38: 監視
C39: S32 | E39: 10 | F39: 324.3 | G39: 覆工 | H39: 水平打ち継ぎ目（右側） | I39: 材質劣化 | J39: うき・はく離 | M39: 0.025 | N39: （新規確認） | O39: － | P39: － | Q39: Ⅱb | R39: 否 | S39: 要監視 | T39: 未 | U39: ー | Y39: 監視
C40: S33 | E40: 1 | F40: 337.1 | G40: 覆工 | H40: 側壁（左側） | I40: 材質劣化 | J40: 圧ざ、ひび割れ | M40: 0.2 | N40: 0.23 | O40: Ⅱb | P40: － | Q40: Ⅱb | R40: 否 | S40: 要監視 | T40: 未 | U40: ー | Y40: 継続監視
C41: S33 | E41: 2 | F41: 334.4 | G41: 覆工 | H41: アーチ（左側） | I41: 材質劣化 | J41: うき・はく離 | M41: 0.0175 | N41: 0.0175 | O41: Ⅱb | P41: － | Q41: Ⅱb | R41: 否 | S41: 要監視 | T41: 未 | U41: ー | Y41: 継続監視
C42: ※ 対策区分（応急措置後）のⅡb～Ⅳについて記入すること。また、点検前に実施された措置によりⅠと判定された変状も記入すること。
C43: ※ 応急措置を実施しないで判定した変状の対策区分は、対策区分の応急措置後の欄に記入すること。
C44: ※ 変状の除去が不完全で、緊急対応が必要な場合は対応方針欄に記入すること。
C45: ※ １区間の覆工に複数の変状がある場合は、変状箇所毎に記入すること。
C46: ※ 措置・監視点検を行った場合には、措置履歴、特記事項に記録を残すこと。（実施年度も記載）
C47: ※ 行が不足する場合は、適時、表の行を増やすこと。

Sheet 様式C-1-1 (11)
B2: ■定期点検記録様式 全スパン定期点検結果総括表（トンネル本体工） 【様式C-1-1】
B3: フリガナ | F3: ='様式A-1'!D3 -> ヒコシマトンネル | I3: 路線名 | K3: ='様式A-1'!J3 -> 福浦港金毘羅線 | O3: 定期点検実施者 | P3: ='様式B (1)'!S3 -> アジア航測株式会社 | T3: 定期点検年月日 | X3: ='様式B (1)'!P2 -> 45896
B4: 名 称 | F4: ='様式A-1'!D4 -> 彦島トンネル | I4: 管理者名 | K4: ='様式A-1'!R3 -> 山口県 下関土木建築事務所 | P4: ='様式B (1)'!S4 -> 飯田 琢巳
C5: 覆工 スパン 番号 | E5: 変状 番号 | F5: 距離 （m） | G5: 変状部位 | I5: 変 状 の 内 容 | O5: 前回定期点検時の状態 | P5: 今回定期点検結果 | T5: 措置履歴 | Y5: 対応方針 ・ 特記事項
O6: 44271
G7: 対象箇所 | H7: 部位区分 | I7: 変状区分 | J7: 変状種類 | M7: 変状の発生範囲の規模 | N7: 前回定期点検時の変状の発生範囲及び規模 | O7: 対策区分 | P7: 対策区分 | R7: 調査の 要否 | S7: 措置の 要否 | T7: 実施 | U7: 措置の実施状況
P8: 応急措置前 | Q8: 応急措置後
B9: 定期点検結果 | C9: S33 | E9: 3 | F9: 334.7 | G9: 覆工 | H9: アーチ（全周） | I9: 材質劣化 | J9: 圧ざ、ひび割れ | M9: 0.19 | N9: 0.23 | O9: Ⅱb | P9: － | Q9: Ⅱb | R9: 否 | S9: 要監視 | T9: 未 | U9: ー | Y9: 継続監視
C10: S33 | E10: 4 | F10: 337 | G10: 覆工 | H10: アーチ（左側） | I10: 材質劣化 | J10: うき・はく離 | M10: 0.01 | N10: 0.01 | O10: Ⅱb | P10: － | Q10: Ⅱb | R10: 否 | S10: 要監視 | T10: 未 | U10: ー | Y10: 継続監視
C11: S33 | E11: 5 | F11: 336.4 | G11: 覆工 | H11: アーチ（天端） | I11: 漏水 | J11: 漏水 | M11: 4.3 | N11: - | O11: Ⅱb | P11: － | Q11: Ⅱb | R11: 否 | S11: 要監視 | T11: 未 | U11: ー | Y11: 継続監視
C12: S33 | E12: 6 | F12: 337 | G12: 覆工 | H12: アーチ（右側） | I12: 材質劣化 | J12: うき・はく離 | M12: 0.01 | N12: 0.01 | O12: Ⅱb | P12: － | Q12: Ⅱb | R12: 否 | S12: 要監視 | T12: 未 | U12: ー | Y12: 継続監視
C13: S33 | E13: 7 | F13: 338.6 | G13: 覆工 | H13: アーチ（右側） | I13: 材質劣化 | J13: うき・はく離 | M13: 0.005 | N13: 0.005 | O13: Ⅱb | P13: － | Q13: Ⅱb | R13: 否 | S13: 要監視 | T13: 未 | U13: ー | Y13: 継続監視
C14: S33 | E14: 8 | F14: 337.3 | G14: 覆工 | H14: 側壁（右側） | I14: 材質劣化 | J14: 圧ざ、ひび割れ | M14: 0.23 | N14: 0.16 | O14: Ⅱb | P14: － | Q14: Ⅱb | R14: 否 | S14: 要監視 | T14: 未 | U14: ー | Y14: 継続監視
C15: S34 | E15: 1 | F15: 347.8 | G15: 覆工 | H15: 側壁（左側） | I15: 材質劣化 | J15: 圧ざ、ひび割れ | M15: 0.22 | N15: 0.23 | O15: Ⅱb | P15: － | Q15: Ⅱb | R15: 否 | S15: 要監視 | T15: 未 | U15: ー | Y15: 継続監視
C16: S34 | E16: 2 | F16: 343.5 | G16: 覆工 | H16: アーチ（左側） | I16: 材質劣化 | J16: 圧ざ、ひび割れ | M16: 0.12 | N16: 0.38 | O16: Ⅱb | P16: － | Q16: Ⅱb | R16: 否 | S16: 要監視 | T16: 未 | U16: ー | Y16: 継続監視
C17: S34 | E17: 3 | F17: 347.9 | G17: 覆工 | H17: アーチ（右側） | I17: 材質劣化 | J17: 圧ざ、ひび割れ | M17: 0.64 | N17: 0.62 | O17: Ⅱb | P17: － | Q17: Ⅱb | R17: 否 | S17: 要監視 | T17: 未 | U17: ー | Y17: 継続監視
C18: S34 | E18: 4 | F18: 347.5 | G18: 覆工 | H18: アーチ（右側） | I18: 材質劣化 | J18: うき・はく離 | M18: 0.01 | N18: 0.01 | O18: Ⅱb | P18: － | Q18: Ⅱb | R18: 否 | S18: 要監視 | T18: 未 | U18: ー | Y18: 継続監視
C19: S34 | E19: 5 | F19: 351 | G19: 覆工 | H19: アーチ（右側） | I19: 材質劣化 | J19: うき・はく離 | M19: 0.01 | N19: 0.01 | O19: Ⅱb | P19: － | Q19: Ⅱb | R19: 否 | S19: 要監視 | T19: 未 | U19: ー | Y19: 継続監視
C20: S34 | E20: 6 | F20: 344.8 | G20: 覆工 | H20: 水平打ち継ぎ目（右側） | I20: 材質劣化 | J20: うき・はく離 | M20: 0.0025 | N20: 0.0025 | O20: Ⅱb | P20: － | Q20: Ⅱb | R20: 否 | S20: 要監視 | T20: 未 | U20: ー | Y20: 継続監視
C21: S34 | E21: 7 | F21: 353.8 | G21: 覆工 | H21: 横断目地（左側） | I21: 漏水 | J21: 補修・補強材の破損 | M21: 0.06 | N21: （新規確認） | O21: － | P21: － | Q21: Ⅱb | R21: 否 | S21: 要監視 | T21: 未 | U21: ー | Y21: 監視
C22: S34 | E22: 8 | F22: 346.4 | G22: 覆工 | H22: 水平打ち継ぎ目（右側） | I22: 材質劣化 | J22: うき・はく離 | M22: 0.025 | N22: （新規確認） | O22: － | P22: － | Q22: Ⅱb | R22: 否 | S22: 要監視 | T22: 未 | U22: ー | Y22: 監視
C23: S34 | E23: 9 | F23: 349.4 | G23: 覆工 | H23: 水平打ち継ぎ目（右側） | I23: 材質劣化 | J23: うき・はく離 | M23: 0.01 | N23: （新規確認） | O23: － | P23: － | Q23: Ⅱb | R23: 否 | S23: 要監視 | T23: 未 | U23: ー | Y23: 監視
C24: S34 | E24: 10 | F24: 345 | G24: 覆工 | H24: 水平打ち継ぎ目（右側） | I24: 材質劣化 | J24: うき・はく離 | M24: 0.0025 | N24: （新規確認） | O24: － | P24: － | Q24: Ⅱb | R24: 否 | S24: 要監視 | T24: 未 | U24: ー | Y24: 監視
C25: S35 | E25: 1 | F25: 358.6 | G25: 覆工 | H25: 側壁（左側） | I25: 材質劣化 | J25: 圧ざ、ひび割れ | M25: 0.15 | N25: 0.16 | O25: Ⅱb | P25: － | Q25: Ⅱb | R25: 否 | S25: 要監視 | T25: 未 | U25: ー | Y25: 継続監視
C26: S35 | E26: 2 | F26: 360.5 | G26: 覆工 | H26: アーチ（左側） | I26: 材質劣化 | J26: 圧ざ、ひび割れ | M26: 0.45 | N26: 0.4 | O26: Ⅱb | P26: － | Q26: Ⅱb | R26: 否 | S26: 要監視 | T26: 未 | U26: ー | Y26: 継続監視
C27: S35 | E27: 3 | F27: 362 | G27: 覆工 | H27: アーチ（左側） | I27: 材質劣化 | J27: うき・はく離 | M27: 0.01 | N27: 0.01 | O27: Ⅱb | P27: － | Q27: Ⅱb | R27: 否 | S27: 要監視 | T27: 未 | U27: ー | Y27: 継続監視
C28: S35 | E28: 4 | F28: 360.3 | G28: 覆工 | H28: アーチ（天端） | I28: 材質劣化 | J28: うき・はく離 | M28: 0.01 | N28: 0.015 | O28: Ⅲ | P28: － | Q28: Ⅲ | R28: 否 | S28: 要対策 | T28: 未 | U28: ー | Y28: はく落防止工
C29: S35 | E29: 5 | F29: 353.9 | G29: 覆工 | H29: 横断目地（天端） | I29: 材質劣化 | J29: うき・はく離 | M29: 0.065 | N29: 0.065 | O29: Ⅱb | P29: － | Q29: Ⅱb | R29: 否 | S29: 要監視 | T29: 未 | U29: ー | Y29: 継続監視
C30: S35 | E30: 6 | F30: 355.5 | G30: 覆工 | H30: アーチ（天端） | I30: 材質劣化 | J30: うき・はく離 | M30: 0.01 | N30: 0.01 | O30: Ⅱb | P30: － | Q30: Ⅱb | R30: 否 | S30: 要監視 | T30: 未 | U30: ー | Y30: 継続監視
C31: S35 | E31: 7 | F31: 355.9 | G31: 覆工 | H31: アーチ（天端） | I31: 漏水 | J31: 漏水 | M31: 9.75 | N31: - | O31: Ⅱb | P31: － | Q31: Ⅱb | R31: 否 | S31: 要監視 | T31: 未 | U31: ー | Y31: 継続監視
C32: S35 | E32: 8 | F32: 359.2 | G32: 覆工 | H32: アーチ（右側） | I32: 材質劣化 | J32: 圧ざ、ひび割れ | M32: 0.55 | N32: 0.41 | O32: Ⅱb | P32: － | Q32: Ⅱb | R32: 否 | S32: 要監視 | T32: 未 | U32: ー | Y32: 継続監視
C33: S35 | E33: 9 | F33: 354 | G33: 覆工 | H33: アーチ（右側） | I33: 材質劣化 | J33: うき・はく離 | M33: 0.02 | N33: 0.02 | O33: Ⅱb | P33: － | Q33: Ⅱb | R33: 否 | S33: 要監視 | T33: 未 | U33: ー | Y33: 継続監視
C34: S35 | E34: 10 | F34: 354.7 | G34: 覆工 | H34: アーチ（右側） | I34: 材質劣化 | J34: うき・はく離 | M34: 0.015 | N34: 0.015 | O34: Ⅲ | P34: － | Q34: Ⅲ | R34: 否 | S34: 要対策 | T34: 未 | U34: ー | Y34: はく落防止工
C35: S35 | E35: 11 | F35: 356.5 | G35: 覆工 | H35: アーチ（右側） | I35: 材質劣化 | J35: うき・はく離 | M35: 0.015 | N35: 0.015 | O35: Ⅱb | P35: － | Q35: Ⅱb | R35: 否 | S35: 要監視 | T35: 未 | U35: ー | Y35: 継続監視
C36: S35 | E36: 12 | F36: 358 | G36: 覆工 | H36: アーチ（右側） | I36: 材質劣化 | J36: うき・はく離 | M36: 0.02 | N36: 0.02 | O36: Ⅱb | P36: － | Q36: Ⅱb | R36: 否 | S36: 要監視 | T36: 未 | U36: ー | Y36: 継続監視
C37: S35 | E37: 13 | F37: 360.3 | G37: 覆工 | H37: アーチ（右側） | I37: 材質劣化 | J37: うき・はく離 | M37: 0.0625 | N37: 0.0675 | O37: Ⅲ | P37: － | Q37: Ⅲ | R37: 否 | S37: 要対策 | T37: 未 | U37: ー | Y37: はく落防止工
C38: S35 | E38: 14 | F38: 363.3 | G38: 覆工 | H38: アーチ（右側） | I38: 材質劣化 | J38: 鋼材腐食 | M38: 0.01 | N38: 0.01 | O38: Ⅱb | P38: － | Q38: Ⅱb | R38: 否 | S38: 要監視 | T38: 未 | U38: ー | Y38: 継続監視
C39: S35 | E39: 15 | F39: 362.4 | G39: 覆工 | H39: アーチ（右側） | I39: 材質劣化 | J39: うき・はく離 | M39: 0.03 | N39: 0.03 | O39: Ⅲ | P39: － | Q39: Ⅲ | R39: 否 | S39: 要対策 | T39: 未 | U39: ー | Y39: はく落防止工
C40: S35 | E40: 16 | F40: 354.5 | G40: 覆工 | H40: 水平打ち継ぎ目（右側） | I40: 材質劣化 | J40: うき・はく離 | M40: 0.225 | N40: 0.2 | O40: Ⅱb | P40: － | Q40: Ⅱb | R40: 否 | S40: 要監視 | T40: 未 | U40: ー | Y40: 継続監視
C41: S35 | E41: 17 | F41: 358.7 | G41: 覆工 | H41: 側壁（右側） | I41: 材質劣化 | J41: 圧ざ、ひび割れ | M41: 0.24 | N41: 0.22 | O41: Ⅱb | P41: － | Q41: Ⅱb | R41: 否 | S41: 要監視 | T41: 未 | U41: ー | Y41: 継続監視
C42: ※ 対策区分（応急措置後）のⅡb～Ⅳについて記入すること。また、点検前に実施された措置によりⅠと判定された変状も記入すること。
C43: ※ 応急措置を実施しないで判定した変状の対策区分は、対策区分の応急措置後の欄に記入すること。
C44: ※ 変状の除去が不完全で、緊急対応が必要な場合は対応方針欄に記入すること。
C45: ※ １区間の覆工に複数の変状がある場合は、変状箇所毎に記入すること。
C46: ※ 措置・監視点検を行った場合には、措置履歴、特記事項に記録を残すこと。（実施年度も記載）
C47: ※ 行が不足する場合は、適時、表の行を増やすこと。

Sheet 様式C-1-1 (12)
B2: ■定期点検記録様式 全スパン定期点検結果総括表（トンネル本体工） 【様式C-1-1】
B3: フリガナ | F3: ='様式A-1'!D3 -> ヒコシマトンネル | I3: 路線名 | K3: ='様式A-1'!J3 -> 福浦港金毘羅線 | O3: 定期点検実施者 | P3: ='様式B (1)'!S3 -> アジア航測株式会社 | T3: 定期点検年月日 | X3: ='様式B (1)'!P2 -> 45896
B4: 名 称 | F4: ='様式A-1'!D4 -> 彦島トンネル | I4: 管理者名 | K4: ='様式A-1'!R3 -> 山口県 下関土木建築事務所 | P4: ='様式B (1)'!S4 -> 飯田 琢巳
C5: 覆工 スパン 番号 | E5: 変状 番号 | F5: 距離 （m） | G5: 変状部位 | I5: 変 状 の 内 容 | O5: 前回定期点検時の状態 | P5: 今回定期点検結果 | T5: 措置履歴 | Y5: 対応方針 ・ 特記事項
O6: 44271
G7: 対象箇所 | H7: 部位区分 | I7: 変状区分 | J7: 変状種類 | M7: 変状の発生範囲の規模 | N7: 前回定期点検時の変状の発生範囲及び規模 | O7: 対策区分 | P7: 対策区分 | R7: 調査の 要否 | S7: 措置の 要否 | T7: 実施 | U7: 措置の実施状況
P8: 応急措置前 | Q8: 応急措置後
B9: 定期点検結果 | C9: S35 | E9: 18 | F9: 355.6 | G9: 覆工 | H9: 水平打ち継ぎ目（左側） | I9: 材質劣化 | J9: うき・はく離 | M9: 0.045 | N9: （新規確認） | O9: － | P9: － | Q9: Ⅱb | R9: 否 | S9: 要監視 | T9: 未 | U9: ー | Y9: 監視
C10: S35 | E10: 19 | F10: 363 | G10: 覆工 | H10: 側壁（右側） | I10: 材質劣化 | J10: うき・はく離 | M10: 0.02 | N10: （新規確認） | O10: － | P10: － | Q10: Ⅱb | R10: 否 | S10: 要監視 | T10: 未 | U10: ー | Y10: 監視
C11: S36 | E11: 1 | F11: 368.7 | G11: 覆工 | H11: 側壁（左側） | I11: 材質劣化 | J11: 圧ざ、ひび割れ | M11: 0.13 | N11: 0.12 | O11: Ⅱb | P11: － | Q11: Ⅱb | R11: 否 | S11: 要監視 | T11: 未 | U11: ー | Y11: 継続監視
C12: S36 | E12: 2 | F12: 365.8 | G12: 覆工 | H12: アーチ（左側） | I12: 材質劣化 | J12: 圧ざ、ひび割れ | M12: 0.44 | N12: 0.59 | O12: Ⅱb | P12: － | Q12: Ⅱb | R12: 否 | S12: 要監視 | T12: 未 | U12: ー | Y12: 継続監視
C13: S36 | E13: 3 | F13: 364.5 | G13: 覆工 | H13: アーチ（右側） | I13: 材質劣化 | J13: 圧ざ、ひび割れ | M13: 0.14 | N13: 0.12 | O13: Ⅱb | P13: － | Q13: Ⅱb | R13: 否 | S13: 要監視 | T13: 未 | U13: ー | Y13: 継続監視
C14: S36 | E14: 4 | F14: 365.4 | G14: 覆工 | H14: アーチ（右側） | I14: 材質劣化 | J14: うき・はく離 | M14: 0.01 | N14: 0.06 | O14: Ⅲ | P14: － | Q14: Ⅲ | R14: 否 | S14: 要対策 | T14: 未 | U14: ー | Y14: はく落防止工
C15: S36 | E15: 5 | F15: 372.2 | G15: 覆工 | H15: アーチ（右側） | I15: 材質劣化 | J15: うき・はく離 | M15: 0.005 | N15: 0.005 | O15: Ⅱb | P15: － | Q15: Ⅱb | R15: 否 | S15: 要監視 | T15: 未 | U15: ー | Y15: 継続監視
C16: S36 | E16: 6 | F16: 373.8 | G16: 覆工 | H16: アーチ（右側） | I16: 材質劣化 | J16: うき・はく離 | M16: 0.01 | N16: 0.01 | O16: Ⅱb | P16: － | Q16: Ⅱb | R16: 否 | S16: 要監視 | T16: 未 | U16: ー | Y16: 継続監視
C17: S36 | E17: 7 | F17: 369.8 | G17: 覆工 | H17: 側壁（右側） | I17: 材質劣化 | J17: 圧ざ、ひび割れ | M17: 0.25 | N17: 0.23 | O17: Ⅱb | P17: － | Q17: Ⅱb | R17: 否 | S17: 要監視 | T17: 未 | U17: ー | Y17: 継続監視
C18: S36 | E18: 8 | F18: 374.7 | G18: 覆工 | H18: 横断目地（右側） | I18: 材質劣化 | J18: うき・はく離 | M18: 0.015 | N18: （新規確認） | O18: － | P18: － | Q18: Ⅱb | R18: 否 | S18: 要監視 | T18: 未 | U18: ー | Y18: 監視
C19: S37 | E19: 1 | F19: 383.9 | G19: 覆工 | H19: 側壁（左側） | I19: 材質劣化 | J19: うき・はく離 | M19: 0.015 | N19: 0.015 | O19: Ⅱb | P19: － | Q19: Ⅱb | R19: 否 | S19: 要監視 | T19: 未 | U19: ー | Y19: 継続監視
C20: S37 | E20: 2 | F20: 374.9 | G20: 覆工 | H20: 横断目地（左側） | I20: 材質劣化 | J20: うき・はく離 | M20: 0.02 | N20: 0.02 | O20: Ⅲ | P20: － | Q20: Ⅲ | R20: 否 | S20: 要対策 | T20: 未 | U20: ー | Y20: はく落防止工
C21: S37 | E21: 3 | F21: 381.2 | G21: 覆工 | H21: アーチ（天端） | I21: 材質劣化 | J21: うき・はく離 | M21: 0.01 | N21: 0.01 | O21: Ⅲ | P21: － | Q21: Ⅲ | R21: 否 | S21: 要対策 | T21: 未 | U21: ー | Y21: はく落防止工
C22: S37 | E22: 4 | F22: 380.6 | G22: 覆工 | H22: アーチ（全周） | I22: 材質劣化 | J22: 圧ざ、ひび割れ | M22: 0.07 | N22: 0.32 | O22: Ⅱb | P22: － | Q22: Ⅱb | R22: 否 | S22: 要監視 | T22: 未 | U22: ー | Y22: 継続監視
C23: S37 | E23: 5 | F23: 375 | G23: 覆工 | H23: アーチ（右側） | I23: 材質劣化 | J23: うき・はく離 | M23: 0.015 | N23: 0.015 | O23: Ⅱb | P23: － | Q23: Ⅱb | R23: 否 | S23: 要監視 | T23: 未 | U23: ー | Y23: 継続監視
C24: S37 | E24: 6 | F24: 377.8 | G24: 覆工 | H24: アーチ（右側） | I24: 材質劣化 | J24: うき・はく離 | M24: 0.005 | N24: 0.005 | O24: Ⅱb | P24: － | Q24: Ⅱb | R24: 否 | S24: 要監視 | T24: 未 | U24: ー | Y24: 継続監視
C25: S37 | E25: 7 | F25: 379.1 | G25: 覆工 | H25: アーチ（右側） | I25: 材質劣化 | J25: うき・はく離 | M25: 0.01 | N25: 0.01 | O25: Ⅱb | P25: － | Q25: Ⅱb | R25: 否 | S25: 要監視 | T25: 未 | U25: ー | Y25: 継続監視
C26: S37 | E26: 8 | F26: 384.4 | G26: 覆工 | H26: アーチ（右側） | I26: 材質劣化 | J26: うき・はく離 | M26: 0.01 | N26: 0.01 | O26: Ⅱb | P26: － | Q26: Ⅱb | R26: 否 | S26: 要監視 | T26: 未 | U26: ー | Y26: 継続監視
C27: S37 | E27: 9 | F27: 379.8 | G27: 覆工 | H27: 側壁（右側） | I27: 材質劣化 | J27: 圧ざ、ひび割れ | M27: 0.23 | N27: 0.13 | O27: Ⅱb | P27: － | Q27: Ⅱb | R27: 否 | S27: 要監視 | T27: 未 | U27: ー | Y27: 継続監視
C28: S37 | E28: 10 | F28: 374.9 | G28: 覆工 | H28: アーチ（左側） | I28: 材質劣化 | J28: うき・はく離 | M28: 0.39 | N28: （新規確認） | O28: － | P28: － | Q28: Ⅱb | R28: 否 | S28: 要監視 | T28: 未 | U28: ー | Y28: 監視
C29: S37 | E29: 11 | F29: 376.5 | G29: 覆工 | H29: 水平打ち継ぎ目（右側） | I29: 材質劣化 | J29: うき・はく離 | M29: 0.01 | N29: （新規確認） | O29: － | P29: － | Q29: Ⅱb | R29: 否 | S29: 要監視 | T29: 未 | U29: ー | Y29: 監視
C30: S38 | E30: 1 | F30: 385.5 | G30: 覆工 | H30: アーチ（左側） | I30: 材質劣化 | J30: 圧ざ、ひび割れ | M30: 0.88 | N30: 0.91 | O30: Ⅱb | P30: － | Q30: Ⅱb | R30: 否 | S30: 要監視 | T30: 未 | U30: ー | Y30: 継続監視
C31: S38 | E31: 2 | F31: 387.8 | G31: 覆工 | H31: アーチ（左側） | I31: 材質劣化 | J31: うき・はく離 | M31: 0.03 | N31: 0.03 | O31: Ⅱb | P31: － | Q31: Ⅱb | R31: 否 | S31: 要監視 | T31: 未 | U31: ー | Y31: 継続監視
C32: S38 | E32: 3 | F32: 389.4 | G32: 覆工 | H32: アーチ（右側） | I32: 材質劣化 | J32: 圧ざ、ひび割れ | M32: 0.54 | N32: 0.52 | O32: Ⅱb | P32: － | Q32: Ⅱb | R32: 否 | S32: 要監視 | T32: 未 | U32: ー | Y32: 継続監視
C33: S38 | E33: 4 | F33: 385.5 | G33: 覆工 | H33: アーチ（右側） | I33: 漏水 | J33: 漏水 | M33: 14.2 | N33: - | O33: Ⅱb | P33: － | Q33: Ⅱb | R33: 否 | S33: 要監視 | T33: 未 | U33: ー | Y33: 継続監視
C34: S38 | E34: 5 | F34: 391.2 | G34: 覆工 | H34: 側壁（右側） | I34: 材質劣化 | J34: 圧ざ、ひび割れ | M34: 0.23 | N34: 0.23 | O34: Ⅱb | P34: － | Q34: Ⅱb | R34: 否 | S34: 要監視 | T34: 未 | U34: ー | Y34: 継続監視
C35: S39 | E35: 1 | F35: 402 | G35: 覆工 | H35: 側壁（左側） | I35: 材質劣化 | J35: 圧ざ、ひび割れ | M35: 0.09 | N35: 0.15 | O35: Ⅱb | P35: － | Q35: Ⅱb | R35: 否 | S35: 要監視 | T35: 未 | U35: ー | Y35: 継続監視
C36: S39 | E36: 2 | F36: 396.1 | G36: 覆工 | H36: 横断目地（天端） | I36: 材質劣化 | J36: うき・はく離 | M36: 0.54 | N36: 0.54 | O36: Ⅲ | P36: － | Q36: Ⅲ | R36: 否 | S36: 要対策 | T36: 未 | U36: ー | Y36: はく落防止工
C37: S39 | E37: 3 | F37: 403.2 | G37: 覆工 | H37: アーチ（全周） | I37: 材質劣化 | J37: 圧ざ、ひび割れ | M37: 0.36 | N37: 0.31 | O37: Ⅱb | P37: － | Q37: Ⅱb | R37: 否 | S37: 要監視 | T37: 未 | U37: ー | Y37: 継続監視
C38: S39 | E38: 4 | F38: 396.3 | G38: 覆工 | H38: アーチ（右側） | I38: 材質劣化 | J38: 鋼材腐食 | M38: 0.005 | N38: 0.005 | O38: Ⅱb | P38: － | Q38: Ⅱb | R38: 否 | S38: 要監視 | T38: 未 | U38: ー | Y38: 継続監視
C39: S39 | E39: 5 | F39: 397.5 | G39: 覆工 | H39: 水平打ち継ぎ目（右側） | I39: 漏水 | J39: 漏水 | M39: 2.2 | N39: - | O39: Ⅱb | P39: － | Q39: Ⅱb | R39: 否 | S39: 要監視 | T39: 未 | U39: ー | Y39: 継続監視
C40: S39 | E40: 6 | F40: 401.6 | G40: 覆工 | H40: 側壁（右側） | I40: 材質劣化 | J40: 圧ざ、ひび割れ | M40: 0.24 | N40: 0.23 | O40: Ⅱb | P40: － | Q40: Ⅱb | R40: 否 | S40: 要監視 | T40: 未 | U40: ー | Y40: 継続監視
C41: S39 | E41: 7 | F41: 399.1 | G41: 覆工 | H41: 水平打ち継ぎ目（右側） | I41: 材質劣化 | J41: うき・はく離 | M41: 0.9 | N41: （新規確認） | O41: － | P41: － | Q41: Ⅱa | R41: 否 | S41: 要対策 | T41: 未 | U41: ー | Y41: はく落防止工
C42: ※ 対策区分（応急措置後）のⅡb～Ⅳについて記入すること。また、点検前に実施された措置によりⅠと判定された変状も記入すること。
C43: ※ 応急措置を実施しないで判定した変状の対策区分は、対策区分の応急措置後の欄に記入すること。
C44: ※ 変状の除去が不完全で、緊急対応が必要な場合は対応方針欄に記入すること。
C45: ※ １区間の覆工に複数の変状がある場合は、変状箇所毎に記入すること。
C46: ※ 措置・監視点検を行った場合には、措置履歴、特記事項に記録を残すこと。（実施年度も記載）
C47: ※ 行が不足する場合は、適時、表の行を増やすこと。

Sheet 様式C-1-1 (13)
B2: ■定期点検記録様式 全スパン定期点検結果総括表（トンネル本体工） 【様式C-1-1】
B3: フリガナ | F3: ='様式A-1'!D3 -> ヒコシマトンネル | I3: 路線名 | K3: ='様式A-1'!J3 -> 福浦港金毘羅線 | O3: 定期点検実施者 | P3: ='様式B (1)'!S3 -> アジア航測株式会社 | T3: 定期点検年月日 | X3: ='様式B (1)'!P2 -> 45896
B4: 名 称 | F4: ='様式A-1'!D4 -> 彦島トンネル | I4: 管理者名 | K4: ='様式A-1'!R3 -> 山口県 下関土木建築事務所 | P4: ='様式B (1)'!S4 -> 飯田 琢巳
C5: 覆工 スパン 番号 | E5: 変状 番号 | F5: 距離 （m） | G5: 変状部位 | I5: 変 状 の 内 容 | O5: 前回定期点検時の状態 | P5: 今回定期点検結果 | T5: 措置履歴 | Y5: 対応方針 ・ 特記事項
O6: 44271
G7: 対象箇所 | H7: 部位区分 | I7: 変状区分 | J7: 変状種類 | M7: 変状の発生範囲の規模 | N7: 前回定期点検時の変状の発生範囲及び規模 | O7: 対策区分 | P7: 対策区分 | R7: 調査の 要否 | S7: 措置の 要否 | T7: 実施 | U7: 措置の実施状況
P8: 応急措置前 | Q8: 応急措置後
B9: 定期点検結果 | C9: S40 | E9: 1 | F9: 412.8 | G9: 覆工 | H9: 側壁（左側） | I9: 材質劣化 | J9: 圧ざ、ひび割れ | M9: 0.22 | N9: 0.23 | O9: Ⅱb | P9: － | Q9: Ⅱb | R9: 否 | S9: 要監視 | T9: 未 | U9: ー | Y9: 継続監視
C10: S40 | E10: 2 | F10: 410.9 | G10: 覆工 | H10: アーチ（左側） | I10: 材質劣化 | J10: うき・はく離 | M10: 0.01 | N10: 0.01 | O10: Ⅱb | P10: － | Q10: Ⅱb | R10: 否 | S10: 要監視 | T10: 未 | U10: ー | Y10: 継続監視
C11: S40 | E11: 3 | F11: 414.9 | G11: 覆工 | H11: アーチ（左側） | I11: 材質劣化 | J11: うき・はく離 | M11: 0.04 | N11: 0.02 | O11: Ⅱb | P11: － | Q11: Ⅱb | R11: 否 | S11: 要監視 | T11: 未 | U11: ー | Y11: 継続監視
C12: S40 | E12: 4 | F12: 406.7 | G12: 覆工 | H12: アーチ（天端） | I12: 材質劣化 | J12: その他 | M12: 0.0175 | N12: 0.0175 | O12: Ⅱb | P12: － | Q12: Ⅱb | R12: 否 | S12: 要監視 | T12: 未 | U12: ー | Y12: 継続監視
C13: S40 | E13: 5 | F13: 414.1 | G13: 覆工 | H13: アーチ（天端） | I13: 材質劣化 | J13: うき・はく離 | M13: 0.025 | N13: 0.025 | O13: Ⅱb | P13: － | Q13: Ⅱb | R13: 否 | S13: 要監視 | T13: 未 | U13: ー | Y13: 継続監視
C14: S40 | E14: 6 | F14: 410.7 | G14: 覆工 | H14: アーチ（左側） | I14: 漏水 | J14: 漏水 | M14: 8.5 | N14: - | O14: Ⅱb | P14: － | Q14: Ⅱb | R14: 否 | S14: 要監視 | T14: 未 | U14: ー | Y14: 継続監視
C15: S40 | E15: 7 | F15: 414.8 | G15: 覆工 | H15: アーチ（全周） | I15: 材質劣化 | J15: 圧ざ、ひび割れ | M15: 0.28 | N15: 0.22 | O15: Ⅱb | P15: － | Q15: Ⅱb | R15: 否 | S15: 要監視 | T15: 未 | U15: ー | Y15: 継続監視
C16: S40 | E16: 8 | F16: 409.8 | G16: 覆工 | H16: アーチ（右側） | I16: 漏水 | J16: 漏水 | M16: 3.65 | N16: - | O16: Ⅱb | P16: － | Q16: Ⅱb | R16: 否 | S16: 要監視 | T16: 未 | U16: ー | Y16: 継続監視
C17: S40 | E17: 9 | F17: 412.2 | G17: 覆工 | H17: アーチ（右側） | I17: 材質劣化 | J17: うき・はく離 | M17: 0.01 | N17: 0.01 | O17: Ⅲ | P17: － | Q17: Ⅲ | R17: 否 | S17: 要対策 | T17: 未 | U17: ー | Y17: はく落防止工
C18: S40 | E18: 10 | F18: 406.8 | G18: 覆工 | H18: 水平打ち継ぎ目（右側） | I18: 材質劣化 | J18: うき・はく離 | M18: 0.21 | N18: 0.225 | O18: Ⅱb | P18: － | Q18: Ⅱb | R18: 否 | S18: 要監視 | T18: 未 | U18: ー | Y18: 継続監視
C19: S40 | E19: 11 | F19: 408.2 | G19: 覆工 | H19: 側壁（左側） | I19: 漏水 | J19: 漏水 | M19: 1 | N19: （新規確認） | O19: － | P19: － | Q19: Ⅱb | R19: 否 | S19: 要監視 | T19: 未 | U19: ー | Y19: 監視
C20: S40 | E20: 12 | F20: 408.3 | G20: 覆工 | H20: 水平打ち継ぎ目（右側） | I20: 材質劣化 | J20: うき・はく離 | M20: 0.3 | N20: （新規確認） | O20: － | P20: － | Q20: Ⅱb | R20: 否 | S20: 要監視 | T20: 未 | U20: ー | Y20: 監視
C21: S40 | E21: 13 | F21: 412.2 | G21: 覆工 | H21: 水平打ち継ぎ目（右側） | I21: 材質劣化 | J21: うき・はく離 | M21: 0.05 | N21: （新規確認） | O21: － | P21: － | Q21: Ⅱb | R21: 否 | S21: 要監視 | T21: 未 | U21: ー | Y21: 監視
C22: S40 | E22: 14 | F22: 414.3 | G22: 覆工 | H22: 水平打ち継ぎ目（右側） | I22: 材質劣化 | J22: うき・はく離 | M22: 0.14 | N22: （新規確認） | O22: － | P22: － | Q22: Ⅱb | R22: 否 | S22: 要監視 | T22: 未 | U22: ー | Y22: 監視
C23: S41 | E23: 1 | F23: 421.2 | G23: 覆工 | H23: 側壁（左側） | I23: 材質劣化 | J23: 圧ざ、ひび割れ | M23: 0.17 | N23: 0.18 | O23: Ⅱb | P23: － | Q23: Ⅱb | R23: 否 | S23: 要監視 | T23: 未 | U23: ー | Y23: 継続監視
C24: S41 | E24: 2 | F24: 424.6 | G24: 覆工 | H24: アーチ（左側） | I24: 材質劣化 | J24: 圧ざ、ひび割れ | M24: 0.36 | N24: 0.34 | O24: Ⅱb | P24: － | Q24: Ⅱb | R24: 否 | S24: 要監視 | T24: 未 | U24: ー | Y24: 継続監視
C25: S41 | E25: 3 | F25: 427.8 | G25: 覆工 | H25: 横断目地（左側） | I25: 材質劣化 | J25: うき・はく離 | M25: 0.02 | N25: 0.01 | O25: Ⅱb | P25: － | Q25: Ⅱb | R25: 否 | S25: 要監視 | T25: 未 | U25: ー | Y25: 継続監視
C26: S41 | E26: 4 | F26: 424.1 | G26: 覆工 | H26: アーチ（天端） | I26: 漏水 | J26: 漏水 | M26: 4.35 | N26: - | O26: Ⅱb | P26: － | Q26: Ⅱb | R26: 否 | S26: 要監視 | T26: 未 | U26: ー | Y26: 継続監視
C27: S41 | E27: 5 | F27: 427.9 | G27: 覆工 | H27: 横断目地（天端） | I27: 材質劣化 | J27: うき・はく離 | M27: 0.015 | N27: 0.015 | O27: Ⅰ | P27: － | Q27: Ⅰ | R27: 否 | S27: 否 | T27: 未 | U27: ー
C28: S41 | E28: 6 | F28: 419 | G28: 覆工 | H28: アーチ（天端） | I28: 漏水 | J28: 漏水 | M28: 4.25 | N28: - | O28: Ⅱb | P28: － | Q28: Ⅱb | R28: 否 | S28: 要監視 | T28: 未 | U28: ー | Y28: 継続監視
C29: S41 | E29: 7 | F29: 417.4 | G29: 覆工 | H29: アーチ（右側） | I29: 材質劣化 | J29: 圧ざ、ひび割れ | M29: 0.39 | N29: 0.33 | O29: Ⅱb | P29: － | Q29: Ⅱb | R29: 否 | S29: 要監視 | T29: 未 | U29: ー | Y29: 継続監視
C30: S41 | E30: 8 | F30: 420.2 | G30: 覆工 | H30: 側壁（右側） | I30: 材質劣化 | J30: 圧ざ、ひび割れ | M30: 0.23 | N30: 0.23 | O30: Ⅱb | P30: － | Q30: Ⅱb | R30: 否 | S30: 要監視 | T30: 未 | U30: ー | Y30: 継続監視
C31: S41 | E31: 9 | F31: 423.3 | G31: 覆工 | H31: アーチ（左側） | I31: 材質劣化 | J31: うき・はく離 | M31: 0.45 | N31: （新規確認） | O31: － | P31: － | Q31: Ⅱa | R31: 否 | S31: 要対策 | T31: 未 | U31: ー | Y31: はく落防止工
C32: S41 | E32: 10 | F32: 420.9 | G32: 覆工 | H32: アーチ（左側） | I32: 漏水 | J32: 漏水 | M32: 3.75 | N32: （新規確認） | O32: － | P32: － | Q32: Ⅱb | R32: 否 | S32: 要監視 | T32: 未 | U32: ー | Y32: 監視
C33: S41 | E33: 11 | F33: 417.3 | G33: 覆工 | H33: 水平打ち継ぎ目（右側） | I33: 材質劣化 | J33: うき・はく離 | M33: 0.04 | N33: （新規確認） | O33: － | P33: － | Q33: Ⅱb | R33: 否 | S33: 要監視 | T33: 未 | U33: ー | Y33: 監視
C34: S41 | E34: 12 | F34: 418.4 | G34: 覆工 | H34: 水平打ち継ぎ目（右側） | I34: 材質劣化 | J34: うき・はく離 | M34: 0.24 | N34: （新規確認） | O34: － | P34: － | Q34: Ⅱa | R34: 否 | S34: 要対策 | T34: 未 | U34: ー | Y34: はく落防止工
C35: S41 | E35: 13 | F35: 422.7 | G35: 覆工 | H35: アーチ（右側） | I35: 材質劣化 | J35: うき・はく離 | M35: 0.2 | N35: （新規確認） | O35: － | P35: － | Q35: Ⅱa | R35: 否 | S35: 要対策 | T35: 未 | U35: ー | Y35: はく落防止工
C36: S41 | E36: 14 | F36: 422 | G36: 覆工 | H36: アーチ（右側） | I36: 漏水 | J36: 漏水 | M36: 1.7 | N36: （新規確認） | O36: － | P36: － | Q36: Ⅱb | R36: 否 | S36: 要監視 | T36: 未 | U36: ー | Y36: 監視
C37: S41 | E37: 15 | F37: 426.3 | G37: 覆工 | H37: 側壁（右側） | I37: 漏水 | J37: 漏水 | M37: 0.25 | N37: （新規確認） | O37: － | P37: － | Q37: Ⅱb | R37: 否 | S37: 要監視 | T37: 未 | U37: ー | Y37: 監視
C38: S42 | E38: 1 | F38: 430.1 | G38: 覆工 | H38: アーチ（左側） | I38: 材質劣化 | J38: 圧ざ、ひび割れ | M38: 0.42 | N38: 0.59 | O38: Ⅱb | P38: － | Q38: Ⅱb | R38: 否 | S38: 要監視 | T38: 未 | U38: ー | Y38: 継続監視
C39: S42 | E39: 2 | F39: 438.4 | G39: 覆工 | H39: 横断目地（左側） | I39: 漏水 | J39: 補修・補強材の破損 | M39: 0.31 | N39: 0.45 | O39: Ⅱb | P39: － | Q39: Ⅱb | R39: 否 | S39: 要監視 | T39: 未 | U39: ー | Y39: 継続監視
C40: S42 | E40: 3 | F40: 438.5 | G40: 覆工 | H40: アーチ（天端） | I40: 漏水 | J40: 漏水 | M40: 3.75 | N40: - | O40: Ⅱb | P40: － | Q40: Ⅱb | R40: 否 | S40: 要監視 | T40: 未 | U40: ー | Y40: 継続監視
C41: S42 | E41: 4 | F41: 431.1 | G41: 覆工 | H41: アーチ（右側） | I41: 材質劣化 | J41: 圧ざ、ひび割れ | M41: 0.42 | N41: 0.3 | O41: Ⅱb | P41: － | Q41: Ⅱb | R41: 否 | S41: 要監視 | T41: 未 | U41: ー | Y41: 継続監視
C42: ※ 対策区分（応急措置後）のⅡb～Ⅳについて記入すること。また、点検前に実施された措置によりⅠと判定された変状も記入すること。
C43: ※ 応急措置を実施しないで判定した変状の対策区分は、対策区分の応急措置後の欄に記入すること。
C44: ※ 変状の除去が不完全で、緊急対応が必要な場合は対応方針欄に記入すること。
C45: ※ １区間の覆工に複数の変状がある場合は、変状箇所毎に記入すること。
C46: ※ 措置・監視点検を行った場合には、措置履歴、特記事項に記録を残すこと。（実施年度も記載）
C47: ※ 行が不足する場合は、適時、表の行を増やすこと。

Sheet 様式C-1-1 (14)
B2: ■定期点検記録様式 全スパン定期点検結果総括表（トンネル本体工） 【様式C-1-1】
B3: フリガナ | F3: ='様式A-1'!D3 -> ヒコシマトンネル | I3: 路線名 | K3: ='様式A-1'!J3 -> 福浦港金毘羅線 | O3: 定期点検実施者 | P3: ='様式B (1)'!S3 -> アジア航測株式会社 | T3: 定期点検年月日 | X3: ='様式B (1)'!P2 -> 45896
B4: 名 称 | F4: ='様式A-1'!D4 -> 彦島トンネル | I4: 管理者名 | K4: ='様式A-1'!R3 -> 山口県 下関土木建築事務所 | P4: ='様式B (1)'!S4 -> 飯田 琢巳
C5: 覆工 スパン 番号 | E5: 変状 番号 | F5: 距離 （m） | G5: 変状部位 | I5: 変 状 の 内 容 | O5: 前回定期点検時の状態 | P5: 今回定期点検結果 | T5: 措置履歴 | Y5: 対応方針 ・ 特記事項
O6: 44271
G7: 対象箇所 | H7: 部位区分 | I7: 変状区分 | J7: 変状種類 | M7: 変状の発生範囲の規模 | N7: 前回定期点検時の変状の発生範囲及び規模 | O7: 対策区分 | P7: 対策区分 | R7: 調査の 要否 | S7: 措置の 要否 | T7: 実施 | U7: 措置の実施状況
P8: 応急措置前 | Q8: 応急措置後
B9: 定期点検結果 | C9: S42 | E9: 5 | F9: 438.5 | G9: 覆工 | H9: 横断目地（右側） | I9: 漏水 | J9: 漏水 | M9: 4.1 | N9: - | O9: Ⅱb | P9: － | Q9: Ⅱb | R9: 否 | S9: 要監視 | T9: 未 | U9: ー | Y9: 継続監視
C10: S42 | E10: 6 | F10: 430.2 | G10: 覆工 | H10: アーチ（右側） | I10: 材質劣化 | J10: 鋼材腐食 | M10: 0.01 | N10: 0.01 | O10: Ⅱb | P10: － | Q10: Ⅱb | R10: 否 | S10: 要監視 | T10: 未 | U10: ー | Y10: 継続監視
C11: S42 | E11: 7 | F11: 434.4 | G11: 覆工 | H11: アーチ（右側） | I11: 漏水 | J11: 漏水 | M11: 0.35 | N11: - | O11: Ⅱb | P11: － | Q11: Ⅱb | R11: 否 | S11: 要監視 | T11: 未 | U11: ー | Y11: 継続監視
C12: S42 | E12: 8 | F12: 429.5 | G12: 覆工 | H12: アーチ（右側） | I12: 材質劣化 | J12: うき・はく離 | M12: 1.15 | N12: 1.01 | O12: Ⅱb | P12: － | Q12: Ⅱb | R12: 否 | S12: 要監視 | T12: 未 | U12: ー | Y12: 継続監視
C13: S42 | E13: 9 | F13: 434.6 | G13: 覆工 | H13: アーチ（右側） | I13: 材質劣化 | J13: うき・はく離 | M13: 0.2 | N13: 0.2 | O13: Ⅱb | P13: － | Q13: Ⅱb | R13: 否 | S13: 要監視 | T13: 未 | U13: ー | Y13: 継続監視
C14: S42 | E14: 10 | F14: 435.4 | G14: 覆工 | H14: アーチ（右側） | I14: 材質劣化 | J14: うき・はく離 | M14: 0.125 | N14: 0.125 | O14: Ⅲ | P14: － | Q14: Ⅲ | R14: 否 | S14: 要対策 | T14: 未 | U14: ー | Y14: はく落防止工
C15: S42 | E15: 11 | F15: 436.3 | G15: 覆工 | H15: アーチ（右側） | I15: 材質劣化 | J15: うき・はく離 | M15: 0.8 | N15: 0.3 | O15: Ⅲ | P15: － | Q15: Ⅲ | R15: 否 | S15: 要対策 | T15: 未 | U15: ー | Y15: はく落防止工
C16: S42 | E16: 12 | F16: 437.5 | G16: 覆工 | H16: アーチ（右側） | I16: 材質劣化 | J16: うき・はく離 | M16: 0.0375 | N16: 0.015 | O16: Ⅱb | P16: － | Q16: Ⅱb | R16: 否 | S16: 要監視 | T16: 未 | U16: ー | Y16: 継続監視
C17: S42 | E17: 13 | F17: 437.4 | G17: 覆工 | H17: 側壁（右側） | I17: 材質劣化 | J17: うき・はく離 | M17: 0.25 | N17: 0.12 | O17: Ⅱb | P17: － | Q17: Ⅱb | R17: 否 | S17: 要監視 | T17: 未 | U17: ー | Y17: 継続監視
C18: S42 | E18: 14 | F18: 432.4 | G18: 覆工 | H18: 水平打ち継ぎ目（左側） | I18: 漏水 | J18: 漏水 | M18: 2.94 | N18: （新規確認） | O18: － | P18: － | Q18: Ⅱb | R18: 否 | S18: 要監視 | T18: 未 | U18: ー | Y18: 継続監視
C19: S42 | E19: 15 | F19: 429.2 | G19: 覆工 | H19: 側壁（右側） | I19: 材質劣化 | J19: うき・はく離 | M19: 0.24 | N19: （新規確認） | O19: － | P19: － | Q19: Ⅱb | R19: 否 | S19: 要監視 | T19: 未 | U19: ー | Y19: 監視
C20: S42 | E20: 16 | F20: 436.8 | G20: 覆工 | H20: 側壁（右側） | I20: 材質劣化 | J20: うき・はく離 | M20: 0.365 | N20: （新規確認） | O20: － | P20: － | Q20: Ⅱb | R20: 否 | S20: 要監視 | T20: 未 | U20: ー | Y20: 監視
C21: S43 | E21: 1 | F21: 444 | G21: 覆工 | H21: アーチ（左側） | I21: 材質劣化 | J21: 圧ざ、ひび割れ | M21: 0.22 | N21: 0.24 | O21: Ⅱb | P21: － | Q21: Ⅱb | R21: 否 | S21: 要監視 | T21: 未 | U21: ー | Y21: 継続監視
C22: S43 | E22: 2 | F22: 439.8 | G22: 覆工 | H22: 水平打ち継ぎ目（左側） | I22: 材質劣化 | J22: うき・はく離 | M22: 0.21 | N22: 0.17 | O22: Ⅱb | P22: － | Q22: Ⅱb | R22: 否 | S22: 要監視 | T22: 未 | U22: ー | Y22: 継続監視
C23: S43 | E23: 3 | F23: 448.2 | G23: 覆工 | H23: アーチ（左側） | I23: 材質劣化 | J23: 鋼材腐食 | M23: 0.0075 | N23: 0.0075 | O23: Ⅱb | P23: － | Q23: Ⅱb | R23: 否 | S23: 要監視 | T23: 未 | U23: ー | Y23: 継続監視
C24: S43 | E24: 4 | F24: 438.6 | G24: 覆工 | H24: アーチ（全周） | I24: 材質劣化 | J24: 圧ざ、ひび割れ | M24: 0.29 | N24: 0.32 | O24: Ⅱb | P24: － | Q24: Ⅱb | R24: 否 | S24: 要監視 | T24: 未 | U24: ー | Y24: 継続監視
C25: S43 | E25: 5 | F25: 441.8 | G25: 覆工 | H25: アーチ（天端） | I25: 材質劣化 | J25: うき・はく離 | M25: 0.01 | N25: 0.01 | O25: Ⅱb | P25: － | Q25: Ⅱb | R25: 否 | S25: 要監視 | T25: 未 | U25: ー | Y25: 継続監視
C26: S43 | E26: 6 | F26: 440.2 | G26: 覆工 | H26: アーチ（天端） | I26: 材質劣化 | J26: うき・はく離 | M26: 0.01 | N26: 0.01 | O26: Ⅱb | P26: － | Q26: Ⅱb | R26: 否 | S26: 要監視 | T26: 未 | U26: ー | Y26: 継続監視
C27: S43 | E27: 7 | F27: 445.3 | G27: 覆工 | H27: アーチ（天端） | I27: 材質劣化 | J27: うき・はく離 | M27: 0.01 | N27: 0.01 | O27: Ⅱb | P27: － | Q27: Ⅱb | R27: 否 | S27: 要監視 | T27: 未 | U27: ー | Y27: 継続監視
C28: S43 | E28: 8 | F28: 442.7 | G28: 覆工 | H28: アーチ（右側） | I28: 材質劣化 | J28: うき・はく離 | M28: 0.01 | N28: 0.01 | O28: Ⅱb | P28: － | Q28: Ⅱb | R28: 否 | S28: 要監視 | T28: 未 | U28: ー | Y28: 継続監視
C29: S43 | E29: 9 | F29: 448 | G29: 覆工 | H29: アーチ（右側） | I29: 材質劣化 | J29: うき・はく離 | M29: 0.01 | N29: 0.01 | O29: Ⅱb | P29: － | Q29: Ⅱb | R29: 否 | S29: 要監視 | T29: 未 | U29: ー | Y29: 継続監視
C30: S43 | E30: 10 | F30: 443.5 | G30: 覆工 | H30: 側壁（右側） | I30: 材質劣化 | J30: 圧ざ、ひび割れ | M30: 0.25 | N30: 0.23 | O30: Ⅱb | P30: － | Q30: Ⅱb | R30: 否 | S30: 要監視 | T30: 未 | U30: ー | Y30: 継続監視
C31: S43 | E31: 11 | F31: 440 | G31: 覆工 | H31: 水平打ち継ぎ目（右側） | I31: 材質劣化 | J31: うき・はく離 | M31: 1.11 | N31: （新規確認） | O31: － | P31: － | Q31: Ⅱa | R31: 否 | S31: 要対策 | T31: 未 | U31: ー | Y31: はく落防止工
C32: S44 | E32: 1 | F32: 456.8 | G32: 覆工 | H32: 側壁（左側） | I32: 材質劣化 | J32: 圧ざ、ひび割れ | M32: 0.19 | N32: 0.21 | O32: Ⅱb | P32: － | Q32: Ⅱb | R32: 否 | S32: 要監視 | T32: 未 | U32: ー | Y32: 継続監視
C33: S44 | E33: 2 | F33: 449.1 | G33: 覆工 | H33: 水平打ち継ぎ目（左側） | I33: 材質劣化 | J33: うき・はく離 | M33: 0.63 | N33: 0.63 | O33: Ⅱb | P33: － | Q33: Ⅱa | R33: 否 | S33: 要対策 | T33: 未 | U33: ー | Y33: はく落防止工
C34: S44 | E34: 3 | F34: 456.3 | G34: 覆工 | H34: アーチ（天端） | I34: 漏水 | J34: 漏水 | M34: 3.65 | N34: - | O34: Ⅱb | P34: － | Q34: Ⅱb | R34: 否 | S34: 要監視 | T34: 未 | U34: ー | Y34: 継続監視
C35: S44 | E35: 4 | F35: 456.4 | G35: 覆工 | H35: アーチ（全周） | I35: 材質劣化 | J35: 圧ざ、ひび割れ | M35: 0.36 | N35: 0.36 | O35: Ⅱb | P35: － | Q35: Ⅱb | R35: 否 | S35: 要監視 | T35: 未 | U35: ー | Y35: 継続監視
C36: S44 | E36: 5 | F36: 449.1 | G36: 覆工 | H36: 横断目地（天端） | I36: 材質劣化 | J36: 鋼材腐食 | M36: 0.01 | N36: 0.01 | O36: Ⅱb | P36: － | Q36: Ⅱb | R36: 否 | S36: 要監視 | T36: 未 | U36: ー | Y36: 継続監視
C37: S44 | E37: 6 | F37: 449.2 | G37: 覆工 | H37: 水平打ち継ぎ目（右側） | I37: 材質劣化 | J37: うき・はく離 | M37: 0.12 | N37: 0.03 | O37: Ⅱb | P37: － | Q37: Ⅱb | R37: 否 | S37: 要監視 | T37: 未 | U37: ー | Y37: 継続監視
C38: S44 | E38: 7 | F38: 451.3 | G38: 覆工 | H38: 水平打ち継ぎ目（右側） | I38: 材質劣化 | J38: 圧ざ、ひび割れ | M38: 0.0075 | N38: 0.01 | O38: Ⅱb | P38: － | Q38: Ⅱb | R38: 否 | S38: 要監視 | T38: 未 | U38: ー | Y38: 継続監視
C39: S45 | E39: 1 | F39: 466.2 | G39: 覆工 | H39: 側壁（左側） | I39: 材質劣化 | J39: 圧ざ、ひび割れ | M39: 0.22 | N39: 0.23 | O39: Ⅱb | P39: － | Q39: Ⅱb | R39: 否 | S39: 要監視 | T39: 未 | U39: ー | Y39: 継続監視
C40: S45 | E40: 2 | F40: 459.7 | G40: 覆工 | H40: 横断目地（左側） | I40: 材質劣化 | J40: うき・はく離 | M40: 0.015 | N40: 0.015 | O40: Ⅰ | P40: － | Q40: Ⅰ | R40: 否 | S40: 否 | T40: 未 | U40: ー
C41: S45 | E41: 3 | F41: 460.4 | G41: 覆工 | H41: アーチ（全周） | I41: 材質劣化 | J41: 圧ざ、ひび割れ | M41: 0.34 | N41: 0.3 | O41: Ⅱb | P41: － | Q41: Ⅱb | R41: 否 | S41: 要監視 | T41: 未 | U41: ー | Y41: 継続監視
C42: ※ 対策区分（応急措置後）のⅡb～Ⅳについて記入すること。また、点検前に実施された措置によりⅠと判定された変状も記入すること。
C43: ※ 応急措置を実施しないで判定した変状の対策区分は、対策区分の応急措置後の欄に記入すること。
C44: ※ 変状の除去が不完全で、緊急対応が必要な場合は対応方針欄に記入すること。
C45: ※ １区間の覆工に複数の変状がある場合は、変状箇所毎に記入すること。
C46: ※ 措置・監視点検を行った場合には、措置履歴、特記事項に記録を残すこと。（実施年度も記載）
C47: ※ 行が不足する場合は、適時、表の行を増やすこと。

Sheet 様式C-1-1 (15)
B2: ■定期点検記録様式 全スパン定期点検結果総括表（トンネル本体工） 【様式C-1-1】
B3: フリガナ | F3: ='様式A-1'!D3 -> ヒコシマトンネル | I3: 路線名 | K3: ='様式A-1'!J3 -> 福浦港金毘羅線 | O3: 定期点検実施者 | P3: ='様式B (1)'!S3 -> アジア航測株式会社 | T3: 定期点検年月日 | X3: ='様式B (1)'!P2 -> 45896
B4: 名 称 | F4: ='様式A-1'!D4 -> 彦島トンネル | I4: 管理者名 | K4: ='様式A-1'!R3 -> 山口県 下関土木建築事務所 | P4: ='様式B (1)'!S4 -> 飯田 琢巳
C5: 覆工 スパン 番号 | E5: 変状 番号 | F5: 距離 （m） | G5: 変状部位 | I5: 変 状 の 内 容 | O5: 前回定期点検時の状態 | P5: 今回定期点検結果 | T5: 措置履歴 | Y5: 対応方針 ・ 特記事項
O6: 44271
G7: 対象箇所 | H7: 部位区分 | I7: 変状区分 | J7: 変状種類 | M7: 変状の発生範囲の規模 | N7: 前回定期点検時の変状の発生範囲及び規模 | O7: 対策区分 | P7: 対策区分 | R7: 調査の 要否 | S7: 措置の 要否 | T7: 実施 | U7: 措置の実施状況
P8: 応急措置前 | Q8: 応急措置後
B9: 定期点検結果 | C9: S45 | E9: 4 | F9: 464.7 | G9: 覆工 | H9: アーチ（天端） | I9: 漏水 | J9: 漏水 | M9: 19 | N9: - | O9: Ⅱb | P9: － | Q9: Ⅱb | R9: 否 | S9: 要監視 | T9: 未 | U9: ー | Y9: 継続監視
C10: S45 | E10: 5 | F10: 463.7 | G10: 覆工 | H10: アーチ（天端） | I10: 漏水 | J10: 漏水 | M10: 3.6 | N10: - | O10: Ⅱb | P10: － | Q10: Ⅱb | R10: 否 | S10: 要監視 | T10: 未 | U10: ー | Y10: 継続監視
C11: S45 | E11: 6 | F11: 463.7 | G11: 覆工 | H11: アーチ（天端） | I11: 漏水 | J11: 漏水 | M11: 3.65 | N11: （新規確認） | O11: － | P11: － | Q11: Ⅱb | R11: 否 | S11: 要監視 | T11: 未 | U11: ー | Y11: 監視
C12: S45 | E12: 7 | F12: 464.8 | G12: 覆工 | H12: 側壁（右側） | I12: 漏水 | J12: 漏水 | M12: 1.1 | N12: （新規確認） | O12: － | P12: － | Q12: Ⅱb | R12: 否 | S12: 要監視 | T12: 未 | U12: ー | Y12: 監視
C13: S46 | E13: 1 | F13: 477.3 | G13: 覆工 | H13: 側壁（左側） | I13: 材質劣化 | J13: 圧ざ、ひび割れ | M13: 0.12 | N13: 0.21 | O13: Ⅱb | P13: － | Q13: Ⅱb | R13: 否 | S13: 要監視 | T13: 未 | U13: ー | Y13: 継続監視
C14: S46 | E14: 2 | F14: 474.4 | G14: 覆工 | H14: 水平打ち継ぎ目（左側） | I14: 材質劣化 | J14: うき・はく離 | M14: 0.04 | N14: 0.04 | O14: Ⅱb | P14: － | Q14: Ⅱb | R14: 否 | S14: 要監視 | T14: 未 | U14: ー | Y14: 継続監視
C15: S46 | E15: 3 | F15: 473 | G15: 覆工 | H15: アーチ（天端） | I15: 材質劣化 | J15: 鋼材腐食 | M15: 0.01 | N15: 0.01 | O15: Ⅱb | P15: － | Q15: Ⅱb | R15: 否 | S15: 要監視 | T15: 未 | U15: ー | Y15: 継続監視
C16: S46 | E16: 4 | F16: 476.7 | G16: 覆工 | H16: アーチ（天端） | I16: 材質劣化 | J16: うき・はく離 | M16: 0.025 | N16: 0.025 | O16: Ⅱb | P16: － | Q16: Ⅱb | R16: 否 | S16: 要監視 | T16: 未 | U16: ー | Y16: 継続監視
C17: S46 | E17: 5 | F17: 479.3 | G17: 覆工 | H17: アーチ（天端） | I17: 材質劣化 | J17: うき・はく離 | M17: 0.01 | N17: 0.01 | O17: Ⅱb | P17: － | Q17: Ⅱb | R17: 否 | S17: 要監視 | T17: 未 | U17: ー | Y17: 継続監視
C18: S46 | E18: 6 | F18: 475.8 | G18: 覆工 | H18: アーチ（全周） | I18: 材質劣化 | J18: 圧ざ、ひび割れ | M18: 0.58 | N18: 0.56 | O18: Ⅱb | P18: － | Q18: Ⅱb | R18: 否 | S18: 要監視 | T18: 未 | U18: ー | Y18: 継続監視
C19: S46 | E19: 7 | F19: 474.3 | G19: 覆工 | H19: 水平打ち継ぎ目（右側） | I19: 材質劣化 | J19: うき・はく離 | M19: 0.5 | N19: 0.03 | O19: Ⅱb | P19: － | Q19: Ⅱa | R19: 否 | S19: 要対策 | T19: 未 | U19: ー | Y19: はく落防止工
C20: S46 | E20: 8 | F20: 475.6 | G20: 覆工 | H20: 側壁（右側） | I20: 材質劣化 | J20: 圧ざ、ひび割れ | M20: 0.26 | N20: 0.24 | O20: Ⅱb | P20: － | Q20: Ⅱb | R20: 否 | S20: 要監視 | T20: 未 | U20: ー | Y20: 継続監視
C21: S46 | E21: 9 | F21: 475.6 | G21: 覆工 | H21: 水平打ち継ぎ目（左側） | I21: 材質劣化 | J21: うき・はく離 | M21: 0.165 | N21: （新規確認） | O21: － | P21: － | Q21: Ⅱb | R21: 否 | S21: 要監視 | T21: 未 | U21: ー | Y21: 監視
C22: S47 | E22: 1 | F22: 486 | G22: 覆工 | H22: 側壁（左側） | I22: 材質劣化 | J22: 圧ざ、ひび割れ | M22: 0.21 | N22: 0.23 | O22: Ⅱb | P22: － | Q22: Ⅱb | R22: 否 | S22: 要監視 | T22: 未 | U22: ー | Y22: 継続監視
C23: S47 | E23: 2 | F23: 486.1 | G23: 覆工 | H23: アーチ（天端） | I23: 材質劣化 | J23: うき・はく離 | M23: 0.06 | N23: 0.04 | O23: Ⅱb | P23: － | Q23: Ⅱb | R23: 否 | S23: 要監視 | T23: 未 | U23: ー | Y23: 継続監視
C24: S47 | E24: 3 | F24: 489.5 | G24: 覆工 | H24: アーチ（天端） | I24: 材質劣化 | J24: うき・はく離 | M24: 0.01 | N24: 0.01 | O24: Ⅱb | P24: － | Q24: Ⅱb | R24: 否 | S24: 要監視 | T24: 未 | U24: ー | Y24: 継続監視
C25: S47 | E25: 4 | F25: 480.9 | G25: 覆工 | H25: 横断目地（天端） | I25: 材質劣化 | J25: うき・はく離 | M25: 0.0125 | N25: 0.0125 | O25: Ⅱb | P25: － | Q25: Ⅱb | R25: 否 | S25: 要監視 | T25: 未 | U25: ー | Y25: 継続監視
C26: S47 | E26: 5 | F26: 485.5 | G26: 覆工 | H26: アーチ（天端） | I26: 材質劣化 | J26: うき・はく離 | M26: 0.0475 | N26: 0.0475 | O26: Ⅲ | P26: － | Q26: Ⅲ | R26: 否 | S26: 要対策 | T26: 未 | U26: ー | Y26: はく落防止工
C27: S47 | E27: 6 | F27: 480.9 | G27: 覆工 | H27: アーチ（全周） | I27: 材質劣化 | J27: 圧ざ、ひび割れ | M27: 1.12 | N27: 1.08 | O27: Ⅱb | P27: － | Q27: Ⅱb | R27: 否 | S27: 要監視 | T27: 未 | U27: ー | Y27: 継続監視
C28: S47 | E28: 7 | F28: 487 | G28: 覆工 | H28: 側壁（右側） | I28: 材質劣化 | J28: 圧ざ、ひび割れ | M28: 0.14 | N28: 0.12 | O28: Ⅱb | P28: － | Q28: Ⅱb | R28: 否 | S28: 要監視 | T28: 未 | U28: ー | Y28: 継続監視
C29: S47 | E29: 8 | F29: 490 | G29: 覆工 | H29: 側壁（右側） | I29: 材質劣化 | J29: うき・はく離 | M29: 0.03 | N29: 0.03 | O29: Ⅱb | P29: － | Q29: Ⅱb | R29: 否 | S29: 要監視 | T29: 未 | U29: ー | Y29: 継続監視
C30: S47 | E30: 9 | F30: 483.2 | G30: 覆工 | H30: 水平打ち継ぎ目（左側） | I30: 漏水 | J30: 漏水 | M30: 2.94 | N30: （新規確認） | O30: － | P30: － | Q30: Ⅱb | R30: 否 | S30: 要監視 | T30: 未 | U30: ー | Y30: 継続監視
C31: S47 | E31: 10 | F31: 489.9 | G31: 覆工 | H31: 水平打ち継ぎ目（左側） | I31: 材質劣化 | J31: うき・はく離 | M31: 0.03 | N31: （新規確認） | O31: － | P31: － | Q31: Ⅱb | R31: 否 | S31: 要監視 | T31: 未 | U31: ー | Y31: 継続監視
C32: S47 | E32: 11 | F32: 480.9 | G32: 覆工 | H32: 横断目地（左側） | I32: 材質劣化 | J32: うき・はく離 | M32: 0.015 | N32: （新規確認） | O32: － | P32: － | Q32: Ⅱb | R32: 否 | S32: 要監視 | T32: 未 | U32: ー | Y32: 継続監視
C33: S47 | E33: 12 | F33: 491.5 | G33: 覆工 | H33: 横断目地（天端） | I33: 材質劣化 | J33: うき・はく離 | M33: 0.02 | N33: （新規確認） | O33: － | P33: － | Q33: Ⅱb | R33: 否 | S33: 要監視 | T33: 未 | U33: ー | Y33: 継続監視
C34: S47 | E34: 13 | F34: 482.4 | G34: 覆工 | H34: 水平打ち継ぎ目（右側） | I34: 材質劣化 | J34: うき・はく離 | M34: 0.3 | N34: （新規確認） | O34: － | P34: － | Q34: Ⅱa | R34: 否 | S34: 要対策 | T34: 未 | U34: ー | Y34: はく落防止工
C35: S47 | E35: 14 | F35: 486.1 | G35: 覆工 | H35: 水平打ち継ぎ目（右側） | I35: 材質劣化 | J35: うき・はく離 | M35: 0.54 | N35: （新規確認） | O35: － | P35: － | Q35: Ⅱa | R35: 否 | S35: 要対策 | T35: 未 | U35: ー | Y35: はく落防止工
C36: S48 | E36: 1 | F36: 495.7 | G36: 覆工 | H36: 水平打ち継ぎ目（左側） | I36: 材質劣化 | J36: うき・はく離 | M36: 0.02 | N36: 0.02 | O36: Ⅱb | P36: － | Q36: Ⅱb | R36: 否 | S36: 要監視 | T36: 未 | U36: ー | Y36: 継続監視
C37: S48 | E37: 2 | F37: 497.7 | G37: 覆工 | H37: 水平打ち継ぎ目（左側） | I37: 材質劣化 | J37: うき・はく離 | M37: 0.025 | N37: 0.02 | O37: Ⅱb | P37: － | Q37: Ⅱb | R37: 否 | S37: 要監視 | T37: 未 | U37: ー | Y37: 継続監視
C38: S48 | E38: 3 | F38: 495.1 | G38: 覆工 | H38: アーチ（全周） | I38: 材質劣化 | J38: 圧ざ、ひび割れ | M38: 0.73 | N38: 1.14 | O38: Ⅱb | P38: － | Q38: Ⅱb | R38: 否 | S38: 要監視 | T38: 未 | U38: ー | Y38: 継続監視
C39: S48 | E39: 4 | F39: 493.2 | G39: 覆工 | H39: アーチ（天端） | I39: 材質劣化 | J39: うき・はく離 | M39: 0.01 | N39: 0.01 | O39: Ⅱb | P39: － | Q39: Ⅱb | R39: 否 | S39: 要監視 | T39: 未 | U39: ー | Y39: 継続監視
C40: S48 | E40: 5 | F40: 498.5 | G40: 覆工 | H40: アーチ（天端） | I40: 材質劣化 | J40: うき・はく離 | M40: 0.055 | N40: 0.055 | O40: Ⅲ | P40: － | Q40: Ⅲ | R40: 否 | S40: 要対策 | T40: 未 | U40: ー | Y40: はく落防止工
C41: S48 | E41: 6 | F41: 497.3 | G41: 覆工 | H41: 側壁（右側） | I41: 材質劣化 | J41: 圧ざ、ひび割れ | M41: 0.23 | N41: 0.22 | O41: Ⅱb | P41: － | Q41: Ⅱb | R41: 否 | S41: 要監視 | T41: 未 | U41: ー | Y41: 継続監視
C42: ※ 対策区分（応急措置後）のⅡb～Ⅳについて記入すること。また、点検前に実施された措置によりⅠと判定された変状も記入すること。
C43: ※ 応急措置を実施しないで判定した変状の対策区分は、対策区分の応急措置後の欄に記入すること。
C44: ※ 変状の除去が不完全で、緊急対応が必要な場合は対応方針欄に記入すること。
C45: ※ １区間の覆工に複数の変状がある場合は、変状箇所毎に記入すること。
C46: ※ 措置・監視点検を行った場合には、措置履歴、特記事項に記録を残すこと。（実施年度も記載）
C47: ※ 行が不足する場合は、適時、表の行を増やすこと。

Sheet 様式C-1-1 (16)
B2: ■定期点検記録様式 全スパン定期点検結果総括表（トンネル本体工） 【様式C-1-1】
B3: フリガナ | F3: ='様式A-1'!D3 -> ヒコシマトンネル | I3: 路線名 | K3: ='様式A-1'!J3 -> 福浦港金毘羅線 | O3: 定期点検実施者 | P3: ='様式B (1)'!S3 -> アジア航測株式会社 | T3: 定期点検年月日 | X3: ='様式B (1)'!P2 -> 45896
B4: 名 称 | F4: ='様式A-1'!D4 -> 彦島トンネル | I4: 管理者名 | K4: ='様式A-1'!R3 -> 山口県 下関土木建築事務所 | P4: ='様式B (1)'!S4 -> 飯田 琢巳
C5: 覆工 スパン 番号 | E5: 変状 番号 | F5: 距離 （m） | G5: 変状部位 | I5: 変 状 の 内 容 | O5: 前回定期点検時の状態 | P5: 今回定期点検結果 | T5: 措置履歴 | Y5: 対応方針 ・ 特記事項
O6: 44271
G7: 対象箇所 | H7: 部位区分 | I7: 変状区分 | J7: 変状種類 | M7: 変状の発生範囲の規模 | N7: 前回定期点検時の変状の発生範囲及び規模 | O7: 対策区分 | P7: 対策区分 | R7: 調査の 要否 | S7: 措置の 要否 | T7: 実施 | U7: 措置の実施状況
P8: 応急措置前 | Q8: 応急措置後
B9: 定期点検結果 | C9: S48 | E9: 7 | F9: 493 | G9: 覆工 | H9: 水平打ち継ぎ目（左側） | I9: 材質劣化 | J9: うき・はく離 | M9: 0.105 | N9: （新規確認） | O9: － | P9: － | Q9: Ⅱb | R9: 否 | S9: 要監視 | T9: 未 | U9: ー | Y9: 監視
C10: S48 | E10: 8 | F10: 496.8 | G10: 覆工 | H10: 水平打ち継ぎ目（左側） | I10: 材質劣化 | J10: うき・はく離 | M10: 0.05 | N10: （新規確認） | O10: － | P10: － | Q10: Ⅱb | R10: 否 | S10: 要監視 | T10: 未 | U10: ー | Y10: 監視
C11: S48 | E11: 9 | F11: 501.1 | G11: 覆工 | H11: 水平打ち継ぎ目（左側） | I11: 材質劣化 | J11: うき・はく離 | M11: 0.15 | N11: （新規確認） | O11: － | P11: － | Q11: Ⅱb | R11: 否 | S11: 要監視 | T11: 未 | U11: ー | Y11: 監視
C12: S48 | E12: 10 | F12: 498.3 | G12: 覆工 | H12: アーチ（天端） | I12: 材質劣化 | J12: うき・はく離 | M12: 0.01 | N12: （新規確認） | O12: － | P12: － | Q12: Ⅱb | R12: 否 | S12: 要監視 | T12: 未 | U12: ー | Y12: 監視
C13: S48 | E13: 11 | F13: 491.5 | G13: 覆工 | H13: 水平打ち継ぎ目（右側） | I13: 材質劣化 | J13: うき・はく離 | M13: 1.06 | N13: （新規確認） | O13: － | P13: － | Q13: Ⅱa | R13: 否 | S13: 要対策 | T13: 未 | U13: ー | Y13: はく落防止工
C14: S49 | E14: 1 | F14: 502.1 | G14: 覆工 | H14: 水平打ち継ぎ目（左側） | I14: 材質劣化 | J14: うき・はく離 | M14: 0.4 | N14: 0.2 | O14: Ⅱb | P14: － | Q14: Ⅱa | R14: 否 | S14: 要対策 | T14: 未 | U14: ー | Y14: はく落防止工
C15: S49 | E15: 2 | F15: 507.9 | G15: 覆工 | H15: 側壁（左側） | I15: 材質劣化 | J15: 圧ざ、ひび割れ | M15: 0.22 | N15: 0.23 | O15: Ⅱb | P15: － | Q15: Ⅱb | R15: 否 | S15: 要監視 | T15: 未 | U15: ー | Y15: 継続監視
C16: S49 | E16: 3 | F16: 510.1 | G16: 覆工 | H16: アーチ（左側） | I16: 材質劣化 | J16: 圧ざ、ひび割れ | M16: 0.14 | N16: 0.16 | O16: Ⅱb | P16: － | Q16: Ⅱb | R16: 否 | S16: 要監視 | T16: 未 | U16: ー | Y16: 継続監視
C17: S49 | E17: 4 | F17: 510.9 | G17: 覆工 | H17: アーチ（左側） | I17: 材質劣化 | J17: うき・はく離 | M17: 0.2 | N17: 0.2 | O17: Ⅱb | P17: － | Q17: Ⅰ | R17: 否 | S17: 否 | T17: 未 | U17: ー | Y17: 判定見直し
C18: S49 | E18: 5 | F18: 503.7 | G18: 覆工 | H18: アーチ（天端） | I18: 材質劣化 | J18: うき・はく離 | M18: 0.01 | N18: 0.01 | O18: Ⅱb | P18: － | Q18: Ⅱb | R18: 否 | S18: 要監視 | T18: 未 | U18: ー | Y18: 継続監視
C19: S49 | E19: 6 | F19: 502.1 | G19: 覆工 | H19: 横断目地（右側） | I19: 材質劣化 | J19: うき・はく離 | M19: 0.0225 | N19: 0.0225 | O19: Ⅲ | P19: － | Q19: Ⅲ | R19: 否 | S19: 要対策 | T19: 未 | U19: ー | Y19: はく落防止工
C20: S49 | E20: 7 | F20: 506.3 | G20: 覆工 | H20: アーチ（右側） | I20: 材質劣化 | J20: うき・はく離 | M20: 0.01 | N20: 0.01 | O20: Ⅱb | P20: － | Q20: Ⅱb | R20: 否 | S20: 要監視 | T20: 未 | U20: ー | Y20: 継続監視
C21: S49 | E21: 8 | F21: 505.7 | G21: 覆工 | H21: アーチ（右側） | I21: 材質劣化 | J21: 圧ざ、ひび割れ | M21: 1.03 | N21: 1.07 | O21: Ⅱb | P21: － | Q21: Ⅱb | R21: 否 | S21: 要監視 | T21: 未 | U21: ー | Y21: 継続監視
C22: S49 | E22: 9 | F22: 507.2 | G22: 覆工 | H22: 水平打ち継ぎ目（左側） | I22: 材質劣化 | J22: うき・はく離 | M22: 0.11 | N22: （新規確認） | O22: － | P22: － | Q22: Ⅱb | R22: 否 | S22: 要監視 | T22: 未 | U22: ー | Y22: 監視
C23: S49 | E23: 10 | F23: 503 | G23: 覆工 | H23: 水平打ち継ぎ目（右側） | I23: 材質劣化 | J23: うき・はく離 | M23: 1.59 | N23: （新規確認） | O23: － | P23: － | Q23: Ⅱa | R23: 否 | S23: 要対策 | T23: 未 | U23: ー | Y23: はく落防止工
C24: S49 | E24: 11 | F24: 503.6 | G24: 覆工 | H24: 側壁（右側） | I24: 材質劣化 | J24: うき・はく離 | M24: 0.035 | N24: （新規確認） | O24: － | P24: － | Q24: Ⅱb | R24: 否 | S24: 要監視 | T24: 未 | U24: ー | Y24: 監視
C25: S50 | E25: 1 | F25: 512.7 | G25: 覆工 | H25: アーチ（左側） | I25: 材質劣化 | J25: うき・はく離 | M25: 0.005 | N25: 0.005 | O25: Ⅲ | P25: － | Q25: Ⅲ | R25: 否 | S25: 要対策 | T25: 未 | U25: ー | Y25: はく落防止工
C26: S50 | E26: 2 | F26: 513.4 | G26: 覆工 | H26: アーチ（左側） | I26: 材質劣化 | J26: うき・はく離 | M26: 0.005 | N26: 0.005 | O26: Ⅲ | P26: － | Q26: Ⅰ | R26: 否 | S26: 否 | T26: 未 | U26: ー | Y26: 判定見直し
C27: S50 | E27: 3 | F27: 512.7 | G27: 覆工 | H27: アーチ（左側） | I27: 材質劣化 | J27: 圧ざ、ひび割れ | M27: 0.47 | N27: 0.45 | O27: Ⅱb | P27: － | Q27: Ⅱb | R27: 否 | S27: 要監視 | T27: 未 | U27: ー | Y27: 継続監視
C28: S50 | E28: 4 | F28: 515.6 | G28: 覆工 | H28: アーチ（左側） | I28: 材質劣化 | J28: うき・はく離 | M28: 0.015 | N28: 0.015 | O28: Ⅲ | P28: － | Q28: Ⅲ | R28: 否 | S28: 要対策 | T28: 未 | U28: ー | Y28: はく落防止工
C29: S50 | E29: 5 | F29: 517.5 | G29: 覆工 | H29: アーチ（左側） | I29: 材質劣化 | J29: うき・はく離 | M29: 0.015 | N29: 0.015 | O29: Ⅱb | P29: － | Q29: Ⅱb | R29: 否 | S29: 要監視 | T29: 未 | U29: ー | Y29: 継続監視
C30: S50 | E30: 6 | F30: 518.4 | G30: 覆工 | H30: アーチ（左側） | I30: 材質劣化 | J30: うき・はく離 | M30: 0.005 | N30: 0.005 | O30: Ⅲ | P30: － | Q30: Ⅲ | R30: 否 | S30: 要対策 | T30: 未 | U30: ー | Y30: はく落防止工
C31: S50 | E31: 7 | F31: 520.2 | G31: 覆工 | H31: アーチ（左側） | I31: 材質劣化 | J31: うき・はく離 | M31: 0.01 | N31: 0.01 | O31: Ⅲ | P31: － | Q31: Ⅲ | R31: 否 | S31: 要対策 | T31: 未 | U31: ー | Y31: はく落防止工
C32: S50 | E32: 8 | F32: 522.3 | G32: 覆工 | H32: アーチ（左側） | I32: 材質劣化 | J32: うき・はく離 | M32: 0.01 | N32: 0.01 | O32: Ⅲ | P32: － | Q32: Ⅰ | R32: 否 | S32: 否 | T32: 未 | U32: ー | Y32: 判定見直し
C33: S50 | E33: 9 | F33: 522.8 | G33: 覆工 | H33: アーチ（左側） | I33: 材質劣化 | J33: うき・はく離 | M33: 0.01 | N33: 0.01 | O33: Ⅲ | P33: － | Q33: Ⅲ | R33: 否 | S33: 要対策 | T33: 未 | U33: ー | Y33: はく落防止工
C34: S50 | E34: 10 | F34: 517 | G34: 覆工 | H34: アーチ（左側） | I34: 漏水 | J34: 漏水 | M34: 3.1 | N34: - | O34: Ⅱb | P34: － | Q34: Ⅱb | R34: 否 | S34: 要監視 | T34: 未 | U34: ー | Y34: 継続監視
C35: S50 | E35: 11 | F35: 519.5 | G35: 覆工 | H35: アーチ（天端） | I35: 材質劣化 | J35: うき・はく離 | M35: 0.01 | N35: 0.01 | O35: Ⅱb | P35: － | Q35: Ⅱb | R35: 否 | S35: 要監視 | T35: 未 | U35: ー | Y35: 継続監視
C36: S50 | E36: 12 | F36: 516.6 | G36: 覆工 | H36: アーチ（天端） | I36: 材質劣化 | J36: うき・はく離 | M36: 1.62 | N36: 1.62 | O36: Ⅱb | P36: － | Q36: Ⅰ | R36: 否 | S36: 否 | T36: 未 | U36: ー | Y36: 判定見直し
C37: S50 | E37: 13 | F37: 512.7 | G37: 覆工 | H37: 横断目地（右側） | I37: 材質劣化 | J37: うき・はく離 | M37: 0.015 | N37: 0.015 | O37: Ⅲ | P37: － | Q37: Ⅲ | R37: 否 | S37: 要対策 | T37: 未 | U37: ー | Y37: はく落防止工
C38: S50 | E38: 14 | F38: 512.7 | G38: 覆工 | H38: 横断目地（右側） | I38: 材質劣化 | J38: うき・はく離 | M38: 0.02 | N38: 0.02 | O38: Ⅰ | P38: － | Q38: Ⅰ | R38: 否 | S38: 否 | T38: 未 | U38: ー
C39: S50 | E39: 15 | F39: 513.1 | G39: 覆工 | H39: アーチ（右側） | I39: 漏水 | J39: 漏水 | M39: 2.5 | N39: - | O39: Ⅱb | P39: － | Q39: Ⅱb | R39: 否 | S39: 要監視 | T39: 未 | U39: ー | Y39: 継続監視
C40: S50 | E40: 16 | F40: 514.8 | G40: 覆工 | H40: アーチ（右側） | I40: 材質劣化 | J40: うき・はく離 | M40: 0.01 | N40: 0.01 | O40: Ⅱb | P40: － | Q40: Ⅱb | R40: 否 | S40: 要監視 | T40: 未 | U40: ー | Y40: 継続監視
C41: S50 | E41: 17 | F41: 516.5 | G41: 覆工 | H41: アーチ（右側） | I41: 材質劣化 | J41: うき・はく離 | M41: 0.005 | N41: 0.005 | O41: Ⅲ | P41: － | Q41: Ⅲ | R41: 否 | S41: 要対策 | T41: 未 | U41: ー | Y41: はく落防止工
C42: ※ 対策区分（応急措置後）のⅡb～Ⅳについて記入すること。また、点検前に実施された措置によりⅠと判定された変状も記入すること。
C43: ※ 応急措置を実施しないで判定した変状の対策区分は、対策区分の応急措置後の欄に記入すること。
C44: ※ 変状の除去が不完全で、緊急対応が必要な場合は対応方針欄に記入すること。
C45: ※ １区間の覆工に複数の変状がある場合は、変状箇所毎に記入すること。
C46: ※ 措置・監視点検を行った場合には、措置履歴、特記事項に記録を残すこと。（実施年度も記載）
C47: ※ 行が不足する場合は、適時、表の行を増やすこと。

Sheet 様式C-1-1 (17)
B2: ■定期点検記録様式 全スパン定期点検結果総括表（トンネル本体工） 【様式C-1-1】
B3: フリガナ | F3: ='様式A-1'!D3 -> ヒコシマトンネル | I3: 路線名 | K3: ='様式A-1'!J3 -> 福浦港金毘羅線 | O3: 定期点検実施者 | P3: ='様式B (1)'!S3 -> アジア航測株式会社 | T3: 定期点検年月日 | X3: ='様式B (1)'!P2 -> 45896
B4: 名 称 | F4: ='様式A-1'!D4 -> 彦島トンネル | I4: 管理者名 | K4: ='様式A-1'!R3 -> 山口県 下関土木建築事務所 | P4: ='様式B (1)'!S4 -> 飯田 琢巳
C5: 覆工 スパン 番号 | E5: 変状 番号 | F5: 距離 （m） | G5: 変状部位 | I5: 変 状 の 内 容 | O5: 前回定期点検時の状態 | P5: 今回定期点検結果 | T5: 措置履歴 | Y5: 対応方針 ・ 特記事項
O6: 44271
G7: 対象箇所 | H7: 部位区分 | I7: 変状区分 | J7: 変状種類 | M7: 変状の発生範囲の規模 | N7: 前回定期点検時の変状の発生範囲及び規模 | O7: 対策区分 | P7: 対策区分 | R7: 調査の 要否 | S7: 措置の 要否 | T7: 実施 | U7: 措置の実施状況
P8: 応急措置前 | Q8: 応急措置後
B9: 定期点検結果 | C9: S50 | E9: 18 | F9: 517 | G9: 覆工 | H9: アーチ（右側） | I9: 材質劣化 | J9: 圧ざ、ひび割れ | M9: 0.92 | N9: 1.08 | O9: Ⅱb | P9: － | Q9: Ⅱb | R9: 否 | S9: 要監視 | T9: 未 | U9: ー | Y9: 継続監視
C10: S50 | E10: 19 | F10: 518.5 | G10: 覆工 | H10: アーチ（右側） | I10: 材質劣化 | J10: うき・はく離 | M10: 0.02 | N10: 0.025 | O10: Ⅲ | P10: － | Q10: Ⅲ | R10: 否 | S10: 要対策 | T10: 未 | U10: ー | Y10: はく落防止工
C11: S50 | E11: 20 | F11: 514.2 | G11: 覆工 | H11: アーチ（左側） | I11: 材質劣化 | J11: うき・はく離 | M11: 0.0075 | N11: （新規確認） | O11: － | P11: － | Q11: Ⅱb | R11: 否 | S11: 要監視 | T11: 未 | U11: ー | Y11: 監視
C12: S50 | E12: 21 | F12: 523.2 | G12: 覆工 | H12: 横断目地（左側） | I12: 漏水 | J12: 漏水 | M12: 1.75 | N12: （新規確認） | O12: － | P12: － | Q12: Ⅱb | R12: 否 | S12: 要監視 | T12: 未 | U12: ー | Y12: 監視
C13: S50 | E13: 22 | F13: 512.7 | G13: 覆工 | H13: 水平打ち継ぎ目（右側） | I13: 材質劣化 | J13: うき・はく離 | M13: 1.335 | N13: （新規確認） | O13: － | P13: － | Q13: Ⅱa | R13: 否 | S13: 要対策 | T13: 未 | U13: ー | Y13: はく落防止工
C14: S50 | E14: 23 | F14: 514.1 | G14: 覆工 | H14: 側壁（右側） | I14: 材質劣化 | J14: うき・はく離 | M14: 0.0125 | N14: （新規確認） | O14: － | P14: － | Q14: Ⅱb | R14: 否 | S14: 要監視 | T14: 未 | U14: ー | Y14: 監視
C15: S51 | E15: 1 | F15: 530 | G15: 覆工 | H15: 側壁（左側） | I15: 材質劣化 | J15: 圧ざ、ひび割れ | M15: 0.15 | N15: 0.15 | O15: Ⅱb | P15: － | Q15: Ⅱb | R15: 否 | S15: 要監視 | T15: 未 | U15: ー | Y15: 継続監視
C16: S51 | E16: 2 | F16: 523.3 | G16: 覆工 | H16: 横断目地（左側） | I16: 漏水 | J16: 補修・補強材の破損 | M16: 0.16 | N16: 0.16 | O16: Ⅱa | P16: － | Q16: Ⅱa | R16: 否 | S16: 要対策 | T16: 未 | U16: ー | Y16: 導水工施工
C17: S51 | E17: 3 | F17: 523.3 | G17: 覆工 | H17: 横断目地（左側） | I17: 材質劣化 | J17: うき・はく離 | M17: 0.01 | N17: 0.01 | O17: Ⅲ | P17: － | Q17: Ⅲ | R17: 否 | S17: 要対策 | T17: 未 | U17: ー | Y17: はく落防止工
C18: S51 | E18: 4 | F18: 524.9 | G18: 覆工 | H18: アーチ（左側） | I18: 材質劣化 | J18: うき・はく離 | M18: 0.03 | N18: 0.03 | O18: Ⅲ | P18: － | Q18: Ⅲ | R18: 否 | S18: 要対策 | T18: 未 | U18: ー | Y18: はく落防止工
C19: S51 | E19: 5 | F19: 525.2 | G19: 覆工 | H19: アーチ（左側） | I19: 材質劣化 | J19: うき・はく離 | M19: 0.008 | N19: 0.008 | O19: Ⅲ | P19: － | Q19: Ⅲ | R19: 否 | S19: 要対策 | T19: 未 | U19: ー | Y19: はく落防止工
C20: S51 | E20: 6 | F20: 523.3 | G20: 覆工 | H20: アーチ（左側） | I20: 材質劣化 | J20: 圧ざ、ひび割れ | M20: 0.62 | N20: 0.64 | O20: Ⅱb | P20: － | Q20: Ⅱb | R20: 否 | S20: 要監視 | T20: 未 | U20: ー | Y20: 継続監視
C21: S51 | E21: 7 | F21: 527.4 | G21: 覆工 | H21: アーチ（左側） | I21: 材質劣化 | J21: うき・はく離 | M21: 0.0025 | N21: 0.0025 | O21: Ⅲ | P21: － | Q21: Ⅲ | R21: 否 | S21: 要対策 | T21: 未 | U21: ー | Y21: はく落防止工
C22: S51 | E22: 8 | F22: 527 | G22: 覆工 | H22: アーチ（左側） | I22: 材質劣化 | J22: うき・はく離 | M22: 0.0025 | N22: 0.0025 | O22: Ⅲ | P22: － | Q22: Ⅲ | R22: 否 | S22: 要対策 | T22: 未 | U22: ー | Y22: はく落防止工
C23: S51 | E23: 9 | F23: 523.9 | G23: 覆工 | H23: アーチ（天端） | I23: 材質劣化 | J23: うき・はく離 | M23: 0.06 | N23: 0.04 | O23: Ⅱb | P23: － | Q23: Ⅰ | R23: 否 | S23: 否 | T23: 未 | U23: ー | Y23: 判定見直し
C24: S51 | E24: 10 | F24: 526.8 | G24: 覆工 | H24: アーチ（右側） | I24: 材質劣化 | J24: 圧ざ、ひび割れ | M24: 0.42 | N24: 0.38 | O24: Ⅱb | P24: － | Q24: Ⅱb | R24: 否 | S24: 要監視 | T24: 未 | U24: ー | Y24: 継続監視
C25: S51 | E25: 11 | F25: 532.3 | G25: 覆工 | H25: 側壁（右側） | I25: 漏水 | J25: 漏水 | M25: 0.9 | N25: - | O25: Ⅱb | P25: － | Q25: Ⅱb | R25: 否 | S25: 要監視 | T25: 未 | U25: ー | Y25: 継続監視
C26: S52 | E26: 1 | F26: 538.2 | G26: 覆工 | H26: 側壁（左側） | I26: 材質劣化 | J26: 圧ざ、ひび割れ | M26: 0.2 | N26: 0.21 | O26: Ⅱb | P26: － | Q26: Ⅱb | R26: 否 | S26: 要監視 | T26: 未 | U26: ー | Y26: 継続監視
C27: S52 | E27: 2 | F27: 538.6 | G27: 覆工 | H27: アーチ（左側） | I27: 材質劣化 | J27: 圧ざ、ひび割れ | M27: 0.64 | N27: 0.56 | O27: Ⅱb | P27: － | Q27: Ⅱb | R27: 否 | S27: 要監視 | T27: 未 | U27: ー | Y27: 継続監視
C28: S52 | E28: 3 | F28: 540.8 | G28: 覆工 | H28: アーチ（天端） | I28: 材質劣化 | J28: うき・はく離 | M28: 0.01 | N28: 0.01 | O28: Ⅱb | P28: － | Q28: Ⅱb | R28: 否 | S28: 要監視 | T28: 未 | U28: ー | Y28: 継続監視
C29: S52 | E29: 4 | F29: 540.4 | G29: 覆工 | H29: アーチ（右側） | I29: 材質劣化 | J29: 圧ざ、ひび割れ | M29: 0.43 | N29: 0.39 | O29: Ⅱb | P29: － | Q29: Ⅱb | R29: 否 | S29: 要監視 | T29: 未 | U29: ー | Y29: 継続監視
C30: S52 | E30: 5 | F30: 538.2 | G30: 覆工 | H30: 水平打ち継ぎ目（右側） | I30: 漏水 | J30: 漏水 | M30: 1.1 | N30: （新規確認） | O30: － | P30: － | Q30: Ⅱb | R30: 否 | S30: 要監視 | T30: 未 | U30: ー | Y30: 継続監視
C31: S53 | E31: 1 | F31: 550.8 | G31: 覆工 | H31: 側壁（左側） | I31: 材質劣化 | J31: 圧ざ、ひび割れ | M31: 0.14 | N31: 0.15 | O31: Ⅱb | P31: － | Q31: Ⅱb | R31: 否 | S31: 要監視 | T31: 未 | U31: ー | Y31: 継続監視
C32: S53 | E32: 2 | F32: 544.6 | G32: 覆工 | H32: 横断目地（左側） | I32: 漏水 | J32: 補修・補強材の破損 | M32: 0.03 | N32: 0.04 | O32: Ⅱb | P32: － | Q32: Ⅱb | R32: 否 | S32: 要監視 | T32: 未 | U32: ー | Y32: 継続監視
C33: S53 | E33: 3 | F33: 547.8 | G33: 覆工 | H33: アーチ（左側） | I33: 材質劣化 | J33: うき・はく離 | M33: 0.015 | N33: 0.015 | O33: Ⅲ | P33: － | Q33: Ⅰ | R33: 否 | S33: 否 | T33: 未 | U33: ー | Y33: （補修済）
C34: S53 | E34: 4 | F34: 548.7 | G34: 覆工 | H34: アーチ（左側） | I34: 材質劣化 | J34: うき・はく離 | M34: 0.01 | N34: 0.01 | O34: Ⅲ | P34: － | Q34: Ⅰ | R34: 否 | S34: 否 | T34: 未 | U34: ー | Y34: （補修済）
C35: S53 | E35: 5 | F35: 549.7 | G35: 覆工 | H35: アーチ（左側） | I35: 材質劣化 | J35: 圧ざ、ひび割れ | M35: 0.56 | N35: 0.53 | O35: Ⅱb | P35: － | Q35: Ⅱb | R35: 否 | S35: 要監視 | T35: 未 | U35: ー | Y35: 継続監視
C36: S53 | E36: 6 | F36: 544.5 | G36: 覆工 | H36: アーチ（右側） | I36: 材質劣化 | J36: 圧ざ、ひび割れ | M36: 0.09 | N36: 0.61 | O36: Ⅱb | P36: － | Q36: Ⅱb | R36: 否 | S36: 要監視 | T36: 未 | U36: ー | Y36: 継続監視
C37: S53 | E37: 7 | F37: 544.5 | G37: 覆工 | H37: 横断目地（右側） | I37: 材質劣化 | J37: うき・はく離 | M37: 0.01 | N37: 0.01 | O37: Ⅱb | P37: － | Q37: Ⅱb | R37: 否 | S37: 要監視 | T37: 未 | U37: ー | Y37: 継続監視
C38: S53 | E38: 8 | F38: 544.5 | G38: 覆工 | H38: アーチ（左側） | I38: 漏水 | J38: 漏水 | M38: 3.52 | N38: （新規確認） | O38: － | P38: － | Q38: Ⅱb | R38: 否 | S38: 要監視 | T38: 未 | U38: ー | Y38: 監視
C39: S53 | E39: 9 | F39: 554.9 | G39: 覆工 | H39: アーチ（左側） | I39: 漏水 | J39: 漏水 | M39: 2.05 | N39: （新規確認） | O39: － | P39: － | Q39: Ⅱb | R39: 否 | S39: 要監視 | T39: 未 | U39: ー | Y39: 監視
C40: S53 | E40: 10 | F40: 553.6 | G40: 覆工 | H40: 水平打ち継ぎ目（右側） | I40: 漏水 | J40: 漏水 | M40: 1.1 | N40: （新規確認） | O40: － | P40: － | Q40: Ⅱb | R40: 否 | S40: 要監視 | T40: 未 | U40: ー | Y40: 監視
C41: S54 | E41: 1 | F41: 555.1 | G41: 覆工 | H41: アーチ（左側） | I41: 材質劣化 | J41: 圧ざ、ひび割れ | M41: 0.46 | N41: 0.42 | O41: Ⅱb | P41: － | Q41: Ⅱb | R41: 否 | S41: 要監視 | T41: 未 | U41: ー | Y41: 継続監視
C42: ※ 対策区分（応急措置後）のⅡb～Ⅳについて記入すること。また、点検前に実施された措置によりⅠと判定された変状も記入すること。
C43: ※ 応急措置を実施しないで判定した変状の対策区分は、対策区分の応急措置後の欄に記入すること。
C44: ※ 変状の除去が不完全で、緊急対応が必要な場合は対応方針欄に記入すること。
C45: ※ １区間の覆工に複数の変状がある場合は、変状箇所毎に記入すること。
C46: ※ 措置・監視点検を行った場合には、措置履歴、特記事項に記録を残すこと。（実施年度も記載）
C47: ※ 行が不足する場合は、適時、表の行を増やすこと。

Sheet 様式C-1-1 (18)
B2: ■定期点検記録様式 全スパン定期点検結果総括表（トンネル本体工） 【様式C-1-1】
B3: フリガナ | F3: ='様式A-1'!D3 -> ヒコシマトンネル | I3: 路線名 | K3: ='様式A-1'!J3 -> 福浦港金毘羅線 | O3: 定期点検実施者 | P3: ='様式B (1)'!S3 -> アジア航測株式会社 | T3: 定期点検年月日 | X3: ='様式B (1)'!P2 -> 45896
B4: 名 称 | F4: ='様式A-1'!D4 -> 彦島トンネル | I4: 管理者名 | K4: ='様式A-1'!R3 -> 山口県 下関土木建築事務所 | P4: ='様式B (1)'!S4 -> 飯田 琢巳
C5: 覆工 スパン 番号 | E5: 変状 番号 | F5: 距離 （m） | G5: 変状部位 | I5: 変 状 の 内 容 | O5: 前回定期点検時の状態 | P5: 今回定期点検結果 | T5: 措置履歴 | Y5: 対応方針 ・ 特記事項
O6: 44271
G7: 対象箇所 | H7: 部位区分 | I7: 変状区分 | J7: 変状種類 | M7: 変状の発生範囲の規模 | N7: 前回定期点検時の変状の発生範囲及び規模 | O7: 対策区分 | P7: 対策区分 | R7: 調査の 要否 | S7: 措置の 要否 | T7: 実施 | U7: 措置の実施状況
P8: 応急措置前 | Q8: 応急措置後
B9: 定期点検結果 | C9: S54 | E9: 2 | F9: 560.5 | G9: 覆工 | H9: アーチ（右側） | I9: 材質劣化 | J9: 圧ざ、ひび割れ | M9: 0.27 | N9: 0.3 | O9: Ⅱb | P9: － | Q9: Ⅱb | R9: 否 | S9: 要監視 | T9: 未 | U9: ー | Y9: 継続監視
C10: S54 | E10: 3 | F10: 556.6 | G10: 覆工 | H10: 側壁（右側） | I10: 漏水 | J10: 漏水 | M10: 2.02 | N10: （新規確認） | O10: － | P10: － | Q10: Ⅱb | R10: 否 | S10: 要監視 | T10: 未 | U10: ー | Y10: 継続監視
C11: S54 | E11: 4 | F11: 564.1 | G11: 覆工 | H11: 側壁（右側） | I11: 漏水 | J11: 漏水 | M11: 0.8 | N11: （新規確認） | O11: － | P11: － | Q11: Ⅱb | R11: 否 | S11: 要監視 | T11: 未 | U11: ー | Y11: 継続監視
C12: S55 | E12: 1 | F12: 567.3 | G12: 覆工 | H12: 水平打ち継ぎ目（左側） | I12: 漏水 | J12: 漏水 | M12: 1.1 | N12: - | O12: Ⅱb | P12: － | Q12: Ⅱb | R12: 否 | S12: 要監視 | T12: 未 | U12: ー | Y12: 継続監視
C13: S55 | E13: 2 | F13: 568.8 | G13: 覆工 | H13: 側壁（左側） | I13: 材質劣化 | J13: 圧ざ、ひび割れ | M13: 0.21 | N13: 0.22 | O13: Ⅱb | P13: － | Q13: Ⅱb | R13: 否 | S13: 要監視 | T13: 未 | U13: ー | Y13: 継続監視
C14: S55 | E14: 3 | F14: 568.8 | G14: 覆工 | H14: アーチ（左側） | I14: 材質劣化 | J14: うき・はく離 | M14: 0.04 | N14: 0.02 | O14: Ⅱb | P14: － | Q14: Ⅱb | R14: 否 | S14: 要監視 | T14: 未 | U14: ー | Y14: 継続監視
C15: S55 | E15: 4 | F15: 268.9 | G15: 覆工 | H15: アーチ（左側） | I15: 材質劣化 | J15: 圧ざ、ひび割れ | M15: 0.53 | N15: 0.66 | O15: Ⅱb | P15: － | Q15: Ⅱb | R15: 否 | S15: 要監視 | T15: 未 | U15: ー | Y15: 継続監視
C16: S55 | E16: 5 | F16: 569.8 | G16: 覆工 | H16: アーチ（右側） | I16: 材質劣化 | J16: 圧ざ、ひび割れ | M16: 0.09 | N16: 0.09 | O16: Ⅱb | P16: － | Q16: Ⅱb | R16: 否 | S16: 要監視 | T16: 未 | U16: ー | Y16: 継続監視
C17: S55 | E17: 6 | F17: 569.8 | G17: 覆工 | H17: アーチ（右側） | I17: 材質劣化 | J17: うき・はく離 | M17: 0.0375 | N17: 0.0375 | O17: Ⅱb | P17: － | Q17: Ⅰ | R17: 否 | S17: 否 | T17: 未 | U17: ー | Y17: 判定見直し
C18: S55 | E18: 7 | F18: 565.7 | G18: 路面 | H18: 歩道 | J18: その他 | M18: - | N18: - | O18: Ⅱb | R18: 否 | S18: 否 | T18: 未 | U18: ー
C19: S55 | E19: 8 | F19: 568.5 | G19: 覆工 | H19: 水平打ち継ぎ目（右側） | I19: 材質劣化 | J19: うき・はく離 | M19: 0.09 | N19: （新規確認） | O19: － | P19: － | Q19: Ⅱb | R19: 否 | S19: 要監視 | T19: 未 | U19: ー | Y19: 監視
C20: S55 | E20: 9 | F20: 570.5 | G20: 覆工 | H20: 水平打ち継ぎ目（右側） | I20: 材質劣化 | J20: うき・はく離 | M20: 0.13 | N20: （新規確認） | O20: － | P20: － | Q20: Ⅱb | R20: 否 | S20: 要監視 | T20: 未 | U20: ー | Y20: 監視
C21: S55 | E21: 10 | F21: 567.2 | G21: 覆工 | H21: 側壁（右側） | I21: 漏水 | J21: 漏水 | M21: 2.2 | N21: （新規確認） | O21: － | P21: － | Q21: Ⅱb | R21: 否 | S21: 要監視 | T21: 未 | U21: ー | Y21: 監視
C22: S55 | E22: 11 | F22: 574.9 | G22: 覆工 | H22: 側壁（右側） | I22: 漏水 | J22: 漏水 | M22: 1.36 | N22: （新規確認） | O22: － | P22: － | Q22: Ⅱb | R22: 否 | S22: 要監視 | T22: 未 | U22: ー | Y22: 監視
C23: S56 | E23: 1 | F23: 577.7 | G23: 覆工 | H23: 側壁（左側） | I23: 漏水 | J23: 漏水 | M23: 1.05 | N23: - | O23: Ⅱb | P23: － | Q23: Ⅱb | R23: 否 | S23: 要監視 | T23: 未 | U23: ー | Y23: 継続監視
C24: S56 | E24: 2 | F24: 586.7 | G24: 覆工 | H24: 水平打ち継ぎ目（左側） | I24: 材質劣化 | J24: うき・はく離 | M24: 0.015 | N24: 0.015 | O24: Ⅱb | P24: － | Q24: Ⅰ | R24: 否 | S24: 否 | T24: 未 | U24: ー | Y24: 判定見直し
C25: S56 | E25: 3 | F25: 586.8 | G25: 覆工 | H25: 横断目地（左側） | I25: 材質劣化 | J25: うき・はく離 | M25: 0.0175 | N25: 0.0175 | O25: Ⅲ | P25: － | Q25: Ⅲ | R25: 否 | S25: 要対策 | T25: 未 | U25: ー | Y25: はく落防止工
C26: S56 | E26: 4 | F26: 576.3 | G26: 覆工 | H26: アーチ（天端） | I26: 材質劣化 | J26: うき・はく離 | M26: 0.0245 | N26: 0.0245 | O26: Ⅲ | P26: － | Q26: Ⅲ | R26: 否 | S26: 要対策 | T26: 未 | U26: ー | Y26: はく落防止工
C27: S56 | E27: 5 | F27: 579.2 | G27: 覆工 | H27: アーチ（全周） | I27: 材質劣化 | J27: 圧ざ、ひび割れ | M27: 0.42 | N27: 0.46 | O27: Ⅱb | P27: － | Q27: Ⅱb | R27: 否 | S27: 要監視 | T27: 未 | U27: ー | Y27: 継続監視
C28: S56 | E28: 6 | F28: 586.8 | G28: 覆工 | H28: 横断目地（右側） | I28: 材質劣化 | J28: うき・はく離 | M28: 0.015 | N28: 0.035 | O28: Ⅱb | P28: － | Q28: Ⅰ | R28: 否 | S28: 否 | T28: 未 | U28: ー | Y28: 判定見直し
C29: S56 | E29: 7 | F29: 582 | G29: 覆工 | H29: 側壁（右側） | I29: 材質劣化 | J29: 圧ざ、ひび割れ | M29: 0.17 | N29: 0.16 | O29: Ⅱb | P29: － | Q29: Ⅱb | R29: 否 | S29: 要監視 | T29: 未 | U29: ー | Y29: 継続監視
C30: S56 | E30: 8 | F30: 579.1 | G30: 覆工 | H30: 水平打ち継ぎ目（右側） | I30: 材質劣化 | J30: うき・はく離 | M30: 0.03 | N30: （新規確認） | O30: － | P30: － | Q30: Ⅱb | R30: 否 | S30: 要監視 | T30: 未 | U30: ー | Y30: 監視
C31: S56 | E31: 9 | F31: 585.6 | G31: 覆工 | H31: 水平打ち継ぎ目（右側） | I31: 材質劣化 | J31: うき・はく離 | M31: 0.13 | N31: （新規確認） | O31: － | P31: － | Q31: Ⅱb | R31: 否 | S31: 要監視 | T31: 未 | U31: ー | Y31: 監視
C32: S57 | E32: 1 | F32: 591.4 | G32: 覆工 | H32: 側壁（左側） | I32: 材質劣化 | J32: 圧ざ、ひび割れ | M32: 0.14 | N32: 0.14 | O32: Ⅱb | P32: － | Q32: Ⅱb | R32: 否 | S32: 要監視 | T32: 未 | U32: ー | Y32: 継続監視
C33: S57 | E33: 2 | F33: 587.8 | G33: 覆工 | H33: 水平打ち継ぎ目（左側） | I33: 材質劣化 | J33: うき・はく離 | M33: 0.08 | N33: 0.08 | O33: Ⅱb | P33: － | Q33: Ⅱb | R33: 否 | S33: 要監視 | T33: 未 | U33: ー | Y33: 継続監視
C34: S57 | E34: 3 | F34: 597.4 | G34: 覆工 | H34: 横断目地（左側） | I34: 材質劣化 | J34: うき・はく離 | M34: 0.045 | N34: 0.045 | O34: Ⅱb | P34: － | Q34: Ⅱb | R34: 否 | S34: 要監視 | T34: 未 | U34: ー | Y34: 継続監視
C35: S57 | E35: 4 | F35: 592.2 | G35: 覆工 | H35: アーチ（左側） | I35: 材質劣化 | J35: 圧ざ、ひび割れ | M35: 0.29 | N35: 0.25 | O35: Ⅱb | P35: － | Q35: Ⅱb | R35: 否 | S35: 要監視 | T35: 未 | U35: ー | Y35: 継続監視
C36: S57 | E36: 5 | F36: 592.5 | G36: 覆工 | H36: アーチ（右側） | I36: 材質劣化 | J36: 圧ざ、ひび割れ | M36: 0.58 | N36: 0.5 | O36: Ⅱb | P36: － | Q36: Ⅱb | R36: 否 | S36: 要監視 | T36: 未 | U36: ー | Y36: 継続監視
C37: S57 | E37: 6 | F37: 588.8 | G37: 覆工 | H37: 水平打ち継ぎ目（右側） | I37: 材質劣化 | J37: うき・はく離 | M37: 0.06 | N37: 0.075 | O37: Ⅱb | P37: － | Q37: Ⅱb | R37: 否 | S37: 要監視 | T37: 未 | U37: ー | Y37: 継続監視
C38: S57 | E38: 7 | F38: 591.6 | G38: 覆工 | H38: 側壁（右側） | I38: 材質劣化 | J38: 圧ざ、ひび割れ | M38: 0.22 | N38: 0.21 | O38: Ⅱb | P38: － | Q38: Ⅱb | R38: 否 | S38: 要監視 | T38: 未 | U38: ー | Y38: 継続監視
C39: S57 | E39: 8 | F39: 593.4 | G39: 覆工 | H39: 水平打ち継ぎ目（右側） | I39: 材質劣化 | J39: うき・はく離 | M39: 0.41 | N39: （新規確認） | O39: － | P39: － | Q39: Ⅱa | R39: 否 | S39: 要対策 | T39: 未 | U39: ー | Y39: はく落防止工
C40: S57 | E40: 9 | F40: 586.9 | G40: 覆工 | H40: 水平打ち継ぎ目（右側） | I40: 材質劣化 | J40: うき・はく離 | M40: 0.15 | N40: （新規確認） | O40: － | P40: － | Q40: Ⅱb | R40: 否 | S40: 要監視 | T40: 未 | U40: ー | Y40: 継続監視
C41: S57 | E41: 10 | F41: 596 | G41: 覆工 | H41: 側壁（右側） | I41: 材質劣化 | J41: うき・はく離 | M41: 0.12 | N41: （新規確認） | O41: － | P41: － | Q41: Ⅱb | R41: 否 | S41: 要監視 | T41: 未 | U41: ー | Y41: 継続監視
C42: ※ 対策区分（応急措置後）のⅡb～Ⅳについて記入すること。また、点検前に実施された措置によりⅠと判定された変状も記入すること。
C43: ※ 応急措置を実施しないで判定した変状の対策区分は、対策区分の応急措置後の欄に記入すること。
C44: ※ 変状の除去が不完全で、緊急対応が必要な場合は対応方針欄に記入すること。
C45: ※ １区間の覆工に複数の変状がある場合は、変状箇所毎に記入すること。
C46: ※ 措置・監視点検を行った場合には、措置履歴、特記事項に記録を残すこと。（実施年度も記載）
C47: ※ 行が不足する場合は、適時、表の行を増やすこと。

Sheet 様式C-1-1 (19)
B2: ■定期点検記録様式 全スパン定期点検結果総括表（トンネル本体工） 【様式C-1-1】
B3: フリガナ | F3: ='様式A-1'!D3 -> ヒコシマトンネル | I3: 路線名 | K3: ='様式A-1'!J3 -> 福浦港金毘羅線 | O3: 定期点検実施者 | P3: ='様式B (1)'!S3 -> アジア航測株式会社 | T3: 定期点検年月日 | X3: ='様式B (1)'!P2 -> 45896
B4: 名 称 | F4: ='様式A-1'!D4 -> 彦島トンネル | I4: 管理者名 | K4: ='様式A-1'!R3 -> 山口県 下関土木建築事務所 | P4: ='様式B (1)'!S4 -> 飯田 琢巳
C5: 覆工 スパン 番号 | E5: 変状 番号 | F5: 距離 （m） | G5: 変状部位 | I5: 変 状 の 内 容 | O5: 前回定期点検時の状態 | P5: 今回定期点検結果 | T5: 措置履歴 | Y5: 対応方針 ・ 特記事項
O6: 44271
G7: 対象箇所 | H7: 部位区分 | I7: 変状区分 | J7: 変状種類 | M7: 変状の発生範囲の規模 | N7: 前回定期点検時の変状の発生範囲及び規模 | O7: 対策区分 | P7: 対策区分 | R7: 調査の 要否 | S7: 措置の 要否 | T7: 実施 | U7: 措置の実施状況
P8: 応急措置前 | Q8: 応急措置後
B9: 定期点検結果 | C9: S58 | E9: 1 | F9: 601 | G9: 覆工 | H9: アーチ（天端） | I9: 材質劣化 | J9: その他 | M9: 0.01 | N9: 0.01 | O9: Ⅱb | P9: － | Q9: Ⅱb | R9: 否 | S9: 要監視 | T9: 未 | U9: ー | Y9: 継続監視
C10: S58 | E10: 2 | F10: 607.9 | G10: 覆工 | H10: 横断目地（天端） | I10: 材質劣化 | J10: うき・はく離 | M10: 0.01 | N10: 0.01 | O10: Ⅲ | P10: － | Q10: Ⅰ | R10: 否 | S10: 否 | T10: 未 | U10: ー | Y10: 判定見直し
C11: S58 | E11: 3 | F11: 597.5 | G11: 覆工 | H11: アーチ（右側） | I11: 材質劣化 | J11: うき・はく離 | M11: 0.01 | N11: 0.01 | O11: Ⅲ | P11: － | Q11: Ⅲ | R11: 否 | S11: 要対策 | T11: 未 | U11: ー | Y11: はく落防止工
C12: S58 | E12: 4 | F12: 598.7 | G12: 覆工 | H12: アーチ（右側） | I12: 材質劣化 | J12: うき・はく離 | M12: 0.0245 | N12: 0.0225 | O12: Ⅱb | P12: － | Q12: Ⅱb | R12: 否 | S12: 要監視 | T12: 未 | U12: ー | Y12: 継続監視
C13: S58 | E13: 5 | F13: 597.5 | G13: 覆工 | H13: アーチ（右側） | I13: 材質劣化 | J13: 圧ざ、ひび割れ | M13: 1.12 | N13: 1.05 | O13: Ⅱb | P13: － | Q13: Ⅱb | R13: 否 | S13: 要監視 | T13: 未 | U13: ー | Y13: 継続監視
C14: S58 | E14: 6 | F14: 605.2 | G14: 覆工 | H14: アーチ（右側） | I14: 漏水 | J14: 漏水 | M14: 5.6 | N14: - | O14: Ⅱb | P14: － | Q14: Ⅱb | R14: 否 | S14: 要監視 | T14: 未 | U14: ー | Y14: 継続監視
C15: S58 | E15: 7 | F15: 606.4 | G15: 覆工 | H15: 側壁（左側） | I15: 漏水 | J15: 漏水 | M15: 0.55 | N15: （新規確認） | O15: － | P15: － | Q15: Ⅱb | R15: 否 | S15: 要監視 | T15: 未 | U15: ー | Y15: 監視
C16: S58 | E16: 8 | F16: 597.5 | G16: 覆工 | H16: 水平打ち継ぎ目（右側） | I16: 材質劣化 | J16: うき・はく離 | M16: 0.15 | N16: （新規確認） | O16: － | P16: － | Q16: Ⅱb | R16: 否 | S16: 要監視 | T16: 未 | U16: ー | Y16: 監視
C17: S59 | E17: 1 | F17: 614 | G17: 覆工 | H17: 側壁（左側） | I17: 材質劣化 | J17: 圧ざ、ひび割れ | M17: 0.19 | N17: 0.2 | O17: Ⅱb | P17: － | Q17: Ⅱb | R17: 否 | S17: 要監視 | T17: 未 | U17: ー | Y17: 継続監視
C18: S59 | E18: 2 | F18: 610.6 | G18: 覆工 | H18: 水平打ち継ぎ目（左側） | I18: 材質劣化 | J18: うき・はく離 | M18: 0.28 | N18: 0.16 | O18: Ⅱb | P18: － | Q18: Ⅱa | R18: 否 | S18: 要対策 | T18: 未 | U18: ー | Y18: はく落防止工
C19: S59 | E19: 3 | F19: 618.4 | G19: 覆工 | H19: 横断目地（左側） | I19: 材質劣化 | J19: うき・はく離 | M19: 0.07 | N19: 0.12 | O19: Ⅱb | P19: － | Q19: Ⅱb | R19: 否 | S19: 要監視 | T19: 未 | U19: ー | Y19: 継続監視
C20: S59 | E20: 4 | F20: 617.5 | G20: 覆工 | H20: アーチ（左側） | I20: 材質劣化 | J20: うき・はく離 | M20: 0.01 | N20: 0.01 | O20: Ⅱb | P20: － | Q20: Ⅱb | R20: 否 | S20: 要監視 | T20: 未 | U20: ー | Y20: 継続監視
C21: S59 | E21: 5 | F21: 609.6 | G21: 覆工 | H21: アーチ（天端） | I21: 材質劣化 | J21: うき・はく離 | M21: 0.01 | N21: 0.01 | O21: Ⅱb | P21: － | Q21: Ⅱb | R21: 否 | S21: 要監視 | T21: 未 | U21: ー | Y21: 継続監視
C22: S59 | E22: 6 | F22: 616.2 | G22: 覆工 | H22: アーチ（右側） | I22: 材質劣化 | J22: うき・はく離 | M22: 0.01 | N22: 0.01 | O22: Ⅲ | P22: － | Q22: Ⅰ | R22: 否 | S22: 否 | T22: 未 | U22: ー | Y22: 判定見直し
C23: S59 | E23: 7 | F23: 616.9 | G23: 覆工 | H23: アーチ（右側） | I23: 材質劣化 | J23: うき・はく離 | M23: 0.005 | N23: 0.005 | O23: Ⅲ | P23: － | Q23: Ⅲ | R23: 否 | S23: 要対策 | T23: 未 | U23: ー | Y23: はく落防止工
C24: S59 | E24: 8 | F24: 614.6 | G24: 覆工 | H24: アーチ（全周） | I24: 材質劣化 | J24: 圧ざ、ひび割れ | M24: 0.62 | N24: 0.59 | O24: Ⅱb | P24: － | Q24: Ⅱb | R24: 否 | S24: 要監視 | T24: 未 | U24: ー | Y24: 継続監視
C25: S59 | E25: 9 | F25: 618.5 | G25: 覆工 | H25: 横断目地（右側） | I25: 材質劣化 | J25: うき・はく離 | M25: 0.1 | N25: 0.015 | O25: Ⅱb | P25: － | Q25: Ⅱb | R25: 否 | S25: 要監視 | T25: 未 | U25: ー | Y25: 継続監視
C26: S59 | E26: 10 | F26: 618.5 | G26: 覆工 | H26: 横断目地（右側） | I26: 漏水 | J26: 補修・補強材の破損 | M26: 0.38 | N26: 0.225 | O26: Ⅱa | P26: － | Q26: Ⅱa | R26: 否 | S26: 要監視 | T26: 未 | U26: ー | Y26: 継続監視
C27: S59 | E27: 11 | F27: 613.6 | G27: 覆工 | H27: 水平打ち継ぎ目（左側） | I27: 材質劣化 | J27: うき・はく離 | M27: 0.21 | N27: （新規確認） | O27: － | P27: － | Q27: Ⅱa | R27: 否 | S27: 要対策 | T27: 未 | U27: ー | Y27: はく落防止工
C28: S59 | E28: 12 | F28: 610.6 | G28: 覆工 | H28: 水平打ち継ぎ目（右側） | I28: 材質劣化 | J28: うき・はく離 | M28: 0.62 | N28: （新規確認） | O28: － | P28: － | Q28: Ⅱa | R28: 否 | S28: 要対策 | T28: 未 | U28: ー | Y28: はく落防止工
C29: S60 | E29: 1 | F29: 623.1 | G29: 覆工 | H29: 側壁（左側） | I29: 材質劣化 | J29: 圧ざ、ひび割れ | M29: 0.21 | N29: 0.22 | O29: Ⅱb | P29: － | Q29: Ⅱb | R29: 否 | S29: 要監視 | T29: 未 | U29: ー | Y29: 継続監視
C30: S60 | E30: 2 | F30: 624 | G30: 覆工 | H30: 水平打ち継ぎ目（左側） | I30: 材質劣化 | J30: うき・はく離 | M30: 0.45 | N30: 0.335 | O30: Ⅱb | P30: － | Q30: Ⅱb | R30: 否 | S30: 要監視 | T30: 未 | U30: ー | Y30: 継続監視
C31: S60 | E31: 3 | F31: 629 | G31: 覆工 | H31: 横断目地（左側） | I31: 材質劣化 | J31: うき・はく離 | M31: 0.01 | N31: 0.02 | O31: Ⅱb | P31: － | Q31: Ⅱb | R31: 否 | S31: 要監視 | T31: 未 | U31: ー | Y31: 継続監視
C32: S60 | E32: 4 | F32: 623.1 | G32: 覆工 | H32: アーチ（左側） | I32: 材質劣化 | J32: 圧ざ、ひび割れ | M32: 0.41 | N32: 0.38 | O32: Ⅱb | P32: － | Q32: Ⅱb | R32: 否 | S32: 要監視 | T32: 未 | U32: ー | Y32: 継続監視
C33: S60 | E33: 5 | F33: 618.6 | G33: 覆工 | H33: 横断目地（左側） | I33: 材質劣化 | J33: うき・はく離 | M33: 0.1725 | N33: 0.1725 | O33: Ⅲ | P33: － | Q33: Ⅰ | R33: 否 | S33: 否 | T33: 未 | U33: ー | Y33: （補修済）
C34: S60 | E34: 6 | F34: 622.8 | G34: 覆工 | H34: アーチ（左側） | I34: 材質劣化 | J34: うき・はく離 | M34: 0.01 | N34: 0.01 | O34: Ⅱb | P34: － | Q34: Ⅱb | R34: 否 | S34: 要監視 | T34: 未 | U34: ー | Y34: 継続監視
C35: S60 | E35: 7 | F35: 625.5 | G35: 覆工 | H35: アーチ（天端） | I35: 材質劣化 | J35: うき・はく離 | M35: 0.01 | N35: 0.01 | O35: Ⅱb | P35: － | Q35: Ⅱb | R35: 否 | S35: 要監視 | T35: 未 | U35: ー | Y35: 継続監視
C36: S60 | E36: 8 | F36: 622.4 | G36: 覆工 | H36: アーチ（右側） | I36: 外力 | J36: 圧ざ、ひび割れ | M36: 0.7 | N36: 0.8 | O36: Ⅱb | P36: － | Q36: Ⅱa | R36: 否 | S36: 要対策 | T36: 未 | U36: ー | Y36: ひび割れ充填工
C37: S60 | E37: 9 | F37: 618.6 | G37: 路面 | H37: 側溝 | J37: その他 | M37: 2.12 | N37: 2.12 | O37: Ⅱb | R37: 否 | S37: 否 | T37: 未 | U37: ー
C38: S60 | E38: 10 | F38: 627.7 | G38: 覆工 | H38: 側壁（左側） | I38: 材質劣化 | J38: うき・はく離 | M38: 0.1 | N38: （新規確認） | O38: － | P38: － | Q38: Ⅱb | R38: 否 | S38: 要監視 | T38: 未 | U38: ー | Y38: 監視
C39: S60 | E39: 11 | F39: 624.5 | G39: 覆工 | H39: アーチ（右側） | I39: 外力 | J39: 変形・移動 | M39: 3.0mm | N39: （新規確認） | O39: － | P39: － | Q39: Ⅱb | R39: 否 | S39: 要監視 | T39: 未 | U39: ー | Y39: 監視
C40: S60 | E40: 12 | F40: 629.2 | G40: 覆工 | H40: 横断目地（右側） | I40: 漏水 | J40: 補修・補強材の破損 | M40: 0.2 | N40: （新規確認） | O40: － | P40: － | Q40: Ⅱb | R40: 否 | S40: 要監視 | T40: 未 | U40: ー | Y40: 監視
C41: S60 | E41: 13 | F41: 627.7 | G41: 覆工 | H41: 側壁（右側） | I41: 漏水 | J41: 漏水 | M41: 0.45 | N41: （新規確認） | O41: － | P41: － | Q41: Ⅱb | R41: 否 | S41: 要監視 | T41: 未 | U41: ー | Y41: 監視
C42: ※ 対策区分（応急措置後）のⅡb～Ⅳについて記入すること。また、点検前に実施された措置によりⅠと判定された変状も記入すること。
C43: ※ 応急措置を実施しないで判定した変状の対策区分は、対策区分の応急措置後の欄に記入すること。
C44: ※ 変状の除去が不完全で、緊急対応が必要な場合は対応方針欄に記入すること。
C45: ※ １区間の覆工に複数の変状がある場合は、変状箇所毎に記入すること。
C46: ※ 措置・監視点検を行った場合には、措置履歴、特記事項に記録を残すこと。（実施年度も記載）
C47: ※ 行が不足する場合は、適時、表の行を増やすこと。

Sheet 様式C-1-1 (20)
B2: ■定期点検記録様式 全スパン定期点検結果総括表（トンネル本体工） 【様式C-1-1】
B3: フリガナ | F3: ='様式A-1'!D3 -> ヒコシマトンネル | I3: 路線名 | K3: ='様式A-1'!J3 -> 福浦港金毘羅線 | O3: 定期点検実施者 | P3: ='様式B (1)'!S3 -> アジア航測株式会社 | T3: 定期点検年月日 | X3: ='様式B (1)'!P2 -> 45896
B4: 名 称 | F4: ='様式A-1'!D4 -> 彦島トンネル | I4: 管理者名 | K4: ='様式A-1'!R3 -> 山口県 下関土木建築事務所 | P4: ='様式B (1)'!S4 -> 飯田 琢巳
C5: 覆工 スパン 番号 | E5: 変状 番号 | F5: 距離 （m） | G5: 変状部位 | I5: 変 状 の 内 容 | O5: 前回定期点検時の状態 | P5: 今回定期点検結果 | T5: 措置履歴 | Y5: 対応方針 ・ 特記事項
O6: 44271
G7: 対象箇所 | H7: 部位区分 | I7: 変状区分 | J7: 変状種類 | M7: 変状の発生範囲の規模 | N7: 前回定期点検時の変状の発生範囲及び規模 | O7: 対策区分 | P7: 対策区分 | R7: 調査の 要否 | S7: 措置の 要否 | T7: 実施 | U7: 措置の実施状況
P8: 応急措置前 | Q8: 応急措置後
B9: 定期点検結果 | C9: S61 | E9: 1 | F9: 629.6 | G9: 覆工 | H9: 側壁（左側） | I9: 材質劣化 | J9: うき・はく離 | M9: 0.24 | N9: 0.35 | O9: Ⅱb | P9: － | Q9: Ⅱb | R9: 否 | S9: 要監視 | T9: 未 | U9: ー | Y9: 継続監視
C10: S61 | E10: 2 | F10: 633.1 | G10: 覆工 | H10: 水平打ち継ぎ目（左側） | I10: 材質劣化 | J10: うき・はく離 | M10: 0.1 | N10: 0.21 | O10: Ⅱb | P10: － | Q10: Ⅱb | R10: 否 | S10: 要監視 | T10: 未 | U10: ー | Y10: 継続監視
C11: S61 | E11: 3 | F11: 634.9 | G11: 覆工 | H11: アーチ（左側） | I11: 材質劣化 | J11: 圧ざ、ひび割れ | M11: 0.52 | N11: 1.03 | O11: Ⅱb | P11: － | Q11: Ⅱb | R11: 否 | S11: 要監視 | T11: 未 | U11: ー | Y11: 継続監視
C12: S61 | E12: 4 | F12: 639.4 | G12: 覆工 | H12: アーチ（左側） | I12: 漏水 | J12: 漏水 | M12: 2.35 | N12: - | O12: Ⅱb | P12: － | Q12: Ⅱb | R12: 否 | S12: 要監視 | T12: 未 | U12: ー | Y12: 継続監視
C13: S61 | E13: 5 | F13: 632.1 | G13: 覆工 | H13: アーチ（左側） | I13: 材質劣化 | J13: うき・はく離 | M13: 0.0025 | N13: 0.0025 | O13: Ⅲ | P13: － | Q13: Ⅲ | R13: 否 | S13: 要対策 | T13: 未 | U13: ー | Y13: はく落防止工
C14: S61 | E14: 6 | F14: 633 | G14: 覆工 | H14: アーチ（左側） | I14: 材質劣化 | J14: うき・はく離 | M14: 0.03 | N14: 0.045 | O14: Ⅲ | P14: － | Q14: Ⅲ | R14: 否 | S14: 要対策 | T14: 未 | U14: ー | Y14: はく落防止工
C15: S61 | E15: 7 | F15: 636.1 | G15: 覆工 | H15: アーチ（左側） | I15: 材質劣化 | J15: うき・はく離 | M15: 0.0025 | N15: 0.0025 | O15: Ⅲ | P15: － | Q15: Ⅲ | R15: 否 | S15: 要対策 | T15: 未 | U15: ー | Y15: はく落防止工
C16: S61 | E16: 8 | F16: 636.8 | G16: 覆工 | H16: アーチ（左側） | I16: 材質劣化 | J16: うき・はく離 | M16: 0.075 | N16: 0.075 | O16: Ⅲ | P16: － | Q16: Ⅲ | R16: 否 | S16: 要対策 | T16: 未 | U16: ー | Y16: はく落防止工
C17: S61 | E17: 9 | F17: 638.7 | G17: 覆工 | H17: アーチ（左側） | I17: 材質劣化 | J17: うき・はく離 | M17: 0.01 | N17: 0.01 | O17: Ⅲ | P17: － | Q17: Ⅲ | R17: 否 | S17: 要監視 | T17: 未 | U17: ー | Y17: 継続監視
C18: S61 | E18: 10 | F18: 629.2 | G18: 覆工 | H18: 横断目地（左側） | I18: 材質劣化 | J18: うき・はく離 | M18: 0.135 | N18: 0.135 | O18: Ⅲ | P18: － | Q18: Ⅰ | R18: 否 | S18: 否 | T18: 未 | U18: ー | Y18: （補修済）
C19: S61 | E19: 11 | F19: 633.4 | G19: 覆工 | H19: アーチ（左側） | I19: 材質劣化 | J19: うき・はく離 | M19: 0.01 | N19: 0.01 | O19: Ⅱb | P19: － | Q19: Ⅱb | R19: 否 | S19: 要監視 | T19: 未 | U19: ー | Y19: 継続監視
C20: S61 | E20: 12 | F20: 635.4 | G20: 覆工 | H20: アーチ（左側） | I20: 材質劣化 | J20: うき・はく離 | M20: 0.02 | N20: 0.02 | O20: Ⅱb | P20: － | Q20: Ⅱb | R20: 否 | S20: 要監視 | T20: 未 | U20: ー | Y20: 継続監視
C21: S61 | E21: 13 | F21: 629.2 | G21: 覆工 | H21: 横断目地（天端） | I21: 材質劣化 | J21: うき・はく離 | M21: 0.32 | N21: 0.32 | O21: Ⅲ | P21: － | Q21: Ⅲ | R21: 否 | S21: 要対策 | T21: 未 | U21: ー | Y21: はく落防止工
C22: S61 | E22: 14 | F22: 629.4 | G22: 覆工 | H22: アーチ（天端） | I22: 材質劣化 | J22: うき・はく離 | M22: 0.045 | N22: 0.0675 | O22: Ⅰ | P22: － | Q22: Ⅰ | R22: 否 | S22: 否 | T22: 未 | U22: ー
C23: S61 | E23: 15 | F23: 639.7 | G23: 覆工 | H23: 横断目地（天端） | I23: 材質劣化 | J23: うき・はく離 | M23: 0.075 | N23: 0.075 | O23: Ⅱb | P23: － | Q23: Ⅰ | R23: 否 | S23: 否 | T23: 未 | U23: ー | Y23: 判定見直し
C24: S61 | E24: 16 | F24: 629.2 | G24: 覆工 | H24: 横断目地（右側） | I24: 漏水 | J24: 補修・補強材の破損 | M24: 0.32 | N24: 0.63 | O24: Ⅱb | P24: － | Q24: Ⅱb | R24: 否 | S24: 要監視 | T24: 未 | U24: ー | Y24: 継続監視
C25: S61 | E25: 17 | F25: 634.2 | G25: 覆工 | H25: アーチ（右側） | I25: 材質劣化 | J25: 圧ざ、ひび割れ | M25: 0.48 | N25: 0.47 | O25: Ⅱb | P25: － | Q25: Ⅱb | R25: 否 | S25: 要監視 | T25: 未 | U25: ー | Y25: 継続監視
C26: S61 | E26: 18 | F26: 629.2 | G26: 路面 | H26: 側溝 | J26: その他 | M26: 2.04 | N26: 2.04 | O26: Ⅱb | R26: 否 | S26: 否 | T26: 未 | U26: ー
C27: S61 | E27: 19 | F27: 635.7 | G27: 路面 | H27: 側溝 | J27: その他 | M27: 1.4 | N27: 1.4 | O27: Ⅱb | R27: 否 | S27: 否 | T27: 未 | U27: ー
C28: S61 | E28: 20 | F28: 632.6 | G28: 覆工 | H28: 水平打ち継ぎ目（右側） | I28: 材質劣化 | J28: うき・はく離 | M28: 0.015 | N28: （新規確認） | O28: － | P28: － | Q28: Ⅱb | R28: 否 | S28: 要監視 | T28: 未 | U28: ー | Y28: 監視
C29: S61 | E29: 21 | F29: 630.4 | G29: 覆工 | H29: 水平打ち継ぎ目（右側） | I29: 漏水 | J29: 漏水 | M29: 2.1 | N29: （新規確認） | O29: － | P29: － | Q29: Ⅱb | R29: 否 | S29: 要監視 | T29: 未 | U29: ー | Y29: 監視
C30: S62 | E30: 1 | F30: 639.8 | G30: 覆工 | H30: 横断目地（左側） | I30: 材質劣化 | J30: うき・はく離 | M30: 0.36 | N30: 0.36 | O30: Ⅲ | P30: － | Q30: Ⅲ | R30: 否 | S30: 要対策 | T30: 未 | U30: ー | Y30: はく落防止工
C31: S62 | E31: 2 | F31: 639.8 | G31: 覆工 | H31: アーチ（左側） | I31: 材質劣化 | J31: うき・はく離 | M31: 0.01 | N31: 0.01 | O31: Ⅱb | P31: － | Q31: Ⅱb | R31: 否 | S31: 要監視 | T31: 未 | U31: ー | Y31: 継続監視
C32: S62 | E32: 3 | F32: 645.3 | G32: 覆工 | H32: アーチ（左側） | I32: 材質劣化 | J32: うき・はく離 | M32: 0.025 | N32: 0.025 | O32: Ⅱb | P32: － | Q32: Ⅱb | R32: 否 | S32: 要監視 | T32: 未 | U32: ー | Y32: 継続監視
C33: S62 | E33: 4 | F33: 646.7 | G33: 覆工 | H33: アーチ（天端） | I33: 材質劣化 | J33: うき・はく離 | M33: 0.01 | N33: 0.01 | O33: Ⅱb | P33: － | Q33: Ⅱb | R33: 否 | S33: 要監視 | T33: 未 | U33: ー | Y33: 継続監視
C34: S62 | E34: 5 | F34: 650.3 | G34: 覆工 | H34: 横断目地（天端） | I34: 材質劣化 | J34: うき・はく離 | M34: 0.025 | N34: 0.04 | O34: Ⅰ | P34: － | Q34: Ⅰ | R34: 否 | S34: 否 | T34: 未 | U34: ー
C35: S62 | E35: 6 | F35: 644.3 | G35: 覆工 | H35: アーチ（全周） | I35: 材質劣化 | J35: 圧ざ、ひび割れ | M35: 0.45 | N35: 0.45 | O35: Ⅱb | P35: － | Q35: Ⅱb | R35: 否 | S35: 要監視 | T35: 未 | U35: ー | Y35: 継続監視
C36: S62 | E36: 7 | F36: 639.8 | G36: 覆工 | H36: 横断目地（右側） | I36: 材質劣化 | J36: うき・はく離 | M36: 0.05 | N36: 0.05 | O36: Ⅱb | P36: － | Q36: Ⅰ | R36: 否 | S36: 否 | T36: 未 | U36: ー | Y36: 判定見直し
C37: S62 | E37: 8 | F37: 645 | G37: 覆工 | H37: アーチ（右側） | I37: 材質劣化 | J37: うき・はく離 | M37: 0.0075 | N37: 0.0075 | O37: Ⅱb | P37: － | Q37: Ⅱb | R37: 否 | S37: 要監視 | T37: 未 | U37: ー | Y37: 継続監視
C38: S62 | E38: 9 | F38: 648.6 | G38: 覆工 | H38: 水平打ち継ぎ目（右側） | I38: 材質劣化 | J38: うき・はく離 | M38: 0.33 | N38: 0.33 | O38: Ⅱb | P38: － | Q38: Ⅱb | R38: 否 | S38: 要監視 | T38: 未 | U38: ー | Y38: 継続監視
C39: S62 | E39: 10 | F39: 641.3 | G39: 覆工 | H39: 側壁（右側） | I39: 漏水 | J39: 漏水 | M39: 0.9 | N39: - | O39: Ⅱb | P39: － | Q39: Ⅱb | R39: 否 | S39: 要監視 | T39: 未 | U39: ー | Y39: 継続監視
C40: S62 | E40: 11 | F40: 648.9 | G40: 覆工 | H40: 側壁（左側） | I40: 漏水 | J40: 漏水 | M40: 0.85 | N40: （新規確認） | O40: － | P40: － | Q40: Ⅱb | R40: 否 | S40: 要監視 | T40: 未 | U40: ー | Y40: 監視
C41: S62 | E41: 12 | F41: 650.4 | G41: 覆工 | H41: 横断目地（左側） | I41: 漏水 | J41: 漏水 | M41: 2.15 | N41: （新規確認） | O41: － | P41: － | Q41: Ⅱb | R41: 否 | S41: 要監視 | T41: 未 | U41: ー | Y41: 監視
C42: ※ 対策区分（応急措置後）のⅡb～Ⅳについて記入すること。また、点検前に実施された措置によりⅠと判定された変状も記入すること。
C43: ※ 応急措置を実施しないで判定した変状の対策区分は、対策区分の応急措置後の欄に記入すること。
C44: ※ 変状の除去が不完全で、緊急対応が必要な場合は対応方針欄に記入すること。
C45: ※ １区間の覆工に複数の変状がある場合は、変状箇所毎に記入すること。
C46: ※ 措置・監視点検を行った場合には、措置履歴、特記事項に記録を残すこと。（実施年度も記載）
C47: ※ 行が不足する場合は、適時、表の行を増やすこと。

Sheet 様式C-1-1 (21)
B2: ■定期点検記録様式 全スパン定期点検結果総括表（トンネル本体工） 【様式C-1-1】
B3: フリガナ | F3: ='様式A-1'!D3 -> ヒコシマトンネル | I3: 路線名 | K3: ='様式A-1'!J3 -> 福浦港金毘羅線 | O3: 定期点検実施者 | P3: ='様式B (1)'!S3 -> アジア航測株式会社 | T3: 定期点検年月日 | X3: ='様式B (1)'!P2 -> 45896
B4: 名 称 | F4: ='様式A-1'!D4 -> 彦島トンネル | I4: 管理者名 | K4: ='様式A-1'!R3 -> 山口県 下関土木建築事務所 | P4: ='様式B (1)'!S4 -> 飯田 琢巳
C5: 覆工 スパン 番号 | E5: 変状 番号 | F5: 距離 （m） | G5: 変状部位 | I5: 変 状 の 内 容 | O5: 前回定期点検時の状態 | P5: 今回定期点検結果 | T5: 措置履歴 | Y5: 対応方針 ・ 特記事項
O6: 44271
G7: 対象箇所 | H7: 部位区分 | I7: 変状区分 | J7: 変状種類 | M7: 変状の発生範囲の規模 | N7: 前回定期点検時の変状の発生範囲及び規模 | O7: 対策区分 | P7: 対策区分 | R7: 調査の 要否 | S7: 措置の 要否 | T7: 実施 | U7: 措置の実施状況
P8: 応急措置前 | Q8: 応急措置後
B9: 定期点検結果 | C9: S62 | E9: 13 | F9: 641.3 | G9: 覆工 | H9: 側壁（右側） | I9: 材質劣化 | J9: うき・はく離 | M9: 0.12 | N9: （新規確認） | O9: － | P9: － | Q9: Ⅱb | R9: 否 | S9: 要監視 | T9: 未 | U9: ー | Y9: 監視
C10: S62 | E10: 14 | F10: 649 | G10: 覆工 | H10: 側壁（右側） | I10: 漏水 | J10: 漏水 | M10: 0.85 | N10: （新規確認） | O10: － | P10: － | Q10: Ⅱb | R10: 否 | S10: 要監視 | T10: 未 | U10: ー | Y10: 監視
C11: S63 | E11: 1 | F11: 656 | G11: 覆工 | H11: 側壁（左側） | I11: 材質劣化 | J11: 圧ざ、ひび割れ | M11: 0.22 | N11: 0.23 | O11: Ⅱb | P11: － | Q11: Ⅱb | R11: 否 | S11: 要監視 | T11: 未 | U11: ー | Y11: 継続監視
C12: S63 | E12: 2 | F12: 655.9 | G12: 覆工 | H12: 水平打ち継ぎ目（左側） | I12: 材質劣化 | J12: うき・はく離 | M12: 0.11 | N12: 0.11 | O12: Ⅱb | P12: － | Q12: Ⅰ | R12: 否 | S12: 否 | T12: 未 | U12: ー | Y12: 判定見直し
C13: S63 | E13: 3 | F13: 650.4 | G13: 覆工 | H13: 横断目地（左側） | I13: 材質劣化 | J13: うき・はく離 | M13: 0.015 | N13: 0.015 | O13: Ⅲ | P13: － | Q13: Ⅲ | R13: 否 | S13: 要対策 | T13: 未 | U13: ー | Y13: はく落防止工
C14: S63 | E14: 4 | F14: 650.4 | G14: 覆工 | H14: 横断目地（左側） | I14: 材質劣化 | J14: うき・はく離 | M14: 0.02 | N14: 0.0125 | O14: Ⅲ | P14: － | Q14: Ⅰ | R14: 否 | S14: 否 | T14: 未 | U14: ー | Y14: 判定見直し
C15: S63 | E15: 5 | F15: 656.6 | G15: 覆工 | H15: アーチ（左側） | I15: 材質劣化 | J15: うき・はく離 | M15: 0.005 | N15: 0.005 | O15: Ⅱb | P15: － | Q15: Ⅱb | R15: 否 | S15: 要監視 | T15: 未 | U15: ー | Y15: 継続監視
C16: S63 | E16: 6 | F16: 656.7 | G16: 覆工 | H16: アーチ（全周） | I16: 材質劣化 | J16: 圧ざ、ひび割れ | M16: 0.29 | N16: 0.27 | O16: Ⅱb | P16: － | Q16: Ⅱb | R16: 否 | S16: 要監視 | T16: 未 | U16: ー | Y16: 継続監視
C17: S63 | E17: 7 | F17: 650.4 | G17: 覆工 | H17: 横断目地（右側） | I17: 材質劣化 | J17: うき・はく離 | M17: 0.235 | N17: 0.26 | O17: Ⅱb | P17: － | Q17: Ⅱb | R17: 否 | S17: 要監視 | T17: 未 | U17: ー | Y17: 継続監視
C18: S63 | E18: 8 | F18: 652 | G18: 覆工 | H18: 側壁（右側） | I18: 漏水 | J18: 漏水 | M18: 1.1 | N18: - | O18: Ⅱb | P18: － | Q18: Ⅱb | R18: 否 | S18: 要監視 | T18: 未 | U18: ー | Y18: 継続監視
C19: S63 | E19: 9 | F19: 659.5 | G19: 覆工 | H19: 側壁（右側） | I19: 漏水 | J19: 漏水 | M19: 1.4 | N19: - | O19: Ⅱb | P19: － | Q19: Ⅱb | R19: 否 | S19: 要監視 | T19: 未 | U19: ー | Y19: 継続監視
C20: S63 | E20: 10 | F20: 657.6 | G20: 覆工 | H20: 水平打ち継ぎ目（左側） | I20: 材質劣化 | J20: うき・はく離 | M20: 0.09 | N20: （新規確認） | O20: － | P20: － | Q20: Ⅱb | R20: 否 | S20: 要監視 | T20: 未 | U20: ー | Y20: 監視
C21: S63 | E21: 11 | F21: 657.6 | G21: 覆工 | H21: 水平打ち継ぎ目（右側） | I21: 材質劣化 | J21: うき・はく離 | M21: 0.07 | N21: （新規確認） | O21: － | P21: － | Q21: Ⅱb | R21: 否 | S21: 要監視 | T21: 未 | U21: ー | Y21: 監視
C22: S63 | E22: 12 | F22: 651.9 | G22: 覆工 | H22: 側壁（右側） | I22: 漏水 | J22: 補修・補強材の破損 | M22: 0.03 | N22: （新規確認） | O22: － | P22: － | Q22: Ⅱb | R22: 否 | S22: 要監視 | T22: 未 | U22: ー | Y22: 監視
C23: S63 | E23: 13 | F23: 659.5 | G23: 覆工 | H23: 水平打ち継ぎ目（右側） | I23: 材質劣化 | J23: うき・はく離 | M23: 0.15 | N23: （新規確認） | O23: － | P23: － | Q23: Ⅱb | R23: 否 | S23: 要監視 | T23: 未 | U23: ー | Y23: 監視
C24: S64 | E24: 1 | F24: 668.5 | G24: 覆工 | H24: 側壁（左側） | I24: 材質劣化 | J24: 圧ざ、ひび割れ | M24: 0.21 | N24: 0.23 | O24: Ⅱb | P24: － | Q24: Ⅱb | R24: 否 | S24: 要監視 | T24: 未 | U24: ー | Y24: 継続監視
C25: S64 | E25: 2 | F25: 662.1 | G25: 覆工 | H25: 水平打ち継ぎ目（左側） | I25: 材質劣化 | J25: うき・はく離 | M25: 0.0675 | N25: 0.075 | O25: Ⅱb | P25: － | Q25: Ⅱb | R25: 否 | S25: 要監視 | T25: 未 | U25: ー | Y25: 継続監視
C26: S64 | E26: 3 | F26: 663.4 | G26: 覆工 | H26: 水平打ち継ぎ目（左側） | I26: 材質劣化 | J26: うき・はく離 | M26: 0.46 | N26: 0.1 | O26: Ⅱb | P26: － | Q26: Ⅱb | R26: 否 | S26: 要監視 | T26: 未 | U26: ー | Y26: 継続監視
C27: S64 | E27: 4 | F27: 665.7 | G27: 覆工 | H27: 水平打ち継ぎ目（左側） | I27: 材質劣化 | J27: うき・はく離 | M27: 0.44 | N27: 0.05 | O27: Ⅱb | P27: － | Q27: Ⅱa | R27: 否 | S27: 要監視 | T27: 未 | U27: ー | Y27: 継続監視
C28: S64 | E28: 5 | F28: 661 | G28: 覆工 | H28: 横断目地（左側） | I28: 材質劣化 | J28: うき・はく離 | M28: 0.06 | N28: 0.06 | O28: Ⅲ | P28: － | Q28: Ⅲ | R28: 否 | S28: 要対策 | T28: 未 | U28: ー | Y28: はく落防止工
C29: S64 | E29: 6 | F29: 665.6 | G29: 覆工 | H29: アーチ（全周） | I29: 材質劣化 | J29: 圧ざ、ひび割れ | M29: 0.51 | N29: 0.46 | O29: Ⅱb | P29: － | Q29: Ⅱb | R29: 否 | S29: 要監視 | T29: 未 | U29: ー | Y29: 継続監視
C30: S64 | E30: 7 | F30: 671.5 | G30: 覆工 | H30: 横断目地（天端） | I30: 材質劣化 | J30: うき・はく離 | M30: 0.045 | N30: 0.045 | O30: Ⅲ | P30: － | Q30: Ⅲ | R30: 否 | S30: 要対策 | T30: 未 | U30: ー | Y30: はく落防止工
C31: S64 | E31: 8 | F31: 663.6 | G31: 覆工 | H31: アーチ（天端） | I31: 材質劣化 | J31: うき・はく離 | M31: 0.005 | N31: 0.005 | O31: Ⅱb | P31: － | Q31: Ⅱb | R31: 否 | S31: 要監視 | T31: 未 | U31: ー | Y31: 継続監視
C32: S64 | E32: 9 | F32: 665.8 | G32: 覆工 | H32: 水平打ち継ぎ目（右側） | I32: 材質劣化 | J32: うき・はく離 | M32: 0.07 | N32: 0.12 | O32: Ⅱb | P32: － | Q32: Ⅱb | R32: 否 | S32: 要監視 | T32: 未 | U32: ー | Y32: 継続監視
C33: S64 | E33: 10 | F33: 666.5 | G33: 覆工 | H33: 水平打ち継ぎ目（右側） | I33: 材質劣化 | J33: うき・はく離 | M33: 0.12 | N33: 0.06 | O33: Ⅱb | P33: － | Q33: Ⅱb | R33: 否 | S33: 要監視 | T33: 未 | U33: ー | Y33: 継続監視
C34: S64 | E34: 11 | F34: 668.5 | G34: 覆工 | H34: 水平打ち継ぎ目（右側） | I34: 材質劣化 | J34: うき・はく離 | M34: 0.26 | N34: 0.3 | O34: Ⅱb | P34: － | Q34: Ⅱb | R34: 否 | S34: 要監視 | T34: 未 | U34: ー | Y34: 継続監視
C35: S64 | E35: 12 | F35: 670.1 | G35: 覆工 | H35: 水平打ち継ぎ目（右側） | I35: 漏水 | J35: 漏水 | M35: 1.05 | N35: - | O35: Ⅱb | P35: － | Q35: Ⅱb | R35: 否 | S35: 要監視 | T35: 未 | U35: ー | Y35: 継続監視
C36: S64 | E36: 13 | F36: 662.5 | G36: 覆工 | H36: 側壁（右側） | I36: 漏水 | J36: 漏水 | M36: 0.8 | N36: （新規確認） | O36: － | P36: － | Q36: Ⅱb | R36: 否 | S36: 要監視 | T36: 未 | U36: ー | Y36: 監視
C37: S64 | E37: 14 | F37: 667.3 | G37: 覆工 | H37: 水平打ち継ぎ目（右側） | I37: 漏水 | J37: 漏水 | M37: 2.2 | N37: （新規確認） | O37: － | P37: － | Q37: Ⅱb | R37: 否 | S37: 要監視 | T37: 未 | U37: ー | Y37: 監視
C38: S65 | E38: 1 | F38: 677.9 | G38: 覆工 | H38: 水平打ち継ぎ目（左側） | I38: 材質劣化 | J38: うき・はく離 | M38: 0.405 | N38: 0.39 | O38: Ⅱb | P38: － | Q38: Ⅱa | R38: 否 | S38: 要対策 | T38: 未 | U38: ー | Y38: はく落防止工
C39: S65 | E39: 2 | F39: 681.7 | G39: 覆工 | H39: 横断目地（左側） | I39: 材質劣化 | J39: うき・はく離 | M39: 0.15 | N39: 0.12 | O39: Ⅱb | P39: － | Q39: Ⅱb | R39: 否 | S39: 要監視 | T39: 未 | U39: ー | Y39: 継続監視
C40: S65 | E40: 3 | F40: 671.6 | G40: 覆工 | H40: 横断目地（左側） | I40: 材質劣化 | J40: うき・はく離 | M40: 0.12 | N40: 0.12 | O40: Ⅲ | P40: － | Q40: Ⅲ | R40: 否 | S40: 要対策 | T40: 未 | U40: ー | Y40: はく落防止工
C41: S65 | E41: 4 | F41: 671.6 | G41: 覆工 | H41: 横断目地（左側） | I41: 材質劣化 | J41: うき・はく離 | M41: 0.0075 | N41: 0.0075 | O41: Ⅲ | P41: － | Q41: Ⅰ | R41: 否 | S41: 否 | T41: 未 | U41: ー | Y41: 判定見直し
C42: ※ 対策区分（応急措置後）のⅡb～Ⅳについて記入すること。また、点検前に実施された措置によりⅠと判定された変状も記入すること。
C43: ※ 応急措置を実施しないで判定した変状の対策区分は、対策区分の応急措置後の欄に記入すること。
C44: ※ 変状の除去が不完全で、緊急対応が必要な場合は対応方針欄に記入すること。
C45: ※ １区間の覆工に複数の変状がある場合は、変状箇所毎に記入すること。
C46: ※ 措置・監視点検を行った場合には、措置履歴、特記事項に記録を残すこと。（実施年度も記載）
C47: ※ 行が不足する場合は、適時、表の行を増やすこと。

Sheet 様式C-1-1 (22)
B2: ■定期点検記録様式 全スパン定期点検結果総括表（トンネル本体工） 【様式C-1-1】
B3: フリガナ | F3: ='様式A-1'!D3 -> ヒコシマトンネル | I3: 路線名 | K3: ='様式A-1'!J3 -> 福浦港金毘羅線 | O3: 定期点検実施者 | P3: ='様式B (1)'!S3 -> アジア航測株式会社 | T3: 定期点検年月日 | X3: ='様式B (1)'!P2 -> 45896
B4: 名 称 | F4: ='様式A-1'!D4 -> 彦島トンネル | I4: 管理者名 | K4: ='様式A-1'!R3 -> 山口県 下関土木建築事務所 | P4: ='様式B (1)'!S4 -> 飯田 琢巳
C5: 覆工 スパン 番号 | E5: 変状 番号 | F5: 距離 （m） | G5: 変状部位 | I5: 変 状 の 内 容 | O5: 前回定期点検時の状態 | P5: 今回定期点検結果 | T5: 措置履歴 | Y5: 対応方針 ・ 特記事項
O6: 44271
G7: 対象箇所 | H7: 部位区分 | I7: 変状区分 | J7: 変状種類 | M7: 変状の発生範囲の規模 | N7: 前回定期点検時の変状の発生範囲及び規模 | O7: 対策区分 | P7: 対策区分 | R7: 調査の 要否 | S7: 措置の 要否 | T7: 実施 | U7: 措置の実施状況
P8: 応急措置前 | Q8: 応急措置後
B9: 定期点検結果 | C9: S65 | E9: 5 | F9: 680.7 | G9: 覆工 | H9: アーチ（左側） | I9: 材質劣化 | J9: うき・はく離 | M9: 0.01 | N9: 0.01 | O9: Ⅱb | P9: － | Q9: Ⅰ | R9: 否 | S9: 否 | T9: 未 | U9: ー | Y9: 判定見直し
C10: S65 | E10: 6 | F10: 678.9 | G10: 覆工 | H10: アーチ（左側） | I10: 材質劣化 | J10: 圧ざ、ひび割れ | M10: 0.34 | N10: 0.28 | O10: Ⅱb | P10: － | Q10: Ⅱb | R10: 否 | S10: 要監視 | T10: 未 | U10: ー | Y10: 継続監視
C11: S65 | E11: 7 | F11: 682.2 | G11: 覆工 | H11: 横断目地（右側） | I11: 材質劣化 | J11: うき・はく離 | M11: 0.0075 | N11: 0.0075 | O11: Ⅲ | P11: － | Q11: Ⅱb | R11: 否 | S11: 要監視 | T11: 未 | U11: ー | Y11: 継続監視
C12: S65 | E12: 8 | F12: 680.5 | G12: 覆工 | H12: アーチ（天端） | I12: 漏水 | J12: 漏水 | M12: 4.4 | N12: - | O12: Ⅱb | P12: － | Q12: Ⅱb | R12: 否 | S12: 要監視 | T12: 未 | U12: ー | Y12: 継続監視
C13: S65 | E13: 9 | F13: 682.1 | G13: 覆工 | H13: 横断目地（天端） | I13: 材質劣化 | J13: うき・はく離 | M13: 0.005 | N13: 0.01 | O13: Ⅱb | P13: － | Q13: Ⅰ | R13: 否 | S13: 否 | T13: 未 | U13: ー | Y13: 判定見直し
C14: S65 | E14: 10 | F14: 673.3 | G14: 覆工 | H14: アーチ（天端） | I14: 材質劣化 | J14: うき・はく離 | M14: 0.01 | N14: 0.01 | O14: Ⅱb | P14: － | Q14: Ⅱb | R14: 否 | S14: 要監視 | T14: 未 | U14: ー | Y14: 継続監視
C15: S65 | E15: 11 | F15: 676.1 | G15: 覆工 | H15: アーチ（天端） | I15: 材質劣化 | J15: うき・はく離 | M15: 0.04 | N15: 0.04 | O15: Ⅱb | P15: － | Q15: Ⅱb | R15: 否 | S15: 要監視 | T15: 未 | U15: ー | Y15: 継続監視
C16: S65 | E16: 12 | F16: 672.8 | G16: 覆工 | H16: アーチ（天端） | I16: 材質劣化 | J16: 圧ざ、ひび割れ | M16: 0.34 | N16: 0.33 | O16: Ⅱb | P16: － | Q16: Ⅱb | R16: 否 | S16: 要監視 | T16: 未 | U16: ー | Y16: 継続監視
C17: S65 | E17: 13 | F17: 678.8 | G17: 覆工 | H17: アーチ（右側） | I17: 材質劣化 | J17: 鋼材腐食 | M17: 0.015 | N17: 0.015 | O17: Ⅱb | P17: － | Q17: Ⅱb | R17: 否 | S17: 要監視 | T17: 未 | U17: ー | Y17: 継続監視
C18: S65 | E18: 14 | F18: 673 | G18: 覆工 | H18: 側壁（右側） | I18: 漏水 | J18: 漏水 | M18: 3.25 | N18: - | O18: Ⅱb | P18: － | Q18: Ⅱb | R18: 否 | S18: 要監視 | T18: 未 | U18: ー | Y18: 継続監視
C19: S66 | E19: 1 | F19: 688 | G19: 覆工 | H19: 側壁（左側） | I19: 材質劣化 | J19: 圧ざ、ひび割れ | M19: 0.21 | N19: 0.23 | O19: Ⅱb | P19: － | Q19: Ⅱb | R19: 否 | S19: 要監視 | T19: 未 | U19: ー | Y19: 継続監視
C20: S66 | E20: 2 | F20: 683.7 | G20: 覆工 | H20: 水平打ち継ぎ目（左側） | I20: 材質劣化 | J20: うき・はく離 | M20: 1.75 | N20: 1.4 | O20: Ⅱb | P20: － | Q20: Ⅱa | R20: 否 | S20: 要対策 | T20: 未 | U20: ー | Y20: はく落防止工
C21: S66 | E21: 3 | F21: 682.2 | G21: 覆工 | H21: 横断目地（左側） | I21: 材質劣化 | J21: うき・はく離 | M21: 0.03 | N21: 0.015 | O21: Ⅰ | P21: － | Q21: Ⅰ | R21: 否 | S21: 否 | T21: 未 | U21: ー
C22: S66 | E22: 4 | F22: 687.5 | G22: 覆工 | H22: アーチ（左側） | I22: 漏水 | J22: 漏水 | M22: 2.35 | N22: - | O22: Ⅱb | P22: － | Q22: Ⅱb | R22: 否 | S22: 要監視 | T22: 未 | U22: ー | Y22: 継続監視
C23: S66 | E23: 5 | F23: 682.2 | G23: 覆工 | H23: 横断目地（左側） | I23: 材質劣化 | J23: うき・はく離 | M23: 0.025 | N23: 0.025 | O23: Ⅱb | P23: － | Q23: Ⅱb | R23: 否 | S23: 要監視 | T23: 未 | U23: ー | Y23: 継続監視
C24: S66 | E24: 6 | F24: 686.4 | G24: 覆工 | H24: アーチ（左側） | I24: 材質劣化 | J24: うき・はく離 | M24: 0.01 | N24: 0.01 | O24: Ⅱb | P24: － | Q24: Ⅱb | R24: 否 | S24: 要監視 | T24: 未 | U24: ー | Y24: 継続監視
C25: S66 | E25: 7 | F25: 687.4 | G25: 覆工 | H25: アーチ（全周） | I25: 材質劣化 | J25: 圧ざ、ひび割れ | M25: 0.54 | N25: 0.51 | O25: Ⅱb | P25: － | Q25: Ⅱb | R25: 否 | S25: 要監視 | T25: 未 | U25: ー | Y25: 継続監視
C26: S66 | E26: 8 | F26: 692.7 | G26: 覆工 | H26: 横断目地（天端） | I26: 材質劣化 | J26: うき・はく離 | M26: 0.08 | N26: 0.08 | O26: Ⅱb | P26: － | Q26: Ⅱb | R26: 否 | S26: 要監視 | T26: 未 | U26: ー | Y26: 継続監視
C27: S66 | E27: 9 | F27: 685.9 | G27: 覆工 | H27: アーチ（右側） | I27: 材質劣化 | J27: うき・はく離 | M27: 0.05 | N27: 0.05 | O27: Ⅱb | P27: － | Q27: Ⅱb | R27: 否 | S27: 要監視 | T27: 未 | U27: ー | Y27: 継続監視
C28: S66 | E28: 10 | F28: 688 | G28: 覆工 | H28: アーチ（右側） | I28: 材質劣化 | J28: うき・はく離 | M28: 0.01 | N28: 0.01 | O28: Ⅱb | P28: － | Q28: Ⅱb | R28: 否 | S28: 要監視 | T28: 未 | U28: ー | Y28: 継続監視
C29: S66 | E29: 11 | F29: 690.4 | G29: 覆工 | H29: アーチ（右側） | I29: 材質劣化 | J29: うき・はく離 | M29: 0.0075 | N29: 0.0075 | O29: Ⅱb | P29: － | Q29: Ⅱb | R29: 否 | S29: 要監視 | T29: 未 | U29: ー | Y29: 継続監視
C30: S66 | E30: 12 | F30: 692.7 | G30: 覆工 | H30: 水平打ち継ぎ目（右側） | I30: 材質劣化 | J30: うき・はく離 | M30: 1.2 | N30: （新規確認） | O30: － | P30: － | Q30: Ⅱa | R30: 否 | S30: 要対策 | T30: 未 | U30: ー | Y30: はく落防止工
C31: S67 | E31: 1 | F31: 692.8 | G31: 覆工 | H31: 水平打ち継ぎ目（左側） | I31: 材質劣化 | J31: うき・はく離 | M31: 1.14 | N31: 0.85 | O31: Ⅱb | P31: － | Q31: Ⅱa | R31: 否 | S31: 要対策 | T31: 未 | U31: ー | Y31: はく落防止工
C32: S67 | E32: 2 | F32: 698.4 | G32: 覆工 | H32: 水平打ち継ぎ目（左側） | I32: 材質劣化 | J32: うき・はく離 | M32: 0.18 | N32: 0.12 | O32: Ⅱb | P32: － | Q32: Ⅱb | R32: 否 | S32: 要監視 | T32: 未 | U32: ー | Y32: 継続監視
C33: S67 | E33: 3 | F33: 702.1 | G33: 覆工 | H33: 水平打ち継ぎ目（左側） | I33: 材質劣化 | J33: うき・はく離 | M33: 0.195 | N33: 0.21 | O33: Ⅱb | P33: － | Q33: Ⅱb | R33: 否 | S33: 要監視 | T33: 未 | U33: ー | Y33: 継続監視
C34: S67 | E34: 4 | F34: 692.8 | G34: 覆工 | H34: 横断目地（左側） | I34: 材質劣化 | J34: うき・はく離 | M34: 0.14 | N34: 0.15 | O34: Ⅱb | P34: － | Q34: Ⅱb | R34: 否 | S34: 要監視 | T34: 未 | U34: ー | Y34: 継続監視
C35: S67 | E35: 5 | F35: 692.8 | G35: 覆工 | H35: 横断目地（左側） | I35: 材質劣化 | J35: うき・はく離 | M35: 0.025 | N35: 0.025 | O35: Ⅱb | P35: － | Q35: Ⅱb | R35: 否 | S35: 要監視 | T35: 未 | U35: ー | Y35: 継続監視
C36: S67 | E36: 6 | F36: 692.8 | G36: 覆工 | H36: 横断目地（天端） | I36: 材質劣化 | J36: うき・はく離 | M36: 0.015 | N36: 0.015 | O36: Ⅱb | P36: － | Q36: Ⅱb | R36: 否 | S36: 要監視 | T36: 未 | U36: ー | Y36: 継続監視
C37: S67 | E37: 7 | F37: 692.8 | G37: 覆工 | H37: 横断目地（天端） | I37: 材質劣化 | J37: うき・はく離 | M37: 0.06 | N37: 0.06 | O37: Ⅱb | P37: － | Q37: Ⅱb | R37: 否 | S37: 要監視 | T37: 未 | U37: ー | Y37: 継続監視
C38: S67 | E38: 8 | F38: 694.6 | G38: 覆工 | H38: アーチ（天端） | I38: 漏水 | J38: 漏水 | M38: 3.9 | N38: - | O38: Ⅱb | P38: － | Q38: Ⅱb | R38: 否 | S38: 要監視 | T38: 未 | U38: ー | Y38: 継続監視
C39: S67 | E39: 9 | F39: 695.3 | G39: 覆工 | H39: アーチ（天端） | I39: 材質劣化 | J39: うき・はく離 | M39: 0.015 | N39: 0.015 | O39: Ⅱb | P39: － | Q39: Ⅱb | R39: 否 | S39: 要監視 | T39: 未 | U39: ー | Y39: 継続監視
C40: S67 | E40: 10 | F40: 692.8 | G40: 覆工 | H40: アーチ（全周） | I40: 材質劣化 | J40: 圧ざ、ひび割れ | M40: 0.39 | N40: 0.4 | O40: Ⅱb | P40: － | Q40: Ⅱb | R40: 否 | S40: 要監視 | T40: 未 | U40: ー | Y40: 継続監視
C41: S67 | E41: 11 | F41: 699.7 | G41: 覆工 | H41: アーチ（天端） | I41: 材質劣化 | J41: うき・はく離 | M41: 0.05 | N41: 0.05 | O41: Ⅱb | P41: － | Q41: Ⅱb | R41: 否 | S41: 要監視 | T41: 未 | U41: ー | Y41: 継続監視
C42: ※ 対策区分（応急措置後）のⅡb～Ⅳについて記入すること。また、点検前に実施された措置によりⅠと判定された変状も記入すること。
C43: ※ 応急措置を実施しないで判定した変状の対策区分は、対策区分の応急措置後の欄に記入すること。
C44: ※ 変状の除去が不完全で、緊急対応が必要な場合は対応方針欄に記入すること。
C45: ※ １区間の覆工に複数の変状がある場合は、変状箇所毎に記入すること。
C46: ※ 措置・監視点検を行った場合には、措置履歴、特記事項に記録を残すこと。（実施年度も記載）
C47: ※ 行が不足する場合は、適時、表の行を増やすこと。

Sheet 様式C-1-1 (23)
B2: ■定期点検記録様式 全スパン定期点検結果総括表（トンネル本体工） 【様式C-1-1】
B3: フリガナ | F3: ='様式A-1'!D3 -> ヒコシマトンネル | I3: 路線名 | K3: ='様式A-1'!J3 -> 福浦港金毘羅線 | O3: 定期点検実施者 | P3: ='様式B (1)'!S3 -> アジア航測株式会社 | T3: 定期点検年月日 | X3: ='様式B (1)'!P2 -> 45896
B4: 名 称 | F4: ='様式A-1'!D4 -> 彦島トンネル | I4: 管理者名 | K4: ='様式A-1'!R3 -> 山口県 下関土木建築事務所 | P4: ='様式B (1)'!S4 -> 飯田 琢巳
C5: 覆工 スパン 番号 | E5: 変状 番号 | F5: 距離 （m） | G5: 変状部位 | I5: 変 状 の 内 容 | O5: 前回定期点検時の状態 | P5: 今回定期点検結果 | T5: 措置履歴 | Y5: 対応方針 ・ 特記事項
O6: 44271
G7: 対象箇所 | H7: 部位区分 | I7: 変状区分 | J7: 変状種類 | M7: 変状の発生範囲の規模 | N7: 前回定期点検時の変状の発生範囲及び規模 | O7: 対策区分 | P7: 対策区分 | R7: 調査の 要否 | S7: 措置の 要否 | T7: 実施 | U7: 措置の実施状況
P8: 応急措置前 | Q8: 応急措置後
B9: 定期点検結果 | C9: S67 | E9: 12 | F9: 703.3 | G9: 覆工 | H9: 横断目地（天端） | I9: 材質劣化 | J9: うき・はく離 | M9: 0.015 | N9: 0.015 | O9: Ⅱb | P9: － | Q9: Ⅱb | R9: 否 | S9: 要監視 | T9: 未 | U9: ー | Y9: 継続監視
C10: S67 | E10: 13 | F10: 701.6 | G10: 覆工 | H10: アーチ（右側） | I10: 材質劣化 | J10: 鋼材腐食 | M10: 0.0225 | N10: 0.0225 | O10: Ⅱb | P10: － | Q10: Ⅱb | R10: 否 | S10: 要監視 | T10: 未 | U10: ー | Y10: 継続監視
C11: S67 | E11: 14 | F11: 698.5 | G11: 覆工 | H11: 側壁（右側） | I11: 漏水 | J11: 漏水 | M11: 1.05 | N11: （新規確認） | O11: － | P11: － | Q11: Ⅱb | R11: 否 | S11: 要監視 | T11: 未 | U11: ー | Y11: 監視
C12: S67 | E12: 15 | F12: 701.9 | G12: 覆工 | H12: 側壁（右側） | I12: 漏水 | J12: 漏水 | M12: 1.15 | N12: （新規確認） | O12: － | P12: － | Q12: Ⅱb | R12: 否 | S12: 要監視 | T12: 未 | U12: ー | Y12: 監視
C13: S68 | E13: 1 | F13: 707.3 | G13: 覆工 | H13: 側壁（左側） | I13: 材質劣化 | J13: 圧ざ、ひび割れ | M13: 0.2 | N13: 0.24 | O13: Ⅱb | P13: － | Q13: Ⅱb | R13: 否 | S13: 要監視 | T13: 未 | U13: ー | Y13: 継続監視
C14: S68 | E14: 2 | F14: 703.4 | G14: 覆工 | H14: 水平打ち継ぎ目（左側） | I14: 材質劣化 | J14: うき・はく離 | M14: 1.8 | N14: 1.71 | O14: Ⅱb | P14: － | Q14: Ⅱa | R14: 否 | S14: 要対策 | T14: 未 | U14: ー | Y14: はく落防止工
C15: S68 | E15: 3 | F15: 711.4 | G15: 覆工 | H15: 水平打ち継ぎ目（左側） | I15: 材質劣化 | J15: うき・はく離 | M15: 0.05 | N15: 0.05 | O15: Ⅱb | P15: － | Q15: Ⅱb | R15: 否 | S15: 要監視 | T15: 未 | U15: ー | Y15: 継続監視
C16: S68 | E16: 4 | F16: 707.8 | G16: 覆工 | H16: アーチ（左側） | I16: 材質劣化 | J16: 鋼材腐食 | M16: 0.01 | N16: 0.0025 | O16: Ⅱb | P16: － | Q16: Ⅱb | R16: 否 | S16: 要監視 | T16: 未 | U16: ー | Y16: 継続監視
C17: S68 | E17: 5 | F17: 707.6 | G17: 覆工 | H17: アーチ（左側） | I17: 材質劣化 | J17: うき・はく離 | M17: 0.01 | N17: 0.01 | O17: Ⅱb | P17: － | Q17: Ⅱb | R17: 否 | S17: 要監視 | T17: 未 | U17: ー | Y17: 継続監視
C18: S68 | E18: 6 | F18: 713.9 | G18: 覆工 | H18: 横断目地（左側） | I18: 材質劣化 | J18: うき・はく離 | M18: 0.025 | N18: 0.025 | O18: Ⅲ | P18: － | Q18: Ⅲ | R18: 否 | S18: 要対策 | T18: 未 | U18: ー | Y18: はく落防止工
C19: S68 | E19: 7 | F19: 704.4 | G19: 覆工 | H19: アーチ（天端） | I19: 漏水 | J19: 漏水 | M19: 4.4 | N19: - | O19: Ⅱb | P19: － | Q19: Ⅱb | R19: 否 | S19: 要監視 | T19: 未 | U19: ー | Y19: 継続監視
C20: S68 | E20: 8 | F20: 713.9 | G20: 覆工 | H20: 横断目地（天端） | I20: 材質劣化 | J20: うき・はく離 | M20: 0.01 | N20: 0.01 | O20: Ⅱb | P20: － | Q20: Ⅱb | R20: 否 | S20: 要監視 | T20: 未 | U20: ー | Y20: 継続監視
C21: S68 | E21: 9 | F21: 704.7 | G21: 覆工 | H21: アーチ（天端） | I21: 材質劣化 | J21: うき・はく離 | M21: 0.01 | N21: 0.01 | O21: Ⅱb | P21: － | Q21: Ⅱb | R21: 否 | S21: 要監視 | T21: 未 | U21: ー | Y21: 継続監視
C22: S68 | E22: 10 | F22: 703.4 | G22: 覆工 | H22: アーチ（全周） | I22: 材質劣化 | J22: 圧ざ、ひび割れ | M22: 0.58 | N22: 1.2 | O22: Ⅱb | P22: － | Q22: Ⅱb | R22: 否 | S22: 要監視 | T22: 未 | U22: ー | Y22: 継続監視
C23: S68 | E23: 11 | F23: 703.3 | G23: 覆工 | H23: 横断目地（右側） | I23: 材質劣化 | J23: うき・はく離 | M23: 0.035 | N23: 0.045 | O23: Ⅱb | P23: － | Q23: Ⅱb | R23: 否 | S23: 要監視 | T23: 未 | U23: ー | Y23: 継続監視
C24: S68 | E24: 12 | F24: 709.7 | G24: 覆工 | H24: 側壁（左側） | I24: 漏水 | J24: 漏水 | M24: 1.1 | N24: （新規確認） | O24: － | P24: － | Q24: Ⅱb | R24: 否 | S24: 要監視 | T24: 未 | U24: ー | Y24: 監視
C25: S68 | E25: 13 | F25: 712.4 | G25: 覆工 | H25: 側壁（右側） | I25: 材質劣化 | J25: うき・はく離 | M25: 0.02 | N25: （新規確認） | O25: － | P25: － | Q25: Ⅱb | R25: 否 | S25: 要監視 | T25: 未 | U25: ー | Y25: 監視
C26: S69 | E26: 1 | F26: 714 | G26: 覆工 | H26: アーチ（全周） | I26: 材質劣化 | J26: 圧ざ、ひび割れ | M26: 0.77 | N26: 0.63 | O26: Ⅱb | P26: － | Q26: Ⅱb | R26: 否 | S26: 要監視 | T26: 未 | U26: ー | Y26: 継続監視
C27: S69 | E27: 2 | F27: 719.4 | G27: 覆工 | H27: アーチ（左側） | I27: 漏水 | J27: 漏水 | M27: 3.25 | N27: - | O27: Ⅱb | P27: － | Q27: Ⅱb | R27: 否 | S27: 要監視 | T27: 未 | U27: ー | Y27: 継続監視
C28: S69 | E28: 3 | F28: 720.9 | G28: 覆工 | H28: アーチ（天端） | I28: 材質劣化 | J28: うき・はく離 | M28: 0.01 | N28: 0.01 | O28: Ⅱb | P28: － | Q28: Ⅱb | R28: 否 | S28: 要監視 | T28: 未 | U28: ー | Y28: 継続監視
C29: S69 | E29: 4 | F29: 718.4 | G29: 覆工 | H29: アーチ（天端） | I29: 材質劣化 | J29: うき・はく離 | M29: 0.01 | N29: 0.01 | O29: Ⅱb | P29: － | Q29: Ⅱb | R29: 否 | S29: 要監視 | T29: 未 | U29: ー | Y29: 継続監視
C30: S69 | E30: 5 | F30: 718.9 | G30: 覆工 | H30: アーチ（右側） | I30: 漏水 | J30: 漏水 | M30: 3.35 | N30: - | O30: Ⅱb | P30: － | Q30: Ⅱb | R30: 否 | S30: 要監視 | T30: 未 | U30: ー | Y30: 継続監視
C31: S69 | E31: 6 | F31: 721.8 | G31: 覆工 | H31: アーチ（右側） | I31: 漏水 | J31: 漏水 | M31: 10.05 | N31: - | O31: Ⅱb | P31: － | Q31: Ⅱb | R31: 否 | S31: 要監視 | T31: 未 | U31: ー | Y31: 継続監視
C32: S69 | E32: 7 | F32: 714.6 | G32: 覆工 | H32: 水平打ち継ぎ目（右側） | I32: 材質劣化 | J32: うき・はく離 | M32: 0.08 | N32: 0.08 | O32: Ⅱb | P32: － | Q32: Ⅱb | R32: 否 | S32: 要監視 | T32: 未 | U32: ー | Y32: 継続監視
C33: S69 | E33: 8 | F33: 723.1 | G33: 覆工 | H33: 側壁（左側） | I33: 漏水 | J33: 漏水 | M33: 0.45 | N33: （新規確認） | O33: － | P33: － | Q33: Ⅱb | R33: 否 | S33: 要監視 | T33: 未 | U33: ー | Y33: 監視
C34: S69 | E34: 9 | F34: 716 | G34: 覆工 | H34: 水平打ち継ぎ目（右側） | I34: 材質劣化 | J34: うき・はく離 | M34: 0.13 | N34: （新規確認） | O34: － | P34: － | Q34: Ⅱb | R34: 否 | S34: 要監視 | T34: 未 | U34: ー | Y34: 監視
C35: S69 | E35: 10 | F35: 718.4 | G35: 覆工 | H35: 水平打ち継ぎ目（右側） | I35: 材質劣化 | J35: うき・はく離 | M35: 0.18 | N35: （新規確認） | O35: － | P35: － | Q35: Ⅱb | R35: 否 | S35: 要監視 | T35: 未 | U35: ー | Y35: 監視
C36: S70 | E36: 1 | F36: 731.4 | G36: 覆工 | H36: 水平打ち継ぎ目（左側） | I36: 材質劣化 | J36: うき・はく離 | M36: 0.09 | N36: 0.08 | O36: Ⅱb | P36: － | Q36: Ⅱb | R36: 否 | S36: 要監視 | T36: 未 | U36: ー | Y36: 継続監視
C37: S70 | E37: 2 | F37: 729 | G37: 覆工 | H37: アーチ（左側） | I37: 漏水 | J37: 補修・補強材の破損 | M37: 0.1 | N37: 0.1 | O37: Ⅱb | P37: － | Q37: Ⅱb | R37: 否 | S37: 要監視 | T37: 未 | U37: ー | Y37: 継続監視
C38: S70 | E38: 3 | F38: 726.1 | G38: 覆工 | H38: アーチ（天端） | I38: 漏水 | J38: 漏水 | M38: 3.75 | N38: - | O38: Ⅱb | P38: － | Q38: Ⅱb | R38: 否 | S38: 要監視 | T38: 未 | U38: ー | Y38: 継続監視
C39: S70 | E39: 4 | F39: 728.4 | G39: 覆工 | H39: アーチ（天端） | I39: 漏水 | J39: 漏水 | M39: 8.4 | N39: - | O39: Ⅱb | P39: － | Q39: Ⅱb | R39: 否 | S39: 要監視 | T39: 未 | U39: ー | Y39: 継続監視
C40: S70 | E40: 5 | F40: 725.7 | G40: 覆工 | H40: アーチ（天端） | I40: 材質劣化 | J40: うき・はく離 | M40: 0.01 | N40: 0.01 | O40: Ⅱb | P40: － | Q40: Ⅱb | R40: 否 | S40: 要監視 | T40: 未 | U40: ー | Y40: 継続監視
C41: S70 | E41: 6 | F41: 730.8 | G41: 覆工 | H41: アーチ（天端） | I41: 材質劣化 | J41: うき・はく離 | M41: 0.06 | N41: 0.06 | O41: Ⅱb | P41: － | Q41: Ⅱb | R41: 否 | S41: 要監視 | T41: 未 | U41: ー | Y41: 継続監視
C42: ※ 対策区分（応急措置後）のⅡb～Ⅳについて記入すること。また、点検前に実施された措置によりⅠと判定された変状も記入すること。
C43: ※ 応急措置を実施しないで判定した変状の対策区分は、対策区分の応急措置後の欄に記入すること。
C44: ※ 変状の除去が不完全で、緊急対応が必要な場合は対応方針欄に記入すること。
C45: ※ １区間の覆工に複数の変状がある場合は、変状箇所毎に記入すること。
C46: ※ 措置・監視点検を行った場合には、措置履歴、特記事項に記録を残すこと。（実施年度も記載）
C47: ※ 行が不足する場合は、適時、表の行を増やすこと。

Sheet 様式C-1-1 (24)
B2: ■定期点検記録様式 全スパン定期点検結果総括表（トンネル本体工） 【様式C-1-1】
B3: フリガナ | F3: ='様式A-1'!D3 -> ヒコシマトンネル | I3: 路線名 | K3: ='様式A-1'!J3 -> 福浦港金毘羅線 | O3: 定期点検実施者 | P3: ='様式B (1)'!S3 -> アジア航測株式会社 | T3: 定期点検年月日 | X3: ='様式B (1)'!P2 -> 45896
B4: 名 称 | F4: ='様式A-1'!D4 -> 彦島トンネル | I4: 管理者名 | K4: ='様式A-1'!R3 -> 山口県 下関土木建築事務所 | P4: ='様式B (1)'!S4 -> 飯田 琢巳
C5: 覆工 スパン 番号 | E5: 変状 番号 | F5: 距離 （m） | G5: 変状部位 | I5: 変 状 の 内 容 | O5: 前回定期点検時の状態 | P5: 今回定期点検結果 | T5: 措置履歴 | Y5: 対応方針 ・ 特記事項
O6: 44271
G7: 対象箇所 | H7: 部位区分 | I7: 変状区分 | J7: 変状種類 | M7: 変状の発生範囲の規模 | N7: 前回定期点検時の変状の発生範囲及び規模 | O7: 対策区分 | P7: 対策区分 | R7: 調査の 要否 | S7: 措置の 要否 | T7: 実施 | U7: 措置の実施状況
P8: 応急措置前 | Q8: 応急措置後
B9: 定期点検結果 | C9: S70 | E9: 6 | F9: 732.8 | G9: 覆工 | H9: アーチ（天端） | I9: 材質劣化 | J9: うき・はく離 | M9: 0.005 | N9: 0.005 | O9: Ⅱb | P9: － | Q9: Ⅱb | R9: 否 | S9: 要監視 | T9: 未 | U9: ー | Y9: 継続監視
C10: S70 | E10: 7 | F10: 731.2 | G10: 覆工 | H10: アーチ（全周） | I10: 材質劣化 | J10: 圧ざ、ひび割れ | M10: 0.44 | N10: 0.42 | O10: Ⅱb | P10: － | Q10: Ⅱb | R10: 否 | S10: 要監視 | T10: 未 | U10: ー | Y10: 継続監視
C11: S70 | E11: 8 | F11: 726.9 | G11: 覆工 | H11: アーチ（右側） | I11: 漏水 | J11: 漏水 | M11: 7.3 | N11: - | O11: Ⅱb | P11: － | Q11: Ⅱb | R11: 否 | S11: 要監視 | T11: 未 | U11: ー | Y11: 継続監視
C12: S70 | E12: 9 | F12: 731.9 | G12: 覆工 | H12: 水平打ち継ぎ目（右側） | I12: 材質劣化 | J12: うき・はく離 | M12: 0.07 | N12: 0.08 | O12: Ⅱb | P12: － | Q12: Ⅱb | R12: 否 | S12: 要監視 | T12: 未 | U12: ー | Y12: 継続監視
C13: S71 | E13: 1 | F13: 742 | G13: 覆工 | H13: 側壁（左側） | I13: 漏水 | J13: 漏水 | M13: 5.28 | N13: - | O13: Ⅱb | P13: － | Q13: Ⅱb | R13: 否 | S13: 要監視 | T13: 未 | U13: ー | Y13: 継続監視
C14: S71 | E14: 2 | F14: 735.2 | G14: 覆工 | H14: アーチ（左側） | I14: 漏水 | J14: 漏水 | M14: 18.75 | N14: - | O14: Ⅱb | P14: － | Q14: Ⅱb | R14: 否 | S14: 要監視 | T14: 未 | U14: ー | Y14: 継続監視
C15: S71 | E15: 3 | F15: 744.7 | G15: 覆工 | H15: アーチ（左側） | I15: 材質劣化 | J15: うき・はく離 | M15: 0.01 | N15: 0.01 | O15: Ⅱb | P15: － | Q15: Ⅱb | R15: 否 | S15: 要監視 | T15: 未 | U15: ー | Y15: 継続監視
C16: S71 | E16: 4 | F16: 741.7 | G16: 覆工 | H16: アーチ（左側） | I16: 材質劣化 | J16: うき・はく離 | M16: 0.02 | N16: 0.02 | O16: Ⅲ | P16: － | Q16: Ⅲ | R16: 否 | S16: 要対策 | T16: 未 | U16: ー | Y16: はく落防止工
C17: S71 | E17: 5 | F17: 740.1 | G17: 覆工 | H17: アーチ（全周） | I17: 材質劣化 | J17: 圧ざ、ひび割れ | M17: 0.59 | N17: 0.58 | O17: Ⅱb | P17: － | Q17: Ⅱb | R17: 否 | S17: 要監視 | T17: 未 | U17: ー | Y17: 継続監視
C18: S71 | E18: 6 | F18: 741 | G18: 覆工 | H18: アーチ（天端） | I18: 漏水 | J18: 漏水 | M18: 4.35 | N18: - | O18: Ⅱb | P18: － | Q18: Ⅱb | R18: 否 | S18: 要監視 | T18: 未 | U18: ー | Y18: 継続監視
C19: S71 | E19: 7 | F19: 742.1 | G19: 覆工 | H19: アーチ（天端） | I19: 材質劣化 | J19: うき・はく離 | M19: 0.01 | N19: 0.01 | O19: Ⅱb | P19: － | Q19: Ⅱb | R19: 否 | S19: 要監視 | T19: 未 | U19: ー | Y19: 継続監視
C20: S71 | E20: 8 | F20: 745.7 | G20: 覆工 | H20: 横断目地（天端） | I20: 材質劣化 | J20: うき・はく離 | M20: 0.2 | N20: 0.2 | O20: Ⅱb | P20: － | Q20: Ⅱb | R20: 否 | S20: 要監視 | T20: 未 | U20: ー | Y20: 継続監視
C21: S71 | E21: 9 | F21: 735.7 | G21: 覆工 | H21: アーチ（天端） | I21: 漏水 | J21: 漏水 | M21: 10.5 | N21: - | O21: Ⅱb | P21: － | Q21: Ⅱb | R21: 否 | S21: 要監視 | T21: 未 | U21: ー | Y21: 継続監視
C22: S71 | E22: 10 | F22: 741.3 | G22: 覆工 | H22: アーチ（右側） | I22: 漏水 | J22: 漏水 | M22: 6.6 | N22: - | O22: Ⅱb | P22: － | Q22: Ⅱb | R22: 否 | S22: 要監視 | T22: 未 | U22: ー | Y22: 継続監視
C23: S71 | E23: 11 | F23: 738.6 | G23: 覆工 | H23: 水平打ち継ぎ目（左側） | I23: 材質劣化 | J23: うき・はく離 | M23: 0.175 | N23: （新規確認） | O23: － | P23: － | Q23: Ⅱb | R23: 否 | S23: 要監視 | T23: 未 | U23: ー | Y23: 監視
C24: S72 | E24: 1 | F24: 751.5 | G24: 覆工 | H24: 側壁（左側） | I24: 漏水 | J24: 漏水 | M24: 3.15 | N24: - | O24: Ⅱb | P24: － | Q24: Ⅱb | R24: 否 | S24: 要監視 | T24: 未 | U24: ー | Y24: 継続監視
C25: S72 | E25: 2 | F25: 747.6 | G25: 覆工 | H25: アーチ（左側） | I25: 材質劣化 | J25: うき・はく離 | M25: 0.0075 | N25: 0.0075 | O25: Ⅱb | P25: － | Q25: Ⅱb | R25: 否 | S25: 要監視 | T25: 未 | U25: ー | Y25: 継続監視
C26: S72 | E26: 3 | F26: 750.4 | G26: 覆工 | H26: アーチ（左側） | I26: 漏水 | J26: 漏水 | M26: 2.2 | N26: - | O26: Ⅱb | P26: － | Q26: Ⅱb | R26: 否 | S26: 要監視 | T26: 未 | U26: ー | Y26: 継続監視
C27: S72 | E27: 4 | F27: 753.8 | G27: 覆工 | H27: アーチ（左側） | I27: 漏水 | J27: 漏水 | M27: 2.9 | N27: - | O27: Ⅱb | P27: － | Q27: Ⅱb | R27: 否 | S27: 要監視 | T27: 未 | U27: ー | Y27: 継続監視
C28: S72 | E28: 5 | F28: 747.5 | G28: 覆工 | H28: アーチ（天端） | I28: 材質劣化 | J28: うき・はく離 | M28: 0.01 | N28: 0.01 | O28: Ⅱb | P28: － | Q28: Ⅱb | R28: 否 | S28: 要監視 | T28: 未 | U28: ー | Y28: 継続監視
C29: S72 | E29: 6 | F29: 747.1 | G29: 覆工 | H29: アーチ（天端） | I29: 材質劣化 | J29: うき・はく離 | M29: 0.005 | N29: 0.005 | O29: Ⅱb | P29: － | Q29: Ⅱb | R29: 否 | S29: 要監視 | T29: 未 | U29: ー | Y29: 継続監視
C30: S72 | E30: 7 | F30: 748.4 | G30: 覆工 | H30: アーチ（天端） | I30: 漏水 | J30: 漏水 | M30: 3.7 | N30: - | O30: Ⅱb | P30: － | Q30: Ⅱb | R30: 否 | S30: 要監視 | T30: 未 | U30: ー | Y30: 継続監視
C31: S72 | E31: 8 | F31: 749.3 | G31: 覆工 | H31: アーチ（天端） | I31: 材質劣化 | J31: うき・はく離 | M31: 0.01 | N31: 0.01 | O31: Ⅱb | P31: － | Q31: Ⅱb | R31: 否 | S31: 要監視 | T31: 未 | U31: ー | Y31: 継続監視
C32: S72 | E32: 9 | F32: 753.6 | G32: 覆工 | H32: アーチ（天端） | I32: 漏水 | J32: 漏水 | M32: 4.5 | N32: - | O32: Ⅱb | P32: － | Q32: Ⅱb | R32: 否 | S32: 要監視 | T32: 未 | U32: ー | Y32: 継続監視
C33: S72 | E33: 10 | F33: 750.2 | G33: 覆工 | H33: アーチ（全周） | I33: 材質劣化 | J33: 圧ざ、ひび割れ | M33: 0.63 | N33: 0.61 | O33: Ⅱb | P33: － | Q33: Ⅱb | R33: 否 | S33: 要監視 | T33: 未 | U33: ー | Y33: 継続監視
C34: S72 | E34: 11 | F34: 747.3 | G34: 覆工 | H34: 側壁（右側） | I34: 漏水 | J34: 漏水 | M34: 1.05 | N34: （新規確認） | O34: － | P34: － | Q34: Ⅱb | R34: 否 | S34: 要監視 | T34: 未 | U34: ー | Y34: 監視
C35: S73 | E35: 1 | F35: 757.9 | G35: 覆工 | H35: 水平打ち継ぎ目（左側） | I35: 漏水 | J35: 漏水 | M35: 1 | N35: - | O35: Ⅱb | P35: － | Q35: Ⅱb | R35: 否 | S35: 要監視 | T35: 未 | U35: ー | Y35: 継続監視
C36: S73 | E36: 2 | F36: 765.4 | G36: 覆工 | H36: 側壁（左側） | I36: 材質劣化 | J36: うき・はく離 | M36: 0.03 | N36: 0.195 | O36: Ⅱb | P36: － | Q36: Ⅱb | R36: 否 | S36: 要監視 | T36: 未 | U36: ー | Y36: 継続監視
C37: S73 | E37: 3 | F37: 756.4 | G37: 覆工 | H37: 水平打ち継ぎ目（左側） | I37: 材質劣化 | J37: うき・はく離 | M37: 0.1275 | N37: 0.13 | O37: Ⅱb | P37: － | Q37: Ⅱb | R37: 否 | S37: 要監視 | T37: 未 | U37: ー | Y37: 継続監視
C38: S73 | E38: 4 | F38: 761.7 | G38: 覆工 | H38: 水平打ち継ぎ目（左側） | I38: 材質劣化 | J38: うき・はく離 | M38: 0.555 | N38: 0.54 | O38: Ⅱb | P38: － | Q38: Ⅱa | R38: 否 | S38: 要対策 | T38: 未 | U38: ー | Y38: はく落防止工
C39: S73 | E39: 5 | F39: 765.4 | G39: 覆工 | H39: 水平打ち継ぎ目（左側） | I39: 材質劣化 | J39: うき・はく離 | M39: 0.32 | N39: 0.15 | O39: Ⅱb | P39: － | Q39: Ⅱa | R39: 否 | S39: 要対策 | T39: 未 | U39: ー | Y39: はく落防止工
C40: S73 | E40: 6 | F40: 756.4 | G40: 覆工 | H40: 横断目地（天端） | I40: 材質劣化 | J40: うき・はく離 | M40: 0.08 | N40: 0.08 | O40: Ⅱb | P40: － | Q40: Ⅱb | R40: 否 | S40: 要監視 | T40: 未 | U40: ー | Y40: 継続監視
C41: S73 | E41: 7 | F41: 760.5 | G41: 覆工 | H41: アーチ（天端） | I41: 漏水 | J41: 漏水 | M41: 4.2 | N41: - | O41: Ⅱb | P41: － | Q41: Ⅱb | R41: 否 | S41: 要監視 | T41: 未 | U41: ー | Y41: 継続監視
C42: ※ 対策区分（応急措置後）のⅡb～Ⅳについて記入すること。また、点検前に実施された措置によりⅠと判定された変状も記入すること。
C43: ※ 応急措置を実施しないで判定した変状の対策区分は、対策区分の応急措置後の欄に記入すること。
C44: ※ 変状の除去が不完全で、緊急対応が必要な場合は対応方針欄に記入すること。
C45: ※ １区間の覆工に複数の変状がある場合は、変状箇所毎に記入すること。
C46: ※ 措置・監視点検を行った場合には、措置履歴、特記事項に記録を残すこと。（実施年度も記載）
C47: ※ 行が不足する場合は、適時、表の行を増やすこと。

Sheet 様式C-1-1 (25)
B2: ■定期点検記録様式 全スパン定期点検結果総括表（トンネル本体工） 【様式C-1-1】
B3: フリガナ | F3: ='様式A-1'!D3 -> ヒコシマトンネル | I3: 路線名 | K3: ='様式A-1'!J3 -> 福浦港金毘羅線 | O3: 定期点検実施者 | P3: ='様式B (1)'!S3 -> アジア航測株式会社 | T3: 定期点検年月日 | X3: ='様式B (1)'!P2 -> 45896
B4: 名 称 | F4: ='様式A-1'!D4 -> 彦島トンネル | I4: 管理者名 | K4: ='様式A-1'!R3 -> 山口県 下関土木建築事務所 | P4: ='様式B (1)'!S4 -> 飯田 琢巳
C5: 覆工 スパン 番号 | E5: 変状 番号 | F5: 距離 （m） | G5: 変状部位 | I5: 変 状 の 内 容 | O5: 前回定期点検時の状態 | P5: 今回定期点検結果 | T5: 措置履歴 | Y5: 対応方針 ・ 特記事項
O6: 44271
G7: 対象箇所 | H7: 部位区分 | I7: 変状区分 | J7: 変状種類 | M7: 変状の発生範囲の規模 | N7: 前回定期点検時の変状の発生範囲及び規模 | O7: 対策区分 | P7: 対策区分 | R7: 調査の 要否 | S7: 措置の 要否 | T7: 実施 | U7: 措置の実施状況
P8: 応急措置前 | Q8: 応急措置後
B9: 定期点検結果 | C9: S73 | E9: 8 | F9: 764 | G9: 覆工 | H9: アーチ（左側） | I9: 材質劣化 | J9: 圧ざ、ひび割れ | M9: 0.55 | N9: 0.58 | O9: Ⅱb | P9: － | Q9: Ⅱb | R9: 否 | S9: 要監視 | T9: 未 | U9: ー | Y9: 継続監視
C10: S73 | E10: 9 | F10: 758.1 | G10: 覆工 | H10: アーチ（天端） | I10: 材質劣化 | J10: うき・はく離 | M10: 0.01 | N10: 0.01 | O10: Ⅱb | P10: － | Q10: Ⅱb | R10: 否 | S10: 要監視 | T10: 未 | U10: ー | Y10: 継続監視
C11: S73 | E11: 10 | F11: 760.8 | G11: 覆工 | H11: アーチ（天端） | I11: 漏水 | J11: 補修・補強材の破損 | M11: 0.005 | N11: 0.005 | O11: Ⅱb | P11: － | Q11: Ⅱb | R11: 否 | S11: 要監視 | T11: 未 | U11: ー | Y11: 継続監視
C12: S73 | E12: 11 | F12: 760.6 | G12: 覆工 | H12: アーチ（右側） | I12: 漏水 | J12: 漏水 | M12: 3.2 | N12: - | O12: Ⅱb | P12: － | Q12: Ⅱb | R12: 否 | S12: 要監視 | T12: 未 | U12: ー | Y12: 継続監視
C13: S73 | E13: 12 | F13: 756.4 | G13: 覆工 | H13: アーチ（右側） | I13: 材質劣化 | J13: 圧ざ、ひび割れ | M13: 1.1 | N13: 1.07 | O13: Ⅱb | P13: － | Q13: Ⅱb | R13: 否 | S13: 要監視 | T13: 未 | U13: ー | Y13: 継続監視
C14: S73 | E14: 13 | F14: 762.3 | G14: 覆工 | H14: 側壁（右側） | I14: 材質劣化 | J14: 圧ざ、ひび割れ | M14: 0.24 | N14: 0.22 | O14: Ⅱb | P14: － | Q14: Ⅱb | R14: 否 | S14: 要監視 | T14: 未 | U14: ー | Y14: 継続監視
C15: S73 | E15: 14 | F15: 765.3 | G15: 覆工 | H15: 側壁（右側） | I15: 材質劣化 | J15: うき・はく離 | M15: 0.42 | N15: 0.42 | O15: Ⅱb | P15: － | Q15: Ⅱb | R15: 否 | S15: 要監視 | T15: 未 | U15: ー | Y15: 継続監視
C16: S73 | E16: 15 | F16: 757 | G16: 路面 | H16: 歩道 | J16: その他 | M16: - | N16: - | O16: Ⅱb | R16: 否 | S16: 否 | T16: 未 | U16: ー
C17: S73 | E17: 16 | F17: 756.5 | G17: 覆工 | H17: 水平打ち継ぎ目（右側） | I17: 材質劣化 | J17: うき・はく離 | M17: 0.28 | N17: （新規確認） | O17: － | P17: － | Q17: Ⅱb | R17: 否 | S17: 要監視 | T17: 未 | U17: ー | Y17: 監視
C18: S73 | E18: 17 | F18: 761.1 | G18: 覆工 | H18: 水平打ち継ぎ目（右側） | I18: 材質劣化 | J18: うき・はく離 | M18: 0.9 | N18: （新規確認） | O18: － | P18: － | Q18: Ⅱa | R18: 否 | S18: 要対策 | T18: 未 | U18: ー | Y18: はく落防止工
C19: S74 | E19: 1 | F19: 772 | G19: 覆工 | H19: 側壁（左側） | I19: 材質劣化 | J19: 圧ざ、ひび割れ | M19: 0.22 | N19: 0.21 | O19: Ⅱb | P19: － | Q19: Ⅱb | R19: 否 | S19: 要監視 | T19: 未 | U19: ー | Y19: 継続監視
C20: S74 | E20: 2 | F20: 767 | G20: 覆工 | H20: 水平打ち継ぎ目（左側） | I20: 材質劣化 | J20: うき・はく離 | M20: 0.065 | N20: 0.14 | O20: Ⅱb | P20: － | Q20: Ⅱb | R20: 否 | S20: 要監視 | T20: 未 | U20: ー | Y20: 継続監視
C21: S74 | E21: 3 | F21: 772.1 | G21: 覆工 | H21: 水平打ち継ぎ目（左側） | I21: 材質劣化 | J21: うき・はく離 | M21: 0.585 | N21: 0.525 | O21: Ⅱb | P21: － | Q21: Ⅱa | R21: 否 | S21: 要対策 | T21: 未 | U21: ー | Y21: はく落防止工
C22: S74 | E22: 4 | F22: 767 | G22: 覆工 | H22: 横断目地（左側） | I22: 材質劣化 | J22: うき・はく離 | M22: 0.12 | N22: 0.09 | O22: Ⅲ | P22: － | Q22: Ⅲ | R22: 否 | S22: 要対策 | T22: 未 | U22: ー | Y22: はく落防止工
