Workbook
Name その他: '(参考)リスト'!$C$47
Name その他施設: '(参考)リスト'!$C$79:$C$83
Name 換気施設: '(参考)リスト'!$C$56:$C$60
Name 坑門: '(参考)リスト'!$C$31:$C$32
Name 照明施設: '(参考)リスト'!$C$52:$C$54
Name 天井板: '(参考)リスト'!$C$37:$C$39
Name 内装板: '(参考)リスト'!$C$34:$C$35
Name 非常用施設: '(参考)リスト'!$C$62:$C$77
Name 覆工: '(参考)リスト'!$C$16:$C$29
Name 路面: '(参考)リスト'!$C$41:$C$45

Sheet 点検様式作成フロー
A1: 点検様式作成フロ-
A3: 作成フロー図 | H3: 点検調書作成手順
H4: ①様式A-1～A-3（トンネル台帳）
H5: トンネル点検の実施にあたっては，現場点検作業に先行してトンネル情報を収集する。トンネル台帳（様式Ａ－1～様式Ａ－3）はトンネル完成後に作成され，維持管理の段階で引き継がれるが，関連資料等を確認したうえで，追加情報があれば必要に応じて追記することが望ましい。
H9: ②様式D-2-1、様式D-2-1´
H10: 現場点検作業を実施し，近接目視点検で確認した変状状況や補修履歴を忠実に変状展開図に転記する。
H12: ③様式D-1-1、様式D-1-2
H13: 変状展開図や撮影した写真等をもとに，対象トンネルの対策区分を決定し，対策区分がⅡ～Ⅳの変状および異常判定区分「×」を抽出し，写真台帳を作成する。
H16: ④様式B
H17: 写真台帳の作成と同時に，トンネルの構造を展開した位置図に変状写真位置を記録する。
H19: ⑤様式D-3
H20: 変状展開図ならびに写真台帳をもとに覆工スパンごとの変状展開図を作成し，変状発生状況をとりまとめる。
H22: ⑥様式E
H23: 近接目視または打音検査，触診ができていない箇所および近接目視によらない方法を講じた場所に対する調査結果を記録する。
... H33: ファイルは以下の分割規則に従う。 ※各ファイルとも （参考）リスト のシートを付けて保存すること。 ・様式A-1～A-3は同一ファイルとする。 ・様式B、D-1-1、D-1-2、D-2-1（もしくはD-2-1'）は別ファイルとする。 ・様式C-1-1、C-1-2、C-2は同一ファイルとする。 ・様式D-3、E、F、Gは同一ファイルとする。

Sheet 変状面積算出方法
A1: 変状面積算出方法
A26: 注1）外力による変状：ひび割れや圧ざの場合は変状の寸法を記録する。
A27: 例）ひび割れ：長さ（L）×最大ひび割れ幅（t）を記録する。 変形，移動，沈下：数値的な記載が可能な場合のみ記載する。
A28: 注2）材料劣化による：打音異常
A29: 例）うき，はく離（閉合ひび割れ）：変状範囲を包括する寸法（L×W） うき，はく離（ひび割れ沿い）：打音異常箇所を包括する寸法（L×W） 鋼材腐食（鉄筋腐食）：一括した対策が適当と考えられる範囲を包括する寸法（L×W）
A30: 注3）漏水による変状：漏水発生範囲を包括し，垂れ下がりの可能性がある側壁下端まで含めた寸法を，L×Wで記録する。打継ぎ目地沿いの 漏水については目地を跨いだ50cm幅を横幅とする。

Sheet 様式A-1
B2: ■トンネル台帳 トンネル諸元、非常用施設諸元 【様式A-1】 | S2: 施設ID | W2: 34.24719,131.92769
B3: フリガナ | D3: ヒラセトンネル | H3: 路線名 | J3: 国道434号 | P3: 管理者名 | R3: 山口県岩国土木建築事務所 | W3: 緊急輸送道路 | Z3: 二次
B4: 名 称 | D4: 平瀬トンネル | W4: 代替路の有無 | Z4: 無
B5: 所在地 | D5: 自 | E5: 山口県岩国市錦町平瀬 | H5: 作成者 | K5: 株式会社エイト日本技術開発 岡根 三千夫 | P5: 作成年月日 | R5: 45651 | U5: トンネル延長 | X5: L= | Z5: 630 | AB5: ｍ
D6: 至 | E6: 山口県岩国市錦町平瀬 | U6: ﾄﾝﾈﾙの分類 | X6: 陸上トンネル（掘進工法）
B7: 起点 | C7: 緯度 | E7: 341531.5 | H7: 完成年月日 | K7: 2003年2月 | M7: 舗装 | O7: 種 別 | Q7: コンクリート | S7: トンネル非常用施設 | T7: 施設の内訳 | X7: 種別・方式 | Y7: 型式 | Z7: 個数 | AA7: 更新年度 | AE7: =INT(E7/10000) -> 34 | AF7: =INT(E7/100)-AE7*100 -> 15 | AG7: =E7-AE7*10000-AF7*100 -> 31.5 | AH7: =ROUND(AE7+AF7/60+AG7/60/60,5) -> 34.25875 | AI7: =TEXT(AH7,"0.00000") -> 34.25875
C8: 経度 | E8: 1315601.6 | H8: 供用年月日 | O8: 厚 さ | T8: 通報設備 | U8: 通話型通報設備 | X8: - | Y8: - | Z8: 7 | AA8: - | AE8: =INT(E8/10000) -> 131 | AF8: =INT(E8/100)-AE8*100 -> 56 | AG8: =E8-AE8*10000-AF8*100 -> 1.61 | AH8: =ROUND(AE8+AF8/60+AG8/60/60,5) -> 131.93378 | AI8: =TEXT(AH8,"0.00000") -> 131.93378
B9: 終点 | C9: 緯度 | E9: 341533.68 | H9: トンネル区分 | K9: C | O9: 面 積 | U9: 操作型通報設備 | X9: - | Y9: - | Z9: 13 | AA9: -
C10: 経度 | E10: 1315609.3 | H10: 内装種類 | K10: 覆工（コンクリート） | O10: 更新年次 | U10: 自動通報設備 | X10: - | Y10: - | Z10: - | AA10: -
B11: 一般有料区分 | E11: 一般（無料） | H11: 天井板種類 | K11: 覆工（コンクリート） | M11: 排水 | O11: 種 別 | T11: 警報設備 | U11: 非常警報設備 | X11: - | Y11: - | Z11: - | AA11: -
B12: 土かぶり | G12: m | H12: 坑門 | I12: 起点 | J12: 形式 | K12: 面壁型 | O12: 更新年次 | T12: 消火設備 | U12: 消 火 器 | X12: - | Y12: - | Z12: - | AA12: -
B13: 内空断面積 | E13: 49.6 | G13: m2 | J13: 延長 | K13: 10.5 | L13: m | M13: 施設 | P13: 種別・方式 | Q13: 個数 | R13: 更新年次 | U13: 消火栓設備 | X13: - | Y13: - | Z13: - | AA13: -
B14: 交 通 量 | G14: 台/日 | I14: 終点 | J14: 形式 | K14: 面壁型 | M14: 道路附属物等 | N14: 照明 | P14: ナトリウム灯 | Q14: 120 | R14: - | T14: 避難誘導設備 | U14: 誘導表示設備 | X14: - | Y14: - | Z14: - | AA14: -
C15: 道 路 幅 | E15: 9.75 | G15: m | J15: 延長 | K15: 10.5 | L15: m | N15: 換気 | P15: 自然喚起 | U15: 避難情報提供設備 | X15: - | Y15: - | Z15: - | AA15: -
B16: 幅 員 | C16: 車 道 幅 | E16: 3 | G16: m | H16: 竣工巻厚 | I16: アーチ | K16: 30～35 | L16: cm | N16: 標識 | P16: - | Q16: 1 | R16: - | X16: - | Y16: - | Z16: - | AA16: -
E17: 3 | G17: m | I17: 側 壁 | K17: 30～35 | L17: cm | N17: 警報表示板 | P17: - | Q17: - | R17: - | U17: 避難通路 | X17: - | Y17: - | Z17: - | AA17: -
C18: 歩道等幅 | E18: 3.75 | G18: m | K18: 30～35 | L18: cm | N18: 吸音板 | P18: - | Q18: - | R18: - | U18: 排煙設備 | X18: - | Y18: - | Z18: - | AA18: -
B19: 高さ | C19: 建築限界高 | G19: m | I19: インバート | L19: cm | T19: その他の設備 | U19: 給水栓設備 | X19: - | Y19: - | Z19: - | AA19: -
C20: 中央高 | G20: m | H20: 半径 | I20: アーチ | L20: cm | U20: 無線通信補助設備 | X20: - | Y20: - | Z20: - | AA20: -
C21: 有効高 | E21: 4.7 | G21: m | I21: 側 壁 | L21: cm | U21: 水噴霧設備 | X21: - | Y21: - | Z21: - | AA21: -
C22: 縦断勾配 | I22: インバート | L22: cm | U22: 監視設備 | X22: - | Y22: - | Z22: - | AA22: -
B23: 線 形 | C23: 直線区間長 | H23: 占用物件 | I23: 種 類 | K23: 寸 法 | M23: 管理者名 | Q23: 更新年次 | S23: 非常用施設 関連設備 | U23: 予備発電設備 | X23: - | Y23: - | Z23: - | AA23: -
C24: 曲線区間 | D24: 区間長 | F24: -
D25: 起点側ｸﾛｿｲﾄﾞ | F25: -
D26: 曲線半径 | F26: -
D27: 終点側ｸﾛｿｲﾄﾞ | F27: - | S27: その他 | U27: 非常駐車帯 | X27: - | Y27: - | Z27: - | AA27: -
B28: トンネル工法 | E28: 山岳トンネル工法（NATM） | U28: 方向転換所 | X28: - | Y28: - | Z28: - | AA28: -
C29: ※緯度・経度については、秒の小数第二位の単位まで記入すること。

Sheet 様式A-2
B3: ■トンネル台帳 トンネル情報一覧表 【様式A-2】
B4: フリガナ | E4: ='様式A-1'!D3 -> ヒラセトンネル | J4: 路線名 | M4: ='様式A-1'!J3 -> 国道434号 | S4: 作成者 | Y4: ='様式A-1'!K5 -> 株式会社エイト日本技術開発 岡根 三千夫 | AE4: 作成年月日 | AI4: ='様式A-1'!R5 -> 45651
B5: 名 称 | E5: ='様式A-1'!D4 -> 平瀬トンネル | J5: 管理者名 | M5: ='様式A-1'!R3 -> 山口県岩国土木建築事務所
B6: 覆工 ｽﾊﾟﾝ 番号 | C6: ｽﾊﾟﾝ長 | D6: 追加距離 | F6: トンネル本体工 | K6: 照明施設 | O6: 非常用施設 | AE6: 換気施設 | AK6: その他附属物等
O7: 通報設備 | R7: 警報設備 | S7: 消火設備 | U7: 避難誘導設備 | Y7: その他の設備 | AC7: 特記事項
D8: 起点側 | E8: 終点側 | F8: 特記事項 | I8: 内装板 | J8: 天井板 | K8: 基本照明 | L8: 入口出口照明 | M8: 特記事項 | O8: 通話型通報設備 | P8: 操作型通報設備 | Q8: 自動通報設備 | R8: 非常警報設備 | S8: 消 火 器 | T8: 消火栓設備 | U8: 誘導表示設備 | V8: 避難情報提供設備 | W8: 避難通路 | X8: 排煙設備 | Y8: 給水栓設備 | Z8: 無線通信補助設備 | AA8: 水噴霧設備 | AB8: 監視設備 | AE8: JF | AF8: VI計 | AG8: CO計 | AH8: 風向 風速計 | AI8: 特記事項
C9: (m) | D9: (m) | E9: (m)
B10: PS | C10: 10.5 | D10: 0 | E10: 10.5 | F10: 坑門(面壁型) | K10: 〇
B11: S1 | C11: 10.5 | D11: 10.5 | E11: 21 | K11: 〇 | O11: ① | P11: ① | AK11: 標識
B12: S2 | C12: 10.5 | D12: 21 | E12: 31.5 | K12: 〇
B13: S3 | C13: 10.5 | D13: 31.5 | E13: 42 | K13: 〇
B14: S4 | C14: 10.5 | D14: 42 | E14: 52.5 | K14: 〇
B15: S5 | C15: 10.5 | D15: 52.5 | E15: 63 | K15: 〇
B16: S6 | C16: 10.5 | D16: 63 | E16: 73.5 | K16: 〇 | P16: ②
B17: S7 | C17: 10.5 | D17: 73.5 | E17: 84 | K17: 〇
B18: S8 | C18: 10.5 | D18: 84 | E18: 94.5 | K18: 〇
B19: S9 | C19: 10.5 | D19: 94.5 | E19: 105 | K19: 〇
B20: S10 | C20: 10.5 | D20: 105 | E20: 115.5 | K20: 〇
B21: S11 | C21: 10.5 | D21: 115.5 | E21: 126 | K21: 〇 | P21: ③
B22: S12 | C22: 10.5 | D22: 126 | E22: 136.5 | K22: 〇
B23: S13 | C23: 10.5 | D23: 136.5 | E23: 147 | K23: 〇
B24: S14 | C24: 10.5 | D24: 147 | E24: 157.5 | K24: 〇
B25: S15 | C25: 10.5 | D25: 157.5 | E25: 168 | K25: 〇 | O25: ② | P25: ④
B26: S16 | C26: 10.5 | D26: 168 | E26: 178.5 | K26: 〇
B27: S17 | C27: 10.5 | D27: 178.5 | E27: 189 | K27: 〇
B28: S18 | C28: 10.5 | D28: 189 | E28: 199.5 | K28: 〇
B29: S19 | C29: 10.5 | D29: 199.5 | E29: 210
B30: S20 | C30: 10.5 | D30: 210 | E30: 220.5 | K30: 〇 | O30: ③ | P30: ⑤
B31: S21 | C31: 10.5 | D31: 220.5 | E31: 231 | K31: 〇
B32: S22 | C32: 10.5 | D32: 231 | E32: 241.5 | K32: 〇
B33: S23 | C33: 10.5 | D33: 241.5 | E33: 252
B34: S24 | C34: 10.5 | D34: 252 | E34: 262.5 | K34: 〇
B35: S25 | C35: 10.5 | D35: 262.5 | E35: 273 | K35: 〇 | P35: ⑥
B36: S26 | C36: 10.5 | D36: 273 | E36: 283.5 | K36: 〇
B37: S27 | C37: 10.5 | D37: 283.5 | E37: 294 | K37: ○
B38: S28 | C38: 10.5 | D38: 294 | E38: 304.5
B39: S29 | C39: 10.5 | D39: 304.5 | E39: 315 | K39: 〇 | P39: ⑦
B40: S30 | C40: 10.5 | D40: 315 | E40: 325.5 | K40: 〇
B41: S31 | C41: 10.5 | D41: 325.5 | E41: 336 | K41: 〇
B42: S32 | C42: 10.5 | D42: 336 | E42: 346.5
...

Sheet 様式A-3
B3: ■トンネル台帳 トンネル記録（位置図、断面図、施工実績他）【様式A-3】
B4: フリガナ | E4: ='様式A-1'!D3 -> ヒラセトンネル | J4: 路線名 | M4: ='様式A-1'!J3 -> 国道434号 | S4: 作成者 | W4: ='様式A-1'!K5 -> 株式会社エイト日本技術開発 岡根 三千夫 | AC4: 作成年月日 | AF4: ='様式A-1'!R5 -> 45651
B5: 名 称 | E5: ='様式A-1'!D4 -> 平瀬トンネル | J5: 管理者名 | M5: ='様式A-1'!R3 -> 山口県岩国土木建築事務所
B6: 位置図・現況写真・標準断面図・地質縦断図・施工実績

Sheet 様式B_001
B2: ■定期点検記録様式 トンネル変状・異常箇所写真位置図 【様式B】 | N2: 定期点検年月日 | P2: 45589 | S2: 施設ID | V2: 34.24719,131.92769
B3: フリガナ | C3: ヒラセトンネル | G3: 路線名 | H3: 国道434号 | K3: 管理者名 | L3: 山口県岩国土木建築事務所 | Q3: 定期点検実施者 | S3: 株式会社エイト日本技術開発 | V3: 起点 | W3: 緯度 | X3: 341531.5
B4: 名 称 | C4: 平瀬トンネル | S4: 岡根 三千夫 | W4: 経度 | X4: 1315601.6
B5: 所在地 | C5: 自 | D5: 山口県岩国市錦町平瀬 | G5: トンネル工法 | I5: 山岳トンネル工法（NATM） | L5: トンネル延長 | N5: L= | O5: 630 | P5: ｍ | Q5: 自専道 or 一般道 | R5: 一般道 | S5: 代替路の有無 | U5: 無 | V5: 終点 | W5: 緯度 | X5: 341533.68
C6: 至 | D6: 山口県岩国市錦町平瀬 | G6: 建設年度 | I6: 2003年 | L6: 幅員 | N6: L= | O6: 9.75 | P6: ｍ | S6: 緊急輸送道路 | U6: 二次 | W6: 経度 | X6: 1315609.3
B7: トンネル毎 の健全性の 診断の区分 | D7: Ⅱ
G8: 変状・異常 箇所数合計 | I8: トンネル本体工 | J8: 材質劣化 | K8: Ⅱ | L8: 13 | N8: Ⅲ | O8: 0 | Q8: Ⅳ | R8: 0 | T8: 附属物等 の取付状態 | V8: ◯ （応急措置後) | X8: 0
J9: 漏水 | K9: Ⅱ | L9: 2 | N9: Ⅲ | O9: 0 | Q9: Ⅳ | R9: 0
V10: ✕ | X10: 0
J11: 外力 | K11: Ⅱ | L11: 0 | N11: 0 | O11: 0 | Q11: Ⅳ | R11: 0
B12: トンネル変状・異常箇所写真位置図
J29: 注１：本位置図は、見下げた状態で記載すること。 注２：覆工スパン番号は横断目地毎(矢板工法の場合は上半アーチの 横断目地毎)に設定すること。 | Q29: 注３：写真番号に付する変状番号は、各覆工スパンの変状に対して新たに確認された場合 は順次追加していくこと。 注４：横断目地の変状は前の覆工スパン番号で計上すること。 注５：１枚に収まらない場合は、複数枚に分けて作成すること。
C30: ※1 トンネル本体工の変状数は、材質劣化、漏水に起因するものは変状単位で、外力に起因するものはスパン単位で計上すること。
C31: ※2 トンネル本体工の変状に対しては、措置の必要性（Ⅱ～Ⅳ）について表記すること。また、点検前に実施された措置によりⅠと判定された箇所についても記載すること。
C32: ※3 附属物等の取付状態の○欄については、応急措置前に判定区分×とした箇所のうち応急措置により○判定とした箇所の数を記入すること。
C33: ※4 附属物等の異常番号は、本体工と番号が重複しないよう101番以降とする等の配慮を行い、分かりやすく記録すること。

Sheet 様式B_002
B2: ■定期点検記録様式 トンネル変状・異常箇所写真位置図 【様式B】 | N2: 定期点検年月日 | P2: 45589 | S2: 施設ID | V2: 34.24719,131.92769
B3: フリガナ | C3: ヒラセトンネル | G3: 路線名 | H3: 国道434号 | K3: 管理者名 | L3: 山口県岩国土木建築事務所 | Q3: 定期点検実施者 | S3: 株式会社エイト日本技術開発 | V3: 起点 | W3: 緯度 | X3: 341531.5
B4: 名 称 | C4: 平瀬トンネル | S4: 岡根 三千夫 | W4: 経度 | X4: 1315601.6
B5: 所在地 | C5: 自 | D5: 山口県岩国市錦町平瀬 | G5: トンネル工法 | I5: 山岳トンネル工法（NATM） | L5: トンネル延長 | N5: L= | O5: 630 | P5: ｍ | Q5: 自専道 or 一般道 | R5: 一般道 | S5: 代替路の有無 | U5: 無 | V5: 終点 | W5: 緯度 | X5: 341533.68
C6: 至 | D6: 山口県岩国市錦町平瀬 | G6: 建設年度 | I6: 2003年 | L6: 幅員 | N6: L= | O6: 9.75 | P6: ｍ | S6: 緊急輸送道路 | U6: 二次 | W6: 経度 | X6: 1315609.3
B7: トンネル毎 の健全性の 診断の区分 | D7: Ⅱ
G8: 変状・異常 箇所数合計 | I8: トンネル本体工 | J8: 材質劣化 | K8: Ⅱ | L8: 13 | N8: Ⅲ | O8: 0 | Q8: Ⅳ | R8: 0 | T8: 附属物等 の取付状態 | V8: ◯ （応急措置後) | X8: 0
J9: 漏水 | K9: Ⅱ | L9: 2 | N9: Ⅲ | O9: 0 | Q9: Ⅳ | R9: 0
V10: ✕ | X10: 0
J11: 外力 | K11: Ⅱ | L11: 0 | N11: 0 | O11: 0 | Q11: Ⅳ | R11: 0
B12: トンネル変状・異常箇所写真位置図
J29: 注１：本位置図は、見下げた状態で記載すること。 注２：覆工スパン番号は横断目地毎(矢板工法の場合は上半アーチの 横断目地毎)に設定すること。 | Q29: 注３：写真番号に付する変状番号は、各覆工スパンの変状に対して新たに確認された場合 は順次追加していくこと。 注４：横断目地の変状は前の覆工スパン番号で計上すること。 注５：１枚に収まらない場合は、複数枚に分けて作成すること。
C30: ※1 トンネル本体工の変状数は、材質劣化、漏水に起因するものは変状単位で、外力に起因するものはスパン単位で計上すること。
C31: ※2 トンネル本体工の変状に対しては、措置の必要性（Ⅱ～Ⅳ）について表記すること。また、点検前に実施された措置によりⅠと判定された箇所についても記載すること。
C32: ※3 附属物等の取付状態の○欄については、応急措置前に判定区分×とした箇所のうち応急措置により○判定とした箇所の数を記入すること。
C33: ※4 附属物等の異常番号は、本体工と番号が重複しないよう101番以降とする等の配慮を行い、分かりやすく記録すること。

Sheet 様式B_003
B2: ■定期点検記録様式 トンネル変状・異常箇所写真位置図 【様式B】 | N2: 定期点検年月日 | P2: 45589 | S2: 施設ID | V2: 34.24719,131.92769
B3: フリガナ | C3: ヒラセトンネル | G3: 路線名 | H3: 国道434号 | K3: 管理者名 | L3: 山口県岩国土木建築事務所 | Q3: 定期点検実施者 | S3: 株式会社エイト日本技術開発 | V3: 起点 | W3: 緯度 | X3: 341531.5
B4: 名 称 | C4: 平瀬トンネル | S4: 岡根 三千夫 | W4: 経度 | X4: 1315601.6
B5: 所在地 | C5: 自 | D5: 山口県岩国市錦町平瀬 | G5: トンネル工法 | I5: 山岳トンネル工法（NATM） | L5: トンネル延長 | N5: L= | O5: 630 | P5: ｍ | Q5: 自専道 or 一般道 | R5: 一般道 | S5: 代替路の有無 | U5: 無 | V5: 終点 | W5: 緯度 | X5: 341533.68
C6: 至 | D6: 山口県岩国市錦町平瀬 | G6: 建設年度 | I6: 2003年 | L6: 幅員 | N6: L= | O6: 9.75 | P6: ｍ | S6: 緊急輸送道路 | U6: 二次 | W6: 経度 | X6: 1315609.3
B7: トンネル毎 の健全性の 診断の区分 | D7: Ⅱ
G8: 変状・異常 箇所数合計 | I8: トンネル本体工 | J8: 材質劣化 | K8: Ⅱ | L8: 13 | N8: Ⅲ | O8: 0 | Q8: Ⅳ | R8: 0 | T8: 附属物等 の取付状態 | V8: ◯ （応急措置後) | X8: 0
J9: 漏水 | K9: Ⅱ | L9: 2 | N9: Ⅲ | O9: 0 | Q9: Ⅳ | R9: 0
V10: ✕ | X10: 0
J11: 外力 | K11: Ⅱ | L11: 0 | N11: 0 | O11: 0 | Q11: Ⅳ | R11: 0
B12: トンネル変状・異常箇所写真位置図
J29: 注１：本位置図は、見下げた状態で記載すること。 注２：覆工スパン番号は横断目地毎(矢板工法の場合は上半アーチの 横断目地毎)に設定すること。 | Q29: 注３：写真番号に付する変状番号は、各覆工スパンの変状に対して新たに確認された場合 は順次追加していくこと。 注４：横断目地の変状は前の覆工スパン番号で計上すること。 注５：１枚に収まらない場合は、複数枚に分けて作成すること。
C30: ※1 トンネル本体工の変状数は、材質劣化、漏水に起因するものは変状単位で、外力に起因するものはスパン単位で計上すること。
C31: ※2 トンネル本体工の変状に対しては、措置の必要性（Ⅱ～Ⅳ）について表記すること。また、点検前に実施された措置によりⅠと判定された箇所についても記載すること。
C32: ※3 附属物等の取付状態の○欄については、応急措置前に判定区分×とした箇所のうち応急措置により○判定とした箇所の数を記入すること。
C33: ※4 附属物等の異常番号は、本体工と番号が重複しないよう101番以降とする等の配慮を行い、分かりやすく記録すること。

Sheet 様式B_004
B2: ■定期点検記録様式 トンネル変状・異常箇所写真位置図 【様式B】 | N2: 定期点検年月日 | P2: 45589 | S2: 施設ID | V2: 34.24719,131.92769
B3: フリガナ | C3: ヒラセトンネル | G3: 路線名 | H3: 国道434号 | K3: 管理者名 | L3: 山口県岩国土木建築事務所 | Q3: 定期点検実施者 | S3: 株式会社エイト日本技術開発 | V3: 起点 | W3: 緯度 | X3: 341531.5
B4: 名 称 | C4: 平瀬トンネル | S4: 岡根 三千夫 | W4: 経度 | X4: 1315601.6
B5: 所在地 | C5: 自 | D5: 山口県岩国市錦町平瀬 | G5: トンネル工法 | I5: 山岳トンネル工法（NATM） | L5: トンネル延長 | N5: L= | O5: 630 | P5: ｍ | Q5: 自専道 or 一般道 | R5: 一般道 | S5: 代替路の有無 | U5: 無 | V5: 終点 | W5: 緯度 | X5: 341533.68
C6: 至 | D6: 山口県岩国市錦町平瀬 | G6: 建設年度 | I6: 2003年 | L6: 幅員 | N6: L= | O6: 9.75 | P6: ｍ | S6: 緊急輸送道路 | U6: 二次 | W6: 経度 | X6: 1315609.3
B7: トンネル毎 の健全性の 診断の区分 | D7: Ⅱ
G8: 変状・異常 箇所数合計 | I8: トンネル本体工 | J8: 材質劣化 | K8: Ⅱ | L8: 13 | N8: Ⅲ | O8: 0 | Q8: Ⅳ | R8: 0 | T8: 附属物等 の取付状態 | V8: ◯ （応急措置後) | X8: 0
J9: 漏水 | K9: Ⅱ | L9: 2 | N9: Ⅲ | O9: 0 | Q9: Ⅳ | R9: 0
V10: ✕ | X10: 0
J11: 外力 | K11: Ⅱ | L11: 0 | N11: 0 | O11: 0 | Q11: Ⅳ | R11: 0
B12: トンネル変状・異常箇所写真位置図
J29: 注１：本位置図は、見下げた状態で記載すること。 注２：覆工スパン番号は横断目地毎(矢板工法の場合は上半アーチの 横断目地毎)に設定すること。 | Q29: 注３：写真番号に付する変状番号は、各覆工スパンの変状に対して新たに確認された場合 は順次追加していくこと。 注４：横断目地の変状は前の覆工スパン番号で計上すること。 注５：１枚に収まらない場合は、複数枚に分けて作成すること。
C30: ※1 トンネル本体工の変状数は、材質劣化、漏水に起因するものは変状単位で、外力に起因するものはスパン単位で計上すること。
C31: ※2 トンネル本体工の変状に対しては、措置の必要性（Ⅱ～Ⅳ）について表記すること。また、点検前に実施された措置によりⅠと判定された箇所についても記載すること。
C32: ※3 附属物等の取付状態の○欄については、応急措置前に判定区分×とした箇所のうち応急措置により○判定とした箇所の数を記入すること。
C33: ※4 附属物等の異常番号は、本体工と番号が重複しないよう101番以降とする等の配慮を行い、分かりやすく記録すること。

Sheet 様式B_005
B2: ■定期点検記録様式 トンネル変状・異常箇所写真位置図 【様式B】 | N2: 定期点検年月日 | P2: 45589 | S2: 施設ID | V2: 34.24719,131.92769
B3: フリガナ | C3: ヒラセトンネル | G3: 路線名 | H3: 国道434号 | K3: 管理者名 | L3: 山口県岩国土木建築事務所 | Q3: 定期点検実施者 | S3: 株式会社エイト日本技術開発 | V3: 起点 | W3: 緯度 | X3: 341531.5
B4: 名 称 | C4: 平瀬トンネル | S4: 岡根 三千夫 | W4: 経度 | X4: 1315601.6
B5: 所在地 | C5: 自 | D5: 山口県岩国市錦町平瀬 | G5: トンネル工法 | I5: 山岳トンネル工法（NATM） | L5: トンネル延長 | N5: L= | O5: 630 | P5: ｍ | Q5: 自専道 or 一般道 | R5: 一般道 | S5: 代替路の有無 | U5: 無 | V5: 終点 | W5: 緯度 | X5: 341533.68
C6: 至 | D6: 山口県岩国市錦町平瀬 | G6: 建設年度 | I6: 2003年 | L6: 幅員 | N6: L= | O6: 9.75 | P6: ｍ | S6: 緊急輸送道路 | U6: 二次 | W6: 経度 | X6: 1315609.3
B7: トンネル毎 の健全性の 診断の区分 | D7: Ⅱ
G8: 変状・異常 箇所数合計 | I8: トンネル本体工 | J8: 材質劣化 | K8: Ⅱ | L8: 13 | N8: Ⅲ | O8: 0 | Q8: Ⅳ | R8: 0 | T8: 附属物等 の取付状態 | V8: ◯ （応急措置後) | X8: 0
J9: 漏水 | K9: Ⅱ | L9: 2 | N9: Ⅲ | O9: 0 | Q9: Ⅳ | R9: 0
V10: ✕ | X10: 0
J11: 外力 | K11: Ⅱ | L11: 0 | N11: 0 | O11: 0 | Q11: Ⅳ | R11: 0
B12: トンネル変状・異常箇所写真位置図
J29: 注１：本位置図は、見下げた状態で記載すること。 注２：覆工スパン番号は横断目地毎(矢板工法の場合は上半アーチの 横断目地毎)に設定すること。 | Q29: 注３：写真番号に付する変状番号は、各覆工スパンの変状に対して新たに確認された場合 は順次追加していくこと。 注４：横断目地の変状は前の覆工スパン番号で計上すること。 注５：１枚に収まらない場合は、複数枚に分けて作成すること。
C30: ※1 トンネル本体工の変状数は、材質劣化、漏水に起因するものは変状単位で、外力に起因するものはスパン単位で計上すること。
C31: ※2 トンネル本体工の変状に対しては、措置の必要性（Ⅱ～Ⅳ）について表記すること。また、点検前に実施された措置によりⅠと判定された箇所についても記載すること。
C32: ※3 附属物等の取付状態の○欄については、応急措置前に判定区分×とした箇所のうち応急措置により○判定とした箇所の数を記入すること。
C33: ※4 附属物等の異常番号は、本体工と番号が重複しないよう101番以降とする等の配慮を行い、分かりやすく記録すること。

Sheet 様式B_006
B2: ■定期点検記録様式 トンネル変状・異常箇所写真位置図 【様式B】 | N2: 定期点検年月日 | P2: 45589 | S2: 施設ID | V2: 34.24719,131.92769
B3: フリガナ | C3: ヒラセトンネル | G3: 路線名 | H3: 国道434号 | K3: 管理者名 | L3: 山口県岩国土木建築事務所 | Q3: 定期点検実施者 | S3: 株式会社エイト日本技術開発 | V3: 起点 | W3: 緯度 | X3: 341531.5
B4: 名 称 | C4: 平瀬トンネル | S4: 岡根 三千夫 | W4: 経度 | X4: 1315601.6
B5: 所在地 | C5: 自 | D5: 山口県岩国市錦町平瀬 | G5: トンネル工法 | I5: 山岳トンネル工法（NATM） | L5: トンネル延長 | N5: L= | O5: 630 | P5: ｍ | Q5: 自専道 or 一般道 | R5: 一般道 | S5: 代替路の有無 | U5: 無 | V5: 終点 | W5: 緯度 | X5: 341533.68
C6: 至 | D6: 山口県岩国市錦町平瀬 | G6: 建設年度 | I6: 2003年 | L6: 幅員 | N6: L= | O6: 9.75 | P6: ｍ | S6: 緊急輸送道路 | U6: 二次 | W6: 経度 | X6: 1315609.3
B7: トンネル毎 の健全性の 診断の区分 | D7: Ⅱ
G8: 変状・異常 箇所数合計 | I8: トンネル本体工 | J8: 材質劣化 | K8: Ⅱ | L8: 13 | N8: Ⅲ | O8: 0 | Q8: Ⅳ | R8: 0 | T8: 附属物等 の取付状態 | V8: ◯ （応急措置後) | X8: 0
J9: 漏水 | K9: Ⅱ | L9: 2 | N9: Ⅲ | O9: 0 | Q9: Ⅳ | R9: 0
V10: ✕ | X10: 0
J11: 外力 | K11: Ⅱ | L11: 0 | N11: 0 | O11: 0 | Q11: Ⅳ | R11: 0
B12: トンネル変状・異常箇所写真位置図
J29: 注１：本位置図は、見下げた状態で記載すること。 注２：覆工スパン番号は横断目地毎(矢板工法の場合は上半アーチの 横断目地毎)に設定すること。 | Q29: 注３：写真番号に付する変状番号は、各覆工スパンの変状に対して新たに確認された場合 は順次追加していくこと。 注４：横断目地の変状は前の覆工スパン番号で計上すること。 注５：１枚に収まらない場合は、複数枚に分けて作成すること。
C30: ※1 トンネル本体工の変状数は、材質劣化、漏水に起因するものは変状単位で、外力に起因するものはスパン単位で計上すること。
C31: ※2 トンネル本体工の変状に対しては、措置の必要性（Ⅱ～Ⅳ）について表記すること。また、点検前に実施された措置によりⅠと判定された箇所についても記載すること。
C32: ※3 附属物等の取付状態の○欄については、応急措置前に判定区分×とした箇所のうち応急措置により○判定とした箇所の数を記入すること。
C33: ※4 附属物等の異常番号は、本体工と番号が重複しないよう101番以降とする等の配慮を行い、分かりやすく記録すること。

Sheet 様式B_007
B2: ■定期点検記録様式 トンネル変状・異常箇所写真位置図 【様式B】 | N2: 定期点検年月日 | P2: 45589 | S2: 施設ID | V2: 34.24719,131.92769
B3: フリガナ | C3: ヒラセトンネル | G3: 路線名 | H3: 国道434号 | K3: 管理者名 | L3: 山口県岩国土木建築事務所 | Q3: 定期点検実施者 | S3: 株式会社エイト日本技術開発 | V3: 起点 | W3: 緯度 | X3: 341531.5
B4: 名 称 | C4: 平瀬トンネル | S4: 岡根 三千夫 | W4: 経度 | X4: 1315601.6
B5: 所在地 | C5: 自 | D5: 山口県岩国市錦町平瀬 | G5: トンネル工法 | I5: 山岳トンネル工法（NATM） | L5: トンネル延長 | N5: L= | O5: 630 | P5: ｍ | Q5: 自専道 or 一般道 | R5: 一般道 | S5: 代替路の有無 | U5: 無 | V5: 終点 | W5: 緯度 | X5: 341533.68
C6: 至 | D6: 山口県岩国市錦町平瀬 | G6: 建設年度 | I6: 2003年 | L6: 幅員 | N6: L= | O6: 9.75 | P6: ｍ | S6: 緊急輸送道路 | U6: 二次 | W6: 経度 | X6: 1315609.3
B7: トンネル毎 の健全性の 診断の区分 | D7: Ⅱ
G8: 変状・異常 箇所数合計 | I8: トンネル本体工 | J8: 材質劣化 | K8: Ⅱ | L8: 13 | N8: Ⅲ | O8: 0 | Q8: Ⅳ | R8: 0 | T8: 附属物等 の取付状態 | V8: ◯ （応急措置後) | X8: 0
J9: 漏水 | K9: Ⅱ | L9: 2 | N9: Ⅲ | O9: 0 | Q9: Ⅳ | R9: 0
V10: ✕ | X10: 0
J11: 外力 | K11: Ⅱ | L11: 0 | N11: 0 | O11: 0 | Q11: Ⅳ | R11: 0
B12: トンネル変状・異常箇所写真位置図
J29: 注１：本位置図は、見下げた状態で記載すること。 注２：覆工スパン番号は横断目地毎(矢板工法の場合は上半アーチの 横断目地毎)に設定すること。 | Q29: 注３：写真番号に付する変状番号は、各覆工スパンの変状に対して新たに確認された場合 は順次追加していくこと。 注４：横断目地の変状は前の覆工スパン番号で計上すること。 注５：１枚に収まらない場合は、複数枚に分けて作成すること。
C30: ※1 トンネル本体工の変状数は、材質劣化、漏水に起因するものは変状単位で、外力に起因するものはスパン単位で計上すること。
C31: ※2 トンネル本体工の変状に対しては、措置の必要性（Ⅱ～Ⅳ）について表記すること。また、点検前に実施された措置によりⅠと判定された箇所についても記載すること。
C32: ※3 附属物等の取付状態の○欄については、応急措置前に判定区分×とした箇所のうち応急措置により○判定とした箇所の数を記入すること。
C33: ※4 附属物等の異常番号は、本体工と番号が重複しないよう101番以降とする等の配慮を行い、分かりやすく記録すること。

Sheet 様式B_008
B2: ■定期点検記録様式 トンネル変状・異常箇所写真位置図 【様式B】 | N2: 定期点検年月日 | P2: 45589 | S2: 施設ID | V2: 34.24719,131.92769
B3: フリガナ | C3: ヒラセトンネル | G3: 路線名 | H3: 国道434号 | K3: 管理者名 | L3: 山口県岩国土木建築事務所 | Q3: 定期点検実施者 | S3: 株式会社エイト日本技術開発 | V3: 起点 | W3: 緯度 | X3: 341531.5
B4: 名 称 | C4: 平瀬トンネル | S4: 岡根 三千夫 | W4: 経度 | X4: 1315601.6
B5: 所在地 | C5: 自 | D5: 山口県岩国市錦町平瀬 | G5: トンネル工法 | I5: 山岳トンネル工法（NATM） | L5: トンネル延長 | N5: L= | O5: 630 | P5: ｍ | Q5: 自専道 or 一般道 | R5: 一般道 | S5: 代替路の有無 | U5: 無 | V5: 終点 | W5: 緯度 | X5: 341533.68
C6: 至 | D6: 山口県岩国市錦町平瀬 | G6: 建設年度 | I6: 2003年 | L6: 幅員 | N6: L= | O6: 9.75 | P6: ｍ | S6: 緊急輸送道路 | U6: 二次 | W6: 経度 | X6: 1315609.3
B7: トンネル毎 の健全性の 診断の区分 | D7: Ⅱ
G8: 変状・異常 箇所数合計 | I8: トンネル本体工 | J8: 材質劣化 | K8: Ⅱ | L8: 13 | N8: Ⅲ | O8: 0 | Q8: Ⅳ | R8: 0 | T8: 附属物等 の取付状態 | V8: ◯ （応急措置後) | X8: 0
J9: 漏水 | K9: Ⅱ | L9: 2 | N9: Ⅲ | O9: 0 | Q9: Ⅳ | R9: 0
V10: ✕ | X10: 0
J11: 外力 | K11: Ⅱ | L11: 0 | N11: 0 | O11: 0 | Q11: Ⅳ | R11: 0
B12: トンネル変状・異常箇所写真位置図
J29: 注１：本位置図は、見下げた状態で記載すること。 注２：覆工スパン番号は横断目地毎(矢板工法の場合は上半アーチの 横断目地毎)に設定すること。 | Q29: 注３：写真番号に付する変状番号は、各覆工スパンの変状に対して新たに確認された場合 は順次追加していくこと。 注４：横断目地の変状は前の覆工スパン番号で計上すること。 注５：１枚に収まらない場合は、複数枚に分けて作成すること。
C30: ※1 トンネル本体工の変状数は、材質劣化、漏水に起因するものは変状単位で、外力に起因するものはスパン単位で計上すること。
C31: ※2 トンネル本体工の変状に対しては、措置の必要性（Ⅱ～Ⅳ）について表記すること。また、点検前に実施された措置によりⅠと判定された箇所についても記載すること。
C32: ※3 附属物等の取付状態の○欄については、応急措置前に判定区分×とした箇所のうち応急措置により○判定とした箇所の数を記入すること。
C33: ※4 附属物等の異常番号は、本体工と番号が重複しないよう101番以降とする等の配慮を行い、分かりやすく記録すること。

Sheet 様式B_009
B2: ■定期点検記録様式 トンネル変状・異常箇所写真位置図 【様式B】 | N2: 定期点検年月日 | P2: 45589 | S2: 施設ID | V2: 34.24719,131.92769
B3: フリガナ | C3: ヒラセトンネル | G3: 路線名 | H3: 国道434号 | K3: 管理者名 | L3: 山口県岩国土木建築事務所 | Q3: 定期点検実施者 | S3: 株式会社エイト日本技術開発 | V3: 起点 | W3: 緯度 | X3: 341531.5
B4: 名 称 | C4: 平瀬トンネル | S4: 岡根 三千夫 | W4: 経度 | X4: 1315601.6
B5: 所在地 | C5: 自 | D5: 山口県岩国市錦町平瀬 | G5: トンネル工法 | I5: 山岳トンネル工法（NATM） | L5: トンネル延長 | N5: L= | O5: 630 | P5: ｍ | Q5: 自専道 or 一般道 | R5: 一般道 | S5: 代替路の有無 | U5: 無 | V5: 終点 | W5: 緯度 | X5: 341533.68
C6: 至 | D6: 山口県岩国市錦町平瀬 | G6: 建設年度 | I6: 2003年 | L6: 幅員 | N6: L= | O6: 9.75 | P6: ｍ | S6: 緊急輸送道路 | U6: 二次 | W6: 経度 | X6: 1315609.3
B7: トンネル毎 の健全性の 診断の区分 | D7: Ⅱ
G8: 変状・異常 箇所数合計 | I8: トンネル本体工 | J8: 材質劣化 | K8: Ⅱ | L8: 13 | N8: Ⅲ | O8: 0 | Q8: Ⅳ | R8: 0 | T8: 附属物等 の取付状態 | V8: ◯ （応急措置後) | X8: 0
J9: 漏水 | K9: Ⅱ | L9: 2 | N9: Ⅲ | O9: 0 | Q9: Ⅳ | R9: 0
V10: ✕ | X10: 0
J11: 外力 | K11: Ⅱ | L11: 0 | N11: 0 | O11: 0 | Q11: Ⅳ | R11: 0
B12: トンネル変状・異常箇所写真位置図
J29: 注１：本位置図は、見下げた状態で記載すること。 注２：覆工スパン番号は横断目地毎(矢板工法の場合は上半アーチの 横断目地毎)に設定すること。 | Q29: 注３：写真番号に付する変状番号は、各覆工スパンの変状に対して新たに確認された場合 は順次追加していくこと。 注４：横断目地の変状は前の覆工スパン番号で計上すること。 注５：１枚に収まらない場合は、複数枚に分けて作成すること。
C30: ※1 トンネル本体工の変状数は、材質劣化、漏水に起因するものは変状単位で、外力に起因するものはスパン単位で計上すること。
C31: ※2 トンネル本体工の変状に対しては、措置の必要性（Ⅱ～Ⅳ）について表記すること。また、点検前に実施された措置によりⅠと判定された箇所についても記載すること。
C32: ※3 附属物等の取付状態の○欄については、応急措置前に判定区分×とした箇所のうち応急措置により○判定とした箇所の数を記入すること。
C33: ※4 附属物等の異常番号は、本体工と番号が重複しないよう101番以降とする等の配慮を行い、分かりやすく記録すること。

Sheet 様式B_010
B2: ■定期点検記録様式 トンネル変状・異常箇所写真位置図 【様式B】 | N2: 定期点検年月日 | P2: 45589 | S2: 施設ID | V2: 34.24719,131.92769
B3: フリガナ | C3: ヒラセトンネル | G3: 路線名 | H3: 国道434号 | K3: 管理者名 | L3: 山口県岩国土木建築事務所 | Q3: 定期点検実施者 | S3: 株式会社エイト日本技術開発 | V3: 起点 | W3: 緯度 | X3: 341531.5
B4: 名 称 | C4: 平瀬トンネル | S4: 岡根 三千夫 | W4: 経度 | X4: 1315601.6
B5: 所在地 | C5: 自 | D5: 山口県岩国市錦町平瀬 | G5: トンネル工法 | I5: 山岳トンネル工法（NATM） | L5: トンネル延長 | N5: L= | O5: 630 | P5: ｍ | Q5: 自専道 or 一般道 | R5: 一般道 | S5: 代替路の有無 | U5: 無 | V5: 終点 | W5: 緯度 | X5: 341533.68
C6: 至 | D6: 山口県岩国市錦町平瀬 | G6: 建設年度 | I6: 2003年 | L6: 幅員 | N6: L= | O6: 9.75 | P6: ｍ | S6: 緊急輸送道路 | U6: 二次 | W6: 経度 | X6: 1315609.3
B7: トンネル毎 の健全性の 診断の区分 | D7: Ⅱ
G8: 変状・異常 箇所数合計 | I8: トンネル本体工 | J8: 材質劣化 | K8: Ⅱ | L8: 13 | N8: Ⅲ | O8: 0 | Q8: Ⅳ | R8: 0 | T8: 附属物等 の取付状態 | V8: ◯ （応急措置後) | X8: 0
J9: 漏水 | K9: Ⅱ | L9: 2 | N9: Ⅲ | O9: 0 | Q9: Ⅳ | R9: 0
V10: ✕ | X10: 0
J11: 外力 | K11: Ⅱ | L11: 0 | N11: 0 | O11: 0 | Q11: Ⅳ | R11: 0
B12: トンネル変状・異常箇所写真位置図
J29: 注１：本位置図は、見下げた状態で記載すること。 注２：覆工スパン番号は横断目地毎(矢板工法の場合は上半アーチの 横断目地毎)に設定すること。 | Q29: 注３：写真番号に付する変状番号は、各覆工スパンの変状に対して新たに確認された場合 は順次追加していくこと。 注４：横断目地の変状は前の覆工スパン番号で計上すること。 注５：１枚に収まらない場合は、複数枚に分けて作成すること。
C30: ※1 トンネル本体工の変状数は、材質劣化、漏水に起因するものは変状単位で、外力に起因するものはスパン単位で計上すること。
C31: ※2 トンネル本体工の変状に対しては、措置の必要性（Ⅱ～Ⅳ）について表記すること。また、点検前に実施された措置によりⅠと判定された箇所についても記載すること。
C32: ※3 附属物等の取付状態の○欄については、応急措置前に判定区分×とした箇所のうち応急措置により○判定とした箇所の数を記入すること。
C33: ※4 附属物等の異常番号は、本体工と番号が重複しないよう101番以降とする等の配慮を行い、分かりやすく記録すること。

Sheet 様式B_011
B2: ■定期点検記録様式 トンネル変状・異常箇所写真位置図 【様式B】 | N2: 定期点検年月日 | P2: 45589 | S2: 施設ID | V2: 34.24719,131.92769
B3: フリガナ | C3: ヒラセトンネル | G3: 路線名 | H3: 国道434号 | K3: 管理者名 | L3: 山口県岩国土木建築事務所 | Q3: 定期点検実施者 | S3: 株式会社エイト日本技術開発 | V3: 起点 | W3: 緯度 | X3: 341531.5
B4: 名 称 | C4: 平瀬トンネル | S4: 岡根 三千夫 | W4: 経度 | X4: 1315601.6
B5: 所在地 | C5: 自 | D5: 山口県岩国市錦町平瀬 | G5: トンネル工法 | I5: 山岳トンネル工法（NATM） | L5: トンネル延長 | N5: L= | O5: 630 | P5: ｍ | Q5: 自専道 or 一般道 | R5: 一般道 | S5: 代替路の有無 | U5: 無 | V5: 終点 | W5: 緯度 | X5: 341533.68
C6: 至 | D6: 山口県岩国市錦町平瀬 | G6: 建設年度 | I6: 2003年 | L6: 幅員 | N6: L= | O6: 9.75 | P6: ｍ | S6: 緊急輸送道路 | U6: 二次 | W6: 経度 | X6: 1315609.3
B7: トンネル毎 の健全性の 診断の区分 | D7: Ⅱ
G8: 変状・異常 箇所数合計 | I8: トンネル本体工 | J8: 材質劣化 | K8: Ⅱ | L8: 13 | N8: Ⅲ | O8: 0 | Q8: Ⅳ | R8: 0 | T8: 附属物等 の取付状態 | V8: ◯ （応急措置後) | X8: 0
J9: 漏水 | K9: Ⅱ | L9: 2 | N9: Ⅲ | O9: 0 | Q9: Ⅳ | R9: 0
V10: ✕ | X10: 0
J11: 外力 | K11: Ⅱ | L11: 0 | N11: 0 | O11: 0 | Q11: Ⅳ | R11: 0
B12: トンネル変状・異常箇所写真位置図
J29: 注１：本位置図は、見下げた状態で記載すること。 注２：覆工スパン番号は横断目地毎(矢板工法の場合は上半アーチの 横断目地毎)に設定すること。 | Q29: 注３：写真番号に付する変状番号は、各覆工スパンの変状に対して新たに確認された場合 は順次追加していくこと。 注４：横断目地の変状は前の覆工スパン番号で計上すること。 注５：１枚に収まらない場合は、複数枚に分けて作成すること。
C30: ※1 トンネル本体工の変状数は、材質劣化、漏水に起因するものは変状単位で、外力に起因するものはスパン単位で計上すること。
C31: ※2 トンネル本体工の変状に対しては、措置の必要性（Ⅱ～Ⅳ）について表記すること。また、点検前に実施された措置によりⅠと判定された箇所についても記載すること。
C32: ※3 附属物等の取付状態の○欄については、応急措置前に判定区分×とした箇所のうち応急措置により○判定とした箇所の数を記入すること。
C33: ※4 附属物等の異常番号は、本体工と番号が重複しないよう101番以降とする等の配慮を行い、分かりやすく記録すること。

Sheet 様式B_012
B2: ■定期点検記録様式 トンネル変状・異常箇所写真位置図 【様式B】 | N2: 定期点検年月日 | P2: 45589 | S2: 施設ID | V2: 34.24719,131.92769
B3: フリガナ | C3: ヒラセトンネル | G3: 路線名 | H3: 国道434号 | K3: 管理者名 | L3: 山口県岩国土木建築事務所 | Q3: 定期点検実施者 | S3: 株式会社エイト日本技術開発 | V3: 起点 | W3: 緯度 | X3: 341531.5
B4: 名 称 | C4: 平瀬トンネル | S4: 岡根 三千夫 | W4: 経度 | X4: 1315601.6
B5: 所在地 | C5: 自 | D5: 山口県岩国市錦町平瀬 | G5: トンネル工法 | I5: 山岳トンネル工法（NATM） | L5: トンネル延長 | N5: L= | O5: 630 | P5: ｍ | Q5: 自専道 or 一般道 | R5: 一般道 | S5: 代替路の有無 | U5: 無 | V5: 終点 | W5: 緯度 | X5: 341533.68
C6: 至 | D6: 山口県岩国市錦町平瀬 | G6: 建設年度 | I6: 2003年 | L6: 幅員 | N6: L= | O6: 9.75 | P6: ｍ | S6: 緊急輸送道路 | U6: 二次 | W6: 経度 | X6: 1315609.3
B7: トンネル毎 の健全性の 診断の区分 | D7: Ⅱ
G8: 変状・異常 箇所数合計 | I8: トンネル本体工 | J8: 材質劣化 | K8: Ⅱ | L8: 13 | N8: Ⅲ | O8: 0 | Q8: Ⅳ | R8: 0 | T8: 附属物等 の取付状態 | V8: ◯ （応急措置後) | X8: 0
J9: 漏水 | K9: Ⅱ | L9: 2 | N9: Ⅲ | O9: 0 | Q9: Ⅳ | R9: 0
V10: ✕ | X10: 0
J11: 外力 | K11: Ⅱ | L11: 0 | N11: 0 | O11: 0 | Q11: Ⅳ | R11: 0
B12: トンネル変状・異常箇所写真位置図
J29: 注１：本位置図は、見下げた状態で記載すること。 注２：覆工スパン番号は横断目地毎(矢板工法の場合は上半アーチの 横断目地毎)に設定すること。 | Q29: 注３：写真番号に付する変状番号は、各覆工スパンの変状に対して新たに確認された場合 は順次追加していくこと。 注４：横断目地の変状は前の覆工スパン番号で計上すること。 注５：１枚に収まらない場合は、複数枚に分けて作成すること。
C30: ※1 トンネル本体工の変状数は、材質劣化、漏水に起因するものは変状単位で、外力に起因するものはスパン単位で計上すること。
C31: ※2 トンネル本体工の変状に対しては、措置の必要性（Ⅱ～Ⅳ）について表記すること。また、点検前に実施された措置によりⅠと判定された箇所についても記載すること。
C32: ※3 附属物等の取付状態の○欄については、応急措置前に判定区分×とした箇所のうち応急措置により○判定とした箇所の数を記入すること。
C33: ※4 附属物等の異常番号は、本体工と番号が重複しないよう101番以降とする等の配慮を行い、分かりやすく記録すること。

Sheet 様式B_013
B2: ■定期点検記録様式 トンネル変状・異常箇所写真位置図 【様式B】 | N2: 定期点検年月日 | P2: 45589 | S2: 施設ID | V2: 34.24719,131.92769
B3: フリガナ | C3: ヒラセトンネル | G3: 路線名 | H3: 国道434号 | K3: 管理者名 | L3: 山口県岩国土木建築事務所 | Q3: 定期点検実施者 | S3: 株式会社エイト日本技術開発 | V3: 起点 | W3: 緯度 | X3: 341531.5
B4: 名 称 | C4: 平瀬トンネル | S4: 岡根 三千夫 | W4: 経度 | X4: 1315601.6
B5: 所在地 | C5: 自 | D5: 山口県岩国市錦町平瀬 | G5: トンネル工法 | I5: 山岳トンネル工法（NATM） | L5: トンネル延長 | N5: L= | O5: 630 | P5: ｍ | Q5: 自専道 or 一般道 | R5: 一般道 | S5: 代替路の有無 | U5: 無 | V5: 終点 | W5: 緯度 | X5: 341533.68
C6: 至 | D6: 山口県岩国市錦町平瀬 | G6: 建設年度 | I6: 2003年 | L6: 幅員 | N6: L= | O6: 9.75 | P6: ｍ | S6: 緊急輸送道路 | U6: 二次 | W6: 経度 | X6: 1315609.3
B7: トンネル毎 の健全性の 診断の区分 | D7: Ⅱ
G8: 変状・異常 箇所数合計 | I8: トンネル本体工 | J8: 材質劣化 | K8: Ⅱ | L8: 13 | N8: Ⅲ | O8: 0 | Q8: Ⅳ | R8: 0 | T8: 附属物等 の取付状態 | V8: ◯ （応急措置後) | X8: 0
J9: 漏水 | K9: Ⅱ | L9: 2 | N9: Ⅲ | O9: 0 | Q9: Ⅳ | R9: 0
V10: ✕ | X10: 0
J11: 外力 | K11: Ⅱ | L11: 0 | N11: 0 | O11: 0 | Q11: Ⅳ | R11: 0
B12: トンネル変状・異常箇所写真位置図
J29: 注１：本位置図は、見下げた状態で記載すること。 注２：覆工スパン番号は横断目地毎(矢板工法の場合は上半アーチの 横断目地毎)に設定すること。 | Q29: 注３：写真番号に付する変状番号は、各覆工スパンの変状に対して新たに確認された場合 は順次追加していくこと。 注４：横断目地の変状は前の覆工スパン番号で計上すること。 注５：１枚に収まらない場合は、複数枚に分けて作成すること。
C30: ※1 トンネル本体工の変状数は、材質劣化、漏水に起因するものは変状単位で、外力に起因するものはスパン単位で計上すること。
C31: ※2 トンネル本体工の変状に対しては、措置の必要性（Ⅱ～Ⅳ）について表記すること。また、点検前に実施された措置によりⅠと判定された箇所についても記載すること。
C32: ※3 附属物等の取付状態の○欄については、応急措置前に判定区分×とした箇所のうち応急措置により○判定とした箇所の数を記入すること。
C33: ※4 附属物等の異常番号は、本体工と番号が重複しないよう101番以降とする等の配慮を行い、分かりやすく記録すること。

Sheet 様式B_014
B2: ■定期点検記録様式 トンネル変状・異常箇所写真位置図 【様式B】 | N2: 定期点検年月日 | P2: 45589 | S2: 施設ID | V2: 34.24719,131.92769
B3: フリガナ | C3: ヒラセトンネル | G3: 路線名 | H3: 国道434号 | K3: 管理者名 | L3: 山口県岩国土木建築事務所 | Q3: 定期点検実施者 | S3: 株式会社エイト日本技術開発 | V3: 起点 | W3: 緯度 | X3: 341531.5
B4: 名 称 | C4: 平瀬トンネル | S4: 岡根 三千夫 | W4: 経度 | X4: 1315601.6
B5: 所在地 | C5: 自 | D5: 山口県岩国市錦町平瀬 | G5: トンネル工法 | I5: 山岳トンネル工法（NATM） | L5: トンネル延長 | N5: L= | O5: 630 | P5: ｍ | Q5: 自専道 or 一般道 | R5: 一般道 | S5: 代替路の有無 | U5: 無 | V5: 終点 | W5: 緯度 | X5: 341533.68
C6: 至 | D6: 山口県岩国市錦町平瀬 | G6: 建設年度 | I6: 2003年 | L6: 幅員 | N6: L= | O6: 9.75 | P6: ｍ | S6: 緊急輸送道路 | U6: 二次 | W6: 経度 | X6: 1315609.3
B7: トンネル毎 の健全性の 診断の区分 | D7: Ⅱ
G8: 変状・異常 箇所数合計 | I8: トンネル本体工 | J8: 材質劣化 | K8: Ⅱ | L8: 13 | N8: Ⅲ | O8: 0 | Q8: Ⅳ | R8: 0 | T8: 附属物等 の取付状態 | V8: ◯ （応急措置後) | X8: 0
J9: 漏水 | K9: Ⅱ | L9: 2 | N9: Ⅲ | O9: 0 | Q9: Ⅳ | R9: 0
V10: ✕ | X10: 0
J11: 外力 | K11: Ⅱ | L11: 0 | N11: 0 | O11: 0 | Q11: Ⅳ | R11: 0
B12: トンネル変状・異常箇所写真位置図
J29: 注１：本位置図は、見下げた状態で記載すること。 注２：覆工スパン番号は横断目地毎(矢板工法の場合は上半アーチの 横断目地毎)に設定すること。 | Q29: 注３：写真番号に付する変状番号は、各覆工スパンの変状に対して新たに確認された場合 は順次追加していくこと。 注４：横断目地の変状は前の覆工スパン番号で計上すること。 注５：１枚に収まらない場合は、複数枚に分けて作成すること。
C30: ※1 トンネル本体工の変状数は、材質劣化、漏水に起因するものは変状単位で、外力に起因するものはスパン単位で計上すること。
C31: ※2 トンネル本体工の変状に対しては、措置の必要性（Ⅱ～Ⅳ）について表記すること。また、点検前に実施された措置によりⅠと判定された箇所についても記載すること。
C32: ※3 附属物等の取付状態の○欄については、応急措置前に判定区分×とした箇所のうち応急措置により○判定とした箇所の数を記入すること。
C33: ※4 附属物等の異常番号は、本体工と番号が重複しないよう101番以降とする等の配慮を行い、分かりやすく記録すること。

Sheet 様式B_015
B2: ■定期点検記録様式 トンネル変状・異常箇所写真位置図 【様式B】 | N2: 定期点検年月日 | P2: 45589 | S2: 施設ID | V2: 34.24719,131.92769
B3: フリガナ | C3: ヒラセトンネル | G3: 路線名 | H3: 国道434号 | K3: 管理者名 | L3: 山口県岩国土木建築事務所 | Q3: 定期点検実施者 | S3: 株式会社エイト日本技術開発 | V3: 起点 | W3: 緯度 | X3: 341531.5
B4: 名 称 | C4: 平瀬トンネル | S4: 岡根 三千夫 | W4: 経度 | X4: 1315601.6
B5: 所在地 | C5: 自 | D5: 山口県岩国市錦町平瀬 | G5: トンネル工法 | I5: 山岳トンネル工法（NATM） | L5: トンネル延長 | N5: L= | O5: 630 | P5: ｍ | Q5: 自専道 or 一般道 | R5: 一般道 | S5: 代替路の有無 | U5: 無 | V5: 終点 | W5: 緯度 | X5: 341533.68
C6: 至 | D6: 山口県岩国市錦町平瀬 | G6: 建設年度 | I6: 2003年 | L6: 幅員 | N6: L= | O6: 9.75 | P6: ｍ | S6: 緊急輸送道路 | U6: 二次 | W6: 経度 | X6: 1315609.3
B7: トンネル毎 の健全性の 診断の区分 | D7: Ⅱ
G8: 変状・異常 箇所数合計 | I8: トンネル本体工 | J8: 材質劣化 | K8: Ⅱ | L8: 13 | N8: Ⅲ | O8: 0 | Q8: Ⅳ | R8: 0 | T8: 附属物等 の取付状態 | V8: ◯ （応急措置後) | X8: 0
J9: 漏水 | K9: Ⅱ | L9: 2 | N9: Ⅲ | O9: 0 | Q9: Ⅳ | R9: 0
V10: ✕ | X10: 0
J11: 外力 | K11: Ⅱ | L11: 0 | N11: 0 | O11: 0 | Q11: Ⅳ | R11: 0
B12: トンネル変状・異常箇所写真位置図
J29: 注１：本位置図は、見下げた状態で記載すること。 注２：覆工スパン番号は横断目地毎(矢板工法の場合は上半アーチの 横断目地毎)に設定すること。 | Q29: 注３：写真番号に付する変状番号は、各覆工スパンの変状に対して新たに確認された場合 は順次追加していくこと。 注４：横断目地の変状は前の覆工スパン番号で計上すること。 注５：１枚に収まらない場合は、複数枚に分けて作成すること。
C30: ※1 トンネル本体工の変状数は、材質劣化、漏水に起因するものは変状単位で、外力に起因するものはスパン単位で計上すること。
C31: ※2 トンネル本体工の変状に対しては、措置の必要性（Ⅱ～Ⅳ）について表記すること。また、点検前に実施された措置によりⅠと判定された箇所についても記載すること。
C32: ※3 附属物等の取付状態の○欄については、応急措置前に判定区分×とした箇所のうち応急措置により○判定とした箇所の数を記入すること。
C33: ※4 附属物等の異常番号は、本体工と番号が重複しないよう101番以降とする等の配慮を行い、分かりやすく記録すること。

Sheet 様式B_016
B2: ■定期点検記録様式 トンネル変状・異常箇所写真位置図 【様式B】 | N2: 定期点検年月日 | P2: 45589 | S2: 施設ID | V2: 34.24719,131.92769
B3: フリガナ | C3: ヒラセトンネル | G3: 路線名 | H3: 国道434号 | K3: 管理者名 | L3: 山口県岩国土木建築事務所 | Q3: 定期点検実施者 | S3: 株式会社エイト日本技術開発 | V3: 起点 | W3: 緯度 | X3: 341531.5
B4: 名 称 | C4: 平瀬トンネル | S4: 岡根 三千夫 | W4: 経度 | X4: 1315601.6
B5: 所在地 | C5: 自 | D5: 山口県岩国市錦町平瀬 | G5: トンネル工法 | I5: 山岳トンネル工法（NATM） | L5: トンネル延長 | N5: L= | O5: 630 | P5: ｍ | Q5: 自専道 or 一般道 | R5: 一般道 | S5: 代替路の有無 | U5: 無 | V5: 終点 | W5: 緯度 | X5: 341533.68
C6: 至 | D6: 山口県岩国市錦町平瀬 | G6: 建設年度 | I6: 2003年 | L6: 幅員 | N6: L= | O6: 9.75 | P6: ｍ | S6: 緊急輸送道路 | U6: 二次 | W6: 経度 | X6: 1315609.3
B7: トンネル毎 の健全性の 診断の区分 | D7: Ⅱ
G8: 変状・異常 箇所数合計 | I8: トンネル本体工 | J8: 材質劣化 | K8: Ⅱ | L8: 13 | N8: Ⅲ | O8: 0 | Q8: Ⅳ | R8: 0 | T8: 附属物等 の取付状態 | V8: ◯ （応急措置後) | X8: 0
J9: 漏水 | K9: Ⅱ | L9: 2 | N9: Ⅲ | O9: 0 | Q9: Ⅳ | R9: 0
V10: ✕ | X10: 0
J11: 外力 | K11: Ⅱ | L11: 0 | N11: 0 | O11: 0 | Q11: Ⅳ | R11: 0
B12: トンネル変状・異常箇所写真位置図
J29: 注１：本位置図は、見下げた状態で記載すること。 注２：覆工スパン番号は横断目地毎(矢板工法の場合は上半アーチの 横断目地毎)に設定すること。 | Q29: 注３：写真番号に付する変状番号は、各覆工スパンの変状に対して新たに確認された場合 は順次追加していくこと。 注４：横断目地の変状は前の覆工スパン番号で計上すること。 注５：１枚に収まらない場合は、複数枚に分けて作成すること。
C30: ※1 トンネル本体工の変状数は、材質劣化、漏水に起因するものは変状単位で、外力に起因するものはスパン単位で計上すること。
C31: ※2 トンネル本体工の変状に対しては、措置の必要性（Ⅱ～Ⅳ）について表記すること。また、点検前に実施された措置によりⅠと判定された箇所についても記載すること。
C32: ※3 附属物等の取付状態の○欄については、応急措置前に判定区分×とした箇所のうち応急措置により○判定とした箇所の数を記入すること。
C33: ※4 附属物等の異常番号は、本体工と番号が重複しないよう101番以降とする等の配慮を行い、分かりやすく記録すること。

Sheet 様式C-1-1
B2: ■定期点検記録様式 全スパン定期点検結果総括表（トンネル本体工） 【様式C-1-1】
B3: フリガナ | F3: ヒラセトンネル | I3: 路線名 | K3: 国道434号 | O3: 定期点検実施者 | P3: 株式会社エイト日本技術開発 | T3: 定期点検年月日 | X3: 45589
B4: 名 称 | F4: 平瀬トンネル | I4: 管理者名 | K4: 山口県岩国土木建築事務所 | P4: 岡根 三千夫
B5: 定期点検結果 | C5: 覆工 スパン 番号 | E5: 変状 番号 | F5: 距離 （m） | G5: 変状部位 | I5: 変 状 の 内 容 | O5: 前回定期点検時の状態 | P5: 今回定期点検結果 | T5: 措置履歴 | Y5: 対応方針 ・ 特記事項
G7: 対象箇所 | H7: 部位区分 | I7: 変状区分 | J7: 変状種類 | M7: 変状の発生範囲の規模 | N7: 前回定期点検時の変状の発生範囲及び規模 | O7: 対策区分 | P7: 対策区分 | R7: 調査の 要否 | S7: 措置の 要否 | T7: 実施 | U7: 措置の実施状況
P8: 応急措置前 | Q8: 応急措置後
C9: PS | E9: 2 | F9: 0 | G9: 覆工 | H9: アーチ（全周） | I9: 材質劣化 | J9: 圧ざ、ひび割れ | M9: W=0.4mm×L=3.3m | N9: W=0.3mm～0.4mm | O9: Ⅱb | Q9: Ⅱb | R9: 否 | S9: 要監視 | T9: 継続 | U9: 監視(日常)
C10: PS | E10: 3 | F10: 10.4 | G10: 覆工 | H10: 横断目地（天端） | I10: 材質劣化 | J10: うき・はく離 | M10: 0.3m×0.05m | N10: 0.3m×0.05m | O10: Ⅱb | Q10: Ⅱb | R10: 否 | S10: 要監視 | T10: 継続 | U10: 監視(日常)
C11: PS | E11: 4 | F11: 10.4 | G11: 覆工 | H11: 横断目地（左側） | I11: 材質劣化 | J11: うき・はく離 | M11: 0.5m×0.1m | N11: 0.5m×0.1m | O11: Ⅱb | Q11: Ⅱb | R11: 否 | S11: 要監視 | T11: 継続 | U11: 監視(日常)
C12: 1 | E12: 1 | F12: 16.6 | G12: 覆工 | H12: 側壁（右側） | I12: 材質劣化 | J12: 鋼材腐食 | M12: 0.05m×0.05m | N12: 0.05m×0.05m | O12: Ⅱb | Q12: Ⅱb | R12: 否 | S12: 要監視 | T12: 継続 | U12: 監視(日常)
C13: 2 | E13: 3 | F13: 25.8 | G13: 路面 | H13: 車道 | I13: 材質劣化 | J13: うき・はく離 | M13: 0.25m×0.05m | N13: 0.25m×0.05m | O13: Ⅱb | Q13: - | R13: 否 | S13: 要監視 | T13: 未 | U13: -
C14: 2 | E14: 4 | F14: 25.8 | G14: 路面 | H14: 車道 | I14: 材質劣化 | J14: うき・はく離 | M14: 0.6m×0.05m | N14: 0.6m×0.05m | O14: Ⅱb | Q14: - | R14: 否 | S14: 要監視 | T14: 未 | U14: -
C15: 2 | E15: 5 | F15: 25.8 | G15: 路面 | H15: 車道 | I15: 材質劣化 | J15: うき・はく離 | M15: 0.4m×0.05m | N15: 0.4m×0.05m | O15: Ⅱb | Q15: - | R15: 否 | S15: 要監視 | T15: 未 | U15: -
C16: 2 | E16: 6 | F16: 25.8 | G16: 路面 | H16: 車道 | I16: 材質劣化 | J16: うき・はく離 | M16: 0.15m×0.1m | N16: 0.1m×0.1m | O16: Ⅱb | Q16: - | R16: 否 | S16: 要監視 | T16: 未 | U16: - | Y16: 寸法変更
C17: 2 | E17: 7 | F17: 21 | G17: 覆工 | H17: アーチ（左側） | I17: 漏水 | J17: 漏水 | M17: 2.4m×1.2m | N17: - | O17: - | Q17: Ⅱb | R17: 否 | S17: 要監視 | T17: 未 | U17: -
C18: 4 | E18: 1 | F18: 42.1 | G18: 覆工 | H18: アーチ（左側） | I18: 材質劣化 | J18: その他 | M18: 0.05m×0.05m | N18: Φ15mm | O18: Ⅱa | Q18: Ⅰ | R18: 否 | S18: 否 | T18: 未 | U18: - | Y18: 寸法変更、判定見直し
C19: 5 | E19: 5 | F19: 62.8 | G19: 覆工 | H19: アーチ（左側） | I19: 材質劣化 | J19: その他 | M19: 0.05m×0.05m | N19: Φ15mm | O19: Ⅱa | Q19: Ⅰ | R19: 否 | S19: 否 | T19: 未 | U19: - | Y19: 寸法変更、判定見直し
C20: 6 | E20: 2 | F20: 65.1 | G20: 路面 | H20: 車道 | I20: 材質劣化 | J20: うき・はく離 | M20: 0.3m×0.05m | N20: 0.3m×0.05m | O20: Ⅱb | Q20: - | R20: 否 | S20: 要監視 | T20: 未 | U20: -
C21: 7 | E21: 2 | F21: 83.7 | G21: 覆工 | H21: アーチ（左側） | I21: 材質劣化 | J21: その他 | M21: 0.05m×0.05m | N21: Φ15mm | O21: Ⅱa | Q21: Ⅰ | R21: 否 | S21: 否 | T21: 未 | U21: - | Y21: 寸法変更、判定見直し
C22: 7 | E22: 4 | F22: 74.2 | G22: 路面 | H22: 車道 | I22: 材質劣化 | J22: うき・はく離 | M22: 0.3m×0.05m | N22: 0.3m×0.05m | O22: Ⅱb | Q22: - | R22: 否 | S22: 要監視 | T22: 未 | U22: -
C23: 8 | E23: 1 | F23: 84.4 | G23: 覆工 | H23: アーチ（左側） | I23: 材質劣化 | J23: 鋼材腐食 | M23: 0.2m×0.1m | N23: 0.2m×0.1m | O23: Ⅱa | Q23: Ⅱb | R23: 否 | S23: 要監視 | T23: 継続 | U23: 監視(日常) | Y23: 判定見直し
C24: 9 | E24: 2 | F24: 103.5 | G24: 覆工 | H24: アーチ（右側） | I24: 材質劣化 | J24: その他 | M24: 0.05m×0.05m | N24: Φ15mm | O24: Ⅱa | Q24: Ⅰ | R24: 否 | S24: 否 | T24: 未 | U24: - | Y24: 寸法変更、判定見直し
C25: 9 | E25: 3 | F25: 104.6 | G25: 覆工 | H25: アーチ（左側） | I25: 材質劣化 | J25: その他 | M25: 0.05m×0.05m | N25: Φ15mm | O25: Ⅱa | Q25: Ⅰ | R25: 否 | S25: 否 | T25: 未 | U25: - | Y25: 寸法変更、判定見直し
C26: 10 | E26: 1 | F26: 114 | G26: 覆工 | H26: アーチ（右側） | I26: 材質劣化 | J26: その他 | M26: 0.05m×0.05m | N26: Φ15mm | O26: Ⅱa | Q26: Ⅰ | R26: 否 | S26: 否 | T26: 未 | U26: - | Y26: 寸法変更、判定見直し
C27: 10 | E27: 2 | F27: 114.9 | G27: 路面 | H27: 車道 | I27: 材質劣化 | J27: うき・はく離 | M27: 0.2m×0.05m | N27: 0.2m×0.05m | O27: Ⅱb | Q27: - | R27: 否 | S27: 要監視 | T27: 未 | U27: -
C28: 10 | E28: 3 | F28: 114.9 | G28: 路面 | H28: 車道 | I28: 材質劣化 | J28: うき・はく離 | M28: 0.2m×0.05m | N28: 0.2m×0.05m | O28: Ⅱb | Q28: - | R28: 否 | S28: 要監視 | T28: 未 | U28: -
C29: 11 | E29: 2 | F29: 123.6 | G29: 覆工 | H29: アーチ（左側） | I29: 材質劣化 | J29: 鋼材腐食 | M29: 0.05m×0.05m | N29: 0.05m×0.05m | O29: Ⅱb | Q29: Ⅱb | R29: 否 | S29: 要監視 | T29: 継続 | U29: 監視(日常)
C30: 11 | E30: 3 | F30: 125.7 | G30: 覆工 | H30: アーチ（左側） | I30: 材質劣化 | J30: その他 | M30: 0.05m×0.05m | N30: Φ15mm | O30: Ⅱa | Q30: Ⅰ | R30: 否 | S30: 否 | T30: 未 | U30: - | Y30: 寸法変更、判定見直し
C31: 11 | E31: 4 | F31: 124.5 | G31: 覆工 | H31: アーチ（右側） | I31: 材質劣化 | J31: その他 | M31: 0.05m×0.05m | N31: Φ15mm | O31: Ⅱa | Q31: Ⅰ | R31: 否 | S31: 否 | T31: 未 | U31: - | Y31: 寸法変更、判定見直し
C32: 13 | E32: 2 | F32: 146.8 | G32: 覆工 | H32: アーチ（左側） | I32: 材質劣化 | J32: その他 | M32: 0.05m×0.05m | N32: Φ15mm | O32: Ⅱa | Q32: Ⅰ | R32: 否 | S32: 否 | T32: 未 | U32: - | Y32: 寸法変更、判定見直し
C33: 14 | E33: 1 | F33: 151.3 | G33: 覆工 | H33: 側壁（左側） | I33: 材質劣化 | J33: うき・はく離 | M33: 0.15m×0.15m | N33: 0.15m×0.15m | O33: Ⅱb | Q33: Ⅱb | R33: 否 | S33: 要監視 | T33: 継続 | U33: 監視(日常)
C34: 14 | E34: 4 | F34: 149.8 | G34: 覆工 | H34: 側壁（左側） | I34: 材質劣化 | J34: うき・はく離 | M34: 0.5m×0.3m | N34: 0.5m×0.3m | O34: Ⅰ | Q34: Ⅱb | R34: 否 | S34: 要監視 | T34: 継続 | U34: 監視(日常) | Y34: 判定見直し
C35: 14 | E35: 5 | F35: 151 | G35: 覆工 | H35: アーチ（左側） | I35: 材質劣化 | J35: 鋼材腐食 | M35: 0.05m×0.05m | N35: - | O35: - | Q35: Ⅱb | R35: 否 | S35: 要監視 | T35: 未 | U35: -
C36: 15 | E36: 2 | F36: 167.8 | G36: 覆工 | H36: アーチ（左側） | I36: 材質劣化 | J36: その他 | M36: 0.05m×0.05m | N36: Φ15mm | O36: Ⅱa | Q36: Ⅰ | R36: 否 | S36: 否 | T36: 未 | U36: - | Y36: 寸法変更、判定見直し
C37: 15 | E37: 3 | F37: 166.1 | G37: 路面 | H37: 車道 | I37: 材質劣化 | J37: うき・はく離 | M37: 0.25m×0.05m | N37: 0.25m×0.05m | O37: Ⅱb | Q37: - | R37: 否 | S37: 要監視 | T37: 未 | U37: -
C38: 17 | E38: 2 | F38: 189 | G38: 覆工 | H38: 横断目地（左側） | I38: 材質劣化 | J38: その他 | M38: 0.05m×0.05m | N38: Φ15mm | O38: Ⅱa | Q38: Ⅰ | R38: 否 | S38: 否 | T38: 未 | U38: - | Y38: 寸法変更、判定見直し
C39: 23 | E39: 2 | F39: 252 | G39: 覆工 | H39: 横断目地（左側） | I39: 材質劣化 | J39: 鋼材腐食 | M39: 0.05m×0.05m | N39: 0.1×0.05m D=50mm | O39: Ⅱa | Q39: Ⅱb | R39: 否 | S39: 要監視 | T39: 継続 | U39: 監視(日常) | Y39: 寸法変更、判定見直し
C40: ※ 対策区分（応急措置後）のⅡb～Ⅳについて記入すること。また、点検前に実施された措置によりⅠと判定された変状も記入すること。
C41: ※ 応急措置を実施しないで判定した変状の対策区分は、対策区分の応急措置後の欄に記入すること。
C42: ※ 変状の除去が不完全で、緊急対応が必要な場合は対応方針欄に記入すること。
...

Sheet 様式C-1-2
B2: ■定期点検記録様式 定期点検結果総括表（トンネル内附属物等の取付状態） 【様式C-1-2】
B3: フリガナ | F3: ヒラセトンネル | J3: 路線名 | K3: 国道434号 | M3: 定期点検実施者 | O3: 株式会社エイト日本技術開発 | S3: 定期点検年月日 | W3: 45589
B4: 名 称 | F4: 平瀬トンネル | J4: 管理者名 | K4: 山口県岩国土木建築事務所 | O4: 岡根 三千夫
B5: 定期点検結果 | C5: 覆工 スパン 番号 | E5: 異常 番号 | F5: 距離 （m） | G5: 異常部位 | J5: 異 常 の 内 容 | N5: 定期点検結果 | P5: 応急措置の 実施状況 | V5: 対応方針 ・ 特記事項
G6: 対象箇所 | I6: 部位区分 | J6: 異常種類 | L6: 異常の発生範囲の規模 | N6: 異常判定区分 | P6: 実施 | Q6: 応急措置の内容
N7: 応急措置前 | O7: 応急措置後
C42: ※ 異常判定区分×について記入すること。また、応急措置により○と判定された箇所も記入すること。
C43: ※ 応急措置を実施しないで判定した箇所の異常判定区分は、異常判定区分の応急措置後の欄に記入すること。
C44: ※ 異常の除去が不完全で、緊急対応が必要な場合は対応方針欄に記入すること。
C45: ※ １スパンの覆工に複数の異常がある場合は、異常箇所毎に記入すること。
C46: ※ 行が不足する場合は、適時、表の行を増やすこと。

Sheet 様式C-2
B2: ■定期点検記録様式 状態の把握の内容 【様式C-2】
B3: フリガナ | E3: ヒラセトンネル | H3: 路線名 | J3: 国道434号 | M3: 定期点検実施者 | Q3: 株式会社エイト日本技術開発 | U3: 定期点検年月日 | X3: 45589
B4: 名 称 | E4: 平瀬トンネル | H4: 管理者名 | J4: 山口県岩国土木建築事務所 | Q4: 岡根 三千夫
B5: 状態の把握の内容 | C5: 覆工スパン 番号 | E5: 変状 番号 | F5: 状態の把握の内容
F6: 年月日 | H6: 内容 | O6: 結果 | Y6: 対策区分の 判定
B22: 注）状態の把握において、微破壊・非破壊検査や各種試験等を実施した場合について記載する。
B23: ※ 行が不足する場合は、適時、表の行を増やすこと。

Sheet 様式D-1-1_001
B2: ■定期点検記録様式 変状写真台帳【様式D-1-1】 | R2: 施設ID | T2: 34.24719,131.92769
B3: フリガナ | E3: ヒラセトンネル | H3: 路 線 名 | J3: 国道434号 | M3: 定期点検実施者 | P3: 株式会社エイト日本技術開発 | S3: 定期点検年月日 | U3: 45589
B4: 名 称 | E4: 平瀬トンネル | H4: 管理者名 | J4: 山口県岩国土木建築事務所 | P4: 岡根 三千夫
B5: 写真 番号 | C5: 覆工スパン 番号 | E5: PS | M5: 写真 番号 | N5: 覆工スパン 番号 | P5: PS
C6: 変状番号 | E6: 2 | N6: 変状番号 | P6: 3
B7: 変状 部位 | C7: 対象箇所 | E7: 覆工 | M7: 変状 部位 | N7: 対象箇所 | P7: 覆工
C8: 部位区分 | E8: アーチ（全周） | N8: 部位区分 | P8: 横断目地（天端）
B9: 変状種類 | E9: 圧ざ、ひび割れ | M9: 変状種類 | P9: うき・はく離
B10: 対策 区分 | C10: 変状区分 | E10: 材質劣化 | M10: 対策 区分 | N10: 変状区分 | P10: 材質劣化
C11: 応急措置前 | E11: － | N11: 応急措置前 | P11: －
C12: 応急措置後 | E12: Ⅱb | N12: 応急措置後 | P12: Ⅱb
B13: 変状の発生範囲及び規模 | E13: W=0.4mm×L=3.3m 0.00629㎡ | H13: 前回変状の発生範囲及び規模 | J13: W=0.3mm～0.4mm | M13: 変状の発生範囲及び規模 | P13: 0.3m×0.05m 0.015㎡ | S13: 前回変状の発生範囲及び規模 | U13: 0.3m×0.05m
B14: 対策履歴 | E14: - | H14: 実施状況（実施日） | J14: - | M14: 対策履歴 | P14: - | S14: 実施状況（実施日） | U14: -
B15: メモ | E15: アーチのひび割れ 幅0.3～0.4㎜ 経過観察が望まれる | M15: メモ | P15: 横断目地のジャンカ 経過観察が望まれる
B16: 写真 番号 | C16: 覆工スパン 番号 | E16: PS | M16: 写真 番号 | N16: 覆工スパン 番号 | P16: 1
C17: 変状番号 | E17: 4 | N17: 変状番号 | P17: 1
B18: 変状 部位 | C18: 対象箇所 | E18: 覆工 | M18: 変状 部位 | N18: 対象箇所 | P18: 覆工
C19: 部位区分 | E19: 横断目地（左側） | N19: 部位区分 | P19: 側壁（右側）
B20: 変状種類 | E20: うき・はく離 | M20: 変状種類 | P20: 鋼材腐食
B21: 対策 区分 | C21: 変状区分 | E21: 材質劣化 | M21: 対策 区分 | N21: 変状区分 | P21: 材質劣化
C22: 応急措置前 | E22: － | N22: 応急措置前 | P22: －
C23: 応急措置後 | E23: Ⅱb | N23: 応急措置後 | P23: Ⅱb
B24: 変状の発生範囲及び規模 | E24: 0.5m×0.1m 0.05㎡ | H24: 前回変状の発生範囲及び規模 | J24: 0.5m×0.1m | M24: 変状の発生範囲及び規模 | P24: 0.05m×0.05m 0.0025㎡ | S24: 前回変状の発生範囲及び規模 | U24: 0.05m×0.05m
B25: 対策履歴 | E25: - | H25: 実施状況（実施日） | J25: - | M25: 対策履歴 | P25: - | S25: 実施状況（実施日） | U25: -
B26: メモ | E26: 横断目地のジャンカ 経過観察が望まれる | M26: メモ | P26: 側壁の鋼材腐食 経過観察が望まれる
C27: ※ 応急措置後の対策区分について添付すること。また、点検前に 実施された措置によりⅠと判定された箇所も添付すること。 | N27: ※ 変状の発生範囲の規模とは、対策を行う際に参考となる変状の長さや面積をいう。
N28: ※ 応急措置を実施しないで決定した変状の対策区分は、対策区分の応急措置後の欄に記入すること。
C29: ※ たたき落としを実施した場合は、実施後の写真を添付すること。 | N29: ※ 変状の発生範囲の規模は、面積・寸法を記載すること。(ひび割れ幅のみmmとし、その他をm表記とする)
C30: ※ 附属物の取付状態に関する異常写真は別途、任意の書式でとりまとめること。 | N30: ※ 構造用鋼材以外の異物に伴ううき・はく離については、メモ欄に異物の概要を記入すること。

Sheet 様式D-1-1_002
B2: ■定期点検記録様式 変状写真台帳【様式D-1-1】 | R2: 施設ID | T2: 34.24719,131.92769
B3: フリガナ | E3: ヒラセトンネル | H3: 路 線 名 | J3: 国道434号 | M3: 定期点検実施者 | P3: 株式会社エイト日本技術開発 | S3: 定期点検年月日 | U3: 45589
B4: 名 称 | E4: 平瀬トンネル | H4: 管理者名 | J4: 山口県岩国土木建築事務所 | P4: 岡根 三千夫
B5: 写真 番号 | C5: 覆工スパン 番号 | E5: 2 | M5: 写真 番号 | N5: 覆工スパン 番号 | P5: 2
C6: 変状番号 | E6: 3 | N6: 変状番号 | P6: 4
B7: 変状 部位 | C7: 対象箇所 | E7: 路面 | M7: 変状 部位 | N7: 対象箇所 | P7: 路面
C8: 部位区分 | E8: 車道 | N8: 部位区分 | P8: 車道
B9: 変状種類 | E9: その他 | M9: 変状種類 | P9: その他
B10: 対策 区分 | C10: 変状区分 | M10: 対策 区分 | N10: 変状区分
C11: 応急措置前 | N11: 応急措置前
C12: 応急措置後 | N12: 応急措置後
B13: 変状の発生範囲及び規模 | E13: 0.25m×0.05m 0.0125㎡ | H13: 前回変状の発生範囲及び規模 | J13: 0.25m×0.05m | M13: 変状の発生範囲及び規模 | P13: 0.6m×0.05m 0.03㎡ | S13: 前回変状の発生範囲及び規模 | U13: 0.6m×0.05m
B14: 対策履歴 | E14: - | H14: 実施状況（実施日） | J14: - | M14: 対策履歴 | P14: - | S14: 実施状況（実施日） | U14: -
B15: メモ | E15: 車道のうき 路面の変状の為、判定未実施 | M15: メモ | P15: 車道のうき 路面の変状の為、判定未実施
B16: 写真 番号 | C16: 覆工スパン 番号 | E16: 2 | M16: 写真 番号 | N16: 覆工スパン 番号 | P16: 2
C17: 変状番号 | E17: 5 | N17: 変状番号 | P17: 6
B18: 変状 部位 | C18: 対象箇所 | E18: 路面 | M18: 変状 部位 | N18: 対象箇所 | P18: 路面
C19: 部位区分 | E19: 車道 | N19: 部位区分 | P19: 車道
B20: 変状種類 | E20: その他 | M20: 変状種類 | P20: その他
B21: 対策 区分 | C21: 変状区分 | M21: 対策 区分 | N21: 変状区分
C22: 応急措置前 | N22: 応急措置前
C23: 応急措置後 | N23: 応急措置後
B24: 変状の発生範囲及び規模 | E24: 0.4m×0.05m 0.02㎡ | H24: 前回変状の発生範囲及び規模 | J24: 0.4m×0.05m | M24: 変状の発生範囲及び規模 | P24: 0.15m×0.1m 0.015㎡ | S24: 前回変状の発生範囲及び規模 | U24: 0.1m×0.1m
B25: 対策履歴 | E25: - | H25: 実施状況（実施日） | J25: - | M25: 対策履歴 | P25: - | S25: 実施状況（実施日） | U25: -
B26: メモ | E26: 車道のうき 路面の変状の為、判定未実施 | M26: メモ | P26: 車道のうき 路面の変状の為、判定未実施
C27: ※ 応急措置後の対策区分について添付すること。また、点検前に 実施された措置によりⅠと判定された箇所も添付すること。 | N27: ※ 変状の発生範囲の規模とは、対策を行う際に参考となる変状の長さや面積をいう。
N28: ※ 応急措置を実施しないで決定した変状の対策区分は、対策区分の応急措置後の欄に記入すること。
C29: ※ たたき落としを実施した場合は、実施後の写真を添付すること。 | N29: ※ 変状の発生範囲の規模は、面積・寸法を記載すること。(ひび割れ幅のみmmとし、その他をm表記とする)
C30: ※ 附属物の取付状態に関する異常写真は別途、任意の書式でとりまとめること。 | N30: ※ 構造用鋼材以外の異物に伴ううき・はく離については、メモ欄に異物の概要を記入すること。

Sheet 様式D-1-1_003
B2: ■定期点検記録様式 変状写真台帳【様式D-1-1】 | R2: 施設ID | T2: 34.24719,131.92769
B3: フリガナ | E3: ヒラセトンネル | H3: 路 線 名 | J3: 国道434号 | M3: 定期点検実施者 | P3: 株式会社エイト日本技術開発 | S3: 定期点検年月日 | U3: 45589
B4: 名 称 | E4: 平瀬トンネル | H4: 管理者名 | J4: 山口県岩国土木建築事務所 | P4: 岡根 三千夫
B5: 写真 番号 | C5: 覆工スパン 番号 | E5: 2 | M5: 写真 番号 | N5: 覆工スパン 番号 | P5: 4
C6: 変状番号 | E6: 7 | N6: 変状番号 | P6: 1
B7: 変状 部位 | C7: 対象箇所 | E7: 覆工 | M7: 変状 部位 | N7: 対象箇所 | P7: 覆工
C8: 部位区分 | E8: アーチ（左側） | N8: 部位区分 | P8: アーチ（左側）
B9: 変状種類 | E9: 漏水 | M9: 変状種類 | P9: その他
B10: 対策 区分 | C10: 変状区分 | E10: 漏水 | M10: 対策 区分 | N10: 変状区分 | P10: 材質劣化
C11: 応急措置前 | E11: － | N11: 応急措置前 | P11: －
C12: 応急措置後 | E12: Ⅱb | N12: 応急措置後 | P12: Ⅰ
B13: 変状の発生範囲及び規模 | E13: 2.4m×1.2m 2.88㎡ | H13: 前回変状の発生範囲及び規模 | M13: 変状の発生範囲及び規模 | P13: 0.05m×0.05m 0.0025㎡ | S13: 前回変状の発生範囲及び規模 | U13: Φ15mm
B14: 対策履歴 | E14: - | H14: 実施状況（実施日） | J14: - | M14: 対策履歴 | P14: - | S14: 実施状況（実施日） | U14: -
B15: メモ | E15: アーチのにじみ 経過観察が望まれる | M15: メモ | P15: アーチのアンカー 後打ちアンカーで劣化も進行もしていない為、ⅡaからⅠ変更
B16: 写真 番号 | C16: 覆工スパン 番号 | E16: 5 | M16: 写真 番号 | N16: 覆工スパン 番号 | P16: 6
C17: 変状番号 | E17: 5 | N17: 変状番号 | P17: 2
B18: 変状 部位 | C18: 対象箇所 | E18: 覆工 | M18: 変状 部位 | N18: 対象箇所 | P18: 路面
C19: 部位区分 | E19: アーチ（左側） | N19: 部位区分 | P19: 車道
B20: 変状種類 | E20: その他 | M20: 変状種類 | P20: その他
B21: 対策 区分 | C21: 変状区分 | E21: 材質劣化 | M21: 対策 区分 | N21: 変状区分
C22: 応急措置前 | E22: － | N22: 応急措置前
C23: 応急措置後 | E23: Ⅰ | N23: 応急措置後
B24: 変状の発生範囲及び規模 | E24: 0.05m×0.05m 0.0025㎡ | H24: 前回変状の発生範囲及び規模 | J24: Φ15mm | M24: 変状の発生範囲及び規模 | P24: 0.3m×0.05m 0.015㎡ | S24: 前回変状の発生範囲及び規模 | U24: 0.3m×0.05m
B25: 対策履歴 | E25: - | H25: 実施状況（実施日） | J25: - | M25: 対策履歴 | P25: - | S25: 実施状況（実施日） | U25: -
B26: メモ | E26: アーチのアンカー 後打ちアンカーで劣化も進行もしていない為、ⅡaからⅠ変更 | M26: メモ | P26: 車道のうき 路面の変状の為、判定未実施
C27: ※ 応急措置後の対策区分について添付すること。また、点検前に 実施された措置によりⅠと判定された箇所も添付すること。 | N27: ※ 変状の発生範囲の規模とは、対策を行う際に参考となる変状の長さや面積をいう。
N28: ※ 応急措置を実施しないで決定した変状の対策区分は、対策区分の応急措置後の欄に記入すること。
C29: ※ たたき落としを実施した場合は、実施後の写真を添付すること。 | N29: ※ 変状の発生範囲の規模は、面積・寸法を記載すること。(ひび割れ幅のみmmとし、その他をm表記とする)
C30: ※ 附属物の取付状態に関する異常写真は別途、任意の書式でとりまとめること。 | N30: ※ 構造用鋼材以外の異物に伴ううき・はく離については、メモ欄に異物の概要を記入すること。

Sheet 様式D-1-1_004
B2: ■定期点検記録様式 変状写真台帳【様式D-1-1】 | R2: 施設ID | T2: 34.24719,131.92769
B3: フリガナ | E3: ヒラセトンネル | H3: 路 線 名 | J3: 国道434号 | M3: 定期点検実施者 | P3: 株式会社エイト日本技術開発 | S3: 定期点検年月日 | U3: 45589
B4: 名 称 | E4: 平瀬トンネル | H4: 管理者名 | J4: 山口県岩国土木建築事務所 | P4: 岡根 三千夫
B5: 写真 番号 | C5: 覆工スパン 番号 | E5: 7 | M5: 写真 番号 | N5: 覆工スパン 番号 | P5: 7
C6: 変状番号 | E6: 2 | N6: 変状番号 | P6: 4
B7: 変状 部位 | C7: 対象箇所 | E7: 覆工 | M7: 変状 部位 | N7: 対象箇所 | P7: 路面
C8: 部位区分 | E8: アーチ（左側） | N8: 部位区分 | P8: 車道
B9: 変状種類 | E9: その他 | M9: 変状種類 | P9: その他
B10: 対策 区分 | C10: 変状区分 | E10: 材質劣化 | M10: 対策 区分 | N10: 変状区分
C11: 応急措置前 | E11: － | N11: 応急措置前
C12: 応急措置後 | E12: Ⅰ | N12: 応急措置後
B13: 変状の発生範囲及び規模 | E13: 0.05m×0.05m 0.0025㎡ | H13: 前回変状の発生範囲及び規模 | J13: Φ15mm | M13: 変状の発生範囲及び規模 | P13: 0.3m×0.05m 0.015㎡ | S13: 前回変状の発生範囲及び規模 | U13: 0.3m×0.05m
B14: 対策履歴 | E14: - | H14: 実施状況（実施日） | J14: - | M14: 対策履歴 | P14: - | S14: 実施状況（実施日） | U14: -
B15: メモ | E15: アーチのアンカー 後打ちアンカーで劣化も進行もしていない為、ⅡaからⅠ変更 | M15: メモ | P15: 車道のうき 路面の変状の為、判定未実施
B16: 写真 番号 | C16: 覆工スパン 番号 | E16: 8 | M16: 写真 番号 | N16: 覆工スパン 番号 | P16: 9
C17: 変状番号 | E17: 1 | N17: 変状番号 | P17: 2
B18: 変状 部位 | C18: 対象箇所 | E18: 覆工 | M18: 変状 部位 | N18: 対象箇所 | P18: 覆工
C19: 部位区分 | E19: アーチ（左側） | N19: 部位区分 | P19: アーチ（右側）
B20: 変状種類 | E20: 鋼材腐食 | M20: 変状種類 | P20: その他
B21: 対策 区分 | C21: 変状区分 | E21: 材質劣化 | M21: 対策 区分 | N21: 変状区分 | P21: 材質劣化
C22: 応急措置前 | E22: － | N22: 応急措置前 | P22: －
C23: 応急措置後 | E23: Ⅱb | N23: 応急措置後 | P23: Ⅰ
B24: 変状の発生範囲及び規模 | E24: 0.2m×0.1m 0.02㎡ | H24: 前回変状の発生範囲及び規模 | J24: 0.2m×0.1m | M24: 変状の発生範囲及び規模 | P24: 0.05m×0.05m 0.0025㎡ | S24: 前回変状の発生範囲及び規模 | U24: Φ15mm
B25: 対策履歴 | E25: - | H25: 実施状況（実施日） | J25: - | M25: 対策履歴 | P25: - | S25: 実施状況（実施日） | U25: -
B26: メモ | E26: アーチの鋼材腐食 経過観察が望まれる | M26: メモ | P26: アーチのアンカー 後打ちアンカーで劣化も進行もしていない為、ⅡaからⅠ変更
C27: ※ 応急措置後の対策区分について添付すること。また、点検前に 実施された措置によりⅠと判定された箇所も添付すること。 | N27: ※ 変状の発生範囲の規模とは、対策を行う際に参考となる変状の長さや面積をいう。
N28: ※ 応急措置を実施しないで決定した変状の対策区分は、対策区分の応急措置後の欄に記入すること。
C29: ※ たたき落としを実施した場合は、実施後の写真を添付すること。 | N29: ※ 変状の発生範囲の規模は、面積・寸法を記載すること。(ひび割れ幅のみmmとし、その他をm表記とする)
C30: ※ 附属物の取付状態に関する異常写真は別途、任意の書式でとりまとめること。 | N30: ※ 構造用鋼材以外の異物に伴ううき・はく離については、メモ欄に異物の概要を記入すること。

Sheet 様式D-1-1_005
B2: ■定期点検記録様式 変状写真台帳【様式D-1-1】 | R2: 施設ID | T2: 34.24719,131.92769
B3: フリガナ | E3: ヒラセトンネル | H3: 路 線 名 | J3: 国道434号 | M3: 定期点検実施者 | P3: 株式会社エイト日本技術開発 | S3: 定期点検年月日 | U3: 45589
B4: 名 称 | E4: 平瀬トンネル | H4: 管理者名 | J4: 山口県岩国土木建築事務所 | P4: 岡根 三千夫
B5: 写真 番号 | C5: 覆工スパン 番号 | E5: 9 | M5: 写真 番号 | N5: 覆工スパン 番号 | P5: 10
C6: 変状番号 | E6: 3 | N6: 変状番号 | P6: 1
B7: 変状 部位 | C7: 対象箇所 | E7: 覆工 | M7: 変状 部位 | N7: 対象箇所 | P7: 覆工
C8: 部位区分 | E8: アーチ（左側） | N8: 部位区分 | P8: アーチ（右側）
B9: 変状種類 | E9: その他 | M9: 変状種類 | P9: その他
B10: 対策 区分 | C10: 変状区分 | E10: 材質劣化 | M10: 対策 区分 | N10: 変状区分 | P10: 材質劣化
C11: 応急措置前 | E11: － | N11: 応急措置前 | P11: －
C12: 応急措置後 | E12: Ⅰ | N12: 応急措置後 | P12: Ⅰ
B13: 変状の発生範囲及び規模 | E13: 0.05m×0.05m 0.0025㎡ | H13: 前回変状の発生範囲及び規模 | J13: Φ15mm | M13: 変状の発生範囲及び規模 | P13: 0.05m×0.05m 0.0025㎡ | S13: 前回変状の発生範囲及び規模 | U13: Φ15mm
B14: 対策履歴 | E14: - | H14: 実施状況（実施日） | J14: - | M14: 対策履歴 | P14: - | S14: 実施状況（実施日） | U14: -
B15: メモ | E15: アーチのアンカー 後打ちアンカーで劣化も進行もしていない為、ⅡaからⅠ変更 | M15: メモ | P15: アーチのアンカー 後打ちアンカーで劣化も進行もしていない為、ⅡaからⅠ変更
B16: 写真 番号 | C16: 覆工スパン 番号 | E16: 10 | M16: 写真 番号 | N16: 覆工スパン 番号 | P16: 10
C17: 変状番号 | E17: 2 | N17: 変状番号 | P17: 3
B18: 変状 部位 | C18: 対象箇所 | E18: 路面 | M18: 変状 部位 | N18: 対象箇所 | P18: 路面
C19: 部位区分 | E19: 車道 | N19: 部位区分 | P19: 車道
B20: 変状種類 | E20: その他 | M20: 変状種類 | P20: その他
B21: 対策 区分 | C21: 変状区分 | M21: 対策 区分 | N21: 変状区分
C22: 応急措置前 | N22: 応急措置前
C23: 応急措置後 | N23: 応急措置後
B24: 変状の発生範囲及び規模 | E24: 0.2m×0.05m 0.01㎡ | H24: 前回変状の発生範囲及び規模 | J24: 0.2m×0.05m | M24: 変状の発生範囲及び規模 | P24: 0.2m×0.05m 0.01㎡ | S24: 前回変状の発生範囲及び規模 | U24: 0.2m×0.05m
B25: 対策履歴 | E25: - | H25: 実施状況（実施日） | J25: - | M25: 対策履歴 | P25: - | S25: 実施状況（実施日） | U25: -
B26: メモ | E26: 車道のはく落 | M26: メモ | P26: 車道のうき 路面の変状の為、判定未実施
C27: ※ 応急措置後の対策区分について添付すること。また、点検前に 実施された措置によりⅠと判定された箇所も添付すること。 | N27: ※ 変状の発生範囲の規模とは、対策を行う際に参考となる変状の長さや面積をいう。
N28: ※ 応急措置を実施しないで決定した変状の対策区分は、対策区分の応急措置後の欄に記入すること。
C29: ※ たたき落としを実施した場合は、実施後の写真を添付すること。 | N29: ※ 変状の発生範囲の規模は、面積・寸法を記載すること。(ひび割れ幅のみmmとし、その他をm表記とする)
C30: ※ 附属物の取付状態に関する異常写真は別途、任意の書式でとりまとめること。 | N30: ※ 構造用鋼材以外の異物に伴ううき・はく離については、メモ欄に異物の概要を記入すること。

Sheet 様式D-1-1_006
B2: ■定期点検記録様式 変状写真台帳【様式D-1-1】 | R2: 施設ID | T2: 34.24719,131.92769
B3: フリガナ | E3: ヒラセトンネル | H3: 路 線 名 | J3: 国道434号 | M3: 定期点検実施者 | P3: 株式会社エイト日本技術開発 | S3: 定期点検年月日 | U3: 45589
B4: 名 称 | E4: 平瀬トンネル | H4: 管理者名 | J4: 山口県岩国土木建築事務所 | P4: 岡根 三千夫
B5: 写真 番号 | C5: 覆工スパン 番号 | E5: 11 | M5: 写真 番号 | N5: 覆工スパン 番号 | P5: 11
C6: 変状番号 | E6: 2 | N6: 変状番号 | P6: 3
B7: 変状 部位 | C7: 対象箇所 | E7: 覆工 | M7: 変状 部位 | N7: 対象箇所 | P7: 覆工
C8: 部位区分 | E8: アーチ（左側） | N8: 部位区分 | P8: アーチ（左側）
B9: 変状種類 | E9: 鋼材腐食 | M9: 変状種類 | P9: その他
B10: 対策 区分 | C10: 変状区分 | E10: 材質劣化 | M10: 対策 区分 | N10: 変状区分 | P10: 材質劣化
C11: 応急措置前 | E11: － | N11: 応急措置前 | P11: －
C12: 応急措置後 | E12: Ⅱb | N12: 応急措置後 | P12: Ⅰ
B13: 変状の発生範囲及び規模 | E13: 0.05m×0.05m 0.0025㎡ | H13: 前回変状の発生範囲及び規模 | J13: 0.05m×0.05m | M13: 変状の発生範囲及び規模 | P13: 0.05m×0.05m 0.0025㎡ | S13: 前回変状の発生範囲及び規模 | U13: Φ15mm
B14: 対策履歴 | E14: - | H14: 実施状況（実施日） | J14: - | M14: 対策履歴 | P14: - | S14: 実施状況（実施日） | U14: -
B15: メモ | E15: アーチの鋼材腐食 経過観察が望まれる | M15: メモ | P15: アーチのアンカー 後打ちアンカーで劣化も進行もしていない為、ⅡaからⅠ変更
B16: 写真 番号 | C16: 覆工スパン 番号 | E16: 11 | M16: 写真 番号 | N16: 覆工スパン 番号 | P16: 13
C17: 変状番号 | E17: 4 | N17: 変状番号 | P17: 2
B18: 変状 部位 | C18: 対象箇所 | E18: 覆工 | M18: 変状 部位 | N18: 対象箇所 | P18: 覆工
C19: 部位区分 | E19: アーチ（右側） | N19: 部位区分 | P19: アーチ（左側）
B20: 変状種類 | E20: その他 | M20: 変状種類 | P20: その他
B21: 対策 区分 | C21: 変状区分 | E21: 材質劣化 | M21: 対策 区分 | N21: 変状区分 | P21: 材質劣化
C22: 応急措置前 | E22: － | N22: 応急措置前 | P22: －
C23: 応急措置後 | E23: Ⅰ | N23: 応急措置後 | P23: Ⅰ
B24: 変状の発生範囲及び規模 | E24: 0.05m×0.05m 0.0025㎡ | H24: 前回変状の発生範囲及び規模 | J24: Φ15mm | M24: 変状の発生範囲及び規模 | P24: 0.05m×0.05m 0.0025㎡ | S24: 前回変状の発生範囲及び規模 | U24: Φ15mm
B25: 対策履歴 | E25: - | H25: 実施状況（実施日） | J25: - | M25: 対策履歴 | P25: - | S25: 実施状況（実施日） | U25: -
B26: メモ | E26: アーチのアンカー 後打ちアンカーで劣化も進行もしていない為、ⅡaからⅠ変更 | M26: メモ | P26: アーチのアンカー 後打ちアンカーで劣化も進行もしていない為、ⅡaからⅠ変更
C27: ※ 応急措置後の対策区分について添付すること。また、点検前に 実施された措置によりⅠと判定された箇所も添付すること。 | N27: ※ 変状の発生範囲の規模とは、対策を行う際に参考となる変状の長さや面積をいう。
N28: ※ 応急措置を実施しないで決定した変状の対策区分は、対策区分の応急措置後の欄に記入すること。
C29: ※ たたき落としを実施した場合は、実施後の写真を添付すること。 | N29: ※ 変状の発生範囲の規模は、面積・寸法を記載すること。(ひび割れ幅のみmmとし、その他をm表記とする)
C30: ※ 附属物の取付状態に関する異常写真は別途、任意の書式でとりまとめること。 | N30: ※ 構造用鋼材以外の異物に伴ううき・はく離については、メモ欄に異物の概要を記入すること。

Sheet 様式D-1-1_007
B2: ■定期点検記録様式 変状写真台帳【様式D-1-1】 | R2: 施設ID | T2: 34.24719,131.92769
B3: フリガナ | E3: ヒラセトンネル | H3: 路 線 名 | J3: 国道434号 | M3: 定期点検実施者 | P3: 株式会社エイト日本技術開発 | S3: 定期点検年月日 | U3: 45589
B4: 名 称 | E4: 平瀬トンネル | H4: 管理者名 | J4: 山口県岩国土木建築事務所 | P4: 岡根 三千夫
B5: 写真 番号 | C5: 覆工スパン 番号 | E5: 14 | M5: 写真 番号 | N5: 覆工スパン 番号 | P5: 14
C6: 変状番号 | E6: 1 | N6: 変状番号 | P6: 4
B7: 変状 部位 | C7: 対象箇所 | E7: 覆工 | M7: 変状 部位 | N7: 対象箇所 | P7: 覆工
C8: 部位区分 | E8: 側壁（左側） | N8: 部位区分 | P8: 側壁（左側）
B9: 変状種類 | E9: うき・はく離 | M9: 変状種類 | P9: うき・はく離
B10: 対策 区分 | C10: 変状区分 | E10: 材質劣化 | M10: 対策 区分 | N10: 変状区分 | P10: 材質劣化
C11: 応急措置前 | E11: － | N11: 応急措置前 | P11: Ⅰ
C12: 応急措置後 | E12: Ⅱb | N12: 応急措置後 | P12: Ⅱb
B13: 変状の発生範囲及び規模 | E13: 0.15m×0.15m 0.0225㎡ | H13: 前回変状の発生範囲及び規模 | J13: 0.15m×0.15m | M13: 変状の発生範囲及び規模 | P13: 0.5m×0.3m 0.15㎡ | S13: 前回変状の発生範囲及び規模 | U13: 0.5m×0.3m
B14: 対策履歴 | E14: - | H14: 実施状況（実施日） | J14: - | M14: 対策履歴 | P14: - | S14: 実施状況（実施日） | U14: -
B15: メモ | E15: 側壁のジャンカ 経過観察が望まれる | M15: メモ | P15: 側壁のうき 経過観察が望まれる
B16: 写真 番号 | C16: 覆工スパン 番号 | E16: 14 | M16: 写真 番号 | N16: 覆工スパン 番号 | P16: 15
C17: 変状番号 | E17: 5 | N17: 変状番号 | P17: 2
B18: 変状 部位 | C18: 対象箇所 | E18: 覆工 | M18: 変状 部位 | N18: 対象箇所 | P18: 覆工
C19: 部位区分 | E19: アーチ（左側） | N19: 部位区分 | P19: アーチ（左側）
B20: 変状種類 | E20: 鋼材腐食 | M20: 変状種類 | P20: その他
B21: 対策 区分 | C21: 変状区分 | E21: 材質劣化 | M21: 対策 区分 | N21: 変状区分 | P21: 材質劣化
C22: 応急措置前 | E22: － | N22: 応急措置前 | P22: －
C23: 応急措置後 | E23: Ⅱb | N23: 応急措置後 | P23: Ⅰ
B24: 変状の発生範囲及び規模 | E24: 0.05m×0.05m 0.0025㎡ | H24: 前回変状の発生範囲及び規模 | M24: 変状の発生範囲及び規模 | P24: 0.05m×0.05m 0.0025㎡ | S24: 前回変状の発生範囲及び規模 | U24: Φ15mm
B25: 対策履歴 | E25: - | H25: 実施状況（実施日） | J25: - | M25: 対策履歴 | P25: - | S25: 実施状況（実施日） | U25: -
B26: メモ | E26: アーチの鋼材腐食 経過観察が望まれる | M26: メモ | P26: アーチのアンカー 後打ちアンカーで劣化も進行もしていない為、ⅡaからⅠ変更
C27: ※ 応急措置後の対策区分について添付すること。また、点検前に 実施された措置によりⅠと判定された箇所も添付すること。 | N27: ※ 変状の発生範囲の規模とは、対策を行う際に参考となる変状の長さや面積をいう。
N28: ※ 応急措置を実施しないで決定した変状の対策区分は、対策区分の応急措置後の欄に記入すること。
C29: ※ たたき落としを実施した場合は、実施後の写真を添付すること。 | N29: ※ 変状の発生範囲の規模は、面積・寸法を記載すること。(ひび割れ幅のみmmとし、その他をm表記とする)
C30: ※ 附属物の取付状態に関する異常写真は別途、任意の書式でとりまとめること。 | N30: ※ 構造用鋼材以外の異物に伴ううき・はく離については、メモ欄に異物の概要を記入すること。

Sheet 様式D-1-1_008
B2: ■定期点検記録様式 変状写真台帳【様式D-1-1】 | R2: 施設ID | T2: 34.24719,131.92769
B3: フリガナ | E3: ヒラセトンネル | H3: 路 線 名 | J3: 国道434号 | M3: 定期点検実施者 | P3: 株式会社エイト日本技術開発 | S3: 定期点検年月日 | U3: 45589
B4: 名 称 | E4: 平瀬トンネル | H4: 管理者名 | J4: 山口県岩国土木建築事務所 | P4: 岡根 三千夫
B5: 写真 番号 | C5: 覆工スパン 番号 | E5: 15 | M5: 写真 番号 | N5: 覆工スパン 番号 | P5: 17
C6: 変状番号 | E6: 3 | N6: 変状番号 | P6: 2
B7: 変状 部位 | C7: 対象箇所 | E7: 路面 | M7: 変状 部位 | N7: 対象箇所 | P7: 覆工
C8: 部位区分 | E8: 車道 | N8: 部位区分 | P8: 横断目地（左側）
B9: 変状種類 | E9: その他 | M9: 変状種類 | P9: その他
B10: 対策 区分 | C10: 変状区分 | M10: 対策 区分 | N10: 変状区分 | P10: 材質劣化
C11: 応急措置前 | N11: 応急措置前 | P11: －
C12: 応急措置後 | N12: 応急措置後 | P12: Ⅰ
B13: 変状の発生範囲及び規模 | E13: 0.25m×0.05m 0.0125㎡ | H13: 前回変状の発生範囲及び規模 | J13: 0.25m×0.05m | M13: 変状の発生範囲及び規模 | P13: 0.05m×0.05m 0.0025㎡ | S13: 前回変状の発生範囲及び規模 | U13: Φ15mm
B14: 対策履歴 | E14: - | H14: 実施状況（実施日） | J14: - | M14: 対策履歴 | P14: - | S14: 実施状況（実施日） | U14: -
B15: メモ | E15: 車道のうき 路面の変状の為、判定未実施 | M15: メモ | P15: 横断目地のアンカー 後打ちアンカーで劣化も進行もしていない為、ⅡaからⅠ変更
B16: 写真 番号 | C16: 覆工スパン 番号 | E16: 23 | M16: 写真 番号 | N16: 覆工スパン 番号 | P16: 25
C17: 変状番号 | E17: 2 | N17: 変状番号 | P17: 2
B18: 変状 部位 | C18: 対象箇所 | E18: 覆工 | M18: 変状 部位 | N18: 対象箇所 | P18: 覆工
C19: 部位区分 | E19: 横断目地（左側） | N19: 部位区分 | P19: 横断目地（左側）
B20: 変状種類 | E20: 鋼材腐食 | M20: 変状種類 | P20: その他
B21: 対策 区分 | C21: 変状区分 | E21: 材質劣化 | M21: 対策 区分 | N21: 変状区分 | P21: 材質劣化
C22: 応急措置前 | E22: － | N22: 応急措置前 | P22: －
C23: 応急措置後 | E23: Ⅱb | N23: 応急措置後 | P23: Ⅰ
B24: 変状の発生範囲及び規模 | E24: 0.05m×0.05m 0.0025㎡ | H24: 前回変状の発生範囲及び規模 | J24: 0.1×0.05m D=50mm | M24: 変状の発生範囲及び規模 | P24: 0.05m×0.05m 0.0025㎡ | S24: 前回変状の発生範囲及び規模 | U24: Φ15mm D=50mm
B25: 対策履歴 | E25: - | H25: 実施状況（実施日） | J25: - | M25: 対策履歴 | P25: - | S25: 実施状況（実施日） | U25: -
B26: メモ | E26: 横断目地の鋼材腐食 D=50㎜ 経過観察が望まれる | M26: メモ | P26: 横断目地のアンカー D=50㎜ 後打ちアンカーで劣化も進行もしていない為、ⅡaからⅠ変更
C27: ※ 応急措置後の対策区分について添付すること。また、点検前に 実施された措置によりⅠと判定された箇所も添付すること。 | N27: ※ 変状の発生範囲の規模とは、対策を行う際に参考となる変状の長さや面積をいう。
N28: ※ 応急措置を実施しないで決定した変状の対策区分は、対策区分の応急措置後の欄に記入すること。
C29: ※ たたき落としを実施した場合は、実施後の写真を添付すること。 | N29: ※ 変状の発生範囲の規模は、面積・寸法を記載すること。(ひび割れ幅のみmmとし、その他をm表記とする)
C30: ※ 附属物の取付状態に関する異常写真は別途、任意の書式でとりまとめること。 | N30: ※ 構造用鋼材以外の異物に伴ううき・はく離については、メモ欄に異物の概要を記入すること。

Sheet 様式D-1-1_009
B2: ■定期点検記録様式 変状写真台帳【様式D-1-1】 | R2: 施設ID | T2: 34.24719,131.92769
B3: フリガナ | E3: ヒラセトンネル | H3: 路 線 名 | J3: 国道434号 | M3: 定期点検実施者 | P3: 株式会社エイト日本技術開発 | S3: 定期点検年月日 | U3: 45589
B4: 名 称 | E4: 平瀬トンネル | H4: 管理者名 | J4: 山口県岩国土木建築事務所 | P4: 岡根 三千夫
B5: 写真 番号 | C5: 覆工スパン 番号 | E5: 39 | M5: 写真 番号 | N5: 覆工スパン 番号 | P5: 31
C6: 変状番号 | E6: 1 | N6: 変状番号 | P6: 2
B7: 変状 部位 | C7: 対象箇所 | E7: 覆工 | M7: 変状 部位 | N7: 対象箇所 | P7: 覆工
C8: 部位区分 | E8: 横断目地（左側） | N8: 部位区分 | P8: 横断目地（左側）
B9: 変状種類 | E9: その他 | M9: 変状種類 | P9: その他
B10: 対策 区分 | C10: 変状区分 | E10: 材質劣化 | M10: 対策 区分 | N10: 変状区分 | P10: 材質劣化
C11: 応急措置前 | E11: － | N11: 応急措置前 | P11: －
C12: 応急措置後 | E12: Ⅰ | N12: 応急措置後 | P12: Ⅰ
B13: 変状の発生範囲及び規模 | E13: 0.05m×0.05m 0.0025㎡ | H13: 前回変状の発生範囲及び規模 | J13: Φ15mm | M13: 変状の発生範囲及び規模 | P13: 0.05m×0.05m 0.0025㎡ | S13: 前回変状の発生範囲及び規模 | U13: Φ15mm
B14: 対策履歴 | E14: - | H14: 実施状況（実施日） | J14: - | M14: 対策履歴 | P14: - | S14: 実施状況（実施日） | U14: -
B15: メモ | E15: 横断目地のアンカー 後打ちアンカーで劣化も進行もしていない為、ⅡaからⅠ変更 | M15: メモ | P15: 横断目地のアンカー 後打ちアンカーで劣化も進行もしていない為、ⅡaからⅠ変更
B16: 写真 番号 | C16: 覆工スパン 番号 | E16: 31 | M16: 写真 番号 | N16: 覆工スパン 番号 | P16: 37
C17: 変状番号 | E17: 3 | N17: 変状番号 | P17: 3
B18: 変状 部位 | C18: 対象箇所 | E18: 路面 | M18: 変状 部位 | N18: 対象箇所 | P18: 覆工
C19: 部位区分 | E19: 車道 | N19: 部位区分 | P19: 横断目地（左側）
B20: 変状種類 | E20: その他 | M20: 変状種類 | P20: その他
B21: 対策 区分 | C21: 変状区分 | M21: 対策 区分 | N21: 変状区分 | P21: 材質劣化
C22: 応急措置前 | N22: 応急措置前 | P22: －
C23: 応急措置後 | N23: 応急措置後 | P23: Ⅰ
B24: 変状の発生範囲及び規模 | E24: 0.35m×0.05m 0.0175㎡ | H24: 前回変状の発生範囲及び規模 | J24: 0.35m×0.05m | M24: 変状の発生範囲及び規模 | P24: 0.05m×0.05m 0.0025㎡ | S24: 前回変状の発生範囲及び規模 | U24: 0.1m×0.05m D=40mm
B25: 対策履歴 | E25: - | H25: 実施状況（実施日） | J25: - | M25: 対策履歴 | P25: - | S25: 実施状況（実施日） | U25: -
B26: メモ | E26: 車道のうき 路面の変状の為、判定未実施 | M26: メモ | P26: 横断目地のアンカー D=40㎜ 後打ちアンカーで劣化も進行もしていない為、ⅡaからⅠ変更
C27: ※ 応急措置後の対策区分について添付すること。また、点検前に 実施された措置によりⅠと判定された箇所も添付すること。 | N27: ※ 変状の発生範囲の規模とは、対策を行う際に参考となる変状の長さや面積をいう。
N28: ※ 応急措置を実施しないで決定した変状の対策区分は、対策区分の応急措置後の欄に記入すること。
C29: ※ たたき落としを実施した場合は、実施後の写真を添付すること。 | N29: ※ 変状の発生範囲の規模は、面積・寸法を記載すること。(ひび割れ幅のみmmとし、その他をm表記とする)
C30: ※ 附属物の取付状態に関する異常写真は別途、任意の書式でとりまとめること。 | N30: ※ 構造用鋼材以外の異物に伴ううき・はく離については、メモ欄に異物の概要を記入すること。

Sheet 様式D-1-1_010
B2: ■定期点検記録様式 変状写真台帳【様式D-1-1】 | R2: 施設ID | T2: 34.24719,131.92769
B3: フリガナ | E3: ヒラセトンネル | H3: 路 線 名 | J3: 国道434号 | M3: 定期点検実施者 | P3: 株式会社エイト日本技術開発 | S3: 定期点検年月日 | U3: 45589
B4: 名 称 | E4: 平瀬トンネル | H4: 管理者名 | J4: 山口県岩国土木建築事務所 | P4: 岡根 三千夫
B5: 写真 番号 | C5: 覆工スパン 番号 | E5: 39 | M5: 写真 番号 | N5: 覆工スパン 番号 | P5: 41
C6: 変状番号 | E6: 2 | N6: 変状番号 | P6: 2
B7: 変状 部位 | C7: 対象箇所 | E7: 覆工 | M7: 変状 部位 | N7: 対象箇所 | P7: 覆工
C8: 部位区分 | E8: 横断目地（左側） | N8: 部位区分 | P8: 横断目地（左側）
B9: 変状種類 | E9: その他 | M9: 変状種類 | P9: その他
B10: 対策 区分 | C10: 変状区分 | E10: 材質劣化 | M10: 対策 区分 | N10: 変状区分 | P10: 材質劣化
C11: 応急措置前 | E11: － | N11: 応急措置前 | P11: －
C12: 応急措置後 | E12: Ⅰ | N12: 応急措置後 | P12: Ⅰ
B13: 変状の発生範囲及び規模 | E13: 0.05m×0.05m 0.0025㎡ | H13: 前回変状の発生範囲及び規模 | J13: Φ15ｍｍ | M13: 変状の発生範囲及び規模 | P13: 0.05m×0.05m 0.0025㎡ | S13: 前回変状の発生範囲及び規模 | U13: 0.1m×0.05m
B14: 対策履歴 | E14: - | H14: 実施状況（実施日） | J14: - | M14: 対策履歴 | P14: - | S14: 実施状況（実施日） | U14: -
B15: メモ | E15: 横断目地のアンカー 後打ちアンカーで劣化も進行もしていない為、ⅡaからⅠ変更 | M15: メモ | P15: 横断目地のアンカー D=40㎜ 後打ちアンカーで劣化も進行もしていない為、ⅡaからⅠ変更
B16: 写真 番号 | C16: 覆工スパン 番号 | E16: 43 | M16: 写真 番号 | N16: 覆工スパン 番号 | P16: 43
C17: 変状番号 | E17: 2 | N17: 変状番号 | P17: 3
B18: 変状 部位 | C18: 対象箇所 | E18: 覆工 | M18: 変状 部位 | N18: 対象箇所 | P18: 覆工
C19: 部位区分 | E19: 横断目地（左側） | N19: 部位区分 | P19: アーチ（右側）
B20: 変状種類 | E20: その他 | M20: 変状種類 | P20: 鋼材腐食
B21: 対策 区分 | C21: 変状区分 | E21: 材質劣化 | M21: 対策 区分 | N21: 変状区分 | P21: 材質劣化
C22: 応急措置前 | E22: － | N22: 応急措置前 | P22: －
C23: 応急措置後 | E23: Ⅰ | N23: 応急措置後 | P23: Ⅱb
B24: 変状の発生範囲及び規模 | E24: 0.05m×0.05m 0.0025㎡ | H24: 前回変状の発生範囲及び規模 | J24: Φ15mm | M24: 変状の発生範囲及び規模 | P24: 0.05m×0.05m 0.0025㎡ | S24: 前回変状の発生範囲及び規模 | U24: 0.05m×0.05m
B25: 対策履歴 | E25: - | H25: 実施状況（実施日） | J25: - | M25: 対策履歴 | P25: - | S25: 実施状況（実施日） | U25: -
B26: メモ | E26: 横断目地のアンカー 後打ちアンカーで劣化も進行もしていない為、ⅡaからⅠ変更 | M26: メモ | P26: アーチの鋼材腐食 経過観察が望まれる
C27: ※ 応急措置後の対策区分について添付すること。また、点検前に 実施された措置によりⅠと判定された箇所も添付すること。 | N27: ※ 変状の発生範囲の規模とは、対策を行う際に参考となる変状の長さや面積をいう。
N28: ※ 応急措置を実施しないで決定した変状の対策区分は、対策区分の応急措置後の欄に記入すること。
C29: ※ たたき落としを実施した場合は、実施後の写真を添付すること。 | N29: ※ 変状の発生範囲の規模は、面積・寸法を記載すること。(ひび割れ幅のみmmとし、その他をm表記とする)
C30: ※ 附属物の取付状態に関する異常写真は別途、任意の書式でとりまとめること。 | N30: ※ 構造用鋼材以外の異物に伴ううき・はく離については、メモ欄に異物の概要を記入すること。

Sheet 様式D-1-1_011
B2: ■定期点検記録様式 変状写真台帳【様式D-1-1】 | R2: 施設ID | T2: 34.24719,131.92769
B3: フリガナ | E3: ヒラセトンネル | H3: 路 線 名 | J3: 国道434号 | M3: 定期点検実施者 | P3: 株式会社エイト日本技術開発 | S3: 定期点検年月日 | U3: 45589
B4: 名 称 | E4: 平瀬トンネル | H4: 管理者名 | J4: 山口県岩国土木建築事務所 | P4: 岡根 三千夫
B5: 写真 番号 | C5: 覆工スパン 番号 | E5: 44 | M5: 写真 番号 | N5: 覆工スパン 番号 | P5: 45
C6: 変状番号 | E6: 1 | N6: 変状番号 | P6: 1
B7: 変状 部位 | C7: 対象箇所 | E7: 覆工 | M7: 変状 部位 | N7: 対象箇所 | P7: 覆工
C8: 部位区分 | E8: アーチ（左側） | N8: 部位区分 | P8: 横断目地（左側）
B9: 変状種類 | E9: 鋼材腐食 | M9: 変状種類 | P9: その他
B10: 対策 区分 | C10: 変状区分 | E10: 材質劣化 | M10: 対策 区分 | N10: 変状区分 | P10: 材質劣化
C11: 応急措置前 | E11: － | N11: 応急措置前 | P11: －
C12: 応急措置後 | E12: Ⅱb | N12: 応急措置後 | P12: Ⅰ
B13: 変状の発生範囲及び規模 | E13: 0.05m×0.05m 0.0025㎡ | H13: 前回変状の発生範囲及び規模 | J13: 0.05m×0.05m | M13: 変状の発生範囲及び規模 | P13: 0.05m×0.05m 0.0025㎡ | S13: 前回変状の発生範囲及び規模 | U13: 0.15m×0.05m D=60mm
