Workbook
Name その他: '(参考)リスト'!$C$45:$C$46
Name その他施設: '(参考)リスト'!$C$76:$C$80
Name 外力: '(参考)リスト'!$E$16:$E$23
Name 換気施設: '(参考)リスト'!$C$55:$C$59
Name 坑門: '(参考)リスト'!$C$16:$C$29
Name 材質劣化: '(参考)リスト'!$E$24:$E$36
Name 照明施設: '(参考)リスト'!$C$51:$C$53
Name 天井板: '(参考)リスト'!$C$34:$C$36
Name 内装板: '(参考)リスト'!$C$31:$C$32
Name 非常用施設: '(参考)リスト'!$C$61:$C$74
Name 覆工: '(参考)リスト'!$C$16:$C$29
Name 覆工・坑門: '(参考)リスト'!$C$16:$C$29
Name 路面: '(参考)リスト'!$C$38:$C$43
Name 漏水: '(参考)リスト'!$E$38:$E$45

Sheet 点検様式作成フロー
A1: 点検様式作成フロ-
A3: 作成フロー図 | H3: 点検調書作成手順
H4: ①様式A-1～A-3（トンネル台帳）
H5: トンネル点検の実施にあたっては，現場点検作業に先行してトンネル情報を収集する。トンネル台帳（様式Ａ－1～様式Ａ－3）はトンネル完成後に作成され，維持管理の段階で引き継がれるが，関連資料等を確認したうえで，追加情報があれば必要に応じて追記することが望ましい。
H9: ②様式D-2-1、様式D-2-1´
H10: 現場点検作業を実施し，近接目視点検で確認した変状状況や補修履歴を忠実に変状展開図に転記する
H12: ③様式D-1-1、様式D-1-2
H13: 変状展開図や撮影した写真等をもとに，対象トンネルの対策区分を判定し，対策区分の判定区分がⅡ～Ⅳの変状および異常判定区分「×」を抽出し，写真台帳を作成する
H16: ④様式B
H17: 写真台帳の作成と同時に，トンネルの構造を展開した位置図に変状写真位置を記録する
H19: ⑤様式D-3
H20: 変状展開図ならびに写真台帳をもとに覆工スパンごとの変状展開図を作成し，変状発生状況をとりまとめる
H22: ⑥様式E-1、様式E-2
H23: 様式Ｄ－1～様式Ｄ－3をもとに，健全性の診断結果を集計する
... H31: ファイルは以下の分割規則に従う。 ※各ファイルとも （参考）リスト のシートを付けて保存すること。 ・様式A-1～A-3は同一ファイルとする。 ・様式B、D-1-1、D-1-2、D-2-1（もしくはD-2-1'）、Eは別ファイルとする。 ・様式C-1-1,C-1-2、C-2は同一ファイルとする。 ・様式D-3、E、Fは同一ファイルとする。

Sheet 変状面積算出方法
A1: 変状面積算出方法
A26: 注1）外力による変状：ひび割れや圧ざの場合は変状の寸法を記録する。
A27: 例）ひび割れ：長さ（L）×最大ひび割れ幅（t）を記録する。 変形，移動，沈下：数値的な記載が可能な場合のみ記載する。
A28: 注2）材料劣化による：打音異常
A29: 例）うき，はく離（閉合ひび割れ）：変状範囲を包括する寸法（L×W） うき，はく離（ひび割れ沿い）：打音異常箇所を包括する寸法（L×W） 鋼材腐食（鉄筋腐食）：一括した対策が適当と考えられる範囲を包括する寸法（L×W）
A30: 注3）漏水による変状：漏水発生範囲を包括し，垂れ下がりの可能性がある側壁下端まで含めた寸法を，L×Wで記録する。打継ぎ目地沿いの 漏水については目地を跨いだ50cm幅を横幅とする。

Sheet 様式A-1
B2: ■トンネル台帳 トンネル諸元、非常用施設諸元 【様式A-1】 | S2: トンネルID | W2: =AI7&","&AI8 -> 34.17614,132.07306
B3: フリガナ | D3: カワジリトンネル | H3: 路線名 | J3: 一般国道187号線 | P3: 管理者名 | R3: 山口県岩国土木建築事務所 | W3: 緊急輸送道路 | Z3: 一次
B4: 名 称 | D4: 川尻トンネル | W4: 代替路の有無 | Z4: 有
B5: 所在地 | D5: 自 | E5: 山口県岩国市天尾 | H5: 作成者 | K5: 株式会社ニュージェック | P5: 作成年月日 | U5: トンネル延長 | X5: L= | Z5: 20.5 | AB5: ｍ
D6: 至 | E6: 山口県岩国市天尾 | U6: ﾄﾝﾈﾙの分類 | X6: 陸上トンネル（掘進工法）
B7: 起点 | C7: 緯度 | E7: 341034.12 | H7: 完成年月日 | K7: 明治45年（1912年） | M7: 舗装 | O7: 種 別 | Q7: アスファルト系 | S7: トンネル非常用施設 | T7: 施設の内訳 | X7: 種別・方式 | Y7: 型式 | Z7: 個数 | AA7: 更新年度 | AE7: =INT(E7/10000) -> 34 | AF7: =INT(E7/100)-AE7*100 -> 10 | AG7: =E7-AE7*10000-AF7*100 -> 34.12 | AH7: =ROUND(AE7+AF7/60+AG7/60/60,5) -> 34.17614 | AI7: =TEXT(AH7,"0.00000") -> 34.17614
C8: 経度 | E8: 1320423 | H8: 供用年月日 | O8: 厚 さ | R8: m | T8: 通報設備 | U8: 通話型通報設備 | Z8: * | AE8: =INT(E8/10000) -> 132 | AF8: =INT(E8/100)-AE8*100 -> 4 | AG8: =E8-AE8*10000-AF8*100 -> 23.01 | AH8: =ROUND(AE8+AF8/60+AG8/60/60,5) -> 132.07306 | AI8: =TEXT(AH8,"0.00000") -> 132.07306
B9: 終点 | C9: 緯度 | E9: 341034.91 | H9: トンネル区分 | K9: Ｄ | O9: 面 積 | U9: 操作型通報設備 | Z9: *
C10: 経度 | E10: 1320422.9 | H10: 内装種類 | K10: 素掘(内装なし) | O10: 更新年次 | U10: 自動通報設備 | Z10: *
B11: 一般有料区分 | E11: 無料 | H11: 天井板種類 | K11: 素掘(内装なし) | M11: 排水 | O11: 種 別 | T11: 警報設備 | U11: 非常警報設備 | Z11: *
B12: 土かぶり | G12: m | H12: 坑門 | I12: 起点 | J12: 形式 | K12: その他 | O12: 更新年次 | T12: 消火設備 | U12: 消 火 器 | Z12: *
B13: 内空断面積 | G13: ㎡ | J13: 延長 | K13: 3.4 | L13: m | M13: 施設 | P13: 種別・方式 | Q13: 個数 | R13: 更新年次 | U13: 消火栓設備 | Z13: *
B14: 交 通 量 | E14: 3776 | G14: 台/日 | I14: 終点 | J14: 形式 | K14: その他 | M14: 道路附属物等 | N14: 照明 | P14: 照明施設なし | T14: 避難誘導設備 | U14: 誘導表示設備 | Z14: *
C15: 道 路 幅 | E15: 6.5 | G15: m | J15: 延長 | K15: 3.1 | L15: m | N15: 換気 | P15: 自然換気 | U15: 避難情報提供設備 | Z15: *
B16: 幅 員 | C16: 車 道 幅 | E16: 3.25 | G16: m | H16: 竣工巻厚 | I16: アーチ | K16: - | L16: cm | N16: 標識 | Z16: *
E17: 3.25 | G17: m | I17: 側 壁 | K17: - | L17: cm | N17: 警報表示板 | U17: 避難通路 | Z17: *
C18: 歩道等幅 | G18: m | K18: - | L18: cm | N18: 吸音板 | U18: 排煙設備 | Z18: *
B19: 高さ | C19: 建築限界高 | E19: 4.5 | G19: m | I19: インバート | K19: - | L19: cm | T19: その他の設備 | U19: 給水栓設備 | Z19: *
C20: 中央高 | G20: m | H20: 半径 | I20: アーチ | K20: - | L20: cm | U20: 無線通信補助設備 | Z20: *
C21: 有効高 | E21: 4.5 | G21: m | I21: 側 壁 | K21: - | L21: cm | U21: 水噴霧設備 | Z21: *
C22: 縦断勾配 | E22: - | I22: インバート | K22: - | L22: cm | U22: 監視設備 | Z22: *
B23: 線 形 | C23: 直線区間長 | E23: - | H23: 占用物件 | I23: 種 類 | K23: 寸 法 | M23: 管理者名 | Q23: 更新年次 | S23: 非常用施設 関連設備 | U23: 予備発電設備 | Z23: *
C24: 曲線区間 | D24: 区間長 | F24: -
D25: 起点側ｸﾛｿｲﾄﾞ | F25: -
D26: 曲線半径 | F26: -
D27: 終点側ｸﾛｿｲﾄﾞ | F27: - | S27: その他 | U27: 非常駐車帯 | Z27: *
B28: トンネル工法 | E28: その他 | U28: 方向転換所 | Z28: *
C29: ※緯度・経度については、秒の少数第二位の単位まで記入すること。（例；36度20分35.56秒の場合、362035.36と入力）

Sheet 様式A-2
B3: ■トンネル台帳 トンネル情報一覧表 【様式A-2】
B4: フリガナ | E4: ='様式A-1'!D3 -> カワジリトンネル | J4: 路線名 | M4: ='様式A-1'!J3 -> 一般国道187号線 | S4: 作成者 | Y4: ='様式A-1'!K5 -> 株式会社ニュージェック | AE4: 作成年月日 | AI4: ='様式A-1'!R5
B5: 名 称 | E5: ='様式A-1'!D4 -> 川尻トンネル | J5: 管理者名 | M5: ='様式A-1'!R3 -> 山口県岩国土木建築事務所
B6: 覆工 ｽﾊﾟﾝ 番号 | C6: ｽﾊﾟﾝ長 | D6: 追加距離 | F6: トンネル本体工 | K6: 照明施設 | O6: 非常用施設 | AE6: 換気施設 | AK6: その他附属物等
O7: ='様式A-1'!T8 -> 通報設備 | R7: ='様式A-1'!T11 -> 警報設備 | S7: ='様式A-1'!T12 -> 消火設備 | U7: ='様式A-1'!T14 -> 避難誘導設備 | Y7: ='様式A-1'!T19 -> その他の設備 | AC7: 特記事項
D8: 起点側 | E8: 終点側 | F8: 特記事項 | I8: 内装板 | J8: 天井板 | K8: 基本照明 | L8: 入口出口照明 | M8: 特記事項 | O8: ='様式A-1'!U8 -> 通話型通報設備 | P8: ='様式A-1'!U9 -> 操作型通報設備 | Q8: ='様式A-1'!U10 -> 自動通報設備 | R8: ='様式A-1'!U11 -> 非常警報設備 | S8: ='様式A-1'!U12 -> 消 火 器 | T8: ='様式A-1'!U13 -> 消火栓設備 | U8: ='様式A-1'!U14 -> 誘導表示設備 | V8: ='様式A-1'!U15 -> 避難情報提供設備 | W8: ='様式A-1'!U17 -> 避難通路 | X8: ='様式A-1'!U18 -> 排煙設備 | Y8: ='様式A-1'!U19 -> 給水栓設備 | Z8: ='様式A-1'!U20 -> 無線通信補助設備 | AA8: ='様式A-1'!U21 -> 水噴霧設備 | AB8: ='様式A-1'!U22 -> 監視設備 | AE8: JF | AF8: VI計 | AG8: CO計 | AH8: 風向 風速計 | AI8: 特記事項
C9: (m) | D9: (m) | E9: (m)
B10: PS | C10: 3.4 | D10: 0 | E10: =IF(B10="","",C10+D10) -> 3.4
B11: =IF(OR(B10="",B10="PE"),"",IF(B10="PS",1,B10+1)) -> 1 | C11: 7 | D11: =IF(B11="","",+E10) -> 3.4 | E11: =IF(B11="","",E10+C11) -> 10.4
B12: =IF(OR(B11="",B11="PE"),"",IF(B11="PS",1,B11+1)) -> 2 | C12: 7 | D12: =IF(B12="","",+E11) -> 10.4 | E12: =IF(B12="","",E11+C12) -> 17.4
B13: PE | C13: 3.1 | D13: =IF(B13="","",+E12) -> 17.4 | E13: =IF(B13="","",E12+C13) -> 20.5
B14: =IF(OR(B13="",B13="PE"),"",IF(B13="PS",1,B13+1)) | D14: =IF(B14="","",+E13) | E14: =IF(B14="","",E13+C14)
B15: =IF(OR(B14="",B14="PE"),"",IF(B14="PS",1,B14+1)) | D15: =IF(B15="","",+E14) | E15: =IF(B15="","",E14+C15)
B16: =IF(OR(B15="",B15="PE"),"",IF(B15="PS",1,B15+1)) | D16: =IF(B16="","",+E15) | E16: =IF(B16="","",E15+C16)
B17: =IF(OR(B16="",B16="PE"),"",IF(B16="PS",1,B16+1)) | D17: =IF(B17="","",+E16) | E17: =IF(B17="","",E16+C17)
B18: =IF(OR(B17="",B17="PE"),"",IF(B17="PS",1,B17+1)) | D18: =IF(B18="","",+E17) | E18: =IF(B18="","",E17+C18)
B19: =IF(OR(B18="",B18="PE"),"",IF(B18="PS",1,B18+1)) | D19: =IF(B19="","",+E18) | E19: =IF(B19="","",E18+C19)
B20: =IF(OR(B19="",B19="PE"),"",IF(B19="PS",1,B19+1)) | D20: =IF(B20="","",+E19) | E20: =IF(B20="","",E19+C20)
B21: =IF(OR(B20="",B20="PE"),"",IF(B20="PS",1,B20+1)) | D21: =IF(B21="","",+E20) | E21: =IF(B21="","",E20+C21)
B22: =IF(OR(B21="",B21="PE"),"",IF(B21="PS",1,B21+1)) | D22: =IF(B22="","",+E21) | E22: =IF(B22="","",E21+C22)
B23: =IF(OR(B22="",B22="PE"),"",IF(B22="PS",1,B22+1)) | D23: =IF(B23="","",+E22) | E23: =IF(B23="","",E22+C23)
B24: =IF(OR(B23="",B23="PE"),"",IF(B23="PS",1,B23+1)) | D24: =IF(B24="","",+E23) | E24: =IF(B24="","",E23+C24)
B25: =IF(OR(B24="",B24="PE"),"",IF(B24="PS",1,B24+1)) | D25: =IF(B25="","",+E24) | E25: =IF(B25="","",E24+C25)
... B44: =IF(OR(B43="",B43="PE"),"",IF(B43="PS",1,B43+1)) | D44: =IF(B44="","",+E43) | E44: =IF(B44="","",E43+C44)
B47: ※ 行が不足する場合は、適時、表の行を増やすこと。

Sheet 様式A-3
B3: ■トンネル台帳 トンネル記録（位置図、断面図、施工実績他）【様式A-3】
B4: フリガナ | E4: ='様式A-1'!D3 -> カワジリトンネル | J4: 路線名 | M4: ='様式A-1'!J3 -> 一般国道187号線 | S4: 作成者 | W4: ='様式A-1'!K5 -> 株式会社ニュージェック | AC4: 作成年月日 | AF4: ='様式A-1'!R5
B5: 名 称 | E5: ='様式A-1'!D4 -> 川尻トンネル | J5: 管理者名 | M5: ='様式A-1'!R3 -> 山口県岩国土木建築事務所
B6: 位置図・現況写真・標準断面図・地質縦断図・施工実績

Sheet 様式B
B2: ■定期点検記録様式 トンネル変状・異常箇所写真位置図 【様式B】 | T2: トンネルID | V2: ='様式A-1'!$W$2 -> 34.17614,132.07306
B3: フリガナ | D3: ='様式A-1'!$D$3 -> カワジリトンネル | H3: 路線名 | J3: ='様式A-1'!$J$3 -> 一般国道187号線 | N3: 管理者名 | P3: ='様式A-1'!$R$3 -> 山口県岩国土木建築事務所 | T3: 緊急輸送道路 | V3: ='様式A-1'!$Z$3 -> 一次
B4: 名 称 | D4: ='様式A-1'!$D$4 -> 川尻トンネル | T4: 代替路の有無 | V4: ='様式A-1'!$Z$4 -> 有
B5: 所在地 | D5: 自 | E5: ='様式A-1'!$E$5 -> 山口県岩国市天尾 | H5: 定期点検業者 | K5: ='様式A-1'!$K$5 -> 株式会社ニュージェック | O5: 定期点検年月日 | Q5: 44876 | T5: トンネル延長 | V5: L= | W5: 20.5 | Y5: ｍ
D6: 至 | E6: ='様式A-1'!$E$6 -> 山口県岩国市天尾 | H6: 定期点検者名 | K6: 石村勝伸 | T6: ﾄﾝﾈﾙの分類 | V6: ='様式A-1'!$X$6 -> 陸上トンネル（掘進工法）
B7: 起点 | C7: 緯度 | D7: ='様式A-1'!$E$7 -> 341034.12 | F7: 変状・異常 箇所数合計 | H7: トンネル 本体工 | J7: 材質劣化 | L7: Ⅱ | M7: ='様式C-1-1用'!$CQ$4 -> 19 | N7: Ⅲ | O7: ='様式C-1-1用'!$CN$4 -> 0 | P7: Ⅳ | Q7: ='様式C-1-1用'!$CM$4 -> 0 | R7: トンネル毎 の健全性 | T7: =IF(SUM(Q7:Q18)>0,"Ⅳ",IF(SUM(O7:O18)>0,"Ⅲ",IF(SUM(M7:M18)>0,"Ⅱ","Ⅰ"))) -> Ⅱ | V7: 附属物の 取付状態 | W7: ◯ （応急措置後） | Y7: 0箇所
C10: 経度 | D10: ='様式A-1'!$E$8 -> 1320423
J11: 漏水 | L11: Ⅱ | M11: ='様式C-1-1用'!$CV$4 -> 8 | N11: Ⅲ | O11: ='様式C-1-1用'!$CS$4 -> 0 | P11: Ⅳ | Q11: ='様式C-1-1用'!$CR$4 -> 0
B13: 終点 | C13: 緯度 | D13: ='様式A-1'!$E$9 -> 341034.91 | W13: ✕ | Y13: 0箇所
J15: 外力 | L15: Ⅱ | M15: ='様式C-1-1用'!$CL$4 -> 0 | N15: Ⅲ | O15: ='様式C-1-1用'!$CI$4 -> 0 | P15: Ⅳ | Q15: ='様式C-1-1用'!$CH$4 -> 0
C16: 経度 | D16: ='様式A-1'!$E$10 -> 1320422.9
B19: トンネル変状・異常箇所写真位置図
P26: 注１：本位置図は、見下げた状態で記載すること。 注２：覆工スパン番号は横断目地毎(矢板工法の場合は上半アーチ の横断目地毎)に設定すること。 注３：写真番号に付する変状番号は、各覆工スパンの変状に対して新た に確認された場合は順次追加していくこと。 注４：横断目地の変状は前の覆工スパン番号で計上すること。 注５：１枚に収まらない場合は、複数枚に分けて作成すること。
C28: ※1 トンネル本体工の変状数は、材質劣化、漏水に起因するものは変状単位で、外力に起因するものはスパン単位で計上すること。
C29: ※2 本体工の変状に対しては、健全性の判定区分Ⅱ～Ⅳについて表記すること。なお、初回点検（H26以降）以降に、措置が行われた結果、
C30: Ⅰと判定された箇所についても記載すること。
C31: ※3 附属物の取付状態の○欄については、応急措置前に判定区分×とした箇所のうち応急措置により○判定とした箇所の数を記入すること。
C32: ※4 附属物の異常番号は、本体工と番号が重複しないよう101番以降とする等の配慮を行い、分かりやすく記録すること。

Sheet 様式C-1-1
B2: ■定期点検記録様式 全スパン定期点検結果総括表（トンネル本体工） 【様式C-1-1】
B3: フリガナ | F3: ='様式A-1'!$D$3 -> カワジリトンネル | I3: 路線名 | K3: ='様式A-1'!$J$3 -> 一般国道187号線 | O3: 定期点検業者 | Q3: =様式B!$K$5 -> 株式会社ニュージェック | U3: 定期点検年月日 | Y3: =様式B!$Q$5 -> 44876
B4: 名 称 | F4: ='様式A-1'!$D$4 -> 川尻トンネル | I4: 管理者名 | K4: ='様式A-1'!$R$3 -> 山口県岩国土木建築事務所 | O4: 定期点検者名 | Q4: =様式B!$K$6 -> 石村勝伸
C5: 覆工 スパン 番号 | E5: 変状 番号 | F5: 距離 （m） | G5: 変状部位 | I5: 変 状 の 内 容 | O5: 前回定期点検時の状態 | Q5: 今回定期点検結果 | U5: 措置履歴 | Z5: 対応方針 ・ 特記事項
G7: 対象箇所 | H7: 部位区分 | I7: 変状区分 | J7: 変状種類 | M7: 変状の発生範囲の規模 | N7: 前回定期点検時 との比較 | O7: 状態 | P7: 健全性 | Q7: 対策区分 | S7: 調査の 要否 | T7: 措置の 要否 | U7: 実施 | V7: 措置の実施状況
Q8: 応急措置前 | R8: 応急措置後
B9: 定期点検結果 | C9: =IFERROR(VLOOKUP(AB9,'様式C-1-1用'!$A$4:$AH$1100,4,0),0) -> PS | E9: =IF(C9="","",VLOOKUP(AB9,'様式C-1-1用'!$A$4:$AH$1100,5,0)) -> 1 | F9: =IF(C9="","",VLOOKUP(AB9,'様式C-1-1用'!$A$4:$AH$1100,6,0)) -> 3.4 | G9: =IFERROR(VLOOKUP(AB9,'様式C-1-1用'!$A$4:$AH$1100,7,0),"") -> 覆工・坑門 | H9: =IFERROR(VLOOKUP(AB9,'様式C-1-1用'!$A$4:$AH$1100,8,0),"") -> 面壁・妻壁等 | I9: =IFERROR(VLOOKUP(AB9,'様式C-1-1用'!$A$4:$AH$1100,9,0),"") -> 材質劣化 | J9: =IFERROR(VLOOKUP(AB9,'様式C-1-1用'!$A$4:$AH$1100,10),"") -> うき・はく離 | M9: =IFERROR(VLOOKUP(AB9,'様式C-1-1用'!$A$4:$AH$1100,17,0),"") -> 2.0m×2.4m | N9: =IFERROR(VLOOKUP(AB9,'様式C-1-1用'!$A$4:$AH$1100,20,0),"") -> 進行が認められない | O9: =IFERROR(VLOOKUP(AB9,'様式C-1-1用'!$A$4:$AH$1100,21,0),"") -> 対策区分判定Ⅱa | P9: =IFERROR(VLOOKUP(AB9,'様式C-1-1用'!$A$4:$AH$1100,22,0),"") -> Ⅱ | Q9: =IFERROR(VLOOKUP(AB9,'様式C-1-1用'!$A$4:$AH$1100,23),"") -> 0 | R9: =IFERROR(VLOOKUP(AB9,'様式C-1-1用'!$A$4:$AH$1100,24,0),"") -> Ⅱa | S9: =IFERROR(VLOOKUP(AB9,'様式C-1-1用'!$A$4:$AH$1100,27,0),"") -> 否 | T9: =IFERROR(VLOOKUP(AB9,'様式C-1-1用'!$A$4:$AH$1003,28,0),"") -> 要監視 | U9: =IFERROR(VLOOKUP(AB9,'様式C-1-1用'!$A$4:$AH$1003,29,0),"") -> 継続 | V9: =IFERROR(VLOOKUP(AB9,'様式C-1-1用'!$A$4:$AH$1003,30,0),"") -> 監視（日常巡視） | Z9: =IFERROR(VLOOKUP(AB9,'様式C-1-1用'!$A$4:$AH$1003,32,0),"") -> はく落防止対策 | AB9: 1
C10: =IFERROR(VLOOKUP(AB10,'様式C-1-1用'!$A$4:$AH$1100,4,0),0) -> PS | E10: =IF(C10="","",VLOOKUP(AB10,'様式C-1-1用'!$A$4:$AH$1100,5,0)) -> 2 | F10: =IF(C10="","",VLOOKUP(AB10,'様式C-1-1用'!$A$4:$AH$1100,6)) -> 3.4 | G10: =IFERROR(VLOOKUP(AB10,'様式C-1-1用'!$A$4:$AH$1100,7,0),"") -> 覆工・坑門 | H10: =IFERROR(VLOOKUP(AB10,'様式C-1-1用'!$A$4:$AH$1100,8,0),"") -> 面壁・妻壁等 | I10: =IFERROR(VLOOKUP(AB10,'様式C-1-1用'!$A$4:$AH$1100,9,0),"") -> 材質劣化 | J10: =IFERROR(VLOOKUP(AB10,'様式C-1-1用'!$A$4:$AH$1100,10),"") -> うき・はく離 | M10: =IFERROR(VLOOKUP(AB10,'様式C-1-1用'!$A$4:$AH$1100,17,0),"") -> 4.0m×8.2m | N10: =IFERROR(VLOOKUP(AB10,'様式C-1-1用'!$A$4:$AH$1100,20,0),"") -> 進行が認められない | O10: =IFERROR(VLOOKUP(AB10,'様式C-1-1用'!$A$4:$AH$1100,21,0),"") -> 対策区分判定Ⅱa | P10: =IFERROR(VLOOKUP(AB10,'様式C-1-1用'!$A$4:$AH$1100,22,0),"") -> Ⅱ | Q10: =IFERROR(VLOOKUP(AB10,'様式C-1-1用'!$A$4:$AH$1100,23),"") -> 0 | R10: =IFERROR(VLOOKUP(AB10,'様式C-1-1用'!$A$4:$AH$1100,24,0),"") -> Ⅱa | S10: =IFERROR(VLOOKUP(AB10,'様式C-1-1用'!$A$4:$AH$1100,27,0),"") -> 否 | T10: =IFERROR(VLOOKUP(AB10,'様式C-1-1用'!$A$4:$AH$1003,28,0),"") -> 要監視 | U10: =IFERROR(VLOOKUP(AB10,'様式C-1-1用'!$A$4:$AH$1003,29,0),"") -> 継続 | V10: =IFERROR(VLOOKUP(AB10,'様式C-1-1用'!$A$4:$AH$1003,30,0),"") -> 監視（日常巡視） | Z10: =IFERROR(VLOOKUP(AB10,'様式C-1-1用'!$A$4:$AH$1003,32,0),"") -> はく落防止対策 | AB10: =AB9+1 -> 2
C11: =IFERROR(VLOOKUP(AB11,'様式C-1-1用'!$A$4:$AH$1100,4,0),0) -> PS | E11: =IF(C11="","",VLOOKUP(AB11,'様式C-1-1用'!$A$4:$AH$1100,5,0)) -> 3 | F11: =IF(C11="","",VLOOKUP(AB11,'様式C-1-1用'!$A$4:$AH$1100,6)) -> 3.4 | G11: =IFERROR(VLOOKUP(AB11,'様式C-1-1用'!$A$4:$AH$1100,7,0),"") -> 覆工・坑門 | H11: =IFERROR(VLOOKUP(AB11,'様式C-1-1用'!$A$4:$AH$1100,8,0),"") -> 面壁・妻壁等 | I11: =IFERROR(VLOOKUP(AB11,'様式C-1-1用'!$A$4:$AH$1100,9,0),"") -> 材質劣化 | J11: =IFERROR(VLOOKUP(AB11,'様式C-1-1用'!$A$4:$AH$1100,10),"") -> うき・はく離 | M11: =IFERROR(VLOOKUP(AB11,'様式C-1-1用'!$A$4:$AH$1100,17,0),"") -> 4.0m×8.2m | N11: =IFERROR(VLOOKUP(AB11,'様式C-1-1用'!$A$4:$AH$1100,20,0),"") -> 範囲拡大 | O11: =IFERROR(VLOOKUP(AB11,'様式C-1-1用'!$A$4:$AH$1100,21,0),"") -> 対策区分判定Ⅱa | P11: =IFERROR(VLOOKUP(AB11,'様式C-1-1用'!$A$4:$AH$1100,22,0),"") -> Ⅱ | Q11: =IFERROR(VLOOKUP(AB11,'様式C-1-1用'!$A$4:$AH$1100,23),"") -> 0 | R11: =IFERROR(VLOOKUP(AB11,'様式C-1-1用'!$A$4:$AH$1100,24,0),"") -> Ⅱa | S11: =IFERROR(VLOOKUP(AB11,'様式C-1-1用'!$A$4:$AH$1100,27,0),"") -> 否 | T11: =IFERROR(VLOOKUP(AB11,'様式C-1-1用'!$A$4:$AH$1003,28,0),"") -> 要監視 | U11: =IFERROR(VLOOKUP(AB11,'様式C-1-1用'!$A$4:$AH$1003,29,0),"") -> 継続 | V11: =IFERROR(VLOOKUP(AB11,'様式C-1-1用'!$A$4:$AH$1003,30,0),"") -> 監視（日常巡視） | Z11: =IFERROR(VLOOKUP(AB11,'様式C-1-1用'!$A$4:$AH$1003,32,0),"") -> はく落防止対策 | AB11: =AB10+1 -> 3
C12: =IFERROR(VLOOKUP(AB12,'様式C-1-1用'!$A$4:$AH$1100,4,0),0) -> PS | E12: =IF(C12="","",VLOOKUP(AB12,'様式C-1-1用'!$A$4:$AH$1100,5,0)) -> 4 | F12: =IF(C12="","",VLOOKUP(AB12,'様式C-1-1用'!$A$4:$AH$1100,6)) -> 3.4 | G12: =IFERROR(VLOOKUP(AB12,'様式C-1-1用'!$A$4:$AH$1100,7,0),"") -> 覆工・坑門 | H12: =IFERROR(VLOOKUP(AB12,'様式C-1-1用'!$A$4:$AH$1100,8,0),"") -> アーチ（左側） | I12: =IFERROR(VLOOKUP(AB12,'様式C-1-1用'!$A$4:$AH$1100,9,0),"") -> 材質劣化 | J12: =IFERROR(VLOOKUP(AB12,'様式C-1-1用'!$A$4:$AH$1100,10),"") -> うき・はく離 | M12: =IFERROR(VLOOKUP(AB12,'様式C-1-1用'!$A$4:$AH$1100,17,0),"") -> 1.5m×0.5m | N12: =IFERROR(VLOOKUP(AB12,'様式C-1-1用'!$A$4:$AH$1100,20,0),"") -> 進行が認められない | O12: =IFERROR(VLOOKUP(AB12,'様式C-1-1用'!$A$4:$AH$1100,21,0),"") -> 対策区分判定Ⅱa | P12: =IFERROR(VLOOKUP(AB12,'様式C-1-1用'!$A$4:$AH$1100,22,0),"") -> Ⅱ | Q12: =IFERROR(VLOOKUP(AB12,'様式C-1-1用'!$A$4:$AH$1100,23),"") -> 0 | R12: =IFERROR(VLOOKUP(AB12,'様式C-1-1用'!$A$4:$AH$1100,24,0),"") -> Ⅱa | S12: =IFERROR(VLOOKUP(AB12,'様式C-1-1用'!$A$4:$AH$1100,27,0),"") -> 否 | T12: =IFERROR(VLOOKUP(AB12,'様式C-1-1用'!$A$4:$AH$1003,28,0),"") -> 要監視 | U12: =IFERROR(VLOOKUP(AB12,'様式C-1-1用'!$A$4:$AH$1003,29,0),"") -> 継続 | V12: =IFERROR(VLOOKUP(AB12,'様式C-1-1用'!$A$4:$AH$1003,30,0),"") -> 監視（日常巡視） | Z12: =IFERROR(VLOOKUP(AB12,'様式C-1-1用'!$A$4:$AH$1003,32,0),"") -> はく落防止対策 | AB12: =AB11+1 -> 4
C13: =IFERROR(VLOOKUP(AB13,'様式C-1-1用'!$A$4:$AH$1100,4,0),0) -> 1 | E13: =IF(C13="","",VLOOKUP(AB13,'様式C-1-1用'!$A$4:$AH$1100,5,0)) -> 1 | F13: =IF(C13="","",VLOOKUP(AB13,'様式C-1-1用'!$A$4:$AH$1100,6)) -> 10.4 | G13: =IFERROR(VLOOKUP(AB13,'様式C-1-1用'!$A$4:$AH$1100,7,0),"") -> 覆工・坑門 | H13: =IFERROR(VLOOKUP(AB13,'様式C-1-1用'!$A$4:$AH$1100,8,0),"") -> アーチ（左側） | I13: =IFERROR(VLOOKUP(AB13,'様式C-1-1用'!$A$4:$AH$1100,9,0),"") -> 材質劣化 | J13: =IFERROR(VLOOKUP(AB13,'様式C-1-1用'!$A$4:$AH$1100,10),"") -> うき・はく離 | M13: =IFERROR(VLOOKUP(AB13,'様式C-1-1用'!$A$4:$AH$1100,17,0),"") -> 0.6m×1.0m | N13: =IFERROR(VLOOKUP(AB13,'様式C-1-1用'!$A$4:$AH$1100,20,0),"") -> 進行が認められない | O13: =IFERROR(VLOOKUP(AB13,'様式C-1-1用'!$A$4:$AH$1100,21,0),"") -> 対策区分判定Ⅱa | P13: =IFERROR(VLOOKUP(AB13,'様式C-1-1用'!$A$4:$AH$1100,22,0),"") -> Ⅱ | Q13: =IFERROR(VLOOKUP(AB13,'様式C-1-1用'!$A$4:$AH$1100,23),"") -> 0 | R13: =IFERROR(VLOOKUP(AB13,'様式C-1-1用'!$A$4:$AH$1100,24,0),"") -> Ⅱa | S13: =IFERROR(VLOOKUP(AB13,'様式C-1-1用'!$A$4:$AH$1100,27,0),"") -> 否 | T13: =IFERROR(VLOOKUP(AB13,'様式C-1-1用'!$A$4:$AH$1003,28,0),"") -> 要監視 | U13: =IFERROR(VLOOKUP(AB13,'様式C-1-1用'!$A$4:$AH$1003,29,0),"") -> 継続 | V13: =IFERROR(VLOOKUP(AB13,'様式C-1-1用'!$A$4:$AH$1003,30,0),"") -> 監視（日常巡視） | Z13: =IFERROR(VLOOKUP(AB13,'様式C-1-1用'!$A$4:$AH$1003,32,0),"") -> はく落防止対策 | AB13: =AB12+1 -> 5
C14: =IFERROR(VLOOKUP(AB14,'様式C-1-1用'!$A$4:$AH$1100,4,0),0) -> 1 | E14: =IF(C14="","",VLOOKUP(AB14,'様式C-1-1用'!$A$4:$AH$1100,5,0)) -> 2 | F14: =IF(C14="","",VLOOKUP(AB14,'様式C-1-1用'!$A$4:$AH$1100,6)) -> 10.4 | G14: =IFERROR(VLOOKUP(AB14,'様式C-1-1用'!$A$4:$AH$1100,7,0),"") -> 覆工・坑門 | H14: =IFERROR(VLOOKUP(AB14,'様式C-1-1用'!$A$4:$AH$1100,8,0),"") -> アーチ（左側） | I14: =IFERROR(VLOOKUP(AB14,'様式C-1-1用'!$A$4:$AH$1100,9,0),"") -> 材質劣化 | J14: =IFERROR(VLOOKUP(AB14,'様式C-1-1用'!$A$4:$AH$1100,10),"") -> うき・はく離 | M14: =IFERROR(VLOOKUP(AB14,'様式C-1-1用'!$A$4:$AH$1100,17,0),"") -> 0.6m×0.8m | N14: =IFERROR(VLOOKUP(AB14,'様式C-1-1用'!$A$4:$AH$1100,20,0),"") -> 進行が認められない | O14: =IFERROR(VLOOKUP(AB14,'様式C-1-1用'!$A$4:$AH$1100,21,0),"") -> 対策区分判定Ⅱa | P14: =IFERROR(VLOOKUP(AB14,'様式C-1-1用'!$A$4:$AH$1100,22,0),"") -> Ⅱ | Q14: =IFERROR(VLOOKUP(AB14,'様式C-1-1用'!$A$4:$AH$1100,23),"") -> 0 | R14: =IFERROR(VLOOKUP(AB14,'様式C-1-1用'!$A$4:$AH$1100,24,0),"") -> Ⅱa | S14: =IFERROR(VLOOKUP(AB14,'様式C-1-1用'!$A$4:$AH$1100,27,0),"") -> 否 | T14: =IFERROR(VLOOKUP(AB14,'様式C-1-1用'!$A$4:$AH$1003,28,0),"") -> 要監視 | U14: =IFERROR(VLOOKUP(AB14,'様式C-1-1用'!$A$4:$AH$1003,29,0),"") -> 継続 | V14: =IFERROR(VLOOKUP(AB14,'様式C-1-1用'!$A$4:$AH$1003,30,0),"") -> 監視（日常巡視） | Z14: =IFERROR(VLOOKUP(AB14,'様式C-1-1用'!$A$4:$AH$1003,32,0),"") -> はく落防止対策 | AB14: =AB13+1 -> 6
C15: =IFERROR(VLOOKUP(AB15,'様式C-1-1用'!$A$4:$AH$1100,4,0),0) -> 1 | E15: =IF(C15="","",VLOOKUP(AB15,'様式C-1-1用'!$A$4:$AH$1100,5,0)) -> 3 | F15: =IF(C15="","",VLOOKUP(AB15,'様式C-1-1用'!$A$4:$AH$1100,6)) -> 10.4 | G15: =IFERROR(VLOOKUP(AB15,'様式C-1-1用'!$A$4:$AH$1100,7,0),"") -> 覆工・坑門 | H15: =IFERROR(VLOOKUP(AB15,'様式C-1-1用'!$A$4:$AH$1100,8,0),"") -> アーチ（右側） | I15: =IFERROR(VLOOKUP(AB15,'様式C-1-1用'!$A$4:$AH$1100,9,0),"") -> 材質劣化 | J15: =IFERROR(VLOOKUP(AB15,'様式C-1-1用'!$A$4:$AH$1100,10),"") -> うき・はく離 | M15: =IFERROR(VLOOKUP(AB15,'様式C-1-1用'!$A$4:$AH$1100,17,0),"") -> 1.4m×0.8m | N15: =IFERROR(VLOOKUP(AB15,'様式C-1-1用'!$A$4:$AH$1100,20,0),"") -> 進行が認められない | O15: =IFERROR(VLOOKUP(AB15,'様式C-1-1用'!$A$4:$AH$1100,21,0),"") -> 対策区分判定Ⅱa | P15: =IFERROR(VLOOKUP(AB15,'様式C-1-1用'!$A$4:$AH$1100,22,0),"") -> Ⅱ | Q15: =IFERROR(VLOOKUP(AB15,'様式C-1-1用'!$A$4:$AH$1100,23),"") -> 0 | R15: =IFERROR(VLOOKUP(AB15,'様式C-1-1用'!$A$4:$AH$1100,24,0),"") -> Ⅱa | S15: =IFERROR(VLOOKUP(AB15,'様式C-1-1用'!$A$4:$AH$1100,27,0),"") -> 否 | T15: =IFERROR(VLOOKUP(AB15,'様式C-1-1用'!$A$4:$AH$1003,28,0),"") -> 要監視 | U15: =IFERROR(VLOOKUP(AB15,'様式C-1-1用'!$A$4:$AH$1003,29,0),"") -> 継続 | V15: =IFERROR(VLOOKUP(AB15,'様式C-1-1用'!$A$4:$AH$1003,30,0),"") -> 監視（日常巡視） | Z15: =IFERROR(VLOOKUP(AB15,'様式C-1-1用'!$A$4:$AH$1003,32,0),"") -> はく落防止対策 | AB15: =AB14+1 -> 7
C16: =IFERROR(VLOOKUP(AB16,'様式C-1-1用'!$A$4:$AH$1100,4,0),0) -> 1 | E16: =IF(C16="","",VLOOKUP(AB16,'様式C-1-1用'!$A$4:$AH$1100,5,0)) -> 4 | F16: =IF(C16="","",VLOOKUP(AB16,'様式C-1-1用'!$A$4:$AH$1100,6)) -> 10.4 | G16: =IFERROR(VLOOKUP(AB16,'様式C-1-1用'!$A$4:$AH$1100,7,0),"") -> 覆工・坑門 | H16: =IFERROR(VLOOKUP(AB16,'様式C-1-1用'!$A$4:$AH$1100,8,0),"") -> アーチ（右側） | I16: =IFERROR(VLOOKUP(AB16,'様式C-1-1用'!$A$4:$AH$1100,9,0),"") -> 材質劣化 | J16: =IFERROR(VLOOKUP(AB16,'様式C-1-1用'!$A$4:$AH$1100,10),"") -> うき・はく離 | M16: =IFERROR(VLOOKUP(AB16,'様式C-1-1用'!$A$4:$AH$1100,17,0),"") -> 1.5m×1.5m | N16: =IFERROR(VLOOKUP(AB16,'様式C-1-1用'!$A$4:$AH$1100,20,0),"") -> 進行が認められない | O16: =IFERROR(VLOOKUP(AB16,'様式C-1-1用'!$A$4:$AH$1100,21,0),"") -> 対策区分判定Ⅱa | P16: =IFERROR(VLOOKUP(AB16,'様式C-1-1用'!$A$4:$AH$1100,22,0),"") -> Ⅱ | Q16: =IFERROR(VLOOKUP(AB16,'様式C-1-1用'!$A$4:$AH$1100,23),"") -> 0 | R16: =IFERROR(VLOOKUP(AB16,'様式C-1-1用'!$A$4:$AH$1100,24,0),"") -> Ⅱa | S16: =IFERROR(VLOOKUP(AB16,'様式C-1-1用'!$A$4:$AH$1100,27,0),"") -> 否 | T16: =IFERROR(VLOOKUP(AB16,'様式C-1-1用'!$A$4:$AH$1003,28,0),"") -> 要監視 | U16: =IFERROR(VLOOKUP(AB16,'様式C-1-1用'!$A$4:$AH$1003,29,0),"") -> 継続 | V16: =IFERROR(VLOOKUP(AB16,'様式C-1-1用'!$A$4:$AH$1003,30,0),"") -> 監視（日常巡視） | Z16: =IFERROR(VLOOKUP(AB16,'様式C-1-1用'!$A$4:$AH$1003,32,0),"") -> はく落防止対策 | AB16: =AB15+1 -> 8
C17: =IFERROR(VLOOKUP(AB17,'様式C-1-1用'!$A$4:$AH$1100,4,0),0) -> 1 | E17: =IF(C17="","",VLOOKUP(AB17,'様式C-1-1用'!$A$4:$AH$1100,5,0)) -> 5 | F17: =IF(C17="","",VLOOKUP(AB17,'様式C-1-1用'!$A$4:$AH$1100,6)) -> 10.4 | G17: =IFERROR(VLOOKUP(AB17,'様式C-1-1用'!$A$4:$AH$1100,7,0),"") -> 覆工・坑門 | H17: =IFERROR(VLOOKUP(AB17,'様式C-1-1用'!$A$4:$AH$1100,8,0),"") -> アーチ（右側） | I17: =IFERROR(VLOOKUP(AB17,'様式C-1-1用'!$A$4:$AH$1100,9,0),"") -> 材質劣化 | J17: =IFERROR(VLOOKUP(AB17,'様式C-1-1用'!$A$4:$AH$1100,10),"") -> うき・はく離 | M17: =IFERROR(VLOOKUP(AB17,'様式C-1-1用'!$A$4:$AH$1100,17,0),"") -> 0.3m×0.4m | N17: =IFERROR(VLOOKUP(AB17,'様式C-1-1用'!$A$4:$AH$1100,20,0),"") -> 進行が認められない | O17: =IFERROR(VLOOKUP(AB17,'様式C-1-1用'!$A$4:$AH$1100,21,0),"") -> 対策区分判定Ⅱa | P17: =IFERROR(VLOOKUP(AB17,'様式C-1-1用'!$A$4:$AH$1100,22,0),"") -> Ⅱ | Q17: =IFERROR(VLOOKUP(AB17,'様式C-1-1用'!$A$4:$AH$1100,23),"") -> 0 | R17: =IFERROR(VLOOKUP(AB17,'様式C-1-1用'!$A$4:$AH$1100,24,0),"") -> Ⅱa | S17: =IFERROR(VLOOKUP(AB17,'様式C-1-1用'!$A$4:$AH$1100,27,0),"") -> 否 | T17: =IFERROR(VLOOKUP(AB17,'様式C-1-1用'!$A$4:$AH$1003,28,0),"") -> 要監視 | U17: =IFERROR(VLOOKUP(AB17,'様式C-1-1用'!$A$4:$AH$1003,29,0),"") -> 継続 | V17: =IFERROR(VLOOKUP(AB17,'様式C-1-1用'!$A$4:$AH$1003,30,0),"") -> 監視（日常巡視） | Z17: =IFERROR(VLOOKUP(AB17,'様式C-1-1用'!$A$4:$AH$1003,32,0),"") -> はく落防止対策 | AB17: =AB16+1 -> 9
C18: =IFERROR(VLOOKUP(AB18,'様式C-1-1用'!$A$4:$AH$1100,4,0),0) -> 1 | E18: =IF(C18="","",VLOOKUP(AB18,'様式C-1-1用'!$A$4:$AH$1100,5,0)) -> 6 | F18: =IF(C18="","",VLOOKUP(AB18,'様式C-1-1用'!$A$4:$AH$1100,6)) -> 10.4 | G18: =IFERROR(VLOOKUP(AB18,'様式C-1-1用'!$A$4:$AH$1100,7,0),"") -> 覆工・坑門 | H18: =IFERROR(VLOOKUP(AB18,'様式C-1-1用'!$A$4:$AH$1100,8,0),"") -> アーチ（右側） | I18: =IFERROR(VLOOKUP(AB18,'様式C-1-1用'!$A$4:$AH$1100,9,0),"") -> 材質劣化 | J18: =IFERROR(VLOOKUP(AB18,'様式C-1-1用'!$A$4:$AH$1100,10),"") -> うき・はく離 | M18: =IFERROR(VLOOKUP(AB18,'様式C-1-1用'!$A$4:$AH$1100,17,0),"") -> 0.2m×0.2m | N18: =IFERROR(VLOOKUP(AB18,'様式C-1-1用'!$A$4:$AH$1100,20,0),"") -> 進行が認められない | O18: =IFERROR(VLOOKUP(AB18,'様式C-1-1用'!$A$4:$AH$1100,21,0),"") -> 対策区分判定Ⅱa | P18: =IFERROR(VLOOKUP(AB18,'様式C-1-1用'!$A$4:$AH$1100,22,0),"") -> Ⅱ | Q18: =IFERROR(VLOOKUP(AB18,'様式C-1-1用'!$A$4:$AH$1100,23),"") -> 0 | R18: =IFERROR(VLOOKUP(AB18,'様式C-1-1用'!$A$4:$AH$1100,24,0),"") -> Ⅱa | S18: =IFERROR(VLOOKUP(AB18,'様式C-1-1用'!$A$4:$AH$1100,27,0),"") -> 否 | T18: =IFERROR(VLOOKUP(AB18,'様式C-1-1用'!$A$4:$AH$1003,28,0),"") -> 要監視 | U18: =IFERROR(VLOOKUP(AB18,'様式C-1-1用'!$A$4:$AH$1003,29,0),"") -> 継続 | V18: =IFERROR(VLOOKUP(AB18,'様式C-1-1用'!$A$4:$AH$1003,30,0),"") -> 監視（日常巡視） | Z18: =IFERROR(VLOOKUP(AB18,'様式C-1-1用'!$A$4:$AH$1003,32,0),"") -> はく落防止対策 | AB18: =AB17+1 -> 10
C19: =IFERROR(VLOOKUP(AB19,'様式C-1-1用'!$A$4:$AH$1100,4,0),0) -> 1 | E19: =IF(C19="","",VLOOKUP(AB19,'様式C-1-1用'!$A$4:$AH$1100,5,0)) -> 7 | F19: =IF(C19="","",VLOOKUP(AB19,'様式C-1-1用'!$A$4:$AH$1100,6)) -> 10.4 | G19: =IFERROR(VLOOKUP(AB19,'様式C-1-1用'!$A$4:$AH$1100,7,0),"") -> 覆工・坑門 | H19: =IFERROR(VLOOKUP(AB19,'様式C-1-1用'!$A$4:$AH$1100,8,0),"") -> アーチ（右側） | I19: =IFERROR(VLOOKUP(AB19,'様式C-1-1用'!$A$4:$AH$1100,9,0),"") -> 材質劣化 | J19: =IFERROR(VLOOKUP(AB19,'様式C-1-1用'!$A$4:$AH$1100,10),"") -> うき・はく離 | M19: =IFERROR(VLOOKUP(AB19,'様式C-1-1用'!$A$4:$AH$1100,17,0),"") -> 0.5m×0.2m | N19: =IFERROR(VLOOKUP(AB19,'様式C-1-1用'!$A$4:$AH$1100,20,0),"") -> 新規確認 | O19: =IFERROR(VLOOKUP(AB19,'様式C-1-1用'!$A$4:$AH$1100,21,0),"") -> － | P19: =IFERROR(VLOOKUP(AB19,'様式C-1-1用'!$A$4:$AH$1100,22,0),"") -> － | Q19: =IFERROR(VLOOKUP(AB19,'様式C-1-1用'!$A$4:$AH$1100,23),"") -> 0 | R19: =IFERROR(VLOOKUP(AB19,'様式C-1-1用'!$A$4:$AH$1100,24,0),"") -> Ⅱa | S19: =IFERROR(VLOOKUP(AB19,'様式C-1-1用'!$A$4:$AH$1100,27,0),"") -> 否 | T19: =IFERROR(VLOOKUP(AB19,'様式C-1-1用'!$A$4:$AH$1003,28,0),"") -> 要監視 | U19: =IFERROR(VLOOKUP(AB19,'様式C-1-1用'!$A$4:$AH$1003,29,0),"") -> － | V19: =IFERROR(VLOOKUP(AB19,'様式C-1-1用'!$A$4:$AH$1003,30,0),"") -> － | Z19: =IFERROR(VLOOKUP(AB19,'様式C-1-1用'!$A$4:$AH$1003,32,0),"") -> はく落防止対策 | AB19: =AB18+1 -> 11
C20: =IFERROR(VLOOKUP(AB20,'様式C-1-1用'!$A$4:$AH$1100,4,0),0) -> 1 | E20: =IF(C20="","",VLOOKUP(AB20,'様式C-1-1用'!$A$4:$AH$1100,5,0)) -> 8 | F20: =IF(C20="","",VLOOKUP(AB20,'様式C-1-1用'!$A$4:$AH$1100,6)) -> 10.4 | G20: =IFERROR(VLOOKUP(AB20,'様式C-1-1用'!$A$4:$AH$1100,7,0),"") -> 覆工・坑門 | H20: =IFERROR(VLOOKUP(AB20,'様式C-1-1用'!$A$4:$AH$1100,8,0),"") -> アーチ（右側） | I20: =IFERROR(VLOOKUP(AB20,'様式C-1-1用'!$A$4:$AH$1100,9,0),"") -> 漏水 | J20: =IFERROR(VLOOKUP(AB20,'様式C-1-1用'!$A$4:$AH$1100,10),"") -> 漏水 | M20: =IFERROR(VLOOKUP(AB20,'様式C-1-1用'!$A$4:$AH$1100,17,0),"") -> 0.1m×7.5m 滴水 | N20: =IFERROR(VLOOKUP(AB20,'様式C-1-1用'!$A$4:$AH$1100,20,0),"") -> 新規確認 | O20: =IFERROR(VLOOKUP(AB20,'様式C-1-1用'!$A$4:$AH$1100,21,0),"") -> － | P20: =IFERROR(VLOOKUP(AB20,'様式C-1-1用'!$A$4:$AH$1100,22,0),"") -> － | Q20: =IFERROR(VLOOKUP(AB20,'様式C-1-1用'!$A$4:$AH$1100,23),"") -> 0 | R20: =IFERROR(VLOOKUP(AB20,'様式C-1-1用'!$A$4:$AH$1100,24,0),"") -> Ⅱa | S20: =IFERROR(VLOOKUP(AB20,'様式C-1-1用'!$A$4:$AH$1100,27,0),"") -> 否 | T20: =IFERROR(VLOOKUP(AB20,'様式C-1-1用'!$A$4:$AH$1003,28,0),"") -> 要監視 | U20: =IFERROR(VLOOKUP(AB20,'様式C-1-1用'!$A$4:$AH$1003,29,0),"") -> － | V20: =IFERROR(VLOOKUP(AB20,'様式C-1-1用'!$A$4:$AH$1003,30,0),"") -> － | Z20: =IFERROR(VLOOKUP(AB20,'様式C-1-1用'!$A$4:$AH$1003,32,0),"") -> 導水工対策 | AB20: =AB19+1 -> 12
C21: =IFERROR(VLOOKUP(AB21,'様式C-1-1用'!$A$4:$AH$1100,4,0),0) -> 2 | E21: =IF(C21="","",VLOOKUP(AB21,'様式C-1-1用'!$A$4:$AH$1100,5,0)) -> 1 | F21: =IF(C21="","",VLOOKUP(AB21,'様式C-1-1用'!$A$4:$AH$1100,6)) -> 17.4 | G21: =IFERROR(VLOOKUP(AB21,'様式C-1-1用'!$A$4:$AH$1100,7,0),"") -> 覆工・坑門 | H21: =IFERROR(VLOOKUP(AB21,'様式C-1-1用'!$A$4:$AH$1100,8,0),"") -> アーチ（天端） | I21: =IFERROR(VLOOKUP(AB21,'様式C-1-1用'!$A$4:$AH$1100,9,0),"") -> 材質劣化 | J21: =IFERROR(VLOOKUP(AB21,'様式C-1-1用'!$A$4:$AH$1100,10),"") -> うき・はく離 | M21: =IFERROR(VLOOKUP(AB21,'様式C-1-1用'!$A$4:$AH$1100,17,0),"") -> 1.0m×0.9m | N21: =IFERROR(VLOOKUP(AB21,'様式C-1-1用'!$A$4:$AH$1100,20,0),"") -> 進行が認められない | O21: =IFERROR(VLOOKUP(AB21,'様式C-1-1用'!$A$4:$AH$1100,21,0),"") -> 対策区分判定Ⅱa | P21: =IFERROR(VLOOKUP(AB21,'様式C-1-1用'!$A$4:$AH$1100,22,0),"") -> Ⅱ | Q21: =IFERROR(VLOOKUP(AB21,'様式C-1-1用'!$A$4:$AH$1100,23),"") -> 0 | R21: =IFERROR(VLOOKUP(AB21,'様式C-1-1用'!$A$4:$AH$1100,24,0),"") -> Ⅱa | S21: =IFERROR(VLOOKUP(AB21,'様式C-1-1用'!$A$4:$AH$1100,27,0),"") -> 否 | T21: =IFERROR(VLOOKUP(AB21,'様式C-1-1用'!$A$4:$AH$1003,28,0),"") -> 要監視 | U21: =IFERROR(VLOOKUP(AB21,'様式C-1-1用'!$A$4:$AH$1003,29,0),"") -> 継続 | V21: =IFERROR(VLOOKUP(AB21,'様式C-1-1用'!$A$4:$AH$1003,30,0),"") -> 監視（日常巡視） | Z21: =IFERROR(VLOOKUP(AB21,'様式C-1-1用'!$A$4:$AH$1003,32,0),"") -> はく落防止対策 | AB21: =AB20+1 -> 13
... C39: =IFERROR(VLOOKUP(AB39,'様式C-1-1用'!$A$4:$AH$1100,4,0),0) -> 0 | E39: =IF(C39="","",VLOOKUP(AB39,'様式C-1-1用'!$A$4:$AH$1100,5,0)) | F39: =IF(C39="","",VLOOKUP(AB39,'様式C-1-1用'!$A$4:$AH$1100,6)) | G39: =IFERROR(VLOOKUP(AB39,'様式C-1-1用'!$A$4:$AH$1100,7,0),"") -> 0 | H39: =IFERROR(VLOOKUP(AB39,'様式C-1-1用'!$A$4:$AH$1100,8,0),"") -> 0 | I39: =IFERROR(VLOOKUP(AB39,'様式C-1-1用'!$A$4:$AH$1100,9,0),"") -> 0 | J39: =IFERROR(VLOOKUP(AB39,'様式C-1-1用'!$A$4:$AH$1100,10),"") -> 0 | M39: =IFERROR(VLOOKUP(AB39,'様式C-1-1用'!$A$4:$AH$1100,17,0),"") -> 0 | N39: =IFERROR(VLOOKUP(AB39,'様式C-1-1用'!$A$4:$AH$1100,20,0),"") -> 0 | O39: =IFERROR(VLOOKUP(AB39,'様式C-1-1用'!$A$4:$AH$1100,21,0),"") | P39: =IFERROR(VLOOKUP(AB39,'様式C-1-1用'!$A$4:$AH$1100,22,0),"") | Q39: =IFERROR(VLOOKUP(AB39,'様式C-1-1用'!$A$4:$AH$1100,23),"") -> 0 | R39: =IFERROR(VLOOKUP(AB39,'様式C-1-1用'!$A$4:$AH$1100,24,0),"") -> 0 | S39: =IFERROR(VLOOKUP(AB39,'様式C-1-1用'!$A$4:$AH$1100,27,0),"") | T39: =IFERROR(VLOOKUP(AB39,'様式C-1-1用'!$A$4:$AH$1003,28,0),"") | U39: =IFERROR(VLOOKUP(AB39,'様式C-1-1用'!$A$4:$AH$1003,29,0),"") | V39: =IFERROR(VLOOKUP(AB39,'様式C-1-1用'!$A$4:$AH$1003,30,0),"") | Z39: =IFERROR(VLOOKUP(AB39,'様式C-1-1用'!$A$4:$AH$1003,32,0),"") | AB39: =AB38+1 -> 31
C40: ※ 対策区分（応急措置後）の判定区分Ⅱ～Ⅳについて記入すること。また、点検前に実施された措置によりⅠと判定された変状も記入すること。
C41: ※ 応急措置を実施しないで判定した変状の対策区分は、対策区分の応急措置後の欄に記入すること。
C42: ※ 変状の除去が不完全で、緊急対応が必要な場合は対応方針欄に記入すること。
C43: ※ １区間の覆工に複数の変状がある場合は、変状箇所毎に記入すること。
C44: ※ 措置・監視点検を行った場合には、措置履歴、特記事項に記録を残すこと。（実施年度も記載）
C45: ※ 行が不足する場合は、適時、表の行を増やすこと。
C46: ※ 対策区分（応急措置後）の判定区分Ⅱ～Ⅳについて記入すること。また、点検前に実施された措置によりⅠと判定された変状も記入すること。
C47: ※ 応急措置を実施しないで判定した変状の対策区分は、対策区分の応急措置後の欄に記入すること。
C48: ※ 変状の除去が不完全で、緊急対応が必要な場合は対応方針欄に記入すること。
C49: ※ １区間の覆工に複数の変状がある場合は、変状箇所毎に記入すること。
C50: ※ 措置・監視点検を行った場合には、措置履歴、特記事項に記録を残すこと。（実施年度も記載）
C51: ※ 行が不足する場合は、適時、表の行を増やすこと。

Sheet 様式C-1-2
B2: ■定期点検記録様式 定期点検結果総括表（トンネル内附属物等の取付状態） 【様式C-1-2】
B3: フリガナ | F3: ='様式A-1'!$D$3 -> カワジリトンネル | J3: 路線名 | L3: ='様式A-1'!$J$3 -> 一般国道187号線 | O3: 定期点検業者 | Q3: =様式B!$K$5 -> 株式会社ニュージェック | U3: 定期点検年月日 | Y3: =様式B!$Q$5 -> 44876
B4: 名 称 | F4: ='様式A-1'!$D$4 -> 川尻トンネル | J4: 管理者名 | L4: ='様式A-1'!$R$3 -> 山口県岩国土木建築事務所 | O4: 定期点検者名 | Q4: =様式B!$K$6 -> 石村勝伸
C5: 覆工 スパン 番号 | E5: 異常 番号 | F5: 距離 （m） | G5: 異常部位 | J5: 異 常 の 内 容 | P5: 定期点検結果 | R5: 応急措置の 実施状況 | X5: 対応方針 ・ 特記事項
G6: 対象箇所 | I6: 部位区分 | J6: 異常種類 | N6: 異常の発生範囲の規模 | P6: 異常判定区分 | R6: 実施 | S6: 応急措置の内容
P7: 応急措置前 | Q7: 応急措置後
B8: 定期点検結果 | C8: =VLOOKUP(AA8,'様式C-1-2用'!$A$3:$V$1000,3,0) -> 0 | E8: =VLOOKUP(AA8,'様式C-1-2用'!$A$3:$V$1000,4,0) | F8: =VLOOKUP(AA8,'様式C-1-2用'!$A$3:$V$1000,5,0) | G8: =VLOOKUP(AA8,'様式C-1-2用'!$A$3:$V$1000,6,0) -> 0 | H8: =VLOOKUP(AA8,'様式C-1-2用'!$A$3:$V$1000,7,0) -> 0 | I8: =VLOOKUP(AA8,'様式C-1-2用'!$A$3:$V$1000,8,0) -> 0 | J8: =VLOOKUP(AA8,'様式C-1-2用'!$A$3:$V$1000,9,0) -> 0 | N8: =VLOOKUP(AA8,'様式C-1-2用'!$A$3:$V$1000,10,0) -> 0 | P8: =VLOOKUP(AA8,'様式C-1-2用'!$A$3:$V$1000,11,0) -> 0 | Q8: =VLOOKUP(AA8,'様式C-1-2用'!$A$3:$V$1000,12,0) -> 0 | R8: =VLOOKUP(AA8,'様式C-1-2用'!$A$3:$V$1000,13,0) -> 0 | S8: =VLOOKUP(AA8,'様式C-1-2用'!$A$3:$V$1000,14,0) -> 0 | X8: =VLOOKUP(AA8,'様式C-1-2用'!$A$3:$V$1000,15,0) -> 0 | AA8: 1
C9: =VLOOKUP(AA9,'様式C-1-2用'!$A$3:$V$1000,3,0) -> 0 | E9: =VLOOKUP(AA9,'様式C-1-2用'!$A$3:$V$1000,4,0) | F9: =VLOOKUP(AA9,'様式C-1-2用'!$A$3:$V$1000,5,0) | G9: =VLOOKUP(AA9,'様式C-1-2用'!$A$3:$V$1000,6,0) -> 0 | H9: =VLOOKUP(AA9,'様式C-1-2用'!$A$3:$V$1000,7,0) -> 0 | I9: =VLOOKUP(AA9,'様式C-1-2用'!$A$3:$V$1000,8,0) -> 0 | J9: =VLOOKUP(AA9,'様式C-1-2用'!$A$3:$V$1000,9,0) -> 0 | N9: =VLOOKUP(AA9,'様式C-1-2用'!$A$3:$V$1000,10,0) -> 0 | P9: =VLOOKUP(AA9,'様式C-1-2用'!$A$3:$V$1000,11,0) -> 0 | Q9: =VLOOKUP(AA9,'様式C-1-2用'!$A$3:$V$1000,12,0) -> 0 | R9: =VLOOKUP(AA9,'様式C-1-2用'!$A$3:$V$1000,13,0) -> 0 | S9: =VLOOKUP(AA9,'様式C-1-2用'!$A$3:$V$1000,14,0) -> 0 | X9: =VLOOKUP(AA9,'様式C-1-2用'!$A$3:$V$1000,15,0) -> 0 | AA9: =AA8+1 -> 2
C10: =VLOOKUP(AA10,'様式C-1-2用'!$A$3:$V$1000,3,0) -> 0 | E10: =VLOOKUP(AA10,'様式C-1-2用'!$A$3:$V$1000,4,0) | F10: =VLOOKUP(AA10,'様式C-1-2用'!$A$3:$V$1000,5,0) | G10: =VLOOKUP(AA10,'様式C-1-2用'!$A$3:$V$1000,6,0) -> 0 | H10: =VLOOKUP(AA10,'様式C-1-2用'!$A$3:$V$1000,7,0) -> 0 | I10: =VLOOKUP(AA10,'様式C-1-2用'!$A$3:$V$1000,8,0) -> 0 | J10: =VLOOKUP(AA10,'様式C-1-2用'!$A$3:$V$1000,9,0) -> 0 | N10: =VLOOKUP(AA10,'様式C-1-2用'!$A$3:$V$1000,10,0) -> 0 | P10: =VLOOKUP(AA10,'様式C-1-2用'!$A$3:$V$1000,11,0) -> 0 | Q10: =VLOOKUP(AA10,'様式C-1-2用'!$A$3:$V$1000,12,0) -> 0 | R10: =VLOOKUP(AA10,'様式C-1-2用'!$A$3:$V$1000,13,0) -> 0 | S10: =VLOOKUP(AA10,'様式C-1-2用'!$A$3:$V$1000,14,0) -> 0 | X10: =VLOOKUP(AA10,'様式C-1-2用'!$A$3:$V$1000,15,0) -> 0 | AA10: =AA9+1 -> 3
C11: =VLOOKUP(AA11,'様式C-1-2用'!$A$3:$V$1000,3,0) -> 0 | E11: =VLOOKUP(AA11,'様式C-1-2用'!$A$3:$V$1000,4,0) | F11: =VLOOKUP(AA11,'様式C-1-2用'!$A$3:$V$1000,5,0) | G11: =VLOOKUP(AA11,'様式C-1-2用'!$A$3:$V$1000,6,0) -> 0 | H11: =VLOOKUP(AA11,'様式C-1-2用'!$A$3:$V$1000,7,0) -> 0 | I11: =VLOOKUP(AA11,'様式C-1-2用'!$A$3:$V$1000,8,0) -> 0 | J11: =VLOOKUP(AA11,'様式C-1-2用'!$A$3:$V$1000,9,0) -> 0 | N11: =VLOOKUP(AA11,'様式C-1-2用'!$A$3:$V$1000,10,0) -> 0 | P11: =VLOOKUP(AA11,'様式C-1-2用'!$A$3:$V$1000,11,0) -> 0 | Q11: =VLOOKUP(AA11,'様式C-1-2用'!$A$3:$V$1000,12,0) -> 0 | R11: =VLOOKUP(AA11,'様式C-1-2用'!$A$3:$V$1000,13,0) -> 0 | S11: =VLOOKUP(AA11,'様式C-1-2用'!$A$3:$V$1000,14,0) -> 0 | X11: =VLOOKUP(AA11,'様式C-1-2用'!$A$3:$V$1000,15,0) -> 0 | AA11: =AA10+1 -> 4
C12: =VLOOKUP(AA12,'様式C-1-2用'!$A$3:$V$1000,3,0) -> 0 | E12: =VLOOKUP(AA12,'様式C-1-2用'!$A$3:$V$1000,4,0) | F12: =VLOOKUP(AA12,'様式C-1-2用'!$A$3:$V$1000,5,0) | G12: =VLOOKUP(AA12,'様式C-1-2用'!$A$3:$V$1000,6,0) -> 0 | H12: =VLOOKUP(AA12,'様式C-1-2用'!$A$3:$V$1000,7,0) -> 0 | I12: =VLOOKUP(AA12,'様式C-1-2用'!$A$3:$V$1000,8,0) -> 0 | J12: =VLOOKUP(AA12,'様式C-1-2用'!$A$3:$V$1000,9,0) -> 0 | N12: =VLOOKUP(AA12,'様式C-1-2用'!$A$3:$V$1000,10,0) -> 0 | P12: =VLOOKUP(AA12,'様式C-1-2用'!$A$3:$V$1000,11,0) -> 0 | Q12: =VLOOKUP(AA12,'様式C-1-2用'!$A$3:$V$1000,12,0) -> 0 | R12: =VLOOKUP(AA12,'様式C-1-2用'!$A$3:$V$1000,13,0) -> 0 | S12: =VLOOKUP(AA12,'様式C-1-2用'!$A$3:$V$1000,14,0) -> 0 | X12: =VLOOKUP(AA12,'様式C-1-2用'!$A$3:$V$1000,15,0) -> 0 | AA12: =AA11+1 -> 5
C13: =VLOOKUP(AA13,'様式C-1-2用'!$A$3:$V$1000,3,0) -> 0 | E13: =VLOOKUP(AA13,'様式C-1-2用'!$A$3:$V$1000,4,0) | F13: =VLOOKUP(AA13,'様式C-1-2用'!$A$3:$V$1000,5,0) | G13: =VLOOKUP(AA13,'様式C-1-2用'!$A$3:$V$1000,6,0) -> 0 | H13: =VLOOKUP(AA13,'様式C-1-2用'!$A$3:$V$1000,7,0) -> 0 | I13: =VLOOKUP(AA13,'様式C-1-2用'!$A$3:$V$1000,8,0) -> 0 | J13: =VLOOKUP(AA13,'様式C-1-2用'!$A$3:$V$1000,9,0) -> 0 | N13: =VLOOKUP(AA13,'様式C-1-2用'!$A$3:$V$1000,10,0) -> 0 | P13: =VLOOKUP(AA13,'様式C-1-2用'!$A$3:$V$1000,11,0) -> 0 | Q13: =VLOOKUP(AA13,'様式C-1-2用'!$A$3:$V$1000,12,0) -> 0 | R13: =VLOOKUP(AA13,'様式C-1-2用'!$A$3:$V$1000,13,0) -> 0 | S13: =VLOOKUP(AA13,'様式C-1-2用'!$A$3:$V$1000,14,0) -> 0 | X13: =VLOOKUP(AA13,'様式C-1-2用'!$A$3:$V$1000,15,0) -> 0 | AA13: =AA12+1 -> 6
C14: =VLOOKUP(AA14,'様式C-1-2用'!$A$3:$V$1000,3,0) -> 0 | E14: =VLOOKUP(AA14,'様式C-1-2用'!$A$3:$V$1000,4,0) | F14: =VLOOKUP(AA14,'様式C-1-2用'!$A$3:$V$1000,5,0) | G14: =VLOOKUP(AA14,'様式C-1-2用'!$A$3:$V$1000,6,0) -> 0 | H14: =VLOOKUP(AA14,'様式C-1-2用'!$A$3:$V$1000,7,0) -> 0 | I14: =VLOOKUP(AA14,'様式C-1-2用'!$A$3:$V$1000,8,0) -> 0 | J14: =VLOOKUP(AA14,'様式C-1-2用'!$A$3:$V$1000,9,0) -> 0 | N14: =VLOOKUP(AA14,'様式C-1-2用'!$A$3:$V$1000,10,0) -> 0 | P14: =VLOOKUP(AA14,'様式C-1-2用'!$A$3:$V$1000,11,0) -> 0 | Q14: =VLOOKUP(AA14,'様式C-1-2用'!$A$3:$V$1000,12,0) -> 0 | R14: =VLOOKUP(AA14,'様式C-1-2用'!$A$3:$V$1000,13,0) -> 0 | S14: =VLOOKUP(AA14,'様式C-1-2用'!$A$3:$V$1000,14,0) -> 0 | X14: =VLOOKUP(AA14,'様式C-1-2用'!$A$3:$V$1000,15,0) -> 0 | AA14: =AA13+1 -> 7
C15: =VLOOKUP(AA15,'様式C-1-2用'!$A$3:$V$1000,3,0) -> 0 | E15: =VLOOKUP(AA15,'様式C-1-2用'!$A$3:$V$1000,4,0) | F15: =VLOOKUP(AA15,'様式C-1-2用'!$A$3:$V$1000,5,0) | G15: =VLOOKUP(AA15,'様式C-1-2用'!$A$3:$V$1000,6,0) -> 0 | H15: =VLOOKUP(AA15,'様式C-1-2用'!$A$3:$V$1000,7,0) -> 0 | I15: =VLOOKUP(AA15,'様式C-1-2用'!$A$3:$V$1000,8,0) -> 0 | J15: =VLOOKUP(AA15,'様式C-1-2用'!$A$3:$V$1000,9,0) -> 0 | N15: =VLOOKUP(AA15,'様式C-1-2用'!$A$3:$V$1000,10,0) -> 0 | P15: =VLOOKUP(AA15,'様式C-1-2用'!$A$3:$V$1000,11,0) -> 0 | Q15: =VLOOKUP(AA15,'様式C-1-2用'!$A$3:$V$1000,12,0) -> 0 | R15: =VLOOKUP(AA15,'様式C-1-2用'!$A$3:$V$1000,13,0) -> 0 | S15: =VLOOKUP(AA15,'様式C-1-2用'!$A$3:$V$1000,14,0) -> 0 | X15: =VLOOKUP(AA15,'様式C-1-2用'!$A$3:$V$1000,15,0) -> 0 | AA15: =AA14+1 -> 8
C16: =VLOOKUP(AA16,'様式C-1-2用'!$A$3:$V$1000,3,0) -> 0 | E16: =VLOOKUP(AA16,'様式C-1-2用'!$A$3:$V$1000,4,0) | F16: =VLOOKUP(AA16,'様式C-1-2用'!$A$3:$V$1000,5,0) | G16: =VLOOKUP(AA16,'様式C-1-2用'!$A$3:$V$1000,6,0) -> 0 | H16: =VLOOKUP(AA16,'様式C-1-2用'!$A$3:$V$1000,7,0) -> 0 | I16: =VLOOKUP(AA16,'様式C-1-2用'!$A$3:$V$1000,8,0) -> 0 | J16: =VLOOKUP(AA16,'様式C-1-2用'!$A$3:$V$1000,9,0) -> 0 | N16: =VLOOKUP(AA16,'様式C-1-2用'!$A$3:$V$1000,10,0) -> 0 | P16: =VLOOKUP(AA16,'様式C-1-2用'!$A$3:$V$1000,11,0) -> 0 | Q16: =VLOOKUP(AA16,'様式C-1-2用'!$A$3:$V$1000,12,0) -> 0 | R16: =VLOOKUP(AA16,'様式C-1-2用'!$A$3:$V$1000,13,0) -> 0 | S16: =VLOOKUP(AA16,'様式C-1-2用'!$A$3:$V$1000,14,0) -> 0 | X16: =VLOOKUP(AA16,'様式C-1-2用'!$A$3:$V$1000,15,0) -> 0 | AA16: =AA15+1 -> 9
C17: =VLOOKUP(AA17,'様式C-1-2用'!$A$3:$V$1000,3,0) -> 0 | E17: =VLOOKUP(AA17,'様式C-1-2用'!$A$3:$V$1000,4,0) | F17: =VLOOKUP(AA17,'様式C-1-2用'!$A$3:$V$1000,5,0) | G17: =VLOOKUP(AA17,'様式C-1-2用'!$A$3:$V$1000,6,0) -> 0 | H17: =VLOOKUP(AA17,'様式C-1-2用'!$A$3:$V$1000,7,0) -> 0 | I17: =VLOOKUP(AA17,'様式C-1-2用'!$A$3:$V$1000,8,0) -> 0 | J17: =VLOOKUP(AA17,'様式C-1-2用'!$A$3:$V$1000,9,0) -> 0 | N17: =VLOOKUP(AA17,'様式C-1-2用'!$A$3:$V$1000,10,0) -> 0 | P17: =VLOOKUP(AA17,'様式C-1-2用'!$A$3:$V$1000,11,0) -> 0 | Q17: =VLOOKUP(AA17,'様式C-1-2用'!$A$3:$V$1000,12,0) -> 0 | R17: =VLOOKUP(AA17,'様式C-1-2用'!$A$3:$V$1000,13,0) -> 0 | S17: =VLOOKUP(AA17,'様式C-1-2用'!$A$3:$V$1000,14,0) -> 0 | X17: =VLOOKUP(AA17,'様式C-1-2用'!$A$3:$V$1000,15,0) -> 0 | AA17: =AA16+1 -> 10
C18: =VLOOKUP(AA18,'様式C-1-2用'!$A$3:$V$1000,3,0) -> 0 | E18: =VLOOKUP(AA18,'様式C-1-2用'!$A$3:$V$1000,4,0) | F18: =VLOOKUP(AA18,'様式C-1-2用'!$A$3:$V$1000,5,0) | G18: =VLOOKUP(AA18,'様式C-1-2用'!$A$3:$V$1000,6,0) -> 0 | H18: =VLOOKUP(AA18,'様式C-1-2用'!$A$3:$V$1000,7,0) -> 0 | I18: =VLOOKUP(AA18,'様式C-1-2用'!$A$3:$V$1000,8,0) -> 0 | J18: =VLOOKUP(AA18,'様式C-1-2用'!$A$3:$V$1000,9,0) -> 0 | N18: =VLOOKUP(AA18,'様式C-1-2用'!$A$3:$V$1000,10,0) -> 0 | P18: =VLOOKUP(AA18,'様式C-1-2用'!$A$3:$V$1000,11,0) -> 0 | Q18: =VLOOKUP(AA18,'様式C-1-2用'!$A$3:$V$1000,12,0) -> 0 | R18: =VLOOKUP(AA18,'様式C-1-2用'!$A$3:$V$1000,13,0) -> 0 | S18: =VLOOKUP(AA18,'様式C-1-2用'!$A$3:$V$1000,14,0) -> 0 | X18: =VLOOKUP(AA18,'様式C-1-2用'!$A$3:$V$1000,15,0) -> 0 | AA18: =AA17+1 -> 11
C19: =VLOOKUP(AA19,'様式C-1-2用'!$A$3:$V$1000,3,0) -> 0 | E19: =VLOOKUP(AA19,'様式C-1-2用'!$A$3:$V$1000,4,0) | F19: =VLOOKUP(AA19,'様式C-1-2用'!$A$3:$V$1000,5,0) | G19: =VLOOKUP(AA19,'様式C-1-2用'!$A$3:$V$1000,6,0) -> 0 | H19: =VLOOKUP(AA19,'様式C-1-2用'!$A$3:$V$1000,7,0) -> 0 | I19: =VLOOKUP(AA19,'様式C-1-2用'!$A$3:$V$1000,8,0) -> 0 | J19: =VLOOKUP(AA19,'様式C-1-2用'!$A$3:$V$1000,9,0) -> 0 | N19: =VLOOKUP(AA19,'様式C-1-2用'!$A$3:$V$1000,10,0) -> 0 | P19: =VLOOKUP(AA19,'様式C-1-2用'!$A$3:$V$1000,11,0) -> 0 | Q19: =VLOOKUP(AA19,'様式C-1-2用'!$A$3:$V$1000,12,0) -> 0 | R19: =VLOOKUP(AA19,'様式C-1-2用'!$A$3:$V$1000,13,0) -> 0 | S19: =VLOOKUP(AA19,'様式C-1-2用'!$A$3:$V$1000,14,0) -> 0 | X19: =VLOOKUP(AA19,'様式C-1-2用'!$A$3:$V$1000,15,0) -> 0 | AA19: =AA18+1 -> 12
C20: =VLOOKUP(AA20,'様式C-1-2用'!$A$3:$V$1000,3,0) -> 0 | E20: =VLOOKUP(AA20,'様式C-1-2用'!$A$3:$V$1000,4,0) | F20: =VLOOKUP(AA20,'様式C-1-2用'!$A$3:$V$1000,5,0) | G20: =VLOOKUP(AA20,'様式C-1-2用'!$A$3:$V$1000,6,0) -> 0 | H20: =VLOOKUP(AA20,'様式C-1-2用'!$A$3:$V$1000,7,0) -> 0 | I20: =VLOOKUP(AA20,'様式C-1-2用'!$A$3:$V$1000,8,0) -> 0 | J20: =VLOOKUP(AA20,'様式C-1-2用'!$A$3:$V$1000,9,0) -> 0 | N20: =VLOOKUP(AA20,'様式C-1-2用'!$A$3:$V$1000,10,0) -> 0 | P20: =VLOOKUP(AA20,'様式C-1-2用'!$A$3:$V$1000,11,0) -> 0 | Q20: =VLOOKUP(AA20,'様式C-1-2用'!$A$3:$V$1000,12,0) -> 0 | R20: =VLOOKUP(AA20,'様式C-1-2用'!$A$3:$V$1000,13,0) -> 0 | S20: =VLOOKUP(AA20,'様式C-1-2用'!$A$3:$V$1000,14,0) -> 0 | X20: =VLOOKUP(AA20,'様式C-1-2用'!$A$3:$V$1000,15,0) -> 0 | AA20: =AA19+1 -> 13
... C38: =VLOOKUP(AA38,'様式C-1-2用'!$A$3:$V$1000,3,0) -> 0 | E38: =VLOOKUP(AA38,'様式C-1-2用'!$A$3:$V$1000,4,0) | F38: =VLOOKUP(AA38,'様式C-1-2用'!$A$3:$V$1000,5,0) | G38: =VLOOKUP(AA38,'様式C-1-2用'!$A$3:$V$1000,6,0) -> 0 | H38: =VLOOKUP(AA38,'様式C-1-2用'!$A$3:$V$1000,7,0) -> 0 | I38: =VLOOKUP(AA38,'様式C-1-2用'!$A$3:$V$1000,8,0) -> 0 | J38: =VLOOKUP(AA38,'様式C-1-2用'!$A$3:$V$1000,9,0) -> 0 | N38: =VLOOKUP(AA38,'様式C-1-2用'!$A$3:$V$1000,10,0) -> 0 | P38: =VLOOKUP(AA38,'様式C-1-2用'!$A$3:$V$1000,11,0) -> 0 | Q38: =VLOOKUP(AA38,'様式C-1-2用'!$A$3:$V$1000,12,0) -> 0 | R38: =VLOOKUP(AA38,'様式C-1-2用'!$A$3:$V$1000,13,0) -> 0 | S38: =VLOOKUP(AA38,'様式C-1-2用'!$A$3:$V$1000,14,0) -> 0 | X38: =VLOOKUP(AA38,'様式C-1-2用'!$A$3:$V$1000,15,0) -> 0 | AA38: =AA37+1 -> 31
C39: ※ 異常判定区分×について記入すること。また、応急措置により○と判定された箇所も記入すること。
C40: ※ 応急措置を実施しないで判定した箇所の異常判定区分は、異常判定区分の応急措置後の欄に記入すること。
C41: ※ 異常の除去が不完全で、緊急対応が必要な場合は対応方針欄に記入すること。
C42: ※ １スパンの覆工に複数の異常がある場合は、異常箇所毎に記入すること。
C43: ※ 行が不足する場合は、適時、表の行を増やすこと。

Sheet 様式C-2
B2: ■定期点検記録様式 状態の把握の内容 【様式C-2】
B3: フリガナ | E3: ='様式A-1'!$D$3 -> カワジリトンネル | H3: 路線名 | J3: ='様式A-1'!$J$3 -> 一般国道187号線 | M3: 定期点検業者 | R3: =様式B!$K$5 -> 株式会社ニュージェック | U3: 定期点検年月日 | X3: =様式B!$Q$5 -> 44876
B4: 名 称 | E4: ='様式A-1'!$D$4 -> 川尻トンネル | H4: 管理者名 | J4: ='様式A-1'!$R$3 -> 山口県岩国土木建築事務所 | M4: 定期点検者名 | R4: =様式B!$K$6 -> 石村勝伸
B5: 状態の把握の内容 | C5: 覆工スパン 番号 | E5: 変状 番号 | F5: 状態の把握の内容
F6: 年月日 | H6: 内容 | O6: 結果 | W6: 対策区分の 判定 | Y6: 健全性
F7: 41338 | H7: 初回定期点検 | W7: Ⅱa | Y7: Ⅱ
F8: 44876 | H8: 定期点検 | W8: Ⅱa | Y8: Ⅱ
B22: 注）状態の把握において、微破壊・非破壊検査や各種試験等を実施した場合について記載する。
B23: ※ 行が不足する場合は、適時、表の行を増やすこと。

Sheet 様式D-1-1
B2: ■定期点検記録様式 変状写真台帳（トンネル本体工） 【様式D-1-1】
B3: フリガナ | D3: ='様式A-1'!$D$3 -> カワジリトンネル | H3: 路 線 名 | J3: ='様式A-1'!$J$3 -> 一般国道187号線 | M3: 定期点検業者 | P3: =様式B!$K$5 -> 株式会社ニュージェック | S3: 定期点検年月日 | U3: =様式B!$Q$5 -> 44876
B4: 名 称 | D4: ='様式A-1'!$D$4 -> 川尻トンネル | H4: 管理者名 | J4: ='様式A-1'!$R$3 -> 山口県岩国土木建築事務所 | M4: 定期点検者名 | P4: =様式B!$K$6 -> 石村勝伸
A5: 1 | B5: 写真 番号 | C5: 覆工 スパン 番号 | D5: =VLOOKUP(A5,'様式D-1-1用'!$A$3:$P$1002,2,0) -> PS | M5: 写真 番号 | N5: 覆工 スパン 番号 | O5: =VLOOKUP(X5,'様式D-1-1用'!$A$3:$P$1002,2,0) -> PS | X5: 2
C7: 変状 番号 | D7: =VLOOKUP(A5,'様式D-1-1用'!$A$3:$P$1002,3,0) -> 1 | N7: 変状 番号 | O7: =VLOOKUP(X5,'様式D-1-1用'!$A$3:$P$1002,3,0) -> 2
B9: 変状 部位 | C9: 対象 箇所 | D9: =VLOOKUP(A5,'様式D-1-1用'!$A$3:$P$1002,4,0) -> 覆工・坑門 | M9: 変状 部位 | N9: 対象 箇所 | O9: =VLOOKUP(X5,'様式D-1-1用'!$A$3:$P$1002,4,0) -> 覆工・坑門
C11: 部位 区分 | D11: =VLOOKUP(A5,'様式D-1-1用'!$A$3:$P$1002,5,0) -> 面壁・妻壁等 | N11: 部位 区分 | O11: =VLOOKUP(X5,'様式D-1-1用'!$A$3:$P$1002,5,0) -> 面壁・妻壁等
B13: 変状区分 | D13: =VLOOKUP(A5,'様式D-1-1用'!$A$3:$P$1002,6,0) -> 材質劣化 | M13: 変状区分 | O13: =VLOOKUP(X5,'様式D-1-1用'!$A$3:$P$1002,6,0) -> 材質劣化
B14: 変状種類 | D14: =VLOOKUP(A5,'様式D-1-1用'!$A$3:$P$1002,7,0) -> うき・はく離 | M14: 変状種類 | O14: =VLOOKUP(X5,'様式D-1-1用'!$A$3:$P$1002,7,0) -> うき・はく離
B15: 対策 区分 | C15: 応急措置前 | E15: =VLOOKUP(A5,'様式D-1-1用'!$A$3:$P$1002,8,0) -> 0 | M15: 対策 区分 | N15: 応急措置前 | P15: =VLOOKUP(X5,'様式D-1-1用'!$A$3:$P$1002,8,0) -> 0
C16: 応急措置後 | E16: =VLOOKUP(A5,'様式D-1-1用'!$A$3:$P$1002,9,0) -> Ⅱa | N16: 応急措置後 | P16: =VLOOKUP(X5,'様式D-1-1用'!$A$3:$P$1002,9,0) -> Ⅱa
B17: 健全性 | D17: =VLOOKUP(A5,'様式D-1-1用'!$A$3:$P$1002,11,0) -> Ⅱ | M17: 健全性 | O17: =VLOOKUP(X5,'様式D-1-1用'!$A$3:$P$1002,11,0) -> Ⅱ
B18: 変状の発生範囲の規模 | E18: =VLOOKUP(A5,'様式D-1-1用'!$A$3:$P$1002,12,0) -> 2.0m×2.4m | M18: 変状の発生範囲の規模 | P18: =VLOOKUP(X5,'様式D-1-1用'!$A$3:$P$1002,12,0) -> 4.0m×8.2m
B19: 前回定期点検時の状態 | E19: =VLOOKUP(A5,'様式D-1-1用'!$A$3:$P$1002,13,0) -> 2.0m×2.4m | M19: 前回定期点検時の状態 | P19: =VLOOKUP(X5,'様式D-1-1用'!$A$3:$P$1002,13,0) -> 1.0m×6.2m
B20: 調査方針 | E20: =VLOOKUP(A5,'様式D-1-1用'!$A$3:$P$1002,14,0) -> － | M20: 調査方針 | P20: =VLOOKUP(X5,'様式D-1-1用'!$A$3:$P$1002,14,0) -> －
B21: 対策履歴 | E21: =VLOOKUP(A5,'様式D-1-1用'!$A$3:$P$1002,15,0) -> 監視（日常巡視） | H21: 実施状況（実施日） | M21: 対策履歴 | P21: =VLOOKUP(X5,'様式D-1-1用'!$A$3:$P$1002,15,0) -> 監視（日常巡視） | S21: 実施状況（実施日）
B22: メモ | D22: =VLOOKUP(A5,'様式D-1-1用'!$A$3:$P$1002,16,0) -> うき・はく離、2.0m×2.4m | M22: メモ | O22: =VLOOKUP(X5,'様式D-1-1用'!$A$3:$P$1002,16,0) -> うき・はく離、4.0m×8.2m
A23: 3 | B23: 写真 番号 | C23: 覆工 スパン 番号 | D23: =VLOOKUP(A23,'様式D-1-1用'!$A$3:$P$1002,2,0) -> PS | M23: 写真 番号 | N23: 覆工 スパン 番号 | O23: =VLOOKUP(X23,'様式D-1-1用'!$A$3:$P$1002,2,0) -> PS | X23: 4
C25: 変状 番号 | D25: =VLOOKUP(A23,'様式D-1-1用'!$A$3:$P$1002,3,0) -> 3 | N25: 変状 番号 | O25: =VLOOKUP(X23,'様式D-1-1用'!$A$3:$P$1002,3,0) -> 4
B27: 変状 部位 | C27: 対象 箇所 | D27: =VLOOKUP(A23,'様式D-1-1用'!$A$3:$P$1002,4,0) -> 覆工・坑門 | M27: 変状 部位 | N27: 対象 箇所 | O27: =VLOOKUP(X23,'様式D-1-1用'!$A$3:$P$1002,4,0) -> 覆工・坑門
C29: 部位 区分 | D29: =VLOOKUP(A23,'様式D-1-1用'!$A$3:$P$1002,5,0) -> 面壁・妻壁等 | N29: 部位 区分 | O29: =VLOOKUP(X23,'様式D-1-1用'!$A$3:$P$1002,5,0) -> アーチ（左側）
B31: 変状区分 | D31: =VLOOKUP(A23,'様式D-1-1用'!$A$3:$P$1002,6,0) -> 材質劣化 | M31: 変状区分 | O31: =VLOOKUP(X23,'様式D-1-1用'!$A$3:$P$1002,6,0) -> 材質劣化
B32: 変状種類 | D32: =VLOOKUP(A23,'様式D-1-1用'!$A$3:$P$1002,7,0) -> うき・はく離 | M32: 変状種類 | O32: =VLOOKUP(X23,'様式D-1-1用'!$A$3:$P$1002,7,0) -> うき・はく離
B33: 対策 区分 | C33: 応急措置前 | E33: =VLOOKUP(A23,'様式D-1-1用'!$A$3:$P$1002,8,0) -> 0 | M33: 対策 区分 | N33: 応急措置前 | P33: =VLOOKUP(X23,'様式D-1-1用'!$A$3:$P$1002,8,0) -> 0
C34: 応急措置後 | E34: =VLOOKUP(A23,'様式D-1-1用'!$A$3:$P$1002,9,0) -> Ⅱa | N34: 応急措置後 | P34: =VLOOKUP(X23,'様式D-1-1用'!$A$3:$P$1002,9,0) -> Ⅱa
B35: 健全性 | D35: =VLOOKUP(A23,'様式D-1-1用'!$A$3:$P$1002,11,0) -> Ⅱ | M35: 健全性 | O35: =VLOOKUP(X23,'様式D-1-1用'!$A$3:$P$1002,11,0) -> Ⅱ
B36: 変状の発生範囲の規模 | E36: =VLOOKUP(A23,'様式D-1-1用'!$A$3:$P$1002,12,0) -> 4.0m×8.2m | M36: 変状の発生範囲の規模 | P36: =VLOOKUP(X23,'様式D-1-1用'!$A$3:$P$1002,12,0) -> 1.5m×0.5m
B37: 前回定期点検時の状態 | E37: =VLOOKUP(A23,'様式D-1-1用'!$A$3:$P$1002,13,0) -> 0.9m×0.4m | M37: 前回定期点検時の状態 | P37: =VLOOKUP(X23,'様式D-1-1用'!$A$3:$P$1002,13,0) -> 1.5m×0.5m、過年度写PS-5
B38: 調査方針 | E38: =VLOOKUP(A23,'様式D-1-1用'!$A$3:$P$1002,14,0) -> － | M38: 調査方針 | P38: =VLOOKUP(X23,'様式D-1-1用'!$A$3:$P$1002,14,0) -> －
B39: 対策履歴 | E39: =VLOOKUP(A23,'様式D-1-1用'!$A$3:$P$1002,15,0) -> 監視（日常巡視） | H39: 実施状況（実施日） | M39: 対策履歴 | P39: =VLOOKUP(X23,'様式D-1-1用'!$A$3:$P$1002,15,0) -> 監視（日常巡視） | S39: 実施状況（実施日）
B40: メモ | D40: =VLOOKUP(A23,'様式D-1-1用'!$A$3:$P$1002,16,0) -> うき・はく離、4.0m×8.2m | M40: メモ | O40: =VLOOKUP(X23,'様式D-1-1用'!$A$3:$P$1002,16,0) -> うき・はく離、1.5m×0.5m
C41: ※ 健全性の判定区分Ⅱ～Ⅳについて添付すること。また、点検前に実施 された措置によりⅠと判定された箇所も添付すること。 | N41: ※ 変状の発生範囲の規模とは、対策を行う際に参考となる変状の長さや面積をいう。
N42: ※ 応急措置を実施しないで判定した変状の対策区分は、対策区分の応急措置後の欄に記入すること。
C43: ※ たたき落としを実施した場合は、実施後の写真を添付すること。 | N43: ※ 変状の発生範囲の規模は、面積・寸法を記載すること。
C44: ※ 画像データは100kb程度とする。 | N44: (ひび割れ幅のみmmとし、その他をm表記とする)
C45: ※ 変状数に準じてシートを追加すること。（１シートに１ページとすること。） | N45: ※ 構造用鋼材以外の異物に伴ううき・はく離については、メモ欄に異物の概要を記入すること。
A46: =A5+4 -> 5 | B46: 写真 番号 | C46: 覆工 スパン 番号 | D46: =VLOOKUP(A46,'様式D-1-1用'!$A$3:$P$1002,2,0) -> 1 | M46: 写真 番号 | N46: 覆工 スパン 番号 | O46: =VLOOKUP(X46,'様式D-1-1用'!$A$3:$P$1002,2,0) -> 1 | X46: =X5+4 -> 6
C48: 変状 番号 | D48: =VLOOKUP(A46,'様式D-1-1用'!$A$3:$P$1002,3,0) -> 1 | N48: 変状 番号 | O48: =VLOOKUP(X46,'様式D-1-1用'!$A$3:$P$1002,3,0) -> 2
B50: 変状 部位 | C50: 対象 箇所 | D50: =VLOOKUP(A46,'様式D-1-1用'!$A$3:$P$1002,4,0) -> 覆工・坑門 | M50: 変状 部位 | N50: 対象 箇所 | O50: =VLOOKUP(X46,'様式D-1-1用'!$A$3:$P$1002,4,0) -> 覆工・坑門
C52: 部位 区分 | D52: =VLOOKUP(A46,'様式D-1-1用'!$A$3:$P$1002,5,0) -> アーチ（左側） | N52: 部位 区分 | O52: =VLOOKUP(X46,'様式D-1-1用'!$A$3:$P$1002,5,0) -> アーチ（左側）
B54: 変状区分 | D54: =VLOOKUP(A46,'様式D-1-1用'!$A$3:$P$1002,6,0) -> 材質劣化 | M54: 変状区分 | O54: =VLOOKUP(X46,'様式D-1-1用'!$A$3:$P$1002,6,0) -> 材質劣化
B55: 変状種類 | D55: =VLOOKUP(A46,'様式D-1-1用'!$A$3:$P$1002,7,0) -> うき・はく離 | M55: 変状種類 | O55: =VLOOKUP(X46,'様式D-1-1用'!$A$3:$P$1002,7,0) -> うき・はく離
B56: 対策 区分 | C56: 応急措置前 | E56: =VLOOKUP(A46,'様式D-1-1用'!$A$3:$P$1002,8,0) -> 0 | M56: 対策 区分 | N56: 応急措置前 | P56: =VLOOKUP(X46,'様式D-1-1用'!$A$3:$P$1002,8,0) -> 0
C57: 応急措置後 | E57: =VLOOKUP(A46,'様式D-1-1用'!$A$3:$P$1002,9,0) -> Ⅱa | N57: 応急措置後 | P57: =VLOOKUP(X46,'様式D-1-1用'!$A$3:$P$1002,9,0) -> Ⅱa
B58: 健全性 | D58: =VLOOKUP(A46,'様式D-1-1用'!$A$3:$P$1002,11,0) -> Ⅱ | M58: 健全性 | O58: =VLOOKUP(X46,'様式D-1-1用'!$A$3:$P$1002,11,0) -> Ⅱ
B59: 変状の発生範囲の規模 | E59: =VLOOKUP(A46,'様式D-1-1用'!$A$3:$P$1002,12,0) -> 0.6m×1.0m | M59: 変状の発生範囲の規模 | P59: =VLOOKUP(X46,'様式D-1-1用'!$A$3:$P$1002,12,0) -> 0.6m×0.8m
B60: 前回定期点検時の状態 | E60: =VLOOKUP(A46,'様式D-1-1用'!$A$3:$P$1002,13,0) -> 0.5m×1.0m、過年度写1-4 | M60: 前回定期点検時の状態 | P60: =VLOOKUP(X46,'様式D-1-1用'!$A$3:$P$1002,13,0) -> 0.6m×0.8m、過年度写1-5
B61: 調査方針 | E61: =VLOOKUP(A46,'様式D-1-1用'!$A$3:$P$1002,14,0) -> － | M61: 調査方針 | P61: =VLOOKUP(X46,'様式D-1-1用'!$A$3:$P$1002,14,0) -> －
B62: 対策履歴 | E62: =VLOOKUP(A46,'様式D-1-1用'!$A$3:$P$1002,15,0) -> 監視（日常巡視） | H62: 実施状況（実施日） | M62: 対策履歴 | P62: =VLOOKUP(X46,'様式D-1-1用'!$A$3:$P$1002,15,0) -> 監視（日常巡視） | S62: 実施状況（実施日）
B63: メモ | D63: =VLOOKUP(A46,'様式D-1-1用'!$A$3:$P$1002,16,0) -> うき・はく離、0.6m×1.0m | M63: メモ | O63: =VLOOKUP(X46,'様式D-1-1用'!$A$3:$P$1002,16,0) -> うき・はく離、0.6m×0.8m
A64: =A23+4 -> 7 | B64: 写真 番号 | C64: 覆工 スパン 番号 | D64: =VLOOKUP(A64,'様式D-1-1用'!$A$3:$P$1002,2,0) -> 1 | M64: 写真 番号 | N64: 覆工 スパン 番号 | O64: =VLOOKUP(X64,'様式D-1-1用'!$A$3:$P$1002,2,0) -> 1 | X64: =X23+4 -> 8
C66: 変状 番号 | D66: =VLOOKUP(A64,'様式D-1-1用'!$A$3:$P$1002,3,0) -> 3 | N66: 変状 番号 | O66: =VLOOKUP(X64,'様式D-1-1用'!$A$3:$P$1002,3,0) -> 4
B68: 変状 部位 | C68: 対象 箇所 | D68: =VLOOKUP(A64,'様式D-1-1用'!$A$3:$P$1002,4,0) -> 覆工・坑門 | M68: 変状 部位 | N68: 対象 箇所 | O68: =VLOOKUP(X64,'様式D-1-1用'!$A$3:$P$1002,4,0) -> 覆工・坑門
C70: 部位 区分 | D70: =VLOOKUP(A64,'様式D-1-1用'!$A$3:$P$1002,5,0) -> アーチ（右側） | N70: 部位 区分 | O70: =VLOOKUP(X64,'様式D-1-1用'!$A$3:$P$1002,5,0) -> アーチ（右側）
B72: 変状区分 | D72: =VLOOKUP(A64,'様式D-1-1用'!$A$3:$P$1002,6,0) -> 材質劣化 | M72: 変状区分 | O72: =VLOOKUP(X64,'様式D-1-1用'!$A$3:$P$1002,6,0) -> 材質劣化
B73: 変状種類 | D73: =VLOOKUP(A64,'様式D-1-1用'!$A$3:$P$1002,7,0) -> うき・はく離 | M73: 変状種類 | O73: =VLOOKUP(X64,'様式D-1-1用'!$A$3:$P$1002,7,0) -> うき・はく離
B74: 対策 区分 | C74: 応急措置前 | E74: =VLOOKUP(A64,'様式D-1-1用'!$A$3:$P$1002,8,0) -> 0 | M74: 対策 区分 | N74: 応急措置前 | P74: =VLOOKUP(X64,'様式D-1-1用'!$A$3:$P$1002,8,0) -> 0
C75: 応急措置後 | E75: =VLOOKUP(A64,'様式D-1-1用'!$A$3:$P$1002,9,0) -> Ⅱa | N75: 応急措置後 | P75: =VLOOKUP(X64,'様式D-1-1用'!$A$3:$P$1002,9,0) -> Ⅱa
B76: 健全性 | D76: =VLOOKUP(A64,'様式D-1-1用'!$A$3:$P$1002,11,0) -> Ⅱ | M76: 健全性 | O76: =VLOOKUP(X64,'様式D-1-1用'!$A$3:$P$1002,11,0) -> Ⅱ
B77: 変状の発生範囲の規模 | E77: =VLOOKUP(A64,'様式D-1-1用'!$A$3:$P$1002,12,0) -> 1.4m×0.8m | M77: 変状の発生範囲の規模 | P77: =VLOOKUP(X64,'様式D-1-1用'!$A$3:$P$1002,12,0) -> 1.5m×1.5m
B78: 前回定期点検時の状態 | E78: =VLOOKUP(A64,'様式D-1-1用'!$A$3:$P$1002,13,0) -> 1.4m×0.6m、過年度写1-6 | M78: 前回定期点検時の状態 | P78: =VLOOKUP(X64,'様式D-1-1用'!$A$3:$P$1002,13,0) -> うき(一部はく落) 1.5m×3.2m、過年度写1-7
B79: 調査方針 | E79: =VLOOKUP(A64,'様式D-1-1用'!$A$3:$P$1002,14,0) -> － | M79: 調査方針 | P79: =VLOOKUP(X64,'様式D-1-1用'!$A$3:$P$1002,14,0) -> －
B80: 対策履歴 | E80: =VLOOKUP(A64,'様式D-1-1用'!$A$3:$P$1002,15,0) -> 監視（日常巡視） | H80: 実施状況（実施日） | M80: 対策履歴 | P80: =VLOOKUP(X64,'様式D-1-1用'!$A$3:$P$1002,15,0) -> 監視（日常巡視） | S80: 実施状況（実施日）
B81: メモ | D81: =VLOOKUP(A64,'様式D-1-1用'!$A$3:$P$1002,16,0) -> うき・はく離、1.4m×0.8m | M81: メモ | O81: =VLOOKUP(X64,'様式D-1-1用'!$A$3:$P$1002,16,0) -> うき・はく離、1.5m×1.5m
C82: ※ 健全性の判定区分Ⅱ～Ⅳについて添付すること。また、点検前に実施 された措置によりⅠと判定された箇所も添付すること。 | N82: ※ 変状の発生範囲の規模とは、対策を行う際に参考となる変状の長さや面積をいう。
N83: ※ 応急措置を実施しないで判定した変状の対策区分は、対策区分の応急措置後の欄に記入すること。
C84: ※ たたき落としを実施した場合は、実施後の写真を添付すること。 | N84: ※ 変状の発生範囲の規模は、面積・寸法を記載すること。
C85: ※ 画像データは100kb程度とする。 | N85: (ひび割れ幅のみmmとし、その他をm表記とする)
C86: ※ 変状数に準じてシートを追加すること。（１シートに１ページとすること。） | N86: ※ 構造用鋼材以外の異物に伴ううき・はく離については、メモ欄に異物の概要を記入すること。
A87: =A46+4 -> 9 | B87: 写真 番号 | C87: 覆工 スパン 番号 | D87: =VLOOKUP(A87,'様式D-1-1用'!$A$3:$P$1002,2,0) -> 1 | M87: 写真 番号 | N87: 覆工 スパン 番号 | O87: =VLOOKUP(X87,'様式D-1-1用'!$A$3:$P$1002,2,0) -> 1 | X87: =X46+4 -> 10
C89: 変状 番号 | D89: =VLOOKUP(A87,'様式D-1-1用'!$A$3:$P$1002,3,0) -> 5 | N89: 変状 番号 | O89: =VLOOKUP(X87,'様式D-1-1用'!$A$3:$P$1002,3,0) -> 6
B91: 変状 部位 | C91: 対象 箇所 | D91: =VLOOKUP(A87,'様式D-1-1用'!$A$3:$P$1002,4,0) -> 覆工・坑門 | M91: 変状 部位 | N91: 対象 箇所 | O91: =VLOOKUP(X87,'様式D-1-1用'!$A$3:$P$1002,4,0) -> 覆工・坑門
C93: 部位 区分 | D93: =VLOOKUP(A87,'様式D-1-1用'!$A$3:$P$1002,5,0) -> アーチ（右側） | N93: 部位 区分 | O93: =VLOOKUP(X87,'様式D-1-1用'!$A$3:$P$1002,5,0) -> アーチ（右側）
B95: 変状区分 | D95: =VLOOKUP(A87,'様式D-1-1用'!$A$3:$P$1002,6,0) -> 材質劣化 | M95: 変状区分 | O95: =VLOOKUP(X87,'様式D-1-1用'!$A$3:$P$1002,6,0) -> 材質劣化
B96: 変状種類 | D96: =VLOOKUP(A87,'様式D-1-1用'!$A$3:$P$1002,7,0) -> うき・はく離 | M96: 変状種類 | O96: =VLOOKUP(X87,'様式D-1-1用'!$A$3:$P$1002,7,0) -> うき・はく離
B97: 対策 区分 | C97: 応急措置前 | E97: =VLOOKUP(A87,'様式D-1-1用'!$A$3:$P$1002,8,0) -> 0 | M97: 対策 区分 | N97: 応急措置前 | P97: =VLOOKUP(X87,'様式D-1-1用'!$A$3:$P$1002,8,0) -> 0
C98: 応急措置後 | E98: =VLOOKUP(A87,'様式D-1-1用'!$A$3:$P$1002,9,0) -> Ⅱa | N98: 応急措置後 | P98: =VLOOKUP(X87,'様式D-1-1用'!$A$3:$P$1002,9,0) -> Ⅱa
B99: 健全性 | D99: =VLOOKUP(A87,'様式D-1-1用'!$A$3:$P$1002,11,0) -> Ⅱ | M99: 健全性 | O99: =VLOOKUP(X87,'様式D-1-1用'!$A$3:$P$1002,11,0) -> Ⅱ
B100: 変状の発生範囲の規模 | E100: =VLOOKUP(A87,'様式D-1-1用'!$A$3:$P$1002,12,0) -> 0.3m×0.4m | M100: 変状の発生範囲の規模 | P100: =VLOOKUP(X87,'様式D-1-1用'!$A$3:$P$1002,12,0) -> 0.2m×0.2m
B101: 前回定期点検時の状態 | E101: =VLOOKUP(A87,'様式D-1-1用'!$A$3:$P$1002,13,0) -> 0.4m×0.5m、過年度写1-8 | M101: 前回定期点検時の状態 | P101: =VLOOKUP(X87,'様式D-1-1用'!$A$3:$P$1002,13,0) -> 0.2m×0.3m、過年度写1-9
B102: 調査方針 | E102: =VLOOKUP(A87,'様式D-1-1用'!$A$3:$P$1002,14,0) -> － | M102: 調査方針 | P102: =VLOOKUP(X87,'様式D-1-1用'!$A$3:$P$1002,14,0) -> －
B103: 対策履歴 | E103: =VLOOKUP(A87,'様式D-1-1用'!$A$3:$P$1002,15,0) -> 監視（日常巡視） | H103: 実施状況（実施日） | M103: 対策履歴 | P103: =VLOOKUP(X87,'様式D-1-1用'!$A$3:$P$1002,15,0) -> 監視（日常巡視） | S103: 実施状況（実施日）
B104: メモ | D104: =VLOOKUP(A87,'様式D-1-1用'!$A$3:$P$1002,16,0) -> うき・はく離、0.3m×0.4m | M104: メモ | O104: =VLOOKUP(X87,'様式D-1-1用'!$A$3:$P$1002,16,0) -> うき・はく離、0.2m×0.2m
A105: =A64+4 -> 11 | B105: 写真 番号 | C105: 覆工 スパン 番号 | D105: =VLOOKUP(A105,'様式D-1-1用'!$A$3:$P$1002,2,0) -> 1 | M105: 写真 番号 | N105: 覆工 スパン 番号 | O105: =VLOOKUP(X105,'様式D-1-1用'!$A$3:$P$1002,2,0) -> 1 | X105: =X64+4 -> 12
C107: 変状 番号 | D107: =VLOOKUP(A105,'様式D-1-1用'!$A$3:$P$1002,3,0) -> 7 | N107: 変状 番号 | O107: =VLOOKUP(X105,'様式D-1-1用'!$A$3:$P$1002,3,0) -> 8
B109: 変状 部位 | C109: 対象 箇所 | D109: =VLOOKUP(A105,'様式D-1-1用'!$A$3:$P$1002,4,0) -> 覆工・坑門 | M109: 変状 部位 | N109: 対象 箇所 | O109: =VLOOKUP(X105,'様式D-1-1用'!$A$3:$P$1002,4,0) -> 覆工・坑門
C111: 部位 区分 | D111: =VLOOKUP(A105,'様式D-1-1用'!$A$3:$P$1002,5,0) -> アーチ（右側） | N111: 部位 区分 | O111: =VLOOKUP(X105,'様式D-1-1用'!$A$3:$P$1002,5,0) -> アーチ（右側）
B113: 変状区分 | D113: =VLOOKUP(A105,'様式D-1-1用'!$A$3:$P$1002,6,0) -> 材質劣化 | M113: 変状区分 | O113: =VLOOKUP(X105,'様式D-1-1用'!$A$3:$P$1002,6,0) -> 漏水
B114: 変状種類 | D114: =VLOOKUP(A105,'様式D-1-1用'!$A$3:$P$1002,7,0) -> うき・はく離 | M114: 変状種類 | O114: =VLOOKUP(X105,'様式D-1-1用'!$A$3:$P$1002,7,0) -> 漏水
B115: 対策 区分 | C115: 応急措置前 | E115: =VLOOKUP(A105,'様式D-1-1用'!$A$3:$P$1002,8,0) -> 0 | M115: 対策 区分 | N115: 応急措置前 | P115: =VLOOKUP(X105,'様式D-1-1用'!$A$3:$P$1002,8,0) -> 0
C116: 応急措置後 | E116: =VLOOKUP(A105,'様式D-1-1用'!$A$3:$P$1002,9,0) -> Ⅱa | N116: 応急措置後 | P116: =VLOOKUP(X105,'様式D-1-1用'!$A$3:$P$1002,9,0) -> Ⅱa
B117: 健全性 | D117: =VLOOKUP(A105,'様式D-1-1用'!$A$3:$P$1002,11,0) -> Ⅱ | M117: 健全性 | O117: =VLOOKUP(X105,'様式D-1-1用'!$A$3:$P$1002,11,0) -> Ⅱ
B118: 変状の発生範囲の規模 | E118: =VLOOKUP(A105,'様式D-1-1用'!$A$3:$P$1002,12,0) -> 0.5m×0.2m | M118: 変状の発生範囲の規模 | P118: =VLOOKUP(X105,'様式D-1-1用'!$A$3:$P$1002,12,0) -> 0.1m×7.5m 滴水
B119: 前回定期点検時の状態 | E119: =VLOOKUP(A105,'様式D-1-1用'!$A$3:$P$1002,13,0) -> － | M119: 前回定期点検時の状態 | P119: =VLOOKUP(X105,'様式D-1-1用'!$A$3:$P$1002,13,0) -> －
B120: 調査方針 | E120: =VLOOKUP(A105,'様式D-1-1用'!$A$3:$P$1002,14,0) -> － | M120: 調査方針 | P120: =VLOOKUP(X105,'様式D-1-1用'!$A$3:$P$1002,14,0) -> －
B121: 対策履歴 | E121: =VLOOKUP(A105,'様式D-1-1用'!$A$3:$P$1002,15,0) -> なし | H121: 実施状況（実施日） | M121: 対策履歴 | P121: =VLOOKUP(X105,'様式D-1-1用'!$A$3:$P$1002,15,0) -> なし | S121: 実施状況（実施日）
B122: メモ | D122: =VLOOKUP(A105,'様式D-1-1用'!$A$3:$P$1002,16,0) -> うき・はく離、0.5m×0.2m | M122: メモ | O122: =VLOOKUP(X105,'様式D-1-1用'!$A$3:$P$1002,16,0) -> 漏水、0.1m×7.5m 滴水
C123: ※ 健全性の判定区分Ⅱ～Ⅳについて添付すること。また、点検前に実施 された措置によりⅠと判定された箇所も添付すること。 | N123: ※ 変状の発生範囲の規模とは、対策を行う際に参考となる変状の長さや面積をいう。
N124: ※ 応急措置を実施しないで判定した変状の対策区分は、対策区分の応急措置後の欄に記入すること。
C125: ※ たたき落としを実施した場合は、実施後の写真を添付すること。 | N125: ※ 変状の発生範囲の規模は、面積・寸法を記載すること。
...

Sheet 様式D-1-2
B2: ■定期点検記録様式 異常写真台帳（トンネル内附属物等の取付状態） 【様式D-1-2】
B3: フリガナ | E3: ='様式A-1'!$D$3 -> カワジリトンネル | I3: 路 線 名 | L3: ='様式A-1'!$J$3 -> 一般国道187号線 | O3: 定期点検業者 | R3: =様式B!$K$5 -> 株式会社ニュージェック | U3: 定期点検年月日 | W3: =様式B!$Q$5 -> 44876
B4: 名 称 | E4: ='様式A-1'!$D$4 -> 川尻トンネル | I4: 管理者名 | L4: ='様式A-1'!$R$3 -> 山口県岩国土木建築事務所 | O4: 定期点検者名 | R4: =様式B!$K$6 -> 石村勝伸
B5: 覆工スパン番号 | E5: =VLOOKUP($Z5,'様式D-1-2用'!$A$3:$O$1002,2,0) -> 0 | F5: 異常番号 | I5: =VLOOKUP($Z5,'様式D-1-2用'!$A$3:$O$1002,3,0) | J5: 覆工スパン番号 | M5: =VLOOKUP($Z6,'様式D-1-2用'!$A$3:$O$1002,2,0) -> 0 | N5: 異常番号 | Q5: =VLOOKUP($Z6,'様式D-1-2用'!$A$3:$O$1002,3,0) | R5: 覆工スパン番号 | U5: =VLOOKUP($Z7,'様式D-1-2用'!$A$3:$O$1002,2,0) -> 0 | V5: 異常番号 | Y5: =VLOOKUP($Z7,'様式D-1-2用'!$A$3:$O$1002,3,0) | Z5: 1
B6: 対象箇所 | D6: =VLOOKUP($Z5,'様式D-1-2用'!$A$3:$O$1002,4,0) -> 0 | E6: =VLOOKUP($Z5,'様式D-1-2用'!$A$3:$O$1002,5,0) -> 0 | G6: 部位区分 | I6: =VLOOKUP($Z5,'様式D-1-2用'!$A$3:$O$1002,6,0) -> 0 | J6: 対象箇所 | L6: =VLOOKUP($Z6,'様式D-1-2用'!$A$3:$O$1002,4,0) -> 0 | M6: =VLOOKUP($Z6,'様式D-1-2用'!$A$3:$O$1002,5,0) -> 0 | O6: 部位区分 | Q6: =VLOOKUP($Z6,'様式D-1-2用'!$A$3:$O$1002,6,0) -> 0 | R6: 対象箇所 | T6: =VLOOKUP($Z7,'様式D-1-2用'!$A$3:$O$1002,4,0) -> 0 | U6: =VLOOKUP($Z7,'様式D-1-2用'!$A$3:$O$1002,5,0) -> 0 | W6: 部位区分 | Y6: =VLOOKUP($Z7,'様式D-1-2用'!$A$3:$O$1002,6,0) -> 0 | Z6: 2
B7: 異常の種類 | D7: =VLOOKUP($Z5,'様式D-1-2用'!$A$3:$O$1002,7,0) -> 0 | J7: 異常の種類 | L7: =VLOOKUP($Z6,'様式D-1-2用'!$A$3:$O$1002,7,0) -> 0 | R7: 異常の種類 | T7: =VLOOKUP($Z7,'様式D-1-2用'!$A$3:$O$1002,7,0) -> 0 | Z7: 3
B8: 異常判定区分 | D8: =VLOOKUP($Z5,'様式D-1-2用'!$A$3:$O$1002,11,0) -> 0 | E8: メモ | F8: =VLOOKUP($Z5,'様式D-1-2用'!$A$3:$O$1002,15,0) -> 0 | J8: 異常判定区分 | L8: =VLOOKUP($Z6,'様式D-1-2用'!$A$3:$O$1002,11,0) -> 0 | M8: メモ | N8: =VLOOKUP($Z6,'様式D-1-2用'!$A$3:$O$1002,15,0) -> 0 | R8: 異常判定区分 | T8: =VLOOKUP($Z7,'様式D-1-2用'!$A$3:$O$1002,11,0) -> 0 | U8: メモ | V8: =VLOOKUP($Z7,'様式D-1-2用'!$A$3:$O$1002,15,0) -> 0
B22: 覆工スパン番号 | E22: =VLOOKUP($Z22,'様式D-1-2用'!$A$3:$O$1002,2,0) -> 0 | F22: 異常番号 | I22: =VLOOKUP($Z22,'様式D-1-2用'!$A$3:$O$1002,3,0) | J22: 覆工スパン番号 | M22: =VLOOKUP($Z23,'様式D-1-2用'!$A$3:$O$1002,2,0) -> 0 | N22: 異常番号 | Q22: =VLOOKUP($Z23,'様式D-1-2用'!$A$3:$O$1002,3,0) | R22: 覆工スパン番号 | U22: =VLOOKUP($Z24,'様式D-1-2用'!$A$3:$O$1002,2,0) -> 0 | V22: 異常番号 | Y22: =VLOOKUP($Z24,'様式D-1-2用'!$A$3:$O$1002,3,0) | Z22: =Z5+3 -> 4
B23: 対象箇所 | D23: =VLOOKUP($Z22,'様式D-1-2用'!$A$3:$O$1002,4,0) -> 0 | E23: =VLOOKUP($Z22,'様式D-1-2用'!$A$3:$O$1002,5,0) -> 0 | G23: 部位区分 | I23: =VLOOKUP($Z22,'様式D-1-2用'!$A$3:$O$1002,6,0) -> 0 | J23: 対象箇所 | L23: =VLOOKUP($Z23,'様式D-1-2用'!$A$3:$O$1002,4,0) -> 0 | M23: =VLOOKUP($Z23,'様式D-1-2用'!$A$3:$O$1002,5,0) -> 0 | O23: 部位区分 | Q23: =VLOOKUP($Z23,'様式D-1-2用'!$A$3:$O$1002,6,0) -> 0 | R23: 対象箇所 | T23: =VLOOKUP($Z24,'様式D-1-2用'!$A$3:$O$1002,4,0) -> 0 | U23: =VLOOKUP($Z24,'様式D-1-2用'!$A$3:$O$1002,5,0) -> 0 | W23: 部位区分 | Y23: =VLOOKUP($Z24,'様式D-1-2用'!$A$3:$O$1002,6,0) -> 0 | Z23: =Z6+3 -> 5
B24: 異常の種類 | D24: =VLOOKUP($Z22,'様式D-1-2用'!$A$3:$O$1002,7,0) -> 0 | J24: 異常の種類 | L24: =VLOOKUP($Z23,'様式D-1-2用'!$A$3:$O$1002,7,0) -> 0 | R24: 異常の種類 | T24: =VLOOKUP($Z24,'様式D-1-2用'!$A$3:$O$1002,7,0) -> 0 | Z24: =Z7+3 -> 6
B25: 異常判定区分 | D25: =VLOOKUP($Z22,'様式D-1-2用'!$A$3:$O$1002,11,0) -> 0 | E25: メモ | F25: =VLOOKUP($Z22,'様式D-1-2用'!$A$3:$O$1002,15,0) -> 0 | J25: 異常判定区分 | L25: =VLOOKUP($Z23,'様式D-1-2用'!$A$3:$O$1002,11,0) -> 0 | M25: メモ | N25: =VLOOKUP($Z23,'様式D-1-2用'!$A$3:$O$1002,15,0) -> 0 | R25: 異常判定区分 | T25: =VLOOKUP($Z24,'様式D-1-2用'!$A$3:$O$1002,11,0) -> 0 | U25: メモ | V25: =VLOOKUP($Z24,'様式D-1-2用'!$A$3:$O$1002,15,0) -> 0
B39: 覆工スパン番号 | E39: =VLOOKUP($Z39,'様式D-1-2用'!$A$3:$O$1002,2,0) -> 0 | F39: 異常番号 | I39: =VLOOKUP($Z39,'様式D-1-2用'!$A$3:$O$1002,3,0) | J39: 覆工スパン番号 | M39: =VLOOKUP($Z40,'様式D-1-2用'!$A$3:$O$1002,2,0) -> 0 | N39: 異常番号 | Q39: =VLOOKUP($Z40,'様式D-1-2用'!$A$3:$O$1002,3,0) | R39: 覆工スパン番号 | U39: =VLOOKUP($Z41,'様式D-1-2用'!$A$3:$O$1002,2,0) -> 0 | V39: 異常番号 | Y39: =VLOOKUP($Z41,'様式D-1-2用'!$A$3:$O$1002,3,0) | Z39: =Z22+3 -> 7
B40: 対象箇所 | D40: =VLOOKUP($Z39,'様式D-1-2用'!$A$3:$O$1002,4,0) -> 0 | E40: =VLOOKUP($Z39,'様式D-1-2用'!$A$3:$O$1002,5,0) -> 0 | G40: 部位区分 | I40: =VLOOKUP($Z39,'様式D-1-2用'!$A$3:$O$1002,6,0) -> 0 | J40: 対象箇所 | L40: =VLOOKUP($Z40,'様式D-1-2用'!$A$3:$O$1002,4,0) -> 0 | M40: =VLOOKUP($Z40,'様式D-1-2用'!$A$3:$O$1002,5,0) -> 0 | O40: 部位区分 | Q40: =VLOOKUP($Z40,'様式D-1-2用'!$A$3:$O$1002,6,0) -> 0 | R40: 対象箇所 | T40: =VLOOKUP($Z41,'様式D-1-2用'!$A$3:$O$1002,4,0) -> 0 | U40: =VLOOKUP($Z41,'様式D-1-2用'!$A$3:$O$1002,5,0) -> 0 | W40: 部位区分 | Y40: =VLOOKUP($Z41,'様式D-1-2用'!$A$3:$O$1002,6,0) -> 0 | Z40: =Z23+3 -> 8
B41: 異常の種類 | D41: =VLOOKUP($Z39,'様式D-1-2用'!$A$3:$O$1002,7,0) -> 0 | J41: 異常の種類 | L41: =VLOOKUP($Z40,'様式D-1-2用'!$A$3:$O$1002,7,0) -> 0 | R41: 異常の種類 | T41: =VLOOKUP($Z41,'様式D-1-2用'!$A$3:$O$1002,7,0) -> 0 | Z41: =Z24+3 -> 9
B42: 異常判定区分 | D42: =VLOOKUP($Z39,'様式D-1-2用'!$A$3:$O$1002,11,0) -> 0 | E42: メモ | F42: =VLOOKUP($Z39,'様式D-1-2用'!$A$3:$O$1002,15,0) -> 0 | J42: 異常判定区分 | L42: =VLOOKUP($Z40,'様式D-1-2用'!$A$3:$O$1002,11,0) -> 0 | M42: メモ | N42: =VLOOKUP($Z40,'様式D-1-2用'!$A$3:$O$1002,15,0) -> 0 | R42: 異常判定区分 | T42: =VLOOKUP($Z41,'様式D-1-2用'!$A$3:$O$1002,11,0) -> 0 | U42: メモ | V42: =VLOOKUP($Z41,'様式D-1-2用'!$A$3:$O$1002,15,0) -> 0
D56: ※ 異常判定区分×について記入すること。また、応急措置前に異常判定区分×とした箇所のうち応急措置により○と判定した箇所も記入すること。
D57: ※ 応急措置を実施した場合は、その実施状況が分かる写真を添付すること。
D58: ※ 画像データは100kb程度とする。 | L58: ※ 変状数に準じてシートを追加すること。（１シートに１ページとすること。）

Sheet 様式D-2-1
B3: ■定期点検記録様式 トンネル全体変状展開図 【様式D-2-1】
B4: フリガナ | E4: ='様式A-1'!$D$3 -> カワジリトンネル | J4: 路線名 | M4: ='様式A-1'!$J$3 -> 一般国道187号線 | S4: 定期点検業者 | W4: =様式B!$K$5 -> 株式会社ニュージェック | AC4: 定期点検年月日 | AF4: =様式B!$Q$5 -> 44876
B5: 名 称 | E5: ='様式A-1'!$D$4 -> 川尻トンネル | J5: 管理者名 | M5: ='様式A-1'!$R$3 -> 山口県岩国土木建築事務所 | S5: 定期点検者名 | W5: =様式B!$K$6 -> 石村勝伸
B6: トンネル変状展開図 | C6: トンネル全体変状展開図
V18: 注１：本展開図は、見下げた状態で記載すること。 注２：覆工スパン番号は横断目地毎（矢板工法の場合は上半アーチ の横断目地毎)に設定すること。 注３：横断目地の変状は前の覆工スパン番号で計上すること。 注４：１枚に収まらない場合は、複数枚に分けて作成すること。
B20: トンネル変状展開図 | C20: トンネル全体変状展開図
V32: 注１：本展開図は、見下げた状態で記載すること。 注２：覆工スパン番号は横断目地毎（矢板工法の場合は上半アーチ の横断目地毎)に設定すること。 注３：横断目地の変状は前の覆工スパン番号で計上すること。 注４：１枚に収まらない場合は、複数枚に分けて作成すること。

Sheet 様式D-2-1´
B3: ■定期点検記録様式 トンネル全体変状展開図（機器の活用時） 【様式D-2-1’】
B4: フリガナ | E4: ='様式A-1'!$D$3 -> カワジリトンネル | J4: 路線名 | M4: ='様式A-1'!$J$3 -> 一般国道187号線 | S4: 定期点検業者 | W4: =様式B!$K$5 -> 株式会社ニュージェック | AC4: 定期点検年月日 | AF4: =様式B!$Q$5 -> 44876
B5: 名 称 | E5: ='様式A-1'!$D$4 -> 川尻トンネル | J5: 管理者名 | M5: ='様式A-1'!$R$3 -> 山口県岩国土木建築事務所 | S5: 定期点検者名 | W5: =様式B!$K$6 -> 石村勝伸
B6: トンネル変状展開図 | C6: トンネル全体変状展開図
S18: 注１：本展開図は、見下げた状態で記載すること。 注２：覆工スパン番号は横断目地毎（矢板工法の場合は上半アーチの横断目地毎)に 設定すること。 注３：横断目地の変状は前の覆工スパン番号で計上すること。 注４：１枚に収まらない場合は、複数枚に分けて作成すること。 注５：覆工写真の画像サイズは500kb程度とすること。
B20: トンネル変状展開図 | C20: トンネル全体変状展開図

Sheet 様式D-3_S(PS)
AU1: 様式E-1リンク用→ | AV1: 覆工ｽﾊﾟﾝ 番号 | AW1: ｽﾊﾟﾝ 長 (m) | AX1: 変状数集計 | BS1: 覆工スパン毎の 健全性の診断 | BW1: 変状規模集計
AX2: 対策区分毎の変状数 | BJ2: 健全性の判定区分毎の変状数 | BW2: 覆工スパン長(m) | CA2: 対策区分毎の変状の発生範囲の規模(㎡）
B3: ■定期点検記録様式 覆工スパン別変状詳細展開図 【様式D-3】 | AX3: 外力 | BB3: 材質劣化 | BF3: 漏水 | BJ3: 外力 | BM3: 材質劣化 | BP3: 漏水 | BS3: 外力 | BT3: 材質劣化 | BU3: 漏水 | BV3: 健全性 | BW3: 外力※１ | CA3: 材質劣化 | CE3: 漏水
B4: フリガナ | E4: ='様式A-1'!$D$3 -> カワジリトンネル | K4: 路線名 | N4: ='様式A-1'!$J$3 -> 一般国道187号線 | T4: 定期点検業者 | Y4: =様式B!$K$5 -> 株式会社ニュージェック | AG4: 定期点検年月日 | AK4: =様式B!$Q$5 -> 44876 | AX4: Ⅳ | AY4: Ⅲ | AZ4: Ⅱa | BA4: Ⅱb | BB4: Ⅳ | BC4: Ⅲ | BD4: Ⅱa | BE4: Ⅱb | BF4: Ⅳ | BG4: Ⅲ | BH4: Ⅱa | BI4: Ⅱb | BJ4: Ⅳ | BK4: Ⅲ | BL4: Ⅱ | BM4: Ⅳ | BN4: Ⅲ | BO4: Ⅱ | BP4: Ⅳ | BQ4: Ⅲ | BR4: Ⅱ | BW4: Ⅳ | BX4: Ⅲ | BY4: Ⅱa | BZ4: Ⅱb | CA4: Ⅳ | CB4: Ⅲ | CC4: Ⅱa | CD4: Ⅱb | CE4: Ⅳ | CF4: Ⅲ | CG4: Ⅱa | CH4: Ⅱb
B5: 名 称 | E5: ='様式A-1'!$D$4 -> 川尻トンネル | K5: 管理者名 | N5: ='様式A-1'!$R$3 -> 山口県岩国土木建築事務所 | T5: 定期点検者名 | Y5: =様式B!$K$6 -> 石村勝伸 | AV5: =N7 -> PS | AW5: =R7 -> 3.4 | AX5: =+Y32 -> 0 | AY5: =+Z32 -> 0 | AZ5: =+AA32 -> 0 | BA5: =+AB32 -> 0 | BB5: =+AC32 -> 0 | BC5: =+AD32 -> 0 | BD5: =+AE32 -> 4 | BE5: =+AF32 -> 0 | ... BI5: =+AJ32 -> 0 | BJ5: =+Y35 -> 0 | BK5: =+Z35 -> 0 | BL5: =+AA35 -> 0 | BM5: =+AC35 -> 0 | BN5: =+AD35 -> 0 | BO5: =+AE35 -> 4 | BP5: =+AG35 -> 0 | BQ5: =+AH35 -> 0 | BR5: =+AI35 -> 0 | BS5: =+Y36 -> Ⅰ | BT5: =+AC36 -> Ⅱ | BU5: =+AG36 -> Ⅰ | BV5: =+Y37 -> Ⅱ | BW5: =IF(Y32>0,$R$7,"") | BX5: =IF(Z32>0,"",IF(AA32>0,$R$7,"")) | BY5: =IF(Y32+Z32>0,"",IF(AA32>0,$R$7,"")) | BZ5: =IF(Y32+Z32+AA32>0,"",IF(AB32>0,$R$7,"")) | CA5: =+AC31 -> 0 | CB5: =+AD31 -> 0 | CC5: =+AE31 -> 71.15 | CD5: =+AF31 -> 0 | CE5: =+AG31 -> 0 | CF5: =+AH31 -> 0 | CG5: =+AI31 -> 0 | CH5: =+AJ31 -> 0
B6: スパン別変状展開図 | K6: 【健全性判定集計表】
K7: スパン番号 | N7: PS | P7: スパン長 | R7: =IF(N7="","",IFERROR(INDEX('様式A-2'!$C$9:$C$434,MATCH(N7,'様式A-2'!$B$9:$B$434,0)),"")) -> 3.4 | U7: 前回定期点検時の健全性 | W7: 応急措置前の判定 | Y7: 対策区分毎の 変状の有無 | AC7: 対策区分毎の変状の発生範囲の規模(㎡) | AK7: 備考注2 | AS7: =$N$7&"S" -> PSS
K8: 変状番号 | L8: 対象箇所 | N8: 部位区分 | P8: 変状区分 | R8: 変状種類
Y9: 外力注1 | AC9: 材質劣化注1 | AG9: 漏水注1
Y10: Ⅳ | Z10: Ⅲ | AA10: Ⅱa | AB10: Ⅱb | AC10: Ⅳ | AD10: Ⅲ | AE10: Ⅱa | AF10: Ⅱb | AG10: Ⅳ | AH10: Ⅲ | AI10: Ⅱa | AJ10: Ⅱb
K11: =IF(L11="","",AS11) -> 1 | L11: =IFERROR(VLOOKUP($AS$7&$AS11,'様式C-1-1用'!$C$4:$AI$3000,5,0),"") -> 覆工・坑門 | N11: =IFERROR(VLOOKUP($AS$7&$AS11,'様式C-1-1用'!$C$4:$AI$3000,6,0),"") -> 面壁・妻壁等 | P11: =IFERROR(VLOOKUP($AS$7&$AS11,'様式C-1-1用'!$C$4:$AI$3000,7,0),"") -> 材質劣化 | R11: =IFERROR(VLOOKUP($AS$7&$AS11,'様式C-1-1用'!$C$4:$AI$3000,9,0),"") -> うき・はく離 | U11: =IFERROR(VLOOKUP($AS$7&$AS11,'様式C-1-1用'!$C$4:$AI$3000,20,0),"") -> Ⅱ | W11: =IFERROR(VLOOKUP($AS$7&$AS11,'様式C-1-1用'!$C$4:$AI$3000,23,0),"") -> Ⅱ | Y11: =IFERROR(VLOOKUP($AS$7&$AS11,'様式C-1-1用'!$C$4:$CE$3000,58,0),"") -> 0 | Z11: =IFERROR(VLOOKUP($AS$7&$AS11,'様式C-1-1用'!$C$4:$BS$1004,59,0),"") -> 0 | AA11: =IFERROR(VLOOKUP($AS$7&$AS11,'様式C-1-1用'!$C$4:$BS$1004,60,0),"") -> 0 | AB11: =IFERROR(VLOOKUP($AS$7&$AS11,'様式C-1-1用'!$C$4:$BS$1004,61,0),"") -> 0 | AC11: =IFERROR(VLOOKUP($AS$7&$AS11,'様式C-1-1用'!$C$4:$BS$1004,62,0),"") -> 0 | AD11: =IFERROR(VLOOKUP($AS$7&$AS11,'様式C-1-1用'!$C$4:$BS$1003,63,0),"") -> 0 | AE11: =IFERROR(VLOOKUP($AS$7&$AS11,'様式C-1-1用'!$C$4:$BS$1003,64,0),"") -> 4.8 | AF11: =IFERROR(VLOOKUP($AS$7&$AS11,'様式C-1-1用'!$C$4:$BS$1003,65,0),"") -> 0 | AG11: =IFERROR(VLOOKUP($AS$7&$AS11,'様式C-1-1用'!$C$4:$BS$1004,66,0),"") -> 0 | AH11: =IFERROR(VLOOKUP($AS$7&$AS11,'様式C-1-1用'!$C$4:$BS$1004,67,0),"") -> 0 | AI11: =IFERROR(VLOOKUP($AS$7&$AS11,'様式C-1-1用'!$C$4:$BS$1004,68,0),"") -> 0 | AJ11: =IFERROR(VLOOKUP($AS$7&$AS11,'様式C-1-1用'!$C$4:$BS$1004,69,0),"") -> 0 | AK11: =IFERROR(VLOOKUP($AS$7&$AS11,'様式C-1-1用'!$C$4:$AI$1003,17,0),"") | AQ11: =IF(P11="外力",1,IF(P11="材質劣化",2,IF(P11="漏水",3,0))) -> 2 | AS11: 1
K12: =IF(L12="","",AS12) -> 2 | L12: =IFERROR(VLOOKUP($AS$7&$AS12,'様式C-1-1用'!$C$4:$AI$3000,5,0),"") -> 覆工・坑門 | N12: =IFERROR(VLOOKUP($AS$7&$AS12,'様式C-1-1用'!$C$4:$AI$3000,6,0),"") -> 面壁・妻壁等 | P12: =IFERROR(VLOOKUP($AS$7&$AS12,'様式C-1-1用'!$C$4:$AI$3000,7,0),"") -> 材質劣化 | R12: =IFERROR(VLOOKUP($AS$7&$AS12,'様式C-1-1用'!$C$4:$AI$3000,9,0),"") -> うき・はく離 | U12: =IFERROR(VLOOKUP($AS$7&$AS12,'様式C-1-1用'!$C$4:$AI$3000,20,0),"") -> Ⅱ | W12: =IFERROR(VLOOKUP($AS$7&$AS12,'様式C-1-1用'!$C$4:$AI$3000,23,0),"") -> Ⅱ | Y12: =IFERROR(VLOOKUP($AS$7&$AS12,'様式C-1-1用'!$C$4:$CE$3000,58,0),"") -> 0 | Z12: =IFERROR(VLOOKUP($AS$7&$AS12,'様式C-1-1用'!$C$4:$BS$1004,59,0),"") -> 0 | AA12: =IFERROR(VLOOKUP($AS$7&$AS12,'様式C-1-1用'!$C$4:$BS$1004,60,0),"") -> 0 | AB12: =IFERROR(VLOOKUP($AS$7&$AS12,'様式C-1-1用'!$C$4:$BS$1004,61,0),"") -> 0 | AC12: =IFERROR(VLOOKUP($AS$7&$AS12,'様式C-1-1用'!$C$4:$BS$1004,62,0),"") -> 0 | AD12: =IFERROR(VLOOKUP($AS$7&$AS12,'様式C-1-1用'!$C$4:$BS$1003,63,0),"") -> 0 | AE12: =IFERROR(VLOOKUP($AS$7&$AS12,'様式C-1-1用'!$C$4:$BS$1003,64,0),"") -> 32.8 | AF12: =IFERROR(VLOOKUP($AS$7&$AS12,'様式C-1-1用'!$C$4:$BS$1003,65,0),"") -> 0 | AG12: =IFERROR(VLOOKUP($AS$7&$AS12,'様式C-1-1用'!$C$4:$BS$1004,66,0),"") -> 0 | AH12: =IFERROR(VLOOKUP($AS$7&$AS12,'様式C-1-1用'!$C$4:$BS$1004,67,0),"") -> 0 | AI12: =IFERROR(VLOOKUP($AS$7&$AS12,'様式C-1-1用'!$C$4:$BS$1004,68,0),"") -> 0 | AJ12: =IFERROR(VLOOKUP($AS$7&$AS12,'様式C-1-1用'!$C$4:$BS$1004,69,0),"") -> 0 | AK12: =IFERROR(VLOOKUP($AS$7&$AS12,'様式C-1-1用'!$C$4:$AI$1003,17,0),"") | AQ12: =IF(P12="外力",1,IF(P12="材質劣化",2,IF(P12="漏水",3,0))) -> 2 | AS12: =AS11+1 -> 2
K13: =IF(L13="","",AS13) -> 3 | L13: =IFERROR(VLOOKUP($AS$7&$AS13,'様式C-1-1用'!$C$4:$AI$3000,5,0),"") -> 覆工・坑門 | N13: =IFERROR(VLOOKUP($AS$7&$AS13,'様式C-1-1用'!$C$4:$AI$3000,6,0),"") -> 面壁・妻壁等 | P13: =IFERROR(VLOOKUP($AS$7&$AS13,'様式C-1-1用'!$C$4:$AI$3000,7,0),"") -> 材質劣化 | R13: =IFERROR(VLOOKUP($AS$7&$AS13,'様式C-1-1用'!$C$4:$AI$3000,9,0),"") -> うき・はく離 | U13: =IFERROR(VLOOKUP($AS$7&$AS13,'様式C-1-1用'!$C$4:$AI$3000,20,0),"") -> Ⅱ | W13: =IFERROR(VLOOKUP($AS$7&$AS13,'様式C-1-1用'!$C$4:$AI$3000,23,0),"") -> Ⅱ | Y13: =IFERROR(VLOOKUP($AS$7&$AS13,'様式C-1-1用'!$C$4:$CE$3000,58,0),"") -> 0 | Z13: =IFERROR(VLOOKUP($AS$7&$AS13,'様式C-1-1用'!$C$4:$BS$1004,59,0),"") -> 0 | AA13: =IFERROR(VLOOKUP($AS$7&$AS13,'様式C-1-1用'!$C$4:$BS$1004,60,0),"") -> 0 | AB13: =IFERROR(VLOOKUP($AS$7&$AS13,'様式C-1-1用'!$C$4:$BS$1004,61,0),"") -> 0 | AC13: =IFERROR(VLOOKUP($AS$7&$AS13,'様式C-1-1用'!$C$4:$BS$1004,62,0),"") -> 0 | AD13: =IFERROR(VLOOKUP($AS$7&$AS13,'様式C-1-1用'!$C$4:$BS$1003,63,0),"") -> 0 | AE13: =IFERROR(VLOOKUP($AS$7&$AS13,'様式C-1-1用'!$C$4:$BS$1003,64,0),"") -> 32.8 | AF13: =IFERROR(VLOOKUP($AS$7&$AS13,'様式C-1-1用'!$C$4:$BS$1003,65,0),"") -> 0 | AG13: =IFERROR(VLOOKUP($AS$7&$AS13,'様式C-1-1用'!$C$4:$BS$1004,66,0),"") -> 0 | AH13: =IFERROR(VLOOKUP($AS$7&$AS13,'様式C-1-1用'!$C$4:$BS$1004,67,0),"") -> 0 | AI13: =IFERROR(VLOOKUP($AS$7&$AS13,'様式C-1-1用'!$C$4:$BS$1004,68,0),"") -> 0 | AJ13: =IFERROR(VLOOKUP($AS$7&$AS13,'様式C-1-1用'!$C$4:$BS$1004,69,0),"") -> 0 | AK13: =IFERROR(VLOOKUP($AS$7&$AS13,'様式C-1-1用'!$C$4:$AI$1003,17,0),"") | AQ13: =IF(P13="外力",1,IF(P13="材質劣化",2,IF(P13="漏水",3,0))) -> 2 | AS13: =AS12+1 -> 3
K14: =IF(L14="","",AS14) -> 4 | L14: =IFERROR(VLOOKUP($AS$7&$AS14,'様式C-1-1用'!$C$4:$AI$3000,5,0),"") -> 覆工・坑門 | N14: =IFERROR(VLOOKUP($AS$7&$AS14,'様式C-1-1用'!$C$4:$AI$3000,6,0),"") -> アーチ（左側） | P14: =IFERROR(VLOOKUP($AS$7&$AS14,'様式C-1-1用'!$C$4:$AI$3000,7,0),"") -> 材質劣化 | R14: =IFERROR(VLOOKUP($AS$7&$AS14,'様式C-1-1用'!$C$4:$AI$3000,9,0),"") -> うき・はく離 | U14: =IFERROR(VLOOKUP($AS$7&$AS14,'様式C-1-1用'!$C$4:$AI$3000,20,0),"") -> Ⅱ | W14: =IFERROR(VLOOKUP($AS$7&$AS14,'様式C-1-1用'!$C$4:$AI$3000,23,0),"") -> Ⅱ | Y14: =IFERROR(VLOOKUP($AS$7&$AS14,'様式C-1-1用'!$C$4:$CE$3000,58,0),"") -> 0 | Z14: =IFERROR(VLOOKUP($AS$7&$AS14,'様式C-1-1用'!$C$4:$BS$1004,59,0),"") -> 0 | AA14: =IFERROR(VLOOKUP($AS$7&$AS14,'様式C-1-1用'!$C$4:$BS$1004,60,0),"") -> 0 | AB14: =IFERROR(VLOOKUP($AS$7&$AS14,'様式C-1-1用'!$C$4:$BS$1004,61,0),"") -> 0 | AC14: =IFERROR(VLOOKUP($AS$7&$AS14,'様式C-1-1用'!$C$4:$BS$1004,62,0),"") -> 0 | AD14: =IFERROR(VLOOKUP($AS$7&$AS14,'様式C-1-1用'!$C$4:$BS$1003,63,0),"") -> 0 | AE14: =IFERROR(VLOOKUP($AS$7&$AS14,'様式C-1-1用'!$C$4:$BS$1003,64,0),"") -> 0.75 | AF14: =IFERROR(VLOOKUP($AS$7&$AS14,'様式C-1-1用'!$C$4:$BS$1003,65,0),"") -> 0 | AG14: =IFERROR(VLOOKUP($AS$7&$AS14,'様式C-1-1用'!$C$4:$BS$1004,66,0),"") -> 0 | AH14: =IFERROR(VLOOKUP($AS$7&$AS14,'様式C-1-1用'!$C$4:$BS$1004,67,0),"") -> 0 | AI14: =IFERROR(VLOOKUP($AS$7&$AS14,'様式C-1-1用'!$C$4:$BS$1004,68,0),"") -> 0 | AJ14: =IFERROR(VLOOKUP($AS$7&$AS14,'様式C-1-1用'!$C$4:$BS$1004,69,0),"") -> 0 | AK14: =IFERROR(VLOOKUP($AS$7&$AS14,'様式C-1-1用'!$C$4:$AI$1003,17,0),"") | AQ14: =IF(P14="外力",1,IF(P14="材質劣化",2,IF(P14="漏水",3,0))) -> 2 | AS14: =AS13+1 -> 4
K15: =IF(L15="","",AS15) | L15: =IFERROR(VLOOKUP($AS$7&$AS15,'様式C-1-1用'!$C$4:$AI$3000,5,0),"") | N15: =IFERROR(VLOOKUP($AS$7&$AS15,'様式C-1-1用'!$C$4:$AI$3000,6,0),"") | P15: =IFERROR(VLOOKUP($AS$7&$AS15,'様式C-1-1用'!$C$4:$AI$3000,7,0),"") | R15: =IFERROR(VLOOKUP($AS$7&$AS15,'様式C-1-1用'!$C$4:$AI$3000,9,0),"") | U15: =IFERROR(VLOOKUP($AS$7&$AS15,'様式C-1-1用'!$C$4:$AI$3000,20,0),"") | W15: =IFERROR(VLOOKUP($AS$7&$AS15,'様式C-1-1用'!$C$4:$AI$3000,23,0),"") | Y15: =IFERROR(VLOOKUP($AS$7&$AS15,'様式C-1-1用'!$C$4:$CE$3000,58,0),"") | Z15: =IFERROR(VLOOKUP($AS$7&$AS15,'様式C-1-1用'!$C$4:$BS$1004,59,0),"") | AA15: =IFERROR(VLOOKUP($AS$7&$AS15,'様式C-1-1用'!$C$4:$BS$1004,60,0),"") | AB15: =IFERROR(VLOOKUP($AS$7&$AS15,'様式C-1-1用'!$C$4:$BS$1004,61,0),"") | AC15: =IFERROR(VLOOKUP($AS$7&$AS15,'様式C-1-1用'!$C$4:$BS$1004,62,0),"") | AD15: =IFERROR(VLOOKUP($AS$7&$AS15,'様式C-1-1用'!$C$4:$BS$1003,63,0),"") | AE15: =IFERROR(VLOOKUP($AS$7&$AS15,'様式C-1-1用'!$C$4:$BS$1003,64,0),"") | AF15: =IFERROR(VLOOKUP($AS$7&$AS15,'様式C-1-1用'!$C$4:$BS$1003,65,0),"") | AG15: =IFERROR(VLOOKUP($AS$7&$AS15,'様式C-1-1用'!$C$4:$BS$1004,66,0),"") | AH15: =IFERROR(VLOOKUP($AS$7&$AS15,'様式C-1-1用'!$C$4:$BS$1004,67,0),"") | AI15: =IFERROR(VLOOKUP($AS$7&$AS15,'様式C-1-1用'!$C$4:$BS$1004,68,0),"") | AJ15: =IFERROR(VLOOKUP($AS$7&$AS15,'様式C-1-1用'!$C$4:$BS$1004,69,0),"") | AK15: =IFERROR(VLOOKUP($AS$7&$AS15,'様式C-1-1用'!$C$4:$AI$1003,17,0),"") | AQ15: =IF(P15="外力",1,IF(P15="材質劣化",2,IF(P15="漏水",3,0))) -> 0 | AS15: =AS14+1 -> 5
K16: =IF(L16="","",AS16) | L16: =IFERROR(VLOOKUP($AS$7&$AS16,'様式C-1-1用'!$C$4:$AI$3000,5,0),"") | N16: =IFERROR(VLOOKUP($AS$7&$AS16,'様式C-1-1用'!$C$4:$AI$3000,6,0),"") | P16: =IFERROR(VLOOKUP($AS$7&$AS16,'様式C-1-1用'!$C$4:$AI$3000,7,0),"") | R16: =IFERROR(VLOOKUP($AS$7&$AS16,'様式C-1-1用'!$C$4:$AI$3000,9,0),"") | U16: =IFERROR(VLOOKUP($AS$7&$AS16,'様式C-1-1用'!$C$4:$AI$3000,20,0),"") | W16: =IFERROR(VLOOKUP($AS$7&$AS16,'様式C-1-1用'!$C$4:$AI$3000,23,0),"") | Y16: =IFERROR(VLOOKUP($AS$7&$AS16,'様式C-1-1用'!$C$4:$CE$3000,58,0),"") | Z16: =IFERROR(VLOOKUP($AS$7&$AS16,'様式C-1-1用'!$C$4:$BS$1004,59,0),"") | AA16: =IFERROR(VLOOKUP($AS$7&$AS16,'様式C-1-1用'!$C$4:$BS$1004,60,0),"") | AB16: =IFERROR(VLOOKUP($AS$7&$AS16,'様式C-1-1用'!$C$4:$BS$1004,61,0),"") | AC16: =IFERROR(VLOOKUP($AS$7&$AS16,'様式C-1-1用'!$C$4:$BS$1004,62,0),"") | AD16: =IFERROR(VLOOKUP($AS$7&$AS16,'様式C-1-1用'!$C$4:$BS$1003,63,0),"") | AE16: =IFERROR(VLOOKUP($AS$7&$AS16,'様式C-1-1用'!$C$4:$BS$1003,64,0),"") | AF16: =IFERROR(VLOOKUP($AS$7&$AS16,'様式C-1-1用'!$C$4:$BS$1003,65,0),"") | AG16: =IFERROR(VLOOKUP($AS$7&$AS16,'様式C-1-1用'!$C$4:$BS$1004,66,0),"") | AH16: =IFERROR(VLOOKUP($AS$7&$AS16,'様式C-1-1用'!$C$4:$BS$1004,67,0),"") | AI16: =IFERROR(VLOOKUP($AS$7&$AS16,'様式C-1-1用'!$C$4:$BS$1004,68,0),"") | AJ16: =IFERROR(VLOOKUP($AS$7&$AS16,'様式C-1-1用'!$C$4:$BS$1004,69,0),"") | AK16: =IFERROR(VLOOKUP($AS$7&$AS16,'様式C-1-1用'!$C$4:$AI$1003,17,0),"") | AQ16: =IF(P16="外力",1,IF(P16="材質劣化",2,IF(P16="漏水",3,0))) -> 0 | AS16: =AS15+1 -> 6
K17: =IF(L17="","",AS17) | L17: =IFERROR(VLOOKUP($AS$7&$AS17,'様式C-1-1用'!$C$4:$AI$3000,5,0),"") | N17: =IFERROR(VLOOKUP($AS$7&$AS17,'様式C-1-1用'!$C$4:$AI$3000,6,0),"") | P17: =IFERROR(VLOOKUP($AS$7&$AS17,'様式C-1-1用'!$C$4:$AI$3000,7,0),"") | R17: =IFERROR(VLOOKUP($AS$7&$AS17,'様式C-1-1用'!$C$4:$AI$3000,9,0),"") | U17: =IFERROR(VLOOKUP($AS$7&$AS17,'様式C-1-1用'!$C$4:$AI$3000,20,0),"") | W17: =IFERROR(VLOOKUP($AS$7&$AS17,'様式C-1-1用'!$C$4:$AI$3000,23,0),"") | Y17: =IFERROR(VLOOKUP($AS$7&$AS17,'様式C-1-1用'!$C$4:$CE$3000,58,0),"") | Z17: =IFERROR(VLOOKUP($AS$7&$AS17,'様式C-1-1用'!$C$4:$BS$1004,59,0),"") | AA17: =IFERROR(VLOOKUP($AS$7&$AS17,'様式C-1-1用'!$C$4:$BS$1004,60,0),"") | AB17: =IFERROR(VLOOKUP($AS$7&$AS17,'様式C-1-1用'!$C$4:$BS$1004,61,0),"") | AC17: =IFERROR(VLOOKUP($AS$7&$AS17,'様式C-1-1用'!$C$4:$BS$1004,62,0),"") | AD17: =IFERROR(VLOOKUP($AS$7&$AS17,'様式C-1-1用'!$C$4:$BS$1003,63,0),"") | AE17: =IFERROR(VLOOKUP($AS$7&$AS17,'様式C-1-1用'!$C$4:$BS$1003,64,0),"") | AF17: =IFERROR(VLOOKUP($AS$7&$AS17,'様式C-1-1用'!$C$4:$BS$1003,65,0),"") | AG17: =IFERROR(VLOOKUP($AS$7&$AS17,'様式C-1-1用'!$C$4:$BS$1004,66,0),"") | AH17: =IFERROR(VLOOKUP($AS$7&$AS17,'様式C-1-1用'!$C$4:$BS$1004,67,0),"") | AI17: =IFERROR(VLOOKUP($AS$7&$AS17,'様式C-1-1用'!$C$4:$BS$1004,68,0),"") | AJ17: =IFERROR(VLOOKUP($AS$7&$AS17,'様式C-1-1用'!$C$4:$BS$1004,69,0),"") | AK17: =IFERROR(VLOOKUP($AS$7&$AS17,'様式C-1-1用'!$C$4:$AI$1003,17,0),"") | AQ17: =IF(P17="外力",1,IF(P17="材質劣化",2,IF(P17="漏水",3,0))) -> 0 | AS17: =AS16+1 -> 7
K18: =IF(L18="","",AS18) | L18: =IFERROR(VLOOKUP($AS$7&$AS18,'様式C-1-1用'!$C$4:$AI$3000,5,0),"") | N18: =IFERROR(VLOOKUP($AS$7&$AS18,'様式C-1-1用'!$C$4:$AI$3000,6,0),"") | P18: =IFERROR(VLOOKUP($AS$7&$AS18,'様式C-1-1用'!$C$4:$AI$3000,7,0),"") | R18: =IFERROR(VLOOKUP($AS$7&$AS18,'様式C-1-1用'!$C$4:$AI$3000,9,0),"") | U18: =IFERROR(VLOOKUP($AS$7&$AS18,'様式C-1-1用'!$C$4:$AI$3000,20,0),"") | W18: =IFERROR(VLOOKUP($AS$7&$AS18,'様式C-1-1用'!$C$4:$AI$3000,23,0),"") | Y18: =IFERROR(VLOOKUP($AS$7&$AS18,'様式C-1-1用'!$C$4:$CE$3000,58,0),"") | Z18: =IFERROR(VLOOKUP($AS$7&$AS18,'様式C-1-1用'!$C$4:$BS$1004,59,0),"") | AA18: =IFERROR(VLOOKUP($AS$7&$AS18,'様式C-1-1用'!$C$4:$BS$1004,60,0),"") | AB18: =IFERROR(VLOOKUP($AS$7&$AS18,'様式C-1-1用'!$C$4:$BS$1004,61,0),"") | AC18: =IFERROR(VLOOKUP($AS$7&$AS18,'様式C-1-1用'!$C$4:$BS$1004,62,0),"") | AD18: =IFERROR(VLOOKUP($AS$7&$AS18,'様式C-1-1用'!$C$4:$BS$1003,63,0),"") | AE18: =IFERROR(VLOOKUP($AS$7&$AS18,'様式C-1-1用'!$C$4:$BS$1003,64,0),"") | AF18: =IFERROR(VLOOKUP($AS$7&$AS18,'様式C-1-1用'!$C$4:$BS$1003,65,0),"") | AG18: =IFERROR(VLOOKUP($AS$7&$AS18,'様式C-1-1用'!$C$4:$BS$1004,66,0),"") | AH18: =IFERROR(VLOOKUP($AS$7&$AS18,'様式C-1-1用'!$C$4:$BS$1004,67,0),"") | AI18: =IFERROR(VLOOKUP($AS$7&$AS18,'様式C-1-1用'!$C$4:$BS$1004,68,0),"") | AJ18: =IFERROR(VLOOKUP($AS$7&$AS18,'様式C-1-1用'!$C$4:$BS$1004,69,0),"") | AK18: =IFERROR(VLOOKUP($AS$7&$AS18,'様式C-1-1用'!$C$4:$AI$1003,17,0),"") | AQ18: =IF(P18="外力",1,IF(P18="材質劣化",2,IF(P18="漏水",3,0))) -> 0 | AS18: =AS17+1 -> 8
K19: =IF(L19="","",AS19) | L19: =IFERROR(VLOOKUP($AS$7&$AS19,'様式C-1-1用'!$C$4:$AI$3000,5,0),"") | N19: =IFERROR(VLOOKUP($AS$7&$AS19,'様式C-1-1用'!$C$4:$AI$3000,6,0),"") | P19: =IFERROR(VLOOKUP($AS$7&$AS19,'様式C-1-1用'!$C$4:$AI$3000,7,0),"") | R19: =IFERROR(VLOOKUP($AS$7&$AS19,'様式C-1-1用'!$C$4:$AI$3000,9,0),"") | U19: =IFERROR(VLOOKUP($AS$7&$AS19,'様式C-1-1用'!$C$4:$AI$3000,20,0),"") | W19: =IFERROR(VLOOKUP($AS$7&$AS19,'様式C-1-1用'!$C$4:$AI$3000,23,0),"") | Y19: =IFERROR(VLOOKUP($AS$7&$AS19,'様式C-1-1用'!$C$4:$CE$3000,58,0),"") | Z19: =IFERROR(VLOOKUP($AS$7&$AS19,'様式C-1-1用'!$C$4:$BS$1004,59,0),"") | AA19: =IFERROR(VLOOKUP($AS$7&$AS19,'様式C-1-1用'!$C$4:$BS$1004,60,0),"") | AB19: =IFERROR(VLOOKUP($AS$7&$AS19,'様式C-1-1用'!$C$4:$BS$1004,61,0),"") | AC19: =IFERROR(VLOOKUP($AS$7&$AS19,'様式C-1-1用'!$C$4:$BS$1004,62,0),"") | AD19: =IFERROR(VLOOKUP($AS$7&$AS19,'様式C-1-1用'!$C$4:$BS$1003,63,0),"") | AE19: =IFERROR(VLOOKUP($AS$7&$AS19,'様式C-1-1用'!$C$4:$BS$1003,64,0),"") | AF19: =IFERROR(VLOOKUP($AS$7&$AS19,'様式C-1-1用'!$C$4:$BS$1003,65,0),"") | AG19: =IFERROR(VLOOKUP($AS$7&$AS19,'様式C-1-1用'!$C$4:$BS$1004,66,0),"") | AH19: =IFERROR(VLOOKUP($AS$7&$AS19,'様式C-1-1用'!$C$4:$BS$1004,67,0),"") | AI19: =IFERROR(VLOOKUP($AS$7&$AS19,'様式C-1-1用'!$C$4:$BS$1004,68,0),"") | AJ19: =IFERROR(VLOOKUP($AS$7&$AS19,'様式C-1-1用'!$C$4:$BS$1004,69,0),"") | AK19: =IFERROR(VLOOKUP($AS$7&$AS19,'様式C-1-1用'!$C$4:$AI$1003,17,0),"") | AQ19: =IF(P19="外力",1,IF(P19="材質劣化",2,IF(P19="漏水",3,0))) -> 0 | AS19: =AS18+1 -> 9
K20: =IF(L20="","",AS20) | L20: =IFERROR(VLOOKUP($AS$7&$AS20,'様式C-1-1用'!$C$4:$AI$3000,5,0),"") | N20: =IFERROR(VLOOKUP($AS$7&$AS20,'様式C-1-1用'!$C$4:$AI$3000,6,0),"") | P20: =IFERROR(VLOOKUP($AS$7&$AS20,'様式C-1-1用'!$C$4:$AI$3000,7,0),"") | R20: =IFERROR(VLOOKUP($AS$7&$AS20,'様式C-1-1用'!$C$4:$AI$3000,9,0),"") | U20: =IFERROR(VLOOKUP($AS$7&$AS20,'様式C-1-1用'!$C$4:$AI$3000,20,0),"") | W20: =IFERROR(VLOOKUP($AS$7&$AS20,'様式C-1-1用'!$C$4:$AI$3000,23,0),"") | Y20: =IFERROR(VLOOKUP($AS$7&$AS20,'様式C-1-1用'!$C$4:$CE$3000,58,0),"") | Z20: =IFERROR(VLOOKUP($AS$7&$AS20,'様式C-1-1用'!$C$4:$BS$1004,59,0),"") | AA20: =IFERROR(VLOOKUP($AS$7&$AS20,'様式C-1-1用'!$C$4:$BS$1004,60,0),"") | AB20: =IFERROR(VLOOKUP($AS$7&$AS20,'様式C-1-1用'!$C$4:$BS$1004,61,0),"") | AC20: =IFERROR(VLOOKUP($AS$7&$AS20,'様式C-1-1用'!$C$4:$BS$1004,62,0),"") | AD20: =IFERROR(VLOOKUP($AS$7&$AS20,'様式C-1-1用'!$C$4:$BS$1003,63,0),"") | AE20: =IFERROR(VLOOKUP($AS$7&$AS20,'様式C-1-1用'!$C$4:$BS$1003,64,0),"") | AF20: =IFERROR(VLOOKUP($AS$7&$AS20,'様式C-1-1用'!$C$4:$BS$1003,65,0),"") | AG20: =IFERROR(VLOOKUP($AS$7&$AS20,'様式C-1-1用'!$C$4:$BS$1004,66,0),"") | AH20: =IFERROR(VLOOKUP($AS$7&$AS20,'様式C-1-1用'!$C$4:$BS$1004,67,0),"") | AI20: =IFERROR(VLOOKUP($AS$7&$AS20,'様式C-1-1用'!$C$4:$BS$1004,68,0),"") | AJ20: =IFERROR(VLOOKUP($AS$7&$AS20,'様式C-1-1用'!$C$4:$BS$1004,69,0),"") | AK20: =IFERROR(VLOOKUP($AS$7&$AS20,'様式C-1-1用'!$C$4:$AI$1003,17,0),"") | AQ20: =IF(P20="外力",1,IF(P20="材質劣化",2,IF(P20="漏水",3,0))) -> 0 | AS20: =AS19+1 -> 10
K21: =IF(L21="","",AS21) | L21: =IFERROR(VLOOKUP($AS$7&$AS21,'様式C-1-1用'!$C$4:$AI$3000,5,0),"") | N21: =IFERROR(VLOOKUP($AS$7&$AS21,'様式C-1-1用'!$C$4:$AI$3000,6,0),"") | P21: =IFERROR(VLOOKUP($AS$7&$AS21,'様式C-1-1用'!$C$4:$AI$3000,7,0),"") | R21: =IFERROR(VLOOKUP($AS$7&$AS21,'様式C-1-1用'!$C$4:$AI$3000,9,0),"") | U21: =IFERROR(VLOOKUP($AS$7&$AS21,'様式C-1-1用'!$C$4:$AI$3000,20,0),"") | W21: =IFERROR(VLOOKUP($AS$7&$AS21,'様式C-1-1用'!$C$4:$AI$3000,23,0),"") | Y21: =IFERROR(VLOOKUP($AS$7&$AS21,'様式C-1-1用'!$C$4:$CE$3000,58,0),"") | Z21: =IFERROR(VLOOKUP($AS$7&$AS21,'様式C-1-1用'!$C$4:$BS$1004,59,0),"") | AA21: =IFERROR(VLOOKUP($AS$7&$AS21,'様式C-1-1用'!$C$4:$BS$1004,60,0),"") | AB21: =IFERROR(VLOOKUP($AS$7&$AS21,'様式C-1-1用'!$C$4:$BS$1004,61,0),"") | AC21: =IFERROR(VLOOKUP($AS$7&$AS21,'様式C-1-1用'!$C$4:$BS$1004,62,0),"") | AD21: =IFERROR(VLOOKUP($AS$7&$AS21,'様式C-1-1用'!$C$4:$BS$1003,63,0),"") | AE21: =IFERROR(VLOOKUP($AS$7&$AS21,'様式C-1-1用'!$C$4:$BS$1003,64,0),"") | AF21: =IFERROR(VLOOKUP($AS$7&$AS21,'様式C-1-1用'!$C$4:$BS$1003,65,0),"") | AG21: =IFERROR(VLOOKUP($AS$7&$AS21,'様式C-1-1用'!$C$4:$BS$1004,66,0),"") | AH21: =IFERROR(VLOOKUP($AS$7&$AS21,'様式C-1-1用'!$C$4:$BS$1004,67,0),"") | AI21: =IFERROR(VLOOKUP($AS$7&$AS21,'様式C-1-1用'!$C$4:$BS$1004,68,0),"") | AJ21: =IFERROR(VLOOKUP($AS$7&$AS21,'様式C-1-1用'!$C$4:$BS$1004,69,0),"") | AK21: =IFERROR(VLOOKUP($AS$7&$AS21,'様式C-1-1用'!$C$4:$AI$1003,17,0),"") | AQ21: =IF(P21="外力",1,IF(P21="材質劣化",2,IF(P21="漏水",3,0))) -> 0 | AS21: =AS20+1 -> 11
K22: =IF(L22="","",AS22) | L22: =IFERROR(VLOOKUP($AS$7&$AS22,'様式C-1-1用'!$C$4:$AI$3000,5,0),"") | N22: =IFERROR(VLOOKUP($AS$7&$AS22,'様式C-1-1用'!$C$4:$AI$3000,6,0),"") | P22: =IFERROR(VLOOKUP($AS$7&$AS22,'様式C-1-1用'!$C$4:$AI$3000,7,0),"") | R22: =IFERROR(VLOOKUP($AS$7&$AS22,'様式C-1-1用'!$C$4:$AI$3000,9,0),"") | U22: =IFERROR(VLOOKUP($AS$7&$AS22,'様式C-1-1用'!$C$4:$AI$3000,20,0),"") | W22: =IFERROR(VLOOKUP($AS$7&$AS22,'様式C-1-1用'!$C$4:$AI$3000,23,0),"") | Y22: =IFERROR(VLOOKUP($AS$7&$AS22,'様式C-1-1用'!$C$4:$CE$3000,58,0),"") | Z22: =IFERROR(VLOOKUP($AS$7&$AS22,'様式C-1-1用'!$C$4:$BS$1004,59,0),"") | AA22: =IFERROR(VLOOKUP($AS$7&$AS22,'様式C-1-1用'!$C$4:$BS$1004,60,0),"") | AB22: =IFERROR(VLOOKUP($AS$7&$AS22,'様式C-1-1用'!$C$4:$BS$1004,61,0),"") | AC22: =IFERROR(VLOOKUP($AS$7&$AS22,'様式C-1-1用'!$C$4:$BS$1004,62,0),"") | AD22: =IFERROR(VLOOKUP($AS$7&$AS22,'様式C-1-1用'!$C$4:$BS$1003,63,0),"") | AE22: =IFERROR(VLOOKUP($AS$7&$AS22,'様式C-1-1用'!$C$4:$BS$1003,64,0),"") | AF22: =IFERROR(VLOOKUP($AS$7&$AS22,'様式C-1-1用'!$C$4:$BS$1003,65,0),"") | AG22: =IFERROR(VLOOKUP($AS$7&$AS22,'様式C-1-1用'!$C$4:$BS$1004,66,0),"") | AH22: =IFERROR(VLOOKUP($AS$7&$AS22,'様式C-1-1用'!$C$4:$BS$1004,67,0),"") | AI22: =IFERROR(VLOOKUP($AS$7&$AS22,'様式C-1-1用'!$C$4:$BS$1004,68,0),"") | AJ22: =IFERROR(VLOOKUP($AS$7&$AS22,'様式C-1-1用'!$C$4:$BS$1004,69,0),"") | AK22: =IFERROR(VLOOKUP($AS$7&$AS22,'様式C-1-1用'!$C$4:$AI$1003,17,0),"") | AQ22: =IF(P22="外力",1,IF(P22="材質劣化",2,IF(P22="漏水",3,0))) -> 0 | AS22: =AS21+1 -> 12
K23: =IF(L23="","",AS23) | L23: =IFERROR(VLOOKUP($AS$7&$AS23,'様式C-1-1用'!$C$4:$AI$3000,5,0),"") | N23: =IFERROR(VLOOKUP($AS$7&$AS23,'様式C-1-1用'!$C$4:$AI$3000,6,0),"") | P23: =IFERROR(VLOOKUP($AS$7&$AS23,'様式C-1-1用'!$C$4:$AI$3000,7,0),"") | R23: =IFERROR(VLOOKUP($AS$7&$AS23,'様式C-1-1用'!$C$4:$AI$3000,9,0),"") | U23: =IFERROR(VLOOKUP($AS$7&$AS23,'様式C-1-1用'!$C$4:$AI$3000,20,0),"") | W23: =IFERROR(VLOOKUP($AS$7&$AS23,'様式C-1-1用'!$C$4:$AI$3000,23,0),"") | Y23: =IFERROR(VLOOKUP($AS$7&$AS23,'様式C-1-1用'!$C$4:$CE$3000,58,0),"") | Z23: =IFERROR(VLOOKUP($AS$7&$AS23,'様式C-1-1用'!$C$4:$BS$1004,59,0),"") | AA23: =IFERROR(VLOOKUP($AS$7&$AS23,'様式C-1-1用'!$C$4:$BS$1004,60,0),"") | AB23: =IFERROR(VLOOKUP($AS$7&$AS23,'様式C-1-1用'!$C$4:$BS$1004,61,0),"") | AC23: =IFERROR(VLOOKUP($AS$7&$AS23,'様式C-1-1用'!$C$4:$BS$1004,62,0),"") | AD23: =IFERROR(VLOOKUP($AS$7&$AS23,'様式C-1-1用'!$C$4:$BS$1003,63,0),"") | AE23: =IFERROR(VLOOKUP($AS$7&$AS23,'様式C-1-1用'!$C$4:$BS$1003,64,0),"") | AF23: =IFERROR(VLOOKUP($AS$7&$AS23,'様式C-1-1用'!$C$4:$BS$1003,65,0),"") | AG23: =IFERROR(VLOOKUP($AS$7&$AS23,'様式C-1-1用'!$C$4:$BS$1004,66,0),"") | AH23: =IFERROR(VLOOKUP($AS$7&$AS23,'様式C-1-1用'!$C$4:$BS$1004,67,0),"") | AI23: =IFERROR(VLOOKUP($AS$7&$AS23,'様式C-1-1用'!$C$4:$BS$1004,68,0),"") | AJ23: =IFERROR(VLOOKUP($AS$7&$AS23,'様式C-1-1用'!$C$4:$BS$1004,69,0),"") | AK23: =IFERROR(VLOOKUP($AS$7&$AS23,'様式C-1-1用'!$C$4:$AI$1003,17,0),"") | AQ23: =IF(P23="外力",1,IF(P23="材質劣化",2,IF(P23="漏水",3,0))) -> 0 | AS23: =AS22+1 -> 13
... K30: =IF(L30="","",AS30) | L30: =IFERROR(VLOOKUP($AS$7&$AS30,'様式C-1-1用'!$C$4:$AI$3000,5,0),"") | N30: =IFERROR(VLOOKUP($AS$7&$AS30,'様式C-1-1用'!$C$4:$AI$3000,6,0),"") | P30: =IFERROR(VLOOKUP($AS$7&$AS30,'様式C-1-1用'!$C$4:$AI$3000,7,0),"") | R30: =IFERROR(VLOOKUP($AS$7&$AS30,'様式C-1-1用'!$C$4:$AI$3000,9,0),"") | U30: =IFERROR(VLOOKUP($AS$7&$AS30,'様式C-1-1用'!$C$4:$AI$3000,20,0),"") | W30: =IFERROR(VLOOKUP($AS$7&$AS30,'様式C-1-1用'!$C$4:$AI$3000,23,0),"") | Y30: =IFERROR(VLOOKUP($AS$7&$AS30,'様式C-1-1用'!$C$4:$CE$3000,58,0),"") | Z30: =IFERROR(VLOOKUP($AS$7&$AS30,'様式C-1-1用'!$C$4:$BS$1004,59,0),"") | AA30: =IFERROR(VLOOKUP($AS$7&$AS30,'様式C-1-1用'!$C$4:$BS$1004,60,0),"") | AB30: =IFERROR(VLOOKUP($AS$7&$AS30,'様式C-1-1用'!$C$4:$BS$1004,61,0),"") | AC30: =IFERROR(VLOOKUP($AS$7&$AS30,'様式C-1-1用'!$C$4:$BS$1004,62,0),"") | AD30: =IFERROR(VLOOKUP($AS$7&$AS30,'様式C-1-1用'!$C$4:$BS$1003,63,0),"") | AE30: =IFERROR(VLOOKUP($AS$7&$AS30,'様式C-1-1用'!$C$4:$BS$1003,64,0),"") | AF30: =IFERROR(VLOOKUP($AS$7&$AS30,'様式C-1-1用'!$C$4:$BS$1003,65,0),"") | AG30: =IFERROR(VLOOKUP($AS$7&$AS30,'様式C-1-1用'!$C$4:$BS$1004,66,0),"") | AH30: =IFERROR(VLOOKUP($AS$7&$AS30,'様式C-1-1用'!$C$4:$BS$1004,67,0),"") | AI30: =IFERROR(VLOOKUP($AS$7&$AS30,'様式C-1-1用'!$C$4:$BS$1004,68,0),"") | AJ30: =IFERROR(VLOOKUP($AS$7&$AS30,'様式C-1-1用'!$C$4:$BS$1004,69,0),"") | AK30: =IFERROR(VLOOKUP($AS$7&$AS30,'様式C-1-1用'!$C$4:$AI$1003,17,0),"") | AQ30: =IF(P30="外力",1,IF(P30="材質劣化",2,IF(P30="漏水",3,0))) -> 0 | AS30: =AS29+1 -> 20
K31: 集計 ・ 判定 ・ 診断 | L31: 変状の発生規模合計(㎡) | Y31: － | AC31: =SUM(AC11:AC30) -> 0 | AD31: =SUM(AD11:AD30) -> 0 | AE31: =SUM(AE11:AE30) -> 71.15 | AF31: =SUM(AF11:AF30) -> 0 | AG31: =SUM(AG11:AG30) -> 0 | AH31: =SUM(AH11:AH30) -> 0 | AI31: =SUM(AI11:AI30) -> 0 | AJ31: =SUM(AJ11:AJ30) -> 0 | AK31: 計
L32: 対策区分の 判定結果 | O32: 判定区分毎の変状数 | Y32: =COUNTIF(Y11:Y30,"〇") -> 0 | Z32: =COUNTIF(Z11:Z30,"〇") -> 0 | AA32: =COUNTIF(AA11:AA30,"〇") -> 0 | AB32: =COUNTIF(AB11:AB30,"〇") -> 0 | AC32: =IF($N7="","",COUNTIFS('様式C-1-1用'!$D$4:$D$1019,$N7,'様式C-1-1用'!$I$4:$I$1019,"材質劣化",'様式C-1-1用'!$X$4:$X$1019,$AC10)) -> 0 | AD32: =IF($N7="","",COUNTIFS('様式C-1-1用'!$D$4:$D$1019,$N7,'様式C-1-1用'!$I$4:$I$1019,"材質劣化",'様式C-1-1用'!$X$4:$X$1019,$AD10)) -> 0 | AE32: =IF($N7="","",COUNTIFS('様式C-1-1用'!$D$4:$D$1019,$N7,'様式C-1-1用'!$I$4:$I$1019,"材質劣化",'様式C-1-1用'!$X$4:$X$1019,$AE10)) -> 4 | AF32: =IF($N7="","",COUNTIFS('様式C-1-1用'!$D$4:$D$1019,$N7,'様式C-1-1用'!$I$4:$I$1019,"材質劣化",'様式C-1-1用'!$X$4:$X$1019,$AF10)) -> 0 | AG32: =IF($N7="","",COUNTIFS('様式C-1-1用'!$D$4:$D$1019,$N7,'様式C-1-1用'!$I$4:$I$1019,"漏水",'様式C-1-1用'!$X$4:$X$1019,$AG10)) -> 0 | AH32: =IF($N7="","",COUNTIFS('様式C-1-1用'!$D$4:$D$1019,$N7,'様式C-1-1用'!$I$4:$I$1019,"漏水",'様式C-1-1用'!$X$4:$X$1019,$AH10)) -> 0 | AI32: =IF($N7="","",COUNTIFS('様式C-1-1用'!$D$4:$D$1019,$N7,'様式C-1-1用'!$I$4:$I$1019,"漏水",'様式C-1-1用'!$X$4:$X$1019,$AI10)) -> 0 | AJ32: =IF($N7="","",COUNTIFS('様式C-1-1用'!$D$4:$D$1019,$N7,'様式C-1-1用'!$I$4:$I$1019,"漏水",'様式C-1-1用'!$X$4:$X$1019,$AJ10)) -> 0
O33: 変状区分毎の判定区分注3 | Y33: =IF(Y32>0,"Ⅳ",IF(Z32>0,"Ⅲ",IF(AA32>0,"Ⅱa",IF(AB32>0,"Ⅱb","Ⅰ")))) -> Ⅰ | AC33: =IF(AC32>0,"Ⅳ",IF(AD32>0,"Ⅲ",IF(AE32>0,"Ⅱa",IF(AF32>0,"Ⅱb","Ⅰ")))) -> Ⅱa | AG33: =IF(AG32>0,"Ⅳ",IF(AH32>0,"Ⅲ",IF(AI32>0,"Ⅱa",IF(AJ32>0,"Ⅱb","Ⅰ")))) -> Ⅰ | AQ33: Ⅳ | AR33: Ⅲ | AS33: Ⅱ
L34: 健全性の 診断結果 | O34: 判定区分 | Y34: Ⅳ | Z34: Ⅲ | AA34: Ⅱ | AC34: Ⅳ | AD34: Ⅲ | AE34: Ⅱ | AG34: Ⅳ | AH34: Ⅲ | AI34: Ⅱ | AQ34: =+Y32+Z32 -> 0 | AS34: =+AA32+AB32 -> 0
O35: 判定区分毎の変状数注4 | Y35: =IF(Y32=0,0,1) -> 0 | Z35: =IF(Z32=0,0,1) -> 0 | AA35: =IF(AND(AA32=0,AB32=0),0,1) -> 0 | AB35: =IF(AB32=0,0,1) -> 0 | AC35: =AC32 -> 0 | AD35: =AD32 -> 0 | AE35: =SUM(AE32:AF32) -> 4 | AG35: =AG32 -> 0 | AH35: =AH32 -> 0 | AI35: =SUM(AI32:AJ32) -> 0 | AQ35: =+Y32+AC35+AG35 -> 0 | AR35: =+Z32+AD35+AH35 -> 0 | AS35: =+AS34+AE35+AI35 -> 4
O36: 変状区分毎の判定区分注4 | Y36: =IF(Y35>0,"Ⅳ",IF(Z35>0,"Ⅲ",IF(AA35>0,"Ⅱ","Ⅰ"))) -> Ⅰ | AC36: =IF(AC35>0,"Ⅳ",IF(AD35>0,"Ⅲ",IF(AE35>0,"Ⅱ","Ⅰ"))) -> Ⅱ | AG36: =IF(AG35>0,"Ⅳ",IF(AH35>0,"Ⅲ",IF(AI35>0,"Ⅱ","Ⅰ"))) -> Ⅰ | AQ36: =IF(AQ35>0,"Ⅳ",IF(AR35>0,"Ⅲ",IF(AS35>0,"Ⅱ","Ⅰ"))) -> Ⅱ
O37: 覆工スパン単位の判定区分注5 | Y37: =IF(COUNTIF(Y36:AJ36,"Ⅳ")>0,"Ⅳ",IF(COUNTIF(Y36:AJ36,"Ⅲ")>0,"Ⅲ",IF(COUNTIF(Y36:AJ36,"Ⅱ")>0,"Ⅱ","Ⅰ"))) -> Ⅱ
K38: 特記事項
K40: 注1：誤記入防止のため、当該変状区分以外のセルは灰色表示とすること。
K41: 注2：応急対策を実施した場合は、その詳細を備考に記載すること。
K42: 注3：変状区分毎での最も評価の厳しい判定区分。
K43: 注4：変状区分毎での最も評価の厳しい判定区分．外力は覆工スパン単位、材質劣化、漏水は変状単位で行う。
K44: 注5：覆工スパンの中で最も評価の厳しい健全性を採用し、その覆工スパン毎の健全性とする。
B46: ※1：本シートは作成洩れのないよう、変状が無くても全スパン分を作成すること．また変状展開図は、様式D-2-1、様式D-2-1'と同じものを覆工スパン単位で拡大し掲載すること。
B47: ※2：変状番号は、様式D-1-1で記入した番号と整合させること。
B48: ※3：対策区分毎の変状発生規模は、様式D-1-1に記載した面積を記入すること（ただし外力はスパン単位で評価するため対象外とし、備考欄に状況を記入）。
B49: ※4：本様式は覆工スパン毎に作成すること。
B50: ※5：変状数が多い場合は、適時、表の行を増やして覆工スパン毎に1枚のシートに収めること。また、1スパン１シートとし、スパンに合わせてシートを追加すること。
B51: ※6：対策区分毎の変状の発生範囲の規模とは，対策を行う際に参考となる変状の長さや面積であり，変状を包含する長さや面積とする。
B52: ※7：路面滞水は、変状面積に1を記載するとともに、備考にも内容を記載すること。

Sheet 様式D-3_S(1)
AU1: 様式E-1リンク用→ | AV1: 覆工ｽﾊﾟﾝ 番号 | AW1: ｽﾊﾟﾝ 長 (m) | AX1: 変状数集計 | BS1: 覆工スパン毎の 健全性の診断 | BW1: 変状規模集計
AX2: 対策区分毎の変状数 | BJ2: 健全性の判定区分毎の変状数 | BW2: 覆工スパン長(m) | CA2: 対策区分毎の変状の発生範囲の規模(㎡）
B3: ■定期点検記録様式 覆工スパン別変状詳細展開図 【様式D-3】 | AX3: 外力 | BB3: 材質劣化 | BF3: 漏水 | BJ3: 外力 | BM3: 材質劣化 | BP3: 漏水 | BS3: 外力 | BT3: 材質劣化 | BU3: 漏水 | BV3: 健全性 | BW3: 外力※１ | CA3: 材質劣化 | CE3: 漏水
B4: フリガナ | E4: ='様式A-1'!$D$3 -> カワジリトンネル | K4: 路線名 | N4: ='様式A-1'!$J$3 -> 一般国道187号線 | T4: 定期点検業者 | Y4: =様式B!$K$5 -> 株式会社ニュージェック | AG4: 定期点検年月日 | AK4: =様式B!$Q$5 -> 44876 | AX4: Ⅳ | AY4: Ⅲ | AZ4: Ⅱa | BA4: Ⅱb | BB4: Ⅳ | BC4: Ⅲ | BD4: Ⅱa | BE4: Ⅱb | BF4: Ⅳ | BG4: Ⅲ | BH4: Ⅱa | BI4: Ⅱb | BJ4: Ⅳ | BK4: Ⅲ | BL4: Ⅱ | BM4: Ⅳ | BN4: Ⅲ | BO4: Ⅱ | BP4: Ⅳ | BQ4: Ⅲ | BR4: Ⅱ | BW4: Ⅳ | BX4: Ⅲ | BY4: Ⅱa | BZ4: Ⅱb | CA4: Ⅳ | CB4: Ⅲ | CC4: Ⅱa | CD4: Ⅱb | CE4: Ⅳ | CF4: Ⅲ | CG4: Ⅱa | CH4: Ⅱb
B5: 名 称 | E5: ='様式A-1'!$D$4 -> 川尻トンネル | K5: 管理者名 | N5: ='様式A-1'!$R$3 -> 山口県岩国土木建築事務所 | T5: 定期点検者名 | Y5: =様式B!$K$6 -> 石村勝伸 | AV5: =N7 -> 1 | AW5: =R7 -> 7 | AX5: =+Y32 -> 0 | AY5: =+Z32 -> 0 | AZ5: =+AA32 -> 0 | BA5: =+AB32 -> 0 | BB5: =+AC32 -> 0 | BC5: =+AD32 -> 0 | BD5: =+AE32 -> 7 | BE5: =+AF32 -> 0 | ... BI5: =+AJ32 -> 0 | BJ5: =+Y35 -> 0 | BK5: =+Z35 -> 0 | BL5: =+AA35 -> 0 | BM5: =+AC35 -> 0 | BN5: =+AD35 -> 0 | BO5: =+AE35 -> 7 | BP5: =+AG35 -> 0 | BQ5: =+AH35 -> 0 | BR5: =+AI35 -> 1 | BS5: =+Y36 -> Ⅰ | BT5: =+AC36 -> Ⅱ | BU5: =+AG36 -> Ⅱ | BV5: =+Y37 -> Ⅱ | BW5: =IF(Y32>0,$R$7,"") | BX5: =IF(Z32>0,"",IF(AA32>0,$R$7,"")) | BY5: =IF(Y32+Z32>0,"",IF(AA32>0,$R$7,"")) | BZ5: =IF(Y32+Z32+AA32>0,"",IF(AB32>0,$R$7,"")) | CA5: =+AC31 -> 0 | CB5: =+AD31 -> 0 | CC5: =+AE31 -> 4.71 | CD5: =+AF31 -> 0 | CE5: =+AG31 -> 0 | CF5: =+AH31 -> 0 | CG5: =+AI31 -> 0.75 | CH5: =+AJ31 -> 0
B6: スパン別変状展開図 | K6: 【健全性判定集計表】
K7: スパン番号 | N7: 1 | P7: スパン長 | R7: =IF(N7="","",IFERROR(INDEX('様式A-2'!$C$9:$C$434,MATCH(N7,'様式A-2'!$B$9:$B$434,0)),"")) -> 7 | U7: 前回定期点検時の健全性 | W7: 応急措置前の判定 | Y7: 対策区分毎の 変状の有無 | AC7: 対策区分毎の変状の発生範囲の規模(㎡) | AK7: 備考注2 | AS7: =$N$7&"S" -> 1S
K8: 変状番号 | L8: 対象箇所 | N8: 部位区分 | P8: 変状区分 | R8: 変状種類
Y9: 外力注1 | AC9: 材質劣化注1 | AG9: 漏水注1
Y10: Ⅳ | Z10: Ⅲ | AA10: Ⅱa | AB10: Ⅱb | AC10: Ⅳ | AD10: Ⅲ | AE10: Ⅱa | AF10: Ⅱb | AG10: Ⅳ | AH10: Ⅲ | AI10: Ⅱa | AJ10: Ⅱb
K11: =IF(L11="","",AS11) -> 1 | L11: =IFERROR(VLOOKUP($AS$7&$AS11,'様式C-1-1用'!$C$4:$AI$3000,5,0),"") -> 覆工・坑門 | N11: =IFERROR(VLOOKUP($AS$7&$AS11,'様式C-1-1用'!$C$4:$AI$3000,6,0),"") -> アーチ（左側） | P11: =IFERROR(VLOOKUP($AS$7&$AS11,'様式C-1-1用'!$C$4:$AI$3000,7,0),"") -> 材質劣化 | R11: =IFERROR(VLOOKUP($AS$7&$AS11,'様式C-1-1用'!$C$4:$AI$3000,9,0),"") -> うき・はく離 | U11: =IFERROR(VLOOKUP($AS$7&$AS11,'様式C-1-1用'!$C$4:$AI$3000,20,0),"") -> Ⅱ | W11: =IFERROR(VLOOKUP($AS$7&$AS11,'様式C-1-1用'!$C$4:$AI$3000,23,0),"") -> Ⅱ | Y11: =IFERROR(VLOOKUP($AS$7&$AS11,'様式C-1-1用'!$C$4:$CE$3000,58,0),"") -> 0 | Z11: =IFERROR(VLOOKUP($AS$7&$AS11,'様式C-1-1用'!$C$4:$BS$1004,59,0),"") -> 0 | AA11: =IFERROR(VLOOKUP($AS$7&$AS11,'様式C-1-1用'!$C$4:$BS$1004,60,0),"") -> 0 | AB11: =IFERROR(VLOOKUP($AS$7&$AS11,'様式C-1-1用'!$C$4:$BS$1004,61,0),"") -> 0 | AC11: =IFERROR(VLOOKUP($AS$7&$AS11,'様式C-1-1用'!$C$4:$BS$1004,62,0),"") -> 0 | AD11: =IFERROR(VLOOKUP($AS$7&$AS11,'様式C-1-1用'!$C$4:$BS$1003,63,0),"") -> 0 | AE11: =IFERROR(VLOOKUP($AS$7&$AS11,'様式C-1-1用'!$C$4:$BS$1003,64,0),"") -> 0.6 | AF11: =IFERROR(VLOOKUP($AS$7&$AS11,'様式C-1-1用'!$C$4:$BS$1003,65,0),"") -> 0 | AG11: =IFERROR(VLOOKUP($AS$7&$AS11,'様式C-1-1用'!$C$4:$BS$1004,66,0),"") -> 0 | AH11: =IFERROR(VLOOKUP($AS$7&$AS11,'様式C-1-1用'!$C$4:$BS$1004,67,0),"") -> 0 | AI11: =IFERROR(VLOOKUP($AS$7&$AS11,'様式C-1-1用'!$C$4:$BS$1004,68,0),"") -> 0 | AJ11: =IFERROR(VLOOKUP($AS$7&$AS11,'様式C-1-1用'!$C$4:$BS$1004,69,0),"") -> 0 | AK11: =IFERROR(VLOOKUP($AS$7&$AS11,'様式C-1-1用'!$C$4:$AI$1003,17,0),"") | AQ11: =IF(P11="外力",1,IF(P11="材質劣化",2,IF(P11="漏水",3,0))) -> 2 | AS11: 1
K12: =IF(L12="","",AS12) -> 2 | L12: =IFERROR(VLOOKUP($AS$7&$AS12,'様式C-1-1用'!$C$4:$AI$3000,5,0),"") -> 覆工・坑門 | N12: =IFERROR(VLOOKUP($AS$7&$AS12,'様式C-1-1用'!$C$4:$AI$3000,6,0),"") -> アーチ（左側） | P12: =IFERROR(VLOOKUP($AS$7&$AS12,'様式C-1-1用'!$C$4:$AI$3000,7,0),"") -> 材質劣化 | R12: =IFERROR(VLOOKUP($AS$7&$AS12,'様式C-1-1用'!$C$4:$AI$3000,9,0),"") -> うき・はく離 | U12: =IFERROR(VLOOKUP($AS$7&$AS12,'様式C-1-1用'!$C$4:$AI$3000,20,0),"") -> Ⅱ | W12: =IFERROR(VLOOKUP($AS$7&$AS12,'様式C-1-1用'!$C$4:$AI$3000,23,0),"") -> Ⅱ | Y12: =IFERROR(VLOOKUP($AS$7&$AS12,'様式C-1-1用'!$C$4:$CE$3000,58,0),"") -> 0 | Z12: =IFERROR(VLOOKUP($AS$7&$AS12,'様式C-1-1用'!$C$4:$BS$1004,59,0),"") -> 0 | AA12: =IFERROR(VLOOKUP($AS$7&$AS12,'様式C-1-1用'!$C$4:$BS$1004,60,0),"") -> 0 | AB12: =IFERROR(VLOOKUP($AS$7&$AS12,'様式C-1-1用'!$C$4:$BS$1004,61,0),"") -> 0 | AC12: =IFERROR(VLOOKUP($AS$7&$AS12,'様式C-1-1用'!$C$4:$BS$1004,62,0),"") -> 0 | AD12: =IFERROR(VLOOKUP($AS$7&$AS12,'様式C-1-1用'!$C$4:$BS$1003,63,0),"") -> 0 | AE12: =IFERROR(VLOOKUP($AS$7&$AS12,'様式C-1-1用'!$C$4:$BS$1003,64,0),"") -> 0.48 | AF12: =IFERROR(VLOOKUP($AS$7&$AS12,'様式C-1-1用'!$C$4:$BS$1003,65,0),"") -> 0 | AG12: =IFERROR(VLOOKUP($AS$7&$AS12,'様式C-1-1用'!$C$4:$BS$1004,66,0),"") -> 0 | AH12: =IFERROR(VLOOKUP($AS$7&$AS12,'様式C-1-1用'!$C$4:$BS$1004,67,0),"") -> 0 | AI12: =IFERROR(VLOOKUP($AS$7&$AS12,'様式C-1-1用'!$C$4:$BS$1004,68,0),"") -> 0 | AJ12: =IFERROR(VLOOKUP($AS$7&$AS12,'様式C-1-1用'!$C$4:$BS$1004,69,0),"") -> 0 | AK12: =IFERROR(VLOOKUP($AS$7&$AS12,'様式C-1-1用'!$C$4:$AI$1003,17,0),"") | AQ12: =IF(P12="外力",1,IF(P12="材質劣化",2,IF(P12="漏水",3,0))) -> 2 | AS12: =AS11+1 -> 2
K13: =IF(L13="","",AS13) -> 3 | L13: =IFERROR(VLOOKUP($AS$7&$AS13,'様式C-1-1用'!$C$4:$AI$3000,5,0),"") -> 覆工・坑門 | N13: =IFERROR(VLOOKUP($AS$7&$AS13,'様式C-1-1用'!$C$4:$AI$3000,6,0),"") -> アーチ（右側） | P13: =IFERROR(VLOOKUP($AS$7&$AS13,'様式C-1-1用'!$C$4:$AI$3000,7,0),"") -> 材質劣化 | R13: =IFERROR(VLOOKUP($AS$7&$AS13,'様式C-1-1用'!$C$4:$AI$3000,9,0),"") -> うき・はく離 | U13: =IFERROR(VLOOKUP($AS$7&$AS13,'様式C-1-1用'!$C$4:$AI$3000,20,0),"") -> Ⅱ | W13: =IFERROR(VLOOKUP($AS$7&$AS13,'様式C-1-1用'!$C$4:$AI$3000,23,0),"") -> Ⅱ | Y13: =IFERROR(VLOOKUP($AS$7&$AS13,'様式C-1-1用'!$C$4:$CE$3000,58,0),"") -> 0 | Z13: =IFERROR(VLOOKUP($AS$7&$AS13,'様式C-1-1用'!$C$4:$BS$1004,59,0),"") -> 0 | AA13: =IFERROR(VLOOKUP($AS$7&$AS13,'様式C-1-1用'!$C$4:$BS$1004,60,0),"") -> 0 | AB13: =IFERROR(VLOOKUP($AS$7&$AS13,'様式C-1-1用'!$C$4:$BS$1004,61,0),"") -> 0 | AC13: =IFERROR(VLOOKUP($AS$7&$AS13,'様式C-1-1用'!$C$4:$BS$1004,62,0),"") -> 0 | AD13: =IFERROR(VLOOKUP($AS$7&$AS13,'様式C-1-1用'!$C$4:$BS$1003,63,0),"") -> 0 | AE13: =IFERROR(VLOOKUP($AS$7&$AS13,'様式C-1-1用'!$C$4:$BS$1003,64,0),"") -> 1.12 | AF13: =IFERROR(VLOOKUP($AS$7&$AS13,'様式C-1-1用'!$C$4:$BS$1003,65,0),"") -> 0 | AG13: =IFERROR(VLOOKUP($AS$7&$AS13,'様式C-1-1用'!$C$4:$BS$1004,66,0),"") -> 0 | AH13: =IFERROR(VLOOKUP($AS$7&$AS13,'様式C-1-1用'!$C$4:$BS$1004,67,0),"") -> 0 | AI13: =IFERROR(VLOOKUP($AS$7&$AS13,'様式C-1-1用'!$C$4:$BS$1004,68,0),"") -> 0 | AJ13: =IFERROR(VLOOKUP($AS$7&$AS13,'様式C-1-1用'!$C$4:$BS$1004,69,0),"") -> 0 | AK13: =IFERROR(VLOOKUP($AS$7&$AS13,'様式C-1-1用'!$C$4:$AI$1003,17,0),"") | AQ13: =IF(P13="外力",1,IF(P13="材質劣化",2,IF(P13="漏水",3,0))) -> 2 | AS13: =AS12+1 -> 3
K14: =IF(L14="","",AS14) -> 4 | L14: =IFERROR(VLOOKUP($AS$7&$AS14,'様式C-1-1用'!$C$4:$AI$3000,5,0),"") -> 覆工・坑門 | N14: =IFERROR(VLOOKUP($AS$7&$AS14,'様式C-1-1用'!$C$4:$AI$3000,6,0),"") -> アーチ（右側） | P14: =IFERROR(VLOOKUP($AS$7&$AS14,'様式C-1-1用'!$C$4:$AI$3000,7,0),"") -> 材質劣化 | R14: =IFERROR(VLOOKUP($AS$7&$AS14,'様式C-1-1用'!$C$4:$AI$3000,9,0),"") -> うき・はく離 | U14: =IFERROR(VLOOKUP($AS$7&$AS14,'様式C-1-1用'!$C$4:$AI$3000,20,0),"") -> Ⅱ | W14: =IFERROR(VLOOKUP($AS$7&$AS14,'様式C-1-1用'!$C$4:$AI$3000,23,0),"") -> Ⅱ | Y14: =IFERROR(VLOOKUP($AS$7&$AS14,'様式C-1-1用'!$C$4:$CE$3000,58,0),"") -> 0 | Z14: =IFERROR(VLOOKUP($AS$7&$AS14,'様式C-1-1用'!$C$4:$BS$1004,59,0),"") -> 0 | AA14: =IFERROR(VLOOKUP($AS$7&$AS14,'様式C-1-1用'!$C$4:$BS$1004,60,0),"") -> 0 | AB14: =IFERROR(VLOOKUP($AS$7&$AS14,'様式C-1-1用'!$C$4:$BS$1004,61,0),"") -> 0 | AC14: =IFERROR(VLOOKUP($AS$7&$AS14,'様式C-1-1用'!$C$4:$BS$1004,62,0),"") -> 0 | AD14: =IFERROR(VLOOKUP($AS$7&$AS14,'様式C-1-1用'!$C$4:$BS$1003,63,0),"") -> 0 | AE14: =IFERROR(VLOOKUP($AS$7&$AS14,'様式C-1-1用'!$C$4:$BS$1003,64,0),"") -> 2.25 | AF14: =IFERROR(VLOOKUP($AS$7&$AS14,'様式C-1-1用'!$C$4:$BS$1003,65,0),"") -> 0 | AG14: =IFERROR(VLOOKUP($AS$7&$AS14,'様式C-1-1用'!$C$4:$BS$1004,66,0),"") -> 0 | AH14: =IFERROR(VLOOKUP($AS$7&$AS14,'様式C-1-1用'!$C$4:$BS$1004,67,0),"") -> 0 | AI14: =IFERROR(VLOOKUP($AS$7&$AS14,'様式C-1-1用'!$C$4:$BS$1004,68,0),"") -> 0 | AJ14: =IFERROR(VLOOKUP($AS$7&$AS14,'様式C-1-1用'!$C$4:$BS$1004,69,0),"") -> 0 | AK14: =IFERROR(VLOOKUP($AS$7&$AS14,'様式C-1-1用'!$C$4:$AI$1003,17,0),"") | AQ14: =IF(P14="外力",1,IF(P14="材質劣化",2,IF(P14="漏水",3,0))) -> 2 | AS14: =AS13+1 -> 4
K15: =IF(L15="","",AS15) -> 5 | L15: =IFERROR(VLOOKUP($AS$7&$AS15,'様式C-1-1用'!$C$4:$AI$3000,5,0),"") -> 覆工・坑門 | N15: =IFERROR(VLOOKUP($AS$7&$AS15,'様式C-1-1用'!$C$4:$AI$3000,6,0),"") -> アーチ（右側） | P15: =IFERROR(VLOOKUP($AS$7&$AS15,'様式C-1-1用'!$C$4:$AI$3000,7,0),"") -> 材質劣化 | R15: =IFERROR(VLOOKUP($AS$7&$AS15,'様式C-1-1用'!$C$4:$AI$3000,9,0),"") -> うき・はく離 | U15: =IFERROR(VLOOKUP($AS$7&$AS15,'様式C-1-1用'!$C$4:$AI$3000,20,0),"") -> Ⅱ | W15: =IFERROR(VLOOKUP($AS$7&$AS15,'様式C-1-1用'!$C$4:$AI$3000,23,0),"") -> Ⅱ | Y15: =IFERROR(VLOOKUP($AS$7&$AS15,'様式C-1-1用'!$C$4:$CE$3000,58,0),"") -> 0 | Z15: =IFERROR(VLOOKUP($AS$7&$AS15,'様式C-1-1用'!$C$4:$BS$1004,59,0),"") -> 0 | AA15: =IFERROR(VLOOKUP($AS$7&$AS15,'様式C-1-1用'!$C$4:$BS$1004,60,0),"") -> 0 | AB15: =IFERROR(VLOOKUP($AS$7&$AS15,'様式C-1-1用'!$C$4:$BS$1004,61,0),"") -> 0 | AC15: =IFERROR(VLOOKUP($AS$7&$AS15,'様式C-1-1用'!$C$4:$BS$1004,62,0),"") -> 0 | AD15: =IFERROR(VLOOKUP($AS$7&$AS15,'様式C-1-1用'!$C$4:$BS$1003,63,0),"") -> 0 | AE15: =IFERROR(VLOOKUP($AS$7&$AS15,'様式C-1-1用'!$C$4:$BS$1003,64,0),"") -> 0.12 | AF15: =IFERROR(VLOOKUP($AS$7&$AS15,'様式C-1-1用'!$C$4:$BS$1003,65,0),"") -> 0 | AG15: =IFERROR(VLOOKUP($AS$7&$AS15,'様式C-1-1用'!$C$4:$BS$1004,66,0),"") -> 0 | AH15: =IFERROR(VLOOKUP($AS$7&$AS15,'様式C-1-1用'!$C$4:$BS$1004,67,0),"") -> 0 | AI15: =IFERROR(VLOOKUP($AS$7&$AS15,'様式C-1-1用'!$C$4:$BS$1004,68,0),"") -> 0 | AJ15: =IFERROR(VLOOKUP($AS$7&$AS15,'様式C-1-1用'!$C$4:$BS$1004,69,0),"") -> 0 | AK15: =IFERROR(VLOOKUP($AS$7&$AS15,'様式C-1-1用'!$C$4:$AI$1003,17,0),"") | AQ15: =IF(P15="外力",1,IF(P15="材質劣化",2,IF(P15="漏水",3,0))) -> 2 | AS15: =AS14+1 -> 5
K16: =IF(L16="","",AS16) -> 6 | L16: =IFERROR(VLOOKUP($AS$7&$AS16,'様式C-1-1用'!$C$4:$AI$3000,5,0),"") -> 覆工・坑門 | N16: =IFERROR(VLOOKUP($AS$7&$AS16,'様式C-1-1用'!$C$4:$AI$3000,6,0),"") -> アーチ（右側） | P16: =IFERROR(VLOOKUP($AS$7&$AS16,'様式C-1-1用'!$C$4:$AI$3000,7,0),"") -> 材質劣化 | R16: =IFERROR(VLOOKUP($AS$7&$AS16,'様式C-1-1用'!$C$4:$AI$3000,9,0),"") -> うき・はく離 | U16: =IFERROR(VLOOKUP($AS$7&$AS16,'様式C-1-1用'!$C$4:$AI$3000,20,0),"") -> Ⅱ | W16: =IFERROR(VLOOKUP($AS$7&$AS16,'様式C-1-1用'!$C$4:$AI$3000,23,0),"") -> Ⅱ | Y16: =IFERROR(VLOOKUP($AS$7&$AS16,'様式C-1-1用'!$C$4:$CE$3000,58,0),"") -> 0 | Z16: =IFERROR(VLOOKUP($AS$7&$AS16,'様式C-1-1用'!$C$4:$BS$1004,59,0),"") -> 0 | AA16: =IFERROR(VLOOKUP($AS$7&$AS16,'様式C-1-1用'!$C$4:$BS$1004,60,0),"") -> 0 | AB16: =IFERROR(VLOOKUP($AS$7&$AS16,'様式C-1-1用'!$C$4:$BS$1004,61,0),"") -> 0 | AC16: =IFERROR(VLOOKUP($AS$7&$AS16,'様式C-1-1用'!$C$4:$BS$1004,62,0),"") -> 0 | AD16: =IFERROR(VLOOKUP($AS$7&$AS16,'様式C-1-1用'!$C$4:$BS$1003,63,0),"") -> 0 | AE16: =IFERROR(VLOOKUP($AS$7&$AS16,'様式C-1-1用'!$C$4:$BS$1003,64,0),"") -> 0.04 | AF16: =IFERROR(VLOOKUP($AS$7&$AS16,'様式C-1-1用'!$C$4:$BS$1003,65,0),"") -> 0 | AG16: =IFERROR(VLOOKUP($AS$7&$AS16,'様式C-1-1用'!$C$4:$BS$1004,66,0),"") -> 0 | AH16: =IFERROR(VLOOKUP($AS$7&$AS16,'様式C-1-1用'!$C$4:$BS$1004,67,0),"") -> 0 | AI16: =IFERROR(VLOOKUP($AS$7&$AS16,'様式C-1-1用'!$C$4:$BS$1004,68,0),"") -> 0 | AJ16: =IFERROR(VLOOKUP($AS$7&$AS16,'様式C-1-1用'!$C$4:$BS$1004,69,0),"") -> 0 | AK16: =IFERROR(VLOOKUP($AS$7&$AS16,'様式C-1-1用'!$C$4:$AI$1003,17,0),"") | AQ16: =IF(P16="外力",1,IF(P16="材質劣化",2,IF(P16="漏水",3,0))) -> 2 | AS16: =AS15+1 -> 6
K17: =IF(L17="","",AS17) -> 7 | L17: =IFERROR(VLOOKUP($AS$7&$AS17,'様式C-1-1用'!$C$4:$AI$3000,5,0),"") -> 覆工・坑門 | N17: =IFERROR(VLOOKUP($AS$7&$AS17,'様式C-1-1用'!$C$4:$AI$3000,6,0),"") -> アーチ（右側） | P17: =IFERROR(VLOOKUP($AS$7&$AS17,'様式C-1-1用'!$C$4:$AI$3000,7,0),"") -> 材質劣化 | R17: =IFERROR(VLOOKUP($AS$7&$AS17,'様式C-1-1用'!$C$4:$AI$3000,9,0),"") -> うき・はく離 | U17: =IFERROR(VLOOKUP($AS$7&$AS17,'様式C-1-1用'!$C$4:$AI$3000,20,0),"") -> － | W17: =IFERROR(VLOOKUP($AS$7&$AS17,'様式C-1-1用'!$C$4:$AI$3000,23,0),"") -> Ⅱ | Y17: =IFERROR(VLOOKUP($AS$7&$AS17,'様式C-1-1用'!$C$4:$CE$3000,58,0),"") -> 0 | Z17: =IFERROR(VLOOKUP($AS$7&$AS17,'様式C-1-1用'!$C$4:$BS$1004,59,0),"") -> 0 | AA17: =IFERROR(VLOOKUP($AS$7&$AS17,'様式C-1-1用'!$C$4:$BS$1004,60,0),"") -> 0 | AB17: =IFERROR(VLOOKUP($AS$7&$AS17,'様式C-1-1用'!$C$4:$BS$1004,61,0),"") -> 0 | AC17: =IFERROR(VLOOKUP($AS$7&$AS17,'様式C-1-1用'!$C$4:$BS$1004,62,0),"") -> 0 | AD17: =IFERROR(VLOOKUP($AS$7&$AS17,'様式C-1-1用'!$C$4:$BS$1003,63,0),"") -> 0 | AE17: =IFERROR(VLOOKUP($AS$7&$AS17,'様式C-1-1用'!$C$4:$BS$1003,64,0),"") -> 0.1 | AF17: =IFERROR(VLOOKUP($AS$7&$AS17,'様式C-1-1用'!$C$4:$BS$1003,65,0),"") -> 0 | AG17: =IFERROR(VLOOKUP($AS$7&$AS17,'様式C-1-1用'!$C$4:$BS$1004,66,0),"") -> 0 | AH17: =IFERROR(VLOOKUP($AS$7&$AS17,'様式C-1-1用'!$C$4:$BS$1004,67,0),"") -> 0 | AI17: =IFERROR(VLOOKUP($AS$7&$AS17,'様式C-1-1用'!$C$4:$BS$1004,68,0),"") -> 0 | AJ17: =IFERROR(VLOOKUP($AS$7&$AS17,'様式C-1-1用'!$C$4:$BS$1004,69,0),"") -> 0 | AK17: =IFERROR(VLOOKUP($AS$7&$AS17,'様式C-1-1用'!$C$4:$AI$1003,17,0),"") | AQ17: =IF(P17="外力",1,IF(P17="材質劣化",2,IF(P17="漏水",3,0))) -> 2 | AS17: =AS16+1 -> 7
K18: =IF(L18="","",AS18) -> 8 | L18: =IFERROR(VLOOKUP($AS$7&$AS18,'様式C-1-1用'!$C$4:$AI$3000,5,0),"") -> 覆工・坑門 | N18: =IFERROR(VLOOKUP($AS$7&$AS18,'様式C-1-1用'!$C$4:$AI$3000,6,0),"") -> アーチ（右側） | P18: =IFERROR(VLOOKUP($AS$7&$AS18,'様式C-1-1用'!$C$4:$AI$3000,7,0),"") -> 漏水 | R18: =IFERROR(VLOOKUP($AS$7&$AS18,'様式C-1-1用'!$C$4:$AI$3000,9,0),"") -> 漏水 | U18: =IFERROR(VLOOKUP($AS$7&$AS18,'様式C-1-1用'!$C$4:$AI$3000,20,0),"") -> － | W18: =IFERROR(VLOOKUP($AS$7&$AS18,'様式C-1-1用'!$C$4:$AI$3000,23,0),"") -> Ⅱ | Y18: =IFERROR(VLOOKUP($AS$7&$AS18,'様式C-1-1用'!$C$4:$CE$3000,58,0),"") -> 0 | Z18: =IFERROR(VLOOKUP($AS$7&$AS18,'様式C-1-1用'!$C$4:$BS$1004,59,0),"") -> 0 | AA18: =IFERROR(VLOOKUP($AS$7&$AS18,'様式C-1-1用'!$C$4:$BS$1004,60,0),"") -> 0 | AB18: =IFERROR(VLOOKUP($AS$7&$AS18,'様式C-1-1用'!$C$4:$BS$1004,61,0),"") -> 0 | AC18: =IFERROR(VLOOKUP($AS$7&$AS18,'様式C-1-1用'!$C$4:$BS$1004,62,0),"") -> 0 | AD18: =IFERROR(VLOOKUP($AS$7&$AS18,'様式C-1-1用'!$C$4:$BS$1003,63,0),"") -> 0 | AE18: =IFERROR(VLOOKUP($AS$7&$AS18,'様式C-1-1用'!$C$4:$BS$1003,64,0),"") -> 0 | AF18: =IFERROR(VLOOKUP($AS$7&$AS18,'様式C-1-1用'!$C$4:$BS$1003,65,0),"") -> 0 | AG18: =IFERROR(VLOOKUP($AS$7&$AS18,'様式C-1-1用'!$C$4:$BS$1004,66,0),"") -> 0 | AH18: =IFERROR(VLOOKUP($AS$7&$AS18,'様式C-1-1用'!$C$4:$BS$1004,67,0),"") -> 0 | AI18: =IFERROR(VLOOKUP($AS$7&$AS18,'様式C-1-1用'!$C$4:$BS$1004,68,0),"") -> 0.75 | AJ18: =IFERROR(VLOOKUP($AS$7&$AS18,'様式C-1-1用'!$C$4:$BS$1004,69,0),"") -> 0 | AK18: =IFERROR(VLOOKUP($AS$7&$AS18,'様式C-1-1用'!$C$4:$AI$1003,17,0),"") -> 滴水 | AQ18: =IF(P18="外力",1,IF(P18="材質劣化",2,IF(P18="漏水",3,0))) -> 3 | AS18: =AS17+1 -> 8
K19: =IF(L19="","",AS19) | L19: =IFERROR(VLOOKUP($AS$7&$AS19,'様式C-1-1用'!$C$4:$AI$3000,5,0),"") | N19: =IFERROR(VLOOKUP($AS$7&$AS19,'様式C-1-1用'!$C$4:$AI$3000,6,0),"") | P19: =IFERROR(VLOOKUP($AS$7&$AS19,'様式C-1-1用'!$C$4:$AI$3000,7,0),"") | R19: =IFERROR(VLOOKUP($AS$7&$AS19,'様式C-1-1用'!$C$4:$AI$3000,9,0),"") | U19: =IFERROR(VLOOKUP($AS$7&$AS19,'様式C-1-1用'!$C$4:$AI$3000,20,0),"") | W19: =IFERROR(VLOOKUP($AS$7&$AS19,'様式C-1-1用'!$C$4:$AI$3000,23,0),"") | Y19: =IFERROR(VLOOKUP($AS$7&$AS19,'様式C-1-1用'!$C$4:$CE$3000,58,0),"") | Z19: =IFERROR(VLOOKUP($AS$7&$AS19,'様式C-1-1用'!$C$4:$BS$1004,59,0),"") | AA19: =IFERROR(VLOOKUP($AS$7&$AS19,'様式C-1-1用'!$C$4:$BS$1004,60,0),"") | AB19: =IFERROR(VLOOKUP($AS$7&$AS19,'様式C-1-1用'!$C$4:$BS$1004,61,0),"") | AC19: =IFERROR(VLOOKUP($AS$7&$AS19,'様式C-1-1用'!$C$4:$BS$1004,62,0),"") | AD19: =IFERROR(VLOOKUP($AS$7&$AS19,'様式C-1-1用'!$C$4:$BS$1003,63,0),"") | AE19: =IFERROR(VLOOKUP($AS$7&$AS19,'様式C-1-1用'!$C$4:$BS$1003,64,0),"") | AF19: =IFERROR(VLOOKUP($AS$7&$AS19,'様式C-1-1用'!$C$4:$BS$1003,65,0),"") | AG19: =IFERROR(VLOOKUP($AS$7&$AS19,'様式C-1-1用'!$C$4:$BS$1004,66,0),"") | AH19: =IFERROR(VLOOKUP($AS$7&$AS19,'様式C-1-1用'!$C$4:$BS$1004,67,0),"") | AI19: =IFERROR(VLOOKUP($AS$7&$AS19,'様式C-1-1用'!$C$4:$BS$1004,68,0),"") | AJ19: =IFERROR(VLOOKUP($AS$7&$AS19,'様式C-1-1用'!$C$4:$BS$1004,69,0),"") | AK19: =IFERROR(VLOOKUP($AS$7&$AS19,'様式C-1-1用'!$C$4:$AI$1003,17,0),"") | AQ19: =IF(P19="外力",1,IF(P19="材質劣化",2,IF(P19="漏水",3,0))) -> 0 | AS19: =AS18+1 -> 9
K20: =IF(L20="","",AS20) | L20: =IFERROR(VLOOKUP($AS$7&$AS20,'様式C-1-1用'!$C$4:$AI$3000,5,0),"") | N20: =IFERROR(VLOOKUP($AS$7&$AS20,'様式C-1-1用'!$C$4:$AI$3000,6,0),"") | P20: =IFERROR(VLOOKUP($AS$7&$AS20,'様式C-1-1用'!$C$4:$AI$3000,7,0),"") | R20: =IFERROR(VLOOKUP($AS$7&$AS20,'様式C-1-1用'!$C$4:$AI$3000,9,0),"") | U20: =IFERROR(VLOOKUP($AS$7&$AS20,'様式C-1-1用'!$C$4:$AI$3000,20,0),"") | W20: =IFERROR(VLOOKUP($AS$7&$AS20,'様式C-1-1用'!$C$4:$AI$3000,23,0),"") | Y20: =IFERROR(VLOOKUP($AS$7&$AS20,'様式C-1-1用'!$C$4:$CE$3000,58,0),"") | Z20: =IFERROR(VLOOKUP($AS$7&$AS20,'様式C-1-1用'!$C$4:$BS$1004,59,0),"") | AA20: =IFERROR(VLOOKUP($AS$7&$AS20,'様式C-1-1用'!$C$4:$BS$1004,60,0),"") | AB20: =IFERROR(VLOOKUP($AS$7&$AS20,'様式C-1-1用'!$C$4:$BS$1004,61,0),"") | AC20: =IFERROR(VLOOKUP($AS$7&$AS20,'様式C-1-1用'!$C$4:$BS$1004,62,0),"") | AD20: =IFERROR(VLOOKUP($AS$7&$AS20,'様式C-1-1用'!$C$4:$BS$1003,63,0),"") | AE20: =IFERROR(VLOOKUP($AS$7&$AS20,'様式C-1-1用'!$C$4:$BS$1003,64,0),"") | AF20: =IFERROR(VLOOKUP($AS$7&$AS20,'様式C-1-1用'!$C$4:$BS$1003,65,0),"") | AG20: =IFERROR(VLOOKUP($AS$7&$AS20,'様式C-1-1用'!$C$4:$BS$1004,66,0),"") | AH20: =IFERROR(VLOOKUP($AS$7&$AS20,'様式C-1-1用'!$C$4:$BS$1004,67,0),"") | AI20: =IFERROR(VLOOKUP($AS$7&$AS20,'様式C-1-1用'!$C$4:$BS$1004,68,0),"") | AJ20: =IFERROR(VLOOKUP($AS$7&$AS20,'様式C-1-1用'!$C$4:$BS$1004,69,0),"") | AK20: =IFERROR(VLOOKUP($AS$7&$AS20,'様式C-1-1用'!$C$4:$AI$1003,17,0),"") | AQ20: =IF(P20="外力",1,IF(P20="材質劣化",2,IF(P20="漏水",3,0))) -> 0 | AS20: =AS19+1 -> 10
K21: =IF(L21="","",AS21) | L21: =IFERROR(VLOOKUP($AS$7&$AS21,'様式C-1-1用'!$C$4:$AI$3000,5,0),"") | N21: =IFERROR(VLOOKUP($AS$7&$AS21,'様式C-1-1用'!$C$4:$AI$3000,6,0),"") | P21: =IFERROR(VLOOKUP($AS$7&$AS21,'様式C-1-1用'!$C$4:$AI$3000,7,0),"") | R21: =IFERROR(VLOOKUP($AS$7&$AS21,'様式C-1-1用'!$C$4:$AI$3000,9,0),"") | U21: =IFERROR(VLOOKUP($AS$7&$AS21,'様式C-1-1用'!$C$4:$AI$3000,20,0),"") | W21: =IFERROR(VLOOKUP($AS$7&$AS21,'様式C-1-1用'!$C$4:$AI$3000,23,0),"") | Y21: =IFERROR(VLOOKUP($AS$7&$AS21,'様式C-1-1用'!$C$4:$CE$3000,58,0),"") | Z21: =IFERROR(VLOOKUP($AS$7&$AS21,'様式C-1-1用'!$C$4:$BS$1004,59,0),"") | AA21: =IFERROR(VLOOKUP($AS$7&$AS21,'様式C-1-1用'!$C$4:$BS$1004,60,0),"") | AB21: =IFERROR(VLOOKUP($AS$7&$AS21,'様式C-1-1用'!$C$4:$BS$1004,61,0),"") | AC21: =IFERROR(VLOOKUP($AS$7&$AS21,'様式C-1-1用'!$C$4:$BS$1004,62,0),"") | AD21: =IFERROR(VLOOKUP($AS$7&$AS21,'様式C-1-1用'!$C$4:$BS$1003,63,0),"") | AE21: =IFERROR(VLOOKUP($AS$7&$AS21,'様式C-1-1用'!$C$4:$BS$1003,64,0),"") | AF21: =IFERROR(VLOOKUP($AS$7&$AS21,'様式C-1-1用'!$C$4:$BS$1003,65,0),"") | AG21: =IFERROR(VLOOKUP($AS$7&$AS21,'様式C-1-1用'!$C$4:$BS$1004,66,0),"") | AH21: =IFERROR(VLOOKUP($AS$7&$AS21,'様式C-1-1用'!$C$4:$BS$1004,67,0),"") | AI21: =IFERROR(VLOOKUP($AS$7&$AS21,'様式C-1-1用'!$C$4:$BS$1004,68,0),"") | AJ21: =IFERROR(VLOOKUP($AS$7&$AS21,'様式C-1-1用'!$C$4:$BS$1004,69,0),"") | AK21: =IFERROR(VLOOKUP($AS$7&$AS21,'様式C-1-1用'!$C$4:$AI$1003,17,0),"") | AQ21: =IF(P21="外力",1,IF(P21="材質劣化",2,IF(P21="漏水",3,0))) -> 0 | AS21: =AS20+1 -> 11
K22: =IF(L22="","",AS22) | L22: =IFERROR(VLOOKUP($AS$7&$AS22,'様式C-1-1用'!$C$4:$AI$3000,5,0),"") | N22: =IFERROR(VLOOKUP($AS$7&$AS22,'様式C-1-1用'!$C$4:$AI$3000,6,0),"") | P22: =IFERROR(VLOOKUP($AS$7&$AS22,'様式C-1-1用'!$C$4:$AI$3000,7,0),"") | R22: =IFERROR(VLOOKUP($AS$7&$AS22,'様式C-1-1用'!$C$4:$AI$3000,9,0),"") | U22: =IFERROR(VLOOKUP($AS$7&$AS22,'様式C-1-1用'!$C$4:$AI$3000,20,0),"") | W22: =IFERROR(VLOOKUP($AS$7&$AS22,'様式C-1-1用'!$C$4:$AI$3000,23,0),"") | Y22: =IFERROR(VLOOKUP($AS$7&$AS22,'様式C-1-1用'!$C$4:$CE$3000,58,0),"") | Z22: =IFERROR(VLOOKUP($AS$7&$AS22,'様式C-1-1用'!$C$4:$BS$1004,59,0),"") | AA22: =IFERROR(VLOOKUP($AS$7&$AS22,'様式C-1-1用'!$C$4:$BS$1004,60,0),"") | AB22: =IFERROR(VLOOKUP($AS$7&$AS22,'様式C-1-1用'!$C$4:$BS$1004,61,0),"") | AC22: =IFERROR(VLOOKUP($AS$7&$AS22,'様式C-1-1用'!$C$4:$BS$1004,62,0),"") | AD22: =IFERROR(VLOOKUP($AS$7&$AS22,'様式C-1-1用'!$C$4:$BS$1003,63,0),"") | AE22: =IFERROR(VLOOKUP($AS$7&$AS22,'様式C-1-1用'!$C$4:$BS$1003,64,0),"") | AF22: =IFERROR(VLOOKUP($AS$7&$AS22,'様式C-1-1用'!$C$4:$BS$1003,65,0),"") | AG22: =IFERROR(VLOOKUP($AS$7&$AS22,'様式C-1-1用'!$C$4:$BS$1004,66,0),"") | AH22: =IFERROR(VLOOKUP($AS$7&$AS22,'様式C-1-1用'!$C$4:$BS$1004,67,0),"") | AI22: =IFERROR(VLOOKUP($AS$7&$AS22,'様式C-1-1用'!$C$4:$BS$1004,68,0),"") | AJ22: =IFERROR(VLOOKUP($AS$7&$AS22,'様式C-1-1用'!$C$4:$BS$1004,69,0),"") | AK22: =IFERROR(VLOOKUP($AS$7&$AS22,'様式C-1-1用'!$C$4:$AI$1003,17,0),"") | AQ22: =IF(P22="外力",1,IF(P22="材質劣化",2,IF(P22="漏水",3,0))) -> 0 | AS22: =AS21+1 -> 12
K23: =IF(L23="","",AS23) | L23: =IFERROR(VLOOKUP($AS$7&$AS23,'様式C-1-1用'!$C$4:$AI$3000,5,0),"") | N23: =IFERROR(VLOOKUP($AS$7&$AS23,'様式C-1-1用'!$C$4:$AI$3000,6,0),"") | P23: =IFERROR(VLOOKUP($AS$7&$AS23,'様式C-1-1用'!$C$4:$AI$3000,7,0),"") | R23: =IFERROR(VLOOKUP($AS$7&$AS23,'様式C-1-1用'!$C$4:$AI$3000,9,0),"") | U23: =IFERROR(VLOOKUP($AS$7&$AS23,'様式C-1-1用'!$C$4:$AI$3000,20,0),"") | W23: =IFERROR(VLOOKUP($AS$7&$AS23,'様式C-1-1用'!$C$4:$AI$3000,23,0),"") | Y23: =IFERROR(VLOOKUP($AS$7&$AS23,'様式C-1-1用'!$C$4:$CE$3000,58,0),"") | Z23: =IFERROR(VLOOKUP($AS$7&$AS23,'様式C-1-1用'!$C$4:$BS$1004,59,0),"") | AA23: =IFERROR(VLOOKUP($AS$7&$AS23,'様式C-1-1用'!$C$4:$BS$1004,60,0),"") | AB23: =IFERROR(VLOOKUP($AS$7&$AS23,'様式C-1-1用'!$C$4:$BS$1004,61,0),"") | AC23: =IFERROR(VLOOKUP($AS$7&$AS23,'様式C-1-1用'!$C$4:$BS$1004,62,0),"") | AD23: =IFERROR(VLOOKUP($AS$7&$AS23,'様式C-1-1用'!$C$4:$BS$1003,63,0),"") | AE23: =IFERROR(VLOOKUP($AS$7&$AS23,'様式C-1-1用'!$C$4:$BS$1003,64,0),"") | AF23: =IFERROR(VLOOKUP($AS$7&$AS23,'様式C-1-1用'!$C$4:$BS$1003,65,0),"") | AG23: =IFERROR(VLOOKUP($AS$7&$AS23,'様式C-1-1用'!$C$4:$BS$1004,66,0),"") | AH23: =IFERROR(VLOOKUP($AS$7&$AS23,'様式C-1-1用'!$C$4:$BS$1004,67,0),"") | AI23: =IFERROR(VLOOKUP($AS$7&$AS23,'様式C-1-1用'!$C$4:$BS$1004,68,0),"") | AJ23: =IFERROR(VLOOKUP($AS$7&$AS23,'様式C-1-1用'!$C$4:$BS$1004,69,0),"") | AK23: =IFERROR(VLOOKUP($AS$7&$AS23,'様式C-1-1用'!$C$4:$AI$1003,17,0),"") | AQ23: =IF(P23="外力",1,IF(P23="材質劣化",2,IF(P23="漏水",3,0))) -> 0 | AS23: =AS22+1 -> 13
... K30: =IF(L30="","",AS30) | L30: =IFERROR(VLOOKUP($AS$7&$AS30,'様式C-1-1用'!$C$4:$AI$3000,5,0),"") | N30: =IFERROR(VLOOKUP($AS$7&$AS30,'様式C-1-1用'!$C$4:$AI$3000,6,0),"") | P30: =IFERROR(VLOOKUP($AS$7&$AS30,'様式C-1-1用'!$C$4:$AI$3000,7,0),"") | R30: =IFERROR(VLOOKUP($AS$7&$AS30,'様式C-1-1用'!$C$4:$AI$3000,9,0),"") | U30: =IFERROR(VLOOKUP($AS$7&$AS30,'様式C-1-1用'!$C$4:$AI$3000,20,0),"") | W30: =IFERROR(VLOOKUP($AS$7&$AS30,'様式C-1-1用'!$C$4:$AI$3000,23,0),"") | Y30: =IFERROR(VLOOKUP($AS$7&$AS30,'様式C-1-1用'!$C$4:$CE$3000,58,0),"") | Z30: =IFERROR(VLOOKUP($AS$7&$AS30,'様式C-1-1用'!$C$4:$BS$1004,59,0),"") | AA30: =IFERROR(VLOOKUP($AS$7&$AS30,'様式C-1-1用'!$C$4:$BS$1004,60,0),"") | AB30: =IFERROR(VLOOKUP($AS$7&$AS30,'様式C-1-1用'!$C$4:$BS$1004,61,0),"") | AC30: =IFERROR(VLOOKUP($AS$7&$AS30,'様式C-1-1用'!$C$4:$BS$1004,62,0),"") | AD30: =IFERROR(VLOOKUP($AS$7&$AS30,'様式C-1-1用'!$C$4:$BS$1003,63,0),"") | AE30: =IFERROR(VLOOKUP($AS$7&$AS30,'様式C-1-1用'!$C$4:$BS$1003,64,0),"") | AF30: =IFERROR(VLOOKUP($AS$7&$AS30,'様式C-1-1用'!$C$4:$BS$1003,65,0),"") | AG30: =IFERROR(VLOOKUP($AS$7&$AS30,'様式C-1-1用'!$C$4:$BS$1004,66,0),"") | AH30: =IFERROR(VLOOKUP($AS$7&$AS30,'様式C-1-1用'!$C$4:$BS$1004,67,0),"") | AI30: =IFERROR(VLOOKUP($AS$7&$AS30,'様式C-1-1用'!$C$4:$BS$1004,68,0),"") | AJ30: =IFERROR(VLOOKUP($AS$7&$AS30,'様式C-1-1用'!$C$4:$BS$1004,69,0),"") | AK30: =IFERROR(VLOOKUP($AS$7&$AS30,'様式C-1-1用'!$C$4:$AI$1003,17,0),"") | AQ30: =IF(P30="外力",1,IF(P30="材質劣化",2,IF(P30="漏水",3,0))) -> 0 | AS30: =AS29+1 -> 20
K31: 集計 ・ 判定 ・ 診断 | L31: 変状の発生規模合計(㎡) | Y31: － | AC31: =SUM(AC11:AC30) -> 0 | AD31: =SUM(AD11:AD30) -> 0 | AE31: =SUM(AE11:AE30) -> 4.71 | AF31: =SUM(AF11:AF30) -> 0 | AG31: =SUM(AG11:AG30) -> 0 | AH31: =SUM(AH11:AH30) -> 0 | AI31: =SUM(AI11:AI30) -> 0.75 | AJ31: =SUM(AJ11:AJ30) -> 0 | AK31: 計
L32: 対策区分の 判定結果 | O32: 判定区分毎の変状数 | Y32: =COUNTIF(Y11:Y30,"〇") -> 0 | Z32: =COUNTIF(Z11:Z30,"〇") -> 0 | AA32: =COUNTIF(AA11:AA30,"〇") -> 0 | AB32: =COUNTIF(AB11:AB30,"〇") -> 0 | AC32: =IF($N7="","",COUNTIFS('様式C-1-1用'!$D$4:$D$1019,$N7,'様式C-1-1用'!$I$4:$I$1019,"材質劣化",'様式C-1-1用'!$X$4:$X$1019,$AC10)) -> 0 | AD32: =IF($N7="","",COUNTIFS('様式C-1-1用'!$D$4:$D$1019,$N7,'様式C-1-1用'!$I$4:$I$1019,"材質劣化",'様式C-1-1用'!$X$4:$X$1019,$AD10)) -> 0 | AE32: =IF($N7="","",COUNTIFS('様式C-1-1用'!$D$4:$D$1019,$N7,'様式C-1-1用'!$I$4:$I$1019,"材質劣化",'様式C-1-1用'!$X$4:$X$1019,$AE10)) -> 7 | AF32: =IF($N7="","",COUNTIFS('様式C-1-1用'!$D$4:$D$1019,$N7,'様式C-1-1用'!$I$4:$I$1019,"材質劣化",'様式C-1-1用'!$X$4:$X$1019,$AF10)) -> 0 | AG32: =IF($N7="","",COUNTIFS('様式C-1-1用'!$D$4:$D$1019,$N7,'様式C-1-1用'!$I$4:$I$1019,"漏水",'様式C-1-1用'!$X$4:$X$1019,$AG10)) -> 0 | AH32: =IF($N7="","",COUNTIFS('様式C-1-1用'!$D$4:$D$1019,$N7,'様式C-1-1用'!$I$4:$I$1019,"漏水",'様式C-1-1用'!$X$4:$X$1019,$AH10)) -> 0 | AI32: =IF($N7="","",COUNTIFS('様式C-1-1用'!$D$4:$D$1019,$N7,'様式C-1-1用'!$I$4:$I$1019,"漏水",'様式C-1-1用'!$X$4:$X$1019,$AI10)) -> 1 | AJ32: =IF($N7="","",COUNTIFS('様式C-1-1用'!$D$4:$D$1019,$N7,'様式C-1-1用'!$I$4:$I$1019,"漏水",'様式C-1-1用'!$X$4:$X$1019,$AJ10)) -> 0
O33: 変状区分毎の判定区分注3 | Y33: =IF(Y32>0,"Ⅳ",IF(Z32>0,"Ⅲ",IF(AA32>0,"Ⅱa",IF(AB32>0,"Ⅱb","Ⅰ")))) -> Ⅰ | AC33: =IF(AC32>0,"Ⅳ",IF(AD32>0,"Ⅲ",IF(AE32>0,"Ⅱa",IF(AF32>0,"Ⅱb","Ⅰ")))) -> Ⅱa | AG33: =IF(AG32>0,"Ⅳ",IF(AH32>0,"Ⅲ",IF(AI32>0,"Ⅱa",IF(AJ32>0,"Ⅱb","Ⅰ")))) -> Ⅱa | AQ33: Ⅳ | AR33: Ⅲ | AS33: Ⅱ
L34: 健全性の 診断結果 | O34: 判定区分 | Y34: Ⅳ | Z34: Ⅲ | AA34: Ⅱ | AC34: Ⅳ | AD34: Ⅲ | AE34: Ⅱ | AG34: Ⅳ | AH34: Ⅲ | AI34: Ⅱ | AQ34: =+Y32+Z32 -> 0 | AS34: =+AA32+AB32 -> 0
O35: 判定区分毎の変状数注4 | Y35: =IF(Y32=0,0,1) -> 0 | Z35: =IF(Z32=0,0,1) -> 0 | AA35: =IF(AND(AA32=0,AB32=0),0,1) -> 0 | AB35: =IF(AB32=0,0,1) -> 0 | AC35: =AC32 -> 0 | AD35: =AD32 -> 0 | AE35: =SUM(AE32:AF32) -> 7 | AG35: =AG32 -> 0 | AH35: =AH32 -> 0 | AI35: =SUM(AI32:AJ32) -> 1 | AQ35: =+Y32+AC35+AG35 -> 0 | AR35: =+Z32+AD35+AH35 -> 0 | AS35: =+AS34+AE35+AI35 -> 8
O36: 変状区分毎の判定区分注4 | Y36: =IF(Y35>0,"Ⅳ",IF(Z35>0,"Ⅲ",IF(AA35>0,"Ⅱ","Ⅰ"))) -> Ⅰ | AC36: =IF(AC35>0,"Ⅳ",IF(AD35>0,"Ⅲ",IF(AE35>0,"Ⅱ","Ⅰ"))) -> Ⅱ | AG36: =IF(AG35>0,"Ⅳ",IF(AH35>0,"Ⅲ",IF(AI35>0,"Ⅱ","Ⅰ"))) -> Ⅱ | AQ36: =IF(AQ35>0,"Ⅳ",IF(AR35>0,"Ⅲ",IF(AS35>0,"Ⅱ","Ⅰ"))) -> Ⅱ
O37: 覆工スパン単位の判定区分注5 | Y37: =IF(COUNTIF(Y36:AJ36,"Ⅳ")>0,"Ⅳ",IF(COUNTIF(Y36:AJ36,"Ⅲ")>0,"Ⅲ",IF(COUNTIF(Y36:AJ36,"Ⅱ")>0,"Ⅱ","Ⅰ"))) -> Ⅱ
K38: 特記事項
K40: 注1：誤記入防止のため、当該変状区分以外のセルは灰色表示とすること。
K41: 注2：応急対策を実施した場合は、その詳細を備考に記載すること。
K42: 注3：変状区分毎での最も評価の厳しい判定区分。
K43: 注4：変状区分毎での最も評価の厳しい判定区分．外力は覆工スパン単位、材質劣化、漏水は変状単位で行う。
K44: 注5：覆工スパンの中で最も評価の厳しい健全性を採用し、その覆工スパン毎の健全性とする。
B46: ※1：本シートは作成洩れのないよう、変状が無くても全スパン分を作成すること．また変状展開図は、様式D-2-1、様式D-2-1'と同じものを覆工スパン単位で拡大し掲載すること。
B47: ※2：変状番号は、様式D-1-1で記入した番号と整合させること。
B48: ※3：対策区分毎の変状発生規模は、様式D-1-1に記載した面積を記入すること（ただし外力はスパン単位で評価するため対象外とし、備考欄に状況を記入）。
B49: ※4：本様式は覆工スパン毎に作成すること。
B50: ※5：変状数が多い場合は、適時、表の行を増やして覆工スパン毎に1枚のシートに収めること。また、1スパン１シートとし、スパンに合わせてシートを追加すること。
B51: ※6：対策区分毎の変状の発生範囲の規模とは，対策を行う際に参考となる変状の長さや面積であり，変状を包含する長さや面積とする。
B52: ※7：路面滞水は、変状面積に1を記載するとともに、備考にも内容を記載すること。

Sheet 様式D-3_S(2)
AU1: 様式E-1リンク用→ | AV1: 覆工ｽﾊﾟﾝ 番号 | AW1: ｽﾊﾟﾝ 長 (m) | AX1: 変状数集計 | BS1: 覆工スパン毎の 健全性の診断 | BW1: 変状規模集計
AX2: 対策区分毎の変状数 | BJ2: 健全性の判定区分毎の変状数 | BW2: 覆工スパン長(m) | CA2: 対策区分毎の変状の発生範囲の規模(㎡）
B3: ■定期点検記録様式 覆工スパン別変状詳細展開図 【様式D-3】 | AX3: 外力 | BB3: 材質劣化 | BF3: 漏水 | BJ3: 外力 | BM3: 材質劣化 | BP3: 漏水 | BS3: 外力 | BT3: 材質劣化 | BU3: 漏水 | BV3: 健全性 | BW3: 外力※１ | CA3: 材質劣化 | CE3: 漏水
B4: フリガナ | E4: ='様式A-1'!$D$3 -> カワジリトンネル | K4: 路線名 | N4: ='様式A-1'!$J$3 -> 一般国道187号線 | T4: 定期点検業者 | Y4: =様式B!$K$5 -> 株式会社ニュージェック | AG4: 定期点検年月日 | AK4: =様式B!$Q$5 -> 44876 | AX4: Ⅳ | AY4: Ⅲ | AZ4: Ⅱa | BA4: Ⅱb | BB4: Ⅳ | BC4: Ⅲ | BD4: Ⅱa | BE4: Ⅱb | BF4: Ⅳ | BG4: Ⅲ | BH4: Ⅱa | BI4: Ⅱb | BJ4: Ⅳ | BK4: Ⅲ | BL4: Ⅱ | BM4: Ⅳ | BN4: Ⅲ | BO4: Ⅱ | BP4: Ⅳ | BQ4: Ⅲ | BR4: Ⅱ | BW4: Ⅳ | BX4: Ⅲ | BY4: Ⅱa | BZ4: Ⅱb | CA4: Ⅳ | CB4: Ⅲ | CC4: Ⅱa | CD4: Ⅱb | CE4: Ⅳ | CF4: Ⅲ | CG4: Ⅱa | CH4: Ⅱb
B5: 名 称 | E5: ='様式A-1'!$D$4 -> 川尻トンネル | K5: 管理者名 | N5: ='様式A-1'!$R$3 -> 山口県岩国土木建築事務所 | T5: 定期点検者名 | Y5: =様式B!$K$6 -> 石村勝伸 | AV5: =N7 -> 2 | AW5: =R7 -> 7 | AX5: =+Y32 -> 0 | AY5: =+Z32 -> 0 | AZ5: =+AA32 -> 0 | BA5: =+AB32 -> 0 | BB5: =+AC32 -> 0 | BC5: =+AD32 -> 0 | BD5: =+AE32 -> 5 | BE5: =+AF32 -> 0 | ... BI5: =+AJ32 -> 3 | BJ5: =+Y35 -> 0 | BK5: =+Z35 -> 0 | BL5: =+AA35 -> 0 | BM5: =+AC35 -> 0 | BN5: =+AD35 -> 0 | BO5: =+AE35 -> 5 | BP5: =+AG35 -> 0 | BQ5: =+AH35 -> 0 | BR5: =+AI35 -> 6 | BS5: =+Y36 -> Ⅰ | BT5: =+AC36 -> Ⅱ | BU5: =+AG36 -> Ⅱ | BV5: =+Y37 -> Ⅱ | BW5: =IF(Y32>0,$R$7,"") | BX5: =IF(Z32>0,"",IF(AA32>0,$R$7,"")) | BY5: =IF(Y32+Z32>0,"",IF(AA32>0,$R$7,"")) | BZ5: =IF(Y32+Z32+AA32>0,"",IF(AB32>0,$R$7,"")) | CA5: =+AC31 -> 0 | CB5: =+AD31 -> 0 | CC5: =+AE31 -> 6.14 | CD5: =+AF31 -> 0 | CE5: =+AG31 -> 0 | CF5: =+AH31 -> 0 | CG5: =+AI31 -> 2.14 | CH5: =+AJ31 -> 0.51
B6: スパン別変状展開図 | K6: 【健全性判定集計表】
K7: スパン番号 | N7: 2 | P7: スパン長 | R7: =IF(N7="","",IFERROR(INDEX('様式A-2'!$C$9:$C$434,MATCH(N7,'様式A-2'!$B$9:$B$434,0)),"")) -> 7 | U7: 前回定期点検時の健全性 | W7: 応急措置前の判定 | Y7: 対策区分毎の 変状の有無 | AC7: 対策区分毎の変状の発生範囲の規模(㎡) | AK7: 備考注2 | AS7: =$N$7&"S" -> 2S
K8: 変状番号 | L8: 対象箇所 | N8: 部位区分 | P8: 変状区分 | R8: 変状種類
Y9: 外力注1 | AC9: 材質劣化注1 | AG9: 漏水注1
Y10: Ⅳ | Z10: Ⅲ | AA10: Ⅱa | AB10: Ⅱb | AC10: Ⅳ | AD10: Ⅲ | AE10: Ⅱa | AF10: Ⅱb | AG10: Ⅳ | AH10: Ⅲ | AI10: Ⅱa | AJ10: Ⅱb
K11: =IF(L11="","",AS11) -> 1 | L11: =IFERROR(VLOOKUP($AS$7&$AS11,'様式C-1-1用'!$C$4:$AI$3000,5,0),"") -> 覆工・坑門 | N11: =IFERROR(VLOOKUP($AS$7&$AS11,'様式C-1-1用'!$C$4:$AI$3000,6,0),"") -> アーチ（天端） | P11: =IFERROR(VLOOKUP($AS$7&$AS11,'様式C-1-1用'!$C$4:$AI$3000,7,0),"") -> 材質劣化 | R11: =IFERROR(VLOOKUP($AS$7&$AS11,'様式C-1-1用'!$C$4:$AI$3000,9,0),"") -> うき・はく離 | U11: =IFERROR(VLOOKUP($AS$7&$AS11,'様式C-1-1用'!$C$4:$AI$3000,20,0),"") -> Ⅱ | W11: =IFERROR(VLOOKUP($AS$7&$AS11,'様式C-1-1用'!$C$4:$AI$3000,23,0),"") -> Ⅱ | Y11: =IFERROR(VLOOKUP($AS$7&$AS11,'様式C-1-1用'!$C$4:$CE$3000,58,0),"") -> 0 | Z11: =IFERROR(VLOOKUP($AS$7&$AS11,'様式C-1-1用'!$C$4:$BS$1004,59,0),"") -> 0 | AA11: =IFERROR(VLOOKUP($AS$7&$AS11,'様式C-1-1用'!$C$4:$BS$1004,60,0),"") -> 0 | AB11: =IFERROR(VLOOKUP($AS$7&$AS11,'様式C-1-1用'!$C$4:$BS$1004,61,0),"") -> 0 | AC11: =IFERROR(VLOOKUP($AS$7&$AS11,'様式C-1-1用'!$C$4:$BS$1004,62,0),"") -> 0 | AD11: =IFERROR(VLOOKUP($AS$7&$AS11,'様式C-1-1用'!$C$4:$BS$1003,63,0),"") -> 0 | AE11: =IFERROR(VLOOKUP($AS$7&$AS11,'様式C-1-1用'!$C$4:$BS$1003,64,0),"") -> 0.9 | AF11: =IFERROR(VLOOKUP($AS$7&$AS11,'様式C-1-1用'!$C$4:$BS$1003,65,0),"") -> 0 | AG11: =IFERROR(VLOOKUP($AS$7&$AS11,'様式C-1-1用'!$C$4:$BS$1004,66,0),"") -> 0 | AH11: =IFERROR(VLOOKUP($AS$7&$AS11,'様式C-1-1用'!$C$4:$BS$1004,67,0),"") -> 0 | AI11: =IFERROR(VLOOKUP($AS$7&$AS11,'様式C-1-1用'!$C$4:$BS$1004,68,0),"") -> 0 | AJ11: =IFERROR(VLOOKUP($AS$7&$AS11,'様式C-1-1用'!$C$4:$BS$1004,69,0),"") -> 0 | AK11: =IFERROR(VLOOKUP($AS$7&$AS11,'様式C-1-1用'!$C$4:$AI$1003,17,0),"") | AQ11: =IF(P11="外力",1,IF(P11="材質劣化",2,IF(P11="漏水",3,0))) -> 2 | AS11: 1
K12: =IF(L12="","",AS12) -> 2 | L12: =IFERROR(VLOOKUP($AS$7&$AS12,'様式C-1-1用'!$C$4:$AI$3000,5,0),"") -> 覆工・坑門 | N12: =IFERROR(VLOOKUP($AS$7&$AS12,'様式C-1-1用'!$C$4:$AI$3000,6,0),"") -> アーチ（右側） | P12: =IFERROR(VLOOKUP($AS$7&$AS12,'様式C-1-1用'!$C$4:$AI$3000,7,0),"") -> 材質劣化 | R12: =IFERROR(VLOOKUP($AS$7&$AS12,'様式C-1-1用'!$C$4:$AI$3000,9,0),"") -> うき・はく離 | U12: =IFERROR(VLOOKUP($AS$7&$AS12,'様式C-1-1用'!$C$4:$AI$3000,20,0),"") -> Ⅱ | W12: =IFERROR(VLOOKUP($AS$7&$AS12,'様式C-1-1用'!$C$4:$AI$3000,23,0),"") -> Ⅱ | Y12: =IFERROR(VLOOKUP($AS$7&$AS12,'様式C-1-1用'!$C$4:$CE$3000,58,0),"") -> 0 | Z12: =IFERROR(VLOOKUP($AS$7&$AS12,'様式C-1-1用'!$C$4:$BS$1004,59,0),"") -> 0 | AA12: =IFERROR(VLOOKUP($AS$7&$AS12,'様式C-1-1用'!$C$4:$BS$1004,60,0),"") -> 0 | AB12: =IFERROR(VLOOKUP($AS$7&$AS12,'様式C-1-1用'!$C$4:$BS$1004,61,0),"") -> 0 | AC12: =IFERROR(VLOOKUP($AS$7&$AS12,'様式C-1-1用'!$C$4:$BS$1004,62,0),"") -> 0 | AD12: =IFERROR(VLOOKUP($AS$7&$AS12,'様式C-1-1用'!$C$4:$BS$1003,63,0),"") -> 0 | AE12: =IFERROR(VLOOKUP($AS$7&$AS12,'様式C-1-1用'!$C$4:$BS$1003,64,0),"") -> 0.32 | AF12: =IFERROR(VLOOKUP($AS$7&$AS12,'様式C-1-1用'!$C$4:$BS$1003,65,0),"") -> 0 | AG12: =IFERROR(VLOOKUP($AS$7&$AS12,'様式C-1-1用'!$C$4:$BS$1004,66,0),"") -> 0 | AH12: =IFERROR(VLOOKUP($AS$7&$AS12,'様式C-1-1用'!$C$4:$BS$1004,67,0),"") -> 0 | AI12: =IFERROR(VLOOKUP($AS$7&$AS12,'様式C-1-1用'!$C$4:$BS$1004,68,0),"") -> 0 | AJ12: =IFERROR(VLOOKUP($AS$7&$AS12,'様式C-1-1用'!$C$4:$BS$1004,69,0),"") -> 0 | AK12: =IFERROR(VLOOKUP($AS$7&$AS12,'様式C-1-1用'!$C$4:$AI$1003,17,0),"") | AQ12: =IF(P12="外力",1,IF(P12="材質劣化",2,IF(P12="漏水",3,0))) -> 2 | AS12: =AS11+1 -> 2
K13: =IF(L13="","",AS13) -> 3 | L13: =IFERROR(VLOOKUP($AS$7&$AS13,'様式C-1-1用'!$C$4:$AI$3000,5,0),"") -> 覆工・坑門 | N13: =IFERROR(VLOOKUP($AS$7&$AS13,'様式C-1-1用'!$C$4:$AI$3000,6,0),"") -> アーチ（右側） | P13: =IFERROR(VLOOKUP($AS$7&$AS13,'様式C-1-1用'!$C$4:$AI$3000,7,0),"") -> 材質劣化 | R13: =IFERROR(VLOOKUP($AS$7&$AS13,'様式C-1-1用'!$C$4:$AI$3000,9,0),"") -> うき・はく離 | U13: =IFERROR(VLOOKUP($AS$7&$AS13,'様式C-1-1用'!$C$4:$AI$3000,20,0),"") -> Ⅱ | W13: =IFERROR(VLOOKUP($AS$7&$AS13,'様式C-1-1用'!$C$4:$AI$3000,23,0),"") -> Ⅰ | Y13: =IFERROR(VLOOKUP($AS$7&$AS13,'様式C-1-1用'!$C$4:$CE$3000,58,0),"") -> 0 | Z13: =IFERROR(VLOOKUP($AS$7&$AS13,'様式C-1-1用'!$C$4:$BS$1004,59,0),"") -> 0 | AA13: =IFERROR(VLOOKUP($AS$7&$AS13,'様式C-1-1用'!$C$4:$BS$1004,60,0),"") -> 0 | AB13: =IFERROR(VLOOKUP($AS$7&$AS13,'様式C-1-1用'!$C$4:$BS$1004,61,0),"") -> 0 | AC13: =IFERROR(VLOOKUP($AS$7&$AS13,'様式C-1-1用'!$C$4:$BS$1004,62,0),"") -> 0 | AD13: =IFERROR(VLOOKUP($AS$7&$AS13,'様式C-1-1用'!$C$4:$BS$1003,63,0),"") -> 0 | AE13: =IFERROR(VLOOKUP($AS$7&$AS13,'様式C-1-1用'!$C$4:$BS$1003,64,0),"") -> 0 | AF13: =IFERROR(VLOOKUP($AS$7&$AS13,'様式C-1-1用'!$C$4:$BS$1003,65,0),"") -> 0 | AG13: =IFERROR(VLOOKUP($AS$7&$AS13,'様式C-1-1用'!$C$4:$BS$1004,66,0),"") -> 0 | AH13: =IFERROR(VLOOKUP($AS$7&$AS13,'様式C-1-1用'!$C$4:$BS$1004,67,0),"") -> 0 | AI13: =IFERROR(VLOOKUP($AS$7&$AS13,'様式C-1-1用'!$C$4:$BS$1004,68,0),"") -> 0 | AJ13: =IFERROR(VLOOKUP($AS$7&$AS13,'様式C-1-1用'!$C$4:$BS$1004,69,0),"") -> 0 | AK13: =IFERROR(VLOOKUP($AS$7&$AS13,'様式C-1-1用'!$C$4:$AI$1003,17,0),"") | AQ13: =IF(P13="外力",1,IF(P13="材質劣化",2,IF(P13="漏水",3,0))) -> 2 | AS13: =AS12+1 -> 3
K14: =IF(L14="","",AS14) -> 4 | L14: =IFERROR(VLOOKUP($AS$7&$AS14,'様式C-1-1用'!$C$4:$AI$3000,5,0),"") -> 覆工・坑門 | N14: =IFERROR(VLOOKUP($AS$7&$AS14,'様式C-1-1用'!$C$4:$AI$3000,6,0),"") -> アーチ（右側） | P14: =IFERROR(VLOOKUP($AS$7&$AS14,'様式C-1-1用'!$C$4:$AI$3000,7,0),"") -> 材質劣化 | R14: =IFERROR(VLOOKUP($AS$7&$AS14,'様式C-1-1用'!$C$4:$AI$3000,9,0),"") -> うき・はく離 | U14: =IFERROR(VLOOKUP($AS$7&$AS14,'様式C-1-1用'!$C$4:$AI$3000,20,0),"") -> Ⅱ | W14: =IFERROR(VLOOKUP($AS$7&$AS14,'様式C-1-1用'!$C$4:$AI$3000,23,0),"") -> Ⅱ | Y14: =IFERROR(VLOOKUP($AS$7&$AS14,'様式C-1-1用'!$C$4:$CE$3000,58,0),"") -> 0 | Z14: =IFERROR(VLOOKUP($AS$7&$AS14,'様式C-1-1用'!$C$4:$BS$1004,59,0),"") -> 0 | AA14: =IFERROR(VLOOKUP($AS$7&$AS14,'様式C-1-1用'!$C$4:$BS$1004,60,0),"") -> 0 | AB14: =IFERROR(VLOOKUP($AS$7&$AS14,'様式C-1-1用'!$C$4:$BS$1004,61,0),"") -> 0 | AC14: =IFERROR(VLOOKUP($AS$7&$AS14,'様式C-1-1用'!$C$4:$BS$1004,62,0),"") -> 0 | AD14: =IFERROR(VLOOKUP($AS$7&$AS14,'様式C-1-1用'!$C$4:$BS$1003,63,0),"") -> 0 | AE14: =IFERROR(VLOOKUP($AS$7&$AS14,'様式C-1-1用'!$C$4:$BS$1003,64,0),"") -> 0.08 | AF14: =IFERROR(VLOOKUP($AS$7&$AS14,'様式C-1-1用'!$C$4:$BS$1003,65,0),"") -> 0 | AG14: =IFERROR(VLOOKUP($AS$7&$AS14,'様式C-1-1用'!$C$4:$BS$1004,66,0),"") -> 0 | AH14: =IFERROR(VLOOKUP($AS$7&$AS14,'様式C-1-1用'!$C$4:$BS$1004,67,0),"") -> 0 | AI14: =IFERROR(VLOOKUP($AS$7&$AS14,'様式C-1-1用'!$C$4:$BS$1004,68,0),"") -> 0 | AJ14: =IFERROR(VLOOKUP($AS$7&$AS14,'様式C-1-1用'!$C$4:$BS$1004,69,0),"") -> 0 | AK14: =IFERROR(VLOOKUP($AS$7&$AS14,'様式C-1-1用'!$C$4:$AI$1003,17,0),"") | AQ14: =IF(P14="外力",1,IF(P14="材質劣化",2,IF(P14="漏水",3,0))) -> 2 | AS14: =AS13+1 -> 4
K15: =IF(L15="","",AS15) -> 5 | L15: =IFERROR(VLOOKUP($AS$7&$AS15,'様式C-1-1用'!$C$4:$AI$3000,5,0),"") -> 覆工・坑門 | N15: =IFERROR(VLOOKUP($AS$7&$AS15,'様式C-1-1用'!$C$4:$AI$3000,6,0),"") -> アーチ（右側） | P15: =IFERROR(VLOOKUP($AS$7&$AS15,'様式C-1-1用'!$C$4:$AI$3000,7,0),"") -> 材質劣化 | R15: =IFERROR(VLOOKUP($AS$7&$AS15,'様式C-1-1用'!$C$4:$AI$3000,9,0),"") -> うき・はく離 | U15: =IFERROR(VLOOKUP($AS$7&$AS15,'様式C-1-1用'!$C$4:$AI$3000,20,0),"") -> Ⅱ | W15: =IFERROR(VLOOKUP($AS$7&$AS15,'様式C-1-1用'!$C$4:$AI$3000,23,0),"") -> Ⅱ | Y15: =IFERROR(VLOOKUP($AS$7&$AS15,'様式C-1-1用'!$C$4:$CE$3000,58,0),"") -> 0 | Z15: =IFERROR(VLOOKUP($AS$7&$AS15,'様式C-1-1用'!$C$4:$BS$1004,59,0),"") -> 0 | AA15: =IFERROR(VLOOKUP($AS$7&$AS15,'様式C-1-1用'!$C$4:$BS$1004,60,0),"") -> 0 | AB15: =IFERROR(VLOOKUP($AS$7&$AS15,'様式C-1-1用'!$C$4:$BS$1004,61,0),"") -> 0 | AC15: =IFERROR(VLOOKUP($AS$7&$AS15,'様式C-1-1用'!$C$4:$BS$1004,62,0),"") -> 0 | AD15: =IFERROR(VLOOKUP($AS$7&$AS15,'様式C-1-1用'!$C$4:$BS$1003,63,0),"") -> 0 | AE15: =IFERROR(VLOOKUP($AS$7&$AS15,'様式C-1-1用'!$C$4:$BS$1003,64,0),"") -> 0.04 | AF15: =IFERROR(VLOOKUP($AS$7&$AS15,'様式C-1-1用'!$C$4:$BS$1003,65,0),"") -> 0 | AG15: =IFERROR(VLOOKUP($AS$7&$AS15,'様式C-1-1用'!$C$4:$BS$1004,66,0),"") -> 0 | AH15: =IFERROR(VLOOKUP($AS$7&$AS15,'様式C-1-1用'!$C$4:$BS$1004,67,0),"") -> 0 | AI15: =IFERROR(VLOOKUP($AS$7&$AS15,'様式C-1-1用'!$C$4:$BS$1004,68,0),"") -> 0 | AJ15: =IFERROR(VLOOKUP($AS$7&$AS15,'様式C-1-1用'!$C$4:$BS$1004,69,0),"") -> 0 | AK15: =IFERROR(VLOOKUP($AS$7&$AS15,'様式C-1-1用'!$C$4:$AI$1003,17,0),"") | AQ15: =IF(P15="外力",1,IF(P15="材質劣化",2,IF(P15="漏水",3,0))) -> 2 | AS15: =AS14+1 -> 5
K16: =IF(L16="","",AS16) -> 6 | L16: =IFERROR(VLOOKUP($AS$7&$AS16,'様式C-1-1用'!$C$4:$AI$3000,5,0),"") -> 覆工・坑門 | N16: =IFERROR(VLOOKUP($AS$7&$AS16,'様式C-1-1用'!$C$4:$AI$3000,6,0),"") -> アーチ（右側） | P16: =IFERROR(VLOOKUP($AS$7&$AS16,'様式C-1-1用'!$C$4:$AI$3000,7,0),"") -> 漏水 | R16: =IFERROR(VLOOKUP($AS$7&$AS16,'様式C-1-1用'!$C$4:$AI$3000,9,0),"") -> 漏水 | U16: =IFERROR(VLOOKUP($AS$7&$AS16,'様式C-1-1用'!$C$4:$AI$3000,20,0),"") -> Ⅱ | W16: =IFERROR(VLOOKUP($AS$7&$AS16,'様式C-1-1用'!$C$4:$AI$3000,23,0),"") -> Ⅱ | Y16: =IFERROR(VLOOKUP($AS$7&$AS16,'様式C-1-1用'!$C$4:$CE$3000,58,0),"") -> 0 | Z16: =IFERROR(VLOOKUP($AS$7&$AS16,'様式C-1-1用'!$C$4:$BS$1004,59,0),"") -> 0 | AA16: =IFERROR(VLOOKUP($AS$7&$AS16,'様式C-1-1用'!$C$4:$BS$1004,60,0),"") -> 0 | AB16: =IFERROR(VLOOKUP($AS$7&$AS16,'様式C-1-1用'!$C$4:$BS$1004,61,0),"") -> 0 | AC16: =IFERROR(VLOOKUP($AS$7&$AS16,'様式C-1-1用'!$C$4:$BS$1004,62,0),"") -> 0 | AD16: =IFERROR(VLOOKUP($AS$7&$AS16,'様式C-1-1用'!$C$4:$BS$1003,63,0),"") -> 0 | AE16: =IFERROR(VLOOKUP($AS$7&$AS16,'様式C-1-1用'!$C$4:$BS$1003,64,0),"") -> 0 | AF16: =IFERROR(VLOOKUP($AS$7&$AS16,'様式C-1-1用'!$C$4:$BS$1003,65,0),"") -> 0 | AG16: =IFERROR(VLOOKUP($AS$7&$AS16,'様式C-1-1用'!$C$4:$BS$1004,66,0),"") -> 0 | AH16: =IFERROR(VLOOKUP($AS$7&$AS16,'様式C-1-1用'!$C$4:$BS$1004,67,0),"") -> 0 | AI16: =IFERROR(VLOOKUP($AS$7&$AS16,'様式C-1-1用'!$C$4:$BS$1004,68,0),"") -> 0.55 | AJ16: =IFERROR(VLOOKUP($AS$7&$AS16,'様式C-1-1用'!$C$4:$BS$1004,69,0),"") -> 0 | AK16: =IFERROR(VLOOKUP($AS$7&$AS16,'様式C-1-1用'!$C$4:$AI$1003,17,0),"") -> 滴水 | AQ16: =IF(P16="外力",1,IF(P16="材質劣化",2,IF(P16="漏水",3,0))) -> 3 | AS16: =AS15+1 -> 6
K17: =IF(L17="","",AS17) -> 7 | L17: =IFERROR(VLOOKUP($AS$7&$AS17,'様式C-1-1用'!$C$4:$AI$3000,5,0),"") -> 覆工・坑門 | N17: =IFERROR(VLOOKUP($AS$7&$AS17,'様式C-1-1用'!$C$4:$AI$3000,6,0),"") -> アーチ（天端） | P17: =IFERROR(VLOOKUP($AS$7&$AS17,'様式C-1-1用'!$C$4:$AI$3000,7,0),"") -> 材質劣化 | R17: =IFERROR(VLOOKUP($AS$7&$AS17,'様式C-1-1用'!$C$4:$AI$3000,9,0),"") -> うき・はく離 | U17: =IFERROR(VLOOKUP($AS$7&$AS17,'様式C-1-1用'!$C$4:$AI$3000,20,0),"") -> － | W17: =IFERROR(VLOOKUP($AS$7&$AS17,'様式C-1-1用'!$C$4:$AI$3000,23,0),"") -> Ⅱ | Y17: =IFERROR(VLOOKUP($AS$7&$AS17,'様式C-1-1用'!$C$4:$CE$3000,58,0),"") -> 0 | Z17: =IFERROR(VLOOKUP($AS$7&$AS17,'様式C-1-1用'!$C$4:$BS$1004,59,0),"") -> 0 | AA17: =IFERROR(VLOOKUP($AS$7&$AS17,'様式C-1-1用'!$C$4:$BS$1004,60,0),"") -> 0 | AB17: =IFERROR(VLOOKUP($AS$7&$AS17,'様式C-1-1用'!$C$4:$BS$1004,61,0),"") -> 0 | AC17: =IFERROR(VLOOKUP($AS$7&$AS17,'様式C-1-1用'!$C$4:$BS$1004,62,0),"") -> 0 | AD17: =IFERROR(VLOOKUP($AS$7&$AS17,'様式C-1-1用'!$C$4:$BS$1003,63,0),"") -> 0 | AE17: =IFERROR(VLOOKUP($AS$7&$AS17,'様式C-1-1用'!$C$4:$BS$1003,64,0),"") -> 4.8 | AF17: =IFERROR(VLOOKUP($AS$7&$AS17,'様式C-1-1用'!$C$4:$BS$1003,65,0),"") -> 0 | AG17: =IFERROR(VLOOKUP($AS$7&$AS17,'様式C-1-1用'!$C$4:$BS$1004,66,0),"") -> 0 | AH17: =IFERROR(VLOOKUP($AS$7&$AS17,'様式C-1-1用'!$C$4:$BS$1004,67,0),"") -> 0 | AI17: =IFERROR(VLOOKUP($AS$7&$AS17,'様式C-1-1用'!$C$4:$BS$1004,68,0),"") -> 0 | AJ17: =IFERROR(VLOOKUP($AS$7&$AS17,'様式C-1-1用'!$C$4:$BS$1004,69,0),"") -> 0 | AK17: =IFERROR(VLOOKUP($AS$7&$AS17,'様式C-1-1用'!$C$4:$AI$1003,17,0),"") | AQ17: =IF(P17="外力",1,IF(P17="材質劣化",2,IF(P17="漏水",3,0))) -> 2 | AS17: =AS16+1 -> 7
K18: =IF(L18="","",AS18) -> 8 | L18: =IFERROR(VLOOKUP($AS$7&$AS18,'様式C-1-1用'!$C$4:$AI$3000,5,0),"") -> 覆工・坑門 | N18: =IFERROR(VLOOKUP($AS$7&$AS18,'様式C-1-1用'!$C$4:$AI$3000,6,0),"") -> アーチ（右側） | P18: =IFERROR(VLOOKUP($AS$7&$AS18,'様式C-1-1用'!$C$4:$AI$3000,7,0),"") -> 漏水 | R18: =IFERROR(VLOOKUP($AS$7&$AS18,'様式C-1-1用'!$C$4:$AI$3000,9,0),"") -> 漏水 | U18: =IFERROR(VLOOKUP($AS$7&$AS18,'様式C-1-1用'!$C$4:$AI$3000,20,0),"") -> － | W18: =IFERROR(VLOOKUP($AS$7&$AS18,'様式C-1-1用'!$C$4:$AI$3000,23,0),"") -> Ⅱ | Y18: =IFERROR(VLOOKUP($AS$7&$AS18,'様式C-1-1用'!$C$4:$CE$3000,58,0),"") -> 0 | Z18: =IFERROR(VLOOKUP($AS$7&$AS18,'様式C-1-1用'!$C$4:$BS$1004,59,0),"") -> 0 | AA18: =IFERROR(VLOOKUP($AS$7&$AS18,'様式C-1-1用'!$C$4:$BS$1004,60,0),"") -> 0 | AB18: =IFERROR(VLOOKUP($AS$7&$AS18,'様式C-1-1用'!$C$4:$BS$1004,61,0),"") -> 0 | AC18: =IFERROR(VLOOKUP($AS$7&$AS18,'様式C-1-1用'!$C$4:$BS$1004,62,0),"") -> 0 | AD18: =IFERROR(VLOOKUP($AS$7&$AS18,'様式C-1-1用'!$C$4:$BS$1003,63,0),"") -> 0 | AE18: =IFERROR(VLOOKUP($AS$7&$AS18,'様式C-1-1用'!$C$4:$BS$1003,64,0),"") -> 0 | AF18: =IFERROR(VLOOKUP($AS$7&$AS18,'様式C-1-1用'!$C$4:$BS$1003,65,0),"") -> 0 | AG18: =IFERROR(VLOOKUP($AS$7&$AS18,'様式C-1-1用'!$C$4:$BS$1004,66,0),"") -> 0 | AH18: =IFERROR(VLOOKUP($AS$7&$AS18,'様式C-1-1用'!$C$4:$BS$1004,67,0),"") -> 0 | AI18: =IFERROR(VLOOKUP($AS$7&$AS18,'様式C-1-1用'!$C$4:$BS$1004,68,0),"") -> 0.86 | AJ18: =IFERROR(VLOOKUP($AS$7&$AS18,'様式C-1-1用'!$C$4:$BS$1004,69,0),"") -> 0 | AK18: =IFERROR(VLOOKUP($AS$7&$AS18,'様式C-1-1用'!$C$4:$AI$1003,17,0),"") -> 滴水 | AQ18: =IF(P18="外力",1,IF(P18="材質劣化",2,IF(P18="漏水",3,0))) -> 3 | AS18: =AS17+1 -> 8
K19: =IF(L19="","",AS19) -> 9 | L19: =IFERROR(VLOOKUP($AS$7&$AS19,'様式C-1-1用'!$C$4:$AI$3000,5,0),"") -> 覆工・坑門 | N19: =IFERROR(VLOOKUP($AS$7&$AS19,'様式C-1-1用'!$C$4:$AI$3000,6,0),"") -> アーチ（右側） | P19: =IFERROR(VLOOKUP($AS$7&$AS19,'様式C-1-1用'!$C$4:$AI$3000,7,0),"") -> 漏水 | R19: =IFERROR(VLOOKUP($AS$7&$AS19,'様式C-1-1用'!$C$4:$AI$3000,9,0),"") -> 漏水 | U19: =IFERROR(VLOOKUP($AS$7&$AS19,'様式C-1-1用'!$C$4:$AI$3000,20,0),"") -> － | W19: =IFERROR(VLOOKUP($AS$7&$AS19,'様式C-1-1用'!$C$4:$AI$3000,23,0),"") -> Ⅱ | Y19: =IFERROR(VLOOKUP($AS$7&$AS19,'様式C-1-1用'!$C$4:$CE$3000,58,0),"") -> 0 | Z19: =IFERROR(VLOOKUP($AS$7&$AS19,'様式C-1-1用'!$C$4:$BS$1004,59,0),"") -> 0 | AA19: =IFERROR(VLOOKUP($AS$7&$AS19,'様式C-1-1用'!$C$4:$BS$1004,60,0),"") -> 0 | AB19: =IFERROR(VLOOKUP($AS$7&$AS19,'様式C-1-1用'!$C$4:$BS$1004,61,0),"") -> 0 | AC19: =IFERROR(VLOOKUP($AS$7&$AS19,'様式C-1-1用'!$C$4:$BS$1004,62,0),"") -> 0 | AD19: =IFERROR(VLOOKUP($AS$7&$AS19,'様式C-1-1用'!$C$4:$BS$1003,63,0),"") -> 0 | AE19: =IFERROR(VLOOKUP($AS$7&$AS19,'様式C-1-1用'!$C$4:$BS$1003,64,0),"") -> 0 | AF19: =IFERROR(VLOOKUP($AS$7&$AS19,'様式C-1-1用'!$C$4:$BS$1003,65,0),"") -> 0 | AG19: =IFERROR(VLOOKUP($AS$7&$AS19,'様式C-1-1用'!$C$4:$BS$1004,66,0),"") -> 0 | AH19: =IFERROR(VLOOKUP($AS$7&$AS19,'様式C-1-1用'!$C$4:$BS$1004,67,0),"") -> 0 | AI19: =IFERROR(VLOOKUP($AS$7&$AS19,'様式C-1-1用'!$C$4:$BS$1004,68,0),"") -> 0.73 | AJ19: =IFERROR(VLOOKUP($AS$7&$AS19,'様式C-1-1用'!$C$4:$BS$1004,69,0),"") -> 0 | AK19: =IFERROR(VLOOKUP($AS$7&$AS19,'様式C-1-1用'!$C$4:$AI$1003,17,0),"") -> 滴水 | AQ19: =IF(P19="外力",1,IF(P19="材質劣化",2,IF(P19="漏水",3,0))) -> 3 | AS19: =AS18+1 -> 9
K20: =IF(L20="","",AS20) -> 10 | L20: =IFERROR(VLOOKUP($AS$7&$AS20,'様式C-1-1用'!$C$4:$AI$3000,5,0),"") -> 路面 | N20: =IFERROR(VLOOKUP($AS$7&$AS20,'様式C-1-1用'!$C$4:$AI$3000,6,0),"") -> 車道 | P20: =IFERROR(VLOOKUP($AS$7&$AS20,'様式C-1-1用'!$C$4:$AI$3000,7,0),"") -> 漏水 | R20: =IFERROR(VLOOKUP($AS$7&$AS20,'様式C-1-1用'!$C$4:$AI$3000,9,0),"") -> 漏水 | U20: =IFERROR(VLOOKUP($AS$7&$AS20,'様式C-1-1用'!$C$4:$AI$3000,20,0),"") -> － | W20: =IFERROR(VLOOKUP($AS$7&$AS20,'様式C-1-1用'!$C$4:$AI$3000,23,0),"") -> Ⅱ | Y20: =IFERROR(VLOOKUP($AS$7&$AS20,'様式C-1-1用'!$C$4:$CE$3000,58,0),"") -> 0 | Z20: =IFERROR(VLOOKUP($AS$7&$AS20,'様式C-1-1用'!$C$4:$BS$1004,59,0),"") -> 0 | AA20: =IFERROR(VLOOKUP($AS$7&$AS20,'様式C-1-1用'!$C$4:$BS$1004,60,0),"") -> 0 | AB20: =IFERROR(VLOOKUP($AS$7&$AS20,'様式C-1-1用'!$C$4:$BS$1004,61,0),"") -> 0 | AC20: =IFERROR(VLOOKUP($AS$7&$AS20,'様式C-1-1用'!$C$4:$BS$1004,62,0),"") -> 0 | AD20: =IFERROR(VLOOKUP($AS$7&$AS20,'様式C-1-1用'!$C$4:$BS$1003,63,0),"") -> 0 | AE20: =IFERROR(VLOOKUP($AS$7&$AS20,'様式C-1-1用'!$C$4:$BS$1003,64,0),"") -> 0 | AF20: =IFERROR(VLOOKUP($AS$7&$AS20,'様式C-1-1用'!$C$4:$BS$1003,65,0),"") -> 0 | AG20: =IFERROR(VLOOKUP($AS$7&$AS20,'様式C-1-1用'!$C$4:$BS$1004,66,0),"") -> 0 | AH20: =IFERROR(VLOOKUP($AS$7&$AS20,'様式C-1-1用'!$C$4:$BS$1004,67,0),"") -> 0 | AI20: =IFERROR(VLOOKUP($AS$7&$AS20,'様式C-1-1用'!$C$4:$BS$1004,68,0),"") -> 0 | AJ20: =IFERROR(VLOOKUP($AS$7&$AS20,'様式C-1-1用'!$C$4:$BS$1004,69,0),"") -> 0.08 | AK20: =IFERROR(VLOOKUP($AS$7&$AS20,'様式C-1-1用'!$C$4:$AI$1003,17,0),"") | AQ20: =IF(P20="外力",1,IF(P20="材質劣化",2,IF(P20="漏水",3,0))) -> 3 | AS20: =AS19+1 -> 10
K21: =IF(L21="","",AS21) -> 11 | L21: =IFERROR(VLOOKUP($AS$7&$AS21,'様式C-1-1用'!$C$4:$AI$3000,5,0),"") -> 路面 | N21: =IFERROR(VLOOKUP($AS$7&$AS21,'様式C-1-1用'!$C$4:$AI$3000,6,0),"") -> 車道 | P21: =IFERROR(VLOOKUP($AS$7&$AS21,'様式C-1-1用'!$C$4:$AI$3000,7,0),"") -> 漏水 | R21: =IFERROR(VLOOKUP($AS$7&$AS21,'様式C-1-1用'!$C$4:$AI$3000,9,0),"") -> 漏水 | U21: =IFERROR(VLOOKUP($AS$7&$AS21,'様式C-1-1用'!$C$4:$AI$3000,20,0),"") -> － | W21: =IFERROR(VLOOKUP($AS$7&$AS21,'様式C-1-1用'!$C$4:$AI$3000,23,0),"") -> Ⅱ | Y21: =IFERROR(VLOOKUP($AS$7&$AS21,'様式C-1-1用'!$C$4:$CE$3000,58,0),"") -> 0 | Z21: =IFERROR(VLOOKUP($AS$7&$AS21,'様式C-1-1用'!$C$4:$BS$1004,59,0),"") -> 0 | AA21: =IFERROR(VLOOKUP($AS$7&$AS21,'様式C-1-1用'!$C$4:$BS$1004,60,0),"") -> 0 | AB21: =IFERROR(VLOOKUP($AS$7&$AS21,'様式C-1-1用'!$C$4:$BS$1004,61,0),"") -> 0 | AC21: =IFERROR(VLOOKUP($AS$7&$AS21,'様式C-1-1用'!$C$4:$BS$1004,62,0),"") -> 0 | AD21: =IFERROR(VLOOKUP($AS$7&$AS21,'様式C-1-1用'!$C$4:$BS$1003,63,0),"") -> 0 | AE21: =IFERROR(VLOOKUP($AS$7&$AS21,'様式C-1-1用'!$C$4:$BS$1003,64,0),"") -> 0 | AF21: =IFERROR(VLOOKUP($AS$7&$AS21,'様式C-1-1用'!$C$4:$BS$1003,65,0),"") -> 0 | AG21: =IFERROR(VLOOKUP($AS$7&$AS21,'様式C-1-1用'!$C$4:$BS$1004,66,0),"") -> 0 | AH21: =IFERROR(VLOOKUP($AS$7&$AS21,'様式C-1-1用'!$C$4:$BS$1004,67,0),"") -> 0 | AI21: =IFERROR(VLOOKUP($AS$7&$AS21,'様式C-1-1用'!$C$4:$BS$1004,68,0),"") -> 0 | AJ21: =IFERROR(VLOOKUP($AS$7&$AS21,'様式C-1-1用'!$C$4:$BS$1004,69,0),"") -> 0.03 | AK21: =IFERROR(VLOOKUP($AS$7&$AS21,'様式C-1-1用'!$C$4:$AI$1003,17,0),"") | AQ21: =IF(P21="外力",1,IF(P21="材質劣化",2,IF(P21="漏水",3,0))) -> 3 | AS21: =AS20+1 -> 11
K22: =IF(L22="","",AS22) -> 12 | L22: =IFERROR(VLOOKUP($AS$7&$AS22,'様式C-1-1用'!$C$4:$AI$3000,5,0),"") -> 路面 | N22: =IFERROR(VLOOKUP($AS$7&$AS22,'様式C-1-1用'!$C$4:$AI$3000,6,0),"") -> 車道 | P22: =IFERROR(VLOOKUP($AS$7&$AS22,'様式C-1-1用'!$C$4:$AI$3000,7,0),"") -> 漏水 | R22: =IFERROR(VLOOKUP($AS$7&$AS22,'様式C-1-1用'!$C$4:$AI$3000,9,0),"") -> 漏水 | U22: =IFERROR(VLOOKUP($AS$7&$AS22,'様式C-1-1用'!$C$4:$AI$3000,20,0),"") -> － | W22: =IFERROR(VLOOKUP($AS$7&$AS22,'様式C-1-1用'!$C$4:$AI$3000,23,0),"") -> Ⅱ | Y22: =IFERROR(VLOOKUP($AS$7&$AS22,'様式C-1-1用'!$C$4:$CE$3000,58,0),"") -> 0 | Z22: =IFERROR(VLOOKUP($AS$7&$AS22,'様式C-1-1用'!$C$4:$BS$1004,59,0),"") -> 0 | AA22: =IFERROR(VLOOKUP($AS$7&$AS22,'様式C-1-1用'!$C$4:$BS$1004,60,0),"") -> 0 | AB22: =IFERROR(VLOOKUP($AS$7&$AS22,'様式C-1-1用'!$C$4:$BS$1004,61,0),"") -> 0 | AC22: =IFERROR(VLOOKUP($AS$7&$AS22,'様式C-1-1用'!$C$4:$BS$1004,62,0),"") -> 0 | AD22: =IFERROR(VLOOKUP($AS$7&$AS22,'様式C-1-1用'!$C$4:$BS$1003,63,0),"") -> 0 | AE22: =IFERROR(VLOOKUP($AS$7&$AS22,'様式C-1-1用'!$C$4:$BS$1003,64,0),"") -> 0 | AF22: =IFERROR(VLOOKUP($AS$7&$AS22,'様式C-1-1用'!$C$4:$BS$1003,65,0),"") -> 0 | AG22: =IFERROR(VLOOKUP($AS$7&$AS22,'様式C-1-1用'!$C$4:$BS$1004,66,0),"") -> 0 | AH22: =IFERROR(VLOOKUP($AS$7&$AS22,'様式C-1-1用'!$C$4:$BS$1004,67,0),"") -> 0 | AI22: =IFERROR(VLOOKUP($AS$7&$AS22,'様式C-1-1用'!$C$4:$BS$1004,68,0),"") -> 0 | AJ22: =IFERROR(VLOOKUP($AS$7&$AS22,'様式C-1-1用'!$C$4:$BS$1004,69,0),"") -> 0.4 | AK22: =IFERROR(VLOOKUP($AS$7&$AS22,'様式C-1-1用'!$C$4:$AI$1003,17,0),"") | AQ22: =IF(P22="外力",1,IF(P22="材質劣化",2,IF(P22="漏水",3,0))) -> 3 | AS22: =AS21+1 -> 12
K23: =IF(L23="","",AS23) | L23: =IFERROR(VLOOKUP($AS$7&$AS23,'様式C-1-1用'!$C$4:$AI$3000,5,0),"") | N23: =IFERROR(VLOOKUP($AS$7&$AS23,'様式C-1-1用'!$C$4:$AI$3000,6,0),"") | P23: =IFERROR(VLOOKUP($AS$7&$AS23,'様式C-1-1用'!$C$4:$AI$3000,7,0),"") | R23: =IFERROR(VLOOKUP($AS$7&$AS23,'様式C-1-1用'!$C$4:$AI$3000,9,0),"") | U23: =IFERROR(VLOOKUP($AS$7&$AS23,'様式C-1-1用'!$C$4:$AI$3000,20,0),"") | W23: =IFERROR(VLOOKUP($AS$7&$AS23,'様式C-1-1用'!$C$4:$AI$3000,23,0),"") | Y23: =IFERROR(VLOOKUP($AS$7&$AS23,'様式C-1-1用'!$C$4:$CE$3000,58,0),"") | Z23: =IFERROR(VLOOKUP($AS$7&$AS23,'様式C-1-1用'!$C$4:$BS$1004,59,0),"") | AA23: =IFERROR(VLOOKUP($AS$7&$AS23,'様式C-1-1用'!$C$4:$BS$1004,60,0),"") | AB23: =IFERROR(VLOOKUP($AS$7&$AS23,'様式C-1-1用'!$C$4:$BS$1004,61,0),"") | AC23: =IFERROR(VLOOKUP($AS$7&$AS23,'様式C-1-1用'!$C$4:$BS$1004,62,0),"") | AD23: =IFERROR(VLOOKUP($AS$7&$AS23,'様式C-1-1用'!$C$4:$BS$1003,63,0),"") | AE23: =IFERROR(VLOOKUP($AS$7&$AS23,'様式C-1-1用'!$C$4:$BS$1003,64,0),"") | AF23: =IFERROR(VLOOKUP($AS$7&$AS23,'様式C-1-1用'!$C$4:$BS$1003,65,0),"") | AG23: =IFERROR(VLOOKUP($AS$7&$AS23,'様式C-1-1用'!$C$4:$BS$1004,66,0),"") | AH23: =IFERROR(VLOOKUP($AS$7&$AS23,'様式C-1-1用'!$C$4:$BS$1004,67,0),"") | AI23: =IFERROR(VLOOKUP($AS$7&$AS23,'様式C-1-1用'!$C$4:$BS$1004,68,0),"") | AJ23: =IFERROR(VLOOKUP($AS$7&$AS23,'様式C-1-1用'!$C$4:$BS$1004,69,0),"") | AK23: =IFERROR(VLOOKUP($AS$7&$AS23,'様式C-1-1用'!$C$4:$AI$1003,17,0),"") | AQ23: =IF(P23="外力",1,IF(P23="材質劣化",2,IF(P23="漏水",3,0))) -> 0 | AS23: =AS22+1 -> 13
... K30: =IF(L30="","",AS30) | L30: =IFERROR(VLOOKUP($AS$7&$AS30,'様式C-1-1用'!$C$4:$AI$3000,5,0),"") | N30: =IFERROR(VLOOKUP($AS$7&$AS30,'様式C-1-1用'!$C$4:$AI$3000,6,0),"") | P30: =IFERROR(VLOOKUP($AS$7&$AS30,'様式C-1-1用'!$C$4:$AI$3000,7,0),"") | R30: =IFERROR(VLOOKUP($AS$7&$AS30,'様式C-1-1用'!$C$4:$AI$3000,9,0),"") | U30: =IFERROR(VLOOKUP($AS$7&$AS30,'様式C-1-1用'!$C$4:$AI$3000,20,0),"") | W30: =IFERROR(VLOOKUP($AS$7&$AS30,'様式C-1-1用'!$C$4:$AI$3000,23,0),"") | Y30: =IFERROR(VLOOKUP($AS$7&$AS30,'様式C-1-1用'!$C$4:$CE$3000,58,0),"") | Z30: =IFERROR(VLOOKUP($AS$7&$AS30,'様式C-1-1用'!$C$4:$BS$1004,59,0),"") | AA30: =IFERROR(VLOOKUP($AS$7&$AS30,'様式C-1-1用'!$C$4:$BS$1004,60,0),"") | AB30: =IFERROR(VLOOKUP($AS$7&$AS30,'様式C-1-1用'!$C$4:$BS$1004,61,0),"") | AC30: =IFERROR(VLOOKUP($AS$7&$AS30,'様式C-1-1用'!$C$4:$BS$1004,62,0),"") | AD30: =IFERROR(VLOOKUP($AS$7&$AS30,'様式C-1-1用'!$C$4:$BS$1003,63,0),"") | AE30: =IFERROR(VLOOKUP($AS$7&$AS30,'様式C-1-1用'!$C$4:$BS$1003,64,0),"") | AF30: =IFERROR(VLOOKUP($AS$7&$AS30,'様式C-1-1用'!$C$4:$BS$1003,65,0),"") | AG30: =IFERROR(VLOOKUP($AS$7&$AS30,'様式C-1-1用'!$C$4:$BS$1004,66,0),"") | AH30: =IFERROR(VLOOKUP($AS$7&$AS30,'様式C-1-1用'!$C$4:$BS$1004,67,0),"") | AI30: =IFERROR(VLOOKUP($AS$7&$AS30,'様式C-1-1用'!$C$4:$BS$1004,68,0),"") | AJ30: =IFERROR(VLOOKUP($AS$7&$AS30,'様式C-1-1用'!$C$4:$BS$1004,69,0),"") | AK30: =IFERROR(VLOOKUP($AS$7&$AS30,'様式C-1-1用'!$C$4:$AI$1003,17,0),"") | AQ30: =IF(P30="外力",1,IF(P30="材質劣化",2,IF(P30="漏水",3,0))) -> 0 | AS30: =AS29+1 -> 20
K31: 集計 ・ 判定 ・ 診断 | L31: 変状の発生規模合計(㎡) | Y31: － | AC31: =SUM(AC11:AC30) -> 0 | AD31: =SUM(AD11:AD30) -> 0 | AE31: =SUM(AE11:AE30) -> 6.14 | AF31: =SUM(AF11:AF30) -> 0 | AG31: =SUM(AG11:AG30) -> 0 | AH31: =SUM(AH11:AH30) -> 0 | AI31: =SUM(AI11:AI30) -> 2.14 | AJ31: =SUM(AJ11:AJ30) -> 0.51 | AK31: 計
L32: 対策区分の 判定結果 | O32: 判定区分毎の変状数 | Y32: =COUNTIF(Y11:Y30,"〇") -> 0 | Z32: =COUNTIF(Z11:Z30,"〇") -> 0 | AA32: =COUNTIF(AA11:AA30,"〇") -> 0 | AB32: =COUNTIF(AB11:AB30,"〇") -> 0 | AC32: =IF($N7="","",COUNTIFS('様式C-1-1用'!$D$4:$D$1019,$N7,'様式C-1-1用'!$I$4:$I$1019,"材質劣化",'様式C-1-1用'!$X$4:$X$1019,$AC10)) -> 0 | AD32: =IF($N7="","",COUNTIFS('様式C-1-1用'!$D$4:$D$1019,$N7,'様式C-1-1用'!$I$4:$I$1019,"材質劣化",'様式C-1-1用'!$X$4:$X$1019,$AD10)) -> 0 | AE32: =IF($N7="","",COUNTIFS('様式C-1-1用'!$D$4:$D$1019,$N7,'様式C-1-1用'!$I$4:$I$1019,"材質劣化",'様式C-1-1用'!$X$4:$X$1019,$AE10)) -> 5 | AF32: =IF($N7="","",COUNTIFS('様式C-1-1用'!$D$4:$D$1019,$N7,'様式C-1-1用'!$I$4:$I$1019,"材質劣化",'様式C-1-1用'!$X$4:$X$1019,$AF10)) -> 0 | AG32: =IF($N7="","",COUNTIFS('様式C-1-1用'!$D$4:$D$1019,$N7,'様式C-1-1用'!$I$4:$I$1019,"漏水",'様式C-1-1用'!$X$4:$X$1019,$AG10)) -> 0 | AH32: =IF($N7="","",COUNTIFS('様式C-1-1用'!$D$4:$D$1019,$N7,'様式C-1-1用'!$I$4:$I$1019,"漏水",'様式C-1-1用'!$X$4:$X$1019,$AH10)) -> 0 | AI32: =IF($N7="","",COUNTIFS('様式C-1-1用'!$D$4:$D$1019,$N7,'様式C-1-1用'!$I$4:$I$1019,"漏水",'様式C-1-1用'!$X$4:$X$1019,$AI10)) -> 3 | AJ32: =IF($N7="","",COUNTIFS('様式C-1-1用'!$D$4:$D$1019,$N7,'様式C-1-1用'!$I$4:$I$1019,"漏水",'様式C-1-1用'!$X$4:$X$1019,$AJ10)) -> 3
O33: 変状区分毎の判定区分注3 | Y33: =IF(Y32>0,"Ⅳ",IF(Z32>0,"Ⅲ",IF(AA32>0,"Ⅱa",IF(AB32>0,"Ⅱb","Ⅰ")))) -> Ⅰ | AC33: =IF(AC32>0,"Ⅳ",IF(AD32>0,"Ⅲ",IF(AE32>0,"Ⅱa",IF(AF32>0,"Ⅱb","Ⅰ")))) -> Ⅱa | AG33: =IF(AG32>0,"Ⅳ",IF(AH32>0,"Ⅲ",IF(AI32>0,"Ⅱa",IF(AJ32>0,"Ⅱb","Ⅰ")))) -> Ⅱa | AQ33: Ⅳ | AR33: Ⅲ | AS33: Ⅱ
L34: 健全性の 診断結果 | O34: 判定区分 | Y34: Ⅳ | Z34: Ⅲ | AA34: Ⅱ | AC34: Ⅳ | AD34: Ⅲ | AE34: Ⅱ | AG34: Ⅳ | AH34: Ⅲ | AI34: Ⅱ | AQ34: =+Y32+Z32 -> 0 | AS34: =+AA32+AB32 -> 0
O35: 判定区分毎の変状数注4 | Y35: =IF(Y32=0,0,1) -> 0 | Z35: =IF(Z32=0,0,1) -> 0 | AA35: =IF(AND(AA32=0,AB32=0),0,1) -> 0 | AB35: =IF(AB32=0,0,1) -> 0 | AC35: =AC32 -> 0 | AD35: =AD32 -> 0 | AE35: =SUM(AE32:AF32) -> 5 | AG35: =AG32 -> 0 | AH35: =AH32 -> 0 | AI35: =SUM(AI32:AJ32) -> 6 | AQ35: =+Y32+AC35+AG35 -> 0 | AR35: =+Z32+AD35+AH35 -> 0 | AS35: =+AS34+AE35+AI35 -> 11
O36: 変状区分毎の判定区分注4 | Y36: =IF(Y35>0,"Ⅳ",IF(Z35>0,"Ⅲ",IF(AA35>0,"Ⅱ","Ⅰ"))) -> Ⅰ | AC36: =IF(AC35>0,"Ⅳ",IF(AD35>0,"Ⅲ",IF(AE35>0,"Ⅱ","Ⅰ"))) -> Ⅱ | AG36: =IF(AG35>0,"Ⅳ",IF(AH35>0,"Ⅲ",IF(AI35>0,"Ⅱ","Ⅰ"))) -> Ⅱ | AQ36: =IF(AQ35>0,"Ⅳ",IF(AR35>0,"Ⅲ",IF(AS35>0,"Ⅱ","Ⅰ"))) -> Ⅱ
O37: 覆工スパン単位の判定区分注5 | Y37: =IF(COUNTIF(Y36:AJ36,"Ⅳ")>0,"Ⅳ",IF(COUNTIF(Y36:AJ36,"Ⅲ")>0,"Ⅲ",IF(COUNTIF(Y36:AJ36,"Ⅱ")>0,"Ⅱ","Ⅰ"))) -> Ⅱ
K38: 特記事項
K40: 注1：誤記入防止のため、当該変状区分以外のセルは灰色表示とすること。
K41: 注2：応急対策を実施した場合は、その詳細を備考に記載すること。
K42: 注3：変状区分毎での最も評価の厳しい判定区分。
K43: 注4：変状区分毎での最も評価の厳しい判定区分．外力は覆工スパン単位、材質劣化、漏水は変状単位で行う。
K44: 注5：覆工スパンの中で最も評価の厳しい健全性を採用し、その覆工スパン毎の健全性とする。
B46: ※1：本シートは作成洩れのないよう、変状が無くても全スパン分を作成すること．また変状展開図は、様式D-2-1、様式D-2-1'と同じものを覆工スパン単位で拡大し掲載すること。
B47: ※2：変状番号は、様式D-1-1で記入した番号と整合させること。
B48: ※3：対策区分毎の変状発生規模は、様式D-1-1に記載した面積を記入すること（ただし外力はスパン単位で評価するため対象外とし、備考欄に状況を記入）。
B49: ※4：本様式は覆工スパン毎に作成すること。
B50: ※5：変状数が多い場合は、適時、表の行を増やして覆工スパン毎に1枚のシートに収めること。また、1スパン１シートとし、スパンに合わせてシートを追加すること。
B51: ※6：対策区分毎の変状の発生範囲の規模とは，対策を行う際に参考となる変状の長さや面積であり，変状を包含する長さや面積とする。
B52: ※7：路面滞水は、変状面積に1を記載するとともに、備考にも内容を記載すること。

Sheet 様式D-3_S(PE)
AU1: 様式E-1リンク用→ | AV1: 覆工ｽﾊﾟﾝ 番号 | AW1: ｽﾊﾟﾝ 長 (m) | AX1: 変状数集計 | BS1: 覆工スパン毎の 健全性の診断 | BW1: 変状規模集計
AX2: 対策区分毎の変状数 | BJ2: 健全性の判定区分毎の変状数 | BW2: 覆工スパン長(m) | CA2: 対策区分毎の変状の発生範囲の規模(㎡）
B3: ■定期点検記録様式 覆工スパン別変状詳細展開図 【様式D-3】 | AX3: 外力 | BB3: 材質劣化 | BF3: 漏水 | BJ3: 外力 | BM3: 材質劣化 | BP3: 漏水 | BS3: 外力 | BT3: 材質劣化 | BU3: 漏水 | BV3: 健全性 | BW3: 外力※１ | CA3: 材質劣化 | CE3: 漏水
B4: フリガナ | E4: ='様式A-1'!$D$3 -> カワジリトンネル | K4: 路線名 | N4: ='様式A-1'!$J$3 -> 一般国道187号線 | T4: 定期点検業者 | Y4: =様式B!$K$5 -> 株式会社ニュージェック | AG4: 定期点検年月日 | AK4: =様式B!$Q$5 -> 44876 | AX4: Ⅳ | AY4: Ⅲ | AZ4: Ⅱa | BA4: Ⅱb | BB4: Ⅳ | BC4: Ⅲ | BD4: Ⅱa | BE4: Ⅱb | BF4: Ⅳ | BG4: Ⅲ | BH4: Ⅱa | BI4: Ⅱb | BJ4: Ⅳ | BK4: Ⅲ | BL4: Ⅱ | BM4: Ⅳ | BN4: Ⅲ | BO4: Ⅱ | BP4: Ⅳ | BQ4: Ⅲ | BR4: Ⅱ | BW4: Ⅳ | BX4: Ⅲ | BY4: Ⅱa | BZ4: Ⅱb | CA4: Ⅳ | CB4: Ⅲ | CC4: Ⅱa | CD4: Ⅱb | CE4: Ⅳ | CF4: Ⅲ | CG4: Ⅱa | CH4: Ⅱb
B5: 名 称 | E5: ='様式A-1'!$D$4 -> 川尻トンネル | K5: 管理者名 | N5: ='様式A-1'!$R$3 -> 山口県岩国土木建築事務所 | T5: 定期点検者名 | Y5: =様式B!$K$6 -> 石村勝伸 | AV5: =N7 -> PE | AW5: =R7 -> 3.1 | AX5: =+Y32 -> 0 | AY5: =+Z32 -> 0 | AZ5: =+AA32 -> 0 | BA5: =+AB32 -> 0 | BB5: =+AC32 -> 0 | BC5: =+AD32 -> 0 | BD5: =+AE32 -> 2 | BE5: =+AF32 -> 1 | ... BI5: =+AJ32 -> 1 | BJ5: =+Y35 -> 0 | BK5: =+Z35 -> 0 | BL5: =+AA35 -> 0 | BM5: =+AC35 -> 0 | BN5: =+AD35 -> 0 | BO5: =+AE35 -> 3 | BP5: =+AG35 -> 0 | BQ5: =+AH35 -> 0 | BR5: =+AI35 -> 1 | BS5: =+Y36 -> Ⅰ | BT5: =+AC36 -> Ⅱ | BU5: =+AG36 -> Ⅱ | BV5: =+Y37 -> Ⅱ | BW5: =IF(Y32>0,$R$7,"") | BX5: =IF(Z32>0,"",IF(AA32>0,$R$7,"")) | BY5: =IF(Y32+Z32>0,"",IF(AA32>0,$R$7,"")) | BZ5: =IF(Y32+Z32+AA32>0,"",IF(AB32>0,$R$7,"")) | CA5: =+AC31 -> 0 | CB5: =+AD31 -> 0 | CC5: =+AE31 -> 8.5 | CD5: =+AF31 -> 8.12 | CE5: =+AG31 -> 0 | CF5: =+AH31 -> 0 | CG5: =+AI31 -> 0 | CH5: =+AJ31 -> 0.12
B6: スパン別変状展開図 | K6: 【健全性判定集計表】
K7: スパン番号 | N7: PE | P7: スパン長 | R7: =IF(N7="","",IFERROR(INDEX('様式A-2'!$C$9:$C$434,MATCH(N7,'様式A-2'!$B$9:$B$434,0)),"")) -> 3.1 | U7: 前回定期点検時の健全性 | W7: 応急措置前の判定 | Y7: 対策区分毎の 変状の有無 | AC7: 対策区分毎の変状の発生範囲の規模(㎡) | AK7: 備考注2 | AS7: =$N$7&"S" -> PES
K8: 変状番号 | L8: 対象箇所 | N8: 部位区分 | P8: 変状区分 | R8: 変状種類
Y9: 外力注1 | AC9: 材質劣化注1 | AG9: 漏水注1
Y10: Ⅳ | Z10: Ⅲ | AA10: Ⅱa | AB10: Ⅱb | AC10: Ⅳ | AD10: Ⅲ | AE10: Ⅱa | AF10: Ⅱb | AG10: Ⅳ | AH10: Ⅲ | AI10: Ⅱa | AJ10: Ⅱb
K11: =IF(L11="","",AS11) -> 1 | L11: =IFERROR(VLOOKUP($AS$7&$AS11,'様式C-1-1用'!$C$4:$AI$3000,5,0),"") -> 覆工・坑門 | N11: =IFERROR(VLOOKUP($AS$7&$AS11,'様式C-1-1用'!$C$4:$AI$3000,6,0),"") -> アーチ（右側） | P11: =IFERROR(VLOOKUP($AS$7&$AS11,'様式C-1-1用'!$C$4:$AI$3000,7,0),"") -> 材質劣化 | R11: =IFERROR(VLOOKUP($AS$7&$AS11,'様式C-1-1用'!$C$4:$AI$3000,9,0),"") -> うき・はく離 | U11: =IFERROR(VLOOKUP($AS$7&$AS11,'様式C-1-1用'!$C$4:$AI$3000,20,0),"") -> － | W11: =IFERROR(VLOOKUP($AS$7&$AS11,'様式C-1-1用'!$C$4:$AI$3000,23,0),"") -> Ⅱ | Y11: =IFERROR(VLOOKUP($AS$7&$AS11,'様式C-1-1用'!$C$4:$CE$3000,58,0),"") -> 0 | Z11: =IFERROR(VLOOKUP($AS$7&$AS11,'様式C-1-1用'!$C$4:$BS$1004,59,0),"") -> 0 | AA11: =IFERROR(VLOOKUP($AS$7&$AS11,'様式C-1-1用'!$C$4:$BS$1004,60,0),"") -> 0 | AB11: =IFERROR(VLOOKUP($AS$7&$AS11,'様式C-1-1用'!$C$4:$BS$1004,61,0),"") -> 0 | AC11: =IFERROR(VLOOKUP($AS$7&$AS11,'様式C-1-1用'!$C$4:$BS$1004,62,0),"") -> 0 | AD11: =IFERROR(VLOOKUP($AS$7&$AS11,'様式C-1-1用'!$C$4:$BS$1003,63,0),"") -> 0 | AE11: =IFERROR(VLOOKUP($AS$7&$AS11,'様式C-1-1用'!$C$4:$BS$1003,64,0),"") -> 1 | AF11: =IFERROR(VLOOKUP($AS$7&$AS11,'様式C-1-1用'!$C$4:$BS$1003,65,0),"") -> 0 | AG11: =IFERROR(VLOOKUP($AS$7&$AS11,'様式C-1-1用'!$C$4:$BS$1004,66,0),"") -> 0 | AH11: =IFERROR(VLOOKUP($AS$7&$AS11,'様式C-1-1用'!$C$4:$BS$1004,67,0),"") -> 0 | AI11: =IFERROR(VLOOKUP($AS$7&$AS11,'様式C-1-1用'!$C$4:$BS$1004,68,0),"") -> 0 | AJ11: =IFERROR(VLOOKUP($AS$7&$AS11,'様式C-1-1用'!$C$4:$BS$1004,69,0),"") -> 0 | AK11: =IFERROR(VLOOKUP($AS$7&$AS11,'様式C-1-1用'!$C$4:$AI$1003,17,0),"") | AQ11: =IF(P11="外力",1,IF(P11="材質劣化",2,IF(P11="漏水",3,0))) -> 2 | AS11: 1
K12: =IF(L12="","",AS12) -> 2 | L12: =IFERROR(VLOOKUP($AS$7&$AS12,'様式C-1-1用'!$C$4:$AI$3000,5,0),"") -> 覆工・坑門 | N12: =IFERROR(VLOOKUP($AS$7&$AS12,'様式C-1-1用'!$C$4:$AI$3000,6,0),"") -> 側壁（右側） | P12: =IFERROR(VLOOKUP($AS$7&$AS12,'様式C-1-1用'!$C$4:$AI$3000,7,0),"") -> 材質劣化 | R12: =IFERROR(VLOOKUP($AS$7&$AS12,'様式C-1-1用'!$C$4:$AI$3000,9,0),"") -> うき・はく離 | U12: =IFERROR(VLOOKUP($AS$7&$AS12,'様式C-1-1用'!$C$4:$AI$3000,20,0),"") -> － | W12: =IFERROR(VLOOKUP($AS$7&$AS12,'様式C-1-1用'!$C$4:$AI$3000,23,0),"") -> Ⅱ | Y12: =IFERROR(VLOOKUP($AS$7&$AS12,'様式C-1-1用'!$C$4:$CE$3000,58,0),"") -> 0 | Z12: =IFERROR(VLOOKUP($AS$7&$AS12,'様式C-1-1用'!$C$4:$BS$1004,59,0),"") -> 0 | AA12: =IFERROR(VLOOKUP($AS$7&$AS12,'様式C-1-1用'!$C$4:$BS$1004,60,0),"") -> 0 | AB12: =IFERROR(VLOOKUP($AS$7&$AS12,'様式C-1-1用'!$C$4:$BS$1004,61,0),"") -> 0 | AC12: =IFERROR(VLOOKUP($AS$7&$AS12,'様式C-1-1用'!$C$4:$BS$1004,62,0),"") -> 0 | AD12: =IFERROR(VLOOKUP($AS$7&$AS12,'様式C-1-1用'!$C$4:$BS$1003,63,0),"") -> 0 | AE12: =IFERROR(VLOOKUP($AS$7&$AS12,'様式C-1-1用'!$C$4:$BS$1003,64,0),"") -> 0 | AF12: =IFERROR(VLOOKUP($AS$7&$AS12,'様式C-1-1用'!$C$4:$BS$1003,65,0),"") -> 8.12 | AG12: =IFERROR(VLOOKUP($AS$7&$AS12,'様式C-1-1用'!$C$4:$BS$1004,66,0),"") -> 0 | AH12: =IFERROR(VLOOKUP($AS$7&$AS12,'様式C-1-1用'!$C$4:$BS$1004,67,0),"") -> 0 | AI12: =IFERROR(VLOOKUP($AS$7&$AS12,'様式C-1-1用'!$C$4:$BS$1004,68,0),"") -> 0 | AJ12: =IFERROR(VLOOKUP($AS$7&$AS12,'様式C-1-1用'!$C$4:$BS$1004,69,0),"") -> 0 | AK12: =IFERROR(VLOOKUP($AS$7&$AS12,'様式C-1-1用'!$C$4:$AI$1003,17,0),"") | AQ12: =IF(P12="外力",1,IF(P12="材質劣化",2,IF(P12="漏水",3,0))) -> 2 | AS12: =AS11+1 -> 2
K13: =IF(L13="","",AS13) -> 3 | L13: =IFERROR(VLOOKUP($AS$7&$AS13,'様式C-1-1用'!$C$4:$AI$3000,5,0),"") -> 覆工・坑門 | N13: =IFERROR(VLOOKUP($AS$7&$AS13,'様式C-1-1用'!$C$4:$AI$3000,6,0),"") -> 面壁・妻壁等 | P13: =IFERROR(VLOOKUP($AS$7&$AS13,'様式C-1-1用'!$C$4:$AI$3000,7,0),"") -> 材質劣化 | R13: =IFERROR(VLOOKUP($AS$7&$AS13,'様式C-1-1用'!$C$4:$AI$3000,9,0),"") -> うき・はく離 | U13: =IFERROR(VLOOKUP($AS$7&$AS13,'様式C-1-1用'!$C$4:$AI$3000,20,0),"") -> － | W13: =IFERROR(VLOOKUP($AS$7&$AS13,'様式C-1-1用'!$C$4:$AI$3000,23,0),"") -> Ⅱ | Y13: =IFERROR(VLOOKUP($AS$7&$AS13,'様式C-1-1用'!$C$4:$CE$3000,58,0),"") -> 0 | Z13: =IFERROR(VLOOKUP($AS$7&$AS13,'様式C-1-1用'!$C$4:$BS$1004,59,0),"") -> 0 | AA13: =IFERROR(VLOOKUP($AS$7&$AS13,'様式C-1-1用'!$C$4:$BS$1004,60,0),"") -> 0 | AB13: =IFERROR(VLOOKUP($AS$7&$AS13,'様式C-1-1用'!$C$4:$BS$1004,61,0),"") -> 0 | AC13: =IFERROR(VLOOKUP($AS$7&$AS13,'様式C-1-1用'!$C$4:$BS$1004,62,0),"") -> 0 | AD13: =IFERROR(VLOOKUP($AS$7&$AS13,'様式C-1-1用'!$C$4:$BS$1003,63,0),"") -> 0 | AE13: =IFERROR(VLOOKUP($AS$7&$AS13,'様式C-1-1用'!$C$4:$BS$1003,64,0),"") -> 7.5 | AF13: =IFERROR(VLOOKUP($AS$7&$AS13,'様式C-1-1用'!$C$4:$BS$1003,65,0),"") -> 0 | AG13: =IFERROR(VLOOKUP($AS$7&$AS13,'様式C-1-1用'!$C$4:$BS$1004,66,0),"") -> 0 | AH13: =IFERROR(VLOOKUP($AS$7&$AS13,'様式C-1-1用'!$C$4:$BS$1004,67,0),"") -> 0 | AI13: =IFERROR(VLOOKUP($AS$7&$AS13,'様式C-1-1用'!$C$4:$BS$1004,68,0),"") -> 0 | AJ13: =IFERROR(VLOOKUP($AS$7&$AS13,'様式C-1-1用'!$C$4:$BS$1004,69,0),"") -> 0 | AK13: =IFERROR(VLOOKUP($AS$7&$AS13,'様式C-1-1用'!$C$4:$AI$1003,17,0),"") | AQ13: =IF(P13="外力",1,IF(P13="材質劣化",2,IF(P13="漏水",3,0))) -> 2 | AS13: =AS12+1 -> 3
K14: =IF(L14="","",AS14) -> 4 | L14: =IFERROR(VLOOKUP($AS$7&$AS14,'様式C-1-1用'!$C$4:$AI$3000,5,0),"") -> 路面 | N14: =IFERROR(VLOOKUP($AS$7&$AS14,'様式C-1-1用'!$C$4:$AI$3000,6,0),"") -> 車道 | P14: =IFERROR(VLOOKUP($AS$7&$AS14,'様式C-1-1用'!$C$4:$AI$3000,7,0),"") -> 漏水 | R14: =IFERROR(VLOOKUP($AS$7&$AS14,'様式C-1-1用'!$C$4:$AI$3000,9,0),"") -> 漏水 | U14: =IFERROR(VLOOKUP($AS$7&$AS14,'様式C-1-1用'!$C$4:$AI$3000,20,0),"") -> － | W14: =IFERROR(VLOOKUP($AS$7&$AS14,'様式C-1-1用'!$C$4:$AI$3000,23,0),"") -> Ⅱ | Y14: =IFERROR(VLOOKUP($AS$7&$AS14,'様式C-1-1用'!$C$4:$CE$3000,58,0),"") -> 0 | Z14: =IFERROR(VLOOKUP($AS$7&$AS14,'様式C-1-1用'!$C$4:$BS$1004,59,0),"") -> 0 | AA14: =IFERROR(VLOOKUP($AS$7&$AS14,'様式C-1-1用'!$C$4:$BS$1004,60,0),"") -> 0 | AB14: =IFERROR(VLOOKUP($AS$7&$AS14,'様式C-1-1用'!$C$4:$BS$1004,61,0),"") -> 0 | AC14: =IFERROR(VLOOKUP($AS$7&$AS14,'様式C-1-1用'!$C$4:$BS$1004,62,0),"") -> 0 | AD14: =IFERROR(VLOOKUP($AS$7&$AS14,'様式C-1-1用'!$C$4:$BS$1003,63,0),"") -> 0 | AE14: =IFERROR(VLOOKUP($AS$7&$AS14,'様式C-1-1用'!$C$4:$BS$1003,64,0),"") -> 0 | AF14: =IFERROR(VLOOKUP($AS$7&$AS14,'様式C-1-1用'!$C$4:$BS$1003,65,0),"") -> 0 | AG14: =IFERROR(VLOOKUP($AS$7&$AS14,'様式C-1-1用'!$C$4:$BS$1004,66,0),"") -> 0 | AH14: =IFERROR(VLOOKUP($AS$7&$AS14,'様式C-1-1用'!$C$4:$BS$1004,67,0),"") -> 0 | AI14: =IFERROR(VLOOKUP($AS$7&$AS14,'様式C-1-1用'!$C$4:$BS$1004,68,0),"") -> 0 | AJ14: =IFERROR(VLOOKUP($AS$7&$AS14,'様式C-1-1用'!$C$4:$BS$1004,69,0),"") -> 0.12 | AK14: =IFERROR(VLOOKUP($AS$7&$AS14,'様式C-1-1用'!$C$4:$AI$1003,17,0),"") | AQ14: =IF(P14="外力",1,IF(P14="材質劣化",2,IF(P14="漏水",3,0))) -> 3 | AS14: =AS13+1 -> 4
K15: =IF(L15="","",AS15) | L15: =IFERROR(VLOOKUP($AS$7&$AS15,'様式C-1-1用'!$C$4:$AI$3000,5,0),"") | N15: =IFERROR(VLOOKUP($AS$7&$AS15,'様式C-1-1用'!$C$4:$AI$3000,6,0),"") | P15: =IFERROR(VLOOKUP($AS$7&$AS15,'様式C-1-1用'!$C$4:$AI$3000,7,0),"") | R15: =IFERROR(VLOOKUP($AS$7&$AS15,'様式C-1-1用'!$C$4:$AI$3000,9,0),"") | U15: =IFERROR(VLOOKUP($AS$7&$AS15,'様式C-1-1用'!$C$4:$AI$3000,20,0),"") | W15: =IFERROR(VLOOKUP($AS$7&$AS15,'様式C-1-1用'!$C$4:$AI$3000,23,0),"") | Y15: =IFERROR(VLOOKUP($AS$7&$AS15,'様式C-1-1用'!$C$4:$CE$3000,58,0),"") | Z15: =IFERROR(VLOOKUP($AS$7&$AS15,'様式C-1-1用'!$C$4:$BS$1004,59,0),"") | AA15: =IFERROR(VLOOKUP($AS$7&$AS15,'様式C-1-1用'!$C$4:$BS$1004,60,0),"") | AB15: =IFERROR(VLOOKUP($AS$7&$AS15,'様式C-1-1用'!$C$4:$BS$1004,61,0),"") | AC15: =IFERROR(VLOOKUP($AS$7&$AS15,'様式C-1-1用'!$C$4:$BS$1004,62,0),"") | AD15: =IFERROR(VLOOKUP($AS$7&$AS15,'様式C-1-1用'!$C$4:$BS$1003,63,0),"") | AE15: =IFERROR(VLOOKUP($AS$7&$AS15,'様式C-1-1用'!$C$4:$BS$1003,64,0),"") | AF15: =IFERROR(VLOOKUP($AS$7&$AS15,'様式C-1-1用'!$C$4:$BS$1003,65,0),"") | AG15: =IFERROR(VLOOKUP($AS$7&$AS15,'様式C-1-1用'!$C$4:$BS$1004,66,0),"") | AH15: =IFERROR(VLOOKUP($AS$7&$AS15,'様式C-1-1用'!$C$4:$BS$1004,67,0),"") | AI15: =IFERROR(VLOOKUP($AS$7&$AS15,'様式C-1-1用'!$C$4:$BS$1004,68,0),"") | AJ15: =IFERROR(VLOOKUP($AS$7&$AS15,'様式C-1-1用'!$C$4:$BS$1004,69,0),"") | AK15: =IFERROR(VLOOKUP($AS$7&$AS15,'様式C-1-1用'!$C$4:$AI$1003,17,0),"") | AQ15: =IF(P15="外力",1,IF(P15="材質劣化",2,IF(P15="漏水",3,0))) -> 0 | AS15: =AS14+1 -> 5
K16: =IF(L16="","",AS16) | L16: =IFERROR(VLOOKUP($AS$7&$AS16,'様式C-1-1用'!$C$4:$AI$3000,5,0),"") | N16: =IFERROR(VLOOKUP($AS$7&$AS16,'様式C-1-1用'!$C$4:$AI$3000,6,0),"") | P16: =IFERROR(VLOOKUP($AS$7&$AS16,'様式C-1-1用'!$C$4:$AI$3000,7,0),"") | R16: =IFERROR(VLOOKUP($AS$7&$AS16,'様式C-1-1用'!$C$4:$AI$3000,9,0),"") | U16: =IFERROR(VLOOKUP($AS$7&$AS16,'様式C-1-1用'!$C$4:$AI$3000,20,0),"") | W16: =IFERROR(VLOOKUP($AS$7&$AS16,'様式C-1-1用'!$C$4:$AI$3000,23,0),"") | Y16: =IFERROR(VLOOKUP($AS$7&$AS16,'様式C-1-1用'!$C$4:$CE$3000,58,0),"") | Z16: =IFERROR(VLOOKUP($AS$7&$AS16,'様式C-1-1用'!$C$4:$BS$1004,59,0),"") | AA16: =IFERROR(VLOOKUP($AS$7&$AS16,'様式C-1-1用'!$C$4:$BS$1004,60,0),"") | AB16: =IFERROR(VLOOKUP($AS$7&$AS16,'様式C-1-1用'!$C$4:$BS$1004,61,0),"") | AC16: =IFERROR(VLOOKUP($AS$7&$AS16,'様式C-1-1用'!$C$4:$BS$1004,62,0),"") | AD16: =IFERROR(VLOOKUP($AS$7&$AS16,'様式C-1-1用'!$C$4:$BS$1003,63,0),"") | AE16: =IFERROR(VLOOKUP($AS$7&$AS16,'様式C-1-1用'!$C$4:$BS$1003,64,0),"") | AF16: =IFERROR(VLOOKUP($AS$7&$AS16,'様式C-1-1用'!$C$4:$BS$1003,65,0),"") | AG16: =IFERROR(VLOOKUP($AS$7&$AS16,'様式C-1-1用'!$C$4:$BS$1004,66,0),"") | AH16: =IFERROR(VLOOKUP($AS$7&$AS16,'様式C-1-1用'!$C$4:$BS$1004,67,0),"") | AI16: =IFERROR(VLOOKUP($AS$7&$AS16,'様式C-1-1用'!$C$4:$BS$1004,68,0),"") | AJ16: =IFERROR(VLOOKUP($AS$7&$AS16,'様式C-1-1用'!$C$4:$BS$1004,69,0),"") | AK16: =IFERROR(VLOOKUP($AS$7&$AS16,'様式C-1-1用'!$C$4:$AI$1003,17,0),"") | AQ16: =IF(P16="外力",1,IF(P16="材質劣化",2,IF(P16="漏水",3,0))) -> 0 | AS16: =AS15+1 -> 6
K17: =IF(L17="","",AS17) | L17: =IFERROR(VLOOKUP($AS$7&$AS17,'様式C-1-1用'!$C$4:$AI$3000,5,0),"") | N17: =IFERROR(VLOOKUP($AS$7&$AS17,'様式C-1-1用'!$C$4:$AI$3000,6,0),"") | P17: =IFERROR(VLOOKUP($AS$7&$AS17,'様式C-1-1用'!$C$4:$AI$3000,7,0),"") | R17: =IFERROR(VLOOKUP($AS$7&$AS17,'様式C-1-1用'!$C$4:$AI$3000,9,0),"") | U17: =IFERROR(VLOOKUP($AS$7&$AS17,'様式C-1-1用'!$C$4:$AI$3000,20,0),"") | W17: =IFERROR(VLOOKUP($AS$7&$AS17,'様式C-1-1用'!$C$4:$AI$3000,23,0),"") | Y17: =IFERROR(VLOOKUP($AS$7&$AS17,'様式C-1-1用'!$C$4:$CE$3000,58,0),"") | Z17: =IFERROR(VLOOKUP($AS$7&$AS17,'様式C-1-1用'!$C$4:$BS$1004,59,0),"") | AA17: =IFERROR(VLOOKUP($AS$7&$AS17,'様式C-1-1用'!$C$4:$BS$1004,60,0),"") | AB17: =IFERROR(VLOOKUP($AS$7&$AS17,'様式C-1-1用'!$C$4:$BS$1004,61,0),"") | AC17: =IFERROR(VLOOKUP($AS$7&$AS17,'様式C-1-1用'!$C$4:$BS$1004,62,0),"") | AD17: =IFERROR(VLOOKUP($AS$7&$AS17,'様式C-1-1用'!$C$4:$BS$1003,63,0),"") | AE17: =IFERROR(VLOOKUP($AS$7&$AS17,'様式C-1-1用'!$C$4:$BS$1003,64,0),"") | AF17: =IFERROR(VLOOKUP($AS$7&$AS17,'様式C-1-1用'!$C$4:$BS$1003,65,0),"") | AG17: =IFERROR(VLOOKUP($AS$7&$AS17,'様式C-1-1用'!$C$4:$BS$1004,66,0),"") | AH17: =IFERROR(VLOOKUP($AS$7&$AS17,'様式C-1-1用'!$C$4:$BS$1004,67,0),"") | AI17: =IFERROR(VLOOKUP($AS$7&$AS17,'様式C-1-1用'!$C$4:$BS$1004,68,0),"") | AJ17: =IFERROR(VLOOKUP($AS$7&$AS17,'様式C-1-1用'!$C$4:$BS$1004,69,0),"") | AK17: =IFERROR(VLOOKUP($AS$7&$AS17,'様式C-1-1用'!$C$4:$AI$1003,17,0),"") | AQ17: =IF(P17="外力",1,IF(P17="材質劣化",2,IF(P17="漏水",3,0))) -> 0 | AS17: =AS16+1 -> 7
K18: =IF(L18="","",AS18) | L18: =IFERROR(VLOOKUP($AS$7&$AS18,'様式C-1-1用'!$C$4:$AI$3000,5,0),"") | N18: =IFERROR(VLOOKUP($AS$7&$AS18,'様式C-1-1用'!$C$4:$AI$3000,6,0),"") | P18: =IFERROR(VLOOKUP($AS$7&$AS18,'様式C-1-1用'!$C$4:$AI$3000,7,0),"") | R18: =IFERROR(VLOOKUP($AS$7&$AS18,'様式C-1-1用'!$C$4:$AI$3000,9,0),"") | U18: =IFERROR(VLOOKUP($AS$7&$AS18,'様式C-1-1用'!$C$4:$AI$3000,20,0),"") | W18: =IFERROR(VLOOKUP($AS$7&$AS18,'様式C-1-1用'!$C$4:$AI$3000,23,0),"") | Y18: =IFERROR(VLOOKUP($AS$7&$AS18,'様式C-1-1用'!$C$4:$CE$3000,58,0),"") | Z18: =IFERROR(VLOOKUP($AS$7&$AS18,'様式C-1-1用'!$C$4:$BS$1004,59,0),"") | AA18: =IFERROR(VLOOKUP($AS$7&$AS18,'様式C-1-1用'!$C$4:$BS$1004,60,0),"") | AB18: =IFERROR(VLOOKUP($AS$7&$AS18,'様式C-1-1用'!$C$4:$BS$1004,61,0),"") | AC18: =IFERROR(VLOOKUP($AS$7&$AS18,'様式C-1-1用'!$C$4:$BS$1004,62,0),"") | AD18: =IFERROR(VLOOKUP($AS$7&$AS18,'様式C-1-1用'!$C$4:$BS$1003,63,0),"") | AE18: =IFERROR(VLOOKUP($AS$7&$AS18,'様式C-1-1用'!$C$4:$BS$1003,64,0),"") | AF18: =IFERROR(VLOOKUP($AS$7&$AS18,'様式C-1-1用'!$C$4:$BS$1003,65,0),"") | AG18: =IFERROR(VLOOKUP($AS$7&$AS18,'様式C-1-1用'!$C$4:$BS$1004,66,0),"") | AH18: =IFERROR(VLOOKUP($AS$7&$AS18,'様式C-1-1用'!$C$4:$BS$1004,67,0),"") | AI18: =IFERROR(VLOOKUP($AS$7&$AS18,'様式C-1-1用'!$C$4:$BS$1004,68,0),"") | AJ18: =IFERROR(VLOOKUP($AS$7&$AS18,'様式C-1-1用'!$C$4:$BS$1004,69,0),"") | AK18: =IFERROR(VLOOKUP($AS$7&$AS18,'様式C-1-1用'!$C$4:$AI$1003,17,0),"") | AQ18: =IF(P18="外力",1,IF(P18="材質劣化",2,IF(P18="漏水",3,0))) -> 0 | AS18: =AS17+1 -> 8
K19: =IF(L19="","",AS19) | L19: =IFERROR(VLOOKUP($AS$7&$AS19,'様式C-1-1用'!$C$4:$AI$3000,5,0),"") | N19: =IFERROR(VLOOKUP($AS$7&$AS19,'様式C-1-1用'!$C$4:$AI$3000,6,0),"") | P19: =IFERROR(VLOOKUP($AS$7&$AS19,'様式C-1-1用'!$C$4:$AI$3000,7,0),"") | R19: =IFERROR(VLOOKUP($AS$7&$AS19,'様式C-1-1用'!$C$4:$AI$3000,9,0),"") | U19: =IFERROR(VLOOKUP($AS$7&$AS19,'様式C-1-1用'!$C$4:$AI$3000,20,0),"") | W19: =IFERROR(VLOOKUP($AS$7&$AS19,'様式C-1-1用'!$C$4:$AI$3000,23,0),"") | Y19: =IFERROR(VLOOKUP($AS$7&$AS19,'様式C-1-1用'!$C$4:$CE$3000,58,0),"") | Z19: =IFERROR(VLOOKUP($AS$7&$AS19,'様式C-1-1用'!$C$4:$BS$1004,59,0),"") | AA19: =IFERROR(VLOOKUP($AS$7&$AS19,'様式C-1-1用'!$C$4:$BS$1004,60,0),"") | AB19: =IFERROR(VLOOKUP($AS$7&$AS19,'様式C-1-1用'!$C$4:$BS$1004,61,0),"") | AC19: =IFERROR(VLOOKUP($AS$7&$AS19,'様式C-1-1用'!$C$4:$BS$1004,62,0),"") | AD19: =IFERROR(VLOOKUP($AS$7&$AS19,'様式C-1-1用'!$C$4:$BS$1003,63,0),"") | AE19: =IFERROR(VLOOKUP($AS$7&$AS19,'様式C-1-1用'!$C$4:$BS$1003,64,0),"") | AF19: =IFERROR(VLOOKUP($AS$7&$AS19,'様式C-1-1用'!$C$4:$BS$1003,65,0),"") | AG19: =IFERROR(VLOOKUP($AS$7&$AS19,'様式C-1-1用'!$C$4:$BS$1004,66,0),"") | AH19: =IFERROR(VLOOKUP($AS$7&$AS19,'様式C-1-1用'!$C$4:$BS$1004,67,0),"") | AI19: =IFERROR(VLOOKUP($AS$7&$AS19,'様式C-1-1用'!$C$4:$BS$1004,68,0),"") | AJ19: =IFERROR(VLOOKUP($AS$7&$AS19,'様式C-1-1用'!$C$4:$BS$1004,69,0),"") | AK19: =IFERROR(VLOOKUP($AS$7&$AS19,'様式C-1-1用'!$C$4:$AI$1003,17,0),"") | AQ19: =IF(P19="外力",1,IF(P19="材質劣化",2,IF(P19="漏水",3,0))) -> 0 | AS19: =AS18+1 -> 9
K20: =IF(L20="","",AS20) | L20: =IFERROR(VLOOKUP($AS$7&$AS20,'様式C-1-1用'!$C$4:$AI$3000,5,0),"") | N20: =IFERROR(VLOOKUP($AS$7&$AS20,'様式C-1-1用'!$C$4:$AI$3000,6,0),"") | P20: =IFERROR(VLOOKUP($AS$7&$AS20,'様式C-1-1用'!$C$4:$AI$3000,7,0),"") | R20: =IFERROR(VLOOKUP($AS$7&$AS20,'様式C-1-1用'!$C$4:$AI$3000,9,0),"") | U20: =IFERROR(VLOOKUP($AS$7&$AS20,'様式C-1-1用'!$C$4:$AI$3000,20,0),"") | W20: =IFERROR(VLOOKUP($AS$7&$AS20,'様式C-1-1用'!$C$4:$AI$3000,23,0),"") | Y20: =IFERROR(VLOOKUP($AS$7&$AS20,'様式C-1-1用'!$C$4:$CE$3000,58,0),"") | Z20: =IFERROR(VLOOKUP($AS$7&$AS20,'様式C-1-1用'!$C$4:$BS$1004,59,0),"") | AA20: =IFERROR(VLOOKUP($AS$7&$AS20,'様式C-1-1用'!$C$4:$BS$1004,60,0),"") | AB20: =IFERROR(VLOOKUP($AS$7&$AS20,'様式C-1-1用'!$C$4:$BS$1004,61,0),"") | AC20: =IFERROR(VLOOKUP($AS$7&$AS20,'様式C-1-1用'!$C$4:$BS$1004,62,0),"") | AD20: =IFERROR(VLOOKUP($AS$7&$AS20,'様式C-1-1用'!$C$4:$BS$1003,63,0),"") | AE20: =IFERROR(VLOOKUP($AS$7&$AS20,'様式C-1-1用'!$C$4:$BS$1003,64,0),"") | AF20: =IFERROR(VLOOKUP($AS$7&$AS20,'様式C-1-1用'!$C$4:$BS$1003,65,0),"") | AG20: =IFERROR(VLOOKUP($AS$7&$AS20,'様式C-1-1用'!$C$4:$BS$1004,66,0),"") | AH20: =IFERROR(VLOOKUP($AS$7&$AS20,'様式C-1-1用'!$C$4:$BS$1004,67,0),"") | AI20: =IFERROR(VLOOKUP($AS$7&$AS20,'様式C-1-1用'!$C$4:$BS$1004,68,0),"") | AJ20: =IFERROR(VLOOKUP($AS$7&$AS20,'様式C-1-1用'!$C$4:$BS$1004,69,0),"") | AK20: =IFERROR(VLOOKUP($AS$7&$AS20,'様式C-1-1用'!$C$4:$AI$1003,17,0),"") | AQ20: =IF(P20="外力",1,IF(P20="材質劣化",2,IF(P20="漏水",3,0))) -> 0 | AS20: =AS19+1 -> 10
K21: =IF(L21="","",AS21) | L21: =IFERROR(VLOOKUP($AS$7&$AS21,'様式C-1-1用'!$C$4:$AI$3000,5,0),"") | N21: =IFERROR(VLOOKUP($AS$7&$AS21,'様式C-1-1用'!$C$4:$AI$3000,6,0),"") | P21: =IFERROR(VLOOKUP($AS$7&$AS21,'様式C-1-1用'!$C$4:$AI$3000,7,0),"") | R21: =IFERROR(VLOOKUP($AS$7&$AS21,'様式C-1-1用'!$C$4:$AI$3000,9,0),"") | U21: =IFERROR(VLOOKUP($AS$7&$AS21,'様式C-1-1用'!$C$4:$AI$3000,20,0),"") | W21: =IFERROR(VLOOKUP($AS$7&$AS21,'様式C-1-1用'!$C$4:$AI$3000,23,0),"") | Y21: =IFERROR(VLOOKUP($AS$7&$AS21,'様式C-1-1用'!$C$4:$CE$3000,58,0),"") | Z21: =IFERROR(VLOOKUP($AS$7&$AS21,'様式C-1-1用'!$C$4:$BS$1004,59,0),"") | AA21: =IFERROR(VLOOKUP($AS$7&$AS21,'様式C-1-1用'!$C$4:$BS$1004,60,0),"") | AB21: =IFERROR(VLOOKUP($AS$7&$AS21,'様式C-1-1用'!$C$4:$BS$1004,61,0),"") | AC21: =IFERROR(VLOOKUP($AS$7&$AS21,'様式C-1-1用'!$C$4:$BS$1004,62,0),"") | AD21: =IFERROR(VLOOKUP($AS$7&$AS21,'様式C-1-1用'!$C$4:$BS$1003,63,0),"") | AE21: =IFERROR(VLOOKUP($AS$7&$AS21,'様式C-1-1用'!$C$4:$BS$1003,64,0),"") | AF21: =IFERROR(VLOOKUP($AS$7&$AS21,'様式C-1-1用'!$C$4:$BS$1003,65,0),"") | AG21: =IFERROR(VLOOKUP($AS$7&$AS21,'様式C-1-1用'!$C$4:$BS$1004,66,0),"") | AH21: =IFERROR(VLOOKUP($AS$7&$AS21,'様式C-1-1用'!$C$4:$BS$1004,67,0),"") | AI21: =IFERROR(VLOOKUP($AS$7&$AS21,'様式C-1-1用'!$C$4:$BS$1004,68,0),"") | AJ21: =IFERROR(VLOOKUP($AS$7&$AS21,'様式C-1-1用'!$C$4:$BS$1004,69,0),"") | AK21: =IFERROR(VLOOKUP($AS$7&$AS21,'様式C-1-1用'!$C$4:$AI$1003,17,0),"") | AQ21: =IF(P21="外力",1,IF(P21="材質劣化",2,IF(P21="漏水",3,0))) -> 0 | AS21: =AS20+1 -> 11
K22: =IF(L22="","",AS22) | L22: =IFERROR(VLOOKUP($AS$7&$AS22,'様式C-1-1用'!$C$4:$AI$3000,5,0),"") | N22: =IFERROR(VLOOKUP($AS$7&$AS22,'様式C-1-1用'!$C$4:$AI$3000,6,0),"") | P22: =IFERROR(VLOOKUP($AS$7&$AS22,'様式C-1-1用'!$C$4:$AI$3000,7,0),"") | R22: =IFERROR(VLOOKUP($AS$7&$AS22,'様式C-1-1用'!$C$4:$AI$3000,9,0),"") | U22: =IFERROR(VLOOKUP($AS$7&$AS22,'様式C-1-1用'!$C$4:$AI$3000,20,0),"") | W22: =IFERROR(VLOOKUP($AS$7&$AS22,'様式C-1-1用'!$C$4:$AI$3000,23,0),"") | Y22: =IFERROR(VLOOKUP($AS$7&$AS22,'様式C-1-1用'!$C$4:$CE$3000,58,0),"") | Z22: =IFERROR(VLOOKUP($AS$7&$AS22,'様式C-1-1用'!$C$4:$BS$1004,59,0),"") | AA22: =IFERROR(VLOOKUP($AS$7&$AS22,'様式C-1-1用'!$C$4:$BS$1004,60,0),"") | AB22: =IFERROR(VLOOKUP($AS$7&$AS22,'様式C-1-1用'!$C$4:$BS$1004,61,0),"") | AC22: =IFERROR(VLOOKUP($AS$7&$AS22,'様式C-1-1用'!$C$4:$BS$1004,62,0),"") | AD22: =IFERROR(VLOOKUP($AS$7&$AS22,'様式C-1-1用'!$C$4:$BS$1003,63,0),"") | AE22: =IFERROR(VLOOKUP($AS$7&$AS22,'様式C-1-1用'!$C$4:$BS$1003,64,0),"") | AF22: =IFERROR(VLOOKUP($AS$7&$AS22,'様式C-1-1用'!$C$4:$BS$1003,65,0),"") | AG22: =IFERROR(VLOOKUP($AS$7&$AS22,'様式C-1-1用'!$C$4:$BS$1004,66,0),"") | AH22: =IFERROR(VLOOKUP($AS$7&$AS22,'様式C-1-1用'!$C$4:$BS$1004,67,0),"") | AI22: =IFERROR(VLOOKUP($AS$7&$AS22,'様式C-1-1用'!$C$4:$BS$1004,68,0),"") | AJ22: =IFERROR(VLOOKUP($AS$7&$AS22,'様式C-1-1用'!$C$4:$BS$1004,69,0),"") | AK22: =IFERROR(VLOOKUP($AS$7&$AS22,'様式C-1-1用'!$C$4:$AI$1003,17,0),"") | AQ22: =IF(P22="外力",1,IF(P22="材質劣化",2,IF(P22="漏水",3,0))) -> 0 | AS22: =AS21+1 -> 12
K23: =IF(L23="","",AS23) | L23: =IFERROR(VLOOKUP($AS$7&$AS23,'様式C-1-1用'!$C$4:$AI$3000,5,0),"") | N23: =IFERROR(VLOOKUP($AS$7&$AS23,'様式C-1-1用'!$C$4:$AI$3000,6,0),"") | P23: =IFERROR(VLOOKUP($AS$7&$AS23,'様式C-1-1用'!$C$4:$AI$3000,7,0),"") | R23: =IFERROR(VLOOKUP($AS$7&$AS23,'様式C-1-1用'!$C$4:$AI$3000,9,0),"") | U23: =IFERROR(VLOOKUP($AS$7&$AS23,'様式C-1-1用'!$C$4:$AI$3000,20,0),"") | W23: =IFERROR(VLOOKUP($AS$7&$AS23,'様式C-1-1用'!$C$4:$AI$3000,23,0),"") | Y23: =IFERROR(VLOOKUP($AS$7&$AS23,'様式C-1-1用'!$C$4:$CE$3000,58,0),"") | Z23: =IFERROR(VLOOKUP($AS$7&$AS23,'様式C-1-1用'!$C$4:$BS$1004,59,0),"") | AA23: =IFERROR(VLOOKUP($AS$7&$AS23,'様式C-1-1用'!$C$4:$BS$1004,60,0),"") | AB23: =IFERROR(VLOOKUP($AS$7&$AS23,'様式C-1-1用'!$C$4:$BS$1004,61,0),"") | AC23: =IFERROR(VLOOKUP($AS$7&$AS23,'様式C-1-1用'!$C$4:$BS$1004,62,0),"") | AD23: =IFERROR(VLOOKUP($AS$7&$AS23,'様式C-1-1用'!$C$4:$BS$1003,63,0),"") | AE23: =IFERROR(VLOOKUP($AS$7&$AS23,'様式C-1-1用'!$C$4:$BS$1003,64,0),"") | AF23: =IFERROR(VLOOKUP($AS$7&$AS23,'様式C-1-1用'!$C$4:$BS$1003,65,0),"") | AG23: =IFERROR(VLOOKUP($AS$7&$AS23,'様式C-1-1用'!$C$4:$BS$1004,66,0),"") | AH23: =IFERROR(VLOOKUP($AS$7&$AS23,'様式C-1-1用'!$C$4:$BS$1004,67,0),"") | AI23: =IFERROR(VLOOKUP($AS$7&$AS23,'様式C-1-1用'!$C$4:$BS$1004,68,0),"") | AJ23: =IFERROR(VLOOKUP($AS$7&$AS23,'様式C-1-1用'!$C$4:$BS$1004,69,0),"") | AK23: =IFERROR(VLOOKUP($AS$7&$AS23,'様式C-1-1用'!$C$4:$AI$1003,17,0),"") | AQ23: =IF(P23="外力",1,IF(P23="材質劣化",2,IF(P23="漏水",3,0))) -> 0 | AS23: =AS22+1 -> 13
... K30: =IF(L30="","",AS30) | L30: =IFERROR(VLOOKUP($AS$7&$AS30,'様式C-1-1用'!$C$4:$AI$3000,5,0),"") | N30: =IFERROR(VLOOKUP($AS$7&$AS30,'様式C-1-1用'!$C$4:$AI$3000,6,0),"") | P30: =IFERROR(VLOOKUP($AS$7&$AS30,'様式C-1-1用'!$C$4:$AI$3000,7,0),"") | R30: =IFERROR(VLOOKUP($AS$7&$AS30,'様式C-1-1用'!$C$4:$AI$3000,9,0),"") | U30: =IFERROR(VLOOKUP($AS$7&$AS30,'様式C-1-1用'!$C$4:$AI$3000,20,0),"") | W30: =IFERROR(VLOOKUP($AS$7&$AS30,'様式C-1-1用'!$C$4:$AI$3000,23,0),"") | Y30: =IFERROR(VLOOKUP($AS$7&$AS30,'様式C-1-1用'!$C$4:$CE$3000,58,0),"") | Z30: =IFERROR(VLOOKUP($AS$7&$AS30,'様式C-1-1用'!$C$4:$BS$1004,59,0),"") | AA30: =IFERROR(VLOOKUP($AS$7&$AS30,'様式C-1-1用'!$C$4:$BS$1004,60,0),"") | AB30: =IFERROR(VLOOKUP($AS$7&$AS30,'様式C-1-1用'!$C$4:$BS$1004,61,0),"") | AC30: =IFERROR(VLOOKUP($AS$7&$AS30,'様式C-1-1用'!$C$4:$BS$1004,62,0),"") | AD30: =IFERROR(VLOOKUP($AS$7&$AS30,'様式C-1-1用'!$C$4:$BS$1003,63,0),"") | AE30: =IFERROR(VLOOKUP($AS$7&$AS30,'様式C-1-1用'!$C$4:$BS$1003,64,0),"") | AF30: =IFERROR(VLOOKUP($AS$7&$AS30,'様式C-1-1用'!$C$4:$BS$1003,65,0),"") | AG30: =IFERROR(VLOOKUP($AS$7&$AS30,'様式C-1-1用'!$C$4:$BS$1004,66,0),"") | AH30: =IFERROR(VLOOKUP($AS$7&$AS30,'様式C-1-1用'!$C$4:$BS$1004,67,0),"") | AI30: =IFERROR(VLOOKUP($AS$7&$AS30,'様式C-1-1用'!$C$4:$BS$1004,68,0),"") | AJ30: =IFERROR(VLOOKUP($AS$7&$AS30,'様式C-1-1用'!$C$4:$BS$1004,69,0),"") | AK30: =IFERROR(VLOOKUP($AS$7&$AS30,'様式C-1-1用'!$C$4:$AI$1003,17,0),"") | AQ30: =IF(P30="外力",1,IF(P30="材質劣化",2,IF(P30="漏水",3,0))) -> 0 | AS30: =AS29+1 -> 20
K31: 集計 ・ 判定 ・ 診断 | L31: 変状の発生規模合計(㎡) | Y31: － | AC31: =SUM(AC11:AC30) -> 0 | AD31: =SUM(AD11:AD30) -> 0 | AE31: =SUM(AE11:AE30) -> 8.5 | AF31: =SUM(AF11:AF30) -> 8.12 | AG31: =SUM(AG11:AG30) -> 0 | AH31: =SUM(AH11:AH30) -> 0 | AI31: =SUM(AI11:AI30) -> 0 | AJ31: =SUM(AJ11:AJ30) -> 0.12 | AK31: 計
L32: 対策区分の 判定結果 | O32: 判定区分毎の変状数 | Y32: =COUNTIF(Y11:Y30,"〇") -> 0 | Z32: =COUNTIF(Z11:Z30,"〇") -> 0 | AA32: =COUNTIF(AA11:AA30,"〇") -> 0 | AB32: =COUNTIF(AB11:AB30,"〇") -> 0 | AC32: =IF($N7="","",COUNTIFS('様式C-1-1用'!$D$4:$D$1019,$N7,'様式C-1-1用'!$I$4:$I$1019,"材質劣化",'様式C-1-1用'!$X$4:$X$1019,$AC10)) -> 0 | AD32: =IF($N7="","",COUNTIFS('様式C-1-1用'!$D$4:$D$1019,$N7,'様式C-1-1用'!$I$4:$I$1019,"材質劣化",'様式C-1-1用'!$X$4:$X$1019,$AD10)) -> 0 | AE32: =IF($N7="","",COUNTIFS('様式C-1-1用'!$D$4:$D$1019,$N7,'様式C-1-1用'!$I$4:$I$1019,"材質劣化",'様式C-1-1用'!$X$4:$X$1019,$AE10)) -> 2 | AF32: =IF($N7="","",COUNTIFS('様式C-1-1用'!$D$4:$D$1019,$N7,'様式C-1-1用'!$I$4:$I$1019,"材質劣化",'様式C-1-1用'!$X$4:$X$1019,$AF10)) -> 1 | AG32: =IF($N7="","",COUNTIFS('様式C-1-1用'!$D$4:$D$1019,$N7,'様式C-1-1用'!$I$4:$I$1019,"漏水",'様式C-1-1用'!$X$4:$X$1019,$AG10)) -> 0 | AH32: =IF($N7="","",COUNTIFS('様式C-1-1用'!$D$4:$D$1019,$N7,'様式C-1-1用'!$I$4:$I$1019,"漏水",'様式C-1-1用'!$X$4:$X$1019,$AH10)) -> 0 | AI32: =IF($N7="","",COUNTIFS('様式C-1-1用'!$D$4:$D$1019,$N7,'様式C-1-1用'!$I$4:$I$1019,"漏水",'様式C-1-1用'!$X$4:$X$1019,$AI10)) -> 0 | AJ32: =IF($N7="","",COUNTIFS('様式C-1-1用'!$D$4:$D$1019,$N7,'様式C-1-1用'!$I$4:$I$1019,"漏水",'様式C-1-1用'!$X$4:$X$1019,$AJ10)) -> 1
O33: 変状区分毎の判定区分注3 | Y33: =IF(Y32>0,"Ⅳ",IF(Z32>0,"Ⅲ",IF(AA32>0,"Ⅱa",IF(AB32>0,"Ⅱb","Ⅰ")))) -> Ⅰ | AC33: =IF(AC32>0,"Ⅳ",IF(AD32>0,"Ⅲ",IF(AE32>0,"Ⅱa",IF(AF32>0,"Ⅱb","Ⅰ")))) -> Ⅱa | AG33: =IF(AG32>0,"Ⅳ",IF(AH32>0,"Ⅲ",IF(AI32>0,"Ⅱa",IF(AJ32>0,"Ⅱb","Ⅰ")))) -> Ⅱb | AQ33: Ⅳ | AR33: Ⅲ | AS33: Ⅱ
L34: 健全性の 診断結果 | O34: 判定区分 | Y34: Ⅳ | Z34: Ⅲ | AA34: Ⅱ | AC34: Ⅳ | AD34: Ⅲ | AE34: Ⅱ | AG34: Ⅳ | AH34: Ⅲ | AI34: Ⅱ | AQ34: =+Y32+Z32 -> 0 | AS34: =+AA32+AB32 -> 0
O35: 判定区分毎の変状数注4 | Y35: =IF(Y32=0,0,1) -> 0 | Z35: =IF(Z32=0,0,1) -> 0 | AA35: =IF(AND(AA32=0,AB32=0),0,1) -> 0 | AB35: =IF(AB32=0,0,1) -> 0 | AC35: =AC32 -> 0 | AD35: =AD32 -> 0 | AE35: =SUM(AE32:AF32) -> 3 | AG35: =AG32 -> 0 | AH35: =AH32 -> 0 | AI35: =SUM(AI32:AJ32) -> 1 | AQ35: =+Y32+AC35+AG35 -> 0 | AR35: =+Z32+AD35+AH35 -> 0 | AS35: =+AS34+AE35+AI35 -> 4
O36: 変状区分毎の判定区分注4 | Y36: =IF(Y35>0,"Ⅳ",IF(Z35>0,"Ⅲ",IF(AA35>0,"Ⅱ","Ⅰ"))) -> Ⅰ | AC36: =IF(AC35>0,"Ⅳ",IF(AD35>0,"Ⅲ",IF(AE35>0,"Ⅱ","Ⅰ"))) -> Ⅱ | AG36: =IF(AG35>0,"Ⅳ",IF(AH35>0,"Ⅲ",IF(AI35>0,"Ⅱ","Ⅰ"))) -> Ⅱ | AQ36: =IF(AQ35>0,"Ⅳ",IF(AR35>0,"Ⅲ",IF(AS35>0,"Ⅱ","Ⅰ"))) -> Ⅱ
O37: 覆工スパン単位の判定区分注5 | Y37: =IF(COUNTIF(Y36:AJ36,"Ⅳ")>0,"Ⅳ",IF(COUNTIF(Y36:AJ36,"Ⅲ")>0,"Ⅲ",IF(COUNTIF(Y36:AJ36,"Ⅱ")>0,"Ⅱ","Ⅰ"))) -> Ⅱ
K38: 特記事項
K40: 注1：誤記入防止のため、当該変状区分以外のセルは灰色表示とすること。
K41: 注2：応急対策を実施した場合は、その詳細を備考に記載すること。
K42: 注3：変状区分毎での最も評価の厳しい判定区分。
K43: 注4：変状区分毎での最も評価の厳しい判定区分．外力は覆工スパン単位、材質劣化、漏水は変状単位で行う。
K44: 注5：覆工スパンの中で最も評価の厳しい健全性を採用し、その覆工スパン毎の健全性とする。
B46: ※1：本シートは作成洩れのないよう、変状が無くても全スパン分を作成すること．また変状展開図は、様式D-2-1、様式D-2-1'と同じものを覆工スパン単位で拡大し掲載すること。
B47: ※2：変状番号は、様式D-1-1で記入した番号と整合させること。
B48: ※3：対策区分毎の変状発生規模は、様式D-1-1に記載した面積を記入すること（ただし外力はスパン単位で評価するため対象外とし、備考欄に状況を記入）。
B49: ※4：本様式は覆工スパン毎に作成すること。
B50: ※5：変状数が多い場合は、適時、表の行を増やして覆工スパン毎に1枚のシートに収めること。また、1スパン１シートとし、スパンに合わせてシートを追加すること。
B51: ※6：対策区分毎の変状の発生範囲の規模とは，対策を行う際に参考となる変状の長さや面積であり，変状を包含する長さや面積とする。
B52: ※7：路面滞水は、変状面積に1を記載するとともに、備考にも内容を記載すること。

Sheet 様式E
B2: ■定期点検記録様式 近接目視による状態の把握が不可能な箇所 【様式E】
B3: フリガナ | F3: ='様式A-1'!$D$3 -> カワジリトンネル | U3: 路 線 名 | Z3: ='様式A-1'!$J$3 -> 一般国道187号線 | AI3: 定期点検業者 | AO3: =様式B!$K$5 -> 株式会社ニュージェック | AW3: 定期点検年月日 | BC3: =様式B!$Q$5 -> 44876
B4: 名 称 | F4: ='様式A-1'!$D$4 -> 川尻トンネル | U4: 管理者名 | Z4: ='様式A-1'!$R$3 -> 山口県岩国土木建築事務所 | AI4: 定期点検者名 | AO4: =様式B!$K$6 -> 石村勝伸
B5: 覆工スパン 番号 | H5: 対象箇所 | P5: 不可能な理由 | AN5: 対応策
D20: 注）近接目視又は打音、触診ができない個所を記載する。現状の評価、日常の維持管理での注意点を記載する。
D21: ※ 数が多い場合は、適時、表の行を増やすこと。

Sheet 様式F
B1: ■診断調書 診断結果（変状単位・覆工スパン毎・トンネル毎） 【様式F】
B2: フリガナ | E2: ='様式A-1'!$D$3 -> カワジリトンネル | K2: 路線名 | N2: ='様式A-1'!$J$3 -> 一般国道187号線 | U2: 定期点検業者 | Y2: =様式B!$K$5 -> 株式会社ニュージェック | AG2: 定期点検年月日 | AJ2: =様式B!$Q$5 -> 44876
B3: 名 称 | E3: ='様式A-1'!$D$4 -> 川尻トンネル | K3: 管理者名 | N3: ='様式A-1'!$R$3 -> 山口県岩国土木建築事務所 | U3: 定期点検者名 | Y3: =様式B!$K$6 -> 石村勝伸
AG4: トンネル毎の 健全性 | AJ4: ='様式C-1-1用'!$CW$3 -> Ⅱ
B5: 【覆工スパン毎の変状数, 健全性の診断, 変状規模】
B6: 覆工ｽﾊﾟﾝ番号 | C6: ｽﾊﾟﾝ長（ｍ） | D6: 変 状 数 | Y6: 覆工スパン毎の 健全性の診断 | AC6: 変 状 規 模 | AT6: 判定区分変換
D7: 対策区分の判定 | P7: 変状等の健全性の判断（変状単位） 注1 | AC7: 覆工スパン長（ｍ） | AG7: 変状の発生範囲の規模（㎡）
D8: 外力 | H8: 材質劣化 | L8: 漏水 | P8: 外力 | S8: 材質劣化 | V8: 漏水 | Y8: 外力 | Z8: 材質劣化 | AA8: 漏水 | AB8: 健全性 | AC8: 外力 注2 | AG8: 材質劣化 | AK8: 漏水
D9: Ⅳ | E9: Ⅲ | F9: Ⅱa | G9: Ⅱb | H9: Ⅳ | I9: Ⅲ | J9: Ⅱa | K9: Ⅱb | L9: Ⅳ | M9: Ⅲ | N9: Ⅱa | O9: Ⅱb | P9: Ⅳ | Q9: Ⅲ | R9: Ⅱ | S9: Ⅳ | T9: Ⅲ | U9: Ⅱ | V9: Ⅳ | W9: Ⅲ | X9: Ⅱ | AC9: Ⅳ | AD9: Ⅲ | AE9: Ⅱa | AF9: Ⅱb | AG9: Ⅳ | AH9: Ⅲ | AI9: Ⅱa | AJ9: Ⅱb | AK9: Ⅳ | AL9: Ⅲ | AM9: Ⅱa | AN9: Ⅱb
B10: ='様式A-2'!$B10 -> PS | C10: =IF(B10="","",VLOOKUP(B10,'様式A-2'!$B$10:$C$934,2,0)) -> 3.4 | D10: =IF($B10="","",COUNTIFS('様式C-1-1用'!$D$4:$D$1100,$B10,'様式C-1-1用'!$I$4:$I$1100,$D8,'様式C-1-1用'!$X$4:$X$1100,$D9)) -> 0 | E10: =IF($B10="","",COUNTIFS('様式C-1-1用'!$D$4:$D$1004,$B10,'様式C-1-1用'!$I$4:$I$1004,$D8,'様式C-1-1用'!$X$4:$X$1004,$E9)) -> 0 | F10: =IF($B10="","",COUNTIFS('様式C-1-1用'!$D$4:$D$1004,$B10,'様式C-1-1用'!$I$4:$I$1004,$D8,'様式C-1-1用'!$X$4:$X$1004,$F9)) -> 0 | G10: =IF($B10="","",COUNTIFS('様式C-1-1用'!$D$4:$D$1004,$B10,'様式C-1-1用'!$I$4:$I$1004,$D8,'様式C-1-1用'!$X$4:$X$1004,$G9)) -> 0 | H10: =IF($B10="","",COUNTIFS('様式C-1-1用'!$D$4:$D$1004,$B10,'様式C-1-1用'!$I$4:$I$1004,$H8,'様式C-1-1用'!$X$4:$X$1004,$H9)) -> 0 | I10: =IF($B10="","",COUNTIFS('様式C-1-1用'!$D$4:$D$1004,$B10,'様式C-1-1用'!$I$4:$I$1004,$H8,'様式C-1-1用'!$X$4:$X$1004,$I9)) -> 0 | J10: =IF($B10="","",COUNTIFS('様式C-1-1用'!$D$4:$D$1004,$B10,'様式C-1-1用'!$I$4:$I$1004,$H8,'様式C-1-1用'!$X$4:$X$1004,$J9)) -> 4 | K10: =IF($B10="","",COUNTIFS('様式C-1-1用'!$D$4:$D$1004,$B10,'様式C-1-1用'!$I$4:$I$1004,$H8,'様式C-1-1用'!$X$4:$X$1004,$K9)) -> 0 | L10: =IF($B10="","",COUNTIFS('様式C-1-1用'!$D$4:$D$1004,$B10,'様式C-1-1用'!$I$4:$I$1004,$L8,'様式C-1-1用'!$X$4:$X$1004,$L9)) -> 0 | M10: =IF($B10="","",COUNTIFS('様式C-1-1用'!$D$4:$D$1004,$B10,'様式C-1-1用'!$I$4:$I$1004,$L8,'様式C-1-1用'!$X$4:$X$1004,$M9)) -> 0 | N10: =IF($B10="","",COUNTIFS('様式C-1-1用'!$D$4:$D$1004,$B10,'様式C-1-1用'!$I$4:$I$1004,$L8,'様式C-1-1用'!$X$4:$X$1004,$N9)) -> 0 | O10: =IF($B10="","",COUNTIFS('様式C-1-1用'!$D$4:$D$1004,$B10,'様式C-1-1用'!$I$4:$I$1004,$L8,'様式C-1-1用'!$X$4:$X$1004,$O9)) -> 0 | P10: =IF($B10="","",IF(D10>0,1,0)) -> 0 | Q10: =IF($B10="","",IF(AND(D10=0,E10>0),1,0)) -> 0 | R10: =IF($B10="","",IF(AND(D10=0,E10=0,(F10+G10)>0),1,0)) -> 0 | S10: =IF($B10="","",H10) -> 0 | T10: =IF($B10="","",I10) -> 0 | U10: =IF($B10="","",J10+K10) -> 4 | V10: =IF($B10="","",L10) -> 0 | W10: =IF($B10="","",M10) -> 0 | X10: =IF($B10="","",N10+O10) -> 0 | Y10: =IF($B10="","",IF(P10>0,"Ⅳ",IF(Q10>0,"Ⅲ",IF(R10>0,"Ⅱ","Ⅰ")))) -> Ⅰ | Z10: =IF($B10="","",IF(S10>0,"Ⅳ",IF(T10>0,"Ⅲ",IF(U10>0,"Ⅱ","Ⅰ")))) -> Ⅱ | AA10: =IF($B10="","",IF(V10>0,"Ⅳ",IF(W10>0,"Ⅲ",IF(X10>0,"Ⅱ","Ⅰ")))) -> Ⅰ | AB10: =IF(B10="","",IF((P10+S10+V10)>0,"Ⅳ",IF((Q10+T10+W10)>0,"Ⅲ",IF((R10+U10+X10)>0,"Ⅱ","Ⅰ")))) -> Ⅱ | AC10: =IF($B10="","",IF($D10>0,$C10,0)) -> 0 | AD10: =IF($B10="","",IF(AND($D10=0,$E10>0),$C10,0)) -> 0 | AE10: =IF($B10="","",IF(AND($D10=0,$E10=0,F10>0),$C10,0)) -> 0 | AF10: =IF($B10="","",IF(AND($D10=0,$E10=0,F10=0,G10>0),$C10,0)) -> 0 | AG10: =IF($B10="","",IFERROR(SUMIF('様式C-1-1用'!$BT$4:$BT$1003,B10,'様式C-1-1用'!$BY$4:$BY$1003),0)) -> 0 | AH10: =IF($B10="","",IFERROR(SUMIF('様式C-1-1用'!$BT$4:$BT$1003,B10,'様式C-1-1用'!$BZ$4:$BZ$1003),0)) -> 0 | AI10: =IF($B10="","",IFERROR(SUMIF('様式C-1-1用'!$BT$4:$BT$1003,B10,'様式C-1-1用'!$CA$4:$CA$1003),0)) -> 71.15 | AJ10: =IF($B10="","",IFERROR(SUMIF('様式C-1-1用'!$BT$4:$BT$1003,B10,'様式C-1-1用'!$CB$4:$CB$1003),0)) -> 0 | AK10: =IF($B10="","",IFERROR(SUMIF('様式C-1-1用'!$BT$4:$BT$1003,B10,'様式C-1-1用'!$CC$4:$CC$1003),0)) -> 0 | AL10: =IF($B10="","",IFERROR(SUMIF('様式C-1-1用'!$BT$4:$BT$1003,B10,'様式C-1-1用'!$CD$4:$CD$1003),0)) -> 0 | AM10: =IF($B10="","",IFERROR(SUMIF('様式C-1-1用'!$BT$4:$BT$1003,B10,'様式C-1-1用'!$CE$4:$CE$1003),0)) -> 0 | AN10: =IF($B10="","",IFERROR(SUMIF('様式C-1-1用'!$BT$4:$BT$1003,B10,'様式C-1-1用'!$CF$4:$CF$1003),0)) -> 0 | AT10: =IF(AB10="Ⅳ",4,IF(AB10="Ⅲ",3,IF(AB10="Ⅱ",2,1))) -> 2
B11: =IF(OR(B10="",B10="PE"),"",'様式A-2'!$B11) -> 1 | C11: =IF(B11="","",VLOOKUP(B11,'様式A-2'!$B$10:$C$934,2,0)) -> 7 | D11: =IF($B11="","",COUNTIFS('様式C-1-1用'!$D$4:$D$1100,$B11,'様式C-1-1用'!$I$4:$I$1100,$D8,'様式C-1-1用'!$X$4:$X$1100,$D9)) -> 0 | E11: =IF($B11="","",COUNTIFS('様式C-1-1用'!$D$4:$D$1004,$B11,'様式C-1-1用'!$I$4:$I$1004,$D8,'様式C-1-1用'!$X$4:$X$1004,$E9)) -> 0 | F11: =IF($B11="","",COUNTIFS('様式C-1-1用'!$D$4:$D$1004,$B11,'様式C-1-1用'!$I$4:$I$1004,$D8,'様式C-1-1用'!$X$4:$X$1004,$F9)) -> 0 | G11: =IF($B11="","",COUNTIFS('様式C-1-1用'!$D$4:$D$1004,$B11,'様式C-1-1用'!$I$4:$I$1004,$D8,'様式C-1-1用'!$X$4:$X$1004,$G9)) -> 0 | H11: =IF($B11="","",COUNTIFS('様式C-1-1用'!$D$4:$D$1004,$B11,'様式C-1-1用'!$I$4:$I$1004,$H8,'様式C-1-1用'!$X$4:$X$1004,$H9)) -> 0 | I11: =IF($B11="","",COUNTIFS('様式C-1-1用'!$D$4:$D$1004,$B11,'様式C-1-1用'!$I$4:$I$1004,$H8,'様式C-1-1用'!$X$4:$X$1004,$I9)) -> 0 | J11: =IF($B11="","",COUNTIFS('様式C-1-1用'!$D$4:$D$1004,$B11,'様式C-1-1用'!$I$4:$I$1004,$H8,'様式C-1-1用'!$X$4:$X$1004,$J9)) -> 7 | K11: =IF($B11="","",COUNTIFS('様式C-1-1用'!$D$4:$D$1004,$B11,'様式C-1-1用'!$I$4:$I$1004,$H8,'様式C-1-1用'!$X$4:$X$1004,$K9)) -> 0 | L11: =IF($B11="","",COUNTIFS('様式C-1-1用'!$D$4:$D$1004,$B11,'様式C-1-1用'!$I$4:$I$1004,$L8,'様式C-1-1用'!$X$4:$X$1004,$L9)) -> 0 | M11: =IF($B11="","",COUNTIFS('様式C-1-1用'!$D$4:$D$1004,$B11,'様式C-1-1用'!$I$4:$I$1004,$L8,'様式C-1-1用'!$X$4:$X$1004,$M9)) -> 0 | N11: =IF($B11="","",COUNTIFS('様式C-1-1用'!$D$4:$D$1004,$B11,'様式C-1-1用'!$I$4:$I$1004,$L8,'様式C-1-1用'!$X$4:$X$1004,$N9)) -> 1 | O11: =IF($B11="","",COUNTIFS('様式C-1-1用'!$D$4:$D$1004,$B11,'様式C-1-1用'!$I$4:$I$1004,$L8,'様式C-1-1用'!$X$4:$X$1004,$O9)) -> 0 | P11: =IF($B11="","",IF(D11>0,1,0)) -> 0 | Q11: =IF($B11="","",IF(AND(D11=0,E11>0),1,0)) -> 0 | R11: =IF($B11="","",IF(AND(D11=0,E11=0,(F11+G11)>0),1,0)) -> 0 | S11: =IF($B11="","",H11) -> 0 | T11: =IF($B11="","",I11) -> 0 | U11: =IF($B11="","",J11+K11) -> 7 | V11: =IF($B11="","",L11) -> 0 | W11: =IF($B11="","",M11) -> 0 | X11: =IF($B11="","",N11+O11) -> 1 | Y11: =IF($B11="","",IF(P11>0,"Ⅳ",IF(Q11>0,"Ⅲ",IF(R11>0,"Ⅱ","Ⅰ")))) -> Ⅰ | Z11: =IF($B11="","",IF(S11>0,"Ⅳ",IF(T11>0,"Ⅲ",IF(U11>0,"Ⅱ","Ⅰ")))) -> Ⅱ | AA11: =IF($B11="","",IF(V11>0,"Ⅳ",IF(W11>0,"Ⅲ",IF(X11>0,"Ⅱ","Ⅰ")))) -> Ⅱ | AB11: =IF(B11="","",IF((P11+S11+V11)>0,"Ⅳ",IF((Q11+T11+W11)>0,"Ⅲ",IF((R11+U11+X11)>0,"Ⅱ","Ⅰ")))) -> Ⅱ | AC11: =IF($B11="","",IF($D11>0,$C11,0)) -> 0 | AD11: =IF($B11="","",IF(AND($D11=0,$E11>0),$C11,0)) -> 0 | AE11: =IF($B11="","",IF(AND($D11=0,$E11=0,F11>0),$C11,0)) -> 0 | AF11: =IF($B11="","",IF(AND($D11=0,$E11=0,F11=0,G11>0),$C11,0)) -> 0 | AG11: =IF($B11="","",IFERROR(SUMIF('様式C-1-1用'!$BT$4:$BT$1003,B11,'様式C-1-1用'!$BY$4:$BY$1003),0)) -> 0 | AH11: =IF($B11="","",IFERROR(SUMIF('様式C-1-1用'!$BT$4:$BT$1003,B11,'様式C-1-1用'!$BZ$4:$BZ$1003),0)) -> 0 | AI11: =IF($B11="","",IFERROR(SUMIF('様式C-1-1用'!$BT$4:$BT$1003,B11,'様式C-1-1用'!$CA$4:$CA$1003),0)) -> 4.71 | AJ11: =IF($B11="","",IFERROR(SUMIF('様式C-1-1用'!$BT$4:$BT$1003,B11,'様式C-1-1用'!$CB$4:$CB$1003),0)) -> 0 | AK11: =IF($B11="","",IFERROR(SUMIF('様式C-1-1用'!$BT$4:$BT$1003,B11,'様式C-1-1用'!$CC$4:$CC$1003),0)) -> 0 | AL11: =IF($B11="","",IFERROR(SUMIF('様式C-1-1用'!$BT$4:$BT$1003,B11,'様式C-1-1用'!$CD$4:$CD$1003),0)) -> 0 | AM11: =IF($B11="","",IFERROR(SUMIF('様式C-1-1用'!$BT$4:$BT$1003,B11,'様式C-1-1用'!$CE$4:$CE$1003),0)) -> 0.75 | AN11: =IF($B11="","",IFERROR(SUMIF('様式C-1-1用'!$BT$4:$BT$1003,B11,'様式C-1-1用'!$CF$4:$CF$1003),0)) -> 0 | AT11: =IF(AB11="Ⅳ",4,IF(AB11="Ⅲ",3,IF(AB11="Ⅱ",2,1))) -> 2
B12: =IF(OR(B11="",B11="PE"),"",'様式A-2'!$B12) -> 2 | C12: =IF(B12="","",VLOOKUP(B12,'様式A-2'!$B$10:$C$934,2,0)) -> 7 | D12: =IF($B12="","",COUNTIFS('様式C-1-1用'!$D$4:$D$1100,$B12,'様式C-1-1用'!$I$4:$I$1100,$D8,'様式C-1-1用'!$X$4:$X$1100,$D9)) -> 0 | E12: =IF($B12="","",COUNTIFS('様式C-1-1用'!$D$4:$D$1004,$B12,'様式C-1-1用'!$I$4:$I$1004,$D8,'様式C-1-1用'!$X$4:$X$1004,$E9)) -> 0 | F12: =IF($B12="","",COUNTIFS('様式C-1-1用'!$D$4:$D$1004,$B12,'様式C-1-1用'!$I$4:$I$1004,$D8,'様式C-1-1用'!$X$4:$X$1004,$F9)) -> 0 | G12: =IF($B12="","",COUNTIFS('様式C-1-1用'!$D$4:$D$1004,$B12,'様式C-1-1用'!$I$4:$I$1004,$D8,'様式C-1-1用'!$X$4:$X$1004,$G9)) -> 0 | H12: =IF($B12="","",COUNTIFS('様式C-1-1用'!$D$4:$D$1004,$B12,'様式C-1-1用'!$I$4:$I$1004,$H8,'様式C-1-1用'!$X$4:$X$1004,$H9)) -> 0 | I12: =IF($B12="","",COUNTIFS('様式C-1-1用'!$D$4:$D$1004,$B12,'様式C-1-1用'!$I$4:$I$1004,$H8,'様式C-1-1用'!$X$4:$X$1004,$I9)) -> 0 | J12: =IF($B12="","",COUNTIFS('様式C-1-1用'!$D$4:$D$1004,$B12,'様式C-1-1用'!$I$4:$I$1004,$H8,'様式C-1-1用'!$X$4:$X$1004,$J9)) -> 5 | K12: =IF($B12="","",COUNTIFS('様式C-1-1用'!$D$4:$D$1004,$B12,'様式C-1-1用'!$I$4:$I$1004,$H8,'様式C-1-1用'!$X$4:$X$1004,$K9)) -> 0 | L12: =IF($B12="","",COUNTIFS('様式C-1-1用'!$D$4:$D$1004,$B12,'様式C-1-1用'!$I$4:$I$1004,$L8,'様式C-1-1用'!$X$4:$X$1004,$L9)) -> 0 | M12: =IF($B12="","",COUNTIFS('様式C-1-1用'!$D$4:$D$1004,$B12,'様式C-1-1用'!$I$4:$I$1004,$L8,'様式C-1-1用'!$X$4:$X$1004,$M9)) -> 0 | N12: =IF($B12="","",COUNTIFS('様式C-1-1用'!$D$4:$D$1004,$B12,'様式C-1-1用'!$I$4:$I$1004,$L8,'様式C-1-1用'!$X$4:$X$1004,$N9)) -> 3 | O12: =IF($B12="","",COUNTIFS('様式C-1-1用'!$D$4:$D$1004,$B12,'様式C-1-1用'!$I$4:$I$1004,$L8,'様式C-1-1用'!$X$4:$X$1004,$O9)) -> 3 | P12: =IF($B12="","",IF(D12>0,1,0)) -> 0 | Q12: =IF($B12="","",IF(AND(D12=0,E12>0),1,0)) -> 0 | R12: =IF($B12="","",IF(AND(D12=0,E12=0,(F12+G12)>0),1,0)) -> 0 | S12: =IF($B12="","",H12) -> 0 | T12: =IF($B12="","",I12) -> 0 | U12: =IF($B12="","",J12+K12) -> 5 | V12: =IF($B12="","",L12) -> 0 | W12: =IF($B12="","",M12) -> 0 | X12: =IF($B12="","",N12+O12) -> 6 | Y12: =IF($B12="","",IF(P12>0,"Ⅳ",IF(Q12>0,"Ⅲ",IF(R12>0,"Ⅱ","Ⅰ")))) -> Ⅰ | Z12: =IF($B12="","",IF(S12>0,"Ⅳ",IF(T12>0,"Ⅲ",IF(U12>0,"Ⅱ","Ⅰ")))) -> Ⅱ | AA12: =IF($B12="","",IF(V12>0,"Ⅳ",IF(W12>0,"Ⅲ",IF(X12>0,"Ⅱ","Ⅰ")))) -> Ⅱ | AB12: =IF(B12="","",IF((P12+S12+V12)>0,"Ⅳ",IF((Q12+T12+W12)>0,"Ⅲ",IF((R12+U12+X12)>0,"Ⅱ","Ⅰ")))) -> Ⅱ | AC12: =IF($B12="","",IF($D12>0,$C12,0)) -> 0 | AD12: =IF($B12="","",IF(AND($D12=0,$E12>0),$C12,0)) -> 0 | AE12: =IF($B12="","",IF(AND($D12=0,$E12=0,F12>0),$C12,0)) -> 0 | AF12: =IF($B12="","",IF(AND($D12=0,$E12=0,F12=0,G12>0),$C12,0)) -> 0 | AG12: =IF($B12="","",IFERROR(SUMIF('様式C-1-1用'!$BT$4:$BT$1003,B12,'様式C-1-1用'!$BY$4:$BY$1003),0)) -> 0 | AH12: =IF($B12="","",IFERROR(SUMIF('様式C-1-1用'!$BT$4:$BT$1003,B12,'様式C-1-1用'!$BZ$4:$BZ$1003),0)) -> 0 | AI12: =IF($B12="","",IFERROR(SUMIF('様式C-1-1用'!$BT$4:$BT$1003,B12,'様式C-1-1用'!$CA$4:$CA$1003),0)) -> 6.14 | AJ12: =IF($B12="","",IFERROR(SUMIF('様式C-1-1用'!$BT$4:$BT$1003,B12,'様式C-1-1用'!$CB$4:$CB$1003),0)) -> 0 | AK12: =IF($B12="","",IFERROR(SUMIF('様式C-1-1用'!$BT$4:$BT$1003,B12,'様式C-1-1用'!$CC$4:$CC$1003),0)) -> 0 | AL12: =IF($B12="","",IFERROR(SUMIF('様式C-1-1用'!$BT$4:$BT$1003,B12,'様式C-1-1用'!$CD$4:$CD$1003),0)) -> 0 | AM12: =IF($B12="","",IFERROR(SUMIF('様式C-1-1用'!$BT$4:$BT$1003,B12,'様式C-1-1用'!$CE$4:$CE$1003),0)) -> 2.14 | AN12: =IF($B12="","",IFERROR(SUMIF('様式C-1-1用'!$BT$4:$BT$1003,B12,'様式C-1-1用'!$CF$4:$CF$1003),0)) -> 0.51 | AT12: =IF(AB12="Ⅳ",4,IF(AB12="Ⅲ",3,IF(AB12="Ⅱ",2,1))) -> 2
B13: =IF(OR(B12="",B12="PE"),"",'様式A-2'!$B13) -> PE | C13: =IF(B13="","",VLOOKUP(B13,'様式A-2'!$B$10:$C$934,2,0)) -> 3.1 | D13: =IF($B13="","",COUNTIFS('様式C-1-1用'!$D$4:$D$1100,$B13,'様式C-1-1用'!$I$4:$I$1100,$D8,'様式C-1-1用'!$X$4:$X$1100,$D9)) -> 0 | E13: =IF($B13="","",COUNTIFS('様式C-1-1用'!$D$4:$D$1004,$B13,'様式C-1-1用'!$I$4:$I$1004,$D8,'様式C-1-1用'!$X$4:$X$1004,$E9)) -> 0 | F13: =IF($B13="","",COUNTIFS('様式C-1-1用'!$D$4:$D$1004,$B13,'様式C-1-1用'!$I$4:$I$1004,$D8,'様式C-1-1用'!$X$4:$X$1004,$F9)) -> 0 | G13: =IF($B13="","",COUNTIFS('様式C-1-1用'!$D$4:$D$1004,$B13,'様式C-1-1用'!$I$4:$I$1004,$D8,'様式C-1-1用'!$X$4:$X$1004,$G9)) -> 0 | H13: =IF($B13="","",COUNTIFS('様式C-1-1用'!$D$4:$D$1004,$B13,'様式C-1-1用'!$I$4:$I$1004,$H8,'様式C-1-1用'!$X$4:$X$1004,$H9)) -> 0 | I13: =IF($B13="","",COUNTIFS('様式C-1-1用'!$D$4:$D$1004,$B13,'様式C-1-1用'!$I$4:$I$1004,$H8,'様式C-1-1用'!$X$4:$X$1004,$I9)) -> 0 | J13: =IF($B13="","",COUNTIFS('様式C-1-1用'!$D$4:$D$1004,$B13,'様式C-1-1用'!$I$4:$I$1004,$H8,'様式C-1-1用'!$X$4:$X$1004,$J9)) -> 2 | K13: =IF($B13="","",COUNTIFS('様式C-1-1用'!$D$4:$D$1004,$B13,'様式C-1-1用'!$I$4:$I$1004,$H8,'様式C-1-1用'!$X$4:$X$1004,$K9)) -> 1 | L13: =IF($B13="","",COUNTIFS('様式C-1-1用'!$D$4:$D$1004,$B13,'様式C-1-1用'!$I$4:$I$1004,$L8,'様式C-1-1用'!$X$4:$X$1004,$L9)) -> 0 | M13: =IF($B13="","",COUNTIFS('様式C-1-1用'!$D$4:$D$1004,$B13,'様式C-1-1用'!$I$4:$I$1004,$L8,'様式C-1-1用'!$X$4:$X$1004,$M9)) -> 0 | N13: =IF($B13="","",COUNTIFS('様式C-1-1用'!$D$4:$D$1004,$B13,'様式C-1-1用'!$I$4:$I$1004,$L8,'様式C-1-1用'!$X$4:$X$1004,$N9)) -> 0 | O13: =IF($B13="","",COUNTIFS('様式C-1-1用'!$D$4:$D$1004,$B13,'様式C-1-1用'!$I$4:$I$1004,$L8,'様式C-1-1用'!$X$4:$X$1004,$O9)) -> 1 | P13: =IF($B13="","",IF(D13>0,1,0)) -> 0 | Q13: =IF($B13="","",IF(AND(D13=0,E13>0),1,0)) -> 0 | R13: =IF($B13="","",IF(AND(D13=0,E13=0,(F13+G13)>0),1,0)) -> 0 | S13: =IF($B13="","",H13) -> 0 | T13: =IF($B13="","",I13) -> 0 | U13: =IF($B13="","",J13+K13) -> 3 | V13: =IF($B13="","",L13) -> 0 | W13: =IF($B13="","",M13) -> 0 | X13: =IF($B13="","",N13+O13) -> 1 | Y13: =IF($B13="","",IF(P13>0,"Ⅳ",IF(Q13>0,"Ⅲ",IF(R13>0,"Ⅱ","Ⅰ")))) -> Ⅰ | Z13: =IF($B13="","",IF(S13>0,"Ⅳ",IF(T13>0,"Ⅲ",IF(U13>0,"Ⅱ","Ⅰ")))) -> Ⅱ | AA13: =IF($B13="","",IF(V13>0,"Ⅳ",IF(W13>0,"Ⅲ",IF(X13>0,"Ⅱ","Ⅰ")))) -> Ⅱ | AB13: =IF(B13="","",IF((P13+S13+V13)>0,"Ⅳ",IF((Q13+T13+W13)>0,"Ⅲ",IF((R13+U13+X13)>0,"Ⅱ","Ⅰ")))) -> Ⅱ | AC13: =IF($B13="","",IF($D13>0,$C13,0)) -> 0 | AD13: =IF($B13="","",IF(AND($D13=0,$E13>0),$C13,0)) -> 0 | AE13: =IF($B13="","",IF(AND($D13=0,$E13=0,F13>0),$C13,0)) -> 0 | AF13: =IF($B13="","",IF(AND($D13=0,$E13=0,F13=0,G13>0),$C13,0)) -> 0 | AG13: =IF($B13="","",IFERROR(SUMIF('様式C-1-1用'!$BT$4:$BT$1003,B13,'様式C-1-1用'!$BY$4:$BY$1003),0)) -> 0 | AH13: =IF($B13="","",IFERROR(SUMIF('様式C-1-1用'!$BT$4:$BT$1003,B13,'様式C-1-1用'!$BZ$4:$BZ$1003),0)) -> 0 | AI13: =IF($B13="","",IFERROR(SUMIF('様式C-1-1用'!$BT$4:$BT$1003,B13,'様式C-1-1用'!$CA$4:$CA$1003),0)) -> 8.5 | AJ13: =IF($B13="","",IFERROR(SUMIF('様式C-1-1用'!$BT$4:$BT$1003,B13,'様式C-1-1用'!$CB$4:$CB$1003),0)) -> 8.12 | AK13: =IF($B13="","",IFERROR(SUMIF('様式C-1-1用'!$BT$4:$BT$1003,B13,'様式C-1-1用'!$CC$4:$CC$1003),0)) -> 0 | AL13: =IF($B13="","",IFERROR(SUMIF('様式C-1-1用'!$BT$4:$BT$1003,B13,'様式C-1-1用'!$CD$4:$CD$1003),0)) -> 0 | AM13: =IF($B13="","",IFERROR(SUMIF('様式C-1-1用'!$BT$4:$BT$1003,B13,'様式C-1-1用'!$CE$4:$CE$1003),0)) -> 0 | AN13: =IF($B13="","",IFERROR(SUMIF('様式C-1-1用'!$BT$4:$BT$1003,B13,'様式C-1-1用'!$CF$4:$CF$1003),0)) -> 0.12 | AT13: =IF(AB13="Ⅳ",4,IF(AB13="Ⅲ",3,IF(AB13="Ⅱ",2,1))) -> 2
B14: =IF(OR(B13="",B13="PE"),"",'様式A-2'!$B14) | C14: =IF(B14="","",VLOOKUP(B14,'様式A-2'!$B$10:$C$934,2,0)) | D14: =IF($B14="","",COUNTIFS('様式C-1-1用'!$D$4:$D$1100,$B14,'様式C-1-1用'!$I$4:$I$1100,$D8,'様式C-1-1用'!$X$4:$X$1100,$D9)) | E14: =IF($B14="","",COUNTIFS('様式C-1-1用'!$D$4:$D$1004,$B14,'様式C-1-1用'!$I$4:$I$1004,$D8,'様式C-1-1用'!$X$4:$X$1004,$E9)) | F14: =IF($B14="","",COUNTIFS('様式C-1-1用'!$D$4:$D$1004,$B14,'様式C-1-1用'!$I$4:$I$1004,$D8,'様式C-1-1用'!$X$4:$X$1004,$F9)) | G14: =IF($B14="","",COUNTIFS('様式C-1-1用'!$D$4:$D$1004,$B14,'様式C-1-1用'!$I$4:$I$1004,$D8,'様式C-1-1用'!$X$4:$X$1004,$G9)) | H14: =IF($B14="","",COUNTIFS('様式C-1-1用'!$D$4:$D$1004,$B14,'様式C-1-1用'!$I$4:$I$1004,$H8,'様式C-1-1用'!$X$4:$X$1004,$H9)) | I14: =IF($B14="","",COUNTIFS('様式C-1-1用'!$D$4:$D$1004,$B14,'様式C-1-1用'!$I$4:$I$1004,$H8,'様式C-1-1用'!$X$4:$X$1004,$I9)) | J14: =IF($B14="","",COUNTIFS('様式C-1-1用'!$D$4:$D$1004,$B14,'様式C-1-1用'!$I$4:$I$1004,$H8,'様式C-1-1用'!$X$4:$X$1004,$J9)) | K14: =IF($B14="","",COUNTIFS('様式C-1-1用'!$D$4:$D$1004,$B14,'様式C-1-1用'!$I$4:$I$1004,$H8,'様式C-1-1用'!$X$4:$X$1004,$K9)) | L14: =IF($B14="","",COUNTIFS('様式C-1-1用'!$D$4:$D$1004,$B14,'様式C-1-1用'!$I$4:$I$1004,$L8,'様式C-1-1用'!$X$4:$X$1004,$L9)) | M14: =IF($B14="","",COUNTIFS('様式C-1-1用'!$D$4:$D$1004,$B14,'様式C-1-1用'!$I$4:$I$1004,$L8,'様式C-1-1用'!$X$4:$X$1004,$M9)) | N14: =IF($B14="","",COUNTIFS('様式C-1-1用'!$D$4:$D$1004,$B14,'様式C-1-1用'!$I$4:$I$1004,$L8,'様式C-1-1用'!$X$4:$X$1004,$N9)) | O14: =IF($B14="","",COUNTIFS('様式C-1-1用'!$D$4:$D$1004,$B14,'様式C-1-1用'!$I$4:$I$1004,$L8,'様式C-1-1用'!$X$4:$X$1004,$O9)) | P14: =IF($B14="","",IF(D14>0,1,0)) | Q14: =IF($B14="","",IF(AND(D14=0,E14>0),1,0)) | R14: =IF($B14="","",IF(AND(D14=0,E14=0,(F14+G14)>0),1,0)) | S14: =IF($B14="","",H14) | T14: =IF($B14="","",I14) | U14: =IF($B14="","",J14+K14) | V14: =IF($B14="","",L14) | W14: =IF($B14="","",M14) | X14: =IF($B14="","",N14+O14) | Y14: =IF($B14="","",IF(P14>0,"Ⅳ",IF(Q14>0,"Ⅲ",IF(R14>0,"Ⅱ","Ⅰ")))) | Z14: =IF($B14="","",IF(S14>0,"Ⅳ",IF(T14>0,"Ⅲ",IF(U14>0,"Ⅱ","Ⅰ")))) | AA14: =IF($B14="","",IF(V14>0,"Ⅳ",IF(W14>0,"Ⅲ",IF(X14>0,"Ⅱ","Ⅰ")))) | AB14: =IF(B14="","",IF((P14+S14+V14)>0,"Ⅳ",IF((Q14+T14+W14)>0,"Ⅲ",IF((R14+U14+X14)>0,"Ⅱ","Ⅰ")))) | AC14: =IF($B14="","",IF($D14>0,$C14,0)) | AD14: =IF($B14="","",IF(AND($D14=0,$E14>0),$C14,0)) | AE14: =IF($B14="","",IF(AND($D14=0,$E14=0,F14>0),$C14,0)) | AF14: =IF($B14="","",IF(AND($D14=0,$E14=0,F14=0,G14>0),$C14,0)) | AG14: =IF($B14="","",IFERROR(SUMIF('様式C-1-1用'!$BT$4:$BT$1003,B14,'様式C-1-1用'!$BY$4:$BY$1003),0)) | AH14: =IF($B14="","",IFERROR(SUMIF('様式C-1-1用'!$BT$4:$BT$1003,B14,'様式C-1-1用'!$BZ$4:$BZ$1003),0)) | AI14: =IF($B14="","",IFERROR(SUMIF('様式C-1-1用'!$BT$4:$BT$1003,B14,'様式C-1-1用'!$CA$4:$CA$1003),0)) | AJ14: =IF($B14="","",IFERROR(SUMIF('様式C-1-1用'!$BT$4:$BT$1003,B14,'様式C-1-1用'!$CB$4:$CB$1003),0)) | AK14: =IF($B14="","",IFERROR(SUMIF('様式C-1-1用'!$BT$4:$BT$1003,B14,'様式C-1-1用'!$CC$4:$CC$1003),0)) | AL14: =IF($B14="","",IFERROR(SUMIF('様式C-1-1用'!$BT$4:$BT$1003,B14,'様式C-1-1用'!$CD$4:$CD$1003),0)) | AM14: =IF($B14="","",IFERROR(SUMIF('様式C-1-1用'!$BT$4:$BT$1003,B14,'様式C-1-1用'!$CE$4:$CE$1003),0)) | AN14: =IF($B14="","",IFERROR(SUMIF('様式C-1-1用'!$BT$4:$BT$1003,B14,'様式C-1-1用'!$CF$4:$CF$1003),0)) | AT14: =IF(AB14="Ⅳ",4,IF(AB14="Ⅲ",3,IF(AB14="Ⅱ",2,1))) -> 1
B15: =IF(OR(B14="",B14="PE"),"",'様式A-2'!$B15) | C15: =IF(B15="","",VLOOKUP(B15,'様式A-2'!$B$10:$C$934,2,0)) | D15: =IF($B15="","",COUNTIFS('様式C-1-1用'!$D$4:$D$1100,$B15,'様式C-1-1用'!$I$4:$I$1100,$D8,'様式C-1-1用'!$X$4:$X$1100,$D9)) | E15: =IF($B15="","",COUNTIFS('様式C-1-1用'!$D$4:$D$1004,$B15,'様式C-1-1用'!$I$4:$I$1004,$D8,'様式C-1-1用'!$X$4:$X$1004,$E9)) | F15: =IF($B15="","",COUNTIFS('様式C-1-1用'!$D$4:$D$1004,$B15,'様式C-1-1用'!$I$4:$I$1004,$D8,'様式C-1-1用'!$X$4:$X$1004,$F9)) | G15: =IF($B15="","",COUNTIFS('様式C-1-1用'!$D$4:$D$1004,$B15,'様式C-1-1用'!$I$4:$I$1004,$D8,'様式C-1-1用'!$X$4:$X$1004,$G9)) | H15: =IF($B15="","",COUNTIFS('様式C-1-1用'!$D$4:$D$1004,$B15,'様式C-1-1用'!$I$4:$I$1004,$H8,'様式C-1-1用'!$X$4:$X$1004,$H9)) | I15: =IF($B15="","",COUNTIFS('様式C-1-1用'!$D$4:$D$1004,$B15,'様式C-1-1用'!$I$4:$I$1004,$H8,'様式C-1-1用'!$X$4:$X$1004,$I9)) | J15: =IF($B15="","",COUNTIFS('様式C-1-1用'!$D$4:$D$1004,$B15,'様式C-1-1用'!$I$4:$I$1004,$H8,'様式C-1-1用'!$X$4:$X$1004,$J9)) | K15: =IF($B15="","",COUNTIFS('様式C-1-1用'!$D$4:$D$1004,$B15,'様式C-1-1用'!$I$4:$I$1004,$H8,'様式C-1-1用'!$X$4:$X$1004,$K9)) | L15: =IF($B15="","",COUNTIFS('様式C-1-1用'!$D$4:$D$1004,$B15,'様式C-1-1用'!$I$4:$I$1004,$L8,'様式C-1-1用'!$X$4:$X$1004,$L9)) | M15: =IF($B15="","",COUNTIFS('様式C-1-1用'!$D$4:$D$1004,$B15,'様式C-1-1用'!$I$4:$I$1004,$L8,'様式C-1-1用'!$X$4:$X$1004,$M9)) | N15: =IF($B15="","",COUNTIFS('様式C-1-1用'!$D$4:$D$1004,$B15,'様式C-1-1用'!$I$4:$I$1004,$L8,'様式C-1-1用'!$X$4:$X$1004,$N9)) | O15: =IF($B15="","",COUNTIFS('様式C-1-1用'!$D$4:$D$1004,$B15,'様式C-1-1用'!$I$4:$I$1004,$L8,'様式C-1-1用'!$X$4:$X$1004,$O9)) | P15: =IF($B15="","",IF(D15>0,1,0)) | Q15: =IF($B15="","",IF(AND(D15=0,E15>0),1,0)) | R15: =IF($B15="","",IF(AND(D15=0,E15=0,(F15+G15)>0),1,0)) | S15: =IF($B15="","",H15) | T15: =IF($B15="","",I15) | U15: =IF($B15="","",J15+K15) | V15: =IF($B15="","",L15) | W15: =IF($B15="","",M15) | X15: =IF($B15="","",N15+O15) | Y15: =IF($B15="","",IF(P15>0,"Ⅳ",IF(Q15>0,"Ⅲ",IF(R15>0,"Ⅱ","Ⅰ")))) | Z15: =IF($B15="","",IF(S15>0,"Ⅳ",IF(T15>0,"Ⅲ",IF(U15>0,"Ⅱ","Ⅰ")))) | AA15: =IF($B15="","",IF(V15>0,"Ⅳ",IF(W15>0,"Ⅲ",IF(X15>0,"Ⅱ","Ⅰ")))) | AB15: =IF(B15="","",IF((P15+S15+V15)>0,"Ⅳ",IF((Q15+T15+W15)>0,"Ⅲ",IF((R15+U15+X15)>0,"Ⅱ","Ⅰ")))) | AC15: =IF($B15="","",IF($D15>0,$C15,0)) | AD15: =IF($B15="","",IF(AND($D15=0,$E15>0),$C15,0)) | AE15: =IF($B15="","",IF(AND($D15=0,$E15=0,F15>0),$C15,0)) | AF15: =IF($B15="","",IF(AND($D15=0,$E15=0,F15=0,G15>0),$C15,0)) | AG15: =IF($B15="","",IFERROR(SUMIF('様式C-1-1用'!$BT$4:$BT$1003,B15,'様式C-1-1用'!$BY$4:$BY$1003),0)) | AH15: =IF($B15="","",IFERROR(SUMIF('様式C-1-1用'!$BT$4:$BT$1003,B15,'様式C-1-1用'!$BZ$4:$BZ$1003),0)) | AI15: =IF($B15="","",IFERROR(SUMIF('様式C-1-1用'!$BT$4:$BT$1003,B15,'様式C-1-1用'!$CA$4:$CA$1003),0)) | AJ15: =IF($B15="","",IFERROR(SUMIF('様式C-1-1用'!$BT$4:$BT$1003,B15,'様式C-1-1用'!$CB$4:$CB$1003),0)) | AK15: =IF($B15="","",IFERROR(SUMIF('様式C-1-1用'!$BT$4:$BT$1003,B15,'様式C-1-1用'!$CC$4:$CC$1003),0)) | AL15: =IF($B15="","",IFERROR(SUMIF('様式C-1-1用'!$BT$4:$BT$1003,B15,'様式C-1-1用'!$CD$4:$CD$1003),0)) | AM15: =IF($B15="","",IFERROR(SUMIF('様式C-1-1用'!$BT$4:$BT$1003,B15,'様式C-1-1用'!$CE$4:$CE$1003),0)) | AN15: =IF($B15="","",IFERROR(SUMIF('様式C-1-1用'!$BT$4:$BT$1003,B15,'様式C-1-1用'!$CF$4:$CF$1003),0)) | AT15: =IF(AB15="Ⅳ",4,IF(AB15="Ⅲ",3,IF(AB15="Ⅱ",2,1))) -> 1
B16: =IF(OR(B15="",B15="PE"),"",'様式A-2'!$B16) | C16: =IF(B16="","",VLOOKUP(B16,'様式A-2'!$B$10:$C$934,2,0)) | D16: =IF($B16="","",COUNTIFS('様式C-1-1用'!$D$4:$D$1100,$B16,'様式C-1-1用'!$I$4:$I$1100,$D8,'様式C-1-1用'!$X$4:$X$1100,$D9)) | E16: =IF($B16="","",COUNTIFS('様式C-1-1用'!$D$4:$D$1004,$B16,'様式C-1-1用'!$I$4:$I$1004,$D8,'様式C-1-1用'!$X$4:$X$1004,$E9)) | F16: =IF($B16="","",COUNTIFS('様式C-1-1用'!$D$4:$D$1004,$B16,'様式C-1-1用'!$I$4:$I$1004,$D8,'様式C-1-1用'!$X$4:$X$1004,$F9)) | G16: =IF($B16="","",COUNTIFS('様式C-1-1用'!$D$4:$D$1004,$B16,'様式C-1-1用'!$I$4:$I$1004,$D8,'様式C-1-1用'!$X$4:$X$1004,$G9)) | H16: =IF($B16="","",COUNTIFS('様式C-1-1用'!$D$4:$D$1004,$B16,'様式C-1-1用'!$I$4:$I$1004,$H8,'様式C-1-1用'!$X$4:$X$1004,$H9)) | I16: =IF($B16="","",COUNTIFS('様式C-1-1用'!$D$4:$D$1004,$B16,'様式C-1-1用'!$I$4:$I$1004,$H8,'様式C-1-1用'!$X$4:$X$1004,$I9)) | J16: =IF($B16="","",COUNTIFS('様式C-1-1用'!$D$4:$D$1004,$B16,'様式C-1-1用'!$I$4:$I$1004,$H8,'様式C-1-1用'!$X$4:$X$1004,$J9)) | K16: =IF($B16="","",COUNTIFS('様式C-1-1用'!$D$4:$D$1004,$B16,'様式C-1-1用'!$I$4:$I$1004,$H8,'様式C-1-1用'!$X$4:$X$1004,$K9)) | L16: =IF($B16="","",COUNTIFS('様式C-1-1用'!$D$4:$D$1004,$B16,'様式C-1-1用'!$I$4:$I$1004,$L8,'様式C-1-1用'!$X$4:$X$1004,$L9)) | M16: =IF($B16="","",COUNTIFS('様式C-1-1用'!$D$4:$D$1004,$B16,'様式C-1-1用'!$I$4:$I$1004,$L8,'様式C-1-1用'!$X$4:$X$1004,$M9)) | N16: =IF($B16="","",COUNTIFS('様式C-1-1用'!$D$4:$D$1004,$B16,'様式C-1-1用'!$I$4:$I$1004,$L8,'様式C-1-1用'!$X$4:$X$1004,$N9)) | O16: =IF($B16="","",COUNTIFS('様式C-1-1用'!$D$4:$D$1004,$B16,'様式C-1-1用'!$I$4:$I$1004,$L8,'様式C-1-1用'!$X$4:$X$1004,$O9)) | P16: =IF($B16="","",IF(D16>0,1,0)) | Q16: =IF($B16="","",IF(AND(D16=0,E16>0),1,0)) | R16: =IF($B16="","",IF(AND(D16=0,E16=0,(F16+G16)>0),1,0)) | S16: =IF($B16="","",H16) | T16: =IF($B16="","",I16) | U16: =IF($B16="","",J16+K16) | V16: =IF($B16="","",L16) | W16: =IF($B16="","",M16) | X16: =IF($B16="","",N16+O16) | Y16: =IF($B16="","",IF(P16>0,"Ⅳ",IF(Q16>0,"Ⅲ",IF(R16>0,"Ⅱ","Ⅰ")))) | Z16: =IF($B16="","",IF(S16>0,"Ⅳ",IF(T16>0,"Ⅲ",IF(U16>0,"Ⅱ","Ⅰ")))) | AA16: =IF($B16="","",IF(V16>0,"Ⅳ",IF(W16>0,"Ⅲ",IF(X16>0,"Ⅱ","Ⅰ")))) | AB16: =IF(B16="","",IF((P16+S16+V16)>0,"Ⅳ",IF((Q16+T16+W16)>0,"Ⅲ",IF((R16+U16+X16)>0,"Ⅱ","Ⅰ")))) | AC16: =IF($B16="","",IF($D16>0,$C16,0)) | AD16: =IF($B16="","",IF(AND($D16=0,$E16>0),$C16,0)) | AE16: =IF($B16="","",IF(AND($D16=0,$E16=0,F16>0),$C16,0)) | AF16: =IF($B16="","",IF(AND($D16=0,$E16=0,F16=0,G16>0),$C16,0)) | AG16: =IF($B16="","",IFERROR(SUMIF('様式C-1-1用'!$BT$4:$BT$1003,B16,'様式C-1-1用'!$BY$4:$BY$1003),0)) | AH16: =IF($B16="","",IFERROR(SUMIF('様式C-1-1用'!$BT$4:$BT$1003,B16,'様式C-1-1用'!$BZ$4:$BZ$1003),0)) | AI16: =IF($B16="","",IFERROR(SUMIF('様式C-1-1用'!$BT$4:$BT$1003,B16,'様式C-1-1用'!$CA$4:$CA$1003),0)) | AJ16: =IF($B16="","",IFERROR(SUMIF('様式C-1-1用'!$BT$4:$BT$1003,B16,'様式C-1-1用'!$CB$4:$CB$1003),0)) | AK16: =IF($B16="","",IFERROR(SUMIF('様式C-1-1用'!$BT$4:$BT$1003,B16,'様式C-1-1用'!$CC$4:$CC$1003),0)) | AL16: =IF($B16="","",IFERROR(SUMIF('様式C-1-1用'!$BT$4:$BT$1003,B16,'様式C-1-1用'!$CD$4:$CD$1003),0)) | AM16: =IF($B16="","",IFERROR(SUMIF('様式C-1-1用'!$BT$4:$BT$1003,B16,'様式C-1-1用'!$CE$4:$CE$1003),0)) | AN16: =IF($B16="","",IFERROR(SUMIF('様式C-1-1用'!$BT$4:$BT$1003,B16,'様式C-1-1用'!$CF$4:$CF$1003),0)) | AT16: =IF(AB16="Ⅳ",4,IF(AB16="Ⅲ",3,IF(AB16="Ⅱ",2,1))) -> 1
B17: =IF(OR(B16="",B16="PE"),"",'様式A-2'!$B17) | C17: =IF(B17="","",VLOOKUP(B17,'様式A-2'!$B$10:$C$934,2,0)) | D17: =IF($B17="","",COUNTIFS('様式C-1-1用'!$D$4:$D$1100,$B17,'様式C-1-1用'!$I$4:$I$1100,$D8,'様式C-1-1用'!$X$4:$X$1100,$D9)) | E17: =IF($B17="","",COUNTIFS('様式C-1-1用'!$D$4:$D$1004,$B17,'様式C-1-1用'!$I$4:$I$1004,$D8,'様式C-1-1用'!$X$4:$X$1004,$E9)) | F17: =IF($B17="","",COUNTIFS('様式C-1-1用'!$D$4:$D$1004,$B17,'様式C-1-1用'!$I$4:$I$1004,$D8,'様式C-1-1用'!$X$4:$X$1004,$F9)) | G17: =IF($B17="","",COUNTIFS('様式C-1-1用'!$D$4:$D$1004,$B17,'様式C-1-1用'!$I$4:$I$1004,$D8,'様式C-1-1用'!$X$4:$X$1004,$G9)) | H17: =IF($B17="","",COUNTIFS('様式C-1-1用'!$D$4:$D$1004,$B17,'様式C-1-1用'!$I$4:$I$1004,$H8,'様式C-1-1用'!$X$4:$X$1004,$H9)) | I17: =IF($B17="","",COUNTIFS('様式C-1-1用'!$D$4:$D$1004,$B17,'様式C-1-1用'!$I$4:$I$1004,$H8,'様式C-1-1用'!$X$4:$X$1004,$I9)) | J17: =IF($B17="","",COUNTIFS('様式C-1-1用'!$D$4:$D$1004,$B17,'様式C-1-1用'!$I$4:$I$1004,$H8,'様式C-1-1用'!$X$4:$X$1004,$J9)) | K17: =IF($B17="","",COUNTIFS('様式C-1-1用'!$D$4:$D$1004,$B17,'様式C-1-1用'!$I$4:$I$1004,$H8,'様式C-1-1用'!$X$4:$X$1004,$K9)) | L17: =IF($B17="","",COUNTIFS('様式C-1-1用'!$D$4:$D$1004,$B17,'様式C-1-1用'!$I$4:$I$1004,$L8,'様式C-1-1用'!$X$4:$X$1004,$L9)) | M17: =IF($B17="","",COUNTIFS('様式C-1-1用'!$D$4:$D$1004,$B17,'様式C-1-1用'!$I$4:$I$1004,$L8,'様式C-1-1用'!$X$4:$X$1004,$M9)) | N17: =IF($B17="","",COUNTIFS('様式C-1-1用'!$D$4:$D$1004,$B17,'様式C-1-1用'!$I$4:$I$1004,$L8,'様式C-1-1用'!$X$4:$X$1004,$N9)) | O17: =IF($B17="","",COUNTIFS('様式C-1-1用'!$D$4:$D$1004,$B17,'様式C-1-1用'!$I$4:$I$1004,$L8,'様式C-1-1用'!$X$4:$X$1004,$O9)) | P17: =IF($B17="","",IF(D17>0,1,0)) | Q17: =IF($B17="","",IF(AND(D17=0,E17>0),1,0)) | R17: =IF($B17="","",IF(AND(D17=0,E17=0,(F17+G17)>0),1,0)) | S17: =IF($B17="","",H17) | T17: =IF($B17="","",I17) | U17: =IF($B17="","",J17+K17) | V17: =IF($B17="","",L17) | W17: =IF($B17="","",M17) | X17: =IF($B17="","",N17+O17) | Y17: =IF($B17="","",IF(P17>0,"Ⅳ",IF(Q17>0,"Ⅲ",IF(R17>0,"Ⅱ","Ⅰ")))) | Z17: =IF($B17="","",IF(S17>0,"Ⅳ",IF(T17>0,"Ⅲ",IF(U17>0,"Ⅱ","Ⅰ")))) | AA17: =IF($B17="","",IF(V17>0,"Ⅳ",IF(W17>0,"Ⅲ",IF(X17>0,"Ⅱ","Ⅰ")))) | AB17: =IF(B17="","",IF((P17+S17+V17)>0,"Ⅳ",IF((Q17+T17+W17)>0,"Ⅲ",IF((R17+U17+X17)>0,"Ⅱ","Ⅰ")))) | AC17: =IF($B17="","",IF($D17>0,$C17,0)) | AD17: =IF($B17="","",IF(AND($D17=0,$E17>0),$C17,0)) | AE17: =IF($B17="","",IF(AND($D17=0,$E17=0,F17>0),$C17,0)) | AF17: =IF($B17="","",IF(AND($D17=0,$E17=0,F17=0,G17>0),$C17,0)) | AG17: =IF($B17="","",IFERROR(SUMIF('様式C-1-1用'!$BT$4:$BT$1003,B17,'様式C-1-1用'!$BY$4:$BY$1003),0)) | AH17: =IF($B17="","",IFERROR(SUMIF('様式C-1-1用'!$BT$4:$BT$1003,B17,'様式C-1-1用'!$BZ$4:$BZ$1003),0)) | AI17: =IF($B17="","",IFERROR(SUMIF('様式C-1-1用'!$BT$4:$BT$1003,B17,'様式C-1-1用'!$CA$4:$CA$1003),0)) | AJ17: =IF($B17="","",IFERROR(SUMIF('様式C-1-1用'!$BT$4:$BT$1003,B17,'様式C-1-1用'!$CB$4:$CB$1003),0)) | AK17: =IF($B17="","",IFERROR(SUMIF('様式C-1-1用'!$BT$4:$BT$1003,B17,'様式C-1-1用'!$CC$4:$CC$1003),0)) | AL17: =IF($B17="","",IFERROR(SUMIF('様式C-1-1用'!$BT$4:$BT$1003,B17,'様式C-1-1用'!$CD$4:$CD$1003),0)) | AM17: =IF($B17="","",IFERROR(SUMIF('様式C-1-1用'!$BT$4:$BT$1003,B17,'様式C-1-1用'!$CE$4:$CE$1003),0)) | AN17: =IF($B17="","",IFERROR(SUMIF('様式C-1-1用'!$BT$4:$BT$1003,B17,'様式C-1-1用'!$CF$4:$CF$1003),0)) | AT17: =IF(AB17="Ⅳ",4,IF(AB17="Ⅲ",3,IF(AB17="Ⅱ",2,1))) -> 1
