Workbook
Name その他: '(参考)リスト'!$C$45
Name その他施設: '(参考)リスト'!$C$76:$C$80
Name 外力: '(参考)リスト'!$E$16:$E$23
Name 換気施設: '(参考)リスト'!$C$55:$C$59
Name 坑門: '(参考)リスト'!$C$16:$C$29
Name 材質劣化: '(参考)リスト'!$E$25:$E$30
Name 照明施設: '(参考)リスト'!$C$51:$C$53
Name 対象箇所: [1]!テーブル1[対象箇所]
Name 対象箇所: [2]!テーブル1[対象箇所]
Name 対象箇所: [2]!テーブル1[対象箇所]
Name 対象箇所: [2]!テーブル1[対象箇所]
Name 対象箇所: [2]!テーブル1[対象箇所]
Name 対象箇所: [2]!テーブル1[対象箇所]
Name 対象箇所: [2]!テーブル1[対象箇所]
Name 対象箇所: [2]!テーブル1[対象箇所]
Name 対象箇所: [2]!テーブル1[対象箇所]
Name 対象箇所: [2]!テーブル1[対象箇所]
Name 対象箇所: [2]!テーブル1[対象箇所]
Name 対象箇所: [2]!テーブル1[対象箇所]
Name 対象箇所: [2]!テーブル1[対象箇所]
Name 対象箇所: [2]!テーブル1[対象箇所]
Name 対象箇所: [2]!テーブル1[対象箇所]
Name 対象箇所: [2]!テーブル1[対象箇所]
Name 対象箇所: [2]!テーブル1[対象箇所]
Name 対象箇所: [2]!テーブル1[対象箇所]
Name 対象箇所: [2]!テーブル1[対象箇所]
Name 対象箇所: [2]!テーブル1[対象箇所]
Name 対象箇所: [2]!テーブル1[対象箇所]
Name 対象箇所: [2]!テーブル1[対象箇所]
Name 対象箇所: [2]!テーブル1[対象箇所]
Name 対象箇所: [2]!テーブル1[対象箇所]
Name 対象箇所: [2]!テーブル1[対象箇所]
Name 対象箇所: [2]!テーブル1[対象箇所]
Name 対象箇所: [2]!テーブル1[対象箇所]
Name 対象箇所: [2]!テーブル1[対象箇所]
Name 対象箇所: [2]!テーブル1[対象箇所]
Name 対象箇所: [2]!テーブル1[対象箇所]
Name 対象箇所: [2]!テーブル1[対象箇所]
Name 対象箇所: [2]!テーブル1[対象箇所]
Name 対象箇所: [2]!テーブル1[対象箇所]
Name 対象箇所: [2]!テーブル1[対象箇所]
Name 対象箇所: [2]!テーブル1[対象箇所]
Name 対象箇所: [2]!テーブル1[対象箇所]
Name 対象箇所: [2]!テーブル1[対象箇所]
Name 対象箇所: [2]!テーブル1[対象箇所]
Name 対象箇所: [2]!テーブル1[対象箇所]
Name 対象箇所: [2]!テーブル1[対象箇所]
Name 対象箇所: [2]!テーブル1[対象箇所]
Name 対象箇所: [2]!テーブル1[対象箇所]
Name 対象箇所: [2]!テーブル1[対象箇所]
Name 対象箇所: [2]!テーブル1[対象箇所]
Name 対象箇所: [2]!テーブル1[対象箇所]
Name 対象箇所: [2]!テーブル1[対象箇所]
Name 対象箇所: [2]!テーブル1[対象箇所]
Name 対象箇所: [2]!テーブル1[対象箇所]
Name 対象箇所: [2]!テーブル1[対象箇所]
Name 対象箇所: [2]!テーブル1[対象箇所]
Name 対象箇所: [2]!テーブル1[対象箇所]
Name 対象箇所: [2]!テーブル1[対象箇所]
Name 対象箇所: [2]!テーブル1[対象箇所]

Sheet 様式A-1
B2: ■トンネル台帳 トンネル諸元、非常用施設諸元 【様式A-1】 | S2: トンネルID | W2: 34.09675,131.38244
B3: フリガナ | D3: オゴオリ | H3: 路線名 | J3: 主要県道 山口宇部線 | P3: 管理者名 | R3: 山口県防府土木建築事務所 | W3: 緊急輸送道路 | Z3: 有
B4: 名 称 | D4: 小郡トンネル | W4: 代替路の有無 | Z4: 有
B5: 所在地 | D5: 自 | E5: 山口県山口市小郡下郷 | H5: 作成者 | K5: 応用地質株式会社 | P5: 作成年月日 | R5: 44469 | U5: トンネル延長 | X5: L= | Z5: 1915 | AB5: ｍ
D6: 至 | E6: 山口県山口市小郡下郷 | U6: ﾄﾝﾈﾙの分類 | X6: 陸上トンネル（掘進工法）
B7: 起点 | C7: 緯度 | E7: 340548.3 | H7: 完成年月日 | K7: 2009年 | M7: 舗装 | O7: 種 別 | Q7: コンクリート系 | S7: トンネル非常用施設 | T7: 施設の内訳 | X7: 種別・方式 | Y7: 型式 | Z7: 個数 | AA7: 更新年度 | AE7: =INT(E7/10000) -> 34 | AF7: =INT(E7/100)-AE7*100 -> 5 | AG7: =E7-AE7*10000-AF7*100 -> 48.3 | AH7: =ROUND(AE7+AF7/60+AG7/60/60,5) -> 34.09675 | AI7: =TEXT(AH7,"0.00000") -> 34.09675
C8: 経度 | E8: 1312256.8 | H8: 供用年月日 | K8: 2009年 | O8: 厚 さ | Q8: 0.28m | T8: 通報設備 | U8: 通話型通報設備 | Z8: 12 | AE8: =INT(E8/10000) -> 131 | AF8: =INT(E8/100)-AE8*100 -> 22 | AG8: =E8-AE8*10000-AF8*100 -> 56.8 | AH8: =ROUND(AE8+AF8/60+AG8/60/60,5) -> 131.38244 | AI8: =TEXT(AH8,"0.00000") -> 131.38244
B9: 終点 | C9: 緯度 | E9: 340648.2 | H9: トンネル区分 | K9: A | O9: 面 積 | Q9: 18085.9 | U9: 操作型通報設備 | Z9: 58
C10: 経度 | E10: 1312316.3 | H10: 内装種類 | K10: 覆工(内装なし) | O10: 更新年次 | U10: 自動通報設備 | Z10: 85
B11: 一般有料区分 | E11: 無料 | H11: 天井板種類 | K11: 覆工(内装なし) | M11: 排水 | O11: 種 別 | T11: 警報設備 | U11: 非常警報設備
B12: 土かぶり | G12: m | H12: 坑門 | I12: 起点 | J12: 形式 | K12: 突出型 | O12: 更新年次 | T12: 消火設備 | U12: 消 火 器 | Z12: 58
B13: 内空断面積 | E13: 60 | G13: ㎡ | J13: 延長 | K13: 12 | L13: m | M13: 施設 | P13: 種別・方式 | Q13: 個数 | R13: 更新年次 | U13: 消火栓設備 | Z13: 37
B14: 交 通 量 | E14: 21706 | G14: 台/日 | I14: 終点 | J14: 形式 | K14: 面壁型 | M14: 道路附属物等 | N14: 照明 | P14: ナトリウム灯 | Q14: 429 | T14: 避難誘導設備 | U14: 誘導表示設備 | Z14: 90
C15: 道 路 幅 | E15: 9.5 | G15: m | J15: 延長 | K15: 10.2 | L15: m | N15: 換気 | P15: 縦流式(ｼﾞｪｯﾄﾌｧﾝ) | Q15: 5 | U15: 避難情報提供設備
B16: 幅 員 | C16: 車 道 幅 | E16: 3.5 | G16: m | H16: 竣工巻厚 | I16: アーチ | K16: 30 | L16: cm | N16: 標識
E17: 3.5 | G17: m | I17: 側 壁 | K17: 30 | L17: cm | N17: 警報表示板 | U17: 避難通路
C18: 歩道等幅 | E18: 1.1 | G18: m | K18: 30 | L18: cm | N18: 吸音板 | U18: 排煙設備 | Z18: 5
B19: 高さ | C19: 建築限界高 | E19: 4.5 | G19: m | I19: インバート | L19: cm | T19: その他の設備 | U19: 給水栓設備
C20: 中央高 | E20: 6.5 | G20: m | H20: 半径 | I20: アーチ | K20: 612 | L20: cm | U20: 無線通信補助設備 | Z20: 2
C21: 有効高 | E21: 4.5 | G21: m | I21: 側 壁 | K21: 888 | L21: cm | U21: 水噴霧設備
C22: 縦断勾配 | I22: インバート | L22: cm | U22: 監視設備
B23: 線 形 | C23: 直線区間長 | H23: 占用物件 | I23: 種 類 | K23: 寸 法 | M23: 管理者名 | Q23: 更新年次 | S23: 非常用施設 関連設備 | U23: 予備発電設備
C24: 曲線区間 | D24: 区間長
D25: 起点側ｸﾛｿｲﾄﾞ
D26: 曲線半径
D27: 終点側ｸﾛｿｲﾄﾞ | S27: その他 | U27: 非常駐車帯 | Z27: 4
B28: トンネル工法 | E28: 山岳トンネル工法（NATM） | U28: 方向転換所
C29: ※緯度・経度については、秒の少数第二位の単位まで記入すること。（例；36度20分35.56秒の場合、362035.36と入力）

Sheet 様式A-2
B3: ■トンネル台帳 トンネル情報一覧表 【様式A-2】
B4: フリガナ | E4: オゴオリ | J4: 路線名 | M4: 主要県道 山口宇部線 | S4: 作成者 | Y4: 応用地質株式会社 | AE4: 作成年月日 | AI4: 44469
B5: 名 称 | E5: 小郡トンネル | J5: 管理者名 | M5: 山口県防府土木建築事務所
B6: 覆工 ｽﾊﾟﾝ 番号 | C6: ｽﾊﾟﾝ長 | D6: 追加距離 | F6: トンネル本体工 | K6: 照明施設 | O6: 非常用施設 | AE6: 換気施設 | AK6: その他附属物等
O7: ='様式A-1'!T8 -> 通報設備 | R7: ='様式A-1'!T11 -> 警報設備 | S7: ='様式A-1'!T12 -> 消火設備 | U7: ='様式A-1'!T14 -> 避難誘導設備 | Y7: ='様式A-1'!T19 -> その他の設備 | AC7: 特記事項
D8: 起点側 | E8: 終点側 | F8: 特記事項 | I8: 内装板 | J8: 天井板 | K8: 基本照明 | L8: 入口出口照明 | M8: 特記事項 | O8: ='様式A-1'!U8 -> 通話型通報設備 | P8: ='様式A-1'!U9 -> 操作型通報設備 | Q8: ='様式A-1'!U10 -> 自動通報設備 | R8: ='様式A-1'!U11 -> 非常警報設備 | S8: ='様式A-1'!U12 -> 消 火 器 | T8: ='様式A-1'!U13 -> 消火栓設備 | U8: ='様式A-1'!U14 -> 誘導表示設備 | V8: ='様式A-1'!U15 -> 避難情報提供設備 | W8: ='様式A-1'!U17 -> 避難通路 | X8: ='様式A-1'!U18 -> 排煙設備 | Y8: ='様式A-1'!U19 -> 給水栓設備 | Z8: ='様式A-1'!U20 -> 無線通信補助設備 | AA8: ='様式A-1'!U21 -> 水噴霧設備 | AB8: ='様式A-1'!U22 -> 監視設備 | AE8: JF | AF8: VI計 | AG8: CO計 | AH8: 風向 風速計 | AI8: 特記事項
C9: (m) | D9: (m) | E9: (m)
B10: PS | F10: (突出型坑口) | AK10: 案内標識1枚、警戒標識1枚
B11: 1 | C11: 12 | D11: 0 | E11: 12 | K11: ○
B12: 2 | C12: 9 | D12: 12 | E12: 21 | K12: ○ | P12: 1 | S12: 1 | T12: 1 | U12: ◯
B13: 3 | C13: 10.5 | D13: 21 | E13: 31.5 | K13: ○
B14: 4 | C14: 10.4 | D14: 31.5 | E14: 41.9 | K14: ○ | U14: ◯
B15: 5 | C15: 10.5 | D15: 41.9 | E15: 52.4 | K15: ○
B16: 6 | C16: 10.4 | D16: 52.4 | E16: 62.8 | K16: ○ | P16: 2 | S16: 2 | T16: 2 | U16: ◯
B17: 7 | C17: 10.5 | D17: 62.8 | E17: 73.3 | K17: ○ | P17: 3 | S17: 3
B18: 8 | C18: 10.5 | D18: 73.3 | E18: 83.8 | K18: ○
B19: 9 | C19: 10.5 | D19: 83.8 | E19: 94.3 | K19: ○ | U19: ◯
B20: 10 | C20: 10.5 | D20: 94.3 | E20: 104.8 | K20: ○ | AF20: ○
B21: 11 | C21: 10.5 | D21: 104.8 | E21: 115.3 | K21: ○ | O21: 1 | P21: 4 | S21: 4 | T21: 3 | AG21: ○
B22: 12 | C22: 10.5 | D22: 115.3 | E22: 125.8 | K22: ○
B23: 13 | C23: 10.5 | D23: 125.8 | E23: 136.3 | K23: ○
B24: 14 | C24: 10.5 | D24: 136.3 | E24: 146.8 | K24: ○ | U24: ◯
B25: 15 | C25: 10.5 | D25: 146.8 | E25: 157.3 | K25: ○
B26: 16 | C26: 10.5 | D26: 157.3 | E26: 167.8 | K26: ○ | P26: 5 | S26: 5 | T26: 4 | U26: ◯×2
B27: 17 | C27: 10.5 | D27: 167.8 | E27: 178.3 | K27: ○ | AF27: ○
B28: 18 | C28: 10.5 | D28: 178.3 | E28: 188.8 | K28: ○ | P28: 6 | S28: 6 | AK28: 端子盤（TB-5）
B29: 19 | C29: 10.5 | D29: 188.8 | E29: 199.3 | K29: ○ | U29: ◯
B30: 20 | C30: 10.5 | D30: 199.3 | E30: 209.8 | K30: ○
B31: 21 | C31: 10.5 | D31: 209.8 | E31: 220.3 | K31: ○ | P31: 7 | S31: 7 | T31: 5 | U31: ◯
B32: 22 | C32: 10.5 | D32: 220.3 | E32: 230.8 | K32: ○ | AH32: ○
B33: 23 | C33: 10.5 | D33: 230.8 | E33: 241.3 | K33: ○ | U33: ◯
B34: 24 | C34: 10.5 | D34: 241.3 | E34: 251.8
B35: 25 | C35: 10.5 | D35: 251.8 | E35: 262.3 | K35: ○ | P35: 8 | S35: 8 | T35: 6 | U35: ◯
B36: 26 | C36: 10.5 | D36: 262.3 | E36: 272.8 | K36: ○ | P36: 9 | S36: 9 | U36: ◯
B37: 27 | C37: 10.5 | D37: 272.8 | E37: 283.3 | K37: ○
B38: 28 | C38: 10.5 | D38: 283.3 | E38: 293.8 | U38: ◯
B39: 29 | C39: 10.5 | D39: 293.8 | E39: 304.3 | K39: ○
B40: 30 | C40: 10.5 | D40: 304.3 | E40: 314.8 | K40: ○ | O40: 2 | P40: 10 | S40: 10 | T40: 7
B41: 31 | C41: 10.5 | D41: 314.8 | E41: 325.3 | K41: ○
B42: 32 | C42: 10.5 | D42: 325.3 | E42: 335.8
B43: 33 | C43: 10.5 | D43: 335.8 | E43: 346.3 | K43: ○ | U43: ◯
B44: 34 | C44: 10.5 | D44: 346.3 | E44: 356.8 | K44: ○
B45: 35 | C45: 10.5 | D45: 356.8 | E45: 367.3 | K45: ○ | P45: 11 | S45: 11 | T45: 8 | U45: ◯×2
B46: 36 | C46: 10.5 | D46: 367.3 | E46: 377.8 | K46: ○ | P46: 12 | S46: 12
B47: 37 | C47: 10.5 | D47: 377.8 | E47: 388.3 | U47: ◯
B48: 38 | C48: 10.5 | D48: 388.3 | E48: 398.8 | K48: ○
B49: 39 | C49: 10.5 | D49: 398.8 | E49: 409.3 | K49: ○
B50: 40 | C50: 10.5 | D50: 409.3 | E50: 419.8 | K50: ○ | P50: 13 | S50: 13 | T50: 9 | U50: ◯
B51: 41 | C51: 10.5 | D51: 419.8 | E51: 430.3
B52: 42 | C52: 10.4 | D52: 430.3 | E52: 440.7 | K52: ○ | U52: ◯
B53: 43 | C53: 10.5 | D53: 440.7 | E53: 451.2 | K53: ○
B54: 44 | C54: 10.5 | D54: 451.2 | E54: 461.7 | K54: ○ | U54: ◯
B55: 45 | C55: 10.5 | D55: 461.7 | E55: 472.2 | P55: 14・15 | S55: 14・15 | T55: 10
B56: 46 | C56: 10.5 | D56: 472.2 | E56: 482.7 | K56: ○
B57: 47 | C57: 10.5 | D57: 482.7 | E57: 493.2 | K57: ○ | U57: ◯
B58: 48 | C58: 10.5 | D58: 493.2 | E58: 503.7 | K58: ○
B59: 49 | C59: 10.5 | D59: 503.7 | E59: 514.2 | O59: 3 | P59: 16 | S59: 16 | T59: 11
B60: 50 | C60: 10.5 | D60: 514.2 | E60: 524.7 | K60: ○
B61: 51 | C61: 10.5 | D61: 524.7 | E61: 535.2 | K61: ○
B62: 52 | C62: 10.2 | D62: 535.2 | E62: 545.4 | K62: ○ | U62: ◯
B63: 53 | C63: 10.2 | D63: 545.4 | E63: 555.6
B64: 54 | C64: 10.5 | D64: 555.6 | E64: 566.1 | K64: ○ | P64: 17 | S64: 17 | T64: 12 | U64: ◯×2
B65: 55 | C65: 6.2 | D65: 566.1 | E65: 572.3 | K65: ○ | O65: 4 | P65: 18 | S65: 18
B66: 56 | C66: 6.2 | D66: 572.3 | E66: 578.5 | AK66: 端子盤（TB-4）
B67: 57 | C67: 6.2 | D67: 578.5 | E67: 584.7 | K67: ○
B68: 58 | C68: 6.2 | D68: 584.7 | E68: 590.9 | U68: ◯
B69: 59 | C69: 6.2 | D69: 590.9 | E69: 597.1 | K69: ○ | U69: ◯
B70: 60 | C70: 10 | D70: 597.1 | E70: 607.1 | K70: ○ | P70: 19 | S70: 19 | T70: 13 | U70: ◯
B71: 61 | C71: 10.5 | D71: 607.1 | E71: 617.6 | K71: ○
B72: 62 | C72: 10.3 | D72: 617.6 | E72: 627.9 | K72: ○ | U72: ◯
B73: 63 | C73: 10.2 | D73: 627.9 | E73: 638.1
B74: 64 | C74: 10.5 | D74: 638.1 | E74: 648.6 | K74: ○ | P74: 20・21 | S74: 20・21 | T74: 14
B75: 65 | C75: 6.2 | D75: 648.6 | E75: 654.8 | K75: ○ | U75: ◯
B76: 66 | C76: 6.2 | D76: 654.8 | E76: 661 | U76: ◯
B77: 67 | C77: 6.2 | D77: 661 | E77: 667.2 | K77: ○
B78: 68 | C78: 6.2 | D78: 667.2 | E78: 673.4
B79: 69 | C79: 6.2 | D79: 673.4 | E79: 679.6 | K79: ○ | O79: 5 | P79: 22 | S79: 22 | T79: 15
B80: 70 | C80: 10 | D80: 679.6 | E80: 689.6 | K80: ○ | U80: ◯
B81: 71 | C81: 10.5 | D81: 689.6 | E81: 700.1 | K81: ○
B82: 72 | C82: 10.5 | D82: 700.1 | E82: 710.6 | K82: ○ | U82: ◯
B83: 73 | C83: 10.5 | D83: 710.6 | E83: 721.1
B84: 74 | C84: 10.5 | D84: 721.1 | E84: 731.6 | K84: ○ | P84: 23 | S84: 23 | T84: 16 | U84: ◯
B85: 75 | C85: 10.5 | D85: 731.6 | E85: 742.1 | K85: ○ | P85: 24 | S85: 24
B86: 76 | C86: 10.5 | D86: 742.1 | E86: 752.6 | K86: ○
B87: 77 | C87: 10.5 | D87: 752.6 | E87: 763.1 | U87: ◯
B88: 78 | C88: 10.5 | D88: 763.1 | E88: 773.6 | K88: ○
B89: 79 | C89: 10.5 | D89: 773.6 | E89: 784.1 | K89: ○ | P89: 25 | S89: 25 | T89: 17 | U89: ◯
B90: 80 | C90: 10.5 | D90: 784.1 | E90: 794.6 | K90: ○
B91: 81 | C91: 10.5 | D91: 794.6 | E91: 805.1 | K91: ○ | U91: ◯
B92: 82 | C92: 10.5 | D92: 805.1 | E92: 815.6
B93: 83 | C93: 10.5 | D93: 815.6 | E93: 826.1 | K93: ○ | U93: ◯
B94: 84 | C94: 10.5 | D94: 826.1 | E94: 836.6 | K94: ○ | P94: 26・27 | S94: 26・27 | T94: 18
B95: 85 | C95: 10.5 | D95: 836.6 | E95: 847.1 | K95: ○
B96: 86 | C96: 10.5 | D96: 847.1 | E96: 857.6 | U96: ◯
B97: 87 | C97: 10.5 | D97: 857.6 | E97: 868.1 | K97: ○ | U97: ◯
B98: 88 | C98: 10.5 | D98: 868.1 | E98: 878.6 | K98: ○ | O98: 6 | P98: 28 | S98: 28
B99: 89 | C99: 10.5 | D99: 878.6 | E99: 889.1 | K99: ○
B100: 90 | C100: 10.5 | D100: 889.1 | E100: 899.6
B101: 91 | C101: 10.5 | D101: 899.6 | E101: 910.1 | K101: ○ | U101: ◯
B102: 92 | C102: 10.5 | D102: 910.1 | E102: 920.6 | K102: ○
...

Sheet 様式A-3
B3: ■トンネル台帳 トンネル記録（位置図、断面図、施工実績他）【様式A-3】
B4: フリガナ | E4: オゴオリ | J4: 路線名 | M4: 主要県道 山口宇部線 | S4: 作成者 | W4: 応用地質株式会社 | AC4: 作成年月日 | AF4: 44469
B5: 名 称 | E5: 小郡トンネル | J5: 管理者名 | M5: 山口県防府土木建築事務所
B6: 位置図・現況写真・標準断面図・地質縦断図・施工実績
B20: ■トンネル台帳 トンネル記録（位置図、断面図、施工実績他）【様式A-3】
B21: フリガナ | E21: オゴオリ | J21: 路線名 | M21: 主要県道 山口宇部線 | S21: 作成者 | W21: 応用地質株式会社 | AC21: 作成年月日 | AF21: 44499
B22: 名 称 | E22: 小郡トンネル | J22: 管理者名 | M22: 山口県防府土木建築事務所
B23: 位置図・現況写真・標準断面図・地質縦断図・施工実績
B37: ■トンネル台帳 トンネル記録（位置図、断面図、施工実績他）【様式A-3】
B38: フリガナ | E38: オゴオリ | J38: 路線名 | M38: 主要県道 山口宇部線 | S38: 作成者 | W38: 応用地質株式会社 | AC38: 作成年月日 | AF38: 44499
B39: 名 称 | E39: 小郡トンネル | J39: 管理者名 | M39: 山口県防府土木建築事務所
B40: 位置図・現況写真・標準断面図・地質縦断図・施工実績
B54: ■トンネル台帳 トンネル記録（位置図、断面図、施工実績他）【様式A-3】
B55: フリガナ | E55: オゴオリ | J55: 路線名 | M55: 主要県道 山口宇部線 | S55: 作成者 | W55: 応用地質株式会社 | AC55: 作成年月日 | AF55: 44499
B56: 名 称 | E56: 小郡トンネル | J56: 管理者名 | M56: 山口県防府土木建築事務所
B57: 位置図・現況写真・標準断面図・地質縦断図・施工実績
B71: ■トンネル台帳 トンネル記録（位置図、断面図、施工実績他）【様式A-3】
B72: フリガナ | E72: オゴオリ | J72: 路線名 | M72: 主要県道 山口宇部線 | S72: 作成者 | W72: 応用地質株式会社 | AC72: 作成年月日 | AF72: 44499
B73: 名 称 | E73: 小郡トンネル | J73: 管理者名 | M73: 山口県防府土木建築事務所
B74: 位置図・現況写真・標準断面図・地質縦断図・施工実績

Sheet 様式B(トンネル様式1P001)
B2: ■定期点検記録様式 トンネル変状・異常箇所写真位置図 【様式B】 | T2: トンネルID | V2: 34.09675,131.38244 | AA2: Ⅰ | AB2: あり | AC2: 陸上トンネル 掘進工法
B3: フリガナ | D3: オゴオリ | H3: 路線名 | J3: 主要県道 山口宇部線 | N3: 管理者名 | P3: 山口県防府土木建築事務所 | T3: 緊急輸送道路 | V3: あり | AA3: Ⅱ | AB3: なし | AC3: 陸上トンネル 開削工法
B4: 名 称 | D4: 小郡トンネル | T4: 代替路の有無 | V4: あり | AA4: Ⅲ | AC4: 陸上トンネル その他
B5: 所在地 | D5: 自 | E5: 山口県山口市小郡下郷 | H5: 定期点検業者 | K5: 応用地質株式会社 | O5: 定期点検年月日 | Q5: 44431 | T5: トンネル延長 | V5: L= | W5: 1915 | Y5: ｍ | AA5: Ⅳ | AC5: 水底トンネル 掘進工法
D6: 至 | E6: 山口県山口市小郡下郷 | H6: 定期点検者名 | K6: 國村 省吾 | T6: ﾄﾝﾈﾙの分類 | V6: 陸上トンネル（掘進工法） | AC6: 水底トンネル 沈埋工法
B7: 起点 | C7: 緯度 | D7: 340548.3 | F7: 変状・異常 箇所数合計 | H7: トンネル 本体工 | J7: 材質劣化 | L7: Ⅱ | M7: 98 | N7: Ⅲ | O7: 0箇所 | P7: Ⅳ | Q7: 0箇所 | R7: トンネル毎 の健全性 | T7: Ⅱ | V7: 附属物の 取付状態 | W7: ◯ （応急措置後） | Y7: 1 | AC7: 水底トンネル 開削工法
AC8: 水底トンネル その他
C10: 経度 | D10: 1312256.8
J11: 漏水 | L11: Ⅱ | M11: 0箇所 | N11: Ⅲ | O11: 0箇所 | P11: Ⅳ | Q11: 0箇所
B13: 終点 | C13: 緯度 | D13: 340648.2 | W13: ✕ | Y13: 2
J15: 外力 | L15: Ⅱ | M15: 0スパン | N15: Ⅲ | O15: 0スパン | P15: Ⅳ | Q15: 0スパン | AC15: 0
C16: 経度 | D16: 1312316.3
B19: トンネル変状・異常箇所写真位置図
P26: 注１：本位置図は、見下げた状態で記載すること。 注２：覆工スパン番号は横断目地毎(矢板工法の場合は上半アーチ の横断目地毎)に設定すること。 注３：写真番号に付する変状番号は、各覆工スパンの変状に対して新た に確認された場合は順次追加していくこと。 注４：横断目地の変状は前の覆工スパン番号で計上すること。 注５：１枚に収まらない場合は、複数枚に分けて作成すること。
C28: ※1 トンネル本体工の変状数は、材質劣化、漏水に起因するものは変状単位で、外力に起因するものはスパン単位で計上すること。
C29: ※2 本体工の変状に対しては、健全性の判定区分Ⅱ～Ⅳについて添付すること。また、点検前に実施された措置によりⅠと判定された箇所も添付すること。
C30: ※3 附属物の取付状態の○欄については、応急措置前に判定区分×とした箇所のうち応急措置により○判定とした箇所の数を記入すること。
C31: ※4 附属物の異常番号は、本体工と番号が重複しないよう101番以降とする等の配慮を行い、分かりやすく記録すること。
B33: ■定期点検記録様式 トンネル変状・異常箇所写真位置図 【様式B】 | T33: トンネルID | V33: 34.09675,131.38244 | AA33: Ⅰ | AB33: あり | AC33: 陸上トンネル 掘進工法
B34: フリガナ | D34: オゴオリ | H34: 路線名 | J34: 主要県道 山口宇部線 | N34: 管理者名 | P34: 山口県防府土木建築事務所 | T34: 緊急輸送道路 | V34: あり | AA34: Ⅱ | AB34: なし | AC34: 陸上トンネル 開削工法
B35: 名 称 | D35: 小郡トンネル | T35: 代替路の有無 | V35: あり | AA35: Ⅲ | AC35: 陸上トンネル その他
B36: 所在地 | D36: 自 | E36: 山口県山口市小郡下郷 | H36: 定期点検業者 | K36: 応用地質株式会社 | O36: 定期点検年月日 | Q36: 44431 | T36: トンネル延長 | V36: L= | W36: 1915 | Y36: ｍ | AA36: Ⅳ | AC36: 水底トンネル 掘進工法
D37: 至 | E37: 山口県山口市小郡下郷 | H37: 定期点検者名 | K37: 國村 省吾 | T37: ﾄﾝﾈﾙの分類 | V37: 陸上トンネル（掘進工法） | AC37: 水底トンネル 沈埋工法
B38: 起点 | C38: 緯度 | D38: 340548.3 | F38: 変状・異常 箇所数合計 | H38: トンネル 本体工 | J38: 材質劣化 | L38: Ⅱ | M38: 98 | N38: Ⅲ | O38: 0箇所 | P38: Ⅳ | Q38: 0箇所 | R38: トンネル毎 の健全性 | T38: Ⅱ | V38: 附属物の 取付状態 | W38: ◯ （応急措置後） | Y38: 1 | AC38: 水底トンネル 開削工法
AC39: 水底トンネル その他
C41: 経度 | D41: 1312256.8
J42: 漏水 | L42: Ⅱ | M42: 0箇所 | N42: Ⅲ | O42: 0箇所 | P42: Ⅳ | Q42: 0箇所
B44: 終点 | C44: 緯度 | D44: 340648.2 | W44: ✕ | Y44: 2
J46: 外力 | L46: Ⅱ | M46: 0スパン | N46: Ⅲ | O46: 0スパン | P46: Ⅳ | Q46: 0スパン | AC46: 0
C47: 経度 | D47: 1312316.3
B50: トンネル変状・異常箇所写真位置図
P57: 注１：本位置図は、見下げた状態で記載すること。 注２：覆工スパン番号は横断目地毎(矢板工法の場合は上半アーチ の横断目地毎)に設定すること。 注３：写真番号に付する変状番号は、各覆工スパンの変状に対して新た に確認された場合は順次追加していくこと。 注４：横断目地の変状は前の覆工スパン番号で計上すること。 注５：１枚に収まらない場合は、複数枚に分けて作成すること。
C59: ※1 トンネル本体工の変状数は、材質劣化、漏水に起因するものは変状単位で、外力に起因するものはスパン単位で計上すること。
C60: ※2 本体工の変状に対しては、健全性の判定区分Ⅱ～Ⅳについて添付すること。また、点検前に実施された措置によりⅠと判定された箇所も添付すること。
C61: ※3 附属物の取付状態の○欄については、応急措置前に判定区分×とした箇所のうち応急措置により○判定とした箇所の数を記入すること。
C62: ※4 附属物の異常番号は、本体工と番号が重複しないよう101番以降とする等の配慮を行い、分かりやすく記録すること。
B64: ■定期点検記録様式 トンネル変状・異常箇所写真位置図 【様式B】 | T64: トンネルID | V64: 34.09675,131.38244 | AA64: Ⅰ | AB64: あり | AC64: 陸上トンネル 掘進工法
B65: フリガナ | D65: オゴオリ | H65: 路線名 | J65: 主要県道 山口宇部線 | N65: 管理者名 | P65: 山口県防府土木建築事務所 | T65: 緊急輸送道路 | V65: あり | AA65: Ⅱ | AB65: なし | AC65: 陸上トンネル 開削工法
B66: 名 称 | D66: 小郡トンネル | T66: 代替路の有無 | V66: あり | AA66: Ⅲ | AC66: 陸上トンネル その他
B67: 所在地 | D67: 自 | E67: 山口県山口市小郡下郷 | H67: 定期点検業者 | K67: 応用地質株式会社 | O67: 定期点検年月日 | Q67: 44431 | T67: トンネル延長 | V67: L= | W67: 1915 | Y67: ｍ | AA67: Ⅳ | AC67: 水底トンネル 掘進工法
D68: 至 | E68: 山口県山口市小郡下郷 | H68: 定期点検者名 | K68: 國村 省吾 | T68: ﾄﾝﾈﾙの分類 | V68: 陸上トンネル（掘進工法） | AC68: 水底トンネル 沈埋工法
B69: 起点 | C69: 緯度 | D69: 340548.3 | F69: 変状・異常 箇所数合計 | H69: トンネル 本体工 | J69: 材質劣化 | L69: Ⅱ | M69: 98 | N69: Ⅲ | O69: 0箇所 | P69: Ⅳ | Q69: 0箇所 | R69: トンネル毎 の健全性 | T69: Ⅱ | V69: 附属物の 取付状態 | W69: ◯ （応急措置後） | Y69: 1 | AC69: 水底トンネル 開削工法
AC70: 水底トンネル その他
C72: 経度 | D72: 1312256.8
J73: 漏水 | L73: Ⅱ | M73: 0箇所 | N73: Ⅲ | O73: 0箇所 | P73: Ⅳ | Q73: 0箇所
B75: 終点 | C75: 緯度 | D75: 340648.2 | W75: ✕ | Y75: 2
J77: 外力 | L77: Ⅱ | M77: 0スパン | N77: Ⅲ | O77: 0スパン | P77: Ⅳ | Q77: 0スパン | AC77: 0
C78: 経度 | D78: 1312316.3
B81: トンネル変状・異常箇所写真位置図
P88: 注１：本位置図は、見下げた状態で記載すること。 注２：覆工スパン番号は横断目地毎(矢板工法の場合は上半アーチ の横断目地毎)に設定すること。 注３：写真番号に付する変状番号は、各覆工スパンの変状に対して新た に確認された場合は順次追加していくこと。 注４：横断目地の変状は前の覆工スパン番号で計上すること。 注５：１枚に収まらない場合は、複数枚に分けて作成すること。
C90: ※1 トンネル本体工の変状数は、材質劣化、漏水に起因するものは変状単位で、外力に起因するものはスパン単位で計上すること。
C91: ※2 本体工の変状に対しては、健全性の判定区分Ⅱ～Ⅳについて添付すること。また、点検前に実施された措置によりⅠと判定された箇所も添付すること。
C92: ※3 附属物の取付状態の○欄については、応急措置前に判定区分×とした箇所のうち応急措置により○判定とした箇所の数を記入すること。
C93: ※4 附属物の異常番号は、本体工と番号が重複しないよう101番以降とする等の配慮を行い、分かりやすく記録すること。
B95: ■定期点検記録様式 トンネル変状・異常箇所写真位置図 【様式B】 | T95: トンネルID | V95: 34.09675,131.38244 | AA95: Ⅰ | AB95: あり | AC95: 陸上トンネル 掘進工法
B96: フリガナ | D96: オゴオリ | H96: 路線名 | J96: 主要県道 山口宇部線 | N96: 管理者名 | P96: 山口県防府土木建築事務所 | T96: 緊急輸送道路 | V96: あり | AA96: Ⅱ | AB96: なし | AC96: 陸上トンネル 開削工法
B97: 名 称 | D97: 小郡トンネル | T97: 代替路の有無 | V97: あり | AA97: Ⅲ | AC97: 陸上トンネル その他
B98: 所在地 | D98: 自 | E98: 山口県山口市小郡下郷 | H98: 定期点検業者 | K98: 応用地質株式会社 | O98: 定期点検年月日 | Q98: 44431 | T98: トンネル延長 | V98: L= | W98: 1915 | Y98: ｍ | AA98: Ⅳ | AC98: 水底トンネル 掘進工法
D99: 至 | E99: 山口県山口市小郡下郷 | H99: 定期点検者名 | K99: 國村 省吾 | T99: ﾄﾝﾈﾙの分類 | V99: 陸上トンネル（掘進工法） | AC99: 水底トンネル 沈埋工法
B100: 起点 | C100: 緯度 | D100: 340548.3 | F100: 変状・異常 箇所数合計 | H100: トンネル 本体工 | J100: 材質劣化 | L100: Ⅱ | M100: 98 | N100: Ⅲ | O100: 0箇所 | P100: Ⅳ | Q100: 0箇所 | R100: トンネル毎 の健全性 | T100: Ⅱ | V100: 附属物の 取付状態 | W100: ◯ （応急措置後） | Y100: 1 | AC100: 水底トンネル 開削工法
AC101: 水底トンネル その他
C103: 経度 | D103: 1312256.8
J104: 漏水 | L104: Ⅱ | M104: 0箇所 | N104: Ⅲ | O104: 0箇所 | P104: Ⅳ | Q104: 0箇所
B106: 終点 | C106: 緯度 | D106: 340648.2 | W106: ✕ | Y106: 2
J108: 外力 | L108: Ⅱ | M108: 0スパン | N108: Ⅲ | O108: 0スパン | P108: Ⅳ | Q108: 0スパン | AC108: 0
C109: 経度 | D109: 1312316.3
B112: トンネル変状・異常箇所写真位置図
P119: 注１：本位置図は、見下げた状態で記載すること。 注２：覆工スパン番号は横断目地毎(矢板工法の場合は上半アーチ の横断目地毎)に設定すること。 注３：写真番号に付する変状番号は、各覆工スパンの変状に対して新た に確認された場合は順次追加していくこと。 注４：横断目地の変状は前の覆工スパン番号で計上すること。 注５：１枚に収まらない場合は、複数枚に分けて作成すること。
C121: ※1 トンネル本体工の変状数は、材質劣化、漏水に起因するものは変状単位で、外力に起因するものはスパン単位で計上すること。
C122: ※2 本体工の変状に対しては、健全性の判定区分Ⅱ～Ⅳについて添付すること。また、点検前に実施された措置によりⅠと判定された箇所も添付すること。
C123: ※3 附属物の取付状態の○欄については、応急措置前に判定区分×とした箇所のうち応急措置により○判定とした箇所の数を記入すること。
C124: ※4 附属物の異常番号は、本体工と番号が重複しないよう101番以降とする等の配慮を行い、分かりやすく記録すること。
B126: ■定期点検記録様式 トンネル変状・異常箇所写真位置図 【様式B】 | T126: トンネルID | V126: 34.09675,131.38244 | AA126: Ⅰ | AB126: あり | AC126: 陸上トンネル 掘進工法
B127: フリガナ | D127: オゴオリ | H127: 路線名 | J127: 主要県道 山口宇部線 | N127: 管理者名 | P127: 山口県防府土木建築事務所 | T127: 緊急輸送道路 | V127: あり | AA127: Ⅱ | AB127: なし | AC127: 陸上トンネル 開削工法
B128: 名 称 | D128: 小郡トンネル | T128: 代替路の有無 | V128: あり | AA128: Ⅲ | AC128: 陸上トンネル その他
B129: 所在地 | D129: 自 | E129: 山口県山口市小郡下郷 | H129: 定期点検業者 | K129: 応用地質株式会社 | O129: 定期点検年月日 | Q129: 44431 | T129: トンネル延長 | V129: L= | W129: 1915 | Y129: ｍ | AA129: Ⅳ | AC129: 水底トンネル 掘進工法
D130: 至 | E130: 山口県山口市小郡下郷 | H130: 定期点検者名 | K130: 國村 省吾 | T130: ﾄﾝﾈﾙの分類 | V130: 陸上トンネル（掘進工法） | AC130: 水底トンネル 沈埋工法
B131: 起点 | C131: 緯度 | D131: 340548.3 | F131: 変状・異常 箇所数合計 | H131: トンネル 本体工 | J131: 材質劣化 | L131: Ⅱ | M131: 98 | N131: Ⅲ | O131: 0箇所 | P131: Ⅳ | Q131: 0箇所 | R131: トンネル毎 の健全性 | T131: Ⅱ | V131: 附属物の 取付状態 | W131: ◯ （応急措置後） | Y131: 1 | AC131: 水底トンネル 開削工法
AC132: 水底トンネル その他
C134: 経度 | D134: 1312256.8
J135: 漏水 | L135: Ⅱ | M135: 0箇所 | N135: Ⅲ | O135: 0箇所 | P135: Ⅳ | Q135: 0箇所
B137: 終点 | C137: 緯度 | D137: 340648.2 | W137: ✕ | Y137: 2
J139: 外力 | L139: Ⅱ | M139: 0スパン | N139: Ⅲ | O139: 0スパン | P139: Ⅳ | Q139: 0スパン | AC139: 0
C140: 経度 | D140: 1312316.3
B143: トンネル変状・異常箇所写真位置図
P150: 注１：本位置図は、見下げた状態で記載すること。 注２：覆工スパン番号は横断目地毎(矢板工法の場合は上半アーチ の横断目地毎)に設定すること。 注３：写真番号に付する変状番号は、各覆工スパンの変状に対して新た に確認された場合は順次追加していくこと。 注４：横断目地の変状は前の覆工スパン番号で計上すること。 注５：１枚に収まらない場合は、複数枚に分けて作成すること。
C152: ※1 トンネル本体工の変状数は、材質劣化、漏水に起因するものは変状単位で、外力に起因するものはスパン単位で計上すること。
C153: ※2 本体工の変状に対しては、健全性の判定区分Ⅱ～Ⅳについて添付すること。また、点検前に実施された措置によりⅠと判定された箇所も添付すること。
C154: ※3 附属物の取付状態の○欄については、応急措置前に判定区分×とした箇所のうち応急措置により○判定とした箇所の数を記入すること。
C155: ※4 附属物の異常番号は、本体工と番号が重複しないよう101番以降とする等の配慮を行い、分かりやすく記録すること。
B157: ■定期点検記録様式 トンネル変状・異常箇所写真位置図 【様式B】 | T157: トンネルID | V157: 34.09675,131.38244 | AA157: Ⅰ | AB157: あり | AC157: 陸上トンネル 掘進工法
B158: フリガナ | D158: オゴオリ | H158: 路線名 | J158: 主要県道 山口宇部線 | N158: 管理者名 | P158: 山口県防府土木建築事務所 | T158: 緊急輸送道路 | V158: あり | AA158: Ⅱ | AB158: なし | AC158: 陸上トンネル 開削工法
B159: 名 称 | D159: 小郡トンネル | T159: 代替路の有無 | V159: あり | AA159: Ⅲ | AC159: 陸上トンネル その他
B160: 所在地 | D160: 自 | E160: 山口県山口市小郡下郷 | H160: 定期点検業者 | K160: 応用地質株式会社 | O160: 定期点検年月日 | Q160: 44431 | T160: トンネル延長 | V160: L= | W160: 1915 | Y160: ｍ | AA160: Ⅳ | AC160: 水底トンネル 掘進工法
D161: 至 | E161: 山口県山口市小郡下郷 | H161: 定期点検者名 | K161: 國村 省吾 | T161: ﾄﾝﾈﾙの分類 | V161: 陸上トンネル（掘進工法） | AC161: 水底トンネル 沈埋工法
B162: 起点 | C162: 緯度 | D162: 340548.3 | F162: 変状・異常 箇所数合計 | H162: トンネル 本体工 | J162: 材質劣化 | L162: Ⅱ | M162: 98 | N162: Ⅲ | O162: 0箇所 | P162: Ⅳ | Q162: 0箇所 | R162: トンネル毎 の健全性 | T162: Ⅱ | V162: 附属物の 取付状態 | W162: ◯ （応急措置後） | Y162: 1 | AC162: 水底トンネル 開削工法
AC163: 水底トンネル その他
C165: 経度 | D165: 1312256.8
J166: 漏水 | L166: Ⅱ | M166: 0箇所 | N166: Ⅲ | O166: 0箇所 | P166: Ⅳ | Q166: 0箇所
B168: 終点 | C168: 緯度 | D168: 340648.2 | W168: ✕ | Y168: 2
...

Sheet 様式C-1-1
B2: ■定期点検記録様式 全スパン定期点検結果総括表（トンネル本体工） 【様式C-1-1】
B3: フリガナ | F3: オゴオリ | I3: 路線名 | K3: 主要県道 山口宇部線 | O3: 定期点検業者 | Q3: 応用地質株式会社 | U3: 定期点検年月日 | Y3: 44431
B4: 名 称 | F4: 小郡トンネル | I4: 管理者名 | K4: 山口県防府土木建築事務所 | O4: 定期点検者名 | Q4: 國村 省吾
B5: 定期点検結果 | C5: 覆工 スパン 番号 | E5: 変状 番号 | F5: 距離 （m） | G5: 変状部位 | I5: 変 状 の 内 容 | O5: 前回定期点検時の状態 | Q5: 今回定期点検結果 | U5: 措置履歴 | Z5: 対応方針 ・ 特記事項
G7: 対象箇所 | H7: 部位区分 | I7: 変状区分 | J7: 変状種類 | M7: 変状の発生範囲の規模 | N7: 前回定期点検時 との比較 | O7: 状態 | P7: 健全性 | Q7: 対策区分 | S7: 調査の 要否 | T7: 措置の 要否 | U7: 実施 | V7: 措置の実施状況
Q8: 応急措置前 | R8: 応急措置後
C9: 3 | E9: 1 | F9: 21.44 | G9: 覆工・坑門 | H9: アーチ（左側） | I9: 材質劣化 | J9: 鋼材腐食 | M9: 0.1m×0.5m | N9: 同程度 | O9: 対策区分判定Ⅱb | P9: Ⅱ | Q9: － | R9: Ⅱb | S9: 否 | T9: 要監視 | U9: 継続 | V9: － | Z9: 日常巡視
C10: 3 | E10: 2 | F10: 26 | G10: 覆工・坑門 | H10: アーチ（左側） | I10: 材質劣化 | J10: 鋼材腐食 | M10: 0.05m×0.15m | N10: 同程度 | O10: 対策区分判定Ⅱb | P10: Ⅱ | Q10: － | R10: Ⅱb | S10: 否 | T10: 要監視 | U10: 継続 | V10: － | Z10: 日常巡視
C11: 3 | E11: 3 | F11: 21.13 | G11: 覆工・坑門 | H11: アーチ（右側） | I11: 材質劣化 | J11: 鋼材腐食 | M11: 0.1m×0.5m | N11: 同程度 | O11: 対策区分判定Ⅱb | P11: Ⅱ | Q11: － | R11: Ⅱb | S11: 否 | T11: 要監視 | U11: 継続 | V11: － | Z11: 日常巡視
C12: 4 | E12: 1 | F12: 40.7 | G12: 覆工・坑門 | H12: アーチ（右側） | I12: 材質劣化 | J12: 鋼材腐食 | M12: 0.1m×0.15m他 | N12: 同程度 | O12: 対策区分判定Ⅱb | P12: Ⅱ | Q12: － | R12: Ⅱb | S12: 否 | T12: 要監視 | U12: 継続 | V12: － | Z12: 日常巡視
C13: 6 | E13: 1 | F13: 57.4 | G13: 覆工・坑門 | H13: アーチ（右側） | I13: 材質劣化 | J13: 鋼材腐食 | M13: 0.1m×0.5m | N13: 同程度 | O13: 対策区分判定Ⅱb | P13: Ⅱ | Q13: － | R13: Ⅱb | S13: 否 | T13: 要監視 | U13: 継続 | V13: － | Z13: 日常巡視
C14: 6 | E14: 2 | F14: 52.7 | G14: 覆工・坑門 | H14: アーチ（左側） | I14: 材質劣化 | J14: 鋼材腐食 | M14: 0.1m×0.2m | N14: 新規確認 | O14: － | P14: － | Q14: － | R14: Ⅱb | S14: 否 | T14: 要監視 | U14: 継続 | V14: － | Z14: 日常巡視
C15: 7 | E15: 1 | F15: 63.15 | G15: 覆工・坑門 | H15: アーチ（右側） | I15: 材質劣化 | J15: 鋼材腐食 | M15: 0.15m×0.1m他 | N15: 同程度 | O15: 対策区分判定Ⅱb | P15: Ⅱ | Q15: － | R15: Ⅱb | S15: 否 | T15: 要監視 | U15: 継続 | V15: － | Z15: 日常巡視
C16: 11 | E16: 1 | F16: 107.7 | G16: 覆工・坑門 | H16: 側壁（右側） | I16: 材質劣化 | J16: 鋼材腐食 | M16: 0.05m×0.05m | N16: 同程度 | O16: 対策区分判定Ⅱb | P16: Ⅱ | Q16: － | R16: Ⅱb | S16: 否 | T16: 要監視 | U16: 継続 | V16: － | Z16: 日常巡視
C17: 17 | E17: 1 | F17: 176.6 | G17: 覆工・坑門 | H17: 側壁（右側） | I17: 材質劣化 | J17: 鋼材腐食 | M17: 0.1m×0.1m | N17: 同程度 | O17: 対策区分判定Ⅱb | P17: Ⅱ | Q17: － | R17: Ⅱb | S17: 否 | T17: 要監視 | U17: 継続 | V17: － | Z17: 日常巡視
C18: 18 | E18: 1 | F18: 182.4 | G18: 覆工・坑門 | H18: アーチ（右側） | I18: 材質劣化 | J18: 鋼材腐食 | M18: 0.05m×0.2m | N18: 同程度 | O18: 対策区分判定Ⅱb | P18: Ⅱ | Q18: － | R18: Ⅱb | S18: 否 | T18: 要監視 | U18: 継続 | V18: － | Z18: 日常巡視
C19: 22 | E19: 1 | F19: 229 | G19: 覆工・坑門 | H19: 側壁（右側） | I19: 材質劣化 | J19: 鋼材腐食 | M19: 0.1m×0.1m | N19: 同程度 | O19: 対策区分判定Ⅱb | P19: Ⅱ | Q19: － | R19: Ⅱb | S19: 否 | T19: 要監視 | U19: 継続 | V19: － | Z19: 日常巡視
C20: 25 | E20: 1 | F20: 259.1 | G20: 覆工・坑門 | H20: アーチ（左側） | I20: 材質劣化 | J20: 鋼材腐食 | M20: 0.1m×0.1m | N20: 同程度 | O20: 対策区分判定Ⅱb | P20: Ⅱ | Q20: － | R20: Ⅱb | S20: 否 | T20: 要監視 | U20: 継続 | V20: － | Z20: 日常巡視
... C35: 81 | E35: 1 | F35: 798.1 | G35: 覆工・坑門 | H35: アーチ（右側） | I35: 材質劣化 | J35: 鋼材腐食 | M35: 0.05m×0.2m | N35: 同程度 | O35: 対策区分判定Ⅱb | P35: Ⅱ | Q35: － | R35: Ⅱb | S35: 否 | T35: 要監視 | U35: 継続 | V35: － | Z35: 日常巡視
C36: 87 | E36: 1 | F36: 868.1 | G36: 覆工・坑門 | H36: 横断目地（右側） | I36: 材質劣化 | J36: うき・はく離 | M36: 0.7m×0.05m | N36: 対策済み | O36: 対策区分判定Ⅱa | P36: Ⅱ | Q36: － | R36: Ⅰ | S36: 否 | T36: 否 | U36: 済 | V36: はく落防止工(FRPネット)
C37: 88 | E37: 1 | F37: 878.6 | G37: 覆工・坑門 | H37: 横断目地（右側） | I37: 材質劣化 | J37: うき・はく離 | M37: 0.5m×0.05m | N37: 同程度 | O37: 対策区分判定Ⅰ | P37: Ⅰ | Q37: － | R37: Ⅰ | S37: 否 | T37: 否 | U37: － | V37: － | Z37: 前回定期点検時に叩き落とし実施
C38: 89 | E38: 1 | F38: 889.1 | G38: 覆工・坑門 | H38: 横断目地（左側） | I38: 材質劣化 | J38: うき・はく離 | M38: 0.9m×0.05m | N38: 同程度 | O38: 対策区分判定Ⅱb | P38: Ⅱ | Q38: － | R38: Ⅱb | S38: 否 | T38: 要監視 | U38: 継続 | V38: － | Z38: 日常巡視
C39: 94 | E39: 1 | F39: 941.6 | G39: 覆工・坑門 | H39: 横断目地（右側） | I39: 材質劣化 | J39: うき・はく離 | M39: 0.4m×0.05m | N39: 同程度 | O39: 対策区分判定Ⅰ | P39: Ⅰ | Q39: － | R39: Ⅰ | S39: 否 | T39: 否 | U39: － | V39: － | Z39: 前回定期点検時に叩き落とし実施
C40: 94 | E40: 2 | F40: 941.6 | G40: 覆工・坑門 | H40: 横断目地（天端） | I40: 材質劣化 | J40: うき・はく離 | M40: 0.3m×0.05m | N40: 進行が認められる | O40: 対策区分判定Ⅰ | P40: Ⅰ | Q40: － | R40: Ⅱb | S40: 否 | T40: 要監視 | U40: 継続 | V40: － | Z40: 日常巡視
C41: 95 | E41: 1 | F41: 952.1 | G41: 覆工・坑門 | H41: 横断目地（天端） | I41: 材質劣化 | J41: うき・はく離 | M41: 0.1m×0.05m | N41: 進行が認められる | O41: 対策区分判定Ⅰ | P41: Ⅰ | Q41: － | R41: Ⅱb | S41: 否 | T41: 要監視 | U41: 継続 | V41: － | Z41: 日常巡視
C42: 96 | E42: 1 | F42: 952.8 | G42: 覆工・坑門 | H42: アーチ（天端） | I42: 材質劣化 | J42: ひび割れ | M42: 1.0mm×4.8m他 | N42: 同程度 | O42: 対策区分判定Ⅱb | P42: Ⅱ | Q42: － | R42: Ⅱb | S42: 否 | T42: 要監視 | U42: 継続 | V42: － | Z42: 日常巡視
C43: 97 | E43: 1 | F43: 962.9 | G43: 覆工・坑門 | H43: アーチ（天端） | I43: 材質劣化 | J43: ひび割れ | M43: 0.7mm×3.6m他 | N43: 同程度 | O43: 対策区分判定Ⅱb | P43: Ⅱ | Q43: － | R43: Ⅱb | S43: 否 | T43: 要監視 | U43: 継続 | V43: － | Z43: 日常巡視
C44: 97 | E44: 2 | F44: 973.1 | G44: 覆工・坑門 | H44: 横断目地（右側） | I44: 材質劣化 | J44: うき・はく離 | M44: 0.15m×0.05m | N44: 新規確認 | O44: － | P44: － | Q44: － | R44: Ⅱb | S44: 否 | T44: 要監視 | U44: 継続 | V44: － | Z44: 日常巡視
C45: 98 | E45: 1 | F45: 983.5 | G45: 覆工・坑門 | H45: 横断目地（天端） | I45: 材質劣化 | J45: うき・はく離 | M45: 1.2m×0.1m | N45: 進行が認められる | O45: 対策区分判定Ⅰ | P45: Ⅰ | Q45: － | R45: Ⅱb | S45: 否 | T45: 要監視 | U45: 継続 | V45: － | Z45: 日常巡視
C46: 99 | E46: 1 | F46: 983.6 | G46: 覆工・坑門 | H46: アーチ（天端） | I46: 材質劣化 | J46: ひび割れ | M46: 1.2mm×10.8m | N46: 同程度 | O46: 対策区分判定Ⅱb | P46: Ⅱ | Q46: － | R46: Ⅱb | S46: 否 | T46: 要監視 | U46: 継続 | V46: － | Z46: 日常巡視
C47: 100 | E47: 1 | F47: 998.6 | G47: 覆工・坑門 | H47: アーチ（右側） | I47: 材質劣化 | J47: 鋼材腐食 | M47: 0.05m×0.2m他 | N47: 同程度 | O47: 対策区分判定Ⅱb | P47: Ⅱ | Q47: － | R47: Ⅱb | S47: 否 | T47: 要監視 | U47: 継続 | V47: － | Z47: 日常巡視
C48: 103 | E48: 1 | F48: 1027.4 | G48: 覆工・坑門 | H48: アーチ（天端） | I48: 材質劣化 | J48: ひび割れ | M48: 1.5mm×9.5m | N48: 同程度 | O48: 対策区分判定Ⅱb | P48: Ⅱ | Q48: － | R48: Ⅱb | S48: 否 | T48: 要監視 | U48: 継続 | V48: － | Z48: 日常巡視
... C71: 135 | E71: 2 | F71: 1354.4 | G71: 覆工・坑門 | H71: 横断目地（右側） | I71: 材質劣化 | J71: うき・はく離 | M71: 1.5m×0.05m | N71: 進行が認められる | O71: 対策区分判定Ⅱa | P71: Ⅱ | Q71: Ⅲ | R71: Ⅰ | S71: 否 | T71: 否 | U71: － | V71: － | Z71: 今回定期点検時に叩き落とし実施
C72: 135 | E72: 3 | F72: 1354.4 | G72: 覆工・坑門 | H72: 横断目地（右側） | I72: 材質劣化 | J72: うき・はく離 | M72: 1.0m×0.05m | N72: 対策済み | O72: 対策区分判定Ⅰ | P72: Ⅰ | Q72: － | R72: Ⅰ | S72: 否 | T72: 否 | U72: 済 | V72: はく落防止工(FRPネット)
C73: 138 | E73: 1 | F73: 1372.5 | G73: 覆工・坑門 | H73: アーチ（天端） | I73: 材質劣化 | J73: ひび割れ | M73: 1.2mm×5.8m他 | N73: 進行が認められる | O73: 対策区分判定Ⅰ | P73: Ⅰ | Q73: － | R73: Ⅱb | S73: 否 | T73: 要監視 | U73: 継続 | V73: － | Z73: 日常巡視
C74: 139 | E74: 1 | F74: 1391.4 | G74: 覆工・坑門 | H74: 横断目地（左側） | I74: 材質劣化 | J74: うき・はく離 | M74: 0.3m×0.05m | N74: 対策済み | O74: 対策区分判定Ⅱa | P74: Ⅱ | Q74: － | R74: Ⅰ | S74: 否 | T74: 否 | U74: 済 | V74: はく落防止工(FRPネット)
C75: 140 | E75: 1 | F75: 1391.4 | G75: 覆工・坑門 | H75: アーチ（天端） | I75: 材質劣化 | J75: ひび割れ | M75: 1.3mm×7.5m他 | N75: 同程度 | O75: 対策区分判定Ⅱb | P75: Ⅱ | Q75: － | R75: Ⅱb | S75: 否 | T75: 要監視 | U75: 継続 | V75: － | Z75: 日常巡視
C76: 140 | E76: 2 | F76: 1397.7 | G76: 覆工・坑門 | H76: アーチ（右側） | I76: 材質劣化 | J76: 鋼材腐食 | M76: 0.05m×0.2m他 | N76: 同程度 | O76: 対策区分判定Ⅱb | P76: Ⅱ | Q76: － | R76: Ⅱb | S76: 否 | T76: 要監視 | U76: 継続 | V76: － | Z76: 日常巡視
C77: 142 | E77: 1 | F77: 1418.4 | G77: 覆工・坑門 | H77: 水平打ち継ぎ目（左側） | I77: 材質劣化 | J77: うき・はく離 | M77: 2.0m×0.05m | N77: 対策済み | O77: 対策区分判定Ⅱa | P77: Ⅱ | Q77: － | R77: Ⅰ | S77: 否 | T77: 否 | U77: 済 | V77: はく落防止工(FRPネット)
C78: 142 | E78: 2 | F78: 1412.2 | G78: 覆工・坑門 | H78: アーチ（左側） | I78: 材質劣化 | J78: ひび割れ | M78: 0.7mm×6.0m | N78: 新規確認 | O78: － | P78: － | Q78: － | R78: Ⅱb | S78: 否 | T78: 要監視 | U78: 継続 | V78: － | Z78: 日常巡視
C79: 143 | E79: 1 | F79: 1418.4 | G79: 覆工・坑門 | H79: アーチ（天端） | I79: 材質劣化 | J79: ひび割れ | M79: 1.2mm×6.3m | N79: 同程度 | O79: 対策区分判定Ⅱb | P79: Ⅱ | Q79: － | R79: Ⅱb | S79: 否 | T79: 要監視 | U79: 継続 | V79: － | Z79: 日常巡視
C80: 143 | E80: 2 | F80: 1424.6 | G80: 覆工・坑門 | H80: 横断目地（右側） | I80: 材質劣化 | J80: うき・はく離 | M80: 0.35m×0.05m | N80: 同程度 | O80: 対策区分判定Ⅰ | P80: Ⅰ | Q80: － | R80: Ⅰ | S80: 否 | T80: 否 | U80: － | V80: － | Z80: 前回定期点検時に叩き落とし実施
C81: 143 | E81: 3 | F81: 1418.4 | G81: 覆工・坑門 | H81: 横断目地（左側） | I81: 材質劣化 | J81: うき・はく離 | M81: 0.15m×0.05m | N81: 新規確認 | O81: － | P81: － | Q81: Ⅱa | R81: Ⅰ | S81: 否 | T81: 否 | U81: － | V81: － | Z81: 今回定期点検時に叩き落とし実施
C82: 144 | E82: 1 | F82: 1424.6 | G82: 覆工・坑門 | H82: アーチ（天端） | I82: 材質劣化 | J82: ひび割れ | M82: 1.2mm×6.3m | N82: 同程度 | O82: 対策区分判定Ⅱb | P82: Ⅱ | Q82: － | R82: Ⅱb | S82: 否 | T82: 要監視 | U82: 継続 | V82: － | Z82: 日常巡視
C83: 145 | E83: 1 | F83: 1436.9 | G83: 覆工・坑門 | H83: 横断目地（右側） | I83: 材質劣化 | J83: うき・はく離 | M83: 0.25m×0.05m | N83: 同程度 | O83: 対策区分判定Ⅱb | P83: Ⅱ | Q83: － | R83: Ⅱb | S83: 否 | T83: 要監視 | U83: 継続 | V83: － | Z83: 日常巡視
C84: 146 | E84: 1 | F84: 1440.8 | G84: 覆工・坑門 | H84: アーチ（右側） | I84: 材質劣化 | J84: うき・はく離 | M84: 0.05m×0.3m | N84: 新規確認 | O84: － | P84: － | Q84: － | R84: Ⅱb | S84: 否 | T84: 要監視 | U84: 継続 | V84: － | Z84: 日常巡視
C85: 147 | E85: 1 | F85: 1445 | G85: 覆工・坑門 | H85: アーチ（天端） | I85: 材質劣化 | J85: ひび割れ | M85: 1.1mm×6.6m | N85: 同程度 | O85: 対策区分判定Ⅰ | P85: Ⅰ | Q85: － | R85: Ⅱb | S85: 否 | T85: 要監視 | U85: 継続 | V85: － | Z85: 日常巡視
C86: 148 | E86: 1 | F86: 1453.5 | G86: 覆工・坑門 | H86: アーチ（天端） | I86: 材質劣化 | J86: ひび割れ | M86: 1.0mm×9.0m | N86: 同程度 | O86: 対策区分判定Ⅰ | P86: Ⅰ | Q86: － | R86: Ⅱb | S86: 否 | T86: 要監視 | U86: 継続 | V86: － | Z86: 日常巡視
C87: 149 | E87: 1 | F87: 1464 | G87: 覆工・坑門 | H87: アーチ（天端） | I87: 材質劣化 | J87: ひび割れ | M87: 1.3mm×10.6m | N87: 同程度 | O87: 対策区分判定Ⅱb | P87: Ⅱ | Q87: － | R87: Ⅱb | S87: 否 | T87: 要監視 | U87: 継続 | V87: － | Z87: 日常巡視
C88: 150 | E88: 1 | F88: 1474.4 | G88: 覆工・坑門 | H88: アーチ（天端） | I88: 材質劣化 | J88: ひび割れ | M88: 1.5mm×10.6m | N88: 同程度 | O88: 対策区分判定Ⅱb | P88: Ⅱ | Q88: － | R88: Ⅱb | S88: 否 | T88: 要監視 | U88: 継続 | V88: － | Z88: 日常巡視
C89: 151 | E89: 1 | F89: 1484.8 | G89: 覆工・坑門 | H89: アーチ（天端） | I89: 材質劣化 | J89: ひび割れ | M89: 1.5mm×9.8m他 | N89: 同程度 | O89: 対策区分判定Ⅱb | P89: Ⅱ | Q89: － | R89: Ⅱb | S89: 否 | T89: 要監視 | U89: 継続 | V89: － | Z89: 日常巡視
... C120: 191 | E120: 1 | F120: 1913.8 | G120: 覆工・坑門 | H120: アーチ（右側） | I120: 材質劣化 | J120: うき・はく離 | M120: 0.05m×0.15m他 | N120: 新規確認 | O120: － | P120: － | Q120: － | R120: Ⅱb | S120: 否 | T120: 要監視 | U120: 継続 | V120: － | Z120: 日常巡視
C121: PE | E121: 1 | F121: 1915 | G121: 覆工・坑門 | H121: 面壁・妻壁等 | I121: 材質劣化 | J121: うき・はく離 | M121: 0.25m×0.2m | N121: 同程度 | O121: 対策区分判定Ⅰ | P121: Ⅰ | Q121: － | R121: Ⅰ | S121: 否 | T121: 否 | U121: － | V121: － | Z121: 前回定期点検時に叩き落とし実施
C122: ※ 対策区分（応急措置後）の判定区分Ⅱ～Ⅳについて記入すること。また、点検前に実施された措置によりⅠと判定された変状も記入すること。
C123: ※ 応急措置を実施しないで判定した変状の対策区分は、対策区分の応急措置後の欄に記入すること。
C124: ※ 変状の除去が不完全で、緊急対応が必要な場合は対応方針欄に記入すること。
C125: ※ １区間の覆工に複数の変状がある場合は、変状箇所毎に記入すること。
C126: ※ 措置・監視点検を行った場合には、措置履歴、特記事項に記録を残すこと。（実施年度も記載）
C127: ※ 行が不足する場合は、適時、表の行を増やすこと。

Sheet 様式C-1-2
B2: ■定期点検記録様式 定期点検結果総括表（トンネル内附属物等の取付状態） 【様式C-1-2】
B3: フリガナ | F3: オゴオリ | J3: 路線名 | L3: 主要県道 山口宇部線 | O3: 定期点検業者 | Q3: 応用地質株式会社 | U3: 定期点検年月日 | Y3: 44431
B4: 名 称 | F4: 小郡トンネル | J4: 管理者名 | L4: 山口県防府土木建築事務所 | O4: 定期点検者名 | Q4: 國村 省吾
B5: 定期点検結果 | C5: 覆工 スパン 番号 | E5: 異常 番号 | F5: 距離 （m） | G5: 異常部位 | J5: 異 常 の 内 容 | P5: 定期点検結果 | R5: 応急措置の 実施状況 | X5: 対応方針 ・ 特記事項
G6: 対象箇所 | I6: 部位区分 | J6: 異常種類 | N6: 異常の発生範囲の規模 | P6: 異常判定区分 | R6: 実施 | S6: 応急措置の内容
P7: 応急措置前 | Q7: 応急措置後
C8: 8 | E8: 1 | F8: 74.8 | G8: 照明施設 | H8: ケーブル類 | I8: ボルト・ﾅｯﾄ・アンカー類 | J8: 緩み，脱落 | N8: 1箇所 | P8: - | Q8: × | R8: 未 | S8: - | X8: 早期交換
C9: 34 | E9: 1 | F9: 347.4 | G9: 照明施設 | H9: ケーブル類 | I9: ボルト・ﾅｯﾄ・アンカー類 | J9: 緩み，脱落 | N9: 1箇所 | P9: - | Q9: × | R9: 未 | S9: - | X9: 早期交換
C10: 133 | E10: 1 | F10: 1340.4 | G10: その他施設 | H10: その他 | I10: ボルト・ﾅｯﾄ・アンカー類 | J10: 緩み，脱落 | N10: 1箇所 | P10: - | Q10: ○ | R10: 済 | S10: - | X10: 対策済み(アンカー再施工)
C39: ※ 異常判定区分×について記入すること。また、応急措置により○と判定された箇所も記入すること。
C40: ※ 応急措置を実施しないで判定した箇所の異常判定区分は、異常判定区分の応急措置後の欄に記入すること。
C41: ※ 異常の除去が不完全で、緊急対応が必要な場合は対応方針欄に記入すること。
C42: ※ １スパンの覆工に複数の異常がある場合は、異常箇所毎に記入すること。
C43: ※ 行が不足する場合は、適時、表の行を増やすこと。

Sheet 様式C-2
B2: ■定期点検記録様式 状態の把握の内容 【様式C-2】
B3: フリガナ | E3: オゴオリ | H3: 路線名 | J3: 主要県道 山口宇部線 | M3: 定期点検業者 | R3: 応用地質株式会社 | U3: 定期点検年月日 | X3: 44431
B4: 名 称 | E4: 小郡トンネル | H4: 管理者名 | J4: 山口県防府土木建築事務所 | M4: 定期点検者名 | R4: 國村 省吾
B5: 状態の把握の内容 | C5: 覆工スパン 番号 | E5: 変状 番号 | F5: 状態の把握の内容
F6: 年月日 | H6: 内容 | O6: 結果 | W6: 対策区分の 判定 | Y6: 健全性
B22: 注）状態の把握において、微破壊・非破壊検査や各種試験等を実施した場合について記載する。
B23: ※ 行が不足する場合は、適時、表の行を増やすこと。

Sheet 様式D-1-1(トンネル様式2P001)
B2: ■定期点検記録様式 変状写真台帳 | Y2: Ⅰ
B3: フリガナ | D3: オゴオリ | H3: 路線名 | J3: 主要県道 山口宇部線 | M3: 定期点検業者 | P3: 応用地質株式会社 | S3: 定期点検年月日 | U3: 44431 | Y3: Ⅱ
B4: 名 称 | D4: 小郡トンネル | H4: 管理者名 | J4: 山口県防府土木建築事務所 | M4: 定期点検者名 | P4: 國村 省吾 | Y4: Ⅲ
B5: 写真 番号 | C5: 覆工 スパン 番号 | D5: 3 | M5: 写真 番号 | N5: 覆工 スパン 番号 | O5: 3 | Y5: Ⅳ
Y6: －
C7: 変状 番号 | D7: 1 | N7: 変状 番号 | O7: 2
B9: 変状 部位 | C9: 対象 箇所 | D9: 覆工・坑門 | M9: 変状 部位 | N9: 対象 箇所 | O9: 覆工・坑門
C11: 部位 区分 | D11: アーチ（左側） | N11: 部位 区分 | O11: アーチ（左側）
B13: 変状区分 | D13: 材質劣化 | M13: 変状区分 | O13: 材質劣化
B14: 変状種類 | D14: 鋼材腐食 | M14: 変状種類 | O14: 鋼材腐食
B15: 健全性 | C15: 応急措置前 | E15: － | M15: 健全性 | N15: 応急措置前 | P15: －
C16: 応急措置後 | E16: Ⅱ | N16: 応急措置後 | P16: Ⅱ
B17: 変状の発生範囲の規模 | E17: 0.1m×0.5m | M17: 変状の発生範囲の規模 | P17: 0.05m×0.15m
B18: 前回定期点検時の状態 | E18: 同程度 | M18: 前回定期点検時の状態 | P18: 同程度
B19: 調査方針 | E19: - | M19: 調査方針 | P19: -
B20: 対策履歴 | E20: なし | H20: 実施状況（実施日） | J20: - | M20: 対策履歴 | P20: なし | S20: 実施状況（実施日） | U20: -
B21: メモ | D21: 鋼材露出(Ⅱb)、部分的に露出した鋼材(表面的な腐食)に防錆剤塗布 | M21: メモ | O21: 鋼材露出(Ⅱb)、部分的に露出した鋼材(表面的な腐食)に防錆剤塗布
B22: 写真 番号 | C22: 覆工 スパン 番号 | D22: 3 | M22: 写真 番号 | N22: 覆工 スパン 番号
C24: 変状 番号 | D24: 3 | N24: 変状 番号
B26: 変状 部位 | C26: 対象 箇所 | D26: 覆工・坑門 | M26: 変状 部位 | N26: 対象 箇所
C28: 部位 区分 | D28: アーチ（右側） | N28: 部位 区分
B30: 変状区分 | D30: 材質劣化 | M30: 変状区分
B31: 変状種類 | D31: 鋼材腐食 | M31: 変状種類
B32: 健全性 | C32: 応急措置前 | E32: － | M32: 健全性 | N32: 応急措置前
C33: 応急措置後 | E33: Ⅱ | N33: 応急措置後
B34: 変状の発生範囲の規模 | E34: 0.1m×0.5m | M34: 変状の発生範囲の規模
B35: 前回定期点検時の状態 | E35: 同程度 | M35: 前回定期点検時の状態
B36: 調査方針 | E36: - | M36: 調査方針
B37: 対策履歴 | E37: なし | H37: 実施状況（実施日） | J37: - | M37: 対策履歴 | S37: 実施状況（実施日）
B38: メモ | D38: 鋼材露出(Ⅱb)、部分的に露出した鋼材(表面的な腐食)に防錆剤塗布 | M38: メモ
C39: ※ 健全性（応急措置後）の判定区分Ⅱ～Ⅳについて添付すること。また、点検前に 実施された措置によりⅠと判定された箇所も添付すること。 | N39: ※ 変状の発生範囲の規模とは、対策を行う際に参考となる変状の長さや面積をいう。
N40: ※ 応急措置を実施しないで判定した変状の健全性は、健全性の応急措置後の欄に記入すること。
C41: ※ たたき落としを実施した場合は、実施後の写真を添付すること。 | N41: ※ 変状の発生範囲の規模は、面積・寸法を記載すること。
C42: ※ 附属物の取付状態に関する異常写真は別途、様式D-1-2でとりまとめること。 | N42: (ひび割れ幅のみmmとし、その他をm表記とする)
C43: ※ 変状数に準じてシートを追加すること。（１シートに１ページとすること。） | N43: ※ 構造用鋼材以外の異物に伴ううき・はく離については、メモ欄に異物の概要を記入すること。

Sheet 様式D-1-1(トンネル様式2P001) (2)
B2: ■定期点検記録様式 変状写真台帳 | Y2: Ⅰ
B3: フリガナ | D3: オゴオリ | H3: 路線名 | J3: 主要県道 山口宇部線 | M3: 定期点検業者 | P3: 応用地質株式会社 | S3: 定期点検年月日 | U3: 44431 | Y3: Ⅱ
B4: 名 称 | D4: 小郡トンネル | H4: 管理者名 | J4: 山口県防府土木建築事務所 | M4: 定期点検者名 | P4: 國村 省吾 | Y4: Ⅲ
B5: 写真 番号 | C5: 覆工 スパン 番号 | D5: 4 | M5: 写真 番号 | N5: 覆工 スパン 番号 | Y5: Ⅳ
Y6: －
C7: 変状 番号 | D7: 1 | N7: 変状 番号
B9: 変状 部位 | C9: 対象 箇所 | D9: 覆工・坑門 | M9: 変状 部位 | N9: 対象 箇所
C11: 部位 区分 | D11: アーチ（右側） | N11: 部位 区分
B13: 変状区分 | D13: 材質劣化 | M13: 変状区分
B14: 変状種類 | D14: 鋼材腐食 | M14: 変状種類
B15: 健全性 | C15: 応急措置前 | E15: － | M15: 健全性 | N15: 応急措置前
C16: 応急措置後 | E16: Ⅱ | N16: 応急措置後
B17: 変状の発生範囲の規模 | E17: 0.1m×0.15m他 | M17: 変状の発生範囲の規模
B18: 前回定期点検時の状態 | E18: 同程度 | M18: 前回定期点検時の状態
B19: 調査方針 | E19: - | M19: 調査方針
B20: 対策履歴 | E20: なし | H20: 実施状況（実施日） | J20: - | M20: 対策履歴 | S20: 実施状況（実施日）
B21: メモ | D21: 2箇所の鋼材露出(Ⅱb)、部分的に露出した鋼材(表面的な腐食)に防錆剤塗布 | M21: メモ
B22: 写真 番号 | C22: 覆工 スパン 番号 | M22: 写真 番号 | N22: 覆工 スパン 番号
C24: 変状 番号 | N24: 変状 番号
B26: 変状 部位 | C26: 対象 箇所 | M26: 変状 部位 | N26: 対象 箇所
C28: 部位 区分 | N28: 部位 区分
B30: 変状区分 | M30: 変状区分
B31: 変状種類 | M31: 変状種類
B32: 健全性 | C32: 応急措置前 | M32: 健全性 | N32: 応急措置前
C33: 応急措置後 | N33: 応急措置後
B34: 変状の発生範囲の規模 | M34: 変状の発生範囲の規模
B35: 前回定期点検時の状態 | M35: 前回定期点検時の状態
B36: 調査方針 | M36: 調査方針
B37: 対策履歴 | H37: 実施状況（実施日） | M37: 対策履歴 | S37: 実施状況（実施日）
B38: メモ | M38: メモ
C39: ※ 健全性（応急措置後）の判定区分Ⅱ～Ⅳについて添付すること。また、点検前に 実施された措置によりⅠと判定された箇所も添付すること。 | N39: ※ 変状の発生範囲の規模とは、対策を行う際に参考となる変状の長さや面積をいう。
N40: ※ 応急措置を実施しないで判定した変状の健全性は、健全性の応急措置後の欄に記入すること。
C41: ※ たたき落としを実施した場合は、実施後の写真を添付すること。 | N41: ※ 変状の発生範囲の規模は、面積・寸法を記載すること。
C42: ※ 附属物の取付状態に関する異常写真は別途、様式D-1-2でとりまとめること。 | N42: (ひび割れ幅のみmmとし、その他をm表記とする)
C43: ※ 変状数に準じてシートを追加すること。（１シートに１ページとすること。） | N43: ※ 構造用鋼材以外の異物に伴ううき・はく離については、メモ欄に異物の概要を記入すること。

Sheet 様式D-1-1(トンネル様式2P001) (3)
B2: ■定期点検記録様式 変状写真台帳 | Y2: Ⅰ
B3: フリガナ | D3: オゴオリ | H3: 路線名 | J3: 主要県道 山口宇部線 | M3: 定期点検業者 | P3: 応用地質株式会社 | S3: 定期点検年月日 | U3: 44431 | Y3: Ⅱ
B4: 名 称 | D4: 小郡トンネル | H4: 管理者名 | J4: 山口県防府土木建築事務所 | M4: 定期点検者名 | P4: 國村 省吾 | Y4: Ⅲ
B5: 写真 番号 | C5: 覆工 スパン 番号 | D5: 6 | M5: 写真 番号 | N5: 覆工 スパン 番号 | O5: 6 | Y5: Ⅳ
Y6: －
C7: 変状 番号 | D7: 1 | N7: 変状 番号 | O7: 2
B9: 変状 部位 | C9: 対象 箇所 | D9: 覆工・坑門 | M9: 変状 部位 | N9: 対象 箇所 | O9: 覆工・坑門
C11: 部位 区分 | D11: アーチ（右側） | N11: 部位 区分 | O11: アーチ（左側）
B13: 変状区分 | D13: 材質劣化 | M13: 変状区分 | O13: 材質劣化
B14: 変状種類 | D14: 鋼材腐食 | M14: 変状種類 | O14: 鋼材腐食
B15: 健全性 | C15: 応急措置前 | E15: － | M15: 健全性 | N15: 応急措置前 | P15: －
C16: 応急措置後 | E16: Ⅱ | N16: 応急措置後 | P16: Ⅱ
B17: 変状の発生範囲の規模 | E17: 0.1m×0.5m | M17: 変状の発生範囲の規模 | P17: 0.1m×0.2m
B18: 前回定期点検時の状態 | E18: 同程度 | M18: 前回定期点検時の状態 | P18: なし
B19: 調査方針 | E19: - | M19: 調査方針 | P19: -
B20: 対策履歴 | E20: なし | H20: 実施状況（実施日） | J20: - | M20: 対策履歴 | P20: なし | S20: 実施状況（実施日） | U20: -
B21: メモ | D21: 鋼材露出(Ⅱb)、部分的に露出した鋼材(表面的な腐食)に防錆剤塗布 | M21: メモ | O21: 鋼材露出(Ⅱb)、部分的に露出した鋼材(表面的な腐食)に防錆剤塗布
B22: 写真 番号 | C22: 覆工 スパン 番号 | M22: 写真 番号 | N22: 覆工 スパン 番号
C24: 変状 番号 | N24: 変状 番号
B26: 変状 部位 | C26: 対象 箇所 | M26: 変状 部位 | N26: 対象 箇所
C28: 部位 区分 | N28: 部位 区分
B30: 変状区分 | M30: 変状区分
B31: 変状種類 | M31: 変状種類
B32: 健全性 | C32: 応急措置前 | M32: 健全性 | N32: 応急措置前
C33: 応急措置後 | N33: 応急措置後
B34: 変状の発生範囲の規模 | M34: 変状の発生範囲の規模
B35: 前回定期点検時の状態 | M35: 前回定期点検時の状態
B36: 調査方針 | M36: 調査方針
B37: 対策履歴 | H37: 実施状況（実施日） | M37: 対策履歴 | S37: 実施状況（実施日）
B38: メモ | M38: メモ
C39: ※ 健全性（応急措置後）の判定区分Ⅱ～Ⅳについて添付すること。また、点検前に 実施された措置によりⅠと判定された箇所も添付すること。 | N39: ※ 変状の発生範囲の規模とは、対策を行う際に参考となる変状の長さや面積をいう。
N40: ※ 応急措置を実施しないで判定した変状の健全性は、健全性の応急措置後の欄に記入すること。
C41: ※ たたき落としを実施した場合は、実施後の写真を添付すること。 | N41: ※ 変状の発生範囲の規模は、面積・寸法を記載すること。
C42: ※ 附属物の取付状態に関する異常写真は別途、様式D-1-2でとりまとめること。 | N42: (ひび割れ幅のみmmとし、その他をm表記とする)
C43: ※ 変状数に準じてシートを追加すること。（１シートに１ページとすること。） | N43: ※ 構造用鋼材以外の異物に伴ううき・はく離については、メモ欄に異物の概要を記入すること。

Sheet 様式D-1-1(トンネル様式2P001) (4)
B2: ■定期点検記録様式 変状写真台帳 | Y2: Ⅰ
B3: フリガナ | D3: オゴオリ | H3: 路線名 | J3: 主要県道 山口宇部線 | M3: 定期点検業者 | P3: 応用地質株式会社 | S3: 定期点検年月日 | U3: 44431 | Y3: Ⅱ
B4: 名 称 | D4: 小郡トンネル | H4: 管理者名 | J4: 山口県防府土木建築事務所 | M4: 定期点検者名 | P4: 國村 省吾 | Y4: Ⅲ
B5: 写真 番号 | C5: 覆工 スパン 番号 | D5: 7 | M5: 写真 番号 | N5: 覆工 スパン 番号 | Y5: Ⅳ
Y6: －
C7: 変状 番号 | D7: 1 | N7: 変状 番号
B9: 変状 部位 | C9: 対象 箇所 | D9: 覆工・坑門 | M9: 変状 部位 | N9: 対象 箇所
C11: 部位 区分 | D11: アーチ（右側） | N11: 部位 区分
B13: 変状区分 | D13: 材質劣化 | M13: 変状区分
B14: 変状種類 | D14: 鋼材腐食 | M14: 変状種類
B15: 健全性 | C15: 応急措置前 | E15: － | M15: 健全性 | N15: 応急措置前
C16: 応急措置後 | E16: Ⅱ | N16: 応急措置後
B17: 変状の発生範囲の規模 | E17: 0.15m×0.1m他 | M17: 変状の発生範囲の規模
B18: 前回定期点検時の状態 | E18: 同程度 | M18: 前回定期点検時の状態
B19: 調査方針 | E19: - | M19: 調査方針
B20: 対策履歴 | E20: なし | H20: 実施状況（実施日） | J20: - | M20: 対策履歴 | S20: 実施状況（実施日）
B21: メモ | D21: 2箇所の鋼材露出(Ⅱb)、部分的に露出した鋼材(表面的な腐食)に防錆剤塗布 | M21: メモ
B22: 写真 番号 | C22: 覆工 スパン 番号 | M22: 写真 番号 | N22: 覆工 スパン 番号
C24: 変状 番号 | N24: 変状 番号
B26: 変状 部位 | C26: 対象 箇所 | M26: 変状 部位 | N26: 対象 箇所
C28: 部位 区分 | N28: 部位 区分
B30: 変状区分 | M30: 変状区分
B31: 変状種類 | M31: 変状種類
B32: 健全性 | C32: 応急措置前 | M32: 健全性 | N32: 応急措置前
C33: 応急措置後 | N33: 応急措置後
B34: 変状の発生範囲の規模 | M34: 変状の発生範囲の規模
B35: 前回定期点検時の状態 | M35: 前回定期点検時の状態
B36: 調査方針 | M36: 調査方針
B37: 対策履歴 | H37: 実施状況（実施日） | M37: 対策履歴 | S37: 実施状況（実施日）
B38: メモ | M38: メモ
C39: ※ 健全性（応急措置後）の判定区分Ⅱ～Ⅳについて添付すること。また、点検前に 実施された措置によりⅠと判定された箇所も添付すること。 | N39: ※ 変状の発生範囲の規模とは、対策を行う際に参考となる変状の長さや面積をいう。
N40: ※ 応急措置を実施しないで判定した変状の健全性は、健全性の応急措置後の欄に記入すること。
C41: ※ たたき落としを実施した場合は、実施後の写真を添付すること。 | N41: ※ 変状の発生範囲の規模は、面積・寸法を記載すること。
C42: ※ 附属物の取付状態に関する異常写真は別途、様式D-1-2でとりまとめること。 | N42: (ひび割れ幅のみmmとし、その他をm表記とする)
C43: ※ 変状数に準じてシートを追加すること。（１シートに１ページとすること。） | N43: ※ 構造用鋼材以外の異物に伴ううき・はく離については、メモ欄に異物の概要を記入すること。

Sheet 様式D-1-1(トンネル様式2P001) (5)
B2: ■定期点検記録様式 変状写真台帳 | Y2: Ⅰ
B3: フリガナ | D3: オゴオリ | H3: 路線名 | J3: 主要県道 山口宇部線 | M3: 定期点検業者 | P3: 応用地質株式会社 | S3: 定期点検年月日 | U3: 44431 | Y3: Ⅱ
B4: 名 称 | D4: 小郡トンネル | H4: 管理者名 | J4: 山口県防府土木建築事務所 | M4: 定期点検者名 | P4: 國村 省吾 | Y4: Ⅲ
B5: 写真 番号 | C5: 覆工 スパン 番号 | D5: 11 | M5: 写真 番号 | N5: 覆工 スパン 番号 | Y5: Ⅳ
Y6: －
C7: 変状 番号 | D7: 1 | N7: 変状 番号
B9: 変状 部位 | C9: 対象 箇所 | D9: 覆工・坑門 | M9: 変状 部位 | N9: 対象 箇所
C11: 部位 区分 | D11: 側壁（右側） | N11: 部位 区分
B13: 変状区分 | D13: 材質劣化 | M13: 変状区分
B14: 変状種類 | D14: 鋼材腐食 | M14: 変状種類
B15: 健全性 | C15: 応急措置前 | E15: － | M15: 健全性 | N15: 応急措置前
C16: 応急措置後 | E16: Ⅱ | N16: 応急措置後
B17: 変状の発生範囲の規模 | E17: 0.05m×0.05m | M17: 変状の発生範囲の規模
B18: 前回定期点検時の状態 | E18: 同程度 | M18: 前回定期点検時の状態
B19: 調査方針 | E19: - | M19: 調査方針
B20: 対策履歴 | E20: なし | H20: 実施状況（実施日） | J20: - | M20: 対策履歴 | S20: 実施状況（実施日）
B21: メモ | D21: 鋼材露出(Ⅱb)(深さ50mm未満)、部分的に露出した鋼材(表面的な腐食)に防錆剤塗布 | M21: メモ
B22: 写真 番号 | C22: 覆工 スパン 番号 | M22: 写真 番号 | N22: 覆工 スパン 番号
C24: 変状 番号 | N24: 変状 番号
B26: 変状 部位 | C26: 対象 箇所 | M26: 変状 部位 | N26: 対象 箇所
C28: 部位 区分 | N28: 部位 区分
B30: 変状区分 | M30: 変状区分
B31: 変状種類 | M31: 変状種類
B32: 健全性 | C32: 応急措置前 | M32: 健全性 | N32: 応急措置前
C33: 応急措置後 | N33: 応急措置後
B34: 変状の発生範囲の規模 | M34: 変状の発生範囲の規模
B35: 前回定期点検時の状態 | M35: 前回定期点検時の状態
B36: 調査方針 | M36: 調査方針
B37: 対策履歴 | H37: 実施状況（実施日） | M37: 対策履歴 | S37: 実施状況（実施日）
B38: メモ | M38: メモ
C39: ※ 健全性（応急措置後）の判定区分Ⅱ～Ⅳについて添付すること。また、点検前に 実施された措置によりⅠと判定された箇所も添付すること。 | N39: ※ 変状の発生範囲の規模とは、対策を行う際に参考となる変状の長さや面積をいう。
N40: ※ 応急措置を実施しないで判定した変状の健全性は、健全性の応急措置後の欄に記入すること。
C41: ※ たたき落としを実施した場合は、実施後の写真を添付すること。 | N41: ※ 変状の発生範囲の規模は、面積・寸法を記載すること。
C42: ※ 附属物の取付状態に関する異常写真は別途、様式D-1-2でとりまとめること。 | N42: (ひび割れ幅のみmmとし、その他をm表記とする)
C43: ※ 変状数に準じてシートを追加すること。（１シートに１ページとすること。） | N43: ※ 構造用鋼材以外の異物に伴ううき・はく離については、メモ欄に異物の概要を記入すること。

Sheet 様式D-1-1(トンネル様式2P001) (6)
B2: ■定期点検記録様式 変状写真台帳 | Y2: Ⅰ
B3: フリガナ | D3: オゴオリ | H3: 路線名 | J3: 主要県道 山口宇部線 | M3: 定期点検業者 | P3: 応用地質株式会社 | S3: 定期点検年月日 | U3: 44431 | Y3: Ⅱ
B4: 名 称 | D4: 小郡トンネル | H4: 管理者名 | J4: 山口県防府土木建築事務所 | M4: 定期点検者名 | P4: 國村 省吾 | Y4: Ⅲ
B5: 写真 番号 | C5: 覆工 スパン 番号 | D5: 17 | M5: 写真 番号 | N5: 覆工 スパン 番号 | Y5: Ⅳ
Y6: －
C7: 変状 番号 | D7: 1 | N7: 変状 番号
B9: 変状 部位 | C9: 対象 箇所 | D9: 覆工・坑門 | M9: 変状 部位 | N9: 対象 箇所
C11: 部位 区分 | D11: 側壁（右側） | N11: 部位 区分
B13: 変状区分 | D13: 材質劣化 | M13: 変状区分
B14: 変状種類 | D14: 鋼材腐食 | M14: 変状種類
B15: 健全性 | C15: 応急措置前 | E15: － | M15: 健全性 | N15: 応急措置前
C16: 応急措置後 | E16: Ⅱ | N16: 応急措置後
B17: 変状の発生範囲の規模 | E17: 0.1m×0.1m | M17: 変状の発生範囲の規模
B18: 前回定期点検時の状態 | E18: 同程度 | M18: 前回定期点検時の状態
B19: 調査方針 | E19: - | M19: 調査方針
B20: 対策履歴 | E20: なし | H20: 実施状況（実施日） | J20: - | M20: 対策履歴 | S20: 実施状況（実施日）
B21: メモ | D21: 鋼材露出(Ⅱb)、部分的に露出した鋼材(表面的な腐食)に防錆剤塗布 | M21: メモ
B22: 写真 番号 | C22: 覆工 スパン 番号 | M22: 写真 番号 | N22: 覆工 スパン 番号
C24: 変状 番号 | N24: 変状 番号
B26: 変状 部位 | C26: 対象 箇所 | M26: 変状 部位 | N26: 対象 箇所
C28: 部位 区分 | N28: 部位 区分
B30: 変状区分 | M30: 変状区分
B31: 変状種類 | M31: 変状種類
B32: 健全性 | C32: 応急措置前 | M32: 健全性 | N32: 応急措置前
C33: 応急措置後 | N33: 応急措置後
B34: 変状の発生範囲の規模 | M34: 変状の発生範囲の規模
B35: 前回定期点検時の状態 | M35: 前回定期点検時の状態
B36: 調査方針 | M36: 調査方針
B37: 対策履歴 | H37: 実施状況（実施日） | M37: 対策履歴 | S37: 実施状況（実施日）
B38: メモ | M38: メモ
C39: ※ 健全性（応急措置後）の判定区分Ⅱ～Ⅳについて添付すること。また、点検前に 実施された措置によりⅠと判定された箇所も添付すること。 | N39: ※ 変状の発生範囲の規模とは、対策を行う際に参考となる変状の長さや面積をいう。
N40: ※ 応急措置を実施しないで判定した変状の健全性は、健全性の応急措置後の欄に記入すること。
C41: ※ たたき落としを実施した場合は、実施後の写真を添付すること。 | N41: ※ 変状の発生範囲の規模は、面積・寸法を記載すること。
C42: ※ 附属物の取付状態に関する異常写真は別途、様式D-1-2でとりまとめること。 | N42: (ひび割れ幅のみmmとし、その他をm表記とする)
C43: ※ 変状数に準じてシートを追加すること。（１シートに１ページとすること。） | N43: ※ 構造用鋼材以外の異物に伴ううき・はく離については、メモ欄に異物の概要を記入すること。

Sheet 様式D-1-1(トンネル様式2P001) (7)
B2: ■定期点検記録様式 変状写真台帳 | Y2: Ⅰ
B3: フリガナ | D3: オゴオリ | H3: 路線名 | J3: 主要県道 山口宇部線 | M3: 定期点検業者 | P3: 応用地質株式会社 | S3: 定期点検年月日 | U3: 44431 | Y3: Ⅱ
B4: 名 称 | D4: 小郡トンネル | H4: 管理者名 | J4: 山口県防府土木建築事務所 | M4: 定期点検者名 | P4: 國村 省吾 | Y4: Ⅲ
B5: 写真 番号 | C5: 覆工 スパン 番号 | D5: 18 | M5: 写真 番号 | N5: 覆工 スパン 番号 | Y5: Ⅳ
Y6: －
C7: 変状 番号 | D7: 1 | N7: 変状 番号
B9: 変状 部位 | C9: 対象 箇所 | D9: 覆工・坑門 | M9: 変状 部位 | N9: 対象 箇所
C11: 部位 区分 | D11: アーチ（右側） | N11: 部位 区分
B13: 変状区分 | D13: 材質劣化 | M13: 変状区分
B14: 変状種類 | D14: 鋼材腐食 | M14: 変状種類
B15: 健全性 | C15: 応急措置前 | E15: － | M15: 健全性 | N15: 応急措置前
C16: 応急措置後 | E16: Ⅱ | N16: 応急措置後
B17: 変状の発生範囲の規模 | E17: 0.05m×0.2m | M17: 変状の発生範囲の規模
B18: 前回定期点検時の状態 | E18: 同程度 | M18: 前回定期点検時の状態
B19: 調査方針 | E19: - | M19: 調査方針
B20: 対策履歴 | E20: なし | H20: 実施状況（実施日） | J20: - | M20: 対策履歴 | S20: 実施状況（実施日）
B21: メモ | D21: 鋼材露出(Ⅱb)、部分的に露出した鋼材(表面的な腐食)に防錆剤塗布 | M21: メモ
B22: 写真 番号 | C22: 覆工 スパン 番号 | M22: 写真 番号 | N22: 覆工 スパン 番号
C24: 変状 番号 | N24: 変状 番号
B26: 変状 部位 | C26: 対象 箇所 | M26: 変状 部位 | N26: 対象 箇所
C28: 部位 区分 | N28: 部位 区分
B30: 変状区分 | M30: 変状区分
B31: 変状種類 | M31: 変状種類
B32: 健全性 | C32: 応急措置前 | M32: 健全性 | N32: 応急措置前
C33: 応急措置後 | N33: 応急措置後
B34: 変状の発生範囲の規模 | M34: 変状の発生範囲の規模
B35: 前回定期点検時の状態 | M35: 前回定期点検時の状態
B36: 調査方針 | M36: 調査方針
B37: 対策履歴 | H37: 実施状況（実施日） | M37: 対策履歴 | S37: 実施状況（実施日）
B38: メモ | M38: メモ
C39: ※ 健全性（応急措置後）の判定区分Ⅱ～Ⅳについて添付すること。また、点検前に 実施された措置によりⅠと判定された箇所も添付すること。 | N39: ※ 変状の発生範囲の規模とは、対策を行う際に参考となる変状の長さや面積をいう。
N40: ※ 応急措置を実施しないで判定した変状の健全性は、健全性の応急措置後の欄に記入すること。
C41: ※ たたき落としを実施した場合は、実施後の写真を添付すること。 | N41: ※ 変状の発生範囲の規模は、面積・寸法を記載すること。
C42: ※ 附属物の取付状態に関する異常写真は別途、様式D-1-2でとりまとめること。 | N42: (ひび割れ幅のみmmとし、その他をm表記とする)
C43: ※ 変状数に準じてシートを追加すること。（１シートに１ページとすること。） | N43: ※ 構造用鋼材以外の異物に伴ううき・はく離については、メモ欄に異物の概要を記入すること。

Sheet 様式D-1-1(トンネル様式2P001) (8)
B2: ■定期点検記録様式 変状写真台帳 | Y2: Ⅰ
B3: フリガナ | D3: オゴオリ | H3: 路線名 | J3: 主要県道 山口宇部線 | M3: 定期点検業者 | P3: 応用地質株式会社 | S3: 定期点検年月日 | U3: 44431 | Y3: Ⅱ
B4: 名 称 | D4: 小郡トンネル | H4: 管理者名 | J4: 山口県防府土木建築事務所 | M4: 定期点検者名 | P4: 國村 省吾 | Y4: Ⅲ
B5: 写真 番号 | C5: 覆工 スパン 番号 | D5: 22 | M5: 写真 番号 | N5: 覆工 スパン 番号 | Y5: Ⅳ
Y6: －
C7: 変状 番号 | D7: 1 | N7: 変状 番号
B9: 変状 部位 | C9: 対象 箇所 | D9: 覆工・坑門 | M9: 変状 部位 | N9: 対象 箇所
C11: 部位 区分 | D11: 側壁（右側） | N11: 部位 区分
B13: 変状区分 | D13: 材質劣化 | M13: 変状区分
B14: 変状種類 | D14: 鋼材腐食 | M14: 変状種類
B15: 健全性 | C15: 応急措置前 | E15: － | M15: 健全性 | N15: 応急措置前
C16: 応急措置後 | E16: Ⅱ | N16: 応急措置後
B17: 変状の発生範囲の規模 | E17: 0.1m×0.1m | M17: 変状の発生範囲の規模
B18: 前回定期点検時の状態 | E18: 同程度 | M18: 前回定期点検時の状態
B19: 調査方針 | E19: - | M19: 調査方針
B20: 対策履歴 | E20: なし | H20: 実施状況（実施日） | J20: - | M20: 対策履歴 | S20: 実施状況（実施日）
B21: メモ | D21: 鋼材露出(Ⅱb)、部分的に露出した鋼材(表面的な腐食)に防錆剤塗布 | M21: メモ
B22: 写真 番号 | C22: 覆工 スパン 番号 | M22: 写真 番号 | N22: 覆工 スパン 番号
C24: 変状 番号 | N24: 変状 番号
B26: 変状 部位 | C26: 対象 箇所 | M26: 変状 部位 | N26: 対象 箇所
C28: 部位 区分 | N28: 部位 区分
B30: 変状区分 | M30: 変状区分
B31: 変状種類 | M31: 変状種類
B32: 健全性 | C32: 応急措置前 | M32: 健全性 | N32: 応急措置前
C33: 応急措置後 | N33: 応急措置後
B34: 変状の発生範囲の規模 | M34: 変状の発生範囲の規模
B35: 前回定期点検時の状態 | M35: 前回定期点検時の状態
B36: 調査方針 | M36: 調査方針
B37: 対策履歴 | H37: 実施状況（実施日） | M37: 対策履歴 | S37: 実施状況（実施日）
B38: メモ | M38: メモ
C39: ※ 健全性（応急措置後）の判定区分Ⅱ～Ⅳについて添付すること。また、点検前に 実施された措置によりⅠと判定された箇所も添付すること。 | N39: ※ 変状の発生範囲の規模とは、対策を行う際に参考となる変状の長さや面積をいう。
N40: ※ 応急措置を実施しないで判定した変状の健全性は、健全性の応急措置後の欄に記入すること。
C41: ※ たたき落としを実施した場合は、実施後の写真を添付すること。 | N41: ※ 変状の発生範囲の規模は、面積・寸法を記載すること。
C42: ※ 附属物の取付状態に関する異常写真は別途、様式D-1-2でとりまとめること。 | N42: (ひび割れ幅のみmmとし、その他をm表記とする)
C43: ※ 変状数に準じてシートを追加すること。（１シートに１ページとすること。） | N43: ※ 構造用鋼材以外の異物に伴ううき・はく離については、メモ欄に異物の概要を記入すること。

Sheet 様式D-1-1(トンネル様式2P001) (9)
B2: ■定期点検記録様式 変状写真台帳 | Y2: Ⅰ
B3: フリガナ | D3: オゴオリ | H3: 路線名 | J3: 主要県道 山口宇部線 | M3: 定期点検業者 | P3: 応用地質株式会社 | S3: 定期点検年月日 | U3: 44431 | Y3: Ⅱ
B4: 名 称 | D4: 小郡トンネル | H4: 管理者名 | J4: 山口県防府土木建築事務所 | M4: 定期点検者名 | P4: 國村 省吾 | Y4: Ⅲ
B5: 写真 番号 | C5: 覆工 スパン 番号 | D5: 25 | M5: 写真 番号 | N5: 覆工 スパン 番号 | Y5: Ⅳ
Y6: －
C7: 変状 番号 | D7: 1 | N7: 変状 番号
B9: 変状 部位 | C9: 対象 箇所 | D9: 覆工・坑門 | M9: 変状 部位 | N9: 対象 箇所
C11: 部位 区分 | D11: アーチ（左側） | N11: 部位 区分
B13: 変状区分 | D13: 材質劣化 | M13: 変状区分
B14: 変状種類 | D14: 鋼材腐食 | M14: 変状種類
B15: 健全性 | C15: 応急措置前 | E15: － | M15: 健全性 | N15: 応急措置前
C16: 応急措置後 | E16: Ⅱ | N16: 応急措置後
B17: 変状の発生範囲の規模 | E17: 0.1m×0.1m | M17: 変状の発生範囲の規模
B18: 前回定期点検時の状態 | E18: 同程度 | M18: 前回定期点検時の状態
B19: 調査方針 | E19: - | M19: 調査方針
B20: 対策履歴 | E20: なし | H20: 実施状況（実施日） | J20: - | M20: 対策履歴 | S20: 実施状況（実施日）
B21: メモ | D21: 鋼材露出(Ⅱb)、部分的に露出した鋼材(表面的な腐食)に防錆剤塗布 | M21: メモ
B22: 写真 番号 | C22: 覆工 スパン 番号 | M22: 写真 番号 | N22: 覆工 スパン 番号
C24: 変状 番号 | N24: 変状 番号
B26: 変状 部位 | C26: 対象 箇所 | M26: 変状 部位 | N26: 対象 箇所
C28: 部位 区分 | N28: 部位 区分
B30: 変状区分 | M30: 変状区分
B31: 変状種類 | M31: 変状種類
B32: 健全性 | C32: 応急措置前 | M32: 健全性 | N32: 応急措置前
C33: 応急措置後 | N33: 応急措置後
B34: 変状の発生範囲の規模 | M34: 変状の発生範囲の規模
B35: 前回定期点検時の状態 | M35: 前回定期点検時の状態
B36: 調査方針 | M36: 調査方針
B37: 対策履歴 | H37: 実施状況（実施日） | M37: 対策履歴 | S37: 実施状況（実施日）
B38: メモ | M38: メモ
C39: ※ 健全性（応急措置後）の判定区分Ⅱ～Ⅳについて添付すること。また、点検前に 実施された措置によりⅠと判定された箇所も添付すること。 | N39: ※ 変状の発生範囲の規模とは、対策を行う際に参考となる変状の長さや面積をいう。
N40: ※ 応急措置を実施しないで判定した変状の健全性は、健全性の応急措置後の欄に記入すること。
C41: ※ たたき落としを実施した場合は、実施後の写真を添付すること。 | N41: ※ 変状の発生範囲の規模は、面積・寸法を記載すること。
C42: ※ 附属物の取付状態に関する異常写真は別途、様式D-1-2でとりまとめること。 | N42: (ひび割れ幅のみmmとし、その他をm表記とする)
C43: ※ 変状数に準じてシートを追加すること。（１シートに１ページとすること。） | N43: ※ 構造用鋼材以外の異物に伴ううき・はく離については、メモ欄に異物の概要を記入すること。

Sheet 様式D-1-1(トンネル様式2P001) (10)
B2: ■定期点検記録様式 変状写真台帳 | Y2: Ⅰ
B3: フリガナ | D3: オゴオリ | H3: 路線名 | J3: 主要県道 山口宇部線 | M3: 定期点検業者 | P3: 応用地質株式会社 | S3: 定期点検年月日 | U3: 44431 | Y3: Ⅱ
B4: 名 称 | D4: 小郡トンネル | H4: 管理者名 | J4: 山口県防府土木建築事務所 | M4: 定期点検者名 | P4: 國村 省吾 | Y4: Ⅲ
B5: 写真 番号 | C5: 覆工 スパン 番号 | D5: 34 | M5: 写真 番号 | N5: 覆工 スパン 番号 | Y5: Ⅳ
Y6: －
C7: 変状 番号 | D7: 1 | N7: 変状 番号
B9: 変状 部位 | C9: 対象 箇所 | D9: 覆工・坑門 | M9: 変状 部位 | N9: 対象 箇所
C11: 部位 区分 | D11: 横断目地（右側） | N11: 部位 区分
B13: 変状区分 | D13: 材質劣化 | M13: 変状区分
B14: 変状種類 | D14: うき・はく離 | M14: 変状種類
B15: 健全性 | C15: 応急措置前 | E15: Ⅲ | M15: 健全性 | N15: 応急措置前
C16: 応急措置後 | E16: Ⅰ | N16: 応急措置後
B17: 変状の発生範囲の規模 | E17: 1.7m×0.05m | M17: 変状の発生範囲の規模
B18: 前回定期点検時の状態 | E18: なし | M18: 前回定期点検時の状態
B19: 調査方針 | E19: - | M19: 調査方針
B20: 対策履歴 | E20: なし | H20: 実施状況（実施日） | J20: - | M20: 対策履歴 | S20: 実施状況（実施日）
B21: メモ | D21: 目地部のノロ、今回定期点検時に叩き落とし実施(Ⅲ→Ⅰ) | M21: メモ
B22: 写真 番号 | C22: 覆工 スパン 番号 | M22: 写真 番号 | N22: 覆工 スパン 番号
C24: 変状 番号 | N24: 変状 番号
B26: 変状 部位 | C26: 対象 箇所 | M26: 変状 部位 | N26: 対象 箇所
C28: 部位 区分 | N28: 部位 区分
B30: 変状区分 | M30: 変状区分
B31: 変状種類 | M31: 変状種類
B32: 健全性 | C32: 応急措置前 | M32: 健全性 | N32: 応急措置前
C33: 応急措置後 | N33: 応急措置後
B34: 変状の発生範囲の規模 | M34: 変状の発生範囲の規模
B35: 前回定期点検時の状態 | M35: 前回定期点検時の状態
B36: 調査方針 | M36: 調査方針
B37: 対策履歴 | H37: 実施状況（実施日） | M37: 対策履歴 | S37: 実施状況（実施日）
B38: メモ | M38: メモ
C39: ※ 健全性（応急措置後）の判定区分Ⅱ～Ⅳについて添付すること。また、点検前に 実施された措置によりⅠと判定された箇所も添付すること。 | N39: ※ 変状の発生範囲の規模とは、対策を行う際に参考となる変状の長さや面積をいう。
N40: ※ 応急措置を実施しないで判定した変状の健全性は、健全性の応急措置後の欄に記入すること。
C41: ※ たたき落としを実施した場合は、実施後の写真を添付すること。 | N41: ※ 変状の発生範囲の規模は、面積・寸法を記載すること。
C42: ※ 附属物の取付状態に関する異常写真は別途、様式D-1-2でとりまとめること。 | N42: (ひび割れ幅のみmmとし、その他をm表記とする)
C43: ※ 変状数に準じてシートを追加すること。（１シートに１ページとすること。） | N43: ※ 構造用鋼材以外の異物に伴ううき・はく離については、メモ欄に異物の概要を記入すること。

Sheet 様式D-1-1(トンネル様式2P001) (11)
B2: ■定期点検記録様式 変状写真台帳 | Y2: Ⅰ
B3: フリガナ | D3: オゴオリ | H3: 路線名 | J3: 主要県道 山口宇部線 | M3: 定期点検業者 | P3: 応用地質株式会社 | S3: 定期点検年月日 | U3: 44431 | Y3: Ⅱ
B4: 名 称 | D4: 小郡トンネル | H4: 管理者名 | J4: 山口県防府土木建築事務所 | M4: 定期点検者名 | P4: 國村 省吾 | Y4: Ⅲ
B5: 写真 番号 | C5: 覆工 スパン 番号 | D5: 37 | M5: 写真 番号 | N5: 覆工 スパン 番号 | Y5: Ⅳ
Y6: －
C7: 変状 番号 | D7: 1 | N7: 変状 番号
B9: 変状 部位 | C9: 対象 箇所 | D9: 覆工・坑門 | M9: 変状 部位 | N9: 対象 箇所
C11: 部位 区分 | D11: アーチ（右側） | N11: 部位 区分
B13: 変状区分 | D13: 材質劣化 | M13: 変状区分
B14: 変状種類 | D14: 鋼材腐食 | M14: 変状種類
B15: 健全性 | C15: 応急措置前 | E15: － | M15: 健全性 | N15: 応急措置前
C16: 応急措置後 | E16: Ⅱ | N16: 応急措置後
B17: 変状の発生範囲の規模 | E17: 0.05m×0.2m | M17: 変状の発生範囲の規模
B18: 前回定期点検時の状態 | E18: 同程度 | M18: 前回定期点検時の状態
B19: 調査方針 | E19: - | M19: 調査方針
B20: 対策履歴 | E20: なし | H20: 実施状況（実施日） | J20: - | M20: 対策履歴 | S20: 実施状況（実施日）
B21: メモ | D21: 鋼材露出(Ⅱb)、部分的に露出した鋼材(表面的な腐食)に防錆剤塗布 | M21: メモ
B22: 写真 番号 | C22: 覆工 スパン 番号 | M22: 写真 番号 | N22: 覆工 スパン 番号
C24: 変状 番号 | N24: 変状 番号
B26: 変状 部位 | C26: 対象 箇所 | M26: 変状 部位 | N26: 対象 箇所
C28: 部位 区分 | N28: 部位 区分
B30: 変状区分 | M30: 変状区分
B31: 変状種類 | M31: 変状種類
B32: 健全性 | C32: 応急措置前 | M32: 健全性 | N32: 応急措置前
C33: 応急措置後 | N33: 応急措置後
B34: 変状の発生範囲の規模 | M34: 変状の発生範囲の規模
B35: 前回定期点検時の状態 | M35: 前回定期点検時の状態
B36: 調査方針 | M36: 調査方針
B37: 対策履歴 | H37: 実施状況（実施日） | M37: 対策履歴 | S37: 実施状況（実施日）
B38: メモ | M38: メモ
C39: ※ 健全性（応急措置後）の判定区分Ⅱ～Ⅳについて添付すること。また、点検前に 実施された措置によりⅠと判定された箇所も添付すること。 | N39: ※ 変状の発生範囲の規模とは、対策を行う際に参考となる変状の長さや面積をいう。
N40: ※ 応急措置を実施しないで判定した変状の健全性は、健全性の応急措置後の欄に記入すること。
C41: ※ たたき落としを実施した場合は、実施後の写真を添付すること。 | N41: ※ 変状の発生範囲の規模は、面積・寸法を記載すること。
C42: ※ 附属物の取付状態に関する異常写真は別途、様式D-1-2でとりまとめること。 | N42: (ひび割れ幅のみmmとし、その他をm表記とする)
C43: ※ 変状数に準じてシートを追加すること。（１シートに１ページとすること。） | N43: ※ 構造用鋼材以外の異物に伴ううき・はく離については、メモ欄に異物の概要を記入すること。

Sheet 様式D-1-1(トンネル様式2P001) (12)
B2: ■定期点検記録様式 変状写真台帳 | Y2: Ⅰ
B3: フリガナ | D3: オゴオリ | H3: 路線名 | J3: 主要県道 山口宇部線 | M3: 定期点検業者 | P3: 応用地質株式会社 | S3: 定期点検年月日 | U3: 44431 | Y3: Ⅱ
B4: 名 称 | D4: 小郡トンネル | H4: 管理者名 | J4: 山口県防府土木建築事務所 | M4: 定期点検者名 | P4: 國村 省吾 | Y4: Ⅲ
B5: 写真 番号 | C5: 覆工 スパン 番号 | D5: 44 | M5: 写真 番号 | N5: 覆工 スパン 番号 | Y5: Ⅳ
Y6: －
C7: 変状 番号 | D7: 1 | N7: 変状 番号
B9: 変状 部位 | C9: 対象 箇所 | D9: 覆工・坑門 | M9: 変状 部位 | N9: 対象 箇所
C11: 部位 区分 | D11: アーチ（左側） | N11: 部位 区分
B13: 変状区分 | D13: 材質劣化 | M13: 変状区分
B14: 変状種類 | D14: 鋼材腐食 | M14: 変状種類
B15: 健全性 | C15: 応急措置前 | E15: － | M15: 健全性 | N15: 応急措置前
C16: 応急措置後 | E16: Ⅱ | N16: 応急措置後
B17: 変状の発生範囲の規模 | E17: 0.1m×0.1m | M17: 変状の発生範囲の規模
B18: 前回定期点検時の状態 | E18: 同程度 | M18: 前回定期点検時の状態
B19: 調査方針 | E19: - | M19: 調査方針
B20: 対策履歴 | E20: なし | H20: 実施状況（実施日） | J20: - | M20: 対策履歴 | S20: 実施状況（実施日）
B21: メモ | D21: 鋼材露出(Ⅱb)、部分的に露出した鋼材(表面的な腐食)に防錆剤塗布 | M21: メモ
B22: 写真 番号 | C22: 覆工 スパン 番号 | M22: 写真 番号 | N22: 覆工 スパン 番号
C24: 変状 番号 | N24: 変状 番号
B26: 変状 部位 | C26: 対象 箇所 | M26: 変状 部位 | N26: 対象 箇所
C28: 部位 区分 | N28: 部位 区分
B30: 変状区分 | M30: 変状区分
B31: 変状種類 | M31: 変状種類
B32: 健全性 | C32: 応急措置前 | M32: 健全性 | N32: 応急措置前
C33: 応急措置後 | N33: 応急措置後
B34: 変状の発生範囲の規模 | M34: 変状の発生範囲の規模
B35: 前回定期点検時の状態 | M35: 前回定期点検時の状態
B36: 調査方針 | M36: 調査方針
B37: 対策履歴 | H37: 実施状況（実施日） | M37: 対策履歴 | S37: 実施状況（実施日）
B38: メモ | M38: メモ
C39: ※ 健全性（応急措置後）の判定区分Ⅱ～Ⅳについて添付すること。また、点検前に 実施された措置によりⅠと判定された箇所も添付すること。 | N39: ※ 変状の発生範囲の規模とは、対策を行う際に参考となる変状の長さや面積をいう。
N40: ※ 応急措置を実施しないで判定した変状の健全性は、健全性の応急措置後の欄に記入すること。
C41: ※ たたき落としを実施した場合は、実施後の写真を添付すること。 | N41: ※ 変状の発生範囲の規模は、面積・寸法を記載すること。
C42: ※ 附属物の取付状態に関する異常写真は別途、様式D-1-2でとりまとめること。 | N42: (ひび割れ幅のみmmとし、その他をm表記とする)
C43: ※ 変状数に準じてシートを追加すること。（１シートに１ページとすること。） | N43: ※ 構造用鋼材以外の異物に伴ううき・はく離については、メモ欄に異物の概要を記入すること。

Sheet 様式D-1-1(トンネル様式2P001) (13)
B2: ■定期点検記録様式 変状写真台帳 | Y2: Ⅰ
B3: フリガナ | D3: オゴオリ | H3: 路線名 | J3: 主要県道 山口宇部線 | M3: 定期点検業者 | P3: 応用地質株式会社 | S3: 定期点検年月日 | U3: 44431 | Y3: Ⅱ
B4: 名 称 | D4: 小郡トンネル | H4: 管理者名 | J4: 山口県防府土木建築事務所 | M4: 定期点検者名 | P4: 國村 省吾 | Y4: Ⅲ
B5: 写真 番号 | C5: 覆工 スパン 番号 | D5: 55 | M5: 写真 番号 | N5: 覆工 スパン 番号 | Y5: Ⅳ
Y6: －
C7: 変状 番号 | D7: 1 | N7: 変状 番号
B9: 変状 部位 | C9: 対象 箇所 | D9: 覆工・坑門 | M9: 変状 部位 | N9: 対象 箇所
C11: 部位 区分 | D11: 横断目地（右側） | N11: 部位 区分
B13: 変状区分 | D13: 材質劣化 | M13: 変状区分
B14: 変状種類 | D14: うき・はく離 | M14: 変状種類
B15: 健全性 | C15: 応急措置前 | E15: － | M15: 健全性 | N15: 応急措置前
C16: 応急措置後 | E16: Ⅱ | N16: 応急措置後
B17: 変状の発生範囲の規模 | E17: 0.2m×0.05m | M17: 変状の発生範囲の規模
B18: 前回定期点検時の状態 | E18: なし | M18: 前回定期点検時の状態
B19: 調査方針 | E19: - | M19: 調査方針
B20: 対策履歴 | E20: なし | H20: 実施状況（実施日） | J20: - | M20: 対策履歴 | S20: 実施状況（実施日）
B21: メモ | D21: 目地部のうき(Ⅱb)、浸透性固化材塗布 | M21: メモ
B22: 写真 番号 | C22: 覆工 スパン 番号 | M22: 写真 番号 | N22: 覆工 スパン 番号
C24: 変状 番号 | N24: 変状 番号
B26: 変状 部位 | C26: 対象 箇所 | M26: 変状 部位 | N26: 対象 箇所
C28: 部位 区分 | N28: 部位 区分
B30: 変状区分 | M30: 変状区分
B31: 変状種類 | M31: 変状種類
B32: 健全性 | C32: 応急措置前 | M32: 健全性 | N32: 応急措置前
C33: 応急措置後 | N33: 応急措置後
B34: 変状の発生範囲の規模 | M34: 変状の発生範囲の規模
B35: 前回定期点検時の状態 | M35: 前回定期点検時の状態
B36: 調査方針 | M36: 調査方針
B37: 対策履歴 | H37: 実施状況（実施日） | M37: 対策履歴 | S37: 実施状況（実施日）
B38: メモ | M38: メモ
C39: ※ 健全性（応急措置後）の判定区分Ⅱ～Ⅳについて添付すること。また、点検前に 実施された措置によりⅠと判定された箇所も添付すること。 | N39: ※ 変状の発生範囲の規模とは、対策を行う際に参考となる変状の長さや面積をいう。
N40: ※ 応急措置を実施しないで判定した変状の健全性は、健全性の応急措置後の欄に記入すること。
C41: ※ たたき落としを実施した場合は、実施後の写真を添付すること。 | N41: ※ 変状の発生範囲の規模は、面積・寸法を記載すること。
C42: ※ 附属物の取付状態に関する異常写真は別途、様式D-1-2でとりまとめること。 | N42: (ひび割れ幅のみmmとし、その他をm表記とする)
C43: ※ 変状数に準じてシートを追加すること。（１シートに１ページとすること。） | N43: ※ 構造用鋼材以外の異物に伴ううき・はく離については、メモ欄に異物の概要を記入すること。

Sheet 様式D-1-1(トンネル様式2P001) (14)
B2: ■定期点検記録様式 変状写真台帳 | Y2: Ⅰ
B3: フリガナ | D3: オゴオリ | H3: 路線名 | J3: 主要県道 山口宇部線 | M3: 定期点検業者 | P3: 応用地質株式会社 | S3: 定期点検年月日 | U3: 44431 | Y3: Ⅱ
B4: 名 称 | D4: 小郡トンネル | H4: 管理者名 | J4: 山口県防府土木建築事務所 | M4: 定期点検者名 | P4: 國村 省吾 | Y4: Ⅲ
B5: 写真 番号 | C5: 覆工 スパン 番号 | D5: 56 | M5: 写真 番号 | N5: 覆工 スパン 番号 | Y5: Ⅳ
Y6: －
C7: 変状 番号 | D7: 1 | N7: 変状 番号
B9: 変状 部位 | C9: 対象 箇所 | D9: 覆工・坑門 | M9: 変状 部位 | N9: 対象 箇所
C11: 部位 区分 | D11: アーチ（天端） | N11: 部位 区分
B13: 変状区分 | D13: 材質劣化 | M13: 変状区分
B14: 変状種類 | D14: ひび割れ | M14: 変状種類
B15: 健全性 | C15: 応急措置前 | E15: － | M15: 健全性 | N15: 応急措置前
C16: 応急措置後 | E16: Ⅱ | N16: 応急措置後
B17: 変状の発生範囲の規模 | E17: 0.7mm×5.7m | M17: 変状の発生範囲の規模
B18: 前回定期点検時の状態 | E18: なし | M18: 前回定期点検時の状態
B19: 調査方針 | E19: - | M19: 調査方針
B20: 対策履歴 | E20: なし | H20: 実施状況（実施日） | J20: - | M20: 対策履歴 | S20: 実施状況（実施日）
B21: メモ | D21: 縦断方向のひび割れ(Ⅱb) | M21: メモ
B22: 写真 番号 | C22: 覆工 スパン 番号 | M22: 写真 番号 | N22: 覆工 スパン 番号
C24: 変状 番号 | N24: 変状 番号
B26: 変状 部位 | C26: 対象 箇所 | M26: 変状 部位 | N26: 対象 箇所
C28: 部位 区分 | N28: 部位 区分
B30: 変状区分 | M30: 変状区分
B31: 変状種類 | M31: 変状種類
B32: 健全性 | C32: 応急措置前 | M32: 健全性 | N32: 応急措置前
C33: 応急措置後 | N33: 応急措置後
B34: 変状の発生範囲の規模 | M34: 変状の発生範囲の規模
B35: 前回定期点検時の状態 | M35: 前回定期点検時の状態
B36: 調査方針 | M36: 調査方針
B37: 対策履歴 | H37: 実施状況（実施日） | M37: 対策履歴 | S37: 実施状況（実施日）
B38: メモ | M38: メモ
C39: ※ 健全性（応急措置後）の判定区分Ⅱ～Ⅳについて添付すること。また、点検前に 実施された措置によりⅠと判定された箇所も添付すること。 | N39: ※ 変状の発生範囲の規模とは、対策を行う際に参考となる変状の長さや面積をいう。
N40: ※ 応急措置を実施しないで判定した変状の健全性は、健全性の応急措置後の欄に記入すること。
C41: ※ たたき落としを実施した場合は、実施後の写真を添付すること。 | N41: ※ 変状の発生範囲の規模は、面積・寸法を記載すること。
C42: ※ 附属物の取付状態に関する異常写真は別途、様式D-1-2でとりまとめること。 | N42: (ひび割れ幅のみmmとし、その他をm表記とする)
C43: ※ 変状数に準じてシートを追加すること。（１シートに１ページとすること。） | N43: ※ 構造用鋼材以外の異物に伴ううき・はく離については、メモ欄に異物の概要を記入すること。

Sheet 様式D-1-1(トンネル様式2P001) (15)
B2: ■定期点検記録様式 変状写真台帳 | Y2: Ⅰ
B3: フリガナ | D3: オゴオリ | H3: 路線名 | J3: 主要県道 山口宇部線 | M3: 定期点検業者 | P3: 応用地質株式会社 | S3: 定期点検年月日 | U3: 44431 | Y3: Ⅱ
B4: 名 称 | D4: 小郡トンネル | H4: 管理者名 | J4: 山口県防府土木建築事務所 | M4: 定期点検者名 | P4: 國村 省吾 | Y4: Ⅲ
B5: 写真 番号 | C5: 覆工 スパン 番号 | D5: 60 | M5: 写真 番号 | N5: 覆工 スパン 番号 | Y5: Ⅳ
Y6: －
C7: 変状 番号 | D7: 1 | N7: 変状 番号
B9: 変状 部位 | C9: 対象 箇所 | D9: 覆工・坑門 | M9: 変状 部位 | N9: 対象 箇所
C11: 部位 区分 | D11: 面壁・妻壁等 | N11: 部位 区分
B13: 変状区分 | D13: 材質劣化 | M13: 変状区分
B14: 変状種類 | D14: ひび割れ | M14: 変状種類
B15: 健全性 | C15: 応急措置前 | E15: － | M15: 健全性 | N15: 応急措置前
C16: 応急措置後 | E16: Ⅱ | N16: 応急措置後
B17: 変状の発生範囲の規模 | E17: 0.5mm×0.8m他 | M17: 変状の発生範囲の規模
B18: 前回定期点検時の状態 | E18: 同程度 | M18: 前回定期点検時の状態
B19: 調査方針 | E19: - | M19: 調査方針
B20: 対策履歴 | E20: なし | H20: 実施状況（実施日） | J20: - | M20: 対策履歴 | S20: 実施状況（実施日）
B21: メモ | D21: 密集したひび割れ(Ⅱb)、一部新規確認、打音異常なし | M21: メモ
B22: 写真 番号 | C22: 覆工 スパン 番号 | M22: 写真 番号 | N22: 覆工 スパン 番号
C24: 変状 番号 | N24: 変状 番号
B26: 変状 部位 | C26: 対象 箇所 | M26: 変状 部位 | N26: 対象 箇所
C28: 部位 区分 | N28: 部位 区分
B30: 変状区分 | M30: 変状区分
B31: 変状種類 | M31: 変状種類
B32: 健全性 | C32: 応急措置前 | M32: 健全性 | N32: 応急措置前
C33: 応急措置後 | N33: 応急措置後
B34: 変状の発生範囲の規模 | M34: 変状の発生範囲の規模
B35: 前回定期点検時の状態 | M35: 前回定期点検時の状態
B36: 調査方針 | M36: 調査方針
B37: 対策履歴 | H37: 実施状況（実施日） | M37: 対策履歴 | S37: 実施状況（実施日）
B38: メモ | M38: メモ
C39: ※ 健全性（応急措置後）の判定区分Ⅱ～Ⅳについて添付すること。また、点検前に 実施された措置によりⅠと判定された箇所も添付すること。 | N39: ※ 変状の発生範囲の規模とは、対策を行う際に参考となる変状の長さや面積をいう。
N40: ※ 応急措置を実施しないで判定した変状の健全性は、健全性の応急措置後の欄に記入すること。
C41: ※ たたき落としを実施した場合は、実施後の写真を添付すること。 | N41: ※ 変状の発生範囲の規模は、面積・寸法を記載すること。
C42: ※ 附属物の取付状態に関する異常写真は別途、様式D-1-2でとりまとめること。 | N42: (ひび割れ幅のみmmとし、その他をm表記とする)
C43: ※ 変状数に準じてシートを追加すること。（１シートに１ページとすること。） | N43: ※ 構造用鋼材以外の異物に伴ううき・はく離については、メモ欄に異物の概要を記入すること。

Sheet 様式D-1-1(トンネル様式2P001) (16)
B2: ■定期点検記録様式 変状写真台帳 | Y2: Ⅰ
B3: フリガナ | D3: オゴオリ | H3: 路線名 | J3: 主要県道 山口宇部線 | M3: 定期点検業者 | P3: 応用地質株式会社 | S3: 定期点検年月日 | U3: 44431 | Y3: Ⅱ
B4: 名 称 | D4: 小郡トンネル | H4: 管理者名 | J4: 山口県防府土木建築事務所 | M4: 定期点検者名 | P4: 國村 省吾 | Y4: Ⅲ
B5: 写真 番号 | C5: 覆工 スパン 番号 | D5: 63 | M5: 写真 番号 | N5: 覆工 スパン 番号 | Y5: Ⅳ
Y6: －
C7: 変状 番号 | D7: 1 | N7: 変状 番号
B9: 変状 部位 | C9: 対象 箇所 | D9: 覆工・坑門 | M9: 変状 部位 | N9: 対象 箇所
C11: 部位 区分 | D11: アーチ（右側） | N11: 部位 区分
B13: 変状区分 | D13: 材質劣化 | M13: 変状区分
B14: 変状種類 | D14: 鋼材腐食 | M14: 変状種類
B15: 健全性 | C15: 応急措置前 | E15: － | M15: 健全性 | N15: 応急措置前
C16: 応急措置後 | E16: Ⅱ | N16: 応急措置後
B17: 変状の発生範囲の規模 | E17: 0.05m×0.2m他 | M17: 変状の発生範囲の規模
B18: 前回定期点検時の状態 | E18: 同程度 | M18: 前回定期点検時の状態
B19: 調査方針 | E19: - | M19: 調査方針
B20: 対策履歴 | E20: なし | H20: 実施状況（実施日） | J20: - | M20: 対策履歴 | S20: 実施状況（実施日）
B21: メモ | D21: 2箇所の鋼材露出(Ⅱb)、部分的に露出した鋼材(表面的な腐食)に防錆剤塗布 | M21: メモ
B22: 写真 番号 | C22: 覆工 スパン 番号 | M22: 写真 番号 | N22: 覆工 スパン 番号
C24: 変状 番号 | N24: 変状 番号
B26: 変状 部位 | C26: 対象 箇所 | M26: 変状 部位 | N26: 対象 箇所
C28: 部位 区分 | N28: 部位 区分
B30: 変状区分 | M30: 変状区分
B31: 変状種類 | M31: 変状種類
B32: 健全性 | C32: 応急措置前 | M32: 健全性 | N32: 応急措置前
C33: 応急措置後 | N33: 応急措置後
B34: 変状の発生範囲の規模 | M34: 変状の発生範囲の規模
B35: 前回定期点検時の状態 | M35: 前回定期点検時の状態
B36: 調査方針 | M36: 調査方針
B37: 対策履歴 | H37: 実施状況（実施日） | M37: 対策履歴 | S37: 実施状況（実施日）
B38: メモ | M38: メモ
C39: ※ 健全性（応急措置後）の判定区分Ⅱ～Ⅳについて添付すること。また、点検前に 実施された措置によりⅠと判定された箇所も添付すること。 | N39: ※ 変状の発生範囲の規模とは、対策を行う際に参考となる変状の長さや面積をいう。
N40: ※ 応急措置を実施しないで判定した変状の健全性は、健全性の応急措置後の欄に記入すること。
C41: ※ たたき落としを実施した場合は、実施後の写真を添付すること。 | N41: ※ 変状の発生範囲の規模は、面積・寸法を記載すること。
C42: ※ 附属物の取付状態に関する異常写真は別途、様式D-1-2でとりまとめること。 | N42: (ひび割れ幅のみmmとし、その他をm表記とする)
C43: ※ 変状数に準じてシートを追加すること。（１シートに１ページとすること。） | N43: ※ 構造用鋼材以外の異物に伴ううき・はく離については、メモ欄に異物の概要を記入すること。

Sheet 様式D-1-1(トンネル様式2P001) (17)
B2: ■定期点検記録様式 変状写真台帳 | Y2: Ⅰ
B3: フリガナ | D3: オゴオリ | H3: 路線名 | J3: 主要県道 山口宇部線 | M3: 定期点検業者 | P3: 応用地質株式会社 | S3: 定期点検年月日 | U3: 44431 | Y3: Ⅱ
B4: 名 称 | D4: 小郡トンネル | H4: 管理者名 | J4: 山口県防府土木建築事務所 | M4: 定期点検者名 | P4: 國村 省吾 | Y4: Ⅲ
B5: 写真 番号 | C5: 覆工 スパン 番号 | D5: 64 | M5: 写真 番号 | N5: 覆工 スパン 番号 | Y5: Ⅳ
Y6: －
C7: 変状 番号 | D7: 1 | N7: 変状 番号
B9: 変状 部位 | C9: 対象 箇所 | D9: 覆工・坑門 | M9: 変状 部位 | N9: 対象 箇所
C11: 部位 区分 | D11: アーチ（天端） | N11: 部位 区分
B13: 変状区分 | D13: 材質劣化 | M13: 変状区分
B14: 変状種類 | D14: うき・はく離 | M14: 変状種類
B15: 健全性 | C15: 応急措置前 | E15: － | M15: 健全性 | N15: 応急措置前
C16: 応急措置後 | E16: Ⅱ | N16: 応急措置後
B17: 変状の発生範囲の規模 | E17: 0.25m×0.1m | M17: 変状の発生範囲の規模
B18: 前回定期点検時の状態 | E18: なし | M18: 前回定期点検時の状態
B19: 調査方針 | E19: - | M19: 調査方針
B20: 対策履歴 | E20: なし | H20: 実施状況（実施日） | J20: - | M20: 対策履歴 | S20: 実施状況（実施日）
B21: メモ | D21: 部分的なうき(Ⅱb)、浸透性固化材塗布 | M21: メモ
B22: 写真 番号 | C22: 覆工 スパン 番号 | M22: 写真 番号 | N22: 覆工 スパン 番号
C24: 変状 番号 | N24: 変状 番号
B26: 変状 部位 | C26: 対象 箇所 | M26: 変状 部位 | N26: 対象 箇所
C28: 部位 区分 | N28: 部位 区分
B30: 変状区分 | M30: 変状区分
B31: 変状種類 | M31: 変状種類
B32: 健全性 | C32: 応急措置前 | M32: 健全性 | N32: 応急措置前
C33: 応急措置後 | N33: 応急措置後
B34: 変状の発生範囲の規模 | M34: 変状の発生範囲の規模
B35: 前回定期点検時の状態 | M35: 前回定期点検時の状態
B36: 調査方針 | M36: 調査方針
B37: 対策履歴 | H37: 実施状況（実施日） | M37: 対策履歴 | S37: 実施状況（実施日）
B38: メモ | M38: メモ
C39: ※ 健全性（応急措置後）の判定区分Ⅱ～Ⅳについて添付すること。また、点検前に 実施された措置によりⅠと判定された箇所も添付すること。 | N39: ※ 変状の発生範囲の規模とは、対策を行う際に参考となる変状の長さや面積をいう。
N40: ※ 応急措置を実施しないで判定した変状の健全性は、健全性の応急措置後の欄に記入すること。
C41: ※ たたき落としを実施した場合は、実施後の写真を添付すること。 | N41: ※ 変状の発生範囲の規模は、面積・寸法を記載すること。
C42: ※ 附属物の取付状態に関する異常写真は別途、様式D-1-2でとりまとめること。 | N42: (ひび割れ幅のみmmとし、その他をm表記とする)
C43: ※ 変状数に準じてシートを追加すること。（１シートに１ページとすること。） | N43: ※ 構造用鋼材以外の異物に伴ううき・はく離については、メモ欄に異物の概要を記入すること。

Sheet 様式D-1-1(トンネル様式2P001) (18)
B2: ■定期点検記録様式 変状写真台帳 | Y2: Ⅰ
B3: フリガナ | D3: オゴオリ | H3: 路線名 | J3: 主要県道 山口宇部線 | M3: 定期点検業者 | P3: 応用地質株式会社 | S3: 定期点検年月日 | U3: 44431 | Y3: Ⅱ
B4: 名 称 | D4: 小郡トンネル | H4: 管理者名 | J4: 山口県防府土木建築事務所 | M4: 定期点検者名 | P4: 國村 省吾 | Y4: Ⅲ
B5: 写真 番号 | C5: 覆工 スパン 番号 | D5: 65 | M5: 写真 番号 | N5: 覆工 スパン 番号 | Y5: Ⅳ
Y6: －
C7: 変状 番号 | D7: 1 | N7: 変状 番号
B9: 変状 部位 | C9: 対象 箇所 | D9: 覆工・坑門 | M9: 変状 部位 | N9: 対象 箇所
C11: 部位 区分 | D11: アーチ（天端） | N11: 部位 区分
B13: 変状区分 | D13: 材質劣化 | M13: 変状区分
B14: 変状種類 | D14: ひび割れ | M14: 変状種類
B15: 健全性 | C15: 応急措置前 | E15: － | M15: 健全性 | N15: 応急措置前
C16: 応急措置後 | E16: Ⅱ | N16: 応急措置後
B17: 変状の発生範囲の規模 | E17: 1.3mm×6.2m | M17: 変状の発生範囲の規模
B18: 前回定期点検時の状態 | E18: 同程度 | M18: 前回定期点検時の状態
B19: 調査方針 | E19: - | M19: 調査方針
B20: 対策履歴 | E20: なし | H20: 実施状況（実施日） | J20: - | M20: 対策履歴 | S20: 実施状況（実施日）
B21: メモ | D21: 縦断方向のひび割れ(Ⅱb) | M21: メモ
B22: 写真 番号 | C22: 覆工 スパン 番号 | M22: 写真 番号 | N22: 覆工 スパン 番号
C24: 変状 番号 | N24: 変状 番号
B26: 変状 部位 | C26: 対象 箇所 | M26: 変状 部位 | N26: 対象 箇所
C28: 部位 区分 | N28: 部位 区分
B30: 変状区分 | M30: 変状区分
B31: 変状種類 | M31: 変状種類
B32: 健全性 | C32: 応急措置前 | M32: 健全性 | N32: 応急措置前
C33: 応急措置後 | N33: 応急措置後
B34: 変状の発生範囲の規模 | M34: 変状の発生範囲の規模
B35: 前回定期点検時の状態 | M35: 前回定期点検時の状態
B36: 調査方針 | M36: 調査方針
B37: 対策履歴 | H37: 実施状況（実施日） | M37: 対策履歴 | S37: 実施状況（実施日）
B38: メモ | M38: メモ
C39: ※ 健全性（応急措置後）の判定区分Ⅱ～Ⅳについて添付すること。また、点検前に 実施された措置によりⅠと判定された箇所も添付すること。 | N39: ※ 変状の発生範囲の規模とは、対策を行う際に参考となる変状の長さや面積をいう。
N40: ※ 応急措置を実施しないで判定した変状の健全性は、健全性の応急措置後の欄に記入すること。
C41: ※ たたき落としを実施した場合は、実施後の写真を添付すること。 | N41: ※ 変状の発生範囲の規模は、面積・寸法を記載すること。
C42: ※ 附属物の取付状態に関する異常写真は別途、様式D-1-2でとりまとめること。 | N42: (ひび割れ幅のみmmとし、その他をm表記とする)
C43: ※ 変状数に準じてシートを追加すること。（１シートに１ページとすること。） | N43: ※ 構造用鋼材以外の異物に伴ううき・はく離については、メモ欄に異物の概要を記入すること。

Sheet 様式D-1-1(トンネル様式2P001) (19)
B2: ■定期点検記録様式 変状写真台帳 | Y2: Ⅰ
B3: フリガナ | D3: オゴオリ | H3: 路線名 | J3: 主要県道 山口宇部線 | M3: 定期点検業者 | P3: 応用地質株式会社 | S3: 定期点検年月日 | U3: 44431 | Y3: Ⅱ
B4: 名 称 | D4: 小郡トンネル | H4: 管理者名 | J4: 山口県防府土木建築事務所 | M4: 定期点検者名 | P4: 國村 省吾 | Y4: Ⅲ
B5: 写真 番号 | C5: 覆工 スパン 番号 | D5: 66 | M5: 写真 番号 | N5: 覆工 スパン 番号 | Y5: Ⅳ
Y6: －
C7: 変状 番号 | D7: 1 | N7: 変状 番号
B9: 変状 部位 | C9: 対象 箇所 | D9: 覆工・坑門 | M9: 変状 部位 | N9: 対象 箇所
C11: 部位 区分 | D11: アーチ（左側） | N11: 部位 区分
B13: 変状区分 | D13: 材質劣化 | M13: 変状区分
B14: 変状種類 | D14: ひび割れ | M14: 変状種類
B15: 健全性 | C15: 応急措置前 | E15: － | M15: 健全性 | N15: 応急措置前
C16: 応急措置後 | E16: Ⅱ | N16: 応急措置後
B17: 変状の発生範囲の規模 | E17: 1.2mm×6.2m | M17: 変状の発生範囲の規模
B18: 前回定期点検時の状態 | E18: 同程度 | M18: 前回定期点検時の状態
B19: 調査方針 | E19: - | M19: 調査方針
B20: 対策履歴 | E20: なし | H20: 実施状況（実施日） | J20: - | M20: 対策履歴 | S20: 実施状況（実施日）
B21: メモ | D21: 縦断方向のひび割れ(Ⅱb) | M21: メモ
B22: 写真 番号 | C22: 覆工 スパン 番号 | M22: 写真 番号 | N22: 覆工 スパン 番号
C24: 変状 番号 | N24: 変状 番号
B26: 変状 部位 | C26: 対象 箇所 | M26: 変状 部位 | N26: 対象 箇所
C28: 部位 区分 | N28: 部位 区分
B30: 変状区分 | M30: 変状区分
B31: 変状種類 | M31: 変状種類
B32: 健全性 | C32: 応急措置前 | M32: 健全性 | N32: 応急措置前
C33: 応急措置後 | N33: 応急措置後
B34: 変状の発生範囲の規模 | M34: 変状の発生範囲の規模
B35: 前回定期点検時の状態 | M35: 前回定期点検時の状態
B36: 調査方針 | M36: 調査方針
B37: 対策履歴 | H37: 実施状況（実施日） | M37: 対策履歴 | S37: 実施状況（実施日）
B38: メモ | M38: メモ
C39: ※ 健全性（応急措置後）の判定区分Ⅱ～Ⅳについて添付すること。また、点検前に 実施された措置によりⅠと判定された箇所も添付すること。 | N39: ※ 変状の発生範囲の規模とは、対策を行う際に参考となる変状の長さや面積をいう。
N40: ※ 応急措置を実施しないで判定した変状の健全性は、健全性の応急措置後の欄に記入すること。
C41: ※ たたき落としを実施した場合は、実施後の写真を添付すること。 | N41: ※ 変状の発生範囲の規模は、面積・寸法を記載すること。
C42: ※ 附属物の取付状態に関する異常写真は別途、様式D-1-2でとりまとめること。 | N42: (ひび割れ幅のみmmとし、その他をm表記とする)
C43: ※ 変状数に準じてシートを追加すること。（１シートに１ページとすること。） | N43: ※ 構造用鋼材以外の異物に伴ううき・はく離については、メモ欄に異物の概要を記入すること。

Sheet 様式D-1-1(トンネル様式2P001) (20)
B2: ■定期点検記録様式 変状写真台帳 | Y2: Ⅰ
B3: フリガナ | D3: オゴオリ | H3: 路線名 | J3: 主要県道 山口宇部線 | M3: 定期点検業者 | P3: 応用地質株式会社 | S3: 定期点検年月日 | U3: 44431 | Y3: Ⅱ
B4: 名 称 | D4: 小郡トンネル | H4: 管理者名 | J4: 山口県防府土木建築事務所 | M4: 定期点検者名 | P4: 國村 省吾 | Y4: Ⅲ
B5: 写真 番号 | C5: 覆工 スパン 番号 | D5: 67 | M5: 写真 番号 | N5: 覆工 スパン 番号 | Y5: Ⅳ
Y6: －
C7: 変状 番号 | D7: 1 | N7: 変状 番号
B9: 変状 部位 | C9: 対象 箇所 | D9: 覆工・坑門 | M9: 変状 部位 | N9: 対象 箇所
C11: 部位 区分 | D11: アーチ（左側） | N11: 部位 区分
B13: 変状区分 | D13: 材質劣化 | M13: 変状区分
B14: 変状種類 | D14: ひび割れ | M14: 変状種類
B15: 健全性 | C15: 応急措置前 | E15: － | M15: 健全性 | N15: 応急措置前
C16: 応急措置後 | E16: Ⅱ | N16: 応急措置後
B17: 変状の発生範囲の規模 | E17: 1.7mm×6.3m | M17: 変状の発生範囲の規模
B18: 前回定期点検時の状態 | E18: 同程度 | M18: 前回定期点検時の状態
B19: 調査方針 | E19: - | M19: 調査方針
B20: 対策履歴 | E20: なし | H20: 実施状況（実施日） | J20: - | M20: 対策履歴 | S20: 実施状況（実施日）
B21: メモ | D21: 縦断方向のひび割れ(Ⅱb) | M21: メモ
B22: 写真 番号 | C22: 覆工 スパン 番号 | M22: 写真 番号 | N22: 覆工 スパン 番号
C24: 変状 番号 | N24: 変状 番号
B26: 変状 部位 | C26: 対象 箇所 | M26: 変状 部位 | N26: 対象 箇所
C28: 部位 区分 | N28: 部位 区分
B30: 変状区分 | M30: 変状区分
B31: 変状種類 | M31: 変状種類
B32: 健全性 | C32: 応急措置前 | M32: 健全性 | N32: 応急措置前
C33: 応急措置後 | N33: 応急措置後
B34: 変状の発生範囲の規模 | M34: 変状の発生範囲の規模
B35: 前回定期点検時の状態 | M35: 前回定期点検時の状態
B36: 調査方針 | M36: 調査方針
B37: 対策履歴 | H37: 実施状況（実施日） | M37: 対策履歴 | S37: 実施状況（実施日）
B38: メモ | M38: メモ
C39: ※ 健全性（応急措置後）の判定区分Ⅱ～Ⅳについて添付すること。また、点検前に 実施された措置によりⅠと判定された箇所も添付すること。 | N39: ※ 変状の発生範囲の規模とは、対策を行う際に参考となる変状の長さや面積をいう。
N40: ※ 応急措置を実施しないで判定した変状の健全性は、健全性の応急措置後の欄に記入すること。
C41: ※ たたき落としを実施した場合は、実施後の写真を添付すること。 | N41: ※ 変状の発生範囲の規模は、面積・寸法を記載すること。
C42: ※ 附属物の取付状態に関する異常写真は別途、様式D-1-2でとりまとめること。 | N42: (ひび割れ幅のみmmとし、その他をm表記とする)
C43: ※ 変状数に準じてシートを追加すること。（１シートに１ページとすること。） | N43: ※ 構造用鋼材以外の異物に伴ううき・はく離については、メモ欄に異物の概要を記入すること。

Sheet 様式D-1-1(トンネル様式2P001) (21)
B2: ■定期点検記録様式 変状写真台帳 | Y2: Ⅰ
B3: フリガナ | D3: オゴオリ | H3: 路線名 | J3: 主要県道 山口宇部線 | M3: 定期点検業者 | P3: 応用地質株式会社 | S3: 定期点検年月日 | U3: 44431 | Y3: Ⅱ
B4: 名 称 | D4: 小郡トンネル | H4: 管理者名 | J4: 山口県防府土木建築事務所 | M4: 定期点検者名 | P4: 國村 省吾 | Y4: Ⅲ
B5: 写真 番号 | C5: 覆工 スパン 番号 | D5: 68 | M5: 写真 番号 | N5: 覆工 スパン 番号 | Y5: Ⅳ
Y6: －
C7: 変状 番号 | D7: 1 | N7: 変状 番号
B9: 変状 部位 | C9: 対象 箇所 | D9: 覆工・坑門 | M9: 変状 部位 | N9: 対象 箇所
C11: 部位 区分 | D11: アーチ（天端） | N11: 部位 区分
B13: 変状区分 | D13: 材質劣化 | M13: 変状区分
B14: 変状種類 | D14: ひび割れ | M14: 変状種類
B15: 健全性 | C15: 応急措置前 | E15: － | M15: 健全性 | N15: 応急措置前
C16: 応急措置後 | E16: Ⅱ | N16: 応急措置後
B17: 変状の発生範囲の規模 | E17: 1.5mm×6.3m他 | M17: 変状の発生範囲の規模
B18: 前回定期点検時の状態 | E18: 同程度 | M18: 前回定期点検時の状態
B19: 調査方針 | E19: - | M19: 調査方針
B20: 対策履歴 | E20: なし | H20: 実施状況（実施日） | J20: - | M20: 対策履歴 | S20: 実施状況（実施日）
B21: メモ | D21: 縦横断方向のひび割れ(Ⅱb) | M21: メモ
B22: 写真 番号 | C22: 覆工 スパン 番号 | M22: 写真 番号 | N22: 覆工 スパン 番号
C24: 変状 番号 | N24: 変状 番号
B26: 変状 部位 | C26: 対象 箇所 | M26: 変状 部位 | N26: 対象 箇所
C28: 部位 区分 | N28: 部位 区分
B30: 変状区分 | M30: 変状区分
B31: 変状種類 | M31: 変状種類
B32: 健全性 | C32: 応急措置前 | M32: 健全性 | N32: 応急措置前
C33: 応急措置後 | N33: 応急措置後
B34: 変状の発生範囲の規模 | M34: 変状の発生範囲の規模
B35: 前回定期点検時の状態 | M35: 前回定期点検時の状態
B36: 調査方針 | M36: 調査方針
B37: 対策履歴 | H37: 実施状況（実施日） | M37: 対策履歴 | S37: 実施状況（実施日）
B38: メモ | M38: メモ
C39: ※ 健全性（応急措置後）の判定区分Ⅱ～Ⅳについて添付すること。また、点検前に 実施された措置によりⅠと判定された箇所も添付すること。 | N39: ※ 変状の発生範囲の規模とは、対策を行う際に参考となる変状の長さや面積をいう。
N40: ※ 応急措置を実施しないで判定した変状の健全性は、健全性の応急措置後の欄に記入すること。
C41: ※ たたき落としを実施した場合は、実施後の写真を添付すること。 | N41: ※ 変状の発生範囲の規模は、面積・寸法を記載すること。
C42: ※ 附属物の取付状態に関する異常写真は別途、様式D-1-2でとりまとめること。 | N42: (ひび割れ幅のみmmとし、その他をm表記とする)
C43: ※ 変状数に準じてシートを追加すること。（１シートに１ページとすること。） | N43: ※ 構造用鋼材以外の異物に伴ううき・はく離については、メモ欄に異物の概要を記入すること。

Sheet 様式D-1-1(トンネル様式2P001) (22)
B2: ■定期点検記録様式 変状写真台帳 | Y2: Ⅰ
B3: フリガナ | D3: オゴオリ | H3: 路線名 | J3: 主要県道 山口宇部線 | M3: 定期点検業者 | P3: 応用地質株式会社 | S3: 定期点検年月日 | U3: 44431 | Y3: Ⅱ
B4: 名 称 | D4: 小郡トンネル | H4: 管理者名 | J4: 山口県防府土木建築事務所 | M4: 定期点検者名 | P4: 國村 省吾 | Y4: Ⅲ
B5: 写真 番号 | C5: 覆工 スパン 番号 | D5: 77 | M5: 写真 番号 | N5: 覆工 スパン 番号 | O5: 77 | Y5: Ⅳ
Y6: －
C7: 変状 番号 | D7: 1 | N7: 変状 番号 | O7: 2
B9: 変状 部位 | C9: 対象 箇所 | D9: 覆工・坑門 | M9: 変状 部位 | N9: 対象 箇所 | O9: 覆工・坑門
C11: 部位 区分 | D11: 側壁（右側） | N11: 部位 区分 | O11: 横断目地（天端）
B13: 変状区分 | D13: 材質劣化 | M13: 変状区分 | O13: 材質劣化
B14: 変状種類 | D14: 鋼材腐食 | M14: 変状種類 | O14: うき・はく離
B15: 健全性 | C15: 応急措置前 | E15: － | M15: 健全性 | N15: 応急措置前 | P15: －
C16: 応急措置後 | E16: Ⅱ | N16: 応急措置後 | P16: Ⅱ
B17: 変状の発生範囲の規模 | E17: 0.1m×0.1m | M17: 変状の発生範囲の規模 | P17: 0.6m×0.05m
B18: 前回定期点検時の状態 | E18: 同程度 | M18: 前回定期点検時の状態 | P18: 0.6m×0.05m(Ⅰ)
B19: 調査方針 | E19: - | M19: 調査方針 | P19: -
B20: 対策履歴 | E20: なし | H20: 実施状況（実施日） | J20: - | M20: 対策履歴 | P20: なし | S20: 実施状況（実施日） | U20: -
B21: メモ | D21: 鋼材露出(Ⅱb)、部分的に露出した鋼材(表面的な腐食)に防錆剤塗布 | M21: メモ | O21: 目地部の豆板(Ⅱb)、劣化進行性あり、浸透性固化材塗布
B22: 写真 番号 | C22: 覆工 スパン 番号 | M22: 写真 番号 | N22: 覆工 スパン 番号
C24: 変状 番号 | N24: 変状 番号
B26: 変状 部位 | C26: 対象 箇所 | M26: 変状 部位 | N26: 対象 箇所
C28: 部位 区分 | N28: 部位 区分
B30: 変状区分 | M30: 変状区分
B31: 変状種類 | M31: 変状種類
B32: 健全性 | C32: 応急措置前 | M32: 健全性 | N32: 応急措置前
C33: 応急措置後 | N33: 応急措置後
B34: 変状の発生範囲の規模 | M34: 変状の発生範囲の規模
B35: 前回定期点検時の状態 | M35: 前回定期点検時の状態
B36: 調査方針 | M36: 調査方針
B37: 対策履歴 | H37: 実施状況（実施日） | M37: 対策履歴 | S37: 実施状況（実施日）
B38: メモ | M38: メモ
C39: ※ 健全性（応急措置後）の判定区分Ⅱ～Ⅳについて添付すること。また、点検前に 実施された措置によりⅠと判定された箇所も添付すること。 | N39: ※ 変状の発生範囲の規模とは、対策を行う際に参考となる変状の長さや面積をいう。
N40: ※ 応急措置を実施しないで判定した変状の健全性は、健全性の応急措置後の欄に記入すること。
C41: ※ たたき落としを実施した場合は、実施後の写真を添付すること。 | N41: ※ 変状の発生範囲の規模は、面積・寸法を記載すること。
C42: ※ 附属物の取付状態に関する異常写真は別途、様式D-1-2でとりまとめること。 | N42: (ひび割れ幅のみmmとし、その他をm表記とする)
C43: ※ 変状数に準じてシートを追加すること。（１シートに１ページとすること。） | N43: ※ 構造用鋼材以外の異物に伴ううき・はく離については、メモ欄に異物の概要を記入すること。

Sheet 様式D-1-1(トンネル様式2P001) (23)
B2: ■定期点検記録様式 変状写真台帳 | Y2: Ⅰ
B3: フリガナ | D3: オゴオリ | H3: 路線名 | J3: 主要県道 山口宇部線 | M3: 定期点検業者 | P3: 応用地質株式会社 | S3: 定期点検年月日 | U3: 44431 | Y3: Ⅱ
B4: 名 称 | D4: 小郡トンネル | H4: 管理者名 | J4: 山口県防府土木建築事務所 | M4: 定期点検者名 | P4: 國村 省吾 | Y4: Ⅲ
B5: 写真 番号 | C5: 覆工 スパン 番号 | D5: 81 | M5: 写真 番号 | N5: 覆工 スパン 番号 | Y5: Ⅳ
Y6: －
C7: 変状 番号 | D7: 1 | N7: 変状 番号
B9: 変状 部位 | C9: 対象 箇所 | D9: 覆工・坑門 | M9: 変状 部位 | N9: 対象 箇所
C11: 部位 区分 | D11: アーチ（右側） | N11: 部位 区分
B13: 変状区分 | D13: 材質劣化 | M13: 変状区分
B14: 変状種類 | D14: 鋼材腐食 | M14: 変状種類
B15: 健全性 | C15: 応急措置前 | E15: － | M15: 健全性 | N15: 応急措置前
C16: 応急措置後 | E16: Ⅱ | N16: 応急措置後
B17: 変状の発生範囲の規模 | E17: 0.05m×0.2m | M17: 変状の発生範囲の規模
B18: 前回定期点検時の状態 | E18: 同程度 | M18: 前回定期点検時の状態
B19: 調査方針 | E19: - | M19: 調査方針
B20: 対策履歴 | E20: なし | H20: 実施状況（実施日） | J20: - | M20: 対策履歴 | S20: 実施状況（実施日）
B21: メモ | D21: 鋼材露出(Ⅱb)、部分的に露出した鋼材(表面的な腐食)に防錆剤塗布 | M21: メモ
B22: 写真 番号 | C22: 覆工 スパン 番号 | M22: 写真 番号 | N22: 覆工 スパン 番号
C24: 変状 番号 | N24: 変状 番号
B26: 変状 部位 | C26: 対象 箇所 | M26: 変状 部位 | N26: 対象 箇所
C28: 部位 区分 | N28: 部位 区分
B30: 変状区分 | M30: 変状区分
B31: 変状種類 | M31: 変状種類
B32: 健全性 | C32: 応急措置前 | M32: 健全性 | N32: 応急措置前
C33: 応急措置後 | N33: 応急措置後
B34: 変状の発生範囲の規模 | M34: 変状の発生範囲の規模
B35: 前回定期点検時の状態 | M35: 前回定期点検時の状態
B36: 調査方針 | M36: 調査方針
B37: 対策履歴 | H37: 実施状況（実施日） | M37: 対策履歴 | S37: 実施状況（実施日）
B38: メモ | M38: メモ
C39: ※ 健全性（応急措置後）の判定区分Ⅱ～Ⅳについて添付すること。また、点検前に 実施された措置によりⅠと判定された箇所も添付すること。 | N39: ※ 変状の発生範囲の規模とは、対策を行う際に参考となる変状の長さや面積をいう。
N40: ※ 応急措置を実施しないで判定した変状の健全性は、健全性の応急措置後の欄に記入すること。
C41: ※ たたき落としを実施した場合は、実施後の写真を添付すること。 | N41: ※ 変状の発生範囲の規模は、面積・寸法を記載すること。
C42: ※ 附属物の取付状態に関する異常写真は別途、様式D-1-2でとりまとめること。 | N42: (ひび割れ幅のみmmとし、その他をm表記とする)
C43: ※ 変状数に準じてシートを追加すること。（１シートに１ページとすること。） | N43: ※ 構造用鋼材以外の異物に伴ううき・はく離については、メモ欄に異物の概要を記入すること。

Sheet 様式D-1-1(トンネル様式2P001) (24)
B2: ■定期点検記録様式 変状写真台帳 | Y2: Ⅰ
B3: フリガナ | D3: オゴオリ | H3: 路線名 | J3: 主要県道 山口宇部線 | M3: 定期点検業者 | P3: 応用地質株式会社 | S3: 定期点検年月日 | U3: 44431 | Y3: Ⅱ
B4: 名 称 | D4: 小郡トンネル | H4: 管理者名 | J4: 山口県防府土木建築事務所 | M4: 定期点検者名 | P4: 國村 省吾 | Y4: Ⅲ
B5: 写真 番号 | C5: 覆工 スパン 番号 | D5: 87 | M5: 写真 番号 | N5: 覆工 スパン 番号 | Y5: Ⅳ
Y6: －
C7: 変状 番号 | D7: 1 | N7: 変状 番号
B9: 変状 部位 | C9: 対象 箇所 | D9: 覆工・坑門 | M9: 変状 部位 | N9: 対象 箇所
C11: 部位 区分 | D11: 横断目地（右側） | N11: 部位 区分
B13: 変状区分 | D13: 材質劣化 | M13: 変状区分
B14: 変状種類 | D14: うき・はく離 | M14: 変状種類
B15: 健全性 | C15: 応急措置前 | E15: － | M15: 健全性 | N15: 応急措置前
C16: 応急措置後 | E16: Ⅰ | N16: 応急措置後
B17: 変状の発生範囲の規模 | E17: 0.7m×0.05m | M17: 変状の発生範囲の規模
B18: 前回定期点検時の状態 | E18: 0.7m×0.05m(Ⅱa) | M18: 前回定期点検時の状態
B19: 調査方針 | E19: - | M19: 調査方針
B20: 対策履歴 | E20: はく落防止工(FRPネット) | H20: 実施状況（実施日） | J20: - | M20: 対策履歴 | S20: 実施状況（実施日）
B21: メモ | D21: - | M21: メモ
B22: 写真 番号 | C22: 覆工 スパン 番号 | M22: 写真 番号 | N22: 覆工 スパン 番号
C24: 変状 番号 | N24: 変状 番号
B26: 変状 部位 | C26: 対象 箇所 | M26: 変状 部位 | N26: 対象 箇所
C28: 部位 区分 | N28: 部位 区分
B30: 変状区分 | M30: 変状区分
B31: 変状種類 | M31: 変状種類
B32: 健全性 | C32: 応急措置前 | M32: 健全性 | N32: 応急措置前
C33: 応急措置後 | N33: 応急措置後
B34: 変状の発生範囲の規模 | M34: 変状の発生範囲の規模
B35: 前回定期点検時の状態 | M35: 前回定期点検時の状態
B36: 調査方針 | M36: 調査方針
B37: 対策履歴 | H37: 実施状況（実施日） | M37: 対策履歴 | S37: 実施状況（実施日）
B38: メモ | M38: メモ
C39: ※ 健全性（応急措置後）の判定区分Ⅱ～Ⅳについて添付すること。また、点検前に 実施された措置によりⅠと判定された箇所も添付すること。 | N39: ※ 変状の発生範囲の規模とは、対策を行う際に参考となる変状の長さや面積をいう。
N40: ※ 応急措置を実施しないで判定した変状の健全性は、健全性の応急措置後の欄に記入すること。
C41: ※ たたき落としを実施した場合は、実施後の写真を添付すること。 | N41: ※ 変状の発生範囲の規模は、面積・寸法を記載すること。
C42: ※ 附属物の取付状態に関する異常写真は別途、様式D-1-2でとりまとめること。 | N42: (ひび割れ幅のみmmとし、その他をm表記とする)
C43: ※ 変状数に準じてシートを追加すること。（１シートに１ページとすること。） | N43: ※ 構造用鋼材以外の異物に伴ううき・はく離については、メモ欄に異物の概要を記入すること。

Sheet 様式D-1-1(トンネル様式2P001) (25)
B2: ■定期点検記録様式 変状写真台帳 | Y2: Ⅰ
B3: フリガナ | D3: オゴオリ | H3: 路線名 | J3: 主要県道 山口宇部線 | M3: 定期点検業者 | P3: 応用地質株式会社 | S3: 定期点検年月日 | U3: 44431 | Y3: Ⅱ
B4: 名 称 | D4: 小郡トンネル | H4: 管理者名 | J4: 山口県防府土木建築事務所 | M4: 定期点検者名 | P4: 國村 省吾 | Y4: Ⅲ
B5: 写真 番号 | C5: 覆工 スパン 番号 | D5: 88 | M5: 写真 番号 | N5: 覆工 スパン 番号 | Y5: Ⅳ
Y6: －
C7: 変状 番号 | D7: 1 | N7: 変状 番号
B9: 変状 部位 | C9: 対象 箇所 | D9: 覆工・坑門 | M9: 変状 部位 | N9: 対象 箇所
C11: 部位 区分 | D11: 横断目地（右側） | N11: 部位 区分
B13: 変状区分 | D13: 材質劣化 | M13: 変状区分
B14: 変状種類 | D14: うき・はく離 | M14: 変状種類
B15: 健全性 | C15: 応急措置前 | E15: － | M15: 健全性 | N15: 応急措置前
C16: 応急措置後 | E16: Ⅰ | N16: 応急措置後
B17: 変状の発生範囲の規模 | E17: 0.5m×0.05m | M17: 変状の発生範囲の規模
B18: 前回定期点検時の状態 | E18: 0.5m×0.05m(Ⅲ→Ⅰ)、叩き落とし実施 | M18: 前回定期点検時の状態
B19: 調査方針 | E19: - | M19: 調査方針
B20: 対策履歴 | E20: なし | H20: 実施状況（実施日） | J20: - | M20: 対策履歴 | S20: 実施状況（実施日）
B21: メモ | D21: 前回定期点検時叩き落とし箇所、(深さ50mm未満) | M21: メモ
B22: 写真 番号 | C22: 覆工 スパン 番号 | M22: 写真 番号 | N22: 覆工 スパン 番号
C24: 変状 番号 | N24: 変状 番号
B26: 変状 部位 | C26: 対象 箇所 | M26: 変状 部位 | N26: 対象 箇所
C28: 部位 区分 | N28: 部位 区分
B30: 変状区分 | M30: 変状区分
B31: 変状種類 | M31: 変状種類
B32: 健全性 | C32: 応急措置前 | M32: 健全性 | N32: 応急措置前
C33: 応急措置後 | N33: 応急措置後
B34: 変状の発生範囲の規模 | M34: 変状の発生範囲の規模
B35: 前回定期点検時の状態 | M35: 前回定期点検時の状態
B36: 調査方針 | M36: 調査方針
B37: 対策履歴 | H37: 実施状況（実施日） | M37: 対策履歴 | S37: 実施状況（実施日）
B38: メモ | M38: メモ
C39: ※ 健全性（応急措置後）の判定区分Ⅱ～Ⅳについて添付すること。また、点検前に 実施された措置によりⅠと判定された箇所も添付すること。 | N39: ※ 変状の発生範囲の規模とは、対策を行う際に参考となる変状の長さや面積をいう。
N40: ※ 応急措置を実施しないで判定した変状の健全性は、健全性の応急措置後の欄に記入すること。
C41: ※ たたき落としを実施した場合は、実施後の写真を添付すること。 | N41: ※ 変状の発生範囲の規模は、面積・寸法を記載すること。
C42: ※ 附属物の取付状態に関する異常写真は別途、様式D-1-2でとりまとめること。 | N42: (ひび割れ幅のみmmとし、その他をm表記とする)
C43: ※ 変状数に準じてシートを追加すること。（１シートに１ページとすること。） | N43: ※ 構造用鋼材以外の異物に伴ううき・はく離については、メモ欄に異物の概要を記入すること。

Sheet 様式D-1-1(トンネル様式2P001) (26)
B2: ■定期点検記録様式 変状写真台帳 | Y2: Ⅰ
B3: フリガナ | D3: オゴオリ | H3: 路線名 | J3: 主要県道 山口宇部線 | M3: 定期点検業者 | P3: 応用地質株式会社 | S3: 定期点検年月日 | U3: 44431 | Y3: Ⅱ
B4: 名 称 | D4: 小郡トンネル | H4: 管理者名 | J4: 山口県防府土木建築事務所 | M4: 定期点検者名 | P4: 國村 省吾 | Y4: Ⅲ
B5: 写真 番号 | C5: 覆工 スパン 番号 | D5: 89 | M5: 写真 番号 | N5: 覆工 スパン 番号 | Y5: Ⅳ
Y6: －
C7: 変状 番号 | D7: 1 | N7: 変状 番号
B9: 変状 部位 | C9: 対象 箇所 | D9: 覆工・坑門 | M9: 変状 部位 | N9: 対象 箇所
C11: 部位 区分 | D11: 横断目地（左側） | N11: 部位 区分
B13: 変状区分 | D13: 材質劣化 | M13: 変状区分
B14: 変状種類 | D14: うき・はく離 | M14: 変状種類
B15: 健全性 | C15: 応急措置前 | E15: － | M15: 健全性 | N15: 応急措置前
C16: 応急措置後 | E16: Ⅱ | N16: 応急措置後
B17: 変状の発生範囲の規模 | E17: 0.9m×0.05m | M17: 変状の発生範囲の規模
B18: 前回定期点検時の状態 | E18: 同程度 | M18: 前回定期点検時の状態
B19: 調査方針 | E19: - | M19: 調査方針
B20: 対策履歴 | E20: なし | H20: 実施状況（実施日） | J20: - | M20: 対策履歴 | S20: 実施状況（実施日）
B21: メモ | D21: 目地部の豆板(Ⅱb)、浸透性固化材塗布 | M21: メモ
B22: 写真 番号 | C22: 覆工 スパン 番号 | M22: 写真 番号 | N22: 覆工 スパン 番号
C24: 変状 番号 | N24: 変状 番号
B26: 変状 部位 | C26: 対象 箇所 | M26: 変状 部位 | N26: 対象 箇所
C28: 部位 区分 | N28: 部位 区分
B30: 変状区分 | M30: 変状区分
B31: 変状種類 | M31: 変状種類
B32: 健全性 | C32: 応急措置前 | M32: 健全性 | N32: 応急措置前
C33: 応急措置後 | N33: 応急措置後
B34: 変状の発生範囲の規模 | M34: 変状の発生範囲の規模
B35: 前回定期点検時の状態 | M35: 前回定期点検時の状態
B36: 調査方針 | M36: 調査方針
B37: 対策履歴 | H37: 実施状況（実施日） | M37: 対策履歴 | S37: 実施状況（実施日）
B38: メモ | M38: メモ
C39: ※ 健全性（応急措置後）の判定区分Ⅱ～Ⅳについて添付すること。また、点検前に 実施された措置によりⅠと判定された箇所も添付すること。 | N39: ※ 変状の発生範囲の規模とは、対策を行う際に参考となる変状の長さや面積をいう。
N40: ※ 応急措置を実施しないで判定した変状の健全性は、健全性の応急措置後の欄に記入すること。
C41: ※ たたき落としを実施した場合は、実施後の写真を添付すること。 | N41: ※ 変状の発生範囲の規模は、面積・寸法を記載すること。
C42: ※ 附属物の取付状態に関する異常写真は別途、様式D-1-2でとりまとめること。 | N42: (ひび割れ幅のみmmとし、その他をm表記とする)
C43: ※ 変状数に準じてシートを追加すること。（１シートに１ページとすること。） | N43: ※ 構造用鋼材以外の異物に伴ううき・はく離については、メモ欄に異物の概要を記入すること。

Sheet 様式D-1-1(トンネル様式2P001) (27)
B2: ■定期点検記録様式 変状写真台帳 | Y2: Ⅰ
B3: フリガナ | D3: オゴオリ | H3: 路線名 | J3: 主要県道 山口宇部線 | M3: 定期点検業者 | P3: 応用地質株式会社 | S3: 定期点検年月日 | U3: 44431 | Y3: Ⅱ
B4: 名 称 | D4: 小郡トンネル | H4: 管理者名 | J4: 山口県防府土木建築事務所 | M4: 定期点検者名 | P4: 國村 省吾 | Y4: Ⅲ
B5: 写真 番号 | C5: 覆工 スパン 番号 | D5: 94 | M5: 写真 番号 | N5: 覆工 スパン 番号 | O5: 94 | Y5: Ⅳ
Y6: －
C7: 変状 番号 | D7: 1 | N7: 変状 番号 | O7: 2
B9: 変状 部位 | C9: 対象 箇所 | D9: 覆工・坑門 | M9: 変状 部位 | N9: 対象 箇所 | O9: 覆工・坑門
C11: 部位 区分 | D11: 横断目地（右側） | N11: 部位 区分 | O11: 横断目地（天端）
B13: 変状区分 | D13: 材質劣化 | M13: 変状区分 | O13: 材質劣化
B14: 変状種類 | D14: うき・はく離 | M14: 変状種類 | O14: うき・はく離
B15: 健全性 | C15: 応急措置前 | E15: － | M15: 健全性 | N15: 応急措置前 | P15: －
C16: 応急措置後 | E16: Ⅰ | N16: 応急措置後 | P16: Ⅱ
B17: 変状の発生範囲の規模 | E17: 0.4m×0.05m | M17: 変状の発生範囲の規模 | P17: 0.3m×0.05m
B18: 前回定期点検時の状態 | E18: 0.4m×0.05m(Ⅲ→Ⅰ)、叩き落とし実施 | M18: 前回定期点検時の状態 | P18: 0.2m×0.05m(Ⅰ)
B19: 調査方針 | E19: - | M19: 調査方針 | P19: -
B20: 対策履歴 | E20: なし | H20: 実施状況（実施日） | J20: - | M20: 対策履歴 | P20: なし | S20: 実施状況（実施日） | U20: -
B21: メモ | D21: 前回定期点検時叩き落とし箇所、(深さ50mm未満) | M21: メモ | O21: 目地部の豆板(Ⅱb)、劣化進行性あり、浸透性固化材塗布
B22: 写真 番号 | C22: 覆工 スパン 番号 | M22: 写真 番号 | N22: 覆工 スパン 番号
C24: 変状 番号 | N24: 変状 番号
B26: 変状 部位 | C26: 対象 箇所 | M26: 変状 部位 | N26: 対象 箇所
C28: 部位 区分 | N28: 部位 区分
B30: 変状区分 | M30: 変状区分
B31: 変状種類 | M31: 変状種類
B32: 健全性 | C32: 応急措置前 | M32: 健全性 | N32: 応急措置前
C33: 応急措置後 | N33: 応急措置後
B34: 変状の発生範囲の規模 | M34: 変状の発生範囲の規模
B35: 前回定期点検時の状態 | M35: 前回定期点検時の状態
B36: 調査方針 | M36: 調査方針
B37: 対策履歴 | H37: 実施状況（実施日） | M37: 対策履歴 | S37: 実施状況（実施日）
B38: メモ | M38: メモ
C39: ※ 健全性（応急措置後）の判定区分Ⅱ～Ⅳについて添付すること。また、点検前に 実施された措置によりⅠと判定された箇所も添付すること。 | N39: ※ 変状の発生範囲の規模とは、対策を行う際に参考となる変状の長さや面積をいう。
N40: ※ 応急措置を実施しないで判定した変状の健全性は、健全性の応急措置後の欄に記入すること。
C41: ※ たたき落としを実施した場合は、実施後の写真を添付すること。 | N41: ※ 変状の発生範囲の規模は、面積・寸法を記載すること。
C42: ※ 附属物の取付状態に関する異常写真は別途、様式D-1-2でとりまとめること。 | N42: (ひび割れ幅のみmmとし、その他をm表記とする)
C43: ※ 変状数に準じてシートを追加すること。（１シートに１ページとすること。） | N43: ※ 構造用鋼材以外の異物に伴ううき・はく離については、メモ欄に異物の概要を記入すること。

Sheet 様式D-1-1(トンネル様式2P001) (28)
B2: ■定期点検記録様式 変状写真台帳 | Y2: Ⅰ
B3: フリガナ | D3: オゴオリ | H3: 路線名 | J3: 主要県道 山口宇部線 | M3: 定期点検業者 | P3: 応用地質株式会社 | S3: 定期点検年月日 | U3: 44431 | Y3: Ⅱ
B4: 名 称 | D4: 小郡トンネル | H4: 管理者名 | J4: 山口県防府土木建築事務所 | M4: 定期点検者名 | P4: 國村 省吾 | Y4: Ⅲ
B5: 写真 番号 | C5: 覆工 スパン 番号 | D5: 95 | M5: 写真 番号 | N5: 覆工 スパン 番号 | Y5: Ⅳ
Y6: －
C7: 変状 番号 | D7: 1 | N7: 変状 番号
B9: 変状 部位 | C9: 対象 箇所 | D9: 覆工・坑門 | M9: 変状 部位 | N9: 対象 箇所
C11: 部位 区分 | D11: 横断目地（天端） | N11: 部位 区分
B13: 変状区分 | D13: 材質劣化 | M13: 変状区分
B14: 変状種類 | D14: うき・はく離 | M14: 変状種類
B15: 健全性 | C15: 応急措置前 | E15: － | M15: 健全性 | N15: 応急措置前
C16: 応急措置後 | E16: Ⅱ | N16: 応急措置後
B17: 変状の発生範囲の規模 | E17: 0.1m×0.05m | M17: 変状の発生範囲の規模
B18: 前回定期点検時の状態 | E18: 0.1m×0.05m(Ⅰ) | M18: 前回定期点検時の状態
B19: 調査方針 | E19: - | M19: 調査方針
B20: 対策履歴 | E20: なし | H20: 実施状況（実施日） | J20: - | M20: 対策履歴 | S20: 実施状況（実施日）
B21: メモ | D21: 目地部の豆板(Ⅱb)、劣化進行性あり、浸透性固化材塗布 | M21: メモ
B22: 写真 番号 | C22: 覆工 スパン 番号 | M22: 写真 番号 | N22: 覆工 スパン 番号
C24: 変状 番号 | N24: 変状 番号
B26: 変状 部位 | C26: 対象 箇所 | M26: 変状 部位 | N26: 対象 箇所
C28: 部位 区分 | N28: 部位 区分
B30: 変状区分 | M30: 変状区分
B31: 変状種類 | M31: 変状種類
B32: 健全性 | C32: 応急措置前 | M32: 健全性 | N32: 応急措置前
C33: 応急措置後 | N33: 応急措置後
B34: 変状の発生範囲の規模 | M34: 変状の発生範囲の規模
B35: 前回定期点検時の状態 | M35: 前回定期点検時の状態
B36: 調査方針 | M36: 調査方針
B37: 対策履歴 | H37: 実施状況（実施日） | M37: 対策履歴 | S37: 実施状況（実施日）
B38: メモ | M38: メモ
C39: ※ 健全性（応急措置後）の判定区分Ⅱ～Ⅳについて添付すること。また、点検前に 実施された措置によりⅠと判定された箇所も添付すること。 | N39: ※ 変状の発生範囲の規模とは、対策を行う際に参考となる変状の長さや面積をいう。
N40: ※ 応急措置を実施しないで判定した変状の健全性は、健全性の応急措置後の欄に記入すること。
C41: ※ たたき落としを実施した場合は、実施後の写真を添付すること。 | N41: ※ 変状の発生範囲の規模は、面積・寸法を記載すること。
C42: ※ 附属物の取付状態に関する異常写真は別途、様式D-1-2でとりまとめること。 | N42: (ひび割れ幅のみmmとし、その他をm表記とする)
C43: ※ 変状数に準じてシートを追加すること。（１シートに１ページとすること。） | N43: ※ 構造用鋼材以外の異物に伴ううき・はく離については、メモ欄に異物の概要を記入すること。

Sheet 様式D-1-1(トンネル様式2P001) (29)
B2: ■定期点検記録様式 変状写真台帳 | Y2: Ⅰ
B3: フリガナ | D3: オゴオリ | H3: 路線名 | J3: 主要県道 山口宇部線 | M3: 定期点検業者 | P3: 応用地質株式会社 | S3: 定期点検年月日 | U3: 44431 | Y3: Ⅱ
B4: 名 称 | D4: 小郡トンネル | H4: 管理者名 | J4: 山口県防府土木建築事務所 | M4: 定期点検者名 | P4: 國村 省吾 | Y4: Ⅲ
B5: 写真 番号 | C5: 覆工 スパン 番号 | D5: 96 | M5: 写真 番号 | N5: 覆工 スパン 番号 | Y5: Ⅳ
Y6: －
C7: 変状 番号 | D7: 1 | N7: 変状 番号
B9: 変状 部位 | C9: 対象 箇所 | D9: 覆工・坑門 | M9: 変状 部位 | N9: 対象 箇所
C11: 部位 区分 | D11: アーチ（天端） | N11: 部位 区分
B13: 変状区分 | D13: 材質劣化 | M13: 変状区分
B14: 変状種類 | D14: ひび割れ | M14: 変状種類
B15: 健全性 | C15: 応急措置前 | E15: － | M15: 健全性 | N15: 応急措置前
C16: 応急措置後 | E16: Ⅱ | N16: 応急措置後
B17: 変状の発生範囲の規模 | E17: 1.0mm×4.8m他 | M17: 変状の発生範囲の規模
B18: 前回定期点検時の状態 | E18: 同程度 | M18: 前回定期点検時の状態
B19: 調査方針 | E19: - | M19: 調査方針
B20: 対策履歴 | E20: なし | H20: 実施状況（実施日） | J20: - | M20: 対策履歴 | S20: 実施状況（実施日）
B21: メモ | D21: 縦横断方向に複数のひび割れ(Ⅱb) | M21: メモ
B22: 写真 番号 | C22: 覆工 スパン 番号 | M22: 写真 番号 | N22: 覆工 スパン 番号
C24: 変状 番号 | N24: 変状 番号
B26: 変状 部位 | C26: 対象 箇所 | M26: 変状 部位 | N26: 対象 箇所
C28: 部位 区分 | N28: 部位 区分
B30: 変状区分 | M30: 変状区分
B31: 変状種類 | M31: 変状種類
B32: 健全性 | C32: 応急措置前 | M32: 健全性 | N32: 応急措置前
C33: 応急措置後 | N33: 応急措置後
B34: 変状の発生範囲の規模 | M34: 変状の発生範囲の規模
B35: 前回定期点検時の状態 | M35: 前回定期点検時の状態
B36: 調査方針 | M36: 調査方針
B37: 対策履歴 | H37: 実施状況（実施日） | M37: 対策履歴 | S37: 実施状況（実施日）
B38: メモ | M38: メモ
C39: ※ 健全性（応急措置後）の判定区分Ⅱ～Ⅳについて添付すること。また、点検前に 実施された措置によりⅠと判定された箇所も添付すること。 | N39: ※ 変状の発生範囲の規模とは、対策を行う際に参考となる変状の長さや面積をいう。
N40: ※ 応急措置を実施しないで判定した変状の健全性は、健全性の応急措置後の欄に記入すること。
C41: ※ たたき落としを実施した場合は、実施後の写真を添付すること。 | N41: ※ 変状の発生範囲の規模は、面積・寸法を記載すること。
C42: ※ 附属物の取付状態に関する異常写真は別途、様式D-1-2でとりまとめること。 | N42: (ひび割れ幅のみmmとし、その他をm表記とする)
C43: ※ 変状数に準じてシートを追加すること。（１シートに１ページとすること。） | N43: ※ 構造用鋼材以外の異物に伴ううき・はく離については、メモ欄に異物の概要を記入すること。

Sheet 様式D-1-1(トンネル様式2P001) (30)
B2: ■定期点検記録様式 変状写真台帳 | Y2: Ⅰ
B3: フリガナ | D3: オゴオリ | H3: 路線名 | J3: 主要県道 山口宇部線 | M3: 定期点検業者 | P3: 応用地質株式会社 | S3: 定期点検年月日 | U3: 44431 | Y3: Ⅱ
B4: 名 称 | D4: 小郡トンネル | H4: 管理者名 | J4: 山口県防府土木建築事務所 | M4: 定期点検者名 | P4: 國村 省吾 | Y4: Ⅲ
B5: 写真 番号 | C5: 覆工 スパン 番号 | D5: 97 | M5: 写真 番号 | N5: 覆工 スパン 番号 | O5: 97 | Y5: Ⅳ
Y6: －
C7: 変状 番号 | D7: 1 | N7: 変状 番号 | O7: 2
B9: 変状 部位 | C9: 対象 箇所 | D9: 覆工・坑門 | M9: 変状 部位 | N9: 対象 箇所 | O9: 覆工・坑門
C11: 部位 区分 | D11: アーチ（天端） | N11: 部位 区分 | O11: 横断目地（右側）
B13: 変状区分 | D13: 材質劣化 | M13: 変状区分 | O13: 材質劣化
B14: 変状種類 | D14: ひび割れ | M14: 変状種類 | O14: うき・はく離
B15: 健全性 | C15: 応急措置前 | E15: － | M15: 健全性 | N15: 応急措置前 | P15: －
C16: 応急措置後 | E16: Ⅱ | N16: 応急措置後 | P16: Ⅱ
B17: 変状の発生範囲の規模 | E17: 0.7mm×3.6m他 | M17: 変状の発生範囲の規模 | P17: 0.15m×0.05m
B18: 前回定期点検時の状態 | E18: 同程度 | M18: 前回定期点検時の状態 | P18: なし
B19: 調査方針 | E19: - | M19: 調査方針 | P19: -
B20: 対策履歴 | E20: なし | H20: 実施状況（実施日） | J20: - | M20: 対策履歴 | P20: なし | S20: 実施状況（実施日） | U20: -
B21: メモ | D21: 縦断方向のひび割れ(Ⅱb)、閉合箇所打音異常なし | M21: メモ | O21: 目地部のうき(Ⅱb)、浸透性固化材塗布
B22: 写真 番号 | C22: 覆工 スパン 番号 | M22: 写真 番号 | N22: 覆工 スパン 番号
C24: 変状 番号 | N24: 変状 番号
B26: 変状 部位 | C26: 対象 箇所 | M26: 変状 部位 | N26: 対象 箇所
C28: 部位 区分 | N28: 部位 区分
B30: 変状区分 | M30: 変状区分
B31: 変状種類 | M31: 変状種類
B32: 健全性 | C32: 応急措置前 | M32: 健全性 | N32: 応急措置前
C33: 応急措置後 | N33: 応急措置後
B34: 変状の発生範囲の規模 | M34: 変状の発生範囲の規模
B35: 前回定期点検時の状態 | M35: 前回定期点検時の状態
B36: 調査方針 | M36: 調査方針
B37: 対策履歴 | H37: 実施状況（実施日） | M37: 対策履歴 | S37: 実施状況（実施日）
B38: メモ | M38: メモ
C39: ※ 健全性（応急措置後）の判定区分Ⅱ～Ⅳについて添付すること。また、点検前に 実施された措置によりⅠと判定された箇所も添付すること。 | N39: ※ 変状の発生範囲の規模とは、対策を行う際に参考となる変状の長さや面積をいう。
N40: ※ 応急措置を実施しないで判定した変状の健全性は、健全性の応急措置後の欄に記入すること。
C41: ※ たたき落としを実施した場合は、実施後の写真を添付すること。 | N41: ※ 変状の発生範囲の規模は、面積・寸法を記載すること。
C42: ※ 附属物の取付状態に関する異常写真は別途、様式D-1-2でとりまとめること。 | N42: (ひび割れ幅のみmmとし、その他をm表記とする)
C43: ※ 変状数に準じてシートを追加すること。（１シートに１ページとすること。） | N43: ※ 構造用鋼材以外の異物に伴ううき・はく離については、メモ欄に異物の概要を記入すること。

Sheet 様式D-1-1(トンネル様式2P001) (31)
B2: ■定期点検記録様式 変状写真台帳 | Y2: Ⅰ
B3: フリガナ | D3: オゴオリ | H3: 路線名 | J3: 主要県道 山口宇部線 | M3: 定期点検業者 | P3: 応用地質株式会社 | S3: 定期点検年月日 | U3: 44431 | Y3: Ⅱ
B4: 名 称 | D4: 小郡トンネル | H4: 管理者名 | J4: 山口県防府土木建築事務所 | M4: 定期点検者名 | P4: 國村 省吾 | Y4: Ⅲ
B5: 写真 番号 | C5: 覆工 スパン 番号 | D5: 98 | M5: 写真 番号 | N5: 覆工 スパン 番号 | Y5: Ⅳ
Y6: －
C7: 変状 番号 | D7: 1 | N7: 変状 番号
B9: 変状 部位 | C9: 対象 箇所 | D9: 覆工・坑門 | M9: 変状 部位 | N9: 対象 箇所
C11: 部位 区分 | D11: 横断目地（天端） | N11: 部位 区分
B13: 変状区分 | D13: 材質劣化 | M13: 変状区分
B14: 変状種類 | D14: うき・はく離 | M14: 変状種類
B15: 健全性 | C15: 応急措置前 | E15: － | M15: 健全性 | N15: 応急措置前
C16: 応急措置後 | E16: Ⅱ | N16: 応急措置後
B17: 変状の発生範囲の規模 | E17: 1.2m×0.1m | M17: 変状の発生範囲の規模
B18: 前回定期点検時の状態 | E18: 1.2m×0.05m(Ⅰ) | M18: 前回定期点検時の状態
B19: 調査方針 | E19: - | M19: 調査方針
B20: 対策履歴 | E20: なし | H20: 実施状況（実施日） | J20: - | M20: 対策履歴 | S20: 実施状況（実施日）
B21: メモ | D21: 目地部の豆板(Ⅱb)、劣化進行性あり、浸透性固化材塗布 | M21: メモ
B22: 写真 番号 | C22: 覆工 スパン 番号 | M22: 写真 番号 | N22: 覆工 スパン 番号
C24: 変状 番号 | N24: 変状 番号
B26: 変状 部位 | C26: 対象 箇所 | M26: 変状 部位 | N26: 対象 箇所
C28: 部位 区分 | N28: 部位 区分
B30: 変状区分 | M30: 変状区分
B31: 変状種類 | M31: 変状種類
B32: 健全性 | C32: 応急措置前 | M32: 健全性 | N32: 応急措置前
C33: 応急措置後 | N33: 応急措置後
B34: 変状の発生範囲の規模 | M34: 変状の発生範囲の規模
B35: 前回定期点検時の状態 | M35: 前回定期点検時の状態
B36: 調査方針 | M36: 調査方針
B37: 対策履歴 | H37: 実施状況（実施日） | M37: 対策履歴 | S37: 実施状況（実施日）
B38: メモ | M38: メモ
C39: ※ 健全性（応急措置後）の判定区分Ⅱ～Ⅳについて添付すること。また、点検前に 実施された措置によりⅠと判定された箇所も添付すること。 | N39: ※ 変状の発生範囲の規模とは、対策を行う際に参考となる変状の長さや面積をいう。
N40: ※ 応急措置を実施しないで判定した変状の健全性は、健全性の応急措置後の欄に記入すること。
C41: ※ たたき落としを実施した場合は、実施後の写真を添付すること。 | N41: ※ 変状の発生範囲の規模は、面積・寸法を記載すること。
C42: ※ 附属物の取付状態に関する異常写真は別途、様式D-1-2でとりまとめること。 | N42: (ひび割れ幅のみmmとし、その他をm表記とする)
C43: ※ 変状数に準じてシートを追加すること。（１シートに１ページとすること。） | N43: ※ 構造用鋼材以外の異物に伴ううき・はく離については、メモ欄に異物の概要を記入すること。

Sheet 様式D-1-1(トンネル様式2P001) (32)
B2: ■定期点検記録様式 変状写真台帳 | Y2: Ⅰ
B3: フリガナ | D3: オゴオリ | H3: 路線名 | J3: 主要県道 山口宇部線 | M3: 定期点検業者 | P3: 応用地質株式会社 | S3: 定期点検年月日 | U3: 44431 | Y3: Ⅱ
B4: 名 称 | D4: 小郡トンネル | H4: 管理者名 | J4: 山口県防府土木建築事務所 | M4: 定期点検者名 | P4: 國村 省吾 | Y4: Ⅲ
B5: 写真 番号 | C5: 覆工 スパン 番号 | D5: 99 | M5: 写真 番号 | N5: 覆工 スパン 番号 | Y5: Ⅳ
Y6: －
C7: 変状 番号 | D7: 1 | N7: 変状 番号
B9: 変状 部位 | C9: 対象 箇所 | D9: 覆工・坑門 | M9: 変状 部位 | N9: 対象 箇所
C11: 部位 区分 | D11: アーチ（天端） | N11: 部位 区分
B13: 変状区分 | D13: 材質劣化 | M13: 変状区分
B14: 変状種類 | D14: ひび割れ | M14: 変状種類
B15: 健全性 | C15: 応急措置前 | E15: － | M15: 健全性 | N15: 応急措置前
C16: 応急措置後 | E16: Ⅱ | N16: 応急措置後
B17: 変状の発生範囲の規模 | E17: 1.2mm×10.8m | M17: 変状の発生範囲の規模
B18: 前回定期点検時の状態 | E18: 同程度 | M18: 前回定期点検時の状態
B19: 調査方針 | E19: - | M19: 調査方針
B20: 対策履歴 | E20: なし | H20: 実施状況（実施日） | J20: - | M20: 対策履歴 | S20: 実施状況（実施日）
B21: メモ | D21: 縦断方向のひび割れ(Ⅱb) | M21: メモ
B22: 写真 番号 | C22: 覆工 スパン 番号 | M22: 写真 番号 | N22: 覆工 スパン 番号
C24: 変状 番号 | N24: 変状 番号
B26: 変状 部位 | C26: 対象 箇所 | M26: 変状 部位 | N26: 対象 箇所
C28: 部位 区分 | N28: 部位 区分
B30: 変状区分 | M30: 変状区分
B31: 変状種類 | M31: 変状種類
B32: 健全性 | C32: 応急措置前 | M32: 健全性 | N32: 応急措置前
C33: 応急措置後 | N33: 応急措置後
B34: 変状の発生範囲の規模 | M34: 変状の発生範囲の規模
B35: 前回定期点検時の状態 | M35: 前回定期点検時の状態
B36: 調査方針 | M36: 調査方針
B37: 対策履歴 | H37: 実施状況（実施日） | M37: 対策履歴 | S37: 実施状況（実施日）
B38: メモ | M38: メモ
C39: ※ 健全性（応急措置後）の判定区分Ⅱ～Ⅳについて添付すること。また、点検前に 実施された措置によりⅠと判定された箇所も添付すること。 | N39: ※ 変状の発生範囲の規模とは、対策を行う際に参考となる変状の長さや面積をいう。
N40: ※ 応急措置を実施しないで判定した変状の健全性は、健全性の応急措置後の欄に記入すること。
C41: ※ たたき落としを実施した場合は、実施後の写真を添付すること。 | N41: ※ 変状の発生範囲の規模は、面積・寸法を記載すること。
C42: ※ 附属物の取付状態に関する異常写真は別途、様式D-1-2でとりまとめること。 | N42: (ひび割れ幅のみmmとし、その他をm表記とする)
C43: ※ 変状数に準じてシートを追加すること。（１シートに１ページとすること。） | N43: ※ 構造用鋼材以外の異物に伴ううき・はく離については、メモ欄に異物の概要を記入すること。

Sheet 様式D-1-1(トンネル様式2P001) (33)
B2: ■定期点検記録様式 変状写真台帳 | Y2: Ⅰ
B3: フリガナ | D3: オゴオリ | H3: 路線名 | J3: 主要県道 山口宇部線 | M3: 定期点検業者 | P3: 応用地質株式会社 | S3: 定期点検年月日 | U3: 44431 | Y3: Ⅱ
B4: 名 称 | D4: 小郡トンネル | H4: 管理者名 | J4: 山口県防府土木建築事務所 | M4: 定期点検者名 | P4: 國村 省吾 | Y4: Ⅲ
B5: 写真 番号 | C5: 覆工 スパン 番号 | D5: 100 | M5: 写真 番号 | N5: 覆工 スパン 番号 | Y5: Ⅳ
Y6: －
C7: 変状 番号 | D7: 1 | N7: 変状 番号
B9: 変状 部位 | C9: 対象 箇所 | D9: 覆工・坑門 | M9: 変状 部位 | N9: 対象 箇所
C11: 部位 区分 | D11: アーチ（右側） | N11: 部位 区分
B13: 変状区分 | D13: 材質劣化 | M13: 変状区分
B14: 変状種類 | D14: 鋼材腐食 | M14: 変状種類
B15: 健全性 | C15: 応急措置前 | E15: － | M15: 健全性 | N15: 応急措置前
C16: 応急措置後 | E16: Ⅱ | N16: 応急措置後
B17: 変状の発生範囲の規模 | E17: 0.05m×0.2m他 | M17: 変状の発生範囲の規模
B18: 前回定期点検時の状態 | E18: 同程度 | M18: 前回定期点検時の状態
B19: 調査方針 | E19: - | M19: 調査方針
B20: 対策履歴 | E20: なし | H20: 実施状況（実施日） | J20: - | M20: 対策履歴 | S20: 実施状況（実施日）
B21: メモ | D21: 3箇所の鋼材露出(Ⅱb)、部分的に露出した鋼材(表面的な腐食)に防錆剤塗布 | M21: メモ
B22: 写真 番号 | C22: 覆工 スパン 番号 | M22: 写真 番号 | N22: 覆工 スパン 番号
C24: 変状 番号 | N24: 変状 番号
B26: 変状 部位 | C26: 対象 箇所 | M26: 変状 部位 | N26: 対象 箇所
C28: 部位 区分 | N28: 部位 区分
B30: 変状区分 | M30: 変状区分
B31: 変状種類 | M31: 変状種類
B32: 健全性 | C32: 応急措置前 | M32: 健全性 | N32: 応急措置前
C33: 応急措置後 | N33: 応急措置後
B34: 変状の発生範囲の規模 | M34: 変状の発生範囲の規模
B35: 前回定期点検時の状態 | M35: 前回定期点検時の状態
B36: 調査方針 | M36: 調査方針
B37: 対策履歴 | H37: 実施状況（実施日） | M37: 対策履歴 | S37: 実施状況（実施日）
B38: メモ | M38: メモ
C39: ※ 健全性（応急措置後）の判定区分Ⅱ～Ⅳについて添付すること。また、点検前に 実施された措置によりⅠと判定された箇所も添付すること。 | N39: ※ 変状の発生範囲の規模とは、対策を行う際に参考となる変状の長さや面積をいう。
N40: ※ 応急措置を実施しないで判定した変状の健全性は、健全性の応急措置後の欄に記入すること。
C41: ※ たたき落としを実施した場合は、実施後の写真を添付すること。 | N41: ※ 変状の発生範囲の規模は、面積・寸法を記載すること。
C42: ※ 附属物の取付状態に関する異常写真は別途、様式D-1-2でとりまとめること。 | N42: (ひび割れ幅のみmmとし、その他をm表記とする)
C43: ※ 変状数に準じてシートを追加すること。（１シートに１ページとすること。） | N43: ※ 構造用鋼材以外の異物に伴ううき・はく離については、メモ欄に異物の概要を記入すること。

Sheet 様式D-1-1(トンネル様式2P001) (34)
B2: ■定期点検記録様式 変状写真台帳 | Y2: Ⅰ
B3: フリガナ | D3: オゴオリ | H3: 路線名 | J3: 主要県道 山口宇部線 | M3: 定期点検業者 | P3: 応用地質株式会社 | S3: 定期点検年月日 | U3: 44431 | Y3: Ⅱ
B4: 名 称 | D4: 小郡トンネル | H4: 管理者名 | J4: 山口県防府土木建築事務所 | M4: 定期点検者名 | P4: 國村 省吾 | Y4: Ⅲ
B5: 写真 番号 | C5: 覆工 スパン 番号 | D5: 103 | M5: 写真 番号 | N5: 覆工 スパン 番号 | Y5: Ⅳ
Y6: －
C7: 変状 番号 | D7: 1 | N7: 変状 番号
B9: 変状 部位 | C9: 対象 箇所 | D9: 覆工・坑門 | M9: 変状 部位 | N9: 対象 箇所
C11: 部位 区分 | D11: アーチ（天端） | N11: 部位 区分
B13: 変状区分 | D13: 材質劣化 | M13: 変状区分
B14: 変状種類 | D14: ひび割れ | M14: 変状種類
B15: 健全性 | C15: 応急措置前 | E15: － | M15: 健全性 | N15: 応急措置前
C16: 応急措置後 | E16: Ⅱ | N16: 応急措置後
B17: 変状の発生範囲の規模 | E17: 1.5mm×9.5m | M17: 変状の発生範囲の規模
B18: 前回定期点検時の状態 | E18: 同程度 | M18: 前回定期点検時の状態
B19: 調査方針 | E19: - | M19: 調査方針
B20: 対策履歴 | E20: なし | H20: 実施状況（実施日） | J20: - | M20: 対策履歴 | S20: 実施状況（実施日）
B21: メモ | D21: 縦断方向のひび割れ(Ⅱb) | M21: メモ
B22: 写真 番号 | C22: 覆工 スパン 番号 | M22: 写真 番号 | N22: 覆工 スパン 番号
C24: 変状 番号 | N24: 変状 番号
B26: 変状 部位 | C26: 対象 箇所 | M26: 変状 部位 | N26: 対象 箇所
C28: 部位 区分 | N28: 部位 区分
B30: 変状区分 | M30: 変状区分
B31: 変状種類 | M31: 変状種類
B32: 健全性 | C32: 応急措置前 | M32: 健全性 | N32: 応急措置前
C33: 応急措置後 | N33: 応急措置後
B34: 変状の発生範囲の規模 | M34: 変状の発生範囲の規模
B35: 前回定期点検時の状態 | M35: 前回定期点検時の状態
B36: 調査方針 | M36: 調査方針
B37: 対策履歴 | H37: 実施状況（実施日） | M37: 対策履歴 | S37: 実施状況（実施日）
B38: メモ | M38: メモ
C39: ※ 健全性（応急措置後）の判定区分Ⅱ～Ⅳについて添付すること。また、点検前に 実施された措置によりⅠと判定された箇所も添付すること。 | N39: ※ 変状の発生範囲の規模とは、対策を行う際に参考となる変状の長さや面積をいう。
N40: ※ 応急措置を実施しないで判定した変状の健全性は、健全性の応急措置後の欄に記入すること。
C41: ※ たたき落としを実施した場合は、実施後の写真を添付すること。 | N41: ※ 変状の発生範囲の規模は、面積・寸法を記載すること。
C42: ※ 附属物の取付状態に関する異常写真は別途、様式D-1-2でとりまとめること。 | N42: (ひび割れ幅のみmmとし、その他をm表記とする)
C43: ※ 変状数に準じてシートを追加すること。（１シートに１ページとすること。） | N43: ※ 構造用鋼材以外の異物に伴ううき・はく離については、メモ欄に異物の概要を記入すること。

Sheet 様式D-1-1(トンネル様式2P001) (35)
B2: ■定期点検記録様式 変状写真台帳 | Y2: Ⅰ
B3: フリガナ | D3: オゴオリ | H3: 路線名 | J3: 主要県道 山口宇部線 | M3: 定期点検業者 | P3: 応用地質株式会社 | S3: 定期点検年月日 | U3: 44431 | Y3: Ⅱ
B4: 名 称 | D4: 小郡トンネル | H4: 管理者名 | J4: 山口県防府土木建築事務所 | M4: 定期点検者名 | P4: 國村 省吾 | Y4: Ⅲ
B5: 写真 番号 | C5: 覆工 スパン 番号 | D5: 105 | M5: 写真 番号 | N5: 覆工 スパン 番号 | Y5: Ⅳ
Y6: －
C7: 変状 番号 | D7: 1 | N7: 変状 番号
B9: 変状 部位 | C9: 対象 箇所 | D9: 覆工・坑門 | M9: 変状 部位 | N9: 対象 箇所
C11: 部位 区分 | D11: アーチ（天端） | N11: 部位 区分
B13: 変状区分 | D13: 材質劣化 | M13: 変状区分
B14: 変状種類 | D14: うき・はく離 | M14: 変状種類
B15: 健全性 | C15: 応急措置前 | E15: － | M15: 健全性 | N15: 応急措置前
C16: 応急措置後 | E16: Ⅱ | N16: 応急措置後
B17: 変状の発生範囲の規模 | E17: 0.15m×0.25m | M17: 変状の発生範囲の規模
B18: 前回定期点検時の状態 | E18: なし | M18: 前回定期点検時の状態
B19: 調査方針 | E19: - | M19: 調査方針
B20: 対策履歴 | E20: なし | H20: 実施状況（実施日） | J20: - | M20: 対策履歴 | S20: 実施状況（実施日）
B21: メモ | D21: ひび割れはないが打音異常(Ⅱb)、浸透性固化材塗布 | M21: メモ
B22: 写真 番号 | C22: 覆工 スパン 番号 | M22: 写真 番号 | N22: 覆工 スパン 番号
C24: 変状 番号 | N24: 変状 番号
B26: 変状 部位 | C26: 対象 箇所 | M26: 変状 部位 | N26: 対象 箇所
C28: 部位 区分 | N28: 部位 区分
B30: 変状区分 | M30: 変状区分
B31: 変状種類 | M31: 変状種類
B32: 健全性 | C32: 応急措置前 | M32: 健全性 | N32: 応急措置前
C33: 応急措置後 | N33: 応急措置後
B34: 変状の発生範囲の規模 | M34: 変状の発生範囲の規模
B35: 前回定期点検時の状態 | M35: 前回定期点検時の状態
B36: 調査方針 | M36: 調査方針
B37: 対策履歴 | H37: 実施状況（実施日） | M37: 対策履歴 | S37: 実施状況（実施日）
B38: メモ | M38: メモ
C39: ※ 健全性（応急措置後）の判定区分Ⅱ～Ⅳについて添付すること。また、点検前に 実施された措置によりⅠと判定された箇所も添付すること。 | N39: ※ 変状の発生範囲の規模とは、対策を行う際に参考となる変状の長さや面積をいう。
N40: ※ 応急措置を実施しないで判定した変状の健全性は、健全性の応急措置後の欄に記入すること。
C41: ※ たたき落としを実施した場合は、実施後の写真を添付すること。 | N41: ※ 変状の発生範囲の規模は、面積・寸法を記載すること。
C42: ※ 附属物の取付状態に関する異常写真は別途、様式D-1-2でとりまとめること。 | N42: (ひび割れ幅のみmmとし、その他をm表記とする)
C43: ※ 変状数に準じてシートを追加すること。（１シートに１ページとすること。） | N43: ※ 構造用鋼材以外の異物に伴ううき・はく離については、メモ欄に異物の概要を記入すること。

Sheet 様式D-1-1(トンネル様式2P001) (36)
B2: ■定期点検記録様式 変状写真台帳 | Y2: Ⅰ
B3: フリガナ | D3: オゴオリ | H3: 路線名 | J3: 主要県道 山口宇部線 | M3: 定期点検業者 | P3: 応用地質株式会社 | S3: 定期点検年月日 | U3: 44431 | Y3: Ⅱ
B4: 名 称 | D4: 小郡トンネル | H4: 管理者名 | J4: 山口県防府土木建築事務所 | M4: 定期点検者名 | P4: 國村 省吾 | Y4: Ⅲ
B5: 写真 番号 | C5: 覆工 スパン 番号 | D5: 109 | M5: 写真 番号 | N5: 覆工 スパン 番号 | Y5: Ⅳ
Y6: －
C7: 変状 番号 | D7: 1 | N7: 変状 番号
B9: 変状 部位 | C9: 対象 箇所 | D9: 覆工・坑門 | M9: 変状 部位 | N9: 対象 箇所
C11: 部位 区分 | D11: アーチ（天端） | N11: 部位 区分
B13: 変状区分 | D13: 材質劣化 | M13: 変状区分
B14: 変状種類 | D14: ひび割れ | M14: 変状種類
B15: 健全性 | C15: 応急措置前 | E15: － | M15: 健全性 | N15: 応急措置前
C16: 応急措置後 | E16: Ⅱ | N16: 応急措置後
B17: 変状の発生範囲の規模 | E17: 1.5mm×10.5m | M17: 変状の発生範囲の規模
B18: 前回定期点検時の状態 | E18: 同程度 | M18: 前回定期点検時の状態
B19: 調査方針 | E19: - | M19: 調査方針
B20: 対策履歴 | E20: なし | H20: 実施状況（実施日） | J20: - | M20: 対策履歴 | S20: 実施状況（実施日）
B21: メモ | D21: 縦断方向のひび割れ(Ⅱb) | M21: メモ
B22: 写真 番号 | C22: 覆工 スパン 番号 | M22: 写真 番号 | N22: 覆工 スパン 番号
C24: 変状 番号 | N24: 変状 番号
B26: 変状 部位 | C26: 対象 箇所 | M26: 変状 部位 | N26: 対象 箇所
C28: 部位 区分 | N28: 部位 区分
B30: 変状区分 | M30: 変状区分
B31: 変状種類 | M31: 変状種類
B32: 健全性 | C32: 応急措置前 | M32: 健全性 | N32: 応急措置前
C33: 応急措置後 | N33: 応急措置後
B34: 変状の発生範囲の規模 | M34: 変状の発生範囲の規模
B35: 前回定期点検時の状態 | M35: 前回定期点検時の状態
B36: 調査方針 | M36: 調査方針
B37: 対策履歴 | H37: 実施状況（実施日） | M37: 対策履歴 | S37: 実施状況（実施日）
B38: メモ | M38: メモ
C39: ※ 健全性（応急措置後）の判定区分Ⅱ～Ⅳについて添付すること。また、点検前に 実施された措置によりⅠと判定された箇所も添付すること。 | N39: ※ 変状の発生範囲の規模とは、対策を行う際に参考となる変状の長さや面積をいう。
N40: ※ 応急措置を実施しないで判定した変状の健全性は、健全性の応急措置後の欄に記入すること。
C41: ※ たたき落としを実施した場合は、実施後の写真を添付すること。 | N41: ※ 変状の発生範囲の規模は、面積・寸法を記載すること。
C42: ※ 附属物の取付状態に関する異常写真は別途、様式D-1-2でとりまとめること。 | N42: (ひび割れ幅のみmmとし、その他をm表記とする)
C43: ※ 変状数に準じてシートを追加すること。（１シートに１ページとすること。） | N43: ※ 構造用鋼材以外の異物に伴ううき・はく離については、メモ欄に異物の概要を記入すること。

Sheet 様式D-1-1(トンネル様式2P001) (37)
B2: ■定期点検記録様式 変状写真台帳 | Y2: Ⅰ
B3: フリガナ | D3: オゴオリ | H3: 路線名 | J3: 主要県道 山口宇部線 | M3: 定期点検業者 | P3: 応用地質株式会社 | S3: 定期点検年月日 | U3: 44431 | Y3: Ⅱ
B4: 名 称 | D4: 小郡トンネル | H4: 管理者名 | J4: 山口県防府土木建築事務所 | M4: 定期点検者名 | P4: 國村 省吾 | Y4: Ⅲ
B5: 写真 番号 | C5: 覆工 スパン 番号 | D5: 110 | M5: 写真 番号 | N5: 覆工 スパン 番号 | Y5: Ⅳ
Y6: －
C7: 変状 番号 | D7: 1 | N7: 変状 番号
B9: 変状 部位 | C9: 対象 箇所 | D9: 覆工・坑門 | M9: 変状 部位 | N9: 対象 箇所
C11: 部位 区分 | D11: アーチ（天端） | N11: 部位 区分
B13: 変状区分 | D13: 材質劣化 | M13: 変状区分
B14: 変状種類 | D14: ひび割れ | M14: 変状種類
B15: 健全性 | C15: 応急措置前 | E15: － | M15: 健全性 | N15: 応急措置前
C16: 応急措置後 | E16: Ⅱ | N16: 応急措置後
B17: 変状の発生範囲の規模 | E17: 1.5mm×8.5m他 | M17: 変状の発生範囲の規模
B18: 前回定期点検時の状態 | E18: 同程度 | M18: 前回定期点検時の状態
B19: 調査方針 | E19: - | M19: 調査方針
B20: 対策履歴 | E20: なし | H20: 実施状況（実施日） | J20: - | M20: 対策履歴 | S20: 実施状況（実施日）
B21: メモ | D21: 縦断方向に2本のひび割れ(Ⅱb) | M21: メモ
B22: 写真 番号 | C22: 覆工 スパン 番号 | M22: 写真 番号 | N22: 覆工 スパン 番号
C24: 変状 番号 | N24: 変状 番号
B26: 変状 部位 | C26: 対象 箇所 | M26: 変状 部位 | N26: 対象 箇所
C28: 部位 区分 | N28: 部位 区分
B30: 変状区分 | M30: 変状区分
B31: 変状種類 | M31: 変状種類
B32: 健全性 | C32: 応急措置前 | M32: 健全性 | N32: 応急措置前
C33: 応急措置後 | N33: 応急措置後
B34: 変状の発生範囲の規模 | M34: 変状の発生範囲の規模
B35: 前回定期点検時の状態 | M35: 前回定期点検時の状態
B36: 調査方針 | M36: 調査方針
B37: 対策履歴 | H37: 実施状況（実施日） | M37: 対策履歴 | S37: 実施状況（実施日）
B38: メモ | M38: メモ
C39: ※ 健全性（応急措置後）の判定区分Ⅱ～Ⅳについて添付すること。また、点検前に 実施された措置によりⅠと判定された箇所も添付すること。 | N39: ※ 変状の発生範囲の規模とは、対策を行う際に参考となる変状の長さや面積をいう。
N40: ※ 応急措置を実施しないで判定した変状の健全性は、健全性の応急措置後の欄に記入すること。
C41: ※ たたき落としを実施した場合は、実施後の写真を添付すること。 | N41: ※ 変状の発生範囲の規模は、面積・寸法を記載すること。
C42: ※ 附属物の取付状態に関する異常写真は別途、様式D-1-2でとりまとめること。 | N42: (ひび割れ幅のみmmとし、その他をm表記とする)
C43: ※ 変状数に準じてシートを追加すること。（１シートに１ページとすること。） | N43: ※ 構造用鋼材以外の異物に伴ううき・はく離については、メモ欄に異物の概要を記入すること。

Sheet 様式D-1-1(トンネル様式2P001) (38)
B2: ■定期点検記録様式 変状写真台帳 | Y2: Ⅰ
B3: フリガナ | D3: オゴオリ | H3: 路線名 | J3: 主要県道 山口宇部線 | M3: 定期点検業者 | P3: 応用地質株式会社 | S3: 定期点検年月日 | U3: 44431 | Y3: Ⅱ
B4: 名 称 | D4: 小郡トンネル | H4: 管理者名 | J4: 山口県防府土木建築事務所 | M4: 定期点検者名 | P4: 國村 省吾 | Y4: Ⅲ
B5: 写真 番号 | C5: 覆工 スパン 番号 | D5: 113 | M5: 写真 番号 | N5: 覆工 スパン 番号 | Y5: Ⅳ
Y6: －
C7: 変状 番号 | D7: 1 | N7: 変状 番号
B9: 変状 部位 | C9: 対象 箇所 | D9: 覆工・坑門 | M9: 変状 部位 | N9: 対象 箇所
C11: 部位 区分 | D11: アーチ（天端） | N11: 部位 区分
B13: 変状区分 | D13: 材質劣化 | M13: 変状区分
B14: 変状種類 | D14: ひび割れ | M14: 変状種類
B15: 健全性 | C15: 応急措置前 | E15: － | M15: 健全性 | N15: 応急措置前
C16: 応急措置後 | E16: Ⅱ | N16: 応急措置後
B17: 変状の発生範囲の規模 | E17: 0.5mm×3.1m他 | M17: 変状の発生範囲の規模
B18: 前回定期点検時の状態 | E18: なし | M18: 前回定期点検時の状態
B19: 調査方針 | E19: - | M19: 調査方針
B20: 対策履歴 | E20: なし | H20: 実施状況（実施日） | J20: - | M20: 対策履歴 | S20: 実施状況（実施日）
B21: メモ | D21: 縦横断方向に複数のひび割れ(Ⅱb) | M21: メモ
B22: 写真 番号 | C22: 覆工 スパン 番号 | M22: 写真 番号 | N22: 覆工 スパン 番号
C24: 変状 番号 | N24: 変状 番号
B26: 変状 部位 | C26: 対象 箇所 | M26: 変状 部位 | N26: 対象 箇所
C28: 部位 区分 | N28: 部位 区分
B30: 変状区分 | M30: 変状区分
B31: 変状種類 | M31: 変状種類
B32: 健全性 | C32: 応急措置前 | M32: 健全性 | N32: 応急措置前
C33: 応急措置後 | N33: 応急措置後
B34: 変状の発生範囲の規模 | M34: 変状の発生範囲の規模
B35: 前回定期点検時の状態 | M35: 前回定期点検時の状態
B36: 調査方針 | M36: 調査方針
B37: 対策履歴 | H37: 実施状況（実施日） | M37: 対策履歴 | S37: 実施状況（実施日）
B38: メモ | M38: メモ
C39: ※ 健全性（応急措置後）の判定区分Ⅱ～Ⅳについて添付すること。また、点検前に 実施された措置によりⅠと判定された箇所も添付すること。 | N39: ※ 変状の発生範囲の規模とは、対策を行う際に参考となる変状の長さや面積をいう。
N40: ※ 応急措置を実施しないで判定した変状の健全性は、健全性の応急措置後の欄に記入すること。
C41: ※ たたき落としを実施した場合は、実施後の写真を添付すること。 | N41: ※ 変状の発生範囲の規模は、面積・寸法を記載すること。
C42: ※ 附属物の取付状態に関する異常写真は別途、様式D-1-2でとりまとめること。 | N42: (ひび割れ幅のみmmとし、その他をm表記とする)
C43: ※ 変状数に準じてシートを追加すること。（１シートに１ページとすること。） | N43: ※ 構造用鋼材以外の異物に伴ううき・はく離については、メモ欄に異物の概要を記入すること。

Sheet 様式D-1-1(トンネル様式2P001) (39)
B2: ■定期点検記録様式 変状写真台帳 | Y2: Ⅰ
B3: フリガナ | D3: オゴオリ | H3: 路線名 | J3: 主要県道 山口宇部線 | M3: 定期点検業者 | P3: 応用地質株式会社 | S3: 定期点検年月日 | U3: 44431 | Y3: Ⅱ
B4: 名 称 | D4: 小郡トンネル | H4: 管理者名 | J4: 山口県防府土木建築事務所 | M4: 定期点検者名 | P4: 國村 省吾 | Y4: Ⅲ
B5: 写真 番号 | C5: 覆工 スパン 番号 | D5: 115 | M5: 写真 番号 | N5: 覆工 スパン 番号 | Y5: Ⅳ
Y6: －
C7: 変状 番号 | D7: 1 | N7: 変状 番号
B9: 変状 部位 | C9: 対象 箇所 | D9: 覆工・坑門 | M9: 変状 部位 | N9: 対象 箇所
C11: 部位 区分 | D11: アーチ（天端） | N11: 部位 区分
B13: 変状区分 | D13: 材質劣化 | M13: 変状区分
B14: 変状種類 | D14: ひび割れ | M14: 変状種類
B15: 健全性 | C15: 応急措置前 | E15: － | M15: 健全性 | N15: 応急措置前
C16: 応急措置後 | E16: Ⅱ | N16: 応急措置後
B17: 変状の発生範囲の規模 | E17: 1.5mm×10.6m | M17: 変状の発生範囲の規模
B18: 前回定期点検時の状態 | E18: 同程度 | M18: 前回定期点検時の状態
B19: 調査方針 | E19: - | M19: 調査方針
B20: 対策履歴 | E20: なし | H20: 実施状況（実施日） | J20: - | M20: 対策履歴 | S20: 実施状況（実施日）
B21: メモ | D21: 縦断方向のひび割れ(Ⅱb) | M21: メモ
B22: 写真 番号 | C22: 覆工 スパン 番号 | M22: 写真 番号 | N22: 覆工 スパン 番号
C24: 変状 番号 | N24: 変状 番号
B26: 変状 部位 | C26: 対象 箇所 | M26: 変状 部位 | N26: 対象 箇所
C28: 部位 区分 | N28: 部位 区分
B30: 変状区分 | M30: 変状区分
B31: 変状種類 | M31: 変状種類
B32: 健全性 | C32: 応急措置前 | M32: 健全性 | N32: 応急措置前
C33: 応急措置後 | N33: 応急措置後
B34: 変状の発生範囲の規模 | M34: 変状の発生範囲の規模
B35: 前回定期点検時の状態 | M35: 前回定期点検時の状態
B36: 調査方針 | M36: 調査方針
B37: 対策履歴 | H37: 実施状況（実施日） | M37: 対策履歴 | S37: 実施状況（実施日）
B38: メモ | M38: メモ
C39: ※ 健全性（応急措置後）の判定区分Ⅱ～Ⅳについて添付すること。また、点検前に 実施された措置によりⅠと判定された箇所も添付すること。 | N39: ※ 変状の発生範囲の規模とは、対策を行う際に参考となる変状の長さや面積をいう。
N40: ※ 応急措置を実施しないで判定した変状の健全性は、健全性の応急措置後の欄に記入すること。
C41: ※ たたき落としを実施した場合は、実施後の写真を添付すること。 | N41: ※ 変状の発生範囲の規模は、面積・寸法を記載すること。
C42: ※ 附属物の取付状態に関する異常写真は別途、様式D-1-2でとりまとめること。 | N42: (ひび割れ幅のみmmとし、その他をm表記とする)
C43: ※ 変状数に準じてシートを追加すること。（１シートに１ページとすること。） | N43: ※ 構造用鋼材以外の異物に伴ううき・はく離については、メモ欄に異物の概要を記入すること。

Sheet 様式D-1-1(トンネル様式2P001) (40)
B2: ■定期点検記録様式 変状写真台帳 | Y2: Ⅰ
B3: フリガナ | D3: オゴオリ | H3: 路線名 | J3: 主要県道 山口宇部線 | M3: 定期点検業者 | P3: 応用地質株式会社 | S3: 定期点検年月日 | U3: 44431 | Y3: Ⅱ
B4: 名 称 | D4: 小郡トンネル | H4: 管理者名 | J4: 山口県防府土木建築事務所 | M4: 定期点検者名 | P4: 國村 省吾 | Y4: Ⅲ
B5: 写真 番号 | C5: 覆工 スパン 番号 | D5: 116 | M5: 写真 番号 | N5: 覆工 スパン 番号 | Y5: Ⅳ
Y6: －
C7: 変状 番号 | D7: 1 | N7: 変状 番号
B9: 変状 部位 | C9: 対象 箇所 | D9: 覆工・坑門 | M9: 変状 部位 | N9: 対象 箇所
C11: 部位 区分 | D11: アーチ（天端） | N11: 部位 区分
B13: 変状区分 | D13: 材質劣化 | M13: 変状区分
B14: 変状種類 | D14: ひび割れ | M14: 変状種類
B15: 健全性 | C15: 応急措置前 | E15: － | M15: 健全性 | N15: 応急措置前
C16: 応急措置後 | E16: Ⅱ | N16: 応急措置後
B17: 変状の発生範囲の規模 | E17: 1.2mm×6.6m他 | M17: 変状の発生範囲の規模
B18: 前回定期点検時の状態 | E18: 同程度 | M18: 前回定期点検時の状態
B19: 調査方針 | E19: - | M19: 調査方針
B20: 対策履歴 | E20: なし | H20: 実施状況（実施日） | J20: - | M20: 対策履歴 | S20: 実施状況（実施日）
B21: メモ | D21: 縦横断方向に複数のひび割れ(Ⅱb) | M21: メモ
B22: 写真 番号 | C22: 覆工 スパン 番号 | M22: 写真 番号 | N22: 覆工 スパン 番号
C24: 変状 番号 | N24: 変状 番号
B26: 変状 部位 | C26: 対象 箇所 | M26: 変状 部位 | N26: 対象 箇所
C28: 部位 区分 | N28: 部位 区分
B30: 変状区分 | M30: 変状区分
B31: 変状種類 | M31: 変状種類
B32: 健全性 | C32: 応急措置前 | M32: 健全性 | N32: 応急措置前
C33: 応急措置後 | N33: 応急措置後
B34: 変状の発生範囲の規模 | M34: 変状の発生範囲の規模
B35: 前回定期点検時の状態 | M35: 前回定期点検時の状態
B36: 調査方針 | M36: 調査方針
B37: 対策履歴 | H37: 実施状況（実施日） | M37: 対策履歴 | S37: 実施状況（実施日）
B38: メモ | M38: メモ
C39: ※ 健全性（応急措置後）の判定区分Ⅱ～Ⅳについて添付すること。また、点検前に 実施された措置によりⅠと判定された箇所も添付すること。 | N39: ※ 変状の発生範囲の規模とは、対策を行う際に参考となる変状の長さや面積をいう。
N40: ※ 応急措置を実施しないで判定した変状の健全性は、健全性の応急措置後の欄に記入すること。
C41: ※ たたき落としを実施した場合は、実施後の写真を添付すること。 | N41: ※ 変状の発生範囲の規模は、面積・寸法を記載すること。
C42: ※ 附属物の取付状態に関する異常写真は別途、様式D-1-2でとりまとめること。 | N42: (ひび割れ幅のみmmとし、その他をm表記とする)
C43: ※ 変状数に準じてシートを追加すること。（１シートに１ページとすること。） | N43: ※ 構造用鋼材以外の異物に伴ううき・はく離については、メモ欄に異物の概要を記入すること。

Sheet 様式D-1-1(トンネル様式2P001) (41)
B2: ■定期点検記録様式 変状写真台帳 | Y2: Ⅰ
B3: フリガナ | D3: オゴオリ | H3: 路線名 | J3: 主要県道 山口宇部線 | M3: 定期点検業者 | P3: 応用地質株式会社 | S3: 定期点検年月日 | U3: 44431 | Y3: Ⅱ
B4: 名 称 | D4: 小郡トンネル | H4: 管理者名 | J4: 山口県防府土木建築事務所 | M4: 定期点検者名 | P4: 國村 省吾 | Y4: Ⅲ
B5: 写真 番号 | C5: 覆工 スパン 番号 | D5: 118 | M5: 写真 番号 | N5: 覆工 スパン 番号 | Y5: Ⅳ
Y6: －
C7: 変状 番号 | D7: 1 | N7: 変状 番号
B9: 変状 部位 | C9: 対象 箇所 | D9: 覆工・坑門 | M9: 変状 部位 | N9: 対象 箇所
C11: 部位 区分 | D11: アーチ（天端） | N11: 部位 区分
B13: 変状区分 | D13: 材質劣化 | M13: 変状区分
B14: 変状種類 | D14: ひび割れ | M14: 変状種類
B15: 健全性 | C15: 応急措置前 | E15: － | M15: 健全性 | N15: 応急措置前
C16: 応急措置後 | E16: Ⅱ | N16: 応急措置後
B17: 変状の発生範囲の規模 | E17: 1.5mm×10.6m | M17: 変状の発生範囲の規模
B18: 前回定期点検時の状態 | E18: 同程度 | M18: 前回定期点検時の状態
B19: 調査方針 | E19: - | M19: 調査方針
B20: 対策履歴 | E20: なし | H20: 実施状況（実施日） | J20: - | M20: 対策履歴 | S20: 実施状況（実施日）
B21: メモ | D21: 縦断方向のひび割れ(Ⅱb) | M21: メモ
B22: 写真 番号 | C22: 覆工 スパン 番号 | M22: 写真 番号 | N22: 覆工 スパン 番号
C24: 変状 番号 | N24: 変状 番号
B26: 変状 部位 | C26: 対象 箇所 | M26: 変状 部位 | N26: 対象 箇所
C28: 部位 区分 | N28: 部位 区分
B30: 変状区分 | M30: 変状区分
B31: 変状種類 | M31: 変状種類
B32: 健全性 | C32: 応急措置前 | M32: 健全性 | N32: 応急措置前
C33: 応急措置後 | N33: 応急措置後
B34: 変状の発生範囲の規模 | M34: 変状の発生範囲の規模
B35: 前回定期点検時の状態 | M35: 前回定期点検時の状態
B36: 調査方針 | M36: 調査方針
B37: 対策履歴 | H37: 実施状況（実施日） | M37: 対策履歴 | S37: 実施状況（実施日）
B38: メモ | M38: メモ
C39: ※ 健全性（応急措置後）の判定区分Ⅱ～Ⅳについて添付すること。また、点検前に 実施された措置によりⅠと判定された箇所も添付すること。 | N39: ※ 変状の発生範囲の規模とは、対策を行う際に参考となる変状の長さや面積をいう。
N40: ※ 応急措置を実施しないで判定した変状の健全性は、健全性の応急措置後の欄に記入すること。
C41: ※ たたき落としを実施した場合は、実施後の写真を添付すること。 | N41: ※ 変状の発生範囲の規模は、面積・寸法を記載すること。
C42: ※ 附属物の取付状態に関する異常写真は別途、様式D-1-2でとりまとめること。 | N42: (ひび割れ幅のみmmとし、その他をm表記とする)
C43: ※ 変状数に準じてシートを追加すること。（１シートに１ページとすること。） | N43: ※ 構造用鋼材以外の異物に伴ううき・はく離については、メモ欄に異物の概要を記入すること。

Sheet 様式D-1-1(トンネル様式2P001) (42)
B2: ■定期点検記録様式 変状写真台帳 | Y2: Ⅰ
B3: フリガナ | D3: オゴオリ | H3: 路線名 | J3: 主要県道 山口宇部線 | M3: 定期点検業者 | P3: 応用地質株式会社 | S3: 定期点検年月日 | U3: 44431 | Y3: Ⅱ
B4: 名 称 | D4: 小郡トンネル | H4: 管理者名 | J4: 山口県防府土木建築事務所 | M4: 定期点検者名 | P4: 國村 省吾 | Y4: Ⅲ
B5: 写真 番号 | C5: 覆工 スパン 番号 | D5: 119 | M5: 写真 番号 | N5: 覆工 スパン 番号 | O5: 119 | Y5: Ⅳ
Y6: －
C7: 変状 番号 | D7: 1 | N7: 変状 番号 | O7: 2
B9: 変状 部位 | C9: 対象 箇所 | D9: 覆工・坑門 | M9: 変状 部位 | N9: 対象 箇所 | O9: 覆工・坑門
C11: 部位 区分 | D11: アーチ（天端） | N11: 部位 区分 | O11: アーチ（右側）
B13: 変状区分 | D13: 材質劣化 | M13: 変状区分 | O13: 材質劣化
B14: 変状種類 | D14: ひび割れ | M14: 変状種類 | O14: 鋼材腐食
B15: 健全性 | C15: 応急措置前 | E15: － | M15: 健全性 | N15: 応急措置前 | P15: －
C16: 応急措置後 | E16: Ⅱ | N16: 応急措置後 | P16: Ⅱ
B17: 変状の発生範囲の規模 | E17: 1.3mm×10.9m | M17: 変状の発生範囲の規模 | P17: 0.05m×0.2m
B18: 前回定期点検時の状態 | E18: 同程度 | M18: 前回定期点検時の状態 | P18: 同程度
B19: 調査方針 | E19: - | M19: 調査方針 | P19: -
B20: 対策履歴 | E20: なし | H20: 実施状況（実施日） | J20: - | M20: 対策履歴 | P20: なし | S20: 実施状況（実施日） | U20: -
B21: メモ | D21: 縦断方向のひび割れ(Ⅱb) | M21: メモ | O21: 鋼材露出(Ⅱb)、部分的に露出した鋼材(表面的な腐食)に防錆剤塗布
B22: 写真 番号 | C22: 覆工 スパン 番号 | M22: 写真 番号 | N22: 覆工 スパン 番号
C24: 変状 番号 | N24: 変状 番号
B26: 変状 部位 | C26: 対象 箇所 | M26: 変状 部位 | N26: 対象 箇所
C28: 部位 区分 | N28: 部位 区分
B30: 変状区分 | M30: 変状区分
B31: 変状種類 | M31: 変状種類
B32: 健全性 | C32: 応急措置前 | M32: 健全性 | N32: 応急措置前
C33: 応急措置後 | N33: 応急措置後
B34: 変状の発生範囲の規模 | M34: 変状の発生範囲の規模
B35: 前回定期点検時の状態 | M35: 前回定期点検時の状態
B36: 調査方針 | M36: 調査方針
B37: 対策履歴 | H37: 実施状況（実施日） | M37: 対策履歴 | S37: 実施状況（実施日）
B38: メモ | M38: メモ
C39: ※ 健全性（応急措置後）の判定区分Ⅱ～Ⅳについて添付すること。また、点検前に 実施された措置によりⅠと判定された箇所も添付すること。 | N39: ※ 変状の発生範囲の規模とは、対策を行う際に参考となる変状の長さや面積をいう。
N40: ※ 応急措置を実施しないで判定した変状の健全性は、健全性の応急措置後の欄に記入すること。
C41: ※ たたき落としを実施した場合は、実施後の写真を添付すること。 | N41: ※ 変状の発生範囲の規模は、面積・寸法を記載すること。
C42: ※ 附属物の取付状態に関する異常写真は別途、様式D-1-2でとりまとめること。 | N42: (ひび割れ幅のみmmとし、その他をm表記とする)
C43: ※ 変状数に準じてシートを追加すること。（１シートに１ページとすること。） | N43: ※ 構造用鋼材以外の異物に伴ううき・はく離については、メモ欄に異物の概要を記入すること。

Sheet 様式D-1-1(トンネル様式2P001) (43)
B2: ■定期点検記録様式 変状写真台帳 | Y2: Ⅰ
B3: フリガナ | D3: オゴオリ | H3: 路線名 | J3: 主要県道 山口宇部線 | M3: 定期点検業者 | P3: 応用地質株式会社 | S3: 定期点検年月日 | U3: 44431 | Y3: Ⅱ
B4: 名 称 | D4: 小郡トンネル | H4: 管理者名 | J4: 山口県防府土木建築事務所 | M4: 定期点検者名 | P4: 國村 省吾 | Y4: Ⅲ
B5: 写真 番号 | C5: 覆工 スパン 番号 | D5: 120 | M5: 写真 番号 | N5: 覆工 スパン 番号 | Y5: Ⅳ
Y6: －
C7: 変状 番号 | D7: 1 | N7: 変状 番号
B9: 変状 部位 | C9: 対象 箇所 | D9: 覆工・坑門 | M9: 変状 部位 | N9: 対象 箇所
C11: 部位 区分 | D11: アーチ（天端） | N11: 部位 区分
B13: 変状区分 | D13: 材質劣化 | M13: 変状区分
B14: 変状種類 | D14: ひび割れ | M14: 変状種類
B15: 健全性 | C15: 応急措置前 | E15: － | M15: 健全性 | N15: 応急措置前
C16: 応急措置後 | E16: Ⅱ | N16: 応急措置後
B17: 変状の発生範囲の規模 | E17: 1.2mm×10.6m | M17: 変状の発生範囲の規模
B18: 前回定期点検時の状態 | E18: 同程度 | M18: 前回定期点検時の状態
B19: 調査方針 | E19: - | M19: 調査方針
B20: 対策履歴 | E20: なし | H20: 実施状況（実施日） | J20: - | M20: 対策履歴 | S20: 実施状況（実施日）
B21: メモ | D21: 縦断方向のひび割れ(Ⅱb) | M21: メモ
B22: 写真 番号 | C22: 覆工 スパン 番号 | M22: 写真 番号 | N22: 覆工 スパン 番号
C24: 変状 番号 | N24: 変状 番号
B26: 変状 部位 | C26: 対象 箇所 | M26: 変状 部位 | N26: 対象 箇所
C28: 部位 区分 | N28: 部位 区分
B30: 変状区分 | M30: 変状区分
B31: 変状種類 | M31: 変状種類
B32: 健全性 | C32: 応急措置前 | M32: 健全性 | N32: 応急措置前
C33: 応急措置後 | N33: 応急措置後
B34: 変状の発生範囲の規模 | M34: 変状の発生範囲の規模
B35: 前回定期点検時の状態 | M35: 前回定期点検時の状態
B36: 調査方針 | M36: 調査方針
B37: 対策履歴 | H37: 実施状況（実施日） | M37: 対策履歴 | S37: 実施状況（実施日）
B38: メモ | M38: メモ
C39: ※ 健全性（応急措置後）の判定区分Ⅱ～Ⅳについて添付すること。また、点検前に 実施された措置によりⅠと判定された箇所も添付すること。 | N39: ※ 変状の発生範囲の規模とは、対策を行う際に参考となる変状の長さや面積をいう。
N40: ※ 応急措置を実施しないで判定した変状の健全性は、健全性の応急措置後の欄に記入すること。
C41: ※ たたき落としを実施した場合は、実施後の写真を添付すること。 | N41: ※ 変状の発生範囲の規模は、面積・寸法を記載すること。
C42: ※ 附属物の取付状態に関する異常写真は別途、様式D-1-2でとりまとめること。 | N42: (ひび割れ幅のみmmとし、その他をm表記とする)
C43: ※ 変状数に準じてシートを追加すること。（１シートに１ページとすること。） | N43: ※ 構造用鋼材以外の異物に伴ううき・はく離については、メモ欄に異物の概要を記入すること。

Sheet 様式D-1-1(トンネル様式2P001) (44)
B2: ■定期点検記録様式 変状写真台帳 | Y2: Ⅰ
B3: フリガナ | D3: オゴオリ | H3: 路線名 | J3: 主要県道 山口宇部線 | M3: 定期点検業者 | P3: 応用地質株式会社 | S3: 定期点検年月日 | U3: 44431 | Y3: Ⅱ
B4: 名 称 | D4: 小郡トンネル | H4: 管理者名 | J4: 山口県防府土木建築事務所 | M4: 定期点検者名 | P4: 國村 省吾 | Y4: Ⅲ
B5: 写真 番号 | C5: 覆工 スパン 番号 | D5: 122 | M5: 写真 番号 | N5: 覆工 スパン 番号 | Y5: Ⅳ
Y6: －
C7: 変状 番号 | D7: 1 | N7: 変状 番号
B9: 変状 部位 | C9: 対象 箇所 | D9: 覆工・坑門 | M9: 変状 部位 | N9: 対象 箇所
C11: 部位 区分 | D11: アーチ（天端） | N11: 部位 区分
B13: 変状区分 | D13: 材質劣化 | M13: 変状区分
B14: 変状種類 | D14: ひび割れ | M14: 変状種類
B15: 健全性 | C15: 応急措置前 | E15: － | M15: 健全性 | N15: 応急措置前
C16: 応急措置後 | E16: Ⅱ | N16: 応急措置後
B17: 変状の発生範囲の規模 | E17: 1.5mm×10.6m | M17: 変状の発生範囲の規模
B18: 前回定期点検時の状態 | E18: 同程度 | M18: 前回定期点検時の状態
B19: 調査方針 | E19: - | M19: 調査方針
B20: 対策履歴 | E20: なし | H20: 実施状況（実施日） | J20: - | M20: 対策履歴 | S20: 実施状況（実施日）
B21: メモ | D21: 縦断方向のひび割れ(Ⅱb) | M21: メモ
B22: 写真 番号 | C22: 覆工 スパン 番号 | M22: 写真 番号 | N22: 覆工 スパン 番号
C24: 変状 番号 | N24: 変状 番号
B26: 変状 部位 | C26: 対象 箇所 | M26: 変状 部位 | N26: 対象 箇所
C28: 部位 区分 | N28: 部位 区分
B30: 変状区分 | M30: 変状区分
B31: 変状種類 | M31: 変状種類
B32: 健全性 | C32: 応急措置前 | M32: 健全性 | N32: 応急措置前
C33: 応急措置後 | N33: 応急措置後
B34: 変状の発生範囲の規模 | M34: 変状の発生範囲の規模
B35: 前回定期点検時の状態 | M35: 前回定期点検時の状態
B36: 調査方針 | M36: 調査方針
B37: 対策履歴 | H37: 実施状況（実施日） | M37: 対策履歴 | S37: 実施状況（実施日）
B38: メモ | M38: メモ
C39: ※ 健全性（応急措置後）の判定区分Ⅱ～Ⅳについて添付すること。また、点検前に 実施された措置によりⅠと判定された箇所も添付すること。 | N39: ※ 変状の発生範囲の規模とは、対策を行う際に参考となる変状の長さや面積をいう。
N40: ※ 応急措置を実施しないで判定した変状の健全性は、健全性の応急措置後の欄に記入すること。
C41: ※ たたき落としを実施した場合は、実施後の写真を添付すること。 | N41: ※ 変状の発生範囲の規模は、面積・寸法を記載すること。
C42: ※ 附属物の取付状態に関する異常写真は別途、様式D-1-2でとりまとめること。 | N42: (ひび割れ幅のみmmとし、その他をm表記とする)
C43: ※ 変状数に準じてシートを追加すること。（１シートに１ページとすること。） | N43: ※ 構造用鋼材以外の異物に伴ううき・はく離については、メモ欄に異物の概要を記入すること。

Sheet 様式D-1-1(トンネル様式2P001) (45)
B2: ■定期点検記録様式 変状写真台帳 | Y2: Ⅰ
B3: フリガナ | D3: オゴオリ | H3: 路線名 | J3: 主要県道 山口宇部線 | M3: 定期点検業者 | P3: 応用地質株式会社 | S3: 定期点検年月日 | U3: 44431 | Y3: Ⅱ
B4: 名 称 | D4: 小郡トンネル | H4: 管理者名 | J4: 山口県防府土木建築事務所 | M4: 定期点検者名 | P4: 國村 省吾 | Y4: Ⅲ
B5: 写真 番号 | C5: 覆工 スパン 番号 | D5: 124 | M5: 写真 番号 | N5: 覆工 スパン 番号 | Y5: Ⅳ
Y6: －
C7: 変状 番号 | D7: 1 | N7: 変状 番号
B9: 変状 部位 | C9: 対象 箇所 | D9: 覆工・坑門 | M9: 変状 部位 | N9: 対象 箇所
C11: 部位 区分 | D11: アーチ（天端） | N11: 部位 区分
B13: 変状区分 | D13: 材質劣化 | M13: 変状区分
B14: 変状種類 | D14: ひび割れ | M14: 変状種類
B15: 健全性 | C15: 応急措置前 | E15: － | M15: 健全性 | N15: 応急措置前
C16: 応急措置後 | E16: Ⅱ | N16: 応急措置後
B17: 変状の発生範囲の規模 | E17: 1.2mm×10.6m | M17: 変状の発生範囲の規模
B18: 前回定期点検時の状態 | E18: 同程度 | M18: 前回定期点検時の状態
B19: 調査方針 | E19: - | M19: 調査方針
B20: 対策履歴 | E20: なし | H20: 実施状況（実施日） | J20: - | M20: 対策履歴 | S20: 実施状況（実施日）
B21: メモ | D21: 縦断方向のひび割れ(Ⅱb) | M21: メモ
B22: 写真 番号 | C22: 覆工 スパン 番号 | M22: 写真 番号 | N22: 覆工 スパン 番号
C24: 変状 番号 | N24: 変状 番号
B26: 変状 部位 | C26: 対象 箇所 | M26: 変状 部位 | N26: 対象 箇所
C28: 部位 区分 | N28: 部位 区分
B30: 変状区分 | M30: 変状区分
B31: 変状種類 | M31: 変状種類
B32: 健全性 | C32: 応急措置前 | M32: 健全性 | N32: 応急措置前
C33: 応急措置後 | N33: 応急措置後
B34: 変状の発生範囲の規模 | M34: 変状の発生範囲の規模
B35: 前回定期点検時の状態 | M35: 前回定期点検時の状態
B36: 調査方針 | M36: 調査方針
B37: 対策履歴 | H37: 実施状況（実施日） | M37: 対策履歴 | S37: 実施状況（実施日）
B38: メモ | M38: メモ
C39: ※ 健全性（応急措置後）の判定区分Ⅱ～Ⅳについて添付すること。また、点検前に 実施された措置によりⅠと判定された箇所も添付すること。 | N39: ※ 変状の発生範囲の規模とは、対策を行う際に参考となる変状の長さや面積をいう。
N40: ※ 応急措置を実施しないで判定した変状の健全性は、健全性の応急措置後の欄に記入すること。
C41: ※ たたき落としを実施した場合は、実施後の写真を添付すること。 | N41: ※ 変状の発生範囲の規模は、面積・寸法を記載すること。
C42: ※ 附属物の取付状態に関する異常写真は別途、様式D-1-2でとりまとめること。 | N42: (ひび割れ幅のみmmとし、その他をm表記とする)
C43: ※ 変状数に準じてシートを追加すること。（１シートに１ページとすること。） | N43: ※ 構造用鋼材以外の異物に伴ううき・はく離については、メモ欄に異物の概要を記入すること。

Sheet 様式D-1-1(トンネル様式2P001) (46)
B2: ■定期点検記録様式 変状写真台帳 | Y2: Ⅰ
B3: フリガナ | D3: オゴオリ | H3: 路線名 | J3: 主要県道 山口宇部線 | M3: 定期点検業者 | P3: 応用地質株式会社 | S3: 定期点検年月日 | U3: 44431 | Y3: Ⅱ
B4: 名 称 | D4: 小郡トンネル | H4: 管理者名 | J4: 山口県防府土木建築事務所 | M4: 定期点検者名 | P4: 國村 省吾 | Y4: Ⅲ
B5: 写真 番号 | C5: 覆工 スパン 番号 | D5: 125 | M5: 写真 番号 | N5: 覆工 スパン 番号 | Y5: Ⅳ
Y6: －
C7: 変状 番号 | D7: 1 | N7: 変状 番号
B9: 変状 部位 | C9: 対象 箇所 | D9: 覆工・坑門 | M9: 変状 部位 | N9: 対象 箇所
C11: 部位 区分 | D11: アーチ（天端） | N11: 部位 区分
B13: 変状区分 | D13: 材質劣化 | M13: 変状区分
B14: 変状種類 | D14: ひび割れ | M14: 変状種類
B15: 健全性 | C15: 応急措置前 | E15: － | M15: 健全性 | N15: 応急措置前
C16: 応急措置後 | E16: Ⅱ | N16: 応急措置後
B17: 変状の発生範囲の規模 | E17: 1.7mm×10.6m | M17: 変状の発生範囲の規模
B18: 前回定期点検時の状態 | E18: 同程度 | M18: 前回定期点検時の状態
B19: 調査方針 | E19: - | M19: 調査方針
B20: 対策履歴 | E20: なし | H20: 実施状況（実施日） | J20: - | M20: 対策履歴 | S20: 実施状況（実施日）
B21: メモ | D21: 縦断方向のひび割れ(Ⅱb) | M21: メモ
B22: 写真 番号 | C22: 覆工 スパン 番号 | M22: 写真 番号 | N22: 覆工 スパン 番号
C24: 変状 番号 | N24: 変状 番号
B26: 変状 部位 | C26: 対象 箇所 | M26: 変状 部位 | N26: 対象 箇所
C28: 部位 区分 | N28: 部位 区分
B30: 変状区分 | M30: 変状区分
B31: 変状種類 | M31: 変状種類
B32: 健全性 | C32: 応急措置前 | M32: 健全性 | N32: 応急措置前
C33: 応急措置後 | N33: 応急措置後
B34: 変状の発生範囲の規模 | M34: 変状の発生範囲の規模
B35: 前回定期点検時の状態 | M35: 前回定期点検時の状態
B36: 調査方針 | M36: 調査方針
B37: 対策履歴 | H37: 実施状況（実施日） | M37: 対策履歴 | S37: 実施状況（実施日）
B38: メモ | M38: メモ
C39: ※ 健全性（応急措置後）の判定区分Ⅱ～Ⅳについて添付すること。また、点検前に 実施された措置によりⅠと判定された箇所も添付すること。 | N39: ※ 変状の発生範囲の規模とは、対策を行う際に参考となる変状の長さや面積をいう。
N40: ※ 応急措置を実施しないで判定した変状の健全性は、健全性の応急措置後の欄に記入すること。
C41: ※ たたき落としを実施した場合は、実施後の写真を添付すること。 | N41: ※ 変状の発生範囲の規模は、面積・寸法を記載すること。
C42: ※ 附属物の取付状態に関する異常写真は別途、様式D-1-2でとりまとめること。 | N42: (ひび割れ幅のみmmとし、その他をm表記とする)
C43: ※ 変状数に準じてシートを追加すること。（１シートに１ページとすること。） | N43: ※ 構造用鋼材以外の異物に伴ううき・はく離については、メモ欄に異物の概要を記入すること。

Sheet 様式D-1-1(トンネル様式2P001) (47)
B2: ■定期点検記録様式 変状写真台帳 | Y2: Ⅰ
B3: フリガナ | D3: オゴオリ | H3: 路線名 | J3: 主要県道 山口宇部線 | M3: 定期点検業者 | P3: 応用地質株式会社 | S3: 定期点検年月日 | U3: 44431 | Y3: Ⅱ
B4: 名 称 | D4: 小郡トンネル | H4: 管理者名 | J4: 山口県防府土木建築事務所 | M4: 定期点検者名 | P4: 國村 省吾 | Y4: Ⅲ
B5: 写真 番号 | C5: 覆工 スパン 番号 | D5: 126 | M5: 写真 番号 | N5: 覆工 スパン 番号 | Y5: Ⅳ
Y6: －
C7: 変状 番号 | D7: 1 | N7: 変状 番号
B9: 変状 部位 | C9: 対象 箇所 | D9: 覆工・坑門 | M9: 変状 部位 | N9: 対象 箇所
C11: 部位 区分 | D11: アーチ（天端） | N11: 部位 区分
B13: 変状区分 | D13: 材質劣化 | M13: 変状区分
B14: 変状種類 | D14: ひび割れ | M14: 変状種類
B15: 健全性 | C15: 応急措置前 | E15: － | M15: 健全性 | N15: 応急措置前
C16: 応急措置後 | E16: Ⅱ | N16: 応急措置後
B17: 変状の発生範囲の規模 | E17: 1.5mm×10.6m | M17: 変状の発生範囲の規模
B18: 前回定期点検時の状態 | E18: 同程度 | M18: 前回定期点検時の状態
B19: 調査方針 | E19: - | M19: 調査方針
B20: 対策履歴 | E20: なし | H20: 実施状況（実施日） | J20: - | M20: 対策履歴 | S20: 実施状況（実施日）
B21: メモ | D21: 縦断方向のひび割れ(Ⅱb) | M21: メモ
B22: 写真 番号 | C22: 覆工 スパン 番号 | M22: 写真 番号 | N22: 覆工 スパン 番号
C24: 変状 番号 | N24: 変状 番号
B26: 変状 部位 | C26: 対象 箇所 | M26: 変状 部位 | N26: 対象 箇所
C28: 部位 区分 | N28: 部位 区分
B30: 変状区分 | M30: 変状区分
B31: 変状種類 | M31: 変状種類
B32: 健全性 | C32: 応急措置前 | M32: 健全性 | N32: 応急措置前
C33: 応急措置後 | N33: 応急措置後
B34: 変状の発生範囲の規模 | M34: 変状の発生範囲の規模
B35: 前回定期点検時の状態 | M35: 前回定期点検時の状態
B36: 調査方針 | M36: 調査方針
B37: 対策履歴 | H37: 実施状況（実施日） | M37: 対策履歴 | S37: 実施状況（実施日）
B38: メモ | M38: メモ
C39: ※ 健全性（応急措置後）の判定区分Ⅱ～Ⅳについて添付すること。また、点検前に 実施された措置によりⅠと判定された箇所も添付すること。 | N39: ※ 変状の発生範囲の規模とは、対策を行う際に参考となる変状の長さや面積をいう。
N40: ※ 応急措置を実施しないで判定した変状の健全性は、健全性の応急措置後の欄に記入すること。
C41: ※ たたき落としを実施した場合は、実施後の写真を添付すること。 | N41: ※ 変状の発生範囲の規模は、面積・寸法を記載すること。
C42: ※ 附属物の取付状態に関する異常写真は別途、様式D-1-2でとりまとめること。 | N42: (ひび割れ幅のみmmとし、その他をm表記とする)
C43: ※ 変状数に準じてシートを追加すること。（１シートに１ページとすること。） | N43: ※ 構造用鋼材以外の異物に伴ううき・はく離については、メモ欄に異物の概要を記入すること。

Sheet 様式D-1-1(トンネル様式2P001) (48)
B2: ■定期点検記録様式 変状写真台帳 | Y2: Ⅰ
B3: フリガナ | D3: オゴオリ | H3: 路線名 | J3: 主要県道 山口宇部線 | M3: 定期点検業者 | P3: 応用地質株式会社 | S3: 定期点検年月日 | U3: 44431 | Y3: Ⅱ
B4: 名 称 | D4: 小郡トンネル | H4: 管理者名 | J4: 山口県防府土木建築事務所 | M4: 定期点検者名 | P4: 國村 省吾 | Y4: Ⅲ
B5: 写真 番号 | C5: 覆工 スパン 番号 | D5: 128 | M5: 写真 番号 | N5: 覆工 スパン 番号 | Y5: Ⅳ
Y6: －
C7: 変状 番号 | D7: 1 | N7: 変状 番号
B9: 変状 部位 | C9: 対象 箇所 | D9: 覆工・坑門 | M9: 変状 部位 | N9: 対象 箇所
C11: 部位 区分 | D11: アーチ（天端） | N11: 部位 区分
B13: 変状区分 | D13: 材質劣化 | M13: 変状区分
B14: 変状種類 | D14: ひび割れ | M14: 変状種類
B15: 健全性 | C15: 応急措置前 | E15: － | M15: 健全性 | N15: 応急措置前
C16: 応急措置後 | E16: Ⅱ | N16: 応急措置後
B17: 変状の発生範囲の規模 | E17: 1.5mm×10.4m | M17: 変状の発生範囲の規模
B18: 前回定期点検時の状態 | E18: 同程度 | M18: 前回定期点検時の状態
B19: 調査方針 | E19: - | M19: 調査方針
B20: 対策履歴 | E20: なし | H20: 実施状況（実施日） | J20: - | M20: 対策履歴 | S20: 実施状況（実施日）
B21: メモ | D21: 縦断方向のひび割れ(Ⅱb) | M21: メモ
B22: 写真 番号 | C22: 覆工 スパン 番号 | M22: 写真 番号 | N22: 覆工 スパン 番号
C24: 変状 番号 | N24: 変状 番号
B26: 変状 部位 | C26: 対象 箇所 | M26: 変状 部位 | N26: 対象 箇所
C28: 部位 区分 | N28: 部位 区分
B30: 変状区分 | M30: 変状区分
B31: 変状種類 | M31: 変状種類
B32: 健全性 | C32: 応急措置前 | M32: 健全性 | N32: 応急措置前
C33: 応急措置後 | N33: 応急措置後
B34: 変状の発生範囲の規模 | M34: 変状の発生範囲の規模
B35: 前回定期点検時の状態 | M35: 前回定期点検時の状態
B36: 調査方針 | M36: 調査方針
B37: 対策履歴 | H37: 実施状況（実施日） | M37: 対策履歴 | S37: 実施状況（実施日）
B38: メモ | M38: メモ
C39: ※ 健全性（応急措置後）の判定区分Ⅱ～Ⅳについて添付すること。また、点検前に 実施された措置によりⅠと判定された箇所も添付すること。 | N39: ※ 変状の発生範囲の規模とは、対策を行う際に参考となる変状の長さや面積をいう。
N40: ※ 応急措置を実施しないで判定した変状の健全性は、健全性の応急措置後の欄に記入すること。
C41: ※ たたき落としを実施した場合は、実施後の写真を添付すること。 | N41: ※ 変状の発生範囲の規模は、面積・寸法を記載すること。
C42: ※ 附属物の取付状態に関する異常写真は別途、様式D-1-2でとりまとめること。 | N42: (ひび割れ幅のみmmとし、その他をm表記とする)
C43: ※ 変状数に準じてシートを追加すること。（１シートに１ページとすること。） | N43: ※ 構造用鋼材以外の異物に伴ううき・はく離については、メモ欄に異物の概要を記入すること。

Sheet 様式D-1-1(トンネル様式2P001) (49)
B2: ■定期点検記録様式 変状写真台帳 | Y2: Ⅰ
B3: フリガナ | D3: オゴオリ | H3: 路線名 | J3: 主要県道 山口宇部線 | M3: 定期点検業者 | P3: 応用地質株式会社 | S3: 定期点検年月日 | U3: 44431 | Y3: Ⅱ
B4: 名 称 | D4: 小郡トンネル | H4: 管理者名 | J4: 山口県防府土木建築事務所 | M4: 定期点検者名 | P4: 國村 省吾 | Y4: Ⅲ
B5: 写真 番号 | C5: 覆工 スパン 番号 | D5: 129 | M5: 写真 番号 | N5: 覆工 スパン 番号 | Y5: Ⅳ
Y6: －
C7: 変状 番号 | D7: 1 | N7: 変状 番号
B9: 変状 部位 | C9: 対象 箇所 | D9: 覆工・坑門 | M9: 変状 部位 | N9: 対象 箇所
C11: 部位 区分 | D11: アーチ（天端） | N11: 部位 区分
B13: 変状区分 | D13: 材質劣化 | M13: 変状区分
B14: 変状種類 | D14: ひび割れ | M14: 変状種類
B15: 健全性 | C15: 応急措置前 | E15: － | M15: 健全性 | N15: 応急措置前
C16: 応急措置後 | E16: Ⅱ | N16: 応急措置後
B17: 変状の発生範囲の規模 | E17: 1.2mm×9.0m | M17: 変状の発生範囲の規模
B18: 前回定期点検時の状態 | E18: 同程度 | M18: 前回定期点検時の状態
B19: 調査方針 | E19: - | M19: 調査方針
B20: 対策履歴 | E20: なし | H20: 実施状況（実施日） | J20: - | M20: 対策履歴 | S20: 実施状況（実施日）
B21: メモ | D21: 縦断方向のひび割れ(Ⅱb) | M21: メモ
B22: 写真 番号 | C22: 覆工 スパン 番号 | M22: 写真 番号 | N22: 覆工 スパン 番号
C24: 変状 番号 | N24: 変状 番号
B26: 変状 部位 | C26: 対象 箇所 | M26: 変状 部位 | N26: 対象 箇所
C28: 部位 区分 | N28: 部位 区分
B30: 変状区分 | M30: 変状区分
B31: 変状種類 | M31: 変状種類
B32: 健全性 | C32: 応急措置前 | M32: 健全性 | N32: 応急措置前
C33: 応急措置後 | N33: 応急措置後
B34: 変状の発生範囲の規模 | M34: 変状の発生範囲の規模
B35: 前回定期点検時の状態 | M35: 前回定期点検時の状態
B36: 調査方針 | M36: 調査方針
B37: 対策履歴 | H37: 実施状況（実施日） | M37: 対策履歴 | S37: 実施状況（実施日）
B38: メモ | M38: メモ
C39: ※ 健全性（応急措置後）の判定区分Ⅱ～Ⅳについて添付すること。また、点検前に 実施された措置によりⅠと判定された箇所も添付すること。 | N39: ※ 変状の発生範囲の規模とは、対策を行う際に参考となる変状の長さや面積をいう。
N40: ※ 応急措置を実施しないで判定した変状の健全性は、健全性の応急措置後の欄に記入すること。
C41: ※ たたき落としを実施した場合は、実施後の写真を添付すること。 | N41: ※ 変状の発生範囲の規模は、面積・寸法を記載すること。
C42: ※ 附属物の取付状態に関する異常写真は別途、様式D-1-2でとりまとめること。 | N42: (ひび割れ幅のみmmとし、その他をm表記とする)
C43: ※ 変状数に準じてシートを追加すること。（１シートに１ページとすること。） | N43: ※ 構造用鋼材以外の異物に伴ううき・はく離については、メモ欄に異物の概要を記入すること。

Sheet 様式D-1-1(トンネル様式2P001) (50)
B2: ■定期点検記録様式 変状写真台帳 | Y2: Ⅰ
B3: フリガナ | D3: オゴオリ | H3: 路線名 | J3: 主要県道 山口宇部線 | M3: 定期点検業者 | P3: 応用地質株式会社 | S3: 定期点検年月日 | U3: 44431 | Y3: Ⅱ
B4: 名 称 | D4: 小郡トンネル | H4: 管理者名 | J4: 山口県防府土木建築事務所 | M4: 定期点検者名 | P4: 國村 省吾 | Y4: Ⅲ
B5: 写真 番号 | C5: 覆工 スパン 番号 | D5: 130 | M5: 写真 番号 | N5: 覆工 スパン 番号 | Y5: Ⅳ
Y6: －
C7: 変状 番号 | D7: 1 | N7: 変状 番号
B9: 変状 部位 | C9: 対象 箇所 | D9: 覆工・坑門 | M9: 変状 部位 | N9: 対象 箇所
C11: 部位 区分 | D11: アーチ（天端） | N11: 部位 区分
B13: 変状区分 | D13: 材質劣化 | M13: 変状区分
B14: 変状種類 | D14: ひび割れ | M14: 変状種類
B15: 健全性 | C15: 応急措置前 | E15: － | M15: 健全性 | N15: 応急措置前
C16: 応急措置後 | E16: Ⅱ | N16: 応急措置後
B17: 変状の発生範囲の規模 | E17: 1.5mm×10.6m | M17: 変状の発生範囲の規模
B18: 前回定期点検時の状態 | E18: 同程度 | M18: 前回定期点検時の状態
B19: 調査方針 | E19: - | M19: 調査方針
B20: 対策履歴 | E20: なし | H20: 実施状況（実施日） | J20: - | M20: 対策履歴 | S20: 実施状況（実施日）
B21: メモ | D21: 縦断方向のひび割れ(Ⅱb) | M21: メモ
B22: 写真 番号 | C22: 覆工 スパン 番号 | M22: 写真 番号 | N22: 覆工 スパン 番号
C24: 変状 番号 | N24: 変状 番号
B26: 変状 部位 | C26: 対象 箇所 | M26: 変状 部位 | N26: 対象 箇所
C28: 部位 区分 | N28: 部位 区分
B30: 変状区分 | M30: 変状区分
B31: 変状種類 | M31: 変状種類
B32: 健全性 | C32: 応急措置前 | M32: 健全性 | N32: 応急措置前
C33: 応急措置後 | N33: 応急措置後
B34: 変状の発生範囲の規模 | M34: 変状の発生範囲の規模
B35: 前回定期点検時の状態 | M35: 前回定期点検時の状態
B36: 調査方針 | M36: 調査方針
B37: 対策履歴 | H37: 実施状況（実施日） | M37: 対策履歴 | S37: 実施状況（実施日）
B38: メモ | M38: メモ
C39: ※ 健全性（応急措置後）の判定区分Ⅱ～Ⅳについて添付すること。また、点検前に 実施された措置によりⅠと判定された箇所も添付すること。 | N39: ※ 変状の発生範囲の規模とは、対策を行う際に参考となる変状の長さや面積をいう。
N40: ※ 応急措置を実施しないで判定した変状の健全性は、健全性の応急措置後の欄に記入すること。
C41: ※ たたき落としを実施した場合は、実施後の写真を添付すること。 | N41: ※ 変状の発生範囲の規模は、面積・寸法を記載すること。
C42: ※ 附属物の取付状態に関する異常写真は別途、様式D-1-2でとりまとめること。 | N42: (ひび割れ幅のみmmとし、その他をm表記とする)
C43: ※ 変状数に準じてシートを追加すること。（１シートに１ページとすること。） | N43: ※ 構造用鋼材以外の異物に伴ううき・はく離については、メモ欄に異物の概要を記入すること。

Sheet 様式D-1-1(トンネル様式2P001) (51)
B2: ■定期点検記録様式 変状写真台帳 | Y2: Ⅰ
B3: フリガナ | D3: オゴオリ | H3: 路線名 | J3: 主要県道 山口宇部線 | M3: 定期点検業者 | P3: 応用地質株式会社 | S3: 定期点検年月日 | U3: 44431 | Y3: Ⅱ
B4: 名 称 | D4: 小郡トンネル | H4: 管理者名 | J4: 山口県防府土木建築事務所 | M4: 定期点検者名 | P4: 國村 省吾 | Y4: Ⅲ
B5: 写真 番号 | C5: 覆工 スパン 番号 | D5: 133 | M5: 写真 番号 | N5: 覆工 スパン 番号 | Y5: Ⅳ
Y6: －
C7: 変状 番号 | D7: 1 | N7: 変状 番号
B9: 変状 部位 | C9: 対象 箇所 | D9: 覆工・坑門 | M9: 変状 部位 | N9: 対象 箇所
C11: 部位 区分 | D11: アーチ（天端） | N11: 部位 区分
B13: 変状区分 | D13: 材質劣化 | M13: 変状区分
B14: 変状種類 | D14: ひび割れ | M14: 変状種類
B15: 健全性 | C15: 応急措置前 | E15: － | M15: 健全性 | N15: 応急措置前
C16: 応急措置後 | E16: Ⅱ | N16: 応急措置後
B17: 変状の発生範囲の規模 | E17: 1.5mm×6.2m | M17: 変状の発生範囲の規模
B18: 前回定期点検時の状態 | E18: 同程度 | M18: 前回定期点検時の状態
B19: 調査方針 | E19: - | M19: 調査方針
B20: 対策履歴 | E20: なし | H20: 実施状況（実施日） | J20: - | M20: 対策履歴 | S20: 実施状況（実施日）
B21: メモ | D21: 縦断方向のひび割れ(Ⅱb) | M21: メモ
B22: 写真 番号 | C22: 覆工 スパン 番号 | M22: 写真 番号 | N22: 覆工 スパン 番号
C24: 変状 番号 | N24: 変状 番号
B26: 変状 部位 | C26: 対象 箇所 | M26: 変状 部位 | N26: 対象 箇所
C28: 部位 区分 | N28: 部位 区分
B30: 変状区分 | M30: 変状区分
B31: 変状種類 | M31: 変状種類
B32: 健全性 | C32: 応急措置前 | M32: 健全性 | N32: 応急措置前
C33: 応急措置後 | N33: 応急措置後
B34: 変状の発生範囲の規模 | M34: 変状の発生範囲の規模
B35: 前回定期点検時の状態 | M35: 前回定期点検時の状態
B36: 調査方針 | M36: 調査方針
B37: 対策履歴 | H37: 実施状況（実施日） | M37: 対策履歴 | S37: 実施状況（実施日）
B38: メモ | M38: メモ
C39: ※ 健全性（応急措置後）の判定区分Ⅱ～Ⅳについて添付すること。また、点検前に 実施された措置によりⅠと判定された箇所も添付すること。 | N39: ※ 変状の発生範囲の規模とは、対策を行う際に参考となる変状の長さや面積をいう。
N40: ※ 応急措置を実施しないで判定した変状の健全性は、健全性の応急措置後の欄に記入すること。
C41: ※ たたき落としを実施した場合は、実施後の写真を添付すること。 | N41: ※ 変状の発生範囲の規模は、面積・寸法を記載すること。
C42: ※ 附属物の取付状態に関する異常写真は別途、様式D-1-2でとりまとめること。 | N42: (ひび割れ幅のみmmとし、その他をm表記とする)
C43: ※ 変状数に準じてシートを追加すること。（１シートに１ページとすること。） | N43: ※ 構造用鋼材以外の異物に伴ううき・はく離については、メモ欄に異物の概要を記入すること。

Sheet 様式D-1-1(トンネル様式2P001) (52)
B2: ■定期点検記録様式 変状写真台帳 | Y2: Ⅰ
B3: フリガナ | D3: オゴオリ | H3: 路線名 | J3: 主要県道 山口宇部線 | M3: 定期点検業者 | P3: 応用地質株式会社 | S3: 定期点検年月日 | U3: 44431 | Y3: Ⅱ
B4: 名 称 | D4: 小郡トンネル | H4: 管理者名 | J4: 山口県防府土木建築事務所 | M4: 定期点検者名 | P4: 國村 省吾 | Y4: Ⅲ
B5: 写真 番号 | C5: 覆工 スパン 番号 | D5: 134 | M5: 写真 番号 | N5: 覆工 スパン 番号 | O5: 134 | Y5: Ⅳ
Y6: －
C7: 変状 番号 | D7: 1 | N7: 変状 番号 | O7: 2
B9: 変状 部位 | C9: 対象 箇所 | D9: 覆工・坑門 | M9: 変状 部位 | N9: 対象 箇所 | O9: 覆工・坑門
C11: 部位 区分 | D11: アーチ（天端） | N11: 部位 区分 | O11: 横断目地（右側）
B13: 変状区分 | D13: 材質劣化 | M13: 変状区分 | O13: 材質劣化
B14: 変状種類 | D14: ひび割れ | M14: 変状種類 | O14: うき・はく離
B15: 健全性 | C15: 応急措置前 | E15: － | M15: 健全性 | N15: 応急措置前 | P15: Ⅱ
C16: 応急措置後 | E16: Ⅱ | N16: 応急措置後 | P16: Ⅰ
B17: 変状の発生範囲の規模 | E17: 1.2mm×6.4m | M17: 変状の発生範囲の規模 | P17: 0.3m×0.05m
B18: 前回定期点検時の状態 | E18: 同程度 | M18: 前回定期点検時の状態 | P18: 0.3m×0.05m(Ⅱb)
B19: 調査方針 | E19: - | M19: 調査方針 | P19: -
B20: 対策履歴 | E20: なし | H20: 実施状況（実施日） | J20: - | M20: 対策履歴 | P20: なし | S20: 実施状況（実施日） | U20: -
B21: メモ | D21: 縦断方向のひび割れ(Ⅱb) | M21: メモ | O21: 目地部のうき、今回定期点検時に叩き落とし実施(Ⅱb→Ⅰ)(深さ50mm未満)、浸透性固化材塗布
B22: 写真 番号 | C22: 覆工 スパン 番号 | D22: 134 | M22: 写真 番号 | N22: 覆工 スパン 番号
C24: 変状 番号 | D24: 3 | N24: 変状 番号
B26: 変状 部位 | C26: 対象 箇所 | D26: 覆工・坑門 | M26: 変状 部位 | N26: 対象 箇所
C28: 部位 区分 | D28: 横断目地（右側） | N28: 部位 区分
B30: 変状区分 | D30: 材質劣化 | M30: 変状区分
B31: 変状種類 | D31: うき・はく離 | M31: 変状種類
B32: 健全性 | C32: 応急措置前 | E32: － | M32: 健全性 | N32: 応急措置前
C33: 応急措置後 | E33: Ⅱ | N33: 応急措置後
B34: 変状の発生範囲の規模 | E34: 0.3m×0.05m | M34: 変状の発生範囲の規模
B35: 前回定期点検時の状態 | E35: 同程度 | M35: 前回定期点検時の状態
B36: 調査方針 | E36: - | M36: 調査方針
B37: 対策履歴 | E37: なし | H37: 実施状況（実施日） | J37: - | M37: 対策履歴 | S37: 実施状況（実施日）
B38: メモ | D38: 目地部のうき(Ⅱb)、浸透性固化材塗布 | M38: メモ
C39: ※ 健全性（応急措置後）の判定区分Ⅱ～Ⅳについて添付すること。また、点検前に 実施された措置によりⅠと判定された箇所も添付すること。 | N39: ※ 変状の発生範囲の規模とは、対策を行う際に参考となる変状の長さや面積をいう。
N40: ※ 応急措置を実施しないで判定した変状の健全性は、健全性の応急措置後の欄に記入すること。
C41: ※ たたき落としを実施した場合は、実施後の写真を添付すること。 | N41: ※ 変状の発生範囲の規模は、面積・寸法を記載すること。
C42: ※ 附属物の取付状態に関する異常写真は別途、様式D-1-2でとりまとめること。 | N42: (ひび割れ幅のみmmとし、その他をm表記とする)
C43: ※ 変状数に準じてシートを追加すること。（１シートに１ページとすること。） | N43: ※ 構造用鋼材以外の異物に伴ううき・はく離については、メモ欄に異物の概要を記入すること。

Sheet 様式D-1-1(トンネル様式2P001) (53)
B2: ■定期点検記録様式 変状写真台帳 | Y2: Ⅰ
B3: フリガナ | D3: オゴオリ | H3: 路線名 | J3: 主要県道 山口宇部線 | M3: 定期点検業者 | P3: 応用地質株式会社 | S3: 定期点検年月日 | U3: 44431 | Y3: Ⅱ
B4: 名 称 | D4: 小郡トンネル | H4: 管理者名 | J4: 山口県防府土木建築事務所 | M4: 定期点検者名 | P4: 國村 省吾 | Y4: Ⅲ
B5: 写真 番号 | C5: 覆工 スパン 番号 | D5: 135 | M5: 写真 番号 | N5: 覆工 スパン 番号 | O5: 135 | Y5: Ⅳ
Y6: －
C7: 変状 番号 | D7: 1 | N7: 変状 番号 | O7: 2
B9: 変状 部位 | C9: 対象 箇所 | D9: 覆工・坑門 | M9: 変状 部位 | N9: 対象 箇所 | O9: 覆工・坑門
C11: 部位 区分 | D11: アーチ（天端） | N11: 部位 区分 | O11: 横断目地（右側）
B13: 変状区分 | D13: 材質劣化 | M13: 変状区分 | O13: 材質劣化
B14: 変状種類 | D14: ひび割れ | M14: 変状種類 | O14: うき・はく離
B15: 健全性 | C15: 応急措置前 | E15: － | M15: 健全性 | N15: 応急措置前 | P15: Ⅲ
C16: 応急措置後 | E16: Ⅱ | N16: 応急措置後 | P16: Ⅰ
B17: 変状の発生範囲の規模 | E17: 1.3mm×6.2m | M17: 変状の発生範囲の規模 | P17: 1.5m×0.05m
B18: 前回定期点検時の状態 | E18: 同程度 | M18: 前回定期点検時の状態 | P18: 1.5m×0.05m(Ⅱa)
B19: 調査方針 | E19: - | M19: 調査方針 | P19: -
B20: 対策履歴 | E20: なし | H20: 実施状況（実施日） | J20: - | M20: 対策履歴 | P20: なし | S20: 実施状況（実施日） | U20: -
B21: メモ | D21: 縦断方向のひび割れ(Ⅱb) | M21: メモ | O21: 目地部のノロ、今回定期点検時に叩き落とし実施(Ⅲ→Ⅰ)
B22: 写真 番号 | C22: 覆工 スパン 番号 | D22: 135 | M22: 写真 番号 | N22: 覆工 スパン 番号
C24: 変状 番号 | D24: 3 | N24: 変状 番号
B26: 変状 部位 | C26: 対象 箇所 | D26: 覆工・坑門 | M26: 変状 部位 | N26: 対象 箇所
C28: 部位 区分 | D28: 横断目地（右側） | N28: 部位 区分
B30: 変状区分 | D30: 材質劣化 | M30: 変状区分
B31: 変状種類 | D31: うき・はく離 | M31: 変状種類
B32: 健全性 | C32: 応急措置前 | E32: － | M32: 健全性 | N32: 応急措置前
C33: 応急措置後 | E33: Ⅰ | N33: 応急措置後
B34: 変状の発生範囲の規模 | E34: 1.0m×0.05m | M34: 変状の発生範囲の規模
B35: 前回定期点検時の状態 | E35: 1.0m×0.05m(Ⅲ→Ⅰ)、叩き落とし実施 | M35: 前回定期点検時の状態
B36: 調査方針 | E36: - | M36: 調査方針
B37: 対策履歴 | E37: はく落防止工(FRPネット) | H37: 実施状況（実施日） | J37: - | M37: 対策履歴 | S37: 実施状況（実施日）
B38: メモ | D38: - | M38: メモ
C39: ※ 健全性（応急措置後）の判定区分Ⅱ～Ⅳについて添付すること。また、点検前に 実施された措置によりⅠと判定された箇所も添付すること。 | N39: ※ 変状の発生範囲の規模とは、対策を行う際に参考となる変状の長さや面積をいう。
N40: ※ 応急措置を実施しないで判定した変状の健全性は、健全性の応急措置後の欄に記入すること。
C41: ※ たたき落としを実施した場合は、実施後の写真を添付すること。 | N41: ※ 変状の発生範囲の規模は、面積・寸法を記載すること。
C42: ※ 附属物の取付状態に関する異常写真は別途、様式D-1-2でとりまとめること。 | N42: (ひび割れ幅のみmmとし、その他をm表記とする)
C43: ※ 変状数に準じてシートを追加すること。（１シートに１ページとすること。） | N43: ※ 構造用鋼材以外の異物に伴ううき・はく離については、メモ欄に異物の概要を記入すること。

Sheet 様式D-1-1(トンネル様式2P001) (54)
B2: ■定期点検記録様式 変状写真台帳 | Y2: Ⅰ
B3: フリガナ | D3: オゴオリ | H3: 路線名 | J3: 主要県道 山口宇部線 | M3: 定期点検業者 | P3: 応用地質株式会社 | S3: 定期点検年月日 | U3: 44431 | Y3: Ⅱ
B4: 名 称 | D4: 小郡トンネル | H4: 管理者名 | J4: 山口県防府土木建築事務所 | M4: 定期点検者名 | P4: 國村 省吾 | Y4: Ⅲ
B5: 写真 番号 | C5: 覆工 スパン 番号 | D5: 138 | M5: 写真 番号 | N5: 覆工 スパン 番号 | Y5: Ⅳ
Y6: －
C7: 変状 番号 | D7: 1 | N7: 変状 番号
B9: 変状 部位 | C9: 対象 箇所 | D9: 覆工・坑門 | M9: 変状 部位 | N9: 対象 箇所
C11: 部位 区分 | D11: アーチ（天端） | N11: 部位 区分
B13: 変状区分 | D13: 材質劣化 | M13: 変状区分
B14: 変状種類 | D14: ひび割れ | M14: 変状種類
B15: 健全性 | C15: 応急措置前 | E15: － | M15: 健全性 | N15: 応急措置前
C16: 応急措置後 | E16: Ⅱ | N16: 応急措置後
B17: 変状の発生範囲の規模 | E17: 1.2mm×5.8m他 | M17: 変状の発生範囲の規模
B18: 前回定期点検時の状態 | E18: 1.2mm×6.0m | M18: 前回定期点検時の状態
B19: 調査方針 | E19: - | M19: 調査方針
B20: 対策履歴 | E20: なし | H20: 実施状況（実施日） | J20: - | M20: 対策履歴 | S20: 実施状況（実施日）
B21: メモ | D21: 縦断方向に2本のひび割れ(Ⅱb)、進行性あり | M21: メモ
B22: 写真 番号 | C22: 覆工 スパン 番号 | M22: 写真 番号 | N22: 覆工 スパン 番号
C24: 変状 番号 | N24: 変状 番号
B26: 変状 部位 | C26: 対象 箇所 | M26: 変状 部位 | N26: 対象 箇所
C28: 部位 区分 | N28: 部位 区分
B30: 変状区分 | M30: 変状区分
B31: 変状種類 | M31: 変状種類
B32: 健全性 | C32: 応急措置前 | M32: 健全性 | N32: 応急措置前
C33: 応急措置後 | N33: 応急措置後
B34: 変状の発生範囲の規模 | M34: 変状の発生範囲の規模
B35: 前回定期点検時の状態 | M35: 前回定期点検時の状態
B36: 調査方針 | M36: 調査方針
B37: 対策履歴 | H37: 実施状況（実施日） | M37: 対策履歴 | S37: 実施状況（実施日）
B38: メモ | M38: メモ
C39: ※ 健全性（応急措置後）の判定区分Ⅱ～Ⅳについて添付すること。また、点検前に 実施された措置によりⅠと判定された箇所も添付すること。 | N39: ※ 変状の発生範囲の規模とは、対策を行う際に参考となる変状の長さや面積をいう。
N40: ※ 応急措置を実施しないで判定した変状の健全性は、健全性の応急措置後の欄に記入すること。
C41: ※ たたき落としを実施した場合は、実施後の写真を添付すること。 | N41: ※ 変状の発生範囲の規模は、面積・寸法を記載すること。
C42: ※ 附属物の取付状態に関する異常写真は別途、様式D-1-2でとりまとめること。 | N42: (ひび割れ幅のみmmとし、その他をm表記とする)
C43: ※ 変状数に準じてシートを追加すること。（１シートに１ページとすること。） | N43: ※ 構造用鋼材以外の異物に伴ううき・はく離については、メモ欄に異物の概要を記入すること。

Sheet 様式D-1-1(トンネル様式2P001) (55)
B2: ■定期点検記録様式 変状写真台帳 | Y2: Ⅰ
B3: フリガナ | D3: オゴオリ | H3: 路線名 | J3: 主要県道 山口宇部線 | M3: 定期点検業者 | P3: 応用地質株式会社 | S3: 定期点検年月日 | U3: 44431 | Y3: Ⅱ
B4: 名 称 | D4: 小郡トンネル | H4: 管理者名 | J4: 山口県防府土木建築事務所 | M4: 定期点検者名 | P4: 國村 省吾 | Y4: Ⅲ
B5: 写真 番号 | C5: 覆工 スパン 番号 | D5: 139 | M5: 写真 番号 | N5: 覆工 スパン 番号 | Y5: Ⅳ
Y6: －
C7: 変状 番号 | D7: 1 | N7: 変状 番号
B9: 変状 部位 | C9: 対象 箇所 | D9: 覆工・坑門 | M9: 変状 部位 | N9: 対象 箇所
C11: 部位 区分 | D11: 横断目地（左側） | N11: 部位 区分
B13: 変状区分 | D13: 材質劣化 | M13: 変状区分
B14: 変状種類 | D14: うき・はく離 | M14: 変状種類
B15: 健全性 | C15: 応急措置前 | E15: － | M15: 健全性 | N15: 応急措置前
C16: 応急措置後 | E16: Ⅰ | N16: 応急措置後
B17: 変状の発生範囲の規模 | E17: 0.3m×0.05m | M17: 変状の発生範囲の規模
B18: 前回定期点検時の状態 | E18: 0.3m×0.05m(Ⅱa) | M18: 前回定期点検時の状態
B19: 調査方針 | E19: - | M19: 調査方針
B20: 対策履歴 | E20: はく落防止工(FRPネット) | H20: 実施状況（実施日） | J20: - | M20: 対策履歴 | S20: 実施状況（実施日）
B21: メモ | D21: - | M21: メモ
B22: 写真 番号 | C22: 覆工 スパン 番号 | M22: 写真 番号 | N22: 覆工 スパン 番号
C24: 変状 番号 | N24: 変状 番号
B26: 変状 部位 | C26: 対象 箇所 | M26: 変状 部位 | N26: 対象 箇所
C28: 部位 区分 | N28: 部位 区分
B30: 変状区分 | M30: 変状区分
B31: 変状種類 | M31: 変状種類
B32: 健全性 | C32: 応急措置前 | M32: 健全性 | N32: 応急措置前
C33: 応急措置後 | N33: 応急措置後
B34: 変状の発生範囲の規模 | M34: 変状の発生範囲の規模
B35: 前回定期点検時の状態 | M35: 前回定期点検時の状態
B36: 調査方針 | M36: 調査方針
B37: 対策履歴 | H37: 実施状況（実施日） | M37: 対策履歴 | S37: 実施状況（実施日）
B38: メモ | M38: メモ
C39: ※ 健全性（応急措置後）の判定区分Ⅱ～Ⅳについて添付すること。また、点検前に 実施された措置によりⅠと判定された箇所も添付すること。 | N39: ※ 変状の発生範囲の規模とは、対策を行う際に参考となる変状の長さや面積をいう。
N40: ※ 応急措置を実施しないで判定した変状の健全性は、健全性の応急措置後の欄に記入すること。
C41: ※ たたき落としを実施した場合は、実施後の写真を添付すること。 | N41: ※ 変状の発生範囲の規模は、面積・寸法を記載すること。
C42: ※ 附属物の取付状態に関する異常写真は別途、様式D-1-2でとりまとめること。 | N42: (ひび割れ幅のみmmとし、その他をm表記とする)
C43: ※ 変状数に準じてシートを追加すること。（１シートに１ページとすること。） | N43: ※ 構造用鋼材以外の異物に伴ううき・はく離については、メモ欄に異物の概要を記入すること。

Sheet 様式D-1-1(トンネル様式2P001) (56)
B2: ■定期点検記録様式 変状写真台帳 | Y2: Ⅰ
B3: フリガナ | D3: オゴオリ | H3: 路線名 | J3: 主要県道 山口宇部線 | M3: 定期点検業者 | P3: 応用地質株式会社 | S3: 定期点検年月日 | U3: 44431 | Y3: Ⅱ
B4: 名 称 | D4: 小郡トンネル | H4: 管理者名 | J4: 山口県防府土木建築事務所 | M4: 定期点検者名 | P4: 國村 省吾 | Y4: Ⅲ
B5: 写真 番号 | C5: 覆工 スパン 番号 | D5: 140 | M5: 写真 番号 | N5: 覆工 スパン 番号 | O5: 140 | Y5: Ⅳ
Y6: －
C7: 変状 番号 | D7: 1 | N7: 変状 番号 | O7: 2
B9: 変状 部位 | C9: 対象 箇所 | D9: 覆工・坑門 | M9: 変状 部位 | N9: 対象 箇所 | O9: 覆工・坑門
C11: 部位 区分 | D11: アーチ（天端） | N11: 部位 区分 | O11: アーチ（右側）
B13: 変状区分 | D13: 材質劣化 | M13: 変状区分 | O13: 材質劣化
B14: 変状種類 | D14: ひび割れ | M14: 変状種類 | O14: 鋼材腐食
B15: 健全性 | C15: 応急措置前 | E15: － | M15: 健全性 | N15: 応急措置前 | P15: －
C16: 応急措置後 | E16: Ⅱ | N16: 応急措置後 | P16: Ⅱ
B17: 変状の発生範囲の規模 | E17: 1.3mm×7.5m他 | M17: 変状の発生範囲の規模 | P17: 0.05m×0.2m他
B18: 前回定期点検時の状態 | E18: 同程度 | M18: 前回定期点検時の状態 | P18: 同程度
B19: 調査方針 | E19: - | M19: 調査方針 | P19: -
B20: 対策履歴 | E20: なし | H20: 実施状況（実施日） | J20: - | M20: 対策履歴 | P20: なし | S20: 実施状況（実施日） | U20: -
B21: メモ | D21: 縦断方向に2本のひび割れ(Ⅱb) | M21: メモ | O21: 2箇所の鋼材露出(Ⅱb)、部分的に露出した鋼材(表面的な腐食)に防錆剤塗布
B22: 写真 番号 | C22: 覆工 スパン 番号 | M22: 写真 番号 | N22: 覆工 スパン 番号
C24: 変状 番号 | N24: 変状 番号
B26: 変状 部位 | C26: 対象 箇所 | M26: 変状 部位 | N26: 対象 箇所
C28: 部位 区分 | N28: 部位 区分
B30: 変状区分 | M30: 変状区分
B31: 変状種類 | M31: 変状種類
B32: 健全性 | C32: 応急措置前 | M32: 健全性 | N32: 応急措置前
C33: 応急措置後 | N33: 応急措置後
B34: 変状の発生範囲の規模 | M34: 変状の発生範囲の規模
B35: 前回定期点検時の状態 | M35: 前回定期点検時の状態
B36: 調査方針 | M36: 調査方針
B37: 対策履歴 | H37: 実施状況（実施日） | M37: 対策履歴 | S37: 実施状況（実施日）
B38: メモ | M38: メモ
C39: ※ 健全性（応急措置後）の判定区分Ⅱ～Ⅳについて添付すること。また、点検前に 実施された措置によりⅠと判定された箇所も添付すること。 | N39: ※ 変状の発生範囲の規模とは、対策を行う際に参考となる変状の長さや面積をいう。
N40: ※ 応急措置を実施しないで判定した変状の健全性は、健全性の応急措置後の欄に記入すること。
C41: ※ たたき落としを実施した場合は、実施後の写真を添付すること。 | N41: ※ 変状の発生範囲の規模は、面積・寸法を記載すること。
C42: ※ 附属物の取付状態に関する異常写真は別途、様式D-1-2でとりまとめること。 | N42: (ひび割れ幅のみmmとし、その他をm表記とする)
C43: ※ 変状数に準じてシートを追加すること。（１シートに１ページとすること。） | N43: ※ 構造用鋼材以外の異物に伴ううき・はく離については、メモ欄に異物の概要を記入すること。

Sheet 様式D-1-1(トンネル様式2P001) (57)
B2: ■定期点検記録様式 変状写真台帳 | Y2: Ⅰ
B3: フリガナ | D3: オゴオリ | H3: 路線名 | J3: 主要県道 山口宇部線 | M3: 定期点検業者 | P3: 応用地質株式会社 | S3: 定期点検年月日 | U3: 44431 | Y3: Ⅱ
B4: 名 称 | D4: 小郡トンネル | H4: 管理者名 | J4: 山口県防府土木建築事務所 | M4: 定期点検者名 | P4: 國村 省吾 | Y4: Ⅲ
B5: 写真 番号 | C5: 覆工 スパン 番号 | D5: 142 | M5: 写真 番号 | N5: 覆工 スパン 番号 | O5: 142 | Y5: Ⅳ
Y6: －
C7: 変状 番号 | D7: 1 | N7: 変状 番号 | O7: 2
B9: 変状 部位 | C9: 対象 箇所 | D9: 覆工・坑門 | M9: 変状 部位 | N9: 対象 箇所 | O9: 覆工・坑門
C11: 部位 区分 | D11: 水平打ち継ぎ目（左側） | N11: 部位 区分 | O11: アーチ（左側）
B13: 変状区分 | D13: 材質劣化 | M13: 変状区分 | O13: 材質劣化
B14: 変状種類 | D14: うき・はく離 | M14: 変状種類 | O14: ひび割れ
B15: 健全性 | C15: 応急措置前 | E15: － | M15: 健全性 | N15: 応急措置前 | P15: －
C16: 応急措置後 | E16: Ⅰ | N16: 応急措置後 | P16: Ⅱ
B17: 変状の発生範囲の規模 | E17: 2.0m×0.05m | M17: 変状の発生範囲の規模 | P17: 0.7mm×6.0m
B18: 前回定期点検時の状態 | E18: 2.0m×0.05m(Ⅱa) | M18: 前回定期点検時の状態 | P18: なし
B19: 調査方針 | E19: - | M19: 調査方針 | P19: -
B20: 対策履歴 | E20: はく落防止工(FRPネット) | H20: 実施状況（実施日） | J20: - | M20: 対策履歴 | P20: なし | S20: 実施状況（実施日） | U20: -
B21: メモ | D21: - | M21: メモ | O21: 縦断方向のひび割れ(Ⅱb)
B22: 写真 番号 | C22: 覆工 スパン 番号 | M22: 写真 番号 | N22: 覆工 スパン 番号
C24: 変状 番号 | N24: 変状 番号
B26: 変状 部位 | C26: 対象 箇所 | M26: 変状 部位 | N26: 対象 箇所
C28: 部位 区分 | N28: 部位 区分
B30: 変状区分 | M30: 変状区分
B31: 変状種類 | M31: 変状種類
B32: 健全性 | C32: 応急措置前 | M32: 健全性 | N32: 応急措置前
C33: 応急措置後 | N33: 応急措置後
B34: 変状の発生範囲の規模 | M34: 変状の発生範囲の規模
B35: 前回定期点検時の状態 | M35: 前回定期点検時の状態
B36: 調査方針 | M36: 調査方針
B37: 対策履歴 | H37: 実施状況（実施日） | M37: 対策履歴 | S37: 実施状況（実施日）
B38: メモ | M38: メモ
C39: ※ 健全性（応急措置後）の判定区分Ⅱ～Ⅳについて添付すること。また、点検前に 実施された措置によりⅠと判定された箇所も添付すること。 | N39: ※ 変状の発生範囲の規模とは、対策を行う際に参考となる変状の長さや面積をいう。
N40: ※ 応急措置を実施しないで判定した変状の健全性は、健全性の応急措置後の欄に記入すること。
C41: ※ たたき落としを実施した場合は、実施後の写真を添付すること。 | N41: ※ 変状の発生範囲の規模は、面積・寸法を記載すること。
C42: ※ 附属物の取付状態に関する異常写真は別途、様式D-1-2でとりまとめること。 | N42: (ひび割れ幅のみmmとし、その他をm表記とする)
C43: ※ 変状数に準じてシートを追加すること。（１シートに１ページとすること。） | N43: ※ 構造用鋼材以外の異物に伴ううき・はく離については、メモ欄に異物の概要を記入すること。

Sheet 様式D-1-1(トンネル様式2P001) (58)
B2: ■定期点検記録様式 変状写真台帳 | Y2: Ⅰ
B3: フリガナ | D3: オゴオリ | H3: 路線名 | J3: 主要県道 山口宇部線 | M3: 定期点検業者 | P3: 応用地質株式会社 | S3: 定期点検年月日 | U3: 44431 | Y3: Ⅱ
B4: 名 称 | D4: 小郡トンネル | H4: 管理者名 | J4: 山口県防府土木建築事務所 | M4: 定期点検者名 | P4: 國村 省吾 | Y4: Ⅲ
B5: 写真 番号 | C5: 覆工 スパン 番号 | D5: 143 | M5: 写真 番号 | N5: 覆工 スパン 番号 | O5: 143 | Y5: Ⅳ
Y6: －
C7: 変状 番号 | D7: 1 | N7: 変状 番号 | O7: 2
B9: 変状 部位 | C9: 対象 箇所 | D9: 覆工・坑門 | M9: 変状 部位 | N9: 対象 箇所 | O9: 覆工・坑門
C11: 部位 区分 | D11: アーチ（天端） | N11: 部位 区分 | O11: 横断目地（右側）
B13: 変状区分 | D13: 材質劣化 | M13: 変状区分 | O13: 材質劣化
B14: 変状種類 | D14: ひび割れ | M14: 変状種類 | O14: うき・はく離
B15: 健全性 | C15: 応急措置前 | E15: － | M15: 健全性 | N15: 応急措置前 | P15: －
C16: 応急措置後 | E16: Ⅱ | N16: 応急措置後 | P16: Ⅰ
B17: 変状の発生範囲の規模 | E17: 1.2mm×6.3m | M17: 変状の発生範囲の規模 | P17: 0.35m×0.05m
B18: 前回定期点検時の状態 | E18: 同程度 | M18: 前回定期点検時の状態 | P18: 0.35m×0.05m(Ⅲ→Ⅰ)、叩き落とし実施
B19: 調査方針 | E19: - | M19: 調査方針 | P19: -
B20: 対策履歴 | E20: なし | H20: 実施状況（実施日） | J20: - | M20: 対策履歴 | P20: なし | S20: 実施状況（実施日） | U20: -
B21: メモ | D21: 縦断方向のひび割れ(Ⅱb) | M21: メモ | O21: 前回定期点検時叩き落とし箇所、(深さ50mm未満)
B22: 写真 番号 | C22: 覆工 スパン 番号 | D22: 143 | M22: 写真 番号 | N22: 覆工 スパン 番号
C24: 変状 番号 | D24: 3 | N24: 変状 番号
B26: 変状 部位 | C26: 対象 箇所 | D26: 覆工・坑門 | M26: 変状 部位 | N26: 対象 箇所
C28: 部位 区分 | D28: 横断目地（左側） | N28: 部位 区分
B30: 変状区分 | D30: 材質劣化 | M30: 変状区分
B31: 変状種類 | D31: うき・はく離 | M31: 変状種類
B32: 健全性 | C32: 応急措置前 | E32: Ⅱ | M32: 健全性 | N32: 応急措置前
C33: 応急措置後 | E33: Ⅰ | N33: 応急措置後
B34: 変状の発生範囲の規模 | E34: 0.15m×0.05m | M34: 変状の発生範囲の規模
B35: 前回定期点検時の状態 | E35: なし | M35: 前回定期点検時の状態
B36: 調査方針 | E36: - | M36: 調査方針
B37: 対策履歴 | E37: なし | H37: 実施状況（実施日） | J37: - | M37: 対策履歴 | S37: 実施状況（実施日）
B38: メモ | D38: 目地部のうき、今回定期点検時に叩き落とし実施(Ⅱb→Ⅰ)、浸透性固化材塗布 | M38: メモ
C39: ※ 健全性（応急措置後）の判定区分Ⅱ～Ⅳについて添付すること。また、点検前に 実施された措置によりⅠと判定された箇所も添付すること。 | N39: ※ 変状の発生範囲の規模とは、対策を行う際に参考となる変状の長さや面積をいう。
N40: ※ 応急措置を実施しないで判定した変状の健全性は、健全性の応急措置後の欄に記入すること。
C41: ※ たたき落としを実施した場合は、実施後の写真を添付すること。 | N41: ※ 変状の発生範囲の規模は、面積・寸法を記載すること。
C42: ※ 附属物の取付状態に関する異常写真は別途、様式D-1-2でとりまとめること。 | N42: (ひび割れ幅のみmmとし、その他をm表記とする)
C43: ※ 変状数に準じてシートを追加すること。（１シートに１ページとすること。） | N43: ※ 構造用鋼材以外の異物に伴ううき・はく離については、メモ欄に異物の概要を記入すること。

Sheet 様式D-1-1(トンネル様式2P001) (59)
B2: ■定期点検記録様式 変状写真台帳 | Y2: Ⅰ
B3: フリガナ | D3: オゴオリ | H3: 路線名 | J3: 主要県道 山口宇部線 | M3: 定期点検業者 | P3: 応用地質株式会社 | S3: 定期点検年月日 | U3: 44431 | Y3: Ⅱ
B4: 名 称 | D4: 小郡トンネル | H4: 管理者名 | J4: 山口県防府土木建築事務所 | M4: 定期点検者名 | P4: 國村 省吾 | Y4: Ⅲ
B5: 写真 番号 | C5: 覆工 スパン 番号 | D5: 144 | M5: 写真 番号 | N5: 覆工 スパン 番号 | Y5: Ⅳ
Y6: －
C7: 変状 番号 | D7: 1 | N7: 変状 番号
B9: 変状 部位 | C9: 対象 箇所 | D9: 覆工・坑門 | M9: 変状 部位 | N9: 対象 箇所
C11: 部位 区分 | D11: アーチ（天端） | N11: 部位 区分
B13: 変状区分 | D13: 材質劣化 | M13: 変状区分
B14: 変状種類 | D14: ひび割れ | M14: 変状種類
B15: 健全性 | C15: 応急措置前 | E15: － | M15: 健全性 | N15: 応急措置前
C16: 応急措置後 | E16: Ⅱ | N16: 応急措置後
B17: 変状の発生範囲の規模 | E17: 1.2mm×6.3m | M17: 変状の発生範囲の規模
B18: 前回定期点検時の状態 | E18: 同程度 | M18: 前回定期点検時の状態
B19: 調査方針 | E19: - | M19: 調査方針
B20: 対策履歴 | E20: なし | H20: 実施状況（実施日） | J20: - | M20: 対策履歴 | S20: 実施状況（実施日）
B21: メモ | D21: 縦断方向のひび割れ(Ⅱb) | M21: メモ
B22: 写真 番号 | C22: 覆工 スパン 番号 | M22: 写真 番号 | N22: 覆工 スパン 番号
C24: 変状 番号 | N24: 変状 番号
B26: 変状 部位 | C26: 対象 箇所 | M26: 変状 部位 | N26: 対象 箇所
C28: 部位 区分 | N28: 部位 区分
B30: 変状区分 | M30: 変状区分
B31: 変状種類 | M31: 変状種類
B32: 健全性 | C32: 応急措置前 | M32: 健全性 | N32: 応急措置前
C33: 応急措置後 | N33: 応急措置後
B34: 変状の発生範囲の規模 | M34: 変状の発生範囲の規模
B35: 前回定期点検時の状態 | M35: 前回定期点検時の状態
B36: 調査方針 | M36: 調査方針
B37: 対策履歴 | H37: 実施状況（実施日） | M37: 対策履歴 | S37: 実施状況（実施日）
B38: メモ | M38: メモ
C39: ※ 健全性（応急措置後）の判定区分Ⅱ～Ⅳについて添付すること。また、点検前に 実施された措置によりⅠと判定された箇所も添付すること。 | N39: ※ 変状の発生範囲の規模とは、対策を行う際に参考となる変状の長さや面積をいう。
N40: ※ 応急措置を実施しないで判定した変状の健全性は、健全性の応急措置後の欄に記入すること。
C41: ※ たたき落としを実施した場合は、実施後の写真を添付すること。 | N41: ※ 変状の発生範囲の規模は、面積・寸法を記載すること。
C42: ※ 附属物の取付状態に関する異常写真は別途、様式D-1-2でとりまとめること。 | N42: (ひび割れ幅のみmmとし、その他をm表記とする)
C43: ※ 変状数に準じてシートを追加すること。（１シートに１ページとすること。） | N43: ※ 構造用鋼材以外の異物に伴ううき・はく離については、メモ欄に異物の概要を記入すること。

Sheet 様式D-1-1(トンネル様式2P001) (60)
B2: ■定期点検記録様式 変状写真台帳 | Y2: Ⅰ
B3: フリガナ | D3: オゴオリ | H3: 路線名 | J3: 主要県道 山口宇部線 | M3: 定期点検業者 | P3: 応用地質株式会社 | S3: 定期点検年月日 | U3: 44431 | Y3: Ⅱ
B4: 名 称 | D4: 小郡トンネル | H4: 管理者名 | J4: 山口県防府土木建築事務所 | M4: 定期点検者名 | P4: 國村 省吾 | Y4: Ⅲ
B5: 写真 番号 | C5: 覆工 スパン 番号 | D5: 145 | M5: 写真 番号 | N5: 覆工 スパン 番号 | Y5: Ⅳ
Y6: －
C7: 変状 番号 | D7: 1 | N7: 変状 番号
B9: 変状 部位 | C9: 対象 箇所 | D9: 覆工・坑門 | M9: 変状 部位 | N9: 対象 箇所
C11: 部位 区分 | D11: 横断目地（右側） | N11: 部位 区分
B13: 変状区分 | D13: 材質劣化 | M13: 変状区分
B14: 変状種類 | D14: うき・はく離 | M14: 変状種類
B15: 健全性 | C15: 応急措置前 | E15: － | M15: 健全性 | N15: 応急措置前
C16: 応急措置後 | E16: Ⅱ | N16: 応急措置後
B17: 変状の発生範囲の規模 | E17: 0.25m×0.05m | M17: 変状の発生範囲の規模
B18: 前回定期点検時の状態 | E18: 同程度 | M18: 前回定期点検時の状態
B19: 調査方針 | E19: - | M19: 調査方針
B20: 対策履歴 | E20: なし | H20: 実施状況（実施日） | J20: - | M20: 対策履歴 | S20: 実施状況（実施日）
B21: メモ | D21: 目地部のうき(Ⅱb) | M21: メモ
B22: 写真 番号 | C22: 覆工 スパン 番号 | M22: 写真 番号 | N22: 覆工 スパン 番号
C24: 変状 番号 | N24: 変状 番号
B26: 変状 部位 | C26: 対象 箇所 | M26: 変状 部位 | N26: 対象 箇所
C28: 部位 区分 | N28: 部位 区分
B30: 変状区分 | M30: 変状区分
B31: 変状種類 | M31: 変状種類
B32: 健全性 | C32: 応急措置前 | M32: 健全性 | N32: 応急措置前
C33: 応急措置後 | N33: 応急措置後
B34: 変状の発生範囲の規模 | M34: 変状の発生範囲の規模
B35: 前回定期点検時の状態 | M35: 前回定期点検時の状態
B36: 調査方針 | M36: 調査方針
B37: 対策履歴 | H37: 実施状況（実施日） | M37: 対策履歴 | S37: 実施状況（実施日）
B38: メモ | M38: メモ
C39: ※ 健全性（応急措置後）の判定区分Ⅱ～Ⅳについて添付すること。また、点検前に 実施された措置によりⅠと判定された箇所も添付すること。 | N39: ※ 変状の発生範囲の規模とは、対策を行う際に参考となる変状の長さや面積をいう。
N40: ※ 応急措置を実施しないで判定した変状の健全性は、健全性の応急措置後の欄に記入すること。
C41: ※ たたき落としを実施した場合は、実施後の写真を添付すること。 | N41: ※ 変状の発生範囲の規模は、面積・寸法を記載すること。
C42: ※ 附属物の取付状態に関する異常写真は別途、様式D-1-2でとりまとめること。 | N42: (ひび割れ幅のみmmとし、その他をm表記とする)
C43: ※ 変状数に準じてシートを追加すること。（１シートに１ページとすること。） | N43: ※ 構造用鋼材以外の異物に伴ううき・はく離については、メモ欄に異物の概要を記入すること。

Sheet 様式D-1-1(トンネル様式2P001) (61)
B2: ■定期点検記録様式 変状写真台帳 | Y2: Ⅰ
B3: フリガナ | D3: オゴオリ | H3: 路線名 | J3: 主要県道 山口宇部線 | M3: 定期点検業者 | P3: 応用地質株式会社 | S3: 定期点検年月日 | U3: 44431 | Y3: Ⅱ
B4: 名 称 | D4: 小郡トンネル | H4: 管理者名 | J4: 山口県防府土木建築事務所 | M4: 定期点検者名 | P4: 國村 省吾 | Y4: Ⅲ
B5: 写真 番号 | C5: 覆工 スパン 番号 | D5: 146 | M5: 写真 番号 | N5: 覆工 スパン 番号 | Y5: Ⅳ
Y6: －
C7: 変状 番号 | D7: 1 | N7: 変状 番号
B9: 変状 部位 | C9: 対象 箇所 | D9: 覆工・坑門 | M9: 変状 部位 | N9: 対象 箇所
C11: 部位 区分 | D11: アーチ（右側） | N11: 部位 区分
B13: 変状区分 | D13: 材質劣化 | M13: 変状区分
B14: 変状種類 | D14: うき・はく離 | M14: 変状種類
B15: 健全性 | C15: 応急措置前 | E15: － | M15: 健全性 | N15: 応急措置前
C16: 応急措置後 | E16: Ⅱ | N16: 応急措置後
B17: 変状の発生範囲の規模 | E17: 0.05m×0.3m | M17: 変状の発生範囲の規模
B18: 前回定期点検時の状態 | E18: なし | M18: 前回定期点検時の状態
B19: 調査方針 | E19: - | M19: 調査方針
B20: 対策履歴 | E20: なし | H20: 実施状況（実施日） | J20: - | M20: 対策履歴 | S20: 実施状況（実施日）
B21: メモ | D21: ひび割れ沿いのうき(Ⅱb)、浸透性固化材塗布 | M21: メモ
B22: 写真 番号 | C22: 覆工 スパン 番号 | M22: 写真 番号 | N22: 覆工 スパン 番号
C24: 変状 番号 | N24: 変状 番号
B26: 変状 部位 | C26: 対象 箇所 | M26: 変状 部位 | N26: 対象 箇所
C28: 部位 区分 | N28: 部位 区分
B30: 変状区分 | M30: 変状区分
B31: 変状種類 | M31: 変状種類
B32: 健全性 | C32: 応急措置前 | M32: 健全性 | N32: 応急措置前
C33: 応急措置後 | N33: 応急措置後
B34: 変状の発生範囲の規模 | M34: 変状の発生範囲の規模
B35: 前回定期点検時の状態 | M35: 前回定期点検時の状態
B36: 調査方針 | M36: 調査方針
B37: 対策履歴 | H37: 実施状況（実施日） | M37: 対策履歴 | S37: 実施状況（実施日）
B38: メモ | M38: メモ
C39: ※ 健全性（応急措置後）の判定区分Ⅱ～Ⅳについて添付すること。また、点検前に 実施された措置によりⅠと判定された箇所も添付すること。 | N39: ※ 変状の発生範囲の規模とは、対策を行う際に参考となる変状の長さや面積をいう。
N40: ※ 応急措置を実施しないで判定した変状の健全性は、健全性の応急措置後の欄に記入すること。
C41: ※ たたき落としを実施した場合は、実施後の写真を添付すること。 | N41: ※ 変状の発生範囲の規模は、面積・寸法を記載すること。
C42: ※ 附属物の取付状態に関する異常写真は別途、様式D-1-2でとりまとめること。 | N42: (ひび割れ幅のみmmとし、その他をm表記とする)
C43: ※ 変状数に準じてシートを追加すること。（１シートに１ページとすること。） | N43: ※ 構造用鋼材以外の異物に伴ううき・はく離については、メモ欄に異物の概要を記入すること。

Sheet 様式D-1-1(トンネル様式2P001) (62)
B2: ■定期点検記録様式 変状写真台帳 | Y2: Ⅰ
B3: フリガナ | D3: オゴオリ | H3: 路線名 | J3: 主要県道 山口宇部線 | M3: 定期点検業者 | P3: 応用地質株式会社 | S3: 定期点検年月日 | U3: 44431 | Y3: Ⅱ
B4: 名 称 | D4: 小郡トンネル | H4: 管理者名 | J4: 山口県防府土木建築事務所 | M4: 定期点検者名 | P4: 國村 省吾 | Y4: Ⅲ
B5: 写真 番号 | C5: 覆工 スパン 番号 | D5: 147 | M5: 写真 番号 | N5: 覆工 スパン 番号 | Y5: Ⅳ
Y6: －
C7: 変状 番号 | D7: 1 | N7: 変状 番号
B9: 変状 部位 | C9: 対象 箇所 | D9: 覆工・坑門 | M9: 変状 部位 | N9: 対象 箇所
C11: 部位 区分 | D11: アーチ（天端） | N11: 部位 区分
B13: 変状区分 | D13: 材質劣化 | M13: 変状区分
B14: 変状種類 | D14: ひび割れ | M14: 変状種類
B15: 健全性 | C15: 応急措置前 | E15: － | M15: 健全性 | N15: 応急措置前
C16: 応急措置後 | E16: Ⅱ | N16: 応急措置後
B17: 変状の発生範囲の規模 | E17: 1.1mm×6.6m | M17: 変状の発生範囲の規模
B18: 前回定期点検時の状態 | E18: 同程度 | M18: 前回定期点検時の状態
B19: 調査方針 | E19: - | M19: 調査方針
B20: 対策履歴 | E20: なし | H20: 実施状況（実施日） | J20: - | M20: 対策履歴 | S20: 実施状況（実施日）
B21: メモ | D21: 縦断方向のひび割れ(Ⅱb) | M21: メモ
B22: 写真 番号 | C22: 覆工 スパン 番号 | M22: 写真 番号 | N22: 覆工 スパン 番号
C24: 変状 番号 | N24: 変状 番号
B26: 変状 部位 | C26: 対象 箇所 | M26: 変状 部位 | N26: 対象 箇所
C28: 部位 区分 | N28: 部位 区分
B30: 変状区分 | M30: 変状区分
B31: 変状種類 | M31: 変状種類
B32: 健全性 | C32: 応急措置前 | M32: 健全性 | N32: 応急措置前
C33: 応急措置後 | N33: 応急措置後
B34: 変状の発生範囲の規模 | M34: 変状の発生範囲の規模
B35: 前回定期点検時の状態 | M35: 前回定期点検時の状態
B36: 調査方針 | M36: 調査方針
B37: 対策履歴 | H37: 実施状況（実施日） | M37: 対策履歴 | S37: 実施状況（実施日）
B38: メモ | M38: メモ
C39: ※ 健全性（応急措置後）の判定区分Ⅱ～Ⅳについて添付すること。また、点検前に 実施された措置によりⅠと判定された箇所も添付すること。 | N39: ※ 変状の発生範囲の規模とは、対策を行う際に参考となる変状の長さや面積をいう。
N40: ※ 応急措置を実施しないで判定した変状の健全性は、健全性の応急措置後の欄に記入すること。
C41: ※ たたき落としを実施した場合は、実施後の写真を添付すること。 | N41: ※ 変状の発生範囲の規模は、面積・寸法を記載すること。
C42: ※ 附属物の取付状態に関する異常写真は別途、様式D-1-2でとりまとめること。 | N42: (ひび割れ幅のみmmとし、その他をm表記とする)
C43: ※ 変状数に準じてシートを追加すること。（１シートに１ページとすること。） | N43: ※ 構造用鋼材以外の異物に伴ううき・はく離については、メモ欄に異物の概要を記入すること。

Sheet 様式D-1-1(トンネル様式2P001) (63)
B2: ■定期点検記録様式 変状写真台帳 | Y2: Ⅰ
B3: フリガナ | D3: オゴオリ | H3: 路線名 | J3: 主要県道 山口宇部線 | M3: 定期点検業者 | P3: 応用地質株式会社 | S3: 定期点検年月日 | U3: 44431 | Y3: Ⅱ
B4: 名 称 | D4: 小郡トンネル | H4: 管理者名 | J4: 山口県防府土木建築事務所 | M4: 定期点検者名 | P4: 國村 省吾 | Y4: Ⅲ
B5: 写真 番号 | C5: 覆工 スパン 番号 | D5: 148 | M5: 写真 番号 | N5: 覆工 スパン 番号 | Y5: Ⅳ
Y6: －
C7: 変状 番号 | D7: 1 | N7: 変状 番号
B9: 変状 部位 | C9: 対象 箇所 | D9: 覆工・坑門 | M9: 変状 部位 | N9: 対象 箇所
C11: 部位 区分 | D11: アーチ（天端） | N11: 部位 区分
B13: 変状区分 | D13: 材質劣化 | M13: 変状区分
B14: 変状種類 | D14: ひび割れ | M14: 変状種類
B15: 健全性 | C15: 応急措置前 | E15: － | M15: 健全性 | N15: 応急措置前
C16: 応急措置後 | E16: Ⅱ | N16: 応急措置後
B17: 変状の発生範囲の規模 | E17: 1.0mm×9.0m | M17: 変状の発生範囲の規模
B18: 前回定期点検時の状態 | E18: 同程度 | M18: 前回定期点検時の状態
B19: 調査方針 | E19: - | M19: 調査方針
B20: 対策履歴 | E20: なし | H20: 実施状況（実施日） | J20: - | M20: 対策履歴 | S20: 実施状況（実施日）
B21: メモ | D21: 縦断方向のひび割れ(Ⅱb) | M21: メモ
B22: 写真 番号 | C22: 覆工 スパン 番号 | M22: 写真 番号 | N22: 覆工 スパン 番号
C24: 変状 番号 | N24: 変状 番号
B26: 変状 部位 | C26: 対象 箇所 | M26: 変状 部位 | N26: 対象 箇所
C28: 部位 区分 | N28: 部位 区分
B30: 変状区分 | M30: 変状区分
B31: 変状種類 | M31: 変状種類
B32: 健全性 | C32: 応急措置前 | M32: 健全性 | N32: 応急措置前
C33: 応急措置後 | N33: 応急措置後
B34: 変状の発生範囲の規模 | M34: 変状の発生範囲の規模
B35: 前回定期点検時の状態 | M35: 前回定期点検時の状態
B36: 調査方針 | M36: 調査方針
B37: 対策履歴 | H37: 実施状況（実施日） | M37: 対策履歴 | S37: 実施状況（実施日）
B38: メモ | M38: メモ
C39: ※ 健全性（応急措置後）の判定区分Ⅱ～Ⅳについて添付すること。また、点検前に 実施された措置によりⅠと判定された箇所も添付すること。 | N39: ※ 変状の発生範囲の規模とは、対策を行う際に参考となる変状の長さや面積をいう。
N40: ※ 応急措置を実施しないで判定した変状の健全性は、健全性の応急措置後の欄に記入すること。
C41: ※ たたき落としを実施した場合は、実施後の写真を添付すること。 | N41: ※ 変状の発生範囲の規模は、面積・寸法を記載すること。
C42: ※ 附属物の取付状態に関する異常写真は別途、様式D-1-2でとりまとめること。 | N42: (ひび割れ幅のみmmとし、その他をm表記とする)
C43: ※ 変状数に準じてシートを追加すること。（１シートに１ページとすること。） | N43: ※ 構造用鋼材以外の異物に伴ううき・はく離については、メモ欄に異物の概要を記入すること。

Sheet 様式D-1-1(トンネル様式2P001) (64)
B2: ■定期点検記録様式 変状写真台帳 | Y2: Ⅰ
B3: フリガナ | D3: オゴオリ | H3: 路線名 | J3: 主要県道 山口宇部線 | M3: 定期点検業者 | P3: 応用地質株式会社 | S3: 定期点検年月日 | U3: 44431 | Y3: Ⅱ
B4: 名 称 | D4: 小郡トンネル | H4: 管理者名 | J4: 山口県防府土木建築事務所 | M4: 定期点検者名 | P4: 國村 省吾 | Y4: Ⅲ
B5: 写真 番号 | C5: 覆工 スパン 番号 | D5: 149 | M5: 写真 番号 | N5: 覆工 スパン 番号 | Y5: Ⅳ
Y6: －
C7: 変状 番号 | D7: 1 | N7: 変状 番号
B9: 変状 部位 | C9: 対象 箇所 | D9: 覆工・坑門 | M9: 変状 部位 | N9: 対象 箇所
C11: 部位 区分 | D11: アーチ（天端） | N11: 部位 区分
B13: 変状区分 | D13: 材質劣化 | M13: 変状区分
B14: 変状種類 | D14: ひび割れ | M14: 変状種類
B15: 健全性 | C15: 応急措置前 | E15: － | M15: 健全性 | N15: 応急措置前
C16: 応急措置後 | E16: Ⅱ | N16: 応急措置後
B17: 変状の発生範囲の規模 | E17: 1.3mm×10.6m | M17: 変状の発生範囲の規模
B18: 前回定期点検時の状態 | E18: 同程度 | M18: 前回定期点検時の状態
B19: 調査方針 | E19: - | M19: 調査方針
B20: 対策履歴 | E20: なし | H20: 実施状況（実施日） | J20: - | M20: 対策履歴 | S20: 実施状況（実施日）
B21: メモ | D21: 縦断方向のひび割れ(Ⅱb) | M21: メモ
B22: 写真 番号 | C22: 覆工 スパン 番号 | M22: 写真 番号 | N22: 覆工 スパン 番号
C24: 変状 番号 | N24: 変状 番号
B26: 変状 部位 | C26: 対象 箇所 | M26: 変状 部位 | N26: 対象 箇所
C28: 部位 区分 | N28: 部位 区分
B30: 変状区分 | M30: 変状区分
B31: 変状種類 | M31: 変状種類
B32: 健全性 | C32: 応急措置前 | M32: 健全性 | N32: 応急措置前
C33: 応急措置後 | N33: 応急措置後
B34: 変状の発生範囲の規模 | M34: 変状の発生範囲の規模
B35: 前回定期点検時の状態 | M35: 前回定期点検時の状態
B36: 調査方針 | M36: 調査方針
B37: 対策履歴 | H37: 実施状況（実施日） | M37: 対策履歴 | S37: 実施状況（実施日）
B38: メモ | M38: メモ
C39: ※ 健全性（応急措置後）の判定区分Ⅱ～Ⅳについて添付すること。また、点検前に 実施された措置によりⅠと判定された箇所も添付すること。 | N39: ※ 変状の発生範囲の規模とは、対策を行う際に参考となる変状の長さや面積をいう。
N40: ※ 応急措置を実施しないで判定した変状の健全性は、健全性の応急措置後の欄に記入すること。
C41: ※ たたき落としを実施した場合は、実施後の写真を添付すること。 | N41: ※ 変状の発生範囲の規模は、面積・寸法を記載すること。
C42: ※ 附属物の取付状態に関する異常写真は別途、様式D-1-2でとりまとめること。 | N42: (ひび割れ幅のみmmとし、その他をm表記とする)
C43: ※ 変状数に準じてシートを追加すること。（１シートに１ページとすること。） | N43: ※ 構造用鋼材以外の異物に伴ううき・はく離については、メモ欄に異物の概要を記入すること。

Sheet 様式D-1-1(トンネル様式2P001) (65)
B2: ■定期点検記録様式 変状写真台帳 | Y2: Ⅰ
B3: フリガナ | D3: オゴオリ | H3: 路線名 | J3: 主要県道 山口宇部線 | M3: 定期点検業者 | P3: 応用地質株式会社 | S3: 定期点検年月日 | U3: 44431 | Y3: Ⅱ
B4: 名 称 | D4: 小郡トンネル | H4: 管理者名 | J4: 山口県防府土木建築事務所 | M4: 定期点検者名 | P4: 國村 省吾 | Y4: Ⅲ
B5: 写真 番号 | C5: 覆工 スパン 番号 | D5: 150 | M5: 写真 番号 | N5: 覆工 スパン 番号 | Y5: Ⅳ
Y6: －
C7: 変状 番号 | D7: 1 | N7: 変状 番号
B9: 変状 部位 | C9: 対象 箇所 | D9: 覆工・坑門 | M9: 変状 部位 | N9: 対象 箇所
C11: 部位 区分 | D11: アーチ（天端） | N11: 部位 区分
B13: 変状区分 | D13: 材質劣化 | M13: 変状区分
B14: 変状種類 | D14: ひび割れ | M14: 変状種類
B15: 健全性 | C15: 応急措置前 | E15: － | M15: 健全性 | N15: 応急措置前
C16: 応急措置後 | E16: Ⅱ | N16: 応急措置後
B17: 変状の発生範囲の規模 | E17: 1.5mm×10.6m | M17: 変状の発生範囲の規模
B18: 前回定期点検時の状態 | E18: 同程度 | M18: 前回定期点検時の状態
B19: 調査方針 | E19: - | M19: 調査方針
B20: 対策履歴 | E20: なし | H20: 実施状況（実施日） | J20: - | M20: 対策履歴 | S20: 実施状況（実施日）
B21: メモ | D21: 縦断方向のひび割れ(Ⅱb) | M21: メモ
B22: 写真 番号 | C22: 覆工 スパン 番号 | M22: 写真 番号 | N22: 覆工 スパン 番号
C24: 変状 番号 | N24: 変状 番号
B26: 変状 部位 | C26: 対象 箇所 | M26: 変状 部位 | N26: 対象 箇所
C28: 部位 区分 | N28: 部位 区分
B30: 変状区分 | M30: 変状区分
B31: 変状種類 | M31: 変状種類
B32: 健全性 | C32: 応急措置前 | M32: 健全性 | N32: 応急措置前
C33: 応急措置後 | N33: 応急措置後
B34: 変状の発生範囲の規模 | M34: 変状の発生範囲の規模
B35: 前回定期点検時の状態 | M35: 前回定期点検時の状態
B36: 調査方針 | M36: 調査方針
B37: 対策履歴 | H37: 実施状況（実施日） | M37: 対策履歴 | S37: 実施状況（実施日）
B38: メモ | M38: メモ
C39: ※ 健全性（応急措置後）の判定区分Ⅱ～Ⅳについて添付すること。また、点検前に 実施された措置によりⅠと判定された箇所も添付すること。 | N39: ※ 変状の発生範囲の規模とは、対策を行う際に参考となる変状の長さや面積をいう。
N40: ※ 応急措置を実施しないで判定した変状の健全性は、健全性の応急措置後の欄に記入すること。
C41: ※ たたき落としを実施した場合は、実施後の写真を添付すること。 | N41: ※ 変状の発生範囲の規模は、面積・寸法を記載すること。
C42: ※ 附属物の取付状態に関する異常写真は別途、様式D-1-2でとりまとめること。 | N42: (ひび割れ幅のみmmとし、その他をm表記とする)
C43: ※ 変状数に準じてシートを追加すること。（１シートに１ページとすること。） | N43: ※ 構造用鋼材以外の異物に伴ううき・はく離については、メモ欄に異物の概要を記入すること。

Sheet 様式D-1-1(トンネル様式2P001) (66)
B2: ■定期点検記録様式 変状写真台帳 | Y2: Ⅰ
B3: フリガナ | D3: オゴオリ | H3: 路線名 | J3: 主要県道 山口宇部線 | M3: 定期点検業者 | P3: 応用地質株式会社 | S3: 定期点検年月日 | U3: 44431 | Y3: Ⅱ
B4: 名 称 | D4: 小郡トンネル | H4: 管理者名 | J4: 山口県防府土木建築事務所 | M4: 定期点検者名 | P4: 國村 省吾 | Y4: Ⅲ
B5: 写真 番号 | C5: 覆工 スパン 番号 | D5: 151 | M5: 写真 番号 | N5: 覆工 スパン 番号 | O5: 151 | Y5: Ⅳ
Y6: －
C7: 変状 番号 | D7: 1 | N7: 変状 番号 | O7: 2
B9: 変状 部位 | C9: 対象 箇所 | D9: 覆工・坑門 | M9: 変状 部位 | N9: 対象 箇所 | O9: 覆工・坑門
C11: 部位 区分 | D11: アーチ（天端） | N11: 部位 区分 | O11: アーチ（天端）
B13: 変状区分 | D13: 材質劣化 | M13: 変状区分 | O13: 材質劣化
B14: 変状種類 | D14: ひび割れ | M14: 変状種類 | O14: ひび割れ
B15: 健全性 | C15: 応急措置前 | E15: － | M15: 健全性 | N15: 応急措置前 | P15: －
C16: 応急措置後 | E16: Ⅱ | N16: 応急措置後 | P16: Ⅱ
B17: 変状の発生範囲の規模 | E17: 1.5mm×9.8m他 | M17: 変状の発生範囲の規模 | P17: 0.3mm×1.6m他
B18: 前回定期点検時の状態 | E18: 同程度 | M18: 前回定期点検時の状態 | P18: 同程度
B19: 調査方針 | E19: - | M19: 調査方針 | P19: -
B20: 対策履歴 | E20: なし | H20: 実施状況（実施日） | J20: - | M20: 対策履歴 | P20: なし | S20: 実施状況（実施日） | U20: -
B21: メモ | D21: 縦横断方向のひび割れ(Ⅱb) | M21: メモ | O21: 半月状のひび割れ(Ⅱb)、打音異常なし
B22: 写真 番号 | C22: 覆工 スパン 番号 | M22: 写真 番号 | N22: 覆工 スパン 番号
C24: 変状 番号 | N24: 変状 番号
B26: 変状 部位 | C26: 対象 箇所 | M26: 変状 部位 | N26: 対象 箇所
C28: 部位 区分 | N28: 部位 区分
B30: 変状区分 | M30: 変状区分
B31: 変状種類 | M31: 変状種類
B32: 健全性 | C32: 応急措置前 | M32: 健全性 | N32: 応急措置前
C33: 応急措置後 | N33: 応急措置後
B34: 変状の発生範囲の規模 | M34: 変状の発生範囲の規模
B35: 前回定期点検時の状態 | M35: 前回定期点検時の状態
B36: 調査方針 | M36: 調査方針
B37: 対策履歴 | H37: 実施状況（実施日） | M37: 対策履歴 | S37: 実施状況（実施日）
B38: メモ | M38: メモ
C39: ※ 健全性（応急措置後）の判定区分Ⅱ～Ⅳについて添付すること。また、点検前に 実施された措置によりⅠと判定された箇所も添付すること。 | N39: ※ 変状の発生範囲の規模とは、対策を行う際に参考となる変状の長さや面積をいう。
N40: ※ 応急措置を実施しないで判定した変状の健全性は、健全性の応急措置後の欄に記入すること。
C41: ※ たたき落としを実施した場合は、実施後の写真を添付すること。 | N41: ※ 変状の発生範囲の規模は、面積・寸法を記載すること。
C42: ※ 附属物の取付状態に関する異常写真は別途、様式D-1-2でとりまとめること。 | N42: (ひび割れ幅のみmmとし、その他をm表記とする)
C43: ※ 変状数に準じてシートを追加すること。（１シートに１ページとすること。） | N43: ※ 構造用鋼材以外の異物に伴ううき・はく離については、メモ欄に異物の概要を記入すること。

Sheet 様式D-1-1(トンネル様式2P001) (67)
B2: ■定期点検記録様式 変状写真台帳 | Y2: Ⅰ
B3: フリガナ | D3: オゴオリ | H3: 路線名 | J3: 主要県道 山口宇部線 | M3: 定期点検業者 | P3: 応用地質株式会社 | S3: 定期点検年月日 | U3: 44431 | Y3: Ⅱ
B4: 名 称 | D4: 小郡トンネル | H4: 管理者名 | J4: 山口県防府土木建築事務所 | M4: 定期点検者名 | P4: 國村 省吾 | Y4: Ⅲ
B5: 写真 番号 | C5: 覆工 スパン 番号 | D5: 152 | M5: 写真 番号 | N5: 覆工 スパン 番号 | O5: 152 | Y5: Ⅳ
Y6: －
C7: 変状 番号 | D7: 1 | N7: 変状 番号 | O7: 2
B9: 変状 部位 | C9: 対象 箇所 | D9: 覆工・坑門 | M9: 変状 部位 | N9: 対象 箇所 | O9: 覆工・坑門
C11: 部位 区分 | D11: アーチ（右側） | N11: 部位 区分 | O11: アーチ（天端）
B13: 変状区分 | D13: 材質劣化 | M13: 変状区分 | O13: 材質劣化
B14: 変状種類 | D14: ひび割れ | M14: 変状種類 | O14: ひび割れ
B15: 健全性 | C15: 応急措置前 | E15: － | M15: 健全性 | N15: 応急措置前 | P15: －
C16: 応急措置後 | E16: Ⅱ | N16: 応急措置後 | P16: Ⅱ
B17: 変状の発生範囲の規模 | E17: 0.1mm×1.3m他 | M17: 変状の発生範囲の規模 | P17: 1.2mm×6.8m他
B18: 前回定期点検時の状態 | E18: 同程度 | M18: 前回定期点検時の状態 | P18: 同程度
B19: 調査方針 | E19: - | M19: 調査方針 | P19: -
B20: 対策履歴 | E20: なし | H20: 実施状況（実施日） | J20: - | M20: 対策履歴 | P20: なし | S20: 実施状況（実施日） | U20: -
B21: メモ | D21: 半月状のひび割れ(Ⅱb)、打音異常なし | M21: メモ | O21: 縦横断方向に複数のひび割れ(Ⅱb)
B22: 写真 番号 | C22: 覆工 スパン 番号 | M22: 写真 番号 | N22: 覆工 スパン 番号
C24: 変状 番号 | N24: 変状 番号
B26: 変状 部位 | C26: 対象 箇所 | M26: 変状 部位 | N26: 対象 箇所
C28: 部位 区分 | N28: 部位 区分
B30: 変状区分 | M30: 変状区分
B31: 変状種類 | M31: 変状種類
B32: 健全性 | C32: 応急措置前 | M32: 健全性 | N32: 応急措置前
C33: 応急措置後 | N33: 応急措置後
B34: 変状の発生範囲の規模 | M34: 変状の発生範囲の規模
B35: 前回定期点検時の状態 | M35: 前回定期点検時の状態
B36: 調査方針 | M36: 調査方針
B37: 対策履歴 | H37: 実施状況（実施日） | M37: 対策履歴 | S37: 実施状況（実施日）
B38: メモ | M38: メモ
C39: ※ 健全性（応急措置後）の判定区分Ⅱ～Ⅳについて添付すること。また、点検前に 実施された措置によりⅠと判定された箇所も添付すること。 | N39: ※ 変状の発生範囲の規模とは、対策を行う際に参考となる変状の長さや面積をいう。
N40: ※ 応急措置を実施しないで判定した変状の健全性は、健全性の応急措置後の欄に記入すること。
C41: ※ たたき落としを実施した場合は、実施後の写真を添付すること。 | N41: ※ 変状の発生範囲の規模は、面積・寸法を記載すること。
C42: ※ 附属物の取付状態に関する異常写真は別途、様式D-1-2でとりまとめること。 | N42: (ひび割れ幅のみmmとし、その他をm表記とする)
C43: ※ 変状数に準じてシートを追加すること。（１シートに１ページとすること。） | N43: ※ 構造用鋼材以外の異物に伴ううき・はく離については、メモ欄に異物の概要を記入すること。

Sheet 様式D-1-1(トンネル様式2P001) (68)
B2: ■定期点検記録様式 変状写真台帳 | Y2: Ⅰ
B3: フリガナ | D3: オゴオリ | H3: 路線名 | J3: 主要県道 山口宇部線 | M3: 定期点検業者 | P3: 応用地質株式会社 | S3: 定期点検年月日 | U3: 44431 | Y3: Ⅱ
B4: 名 称 | D4: 小郡トンネル | H4: 管理者名 | J4: 山口県防府土木建築事務所 | M4: 定期点検者名 | P4: 國村 省吾 | Y4: Ⅲ
B5: 写真 番号 | C5: 覆工 スパン 番号 | D5: 153 | M5: 写真 番号 | N5: 覆工 スパン 番号 | Y5: Ⅳ
Y6: －
C7: 変状 番号 | D7: 1 | N7: 変状 番号
B9: 変状 部位 | C9: 対象 箇所 | D9: 覆工・坑門 | M9: 変状 部位 | N9: 対象 箇所
C11: 部位 区分 | D11: アーチ（天端） | N11: 部位 区分
B13: 変状区分 | D13: 材質劣化 | M13: 変状区分
B14: 変状種類 | D14: ひび割れ | M14: 変状種類
B15: 健全性 | C15: 応急措置前 | E15: － | M15: 健全性 | N15: 応急措置前
C16: 応急措置後 | E16: Ⅱ | N16: 応急措置後
B17: 変状の発生範囲の規模 | E17: 1.8mm×10.5m | M17: 変状の発生範囲の規模
B18: 前回定期点検時の状態 | E18: 同程度 | M18: 前回定期点検時の状態
B19: 調査方針 | E19: - | M19: 調査方針
B20: 対策履歴 | E20: なし | H20: 実施状況（実施日） | J20: - | M20: 対策履歴 | S20: 実施状況（実施日）
B21: メモ | D21: 縦断方向のひび割れ(Ⅱb) | M21: メモ
B22: 写真 番号 | C22: 覆工 スパン 番号 | M22: 写真 番号 | N22: 覆工 スパン 番号
C24: 変状 番号 | N24: 変状 番号
B26: 変状 部位 | C26: 対象 箇所 | M26: 変状 部位 | N26: 対象 箇所
C28: 部位 区分 | N28: 部位 区分
B30: 変状区分 | M30: 変状区分
B31: 変状種類 | M31: 変状種類
B32: 健全性 | C32: 応急措置前 | M32: 健全性 | N32: 応急措置前
C33: 応急措置後 | N33: 応急措置後
B34: 変状の発生範囲の規模 | M34: 変状の発生範囲の規模
B35: 前回定期点検時の状態 | M35: 前回定期点検時の状態
B36: 調査方針 | M36: 調査方針
B37: 対策履歴 | H37: 実施状況（実施日） | M37: 対策履歴 | S37: 実施状況（実施日）
B38: メモ | M38: メモ
C39: ※ 健全性（応急措置後）の判定区分Ⅱ～Ⅳについて添付すること。また、点検前に 実施された措置によりⅠと判定された箇所も添付すること。 | N39: ※ 変状の発生範囲の規模とは、対策を行う際に参考となる変状の長さや面積をいう。
N40: ※ 応急措置を実施しないで判定した変状の健全性は、健全性の応急措置後の欄に記入すること。
C41: ※ たたき落としを実施した場合は、実施後の写真を添付すること。 | N41: ※ 変状の発生範囲の規模は、面積・寸法を記載すること。
C42: ※ 附属物の取付状態に関する異常写真は別途、様式D-1-2でとりまとめること。 | N42: (ひび割れ幅のみmmとし、その他をm表記とする)
C43: ※ 変状数に準じてシートを追加すること。（１シートに１ページとすること。） | N43: ※ 構造用鋼材以外の異物に伴ううき・はく離については、メモ欄に異物の概要を記入すること。

Sheet 様式D-1-1(トンネル様式2P001) (69)
B2: ■定期点検記録様式 変状写真台帳 | Y2: Ⅰ
B3: フリガナ | D3: オゴオリ | H3: 路線名 | J3: 主要県道 山口宇部線 | M3: 定期点検業者 | P3: 応用地質株式会社 | S3: 定期点検年月日 | U3: 44431 | Y3: Ⅱ
B4: 名 称 | D4: 小郡トンネル | H4: 管理者名 | J4: 山口県防府土木建築事務所 | M4: 定期点検者名 | P4: 國村 省吾 | Y4: Ⅲ
B5: 写真 番号 | C5: 覆工 スパン 番号 | D5: 154 | M5: 写真 番号 | N5: 覆工 スパン 番号 | Y5: Ⅳ
Y6: －
C7: 変状 番号 | D7: 1 | N7: 変状 番号
B9: 変状 部位 | C9: 対象 箇所 | D9: 覆工・坑門 | M9: 変状 部位 | N9: 対象 箇所
C11: 部位 区分 | D11: アーチ（天端） | N11: 部位 区分
B13: 変状区分 | D13: 材質劣化 | M13: 変状区分
B14: 変状種類 | D14: ひび割れ | M14: 変状種類
B15: 健全性 | C15: 応急措置前 | E15: － | M15: 健全性 | N15: 応急措置前
C16: 応急措置後 | E16: Ⅱ | N16: 応急措置後
B17: 変状の発生範囲の規模 | E17: 1.4mm×10.8m | M17: 変状の発生範囲の規模
B18: 前回定期点検時の状態 | E18: 同程度 | M18: 前回定期点検時の状態
B19: 調査方針 | E19: - | M19: 調査方針
B20: 対策履歴 | E20: なし | H20: 実施状況（実施日） | J20: - | M20: 対策履歴 | S20: 実施状況（実施日）
B21: メモ | D21: 縦断方向のひび割れ(Ⅱb) | M21: メモ
B22: 写真 番号 | C22: 覆工 スパン 番号 | M22: 写真 番号 | N22: 覆工 スパン 番号
C24: 変状 番号 | N24: 変状 番号
B26: 変状 部位 | C26: 対象 箇所 | M26: 変状 部位 | N26: 対象 箇所
C28: 部位 区分 | N28: 部位 区分
B30: 変状区分 | M30: 変状区分
B31: 変状種類 | M31: 変状種類
B32: 健全性 | C32: 応急措置前 | M32: 健全性 | N32: 応急措置前
C33: 応急措置後 | N33: 応急措置後
B34: 変状の発生範囲の規模 | M34: 変状の発生範囲の規模
B35: 前回定期点検時の状態 | M35: 前回定期点検時の状態
B36: 調査方針 | M36: 調査方針
B37: 対策履歴 | H37: 実施状況（実施日） | M37: 対策履歴 | S37: 実施状況（実施日）
B38: メモ | M38: メモ
C39: ※ 健全性（応急措置後）の判定区分Ⅱ～Ⅳについて添付すること。また、点検前に 実施された措置によりⅠと判定された箇所も添付すること。 | N39: ※ 変状の発生範囲の規模とは、対策を行う際に参考となる変状の長さや面積をいう。
N40: ※ 応急措置を実施しないで判定した変状の健全性は、健全性の応急措置後の欄に記入すること。
C41: ※ たたき落としを実施した場合は、実施後の写真を添付すること。 | N41: ※ 変状の発生範囲の規模は、面積・寸法を記載すること。
C42: ※ 附属物の取付状態に関する異常写真は別途、様式D-1-2でとりまとめること。 | N42: (ひび割れ幅のみmmとし、その他をm表記とする)
C43: ※ 変状数に準じてシートを追加すること。（１シートに１ページとすること。） | N43: ※ 構造用鋼材以外の異物に伴ううき・はく離については、メモ欄に異物の概要を記入すること。

Sheet 様式D-1-1(トンネル様式2P001) (70)
B2: ■定期点検記録様式 変状写真台帳 | Y2: Ⅰ
B3: フリガナ | D3: オゴオリ | H3: 路線名 | J3: 主要県道 山口宇部線 | M3: 定期点検業者 | P3: 応用地質株式会社 | S3: 定期点検年月日 | U3: 44431 | Y3: Ⅱ
B4: 名 称 | D4: 小郡トンネル | H4: 管理者名 | J4: 山口県防府土木建築事務所 | M4: 定期点検者名 | P4: 國村 省吾 | Y4: Ⅲ
B5: 写真 番号 | C5: 覆工 スパン 番号 | D5: 156 | M5: 写真 番号 | N5: 覆工 スパン 番号 | Y5: Ⅳ
Y6: －
C7: 変状 番号 | D7: 1 | N7: 変状 番号
B9: 変状 部位 | C9: 対象 箇所 | D9: 覆工・坑門 | M9: 変状 部位 | N9: 対象 箇所
C11: 部位 区分 | D11: アーチ（天端） | N11: 部位 区分
B13: 変状区分 | D13: 材質劣化 | M13: 変状区分
B14: 変状種類 | D14: ひび割れ | M14: 変状種類
B15: 健全性 | C15: 応急措置前 | E15: － | M15: 健全性 | N15: 応急措置前
C16: 応急措置後 | E16: Ⅱ | N16: 応急措置後
B17: 変状の発生範囲の規模 | E17: 1.5mm×10.6m | M17: 変状の発生範囲の規模
B18: 前回定期点検時の状態 | E18: 同程度 | M18: 前回定期点検時の状態
B19: 調査方針 | E19: - | M19: 調査方針
B20: 対策履歴 | E20: なし | H20: 実施状況（実施日） | J20: - | M20: 対策履歴 | S20: 実施状況（実施日）
B21: メモ | D21: 縦断方向のひび割れ(Ⅱb) | M21: メモ
B22: 写真 番号 | C22: 覆工 スパン 番号 | M22: 写真 番号 | N22: 覆工 スパン 番号
C24: 変状 番号 | N24: 変状 番号
B26: 変状 部位 | C26: 対象 箇所 | M26: 変状 部位 | N26: 対象 箇所
C28: 部位 区分 | N28: 部位 区分
B30: 変状区分 | M30: 変状区分
B31: 変状種類 | M31: 変状種類
B32: 健全性 | C32: 応急措置前 | M32: 健全性 | N32: 応急措置前
C33: 応急措置後 | N33: 応急措置後
B34: 変状の発生範囲の規模 | M34: 変状の発生範囲の規模
B35: 前回定期点検時の状態 | M35: 前回定期点検時の状態
B36: 調査方針 | M36: 調査方針
B37: 対策履歴 | H37: 実施状況（実施日） | M37: 対策履歴 | S37: 実施状況（実施日）
B38: メモ | M38: メモ
C39: ※ 健全性（応急措置後）の判定区分Ⅱ～Ⅳについて添付すること。また、点検前に 実施された措置によりⅠと判定された箇所も添付すること。 | N39: ※ 変状の発生範囲の規模とは、対策を行う際に参考となる変状の長さや面積をいう。
N40: ※ 応急措置を実施しないで判定した変状の健全性は、健全性の応急措置後の欄に記入すること。
C41: ※ たたき落としを実施した場合は、実施後の写真を添付すること。 | N41: ※ 変状の発生範囲の規模は、面積・寸法を記載すること。
C42: ※ 附属物の取付状態に関する異常写真は別途、様式D-1-2でとりまとめること。 | N42: (ひび割れ幅のみmmとし、その他をm表記とする)
C43: ※ 変状数に準じてシートを追加すること。（１シートに１ページとすること。） | N43: ※ 構造用鋼材以外の異物に伴ううき・はく離については、メモ欄に異物の概要を記入すること。

Sheet 様式D-1-1(トンネル様式2P001) (71)
B2: ■定期点検記録様式 変状写真台帳 | Y2: Ⅰ
B3: フリガナ | D3: オゴオリ | H3: 路線名 | J3: 主要県道 山口宇部線 | M3: 定期点検業者 | P3: 応用地質株式会社 | S3: 定期点検年月日 | U3: 44431 | Y3: Ⅱ
B4: 名 称 | D4: 小郡トンネル | H4: 管理者名 | J4: 山口県防府土木建築事務所 | M4: 定期点検者名 | P4: 國村 省吾 | Y4: Ⅲ
B5: 写真 番号 | C5: 覆工 スパン 番号 | D5: 157 | M5: 写真 番号 | N5: 覆工 スパン 番号 | Y5: Ⅳ
Y6: －
C7: 変状 番号 | D7: 1 | N7: 変状 番号
B9: 変状 部位 | C9: 対象 箇所 | D9: 覆工・坑門 | M9: 変状 部位 | N9: 対象 箇所
C11: 部位 区分 | D11: アーチ（天端） | N11: 部位 区分
B13: 変状区分 | D13: 材質劣化 | M13: 変状区分
B14: 変状種類 | D14: ひび割れ | M14: 変状種類
B15: 健全性 | C15: 応急措置前 | E15: － | M15: 健全性 | N15: 応急措置前
C16: 応急措置後 | E16: Ⅱ | N16: 応急措置後
B17: 変状の発生範囲の規模 | E17: 1.3mm×9.0m他 | M17: 変状の発生範囲の規模
B18: 前回定期点検時の状態 | E18: 同程度 | M18: 前回定期点検時の状態
B19: 調査方針 | E19: - | M19: 調査方針
B20: 対策履歴 | E20: なし | H20: 実施状況（実施日） | J20: - | M20: 対策履歴 | S20: 実施状況（実施日）
B21: メモ | D21: 縦断方向のひび割れ(Ⅱb) | M21: メモ
B22: 写真 番号 | C22: 覆工 スパン 番号 | M22: 写真 番号 | N22: 覆工 スパン 番号
C24: 変状 番号 | N24: 変状 番号
B26: 変状 部位 | C26: 対象 箇所 | M26: 変状 部位 | N26: 対象 箇所
C28: 部位 区分 | N28: 部位 区分
B30: 変状区分 | M30: 変状区分
B31: 変状種類 | M31: 変状種類
B32: 健全性 | C32: 応急措置前 | M32: 健全性 | N32: 応急措置前
C33: 応急措置後 | N33: 応急措置後
B34: 変状の発生範囲の規模 | M34: 変状の発生範囲の規模
B35: 前回定期点検時の状態 | M35: 前回定期点検時の状態
B36: 調査方針 | M36: 調査方針
B37: 対策履歴 | H37: 実施状況（実施日） | M37: 対策履歴 | S37: 実施状況（実施日）
B38: メモ | M38: メモ
C39: ※ 健全性（応急措置後）の判定区分Ⅱ～Ⅳについて添付すること。また、点検前に 実施された措置によりⅠと判定された箇所も添付すること。 | N39: ※ 変状の発生範囲の規模とは、対策を行う際に参考となる変状の長さや面積をいう。
N40: ※ 応急措置を実施しないで判定した変状の健全性は、健全性の応急措置後の欄に記入すること。
C41: ※ たたき落としを実施した場合は、実施後の写真を添付すること。 | N41: ※ 変状の発生範囲の規模は、面積・寸法を記載すること。
C42: ※ 附属物の取付状態に関する異常写真は別途、様式D-1-2でとりまとめること。 | N42: (ひび割れ幅のみmmとし、その他をm表記とする)
C43: ※ 変状数に準じてシートを追加すること。（１シートに１ページとすること。） | N43: ※ 構造用鋼材以外の異物に伴ううき・はく離については、メモ欄に異物の概要を記入すること。

Sheet 様式D-1-1(トンネル様式2P001) (72)
B2: ■定期点検記録様式 変状写真台帳 | Y2: Ⅰ
B3: フリガナ | D3: オゴオリ | H3: 路線名 | J3: 主要県道 山口宇部線 | M3: 定期点検業者 | P3: 応用地質株式会社 | S3: 定期点検年月日 | U3: 44431 | Y3: Ⅱ
B4: 名 称 | D4: 小郡トンネル | H4: 管理者名 | J4: 山口県防府土木建築事務所 | M4: 定期点検者名 | P4: 國村 省吾 | Y4: Ⅲ
B5: 写真 番号 | C5: 覆工 スパン 番号 | D5: 158 | M5: 写真 番号 | N5: 覆工 スパン 番号 | Y5: Ⅳ
Y6: －
C7: 変状 番号 | D7: 1 | N7: 変状 番号
B9: 変状 部位 | C9: 対象 箇所 | D9: 覆工・坑門 | M9: 変状 部位 | N9: 対象 箇所
C11: 部位 区分 | D11: アーチ（天端） | N11: 部位 区分
B13: 変状区分 | D13: 材質劣化 | M13: 変状区分
B14: 変状種類 | D14: ひび割れ | M14: 変状種類
B15: 健全性 | C15: 応急措置前 | E15: － | M15: 健全性 | N15: 応急措置前
C16: 応急措置後 | E16: Ⅱ | N16: 応急措置後
B17: 変状の発生範囲の規模 | E17: 1.5mm×10.6m | M17: 変状の発生範囲の規模
B18: 前回定期点検時の状態 | E18: 同程度 | M18: 前回定期点検時の状態
B19: 調査方針 | E19: - | M19: 調査方針
B20: 対策履歴 | E20: なし | H20: 実施状況（実施日） | J20: - | M20: 対策履歴 | S20: 実施状況（実施日）
B21: メモ | D21: 縦断方向のひび割れ(Ⅱb) | M21: メモ
B22: 写真 番号 | C22: 覆工 スパン 番号 | M22: 写真 番号 | N22: 覆工 スパン 番号
C24: 変状 番号 | N24: 変状 番号
B26: 変状 部位 | C26: 対象 箇所 | M26: 変状 部位 | N26: 対象 箇所
C28: 部位 区分 | N28: 部位 区分
B30: 変状区分 | M30: 変状区分
B31: 変状種類 | M31: 変状種類
B32: 健全性 | C32: 応急措置前 | M32: 健全性 | N32: 応急措置前
C33: 応急措置後 | N33: 応急措置後
B34: 変状の発生範囲の規模 | M34: 変状の発生範囲の規模
B35: 前回定期点検時の状態 | M35: 前回定期点検時の状態
B36: 調査方針 | M36: 調査方針
B37: 対策履歴 | H37: 実施状況（実施日） | M37: 対策履歴 | S37: 実施状況（実施日）
B38: メモ | M38: メモ
C39: ※ 健全性（応急措置後）の判定区分Ⅱ～Ⅳについて添付すること。また、点検前に 実施された措置によりⅠと判定された箇所も添付すること。 | N39: ※ 変状の発生範囲の規模とは、対策を行う際に参考となる変状の長さや面積をいう。
N40: ※ 応急措置を実施しないで判定した変状の健全性は、健全性の応急措置後の欄に記入すること。
C41: ※ たたき落としを実施した場合は、実施後の写真を添付すること。 | N41: ※ 変状の発生範囲の規模は、面積・寸法を記載すること。
C42: ※ 附属物の取付状態に関する異常写真は別途、様式D-1-2でとりまとめること。 | N42: (ひび割れ幅のみmmとし、その他をm表記とする)
C43: ※ 変状数に準じてシートを追加すること。（１シートに１ページとすること。） | N43: ※ 構造用鋼材以外の異物に伴ううき・はく離については、メモ欄に異物の概要を記入すること。

Sheet 様式D-1-1(トンネル様式2P001) (73)
B2: ■定期点検記録様式 変状写真台帳 | Y2: Ⅰ
B3: フリガナ | D3: オゴオリ | H3: 路線名 | J3: 主要県道 山口宇部線 | M3: 定期点検業者 | P3: 応用地質株式会社 | S3: 定期点検年月日 | U3: 44431 | Y3: Ⅱ
B4: 名 称 | D4: 小郡トンネル | H4: 管理者名 | J4: 山口県防府土木建築事務所 | M4: 定期点検者名 | P4: 國村 省吾 | Y4: Ⅲ
B5: 写真 番号 | C5: 覆工 スパン 番号 | D5: 159 | M5: 写真 番号 | N5: 覆工 スパン 番号 | Y5: Ⅳ
Y6: －
C7: 変状 番号 | D7: 1 | N7: 変状 番号
B9: 変状 部位 | C9: 対象 箇所 | D9: 覆工・坑門 | M9: 変状 部位 | N9: 対象 箇所
C11: 部位 区分 | D11: アーチ（天端） | N11: 部位 区分
B13: 変状区分 | D13: 材質劣化 | M13: 変状区分
B14: 変状種類 | D14: ひび割れ | M14: 変状種類
B15: 健全性 | C15: 応急措置前 | E15: － | M15: 健全性 | N15: 応急措置前
C16: 応急措置後 | E16: Ⅱ | N16: 応急措置後
B17: 変状の発生範囲の規模 | E17: 1.2mm×10.6m | M17: 変状の発生範囲の規模
B18: 前回定期点検時の状態 | E18: 同程度 | M18: 前回定期点検時の状態
B19: 調査方針 | E19: - | M19: 調査方針
B20: 対策履歴 | E20: なし | H20: 実施状況（実施日） | J20: - | M20: 対策履歴 | S20: 実施状況（実施日）
B21: メモ | D21: 縦断方向のひび割れ(Ⅱb) | M21: メモ
B22: 写真 番号 | C22: 覆工 スパン 番号 | M22: 写真 番号 | N22: 覆工 スパン 番号
C24: 変状 番号 | N24: 変状 番号
B26: 変状 部位 | C26: 対象 箇所 | M26: 変状 部位 | N26: 対象 箇所
C28: 部位 区分 | N28: 部位 区分
B30: 変状区分 | M30: 変状区分
B31: 変状種類 | M31: 変状種類
B32: 健全性 | C32: 応急措置前 | M32: 健全性 | N32: 応急措置前
C33: 応急措置後 | N33: 応急措置後
B34: 変状の発生範囲の規模 | M34: 変状の発生範囲の規模
B35: 前回定期点検時の状態 | M35: 前回定期点検時の状態
B36: 調査方針 | M36: 調査方針
B37: 対策履歴 | H37: 実施状況（実施日） | M37: 対策履歴 | S37: 実施状況（実施日）
B38: メモ | M38: メモ
C39: ※ 健全性（応急措置後）の判定区分Ⅱ～Ⅳについて添付すること。また、点検前に 実施された措置によりⅠと判定された箇所も添付すること。 | N39: ※ 変状の発生範囲の規模とは、対策を行う際に参考となる変状の長さや面積をいう。
N40: ※ 応急措置を実施しないで判定した変状の健全性は、健全性の応急措置後の欄に記入すること。
C41: ※ たたき落としを実施した場合は、実施後の写真を添付すること。 | N41: ※ 変状の発生範囲の規模は、面積・寸法を記載すること。
C42: ※ 附属物の取付状態に関する異常写真は別途、様式D-1-2でとりまとめること。 | N42: (ひび割れ幅のみmmとし、その他をm表記とする)
C43: ※ 変状数に準じてシートを追加すること。（１シートに１ページとすること。） | N43: ※ 構造用鋼材以外の異物に伴ううき・はく離については、メモ欄に異物の概要を記入すること。

Sheet 様式D-1-1(トンネル様式2P001) (74)
B2: ■定期点検記録様式 変状写真台帳 | Y2: Ⅰ
B3: フリガナ | D3: オゴオリ | H3: 路線名 | J3: 主要県道 山口宇部線 | M3: 定期点検業者 | P3: 応用地質株式会社 | S3: 定期点検年月日 | U3: 44431 | Y3: Ⅱ
B4: 名 称 | D4: 小郡トンネル | H4: 管理者名 | J4: 山口県防府土木建築事務所 | M4: 定期点検者名 | P4: 國村 省吾 | Y4: Ⅲ
B5: 写真 番号 | C5: 覆工 スパン 番号 | D5: 160 | M5: 写真 番号 | N5: 覆工 スパン 番号 | Y5: Ⅳ
Y6: －
C7: 変状 番号 | D7: 1 | N7: 変状 番号
B9: 変状 部位 | C9: 対象 箇所 | D9: 覆工・坑門 | M9: 変状 部位 | N9: 対象 箇所
C11: 部位 区分 | D11: アーチ（天端） | N11: 部位 区分
B13: 変状区分 | D13: 材質劣化 | M13: 変状区分
B14: 変状種類 | D14: ひび割れ | M14: 変状種類
B15: 健全性 | C15: 応急措置前 | E15: － | M15: 健全性 | N15: 応急措置前
C16: 応急措置後 | E16: Ⅱ | N16: 応急措置後
B17: 変状の発生範囲の規模 | E17: 1.5mm×7.2m他 | M17: 変状の発生範囲の規模
B18: 前回定期点検時の状態 | E18: 同程度 | M18: 前回定期点検時の状態
B19: 調査方針 | E19: - | M19: 調査方針
B20: 対策履歴 | E20: なし | H20: 実施状況（実施日） | J20: - | M20: 対策履歴 | S20: 実施状況（実施日）
B21: メモ | D21: 縦断方向のひび割れ(Ⅱb) | M21: メモ
B22: 写真 番号 | C22: 覆工 スパン 番号 | M22: 写真 番号 | N22: 覆工 スパン 番号
C24: 変状 番号 | N24: 変状 番号
B26: 変状 部位 | C26: 対象 箇所 | M26: 変状 部位 | N26: 対象 箇所
C28: 部位 区分 | N28: 部位 区分
B30: 変状区分 | M30: 変状区分
B31: 変状種類 | M31: 変状種類
B32: 健全性 | C32: 応急措置前 | M32: 健全性 | N32: 応急措置前
C33: 応急措置後 | N33: 応急措置後
B34: 変状の発生範囲の規模 | M34: 変状の発生範囲の規模
B35: 前回定期点検時の状態 | M35: 前回定期点検時の状態
B36: 調査方針 | M36: 調査方針
B37: 対策履歴 | H37: 実施状況（実施日） | M37: 対策履歴 | S37: 実施状況（実施日）
B38: メモ | M38: メモ
C39: ※ 健全性（応急措置後）の判定区分Ⅱ～Ⅳについて添付すること。また、点検前に 実施された措置によりⅠと判定された箇所も添付すること。 | N39: ※ 変状の発生範囲の規模とは、対策を行う際に参考となる変状の長さや面積をいう。
N40: ※ 応急措置を実施しないで判定した変状の健全性は、健全性の応急措置後の欄に記入すること。
C41: ※ たたき落としを実施した場合は、実施後の写真を添付すること。 | N41: ※ 変状の発生範囲の規模は、面積・寸法を記載すること。
C42: ※ 附属物の取付状態に関する異常写真は別途、様式D-1-2でとりまとめること。 | N42: (ひび割れ幅のみmmとし、その他をm表記とする)
C43: ※ 変状数に準じてシートを追加すること。（１シートに１ページとすること。） | N43: ※ 構造用鋼材以外の異物に伴ううき・はく離については、メモ欄に異物の概要を記入すること。

Sheet 様式D-1-1(トンネル様式2P001) (75)
B2: ■定期点検記録様式 変状写真台帳 | Y2: Ⅰ
B3: フリガナ | D3: オゴオリ | H3: 路線名 | J3: 主要県道 山口宇部線 | M3: 定期点検業者 | P3: 応用地質株式会社 | S3: 定期点検年月日 | U3: 44431 | Y3: Ⅱ
B4: 名 称 | D4: 小郡トンネル | H4: 管理者名 | J4: 山口県防府土木建築事務所 | M4: 定期点検者名 | P4: 國村 省吾 | Y4: Ⅲ
B5: 写真 番号 | C5: 覆工 スパン 番号 | D5: 162 | M5: 写真 番号 | N5: 覆工 スパン 番号 | Y5: Ⅳ
Y6: －
C7: 変状 番号 | D7: 1 | N7: 変状 番号
B9: 変状 部位 | C9: 対象 箇所 | D9: 覆工・坑門 | M9: 変状 部位 | N9: 対象 箇所
C11: 部位 区分 | D11: アーチ（天端） | N11: 部位 区分
B13: 変状区分 | D13: 材質劣化 | M13: 変状区分
B14: 変状種類 | D14: ひび割れ | M14: 変状種類
B15: 健全性 | C15: 応急措置前 | E15: － | M15: 健全性 | N15: 応急措置前
C16: 応急措置後 | E16: Ⅱ | N16: 応急措置後
B17: 変状の発生範囲の規模 | E17: 1.7mm×10.7m他 | M17: 変状の発生範囲の規模
B18: 前回定期点検時の状態 | E18: 同程度 | M18: 前回定期点検時の状態
B19: 調査方針 | E19: - | M19: 調査方針
B20: 対策履歴 | E20: なし | H20: 実施状況（実施日） | J20: - | M20: 対策履歴 | S20: 実施状況（実施日）
B21: メモ | D21: 縦横断方向のひび割れ(Ⅱb) | M21: メモ
B22: 写真 番号 | C22: 覆工 スパン 番号 | M22: 写真 番号 | N22: 覆工 スパン 番号
C24: 変状 番号 | N24: 変状 番号
B26: 変状 部位 | C26: 対象 箇所 | M26: 変状 部位 | N26: 対象 箇所
C28: 部位 区分 | N28: 部位 区分
B30: 変状区分 | M30: 変状区分
B31: 変状種類 | M31: 変状種類
B32: 健全性 | C32: 応急措置前 | M32: 健全性 | N32: 応急措置前
C33: 応急措置後 | N33: 応急措置後
B34: 変状の発生範囲の規模 | M34: 変状の発生範囲の規模
B35: 前回定期点検時の状態 | M35: 前回定期点検時の状態
B36: 調査方針 | M36: 調査方針
B37: 対策履歴 | H37: 実施状況（実施日） | M37: 対策履歴 | S37: 実施状況（実施日）
B38: メモ | M38: メモ
C39: ※ 健全性（応急措置後）の判定区分Ⅱ～Ⅳについて添付すること。また、点検前に 実施された措置によりⅠと判定された箇所も添付すること。 | N39: ※ 変状の発生範囲の規模とは、対策を行う際に参考となる変状の長さや面積をいう。
N40: ※ 応急措置を実施しないで判定した変状の健全性は、健全性の応急措置後の欄に記入すること。
C41: ※ たたき落としを実施した場合は、実施後の写真を添付すること。 | N41: ※ 変状の発生範囲の規模は、面積・寸法を記載すること。
C42: ※ 附属物の取付状態に関する異常写真は別途、様式D-1-2でとりまとめること。 | N42: (ひび割れ幅のみmmとし、その他をm表記とする)
C43: ※ 変状数に準じてシートを追加すること。（１シートに１ページとすること。） | N43: ※ 構造用鋼材以外の異物に伴ううき・はく離については、メモ欄に異物の概要を記入すること。

Sheet 様式D-1-1(トンネル様式2P001) (76)
B2: ■定期点検記録様式 変状写真台帳 | Y2: Ⅰ
B3: フリガナ | D3: オゴオリ | H3: 路線名 | J3: 主要県道 山口宇部線 | M3: 定期点検業者 | P3: 応用地質株式会社 | S3: 定期点検年月日 | U3: 44431 | Y3: Ⅱ
B4: 名 称 | D4: 小郡トンネル | H4: 管理者名 | J4: 山口県防府土木建築事務所 | M4: 定期点検者名 | P4: 國村 省吾 | Y4: Ⅲ
B5: 写真 番号 | C5: 覆工 スパン 番号 | D5: 163 | M5: 写真 番号 | N5: 覆工 スパン 番号 | Y5: Ⅳ
Y6: －
C7: 変状 番号 | D7: 1 | N7: 変状 番号
B9: 変状 部位 | C9: 対象 箇所 | D9: 覆工・坑門 | M9: 変状 部位 | N9: 対象 箇所
C11: 部位 区分 | D11: アーチ（天端） | N11: 部位 区分
B13: 変状区分 | D13: 材質劣化 | M13: 変状区分
B14: 変状種類 | D14: ひび割れ | M14: 変状種類
B15: 健全性 | C15: 応急措置前 | E15: － | M15: 健全性 | N15: 応急措置前
C16: 応急措置後 | E16: Ⅱ | N16: 応急措置後
B17: 変状の発生範囲の規模 | E17: 1.3mm×8.8m他 | M17: 変状の発生範囲の規模
B18: 前回定期点検時の状態 | E18: 同程度 | M18: 前回定期点検時の状態
B19: 調査方針 | E19: - | M19: 調査方針
B20: 対策履歴 | E20: なし | H20: 実施状況（実施日） | J20: - | M20: 対策履歴 | S20: 実施状況（実施日）
B21: メモ | D21: 縦断方向のひび割れ(Ⅱb) | M21: メモ
B22: 写真 番号 | C22: 覆工 スパン 番号 | M22: 写真 番号 | N22: 覆工 スパン 番号
C24: 変状 番号 | N24: 変状 番号
B26: 変状 部位 | C26: 対象 箇所 | M26: 変状 部位 | N26: 対象 箇所
C28: 部位 区分 | N28: 部位 区分
B30: 変状区分 | M30: 変状区分
B31: 変状種類 | M31: 変状種類
B32: 健全性 | C32: 応急措置前 | M32: 健全性 | N32: 応急措置前
C33: 応急措置後 | N33: 応急措置後
B34: 変状の発生範囲の規模 | M34: 変状の発生範囲の規模
B35: 前回定期点検時の状態 | M35: 前回定期点検時の状態
B36: 調査方針 | M36: 調査方針
B37: 対策履歴 | H37: 実施状況（実施日） | M37: 対策履歴 | S37: 実施状況（実施日）
B38: メモ | M38: メモ
C39: ※ 健全性（応急措置後）の判定区分Ⅱ～Ⅳについて添付すること。また、点検前に 実施された措置によりⅠと判定された箇所も添付すること。 | N39: ※ 変状の発生範囲の規模とは、対策を行う際に参考となる変状の長さや面積をいう。
N40: ※ 応急措置を実施しないで判定した変状の健全性は、健全性の応急措置後の欄に記入すること。
C41: ※ たたき落としを実施した場合は、実施後の写真を添付すること。 | N41: ※ 変状の発生範囲の規模は、面積・寸法を記載すること。
C42: ※ 附属物の取付状態に関する異常写真は別途、様式D-1-2でとりまとめること。 | N42: (ひび割れ幅のみmmとし、その他をm表記とする)
C43: ※ 変状数に準じてシートを追加すること。（１シートに１ページとすること。） | N43: ※ 構造用鋼材以外の異物に伴ううき・はく離については、メモ欄に異物の概要を記入すること。

Sheet 様式D-1-1(トンネル様式2P001) (77)
B2: ■定期点検記録様式 変状写真台帳 | Y2: Ⅰ
B3: フリガナ | D3: オゴオリ | H3: 路線名 | J3: 主要県道 山口宇部線 | M3: 定期点検業者 | P3: 応用地質株式会社 | S3: 定期点検年月日 | U3: 44431 | Y3: Ⅱ
B4: 名 称 | D4: 小郡トンネル | H4: 管理者名 | J4: 山口県防府土木建築事務所 | M4: 定期点検者名 | P4: 國村 省吾 | Y4: Ⅲ
B5: 写真 番号 | C5: 覆工 スパン 番号 | D5: 165 | M5: 写真 番号 | N5: 覆工 スパン 番号 | Y5: Ⅳ
Y6: －
C7: 変状 番号 | D7: 1 | N7: 変状 番号
B9: 変状 部位 | C9: 対象 箇所 | D9: 覆工・坑門 | M9: 変状 部位 | N9: 対象 箇所
C11: 部位 区分 | D11: 側壁（右側） | N11: 部位 区分
B13: 変状区分 | D13: 材質劣化 | M13: 変状区分
B14: 変状種類 | D14: 鋼材腐食 | M14: 変状種類
B15: 健全性 | C15: 応急措置前 | E15: － | M15: 健全性 | N15: 応急措置前
C16: 応急措置後 | E16: Ⅱ | N16: 応急措置後
B17: 変状の発生範囲の規模 | E17: 0.1m×0.1m他 | M17: 変状の発生範囲の規模
B18: 前回定期点検時の状態 | E18: 同程度 | M18: 前回定期点検時の状態
B19: 調査方針 | E19: - | M19: 調査方針
B20: 対策履歴 | E20: なし | H20: 実施状況（実施日） | J20: - | M20: 対策履歴 | S20: 実施状況（実施日）
B21: メモ | D21: 2箇所の鋼材露出(Ⅱb)、部分的に露出した鋼材(表面的な腐食)に防錆剤塗布 | M21: メモ
B22: 写真 番号 | C22: 覆工 スパン 番号 | M22: 写真 番号 | N22: 覆工 スパン 番号
C24: 変状 番号 | N24: 変状 番号
B26: 変状 部位 | C26: 対象 箇所 | M26: 変状 部位 | N26: 対象 箇所
C28: 部位 区分 | N28: 部位 区分
B30: 変状区分 | M30: 変状区分
B31: 変状種類 | M31: 変状種類
B32: 健全性 | C32: 応急措置前 | M32: 健全性 | N32: 応急措置前
C33: 応急措置後 | N33: 応急措置後
B34: 変状の発生範囲の規模 | M34: 変状の発生範囲の規模
B35: 前回定期点検時の状態 | M35: 前回定期点検時の状態
B36: 調査方針 | M36: 調査方針
B37: 対策履歴 | H37: 実施状況（実施日） | M37: 対策履歴 | S37: 実施状況（実施日）
B38: メモ | M38: メモ
C39: ※ 健全性（応急措置後）の判定区分Ⅱ～Ⅳについて添付すること。また、点検前に 実施された措置によりⅠと判定された箇所も添付すること。 | N39: ※ 変状の発生範囲の規模とは、対策を行う際に参考となる変状の長さや面積をいう。
N40: ※ 応急措置を実施しないで判定した変状の健全性は、健全性の応急措置後の欄に記入すること。
C41: ※ たたき落としを実施した場合は、実施後の写真を添付すること。 | N41: ※ 変状の発生範囲の規模は、面積・寸法を記載すること。
C42: ※ 附属物の取付状態に関する異常写真は別途、様式D-1-2でとりまとめること。 | N42: (ひび割れ幅のみmmとし、その他をm表記とする)
C43: ※ 変状数に準じてシートを追加すること。（１シートに１ページとすること。） | N43: ※ 構造用鋼材以外の異物に伴ううき・はく離については、メモ欄に異物の概要を記入すること。

Sheet 様式D-1-1(トンネル様式2P001) (78)
B2: ■定期点検記録様式 変状写真台帳 | Y2: Ⅰ
B3: フリガナ | D3: オゴオリ | H3: 路線名 | J3: 主要県道 山口宇部線 | M3: 定期点検業者 | P3: 応用地質株式会社 | S3: 定期点検年月日 | U3: 44431 | Y3: Ⅱ
B4: 名 称 | D4: 小郡トンネル | H4: 管理者名 | J4: 山口県防府土木建築事務所 | M4: 定期点検者名 | P4: 國村 省吾 | Y4: Ⅲ
B5: 写真 番号 | C5: 覆工 スパン 番号 | D5: 166 | M5: 写真 番号 | N5: 覆工 スパン 番号 | Y5: Ⅳ
Y6: －
C7: 変状 番号 | D7: 1 | N7: 変状 番号
B9: 変状 部位 | C9: 対象 箇所 | D9: 覆工・坑門 | M9: 変状 部位 | N9: 対象 箇所
C11: 部位 区分 | D11: アーチ（天端） | N11: 部位 区分
B13: 変状区分 | D13: 材質劣化 | M13: 変状区分
B14: 変状種類 | D14: ひび割れ | M14: 変状種類
B15: 健全性 | C15: 応急措置前 | E15: － | M15: 健全性 | N15: 応急措置前
C16: 応急措置後 | E16: Ⅱ | N16: 応急措置後
B17: 変状の発生範囲の規模 | E17: 1.2mm×7.2m他 | M17: 変状の発生範囲の規模
B18: 前回定期点検時の状態 | E18: 同程度 | M18: 前回定期点検時の状態
B19: 調査方針 | E19: - | M19: 調査方針
B20: 対策履歴 | E20: なし | H20: 実施状況（実施日） | J20: - | M20: 対策履歴 | S20: 実施状況（実施日）
B21: メモ | D21: 縦断方向のひび割れ(Ⅱb) | M21: メモ
B22: 写真 番号 | C22: 覆工 スパン 番号 | M22: 写真 番号 | N22: 覆工 スパン 番号
C24: 変状 番号 | N24: 変状 番号
B26: 変状 部位 | C26: 対象 箇所 | M26: 変状 部位 | N26: 対象 箇所
C28: 部位 区分 | N28: 部位 区分
B30: 変状区分 | M30: 変状区分
B31: 変状種類 | M31: 変状種類
B32: 健全性 | C32: 応急措置前 | M32: 健全性 | N32: 応急措置前
C33: 応急措置後 | N33: 応急措置後
B34: 変状の発生範囲の規模 | M34: 変状の発生範囲の規模
B35: 前回定期点検時の状態 | M35: 前回定期点検時の状態
B36: 調査方針 | M36: 調査方針
B37: 対策履歴 | H37: 実施状況（実施日） | M37: 対策履歴 | S37: 実施状況（実施日）
B38: メモ | M38: メモ
C39: ※ 健全性（応急措置後）の判定区分Ⅱ～Ⅳについて添付すること。また、点検前に 実施された措置によりⅠと判定された箇所も添付すること。 | N39: ※ 変状の発生範囲の規模とは、対策を行う際に参考となる変状の長さや面積をいう。
N40: ※ 応急措置を実施しないで判定した変状の健全性は、健全性の応急措置後の欄に記入すること。
C41: ※ たたき落としを実施した場合は、実施後の写真を添付すること。 | N41: ※ 変状の発生範囲の規模は、面積・寸法を記載すること。
C42: ※ 附属物の取付状態に関する異常写真は別途、様式D-1-2でとりまとめること。 | N42: (ひび割れ幅のみmmとし、その他をm表記とする)
C43: ※ 変状数に準じてシートを追加すること。（１シートに１ページとすること。） | N43: ※ 構造用鋼材以外の異物に伴ううき・はく離については、メモ欄に異物の概要を記入すること。

Sheet 様式D-1-1(トンネル様式2P001) (79)
B2: ■定期点検記録様式 変状写真台帳 | Y2: Ⅰ
B3: フリガナ | D3: オゴオリ | H3: 路線名 | J3: 主要県道 山口宇部線 | M3: 定期点検業者 | P3: 応用地質株式会社 | S3: 定期点検年月日 | U3: 44431 | Y3: Ⅱ
B4: 名 称 | D4: 小郡トンネル | H4: 管理者名 | J4: 山口県防府土木建築事務所 | M4: 定期点検者名 | P4: 國村 省吾 | Y4: Ⅲ
B5: 写真 番号 | C5: 覆工 スパン 番号 | D5: 168 | M5: 写真 番号 | N5: 覆工 スパン 番号 | Y5: Ⅳ
Y6: －
C7: 変状 番号 | D7: 1 | N7: 変状 番号
B9: 変状 部位 | C9: 対象 箇所 | D9: 覆工・坑門 | M9: 変状 部位 | N9: 対象 箇所
C11: 部位 区分 | D11: アーチ（天端） | N11: 部位 区分
B13: 変状区分 | D13: 材質劣化 | M13: 変状区分
B14: 変状種類 | D14: ひび割れ | M14: 変状種類
B15: 健全性 | C15: 応急措置前 | E15: － | M15: 健全性 | N15: 応急措置前
C16: 応急措置後 | E16: Ⅱ | N16: 応急措置後
B17: 変状の発生範囲の規模 | E17: 1.2mm×8.5m | M17: 変状の発生範囲の規模
B18: 前回定期点検時の状態 | E18: 同程度 | M18: 前回定期点検時の状態
B19: 調査方針 | E19: - | M19: 調査方針
B20: 対策履歴 | E20: なし | H20: 実施状況（実施日） | J20: - | M20: 対策履歴 | S20: 実施状況（実施日）
B21: メモ | D21: 縦断方向のひび割れ(Ⅱb) | M21: メモ
B22: 写真 番号 | C22: 覆工 スパン 番号 | M22: 写真 番号 | N22: 覆工 スパン 番号
C24: 変状 番号 | N24: 変状 番号
B26: 変状 部位 | C26: 対象 箇所 | M26: 変状 部位 | N26: 対象 箇所
C28: 部位 区分 | N28: 部位 区分
B30: 変状区分 | M30: 変状区分
B31: 変状種類 | M31: 変状種類
B32: 健全性 | C32: 応急措置前 | M32: 健全性 | N32: 応急措置前
C33: 応急措置後 | N33: 応急措置後
B34: 変状の発生範囲の規模 | M34: 変状の発生範囲の規模
B35: 前回定期点検時の状態 | M35: 前回定期点検時の状態
B36: 調査方針 | M36: 調査方針
B37: 対策履歴 | H37: 実施状況（実施日） | M37: 対策履歴 | S37: 実施状況（実施日）
B38: メモ | M38: メモ
C39: ※ 健全性（応急措置後）の判定区分Ⅱ～Ⅳについて添付すること。また、点検前に 実施された措置によりⅠと判定された箇所も添付すること。 | N39: ※ 変状の発生範囲の規模とは、対策を行う際に参考となる変状の長さや面積をいう。
N40: ※ 応急措置を実施しないで判定した変状の健全性は、健全性の応急措置後の欄に記入すること。
C41: ※ たたき落としを実施した場合は、実施後の写真を添付すること。 | N41: ※ 変状の発生範囲の規模は、面積・寸法を記載すること。
C42: ※ 附属物の取付状態に関する異常写真は別途、様式D-1-2でとりまとめること。 | N42: (ひび割れ幅のみmmとし、その他をm表記とする)
C43: ※ 変状数に準じてシートを追加すること。（１シートに１ページとすること。） | N43: ※ 構造用鋼材以外の異物に伴ううき・はく離については、メモ欄に異物の概要を記入すること。

Sheet 様式D-1-1(トンネル様式2P001) (80)
B2: ■定期点検記録様式 変状写真台帳 | Y2: Ⅰ
B3: フリガナ | D3: オゴオリ | H3: 路線名 | J3: 主要県道 山口宇部線 | M3: 定期点検業者 | P3: 応用地質株式会社 | S3: 定期点検年月日 | U3: 44431 | Y3: Ⅱ
B4: 名 称 | D4: 小郡トンネル | H4: 管理者名 | J4: 山口県防府土木建築事務所 | M4: 定期点検者名 | P4: 國村 省吾 | Y4: Ⅲ
B5: 写真 番号 | C5: 覆工 スパン 番号 | D5: 171 | M5: 写真 番号 | N5: 覆工 スパン 番号 | Y5: Ⅳ
Y6: －
C7: 変状 番号 | D7: 1 | N7: 変状 番号
B9: 変状 部位 | C9: 対象 箇所 | D9: 覆工・坑門 | M9: 変状 部位 | N9: 対象 箇所
C11: 部位 区分 | D11: アーチ（天端） | N11: 部位 区分
B13: 変状区分 | D13: 材質劣化 | M13: 変状区分
B14: 変状種類 | D14: ひび割れ | M14: 変状種類
B15: 健全性 | C15: 応急措置前 | E15: － | M15: 健全性 | N15: 応急措置前
C16: 応急措置後 | E16: Ⅱ | N16: 応急措置後
B17: 変状の発生範囲の規模 | E17: 1.4mm×10.6m | M17: 変状の発生範囲の規模
B18: 前回定期点検時の状態 | E18: 同程度 | M18: 前回定期点検時の状態
B19: 調査方針 | E19: - | M19: 調査方針
B20: 対策履歴 | E20: なし | H20: 実施状況（実施日） | J20: - | M20: 対策履歴 | S20: 実施状況（実施日）
B21: メモ | D21: 縦断方向のひび割れ(Ⅱb) | M21: メモ
B22: 写真 番号 | C22: 覆工 スパン 番号 | M22: 写真 番号 | N22: 覆工 スパン 番号
C24: 変状 番号 | N24: 変状 番号
B26: 変状 部位 | C26: 対象 箇所 | M26: 変状 部位 | N26: 対象 箇所
C28: 部位 区分 | N28: 部位 区分
B30: 変状区分 | M30: 変状区分
B31: 変状種類 | M31: 変状種類
B32: 健全性 | C32: 応急措置前 | M32: 健全性 | N32: 応急措置前
C33: 応急措置後 | N33: 応急措置後
B34: 変状の発生範囲の規模 | M34: 変状の発生範囲の規模
B35: 前回定期点検時の状態 | M35: 前回定期点検時の状態
B36: 調査方針 | M36: 調査方針
B37: 対策履歴 | H37: 実施状況（実施日） | M37: 対策履歴 | S37: 実施状況（実施日）
B38: メモ | M38: メモ
C39: ※ 健全性（応急措置後）の判定区分Ⅱ～Ⅳについて添付すること。また、点検前に 実施された措置によりⅠと判定された箇所も添付すること。 | N39: ※ 変状の発生範囲の規模とは、対策を行う際に参考となる変状の長さや面積をいう。
N40: ※ 応急措置を実施しないで判定した変状の健全性は、健全性の応急措置後の欄に記入すること。
C41: ※ たたき落としを実施した場合は、実施後の写真を添付すること。 | N41: ※ 変状の発生範囲の規模は、面積・寸法を記載すること。
C42: ※ 附属物の取付状態に関する異常写真は別途、様式D-1-2でとりまとめること。 | N42: (ひび割れ幅のみmmとし、その他をm表記とする)
C43: ※ 変状数に準じてシートを追加すること。（１シートに１ページとすること。） | N43: ※ 構造用鋼材以外の異物に伴ううき・はく離については、メモ欄に異物の概要を記入すること。

Sheet 様式D-1-1(トンネル様式2P001) (81)
B2: ■定期点検記録様式 変状写真台帳 | Y2: Ⅰ
B3: フリガナ | D3: オゴオリ | H3: 路線名 | J3: 主要県道 山口宇部線 | M3: 定期点検業者 | P3: 応用地質株式会社 | S3: 定期点検年月日 | U3: 44431 | Y3: Ⅱ
B4: 名 称 | D4: 小郡トンネル | H4: 管理者名 | J4: 山口県防府土木建築事務所 | M4: 定期点検者名 | P4: 國村 省吾 | Y4: Ⅲ
B5: 写真 番号 | C5: 覆工 スパン 番号 | D5: 172 | M5: 写真 番号 | N5: 覆工 スパン 番号 | O5: 172 | Y5: Ⅳ
Y6: －
C7: 変状 番号 | D7: 1 | N7: 変状 番号 | O7: 2
B9: 変状 部位 | C9: 対象 箇所 | D9: 覆工・坑門 | M9: 変状 部位 | N9: 対象 箇所 | O9: 覆工・坑門
C11: 部位 区分 | D11: 側壁（右側） | N11: 部位 区分 | O11: アーチ（天端）
B13: 変状区分 | D13: 材質劣化 | M13: 変状区分 | O13: 材質劣化
B14: 変状種類 | D14: 鋼材腐食 | M14: 変状種類 | O14: ひび割れ
B15: 健全性 | C15: 応急措置前 | E15: － | M15: 健全性 | N15: 応急措置前 | P15: －
C16: 応急措置後 | E16: Ⅱ | N16: 応急措置後 | P16: Ⅱ
B17: 変状の発生範囲の規模 | E17: 0.1m×0.1m | M17: 変状の発生範囲の規模 | P17: 1.3mm×6.0m他
B18: 前回定期点検時の状態 | E18: 同程度 | M18: 前回定期点検時の状態 | P18: 同程度
B19: 調査方針 | E19: - | M19: 調査方針 | P19: -
B20: 対策履歴 | E20: なし | H20: 実施状況（実施日） | J20: - | M20: 対策履歴 | P20: なし | S20: 実施状況（実施日） | U20: -
B21: メモ | D21: 鋼材露出(Ⅱb)、部分的に露出した鋼材(表面的な腐食)に防錆剤塗布 | M21: メモ | O21: 縦横断方向に複数のひび割れ(Ⅱb)
B22: 写真 番号 | C22: 覆工 スパン 番号 | M22: 写真 番号 | N22: 覆工 スパン 番号
C24: 変状 番号 | N24: 変状 番号
B26: 変状 部位 | C26: 対象 箇所 | M26: 変状 部位 | N26: 対象 箇所
C28: 部位 区分 | N28: 部位 区分
B30: 変状区分 | M30: 変状区分
B31: 変状種類 | M31: 変状種類
B32: 健全性 | C32: 応急措置前 | M32: 健全性 | N32: 応急措置前
C33: 応急措置後 | N33: 応急措置後
B34: 変状の発生範囲の規模 | M34: 変状の発生範囲の規模
B35: 前回定期点検時の状態 | M35: 前回定期点検時の状態
B36: 調査方針 | M36: 調査方針
B37: 対策履歴 | H37: 実施状況（実施日） | M37: 対策履歴 | S37: 実施状況（実施日）
B38: メモ | M38: メモ
C39: ※ 健全性（応急措置後）の判定区分Ⅱ～Ⅳについて添付すること。また、点検前に 実施された措置によりⅠと判定された箇所も添付すること。 | N39: ※ 変状の発生範囲の規模とは、対策を行う際に参考となる変状の長さや面積をいう。
N40: ※ 応急措置を実施しないで判定した変状の健全性は、健全性の応急措置後の欄に記入すること。
C41: ※ たたき落としを実施した場合は、実施後の写真を添付すること。 | N41: ※ 変状の発生範囲の規模は、面積・寸法を記載すること。
C42: ※ 附属物の取付状態に関する異常写真は別途、様式D-1-2でとりまとめること。 | N42: (ひび割れ幅のみmmとし、その他をm表記とする)
C43: ※ 変状数に準じてシートを追加すること。（１シートに１ページとすること。） | N43: ※ 構造用鋼材以外の異物に伴ううき・はく離については、メモ欄に異物の概要を記入すること。

Sheet 様式D-1-1(トンネル様式2P001) (82)
B2: ■定期点検記録様式 変状写真台帳 | Y2: Ⅰ
B3: フリガナ | D3: オゴオリ | H3: 路線名 | J3: 主要県道 山口宇部線 | M3: 定期点検業者 | P3: 応用地質株式会社 | S3: 定期点検年月日 | U3: 44431 | Y3: Ⅱ
B4: 名 称 | D4: 小郡トンネル | H4: 管理者名 | J4: 山口県防府土木建築事務所 | M4: 定期点検者名 | P4: 國村 省吾 | Y4: Ⅲ
B5: 写真 番号 | C5: 覆工 スパン 番号 | D5: 174 | M5: 写真 番号 | N5: 覆工 スパン 番号 | Y5: Ⅳ
Y6: －
C7: 変状 番号 | D7: 1 | N7: 変状 番号
B9: 変状 部位 | C9: 対象 箇所 | D9: 覆工・坑門 | M9: 変状 部位 | N9: 対象 箇所
C11: 部位 区分 | D11: アーチ（天端） | N11: 部位 区分
B13: 変状区分 | D13: 材質劣化 | M13: 変状区分
B14: 変状種類 | D14: ひび割れ | M14: 変状種類
B15: 健全性 | C15: 応急措置前 | E15: － | M15: 健全性 | N15: 応急措置前
C16: 応急措置後 | E16: Ⅱ | N16: 応急措置後
B17: 変状の発生範囲の規模 | E17: 1.3mm×10.5m | M17: 変状の発生範囲の規模
B18: 前回定期点検時の状態 | E18: 同程度 | M18: 前回定期点検時の状態
B19: 調査方針 | E19: - | M19: 調査方針
B20: 対策履歴 | E20: なし | H20: 実施状況（実施日） | J20: - | M20: 対策履歴 | S20: 実施状況（実施日）
B21: メモ | D21: 縦断方向のひび割れ(Ⅱb) | M21: メモ
B22: 写真 番号 | C22: 覆工 スパン 番号 | M22: 写真 番号 | N22: 覆工 スパン 番号
C24: 変状 番号 | N24: 変状 番号
B26: 変状 部位 | C26: 対象 箇所 | M26: 変状 部位 | N26: 対象 箇所
C28: 部位 区分 | N28: 部位 区分
B30: 変状区分 | M30: 変状区分
B31: 変状種類 | M31: 変状種類
B32: 健全性 | C32: 応急措置前 | M32: 健全性 | N32: 応急措置前
C33: 応急措置後 | N33: 応急措置後
B34: 変状の発生範囲の規模 | M34: 変状の発生範囲の規模
B35: 前回定期点検時の状態 | M35: 前回定期点検時の状態
B36: 調査方針 | M36: 調査方針
B37: 対策履歴 | H37: 実施状況（実施日） | M37: 対策履歴 | S37: 実施状況（実施日）
B38: メモ | M38: メモ
C39: ※ 健全性（応急措置後）の判定区分Ⅱ～Ⅳについて添付すること。また、点検前に 実施された措置によりⅠと判定された箇所も添付すること。 | N39: ※ 変状の発生範囲の規模とは、対策を行う際に参考となる変状の長さや面積をいう。
N40: ※ 応急措置を実施しないで判定した変状の健全性は、健全性の応急措置後の欄に記入すること。
C41: ※ たたき落としを実施した場合は、実施後の写真を添付すること。 | N41: ※ 変状の発生範囲の規模は、面積・寸法を記載すること。
C42: ※ 附属物の取付状態に関する異常写真は別途、様式D-1-2でとりまとめること。 | N42: (ひび割れ幅のみmmとし、その他をm表記とする)
C43: ※ 変状数に準じてシートを追加すること。（１シートに１ページとすること。） | N43: ※ 構造用鋼材以外の異物に伴ううき・はく離については、メモ欄に異物の概要を記入すること。

Sheet 様式D-1-1(トンネル様式2P001) (83)
B2: ■定期点検記録様式 変状写真台帳 | Y2: Ⅰ
B3: フリガナ | D3: オゴオリ | H3: 路線名 | J3: 主要県道 山口宇部線 | M3: 定期点検業者 | P3: 応用地質株式会社 | S3: 定期点検年月日 | U3: 44431 | Y3: Ⅱ
B4: 名 称 | D4: 小郡トンネル | H4: 管理者名 | J4: 山口県防府土木建築事務所 | M4: 定期点検者名 | P4: 國村 省吾 | Y4: Ⅲ
B5: 写真 番号 | C5: 覆工 スパン 番号 | D5: 175 | M5: 写真 番号 | N5: 覆工 スパン 番号 | Y5: Ⅳ
Y6: －
C7: 変状 番号 | D7: 1 | N7: 変状 番号
B9: 変状 部位 | C9: 対象 箇所 | D9: 覆工・坑門 | M9: 変状 部位 | N9: 対象 箇所
C11: 部位 区分 | D11: アーチ（天端） | N11: 部位 区分
B13: 変状区分 | D13: 材質劣化 | M13: 変状区分
B14: 変状種類 | D14: ひび割れ | M14: 変状種類
B15: 健全性 | C15: 応急措置前 | E15: － | M15: 健全性 | N15: 応急措置前
C16: 応急措置後 | E16: Ⅱ | N16: 応急措置後
B17: 変状の発生範囲の規模 | E17: 1.0mm×10.7m他 | M17: 変状の発生範囲の規模
B18: 前回定期点検時の状態 | E18: 同程度 | M18: 前回定期点検時の状態
B19: 調査方針 | E19: - | M19: 調査方針
B20: 対策履歴 | E20: なし | H20: 実施状況（実施日） | J20: - | M20: 対策履歴 | S20: 実施状況（実施日）
B21: メモ | D21: 縦断方向に2本のひび割れ(Ⅱb) | M21: メモ
B22: 写真 番号 | C22: 覆工 スパン 番号 | M22: 写真 番号 | N22: 覆工 スパン 番号
C24: 変状 番号 | N24: 変状 番号
B26: 変状 部位 | C26: 対象 箇所 | M26: 変状 部位 | N26: 対象 箇所
C28: 部位 区分 | N28: 部位 区分
B30: 変状区分 | M30: 変状区分
B31: 変状種類 | M31: 変状種類
B32: 健全性 | C32: 応急措置前 | M32: 健全性 | N32: 応急措置前
C33: 応急措置後 | N33: 応急措置後
B34: 変状の発生範囲の規模 | M34: 変状の発生範囲の規模
B35: 前回定期点検時の状態 | M35: 前回定期点検時の状態
B36: 調査方針 | M36: 調査方針
B37: 対策履歴 | H37: 実施状況（実施日） | M37: 対策履歴 | S37: 実施状況（実施日）
B38: メモ | M38: メモ
C39: ※ 健全性（応急措置後）の判定区分Ⅱ～Ⅳについて添付すること。また、点検前に 実施された措置によりⅠと判定された箇所も添付すること。 | N39: ※ 変状の発生範囲の規模とは、対策を行う際に参考となる変状の長さや面積をいう。
N40: ※ 応急措置を実施しないで判定した変状の健全性は、健全性の応急措置後の欄に記入すること。
C41: ※ たたき落としを実施した場合は、実施後の写真を添付すること。 | N41: ※ 変状の発生範囲の規模は、面積・寸法を記載すること。
C42: ※ 附属物の取付状態に関する異常写真は別途、様式D-1-2でとりまとめること。 | N42: (ひび割れ幅のみmmとし、その他をm表記とする)
C43: ※ 変状数に準じてシートを追加すること。（１シートに１ページとすること。） | N43: ※ 構造用鋼材以外の異物に伴ううき・はく離については、メモ欄に異物の概要を記入すること。

Sheet 様式D-1-1(トンネル様式2P001) (84)
B2: ■定期点検記録様式 変状写真台帳 | Y2: Ⅰ
B3: フリガナ | D3: オゴオリ | H3: 路線名 | J3: 主要県道 山口宇部線 | M3: 定期点検業者 | P3: 応用地質株式会社 | S3: 定期点検年月日 | U3: 44431 | Y3: Ⅱ
B4: 名 称 | D4: 小郡トンネル | H4: 管理者名 | J4: 山口県防府土木建築事務所 | M4: 定期点検者名 | P4: 國村 省吾 | Y4: Ⅲ
B5: 写真 番号 | C5: 覆工 スパン 番号 | D5: 176 | M5: 写真 番号 | N5: 覆工 スパン 番号 | O5: 176 | Y5: Ⅳ
Y6: －
C7: 変状 番号 | D7: 1 | N7: 変状 番号 | O7: 2
B9: 変状 部位 | C9: 対象 箇所 | D9: 覆工・坑門 | M9: 変状 部位 | N9: 対象 箇所 | O9: 覆工・坑門
C11: 部位 区分 | D11: アーチ（天端） | N11: 部位 区分 | O11: アーチ（天端）
B13: 変状区分 | D13: 材質劣化 | M13: 変状区分 | O13: 材質劣化
B14: 変状種類 | D14: ひび割れ | M14: 変状種類 | O14: うき・はく離
B15: 健全性 | C15: 応急措置前 | E15: － | M15: 健全性 | N15: 応急措置前 | P15: Ⅱ
C16: 応急措置後 | E16: Ⅱ | N16: 応急措置後 | P16: Ⅰ
B17: 変状の発生範囲の規模 | E17: 1.5mm×10.6m他 | M17: 変状の発生範囲の規模 | P17: 0.1m×0.05m
B18: 前回定期点検時の状態 | E18: 同程度 | M18: 前回定期点検時の状態 | P18: なし
B19: 調査方針 | E19: - | M19: 調査方針 | P19: -
B20: 対策履歴 | E20: なし | H20: 実施状況（実施日） | J20: - | M20: 対策履歴 | P20: なし | S20: 実施状況（実施日） | U20: -
B21: メモ | D21: 縦断方向に2本のひび割れ(Ⅱb) | M21: メモ | O21: 目地沿いのうき、今回定期点検時に叩き落とし実施(Ⅱa→Ⅰ)、(深さ50mm未満)、浸透性固化材塗布
B22: 写真 番号 | C22: 覆工 スパン 番号 | M22: 写真 番号 | N22: 覆工 スパン 番号
C24: 変状 番号 | N24: 変状 番号
B26: 変状 部位 | C26: 対象 箇所 | M26: 変状 部位 | N26: 対象 箇所
C28: 部位 区分 | N28: 部位 区分
B30: 変状区分 | M30: 変状区分
B31: 変状種類 | M31: 変状種類
B32: 健全性 | C32: 応急措置前 | M32: 健全性 | N32: 応急措置前
C33: 応急措置後 | N33: 応急措置後
B34: 変状の発生範囲の規模 | M34: 変状の発生範囲の規模
B35: 前回定期点検時の状態 | M35: 前回定期点検時の状態
B36: 調査方針 | M36: 調査方針
B37: 対策履歴 | H37: 実施状況（実施日） | M37: 対策履歴 | S37: 実施状況（実施日）
B38: メモ | M38: メモ
C39: ※ 健全性（応急措置後）の判定区分Ⅱ～Ⅳについて添付すること。また、点検前に 実施された措置によりⅠと判定された箇所も添付すること。 | N39: ※ 変状の発生範囲の規模とは、対策を行う際に参考となる変状の長さや面積をいう。
N40: ※ 応急措置を実施しないで判定した変状の健全性は、健全性の応急措置後の欄に記入すること。
C41: ※ たたき落としを実施した場合は、実施後の写真を添付すること。 | N41: ※ 変状の発生範囲の規模は、面積・寸法を記載すること。
C42: ※ 附属物の取付状態に関する異常写真は別途、様式D-1-2でとりまとめること。 | N42: (ひび割れ幅のみmmとし、その他をm表記とする)
C43: ※ 変状数に準じてシートを追加すること。（１シートに１ページとすること。） | N43: ※ 構造用鋼材以外の異物に伴ううき・はく離については、メモ欄に異物の概要を記入すること。

Sheet 様式D-1-1(トンネル様式2P001) (85)
B2: ■定期点検記録様式 変状写真台帳 | Y2: Ⅰ
B3: フリガナ | D3: オゴオリ | H3: 路線名 | J3: 主要県道 山口宇部線 | M3: 定期点検業者 | P3: 応用地質株式会社 | S3: 定期点検年月日 | U3: 44431 | Y3: Ⅱ
B4: 名 称 | D4: 小郡トンネル | H4: 管理者名 | J4: 山口県防府土木建築事務所 | M4: 定期点検者名 | P4: 國村 省吾 | Y4: Ⅲ
B5: 写真 番号 | C5: 覆工 スパン 番号 | D5: 177 | M5: 写真 番号 | N5: 覆工 スパン 番号 | Y5: Ⅳ
Y6: －
C7: 変状 番号 | D7: 1 | N7: 変状 番号
B9: 変状 部位 | C9: 対象 箇所 | D9: 覆工・坑門 | M9: 変状 部位 | N9: 対象 箇所
C11: 部位 区分 | D11: アーチ（天端） | N11: 部位 区分
B13: 変状区分 | D13: 材質劣化 | M13: 変状区分
B14: 変状種類 | D14: ひび割れ | M14: 変状種類
B15: 健全性 | C15: 応急措置前 | E15: － | M15: 健全性 | N15: 応急措置前
C16: 応急措置後 | E16: Ⅱ | N16: 応急措置後
B17: 変状の発生範囲の規模 | E17: 1.7mm×10.5m | M17: 変状の発生範囲の規模
B18: 前回定期点検時の状態 | E18: 同程度 | M18: 前回定期点検時の状態
B19: 調査方針 | E19: - | M19: 調査方針
B20: 対策履歴 | E20: なし | H20: 実施状況（実施日） | J20: - | M20: 対策履歴 | S20: 実施状況（実施日）
B21: メモ | D21: 縦断方向のひび割れ(Ⅱb) | M21: メモ
B22: 写真 番号 | C22: 覆工 スパン 番号 | M22: 写真 番号 | N22: 覆工 スパン 番号
C24: 変状 番号 | N24: 変状 番号
B26: 変状 部位 | C26: 対象 箇所 | M26: 変状 部位 | N26: 対象 箇所
C28: 部位 区分 | N28: 部位 区分
B30: 変状区分 | M30: 変状区分
B31: 変状種類 | M31: 変状種類
B32: 健全性 | C32: 応急措置前 | M32: 健全性 | N32: 応急措置前
C33: 応急措置後 | N33: 応急措置後
B34: 変状の発生範囲の規模 | M34: 変状の発生範囲の規模
B35: 前回定期点検時の状態 | M35: 前回定期点検時の状態
B36: 調査方針 | M36: 調査方針
B37: 対策履歴 | H37: 実施状況（実施日） | M37: 対策履歴 | S37: 実施状況（実施日）
B38: メモ | M38: メモ
C39: ※ 健全性（応急措置後）の判定区分Ⅱ～Ⅳについて添付すること。また、点検前に 実施された措置によりⅠと判定された箇所も添付すること。 | N39: ※ 変状の発生範囲の規模とは、対策を行う際に参考となる変状の長さや面積をいう。
N40: ※ 応急措置を実施しないで判定した変状の健全性は、健全性の応急措置後の欄に記入すること。
C41: ※ たたき落としを実施した場合は、実施後の写真を添付すること。 | N41: ※ 変状の発生範囲の規模は、面積・寸法を記載すること。
C42: ※ 附属物の取付状態に関する異常写真は別途、様式D-1-2でとりまとめること。 | N42: (ひび割れ幅のみmmとし、その他をm表記とする)
C43: ※ 変状数に準じてシートを追加すること。（１シートに１ページとすること。） | N43: ※ 構造用鋼材以外の異物に伴ううき・はく離については、メモ欄に異物の概要を記入すること。

Sheet 様式D-1-1(トンネル様式2P001) (86)
B2: ■定期点検記録様式 変状写真台帳 | Y2: Ⅰ
B3: フリガナ | D3: オゴオリ | H3: 路線名 | J3: 主要県道 山口宇部線 | M3: 定期点検業者 | P3: 応用地質株式会社 | S3: 定期点検年月日 | U3: 44431 | Y3: Ⅱ
B4: 名 称 | D4: 小郡トンネル | H4: 管理者名 | J4: 山口県防府土木建築事務所 | M4: 定期点検者名 | P4: 國村 省吾 | Y4: Ⅲ
B5: 写真 番号 | C5: 覆工 スパン 番号 | D5: 178 | M5: 写真 番号 | N5: 覆工 スパン 番号 | O5: 178 | Y5: Ⅳ
Y6: －
C7: 変状 番号 | D7: 1 | N7: 変状 番号 | O7: 2
B9: 変状 部位 | C9: 対象 箇所 | D9: 覆工・坑門 | M9: 変状 部位 | N9: 対象 箇所 | O9: 覆工・坑門
C11: 部位 区分 | D11: アーチ（天端） | N11: 部位 区分 | O11: アーチ（天端）
B13: 変状区分 | D13: 材質劣化 | M13: 変状区分 | O13: 材質劣化
B14: 変状種類 | D14: ひび割れ | M14: 変状種類 | O14: うき・はく離
B15: 健全性 | C15: 応急措置前 | E15: － | M15: 健全性 | N15: 応急措置前 | P15: －
C16: 応急措置後 | E16: Ⅱ | N16: 応急措置後 | P16: Ⅱ
B17: 変状の発生範囲の規模 | E17: 1.6mm×10.5m他 | M17: 変状の発生範囲の規模 | P17: 0.15m×0.25m
B18: 前回定期点検時の状態 | E18: 1.6mm×10.5m | M18: 前回定期点検時の状態 | P18: なし
B19: 調査方針 | E19: - | M19: 調査方針 | P19: -
B20: 対策履歴 | E20: なし | H20: 実施状況（実施日） | J20: - | M20: 対策履歴 | P20: なし | S20: 実施状況（実施日） | U20: -
B21: メモ | D21: 縦横断方向に複数のひび割れ(Ⅱb)、進行性あり | M21: メモ | O21: はく落懸念箇所(Ⅱb)、打音異常なし
B22: 写真 番号 | C22: 覆工 スパン 番号 | M22: 写真 番号 | N22: 覆工 スパン 番号
C24: 変状 番号 | N24: 変状 番号
B26: 変状 部位 | C26: 対象 箇所 | M26: 変状 部位 | N26: 対象 箇所
C28: 部位 区分 | N28: 部位 区分
B30: 変状区分 | M30: 変状区分
B31: 変状種類 | M31: 変状種類
B32: 健全性 | C32: 応急措置前 | M32: 健全性 | N32: 応急措置前
C33: 応急措置後 | N33: 応急措置後
B34: 変状の発生範囲の規模 | M34: 変状の発生範囲の規模
B35: 前回定期点検時の状態 | M35: 前回定期点検時の状態
B36: 調査方針 | M36: 調査方針
B37: 対策履歴 | H37: 実施状況（実施日） | M37: 対策履歴 | S37: 実施状況（実施日）
B38: メモ | M38: メモ
C39: ※ 健全性（応急措置後）の判定区分Ⅱ～Ⅳについて添付すること。また、点検前に 実施された措置によりⅠと判定された箇所も添付すること。 | N39: ※ 変状の発生範囲の規模とは、対策を行う際に参考となる変状の長さや面積をいう。
N40: ※ 応急措置を実施しないで判定した変状の健全性は、健全性の応急措置後の欄に記入すること。
C41: ※ たたき落としを実施した場合は、実施後の写真を添付すること。 | N41: ※ 変状の発生範囲の規模は、面積・寸法を記載すること。
C42: ※ 附属物の取付状態に関する異常写真は別途、様式D-1-2でとりまとめること。 | N42: (ひび割れ幅のみmmとし、その他をm表記とする)
C43: ※ 変状数に準じてシートを追加すること。（１シートに１ページとすること。） | N43: ※ 構造用鋼材以外の異物に伴ううき・はく離については、メモ欄に異物の概要を記入すること。

Sheet 様式D-1-1(トンネル様式2P001) (87)
B2: ■定期点検記録様式 変状写真台帳 | Y2: Ⅰ
B3: フリガナ | D3: オゴオリ | H3: 路線名 | J3: 主要県道 山口宇部線 | M3: 定期点検業者 | P3: 応用地質株式会社 | S3: 定期点検年月日 | U3: 44431 | Y3: Ⅱ
B4: 名 称 | D4: 小郡トンネル | H4: 管理者名 | J4: 山口県防府土木建築事務所 | M4: 定期点検者名 | P4: 國村 省吾 | Y4: Ⅲ
B5: 写真 番号 | C5: 覆工 スパン 番号 | D5: 179 | M5: 写真 番号 | N5: 覆工 スパン 番号 | Y5: Ⅳ
Y6: －
C7: 変状 番号 | D7: 1 | N7: 変状 番号
B9: 変状 部位 | C9: 対象 箇所 | D9: 覆工・坑門 | M9: 変状 部位 | N9: 対象 箇所
C11: 部位 区分 | D11: アーチ（天端） | N11: 部位 区分
B13: 変状区分 | D13: 材質劣化 | M13: 変状区分
B14: 変状種類 | D14: ひび割れ | M14: 変状種類
B15: 健全性 | C15: 応急措置前 | E15: － | M15: 健全性 | N15: 応急措置前
C16: 応急措置後 | E16: Ⅱ | N16: 応急措置後
B17: 変状の発生範囲の規模 | E17: 1.7mm×10.9m | M17: 変状の発生範囲の規模
B18: 前回定期点検時の状態 | E18: 同程度 | M18: 前回定期点検時の状態
B19: 調査方針 | E19: - | M19: 調査方針
B20: 対策履歴 | E20: なし | H20: 実施状況（実施日） | J20: - | M20: 対策履歴 | S20: 実施状況（実施日）
B21: メモ | D21: 縦断方向のひび割れ(Ⅱb) | M21: メモ
B22: 写真 番号 | C22: 覆工 スパン 番号 | M22: 写真 番号 | N22: 覆工 スパン 番号
C24: 変状 番号 | N24: 変状 番号
B26: 変状 部位 | C26: 対象 箇所 | M26: 変状 部位 | N26: 対象 箇所
C28: 部位 区分 | N28: 部位 区分
B30: 変状区分 | M30: 変状区分
B31: 変状種類 | M31: 変状種類
B32: 健全性 | C32: 応急措置前 | M32: 健全性 | N32: 応急措置前
C33: 応急措置後 | N33: 応急措置後
B34: 変状の発生範囲の規模 | M34: 変状の発生範囲の規模
B35: 前回定期点検時の状態 | M35: 前回定期点検時の状態
B36: 調査方針 | M36: 調査方針
B37: 対策履歴 | H37: 実施状況（実施日） | M37: 対策履歴 | S37: 実施状況（実施日）
B38: メモ | M38: メモ
C39: ※ 健全性（応急措置後）の判定区分Ⅱ～Ⅳについて添付すること。また、点検前に 実施された措置によりⅠと判定された箇所も添付すること。 | N39: ※ 変状の発生範囲の規模とは、対策を行う際に参考となる変状の長さや面積をいう。
N40: ※ 応急措置を実施しないで判定した変状の健全性は、健全性の応急措置後の欄に記入すること。
C41: ※ たたき落としを実施した場合は、実施後の写真を添付すること。 | N41: ※ 変状の発生範囲の規模は、面積・寸法を記載すること。
C42: ※ 附属物の取付状態に関する異常写真は別途、様式D-1-2でとりまとめること。 | N42: (ひび割れ幅のみmmとし、その他をm表記とする)
C43: ※ 変状数に準じてシートを追加すること。（１シートに１ページとすること。） | N43: ※ 構造用鋼材以外の異物に伴ううき・はく離については、メモ欄に異物の概要を記入すること。

Sheet 様式D-1-1(トンネル様式2P001) (88)
B2: ■定期点検記録様式 変状写真台帳 | Y2: Ⅰ
B3: フリガナ | D3: オゴオリ | H3: 路線名 | J3: 主要県道 山口宇部線 | M3: 定期点検業者 | P3: 応用地質株式会社 | S3: 定期点検年月日 | U3: 44431 | Y3: Ⅱ
B4: 名 称 | D4: 小郡トンネル | H4: 管理者名 | J4: 山口県防府土木建築事務所 | M4: 定期点検者名 | P4: 國村 省吾 | Y4: Ⅲ
B5: 写真 番号 | C5: 覆工 スパン 番号 | D5: 180 | M5: 写真 番号 | N5: 覆工 スパン 番号 | Y5: Ⅳ
Y6: －
C7: 変状 番号 | D7: 1 | N7: 変状 番号
B9: 変状 部位 | C9: 対象 箇所 | D9: 覆工・坑門 | M9: 変状 部位 | N9: 対象 箇所
C11: 部位 区分 | D11: アーチ（天端） | N11: 部位 区分
B13: 変状区分 | D13: 材質劣化 | M13: 変状区分
B14: 変状種類 | D14: ひび割れ | M14: 変状種類
B15: 健全性 | C15: 応急措置前 | E15: － | M15: 健全性 | N15: 応急措置前
C16: 応急措置後 | E16: Ⅱ | N16: 応急措置後
B17: 変状の発生範囲の規模 | E17: 1.3mm×10.7m | M17: 変状の発生範囲の規模
B18: 前回定期点検時の状態 | E18: 同程度 | M18: 前回定期点検時の状態
B19: 調査方針 | E19: - | M19: 調査方針
B20: 対策履歴 | E20: なし | H20: 実施状況（実施日） | J20: - | M20: 対策履歴 | S20: 実施状況（実施日）
B21: メモ | D21: 縦断方向のひび割れ(Ⅱb) | M21: メモ
B22: 写真 番号 | C22: 覆工 スパン 番号 | M22: 写真 番号 | N22: 覆工 スパン 番号
C24: 変状 番号 | N24: 変状 番号
B26: 変状 部位 | C26: 対象 箇所 | M26: 変状 部位 | N26: 対象 箇所
C28: 部位 区分 | N28: 部位 区分
B30: 変状区分 | M30: 変状区分
B31: 変状種類 | M31: 変状種類
B32: 健全性 | C32: 応急措置前 | M32: 健全性 | N32: 応急措置前
C33: 応急措置後 | N33: 応急措置後
B34: 変状の発生範囲の規模 | M34: 変状の発生範囲の規模
B35: 前回定期点検時の状態 | M35: 前回定期点検時の状態
B36: 調査方針 | M36: 調査方針
B37: 対策履歴 | H37: 実施状況（実施日） | M37: 対策履歴 | S37: 実施状況（実施日）
B38: メモ | M38: メモ
C39: ※ 健全性（応急措置後）の判定区分Ⅱ～Ⅳについて添付すること。また、点検前に 実施された措置によりⅠと判定された箇所も添付すること。 | N39: ※ 変状の発生範囲の規模とは、対策を行う際に参考となる変状の長さや面積をいう。
N40: ※ 応急措置を実施しないで判定した変状の健全性は、健全性の応急措置後の欄に記入すること。
C41: ※ たたき落としを実施した場合は、実施後の写真を添付すること。 | N41: ※ 変状の発生範囲の規模は、面積・寸法を記載すること。
C42: ※ 附属物の取付状態に関する異常写真は別途、様式D-1-2でとりまとめること。 | N42: (ひび割れ幅のみmmとし、その他をm表記とする)
C43: ※ 変状数に準じてシートを追加すること。（１シートに１ページとすること。） | N43: ※ 構造用鋼材以外の異物に伴ううき・はく離については、メモ欄に異物の概要を記入すること。

Sheet 様式D-1-1(トンネル様式2P001) (89)
B2: ■定期点検記録様式 変状写真台帳 | Y2: Ⅰ
B3: フリガナ | D3: オゴオリ | H3: 路線名 | J3: 主要県道 山口宇部線 | M3: 定期点検業者 | P3: 応用地質株式会社 | S3: 定期点検年月日 | U3: 44431 | Y3: Ⅱ
B4: 名 称 | D4: 小郡トンネル | H4: 管理者名 | J4: 山口県防府土木建築事務所 | M4: 定期点検者名 | P4: 國村 省吾 | Y4: Ⅲ
B5: 写真 番号 | C5: 覆工 スパン 番号 | D5: 181 | M5: 写真 番号 | N5: 覆工 スパン 番号 | O5: 181 | Y5: Ⅳ
Y6: －
C7: 変状 番号 | D7: 1 | N7: 変状 番号 | O7: 2
B9: 変状 部位 | C9: 対象 箇所 | D9: 覆工・坑門 | M9: 変状 部位 | N9: 対象 箇所 | O9: 覆工・坑門
C11: 部位 区分 | D11: アーチ（天端） | N11: 部位 区分 | O11: アーチ（天端）
B13: 変状区分 | D13: 材質劣化 | M13: 変状区分 | O13: 材質劣化
B14: 変状種類 | D14: ひび割れ | M14: 変状種類 | O14: うき・はく離
B15: 健全性 | C15: 応急措置前 | E15: － | M15: 健全性 | N15: 応急措置前 | P15: Ⅲ
C16: 応急措置後 | E16: Ⅱ | N16: 応急措置後 | P16: Ⅰ
B17: 変状の発生範囲の規模 | E17: 1.3mm×10.5m | M17: 変状の発生範囲の規模 | P17: 0.1m×0.05m
B18: 前回定期点検時の状態 | E18: 同程度 | M18: 前回定期点検時の状態 | P18: なし
B19: 調査方針 | E19: - | M19: 調査方針 | P19: -
B20: 対策履歴 | E20: なし | H20: 実施状況（実施日） | J20: - | M20: 対策履歴 | P20: なし | S20: 実施状況（実施日） | U20: -
B21: メモ | D21: 縦断方向のひび割れ(Ⅱb) | M21: メモ | O21: ブロック化したうき、今回定期点検時に叩き落とし実施(Ⅲ→Ⅰ)、(深さ50mm未満)、浸透性固化材塗布
B22: 写真 番号 | C22: 覆工 スパン 番号 | M22: 写真 番号 | N22: 覆工 スパン 番号
C24: 変状 番号 | N24: 変状 番号
B26: 変状 部位 | C26: 対象 箇所 | M26: 変状 部位 | N26: 対象 箇所
C28: 部位 区分 | N28: 部位 区分
B30: 変状区分 | M30: 変状区分
B31: 変状種類 | M31: 変状種類
B32: 健全性 | C32: 応急措置前 | M32: 健全性 | N32: 応急措置前
C33: 応急措置後 | N33: 応急措置後
B34: 変状の発生範囲の規模 | M34: 変状の発生範囲の規模
B35: 前回定期点検時の状態 | M35: 前回定期点検時の状態
B36: 調査方針 | M36: 調査方針
B37: 対策履歴 | H37: 実施状況（実施日） | M37: 対策履歴 | S37: 実施状況（実施日）
B38: メモ | M38: メモ
C39: ※ 健全性（応急措置後）の判定区分Ⅱ～Ⅳについて添付すること。また、点検前に 実施された措置によりⅠと判定された箇所も添付すること。 | N39: ※ 変状の発生範囲の規模とは、対策を行う際に参考となる変状の長さや面積をいう。
N40: ※ 応急措置を実施しないで判定した変状の健全性は、健全性の応急措置後の欄に記入すること。
C41: ※ たたき落としを実施した場合は、実施後の写真を添付すること。 | N41: ※ 変状の発生範囲の規模は、面積・寸法を記載すること。
C42: ※ 附属物の取付状態に関する異常写真は別途、様式D-1-2でとりまとめること。 | N42: (ひび割れ幅のみmmとし、その他をm表記とする)
C43: ※ 変状数に準じてシートを追加すること。（１シートに１ページとすること。） | N43: ※ 構造用鋼材以外の異物に伴ううき・はく離については、メモ欄に異物の概要を記入すること。

Sheet 様式D-1-1(トンネル様式2P001) (90)
B2: ■定期点検記録様式 変状写真台帳 | Y2: Ⅰ
B3: フリガナ | D3: オゴオリ | H3: 路線名 | J3: 主要県道 山口宇部線 | M3: 定期点検業者 | P3: 応用地質株式会社 | S3: 定期点検年月日 | U3: 44431 | Y3: Ⅱ
B4: 名 称 | D4: 小郡トンネル | H4: 管理者名 | J4: 山口県防府土木建築事務所 | M4: 定期点検者名 | P4: 國村 省吾 | Y4: Ⅲ
B5: 写真 番号 | C5: 覆工 スパン 番号 | D5: 183 | M5: 写真 番号 | N5: 覆工 スパン 番号 | Y5: Ⅳ
Y6: －
C7: 変状 番号 | D7: 1 | N7: 変状 番号
B9: 変状 部位 | C9: 対象 箇所 | D9: 覆工・坑門 | M9: 変状 部位 | N9: 対象 箇所
C11: 部位 区分 | D11: アーチ（右側） | N11: 部位 区分
B13: 変状区分 | D13: 材質劣化 | M13: 変状区分
B14: 変状種類 | D14: うき・はく離 | M14: 変状種類
B15: 健全性 | C15: 応急措置前 | E15: Ⅱ | M15: 健全性 | N15: 応急措置前
C16: 応急措置後 | E16: Ⅰ | N16: 応急措置後
B17: 変状の発生範囲の規模 | E17: 0.2m×0.05m | M17: 変状の発生範囲の規模
B18: 前回定期点検時の状態 | E18: なし | M18: 前回定期点検時の状態
B19: 調査方針 | E19: - | M19: 調査方針
B20: 対策履歴 | E20: なし | H20: 実施状況（実施日） | J20: - | M20: 対策履歴 | S20: 実施状況（実施日）
B21: メモ | D21: 目地部のうき、今回定期点検時に叩き落とし実施(Ⅱb→Ⅰ)、(深さ50mm未満)、浸透性固化材塗布 | M21: メモ
B22: 写真 番号 | C22: 覆工 スパン 番号 | M22: 写真 番号 | N22: 覆工 スパン 番号
C24: 変状 番号 | N24: 変状 番号
B26: 変状 部位 | C26: 対象 箇所 | M26: 変状 部位 | N26: 対象 箇所
C28: 部位 区分 | N28: 部位 区分
B30: 変状区分 | M30: 変状区分
B31: 変状種類 | M31: 変状種類
B32: 健全性 | C32: 応急措置前 | M32: 健全性 | N32: 応急措置前
C33: 応急措置後 | N33: 応急措置後
B34: 変状の発生範囲の規模 | M34: 変状の発生範囲の規模
B35: 前回定期点検時の状態 | M35: 前回定期点検時の状態
B36: 調査方針 | M36: 調査方針
B37: 対策履歴 | H37: 実施状況（実施日） | M37: 対策履歴 | S37: 実施状況（実施日）
B38: メモ | M38: メモ
C39: ※ 健全性（応急措置後）の判定区分Ⅱ～Ⅳについて添付すること。また、点検前に 実施された措置によりⅠと判定された箇所も添付すること。 | N39: ※ 変状の発生範囲の規模とは、対策を行う際に参考となる変状の長さや面積をいう。
N40: ※ 応急措置を実施しないで判定した変状の健全性は、健全性の応急措置後の欄に記入すること。
C41: ※ たたき落としを実施した場合は、実施後の写真を添付すること。 | N41: ※ 変状の発生範囲の規模は、面積・寸法を記載すること。
C42: ※ 附属物の取付状態に関する異常写真は別途、様式D-1-2でとりまとめること。 | N42: (ひび割れ幅のみmmとし、その他をm表記とする)
C43: ※ 変状数に準じてシートを追加すること。（１シートに１ページとすること。） | N43: ※ 構造用鋼材以外の異物に伴ううき・はく離については、メモ欄に異物の概要を記入すること。

Sheet 様式D-1-1(トンネル様式2P001) (91)
B2: ■定期点検記録様式 変状写真台帳 | Y2: Ⅰ
B3: フリガナ | D3: オゴオリ | H3: 路線名 | J3: 主要県道 山口宇部線 | M3: 定期点検業者 | P3: 応用地質株式会社 | S3: 定期点検年月日 | U3: 44431 | Y3: Ⅱ
B4: 名 称 | D4: 小郡トンネル | H4: 管理者名 | J4: 山口県防府土木建築事務所 | M4: 定期点検者名 | P4: 國村 省吾 | Y4: Ⅲ
B5: 写真 番号 | C5: 覆工 スパン 番号 | D5: 191 | M5: 写真 番号 | N5: 覆工 スパン 番号 | Y5: Ⅳ
Y6: －
C7: 変状 番号 | D7: 1 | N7: 変状 番号
B9: 変状 部位 | C9: 対象 箇所 | D9: 覆工・坑門 | M9: 変状 部位 | N9: 対象 箇所
C11: 部位 区分 | D11: アーチ（右側） | N11: 部位 区分
B13: 変状区分 | D13: 材質劣化 | M13: 変状区分
B14: 変状種類 | D14: うき・はく離 | M14: 変状種類
B15: 健全性 | C15: 応急措置前 | E15: － | M15: 健全性 | N15: 応急措置前
C16: 応急措置後 | E16: Ⅱ | N16: 応急措置後
B17: 変状の発生範囲の規模 | E17: 0.05m×0.15m他 | M17: 変状の発生範囲の規模
B18: 前回定期点検時の状態 | E18: なし | M18: 前回定期点検時の状態
B19: 調査方針 | E19: - | M19: 調査方針
B20: 対策履歴 | E20: なし | H20: 実施状況（実施日） | J20: - | M20: 対策履歴 | S20: 実施状況（実施日）
B21: メモ | D21: 2箇所のはく落懸念箇所(Ⅱb)、打音異常なし、浸透性固化材塗布 | M21: メモ
B22: 写真 番号 | C22: 覆工 スパン 番号 | M22: 写真 番号 | N22: 覆工 スパン 番号
C24: 変状 番号 | N24: 変状 番号
B26: 変状 部位 | C26: 対象 箇所 | M26: 変状 部位 | N26: 対象 箇所
C28: 部位 区分 | N28: 部位 区分
B30: 変状区分 | M30: 変状区分
B31: 変状種類 | M31: 変状種類
B32: 健全性 | C32: 応急措置前 | M32: 健全性 | N32: 応急措置前
C33: 応急措置後 | N33: 応急措置後
B34: 変状の発生範囲の規模 | M34: 変状の発生範囲の規模
B35: 前回定期点検時の状態 | M35: 前回定期点検時の状態
B36: 調査方針 | M36: 調査方針
B37: 対策履歴 | H37: 実施状況（実施日） | M37: 対策履歴 | S37: 実施状況（実施日）
B38: メモ | M38: メモ
C39: ※ 健全性（応急措置後）の判定区分Ⅱ～Ⅳについて添付すること。また、点検前に 実施された措置によりⅠと判定された箇所も添付すること。 | N39: ※ 変状の発生範囲の規模とは、対策を行う際に参考となる変状の長さや面積をいう。
N40: ※ 応急措置を実施しないで判定した変状の健全性は、健全性の応急措置後の欄に記入すること。
C41: ※ たたき落としを実施した場合は、実施後の写真を添付すること。 | N41: ※ 変状の発生範囲の規模は、面積・寸法を記載すること。
C42: ※ 附属物の取付状態に関する異常写真は別途、様式D-1-2でとりまとめること。 | N42: (ひび割れ幅のみmmとし、その他をm表記とする)
C43: ※ 変状数に準じてシートを追加すること。（１シートに１ページとすること。） | N43: ※ 構造用鋼材以外の異物に伴ううき・はく離については、メモ欄に異物の概要を記入すること。

Sheet 様式D-1-1(トンネル様式2P001) (92)
B2: ■定期点検記録様式 変状写真台帳 | Y2: Ⅰ
B3: フリガナ | D3: オゴオリ | H3: 路線名 | J3: 主要県道 山口宇部線 | M3: 定期点検業者 | P3: 応用地質株式会社 | S3: 定期点検年月日 | U3: 44431 | Y3: Ⅱ
B4: 名 称 | D4: 小郡トンネル | H4: 管理者名 | J4: 山口県防府土木建築事務所 | M4: 定期点検者名 | P4: 國村 省吾 | Y4: Ⅲ
B5: 写真 番号 | C5: 覆工 スパン 番号 | D5: PE | M5: 写真 番号 | N5: 覆工 スパン 番号 | Y5: Ⅳ
Y6: －
C7: 変状 番号 | D7: 1 | N7: 変状 番号
B9: 変状 部位 | C9: 対象 箇所 | D9: 覆工・坑門 | M9: 変状 部位 | N9: 対象 箇所
C11: 部位 区分 | D11: 面壁・妻壁等 | N11: 部位 区分
B13: 変状区分 | D13: 材質劣化 | M13: 変状区分
B14: 変状種類 | D14: うき・はく離 | M14: 変状種類
B15: 健全性 | C15: 応急措置前 | E15: － | M15: 健全性 | N15: 応急措置前
C16: 応急措置後 | E16: Ⅰ | N16: 応急措置後
B17: 変状の発生範囲の規模 | E17: 0.25m×0.2m | M17: 変状の発生範囲の規模
B18: 前回定期点検時の状態 | E18: 0.25m×0.2m(Ⅲ→Ⅰ)、叩き落とし実施 | M18: 前回定期点検時の状態
B19: 調査方針 | E19: - | M19: 調査方針
B20: 対策履歴 | E20: なし | H20: 実施状況（実施日） | J20: - | M20: 対策履歴 | S20: 実施状況（実施日）
B21: メモ | D21: 前回定期点検時叩き落とし箇所、(深さ50mm未満) | M21: メモ
B22: 写真 番号 | C22: 覆工 スパン 番号 | M22: 写真 番号 | N22: 覆工 スパン 番号
C24: 変状 番号 | N24: 変状 番号
B26: 変状 部位 | C26: 対象 箇所 | M26: 変状 部位 | N26: 対象 箇所
C28: 部位 区分 | N28: 部位 区分
B30: 変状区分 | M30: 変状区分
B31: 変状種類 | M31: 変状種類
B32: 健全性 | C32: 応急措置前 | M32: 健全性 | N32: 応急措置前
C33: 応急措置後 | N33: 応急措置後
B34: 変状の発生範囲の規模 | M34: 変状の発生範囲の規模
B35: 前回定期点検時の状態 | M35: 前回定期点検時の状態
B36: 調査方針 | M36: 調査方針
B37: 対策履歴 | H37: 実施状況（実施日） | M37: 対策履歴 | S37: 実施状況（実施日）
B38: メモ | M38: メモ
C39: ※ 健全性（応急措置後）の判定区分Ⅱ～Ⅳについて添付すること。また、点検前に 実施された措置によりⅠと判定された箇所も添付すること。 | N39: ※ 変状の発生範囲の規模とは、対策を行う際に参考となる変状の長さや面積をいう。
N40: ※ 応急措置を実施しないで判定した変状の健全性は、健全性の応急措置後の欄に記入すること。
C41: ※ たたき落としを実施した場合は、実施後の写真を添付すること。 | N41: ※ 変状の発生範囲の規模は、面積・寸法を記載すること。
C42: ※ 附属物の取付状態に関する異常写真は別途、様式D-1-2でとりまとめること。 | N42: (ひび割れ幅のみmmとし、その他をm表記とする)
C43: ※ 変状数に準じてシートを追加すること。（１シートに１ページとすること。） | N43: ※ 構造用鋼材以外の異物に伴ううき・はく離については、メモ欄に異物の概要を記入すること。

Sheet 様式D-1-2
B2: ■定期点検記録様式 異常写真台帳（トンネル内附属物等の取付状態） 【様式D-1-2】
B3: フリガナ | E3: オゴオリ | I3: 路 線 名 | L3: 主要県道 山口宇部線 | O3: 定期点検業者 | R3: 応用地質株式会社 | U3: 定期点検年月日 | W3: 44431
B4: 名 称 | E4: 小郡トンネル | I4: 管理者名 | L4: 山口県防府土木建築事務所 | O4: 定期点検者名 | R4: 國村 省吾
B5: 覆工スパン番号 | E5: 8 | F5: 異常番号 | I5: 1 | J5: 覆工スパン番号 | M5: 34 | N5: 異常番号 | Q5: 1 | R5: 覆工スパン番号 | U5: 133 | V5: 異常番号 | Y5: 1
B6: 対象箇所 | D6: 照明施設 | E6: ケーブル類 | G6: 部位区分 | I6: ボルト・ﾅｯﾄ・アンカー類 | J6: 対象箇所 | L6: 照明施設 | M6: ケーブル類 | O6: 部位区分 | Q6: ボルト・ﾅｯﾄ・アンカー類 | R6: 対象箇所 | T6: その他施設 | U6: その他 | W6: 部位区分 | Y6: ボルト・ﾅｯﾄ・アンカー類
B7: 異常の種類 | D7: 緩み，脱落 | J7: 異常の種類 | L7: 緩み，脱落 | R7: 異常の種類 | T7: 緩み，脱落
B8: 異常判定区分 | D8: × | E8: メモ | F8: アンカーボルト脱落 | J8: 異常判定区分 | L8: × | M8: メモ | N8: アンカーボルト脱落 | R8: 異常判定区分 | T8: ○ | U8: メモ | V8: 対策済み(アンカー再施工)
B22: 覆工スパン番号 | F22: 異常番号 | J22: 覆工スパン番号 | N22: 異常番号 | R22: 覆工スパン番号 | V22: 異常番号
B23: 対象箇所 | G23: 部位区分 | J23: 対象箇所 | O23: 部位区分 | R23: 対象箇所 | W23: 部位区分
B24: 異常の種類 | J24: 異常の種類 | R24: 異常の種類
B25: 異常判定区分 | E25: メモ | J25: 異常判定区分 | M25: メモ | R25: 異常判定区分 | U25: メモ
B39: 覆工スパン番号 | F39: 異常番号 | J39: 覆工スパン番号 | N39: 異常番号 | R39: 覆工スパン番号 | V39: 異常番号
B40: 対象箇所 | G40: 部位区分 | J40: 対象箇所 | O40: 部位区分 | R40: 対象箇所 | W40: 部位区分
B41: 異常の種類 | J41: 異常の種類 | R41: 異常の種類
B42: 異常判定区分 | E42: メモ | J42: 異常判定区分 | M42: メモ | R42: 異常判定区分 | U42: メモ
D56: ※ 異常判定区分×について記入すること。また、応急措置前に異常判定区分×とした箇所のうち応急措置により○と判定した箇所も記入すること。
D57: ※ 応急措置を実施した場合は、その実施状況が分かる写真を添付すること。
D58: ※ 画像データは100kb程度とする。 | L58: ※ 変状数に準じてシートを追加すること。（１シートに１ページとすること。）

Sheet 様式D-2-1
B3: ■定期点検記録様式 トンネル全体変状展開図 【様式D-2-1】
B4: フリガナ | E4: オゴオリ | J4: 路線名 | M4: 主要県道 山口宇部線 | S4: 定期点検業者 | W4: 応用地質株式会社 | AC4: 定期点検年月日 | AF4: 44431
B5: 名 称 | E5: 小郡トンネル | J5: 管理者名 | M5: 山口県防府土木建築事務所 | S5: 定期点検者名 | W5: 國村 省吾
B6: トンネル変状展開図 | C6: トンネル全体変状展開図
V18: 注１：本展開図は、見下げた状態で記載すること。 注２：覆工スパン番号は横断目地毎（矢板工法の場合は上半アーチ の横断目地毎)に設定すること。 注３：横断目地の変状は前の覆工スパン番号で計上すること。 注４：１枚に収まらない場合は、複数枚に分けて作成すること。
B20: ■定期点検記録様式 トンネル全体変状展開図 【様式D-2-1】
B21: フリガナ | E21: オゴオリ | J21: 路線名 | M21: 主要県道 山口宇部線 | S21: 定期点検業者 | W21: 応用地質株式会社 | AC21: 定期点検年月日 | AF21: 44431
B22: 名 称 | E22: 小郡トンネル | J22: 管理者名 | M22: 山口県防府土木建築事務所 | S22: 定期点検者名 | W22: 國村 省吾
B23: トンネル変状展開図 | C23: トンネル全体変状展開図
V35: 注１：本展開図は、見下げた状態で記載すること。 注２：覆工スパン番号は横断目地毎（矢板工法の場合は上半アーチ の横断目地毎)に設定すること。 注３：横断目地の変状は前の覆工スパン番号で計上すること。 注４：１枚に収まらない場合は、複数枚に分けて作成すること。
B37: ■定期点検記録様式 トンネル全体変状展開図 【様式D-2-1】
B38: フリガナ | E38: オゴオリ | J38: 路線名 | M38: 主要県道 山口宇部線 | S38: 定期点検業者 | W38: 応用地質株式会社 | AC38: 定期点検年月日 | AF38: 44431
B39: 名 称 | E39: 小郡トンネル | J39: 管理者名 | M39: 山口県防府土木建築事務所 | S39: 定期点検者名 | W39: 國村 省吾
B40: トンネル変状展開図 | C40: トンネル全体変状展開図
V52: 注１：本展開図は、見下げた状態で記載すること。 注２：覆工スパン番号は横断目地毎（矢板工法の場合は上半アーチ の横断目地毎)に設定すること。 注３：横断目地の変状は前の覆工スパン番号で計上すること。 注４：１枚に収まらない場合は、複数枚に分けて作成すること。
B54: ■定期点検記録様式 トンネル全体変状展開図 【様式D-2-1】
B55: フリガナ | E55: オゴオリ | J55: 路線名 | M55: 主要県道 山口宇部線 | S55: 定期点検業者 | W55: 応用地質株式会社 | AC55: 定期点検年月日 | AF55: 44431
B56: 名 称 | E56: 小郡トンネル | J56: 管理者名 | M56: 山口県防府土木建築事務所 | S56: 定期点検者名 | W56: 國村 省吾
B57: トンネル変状展開図 | C57: トンネル全体変状展開図
V69: 注１：本展開図は、見下げた状態で記載すること。 注２：覆工スパン番号は横断目地毎（矢板工法の場合は上半アーチ の横断目地毎)に設定すること。 注３：横断目地の変状は前の覆工スパン番号で計上すること。 注４：１枚に収まらない場合は、複数枚に分けて作成すること。
B71: ■定期点検記録様式 トンネル全体変状展開図 【様式D-2-1】
B72: フリガナ | E72: オゴオリ | J72: 路線名 | M72: 主要県道 山口宇部線 | S72: 定期点検業者 | W72: 応用地質株式会社 | AC72: 定期点検年月日 | AF72: 44431
B73: 名 称 | E73: 小郡トンネル | J73: 管理者名 | M73: 山口県防府土木建築事務所 | S73: 定期点検者名 | W73: 國村 省吾
B74: トンネル変状展開図 | C74: トンネル全体変状展開図
V86: 注１：本展開図は、見下げた状態で記載すること。 注２：覆工スパン番号は横断目地毎（矢板工法の場合は上半アーチ の横断目地毎)に設定すること。 注３：横断目地の変状は前の覆工スパン番号で計上すること。 注４：１枚に収まらない場合は、複数枚に分けて作成すること。
B88: ■定期点検記録様式 トンネル全体変状展開図 【様式D-2-1】
B89: フリガナ | E89: オゴオリ | J89: 路線名 | M89: 主要県道 山口宇部線 | S89: 定期点検業者 | W89: 応用地質株式会社 | AC89: 定期点検年月日 | AF89: 44431
B90: 名 称 | E90: 小郡トンネル | J90: 管理者名 | M90: 山口県防府土木建築事務所 | S90: 定期点検者名 | W90: 國村 省吾
B91: トンネル変状展開図 | C91: トンネル全体変状展開図
V103: 注１：本展開図は、見下げた状態で記載すること。 注２：覆工スパン番号は横断目地毎（矢板工法の場合は上半アーチ の横断目地毎)に設定すること。 注３：横断目地の変状は前の覆工スパン番号で計上すること。 注４：１枚に収まらない場合は、複数枚に分けて作成すること。
B105: ■定期点検記録様式 トンネル全体変状展開図 【様式D-2-1】
B106: フリガナ | E106: オゴオリ | J106: 路線名 | M106: 主要県道 山口宇部線 | S106: 定期点検業者 | W106: 応用地質株式会社 | AC106: 定期点検年月日 | AF106: 44431
B107: 名 称 | E107: 小郡トンネル | J107: 管理者名 | M107: 山口県防府土木建築事務所 | S107: 定期点検者名 | W107: 國村 省吾
B108: トンネル変状展開図 | C108: トンネル全体変状展開図
V120: 注１：本展開図は、見下げた状態で記載すること。 注２：覆工スパン番号は横断目地毎（矢板工法の場合は上半アーチ の横断目地毎)に設定すること。 注３：横断目地の変状は前の覆工スパン番号で計上すること。 注４：１枚に収まらない場合は、複数枚に分けて作成すること。
B122: ■定期点検記録様式 トンネル全体変状展開図 【様式D-2-1】
B123: フリガナ | E123: オゴオリ | J123: 路線名 | M123: 主要県道 山口宇部線 | S123: 定期点検業者 | W123: 応用地質株式会社 | AC123: 定期点検年月日 | AF123: 44431
