Workbook
Name その他: '(参考)リスト'!$C$47
Name その他施設: '(参考)リスト'!$C$79:$C$83
Name 換気施設: '(参考)リスト'!$C$56:$C$60
Name 坑門: '(参考)リスト'!$C$31:$C$32
Name 照明施設: '(参考)リスト'!$C$52:$C$54
Name 天井板: '(参考)リスト'!$C$37:$C$39
Name 内装板: '(参考)リスト'!$C$34:$C$35
Name 非常用施設: '(参考)リスト'!$C$62:$C$77
Name 覆工: '(参考)リスト'!$C$16:$C$29
Name 路面: '(参考)リスト'!$C$41:$C$45

Sheet 点検様式作成フロー
A1: 点検様式作成フロ-
A3: 作成フロー図 | H3: 点検調書作成手順
H4: ①様式A-1～A-3（トンネル台帳）
H5: トンネル点検の実施にあたっては，現場点検作業に先行してトンネル情報を収集する。トンネル台帳（様式Ａ－1～様式Ａ－3）はトンネル完成後に作成され，維持管理の段階で引き継がれるが，関連資料等を確認したうえで，追加情報があれば必要に応じて追記することが望ましい。
H9: ②様式D-2-1、様式D-2-1´
H10: 現場点検作業を実施し，近接目視点検で確認した変状状況や補修履歴を忠実に変状展開図に転記する。
H12: ③様式D-1-1、様式D-1-2
H13: 変状展開図や撮影した写真等をもとに，対象トンネルの対策区分を決定し，対策区分がⅡ～Ⅳの変状および異常判定区分「×」を抽出し，写真台帳を作成する。
H16: ④様式B
H17: 写真台帳の作成と同時に，トンネルの構造を展開した位置図に変状写真位置を記録する。
H19: ⑤様式D-3
H20: 変状展開図ならびに写真台帳をもとに覆工スパンごとの変状展開図を作成し，変状発生状況をとりまとめる。
H22: ⑥様式E
H23: 近接目視または打音検査，触診ができていない箇所および近接目視によらない方法を講じた場所に対する調査結果を記録する。
... H33: ファイルは以下の分割規則に従う。 ※各ファイルとも （参考）リスト のシートを付けて保存すること。 ・様式A-1～A-3は同一ファイルとする。 ・様式B、D-1-1、D-1-2、D-2-1（もしくはD-2-1'）は別ファイルとする。 ・様式C-1-1、C-1-2、C-2は同一ファイルとする。 ・様式D-3、E、F、Gは同一ファイルとする。

Sheet 様式A-1
B2: ■トンネル台帳 トンネル諸元、非常用施設諸元 【様式A-1】 | S2: 施設ID | W2: 34.31681,131.15364
B3: フリガナ | D3: (ｺﾊﾞﾗﾄﾝﾈﾙ) | H3: 路線名 | J3: 国道491号（長門・俵山道路） | P3: 管理者名 | R3: 山口県長門土木建築事務所 | W3: 緊急輸送道路 | Z3: 一次
B4: 名 称 | D4: 小原トンネル | W4: 代替路の有無 | Z4: 有
B5: 所在地 | D5: 自 | E5: 山口県長門市俵山小原地先 | H5: 作成者 | K5: 株式会社荒谷建設コンサルタント 河野 秀生 | P5: 作成年月日 | R5: 45747 | U5: トンネル延長 | X5: L= | Z5: 1243.1 | AB5: ｍ
D6: 至 | E6: 山口県長門市深川湯本地先 | U6: ﾄﾝﾈﾙの分類 | X6: 陸上トンネル（掘進工法）
B7: 起点 | C7: 緯度 | E7: 341832.76 | H7: 完成年月日 | K7: 2018/10 | M7: 舗装 | O7: 種 別 | Q7: コンクリート系 | S7: トンネル非常用施設 | T7: 施設の内訳 | X7: 種別・方式 | Y7: 型式 | Z7: 個数 | AA7: 更新年度 | AE7: =INT(E7/10000) -> 34 | AF7: =INT(E7/100)-AE7*100 -> 18 | AG7: =E7-AE7*10000-AF7*100 -> 32.76 | AH7: =ROUND(AE7+AF7/60+AG7/60/60,5) -> 34.3091 | AI7: =TEXT(AH7,"0.00000") -> 34.30910
C8: 経度 | E8: 1310837.9 | H8: 供用年月日 | K8: 43716 | O8: 厚 さ | Q8: 0.25m＋0.15m | T8: 通報設備 | U8: 通話型通報設備 | X8: 非常電話 | Y8: 坑内 | Z8: 13 | AE8: =INT(E8/10000) -> 131 | AF8: =INT(E8/100)-AE8*100 -> 8 | AG8: =E8-AE8*10000-AF8*100 -> 37.9 | AH8: =ROUND(AE8+AF8/60+AG8/60/60,5) -> 131.14386 | AI8: =TEXT(AH8,"0.00000") -> 131.14386
B9: 終点 | C9: 緯度 | E9: 341900.5 | H9: トンネル区分 | K9: A等級 | O9: 面 積 | U9: 操作型通報設備 | X9: 押しﾎﾞﾀﾝ式 通報装置 | Z9: 51
C10: 経度 | E10: 1310913 | H10: 内装種類 | K10: 覆工（内装なし） | O10: 更新年次 | U10: 自動通報設備
B11: 一般有料区分 | E11: 一般（無料） | H11: 天井板種類 | K11: 覆工（内装なし） | M11: 排水 | O11: 種 別 | Q11: 円型+暗渠排水 | T11: 警報設備 | U11: 非常警報設備 | X11: 補助警報表示板 | Y11: 終点側 面壁設置 | Z11: 1
B12: 土かぶり | E12: 80 | G12: m | H12: 坑門 | I12: 起点 | J12: 形式 | K12: 面壁型 | O12: 更新年次 | T12: 消火設備 | U12: 消 火 器 | X12: 2個/箱 | Z12: 102
B13: 内空断面積 | E13: 85.7 | G13: m2 | J13: 延長 | K13: 0.8 | L13: m | M13: 施設 | P13: 種別・方式 | Q13: 個数 | R13: 更新年次 | U13: 消火栓設備 | Z13: 51
B14: 交 通 量 | E14: 2429 | G14: 台/日 | I14: 終点 | J14: 形式 | K14: 面壁型 | M14: 道路附属物等 | N14: 照明 | P14: LED | Q14: 201 | T14: 避難誘導設備 | U14: 誘導表示設備 | X14: 誘導表示板 | Y14: 反射式 | Z14: 10
C15: 道 路 幅 | E15: 13.5 | G15: m | J15: 延長 | K15: 0.7 | L15: m | N15: 換気 | P15: 自然換気 | U15: 避難情報提供設備
B16: 幅 員 | C16: 車 道 幅 | E16: 3.5 | G16: m | H16: 竣工巻厚 | I16: アーチ | K16: 40 | L16: cm | N16: 標識 | Q16: 8
E17: 3.5 | G17: m | I17: 側 壁 | K17: 40 | L17: cm | N17: 警報表示板 | P17: 起終点 坑外 | Q17: 2 | U17: 避難通路
C18: 歩道等幅 | E18: 0.75 | G18: m | L18: cm | N18: 吸音板 | U18: 排煙設備
B19: 高さ | C19: 建築限界高 | E19: 4.5 | G19: m | I19: インバート | K19: 50 | L19: cm | T19: その他の設備 | U19: 給水栓設備 | Y19: 坑内 | Z19: 13
C20: 中央高 | E20: 7.511 | G20: m | H20: 半径 | I20: アーチ | K20: 773 | L20: cm | U20: 無線通信補助設備 | X20: 漏洩同軸ケーブル | Z20: 1
C21: 有効高 | E21: 4.7 | G21: m | I21: 側 壁 | K21: 503 | L21: cm | U21: 水噴霧設備
C22: 縦断勾配 | E22: 3.5 | I22: インバート | K22: 2160 | L22: cm | U22: 監視設備
B23: 線 形 | C23: 直線区間長 | E23: 865.315 | H23: 占用物件 | I23: 種 類 | K23: 寸 法 | M23: 管理者名 | Q23: 更新年次 | S23: 非常用施設 関連設備 | U23: 予備発電設備
C24: 曲線区間 | D24: 区間長 | F24: 377.785
D25: 起点側ｸﾛｿｲﾄﾞ | F25: A=600
D26: 曲線半径 | F26: R=1800
D27: 終点側ｸﾛｿｲﾄﾞ | F27: － | S27: その他 | U27: 非常駐車帯 | Z27: 2
B28: トンネル工法 | E28: 山岳トンネル工法（NATM） | U28: 方向転換所
C29: ※緯度・経度については、秒の小数第二位の単位まで記入すること。

Sheet 様式A-2
B3: ■トンネル台帳 トンネル情報一覧表 【様式A-2】
B4: フリガナ | E4: ='様式A-1'!D3 -> (ｺﾊﾞﾗﾄﾝﾈﾙ) | J4: 路線名 | M4: ='様式A-1'!J3 -> 国道491号（長門・俵山道路） | S4: 作成者 | Y4: ='様式A-1'!K5 -> 株式会社荒谷建設コンサルタント 河野 秀生 | AE4: 作成年月日 | AI4: ='様式A-1'!R5 -> 45747
B5: 名 称 | E5: ='様式A-1'!D4 -> 小原トンネル | J5: 管理者名 | M5: ='様式A-1'!R3 -> 山口県長門土木建築事務所
B6: 覆工 ｽﾊﾟﾝ 番号 | C6: ｽﾊﾟﾝ長 | D6: 追加距離 | F6: トンネル本体工 | K6: 照明施設 | O6: 非常用施設 | AE6: 換気施設 | AK6: その他附属物等
O7: 通報設備 | R7: 警報設備 | S7: 消火設備 | U7: 避難誘導設備 | Y7: その他の設備 | AC7: 特記事項
D8: 起点側 | E8: 終点側 | F8: 特記事項 | I8: 内装板 | J8: 天井板 | K8: 基本照明 | L8: 入口出口照明 | M8: 特記事項 | O8: 通話型通報設備 | P8: 操作型通報設備 | Q8: 自動通報設備 | R8: 非常警報設備 | S8: 消 火 器 | T8: 消火栓設備 | U8: 誘導表示設備 | V8: 避難情報提供設備 | W8: 避難通路 | X8: 排煙設備 | Y8: 給水栓設備 | Z8: 無線通信補助設備 | AA8: 水噴霧設備 | AB8: 監視設備 | AE8: JF | AF8: VI計 | AG8: CO計 | AH8: 風向 風速計 | AI8: 特記事項
C9: (m) | D9: (m) | E9: (m)
B10: PS | C10: 0 | F10: 坑門(面壁型) | AK10: 坑口表示板
B11: S1 | C11: 5.1 | D11: 0 | E11: 5.1 | K11: ○
B12: S2 | C12: 5.9 | D12: =E11 -> 5.1 | E12: =SUM(C12:D12) -> 11 | L12: ○
B13: S3 | C13: 6.4 | D13: =E12 -> 11 | E13: =SUM(C13:D13) -> 17.4 | L13: ○
B14: S4 | C14: 10.5 | D14: =E13 -> 17.4 | E14: =SUM(C14:D14) -> 27.9 | K14: ○ | L14: ○ | P14: 1 | S14: 1 | T14: 1 | AK14: 非常電話案内板
B15: S5 | C15: 10.5 | D15: =E14 -> 27.9 | E15: =SUM(C15:D15) -> 38.4 | K15: ○ | L15: ○
B16: S6 | C16: 10.5 | D16: =E15 -> 38.4 | E16: =SUM(C16:D16) -> 48.9 | K16: ○ | L16: ○ | P16: 2 | S16: 2 | T16: 2 | Y16: ① | AK16: 非常電話案内板
B17: S7 | C17: 10.5 | D17: =E16 -> 48.9 | E17: =SUM(C17:D17) -> 59.4 | L17: ○
B18: S8 | C18: 10.5 | D18: =E17 -> 59.4 | E18: =SUM(C18:D18) -> 69.9 | K18: ○ | L18: ○
B19: S9 | C19: 10.5 | D19: =E18 -> 69.9 | E19: =SUM(C19:D19) -> 80.4 | K19: ○ | L19: ○ | P19: 3 | S19: 3 | T19: 3 | AK19: 非常電話案内板
B20: S10 | C20: 10.5 | D20: =E19 -> 80.4 | E20: =SUM(C20:D20) -> 90.9 | L20: ○
B21: S11 | C21: 10.5 | D21: =E20 -> 90.9 | E21: =SUM(C21:D21) -> 101.4 | K21: ○ | L21: ○ | O21: ① | P21: 4 | S21: 4 | T21: 4 | AK21: 非常電話案内板
B22: S12 | C22: 10.5 | D22: =E21 -> 101.4 | E22: =SUM(C22:D22) -> 111.9 | K22: ○ | L22: ○
B23: S13 | C23: 10.5 | D23: =E22 -> 111.9 | E23: =SUM(C23:D23) -> 122.4 | K23: ○ | L23: ○ | AK23: 非常電話案内板
B24: S14 | C24: 10.5 | D24: =E23 -> 122.4 | E24: =SUM(C24:D24) -> 132.9 | L24: ○ | P24: 5 | S24: 5 | T24: 5
B25: S15 | C25: 10.5 | D25: =E24 -> 132.9 | E25: =SUM(C25:D25) -> 143.4 | K25: ○ | L25: ○ | P25: 6 | S25: 6 | T25: 6
B26: S16 | C26: 10.5 | D26: =E25 -> 143.4 | E26: =SUM(C26:D26) -> 153.9 | K26: ○ | L26: ○ | AK26: 非常電話案内板
B27: S17 | C27: 10.5 | D27: =E26 -> 153.9 | E27: =SUM(C27:D27) -> 164.4 | L27: ○
B28: S18 | C28: 10.5 | D28: =E27 -> 164.4 | E28: =SUM(C28:D28) -> 174.9 | K28: ○ | L28: ○ | O28: ② | P28: 7 | S28: 7 | T28: 7 | Y28: ② | AK28: 非常電話案内板
B29: S19 | C29: 10.5 | D29: =E28 -> 174.9 | E29: =SUM(C29:D29) -> 185.4 | K29: ○ | L29: ○
B30: S20 | C30: 10.5 | D30: =E29 -> 185.4 | E30: =SUM(C30:D30) -> 195.9 | L30: ○ | P30: 8 | S30: 8 | T30: 8 | AK30: 非常電話案内板
B31: S21 | C31: 10.5 | D31: =E30 -> 195.9 | E31: =SUM(C31:D31) -> 206.4 | K31: ○ | L31: ○
B32: S22 | C32: 10.5 | D32: =E31 -> 206.4 | E32: =SUM(C32:D32) -> 216.9 | K32: ○ | L32: ○ | AK32: 非常電話案内板
B33: S23 | C33: 10.5 | D33: =E32 -> 216.9 | E33: =SUM(C33:D33) -> 227.4 | K33: ○ | L33: ○ | P33: 9 | S33: 9 | T33: 9 | U33: ①② | AK33: 非常電話案内板
B34: S24 | C34: 10.5 | D34: =E33 -> 227.4 | E34: =SUM(C34:D34) -> 237.9 | L34: ○ | AK34: 非常電話案内板
B35: S25 | C35: 10.5 | D35: =E34 -> 237.9 | E35: =SUM(C35:D35) -> 248.4 | K35: ○ | L35: ○ | P35: 10 | S35: 10 | T35: 10 | Y35: ③ | AK35: 非常電話案内板
B36: S26 | C36: 10.5 | D36: =E35 -> 248.4 | E36: =SUM(C36:D36) -> 258.9 | K36: ○ | L36: ○
B37: S27 | C37: 10.5 | D37: =E36 -> 258.9 | E37: =SUM(C37:D37) -> 269.4 | L37: ○ | P37: 11 | S37: 11 | T37: 11 | AK37: 非常電話案内板
B38: S28 | C38: 10.5 | D38: =E37 -> 269.4 | E38: =SUM(C38:D38) -> 279.9 | K38: ○ | L38: ○
B39: S29 | C39: 10.5 | D39: =E38 -> 279.9 | E39: =SUM(C39:D39) -> 290.4 | K39: ○ | L39: ○ | O39: ③ | P39: 12 | S39: 12 | T39: 12 | AK39: 非常電話案内板
B40: S30 | C40: 10.5 | D40: =E39 -> 290.4 | E40: =SUM(C40:D40) -> 300.9 | K40: ○ | L40: ○
B41: S31 | C41: 10.5 | D41: =E40 -> 300.9 | E41: =SUM(C41:D41) -> 311.4 | L41: ○ | AK41: 非常電話案内板
B42: S32 | C42: 10.5 | D42: =E41 -> 311.4 | E42: =SUM(C42:D42) -> 321.9 | K42: ○ | P42: 13 | S42: 13 | T42: 13 | AK42: 非常電話案内板
B43: S33 | C43: 10.5 | D43: =E42 -> 321.9 | E43: =SUM(C43:D43) -> 332.4 | K43: ○ | L43: ○
B44: S34 | C44: 10.5 | D44: =E43 -> 332.4 | E44: =SUM(C44:D44) -> 342.9 | P44: 14 | S44: 14 | T44: 14 | AK44: 非常電話案内板
B45: S35 | C45: 10.5 | D45: =E44 -> 342.9 | E45: =SUM(C45:D45) -> 353.4 | K45: ○
B46: S36 | C46: 10.5 | D46: =E45 -> 353.4 | E46: =SUM(C46:D46) -> 363.9 | K46: ○ | O46: ④ | P46: 15 | S46: 15 | T46: 15 | Y46: ④ | AK46: 非常電話案内板
B47: S37 | C47: 10.5 | D47: =E46 -> 363.9 | E47: =SUM(C47:D47) -> 374.4
B48: S38 | C48: 10.5 | D48: =E47 -> 374.4 | E48: =SUM(C48:D48) -> 384.9 | K48: ○ | P48: 16 | S48: 16 | T48: 16 | AK48: 非常電話案内板
B49: S39 | C49: 10.5 | D49: =E48 -> 384.9 | E49: =SUM(C49:D49) -> 395.4 | K49: ○ | AK49: 非常電話案内板
B50: S40 | C50: 10.5 | D50: =E49 -> 395.4 | E50: =SUM(C50:D50) -> 405.9 | K50: ○
B51: S41 | C51: 10.5 | D51: =E50 -> 405.9 | E51: =SUM(C51:D51) -> 416.4 | P51: 17 | S51: 17 | T51: 17 | AK51: 非常電話案内板
B52: S42 | C52: 10.5 | D52: =E51 -> 416.4 | E52: =SUM(C52:D52) -> 426.9 | K52: ○ | U52: ③④
B53: S43 | C53: 10.5 | D53: =E52 -> 426.9 | E53: =SUM(C53:D53) -> 437.4 | K53: ○ | P53: 18 | S53: 18 | T53: 18 | Y53: ⑤ | AK53: 非常電話案内板
B54: S44 | C54: 9.5 | D54: =E53 -> 437.4 | E54: =SUM(C54:D54) -> 446.9
B55: S45 | C55: 9.5 | D55: =E54 -> 446.9 | E55: =SUM(C55:D55) -> 456.4 | K55: ○
B56: S46 | C56: 9.5 | D56: =E55 -> 456.4 | E56: =SUM(C56:D56) -> 465.9 | K56: ○ | P56: 19 | S56: 19 | T56: 19 | AK56: 非常電話案内板
B57: S47 | C57: 9.5 | D57: =E56 -> 465.9 | E57: =SUM(C57:D57) -> 475.4
B58: S48 | C58: 9.5 | D58: =E57 -> 475.4 | E58: =SUM(C58:D58) -> 484.9 | K58: ○ | O58: ⑤ | P58: 20 | S58: 20 | T58: 20 | AK58: 非常電話案内板
B59: 49 | C59: 9.5 | D59: =E58 -> 484.9 | E59: =SUM(C59:D59) -> 494.4 | K59: ○
B60: 50 | C60: 9.4 | D60: =E59 -> 494.4 | E60: =SUM(C60:D60) -> 503.8
B61: S51 | C61: 9 | D61: =E60 -> 503.8 | E61: =SUM(C61:D61) -> 512.8 | K61: ○ | O61: ⑥ | P61: 21 | S61: 21 | T61: 21 | AK61: 非常電話案内板
B62: S52 | C62: 6 | D62: =E61 -> 512.8 | E62: =SUM(C62:D62) -> 518.8 | F62: 非常駐車帯(L) | K62: ○ | AK62: 非常電話案内板・非常駐車帯案内板
B63: S53 | C63: 6.2 | D63: =E62 -> 518.8 | E63: =SUM(C63:D63) -> 525 | F63: 非常駐車帯(L) | K63: ○ | Y63: ⑥
B64: S54 | C64: 6.2 | D64: =E63 -> 525 | E64: =SUM(C64:D64) -> 531.2 | F64: 非常駐車帯(L) | K64: ○ | P64: 22 | S64: 22 | T64: 22
B65: S55 | C65: 6.2 | D65: =E64 -> 531.2 | E65: =SUM(C65:D65) -> 537.4 | F65: 非常駐車帯(L) | AK65: 非常電話案内板
B66: S56 | C66: 6.4 | D66: =E65 -> 537.4 | E66: =SUM(C66:D66) -> 543.8 | F66: 非常駐車帯(L) | K66: ○
B67: S57 | C67: 10.5 | D67: =E66 -> 543.8 | E67: =SUM(C67:D67) -> 554.3 | K67: ○
B68: S58 | C68: 10 | D68: =E67 -> 554.3 | E68: =SUM(C68:D68) -> 564.3 | P68: 23 | S68: 23 | T68: 23 | AK68: 非常電話案内板
B69: S59 | C69: 9.5 | D69: =E68 -> 564.3 | E69: =SUM(C69:D69) -> 573.8 | K69: ○
B70: S60 | C70: 9.5 | D70: =E69 -> 573.8 | E70: =SUM(C70:D70) -> 583.3 | K70: ○ | P70: 24 | S70: 24 | T70: 24 | AK70: 非常電話案内板
B71: S61 | C71: 9.5 | D71: =E70 -> 583.3 | E71: =SUM(C71:D71) -> 592.8 | AK71: 非常電話案内板
B72: S62 | C72: 6 | D72: =E71 -> 592.8 | E72: =SUM(C72:D72) -> 598.8 | F72: 非常駐車帯(R) | K72: ○
B73: S63 | C73: 6.1 | D73: =E72 -> 598.8 | E73: =SUM(C73:D73) -> 604.9 | F73: 非常駐車帯(R) | AK73: 非常電話案内板
B74: S64 | C74: 6.3 | D74: =E73 -> 604.9 | E74: =SUM(C74:D74) -> 611.2 | F74: 非常駐車帯(R) | K74: ○ | P74: 25 | S74: 25 | T74: 25 | AK74: 非常電話案内板
B75: S65 | C75: 6.2 | D75: =E74 -> 611.2 | E75: =SUM(C75:D75) -> 617.4 | F75: 非常駐車帯(R) | Y75: ⑦
B76: S66 | C76: 6.3 | D76: =E75 -> 617.4 | E76: =SUM(C76:D76) -> 623.7 | F76: 非常駐車帯(R) | K76: ○ | U76: ⑤ | AK76: 非常電話案内板・非常駐車帯案内板
B77: S67 | C77: 10.4 | D77: =E76 -> 623.7 | E77: =SUM(C77:D77) -> 634.1 | K77: ○ | O77: ⑦ | P77: 26 | S77: 26 | T77: 26 | U77: ⑥ | AK77: 非常電話案内板
B78: S68 | C78: 10.5 | D78: =E77 -> 634.1 | E78: =SUM(C78:D78) -> 644.6 | K78: ○
B79: S69 | C79: 10.4 | D79: =E78 -> 644.6 | E79: =SUM(C79:D79) -> 655 | AK79: 非常電話案内板
B80: S70 | C80: 10.5 | D80: =E79 -> 655 | E80: =SUM(C80:D80) -> 665.5 | K80: ○ | O80: ⑧ | P80: 27 | S80: 27 | T80: 27
B81: 71 | C81: 10.5 | D81: =E80 -> 665.5 | E81: =SUM(C81:D81) -> 676 | K81: ○ | P81: 28 | S81: 28 | T81: 28
B82: S72 | C82: 10.5 | D82: =E81 -> 676 | E82: =SUM(C82:D82) -> 686.5 | AK82: 非常電話案内板
B83: S73 | C83: 10.5 | D83: =E82 -> 686.5 | E83: =SUM(C83:D83) -> 697 | K83: ○
B84: S74 | C84: 10.5 | D84: =E83 -> 697 | E84: =SUM(C84:D84) -> 707.5 | K84: ○ | P84: 29 | S84: 29 | T84: 29 | Y84: ⑧ | AK84: 非常電話案内板
B85: S75 | C85: 10.6 | D85: =E84 -> 707.5 | E85: =SUM(C85:D85) -> 718.1 | K85: ○
B86: S76 | C86: 10.5 | D86: =E85 -> 718.1 | E86: =SUM(C86:D86) -> 728.6 | P86: 30 | S86: 30 | T86: 30 | AK86: 非常電話案内板
B87: S77 | C87: 10.5 | D87: =E86 -> 728.6 | E87: =SUM(C87:D87) -> 739.1 | K87: ○ | AK87: 非常電話案内板
B88: S78 | C88: 10.5 | D88: =E87 -> 739.1 | E88: =SUM(C88:D88) -> 749.6 | K88: ○ | AK88: 非常電話案内板
B89: S79 | C89: 10.5 | D89: =E88 -> 749.6 | E89: =SUM(C89:D89) -> 760.1 | P89: 31 | S89: 31 | T89: 31 | AK89: 非常電話案内板
B90: S80 | C90: 10.5 | D90: =E89 -> 760.1 | E90: =SUM(C90:D90) -> 770.6 | K90: ○
B91: S81 | C91: 10.5 | D91: =E90 -> 770.6 | E91: =SUM(C91:D91) -> 781.1 | K91: ○ | O91: ⑨ | P91: 32 | S91: 32 | T91: 32 | Y91: ⑨ | AK91: 非常電話案内板
B92: S82 | C92: 10.5 | D92: =E91 -> 781.1 | E92: =SUM(C92:D92) -> 791.6 | K92: ○
B93: S83 | C93: 10.5 | D93: =E92 -> 791.6 | E93: =SUM(C93:D93) -> 802.1 | P93: 33 | S93: 33 | T93: 33 | AK93: 非常電話案内板
B94: S84 | C94: 10.5 | D94: =E93 -> 802.1 | E94: =SUM(C94:D94) -> 812.6 | K94: ○
B95: 85 | C95: 10.5 | D95: =E94 -> 812.6 | E95: =SUM(C95:D95) -> 823.1 | K95: ○ | P95: 34 | S95: 34 | T95: 34 | U95: ⑦⑧ | AK95: 非常電話案内板
B96: S86 | C96: 10.5 | D96: =E95 -> 823.1 | E96: =SUM(C96:D96) -> 833.6 | AK96: 非常電話案内板
B97: S87 | C97: 10.5 | D97: =E96 -> 833.6 | E97: =SUM(C97:D97) -> 844.1 | K97: ○
B98: S88 | C98: 10.5 | D98: =E97 -> 844.1 | E98: =SUM(C98:D98) -> 854.6 | K98: ○ | O98: ⑩ | P98: 35 | S98: 35 | T98: 35 | AK98: 非常電話案内板
B99: S89 | C99: 10.5 | D99: =E98 -> 854.6 | E99: =SUM(C99:D99) -> 865.1
B100: S90 | C100: 10.5 | D100: =E99 -> 865.1 | E100: =SUM(C100:D100) -> 875.6 | K100: ○ | P100: 36 | S100: 36 | T100: 36 | AK100: 非常電話案内板
B101: S91 | C101: 10.5 | D101: =E100 -> 875.6 | E101: =SUM(C101:D101) -> 886.1 | K101: ○
B102: S92 | C102: 10.5 | D102: =E101 -> 886.1 | E102: =SUM(C102:D102) -> 896.6 | K102: ○ | P102: 37 | S102: 37 | T102: 37 | Y102: ⑩ | AK102: 非常電話案内板
...

Sheet 様式A-3
B3: ■トンネル台帳 トンネル記録（位置図、断面図、施工実績他）【様式A-3】
B4: フリガナ | E4: ='様式A-1'!$D$3 -> (ｺﾊﾞﾗﾄﾝﾈﾙ) | J4: 路線名 | M4: ='様式A-1'!$J$3 -> 国道491号（長門・俵山道路） | S4: 作成者 | W4: ='様式A-1'!$K$5 -> 株式会社荒谷建設コンサルタント 河野 秀生 | AC4: 作成年月日 | AF4: ='様式A-1'!$R$5 -> 45747
B5: 名 称 | E5: ='様式A-1'!$D$4 -> 小原トンネル | J5: 管理者名 | M5: ='様式A-1'!$R$3 -> 山口県長門土木建築事務所
B6: 位置図・現況写真・標準断面図・地質縦断図・施工実績
B19: ■トンネル台帳 トンネル記録（位置図、断面図、施工実績他）【様式A-3】
B20: フリガナ | E20: ='様式A-1'!$D$3 -> (ｺﾊﾞﾗﾄﾝﾈﾙ) | J20: 路線名 | M20: ='様式A-1'!$J$3 -> 国道491号（長門・俵山道路） | S20: 作成者 | W20: ='様式A-1'!$K$5 -> 株式会社荒谷建設コンサルタント 河野 秀生 | AC20: 作成年月日 | AF20: ='様式A-1'!$R$5 -> 45747
B21: 名 称 | E21: ='様式A-1'!$D$4 -> 小原トンネル | J21: 管理者名 | M21: ='様式A-1'!$R$3 -> 山口県長門土木建築事務所
B22: 位置図・現況写真・標準断面図・地質縦断図・施工実績 | C22: 現況写真
G28: 起点側坑口 | U28: 終点側坑口
G34: 銘板
B35: ■トンネル台帳 トンネル記録（位置図、断面図、施工実績他）【様式A-3】
B36: フリガナ | E36: ='様式A-1'!$D$3 -> (ｺﾊﾞﾗﾄﾝﾈﾙ) | J36: 路線名 | M36: ='様式A-1'!$J$3 -> 国道491号（長門・俵山道路） | S36: 作成者 | W36: ='様式A-1'!$K$5 -> 株式会社荒谷建設コンサルタント 河野 秀生 | AC36: 作成年月日 | AF36: ='様式A-1'!$R$5 -> 45747
B37: 名 称 | E37: ='様式A-1'!$D$4 -> 小原トンネル | J37: 管理者名 | M37: ='様式A-1'!$R$3 -> 山口県長門土木建築事務所
B38: 位置図・現況写真・標準断面図・地質縦断図・施工実績
B51: ■トンネル台帳 トンネル記録（位置図、断面図、施工実績他）【様式A-3】
B52: フリガナ | E52: ='様式A-1'!$D$3 -> (ｺﾊﾞﾗﾄﾝﾈﾙ) | J52: 路線名 | M52: ='様式A-1'!$J$3 -> 国道491号（長門・俵山道路） | S52: 作成者 | W52: ='様式A-1'!$K$5 -> 株式会社荒谷建設コンサルタント 河野 秀生 | AC52: 作成年月日 | AF52: ='様式A-1'!$R$5 -> 45747
B53: 名 称 | E53: ='様式A-1'!$D$4 -> 小原トンネル | J53: 管理者名 | M53: ='様式A-1'!$R$3 -> 山口県長門土木建築事務所
B54: 位置図・現況写真・標準断面図・地質縦断図・施工実績

Sheet 様式B_001
B2: ■定期点検記録様式 トンネル変状・異常箇所写真位置図 【様式B】 | N2: 定期点検年月日 | P2: 45621 | S2: 施設ID | V2: 34.31681,131.15364
B3: フリガナ | C3: (ｺﾊﾞﾗﾄﾝﾈﾙ) | G3: 路線名 | H3: 国道491号 （長門・俵山道路） | K3: 管理者名 | L3: 山口県長門土木建築事務所 | Q3: 定期点検実施者 | S3: 株式会社荒谷建設コンサルタント | V3: 起点 | W3: 緯度 | X3: 341832.76
B4: 名 称 | C4: 小原トンネル | S4: 河野 秀生 | W4: 経度 | X4: 1310837.9
B5: 所在地 | C5: 自 | D5: 長門市俵山小原 | G5: トンネル工法 | I5: 山岳トンネル工法（NATM） | L5: トンネル延長 | N5: L= | O5: 1243.1 | P5: ｍ | Q5: 自専道 or 一般道 | R5: 自専道 | S5: 代替路の有無 | U5: 有 | V5: 終点 | W5: 緯度 | X5: 341900.5
C6: 至 | D6: 長門市深川湯本 | G6: 建設年度 | I6: 2018年度 | L6: 幅員 | N6: L= | O6: 12 | P6: ｍ | S6: 緊急輸送道路 | U6: 一次 | W6: 経度 | X6: 1310913
B7: トンネル毎 の健全性の 診断の区分 | D7: Ⅲ
G8: 変状・異常 箇所数合計 | I8: トンネル本体工 | J8: 材質劣化 | K8: Ⅱ | L8: 127 | N8: Ⅲ | O8: 7 | Q8: Ⅳ | R8: 0 | T8: 附属物等 の取付状態 | V8: ◯ （応急措置後) | X8: 1
J9: 漏水 | K9: Ⅱ | L9: 0 | N9: Ⅲ | O9: 0 | Q9: Ⅳ | R9: 0
V10: ✕ | X10: 1
J11: 外力 | K11: Ⅱ | L11: 0 | N11: Ⅲ | O11: 0 | Q11: Ⅳ | R11: 0
B12: トンネル変状・異常箇所写真位置図
J29: 注１：本位置図は、見下げた状態で記載すること。 注２：覆工スパン番号は横断目地毎(矢板工法の場合は上半アーチの 横断目地毎)に設定すること。 | Q29: 注３：写真番号に付する変状番号は、各覆工スパンの変状に対して新たに確認された場合 は順次追加していくこと。 注４：横断目地の変状は前の覆工スパン番号で計上すること。 注５：１枚に収まらない場合は、複数枚に分けて作成すること。
C30: ※1 トンネル本体工の変状数は、材質劣化、漏水に起因するものは変状単位で、外力に起因するものはスパン単位で計上すること。
C31: ※2 トンネル本体工の変状に対しては、措置の必要性（Ⅱ～Ⅳ）について表記すること。また、点検前に実施された措置によりⅠと判定された箇所についても記載すること。
C32: ※3 附属物等の取付状態の○欄については、応急措置前に判定区分×とした箇所のうち応急措置により○判定とした箇所の数を記入すること。
C33: ※4 附属物等の異常番号は、本体工と番号が重複しないよう101番以降とする等の配慮を行い、分かりやすく記録すること。

Sheet 様式B_002
B2: ■定期点検記録様式 トンネル変状・異常箇所写真位置図 【様式B】 | N2: 定期点検年月日 | P2: 45621 | S2: 施設ID | V2: 34.31681,131.15364
B3: フリガナ | C3: (ｺﾊﾞﾗﾄﾝﾈﾙ) | G3: 路線名 | H3: 一般国道491号 （長門・俵山道路） | K3: 管理者名 | L3: 山口県長門土木建築事務所 | Q3: 定期点検実施者 | S3: 株式会社荒谷建設コンサルタント | V3: 起点 | W3: 緯度 | X3: 341832.76
B4: 名 称 | C4: 小原トンネル | S4: 河野 秀生 | W4: 経度 | X4: 1310837.9
B5: 所在地 | C5: 自 | D5: 長門市俵山小原 | G5: トンネル工法 | I5: 山岳トンネル工法（NATM） | L5: トンネル延長 | N5: L= | O5: 1243.1 | P5: ｍ | Q5: 自専道 or 一般道 | R5: 自専道 | S5: 代替路の有無 | U5: 有 | V5: 終点 | W5: 緯度 | X5: 341900.5
C6: 至 | D6: 長門市深川湯本 | G6: 建設年度 | I6: 2018年度 | L6: 幅員 | N6: L= | O6: 12 | P6: ｍ | S6: 緊急輸送道路 | U6: 一次 | W6: 経度 | X6: 1310913
B7: トンネル毎 の健全性の 診断の区分 | D7: Ⅲ
G8: 変状・異常 箇所数合計 | I8: トンネル本体工 | J8: 材質劣化 | K8: Ⅱ | L8: 127 | N8: Ⅲ | O8: 7 | Q8: Ⅳ | R8: 0 | T8: 附属物等 の取付状態 | V8: ◯ （応急措置後) | X8: 1
J9: 漏水 | K9: Ⅱ | L9: 0 | N9: Ⅲ | O9: 0 | Q9: Ⅳ | R9: 0
V10: ✕ | X10: 1
J11: 外力 | K11: Ⅱ | L11: 0 | N11: Ⅲ | O11: 0 | Q11: Ⅳ | R11: 0
B12: トンネル変状・異常箇所写真位置図
J29: 注１：本位置図は、見下げた状態で記載すること。 注２：覆工スパン番号は横断目地毎(矢板工法の場合は上半アーチの 横断目地毎)に設定すること。 | Q29: 注３：写真番号に付する変状番号は、各覆工スパンの変状に対して新たに確認された場合 は順次追加していくこと。 注４：横断目地の変状は前の覆工スパン番号で計上すること。 注５：１枚に収まらない場合は、複数枚に分けて作成すること。
C30: ※1 トンネル本体工の変状数は、材質劣化、漏水に起因するものは変状単位で、外力に起因するものはスパン単位で計上すること。
C31: ※2 トンネル本体工の変状に対しては、措置の必要性（Ⅱ～Ⅳ）について表記すること。また、点検前に実施された措置によりⅠと判定された箇所についても記載すること。
C32: ※3 附属物等の取付状態の○欄については、応急措置前に判定区分×とした箇所のうち応急措置により○判定とした箇所の数を記入すること。
C33: ※4 附属物等の異常番号は、本体工と番号が重複しないよう101番以降とする等の配慮を行い、分かりやすく記録すること。

Sheet 様式B_003
B2: ■定期点検記録様式 トンネル変状・異常箇所写真位置図 【様式B】 | N2: 定期点検年月日 | P2: 45621 | S2: 施設ID | V2: 34.31681,131.15364
B3: フリガナ | C3: (ｺﾊﾞﾗﾄﾝﾈﾙ) | G3: 路線名 | H3: 国道491号 （長門・俵山道路） | K3: 管理者名 | L3: 山口県長門土木建築事務所 | Q3: 定期点検実施者 | S3: 株式会社荒谷建設コンサルタント | V3: 起点 | W3: 緯度 | X3: 341832.76
B4: 名 称 | C4: 小原トンネル | S4: 河野 秀生 | W4: 経度 | X4: 1310837.9
B5: 所在地 | C5: 自 | D5: 長門市俵山小原 | G5: トンネル工法 | I5: 山岳トンネル工法（NATM） | L5: トンネル延長 | N5: L= | O5: 1243.1 | P5: ｍ | Q5: 自専道 or 一般道 | R5: 自専道 | S5: 代替路の有無 | U5: 有 | V5: 終点 | W5: 緯度 | X5: 341900.5
C6: 至 | D6: 長門市深川湯本 | G6: 建設年度 | I6: 2018年度 | L6: 幅員 | N6: L= | O6: 12 | P6: ｍ | S6: 緊急輸送道路 | U6: 一次 | W6: 経度 | X6: 1310913
B7: トンネル毎 の健全性の 診断の区分 | D7: Ⅲ
G8: 変状・異常 箇所数合計 | I8: トンネル本体工 | J8: 材質劣化 | K8: Ⅱ | L8: 127 | N8: Ⅲ | O8: 7 | Q8: Ⅳ | R8: 0 | T8: 附属物等 の取付状態 | V8: ◯ （応急措置後) | X8: 1
J9: 漏水 | K9: Ⅱ | L9: 0 | N9: Ⅲ | O9: 0 | Q9: Ⅳ | R9: 0
V10: ✕ | X10: 1
J11: 外力 | K11: Ⅱ | L11: 0 | N11: Ⅲ | O11: 0 | Q11: Ⅳ | R11: 0
B12: トンネル変状・異常箇所写真位置図
J29: 注１：本位置図は、見下げた状態で記載すること。 注２：覆工スパン番号は横断目地毎(矢板工法の場合は上半アーチの 横断目地毎)に設定すること。 | Q29: 注３：写真番号に付する変状番号は、各覆工スパンの変状に対して新たに確認された場合 は順次追加していくこと。 注４：横断目地の変状は前の覆工スパン番号で計上すること。 注５：１枚に収まらない場合は、複数枚に分けて作成すること。
C30: ※1 トンネル本体工の変状数は、材質劣化、漏水に起因するものは変状単位で、外力に起因するものはスパン単位で計上すること。
C31: ※2 トンネル本体工の変状に対しては、措置の必要性（Ⅱ～Ⅳ）について表記すること。また、点検前に実施された措置によりⅠと判定された箇所についても記載すること。
C32: ※3 附属物等の取付状態の○欄については、応急措置前に判定区分×とした箇所のうち応急措置により○判定とした箇所の数を記入すること。
C33: ※4 附属物等の異常番号は、本体工と番号が重複しないよう101番以降とする等の配慮を行い、分かりやすく記録すること。

Sheet 様式B_004
B2: ■定期点検記録様式 トンネル変状・異常箇所写真位置図 【様式B】 | N2: 定期点検年月日 | P2: 45621 | S2: 施設ID | V2: 34.31681,131.15364
B3: フリガナ | C3: (ｺﾊﾞﾗﾄﾝﾈﾙ) | G3: 路線名 | H3: 国道491号 （長門・俵山道路） | K3: 管理者名 | L3: 山口県長門土木建築事務所 | Q3: 定期点検実施者 | S3: 株式会社荒谷建設コンサルタント | V3: 起点 | W3: 緯度 | X3: 341832.76
B4: 名 称 | C4: 小原トンネル | S4: 河野 秀生 | W4: 経度 | X4: 1310837.9
B5: 所在地 | C5: 自 | D5: 長門市俵山小原 | G5: トンネル工法 | I5: 山岳トンネル工法（NATM） | L5: トンネル延長 | N5: L= | O5: 1243.1 | P5: ｍ | Q5: 自専道 or 一般道 | R5: 自専道 | S5: 代替路の有無 | U5: 有 | V5: 終点 | W5: 緯度 | X5: 341900.5
C6: 至 | D6: 長門市深川湯本 | G6: 建設年度 | I6: 2018年度 | L6: 幅員 | N6: L= | O6: 12 | P6: ｍ | S6: 緊急輸送道路 | U6: 一次 | W6: 経度 | X6: 1310913
B7: トンネル毎 の健全性の 診断の区分 | D7: Ⅲ
G8: 変状・異常 箇所数合計 | I8: トンネル本体工 | J8: 材質劣化 | K8: Ⅱ | L8: 127 | N8: Ⅲ | O8: 7 | Q8: Ⅳ | R8: 0 | T8: 附属物等 の取付状態 | V8: ◯ （応急措置後) | X8: 1
J9: 漏水 | K9: Ⅱ | L9: 0 | N9: Ⅲ | O9: 0 | Q9: Ⅳ | R9: 0
V10: ✕ | X10: 1
J11: 外力 | K11: Ⅱ | L11: 0 | N11: Ⅲ | O11: 0 | Q11: Ⅳ | R11: 0
B12: トンネル変状・異常箇所写真位置図
J29: 注１：本位置図は、見下げた状態で記載すること。 注２：覆工スパン番号は横断目地毎(矢板工法の場合は上半アーチの 横断目地毎)に設定すること。 | Q29: 注３：写真番号に付する変状番号は、各覆工スパンの変状に対して新たに確認された場合 は順次追加していくこと。 注４：横断目地の変状は前の覆工スパン番号で計上すること。 注５：１枚に収まらない場合は、複数枚に分けて作成すること。
C30: ※1 トンネル本体工の変状数は、材質劣化、漏水に起因するものは変状単位で、外力に起因するものはスパン単位で計上すること。
C31: ※2 トンネル本体工の変状に対しては、措置の必要性（Ⅱ～Ⅳ）について表記すること。また、点検前に実施された措置によりⅠと判定された箇所についても記載すること。
C32: ※3 附属物等の取付状態の○欄については、応急措置前に判定区分×とした箇所のうち応急措置により○判定とした箇所の数を記入すること。
C33: ※4 附属物等の異常番号は、本体工と番号が重複しないよう101番以降とする等の配慮を行い、分かりやすく記録すること。

Sheet 様式B_005
B2: ■定期点検記録様式 トンネル変状・異常箇所写真位置図 【様式B】 | N2: 定期点検年月日 | P2: 45621 | S2: 施設ID | V2: 34.31681,131.15364
B3: フリガナ | C3: (ｺﾊﾞﾗﾄﾝﾈﾙ) | G3: 路線名 | H3: 国道491号 （長門・俵山道路） | K3: 管理者名 | L3: 山口県長門土木建築事務所 | Q3: 定期点検実施者 | S3: 株式会社荒谷建設コンサルタント | V3: 起点 | W3: 緯度 | X3: 341832.76
B4: 名 称 | C4: 小原トンネル | S4: 河野 秀生 | W4: 経度 | X4: 1310837.9
B5: 所在地 | C5: 自 | D5: 長門市俵山小原 | G5: トンネル工法 | I5: 山岳トンネル工法（NATM） | L5: トンネル延長 | N5: L= | O5: 1243.1 | P5: ｍ | Q5: 自専道 or 一般道 | R5: 自専道 | S5: 代替路の有無 | U5: 有 | V5: 終点 | W5: 緯度 | X5: 341900.5
C6: 至 | D6: 長門市深川湯本 | G6: 建設年度 | I6: 2018年度 | L6: 幅員 | N6: L= | O6: 12 | P6: ｍ | S6: 緊急輸送道路 | U6: 一次 | W6: 経度 | X6: 1310913
B7: トンネル毎 の健全性の 診断の区分 | D7: Ⅲ
G8: 変状・異常 箇所数合計 | I8: トンネル本体工 | J8: 材質劣化 | K8: Ⅱ | L8: 127 | N8: Ⅲ | O8: 7 | Q8: Ⅳ | R8: 0 | T8: 附属物等 の取付状態 | V8: ◯ （応急措置後) | X8: 1
J9: 漏水 | K9: Ⅱ | L9: 0 | N9: Ⅲ | O9: 0 | Q9: Ⅳ | R9: 0
V10: ✕ | X10: 1
J11: 外力 | K11: Ⅱ | L11: 0 | N11: Ⅲ | O11: 0 | Q11: Ⅳ | R11: 0
B12: トンネル変状・異常箇所写真位置図
J29: 注１：本位置図は、見下げた状態で記載すること。 注２：覆工スパン番号は横断目地毎(矢板工法の場合は上半アーチの 横断目地毎)に設定すること。 | Q29: 注３：写真番号に付する変状番号は、各覆工スパンの変状に対して新たに確認された場合 は順次追加していくこと。 注４：横断目地の変状は前の覆工スパン番号で計上すること。 注５：１枚に収まらない場合は、複数枚に分けて作成すること。
C30: ※1 トンネル本体工の変状数は、材質劣化、漏水に起因するものは変状単位で、外力に起因するものはスパン単位で計上すること。
C31: ※2 トンネル本体工の変状に対しては、措置の必要性（Ⅱ～Ⅳ）について表記すること。また、点検前に実施された措置によりⅠと判定された箇所についても記載すること。
C32: ※3 附属物等の取付状態の○欄については、応急措置前に判定区分×とした箇所のうち応急措置により○判定とした箇所の数を記入すること。
C33: ※4 附属物等の異常番号は、本体工と番号が重複しないよう101番以降とする等の配慮を行い、分かりやすく記録すること。

Sheet 様式B_006
B2: ■定期点検記録様式 トンネル変状・異常箇所写真位置図 【様式B】 | N2: 定期点検年月日 | P2: 45621 | S2: 施設ID | V2: 34.31681,131.15364
B3: フリガナ | C3: (ｺﾊﾞﾗﾄﾝﾈﾙ) | G3: 路線名 | H3: 国道491号 （長門・俵山道路） | K3: 管理者名 | L3: 山口県長門土木建築事務所 | Q3: 定期点検実施者 | S3: 株式会社荒谷建設コンサルタント | V3: 起点 | W3: 緯度 | X3: 341832.76
B4: 名 称 | C4: 小原トンネル | S4: 河野 秀生 | W4: 経度 | X4: 1310837.9
B5: 所在地 | C5: 自 | D5: 長門市俵山小原 | G5: トンネル工法 | I5: 山岳トンネル工法（NATM） | L5: トンネル延長 | N5: L= | O5: 1243.1 | P5: ｍ | Q5: 自専道 or 一般道 | R5: 自専道 | S5: 代替路の有無 | U5: 有 | V5: 終点 | W5: 緯度 | X5: 341900.5
C6: 至 | D6: 長門市深川湯本 | G6: 建設年度 | I6: 2018年度 | L6: 幅員 | N6: L= | O6: 12 | P6: ｍ | S6: 緊急輸送道路 | U6: 一次 | W6: 経度 | X6: 1310913
B7: トンネル毎 の健全性の 診断の区分 | D7: Ⅲ
G8: 変状・異常 箇所数合計 | I8: トンネル本体工 | J8: 材質劣化 | K8: Ⅱ | L8: 127 | N8: Ⅲ | O8: 7 | Q8: Ⅳ | R8: 0 | T8: 附属物等 の取付状態 | V8: ◯ （応急措置後) | X8: 1
J9: 漏水 | K9: Ⅱ | L9: 0 | N9: Ⅲ | O9: 0 | Q9: Ⅳ | R9: 0
V10: ✕ | X10: 1
J11: 外力 | K11: Ⅱ | L11: 0 | N11: Ⅲ | O11: 0 | Q11: Ⅳ | R11: 0
B12: トンネル変状・異常箇所写真位置図
J29: 注１：本位置図は、見下げた状態で記載すること。 注２：覆工スパン番号は横断目地毎(矢板工法の場合は上半アーチの 横断目地毎)に設定すること。 | Q29: 注３：写真番号に付する変状番号は、各覆工スパンの変状に対して新たに確認された場合 は順次追加していくこと。 注４：横断目地の変状は前の覆工スパン番号で計上すること。 注５：１枚に収まらない場合は、複数枚に分けて作成すること。
C30: ※1 トンネル本体工の変状数は、材質劣化、漏水に起因するものは変状単位で、外力に起因するものはスパン単位で計上すること。
C31: ※2 トンネル本体工の変状に対しては、措置の必要性（Ⅱ～Ⅳ）について表記すること。また、点検前に実施された措置によりⅠと判定された箇所についても記載すること。
C32: ※3 附属物等の取付状態の○欄については、応急措置前に判定区分×とした箇所のうち応急措置により○判定とした箇所の数を記入すること。
C33: ※4 附属物等の異常番号は、本体工と番号が重複しないよう101番以降とする等の配慮を行い、分かりやすく記録すること。

Sheet 様式B_007
B2: ■定期点検記録様式 トンネル変状・異常箇所写真位置図 【様式B】 | N2: 定期点検年月日 | P2: 45621 | S2: 施設ID | V2: 34.31681,131.15364
B3: フリガナ | C3: (ｺﾊﾞﾗﾄﾝﾈﾙ) | G3: 路線名 | H3: 国道491号 （長門・俵山道路） | K3: 管理者名 | L3: 山口県長門土木建築事務所 | Q3: 定期点検実施者 | S3: 株式会社荒谷建設コンサルタント | V3: 起点 | W3: 緯度 | X3: 341832.76
B4: 名 称 | C4: 小原トンネル | S4: 河野 秀生 | W4: 経度 | X4: 1310837.9
B5: 所在地 | C5: 自 | D5: 長門市俵山小原 | G5: トンネル工法 | I5: 山岳トンネル工法（NATM） | L5: トンネル延長 | N5: L= | O5: 1243.1 | P5: ｍ | Q5: 自専道 or 一般道 | R5: 自専道 | S5: 代替路の有無 | U5: 有 | V5: 終点 | W5: 緯度 | X5: 341900.5
C6: 至 | D6: 長門市深川湯本 | G6: 建設年度 | I6: 2018年度 | L6: 幅員 | N6: L= | O6: 12 | P6: ｍ | S6: 緊急輸送道路 | U6: 一次 | W6: 経度 | X6: 1310913
B7: トンネル毎 の健全性の 診断の区分 | D7: Ⅲ
G8: 変状・異常 箇所数合計 | I8: トンネル本体工 | J8: 材質劣化 | K8: Ⅱ | L8: 127 | N8: Ⅲ | O8: 7 | Q8: Ⅳ | R8: 0 | T8: 附属物等 の取付状態 | V8: ◯ （応急措置後) | X8: 1
J9: 漏水 | K9: Ⅱ | L9: 0 | N9: Ⅲ | O9: 0 | Q9: Ⅳ | R9: 0
V10: ✕ | X10: 1
J11: 外力 | K11: Ⅱ | L11: 0 | N11: Ⅲ | O11: 0 | Q11: Ⅳ | R11: 0
B12: トンネル変状・異常箇所写真位置図
J29: 注１：本位置図は、見下げた状態で記載すること。 注２：覆工スパン番号は横断目地毎(矢板工法の場合は上半アーチの 横断目地毎)に設定すること。 | Q29: 注３：写真番号に付する変状番号は、各覆工スパンの変状に対して新たに確認された場合 は順次追加していくこと。 注４：横断目地の変状は前の覆工スパン番号で計上すること。 注５：１枚に収まらない場合は、複数枚に分けて作成すること。
C30: ※1 トンネル本体工の変状数は、材質劣化、漏水に起因するものは変状単位で、外力に起因するものはスパン単位で計上すること。
C31: ※2 トンネル本体工の変状に対しては、措置の必要性（Ⅱ～Ⅳ）について表記すること。また、点検前に実施された措置によりⅠと判定された箇所についても記載すること。
C32: ※3 附属物等の取付状態の○欄については、応急措置前に判定区分×とした箇所のうち応急措置により○判定とした箇所の数を記入すること。
C33: ※4 附属物等の異常番号は、本体工と番号が重複しないよう101番以降とする等の配慮を行い、分かりやすく記録すること。

Sheet 様式B_008
B2: ■定期点検記録様式 トンネル変状・異常箇所写真位置図 【様式B】 | N2: 定期点検年月日 | P2: 45621 | S2: 施設ID | V2: 34.31681,131.15364
B3: フリガナ | C3: (ｺﾊﾞﾗﾄﾝﾈﾙ) | G3: 路線名 | H3: 国道491号 （長門・俵山道路） | K3: 管理者名 | L3: 山口県長門土木建築事務所 | Q3: 定期点検実施者 | S3: 株式会社荒谷建設コンサルタント | V3: 起点 | W3: 緯度 | X3: 341832.76
B4: 名 称 | C4: 小原トンネル | S4: 河野 秀生 | W4: 経度 | X4: 1310837.9
B5: 所在地 | C5: 自 | D5: 長門市俵山小原 | G5: トンネル工法 | I5: 山岳トンネル工法（NATM） | L5: トンネル延長 | N5: L= | O5: 1243.1 | P5: ｍ | Q5: 自専道 or 一般道 | R5: 自専道 | S5: 代替路の有無 | U5: 有 | V5: 終点 | W5: 緯度 | X5: 341900.5
C6: 至 | D6: 長門市深川湯本 | G6: 建設年度 | I6: 2018年度 | L6: 幅員 | N6: L= | O6: 12 | P6: ｍ | S6: 緊急輸送道路 | U6: 一次 | W6: 経度 | X6: 1310913
B7: トンネル毎 の健全性の 診断の区分 | D7: Ⅲ
G8: 変状・異常 箇所数合計 | I8: トンネル本体工 | J8: 材質劣化 | K8: Ⅱ | L8: 127 | N8: Ⅲ | O8: 7 | Q8: Ⅳ | R8: 0 | T8: 附属物等 の取付状態 | V8: ◯ （応急措置後) | X8: 1
J9: 漏水 | K9: Ⅱ | L9: 0 | N9: Ⅲ | O9: 0 | Q9: Ⅳ | R9: 0
V10: ✕ | X10: 1
J11: 外力 | K11: Ⅱ | L11: 0 | N11: Ⅲ | O11: 0 | Q11: Ⅳ | R11: 0
B12: トンネル変状・異常箇所写真位置図
J29: 注１：本位置図は、見下げた状態で記載すること。 注２：覆工スパン番号は横断目地毎(矢板工法の場合は上半アーチの 横断目地毎)に設定すること。 | Q29: 注３：写真番号に付する変状番号は、各覆工スパンの変状に対して新たに確認された場合 は順次追加していくこと。 注４：横断目地の変状は前の覆工スパン番号で計上すること。 注５：１枚に収まらない場合は、複数枚に分けて作成すること。
C30: ※1 トンネル本体工の変状数は、材質劣化、漏水に起因するものは変状単位で、外力に起因するものはスパン単位で計上すること。
C31: ※2 トンネル本体工の変状に対しては、措置の必要性（Ⅱ～Ⅳ）について表記すること。また、点検前に実施された措置によりⅠと判定された箇所についても記載すること。
C32: ※3 附属物等の取付状態の○欄については、応急措置前に判定区分×とした箇所のうち応急措置により○判定とした箇所の数を記入すること。
C33: ※4 附属物等の異常番号は、本体工と番号が重複しないよう101番以降とする等の配慮を行い、分かりやすく記録すること。

Sheet 様式B_009
B2: ■定期点検記録様式 トンネル変状・異常箇所写真位置図 【様式B】 | N2: 定期点検年月日 | P2: 45621 | S2: 施設ID | V2: 34.31681,131.15364
B3: フリガナ | C3: (ｺﾊﾞﾗﾄﾝﾈﾙ) | G3: 路線名 | H3: 国道491号 （長門・俵山道路） | K3: 管理者名 | L3: 山口県長門土木建築事務所 | Q3: 定期点検実施者 | S3: 株式会社荒谷建設コンサルタント | V3: 起点 | W3: 緯度 | X3: 341832.76
B4: 名 称 | C4: 小原トンネル | S4: 河野 秀生 | W4: 経度 | X4: 1310837.9
B5: 所在地 | C5: 自 | D5: 長門市俵山小原 | G5: トンネル工法 | I5: 山岳トンネル工法（NATM） | L5: トンネル延長 | N5: L= | O5: 1243.1 | P5: ｍ | Q5: 自専道 or 一般道 | R5: 自専道 | S5: 代替路の有無 | U5: 有 | V5: 終点 | W5: 緯度 | X5: 341900.5
C6: 至 | D6: 長門市深川湯本 | G6: 建設年度 | I6: 2018年度 | L6: 幅員 | N6: L= | O6: 12 | P6: ｍ | S6: 緊急輸送道路 | U6: 一次 | W6: 経度 | X6: 1310913
B7: トンネル毎 の健全性の 診断の区分 | D7: Ⅲ
G8: 変状・異常 箇所数合計 | I8: トンネル本体工 | J8: 材質劣化 | K8: Ⅱ | L8: 127 | N8: Ⅲ | O8: 7 | Q8: Ⅳ | R8: 0 | T8: 附属物等 の取付状態 | V8: ◯ （応急措置後) | X8: 1
J9: 漏水 | K9: Ⅱ | L9: 0 | N9: Ⅲ | O9: 0 | Q9: Ⅳ | R9: 0
V10: ✕ | X10: 1
J11: 外力 | K11: Ⅱ | L11: 0 | N11: Ⅲ | O11: 0 | Q11: Ⅳ | R11: 0
B12: トンネル変状・異常箇所写真位置図
J29: 注１：本位置図は、見下げた状態で記載すること。 注２：覆工スパン番号は横断目地毎(矢板工法の場合は上半アーチの 横断目地毎)に設定すること。 | Q29: 注３：写真番号に付する変状番号は、各覆工スパンの変状に対して新たに確認された場合 は順次追加していくこと。 注４：横断目地の変状は前の覆工スパン番号で計上すること。 注５：１枚に収まらない場合は、複数枚に分けて作成すること。
C30: ※1 トンネル本体工の変状数は、材質劣化、漏水に起因するものは変状単位で、外力に起因するものはスパン単位で計上すること。
C31: ※2 トンネル本体工の変状に対しては、措置の必要性（Ⅱ～Ⅳ）について表記すること。また、点検前に実施された措置によりⅠと判定された箇所についても記載すること。
C32: ※3 附属物等の取付状態の○欄については、応急措置前に判定区分×とした箇所のうち応急措置により○判定とした箇所の数を記入すること。
C33: ※4 附属物等の異常番号は、本体工と番号が重複しないよう101番以降とする等の配慮を行い、分かりやすく記録すること。

Sheet 様式B_010
B2: ■定期点検記録様式 トンネル変状・異常箇所写真位置図 【様式B】 | N2: 定期点検年月日 | P2: 45621 | S2: 施設ID | V2: 34.31681,131.15364
B3: フリガナ | C3: (ｺﾊﾞﾗﾄﾝﾈﾙ) | G3: 路線名 | H3: 国道491号 （長門・俵山道路） | K3: 管理者名 | L3: 山口県長門土木建築事務所 | Q3: 定期点検実施者 | S3: 株式会社荒谷建設コンサルタント | V3: 起点 | W3: 緯度 | X3: 341832.76
B4: 名 称 | C4: 小原トンネル | S4: 河野 秀生 | W4: 経度 | X4: 1310837.9
B5: 所在地 | C5: 自 | D5: 長門市俵山小原 | G5: トンネル工法 | I5: 山岳トンネル工法（NATM） | L5: トンネル延長 | N5: L= | O5: 1243.1 | P5: ｍ | Q5: 自専道 or 一般道 | R5: 自専道 | S5: 代替路の有無 | U5: 有 | V5: 終点 | W5: 緯度 | X5: 341900.5
C6: 至 | D6: 長門市深川湯本 | G6: 建設年度 | I6: 2018年度 | L6: 幅員 | N6: L= | O6: 12 | P6: ｍ | S6: 緊急輸送道路 | U6: 一次 | W6: 経度 | X6: 1310913
B7: トンネル毎 の健全性の 診断の区分 | D7: Ⅲ
G8: 変状・異常 箇所数合計 | I8: トンネル本体工 | J8: 材質劣化 | K8: Ⅱ | L8: 127 | N8: Ⅲ | O8: 7 | Q8: Ⅳ | R8: 0 | T8: 附属物等 の取付状態 | V8: ◯ （応急措置後) | X8: 1
J9: 漏水 | K9: Ⅱ | L9: 0 | N9: Ⅲ | O9: 0 | Q9: Ⅳ | R9: 0
V10: ✕ | X10: 1
J11: 外力 | K11: Ⅱ | L11: 0 | N11: Ⅲ | O11: 0 | Q11: Ⅳ | R11: 0
B12: トンネル変状・異常箇所写真位置図
J29: 注１：本位置図は、見下げた状態で記載すること。 注２：覆工スパン番号は横断目地毎(矢板工法の場合は上半アーチの 横断目地毎)に設定すること。 | Q29: 注３：写真番号に付する変状番号は、各覆工スパンの変状に対して新たに確認された場合 は順次追加していくこと。 注４：横断目地の変状は前の覆工スパン番号で計上すること。 注５：１枚に収まらない場合は、複数枚に分けて作成すること。
C30: ※1 トンネル本体工の変状数は、材質劣化、漏水に起因するものは変状単位で、外力に起因するものはスパン単位で計上すること。
C31: ※2 トンネル本体工の変状に対しては、措置の必要性（Ⅱ～Ⅳ）について表記すること。また、点検前に実施された措置によりⅠと判定された箇所についても記載すること。
C32: ※3 附属物等の取付状態の○欄については、応急措置前に判定区分×とした箇所のうち応急措置により○判定とした箇所の数を記入すること。
C33: ※4 附属物等の異常番号は、本体工と番号が重複しないよう101番以降とする等の配慮を行い、分かりやすく記録すること。

Sheet 様式B_011
B2: ■定期点検記録様式 トンネル変状・異常箇所写真位置図 【様式B】 | N2: 定期点検年月日 | P2: 45621 | S2: 施設ID | V2: 34.31681,131.15364
B3: フリガナ | C3: (ｺﾊﾞﾗﾄﾝﾈﾙ) | G3: 路線名 | H3: 国道491号 （長門・俵山道路） | K3: 管理者名 | L3: 山口県長門土木建築事務所 | Q3: 定期点検実施者 | S3: 株式会社荒谷建設コンサルタント | V3: 起点 | W3: 緯度 | X3: 341832.76
B4: 名 称 | C4: 小原トンネル | S4: 河野 秀生 | W4: 経度 | X4: 1310837.9
B5: 所在地 | C5: 自 | D5: 長門市俵山小原 | G5: トンネル工法 | I5: 山岳トンネル工法（NATM） | L5: トンネル延長 | N5: L= | O5: 1243.1 | P5: ｍ | Q5: 自専道 or 一般道 | R5: 自専道 | S5: 代替路の有無 | U5: 有 | V5: 終点 | W5: 緯度 | X5: 341900.5
C6: 至 | D6: 長門市深川湯本 | G6: 建設年度 | I6: 2018年度 | L6: 幅員 | N6: L= | O6: 12 | P6: ｍ | S6: 緊急輸送道路 | U6: 一次 | W6: 経度 | X6: 1310913
B7: トンネル毎 の健全性の 診断の区分 | D7: Ⅲ
G8: 変状・異常 箇所数合計 | I8: トンネル本体工 | J8: 材質劣化 | K8: Ⅱ | L8: 127 | N8: Ⅲ | O8: 7 | Q8: Ⅳ | R8: 0 | T8: 附属物等 の取付状態 | V8: ◯ （応急措置後) | X8: 1
J9: 漏水 | K9: Ⅱ | L9: 0 | N9: Ⅲ | O9: 0 | Q9: Ⅳ | R9: 0
V10: ✕ | X10: 1
J11: 外力 | K11: Ⅱ | L11: 0 | N11: Ⅲ | O11: 0 | Q11: Ⅳ | R11: 0
B12: トンネル変状・異常箇所写真位置図
J29: 注１：本位置図は、見下げた状態で記載すること。 注２：覆工スパン番号は横断目地毎(矢板工法の場合は上半アーチの 横断目地毎)に設定すること。 | Q29: 注３：写真番号に付する変状番号は、各覆工スパンの変状に対して新たに確認された場合 は順次追加していくこと。 注４：横断目地の変状は前の覆工スパン番号で計上すること。 注５：１枚に収まらない場合は、複数枚に分けて作成すること。
C30: ※1 トンネル本体工の変状数は、材質劣化、漏水に起因するものは変状単位で、外力に起因するものはスパン単位で計上すること。
C31: ※2 トンネル本体工の変状に対しては、措置の必要性（Ⅱ～Ⅳ）について表記すること。また、点検前に実施された措置によりⅠと判定された箇所についても記載すること。
C32: ※3 附属物等の取付状態の○欄については、応急措置前に判定区分×とした箇所のうち応急措置により○判定とした箇所の数を記入すること。
C33: ※4 附属物等の異常番号は、本体工と番号が重複しないよう101番以降とする等の配慮を行い、分かりやすく記録すること。

Sheet 様式B_012
B2: ■定期点検記録様式 トンネル変状・異常箇所写真位置図 【様式B】 | N2: 定期点検年月日 | P2: 45621 | S2: 施設ID | V2: 34.31681,131.15364
B3: フリガナ | C3: (ｺﾊﾞﾗﾄﾝﾈﾙ) | G3: 路線名 | H3: 国道491号 （長門・俵山道路） | K3: 管理者名 | L3: 山口県長門土木建築事務所 | Q3: 定期点検実施者 | S3: 株式会社荒谷建設コンサルタント | V3: 起点 | W3: 緯度 | X3: 341832.76
B4: 名 称 | C4: 小原トンネル | S4: 河野 秀生 | W4: 経度 | X4: 1310837.9
B5: 所在地 | C5: 自 | D5: 長門市俵山小原 | G5: トンネル工法 | I5: 山岳トンネル工法（NATM） | L5: トンネル延長 | N5: L= | O5: 1243.1 | P5: ｍ | Q5: 自専道 or 一般道 | R5: 自専道 | S5: 代替路の有無 | U5: 有 | V5: 終点 | W5: 緯度 | X5: 341900.5
C6: 至 | D6: 長門市深川湯本 | G6: 建設年度 | I6: 2018年度 | L6: 幅員 | N6: L= | O6: 12 | P6: ｍ | S6: 緊急輸送道路 | U6: 一次 | W6: 経度 | X6: 1310913
B7: トンネル毎 の健全性の 診断の区分 | D7: Ⅲ
G8: 変状・異常 箇所数合計 | I8: トンネル本体工 | J8: 材質劣化 | K8: Ⅱ | L8: 127 | N8: Ⅲ | O8: 7 | Q8: Ⅳ | R8: 0 | T8: 附属物等 の取付状態 | V8: ◯ （応急措置後) | X8: 1
J9: 漏水 | K9: Ⅱ | L9: 0 | N9: Ⅲ | O9: 0 | Q9: Ⅳ | R9: 0
V10: ✕ | X10: 1
J11: 外力 | K11: Ⅱ | L11: 0 | N11: Ⅲ | O11: 0 | Q11: Ⅳ | R11: 0
B12: トンネル変状・異常箇所写真位置図
J29: 注１：本位置図は、見下げた状態で記載すること。 注２：覆工スパン番号は横断目地毎(矢板工法の場合は上半アーチの 横断目地毎)に設定すること。 | Q29: 注３：写真番号に付する変状番号は、各覆工スパンの変状に対して新たに確認された場合 は順次追加していくこと。 注４：横断目地の変状は前の覆工スパン番号で計上すること。 注５：１枚に収まらない場合は、複数枚に分けて作成すること。
C30: ※1 トンネル本体工の変状数は、材質劣化、漏水に起因するものは変状単位で、外力に起因するものはスパン単位で計上すること。
C31: ※2 トンネル本体工の変状に対しては、措置の必要性（Ⅱ～Ⅳ）について表記すること。また、点検前に実施された措置によりⅠと判定された箇所についても記載すること。
C32: ※3 附属物等の取付状態の○欄については、応急措置前に判定区分×とした箇所のうち応急措置により○判定とした箇所の数を記入すること。
C33: ※4 附属物等の異常番号は、本体工と番号が重複しないよう101番以降とする等の配慮を行い、分かりやすく記録すること。

Sheet 様式B_013
B2: ■定期点検記録様式 トンネル変状・異常箇所写真位置図 【様式B】 | N2: 定期点検年月日 | P2: 45621 | S2: 施設ID | V2: 34.31681,131.15364
B3: フリガナ | C3: (ｺﾊﾞﾗﾄﾝﾈﾙ) | G3: 路線名 | H3: 国道491号 （長門・俵山道路） | K3: 管理者名 | L3: 山口県長門土木建築事務所 | Q3: 定期点検実施者 | S3: 株式会社荒谷建設コンサルタント | V3: 起点 | W3: 緯度 | X3: 341832.76
B4: 名 称 | C4: 小原トンネル | S4: 河野 秀生 | W4: 経度 | X4: 1310837.9
B5: 所在地 | C5: 自 | D5: 長門市俵山小原 | G5: トンネル工法 | I5: 山岳トンネル工法（NATM） | L5: トンネル延長 | N5: L= | O5: 1243.1 | P5: ｍ | Q5: 自専道 or 一般道 | R5: 自専道 | S5: 代替路の有無 | U5: 有 | V5: 終点 | W5: 緯度 | X5: 341900.5
C6: 至 | D6: 長門市深川湯本 | G6: 建設年度 | I6: 2018年度 | L6: 幅員 | N6: L= | O6: 12 | P6: ｍ | S6: 緊急輸送道路 | U6: 一次 | W6: 経度 | X6: 1310913
B7: トンネル毎 の健全性の 診断の区分 | D7: Ⅲ
G8: 変状・異常 箇所数合計 | I8: トンネル本体工 | J8: 材質劣化 | K8: Ⅱ | L8: 127 | N8: Ⅲ | O8: 7 | Q8: Ⅳ | R8: 0 | T8: 附属物等 の取付状態 | V8: ◯ （応急措置後) | X8: 1
J9: 漏水 | K9: Ⅱ | L9: 0 | N9: Ⅲ | O9: 0 | Q9: Ⅳ | R9: 0
V10: ✕ | X10: 1
J11: 外力 | K11: Ⅱ | L11: 0 | N11: Ⅲ | O11: 0 | Q11: Ⅳ | R11: 0
B12: トンネル変状・異常箇所写真位置図
J29: 注１：本位置図は、見下げた状態で記載すること。 注２：覆工スパン番号は横断目地毎(矢板工法の場合は上半アーチの 横断目地毎)に設定すること。 | Q29: 注３：写真番号に付する変状番号は、各覆工スパンの変状に対して新たに確認された場合 は順次追加していくこと。 注４：横断目地の変状は前の覆工スパン番号で計上すること。 注５：１枚に収まらない場合は、複数枚に分けて作成すること。
C30: ※1 トンネル本体工の変状数は、材質劣化、漏水に起因するものは変状単位で、外力に起因するものはスパン単位で計上すること。
C31: ※2 トンネル本体工の変状に対しては、措置の必要性（Ⅱ～Ⅳ）について表記すること。また、点検前に実施された措置によりⅠと判定された箇所についても記載すること。
C32: ※3 附属物等の取付状態の○欄については、応急措置前に判定区分×とした箇所のうち応急措置により○判定とした箇所の数を記入すること。
C33: ※4 附属物等の異常番号は、本体工と番号が重複しないよう101番以降とする等の配慮を行い、分かりやすく記録すること。

Sheet 様式B_014
B2: ■定期点検記録様式 トンネル変状・異常箇所写真位置図 【様式B】 | N2: 定期点検年月日 | P2: 45621 | S2: 施設ID | V2: 34.31681,131.15364
B3: フリガナ | C3: (ｺﾊﾞﾗﾄﾝﾈﾙ) | G3: 路線名 | H3: 国道491号 （長門・俵山道路） | K3: 管理者名 | L3: 山口県長門土木建築事務所 | Q3: 定期点検実施者 | S3: 株式会社荒谷建設コンサルタント | V3: 起点 | W3: 緯度 | X3: 341832.76
B4: 名 称 | C4: 小原トンネル | S4: 河野 秀生 | W4: 経度 | X4: 1310837.9
B5: 所在地 | C5: 自 | D5: 長門市俵山小原 | G5: トンネル工法 | I5: 山岳トンネル工法（NATM） | L5: トンネル延長 | N5: L= | O5: 1243.1 | P5: ｍ | Q5: 自専道 or 一般道 | R5: 自専道 | S5: 代替路の有無 | U5: 有 | V5: 終点 | W5: 緯度 | X5: 341900.5
C6: 至 | D6: 長門市深川湯本 | G6: 建設年度 | I6: 2018年度 | L6: 幅員 | N6: L= | O6: 12 | P6: ｍ | S6: 緊急輸送道路 | U6: 一次 | W6: 経度 | X6: 1310913
B7: トンネル毎 の健全性の 診断の区分 | D7: Ⅲ
G8: 変状・異常 箇所数合計 | I8: トンネル本体工 | J8: 材質劣化 | K8: Ⅱ | L8: 127 | N8: Ⅲ | O8: 7 | Q8: Ⅳ | R8: 0 | T8: 附属物等 の取付状態 | V8: ◯ （応急措置後) | X8: 1
J9: 漏水 | K9: Ⅱ | L9: 0 | N9: Ⅲ | O9: 0 | Q9: Ⅳ | R9: 0
V10: ✕ | X10: 1
J11: 外力 | K11: Ⅱ | L11: 0 | N11: Ⅲ | O11: 0 | Q11: Ⅳ | R11: 0
B12: トンネル変状・異常箇所写真位置図
J29: 注１：本位置図は、見下げた状態で記載すること。 注２：覆工スパン番号は横断目地毎(矢板工法の場合は上半アーチの 横断目地毎)に設定すること。 | Q29: 注３：写真番号に付する変状番号は、各覆工スパンの変状に対して新たに確認された場合 は順次追加していくこと。 注４：横断目地の変状は前の覆工スパン番号で計上すること。 注５：１枚に収まらない場合は、複数枚に分けて作成すること。
C30: ※1 トンネル本体工の変状数は、材質劣化、漏水に起因するものは変状単位で、外力に起因するものはスパン単位で計上すること。
C31: ※2 トンネル本体工の変状に対しては、措置の必要性（Ⅱ～Ⅳ）について表記すること。また、点検前に実施された措置によりⅠと判定された箇所についても記載すること。
C32: ※3 附属物等の取付状態の○欄については、応急措置前に判定区分×とした箇所のうち応急措置により○判定とした箇所の数を記入すること。
C33: ※4 附属物等の異常番号は、本体工と番号が重複しないよう101番以降とする等の配慮を行い、分かりやすく記録すること。

Sheet 様式B_015
B2: ■定期点検記録様式 トンネル変状・異常箇所写真位置図 【様式B】 | N2: 定期点検年月日 | P2: 45621 | S2: 施設ID | V2: 34.31681,131.15364
B3: フリガナ | C3: (ｺﾊﾞﾗﾄﾝﾈﾙ) | G3: 路線名 | H3: 国道491号 （長門・俵山道路） | K3: 管理者名 | L3: 山口県長門土木建築事務所 | Q3: 定期点検実施者 | S3: 株式会社荒谷建設コンサルタント | V3: 起点 | W3: 緯度 | X3: 341832.76
B4: 名 称 | C4: 小原トンネル | S4: 河野 秀生 | W4: 経度 | X4: 1310837.9
B5: 所在地 | C5: 自 | D5: 長門市俵山小原 | G5: トンネル工法 | I5: 山岳トンネル工法（NATM） | L5: トンネル延長 | N5: L= | O5: 1243.1 | P5: ｍ | Q5: 自専道 or 一般道 | R5: 自専道 | S5: 代替路の有無 | U5: 有 | V5: 終点 | W5: 緯度 | X5: 341900.5
C6: 至 | D6: 長門市深川湯本 | G6: 建設年度 | I6: 2018年度 | L6: 幅員 | N6: L= | O6: 12 | P6: ｍ | S6: 緊急輸送道路 | U6: 一次 | W6: 経度 | X6: 1310913
B7: トンネル毎 の健全性の 診断の区分 | D7: Ⅲ
G8: 変状・異常 箇所数合計 | I8: トンネル本体工 | J8: 材質劣化 | K8: Ⅱ | L8: 127 | N8: Ⅲ | O8: 7 | Q8: Ⅳ | R8: 0 | T8: 附属物等 の取付状態 | V8: ◯ （応急措置後) | X8: 1
J9: 漏水 | K9: Ⅱ | L9: 0 | N9: Ⅲ | O9: 0 | Q9: Ⅳ | R9: 0
V10: ✕ | X10: 1
J11: 外力 | K11: Ⅱ | L11: 0 | N11: Ⅲ | O11: 0 | Q11: Ⅳ | R11: 0
B12: トンネル変状・異常箇所写真位置図
J29: 注１：本位置図は、見下げた状態で記載すること。 注２：覆工スパン番号は横断目地毎(矢板工法の場合は上半アーチの 横断目地毎)に設定すること。 | Q29: 注３：写真番号に付する変状番号は、各覆工スパンの変状に対して新たに確認された場合 は順次追加していくこと。 注４：横断目地の変状は前の覆工スパン番号で計上すること。 注５：１枚に収まらない場合は、複数枚に分けて作成すること。
C30: ※1 トンネル本体工の変状数は、材質劣化、漏水に起因するものは変状単位で、外力に起因するものはスパン単位で計上すること。
C31: ※2 トンネル本体工の変状に対しては、措置の必要性（Ⅱ～Ⅳ）について表記すること。また、点検前に実施された措置によりⅠと判定された箇所についても記載すること。
C32: ※3 附属物等の取付状態の○欄については、応急措置前に判定区分×とした箇所のうち応急措置により○判定とした箇所の数を記入すること。
C33: ※4 附属物等の異常番号は、本体工と番号が重複しないよう101番以降とする等の配慮を行い、分かりやすく記録すること。

Sheet 様式C-1-1
B2: ■定期点検記録様式 全スパン定期点検結果総括表（トンネル本体工） 【様式C-1-1】
B3: フリガナ | F3: (ｺﾊﾞﾗﾄﾝﾈﾙ) | I3: 路線名 | K3: 国道491号（長門・俵山道路） | O3: 定期点検実施者 | P3: 株式会社荒谷建設コンサルタント | T3: 定期点検年月日 | X3: 45621
B4: 名 称 | F4: 小原トンネル | I4: 管理者名 | K4: 山口県長門土木建築事務所 | P4: 河野 秀生
B5: 定期点検結果 | C5: 覆工 スパン 番号 | E5: 変状 番号 | F5: 距離 （m） | G5: 変状部位 | I5: 変 状 の 内 容 | O5: 前回定期点検時の状態 | P5: 今回定期点検結果 | T5: 措置履歴 | Y5: 対応方針 ・ 特記事項
O6: 43679
G7: 対象箇所 | H7: 部位区分 | I7: 変状区分 | J7: 変状種類 | M7: 変状の発生範囲の規模 | N7: 前回定期点検時の変状の発生範囲及び規模 | O7: 対策区分 | P7: 対策区分 | R7: 調査の 要否 | S7: 措置の 要否 | T7: 実施 | U7: 措置の実施状況
P8: 応急措置前 | Q8: 応急措置後
C9: PS | E9: 1 | F9: 0 | G9: 覆工 | H9: 面壁・妻壁等 | I9: 材質劣化 | J9: 鋼材腐食 | M9: 0.0025m2 | N9: 0.0025m2 | O9: Ⅱa | Q9: Ⅱb | R9: 否 | S9: 要監視 | T9: － | U9: － | Y9: 監視
C10: S001 | E10: 1 | F10: 1.5 | G10: 覆工 | H10: アーチ（天端） | I10: 材質劣化 | J10: うき・はく離 | M10: 0.0025m2 | N10: 0.0025m2 | O10: Ⅱa | Q10: Ⅱa | R10: 否 | S10: 要対策 | T10: 未 | U10: － | Y10: はく落防止対策工
C11: S001 | E11: 2 | F11: 5.0999999 | G11: 覆工 | H11: 横断目地（右側） | I11: 材質劣化 | J11: うき・はく離 | M11: 0.0200m2 | N11: 0.0400m2 | O11: Ⅱb | Q11: Ⅱb | R11: 否 | S11: 要監視 | T11: － | U11: － | Y11: 監視
C12: S003 | E12: 1 | F12: 17.200001 | G12: 覆工 | H12: アーチ（左側） | I12: 材質劣化 | J12: うき・はく離 | M12: 0.0100m2 | N12: － | O12: － | Q12: Ⅱa | R12: 否 | S12: 要対策 | T12: 未 | U12: － | Y12: はく落防止対策工
C13: S004 | E13: 1 | F13: 27.9 | G13: 覆工 | H13: 横断目地（左側） | I13: 材質劣化 | J13: うき・はく離 | M13: 0.0100m2 | N13: 0.0100m2 | O13: Ⅱa | Q13: Ⅲ | R13: 否 | S13: 要対策 | T13: 未 | U13: － | Y13: はく落防止対策工
C14: S004 | E14: 2 | F14: 27.9 | G14: 覆工 | H14: 横断目地（右側） | I14: 材質劣化 | J14: うき・はく離 | M14: 0.0700m2 | N14: 0.0700m2 | O14: Ⅱa | Q14: Ⅱa | R14: 否 | S14: 要対策 | T14: 未 | U14: － | Y14: はく落防止対策工
C15: S004 | E15: 3 | F15: 27.9 | G15: 覆工 | H15: 横断目地（右側） | I15: 材質劣化 | J15: うき・はく離 | M15: 0.0250m2 | N15: 0.0250m2 | O15: Ⅱa | Q15: Ⅱa | R15: 否 | S15: 要対策 | T15: 未 | U15: － | Y15: はく落防止対策工
C16: S008 | E16: 1 | F16: 69.900002 | G16: 覆工 | H16: 横断目地（右側） | I16: 材質劣化 | J16: うき・はく離 | M16: 0.0200m2 | N16: － | O16: － | Q16: Ⅲ | R16: 否 | S16: 要対策 | T16: 未 | U16: － | Y16: はく落防止対策工
C17: S014 | E17: 1 | F17: 127.3 | G17: 覆工 | H17: アーチ（右側） | I17: 材質劣化 | J17: 鋼材腐食 | M17: 0.0025m2 | N17: － | O17: － | Q17: Ⅱb | R17: 否 | S17: 要監視 | T17: － | U17: － | Y17: 監視
C18: S016 | E18: 1 | F18: 143.39999 | G18: 覆工 | H18: アーチ（左側） | I18: 材質劣化 | J18: 鋼材腐食 | M18: 0.0300m2 | N18: － | O18: － | Q18: Ⅱb | R18: 否 | S18: 要監視 | T18: － | U18: － | Y18: 監視
C19: S017 | E19: 1 | F19: 160.10001 | G19: 覆工 | H19: アーチ（右側） | I19: 材質劣化 | J19: うき・はく離 | M19: 0.0075m2 | N19: － | O19: － | Q19: Ⅱb | R19: 否 | S19: 要監視 | T19: － | U19: － | Y19: 監視
C20: S019 | E20: 1 | F20: 181.2 | G20: 覆工 | H20: アーチ（左側） | I20: 材質劣化 | J20: 鋼材腐食 | M20: 0.0025m2 | N20: 0.0025m2 | O20: Ⅰ | Q20: Ⅱb | R20: 否 | S20: 要監視 | T20: － | U20: － | Y20: 監視
... C48: S056 | E48: 1 | F48: 543 | G48: 覆工 | H48: アーチ（天端） | I48: 材質劣化 | J48: 鋼材腐食 | M48: 0.0025m2 | N48: － | O48: － | Q48: Ⅱb | R48: 否 | S48: 要監視 | T48: － | U48: － | Y48: 監視
B49: 定期点検結果 | C49: S058 | E49: 1 | F49: 564.29999 | G49: 覆工 | H49: 横断目地（右側） | I49: 材質劣化 | J49: うき・はく離 | M49: 0.0150m2 | N49: 0.0150m2 | O49: Ⅱb | Q49: Ⅰ | R49: 否 | S49: 否 | T49: － | U49: －
C50: S059 | E50: 1 | F50: 566 | G50: 覆工 | H50: 側壁（左側） | I50: 材質劣化 | J50: 鋼材腐食 | M50: 0.0025m2 | N50: － | O50: － | Q50: Ⅱb | R50: 否 | S50: 要監視 | T50: － | U50: － | Y50: 監視
C51: S060 | E51: 1 | F51: 575.59998 | G51: 覆工 | H51: アーチ（左側） | I51: 材質劣化 | J51: 鋼材腐食 | M51: 0.0025m2 | N51: － | O51: － | Q51: Ⅱb | R51: 否 | S51: 要監視 | T51: － | U51: － | Y51: 監視
C52: S060 | E52: 2 | F52: 580.5 | G52: 覆工 | H52: アーチ（左側） | I52: 材質劣化 | J52: 鋼材腐食 | M52: 0.0025m2 | N52: － | O52: － | Q52: Ⅱb | R52: 否 | S52: 要監視 | T52: － | U52: － | Y52: 監視
C53: S064 | E53: 1 | F53: 611.20001 | G53: 覆工 | H53: 横断目地（右側） | I53: 材質劣化 | J53: うき・はく離 | M53: 0.1300m2 | N53: － | O53: － | Q53: Ⅱb | R53: 否 | S53: 要監視 | T53: － | U53: － | Y53: 監視
C54: S068 | E54: 1 | F54: 644.59998 | G54: 覆工 | H54: 横断目地（左側） | I54: 材質劣化 | J54: うき・はく離 | M54: 0.0025m2 | N54: － | O54: － | Q54: Ⅱa | R54: 否 | S54: 要対策 | T54: 未 | U54: － | Y54: はく落防止対策工
C55: S068 | E55: 2 | F55: 644.20001 | G55: 覆工 | H55: アーチ（天端） | I55: 材質劣化 | J55: うき・はく離 | M55: 0.0200m2 | N55: 0.0200m2 | O55: Ⅱb | Q55: Ⅱb | R55: 否 | S55: 要監視 | T55: － | U55: － | Y55: 監視
C56: S069 | E56: 1 | F56: 648.40002 | G56: 覆工 | H56: アーチ（左側） | I56: 材質劣化 | J56: 鋼材腐食 | M56: 0.0025m2 | N56: － | O56: － | Q56: Ⅱb | R56: 否 | S56: 要監視 | T56: － | U56: － | Y56: 監視
C57: S070 | E57: 1 | F57: 656.40002 | G57: 覆工 | H57: アーチ（左側） | I57: 材質劣化 | J57: 鋼材腐食 | M57: 0.0025m2 | N57: － | O57: － | Q57: Ⅱb | R57: 否 | S57: 要監視 | T57: － | U57: － | Y57: 監視
C58: S070 | E58: 2 | F58: 658.29999 | G58: 覆工 | H58: アーチ（天端） | I58: 材質劣化 | J58: 鋼材腐食 | M58: 0.0025m2 | N58: 0.0025m2 | O58: Ⅱa | Q58: Ⅱb | R58: 否 | S58: 要監視 | T58: － | U58: － | Y58: 監視
C59: S071 | E59: 1 | F59: 670.59998 | G59: 覆工 | H59: アーチ（左側） | I59: 材質劣化 | J59: 鋼材腐食 | M59: 0.0025m2 | N59: － | O59: － | Q59: Ⅱb | R59: 否 | S59: 要監視 | T59: － | U59: － | Y59: 監視
C60: S072 | E60: 1 | F60: 686.5 | G60: 覆工 | H60: 横断目地（天端） | I60: 材質劣化 | J60: うき・はく離 | M60: 0.0900m2 | N60: 0.0900m2 | O60: Ⅱa | Q60: Ⅱb | R60: 否 | S60: 要監視 | T60: － | U60: － | Y60: 監視
C61: S082 | E61: 1 | F61: 783.79999 | G61: 覆工 | H61: アーチ（左側） | I61: 材質劣化 | J61: 鋼材腐食 | M61: 0.0025m2 | N61: － | O61: － | Q61: Ⅱb | R61: 否 | S61: 要監視 | T61: － | U61: － | Y61: 監視
... C88: S115 | E88: 8 | F88: 1135.6 | G88: 覆工 | H88: アーチ（右側） | I88: 材質劣化 | J88: 鋼材腐食 | M88: 0.2800m2 | N88: － | O88: － | Q88: Ⅱb | R88: 否 | S88: 要監視 | T88: － | U88: － | Y88: 監視
B89: 定期点検結果 | C89: S115 | E89: 9 | F89: 1138 | G89: 覆工 | H89: 横断目地（天端） | I89: 材質劣化 | J89: うき・はく離 | M89: 0.0250m2 | N89: 0.0250m2 | O89: Ⅱa | Q89: Ⅲ | R89: 否 | S89: 要対策 | T89: 未 | U89: － | Y89: はく落防止対策工
C90: S116 | E90: 1 | F90: 1144.5 | G90: 覆工 | H90: アーチ（左側） | I90: 材質劣化 | J90: 鋼材腐食 | M90: 0.0300m2 | N90: － | O90: － | Q90: Ⅱb | R90: 否 | S90: 要監視 | T90: － | U90: － | Y90: 監視
C91: S116 | E91: 2 | F91: 1143.7 | G91: 覆工 | H91: アーチ（左側） | I91: 材質劣化 | J91: 鋼材腐食 | M91: 0.0300m2 | N91: － | O91: － | Q91: Ⅱb | R91: 否 | S91: 要監視 | T91: － | U91: － | Y91: 監視
C92: S116 | E92: 3 | F92: 1140.7 | G92: 覆工 | H92: アーチ（天端） | I92: 材質劣化 | J92: 鋼材腐食 | M92: 0.0100m2 | N92: － | O92: － | Q92: Ⅱb | R92: 否 | S92: 要監視 | T92: － | U92: － | Y92: 監視
C93: S116 | E93: 4 | F93: 1140.8 | G93: 覆工 | H93: アーチ（天端） | I93: 材質劣化 | J93: 鋼材腐食 | M93: 0.0200m2 | N93: － | O93: － | Q93: Ⅱb | R93: 否 | S93: 要監視 | T93: － | U93: － | Y93: 監視
C94: S116 | E94: 5 | F94: 1148.5 | G94: 覆工 | H94: 横断目地（右側） | I94: 材質劣化 | J94: うき・はく離 | M94: 0.0400m2 | N94: 0.0400m2 | O94: Ⅱa | Q94: Ⅱa | R94: 否 | S94: 要対策 | T94: 未 | U94: － | Y94: はく落防止対策工
C95: S116 | E95: 6 | F95: 1148.5 | G95: 覆工 | H95: 横断目地（右側） | I95: 材質劣化 | J95: うき・はく離 | M95: 0.0100m2 | N95: － | O95: － | Q95: Ⅱa | R95: 否 | S95: 要対策 | T95: 未 | U95: － | Y95: はく落防止対策工
C96: S117 | E96: 1 | F96: 1158.7 | G96: 覆工 | H96: アーチ（左側） | I96: 材質劣化 | J96: 鋼材腐食 | M96: 0.0025m2 | N96: － | O96: － | Q96: Ⅱb | R96: 否 | S96: 要監視 | T96: － | U96: － | Y96: 監視
C97: S117 | E97: 2 | F97: 1154 | G97: 覆工 | H97: アーチ（天端） | I97: 材質劣化 | J97: 鋼材腐食 | M97: 0.0300m2 | N97: － | O97: － | Q97: Ⅱb | R97: 否 | S97: 要監視 | T97: － | U97: － | Y97: 監視
C98: S117 | E98: 3 | F98: 1149.1 | G98: 覆工 | H98: アーチ（天端） | I98: 材質劣化 | J98: 鋼材腐食 | M98: 0.0300m2 | N98: － | O98: － | Q98: Ⅱb | R98: 否 | S98: 要監視 | T98: － | U98: － | Y98: 監視
C99: S117 | E99: 4 | F99: 1154.4 | G99: 覆工 | H99: アーチ（右側） | I99: 材質劣化 | J99: 鋼材腐食 | M99: 0.0300m2 | N99: － | O99: － | Q99: Ⅱb | R99: 否 | S99: 要監視 | T99: － | U99: － | Y99: 監視
C100: S117 | E100: 5 | F100: 1159 | G100: 覆工 | H100: 横断目地（右側） | I100: 材質劣化 | J100: うき・はく離 | M100: 0.0200m2 | N100: － | O100: － | Q100: Ⅱa | R100: 否 | S100: 要対策 | T100: 未 | U100: － | Y100: はく落防止対策工
C101: S117 | E101: 6 | F101: 1149.5 | G101: 覆工 | H101: アーチ（右側） | I101: 材質劣化 | J101: 鋼材腐食 | M101: 0.0025m2 | N101: － | O101: － | Q101: Ⅱb | R101: 否 | S101: 要監視 | T101: － | U101: － | Y101: 監視
... C128: S121 | E128: 9 | F128: 1199 | G128: 覆工 | H128: 横断目地（天端） | I128: 材質劣化 | J128: うき・はく離 | M128: 0.0600m2 | N128: 0.0825m2 | O128: Ⅱa | Q128: Ⅱa | R128: 否 | S128: 要対策 | T128: 未 | U128: － | Y128: はく落防止対策工
B129: 定期点検結果 | C129: S121 | E129: 10 | F129: 1199 | G129: 覆工 | H129: 横断目地（右側） | I129: 材質劣化 | J129: うき・はく離 | M129: 0.1000m2 | N129: 0.0900m2 | O129: Ⅰ | Q129: Ⅲ | R129: 否 | S129: 要対策 | T129: 未 | U129: － | Y129: はく落防止対策工
C130: S122 | E130: 1 | F130: 1208.6 | G130: 覆工 | H130: アーチ（左側） | I130: 材質劣化 | J130: 鋼材腐食 | M130: 0.0025m2 | N130: － | O130: － | Q130: Ⅱb | R130: 否 | S130: 要監視 | T130: － | U130: － | Y130: 監視
C131: S122 | E131: 2 | F131: 1201 | G131: 覆工 | H131: アーチ（天端） | I131: 材質劣化 | J131: 鋼材腐食 | M131: 0.0300m2 | N131: － | O131: － | Q131: Ⅱb | R131: 否 | S131: 要監視 | T131: － | U131: － | Y131: 監視
C132: S122 | E132: 3 | F132: 1207.4 | G132: 覆工 | H132: アーチ（天端） | I132: 材質劣化 | J132: 鋼材腐食 | M132: 0.6375m2 | N132: － | O132: － | Q132: Ⅱb | R132: 否 | S132: 要監視 | T132: － | U132: － | Y132: 監視
C133: S122 | E133: 4 | F133: 1208.9 | G133: 覆工 | H133: アーチ（天端） | I133: 材質劣化 | J133: 鋼材腐食 | M133: 0.0025m2 | N133: － | O133: － | Q133: Ⅱb | R133: 否 | S133: 要監視 | T133: － | U133: － | Y133: 監視
C134: S122 | E134: 5 | F134: 1200 | G134: 覆工 | H134: アーチ（天端） | I134: 材質劣化 | J134: うき・はく離 | M134: 0.1400m2 | N134: 0.1400m2 | O134: Ⅱb | Q134: Ⅱb | R134: 否 | S134: 要監視 | T134: － | U134: － | Y134: 監視
C135: S122 | E135: 6 | F135: 1206.3 | G135: 覆工 | H135: アーチ（右側） | I135: 材質劣化 | J135: 鋼材腐食 | M135: 0.0025m2 | N135: － | O135: － | Q135: Ⅱb | R135: 否 | S135: 要監視 | T135: － | U135: － | Y135: 監視
C136: S123 | E136: 1 | F136: 1219 | G136: 覆工 | H136: 横断目地（左側） | I136: 材質劣化 | J136: うき・はく離 | M136: 0.0300m2 | N136: 0.0200m2 | O136: Ⅱb | Q136: Ⅱa | R136: 否 | S136: 要対策 | T136: 未 | U136: － | Y136: はく落防止対策工
C137: S123 | E137: 2 | F137: 1211.6 | G137: 覆工 | H137: アーチ（天端） | I137: 材質劣化 | J137: 鋼材腐食 | M137: 0.0300m2 | N137: － | O137: － | Q137: Ⅱb | R137: 否 | S137: 要監視 | T137: － | U137: － | Y137: 監視
C138: S123 | E138: 3 | F138: 1217.4 | G138: 覆工 | H138: アーチ（左側） | I138: 材質劣化 | J138: 鋼材腐食 | M138: 0.0450m2 | N138: － | O138: － | Q138: Ⅱb | R138: 否 | S138: 要監視 | T138: － | U138: － | Y138: 監視
C139: S125 | E139: 1 | F139: 1237.5 | G139: 覆工 | H139: 横断目地（左側） | I139: 材質劣化 | J139: うき・はく離 | M139: 0.0100m2 | N139: － | O139: － | Q139: Ⅱa | R139: 否 | S139: 要対策 | T139: 未 | U139: － | Y139: はく落防止対策工
C140: S125 | E140: 2 | F140: 1229.9 | G140: 覆工 | H140: アーチ（左側） | I140: 材質劣化 | J140: 鋼材腐食 | M140: 0.0150m2 | N140: － | O140: － | Q140: Ⅱb | R140: 否 | S140: 要監視 | T140: － | U140: － | Y140: 監視
C141: S125 | E141: 3 | F141: 1234.6 | G141: 覆工 | H141: アーチ（左側） | I141: 材質劣化 | J141: 鋼材腐食 | M141: 0.0050m2 | N141: － | O141: － | Q141: Ⅱb | R141: 否 | S141: 要監視 | T141: － | U141: － | Y141: 監視
... C143: S126 | E143: 1 | F143: 1242.4 | G143: 覆工 | H143: アーチ（天端） | I143: 材質劣化 | J143: 鋼材腐食 | M143: 0.0025m2 | N143: － | O143: － | Q143: Ⅱb | R143: 否 | S143: 要監視 | T143: － | U143: － | Y143: 監視
C163: ※ 対策区分（応急措置後）の判定区分Ⅱb～Ⅳについて記入すること。また、点検前に実施された措置によりⅠと判定された変状も記入すること。
C164: ※ 応急措置を実施しないで判定した変状の対策区分は、対策区分の応急措置後の欄に記入すること。
C165: ※ 変状の除去が不完全で、緊急対応が必要な場合は対応方針欄に記入すること。
C166: ※ １区間の覆工に複数の変状がある場合は、変状箇所毎に記入すること。
C167: ※ 措置・監視点検を行った場合には、措置履歴、特記事項に記録を残すこと。（実施年度も記載）
C168: ※ 行が不足する場合は、適時、表の行を増やすこと。

Sheet 様式C-1-2
B2: ■定期点検記録様式 定期点検結果総括表（トンネル内附属物等の取付状態） 【様式C-1-2】
B3: フリガナ | F3: (ｺﾊﾞﾗﾄﾝﾈﾙ) | J3: 路線名 | K3: 国道491号（長門・俵山道路） | M3: 定期点検実施者 | O3: 株式会社荒谷建設コンサルタント | S3: 定期点検年月日 | W3: 45621
B4: 名 称 | F4: 小原トンネル | J4: 管理者名 | K4: 山口県長門土木建築事務所 | O4: 河野 秀生
B5: 定期点検結果 | C5: 覆工 スパン 番号 | E5: 異常 番号 | F5: 距離 （m） | G5: 異常部位 | J5: 異 常 の 内 容 | N5: 定期点検結果 | P5: 応急措置の 実施状況 | V5: 対応方針 ・ 特記事項
G6: 対象箇所 | I6: 部位区分 | J6: 異常種類 | L6: 異常の発生範囲の規模 | N6: 異常判定区分 | P6: 実施 | Q6: 応急措置の内容
N7: 応急措置前 | O7: 応急措置後
C8: S059 | E8: 1 | F8: 573 | G8: その他施設 | H8: その他 | I8: 附属物本体 | J8: 変形，欠損 | L8: １箇所 | O8: × | P8: 未 | V8: デリネーター交換
C9: S099 | E9: 1 | F9: 963.5 | G9: その他施設 | H9: その他 | I9: ボルト・ナット，アンカー類 | J9: 緩み、脱落 | L9: １箇所 | N9: × | O9: ○ | P9: 済 | Q9: 増締め処置済み
C42: ※ 異常判定区分×について記入すること。また、応急措置により○と判定された箇所も記入すること。
C43: ※ 応急措置を実施しないで判定した箇所の異常判定区分は、異常判定区分の応急措置後の欄に記入すること。
C44: ※ 異常の除去が不完全で、緊急対応が必要な場合は対応方針欄に記入すること。
C45: ※ １スパンの覆工に複数の異常がある場合は、異常箇所毎に記入すること。
C46: ※ 行が不足する場合は、適時、表の行を増やすこと。

Sheet 様式C-2
B2: ■定期点検記録様式 状態の把握の内容 【様式C-2】
B3: フリガナ | E3: (ｺﾊﾞﾗﾄﾝﾈﾙ) | H3: 路線名 | J3: 国道491号（長門・俵山道路） | M3: 定期点検実施者 | Q3: 株式会社荒谷建設コンサルタント | U3: 定期点検年月日 | X3: 45621
B4: 名 称 | E4: 小原トンネル | H4: 管理者名 | J4: 山口県長門土木建築事務所 | Q4: 河野 秀生
B5: 状態の把握の内容 | C5: 覆工スパン 番号 | E5: 変状 番号 | F5: 状態の把握の内容
F6: 年月日 | H6: 内容 | O6: 結果 | Y6: 対策区分の 判定
B22: 注）状態の把握において、微破壊・非破壊検査や各種試験等を実施した場合について記載する。
B23: ※ 行が不足する場合は、適時、表の行を増やすこと。

Sheet 様式D-1-1_001
B2: ■定期点検記録様式 変状写真台帳【様式D-1-1】 | R2: 施設ID | T2: 34.31681,131.15364
B3: フリガナ | E3: (ｺﾊﾞﾗﾄﾝﾈﾙ) | H3: 路 線 名 | J3: 国道491号（長門・俵山道路） | M3: 定期点検実施者 | P3: 株式会社荒谷建設コンサルタント | S3: 定期点検年月日 | U3: 45621
B4: 名 称 | E4: 小原トンネル | H4: 管理者名 | J4: 山口県長門土木建築事務所 | P4: 河野 秀生
B5: 写真 番号 | C5: 覆工スパン 番号 | E5: PS | M5: 写真 番号 | N5: 覆工スパン 番号 | P5: S001
C6: 変状番号 | E6: 1 | N6: 変状番号 | P6: 1
B7: 変状 部位 | C7: 対象箇所 | E7: 覆工 | M7: 変状 部位 | N7: 対象箇所 | P7: 覆工
C8: 部位区分 | E8: 面壁・妻壁等 | N8: 部位区分 | P8: アーチ（天端）
B9: 変状種類 | E9: 鋼材腐食 | M9: 変状種類 | P9: うき・はく離
B10: 対策 区分 | C10: 変状区分 | E10: 材質劣化 | M10: 対策 区分 | N10: 変状区分 | P10: 材質劣化
C11: 応急措置前 | N11: 応急措置前
C12: 応急措置後 | E12: Ⅱb | N12: 応急措置後 | P12: Ⅱa
B13: 変状の発生範囲及び規模 | E13: 0.05m×0.05m | H13: 前回変状の発生範囲及び規模 | J13: 0.05m×0.05m (Ⅱa判定) | M13: 変状の発生範囲及び規模 | P13: 0.05m×0.05m | S13: 前回変状の発生範囲及び規模 | U13: 0.05m×0.05m (Ⅱa判定)
B14: 対策履歴 | H14: 実施状況（実施日） | M14: 対策履歴 | S14: 実施状況（実施日）
B15: メモ | E15: 面壁部に鋼材露出。鋼材には表面的な軽微な腐食(スプレー処置済)があるものの、現状で利用者被害の可能性は低いため、監視にとどめる。(前回PE-1) | M15: メモ | P15: アーチ部(天端)にひび割れ沿いのうき(スプレー処置済)。将来的に利用者に影響が及ぶ可能性があるため、重点的な監視及び計画的な対策を必要とする。(前回126-2)
B16: 写真 番号 | C16: 覆工スパン 番号 | E16: S001 | M16: 写真 番号 | N16: 覆工スパン 番号 | P16: S003
C17: 変状番号 | E17: 2 | N17: 変状番号 | P17: 1
B18: 変状 部位 | C18: 対象箇所 | E18: 覆工 | M18: 変状 部位 | N18: 対象箇所 | P18: 覆工
C19: 部位区分 | E19: 横断目地（右側） | N19: 部位区分 | P19: アーチ（左側）
B20: 変状種類 | E20: うき・はく離 | M20: 変状種類 | P20: うき・はく離
B21: 対策 区分 | C21: 変状区分 | E21: 材質劣化 | M21: 対策 区分 | N21: 変状区分 | P21: 材質劣化
C22: 応急措置前 | N22: 応急措置前
C23: 応急措置後 | E23: Ⅱb | N23: 応急措置後 | P23: Ⅱa
B24: 変状の発生範囲及び規模 | E24: 0.40m×0.05m | H24: 前回変状の発生範囲及び規模 | J24: 0.40m×0.10m (Ⅱb判定) | M24: 変状の発生範囲及び規模 | P24: 0.10m×0.10m | S24: 前回変状の発生範囲及び規模 | U24: 今回新規変状
B25: 対策履歴 | H25: 実施状況（実施日） | M25: 対策履歴 | S25: 実施状況（実施日）
B26: メモ | E26: 横断目地部(側壁右側)にうき。現状で利用者被害の可能性は低いため、監視にとどめる。(前回125-1) | M26: メモ | P26: アーチ部(左側)にうき(スプレー処置済)。新規変状。将来的に利用者に影響が及ぶ可能性があるため、重点的な監視及び計画的な対策を必要とする。
C27: ※ 応急措置後の対策区分の判定区分Ⅱb～Ⅳについて添付すること。また、点検前に 実施された措置によりⅠと判定された箇所も添付すること。 | N27: ※ 変状の発生範囲の規模とは、対策を行う際に参考となる変状の長さや面積をいう。
N28: ※ 応急措置を実施しないで判定した変状の判定区分は、判定区分の応急措置後の欄に記入すること。
C29: ※ たたき落としを実施した場合は、実施後の写真を添付すること。 | N29: ※ 変状の発生範囲の規模は、面積・寸法を記載すること。(ひび割れ幅のみmmとし、その他をm表記とする)
C30: ※ 附属物の取付状態に関する異常写真は別途、任意の書式でとりまとめること。 | N30: ※ 構造用鋼材以外の異物に伴ううき・はく離については、メモ欄に異物の概要を記入すること。

Sheet 様式D-1-1_002
B2: ■定期点検記録様式 変状写真台帳【様式D-1-1】 | R2: 施設ID | T2: 34.31681,131.15364
B3: フリガナ | E3: (ｺﾊﾞﾗﾄﾝﾈﾙ) | H3: 路 線 名 | J3: 国道491号（長門・俵山道路） | M3: 定期点検実施者 | P3: 株式会社荒谷建設コンサルタント | S3: 定期点検年月日 | U3: 45621
B4: 名 称 | E4: 小原トンネル | H4: 管理者名 | J4: 山口県長門土木建築事務所 | P4: 河野 秀生
B5: 写真 番号 | C5: 覆工スパン 番号 | E5: S004 | M5: 写真 番号 | N5: 覆工スパン 番号 | P5: S004
C6: 変状番号 | E6: 1 | N6: 変状番号 | P6: 2
B7: 変状 部位 | C7: 対象箇所 | E7: 覆工 | M7: 変状 部位 | N7: 対象箇所 | P7: 覆工
C8: 部位区分 | E8: 横断目地（左側） | N8: 部位区分 | P8: 横断目地（右側）
B9: 変状種類 | E9: うき・はく離 | M9: 変状種類 | P9: うき・はく離
B10: 対策 区分 | C10: 変状区分 | E10: 材質劣化 | M10: 対策 区分 | N10: 変状区分 | P10: 材質劣化
C11: 応急措置前 | N11: 応急措置前
C12: 応急措置後 | E12: Ⅲ | N12: 応急措置後 | P12: Ⅱa
B13: 変状の発生範囲及び規模 | E13: 0.20m×0.05m | H13: 前回変状の発生範囲及び規模 | J13: 0.20m×0.05m (Ⅱa判定) | M13: 変状の発生範囲及び規模 | P13: 0.70m×0.10m | S13: 前回変状の発生範囲及び規模 | U13: 0.70m×0.10m (Ⅱa判定)
B14: 対策履歴 | H14: 実施状況（実施日） | M14: 対策履歴 | S14: 実施状況（実施日）
B15: メモ | E15: 横断目地部(アーチ左側)に閉合しかけのひび割れを伴ううき(スプレー処置済)。早晩、利用者に影響が及ぶ可能性が高いため、早期に措置を講ずる必要がある。 (前回123-3) | M15: メモ | P15: 横断目地部(アーチ右側)にうき(内部鉄筋露出(腐食無し)・スプレー処置済)。将来的に利用者に影響が及ぶ可能性があるため、重点的な監視及び計画的な対策を必要とする。(前回123-2)
B16: 写真 番号 | C16: 覆工スパン 番号 | E16: S004 | M16: 写真 番号 | N16: 覆工スパン 番号 | P16: S008
C17: 変状番号 | E17: 3 | N17: 変状番号 | P17: 1
B18: 変状 部位 | C18: 対象箇所 | E18: 覆工 | M18: 変状 部位 | N18: 対象箇所 | P18: 覆工
C19: 部位区分 | E19: 横断目地（右側） | N19: 部位区分 | P19: 横断目地（右側）
B20: 変状種類 | E20: うき・はく離 | M20: 変状種類 | P20: うき・はく離
B21: 対策 区分 | C21: 変状区分 | E21: 材質劣化 | M21: 対策 区分 | N21: 変状区分 | P21: 材質劣化
C22: 応急措置前 | N22: 応急措置前
C23: 応急措置後 | E23: Ⅱa | N23: 応急措置後 | P23: Ⅲ
B24: 変状の発生範囲及び規模 | E24: 0.50m×0.05m | H24: 前回変状の発生範囲及び規模 | J24: 0.50m×0.05m (Ⅱa判定) | M24: 変状の発生範囲及び規模 | P24: 0.40m×0.05m | S24: 前回変状の発生範囲及び規模 | U24: 今回新規変状
B25: 対策履歴 | H25: 実施状況（実施日） | M25: 対策履歴 | S25: 実施状況（実施日）
B26: メモ | E26: 横断目地部(アーチ右側)にうき(スプレー処置済)。将来的に利用者に影響が及ぶ可能性があるため、重点的な監視及び計画的な対策を必要とする。(前回123-1) | M26: メモ | P26: 横断目地部(アーチ右側)に閉合しかけのひび割れを伴ううき。新規変状。早晩、利用者に影響が及ぶ可能性が高いため、早期に措置を講ずる必要がある。
C27: ※ 応急措置後の対策区分の判定区分Ⅱb～Ⅳについて添付すること。また、点検前に 実施された措置によりⅠと判定された箇所も添付すること。 | N27: ※ 変状の発生範囲の規模とは、対策を行う際に参考となる変状の長さや面積をいう。
N28: ※ 応急措置を実施しないで判定した変状の判定区分は、判定区分の応急措置後の欄に記入すること。
C29: ※ たたき落としを実施した場合は、実施後の写真を添付すること。 | N29: ※ 変状の発生範囲の規模は、面積・寸法を記載すること。(ひび割れ幅のみmmとし、その他をm表記とする)
C30: ※ 附属物の取付状態に関する異常写真は別途、任意の書式でとりまとめること。 | N30: ※ 構造用鋼材以外の異物に伴ううき・はく離については、メモ欄に異物の概要を記入すること。

Sheet 様式D-1-1_003
B2: ■定期点検記録様式 変状写真台帳【様式D-1-1】 | R2: 施設ID | T2: 34.31681,131.15364
B3: フリガナ | E3: (ｺﾊﾞﾗﾄﾝﾈﾙ) | H3: 路 線 名 | J3: 国道491号（長門・俵山道路） | M3: 定期点検実施者 | P3: 株式会社荒谷建設コンサルタント | S3: 定期点検年月日 | U3: 45621
B4: 名 称 | E4: 小原トンネル | H4: 管理者名 | J4: 山口県長門土木建築事務所 | P4: 河野 秀生
B5: 写真 番号 | C5: 覆工スパン 番号 | E5: S014 | M5: 写真 番号 | N5: 覆工スパン 番号 | P5: S016
C6: 変状番号 | E6: 1 | N6: 変状番号 | P6: 1
B7: 変状 部位 | C7: 対象箇所 | E7: 覆工 | M7: 変状 部位 | N7: 対象箇所 | P7: 覆工
C8: 部位区分 | E8: アーチ（右側） | N8: 部位区分 | P8: アーチ（左側）
B9: 変状種類 | E9: 鋼材腐食 | M9: 変状種類 | P9: 鋼材腐食
B10: 対策 区分 | C10: 変状区分 | E10: 材質劣化 | M10: 対策 区分 | N10: 変状区分 | P10: 材質劣化
C11: 応急措置前 | N11: 応急措置前
C12: 応急措置後 | E12: Ⅱb | N12: 応急措置後 | P12: Ⅱb
B13: 変状の発生範囲及び規模 | E13: 0.05m×0.05m | H13: 前回変状の発生範囲及び規模 | J13: 今回新規変状 | M13: 変状の発生範囲及び規模 | P13: 0.15m×0.20m | S13: 前回変状の発生範囲及び規模 | U13: 今回新規変状
B14: 対策履歴 | H14: 実施状況（実施日） | M14: 対策履歴 | S14: 実施状況（実施日）
B15: メモ | E15: アーチ部(右側)に鋼材露出。新規変状。鋼材には表面的な軽微な腐食(スプレー処置済)があるものの、現状で利用者被害の可能性は低いため、監視にとどめる。 | M15: メモ | P15: アーチ部(左側)に鋼材露出。新規変状。鋼材には表面的な軽微な腐食(スプレー処置済)があるものの、現状で利用者被害の可能性は低いため、監視にとどめる。
B16: 写真 番号 | C16: 覆工スパン 番号 | E16: S017 | M16: 写真 番号 | N16: 覆工スパン 番号 | P16: S019
C17: 変状番号 | E17: 1 | N17: 変状番号 | P17: 1
B18: 変状 部位 | C18: 対象箇所 | E18: 覆工 | M18: 変状 部位 | N18: 対象箇所 | P18: 覆工
C19: 部位区分 | E19: アーチ（右側） | N19: 部位区分 | P19: アーチ（左側）
B20: 変状種類 | E20: うき・はく離 | M20: 変状種類 | P20: 鋼材腐食
B21: 対策 区分 | C21: 変状区分 | E21: 材質劣化 | M21: 対策 区分 | N21: 変状区分 | P21: 材質劣化
C22: 応急措置前 | N22: 応急措置前
C23: 応急措置後 | E23: Ⅱb | N23: 応急措置後 | P23: Ⅱb
B24: 変状の発生範囲及び規模 | E24: 0.05m×0.15m | H24: 前回変状の発生範囲及び規模 | J24: 今回新規変状 | M24: 変状の発生範囲及び規模 | P24: 0.05m×0.05m | S24: 前回変状の発生範囲及び規模 | U24: 0.05m×0.05m (Ⅰ判定)
B25: 対策履歴 | H25: 実施状況（実施日） | M25: 対策履歴 | S25: 実施状況（実施日）
B26: メモ | E26: アーチ部(右側)に豆板。新規変状。現状で利用者被害の可能性は低いため、監視にとどめる。 | M26: メモ | P26: アーチ部(左側)に鋼材露出。鋼材には表面的な軽微な腐食(スプレー処置済)があるものの、現状で利用者被害の可能性は低いため、監視にとどめる。(前回108-1)
C27: ※ 応急措置後の対策区分の判定区分Ⅱb～Ⅳについて添付すること。また、点検前に 実施された措置によりⅠと判定された箇所も添付すること。 | N27: ※ 変状の発生範囲の規模とは、対策を行う際に参考となる変状の長さや面積をいう。
N28: ※ 応急措置を実施しないで判定した変状の判定区分は、判定区分の応急措置後の欄に記入すること。
C29: ※ たたき落としを実施した場合は、実施後の写真を添付すること。 | N29: ※ 変状の発生範囲の規模は、面積・寸法を記載すること。(ひび割れ幅のみmmとし、その他をm表記とする)
C30: ※ 附属物の取付状態に関する異常写真は別途、任意の書式でとりまとめること。 | N30: ※ 構造用鋼材以外の異物に伴ううき・はく離については、メモ欄に異物の概要を記入すること。

Sheet 様式D-1-1_004
B2: ■定期点検記録様式 変状写真台帳【様式D-1-1】 | R2: 施設ID | T2: 34.31681,131.15364
B3: フリガナ | E3: (ｺﾊﾞﾗﾄﾝﾈﾙ) | H3: 路 線 名 | J3: 国道491号（長門・俵山道路） | M3: 定期点検実施者 | P3: 株式会社荒谷建設コンサルタント | S3: 定期点検年月日 | U3: 45621
B4: 名 称 | E4: 小原トンネル | H4: 管理者名 | J4: 山口県長門土木建築事務所 | P4: 河野 秀生
B5: 写真 番号 | C5: 覆工スパン 番号 | E5: S021 | M5: 写真 番号 | N5: 覆工スパン 番号 | P5: S024
C6: 変状番号 | E6: 1 | N6: 変状番号 | P6: 1
B7: 変状 部位 | C7: 対象箇所 | E7: 覆工 | M7: 変状 部位 | N7: 対象箇所 | P7: 覆工
C8: 部位区分 | E8: アーチ（右側） | N8: 部位区分 | P8: アーチ（左側）
B9: 変状種類 | E9: 鋼材腐食 | M9: 変状種類 | P9: 鋼材腐食
B10: 対策 区分 | C10: 変状区分 | E10: 材質劣化 | M10: 対策 区分 | N10: 変状区分 | P10: 材質劣化
C11: 応急措置前 | N11: 応急措置前
C12: 応急措置後 | E12: Ⅱb | N12: 応急措置後 | P12: Ⅱb
B13: 変状の発生範囲及び規模 | E13: 0.05m×0.05m | H13: 前回変状の発生範囲及び規模 | J13: 今回新規変状 | M13: 変状の発生範囲及び規模 | P13: 0.05m×0.05m | S13: 前回変状の発生範囲及び規模 | U13: 0.05m×0.05m (Ⅰ判定)
B14: 対策履歴 | H14: 実施状況（実施日） | M14: 対策履歴 | S14: 実施状況（実施日）
B15: メモ | E15: アーチ部(右側)に鋼材露出。新規変状。鋼材には表面的な軽微な腐食(スプレー処置済)があるものの、現状で利用者被害の可能性は低いため、監視にとどめる。 | M15: メモ | P15: アーチ部(左側)に鋼材露出。鋼材には表面的な軽微な腐食(スプレー処置済)があるものの、現状で利用者被害の可能性は低いため、監視にとどめる。(前回103-1)
B16: 写真 番号 | C16: 覆工スパン 番号 | E16: S025 | M16: 写真 番号 | N16: 覆工スパン 番号 | P16: S026
C17: 変状番号 | E17: 1 | N17: 変状番号 | P17: 1
B18: 変状 部位 | C18: 対象箇所 | E18: 覆工 | M18: 変状 部位 | N18: 対象箇所 | P18: 覆工
C19: 部位区分 | E19: 横断目地（天端） | N19: 部位区分 | P19: アーチ（左側）
B20: 変状種類 | E20: うき・はく離 | M20: 変状種類 | P20: 鋼材腐食
B21: 対策 区分 | C21: 変状区分 | E21: 材質劣化 | M21: 対策 区分 | N21: 変状区分 | P21: 材質劣化
C22: 応急措置前 | N22: 応急措置前
C23: 応急措置後 | E23: Ⅱb | N23: 応急措置後 | P23: Ⅱb
B24: 変状の発生範囲及び規模 | E24: 1.70m×0.05m | H24: 前回変状の発生範囲及び規模 | J24: 1.70m×0.05m (Ⅱb判定) | M24: 変状の発生範囲及び規模 | P24: 0.05m×0.05m | S24: 前回変状の発生範囲及び規模 | U24: 今回新規変状
B25: 対策履歴 | H25: 実施状況（実施日） | M25: 対策履歴 | S25: 実施状況（実施日）
B26: メモ | E26: 横断目地部(天端)に豆板(スプレー処置済)。現状で利用者被害の可能性は低いため、監視にとどめる。 | M26: メモ | P26: アーチ部(左側)に鋼材露出。新規変状。鋼材には表面的な軽微な腐食(スプレー処置済)があるものの、現状で利用者被害の可能性は低いため、監視にとどめる。
C27: ※ 応急措置後の対策区分の判定区分Ⅱb～Ⅳについて添付すること。また、点検前に 実施された措置によりⅠと判定された箇所も添付すること。 | N27: ※ 変状の発生範囲の規模とは、対策を行う際に参考となる変状の長さや面積をいう。
N28: ※ 応急措置を実施しないで判定した変状の判定区分は、判定区分の応急措置後の欄に記入すること。
C29: ※ たたき落としを実施した場合は、実施後の写真を添付すること。 | N29: ※ 変状の発生範囲の規模は、面積・寸法を記載すること。(ひび割れ幅のみmmとし、その他をm表記とする)
C30: ※ 附属物の取付状態に関する異常写真は別途、任意の書式でとりまとめること。 | N30: ※ 構造用鋼材以外の異物に伴ううき・はく離については、メモ欄に異物の概要を記入すること。

Sheet 様式D-1-1_005
B2: ■定期点検記録様式 変状写真台帳【様式D-1-1】 | R2: 施設ID | T2: 34.31681,131.15364
B3: フリガナ | E3: (ｺﾊﾞﾗﾄﾝﾈﾙ) | H3: 路 線 名 | J3: 国道491号（長門・俵山道路） | M3: 定期点検実施者 | P3: 株式会社荒谷建設コンサルタント | S3: 定期点検年月日 | U3: 45621
B4: 名 称 | E4: 小原トンネル | H4: 管理者名 | J4: 山口県長門土木建築事務所 | P4: 河野 秀生
B5: 写真 番号 | C5: 覆工スパン 番号 | E5: S027 | M5: 写真 番号 | N5: 覆工スパン 番号 | P5: S028
C6: 変状番号 | E6: 1 | N6: 変状番号 | P6: 1
B7: 変状 部位 | C7: 対象箇所 | E7: 覆工 | M7: 変状 部位 | N7: 対象箇所 | P7: 覆工
C8: 部位区分 | E8: アーチ（左側） | N8: 部位区分 | P8: アーチ（左側）
B9: 変状種類 | E9: 鋼材腐食 | M9: 変状種類 | P9: 鋼材腐食
B10: 対策 区分 | C10: 変状区分 | E10: 材質劣化 | M10: 対策 区分 | N10: 変状区分 | P10: 材質劣化
C11: 応急措置前 | N11: 応急措置前
C12: 応急措置後 | E12: Ⅱb | N12: 応急措置後 | P12: Ⅱb
B13: 変状の発生範囲及び規模 | E13: 0.05m×0.05m | H13: 前回変状の発生範囲及び規模 | J13: 今回新規変状 | M13: 変状の発生範囲及び規模 | P13: 0.05m×0.05m | S13: 前回変状の発生範囲及び規模 | U13: 今回新規変状
B14: 対策履歴 | H14: 実施状況（実施日） | M14: 対策履歴 | S14: 実施状況（実施日）
B15: メモ | E15: アーチ部(左側)に鋼材露出。新規変状。鋼材には表面的な軽微な腐食(スプレー処置済)があるものの、腐現状で利用者被害の可能性は低いため、監視にとどめる。 | M15: メモ | P15: アーチ部(左側)に鋼材露出。新規変状。鋼材には表面的な軽微な腐食(スプレー処置済)があるものの、現状で利用者被害の可能性は低いため、監視にとどめる。
B16: 写真 番号 | C16: 覆工スパン 番号 | E16: S030 | M16: 写真 番号 | N16: 覆工スパン 番号 | P16: S030
C17: 変状番号 | E17: 1 | N17: 変状番号 | P17: 2
B18: 変状 部位 | C18: 対象箇所 | E18: 覆工 | M18: 変状 部位 | N18: 対象箇所 | P18: 覆工
C19: 部位区分 | E19: アーチ（左側） | N19: 部位区分 | P19: アーチ（左側）
B20: 変状種類 | E20: 鋼材腐食 | M20: 変状種類 | P20: 鋼材腐食
B21: 対策 区分 | C21: 変状区分 | E21: 材質劣化 | M21: 対策 区分 | N21: 変状区分 | P21: 材質劣化
C22: 応急措置前 | N22: 応急措置前
C23: 応急措置後 | E23: Ⅱb | N23: 応急措置後 | P23: Ⅱb
B24: 変状の発生範囲及び規模 | E24: 1.20m×0.70m | H24: 前回変状の発生範囲及び規模 | J24: 今回新規変状 | M24: 変状の発生範囲及び規模 | P24: 0.05m×0.05m | S24: 前回変状の発生範囲及び規模 | U24: 今回新規変状
B25: 対策履歴 | H25: 実施状況（実施日） | M25: 対策履歴 | S25: 実施状況（実施日）
B26: メモ | E26: 側壁部・アーチ部(左側)に鋼材露出。新規変状。鋼材には表面的な軽微な腐食(スプレー処置済)があるものの、現状で利用者被害の可能性は低いため、監視にとどめる。 | M26: メモ | P26: アーチ部(左側)に鋼材露出。新規変状。鋼材には表面的な軽微な腐食(スプレー処置済)があるものの、現状で利用者被害の可能性は低いため、監視にとどめる。
C27: ※ 応急措置後の対策区分の判定区分Ⅱb～Ⅳについて添付すること。また、点検前に 実施された措置によりⅠと判定された箇所も添付すること。 | N27: ※ 変状の発生範囲の規模とは、対策を行う際に参考となる変状の長さや面積をいう。
N28: ※ 応急措置を実施しないで判定した変状の判定区分は、判定区分の応急措置後の欄に記入すること。
C29: ※ たたき落としを実施した場合は、実施後の写真を添付すること。 | N29: ※ 変状の発生範囲の規模は、面積・寸法を記載すること。(ひび割れ幅のみmmとし、その他をm表記とする)
C30: ※ 附属物の取付状態に関する異常写真は別途、任意の書式でとりまとめること。 | N30: ※ 構造用鋼材以外の異物に伴ううき・はく離については、メモ欄に異物の概要を記入すること。

Sheet 様式D-1-1_006
B2: ■定期点検記録様式 変状写真台帳【様式D-1-1】 | R2: 施設ID | T2: 34.31681,131.15364
B3: フリガナ | E3: (ｺﾊﾞﾗﾄﾝﾈﾙ) | H3: 路 線 名 | J3: 国道491号（長門・俵山道路） | M3: 定期点検実施者 | P3: 株式会社荒谷建設コンサルタント | S3: 定期点検年月日 | U3: 45621
B4: 名 称 | E4: 小原トンネル | H4: 管理者名 | J4: 山口県長門土木建築事務所 | P4: 河野 秀生
B5: 写真 番号 | C5: 覆工スパン 番号 | E5: S030 | M5: 写真 番号 | N5: 覆工スパン 番号 | P5: S032
C6: 変状番号 | E6: 3 | N6: 変状番号 | P6: 1
B7: 変状 部位 | C7: 対象箇所 | E7: 覆工 | M7: 変状 部位 | N7: 対象箇所 | P7: 覆工
C8: 部位区分 | E8: アーチ（右側） | N8: 部位区分 | P8: 横断目地（左側）
B9: 変状種類 | E9: 鋼材腐食 | M9: 変状種類 | P9: その他
B10: 対策 区分 | C10: 変状区分 | E10: 材質劣化 | M10: 対策 区分 | N10: 変状区分 | P10: 材質劣化
C11: 応急措置前 | N11: 応急措置前
C12: 応急措置後 | E12: Ⅱb | N12: 応急措置後 | P12: Ⅱb
B13: 変状の発生範囲及び規模 | E13: 0.05m×0.05m | H13: 前回変状の発生範囲及び規模 | J13: 0.05m×0.05m (Ⅱa判定) | M13: 変状の発生範囲及び規模 | P13: 1.10m×0.15m | S13: 前回変状の発生範囲及び規模 | U13: 1.10m×0.15m (Ⅱb判定)
B14: 対策履歴 | H14: 実施状況（実施日） | M14: 対策履歴 | S14: 実施状況（実施日）
B15: メモ | E15: アーチ部(右側)に鋼材露出。鋼材には表面的な軽微な腐食(スプレー処置済)があるものの、現状で利用者被害の可能性は低いため、監視にとどめる。(前回97-1) | M15: メモ | P15: 横断目地部(アーチ左側)に目地ずれ(打音異常無し・スプレー処置済)。現状で利用者被害の可能性は低いため、監視にとどめる。(前回95-1)
B16: 写真 番号 | C16: 覆工スパン 番号 | E16: S033 | M16: 写真 番号 | N16: 覆工スパン 番号 | P16: S034
C17: 変状番号 | E17: 1 | N17: 変状番号 | P17: 1
B18: 変状 部位 | C18: 対象箇所 | E18: 覆工 | M18: 変状 部位 | N18: 対象箇所 | P18: 覆工
C19: 部位区分 | E19: アーチ（右側） | N19: 部位区分 | P19: 側壁（左側）
B20: 変状種類 | E20: 鋼材腐食 | M20: 変状種類 | P20: 鋼材腐食
B21: 対策 区分 | C21: 変状区分 | E21: 材質劣化 | M21: 対策 区分 | N21: 変状区分 | P21: 材質劣化
C22: 応急措置前 | N22: 応急措置前
C23: 応急措置後 | E23: Ⅱb | N23: 応急措置後 | P23: Ⅱb
B24: 変状の発生範囲及び規模 | E24: 0.05m×0.10m | H24: 前回変状の発生範囲及び規模 | J24: 今回新規変状 | M24: 変状の発生範囲及び規模 | P24: 0.05m×0.05m | S24: 前回変状の発生範囲及び規模 | U24: 今回新規変状
B25: 対策履歴 | H25: 実施状況（実施日） | M25: 対策履歴 | S25: 実施状況（実施日）
B26: メモ | E26: アーチ部(右側)に鋼材露出。新規変状。鋼材には表面的な軽微な腐食(スプレー処置済)があるものの、現状で利用者被害の可能性は低いため、監視にとどめる。 | M26: メモ | P26: 側壁部(左側)に鋼材露出。新規変状。鋼材には表面的な軽微な腐食(スプレー処置済)があるものの、現状で利用者被害の可能性は低いため、監視にとどめる。
C27: ※ 応急措置後の対策区分の判定区分Ⅱb～Ⅳについて添付すること。また、点検前に 実施された措置によりⅠと判定された箇所も添付すること。 | N27: ※ 変状の発生範囲の規模とは、対策を行う際に参考となる変状の長さや面積をいう。
N28: ※ 応急措置を実施しないで判定した変状の判定区分は、判定区分の応急措置後の欄に記入すること。
C29: ※ たたき落としを実施した場合は、実施後の写真を添付すること。 | N29: ※ 変状の発生範囲の規模は、面積・寸法を記載すること。(ひび割れ幅のみmmとし、その他をm表記とする)
C30: ※ 附属物の取付状態に関する異常写真は別途、任意の書式でとりまとめること。 | N30: ※ 構造用鋼材以外の異物に伴ううき・はく離については、メモ欄に異物の概要を記入すること。

Sheet 様式D-1-1_007
B2: ■定期点検記録様式 変状写真台帳【様式D-1-1】 | R2: 施設ID | T2: 34.31681,131.15364
B3: フリガナ | E3: (ｺﾊﾞﾗﾄﾝﾈﾙ) | H3: 路 線 名 | J3: 国道491号（長門・俵山道路） | M3: 定期点検実施者 | P3: 株式会社荒谷建設コンサルタント | S3: 定期点検年月日 | U3: 45621
B4: 名 称 | E4: 小原トンネル | H4: 管理者名 | J4: 山口県長門土木建築事務所 | P4: 河野 秀生
B5: 写真 番号 | C5: 覆工スパン 番号 | E5: S034 | M5: 写真 番号 | N5: 覆工スパン 番号 | P5: S035
C6: 変状番号 | E6: 2 | N6: 変状番号 | P6: 1
B7: 変状 部位 | C7: 対象箇所 | E7: 覆工 | M7: 変状 部位 | N7: 対象箇所 | P7: 覆工
C8: 部位区分 | E8: アーチ（天端） | N8: 部位区分 | P8: アーチ（左側）
B9: 変状種類 | E9: 鋼材腐食 | M9: 変状種類 | P9: 鋼材腐食
B10: 対策 区分 | C10: 変状区分 | E10: 材質劣化 | M10: 対策 区分 | N10: 変状区分 | P10: 材質劣化
C11: 応急措置前 | N11: 応急措置前
C12: 応急措置後 | E12: Ⅱb | N12: 応急措置後 | P12: Ⅱb
B13: 変状の発生範囲及び規模 | E13: 0.05m×0.05m | H13: 前回変状の発生範囲及び規模 | J13: 0.05m×0.05m (Ⅱa判定) | M13: 変状の発生範囲及び規模 | P13: 0.05m×0.05m | S13: 前回変状の発生範囲及び規模 | U13: 今回新規変状
B14: 対策履歴 | H14: 実施状況（実施日） | M14: 対策履歴 | S14: 実施状況（実施日）
B15: メモ | E15: アーチ部(天端)に鋼材露出。鋼材には表面的な軽微な腐食(スプレー処置済)があるものの、現状で利用者被害の可能性は低いため、監視にとどめる。(前回93-1) | M15: メモ | P15: アーチ部(左側)に鋼材露出。新規変状。鋼材には表面的な軽微な腐食(スプレー処置済)があるものの、現状で利用者被害の可能性は低いため、監視にとどめる。
B16: 写真 番号 | C16: 覆工スパン 番号 | E16: S035 | M16: 写真 番号 | N16: 覆工スパン 番号 | P16: S038
C17: 変状番号 | E17: 2 | N17: 変状番号 | P17: 1
B18: 変状 部位 | C18: 対象箇所 | E18: 覆工 | M18: 変状 部位 | N18: 対象箇所 | P18: 覆工
C19: 部位区分 | E19: アーチ（右側） | N19: 部位区分 | P19: 横断目地（天端）
B20: 変状種類 | E20: 鋼材腐食 | M20: 変状種類 | P20: うき・はく離
B21: 対策 区分 | C21: 変状区分 | E21: 材質劣化 | M21: 対策 区分 | N21: 変状区分 | P21: 材質劣化
C22: 応急措置前 | N22: 応急措置前
C23: 応急措置後 | E23: Ⅱb | N23: 応急措置後 | P23: Ⅱb
B24: 変状の発生範囲及び規模 | E24: 0.05m×0.05m | H24: 前回変状の発生範囲及び規模 | J24: 今回新規変状 | M24: 変状の発生範囲及び規模 | P24: 0.55m×0.05m | S24: 前回変状の発生範囲及び規模 | U24: 0.55m×0.05m (Ⅱb判定)
B25: 対策履歴 | H25: 実施状況（実施日） | M25: 対策履歴 | S25: 実施状況（実施日）
B26: メモ | E26: アーチ部(右側)に鋼材露出。新規変状。鋼材には表面的な軽微な腐食(スプレー処置済)があるものの、現状で利用者被害の可能性は低いため、監視にとどめる。 | M26: メモ | P26: 横断目地部(天端)に豆板(スプレー処置済)。現状で利用者被害の可能性は低いため、監視にとどめる。(前回88-1)
C27: ※ 応急措置後の対策区分の判定区分Ⅱb～Ⅳについて添付すること。また、点検前に 実施された措置によりⅠと判定された箇所も添付すること。 | N27: ※ 変状の発生範囲の規模とは、対策を行う際に参考となる変状の長さや面積をいう。
N28: ※ 応急措置を実施しないで判定した変状の判定区分は、判定区分の応急措置後の欄に記入すること。
C29: ※ たたき落としを実施した場合は、実施後の写真を添付すること。 | N29: ※ 変状の発生範囲の規模は、面積・寸法を記載すること。(ひび割れ幅のみmmとし、その他をm表記とする)
C30: ※ 附属物の取付状態に関する異常写真は別途、任意の書式でとりまとめること。 | N30: ※ 構造用鋼材以外の異物に伴ううき・はく離については、メモ欄に異物の概要を記入すること。

Sheet 様式D-1-1_008
B2: ■定期点検記録様式 変状写真台帳【様式D-1-1】 | R2: 施設ID | T2: 34.31681,131.15364
B3: フリガナ | E3: (ｺﾊﾞﾗﾄﾝﾈﾙ) | H3: 路 線 名 | J3: 国道491号（長門・俵山道路） | M3: 定期点検実施者 | P3: 株式会社荒谷建設コンサルタント | S3: 定期点検年月日 | U3: 45621
B4: 名 称 | E4: 小原トンネル | H4: 管理者名 | J4: 山口県長門土木建築事務所 | P4: 河野 秀生
B5: 写真 番号 | C5: 覆工スパン 番号 | E5: S039 | M5: 写真 番号 | N5: 覆工スパン 番号 | P5: S040
C6: 変状番号 | E6: 1 | N6: 変状番号 | P6: 1
B7: 変状 部位 | C7: 対象箇所 | E7: 覆工 | M7: 変状 部位 | N7: 対象箇所 | P7: 覆工
C8: 部位区分 | E8: アーチ（左側） | N8: 部位区分 | P8: アーチ（天端）
B9: 変状種類 | E9: 鋼材腐食 | M9: 変状種類 | P9: 鋼材腐食
B10: 対策 区分 | C10: 変状区分 | E10: 材質劣化 | M10: 対策 区分 | N10: 変状区分 | P10: 材質劣化
C11: 応急措置前 | N11: 応急措置前
C12: 応急措置後 | E12: Ⅱb | N12: 応急措置後 | P12: Ⅱb
B13: 変状の発生範囲及び規模 | E13: 0.05m×0.05m | H13: 前回変状の発生範囲及び規模 | J13: 今回新規変状 | M13: 変状の発生範囲及び規模 | P13: 0.05m×0.05m | S13: 前回変状の発生範囲及び規模 | U13: 今回新規変状
B14: 対策履歴 | H14: 実施状況（実施日） | M14: 対策履歴 | S14: 実施状況（実施日）
B15: メモ | E15: アーチ部(左側)に鋼材露出。新規変状。鋼材には表面的な軽微な腐食(スプレー処置済)があるものの、現状で利用者被害の可能性は低いため、監視にとどめる。 | M15: メモ | P15: アーチ部(天端)に鋼材露出。新規変状。鋼材には表面的な軽微な腐食(スプレー処置済)があるものの、現状で利用者被害の可能性は低いため、監視にとどめる。
B16: 写真 番号 | C16: 覆工スパン 番号 | E16: S041 | M16: 写真 番号 | N16: 覆工スパン 番号 | P16: S043
C17: 変状番号 | E17: 1 | N17: 変状番号 | P17: 1
B18: 変状 部位 | C18: 対象箇所 | E18: 覆工 | M18: 変状 部位 | N18: 対象箇所 | P18: 覆工
C19: 部位区分 | E19: 横断目地（天端） | N19: 部位区分 | P19: 横断目地（天端）
B20: 変状種類 | E20: うき・はく離 | M20: 変状種類 | P20: うき・はく離
B21: 対策 区分 | C21: 変状区分 | E21: 材質劣化 | M21: 対策 区分 | N21: 変状区分 | P21: 材質劣化
C22: 応急措置前 | N22: 応急措置前
C23: 応急措置後 | E23: Ⅱb | N23: 応急措置後 | P23: Ⅱa
B24: 変状の発生範囲及び規模 | E24: 0.20m×0.05m | H24: 前回変状の発生範囲及び規模 | J24: 0.20m×0.05m (Ⅱb判定) | M24: 変状の発生範囲及び規模 | P24: 0.20m×0.05m | S24: 前回変状の発生範囲及び規模 | U24: 今回新規変状
B25: 対策履歴 | H25: 実施状況（実施日） | M25: 対策履歴 | S25: 実施状況（実施日）
B26: メモ | E26: 横断目地部(天端)に豆板(スプレー処置済)。現状で利用者被害の可能性は低いため、監視にとどめる。(前回85-1) | M26: メモ | P26: 横断目地部(天端)にうき(スプレー処置済)。新規変状。将来的に利用者に影響が及ぶ可能性があるため、重点的な監視及び計画的な対策を必要とする。
C27: ※ 応急措置後の対策区分の判定区分Ⅱb～Ⅳについて添付すること。また、点検前に 実施された措置によりⅠと判定された箇所も添付すること。 | N27: ※ 変状の発生範囲の規模とは、対策を行う際に参考となる変状の長さや面積をいう。
N28: ※ 応急措置を実施しないで判定した変状の判定区分は、判定区分の応急措置後の欄に記入すること。
C29: ※ たたき落としを実施した場合は、実施後の写真を添付すること。 | N29: ※ 変状の発生範囲の規模は、面積・寸法を記載すること。(ひび割れ幅のみmmとし、その他をm表記とする)
C30: ※ 附属物の取付状態に関する異常写真は別途、任意の書式でとりまとめること。 | N30: ※ 構造用鋼材以外の異物に伴ううき・はく離については、メモ欄に異物の概要を記入すること。

Sheet 様式D-1-1_009
B2: ■定期点検記録様式 変状写真台帳【様式D-1-1】 | R2: 施設ID | T2: 34.31681,131.15364
B3: フリガナ | E3: (ｺﾊﾞﾗﾄﾝﾈﾙ) | H3: 路 線 名 | J3: 国道491号（長門・俵山道路） | M3: 定期点検実施者 | P3: 株式会社荒谷建設コンサルタント | S3: 定期点検年月日 | U3: 45621
B4: 名 称 | E4: 小原トンネル | H4: 管理者名 | J4: 山口県長門土木建築事務所 | P4: 河野 秀生
B5: 写真 番号 | C5: 覆工スパン 番号 | E5: S044 | M5: 写真 番号 | N5: 覆工スパン 番号 | P5: S047
C6: 変状番号 | E6: 1 | N6: 変状番号 | P6: 1
B7: 変状 部位 | C7: 対象箇所 | E7: 覆工 | M7: 変状 部位 | N7: 対象箇所 | P7: 覆工
C8: 部位区分 | E8: 横断目地（右側） | N8: 部位区分 | P8: アーチ（左側）
B9: 変状種類 | E9: うき・はく離 | M9: 変状種類 | P9: 鋼材腐食
B10: 対策 区分 | C10: 変状区分 | E10: 材質劣化 | M10: 対策 区分 | N10: 変状区分 | P10: 材質劣化
C11: 応急措置前 | N11: 応急措置前
C12: 応急措置後 | E12: Ⅱb | N12: 応急措置後 | P12: Ⅱb
B13: 変状の発生範囲及び規模 | E13: 0.20m×0.05m | H13: 前回変状の発生範囲及び規模 | J13: 0.20m×0.05m (Ⅱb判定) | M13: 変状の発生範囲及び規模 | P13: 0.05m×0.05m | S13: 前回変状の発生範囲及び規模 | U13: 今回新規変状
B14: 対策履歴 | H14: 実施状況（実施日） | M14: 対策履歴 | S14: 実施状況（実施日）
B15: メモ | E15: 横断目地部(側壁右側)にうき(スプレー処置済)。現状で利用者被害の可能性は低いため、監視にとどめる。(前回82-1) | M15: メモ | P15: アーチ部(左側)に鋼材露出。新規変状。鋼材には表面的な軽微な腐食(スプレー処置済)があるものの、現状で利用者被害の可能性は低いため、監視にとどめる。
B16: 写真 番号 | C16: 覆工スパン 番号 | E16: S048 | M16: 写真 番号 | N16: 覆工スパン 番号 | P16: S051
C17: 変状番号 | E17: 1 | N17: 変状番号 | P17: 1
B18: 変状 部位 | C18: 対象箇所 | E18: 覆工 | M18: 変状 部位 | N18: 対象箇所 | P18: 覆工
C19: 部位区分 | E19: アーチ（右側） | N19: 部位区分 | P19: アーチ（左側）
B20: 変状種類 | E20: 鋼材腐食 | M20: 変状種類 | P20: 鋼材腐食
B21: 対策 区分 | C21: 変状区分 | E21: 材質劣化 | M21: 対策 区分 | N21: 変状区分 | P21: 材質劣化
C22: 応急措置前 | N22: 応急措置前
C23: 応急措置後 | E23: Ⅱb | N23: 応急措置後 | P23: Ⅱb
B24: 変状の発生範囲及び規模 | E24: 0.05m×0.05m | H24: 前回変状の発生範囲及び規模 | J24: 今回新規変状 | M24: 変状の発生範囲及び規模 | P24: 0.05m×0.05m | S24: 前回変状の発生範囲及び規模 | U24: 今回新規変状
B25: 対策履歴 | H25: 実施状況（実施日） | M25: 対策履歴 | S25: 実施状況（実施日）
B26: メモ | E26: アーチ部(右側)に鋼材露出。新規変状。鋼材には表面的な軽微な腐食(スプレー処置済)があるものの、現状で利用者被害の可能性は低いため、監視にとどめる。 | M26: メモ | P26: アーチ部(左側)に鋼材露出。新規変状。鋼材には表面的な軽微な腐食(スプレー処置済)があるものの、現状で利用者被害の可能性は低いため、監視にとどめる。
C27: ※ 応急措置後の対策区分の判定区分Ⅱb～Ⅳについて添付すること。また、点検前に 実施された措置によりⅠと判定された箇所も添付すること。 | N27: ※ 変状の発生範囲の規模とは、対策を行う際に参考となる変状の長さや面積をいう。
N28: ※ 応急措置を実施しないで判定した変状の判定区分は、判定区分の応急措置後の欄に記入すること。
C29: ※ たたき落としを実施した場合は、実施後の写真を添付すること。 | N29: ※ 変状の発生範囲の規模は、面積・寸法を記載すること。(ひび割れ幅のみmmとし、その他をm表記とする)
C30: ※ 附属物の取付状態に関する異常写真は別途、任意の書式でとりまとめること。 | N30: ※ 構造用鋼材以外の異物に伴ううき・はく離については、メモ欄に異物の概要を記入すること。

Sheet 様式D-1-1_010
B2: ■定期点検記録様式 変状写真台帳【様式D-1-1】 | R2: 施設ID | T2: 34.31681,131.15364
B3: フリガナ | E3: (ｺﾊﾞﾗﾄﾝﾈﾙ) | H3: 路 線 名 | J3: 国道491号（長門・俵山道路） | M3: 定期点検実施者 | P3: 株式会社荒谷建設コンサルタント | S3: 定期点検年月日 | U3: 45621
B4: 名 称 | E4: 小原トンネル | H4: 管理者名 | J4: 山口県長門土木建築事務所 | P4: 河野 秀生
B5: 写真 番号 | C5: 覆工スパン 番号 | E5: S051 | M5: 写真 番号 | N5: 覆工スパン 番号 | P5: S052
C6: 変状番号 | E6: 2 | N6: 変状番号 | P6: 1
B7: 変状 部位 | C7: 対象箇所 | E7: 覆工 | M7: 変状 部位 | N7: 対象箇所 | P7: 覆工
C8: 部位区分 | E8: アーチ（左側） | N8: 部位区分 | P8: アーチ（左側）
B9: 変状種類 | E9: 圧ざ、ひび割れ | M9: 変状種類 | P9: 鋼材腐食
B10: 対策 区分 | C10: 変状区分 | E10: 材質劣化 | M10: 対策 区分 | N10: 変状区分 | P10: 材質劣化
C11: 応急措置前 | N11: 応急措置前
C12: 応急措置後 | E12: Ⅱb | N12: 応急措置後 | P12: Ⅱb
B13: 変状の発生範囲及び規模 | E13: W1.0mm×L1.5m､W0.9mm×L1.6m､W0.7mm×L2.4m他 | H13: 前回変状の発生範囲及び規模 | J13: W0.4mm×L4.8ｍ (Ⅰ判定) | M13: 変状の発生範囲及び規模 | P13: 0.05m×0.05m | S13: 前回変状の発生範囲及び規模 | U13: 今回新規変状
B14: 対策履歴 | H14: 実施状況（実施日） | M14: 対策履歴 | S14: 実施状況（実施日）
B15: メモ | E15: アーチ部(左側)に縦断方向のひび割れ。材質劣化のひび割れと判断するが、ひび割れに進行が確認されたため要監視とする。(前回76-1) | M15: メモ | P15: アーチ部(左側)に鋼材露出。新規変状。鋼材には表面的な軽微な腐食(スプレー処置済)があるものの、現状で利用者被害の可能性は低いため、監視にとどめる。
B16: 写真 番号 | C16: 覆工スパン 番号 | E16: S054 | M16: 写真 番号 | N16: 覆工スパン 番号 | P16: S056
C17: 変状番号 | E17: 1 | N17: 変状番号 | P17: 1
B18: 変状 部位 | C18: 対象箇所 | E18: 覆工 | M18: 変状 部位 | N18: 対象箇所 | P18: 覆工
C19: 部位区分 | E19: アーチ（左側） | N19: 部位区分 | P19: アーチ（天端）
B20: 変状種類 | E20: 鋼材腐食 | M20: 変状種類 | P20: 鋼材腐食
B21: 対策 区分 | C21: 変状区分 | E21: 材質劣化 | M21: 対策 区分 | N21: 変状区分 | P21: 材質劣化
C22: 応急措置前 | N22: 応急措置前
C23: 応急措置後 | E23: Ⅱb | N23: 応急措置後 | P23: Ⅱb
B24: 変状の発生範囲及び規模 | E24: 0.60m×0.25m | H24: 前回変状の発生範囲及び規模 | J24: 今回新規変状 | M24: 変状の発生範囲及び規模 | P24: 0.05m×0.05m | S24: 前回変状の発生範囲及び規模 | U24: 今回新規変状
B25: 対策履歴 | H25: 実施状況（実施日） | M25: 対策履歴 | S25: 実施状況（実施日）
B26: メモ | E26: アーチ部(左側)に鋼材露出。新規変状。鋼材には表面的な軽微な腐食(スプレー処置済)があるものの、現状で利用者被害の可能性は低いため、監視にとどめる。 | M26: メモ | P26: アーチ部(天端)に鋼材露出。新規変状。鋼材には表面的な軽微な腐食(スプレー処置済)があるものの、現状で利用者被害の可能性は低いため、監視にとどめる。
C27: ※ 応急措置後の対策区分の判定区分Ⅱb～Ⅳについて添付すること。また、点検前に 実施された措置によりⅠと判定された箇所も添付すること。 | N27: ※ 変状の発生範囲の規模とは、対策を行う際に参考となる変状の長さや面積をいう。
N28: ※ 応急措置を実施しないで判定した変状の判定区分は、判定区分の応急措置後の欄に記入すること。
C29: ※ たたき落としを実施した場合は、実施後の写真を添付すること。 | N29: ※ 変状の発生範囲の規模は、面積・寸法を記載すること。(ひび割れ幅のみmmとし、その他をm表記とする)
C30: ※ 附属物の取付状態に関する異常写真は別途、任意の書式でとりまとめること。 | N30: ※ 構造用鋼材以外の異物に伴ううき・はく離については、メモ欄に異物の概要を記入すること。

Sheet 様式D-1-1_011
B2: ■定期点検記録様式 変状写真台帳【様式D-1-1】 | R2: 施設ID | T2: 34.31681,131.15364
B3: フリガナ | E3: (ｺﾊﾞﾗﾄﾝﾈﾙ) | H3: 路 線 名 | J3: 国道491号（長門・俵山道路） | M3: 定期点検実施者 | P3: 株式会社荒谷建設コンサルタント | S3: 定期点検年月日 | U3: 45621
B4: 名 称 | E4: 小原トンネル | H4: 管理者名 | J4: 山口県長門土木建築事務所 | P4: 河野 秀生
B5: 写真 番号 | C5: 覆工スパン 番号 | E5: S058 | M5: 写真 番号 | N5: 覆工スパン 番号 | P5: S059
C6: 変状番号 | E6: 1 | N6: 変状番号 | P6: 1
B7: 変状 部位 | C7: 対象箇所 | E7: 覆工 | M7: 変状 部位 | N7: 対象箇所 | P7: 覆工
C8: 部位区分 | E8: 横断目地（右側） | N8: 部位区分 | P8: 側壁（左側）
B9: 変状種類 | E9: うき・はく離 | M9: 変状種類 | P9: 鋼材腐食
B10: 対策 区分 | C10: 変状区分 | E10: 材質劣化 | M10: 対策 区分 | N10: 変状区分 | P10: 材質劣化
C11: 応急措置前 | N11: 応急措置前
C12: 応急措置後 | E12: Ⅰ | N12: 応急措置後 | P12: Ⅱb
B13: 変状の発生範囲及び規模 | E13: 0.30m×0.05m | H13: 前回変状の発生範囲及び規模 | J13: 0.30m×0.05m (Ⅱb判定) | M13: 変状の発生範囲及び規模 | P13: 0.05m×0.05m | S13: 前回変状の発生範囲及び規模 | U13: 今回新規変状
B14: 対策履歴 | H14: 実施状況（実施日） | M14: 対策履歴 | S14: 実施状況（実施日）
B15: メモ | E15: 横断目地部(アーチ右側)にはく落。前回確認されていたうきの範囲がはく落していた（打音異常無し）。現状で利用者被害がないと判断しⅠ判定とした。(前回68-1) | M15: メモ | P15: 側壁部(左側)に鋼材露出。新規変状。鋼材には表面的な軽微な腐食(スプレー処置済)があるものの、現状で利用者被害の可能性は低いため、監視にとどめる。
B16: 写真 番号 | C16: 覆工スパン 番号 | E16: S060 | M16: 写真 番号 | N16: 覆工スパン 番号 | P16: S060
C17: 変状番号 | E17: 1 | N17: 変状番号 | P17: 2
B18: 変状 部位 | C18: 対象箇所 | E18: 覆工 | M18: 変状 部位 | N18: 対象箇所 | P18: 覆工
C19: 部位区分 | E19: アーチ（左側） | N19: 部位区分 | P19: アーチ（左側）
B20: 変状種類 | E20: 鋼材腐食 | M20: 変状種類 | P20: 鋼材腐食
B21: 対策 区分 | C21: 変状区分 | E21: 材質劣化 | M21: 対策 区分 | N21: 変状区分 | P21: 材質劣化
C22: 応急措置前 | N22: 応急措置前
C23: 応急措置後 | E23: Ⅱb | N23: 応急措置後 | P23: Ⅱb
B24: 変状の発生範囲及び規模 | E24: 0.05m×0.05m | H24: 前回変状の発生範囲及び規模 | J24: 今回新規変状 | M24: 変状の発生範囲及び規模 | P24: 0.05m×0.05m | S24: 前回変状の発生範囲及び規模 | U24: 今回新規変状
B25: 対策履歴 | H25: 実施状況（実施日） | M25: 対策履歴 | S25: 実施状況（実施日）
B26: メモ | E26: アーチ部(左側)に鋼材露出。新規変状。鋼材には表面的な軽微な腐食(スプレー処置済)があるものの、現状で利用者被害の可能性は低いため、監視にとどめる。 | M26: メモ | P26: アーチ部(左側)に鋼材腐食。新規変状。現状で利用者被害の可能性は低いため、監視にとどめる。
C27: ※ 応急措置後の対策区分の判定区分Ⅱb～Ⅳについて添付すること。また、点検前に 実施された措置によりⅠと判定された箇所も添付すること。 | N27: ※ 変状の発生範囲の規模とは、対策を行う際に参考となる変状の長さや面積をいう。
N28: ※ 応急措置を実施しないで判定した変状の判定区分は、判定区分の応急措置後の欄に記入すること。
C29: ※ たたき落としを実施した場合は、実施後の写真を添付すること。 | N29: ※ 変状の発生範囲の規模は、面積・寸法を記載すること。(ひび割れ幅のみmmとし、その他をm表記とする)
C30: ※ 附属物の取付状態に関する異常写真は別途、任意の書式でとりまとめること。 | N30: ※ 構造用鋼材以外の異物に伴ううき・はく離については、メモ欄に異物の概要を記入すること。

Sheet 様式D-1-1_012
B2: ■定期点検記録様式 変状写真台帳【様式D-1-1】 | R2: 施設ID | T2: 34.31681,131.15364
B3: フリガナ | E3: (ｺﾊﾞﾗﾄﾝﾈﾙ) | H3: 路 線 名 | J3: 国道491号（長門・俵山道路） | M3: 定期点検実施者 | P3: 株式会社荒谷建設コンサルタント | S3: 定期点検年月日 | U3: 45621
B4: 名 称 | E4: 小原トンネル | H4: 管理者名 | J4: 山口県長門土木建築事務所 | P4: 河野 秀生
B5: 写真 番号 | C5: 覆工スパン 番号 | E5: S064 | M5: 写真 番号 | N5: 覆工スパン 番号 | P5: S068
C6: 変状番号 | E6: 1 | N6: 変状番号 | P6: 1
B7: 変状 部位 | C7: 対象箇所 | E7: 覆工 | M7: 変状 部位 | N7: 対象箇所 | P7: 覆工
C8: 部位区分 | E8: 横断目地（右側） | N8: 部位区分 | P8: 横断目地（左側）
B9: 変状種類 | E9: うき・はく離 | M9: 変状種類 | P9: うき・はく離
B10: 対策 区分 | C10: 変状区分 | E10: 材質劣化 | M10: 対策 区分 | N10: 変状区分 | P10: 材質劣化
C11: 応急措置前 | N11: 応急措置前
C12: 応急措置後 | E12: Ⅱb | N12: 応急措置後 | P12: Ⅱa
B13: 変状の発生範囲及び規模 | E13: 1.30m×0.10m | H13: 前回変状の発生範囲及び規模 | J13: 今回新規変状 | M13: 変状の発生範囲及び規模 | P13: 0.05m×0.05m | S13: 前回変状の発生範囲及び規模 | U13: 今回新規変状
B14: 対策履歴 | H14: 実施状況（実施日） | M14: 対策履歴 | S14: 実施状況（実施日）
B15: メモ | E15: 横断目地部(側壁右側)に豆板。新規変状。現状で利用者被害の可能性は低いため、監視にとどめる。 | M15: メモ | P15: 横断目地部(アーチ左側)にうき(スプレー処置済)。新規変状。将来的に利用者に影響が及ぶ可能性があるため、重点的な監視及び計画的な対策を必要とする。
B16: 写真 番号 | C16: 覆工スパン 番号 | E16: S068 | M16: 写真 番号 | N16: 覆工スパン 番号 | P16: S069
C17: 変状番号 | E17: 2 | N17: 変状番号 | P17: 1
B18: 変状 部位 | C18: 対象箇所 | E18: 覆工 | M18: 変状 部位 | N18: 対象箇所 | P18: 覆工
C19: 部位区分 | E19: アーチ（天端） | N19: 部位区分 | P19: アーチ（左側）
B20: 変状種類 | E20: うき・はく離 | M20: 変状種類 | P20: 鋼材腐食
B21: 対策 区分 | C21: 変状区分 | E21: 材質劣化 | M21: 対策 区分 | N21: 変状区分 | P21: 材質劣化
C22: 応急措置前 | N22: 応急措置前
C23: 応急措置後 | E23: Ⅱb | N23: 応急措置後 | P23: Ⅱb
B24: 変状の発生範囲及び規模 | E24: 0.20m×0.10m | H24: 前回変状の発生範囲及び規模 | J24: 0.20m×0.10m (Ⅱb判定) | M24: 変状の発生範囲及び規模 | P24: 0.05m×0.05m | S24: 前回変状の発生範囲及び規模 | U24: 今回新規変状
B25: 対策履歴 | H25: 実施状況（実施日） | M25: 対策履歴 | S25: 実施状況（実施日）
B26: メモ | E26: アーチ部(天端)に豆板(スプレー処置済)。現状で利用者被害の可能性は低いため、監視にとどめる。(前回59-1) | M26: メモ | P26: アーチ部(左側)に鋼材露出。新規変状。鋼材には表面的な軽微な腐食(スプレー処置済)があるものの、現状で利用者被害の可能性は低いため、監視にとどめる。
C27: ※ 応急措置後の対策区分の判定区分Ⅱb～Ⅳについて添付すること。また、点検前に 実施された措置によりⅠと判定された箇所も添付すること。 | N27: ※ 変状の発生範囲の規模とは、対策を行う際に参考となる変状の長さや面積をいう。
N28: ※ 応急措置を実施しないで判定した変状の判定区分は、判定区分の応急措置後の欄に記入すること。
C29: ※ たたき落としを実施した場合は、実施後の写真を添付すること。 | N29: ※ 変状の発生範囲の規模は、面積・寸法を記載すること。(ひび割れ幅のみmmとし、その他をm表記とする)
C30: ※ 附属物の取付状態に関する異常写真は別途、任意の書式でとりまとめること。 | N30: ※ 構造用鋼材以外の異物に伴ううき・はく離については、メモ欄に異物の概要を記入すること。

Sheet 様式D-1-1_013
B2: ■定期点検記録様式 変状写真台帳【様式D-1-1】 | R2: 施設ID | T2: 34.31681,131.15364
B3: フリガナ | E3: (ｺﾊﾞﾗﾄﾝﾈﾙ) | H3: 路 線 名 | J3: 国道491号（長門・俵山道路） | M3: 定期点検実施者 | P3: 株式会社荒谷建設コンサルタント | S3: 定期点検年月日 | U3: 45621
B4: 名 称 | E4: 小原トンネル | H4: 管理者名 | J4: 山口県長門土木建築事務所 | P4: 河野 秀生
B5: 写真 番号 | C5: 覆工スパン 番号 | E5: S070 | M5: 写真 番号 | N5: 覆工スパン 番号 | P5: S070
C6: 変状番号 | E6: 1 | N6: 変状番号 | P6: 2
B7: 変状 部位 | C7: 対象箇所 | E7: 覆工 | M7: 変状 部位 | N7: 対象箇所 | P7: 覆工
C8: 部位区分 | E8: アーチ（左側） | N8: 部位区分 | P8: アーチ（天端）
B9: 変状種類 | E9: 鋼材腐食 | M9: 変状種類 | P9: 鋼材腐食
B10: 対策 区分 | C10: 変状区分 | E10: 材質劣化 | M10: 対策 区分 | N10: 変状区分 | P10: 材質劣化
C11: 応急措置前 | N11: 応急措置前
C12: 応急措置後 | E12: Ⅱb | N12: 応急措置後 | P12: Ⅱb
B13: 変状の発生範囲及び規模 | E13: 0.05m×0.05m | H13: 前回変状の発生範囲及び規模 | J13: 今回新規変状 | M13: 変状の発生範囲及び規模 | P13: 0.05m×0.05m | S13: 前回変状の発生範囲及び規模 | U13: 0.05m×0.05m (Ⅱa判定)
B14: 対策履歴 | H14: 実施状況（実施日） | M14: 対策履歴 | S14: 実施状況（実施日）
B15: メモ | E15: アーチ部(左側)に鋼材露出。新規変状。鋼材には表面的な軽微な腐食(スプレー処置済)があるものの、現状で利用者被害の可能性は低いため、監視にとどめる。 | M15: メモ | P15: アーチ部(天端)に鋼材露出。鋼材には表面的な軽微な腐食(スプレー処置済)があるものの、現状で利用者被害の可能性は低いため、監視にとどめる。(前回57-1)
B16: 写真 番号 | C16: 覆工スパン 番号 | E16: S071 | M16: 写真 番号 | N16: 覆工スパン 番号 | P16: S072
C17: 変状番号 | E17: 1 | N17: 変状番号 | P17: 1
B18: 変状 部位 | C18: 対象箇所 | E18: 覆工 | M18: 変状 部位 | N18: 対象箇所 | P18: 覆工
C19: 部位区分 | E19: アーチ（左側） | N19: 部位区分 | P19: 横断目地（天端）
B20: 変状種類 | E20: 鋼材腐食 | M20: 変状種類 | P20: うき・はく離
B21: 対策 区分 | C21: 変状区分 | E21: 材質劣化 | M21: 対策 区分 | N21: 変状区分 | P21: 材質劣化
C22: 応急措置前 | N22: 応急措置前
C23: 応急措置後 | E23: Ⅱb | N23: 応急措置後 | P23: Ⅱb
B24: 変状の発生範囲及び規模 | E24: 0.05m×0.05m | H24: 前回変状の発生範囲及び規模 | J24: 今回新規変状 | M24: 変状の発生範囲及び規模 | P24: 1.80m×0.05m | S24: 前回変状の発生範囲及び規模 | U24: 1.80m×0.05m (Ⅱa判定)
B25: 対策履歴 | H25: 実施状況（実施日） | M25: 対策履歴 | S25: 実施状況（実施日）
B26: メモ | E26: アーチ部(左側)に鋼材露出。新規変状。鋼材には表面的な軽微な腐食(スプレー処置済)があるものの、現状で利用者被害の可能性は低いため、監視にとどめる。 | M26: メモ | P26: 横断目地部(天端)に豆板(スプレー処置済)。現状で利用者被害の可能性は低いため、監視にとどめる。(前回54-1)
C27: ※ 応急措置後の対策区分の判定区分Ⅱb～Ⅳについて添付すること。また、点検前に 実施された措置によりⅠと判定された箇所も添付すること。 | N27: ※ 変状の発生範囲の規模とは、対策を行う際に参考となる変状の長さや面積をいう。
N28: ※ 応急措置を実施しないで判定した変状の判定区分は、判定区分の応急措置後の欄に記入すること。
C29: ※ たたき落としを実施した場合は、実施後の写真を添付すること。 | N29: ※ 変状の発生範囲の規模は、面積・寸法を記載すること。(ひび割れ幅のみmmとし、その他をm表記とする)
C30: ※ 附属物の取付状態に関する異常写真は別途、任意の書式でとりまとめること。 | N30: ※ 構造用鋼材以外の異物に伴ううき・はく離については、メモ欄に異物の概要を記入すること。

Sheet 様式D-1-1_014
B2: ■定期点検記録様式 変状写真台帳【様式D-1-1】 | R2: 施設ID | T2: 34.31681,131.15364
B3: フリガナ | E3: (ｺﾊﾞﾗﾄﾝﾈﾙ) | H3: 路 線 名 | J3: 国道491号（長門・俵山道路） | M3: 定期点検実施者 | P3: 株式会社荒谷建設コンサルタント | S3: 定期点検年月日 | U3: 45621
B4: 名 称 | E4: 小原トンネル | H4: 管理者名 | J4: 山口県長門土木建築事務所 | P4: 河野 秀生
B5: 写真 番号 | C5: 覆工スパン 番号 | E5: S082 | M5: 写真 番号 | N5: 覆工スパン 番号 | P5: S082
C6: 変状番号 | E6: 1 | N6: 変状番号 | P6: 2
B7: 変状 部位 | C7: 対象箇所 | E7: 覆工 | M7: 変状 部位 | N7: 対象箇所 | P7: 覆工
C8: 部位区分 | E8: アーチ（左側） | N8: 部位区分 | P8: アーチ（左側）
B9: 変状種類 | E9: 鋼材腐食 | M9: 変状種類 | P9: 鋼材腐食
B10: 対策 区分 | C10: 変状区分 | E10: 材質劣化 | M10: 対策 区分 | N10: 変状区分 | P10: 材質劣化
C11: 応急措置前 | N11: 応急措置前
C12: 応急措置後 | E12: Ⅱb | N12: 応急措置後 | P12: Ⅱb
B13: 変状の発生範囲及び規模 | E13: 0.05m×0.05m | H13: 前回変状の発生範囲及び規模 | J13: 今回新規変状 | M13: 変状の発生範囲及び規模 | P13: 0.45m×0.80m | S13: 前回変状の発生範囲及び規模 | U13: 今回新規変状
B14: 対策履歴 | H14: 実施状況（実施日） | M14: 対策履歴 | S14: 実施状況（実施日）
B15: メモ | E15: アーチ部(左側)に鋼材露出。新規変状。鋼材には表面的な軽微な腐食(スプレー処置済)があるものの、現状で利用者被害の可能性は低いため、監視にとどめる。 | M15: メモ | P15: アーチ部(左側)に鋼材露出。新規変状。鋼材には表面的な軽微な腐食(スプレー処置済)があるものの、現状で利用者被害の可能性は低いため、監視にとどめる。
B16: 写真 番号 | C16: 覆工スパン 番号 | E16: S084 | M16: 写真 番号 | N16: 覆工スパン 番号 | P16: S090
C17: 変状番号 | E17: 1 | N17: 変状番号 | P17: 1
B18: 変状 部位 | C18: 対象箇所 | E18: 覆工 | M18: 変状 部位 | N18: 対象箇所 | P18: 覆工
C19: 部位区分 | E19: 横断目地（天端） | N19: 部位区分 | P19: アーチ（右側）
B20: 変状種類 | E20: うき・はく離 | M20: 変状種類 | P20: 鋼材腐食
B21: 対策 区分 | C21: 変状区分 | E21: 材質劣化 | M21: 対策 区分 | N21: 変状区分 | P21: 材質劣化
C22: 応急措置前 | N22: 応急措置前
C23: 応急措置後 | E23: Ⅱb | N23: 応急措置後 | P23: Ⅱb
B24: 変状の発生範囲及び規模 | E24: 0.80m×0.05m | H24: 前回変状の発生範囲及び規模 | J24: 0.80m×0.05m (Ⅱb判定) | M24: 変状の発生範囲及び規模 | P24: 0.05m×0.05m | S24: 前回変状の発生範囲及び規模 | U24: 今回新規変状
B25: 対策履歴 | H25: 実施状況（実施日） | M25: 対策履歴 | S25: 実施状況（実施日）
B26: メモ | E26: 横断目地部(天端)に豆板(スプレー処置済)。現状で利用者被害の可能性は低いため、監視にとどめる。(前回42-1) | M26: メモ | P26: アーチ部(右側)に鋼材露出。新規変状。鋼材には表面的な軽微な腐食(スプレー処置済)があるものの、現状で利用者被害の可能性は低いため、監視にとどめる。
C27: ※ 応急措置後の対策区分の判定区分Ⅱb～Ⅳについて添付すること。また、点検前に 実施された措置によりⅠと判定された箇所も添付すること。 | N27: ※ 変状の発生範囲の規模とは、対策を行う際に参考となる変状の長さや面積をいう。
N28: ※ 応急措置を実施しないで判定した変状の判定区分は、判定区分の応急措置後の欄に記入すること。
C29: ※ たたき落としを実施した場合は、実施後の写真を添付すること。 | N29: ※ 変状の発生範囲の規模は、面積・寸法を記載すること。(ひび割れ幅のみmmとし、その他をm表記とする)
C30: ※ 附属物の取付状態に関する異常写真は別途、任意の書式でとりまとめること。 | N30: ※ 構造用鋼材以外の異物に伴ううき・はく離については、メモ欄に異物の概要を記入すること。

Sheet 様式D-1-1_015
B2: ■定期点検記録様式 変状写真台帳【様式D-1-1】 | R2: 施設ID | T2: 34.31681,131.15364
B3: フリガナ | E3: (ｺﾊﾞﾗﾄﾝﾈﾙ) | H3: 路 線 名 | J3: 国道491号（長門・俵山道路） | M3: 定期点検実施者 | P3: 株式会社荒谷建設コンサルタント | S3: 定期点検年月日 | U3: 45621
B4: 名 称 | E4: 小原トンネル | H4: 管理者名 | J4: 山口県長門土木建築事務所 | P4: 河野 秀生
B5: 写真 番号 | C5: 覆工スパン 番号 | E5: S090 | M5: 写真 番号 | N5: 覆工スパン 番号 | P5: S091
C6: 変状番号 | E6: 2 | N6: 変状番号 | P6: 1
B7: 変状 部位 | C7: 対象箇所 | E7: 覆工 | M7: 変状 部位 | N7: 対象箇所 | P7: 覆工
C8: 部位区分 | E8: アーチ（天端） | N8: 部位区分 | P8: アーチ（左側）
B9: 変状種類 | E9: 鋼材腐食 | M9: 変状種類 | P9: 鋼材腐食
B10: 対策 区分 | C10: 変状区分 | E10: 材質劣化 | M10: 対策 区分 | N10: 変状区分 | P10: 材質劣化
C11: 応急措置前 | N11: 応急措置前
C12: 応急措置後 | E12: Ⅱb | N12: 応急措置後 | P12: Ⅱb
B13: 変状の発生範囲及び規模 | E13: 0.05m×0.05m | H13: 前回変状の発生範囲及び規模 | J13: 今回新規変状 | M13: 変状の発生範囲及び規模 | P13: 0.10m×0.70m | S13: 前回変状の発生範囲及び規模 | U13: 今回新規変状
B14: 対策履歴 | H14: 実施状況（実施日） | M14: 対策履歴 | S14: 実施状況（実施日）
B15: メモ | E15: アーチ部(天端)に鋼材露出。新規変状。鋼材には表面的な軽微な腐食(スプレー処置済)があるものの、現状で利用者被害の可能性は低いため、監視にとどめる。 | M15: メモ | P15: アーチ部(左側)に鋼材露出。新規変状。鋼材には表面的な軽微な腐食(スプレー処置済)があるものの、現状で利用者被害の可能性は低いため、監視にとどめる。
B16: 写真 番号 | C16: 覆工スパン 番号 | E16: S094 | M16: 写真 番号 | N16: 覆工スパン 番号 | P16: S095
C17: 変状番号 | E17: 1 | N17: 変状番号 | P17: 1
B18: 変状 部位 | C18: 対象箇所 | E18: 覆工 | M18: 変状 部位 | N18: 対象箇所 | P18: 覆工
C19: 部位区分 | E19: アーチ（左側） | N19: 部位区分 | P19: アーチ（左側）
B20: 変状種類 | E20: 鋼材腐食 | M20: 変状種類 | P20: 鋼材腐食
B21: 対策 区分 | C21: 変状区分 | E21: 材質劣化 | M21: 対策 区分 | N21: 変状区分 | P21: 材質劣化
C22: 応急措置前 | N22: 応急措置前
C23: 応急措置後 | E23: Ⅱb | N23: 応急措置後 | P23: Ⅱb
B24: 変状の発生範囲及び規模 | E24: 0.05m×0.05m | H24: 前回変状の発生範囲及び規模 | J24: 0.05m×0.05m (Ⅱa判定) | M24: 変状の発生範囲及び規模 | P24: 0.05m×0.05m | S24: 前回変状の発生範囲及び規模 | U24: 0.05m×0.05m (Ⅱa判定)
B25: 対策履歴 | H25: 実施状況（実施日） | M25: 対策履歴 | S25: 実施状況（実施日）
B26: メモ | E26: アーチ部(左側)に鋼材露出。鋼材には表面的な軽微な腐食(スプレー処置済)があるものの、現状で利用者被害の可能性は低いため、監視にとどめる。(前回33-1) | M26: メモ | P26: アーチ部(左側)に鋼材露出。鋼材には表面的な軽微な腐食(スプレー処置済)があるものの、現状で利用者被害の可能性は低いため、監視にとどめる。(前回32-1)
C27: ※ 応急措置後の対策区分の判定区分Ⅱb～Ⅳについて添付すること。また、点検前に 実施された措置によりⅠと判定された箇所も添付すること。 | N27: ※ 変状の発生範囲の規模とは、対策を行う際に参考となる変状の長さや面積をいう。
N28: ※ 応急措置を実施しないで判定した変状の判定区分は、判定区分の応急措置後の欄に記入すること。
C29: ※ たたき落としを実施した場合は、実施後の写真を添付すること。 | N29: ※ 変状の発生範囲の規模は、面積・寸法を記載すること。(ひび割れ幅のみmmとし、その他をm表記とする)
C30: ※ 附属物の取付状態に関する異常写真は別途、任意の書式でとりまとめること。 | N30: ※ 構造用鋼材以外の異物に伴ううき・はく離については、メモ欄に異物の概要を記入すること。

Sheet 様式D-1-1_016
B2: ■定期点検記録様式 変状写真台帳【様式D-1-1】 | R2: 施設ID | T2: 34.31681,131.15364
B3: フリガナ | E3: (ｺﾊﾞﾗﾄﾝﾈﾙ) | H3: 路 線 名 | J3: 国道491号（長門・俵山道路） | M3: 定期点検実施者 | P3: 株式会社荒谷建設コンサルタント | S3: 定期点検年月日 | U3: 45621
B4: 名 称 | E4: 小原トンネル | H4: 管理者名 | J4: 山口県長門土木建築事務所 | P4: 河野 秀生
B5: 写真 番号 | C5: 覆工スパン 番号 | E5: S096 | M5: 写真 番号 | N5: 覆工スパン 番号 | P5: S097
C6: 変状番号 | E6: 1 | N6: 変状番号 | P6: 1
B7: 変状 部位 | C7: 対象箇所 | E7: 覆工 | M7: 変状 部位 | N7: 対象箇所 | P7: 覆工
C8: 部位区分 | E8: アーチ（右側） | N8: 部位区分 | P8: アーチ（左側）
B9: 変状種類 | E9: 鋼材腐食 | M9: 変状種類 | P9: 鋼材腐食
B10: 対策 区分 | C10: 変状区分 | E10: 材質劣化 | M10: 対策 区分 | N10: 変状区分 | P10: 材質劣化
C11: 応急措置前 | N11: 応急措置前
C12: 応急措置後 | E12: Ⅱb | N12: 応急措置後 | P12: Ⅱb
B13: 変状の発生範囲及び規模 | E13: 0.05m×0.05m | H13: 前回変状の発生範囲及び規模 | J13: 0.05m×0.05m (Ⅱa判定) | M13: 変状の発生範囲及び規模 | P13: 0.05m×0.05m | S13: 前回変状の発生範囲及び規模 | U13: 今回新規変状
B14: 対策履歴 | H14: 実施状況（実施日） | M14: 対策履歴 | S14: 実施状況（実施日）
B15: メモ | E15: アーチ部(右側)に鋼材露出。鋼材には表面的な軽微な腐食(スプレー処置済)があるものの、現状で利用者被害の可能性は低いため、監視にとどめる。(前回31-1) | M15: メモ | P15: アーチ部(左側)に鋼材露出。新規変状。鋼材には表面的な軽微な腐食(スプレー処置済)があるものの、現状で利用者被害の可能性は低いため、監視にとどめる。
B16: 写真 番号 | C16: 覆工スパン 番号 | E16: S099 | M16: 写真 番号 | N16: 覆工スパン 番号 | P16: S099
C17: 変状番号 | E17: 1 | N17: 変状番号 | P17: 2
B18: 変状 部位 | C18: 対象箇所 | E18: 覆工 | M18: 変状 部位 | N18: 対象箇所 | P18: 覆工
C19: 部位区分 | E19: アーチ（右側） | N19: 部位区分 | P19: アーチ（右側）
B20: 変状種類 | E20: 鋼材腐食 | M20: 変状種類 | P20: 鋼材腐食
B21: 対策 区分 | C21: 変状区分 | E21: 材質劣化 | M21: 対策 区分 | N21: 変状区分 | P21: 材質劣化
C22: 応急措置前 | N22: 応急措置前
C23: 応急措置後 | E23: Ⅱb | N23: 応急措置後 | P23: Ⅱb
B24: 変状の発生範囲及び規模 | E24: 0.05m×0.05m | H24: 前回変状の発生範囲及び規模 | J24: 今回新規変状 | M24: 変状の発生範囲及び規模 | P24: 0.05m×0.05m | S24: 前回変状の発生範囲及び規模 | U24: 今回新規変状
B25: 対策履歴 | H25: 実施状況（実施日） | M25: 対策履歴 | S25: 実施状況（実施日）
B26: メモ | E26: アーチ部(右側)に鋼材露出。新規変状。鋼材には表面的な軽微な腐食(スプレー処置済)があるものの、現状で利用者被害の可能性は低いため、監視にとどめる。 | M26: メモ | P26: アーチ部(右側)に鋼材露出。新規変状。鋼材には表面的な軽微な腐食(スプレー処置済)があるものの、現状で利用者被害の可能性は低いため、監視にとどめる。
C27: ※ 応急措置後の対策区分の判定区分Ⅱb～Ⅳについて添付すること。また、点検前に 実施された措置によりⅠと判定された箇所も添付すること。 | N27: ※ 変状の発生範囲の規模とは、対策を行う際に参考となる変状の長さや面積をいう。
N28: ※ 応急措置を実施しないで判定した変状の判定区分は、判定区分の応急措置後の欄に記入すること。
C29: ※ たたき落としを実施した場合は、実施後の写真を添付すること。 | N29: ※ 変状の発生範囲の規模は、面積・寸法を記載すること。(ひび割れ幅のみmmとし、その他をm表記とする)
C30: ※ 附属物の取付状態に関する異常写真は別途、任意の書式でとりまとめること。 | N30: ※ 構造用鋼材以外の異物に伴ううき・はく離については、メモ欄に異物の概要を記入すること。

Sheet 様式D-1-1_017
B2: ■定期点検記録様式 変状写真台帳【様式D-1-1】 | R2: 施設ID | T2: 34.31681,131.15364
B3: フリガナ | E3: (ｺﾊﾞﾗﾄﾝﾈﾙ) | H3: 路 線 名 | J3: 国道491号（長門・俵山道路） | M3: 定期点検実施者 | P3: 株式会社荒谷建設コンサルタント | S3: 定期点検年月日 | U3: 45621
B4: 名 称 | E4: 小原トンネル | H4: 管理者名 | J4: 山口県長門土木建築事務所 | P4: 河野 秀生
B5: 写真 番号 | C5: 覆工スパン 番号 | E5: S101 | M5: 写真 番号 | N5: 覆工スパン 番号 | P5: S101
C6: 変状番号 | E6: 1 | N6: 変状番号 | P6: 2
B7: 変状 部位 | C7: 対象箇所 | E7: 覆工 | M7: 変状 部位 | N7: 対象箇所 | P7: 覆工
C8: 部位区分 | E8: アーチ（左側） | N8: 部位区分 | P8: アーチ（天端）
B9: 変状種類 | E9: 鋼材腐食 | M9: 変状種類 | P9: 鋼材腐食
B10: 対策 区分 | C10: 変状区分 | E10: 材質劣化 | M10: 対策 区分 | N10: 変状区分 | P10: 材質劣化
C11: 応急措置前 | N11: 応急措置前
C12: 応急措置後 | E12: Ⅱb | N12: 応急措置後 | P12: Ⅱb
B13: 変状の発生範囲及び規模 | E13: 0.10m×0.75m | H13: 前回変状の発生範囲及び規模 | J13: 今回新規変状 | M13: 変状の発生範囲及び規模 | P13: 0.05m×0.05m | S13: 前回変状の発生範囲及び規模 | U13: 今回新規変状
B14: 対策履歴 | H14: 実施状況（実施日） | M14: 対策履歴 | S14: 実施状況（実施日）
B15: メモ | E15: アーチ部(左側)に鋼材露出。新規変状。鋼材には表面的な軽微な腐食(スプレー処置済)があるものの、現状で利用者被害の可能性は低いため、監視にとどめる。 | M15: メモ | P15: アーチ部(天端)に鋼材露出。新規変状。鋼材には表面的な軽微な腐食(スプレー処置済)があるものの、現状で利用者被害の可能性は低いため、監視にとどめる。
B16: 写真 番号 | C16: 覆工スパン 番号 | E16: S107 | M16: 写真 番号 | N16: 覆工スパン 番号 | P16: S109
C17: 変状番号 | E17: 1 | N17: 変状番号 | P17: 1
B18: 変状 部位 | C18: 対象箇所 | E18: 覆工 | M18: 変状 部位 | N18: 対象箇所 | P18: 覆工
C19: 部位区分 | E19: 横断目地（天端） | N19: 部位区分 | P19: 横断目地（天端）
B20: 変状種類 | E20: うき・はく離 | M20: 変状種類 | P20: うき・はく離
B21: 対策 区分 | C21: 変状区分 | E21: 材質劣化 | M21: 対策 区分 | N21: 変状区分 | P21: 材質劣化
C22: 応急措置前 | N22: 応急措置前
C23: 応急措置後 | E23: Ⅱb | N23: 応急措置後 | P23: Ⅱa
B24: 変状の発生範囲及び規模 | E24: 1.00m×0.05m | H24: 前回変状の発生範囲及び規模 | J24: 1.00m×0.05m (Ⅱa判定) | M24: 変状の発生範囲及び規模 | P24: 0.20m×0.10m | S24: 前回変状の発生範囲及び規模 | U24: 0.20m×0.10m (Ⅱa判定)
B25: 対策履歴 | H25: 実施状況（実施日） | M25: 対策履歴 | S25: 実施状況（実施日）
B26: メモ | E26: 横断目地部(天端)に豆板(スプレー処置済)。現状で利用者被害の可能性は低いため、監視にとどめる。(前回19-1) | M26: メモ | P26: 横断目地部(天端)にうき(スプレー処置済)。将来的に利用者に影響が及ぶ可能性があるため、重点的な監視及び計画的な対策を必要とする。(前回18-1)
C27: ※ 応急措置後の対策区分の判定区分Ⅱb～Ⅳについて添付すること。また、点検前に 実施された措置によりⅠと判定された箇所も添付すること。 | N27: ※ 変状の発生範囲の規模とは、対策を行う際に参考となる変状の長さや面積をいう。
N28: ※ 応急措置を実施しないで判定した変状の判定区分は、判定区分の応急措置後の欄に記入すること。
C29: ※ たたき落としを実施した場合は、実施後の写真を添付すること。 | N29: ※ 変状の発生範囲の規模は、面積・寸法を記載すること。(ひび割れ幅のみmmとし、その他をm表記とする)
C30: ※ 附属物の取付状態に関する異常写真は別途、任意の書式でとりまとめること。 | N30: ※ 構造用鋼材以外の異物に伴ううき・はく離については、メモ欄に異物の概要を記入すること。

Sheet 様式D-1-1_018
B2: ■定期点検記録様式 変状写真台帳【様式D-1-1】 | R2: 施設ID | T2: 34.31681,131.15364
B3: フリガナ | E3: (ｺﾊﾞﾗﾄﾝﾈﾙ) | H3: 路 線 名 | J3: 国道491号（長門・俵山道路） | M3: 定期点検実施者 | P3: 株式会社荒谷建設コンサルタント | S3: 定期点検年月日 | U3: 45621
B4: 名 称 | E4: 小原トンネル | H4: 管理者名 | J4: 山口県長門土木建築事務所 | P4: 河野 秀生
B5: 写真 番号 | C5: 覆工スパン 番号 | E5: S109 | M5: 写真 番号 | N5: 覆工スパン 番号 | P5: S109
C6: 変状番号 | E6: 2 | N6: 変状番号 | P6: 3
B7: 変状 部位 | C7: 対象箇所 | E7: 覆工 | M7: 変状 部位 | N7: 対象箇所 | P7: 覆工
C8: 部位区分 | E8: 横断目地（天端） | N8: 部位区分 | P8: 横断目地（天端）
B9: 変状種類 | E9: うき・はく離 | M9: 変状種類 | P9: うき・はく離
B10: 対策 区分 | C10: 変状区分 | E10: 材質劣化 | M10: 対策 区分 | N10: 変状区分 | P10: 材質劣化
C11: 応急措置前 | N11: 応急措置前
C12: 応急措置後 | E12: Ⅱb | N12: 応急措置後 | P12: Ⅱa
B13: 変状の発生範囲及び規模 | E13: 1.30m×0.05m | H13: 前回変状の発生範囲及び規模 | J13: 1.30m×0.05m (Ⅱa判定) | M13: 変状の発生範囲及び規模 | P13: 0.40m×0.05m | S13: 前回変状の発生範囲及び規模 | U13: 今回新規変状
B14: 対策履歴 | H14: 実施状況（実施日） | M14: 対策履歴 | S14: 実施状況（実施日）
B15: メモ | E15: 横断目地部(天端)に豆板(スプレー処置済)。現状で利用者被害の可能性は低いため、監視にとどめる。(前回17-1) | M15: メモ | P15: 横断目地部(天端)にうき(スプレー処置済)。新規変状。将来的に利用者に影響が及ぶ可能性があるため、重点的な監視及び計画的な対策を必要とする。
B16: 写真 番号 | C16: 覆工スパン 番号 | E16: S112 | M16: 写真 番号 | N16: 覆工スパン 番号 | P16: S114
C17: 変状番号 | E17: 1 | N17: 変状番号 | P17: 1
B18: 変状 部位 | C18: 対象箇所 | E18: 覆工 | M18: 変状 部位 | N18: 対象箇所 | P18: 覆工
C19: 部位区分 | E19: 横断目地（天端） | N19: 部位区分 | P19: アーチ（右側）
B20: 変状種類 | E20: うき・はく離 | M20: 変状種類 | P20: 鋼材腐食
B21: 対策 区分 | C21: 変状区分 | E21: 材質劣化 | M21: 対策 区分 | N21: 変状区分 | P21: 材質劣化
C22: 応急措置前 | N22: 応急措置前
C23: 応急措置後 | E23: Ⅱb | N23: 応急措置後 | P23: Ⅱb
B24: 変状の発生範囲及び規模 | E24: 0.50m×0.05m | H24: 前回変状の発生範囲及び規模 | J24: 0.50m×0.05m (Ⅱb判定) | M24: 変状の発生範囲及び規模 | P24: 0.10m×0.30m | S24: 前回変状の発生範囲及び規模 | U24: 今回新規変状
B25: 対策履歴 | H25: 実施状況（実施日） | M25: 対策履歴 | S25: 実施状況（実施日）
B26: メモ | E26: 横断目地部(天端)に豆板(スプレー処置済)。現状で利用者被害の可能性は低いため、監視にとどめる。(前回14-1) | M26: メモ | P26: アーチ部(右側)に鋼材露出。新規変状。鋼材には表面的な軽微な腐食(スプレー処置済)があるものの、現状で利用者被害の可能性は低いため、監視にとどめる。
C27: ※ 応急措置後の対策区分の判定区分Ⅱb～Ⅳについて添付すること。また、点検前に 実施された措置によりⅠと判定された箇所も添付すること。 | N27: ※ 変状の発生範囲の規模とは、対策を行う際に参考となる変状の長さや面積をいう。
N28: ※ 応急措置を実施しないで判定した変状の判定区分は、判定区分の応急措置後の欄に記入すること。
C29: ※ たたき落としを実施した場合は、実施後の写真を添付すること。 | N29: ※ 変状の発生範囲の規模は、面積・寸法を記載すること。(ひび割れ幅のみmmとし、その他をm表記とする)
C30: ※ 附属物の取付状態に関する異常写真は別途、任意の書式でとりまとめること。 | N30: ※ 構造用鋼材以外の異物に伴ううき・はく離については、メモ欄に異物の概要を記入すること。

Sheet 様式D-1-1_019
B2: ■定期点検記録様式 変状写真台帳【様式D-1-1】 | R2: 施設ID | T2: 34.31681,131.15364
B3: フリガナ | E3: (ｺﾊﾞﾗﾄﾝﾈﾙ) | H3: 路 線 名 | J3: 国道491号（長門・俵山道路） | M3: 定期点検実施者 | P3: 株式会社荒谷建設コンサルタント | S3: 定期点検年月日 | U3: 45621
B4: 名 称 | E4: 小原トンネル | H4: 管理者名 | J4: 山口県長門土木建築事務所 | P4: 河野 秀生
B5: 写真 番号 | C5: 覆工スパン 番号 | E5: S115 | M5: 写真 番号 | N5: 覆工スパン 番号 | P5: S115
C6: 変状番号 | E6: 1 | N6: 変状番号 | P6: 2
B7: 変状 部位 | C7: 対象箇所 | E7: 覆工 | M7: 変状 部位 | N7: 対象箇所 | P7: 覆工
C8: 部位区分 | E8: アーチ（左側） | N8: 部位区分 | P8: アーチ（左側）
B9: 変状種類 | E9: 鋼材腐食 | M9: 変状種類 | P9: 鋼材腐食
B10: 対策 区分 | C10: 変状区分 | E10: 材質劣化 | M10: 対策 区分 | N10: 変状区分 | P10: 材質劣化
C11: 応急措置前 | N11: 応急措置前
C12: 応急措置後 | E12: Ⅱb | N12: 応急措置後 | P12: Ⅱb
B13: 変状の発生範囲及び規模 | E13: 0.10m×0.05m | H13: 前回変状の発生範囲及び規模 | J13: 今回新規変状 | M13: 変状の発生範囲及び規模 | P13: 0.05m×0.45m | S13: 前回変状の発生範囲及び規模 | U13: 今回新規変状
B14: 対策履歴 | H14: 実施状況（実施日） | M14: 対策履歴 | S14: 実施状況（実施日）
B15: メモ | E15: アーチ部(左側)に鋼材露出。新規変状。鋼材には表面的な軽微な腐食(スプレー処置済)があるものの、現状で利用者被害の可能性は低いため、監視にとどめる。 | M15: メモ | P15: アーチ部(左側)に鋼材露出。新規変状。鋼材には表面的な軽微な腐食(スプレー処置済)があるものの、現状で利用者被害の可能性は低いため、監視にとどめる。
B16: 写真 番号 | C16: 覆工スパン 番号 | E16: S115 | M16: 写真 番号 | N16: 覆工スパン 番号 | P16: S115
C17: 変状番号 | E17: 3 | N17: 変状番号 | P17: 4
B18: 変状 部位 | C18: 対象箇所 | E18: 覆工 | M18: 変状 部位 | N18: 対象箇所 | P18: 覆工
C19: 部位区分 | E19: アーチ（左側） | N19: 部位区分 | P19: アーチ（左側）
B20: 変状種類 | E20: 鋼材腐食 | M20: 変状種類 | P20: 鋼材腐食
B21: 対策 区分 | C21: 変状区分 | E21: 材質劣化 | M21: 対策 区分 | N21: 変状区分 | P21: 材質劣化
C22: 応急措置前 | N22: 応急措置前
C23: 応急措置後 | E23: Ⅱb | N23: 応急措置後 | P23: Ⅱb
B24: 変状の発生範囲及び規模 | E24: 0.20m×0.10m | H24: 前回変状の発生範囲及び規模 | J24: 今回新規変状 | M24: 変状の発生範囲及び規模 | P24: 0.10m×0.30m | S24: 前回変状の発生範囲及び規模 | U24: 今回新規変状
B25: 対策履歴 | H25: 実施状況（実施日） | M25: 対策履歴 | S25: 実施状況（実施日）
B26: メモ | E26: アーチ部(左側)に鋼材露出。新規変状。鋼材には表面的な軽微な腐食(スプレー処置済)があるものの、現状で利用者被害の可能性は低いため、監視にとどめる。 | M26: メモ | P26: アーチ部(左側)に鋼材露出。新規変状。鋼材には表面的な軽微な腐食(スプレー処置済)があるものの、現状で利用者被害の可能性は低いため、監視にとどめる。
C27: ※ 応急措置後の対策区分の判定区分Ⅱb～Ⅳについて添付すること。また、点検前に 実施された措置によりⅠと判定された箇所も添付すること。 | N27: ※ 変状の発生範囲の規模とは、対策を行う際に参考となる変状の長さや面積をいう。
N28: ※ 応急措置を実施しないで判定した変状の判定区分は、判定区分の応急措置後の欄に記入すること。
C29: ※ たたき落としを実施した場合は、実施後の写真を添付すること。 | N29: ※ 変状の発生範囲の規模は、面積・寸法を記載すること。(ひび割れ幅のみmmとし、その他をm表記とする)
C30: ※ 附属物の取付状態に関する異常写真は別途、任意の書式でとりまとめること。 | N30: ※ 構造用鋼材以外の異物に伴ううき・はく離については、メモ欄に異物の概要を記入すること。

Sheet 様式D-1-1_020
B2: ■定期点検記録様式 変状写真台帳【様式D-1-1】 | R2: 施設ID | T2: 34.31681,131.15364
B3: フリガナ | E3: (ｺﾊﾞﾗﾄﾝﾈﾙ) | H3: 路 線 名 | J3: 国道491号（長門・俵山道路） | M3: 定期点検実施者 | P3: 株式会社荒谷建設コンサルタント | S3: 定期点検年月日 | U3: 45621
B4: 名 称 | E4: 小原トンネル | H4: 管理者名 | J4: 山口県長門土木建築事務所 | P4: 河野 秀生
B5: 写真 番号 | C5: 覆工スパン 番号 | E5: S115 | M5: 写真 番号 | N5: 覆工スパン 番号 | P5: S115
C6: 変状番号 | E6: 5 | N6: 変状番号 | P6: 6
B7: 変状 部位 | C7: 対象箇所 | E7: 覆工 | M7: 変状 部位 | N7: 対象箇所 | P7: 覆工
C8: 部位区分 | E8: アーチ（左側） | N8: 部位区分 | P8: アーチ（左側）
B9: 変状種類 | E9: 鋼材腐食 | M9: 変状種類 | P9: 鋼材腐食
B10: 対策 区分 | C10: 変状区分 | E10: 材質劣化 | M10: 対策 区分 | N10: 変状区分 | P10: 材質劣化
C11: 応急措置前 | N11: 応急措置前
C12: 応急措置後 | E12: Ⅱb | N12: 応急措置後 | P12: Ⅱb
B13: 変状の発生範囲及び規模 | E13: 0.25m×0.60m | H13: 前回変状の発生範囲及び規模 | J13: 今回新規変状 | M13: 変状の発生範囲及び規模 | P13: 0.10m×0.30m | S13: 前回変状の発生範囲及び規模 | U13: 今回新規変状
B14: 対策履歴 | H14: 実施状況（実施日） | M14: 対策履歴 | S14: 実施状況（実施日）
B15: メモ | E15: アーチ部(左側)に鋼材露出。新規変状。鋼材には表面的な軽微な腐食(スプレー処置済)があるものの、現状で利用者被害の可能性は低いため、監視にとどめる。 | M15: メモ | P15: アーチ部(左側)に鋼材露出。新規変状。鋼材には表面的な軽微な腐食(スプレー処置済)があるものの、現状で利用者被害の可能性は低いため、監視にとどめる。
B16: 写真 番号 | C16: 覆工スパン 番号 | E16: S115 | M16: 写真 番号 | N16: 覆工スパン 番号 | P16: S115
C17: 変状番号 | E17: 7 | N17: 変状番号 | P17: 8
B18: 変状 部位 | C18: 対象箇所 | E18: 覆工 | M18: 変状 部位 | N18: 対象箇所 | P18: 覆工
C19: 部位区分 | E19: アーチ（天端） | N19: 部位区分 | P19: アーチ（右側）
B20: 変状種類 | E20: 鋼材腐食 | M20: 変状種類 | P20: 鋼材腐食
B21: 対策 区分 | C21: 変状区分 | E21: 材質劣化 | M21: 対策 区分 | N21: 変状区分 | P21: 材質劣化
C22: 応急措置前 | N22: 応急措置前
C23: 応急措置後 | E23: Ⅱb | N23: 応急措置後 | P23: Ⅱb
B24: 変状の発生範囲及び規模 | E24: 0.25m×0.05m | H24: 前回変状の発生範囲及び規模 | J24: 今回新規変状 | M24: 変状の発生範囲及び規模 | P24: 0.40m×0.70m | S24: 前回変状の発生範囲及び規模 | U24: 今回新規変状
B25: 対策履歴 | H25: 実施状況（実施日） | M25: 対策履歴 | S25: 実施状況（実施日）
B26: メモ | E26: アーチ部(天端)に鋼材露出。新規変状。鋼材には表面的な軽微な腐食(スプレー処置済)があるものの、現状で利用者被害の可能性は低いため、監視にとどめる。 | M26: メモ | P26: アーチ部(右側)に鋼材露出。新規変状。鋼材には表面的な軽微な腐食(スプレー処置済)があるものの、現状で利用者被害の可能性は低いため、監視にとどめる。
C27: ※ 応急措置後の対策区分の判定区分Ⅱb～Ⅳについて添付すること。また、点検前に 実施された措置によりⅠと判定された箇所も添付すること。 | N27: ※ 変状の発生範囲の規模とは、対策を行う際に参考となる変状の長さや面積をいう。
N28: ※ 応急措置を実施しないで判定した変状の判定区分は、判定区分の応急措置後の欄に記入すること。
C29: ※ たたき落としを実施した場合は、実施後の写真を添付すること。 | N29: ※ 変状の発生範囲の規模は、面積・寸法を記載すること。(ひび割れ幅のみmmとし、その他をm表記とする)
C30: ※ 附属物の取付状態に関する異常写真は別途、任意の書式でとりまとめること。 | N30: ※ 構造用鋼材以外の異物に伴ううき・はく離については、メモ欄に異物の概要を記入すること。

Sheet 様式D-1-1_021
B2: ■定期点検記録様式 変状写真台帳【様式D-1-1】 | R2: 施設ID | T2: 34.31681,131.15364
B3: フリガナ | E3: (ｺﾊﾞﾗﾄﾝﾈﾙ) | H3: 路 線 名 | J3: 国道491号（長門・俵山道路） | M3: 定期点検実施者 | P3: 株式会社荒谷建設コンサルタント | S3: 定期点検年月日 | U3: 45621
B4: 名 称 | E4: 小原トンネル | H4: 管理者名 | J4: 山口県長門土木建築事務所 | P4: 河野 秀生
B5: 写真 番号 | C5: 覆工スパン 番号 | E5: S115 | M5: 写真 番号 | N5: 覆工スパン 番号 | P5: S116
C6: 変状番号 | E6: 9 | N6: 変状番号 | P6: 1
B7: 変状 部位 | C7: 対象箇所 | E7: 覆工 | M7: 変状 部位 | N7: 対象箇所 | P7: 覆工
C8: 部位区分 | E8: 横断目地（天端） | N8: 部位区分 | P8: アーチ（左側）
B9: 変状種類 | E9: うき・はく離 | M9: 変状種類 | P9: 鋼材腐食
B10: 対策 区分 | C10: 変状区分 | E10: 材質劣化 | M10: 対策 区分 | N10: 変状区分 | P10: 材質劣化
C11: 応急措置前 | N11: 応急措置前
C12: 応急措置後 | E12: Ⅲ | N12: 応急措置後 | P12: Ⅱb
B13: 変状の発生範囲及び規模 | E13: 0.50m×0.05m | H13: 前回変状の発生範囲及び規模 | J13: 0.50m×0.05m (Ⅱa判定) | M13: 変状の発生範囲及び規模 | P13: 0.10m×0.30m | S13: 前回変状の発生範囲及び規模 | U13: 今回新規変状
B14: 対策履歴 | H14: 実施状況（実施日） | M14: 対策履歴 | S14: 実施状況（実施日）
B15: メモ | E15: 横断目地部(天端)に閉合しかけのひび割れを伴ううき(スプレー処置済)。早晩、利用者に影響が及ぶ可能性が高いため、早期に措置を講ずる必要がある。 (前回12-1) | M15: メモ | P15: アーチ部(左側)に鋼材露出。新規変状。鋼材には表面的な軽微な腐食(スプレー処置済)があるものの、現状で利用者被害の可能性は低いため、監視にとどめる。
B16: 写真 番号 | C16: 覆工スパン 番号 | E16: S116 | M16: 写真 番号 | N16: 覆工スパン 番号 | P16: S116
C17: 変状番号 | E17: 2 | N17: 変状番号 | P17: 3
B18: 変状 部位 | C18: 対象箇所 | E18: 覆工 | M18: 変状 部位 | N18: 対象箇所 | P18: 覆工
C19: 部位区分 | E19: アーチ（左側） | N19: 部位区分 | P19: アーチ（天端）
B20: 変状種類 | E20: 鋼材腐食 | M20: 変状種類 | P20: 鋼材腐食
B21: 対策 区分 | C21: 変状区分 | E21: 材質劣化 | M21: 対策 区分 | N21: 変状区分 | P21: 材質劣化
C22: 応急措置前 | N22: 応急措置前
C23: 応急措置後 | E23: Ⅱb | N23: 応急措置後 | P23: Ⅱb
B24: 変状の発生範囲及び規模 | E24: 0.10m×0.30m | H24: 前回変状の発生範囲及び規模 | J24: 今回新規変状 | M24: 変状の発生範囲及び規模 | P24: 0.05m×0.20m | S24: 前回変状の発生範囲及び規模 | U24: 今回新規変状
B25: 対策履歴 | H25: 実施状況（実施日） | M25: 対策履歴 | S25: 実施状況（実施日）
B26: メモ | E26: アーチ部(左側)に鋼材露出。新規変状。鋼材には表面的な軽微な腐食(スプレー処置済)があるものの、現状で利用者被害の可能性は低いため、監視にとどめる。 | M26: メモ | P26: アーチ部(天端)に鋼材露出。新規変状。鋼材には表面的な軽微な腐食(スプレー処置済)があるものの、現状で利用者被害の可能性は低いため、監視にとどめる。
C27: ※ 応急措置後の対策区分の判定区分Ⅱb～Ⅳについて添付すること。また、点検前に 実施された措置によりⅠと判定された箇所も添付すること。 | N27: ※ 変状の発生範囲の規模とは、対策を行う際に参考となる変状の長さや面積をいう。
N28: ※ 応急措置を実施しないで判定した変状の判定区分は、判定区分の応急措置後の欄に記入すること。
C29: ※ たたき落としを実施した場合は、実施後の写真を添付すること。 | N29: ※ 変状の発生範囲の規模は、面積・寸法を記載すること。(ひび割れ幅のみmmとし、その他をm表記とする)
C30: ※ 附属物の取付状態に関する異常写真は別途、任意の書式でとりまとめること。 | N30: ※ 構造用鋼材以外の異物に伴ううき・はく離については、メモ欄に異物の概要を記入すること。

Sheet 様式D-1-1_022
B2: ■定期点検記録様式 変状写真台帳【様式D-1-1】 | R2: 施設ID | T2: 34.31681,131.15364
B3: フリガナ | E3: (ｺﾊﾞﾗﾄﾝﾈﾙ) | H3: 路 線 名 | J3: 国道491号（長門・俵山道路） | M3: 定期点検実施者 | P3: 株式会社荒谷建設コンサルタント | S3: 定期点検年月日 | U3: 45621
B4: 名 称 | E4: 小原トンネル | H4: 管理者名 | J4: 山口県長門土木建築事務所 | P4: 河野 秀生
B5: 写真 番号 | C5: 覆工スパン 番号 | E5: S116 | M5: 写真 番号 | N5: 覆工スパン 番号 | P5: S116
C6: 変状番号 | E6: 4 | N6: 変状番号 | P6: 5
B7: 変状 部位 | C7: 対象箇所 | E7: 覆工 | M7: 変状 部位 | N7: 対象箇所 | P7: 覆工
C8: 部位区分 | E8: アーチ（天端） | N8: 部位区分 | P8: 横断目地（右側）
B9: 変状種類 | E9: 鋼材腐食 | M9: 変状種類 | P9: うき・はく離
B10: 対策 区分 | C10: 変状区分 | E10: 材質劣化 | M10: 対策 区分 | N10: 変状区分 | P10: 材質劣化
C11: 応急措置前 | N11: 応急措置前
C12: 応急措置後 | E12: Ⅱb | N12: 応急措置後 | P12: Ⅱa
B13: 変状の発生範囲及び規模 | E13: 0.10m×0.20m | H13: 前回変状の発生範囲及び規模 | J13: 今回新規変状 | M13: 変状の発生範囲及び規模 | P13: 0.80m×0.05m | S13: 前回変状の発生範囲及び規模 | U13: 0.80m×0.05m (Ⅱa判定)
B14: 対策履歴 | H14: 実施状況（実施日） | M14: 対策履歴 | S14: 実施状況（実施日）
B15: メモ | E15: アーチ部(天端)に鋼材露出。新規変状。鋼材には表面的な軽微な腐食(スプレー処置済)があるものの、現状で利用者被害の可能性は低いため、監視にとどめる。 | M15: メモ | P15: 横断目地部(アーチ右側)にうき(スプレー処置済)。将来的に利用者に影響が及ぶ可能性があるため、重点的な監視及び計画的な対策を必要とする。(前回11-1)
B16: 写真 番号 | C16: 覆工スパン 番号 | E16: S116 | M16: 写真 番号 | N16: 覆工スパン 番号 | P16: S117
C17: 変状番号 | E17: 6 | N17: 変状番号 | P17: 1
B18: 変状 部位 | C18: 対象箇所 | E18: 覆工 | M18: 変状 部位 | N18: 対象箇所 | P18: 覆工
C19: 部位区分 | E19: 横断目地（右側） | N19: 部位区分 | P19: アーチ（左側）
B20: 変状種類 | E20: うき・はく離 | M20: 変状種類 | P20: 鋼材腐食
B21: 対策 区分 | C21: 変状区分 | E21: 材質劣化 | M21: 対策 区分 | N21: 変状区分 | P21: 材質劣化
C22: 応急措置前 | N22: 応急措置前
C23: 応急措置後 | E23: Ⅱa | N23: 応急措置後 | P23: Ⅱb
B24: 変状の発生範囲及び規模 | E24: 0.20m×0.05m | H24: 前回変状の発生範囲及び規模 | J24: 今回新規変状 | M24: 変状の発生範囲及び規模 | P24: 0.05m×0.05m | S24: 前回変状の発生範囲及び規模 | U24: 今回新規変状
B25: 対策履歴 | H25: 実施状況（実施日） | M25: 対策履歴 | S25: 実施状況（実施日）
B26: メモ | E26: 横断目地部(アーチ右側)にうき。新規変状。将来的に利用者に影響が及ぶ可能性があるため、重点的な監視及び計画的な対策を必要とする。 | M26: メモ | P26: アーチ部(左側)に鋼材露出。新規変状。鋼材には表面的な軽微な腐食(スプレー処置済)があるものの、現状で利用者被害の可能性は低いため、監視にとどめる。
C27: ※ 応急措置後の対策区分の判定区分Ⅱb～Ⅳについて添付すること。また、点検前に 実施された措置によりⅠと判定された箇所も添付すること。 | N27: ※ 変状の発生範囲の規模とは、対策を行う際に参考となる変状の長さや面積をいう。
N28: ※ 応急措置を実施しないで判定した変状の判定区分は、判定区分の応急措置後の欄に記入すること。
C29: ※ たたき落としを実施した場合は、実施後の写真を添付すること。 | N29: ※ 変状の発生範囲の規模は、面積・寸法を記載すること。(ひび割れ幅のみmmとし、その他をm表記とする)
C30: ※ 附属物の取付状態に関する異常写真は別途、任意の書式でとりまとめること。 | N30: ※ 構造用鋼材以外の異物に伴ううき・はく離については、メモ欄に異物の概要を記入すること。

Sheet 様式D-1-1_023
B2: ■定期点検記録様式 変状写真台帳【様式D-1-1】 | R2: 施設ID | T2: 34.31681,131.15364
B3: フリガナ | E3: (ｺﾊﾞﾗﾄﾝﾈﾙ) | H3: 路 線 名 | J3: 国道491号（長門・俵山道路） | M3: 定期点検実施者 | P3: 株式会社荒谷建設コンサルタント | S3: 定期点検年月日 | U3: 45621
B4: 名 称 | E4: 小原トンネル | H4: 管理者名 | J4: 山口県長門土木建築事務所 | P4: 河野 秀生
B5: 写真 番号 | C5: 覆工スパン 番号 | E5: S117 | M5: 写真 番号 | N5: 覆工スパン 番号 | P5: S117
C6: 変状番号 | E6: 2 | N6: 変状番号 | P6: 3
B7: 変状 部位 | C7: 対象箇所 | E7: 覆工 | M7: 変状 部位 | N7: 対象箇所 | P7: 覆工
C8: 部位区分 | E8: アーチ（天端） | N8: 部位区分 | P8: アーチ（天端）
B9: 変状種類 | E9: 鋼材腐食 | M9: 変状種類 | P9: 鋼材腐食
B10: 対策 区分 | C10: 変状区分 | E10: 材質劣化 | M10: 対策 区分 | N10: 変状区分 | P10: 材質劣化
C11: 応急措置前 | N11: 応急措置前
C12: 応急措置後 | E12: Ⅱb | N12: 応急措置後 | P12: Ⅱb
B13: 変状の発生範囲及び規模 | E13: 0.30m×0.10m | H13: 前回変状の発生範囲及び規模 | J13: 今回新規変状 | M13: 変状の発生範囲及び規模 | P13: 0.10m×0.30m | S13: 前回変状の発生範囲及び規模 | U13: 今回新規変状
B14: 対策履歴 | H14: 実施状況（実施日） | M14: 対策履歴 | S14: 実施状況（実施日）
B15: メモ | E15: アーチ部(天端)に鋼材露出。新規変状。鋼材には表面的な軽微な腐食(スプレー処置済)があるものの、現状で利用者被害の可能性は低いため、監視にとどめる。 | M15: メモ | P15: アーチ部(天端)に鋼材露出。新規変状。鋼材には表面的な軽微な腐食(スプレー処置済)があるものの、現状で利用者被害の可能性は低いため、監視にとどめる。
B16: 写真 番号 | C16: 覆工スパン 番号 | E16: S117 | M16: 写真 番号 | N16: 覆工スパン 番号 | P16: S117
C17: 変状番号 | E17: 4 | N17: 変状番号 | P17: 5
B18: 変状 部位 | C18: 対象箇所 | E18: 覆工 | M18: 変状 部位 | N18: 対象箇所 | P18: 覆工
C19: 部位区分 | E19: アーチ（右側） | N19: 部位区分 | P19: 横断目地（右側）
B20: 変状種類 | E20: 鋼材腐食 | M20: 変状種類 | P20: うき・はく離
B21: 対策 区分 | C21: 変状区分 | E21: 材質劣化 | M21: 対策 区分 | N21: 変状区分 | P21: 材質劣化
C22: 応急措置前 | N22: 応急措置前
C23: 応急措置後 | E23: Ⅱb | N23: 応急措置後 | P23: Ⅱa
B24: 変状の発生範囲及び規模 | E24: 0.10m×0.30m | H24: 前回変状の発生範囲及び規模 | J24: 前回Ⅰ判定 | M24: 変状の発生範囲及び規模 | P24: 0.40m×0.05m | S24: 前回変状の発生範囲及び規模 | U24: 今回新規変状
B25: 対策履歴 | H25: 実施状況（実施日） | M25: 対策履歴 | S25: 実施状況（実施日）
B26: メモ | E26: アーチ部(右側)に鋼材露出。新規変状。鋼材には表面的な軽微な腐食(スプレー処置済)があるものの、現状で利用者被害の可能性は低いため、監視にとどめる。 | M26: メモ | P26: 横断目地部(アーチ右側)にうき。新規変状。将来的に利用者に影響が及ぶ可能性があるため、重点的な監視及び計画的な対策を必要とする。
C27: ※ 応急措置後の対策区分の判定区分Ⅱb～Ⅳについて添付すること。また、点検前に 実施された措置によりⅠと判定された箇所も添付すること。 | N27: ※ 変状の発生範囲の規模とは、対策を行う際に参考となる変状の長さや面積をいう。
N28: ※ 応急措置を実施しないで判定した変状の判定区分は、判定区分の応急措置後の欄に記入すること。
C29: ※ たたき落としを実施した場合は、実施後の写真を添付すること。 | N29: ※ 変状の発生範囲の規模は、面積・寸法を記載すること。(ひび割れ幅のみmmとし、その他をm表記とする)
C30: ※ 附属物の取付状態に関する異常写真は別途、任意の書式でとりまとめること。 | N30: ※ 構造用鋼材以外の異物に伴ううき・はく離については、メモ欄に異物の概要を記入すること。

Sheet 様式D-1-1_024
B2: ■定期点検記録様式 変状写真台帳【様式D-1-1】 | R2: 施設ID | T2: 34.31681,131.15364
B3: フリガナ | E3: (ｺﾊﾞﾗﾄﾝﾈﾙ) | H3: 路 線 名 | J3: 国道491号（長門・俵山道路） | M3: 定期点検実施者 | P3: 株式会社荒谷建設コンサルタント | S3: 定期点検年月日 | U3: 45621
B4: 名 称 | E4: 小原トンネル | H4: 管理者名 | J4: 山口県長門土木建築事務所 | P4: 河野 秀生
B5: 写真 番号 | C5: 覆工スパン 番号 | E5: S117 | M5: 写真 番号 | N5: 覆工スパン 番号 | P5: S117
C6: 変状番号 | E6: 6 | N6: 変状番号 | P6: 7
B7: 変状 部位 | C7: 対象箇所 | E7: 覆工 | M7: 変状 部位 | N7: 対象箇所 | P7: 覆工
C8: 部位区分 | E8: アーチ（右側） | N8: 部位区分 | P8: 横断目地（右側）
B9: 変状種類 | E9: 鋼材腐食 | M9: 変状種類 | P9: うき・はく離
B10: 対策 区分 | C10: 変状区分 | E10: 材質劣化 | M10: 対策 区分 | N10: 変状区分 | P10: 材質劣化
C11: 応急措置前 | N11: 応急措置前
C12: 応急措置後 | E12: Ⅱb | N12: 応急措置後 | P12: Ⅲ
B13: 変状の発生範囲及び規模 | E13: 0.05m×0.05m | H13: 前回変状の発生範囲及び規模 | J13: 今回新規変状 | M13: 変状の発生範囲及び規模 | P13: 0.40m×0.05m | S13: 前回変状の発生範囲及び規模 | U13: 今回新規変状
B14: 対策履歴 | H14: 実施状況（実施日） | M14: 対策履歴 | S14: 実施状況（実施日）
B15: メモ | E15: アーチ部(右側)に鋼材露出。新規変状。鋼材には表面的な軽微な腐食(スプレー処置済)があるものの、現状で利用者被害の可能性は低いため、監視にとどめる。 | M15: メモ | P15: 横断目地部(アーチ右側)に閉合しかけのひび割れを伴ううき(スプレー処置済)。新規変状。早晩、利用者に影響が及ぶ可能性が高いため、早期に措置を講ずる必要がある。
B16: 写真 番号 | C16: 覆工スパン 番号 | E16: S118 | M16: 写真 番号 | N16: 覆工スパン 番号 | P16: S118
C17: 変状番号 | E17: 1 | N17: 変状番号 | P17: 2
B18: 変状 部位 | C18: 対象箇所 | E18: 覆工 | M18: 変状 部位 | N18: 対象箇所 | P18: 覆工
C19: 部位区分 | E19: アーチ（左側） | N19: 部位区分 | P19: 横断目地（左側）
B20: 変状種類 | E20: 鋼材腐食 | M20: 変状種類 | P20: うき・はく離
B21: 対策 区分 | C21: 変状区分 | E21: 材質劣化 | M21: 対策 区分 | N21: 変状区分 | P21: 材質劣化
C22: 応急措置前 | N22: 応急措置前
C23: 応急措置後 | E23: Ⅱb | N23: 応急措置後 | P23: Ⅱa
B24: 変状の発生範囲及び規模 | E24: 0.05m×0.05m | H24: 前回変状の発生範囲及び規模 | J24: 今回新規変状 | M24: 変状の発生範囲及び規模 | P24: 0.45m×0.05m | S24: 前回変状の発生範囲及び規模 | U24: 0.30m×0.05m (Ⅱb判定)
B25: 対策履歴 | H25: 実施状況（実施日） | M25: 対策履歴 | S25: 実施状況（実施日）
B26: メモ | E26: アーチ部(左側)に鋼材露出。新規変状。鋼材には表面的な軽微な腐食(スプレー処置済)があるものの、現状で利用者被害の可能性は低いため、監視にとどめる。 | M26: メモ | P26: 横断目地部(アーチ左側)にうき(スプレー処置済)。範囲拡大。将来的に利用者に影響が及ぶ可能性があるため、重点的な監視及び計画的な対策を必要とする。(前回8-1)
C27: ※ 応急措置後の対策区分の判定区分Ⅱb～Ⅳについて添付すること。また、点検前に 実施された措置によりⅠと判定された箇所も添付すること。 | N27: ※ 変状の発生範囲の規模とは、対策を行う際に参考となる変状の長さや面積をいう。
N28: ※ 応急措置を実施しないで判定した変状の判定区分は、判定区分の応急措置後の欄に記入すること。
C29: ※ たたき落としを実施した場合は、実施後の写真を添付すること。 | N29: ※ 変状の発生範囲の規模は、面積・寸法を記載すること。(ひび割れ幅のみmmとし、その他をm表記とする)
C30: ※ 附属物の取付状態に関する異常写真は別途、任意の書式でとりまとめること。 | N30: ※ 構造用鋼材以外の異物に伴ううき・はく離については、メモ欄に異物の概要を記入すること。

Sheet 様式D-1-1_025
B2: ■定期点検記録様式 変状写真台帳【様式D-1-1】 | R2: 施設ID | T2: 34.31681,131.15364
B3: フリガナ | E3: (ｺﾊﾞﾗﾄﾝﾈﾙ) | H3: 路 線 名 | J3: 国道491号（長門・俵山道路） | M3: 定期点検実施者 | P3: 株式会社荒谷建設コンサルタント | S3: 定期点検年月日 | U3: 45621
B4: 名 称 | E4: 小原トンネル | H4: 管理者名 | J4: 山口県長門土木建築事務所 | P4: 河野 秀生
B5: 写真 番号 | C5: 覆工スパン 番号 | E5: S118 | M5: 写真 番号 | N5: 覆工スパン 番号 | P5: S118
C6: 変状番号 | E6: 3 | N6: 変状番号 | P6: 4
B7: 変状 部位 | C7: 対象箇所 | E7: 覆工 | M7: 変状 部位 | N7: 対象箇所 | P7: 覆工
C8: 部位区分 | E8: アーチ（天端） | N8: 部位区分 | P8: アーチ（天端）
B9: 変状種類 | E9: 鋼材腐食 | M9: 変状種類 | P9: うき・はく離
B10: 対策 区分 | C10: 変状区分 | E10: 材質劣化 | M10: 対策 区分 | N10: 変状区分 | P10: 材質劣化
C11: 応急措置前 | N11: 応急措置前
C12: 応急措置後 | E12: Ⅱb | N12: 応急措置後 | P12: Ⅱb
B13: 変状の発生範囲及び規模 | E13: 0.10m×0.30m | H13: 前回変状の発生範囲及び規模 | J13: 今回新規変状 | M13: 変状の発生範囲及び規模 | P13: 0.30m×0.30m | S13: 前回変状の発生範囲及び規模 | U13: 0.30m×0.30m (Ⅱb判定)
B14: 対策履歴 | H14: 実施状況（実施日） | M14: 対策履歴 | S14: 実施状況（実施日）
B15: メモ | E15: アーチ部(天端)に鋼材露出。新規変状。鋼材には表面的な軽微な腐食(スプレー処置済)があるものの、現状で利用者被害の可能性は低いため、監視にとどめる。 | M15: メモ | P15: アーチ部(天端)に豆板(スプレー処置済)。現状で利用者被害の可能性は低いため、監視にとどめる。(前回9-1)
B16: 写真 番号 | C16: 覆工スパン 番号 | E16: S118 | M16: 写真 番号 | N16: 覆工スパン 番号 | P16: S118
C17: 変状番号 | E17: 5 | N17: 変状番号 | P17: 6
B18: 変状 部位 | C18: 対象箇所 | E18: 覆工 | M18: 変状 部位 | N18: 対象箇所 | P18: 覆工
C19: 部位区分 | E19: アーチ（右側） | N19: 部位区分 | P19: アーチ（右側）
B20: 変状種類 | E20: 鋼材腐食 | M20: 変状種類 | P20: 鋼材腐食
B21: 対策 区分 | C21: 変状区分 | E21: 材質劣化 | M21: 対策 区分 | N21: 変状区分 | P21: 材質劣化
C22: 応急措置前 | N22: 応急措置前
C23: 応急措置後 | E23: Ⅱb | N23: 応急措置後 | P23: Ⅱb
B24: 変状の発生範囲及び規模 | E24: 0.20m×0.05m | H24: 前回変状の発生範囲及び規模 | J24: 今回新規変状 | M24: 変状の発生範囲及び規模 | P24: 0.30m×0.60m | S24: 前回変状の発生範囲及び規模 | U24: 今回新規変状
B25: 対策履歴 | H25: 実施状況（実施日） | M25: 対策履歴 | S25: 実施状況（実施日）
B26: メモ | E26: アーチ部(右側)に鋼材露出。新規変状。鋼材には表面的な軽微な腐食(スプレー処置済)があるものの、現状で利用者被害の可能性は低いため、監視にとどめる。 | M26: メモ | P26: アーチ部(右側)に鋼材露出。新規変状。鋼材には表面的な軽微な腐食(スプレー処置済)があるものの、現状で利用者被害の可能性は低いため、監視にとどめる。
C27: ※ 応急措置後の対策区分の判定区分Ⅱb～Ⅳについて添付すること。また、点検前に 実施された措置によりⅠと判定された箇所も添付すること。 | N27: ※ 変状の発生範囲の規模とは、対策を行う際に参考となる変状の長さや面積をいう。
N28: ※ 応急措置を実施しないで判定した変状の判定区分は、判定区分の応急措置後の欄に記入すること。
C29: ※ たたき落としを実施した場合は、実施後の写真を添付すること。 | N29: ※ 変状の発生範囲の規模は、面積・寸法を記載すること。(ひび割れ幅のみmmとし、その他をm表記とする)
C30: ※ 附属物の取付状態に関する異常写真は別途、任意の書式でとりまとめること。 | N30: ※ 構造用鋼材以外の異物に伴ううき・はく離については、メモ欄に異物の概要を記入すること。

Sheet 様式D-1-1_026
B2: ■定期点検記録様式 変状写真台帳【様式D-1-1】 | R2: 施設ID | T2: 34.31681,131.15364
B3: フリガナ | E3: (ｺﾊﾞﾗﾄﾝﾈﾙ) | H3: 路 線 名 | J3: 国道491号（長門・俵山道路） | M3: 定期点検実施者 | P3: 株式会社荒谷建設コンサルタント | S3: 定期点検年月日 | U3: 45621
B4: 名 称 | E4: 小原トンネル | H4: 管理者名 | J4: 山口県長門土木建築事務所 | P4: 河野 秀生
B5: 写真 番号 | C5: 覆工スパン 番号 | E5: S119 | M5: 写真 番号 | N5: 覆工スパン 番号 | P5: S119
C6: 変状番号 | E6: 1 | N6: 変状番号 | P6: 2
B7: 変状 部位 | C7: 対象箇所 | E7: 覆工 | M7: 変状 部位 | N7: 対象箇所 | P7: 覆工
C8: 部位区分 | E8: アーチ（左側） | N8: 部位区分 | P8: 横断目地（左側）
B9: 変状種類 | E9: 鋼材腐食 | M9: 変状種類 | P9: うき・はく離
B10: 対策 区分 | C10: 変状区分 | E10: 材質劣化 | M10: 対策 区分 | N10: 変状区分 | P10: 材質劣化
C11: 応急措置前 | N11: 応急措置前
C12: 応急措置後 | E12: Ⅱb | N12: 応急措置後 | P12: Ⅲ
B13: 変状の発生範囲及び規模 | E13: 1.05m×0.70m | H13: 前回変状の発生範囲及び規模 | J13: 今回新規変状 | M13: 変状の発生範囲及び規模 | P13: 0.80m×0.20m | S13: 前回変状の発生範囲及び規模 | U13: 今回新規変状
B14: 対策履歴 | H14: 実施状況（実施日） | M14: 対策履歴 | S14: 実施状況（実施日）
B15: メモ | E15: アーチ部(左側)に鋼材露出。新規変状。鋼材には表面的な軽微な腐食(スプレー処置済)があるものの、現状で利用者被害の可能性は低いため、監視にとどめる。 | M15: メモ | P15: 横断目地部(アーチ左側)に閉合しかけのひび割れを伴ううき(スプレー処置済)。早晩、利用者に影響が及ぶ可能性が高いため、早期に措置を講ずる必要がある。
B16: 写真 番号 | C16: 覆工スパン 番号 | E16: S119 | M16: 写真 番号 | N16: 覆工スパン 番号 | P16: S119
C17: 変状番号 | E17: 3 | N17: 変状番号 | P17: 4
B18: 変状 部位 | C18: 対象箇所 | E18: 覆工 | M18: 変状 部位 | N18: 対象箇所 | P18: 覆工
C19: 部位区分 | E19: アーチ（左側） | N19: 部位区分 | P19: アーチ（左側）
B20: 変状種類 | E20: 鋼材腐食 | M20: 変状種類 | P20: 鋼材腐食
B21: 対策 区分 | C21: 変状区分 | E21: 材質劣化 | M21: 対策 区分 | N21: 変状区分 | P21: 材質劣化
C22: 応急措置前 | N22: 応急措置前
C23: 応急措置後 | E23: Ⅱb | N23: 応急措置後 | P23: Ⅱb
B24: 変状の発生範囲及び規模 | E24: 0.10m×0.30m | H24: 前回変状の発生範囲及び規模 | J24: 今回新規変状 | M24: 変状の発生範囲及び規模 | P24: 0.30m×1.35m | S24: 前回変状の発生範囲及び規模 | U24: 今回新規変状
B25: 対策履歴 | H25: 実施状況（実施日） | M25: 対策履歴 | S25: 実施状況（実施日）
B26: メモ | E26: アーチ部(左側)に鋼材露出。新規変状。鋼材には表面的な軽微な腐食(スプレー処置済)があるものの、現状で利用者被害の可能性は低いため、監視にとどめる。 | M26: メモ | P26: アーチ部(左側)に鋼材露出。新規変状。鋼材には表面的な軽微な腐食(スプレー処置済)があるものの、現状で利用者被害の可能性は低いため、監視にとどめる。
C27: ※ 応急措置後の対策区分の判定区分Ⅱb～Ⅳについて添付すること。また、点検前に 実施された措置によりⅠと判定された箇所も添付すること。 | N27: ※ 変状の発生範囲の規模とは、対策を行う際に参考となる変状の長さや面積をいう。
N28: ※ 応急措置を実施しないで判定した変状の判定区分は、判定区分の応急措置後の欄に記入すること。
C29: ※ たたき落としを実施した場合は、実施後の写真を添付すること。 | N29: ※ 変状の発生範囲の規模は、面積・寸法を記載すること。(ひび割れ幅のみmmとし、その他をm表記とする)
C30: ※ 附属物の取付状態に関する異常写真は別途、任意の書式でとりまとめること。 | N30: ※ 構造用鋼材以外の異物に伴ううき・はく離については、メモ欄に異物の概要を記入すること。

Sheet 様式D-1-1_027
B2: ■定期点検記録様式 変状写真台帳【様式D-1-1】 | R2: 施設ID | T2: 34.31681,131.15364
B3: フリガナ | E3: (ｺﾊﾞﾗﾄﾝﾈﾙ) | H3: 路 線 名 | J3: 国道491号（長門・俵山道路） | M3: 定期点検実施者 | P3: 株式会社荒谷建設コンサルタント | S3: 定期点検年月日 | U3: 45621
B4: 名 称 | E4: 小原トンネル | H4: 管理者名 | J4: 山口県長門土木建築事務所 | P4: 河野 秀生
B5: 写真 番号 | C5: 覆工スパン 番号 | E5: S119 | M5: 写真 番号 | N5: 覆工スパン 番号 | P5: S120
C6: 変状番号 | E6: 5 | N6: 変状番号 | P6: 1
B7: 変状 部位 | C7: 対象箇所 | E7: 覆工 | M7: 変状 部位 | N7: 対象箇所 | P7: 覆工
C8: 部位区分 | E8: 横断目地（天端） | N8: 部位区分 | P8: アーチ（左側）
B9: 変状種類 | E9: うき・はく離 | M9: 変状種類 | P9: 鋼材腐食
B10: 対策 区分 | C10: 変状区分 | E10: 材質劣化 | M10: 対策 区分 | N10: 変状区分 | P10: 材質劣化
C11: 応急措置前 | N11: 応急措置前
C12: 応急措置後 | E12: Ⅱb | N12: 応急措置後 | P12: Ⅱb
B13: 変状の発生範囲及び規模 | E13: 0.20m×0.05m | H13: 前回変状の発生範囲及び規模 | J13: 0.20m×0.05m (Ⅱb判定) | M13: 変状の発生範囲及び規模 | P13: 1.15m×1.30m | S13: 前回変状の発生範囲及び規模 | U13: 今回新規変状
B14: 対策履歴 | H14: 実施状況（実施日） | M14: 対策履歴 | S14: 実施状況（実施日）
B15: メモ | E15: 横断目地部(天端)に豆板(スプレー処置済)。現状で利用者被害の可能性は低いため、監視にとどめる。(前回7-1) | M15: メモ | P15: アーチ部(左側)に鋼材露出。新規変状。鋼材には表面的な軽微な腐食(スプレー処置済)があるものの、現状で利用者被害の可能性は低いため、監視にとどめる。
B16: 写真 番号 | C16: 覆工スパン 番号 | E16: S120 | M16: 写真 番号 | N16: 覆工スパン 番号 | P16: S120
C17: 変状番号 | E17: 2 | N17: 変状番号 | P17: 3
B18: 変状 部位 | C18: 対象箇所 | E18: 覆工 | M18: 変状 部位 | N18: 対象箇所 | P18: 覆工
C19: 部位区分 | E19: アーチ（天端） | N19: 部位区分 | P19: アーチ（天端）
B20: 変状種類 | E20: 鋼材腐食 | M20: 変状種類 | P20: 鋼材腐食
B21: 対策 区分 | C21: 変状区分 | E21: 材質劣化 | M21: 対策 区分 | N21: 変状区分 | P21: 材質劣化
C22: 応急措置前 | N22: 応急措置前
C23: 応急措置後 | E23: Ⅱb | N23: 応急措置後 | P23: Ⅱb
B24: 変状の発生範囲及び規模 | E24: 0.10m×0.30m | H24: 前回変状の発生範囲及び規模 | J24: 今回新規変状 | M24: 変状の発生範囲及び規模 | P24: 0.05m×0.05m | S24: 前回変状の発生範囲及び規模 | U24: 今回新規変状
B25: 対策履歴 | H25: 実施状況（実施日） | M25: 対策履歴 | S25: 実施状況（実施日）
B26: メモ | E26: アーチ部(天端)に鋼材露出。新規変状。鋼材には表面的な軽微な腐食(スプレー処置済)があるものの、現状で利用者被害の可能性は低いため、監視にとどめる。 | M26: メモ | P26: アーチ部(天端)に鋼材露出。新規変状。鋼材には表面的な軽微な腐食(スプレー処置済)があるものの、現状で利用者被害の可能性は低いため、監視にとどめる。
C27: ※ 応急措置後の対策区分の判定区分Ⅱb～Ⅳについて添付すること。また、点検前に 実施された措置によりⅠと判定された箇所も添付すること。 | N27: ※ 変状の発生範囲の規模とは、対策を行う際に参考となる変状の長さや面積をいう。
N28: ※ 応急措置を実施しないで判定した変状の判定区分は、判定区分の応急措置後の欄に記入すること。
C29: ※ たたき落としを実施した場合は、実施後の写真を添付すること。 | N29: ※ 変状の発生範囲の規模は、面積・寸法を記載すること。(ひび割れ幅のみmmとし、その他をm表記とする)
C30: ※ 附属物の取付状態に関する異常写真は別途、任意の書式でとりまとめること。 | N30: ※ 構造用鋼材以外の異物に伴ううき・はく離については、メモ欄に異物の概要を記入すること。

Sheet 様式D-1-1_028
B2: ■定期点検記録様式 変状写真台帳【様式D-1-1】 | R2: 施設ID | T2: 34.31681,131.15364
B3: フリガナ | E3: (ｺﾊﾞﾗﾄﾝﾈﾙ) | H3: 路 線 名 | J3: 国道491号（長門・俵山道路） | M3: 定期点検実施者 | P3: 株式会社荒谷建設コンサルタント | S3: 定期点検年月日 | U3: 45621
B4: 名 称 | E4: 小原トンネル | H4: 管理者名 | J4: 山口県長門土木建築事務所 | P4: 河野 秀生
B5: 写真 番号 | C5: 覆工スパン 番号 | E5: S120 | M5: 写真 番号 | N5: 覆工スパン 番号 | P5: S120
C6: 変状番号 | E6: 4 | N6: 変状番号 | P6: 5
B7: 変状 部位 | C7: 対象箇所 | E7: 覆工 | M7: 変状 部位 | N7: 対象箇所 | P7: 覆工
C8: 部位区分 | E8: アーチ（天端） | N8: 部位区分 | P8: アーチ（天端）
B9: 変状種類 | E9: 鋼材腐食 | M9: 変状種類 | P9: 鋼材腐食
B10: 対策 区分 | C10: 変状区分 | E10: 材質劣化 | M10: 対策 区分 | N10: 変状区分 | P10: 材質劣化
C11: 応急措置前 | N11: 応急措置前
C12: 応急措置後 | E12: Ⅱb | N12: 応急措置後 | P12: Ⅱb
B13: 変状の発生範囲及び規模 | E13: 0.20m×0.10m | H13: 前回変状の発生範囲及び規模 | J13: 今回新規変状 | M13: 変状の発生範囲及び規模 | P13: 0.10m×0.30m | S13: 前回変状の発生範囲及び規模 | U13: 今回新規変状
B14: 対策履歴 | H14: 実施状況（実施日） | M14: 対策履歴 | S14: 実施状況（実施日）
B15: メモ | E15: アーチ部(天端)に鋼材露出。新規変状。鋼材には表面的な軽微な腐食(スプレー処置済)があるものの、現状で利用者被害の可能性は低いため、監視にとどめる。 | M15: メモ | P15: アーチ部(天端)に鋼材露出。新規変状。鋼材には表面的な軽微な腐食(スプレー処置済)があるものの、現状で利用者被害の可能性は低いため、監視にとどめる。
B16: 写真 番号 | C16: 覆工スパン 番号 | E16: S120 | M16: 写真 番号 | N16: 覆工スパン 番号 | P16: S121
C17: 変状番号 | E17: 6 | N17: 変状番号 | P17: 1
B18: 変状 部位 | C18: 対象箇所 | E18: 覆工 | M18: 変状 部位 | N18: 対象箇所 | P18: 覆工
C19: 部位区分 | E19: アーチ（右側） | N19: 部位区分 | P19: 横断目地（左側）
B20: 変状種類 | E20: 鋼材腐食 | M20: 変状種類 | P20: うき・はく離
B21: 対策 区分 | C21: 変状区分 | E21: 材質劣化 | M21: 対策 区分 | N21: 変状区分 | P21: 材質劣化
C22: 応急措置前 | N22: 応急措置前
C23: 応急措置後 | E23: Ⅱb | N23: 応急措置後 | P23: Ⅱa
B24: 変状の発生範囲及び規模 | E24: 0.05m×0.05m | H24: 前回変状の発生範囲及び規模 | J24: 今回新規変状 | M24: 変状の発生範囲及び規模 | P24: 0.40m×0.05m | S24: 前回変状の発生範囲及び規模 | U24: 今回新規変状
B25: 対策履歴 | H25: 実施状況（実施日） | M25: 対策履歴 | S25: 実施状況（実施日）
B26: メモ | E26: アーチ部(右側)に鋼材露出。新規変状。鋼材には表面的な軽微な腐食(スプレー処置済)があるものの、現状で利用者被害の可能性は低いため、監視にとどめる。 | M26: メモ | P26: 横断目地部(アーチ左側)にうき。将来的に利用者に影響が及ぶ可能性があるため、重点的な監視及び計画的な対策を必要とする。
C27: ※ 応急措置後の対策区分の判定区分Ⅱb～Ⅳについて添付すること。また、点検前に 実施された措置によりⅠと判定された箇所も添付すること。 | N27: ※ 変状の発生範囲の規模とは、対策を行う際に参考となる変状の長さや面積をいう。
N28: ※ 応急措置を実施しないで判定した変状の判定区分は、判定区分の応急措置後の欄に記入すること。
C29: ※ たたき落としを実施した場合は、実施後の写真を添付すること。 | N29: ※ 変状の発生範囲の規模は、面積・寸法を記載すること。(ひび割れ幅のみmmとし、その他をm表記とする)
C30: ※ 附属物の取付状態に関する異常写真は別途、任意の書式でとりまとめること。 | N30: ※ 構造用鋼材以外の異物に伴ううき・はく離については、メモ欄に異物の概要を記入すること。

Sheet 様式D-1-1_029
B2: ■定期点検記録様式 変状写真台帳【様式D-1-1】 | R2: 施設ID | T2: 34.31681,131.15364
B3: フリガナ | E3: (ｺﾊﾞﾗﾄﾝﾈﾙ) | H3: 路 線 名 | J3: 国道491号（長門・俵山道路） | M3: 定期点検実施者 | P3: 株式会社荒谷建設コンサルタント | S3: 定期点検年月日 | U3: 45621
B4: 名 称 | E4: 小原トンネル | H4: 管理者名 | J4: 山口県長門土木建築事務所 | P4: 河野 秀生
B5: 写真 番号 | C5: 覆工スパン 番号 | E5: S121 | M5: 写真 番号 | N5: 覆工スパン 番号 | P5: S121
C6: 変状番号 | E6: 2 | N6: 変状番号 | P6: 3
B7: 変状 部位 | C7: 対象箇所 | E7: 覆工 | M7: 変状 部位 | N7: 対象箇所 | P7: 覆工
C8: 部位区分 | E8: アーチ（左側） | N8: 部位区分 | P8: アーチ（左側）
B9: 変状種類 | E9: 鋼材腐食 | M9: 変状種類 | P9: 鋼材腐食
B10: 対策 区分 | C10: 変状区分 | E10: 材質劣化 | M10: 対策 区分 | N10: 変状区分 | P10: 材質劣化
C11: 応急措置前 | N11: 応急措置前
C12: 応急措置後 | E12: Ⅱb | N12: 応急措置後 | P12: Ⅱb
B13: 変状の発生範囲及び規模 | E13: 0.10m×0.30m | H13: 前回変状の発生範囲及び規模 | J13: 今回新規変状 | M13: 変状の発生範囲及び規模 | P13: 0.30m×0.10m | S13: 前回変状の発生範囲及び規模 | U13: 今回新規変状
B14: 対策履歴 | H14: 実施状況（実施日） | M14: 対策履歴 | S14: 実施状況（実施日）
B15: メモ | E15: アーチ部(左側)に鋼材露出。新規変状。鋼材には表面的な軽微な腐食(スプレー処置済)があるものの、現状で利用者被害の可能性は低いため、監視にとどめる。 | M15: メモ | P15: アーチ部(左側)に鋼材露出。新規変状。鋼材には表面的な軽微な腐食(スプレー処置済)があるものの、現状で利用者被害の可能性は低いため、監視にとどめる。
B16: 写真 番号 | C16: 覆工スパン 番号 | E16: S121 | M16: 写真 番号 | N16: 覆工スパン 番号 | P16: S121
C17: 変状番号 | E17: 4 | N17: 変状番号 | P17: 5
B18: 変状 部位 | C18: 対象箇所 | E18: 覆工 | M18: 変状 部位 | N18: 対象箇所 | P18: 覆工
C19: 部位区分 | E19: アーチ（左側） | N19: 部位区分 | P19: アーチ（天端）
B20: 変状種類 | E20: 鋼材腐食 | M20: 変状種類 | P20: 鋼材腐食
B21: 対策 区分 | C21: 変状区分 | E21: 材質劣化 | M21: 対策 区分 | N21: 変状区分 | P21: 材質劣化
C22: 応急措置前 | N22: 応急措置前
C23: 応急措置後 | E23: Ⅱb | N23: 応急措置後 | P23: Ⅱb
B24: 変状の発生範囲及び規模 | E24: 0.05m×0.05m | H24: 前回変状の発生範囲及び規模 | J24: 今回新規変状 | M24: 変状の発生範囲及び規模 | P24: 0.05m×0.05m | S24: 前回変状の発生範囲及び規模 | U24: 今回新規変状
B25: 対策履歴 | H25: 実施状況（実施日） | M25: 対策履歴 | S25: 実施状況（実施日）
B26: メモ | E26: アーチ部(左側)に鋼材露出。新規変状。鋼材には表面的な軽微な腐食(スプレー処置済)があるものの、現状で利用者被害の可能性は低いため、監視にとどめる。 | M26: メモ | P26: アーチ部(天端)に鋼材露出。新規変状。鋼材には表面的な軽微な腐食(スプレー処置済)があるものの、現状で利用者被害の可能性は低いため、監視にとどめる。
C27: ※ 応急措置後の対策区分の判定区分Ⅱb～Ⅳについて添付すること。また、点検前に 実施された措置によりⅠと判定された箇所も添付すること。 | N27: ※ 変状の発生範囲の規模とは、対策を行う際に参考となる変状の長さや面積をいう。
N28: ※ 応急措置を実施しないで判定した変状の判定区分は、判定区分の応急措置後の欄に記入すること。
C29: ※ たたき落としを実施した場合は、実施後の写真を添付すること。 | N29: ※ 変状の発生範囲の規模は、面積・寸法を記載すること。(ひび割れ幅のみmmとし、その他をm表記とする)
C30: ※ 附属物の取付状態に関する異常写真は別途、任意の書式でとりまとめること。 | N30: ※ 構造用鋼材以外の異物に伴ううき・はく離については、メモ欄に異物の概要を記入すること。

Sheet 様式D-1-1_030
B2: ■定期点検記録様式 変状写真台帳【様式D-1-1】 | R2: 施設ID | T2: 34.31681,131.15364
B3: フリガナ | E3: (ｺﾊﾞﾗﾄﾝﾈﾙ) | H3: 路 線 名 | J3: 国道491号（長門・俵山道路） | M3: 定期点検実施者 | P3: 株式会社荒谷建設コンサルタント | S3: 定期点検年月日 | U3: 45621
B4: 名 称 | E4: 小原トンネル | H4: 管理者名 | J4: 山口県長門土木建築事務所 | P4: 河野 秀生
B5: 写真 番号 | C5: 覆工スパン 番号 | E5: S121 | M5: 写真 番号 | N5: 覆工スパン 番号 | P5: S121
C6: 変状番号 | E6: 6 | N6: 変状番号 | P6: 7
B7: 変状 部位 | C7: 対象箇所 | E7: 覆工 | M7: 変状 部位 | N7: 対象箇所 | P7: 覆工
C8: 部位区分 | E8: アーチ（左側） | N8: 部位区分 | P8: アーチ（左側）
B9: 変状種類 | E9: 鋼材腐食 | M9: 変状種類 | P9: 鋼材腐食
B10: 対策 区分 | C10: 変状区分 | E10: 材質劣化 | M10: 対策 区分 | N10: 変状区分 | P10: 材質劣化
C11: 応急措置前 | N11: 応急措置前
C12: 応急措置後 | E12: Ⅱb | N12: 応急措置後 | P12: Ⅱb
B13: 変状の発生範囲及び規模 | E13: 1.55m×1.60m | H13: 前回変状の発生範囲及び規模 | J13: 今回新規変状 | M13: 変状の発生範囲及び規模 | P13: 2.15m×1.40m | S13: 前回変状の発生範囲及び規模 | U13: 今回新規変状
B14: 対策履歴 | H14: 実施状況（実施日） | M14: 対策履歴 | S14: 実施状況（実施日）
B15: メモ | E15: アーチ部(左側)に鋼材露出。新規変状。鋼材には表面的な軽微な腐食(スプレー処置済)があるものの、現状で利用者被害の可能性は低いため、監視にとどめる。 | M15: メモ | P15: アーチ部(左側)に鋼材露出。新規変状。鋼材には表面的な軽微な腐食(スプレー処置済)があるものの、現状で利用者被害の可能性は低いため、監視にとどめる。
B16: 写真 番号 | C16: 覆工スパン 番号 | E16: S121 | M16: 写真 番号 | N16: 覆工スパン 番号 | P16: S121
C17: 変状番号 | E17: 8 | N17: 変状番号 | P17: 9
B18: 変状 部位 | C18: 対象箇所 | E18: 覆工 | M18: 変状 部位 | N18: 対象箇所 | P18: 覆工
C19: 部位区分 | E19: アーチ（天端） | N19: 部位区分 | P19: 横断目地（天端）
B20: 変状種類 | E20: 鋼材腐食 | M20: 変状種類 | P20: うき・はく離
B21: 対策 区分 | C21: 変状区分 | E21: 材質劣化 | M21: 対策 区分 | N21: 変状区分 | P21: 材質劣化
C22: 応急措置前 | N22: 応急措置前
C23: 応急措置後 | E23: Ⅱb | N23: 応急措置後 | P23: Ⅱa
B24: 変状の発生範囲及び規模 | E24: 0.05m×0.10m | H24: 前回変状の発生範囲及び規模 | J24: 今回新規変状 | M24: 変状の発生範囲及び規模 | P24: 0.60m×0.10m | S24: 前回変状の発生範囲及び規模 | U24: 0.55m×0.15m (Ⅱa判定)
B25: 対策履歴 | H25: 実施状況（実施日） | M25: 対策履歴 | S25: 実施状況（実施日）
B26: メモ | E26: アーチ部(天端)に鋼材露出。新規変状。鋼材には表面的な軽微な腐食(スプレー処置済)があるものの、現状で利用者被害の可能性は低いため、監視にとどめる。 | M26: メモ | P26: 横断目地部(天端)にうき(スプレー処置済)。将来的に利用者に影響が及ぶ可能性があるため、重点的な監視及び計画的な対策を必要とする。(前回5-2)
C27: ※ 応急措置後の対策区分の判定区分Ⅱb～Ⅳについて添付すること。また、点検前に 実施された措置によりⅠと判定された箇所も添付すること。 | N27: ※ 変状の発生範囲の規模とは、対策を行う際に参考となる変状の長さや面積をいう。
N28: ※ 応急措置を実施しないで判定した変状の判定区分は、判定区分の応急措置後の欄に記入すること。
C29: ※ たたき落としを実施した場合は、実施後の写真を添付すること。 | N29: ※ 変状の発生範囲の規模は、面積・寸法を記載すること。(ひび割れ幅のみmmとし、その他をm表記とする)
C30: ※ 附属物の取付状態に関する異常写真は別途、任意の書式でとりまとめること。 | N30: ※ 構造用鋼材以外の異物に伴ううき・はく離については、メモ欄に異物の概要を記入すること。

Sheet 様式D-1-1_031
B2: ■定期点検記録様式 変状写真台帳【様式D-1-1】 | R2: 施設ID | T2: 34.31681,131.15364
B3: フリガナ | E3: (ｺﾊﾞﾗﾄﾝﾈﾙ) | H3: 路 線 名 | J3: 国道491号（長門・俵山道路） | M3: 定期点検実施者 | P3: 株式会社荒谷建設コンサルタント | S3: 定期点検年月日 | U3: 45621
B4: 名 称 | E4: 小原トンネル | H4: 管理者名 | J4: 山口県長門土木建築事務所 | P4: 河野 秀生
B5: 写真 番号 | C5: 覆工スパン 番号 | E5: S121 | M5: 写真 番号 | N5: 覆工スパン 番号 | P5: S122
C6: 変状番号 | E6: 10 | N6: 変状番号 | P6: 1
B7: 変状 部位 | C7: 対象箇所 | E7: 覆工 | M7: 変状 部位 | N7: 対象箇所 | P7: 覆工
C8: 部位区分 | E8: 横断目地（右側） | N8: 部位区分 | P8: アーチ（左側）
B9: 変状種類 | E9: うき・はく離 | M9: 変状種類 | P9: 鋼材腐食
B10: 対策 区分 | C10: 変状区分 | E10: 材質劣化 | M10: 対策 区分 | N10: 変状区分 | P10: 材質劣化
C11: 応急措置前 | N11: 応急措置前
C12: 応急措置後 | E12: Ⅲ | N12: 応急措置後 | P12: Ⅱb
B13: 変状の発生範囲及び規模 | E13: 1.00m×0.10m | H13: 前回変状の発生範囲及び規模 | J13: 0.90m×0.10m (Ⅰ判定) | M13: 変状の発生範囲及び規模 | P13: 0.05m×0.05m | S13: 前回変状の発生範囲及び規模 | U13: 今回新規変状
B14: 対策履歴 | H14: 実施状況（実施日） | M14: 対策履歴 | S14: 実施状況（実施日）
B15: メモ | E15: 横断目地部(アーチ右側)に閉合しかけのひび割れを伴ううき。前回点検時にうきの叩落しを実施した箇所が再劣化している。早晩、利用者に影響が及ぶ可能性が高いため、早期に措置を講ずる必要がある。 (前回6-1) | M15: メモ | P15: アーチ部(左側)に鋼材露出。新規変状。鋼材には表面的な軽微な腐食(スプレー処置済)があるものの、現状で利用者被害の可能性は低いため、監視にとどめる。
B16: 写真 番号 | C16: 覆工スパン 番号 | E16: S122 | M16: 写真 番号 | N16: 覆工スパン 番号 | P16: S122
C17: 変状番号 | E17: 2 | N17: 変状番号 | P17: 3
B18: 変状 部位 | C18: 対象箇所 | E18: 覆工 | M18: 変状 部位 | N18: 対象箇所 | P18: 覆工
C19: 部位区分 | E19: アーチ（天端） | N19: 部位区分 | P19: アーチ（天端）
B20: 変状種類 | E20: 鋼材腐食 | M20: 変状種類 | P20: 鋼材腐食
B21: 対策 区分 | C21: 変状区分 | E21: 材質劣化 | M21: 対策 区分 | N21: 変状区分 | P21: 材質劣化
C22: 応急措置前 | N22: 応急措置前
C23: 応急措置後 | E23: Ⅱb | N23: 応急措置後 | P23: Ⅱb
B24: 変状の発生範囲及び規模 | E24: 0.10m×0.30m | H24: 前回変状の発生範囲及び規模 | J24: 今回新規変状 | M24: 変状の発生範囲及び規模 | P24: 0.85m×0.75m | S24: 前回変状の発生範囲及び規模 | U24: 今回新規変状
B25: 対策履歴 | H25: 実施状況（実施日） | M25: 対策履歴 | S25: 実施状況（実施日）
B26: メモ | E26: アーチ部(天端)に鋼材露出。新規変状。鋼材には表面的な軽微な腐食(スプレー処置済)があるものの、現状で利用者被害の可能性は低いため、監視にとどめる。 | M26: メモ | P26: アーチ部(天端～左側)に鋼材露出。新規変状。鋼材には表面的な軽微な腐食(スプレー処置済)があるものの、現状で利用者被害の可能性は低いため、監視にとどめる。
C27: ※ 応急措置後の対策区分の判定区分Ⅱb～Ⅳについて添付すること。また、点検前に 実施された措置によりⅠと判定された箇所も添付すること。 | N27: ※ 変状の発生範囲の規模とは、対策を行う際に参考となる変状の長さや面積をいう。
N28: ※ 応急措置を実施しないで判定した変状の判定区分は、判定区分の応急措置後の欄に記入すること。
C29: ※ たたき落としを実施した場合は、実施後の写真を添付すること。 | N29: ※ 変状の発生範囲の規模は、面積・寸法を記載すること。(ひび割れ幅のみmmとし、その他をm表記とする)
C30: ※ 附属物の取付状態に関する異常写真は別途、任意の書式でとりまとめること。 | N30: ※ 構造用鋼材以外の異物に伴ううき・はく離については、メモ欄に異物の概要を記入すること。

Sheet 様式D-1-1_032
B2: ■定期点検記録様式 変状写真台帳【様式D-1-1】 | R2: 施設ID | T2: 34.31681,131.15364
B3: フリガナ | E3: (ｺﾊﾞﾗﾄﾝﾈﾙ) | H3: 路 線 名 | J3: 国道491号（長門・俵山道路） | M3: 定期点検実施者 | P3: 株式会社荒谷建設コンサルタント | S3: 定期点検年月日 | U3: 45621
B4: 名 称 | E4: 小原トンネル | H4: 管理者名 | J4: 山口県長門土木建築事務所 | P4: 河野 秀生
B5: 写真 番号 | C5: 覆工スパン 番号 | E5: S122 | M5: 写真 番号 | N5: 覆工スパン 番号 | P5: S122
C6: 変状番号 | E6: 4 | N6: 変状番号 | P6: 5
B7: 変状 部位 | C7: 対象箇所 | E7: 覆工 | M7: 変状 部位 | N7: 対象箇所 | P7: 覆工
C8: 部位区分 | E8: アーチ（天端） | N8: 部位区分 | P8: アーチ（天端）
B9: 変状種類 | E9: 鋼材腐食 | M9: 変状種類 | P9: うき・はく離
B10: 対策 区分 | C10: 変状区分 | E10: 材質劣化 | M10: 対策 区分 | N10: 変状区分 | P10: 材質劣化
C11: 応急措置前 | N11: 応急措置前
C12: 応急措置後 | E12: Ⅱb | N12: 応急措置後 | P12: Ⅱb
B13: 変状の発生範囲及び規模 | E13: 0.05m×0.05m | H13: 前回変状の発生範囲及び規模 | J13: 今回新規変状 | M13: 変状の発生範囲及び規模 | P13: 0.70m×0.20m | S13: 前回変状の発生範囲及び規模 | U13: 0.70m×0.20m (Ⅱb判定)
B14: 対策履歴 | H14: 実施状況（実施日） | M14: 対策履歴 | S14: 実施状況（実施日）
B15: メモ | E15: アーチ部(天端)に鋼材露出。新規変状。鋼材には表面的な軽微な腐食(スプレー処置済)があるものの、現状で利用者被害の可能性は低いため、監視にとどめる。 | M15: メモ | P15: アーチ部(天端)に豆板(スプレー処置済)。現状で利用者被害の可能性は低いため、監視にとどめる。(前回5-1)
B16: 写真 番号 | C16: 覆工スパン 番号 | E16: S122 | M16: 写真 番号 | N16: 覆工スパン 番号 | P16: S123
C17: 変状番号 | E17: 6 | N17: 変状番号 | P17: 1
B18: 変状 部位 | C18: 対象箇所 | E18: 覆工 | M18: 変状 部位 | N18: 対象箇所 | P18: 覆工
C19: 部位区分 | E19: アーチ（右側） | N19: 部位区分 | P19: 横断目地（左側）
B20: 変状種類 | E20: 鋼材腐食 | M20: 変状種類 | P20: うき・はく離
B21: 対策 区分 | C21: 変状区分 | E21: 材質劣化 | M21: 対策 区分 | N21: 変状区分 | P21: 材質劣化
C22: 応急措置前 | N22: 応急措置前
C23: 応急措置後 | E23: Ⅱb | N23: 応急措置後 | P23: Ⅱa
B24: 変状の発生範囲及び規模 | E24: 0.05m×0.05m | H24: 前回変状の発生範囲及び規模 | J24: 今回新規変状 | M24: 変状の発生範囲及び規模 | P24: 0.60m×0.05m | S24: 前回変状の発生範囲及び規模 | U24: 0.40m×0.05m (Ⅱb判定)
B25: 対策履歴 | H25: 実施状況（実施日） | M25: 対策履歴 | S25: 実施状況（実施日）
B26: メモ | E26: アーチ部(右側)に鋼材露出。新規変状。鋼材には表面的な軽微な腐食(スプレー処置済)があるものの、現状で利用者被害の可能性は低いため、監視にとどめる。 | M26: メモ | P26: 横断目地部(アーチ左側)にうき。範囲拡大。将来的に利用者に影響が及ぶ可能性があるため、重点的な監視及び計画的な対策を必要とする。(前回3-5)
C27: ※ 応急措置後の対策区分の判定区分Ⅱb～Ⅳについて添付すること。また、点検前に 実施された措置によりⅠと判定された箇所も添付すること。 | N27: ※ 変状の発生範囲の規模とは、対策を行う際に参考となる変状の長さや面積をいう。
N28: ※ 応急措置を実施しないで判定した変状の判定区分は、判定区分の応急措置後の欄に記入すること。
C29: ※ たたき落としを実施した場合は、実施後の写真を添付すること。 | N29: ※ 変状の発生範囲の規模は、面積・寸法を記載すること。(ひび割れ幅のみmmとし、その他をm表記とする)
C30: ※ 附属物の取付状態に関する異常写真は別途、任意の書式でとりまとめること。 | N30: ※ 構造用鋼材以外の異物に伴ううき・はく離については、メモ欄に異物の概要を記入すること。

Sheet 様式D-1-1_033
B2: ■定期点検記録様式 変状写真台帳【様式D-1-1】 | R2: 施設ID | T2: 34.31681,131.15364
B3: フリガナ | E3: (ｺﾊﾞﾗﾄﾝﾈﾙ) | H3: 路 線 名 | J3: 国道491号（長門・俵山道路） | M3: 定期点検実施者 | P3: 株式会社荒谷建設コンサルタント | S3: 定期点検年月日 | U3: 45621
B4: 名 称 | E4: 小原トンネル | H4: 管理者名 | J4: 山口県長門土木建築事務所 | P4: 河野 秀生
B5: 写真 番号 | C5: 覆工スパン 番号 | E5: S123 | M5: 写真 番号 | N5: 覆工スパン 番号 | P5: S123
C6: 変状番号 | E6: 2 | N6: 変状番号 | P6: 3
B7: 変状 部位 | C7: 対象箇所 | E7: 覆工 | M7: 変状 部位 | N7: 対象箇所 | P7: 覆工
C8: 部位区分 | E8: アーチ（天端） | N8: 部位区分 | P8: アーチ（左側）
B9: 変状種類 | E9: 鋼材腐食 | M9: 変状種類 | P9: 鋼材腐食
B10: 対策 区分 | C10: 変状区分 | E10: 材質劣化 | M10: 対策 区分 | N10: 変状区分 | P10: 材質劣化
C11: 応急措置前 | N11: 応急措置前
C12: 応急措置後 | E12: Ⅱb | N12: 応急措置後 | P12: Ⅱb
B13: 変状の発生範囲及び規模 | E13: 0.10m×0.30m | H13: 前回変状の発生範囲及び規模 | J13: 今回新規変状 | M13: 変状の発生範囲及び規模 | P13: 0.15m×0.30m | S13: 前回変状の発生範囲及び規模 | U13: 今回新規変状
B14: 対策履歴 | H14: 実施状況（実施日） | M14: 対策履歴 | S14: 実施状況（実施日）
B15: メモ | E15: アーチ部(天端)に鋼材露出。新規変状。鋼材には表面的な軽微な腐食(スプレー処置済)があるものの、現状で利用者被害の可能性は低いため、監視にとどめる。 | M15: メモ | P15: アーチ部(左側)に鋼材露出。新規変状。鋼材には表面的な軽微な腐食(スプレー処置済)があるものの、現状で利用者被害の可能性は低いため、監視にとどめる。
B16: 写真 番号 | C16: 覆工スパン 番号 | E16: S125 | M16: 写真 番号 | N16: 覆工スパン 番号 | P16: S125
C17: 変状番号 | E17: 1 | N17: 変状番号 | P17: 2
B18: 変状 部位 | C18: 対象箇所 | E18: 覆工 | M18: 変状 部位 | N18: 対象箇所 | P18: 覆工
C19: 部位区分 | E19: 横断目地（左側） | N19: 部位区分 | P19: アーチ（左側）
B20: 変状種類 | E20: うき・はく離 | M20: 変状種類 | P20: 鋼材腐食
B21: 対策 区分 | C21: 変状区分 | E21: 材質劣化 | M21: 対策 区分 | N21: 変状区分 | P21: 材質劣化
C22: 応急措置前 | N22: 応急措置前
C23: 応急措置後 | E23: Ⅱa | N23: 応急措置後 | P23: Ⅱb
B24: 変状の発生範囲及び規模 | E24: 0.20m×0.05m | H24: 前回変状の発生範囲及び規模 | J24: 今回新規変状 | M24: 変状の発生範囲及び規模 | P24: 0.05m×0.30m | S24: 前回変状の発生範囲及び規模 | U24: 今回新規変状
B25: 対策履歴 | H25: 実施状況（実施日） | M25: 対策履歴 | S25: 実施状況（実施日）
B26: メモ | E26: 横断目地部(アーチ左側)にうき(スプレー処置済)。将来的に利用者に影響が及ぶ可能性があるため、重点的な監視及び計画的な対策を必要とする。 | M26: メモ | P26: アーチ部(左側)に鋼材露出。新規変状。鋼材には表面的な軽微な腐食(スプレー処置済)があるものの、現状で利用者被害の可能性は低いため、監視にとどめる。
C27: ※ 応急措置後の対策区分の判定区分Ⅱb～Ⅳについて添付すること。また、点検前に 実施された措置によりⅠと判定された箇所も添付すること。 | N27: ※ 変状の発生範囲の規模とは、対策を行う際に参考となる変状の長さや面積をいう。
N28: ※ 応急措置を実施しないで判定した変状の判定区分は、判定区分の応急措置後の欄に記入すること。
C29: ※ たたき落としを実施した場合は、実施後の写真を添付すること。 | N29: ※ 変状の発生範囲の規模は、面積・寸法を記載すること。(ひび割れ幅のみmmとし、その他をm表記とする)
C30: ※ 附属物の取付状態に関する異常写真は別途、任意の書式でとりまとめること。 | N30: ※ 構造用鋼材以外の異物に伴ううき・はく離については、メモ欄に異物の概要を記入すること。

Sheet 様式D-1-1_034
B2: ■定期点検記録様式 変状写真台帳【様式D-1-1】 | R2: 施設ID | T2: 34.31681,131.15364
B3: フリガナ | E3: (ｺﾊﾞﾗﾄﾝﾈﾙ) | H3: 路 線 名 | J3: 国道491号（長門・俵山道路） | M3: 定期点検実施者 | P3: 株式会社荒谷建設コンサルタント | S3: 定期点検年月日 | U3: 45621
B4: 名 称 | E4: 小原トンネル | H4: 管理者名 | J4: 山口県長門土木建築事務所 | P4: 河野 秀生
B5: 写真 番号 | C5: 覆工スパン 番号 | E5: S125 | M5: 写真 番号 | N5: 覆工スパン 番号 | P5: S125
C6: 変状番号 | E6: 3 | N6: 変状番号 | P6: 4
B7: 変状 部位 | C7: 対象箇所 | E7: 覆工 | M7: 変状 部位 | N7: 対象箇所 | P7: 覆工
C8: 部位区分 | E8: アーチ（左側） | N8: 部位区分 | P8: 横断目地（左側）
B9: 変状種類 | E9: 鋼材腐食 | M9: 変状種類 | P9: うき・はく離
B10: 対策 区分 | C10: 変状区分 | E10: 材質劣化 | M10: 対策 区分 | N10: 変状区分 | P10: 材質劣化
C11: 応急措置前 | N11: 応急措置前
C12: 応急措置後 | E12: Ⅱb | N12: 応急措置後 | P12: Ⅲ
B13: 変状の発生範囲及び規模 | E13: 0.05m×0.10m | H13: 前回変状の発生範囲及び規模 | J13: 今回新規変状 | M13: 変状の発生範囲及び規模 | P13: 0.50m×0.10m | S13: 前回変状の発生範囲及び規模 | U13: 今回新規変状
B14: 対策履歴 | H14: 実施状況（実施日） | M14: 対策履歴 | S14: 実施状況（実施日）
B15: メモ | E15: アーチ部(左側)に鋼材露出。新規変状。鋼材には表面的な軽微な腐食(スプレー処置済)があるものの、現状で利用者被害の可能性は低いため、監視にとどめる。 | M15: メモ | P15: 横断目地部(アーチ左側)に閉合しかけのひび割れを伴ううき(スプレー処置済)。早晩、利用者に影響が及ぶ可能性が高いため、早期に措置を講ずる必要がある。
B16: 写真 番号 | C16: 覆工スパン 番号 | E16: S126 | M16: 写真 番号 | N16: 覆工スパン 番号
C17: 変状番号 | E17: 1 | N17: 変状番号
B18: 変状 部位 | C18: 対象箇所 | E18: 覆工 | M18: 変状 部位 | N18: 対象箇所
C19: 部位区分 | E19: アーチ（天端） | N19: 部位区分
B20: 変状種類 | E20: 鋼材腐食 | M20: 変状種類
B21: 対策 区分 | C21: 変状区分 | E21: 材質劣化 | M21: 対策 区分 | N21: 変状区分
C22: 応急措置前 | N22: 応急措置前
C23: 応急措置後 | E23: Ⅱb | N23: 応急措置後
B24: 変状の発生範囲及び規模 | E24: 0.05m×0.05m | H24: 前回変状の発生範囲及び規模 | J24: 今回新規変状 | M24: 変状の発生範囲及び規模 | S24: 前回変状の発生範囲及び規模
B25: 対策履歴 | H25: 実施状況（実施日） | M25: 対策履歴 | S25: 実施状況（実施日）
B26: メモ | E26: アーチ部(天端)に鋼材露出。新規変状。鋼材には表面的な軽微な腐食(スプレー処置済)があるものの、現状で利用者被害の可能性は低いため、監視にとどめる。 | M26: メモ
C27: ※ 応急措置後の対策区分の判定区分Ⅱb～Ⅳについて添付すること。また、点検前に 実施された措置によりⅠと判定された箇所も添付すること。 | N27: ※ 変状の発生範囲の規模とは、対策を行う際に参考となる変状の長さや面積をいう。
N28: ※ 応急措置を実施しないで判定した変状の判定区分は、判定区分の応急措置後の欄に記入すること。
C29: ※ たたき落としを実施した場合は、実施後の写真を添付すること。 | N29: ※ 変状の発生範囲の規模は、面積・寸法を記載すること。(ひび割れ幅のみmmとし、その他をm表記とする)
C30: ※ 附属物の取付状態に関する異常写真は別途、任意の書式でとりまとめること。 | N30: ※ 構造用鋼材以外の異物に伴ううき・はく離については、メモ欄に異物の概要を記入すること。

Sheet 様式D-1-2
B2: ■定期点検記録様式 異常写真台帳（トンネル内附属物等の取付状態） 【様式D-1-2】
B3: フリガナ | E3: (ｺﾊﾞﾗﾄﾝﾈﾙ) | I3: 路 線 名 | L3: 国道491号（長門・俵山道路） | O3: 定期点検実施者 | R3: 株式会社荒谷建設コンサルタント | U3: 定期点検年月日 | W3: 45621
B4: 名 称 | E4: 小原トンネル | I4: 管理者名 | L4: 山口県長門土木建築事務所 | R4: 河野 秀生
B5: 覆工スパン番号 | E5: S059 | F5: 異常番号 | I5: 1 | J5: 覆工スパン番号 | M5: S099 | N5: 異常番号 | Q5: 1 | R5: 覆工スパン番号 | V5: 異常番号
B6: 対象箇所 | D6: その他施設 | E6: その他 | J6: 対象箇所 | L6: その他施設 | M6: その他 | R6: 対象箇所
B7: 部位区分 | D7: 附属物本体 | F7: 異常の種類 | H7: 変形，欠損 | J7: 部位区分 | L7: ボルト・ナット，アンカー類 | N7: 異常の種類 | P7: 緩み | R7: 部位区分 | V7: 異常の種類
B8: 異常判定区分 | D8: × | E8: メモ | F8: 視線誘導標破損 | J8: 異常判定区分 | L8: ○ | M8: メモ | N8: ナット緩み。増締め処置済み | R8: 異常判定区分 | U8: メモ
B22: 覆工スパン番号 | F22: 異常番号 | J22: 覆工スパン番号 | N22: 異常番号 | R22: 覆工スパン番号 | V22: 異常番号
B23: 対象箇所 | J23: 対象箇所 | R23: 対象箇所
B24: 部位区分 | F24: 異常の種類 | J24: 部位区分 | N24: 異常の種類 | R24: 部位区分 | V24: 異常の種類
B25: 異常判定区分 | E25: メモ | J25: 異常判定区分 | M25: メモ | R25: 異常判定区分 | U25: メモ
C39: ※ 異常判定区分×について記入すること。また、応急措置前に異常判定区分×とした箇所のうち応急措置により○と判定した箇所も記入すること。
C40: ※ 応急措置を実施した場合は、その実施状況が分かる写真を添付すること。
C41: ※ 変状数に準じてシートを追加すること。

Sheet 様式D-2-1_001
B3: ■定期点検記録様式 トンネル全体変状展開図 【様式D-2-1】
B4: フリガナ | E4: (ｺﾊﾞﾗﾄﾝﾈﾙ) | J4: 路線名 | M4: 国道491号（長門・俵山道路） | S4: 定期点検実施者 | W4: 株式会社荒谷建設コンサルタント | AC4: 定期点検年月日 | AF4: 45621
B5: 名 称 | E5: 小原トンネル | J5: 管理者名 | M5: 山口県長門土木建築事務所 | W5: 河野 秀生
B6: トンネル変状展開図 | C6: トンネル全体変状展開図
V18: 注１：本展開図は、見下げた状態で記載すること。 注２：覆工スパン番号は横断目地毎（矢板工法の場合は上半アーチ の横断目地毎)に設定すること。 注３：横断目地の変状は前の覆工スパン番号で計上すること。 注４：１枚に収まらない場合は、複数枚に分けて作成すること。

Sheet 様式D-2-1_002
B3: ■定期点検記録様式 トンネル全体変状展開図 【様式D-2-1】
B4: フリガナ | E4: (ｺﾊﾞﾗﾄﾝﾈﾙ) | J4: 路線名 | M4: 国道491号（長門・俵山道路） | S4: 定期点検実施者 | W4: 株式会社荒谷建設コンサルタント | AC4: 定期点検年月日 | AF4: 45621
B5: 名 称 | E5: 小原トンネル | J5: 管理者名 | M5: 山口県長門土木建築事務所 | W5: 河野 秀生
B6: トンネル変状展開図 | C6: トンネル全体変状展開図
V18: 注１：本展開図は、見下げた状態で記載すること。 注２：覆工スパン番号は横断目地毎（矢板工法の場合は上半アーチ の横断目地毎)に設定すること。 注３：横断目地の変状は前の覆工スパン番号で計上すること。 注４：１枚に収まらない場合は、複数枚に分けて作成すること。

Sheet 様式D-2-1_003
B3: ■定期点検記録様式 トンネル全体変状展開図 【様式D-2-1】
B4: フリガナ | E4: (ｺﾊﾞﾗﾄﾝﾈﾙ) | J4: 路線名 | M4: 国道491号（長門・俵山道路） | S4: 定期点検実施者 | W4: 株式会社荒谷建設コンサルタント | AC4: 定期点検年月日 | AF4: 45621
B5: 名 称 | E5: 小原トンネル | J5: 管理者名 | M5: 山口県長門土木建築事務所 | W5: 河野 秀生
B6: トンネル変状展開図 | C6: トンネル全体変状展開図
V18: 注１：本展開図は、見下げた状態で記載すること。 注２：覆工スパン番号は横断目地毎（矢板工法の場合は上半アーチ の横断目地毎)に設定すること。 注３：横断目地の変状は前の覆工スパン番号で計上すること。 注４：１枚に収まらない場合は、複数枚に分けて作成すること。

Sheet 様式D-2-1_004
B3: ■定期点検記録様式 トンネル全体変状展開図 【様式D-2-1】
B4: フリガナ | E4: (ｺﾊﾞﾗﾄﾝﾈﾙ) | J4: 路線名 | M4: 国道491号（長門・俵山道路） | S4: 定期点検実施者 | W4: 株式会社荒谷建設コンサルタント | AC4: 定期点検年月日 | AF4: 45621
B5: 名 称 | E5: 小原トンネル | J5: 管理者名 | M5: 山口県長門土木建築事務所 | W5: 河野 秀生
B6: トンネル変状展開図 | C6: トンネル全体変状展開図
V18: 注１：本展開図は、見下げた状態で記載すること。 注２：覆工スパン番号は横断目地毎（矢板工法の場合は上半アーチ の横断目地毎)に設定すること。 注３：横断目地の変状は前の覆工スパン番号で計上すること。 注４：１枚に収まらない場合は、複数枚に分けて作成すること。

Sheet 様式D-2-1_005
B3: ■定期点検記録様式 トンネル全体変状展開図 【様式D-2-1】
B4: フリガナ | E4: (ｺﾊﾞﾗﾄﾝﾈﾙ) | J4: 路線名 | M4: 国道491号（長門・俵山道路） | S4: 定期点検実施者 | W4: 株式会社荒谷建設コンサルタント | AC4: 定期点検年月日 | AF4: 45621
B5: 名 称 | E5: 小原トンネル | J5: 管理者名 | M5: 山口県長門土木建築事務所 | W5: 河野 秀生
B6: トンネル変状展開図 | C6: トンネル全体変状展開図
V18: 注１：本展開図は、見下げた状態で記載すること。 注２：覆工スパン番号は横断目地毎（矢板工法の場合は上半アーチ の横断目地毎)に設定すること。 注３：横断目地の変状は前の覆工スパン番号で計上すること。 注４：１枚に収まらない場合は、複数枚に分けて作成すること。

Sheet 様式D-2-1_006
B3: ■定期点検記録様式 トンネル全体変状展開図 【様式D-2-1】
B4: フリガナ | E4: (ｺﾊﾞﾗﾄﾝﾈﾙ) | J4: 路線名 | M4: 国道491号（長門・俵山道路） | S4: 定期点検実施者 | W4: 株式会社荒谷建設コンサルタント | AC4: 定期点検年月日 | AF4: 45621
B5: 名 称 | E5: 小原トンネル | J5: 管理者名 | M5: 山口県長門土木建築事務所 | W5: 河野 秀生
B6: トンネル変状展開図 | C6: トンネル全体変状展開図
V18: 注１：本展開図は、見下げた状態で記載すること。 注２：覆工スパン番号は横断目地毎（矢板工法の場合は上半アーチ の横断目地毎)に設定すること。 注３：横断目地の変状は前の覆工スパン番号で計上すること。 注４：１枚に収まらない場合は、複数枚に分けて作成すること。

Sheet 様式D-2-1_007
B3: ■定期点検記録様式 トンネル全体変状展開図 【様式D-2-1】
B4: フリガナ | E4: (ｺﾊﾞﾗﾄﾝﾈﾙ) | J4: 路線名 | M4: 国道491号（長門・俵山道路） | S4: 定期点検実施者 | W4: 株式会社荒谷建設コンサルタント | AC4: 定期点検年月日 | AF4: 45621
B5: 名 称 | E5: 小原トンネル | J5: 管理者名 | M5: 山口県長門土木建築事務所 | W5: 河野 秀生
B6: トンネル変状展開図 | C6: トンネル全体変状展開図
V18: 注１：本展開図は、見下げた状態で記載すること。 注２：覆工スパン番号は横断目地毎（矢板工法の場合は上半アーチ の横断目地毎)に設定すること。 注３：横断目地の変状は前の覆工スパン番号で計上すること。 注４：１枚に収まらない場合は、複数枚に分けて作成すること。

Sheet 様式D-2-1_008
B3: ■定期点検記録様式 トンネル全体変状展開図 【様式D-2-1】
B4: フリガナ | E4: (ｺﾊﾞﾗﾄﾝﾈﾙ) | J4: 路線名 | M4: 国道491号（長門・俵山道路） | S4: 定期点検実施者 | W4: 株式会社荒谷建設コンサルタント | AC4: 定期点検年月日 | AF4: 45621
B5: 名 称 | E5: 小原トンネル | J5: 管理者名 | M5: 山口県長門土木建築事務所 | W5: 河野 秀生
B6: トンネル変状展開図 | C6: トンネル全体変状展開図
V18: 注１：本展開図は、見下げた状態で記載すること。 注２：覆工スパン番号は横断目地毎（矢板工法の場合は上半アーチ の横断目地毎)に設定すること。 注３：横断目地の変状は前の覆工スパン番号で計上すること。 注４：１枚に収まらない場合は、複数枚に分けて作成すること。

Sheet 様式D-2-1_009
B3: ■定期点検記録様式 トンネル全体変状展開図 【様式D-2-1】
B4: フリガナ | E4: (ｺﾊﾞﾗﾄﾝﾈﾙ) | J4: 路線名 | M4: 国道491号（長門・俵山道路） | S4: 定期点検実施者 | W4: 株式会社荒谷建設コンサルタント | AC4: 定期点検年月日 | AF4: 45621
B5: 名 称 | E5: 小原トンネル | J5: 管理者名 | M5: 山口県長門土木建築事務所 | W5: 河野 秀生
B6: トンネル変状展開図 | C6: トンネル全体変状展開図
V18: 注１：本展開図は、見下げた状態で記載すること。 注２：覆工スパン番号は横断目地毎（矢板工法の場合は上半アーチ の横断目地毎)に設定すること。 注３：横断目地の変状は前の覆工スパン番号で計上すること。 注４：１枚に収まらない場合は、複数枚に分けて作成すること。

Sheet 様式D-2-1_010
B3: ■定期点検記録様式 トンネル全体変状展開図 【様式D-2-1】
B4: フリガナ | E4: (ｺﾊﾞﾗﾄﾝﾈﾙ) | J4: 路線名 | M4: 国道491号（長門・俵山道路） | S4: 定期点検実施者 | W4: 株式会社荒谷建設コンサルタント | AC4: 定期点検年月日 | AF4: 45621
B5: 名 称 | E5: 小原トンネル | J5: 管理者名 | M5: 山口県長門土木建築事務所 | W5: 河野 秀生
B6: トンネル変状展開図 | C6: トンネル全体変状展開図
V18: 注１：本展開図は、見下げた状態で記載すること。 注２：覆工スパン番号は横断目地毎（矢板工法の場合は上半アーチ の横断目地毎)に設定すること。 注３：横断目地の変状は前の覆工スパン番号で計上すること。 注４：１枚に収まらない場合は、複数枚に分けて作成すること。

Sheet 様式D-2-1_011
B3: ■定期点検記録様式 トンネル全体変状展開図 【様式D-2-1】
B4: フリガナ | E4: (ｺﾊﾞﾗﾄﾝﾈﾙ) | J4: 路線名 | M4: 国道491号（長門・俵山道路） | S4: 定期点検実施者 | W4: 株式会社荒谷建設コンサルタント | AC4: 定期点検年月日 | AF4: 45621
B5: 名 称 | E5: 小原トンネル | J5: 管理者名 | M5: 山口県長門土木建築事務所 | W5: 河野 秀生
B6: トンネル変状展開図 | C6: トンネル全体変状展開図
V18: 注１：本展開図は、見下げた状態で記載すること。 注２：覆工スパン番号は横断目地毎（矢板工法の場合は上半アーチ の横断目地毎)に設定すること。 注３：横断目地の変状は前の覆工スパン番号で計上すること。 注４：１枚に収まらない場合は、複数枚に分けて作成すること。

Sheet 様式D-2-1_012
B3: ■定期点検記録様式 トンネル全体変状展開図 【様式D-2-1】
B4: フリガナ | E4: (ｺﾊﾞﾗﾄﾝﾈﾙ) | J4: 路線名 | M4: 国道491号（長門・俵山道路） | S4: 定期点検実施者 | W4: 株式会社荒谷建設コンサルタント | AC4: 定期点検年月日 | AF4: 45621
B5: 名 称 | E5: 小原トンネル | J5: 管理者名 | M5: 山口県長門土木建築事務所 | W5: 河野 秀生
B6: トンネル変状展開図 | C6: トンネル全体変状展開図
V18: 注１：本展開図は、見下げた状態で記載すること。 注２：覆工スパン番号は横断目地毎（矢板工法の場合は上半アーチ の横断目地毎)に設定すること。 注３：横断目地の変状は前の覆工スパン番号で計上すること。 注４：１枚に収まらない場合は、複数枚に分けて作成すること。

Sheet 様式D-2-1_013
B3: ■定期点検記録様式 トンネル全体変状展開図 【様式D-2-1】
B4: フリガナ | E4: (ｺﾊﾞﾗﾄﾝﾈﾙ) | J4: 路線名 | M4: 国道491号（長門・俵山道路） | S4: 定期点検実施者 | W4: 株式会社荒谷建設コンサルタント | AC4: 定期点検年月日 | AF4: 45621
B5: 名 称 | E5: 小原トンネル | J5: 管理者名 | M5: 山口県長門土木建築事務所 | W5: 河野 秀生
B6: トンネル変状展開図 | C6: トンネル全体変状展開図
V18: 注１：本展開図は、見下げた状態で記載すること。 注２：覆工スパン番号は横断目地毎（矢板工法の場合は上半アーチ の横断目地毎)に設定すること。 注３：横断目地の変状は前の覆工スパン番号で計上すること。 注４：１枚に収まらない場合は、複数枚に分けて作成すること。

Sheet 様式D-2-1_014
B3: ■定期点検記録様式 トンネル全体変状展開図 【様式D-2-1】
B4: フリガナ | E4: (ｺﾊﾞﾗﾄﾝﾈﾙ) | J4: 路線名 | M4: 国道491号（長門・俵山道路） | S4: 定期点検実施者 | W4: 株式会社荒谷建設コンサルタント | AC4: 定期点検年月日 | AF4: 45621
B5: 名 称 | E5: 小原トンネル | J5: 管理者名 | M5: 山口県長門土木建築事務所 | W5: 河野 秀生
B6: トンネル変状展開図 | C6: トンネル全体変状展開図
V18: 注１：本展開図は、見下げた状態で記載すること。 注２：覆工スパン番号は横断目地毎（矢板工法の場合は上半アーチ の横断目地毎)に設定すること。 注３：横断目地の変状は前の覆工スパン番号で計上すること。 注４：１枚に収まらない場合は、複数枚に分けて作成すること。

Sheet 様式D-2-1_015
B3: ■定期点検記録様式 トンネル全体変状展開図 【様式D-2-1】
B4: フリガナ | E4: (ｺﾊﾞﾗﾄﾝﾈﾙ) | J4: 路線名 | M4: 国道491号（長門・俵山道路） | S4: 定期点検実施者 | W4: 株式会社荒谷建設コンサルタント | AC4: 定期点検年月日 | AF4: 45621
B5: 名 称 | E5: 小原トンネル | J5: 管理者名 | M5: 山口県長門土木建築事務所 | W5: 河野 秀生
B6: トンネル変状展開図 | C6: トンネル全体変状展開図
V18: 注１：本展開図は、見下げた状態で記載すること。 注２：覆工スパン番号は横断目地毎（矢板工法の場合は上半アーチ の横断目地毎)に設定すること。 注３：横断目地の変状は前の覆工スパン番号で計上すること。 注４：１枚に収まらない場合は、複数枚に分けて作成すること。

Sheet 様式D-2-1_016
B3: ■定期点検記録様式 トンネル全体変状展開図 【様式D-2-1】
B4: フリガナ | E4: (ｺﾊﾞﾗﾄﾝﾈﾙ) | J4: 路線名 | M4: 国道491号（長門・俵山道路） | S4: 定期点検実施者 | W4: 株式会社荒谷建設コンサルタント | AC4: 定期点検年月日 | AF4: 45621
B5: 名 称 | E5: 小原トンネル | J5: 管理者名 | M5: 山口県長門土木建築事務所 | W5: 河野 秀生
B6: トンネル変状展開図 | C6: トンネル全体変状展開図
V18: 注１：本展開図は、見下げた状態で記載すること。 注２：覆工スパン番号は横断目地毎（矢板工法の場合は上半アーチ の横断目地毎)に設定すること。 注３：横断目地の変状は前の覆工スパン番号で計上すること。 注４：１枚に収まらない場合は、複数枚に分けて作成すること。

Sheet 様式D-2-1´_001
B3: ■定期点検記録様式 トンネル全体変状展開図（機器の活用時） 【様式D-2-1’】
B4: フリガナ | E4: (ｺﾊﾞﾗﾄﾝﾈﾙ) | J4: 路線名 | M4: 国道491号（長門・俵山道路） | S4: 定期点検実施者 | W4: 株式会社荒谷建設コンサルタント | AC4: 定期点検年月日 | AF4: 45621
B5: 名 称 | E5: 小原トンネル | J5: 管理者名 | M5: 山口県長門土木建築事務所 | W5: 河野 秀生
B6: トンネル変状展開図 | C6: トンネル全体変状展開図
V18: 注１：本展開図は、見下げた状態で記載すること。 注２：覆工スパン番号は横断目地毎（矢板工法の場合は上半アーチ の横断目地毎)に設定すること。 注３：横断目地の変状は前の覆工スパン番号で計上すること。 注４：１枚に収まらない場合は、複数枚に分けて作成すること。

Sheet 様式D-2-1´_002
B3: ■定期点検記録様式 トンネル全体変状展開図（機器の活用時） 【様式D-2-1’】
B4: フリガナ | E4: (ｺﾊﾞﾗﾄﾝﾈﾙ) | J4: 路線名 | M4: 国道491号（長門・俵山道路） | S4: 定期点検実施者 | W4: 株式会社荒谷建設コンサルタント | AC4: 定期点検年月日 | AF4: 45621
B5: 名 称 | E5: 小原トンネル | J5: 管理者名 | M5: 山口県長門土木建築事務所 | W5: 河野 秀生
B6: トンネル変状展開図 | C6: トンネル全体変状展開図
V18: 注１：本展開図は、見下げた状態で記載すること。 注２：覆工スパン番号は横断目地毎（矢板工法の場合は上半アーチ の横断目地毎)に設定すること。 注３：横断目地の変状は前の覆工スパン番号で計上すること。 注４：１枚に収まらない場合は、複数枚に分けて作成すること。

Sheet 様式D-2-1´_003
B3: ■定期点検記録様式 トンネル全体変状展開図（機器の活用時） 【様式D-2-1’】
B4: フリガナ | E4: (ｺﾊﾞﾗﾄﾝﾈﾙ) | J4: 路線名 | M4: 国道491号（長門・俵山道路） | S4: 定期点検実施者 | W4: 株式会社荒谷建設コンサルタント | AC4: 定期点検年月日 | AF4: 45621
B5: 名 称 | E5: 小原トンネル | J5: 管理者名 | M5: 山口県長門土木建築事務所 | W5: 河野 秀生
B6: トンネル変状展開図 | C6: トンネル全体変状展開図
V18: 注１：本展開図は、見下げた状態で記載すること。 注２：覆工スパン番号は横断目地毎（矢板工法の場合は上半アーチ の横断目地毎)に設定すること。 注３：横断目地の変状は前の覆工スパン番号で計上すること。 注４：１枚に収まらない場合は、複数枚に分けて作成すること。

Sheet 様式D-2-1´_004
B3: ■定期点検記録様式 トンネル全体変状展開図（機器の活用時） 【様式D-2-1’】
B4: フリガナ | E4: (ｺﾊﾞﾗﾄﾝﾈﾙ) | J4: 路線名 | M4: 国道491号（長門・俵山道路） | S4: 定期点検実施者 | W4: 株式会社荒谷建設コンサルタント | AC4: 定期点検年月日 | AF4: 45621
B5: 名 称 | E5: 小原トンネル | J5: 管理者名 | M5: 山口県長門土木建築事務所 | W5: 河野 秀生
B6: トンネル変状展開図 | C6: トンネル全体変状展開図
V18: 注１：本展開図は、見下げた状態で記載すること。 注２：覆工スパン番号は横断目地毎（矢板工法の場合は上半アーチ の横断目地毎)に設定すること。 注３：横断目地の変状は前の覆工スパン番号で計上すること。 注４：１枚に収まらない場合は、複数枚に分けて作成すること。

Sheet 様式D-2-1´_005
B3: ■定期点検記録様式 トンネル全体変状展開図（機器の活用時） 【様式D-2-1’】
B4: フリガナ | E4: (ｺﾊﾞﾗﾄﾝﾈﾙ) | J4: 路線名 | M4: 国道491号（長門・俵山道路） | S4: 定期点検実施者 | W4: 株式会社荒谷建設コンサルタント | AC4: 定期点検年月日 | AF4: 45621
B5: 名 称 | E5: 小原トンネル | J5: 管理者名 | M5: 山口県長門土木建築事務所 | W5: 河野 秀生
B6: トンネル変状展開図 | C6: トンネル全体変状展開図
V18: 注１：本展開図は、見下げた状態で記載すること。 注２：覆工スパン番号は横断目地毎（矢板工法の場合は上半アーチ の横断目地毎)に設定すること。 注３：横断目地の変状は前の覆工スパン番号で計上すること。 注４：１枚に収まらない場合は、複数枚に分けて作成すること。

Sheet 様式D-2-1´_006
B3: ■定期点検記録様式 トンネル全体変状展開図（機器の活用時） 【様式D-2-1’】
B4: フリガナ | E4: (ｺﾊﾞﾗﾄﾝﾈﾙ) | J4: 路線名 | M4: 国道491号（長門・俵山道路） | S4: 定期点検実施者 | W4: 株式会社荒谷建設コンサルタント | AC4: 定期点検年月日 | AF4: 45621
B5: 名 称 | E5: 小原トンネル | J5: 管理者名 | M5: 山口県長門土木建築事務所 | W5: 河野 秀生
B6: トンネル変状展開図 | C6: トンネル全体変状展開図
V18: 注１：本展開図は、見下げた状態で記載すること。 注２：覆工スパン番号は横断目地毎（矢板工法の場合は上半アーチ の横断目地毎)に設定すること。 注３：横断目地の変状は前の覆工スパン番号で計上すること。 注４：１枚に収まらない場合は、複数枚に分けて作成すること。

Sheet 様式D-2-1´_007
B3: ■定期点検記録様式 トンネル全体変状展開図（機器の活用時） 【様式D-2-1’】
B4: フリガナ | E4: (ｺﾊﾞﾗﾄﾝﾈﾙ) | J4: 路線名 | M4: 国道491号（長門・俵山道路） | S4: 定期点検実施者 | W4: 株式会社荒谷建設コンサルタント | AC4: 定期点検年月日 | AF4: 45621
B5: 名 称 | E5: 小原トンネル | J5: 管理者名 | M5: 山口県長門土木建築事務所 | W5: 河野 秀生
B6: トンネル変状展開図 | C6: トンネル全体変状展開図
V18: 注１：本展開図は、見下げた状態で記載すること。 注２：覆工スパン番号は横断目地毎（矢板工法の場合は上半アーチ の横断目地毎)に設定すること。 注３：横断目地の変状は前の覆工スパン番号で計上すること。 注４：１枚に収まらない場合は、複数枚に分けて作成すること。

Sheet 様式D-2-1´_008
B3: ■定期点検記録様式 トンネル全体変状展開図（機器の活用時） 【様式D-2-1’】
B4: フリガナ | E4: (ｺﾊﾞﾗﾄﾝﾈﾙ) | J4: 路線名 | M4: 国道491号（長門・俵山道路） | S4: 定期点検実施者 | W4: 株式会社荒谷建設コンサルタント | AC4: 定期点検年月日 | AF4: 45621
B5: 名 称 | E5: 小原トンネル | J5: 管理者名 | M5: 山口県長門土木建築事務所 | W5: 河野 秀生
B6: トンネル変状展開図 | C6: トンネル全体変状展開図
V18: 注１：本展開図は、見下げた状態で記載すること。 注２：覆工スパン番号は横断目地毎（矢板工法の場合は上半アーチ の横断目地毎)に設定すること。 注３：横断目地の変状は前の覆工スパン番号で計上すること。 注４：１枚に収まらない場合は、複数枚に分けて作成すること。

Sheet 様式D-2-1´_009
B3: ■定期点検記録様式 トンネル全体変状展開図（機器の活用時） 【様式D-2-1’】
B4: フリガナ | E4: (ｺﾊﾞﾗﾄﾝﾈﾙ) | J4: 路線名 | M4: 国道491号（長門・俵山道路） | S4: 定期点検実施者 | W4: 株式会社荒谷建設コンサルタント | AC4: 定期点検年月日 | AF4: 45621
B5: 名 称 | E5: 小原トンネル | J5: 管理者名 | M5: 山口県長門土木建築事務所 | W5: 河野 秀生
B6: トンネル変状展開図 | C6: トンネル全体変状展開図
V18: 注１：本展開図は、見下げた状態で記載すること。 注２：覆工スパン番号は横断目地毎（矢板工法の場合は上半アーチ の横断目地毎)に設定すること。 注３：横断目地の変状は前の覆工スパン番号で計上すること。 注４：１枚に収まらない場合は、複数枚に分けて作成すること。

Sheet 様式D-2-1´_010
B3: ■定期点検記録様式 トンネル全体変状展開図（機器の活用時） 【様式D-2-1’】
B4: フリガナ | E4: (ｺﾊﾞﾗﾄﾝﾈﾙ) | J4: 路線名 | M4: 国道491号（長門・俵山道路） | S4: 定期点検実施者 | W4: 株式会社荒谷建設コンサルタント | AC4: 定期点検年月日 | AF4: 45621
B5: 名 称 | E5: 小原トンネル | J5: 管理者名 | M5: 山口県長門土木建築事務所 | W5: 河野 秀生
B6: トンネル変状展開図 | C6: トンネル全体変状展開図
V18: 注１：本展開図は、見下げた状態で記載すること。 注２：覆工スパン番号は横断目地毎（矢板工法の場合は上半アーチ の横断目地毎)に設定すること。 注３：横断目地の変状は前の覆工スパン番号で計上すること。 注４：１枚に収まらない場合は、複数枚に分けて作成すること。

Sheet 様式D-2-1´_011
B3: ■定期点検記録様式 トンネル全体変状展開図（機器の活用時） 【様式D-2-1’】
B4: フリガナ | E4: (ｺﾊﾞﾗﾄﾝﾈﾙ) | J4: 路線名 | M4: 国道491号（長門・俵山道路） | S4: 定期点検実施者 | W4: 株式会社荒谷建設コンサルタント | AC4: 定期点検年月日 | AF4: 45621
B5: 名 称 | E5: 小原トンネル | J5: 管理者名 | M5: 山口県長門土木建築事務所 | W5: 河野 秀生
B6: トンネル変状展開図 | C6: トンネル全体変状展開図
V18: 注１：本展開図は、見下げた状態で記載すること。 注２：覆工スパン番号は横断目地毎（矢板工法の場合は上半アーチ の横断目地毎)に設定すること。 注３：横断目地の変状は前の覆工スパン番号で計上すること。 注４：１枚に収まらない場合は、複数枚に分けて作成すること。

Sheet 様式D-2-1´_012
B3: ■定期点検記録様式 トンネル全体変状展開図（機器の活用時） 【様式D-2-1’】
B4: フリガナ | E4: (ｺﾊﾞﾗﾄﾝﾈﾙ) | J4: 路線名 | M4: 国道491号（長門・俵山道路） | S4: 定期点検実施者 | W4: 株式会社荒谷建設コンサルタント | AC4: 定期点検年月日 | AF4: 45621
B5: 名 称 | E5: 小原トンネル | J5: 管理者名 | M5: 山口県長門土木建築事務所 | W5: 河野 秀生
B6: トンネル変状展開図 | C6: トンネル全体変状展開図
V18: 注１：本展開図は、見下げた状態で記載すること。 注２：覆工スパン番号は横断目地毎（矢板工法の場合は上半アーチ の横断目地毎)に設定すること。 注３：横断目地の変状は前の覆工スパン番号で計上すること。 注４：１枚に収まらない場合は、複数枚に分けて作成すること。

Sheet 様式D-2-1´_013
B3: ■定期点検記録様式 トンネル全体変状展開図（機器の活用時） 【様式D-2-1’】
B4: フリガナ | E4: (ｺﾊﾞﾗﾄﾝﾈﾙ) | J4: 路線名 | M4: 国道491号（長門・俵山道路） | S4: 定期点検実施者 | W4: 株式会社荒谷建設コンサルタント | AC4: 定期点検年月日 | AF4: 45621
B5: 名 称 | E5: 小原トンネル | J5: 管理者名 | M5: 山口県長門土木建築事務所 | W5: 河野 秀生
B6: トンネル変状展開図 | C6: トンネル全体変状展開図
V18: 注１：本展開図は、見下げた状態で記載すること。 注２：覆工スパン番号は横断目地毎（矢板工法の場合は上半アーチ の横断目地毎)に設定すること。 注３：横断目地の変状は前の覆工スパン番号で計上すること。 注４：１枚に収まらない場合は、複数枚に分けて作成すること。

Sheet 様式D-2-1´_014
B3: ■定期点検記録様式 トンネル全体変状展開図（機器の活用時） 【様式D-2-1’】
B4: フリガナ | E4: (ｺﾊﾞﾗﾄﾝﾈﾙ) | J4: 路線名 | M4: 国道491号（長門・俵山道路） | S4: 定期点検実施者 | W4: 株式会社荒谷建設コンサルタント | AC4: 定期点検年月日 | AF4: 45621
B5: 名 称 | E5: 小原トンネル | J5: 管理者名 | M5: 山口県長門土木建築事務所 | W5: 河野 秀生
B6: トンネル変状展開図 | C6: トンネル全体変状展開図
V18: 注１：本展開図は、見下げた状態で記載すること。 注２：覆工スパン番号は横断目地毎（矢板工法の場合は上半アーチ の横断目地毎)に設定すること。 注３：横断目地の変状は前の覆工スパン番号で計上すること。 注４：１枚に収まらない場合は、複数枚に分けて作成すること。

Sheet 様式D-2-1´_015
B3: ■定期点検記録様式 トンネル全体変状展開図（機器の活用時） 【様式D-2-1’】
B4: フリガナ | E4: (ｺﾊﾞﾗﾄﾝﾈﾙ) | J4: 路線名 | M4: 国道491号（長門・俵山道路） | S4: 定期点検実施者 | W4: 株式会社荒谷建設コンサルタント | AC4: 定期点検年月日 | AF4: 45621
B5: 名 称 | E5: 小原トンネル | J5: 管理者名 | M5: 山口県長門土木建築事務所 | W5: 河野 秀生
B6: トンネル変状展開図 | C6: トンネル全体変状展開図
V18: 注１：本展開図は、見下げた状態で記載すること。 注２：覆工スパン番号は横断目地毎（矢板工法の場合は上半アーチ の横断目地毎)に設定すること。 注３：横断目地の変状は前の覆工スパン番号で計上すること。 注４：１枚に収まらない場合は、複数枚に分けて作成すること。

Sheet 様式D-2-1´_016
B3: ■定期点検記録様式 トンネル全体変状展開図（機器の活用時） 【様式D-2-1’】
B4: フリガナ | E4: (ｺﾊﾞﾗﾄﾝﾈﾙ) | J4: 路線名 | M4: 国道491号（長門・俵山道路） | S4: 定期点検実施者 | W4: 株式会社荒谷建設コンサルタント | AC4: 定期点検年月日 | AF4: 45621
B5: 名 称 | E5: 小原トンネル | J5: 管理者名 | M5: 山口県長門土木建築事務所 | W5: 河野 秀生
B6: トンネル変状展開図 | C6: トンネル全体変状展開図
V18: 注１：本展開図は、見下げた状態で記載すること。 注２：覆工スパン番号は横断目地毎（矢板工法の場合は上半アーチ の横断目地毎)に設定すること。 注３：横断目地の変状は前の覆工スパン番号で計上すること。 注４：１枚に収まらない場合は、複数枚に分けて作成すること。

Sheet 様式D-2-1´_017
B3: ■定期点検記録様式 トンネル全体変状展開図（機器の活用時） 【様式D-2-1’】
B4: フリガナ | E4: (ｺﾊﾞﾗﾄﾝﾈﾙ) | J4: 路線名 | M4: 国道491号（長門・俵山道路） | S4: 定期点検実施者 | W4: 株式会社荒谷建設コンサルタント | AC4: 定期点検年月日 | AF4: 45621
B5: 名 称 | E5: 小原トンネル | J5: 管理者名 | M5: 山口県長門土木建築事務所 | W5: 河野 秀生
B6: トンネル変状展開図 | C6: トンネル全体変状展開図
V18: 注１：本展開図は、見下げた状態で記載すること。 注２：覆工スパン番号は横断目地毎（矢板工法の場合は上半アーチ の横断目地毎)に設定すること。 注３：横断目地の変状は前の覆工スパン番号で計上すること。 注４：１枚に収まらない場合は、複数枚に分けて作成すること。

Sheet 様式D-2-1´_018
B3: ■定期点検記録様式 トンネル全体変状展開図（機器の活用時） 【様式D-2-1’】
B4: フリガナ | E4: (ｺﾊﾞﾗﾄﾝﾈﾙ) | J4: 路線名 | M4: 国道491号（長門・俵山道路） | S4: 定期点検実施者 | W4: 株式会社荒谷建設コンサルタント | AC4: 定期点検年月日 | AF4: 45621
B5: 名 称 | E5: 小原トンネル | J5: 管理者名 | M5: 山口県長門土木建築事務所 | W5: 河野 秀生
B6: トンネル変状展開図 | C6: トンネル全体変状展開図
V18: 注１：本展開図は、見下げた状態で記載すること。 注２：覆工スパン番号は横断目地毎（矢板工法の場合は上半アーチ の横断目地毎)に設定すること。 注３：横断目地の変状は前の覆工スパン番号で計上すること。 注４：１枚に収まらない場合は、複数枚に分けて作成すること。

Sheet 様式D-2-1´_019
B3: ■定期点検記録様式 トンネル全体変状展開図（機器の活用時） 【様式D-2-1’】
B4: フリガナ | E4: (ｺﾊﾞﾗﾄﾝﾈﾙ) | J4: 路線名 | M4: 国道491号（長門・俵山道路） | S4: 定期点検実施者 | W4: 株式会社荒谷建設コンサルタント | AC4: 定期点検年月日 | AF4: 45621
B5: 名 称 | E5: 小原トンネル | J5: 管理者名 | M5: 山口県長門土木建築事務所 | W5: 河野 秀生
B6: トンネル変状展開図 | C6: トンネル全体変状展開図
V18: 注１：本展開図は、見下げた状態で記載すること。 注２：覆工スパン番号は横断目地毎（矢板工法の場合は上半アーチ の横断目地毎)に設定すること。 注３：横断目地の変状は前の覆工スパン番号で計上すること。 注４：１枚に収まらない場合は、複数枚に分けて作成すること。

Sheet 様式D-2-1´_020
B3: ■定期点検記録様式 トンネル全体変状展開図（機器の活用時） 【様式D-2-1’】
B4: フリガナ | E4: (ｺﾊﾞﾗﾄﾝﾈﾙ) | J4: 路線名 | M4: 国道491号（長門・俵山道路） | S4: 定期点検実施者 | W4: 株式会社荒谷建設コンサルタント | AC4: 定期点検年月日 | AF4: 45621
B5: 名 称 | E5: 小原トンネル | J5: 管理者名 | M5: 山口県長門土木建築事務所 | W5: 河野 秀生
B6: トンネル変状展開図 | C6: トンネル全体変状展開図
V18: 注１：本展開図は、見下げた状態で記載すること。 注２：覆工スパン番号は横断目地毎（矢板工法の場合は上半アーチ の横断目地毎)に設定すること。 注３：横断目地の変状は前の覆工スパン番号で計上すること。 注４：１枚に収まらない場合は、複数枚に分けて作成すること。

Sheet 様式D-2-1´_021
B3: ■定期点検記録様式 トンネル全体変状展開図（機器の活用時） 【様式D-2-1’】
B4: フリガナ | E4: (ｺﾊﾞﾗﾄﾝﾈﾙ) | J4: 路線名 | M4: 国道491号（長門・俵山道路） | S4: 定期点検実施者 | W4: 株式会社荒谷建設コンサルタント | AC4: 定期点検年月日 | AF4: 45621
B5: 名 称 | E5: 小原トンネル | J5: 管理者名 | M5: 山口県長門土木建築事務所 | W5: 河野 秀生
B6: トンネル変状展開図 | C6: トンネル全体変状展開図
V18: 注１：本展開図は、見下げた状態で記載すること。 注２：覆工スパン番号は横断目地毎（矢板工法の場合は上半アーチ の横断目地毎)に設定すること。 注３：横断目地の変状は前の覆工スパン番号で計上すること。 注４：１枚に収まらない場合は、複数枚に分けて作成すること。

Sheet 様式D-2-1´_022
B3: ■定期点検記録様式 トンネル全体変状展開図（機器の活用時） 【様式D-2-1’】
B4: フリガナ | E4: (ｺﾊﾞﾗﾄﾝﾈﾙ) | J4: 路線名 | M4: 国道491号（長門・俵山道路） | S4: 定期点検実施者 | W4: 株式会社荒谷建設コンサルタント | AC4: 定期点検年月日 | AF4: 45621
B5: 名 称 | E5: 小原トンネル | J5: 管理者名 | M5: 山口県長門土木建築事務所 | W5: 河野 秀生
B6: トンネル変状展開図 | C6: トンネル全体変状展開図
V18: 注１：本展開図は、見下げた状態で記載すること。 注２：覆工スパン番号は横断目地毎（矢板工法の場合は上半アーチ の横断目地毎)に設定すること。 注３：横断目地の変状は前の覆工スパン番号で計上すること。 注４：１枚に収まらない場合は、複数枚に分けて作成すること。

Sheet 様式D-2-1´_023
B3: ■定期点検記録様式 トンネル全体変状展開図（機器の活用時） 【様式D-2-1’】
B4: フリガナ | E4: (ｺﾊﾞﾗﾄﾝﾈﾙ) | J4: 路線名 | M4: 国道491号（長門・俵山道路） | S4: 定期点検実施者 | W4: 株式会社荒谷建設コンサルタント | AC4: 定期点検年月日 | AF4: 45621
B5: 名 称 | E5: 小原トンネル | J5: 管理者名 | M5: 山口県長門土木建築事務所 | W5: 河野 秀生
B6: トンネル変状展開図 | C6: トンネル全体変状展開図
V18: 注１：本展開図は、見下げた状態で記載すること。 注２：覆工スパン番号は横断目地毎（矢板工法の場合は上半アーチ の横断目地毎)に設定すること。 注３：横断目地の変状は前の覆工スパン番号で計上すること。 注４：１枚に収まらない場合は、複数枚に分けて作成すること。

Sheet 様式D-2-1´_024
B3: ■定期点検記録様式 トンネル全体変状展開図（機器の活用時） 【様式D-2-1’】
B4: フリガナ | E4: (ｺﾊﾞﾗﾄﾝﾈﾙ) | J4: 路線名 | M4: 国道491号（長門・俵山道路） | S4: 定期点検実施者 | W4: 株式会社荒谷建設コンサルタント | AC4: 定期点検年月日 | AF4: 45621
B5: 名 称 | E5: 小原トンネル | J5: 管理者名 | M5: 山口県長門土木建築事務所 | W5: 河野 秀生
B6: トンネル変状展開図 | C6: トンネル全体変状展開図
V18: 注１：本展開図は、見下げた状態で記載すること。 注２：覆工スパン番号は横断目地毎（矢板工法の場合は上半アーチ の横断目地毎)に設定すること。 注３：横断目地の変状は前の覆工スパン番号で計上すること。 注４：１枚に収まらない場合は、複数枚に分けて作成すること。

Sheet 様式D-3_PS
AU1: 様式F用→ | AV1: 覆工スパン | AY1: 変 状 数 | BK1: 変 状 規 模
AV2: 番号 | AW2: 延長 （ｍ） | AX2: 健全性の診断の 区分 | AY2: 対策区分の判定 | BK2: 覆工スパン長（ｍ） | BO2: 変状の発生範囲の規模（㎡）
B3: ■定期点検記録様式 覆工スパン別変状詳細展開図 【様式D-3】 | AY3: 外力 | BC3: 材質劣化 | BG3: 漏水 | BK3: 外力 注2 | BO3: 材質劣化 | BS3: 漏水
B4: フリガナ | E4: (ｺﾊﾞﾗﾄﾝﾈﾙ) | K4: 路線名 | N4: 国道491号（長門・俵山道路） | T4: 定期点検業者 | Y4: 株式会社荒谷建設コンサルタント | AG4: 定期点検年月日 | AK4: 45621 | AY4: Ⅳ | AZ4: Ⅲ | BA4: Ⅱa | BB4: Ⅱb | BC4: Ⅳ | BD4: Ⅲ | BE4: Ⅱa | BF4: Ⅱb | BG4: Ⅳ | BH4: Ⅲ | BI4: Ⅱa | BJ4: Ⅱb | BK4: Ⅳ | BL4: Ⅲ | BM4: Ⅱa | BN4: Ⅱb | BO4: Ⅳ | BP4: Ⅲ | BQ4: Ⅱa | BR4: Ⅱb | BS4: Ⅳ | BT4: Ⅲ | BU4: Ⅱa | BV4: Ⅱb
B5: 名 称 | E5: 小原トンネル | K5: 管理者名 | N5: 山口県長門土木建築事務所 | Y5: 河野 秀生 | AV5: =N7 -> PS | AW5: =R7 -> 0 | AX5: =AM35 -> Ⅱ | AY5: =Y37 -> 0 | AZ5: =Z37 -> 0 | BA5: =AA37 -> 0 | BB5: =AB37 -> 0 | BC5: =AC37 -> 0 | BD5: =AD37 -> 0 | BE5: =AE37 -> 0 | BF5: =AF37 -> 1 | ... BJ5: =AJ37 -> 0 | BK5: =IF(Y37>0,R7,"") | BL5: =IF(Y37>0,"",IF(Z37>0,R7,"")) | BM5: =IF(Y37+Z37>0,"",IF(AA37>0,R7,"")) | BN5: =IF(Y37+Z37+AA37>0,"",IF(AB37>0,R7,"")) | BO5: =AC35 -> 0 | BP5: =AD35 -> 0 | BQ5: =AE35 -> 0 | BR5: =AF35 -> 0.0025 | BS5: =AG35 -> 0 | BT5: =AH35 -> 0 | BU5: =AI35 -> 0 | BV5: =AJ35 -> 0
B6: スパン別変状展開図 | K6: 【健全性判定集計表】
K7: スパン番号 | N7: PS | P7: スパン長 | R7: 0 | U7: 前回定期点検時の判定 | W7: 応急措置前の判定 | Y7: 対策区分毎の 変状の有無 | AC7: 対策区分毎の変状の発生範囲の規模(㎡) | AK7: 備考注2
K8: 変状番号 | L8: 対象箇所 | N8: 部位区分 | P8: 変状区分 | R8: 変状種類
Y9: 外力注1 | AC9: 材質劣化注1 | AG9: 漏水注1
Y10: Ⅳ | Z10: Ⅲ | AA10: Ⅱa | AB10: Ⅱb | AC10: Ⅳ | AD10: Ⅲ | AE10: Ⅱa | AF10: Ⅱb | AG10: Ⅳ | AH10: Ⅲ | AI10: Ⅱa | AJ10: Ⅱb
K11: 1 | L11: 覆工 | N11: 面壁・妻壁等 | P11: 材質劣化 | R11: 鋼材腐食 | U11: Ⅱa | AF11: 0.0025 | AQ11: =IF(P11="材質劣化",2,IF(P11="漏水",3,1)) -> 2
AQ12: =IF(P12="材質劣化",2,IF(P12="漏水",3,1)) -> 1
AQ13: =IF(P13="材質劣化",2,IF(P13="漏水",3,1)) -> 1
AQ14: =IF(P14="材質劣化",2,IF(P14="漏水",3,1)) -> 1
AQ15: =IF(P15="材質劣化",2,IF(P15="漏水",3,1)) -> 1
AQ16: =IF(P16="材質劣化",2,IF(P16="漏水",3,1)) -> 1
AQ17: =IF(P17="材質劣化",2,IF(P17="漏水",3,1)) -> 1
AQ18: =IF(P18="材質劣化",2,IF(P18="漏水",3,1)) -> 1
AQ19: =IF(P19="材質劣化",2,IF(P19="漏水",3,1)) -> 1
AQ20: =IF(P20="材質劣化",2,IF(P20="漏水",3,1)) -> 1
AQ21: =IF(P21="材質劣化",2,IF(P21="漏水",3,1)) -> 1
AQ22: =IF(P22="材質劣化",2,IF(P22="漏水",3,1)) -> 1
AQ23: =IF(P23="材質劣化",2,IF(P23="漏水",3,1)) -> 1
... AQ34: =IF(P34="材質劣化",2,IF(P34="漏水",3,1)) -> 1
K35: 集計 判定 診断 | L35: 変状の発生規模合計(㎡) | Y35: － | AC35: =SUM(AC11:AC34) -> 0 | AD35: =SUM(AD11:AD34) -> 0 | AE35: =SUM(AE11:AE34) -> 0 | AF35: =SUM(AF11:AF34) -> 0.0025 | AG35: =SUM(AG11:AG34) -> 0 | AH35: =SUM(AH11:AH34) -> 0 | AI35: =SUM(AI11:AI34) -> 0 | AJ35: =SUM(AJ11:AJ34) -> 0 | AK35: 覆工スパン単位の 健全性の 診断の区分 | AM35: Ⅱ
L36: 対策区分の 判定結果 | O36: 対策区分毎の変状数 | Y36: Ⅳ | Z36: Ⅲ | AA36: Ⅱa | AB36: Ⅱb | AC36: Ⅳ | AD36: Ⅲ | AE36: Ⅱa | AF36: Ⅱb | AG36: Ⅳ | AH36: Ⅲ | AI36: Ⅱa | AJ36: Ⅱb
Y37: =COUNTIF(Y11:Y34,"〇") -> 0 | Z37: =COUNTIF(Z11:Z34,"〇") -> 0 | AA37: =COUNTIF(AA11:AA34,"〇") -> 0 | AB37: =COUNTIF(AB11:AB34,"〇") -> 0 | AC37: =COUNTA(AC11:AC34) -> 0 | AD37: =COUNTA(AD11:AD34) -> 0 | AE37: =COUNTA(AE11:AE34) -> 0 | AF37: =COUNTA(AF11:AF34) -> 1 | AG37: =COUNTA(AG11:AG34) -> 0 | AH37: =COUNTA(AH11:AH34) -> 0 | AI37: =COUNTA(AI11:AI34) -> 0 | AJ37: =COUNTA(AJ11:AJ34) -> 0
K39: 所見
K43: 注1：誤記入防止のため、当該変状区分以外のセルは灰色表示とすること。
K44: 注2：応急措置を実施した場合は、その詳細を備考に記載すること。
K45: 注3：外力は覆工スパン単位、材質劣化、漏水は変状単位とすること。
B46: （以下、印刷不要）
B47: ※1：本シートは作成洩れのないよう、変状が無くても全スパン分を作成すること．また変状展開図は、様式D-2-1、様式D-2-1'と同じものを覆工スパン単位で拡大し掲載すること。
B48: ※2：変状番号は、様式D-1-1で記入した番号と整合させること。
B49: ※3：対策区分毎の変状発生規模は、様式D-1-1に記載した面積を記入すること（ただし外力はスパン単位で評価するため変状の有無の欄には面積でなく○を記入し、備考欄に状況を記入）。
B50: ※4：本様式は覆工スパン毎に作成すること。
B51: ※5：変状数が多い場合は、適時、表の行を増やして覆工スパン毎に1枚のシートに収めること。また、1スパン１シートとし、スパンに合わせてシートを追加すること。
B52: ※6：対策区分毎の変状の発生範囲の規模とは，対策を行う際に参考となる変状の長さや面積であり，変状を包含する長さや面積とする。
B53: ※7：対策範囲を示す発生範囲の規模を面積で記入することが妥当ではない変状は、発生範囲の規模の欄に○を記入するとともに、備考に内容を記入すること。

Sheet 様式D-3_S001
AU1: 様式F用→ | AV1: 覆工スパン | AY1: 変 状 数 | BK1: 変 状 規 模
AV2: 番号 | AW2: 延長 （ｍ） | AX2: 健全性の診断の 区分 | AY2: 対策区分の判定 | BK2: 覆工スパン長（ｍ） | BO2: 変状の発生範囲の規模（㎡）
B3: ■定期点検記録様式 覆工スパン別変状詳細展開図 【様式D-3】 | AY3: 外力 | BC3: 材質劣化 | BG3: 漏水 | BK3: 外力 注2 | BO3: 材質劣化 | BS3: 漏水
B4: フリガナ | E4: (ｺﾊﾞﾗﾄﾝﾈﾙ) | K4: 路線名 | N4: 国道491号（長門・俵山道路） | T4: 定期点検業者 | Y4: 株式会社荒谷建設コンサルタント | AG4: 定期点検年月日 | AK4: 45621 | AY4: Ⅳ | AZ4: Ⅲ | BA4: Ⅱa | BB4: Ⅱb | BC4: Ⅳ | BD4: Ⅲ | BE4: Ⅱa | BF4: Ⅱb | BG4: Ⅳ | BH4: Ⅲ | BI4: Ⅱa | BJ4: Ⅱb | BK4: Ⅳ | BL4: Ⅲ | BM4: Ⅱa | BN4: Ⅱb | BO4: Ⅳ | BP4: Ⅲ | BQ4: Ⅱa | BR4: Ⅱb | BS4: Ⅳ | BT4: Ⅲ | BU4: Ⅱa | BV4: Ⅱb
B5: 名 称 | E5: 小原トンネル | K5: 管理者名 | N5: 山口県長門土木建築事務所 | Y5: 河野 秀生 | AV5: =N7 -> S001 | AW5: =R7 -> 5.1 | AX5: =AM35 -> Ⅱ | AY5: =Y37 -> 0 | AZ5: =Z37 -> 0 | BA5: =AA37 -> 0 | BB5: =AB37 -> 0 | BC5: =AC37 -> 0 | BD5: =AD37 -> 0 | BE5: =AE37 -> 1 | BF5: =AF37 -> 1 | ... BJ5: =AJ37 -> 0 | BK5: =IF(Y37>0,R7,"") | BL5: =IF(Y37>0,"",IF(Z37>0,R7,"")) | BM5: =IF(Y37+Z37>0,"",IF(AA37>0,R7,"")) | BN5: =IF(Y37+Z37+AA37>0,"",IF(AB37>0,R7,"")) | BO5: =AC35 -> 0 | BP5: =AD35 -> 0 | BQ5: =AE35 -> 0.0025 | BR5: =AF35 -> 0.02 | BS5: =AG35 -> 0 | BT5: =AH35 -> 0 | BU5: =AI35 -> 0 | BV5: =AJ35 -> 0
B6: スパン別変状展開図 | K6: 【健全性判定集計表】
K7: スパン番号 | N7: S001 | P7: スパン長 | R7: 5.1 | U7: 前回定期点検時の判定 | W7: 応急措置前の判定 | Y7: 対策区分毎の 変状の有無 | AC7: 対策区分毎の変状の発生範囲の規模(㎡) | AK7: 備考注2
K8: 変状番号 | L8: 対象箇所 | N8: 部位区分 | P8: 変状区分 | R8: 変状種類
Y9: 外力注1 | AC9: 材質劣化注1 | AG9: 漏水注1
Y10: Ⅳ | Z10: Ⅲ | AA10: Ⅱa | AB10: Ⅱb | AC10: Ⅳ | AD10: Ⅲ | AE10: Ⅱa | AF10: Ⅱb | AG10: Ⅳ | AH10: Ⅲ | AI10: Ⅱa | AJ10: Ⅱb
K11: 1 | L11: 覆工 | N11: アーチ（天端） | P11: 材質劣化 | R11: うき・はく離 | U11: Ⅱa | AE11: 0.0025 | AQ11: =IF(P11="材質劣化",2,IF(P11="漏水",3,1)) -> 2
K12: 2 | L12: 覆工 | N12: 横断目地（右側） | P12: 材質劣化 | R12: うき・はく離 | U12: Ⅱb | AF12: 0.02 | AQ12: =IF(P12="材質劣化",2,IF(P12="漏水",3,1)) -> 2
AQ13: =IF(P13="材質劣化",2,IF(P13="漏水",3,1)) -> 1
AQ14: =IF(P14="材質劣化",2,IF(P14="漏水",3,1)) -> 1
AQ15: =IF(P15="材質劣化",2,IF(P15="漏水",3,1)) -> 1
AQ16: =IF(P16="材質劣化",2,IF(P16="漏水",3,1)) -> 1
AQ17: =IF(P17="材質劣化",2,IF(P17="漏水",3,1)) -> 1
AQ18: =IF(P18="材質劣化",2,IF(P18="漏水",3,1)) -> 1
AQ19: =IF(P19="材質劣化",2,IF(P19="漏水",3,1)) -> 1
AQ20: =IF(P20="材質劣化",2,IF(P20="漏水",3,1)) -> 1
AQ21: =IF(P21="材質劣化",2,IF(P21="漏水",3,1)) -> 1
AQ22: =IF(P22="材質劣化",2,IF(P22="漏水",3,1)) -> 1
AQ23: =IF(P23="材質劣化",2,IF(P23="漏水",3,1)) -> 1
AQ24: =IF(P24="材質劣化",2,IF(P24="漏水",3,1)) -> 1
... AQ34: =IF(P34="材質劣化",2,IF(P34="漏水",3,1)) -> 1
K35: 集計 判定 診断 | L35: 変状の発生規模合計(㎡) | Y35: － | AC35: =SUM(AC11:AC34) -> 0 | AD35: =SUM(AD11:AD34) -> 0 | AE35: =SUM(AE11:AE34) -> 0.0025 | AF35: =SUM(AF11:AF34) -> 0.02 | AG35: =SUM(AG11:AG34) -> 0 | AH35: =SUM(AH11:AH34) -> 0 | AI35: =SUM(AI11:AI34) -> 0 | AJ35: =SUM(AJ11:AJ34) -> 0 | AK35: 覆工スパン単位の 健全性の 診断の区分 | AM35: Ⅱ
L36: 対策区分の 判定結果 | O36: 対策区分毎の変状数 | Y36: Ⅳ | Z36: Ⅲ | AA36: Ⅱa | AB36: Ⅱb | AC36: Ⅳ | AD36: Ⅲ | AE36: Ⅱa | AF36: Ⅱb | AG36: Ⅳ | AH36: Ⅲ | AI36: Ⅱa | AJ36: Ⅱb
Y37: =COUNTIF(Y11:Y34,"〇") -> 0 | Z37: =COUNTIF(Z11:Z34,"〇") -> 0 | AA37: =COUNTIF(AA11:AA34,"〇") -> 0 | AB37: =COUNTIF(AB11:AB34,"〇") -> 0 | AC37: =COUNTA(AC11:AC34) -> 0 | AD37: =COUNTA(AD11:AD34) -> 0 | AE37: =COUNTA(AE11:AE34) -> 1 | AF37: =COUNTA(AF11:AF34) -> 1 | AG37: =COUNTA(AG11:AG34) -> 0 | AH37: =COUNTA(AH11:AH34) -> 0 | AI37: =COUNTA(AI11:AI34) -> 0 | AJ37: =COUNTA(AJ11:AJ34) -> 0
K39: 所見
K43: 注1：誤記入防止のため、当該変状区分以外のセルは灰色表示とすること。
K44: 注2：応急措置を実施した場合は、その詳細を備考に記載すること。
K45: 注3：外力は覆工スパン単位、材質劣化、漏水は変状単位とすること。
B46: （以下、印刷不要）
B47: ※1：本シートは作成洩れのないよう、変状が無くても全スパン分を作成すること．また変状展開図は、様式D-2-1、様式D-2-1'と同じものを覆工スパン単位で拡大し掲載すること。
B48: ※2：変状番号は、様式D-1-1で記入した番号と整合させること。
B49: ※3：対策区分毎の変状発生規模は、様式D-1-1に記載した面積を記入すること（ただし外力はスパン単位で評価するため変状の有無の欄には面積でなく○を記入し、備考欄に状況を記入）。
B50: ※4：本様式は覆工スパン毎に作成すること。
B51: ※5：変状数が多い場合は、適時、表の行を増やして覆工スパン毎に1枚のシートに収めること。また、1スパン１シートとし、スパンに合わせてシートを追加すること。
B52: ※6：対策区分毎の変状の発生範囲の規模とは，対策を行う際に参考となる変状の長さや面積であり，変状を包含する長さや面積とする。
B53: ※7：対策範囲を示す発生範囲の規模を面積で記入することが妥当ではない変状は、発生範囲の規模の欄に○を記入するとともに、備考に内容を記入すること。

Sheet 様式D-3_S002
AU1: 様式F用→ | AV1: 覆工スパン | AY1: 変 状 数 | BK1: 変 状 規 模
AV2: 番号 | AW2: 延長 （ｍ） | AX2: 健全性の診断の 区分 | AY2: 対策区分の判定 | BK2: 覆工スパン長（ｍ） | BO2: 変状の発生範囲の規模（㎡）
B3: ■定期点検記録様式 覆工スパン別変状詳細展開図 【様式D-3】 | AY3: 外力 | BC3: 材質劣化 | BG3: 漏水 | BK3: 外力 注2 | BO3: 材質劣化 | BS3: 漏水
B4: フリガナ | E4: (ｺﾊﾞﾗﾄﾝﾈﾙ) | K4: 路線名 | N4: 国道491号（長門・俵山道路） | T4: 定期点検業者 | Y4: 株式会社荒谷建設コンサルタント | AG4: 定期点検年月日 | AK4: 45621 | AY4: Ⅳ | AZ4: Ⅲ | BA4: Ⅱa | BB4: Ⅱb | BC4: Ⅳ | BD4: Ⅲ | BE4: Ⅱa | BF4: Ⅱb | BG4: Ⅳ | BH4: Ⅲ | BI4: Ⅱa | BJ4: Ⅱb | BK4: Ⅳ | BL4: Ⅲ | BM4: Ⅱa | BN4: Ⅱb | BO4: Ⅳ | BP4: Ⅲ | BQ4: Ⅱa | BR4: Ⅱb | BS4: Ⅳ | BT4: Ⅲ | BU4: Ⅱa | BV4: Ⅱb
B5: 名 称 | E5: 小原トンネル | K5: 管理者名 | N5: 山口県長門土木建築事務所 | Y5: 河野 秀生 | AV5: =N7 -> S002 | AW5: =R7 -> 5.9 | AX5: =AM35 -> Ⅰ | AY5: =Y37 -> 0 | AZ5: =Z37 -> 0 | BA5: =AA37 -> 0 | BB5: =AB37 -> 0 | BC5: =AC37 -> 0 | BD5: =AD37 -> 0 | BE5: =AE37 -> 0 | BF5: =AF37 -> 0 | ... BJ5: =AJ37 -> 0 | BK5: =IF(Y37>0,R7,"") | BL5: =IF(Y37>0,"",IF(Z37>0,R7,"")) | BM5: =IF(Y37+Z37>0,"",IF(AA37>0,R7,"")) | BN5: =IF(Y37+Z37+AA37>0,"",IF(AB37>0,R7,"")) | BO5: =AC35 -> 0 | BP5: =AD35 -> 0 | BQ5: =AE35 -> 0 | BR5: =AF35 -> 0 | BS5: =AG35 -> 0 | BT5: =AH35 -> 0 | BU5: =AI35 -> 0 | BV5: =AJ35 -> 0
B6: スパン別変状展開図 | K6: 【健全性判定集計表】
K7: スパン番号 | N7: S002 | P7: スパン長 | R7: 5.9 | U7: 前回定期点検時の判定 | W7: 応急措置前の判定 | Y7: 対策区分毎の 変状の有無 | AC7: 対策区分毎の変状の発生範囲の規模(㎡) | AK7: 備考注2
K8: 変状番号 | L8: 対象箇所 | N8: 部位区分 | P8: 変状区分 | R8: 変状種類
Y9: 外力注1 | AC9: 材質劣化注1 | AG9: 漏水注1
Y10: Ⅳ | Z10: Ⅲ | AA10: Ⅱa | AB10: Ⅱb | AC10: Ⅳ | AD10: Ⅲ | AE10: Ⅱa | AF10: Ⅱb | AG10: Ⅳ | AH10: Ⅲ | AI10: Ⅱa | AJ10: Ⅱb
AQ11: =IF(P11="材質劣化",2,IF(P11="漏水",3,1)) -> 1
AQ12: =IF(P12="材質劣化",2,IF(P12="漏水",3,1)) -> 1
AQ13: =IF(P13="材質劣化",2,IF(P13="漏水",3,1)) -> 1
AQ14: =IF(P14="材質劣化",2,IF(P14="漏水",3,1)) -> 1
AQ15: =IF(P15="材質劣化",2,IF(P15="漏水",3,1)) -> 1
AQ16: =IF(P16="材質劣化",2,IF(P16="漏水",3,1)) -> 1
AQ17: =IF(P17="材質劣化",2,IF(P17="漏水",3,1)) -> 1
AQ18: =IF(P18="材質劣化",2,IF(P18="漏水",3,1)) -> 1
AQ19: =IF(P19="材質劣化",2,IF(P19="漏水",3,1)) -> 1
AQ20: =IF(P20="材質劣化",2,IF(P20="漏水",3,1)) -> 1
AQ21: =IF(P21="材質劣化",2,IF(P21="漏水",3,1)) -> 1
AQ22: =IF(P22="材質劣化",2,IF(P22="漏水",3,1)) -> 1
... AQ34: =IF(P34="材質劣化",2,IF(P34="漏水",3,1)) -> 1
K35: 集計 判定 診断 | L35: 変状の発生規模合計(㎡) | Y35: － | AC35: =SUM(AC11:AC34) -> 0 | AD35: =SUM(AD11:AD34) -> 0 | AE35: =SUM(AE11:AE34) -> 0 | AF35: =SUM(AF11:AF34) -> 0 | AG35: =SUM(AG11:AG34) -> 0 | AH35: =SUM(AH11:AH34) -> 0 | AI35: =SUM(AI11:AI34) -> 0 | AJ35: =SUM(AJ11:AJ34) -> 0 | AK35: 覆工スパン単位の 健全性の 診断の区分 | AM35: Ⅰ
L36: 対策区分の 判定結果 | O36: 対策区分毎の変状数 | Y36: Ⅳ | Z36: Ⅲ | AA36: Ⅱa | AB36: Ⅱb | AC36: Ⅳ | AD36: Ⅲ | AE36: Ⅱa | AF36: Ⅱb | AG36: Ⅳ | AH36: Ⅲ | AI36: Ⅱa | AJ36: Ⅱb
Y37: =COUNTIF(Y11:Y34,"〇") -> 0 | Z37: =COUNTIF(Z11:Z34,"〇") -> 0 | AA37: =COUNTIF(AA11:AA34,"〇") -> 0 | AB37: =COUNTIF(AB11:AB34,"〇") -> 0 | AC37: =COUNTA(AC11:AC34) -> 0 | AD37: =COUNTA(AD11:AD34) -> 0 | AE37: =COUNTA(AE11:AE34) -> 0 | AF37: =COUNTA(AF11:AF34) -> 0 | AG37: =COUNTA(AG11:AG34) -> 0 | AH37: =COUNTA(AH11:AH34) -> 0 | AI37: =COUNTA(AI11:AI34) -> 0 | AJ37: =COUNTA(AJ11:AJ34) -> 0
K39: 所見
K43: 注1：誤記入防止のため、当該変状区分以外のセルは灰色表示とすること。
K44: 注2：応急措置を実施した場合は、その詳細を備考に記載すること。
K45: 注3：外力は覆工スパン単位、材質劣化、漏水は変状単位とすること。
B46: （以下、印刷不要）
B47: ※1：本シートは作成洩れのないよう、変状が無くても全スパン分を作成すること．また変状展開図は、様式D-2-1、様式D-2-1'と同じものを覆工スパン単位で拡大し掲載すること。
B48: ※2：変状番号は、様式D-1-1で記入した番号と整合させること。
B49: ※3：対策区分毎の変状発生規模は、様式D-1-1に記載した面積を記入すること（ただし外力はスパン単位で評価するため変状の有無の欄には面積でなく○を記入し、備考欄に状況を記入）。
B50: ※4：本様式は覆工スパン毎に作成すること。
B51: ※5：変状数が多い場合は、適時、表の行を増やして覆工スパン毎に1枚のシートに収めること。また、1スパン１シートとし、スパンに合わせてシートを追加すること。
B52: ※6：対策区分毎の変状の発生範囲の規模とは，対策を行う際に参考となる変状の長さや面積であり，変状を包含する長さや面積とする。
B53: ※7：対策範囲を示す発生範囲の規模を面積で記入することが妥当ではない変状は、発生範囲の規模の欄に○を記入するとともに、備考に内容を記入すること。

Sheet 様式D-3_S003
AU1: 様式F用→ | AV1: 覆工スパン | AY1: 変 状 数 | BK1: 変 状 規 模
AV2: 番号 | AW2: 延長 （ｍ） | AX2: 健全性の診断の 区分 | AY2: 対策区分の判定 | BK2: 覆工スパン長（ｍ） | BO2: 変状の発生範囲の規模（㎡）
B3: ■定期点検記録様式 覆工スパン別変状詳細展開図 【様式D-3】 | AY3: 外力 | BC3: 材質劣化 | BG3: 漏水 | BK3: 外力 注2 | BO3: 材質劣化 | BS3: 漏水
B4: フリガナ | E4: (ｺﾊﾞﾗﾄﾝﾈﾙ) | K4: 路線名 | N4: 国道491号（長門・俵山道路） | T4: 定期点検業者 | Y4: 株式会社荒谷建設コンサルタント | AG4: 定期点検年月日 | AK4: 45621 | AY4: Ⅳ | AZ4: Ⅲ | BA4: Ⅱa | BB4: Ⅱb | BC4: Ⅳ | BD4: Ⅲ | BE4: Ⅱa | BF4: Ⅱb | BG4: Ⅳ | BH4: Ⅲ | BI4: Ⅱa | BJ4: Ⅱb | BK4: Ⅳ | BL4: Ⅲ | BM4: Ⅱa | BN4: Ⅱb | BO4: Ⅳ | BP4: Ⅲ | BQ4: Ⅱa | BR4: Ⅱb | BS4: Ⅳ | BT4: Ⅲ | BU4: Ⅱa | BV4: Ⅱb
B5: 名 称 | E5: 小原トンネル | K5: 管理者名 | N5: 山口県長門土木建築事務所 | Y5: 河野 秀生 | AV5: =N7 -> S003 | AW5: =R7 -> 6.4 | AX5: =AM35 -> Ⅱ | AY5: =Y37 -> 0 | AZ5: =Z37 -> 0 | BA5: =AA37 -> 0 | BB5: =AB37 -> 0 | BC5: =AC37 -> 0 | BD5: =AD37 -> 0 | BE5: =AE37 -> 1 | BF5: =AF37 -> 0 | ... BJ5: =AJ37 -> 0 | BK5: =IF(Y37>0,R7,"") | BL5: =IF(Y37>0,"",IF(Z37>0,R7,"")) | BM5: =IF(Y37+Z37>0,"",IF(AA37>0,R7,"")) | BN5: =IF(Y37+Z37+AA37>0,"",IF(AB37>0,R7,"")) | BO5: =AC35 -> 0 | BP5: =AD35 -> 0 | BQ5: =AE35 -> 0.01 | BR5: =AF35 -> 0 | BS5: =AG35 -> 0 | BT5: =AH35 -> 0 | BU5: =AI35 -> 0 | BV5: =AJ35 -> 0
B6: スパン別変状展開図 | K6: 【健全性判定集計表】
K7: スパン番号 | N7: S003 | P7: スパン長 | R7: 6.4 | U7: 前回定期点検時の判定 | W7: 応急措置前の判定 | Y7: 対策区分毎の 変状の有無 | AC7: 対策区分毎の変状の発生範囲の規模(㎡) | AK7: 備考注2
K8: 変状番号 | L8: 対象箇所 | N8: 部位区分 | P8: 変状区分 | R8: 変状種類
Y9: 外力注1 | AC9: 材質劣化注1 | AG9: 漏水注1
Y10: Ⅳ | Z10: Ⅲ | AA10: Ⅱa | AB10: Ⅱb | AC10: Ⅳ | AD10: Ⅲ | AE10: Ⅱa | AF10: Ⅱb | AG10: Ⅳ | AH10: Ⅲ | AI10: Ⅱa | AJ10: Ⅱb
K11: 1 | L11: 覆工 | N11: アーチ（左側） | P11: 材質劣化 | R11: うき・はく離 | U11: － | AE11: 0.01 | AQ11: =IF(P11="材質劣化",2,IF(P11="漏水",3,1)) -> 2
AQ12: =IF(P12="材質劣化",2,IF(P12="漏水",3,1)) -> 1
AQ13: =IF(P13="材質劣化",2,IF(P13="漏水",3,1)) -> 1
AQ14: =IF(P14="材質劣化",2,IF(P14="漏水",3,1)) -> 1
AQ15: =IF(P15="材質劣化",2,IF(P15="漏水",3,1)) -> 1
AQ16: =IF(P16="材質劣化",2,IF(P16="漏水",3,1)) -> 1
AQ17: =IF(P17="材質劣化",2,IF(P17="漏水",3,1)) -> 1
AQ18: =IF(P18="材質劣化",2,IF(P18="漏水",3,1)) -> 1
AQ19: =IF(P19="材質劣化",2,IF(P19="漏水",3,1)) -> 1
AQ20: =IF(P20="材質劣化",2,IF(P20="漏水",3,1)) -> 1
AQ21: =IF(P21="材質劣化",2,IF(P21="漏水",3,1)) -> 1
AQ22: =IF(P22="材質劣化",2,IF(P22="漏水",3,1)) -> 1
AQ23: =IF(P23="材質劣化",2,IF(P23="漏水",3,1)) -> 1
... AQ34: =IF(P34="材質劣化",2,IF(P34="漏水",3,1)) -> 1
K35: 集計 判定 診断 | L35: 変状の発生規模合計(㎡) | Y35: － | AC35: =SUM(AC11:AC34) -> 0 | AD35: =SUM(AD11:AD34) -> 0 | AE35: =SUM(AE11:AE34) -> 0.01 | AF35: =SUM(AF11:AF34) -> 0 | AG35: =SUM(AG11:AG34) -> 0 | AH35: =SUM(AH11:AH34) -> 0 | AI35: =SUM(AI11:AI34) -> 0 | AJ35: =SUM(AJ11:AJ34) -> 0 | AK35: 覆工スパン単位の 健全性の 診断の区分 | AM35: Ⅱ
L36: 対策区分の 判定結果 | O36: 対策区分毎の変状数 | Y36: Ⅳ | Z36: Ⅲ | AA36: Ⅱa | AB36: Ⅱb | AC36: Ⅳ | AD36: Ⅲ | AE36: Ⅱa | AF36: Ⅱb | AG36: Ⅳ | AH36: Ⅲ | AI36: Ⅱa | AJ36: Ⅱb
Y37: =COUNTIF(Y11:Y34,"〇") -> 0 | Z37: =COUNTIF(Z11:Z34,"〇") -> 0 | AA37: =COUNTIF(AA11:AA34,"〇") -> 0 | AB37: =COUNTIF(AB11:AB34,"〇") -> 0 | AC37: =COUNTA(AC11:AC34) -> 0 | AD37: =COUNTA(AD11:AD34) -> 0 | AE37: =COUNTA(AE11:AE34) -> 1 | AF37: =COUNTA(AF11:AF34) -> 0 | AG37: =COUNTA(AG11:AG34) -> 0 | AH37: =COUNTA(AH11:AH34) -> 0 | AI37: =COUNTA(AI11:AI34) -> 0 | AJ37: =COUNTA(AJ11:AJ34) -> 0
K39: 所見
K43: 注1：誤記入防止のため、当該変状区分以外のセルは灰色表示とすること。
K44: 注2：応急措置を実施した場合は、その詳細を備考に記載すること。
K45: 注3：外力は覆工スパン単位、材質劣化、漏水は変状単位とすること。
B46: （以下、印刷不要）
B47: ※1：本シートは作成洩れのないよう、変状が無くても全スパン分を作成すること．また変状展開図は、様式D-2-1、様式D-2-1'と同じものを覆工スパン単位で拡大し掲載すること。
B48: ※2：変状番号は、様式D-1-1で記入した番号と整合させること。
B49: ※3：対策区分毎の変状発生規模は、様式D-1-1に記載した面積を記入すること（ただし外力はスパン単位で評価するため変状の有無の欄には面積でなく○を記入し、備考欄に状況を記入）。
B50: ※4：本様式は覆工スパン毎に作成すること。
B51: ※5：変状数が多い場合は、適時、表の行を増やして覆工スパン毎に1枚のシートに収めること。また、1スパン１シートとし、スパンに合わせてシートを追加すること。
B52: ※6：対策区分毎の変状の発生範囲の規模とは，対策を行う際に参考となる変状の長さや面積であり，変状を包含する長さや面積とする。
B53: ※7：対策範囲を示す発生範囲の規模を面積で記入することが妥当ではない変状は、発生範囲の規模の欄に○を記入するとともに、備考に内容を記入すること。

Sheet 様式D-3_S004
AU1: 様式F用→ | AV1: 覆工スパン | AY1: 変 状 数 | BK1: 変 状 規 模
AV2: 番号 | AW2: 延長 （ｍ） | AX2: 健全性の診断の 区分 | AY2: 対策区分の判定 | BK2: 覆工スパン長（ｍ） | BO2: 変状の発生範囲の規模（㎡）
B3: ■定期点検記録様式 覆工スパン別変状詳細展開図 【様式D-3】 | AY3: 外力 | BC3: 材質劣化 | BG3: 漏水 | BK3: 外力 注2 | BO3: 材質劣化 | BS3: 漏水
B4: フリガナ | E4: (ｺﾊﾞﾗﾄﾝﾈﾙ) | K4: 路線名 | N4: 国道491号（長門・俵山道路） | T4: 定期点検業者 | Y4: 株式会社荒谷建設コンサルタント | AG4: 定期点検年月日 | AK4: 45621 | AY4: Ⅳ | AZ4: Ⅲ | BA4: Ⅱa | BB4: Ⅱb | BC4: Ⅳ | BD4: Ⅲ | BE4: Ⅱa | BF4: Ⅱb | BG4: Ⅳ | BH4: Ⅲ | BI4: Ⅱa | BJ4: Ⅱb | BK4: Ⅳ | BL4: Ⅲ | BM4: Ⅱa | BN4: Ⅱb | BO4: Ⅳ | BP4: Ⅲ | BQ4: Ⅱa | BR4: Ⅱb | BS4: Ⅳ | BT4: Ⅲ | BU4: Ⅱa | BV4: Ⅱb
B5: 名 称 | E5: 小原トンネル | K5: 管理者名 | N5: 山口県長門土木建築事務所 | Y5: 河野 秀生 | AV5: =N7 -> S004 | AW5: =R7 -> 10.5 | AX5: =AM35 -> Ⅲ | AY5: =Y37 -> 0 | AZ5: =Z37 -> 0 | BA5: =AA37 -> 0 | BB5: =AB37 -> 0 | BC5: =AC37 -> 0 | BD5: =AD37 -> 1 | BE5: =AE37 -> 2 | BF5: =AF37 -> 0 | ... BJ5: =AJ37 -> 0 | BK5: =IF(Y37>0,R7,"") | BL5: =IF(Y37>0,"",IF(Z37>0,R7,"")) | BM5: =IF(Y37+Z37>0,"",IF(AA37>0,R7,"")) | BN5: =IF(Y37+Z37+AA37>0,"",IF(AB37>0,R7,"")) | BO5: =AC35 -> 0 | BP5: =AD35 -> 0.01 | BQ5: =AE35 -> 0.095 | BR5: =AF35 -> 0 | BS5: =AG35 -> 0 | BT5: =AH35 -> 0 | BU5: =AI35 -> 0 | BV5: =AJ35 -> 0
B6: スパン別変状展開図 | K6: 【健全性判定集計表】
K7: スパン番号 | N7: S004 | P7: スパン長 | R7: 10.5 | U7: 前回定期点検時の判定 | W7: 応急措置前の判定 | Y7: 対策区分毎の 変状の有無 | AC7: 対策区分毎の変状の発生範囲の規模(㎡) | AK7: 備考注2
K8: 変状番号 | L8: 対象箇所 | N8: 部位区分 | P8: 変状区分 | R8: 変状種類
Y9: 外力注1 | AC9: 材質劣化注1 | AG9: 漏水注1
Y10: Ⅳ | Z10: Ⅲ | AA10: Ⅱa | AB10: Ⅱb | AC10: Ⅳ | AD10: Ⅲ | AE10: Ⅱa | AF10: Ⅱb | AG10: Ⅳ | AH10: Ⅲ | AI10: Ⅱa | AJ10: Ⅱb
K11: 1 | L11: 覆工 | N11: 横断目地（左側） | P11: 材質劣化 | R11: うき・はく離 | U11: Ⅱa | AD11: 0.01 | AQ11: =IF(P11="材質劣化",2,IF(P11="漏水",3,1)) -> 2
K12: 2 | L12: 覆工 | N12: 横断目地（右側） | P12: 材質劣化 | R12: うき・はく離 | U12: Ⅱa | AE12: 0.07 | AQ12: =IF(P12="材質劣化",2,IF(P12="漏水",3,1)) -> 2
K13: 3 | L13: 覆工 | N13: 横断目地（右側） | P13: 材質劣化 | R13: うき・はく離 | U13: Ⅱa | AE13: 0.025 | AQ13: =IF(P13="材質劣化",2,IF(P13="漏水",3,1)) -> 2
AQ14: =IF(P14="材質劣化",2,IF(P14="漏水",3,1)) -> 1
AQ15: =IF(P15="材質劣化",2,IF(P15="漏水",3,1)) -> 1
AQ16: =IF(P16="材質劣化",2,IF(P16="漏水",3,1)) -> 1
AQ17: =IF(P17="材質劣化",2,IF(P17="漏水",3,1)) -> 1
AQ18: =IF(P18="材質劣化",2,IF(P18="漏水",3,1)) -> 1
AQ19: =IF(P19="材質劣化",2,IF(P19="漏水",3,1)) -> 1
AQ20: =IF(P20="材質劣化",2,IF(P20="漏水",3,1)) -> 1
AQ21: =IF(P21="材質劣化",2,IF(P21="漏水",3,1)) -> 1
AQ22: =IF(P22="材質劣化",2,IF(P22="漏水",3,1)) -> 1
AQ23: =IF(P23="材質劣化",2,IF(P23="漏水",3,1)) -> 1
AQ24: =IF(P24="材質劣化",2,IF(P24="漏水",3,1)) -> 1
AQ25: =IF(P25="材質劣化",2,IF(P25="漏水",3,1)) -> 1
... AQ34: =IF(P34="材質劣化",2,IF(P34="漏水",3,1)) -> 1
K35: 集計 判定 診断 | L35: 変状の発生規模合計(㎡) | Y35: － | AC35: =SUM(AC11:AC34) -> 0 | AD35: =SUM(AD11:AD34) -> 0.01 | AE35: =SUM(AE11:AE34) -> 0.095 | AF35: =SUM(AF11:AF34) -> 0 | AG35: =SUM(AG11:AG34) -> 0 | AH35: =SUM(AH11:AH34) -> 0 | AI35: =SUM(AI11:AI34) -> 0 | AJ35: =SUM(AJ11:AJ34) -> 0 | AK35: 覆工スパン単位の 健全性の 診断の区分 | AM35: Ⅲ
L36: 対策区分の 判定結果 | O36: 対策区分毎の変状数 | Y36: Ⅳ | Z36: Ⅲ | AA36: Ⅱa | AB36: Ⅱb | AC36: Ⅳ | AD36: Ⅲ | AE36: Ⅱa | AF36: Ⅱb | AG36: Ⅳ | AH36: Ⅲ | AI36: Ⅱa | AJ36: Ⅱb
Y37: =COUNTIF(Y11:Y34,"〇") -> 0 | Z37: =COUNTIF(Z11:Z34,"〇") -> 0 | AA37: =COUNTIF(AA11:AA34,"〇") -> 0 | AB37: =COUNTIF(AB11:AB34,"〇") -> 0 | AC37: =COUNTA(AC11:AC34) -> 0 | AD37: =COUNTA(AD11:AD34) -> 1 | AE37: =COUNTA(AE11:AE34) -> 2 | AF37: =COUNTA(AF11:AF34) -> 0 | AG37: =COUNTA(AG11:AG34) -> 0 | AH37: =COUNTA(AH11:AH34) -> 0 | AI37: =COUNTA(AI11:AI34) -> 0 | AJ37: =COUNTA(AJ11:AJ34) -> 0
K39: 所見
K43: 注1：誤記入防止のため、当該変状区分以外のセルは灰色表示とすること。
K44: 注2：応急措置を実施した場合は、その詳細を備考に記載すること。
K45: 注3：外力は覆工スパン単位、材質劣化、漏水は変状単位とすること。
B46: （以下、印刷不要）
B47: ※1：本シートは作成洩れのないよう、変状が無くても全スパン分を作成すること．また変状展開図は、様式D-2-1、様式D-2-1'と同じものを覆工スパン単位で拡大し掲載すること。
B48: ※2：変状番号は、様式D-1-1で記入した番号と整合させること。
B49: ※3：対策区分毎の変状発生規模は、様式D-1-1に記載した面積を記入すること（ただし外力はスパン単位で評価するため変状の有無の欄には面積でなく○を記入し、備考欄に状況を記入）。
B50: ※4：本様式は覆工スパン毎に作成すること。
B51: ※5：変状数が多い場合は、適時、表の行を増やして覆工スパン毎に1枚のシートに収めること。また、1スパン１シートとし、スパンに合わせてシートを追加すること。
B52: ※6：対策区分毎の変状の発生範囲の規模とは，対策を行う際に参考となる変状の長さや面積であり，変状を包含する長さや面積とする。
B53: ※7：対策範囲を示す発生範囲の規模を面積で記入することが妥当ではない変状は、発生範囲の規模の欄に○を記入するとともに、備考に内容を記入すること。

Sheet 様式D-3_S005
AU1: 様式F用→ | AV1: 覆工スパン | AY1: 変 状 数 | BK1: 変 状 規 模
AV2: 番号 | AW2: 延長 （ｍ） | AX2: 健全性の診断の 区分 | AY2: 対策区分の判定 | BK2: 覆工スパン長（ｍ） | BO2: 変状の発生範囲の規模（㎡）
B3: ■定期点検記録様式 覆工スパン別変状詳細展開図 【様式D-3】 | AY3: 外力 | BC3: 材質劣化 | BG3: 漏水 | BK3: 外力 注2 | BO3: 材質劣化 | BS3: 漏水
B4: フリガナ | E4: (ｺﾊﾞﾗﾄﾝﾈﾙ) | K4: 路線名 | N4: 国道491号（長門・俵山道路） | T4: 定期点検業者 | Y4: 株式会社荒谷建設コンサルタント | AG4: 定期点検年月日 | AK4: 45621 | AY4: Ⅳ | AZ4: Ⅲ | BA4: Ⅱa | BB4: Ⅱb | BC4: Ⅳ | BD4: Ⅲ | BE4: Ⅱa | BF4: Ⅱb | BG4: Ⅳ | BH4: Ⅲ | BI4: Ⅱa | BJ4: Ⅱb | BK4: Ⅳ | BL4: Ⅲ | BM4: Ⅱa | BN4: Ⅱb | BO4: Ⅳ | BP4: Ⅲ | BQ4: Ⅱa | BR4: Ⅱb | BS4: Ⅳ | BT4: Ⅲ | BU4: Ⅱa | BV4: Ⅱb
B5: 名 称 | E5: 小原トンネル | K5: 管理者名 | N5: 山口県長門土木建築事務所 | Y5: 河野 秀生 | AV5: =N7 -> S005 | AW5: =R7 -> 10.5 | AX5: =AM35 -> Ⅰ | AY5: =Y37 -> 0 | AZ5: =Z37 -> 0 | BA5: =AA37 -> 0 | BB5: =AB37 -> 0 | BC5: =AC37 -> 0 | BD5: =AD37 -> 0 | BE5: =AE37 -> 0 | BF5: =AF37 -> 0 | ... BJ5: =AJ37 -> 0 | BK5: =IF(Y37>0,R7,"") | BL5: =IF(Y37>0,"",IF(Z37>0,R7,"")) | BM5: =IF(Y37+Z37>0,"",IF(AA37>0,R7,"")) | BN5: =IF(Y37+Z37+AA37>0,"",IF(AB37>0,R7,"")) | BO5: =AC35 -> 0 | BP5: =AD35 -> 0 | BQ5: =AE35 -> 0 | BR5: =AF35 -> 0 | BS5: =AG35 -> 0 | BT5: =AH35 -> 0 | BU5: =AI35 -> 0 | BV5: =AJ35 -> 0
B6: スパン別変状展開図 | K6: 【健全性判定集計表】
K7: スパン番号 | N7: S005 | P7: スパン長 | R7: 10.5 | U7: 前回定期点検時の判定 | W7: 応急措置前の判定 | Y7: 対策区分毎の 変状の有無 | AC7: 対策区分毎の変状の発生範囲の規模(㎡) | AK7: 備考注2
K8: 変状番号 | L8: 対象箇所 | N8: 部位区分 | P8: 変状区分 | R8: 変状種類
Y9: 外力注1 | AC9: 材質劣化注1 | AG9: 漏水注1
Y10: Ⅳ | Z10: Ⅲ | AA10: Ⅱa | AB10: Ⅱb | AC10: Ⅳ | AD10: Ⅲ | AE10: Ⅱa | AF10: Ⅱb | AG10: Ⅳ | AH10: Ⅲ | AI10: Ⅱa | AJ10: Ⅱb
AQ11: =IF(P11="材質劣化",2,IF(P11="漏水",3,1)) -> 1
AQ12: =IF(P12="材質劣化",2,IF(P12="漏水",3,1)) -> 1
AQ13: =IF(P13="材質劣化",2,IF(P13="漏水",3,1)) -> 1
AQ14: =IF(P14="材質劣化",2,IF(P14="漏水",3,1)) -> 1
AQ15: =IF(P15="材質劣化",2,IF(P15="漏水",3,1)) -> 1
AQ16: =IF(P16="材質劣化",2,IF(P16="漏水",3,1)) -> 1
AQ17: =IF(P17="材質劣化",2,IF(P17="漏水",3,1)) -> 1
AQ18: =IF(P18="材質劣化",2,IF(P18="漏水",3,1)) -> 1
AQ19: =IF(P19="材質劣化",2,IF(P19="漏水",3,1)) -> 1
AQ20: =IF(P20="材質劣化",2,IF(P20="漏水",3,1)) -> 1
AQ21: =IF(P21="材質劣化",2,IF(P21="漏水",3,1)) -> 1
AQ22: =IF(P22="材質劣化",2,IF(P22="漏水",3,1)) -> 1
... AQ34: =IF(P34="材質劣化",2,IF(P34="漏水",3,1)) -> 1
K35: 集計 判定 診断 | L35: 変状の発生規模合計(㎡) | Y35: － | AC35: =SUM(AC11:AC34) -> 0 | AD35: =SUM(AD11:AD34) -> 0 | AE35: =SUM(AE11:AE34) -> 0 | AF35: =SUM(AF11:AF34) -> 0 | AG35: =SUM(AG11:AG34) -> 0 | AH35: =SUM(AH11:AH34) -> 0 | AI35: =SUM(AI11:AI34) -> 0 | AJ35: =SUM(AJ11:AJ34) -> 0 | AK35: 覆工スパン単位の 健全性の 診断の区分 | AM35: Ⅰ
L36: 対策区分の 判定結果 | O36: 対策区分毎の変状数 | Y36: Ⅳ | Z36: Ⅲ | AA36: Ⅱa | AB36: Ⅱb | AC36: Ⅳ | AD36: Ⅲ | AE36: Ⅱa | AF36: Ⅱb | AG36: Ⅳ | AH36: Ⅲ | AI36: Ⅱa | AJ36: Ⅱb
Y37: =COUNTIF(Y11:Y34,"〇") -> 0 | Z37: =COUNTIF(Z11:Z34,"〇") -> 0 | AA37: =COUNTIF(AA11:AA34,"〇") -> 0 | AB37: =COUNTIF(AB11:AB34,"〇") -> 0 | AC37: =COUNTA(AC11:AC34) -> 0 | AD37: =COUNTA(AD11:AD34) -> 0 | AE37: =COUNTA(AE11:AE34) -> 0 | AF37: =COUNTA(AF11:AF34) -> 0 | AG37: =COUNTA(AG11:AG34) -> 0 | AH37: =COUNTA(AH11:AH34) -> 0 | AI37: =COUNTA(AI11:AI34) -> 0 | AJ37: =COUNTA(AJ11:AJ34) -> 0
K39: 所見
K43: 注1：誤記入防止のため、当該変状区分以外のセルは灰色表示とすること。
K44: 注2：応急措置を実施した場合は、その詳細を備考に記載すること。
K45: 注3：外力は覆工スパン単位、材質劣化、漏水は変状単位とすること。
B46: （以下、印刷不要）
B47: ※1：本シートは作成洩れのないよう、変状が無くても全スパン分を作成すること．また変状展開図は、様式D-2-1、様式D-2-1'と同じものを覆工スパン単位で拡大し掲載すること。
B48: ※2：変状番号は、様式D-1-1で記入した番号と整合させること。
B49: ※3：対策区分毎の変状発生規模は、様式D-1-1に記載した面積を記入すること（ただし外力はスパン単位で評価するため変状の有無の欄には面積でなく○を記入し、備考欄に状況を記入）。
B50: ※4：本様式は覆工スパン毎に作成すること。
B51: ※5：変状数が多い場合は、適時、表の行を増やして覆工スパン毎に1枚のシートに収めること。また、1スパン１シートとし、スパンに合わせてシートを追加すること。
B52: ※6：対策区分毎の変状の発生範囲の規模とは，対策を行う際に参考となる変状の長さや面積であり，変状を包含する長さや面積とする。
B53: ※7：対策範囲を示す発生範囲の規模を面積で記入することが妥当ではない変状は、発生範囲の規模の欄に○を記入するとともに、備考に内容を記入すること。

Sheet 様式D-3_S006
AU1: 様式F用→ | AV1: 覆工スパン | AY1: 変 状 数 | BK1: 変 状 規 模
AV2: 番号 | AW2: 延長 （ｍ） | AX2: 健全性の診断の 区分 | AY2: 対策区分の判定 | BK2: 覆工スパン長（ｍ） | BO2: 変状の発生範囲の規模（㎡）
B3: ■定期点検記録様式 覆工スパン別変状詳細展開図 【様式D-3】 | AY3: 外力 | BC3: 材質劣化 | BG3: 漏水 | BK3: 外力 注2 | BO3: 材質劣化 | BS3: 漏水
B4: フリガナ | E4: (ｺﾊﾞﾗﾄﾝﾈﾙ) | K4: 路線名 | N4: 国道491号（長門・俵山道路） | T4: 定期点検業者 | Y4: 株式会社荒谷建設コンサルタント | AG4: 定期点検年月日 | AK4: 45621 | AY4: Ⅳ | AZ4: Ⅲ | BA4: Ⅱa | BB4: Ⅱb | BC4: Ⅳ | BD4: Ⅲ | BE4: Ⅱa | BF4: Ⅱb | BG4: Ⅳ | BH4: Ⅲ | BI4: Ⅱa | BJ4: Ⅱb | BK4: Ⅳ | BL4: Ⅲ | BM4: Ⅱa | BN4: Ⅱb | BO4: Ⅳ | BP4: Ⅲ | BQ4: Ⅱa | BR4: Ⅱb | BS4: Ⅳ | BT4: Ⅲ | BU4: Ⅱa | BV4: Ⅱb
B5: 名 称 | E5: 小原トンネル | K5: 管理者名 | N5: 山口県長門土木建築事務所 | Y5: 河野 秀生 | AV5: =N7 -> S006 | AW5: =R7 -> 10.5 | AX5: =AM35 -> Ⅰ | AY5: =Y37 -> 0 | AZ5: =Z37 -> 0 | BA5: =AA37 -> 0 | BB5: =AB37 -> 0 | BC5: =AC37 -> 0 | BD5: =AD37 -> 0 | BE5: =AE37 -> 0 | BF5: =AF37 -> 0 | ... BJ5: =AJ37 -> 0 | BK5: =IF(Y37>0,R7,"") | BL5: =IF(Y37>0,"",IF(Z37>0,R7,"")) | BM5: =IF(Y37+Z37>0,"",IF(AA37>0,R7,"")) | BN5: =IF(Y37+Z37+AA37>0,"",IF(AB37>0,R7,"")) | BO5: =AC35 -> 0 | BP5: =AD35 -> 0 | BQ5: =AE35 -> 0 | BR5: =AF35 -> 0 | BS5: =AG35 -> 0 | BT5: =AH35 -> 0 | BU5: =AI35 -> 0 | BV5: =AJ35 -> 0
B6: スパン別変状展開図 | K6: 【健全性判定集計表】
K7: スパン番号 | N7: S006 | P7: スパン長 | R7: 10.5 | U7: 前回定期点検時の判定 | W7: 応急措置前の判定 | Y7: 対策区分毎の 変状の有無 | AC7: 対策区分毎の変状の発生範囲の規模(㎡) | AK7: 備考注2
K8: 変状番号 | L8: 対象箇所 | N8: 部位区分 | P8: 変状区分 | R8: 変状種類
Y9: 外力注1 | AC9: 材質劣化注1 | AG9: 漏水注1
Y10: Ⅳ | Z10: Ⅲ | AA10: Ⅱa | AB10: Ⅱb | AC10: Ⅳ | AD10: Ⅲ | AE10: Ⅱa | AF10: Ⅱb | AG10: Ⅳ | AH10: Ⅲ | AI10: Ⅱa | AJ10: Ⅱb
AQ11: =IF(P11="材質劣化",2,IF(P11="漏水",3,1)) -> 1
AQ12: =IF(P12="材質劣化",2,IF(P12="漏水",3,1)) -> 1
AQ13: =IF(P13="材質劣化",2,IF(P13="漏水",3,1)) -> 1
AQ14: =IF(P14="材質劣化",2,IF(P14="漏水",3,1)) -> 1
AQ15: =IF(P15="材質劣化",2,IF(P15="漏水",3,1)) -> 1
AQ16: =IF(P16="材質劣化",2,IF(P16="漏水",3,1)) -> 1
AQ17: =IF(P17="材質劣化",2,IF(P17="漏水",3,1)) -> 1
AQ18: =IF(P18="材質劣化",2,IF(P18="漏水",3,1)) -> 1
AQ19: =IF(P19="材質劣化",2,IF(P19="漏水",3,1)) -> 1
AQ20: =IF(P20="材質劣化",2,IF(P20="漏水",3,1)) -> 1
AQ21: =IF(P21="材質劣化",2,IF(P21="漏水",3,1)) -> 1
AQ22: =IF(P22="材質劣化",2,IF(P22="漏水",3,1)) -> 1
... AQ34: =IF(P34="材質劣化",2,IF(P34="漏水",3,1)) -> 1
K35: 集計 判定 診断 | L35: 変状の発生規模合計(㎡) | Y35: － | AC35: =SUM(AC11:AC34) -> 0 | AD35: =SUM(AD11:AD34) -> 0 | AE35: =SUM(AE11:AE34) -> 0 | AF35: =SUM(AF11:AF34) -> 0 | AG35: =SUM(AG11:AG34) -> 0 | AH35: =SUM(AH11:AH34) -> 0 | AI35: =SUM(AI11:AI34) -> 0 | AJ35: =SUM(AJ11:AJ34) -> 0 | AK35: 覆工スパン単位の 健全性の 診断の区分 | AM35: Ⅰ
L36: 対策区分の 判定結果 | O36: 対策区分毎の変状数 | Y36: Ⅳ | Z36: Ⅲ | AA36: Ⅱa | AB36: Ⅱb | AC36: Ⅳ | AD36: Ⅲ | AE36: Ⅱa | AF36: Ⅱb | AG36: Ⅳ | AH36: Ⅲ | AI36: Ⅱa | AJ36: Ⅱb
Y37: =COUNTIF(Y11:Y34,"〇") -> 0 | Z37: =COUNTIF(Z11:Z34,"〇") -> 0 | AA37: =COUNTIF(AA11:AA34,"〇") -> 0 | AB37: =COUNTIF(AB11:AB34,"〇") -> 0 | AC37: =COUNTA(AC11:AC34) -> 0 | AD37: =COUNTA(AD11:AD34) -> 0 | AE37: =COUNTA(AE11:AE34) -> 0 | AF37: =COUNTA(AF11:AF34) -> 0 | AG37: =COUNTA(AG11:AG34) -> 0 | AH37: =COUNTA(AH11:AH34) -> 0 | AI37: =COUNTA(AI11:AI34) -> 0 | AJ37: =COUNTA(AJ11:AJ34) -> 0
K39: 所見
K43: 注1：誤記入防止のため、当該変状区分以外のセルは灰色表示とすること。
K44: 注2：応急措置を実施した場合は、その詳細を備考に記載すること。
K45: 注3：外力は覆工スパン単位、材質劣化、漏水は変状単位とすること。
B46: （以下、印刷不要）
B47: ※1：本シートは作成洩れのないよう、変状が無くても全スパン分を作成すること．また変状展開図は、様式D-2-1、様式D-2-1'と同じものを覆工スパン単位で拡大し掲載すること。
B48: ※2：変状番号は、様式D-1-1で記入した番号と整合させること。
B49: ※3：対策区分毎の変状発生規模は、様式D-1-1に記載した面積を記入すること（ただし外力はスパン単位で評価するため変状の有無の欄には面積でなく○を記入し、備考欄に状況を記入）。
B50: ※4：本様式は覆工スパン毎に作成すること。
B51: ※5：変状数が多い場合は、適時、表の行を増やして覆工スパン毎に1枚のシートに収めること。また、1スパン１シートとし、スパンに合わせてシートを追加すること。
B52: ※6：対策区分毎の変状の発生範囲の規模とは，対策を行う際に参考となる変状の長さや面積であり，変状を包含する長さや面積とする。
B53: ※7：対策範囲を示す発生範囲の規模を面積で記入することが妥当ではない変状は、発生範囲の規模の欄に○を記入するとともに、備考に内容を記入すること。

Sheet 様式D-3_S007
AU1: 様式F用→ | AV1: 覆工スパン | AY1: 変 状 数 | BK1: 変 状 規 模
AV2: 番号 | AW2: 延長 （ｍ） | AX2: 健全性の診断の 区分 | AY2: 対策区分の判定 | BK2: 覆工スパン長（ｍ） | BO2: 変状の発生範囲の規模（㎡）
B3: ■定期点検記録様式 覆工スパン別変状詳細展開図 【様式D-3】 | AY3: 外力 | BC3: 材質劣化 | BG3: 漏水 | BK3: 外力 注2 | BO3: 材質劣化 | BS3: 漏水
B4: フリガナ | E4: (ｺﾊﾞﾗﾄﾝﾈﾙ) | K4: 路線名 | N4: 国道491号（長門・俵山道路） | T4: 定期点検業者 | Y4: 株式会社荒谷建設コンサルタント | AG4: 定期点検年月日 | AK4: 45621 | AY4: Ⅳ | AZ4: Ⅲ | BA4: Ⅱa | BB4: Ⅱb | BC4: Ⅳ | BD4: Ⅲ | BE4: Ⅱa | BF4: Ⅱb | BG4: Ⅳ | BH4: Ⅲ | BI4: Ⅱa | BJ4: Ⅱb | BK4: Ⅳ | BL4: Ⅲ | BM4: Ⅱa | BN4: Ⅱb | BO4: Ⅳ | BP4: Ⅲ | BQ4: Ⅱa | BR4: Ⅱb | BS4: Ⅳ | BT4: Ⅲ | BU4: Ⅱa | BV4: Ⅱb
B5: 名 称 | E5: 小原トンネル | K5: 管理者名 | N5: 山口県長門土木建築事務所 | Y5: 河野 秀生 | AV5: =N7 -> S007 | AW5: =R7 -> 10.5 | AX5: =AM35 -> Ⅰ | AY5: =Y37 -> 0 | AZ5: =Z37 -> 0 | BA5: =AA37 -> 0 | BB5: =AB37 -> 0 | BC5: =AC37 -> 0 | BD5: =AD37 -> 0 | BE5: =AE37 -> 0 | BF5: =AF37 -> 0 | ... BJ5: =AJ37 -> 0 | BK5: =IF(Y37>0,R7,"") | BL5: =IF(Y37>0,"",IF(Z37>0,R7,"")) | BM5: =IF(Y37+Z37>0,"",IF(AA37>0,R7,"")) | BN5: =IF(Y37+Z37+AA37>0,"",IF(AB37>0,R7,"")) | BO5: =AC35 -> 0 | BP5: =AD35 -> 0 | BQ5: =AE35 -> 0 | BR5: =AF35 -> 0 | BS5: =AG35 -> 0 | BT5: =AH35 -> 0 | BU5: =AI35 -> 0 | BV5: =AJ35 -> 0
B6: スパン別変状展開図 | K6: 【健全性判定集計表】
K7: スパン番号 | N7: S007 | P7: スパン長 | R7: 10.5 | U7: 前回定期点検時の判定 | W7: 応急措置前の判定 | Y7: 対策区分毎の 変状の有無 | AC7: 対策区分毎の変状の発生範囲の規模(㎡) | AK7: 備考注2
K8: 変状番号 | L8: 対象箇所 | N8: 部位区分 | P8: 変状区分 | R8: 変状種類
Y9: 外力注1 | AC9: 材質劣化注1 | AG9: 漏水注1
Y10: Ⅳ | Z10: Ⅲ | AA10: Ⅱa | AB10: Ⅱb | AC10: Ⅳ | AD10: Ⅲ | AE10: Ⅱa | AF10: Ⅱb | AG10: Ⅳ | AH10: Ⅲ | AI10: Ⅱa | AJ10: Ⅱb
AQ11: =IF(P11="材質劣化",2,IF(P11="漏水",3,1)) -> 1
AQ12: =IF(P12="材質劣化",2,IF(P12="漏水",3,1)) -> 1
AQ13: =IF(P13="材質劣化",2,IF(P13="漏水",3,1)) -> 1
AQ14: =IF(P14="材質劣化",2,IF(P14="漏水",3,1)) -> 1
AQ15: =IF(P15="材質劣化",2,IF(P15="漏水",3,1)) -> 1
AQ16: =IF(P16="材質劣化",2,IF(P16="漏水",3,1)) -> 1
AQ17: =IF(P17="材質劣化",2,IF(P17="漏水",3,1)) -> 1
AQ18: =IF(P18="材質劣化",2,IF(P18="漏水",3,1)) -> 1
AQ19: =IF(P19="材質劣化",2,IF(P19="漏水",3,1)) -> 1
AQ20: =IF(P20="材質劣化",2,IF(P20="漏水",3,1)) -> 1
AQ21: =IF(P21="材質劣化",2,IF(P21="漏水",3,1)) -> 1
AQ22: =IF(P22="材質劣化",2,IF(P22="漏水",3,1)) -> 1
... AQ34: =IF(P34="材質劣化",2,IF(P34="漏水",3,1)) -> 1
K35: 集計 判定 診断 | L35: 変状の発生規模合計(㎡) | Y35: － | AC35: =SUM(AC11:AC34) -> 0 | AD35: =SUM(AD11:AD34) -> 0 | AE35: =SUM(AE11:AE34) -> 0 | AF35: =SUM(AF11:AF34) -> 0 | AG35: =SUM(AG11:AG34) -> 0 | AH35: =SUM(AH11:AH34) -> 0 | AI35: =SUM(AI11:AI34) -> 0 | AJ35: =SUM(AJ11:AJ34) -> 0 | AK35: 覆工スパン単位の 健全性の 診断の区分 | AM35: Ⅰ
L36: 対策区分の 判定結果 | O36: 対策区分毎の変状数 | Y36: Ⅳ | Z36: Ⅲ | AA36: Ⅱa | AB36: Ⅱb | AC36: Ⅳ | AD36: Ⅲ | AE36: Ⅱa | AF36: Ⅱb | AG36: Ⅳ | AH36: Ⅲ | AI36: Ⅱa | AJ36: Ⅱb
Y37: =COUNTIF(Y11:Y34,"〇") -> 0 | Z37: =COUNTIF(Z11:Z34,"〇") -> 0 | AA37: =COUNTIF(AA11:AA34,"〇") -> 0 | AB37: =COUNTIF(AB11:AB34,"〇") -> 0 | AC37: =COUNTA(AC11:AC34) -> 0 | AD37: =COUNTA(AD11:AD34) -> 0 | AE37: =COUNTA(AE11:AE34) -> 0 | AF37: =COUNTA(AF11:AF34) -> 0 | AG37: =COUNTA(AG11:AG34) -> 0 | AH37: =COUNTA(AH11:AH34) -> 0 | AI37: =COUNTA(AI11:AI34) -> 0 | AJ37: =COUNTA(AJ11:AJ34) -> 0
K39: 所見
K43: 注1：誤記入防止のため、当該変状区分以外のセルは灰色表示とすること。
K44: 注2：応急措置を実施した場合は、その詳細を備考に記載すること。
K45: 注3：外力は覆工スパン単位、材質劣化、漏水は変状単位とすること。
B46: （以下、印刷不要）
B47: ※1：本シートは作成洩れのないよう、変状が無くても全スパン分を作成すること．また変状展開図は、様式D-2-1、様式D-2-1'と同じものを覆工スパン単位で拡大し掲載すること。
B48: ※2：変状番号は、様式D-1-1で記入した番号と整合させること。
B49: ※3：対策区分毎の変状発生規模は、様式D-1-1に記載した面積を記入すること（ただし外力はスパン単位で評価するため変状の有無の欄には面積でなく○を記入し、備考欄に状況を記入）。
B50: ※4：本様式は覆工スパン毎に作成すること。
B51: ※5：変状数が多い場合は、適時、表の行を増やして覆工スパン毎に1枚のシートに収めること。また、1スパン１シートとし、スパンに合わせてシートを追加すること。
B52: ※6：対策区分毎の変状の発生範囲の規模とは，対策を行う際に参考となる変状の長さや面積であり，変状を包含する長さや面積とする。
B53: ※7：対策範囲を示す発生範囲の規模を面積で記入することが妥当ではない変状は、発生範囲の規模の欄に○を記入するとともに、備考に内容を記入すること。

Sheet 様式D-3_S008
AU1: 様式F用→ | AV1: 覆工スパン | AY1: 変 状 数 | BK1: 変 状 規 模
AV2: 番号 | AW2: 延長 （ｍ） | AX2: 健全性の診断の 区分 | AY2: 対策区分の判定 | BK2: 覆工スパン長（ｍ） | BO2: 変状の発生範囲の規模（㎡）
B3: ■定期点検記録様式 覆工スパン別変状詳細展開図 【様式D-3】 | AY3: 外力 | BC3: 材質劣化 | BG3: 漏水 | BK3: 外力 注2 | BO3: 材質劣化 | BS3: 漏水
B4: フリガナ | E4: (ｺﾊﾞﾗﾄﾝﾈﾙ) | K4: 路線名 | N4: 国道491号（長門・俵山道路） | T4: 定期点検業者 | Y4: 株式会社荒谷建設コンサルタント | AG4: 定期点検年月日 | AK4: 45621 | AY4: Ⅳ | AZ4: Ⅲ | BA4: Ⅱa | BB4: Ⅱb | BC4: Ⅳ | BD4: Ⅲ | BE4: Ⅱa | BF4: Ⅱb | BG4: Ⅳ | BH4: Ⅲ | BI4: Ⅱa | BJ4: Ⅱb | BK4: Ⅳ | BL4: Ⅲ | BM4: Ⅱa | BN4: Ⅱb | BO4: Ⅳ | BP4: Ⅲ | BQ4: Ⅱa | BR4: Ⅱb | BS4: Ⅳ | BT4: Ⅲ | BU4: Ⅱa | BV4: Ⅱb
B5: 名 称 | E5: 小原トンネル | K5: 管理者名 | N5: 山口県長門土木建築事務所 | Y5: 河野 秀生 | AV5: =N7 -> S008 | AW5: =R7 -> 10.5 | AX5: =AM35 -> Ⅲ | AY5: =Y37 -> 0 | AZ5: =Z37 -> 0 | BA5: =AA37 -> 0 | BB5: =AB37 -> 0 | BC5: =AC37 -> 0 | BD5: =AD37 -> 1 | BE5: =AE37 -> 0 | BF5: =AF37 -> 0 | ... BJ5: =AJ37 -> 0 | BK5: =IF(Y37>0,R7,"") | BL5: =IF(Y37>0,"",IF(Z37>0,R7,"")) | BM5: =IF(Y37+Z37>0,"",IF(AA37>0,R7,"")) | BN5: =IF(Y37+Z37+AA37>0,"",IF(AB37>0,R7,"")) | BO5: =AC35 -> 0 | BP5: =AD35 -> 0.02 | BQ5: =AE35 -> 0 | BR5: =AF35 -> 0 | BS5: =AG35 -> 0 | BT5: =AH35 -> 0 | BU5: =AI35 -> 0 | BV5: =AJ35 -> 0
B6: スパン別変状展開図 | K6: 【健全性判定集計表】
K7: スパン番号 | N7: S008 | P7: スパン長 | R7: 10.5 | U7: 前回定期点検時の判定 | W7: 応急措置前の判定 | Y7: 対策区分毎の 変状の有無 | AC7: 対策区分毎の変状の発生範囲の規模(㎡) | AK7: 備考注2
K8: 変状番号 | L8: 対象箇所 | N8: 部位区分 | P8: 変状区分 | R8: 変状種類
Y9: 外力注1 | AC9: 材質劣化注1 | AG9: 漏水注1
Y10: Ⅳ | Z10: Ⅲ | AA10: Ⅱa | AB10: Ⅱb | AC10: Ⅳ | AD10: Ⅲ | AE10: Ⅱa | AF10: Ⅱb | AG10: Ⅳ | AH10: Ⅲ | AI10: Ⅱa | AJ10: Ⅱb
K11: 1 | L11: 覆工 | N11: 横断目地（右側） | P11: 材質劣化 | R11: うき・はく離 | U11: － | AD11: 0.02 | AQ11: =IF(P11="材質劣化",2,IF(P11="漏水",3,1)) -> 2
AQ12: =IF(P12="材質劣化",2,IF(P12="漏水",3,1)) -> 1
AQ13: =IF(P13="材質劣化",2,IF(P13="漏水",3,1)) -> 1
AQ14: =IF(P14="材質劣化",2,IF(P14="漏水",3,1)) -> 1
AQ15: =IF(P15="材質劣化",2,IF(P15="漏水",3,1)) -> 1
AQ16: =IF(P16="材質劣化",2,IF(P16="漏水",3,1)) -> 1
AQ17: =IF(P17="材質劣化",2,IF(P17="漏水",3,1)) -> 1
AQ18: =IF(P18="材質劣化",2,IF(P18="漏水",3,1)) -> 1
AQ19: =IF(P19="材質劣化",2,IF(P19="漏水",3,1)) -> 1
AQ20: =IF(P20="材質劣化",2,IF(P20="漏水",3,1)) -> 1
AQ21: =IF(P21="材質劣化",2,IF(P21="漏水",3,1)) -> 1
AQ22: =IF(P22="材質劣化",2,IF(P22="漏水",3,1)) -> 1
AQ23: =IF(P23="材質劣化",2,IF(P23="漏水",3,1)) -> 1
... AQ34: =IF(P34="材質劣化",2,IF(P34="漏水",3,1)) -> 1
K35: 集計 判定 診断 | L35: 変状の発生規模合計(㎡) | Y35: － | AC35: =SUM(AC11:AC34) -> 0 | AD35: =SUM(AD11:AD34) -> 0.02 | AE35: =SUM(AE11:AE34) -> 0 | AF35: =SUM(AF11:AF34) -> 0 | AG35: =SUM(AG11:AG34) -> 0 | AH35: =SUM(AH11:AH34) -> 0 | AI35: =SUM(AI11:AI34) -> 0 | AJ35: =SUM(AJ11:AJ34) -> 0 | AK35: 覆工スパン単位の 健全性の 診断の区分 | AM35: Ⅲ
L36: 対策区分の 判定結果 | O36: 対策区分毎の変状数 | Y36: Ⅳ | Z36: Ⅲ | AA36: Ⅱa | AB36: Ⅱb | AC36: Ⅳ | AD36: Ⅲ | AE36: Ⅱa | AF36: Ⅱb | AG36: Ⅳ | AH36: Ⅲ | AI36: Ⅱa | AJ36: Ⅱb
Y37: =COUNTIF(Y11:Y34,"〇") -> 0 | Z37: =COUNTIF(Z11:Z34,"〇") -> 0 | AA37: =COUNTIF(AA11:AA34,"〇") -> 0 | AB37: =COUNTIF(AB11:AB34,"〇") -> 0 | AC37: =COUNTA(AC11:AC34) -> 0 | AD37: =COUNTA(AD11:AD34) -> 1 | AE37: =COUNTA(AE11:AE34) -> 0 | AF37: =COUNTA(AF11:AF34) -> 0 | AG37: =COUNTA(AG11:AG34) -> 0 | AH37: =COUNTA(AH11:AH34) -> 0 | AI37: =COUNTA(AI11:AI34) -> 0 | AJ37: =COUNTA(AJ11:AJ34) -> 0
K39: 所見
K43: 注1：誤記入防止のため、当該変状区分以外のセルは灰色表示とすること。
K44: 注2：応急措置を実施した場合は、その詳細を備考に記載すること。
K45: 注3：外力は覆工スパン単位、材質劣化、漏水は変状単位とすること。
B46: （以下、印刷不要）
B47: ※1：本シートは作成洩れのないよう、変状が無くても全スパン分を作成すること．また変状展開図は、様式D-2-1、様式D-2-1'と同じものを覆工スパン単位で拡大し掲載すること。
B48: ※2：変状番号は、様式D-1-1で記入した番号と整合させること。
B49: ※3：対策区分毎の変状発生規模は、様式D-1-1に記載した面積を記入すること（ただし外力はスパン単位で評価するため変状の有無の欄には面積でなく○を記入し、備考欄に状況を記入）。
B50: ※4：本様式は覆工スパン毎に作成すること。
B51: ※5：変状数が多い場合は、適時、表の行を増やして覆工スパン毎に1枚のシートに収めること。また、1スパン１シートとし、スパンに合わせてシートを追加すること。
B52: ※6：対策区分毎の変状の発生範囲の規模とは，対策を行う際に参考となる変状の長さや面積であり，変状を包含する長さや面積とする。
B53: ※7：対策範囲を示す発生範囲の規模を面積で記入することが妥当ではない変状は、発生範囲の規模の欄に○を記入するとともに、備考に内容を記入すること。

Sheet 様式D-3_S009
AU1: 様式F用→ | AV1: 覆工スパン | AY1: 変 状 数 | BK1: 変 状 規 模
AV2: 番号 | AW2: 延長 （ｍ） | AX2: 健全性の診断の 区分 | AY2: 対策区分の判定 | BK2: 覆工スパン長（ｍ） | BO2: 変状の発生範囲の規模（㎡）
B3: ■定期点検記録様式 覆工スパン別変状詳細展開図 【様式D-3】 | AY3: 外力 | BC3: 材質劣化 | BG3: 漏水 | BK3: 外力 注2 | BO3: 材質劣化 | BS3: 漏水
B4: フリガナ | E4: (ｺﾊﾞﾗﾄﾝﾈﾙ) | K4: 路線名 | N4: 国道491号（長門・俵山道路） | T4: 定期点検業者 | Y4: 株式会社荒谷建設コンサルタント | AG4: 定期点検年月日 | AK4: 45621 | AY4: Ⅳ | AZ4: Ⅲ | BA4: Ⅱa | BB4: Ⅱb | BC4: Ⅳ | BD4: Ⅲ | BE4: Ⅱa | BF4: Ⅱb | BG4: Ⅳ | BH4: Ⅲ | BI4: Ⅱa | BJ4: Ⅱb | BK4: Ⅳ | BL4: Ⅲ | BM4: Ⅱa | BN4: Ⅱb | BO4: Ⅳ | BP4: Ⅲ | BQ4: Ⅱa | BR4: Ⅱb | BS4: Ⅳ | BT4: Ⅲ | BU4: Ⅱa | BV4: Ⅱb
B5: 名 称 | E5: 小原トンネル | K5: 管理者名 | N5: 山口県長門土木建築事務所 | Y5: 河野 秀生 | AV5: =N7 -> S009 | AW5: =R7 -> 10.5 | AX5: =AM35 -> Ⅰ | AY5: =Y37 -> 0 | AZ5: =Z37 -> 0 | BA5: =AA37 -> 0 | BB5: =AB37 -> 0 | BC5: =AC37 -> 0 | BD5: =AD37 -> 0 | BE5: =AE37 -> 0 | BF5: =AF37 -> 0 | ... BJ5: =AJ37 -> 0 | BK5: =IF(Y37>0,R7,"") | BL5: =IF(Y37>0,"",IF(Z37>0,R7,"")) | BM5: =IF(Y37+Z37>0,"",IF(AA37>0,R7,"")) | BN5: =IF(Y37+Z37+AA37>0,"",IF(AB37>0,R7,"")) | BO5: =AC35 -> 0 | BP5: =AD35 -> 0 | BQ5: =AE35 -> 0 | BR5: =AF35 -> 0 | BS5: =AG35 -> 0 | BT5: =AH35 -> 0 | BU5: =AI35 -> 0 | BV5: =AJ35 -> 0
B6: スパン別変状展開図 | K6: 【健全性判定集計表】
K7: スパン番号 | N7: S009 | P7: スパン長 | R7: 10.5 | U7: 前回定期点検時の判定 | W7: 応急措置前の判定 | Y7: 対策区分毎の 変状の有無 | AC7: 対策区分毎の変状の発生範囲の規模(㎡) | AK7: 備考注2
K8: 変状番号 | L8: 対象箇所 | N8: 部位区分 | P8: 変状区分 | R8: 変状種類
Y9: 外力注1 | AC9: 材質劣化注1 | AG9: 漏水注1
Y10: Ⅳ | Z10: Ⅲ | AA10: Ⅱa | AB10: Ⅱb | AC10: Ⅳ | AD10: Ⅲ | AE10: Ⅱa | AF10: Ⅱb | AG10: Ⅳ | AH10: Ⅲ | AI10: Ⅱa | AJ10: Ⅱb
AQ11: =IF(P11="材質劣化",2,IF(P11="漏水",3,1)) -> 1
AQ12: =IF(P12="材質劣化",2,IF(P12="漏水",3,1)) -> 1
AQ13: =IF(P13="材質劣化",2,IF(P13="漏水",3,1)) -> 1
AQ14: =IF(P14="材質劣化",2,IF(P14="漏水",3,1)) -> 1
AQ15: =IF(P15="材質劣化",2,IF(P15="漏水",3,1)) -> 1
AQ16: =IF(P16="材質劣化",2,IF(P16="漏水",3,1)) -> 1
AQ17: =IF(P17="材質劣化",2,IF(P17="漏水",3,1)) -> 1
AQ18: =IF(P18="材質劣化",2,IF(P18="漏水",3,1)) -> 1
AQ19: =IF(P19="材質劣化",2,IF(P19="漏水",3,1)) -> 1
AQ20: =IF(P20="材質劣化",2,IF(P20="漏水",3,1)) -> 1
AQ21: =IF(P21="材質劣化",2,IF(P21="漏水",3,1)) -> 1
AQ22: =IF(P22="材質劣化",2,IF(P22="漏水",3,1)) -> 1
... AQ34: =IF(P34="材質劣化",2,IF(P34="漏水",3,1)) -> 1
K35: 集計 判定 診断 | L35: 変状の発生規模合計(㎡) | Y35: － | AC35: =SUM(AC11:AC34) -> 0 | AD35: =SUM(AD11:AD34) -> 0 | AE35: =SUM(AE11:AE34) -> 0 | AF35: =SUM(AF11:AF34) -> 0 | AG35: =SUM(AG11:AG34) -> 0 | AH35: =SUM(AH11:AH34) -> 0 | AI35: =SUM(AI11:AI34) -> 0 | AJ35: =SUM(AJ11:AJ34) -> 0 | AK35: 覆工スパン単位の 健全性の 診断の区分 | AM35: Ⅰ
L36: 対策区分の 判定結果 | O36: 対策区分毎の変状数 | Y36: Ⅳ | Z36: Ⅲ | AA36: Ⅱa | AB36: Ⅱb | AC36: Ⅳ | AD36: Ⅲ | AE36: Ⅱa | AF36: Ⅱb | AG36: Ⅳ | AH36: Ⅲ | AI36: Ⅱa | AJ36: Ⅱb
Y37: =COUNTIF(Y11:Y34,"〇") -> 0 | Z37: =COUNTIF(Z11:Z34,"〇") -> 0 | AA37: =COUNTIF(AA11:AA34,"〇") -> 0 | AB37: =COUNTIF(AB11:AB34,"〇") -> 0 | AC37: =COUNTA(AC11:AC34) -> 0 | AD37: =COUNTA(AD11:AD34) -> 0 | AE37: =COUNTA(AE11:AE34) -> 0 | AF37: =COUNTA(AF11:AF34) -> 0 | AG37: =COUNTA(AG11:AG34) -> 0 | AH37: =COUNTA(AH11:AH34) -> 0 | AI37: =COUNTA(AI11:AI34) -> 0 | AJ37: =COUNTA(AJ11:AJ34) -> 0
K39: 所見
K43: 注1：誤記入防止のため、当該変状区分以外のセルは灰色表示とすること。
K44: 注2：応急措置を実施した場合は、その詳細を備考に記載すること。
K45: 注3：外力は覆工スパン単位、材質劣化、漏水は変状単位とすること。
B46: （以下、印刷不要）
B47: ※1：本シートは作成洩れのないよう、変状が無くても全スパン分を作成すること．また変状展開図は、様式D-2-1、様式D-2-1'と同じものを覆工スパン単位で拡大し掲載すること。
B48: ※2：変状番号は、様式D-1-1で記入した番号と整合させること。
B49: ※3：対策区分毎の変状発生規模は、様式D-1-1に記載した面積を記入すること（ただし外力はスパン単位で評価するため変状の有無の欄には面積でなく○を記入し、備考欄に状況を記入）。
B50: ※4：本様式は覆工スパン毎に作成すること。
B51: ※5：変状数が多い場合は、適時、表の行を増やして覆工スパン毎に1枚のシートに収めること。また、1スパン１シートとし、スパンに合わせてシートを追加すること。
B52: ※6：対策区分毎の変状の発生範囲の規模とは，対策を行う際に参考となる変状の長さや面積であり，変状を包含する長さや面積とする。
B53: ※7：対策範囲を示す発生範囲の規模を面積で記入することが妥当ではない変状は、発生範囲の規模の欄に○を記入するとともに、備考に内容を記入すること。

Sheet 様式D-3_S010
AU1: 様式F用→ | AV1: 覆工スパン | AY1: 変 状 数 | BK1: 変 状 規 模
AV2: 番号 | AW2: 延長 （ｍ） | AX2: 健全性の診断の 区分 | AY2: 対策区分の判定 | BK2: 覆工スパン長（ｍ） | BO2: 変状の発生範囲の規模（㎡）
B3: ■定期点検記録様式 覆工スパン別変状詳細展開図 【様式D-3】 | AY3: 外力 | BC3: 材質劣化 | BG3: 漏水 | BK3: 外力 注2 | BO3: 材質劣化 | BS3: 漏水
B4: フリガナ | E4: (ｺﾊﾞﾗﾄﾝﾈﾙ) | K4: 路線名 | N4: 国道491号（長門・俵山道路） | T4: 定期点検業者 | Y4: 株式会社荒谷建設コンサルタント | AG4: 定期点検年月日 | AK4: 45621 | AY4: Ⅳ | AZ4: Ⅲ | BA4: Ⅱa | BB4: Ⅱb | BC4: Ⅳ | BD4: Ⅲ | BE4: Ⅱa | BF4: Ⅱb | BG4: Ⅳ | BH4: Ⅲ | BI4: Ⅱa | BJ4: Ⅱb | BK4: Ⅳ | BL4: Ⅲ | BM4: Ⅱa | BN4: Ⅱb | BO4: Ⅳ | BP4: Ⅲ | BQ4: Ⅱa | BR4: Ⅱb | BS4: Ⅳ | BT4: Ⅲ | BU4: Ⅱa | BV4: Ⅱb
B5: 名 称 | E5: 小原トンネル | K5: 管理者名 | N5: 山口県長門土木建築事務所 | Y5: 河野 秀生 | AV5: =N7 -> S010 | AW5: =R7 -> 10.5 | AX5: =AM35 -> Ⅰ | AY5: =Y37 -> 0 | AZ5: =Z37 -> 0 | BA5: =AA37 -> 0 | BB5: =AB37 -> 0 | BC5: =AC37 -> 0 | BD5: =AD37 -> 0 | BE5: =AE37 -> 0 | BF5: =AF37 -> 0 | ... BJ5: =AJ37 -> 0 | BK5: =IF(Y37>0,R7,"") | BL5: =IF(Y37>0,"",IF(Z37>0,R7,"")) | BM5: =IF(Y37+Z37>0,"",IF(AA37>0,R7,"")) | BN5: =IF(Y37+Z37+AA37>0,"",IF(AB37>0,R7,"")) | BO5: =AC35 -> 0 | BP5: =AD35 -> 0 | BQ5: =AE35 -> 0 | BR5: =AF35 -> 0 | BS5: =AG35 -> 0 | BT5: =AH35 -> 0 | BU5: =AI35 -> 0 | BV5: =AJ35 -> 0
B6: スパン別変状展開図 | K6: 【健全性判定集計表】
K7: スパン番号 | N7: S010 | P7: スパン長 | R7: 10.5 | U7: 前回定期点検時の判定 | W7: 応急措置前の判定 | Y7: 対策区分毎の 変状の有無 | AC7: 対策区分毎の変状の発生範囲の規模(㎡) | AK7: 備考注2
K8: 変状番号 | L8: 対象箇所 | N8: 部位区分 | P8: 変状区分 | R8: 変状種類
Y9: 外力注1 | AC9: 材質劣化注1 | AG9: 漏水注1
Y10: Ⅳ | Z10: Ⅲ | AA10: Ⅱa | AB10: Ⅱb | AC10: Ⅳ | AD10: Ⅲ | AE10: Ⅱa | AF10: Ⅱb | AG10: Ⅳ | AH10: Ⅲ | AI10: Ⅱa | AJ10: Ⅱb
AQ11: =IF(P11="材質劣化",2,IF(P11="漏水",3,1)) -> 1
AQ12: =IF(P12="材質劣化",2,IF(P12="漏水",3,1)) -> 1
AQ13: =IF(P13="材質劣化",2,IF(P13="漏水",3,1)) -> 1
AQ14: =IF(P14="材質劣化",2,IF(P14="漏水",3,1)) -> 1
AQ15: =IF(P15="材質劣化",2,IF(P15="漏水",3,1)) -> 1
AQ16: =IF(P16="材質劣化",2,IF(P16="漏水",3,1)) -> 1
AQ17: =IF(P17="材質劣化",2,IF(P17="漏水",3,1)) -> 1
AQ18: =IF(P18="材質劣化",2,IF(P18="漏水",3,1)) -> 1
AQ19: =IF(P19="材質劣化",2,IF(P19="漏水",3,1)) -> 1
AQ20: =IF(P20="材質劣化",2,IF(P20="漏水",3,1)) -> 1
AQ21: =IF(P21="材質劣化",2,IF(P21="漏水",3,1)) -> 1
AQ22: =IF(P22="材質劣化",2,IF(P22="漏水",3,1)) -> 1
... AQ34: =IF(P34="材質劣化",2,IF(P34="漏水",3,1)) -> 1
K35: 集計 判定 診断 | L35: 変状の発生規模合計(㎡) | Y35: － | AC35: =SUM(AC11:AC34) -> 0 | AD35: =SUM(AD11:AD34) -> 0 | AE35: =SUM(AE11:AE34) -> 0 | AF35: =SUM(AF11:AF34) -> 0 | AG35: =SUM(AG11:AG34) -> 0 | AH35: =SUM(AH11:AH34) -> 0 | AI35: =SUM(AI11:AI34) -> 0 | AJ35: =SUM(AJ11:AJ34) -> 0 | AK35: 覆工スパン単位の 健全性の 診断の区分 | AM35: Ⅰ
L36: 対策区分の 判定結果 | O36: 対策区分毎の変状数 | Y36: Ⅳ | Z36: Ⅲ | AA36: Ⅱa | AB36: Ⅱb | AC36: Ⅳ | AD36: Ⅲ | AE36: Ⅱa | AF36: Ⅱb | AG36: Ⅳ | AH36: Ⅲ | AI36: Ⅱa | AJ36: Ⅱb
Y37: =COUNTIF(Y11:Y34,"〇") -> 0 | Z37: =COUNTIF(Z11:Z34,"〇") -> 0 | AA37: =COUNTIF(AA11:AA34,"〇") -> 0 | AB37: =COUNTIF(AB11:AB34,"〇") -> 0 | AC37: =COUNTA(AC11:AC34) -> 0 | AD37: =COUNTA(AD11:AD34) -> 0 | AE37: =COUNTA(AE11:AE34) -> 0 | AF37: =COUNTA(AF11:AF34) -> 0 | AG37: =COUNTA(AG11:AG34) -> 0 | AH37: =COUNTA(AH11:AH34) -> 0 | AI37: =COUNTA(AI11:AI34) -> 0 | AJ37: =COUNTA(AJ11:AJ34) -> 0
K39: 所見
K43: 注1：誤記入防止のため、当該変状区分以外のセルは灰色表示とすること。
K44: 注2：応急措置を実施した場合は、その詳細を備考に記載すること。
K45: 注3：外力は覆工スパン単位、材質劣化、漏水は変状単位とすること。
B46: （以下、印刷不要）
B47: ※1：本シートは作成洩れのないよう、変状が無くても全スパン分を作成すること．また変状展開図は、様式D-2-1、様式D-2-1'と同じものを覆工スパン単位で拡大し掲載すること。
B48: ※2：変状番号は、様式D-1-1で記入した番号と整合させること。
B49: ※3：対策区分毎の変状発生規模は、様式D-1-1に記載した面積を記入すること（ただし外力はスパン単位で評価するため変状の有無の欄には面積でなく○を記入し、備考欄に状況を記入）。
B50: ※4：本様式は覆工スパン毎に作成すること。
B51: ※5：変状数が多い場合は、適時、表の行を増やして覆工スパン毎に1枚のシートに収めること。また、1スパン１シートとし、スパンに合わせてシートを追加すること。
B52: ※6：対策区分毎の変状の発生範囲の規模とは，対策を行う際に参考となる変状の長さや面積であり，変状を包含する長さや面積とする。
B53: ※7：対策範囲を示す発生範囲の規模を面積で記入することが妥当ではない変状は、発生範囲の規模の欄に○を記入するとともに、備考に内容を記入すること。

Sheet 様式D-3_S011
AU1: 様式F用→ | AV1: 覆工スパン | AY1: 変 状 数 | BK1: 変 状 規 模
AV2: 番号 | AW2: 延長 （ｍ） | AX2: 健全性の診断の 区分 | AY2: 対策区分の判定 | BK2: 覆工スパン長（ｍ） | BO2: 変状の発生範囲の規模（㎡）
B3: ■定期点検記録様式 覆工スパン別変状詳細展開図 【様式D-3】 | AY3: 外力 | BC3: 材質劣化 | BG3: 漏水 | BK3: 外力 注2 | BO3: 材質劣化 | BS3: 漏水
B4: フリガナ | E4: (ｺﾊﾞﾗﾄﾝﾈﾙ) | K4: 路線名 | N4: 国道491号（長門・俵山道路） | T4: 定期点検業者 | Y4: 株式会社荒谷建設コンサルタント | AG4: 定期点検年月日 | AK4: 45621 | AY4: Ⅳ | AZ4: Ⅲ | BA4: Ⅱa | BB4: Ⅱb | BC4: Ⅳ | BD4: Ⅲ | BE4: Ⅱa | BF4: Ⅱb | BG4: Ⅳ | BH4: Ⅲ | BI4: Ⅱa | BJ4: Ⅱb | BK4: Ⅳ | BL4: Ⅲ | BM4: Ⅱa | BN4: Ⅱb | BO4: Ⅳ | BP4: Ⅲ | BQ4: Ⅱa | BR4: Ⅱb | BS4: Ⅳ | BT4: Ⅲ | BU4: Ⅱa | BV4: Ⅱb
B5: 名 称 | E5: 小原トンネル | K5: 管理者名 | N5: 山口県長門土木建築事務所 | Y5: 河野 秀生 | AV5: =N7 -> S011 | AW5: =R7 -> 10.5 | AX5: =AM35 -> Ⅰ | AY5: =Y37 -> 0 | AZ5: =Z37 -> 0 | BA5: =AA37 -> 0 | BB5: =AB37 -> 0 | BC5: =AC37 -> 0 | BD5: =AD37 -> 0 | BE5: =AE37 -> 0 | BF5: =AF37 -> 0 | ... BJ5: =AJ37 -> 0 | BK5: =IF(Y37>0,R7,"") | BL5: =IF(Y37>0,"",IF(Z37>0,R7,"")) | BM5: =IF(Y37+Z37>0,"",IF(AA37>0,R7,"")) | BN5: =IF(Y37+Z37+AA37>0,"",IF(AB37>0,R7,"")) | BO5: =AC35 -> 0 | BP5: =AD35 -> 0 | BQ5: =AE35 -> 0 | BR5: =AF35 -> 0 | BS5: =AG35 -> 0 | BT5: =AH35 -> 0 | BU5: =AI35 -> 0 | BV5: =AJ35 -> 0
B6: スパン別変状展開図 | K6: 【健全性判定集計表】
K7: スパン番号 | N7: S011 | P7: スパン長 | R7: 10.5 | U7: 前回定期点検時の判定 | W7: 応急措置前の判定 | Y7: 対策区分毎の 変状の有無 | AC7: 対策区分毎の変状の発生範囲の規模(㎡) | AK7: 備考注2
K8: 変状番号 | L8: 対象箇所 | N8: 部位区分 | P8: 変状区分 | R8: 変状種類
Y9: 外力注1 | AC9: 材質劣化注1 | AG9: 漏水注1
Y10: Ⅳ | Z10: Ⅲ | AA10: Ⅱa | AB10: Ⅱb | AC10: Ⅳ | AD10: Ⅲ | AE10: Ⅱa | AF10: Ⅱb | AG10: Ⅳ | AH10: Ⅲ | AI10: Ⅱa | AJ10: Ⅱb
AQ11: =IF(P11="材質劣化",2,IF(P11="漏水",3,1)) -> 1
AQ12: =IF(P12="材質劣化",2,IF(P12="漏水",3,1)) -> 1
AQ13: =IF(P13="材質劣化",2,IF(P13="漏水",3,1)) -> 1
AQ14: =IF(P14="材質劣化",2,IF(P14="漏水",3,1)) -> 1
AQ15: =IF(P15="材質劣化",2,IF(P15="漏水",3,1)) -> 1
AQ16: =IF(P16="材質劣化",2,IF(P16="漏水",3,1)) -> 1
AQ17: =IF(P17="材質劣化",2,IF(P17="漏水",3,1)) -> 1
AQ18: =IF(P18="材質劣化",2,IF(P18="漏水",3,1)) -> 1
AQ19: =IF(P19="材質劣化",2,IF(P19="漏水",3,1)) -> 1
AQ20: =IF(P20="材質劣化",2,IF(P20="漏水",3,1)) -> 1
AQ21: =IF(P21="材質劣化",2,IF(P21="漏水",3,1)) -> 1
AQ22: =IF(P22="材質劣化",2,IF(P22="漏水",3,1)) -> 1
... AQ34: =IF(P34="材質劣化",2,IF(P34="漏水",3,1)) -> 1
K35: 集計 判定 診断 | L35: 変状の発生規模合計(㎡) | Y35: － | AC35: =SUM(AC11:AC34) -> 0 | AD35: =SUM(AD11:AD34) -> 0 | AE35: =SUM(AE11:AE34) -> 0 | AF35: =SUM(AF11:AF34) -> 0 | AG35: =SUM(AG11:AG34) -> 0 | AH35: =SUM(AH11:AH34) -> 0 | AI35: =SUM(AI11:AI34) -> 0 | AJ35: =SUM(AJ11:AJ34) -> 0 | AK35: 覆工スパン単位の 健全性の 診断の区分 | AM35: Ⅰ
L36: 対策区分の 判定結果 | O36: 対策区分毎の変状数 | Y36: Ⅳ | Z36: Ⅲ | AA36: Ⅱa | AB36: Ⅱb | AC36: Ⅳ | AD36: Ⅲ | AE36: Ⅱa | AF36: Ⅱb | AG36: Ⅳ | AH36: Ⅲ | AI36: Ⅱa | AJ36: Ⅱb
Y37: =COUNTIF(Y11:Y34,"〇") -> 0 | Z37: =COUNTIF(Z11:Z34,"〇") -> 0 | AA37: =COUNTIF(AA11:AA34,"〇") -> 0 | AB37: =COUNTIF(AB11:AB34,"〇") -> 0 | AC37: =COUNTA(AC11:AC34) -> 0 | AD37: =COUNTA(AD11:AD34) -> 0 | AE37: =COUNTA(AE11:AE34) -> 0 | AF37: =COUNTA(AF11:AF34) -> 0 | AG37: =COUNTA(AG11:AG34) -> 0 | AH37: =COUNTA(AH11:AH34) -> 0 | AI37: =COUNTA(AI11:AI34) -> 0 | AJ37: =COUNTA(AJ11:AJ34) -> 0
K39: 所見
K43: 注1：誤記入防止のため、当該変状区分以外のセルは灰色表示とすること。
K44: 注2：応急措置を実施した場合は、その詳細を備考に記載すること。
K45: 注3：外力は覆工スパン単位、材質劣化、漏水は変状単位とすること。
B46: （以下、印刷不要）
B47: ※1：本シートは作成洩れのないよう、変状が無くても全スパン分を作成すること．また変状展開図は、様式D-2-1、様式D-2-1'と同じものを覆工スパン単位で拡大し掲載すること。
B48: ※2：変状番号は、様式D-1-1で記入した番号と整合させること。
B49: ※3：対策区分毎の変状発生規模は、様式D-1-1に記載した面積を記入すること（ただし外力はスパン単位で評価するため変状の有無の欄には面積でなく○を記入し、備考欄に状況を記入）。
B50: ※4：本様式は覆工スパン毎に作成すること。
B51: ※5：変状数が多い場合は、適時、表の行を増やして覆工スパン毎に1枚のシートに収めること。また、1スパン１シートとし、スパンに合わせてシートを追加すること。
B52: ※6：対策区分毎の変状の発生範囲の規模とは，対策を行う際に参考となる変状の長さや面積であり，変状を包含する長さや面積とする。
B53: ※7：対策範囲を示す発生範囲の規模を面積で記入することが妥当ではない変状は、発生範囲の規模の欄に○を記入するとともに、備考に内容を記入すること。

Sheet 様式D-3_S012
AU1: 様式F用→ | AV1: 覆工スパン | AY1: 変 状 数 | BK1: 変 状 規 模
AV2: 番号 | AW2: 延長 （ｍ） | AX2: 健全性の診断の 区分 | AY2: 対策区分の判定 | BK2: 覆工スパン長（ｍ） | BO2: 変状の発生範囲の規模（㎡）
B3: ■定期点検記録様式 覆工スパン別変状詳細展開図 【様式D-3】 | AY3: 外力 | BC3: 材質劣化 | BG3: 漏水 | BK3: 外力 注2 | BO3: 材質劣化 | BS3: 漏水
B4: フリガナ | E4: (ｺﾊﾞﾗﾄﾝﾈﾙ) | K4: 路線名 | N4: 国道491号（長門・俵山道路） | T4: 定期点検業者 | Y4: 株式会社荒谷建設コンサルタント | AG4: 定期点検年月日 | AK4: 45621 | AY4: Ⅳ | AZ4: Ⅲ | BA4: Ⅱa | BB4: Ⅱb | BC4: Ⅳ | BD4: Ⅲ | BE4: Ⅱa | BF4: Ⅱb | BG4: Ⅳ | BH4: Ⅲ | BI4: Ⅱa | BJ4: Ⅱb | BK4: Ⅳ | BL4: Ⅲ | BM4: Ⅱa | BN4: Ⅱb | BO4: Ⅳ | BP4: Ⅲ | BQ4: Ⅱa | BR4: Ⅱb | BS4: Ⅳ | BT4: Ⅲ | BU4: Ⅱa | BV4: Ⅱb
B5: 名 称 | E5: 小原トンネル | K5: 管理者名 | N5: 山口県長門土木建築事務所 | Y5: 河野 秀生 | AV5: =N7 -> S012 | AW5: =R7 -> 10.5 | AX5: =AM35 -> Ⅰ | AY5: =Y37 -> 0 | AZ5: =Z37 -> 0 | BA5: =AA37 -> 0 | BB5: =AB37 -> 0 | BC5: =AC37 -> 0 | BD5: =AD37 -> 0 | BE5: =AE37 -> 0 | BF5: =AF37 -> 0 | ... BJ5: =AJ37 -> 0 | BK5: =IF(Y37>0,R7,"") | BL5: =IF(Y37>0,"",IF(Z37>0,R7,"")) | BM5: =IF(Y37+Z37>0,"",IF(AA37>0,R7,"")) | BN5: =IF(Y37+Z37+AA37>0,"",IF(AB37>0,R7,"")) | BO5: =AC35 -> 0 | BP5: =AD35 -> 0 | BQ5: =AE35 -> 0 | BR5: =AF35 -> 0 | BS5: =AG35 -> 0 | BT5: =AH35 -> 0 | BU5: =AI35 -> 0 | BV5: =AJ35 -> 0
B6: スパン別変状展開図 | K6: 【健全性判定集計表】
K7: スパン番号 | N7: S012 | P7: スパン長 | R7: 10.5 | U7: 前回定期点検時の判定 | W7: 応急措置前の判定 | Y7: 対策区分毎の 変状の有無 | AC7: 対策区分毎の変状の発生範囲の規模(㎡) | AK7: 備考注2
K8: 変状番号 | L8: 対象箇所 | N8: 部位区分 | P8: 変状区分 | R8: 変状種類
Y9: 外力注1 | AC9: 材質劣化注1 | AG9: 漏水注1
Y10: Ⅳ | Z10: Ⅲ | AA10: Ⅱa | AB10: Ⅱb | AC10: Ⅳ | AD10: Ⅲ | AE10: Ⅱa | AF10: Ⅱb | AG10: Ⅳ | AH10: Ⅲ | AI10: Ⅱa | AJ10: Ⅱb
AQ11: =IF(P11="材質劣化",2,IF(P11="漏水",3,1)) -> 1
AQ12: =IF(P12="材質劣化",2,IF(P12="漏水",3,1)) -> 1
AQ13: =IF(P13="材質劣化",2,IF(P13="漏水",3,1)) -> 1
AQ14: =IF(P14="材質劣化",2,IF(P14="漏水",3,1)) -> 1
AQ15: =IF(P15="材質劣化",2,IF(P15="漏水",3,1)) -> 1
AQ16: =IF(P16="材質劣化",2,IF(P16="漏水",3,1)) -> 1
AQ17: =IF(P17="材質劣化",2,IF(P17="漏水",3,1)) -> 1
AQ18: =IF(P18="材質劣化",2,IF(P18="漏水",3,1)) -> 1
AQ19: =IF(P19="材質劣化",2,IF(P19="漏水",3,1)) -> 1
AQ20: =IF(P20="材質劣化",2,IF(P20="漏水",3,1)) -> 1
AQ21: =IF(P21="材質劣化",2,IF(P21="漏水",3,1)) -> 1
AQ22: =IF(P22="材質劣化",2,IF(P22="漏水",3,1)) -> 1
... AQ34: =IF(P34="材質劣化",2,IF(P34="漏水",3,1)) -> 1
K35: 集計 判定 診断 | L35: 変状の発生規模合計(㎡) | Y35: － | AC35: =SUM(AC11:AC34) -> 0 | AD35: =SUM(AD11:AD34) -> 0 | AE35: =SUM(AE11:AE34) -> 0 | AF35: =SUM(AF11:AF34) -> 0 | AG35: =SUM(AG11:AG34) -> 0 | AH35: =SUM(AH11:AH34) -> 0 | AI35: =SUM(AI11:AI34) -> 0 | AJ35: =SUM(AJ11:AJ34) -> 0 | AK35: 覆工スパン単位の 健全性の 診断の区分 | AM35: Ⅰ
L36: 対策区分の 判定結果 | O36: 対策区分毎の変状数 | Y36: Ⅳ | Z36: Ⅲ | AA36: Ⅱa | AB36: Ⅱb | AC36: Ⅳ | AD36: Ⅲ | AE36: Ⅱa | AF36: Ⅱb | AG36: Ⅳ | AH36: Ⅲ | AI36: Ⅱa | AJ36: Ⅱb
Y37: =COUNTIF(Y11:Y34,"〇") -> 0 | Z37: =COUNTIF(Z11:Z34,"〇") -> 0 | AA37: =COUNTIF(AA11:AA34,"〇") -> 0 | AB37: =COUNTIF(AB11:AB34,"〇") -> 0 | AC37: =COUNTA(AC11:AC34) -> 0 | AD37: =COUNTA(AD11:AD34) -> 0 | AE37: =COUNTA(AE11:AE34) -> 0 | AF37: =COUNTA(AF11:AF34) -> 0 | AG37: =COUNTA(AG11:AG34) -> 0 | AH37: =COUNTA(AH11:AH34) -> 0 | AI37: =COUNTA(AI11:AI34) -> 0 | AJ37: =COUNTA(AJ11:AJ34) -> 0
K39: 所見
K43: 注1：誤記入防止のため、当該変状区分以外のセルは灰色表示とすること。
K44: 注2：応急措置を実施した場合は、その詳細を備考に記載すること。
K45: 注3：外力は覆工スパン単位、材質劣化、漏水は変状単位とすること。
B46: （以下、印刷不要）
B47: ※1：本シートは作成洩れのないよう、変状が無くても全スパン分を作成すること．また変状展開図は、様式D-2-1、様式D-2-1'と同じものを覆工スパン単位で拡大し掲載すること。
B48: ※2：変状番号は、様式D-1-1で記入した番号と整合させること。
B49: ※3：対策区分毎の変状発生規模は、様式D-1-1に記載した面積を記入すること（ただし外力はスパン単位で評価するため変状の有無の欄には面積でなく○を記入し、備考欄に状況を記入）。
B50: ※4：本様式は覆工スパン毎に作成すること。
B51: ※5：変状数が多い場合は、適時、表の行を増やして覆工スパン毎に1枚のシートに収めること。また、1スパン１シートとし、スパンに合わせてシートを追加すること。
B52: ※6：対策区分毎の変状の発生範囲の規模とは，対策を行う際に参考となる変状の長さや面積であり，変状を包含する長さや面積とする。
B53: ※7：対策範囲を示す発生範囲の規模を面積で記入することが妥当ではない変状は、発生範囲の規模の欄に○を記入するとともに、備考に内容を記入すること。

Sheet 様式D-3_S013
AU1: 様式F用→ | AV1: 覆工スパン | AY1: 変 状 数 | BK1: 変 状 規 模
AV2: 番号 | AW2: 延長 （ｍ） | AX2: 健全性の診断の 区分 | AY2: 対策区分の判定 | BK2: 覆工スパン長（ｍ） | BO2: 変状の発生範囲の規模（㎡）
B3: ■定期点検記録様式 覆工スパン別変状詳細展開図 【様式D-3】 | AY3: 外力 | BC3: 材質劣化 | BG3: 漏水 | BK3: 外力 注2 | BO3: 材質劣化 | BS3: 漏水
B4: フリガナ | E4: (ｺﾊﾞﾗﾄﾝﾈﾙ) | K4: 路線名 | N4: 国道491号（長門・俵山道路） | T4: 定期点検業者 | Y4: 株式会社荒谷建設コンサルタント | AG4: 定期点検年月日 | AK4: 45621 | AY4: Ⅳ | AZ4: Ⅲ | BA4: Ⅱa | BB4: Ⅱb | BC4: Ⅳ | BD4: Ⅲ | BE4: Ⅱa | BF4: Ⅱb | BG4: Ⅳ | BH4: Ⅲ | BI4: Ⅱa | BJ4: Ⅱb | BK4: Ⅳ | BL4: Ⅲ | BM4: Ⅱa | BN4: Ⅱb | BO4: Ⅳ | BP4: Ⅲ | BQ4: Ⅱa | BR4: Ⅱb | BS4: Ⅳ | BT4: Ⅲ | BU4: Ⅱa | BV4: Ⅱb
B5: 名 称 | E5: 小原トンネル | K5: 管理者名 | N5: 山口県長門土木建築事務所 | Y5: 河野 秀生 | AV5: =N7 -> S013 | AW5: =R7 -> 10.5 | AX5: =AM35 -> Ⅰ | AY5: =Y37 -> 0 | AZ5: =Z37 -> 0 | BA5: =AA37 -> 0 | BB5: =AB37 -> 0 | BC5: =AC37 -> 0 | BD5: =AD37 -> 0 | BE5: =AE37 -> 0 | BF5: =AF37 -> 0 | ... BJ5: =AJ37 -> 0 | BK5: =IF(Y37>0,R7,"") | BL5: =IF(Y37>0,"",IF(Z37>0,R7,"")) | BM5: =IF(Y37+Z37>0,"",IF(AA37>0,R7,"")) | BN5: =IF(Y37+Z37+AA37>0,"",IF(AB37>0,R7,"")) | BO5: =AC35 -> 0 | BP5: =AD35 -> 0 | BQ5: =AE35 -> 0 | BR5: =AF35 -> 0 | BS5: =AG35 -> 0 | BT5: =AH35 -> 0 | BU5: =AI35 -> 0 | BV5: =AJ35 -> 0
B6: スパン別変状展開図 | K6: 【健全性判定集計表】
K7: スパン番号 | N7: S013 | P7: スパン長 | R7: 10.5 | U7: 前回定期点検時の判定 | W7: 応急措置前の判定 | Y7: 対策区分毎の 変状の有無 | AC7: 対策区分毎の変状の発生範囲の規模(㎡) | AK7: 備考注2
K8: 変状番号 | L8: 対象箇所 | N8: 部位区分 | P8: 変状区分 | R8: 変状種類
Y9: 外力注1 | AC9: 材質劣化注1 | AG9: 漏水注1
Y10: Ⅳ | Z10: Ⅲ | AA10: Ⅱa | AB10: Ⅱb | AC10: Ⅳ | AD10: Ⅲ | AE10: Ⅱa | AF10: Ⅱb | AG10: Ⅳ | AH10: Ⅲ | AI10: Ⅱa | AJ10: Ⅱb
AQ11: =IF(P11="材質劣化",2,IF(P11="漏水",3,1)) -> 1
AQ12: =IF(P12="材質劣化",2,IF(P12="漏水",3,1)) -> 1
AQ13: =IF(P13="材質劣化",2,IF(P13="漏水",3,1)) -> 1
AQ14: =IF(P14="材質劣化",2,IF(P14="漏水",3,1)) -> 1
AQ15: =IF(P15="材質劣化",2,IF(P15="漏水",3,1)) -> 1
AQ16: =IF(P16="材質劣化",2,IF(P16="漏水",3,1)) -> 1
AQ17: =IF(P17="材質劣化",2,IF(P17="漏水",3,1)) -> 1
AQ18: =IF(P18="材質劣化",2,IF(P18="漏水",3,1)) -> 1
AQ19: =IF(P19="材質劣化",2,IF(P19="漏水",3,1)) -> 1
AQ20: =IF(P20="材質劣化",2,IF(P20="漏水",3,1)) -> 1
AQ21: =IF(P21="材質劣化",2,IF(P21="漏水",3,1)) -> 1
AQ22: =IF(P22="材質劣化",2,IF(P22="漏水",3,1)) -> 1
... AQ34: =IF(P34="材質劣化",2,IF(P34="漏水",3,1)) -> 1
K35: 集計 判定 診断 | L35: 変状の発生規模合計(㎡) | Y35: － | AC35: =SUM(AC11:AC34) -> 0 | AD35: =SUM(AD11:AD34) -> 0 | AE35: =SUM(AE11:AE34) -> 0 | AF35: =SUM(AF11:AF34) -> 0 | AG35: =SUM(AG11:AG34) -> 0 | AH35: =SUM(AH11:AH34) -> 0 | AI35: =SUM(AI11:AI34) -> 0 | AJ35: =SUM(AJ11:AJ34) -> 0 | AK35: 覆工スパン単位の 健全性の 診断の区分 | AM35: Ⅰ
L36: 対策区分の 判定結果 | O36: 対策区分毎の変状数 | Y36: Ⅳ | Z36: Ⅲ | AA36: Ⅱa | AB36: Ⅱb | AC36: Ⅳ | AD36: Ⅲ | AE36: Ⅱa | AF36: Ⅱb | AG36: Ⅳ | AH36: Ⅲ | AI36: Ⅱa | AJ36: Ⅱb
Y37: =COUNTIF(Y11:Y34,"〇") -> 0 | Z37: =COUNTIF(Z11:Z34,"〇") -> 0 | AA37: =COUNTIF(AA11:AA34,"〇") -> 0 | AB37: =COUNTIF(AB11:AB34,"〇") -> 0 | AC37: =COUNTA(AC11:AC34) -> 0 | AD37: =COUNTA(AD11:AD34) -> 0 | AE37: =COUNTA(AE11:AE34) -> 0 | AF37: =COUNTA(AF11:AF34) -> 0 | AG37: =COUNTA(AG11:AG34) -> 0 | AH37: =COUNTA(AH11:AH34) -> 0 | AI37: =COUNTA(AI11:AI34) -> 0 | AJ37: =COUNTA(AJ11:AJ34) -> 0
K39: 所見
K43: 注1：誤記入防止のため、当該変状区分以外のセルは灰色表示とすること。
K44: 注2：応急措置を実施した場合は、その詳細を備考に記載すること。
K45: 注3：外力は覆工スパン単位、材質劣化、漏水は変状単位とすること。
B46: （以下、印刷不要）
B47: ※1：本シートは作成洩れのないよう、変状が無くても全スパン分を作成すること．また変状展開図は、様式D-2-1、様式D-2-1'と同じものを覆工スパン単位で拡大し掲載すること。
B48: ※2：変状番号は、様式D-1-1で記入した番号と整合させること。
B49: ※3：対策区分毎の変状発生規模は、様式D-1-1に記載した面積を記入すること（ただし外力はスパン単位で評価するため変状の有無の欄には面積でなく○を記入し、備考欄に状況を記入）。
B50: ※4：本様式は覆工スパン毎に作成すること。
B51: ※5：変状数が多い場合は、適時、表の行を増やして覆工スパン毎に1枚のシートに収めること。また、1スパン１シートとし、スパンに合わせてシートを追加すること。
B52: ※6：対策区分毎の変状の発生範囲の規模とは，対策を行う際に参考となる変状の長さや面積であり，変状を包含する長さや面積とする。
B53: ※7：対策範囲を示す発生範囲の規模を面積で記入することが妥当ではない変状は、発生範囲の規模の欄に○を記入するとともに、備考に内容を記入すること。

Sheet 様式D-3_S014
AU1: 様式F用→ | AV1: 覆工スパン | AY1: 変 状 数 | BK1: 変 状 規 模
AV2: 番号 | AW2: 延長 （ｍ） | AX2: 健全性の診断の 区分 | AY2: 対策区分の判定 | BK2: 覆工スパン長（ｍ） | BO2: 変状の発生範囲の規模（㎡）
B3: ■定期点検記録様式 覆工スパン別変状詳細展開図 【様式D-3】 | AY3: 外力 | BC3: 材質劣化 | BG3: 漏水 | BK3: 外力 注2 | BO3: 材質劣化 | BS3: 漏水
B4: フリガナ | E4: (ｺﾊﾞﾗﾄﾝﾈﾙ) | K4: 路線名 | N4: 国道491号（長門・俵山道路） | T4: 定期点検業者 | Y4: 株式会社荒谷建設コンサルタント | AG4: 定期点検年月日 | AK4: 45621 | AY4: Ⅳ | AZ4: Ⅲ | BA4: Ⅱa | BB4: Ⅱb | BC4: Ⅳ | BD4: Ⅲ | BE4: Ⅱa | BF4: Ⅱb | BG4: Ⅳ | BH4: Ⅲ | BI4: Ⅱa | BJ4: Ⅱb | BK4: Ⅳ | BL4: Ⅲ | BM4: Ⅱa | BN4: Ⅱb | BO4: Ⅳ | BP4: Ⅲ | BQ4: Ⅱa | BR4: Ⅱb | BS4: Ⅳ | BT4: Ⅲ | BU4: Ⅱa | BV4: Ⅱb
B5: 名 称 | E5: 小原トンネル | K5: 管理者名 | N5: 山口県長門土木建築事務所 | Y5: 河野 秀生 | AV5: =N7 -> S014 | AW5: =R7 -> 10.5 | AX5: =AM35 -> Ⅱ | AY5: =Y37 -> 0 | AZ5: =Z37 -> 0 | BA5: =AA37 -> 0 | BB5: =AB37 -> 0 | BC5: =AC37 -> 0 | BD5: =AD37 -> 0 | BE5: =AE37 -> 0 | BF5: =AF37 -> 1 | ... BJ5: =AJ37 -> 0 | BK5: =IF(Y37>0,R7,"") | BL5: =IF(Y37>0,"",IF(Z37>0,R7,"")) | BM5: =IF(Y37+Z37>0,"",IF(AA37>0,R7,"")) | BN5: =IF(Y37+Z37+AA37>0,"",IF(AB37>0,R7,"")) | BO5: =AC35 -> 0 | BP5: =AD35 -> 0 | BQ5: =AE35 -> 0 | BR5: =AF35 -> 0.0025 | BS5: =AG35 -> 0 | BT5: =AH35 -> 0 | BU5: =AI35 -> 0 | BV5: =AJ35 -> 0
B6: スパン別変状展開図 | K6: 【健全性判定集計表】
K7: スパン番号 | N7: S014 | P7: スパン長 | R7: 10.5 | U7: 前回定期点検時の判定 | W7: 応急措置前の判定 | Y7: 対策区分毎の 変状の有無 | AC7: 対策区分毎の変状の発生範囲の規模(㎡) | AK7: 備考注2
K8: 変状番号 | L8: 対象箇所 | N8: 部位区分 | P8: 変状区分 | R8: 変状種類
Y9: 外力注1 | AC9: 材質劣化注1 | AG9: 漏水注1
Y10: Ⅳ | Z10: Ⅲ | AA10: Ⅱa | AB10: Ⅱb | AC10: Ⅳ | AD10: Ⅲ | AE10: Ⅱa | AF10: Ⅱb | AG10: Ⅳ | AH10: Ⅲ | AI10: Ⅱa | AJ10: Ⅱb
K11: 1 | L11: 覆工 | N11: アーチ（右側） | P11: 材質劣化 | R11: 鋼材腐食 | U11: － | AF11: 0.0025 | AQ11: =IF(P11="材質劣化",2,IF(P11="漏水",3,1)) -> 2
AQ12: =IF(P12="材質劣化",2,IF(P12="漏水",3,1)) -> 1
AQ13: =IF(P13="材質劣化",2,IF(P13="漏水",3,1)) -> 1
AQ14: =IF(P14="材質劣化",2,IF(P14="漏水",3,1)) -> 1
AQ15: =IF(P15="材質劣化",2,IF(P15="漏水",3,1)) -> 1
AQ16: =IF(P16="材質劣化",2,IF(P16="漏水",3,1)) -> 1
AQ17: =IF(P17="材質劣化",2,IF(P17="漏水",3,1)) -> 1
AQ18: =IF(P18="材質劣化",2,IF(P18="漏水",3,1)) -> 1
AQ19: =IF(P19="材質劣化",2,IF(P19="漏水",3,1)) -> 1
AQ20: =IF(P20="材質劣化",2,IF(P20="漏水",3,1)) -> 1
AQ21: =IF(P21="材質劣化",2,IF(P21="漏水",3,1)) -> 1
AQ22: =IF(P22="材質劣化",2,IF(P22="漏水",3,1)) -> 1
AQ23: =IF(P23="材質劣化",2,IF(P23="漏水",3,1)) -> 1
... AQ34: =IF(P34="材質劣化",2,IF(P34="漏水",3,1)) -> 1
K35: 集計 判定 診断 | L35: 変状の発生規模合計(㎡) | Y35: － | AC35: =SUM(AC11:AC34) -> 0 | AD35: =SUM(AD11:AD34) -> 0 | AE35: =SUM(AE11:AE34) -> 0 | AF35: =SUM(AF11:AF34) -> 0.0025 | AG35: =SUM(AG11:AG34) -> 0 | AH35: =SUM(AH11:AH34) -> 0 | AI35: =SUM(AI11:AI34) -> 0 | AJ35: =SUM(AJ11:AJ34) -> 0 | AK35: 覆工スパン単位の 健全性の 診断の区分 | AM35: Ⅱ
L36: 対策区分の 判定結果 | O36: 対策区分毎の変状数 | Y36: Ⅳ | Z36: Ⅲ | AA36: Ⅱa | AB36: Ⅱb | AC36: Ⅳ | AD36: Ⅲ | AE36: Ⅱa | AF36: Ⅱb | AG36: Ⅳ | AH36: Ⅲ | AI36: Ⅱa | AJ36: Ⅱb
Y37: =COUNTIF(Y11:Y34,"〇") -> 0 | Z37: =COUNTIF(Z11:Z34,"〇") -> 0 | AA37: =COUNTIF(AA11:AA34,"〇") -> 0 | AB37: =COUNTIF(AB11:AB34,"〇") -> 0 | AC37: =COUNTA(AC11:AC34) -> 0 | AD37: =COUNTA(AD11:AD34) -> 0 | AE37: =COUNTA(AE11:AE34) -> 0 | AF37: =COUNTA(AF11:AF34) -> 1 | AG37: =COUNTA(AG11:AG34) -> 0 | AH37: =COUNTA(AH11:AH34) -> 0 | AI37: =COUNTA(AI11:AI34) -> 0 | AJ37: =COUNTA(AJ11:AJ34) -> 0
K39: 所見
K43: 注1：誤記入防止のため、当該変状区分以外のセルは灰色表示とすること。
K44: 注2：応急措置を実施した場合は、その詳細を備考に記載すること。
K45: 注3：外力は覆工スパン単位、材質劣化、漏水は変状単位とすること。
B46: （以下、印刷不要）
B47: ※1：本シートは作成洩れのないよう、変状が無くても全スパン分を作成すること．また変状展開図は、様式D-2-1、様式D-2-1'と同じものを覆工スパン単位で拡大し掲載すること。
B48: ※2：変状番号は、様式D-1-1で記入した番号と整合させること。
B49: ※3：対策区分毎の変状発生規模は、様式D-1-1に記載した面積を記入すること（ただし外力はスパン単位で評価するため変状の有無の欄には面積でなく○を記入し、備考欄に状況を記入）。
B50: ※4：本様式は覆工スパン毎に作成すること。
B51: ※5：変状数が多い場合は、適時、表の行を増やして覆工スパン毎に1枚のシートに収めること。また、1スパン１シートとし、スパンに合わせてシートを追加すること。
B52: ※6：対策区分毎の変状の発生範囲の規模とは，対策を行う際に参考となる変状の長さや面積であり，変状を包含する長さや面積とする。
B53: ※7：対策範囲を示す発生範囲の規模を面積で記入することが妥当ではない変状は、発生範囲の規模の欄に○を記入するとともに、備考に内容を記入すること。

Sheet 様式D-3_S015
AU1: 様式F用→ | AV1: 覆工スパン | AY1: 変 状 数 | BK1: 変 状 規 模
AV2: 番号 | AW2: 延長 （ｍ） | AX2: 健全性の診断の 区分 | AY2: 対策区分の判定 | BK2: 覆工スパン長（ｍ） | BO2: 変状の発生範囲の規模（㎡）
B3: ■定期点検記録様式 覆工スパン別変状詳細展開図 【様式D-3】 | AY3: 外力 | BC3: 材質劣化 | BG3: 漏水 | BK3: 外力 注2 | BO3: 材質劣化 | BS3: 漏水
B4: フリガナ | E4: (ｺﾊﾞﾗﾄﾝﾈﾙ) | K4: 路線名 | N4: 国道491号（長門・俵山道路） | T4: 定期点検業者 | Y4: 株式会社荒谷建設コンサルタント | AG4: 定期点検年月日 | AK4: 45621 | AY4: Ⅳ | AZ4: Ⅲ | BA4: Ⅱa | BB4: Ⅱb | BC4: Ⅳ | BD4: Ⅲ | BE4: Ⅱa | BF4: Ⅱb | BG4: Ⅳ | BH4: Ⅲ | BI4: Ⅱa | BJ4: Ⅱb | BK4: Ⅳ | BL4: Ⅲ | BM4: Ⅱa | BN4: Ⅱb | BO4: Ⅳ | BP4: Ⅲ | BQ4: Ⅱa | BR4: Ⅱb | BS4: Ⅳ | BT4: Ⅲ | BU4: Ⅱa | BV4: Ⅱb
