Workbook
Name Ⅱa: OFFSET(#REF!,,,COUNTA(#REF!)-3,1)
Name Ⅱb: OFFSET(#REF!,,,COUNTA(#REF!)-3,1)
Name Ⅲ: OFFSET(#REF!,,,COUNTA(#REF!)-3,1)
Name Ⅳ: OFFSET(#REF!,,,COUNTA(#REF!)-3,1)
Name コード: #REF!
Name ジェットファン種別: #REF!
Name その他: #REF!
Name その他: #REF!
Name その他: '(参考)リスト'!$C$45
Name その他施設: #REF!
Name その他施設: #REF!
Name その他施設: '(参考)リスト'!$C$76:$C$80
Name トンネル工法: #REF!
Name トンネル等級: #REF!
Name トンネル分類: #REF!
Name 一般有料区分: #REF!
Name 外力: #REF!
Name 外力: #REF!
Name 外力: '(参考)リスト'!$E$16:$E$23
Name 完成年次: #REF!
Name 換気: #REF!
Name 換気施設: #REF!
Name 換気施設: #REF!
Name 換気施設: '(参考)リスト'!$C$55:$C$59
Name 吸音板: #REF!
Name 区分: #REF!
Name 形式: #REF!
Name 警報表示板: #REF!
Name 健全度: #REF!
Name 個数: #REF!
Name 交通量: #REF!
Name 坑門: #REF!
Name 坑門: #REF!
Name 坑門: '(参考)リスト'!$C$16:$C$29
Name 更新年次: #REF!
Name 最大土被り: #REF!
Name 材質劣化: #REF!
Name 材質劣化: #REF!
Name 材質劣化: '(参考)リスト'!$E$25:$E$30
Name 写真番号: #REF!
Name 車道幅: #REF!
Name 縦断勾配: #REF!
Name 照明個数: #REF!
Name 照明施設: #REF!
Name 照明施設: #REF!
Name 照明施設: '(参考)リスト'!$C$51:$C$53
Name 照明種別: #REF!
Name 占用物件: #REF!
Name 措置後判定: '[2](参考)ﾘｽﾄ'!$AL$3:$AL$8
Name 措置履歴実施: '[2](参考)ﾘｽﾄ'!$AU$3:$AU$5
Name 対応方針: #REF!
Name 対象箇所: [1]!テーブル1[対象箇所]
Name 対象箇所: [1]!テーブル1[対象箇所]
Name 対象箇所: [3]!テーブル1[対象箇所]
Name 対象箇所: [4]!テーブル1[対象箇所]
Name 対象箇所: [5]!テーブル1[対象箇所]
Name 対象箇所: [6]!テーブル1[対象箇所]
Name 対象箇所: [6]!テーブル1[対象箇所]
Name 対象箇所: [6]!テーブル1[対象箇所]
Name 対象箇所: [6]!テーブル1[対象箇所]

Sheet 様式A-1
B2: ■トンネル台帳 トンネル諸元、非常用施設諸元 【様式A-1】 | W2: 34.04683,131.63281
B3: フリガナ | D3: トノミトンネル | H3: 路線名 | J3: 主要道路防府環状線 | P3: 管理者名 | R3: 山口県防府土木 建築事務所 | W3: 緊急輸送道路
B4: 名 称 | D4: 富海トンネル | W4: 代替路の有無
B5: 所在地 | D5: 自 | E5: 山口県防府市富海 | H5: 作成者 | K5: セントラルコンサルタント株式会社 鹿子嶋 康博 | P5: 作成年月日 | R5: 44581 | U5: トンネル延長 | X5: L= | Z5: 178 | AB5: ｍ
D6: 至 | E6: 山口県防府市富海 | U6: ﾄﾝﾈﾙの分類 | X6: 陸上トンネル（掘進工法）
B7: 起点 | C7: 緯度 | E7: 340248.6 | H7: 完成年月日 | K7: 昭和33年 | M7: 舗装 | O7: 種 別 | Q7: アスファルト | S7: トンネル非常用施設 | T7: 施設の内訳 | X7: 種別・方式 | Y7: 型式 | Z7: 個数 | AA7: 更新年度 | AE7: =INT(E7/10000) -> 34 | AF7: =INT(E7/100)-AE7*100 -> 2 | AG7: =E7-AE7*10000-AF7*100 -> 48.6 | AH7: =ROUND(AE7+AF7/60+AG7/60/60,5) -> 34.04683 | AI7: =TEXT(AH7,"0.00000") -> 34.04683
C8: 経度 | E8: 1313758.1 | H8: 供用年月日 | K8: - | O8: 厚 さ | T8: 通報設備 | U8: 通話型通報設備 | Y8: - | Z8: 1 | AA8: - | AE8: =INT(E8/10000) -> 131 | AF8: =INT(E8/100)-AE8*100 -> 37 | AG8: =E8-AE8*10000-AF8*100 -> 58.1 | AH8: =ROUND(AE8+AF8/60+AG8/60/60,5) -> 131.63281 | AI8: =TEXT(AH8,"0.00000") -> 131.63281
B9: 終点 | C9: 緯度 | E9: 340244.6 | H9: トンネル区分 | K9: Ｄ | O9: 面 積 | Q9: - | U9: 操作型通報設備 | Y9: - | Z9: 5 | AA9: -
C10: 経度 | E10: 1313753 | H10: 内装種類 | K10: 覆工(内装板) | O10: 更新年次 | Q10: - | U10: 自動通報設備 | Y10: - | Z10: - | AA10: -
B11: 一般有料区分 | E11: 一般（無料） | H11: 天井板種類 | K11: 覆工(内装なし) | M11: 排水 | O11: 種 別 | Q11: 自然排水 | T11: 警報設備 | U11: 非常警報設備 | Y11: - | Z11: - | AA11: -
B12: 土かぶり | E12: - | G12: m | H12: 坑門 | I12: 起点 | J12: 形式 | K12: 面壁型 | O12: 更新年次 | Q12: - | T12: 消火設備 | U12: 消 火 器 | Y12: - | Z12: 5 | AA12: -
B13: 内空断面積 | E13: 46.9 | G13: ㎡ | J13: 延長 | K13: 0 | L13: m | M13: 施設 | P13: 種別・方式 | Q13: 個数 | R13: 更新年次 | U13: 消火栓設備 | Y13: - | Z13: - | AA13: -
B14: 交 通 量 | E14: 13637 | G14: 台/日 | I14: 終点 | J14: 形式 | K14: 面壁型 | M14: 道路附属物等 | N14: 照明 | P14: LED | Q14: 86 | R14: 平成26 | T14: 避難誘導設備 | U14: 誘導表示設備 | Y14: - | Z14: - | AA14: - | AC14: 非常電話案内板6
C15: 道 路 幅 | E15: 8.5 | G15: m | J15: 延長 | K15: 0 | L15: m | N15: 換気 | P15: 自然換気 | Q15: - | R15: - | U15: 避難情報提供設備 | Y15: - | Z15: - | AA15: -
B16: 幅 員 | C16: 車 道 幅 | E16: 6.7 | G16: m | H16: 竣工巻厚 | I16: アーチ | K16: - | L16: cm | N16: 標識 | P16: - | Q16: - | R16: -
G17: m | I17: 側 壁 | K17: - | L17: cm | N17: 警報表示板 | P17: - | Q17: - | R17: - | U17: 避難通路 | Y17: - | Z17: - | AA17: -
C18: 歩道等幅 | E18: - | G18: m | K18: - | L18: cm | N18: 吸音板 | P18: - | Q18: - | R18: - | U18: 排煙設備 | Y18: - | Z18: - | AA18: -
B19: 高さ | C19: 建築限界高 | E19: 4.5 | G19: m | I19: インバート | K19: - | L19: cm | T19: その他の設備 | U19: 給水栓設備 | Y19: - | Z19: - | AA19: -
C20: 中央高 | E20: 6.2 | G20: m | H20: 半径 | I20: アーチ | K20: - | L20: cm | U20: 無線通信補助設備 | Y20: - | Z20: - | AA20: -
C21: 有効高 | E21: 4.5 | G21: m | I21: 側 壁 | K21: - | L21: cm | U21: 水噴霧設備 | Y21: - | Z21: - | AA21: -
C22: 縦断勾配 | E22: - | I22: インバート | L22: cm | U22: 監視設備 | Y22: - | Z22: - | AA22: -
B23: 線 形 | C23: 直線区間長 | H23: 占用物件 | I23: 種 類 | K23: 寸 法 | M23: 管理者名 | Q23: 更新年次 | S23: 非常用施設 関連設備 | U23: 予備発電設備 | Y23: - | Z23: - | AA23: -
C24: 曲線区間 | D24: 区間長 | F24: 178
D25: 起点側ｸﾛｿｲﾄﾞ | F25: -
D26: 曲線半径 | F26: -
D27: 終点側ｸﾛｿｲﾄﾞ | F27: - | S27: その他 | U27: 非常駐車帯 | Y27: - | Z27: - | AA27: -
B28: トンネル工法 | E28: その他 | U28: 方向転換所 | Y28: - | Z28: - | AA28: -
C29: ※緯度・経度については、秒の少数第二位の単位まで記入すること。（例；36度20分35.56秒の場合、362035.36と入力）

Sheet 様式A-2
B3: ■トンネル台帳 トンネル情報一覧表 【様式A-2】
B4: フリガナ | E4: ='様式A-1'!D3 -> トノミトンネル | J4: 路線名 | M4: ='様式A-1'!J3 -> 主要道路防府環状線 | S4: 作成者 | Y4: ='様式A-1'!K5 -> セントラルコンサルタント株式会社 鹿子嶋 康博 | AE4: 作成年月日 | AI4: ='様式A-1'!R5 -> 44581
B5: 名 称 | E5: ='様式A-1'!D4 -> 富海トンネル | J5: 管理者名 | M5: ='様式A-1'!R3 -> 山口県防府土木 建築事務所
B6: 覆工 ｽﾊﾟﾝ 番号 | C6: ｽﾊﾟﾝ長 | D6: 追加距離 | F6: トンネル本体工 | K6: 照明施設 | O6: 非常用施設 | AE6: 換気施設 | AK6: その他附属物等
O7: ='様式A-1'!T8 -> 通報設備 | R7: ='様式A-1'!T11 -> 警報設備 | S7: ='様式A-1'!T12 -> 消火設備 | U7: ='様式A-1'!T14 -> 避難誘導設備 | Y7: ='様式A-1'!T19 -> その他の設備 | AC7: 特記事項
D8: 起点側 | E8: 終点側 | F8: 特記事項 | I8: 内装板 | J8: 天井板 | K8: 基本照明 | L8: 入口出口照明 | M8: 特記事項 | O8: ='様式A-1'!U8 -> 通話型通報設備 | P8: ='様式A-1'!U9 -> 操作型通報設備 | Q8: ='様式A-1'!U10 -> 自動通報設備 | R8: ='様式A-1'!U11 -> 非常警報設備 | S8: ='様式A-1'!U12 -> 消 火 器 | T8: ='様式A-1'!U13 -> 消火栓設備 | U8: ='様式A-1'!U14 -> 誘導表示設備 | V8: ='様式A-1'!U15 -> 避難情報提供設備 | W8: ='様式A-1'!U17 -> 避難通路 | X8: ='様式A-1'!U18 -> 排煙設備 | Y8: ='様式A-1'!U19 -> 給水栓設備 | Z8: ='様式A-1'!U20 -> 無線通信補助設備 | AA8: ='様式A-1'!U21 -> 水噴霧設備 | AB8: ='様式A-1'!U22 -> 監視設備 | AE8: JF | AF8: VI計 | AG8: CO計 | AH8: 風向 風速計 | AI8: 特記事項
C9: (m) | D9: (m) | E9: (m)
B10: PS | C10: 0 | D10: =C10 -> 0 | E10: =D10 -> 0 | F10: 坑門(面壁型) | AK10: 抗外灯
B11: S1 | C11: 2.9 | D11: =E10 -> 0 | E11: 2.9 | K11: ○
B12: S2 | C12: 2.5 | D12: 2.9 | E12: 5.4 | I12: ○ | P12: ① | S12: ①
B13: S3 | C13: 4 | D13: 5.4 | E13: 9.4 | I13: ○
B14: S4 | C14: 2.5 | D14: 9.4 | E14: 11.9 | I14: ○ | K14: ○
B15: S5 | C15: 4 | D15: 11.9 | E15: 15.9 | I15: ○ | K15: ○ | AK15: 非常電話案内板
B16: S6 | C16: 4 | D16: 15.9 | E16: 19.9 | I16: ○ | K16: ○
B17: S7 | C17: 4 | D17: 19.9 | E17: 23.9 | I17: ○ | K17: ○
B18: S8 | C18: 4 | D18: 23.9 | E18: 27.9 | I18: ○ | K18: ○
B19: S9 | C19: 4 | D19: 27.9 | E19: 31.9 | I19: ○ | K19: ○
B20: S10 | C20: 4 | D20: 31.9 | E20: 35.9 | I20: ○ | K20: ○
B21: S11 | C21: 4 | D21: 35.9 | E21: 39.9 | I21: ○ | K21: ○
B22: S12 | C22: 4 | D22: 39.9 | E22: 43.9 | I22: ○ | K22: ○ | AK22: 非常電話案内板
B23: S13 | C23: 4 | D23: 43.9 | E23: 47.9 | I23: ○ | K23: ○ | P23: ② | S23: ②
B24: S14 | C24: 2.7 | D24: 47.9 | E24: 50.6 | I24: ○ | K24: ○
B25: S15 | C25: 2.7 | D25: 50.6 | E25: 53.3 | I25: ○ | K25: ○
B26: S16 | C26: 5.5 | D26: 53.3 | E26: 58.8 | I26: ○ | K26: ○
B27: S17 | C27: 4 | D27: 58.8 | E27: 62.8 | I27: ○ | K27: ○
B28: S18 | C28: 4 | D28: 62.8 | E28: 66.8 | I28: ○ | K28: ○ | AK28: 非常電話案内板
B29: S19 | C29: 4 | D29: 66.8 | E29: 70.8 | I29: ○ | K29: ○
B30: S20 | C30: 5.5 | D30: 70.8 | E30: 76.3 | I30: ○ | K30: ○
B31: S21 | C31: 6.6 | D31: 76.3 | E31: 82.9 | I31: ○ | K31: ○
B32: S22 | C32: 4 | D32: 82.9 | E32: 86.9 | I32: ○ | K32: ○
B33: S23 | C33: 6.6 | D33: 86.9 | E33: 93.5 | I33: ○ | K33: ○ | O33: ① | P33: ③ | S33: ③
B34: S24 | C34: 5.4 | D34: 93.5 | E34: 98.9 | I34: ○ | K34: ○
B35: S25 | C35: 5.4 | D35: 98.9 | E35: 104.3 | I35: ○ | K35: ○
B36: S26 | C36: 4 | D36: 104.3 | E36: 108.3 | I36: ○ | K36: ○
B37: S27 | C37: 3.8 | D37: 108.3 | E37: 112.1 | I37: ○ | K37: ○
B38: S28 | C38: 4 | D38: 112.1 | E38: 116.1 | I38: ○ | K38: ○ | AK38: 非常電話案内板
B39: S29 | C39: 4 | D39: 116.1 | E39: 120.1 | I39: ○ | K39: ○
B40: S30 | C40: 5.2 | D40: 120.1 | E40: 125.3 | I40: ○ | K40: ○
B41: S31 | C41: 5.2 | D41: 125.3 | E41: 130.5 | I41: ○ | K41: ○
B42: S32 | C42: 4 | D42: 130.5 | E42: 134.5 | I42: ○ | K42: ○ | P42: ④ | S42: ④
...

Sheet 様式A-3
B3: ■トンネル台帳 トンネル記録（位置図、断面図、施工実績他）【様式A-3】
B4: フリガナ | E4: ='様式A-1'!D3 -> トノミトンネル | J4: 路線名 | M4: ='様式A-1'!J3 -> 主要道路防府環状線 | S4: 作成者 | W4: ='様式A-1'!K5 -> セントラルコンサルタント株式会社 鹿子嶋 康博 | AC4: 作成年月日 | AF4: ='様式A-1'!R5 -> 44581
B5: 名 称 | E5: ='様式A-1'!D4 -> 富海トンネル | J5: 管理者名 | M5: ='様式A-1'!R3 -> 山口県防府土木 建築事務所
B6: 位置図・現況写真・標準断面図・地質縦断図・施工実績
AA18: 終点側

Sheet 様式B(トンネル様式1P001)
B2: ■定期点検記録様式 トンネル変状・異常箇所写真位置図 | T2: トンネルID | V2: 34.04681,131.63281 | AA2: Ⅰ | AB2: あり | AC2: 陸上トンネル 掘進工法
B3: フリガナ | D3: トノミトンネル | H3: 路線名 | J3: 主要道路防府環状線 | N3: 管理者名 | P3: 山口県防府土木建築事務所 | T3: 緊急輸送道路 | AA3: Ⅱ | AB3: なし | AC3: 陸上トンネル 開削工法
B4: 名 称 | D4: 富海トンネル | T4: 代替路の有無 | AA4: Ⅲ | AC4: 陸上トンネル その他
B5: 所在地 | D5: 自 | E5: 山口県防府市富海 | H5: 定期点検業者 | K5: セントラルコンサルタント株式会社 | O5: 定期点検年月日 | Q5: 44337 | T5: トンネル延長 | V5: L= | W5: 178 | Y5: ｍ | AA5: Ⅳ | AC5: 水底トンネル 掘進工法
D6: 至 | E6: 山口県防府市富海 | H6: 定期点検者名 | K6: 鹿子嶋 康博 | T6: ﾄﾝﾈﾙの分類 | V6: 陸上トンネル（掘進工法） | AC6: 水底トンネル 沈埋工法
B7: 起点 | C7: 緯度 | D7: 34°02′48.6″ | F7: 変状・異常 箇所数合計 | H7: トンネル 本体工 | J7: 材質劣化 | L7: Ⅱ | M7: 9 | N7: Ⅲ | O7: 25 | P7: Ⅳ | Q7: 0 | R7: トンネル毎 の健全性 | T7: Ⅲ | V7: 附属物の 取付状態 | W7: ◯ （応急措置後） | Y7: 9 | AC7: 水底トンネル 開削工法
AC8: 水底トンネル その他
C10: 経度 | D10: 131°37′58.1″
J11: 漏水 | L11: Ⅱ | M11: 36 | N11: Ⅲ | O11: 0 | P11: Ⅳ | Q11: 0
B13: 終点 | C13: 緯度 | D13: 34°02′44.6″ | W13: ✕ | Y13: 2
J15: 外力 | L15: Ⅱ | M15: 18 | N15: Ⅲ | O15: 0 | P15: Ⅳ | Q15: 0 | AC15: 0
C16: 経度 | D16: 131°37′53.0″
B19: トンネル変状・異常箇所写真位置図
O23: 34.04681,131.63281
P26: 注１：本位置図は、見下げた状態で記載すること。 注２：覆工スパン番号は横断目地毎(矢板工法の場合は上半アーチ の横断目地毎)に設定すること。 注３：写真番号に付する変状番号は、各覆工スパンの変状に対して新た に確認された場合は順次追加していくこと。 注４：横断目地の変状は前の覆工スパン番号で計上すること。 注５：１枚に収まらない場合は、複数枚に分けて作成すること。
C28: ※1 トンネル本体工の変状数は、材質劣化、漏水に起因するものは変状単位で、外力に起因するものはスパン単位で計上すること。
C29: ※2 本体工の変状に対しては、健全性の判定区分Ⅱ～Ⅳについて添付すること。また、点検前に実施された措置によりⅠと判定された箇所も添付すること。
C30: ※3 附属物の取付状態の○欄については、応急措置前に判定区分×とした箇所のうち応急措置により○判定とした箇所の数を記入すること。
C31: ※4 附属物の異常番号は、本体工と番号が重複しないよう101番以降とする等の配慮を行い、分かりやすく記録すること。

Sheet 様式B(トンネル様式1P002)
B2: ■定期点検記録様式 トンネル変状・異常箇所写真位置図 | T2: トンネルID | V2: 34.04681,131.63281 | AA2: Ⅰ | AB2: あり | AC2: 陸上トンネル 掘進工法
B3: フリガナ | D3: トノミトンネル | H3: 路線名 | J3: 主要道路防府環状線 | N3: 管理者名 | P3: 山口県防府土木建築事務所 | T3: 緊急輸送道路 | AA3: Ⅱ | AB3: なし | AC3: 陸上トンネル 開削工法
B4: 名 称 | D4: 富海トンネル | T4: 代替路の有無 | AA4: Ⅲ | AC4: 陸上トンネル その他
B5: 所在地 | D5: 自 | E5: 山口県防府市富海 | H5: 定期点検業者 | K5: セントラルコンサルタント株式会社 | O5: 定期点検年月日 | Q5: 44337 | T5: トンネル延長 | V5: L= | W5: 178 | Y5: ｍ | AA5: Ⅳ | AC5: 水底トンネル 掘進工法
D6: 至 | E6: 山口県防府市富海 | H6: 定期点検者名 | K6: 鹿子嶋 康博 | T6: ﾄﾝﾈﾙの分類 | V6: 陸上トンネル（掘進工法） | AC6: 水底トンネル 沈埋工法
B7: 起点 | C7: 緯度 | D7: 34°02′48.6″ | F7: 変状・異常 箇所数合計 | H7: トンネル 本体工 | J7: 材質劣化 | L7: Ⅱ | M7: 9 | N7: Ⅲ | O7: 25 | P7: Ⅳ | Q7: 0 | R7: トンネル毎 の健全性 | T7: Ⅲ | V7: 附属物の 取付状態 | W7: ◯ （応急措置後） | Y7: 9 | AC7: 水底トンネル 開削工法
AC8: 水底トンネル その他
C10: 経度 | D10: 131°37′58.1″
J11: 漏水 | L11: Ⅱ | M11: 36 | N11: Ⅲ | O11: 0 | P11: Ⅳ | Q11: 0
B13: 終点 | C13: 緯度 | D13: 34°02′44.6″ | W13: ✕ | Y13: 2
J15: 外力 | L15: Ⅱ | M15: 18 | N15: Ⅲ | O15: 0 | P15: Ⅳ | Q15: 0 | AC15: 0
C16: 経度 | D16: 131°37′53.0″
B19: トンネル変状・異常箇所写真位置図
P26: 注１：本位置図は、見下げた状態で記載すること。 注２：覆工スパン番号は横断目地毎(矢板工法の場合は上半アーチ の横断目地毎)に設定すること。 注３：写真番号に付する変状番号は、各覆工スパンの変状に対して新た に確認された場合は順次追加していくこと。 注４：横断目地の変状は前の覆工スパン番号で計上すること。 注５：１枚に収まらない場合は、複数枚に分けて作成すること。
C28: ※1 トンネル本体工の変状数は、材質劣化、漏水に起因するものは変状単位で、外力に起因するものはスパン単位で計上すること。
C29: ※2 本体工の変状に対しては、健全性の判定区分Ⅱ～Ⅳについて添付すること。また、点検前に実施された措置によりⅠと判定された箇所も添付すること。
C30: ※3 附属物の取付状態の○欄については、応急措置前に判定区分×とした箇所のうち応急措置により○判定とした箇所の数を記入すること。
C31: ※4 附属物の異常番号は、本体工と番号が重複しないよう101番以降とする等の配慮を行い、分かりやすく記録すること。

Sheet 様式C-1-1
B2: ■定期点検記録様式 全スパン定期点検結果総括表（トンネル本体工） 【様式C-1-1】
B3: フリガナ | F3: トノミトンネル | I3: 路線名 | K3: 主要道路防府環状線 | O3: 定期点検業者 | Q3: セントラルコンサルタント株式会社 | U3: 定期点検年月日 | Y3: 44337
B4: 名 称 | F4: 富海トンネル | I4: 管理者名 | K4: 山口県防府土木建築事務所 | O4: 定期点検者名 | Q4: 鹿子嶋 康博
B5: 定期点検結果 | C5: 覆工 スパン 番号 | E5: 変状 番号 | F5: 距離 （m） | G5: 変状部位 | I5: 変 状 の 内 容 | O5: 前回定期点検時の状態 | Q5: 今回定期点検結果 | U5: 措置履歴 | Z5: 対応方針 ・ 特記事項
G7: 対象箇所 | H7: 部位区分 | I7: 変状区分 | J7: 変状種類 | M7: 変状の発生範囲の規模 | N7: 前回定期点検時 との比較 | O7: 状態 | P7: 健全性 | Q7: 対策区分 | S7: 調査の 要否 | T7: 措置の 要否 | U7: 実施 | V7: 措置の実施状況
Q8: 応急措置前 | R8: 応急措置後
C9: S2 | E9: 1 | F9: 22.5 | G9: 覆工・坑門 | H9: 横断目地（左側） | I9: 材質劣化 | J9: 補強・補修材の破損 | M9: 5.60m×0.40m | N9: 新たに発生 | O9: － | P9: － | R9: Ⅲ | S9: 否 | T9: 要対策 | Z9: はく落防止対策工
C10: S2 | E10: 2 | F10: 22.5 | G10: 覆工・坑門 | H10: 横断目地（右側） | I10: 材質劣化 | J10: 補強・補修材の破損 | M10: 7.40m×0.40m | N10: 新たに発生 | O10: － | P10: － | R10: Ⅲ | S10: 否 | T10: 要対策 | Z10: はく落防止対策工
C11: S3 | E11: 1 | F11: 23.6 | G11: 覆工・坑門 | H11: アーチ（左側） | I11: 材質劣化 | J11: 補強・補修材の破損 | M11: 6.20m×0.30m | N11: 新たに発生 | O11: － | P11: － | R11: Ⅲ | S11: 否 | T11: 要対策 | Z11: はく落防止対策工
C12: S3 | E12: 2 | F12: 24.3 | G12: 覆工・坑門 | H12: アーチ（天端） | I12: 材質劣化 | J12: 鋼材腐食 | M12: 0.05m×0.20m | N12: 新たに発生 | O12: － | P12: － | R12: Ⅱb | S12: 否 | T12: 要監視 | Z12: 監視
C13: S4 | E13: 1 | F13: 28.6 | G13: 覆工・坑門 | H13: 水平打ち継ぎ目（左側） | I13: 漏水 | J13: 漏水 | M13: 1.40m×5.40m | N13: 拡大 | O13: Ⅱb | P13: Ⅱ | R13: Ⅱb | S13: 否 | T13: 要監視 | Z13: 監視
C14: S4 | E14: 2 | F14: 28 | G14: 覆工・坑門 | H14: アーチ（左側） | I14: 材質劣化 | J14: うき・はく離 | M14: 0.10m×0.10m | N14: 新たに発生 | O14: － | P14: － | R14: Ⅱa | S14: 否 | T14: 要対策 | Z14: はく落防止対策工
C15: S4 | E15: 3 | F15: 37.2 | G15: 覆工・坑門 | H15: アーチ（右側） | I15: 漏水 | J15: 漏水 | M15: 4.00m×0.60m | N15: 新たに発生 | O15: － | P15: － | R15: Ⅱb | S15: 否 | T15: 要監視 | Z15: 監視
C16: S6 | E16: 1 | F16: 39.1 | G16: 覆工・坑門 | H16: 横断目地（右側） | I16: 漏水 | J16: 補強・補修材の破損 | M16: 0.10m×0.15m | N16: 進行が認められない | O16: Ⅱa | P16: Ⅱ | R16: Ⅱa | S16: 否 | T16: 要対策 | Z16: 漏水防止対策工
C17: S7 | E17: 1 | F17: 40.1 | G17: 覆工・坑門 | H17: アーチ（左側） | I17: 外力 | J17: ひび割れ | M17: 幅0.5mm×長さ3.3m | N17: 進行が認められない | O17: － | P17: － | R17: Ⅱb | S17: 否 | T17: 要監視 | Z17: 監視
C18: S7 | E18: 2 | F18: 43.3 | G18: 路面 | H18: 側溝 | I18: 漏水 | J18: その他 | M18: 0.40m×3.30m | N18: 拡大 | O18: Ⅱb | P18: Ⅱ | R18: Ⅱb | S18: 否 | T18: 要監視 | Z18: 監視
C19: S8 | E19: 1 | F19: 44.1 | G19: 覆工・坑門 | H19: アーチ（左側） | I19: 外力 | J19: ひび割れ | M19: 幅0.3mm×長さ3.9m | N19: 進行が認められない | O19: Ⅰ | P19: Ⅰ | R19: Ⅱb | S19: 否 | T19: 要監視 | Z19: 監視
C20: S8 | E20: 2 | F20: 49 | G20: 覆工・坑門 | H20: アーチ（右側） | I20: 外力 | J20: ひび割れ | M20: 幅0.5mm×長さ0.7m | N20: 新たに発生 | O20: － | P20: － | R20: Ⅱb | S20: 否 | T20: 要監視 | Z20: 監視
... C39: S16 | E39: 1 | F39: 71.1 | G39: 覆工・坑門 | H39: アーチ（右側） | I39: 漏水 | J39: 漏水 | M39: 1.80m×0.20m | N39: 滴水→にじみ | O39: Ⅱa | P39: Ⅱ | R39: Ⅱb | S39: 否 | T39: 要監視 | Z39: 監視
B40: ■定期点検記録様式 全スパン定期点検結果総括表（トンネル本体工） 【様式C-1-1】
B41: フリガナ | F41: トノミトンネル | I41: 路線名 | K41: 主要道路防府環状線 | O41: 定期点検業者 | Q41: セントラルコンサルタント株式会社 | U41: 定期点検年月日 | Y41: 44337
B42: 名 称 | F42: 富海トンネル | I42: 管理者名 | K42: 山口県防府土木建築事務所 | O42: 定期点検者名 | Q42: 鹿子嶋 康博
B43: 定期点検結果 | C43: 覆工 スパン 番号 | E43: 変状 番号 | F43: 距離 （m） | G43: 変状部位 | I43: 変 状 の 内 容 | O43: 前回定期点検時の状態 | Q43: 今回定期点検結果 | U43: 措置履歴 | Z43: 対応方針 ・ 特記事項
G45: 対象箇所 | H45: 部位区分 | I45: 変状区分 | J45: 変状種類 | M45: 変状の発生範囲の規模 | N45: 前回定期点検時 との比較 | O45: 状態 | P45: 健全性 | Q45: 対策区分 | S45: 調査の 要否 | T45: 措置の 要否 | U45: 実施 | V45: 措置の実施状況
Q46: 応急措置前 | R46: 応急措置後
C47: S16 | E47: 2 | F47: 71.4 | G47: 覆工・坑門 | H47: アーチ（右側） | I47: 材質劣化 | J47: 補強・補修材の破損 | M47: 3.20m×0.30m | N47: 新たに発生 | O47: － | P47: － | R47: Ⅲ | S47: 否 | T47: 要対策 | Z47: はく落防止対策工
C48: S16 | E48: 3 | F48: 72 | G48: 覆工・坑門 | H48: アーチ（右側） | I48: 材質劣化 | J48: 補強・補修材の破損 | M48: 7.20m×0.40m | N48: 新たに発生 | O48: － | P48: － | R48: Ⅲ | S48: 否 | T48: 要対策 | Z48: はく落防止対策工
C49: S16 | E49: 4 | F49: 75.9 | G49: 覆工・坑門 | H49: 横断目地（右側） | I49: 材質劣化 | J49: 補強・補修材の破損 | M49: 7.30m×0.40m | N49: 新たに発生 | O49: － | P49: － | R49: Ⅲ | S49: 否 | T49: 要対策 | Z49: はく落防止対策工
C50: S16 | E50: 5 | F50: 75.2 | G50: 路面 | H50: 側溝 | I50: 漏水 | J50: その他 | M50: 0.50m×6.00m | N50: 進行が認められない | O50: Ⅱb | P50: Ⅱ | R50: Ⅱb | S50: 否 | T50: 要監視 | Z50: 監視
C51: S17 | E51: 1 | F51: 76.4 | G51: 覆工・坑門 | H51: 横断目地（右側） | I51: 漏水 | J51: 漏水 | M51: 3.20m×0.50m | N51: 新たに発生 | O51: － | P51: － | R51: Ⅱa | S51: 否 | T51: 要対策 | Z51: 漏水防止対策工
C52: S18 | E52: 1 | F52: 83.9 | G52: 覆工・坑門 | H52: 横断目地（左側） | I52: 材質劣化 | J52: 補強・補修材の破損 | M52: 7.20m×0.40m | N52: 新たに発生 | O52: － | P52: － | R52: Ⅲ | S52: 否 | T52: 要対策 | Z52: はく落防止対策工
C53: S18 | E53: 2 | F53: 81.6 | G53: 路面 | H53: 側溝 | I53: 漏水 | J53: その他 | M53: 0.70m×8.50m | N53: 新たに発生 | O53: － | P53: － | R53: Ⅱb | S53: 否 | T53: 要監視 | Z53: 監視
C54: S19 | E54: 1 | F54: 86.3 | G54: 路面 | H54: 側溝 | I54: 漏水 | J54: その他 | M54: 0.50m×4.60m | N54: 新たに発生 | O54: － | P54: － | R54: Ⅱb | S54: 否 | T54: 要監視 | Z54: 監視
C55: S19 | E55: 2 | F55: 87.6 | G55: 路面 | H55: 側溝 | I55: 漏水 | J55: その他 | M55: 0.40m×7.60m | N55: 進行が認められない | O55: Ⅱb | P55: Ⅱ | R55: Ⅱb | S55: 否 | T55: 要監視 | Z55: 監視
C56: S20 | E56: 1 | F56: 89.4 | G56: 覆工・坑門 | H56: 側壁（左側） | I56: 漏水 | J56: 漏水 | M56: 0.90m×1.60m | N56: 進行が認められない | O56: Ⅱb | P56: Ⅱ | R56: Ⅱb | S56: 否 | T56: 要監視 | Z56: 監視
C57: S21 | E57: 1 | F57: 96.6 | G57: 覆工・坑門 | H57: アーチ（天端） | I57: 材質劣化 | J57: 鋼材腐食 | M57: 0.10m×0.20m | N57: 新たに発生 | O57: － | P57: － | R57: Ⅱb | S57: 否 | T57: 要監視 | Z57: 監視
C58: S22 | E58: 1 | F58: 101.7 | G58: 覆工・坑門 | H58: アーチ（左側） | I58: 材質劣化 | J58: うき・はく離 | M58: 0.40m×0.70m | N58: 進行 | O58: Ⅰ | P58: Ⅰ | R58: Ⅰ | S58: 否 | T58: 否
C59: S22 | E59: 2 | F59: 104 | G59: 覆工・坑門 | H59: 横断目地（左側） | I59: 材質劣化 | J59: 補強・補修材の破損 | M59: 7.00m×0.40m | N59: 新たに発生 | O59: － | P59: － | R59: Ⅲ | S59: 否 | T59: 要対策 | Z59: はく落防止対策工
C60: S22 | E60: 3 | F60: 104 | G60: 覆工・坑門 | H60: 横断目地（右側） | I60: 材質劣化 | J60: 補強・補修材の破損 | M60: 7.30m×0.40m | N60: 新たに発生 | O60: － | P60: － | R60: Ⅲ | S60: 否 | T60: 要対策 | Z60: はく落防止対策工
C61: S22 | E61: 4 | F61: 104 | G61: 路面 | H61: 側溝 | I61: 漏水 | J61: その他 | M61: 0.40m×4.60m | N61: 拡大 | O61: Ⅱb | P61: Ⅱ | R61: Ⅱb | S61: 否 | T61: 要監視 | Z61: 監視
...

Sheet 様式C-1-2
B2: ■定期点検記録様式 定期点検結果総括表（トンネル内附属物等の取付状態） 【様式C-1-2】
B3: フリガナ | F3: トノミトンネル | J3: 路線名 | L3: 主要道路防府環状線 | O3: 定期点検業者 | Q3: セントラルコンサルタント株式会社 | U3: 定期点検年月日 | Y3: 44337
B4: 名 称 | F4: 富海トンネル | J4: 管理者名 | L4: 山口県防府土木建築事務所 | O4: 定期点検者名 | Q4: 鹿子嶋 康博
B5: 定期点検結果 | C5: 覆工 スパン 番号 | E5: 異常 番号 | F5: 距離 （m） | G5: 異常部位 | J5: 異 常 の 内 容 | P5: 定期点検結果 | X5: 対応方針 ・ 特記事項
G6: 対象箇所 | I6: 部位区分 | J6: 異常種類 | N6: 異常の発生範囲の規模 | P6: 異常判定区分 | R6: 実施 | S6: 応急措置の内容
P7: 応急措置前 | Q7: 応急措置後
C8: PS | E8: 1 | F8: 5.4 | G8: その他施設 | H8: その他 | I8: 附属物本体 | J8: 変形，欠損 | N8: 1箇所 | Q8: ×
C9: S11 | E9: 1 | F9: 55 | G9: その他施設 | H9: 内装板取付部材 | I9: 取付部材 | J9: 前回異常個所（金具(本体含む)破損） | N9: 2箇所 | Q9: ○
C10: S12 | E10: 1 | F10: 59.1 | G10: その他施設 | H10: 内装板取付部材 | I10: 取付部材 | J10: 前回異常個所(内装板金具(本体含む)破損) | N10: 2箇所 | Q10: ○
C11: S13 | E11: 1 | F11: 63 | G11: その他施設 | H11: 内装板取付部材 | I11: 取付部材 | J11: 前回異常個所(内装板金具破損) | N11: 1箇所 | Q11: ○
C12: S13 | E12: 2 | F12: 62 | G12: 照明施設 | H12: ケーブル類 | I12: 取付部材 | J12: 緩み，脱落 | N12: 1箇所 | P12: × | Q12: × | R12: 済 | S12: 結束(バンド) | X12: 交換
C13: S13 | E13: 3 | F13: 62.5 | G13: その他施設 | H13: 内装板取付部材 | I13: 取付部材 | J13: 前回異常個所(内装板金具破損) | N13: 1箇所 | Q13: ○
C14: S23 | E14: 1 | F14: 106 | G14: その他施設 | H14: 内装板取付部材 | I14: 取付部材 | J14: 前回異常個所(内装板金具破損) | N14: 1箇所 | Q14: ○
C15: S23 | E15: 2 | F15: 108.2 | G15: その他施設 | H15: 内装板取付部材 | I15: 取付部材 | J15: 前回異常個所(内装板金具(本体含む)破損) | N15: 1箇所 | Q15: ○
C16: S31 | E16: 1 | F16: 145.7 | G16: その他施設 | H16: 内装板取付部材 | I16: 取付部材 | J16: 前回異常個所(内装板金具(本体含む)破損) | N16: 2箇所 | Q16: ○
C17: S32 | E17: 1 | F17: 150 | G17: その他施設 | H17: 内装板取付部材 | I17: 取付部材 | J17: 前回異常個所(内装板金具破損) | N17: 1箇所 | Q17: ○
C18: S40 | E18: 1 | F18: 182.1 | G18: その他施設 | H18: 内装板取付部材 | I18: 取付部材 | J18: 前回異常個所(内装板金具(本体含む)破損) | N18: 1箇所 | Q18: ○
C39: ※ 異常判定区分×について記入すること。また、応急措置により○と判定された箇所も記入すること。
C40: ※ 応急措置を実施しないで判定した箇所の異常判定区分は、異常判定区分の応急措置後の欄に記入すること。
C41: ※ 異常の除去が不完全で、緊急対応が必要な場合は対応方針欄に記入すること。
C42: ※ １スパンの覆工に複数の異常がある場合は、異常箇所毎に記入すること。
C43: ※ 行が不足する場合は、適時、表の行を増やすこと。

Sheet 様式C-2
B2: ■定期点検記録様式 状態の把握の内容 【様式C-2】
B3: フリガナ | E3: トノミトンネル | H3: 路線名 | J3: 主要道路防府環状線 | M3: 定期点検業者 | R3: セントラルコンサルタント株式会社 | U3: 定期点検年月日 | X3: 44337
B4: 名 称 | E4: 富海トンネル | H4: 管理者名 | J4: 山口県防府土木建築事務所 | M4: 定期点検者名 | R4: 鹿子嶋 康博
B5: 状態の把握の内容 | C5: 覆工スパン 番号 | E5: 変状 番号 | F5: 状態の把握の内容
F6: 年月日 | H6: 内容 | O6: 結果 | W6: 対策区分の 判定 | Y6: 健全性
B22: 注）状態の把握において、微破壊・非破壊検査や各種試験等を実施した場合について記載する。
B23: ※ 行が不足する場合は、適時、表の行を増やすこと。

Sheet 様式D-1-1(トンネル様式2P001)
B2: ■定期点検記録様式 変状写真台帳 | Y2: Ⅰ
B3: フリガナ | D3: トノミトンネル | H3: 路線名 | J3: 主要道路防府環状線 | M3: 定期点検業者 | P3: セントラルコンサルタント株式会社 | S3: 定期点検年月日 | U3: 44337 | Y3: Ⅱ
B4: 名 称 | D4: 富海トンネル | H4: 管理者名 | J4: 山口県防府土木建築事務所 | M4: 定期点検者名 | P4: 鹿子嶋 康博 | Y4: Ⅲ
B5: 写真 番号 | C5: 覆工 スパン 番号 | D5: S2 | M5: 写真 番号 | N5: 覆工 スパン 番号 | O5: S2 | Y5: Ⅳ
C7: 変状 番号 | D7: 1 | N7: 変状 番号 | O7: 2
B9: 変状 部位 | C9: 対象 箇所 | D9: 覆工・坑門 | M9: 変状 部位 | N9: 対象 箇所 | O9: 覆工・坑門
C11: 部位 区分 | D11: 横断目地（左側） | N11: 部位 区分 | O11: 横断目地（右側）
B13: 変状区分 | D13: 材質劣化 | M13: 変状区分 | O13: 材質劣化
B14: 変状種類 | D14: 補強・補修材の破損 | M14: 変状種類 | O14: 補強・補修材の破損
B15: 健全性 | C15: 応急措置前 | M15: 健全性 | N15: 応急措置前
C16: 応急措置後 | E16: Ⅲ | N16: 応急措置後 | P16: Ⅲ
B17: 変状の発生範囲の規模 | E17: 5.60m×0.40m | M17: 変状の発生範囲の規模 | P17: 7.40m×0.40m
B18: 前回定期点検時の状態 | E18: - | M18: 前回定期点検時の状態 | P18: -
B19: 調査方針 | M19: 調査方針
B20: 対策履歴 | H20: 実施状況（実施日） | M20: 対策履歴 | S20: 実施状況（実施日）
B21: メモ | D21: 樋工アンカー腐食(全数) | M21: メモ | O21: 樋工アンカー腐食(全数)
B22: 写真 番号 | C22: 覆工 スパン 番号 | D22: S3 | M22: 写真 番号 | N22: 覆工 スパン 番号 | O22: S3
C24: 変状 番号 | D24: 1 | N24: 変状 番号 | O24: 2
B26: 変状 部位 | C26: 対象 箇所 | D26: 覆工・坑門 | M26: 変状 部位 | N26: 対象 箇所 | O26: 覆工・坑門
C28: 部位 区分 | D28: アーチ（左側） | N28: 部位 区分 | O28: アーチ（天端）
B30: 変状区分 | D30: 材質劣化 | M30: 変状区分 | O30: 材質劣化
B31: 変状種類 | D31: 補強・補修材の破損 | M31: 変状種類 | O31: 鋼材腐食
B32: 健全性 | C32: 応急措置前 | M32: 健全性 | N32: 応急措置前
C33: 応急措置後 | E33: Ⅲ | N33: 応急措置後 | P33: Ⅱb
B34: 変状の発生範囲の規模 | E34: 6.20m×0.30m | M34: 変状の発生範囲の規模 | P34: 0.05m×0.20m
B35: 前回定期点検時の状態 | E35: - | M35: 前回定期点検時の状態 | P35: -
B36: 調査方針 | M36: 調査方針
B37: 対策履歴 | H37: 実施状況（実施日） | M37: 対策履歴 | S37: 実施状況（実施日）
B38: メモ | D38: 樋工アンカー腐食(全数) | M38: メモ | O38: 鋼材露出
C39: ※ 健全性（応急措置後）の判定区分Ⅱ～Ⅳについて添付すること。また、点検前に 実施された措置によりⅠと判定された箇所も添付すること。 | N39: ※ 変状の発生範囲の規模とは、対策を行う際に参考となる変状の長さや面積をいう。
N40: ※ 応急措置を実施しないで判定した変状の健全性は、健全性の応急措置後の欄に記入すること。
C41: ※ たたき落としを実施した場合は、実施後の写真を添付すること。 | N41: ※ 変状の発生範囲の規模は、面積・寸法を記載すること。
C42: ※ 附属物の取付状態に関する異常写真は別途、様式D-1-2でとりまとめること。 | N42: (ひび割れ幅のみmmとし、その他をm表記とする)
C43: ※ 変状数に準じてシートを追加すること。（１シートに１ページとすること。） | N43: ※ 構造用鋼材以外の異物に伴ううき・はく離については、メモ欄に異物の概要を記入すること。

Sheet 様式D-1-1(トンネル様式2P002)
B2: ■定期点検記録様式 変状写真台帳 | Y2: Ⅰ
B3: フリガナ | D3: トノミトンネル | H3: 路線名 | J3: 主要道路防府環状線 | M3: 定期点検業者 | P3: セントラルコンサルタント株式会社 | S3: 定期点検年月日 | U3: 44337 | Y3: Ⅱ
B4: 名 称 | D4: 富海トンネル | H4: 管理者名 | J4: 山口県防府土木建築事務所 | M4: 定期点検者名 | P4: 鹿子嶋 康博 | Y4: Ⅲ
B5: 写真 番号 | C5: 覆工 スパン 番号 | D5: S4 | M5: 写真 番号 | N5: 覆工 スパン 番号 | O5: S4 | Y5: Ⅳ
C7: 変状 番号 | D7: 1 | N7: 変状 番号 | O7: 2
B9: 変状 部位 | C9: 対象 箇所 | D9: 覆工・坑門 | M9: 変状 部位 | N9: 対象 箇所 | O9: 覆工・坑門
C11: 部位 区分 | D11: 水平打ち継ぎ目（左側） | N11: 部位 区分 | O11: アーチ（左側）
B13: 変状区分 | D13: 漏水 | M13: 変状区分 | O13: 材質劣化
B14: 変状種類 | D14: 漏水 | M14: 変状種類 | O14: うき・はく離
B15: 健全性 | C15: 応急措置前 | M15: 健全性 | N15: 応急措置前
C16: 応急措置後 | E16: Ⅱb | N16: 応急措置後 | P16: Ⅱa
B17: 変状の発生範囲の規模 | E17: 1.40m×5.40m | M17: 変状の発生範囲の規模 | P17: 0.10m×0.10m
B18: 前回定期点検時の状態 | E18: にじみ | M18: 前回定期点検時の状態 | P18: -
B19: 調査方針 | M19: 調査方針
B20: 対策履歴 | H20: 実施状況（実施日） | M20: 対策履歴 | S20: 実施状況（実施日）
B21: メモ | D21: にじみ | M21: メモ | O21: 補修跡うき(鋼材露出)
B22: 写真 番号 | C22: 覆工 スパン 番号 | D22: S4 | M22: 写真 番号 | N22: 覆工 スパン 番号 | O22: S6
C24: 変状 番号 | D24: 3 | N24: 変状 番号 | O24: 1
B26: 変状 部位 | C26: 対象 箇所 | D26: 覆工・坑門 | M26: 変状 部位 | N26: 対象 箇所 | O26: 覆工・坑門
C28: 部位 区分 | D28: アーチ（右側） | N28: 部位 区分 | O28: 横断目地（右側）
B30: 変状区分 | D30: 漏水 | M30: 変状区分 | O30: 漏水
B31: 変状種類 | D31: 漏水 | M31: 変状種類 | O31: 補強・補修材の破損
B32: 健全性 | C32: 応急措置前 | M32: 健全性 | N32: 応急措置前
C33: 応急措置後 | E33: Ⅱb | N33: 応急措置後 | P33: Ⅱa
B34: 変状の発生範囲の規模 | E34: 4.00m×0.60m | M34: 変状の発生範囲の規模 | P34: 0.10m×0.15m
B35: 前回定期点検時の状態 | E35: - | M35: 前回定期点検時の状態 | P35: 破損 150mm×350mm
B36: 調査方針 | M36: 調査方針
B37: 対策履歴 | H37: 実施状況（実施日） | M37: 対策履歴 | S37: 実施状況（実施日）
B38: メモ | D38: 線導水からのにじみ | M38: メモ | O38: 線導水破損(破損箇所からのにじみ)
C39: ※ 健全性（応急措置後）の判定区分Ⅱ～Ⅳについて添付すること。また、点検前に 実施された措置によりⅠと判定された箇所も添付すること。 | N39: ※ 変状の発生範囲の規模とは、対策を行う際に参考となる変状の長さや面積をいう。
N40: ※ 応急措置を実施しないで判定した変状の健全性は、健全性の応急措置後の欄に記入すること。
C41: ※ たたき落としを実施した場合は、実施後の写真を添付すること。 | N41: ※ 変状の発生範囲の規模は、面積・寸法を記載すること。
C42: ※ 附属物の取付状態に関する異常写真は別途、様式D-1-2でとりまとめること。 | N42: (ひび割れ幅のみmmとし、その他をm表記とする)
C43: ※ 変状数に準じてシートを追加すること。（１シートに１ページとすること。） | N43: ※ 構造用鋼材以外の異物に伴ううき・はく離については、メモ欄に異物の概要を記入すること。

Sheet 様式D-1-1(トンネル様式2P003)
B2: ■定期点検記録様式 変状写真台帳 | Y2: Ⅰ
B3: フリガナ | D3: トノミトンネル | H3: 路線名 | J3: 主要道路防府環状線 | M3: 定期点検業者 | P3: セントラルコンサルタント株式会社 | S3: 定期点検年月日 | U3: 44337 | Y3: Ⅱ
B4: 名 称 | D4: 富海トンネル | H4: 管理者名 | J4: 山口県防府土木建築事務所 | M4: 定期点検者名 | P4: 鹿子嶋 康博 | Y4: Ⅲ
B5: 写真 番号 | C5: 覆工 スパン 番号 | D5: S7 | M5: 写真 番号 | N5: 覆工 スパン 番号 | O5: S7 | Y5: Ⅳ
C7: 変状 番号 | D7: 1 | N7: 変状 番号 | O7: 2
B9: 変状 部位 | C9: 対象 箇所 | D9: 覆工・坑門 | M9: 変状 部位 | N9: 対象 箇所 | O9: 路面
C11: 部位 区分 | D11: アーチ（左側） | N11: 部位 区分 | O11: 側溝
B13: 変状区分 | D13: 外力 | M13: 変状区分 | O13: 漏水
B14: 変状種類 | D14: ひび割れ | M14: 変状種類 | O14: その他
B15: 健全性 | C15: 応急措置前 | M15: 健全性 | N15: 応急措置前
C16: 応急措置後 | E16: Ⅱb | N16: 応急措置後 | P16: Ⅱb
B17: 変状の発生範囲の規模 | E17: 幅0.5mm×長さ3.3m | M17: 変状の発生範囲の規模 | P17: 0.40m×3.30m(t=20mm)
B18: 前回定期点検時の状態 | E18: ひび割れ 幅0.3mm以上 | M18: 前回定期点検時の状態 | P18: 沈砂 20mm
B19: 調査方針 | M19: 調査方針
B20: 対策履歴 | H20: 実施状況（実施日） | M20: 対策履歴 | S20: 実施状況（実施日）
B21: メモ | D21: 縦断方向のひび割れ(遊離石灰) | M21: メモ | O21: 土砂堆積
B22: 写真 番号 | C22: 覆工 スパン 番号 | D22: S8 | M22: 写真 番号 | N22: 覆工 スパン 番号 | O22: S8
C24: 変状 番号 | D24: 1 | N24: 変状 番号 | O24: 2
B26: 変状 部位 | C26: 対象 箇所 | D26: 覆工・坑門 | M26: 変状 部位 | N26: 対象 箇所 | O26: 覆工・坑門
C28: 部位 区分 | D28: アーチ（左側） | N28: 部位 区分 | O28: アーチ（右側）
B30: 変状区分 | D30: 外力 | M30: 変状区分 | O30: 外力
B31: 変状種類 | D31: ひび割れ | M31: 変状種類 | O31: ひび割れ
B32: 健全性 | C32: 応急措置前 | M32: 健全性 | N32: 応急措置前
C33: 応急措置後 | E33: Ⅱb | N33: 応急措置後 | P33: Ⅱb
B34: 変状の発生範囲の規模 | E34: 幅0.3mm×長さ3.9m | M34: 変状の発生範囲の規模 | P34: 幅0.5mm×長さ0.7m
B35: 前回定期点検時の状態 | E35: ひび割れ 幅0.3mm以上 | M35: 前回定期点検時の状態 | P35: ひび割れ 幅1.5mm
B36: 調査方針 | M36: 調査方針
B37: 対策履歴 | H37: 実施状況（実施日） | M37: 対策履歴 | S37: 実施状況（実施日）
B38: メモ | D38: 縦断方向のひび割れ(遊離石灰) | M38: メモ | O38: 縦断方向のひび割れ
C39: ※ 健全性（応急措置後）の判定区分Ⅱ～Ⅳについて添付すること。また、点検前に 実施された措置によりⅠと判定された箇所も添付すること。 | N39: ※ 変状の発生範囲の規模とは、対策を行う際に参考となる変状の長さや面積をいう。
N40: ※ 応急措置を実施しないで判定した変状の健全性は、健全性の応急措置後の欄に記入すること。
C41: ※ たたき落としを実施した場合は、実施後の写真を添付すること。 | N41: ※ 変状の発生範囲の規模は、面積・寸法を記載すること。
C42: ※ 附属物の取付状態に関する異常写真は別途、様式D-1-2でとりまとめること。 | N42: (ひび割れ幅のみmmとし、その他をm表記とする)
C43: ※ 変状数に準じてシートを追加すること。（１シートに１ページとすること。） | N43: ※ 構造用鋼材以外の異物に伴ううき・はく離については、メモ欄に異物の概要を記入すること。

Sheet 様式D-1-1(トンネル様式2P004)
B2: ■定期点検記録様式 変状写真台帳 | Y2: Ⅰ
B3: フリガナ | D3: トノミトンネル | H3: 路線名 | J3: 主要道路防府環状線 | M3: 定期点検業者 | P3: セントラルコンサルタント株式会社 | S3: 定期点検年月日 | U3: 44337 | Y3: Ⅱ
B4: 名 称 | D4: 富海トンネル | H4: 管理者名 | J4: 山口県防府土木建築事務所 | M4: 定期点検者名 | P4: 鹿子嶋 康博 | Y4: Ⅲ
B5: 写真 番号 | C5: 覆工 スパン 番号 | D5: S9 | M5: 写真 番号 | N5: 覆工 スパン 番号 | O5: S10 | Y5: Ⅳ
C7: 変状 番号 | D7: 1 | N7: 変状 番号 | O7: 1
B9: 変状 部位 | C9: 対象 箇所 | D9: 覆工・坑門 | M9: 変状 部位 | N9: 対象 箇所 | O9: 覆工・坑門
C11: 部位 区分 | D11: 横断目地（左側） | N11: 部位 区分 | O11: 横断目地（左側）
B13: 変状区分 | D13: 材質劣化 | M13: 変状区分 | O13: 材質劣化
B14: 変状種類 | D14: 補強・補修材の破損 | M14: 変状種類 | O14: 補強・補修材の破損
B15: 健全性 | C15: 応急措置前 | M15: 健全性 | N15: 応急措置前
C16: 応急措置後 | E16: Ⅲ | N16: 応急措置後 | P16: Ⅲ
B17: 変状の発生範囲の規模 | E17: 7.20m×0.40m | M17: 変状の発生範囲の規模 | P17: 7.30m×0.40m
B18: 前回定期点検時の状態 | E18: - | M18: 前回定期点検時の状態 | P18: -
B19: 調査方針 | M19: 調査方針
B20: 対策履歴 | H20: 実施状況（実施日） | M20: 対策履歴 | S20: 実施状況（実施日）
B21: メモ | D21: 樋工アンカー腐食(全数) | M21: メモ | O21: 樋工アンカー腐食(全数)
B22: 写真 番号 | C22: 覆工 スパン 番号 | D22: S10 | M22: 写真 番号 | N22: 覆工 スパン 番号 | O22: S10
C24: 変状 番号 | D24: 2 | N24: 変状 番号 | O24: 3
B26: 変状 部位 | C26: 対象 箇所 | D26: 覆工・坑門 | M26: 変状 部位 | N26: 対象 箇所 | O26: 覆工・坑門
C28: 部位 区分 | D28: アーチ（天端） | N28: 部位 区分 | O28: アーチ（天端）
B30: 変状区分 | D30: 材質劣化 | M30: 変状区分 | O30: 漏水
B31: 変状種類 | D31: うき・はく離 | M31: 変状種類 | O31: 漏水
B32: 健全性 | C32: 応急措置前 | M32: 健全性 | N32: 応急措置前
C33: 応急措置後 | E33: Ⅱa | N33: 応急措置後 | P33: Ⅱa
B34: 変状の発生範囲の規模 | E34: 0.20m×0.80m | M34: 変状の発生範囲の規模 | P34: 7.70m×0.50m
B35: 前回定期点検時の状態 | E35: - | M35: 前回定期点検時の状態 | P35: -
B36: 調査方針 | M36: 調査方針
B37: 対策履歴 | H37: 実施状況（実施日） | M37: 対策履歴 | S37: 実施状況（実施日）
B38: メモ | D38: 豆板 | M38: メモ | O38: 滴水(FRPメッシュ背面)
C39: ※ 健全性（応急措置後）の判定区分Ⅱ～Ⅳについて添付すること。また、点検前に 実施された措置によりⅠと判定された箇所も添付すること。 | N39: ※ 変状の発生範囲の規模とは、対策を行う際に参考となる変状の長さや面積をいう。
N40: ※ 応急措置を実施しないで判定した変状の健全性は、健全性の応急措置後の欄に記入すること。
C41: ※ たたき落としを実施した場合は、実施後の写真を添付すること。 | N41: ※ 変状の発生範囲の規模は、面積・寸法を記載すること。
C42: ※ 附属物の取付状態に関する異常写真は別途、様式D-1-2でとりまとめること。 | N42: (ひび割れ幅のみmmとし、その他をm表記とする)
C43: ※ 変状数に準じてシートを追加すること。（１シートに１ページとすること。） | N43: ※ 構造用鋼材以外の異物に伴ううき・はく離については、メモ欄に異物の概要を記入すること。

Sheet 様式D-1-1(トンネル様式2P005)
B2: ■定期点検記録様式 変状写真台帳 | Y2: Ⅰ
B3: フリガナ | D3: トノミトンネル | H3: 路線名 | J3: 主要道路防府環状線 | M3: 定期点検業者 | P3: セントラルコンサルタント株式会社 | S3: 定期点検年月日 | U3: 44337 | Y3: Ⅱ
B4: 名 称 | D4: 富海トンネル | H4: 管理者名 | J4: 山口県防府土木建築事務所 | M4: 定期点検者名 | P4: 鹿子嶋 康博 | Y4: Ⅲ
B5: 写真 番号 | C5: 覆工 スパン 番号 | D5: S11 | M5: 写真 番号 | N5: 覆工 スパン 番号 | O5: S11 | Y5: Ⅳ
C7: 変状 番号 | D7: 1 | N7: 変状 番号 | O7: 2
B9: 変状 部位 | C9: 対象 箇所 | D9: 覆工・坑門 | M9: 変状 部位 | N9: 対象 箇所 | O9: 覆工・坑門
C11: 部位 区分 | D11: 横断目地（左側） | N11: 部位 区分 | O11: アーチ（左側）
B13: 変状区分 | D13: 材質劣化 | M13: 変状区分 | O13: 外力
B14: 変状種類 | D14: 補強・補修材の破損 | M14: 変状種類 | O14: ひび割れ
B15: 健全性 | C15: 応急措置前 | M15: 健全性 | N15: 応急措置前
C16: 応急措置後 | E16: Ⅲ | N16: 応急措置後 | P16: Ⅱb
B17: 変状の発生範囲の規模 | E17: 7.20m×0.40m | M17: 変状の発生範囲の規模 | P17: 幅0.3mm×長さ1.0m
B18: 前回定期点検時の状態 | E18: - | M18: 前回定期点検時の状態 | P18: ひび割れ 幅0.3mm以上
B19: 調査方針 | M19: 調査方針
B20: 対策履歴 | H20: 実施状況（実施日） | M20: 対策履歴 | S20: 実施状況（実施日）
B21: メモ | D21: 樋工アンカー腐食(全数) | M21: メモ | O21: 縦断方向のひび割れ
B22: 写真 番号 | C22: 覆工 スパン 番号 | D22: S11 | M22: 写真 番号 | N22: 覆工 スパン 番号 | O22: S12
C24: 変状 番号 | D24: 3 | N24: 変状 番号 | O24: 1
B26: 変状 部位 | C26: 対象 箇所 | D26: 覆工・坑門 | M26: 変状 部位 | N26: 対象 箇所 | O26: 覆工・坑門
C28: 部位 区分 | D28: アーチ（天端） | N28: 部位 区分 | O28: 横断目地（左側）
B30: 変状区分 | D30: 材質劣化 | M30: 変状区分 | O30: 材質劣化
B31: 変状種類 | D31: うき・はく離 | M31: 変状種類 | O31: 補強・補修材の破損
B32: 健全性 | C32: 応急措置前 | M32: 健全性 | N32: 応急措置前
C33: 応急措置後 | E33: Ⅱa | N33: 応急措置後 | P33: Ⅲ
B34: 変状の発生範囲の規模 | E34: 0.40m×1.00m | M34: 変状の発生範囲の規模 | P34: 7.00m×0.40m
B35: 前回定期点検時の状態 | E35: - | M35: 前回定期点検時の状態 | P35: -
B36: 調査方針 | M36: 調査方針
B37: 対策履歴 | H37: 実施状況（実施日） | M37: 対策履歴 | S37: 実施状況（実施日）
B38: メモ | D38: 豆板 | M38: メモ | O38: 樋工アンカー腐食(全数)
C39: ※ 健全性（応急措置後）の判定区分Ⅱ～Ⅳについて添付すること。また、点検前に 実施された措置によりⅠと判定された箇所も添付すること。 | N39: ※ 変状の発生範囲の規模とは、対策を行う際に参考となる変状の長さや面積をいう。
N40: ※ 応急措置を実施しないで判定した変状の健全性は、健全性の応急措置後の欄に記入すること。
C41: ※ たたき落としを実施した場合は、実施後の写真を添付すること。 | N41: ※ 変状の発生範囲の規模は、面積・寸法を記載すること。
C42: ※ 附属物の取付状態に関する異常写真は別途、様式D-1-2でとりまとめること。 | N42: (ひび割れ幅のみmmとし、その他をm表記とする)
C43: ※ 変状数に準じてシートを追加すること。（１シートに１ページとすること。） | N43: ※ 構造用鋼材以外の異物に伴ううき・はく離については、メモ欄に異物の概要を記入すること。

Sheet 様式D-1-1(トンネル様式2P006)
B2: ■定期点検記録様式 変状写真台帳 | Y2: Ⅰ
B3: フリガナ | D3: トノミトンネル | H3: 路線名 | J3: 主要道路防府環状線 | M3: 定期点検業者 | P3: セントラルコンサルタント株式会社 | S3: 定期点検年月日 | U3: 44337 | Y3: Ⅱ
B4: 名 称 | D4: 富海トンネル | H4: 管理者名 | J4: 山口県防府土木建築事務所 | M4: 定期点検者名 | P4: 鹿子嶋 康博 | Y4: Ⅲ
B5: 写真 番号 | C5: 覆工 スパン 番号 | D5: S12 | M5: 写真 番号 | N5: 覆工 スパン 番号 | O5: S12 | Y5: Ⅳ
C7: 変状 番号 | D7: 2 | N7: 変状 番号 | O7: 3
B9: 変状 部位 | C9: 対象 箇所 | D9: 覆工・坑門 | M9: 変状 部位 | N9: 対象 箇所 | O9: 覆工・坑門
C11: 部位 区分 | D11: アーチ（左側） | N11: 部位 区分 | O11: アーチ（右側）
B13: 変状区分 | D13: 外力 | M13: 変状区分 | O13: 外力
B14: 変状種類 | D14: ひび割れ | M14: 変状種類 | O14: ひび割れ
B15: 健全性 | C15: 応急措置前 | M15: 健全性 | N15: 応急措置前
C16: 応急措置後 | E16: Ⅱb | N16: 応急措置後 | P16: Ⅱb
B17: 変状の発生範囲の規模 | E17: 幅0.8mm×長さ3.6m | M17: 変状の発生範囲の規模 | P17: 幅0.3mm未満
B18: 前回定期点検時の状態 | E18: ひび割れ 幅0.8mm | M18: 前回定期点検時の状態 | P18: ひび割れ 幅0.3mm以上
B19: 調査方針 | M19: 調査方針
B20: 対策履歴 | H20: 実施状況（実施日） | M20: 対策履歴 | S20: 実施状況（実施日）
B21: メモ | D21: 縦断方向のひび割れ(にじみを伴う) | M21: メモ | O21: 縦断方向のひび割れ(にじみを伴う)
B22: 写真 番号 | C22: 覆工 スパン 番号 | D22: S13 | M22: 写真 番号 | N22: 覆工 スパン 番号 | O22: S13
C24: 変状 番号 | D24: 1 | N24: 変状 番号 | O24: 2
B26: 変状 部位 | C26: 対象 箇所 | D26: 覆工・坑門 | M26: 変状 部位 | N26: 対象 箇所 | O26: 覆工・坑門
C28: 部位 区分 | D28: アーチ（左側） | N28: 部位 区分 | O28: アーチ（左側）
B30: 変状区分 | D30: 漏水 | M30: 変状区分 | O30: 材質劣化
B31: 変状種類 | D31: 漏水 | M31: 変状種類 | O31: うき・はく離
B32: 健全性 | C32: 応急措置前 | M32: 健全性 | N32: 応急措置前
C33: 応急措置後 | E33: Ⅱb | N33: 応急措置後 | P33: Ⅱa
B34: 変状の発生範囲の規模 | E34: 2.50m×0.90m | M34: 変状の発生範囲の規模 | P34: 0.20m×0.20m
B35: 前回定期点検時の状態 | E35: - | M35: 前回定期点検時の状態 | P35: -
B36: 調査方針 | M36: 調査方針
B37: 対策履歴 | H37: 実施状況（実施日） | M37: 対策履歴 | S37: 実施状況（実施日）
B38: メモ | D38: ひび割れ沿いのにじみ | M38: メモ | O38: 補修跡うき
C39: ※ 健全性（応急措置後）の判定区分Ⅱ～Ⅳについて添付すること。また、点検前に 実施された措置によりⅠと判定された箇所も添付すること。 | N39: ※ 変状の発生範囲の規模とは、対策を行う際に参考となる変状の長さや面積をいう。
N40: ※ 応急措置を実施しないで判定した変状の健全性は、健全性の応急措置後の欄に記入すること。
C41: ※ たたき落としを実施した場合は、実施後の写真を添付すること。 | N41: ※ 変状の発生範囲の規模は、面積・寸法を記載すること。
C42: ※ 附属物の取付状態に関する異常写真は別途、様式D-1-2でとりまとめること。 | N42: (ひび割れ幅のみmmとし、その他をm表記とする)
C43: ※ 変状数に準じてシートを追加すること。（１シートに１ページとすること。） | N43: ※ 構造用鋼材以外の異物に伴ううき・はく離については、メモ欄に異物の概要を記入すること。

Sheet 様式D-1-1(トンネル様式2P007)
B2: ■定期点検記録様式 変状写真台帳 | Y2: Ⅰ
B3: フリガナ | D3: トノミトンネル | H3: 路線名 | J3: 主要道路防府環状線 | M3: 定期点検業者 | P3: セントラルコンサルタント株式会社 | S3: 定期点検年月日 | U3: 44337 | Y3: Ⅱ
B4: 名 称 | D4: 富海トンネル | H4: 管理者名 | J4: 山口県防府土木建築事務所 | M4: 定期点検者名 | P4: 鹿子嶋 康博 | Y4: Ⅲ
B5: 写真 番号 | C5: 覆工 スパン 番号 | D5: S13 | M5: 写真 番号 | N5: 覆工 スパン 番号 | O5: S14 | Y5: Ⅳ
C7: 変状 番号 | D7: 3 | N7: 変状 番号 | O7: 1
B9: 変状 部位 | C9: 対象 箇所 | D9: 路面 | M9: 変状 部位 | N9: 対象 箇所 | O9: 覆工・坑門
C11: 部位 区分 | D11: 側溝 | N11: 部位 区分 | O11: 横断目地（全周）
B13: 変状区分 | D13: 漏水 | M13: 変状区分 | O13: 材質劣化
B14: 変状種類 | D14: その他 | M14: 変状種類 | O14: 補強・補修材の破損
B15: 健全性 | C15: 応急措置前 | M15: 健全性 | N15: 応急措置前
C16: 応急措置後 | E16: Ⅱb | N16: 応急措置後 | P16: Ⅲ
B17: 変状の発生範囲の規模 | E17: 0.50m×6.30m(t=50mm) | M17: 変状の発生範囲の規模 | P17: 14.40m×0.40m
B18: 前回定期点検時の状態 | E18: 沈砂 50mm | M18: 前回定期点検時の状態 | P18: -
B19: 調査方針 | M19: 調査方針
B20: 対策履歴 | H20: 実施状況（実施日） | M20: 対策履歴 | S20: 実施状況（実施日）
B21: メモ | D21: 土砂堆積 | M21: メモ | O21: 樋工アンカーナット腐食(全数)、プレート脱落
B22: 写真 番号 | C22: 覆工 スパン 番号 | D22: S14 | M22: 写真 番号 | N22: 覆工 スパン 番号 | O22: S15
C24: 変状 番号 | D24: 2 | N24: 変状 番号 | O24: 1
B26: 変状 部位 | C26: 対象 箇所 | D26: 覆工・坑門 | M26: 変状 部位 | N26: 対象 箇所 | O26: 覆工・坑門
C28: 部位 区分 | D28: アーチ（右側） | N28: 部位 区分 | O28: 横断目地（天端）
B30: 変状区分 | D30: 材質劣化 | M30: 変状区分 | O30: 漏水
B31: 変状種類 | D31: 補強・補修材の破損 | M31: 変状種類 | O31: 漏水
B32: 健全性 | C32: 応急措置前 | M32: 健全性 | N32: 応急措置前
C33: 応急措置後 | E33: Ⅲ | N33: 応急措置後 | P33: Ⅱb
B34: 変状の発生範囲の規模 | E34: 7.20m×0.40m | M34: 変状の発生範囲の規模 | P34: 7.30m×0.50m
B35: 前回定期点検時の状態 | E35: - | M35: 前回定期点検時の状態 | P35: 滴水
B36: 調査方針 | M36: 調査方針
B37: 対策履歴 | H37: 実施状況（実施日） | M37: 対策履歴 | S37: 実施状況（実施日）
B38: メモ | D38: 樋工アンカー腐食(全数)、プレート脱落 | M38: メモ | O38: 導水工からのにじみ
C39: ※ 健全性（応急措置後）の判定区分Ⅱ～Ⅳについて添付すること。また、点検前に 実施された措置によりⅠと判定された箇所も添付すること。 | N39: ※ 変状の発生範囲の規模とは、対策を行う際に参考となる変状の長さや面積をいう。
N40: ※ 応急措置を実施しないで判定した変状の健全性は、健全性の応急措置後の欄に記入すること。
C41: ※ たたき落としを実施した場合は、実施後の写真を添付すること。 | N41: ※ 変状の発生範囲の規模は、面積・寸法を記載すること。
C42: ※ 附属物の取付状態に関する異常写真は別途、様式D-1-2でとりまとめること。 | N42: (ひび割れ幅のみmmとし、その他をm表記とする)
C43: ※ 変状数に準じてシートを追加すること。（１シートに１ページとすること。） | N43: ※ 構造用鋼材以外の異物に伴ううき・はく離については、メモ欄に異物の概要を記入すること。

Sheet 様式D-1-1(トンネル様式2P008)
B2: ■定期点検記録様式 変状写真台帳 | Y2: Ⅰ
B3: フリガナ | D3: トノミトンネル | H3: 路線名 | J3: 主要道路防府環状線 | M3: 定期点検業者 | P3: セントラルコンサルタント株式会社 | S3: 定期点検年月日 | U3: 44337 | Y3: Ⅱ
B4: 名 称 | D4: 富海トンネル | H4: 管理者名 | J4: 山口県防府土木建築事務所 | M4: 定期点検者名 | P4: 鹿子嶋 康博 | Y4: Ⅲ
B5: 写真 番号 | C5: 覆工 スパン 番号 | D5: S15 | M5: 写真 番号 | N5: 覆工 スパン 番号 | O5: S15 | Y5: Ⅳ
C7: 変状 番号 | D7: 2 | N7: 変状 番号 | O7: 3
B9: 変状 部位 | C9: 対象 箇所 | D9: 覆工・坑門 | M9: 変状 部位 | N9: 対象 箇所 | O9: 路面
C11: 部位 区分 | D11: 横断目地（右側） | N11: 部位 区分 | O11: 側溝
B13: 変状区分 | D13: 材質劣化 | M13: 変状区分 | O13: 漏水
B14: 変状種類 | D14: 補強・補修材の破損 | M14: 変状種類 | O14: その他
B15: 健全性 | C15: 応急措置前 | M15: 健全性 | N15: 応急措置前
C16: 応急措置後 | E16: Ⅲ | N16: 応急措置後 | P16: Ⅱb
B17: 変状の発生範囲の規模 | E17: 7.30m×0.40m | M17: 変状の発生範囲の規模 | P17: 0.30m×2.50m(t=30mm)
B18: 前回定期点検時の状態 | E18: - | M18: 前回定期点検時の状態 | P18: 沈砂 30mm
B19: 調査方針 | M19: 調査方針
B20: 対策履歴 | H20: 実施状況（実施日） | M20: 対策履歴 | S20: 実施状況（実施日）
B21: メモ | D21: 樋工アンカー腐食(全数) | M21: メモ | O21: 土砂堆積
B22: 写真 番号 | C22: 覆工 スパン 番号 | D22: S16 | M22: 写真 番号 | N22: 覆工 スパン 番号 | O22: S16
C24: 変状 番号 | D24: 1 | N24: 変状 番号 | O24: 2
B26: 変状 部位 | C26: 対象 箇所 | D26: 覆工・坑門 | M26: 変状 部位 | N26: 対象 箇所 | O26: 覆工・坑門
C28: 部位 区分 | D28: アーチ（右側） | N28: 部位 区分 | O28: アーチ（右側）
B30: 変状区分 | D30: 漏水 | M30: 変状区分 | O30: 材質劣化
B31: 変状種類 | D31: 漏水 | M31: 変状種類 | O31: 補強・補修材の破損
B32: 健全性 | C32: 応急措置前 | M32: 健全性 | N32: 応急措置前
C33: 応急措置後 | E33: Ⅱb | N33: 応急措置後 | P33: Ⅲ
B34: 変状の発生範囲の規模 | E34: 1.80m×0.20m | M34: 変状の発生範囲の規模 | P34: 3.20m×0.30m
B35: 前回定期点検時の状態 | E35: 滴水 | M35: 前回定期点検時の状態 | P35: -
B36: 調査方針 | M36: 調査方針
B37: 対策履歴 | H37: 実施状況（実施日） | M37: 対策履歴 | S37: 実施状況（実施日）
B38: メモ | D38: にじみ | M38: メモ | O38: 樋劣化･腐食(全体)
C39: ※ 健全性（応急措置後）の判定区分Ⅱ～Ⅳについて添付すること。また、点検前に 実施された措置によりⅠと判定された箇所も添付すること。 | N39: ※ 変状の発生範囲の規模とは、対策を行う際に参考となる変状の長さや面積をいう。
N40: ※ 応急措置を実施しないで判定した変状の健全性は、健全性の応急措置後の欄に記入すること。
C41: ※ たたき落としを実施した場合は、実施後の写真を添付すること。 | N41: ※ 変状の発生範囲の規模は、面積・寸法を記載すること。
C42: ※ 附属物の取付状態に関する異常写真は別途、様式D-1-2でとりまとめること。 | N42: (ひび割れ幅のみmmとし、その他をm表記とする)
C43: ※ 変状数に準じてシートを追加すること。（１シートに１ページとすること。） | N43: ※ 構造用鋼材以外の異物に伴ううき・はく離については、メモ欄に異物の概要を記入すること。

Sheet 様式D-1-1(トンネル様式2P009)
B2: ■定期点検記録様式 変状写真台帳 | Y2: Ⅰ
B3: フリガナ | D3: トノミトンネル | H3: 路線名 | J3: 主要道路防府環状線 | M3: 定期点検業者 | P3: セントラルコンサルタント株式会社 | S3: 定期点検年月日 | U3: 44337 | Y3: Ⅱ
B4: 名 称 | D4: 富海トンネル | H4: 管理者名 | J4: 山口県防府土木建築事務所 | M4: 定期点検者名 | P4: 鹿子嶋 康博 | Y4: Ⅲ
B5: 写真 番号 | C5: 覆工 スパン 番号 | D5: S16 | M5: 写真 番号 | N5: 覆工 スパン 番号 | O5: S16 | Y5: Ⅳ
C7: 変状 番号 | D7: 3 | N7: 変状 番号 | O7: 4
B9: 変状 部位 | C9: 対象 箇所 | D9: 覆工・坑門 | M9: 変状 部位 | N9: 対象 箇所 | O9: 覆工・坑門
C11: 部位 区分 | D11: アーチ（右側） | N11: 部位 区分 | O11: 横断目地（右側）
B13: 変状区分 | D13: 材質劣化 | M13: 変状区分 | O13: 材質劣化
B14: 変状種類 | D14: 補強・補修材の破損 | M14: 変状種類 | O14: 補強・補修材の破損
B15: 健全性 | C15: 応急措置前 | M15: 健全性 | N15: 応急措置前
C16: 応急措置後 | E16: Ⅲ | N16: 応急措置後 | P16: Ⅲ
B17: 変状の発生範囲の規模 | E17: 7.20m×0.40m | M17: 変状の発生範囲の規模 | P17: 7.30m×0.40m
B18: 前回定期点検時の状態 | E18: - | M18: 前回定期点検時の状態 | P18: -
B19: 調査方針 | M19: 調査方針
B20: 対策履歴 | H20: 実施状況（実施日） | M20: 対策履歴 | S20: 実施状況（実施日）
B21: メモ | D21: 樋工アンカー腐食(全数) | M21: メモ | O21: 樋工アンカーナット腐食(全数)
B22: 写真 番号 | C22: 覆工 スパン 番号 | D22: S16 | M22: 写真 番号 | N22: 覆工 スパン 番号 | O22: S17
C24: 変状 番号 | D24: 5 | N24: 変状 番号 | O24: 1
B26: 変状 部位 | C26: 対象 箇所 | D26: 路面 | M26: 変状 部位 | N26: 対象 箇所 | O26: 覆工・坑門
C28: 部位 区分 | D28: 側溝 | N28: 部位 区分 | O28: 横断目地（右側）
B30: 変状区分 | D30: 漏水 | M30: 変状区分 | O30: 漏水
B31: 変状種類 | D31: その他 | M31: 変状種類 | O31: 漏水
B32: 健全性 | C32: 応急措置前 | M32: 健全性 | N32: 応急措置前
C33: 応急措置後 | E33: Ⅱb | N33: 応急措置後 | P33: Ⅱa
B34: 変状の発生範囲の規模 | E34: 0.50m×6.00m(t=50mm) | M34: 変状の発生範囲の規模 | P34: 3.20m×0.50m
B35: 前回定期点検時の状態 | E35: 沈砂 50mm | M35: 前回定期点検時の状態 | P35: -
B36: 調査方針 | M36: 調査方針
B37: 対策履歴 | H37: 実施状況（実施日） | M37: 対策履歴 | S37: 実施状況（実施日）
B38: メモ | D38: 土砂堆積 | M38: メモ | O38: 樋工からの滴水
C39: ※ 健全性（応急措置後）の判定区分Ⅱ～Ⅳについて添付すること。また、点検前に 実施された措置によりⅠと判定された箇所も添付すること。 | N39: ※ 変状の発生範囲の規模とは、対策を行う際に参考となる変状の長さや面積をいう。
N40: ※ 応急措置を実施しないで判定した変状の健全性は、健全性の応急措置後の欄に記入すること。
C41: ※ たたき落としを実施した場合は、実施後の写真を添付すること。 | N41: ※ 変状の発生範囲の規模は、面積・寸法を記載すること。
C42: ※ 附属物の取付状態に関する異常写真は別途、様式D-1-2でとりまとめること。 | N42: (ひび割れ幅のみmmとし、その他をm表記とする)
C43: ※ 変状数に準じてシートを追加すること。（１シートに１ページとすること。） | N43: ※ 構造用鋼材以外の異物に伴ううき・はく離については、メモ欄に異物の概要を記入すること。

Sheet 様式D-1-1(トンネル様式2P010)
B2: ■定期点検記録様式 変状写真台帳 | Y2: Ⅰ
B3: フリガナ | D3: トノミトンネル | H3: 路線名 | J3: 主要道路防府環状線 | M3: 定期点検業者 | P3: セントラルコンサルタント株式会社 | S3: 定期点検年月日 | U3: 44337 | Y3: Ⅱ
B4: 名 称 | D4: 富海トンネル | H4: 管理者名 | J4: 山口県防府土木建築事務所 | M4: 定期点検者名 | P4: 鹿子嶋 康博 | Y4: Ⅲ
B5: 写真 番号 | C5: 覆工 スパン 番号 | D5: S18 | M5: 写真 番号 | N5: 覆工 スパン 番号 | O5: S18 | Y5: Ⅳ
C7: 変状 番号 | D7: 1 | N7: 変状 番号 | O7: 2
B9: 変状 部位 | C9: 対象 箇所 | D9: 覆工・坑門 | M9: 変状 部位 | N9: 対象 箇所 | O9: 路面
C11: 部位 区分 | D11: 横断目地（左側） | N11: 部位 区分 | O11: 側溝
B13: 変状区分 | D13: 材質劣化 | M13: 変状区分 | O13: 漏水
B14: 変状種類 | D14: 補強・補修材の破損 | M14: 変状種類 | O14: その他
B15: 健全性 | C15: 応急措置前 | M15: 健全性 | N15: 応急措置前
C16: 応急措置後 | E16: Ⅲ | N16: 応急措置後 | P16: Ⅱb
B17: 変状の発生範囲の規模 | E17: 7.20m×0.40m | M17: 変状の発生範囲の規模 | P17: 0.70m×8.50m
B18: 前回定期点検時の状態 | E18: - | M18: 前回定期点検時の状態 | P18: -
B19: 調査方針 | M19: 調査方針
B20: 対策履歴 | H20: 実施状況（実施日） | M20: 対策履歴 | S20: 実施状況（実施日）
B21: メモ | D21: 樋工アンカーナット腐食(全数) | M21: メモ | O21: 土砂堆積(帯水跡)
B22: 写真 番号 | C22: 覆工 スパン 番号 | D22: S19 | M22: 写真 番号 | N22: 覆工 スパン 番号 | O22: S19
C24: 変状 番号 | D24: 1 | N24: 変状 番号 | O24: 2
B26: 変状 部位 | C26: 対象 箇所 | D26: 路面 | M26: 変状 部位 | N26: 対象 箇所 | O26: 路面
C28: 部位 区分 | D28: 側溝 | N28: 部位 区分 | O28: 側溝
B30: 変状区分 | D30: 漏水 | M30: 変状区分 | O30: 漏水
B31: 変状種類 | D31: その他 | M31: 変状種類 | O31: その他
B32: 健全性 | C32: 応急措置前 | M32: 健全性 | N32: 応急措置前
C33: 応急措置後 | E33: Ⅱb | N33: 応急措置後 | P33: Ⅱb
B34: 変状の発生範囲の規模 | E34: 0.50m×4.60m | M34: 変状の発生範囲の規模 | P34: 0.40m×7.60m
B35: 前回定期点検時の状態 | E35: - | M35: 前回定期点検時の状態 | P35: 沈砂 100mm
B36: 調査方針 | M36: 調査方針
B37: 対策履歴 | H37: 実施状況（実施日） | M37: 対策履歴 | S37: 実施状況（実施日）
B38: メモ | D38: 土砂堆積 | M38: メモ | O38: 土砂堆積
C39: ※ 健全性（応急措置後）の判定区分Ⅱ～Ⅳについて添付すること。また、点検前に 実施された措置によりⅠと判定された箇所も添付すること。 | N39: ※ 変状の発生範囲の規模とは、対策を行う際に参考となる変状の長さや面積をいう。
N40: ※ 応急措置を実施しないで判定した変状の健全性は、健全性の応急措置後の欄に記入すること。
C41: ※ たたき落としを実施した場合は、実施後の写真を添付すること。 | N41: ※ 変状の発生範囲の規模は、面積・寸法を記載すること。
C42: ※ 附属物の取付状態に関する異常写真は別途、様式D-1-2でとりまとめること。 | N42: (ひび割れ幅のみmmとし、その他をm表記とする)
C43: ※ 変状数に準じてシートを追加すること。（１シートに１ページとすること。） | N43: ※ 構造用鋼材以外の異物に伴ううき・はく離については、メモ欄に異物の概要を記入すること。

Sheet 様式D-1-1(トンネル様式2P011)
B2: ■定期点検記録様式 変状写真台帳 | Y2: Ⅰ
B3: フリガナ | D3: トノミトンネル | H3: 路線名 | J3: 主要道路防府環状線 | M3: 定期点検業者 | P3: セントラルコンサルタント株式会社 | S3: 定期点検年月日 | U3: 44337 | Y3: Ⅱ
B4: 名 称 | D4: 富海トンネル | H4: 管理者名 | J4: 山口県防府土木建築事務所 | M4: 定期点検者名 | P4: 鹿子嶋 康博 | Y4: Ⅲ
B5: 写真 番号 | C5: 覆工 スパン 番号 | D5: S20 | M5: 写真 番号 | N5: 覆工 スパン 番号 | O5: S21 | Y5: Ⅳ
C7: 変状 番号 | D7: 1 | N7: 変状 番号 | O7: 1
B9: 変状 部位 | C9: 対象 箇所 | D9: 覆工・坑門 | M9: 変状 部位 | N9: 対象 箇所 | O9: 覆工・坑門
C11: 部位 区分 | D11: 側壁（左側） | N11: 部位 区分 | O11: アーチ（天端）
B13: 変状区分 | D13: 漏水 | M13: 変状区分 | O13: 材質劣化
B14: 変状種類 | D14: 漏水 | M14: 変状種類 | O14: 鋼材腐食
B15: 健全性 | C15: 応急措置前 | M15: 健全性 | N15: 応急措置前
C16: 応急措置後 | E16: Ⅱb | N16: 応急措置後 | P16: Ⅱb
B17: 変状の発生範囲の規模 | E17: 0.90m×1.60m | M17: 変状の発生範囲の規模 | P17: 0.10m×0.20m
B18: 前回定期点検時の状態 | E18: にじみ | M18: 前回定期点検時の状態 | P18: -
B19: 調査方針 | M19: 調査方針
B20: 対策履歴 | H20: 実施状況（実施日） | M20: 対策履歴 | S20: 実施状況（実施日）
B21: メモ | D21: にじみ | M21: メモ | O21: 鋼材露出
B22: 写真 番号 | C22: 覆工 スパン 番号 | D22: S22 | M22: 写真 番号 | N22: 覆工 スパン 番号 | O22: S22
C24: 変状 番号 | D24: 1 | N24: 変状 番号 | O24: 2
B26: 変状 部位 | C26: 対象 箇所 | D26: 覆工・坑門 | M26: 変状 部位 | N26: 対象 箇所 | O26: 覆工・坑門
C28: 部位 区分 | D28: アーチ（左側） | N28: 部位 区分 | O28: 横断目地（左側）
B30: 変状区分 | D30: 材質劣化 | M30: 変状区分 | O30: 材質劣化
B31: 変状種類 | D31: うき・はく離 | M31: 変状種類 | O31: 補強・補修材の破損
B32: 健全性 | C32: 応急措置前 | M32: 健全性 | N32: 応急措置前
C33: 応急措置後 | E33: Ⅰ | N33: 応急措置後 | P33: Ⅲ
B34: 変状の発生範囲の規模 | E34: 0.40m×0.70m | M34: 変状の発生範囲の規模 | P34: 7.00m×0.40m
B35: 前回定期点検時の状態 | E35: 豆板 400mm×700mm | M35: 前回定期点検時の状態 | P35: -
B36: 調査方針 | M36: 調査方針
B37: 対策履歴 | H37: 実施状況（実施日） | M37: 対策履歴 | S37: 実施状況（実施日）
B38: メモ | D38: 豆板 | M38: メモ | O38: 樋工残置、アンカーナット腐食(全数)
C39: ※ 健全性（応急措置後）の判定区分Ⅱ～Ⅳについて添付すること。また、点検前に 実施された措置によりⅠと判定された箇所も添付すること。 | N39: ※ 変状の発生範囲の規模とは、対策を行う際に参考となる変状の長さや面積をいう。
N40: ※ 応急措置を実施しないで判定した変状の健全性は、健全性の応急措置後の欄に記入すること。
C41: ※ たたき落としを実施した場合は、実施後の写真を添付すること。 | N41: ※ 変状の発生範囲の規模は、面積・寸法を記載すること。
C42: ※ 附属物の取付状態に関する異常写真は別途、様式D-1-2でとりまとめること。 | N42: (ひび割れ幅のみmmとし、その他をm表記とする)
C43: ※ 変状数に準じてシートを追加すること。（１シートに１ページとすること。） | N43: ※ 構造用鋼材以外の異物に伴ううき・はく離については、メモ欄に異物の概要を記入すること。

Sheet 様式D-1-1(トンネル様式2P012)
B2: ■定期点検記録様式 変状写真台帳 | Y2: Ⅰ
B3: フリガナ | D3: トノミトンネル | H3: 路線名 | J3: 主要道路防府環状線 | M3: 定期点検業者 | P3: セントラルコンサルタント株式会社 | S3: 定期点検年月日 | U3: 44337 | Y3: Ⅱ
B4: 名 称 | D4: 富海トンネル | H4: 管理者名 | J4: 山口県防府土木建築事務所 | M4: 定期点検者名 | P4: 鹿子嶋 康博 | Y4: Ⅲ
B5: 写真 番号 | C5: 覆工 スパン 番号 | D5: S22 | M5: 写真 番号 | N5: 覆工 スパン 番号 | O5: S22 | Y5: Ⅳ
C7: 変状 番号 | D7: 3 | N7: 変状 番号 | O7: 4
B9: 変状 部位 | C9: 対象 箇所 | D9: 覆工・坑門 | M9: 変状 部位 | N9: 対象 箇所 | O9: 路面
C11: 部位 区分 | D11: 横断目地（右側） | N11: 部位 区分 | O11: 側溝
B13: 変状区分 | D13: 材質劣化 | M13: 変状区分 | O13: 漏水
B14: 変状種類 | D14: 補強・補修材の破損 | M14: 変状種類 | O14: その他
B15: 健全性 | C15: 応急措置前 | M15: 健全性 | N15: 応急措置前
C16: 応急措置後 | E16: Ⅲ | N16: 応急措置後 | P16: Ⅱb
B17: 変状の発生範囲の規模 | E17: 7.30m×0.40m | M17: 変状の発生範囲の規模 | P17: 0.40m×4.60m
B18: 前回定期点検時の状態 | E18: - | M18: 前回定期点検時の状態 | P18: 沈砂 30mm
B19: 調査方針 | M19: 調査方針
B20: 対策履歴 | H20: 実施状況（実施日） | M20: 対策履歴 | S20: 実施状況（実施日）
B21: メモ | D21: 樋工アンカーナット腐食(全数) | M21: メモ | O21: 土砂堆積
B22: 写真 番号 | C22: 覆工 スパン 番号 | D22: S24 | M22: 写真 番号 | N22: 覆工 スパン 番号 | O22: S24
C24: 変状 番号 | D24: 1 | N24: 変状 番号 | O24: 2
B26: 変状 部位 | C26: 対象 箇所 | D26: 覆工・坑門 | M26: 変状 部位 | N26: 対象 箇所 | O26: 覆工・坑門
C28: 部位 区分 | D28: アーチ（左側） | N28: 部位 区分 | O28: アーチ（左側）
B30: 変状区分 | D30: 材質劣化 | M30: 変状区分 | O30: 漏水
B31: 変状種類 | D31: 補強・補修材の破損 | M31: 変状種類 | O31: 漏水
B32: 健全性 | C32: 応急措置前 | M32: 健全性 | N32: 応急措置前
C33: 応急措置後 | E33: Ⅲ | N33: 応急措置後 | P33: Ⅱb
B34: 変状の発生範囲の規模 | E34: 7.20m×0.40m | M34: 変状の発生範囲の規模 | P34: 1.70m×0.50m
B35: 前回定期点検時の状態 | E35: - | M35: 前回定期点検時の状態 | P35: -
B36: 調査方針 | M36: 調査方針
B37: 対策履歴 | H37: 実施状況（実施日） | M37: 対策履歴 | S37: 実施状況（実施日）
B38: メモ | D38: 樋工アンカーナット腐食(全数) | M38: メモ | O38: にじみ
C39: ※ 健全性（応急措置後）の判定区分Ⅱ～Ⅳについて添付すること。また、点検前に 実施された措置によりⅠと判定された箇所も添付すること。 | N39: ※ 変状の発生範囲の規模とは、対策を行う際に参考となる変状の長さや面積をいう。
N40: ※ 応急措置を実施しないで判定した変状の健全性は、健全性の応急措置後の欄に記入すること。
C41: ※ たたき落としを実施した場合は、実施後の写真を添付すること。 | N41: ※ 変状の発生範囲の規模は、面積・寸法を記載すること。
C42: ※ 附属物の取付状態に関する異常写真は別途、様式D-1-2でとりまとめること。 | N42: (ひび割れ幅のみmmとし、その他をm表記とする)
C43: ※ 変状数に準じてシートを追加すること。（１シートに１ページとすること。） | N43: ※ 構造用鋼材以外の異物に伴ううき・はく離については、メモ欄に異物の概要を記入すること。

Sheet 様式D-1-1(トンネル様式2P013)
B2: ■定期点検記録様式 変状写真台帳 | Y2: Ⅰ
B3: フリガナ | D3: トノミトンネル | H3: 路線名 | J3: 主要道路防府環状線 | M3: 定期点検業者 | P3: セントラルコンサルタント株式会社 | S3: 定期点検年月日 | U3: 44337 | Y3: Ⅱ
B4: 名 称 | D4: 富海トンネル | H4: 管理者名 | J4: 山口県防府土木建築事務所 | M4: 定期点検者名 | P4: 鹿子嶋 康博 | Y4: Ⅲ
B5: 写真 番号 | C5: 覆工 スパン 番号 | D5: S24 | M5: 写真 番号 | N5: 覆工 スパン 番号 | O5: S24 | Y5: Ⅳ
C7: 変状 番号 | D7: 3 | N7: 変状 番号 | O7: 4
B9: 変状 部位 | C9: 対象 箇所 | D9: 覆工・坑門 | M9: 変状 部位 | N9: 対象 箇所 | O9: 覆工・坑門
C11: 部位 区分 | D11: 横断目地（左側） | N11: 部位 区分 | O11: アーチ（天端）
B13: 変状区分 | D13: 材質劣化 | M13: 変状区分 | O13: 漏水
B14: 変状種類 | D14: 補強・補修材の破損 | M14: 変状種類 | O14: 漏水
B15: 健全性 | C15: 応急措置前 | M15: 健全性 | N15: 応急措置前
C16: 応急措置後 | E16: Ⅲ | N16: 応急措置後 | P16: Ⅱa
B17: 変状の発生範囲の規模 | E17: 6.10m×0.40m | M17: 変状の発生範囲の規模 | P17: 6.10m×0.50m
B18: 前回定期点検時の状態 | E18: - | M18: 前回定期点検時の状態 | P18: -
B19: 調査方針 | M19: 調査方針
B20: 対策履歴 | H20: 実施状況（実施日） | M20: 対策履歴 | S20: 実施状況（実施日）
B21: メモ | D21: 樋工アンカーナット腐食(全数) | M21: メモ | O21: 滴水
B22: 写真 番号 | C22: 覆工 スパン 番号 | D22: S24 | M22: 写真 番号 | N22: 覆工 スパン 番号 | O22: S25
C24: 変状 番号 | D24: 5 | N24: 変状 番号 | O24: 1
B26: 変状 部位 | C26: 対象 箇所 | D26: 路面 | M26: 変状 部位 | N26: 対象 箇所 | O26: 覆工・坑門
C28: 部位 区分 | D28: 側溝 | N28: 部位 区分 | O28: 横断目地（右側）
B30: 変状区分 | D30: 漏水 | M30: 変状区分 | O30: 材質劣化
B31: 変状種類 | D31: その他 | M31: 変状種類 | O31: 補強・補修材の破損
B32: 健全性 | C32: 応急措置前 | M32: 健全性 | N32: 応急措置前
C33: 応急措置後 | E33: Ⅱb | N33: 応急措置後 | P33: Ⅲ
B34: 変状の発生範囲の規模 | E34: 0.50m×3.60m(t=30mm) | M34: 変状の発生範囲の規模 | P34: 7.20m×0.40m
B35: 前回定期点検時の状態 | E35: - | M35: 前回定期点検時の状態 | P35: -
B36: 調査方針 | M36: 調査方針
B37: 対策履歴 | H37: 実施状況（実施日） | M37: 対策履歴 | S37: 実施状況（実施日）
B38: メモ | D38: 土砂堆積 | M38: メモ | O38: 樋工残置、アンカー腐食(全数)
C39: ※ 健全性（応急措置後）の判定区分Ⅱ～Ⅳについて添付すること。また、点検前に 実施された措置によりⅠと判定された箇所も添付すること。 | N39: ※ 変状の発生範囲の規模とは、対策を行う際に参考となる変状の長さや面積をいう。
N40: ※ 応急措置を実施しないで判定した変状の健全性は、健全性の応急措置後の欄に記入すること。
C41: ※ たたき落としを実施した場合は、実施後の写真を添付すること。 | N41: ※ 変状の発生範囲の規模は、面積・寸法を記載すること。
C42: ※ 附属物の取付状態に関する異常写真は別途、様式D-1-2でとりまとめること。 | N42: (ひび割れ幅のみmmとし、その他をm表記とする)
C43: ※ 変状数に準じてシートを追加すること。（１シートに１ページとすること。） | N43: ※ 構造用鋼材以外の異物に伴ううき・はく離については、メモ欄に異物の概要を記入すること。

Sheet 様式D-1-1(トンネル様式2P014)
B2: ■定期点検記録様式 変状写真台帳 | Y2: Ⅰ
B3: フリガナ | D3: トノミトンネル | H3: 路線名 | J3: 主要道路防府環状線 | M3: 定期点検業者 | P3: セントラルコンサルタント株式会社 | S3: 定期点検年月日 | U3: 44337 | Y3: Ⅱ
B4: 名 称 | D4: 富海トンネル | H4: 管理者名 | J4: 山口県防府土木建築事務所 | M4: 定期点検者名 | P4: 鹿子嶋 康博 | Y4: Ⅲ
B5: 写真 番号 | C5: 覆工 スパン 番号 | D5: S25 | M5: 写真 番号 | N5: 覆工 スパン 番号 | O5: S25 | Y5: Ⅳ
C7: 変状 番号 | D7: 2 | N7: 変状 番号 | O7: 3
B9: 変状 部位 | C9: 対象 箇所 | D9: 覆工・坑門 | M9: 変状 部位 | N9: 対象 箇所 | O9: 覆工・坑門
C11: 部位 区分 | D11: アーチ（右側） | N11: 部位 区分 | O11: 側壁（右側）
B13: 変状区分 | D13: 漏水 | M13: 変状区分 | O13: 材質劣化
B14: 変状種類 | D14: 漏水 | M14: 変状種類 | O14: うき・はく離
B15: 健全性 | C15: 応急措置前 | M15: 健全性 | N15: 応急措置前
C16: 応急措置後 | E16: Ⅱb | N16: 応急措置後 | P16: Ⅱa
B17: 変状の発生範囲の規模 | E17: 3.00m×0.50m | M17: 変状の発生範囲の規模 | P17: 0.30m×0.40m
B18: 前回定期点検時の状態 | E18: 滴水 | M18: 前回定期点検時の状態 | P18: 豆板 300mm×400mm
B19: 調査方針 | M19: 調査方針
B20: 対策履歴 | H20: 実施状況（実施日） | M20: 対策履歴 | S20: 実施状況（実施日）
B21: メモ | D21: にじみ | M21: メモ | O21: 豆板
B22: 写真 番号 | C22: 覆工 スパン 番号 | D22: S25 | M22: 写真 番号 | N22: 覆工 スパン 番号 | O22: S25
C24: 変状 番号 | D24: 4 | N24: 変状 番号 | O24: 5
B26: 変状 部位 | C26: 対象 箇所 | D26: 覆工・坑門 | M26: 変状 部位 | N26: 対象 箇所 | O26: 路面
C28: 部位 区分 | D28: アーチ（右側） | N28: 部位 区分 | O28: 車道
B30: 変状区分 | D30: 漏水 | M30: 変状区分 | O30: 漏水
B31: 変状種類 | D31: 漏水 | M31: 変状種類 | O31: 漏水
B32: 健全性 | C32: 応急措置前 | M32: 健全性 | N32: 応急措置前
C33: 応急措置後 | E33: Ⅱa | N33: 応急措置後 | P33: Ⅱb
B34: 変状の発生範囲の規模 | E34: 2.30m×0.50m | M34: 変状の発生範囲の規模 | P34: 0.70m×0.70m
B35: 前回定期点検時の状態 | E35: 滴水 | M35: 前回定期点検時の状態 | P35: -
B36: 調査方針 | M36: 調査方針
B37: 対策履歴 | H37: 実施状況（実施日） | M37: 対策履歴 | S37: 実施状況（実施日）
B38: メモ | D38: 滴水(FRPメッシュ背面) | M38: メモ | O38: 滞水
C39: ※ 健全性（応急措置後）の判定区分Ⅱ～Ⅳについて添付すること。また、点検前に 実施された措置によりⅠと判定された箇所も添付すること。 | N39: ※ 変状の発生範囲の規模とは、対策を行う際に参考となる変状の長さや面積をいう。
N40: ※ 応急措置を実施しないで判定した変状の健全性は、健全性の応急措置後の欄に記入すること。
C41: ※ たたき落としを実施した場合は、実施後の写真を添付すること。 | N41: ※ 変状の発生範囲の規模は、面積・寸法を記載すること。
C42: ※ 附属物の取付状態に関する異常写真は別途、様式D-1-2でとりまとめること。 | N42: (ひび割れ幅のみmmとし、その他をm表記とする)
C43: ※ 変状数に準じてシートを追加すること。（１シートに１ページとすること。） | N43: ※ 構造用鋼材以外の異物に伴ううき・はく離については、メモ欄に異物の概要を記入すること。

Sheet 様式D-1-1(トンネル様式2P015)
B2: ■定期点検記録様式 変状写真台帳 | Y2: Ⅰ
B3: フリガナ | D3: トノミトンネル | H3: 路線名 | J3: 主要道路防府環状線 | M3: 定期点検業者 | P3: セントラルコンサルタント株式会社 | S3: 定期点検年月日 | U3: 44337 | Y3: Ⅱ
B4: 名 称 | D4: 富海トンネル | H4: 管理者名 | J4: 山口県防府土木建築事務所 | M4: 定期点検者名 | P4: 鹿子嶋 康博 | Y4: Ⅲ
B5: 写真 番号 | C5: 覆工 スパン 番号 | D5: S26 | M5: 写真 番号 | N5: 覆工 スパン 番号 | O5: S26 | Y5: Ⅳ
C7: 変状 番号 | D7: 1 | N7: 変状 番号 | O7: 2
B9: 変状 部位 | C9: 対象 箇所 | D9: 覆工・坑門 | M9: 変状 部位 | N9: 対象 箇所 | O9: 覆工・坑門
C11: 部位 区分 | D11: アーチ（左側） | N11: 部位 区分 | O11: 横断目地（右側）
B13: 変状区分 | D13: 材質劣化 | M13: 変状区分 | O13: 材質劣化
B14: 変状種類 | D14: 補強・補修材の破損 | M14: 変状種類 | O14: 補強・補修材の破損
B15: 健全性 | C15: 応急措置前 | M15: 健全性 | N15: 応急措置前
C16: 応急措置後 | E16: Ⅲ | N16: 応急措置後 | P16: Ⅲ
B17: 変状の発生範囲の規模 | E17: 7.20m×0.40m | M17: 変状の発生範囲の規模 | P17: 7.20m×0.40m
B18: 前回定期点検時の状態 | E18: - | M18: 前回定期点検時の状態 | P18: -
B19: 調査方針 | M19: 調査方針
B20: 対策履歴 | H20: 実施状況（実施日） | M20: 対策履歴 | S20: 実施状況（実施日）
B21: メモ | D21: 樋工アンカーナット腐食(全数) | M21: メモ | O21: 樋工残置、樋工アンカーナット腐食(全数)
B22: 写真 番号 | C22: 覆工 スパン 番号 | D22: S28 | M22: 写真 番号 | N22: 覆工 スパン 番号 | O22: S28
C24: 変状 番号 | D24: 1 | N24: 変状 番号 | O24: 2
B26: 変状 部位 | C26: 対象 箇所 | D26: 覆工・坑門 | M26: 変状 部位 | N26: 対象 箇所 | O26: 路面
C28: 部位 区分 | D28: アーチ（左側） | N28: 部位 区分 | O28: 側溝
B30: 変状区分 | D30: 外力 | M30: 変状区分 | O30: 漏水
B31: 変状種類 | D31: ひび割れ | M31: 変状種類 | O31: その他
B32: 健全性 | C32: 応急措置前 | M32: 健全性 | N32: 応急措置前
C33: 応急措置後 | E33: Ⅱb | N33: 応急措置後 | P33: Ⅱb
B34: 変状の発生範囲の規模 | E34: 幅0.3mm×長さ3.9m | M34: 変状の発生範囲の規模 | P34: 0.40m×8.50m
B35: 前回定期点検時の状態 | E35: - | M35: 前回定期点検時の状態 | P35: 沈砂 50mm
B36: 調査方針 | M36: 調査方針
B37: 対策履歴 | H37: 実施状況（実施日） | M37: 対策履歴 | S37: 実施状況（実施日）
B38: メモ | D38: 縦断方向のひび割れ(遊離石灰) | M38: メモ | O38: 土砂堆積
C39: ※ 健全性（応急措置後）の判定区分Ⅱ～Ⅳについて添付すること。また、点検前に 実施された措置によりⅠと判定された箇所も添付すること。 | N39: ※ 変状の発生範囲の規模とは、対策を行う際に参考となる変状の長さや面積をいう。
N40: ※ 応急措置を実施しないで判定した変状の健全性は、健全性の応急措置後の欄に記入すること。
C41: ※ たたき落としを実施した場合は、実施後の写真を添付すること。 | N41: ※ 変状の発生範囲の規模は、面積・寸法を記載すること。
C42: ※ 附属物の取付状態に関する異常写真は別途、様式D-1-2でとりまとめること。 | N42: (ひび割れ幅のみmmとし、その他をm表記とする)
C43: ※ 変状数に準じてシートを追加すること。（１シートに１ページとすること。） | N43: ※ 構造用鋼材以外の異物に伴ううき・はく離については、メモ欄に異物の概要を記入すること。

Sheet 様式D-1-1(トンネル様式2P016)
B2: ■定期点検記録様式 変状写真台帳 | Y2: Ⅰ
B3: フリガナ | D3: トノミトンネル | H3: 路線名 | J3: 主要道路防府環状線 | M3: 定期点検業者 | P3: セントラルコンサルタント株式会社 | S3: 定期点検年月日 | U3: 44337 | Y3: Ⅱ
B4: 名 称 | D4: 富海トンネル | H4: 管理者名 | J4: 山口県防府土木建築事務所 | M4: 定期点検者名 | P4: 鹿子嶋 康博 | Y4: Ⅲ
B5: 写真 番号 | C5: 覆工 スパン 番号 | D5: S29 | M5: 写真 番号 | N5: 覆工 スパン 番号 | O5: S30 | Y5: Ⅳ
C7: 変状 番号 | D7: 1 | N7: 変状 番号 | O7: 1
B9: 変状 部位 | C9: 対象 箇所 | D9: 覆工・坑門 | M9: 変状 部位 | N9: 対象 箇所 | O9: 覆工・坑門
C11: 部位 区分 | D11: アーチ（左側） | N11: 部位 区分 | O11: アーチ（左側）
B13: 変状区分 | D13: 外力 | M13: 変状区分 | O13: 外力
B14: 変状種類 | D14: ひび割れ | M14: 変状種類 | O14: ひび割れ
B15: 健全性 | C15: 応急措置前 | M15: 健全性 | N15: 応急措置前
C16: 応急措置後 | E16: Ⅱb | N16: 応急措置後 | P16: Ⅱb
B17: 変状の発生範囲の規模 | E17: 幅0.3mm×長さ4.0m | M17: 変状の発生範囲の規模 | P17: 幅0.3mm×長さ3.6m
B18: 前回定期点検時の状態 | E18: - | M18: 前回定期点検時の状態 | P18: -
B19: 調査方針 | M19: 調査方針
B20: 対策履歴 | H20: 実施状況（実施日） | M20: 対策履歴 | S20: 実施状況（実施日）
B21: メモ | D21: 縦断方向のひび割れ | M21: メモ | O21: 縦断方向のひび割れ
B22: 写真 番号 | C22: 覆工 スパン 番号 | D22: S31 | M22: 写真 番号 | N22: 覆工 スパン 番号 | O22: S32
C24: 変状 番号 | D24: 1 | N24: 変状 番号 | O24: 1
B26: 変状 部位 | C26: 対象 箇所 | D26: 覆工・坑門 | M26: 変状 部位 | N26: 対象 箇所 | O26: 覆工・坑門
C28: 部位 区分 | D28: アーチ（左側） | N28: 部位 区分 | O28: アーチ（左側）
B30: 変状区分 | D30: 外力 | M30: 変状区分 | O30: 外力
B31: 変状種類 | D31: ひび割れ | M31: 変状種類 | O31: ひび割れ
B32: 健全性 | C32: 応急措置前 | M32: 健全性 | N32: 応急措置前
C33: 応急措置後 | E33: Ⅱb | N33: 応急措置後 | P33: Ⅱb
B34: 変状の発生範囲の規模 | E34: 幅0.5mm×長さ5.1m | M34: 変状の発生範囲の規模 | P34: 幅1.0mm×長さ43.9m
B35: 前回定期点検時の状態 | E35: ひび割れ 幅0.5mm | M35: 前回定期点検時の状態 | P35: ひび割れ 幅1.2mm
B36: 調査方針 | M36: 調査方針
B37: 対策履歴 | H37: 実施状況（実施日） | M37: 対策履歴 | S37: 実施状況（実施日）
B38: メモ | D38: 縦断方向のひび割れ(にじみを伴う) | M38: メモ | O38: 縦断方向のひび割れ(にじみ、遊離石灰)
C39: ※ 健全性（応急措置後）の判定区分Ⅱ～Ⅳについて添付すること。また、点検前に 実施された措置によりⅠと判定された箇所も添付すること。 | N39: ※ 変状の発生範囲の規模とは、対策を行う際に参考となる変状の長さや面積をいう。
N40: ※ 応急措置を実施しないで判定した変状の健全性は、健全性の応急措置後の欄に記入すること。
C41: ※ たたき落としを実施した場合は、実施後の写真を添付すること。 | N41: ※ 変状の発生範囲の規模は、面積・寸法を記載すること。
C42: ※ 附属物の取付状態に関する異常写真は別途、様式D-1-2でとりまとめること。 | N42: (ひび割れ幅のみmmとし、その他をm表記とする)
C43: ※ 変状数に準じてシートを追加すること。（１シートに１ページとすること。） | N43: ※ 構造用鋼材以外の異物に伴ううき・はく離については、メモ欄に異物の概要を記入すること。

Sheet 様式D-1-1(トンネル様式2P017)
B2: ■定期点検記録様式 変状写真台帳 | Y2: Ⅰ
B3: フリガナ | D3: トノミトンネル | H3: 路線名 | J3: 主要道路防府環状線 | M3: 定期点検業者 | P3: セントラルコンサルタント株式会社 | S3: 定期点検年月日 | U3: 44337 | Y3: Ⅱ
B4: 名 称 | D4: 富海トンネル | H4: 管理者名 | J4: 山口県防府土木建築事務所 | M4: 定期点検者名 | P4: 鹿子嶋 康博 | Y4: Ⅲ
B5: 写真 番号 | C5: 覆工 スパン 番号 | D5: S33 | M5: 写真 番号 | N5: 覆工 スパン 番号 | O5: S33 | Y5: Ⅳ
C7: 変状 番号 | D7: 1 | N7: 変状 番号 | O7: 2
B9: 変状 部位 | C9: 対象 箇所 | D9: 覆工・坑門 | M9: 変状 部位 | N9: 対象 箇所 | O9: 覆工・坑門
C11: 部位 区分 | D11: アーチ（左側） | N11: 部位 区分 | O11: アーチ（天端）
B13: 変状区分 | D13: 外力 | M13: 変状区分 | O13: 漏水
B14: 変状種類 | D14: ひび割れ | M14: 変状種類 | O14: 漏水
B15: 健全性 | C15: 応急措置前 | M15: 健全性 | N15: 応急措置前
C16: 応急措置後 | E16: Ⅱb | N16: 応急措置後 | P16: Ⅱa
B17: 変状の発生範囲の規模 | E17: 幅0.5mm×長さ2.3m | M17: 変状の発生範囲の規模 | P17: 7.20m×0.50m
B18: 前回定期点検時の状態 | E18: ひび割れ 幅0.5mm | M18: 前回定期点検時の状態 | P18: 滴水
B19: 調査方針 | M19: 調査方針
B20: 対策履歴 | H20: 実施状況（実施日） | M20: 対策履歴 | S20: 実施状況（実施日）
B21: メモ | D21: 縦断方向のひび割れ | M21: メモ | O21: 滴水
B22: 写真 番号 | C22: 覆工 スパン 番号 | D22: S33 | M22: 写真 番号 | N22: 覆工 スパン 番号 | O22: S33
C24: 変状 番号 | D24: 3 | N24: 変状 番号 | O24: 4
B26: 変状 部位 | C26: 対象 箇所 | D26: 覆工・坑門 | M26: 変状 部位 | N26: 対象 箇所 | O26: 路面
C28: 部位 区分 | D28: アーチ（右側） | N28: 部位 区分 | O28: 車道
B30: 変状区分 | D30: 外力 | M30: 変状区分 | O30: 漏水
B31: 変状種類 | D31: ひび割れ | M31: 変状種類 | O31: 漏水
B32: 健全性 | C32: 応急措置前 | M32: 健全性 | N32: 応急措置前
C33: 応急措置後 | E33: Ⅱb | N33: 応急措置後 | P33: Ⅱb
B34: 変状の発生範囲の規模 | E34: 幅0.3mm未満 | M34: 変状の発生範囲の規模 | P34: 0.40m×1.50m
B35: 前回定期点検時の状態 | E35: ひび割れ 幅0.3mm以上 | M35: 前回定期点検時の状態 | P35: 滞水
B36: 調査方針 | M36: 調査方針
B37: 対策履歴 | H37: 実施状況（実施日） | M37: 対策履歴 | S37: 実施状況（実施日）
B38: メモ | D38: 縦断方向のひび割れ(にじみ、遊離石灰) | M38: メモ | O38: 滞水
C39: ※ 健全性（応急措置後）の判定区分Ⅱ～Ⅳについて添付すること。また、点検前に 実施された措置によりⅠと判定された箇所も添付すること。 | N39: ※ 変状の発生範囲の規模とは、対策を行う際に参考となる変状の長さや面積をいう。
N40: ※ 応急措置を実施しないで判定した変状の健全性は、健全性の応急措置後の欄に記入すること。
C41: ※ たたき落としを実施した場合は、実施後の写真を添付すること。 | N41: ※ 変状の発生範囲の規模は、面積・寸法を記載すること。
C42: ※ 附属物の取付状態に関する異常写真は別途、様式D-1-2でとりまとめること。 | N42: (ひび割れ幅のみmmとし、その他をm表記とする)
C43: ※ 変状数に準じてシートを追加すること。（１シートに１ページとすること。） | N43: ※ 構造用鋼材以外の異物に伴ううき・はく離については、メモ欄に異物の概要を記入すること。

Sheet 様式D-1-1(トンネル様式2P018)
B2: ■定期点検記録様式 変状写真台帳 | Y2: Ⅰ
B3: フリガナ | D3: トノミトンネル | H3: 路線名 | J3: 主要道路防府環状線 | M3: 定期点検業者 | P3: セントラルコンサルタント株式会社 | S3: 定期点検年月日 | U3: 44337 | Y3: Ⅱ
B4: 名 称 | D4: 富海トンネル | H4: 管理者名 | J4: 山口県防府土木建築事務所 | M4: 定期点検者名 | P4: 鹿子嶋 康博 | Y4: Ⅲ
B5: 写真 番号 | C5: 覆工 スパン 番号 | D5: S34 | M5: 写真 番号 | N5: 覆工 スパン 番号 | O5: S34 | Y5: Ⅳ
C7: 変状 番号 | D7: 1 | N7: 変状 番号 | O7: 2
B9: 変状 部位 | C9: 対象 箇所 | D9: 覆工・坑門 | M9: 変状 部位 | N9: 対象 箇所 | O9: 覆工・坑門
C11: 部位 区分 | D11: アーチ（左側） | N11: 部位 区分 | O11: アーチ（右側）
B13: 変状区分 | D13: 外力 | M13: 変状区分 | O13: 外力
B14: 変状種類 | D14: ひび割れ | M14: 変状種類 | O14: ひび割れ
B15: 健全性 | C15: 応急措置前 | M15: 健全性 | N15: 応急措置前
C16: 応急措置後 | E16: Ⅱb | N16: 応急措置後 | P16: Ⅱb
B17: 変状の発生範囲の規模 | E17: 幅1.0mm×長さ3.9m | M17: 変状の発生範囲の規模 | P17: 幅0.4mm×長さ3.7m
B18: 前回定期点検時の状態 | E18: ひび割れ 幅1.0mm | M18: 前回定期点検時の状態 | P18: ひび割れ 幅0.4mm
B19: 調査方針 | M19: 調査方針
B20: 対策履歴 | H20: 実施状況（実施日） | M20: 対策履歴 | S20: 実施状況（実施日）
B21: メモ | D21: 縦断方向のひび割れ | M21: メモ | O21: 縦断方向のひび割れ(遊離石灰)
B22: 写真 番号 | C22: 覆工 スパン 番号 | D22: S34 | M22: 写真 番号 | N22: 覆工 スパン 番号 | O22: S34
C24: 変状 番号 | D24: 3 | N24: 変状 番号 | O24: 4
B26: 変状 部位 | C26: 対象 箇所 | D26: 路面 | M26: 変状 部位 | N26: 対象 箇所 | O26: 路面
C28: 部位 区分 | D28: 側溝 | N28: 部位 区分 | O28: 側溝
B30: 変状区分 | D30: 漏水 | M30: 変状区分 | O30: 漏水
B31: 変状種類 | D31: その他 | M31: 変状種類 | O31: 漏水
B32: 健全性 | C32: 応急措置前 | M32: 健全性 | N32: 応急措置前
C33: 応急措置後 | E33: Ⅱb | N33: 応急措置後 | P33: Ⅱb
B34: 変状の発生範囲の規模 | E34: 0.50m×4.50m(t=50mm) | M34: 変状の発生範囲の規模 | P34: 0.40m×5.30m
B35: 前回定期点検時の状態 | E35: 沈砂 50mm | M35: 前回定期点検時の状態 | P35: 沈砂 50mm
B36: 調査方針 | M36: 調査方針
B37: 対策履歴 | H37: 実施状況（実施日） | M37: 対策履歴 | S37: 実施状況（実施日）
B38: メモ | D38: 土砂堆積 | M38: メモ | O38: 土砂堆積(帯水跡)
C39: ※ 健全性（応急措置後）の判定区分Ⅱ～Ⅳについて添付すること。また、点検前に 実施された措置によりⅠと判定された箇所も添付すること。 | N39: ※ 変状の発生範囲の規模とは、対策を行う際に参考となる変状の長さや面積をいう。
N40: ※ 応急措置を実施しないで判定した変状の健全性は、健全性の応急措置後の欄に記入すること。
C41: ※ たたき落としを実施した場合は、実施後の写真を添付すること。 | N41: ※ 変状の発生範囲の規模は、面積・寸法を記載すること。
C42: ※ 附属物の取付状態に関する異常写真は別途、様式D-1-2でとりまとめること。 | N42: (ひび割れ幅のみmmとし、その他をm表記とする)
C43: ※ 変状数に準じてシートを追加すること。（１シートに１ページとすること。） | N43: ※ 構造用鋼材以外の異物に伴ううき・はく離については、メモ欄に異物の概要を記入すること。

Sheet 様式D-1-1(トンネル様式2P019)
B2: ■定期点検記録様式 変状写真台帳 | Y2: Ⅰ
B3: フリガナ | D3: トノミトンネル | H3: 路線名 | J3: 主要道路防府環状線 | M3: 定期点検業者 | P3: セントラルコンサルタント株式会社 | S3: 定期点検年月日 | U3: 44337 | Y3: Ⅱ
B4: 名 称 | D4: 富海トンネル | H4: 管理者名 | J4: 山口県防府土木建築事務所 | M4: 定期点検者名 | P4: 鹿子嶋 康博 | Y4: Ⅲ
B5: 写真 番号 | C5: 覆工 スパン 番号 | D5: S35 | M5: 写真 番号 | N5: 覆工 スパン 番号 | O5: S35 | Y5: Ⅳ
C7: 変状 番号 | D7: 1 | N7: 変状 番号 | O7: 2
B9: 変状 部位 | C9: 対象 箇所 | D9: 覆工・坑門 | M9: 変状 部位 | N9: 対象 箇所 | O9: 覆工・坑門
C11: 部位 区分 | D11: アーチ（左側） | N11: 部位 区分 | O11: アーチ（天端）
B13: 変状区分 | D13: 外力 | M13: 変状区分 | O13: 材質劣化
B14: 変状種類 | D14: ひび割れ | M14: 変状種類 | O14: うき・はく離
B15: 健全性 | C15: 応急措置前 | M15: 健全性 | N15: 応急措置前
C16: 応急措置後 | E16: Ⅱb | N16: 応急措置後 | P16: Ⅱa
B17: 変状の発生範囲の規模 | E17: 幅0.3mm未満 | M17: 変状の発生範囲の規模 | P17: 0.10m×0.10m
B18: 前回定期点検時の状態 | E18: ひび割れ 幅0.3mm以上 | M18: 前回定期点検時の状態 | P18: -
B19: 調査方針 | M19: 調査方針
B20: 対策履歴 | H20: 実施状況（実施日） | M20: 対策履歴 | S20: 実施状況（実施日）
B21: メモ | D21: 縦断方向のひび割れ(遊離石灰) | M21: メモ | O21: 補修跡うき
B22: 写真 番号 | C22: 覆工 スパン 番号 | D22: S35 | M22: 写真 番号 | N22: 覆工 スパン 番号 | O22: S35
C24: 変状 番号 | D24: 3 | N24: 変状 番号 | O24: 4
B26: 変状 部位 | C26: 対象 箇所 | D26: 覆工・坑門 | M26: 変状 部位 | N26: 対象 箇所 | O26: 覆工・坑門
C28: 部位 区分 | D28: アーチ（右側） | N28: 部位 区分 | O28: アーチ（天端）
B30: 変状区分 | D30: 外力 | M30: 変状区分 | O30: 漏水
B31: 変状種類 | D31: ひび割れ | M31: 変状種類 | O31: 漏水
B32: 健全性 | C32: 応急措置前 | M32: 健全性 | N32: 応急措置前
C33: 応急措置後 | E33: Ⅱb | N33: 応急措置後 | P33: Ⅱa
B34: 変状の発生範囲の規模 | E34: 幅0.7mm×長さ3.7m | M34: 変状の発生範囲の規模 | P34: 6.80m×0.50m
B35: 前回定期点検時の状態 | E35: ひび割れ 幅0.7mm | M35: 前回定期点検時の状態 | P35: -
B36: 調査方針 | M36: 調査方針
B37: 対策履歴 | H37: 実施状況（実施日） | M37: 対策履歴 | S37: 実施状況（実施日）
B38: メモ | D38: 縦断方向のひび割れ(にじみを伴う) | M38: メモ | O38: 滴水
C39: ※ 健全性（応急措置後）の判定区分Ⅱ～Ⅳについて添付すること。また、点検前に 実施された措置によりⅠと判定された箇所も添付すること。 | N39: ※ 変状の発生範囲の規模とは、対策を行う際に参考となる変状の長さや面積をいう。
N40: ※ 応急措置を実施しないで判定した変状の健全性は、健全性の応急措置後の欄に記入すること。
C41: ※ たたき落としを実施した場合は、実施後の写真を添付すること。 | N41: ※ 変状の発生範囲の規模は、面積・寸法を記載すること。
C42: ※ 附属物の取付状態に関する異常写真は別途、様式D-1-2でとりまとめること。 | N42: (ひび割れ幅のみmmとし、その他をm表記とする)
C43: ※ 変状数に準じてシートを追加すること。（１シートに１ページとすること。） | N43: ※ 構造用鋼材以外の異物に伴ううき・はく離については、メモ欄に異物の概要を記入すること。

Sheet 様式D-1-1(トンネル様式2P020)
B2: ■定期点検記録様式 変状写真台帳 | Y2: Ⅰ
B3: フリガナ | D3: トノミトンネル | H3: 路線名 | J3: 主要道路防府環状線 | M3: 定期点検業者 | P3: セントラルコンサルタント株式会社 | S3: 定期点検年月日 | U3: 44337 | Y3: Ⅱ
B4: 名 称 | D4: 富海トンネル | H4: 管理者名 | J4: 山口県防府土木建築事務所 | M4: 定期点検者名 | P4: 鹿子嶋 康博 | Y4: Ⅲ
B5: 写真 番号 | C5: 覆工 スパン 番号 | D5: S36 | M5: 写真 番号 | N5: 覆工 スパン 番号 | O5: S36 | Y5: Ⅳ
C7: 変状 番号 | D7: 1 | N7: 変状 番号 | O7: 2
B9: 変状 部位 | C9: 対象 箇所 | D9: 覆工・坑門 | M9: 変状 部位 | N9: 対象 箇所 | O9: 覆工・坑門
C11: 部位 区分 | D11: アーチ（左側） | N11: 部位 区分 | O11: アーチ（右側）
B13: 変状区分 | D13: 外力 | M13: 変状区分 | O13: 外力
B14: 変状種類 | D14: ひび割れ | M14: 変状種類 | O14: ひび割れ
B15: 健全性 | C15: 応急措置前 | M15: 健全性 | N15: 応急措置前
C16: 応急措置後 | E16: Ⅱb | N16: 応急措置後 | P16: Ⅱb
B17: 変状の発生範囲の規模 | E17: 幅2.0mm×長さ1.6m、他 | M17: 変状の発生範囲の規模 | P17: 幅1.１mm×長さ2.0m
B18: 前回定期点検時の状態 | E18: ひび割れ 幅2.0mm他 | M18: 前回定期点検時の状態 | P18: ひび割れ 幅1.1mm
B19: 調査方針 | M19: 調査方針
B20: 対策履歴 | H20: 実施状況（実施日） | M20: 対策履歴 | S20: 実施状況（実施日）
B21: メモ | D21: 縦断方向のひび割れ | M21: メモ | O21: 縦断方向のひび割れ(遊離石灰)
B22: 写真 番号 | C22: 覆工 スパン 番号 | D22: S36 | M22: 写真 番号 | N22: 覆工 スパン 番号 | O22: S37
C24: 変状 番号 | D24: 3 | N24: 変状 番号 | O24: 1
B26: 変状 部位 | C26: 対象 箇所 | D26: 路面 | M26: 変状 部位 | N26: 対象 箇所 | O26: 覆工・坑門
C28: 部位 区分 | D28: 側溝 | N28: 部位 区分 | O28: アーチ（左側）
B30: 変状区分 | D30: 漏水 | M30: 変状区分 | O30: 漏水
