Workbook
Name Ⅱa: OFFSET(#REF!,,,COUNTA(#REF!)-3,1)
Name Ⅱb: OFFSET(#REF!,,,COUNTA(#REF!)-3,1)
Name Ⅲ: OFFSET(#REF!,,,COUNTA(#REF!)-3,1)
Name Ⅳ: OFFSET(#REF!,,,COUNTA(#REF!)-3,1)
Name コード: #REF!
Name ジェットファン種別: #REF!
Name その他: #REF!
Name その他: #REF!
Name その他: '(参考)リスト'!$C$45
Name その他施設: #REF!
Name その他施設: #REF!
Name その他施設: '(参考)リスト'!$C$76:$C$80
Name トンネル工法: #REF!
Name トンネル等級: #REF!
Name トンネル分類: #REF!
Name 一般有料区分: #REF!
Name 外力: #REF!
Name 外力: #REF!
Name 外力: '(参考)リスト'!$E$16:$E$23
Name 完成年次: #REF!
Name 換気: #REF!
Name 換気施設: #REF!
Name 換気施設: #REF!
Name 換気施設: '(参考)リスト'!$C$55:$C$59
Name 吸音板: #REF!
Name 区分: #REF!
Name 形式: #REF!
Name 警報表示板: #REF!
Name 健全度: #REF!
Name 個数: #REF!
Name 交通量: #REF!
Name 坑門: #REF!
Name 坑門: #REF!
Name 坑門: '(参考)リスト'!$C$16:$C$29
Name 更新年次: #REF!
Name 最大土被り: #REF!
Name 材質劣化: #REF!
Name 材質劣化: #REF!
Name 材質劣化: '(参考)リスト'!$E$25:$E$30
Name 写真番号: #REF!
Name 車道幅: #REF!
Name 縦断勾配: #REF!
Name 照明個数: #REF!
Name 照明施設: #REF!
Name 照明施設: #REF!
Name 照明施設: '(参考)リスト'!$C$51:$C$53
Name 照明種別: #REF!
Name 占用物件: #REF!
Name 措置後判定: '[2](参考)ﾘｽﾄ'!$AL$3:$AL$8
Name 措置履歴実施: '[2](参考)ﾘｽﾄ'!$AU$3:$AU$5
Name 対応方針: #REF!
Name 対象箇所: [1]!テーブル1[対象箇所]
Name 対象箇所: [1]!テーブル1[対象箇所]
Name 対象箇所: [3]!テーブル1[対象箇所]
Name 対象箇所: [4]!テーブル1[対象箇所]
Name 対象箇所: [5]!テーブル1[対象箇所]
Name 対象箇所: [6]!テーブル1[対象箇所]
Name 対象箇所: [6]!テーブル1[対象箇所]
Name 対象箇所: [6]!テーブル1[対象箇所]
Name 対象箇所: [6]!テーブル1[対象箇所]

Sheet 様式A-1
B2: ■トンネル台帳 トンネル諸元、非常用施設諸元 【様式A-1】 | W2: 34.04683,131.63281
B3: フリガナ | D3: トノミトンネル | H3: 路線名 | J3: 主要道路防府環状線 | P3: 管理者名 | R3: 山口県防府土木 建築事務所 | W3: 緊急輸送道路
B4: 名 称 | D4: 富海トンネル | W4: 代替路の有無
B5: 所在地 | D5: 自 | E5: 山口県防府市富海 | H5: 作成者 | K5: セントラルコンサルタント株式会社 鹿子嶋 康博 | P5: 作成年月日 | R5: 44581 | U5: トンネル延長 | X5: L= | Z5: 178 | AB5: ｍ
D6: 至 | E6: 山口県防府市富海 | U6: ﾄﾝﾈﾙの分類 | X6: 陸上トンネル（掘進工法）
B7: 起点 | C7: 緯度 | E7: 340248.6 | H7: 完成年月日 | K7: 昭和33年 | M7: 舗装 | O7: 種 別 | Q7: アスファルト | S7: トンネル非常用施設 | T7: 施設の内訳 | X7: 種別・方式 | Y7: 型式 | Z7: 個数 | AA7: 更新年度 | AE7: =INT(E7/10000) -> 34 | AF7: =INT(E7/100)-AE7*100 -> 2 | AG7: =E7-AE7*10000-AF7*100 -> 48.6 | AH7: =ROUND(AE7+AF7/60+AG7/60/60,5) -> 34.04683 | AI7: =TEXT(AH7,"0.00000") -> 34.04683
C8: 経度 | E8: 1313758.1 | H8: 供用年月日 | K8: - | O8: 厚 さ | T8: 通報設備 | U8: 通話型通報設備 | Y8: - | Z8: 1 | AA8: - | AE8: =INT(E8/10000) -> 131 | AF8: =INT(E8/100)-AE8*100 -> 37 | AG8: =E8-AE8*10000-AF8*100 -> 58.1 | AH8: =ROUND(AE8+AF8/60+AG8/60/60,5) -> 131.63281 | AI8: =TEXT(AH8,"0.00000") -> 131.63281
B9: 終点 | C9: 緯度 | E9: 340244.6 | H9: トンネル区分 | K9: Ｄ | O9: 面 積 | Q9: - | U9: 操作型通報設備 | Y9: - | Z9: 5 | AA9: -
C10: 経度 | E10: 1313753 | H10: 内装種類 | K10: 覆工(内装板) | O10: 更新年次 | Q10: - | U10: 自動通報設備 | Y10: - | Z10: - | AA10: -
B11: 一般有料区分 | E11: 一般（無料） | H11: 天井板種類 | K11: 覆工(内装なし) | M11: 排水 | O11: 種 別 | Q11: 自然排水 | T11: 警報設備 | U11: 非常警報設備 | Y11: - | Z11: - | AA11: -
B12: 土かぶり | E12: - | G12: m | H12: 坑門 | I12: 起点 | J12: 形式 | K12: 面壁型 | O12: 更新年次 | Q12: - | T12: 消火設備 | U12: 消 火 器 | Y12: - | Z12: 5 | AA12: -
B13: 内空断面積 | E13: 46.9 | G13: ㎡ | J13: 延長 | K13: 0 | L13: m | M13: 施設 | P13: 種別・方式 | Q13: 個数 | R13: 更新年次 | U13: 消火栓設備 | Y13: - | Z13: - | AA13: -
B14: 交 通 量 | E14: 13637 | G14: 台/日 | I14: 終点 | J14: 形式 | K14: 面壁型 | M14: 道路附属物等 | N14: 照明 | P14: LED | Q14: 86 | R14: 平成26 | T14: 避難誘導設備 | U14: 誘導表示設備 | Y14: - | Z14: - | AA14: - | AC14: 非常電話案内板6
C15: 道 路 幅 | E15: 8.5 | G15: m | J15: 延長 | K15: 0 | L15: m | N15: 換気 | P15: 自然換気 | Q15: - | R15: - | U15: 避難情報提供設備 | Y15: - | Z15: - | AA15: -
B16: 幅 員 | C16: 車 道 幅 | E16: 6.7 | G16: m | H16: 竣工巻厚 | I16: アーチ | K16: - | L16: cm | N16: 標識 | P16: - | Q16: - | R16: -
G17: m | I17: 側 壁 | K17: - | L17: cm | N17: 警報表示板 | P17: - | Q17: - | R17: - | U17: 避難通路 | Y17: - | Z17: - | AA17: -
C18: 歩道等幅 | E18: - | G18: m | K18: - | L18: cm | N18: 吸音板 | P18: - | Q18: - | R18: - | U18: 排煙設備 | Y18: - | Z18: - | AA18: -
B19: 高さ | C19: 建築限界高 | E19: 4.5 | G19: m | I19: インバート | K19: - | L19: cm | T19: その他の設備 | U19: 給水栓設備 | Y19: - | Z19: - | AA19: -
C20: 中央高 | E20: 6.2 | G20: m | H20: 半径 | I20: アーチ | K20: - | L20: cm | U20: 無線通信補助設備 | Y20: - | Z20: - | AA20: -
C21: 有効高 | E21: 4.5 | G21: m | I21: 側 壁 | K21: - | L21: cm | U21: 水噴霧設備 | Y21: - | Z21: - | AA21: -
C22: 縦断勾配 | E22: - | I22: インバート | L22: cm | U22: 監視設備 | Y22: - | Z22: - | AA22: -
B23: 線 形 | C23: 直線区間長 | H23: 占用物件 | I23: 種 類 | K23: 寸 法 | M23: 管理者名 | Q23: 更新年次 | S23: 非常用施設 関連設備 | U23: 予備発電設備 | Y23: - | Z23: - | AA23: -
C24: 曲線区間 | D24: 区間長 | F24: 178
D25: 起点側ｸﾛｿｲﾄﾞ | F25: -
D26: 曲線半径 | F26: -
D27: 終点側ｸﾛｿｲﾄﾞ | F27: - | S27: その他 | U27: 非常駐車帯 | Y27: - | Z27: - | AA27: -
B28: トンネル工法 | E28: その他 | U28: 方向転換所 | Y28: - | Z28: - | AA28: -
C29: ※緯度・経度については、秒の少数第二位の単位まで記入すること。（例；36度20分35.56秒の場合、362035.36と入力）

Sheet 様式A-2
B3: ■トンネル台帳 トンネル情報一覧表 【様式A-2】
B4: フリガナ | E4: ='様式A-1'!D3 -> トノミトンネル | J4: 路線名 | M4: ='様式A-1'!J3 -> 主要道路防府環状線 | S4: 作成者 | Y4: ='様式A-1'!K5 -> セントラルコンサルタント株式会社 鹿子嶋 康博 | AE4: 作成年月日 | AI4: ='様式A-1'!R5 -> 44581
B5: 名 称 | E5: ='様式A-1'!D4 -> 富海トンネル | J5: 管理者名 | M5: ='様式A-1'!R3 -> 山口県防府土木 建築事務所
B6: 覆工 ｽﾊﾟﾝ 番号 | C6: ｽﾊﾟﾝ長 | D6: 追加距離 | F6: トンネル本体工 | K6: 照明施設 | O6: 非常用施設 | AE6: 換気施設 | AK6: その他附属物等
O7: ='様式A-1'!T8 -> 通報設備 | R7: ='様式A-1'!T11 -> 警報設備 | S7: ='様式A-1'!T12 -> 消火設備 | U7: ='様式A-1'!T14 -> 避難誘導設備 | Y7: ='様式A-1'!T19 -> その他の設備 | AC7: 特記事項
D8: 起点側 | E8: 終点側 | F8: 特記事項 | I8: 内装板 | J8: 天井板 | K8: 基本照明 | L8: 入口出口照明 | M8: 特記事項 | O8: ='様式A-1'!U8 -> 通話型通報設備 | P8: ='様式A-1'!U9 -> 操作型通報設備 | Q8: ='様式A-1'!U10 -> 自動通報設備 | R8: ='様式A-1'!U11 -> 非常警報設備 | S8: ='様式A-1'!U12 -> 消 火 器 | T8: ='様式A-1'!U13 -> 消火栓設備 | U8: ='様式A-1'!U14 -> 誘導表示設備 | V8: ='様式A-1'!U15 -> 避難情報提供設備 | W8: ='様式A-1'!U17 -> 避難通路 | X8: ='様式A-1'!U18 -> 排煙設備 | Y8: ='様式A-1'!U19 -> 給水栓設備 | Z8: ='様式A-1'!U20 -> 無線通信補助設備 | AA8: ='様式A-1'!U21 -> 水噴霧設備 | AB8: ='様式A-1'!U22 -> 監視設備 | AE8: JF | AF8: VI計 | AG8: CO計 | AH8: 風向 風速計 | AI8: 特記事項
C9: (m) | D9: (m) | E9: (m)
B10: PS | C10: 0 | D10: =C10 -> 0 | E10: =D10 -> 0 | F10: 坑門(面壁型) | AK10: 抗外灯
B11: S1 | C11: 2.9 | D11: =E10 -> 0 | E11: 2.9 | K11: ○
B12: S2 | C12: 2.5 | D12: 2.9 | E12: 5.4 | I12: ○ | P12: ① | S12: ①
B13: S3 | C13: 4 | D13: 5.4 | E13: 9.4 | I13: ○
B14: S4 | C14: 2.5 | D14: 9.4 | E14: 11.9 | I14: ○ | K14: ○
B15: S5 | C15: 4 | D15: 11.9 | E15: 15.9 | I15: ○ | K15: ○ | AK15: 非常電話案内板
B16: S6 | C16: 4 | D16: 15.9 | E16: 19.9 | I16: ○ | K16: ○
B17: S7 | C17: 4 | D17: 19.9 | E17: 23.9 | I17: ○ | K17: ○
B18: S8 | C18: 4 | D18: 23.9 | E18: 27.9 | I18: ○ | K18: ○
B19: S9 | C19: 4 | D19: 27.9 | E19: 31.9 | I19: ○ | K19: ○
B20: S10 | C20: 4 | D20: 31.9 | E20: 35.9 | I20: ○ | K20: ○
B21: S11 | C21: 4 | D21: 35.9 | E21: 39.9 | I21: ○ | K21: ○
B22: S12 | C22: 4 | D22: 39.9 | E22: 43.9 | I22: ○ | K22: ○ | AK22: 非常電話案内板
B23: S13 | C23: 4 | D23: 43.9 | E23: 47.9 | I23: ○ | K23: ○ | P23: ② | S23: ②
B24: S14 | C24: 2.7 | D24: 47.9 | E24: 50.6 | I24: ○ | K24: ○
B25: S15 | C25: 2.7 | D25: 50.6 | E25: 53.3 | I25: ○ | K25: ○
B26: S16 | C26: 5.5 | D26: 53.3 | E26: 58.8 | I26: ○ | K26: ○
B27: S17 | C27: 4 | D27: 58.8 | E27: 62.8 | I27: ○ | K27: ○
B28: S18 | C28: 4 | D28: 62.8 | E28: 66.8 | I28: ○ | K28: ○ | AK28: 非常電話案内板
B29: S19 | C29: 4 | D29: 66.8 | E29: 70.8 | I29: ○ | K29: ○
B30: S20 | C30: 5.5 | D30: 70.8 | E30: 76.3 | I30: ○ | K30: ○
B31: S21 | C31: 6.6 | D31: 76.3 | E31: 82.9 | I31: ○ | K31: ○
B32: S22 | C32: 4 | D32: 82.9 | E32: 86.9 | I32: ○ | K32: ○
B33: S23 | C33: 6.6 | D33: 86.9 | E33: 93.5 | I33: ○ | K33: ○ | O33: ① | P33: ③ | S33: ③
B34: S24 | C34: 5.4 | D34: 93.5 | E34: 98.9 | I34: ○ | K34: ○
B35: S25 | C35: 5.4 | D35: 98.9 | E35: 104.3 | I35: ○ | K35: ○
B36: S26 | C36: 4 | D36: 104.3 | E36: 108.3 | I36: ○ | K36: ○
B37: S27 | C37: 3.8 | D37: 108.3 | E37: 112.1 | I37: ○ | K37: ○
B38: S28 | C38: 4 | D38: 112.1 | E38: 116.1 | I38: ○ | K38: ○ | AK38: 非常電話案内板
B39: S29 | C39: 4 | D39: 116.1 | E39: 120.1 | I39: ○ | K39: ○
B40: S30 | C40: 5.2 | D40: 120.1 | E40: 125.3 | I40: ○ | K40: ○
B41: S31 | C41: 5.2 | D41: 125.3 | E41: 130.5 | I41: ○ | K41: ○
B42: S32 | C42: 4 | D42: 130.5 | E42: 134.5 | I42: ○ | K42: ○ | P42: ④ | S42: ④
B43: S33 | C43: 4 | D43: 134.5 | E43: 138.5 | I43: ○ | K43: ○
B44: S34 | C44: 4 | D44: 138.5 | E44: 142.5 | I44: ○ | K44: ○ | AK44: 非常電話案内板
B45: S35 | C45: 4 | D45: 142.5 | E45: 146.5 | I45: ○ | K45: ○
B46: S36 | C46: 4 | D46: 146.5 | E46: 150.5 | I46: ○ | K46: ○
B47: S37 | C47: 4 | D47: 150.5 | E47: 154.5 | I47: ○ | K47: ○
B48: S38 | C48: 4 | D48: 154.5 | E48: 158.5 | I48: ○ | K48: ○
B49: S39 | C49: 4 | D49: 158.5 | E49: 162.5 | I49: ○ | K49: ○
B50: S40 | C50: 4 | D50: 162.5 | E50: 166.5 | I50: ○ | K50: ○ | AK50: 非常電話案内板
B51: S41 | C51: 4 | D51: 166.5 | E51: 170.5 | I51: ○ | K51: ○
B52: S42 | C52: 2.4 | D52: 170.5 | E52: 172.9 | I52: ○
B53: S43 | C53: 2.7 | D53: 172.9 | E53: 175.6 | I53: ○ | P53: ⑤ | S53: ⑤
B54: S44 | C54: 2.4 | D54: 175.6 | E54: 178 | K54: ○
B55: PE | C55: 0 | D55: 178 | E55: 178 | F55: 坑門(面壁型) | AK55: 抗外灯
B93: ※ 行が不足する場合は、適時、表の行を増やすこと。

Sheet 様式A-3
B3: ■トンネル台帳 トンネル記録（位置図、断面図、施工実績他）【様式A-3】
B4: フリガナ | E4: ='様式A-1'!D3 -> トノミトンネル | J4: 路線名 | M4: ='様式A-1'!J3 -> 主要道路防府環状線 | S4: 作成者 | W4: ='様式A-1'!K5 -> セントラルコンサルタント株式会社 鹿子嶋 康博 | AC4: 作成年月日 | AF4: ='様式A-1'!R5 -> 44581
B5: 名 称 | E5: ='様式A-1'!D4 -> 富海トンネル | J5: 管理者名 | M5: ='様式A-1'!R3 -> 山口県防府土木 建築事務所
B6: 位置図・現況写真・標準断面図・地質縦断図・施工実績
AA18: 終点側

Sheet 様式B(トンネル様式1P001)
B2: ■定期点検記録様式 トンネル変状・異常箇所写真位置図 | T2: トンネルID | V2: 34.04681,131.63281 | AA2: Ⅰ | AB2: あり | AC2: 陸上トンネル 掘進工法
B3: フリガナ | D3: トノミトンネル | H3: 路線名 | J3: 主要道路防府環状線 | N3: 管理者名 | P3: 山口県防府土木建築事務所 | T3: 緊急輸送道路 | AA3: Ⅱ | AB3: なし | AC3: 陸上トンネル 開削工法
B4: 名 称 | D4: 富海トンネル | T4: 代替路の有無 | AA4: Ⅲ | AC4: 陸上トンネル その他
B5: 所在地 | D5: 自 | E5: 山口県防府市富海 | H5: 定期点検業者 | K5: セントラルコンサルタント株式会社 | O5: 定期点検年月日 | Q5: 44337 | T5: トンネル延長 | V5: L= | W5: 178 | Y5: ｍ | AA5: Ⅳ | AC5: 水底トンネル 掘進工法
D6: 至 | E6: 山口県防府市富海 | H6: 定期点検者名 | K6: 鹿子嶋 康博 | T6: ﾄﾝﾈﾙの分類 | V6: 陸上トンネル（掘進工法） | AC6: 水底トンネル 沈埋工法
B7: 起点 | C7: 緯度 | D7: 34°02′48.6″ | F7: 変状・異常 箇所数合計 | H7: トンネル 本体工 | J7: 材質劣化 | L7: Ⅱ | M7: 9 | N7: Ⅲ | O7: 25 | P7: Ⅳ | Q7: 0 | R7: トンネル毎 の健全性 | T7: Ⅲ | V7: 附属物の 取付状態 | W7: ◯ （応急措置後） | Y7: 9 | AC7: 水底トンネル 開削工法
AC8: 水底トンネル その他
C10: 経度 | D10: 131°37′58.1″
J11: 漏水 | L11: Ⅱ | M11: 36 | N11: Ⅲ | O11: 0 | P11: Ⅳ | Q11: 0
B13: 終点 | C13: 緯度 | D13: 34°02′44.6″ | W13: ✕ | Y13: 2
J15: 外力 | L15: Ⅱ | M15: 18 | N15: Ⅲ | O15: 0 | P15: Ⅳ | Q15: 0 | AC15: 0
C16: 経度 | D16: 131°37′53.0″
B19: トンネル変状・異常箇所写真位置図
O23: 34.04681,131.63281
P26: 注１：本位置図は、見下げた状態で記載すること。 注２：覆工スパン番号は横断目地毎(矢板工法の場合は上半アーチ の横断目地毎)に設定すること。 注３：写真番号に付する変状番号は、各覆工スパンの変状に対して新た に確認された場合は順次追加していくこと。 注４：横断目地の変状は前の覆工スパン番号で計上すること。 注５：１枚に収まらない場合は、複数枚に分けて作成すること。
C28: ※1 トンネル本体工の変状数は、材質劣化、漏水に起因するものは変状単位で、外力に起因するものはスパン単位で計上すること。
C29: ※2 本体工の変状に対しては、健全性の判定区分Ⅱ～Ⅳについて添付すること。また、点検前に実施された措置によりⅠと判定された箇所も添付すること。
C30: ※3 附属物の取付状態の○欄については、応急措置前に判定区分×とした箇所のうち応急措置により○判定とした箇所の数を記入すること。
C31: ※4 附属物の異常番号は、本体工と番号が重複しないよう101番以降とする等の配慮を行い、分かりやすく記録すること。

Sheet 様式B(トンネル様式1P002)
B2: ■定期点検記録様式 トンネル変状・異常箇所写真位置図 | T2: トンネルID | V2: 34.04681,131.63281 | AA2: Ⅰ | AB2: あり | AC2: 陸上トンネル 掘進工法
B3: フリガナ | D3: トノミトンネル | H3: 路線名 | J3: 主要道路防府環状線 | N3: 管理者名 | P3: 山口県防府土木建築事務所 | T3: 緊急輸送道路 | AA3: Ⅱ | AB3: なし | AC3: 陸上トンネル 開削工法
B4: 名 称 | D4: 富海トンネル | T4: 代替路の有無 | AA4: Ⅲ | AC4: 陸上トンネル その他
B5: 所在地 | D5: 自 | E5: 山口県防府市富海 | H5: 定期点検業者 | K5: セントラルコンサルタント株式会社 | O5: 定期点検年月日 | Q5: 44337 | T5: トンネル延長 | V5: L= | W5: 178 | Y5: ｍ | AA5: Ⅳ | AC5: 水底トンネル 掘進工法
D6: 至 | E6: 山口県防府市富海 | H6: 定期点検者名 | K6: 鹿子嶋 康博 | T6: ﾄﾝﾈﾙの分類 | V6: 陸上トンネル（掘進工法） | AC6: 水底トンネル 沈埋工法
B7: 起点 | C7: 緯度 | D7: 34°02′48.6″ | F7: 変状・異常 箇所数合計 | H7: トンネル 本体工 | J7: 材質劣化 | L7: Ⅱ | M7: 9 | N7: Ⅲ | O7: 25 | P7: Ⅳ | Q7: 0 | R7: トンネル毎 の健全性 | T7: Ⅲ | V7: 附属物の 取付状態 | W7: ◯ （応急措置後） | Y7: 9 | AC7: 水底トンネル 開削工法
AC8: 水底トンネル その他
C10: 経度 | D10: 131°37′58.1″
J11: 漏水 | L11: Ⅱ | M11: 36 | N11: Ⅲ | O11: 0 | P11: Ⅳ | Q11: 0
B13: 終点 | C13: 緯度 | D13: 34°02′44.6″ | W13: ✕ | Y13: 2
J15: 外力 | L15: Ⅱ | M15: 18 | N15: Ⅲ | O15: 0 | P15: Ⅳ | Q15: 0 | AC15: 0
C16: 経度 | D16: 131°37′53.0″
B19: トンネル変状・異常箇所写真位置図
P26: 注１：本位置図は、見下げた状態で記載すること。 注２：覆工スパン番号は横断目地毎(矢板工法の場合は上半アーチ の横断目地毎)に設定すること。 注３：写真番号に付する変状番号は、各覆工スパンの変状に対して新た に確認された場合は順次追加していくこと。 注４：横断目地の変状は前の覆工スパン番号で計上すること。 注５：１枚に収まらない場合は、複数枚に分けて作成すること。
C28: ※1 トンネル本体工の変状数は、材質劣化、漏水に起因するものは変状単位で、外力に起因するものはスパン単位で計上すること。
C29: ※2 本体工の変状に対しては、健全性の判定区分Ⅱ～Ⅳについて添付すること。また、点検前に実施された措置によりⅠと判定された箇所も添付すること。
C30: ※3 附属物の取付状態の○欄については、応急措置前に判定区分×とした箇所のうち応急措置により○判定とした箇所の数を記入すること。
C31: ※4 附属物の異常番号は、本体工と番号が重複しないよう101番以降とする等の配慮を行い、分かりやすく記録すること。

Sheet 様式C-1-1
B2: ■定期点検記録様式 全スパン定期点検結果総括表（トンネル本体工） 【様式C-1-1】
B3: フリガナ | F3: トノミトンネル | I3: 路線名 | K3: 主要道路防府環状線 | O3: 定期点検業者 | Q3: セントラルコンサルタント株式会社 | U3: 定期点検年月日 | Y3: 44337
B4: 名 称 | F4: 富海トンネル | I4: 管理者名 | K4: 山口県防府土木建築事務所 | O4: 定期点検者名 | Q4: 鹿子嶋 康博
B5: 定期点検結果 | C5: 覆工 スパン 番号 | E5: 変状 番号 | F5: 距離 （m） | G5: 変状部位 | I5: 変 状 の 内 容 | O5: 前回定期点検時の状態 | Q5: 今回定期点検結果 | U5: 措置履歴 | Z5: 対応方針 ・ 特記事項
G7: 対象箇所 | H7: 部位区分 | I7: 変状区分 | J7: 変状種類 | M7: 変状の発生範囲の規模 | N7: 前回定期点検時 との比較 | O7: 状態 | P7: 健全性 | Q7: 対策区分 | S7: 調査の 要否 | T7: 措置の 要否 | U7: 実施 | V7: 措置の実施状況
Q8: 応急措置前 | R8: 応急措置後
C9: S2 | E9: 1 | F9: 22.5 | G9: 覆工・坑門 | H9: 横断目地（左側） | I9: 材質劣化 | J9: 補強・補修材の破損 | M9: 5.60m×0.40m | N9: 新たに発生 | O9: － | P9: － | R9: Ⅲ | S9: 否 | T9: 要対策 | Z9: はく落防止対策工
C10: S2 | E10: 2 | F10: 22.5 | G10: 覆工・坑門 | H10: 横断目地（右側） | I10: 材質劣化 | J10: 補強・補修材の破損 | M10: 7.40m×0.40m | N10: 新たに発生 | O10: － | P10: － | R10: Ⅲ | S10: 否 | T10: 要対策 | Z10: はく落防止対策工
C11: S3 | E11: 1 | F11: 23.6 | G11: 覆工・坑門 | H11: アーチ（左側） | I11: 材質劣化 | J11: 補強・補修材の破損 | M11: 6.20m×0.30m | N11: 新たに発生 | O11: － | P11: － | R11: Ⅲ | S11: 否 | T11: 要対策 | Z11: はく落防止対策工
C12: S3 | E12: 2 | F12: 24.3 | G12: 覆工・坑門 | H12: アーチ（天端） | I12: 材質劣化 | J12: 鋼材腐食 | M12: 0.05m×0.20m | N12: 新たに発生 | O12: － | P12: － | R12: Ⅱb | S12: 否 | T12: 要監視 | Z12: 監視
C13: S4 | E13: 1 | F13: 28.6 | G13: 覆工・坑門 | H13: 水平打ち継ぎ目（左側） | I13: 漏水 | J13: 漏水 | M13: 1.40m×5.40m | N13: 拡大 | O13: Ⅱb | P13: Ⅱ | R13: Ⅱb | S13: 否 | T13: 要監視 | Z13: 監視
C14: S4 | E14: 2 | F14: 28 | G14: 覆工・坑門 | H14: アーチ（左側） | I14: 材質劣化 | J14: うき・はく離 | M14: 0.10m×0.10m | N14: 新たに発生 | O14: － | P14: － | R14: Ⅱa | S14: 否 | T14: 要対策 | Z14: はく落防止対策工
C15: S4 | E15: 3 | F15: 37.2 | G15: 覆工・坑門 | H15: アーチ（右側） | I15: 漏水 | J15: 漏水 | M15: 4.00m×0.60m | N15: 新たに発生 | O15: － | P15: － | R15: Ⅱb | S15: 否 | T15: 要監視 | Z15: 監視
C16: S6 | E16: 1 | F16: 39.1 | G16: 覆工・坑門 | H16: 横断目地（右側） | I16: 漏水 | J16: 補強・補修材の破損 | M16: 0.10m×0.15m | N16: 進行が認められない | O16: Ⅱa | P16: Ⅱ | R16: Ⅱa | S16: 否 | T16: 要対策 | Z16: 漏水防止対策工
C17: S7 | E17: 1 | F17: 40.1 | G17: 覆工・坑門 | H17: アーチ（左側） | I17: 外力 | J17: ひび割れ | M17: 幅0.5mm×長さ3.3m | N17: 進行が認められない | O17: － | P17: － | R17: Ⅱb | S17: 否 | T17: 要監視 | Z17: 監視
C18: S7 | E18: 2 | F18: 43.3 | G18: 路面 | H18: 側溝 | I18: 漏水 | J18: その他 | M18: 0.40m×3.30m | N18: 拡大 | O18: Ⅱb | P18: Ⅱ | R18: Ⅱb | S18: 否 | T18: 要監視 | Z18: 監視
C19: S8 | E19: 1 | F19: 44.1 | G19: 覆工・坑門 | H19: アーチ（左側） | I19: 外力 | J19: ひび割れ | M19: 幅0.3mm×長さ3.9m | N19: 進行が認められない | O19: Ⅰ | P19: Ⅰ | R19: Ⅱb | S19: 否 | T19: 要監視 | Z19: 監視
C20: S8 | E20: 2 | F20: 49 | G20: 覆工・坑門 | H20: アーチ（右側） | I20: 外力 | J20: ひび割れ | M20: 幅0.5mm×長さ0.7m | N20: 新たに発生 | O20: － | P20: － | R20: Ⅱb | S20: 否 | T20: 要監視 | Z20: 監視
... C39: S16 | E39: 1 | F39: 71.1 | G39: 覆工・坑門 | H39: アーチ（右側） | I39: 漏水 | J39: 漏水 | M39: 1.80m×0.20m | N39: 滴水→にじみ | O39: Ⅱa | P39: Ⅱ | R39: Ⅱb | S39: 否 | T39: 要監視 | Z39: 監視
B40: ■定期点検記録様式 全スパン定期点検結果総括表（トンネル本体工） 【様式C-1-1】
B41: フリガナ | F41: トノミトンネル | I41: 路線名 | K41: 主要道路防府環状線 | O41: 定期点検業者 | Q41: セントラルコンサルタント株式会社 | U41: 定期点検年月日 | Y41: 44337
B42: 名 称 | F42: 富海トンネル | I42: 管理者名 | K42: 山口県防府土木建築事務所 | O42: 定期点検者名 | Q42: 鹿子嶋 康博
B43: 定期点検結果 | C43: 覆工 スパン 番号 | E43: 変状 番号 | F43: 距離 （m） | G43: 変状部位 | I43: 変 状 の 内 容 | O43: 前回定期点検時の状態 | Q43: 今回定期点検結果 | U43: 措置履歴 | Z43: 対応方針 ・ 特記事項
G45: 対象箇所 | H45: 部位区分 | I45: 変状区分 | J45: 変状種類 | M45: 変状の発生範囲の規模 | N45: 前回定期点検時 との比較 | O45: 状態 | P45: 健全性 | Q45: 対策区分 | S45: 調査の 要否 | T45: 措置の 要否 | U45: 実施 | V45: 措置の実施状況
Q46: 応急措置前 | R46: 応急措置後
C47: S16 | E47: 2 | F47: 71.4 | G47: 覆工・坑門 | H47: アーチ（右側） | I47: 材質劣化 | J47: 補強・補修材の破損 | M47: 3.20m×0.30m | N47: 新たに発生 | O47: － | P47: － | R47: Ⅲ | S47: 否 | T47: 要対策 | Z47: はく落防止対策工
C48: S16 | E48: 3 | F48: 72 | G48: 覆工・坑門 | H48: アーチ（右側） | I48: 材質劣化 | J48: 補強・補修材の破損 | M48: 7.20m×0.40m | N48: 新たに発生 | O48: － | P48: － | R48: Ⅲ | S48: 否 | T48: 要対策 | Z48: はく落防止対策工
C49: S16 | E49: 4 | F49: 75.9 | G49: 覆工・坑門 | H49: 横断目地（右側） | I49: 材質劣化 | J49: 補強・補修材の破損 | M49: 7.30m×0.40m | N49: 新たに発生 | O49: － | P49: － | R49: Ⅲ | S49: 否 | T49: 要対策 | Z49: はく落防止対策工
C50: S16 | E50: 5 | F50: 75.2 | G50: 路面 | H50: 側溝 | I50: 漏水 | J50: その他 | M50: 0.50m×6.00m | N50: 進行が認められない | O50: Ⅱb | P50: Ⅱ | R50: Ⅱb | S50: 否 | T50: 要監視 | Z50: 監視
C51: S17 | E51: 1 | F51: 76.4 | G51: 覆工・坑門 | H51: 横断目地（右側） | I51: 漏水 | J51: 漏水 | M51: 3.20m×0.50m | N51: 新たに発生 | O51: － | P51: － | R51: Ⅱa | S51: 否 | T51: 要対策 | Z51: 漏水防止対策工
C52: S18 | E52: 1 | F52: 83.9 | G52: 覆工・坑門 | H52: 横断目地（左側） | I52: 材質劣化 | J52: 補強・補修材の破損 | M52: 7.20m×0.40m | N52: 新たに発生 | O52: － | P52: － | R52: Ⅲ | S52: 否 | T52: 要対策 | Z52: はく落防止対策工
C53: S18 | E53: 2 | F53: 81.6 | G53: 路面 | H53: 側溝 | I53: 漏水 | J53: その他 | M53: 0.70m×8.50m | N53: 新たに発生 | O53: － | P53: － | R53: Ⅱb | S53: 否 | T53: 要監視 | Z53: 監視
C54: S19 | E54: 1 | F54: 86.3 | G54: 路面 | H54: 側溝 | I54: 漏水 | J54: その他 | M54: 0.50m×4.60m | N54: 新たに発生 | O54: － | P54: － | R54: Ⅱb | S54: 否 | T54: 要監視 | Z54: 監視
C55: S19 | E55: 2 | F55: 87.6 | G55: 路面 | H55: 側溝 | I55: 漏水 | J55: その他 | M55: 0.40m×7.60m | N55: 進行が認められない | O55: Ⅱb | P55: Ⅱ | R55: Ⅱb | S55: 否 | T55: 要監視 | Z55: 監視
C56: S20 | E56: 1 | F56: 89.4 | G56: 覆工・坑門 | H56: 側壁（左側） | I56: 漏水 | J56: 漏水 | M56: 0.90m×1.60m | N56: 進行が認められない | O56: Ⅱb | P56: Ⅱ | R56: Ⅱb | S56: 否 | T56: 要監視 | Z56: 監視
C57: S21 | E57: 1 | F57: 96.6 | G57: 覆工・坑門 | H57: アーチ（天端） | I57: 材質劣化 | J57: 鋼材腐食 | M57: 0.10m×0.20m | N57: 新たに発生 | O57: － | P57: － | R57: Ⅱb | S57: 否 | T57: 要監視 | Z57: 監視
C58: S22 | E58: 1 | F58: 101.7 | G58: 覆工・坑門 | H58: アーチ（左側） | I58: 材質劣化 | J58: うき・はく離 | M58: 0.40m×0.70m | N58: 進行 | O58: Ⅰ | P58: Ⅰ | R58: Ⅰ | S58: 否 | T58: 否
C59: S22 | E59: 2 | F59: 104 | G59: 覆工・坑門 | H59: 横断目地（左側） | I59: 材質劣化 | J59: 補強・補修材の破損 | M59: 7.00m×0.40m | N59: 新たに発生 | O59: － | P59: － | R59: Ⅲ | S59: 否 | T59: 要対策 | Z59: はく落防止対策工
C60: S22 | E60: 3 | F60: 104 | G60: 覆工・坑門 | H60: 横断目地（右側） | I60: 材質劣化 | J60: 補強・補修材の破損 | M60: 7.30m×0.40m | N60: 新たに発生 | O60: － | P60: － | R60: Ⅲ | S60: 否 | T60: 要対策 | Z60: はく落防止対策工
C61: S22 | E61: 4 | F61: 104 | G61: 路面 | H61: 側溝 | I61: 漏水 | J61: その他 | M61: 0.40m×4.60m | N61: 拡大 | O61: Ⅱb | P61: Ⅱ | R61: Ⅱb | S61: 否 | T61: 要監視 | Z61: 監視
C62: S24 | E62: 1 | F62: 113.2 | G62: 覆工・坑門 | H62: アーチ（左側） | I62: 材質劣化 | J62: 補強・補修材の破損 | M62: 7.20m×0.40m | N62: 新たに発生 | O62: － | P62: － | R62: Ⅲ | S62: 否 | T62: 要対策 | Z62: はく落防止対策工
C63: S24 | E63: 2 | F63: 114.3 | G63: 覆工・坑門 | H63: アーチ（左側） | I63: 漏水 | J63: 漏水 | M63: 1.70m×0.50m | N63: 新たに発生 | O63: － | P63: － | R63: Ⅱb | S63: 否 | T63: 要監視 | Z63: 監視
C64: S24 | E64: 3 | F64: 116 | G64: 覆工・坑門 | H64: 横断目地（左側） | I64: 材質劣化 | J64: 補強・補修材の破損 | M64: 6.10m×0.40m | N64: 新たに発生 | O64: － | P64: － | R64: Ⅲ | S64: 否 | T64: 要対策 | Z64: はく落防止対策工
C65: S24 | E65: 4 | F65: 111.9 | G65: 覆工・坑門 | H65: アーチ（天端） | I65: 漏水 | J65: 漏水 | M65: 6.10m×0.50m | N65: 新たに発生 | O65: － | P65: － | R65: Ⅱa | S65: 否 | T65: 要対策 | Z65: 漏水防止対策工
C66: S24 | E66: 5 | F66: 115.3 | G66: 路面 | H66: 側溝 | I66: 漏水 | J66: その他 | M66: 0.50m×3.60m | N66: 進行が認められない | O66: Ⅱb | P66: Ⅱ | R66: Ⅱb | S66: 否 | T66: 要監視 | Z66: 監視
C67: S25 | E67: 1 | F67: 121.5 | G67: 覆工・坑門 | H67: 横断目地（右側） | I67: 材質劣化 | J67: 補強・補修材の破損 | M67: 7.20m×0.40m | N67: 新たに発生 | O67: － | P67: － | R67: Ⅲ | S67: 否 | T67: 要対策 | Z67: はく落防止対策工
C68: S25 | E68: 2 | F68: 120.7 | G68: 覆工・坑門 | H68: アーチ（右側） | I68: 漏水 | J68: 漏水 | M68: 3.00m×0.50m | N68: 滴水→にじみ | O68: Ⅱa | P68: Ⅱ | R68: Ⅱb | S68: 否 | T68: 要監視 | Z68: 監視
C69: S25 | E69: 3 | F69: 119.3 | G69: 覆工・坑門 | H69: 側壁（右側） | I69: 材質劣化 | J69: うき・はく離 | M69: 0.30m×0.40m | N69: 進行 | O69: － | P69: － | R69: Ⅱa | S69: 否 | T69: 要対策 | Z69: はく落防止対策工
C70: S25 | E70: 4 | F70: 119.3 | G70: 覆工・坑門 | H70: アーチ（右側） | I70: 漏水 | J70: 漏水 | M70: 2.30m×0.50m | N70: 進行が認められない | O70: － | P70: － | R70: Ⅱa | S70: 否 | T70: 要対策 | Z70: 漏水防止対策工
... C77: S30 | E77: 1 | F77: 140.5 | G77: 覆工・坑門 | H77: アーチ（左側） | I77: 外力 | J77: ひび割れ | M77: 幅0.3mm×長さ3.6m | N77: 新たに発生 | O77: － | P77: － | R77: Ⅱb | S77: 否 | T77: 要監視 | Z77: 監視
B78: ■定期点検記録様式 全スパン定期点検結果総括表（トンネル本体工） 【様式C-1-1】
B79: フリガナ | F79: トノミトンネル | I79: 路線名 | K79: 主要道路防府環状線 | O79: 定期点検業者 | Q79: セントラルコンサルタント株式会社 | U79: 定期点検年月日 | Y79: 44337
B80: 名 称 | F80: 富海トンネル | I80: 管理者名 | K80: 山口県防府土木建築事務所 | O80: 定期点検者名 | Q80: 鹿子嶋 康博
B81: 定期点検結果 | C81: 覆工 スパン 番号 | E81: 変状 番号 | F81: 距離 （m） | G81: 変状部位 | I81: 変 状 の 内 容 | O81: 前回定期点検時の状態 | Q81: 今回定期点検結果 | U81: 措置履歴 | Z81: 対応方針 ・ 特記事項
G83: 対象箇所 | H83: 部位区分 | I83: 変状区分 | J83: 変状種類 | M83: 変状の発生範囲の規模 | N83: 前回定期点検時 との比較 | O83: 状態 | P83: 健全性 | Q83: 対策区分 | S83: 調査の 要否 | T83: 措置の 要否 | U83: 実施 | V83: 措置の実施状況
Q84: 応急措置前 | R84: 応急措置後
C85: S31 | E85: 1 | F85: 145.9 | G85: 覆工・坑門 | H85: アーチ（左側） | I85: 外力 | J85: ひび割れ | M85: 幅0.5mm×長さ5.1m | N85: 進行が認められない | O85: － | P85: － | R85: Ⅱb | S85: 否 | T85: 要監視 | Z85: 監視
C86: S32 | E86: 1 | F86: 149.6 | G86: 覆工・坑門 | H86: アーチ（左側） | I86: 外力 | J86: ひび割れ | M86: 幅1.0mm×長さ43.9m | N86: 進行が認められない | O86: － | P86: － | R86: Ⅱb | S86: 否 | T86: 要監視 | Z86: 監視
C87: S33 | E87: 1 | F87: 154.3 | G87: 覆工・坑門 | H87: アーチ（左側） | I87: 外力 | J87: ひび割れ | M87: 幅0.5mm×長さ2.3m | N87: 進行が認められない | O87: － | P87: － | R87: Ⅱb | S87: 否 | T87: 要監視 | Z87: 監視
C88: S33 | E88: 2 | F88: 154.3 | G88: 覆工・坑門 | H88: アーチ（天端） | I88: 漏水 | J88: 漏水 | M88: 7.20m×0.50m | N88: 進行が認められない | O88: Ⅱa | P88: Ⅱ | R88: Ⅱa | S88: 否 | T88: 要対策 | Z88: 漏水防止対策工
C89: S33 | E89: 3 | F89: 153.9 | G89: 覆工・坑門 | H89: アーチ（右側） | I89: 外力 | J89: ひび割れ | M89: 幅0.3mm未満 | N89: 進行が認められない | O89: － | P89: － | R89: Ⅱb | S89: 否 | T89: 要監視 | Z89: 監視
C90: S33 | E90: 4 | F90: 154.8 | G90: 路面 | H90: 車道 | I90: 漏水 | J90: 漏水 | M90: 0.40m×1.50m | N90: 進行が認められない | O90: Ⅱb | P90: Ⅱ | R90: Ⅱb | S90: 否 | T90: 要監視 | Z90: 監視
C91: S34 | E91: 1 | F91: 157.7 | G91: 覆工・坑門 | H91: アーチ（左側） | I91: 外力 | J91: ひび割れ | M91: 幅1.0mm×長さ3.9m | N91: 進行が認められない | O91: － | P91: － | R91: Ⅱb | S91: 否 | T91: 要監視 | Z91: 監視
C92: S34 | E92: 2 | F92: 158.2 | G92: 覆工・坑門 | H92: アーチ（右側） | I92: 外力 | J92: ひび割れ | M92: 幅0.4mm×長さ3.7m | N92: 進行が認められない | O92: － | P92: － | R92: Ⅱb | S92: 否 | T92: 要監視 | Z92: 監視
C93: S34 | E93: 3 | F93: 158 | G93: 路面 | H93: 側溝 | I93: 漏水 | J93: その他 | M93: 0.50m×4.50m | N93: 進行が認められない | O93: Ⅱb | P93: Ⅱ | R93: Ⅱb | S93: 否 | T93: 要監視 | Z93: 監視
C94: S34 | E94: 4 | F94: 159.9 | G94: 路面 | H94: 側溝 | I94: 漏水 | J94: 漏水 | M94: 0.40m×5.30m | N94: 進行が認められない | O94: － | P94: － | R94: Ⅱb | S94: 否 | T94: 要監視 | Z94: 監視
C95: S35 | E95: 1 | F95: 161.9 | G95: 覆工・坑門 | H95: アーチ（左側） | I95: 外力 | J95: ひび割れ | M95: 幅0.3mm未満 | N95: 進行が認められない | O95: － | P95: － | R95: Ⅱb | S95: 否 | T95: 要監視 | Z95: 監視
C96: S35 | E96: 2 | F96: 162.6 | G96: 覆工・坑門 | H96: アーチ（天端） | I96: 材質劣化 | J96: うき・はく離 | M96: 0.10m×0.10m | N96: 新たに発生 | O96: － | P96: － | R96: Ⅱa | S96: 否 | T96: 要対策 | Z96: はく落防止対策工
... C115: S42 | E115: 1 | F115: 188.7 | G115: 覆工・坑門 | H115: アーチ（左側） | I115: 材質劣化 | J115: うき・はく離 | M115: 0.10m×0.90m | N115: 進行 | O115: － | P115: － | R115: Ⅱb | S115: 否 | T115: 要監視 | Z115: 監視
B116: ■定期点検記録様式 全スパン定期点検結果総括表（トンネル本体工） 【様式C-1-1】
B117: フリガナ | F117: トノミトンネル | I117: 路線名 | K117: 主要道路防府環状線 | O117: 定期点検業者 | Q117: セントラルコンサルタント株式会社 | U117: 定期点検年月日 | Y117: 44337
B118: 名 称 | F118: 富海トンネル | I118: 管理者名 | K118: 山口県防府土木建築事務所 | O118: 定期点検者名 | Q118: 鹿子嶋 康博
B119: 定期点検結果 | C119: 覆工 スパン 番号 | E119: 変状 番号 | F119: 距離 （m） | G119: 変状部位 | I119: 変 状 の 内 容 | O119: 前回定期点検時の状態 | Q119: 今回定期点検結果 | U119: 措置履歴 | Z119: 対応方針 ・ 特記事項
G121: 対象箇所 | H121: 部位区分 | I121: 変状区分 | J121: 変状種類 | M121: 変状の発生範囲の規模 | N121: 前回定期点検時 との比較 | O121: 状態 | P121: 健全性 | Q121: 対策区分 | S121: 調査の 要否 | T121: 措置の 要否 | U121: 実施 | V121: 措置の実施状況
Q122: 応急措置前 | R122: 応急措置後
C123: S42 | E123: 2 | F123: 190 | G123: 覆工・坑門 | H123: 横断目地（右側） | I123: 漏水 | J123: 漏水 | M123: 3.50m×0.50m | N123: 進行が認められない | O123: Ⅱb | P123: Ⅱ | R123: Ⅱb | S123: 否 | T123: 要監視 | Z123: 監視
C124: S43 | E124: 1 | F124: 192.9 | G124: 覆工・坑門 | H124: 横断目地（天端） | I124: 漏水 | J124: 漏水 | M124: 7.70m×0.50m | N124: 新たに発生 | O124: － | P124: － | R124: Ⅱb | S124: 否 | T124: 要監視 | Z124: 監視
C125: S44 | E125: 1 | F125: 193.9 | G125: 覆工・坑門 | H125: アーチ（天端） | I125: 漏水 | J125: 漏水 | M125: 18.00m×0.50m | N125: 新たに発生 | O125: － | P125: － | R125: Ⅱa | S125: 否 | T125: 要対策 | Z125: 漏水防止対策工
C154: ※ 対策区分（応急措置後）の判定区分Ⅱ～Ⅳについて記入すること。また、点検前に実施された措置によりⅠと判定された変状も記入すること。
C155: ※ 応急措置を実施しないで判定した変状の対策区分は、対策区分の応急措置後の欄に記入すること。
C156: ※ 変状の除去が不完全で、緊急対応が必要な場合は対応方針欄に記入すること。
C157: ※ １区間の覆工に複数の変状がある場合は、変状箇所毎に記入すること。
C158: ※ 措置・監視点検を行った場合には、措置履歴、特記事項に記録を残すこと。（実施年度も記載）
C159: ※ 行が不足する場合は、適時、表の行を増やすこと。

Sheet 様式C-1-2
B2: ■定期点検記録様式 定期点検結果総括表（トンネル内附属物等の取付状態） 【様式C-1-2】
B3: フリガナ | F3: トノミトンネル | J3: 路線名 | L3: 主要道路防府環状線 | O3: 定期点検業者 | Q3: セントラルコンサルタント株式会社 | U3: 定期点検年月日 | Y3: 44337
B4: 名 称 | F4: 富海トンネル | J4: 管理者名 | L4: 山口県防府土木建築事務所 | O4: 定期点検者名 | Q4: 鹿子嶋 康博
B5: 定期点検結果 | C5: 覆工 スパン 番号 | E5: 異常 番号 | F5: 距離 （m） | G5: 異常部位 | J5: 異 常 の 内 容 | P5: 定期点検結果 | X5: 対応方針 ・ 特記事項
G6: 対象箇所 | I6: 部位区分 | J6: 異常種類 | N6: 異常の発生範囲の規模 | P6: 異常判定区分 | R6: 実施 | S6: 応急措置の内容
P7: 応急措置前 | Q7: 応急措置後
C8: PS | E8: 1 | F8: 5.4 | G8: その他施設 | H8: その他 | I8: 附属物本体 | J8: 変形，欠損 | N8: 1箇所 | Q8: ×
C9: S11 | E9: 1 | F9: 55 | G9: その他施設 | H9: 内装板取付部材 | I9: 取付部材 | J9: 前回異常個所（金具(本体含む)破損） | N9: 2箇所 | Q9: ○
C10: S12 | E10: 1 | F10: 59.1 | G10: その他施設 | H10: 内装板取付部材 | I10: 取付部材 | J10: 前回異常個所(内装板金具(本体含む)破損) | N10: 2箇所 | Q10: ○
C11: S13 | E11: 1 | F11: 63 | G11: その他施設 | H11: 内装板取付部材 | I11: 取付部材 | J11: 前回異常個所(内装板金具破損) | N11: 1箇所 | Q11: ○
C12: S13 | E12: 2 | F12: 62 | G12: 照明施設 | H12: ケーブル類 | I12: 取付部材 | J12: 緩み，脱落 | N12: 1箇所 | P12: × | Q12: × | R12: 済 | S12: 結束(バンド) | X12: 交換
C13: S13 | E13: 3 | F13: 62.5 | G13: その他施設 | H13: 内装板取付部材 | I13: 取付部材 | J13: 前回異常個所(内装板金具破損) | N13: 1箇所 | Q13: ○
C14: S23 | E14: 1 | F14: 106 | G14: その他施設 | H14: 内装板取付部材 | I14: 取付部材 | J14: 前回異常個所(内装板金具破損) | N14: 1箇所 | Q14: ○
C15: S23 | E15: 2 | F15: 108.2 | G15: その他施設 | H15: 内装板取付部材 | I15: 取付部材 | J15: 前回異常個所(内装板金具(本体含む)破損) | N15: 1箇所 | Q15: ○
C16: S31 | E16: 1 | F16: 145.7 | G16: その他施設 | H16: 内装板取付部材 | I16: 取付部材 | J16: 前回異常個所(内装板金具(本体含む)破損) | N16: 2箇所 | Q16: ○
C17: S32 | E17: 1 | F17: 150 | G17: その他施設 | H17: 内装板取付部材 | I17: 取付部材 | J17: 前回異常個所(内装板金具破損) | N17: 1箇所 | Q17: ○
C18: S40 | E18: 1 | F18: 182.1 | G18: その他施設 | H18: 内装板取付部材 | I18: 取付部材 | J18: 前回異常個所(内装板金具(本体含む)破損) | N18: 1箇所 | Q18: ○
C39: ※ 異常判定区分×について記入すること。また、応急措置により○と判定された箇所も記入すること。
C40: ※ 応急措置を実施しないで判定した箇所の異常判定区分は、異常判定区分の応急措置後の欄に記入すること。
C41: ※ 異常の除去が不完全で、緊急対応が必要な場合は対応方針欄に記入すること。
C42: ※ １スパンの覆工に複数の異常がある場合は、異常箇所毎に記入すること。
C43: ※ 行が不足する場合は、適時、表の行を増やすこと。

Sheet 様式C-2
B2: ■定期点検記録様式 状態の把握の内容 【様式C-2】
B3: フリガナ | E3: トノミトンネル | H3: 路線名 | J3: 主要道路防府環状線 | M3: 定期点検業者 | R3: セントラルコンサルタント株式会社 | U3: 定期点検年月日 | X3: 44337
B4: 名 称 | E4: 富海トンネル | H4: 管理者名 | J4: 山口県防府土木建築事務所 | M4: 定期点検者名 | R4: 鹿子嶋 康博
B5: 状態の把握の内容 | C5: 覆工スパン 番号 | E5: 変状 番号 | F5: 状態の把握の内容
F6: 年月日 | H6: 内容 | O6: 結果 | W6: 対策区分の 判定 | Y6: 健全性
B22: 注）状態の把握において、微破壊・非破壊検査や各種試験等を実施した場合について記載する。
B23: ※ 行が不足する場合は、適時、表の行を増やすこと。

Sheet 様式D-1-1(トンネル様式2P001)
B2: ■定期点検記録様式 変状写真台帳 | Y2: Ⅰ
B3: フリガナ | D3: トノミトンネル | H3: 路線名 | J3: 主要道路防府環状線 | M3: 定期点検業者 | P3: セントラルコンサルタント株式会社 | S3: 定期点検年月日 | U3: 44337 | Y3: Ⅱ
B4: 名 称 | D4: 富海トンネル | H4: 管理者名 | J4: 山口県防府土木建築事務所 | M4: 定期点検者名 | P4: 鹿子嶋 康博 | Y4: Ⅲ
B5: 写真 番号 | C5: 覆工 スパン 番号 | D5: S2 | M5: 写真 番号 | N5: 覆工 スパン 番号 | O5: S2 | Y5: Ⅳ
C7: 変状 番号 | D7: 1 | N7: 変状 番号 | O7: 2
B9: 変状 部位 | C9: 対象 箇所 | D9: 覆工・坑門 | M9: 変状 部位 | N9: 対象 箇所 | O9: 覆工・坑門
C11: 部位 区分 | D11: 横断目地（左側） | N11: 部位 区分 | O11: 横断目地（右側）
B13: 変状区分 | D13: 材質劣化 | M13: 変状区分 | O13: 材質劣化
B14: 変状種類 | D14: 補強・補修材の破損 | M14: 変状種類 | O14: 補強・補修材の破損
B15: 健全性 | C15: 応急措置前 | M15: 健全性 | N15: 応急措置前
C16: 応急措置後 | E16: Ⅲ | N16: 応急措置後 | P16: Ⅲ
B17: 変状の発生範囲の規模 | E17: 5.60m×0.40m | M17: 変状の発生範囲の規模 | P17: 7.40m×0.40m
B18: 前回定期点検時の状態 | E18: - | M18: 前回定期点検時の状態 | P18: -
B19: 調査方針 | M19: 調査方針
B20: 対策履歴 | H20: 実施状況（実施日） | M20: 対策履歴 | S20: 実施状況（実施日）
B21: メモ | D21: 樋工アンカー腐食(全数) | M21: メモ | O21: 樋工アンカー腐食(全数)
B22: 写真 番号 | C22: 覆工 スパン 番号 | D22: S3 | M22: 写真 番号 | N22: 覆工 スパン 番号 | O22: S3
C24: 変状 番号 | D24: 1 | N24: 変状 番号 | O24: 2
B26: 変状 部位 | C26: 対象 箇所 | D26: 覆工・坑門 | M26: 変状 部位 | N26: 対象 箇所 | O26: 覆工・坑門
C28: 部位 区分 | D28: アーチ（左側） | N28: 部位 区分 | O28: アーチ（天端）
B30: 変状区分 | D30: 材質劣化 | M30: 変状区分 | O30: 材質劣化
B31: 変状種類 | D31: 補強・補修材の破損 | M31: 変状種類 | O31: 鋼材腐食
B32: 健全性 | C32: 応急措置前 | M32: 健全性 | N32: 応急措置前
C33: 応急措置後 | E33: Ⅲ | N33: 応急措置後 | P33: Ⅱb
B34: 変状の発生範囲の規模 | E34: 6.20m×0.30m | M34: 変状の発生範囲の規模 | P34: 0.05m×0.20m
B35: 前回定期点検時の状態 | E35: - | M35: 前回定期点検時の状態 | P35: -
B36: 調査方針 | M36: 調査方針
B37: 対策履歴 | H37: 実施状況（実施日） | M37: 対策履歴 | S37: 実施状況（実施日）
B38: メモ | D38: 樋工アンカー腐食(全数) | M38: メモ | O38: 鋼材露出
C39: ※ 健全性（応急措置後）の判定区分Ⅱ～Ⅳについて添付すること。また、点検前に 実施された措置によりⅠと判定された箇所も添付すること。 | N39: ※ 変状の発生範囲の規模とは、対策を行う際に参考となる変状の長さや面積をいう。
N40: ※ 応急措置を実施しないで判定した変状の健全性は、健全性の応急措置後の欄に記入すること。
C41: ※ たたき落としを実施した場合は、実施後の写真を添付すること。 | N41: ※ 変状の発生範囲の規模は、面積・寸法を記載すること。
C42: ※ 附属物の取付状態に関する異常写真は別途、様式D-1-2でとりまとめること。 | N42: (ひび割れ幅のみmmとし、その他をm表記とする)
C43: ※ 変状数に準じてシートを追加すること。（１シートに１ページとすること。） | N43: ※ 構造用鋼材以外の異物に伴ううき・はく離については、メモ欄に異物の概要を記入すること。

Sheet 様式D-1-1(トンネル様式2P002)
B2: ■定期点検記録様式 変状写真台帳 | Y2: Ⅰ
B3: フリガナ | D3: トノミトンネル | H3: 路線名 | J3: 主要道路防府環状線 | M3: 定期点検業者 | P3: セントラルコンサルタント株式会社 | S3: 定期点検年月日 | U3: 44337 | Y3: Ⅱ
B4: 名 称 | D4: 富海トンネル | H4: 管理者名 | J4: 山口県防府土木建築事務所 | M4: 定期点検者名 | P4: 鹿子嶋 康博 | Y4: Ⅲ
B5: 写真 番号 | C5: 覆工 スパン 番号 | D5: S4 | M5: 写真 番号 | N5: 覆工 スパン 番号 | O5: S4 | Y5: Ⅳ
C7: 変状 番号 | D7: 1 | N7: 変状 番号 | O7: 2
B9: 変状 部位 | C9: 対象 箇所 | D9: 覆工・坑門 | M9: 変状 部位 | N9: 対象 箇所 | O9: 覆工・坑門
C11: 部位 区分 | D11: 水平打ち継ぎ目（左側） | N11: 部位 区分 | O11: アーチ（左側）
B13: 変状区分 | D13: 漏水 | M13: 変状区分 | O13: 材質劣化
B14: 変状種類 | D14: 漏水 | M14: 変状種類 | O14: うき・はく離
B15: 健全性 | C15: 応急措置前 | M15: 健全性 | N15: 応急措置前
C16: 応急措置後 | E16: Ⅱb | N16: 応急措置後 | P16: Ⅱa
B17: 変状の発生範囲の規模 | E17: 1.40m×5.40m | M17: 変状の発生範囲の規模 | P17: 0.10m×0.10m
B18: 前回定期点検時の状態 | E18: にじみ | M18: 前回定期点検時の状態 | P18: -
B19: 調査方針 | M19: 調査方針
B20: 対策履歴 | H20: 実施状況（実施日） | M20: 対策履歴 | S20: 実施状況（実施日）
B21: メモ | D21: にじみ | M21: メモ | O21: 補修跡うき(鋼材露出)
B22: 写真 番号 | C22: 覆工 スパン 番号 | D22: S4 | M22: 写真 番号 | N22: 覆工 スパン 番号 | O22: S6
C24: 変状 番号 | D24: 3 | N24: 変状 番号 | O24: 1
B26: 変状 部位 | C26: 対象 箇所 | D26: 覆工・坑門 | M26: 変状 部位 | N26: 対象 箇所 | O26: 覆工・坑門
C28: 部位 区分 | D28: アーチ（右側） | N28: 部位 区分 | O28: 横断目地（右側）
B30: 変状区分 | D30: 漏水 | M30: 変状区分 | O30: 漏水
B31: 変状種類 | D31: 漏水 | M31: 変状種類 | O31: 補強・補修材の破損
B32: 健全性 | C32: 応急措置前 | M32: 健全性 | N32: 応急措置前
C33: 応急措置後 | E33: Ⅱb | N33: 応急措置後 | P33: Ⅱa
B34: 変状の発生範囲の規模 | E34: 4.00m×0.60m | M34: 変状の発生範囲の規模 | P34: 0.10m×0.15m
B35: 前回定期点検時の状態 | E35: - | M35: 前回定期点検時の状態 | P35: 破損 150mm×350mm
B36: 調査方針 | M36: 調査方針
B37: 対策履歴 | H37: 実施状況（実施日） | M37: 対策履歴 | S37: 実施状況（実施日）
B38: メモ | D38: 線導水からのにじみ | M38: メモ | O38: 線導水破損(破損箇所からのにじみ)
C39: ※ 健全性（応急措置後）の判定区分Ⅱ～Ⅳについて添付すること。また、点検前に 実施された措置によりⅠと判定された箇所も添付すること。 | N39: ※ 変状の発生範囲の規模とは、対策を行う際に参考となる変状の長さや面積をいう。
N40: ※ 応急措置を実施しないで判定した変状の健全性は、健全性の応急措置後の欄に記入すること。
C41: ※ たたき落としを実施した場合は、実施後の写真を添付すること。 | N41: ※ 変状の発生範囲の規模は、面積・寸法を記載すること。
C42: ※ 附属物の取付状態に関する異常写真は別途、様式D-1-2でとりまとめること。 | N42: (ひび割れ幅のみmmとし、その他をm表記とする)
C43: ※ 変状数に準じてシートを追加すること。（１シートに１ページとすること。） | N43: ※ 構造用鋼材以外の異物に伴ううき・はく離については、メモ欄に異物の概要を記入すること。

Sheet 様式D-1-1(トンネル様式2P003)
B2: ■定期点検記録様式 変状写真台帳 | Y2: Ⅰ
B3: フリガナ | D3: トノミトンネル | H3: 路線名 | J3: 主要道路防府環状線 | M3: 定期点検業者 | P3: セントラルコンサルタント株式会社 | S3: 定期点検年月日 | U3: 44337 | Y3: Ⅱ
B4: 名 称 | D4: 富海トンネル | H4: 管理者名 | J4: 山口県防府土木建築事務所 | M4: 定期点検者名 | P4: 鹿子嶋 康博 | Y4: Ⅲ
B5: 写真 番号 | C5: 覆工 スパン 番号 | D5: S7 | M5: 写真 番号 | N5: 覆工 スパン 番号 | O5: S7 | Y5: Ⅳ
C7: 変状 番号 | D7: 1 | N7: 変状 番号 | O7: 2
B9: 変状 部位 | C9: 対象 箇所 | D9: 覆工・坑門 | M9: 変状 部位 | N9: 対象 箇所 | O9: 路面
C11: 部位 区分 | D11: アーチ（左側） | N11: 部位 区分 | O11: 側溝
B13: 変状区分 | D13: 外力 | M13: 変状区分 | O13: 漏水
B14: 変状種類 | D14: ひび割れ | M14: 変状種類 | O14: その他
B15: 健全性 | C15: 応急措置前 | M15: 健全性 | N15: 応急措置前
C16: 応急措置後 | E16: Ⅱb | N16: 応急措置後 | P16: Ⅱb
B17: 変状の発生範囲の規模 | E17: 幅0.5mm×長さ3.3m | M17: 変状の発生範囲の規模 | P17: 0.40m×3.30m(t=20mm)
B18: 前回定期点検時の状態 | E18: ひび割れ 幅0.3mm以上 | M18: 前回定期点検時の状態 | P18: 沈砂 20mm
B19: 調査方針 | M19: 調査方針
B20: 対策履歴 | H20: 実施状況（実施日） | M20: 対策履歴 | S20: 実施状況（実施日）
B21: メモ | D21: 縦断方向のひび割れ(遊離石灰) | M21: メモ | O21: 土砂堆積
B22: 写真 番号 | C22: 覆工 スパン 番号 | D22: S8 | M22: 写真 番号 | N22: 覆工 スパン 番号 | O22: S8
C24: 変状 番号 | D24: 1 | N24: 変状 番号 | O24: 2
B26: 変状 部位 | C26: 対象 箇所 | D26: 覆工・坑門 | M26: 変状 部位 | N26: 対象 箇所 | O26: 覆工・坑門
C28: 部位 区分 | D28: アーチ（左側） | N28: 部位 区分 | O28: アーチ（右側）
B30: 変状区分 | D30: 外力 | M30: 変状区分 | O30: 外力
B31: 変状種類 | D31: ひび割れ | M31: 変状種類 | O31: ひび割れ
B32: 健全性 | C32: 応急措置前 | M32: 健全性 | N32: 応急措置前
C33: 応急措置後 | E33: Ⅱb | N33: 応急措置後 | P33: Ⅱb
B34: 変状の発生範囲の規模 | E34: 幅0.3mm×長さ3.9m | M34: 変状の発生範囲の規模 | P34: 幅0.5mm×長さ0.7m
B35: 前回定期点検時の状態 | E35: ひび割れ 幅0.3mm以上 | M35: 前回定期点検時の状態 | P35: ひび割れ 幅1.5mm
B36: 調査方針 | M36: 調査方針
B37: 対策履歴 | H37: 実施状況（実施日） | M37: 対策履歴 | S37: 実施状況（実施日）
B38: メモ | D38: 縦断方向のひび割れ(遊離石灰) | M38: メモ | O38: 縦断方向のひび割れ
C39: ※ 健全性（応急措置後）の判定区分Ⅱ～Ⅳについて添付すること。また、点検前に 実施された措置によりⅠと判定された箇所も添付すること。 | N39: ※ 変状の発生範囲の規模とは、対策を行う際に参考となる変状の長さや面積をいう。
N40: ※ 応急措置を実施しないで判定した変状の健全性は、健全性の応急措置後の欄に記入すること。
C41: ※ たたき落としを実施した場合は、実施後の写真を添付すること。 | N41: ※ 変状の発生範囲の規模は、面積・寸法を記載すること。
C42: ※ 附属物の取付状態に関する異常写真は別途、様式D-1-2でとりまとめること。 | N42: (ひび割れ幅のみmmとし、その他をm表記とする)
C43: ※ 変状数に準じてシートを追加すること。（１シートに１ページとすること。） | N43: ※ 構造用鋼材以外の異物に伴ううき・はく離については、メモ欄に異物の概要を記入すること。

Sheet 様式D-1-1(トンネル様式2P004)
B2: ■定期点検記録様式 変状写真台帳 | Y2: Ⅰ
B3: フリガナ | D3: トノミトンネル | H3: 路線名 | J3: 主要道路防府環状線 | M3: 定期点検業者 | P3: セントラルコンサルタント株式会社 | S3: 定期点検年月日 | U3: 44337 | Y3: Ⅱ
B4: 名 称 | D4: 富海トンネル | H4: 管理者名 | J4: 山口県防府土木建築事務所 | M4: 定期点検者名 | P4: 鹿子嶋 康博 | Y4: Ⅲ
B5: 写真 番号 | C5: 覆工 スパン 番号 | D5: S9 | M5: 写真 番号 | N5: 覆工 スパン 番号 | O5: S10 | Y5: Ⅳ
C7: 変状 番号 | D7: 1 | N7: 変状 番号 | O7: 1
B9: 変状 部位 | C9: 対象 箇所 | D9: 覆工・坑門 | M9: 変状 部位 | N9: 対象 箇所 | O9: 覆工・坑門
C11: 部位 区分 | D11: 横断目地（左側） | N11: 部位 区分 | O11: 横断目地（左側）
B13: 変状区分 | D13: 材質劣化 | M13: 変状区分 | O13: 材質劣化
B14: 変状種類 | D14: 補強・補修材の破損 | M14: 変状種類 | O14: 補強・補修材の破損
B15: 健全性 | C15: 応急措置前 | M15: 健全性 | N15: 応急措置前
C16: 応急措置後 | E16: Ⅲ | N16: 応急措置後 | P16: Ⅲ
B17: 変状の発生範囲の規模 | E17: 7.20m×0.40m | M17: 変状の発生範囲の規模 | P17: 7.30m×0.40m
B18: 前回定期点検時の状態 | E18: - | M18: 前回定期点検時の状態 | P18: -
B19: 調査方針 | M19: 調査方針
B20: 対策履歴 | H20: 実施状況（実施日） | M20: 対策履歴 | S20: 実施状況（実施日）
B21: メモ | D21: 樋工アンカー腐食(全数) | M21: メモ | O21: 樋工アンカー腐食(全数)
B22: 写真 番号 | C22: 覆工 スパン 番号 | D22: S10 | M22: 写真 番号 | N22: 覆工 スパン 番号 | O22: S10
C24: 変状 番号 | D24: 2 | N24: 変状 番号 | O24: 3
B26: 変状 部位 | C26: 対象 箇所 | D26: 覆工・坑門 | M26: 変状 部位 | N26: 対象 箇所 | O26: 覆工・坑門
C28: 部位 区分 | D28: アーチ（天端） | N28: 部位 区分 | O28: アーチ（天端）
B30: 変状区分 | D30: 材質劣化 | M30: 変状区分 | O30: 漏水
B31: 変状種類 | D31: うき・はく離 | M31: 変状種類 | O31: 漏水
B32: 健全性 | C32: 応急措置前 | M32: 健全性 | N32: 応急措置前
C33: 応急措置後 | E33: Ⅱa | N33: 応急措置後 | P33: Ⅱa
B34: 変状の発生範囲の規模 | E34: 0.20m×0.80m | M34: 変状の発生範囲の規模 | P34: 7.70m×0.50m
B35: 前回定期点検時の状態 | E35: - | M35: 前回定期点検時の状態 | P35: -
B36: 調査方針 | M36: 調査方針
B37: 対策履歴 | H37: 実施状況（実施日） | M37: 対策履歴 | S37: 実施状況（実施日）
B38: メモ | D38: 豆板 | M38: メモ | O38: 滴水(FRPメッシュ背面)
C39: ※ 健全性（応急措置後）の判定区分Ⅱ～Ⅳについて添付すること。また、点検前に 実施された措置によりⅠと判定された箇所も添付すること。 | N39: ※ 変状の発生範囲の規模とは、対策を行う際に参考となる変状の長さや面積をいう。
N40: ※ 応急措置を実施しないで判定した変状の健全性は、健全性の応急措置後の欄に記入すること。
C41: ※ たたき落としを実施した場合は、実施後の写真を添付すること。 | N41: ※ 変状の発生範囲の規模は、面積・寸法を記載すること。
C42: ※ 附属物の取付状態に関する異常写真は別途、様式D-1-2でとりまとめること。 | N42: (ひび割れ幅のみmmとし、その他をm表記とする)
C43: ※ 変状数に準じてシートを追加すること。（１シートに１ページとすること。） | N43: ※ 構造用鋼材以外の異物に伴ううき・はく離については、メモ欄に異物の概要を記入すること。

Sheet 様式D-1-1(トンネル様式2P005)
B2: ■定期点検記録様式 変状写真台帳 | Y2: Ⅰ
B3: フリガナ | D3: トノミトンネル | H3: 路線名 | J3: 主要道路防府環状線 | M3: 定期点検業者 | P3: セントラルコンサルタント株式会社 | S3: 定期点検年月日 | U3: 44337 | Y3: Ⅱ
B4: 名 称 | D4: 富海トンネル | H4: 管理者名 | J4: 山口県防府土木建築事務所 | M4: 定期点検者名 | P4: 鹿子嶋 康博 | Y4: Ⅲ
B5: 写真 番号 | C5: 覆工 スパン 番号 | D5: S11 | M5: 写真 番号 | N5: 覆工 スパン 番号 | O5: S11 | Y5: Ⅳ
C7: 変状 番号 | D7: 1 | N7: 変状 番号 | O7: 2
B9: 変状 部位 | C9: 対象 箇所 | D9: 覆工・坑門 | M9: 変状 部位 | N9: 対象 箇所 | O9: 覆工・坑門
C11: 部位 区分 | D11: 横断目地（左側） | N11: 部位 区分 | O11: アーチ（左側）
B13: 変状区分 | D13: 材質劣化 | M13: 変状区分 | O13: 外力
B14: 変状種類 | D14: 補強・補修材の破損 | M14: 変状種類 | O14: ひび割れ
B15: 健全性 | C15: 応急措置前 | M15: 健全性 | N15: 応急措置前
C16: 応急措置後 | E16: Ⅲ | N16: 応急措置後 | P16: Ⅱb
B17: 変状の発生範囲の規模 | E17: 7.20m×0.40m | M17: 変状の発生範囲の規模 | P17: 幅0.3mm×長さ1.0m
B18: 前回定期点検時の状態 | E18: - | M18: 前回定期点検時の状態 | P18: ひび割れ 幅0.3mm以上
B19: 調査方針 | M19: 調査方針
B20: 対策履歴 | H20: 実施状況（実施日） | M20: 対策履歴 | S20: 実施状況（実施日）
B21: メモ | D21: 樋工アンカー腐食(全数) | M21: メモ | O21: 縦断方向のひび割れ
B22: 写真 番号 | C22: 覆工 スパン 番号 | D22: S11 | M22: 写真 番号 | N22: 覆工 スパン 番号 | O22: S12
C24: 変状 番号 | D24: 3 | N24: 変状 番号 | O24: 1
B26: 変状 部位 | C26: 対象 箇所 | D26: 覆工・坑門 | M26: 変状 部位 | N26: 対象 箇所 | O26: 覆工・坑門
C28: 部位 区分 | D28: アーチ（天端） | N28: 部位 区分 | O28: 横断目地（左側）
B30: 変状区分 | D30: 材質劣化 | M30: 変状区分 | O30: 材質劣化
B31: 変状種類 | D31: うき・はく離 | M31: 変状種類 | O31: 補強・補修材の破損
B32: 健全性 | C32: 応急措置前 | M32: 健全性 | N32: 応急措置前
C33: 応急措置後 | E33: Ⅱa | N33: 応急措置後 | P33: Ⅲ
B34: 変状の発生範囲の規模 | E34: 0.40m×1.00m | M34: 変状の発生範囲の規模 | P34: 7.00m×0.40m
B35: 前回定期点検時の状態 | E35: - | M35: 前回定期点検時の状態 | P35: -
B36: 調査方針 | M36: 調査方針
B37: 対策履歴 | H37: 実施状況（実施日） | M37: 対策履歴 | S37: 実施状況（実施日）
B38: メモ | D38: 豆板 | M38: メモ | O38: 樋工アンカー腐食(全数)
C39: ※ 健全性（応急措置後）の判定区分Ⅱ～Ⅳについて添付すること。また、点検前に 実施された措置によりⅠと判定された箇所も添付すること。 | N39: ※ 変状の発生範囲の規模とは、対策を行う際に参考となる変状の長さや面積をいう。
N40: ※ 応急措置を実施しないで判定した変状の健全性は、健全性の応急措置後の欄に記入すること。
C41: ※ たたき落としを実施した場合は、実施後の写真を添付すること。 | N41: ※ 変状の発生範囲の規模は、面積・寸法を記載すること。
C42: ※ 附属物の取付状態に関する異常写真は別途、様式D-1-2でとりまとめること。 | N42: (ひび割れ幅のみmmとし、その他をm表記とする)
C43: ※ 変状数に準じてシートを追加すること。（１シートに１ページとすること。） | N43: ※ 構造用鋼材以外の異物に伴ううき・はく離については、メモ欄に異物の概要を記入すること。

Sheet 様式D-1-1(トンネル様式2P006)
B2: ■定期点検記録様式 変状写真台帳 | Y2: Ⅰ
B3: フリガナ | D3: トノミトンネル | H3: 路線名 | J3: 主要道路防府環状線 | M3: 定期点検業者 | P3: セントラルコンサルタント株式会社 | S3: 定期点検年月日 | U3: 44337 | Y3: Ⅱ
B4: 名 称 | D4: 富海トンネル | H4: 管理者名 | J4: 山口県防府土木建築事務所 | M4: 定期点検者名 | P4: 鹿子嶋 康博 | Y4: Ⅲ
B5: 写真 番号 | C5: 覆工 スパン 番号 | D5: S12 | M5: 写真 番号 | N5: 覆工 スパン 番号 | O5: S12 | Y5: Ⅳ
C7: 変状 番号 | D7: 2 | N7: 変状 番号 | O7: 3
B9: 変状 部位 | C9: 対象 箇所 | D9: 覆工・坑門 | M9: 変状 部位 | N9: 対象 箇所 | O9: 覆工・坑門
C11: 部位 区分 | D11: アーチ（左側） | N11: 部位 区分 | O11: アーチ（右側）
B13: 変状区分 | D13: 外力 | M13: 変状区分 | O13: 外力
B14: 変状種類 | D14: ひび割れ | M14: 変状種類 | O14: ひび割れ
B15: 健全性 | C15: 応急措置前 | M15: 健全性 | N15: 応急措置前
C16: 応急措置後 | E16: Ⅱb | N16: 応急措置後 | P16: Ⅱb
B17: 変状の発生範囲の規模 | E17: 幅0.8mm×長さ3.6m | M17: 変状の発生範囲の規模 | P17: 幅0.3mm未満
B18: 前回定期点検時の状態 | E18: ひび割れ 幅0.8mm | M18: 前回定期点検時の状態 | P18: ひび割れ 幅0.3mm以上
B19: 調査方針 | M19: 調査方針
B20: 対策履歴 | H20: 実施状況（実施日） | M20: 対策履歴 | S20: 実施状況（実施日）
B21: メモ | D21: 縦断方向のひび割れ(にじみを伴う) | M21: メモ | O21: 縦断方向のひび割れ(にじみを伴う)
B22: 写真 番号 | C22: 覆工 スパン 番号 | D22: S13 | M22: 写真 番号 | N22: 覆工 スパン 番号 | O22: S13
C24: 変状 番号 | D24: 1 | N24: 変状 番号 | O24: 2
B26: 変状 部位 | C26: 対象 箇所 | D26: 覆工・坑門 | M26: 変状 部位 | N26: 対象 箇所 | O26: 覆工・坑門
C28: 部位 区分 | D28: アーチ（左側） | N28: 部位 区分 | O28: アーチ（左側）
B30: 変状区分 | D30: 漏水 | M30: 変状区分 | O30: 材質劣化
B31: 変状種類 | D31: 漏水 | M31: 変状種類 | O31: うき・はく離
B32: 健全性 | C32: 応急措置前 | M32: 健全性 | N32: 応急措置前
C33: 応急措置後 | E33: Ⅱb | N33: 応急措置後 | P33: Ⅱa
B34: 変状の発生範囲の規模 | E34: 2.50m×0.90m | M34: 変状の発生範囲の規模 | P34: 0.20m×0.20m
B35: 前回定期点検時の状態 | E35: - | M35: 前回定期点検時の状態 | P35: -
B36: 調査方針 | M36: 調査方針
B37: 対策履歴 | H37: 実施状況（実施日） | M37: 対策履歴 | S37: 実施状況（実施日）
B38: メモ | D38: ひび割れ沿いのにじみ | M38: メモ | O38: 補修跡うき
C39: ※ 健全性（応急措置後）の判定区分Ⅱ～Ⅳについて添付すること。また、点検前に 実施された措置によりⅠと判定された箇所も添付すること。 | N39: ※ 変状の発生範囲の規模とは、対策を行う際に参考となる変状の長さや面積をいう。
N40: ※ 応急措置を実施しないで判定した変状の健全性は、健全性の応急措置後の欄に記入すること。
C41: ※ たたき落としを実施した場合は、実施後の写真を添付すること。 | N41: ※ 変状の発生範囲の規模は、面積・寸法を記載すること。
C42: ※ 附属物の取付状態に関する異常写真は別途、様式D-1-2でとりまとめること。 | N42: (ひび割れ幅のみmmとし、その他をm表記とする)
C43: ※ 変状数に準じてシートを追加すること。（１シートに１ページとすること。） | N43: ※ 構造用鋼材以外の異物に伴ううき・はく離については、メモ欄に異物の概要を記入すること。

Sheet 様式D-1-1(トンネル様式2P007)
B2: ■定期点検記録様式 変状写真台帳 | Y2: Ⅰ
B3: フリガナ | D3: トノミトンネル | H3: 路線名 | J3: 主要道路防府環状線 | M3: 定期点検業者 | P3: セントラルコンサルタント株式会社 | S3: 定期点検年月日 | U3: 44337 | Y3: Ⅱ
B4: 名 称 | D4: 富海トンネル | H4: 管理者名 | J4: 山口県防府土木建築事務所 | M4: 定期点検者名 | P4: 鹿子嶋 康博 | Y4: Ⅲ
B5: 写真 番号 | C5: 覆工 スパン 番号 | D5: S13 | M5: 写真 番号 | N5: 覆工 スパン 番号 | O5: S14 | Y5: Ⅳ
C7: 変状 番号 | D7: 3 | N7: 変状 番号 | O7: 1
B9: 変状 部位 | C9: 対象 箇所 | D9: 路面 | M9: 変状 部位 | N9: 対象 箇所 | O9: 覆工・坑門
C11: 部位 区分 | D11: 側溝 | N11: 部位 区分 | O11: 横断目地（全周）
B13: 変状区分 | D13: 漏水 | M13: 変状区分 | O13: 材質劣化
B14: 変状種類 | D14: その他 | M14: 変状種類 | O14: 補強・補修材の破損
B15: 健全性 | C15: 応急措置前 | M15: 健全性 | N15: 応急措置前
C16: 応急措置後 | E16: Ⅱb | N16: 応急措置後 | P16: Ⅲ
B17: 変状の発生範囲の規模 | E17: 0.50m×6.30m(t=50mm) | M17: 変状の発生範囲の規模 | P17: 14.40m×0.40m
B18: 前回定期点検時の状態 | E18: 沈砂 50mm | M18: 前回定期点検時の状態 | P18: -
B19: 調査方針 | M19: 調査方針
B20: 対策履歴 | H20: 実施状況（実施日） | M20: 対策履歴 | S20: 実施状況（実施日）
B21: メモ | D21: 土砂堆積 | M21: メモ | O21: 樋工アンカーナット腐食(全数)、プレート脱落
B22: 写真 番号 | C22: 覆工 スパン 番号 | D22: S14 | M22: 写真 番号 | N22: 覆工 スパン 番号 | O22: S15
C24: 変状 番号 | D24: 2 | N24: 変状 番号 | O24: 1
B26: 変状 部位 | C26: 対象 箇所 | D26: 覆工・坑門 | M26: 変状 部位 | N26: 対象 箇所 | O26: 覆工・坑門
C28: 部位 区分 | D28: アーチ（右側） | N28: 部位 区分 | O28: 横断目地（天端）
B30: 変状区分 | D30: 材質劣化 | M30: 変状区分 | O30: 漏水
B31: 変状種類 | D31: 補強・補修材の破損 | M31: 変状種類 | O31: 漏水
B32: 健全性 | C32: 応急措置前 | M32: 健全性 | N32: 応急措置前
C33: 応急措置後 | E33: Ⅲ | N33: 応急措置後 | P33: Ⅱb
B34: 変状の発生範囲の規模 | E34: 7.20m×0.40m | M34: 変状の発生範囲の規模 | P34: 7.30m×0.50m
B35: 前回定期点検時の状態 | E35: - | M35: 前回定期点検時の状態 | P35: 滴水
B36: 調査方針 | M36: 調査方針
B37: 対策履歴 | H37: 実施状況（実施日） | M37: 対策履歴 | S37: 実施状況（実施日）
B38: メモ | D38: 樋工アンカー腐食(全数)、プレート脱落 | M38: メモ | O38: 導水工からのにじみ
C39: ※ 健全性（応急措置後）の判定区分Ⅱ～Ⅳについて添付すること。また、点検前に 実施された措置によりⅠと判定された箇所も添付すること。 | N39: ※ 変状の発生範囲の規模とは、対策を行う際に参考となる変状の長さや面積をいう。
N40: ※ 応急措置を実施しないで判定した変状の健全性は、健全性の応急措置後の欄に記入すること。
C41: ※ たたき落としを実施した場合は、実施後の写真を添付すること。 | N41: ※ 変状の発生範囲の規模は、面積・寸法を記載すること。
C42: ※ 附属物の取付状態に関する異常写真は別途、様式D-1-2でとりまとめること。 | N42: (ひび割れ幅のみmmとし、その他をm表記とする)
C43: ※ 変状数に準じてシートを追加すること。（１シートに１ページとすること。） | N43: ※ 構造用鋼材以外の異物に伴ううき・はく離については、メモ欄に異物の概要を記入すること。

Sheet 様式D-1-1(トンネル様式2P008)
B2: ■定期点検記録様式 変状写真台帳 | Y2: Ⅰ
B3: フリガナ | D3: トノミトンネル | H3: 路線名 | J3: 主要道路防府環状線 | M3: 定期点検業者 | P3: セントラルコンサルタント株式会社 | S3: 定期点検年月日 | U3: 44337 | Y3: Ⅱ
B4: 名 称 | D4: 富海トンネル | H4: 管理者名 | J4: 山口県防府土木建築事務所 | M4: 定期点検者名 | P4: 鹿子嶋 康博 | Y4: Ⅲ
B5: 写真 番号 | C5: 覆工 スパン 番号 | D5: S15 | M5: 写真 番号 | N5: 覆工 スパン 番号 | O5: S15 | Y5: Ⅳ
C7: 変状 番号 | D7: 2 | N7: 変状 番号 | O7: 3
B9: 変状 部位 | C9: 対象 箇所 | D9: 覆工・坑門 | M9: 変状 部位 | N9: 対象 箇所 | O9: 路面
C11: 部位 区分 | D11: 横断目地（右側） | N11: 部位 区分 | O11: 側溝
B13: 変状区分 | D13: 材質劣化 | M13: 変状区分 | O13: 漏水
B14: 変状種類 | D14: 補強・補修材の破損 | M14: 変状種類 | O14: その他
B15: 健全性 | C15: 応急措置前 | M15: 健全性 | N15: 応急措置前
C16: 応急措置後 | E16: Ⅲ | N16: 応急措置後 | P16: Ⅱb
B17: 変状の発生範囲の規模 | E17: 7.30m×0.40m | M17: 変状の発生範囲の規模 | P17: 0.30m×2.50m(t=30mm)
B18: 前回定期点検時の状態 | E18: - | M18: 前回定期点検時の状態 | P18: 沈砂 30mm
B19: 調査方針 | M19: 調査方針
B20: 対策履歴 | H20: 実施状況（実施日） | M20: 対策履歴 | S20: 実施状況（実施日）
B21: メモ | D21: 樋工アンカー腐食(全数) | M21: メモ | O21: 土砂堆積
B22: 写真 番号 | C22: 覆工 スパン 番号 | D22: S16 | M22: 写真 番号 | N22: 覆工 スパン 番号 | O22: S16
C24: 変状 番号 | D24: 1 | N24: 変状 番号 | O24: 2
B26: 変状 部位 | C26: 対象 箇所 | D26: 覆工・坑門 | M26: 変状 部位 | N26: 対象 箇所 | O26: 覆工・坑門
C28: 部位 区分 | D28: アーチ（右側） | N28: 部位 区分 | O28: アーチ（右側）
B30: 変状区分 | D30: 漏水 | M30: 変状区分 | O30: 材質劣化
B31: 変状種類 | D31: 漏水 | M31: 変状種類 | O31: 補強・補修材の破損
B32: 健全性 | C32: 応急措置前 | M32: 健全性 | N32: 応急措置前
C33: 応急措置後 | E33: Ⅱb | N33: 応急措置後 | P33: Ⅲ
B34: 変状の発生範囲の規模 | E34: 1.80m×0.20m | M34: 変状の発生範囲の規模 | P34: 3.20m×0.30m
B35: 前回定期点検時の状態 | E35: 滴水 | M35: 前回定期点検時の状態 | P35: -
B36: 調査方針 | M36: 調査方針
B37: 対策履歴 | H37: 実施状況（実施日） | M37: 対策履歴 | S37: 実施状況（実施日）
B38: メモ | D38: にじみ | M38: メモ | O38: 樋劣化･腐食(全体)
C39: ※ 健全性（応急措置後）の判定区分Ⅱ～Ⅳについて添付すること。また、点検前に 実施された措置によりⅠと判定された箇所も添付すること。 | N39: ※ 変状の発生範囲の規模とは、対策を行う際に参考となる変状の長さや面積をいう。
N40: ※ 応急措置を実施しないで判定した変状の健全性は、健全性の応急措置後の欄に記入すること。
C41: ※ たたき落としを実施した場合は、実施後の写真を添付すること。 | N41: ※ 変状の発生範囲の規模は、面積・寸法を記載すること。
C42: ※ 附属物の取付状態に関する異常写真は別途、様式D-1-2でとりまとめること。 | N42: (ひび割れ幅のみmmとし、その他をm表記とする)
C43: ※ 変状数に準じてシートを追加すること。（１シートに１ページとすること。） | N43: ※ 構造用鋼材以外の異物に伴ううき・はく離については、メモ欄に異物の概要を記入すること。

Sheet 様式D-1-1(トンネル様式2P009)
B2: ■定期点検記録様式 変状写真台帳 | Y2: Ⅰ
B3: フリガナ | D3: トノミトンネル | H3: 路線名 | J3: 主要道路防府環状線 | M3: 定期点検業者 | P3: セントラルコンサルタント株式会社 | S3: 定期点検年月日 | U3: 44337 | Y3: Ⅱ
B4: 名 称 | D4: 富海トンネル | H4: 管理者名 | J4: 山口県防府土木建築事務所 | M4: 定期点検者名 | P4: 鹿子嶋 康博 | Y4: Ⅲ
B5: 写真 番号 | C5: 覆工 スパン 番号 | D5: S16 | M5: 写真 番号 | N5: 覆工 スパン 番号 | O5: S16 | Y5: Ⅳ
C7: 変状 番号 | D7: 3 | N7: 変状 番号 | O7: 4
B9: 変状 部位 | C9: 対象 箇所 | D9: 覆工・坑門 | M9: 変状 部位 | N9: 対象 箇所 | O9: 覆工・坑門
C11: 部位 区分 | D11: アーチ（右側） | N11: 部位 区分 | O11: 横断目地（右側）
B13: 変状区分 | D13: 材質劣化 | M13: 変状区分 | O13: 材質劣化
B14: 変状種類 | D14: 補強・補修材の破損 | M14: 変状種類 | O14: 補強・補修材の破損
B15: 健全性 | C15: 応急措置前 | M15: 健全性 | N15: 応急措置前
C16: 応急措置後 | E16: Ⅲ | N16: 応急措置後 | P16: Ⅲ
B17: 変状の発生範囲の規模 | E17: 7.20m×0.40m | M17: 変状の発生範囲の規模 | P17: 7.30m×0.40m
B18: 前回定期点検時の状態 | E18: - | M18: 前回定期点検時の状態 | P18: -
B19: 調査方針 | M19: 調査方針
B20: 対策履歴 | H20: 実施状況（実施日） | M20: 対策履歴 | S20: 実施状況（実施日）
B21: メモ | D21: 樋工アンカー腐食(全数) | M21: メモ | O21: 樋工アンカーナット腐食(全数)
B22: 写真 番号 | C22: 覆工 スパン 番号 | D22: S16 | M22: 写真 番号 | N22: 覆工 スパン 番号 | O22: S17
C24: 変状 番号 | D24: 5 | N24: 変状 番号 | O24: 1
B26: 変状 部位 | C26: 対象 箇所 | D26: 路面 | M26: 変状 部位 | N26: 対象 箇所 | O26: 覆工・坑門
C28: 部位 区分 | D28: 側溝 | N28: 部位 区分 | O28: 横断目地（右側）
B30: 変状区分 | D30: 漏水 | M30: 変状区分 | O30: 漏水
B31: 変状種類 | D31: その他 | M31: 変状種類 | O31: 漏水
B32: 健全性 | C32: 応急措置前 | M32: 健全性 | N32: 応急措置前
C33: 応急措置後 | E33: Ⅱb | N33: 応急措置後 | P33: Ⅱa
B34: 変状の発生範囲の規模 | E34: 0.50m×6.00m(t=50mm) | M34: 変状の発生範囲の規模 | P34: 3.20m×0.50m
B35: 前回定期点検時の状態 | E35: 沈砂 50mm | M35: 前回定期点検時の状態 | P35: -
B36: 調査方針 | M36: 調査方針
B37: 対策履歴 | H37: 実施状況（実施日） | M37: 対策履歴 | S37: 実施状況（実施日）
B38: メモ | D38: 土砂堆積 | M38: メモ | O38: 樋工からの滴水
C39: ※ 健全性（応急措置後）の判定区分Ⅱ～Ⅳについて添付すること。また、点検前に 実施された措置によりⅠと判定された箇所も添付すること。 | N39: ※ 変状の発生範囲の規模とは、対策を行う際に参考となる変状の長さや面積をいう。
N40: ※ 応急措置を実施しないで判定した変状の健全性は、健全性の応急措置後の欄に記入すること。
C41: ※ たたき落としを実施した場合は、実施後の写真を添付すること。 | N41: ※ 変状の発生範囲の規模は、面積・寸法を記載すること。
C42: ※ 附属物の取付状態に関する異常写真は別途、様式D-1-2でとりまとめること。 | N42: (ひび割れ幅のみmmとし、その他をm表記とする)
C43: ※ 変状数に準じてシートを追加すること。（１シートに１ページとすること。） | N43: ※ 構造用鋼材以外の異物に伴ううき・はく離については、メモ欄に異物の概要を記入すること。

Sheet 様式D-1-1(トンネル様式2P010)
B2: ■定期点検記録様式 変状写真台帳 | Y2: Ⅰ
B3: フリガナ | D3: トノミトンネル | H3: 路線名 | J3: 主要道路防府環状線 | M3: 定期点検業者 | P3: セントラルコンサルタント株式会社 | S3: 定期点検年月日 | U3: 44337 | Y3: Ⅱ
B4: 名 称 | D4: 富海トンネル | H4: 管理者名 | J4: 山口県防府土木建築事務所 | M4: 定期点検者名 | P4: 鹿子嶋 康博 | Y4: Ⅲ
B5: 写真 番号 | C5: 覆工 スパン 番号 | D5: S18 | M5: 写真 番号 | N5: 覆工 スパン 番号 | O5: S18 | Y5: Ⅳ
C7: 変状 番号 | D7: 1 | N7: 変状 番号 | O7: 2
B9: 変状 部位 | C9: 対象 箇所 | D9: 覆工・坑門 | M9: 変状 部位 | N9: 対象 箇所 | O9: 路面
C11: 部位 区分 | D11: 横断目地（左側） | N11: 部位 区分 | O11: 側溝
B13: 変状区分 | D13: 材質劣化 | M13: 変状区分 | O13: 漏水
B14: 変状種類 | D14: 補強・補修材の破損 | M14: 変状種類 | O14: その他
B15: 健全性 | C15: 応急措置前 | M15: 健全性 | N15: 応急措置前
C16: 応急措置後 | E16: Ⅲ | N16: 応急措置後 | P16: Ⅱb
B17: 変状の発生範囲の規模 | E17: 7.20m×0.40m | M17: 変状の発生範囲の規模 | P17: 0.70m×8.50m
B18: 前回定期点検時の状態 | E18: - | M18: 前回定期点検時の状態 | P18: -
B19: 調査方針 | M19: 調査方針
B20: 対策履歴 | H20: 実施状況（実施日） | M20: 対策履歴 | S20: 実施状況（実施日）
B21: メモ | D21: 樋工アンカーナット腐食(全数) | M21: メモ | O21: 土砂堆積(帯水跡)
B22: 写真 番号 | C22: 覆工 スパン 番号 | D22: S19 | M22: 写真 番号 | N22: 覆工 スパン 番号 | O22: S19
C24: 変状 番号 | D24: 1 | N24: 変状 番号 | O24: 2
B26: 変状 部位 | C26: 対象 箇所 | D26: 路面 | M26: 変状 部位 | N26: 対象 箇所 | O26: 路面
C28: 部位 区分 | D28: 側溝 | N28: 部位 区分 | O28: 側溝
B30: 変状区分 | D30: 漏水 | M30: 変状区分 | O30: 漏水
B31: 変状種類 | D31: その他 | M31: 変状種類 | O31: その他
B32: 健全性 | C32: 応急措置前 | M32: 健全性 | N32: 応急措置前
C33: 応急措置後 | E33: Ⅱb | N33: 応急措置後 | P33: Ⅱb
B34: 変状の発生範囲の規模 | E34: 0.50m×4.60m | M34: 変状の発生範囲の規模 | P34: 0.40m×7.60m
B35: 前回定期点検時の状態 | E35: - | M35: 前回定期点検時の状態 | P35: 沈砂 100mm
B36: 調査方針 | M36: 調査方針
B37: 対策履歴 | H37: 実施状況（実施日） | M37: 対策履歴 | S37: 実施状況（実施日）
B38: メモ | D38: 土砂堆積 | M38: メモ | O38: 土砂堆積
C39: ※ 健全性（応急措置後）の判定区分Ⅱ～Ⅳについて添付すること。また、点検前に 実施された措置によりⅠと判定された箇所も添付すること。 | N39: ※ 変状の発生範囲の規模とは、対策を行う際に参考となる変状の長さや面積をいう。
N40: ※ 応急措置を実施しないで判定した変状の健全性は、健全性の応急措置後の欄に記入すること。
C41: ※ たたき落としを実施した場合は、実施後の写真を添付すること。 | N41: ※ 変状の発生範囲の規模は、面積・寸法を記載すること。
C42: ※ 附属物の取付状態に関する異常写真は別途、様式D-1-2でとりまとめること。 | N42: (ひび割れ幅のみmmとし、その他をm表記とする)
C43: ※ 変状数に準じてシートを追加すること。（１シートに１ページとすること。） | N43: ※ 構造用鋼材以外の異物に伴ううき・はく離については、メモ欄に異物の概要を記入すること。

Sheet 様式D-1-1(トンネル様式2P011)
B2: ■定期点検記録様式 変状写真台帳 | Y2: Ⅰ
B3: フリガナ | D3: トノミトンネル | H3: 路線名 | J3: 主要道路防府環状線 | M3: 定期点検業者 | P3: セントラルコンサルタント株式会社 | S3: 定期点検年月日 | U3: 44337 | Y3: Ⅱ
B4: 名 称 | D4: 富海トンネル | H4: 管理者名 | J4: 山口県防府土木建築事務所 | M4: 定期点検者名 | P4: 鹿子嶋 康博 | Y4: Ⅲ
B5: 写真 番号 | C5: 覆工 スパン 番号 | D5: S20 | M5: 写真 番号 | N5: 覆工 スパン 番号 | O5: S21 | Y5: Ⅳ
C7: 変状 番号 | D7: 1 | N7: 変状 番号 | O7: 1
B9: 変状 部位 | C9: 対象 箇所 | D9: 覆工・坑門 | M9: 変状 部位 | N9: 対象 箇所 | O9: 覆工・坑門
C11: 部位 区分 | D11: 側壁（左側） | N11: 部位 区分 | O11: アーチ（天端）
B13: 変状区分 | D13: 漏水 | M13: 変状区分 | O13: 材質劣化
B14: 変状種類 | D14: 漏水 | M14: 変状種類 | O14: 鋼材腐食
B15: 健全性 | C15: 応急措置前 | M15: 健全性 | N15: 応急措置前
C16: 応急措置後 | E16: Ⅱb | N16: 応急措置後 | P16: Ⅱb
B17: 変状の発生範囲の規模 | E17: 0.90m×1.60m | M17: 変状の発生範囲の規模 | P17: 0.10m×0.20m
B18: 前回定期点検時の状態 | E18: にじみ | M18: 前回定期点検時の状態 | P18: -
B19: 調査方針 | M19: 調査方針
B20: 対策履歴 | H20: 実施状況（実施日） | M20: 対策履歴 | S20: 実施状況（実施日）
B21: メモ | D21: にじみ | M21: メモ | O21: 鋼材露出
B22: 写真 番号 | C22: 覆工 スパン 番号 | D22: S22 | M22: 写真 番号 | N22: 覆工 スパン 番号 | O22: S22
C24: 変状 番号 | D24: 1 | N24: 変状 番号 | O24: 2
B26: 変状 部位 | C26: 対象 箇所 | D26: 覆工・坑門 | M26: 変状 部位 | N26: 対象 箇所 | O26: 覆工・坑門
C28: 部位 区分 | D28: アーチ（左側） | N28: 部位 区分 | O28: 横断目地（左側）
B30: 変状区分 | D30: 材質劣化 | M30: 変状区分 | O30: 材質劣化
B31: 変状種類 | D31: うき・はく離 | M31: 変状種類 | O31: 補強・補修材の破損
B32: 健全性 | C32: 応急措置前 | M32: 健全性 | N32: 応急措置前
C33: 応急措置後 | E33: Ⅰ | N33: 応急措置後 | P33: Ⅲ
B34: 変状の発生範囲の規模 | E34: 0.40m×0.70m | M34: 変状の発生範囲の規模 | P34: 7.00m×0.40m
B35: 前回定期点検時の状態 | E35: 豆板 400mm×700mm | M35: 前回定期点検時の状態 | P35: -
B36: 調査方針 | M36: 調査方針
B37: 対策履歴 | H37: 実施状況（実施日） | M37: 対策履歴 | S37: 実施状況（実施日）
B38: メモ | D38: 豆板 | M38: メモ | O38: 樋工残置、アンカーナット腐食(全数)
C39: ※ 健全性（応急措置後）の判定区分Ⅱ～Ⅳについて添付すること。また、点検前に 実施された措置によりⅠと判定された箇所も添付すること。 | N39: ※ 変状の発生範囲の規模とは、対策を行う際に参考となる変状の長さや面積をいう。
N40: ※ 応急措置を実施しないで判定した変状の健全性は、健全性の応急措置後の欄に記入すること。
C41: ※ たたき落としを実施した場合は、実施後の写真を添付すること。 | N41: ※ 変状の発生範囲の規模は、面積・寸法を記載すること。
C42: ※ 附属物の取付状態に関する異常写真は別途、様式D-1-2でとりまとめること。 | N42: (ひび割れ幅のみmmとし、その他をm表記とする)
C43: ※ 変状数に準じてシートを追加すること。（１シートに１ページとすること。） | N43: ※ 構造用鋼材以外の異物に伴ううき・はく離については、メモ欄に異物の概要を記入すること。

Sheet 様式D-1-1(トンネル様式2P012)
B2: ■定期点検記録様式 変状写真台帳 | Y2: Ⅰ
B3: フリガナ | D3: トノミトンネル | H3: 路線名 | J3: 主要道路防府環状線 | M3: 定期点検業者 | P3: セントラルコンサルタント株式会社 | S3: 定期点検年月日 | U3: 44337 | Y3: Ⅱ
B4: 名 称 | D4: 富海トンネル | H4: 管理者名 | J4: 山口県防府土木建築事務所 | M4: 定期点検者名 | P4: 鹿子嶋 康博 | Y4: Ⅲ
B5: 写真 番号 | C5: 覆工 スパン 番号 | D5: S22 | M5: 写真 番号 | N5: 覆工 スパン 番号 | O5: S22 | Y5: Ⅳ
C7: 変状 番号 | D7: 3 | N7: 変状 番号 | O7: 4
B9: 変状 部位 | C9: 対象 箇所 | D9: 覆工・坑門 | M9: 変状 部位 | N9: 対象 箇所 | O9: 路面
C11: 部位 区分 | D11: 横断目地（右側） | N11: 部位 区分 | O11: 側溝
B13: 変状区分 | D13: 材質劣化 | M13: 変状区分 | O13: 漏水
B14: 変状種類 | D14: 補強・補修材の破損 | M14: 変状種類 | O14: その他
B15: 健全性 | C15: 応急措置前 | M15: 健全性 | N15: 応急措置前
C16: 応急措置後 | E16: Ⅲ | N16: 応急措置後 | P16: Ⅱb
B17: 変状の発生範囲の規模 | E17: 7.30m×0.40m | M17: 変状の発生範囲の規模 | P17: 0.40m×4.60m
B18: 前回定期点検時の状態 | E18: - | M18: 前回定期点検時の状態 | P18: 沈砂 30mm
B19: 調査方針 | M19: 調査方針
B20: 対策履歴 | H20: 実施状況（実施日） | M20: 対策履歴 | S20: 実施状況（実施日）
B21: メモ | D21: 樋工アンカーナット腐食(全数) | M21: メモ | O21: 土砂堆積
B22: 写真 番号 | C22: 覆工 スパン 番号 | D22: S24 | M22: 写真 番号 | N22: 覆工 スパン 番号 | O22: S24
C24: 変状 番号 | D24: 1 | N24: 変状 番号 | O24: 2
B26: 変状 部位 | C26: 対象 箇所 | D26: 覆工・坑門 | M26: 変状 部位 | N26: 対象 箇所 | O26: 覆工・坑門
C28: 部位 区分 | D28: アーチ（左側） | N28: 部位 区分 | O28: アーチ（左側）
B30: 変状区分 | D30: 材質劣化 | M30: 変状区分 | O30: 漏水
B31: 変状種類 | D31: 補強・補修材の破損 | M31: 変状種類 | O31: 漏水
B32: 健全性 | C32: 応急措置前 | M32: 健全性 | N32: 応急措置前
C33: 応急措置後 | E33: Ⅲ | N33: 応急措置後 | P33: Ⅱb
B34: 変状の発生範囲の規模 | E34: 7.20m×0.40m | M34: 変状の発生範囲の規模 | P34: 1.70m×0.50m
B35: 前回定期点検時の状態 | E35: - | M35: 前回定期点検時の状態 | P35: -
B36: 調査方針 | M36: 調査方針
B37: 対策履歴 | H37: 実施状況（実施日） | M37: 対策履歴 | S37: 実施状況（実施日）
B38: メモ | D38: 樋工アンカーナット腐食(全数) | M38: メモ | O38: にじみ
C39: ※ 健全性（応急措置後）の判定区分Ⅱ～Ⅳについて添付すること。また、点検前に 実施された措置によりⅠと判定された箇所も添付すること。 | N39: ※ 変状の発生範囲の規模とは、対策を行う際に参考となる変状の長さや面積をいう。
N40: ※ 応急措置を実施しないで判定した変状の健全性は、健全性の応急措置後の欄に記入すること。
C41: ※ たたき落としを実施した場合は、実施後の写真を添付すること。 | N41: ※ 変状の発生範囲の規模は、面積・寸法を記載すること。
C42: ※ 附属物の取付状態に関する異常写真は別途、様式D-1-2でとりまとめること。 | N42: (ひび割れ幅のみmmとし、その他をm表記とする)
C43: ※ 変状数に準じてシートを追加すること。（１シートに１ページとすること。） | N43: ※ 構造用鋼材以外の異物に伴ううき・はく離については、メモ欄に異物の概要を記入すること。

Sheet 様式D-1-1(トンネル様式2P013)
B2: ■定期点検記録様式 変状写真台帳 | Y2: Ⅰ
B3: フリガナ | D3: トノミトンネル | H3: 路線名 | J3: 主要道路防府環状線 | M3: 定期点検業者 | P3: セントラルコンサルタント株式会社 | S3: 定期点検年月日 | U3: 44337 | Y3: Ⅱ
B4: 名 称 | D4: 富海トンネル | H4: 管理者名 | J4: 山口県防府土木建築事務所 | M4: 定期点検者名 | P4: 鹿子嶋 康博 | Y4: Ⅲ
B5: 写真 番号 | C5: 覆工 スパン 番号 | D5: S24 | M5: 写真 番号 | N5: 覆工 スパン 番号 | O5: S24 | Y5: Ⅳ
C7: 変状 番号 | D7: 3 | N7: 変状 番号 | O7: 4
B9: 変状 部位 | C9: 対象 箇所 | D9: 覆工・坑門 | M9: 変状 部位 | N9: 対象 箇所 | O9: 覆工・坑門
C11: 部位 区分 | D11: 横断目地（左側） | N11: 部位 区分 | O11: アーチ（天端）
B13: 変状区分 | D13: 材質劣化 | M13: 変状区分 | O13: 漏水
B14: 変状種類 | D14: 補強・補修材の破損 | M14: 変状種類 | O14: 漏水
B15: 健全性 | C15: 応急措置前 | M15: 健全性 | N15: 応急措置前
C16: 応急措置後 | E16: Ⅲ | N16: 応急措置後 | P16: Ⅱa
B17: 変状の発生範囲の規模 | E17: 6.10m×0.40m | M17: 変状の発生範囲の規模 | P17: 6.10m×0.50m
B18: 前回定期点検時の状態 | E18: - | M18: 前回定期点検時の状態 | P18: -
B19: 調査方針 | M19: 調査方針
B20: 対策履歴 | H20: 実施状況（実施日） | M20: 対策履歴 | S20: 実施状況（実施日）
B21: メモ | D21: 樋工アンカーナット腐食(全数) | M21: メモ | O21: 滴水
B22: 写真 番号 | C22: 覆工 スパン 番号 | D22: S24 | M22: 写真 番号 | N22: 覆工 スパン 番号 | O22: S25
C24: 変状 番号 | D24: 5 | N24: 変状 番号 | O24: 1
B26: 変状 部位 | C26: 対象 箇所 | D26: 路面 | M26: 変状 部位 | N26: 対象 箇所 | O26: 覆工・坑門
C28: 部位 区分 | D28: 側溝 | N28: 部位 区分 | O28: 横断目地（右側）
B30: 変状区分 | D30: 漏水 | M30: 変状区分 | O30: 材質劣化
B31: 変状種類 | D31: その他 | M31: 変状種類 | O31: 補強・補修材の破損
B32: 健全性 | C32: 応急措置前 | M32: 健全性 | N32: 応急措置前
C33: 応急措置後 | E33: Ⅱb | N33: 応急措置後 | P33: Ⅲ
B34: 変状の発生範囲の規模 | E34: 0.50m×3.60m(t=30mm) | M34: 変状の発生範囲の規模 | P34: 7.20m×0.40m
B35: 前回定期点検時の状態 | E35: - | M35: 前回定期点検時の状態 | P35: -
B36: 調査方針 | M36: 調査方針
B37: 対策履歴 | H37: 実施状況（実施日） | M37: 対策履歴 | S37: 実施状況（実施日）
B38: メモ | D38: 土砂堆積 | M38: メモ | O38: 樋工残置、アンカー腐食(全数)
C39: ※ 健全性（応急措置後）の判定区分Ⅱ～Ⅳについて添付すること。また、点検前に 実施された措置によりⅠと判定された箇所も添付すること。 | N39: ※ 変状の発生範囲の規模とは、対策を行う際に参考となる変状の長さや面積をいう。
N40: ※ 応急措置を実施しないで判定した変状の健全性は、健全性の応急措置後の欄に記入すること。
C41: ※ たたき落としを実施した場合は、実施後の写真を添付すること。 | N41: ※ 変状の発生範囲の規模は、面積・寸法を記載すること。
C42: ※ 附属物の取付状態に関する異常写真は別途、様式D-1-2でとりまとめること。 | N42: (ひび割れ幅のみmmとし、その他をm表記とする)
C43: ※ 変状数に準じてシートを追加すること。（１シートに１ページとすること。） | N43: ※ 構造用鋼材以外の異物に伴ううき・はく離については、メモ欄に異物の概要を記入すること。

Sheet 様式D-1-1(トンネル様式2P014)
B2: ■定期点検記録様式 変状写真台帳 | Y2: Ⅰ
B3: フリガナ | D3: トノミトンネル | H3: 路線名 | J3: 主要道路防府環状線 | M3: 定期点検業者 | P3: セントラルコンサルタント株式会社 | S3: 定期点検年月日 | U3: 44337 | Y3: Ⅱ
B4: 名 称 | D4: 富海トンネル | H4: 管理者名 | J4: 山口県防府土木建築事務所 | M4: 定期点検者名 | P4: 鹿子嶋 康博 | Y4: Ⅲ
B5: 写真 番号 | C5: 覆工 スパン 番号 | D5: S25 | M5: 写真 番号 | N5: 覆工 スパン 番号 | O5: S25 | Y5: Ⅳ
C7: 変状 番号 | D7: 2 | N7: 変状 番号 | O7: 3
B9: 変状 部位 | C9: 対象 箇所 | D9: 覆工・坑門 | M9: 変状 部位 | N9: 対象 箇所 | O9: 覆工・坑門
C11: 部位 区分 | D11: アーチ（右側） | N11: 部位 区分 | O11: 側壁（右側）
B13: 変状区分 | D13: 漏水 | M13: 変状区分 | O13: 材質劣化
B14: 変状種類 | D14: 漏水 | M14: 変状種類 | O14: うき・はく離
B15: 健全性 | C15: 応急措置前 | M15: 健全性 | N15: 応急措置前
C16: 応急措置後 | E16: Ⅱb | N16: 応急措置後 | P16: Ⅱa
B17: 変状の発生範囲の規模 | E17: 3.00m×0.50m | M17: 変状の発生範囲の規模 | P17: 0.30m×0.40m
B18: 前回定期点検時の状態 | E18: 滴水 | M18: 前回定期点検時の状態 | P18: 豆板 300mm×400mm
B19: 調査方針 | M19: 調査方針
B20: 対策履歴 | H20: 実施状況（実施日） | M20: 対策履歴 | S20: 実施状況（実施日）
B21: メモ | D21: にじみ | M21: メモ | O21: 豆板
B22: 写真 番号 | C22: 覆工 スパン 番号 | D22: S25 | M22: 写真 番号 | N22: 覆工 スパン 番号 | O22: S25
C24: 変状 番号 | D24: 4 | N24: 変状 番号 | O24: 5
B26: 変状 部位 | C26: 対象 箇所 | D26: 覆工・坑門 | M26: 変状 部位 | N26: 対象 箇所 | O26: 路面
C28: 部位 区分 | D28: アーチ（右側） | N28: 部位 区分 | O28: 車道
B30: 変状区分 | D30: 漏水 | M30: 変状区分 | O30: 漏水
B31: 変状種類 | D31: 漏水 | M31: 変状種類 | O31: 漏水
B32: 健全性 | C32: 応急措置前 | M32: 健全性 | N32: 応急措置前
C33: 応急措置後 | E33: Ⅱa | N33: 応急措置後 | P33: Ⅱb
B34: 変状の発生範囲の規模 | E34: 2.30m×0.50m | M34: 変状の発生範囲の規模 | P34: 0.70m×0.70m
B35: 前回定期点検時の状態 | E35: 滴水 | M35: 前回定期点検時の状態 | P35: -
B36: 調査方針 | M36: 調査方針
B37: 対策履歴 | H37: 実施状況（実施日） | M37: 対策履歴 | S37: 実施状況（実施日）
B38: メモ | D38: 滴水(FRPメッシュ背面) | M38: メモ | O38: 滞水
C39: ※ 健全性（応急措置後）の判定区分Ⅱ～Ⅳについて添付すること。また、点検前に 実施された措置によりⅠと判定された箇所も添付すること。 | N39: ※ 変状の発生範囲の規模とは、対策を行う際に参考となる変状の長さや面積をいう。
N40: ※ 応急措置を実施しないで判定した変状の健全性は、健全性の応急措置後の欄に記入すること。
C41: ※ たたき落としを実施した場合は、実施後の写真を添付すること。 | N41: ※ 変状の発生範囲の規模は、面積・寸法を記載すること。
C42: ※ 附属物の取付状態に関する異常写真は別途、様式D-1-2でとりまとめること。 | N42: (ひび割れ幅のみmmとし、その他をm表記とする)
C43: ※ 変状数に準じてシートを追加すること。（１シートに１ページとすること。） | N43: ※ 構造用鋼材以外の異物に伴ううき・はく離については、メモ欄に異物の概要を記入すること。

Sheet 様式D-1-1(トンネル様式2P015)
B2: ■定期点検記録様式 変状写真台帳 | Y2: Ⅰ
B3: フリガナ | D3: トノミトンネル | H3: 路線名 | J3: 主要道路防府環状線 | M3: 定期点検業者 | P3: セントラルコンサルタント株式会社 | S3: 定期点検年月日 | U3: 44337 | Y3: Ⅱ
B4: 名 称 | D4: 富海トンネル | H4: 管理者名 | J4: 山口県防府土木建築事務所 | M4: 定期点検者名 | P4: 鹿子嶋 康博 | Y4: Ⅲ
B5: 写真 番号 | C5: 覆工 スパン 番号 | D5: S26 | M5: 写真 番号 | N5: 覆工 スパン 番号 | O5: S26 | Y5: Ⅳ
C7: 変状 番号 | D7: 1 | N7: 変状 番号 | O7: 2
B9: 変状 部位 | C9: 対象 箇所 | D9: 覆工・坑門 | M9: 変状 部位 | N9: 対象 箇所 | O9: 覆工・坑門
C11: 部位 区分 | D11: アーチ（左側） | N11: 部位 区分 | O11: 横断目地（右側）
B13: 変状区分 | D13: 材質劣化 | M13: 変状区分 | O13: 材質劣化
B14: 変状種類 | D14: 補強・補修材の破損 | M14: 変状種類 | O14: 補強・補修材の破損
B15: 健全性 | C15: 応急措置前 | M15: 健全性 | N15: 応急措置前
C16: 応急措置後 | E16: Ⅲ | N16: 応急措置後 | P16: Ⅲ
B17: 変状の発生範囲の規模 | E17: 7.20m×0.40m | M17: 変状の発生範囲の規模 | P17: 7.20m×0.40m
B18: 前回定期点検時の状態 | E18: - | M18: 前回定期点検時の状態 | P18: -
B19: 調査方針 | M19: 調査方針
B20: 対策履歴 | H20: 実施状況（実施日） | M20: 対策履歴 | S20: 実施状況（実施日）
B21: メモ | D21: 樋工アンカーナット腐食(全数) | M21: メモ | O21: 樋工残置、樋工アンカーナット腐食(全数)
B22: 写真 番号 | C22: 覆工 スパン 番号 | D22: S28 | M22: 写真 番号 | N22: 覆工 スパン 番号 | O22: S28
C24: 変状 番号 | D24: 1 | N24: 変状 番号 | O24: 2
B26: 変状 部位 | C26: 対象 箇所 | D26: 覆工・坑門 | M26: 変状 部位 | N26: 対象 箇所 | O26: 路面
C28: 部位 区分 | D28: アーチ（左側） | N28: 部位 区分 | O28: 側溝
B30: 変状区分 | D30: 外力 | M30: 変状区分 | O30: 漏水
B31: 変状種類 | D31: ひび割れ | M31: 変状種類 | O31: その他
B32: 健全性 | C32: 応急措置前 | M32: 健全性 | N32: 応急措置前
C33: 応急措置後 | E33: Ⅱb | N33: 応急措置後 | P33: Ⅱb
B34: 変状の発生範囲の規模 | E34: 幅0.3mm×長さ3.9m | M34: 変状の発生範囲の規模 | P34: 0.40m×8.50m
B35: 前回定期点検時の状態 | E35: - | M35: 前回定期点検時の状態 | P35: 沈砂 50mm
B36: 調査方針 | M36: 調査方針
B37: 対策履歴 | H37: 実施状況（実施日） | M37: 対策履歴 | S37: 実施状況（実施日）
B38: メモ | D38: 縦断方向のひび割れ(遊離石灰) | M38: メモ | O38: 土砂堆積
C39: ※ 健全性（応急措置後）の判定区分Ⅱ～Ⅳについて添付すること。また、点検前に 実施された措置によりⅠと判定された箇所も添付すること。 | N39: ※ 変状の発生範囲の規模とは、対策を行う際に参考となる変状の長さや面積をいう。
N40: ※ 応急措置を実施しないで判定した変状の健全性は、健全性の応急措置後の欄に記入すること。
C41: ※ たたき落としを実施した場合は、実施後の写真を添付すること。 | N41: ※ 変状の発生範囲の規模は、面積・寸法を記載すること。
C42: ※ 附属物の取付状態に関する異常写真は別途、様式D-1-2でとりまとめること。 | N42: (ひび割れ幅のみmmとし、その他をm表記とする)
C43: ※ 変状数に準じてシートを追加すること。（１シートに１ページとすること。） | N43: ※ 構造用鋼材以外の異物に伴ううき・はく離については、メモ欄に異物の概要を記入すること。

Sheet 様式D-1-1(トンネル様式2P016)
B2: ■定期点検記録様式 変状写真台帳 | Y2: Ⅰ
B3: フリガナ | D3: トノミトンネル | H3: 路線名 | J3: 主要道路防府環状線 | M3: 定期点検業者 | P3: セントラルコンサルタント株式会社 | S3: 定期点検年月日 | U3: 44337 | Y3: Ⅱ
B4: 名 称 | D4: 富海トンネル | H4: 管理者名 | J4: 山口県防府土木建築事務所 | M4: 定期点検者名 | P4: 鹿子嶋 康博 | Y4: Ⅲ
B5: 写真 番号 | C5: 覆工 スパン 番号 | D5: S29 | M5: 写真 番号 | N5: 覆工 スパン 番号 | O5: S30 | Y5: Ⅳ
C7: 変状 番号 | D7: 1 | N7: 変状 番号 | O7: 1
B9: 変状 部位 | C9: 対象 箇所 | D9: 覆工・坑門 | M9: 変状 部位 | N9: 対象 箇所 | O9: 覆工・坑門
C11: 部位 区分 | D11: アーチ（左側） | N11: 部位 区分 | O11: アーチ（左側）
B13: 変状区分 | D13: 外力 | M13: 変状区分 | O13: 外力
B14: 変状種類 | D14: ひび割れ | M14: 変状種類 | O14: ひび割れ
B15: 健全性 | C15: 応急措置前 | M15: 健全性 | N15: 応急措置前
C16: 応急措置後 | E16: Ⅱb | N16: 応急措置後 | P16: Ⅱb
B17: 変状の発生範囲の規模 | E17: 幅0.3mm×長さ4.0m | M17: 変状の発生範囲の規模 | P17: 幅0.3mm×長さ3.6m
B18: 前回定期点検時の状態 | E18: - | M18: 前回定期点検時の状態 | P18: -
B19: 調査方針 | M19: 調査方針
B20: 対策履歴 | H20: 実施状況（実施日） | M20: 対策履歴 | S20: 実施状況（実施日）
B21: メモ | D21: 縦断方向のひび割れ | M21: メモ | O21: 縦断方向のひび割れ
B22: 写真 番号 | C22: 覆工 スパン 番号 | D22: S31 | M22: 写真 番号 | N22: 覆工 スパン 番号 | O22: S32
C24: 変状 番号 | D24: 1 | N24: 変状 番号 | O24: 1
B26: 変状 部位 | C26: 対象 箇所 | D26: 覆工・坑門 | M26: 変状 部位 | N26: 対象 箇所 | O26: 覆工・坑門
C28: 部位 区分 | D28: アーチ（左側） | N28: 部位 区分 | O28: アーチ（左側）
B30: 変状区分 | D30: 外力 | M30: 変状区分 | O30: 外力
B31: 変状種類 | D31: ひび割れ | M31: 変状種類 | O31: ひび割れ
B32: 健全性 | C32: 応急措置前 | M32: 健全性 | N32: 応急措置前
C33: 応急措置後 | E33: Ⅱb | N33: 応急措置後 | P33: Ⅱb
B34: 変状の発生範囲の規模 | E34: 幅0.5mm×長さ5.1m | M34: 変状の発生範囲の規模 | P34: 幅1.0mm×長さ43.9m
B35: 前回定期点検時の状態 | E35: ひび割れ 幅0.5mm | M35: 前回定期点検時の状態 | P35: ひび割れ 幅1.2mm
B36: 調査方針 | M36: 調査方針
B37: 対策履歴 | H37: 実施状況（実施日） | M37: 対策履歴 | S37: 実施状況（実施日）
B38: メモ | D38: 縦断方向のひび割れ(にじみを伴う) | M38: メモ | O38: 縦断方向のひび割れ(にじみ、遊離石灰)
C39: ※ 健全性（応急措置後）の判定区分Ⅱ～Ⅳについて添付すること。また、点検前に 実施された措置によりⅠと判定された箇所も添付すること。 | N39: ※ 変状の発生範囲の規模とは、対策を行う際に参考となる変状の長さや面積をいう。
N40: ※ 応急措置を実施しないで判定した変状の健全性は、健全性の応急措置後の欄に記入すること。
C41: ※ たたき落としを実施した場合は、実施後の写真を添付すること。 | N41: ※ 変状の発生範囲の規模は、面積・寸法を記載すること。
C42: ※ 附属物の取付状態に関する異常写真は別途、様式D-1-2でとりまとめること。 | N42: (ひび割れ幅のみmmとし、その他をm表記とする)
C43: ※ 変状数に準じてシートを追加すること。（１シートに１ページとすること。） | N43: ※ 構造用鋼材以外の異物に伴ううき・はく離については、メモ欄に異物の概要を記入すること。

Sheet 様式D-1-1(トンネル様式2P017)
B2: ■定期点検記録様式 変状写真台帳 | Y2: Ⅰ
B3: フリガナ | D3: トノミトンネル | H3: 路線名 | J3: 主要道路防府環状線 | M3: 定期点検業者 | P3: セントラルコンサルタント株式会社 | S3: 定期点検年月日 | U3: 44337 | Y3: Ⅱ
B4: 名 称 | D4: 富海トンネル | H4: 管理者名 | J4: 山口県防府土木建築事務所 | M4: 定期点検者名 | P4: 鹿子嶋 康博 | Y4: Ⅲ
B5: 写真 番号 | C5: 覆工 スパン 番号 | D5: S33 | M5: 写真 番号 | N5: 覆工 スパン 番号 | O5: S33 | Y5: Ⅳ
C7: 変状 番号 | D7: 1 | N7: 変状 番号 | O7: 2
B9: 変状 部位 | C9: 対象 箇所 | D9: 覆工・坑門 | M9: 変状 部位 | N9: 対象 箇所 | O9: 覆工・坑門
C11: 部位 区分 | D11: アーチ（左側） | N11: 部位 区分 | O11: アーチ（天端）
B13: 変状区分 | D13: 外力 | M13: 変状区分 | O13: 漏水
B14: 変状種類 | D14: ひび割れ | M14: 変状種類 | O14: 漏水
B15: 健全性 | C15: 応急措置前 | M15: 健全性 | N15: 応急措置前
C16: 応急措置後 | E16: Ⅱb | N16: 応急措置後 | P16: Ⅱa
B17: 変状の発生範囲の規模 | E17: 幅0.5mm×長さ2.3m | M17: 変状の発生範囲の規模 | P17: 7.20m×0.50m
B18: 前回定期点検時の状態 | E18: ひび割れ 幅0.5mm | M18: 前回定期点検時の状態 | P18: 滴水
B19: 調査方針 | M19: 調査方針
B20: 対策履歴 | H20: 実施状況（実施日） | M20: 対策履歴 | S20: 実施状況（実施日）
B21: メモ | D21: 縦断方向のひび割れ | M21: メモ | O21: 滴水
B22: 写真 番号 | C22: 覆工 スパン 番号 | D22: S33 | M22: 写真 番号 | N22: 覆工 スパン 番号 | O22: S33
C24: 変状 番号 | D24: 3 | N24: 変状 番号 | O24: 4
B26: 変状 部位 | C26: 対象 箇所 | D26: 覆工・坑門 | M26: 変状 部位 | N26: 対象 箇所 | O26: 路面
C28: 部位 区分 | D28: アーチ（右側） | N28: 部位 区分 | O28: 車道
B30: 変状区分 | D30: 外力 | M30: 変状区分 | O30: 漏水
B31: 変状種類 | D31: ひび割れ | M31: 変状種類 | O31: 漏水
B32: 健全性 | C32: 応急措置前 | M32: 健全性 | N32: 応急措置前
C33: 応急措置後 | E33: Ⅱb | N33: 応急措置後 | P33: Ⅱb
B34: 変状の発生範囲の規模 | E34: 幅0.3mm未満 | M34: 変状の発生範囲の規模 | P34: 0.40m×1.50m
B35: 前回定期点検時の状態 | E35: ひび割れ 幅0.3mm以上 | M35: 前回定期点検時の状態 | P35: 滞水
B36: 調査方針 | M36: 調査方針
B37: 対策履歴 | H37: 実施状況（実施日） | M37: 対策履歴 | S37: 実施状況（実施日）
B38: メモ | D38: 縦断方向のひび割れ(にじみ、遊離石灰) | M38: メモ | O38: 滞水
C39: ※ 健全性（応急措置後）の判定区分Ⅱ～Ⅳについて添付すること。また、点検前に 実施された措置によりⅠと判定された箇所も添付すること。 | N39: ※ 変状の発生範囲の規模とは、対策を行う際に参考となる変状の長さや面積をいう。
N40: ※ 応急措置を実施しないで判定した変状の健全性は、健全性の応急措置後の欄に記入すること。
C41: ※ たたき落としを実施した場合は、実施後の写真を添付すること。 | N41: ※ 変状の発生範囲の規模は、面積・寸法を記載すること。
C42: ※ 附属物の取付状態に関する異常写真は別途、様式D-1-2でとりまとめること。 | N42: (ひび割れ幅のみmmとし、その他をm表記とする)
C43: ※ 変状数に準じてシートを追加すること。（１シートに１ページとすること。） | N43: ※ 構造用鋼材以外の異物に伴ううき・はく離については、メモ欄に異物の概要を記入すること。

Sheet 様式D-1-1(トンネル様式2P018)
B2: ■定期点検記録様式 変状写真台帳 | Y2: Ⅰ
B3: フリガナ | D3: トノミトンネル | H3: 路線名 | J3: 主要道路防府環状線 | M3: 定期点検業者 | P3: セントラルコンサルタント株式会社 | S3: 定期点検年月日 | U3: 44337 | Y3: Ⅱ
B4: 名 称 | D4: 富海トンネル | H4: 管理者名 | J4: 山口県防府土木建築事務所 | M4: 定期点検者名 | P4: 鹿子嶋 康博 | Y4: Ⅲ
B5: 写真 番号 | C5: 覆工 スパン 番号 | D5: S34 | M5: 写真 番号 | N5: 覆工 スパン 番号 | O5: S34 | Y5: Ⅳ
C7: 変状 番号 | D7: 1 | N7: 変状 番号 | O7: 2
B9: 変状 部位 | C9: 対象 箇所 | D9: 覆工・坑門 | M9: 変状 部位 | N9: 対象 箇所 | O9: 覆工・坑門
C11: 部位 区分 | D11: アーチ（左側） | N11: 部位 区分 | O11: アーチ（右側）
B13: 変状区分 | D13: 外力 | M13: 変状区分 | O13: 外力
B14: 変状種類 | D14: ひび割れ | M14: 変状種類 | O14: ひび割れ
B15: 健全性 | C15: 応急措置前 | M15: 健全性 | N15: 応急措置前
C16: 応急措置後 | E16: Ⅱb | N16: 応急措置後 | P16: Ⅱb
B17: 変状の発生範囲の規模 | E17: 幅1.0mm×長さ3.9m | M17: 変状の発生範囲の規模 | P17: 幅0.4mm×長さ3.7m
B18: 前回定期点検時の状態 | E18: ひび割れ 幅1.0mm | M18: 前回定期点検時の状態 | P18: ひび割れ 幅0.4mm
B19: 調査方針 | M19: 調査方針
B20: 対策履歴 | H20: 実施状況（実施日） | M20: 対策履歴 | S20: 実施状況（実施日）
B21: メモ | D21: 縦断方向のひび割れ | M21: メモ | O21: 縦断方向のひび割れ(遊離石灰)
B22: 写真 番号 | C22: 覆工 スパン 番号 | D22: S34 | M22: 写真 番号 | N22: 覆工 スパン 番号 | O22: S34
C24: 変状 番号 | D24: 3 | N24: 変状 番号 | O24: 4
B26: 変状 部位 | C26: 対象 箇所 | D26: 路面 | M26: 変状 部位 | N26: 対象 箇所 | O26: 路面
C28: 部位 区分 | D28: 側溝 | N28: 部位 区分 | O28: 側溝
B30: 変状区分 | D30: 漏水 | M30: 変状区分 | O30: 漏水
B31: 変状種類 | D31: その他 | M31: 変状種類 | O31: 漏水
B32: 健全性 | C32: 応急措置前 | M32: 健全性 | N32: 応急措置前
C33: 応急措置後 | E33: Ⅱb | N33: 応急措置後 | P33: Ⅱb
B34: 変状の発生範囲の規模 | E34: 0.50m×4.50m(t=50mm) | M34: 変状の発生範囲の規模 | P34: 0.40m×5.30m
B35: 前回定期点検時の状態 | E35: 沈砂 50mm | M35: 前回定期点検時の状態 | P35: 沈砂 50mm
B36: 調査方針 | M36: 調査方針
B37: 対策履歴 | H37: 実施状況（実施日） | M37: 対策履歴 | S37: 実施状況（実施日）
B38: メモ | D38: 土砂堆積 | M38: メモ | O38: 土砂堆積(帯水跡)
C39: ※ 健全性（応急措置後）の判定区分Ⅱ～Ⅳについて添付すること。また、点検前に 実施された措置によりⅠと判定された箇所も添付すること。 | N39: ※ 変状の発生範囲の規模とは、対策を行う際に参考となる変状の長さや面積をいう。
N40: ※ 応急措置を実施しないで判定した変状の健全性は、健全性の応急措置後の欄に記入すること。
C41: ※ たたき落としを実施した場合は、実施後の写真を添付すること。 | N41: ※ 変状の発生範囲の規模は、面積・寸法を記載すること。
C42: ※ 附属物の取付状態に関する異常写真は別途、様式D-1-2でとりまとめること。 | N42: (ひび割れ幅のみmmとし、その他をm表記とする)
C43: ※ 変状数に準じてシートを追加すること。（１シートに１ページとすること。） | N43: ※ 構造用鋼材以外の異物に伴ううき・はく離については、メモ欄に異物の概要を記入すること。

Sheet 様式D-1-1(トンネル様式2P019)
B2: ■定期点検記録様式 変状写真台帳 | Y2: Ⅰ
B3: フリガナ | D3: トノミトンネル | H3: 路線名 | J3: 主要道路防府環状線 | M3: 定期点検業者 | P3: セントラルコンサルタント株式会社 | S3: 定期点検年月日 | U3: 44337 | Y3: Ⅱ
B4: 名 称 | D4: 富海トンネル | H4: 管理者名 | J4: 山口県防府土木建築事務所 | M4: 定期点検者名 | P4: 鹿子嶋 康博 | Y4: Ⅲ
B5: 写真 番号 | C5: 覆工 スパン 番号 | D5: S35 | M5: 写真 番号 | N5: 覆工 スパン 番号 | O5: S35 | Y5: Ⅳ
C7: 変状 番号 | D7: 1 | N7: 変状 番号 | O7: 2
B9: 変状 部位 | C9: 対象 箇所 | D9: 覆工・坑門 | M9: 変状 部位 | N9: 対象 箇所 | O9: 覆工・坑門
C11: 部位 区分 | D11: アーチ（左側） | N11: 部位 区分 | O11: アーチ（天端）
B13: 変状区分 | D13: 外力 | M13: 変状区分 | O13: 材質劣化
B14: 変状種類 | D14: ひび割れ | M14: 変状種類 | O14: うき・はく離
B15: 健全性 | C15: 応急措置前 | M15: 健全性 | N15: 応急措置前
C16: 応急措置後 | E16: Ⅱb | N16: 応急措置後 | P16: Ⅱa
B17: 変状の発生範囲の規模 | E17: 幅0.3mm未満 | M17: 変状の発生範囲の規模 | P17: 0.10m×0.10m
B18: 前回定期点検時の状態 | E18: ひび割れ 幅0.3mm以上 | M18: 前回定期点検時の状態 | P18: -
B19: 調査方針 | M19: 調査方針
B20: 対策履歴 | H20: 実施状況（実施日） | M20: 対策履歴 | S20: 実施状況（実施日）
B21: メモ | D21: 縦断方向のひび割れ(遊離石灰) | M21: メモ | O21: 補修跡うき
B22: 写真 番号 | C22: 覆工 スパン 番号 | D22: S35 | M22: 写真 番号 | N22: 覆工 スパン 番号 | O22: S35
C24: 変状 番号 | D24: 3 | N24: 変状 番号 | O24: 4
B26: 変状 部位 | C26: 対象 箇所 | D26: 覆工・坑門 | M26: 変状 部位 | N26: 対象 箇所 | O26: 覆工・坑門
C28: 部位 区分 | D28: アーチ（右側） | N28: 部位 区分 | O28: アーチ（天端）
B30: 変状区分 | D30: 外力 | M30: 変状区分 | O30: 漏水
B31: 変状種類 | D31: ひび割れ | M31: 変状種類 | O31: 漏水
B32: 健全性 | C32: 応急措置前 | M32: 健全性 | N32: 応急措置前
C33: 応急措置後 | E33: Ⅱb | N33: 応急措置後 | P33: Ⅱa
B34: 変状の発生範囲の規模 | E34: 幅0.7mm×長さ3.7m | M34: 変状の発生範囲の規模 | P34: 6.80m×0.50m
B35: 前回定期点検時の状態 | E35: ひび割れ 幅0.7mm | M35: 前回定期点検時の状態 | P35: -
B36: 調査方針 | M36: 調査方針
B37: 対策履歴 | H37: 実施状況（実施日） | M37: 対策履歴 | S37: 実施状況（実施日）
B38: メモ | D38: 縦断方向のひび割れ(にじみを伴う) | M38: メモ | O38: 滴水
C39: ※ 健全性（応急措置後）の判定区分Ⅱ～Ⅳについて添付すること。また、点検前に 実施された措置によりⅠと判定された箇所も添付すること。 | N39: ※ 変状の発生範囲の規模とは、対策を行う際に参考となる変状の長さや面積をいう。
N40: ※ 応急措置を実施しないで判定した変状の健全性は、健全性の応急措置後の欄に記入すること。
C41: ※ たたき落としを実施した場合は、実施後の写真を添付すること。 | N41: ※ 変状の発生範囲の規模は、面積・寸法を記載すること。
C42: ※ 附属物の取付状態に関する異常写真は別途、様式D-1-2でとりまとめること。 | N42: (ひび割れ幅のみmmとし、その他をm表記とする)
C43: ※ 変状数に準じてシートを追加すること。（１シートに１ページとすること。） | N43: ※ 構造用鋼材以外の異物に伴ううき・はく離については、メモ欄に異物の概要を記入すること。

Sheet 様式D-1-1(トンネル様式2P020)
B2: ■定期点検記録様式 変状写真台帳 | Y2: Ⅰ
B3: フリガナ | D3: トノミトンネル | H3: 路線名 | J3: 主要道路防府環状線 | M3: 定期点検業者 | P3: セントラルコンサルタント株式会社 | S3: 定期点検年月日 | U3: 44337 | Y3: Ⅱ
B4: 名 称 | D4: 富海トンネル | H4: 管理者名 | J4: 山口県防府土木建築事務所 | M4: 定期点検者名 | P4: 鹿子嶋 康博 | Y4: Ⅲ
B5: 写真 番号 | C5: 覆工 スパン 番号 | D5: S36 | M5: 写真 番号 | N5: 覆工 スパン 番号 | O5: S36 | Y5: Ⅳ
C7: 変状 番号 | D7: 1 | N7: 変状 番号 | O7: 2
B9: 変状 部位 | C9: 対象 箇所 | D9: 覆工・坑門 | M9: 変状 部位 | N9: 対象 箇所 | O9: 覆工・坑門
C11: 部位 区分 | D11: アーチ（左側） | N11: 部位 区分 | O11: アーチ（右側）
B13: 変状区分 | D13: 外力 | M13: 変状区分 | O13: 外力
B14: 変状種類 | D14: ひび割れ | M14: 変状種類 | O14: ひび割れ
B15: 健全性 | C15: 応急措置前 | M15: 健全性 | N15: 応急措置前
C16: 応急措置後 | E16: Ⅱb | N16: 応急措置後 | P16: Ⅱb
B17: 変状の発生範囲の規模 | E17: 幅2.0mm×長さ1.6m、他 | M17: 変状の発生範囲の規模 | P17: 幅1.１mm×長さ2.0m
B18: 前回定期点検時の状態 | E18: ひび割れ 幅2.0mm他 | M18: 前回定期点検時の状態 | P18: ひび割れ 幅1.1mm
B19: 調査方針 | M19: 調査方針
B20: 対策履歴 | H20: 実施状況（実施日） | M20: 対策履歴 | S20: 実施状況（実施日）
B21: メモ | D21: 縦断方向のひび割れ | M21: メモ | O21: 縦断方向のひび割れ(遊離石灰)
B22: 写真 番号 | C22: 覆工 スパン 番号 | D22: S36 | M22: 写真 番号 | N22: 覆工 スパン 番号 | O22: S37
C24: 変状 番号 | D24: 3 | N24: 変状 番号 | O24: 1
B26: 変状 部位 | C26: 対象 箇所 | D26: 路面 | M26: 変状 部位 | N26: 対象 箇所 | O26: 覆工・坑門
C28: 部位 区分 | D28: 側溝 | N28: 部位 区分 | O28: アーチ（左側）
B30: 変状区分 | D30: 漏水 | M30: 変状区分 | O30: 漏水
B31: 変状種類 | D31: その他 | M31: 変状種類 | O31: 漏水
B32: 健全性 | C32: 応急措置前 | M32: 健全性 | N32: 応急措置前
C33: 応急措置後 | E33: Ⅱb | N33: 応急措置後 | P33: Ⅱa
B34: 変状の発生範囲の規模 | E34: 0.50m×5.40m(t=30mm) | M34: 変状の発生範囲の規模 | P34: 4.90m×0.50m
B35: 前回定期点検時の状態 | E35: 沈砂 30mm | M35: 前回定期点検時の状態 | P35: -
B36: 調査方針 | M36: 調査方針
B37: 対策履歴 | H37: 実施状況（実施日） | M37: 対策履歴 | S37: 実施状況（実施日）
B38: メモ | D38: 土砂堆積 | M38: メモ | O38: 滴水
C39: ※ 健全性（応急措置後）の判定区分Ⅱ～Ⅳについて添付すること。また、点検前に 実施された措置によりⅠと判定された箇所も添付すること。 | N39: ※ 変状の発生範囲の規模とは、対策を行う際に参考となる変状の長さや面積をいう。
N40: ※ 応急措置を実施しないで判定した変状の健全性は、健全性の応急措置後の欄に記入すること。
C41: ※ たたき落としを実施した場合は、実施後の写真を添付すること。 | N41: ※ 変状の発生範囲の規模は、面積・寸法を記載すること。
C42: ※ 附属物の取付状態に関する異常写真は別途、様式D-1-2でとりまとめること。 | N42: (ひび割れ幅のみmmとし、その他をm表記とする)
C43: ※ 変状数に準じてシートを追加すること。（１シートに１ページとすること。） | N43: ※ 構造用鋼材以外の異物に伴ううき・はく離については、メモ欄に異物の概要を記入すること。

Sheet 様式D-1-1(トンネル様式2P021)
B2: ■定期点検記録様式 変状写真台帳 | Y2: Ⅰ
B3: フリガナ | D3: トノミトンネル | H3: 路線名 | J3: 主要道路防府環状線 | M3: 定期点検業者 | P3: セントラルコンサルタント株式会社 | S3: 定期点検年月日 | U3: 44337 | Y3: Ⅱ
B4: 名 称 | D4: 富海トンネル | H4: 管理者名 | J4: 山口県防府土木建築事務所 | M4: 定期点検者名 | P4: 鹿子嶋 康博 | Y4: Ⅲ
B5: 写真 番号 | C5: 覆工 スパン 番号 | D5: S37 | M5: 写真 番号 | N5: 覆工 スパン 番号 | O5: S37 | Y5: Ⅳ
C7: 変状 番号 | D7: 2 | N7: 変状 番号 | O7: 3
B9: 変状 部位 | C9: 対象 箇所 | D9: 覆工・坑門 | M9: 変状 部位 | N9: 対象 箇所 | O9: 覆工・坑門
C11: 部位 区分 | D11: アーチ（右側） | N11: 部位 区分 | O11: 横断目地（天端）
B13: 変状区分 | D13: 外力 | M13: 変状区分 | O13: 漏水
B14: 変状種類 | D14: ひび割れ | M14: 変状種類 | O14: 漏水
B15: 健全性 | C15: 応急措置前 | M15: 健全性 | N15: 応急措置前
C16: 応急措置後 | E16: Ⅱb | N16: 応急措置後 | P16: Ⅱb
B17: 変状の発生範囲の規模 | E17: 幅1.0mm×長さ1.8m、他 | M17: 変状の発生範囲の規模 | P17: 7.10m×0.50m
B18: 前回定期点検時の状態 | E18: ひび割れ 幅0.3mm以上 | M18: 前回定期点検時の状態 | P18: 滴水
B19: 調査方針 | M19: 調査方針
B20: 対策履歴 | H20: 実施状況（実施日） | M20: 対策履歴 | S20: 実施状況（実施日）
B21: メモ | D21: 縦断方向のひび割れ(遊離石灰) | M21: メモ | O21: 線導水からのにじみ
B22: 写真 番号 | C22: 覆工 スパン 番号 | D22: S38 | M22: 写真 番号 | N22: 覆工 スパン 番号 | O22: S38
C24: 変状 番号 | D24: 1 | N24: 変状 番号 | O24: 2
B26: 変状 部位 | C26: 対象 箇所 | D26: 覆工・坑門 | M26: 変状 部位 | N26: 対象 箇所 | O26: 覆工・坑門
C28: 部位 区分 | D28: アーチ（左側） | N28: 部位 区分 | O28: 横断目地（全周）
B30: 変状区分 | D30: 外力 | M30: 変状区分 | O30: 材質劣化
B31: 変状種類 | D31: ひび割れ | M31: 変状種類 | O31: 補強・補修材の破損
B32: 健全性 | C32: 応急措置前 | M32: 健全性 | N32: 応急措置前
C33: 応急措置後 | E33: Ⅱb | N33: 応急措置後 | P33: Ⅲ
B34: 変状の発生範囲の規模 | E34: 幅1.0mm×長さ3.2m | M34: 変状の発生範囲の規模 | P34: 14.40m×0.50m
B35: 前回定期点検時の状態 | E35: ひび割れ 幅1.0mm | M35: 前回定期点検時の状態 | P35: -
B36: 調査方針 | M36: 調査方針
B37: 対策履歴 | H37: 実施状況（実施日） | M37: 対策履歴 | S37: 実施状況（実施日）
B38: メモ | D38: 縦断方向のひび割れ(にじみ、遊離石灰) | M38: メモ | O38: 樋工アンカーナット腐食(全数)、アンカー脱落
C39: ※ 健全性（応急措置後）の判定区分Ⅱ～Ⅳについて添付すること。また、点検前に 実施された措置によりⅠと判定された箇所も添付すること。 | N39: ※ 変状の発生範囲の規模とは、対策を行う際に参考となる変状の長さや面積をいう。
N40: ※ 応急措置を実施しないで判定した変状の健全性は、健全性の応急措置後の欄に記入すること。
C41: ※ たたき落としを実施した場合は、実施後の写真を添付すること。 | N41: ※ 変状の発生範囲の規模は、面積・寸法を記載すること。
C42: ※ 附属物の取付状態に関する異常写真は別途、様式D-1-2でとりまとめること。 | N42: (ひび割れ幅のみmmとし、その他をm表記とする)
C43: ※ 変状数に準じてシートを追加すること。（１シートに１ページとすること。） | N43: ※ 構造用鋼材以外の異物に伴ううき・はく離については、メモ欄に異物の概要を記入すること。

Sheet 様式D-1-1(トンネル様式2P022)
B2: ■定期点検記録様式 変状写真台帳 | Y2: Ⅰ
B3: フリガナ | D3: トノミトンネル | H3: 路線名 | J3: 主要道路防府環状線 | M3: 定期点検業者 | P3: セントラルコンサルタント株式会社 | S3: 定期点検年月日 | U3: 44337 | Y3: Ⅱ
B4: 名 称 | D4: 富海トンネル | H4: 管理者名 | J4: 山口県防府土木建築事務所 | M4: 定期点検者名 | P4: 鹿子嶋 康博 | Y4: Ⅲ
B5: 写真 番号 | C5: 覆工 スパン 番号 | D5: S38 | M5: 写真 番号 | N5: 覆工 スパン 番号 | O5: S39 | Y5: Ⅳ
C7: 変状 番号 | D7: 3 | N7: 変状 番号 | O7: 1
B9: 変状 部位 | C9: 対象 箇所 | D9: 覆工・坑門 | M9: 変状 部位 | N9: 対象 箇所 | O9: 覆工・坑門
C11: 部位 区分 | D11: アーチ（右側） | N11: 部位 区分 | O11: 水平打ち継ぎ目（左側）
B13: 変状区分 | D13: 外力 | M13: 変状区分 | O13: 漏水
B14: 変状種類 | D14: ひび割れ | M14: 変状種類 | O14: 漏水
B15: 健全性 | C15: 応急措置前 | M15: 健全性 | N15: 応急措置前
C16: 応急措置後 | E16: Ⅱb | N16: 応急措置後 | P16: Ⅱb
B17: 変状の発生範囲の規模 | E17: 幅0.9mm×長さ3.8m | M17: 変状の発生範囲の規模 | P17: 3.40m×1.60m
B18: 前回定期点検時の状態 | E18: ひび割れ 幅0.9mm | M18: 前回定期点検時の状態 | P18: にじみ
B19: 調査方針 | M19: 調査方針
B20: 対策履歴 | H20: 実施状況（実施日） | M20: 対策履歴 | S20: 実施状況（実施日）
B21: メモ | D21: 縦断方向のひび割れ(にじみを伴う) | M21: メモ | O21: にじみ
B22: 写真 番号 | C22: 覆工 スパン 番号 | D22: S39 | M22: 写真 番号 | N22: 覆工 スパン 番号 | O22: S39
C24: 変状 番号 | D24: 2 | N24: 変状 番号 | O24: 3
B26: 変状 部位 | C26: 対象 箇所 | D26: 覆工・坑門 | M26: 変状 部位 | N26: 対象 箇所 | O26: 覆工・坑門
C28: 部位 区分 | D28: アーチ（左側） | N28: 部位 区分 | O28: 横断目地（左側）
B30: 変状区分 | D30: 外力 | M30: 変状区分 | O30: 材質劣化
B31: 変状種類 | D31: ひび割れ | M31: 変状種類 | O31: 補強・補修材の破損
B32: 健全性 | C32: 応急措置前 | M32: 健全性 | N32: 応急措置前
C33: 応急措置後 | E33: Ⅱb | N33: 応急措置後 | P33: Ⅲ
B34: 変状の発生範囲の規模 | E34: 幅1.2mm×長さ1.9m、他 | M34: 変状の発生範囲の規模 | P34: 7.30m×0.40m
B35: 前回定期点検時の状態 | E35: ひび割れ 幅1.2mm他 | M35: 前回定期点検時の状態 | P35: -
B36: 調査方針 | M36: 調査方針
B37: 対策履歴 | H37: 実施状況（実施日） | M37: 対策履歴 | S37: 実施状況（実施日）
B38: メモ | D38: 縦断方向のひび割れ | M38: メモ | O38: 樋工アンカーナット腐食(全数)
C39: ※ 健全性（応急措置後）の判定区分Ⅱ～Ⅳについて添付すること。また、点検前に 実施された措置によりⅠと判定された箇所も添付すること。 | N39: ※ 変状の発生範囲の規模とは、対策を行う際に参考となる変状の長さや面積をいう。
N40: ※ 応急措置を実施しないで判定した変状の健全性は、健全性の応急措置後の欄に記入すること。
C41: ※ たたき落としを実施した場合は、実施後の写真を添付すること。 | N41: ※ 変状の発生範囲の規模は、面積・寸法を記載すること。
C42: ※ 附属物の取付状態に関する異常写真は別途、様式D-1-2でとりまとめること。 | N42: (ひび割れ幅のみmmとし、その他をm表記とする)
C43: ※ 変状数に準じてシートを追加すること。（１シートに１ページとすること。） | N43: ※ 構造用鋼材以外の異物に伴ううき・はく離については、メモ欄に異物の概要を記入すること。

Sheet 様式D-1-1(トンネル様式2P023)
B2: ■定期点検記録様式 変状写真台帳 | Y2: Ⅰ
B3: フリガナ | D3: トノミトンネル | H3: 路線名 | J3: 主要道路防府環状線 | M3: 定期点検業者 | P3: セントラルコンサルタント株式会社 | S3: 定期点検年月日 | U3: 44337 | Y3: Ⅱ
B4: 名 称 | D4: 富海トンネル | H4: 管理者名 | J4: 山口県防府土木建築事務所 | M4: 定期点検者名 | P4: 鹿子嶋 康博 | Y4: Ⅲ
B5: 写真 番号 | C5: 覆工 スパン 番号 | D5: S40 | M5: 写真 番号 | N5: 覆工 スパン 番号 | O5: S40 | Y5: Ⅳ
C7: 変状 番号 | D7: 1 | N7: 変状 番号 | O7: 2
B9: 変状 部位 | C9: 対象 箇所 | D9: 覆工・坑門 | M9: 変状 部位 | N9: 対象 箇所 | O9: 覆工・坑門
C11: 部位 区分 | D11: 側壁（左側） | N11: 部位 区分 | O11: 横断目地（左側）
B13: 変状区分 | D13: 外力 | M13: 変状区分 | O13: 材質劣化
B14: 変状種類 | D14: ひび割れ | M14: 変状種類 | O14: 補強・補修材の破損
B15: 健全性 | C15: 応急措置前 | M15: 健全性 | N15: 応急措置前
C16: 応急措置後 | E16: Ⅱb | N16: 応急措置後 | P16: Ⅲ
B17: 変状の発生範囲の規模 | E17: 幅0.5mm×長さ1.0m、他 | M17: 変状の発生範囲の規模 | P17: 7.30m×0.40m
B18: 前回定期点検時の状態 | E18: ひび割れ 幅1.2mm他 | M18: 前回定期点検時の状態 | P18: -
B19: 調査方針 | M19: 調査方針
B20: 対策履歴 | H20: 実施状況（実施日） | M20: 対策履歴 | S20: 実施状況（実施日）
B21: メモ | D21: 横断方向のひび割れ | M21: メモ | O21: 樋工アンカーナット腐食(全数)
B22: 写真 番号 | C22: 覆工 スパン 番号 | D22: S41 | M22: 写真 番号 | N22: 覆工 スパン 番号 | O22: S41
C24: 変状 番号 | D24: 1 | N24: 変状 番号 | O24: 2
B26: 変状 部位 | C26: 対象 箇所 | D26: 覆工・坑門 | M26: 変状 部位 | N26: 対象 箇所 | O26: 覆工・坑門
C28: 部位 区分 | D28: 横断目地（左側） | N28: 部位 区分 | O28: アーチ（右側）
B30: 変状区分 | D30: 材質劣化 | M30: 変状区分 | O30: 外力
B31: 変状種類 | D31: 補強・補修材の破損 | M31: 変状種類 | O31: ひび割れ
B32: 健全性 | C32: 応急措置前 | M32: 健全性 | N32: 応急措置前
C33: 応急措置後 | E33: Ⅲ | N33: 応急措置後 | P33: Ⅱb
B34: 変状の発生範囲の規模 | E34: 7.20m×0.40m | M34: 変状の発生範囲の規模 | P34: 幅0.4mm×長さ2.4m
B35: 前回定期点検時の状態 | E35: - | M35: 前回定期点検時の状態 | P35: ひび割れ 幅0.4mm
B36: 調査方針 | M36: 調査方針
B37: 対策履歴 | H37: 実施状況（実施日） | M37: 対策履歴 | S37: 実施状況（実施日）
B38: メモ | D38: 樋工アンカーナット腐食(全数) | M38: メモ | O38: 縦断方向のひび割れ(遊離石灰)
C39: ※ 健全性（応急措置後）の判定区分Ⅱ～Ⅳについて添付すること。また、点検前に 実施された措置によりⅠと判定された箇所も添付すること。 | N39: ※ 変状の発生範囲の規模とは、対策を行う際に参考となる変状の長さや面積をいう。
N40: ※ 応急措置を実施しないで判定した変状の健全性は、健全性の応急措置後の欄に記入すること。
C41: ※ たたき落としを実施した場合は、実施後の写真を添付すること。 | N41: ※ 変状の発生範囲の規模は、面積・寸法を記載すること。
C42: ※ 附属物の取付状態に関する異常写真は別途、様式D-1-2でとりまとめること。 | N42: (ひび割れ幅のみmmとし、その他をm表記とする)
C43: ※ 変状数に準じてシートを追加すること。（１シートに１ページとすること。） | N43: ※ 構造用鋼材以外の異物に伴ううき・はく離については、メモ欄に異物の概要を記入すること。

Sheet 様式D-1-1(トンネル様式2P024)
B2: ■定期点検記録様式 変状写真台帳 | Y2: Ⅰ
B3: フリガナ | D3: トノミトンネル | H3: 路線名 | J3: 主要道路防府環状線 | M3: 定期点検業者 | P3: セントラルコンサルタント株式会社 | S3: 定期点検年月日 | U3: 44337 | Y3: Ⅱ
B4: 名 称 | D4: 富海トンネル | H4: 管理者名 | J4: 山口県防府土木建築事務所 | M4: 定期点検者名 | P4: 鹿子嶋 康博 | Y4: Ⅲ
B5: 写真 番号 | C5: 覆工 スパン 番号 | D5: S42 | M5: 写真 番号 | N5: 覆工 スパン 番号 | O5: S42 | Y5: Ⅳ
C7: 変状 番号 | D7: 1 | N7: 変状 番号 | O7: 2
B9: 変状 部位 | C9: 対象 箇所 | D9: 覆工・坑門 | M9: 変状 部位 | N9: 対象 箇所 | O9: 覆工・坑門
C11: 部位 区分 | D11: アーチ（左側） | N11: 部位 区分 | O11: 横断目地（右側）
B13: 変状区分 | D13: 材質劣化 | M13: 変状区分 | O13: 漏水
B14: 変状種類 | D14: うき・はく離 | M14: 変状種類 | O14: 漏水
B15: 健全性 | C15: 応急措置前 | M15: 健全性 | N15: 応急措置前
C16: 応急措置後 | E16: Ⅱb | N16: 応急措置後 | P16: Ⅱb
B17: 変状の発生範囲の規模 | E17: 0.10m×0.90m | M17: 変状の発生範囲の規模 | P17: 3.50m×0.50m
B18: 前回定期点検時の状態 | E18: 豆板 150mm×900mm | M18: 前回定期点検時の状態 | P18: にじみ
B19: 調査方針 | M19: 調査方針
B20: 対策履歴 | H20: 実施状況（実施日） | M20: 対策履歴 | S20: 実施状況（実施日）
B21: メモ | D21: 豆板 | M21: メモ | O21: にじみ
B22: 写真 番号 | C22: 覆工 スパン 番号 | D22: S43 | M22: 写真 番号 | N22: 覆工 スパン 番号 | O22: S44
C24: 変状 番号 | D24: 1 | N24: 変状 番号 | O24: 1
B26: 変状 部位 | C26: 対象 箇所 | D26: 覆工・坑門 | M26: 変状 部位 | N26: 対象 箇所 | O26: 覆工・坑門
C28: 部位 区分 | D28: 横断目地（天端） | N28: 部位 区分 | O28: アーチ（天端）
B30: 変状区分 | D30: 漏水 | M30: 変状区分 | O30: 漏水
B31: 変状種類 | D31: 漏水 | M31: 変状種類 | O31: 漏水
B32: 健全性 | C32: 応急措置前 | M32: 健全性 | N32: 応急措置前
C33: 応急措置後 | E33: Ⅱb | N33: 応急措置後 | P33: Ⅱa
B34: 変状の発生範囲の規模 | E34: 7.70m×0.50m | M34: 変状の発生範囲の規模 | P34: 18.00m×0.50m(400ml/分)
B35: 前回定期点検時の状態 | E35: - | M35: 前回定期点検時の状態 | P35: -
B36: 調査方針 | M36: 調査方針
B37: 対策履歴 | H37: 実施状況（実施日） | M37: 対策履歴 | S37: 実施状況（実施日）
B38: メモ | D38: にじみ | M38: メモ | O38: 滴水
C39: ※ 健全性（応急措置後）の判定区分Ⅱ～Ⅳについて添付すること。また、点検前に 実施された措置によりⅠと判定された箇所も添付すること。 | N39: ※ 変状の発生範囲の規模とは、対策を行う際に参考となる変状の長さや面積をいう。
N40: ※ 応急措置を実施しないで判定した変状の健全性は、健全性の応急措置後の欄に記入すること。
C41: ※ たたき落としを実施した場合は、実施後の写真を添付すること。 | N41: ※ 変状の発生範囲の規模は、面積・寸法を記載すること。
C42: ※ 附属物の取付状態に関する異常写真は別途、様式D-1-2でとりまとめること。 | N42: (ひび割れ幅のみmmとし、その他をm表記とする)
C43: ※ 変状数に準じてシートを追加すること。（１シートに１ページとすること。） | N43: ※ 構造用鋼材以外の異物に伴ううき・はく離については、メモ欄に異物の概要を記入すること。

Sheet 様式D-1-2(P001)
B2: ■定期点検記録様式 異常写真台帳（トンネル内附属物等の取付状態） 【様式D-1-2】
B3: フリガナ | E3: トノミトンネル | I3: 路 線 名 | L3: 主要道路防府環状線 | O3: 定期点検業者 | R3: セントラルコンサルタント株式会社 | U3: 定期点検年月日 | W3: 44337
B4: 名 称 | E4: 富海トンネル | I4: 管理者名 | L4: 山口県防府土木建築事務所 | O4: 定期点検者名 | R4: 鹿子嶋 康博
B5: 覆工スパン番号 | E5: PS | F5: 異常番号 | I5: 1 | J5: 覆工スパン番号 | M5: S011 | N5: 異常番号 | Q5: 1 | R5: 覆工スパン番号 | U5: S012 | V5: 異常番号 | Y5: 1
B6: 対象箇所 | D6: その他施設 | E6: その他 | G6: 部位区分 | I6: 附属物本体 | J6: 対象箇所 | L6: その他施設 | M6: 内装板取付部材 | O6: 部位区分 | Q6: 取付部材 | R6: 対象箇所 | T6: その他施設 | U6: 内装板取付部材 | W6: 部位区分 | Y6: 取付部材
B7: 異常の種類 | D7: 変形，欠損 | J7: 異常の種類 | L7: 前回異常個所（金具(本体含む)破損） | R7: 異常の種類 | T7: 前回異常個所(内装板金具(本体含む)破損)
B8: 異常判定区分 | D8: × | E8: メモ | F8: 保護板接触変形 | J8: 異常判定区分 | L8: ○ | M8: メモ | N8: 金具(本体含む)破損交換済み | R8: 異常判定区分 | T8: ○ | U8: メモ | V8: 内装板金具(本体含む)破損交換済み
B22: 覆工スパン番号 | E22: S013 | F22: 異常番号 | I22: 1 | J22: 覆工スパン番号 | M22: S013 | N22: 異常番号 | Q22: 2 | R22: 覆工スパン番号 | U22: S013 | V22: 異常番号 | Y22: 3
B23: 対象箇所 | D23: その他施設 | E23: 内装板取付部材 | G23: 部位区分 | I23: 取付部材 | J23: 対象箇所 | L23: 照明施設 | M23: ケーブル類 | O23: 部位区分 | Q23: 取付部材 | R23: 対象箇所 | T23: その他施設 | U23: 内装板取付部材 | W23: 部位区分 | Y23: 取付部材
B24: 異常の種類 | D24: 前回異常個所(内装板金具破損) | J24: 異常の種類 | L24: 緩み，脱落 | R24: 異常の種類 | T24: 前回異常個所(内装板金具破損)
B25: 異常判定区分 | D25: ○ | E25: メモ | F25: 内装板金具破損交換済み | J25: 異常判定区分 | L25: × | M25: メモ | N25: ﾋﾞｽ脱落(応急処置済み) | R25: 異常判定区分 | T25: ○ | U25: メモ | V25: 内装板金具破損交換済み
B39: 覆工スパン番号 | E39: S023 | F39: 異常番号 | I39: 1 | J39: 覆工スパン番号 | M39: S023 | N39: 異常番号 | Q39: 2 | R39: 覆工スパン番号 | U39: S031 | V39: 異常番号 | Y39: 1
B40: 対象箇所 | D40: その他施設 | E40: 内装板取付部材 | G40: 部位区分 | I40: 取付部材 | J40: 対象箇所 | L40: その他施設 | M40: 内装板取付部材 | O40: 部位区分 | Q40: 取付部材 | R40: 対象箇所 | T40: その他施設 | U40: 内装板取付部材 | W40: 部位区分 | Y40: 取付部材
B41: 異常の種類 | D41: 前回異常個所(内装板金具破損) | J41: 異常の種類 | L41: 前回異常個所(内装板金具(本体含む)破損) | R41: 異常の種類 | T41: 前回異常個所(内装板金具(本体含む)破損)
B42: 異常判定区分 | D42: ○ | E42: メモ | F42: 内装板金具破損交換済み | J42: 異常判定区分 | L42: ○ | M42: メモ | N42: 内装板金具(本体含む)破損交換済み | R42: 異常判定区分 | T42: ○ | U42: メモ | V42: 内装板金具(本体含む)破損交換済み
D56: ※ 異常判定区分×について記入すること。また、応急措置前に異常判定区分×とした箇所のうち応急措置により○と判定した箇所も記入すること。
D57: ※ 応急措置を実施した場合は、その実施状況が分かる写真を添付すること。
D58: ※ 画像データは100kb程度とする。 | L58: ※ 変状数に準じてシートを追加すること。（１シートに１ページとすること。）

Sheet 様式D-1-2(P002)
B2: ■定期点検記録様式 異常写真台帳（トンネル内附属物等の取付状態） 【様式D-1-2】
B3: フリガナ | E3: トノミトンネル | I3: 路 線 名 | L3: 主要道路防府環状線 | O3: 定期点検業者 | R3: セントラルコンサルタント株式会社 | U3: 定期点検年月日 | W3: 44337
B4: 名 称 | E4: 富海トンネル | I4: 管理者名 | L4: 山口県防府土木建築事務所 | O4: 定期点検者名 | R4: 鹿子嶋 康博
B5: 覆工スパン番号 | E5: S032 | F5: 異常番号 | I5: 1 | J5: 覆工スパン番号 | M5: S040 | N5: 異常番号 | Q5: 1 | R5: 覆工スパン番号 | V5: 異常番号
B6: 対象箇所 | D6: その他施設 | E6: 内装板取付部材 | G6: 部位区分 | I6: 取付部材 | J6: 対象箇所 | L6: その他施設 | M6: 内装板取付部材 | O6: 部位区分 | Q6: 取付部材 | R6: 対象箇所 | W6: 部位区分
B7: 異常の種類 | D7: 前回異常個所(内装板金具破損) | J7: 異常の種類 | L7: 前回異常個所(内装板金具(本体含む)破損) | R7: 異常の種類
B8: 異常判定区分 | D8: ○ | E8: メモ | F8: 内装板金具破損交換済み | J8: 異常判定区分 | L8: ○ | M8: メモ | N8: 内装板金具(本体含む)破損交換済み | R8: 異常判定区分 | U8: メモ
B22: 覆工スパン番号 | F22: 異常番号 | J22: 覆工スパン番号 | N22: 異常番号 | R22: 覆工スパン番号 | V22: 異常番号
B23: 対象箇所 | G23: 部位区分 | J23: 対象箇所 | O23: 部位区分 | R23: 対象箇所 | W23: 部位区分
B24: 異常の種類 | J24: 異常の種類 | R24: 異常の種類
B25: 異常判定区分 | E25: メモ | J25: 異常判定区分 | M25: メモ | R25: 異常判定区分 | U25: メモ
B39: 覆工スパン番号 | F39: 異常番号 | J39: 覆工スパン番号 | N39: 異常番号 | R39: 覆工スパン番号 | V39: 異常番号
B40: 対象箇所 | G40: 部位区分 | J40: 対象箇所 | O40: 部位区分 | R40: 対象箇所 | W40: 部位区分
B41: 異常の種類 | J41: 異常の種類 | R41: 異常の種類
B42: 異常判定区分 | E42: メモ | J42: 異常判定区分 | M42: メモ | R42: 異常判定区分 | U42: メモ
D56: ※ 異常判定区分×について記入すること。また、応急措置前に異常判定区分×とした箇所のうち応急措置により○と判定した箇所も記入すること。
D57: ※ 応急措置を実施した場合は、その実施状況が分かる写真を添付すること。
D58: ※ 画像データは100kb程度とする。 | L58: ※ 変状数に準じてシートを追加すること。（１シートに１ページとすること。）

Sheet 様式D-2-1
B3: ■定期点検記録様式 トンネル全体変状展開図 【様式D-2-1】
B4: フリガナ | E4: トノミトンネル | J4: 路線名 | M4: 主要道路防府環状線 | S4: 定期点検業者 | W4: セントラルコンサルタント株式会社 | AC4: 定期点検年月日 | AF4: 44337
B5: 名 称 | E5: 富海トンネル | J5: 管理者名 | M5: 山口県防府土木建築事務所 | S5: 定期点検者名 | W5: 鹿子嶋 康博
B6: トンネル変状展開図 | C6: トンネル全体変状展開図
S18: 注１：本展開図は、見下げた状態で記載すること。 注２：覆工スパン番号は横断目地毎（矢板工法の場合は上半アーチの横断目地毎)に 設定すること。 注３：横断目地の変状は前の覆工スパン番号で計上すること。 注４：１枚に収まらない場合は、複数枚に分けて作成すること。 注５：覆工写真の画像サイズは500kb程度とすること。
B20: ■定期点検記録様式 トンネル全体変状展開図 【様式D-2-1】
B21: フリガナ | E21: トノミトンネル | J21: 路線名 | M21: 主要道路防府環状線 | S21: 定期点検業者 | W21: セントラルコンサルタント株式会社 | AC21: 定期点検年月日 | AF21: 44337
B22: 名 称 | E22: 富海トンネル | J22: 管理者名 | M22: 山口県防府土木建築事務所 | S22: 定期点検者名 | W22: 鹿子嶋 康博
B23: トンネル変状展開図 | C23: トンネル全体変状展開図
S35: 注１：本展開図は、見下げた状態で記載すること。 注２：覆工スパン番号は横断目地毎（矢板工法の場合は上半アーチの横断目地毎)に 設定すること。 注３：横断目地の変状は前の覆工スパン番号で計上すること。 注４：１枚に収まらない場合は、複数枚に分けて作成すること。 注５：覆工写真の画像サイズは500kb程度とすること。
B37: ■定期点検記録様式 トンネル全体変状展開図 【様式D-2-1】
B38: フリガナ | E38: トノミトンネル | J38: 路線名 | M38: 主要道路防府環状線 | S38: 定期点検業者 | W38: セントラルコンサルタント株式会社 | AC38: 定期点検年月日 | AF38: 44337
B39: 名 称 | E39: 富海トンネル | J39: 管理者名 | M39: 山口県防府土木建築事務所 | S39: 定期点検者名 | W39: 鹿子嶋 康博
B40: トンネル変状展開図 | C40: トンネル全体変状展開図
S52: 注１：本展開図は、見下げた状態で記載すること。 注２：覆工スパン番号は横断目地毎（矢板工法の場合は上半アーチの横断目地毎)に 設定すること。 注３：横断目地の変状は前の覆工スパン番号で計上すること。 注４：１枚に収まらない場合は、複数枚に分けて作成すること。 注５：覆工写真の画像サイズは500kb程度とすること。

Sheet 様式D-2-1′
B3: ■定期点検記録様式 トンネル全体変状展開図（機器の活用時） 【様式D-2-1’】
B4: フリガナ | E4: トノミトンネル | J4: 路線名 | M4: 主要道路防府環状線 | S4: 定期点検業者 | W4: セントラルコンサルタント株式会社 | AC4: 定期点検年月日 | AF4: 44337
B5: 名 称 | E5: 富海トンネル | J5: 管理者名 | M5: 山口県防府土木建築事務所 | S5: 定期点検者名 | W5: 鹿子嶋 康博
B6: トンネル変状展開図 | C6: トンネル全体変状展開図
S18: 注１：本展開図は、見下げた状態で記載すること。 注２：覆工スパン番号は横断目地毎（矢板工法の場合は上半アーチの横断目地毎)に 設定すること。 注３：横断目地の変状は前の覆工スパン番号で計上すること。 注４：１枚に収まらない場合は、複数枚に分けて作成すること。 注５：覆工写真の画像サイズは500kb程度とすること。
B20: ■定期点検記録様式 トンネル全体変状展開図（機器の活用時） 【様式D-2-1’】
B21: フリガナ | E21: トノミトンネル | J21: 路線名 | M21: 主要道路防府環状線 | S21: 定期点検業者 | W21: セントラルコンサルタント株式会社 | AC21: 定期点検年月日 | AF21: 44337
B22: 名 称 | E22: 富海トンネル | J22: 管理者名 | M22: 山口県防府土木建築事務所 | S22: 定期点検者名 | W22: 鹿子嶋 康博
B23: トンネル変状展開図 | C23: トンネル全体変状展開図
S35: 注１：本展開図は、見下げた状態で記載すること。 注２：覆工スパン番号は横断目地毎（矢板工法の場合は上半アーチの横断目地毎)に 設定すること。 注３：横断目地の変状は前の覆工スパン番号で計上すること。 注４：１枚に収まらない場合は、複数枚に分けて作成すること。 注５：覆工写真の画像サイズは500kb程度とすること。
B37: ■定期点検記録様式 トンネル全体変状展開図（機器の活用時） 【様式D-2-1’】
B38: フリガナ | E38: トノミトンネル | J38: 路線名 | M38: 主要道路防府環状線 | S38: 定期点検業者 | W38: セントラルコンサルタント株式会社 | AC38: 定期点検年月日 | AF38: 44337
B39: 名 称 | E39: 富海トンネル | J39: 管理者名 | M39: 山口県防府土木建築事務所 | S39: 定期点検者名 | W39: 鹿子嶋 康博
B40: トンネル変状展開図 | C40: トンネル全体変状展開図
S52: 注１：本展開図は、見下げた状態で記載すること。 注２：覆工スパン番号は横断目地毎（矢板工法の場合は上半アーチの横断目地毎)に 設定すること。 注３：横断目地の変状は前の覆工スパン番号で計上すること。 注４：１枚に収まらない場合は、複数枚に分けて作成すること。 注５：覆工写真の画像サイズは500kb程度とすること。

Sheet 様式D-3_PS
AU1: 様式E-1リンク用→ | AV1: 覆工ｽﾊﾟﾝ 番号 | AW1: ｽﾊﾟﾝ 長 (m) | AX1: 変状数集計 | BS1: 覆工スパン毎の 健全性の診断 | BW1: 変状規模集計
AX2: 対策区分毎の変状数 | BJ2: 健全性の判定区分毎の変状数 | BW2: 覆工スパン長(m) | CA2: 対策区分毎の変状の発生範囲の規模(㎡）
B3: ■定期点検記録様式 覆工スパン別変状詳細展開図 【様式D-3】 | AX3: 外力 | BB3: 材質劣化 | BF3: 漏水 | BJ3: 外力 | BM3: 材質劣化 | BP3: 漏水 | BS3: 外力 | BT3: 材質劣化 | BU3: 漏水 | BV3: 健全性 | BW3: 外力※１ | CA3: 材質劣化 | CE3: 漏水
B4: フリガナ | E4: トノミトンネル | K4: 路線名 | N4: 主要道路防府環状線 | T4: 定期点検業者 | Y4: セントラルコンサルタント株式会社 | AG4: 定期点検年月日 | AK4: 44337 | AX4: Ⅳ | AY4: Ⅲ | AZ4: Ⅱa | BA4: Ⅱb | BB4: Ⅳ | BC4: Ⅲ | BD4: Ⅱa | BE4: Ⅱb | BF4: Ⅳ | BG4: Ⅲ | BH4: Ⅱa | BI4: Ⅱb | BJ4: Ⅳ | BK4: Ⅲ | BL4: Ⅱ | BM4: Ⅳ | BN4: Ⅲ | BO4: Ⅱ | BP4: Ⅳ | BQ4: Ⅲ | BR4: Ⅱ | BW4: Ⅳ | BX4: Ⅲ | BY4: Ⅱa | BZ4: Ⅱb | CA4: Ⅳ | CB4: Ⅲ | CC4: Ⅱa | CD4: Ⅱb | CE4: Ⅳ | CF4: Ⅲ | CG4: Ⅱa | CH4: Ⅱb
B5: 名 称 | E5: 富海トンネル | K5: 管理者名 | N5: 山口県防府土木建築事務所 | T5: 定期点検者名 | Y5: 鹿子嶋 康博 | AV5: =N7 -> PS | AW5: =R7 -> 0 | AX5: =+Y32 -> 0 | AY5: =+Z32 -> 0 | AZ5: =+AA32 -> 0 | BA5: =+AB32 -> 0 | BB5: =+AC32 -> 0 | BC5: =+AD32 -> 0 | BD5: =+AE32 -> 0 | BE5: =+AF32 -> 0 | ... BI5: =+AJ32 -> 0 | BJ5: =+Y35 | BK5: =+Z35 | BL5: =+AA35 | BM5: =+AC35 -> 0 | BN5: =+AD35 -> 0 | BO5: =+AE35 -> 0 | BP5: =+AG35 -> 0 | BQ5: =+AH35 -> 0 | BR5: =+AI35 -> 0 | BS5: =+Y36 -> Ⅰ | BT5: =+AC36 -> Ⅰ | BU5: =+AG36 -> Ⅰ | BV5: =+Y37 -> Ⅰ | BW5: =IF(Y32>0,$R$7,"") | BX5: =IF(Z32>0,"",IF(AA32>0,$R$7,"")) | BY5: =IF(Y32+Z32>0,"",IF(AA32>0,$R$7,"")) | BZ5: =IF(Y32+Z32+AA32>0,"",IF(AB32>0,$R$7,"")) | CA5: =+AC31 -> 0 | CB5: =+AD31 -> 0 | CC5: =+AE31 -> 0 | CD5: =+AF31 -> 0 | CE5: =+AG31 -> 0 | CF5: =+AH31 -> 0 | CG5: =+AI31 -> 0 | CH5: =+AJ31 -> 0
B6: スパン別変状展開図 | K6: 【健全性判定集計表】
K7: スパン番号 | N7: PS | P7: スパン長 | R7: 0 | U7: 前回定期点検時の健全性 | W7: 応急措置前の判定 | Y7: 対策区分毎の 変状の有無 | AC7: 対策区分毎の変状の発生範囲の規模(㎡) | AK7: 備考注2
K8: 変状番号 | L8: 対象箇所 | N8: 部位区分 | P8: 変状区分 | R8: 変状種類
Y9: 外力注1 | AC9: 材質劣化注1 | AG9: 漏水注1
Y10: Ⅳ | Z10: Ⅲ | AA10: Ⅱa | AB10: Ⅱb | AC10: Ⅳ | AD10: Ⅲ | AE10: Ⅱa | AF10: Ⅱb | AG10: Ⅳ | AH10: Ⅲ | AI10: Ⅱa | AJ10: Ⅱb
AQ11: =IF(P11="材質劣化",2,IF(P11="漏水",3,1)) -> 1
AQ12: =IF(P12="材質劣化",2,IF(P12="漏水",3,1)) -> 1
AQ13: =IF(P13="材質劣化",2,IF(P13="漏水",3,1)) -> 1
AQ14: =IF(P14="材質劣化",2,IF(P14="漏水",3,1)) -> 1
AQ15: =IF(P15="材質劣化",2,IF(P15="漏水",3,1)) -> 1
AQ16: =IF(P16="材質劣化",2,IF(P16="漏水",3,1)) -> 1
AQ17: =IF(P17="材質劣化",2,IF(P17="漏水",3,1)) -> 1
AQ18: =IF(P18="材質劣化",2,IF(P18="漏水",3,1)) -> 1
AQ19: =IF(P19="材質劣化",2,IF(P19="漏水",3,1)) -> 1
AQ20: =IF(P20="材質劣化",2,IF(P20="漏水",3,1)) -> 1
AQ21: =IF(P21="材質劣化",2,IF(P21="漏水",3,1)) -> 1
AQ22: =IF(P22="材質劣化",2,IF(P22="漏水",3,1)) -> 1
... AQ30: =IF(P30="材質劣化",2,IF(P30="漏水",3,1)) -> 1
K31: 集計 ・ 判定 ・ 診断 | L31: 変状の発生規模合計(㎡) | Y31: － | AC31: =SUM(AC11:AC30) -> 0 | AD31: =SUM(AD11:AD30) -> 0 | AE31: =SUM(AE11:AE30) -> 0 | AF31: =SUM(AF11:AF30) -> 0 | AG31: =SUM(AG11:AG30) -> 0 | AH31: =SUM(AH11:AH30) -> 0 | AI31: =SUM(AI11:AI30) -> 0 | AJ31: =SUM(AJ11:AJ30) -> 0 | AK31: 計
L32: 対策区分の 判定結果 | O32: 判定区分毎の変状数 | Y32: =COUNTIF(Y11:Y30,"○") -> 0 | Z32: =COUNTIF(Z11:Z30,"○") -> 0 | AA32: =COUNTIF(AA11:AA30,"○") -> 0 | AB32: =COUNTIF(AB11:AB30,"○") -> 0 | AC32: =COUNT(AC11:AC30) -> 0 | AD32: =COUNT(AD11:AD30) -> 0 | AE32: =COUNT(AE11:AE30) -> 0 | AF32: =COUNT(AF11:AF30) -> 0 | AG32: =COUNT(AG11:AG30) -> 0 | AH32: =COUNT(AH11:AH30) -> 0 | AI32: =COUNT(AI11:AI30) -> 0 | AJ32: =COUNT(AJ11:AJ30) -> 0
O33: 変状区分毎の判定区分注3 | Y33: =IF(Y32>0,"Ⅳ",IF(Z32>0,"Ⅲ",IF(AA32>0,"Ⅱa",IF(AB32>0,"Ⅱb","Ⅰ")))) -> Ⅰ | AC33: =IF(AC32>0,"Ⅳ",IF(AD32>0,"Ⅲ",IF(AE32>0,"Ⅱa",IF(AF32>0,"Ⅱb","Ⅰ")))) -> Ⅰ | AG33: =IF(AG32>0,"Ⅳ",IF(AH32>0,"Ⅲ",IF(AI32>0,"Ⅱa",IF(AJ32>0,"Ⅱb","Ⅰ")))) -> Ⅰ | AQ33: Ⅳ | AR33: Ⅲ | AS33: Ⅱ
L34: 健全性の 診断結果 | O34: 判定区分 | Y34: Ⅳ | Z34: Ⅲ | AA34: Ⅱ | AC34: Ⅳ | AD34: Ⅲ | AE34: Ⅱ | AG34: Ⅳ | AH34: Ⅲ | AI34: Ⅱ | AQ34: =+Y32+Z32 -> 0 | AS34: =+AA32+AB32 -> 0
O35: 判定区分毎の変状数注4 | Y35: =IF(Y32=0,"",1) | Z35: =IF(Z32=0,"",1) | AA35: =IF(AQ34=1,"",IF(AS34>0,1,"")) | AC35: =+AC32 -> 0 | AD35: =AD32 -> 0 | AE35: =AE32+AF32 -> 0 | AG35: =AG32 -> 0 | AH35: =AH32 -> 0 | AI35: =AI32+AJ32 -> 0 | AQ35: =+Y32+AC35+AG35 -> 0 | AR35: =+Z32+AD35+AH35 -> 0 | AS35: =+AS34+AE35+AI35 -> 0
O36: 変状区分毎の判定区分注4 | Y36: =IF(Y35=1,"Ⅳ",IF(Z35=1,"Ⅲ",IF(AA35=1,"Ⅱ","Ⅰ"))) -> Ⅰ | AC36: =IF(AC35>0,"Ⅳ",IF(AD35>0,"Ⅲ",IF(AE35>0,"Ⅱ","Ⅰ"))) -> Ⅰ | AG36: =IF(AG35>0,"Ⅳ",IF(AH35>0,"Ⅲ",IF(AI35>0,"Ⅱ","Ⅰ"))) -> Ⅰ | AQ36: =IF(AQ35>0,"Ⅳ",IF(AR35>0,"Ⅲ",IF(AS35>0,"Ⅱ","Ⅰ"))) -> Ⅰ
O37: 覆工スパン単位の判定区分注5 | Y37: =IF(OR(Y36="Ⅳ",AC36="Ⅳ",AG36="Ⅳ"),"Ⅳ",IF(OR(Y36="Ⅲ",AC36="Ⅲ",AG36="Ⅲ"),"Ⅲ",IF(OR(Y36="Ⅱ",AC36="Ⅱ",AG36="Ⅱ"),"Ⅱ","Ⅰ"))) -> Ⅰ
K38: 特記事項
K40: 注1：誤記入防止のため、当該変状区分以外のセルは灰色表示とすること。
K41: 注2：応急対策を実施した場合は、その詳細を備考に記載すること。
K42: 注3：変状区分毎での最も評価の厳しい判定区分。
K43: 注4：変状区分毎での最も評価の厳しい判定区分．外力は覆工スパン単位、材質劣化、漏水は変状単位で行う。
K44: 注5：覆工スパンの中で最も評価の厳しい健全性を採用し、その覆工スパン毎の健全性とする。
B46: ※1：本シートは作成洩れのないよう、変状が無くても全スパン分を作成すること．また変状展開図は、様式D-2-1、様式D-2-1'と同じものを覆工スパン単位で拡大し掲載すること。
B47: ※2：変状番号は、様式D-1-1で記入した番号と整合させること。
B48: ※3：対策区分毎の変状発生規模は、様式D-1-1に記載した面積を記入すること（ただし外力はスパン単位で評価するため対象外とし、備考欄に状況を記入）。
B49: ※4：本様式は覆工スパン毎に作成すること。
B50: ※5：変状数が多い場合は、適時、表の行を増やして覆工スパン毎に1枚のシートに収めること。また、1スパン１シートとし、スパンに合わせてシートを追加すること。
B51: ※6：対策区分毎の変状の発生範囲の規模とは，対策を行う際に参考となる変状の長さや面積であり，変状を包含する長さや面積とする。
B52: ※7：路面滞水は、変状面積に1を記載するとともに、備考にも内容を記載すること。

Sheet 様式D-3_S001
AU1: 様式E-1リンク用→ | AV1: 覆工ｽﾊﾟﾝ 番号 | AW1: ｽﾊﾟﾝ 長 (m) | AX1: 変状数集計 | BS1: 覆工スパン毎の 健全性の診断 | BW1: 変状規模集計
AX2: 対策区分毎の変状数 | BJ2: 健全性の判定区分毎の変状数 | BW2: 覆工スパン長(m) | CA2: 対策区分毎の変状の発生範囲の規模(㎡）
B3: ■定期点検記録様式 覆工スパン別変状詳細展開図 【様式D-3】 | AX3: 外力 | BB3: 材質劣化 | BF3: 漏水 | BJ3: 外力 | BM3: 材質劣化 | BP3: 漏水 | BS3: 外力 | BT3: 材質劣化 | BU3: 漏水 | BV3: 健全性 | BW3: 外力※１ | CA3: 材質劣化 | CE3: 漏水
B4: フリガナ | E4: トノミトンネル | K4: 路線名 | N4: 主要道路防府環状線 | T4: 定期点検業者 | Y4: セントラルコンサルタント株式会社 | AG4: 定期点検年月日 | AK4: 44337 | AX4: Ⅳ | AY4: Ⅲ | AZ4: Ⅱa | BA4: Ⅱb | BB4: Ⅳ | BC4: Ⅲ | BD4: Ⅱa | BE4: Ⅱb | BF4: Ⅳ | BG4: Ⅲ | BH4: Ⅱa | BI4: Ⅱb | BJ4: Ⅳ | BK4: Ⅲ | BL4: Ⅱ | BM4: Ⅳ | BN4: Ⅲ | BO4: Ⅱ | BP4: Ⅳ | BQ4: Ⅲ | BR4: Ⅱ | BW4: Ⅳ | BX4: Ⅲ | BY4: Ⅱa | BZ4: Ⅱb | CA4: Ⅳ | CB4: Ⅲ | CC4: Ⅱa | CD4: Ⅱb | CE4: Ⅳ | CF4: Ⅲ | CG4: Ⅱa | CH4: Ⅱb
B5: 名 称 | E5: 富海トンネル | K5: 管理者名 | N5: 山口県防府土木建築事務所 | T5: 定期点検者名 | Y5: 鹿子嶋 康博 | AV5: =N7 -> S1 | AW5: =R7 -> 2.9 | AX5: =+Y32 -> 0 | AY5: =+Z32 -> 0 | AZ5: =+AA32 -> 0 | BA5: =+AB32 -> 0 | BB5: =+AC32 -> 0 | BC5: =+AD32 -> 0 | BD5: =+AE32 -> 0 | BE5: =+AF32 -> 0 | ... BI5: =+AJ32 -> 0 | BJ5: =+Y35 | BK5: =+Z35 | BL5: =+AA35 | BM5: =+AC35 -> 0 | BN5: =+AD35 -> 0 | BO5: =+AE35 -> 0 | BP5: =+AG35 -> 0 | BQ5: =+AH35 -> 0 | BR5: =+AI35 -> 0 | BS5: =+Y36 -> Ⅰ | BT5: =+AC36 -> Ⅰ | BU5: =+AG36 -> Ⅰ | BV5: =+Y37 -> Ⅰ | BW5: =IF(Y32>0,$R$7,"") | BX5: =IF(Z32>0,"",IF(AA32>0,$R$7,"")) | BY5: =IF(Y32+Z32>0,"",IF(AA32>0,$R$7,"")) | BZ5: =IF(Y32+Z32+AA32>0,"",IF(AB32>0,$R$7,"")) | CA5: =+AC31 -> 0 | CB5: =+AD31 -> 0 | CC5: =+AE31 -> 0 | CD5: =+AF31 -> 0 | CE5: =+AG31 -> 0 | CF5: =+AH31 -> 0 | CG5: =+AI31 -> 0 | CH5: =+AJ31 -> 0
B6: スパン別変状展開図 | K6: 【健全性判定集計表】
K7: スパン番号 | N7: S1 | P7: スパン長 | R7: 2.9 | U7: 前回定期点検時の健全性 | W7: 応急措置前の判定 | Y7: 対策区分毎の 変状の有無 | AC7: 対策区分毎の変状の発生範囲の規模(㎡) | AK7: 備考注2
K8: 変状番号 | L8: 対象箇所 | N8: 部位区分 | P8: 変状区分 | R8: 変状種類
Y9: 外力注1 | AC9: 材質劣化注1 | AG9: 漏水注1
Y10: Ⅳ | Z10: Ⅲ | AA10: Ⅱa | AB10: Ⅱb | AC10: Ⅳ | AD10: Ⅲ | AE10: Ⅱa | AF10: Ⅱb | AG10: Ⅳ | AH10: Ⅲ | AI10: Ⅱa | AJ10: Ⅱb
AQ11: =IF(P11="材質劣化",2,IF(P11="漏水",3,1)) -> 1
AQ12: =IF(P12="材質劣化",2,IF(P12="漏水",3,1)) -> 1
AQ13: =IF(P13="材質劣化",2,IF(P13="漏水",3,1)) -> 1
AQ14: =IF(P14="材質劣化",2,IF(P14="漏水",3,1)) -> 1
AQ15: =IF(P15="材質劣化",2,IF(P15="漏水",3,1)) -> 1
AQ16: =IF(P16="材質劣化",2,IF(P16="漏水",3,1)) -> 1
AQ17: =IF(P17="材質劣化",2,IF(P17="漏水",3,1)) -> 1
AQ18: =IF(P18="材質劣化",2,IF(P18="漏水",3,1)) -> 1
AQ19: =IF(P19="材質劣化",2,IF(P19="漏水",3,1)) -> 1
AQ20: =IF(P20="材質劣化",2,IF(P20="漏水",3,1)) -> 1
AQ21: =IF(P21="材質劣化",2,IF(P21="漏水",3,1)) -> 1
AQ22: =IF(P22="材質劣化",2,IF(P22="漏水",3,1)) -> 1
... AQ30: =IF(P30="材質劣化",2,IF(P30="漏水",3,1)) -> 1
K31: 集計 ・ 判定 ・ 診断 | L31: 変状の発生規模合計(㎡) | Y31: － | AC31: =SUM(AC11:AC30) -> 0 | AD31: =SUM(AD11:AD30) -> 0 | AE31: =SUM(AE11:AE30) -> 0 | AF31: =SUM(AF11:AF30) -> 0 | AG31: =SUM(AG11:AG30) -> 0 | AH31: =SUM(AH11:AH30) -> 0 | AI31: =SUM(AI11:AI30) -> 0 | AJ31: =SUM(AJ11:AJ30) -> 0 | AK31: 計
L32: 対策区分の 判定結果 | O32: 判定区分毎の変状数 | Y32: =COUNTIF(Y11:Y30,"○") -> 0 | Z32: =COUNTIF(Z11:Z30,"○") -> 0 | AA32: =COUNTIF(AA11:AA30,"○") -> 0 | AB32: =COUNTIF(AB11:AB30,"○") -> 0 | AC32: =COUNT(AC11:AC30) -> 0 | AD32: =COUNT(AD11:AD30) -> 0 | AE32: =COUNT(AE11:AE30) -> 0 | AF32: =COUNT(AF11:AF30) -> 0 | AG32: =COUNT(AG11:AG30) -> 0 | AH32: =COUNT(AH11:AH30) -> 0 | AI32: =COUNT(AI11:AI30) -> 0 | AJ32: =COUNT(AJ11:AJ30) -> 0
O33: 変状区分毎の判定区分注3 | Y33: =IF(Y32>0,"Ⅳ",IF(Z32>0,"Ⅲ",IF(AA32>0,"Ⅱa",IF(AB32>0,"Ⅱb","Ⅰ")))) -> Ⅰ | AC33: =IF(AC32>0,"Ⅳ",IF(AD32>0,"Ⅲ",IF(AE32>0,"Ⅱa",IF(AF32>0,"Ⅱb","Ⅰ")))) -> Ⅰ | AG33: =IF(AG32>0,"Ⅳ",IF(AH32>0,"Ⅲ",IF(AI32>0,"Ⅱa",IF(AJ32>0,"Ⅱb","Ⅰ")))) -> Ⅰ | AQ33: Ⅳ | AR33: Ⅲ | AS33: Ⅱ
L34: 健全性の 診断結果 | O34: 判定区分 | Y34: Ⅳ | Z34: Ⅲ | AA34: Ⅱ | AC34: Ⅳ | AD34: Ⅲ | AE34: Ⅱ | AG34: Ⅳ | AH34: Ⅲ | AI34: Ⅱ | AQ34: =+Y32+Z32 -> 0 | AS34: =+AA32+AB32 -> 0
O35: 判定区分毎の変状数注4 | Y35: =IF(Y32=0,"",1) | Z35: =IF(Z32=0,"",1) | AA35: =IF(AQ34=1,"",IF(AS34>0,1,"")) | AC35: =+AC32 -> 0 | AD35: =AD32 -> 0 | AE35: =AE32+AF32 -> 0 | AG35: =AG32 -> 0 | AH35: =AH32 -> 0 | AI35: =AI32+AJ32 -> 0 | AQ35: =+Y32+AC35+AG35 -> 0 | AR35: =+Z32+AD35+AH35 -> 0 | AS35: =+AS34+AE35+AI35 -> 0
O36: 変状区分毎の判定区分注4 | Y36: =IF(Y35=1,"Ⅳ",IF(Z35=1,"Ⅲ",IF(AA35=1,"Ⅱ","Ⅰ"))) -> Ⅰ | AC36: =IF(AC35>0,"Ⅳ",IF(AD35>0,"Ⅲ",IF(AE35>0,"Ⅱ","Ⅰ"))) -> Ⅰ | AG36: =IF(AG35>0,"Ⅳ",IF(AH35>0,"Ⅲ",IF(AI35>0,"Ⅱ","Ⅰ"))) -> Ⅰ | AQ36: =IF(AQ35>0,"Ⅳ",IF(AR35>0,"Ⅲ",IF(AS35>0,"Ⅱ","Ⅰ"))) -> Ⅰ
O37: 覆工スパン単位の判定区分注5 | Y37: =IF(OR(Y36="Ⅳ",AC36="Ⅳ",AG36="Ⅳ"),"Ⅳ",IF(OR(Y36="Ⅲ",AC36="Ⅲ",AG36="Ⅲ"),"Ⅲ",IF(OR(Y36="Ⅱ",AC36="Ⅱ",AG36="Ⅱ"),"Ⅱ","Ⅰ"))) -> Ⅰ
K38: 特記事項
K40: 注1：誤記入防止のため、当該変状区分以外のセルは灰色表示とすること。
K41: 注2：応急対策を実施した場合は、その詳細を備考に記載すること。
K42: 注3：変状区分毎での最も評価の厳しい判定区分。
K43: 注4：変状区分毎での最も評価の厳しい判定区分．外力は覆工スパン単位、材質劣化、漏水は変状単位で行う。
K44: 注5：覆工スパンの中で最も評価の厳しい健全性を採用し、その覆工スパン毎の健全性とする。
B46: ※1：本シートは作成洩れのないよう、変状が無くても全スパン分を作成すること．また変状展開図は、様式D-2-1、様式D-2-1'と同じものを覆工スパン単位で拡大し掲載すること。
B47: ※2：変状番号は、様式D-1-1で記入した番号と整合させること。
B48: ※3：対策区分毎の変状発生規模は、様式D-1-1に記載した面積を記入すること（ただし外力はスパン単位で評価するため対象外とし、備考欄に状況を記入）。
B49: ※4：本様式は覆工スパン毎に作成すること。
B50: ※5：変状数が多い場合は、適時、表の行を増やして覆工スパン毎に1枚のシートに収めること。また、1スパン１シートとし、スパンに合わせてシートを追加すること。
B51: ※6：対策区分毎の変状の発生範囲の規模とは，対策を行う際に参考となる変状の長さや面積であり，変状を包含する長さや面積とする。
B52: ※7：路面滞水は、変状面積に1を記載するとともに、備考にも内容を記載すること。

Sheet 様式D-3_S002
AU1: 様式E-1リンク用→ | AV1: 覆工ｽﾊﾟﾝ 番号 | AW1: ｽﾊﾟﾝ 長 (m) | AX1: 変状数集計 | BS1: 覆工スパン毎の 健全性の診断 | BW1: 変状規模集計
AX2: 対策区分毎の変状数 | BJ2: 健全性の判定区分毎の変状数 | BW2: 覆工スパン長(m) | CA2: 対策区分毎の変状の発生範囲の規模(㎡）
B3: ■定期点検記録様式 覆工スパン別変状詳細展開図 【様式D-3】 | AX3: 外力 | BB3: 材質劣化 | BF3: 漏水 | BJ3: 外力 | BM3: 材質劣化 | BP3: 漏水 | BS3: 外力 | BT3: 材質劣化 | BU3: 漏水 | BV3: 健全性 | BW3: 外力※１ | CA3: 材質劣化 | CE3: 漏水
B4: フリガナ | E4: トノミトンネル | K4: 路線名 | N4: 主要道路防府環状線 | T4: 定期点検業者 | Y4: セントラルコンサルタント株式会社 | AG4: 定期点検年月日 | AK4: 44337 | AX4: Ⅳ | AY4: Ⅲ | AZ4: Ⅱa | BA4: Ⅱb | BB4: Ⅳ | BC4: Ⅲ | BD4: Ⅱa | BE4: Ⅱb | BF4: Ⅳ | BG4: Ⅲ | BH4: Ⅱa | BI4: Ⅱb | BJ4: Ⅳ | BK4: Ⅲ | BL4: Ⅱ | BM4: Ⅳ | BN4: Ⅲ | BO4: Ⅱ | BP4: Ⅳ | BQ4: Ⅲ | BR4: Ⅱ | BW4: Ⅳ | BX4: Ⅲ | BY4: Ⅱa | BZ4: Ⅱb | CA4: Ⅳ | CB4: Ⅲ | CC4: Ⅱa | CD4: Ⅱb | CE4: Ⅳ | CF4: Ⅲ | CG4: Ⅱa | CH4: Ⅱb
B5: 名 称 | E5: 富海トンネル | K5: 管理者名 | N5: 山口県防府土木建築事務所 | T5: 定期点検者名 | Y5: 鹿子嶋 康博 | AV5: =N7 -> S2 | AW5: =R7 -> 2.5 | AX5: =+Y32 -> 0 | AY5: =+Z32 -> 0 | AZ5: =+AA32 -> 0 | BA5: =+AB32 -> 0 | BB5: =+AC32 -> 0 | BC5: =+AD32 -> 2 | BD5: =+AE32 -> 0 | BE5: =+AF32 -> 0 | ... BI5: =+AJ32 -> 0 | BJ5: =+Y35 | BK5: =+Z35 | BL5: =+AA35 | BM5: =+AC35 -> 0 | BN5: =+AD35 -> 2 | BO5: =+AE35 -> 0 | BP5: =+AG35 -> 0 | BQ5: =+AH35 -> 0 | BR5: =+AI35 -> 0 | BS5: =+Y36 -> Ⅰ | BT5: =+AC36 -> Ⅲ | BU5: =+AG36 -> Ⅰ | BV5: =+Y37 -> Ⅲ | BW5: =IF(Y32>0,$R$7,"") | BX5: =IF(Z32>0,"",IF(AA32>0,$R$7,"")) | BY5: =IF(Y32+Z32>0,"",IF(AA32>0,$R$7,"")) | BZ5: =IF(Y32+Z32+AA32>0,"",IF(AB32>0,$R$7,"")) | CA5: =+AC31 -> 0 | CB5: =+AD31 -> 5.2 | CC5: =+AE31 -> 0 | CD5: =+AF31 -> 0 | CE5: =+AG31 -> 0 | CF5: =+AH31 -> 0 | CG5: =+AI31 -> 0 | CH5: =+AJ31 -> 0
B6: スパン別変状展開図 | K6: 【健全性判定集計表】
K7: スパン番号 | N7: S2 | P7: スパン長 | R7: 2.5 | U7: 前回定期点検時の健全性 | W7: 応急措置前の判定 | Y7: 対策区分毎の 変状の有無 | AC7: 対策区分毎の変状の発生範囲の規模(㎡) | AK7: 備考注2
K8: 変状番号 | L8: 対象箇所 | N8: 部位区分 | P8: 変状区分 | R8: 変状種類
Y9: 外力注1 | AC9: 材質劣化注1 | AG9: 漏水注1
Y10: Ⅳ | Z10: Ⅲ | AA10: Ⅱa | AB10: Ⅱb | AC10: Ⅳ | AD10: Ⅲ | AE10: Ⅱa | AF10: Ⅱb | AG10: Ⅳ | AH10: Ⅲ | AI10: Ⅱa | AJ10: Ⅱb
K11: 1 | L11: 覆工・坑門 | N11: 横断目地（左側） | P11: 材質劣化 | R11: 補強・補修材の破損 | U11: － | AD11: 2.24 | AK11: 0 | AQ11: =IF(P11="材質劣化",2,IF(P11="漏水",3,1)) -> 2
K12: 2 | L12: 覆工・坑門 | N12: 横断目地（右側） | P12: 材質劣化 | R12: 補強・補修材の破損 | U12: － | AD12: 2.96 | AK12: 0 | AQ12: =IF(P12="材質劣化",2,IF(P12="漏水",3,1)) -> 2
AQ13: =IF(P13="材質劣化",2,IF(P13="漏水",3,1)) -> 1
AQ14: =IF(P14="材質劣化",2,IF(P14="漏水",3,1)) -> 1
AQ15: =IF(P15="材質劣化",2,IF(P15="漏水",3,1)) -> 1
AQ16: =IF(P16="材質劣化",2,IF(P16="漏水",3,1)) -> 1
AQ17: =IF(P17="材質劣化",2,IF(P17="漏水",3,1)) -> 1
AQ18: =IF(P18="材質劣化",2,IF(P18="漏水",3,1)) -> 1
AQ19: =IF(P19="材質劣化",2,IF(P19="漏水",3,1)) -> 1
AQ20: =IF(P20="材質劣化",2,IF(P20="漏水",3,1)) -> 1
AQ21: =IF(P21="材質劣化",2,IF(P21="漏水",3,1)) -> 1
AQ22: =IF(P22="材質劣化",2,IF(P22="漏水",3,1)) -> 1
AQ23: =IF(P23="材質劣化",2,IF(P23="漏水",3,1)) -> 1
AQ24: =IF(P24="材質劣化",2,IF(P24="漏水",3,1)) -> 1
... AQ30: =IF(P30="材質劣化",2,IF(P30="漏水",3,1)) -> 1
K31: 集計 ・ 判定 ・ 診断 | L31: 変状の発生規模合計(㎡) | Y31: － | AC31: =SUM(AC11:AC30) -> 0 | AD31: =SUM(AD11:AD30) -> 5.2 | AE31: =SUM(AE11:AE30) -> 0 | AF31: =SUM(AF11:AF30) -> 0 | AG31: =SUM(AG11:AG30) -> 0 | AH31: =SUM(AH11:AH30) -> 0 | AI31: =SUM(AI11:AI30) -> 0 | AJ31: =SUM(AJ11:AJ30) -> 0 | AK31: 計
L32: 対策区分の 判定結果 | O32: 判定区分毎の変状数 | Y32: =COUNTIF(Y11:Y30,"○") -> 0 | Z32: =COUNTIF(Z11:Z30,"○") -> 0 | AA32: =COUNTIF(AA11:AA30,"○") -> 0 | AB32: =COUNTIF(AB11:AB30,"○") -> 0 | AC32: =COUNT(AC11:AC30) -> 0 | AD32: =COUNT(AD11:AD30) -> 2 | AE32: =COUNT(AE11:AE30) -> 0 | AF32: =COUNT(AF11:AF30) -> 0 | AG32: =COUNT(AG11:AG30) -> 0 | AH32: =COUNT(AH11:AH30) -> 0 | AI32: =COUNT(AI11:AI30) -> 0 | AJ32: =COUNT(AJ11:AJ30) -> 0
O33: 変状区分毎の判定区分注3 | Y33: =IF(Y32>0,"Ⅳ",IF(Z32>0,"Ⅲ",IF(AA32>0,"Ⅱa",IF(AB32>0,"Ⅱb","Ⅰ")))) -> Ⅰ | AC33: =IF(AC32>0,"Ⅳ",IF(AD32>0,"Ⅲ",IF(AE32>0,"Ⅱa",IF(AF32>0,"Ⅱb","Ⅰ")))) -> Ⅲ | AG33: =IF(AG32>0,"Ⅳ",IF(AH32>0,"Ⅲ",IF(AI32>0,"Ⅱa",IF(AJ32>0,"Ⅱb","Ⅰ")))) -> Ⅰ | AQ33: Ⅳ | AR33: Ⅲ | AS33: Ⅱ
L34: 健全性の 診断結果 | O34: 判定区分 | Y34: Ⅳ | Z34: Ⅲ | AA34: Ⅱ | AC34: Ⅳ | AD34: Ⅲ | AE34: Ⅱ | AG34: Ⅳ | AH34: Ⅲ | AI34: Ⅱ | AQ34: =+Y32+Z32 -> 0 | AS34: =+AA32+AB32 -> 0
O35: 判定区分毎の変状数注4 | Y35: =IF(Y32=0,"",1) | Z35: =IF(Z32=0,"",1) | AA35: =IF(AQ34=1,"",IF(AS34>0,1,"")) | AC35: =+AC32 -> 0 | AD35: =AD32 -> 2 | AE35: =AE32+AF32 -> 0 | AG35: =AG32 -> 0 | AH35: =AH32 -> 0 | AI35: =AI32+AJ32 -> 0 | AQ35: =+Y32+AC35+AG35 -> 0 | AR35: =+Z32+AD35+AH35 -> 2 | AS35: =+AS34+AE35+AI35 -> 0
O36: 変状区分毎の判定区分注4 | Y36: =IF(Y35=1,"Ⅳ",IF(Z35=1,"Ⅲ",IF(AA35=1,"Ⅱ","Ⅰ"))) -> Ⅰ | AC36: =IF(AC35>0,"Ⅳ",IF(AD35>0,"Ⅲ",IF(AE35>0,"Ⅱ","Ⅰ"))) -> Ⅲ | AG36: =IF(AG35>0,"Ⅳ",IF(AH35>0,"Ⅲ",IF(AI35>0,"Ⅱ","Ⅰ"))) -> Ⅰ | AQ36: =IF(AQ35>0,"Ⅳ",IF(AR35>0,"Ⅲ",IF(AS35>0,"Ⅱ","Ⅰ"))) -> Ⅲ
O37: 覆工スパン単位の判定区分注5 | Y37: =IF(OR(Y36="Ⅳ",AC36="Ⅳ",AG36="Ⅳ"),"Ⅳ",IF(OR(Y36="Ⅲ",AC36="Ⅲ",AG36="Ⅲ"),"Ⅲ",IF(OR(Y36="Ⅱ",AC36="Ⅱ",AG36="Ⅱ"),"Ⅱ","Ⅰ"))) -> Ⅲ
K38: 特記事項
K40: 注1：誤記入防止のため、当該変状区分以外のセルは灰色表示とすること。
K41: 注2：応急対策を実施した場合は、その詳細を備考に記載すること。
K42: 注3：変状区分毎での最も評価の厳しい判定区分。
K43: 注4：変状区分毎での最も評価の厳しい判定区分．外力は覆工スパン単位、材質劣化、漏水は変状単位で行う。
K44: 注5：覆工スパンの中で最も評価の厳しい健全性を採用し、その覆工スパン毎の健全性とする。
B46: ※1：本シートは作成洩れのないよう、変状が無くても全スパン分を作成すること．また変状展開図は、様式D-2-1、様式D-2-1'と同じものを覆工スパン単位で拡大し掲載すること。
B47: ※2：変状番号は、様式D-1-1で記入した番号と整合させること。
B48: ※3：対策区分毎の変状発生規模は、様式D-1-1に記載した面積を記入すること（ただし外力はスパン単位で評価するため対象外とし、備考欄に状況を記入）。
B49: ※4：本様式は覆工スパン毎に作成すること。
B50: ※5：変状数が多い場合は、適時、表の行を増やして覆工スパン毎に1枚のシートに収めること。また、1スパン１シートとし、スパンに合わせてシートを追加すること。
B51: ※6：対策区分毎の変状の発生範囲の規模とは，対策を行う際に参考となる変状の長さや面積であり，変状を包含する長さや面積とする。
B52: ※7：路面滞水は、変状面積に1を記載するとともに、備考にも内容を記載すること。

Sheet 様式D-3_S003
AU1: 様式E-1リンク用→ | AV1: 覆工ｽﾊﾟﾝ 番号 | AW1: ｽﾊﾟﾝ 長 (m) | AX1: 変状数集計 | BS1: 覆工スパン毎の 健全性の診断 | BW1: 変状規模集計
AX2: 対策区分毎の変状数 | BJ2: 健全性の判定区分毎の変状数 | BW2: 覆工スパン長(m) | CA2: 対策区分毎の変状の発生範囲の規模(㎡）
B3: ■定期点検記録様式 覆工スパン別変状詳細展開図 【様式D-3】 | AX3: 外力 | BB3: 材質劣化 | BF3: 漏水 | BJ3: 外力 | BM3: 材質劣化 | BP3: 漏水 | BS3: 外力 | BT3: 材質劣化 | BU3: 漏水 | BV3: 健全性 | BW3: 外力※１ | CA3: 材質劣化 | CE3: 漏水
B4: フリガナ | E4: トノミトンネル | K4: 路線名 | N4: 主要道路防府環状線 | T4: 定期点検業者 | Y4: セントラルコンサルタント株式会社 | AG4: 定期点検年月日 | AK4: 44337 | AX4: Ⅳ | AY4: Ⅲ | AZ4: Ⅱa | BA4: Ⅱb | BB4: Ⅳ | BC4: Ⅲ | BD4: Ⅱa | BE4: Ⅱb | BF4: Ⅳ | BG4: Ⅲ | BH4: Ⅱa | BI4: Ⅱb | BJ4: Ⅳ | BK4: Ⅲ | BL4: Ⅱ | BM4: Ⅳ | BN4: Ⅲ | BO4: Ⅱ | BP4: Ⅳ | BQ4: Ⅲ | BR4: Ⅱ | BW4: Ⅳ | BX4: Ⅲ | BY4: Ⅱa | BZ4: Ⅱb | CA4: Ⅳ | CB4: Ⅲ | CC4: Ⅱa | CD4: Ⅱb | CE4: Ⅳ | CF4: Ⅲ | CG4: Ⅱa | CH4: Ⅱb
B5: 名 称 | E5: 富海トンネル | K5: 管理者名 | N5: 山口県防府土木建築事務所 | T5: 定期点検者名 | Y5: 鹿子嶋 康博 | AV5: =N7 -> S3 | AW5: =R7 -> 4 | AX5: =+Y32 -> 0 | AY5: =+Z32 -> 0 | AZ5: =+AA32 -> 0 | BA5: =+AB32 -> 0 | BB5: =+AC32 -> 0 | BC5: =+AD32 -> 1 | BD5: =+AE32 -> 0 | BE5: =+AF32 -> 1 | ... BI5: =+AJ32 -> 0 | BJ5: =+Y35 | BK5: =+Z35 | BL5: =+AA35 | BM5: =+AC35 -> 0 | BN5: =+AD35 -> 1 | BO5: =+AE35 -> 1 | BP5: =+AG35 -> 0 | BQ5: =+AH35 -> 0 | BR5: =+AI35 -> 0 | BS5: =+Y36 -> Ⅰ | BT5: =+AC36 -> Ⅲ | BU5: =+AG36 -> Ⅰ | BV5: =+Y37 -> Ⅲ | BW5: =IF(Y32>0,$R$7,"") | BX5: =IF(Z32>0,"",IF(AA32>0,$R$7,"")) | BY5: =IF(Y32+Z32>0,"",IF(AA32>0,$R$7,"")) | BZ5: =IF(Y32+Z32+AA32>0,"",IF(AB32>0,$R$7,"")) | CA5: =+AC31 -> 0 | CB5: =+AD31 -> 1.86 | CC5: =+AE31 -> 0 | CD5: =+AF31 -> 0.01 | CE5: =+AG31 -> 0 | CF5: =+AH31 -> 0 | CG5: =+AI31 -> 0 | CH5: =+AJ31 -> 0
B6: スパン別変状展開図 | K6: 【健全性判定集計表】
K7: スパン番号 | N7: S3 | P7: スパン長 | R7: 4 | U7: 前回定期点検時の健全性 | W7: 応急措置前の判定 | Y7: 対策区分毎の 変状の有無 | AC7: 対策区分毎の変状の発生範囲の規模(㎡) | AK7: 備考注2
K8: 変状番号 | L8: 対象箇所 | N8: 部位区分 | P8: 変状区分 | R8: 変状種類
Y9: 外力注1 | AC9: 材質劣化注1 | AG9: 漏水注1
Y10: Ⅳ | Z10: Ⅲ | AA10: Ⅱa | AB10: Ⅱb | AC10: Ⅳ | AD10: Ⅲ | AE10: Ⅱa | AF10: Ⅱb | AG10: Ⅳ | AH10: Ⅲ | AI10: Ⅱa | AJ10: Ⅱb
K11: 1 | L11: 覆工・坑門 | N11: アーチ（左側） | P11: 材質劣化 | R11: 補強・補修材の破損 | U11: － | AD11: 1.86 | AK11: 0 | AQ11: =IF(P11="材質劣化",2,IF(P11="漏水",3,1)) -> 2
K12: 2 | L12: 覆工・坑門 | N12: アーチ（天端） | P12: 材質劣化 | R12: 鋼材腐食 | U12: － | AF12: 0.01 | AK12: 0 | AQ12: =IF(P12="材質劣化",2,IF(P12="漏水",3,1)) -> 2
AQ13: =IF(P13="材質劣化",2,IF(P13="漏水",3,1)) -> 1
AQ14: =IF(P14="材質劣化",2,IF(P14="漏水",3,1)) -> 1
AQ15: =IF(P15="材質劣化",2,IF(P15="漏水",3,1)) -> 1
AQ16: =IF(P16="材質劣化",2,IF(P16="漏水",3,1)) -> 1
AQ17: =IF(P17="材質劣化",2,IF(P17="漏水",3,1)) -> 1
AQ18: =IF(P18="材質劣化",2,IF(P18="漏水",3,1)) -> 1
AQ19: =IF(P19="材質劣化",2,IF(P19="漏水",3,1)) -> 1
AQ20: =IF(P20="材質劣化",2,IF(P20="漏水",3,1)) -> 1
AQ21: =IF(P21="材質劣化",2,IF(P21="漏水",3,1)) -> 1
AQ22: =IF(P22="材質劣化",2,IF(P22="漏水",3,1)) -> 1
AQ23: =IF(P23="材質劣化",2,IF(P23="漏水",3,1)) -> 1
AQ24: =IF(P24="材質劣化",2,IF(P24="漏水",3,1)) -> 1
... AQ30: =IF(P30="材質劣化",2,IF(P30="漏水",3,1)) -> 1
K31: 集計 ・ 判定 ・ 診断 | L31: 変状の発生規模合計(㎡) | Y31: － | AC31: =SUM(AC11:AC30) -> 0 | AD31: =SUM(AD11:AD30) -> 1.86 | AE31: =SUM(AE11:AE30) -> 0 | AF31: =SUM(AF11:AF30) -> 0.01 | AG31: =SUM(AG11:AG30) -> 0 | AH31: =SUM(AH11:AH30) -> 0 | AI31: =SUM(AI11:AI30) -> 0 | AJ31: =SUM(AJ11:AJ30) -> 0 | AK31: 計
L32: 対策区分の 判定結果 | O32: 判定区分毎の変状数 | Y32: =COUNTIF(Y11:Y30,"○") -> 0 | Z32: =COUNTIF(Z11:Z30,"○") -> 0 | AA32: =COUNTIF(AA11:AA30,"○") -> 0 | AB32: =COUNTIF(AB11:AB30,"○") -> 0 | AC32: =COUNT(AC11:AC30) -> 0 | AD32: =COUNT(AD11:AD30) -> 1 | AE32: =COUNT(AE11:AE30) -> 0 | AF32: =COUNT(AF11:AF30) -> 1 | AG32: =COUNT(AG11:AG30) -> 0 | AH32: =COUNT(AH11:AH30) -> 0 | AI32: =COUNT(AI11:AI30) -> 0 | AJ32: =COUNT(AJ11:AJ30) -> 0
O33: 変状区分毎の判定区分注3 | Y33: =IF(Y32>0,"Ⅳ",IF(Z32>0,"Ⅲ",IF(AA32>0,"Ⅱa",IF(AB32>0,"Ⅱb","Ⅰ")))) -> Ⅰ | AC33: =IF(AC32>0,"Ⅳ",IF(AD32>0,"Ⅲ",IF(AE32>0,"Ⅱa",IF(AF32>0,"Ⅱb","Ⅰ")))) -> Ⅲ | AG33: =IF(AG32>0,"Ⅳ",IF(AH32>0,"Ⅲ",IF(AI32>0,"Ⅱa",IF(AJ32>0,"Ⅱb","Ⅰ")))) -> Ⅰ | AQ33: Ⅳ | AR33: Ⅲ | AS33: Ⅱ
L34: 健全性の 診断結果 | O34: 判定区分 | Y34: Ⅳ | Z34: Ⅲ | AA34: Ⅱ | AC34: Ⅳ | AD34: Ⅲ | AE34: Ⅱ | AG34: Ⅳ | AH34: Ⅲ | AI34: Ⅱ | AQ34: =+Y32+Z32 -> 0 | AS34: =+AA32+AB32 -> 0
O35: 判定区分毎の変状数注4 | Y35: =IF(Y32=0,"",1) | Z35: =IF(Z32=0,"",1) | AA35: =IF(AQ34=1,"",IF(AS34>0,1,"")) | AC35: =+AC32 -> 0 | AD35: =AD32 -> 1 | AE35: =AE32+AF32 -> 1 | AG35: =AG32 -> 0 | AH35: =AH32 -> 0 | AI35: =AI32+AJ32 -> 0 | AQ35: =+Y32+AC35+AG35 -> 0 | AR35: =+Z32+AD35+AH35 -> 1 | AS35: =+AS34+AE35+AI35 -> 1
O36: 変状区分毎の判定区分注4 | Y36: =IF(Y35=1,"Ⅳ",IF(Z35=1,"Ⅲ",IF(AA35=1,"Ⅱ","Ⅰ"))) -> Ⅰ | AC36: =IF(AC35>0,"Ⅳ",IF(AD35>0,"Ⅲ",IF(AE35>0,"Ⅱ","Ⅰ"))) -> Ⅲ | AG36: =IF(AG35>0,"Ⅳ",IF(AH35>0,"Ⅲ",IF(AI35>0,"Ⅱ","Ⅰ"))) -> Ⅰ | AQ36: =IF(AQ35>0,"Ⅳ",IF(AR35>0,"Ⅲ",IF(AS35>0,"Ⅱ","Ⅰ"))) -> Ⅲ
O37: 覆工スパン単位の判定区分注5 | Y37: =IF(OR(Y36="Ⅳ",AC36="Ⅳ",AG36="Ⅳ"),"Ⅳ",IF(OR(Y36="Ⅲ",AC36="Ⅲ",AG36="Ⅲ"),"Ⅲ",IF(OR(Y36="Ⅱ",AC36="Ⅱ",AG36="Ⅱ"),"Ⅱ","Ⅰ"))) -> Ⅲ
K38: 特記事項
K40: 注1：誤記入防止のため、当該変状区分以外のセルは灰色表示とすること。
K41: 注2：応急対策を実施した場合は、その詳細を備考に記載すること。
K42: 注3：変状区分毎での最も評価の厳しい判定区分。
K43: 注4：変状区分毎での最も評価の厳しい判定区分．外力は覆工スパン単位、材質劣化、漏水は変状単位で行う。
K44: 注5：覆工スパンの中で最も評価の厳しい健全性を採用し、その覆工スパン毎の健全性とする。
B46: ※1：本シートは作成洩れのないよう、変状が無くても全スパン分を作成すること．また変状展開図は、様式D-2-1、様式D-2-1'と同じものを覆工スパン単位で拡大し掲載すること。
B47: ※2：変状番号は、様式D-1-1で記入した番号と整合させること。
B48: ※3：対策区分毎の変状発生規模は、様式D-1-1に記載した面積を記入すること（ただし外力はスパン単位で評価するため対象外とし、備考欄に状況を記入）。
B49: ※4：本様式は覆工スパン毎に作成すること。
B50: ※5：変状数が多い場合は、適時、表の行を増やして覆工スパン毎に1枚のシートに収めること。また、1スパン１シートとし、スパンに合わせてシートを追加すること。
B51: ※6：対策区分毎の変状の発生範囲の規模とは，対策を行う際に参考となる変状の長さや面積であり，変状を包含する長さや面積とする。
B52: ※7：路面滞水は、変状面積に1を記載するとともに、備考にも内容を記載すること。

Sheet 様式D-3_S004
AU1: 様式E-1リンク用→ | AV1: 覆工ｽﾊﾟﾝ 番号 | AW1: ｽﾊﾟﾝ 長 (m) | AX1: 変状数集計 | BS1: 覆工スパン毎の 健全性の診断 | BW1: 変状規模集計
AX2: 対策区分毎の変状数 | BJ2: 健全性の判定区分毎の変状数 | BW2: 覆工スパン長(m) | CA2: 対策区分毎の変状の発生範囲の規模(㎡）
B3: ■定期点検記録様式 覆工スパン別変状詳細展開図 【様式D-3】 | AX3: 外力 | BB3: 材質劣化 | BF3: 漏水 | BJ3: 外力 | BM3: 材質劣化 | BP3: 漏水 | BS3: 外力 | BT3: 材質劣化 | BU3: 漏水 | BV3: 健全性 | BW3: 外力※１ | CA3: 材質劣化 | CE3: 漏水
B4: フリガナ | E4: トノミトンネル | K4: 路線名 | N4: 主要道路防府環状線 | T4: 定期点検業者 | Y4: セントラルコンサルタント株式会社 | AG4: 定期点検年月日 | AK4: 44337 | AX4: Ⅳ | AY4: Ⅲ | AZ4: Ⅱa | BA4: Ⅱb | BB4: Ⅳ | BC4: Ⅲ | BD4: Ⅱa | BE4: Ⅱb | BF4: Ⅳ | BG4: Ⅲ | BH4: Ⅱa | BI4: Ⅱb | BJ4: Ⅳ | BK4: Ⅲ | BL4: Ⅱ | BM4: Ⅳ | BN4: Ⅲ | BO4: Ⅱ | BP4: Ⅳ | BQ4: Ⅲ | BR4: Ⅱ | BW4: Ⅳ | BX4: Ⅲ | BY4: Ⅱa | BZ4: Ⅱb | CA4: Ⅳ | CB4: Ⅲ | CC4: Ⅱa | CD4: Ⅱb | CE4: Ⅳ | CF4: Ⅲ | CG4: Ⅱa | CH4: Ⅱb
B5: 名 称 | E5: 富海トンネル | K5: 管理者名 | N5: 山口県防府土木建築事務所 | T5: 定期点検者名 | Y5: 鹿子嶋 康博 | AV5: =N7 -> S4 | AW5: =R7 -> 2.5 | AX5: =+Y32 -> 0 | AY5: =+Z32 -> 0 | AZ5: =+AA32 -> 0 | BA5: =+AB32 -> 0 | BB5: =+AC32 -> 0 | BC5: =+AD32 -> 0 | BD5: =+AE32 -> 1 | BE5: =+AF32 -> 0 | ... BI5: =+AJ32 -> 2 | BJ5: =+Y35 | BK5: =+Z35 | BL5: =+AA35 | BM5: =+AC35 -> 0 | BN5: =+AD35 -> 0 | BO5: =+AE35 -> 1 | BP5: =+AG35 -> 0 | BQ5: =+AH35 -> 0 | BR5: =+AI35 -> 2 | BS5: =+Y36 -> Ⅰ | BT5: =+AC36 -> Ⅱ | BU5: =+AG36 -> Ⅱ | BV5: =+Y37 -> Ⅱ | BW5: =IF(Y32>0,$R$7,"") | BX5: =IF(Z32>0,"",IF(AA32>0,$R$7,"")) | BY5: =IF(Y32+Z32>0,"",IF(AA32>0,$R$7,"")) | BZ5: =IF(Y32+Z32+AA32>0,"",IF(AB32>0,$R$7,"")) | CA5: =+AC31 -> 0 | CB5: =+AD31 -> 0 | CC5: =+AE31 -> 0.01 | CD5: =+AF31 -> 0 | CE5: =+AG31 -> 0 | CF5: =+AH31 -> 0 | CG5: =+AI31 -> 0 | CH5: =+AJ31 -> 9.96
B6: スパン別変状展開図 | K6: 【健全性判定集計表】
K7: スパン番号 | N7: S4 | P7: スパン長 | R7: 2.5 | U7: 前回定期点検時の健全性 | W7: 応急措置前の判定 | Y7: 対策区分毎の 変状の有無 | AC7: 対策区分毎の変状の発生範囲の規模(㎡) | AK7: 備考注2
K8: 変状番号 | L8: 対象箇所 | N8: 部位区分 | P8: 変状区分 | R8: 変状種類
Y9: 外力注1 | AC9: 材質劣化注1 | AG9: 漏水注1
Y10: Ⅳ | Z10: Ⅲ | AA10: Ⅱa | AB10: Ⅱb | AC10: Ⅳ | AD10: Ⅲ | AE10: Ⅱa | AF10: Ⅱb | AG10: Ⅳ | AH10: Ⅲ | AI10: Ⅱa | AJ10: Ⅱb
K11: 1 | L11: 覆工・坑門 | N11: 水平打ち継ぎ目（左側） | P11: 漏水 | R11: 漏水 | U11: Ⅱ | AJ11: 7.56 | AK11: 0 | AQ11: =IF(P11="材質劣化",2,IF(P11="漏水",3,1)) -> 3
K12: 2 | L12: 覆工・坑門 | N12: アーチ（左側） | P12: 材質劣化 | R12: うき・はく離 | U12: － | AE12: 0.01 | AK12: 0 | AQ12: =IF(P12="材質劣化",2,IF(P12="漏水",3,1)) -> 2
K13: 3 | L13: 覆工・坑門 | N13: アーチ（右側） | P13: 漏水 | R13: 漏水 | U13: － | AJ13: 2.4 | AK13: 0 | AQ13: =IF(P13="材質劣化",2,IF(P13="漏水",3,1)) -> 3
AQ14: =IF(P14="材質劣化",2,IF(P14="漏水",3,1)) -> 1
AQ15: =IF(P15="材質劣化",2,IF(P15="漏水",3,1)) -> 1
AQ16: =IF(P16="材質劣化",2,IF(P16="漏水",3,1)) -> 1
AQ17: =IF(P17="材質劣化",2,IF(P17="漏水",3,1)) -> 1
AQ18: =IF(P18="材質劣化",2,IF(P18="漏水",3,1)) -> 1
AQ19: =IF(P19="材質劣化",2,IF(P19="漏水",3,1)) -> 1
AQ20: =IF(P20="材質劣化",2,IF(P20="漏水",3,1)) -> 1
AQ21: =IF(P21="材質劣化",2,IF(P21="漏水",3,1)) -> 1
AQ22: =IF(P22="材質劣化",2,IF(P22="漏水",3,1)) -> 1
AQ23: =IF(P23="材質劣化",2,IF(P23="漏水",3,1)) -> 1
AQ24: =IF(P24="材質劣化",2,IF(P24="漏水",3,1)) -> 1
AQ25: =IF(P25="材質劣化",2,IF(P25="漏水",3,1)) -> 1
... AQ30: =IF(P30="材質劣化",2,IF(P30="漏水",3,1)) -> 1
K31: 集計 ・ 判定 ・ 診断 | L31: 変状の発生規模合計(㎡) | Y31: － | AC31: =SUM(AC11:AC30) -> 0 | AD31: =SUM(AD11:AD30) -> 0 | AE31: =SUM(AE11:AE30) -> 0.01 | AF31: =SUM(AF11:AF30) -> 0 | AG31: =SUM(AG11:AG30) -> 0 | AH31: =SUM(AH11:AH30) -> 0 | AI31: =SUM(AI11:AI30) -> 0 | AJ31: =SUM(AJ11:AJ30) -> 9.96 | AK31: 計
L32: 対策区分の 判定結果 | O32: 判定区分毎の変状数 | Y32: =COUNTIF(Y11:Y30,"○") -> 0 | Z32: =COUNTIF(Z11:Z30,"○") -> 0 | AA32: =COUNTIF(AA11:AA30,"○") -> 0 | AB32: =COUNTIF(AB11:AB30,"○") -> 0 | AC32: =COUNT(AC11:AC30) -> 0 | AD32: =COUNT(AD11:AD30) -> 0 | AE32: =COUNT(AE11:AE30) -> 1 | AF32: =COUNT(AF11:AF30) -> 0 | AG32: =COUNT(AG11:AG30) -> 0 | AH32: =COUNT(AH11:AH30) -> 0 | AI32: =COUNT(AI11:AI30) -> 0 | AJ32: =COUNT(AJ11:AJ30) -> 2
O33: 変状区分毎の判定区分注3 | Y33: =IF(Y32>0,"Ⅳ",IF(Z32>0,"Ⅲ",IF(AA32>0,"Ⅱa",IF(AB32>0,"Ⅱb","Ⅰ")))) -> Ⅰ | AC33: =IF(AC32>0,"Ⅳ",IF(AD32>0,"Ⅲ",IF(AE32>0,"Ⅱa",IF(AF32>0,"Ⅱb","Ⅰ")))) -> Ⅱa | AG33: =IF(AG32>0,"Ⅳ",IF(AH32>0,"Ⅲ",IF(AI32>0,"Ⅱa",IF(AJ32>0,"Ⅱb","Ⅰ")))) -> Ⅱb | AQ33: Ⅳ | AR33: Ⅲ | AS33: Ⅱ
L34: 健全性の 診断結果 | O34: 判定区分 | Y34: Ⅳ | Z34: Ⅲ | AA34: Ⅱ | AC34: Ⅳ | AD34: Ⅲ | AE34: Ⅱ | AG34: Ⅳ | AH34: Ⅲ | AI34: Ⅱ | AQ34: =+Y32+Z32 -> 0 | AS34: =+AA32+AB32 -> 0
O35: 判定区分毎の変状数注4 | Y35: =IF(Y32=0,"",1) | Z35: =IF(Z32=0,"",1) | AA35: =IF(AQ34=1,"",IF(AS34>0,1,"")) | AC35: =+AC32 -> 0 | AD35: =AD32 -> 0 | AE35: =AE32+AF32 -> 1 | AG35: =AG32 -> 0 | AH35: =AH32 -> 0 | AI35: =AI32+AJ32 -> 2 | AQ35: =+Y32+AC35+AG35 -> 0 | AR35: =+Z32+AD35+AH35 -> 0 | AS35: =+AS34+AE35+AI35 -> 3
O36: 変状区分毎の判定区分注4 | Y36: =IF(Y35=1,"Ⅳ",IF(Z35=1,"Ⅲ",IF(AA35=1,"Ⅱ","Ⅰ"))) -> Ⅰ | AC36: =IF(AC35>0,"Ⅳ",IF(AD35>0,"Ⅲ",IF(AE35>0,"Ⅱ","Ⅰ"))) -> Ⅱ | AG36: =IF(AG35>0,"Ⅳ",IF(AH35>0,"Ⅲ",IF(AI35>0,"Ⅱ","Ⅰ"))) -> Ⅱ | AQ36: =IF(AQ35>0,"Ⅳ",IF(AR35>0,"Ⅲ",IF(AS35>0,"Ⅱ","Ⅰ"))) -> Ⅱ
O37: 覆工スパン単位の判定区分注5 | Y37: =IF(OR(Y36="Ⅳ",AC36="Ⅳ",AG36="Ⅳ"),"Ⅳ",IF(OR(Y36="Ⅲ",AC36="Ⅲ",AG36="Ⅲ"),"Ⅲ",IF(OR(Y36="Ⅱ",AC36="Ⅱ",AG36="Ⅱ"),"Ⅱ","Ⅰ"))) -> Ⅱ
K38: 特記事項
K40: 注1：誤記入防止のため、当該変状区分以外のセルは灰色表示とすること。
K41: 注2：応急対策を実施した場合は、その詳細を備考に記載すること。
K42: 注3：変状区分毎での最も評価の厳しい判定区分。
K43: 注4：変状区分毎での最も評価の厳しい判定区分．外力は覆工スパン単位、材質劣化、漏水は変状単位で行う。
K44: 注5：覆工スパンの中で最も評価の厳しい健全性を採用し、その覆工スパン毎の健全性とする。
B46: ※1：本シートは作成洩れのないよう、変状が無くても全スパン分を作成すること．また変状展開図は、様式D-2-1、様式D-2-1'と同じものを覆工スパン単位で拡大し掲載すること。
B47: ※2：変状番号は、様式D-1-1で記入した番号と整合させること。
B48: ※3：対策区分毎の変状発生規模は、様式D-1-1に記載した面積を記入すること（ただし外力はスパン単位で評価するため対象外とし、備考欄に状況を記入）。
B49: ※4：本様式は覆工スパン毎に作成すること。
B50: ※5：変状数が多い場合は、適時、表の行を増やして覆工スパン毎に1枚のシートに収めること。また、1スパン１シートとし、スパンに合わせてシートを追加すること。
B51: ※6：対策区分毎の変状の発生範囲の規模とは，対策を行う際に参考となる変状の長さや面積であり，変状を包含する長さや面積とする。
B52: ※7：路面滞水は、変状面積に1を記載するとともに、備考にも内容を記載すること。

Sheet 様式D-3_S005
AU1: 様式E-1リンク用→ | AV1: 覆工ｽﾊﾟﾝ 番号 | AW1: ｽﾊﾟﾝ 長 (m) | AX1: 変状数集計 | BS1: 覆工スパン毎の 健全性の診断 | BW1: 変状規模集計
AX2: 対策区分毎の変状数 | BJ2: 健全性の判定区分毎の変状数 | BW2: 覆工スパン長(m) | CA2: 対策区分毎の変状の発生範囲の規模(㎡）
B3: ■定期点検記録様式 覆工スパン別変状詳細展開図 【様式D-3】 | AX3: 外力 | BB3: 材質劣化 | BF3: 漏水 | BJ3: 外力 | BM3: 材質劣化 | BP3: 漏水 | BS3: 外力 | BT3: 材質劣化 | BU3: 漏水 | BV3: 健全性 | BW3: 外力※１ | CA3: 材質劣化 | CE3: 漏水
B4: フリガナ | E4: トノミトンネル | K4: 路線名 | N4: 主要道路防府環状線 | T4: 定期点検業者 | Y4: セントラルコンサルタント株式会社 | AG4: 定期点検年月日 | AK4: 44337 | AX4: Ⅳ | AY4: Ⅲ | AZ4: Ⅱa | BA4: Ⅱb | BB4: Ⅳ | BC4: Ⅲ | BD4: Ⅱa | BE4: Ⅱb | BF4: Ⅳ | BG4: Ⅲ | BH4: Ⅱa | BI4: Ⅱb | BJ4: Ⅳ | BK4: Ⅲ | BL4: Ⅱ | BM4: Ⅳ | BN4: Ⅲ | BO4: Ⅱ | BP4: Ⅳ | BQ4: Ⅲ | BR4: Ⅱ | BW4: Ⅳ | BX4: Ⅲ | BY4: Ⅱa | BZ4: Ⅱb | CA4: Ⅳ | CB4: Ⅲ | CC4: Ⅱa | CD4: Ⅱb | CE4: Ⅳ | CF4: Ⅲ | CG4: Ⅱa | CH4: Ⅱb
B5: 名 称 | E5: 富海トンネル | K5: 管理者名 | N5: 山口県防府土木建築事務所 | T5: 定期点検者名 | Y5: 鹿子嶋 康博 | AV5: =N7 -> S5 | AW5: =R7 -> 4 | AX5: =+Y32 -> 0 | AY5: =+Z32 -> 0 | AZ5: =+AA32 -> 0 | BA5: =+AB32 -> 0 | BB5: =+AC32 -> 0 | BC5: =+AD32 -> 0 | BD5: =+AE32 -> 0 | BE5: =+AF32 -> 0 | ... BI5: =+AJ32 -> 0 | BJ5: =+Y35 | BK5: =+Z35 | BL5: =+AA35 | BM5: =+AC35 -> 0 | BN5: =+AD35 -> 0 | BO5: =+AE35 -> 0 | BP5: =+AG35 -> 0 | BQ5: =+AH35 -> 0 | BR5: =+AI35 -> 0 | BS5: =+Y36 -> Ⅰ | BT5: =+AC36 -> Ⅰ | BU5: =+AG36 -> Ⅰ | BV5: =+Y37 -> Ⅰ | BW5: =IF(Y32>0,$R$7,"") | BX5: =IF(Z32>0,"",IF(AA32>0,$R$7,"")) | BY5: =IF(Y32+Z32>0,"",IF(AA32>0,$R$7,"")) | BZ5: =IF(Y32+Z32+AA32>0,"",IF(AB32>0,$R$7,"")) | CA5: =+AC31 -> 0 | CB5: =+AD31 -> 0 | CC5: =+AE31 -> 0 | CD5: =+AF31 -> 0 | CE5: =+AG31 -> 0 | CF5: =+AH31 -> 0 | CG5: =+AI31 -> 0 | CH5: =+AJ31 -> 0
B6: スパン別変状展開図 | K6: 【健全性判定集計表】
K7: スパン番号 | N7: S5 | P7: スパン長 | R7: 4 | U7: 前回定期点検時の健全性 | W7: 応急措置前の判定 | Y7: 対策区分毎の 変状の有無 | AC7: 対策区分毎の変状の発生範囲の規模(㎡) | AK7: 備考注2
K8: 変状番号 | L8: 対象箇所 | N8: 部位区分 | P8: 変状区分 | R8: 変状種類
Y9: 外力注1 | AC9: 材質劣化注1 | AG9: 漏水注1
Y10: Ⅳ | Z10: Ⅲ | AA10: Ⅱa | AB10: Ⅱb | AC10: Ⅳ | AD10: Ⅲ | AE10: Ⅱa | AF10: Ⅱb | AG10: Ⅳ | AH10: Ⅲ | AI10: Ⅱa | AJ10: Ⅱb
AQ11: =IF(P11="材質劣化",2,IF(P11="漏水",3,1)) -> 1
AQ12: =IF(P12="材質劣化",2,IF(P12="漏水",3,1)) -> 1
AQ13: =IF(P13="材質劣化",2,IF(P13="漏水",3,1)) -> 1
AQ14: =IF(P14="材質劣化",2,IF(P14="漏水",3,1)) -> 1
AQ15: =IF(P15="材質劣化",2,IF(P15="漏水",3,1)) -> 1
AQ16: =IF(P16="材質劣化",2,IF(P16="漏水",3,1)) -> 1
AQ17: =IF(P17="材質劣化",2,IF(P17="漏水",3,1)) -> 1
AQ18: =IF(P18="材質劣化",2,IF(P18="漏水",3,1)) -> 1
AQ19: =IF(P19="材質劣化",2,IF(P19="漏水",3,1)) -> 1
AQ20: =IF(P20="材質劣化",2,IF(P20="漏水",3,1)) -> 1
AQ21: =IF(P21="材質劣化",2,IF(P21="漏水",3,1)) -> 1
AQ22: =IF(P22="材質劣化",2,IF(P22="漏水",3,1)) -> 1
... AQ30: =IF(P30="材質劣化",2,IF(P30="漏水",3,1)) -> 1
K31: 集計 ・ 判定 ・ 診断 | L31: 変状の発生規模合計(㎡) | Y31: － | AC31: =SUM(AC11:AC30) -> 0 | AD31: =SUM(AD11:AD30) -> 0 | AE31: =SUM(AE11:AE30) -> 0 | AF31: =SUM(AF11:AF30) -> 0 | AG31: =SUM(AG11:AG30) -> 0 | AH31: =SUM(AH11:AH30) -> 0 | AI31: =SUM(AI11:AI30) -> 0 | AJ31: =SUM(AJ11:AJ30) -> 0 | AK31: 計
L32: 対策区分の 判定結果 | O32: 判定区分毎の変状数 | Y32: =COUNTIF(Y11:Y30,"○") -> 0 | Z32: =COUNTIF(Z11:Z30,"○") -> 0 | AA32: =COUNTIF(AA11:AA30,"○") -> 0 | AB32: =COUNTIF(AB11:AB30,"○") -> 0 | AC32: =COUNT(AC11:AC30) -> 0 | AD32: =COUNT(AD11:AD30) -> 0 | AE32: =COUNT(AE11:AE30) -> 0 | AF32: =COUNT(AF11:AF30) -> 0 | AG32: =COUNT(AG11:AG30) -> 0 | AH32: =COUNT(AH11:AH30) -> 0 | AI32: =COUNT(AI11:AI30) -> 0 | AJ32: =COUNT(AJ11:AJ30) -> 0
O33: 変状区分毎の判定区分注3 | Y33: =IF(Y32>0,"Ⅳ",IF(Z32>0,"Ⅲ",IF(AA32>0,"Ⅱa",IF(AB32>0,"Ⅱb","Ⅰ")))) -> Ⅰ | AC33: =IF(AC32>0,"Ⅳ",IF(AD32>0,"Ⅲ",IF(AE32>0,"Ⅱa",IF(AF32>0,"Ⅱb","Ⅰ")))) -> Ⅰ | AG33: =IF(AG32>0,"Ⅳ",IF(AH32>0,"Ⅲ",IF(AI32>0,"Ⅱa",IF(AJ32>0,"Ⅱb","Ⅰ")))) -> Ⅰ | AQ33: Ⅳ | AR33: Ⅲ | AS33: Ⅱ
L34: 健全性の 診断結果 | O34: 判定区分 | Y34: Ⅳ | Z34: Ⅲ | AA34: Ⅱ | AC34: Ⅳ | AD34: Ⅲ | AE34: Ⅱ | AG34: Ⅳ | AH34: Ⅲ | AI34: Ⅱ | AQ34: =+Y32+Z32 -> 0 | AS34: =+AA32+AB32 -> 0
O35: 判定区分毎の変状数注4 | Y35: =IF(Y32=0,"",1) | Z35: =IF(Z32=0,"",1) | AA35: =IF(AQ34=1,"",IF(AS34>0,1,"")) | AC35: =+AC32 -> 0 | AD35: =AD32 -> 0 | AE35: =AE32+AF32 -> 0 | AG35: =AG32 -> 0 | AH35: =AH32 -> 0 | AI35: =AI32+AJ32 -> 0 | AQ35: =+Y32+AC35+AG35 -> 0 | AR35: =+Z32+AD35+AH35 -> 0 | AS35: =+AS34+AE35+AI35 -> 0
O36: 変状区分毎の判定区分注4 | Y36: =IF(Y35=1,"Ⅳ",IF(Z35=1,"Ⅲ",IF(AA35=1,"Ⅱ","Ⅰ"))) -> Ⅰ | AC36: =IF(AC35>0,"Ⅳ",IF(AD35>0,"Ⅲ",IF(AE35>0,"Ⅱ","Ⅰ"))) -> Ⅰ | AG36: =IF(AG35>0,"Ⅳ",IF(AH35>0,"Ⅲ",IF(AI35>0,"Ⅱ","Ⅰ"))) -> Ⅰ | AQ36: =IF(AQ35>0,"Ⅳ",IF(AR35>0,"Ⅲ",IF(AS35>0,"Ⅱ","Ⅰ"))) -> Ⅰ
O37: 覆工スパン単位の判定区分注5 | Y37: =IF(OR(Y36="Ⅳ",AC36="Ⅳ",AG36="Ⅳ"),"Ⅳ",IF(OR(Y36="Ⅲ",AC36="Ⅲ",AG36="Ⅲ"),"Ⅲ",IF(OR(Y36="Ⅱ",AC36="Ⅱ",AG36="Ⅱ"),"Ⅱ","Ⅰ"))) -> Ⅰ
K38: 特記事項
K40: 注1：誤記入防止のため、当該変状区分以外のセルは灰色表示とすること。
K41: 注2：応急対策を実施した場合は、その詳細を備考に記載すること。
K42: 注3：変状区分毎での最も評価の厳しい判定区分。
K43: 注4：変状区分毎での最も評価の厳しい判定区分．外力は覆工スパン単位、材質劣化、漏水は変状単位で行う。
K44: 注5：覆工スパンの中で最も評価の厳しい健全性を採用し、その覆工スパン毎の健全性とする。
B46: ※1：本シートは作成洩れのないよう、変状が無くても全スパン分を作成すること．また変状展開図は、様式D-2-1、様式D-2-1'と同じものを覆工スパン単位で拡大し掲載すること。
B47: ※2：変状番号は、様式D-1-1で記入した番号と整合させること。
B48: ※3：対策区分毎の変状発生規模は、様式D-1-1に記載した面積を記入すること（ただし外力はスパン単位で評価するため対象外とし、備考欄に状況を記入）。
B49: ※4：本様式は覆工スパン毎に作成すること。
B50: ※5：変状数が多い場合は、適時、表の行を増やして覆工スパン毎に1枚のシートに収めること。また、1スパン１シートとし、スパンに合わせてシートを追加すること。
B51: ※6：対策区分毎の変状の発生範囲の規模とは，対策を行う際に参考となる変状の長さや面積であり，変状を包含する長さや面積とする。
B52: ※7：路面滞水は、変状面積に1を記載するとともに、備考にも内容を記載すること。

Sheet 様式D-3_S006
AU1: 様式E-1リンク用→ | AV1: 覆工ｽﾊﾟﾝ 番号 | AW1: ｽﾊﾟﾝ 長 (m) | AX1: 変状数集計 | BS1: 覆工スパン毎の 健全性の診断 | BW1: 変状規模集計
AX2: 対策区分毎の変状数 | BJ2: 健全性の判定区分毎の変状数 | BW2: 覆工スパン長(m) | CA2: 対策区分毎の変状の発生範囲の規模(㎡）
B3: ■定期点検記録様式 覆工スパン別変状詳細展開図 【様式D-3】 | AX3: 外力 | BB3: 材質劣化 | BF3: 漏水 | BJ3: 外力 | BM3: 材質劣化 | BP3: 漏水 | BS3: 外力 | BT3: 材質劣化 | BU3: 漏水 | BV3: 健全性 | BW3: 外力※１ | CA3: 材質劣化 | CE3: 漏水
B4: フリガナ | E4: トノミトンネル | K4: 路線名 | N4: 主要道路防府環状線 | T4: 定期点検業者 | Y4: セントラルコンサルタント株式会社 | AG4: 定期点検年月日 | AK4: 44337 | AX4: Ⅳ | AY4: Ⅲ | AZ4: Ⅱa | BA4: Ⅱb | BB4: Ⅳ | BC4: Ⅲ | BD4: Ⅱa | BE4: Ⅱb | BF4: Ⅳ | BG4: Ⅲ | BH4: Ⅱa | BI4: Ⅱb | BJ4: Ⅳ | BK4: Ⅲ | BL4: Ⅱ | BM4: Ⅳ | BN4: Ⅲ | BO4: Ⅱ | BP4: Ⅳ | BQ4: Ⅲ | BR4: Ⅱ | BW4: Ⅳ | BX4: Ⅲ | BY4: Ⅱa | BZ4: Ⅱb | CA4: Ⅳ | CB4: Ⅲ | CC4: Ⅱa | CD4: Ⅱb | CE4: Ⅳ | CF4: Ⅲ | CG4: Ⅱa | CH4: Ⅱb
B5: 名 称 | E5: 富海トンネル | K5: 管理者名 | N5: 山口県防府土木建築事務所 | T5: 定期点検者名 | Y5: 鹿子嶋 康博 | AV5: =N7 -> S6 | AW5: =R7 -> 4 | AX5: =+Y32 -> 0 | AY5: =+Z32 -> 0 | AZ5: =+AA32 -> 0 | BA5: =+AB32 -> 0 | BB5: =+AC32 -> 0 | BC5: =+AD32 -> 0 | BD5: =+AE32 -> 0 | BE5: =+AF32 -> 0 | ... BI5: =+AJ32 -> 0 | BJ5: =+Y35 | BK5: =+Z35 | BL5: =+AA35 | BM5: =+AC35 -> 0 | BN5: =+AD35 -> 0 | BO5: =+AE35 -> 0 | BP5: =+AG35 -> 0 | BQ5: =+AH35 -> 0 | BR5: =+AI35 -> 1 | BS5: =+Y36 -> Ⅰ | BT5: =+AC36 -> Ⅰ | BU5: =+AG36 -> Ⅱ | BV5: =+Y37 -> Ⅱ | BW5: =IF(Y32>0,$R$7,"") | BX5: =IF(Z32>0,"",IF(AA32>0,$R$7,"")) | BY5: =IF(Y32+Z32>0,"",IF(AA32>0,$R$7,"")) | BZ5: =IF(Y32+Z32+AA32>0,"",IF(AB32>0,$R$7,"")) | CA5: =+AC31 -> 0 | CB5: =+AD31 -> 0 | CC5: =+AE31 -> 0 | CD5: =+AF31 -> 0 | CE5: =+AG31 -> 0 | CF5: =+AH31 -> 0 | CG5: =+AI31 -> 0.015 | CH5: =+AJ31 -> 0
B6: スパン別変状展開図 | K6: 【健全性判定集計表】
K7: スパン番号 | N7: S6 | P7: スパン長 | R7: 4 | U7: 前回定期点検時の健全性 | W7: 応急措置前の判定 | Y7: 対策区分毎の 変状の有無 | AC7: 対策区分毎の変状の発生範囲の規模(㎡) | AK7: 備考注2
K8: 変状番号 | L8: 対象箇所 | N8: 部位区分 | P8: 変状区分 | R8: 変状種類
Y9: 外力注1 | AC9: 材質劣化注1 | AG9: 漏水注1
Y10: Ⅳ | Z10: Ⅲ | AA10: Ⅱa | AB10: Ⅱb | AC10: Ⅳ | AD10: Ⅲ | AE10: Ⅱa | AF10: Ⅱb | AG10: Ⅳ | AH10: Ⅲ | AI10: Ⅱa | AJ10: Ⅱb
K11: 1 | L11: 覆工・坑門 | N11: 横断目地（右側） | P11: 漏水 | R11: 補強・補修材の破損 | U11: Ⅱ | AI11: 0.015 | AK11: 0 | AQ11: =IF(P11="材質劣化",2,IF(P11="漏水",3,1)) -> 3
AQ12: =IF(P12="材質劣化",2,IF(P12="漏水",3,1)) -> 1
AQ13: =IF(P13="材質劣化",2,IF(P13="漏水",3,1)) -> 1
AQ14: =IF(P14="材質劣化",2,IF(P14="漏水",3,1)) -> 1
AQ15: =IF(P15="材質劣化",2,IF(P15="漏水",3,1)) -> 1
AQ16: =IF(P16="材質劣化",2,IF(P16="漏水",3,1)) -> 1
AQ17: =IF(P17="材質劣化",2,IF(P17="漏水",3,1)) -> 1
AQ18: =IF(P18="材質劣化",2,IF(P18="漏水",3,1)) -> 1
AQ19: =IF(P19="材質劣化",2,IF(P19="漏水",3,1)) -> 1
AQ20: =IF(P20="材質劣化",2,IF(P20="漏水",3,1)) -> 1
AQ21: =IF(P21="材質劣化",2,IF(P21="漏水",3,1)) -> 1
AQ22: =IF(P22="材質劣化",2,IF(P22="漏水",3,1)) -> 1
AQ23: =IF(P23="材質劣化",2,IF(P23="漏水",3,1)) -> 1
... AQ30: =IF(P30="材質劣化",2,IF(P30="漏水",3,1)) -> 1
K31: 集計 ・ 判定 ・ 診断 | L31: 変状の発生規模合計(㎡) | Y31: － | AC31: =SUM(AC11:AC30) -> 0 | AD31: =SUM(AD11:AD30) -> 0 | AE31: =SUM(AE11:AE30) -> 0 | AF31: =SUM(AF11:AF30) -> 0 | AG31: =SUM(AG11:AG30) -> 0 | AH31: =SUM(AH11:AH30) -> 0 | AI31: =SUM(AI11:AI30) -> 0.015 | AJ31: =SUM(AJ11:AJ30) -> 0 | AK31: 計
L32: 対策区分の 判定結果 | O32: 判定区分毎の変状数 | Y32: =COUNTIF(Y11:Y30,"○") -> 0 | Z32: =COUNTIF(Z11:Z30,"○") -> 0 | AA32: =COUNTIF(AA11:AA30,"○") -> 0 | AB32: =COUNTIF(AB11:AB30,"○") -> 0 | AC32: =COUNT(AC11:AC30) -> 0 | AD32: =COUNT(AD11:AD30) -> 0 | AE32: =COUNT(AE11:AE30) -> 0 | AF32: =COUNT(AF11:AF30) -> 0 | AG32: =COUNT(AG11:AG30) -> 0 | AH32: =COUNT(AH11:AH30) -> 0 | AI32: =COUNT(AI11:AI30) -> 1 | AJ32: =COUNT(AJ11:AJ30) -> 0
O33: 変状区分毎の判定区分注3 | Y33: =IF(Y32>0,"Ⅳ",IF(Z32>0,"Ⅲ",IF(AA32>0,"Ⅱa",IF(AB32>0,"Ⅱb","Ⅰ")))) -> Ⅰ | AC33: =IF(AC32>0,"Ⅳ",IF(AD32>0,"Ⅲ",IF(AE32>0,"Ⅱa",IF(AF32>0,"Ⅱb","Ⅰ")))) -> Ⅰ | AG33: =IF(AG32>0,"Ⅳ",IF(AH32>0,"Ⅲ",IF(AI32>0,"Ⅱa",IF(AJ32>0,"Ⅱb","Ⅰ")))) -> Ⅱa | AQ33: Ⅳ | AR33: Ⅲ | AS33: Ⅱ
L34: 健全性の 診断結果 | O34: 判定区分 | Y34: Ⅳ | Z34: Ⅲ | AA34: Ⅱ | AC34: Ⅳ | AD34: Ⅲ | AE34: Ⅱ | AG34: Ⅳ | AH34: Ⅲ | AI34: Ⅱ | AQ34: =+Y32+Z32 -> 0 | AS34: =+AA32+AB32 -> 0
O35: 判定区分毎の変状数注4 | Y35: =IF(Y32=0,"",1) | Z35: =IF(Z32=0,"",1) | AA35: =IF(AQ34=1,"",IF(AS34>0,1,"")) | AC35: =+AC32 -> 0 | AD35: =AD32 -> 0 | AE35: =AE32+AF32 -> 0 | AG35: =AG32 -> 0 | AH35: =AH32 -> 0 | AI35: =AI32+AJ32 -> 1 | AQ35: =+Y32+AC35+AG35 -> 0 | AR35: =+Z32+AD35+AH35 -> 0 | AS35: =+AS34+AE35+AI35 -> 1
O36: 変状区分毎の判定区分注4 | Y36: =IF(Y35=1,"Ⅳ",IF(Z35=1,"Ⅲ",IF(AA35=1,"Ⅱ","Ⅰ"))) -> Ⅰ | AC36: =IF(AC35>0,"Ⅳ",IF(AD35>0,"Ⅲ",IF(AE35>0,"Ⅱ","Ⅰ"))) -> Ⅰ | AG36: =IF(AG35>0,"Ⅳ",IF(AH35>0,"Ⅲ",IF(AI35>0,"Ⅱ","Ⅰ"))) -> Ⅱ | AQ36: =IF(AQ35>0,"Ⅳ",IF(AR35>0,"Ⅲ",IF(AS35>0,"Ⅱ","Ⅰ"))) -> Ⅱ
O37: 覆工スパン単位の判定区分注5 | Y37: =IF(OR(Y36="Ⅳ",AC36="Ⅳ",AG36="Ⅳ"),"Ⅳ",IF(OR(Y36="Ⅲ",AC36="Ⅲ",AG36="Ⅲ"),"Ⅲ",IF(OR(Y36="Ⅱ",AC36="Ⅱ",AG36="Ⅱ"),"Ⅱ","Ⅰ"))) -> Ⅱ
K38: 特記事項
K40: 注1：誤記入防止のため、当該変状区分以外のセルは灰色表示とすること。
K41: 注2：応急対策を実施した場合は、その詳細を備考に記載すること。
K42: 注3：変状区分毎での最も評価の厳しい判定区分。
K43: 注4：変状区分毎での最も評価の厳しい判定区分．外力は覆工スパン単位、材質劣化、漏水は変状単位で行う。
K44: 注5：覆工スパンの中で最も評価の厳しい健全性を採用し、その覆工スパン毎の健全性とする。
B46: ※1：本シートは作成洩れのないよう、変状が無くても全スパン分を作成すること．また変状展開図は、様式D-2-1、様式D-2-1'と同じものを覆工スパン単位で拡大し掲載すること。
B47: ※2：変状番号は、様式D-1-1で記入した番号と整合させること。
B48: ※3：対策区分毎の変状発生規模は、様式D-1-1に記載した面積を記入すること（ただし外力はスパン単位で評価するため対象外とし、備考欄に状況を記入）。
B49: ※4：本様式は覆工スパン毎に作成すること。
B50: ※5：変状数が多い場合は、適時、表の行を増やして覆工スパン毎に1枚のシートに収めること。また、1スパン１シートとし、スパンに合わせてシートを追加すること。
B51: ※6：対策区分毎の変状の発生範囲の規模とは，対策を行う際に参考となる変状の長さや面積であり，変状を包含する長さや面積とする。
B52: ※7：路面滞水は、変状面積に1を記載するとともに、備考にも内容を記載すること。

Sheet 様式D-3_S007
AU1: 様式E-1リンク用→ | AV1: 覆工ｽﾊﾟﾝ 番号 | AW1: ｽﾊﾟﾝ 長 (m) | AX1: 変状数集計 | BS1: 覆工スパン毎の 健全性の診断 | BW1: 変状規模集計
AX2: 対策区分毎の変状数 | BJ2: 健全性の判定区分毎の変状数 | BW2: 覆工スパン長(m) | CA2: 対策区分毎の変状の発生範囲の規模(㎡）
B3: ■定期点検記録様式 覆工スパン別変状詳細展開図 【様式D-3】 | AX3: 外力 | BB3: 材質劣化 | BF3: 漏水 | BJ3: 外力 | BM3: 材質劣化 | BP3: 漏水 | BS3: 外力 | BT3: 材質劣化 | BU3: 漏水 | BV3: 健全性 | BW3: 外力※１ | CA3: 材質劣化 | CE3: 漏水
B4: フリガナ | E4: トノミトンネル | K4: 路線名 | N4: 主要道路防府環状線 | T4: 定期点検業者 | Y4: セントラルコンサルタント株式会社 | AG4: 定期点検年月日 | AK4: 44337 | AX4: Ⅳ | AY4: Ⅲ | AZ4: Ⅱa | BA4: Ⅱb | BB4: Ⅳ | BC4: Ⅲ | BD4: Ⅱa | BE4: Ⅱb | BF4: Ⅳ | BG4: Ⅲ | BH4: Ⅱa | BI4: Ⅱb | BJ4: Ⅳ | BK4: Ⅲ | BL4: Ⅱ | BM4: Ⅳ | BN4: Ⅲ | BO4: Ⅱ | BP4: Ⅳ | BQ4: Ⅲ | BR4: Ⅱ | BW4: Ⅳ | BX4: Ⅲ | BY4: Ⅱa | BZ4: Ⅱb | CA4: Ⅳ | CB4: Ⅲ | CC4: Ⅱa | CD4: Ⅱb | CE4: Ⅳ | CF4: Ⅲ | CG4: Ⅱa | CH4: Ⅱb
B5: 名 称 | E5: 富海トンネル | K5: 管理者名 | N5: 山口県防府土木建築事務所 | T5: 定期点検者名 | Y5: 鹿子嶋 康博 | AV5: =N7 -> S7 | AW5: =R7 -> 4 | AX5: =+Y32 -> 0 | AY5: =+Z32 -> 0 | AZ5: =+AA32 -> 0 | BA5: =+AB32 -> 1 | BB5: =+AC32 -> 0 | BC5: =+AD32 -> 0 | BD5: =+AE32 -> 0 | BE5: =+AF32 -> 0 | ... BI5: =+AJ32 -> 1 | BJ5: =+Y35 | BK5: =+Z35 | BL5: =+AA35 -> 1 | BM5: =+AC35 -> 0 | BN5: =+AD35 -> 0 | BO5: =+AE35 -> 0 | BP5: =+AG35 -> 0 | BQ5: =+AH35 -> 0 | BR5: =+AI35 -> 1 | BS5: =+Y36 -> Ⅱ | BT5: =+AC36 -> Ⅰ | BU5: =+AG36 -> Ⅱ | BV5: =+Y37 -> Ⅱ | BW5: =IF(Y32>0,$R$7,"") | BX5: =IF(Z32>0,"",IF(AA32>0,$R$7,"")) | BY5: =IF(Y32+Z32>0,"",IF(AA32>0,$R$7,"")) | BZ5: =IF(Y32+Z32+AA32>0,"",IF(AB32>0,$R$7,"")) -> 4 | CA5: =+AC31 -> 0 | CB5: =+AD31 -> 0 | CC5: =+AE31 -> 0 | CD5: =+AF31 -> 0 | CE5: =+AG31 -> 0 | CF5: =+AH31 -> 0 | CG5: =+AI31 -> 0 | CH5: =+AJ31 -> 1.32
B6: スパン別変状展開図 | K6: 【健全性判定集計表】
K7: スパン番号 | N7: S7 | P7: スパン長 | R7: 4 | U7: 前回定期点検時の健全性 | W7: 応急措置前の判定 | Y7: 対策区分毎の 変状の有無 | AC7: 対策区分毎の変状の発生範囲の規模(㎡) | AK7: 備考注2
K8: 変状番号 | L8: 対象箇所 | N8: 部位区分 | P8: 変状区分 | R8: 変状種類
Y9: 外力注1 | AC9: 材質劣化注1 | AG9: 漏水注1
Y10: Ⅳ | Z10: Ⅲ | AA10: Ⅱa | AB10: Ⅱb | AC10: Ⅳ | AD10: Ⅲ | AE10: Ⅱa | AF10: Ⅱb | AG10: Ⅳ | AH10: Ⅲ | AI10: Ⅱa | AJ10: Ⅱb
K11: 1 | L11: 覆工・坑門 | N11: アーチ（左側） | P11: 外力 | R11: ひび割れ | U11: － | AB11: ○ | AK11: 幅0.5mm×長さ3.3m,縦断方向のひび割れ | AQ11: =IF(P11="材質劣化",2,IF(P11="漏水",3,1)) -> 1
K12: 2 | L12: 路面 | N12: 側溝 | P12: 漏水 | R12: その他 | U12: Ⅱ | AJ12: 1.32 | AK12: 0 | AQ12: =IF(P12="材質劣化",2,IF(P12="漏水",3,1)) -> 3
AQ13: =IF(P13="材質劣化",2,IF(P13="漏水",3,1)) -> 1
AQ14: =IF(P14="材質劣化",2,IF(P14="漏水",3,1)) -> 1
AQ15: =IF(P15="材質劣化",2,IF(P15="漏水",3,1)) -> 1
AQ16: =IF(P16="材質劣化",2,IF(P16="漏水",3,1)) -> 1
AQ17: =IF(P17="材質劣化",2,IF(P17="漏水",3,1)) -> 1
AQ18: =IF(P18="材質劣化",2,IF(P18="漏水",3,1)) -> 1
AQ19: =IF(P19="材質劣化",2,IF(P19="漏水",3,1)) -> 1
AQ20: =IF(P20="材質劣化",2,IF(P20="漏水",3,1)) -> 1
AQ21: =IF(P21="材質劣化",2,IF(P21="漏水",3,1)) -> 1
AQ22: =IF(P22="材質劣化",2,IF(P22="漏水",3,1)) -> 1
AQ23: =IF(P23="材質劣化",2,IF(P23="漏水",3,1)) -> 1
AQ24: =IF(P24="材質劣化",2,IF(P24="漏水",3,1)) -> 1
... AQ30: =IF(P30="材質劣化",2,IF(P30="漏水",3,1)) -> 1
K31: 集計 ・ 判定 ・ 診断 | L31: 変状の発生規模合計(㎡) | Y31: － | AC31: =SUM(AC11:AC30) -> 0 | AD31: =SUM(AD11:AD30) -> 0 | AE31: =SUM(AE11:AE30) -> 0 | AF31: =SUM(AF11:AF30) -> 0 | AG31: =SUM(AG11:AG30) -> 0 | AH31: =SUM(AH11:AH30) -> 0 | AI31: =SUM(AI11:AI30) -> 0 | AJ31: =SUM(AJ11:AJ30) -> 1.32 | AK31: 計
L32: 対策区分の 判定結果 | O32: 判定区分毎の変状数 | Y32: =COUNTIF(Y11:Y30,"○") -> 0 | Z32: =COUNTIF(Z11:Z30,"○") -> 0 | AA32: =COUNTIF(AA11:AA30,"○") -> 0 | AB32: =COUNTIF(AB11:AB30,"○") -> 1 | AC32: =COUNT(AC11:AC30) -> 0 | AD32: =COUNT(AD11:AD30) -> 0 | AE32: =COUNT(AE11:AE30) -> 0 | AF32: =COUNT(AF11:AF30) -> 0 | AG32: =COUNT(AG11:AG30) -> 0 | AH32: =COUNT(AH11:AH30) -> 0 | AI32: =COUNT(AI11:AI30) -> 0 | AJ32: =COUNT(AJ11:AJ30) -> 1
O33: 変状区分毎の判定区分注3 | Y33: =IF(Y32>0,"Ⅳ",IF(Z32>0,"Ⅲ",IF(AA32>0,"Ⅱa",IF(AB32>0,"Ⅱb","Ⅰ")))) -> Ⅱb | AC33: =IF(AC32>0,"Ⅳ",IF(AD32>0,"Ⅲ",IF(AE32>0,"Ⅱa",IF(AF32>0,"Ⅱb","Ⅰ")))) -> Ⅰ | AG33: =IF(AG32>0,"Ⅳ",IF(AH32>0,"Ⅲ",IF(AI32>0,"Ⅱa",IF(AJ32>0,"Ⅱb","Ⅰ")))) -> Ⅱb | AQ33: Ⅳ | AR33: Ⅲ | AS33: Ⅱ
L34: 健全性の 診断結果 | O34: 判定区分 | Y34: Ⅳ | Z34: Ⅲ | AA34: Ⅱ | AC34: Ⅳ | AD34: Ⅲ | AE34: Ⅱ | AG34: Ⅳ | AH34: Ⅲ | AI34: Ⅱ | AQ34: =+Y32+Z32 -> 0 | AS34: =+AA32+AB32 -> 1
O35: 判定区分毎の変状数注4 | Y35: =IF(Y32=0,"",1) | Z35: =IF(Z32=0,"",1) | AA35: =IF(AQ34=1,"",IF(AS34>0,1,"")) -> 1 | AC35: =+AC32 -> 0 | AD35: =AD32 -> 0 | AE35: =AE32+AF32 -> 0 | AG35: =AG32 -> 0 | AH35: =AH32 -> 0 | AI35: =AI32+AJ32 -> 1 | AQ35: =+Y32+AC35+AG35 -> 0 | AR35: =+Z32+AD35+AH35 -> 0 | AS35: =+AS34+AE35+AI35 -> 2
O36: 変状区分毎の判定区分注4 | Y36: =IF(Y35=1,"Ⅳ",IF(Z35=1,"Ⅲ",IF(AA35=1,"Ⅱ","Ⅰ"))) -> Ⅱ | AC36: =IF(AC35>0,"Ⅳ",IF(AD35>0,"Ⅲ",IF(AE35>0,"Ⅱ","Ⅰ"))) -> Ⅰ | AG36: =IF(AG35>0,"Ⅳ",IF(AH35>0,"Ⅲ",IF(AI35>0,"Ⅱ","Ⅰ"))) -> Ⅱ | AQ36: =IF(AQ35>0,"Ⅳ",IF(AR35>0,"Ⅲ",IF(AS35>0,"Ⅱ","Ⅰ"))) -> Ⅱ
O37: 覆工スパン単位の判定区分注5 | Y37: =IF(OR(Y36="Ⅳ",AC36="Ⅳ",AG36="Ⅳ"),"Ⅳ",IF(OR(Y36="Ⅲ",AC36="Ⅲ",AG36="Ⅲ"),"Ⅲ",IF(OR(Y36="Ⅱ",AC36="Ⅱ",AG36="Ⅱ"),"Ⅱ","Ⅰ"))) -> Ⅱ
K38: 特記事項
K40: 注1：誤記入防止のため、当該変状区分以外のセルは灰色表示とすること。
K41: 注2：応急対策を実施した場合は、その詳細を備考に記載すること。
K42: 注3：変状区分毎での最も評価の厳しい判定区分。
K43: 注4：変状区分毎での最も評価の厳しい判定区分．外力は覆工スパン単位、材質劣化、漏水は変状単位で行う。
K44: 注5：覆工スパンの中で最も評価の厳しい健全性を採用し、その覆工スパン毎の健全性とする。
B46: ※1：本シートは作成洩れのないよう、変状が無くても全スパン分を作成すること．また変状展開図は、様式D-2-1、様式D-2-1'と同じものを覆工スパン単位で拡大し掲載すること。
B47: ※2：変状番号は、様式D-1-1で記入した番号と整合させること。
B48: ※3：対策区分毎の変状発生規模は、様式D-1-1に記載した面積を記入すること（ただし外力はスパン単位で評価するため対象外とし、備考欄に状況を記入）。
B49: ※4：本様式は覆工スパン毎に作成すること。
B50: ※5：変状数が多い場合は、適時、表の行を増やして覆工スパン毎に1枚のシートに収めること。また、1スパン１シートとし、スパンに合わせてシートを追加すること。
B51: ※6：対策区分毎の変状の発生範囲の規模とは，対策を行う際に参考となる変状の長さや面積であり，変状を包含する長さや面積とする。
B52: ※7：路面滞水は、変状面積に1を記載するとともに、備考にも内容を記載すること。

Sheet 様式D-3_S008
AU1: 様式E-1リンク用→ | AV1: 覆工ｽﾊﾟﾝ 番号 | AW1: ｽﾊﾟﾝ 長 (m) | AX1: 変状数集計 | BS1: 覆工スパン毎の 健全性の診断 | BW1: 変状規模集計
AX2: 対策区分毎の変状数 | BJ2: 健全性の判定区分毎の変状数 | BW2: 覆工スパン長(m) | CA2: 対策区分毎の変状の発生範囲の規模(㎡）
B3: ■定期点検記録様式 覆工スパン別変状詳細展開図 【様式D-3】 | AX3: 外力 | BB3: 材質劣化 | BF3: 漏水 | BJ3: 外力 | BM3: 材質劣化 | BP3: 漏水 | BS3: 外力 | BT3: 材質劣化 | BU3: 漏水 | BV3: 健全性 | BW3: 外力※１ | CA3: 材質劣化 | CE3: 漏水
B4: フリガナ | E4: トノミトンネル | K4: 路線名 | N4: 主要道路防府環状線 | T4: 定期点検業者 | Y4: セントラルコンサルタント株式会社 | AG4: 定期点検年月日 | AK4: 44337 | AX4: Ⅳ | AY4: Ⅲ | AZ4: Ⅱa | BA4: Ⅱb | BB4: Ⅳ | BC4: Ⅲ | BD4: Ⅱa | BE4: Ⅱb | BF4: Ⅳ | BG4: Ⅲ | BH4: Ⅱa | BI4: Ⅱb | BJ4: Ⅳ | BK4: Ⅲ | BL4: Ⅱ | BM4: Ⅳ | BN4: Ⅲ | BO4: Ⅱ | BP4: Ⅳ | BQ4: Ⅲ | BR4: Ⅱ | BW4: Ⅳ | BX4: Ⅲ | BY4: Ⅱa | BZ4: Ⅱb | CA4: Ⅳ | CB4: Ⅲ | CC4: Ⅱa | CD4: Ⅱb | CE4: Ⅳ | CF4: Ⅲ | CG4: Ⅱa | CH4: Ⅱb
B5: 名 称 | E5: 富海トンネル | K5: 管理者名 | N5: 山口県防府土木建築事務所 | T5: 定期点検者名 | Y5: 鹿子嶋 康博 | AV5: =N7 -> S8 | AW5: =R7 -> 4 | AX5: =+Y32 -> 0 | AY5: =+Z32 -> 0 | AZ5: =+AA32 -> 0 | BA5: =+AB32 -> 2 | BB5: =+AC32 -> 0 | BC5: =+AD32 -> 0 | BD5: =+AE32 -> 0 | BE5: =+AF32 -> 0 | ... BI5: =+AJ32 -> 0 | BJ5: =+Y35 | BK5: =+Z35 | BL5: =+AA35 -> 1 | BM5: =+AC35 -> 0 | BN5: =+AD35 -> 0 | BO5: =+AE35 -> 0 | BP5: =+AG35 -> 0 | BQ5: =+AH35 -> 0 | BR5: =+AI35 -> 0 | BS5: =+Y36 -> Ⅱ | BT5: =+AC36 -> Ⅰ | BU5: =+AG36 -> Ⅰ | BV5: =+Y37 -> Ⅱ | BW5: =IF(Y32>0,$R$7,"") | BX5: =IF(Z32>0,"",IF(AA32>0,$R$7,"")) | BY5: =IF(Y32+Z32>0,"",IF(AA32>0,$R$7,"")) | BZ5: =IF(Y32+Z32+AA32>0,"",IF(AB32>0,$R$7,"")) -> 4 | CA5: =+AC31 -> 0 | CB5: =+AD31 -> 0 | CC5: =+AE31 -> 0 | CD5: =+AF31 -> 0 | CE5: =+AG31 -> 0 | CF5: =+AH31 -> 0 | CG5: =+AI31 -> 0 | CH5: =+AJ31 -> 0
B6: スパン別変状展開図 | K6: 【健全性判定集計表】
K7: スパン番号 | N7: S8 | P7: スパン長 | R7: 4 | U7: 前回定期点検時の健全性 | W7: 応急措置前の判定 | Y7: 対策区分毎の 変状の有無 | AC7: 対策区分毎の変状の発生範囲の規模(㎡) | AK7: 備考注2
K8: 変状番号 | L8: 対象箇所 | N8: 部位区分 | P8: 変状区分 | R8: 変状種類
Y9: 外力注1 | AC9: 材質劣化注1 | AG9: 漏水注1
Y10: Ⅳ | Z10: Ⅲ | AA10: Ⅱa | AB10: Ⅱb | AC10: Ⅳ | AD10: Ⅲ | AE10: Ⅱa | AF10: Ⅱb | AG10: Ⅳ | AH10: Ⅲ | AI10: Ⅱa | AJ10: Ⅱb
K11: 1 | L11: 覆工・坑門 | N11: アーチ（左側） | P11: 外力 | R11: ひび割れ | U11: Ⅰ | AB11: ○ | AK11: 幅0.3mm×長さ3.9m,縦断方向のひび割れ | AQ11: =IF(P11="材質劣化",2,IF(P11="漏水",3,1)) -> 1
K12: 2 | L12: 覆工・坑門 | N12: アーチ（右側） | P12: 外力 | R12: ひび割れ | U12: － | AB12: ○ | AK12: 幅0.5mm×長さ0.7m,縦断方向のひび割れ | AQ12: =IF(P12="材質劣化",2,IF(P12="漏水",3,1)) -> 1
AQ13: =IF(P13="材質劣化",2,IF(P13="漏水",3,1)) -> 1
AQ14: =IF(P14="材質劣化",2,IF(P14="漏水",3,1)) -> 1
AQ15: =IF(P15="材質劣化",2,IF(P15="漏水",3,1)) -> 1
AQ16: =IF(P16="材質劣化",2,IF(P16="漏水",3,1)) -> 1
AQ17: =IF(P17="材質劣化",2,IF(P17="漏水",3,1)) -> 1
AQ18: =IF(P18="材質劣化",2,IF(P18="漏水",3,1)) -> 1
AQ19: =IF(P19="材質劣化",2,IF(P19="漏水",3,1)) -> 1
AQ20: =IF(P20="材質劣化",2,IF(P20="漏水",3,1)) -> 1
AQ21: =IF(P21="材質劣化",2,IF(P21="漏水",3,1)) -> 1
AQ22: =IF(P22="材質劣化",2,IF(P22="漏水",3,1)) -> 1
AQ23: =IF(P23="材質劣化",2,IF(P23="漏水",3,1)) -> 1
AQ24: =IF(P24="材質劣化",2,IF(P24="漏水",3,1)) -> 1
... AQ30: =IF(P30="材質劣化",2,IF(P30="漏水",3,1)) -> 1
K31: 集計 ・ 判定 ・ 診断 | L31: 変状の発生規模合計(㎡) | Y31: － | AC31: =SUM(AC11:AC30) -> 0 | AD31: =SUM(AD11:AD30) -> 0 | AE31: =SUM(AE11:AE30) -> 0 | AF31: =SUM(AF11:AF30) -> 0 | AG31: =SUM(AG11:AG30) -> 0 | AH31: =SUM(AH11:AH30) -> 0 | AI31: =SUM(AI11:AI30) -> 0 | AJ31: =SUM(AJ11:AJ30) -> 0 | AK31: 計
L32: 対策区分の 判定結果 | O32: 判定区分毎の変状数 | Y32: =COUNTIF(Y11:Y30,"○") -> 0 | Z32: =COUNTIF(Z11:Z30,"○") -> 0 | AA32: =COUNTIF(AA11:AA30,"○") -> 0 | AB32: =COUNTIF(AB11:AB30,"○") -> 2 | AC32: =COUNT(AC11:AC30) -> 0 | AD32: =COUNT(AD11:AD30) -> 0 | AE32: =COUNT(AE11:AE30) -> 0 | AF32: =COUNT(AF11:AF30) -> 0 | AG32: =COUNT(AG11:AG30) -> 0 | AH32: =COUNT(AH11:AH30) -> 0 | AI32: =COUNT(AI11:AI30) -> 0 | AJ32: =COUNT(AJ11:AJ30) -> 0
O33: 変状区分毎の判定区分注3 | Y33: =IF(Y32>0,"Ⅳ",IF(Z32>0,"Ⅲ",IF(AA32>0,"Ⅱa",IF(AB32>0,"Ⅱb","Ⅰ")))) -> Ⅱb | AC33: =IF(AC32>0,"Ⅳ",IF(AD32>0,"Ⅲ",IF(AE32>0,"Ⅱa",IF(AF32>0,"Ⅱb","Ⅰ")))) -> Ⅰ | AG33: =IF(AG32>0,"Ⅳ",IF(AH32>0,"Ⅲ",IF(AI32>0,"Ⅱa",IF(AJ32>0,"Ⅱb","Ⅰ")))) -> Ⅰ | AQ33: Ⅳ | AR33: Ⅲ | AS33: Ⅱ
L34: 健全性の 診断結果 | O34: 判定区分 | Y34: Ⅳ | Z34: Ⅲ | AA34: Ⅱ | AC34: Ⅳ | AD34: Ⅲ | AE34: Ⅱ | AG34: Ⅳ | AH34: Ⅲ | AI34: Ⅱ | AQ34: =+Y32+Z32 -> 0 | AS34: =+AA32+AB32 -> 2
O35: 判定区分毎の変状数注4 | Y35: =IF(Y32=0,"",1) | Z35: =IF(Z32=0,"",1) | AA35: =IF(AQ34=1,"",IF(AS34>0,1,"")) -> 1 | AC35: =+AC32 -> 0 | AD35: =AD32 -> 0 | AE35: =AE32+AF32 -> 0 | AG35: =AG32 -> 0 | AH35: =AH32 -> 0 | AI35: =AI32+AJ32 -> 0 | AQ35: =+Y32+AC35+AG35 -> 0 | AR35: =+Z32+AD35+AH35 -> 0 | AS35: =+AS34+AE35+AI35 -> 2
O36: 変状区分毎の判定区分注4 | Y36: =IF(Y35=1,"Ⅳ",IF(Z35=1,"Ⅲ",IF(AA35=1,"Ⅱ","Ⅰ"))) -> Ⅱ | AC36: =IF(AC35>0,"Ⅳ",IF(AD35>0,"Ⅲ",IF(AE35>0,"Ⅱ","Ⅰ"))) -> Ⅰ | AG36: =IF(AG35>0,"Ⅳ",IF(AH35>0,"Ⅲ",IF(AI35>0,"Ⅱ","Ⅰ"))) -> Ⅰ | AQ36: =IF(AQ35>0,"Ⅳ",IF(AR35>0,"Ⅲ",IF(AS35>0,"Ⅱ","Ⅰ"))) -> Ⅱ
O37: 覆工スパン単位の判定区分注5 | Y37: =IF(OR(Y36="Ⅳ",AC36="Ⅳ",AG36="Ⅳ"),"Ⅳ",IF(OR(Y36="Ⅲ",AC36="Ⅲ",AG36="Ⅲ"),"Ⅲ",IF(OR(Y36="Ⅱ",AC36="Ⅱ",AG36="Ⅱ"),"Ⅱ","Ⅰ"))) -> Ⅱ
K38: 特記事項
K40: 注1：誤記入防止のため、当該変状区分以外のセルは灰色表示とすること。
K41: 注2：応急対策を実施した場合は、その詳細を備考に記載すること。
K42: 注3：変状区分毎での最も評価の厳しい判定区分。
K43: 注4：変状区分毎での最も評価の厳しい判定区分．外力は覆工スパン単位、材質劣化、漏水は変状単位で行う。
K44: 注5：覆工スパンの中で最も評価の厳しい健全性を採用し、その覆工スパン毎の健全性とする。
B46: ※1：本シートは作成洩れのないよう、変状が無くても全スパン分を作成すること．また変状展開図は、様式D-2-1、様式D-2-1'と同じものを覆工スパン単位で拡大し掲載すること。
B47: ※2：変状番号は、様式D-1-1で記入した番号と整合させること。
B48: ※3：対策区分毎の変状発生規模は、様式D-1-1に記載した面積を記入すること（ただし外力はスパン単位で評価するため対象外とし、備考欄に状況を記入）。
B49: ※4：本様式は覆工スパン毎に作成すること。
B50: ※5：変状数が多い場合は、適時、表の行を増やして覆工スパン毎に1枚のシートに収めること。また、1スパン１シートとし、スパンに合わせてシートを追加すること。
B51: ※6：対策区分毎の変状の発生範囲の規模とは，対策を行う際に参考となる変状の長さや面積であり，変状を包含する長さや面積とする。
B52: ※7：路面滞水は、変状面積に1を記載するとともに、備考にも内容を記載すること。

Sheet 様式D-3_S009
AU1: 様式E-1リンク用→ | AV1: 覆工ｽﾊﾟﾝ 番号 | AW1: ｽﾊﾟﾝ 長 (m) | AX1: 変状数集計 | BS1: 覆工スパン毎の 健全性の診断 | BW1: 変状規模集計
AX2: 対策区分毎の変状数 | BJ2: 健全性の判定区分毎の変状数 | BW2: 覆工スパン長(m) | CA2: 対策区分毎の変状の発生範囲の規模(㎡）
B3: ■定期点検記録様式 覆工スパン別変状詳細展開図 【様式D-3】 | AX3: 外力 | BB3: 材質劣化 | BF3: 漏水 | BJ3: 外力 | BM3: 材質劣化 | BP3: 漏水 | BS3: 外力 | BT3: 材質劣化 | BU3: 漏水 | BV3: 健全性 | BW3: 外力※１ | CA3: 材質劣化 | CE3: 漏水
B4: フリガナ | E4: トノミトンネル | K4: 路線名 | N4: 主要道路防府環状線 | T4: 定期点検業者 | Y4: セントラルコンサルタント株式会社 | AG4: 定期点検年月日 | AK4: 44337 | AX4: Ⅳ | AY4: Ⅲ | AZ4: Ⅱa | BA4: Ⅱb | BB4: Ⅳ | BC4: Ⅲ | BD4: Ⅱa | BE4: Ⅱb | BF4: Ⅳ | BG4: Ⅲ | BH4: Ⅱa | BI4: Ⅱb | BJ4: Ⅳ | BK4: Ⅲ | BL4: Ⅱ | BM4: Ⅳ | BN4: Ⅲ | BO4: Ⅱ | BP4: Ⅳ | BQ4: Ⅲ | BR4: Ⅱ | BW4: Ⅳ | BX4: Ⅲ | BY4: Ⅱa | BZ4: Ⅱb | CA4: Ⅳ | CB4: Ⅲ | CC4: Ⅱa | CD4: Ⅱb | CE4: Ⅳ | CF4: Ⅲ | CG4: Ⅱa | CH4: Ⅱb
B5: 名 称 | E5: 富海トンネル | K5: 管理者名 | N5: 山口県防府土木建築事務所 | T5: 定期点検者名 | Y5: 鹿子嶋 康博 | AV5: =N7 -> S9 | AW5: =R7 -> 4 | AX5: =+Y32 -> 0 | AY5: =+Z32 -> 0 | AZ5: =+AA32 -> 0 | BA5: =+AB32 -> 0 | BB5: =+AC32 -> 0 | BC5: =+AD32 -> 1 | BD5: =+AE32 -> 0 | BE5: =+AF32 -> 0 | ... BI5: =+AJ32 -> 0 | BJ5: =+Y35 | BK5: =+Z35 | BL5: =+AA35 | BM5: =+AC35 -> 0 | BN5: =+AD35 -> 1 | BO5: =+AE35 -> 0 | BP5: =+AG35 -> 0 | BQ5: =+AH35 -> 0 | BR5: =+AI35 -> 0 | BS5: =+Y36 -> Ⅰ | BT5: =+AC36 -> Ⅲ | BU5: =+AG36 -> Ⅰ | BV5: =+Y37 -> Ⅲ | BW5: =IF(Y32>0,$R$7,"") | BX5: =IF(Z32>0,"",IF(AA32>0,$R$7,"")) | BY5: =IF(Y32+Z32>0,"",IF(AA32>0,$R$7,"")) | BZ5: =IF(Y32+Z32+AA32>0,"",IF(AB32>0,$R$7,"")) | CA5: =+AC31 -> 0 | CB5: =+AD31 -> 2.88 | CC5: =+AE31 -> 0 | CD5: =+AF31 -> 0 | CE5: =+AG31 -> 0 | CF5: =+AH31 -> 0 | CG5: =+AI31 -> 0 | CH5: =+AJ31 -> 0
B6: スパン別変状展開図 | K6: 【健全性判定集計表】
K7: スパン番号 | N7: S9 | P7: スパン長 | R7: 4 | U7: 前回定期点検時の健全性 | W7: 応急措置前の判定 | Y7: 対策区分毎の 変状の有無 | AC7: 対策区分毎の変状の発生範囲の規模(㎡) | AK7: 備考注2
K8: 変状番号 | L8: 対象箇所 | N8: 部位区分 | P8: 変状区分 | R8: 変状種類
Y9: 外力注1 | AC9: 材質劣化注1 | AG9: 漏水注1
Y10: Ⅳ | Z10: Ⅲ | AA10: Ⅱa | AB10: Ⅱb | AC10: Ⅳ | AD10: Ⅲ | AE10: Ⅱa | AF10: Ⅱb | AG10: Ⅳ | AH10: Ⅲ | AI10: Ⅱa | AJ10: Ⅱb
K11: 1 | L11: 覆工・坑門 | N11: 横断目地（左側） | P11: 材質劣化 | R11: 補強・補修材の破損 | U11: － | AD11: 2.88 | AK11: 0 | AQ11: =IF(P11="材質劣化",2,IF(P11="漏水",3,1)) -> 2
AQ12: =IF(P12="材質劣化",2,IF(P12="漏水",3,1)) -> 1
AQ13: =IF(P13="材質劣化",2,IF(P13="漏水",3,1)) -> 1
AQ14: =IF(P14="材質劣化",2,IF(P14="漏水",3,1)) -> 1
AQ15: =IF(P15="材質劣化",2,IF(P15="漏水",3,1)) -> 1
AQ16: =IF(P16="材質劣化",2,IF(P16="漏水",3,1)) -> 1
AQ17: =IF(P17="材質劣化",2,IF(P17="漏水",3,1)) -> 1
AQ18: =IF(P18="材質劣化",2,IF(P18="漏水",3,1)) -> 1
AQ19: =IF(P19="材質劣化",2,IF(P19="漏水",3,1)) -> 1
AQ20: =IF(P20="材質劣化",2,IF(P20="漏水",3,1)) -> 1
AQ21: =IF(P21="材質劣化",2,IF(P21="漏水",3,1)) -> 1
AQ22: =IF(P22="材質劣化",2,IF(P22="漏水",3,1)) -> 1
AQ23: =IF(P23="材質劣化",2,IF(P23="漏水",3,1)) -> 1
... AQ30: =IF(P30="材質劣化",2,IF(P30="漏水",3,1)) -> 1
K31: 集計 ・ 判定 ・ 診断 | L31: 変状の発生規模合計(㎡) | Y31: － | AC31: =SUM(AC11:AC30) -> 0 | AD31: =SUM(AD11:AD30) -> 2.88 | AE31: =SUM(AE11:AE30) -> 0 | AF31: =SUM(AF11:AF30) -> 0 | AG31: =SUM(AG11:AG30) -> 0 | AH31: =SUM(AH11:AH30) -> 0 | AI31: =SUM(AI11:AI30) -> 0 | AJ31: =SUM(AJ11:AJ30) -> 0 | AK31: 計
L32: 対策区分の 判定結果 | O32: 判定区分毎の変状数 | Y32: =COUNTIF(Y11:Y30,"○") -> 0 | Z32: =COUNTIF(Z11:Z30,"○") -> 0 | AA32: =COUNTIF(AA11:AA30,"○") -> 0 | AB32: =COUNTIF(AB11:AB30,"○") -> 0 | AC32: =COUNT(AC11:AC30) -> 0 | AD32: =COUNT(AD11:AD30) -> 1 | AE32: =COUNT(AE11:AE30) -> 0 | AF32: =COUNT(AF11:AF30) -> 0 | AG32: =COUNT(AG11:AG30) -> 0 | AH32: =COUNT(AH11:AH30) -> 0 | AI32: =COUNT(AI11:AI30) -> 0 | AJ32: =COUNT(AJ11:AJ30) -> 0
O33: 変状区分毎の判定区分注3 | Y33: =IF(Y32>0,"Ⅳ",IF(Z32>0,"Ⅲ",IF(AA32>0,"Ⅱa",IF(AB32>0,"Ⅱb","Ⅰ")))) -> Ⅰ | AC33: =IF(AC32>0,"Ⅳ",IF(AD32>0,"Ⅲ",IF(AE32>0,"Ⅱa",IF(AF32>0,"Ⅱb","Ⅰ")))) -> Ⅲ | AG33: =IF(AG32>0,"Ⅳ",IF(AH32>0,"Ⅲ",IF(AI32>0,"Ⅱa",IF(AJ32>0,"Ⅱb","Ⅰ")))) -> Ⅰ | AQ33: Ⅳ | AR33: Ⅲ | AS33: Ⅱ
L34: 健全性の 診断結果 | O34: 判定区分 | Y34: Ⅳ | Z34: Ⅲ | AA34: Ⅱ | AC34: Ⅳ | AD34: Ⅲ | AE34: Ⅱ | AG34: Ⅳ | AH34: Ⅲ | AI34: Ⅱ | AQ34: =+Y32+Z32 -> 0 | AS34: =+AA32+AB32 -> 0
O35: 判定区分毎の変状数注4 | Y35: =IF(Y32=0,"",1) | Z35: =IF(Z32=0,"",1) | AA35: =IF(AQ34=1,"",IF(AS34>0,1,"")) | AC35: =+AC32 -> 0 | AD35: =AD32 -> 1 | AE35: =AE32+AF32 -> 0 | AG35: =AG32 -> 0 | AH35: =AH32 -> 0 | AI35: =AI32+AJ32 -> 0 | AQ35: =+Y32+AC35+AG35 -> 0 | AR35: =+Z32+AD35+AH35 -> 1 | AS35: =+AS34+AE35+AI35 -> 0
O36: 変状区分毎の判定区分注4 | Y36: =IF(Y35=1,"Ⅳ",IF(Z35=1,"Ⅲ",IF(AA35=1,"Ⅱ","Ⅰ"))) -> Ⅰ | AC36: =IF(AC35>0,"Ⅳ",IF(AD35>0,"Ⅲ",IF(AE35>0,"Ⅱ","Ⅰ"))) -> Ⅲ | AG36: =IF(AG35>0,"Ⅳ",IF(AH35>0,"Ⅲ",IF(AI35>0,"Ⅱ","Ⅰ"))) -> Ⅰ | AQ36: =IF(AQ35>0,"Ⅳ",IF(AR35>0,"Ⅲ",IF(AS35>0,"Ⅱ","Ⅰ"))) -> Ⅲ
O37: 覆工スパン単位の判定区分注5 | Y37: =IF(OR(Y36="Ⅳ",AC36="Ⅳ",AG36="Ⅳ"),"Ⅳ",IF(OR(Y36="Ⅲ",AC36="Ⅲ",AG36="Ⅲ"),"Ⅲ",IF(OR(Y36="Ⅱ",AC36="Ⅱ",AG36="Ⅱ"),"Ⅱ","Ⅰ"))) -> Ⅲ
K38: 特記事項
K40: 注1：誤記入防止のため、当該変状区分以外のセルは灰色表示とすること。
K41: 注2：応急対策を実施した場合は、その詳細を備考に記載すること。
K42: 注3：変状区分毎での最も評価の厳しい判定区分。
K43: 注4：変状区分毎での最も評価の厳しい判定区分．外力は覆工スパン単位、材質劣化、漏水は変状単位で行う。
K44: 注5：覆工スパンの中で最も評価の厳しい健全性を採用し、その覆工スパン毎の健全性とする。
B46: ※1：本シートは作成洩れのないよう、変状が無くても全スパン分を作成すること．また変状展開図は、様式D-2-1、様式D-2-1'と同じものを覆工スパン単位で拡大し掲載すること。
B47: ※2：変状番号は、様式D-1-1で記入した番号と整合させること。
B48: ※3：対策区分毎の変状発生規模は、様式D-1-1に記載した面積を記入すること（ただし外力はスパン単位で評価するため対象外とし、備考欄に状況を記入）。
B49: ※4：本様式は覆工スパン毎に作成すること。
B50: ※5：変状数が多い場合は、適時、表の行を増やして覆工スパン毎に1枚のシートに収めること。また、1スパン１シートとし、スパンに合わせてシートを追加すること。
B51: ※6：対策区分毎の変状の発生範囲の規模とは，対策を行う際に参考となる変状の長さや面積であり，変状を包含する長さや面積とする。
B52: ※7：路面滞水は、変状面積に1を記載するとともに、備考にも内容を記載すること。

Sheet 様式D-3_S010
AU1: 様式E-1リンク用→ | AV1: 覆工ｽﾊﾟﾝ 番号 | AW1: ｽﾊﾟﾝ 長 (m) | AX1: 変状数集計 | BS1: 覆工スパン毎の 健全性の診断 | BW1: 変状規模集計
AX2: 対策区分毎の変状数 | BJ2: 健全性の判定区分毎の変状数 | BW2: 覆工スパン長(m) | CA2: 対策区分毎の変状の発生範囲の規模(㎡）
B3: ■定期点検記録様式 覆工スパン別変状詳細展開図 【様式D-3】 | AX3: 外力 | BB3: 材質劣化 | BF3: 漏水 | BJ3: 外力 | BM3: 材質劣化 | BP3: 漏水 | BS3: 外力 | BT3: 材質劣化 | BU3: 漏水 | BV3: 健全性 | BW3: 外力※１ | CA3: 材質劣化 | CE3: 漏水
B4: フリガナ | E4: トノミトンネル | K4: 路線名 | N4: 主要道路防府環状線 | T4: 定期点検業者 | Y4: セントラルコンサルタント株式会社 | AG4: 定期点検年月日 | AK4: 44337 | AX4: Ⅳ | AY4: Ⅲ | AZ4: Ⅱa | BA4: Ⅱb | BB4: Ⅳ | BC4: Ⅲ | BD4: Ⅱa | BE4: Ⅱb | BF4: Ⅳ | BG4: Ⅲ | BH4: Ⅱa | BI4: Ⅱb | BJ4: Ⅳ | BK4: Ⅲ | BL4: Ⅱ | BM4: Ⅳ | BN4: Ⅲ | BO4: Ⅱ | BP4: Ⅳ | BQ4: Ⅲ | BR4: Ⅱ | BW4: Ⅳ | BX4: Ⅲ | BY4: Ⅱa | BZ4: Ⅱb | CA4: Ⅳ | CB4: Ⅲ | CC4: Ⅱa | CD4: Ⅱb | CE4: Ⅳ | CF4: Ⅲ | CG4: Ⅱa | CH4: Ⅱb
B5: 名 称 | E5: 富海トンネル | K5: 管理者名 | N5: 山口県防府土木建築事務所 | T5: 定期点検者名 | Y5: 鹿子嶋 康博 | AV5: =N7 -> S10 | AW5: =R7 -> 4 | AX5: =+Y32 -> 0 | AY5: =+Z32 -> 0 | AZ5: =+AA32 -> 0 | BA5: =+AB32 -> 0 | BB5: =+AC32 -> 0 | BC5: =+AD32 -> 1 | BD5: =+AE32 -> 1 | BE5: =+AF32 -> 0 | ... BI5: =+AJ32 -> 0 | BJ5: =+Y35 | BK5: =+Z35 | BL5: =+AA35 | BM5: =+AC35 -> 0 | BN5: =+AD35 -> 1 | BO5: =+AE35 -> 1 | BP5: =+AG35 -> 0 | BQ5: =+AH35 -> 0 | BR5: =+AI35 -> 1 | BS5: =+Y36 -> Ⅰ | BT5: =+AC36 -> Ⅲ | BU5: =+AG36 -> Ⅱ | BV5: =+Y37 -> Ⅲ | BW5: =IF(Y32>0,$R$7,"") | BX5: =IF(Z32>0,"",IF(AA32>0,$R$7,"")) | BY5: =IF(Y32+Z32>0,"",IF(AA32>0,$R$7,"")) | BZ5: =IF(Y32+Z32+AA32>0,"",IF(AB32>0,$R$7,"")) | CA5: =+AC31 -> 0 | CB5: =+AD31 -> 2.92 | CC5: =+AE31 -> 0.16 | CD5: =+AF31 -> 0 | CE5: =+AG31 -> 0 | CF5: =+AH31 -> 0 | CG5: =+AI31 -> 3.85 | CH5: =+AJ31 -> 0
B6: スパン別変状展開図 | K6: 【健全性判定集計表】
K7: スパン番号 | N7: S10 | P7: スパン長 | R7: 4 | U7: 前回定期点検時の健全性 | W7: 応急措置前の判定 | Y7: 対策区分毎の 変状の有無 | AC7: 対策区分毎の変状の発生範囲の規模(㎡) | AK7: 備考注2
K8: 変状番号 | L8: 対象箇所 | N8: 部位区分 | P8: 変状区分 | R8: 変状種類
Y9: 外力注1 | AC9: 材質劣化注1 | AG9: 漏水注1
Y10: Ⅳ | Z10: Ⅲ | AA10: Ⅱa | AB10: Ⅱb | AC10: Ⅳ | AD10: Ⅲ | AE10: Ⅱa | AF10: Ⅱb | AG10: Ⅳ | AH10: Ⅲ | AI10: Ⅱa | AJ10: Ⅱb
K11: 1 | L11: 覆工・坑門 | N11: 横断目地（左側） | P11: 材質劣化 | R11: 補強・補修材の破損 | U11: － | AD11: 2.92 | AK11: 0 | AQ11: =IF(P11="材質劣化",2,IF(P11="漏水",3,1)) -> 2
K12: 2 | L12: 覆工・坑門 | N12: アーチ（天端） | P12: 材質劣化 | R12: うき・はく離 | U12: － | AE12: 0.16 | AK12: 0 | AQ12: =IF(P12="材質劣化",2,IF(P12="漏水",3,1)) -> 2
K13: 3 | L13: 覆工・坑門 | N13: アーチ（天端） | P13: 漏水 | R13: 漏水 | U13: Ⅰ | AI13: 3.85 | AK13: 0 | AQ13: =IF(P13="材質劣化",2,IF(P13="漏水",3,1)) -> 3
AQ14: =IF(P14="材質劣化",2,IF(P14="漏水",3,1)) -> 1
AQ15: =IF(P15="材質劣化",2,IF(P15="漏水",3,1)) -> 1
AQ16: =IF(P16="材質劣化",2,IF(P16="漏水",3,1)) -> 1
AQ17: =IF(P17="材質劣化",2,IF(P17="漏水",3,1)) -> 1
AQ18: =IF(P18="材質劣化",2,IF(P18="漏水",3,1)) -> 1
AQ19: =IF(P19="材質劣化",2,IF(P19="漏水",3,1)) -> 1
AQ20: =IF(P20="材質劣化",2,IF(P20="漏水",3,1)) -> 1
AQ21: =IF(P21="材質劣化",2,IF(P21="漏水",3,1)) -> 1
AQ22: =IF(P22="材質劣化",2,IF(P22="漏水",3,1)) -> 1
AQ23: =IF(P23="材質劣化",2,IF(P23="漏水",3,1)) -> 1
AQ24: =IF(P24="材質劣化",2,IF(P24="漏水",3,1)) -> 1
AQ25: =IF(P25="材質劣化",2,IF(P25="漏水",3,1)) -> 1
... AQ30: =IF(P30="材質劣化",2,IF(P30="漏水",3,1)) -> 1
K31: 集計 ・ 判定 ・ 診断 | L31: 変状の発生規模合計(㎡) | Y31: － | AC31: =SUM(AC11:AC30) -> 0 | AD31: =SUM(AD11:AD30) -> 2.92 | AE31: =SUM(AE11:AE30) -> 0.16 | AF31: =SUM(AF11:AF30) -> 0 | AG31: =SUM(AG11:AG30) -> 0 | AH31: =SUM(AH11:AH30) -> 0 | AI31: =SUM(AI11:AI30) -> 3.85 | AJ31: =SUM(AJ11:AJ30) -> 0 | AK31: 計
L32: 対策区分の 判定結果 | O32: 判定区分毎の変状数 | Y32: =COUNTIF(Y11:Y30,"○") -> 0 | Z32: =COUNTIF(Z11:Z30,"○") -> 0 | AA32: =COUNTIF(AA11:AA30,"○") -> 0 | AB32: =COUNTIF(AB11:AB30,"○") -> 0 | AC32: =COUNT(AC11:AC30) -> 0 | AD32: =COUNT(AD11:AD30) -> 1 | AE32: =COUNT(AE11:AE30) -> 1 | AF32: =COUNT(AF11:AF30) -> 0 | AG32: =COUNT(AG11:AG30) -> 0 | AH32: =COUNT(AH11:AH30) -> 0 | AI32: =COUNT(AI11:AI30) -> 1 | AJ32: =COUNT(AJ11:AJ30) -> 0
O33: 変状区分毎の判定区分注3 | Y33: =IF(Y32>0,"Ⅳ",IF(Z32>0,"Ⅲ",IF(AA32>0,"Ⅱa",IF(AB32>0,"Ⅱb","Ⅰ")))) -> Ⅰ | AC33: =IF(AC32>0,"Ⅳ",IF(AD32>0,"Ⅲ",IF(AE32>0,"Ⅱa",IF(AF32>0,"Ⅱb","Ⅰ")))) -> Ⅲ | AG33: =IF(AG32>0,"Ⅳ",IF(AH32>0,"Ⅲ",IF(AI32>0,"Ⅱa",IF(AJ32>0,"Ⅱb","Ⅰ")))) -> Ⅱa | AQ33: Ⅳ | AR33: Ⅲ | AS33: Ⅱ
L34: 健全性の 診断結果 | O34: 判定区分 | Y34: Ⅳ | Z34: Ⅲ | AA34: Ⅱ | AC34: Ⅳ | AD34: Ⅲ | AE34: Ⅱ | AG34: Ⅳ | AH34: Ⅲ | AI34: Ⅱ | AQ34: =+Y32+Z32 -> 0 | AS34: =+AA32+AB32 -> 0
O35: 判定区分毎の変状数注4 | Y35: =IF(Y32=0,"",1) | Z35: =IF(Z32=0,"",1) | AA35: =IF(AQ34=1,"",IF(AS34>0,1,"")) | AC35: =+AC32 -> 0 | AD35: =AD32 -> 1 | AE35: =AE32+AF32 -> 1 | AG35: =AG32 -> 0 | AH35: =AH32 -> 0 | AI35: =AI32+AJ32 -> 1 | AQ35: =+Y32+AC35+AG35 -> 0 | AR35: =+Z32+AD35+AH35 -> 1 | AS35: =+AS34+AE35+AI35 -> 2
O36: 変状区分毎の判定区分注4 | Y36: =IF(Y35=1,"Ⅳ",IF(Z35=1,"Ⅲ",IF(AA35=1,"Ⅱ","Ⅰ"))) -> Ⅰ | AC36: =IF(AC35>0,"Ⅳ",IF(AD35>0,"Ⅲ",IF(AE35>0,"Ⅱ","Ⅰ"))) -> Ⅲ | AG36: =IF(AG35>0,"Ⅳ",IF(AH35>0,"Ⅲ",IF(AI35>0,"Ⅱ","Ⅰ"))) -> Ⅱ | AQ36: =IF(AQ35>0,"Ⅳ",IF(AR35>0,"Ⅲ",IF(AS35>0,"Ⅱ","Ⅰ"))) -> Ⅲ
O37: 覆工スパン単位の判定区分注5 | Y37: =IF(OR(Y36="Ⅳ",AC36="Ⅳ",AG36="Ⅳ"),"Ⅳ",IF(OR(Y36="Ⅲ",AC36="Ⅲ",AG36="Ⅲ"),"Ⅲ",IF(OR(Y36="Ⅱ",AC36="Ⅱ",AG36="Ⅱ"),"Ⅱ","Ⅰ"))) -> Ⅲ
K38: 特記事項
K40: 注1：誤記入防止のため、当該変状区分以外のセルは灰色表示とすること。
K41: 注2：応急対策を実施した場合は、その詳細を備考に記載すること。
K42: 注3：変状区分毎での最も評価の厳しい判定区分。
K43: 注4：変状区分毎での最も評価の厳しい判定区分．外力は覆工スパン単位、材質劣化、漏水は変状単位で行う。
K44: 注5：覆工スパンの中で最も評価の厳しい健全性を採用し、その覆工スパン毎の健全性とする。
B46: ※1：本シートは作成洩れのないよう、変状が無くても全スパン分を作成すること．また変状展開図は、様式D-2-1、様式D-2-1'と同じものを覆工スパン単位で拡大し掲載すること。
B47: ※2：変状番号は、様式D-1-1で記入した番号と整合させること。
B48: ※3：対策区分毎の変状発生規模は、様式D-1-1に記載した面積を記入すること（ただし外力はスパン単位で評価するため対象外とし、備考欄に状況を記入）。
B49: ※4：本様式は覆工スパン毎に作成すること。
B50: ※5：変状数が多い場合は、適時、表の行を増やして覆工スパン毎に1枚のシートに収めること。また、1スパン１シートとし、スパンに合わせてシートを追加すること。
B51: ※6：対策区分毎の変状の発生範囲の規模とは，対策を行う際に参考となる変状の長さや面積であり，変状を包含する長さや面積とする。
B52: ※7：路面滞水は、変状面積に1を記載するとともに、備考にも内容を記載すること。

Sheet 様式D-3_S011
AU1: 様式E-1リンク用→ | AV1: 覆工ｽﾊﾟﾝ 番号 | AW1: ｽﾊﾟﾝ 長 (m) | AX1: 変状数集計 | BS1: 覆工スパン毎の 健全性の診断 | BW1: 変状規模集計
AX2: 対策区分毎の変状数 | BJ2: 健全性の判定区分毎の変状数 | BW2: 覆工スパン長(m) | CA2: 対策区分毎の変状の発生範囲の規模(㎡）
B3: ■定期点検記録様式 覆工スパン別変状詳細展開図 【様式D-3】 | AX3: 外力 | BB3: 材質劣化 | BF3: 漏水 | BJ3: 外力 | BM3: 材質劣化 | BP3: 漏水 | BS3: 外力 | BT3: 材質劣化 | BU3: 漏水 | BV3: 健全性 | BW3: 外力※１ | CA3: 材質劣化 | CE3: 漏水
B4: フリガナ | E4: トノミトンネル | K4: 路線名 | N4: 主要道路防府環状線 | T4: 定期点検業者 | Y4: セントラルコンサルタント株式会社 | AG4: 定期点検年月日 | AK4: 44337 | AX4: Ⅳ | AY4: Ⅲ | AZ4: Ⅱa | BA4: Ⅱb | BB4: Ⅳ | BC4: Ⅲ | BD4: Ⅱa | BE4: Ⅱb | BF4: Ⅳ | BG4: Ⅲ | BH4: Ⅱa | BI4: Ⅱb | BJ4: Ⅳ | BK4: Ⅲ | BL4: Ⅱ | BM4: Ⅳ | BN4: Ⅲ | BO4: Ⅱ | BP4: Ⅳ | BQ4: Ⅲ | BR4: Ⅱ | BW4: Ⅳ | BX4: Ⅲ | BY4: Ⅱa | BZ4: Ⅱb | CA4: Ⅳ | CB4: Ⅲ | CC4: Ⅱa | CD4: Ⅱb | CE4: Ⅳ | CF4: Ⅲ | CG4: Ⅱa | CH4: Ⅱb
B5: 名 称 | E5: 富海トンネル | K5: 管理者名 | N5: 山口県防府土木建築事務所 | T5: 定期点検者名 | Y5: 鹿子嶋 康博 | AV5: =N7 -> S11 | AW5: =R7 -> 4 | AX5: =+Y32 -> 0 | AY5: =+Z32 -> 0 | AZ5: =+AA32 -> 0 | BA5: =+AB32 -> 1 | BB5: =+AC32 -> 0 | BC5: =+AD32 -> 1 | BD5: =+AE32 -> 1 | BE5: =+AF32 -> 0 | ... BI5: =+AJ32 -> 0 | BJ5: =+Y35 | BK5: =+Z35 | BL5: =+AA35 -> 1 | BM5: =+AC35 -> 0 | BN5: =+AD35 -> 1 | BO5: =+AE35 -> 1 | BP5: =+AG35 -> 0 | BQ5: =+AH35 -> 0 | BR5: =+AI35 -> 0 | BS5: =+Y36 -> Ⅱ | BT5: =+AC36 -> Ⅲ | BU5: =+AG36 -> Ⅰ | BV5: =+Y37 -> Ⅲ | BW5: =IF(Y32>0,$R$7,"") | BX5: =IF(Z32>0,"",IF(AA32>0,$R$7,"")) | BY5: =IF(Y32+Z32>0,"",IF(AA32>0,$R$7,"")) | BZ5: =IF(Y32+Z32+AA32>0,"",IF(AB32>0,$R$7,"")) -> 4 | CA5: =+AC31 -> 0 | CB5: =+AD31 -> 2.88 | CC5: =+AE31 -> 0.4 | CD5: =+AF31 -> 0 | CE5: =+AG31 -> 0 | CF5: =+AH31 -> 0 | CG5: =+AI31 -> 0 | CH5: =+AJ31 -> 0
B6: スパン別変状展開図 | K6: 【健全性判定集計表】
K7: スパン番号 | N7: S11 | P7: スパン長 | R7: 4 | U7: 前回定期点検時の健全性 | W7: 応急措置前の判定 | Y7: 対策区分毎の 変状の有無 | AC7: 対策区分毎の変状の発生範囲の規模(㎡) | AK7: 備考注2
K8: 変状番号 | L8: 対象箇所 | N8: 部位区分 | P8: 変状区分 | R8: 変状種類
Y9: 外力注1 | AC9: 材質劣化注1 | AG9: 漏水注1
Y10: Ⅳ | Z10: Ⅲ | AA10: Ⅱa | AB10: Ⅱb | AC10: Ⅳ | AD10: Ⅲ | AE10: Ⅱa | AF10: Ⅱb | AG10: Ⅳ | AH10: Ⅲ | AI10: Ⅱa | AJ10: Ⅱb
K11: 1 | L11: 覆工・坑門 | N11: 横断目地（左側） | P11: 材質劣化 | R11: 補強・補修材の破損 | U11: － | AD11: 2.88 | AK11: 0 | AQ11: =IF(P11="材質劣化",2,IF(P11="漏水",3,1)) -> 2
K12: 2 | L12: 覆工・坑門 | N12: アーチ（左側） | P12: 外力 | R12: ひび割れ | U12: － | AB12: ○ | AK12: 幅0.3mm×長さ1.0m,縦断方向のひび割れ | AQ12: =IF(P12="材質劣化",2,IF(P12="漏水",3,1)) -> 1
K13: 3 | L13: 覆工・坑門 | N13: アーチ（天端） | P13: 材質劣化 | R13: うき・はく離 | U13: － | AE13: 0.4 | AK13: 0 | AQ13: =IF(P13="材質劣化",2,IF(P13="漏水",3,1)) -> 2
AQ14: =IF(P14="材質劣化",2,IF(P14="漏水",3,1)) -> 1
AQ15: =IF(P15="材質劣化",2,IF(P15="漏水",3,1)) -> 1
AQ16: =IF(P16="材質劣化",2,IF(P16="漏水",3,1)) -> 1
AQ17: =IF(P17="材質劣化",2,IF(P17="漏水",3,1)) -> 1
AQ18: =IF(P18="材質劣化",2,IF(P18="漏水",3,1)) -> 1
AQ19: =IF(P19="材質劣化",2,IF(P19="漏水",3,1)) -> 1
AQ20: =IF(P20="材質劣化",2,IF(P20="漏水",3,1)) -> 1
AQ21: =IF(P21="材質劣化",2,IF(P21="漏水",3,1)) -> 1
AQ22: =IF(P22="材質劣化",2,IF(P22="漏水",3,1)) -> 1
AQ23: =IF(P23="材質劣化",2,IF(P23="漏水",3,1)) -> 1
AQ24: =IF(P24="材質劣化",2,IF(P24="漏水",3,1)) -> 1
AQ25: =IF(P25="材質劣化",2,IF(P25="漏水",3,1)) -> 1
... AQ30: =IF(P30="材質劣化",2,IF(P30="漏水",3,1)) -> 1
K31: 集計 ・ 判定 ・ 診断 | L31: 変状の発生規模合計(㎡) | Y31: － | AC31: =SUM(AC11:AC30) -> 0 | AD31: =SUM(AD11:AD30) -> 2.88 | AE31: =SUM(AE11:AE30) -> 0.4 | AF31: =SUM(AF11:AF30) -> 0 | AG31: =SUM(AG11:AG30) -> 0 | AH31: =SUM(AH11:AH30) -> 0 | AI31: =SUM(AI11:AI30) -> 0 | AJ31: =SUM(AJ11:AJ30) -> 0 | AK31: 計
L32: 対策区分の 判定結果 | O32: 判定区分毎の変状数 | Y32: =COUNTIF(Y11:Y30,"○") -> 0 | Z32: =COUNTIF(Z11:Z30,"○") -> 0 | AA32: =COUNTIF(AA11:AA30,"○") -> 0 | AB32: =COUNTIF(AB11:AB30,"○") -> 1 | AC32: =COUNT(AC11:AC30) -> 0 | AD32: =COUNT(AD11:AD30) -> 1 | AE32: =COUNT(AE11:AE30) -> 1 | AF32: =COUNT(AF11:AF30) -> 0 | AG32: =COUNT(AG11:AG30) -> 0 | AH32: =COUNT(AH11:AH30) -> 0 | AI32: =COUNT(AI11:AI30) -> 0 | AJ32: =COUNT(AJ11:AJ30) -> 0
O33: 変状区分毎の判定区分注3 | Y33: =IF(Y32>0,"Ⅳ",IF(Z32>0,"Ⅲ",IF(AA32>0,"Ⅱa",IF(AB32>0,"Ⅱb","Ⅰ")))) -> Ⅱb | AC33: =IF(AC32>0,"Ⅳ",IF(AD32>0,"Ⅲ",IF(AE32>0,"Ⅱa",IF(AF32>0,"Ⅱb","Ⅰ")))) -> Ⅲ | AG33: =IF(AG32>0,"Ⅳ",IF(AH32>0,"Ⅲ",IF(AI32>0,"Ⅱa",IF(AJ32>0,"Ⅱb","Ⅰ")))) -> Ⅰ | AQ33: Ⅳ | AR33: Ⅲ | AS33: Ⅱ
L34: 健全性の 診断結果 | O34: 判定区分 | Y34: Ⅳ | Z34: Ⅲ | AA34: Ⅱ | AC34: Ⅳ | AD34: Ⅲ | AE34: Ⅱ | AG34: Ⅳ | AH34: Ⅲ | AI34: Ⅱ | AQ34: =+Y32+Z32 -> 0 | AS34: =+AA32+AB32 -> 1
O35: 判定区分毎の変状数注4 | Y35: =IF(Y32=0,"",1) | Z35: =IF(Z32=0,"",1) | AA35: =IF(AQ34=1,"",IF(AS34>0,1,"")) -> 1 | AC35: =+AC32 -> 0 | AD35: =AD32 -> 1 | AE35: =AE32+AF32 -> 1 | AG35: =AG32 -> 0 | AH35: =AH32 -> 0 | AI35: =AI32+AJ32 -> 0 | AQ35: =+Y32+AC35+AG35 -> 0 | AR35: =+Z32+AD35+AH35 -> 1 | AS35: =+AS34+AE35+AI35 -> 2
O36: 変状区分毎の判定区分注4 | Y36: =IF(Y35=1,"Ⅳ",IF(Z35=1,"Ⅲ",IF(AA35=1,"Ⅱ","Ⅰ"))) -> Ⅱ | AC36: =IF(AC35>0,"Ⅳ",IF(AD35>0,"Ⅲ",IF(AE35>0,"Ⅱ","Ⅰ"))) -> Ⅲ | AG36: =IF(AG35>0,"Ⅳ",IF(AH35>0,"Ⅲ",IF(AI35>0,"Ⅱ","Ⅰ"))) -> Ⅰ | AQ36: =IF(AQ35>0,"Ⅳ",IF(AR35>0,"Ⅲ",IF(AS35>0,"Ⅱ","Ⅰ"))) -> Ⅲ
O37: 覆工スパン単位の判定区分注5 | Y37: =IF(OR(Y36="Ⅳ",AC36="Ⅳ",AG36="Ⅳ"),"Ⅳ",IF(OR(Y36="Ⅲ",AC36="Ⅲ",AG36="Ⅲ"),"Ⅲ",IF(OR(Y36="Ⅱ",AC36="Ⅱ",AG36="Ⅱ"),"Ⅱ","Ⅰ"))) -> Ⅲ
K38: 特記事項
K40: 注1：誤記入防止のため、当該変状区分以外のセルは灰色表示とすること。
K41: 注2：応急対策を実施した場合は、その詳細を備考に記載すること。
K42: 注3：変状区分毎での最も評価の厳しい判定区分。
K43: 注4：変状区分毎での最も評価の厳しい判定区分．外力は覆工スパン単位、材質劣化、漏水は変状単位で行う。
K44: 注5：覆工スパンの中で最も評価の厳しい健全性を採用し、その覆工スパン毎の健全性とする。
B46: ※1：本シートは作成洩れのないよう、変状が無くても全スパン分を作成すること．また変状展開図は、様式D-2-1、様式D-2-1'と同じものを覆工スパン単位で拡大し掲載すること。
B47: ※2：変状番号は、様式D-1-1で記入した番号と整合させること。
B48: ※3：対策区分毎の変状発生規模は、様式D-1-1に記載した面積を記入すること（ただし外力はスパン単位で評価するため対象外とし、備考欄に状況を記入）。
B49: ※4：本様式は覆工スパン毎に作成すること。
B50: ※5：変状数が多い場合は、適時、表の行を増やして覆工スパン毎に1枚のシートに収めること。また、1スパン１シートとし、スパンに合わせてシートを追加すること。
B51: ※6：対策区分毎の変状の発生範囲の規模とは，対策を行う際に参考となる変状の長さや面積であり，変状を包含する長さや面積とする。
B52: ※7：路面滞水は、変状面積に1を記載するとともに、備考にも内容を記載すること。

Sheet 様式D-3_S012
AU1: 様式E-1リンク用→ | AV1: 覆工ｽﾊﾟﾝ 番号 | AW1: ｽﾊﾟﾝ 長 (m) | AX1: 変状数集計 | BS1: 覆工スパン毎の 健全性の診断 | BW1: 変状規模集計
AX2: 対策区分毎の変状数 | BJ2: 健全性の判定区分毎の変状数 | BW2: 覆工スパン長(m) | CA2: 対策区分毎の変状の発生範囲の規模(㎡）
B3: ■定期点検記録様式 覆工スパン別変状詳細展開図 【様式D-3】 | AX3: 外力 | BB3: 材質劣化 | BF3: 漏水 | BJ3: 外力 | BM3: 材質劣化 | BP3: 漏水 | BS3: 外力 | BT3: 材質劣化 | BU3: 漏水 | BV3: 健全性 | BW3: 外力※１ | CA3: 材質劣化 | CE3: 漏水
B4: フリガナ | E4: トノミトンネル | K4: 路線名 | N4: 主要道路防府環状線 | T4: 定期点検業者 | Y4: セントラルコンサルタント株式会社 | AG4: 定期点検年月日 | AK4: 44337 | AX4: Ⅳ | AY4: Ⅲ | AZ4: Ⅱa | BA4: Ⅱb | BB4: Ⅳ | BC4: Ⅲ | BD4: Ⅱa | BE4: Ⅱb | BF4: Ⅳ | BG4: Ⅲ | BH4: Ⅱa | BI4: Ⅱb | BJ4: Ⅳ | BK4: Ⅲ | BL4: Ⅱ | BM4: Ⅳ | BN4: Ⅲ | BO4: Ⅱ | BP4: Ⅳ | BQ4: Ⅲ | BR4: Ⅱ | BW4: Ⅳ | BX4: Ⅲ | BY4: Ⅱa | BZ4: Ⅱb | CA4: Ⅳ | CB4: Ⅲ | CC4: Ⅱa | CD4: Ⅱb | CE4: Ⅳ | CF4: Ⅲ | CG4: Ⅱa | CH4: Ⅱb
B5: 名 称 | E5: 富海トンネル | K5: 管理者名 | N5: 山口県防府土木建築事務所 | T5: 定期点検者名 | Y5: 鹿子嶋 康博 | AV5: =N7 -> S12 | AW5: =R7 -> 4 | AX5: =+Y32 -> 0 | AY5: =+Z32 -> 0 | AZ5: =+AA32 -> 0 | BA5: =+AB32 -> 2 | BB5: =+AC32 -> 0 | BC5: =+AD32 -> 1 | BD5: =+AE32 -> 0 | BE5: =+AF32 -> 0 | ... BI5: =+AJ32 -> 0 | BJ5: =+Y35 | BK5: =+Z35 | BL5: =+AA35 -> 1 | BM5: =+AC35 -> 0 | BN5: =+AD35 -> 1 | BO5: =+AE35 -> 0 | BP5: =+AG35 -> 0 | BQ5: =+AH35 -> 0 | BR5: =+AI35 -> 0 | BS5: =+Y36 -> Ⅱ | BT5: =+AC36 -> Ⅲ | BU5: =+AG36 -> Ⅰ | BV5: =+Y37 -> Ⅲ | BW5: =IF(Y32>0,$R$7,"") | BX5: =IF(Z32>0,"",IF(AA32>0,$R$7,"")) | BY5: =IF(Y32+Z32>0,"",IF(AA32>0,$R$7,"")) | BZ5: =IF(Y32+Z32+AA32>0,"",IF(AB32>0,$R$7,"")) -> 4 | CA5: =+AC31 -> 0 | CB5: =+AD31 -> 2.8 | CC5: =+AE31 -> 0 | CD5: =+AF31 -> 0 | CE5: =+AG31 -> 0 | CF5: =+AH31 -> 0 | CG5: =+AI31 -> 0 | CH5: =+AJ31 -> 0
B6: スパン別変状展開図 | K6: 【健全性判定集計表】
K7: スパン番号 | N7: S12 | P7: スパン長 | R7: 4 | U7: 前回定期点検時の健全性 | W7: 応急措置前の判定 | Y7: 対策区分毎の 変状の有無 | AC7: 対策区分毎の変状の発生範囲の規模(㎡) | AK7: 備考注2
K8: 変状番号 | L8: 対象箇所 | N8: 部位区分 | P8: 変状区分 | R8: 変状種類
Y9: 外力注1 | AC9: 材質劣化注1 | AG9: 漏水注1
Y10: Ⅳ | Z10: Ⅲ | AA10: Ⅱa | AB10: Ⅱb | AC10: Ⅳ | AD10: Ⅲ | AE10: Ⅱa | AF10: Ⅱb | AG10: Ⅳ | AH10: Ⅲ | AI10: Ⅱa | AJ10: Ⅱb
K11: 1 | L11: 覆工・坑門 | N11: 横断目地（左側） | P11: 材質劣化 | R11: 補強・補修材の破損 | U11: － | AD11: 2.8 | AK11: 0 | AQ11: =IF(P11="材質劣化",2,IF(P11="漏水",3,1)) -> 2
K12: 2 | L12: 覆工・坑門 | N12: アーチ（左側） | P12: 外力 | R12: ひび割れ | U12: － | AB12: ○ | AK12: 幅0.8mm×長さ3.6m,縦断方向のひび割れ | AQ12: =IF(P12="材質劣化",2,IF(P12="漏水",3,1)) -> 1
K13: 3 | L13: 覆工・坑門 | N13: アーチ（右側） | P13: 外力 | R13: ひび割れ | U13: Ⅱ | AB13: ○ | AK13: 幅0.3mm未満,縦断方向のひび割れ | AQ13: =IF(P13="材質劣化",2,IF(P13="漏水",3,1)) -> 1
AQ14: =IF(P14="材質劣化",2,IF(P14="漏水",3,1)) -> 1
AQ15: =IF(P15="材質劣化",2,IF(P15="漏水",3,1)) -> 1
AQ16: =IF(P16="材質劣化",2,IF(P16="漏水",3,1)) -> 1
AQ17: =IF(P17="材質劣化",2,IF(P17="漏水",3,1)) -> 1
AQ18: =IF(P18="材質劣化",2,IF(P18="漏水",3,1)) -> 1
AQ19: =IF(P19="材質劣化",2,IF(P19="漏水",3,1)) -> 1
AQ20: =IF(P20="材質劣化",2,IF(P20="漏水",3,1)) -> 1
AQ21: =IF(P21="材質劣化",2,IF(P21="漏水",3,1)) -> 1
AQ22: =IF(P22="材質劣化",2,IF(P22="漏水",3,1)) -> 1
AQ23: =IF(P23="材質劣化",2,IF(P23="漏水",3,1)) -> 1
AQ24: =IF(P24="材質劣化",2,IF(P24="漏水",3,1)) -> 1
AQ25: =IF(P25="材質劣化",2,IF(P25="漏水",3,1)) -> 1
... AQ30: =IF(P30="材質劣化",2,IF(P30="漏水",3,1)) -> 1
K31: 集計 ・ 判定 ・ 診断 | L31: 変状の発生規模合計(㎡) | Y31: － | AC31: =SUM(AC11:AC30) -> 0 | AD31: =SUM(AD11:AD30) -> 2.8 | AE31: =SUM(AE11:AE30) -> 0 | AF31: =SUM(AF11:AF30) -> 0 | AG31: =SUM(AG11:AG30) -> 0 | AH31: =SUM(AH11:AH30) -> 0 | AI31: =SUM(AI11:AI30) -> 0 | AJ31: =SUM(AJ11:AJ30) -> 0 | AK31: 計
L32: 対策区分の 判定結果 | O32: 判定区分毎の変状数 | Y32: =COUNTIF(Y11:Y30,"○") -> 0 | Z32: =COUNTIF(Z11:Z30,"○") -> 0 | AA32: =COUNTIF(AA11:AA30,"○") -> 0 | AB32: =COUNTIF(AB11:AB30,"○") -> 2 | AC32: =COUNT(AC11:AC30) -> 0 | AD32: =COUNT(AD11:AD30) -> 1 | AE32: =COUNT(AE11:AE30) -> 0 | AF32: =COUNT(AF11:AF30) -> 0 | AG32: =COUNT(AG11:AG30) -> 0 | AH32: =COUNT(AH11:AH30) -> 0 | AI32: =COUNT(AI11:AI30) -> 0 | AJ32: =COUNT(AJ11:AJ30) -> 0
O33: 変状区分毎の判定区分注3 | Y33: =IF(Y32>0,"Ⅳ",IF(Z32>0,"Ⅲ",IF(AA32>0,"Ⅱa",IF(AB32>0,"Ⅱb","Ⅰ")))) -> Ⅱb | AC33: =IF(AC32>0,"Ⅳ",IF(AD32>0,"Ⅲ",IF(AE32>0,"Ⅱa",IF(AF32>0,"Ⅱb","Ⅰ")))) -> Ⅲ | AG33: =IF(AG32>0,"Ⅳ",IF(AH32>0,"Ⅲ",IF(AI32>0,"Ⅱa",IF(AJ32>0,"Ⅱb","Ⅰ")))) -> Ⅰ | AQ33: Ⅳ | AR33: Ⅲ | AS33: Ⅱ
L34: 健全性の 診断結果 | O34: 判定区分 | Y34: Ⅳ | Z34: Ⅲ | AA34: Ⅱ | AC34: Ⅳ | AD34: Ⅲ | AE34: Ⅱ | AG34: Ⅳ | AH34: Ⅲ | AI34: Ⅱ | AQ34: =+Y32+Z32 -> 0 | AS34: =+AA32+AB32 -> 2
O35: 判定区分毎の変状数注4 | Y35: =IF(Y32=0,"",1) | Z35: =IF(Z32=0,"",1) | AA35: =IF(AQ34=1,"",IF(AS34>0,1,"")) -> 1 | AC35: =+AC32 -> 0 | AD35: =AD32 -> 1 | AE35: =AE32+AF32 -> 0 | AG35: =AG32 -> 0 | AH35: =AH32 -> 0 | AI35: =AI32+AJ32 -> 0 | AQ35: =+Y32+AC35+AG35 -> 0 | AR35: =+Z32+AD35+AH35 -> 1 | AS35: =+AS34+AE35+AI35 -> 2
O36: 変状区分毎の判定区分注4 | Y36: =IF(Y35=1,"Ⅳ",IF(Z35=1,"Ⅲ",IF(AA35=1,"Ⅱ","Ⅰ"))) -> Ⅱ | AC36: =IF(AC35>0,"Ⅳ",IF(AD35>0,"Ⅲ",IF(AE35>0,"Ⅱ","Ⅰ"))) -> Ⅲ | AG36: =IF(AG35>0,"Ⅳ",IF(AH35>0,"Ⅲ",IF(AI35>0,"Ⅱ","Ⅰ"))) -> Ⅰ | AQ36: =IF(AQ35>0,"Ⅳ",IF(AR35>0,"Ⅲ",IF(AS35>0,"Ⅱ","Ⅰ"))) -> Ⅲ
O37: 覆工スパン単位の判定区分注5 | Y37: =IF(OR(Y36="Ⅳ",AC36="Ⅳ",AG36="Ⅳ"),"Ⅳ",IF(OR(Y36="Ⅲ",AC36="Ⅲ",AG36="Ⅲ"),"Ⅲ",IF(OR(Y36="Ⅱ",AC36="Ⅱ",AG36="Ⅱ"),"Ⅱ","Ⅰ"))) -> Ⅲ
K38: 特記事項
K40: 注1：誤記入防止のため、当該変状区分以外のセルは灰色表示とすること。
K41: 注2：応急対策を実施した場合は、その詳細を備考に記載すること。
K42: 注3：変状区分毎での最も評価の厳しい判定区分。
K43: 注4：変状区分毎での最も評価の厳しい判定区分．外力は覆工スパン単位、材質劣化、漏水は変状単位で行う。
K44: 注5：覆工スパンの中で最も評価の厳しい健全性を採用し、その覆工スパン毎の健全性とする。
B46: ※1：本シートは作成洩れのないよう、変状が無くても全スパン分を作成すること．また変状展開図は、様式D-2-1、様式D-2-1'と同じものを覆工スパン単位で拡大し掲載すること。
B47: ※2：変状番号は、様式D-1-1で記入した番号と整合させること。
B48: ※3：対策区分毎の変状発生規模は、様式D-1-1に記載した面積を記入すること（ただし外力はスパン単位で評価するため対象外とし、備考欄に状況を記入）。
B49: ※4：本様式は覆工スパン毎に作成すること。
B50: ※5：変状数が多い場合は、適時、表の行を増やして覆工スパン毎に1枚のシートに収めること。また、1スパン１シートとし、スパンに合わせてシートを追加すること。
B51: ※6：対策区分毎の変状の発生範囲の規模とは，対策を行う際に参考となる変状の長さや面積であり，変状を包含する長さや面積とする。
B52: ※7：路面滞水は、変状面積に1を記載するとともに、備考にも内容を記載すること。

Sheet 様式D-3_S013
AU1: 様式E-1リンク用→ | AV1: 覆工ｽﾊﾟﾝ 番号 | AW1: ｽﾊﾟﾝ 長 (m) | AX1: 変状数集計 | BS1: 覆工スパン毎の 健全性の診断 | BW1: 変状規模集計
AX2: 対策区分毎の変状数 | BJ2: 健全性の判定区分毎の変状数 | BW2: 覆工スパン長(m) | CA2: 対策区分毎の変状の発生範囲の規模(㎡）
B3: ■定期点検記録様式 覆工スパン別変状詳細展開図 【様式D-3】 | AX3: 外力 | BB3: 材質劣化 | BF3: 漏水 | BJ3: 外力 | BM3: 材質劣化 | BP3: 漏水 | BS3: 外力 | BT3: 材質劣化 | BU3: 漏水 | BV3: 健全性 | BW3: 外力※１ | CA3: 材質劣化 | CE3: 漏水
B4: フリガナ | E4: トノミトンネル | K4: 路線名 | N4: 主要道路防府環状線 | T4: 定期点検業者 | Y4: セントラルコンサルタント株式会社 | AG4: 定期点検年月日 | AK4: 44337 | AX4: Ⅳ | AY4: Ⅲ | AZ4: Ⅱa | BA4: Ⅱb | BB4: Ⅳ | BC4: Ⅲ | BD4: Ⅱa | BE4: Ⅱb | BF4: Ⅳ | BG4: Ⅲ | BH4: Ⅱa | BI4: Ⅱb | BJ4: Ⅳ | BK4: Ⅲ | BL4: Ⅱ | BM4: Ⅳ | BN4: Ⅲ | BO4: Ⅱ | BP4: Ⅳ | BQ4: Ⅲ | BR4: Ⅱ | BW4: Ⅳ | BX4: Ⅲ | BY4: Ⅱa | BZ4: Ⅱb | CA4: Ⅳ | CB4: Ⅲ | CC4: Ⅱa | CD4: Ⅱb | CE4: Ⅳ | CF4: Ⅲ | CG4: Ⅱa | CH4: Ⅱb
B5: 名 称 | E5: 富海トンネル | K5: 管理者名 | N5: 山口県防府土木建築事務所 | T5: 定期点検者名 | Y5: 鹿子嶋 康博 | AV5: =N7 -> S13 | AW5: =R7 -> 4 | AX5: =+Y32 -> 0 | AY5: =+Z32 -> 0 | AZ5: =+AA32 -> 0 | BA5: =+AB32 -> 0 | BB5: =+AC32 -> 0 | BC5: =+AD32 -> 0 | BD5: =+AE32 -> 1 | BE5: =+AF32 -> 0 | ... BI5: =+AJ32 -> 2 | BJ5: =+Y35 | BK5: =+Z35 | BL5: =+AA35 | BM5: =+AC35 -> 0 | BN5: =+AD35 -> 0 | BO5: =+AE35 -> 1 | BP5: =+AG35 -> 0 | BQ5: =+AH35 -> 0 | BR5: =+AI35 -> 2 | BS5: =+Y36 -> Ⅰ | BT5: =+AC36 -> Ⅱ | BU5: =+AG36 -> Ⅱ | BV5: =+Y37 -> Ⅱ | BW5: =IF(Y32>0,$R$7,"") | BX5: =IF(Z32>0,"",IF(AA32>0,$R$7,"")) | BY5: =IF(Y32+Z32>0,"",IF(AA32>0,$R$7,"")) | BZ5: =IF(Y32+Z32+AA32>0,"",IF(AB32>0,$R$7,"")) | CA5: =+AC31 -> 0 | CB5: =+AD31 -> 0 | CC5: =+AE31 -> 0.04 | CD5: =+AF31 -> 0 | CE5: =+AG31 -> 0 | CF5: =+AH31 -> 0 | CG5: =+AI31 -> 0 | CH5: =+AJ31 -> 5.4
B6: スパン別変状展開図 | K6: 【健全性判定集計表】
K7: スパン番号 | N7: S13 | P7: スパン長 | R7: 4 | U7: 前回定期点検時の健全性 | W7: 応急措置前の判定 | Y7: 対策区分毎の 変状の有無 | AC7: 対策区分毎の変状の発生範囲の規模(㎡) | AK7: 備考注2
K8: 変状番号 | L8: 対象箇所 | N8: 部位区分 | P8: 変状区分 | R8: 変状種類
Y9: 外力注1 | AC9: 材質劣化注1 | AG9: 漏水注1
Y10: Ⅳ | Z10: Ⅲ | AA10: Ⅱa | AB10: Ⅱb | AC10: Ⅳ | AD10: Ⅲ | AE10: Ⅱa | AF10: Ⅱb | AG10: Ⅳ | AH10: Ⅲ | AI10: Ⅱa | AJ10: Ⅱb
K11: 1 | L11: 覆工・坑門 | N11: アーチ（左側） | P11: 漏水 | R11: 漏水 | U11: － | AJ11: 2.25 | AK11: 0 | AQ11: =IF(P11="材質劣化",2,IF(P11="漏水",3,1)) -> 3
K12: 2 | L12: 覆工・坑門 | N12: アーチ（左側） | P12: 材質劣化 | R12: うき・はく離 | U12: － | AE12: 0.04 | AK12: 0 | AQ12: =IF(P12="材質劣化",2,IF(P12="漏水",3,1)) -> 2
K13: 3 | L13: 路面 | N13: 側溝 | P13: 漏水 | R13: その他 | U13: Ⅱ | AJ13: 3.15 | AK13: 0 | AQ13: =IF(P13="材質劣化",2,IF(P13="漏水",3,1)) -> 3
AQ14: =IF(P14="材質劣化",2,IF(P14="漏水",3,1)) -> 1
AQ15: =IF(P15="材質劣化",2,IF(P15="漏水",3,1)) -> 1
AQ16: =IF(P16="材質劣化",2,IF(P16="漏水",3,1)) -> 1
AQ17: =IF(P17="材質劣化",2,IF(P17="漏水",3,1)) -> 1
AQ18: =IF(P18="材質劣化",2,IF(P18="漏水",3,1)) -> 1
AQ19: =IF(P19="材質劣化",2,IF(P19="漏水",3,1)) -> 1
AQ20: =IF(P20="材質劣化",2,IF(P20="漏水",3,1)) -> 1
AQ21: =IF(P21="材質劣化",2,IF(P21="漏水",3,1)) -> 1
AQ22: =IF(P22="材質劣化",2,IF(P22="漏水",3,1)) -> 1
AQ23: =IF(P23="材質劣化",2,IF(P23="漏水",3,1)) -> 1
AQ24: =IF(P24="材質劣化",2,IF(P24="漏水",3,1)) -> 1
AQ25: =IF(P25="材質劣化",2,IF(P25="漏水",3,1)) -> 1
... AQ30: =IF(P30="材質劣化",2,IF(P30="漏水",3,1)) -> 1
K31: 集計 ・ 判定 ・ 診断 | L31: 変状の発生規模合計(㎡) | Y31: － | AC31: =SUM(AC11:AC30) -> 0 | AD31: =SUM(AD11:AD30) -> 0 | AE31: =SUM(AE11:AE30) -> 0.04 | AF31: =SUM(AF11:AF30) -> 0 | AG31: =SUM(AG11:AG30) -> 0 | AH31: =SUM(AH11:AH30) -> 0 | AI31: =SUM(AI11:AI30) -> 0 | AJ31: =SUM(AJ11:AJ30) -> 5.4 | AK31: 計
L32: 対策区分の 判定結果 | O32: 判定区分毎の変状数 | Y32: =COUNTIF(Y11:Y30,"○") -> 0 | Z32: =COUNTIF(Z11:Z30,"○") -> 0 | AA32: =COUNTIF(AA11:AA30,"○") -> 0 | AB32: =COUNTIF(AB11:AB30,"○") -> 0 | AC32: =COUNT(AC11:AC30) -> 0 | AD32: =COUNT(AD11:AD30) -> 0 | AE32: =COUNT(AE11:AE30) -> 1 | AF32: =COUNT(AF11:AF30) -> 0 | AG32: =COUNT(AG11:AG30) -> 0 | AH32: =COUNT(AH11:AH30) -> 0 | AI32: =COUNT(AI11:AI30) -> 0 | AJ32: =COUNT(AJ11:AJ30) -> 2
O33: 変状区分毎の判定区分注3 | Y33: =IF(Y32>0,"Ⅳ",IF(Z32>0,"Ⅲ",IF(AA32>0,"Ⅱa",IF(AB32>0,"Ⅱb","Ⅰ")))) -> Ⅰ | AC33: =IF(AC32>0,"Ⅳ",IF(AD32>0,"Ⅲ",IF(AE32>0,"Ⅱa",IF(AF32>0,"Ⅱb","Ⅰ")))) -> Ⅱa | AG33: =IF(AG32>0,"Ⅳ",IF(AH32>0,"Ⅲ",IF(AI32>0,"Ⅱa",IF(AJ32>0,"Ⅱb","Ⅰ")))) -> Ⅱb | AQ33: Ⅳ | AR33: Ⅲ | AS33: Ⅱ
L34: 健全性の 診断結果 | O34: 判定区分 | Y34: Ⅳ | Z34: Ⅲ | AA34: Ⅱ | AC34: Ⅳ | AD34: Ⅲ | AE34: Ⅱ | AG34: Ⅳ | AH34: Ⅲ | AI34: Ⅱ | AQ34: =+Y32+Z32 -> 0 | AS34: =+AA32+AB32 -> 0
O35: 判定区分毎の変状数注4 | Y35: =IF(Y32=0,"",1) | Z35: =IF(Z32=0,"",1) | AA35: =IF(AQ34=1,"",IF(AS34>0,1,"")) | AC35: =+AC32 -> 0 | AD35: =AD32 -> 0 | AE35: =AE32+AF32 -> 1 | AG35: =AG32 -> 0 | AH35: =AH32 -> 0 | AI35: =AI32+AJ32 -> 2 | AQ35: =+Y32+AC35+AG35 -> 0 | AR35: =+Z32+AD35+AH35 -> 0 | AS35: =+AS34+AE35+AI35 -> 3
O36: 変状区分毎の判定区分注4 | Y36: =IF(Y35=1,"Ⅳ",IF(Z35=1,"Ⅲ",IF(AA35=1,"Ⅱ","Ⅰ"))) -> Ⅰ | AC36: =IF(AC35>0,"Ⅳ",IF(AD35>0,"Ⅲ",IF(AE35>0,"Ⅱ","Ⅰ"))) -> Ⅱ | AG36: =IF(AG35>0,"Ⅳ",IF(AH35>0,"Ⅲ",IF(AI35>0,"Ⅱ","Ⅰ"))) -> Ⅱ | AQ36: =IF(AQ35>0,"Ⅳ",IF(AR35>0,"Ⅲ",IF(AS35>0,"Ⅱ","Ⅰ"))) -> Ⅱ
O37: 覆工スパン単位の判定区分注5 | Y37: =IF(OR(Y36="Ⅳ",AC36="Ⅳ",AG36="Ⅳ"),"Ⅳ",IF(OR(Y36="Ⅲ",AC36="Ⅲ",AG36="Ⅲ"),"Ⅲ",IF(OR(Y36="Ⅱ",AC36="Ⅱ",AG36="Ⅱ"),"Ⅱ","Ⅰ"))) -> Ⅱ
K38: 特記事項
K40: 注1：誤記入防止のため、当該変状区分以外のセルは灰色表示とすること。
K41: 注2：応急対策を実施した場合は、その詳細を備考に記載すること。
K42: 注3：変状区分毎での最も評価の厳しい判定区分。
K43: 注4：変状区分毎での最も評価の厳しい判定区分．外力は覆工スパン単位、材質劣化、漏水は変状単位で行う。
K44: 注5：覆工スパンの中で最も評価の厳しい健全性を採用し、その覆工スパン毎の健全性とする。
B46: ※1：本シートは作成洩れのないよう、変状が無くても全スパン分を作成すること．また変状展開図は、様式D-2-1、様式D-2-1'と同じものを覆工スパン単位で拡大し掲載すること。
B47: ※2：変状番号は、様式D-1-1で記入した番号と整合させること。
B48: ※3：対策区分毎の変状発生規模は、様式D-1-1に記載した面積を記入すること（ただし外力はスパン単位で評価するため対象外とし、備考欄に状況を記入）。
B49: ※4：本様式は覆工スパン毎に作成すること。
B50: ※5：変状数が多い場合は、適時、表の行を増やして覆工スパン毎に1枚のシートに収めること。また、1スパン１シートとし、スパンに合わせてシートを追加すること。
B51: ※6：対策区分毎の変状の発生範囲の規模とは，対策を行う際に参考となる変状の長さや面積であり，変状を包含する長さや面積とする。
B52: ※7：路面滞水は、変状面積に1を記載するとともに、備考にも内容を記載すること。

Sheet 様式D-3_S014
AU1: 様式E-1リンク用→ | AV1: 覆工ｽﾊﾟﾝ 番号 | AW1: ｽﾊﾟﾝ 長 (m) | AX1: 変状数集計 | BS1: 覆工スパン毎の 健全性の診断 | BW1: 変状規模集計
AX2: 対策区分毎の変状数 | BJ2: 健全性の判定区分毎の変状数 | BW2: 覆工スパン長(m) | CA2: 対策区分毎の変状の発生範囲の規模(㎡）
B3: ■定期点検記録様式 覆工スパン別変状詳細展開図 【様式D-3】 | AX3: 外力 | BB3: 材質劣化 | BF3: 漏水 | BJ3: 外力 | BM3: 材質劣化 | BP3: 漏水 | BS3: 外力 | BT3: 材質劣化 | BU3: 漏水 | BV3: 健全性 | BW3: 外力※１ | CA3: 材質劣化 | CE3: 漏水
B4: フリガナ | E4: トノミトンネル | K4: 路線名 | N4: 主要道路防府環状線 | T4: 定期点検業者 | Y4: セントラルコンサルタント株式会社 | AG4: 定期点検年月日 | AK4: 44337 | AX4: Ⅳ | AY4: Ⅲ | AZ4: Ⅱa | BA4: Ⅱb | BB4: Ⅳ | BC4: Ⅲ | BD4: Ⅱa | BE4: Ⅱb | BF4: Ⅳ | BG4: Ⅲ | BH4: Ⅱa | BI4: Ⅱb | BJ4: Ⅳ | BK4: Ⅲ | BL4: Ⅱ | BM4: Ⅳ | BN4: Ⅲ | BO4: Ⅱ | BP4: Ⅳ | BQ4: Ⅲ | BR4: Ⅱ | BW4: Ⅳ | BX4: Ⅲ | BY4: Ⅱa | BZ4: Ⅱb | CA4: Ⅳ | CB4: Ⅲ | CC4: Ⅱa | CD4: Ⅱb | CE4: Ⅳ | CF4: Ⅲ | CG4: Ⅱa | CH4: Ⅱb
B5: 名 称 | E5: 富海トンネル | K5: 管理者名 | N5: 山口県防府土木建築事務所 | T5: 定期点検者名 | Y5: 鹿子嶋 康博 | AV5: =N7 -> S14 | AW5: =R7 -> 2.7 | AX5: =+Y32 -> 0 | AY5: =+Z32 -> 0 | AZ5: =+AA32 -> 0 | BA5: =+AB32 -> 0 | BB5: =+AC32 -> 0 | BC5: =+AD32 -> 2 | BD5: =+AE32 -> 0 | BE5: =+AF32 -> 0 | ... BI5: =+AJ32 -> 0 | BJ5: =+Y35 | BK5: =+Z35 | BL5: =+AA35 | BM5: =+AC35 -> 0 | BN5: =+AD35 -> 2 | BO5: =+AE35 -> 0 | BP5: =+AG35 -> 0 | BQ5: =+AH35 -> 0 | BR5: =+AI35 -> 0 | BS5: =+Y36 -> Ⅰ | BT5: =+AC36 -> Ⅲ | BU5: =+AG36 -> Ⅰ | BV5: =+Y37 -> Ⅲ | BW5: =IF(Y32>0,$R$7,"") | BX5: =IF(Z32>0,"",IF(AA32>0,$R$7,"")) | BY5: =IF(Y32+Z32>0,"",IF(AA32>0,$R$7,"")) | BZ5: =IF(Y32+Z32+AA32>0,"",IF(AB32>0,$R$7,"")) | CA5: =+AC31 -> 0 | CB5: =+AD31 -> 8.64 | CC5: =+AE31 -> 0 | CD5: =+AF31 -> 0 | CE5: =+AG31 -> 0 | CF5: =+AH31 -> 0 | CG5: =+AI31 -> 0 | CH5: =+AJ31 -> 0
B6: スパン別変状展開図 | K6: 【健全性判定集計表】
K7: スパン番号 | N7: S14 | P7: スパン長 | R7: 2.7 | U7: 前回定期点検時の健全性 | W7: 応急措置前の判定 | Y7: 対策区分毎の 変状の有無 | AC7: 対策区分毎の変状の発生範囲の規模(㎡) | AK7: 備考注2
K8: 変状番号 | L8: 対象箇所 | N8: 部位区分 | P8: 変状区分 | R8: 変状種類
Y9: 外力注1 | AC9: 材質劣化注1 | AG9: 漏水注1
Y10: Ⅳ | Z10: Ⅲ | AA10: Ⅱa | AB10: Ⅱb | AC10: Ⅳ | AD10: Ⅲ | AE10: Ⅱa | AF10: Ⅱb | AG10: Ⅳ | AH10: Ⅲ | AI10: Ⅱa | AJ10: Ⅱb
K11: 1 | L11: 覆工・坑門 | N11: 横断目地（全周） | P11: 材質劣化 | R11: 補強・補修材の破損 | U11: － | AD11: 5.76 | AK11: 0 | AQ11: =IF(P11="材質劣化",2,IF(P11="漏水",3,1)) -> 2
K12: 2 | L12: 覆工・坑門 | N12: アーチ（右側） | P12: 材質劣化 | R12: 補強・補修材の破損 | U12: － | AD12: 2.88 | AK12: 0 | AQ12: =IF(P12="材質劣化",2,IF(P12="漏水",3,1)) -> 2
AQ13: =IF(P13="材質劣化",2,IF(P13="漏水",3,1)) -> 1
AQ14: =IF(P14="材質劣化",2,IF(P14="漏水",3,1)) -> 1
AQ15: =IF(P15="材質劣化",2,IF(P15="漏水",3,1)) -> 1
AQ16: =IF(P16="材質劣化",2,IF(P16="漏水",3,1)) -> 1
AQ17: =IF(P17="材質劣化",2,IF(P17="漏水",3,1)) -> 1
AQ18: =IF(P18="材質劣化",2,IF(P18="漏水",3,1)) -> 1
AQ19: =IF(P19="材質劣化",2,IF(P19="漏水",3,1)) -> 1
AQ20: =IF(P20="材質劣化",2,IF(P20="漏水",3,1)) -> 1
AQ21: =IF(P21="材質劣化",2,IF(P21="漏水",3,1)) -> 1
AQ22: =IF(P22="材質劣化",2,IF(P22="漏水",3,1)) -> 1
AQ23: =IF(P23="材質劣化",2,IF(P23="漏水",3,1)) -> 1
AQ24: =IF(P24="材質劣化",2,IF(P24="漏水",3,1)) -> 1
... AQ30: =IF(P30="材質劣化",2,IF(P30="漏水",3,1)) -> 1
K31: 集計 ・ 判定 ・ 診断 | L31: 変状の発生規模合計(㎡) | Y31: － | AC31: =SUM(AC11:AC30) -> 0 | AD31: =SUM(AD11:AD30) -> 8.64 | AE31: =SUM(AE11:AE30) -> 0 | AF31: =SUM(AF11:AF30) -> 0 | AG31: =SUM(AG11:AG30) -> 0 | AH31: =SUM(AH11:AH30) -> 0 | AI31: =SUM(AI11:AI30) -> 0 | AJ31: =SUM(AJ11:AJ30) -> 0 | AK31: 計
L32: 対策区分の 判定結果 | O32: 判定区分毎の変状数 | Y32: =COUNTIF(Y11:Y30,"○") -> 0 | Z32: =COUNTIF(Z11:Z30,"○") -> 0 | AA32: =COUNTIF(AA11:AA30,"○") -> 0 | AB32: =COUNTIF(AB11:AB30,"○") -> 0 | AC32: =COUNT(AC11:AC30) -> 0 | AD32: =COUNT(AD11:AD30) -> 2 | AE32: =COUNT(AE11:AE30) -> 0 | AF32: =COUNT(AF11:AF30) -> 0 | AG32: =COUNT(AG11:AG30) -> 0 | AH32: =COUNT(AH11:AH30) -> 0 | AI32: =COUNT(AI11:AI30) -> 0 | AJ32: =COUNT(AJ11:AJ30) -> 0
O33: 変状区分毎の判定区分注3 | Y33: =IF(Y32>0,"Ⅳ",IF(Z32>0,"Ⅲ",IF(AA32>0,"Ⅱa",IF(AB32>0,"Ⅱb","Ⅰ")))) -> Ⅰ | AC33: =IF(AC32>0,"Ⅳ",IF(AD32>0,"Ⅲ",IF(AE32>0,"Ⅱa",IF(AF32>0,"Ⅱb","Ⅰ")))) -> Ⅲ | AG33: =IF(AG32>0,"Ⅳ",IF(AH32>0,"Ⅲ",IF(AI32>0,"Ⅱa",IF(AJ32>0,"Ⅱb","Ⅰ")))) -> Ⅰ | AQ33: Ⅳ | AR33: Ⅲ | AS33: Ⅱ
L34: 健全性の 診断結果 | O34: 判定区分 | Y34: Ⅳ | Z34: Ⅲ | AA34: Ⅱ | AC34: Ⅳ | AD34: Ⅲ | AE34: Ⅱ | AG34: Ⅳ | AH34: Ⅲ | AI34: Ⅱ | AQ34: =+Y32+Z32 -> 0 | AS34: =+AA32+AB32 -> 0
O35: 判定区分毎の変状数注4 | Y35: =IF(Y32=0,"",1) | Z35: =IF(Z32=0,"",1) | AA35: =IF(AQ34=1,"",IF(AS34>0,1,"")) | AC35: =+AC32 -> 0 | AD35: =AD32 -> 2 | AE35: =AE32+AF32 -> 0 | AG35: =AG32 -> 0 | AH35: =AH32 -> 0 | AI35: =AI32+AJ32 -> 0 | AQ35: =+Y32+AC35+AG35 -> 0 | AR35: =+Z32+AD35+AH35 -> 2 | AS35: =+AS34+AE35+AI35 -> 0
O36: 変状区分毎の判定区分注4 | Y36: =IF(Y35=1,"Ⅳ",IF(Z35=1,"Ⅲ",IF(AA35=1,"Ⅱ","Ⅰ"))) -> Ⅰ | AC36: =IF(AC35>0,"Ⅳ",IF(AD35>0,"Ⅲ",IF(AE35>0,"Ⅱ","Ⅰ"))) -> Ⅲ | AG36: =IF(AG35>0,"Ⅳ",IF(AH35>0,"Ⅲ",IF(AI35>0,"Ⅱ","Ⅰ"))) -> Ⅰ | AQ36: =IF(AQ35>0,"Ⅳ",IF(AR35>0,"Ⅲ",IF(AS35>0,"Ⅱ","Ⅰ"))) -> Ⅲ
O37: 覆工スパン単位の判定区分注5 | Y37: =IF(OR(Y36="Ⅳ",AC36="Ⅳ",AG36="Ⅳ"),"Ⅳ",IF(OR(Y36="Ⅲ",AC36="Ⅲ",AG36="Ⅲ"),"Ⅲ",IF(OR(Y36="Ⅱ",AC36="Ⅱ",AG36="Ⅱ"),"Ⅱ","Ⅰ"))) -> Ⅲ
K38: 特記事項
K40: 注1：誤記入防止のため、当該変状区分以外のセルは灰色表示とすること。
K41: 注2：応急対策を実施した場合は、その詳細を備考に記載すること。
K42: 注3：変状区分毎での最も評価の厳しい判定区分。
K43: 注4：変状区分毎での最も評価の厳しい判定区分．外力は覆工スパン単位、材質劣化、漏水は変状単位で行う。
K44: 注5：覆工スパンの中で最も評価の厳しい健全性を採用し、その覆工スパン毎の健全性とする。
B46: ※1：本シートは作成洩れのないよう、変状が無くても全スパン分を作成すること．また変状展開図は、様式D-2-1、様式D-2-1'と同じものを覆工スパン単位で拡大し掲載すること。
B47: ※2：変状番号は、様式D-1-1で記入した番号と整合させること。
B48: ※3：対策区分毎の変状発生規模は、様式D-1-1に記載した面積を記入すること（ただし外力はスパン単位で評価するため対象外とし、備考欄に状況を記入）。
B49: ※4：本様式は覆工スパン毎に作成すること。
B50: ※5：変状数が多い場合は、適時、表の行を増やして覆工スパン毎に1枚のシートに収めること。また、1スパン１シートとし、スパンに合わせてシートを追加すること。
B51: ※6：対策区分毎の変状の発生範囲の規模とは，対策を行う際に参考となる変状の長さや面積であり，変状を包含する長さや面積とする。
B52: ※7：路面滞水は、変状面積に1を記載するとともに、備考にも内容を記載すること。

Sheet 様式D-3_S015
AU1: 様式E-1リンク用→ | AV1: 覆工ｽﾊﾟﾝ 番号 | AW1: ｽﾊﾟﾝ 長 (m) | AX1: 変状数集計 | BS1: 覆工スパン毎の 健全性の診断 | BW1: 変状規模集計
AX2: 対策区分毎の変状数 | BJ2: 健全性の判定区分毎の変状数 | BW2: 覆工スパン長(m) | CA2: 対策区分毎の変状の発生範囲の規模(㎡）
B3: ■定期点検記録様式 覆工スパン別変状詳細展開図 【様式D-3】 | AX3: 外力 | BB3: 材質劣化 | BF3: 漏水 | BJ3: 外力 | BM3: 材質劣化 | BP3: 漏水 | BS3: 外力 | BT3: 材質劣化 | BU3: 漏水 | BV3: 健全性 | BW3: 外力※１ | CA3: 材質劣化 | CE3: 漏水
B4: フリガナ | E4: トノミトンネル | K4: 路線名 | N4: 主要道路防府環状線 | T4: 定期点検業者 | Y4: セントラルコンサルタント株式会社 | AG4: 定期点検年月日 | AK4: 44337 | AX4: Ⅳ | AY4: Ⅲ | AZ4: Ⅱa | BA4: Ⅱb | BB4: Ⅳ | BC4: Ⅲ | BD4: Ⅱa | BE4: Ⅱb | BF4: Ⅳ | BG4: Ⅲ | BH4: Ⅱa | BI4: Ⅱb | BJ4: Ⅳ | BK4: Ⅲ | BL4: Ⅱ | BM4: Ⅳ | BN4: Ⅲ | BO4: Ⅱ | BP4: Ⅳ | BQ4: Ⅲ | BR4: Ⅱ | BW4: Ⅳ | BX4: Ⅲ | BY4: Ⅱa | BZ4: Ⅱb | CA4: Ⅳ | CB4: Ⅲ | CC4: Ⅱa | CD4: Ⅱb | CE4: Ⅳ | CF4: Ⅲ | CG4: Ⅱa | CH4: Ⅱb
B5: 名 称 | E5: 富海トンネル | K5: 管理者名 | N5: 山口県防府土木建築事務所 | T5: 定期点検者名 | Y5: 鹿子嶋 康博 | AV5: =N7 -> S15 | AW5: =R7 -> 2.7 | AX5: =+Y32 -> 0 | AY5: =+Z32 -> 0 | AZ5: =+AA32 -> 0 | BA5: =+AB32 -> 0 | BB5: =+AC32 -> 0 | BC5: =+AD32 -> 1 | BD5: =+AE32 -> 0 | BE5: =+AF32 -> 0 | ... BI5: =+AJ32 -> 2 | BJ5: =+Y35 | BK5: =+Z35 | BL5: =+AA35 | BM5: =+AC35 -> 0 | BN5: =+AD35 -> 1 | BO5: =+AE35 -> 0 | BP5: =+AG35 -> 0 | BQ5: =+AH35 -> 0 | BR5: =+AI35 -> 2 | BS5: =+Y36 -> Ⅰ | BT5: =+AC36 -> Ⅲ | BU5: =+AG36 -> Ⅱ | BV5: =+Y37 -> Ⅲ | BW5: =IF(Y32>0,$R$7,"") | BX5: =IF(Z32>0,"",IF(AA32>0,$R$7,"")) | BY5: =IF(Y32+Z32>0,"",IF(AA32>0,$R$7,"")) | BZ5: =IF(Y32+Z32+AA32>0,"",IF(AB32>0,$R$7,"")) | CA5: =+AC31 -> 0 | CB5: =+AD31 -> 2.92 | CC5: =+AE31 -> 0 | CD5: =+AF31 -> 0 | CE5: =+AG31 -> 0 | CF5: =+AH31 -> 0 | CG5: =+AI31 -> 0 | CH5: =+AJ31 -> 4.4
B6: スパン別変状展開図 | K6: 【健全性判定集計表】
K7: スパン番号 | N7: S15 | P7: スパン長 | R7: 2.7 | U7: 前回定期点検時の健全性 | W7: 応急措置前の判定 | Y7: 対策区分毎の 変状の有無 | AC7: 対策区分毎の変状の発生範囲の規模(㎡) | AK7: 備考注2
K8: 変状番号 | L8: 対象箇所 | N8: 部位区分 | P8: 変状区分 | R8: 変状種類
Y9: 外力注1 | AC9: 材質劣化注1 | AG9: 漏水注1
Y10: Ⅳ | Z10: Ⅲ | AA10: Ⅱa | AB10: Ⅱb | AC10: Ⅳ | AD10: Ⅲ | AE10: Ⅱa | AF10: Ⅱb | AG10: Ⅳ | AH10: Ⅲ | AI10: Ⅱa | AJ10: Ⅱb
K11: 1 | L11: 覆工・坑門 | N11: 横断目地（天端） | P11: 漏水 | R11: 漏水 | U11: Ⅱ | AJ11: 3.65 | AK11: 0 | AQ11: =IF(P11="材質劣化",2,IF(P11="漏水",3,1)) -> 3
K12: 2 | L12: 覆工・坑門 | N12: 横断目地（右側） | P12: 材質劣化 | R12: 補強・補修材の破損 | U12: － | AD12: 2.92 | AK12: 0 | AQ12: =IF(P12="材質劣化",2,IF(P12="漏水",3,1)) -> 2
K13: 3 | L13: 路面 | N13: 側溝 | P13: 漏水 | R13: その他 | U13: Ⅱ | AJ13: 0.75 | AK13: 0 | AQ13: =IF(P13="材質劣化",2,IF(P13="漏水",3,1)) -> 3
AQ14: =IF(P14="材質劣化",2,IF(P14="漏水",3,1)) -> 1
AQ15: =IF(P15="材質劣化",2,IF(P15="漏水",3,1)) -> 1
AQ16: =IF(P16="材質劣化",2,IF(P16="漏水",3,1)) -> 1
AQ17: =IF(P17="材質劣化",2,IF(P17="漏水",3,1)) -> 1
AQ18: =IF(P18="材質劣化",2,IF(P18="漏水",3,1)) -> 1
AQ19: =IF(P19="材質劣化",2,IF(P19="漏水",3,1)) -> 1
AQ20: =IF(P20="材質劣化",2,IF(P20="漏水",3,1)) -> 1
AQ21: =IF(P21="材質劣化",2,IF(P21="漏水",3,1)) -> 1
AQ22: =IF(P22="材質劣化",2,IF(P22="漏水",3,1)) -> 1
AQ23: =IF(P23="材質劣化",2,IF(P23="漏水",3,1)) -> 1
AQ24: =IF(P24="材質劣化",2,IF(P24="漏水",3,1)) -> 1
AQ25: =IF(P25="材質劣化",2,IF(P25="漏水",3,1)) -> 1
... AQ30: =IF(P30="材質劣化",2,IF(P30="漏水",3,1)) -> 1
K31: 集計 ・ 判定 ・ 診断 | L31: 変状の発生規模合計(㎡) | Y31: － | AC31: =SUM(AC11:AC30) -> 0 | AD31: =SUM(AD11:AD30) -> 2.92 | AE31: =SUM(AE11:AE30) -> 0 | AF31: =SUM(AF11:AF30) -> 0 | AG31: =SUM(AG11:AG30) -> 0 | AH31: =SUM(AH11:AH30) -> 0 | AI31: =SUM(AI11:AI30) -> 0 | AJ31: =SUM(AJ11:AJ30) -> 4.4 | AK31: 計
L32: 対策区分の 判定結果 | O32: 判定区分毎の変状数 | Y32: =COUNTIF(Y11:Y30,"○") -> 0 | Z32: =COUNTIF(Z11:Z30,"○") -> 0 | AA32: =COUNTIF(AA11:AA30,"○") -> 0 | AB32: =COUNTIF(AB11:AB30,"○") -> 0 | AC32: =COUNT(AC11:AC30) -> 0 | AD32: =COUNT(AD11:AD30) -> 1 | AE32: =COUNT(AE11:AE30) -> 0 | AF32: =COUNT(AF11:AF30) -> 0 | AG32: =COUNT(AG11:AG30) -> 0 | AH32: =COUNT(AH11:AH30) -> 0 | AI32: =COUNT(AI11:AI30) -> 0 | AJ32: =COUNT(AJ11:AJ30) -> 2
O33: 変状区分毎の判定区分注3 | Y33: =IF(Y32>0,"Ⅳ",IF(Z32>0,"Ⅲ",IF(AA32>0,"Ⅱa",IF(AB32>0,"Ⅱb","Ⅰ")))) -> Ⅰ | AC33: =IF(AC32>0,"Ⅳ",IF(AD32>0,"Ⅲ",IF(AE32>0,"Ⅱa",IF(AF32>0,"Ⅱb","Ⅰ")))) -> Ⅲ | AG33: =IF(AG32>0,"Ⅳ",IF(AH32>0,"Ⅲ",IF(AI32>0,"Ⅱa",IF(AJ32>0,"Ⅱb","Ⅰ")))) -> Ⅱb | AQ33: Ⅳ | AR33: Ⅲ | AS33: Ⅱ
L34: 健全性の 診断結果 | O34: 判定区分 | Y34: Ⅳ | Z34: Ⅲ | AA34: Ⅱ | AC34: Ⅳ | AD34: Ⅲ | AE34: Ⅱ | AG34: Ⅳ | AH34: Ⅲ | AI34: Ⅱ | AQ34: =+Y32+Z32 -> 0 | AS34: =+AA32+AB32 -> 0
O35: 判定区分毎の変状数注4 | Y35: =IF(Y32=0,"",1) | Z35: =IF(Z32=0,"",1) | AA35: =IF(AQ34=1,"",IF(AS34>0,1,"")) | AC35: =+AC32 -> 0 | AD35: =AD32 -> 1 | AE35: =AE32+AF32 -> 0 | AG35: =AG32 -> 0 | AH35: =AH32 -> 0 | AI35: =AI32+AJ32 -> 2 | AQ35: =+Y32+AC35+AG35 -> 0 | AR35: =+Z32+AD35+AH35 -> 1 | AS35: =+AS34+AE35+AI35 -> 2
O36: 変状区分毎の判定区分注4 | Y36: =IF(Y35=1,"Ⅳ",IF(Z35=1,"Ⅲ",IF(AA35=1,"Ⅱ","Ⅰ"))) -> Ⅰ | AC36: =IF(AC35>0,"Ⅳ",IF(AD35>0,"Ⅲ",IF(AE35>0,"Ⅱ","Ⅰ"))) -> Ⅲ | AG36: =IF(AG35>0,"Ⅳ",IF(AH35>0,"Ⅲ",IF(AI35>0,"Ⅱ","Ⅰ"))) -> Ⅱ | AQ36: =IF(AQ35>0,"Ⅳ",IF(AR35>0,"Ⅲ",IF(AS35>0,"Ⅱ","Ⅰ"))) -> Ⅲ
O37: 覆工スパン単位の判定区分注5 | Y37: =IF(OR(Y36="Ⅳ",AC36="Ⅳ",AG36="Ⅳ"),"Ⅳ",IF(OR(Y36="Ⅲ",AC36="Ⅲ",AG36="Ⅲ"),"Ⅲ",IF(OR(Y36="Ⅱ",AC36="Ⅱ",AG36="Ⅱ"),"Ⅱ","Ⅰ"))) -> Ⅲ
K38: 特記事項
K40: 注1：誤記入防止のため、当該変状区分以外のセルは灰色表示とすること。
K41: 注2：応急対策を実施した場合は、その詳細を備考に記載すること。
K42: 注3：変状区分毎での最も評価の厳しい判定区分。
K43: 注4：変状区分毎での最も評価の厳しい判定区分．外力は覆工スパン単位、材質劣化、漏水は変状単位で行う。
K44: 注5：覆工スパンの中で最も評価の厳しい健全性を採用し、その覆工スパン毎の健全性とする。
B46: ※1：本シートは作成洩れのないよう、変状が無くても全スパン分を作成すること．また変状展開図は、様式D-2-1、様式D-2-1'と同じものを覆工スパン単位で拡大し掲載すること。
B47: ※2：変状番号は、様式D-1-1で記入した番号と整合させること。
B48: ※3：対策区分毎の変状発生規模は、様式D-1-1に記載した面積を記入すること（ただし外力はスパン単位で評価するため対象外とし、備考欄に状況を記入）。
B49: ※4：本様式は覆工スパン毎に作成すること。
B50: ※5：変状数が多い場合は、適時、表の行を増やして覆工スパン毎に1枚のシートに収めること。また、1スパン１シートとし、スパンに合わせてシートを追加すること。
B51: ※6：対策区分毎の変状の発生範囲の規模とは，対策を行う際に参考となる変状の長さや面積であり，変状を包含する長さや面積とする。
B52: ※7：路面滞水は、変状面積に1を記載するとともに、備考にも内容を記載すること。

Sheet 様式D-3_S016
AU1: 様式E-1リンク用→ | AV1: 覆工ｽﾊﾟﾝ 番号 | AW1: ｽﾊﾟﾝ 長 (m) | AX1: 変状数集計 | BS1: 覆工スパン毎の 健全性の診断 | BW1: 変状規模集計
AX2: 対策区分毎の変状数 | BJ2: 健全性の判定区分毎の変状数 | BW2: 覆工スパン長(m) | CA2: 対策区分毎の変状の発生範囲の規模(㎡）
B3: ■定期点検記録様式 覆工スパン別変状詳細展開図 【様式D-3】 | AX3: 外力 | BB3: 材質劣化 | BF3: 漏水 | BJ3: 外力 | BM3: 材質劣化 | BP3: 漏水 | BS3: 外力 | BT3: 材質劣化 | BU3: 漏水 | BV3: 健全性 | BW3: 外力※１ | CA3: 材質劣化 | CE3: 漏水
B4: フリガナ | E4: トノミトンネル | K4: 路線名 | N4: 主要道路防府環状線 | T4: 定期点検業者 | Y4: セントラルコンサルタント株式会社 | AG4: 定期点検年月日 | AK4: 44337 | AX4: Ⅳ | AY4: Ⅲ | AZ4: Ⅱa | BA4: Ⅱb | BB4: Ⅳ | BC4: Ⅲ | BD4: Ⅱa | BE4: Ⅱb | BF4: Ⅳ | BG4: Ⅲ | BH4: Ⅱa | BI4: Ⅱb | BJ4: Ⅳ | BK4: Ⅲ | BL4: Ⅱ | BM4: Ⅳ | BN4: Ⅲ | BO4: Ⅱ | BP4: Ⅳ | BQ4: Ⅲ | BR4: Ⅱ | BW4: Ⅳ | BX4: Ⅲ | BY4: Ⅱa | BZ4: Ⅱb | CA4: Ⅳ | CB4: Ⅲ | CC4: Ⅱa | CD4: Ⅱb | CE4: Ⅳ | CF4: Ⅲ | CG4: Ⅱa | CH4: Ⅱb
B5: 名 称 | E5: 富海トンネル | K5: 管理者名 | N5: 山口県防府土木建築事務所 | T5: 定期点検者名 | Y5: 鹿子嶋 康博 | AV5: =N7 -> S16 | AW5: =R7 -> 5.5 | AX5: =+Y32 -> 0 | AY5: =+Z32 -> 0 | AZ5: =+AA32 -> 0 | BA5: =+AB32 -> 0 | BB5: =+AC32 -> 0 | BC5: =+AD32 -> 3 | BD5: =+AE32 -> 0 | BE5: =+AF32 -> 0 | ... BI5: =+AJ32 -> 2 | BJ5: =+Y35 | BK5: =+Z35 | BL5: =+AA35 | BM5: =+AC35 -> 0 | BN5: =+AD35 -> 3 | BO5: =+AE35 -> 0 | BP5: =+AG35 -> 0 | BQ5: =+AH35 -> 0 | BR5: =+AI35 -> 2 | BS5: =+Y36 -> Ⅰ | BT5: =+AC36 -> Ⅲ | BU5: =+AG36 -> Ⅱ | BV5: =+Y37 -> Ⅲ | BW5: =IF(Y32>0,$R$7,"") | BX5: =IF(Z32>0,"",IF(AA32>0,$R$7,"")) | BY5: =IF(Y32+Z32>0,"",IF(AA32>0,$R$7,"")) | BZ5: =IF(Y32+Z32+AA32>0,"",IF(AB32>0,$R$7,"")) | CA5: =+AC31 -> 0 | CB5: =+AD31 -> 6.76 | CC5: =+AE31 -> 0 | CD5: =+AF31 -> 0 | CE5: =+AG31 -> 0 | CF5: =+AH31 -> 0 | CG5: =+AI31 -> 0 | CH5: =+AJ31 -> 3.36
B6: スパン別変状展開図 | K6: 【健全性判定集計表】
K7: スパン番号 | N7: S16 | P7: スパン長 | R7: 5.5 | U7: 前回定期点検時の健全性 | W7: 応急措置前の判定 | Y7: 対策区分毎の 変状の有無 | AC7: 対策区分毎の変状の発生範囲の規模(㎡) | AK7: 備考注2
K8: 変状番号 | L8: 対象箇所 | N8: 部位区分 | P8: 変状区分 | R8: 変状種類
Y9: 外力注1 | AC9: 材質劣化注1 | AG9: 漏水注1
Y10: Ⅳ | Z10: Ⅲ | AA10: Ⅱa | AB10: Ⅱb | AC10: Ⅳ | AD10: Ⅲ | AE10: Ⅱa | AF10: Ⅱb | AG10: Ⅳ | AH10: Ⅲ | AI10: Ⅱa | AJ10: Ⅱb
K11: 1 | L11: 覆工・坑門 | N11: アーチ（右側） | P11: 漏水 | R11: 漏水 | U11: Ⅱ | AJ11: 0.36 | AK11: 0 | AQ11: =IF(P11="材質劣化",2,IF(P11="漏水",3,1)) -> 3
K12: 2 | L12: 覆工・坑門 | N12: アーチ（右側） | P12: 材質劣化 | R12: 補強・補修材の破損 | U12: － | AD12: 0.96 | AK12: 0 | AQ12: =IF(P12="材質劣化",2,IF(P12="漏水",3,1)) -> 2
K13: 3 | L13: 覆工・坑門 | N13: アーチ（右側） | P13: 材質劣化 | R13: 補強・補修材の破損 | U13: － | AD13: 2.88 | AK13: 0 | AQ13: =IF(P13="材質劣化",2,IF(P13="漏水",3,1)) -> 2
K14: 4 | L14: 覆工・坑門 | N14: 横断目地（右側） | P14: 材質劣化 | R14: 補強・補修材の破損 | U14: － | AD14: 2.92 | AK14: 0 | AQ14: =IF(P14="材質劣化",2,IF(P14="漏水",3,1)) -> 2
K15: 5 | L15: 路面 | N15: 側溝 | P15: 漏水 | R15: その他 | U15: Ⅱ | AJ15: 3 | AK15: 0 | AQ15: =IF(P15="材質劣化",2,IF(P15="漏水",3,1)) -> 3
AQ16: =IF(P16="材質劣化",2,IF(P16="漏水",3,1)) -> 1
AQ17: =IF(P17="材質劣化",2,IF(P17="漏水",3,1)) -> 1
AQ18: =IF(P18="材質劣化",2,IF(P18="漏水",3,1)) -> 1
AQ19: =IF(P19="材質劣化",2,IF(P19="漏水",3,1)) -> 1
AQ20: =IF(P20="材質劣化",2,IF(P20="漏水",3,1)) -> 1
AQ21: =IF(P21="材質劣化",2,IF(P21="漏水",3,1)) -> 1
AQ22: =IF(P22="材質劣化",2,IF(P22="漏水",3,1)) -> 1
AQ23: =IF(P23="材質劣化",2,IF(P23="漏水",3,1)) -> 1
AQ24: =IF(P24="材質劣化",2,IF(P24="漏水",3,1)) -> 1
AQ25: =IF(P25="材質劣化",2,IF(P25="漏水",3,1)) -> 1
AQ26: =IF(P26="材質劣化",2,IF(P26="漏水",3,1)) -> 1
AQ27: =IF(P27="材質劣化",2,IF(P27="漏水",3,1)) -> 1
... AQ30: =IF(P30="材質劣化",2,IF(P30="漏水",3,1)) -> 1
K31: 集計 ・ 判定 ・ 診断 | L31: 変状の発生規模合計(㎡) | Y31: － | AC31: =SUM(AC11:AC30) -> 0 | AD31: =SUM(AD11:AD30) -> 6.76 | AE31: =SUM(AE11:AE30) -> 0 | AF31: =SUM(AF11:AF30) -> 0 | AG31: =SUM(AG11:AG30) -> 0 | AH31: =SUM(AH11:AH30) -> 0 | AI31: =SUM(AI11:AI30) -> 0 | AJ31: =SUM(AJ11:AJ30) -> 3.36 | AK31: 計
L32: 対策区分の 判定結果 | O32: 判定区分毎の変状数 | Y32: =COUNTIF(Y11:Y30,"○") -> 0 | Z32: =COUNTIF(Z11:Z30,"○") -> 0 | AA32: =COUNTIF(AA11:AA30,"○") -> 0 | AB32: =COUNTIF(AB11:AB30,"○") -> 0 | AC32: =COUNT(AC11:AC30) -> 0 | AD32: =COUNT(AD11:AD30) -> 3 | AE32: =COUNT(AE11:AE30) -> 0 | AF32: =COUNT(AF11:AF30) -> 0 | AG32: =COUNT(AG11:AG30) -> 0 | AH32: =COUNT(AH11:AH30) -> 0 | AI32: =COUNT(AI11:AI30) -> 0 | AJ32: =COUNT(AJ11:AJ30) -> 2
O33: 変状区分毎の判定区分注3 | Y33: =IF(Y32>0,"Ⅳ",IF(Z32>0,"Ⅲ",IF(AA32>0,"Ⅱa",IF(AB32>0,"Ⅱb","Ⅰ")))) -> Ⅰ | AC33: =IF(AC32>0,"Ⅳ",IF(AD32>0,"Ⅲ",IF(AE32>0,"Ⅱa",IF(AF32>0,"Ⅱb","Ⅰ")))) -> Ⅲ | AG33: =IF(AG32>0,"Ⅳ",IF(AH32>0,"Ⅲ",IF(AI32>0,"Ⅱa",IF(AJ32>0,"Ⅱb","Ⅰ")))) -> Ⅱb | AQ33: Ⅳ | AR33: Ⅲ | AS33: Ⅱ
L34: 健全性の 診断結果 | O34: 判定区分 | Y34: Ⅳ | Z34: Ⅲ | AA34: Ⅱ | AC34: Ⅳ | AD34: Ⅲ | AE34: Ⅱ | AG34: Ⅳ | AH34: Ⅲ | AI34: Ⅱ | AQ34: =+Y32+Z32 -> 0 | AS34: =+AA32+AB32 -> 0
O35: 判定区分毎の変状数注4 | Y35: =IF(Y32=0,"",1) | Z35: =IF(Z32=0,"",1) | AA35: =IF(AQ34=1,"",IF(AS34>0,1,"")) | AC35: =+AC32 -> 0 | AD35: =AD32 -> 3 | AE35: =AE32+AF32 -> 0 | AG35: =AG32 -> 0 | AH35: =AH32 -> 0 | AI35: =AI32+AJ32 -> 2 | AQ35: =+Y32+AC35+AG35 -> 0 | AR35: =+Z32+AD35+AH35 -> 3 | AS35: =+AS34+AE35+AI35 -> 2
O36: 変状区分毎の判定区分注4 | Y36: =IF(Y35=1,"Ⅳ",IF(Z35=1,"Ⅲ",IF(AA35=1,"Ⅱ","Ⅰ"))) -> Ⅰ | AC36: =IF(AC35>0,"Ⅳ",IF(AD35>0,"Ⅲ",IF(AE35>0,"Ⅱ","Ⅰ"))) -> Ⅲ | AG36: =IF(AG35>0,"Ⅳ",IF(AH35>0,"Ⅲ",IF(AI35>0,"Ⅱ","Ⅰ"))) -> Ⅱ | AQ36: =IF(AQ35>0,"Ⅳ",IF(AR35>0,"Ⅲ",IF(AS35>0,"Ⅱ","Ⅰ"))) -> Ⅲ
O37: 覆工スパン単位の判定区分注5 | Y37: =IF(OR(Y36="Ⅳ",AC36="Ⅳ",AG36="Ⅳ"),"Ⅳ",IF(OR(Y36="Ⅲ",AC36="Ⅲ",AG36="Ⅲ"),"Ⅲ",IF(OR(Y36="Ⅱ",AC36="Ⅱ",AG36="Ⅱ"),"Ⅱ","Ⅰ"))) -> Ⅲ
K38: 特記事項
K40: 注1：誤記入防止のため、当該変状区分以外のセルは灰色表示とすること。
K41: 注2：応急対策を実施した場合は、その詳細を備考に記載すること。
K42: 注3：変状区分毎での最も評価の厳しい判定区分。
K43: 注4：変状区分毎での最も評価の厳しい判定区分．外力は覆工スパン単位、材質劣化、漏水は変状単位で行う。
K44: 注5：覆工スパンの中で最も評価の厳しい健全性を採用し、その覆工スパン毎の健全性とする。
B46: ※1：本シートは作成洩れのないよう、変状が無くても全スパン分を作成すること．また変状展開図は、様式D-2-1、様式D-2-1'と同じものを覆工スパン単位で拡大し掲載すること。
B47: ※2：変状番号は、様式D-1-1で記入した番号と整合させること。
B48: ※3：対策区分毎の変状発生規模は、様式D-1-1に記載した面積を記入すること（ただし外力はスパン単位で評価するため対象外とし、備考欄に状況を記入）。
B49: ※4：本様式は覆工スパン毎に作成すること。
B50: ※5：変状数が多い場合は、適時、表の行を増やして覆工スパン毎に1枚のシートに収めること。また、1スパン１シートとし、スパンに合わせてシートを追加すること。
B51: ※6：対策区分毎の変状の発生範囲の規模とは，対策を行う際に参考となる変状の長さや面積であり，変状を包含する長さや面積とする。
B52: ※7：路面滞水は、変状面積に1を記載するとともに、備考にも内容を記載すること。

Sheet 様式D-3_S017
AU1: 様式E-1リンク用→ | AV1: 覆工ｽﾊﾟﾝ 番号 | AW1: ｽﾊﾟﾝ 長 (m) | AX1: 変状数集計 | BS1: 覆工スパン毎の 健全性の診断 | BW1: 変状規模集計
AX2: 対策区分毎の変状数 | BJ2: 健全性の判定区分毎の変状数 | BW2: 覆工スパン長(m) | CA2: 対策区分毎の変状の発生範囲の規模(㎡）
B3: ■定期点検記録様式 覆工スパン別変状詳細展開図 【様式D-3】 | AX3: 外力 | BB3: 材質劣化 | BF3: 漏水 | BJ3: 外力 | BM3: 材質劣化 | BP3: 漏水 | BS3: 外力 | BT3: 材質劣化 | BU3: 漏水 | BV3: 健全性 | BW3: 外力※１ | CA3: 材質劣化 | CE3: 漏水
B4: フリガナ | E4: トノミトンネル | K4: 路線名 | N4: 主要道路防府環状線 | T4: 定期点検業者 | Y4: セントラルコンサルタント株式会社 | AG4: 定期点検年月日 | AK4: 44337 | AX4: Ⅳ | AY4: Ⅲ | AZ4: Ⅱa | BA4: Ⅱb | BB4: Ⅳ | BC4: Ⅲ | BD4: Ⅱa | BE4: Ⅱb | BF4: Ⅳ | BG4: Ⅲ | BH4: Ⅱa | BI4: Ⅱb | BJ4: Ⅳ | BK4: Ⅲ | BL4: Ⅱ | BM4: Ⅳ | BN4: Ⅲ | BO4: Ⅱ | BP4: Ⅳ | BQ4: Ⅲ | BR4: Ⅱ | BW4: Ⅳ | BX4: Ⅲ | BY4: Ⅱa | BZ4: Ⅱb | CA4: Ⅳ | CB4: Ⅲ | CC4: Ⅱa | CD4: Ⅱb | CE4: Ⅳ | CF4: Ⅲ | CG4: Ⅱa | CH4: Ⅱb
B5: 名 称 | E5: 富海トンネル | K5: 管理者名 | N5: 山口県防府土木建築事務所 | T5: 定期点検者名 | Y5: 鹿子嶋 康博 | AV5: =N7 -> S17 | AW5: =R7 -> 4 | AX5: =+Y32 -> 0 | AY5: =+Z32 -> 0 | AZ5: =+AA32 -> 0 | BA5: =+AB32 -> 0 | BB5: =+AC32 -> 0 | BC5: =+AD32 -> 0 | BD5: =+AE32 -> 0 | BE5: =+AF32 -> 0 | ... BI5: =+AJ32 -> 0 | BJ5: =+Y35 | BK5: =+Z35 | BL5: =+AA35 | BM5: =+AC35 -> 0 | BN5: =+AD35 -> 0 | BO5: =+AE35 -> 0 | BP5: =+AG35 -> 0 | BQ5: =+AH35 -> 0 | BR5: =+AI35 -> 1 | BS5: =+Y36 -> Ⅰ | BT5: =+AC36 -> Ⅰ | BU5: =+AG36 -> Ⅱ | BV5: =+Y37 -> Ⅱ | BW5: =IF(Y32>0,$R$7,"") | BX5: =IF(Z32>0,"",IF(AA32>0,$R$7,"")) | BY5: =IF(Y32+Z32>0,"",IF(AA32>0,$R$7,"")) | BZ5: =IF(Y32+Z32+AA32>0,"",IF(AB32>0,$R$7,"")) | CA5: =+AC31 -> 0 | CB5: =+AD31 -> 0 | CC5: =+AE31 -> 0 | CD5: =+AF31 -> 0 | CE5: =+AG31 -> 0 | CF5: =+AH31 -> 0 | CG5: =+AI31 -> 1.6 | CH5: =+AJ31 -> 0
B6: スパン別変状展開図 | K6: 【健全性判定集計表】
K7: スパン番号 | N7: S17 | P7: スパン長 | R7: 4 | U7: 前回定期点検時の健全性 | W7: 応急措置前の判定 | Y7: 対策区分毎の 変状の有無 | AC7: 対策区分毎の変状の発生範囲の規模(㎡) | AK7: 備考注2
K8: 変状番号 | L8: 対象箇所 | N8: 部位区分 | P8: 変状区分 | R8: 変状種類
Y9: 外力注1 | AC9: 材質劣化注1 | AG9: 漏水注1
Y10: Ⅳ | Z10: Ⅲ | AA10: Ⅱa | AB10: Ⅱb | AC10: Ⅳ | AD10: Ⅲ | AE10: Ⅱa | AF10: Ⅱb | AG10: Ⅳ | AH10: Ⅲ | AI10: Ⅱa | AJ10: Ⅱb
K11: 1 | L11: 覆工・坑門 | N11: 横断目地（右側） | P11: 漏水 | R11: 漏水 | U11: － | AI11: 1.6 | AK11: 0 | AQ11: =IF(P11="材質劣化",2,IF(P11="漏水",3,1)) -> 3
AQ12: =IF(P12="材質劣化",2,IF(P12="漏水",3,1)) -> 1
AQ13: =IF(P13="材質劣化",2,IF(P13="漏水",3,1)) -> 1
AQ14: =IF(P14="材質劣化",2,IF(P14="漏水",3,1)) -> 1
AQ15: =IF(P15="材質劣化",2,IF(P15="漏水",3,1)) -> 1
AQ16: =IF(P16="材質劣化",2,IF(P16="漏水",3,1)) -> 1
AQ17: =IF(P17="材質劣化",2,IF(P17="漏水",3,1)) -> 1
AQ18: =IF(P18="材質劣化",2,IF(P18="漏水",3,1)) -> 1
AQ19: =IF(P19="材質劣化",2,IF(P19="漏水",3,1)) -> 1
AQ20: =IF(P20="材質劣化",2,IF(P20="漏水",3,1)) -> 1
AQ21: =IF(P21="材質劣化",2,IF(P21="漏水",3,1)) -> 1
AQ22: =IF(P22="材質劣化",2,IF(P22="漏水",3,1)) -> 1
AQ23: =IF(P23="材質劣化",2,IF(P23="漏水",3,1)) -> 1
... AQ30: =IF(P30="材質劣化",2,IF(P30="漏水",3,1)) -> 1
K31: 集計 ・ 判定 ・ 診断 | L31: 変状の発生規模合計(㎡) | Y31: － | AC31: =SUM(AC11:AC30) -> 0 | AD31: =SUM(AD11:AD30) -> 0 | AE31: =SUM(AE11:AE30) -> 0 | AF31: =SUM(AF11:AF30) -> 0 | AG31: =SUM(AG11:AG30) -> 0 | AH31: =SUM(AH11:AH30) -> 0 | AI31: =SUM(AI11:AI30) -> 1.6 | AJ31: =SUM(AJ11:AJ30) -> 0 | AK31: 計
L32: 対策区分の 判定結果 | O32: 判定区分毎の変状数 | Y32: =COUNTIF(Y11:Y30,"○") -> 0 | Z32: =COUNTIF(Z11:Z30,"○") -> 0 | AA32: =COUNTIF(AA11:AA30,"○") -> 0 | AB32: =COUNTIF(AB11:AB30,"○") -> 0 | AC32: =COUNT(AC11:AC30) -> 0 | AD32: =COUNT(AD11:AD30) -> 0 | AE32: =COUNT(AE11:AE30) -> 0 | AF32: =COUNT(AF11:AF30) -> 0 | AG32: =COUNT(AG11:AG30) -> 0 | AH32: =COUNT(AH11:AH30) -> 0 | AI32: =COUNT(AI11:AI30) -> 1 | AJ32: =COUNT(AJ11:AJ30) -> 0
O33: 変状区分毎の判定区分注3 | Y33: =IF(Y32>0,"Ⅳ",IF(Z32>0,"Ⅲ",IF(AA32>0,"Ⅱa",IF(AB32>0,"Ⅱb","Ⅰ")))) -> Ⅰ | AC33: =IF(AC32>0,"Ⅳ",IF(AD32>0,"Ⅲ",IF(AE32>0,"Ⅱa",IF(AF32>0,"Ⅱb","Ⅰ")))) -> Ⅰ | AG33: =IF(AG32>0,"Ⅳ",IF(AH32>0,"Ⅲ",IF(AI32>0,"Ⅱa",IF(AJ32>0,"Ⅱb","Ⅰ")))) -> Ⅱa | AQ33: Ⅳ | AR33: Ⅲ | AS33: Ⅱ
L34: 健全性の 診断結果 | O34: 判定区分 | Y34: Ⅳ | Z34: Ⅲ | AA34: Ⅱ | AC34: Ⅳ | AD34: Ⅲ | AE34: Ⅱ | AG34: Ⅳ | AH34: Ⅲ | AI34: Ⅱ | AQ34: =+Y32+Z32 -> 0 | AS34: =+AA32+AB32 -> 0
O35: 判定区分毎の変状数注4 | Y35: =IF(Y32=0,"",1) | Z35: =IF(Z32=0,"",1) | AA35: =IF(AQ34=1,"",IF(AS34>0,1,"")) | AC35: =+AC32 -> 0 | AD35: =AD32 -> 0 | AE35: =AE32+AF32 -> 0 | AG35: =AG32 -> 0 | AH35: =AH32 -> 0 | AI35: =AI32+AJ32 -> 1 | AQ35: =+Y32+AC35+AG35 -> 0 | AR35: =+Z32+AD35+AH35 -> 0 | AS35: =+AS34+AE35+AI35 -> 1
O36: 変状区分毎の判定区分注4 | Y36: =IF(Y35=1,"Ⅳ",IF(Z35=1,"Ⅲ",IF(AA35=1,"Ⅱ","Ⅰ"))) -> Ⅰ | AC36: =IF(AC35>0,"Ⅳ",IF(AD35>0,"Ⅲ",IF(AE35>0,"Ⅱ","Ⅰ"))) -> Ⅰ | AG36: =IF(AG35>0,"Ⅳ",IF(AH35>0,"Ⅲ",IF(AI35>0,"Ⅱ","Ⅰ"))) -> Ⅱ | AQ36: =IF(AQ35>0,"Ⅳ",IF(AR35>0,"Ⅲ",IF(AS35>0,"Ⅱ","Ⅰ"))) -> Ⅱ
O37: 覆工スパン単位の判定区分注5 | Y37: =IF(OR(Y36="Ⅳ",AC36="Ⅳ",AG36="Ⅳ"),"Ⅳ",IF(OR(Y36="Ⅲ",AC36="Ⅲ",AG36="Ⅲ"),"Ⅲ",IF(OR(Y36="Ⅱ",AC36="Ⅱ",AG36="Ⅱ"),"Ⅱ","Ⅰ"))) -> Ⅱ
K38: 特記事項
K40: 注1：誤記入防止のため、当該変状区分以外のセルは灰色表示とすること。
K41: 注2：応急対策を実施した場合は、その詳細を備考に記載すること。
K42: 注3：変状区分毎での最も評価の厳しい判定区分。
K43: 注4：変状区分毎での最も評価の厳しい判定区分．外力は覆工スパン単位、材質劣化、漏水は変状単位で行う。
K44: 注5：覆工スパンの中で最も評価の厳しい健全性を採用し、その覆工スパン毎の健全性とする。
B46: ※1：本シートは作成洩れのないよう、変状が無くても全スパン分を作成すること．また変状展開図は、様式D-2-1、様式D-2-1'と同じものを覆工スパン単位で拡大し掲載すること。
B47: ※2：変状番号は、様式D-1-1で記入した番号と整合させること。
B48: ※3：対策区分毎の変状発生規模は、様式D-1-1に記載した面積を記入すること（ただし外力はスパン単位で評価するため対象外とし、備考欄に状況を記入）。
B49: ※4：本様式は覆工スパン毎に作成すること。
B50: ※5：変状数が多い場合は、適時、表の行を増やして覆工スパン毎に1枚のシートに収めること。また、1スパン１シートとし、スパンに合わせてシートを追加すること。
B51: ※6：対策区分毎の変状の発生範囲の規模とは，対策を行う際に参考となる変状の長さや面積であり，変状を包含する長さや面積とする。
B52: ※7：路面滞水は、変状面積に1を記載するとともに、備考にも内容を記載すること。

Sheet 様式D-3_S018
AU1: 様式E-1リンク用→ | AV1: 覆工ｽﾊﾟﾝ 番号 | AW1: ｽﾊﾟﾝ 長 (m) | AX1: 変状数集計 | BS1: 覆工スパン毎の 健全性の診断 | BW1: 変状規模集計
AX2: 対策区分毎の変状数 | BJ2: 健全性の判定区分毎の変状数 | BW2: 覆工スパン長(m) | CA2: 対策区分毎の変状の発生範囲の規模(㎡）
B3: ■定期点検記録様式 覆工スパン別変状詳細展開図 【様式D-3】 | AX3: 外力 | BB3: 材質劣化 | BF3: 漏水 | BJ3: 外力 | BM3: 材質劣化 | BP3: 漏水 | BS3: 外力 | BT3: 材質劣化 | BU3: 漏水 | BV3: 健全性 | BW3: 外力※１ | CA3: 材質劣化 | CE3: 漏水
B4: フリガナ | E4: トノミトンネル | K4: 路線名 | N4: 主要道路防府環状線 | T4: 定期点検業者 | Y4: セントラルコンサルタント株式会社 | AG4: 定期点検年月日 | AK4: 44337 | AX4: Ⅳ | AY4: Ⅲ | AZ4: Ⅱa | BA4: Ⅱb | BB4: Ⅳ | BC4: Ⅲ | BD4: Ⅱa | BE4: Ⅱb | BF4: Ⅳ | BG4: Ⅲ | BH4: Ⅱa | BI4: Ⅱb | BJ4: Ⅳ | BK4: Ⅲ | BL4: Ⅱ | BM4: Ⅳ | BN4: Ⅲ | BO4: Ⅱ | BP4: Ⅳ | BQ4: Ⅲ | BR4: Ⅱ | BW4: Ⅳ | BX4: Ⅲ | BY4: Ⅱa | BZ4: Ⅱb | CA4: Ⅳ | CB4: Ⅲ | CC4: Ⅱa | CD4: Ⅱb | CE4: Ⅳ | CF4: Ⅲ | CG4: Ⅱa | CH4: Ⅱb
B5: 名 称 | E5: 富海トンネル | K5: 管理者名 | N5: 山口県防府土木建築事務所 | T5: 定期点検者名 | Y5: 鹿子嶋 康博 | AV5: =N7 -> S18 | AW5: =R7 -> 4 | AX5: =+Y32 -> 0 | AY5: =+Z32 -> 0 | AZ5: =+AA32 -> 0 | BA5: =+AB32 -> 0 | BB5: =+AC32 -> 0 | BC5: =+AD32 -> 1 | BD5: =+AE32 -> 0 | BE5: =+AF32 -> 0 | ... BI5: =+AJ32 -> 1 | BJ5: =+Y35 | BK5: =+Z35 | BL5: =+AA35 | BM5: =+AC35 -> 0 | BN5: =+AD35 -> 1 | BO5: =+AE35 -> 0 | BP5: =+AG35 -> 0 | BQ5: =+AH35 -> 0 | BR5: =+AI35 -> 1 | BS5: =+Y36 -> Ⅰ | BT5: =+AC36 -> Ⅲ | BU5: =+AG36 -> Ⅱ | BV5: =+Y37 -> Ⅲ | BW5: =IF(Y32>0,$R$7,"") | BX5: =IF(Z32>0,"",IF(AA32>0,$R$7,"")) | BY5: =IF(Y32+Z32>0,"",IF(AA32>0,$R$7,"")) | BZ5: =IF(Y32+Z32+AA32>0,"",IF(AB32>0,$R$7,"")) | CA5: =+AC31 -> 0 | CB5: =+AD31 -> 2.88 | CC5: =+AE31 -> 0 | CD5: =+AF31 -> 0 | CE5: =+AG31 -> 0 | CF5: =+AH31 -> 0 | CG5: =+AI31 -> 0 | CH5: =+AJ31 -> 5.95
B6: スパン別変状展開図 | K6: 【健全性判定集計表】
K7: スパン番号 | N7: S18 | P7: スパン長 | R7: 4 | U7: 前回定期点検時の健全性 | W7: 応急措置前の判定 | Y7: 対策区分毎の 変状の有無 | AC7: 対策区分毎の変状の発生範囲の規模(㎡) | AK7: 備考注2
K8: 変状番号 | L8: 対象箇所 | N8: 部位区分 | P8: 変状区分 | R8: 変状種類
Y9: 外力注1 | AC9: 材質劣化注1 | AG9: 漏水注1
Y10: Ⅳ | Z10: Ⅲ | AA10: Ⅱa | AB10: Ⅱb | AC10: Ⅳ | AD10: Ⅲ | AE10: Ⅱa | AF10: Ⅱb | AG10: Ⅳ | AH10: Ⅲ | AI10: Ⅱa | AJ10: Ⅱb
K11: 1 | L11: 覆工・坑門 | N11: 横断目地（左側） | P11: 材質劣化 | R11: 補強・補修材の破損 | U11: － | AD11: 2.88 | AK11: 0 | AQ11: =IF(P11="材質劣化",2,IF(P11="漏水",3,1)) -> 2
K12: 2 | L12: 路面 | N12: 側溝 | P12: 漏水 | R12: その他 | U12: － | AJ12: 5.95 | AK12: 0 | AQ12: =IF(P12="材質劣化",2,IF(P12="漏水",3,1)) -> 3
AQ13: =IF(P13="材質劣化",2,IF(P13="漏水",3,1)) -> 1
AQ14: =IF(P14="材質劣化",2,IF(P14="漏水",3,1)) -> 1
AQ15: =IF(P15="材質劣化",2,IF(P15="漏水",3,1)) -> 1
AQ16: =IF(P16="材質劣化",2,IF(P16="漏水",3,1)) -> 1
AQ17: =IF(P17="材質劣化",2,IF(P17="漏水",3,1)) -> 1
AQ18: =IF(P18="材質劣化",2,IF(P18="漏水",3,1)) -> 1
AQ19: =IF(P19="材質劣化",2,IF(P19="漏水",3,1)) -> 1
AQ20: =IF(P20="材質劣化",2,IF(P20="漏水",3,1)) -> 1
AQ21: =IF(P21="材質劣化",2,IF(P21="漏水",3,1)) -> 1
AQ22: =IF(P22="材質劣化",2,IF(P22="漏水",3,1)) -> 1
AQ23: =IF(P23="材質劣化",2,IF(P23="漏水",3,1)) -> 1
AQ24: =IF(P24="材質劣化",2,IF(P24="漏水",3,1)) -> 1
... AQ30: =IF(P30="材質劣化",2,IF(P30="漏水",3,1)) -> 1
K31: 集計 ・ 判定 ・ 診断 | L31: 変状の発生規模合計(㎡) | Y31: － | AC31: =SUM(AC11:AC30) -> 0 | AD31: =SUM(AD11:AD30) -> 2.88 | AE31: =SUM(AE11:AE30) -> 0 | AF31: =SUM(AF11:AF30) -> 0 | AG31: =SUM(AG11:AG30) -> 0 | AH31: =SUM(AH11:AH30) -> 0 | AI31: =SUM(AI11:AI30) -> 0 | AJ31: =SUM(AJ11:AJ30) -> 5.95 | AK31: 計
L32: 対策区分の 判定結果 | O32: 判定区分毎の変状数 | Y32: =COUNTIF(Y11:Y30,"○") -> 0 | Z32: =COUNTIF(Z11:Z30,"○") -> 0 | AA32: =COUNTIF(AA11:AA30,"○") -> 0 | AB32: =COUNTIF(AB11:AB30,"○") -> 0 | AC32: =COUNT(AC11:AC30) -> 0 | AD32: =COUNT(AD11:AD30) -> 1 | AE32: =COUNT(AE11:AE30) -> 0 | AF32: =COUNT(AF11:AF30) -> 0 | AG32: =COUNT(AG11:AG30) -> 0 | AH32: =COUNT(AH11:AH30) -> 0 | AI32: =COUNT(AI11:AI30) -> 0 | AJ32: =COUNT(AJ11:AJ30) -> 1
O33: 変状区分毎の判定区分注3 | Y33: =IF(Y32>0,"Ⅳ",IF(Z32>0,"Ⅲ",IF(AA32>0,"Ⅱa",IF(AB32>0,"Ⅱb","Ⅰ")))) -> Ⅰ | AC33: =IF(AC32>0,"Ⅳ",IF(AD32>0,"Ⅲ",IF(AE32>0,"Ⅱa",IF(AF32>0,"Ⅱb","Ⅰ")))) -> Ⅲ | AG33: =IF(AG32>0,"Ⅳ",IF(AH32>0,"Ⅲ",IF(AI32>0,"Ⅱa",IF(AJ32>0,"Ⅱb","Ⅰ")))) -> Ⅱb | AQ33: Ⅳ | AR33: Ⅲ | AS33: Ⅱ
L34: 健全性の 診断結果 | O34: 判定区分 | Y34: Ⅳ | Z34: Ⅲ | AA34: Ⅱ | AC34: Ⅳ | AD34: Ⅲ | AE34: Ⅱ | AG34: Ⅳ | AH34: Ⅲ | AI34: Ⅱ | AQ34: =+Y32+Z32 -> 0 | AS34: =+AA32+AB32 -> 0
O35: 判定区分毎の変状数注4 | Y35: =IF(Y32=0,"",1) | Z35: =IF(Z32=0,"",1) | AA35: =IF(AQ34=1,"",IF(AS34>0,1,"")) | AC35: =+AC32 -> 0 | AD35: =AD32 -> 1 | AE35: =AE32+AF32 -> 0 | AG35: =AG32 -> 0 | AH35: =AH32 -> 0 | AI35: =AI32+AJ32 -> 1 | AQ35: =+Y32+AC35+AG35 -> 0 | AR35: =+Z32+AD35+AH35 -> 1 | AS35: =+AS34+AE35+AI35 -> 1
O36: 変状区分毎の判定区分注4 | Y36: =IF(Y35=1,"Ⅳ",IF(Z35=1,"Ⅲ",IF(AA35=1,"Ⅱ","Ⅰ"))) -> Ⅰ | AC36: =IF(AC35>0,"Ⅳ",IF(AD35>0,"Ⅲ",IF(AE35>0,"Ⅱ","Ⅰ"))) -> Ⅲ | AG36: =IF(AG35>0,"Ⅳ",IF(AH35>0,"Ⅲ",IF(AI35>0,"Ⅱ","Ⅰ"))) -> Ⅱ | AQ36: =IF(AQ35>0,"Ⅳ",IF(AR35>0,"Ⅲ",IF(AS35>0,"Ⅱ","Ⅰ"))) -> Ⅲ
O37: 覆工スパン単位の判定区分注5 | Y37: =IF(OR(Y36="Ⅳ",AC36="Ⅳ",AG36="Ⅳ"),"Ⅳ",IF(OR(Y36="Ⅲ",AC36="Ⅲ",AG36="Ⅲ"),"Ⅲ",IF(OR(Y36="Ⅱ",AC36="Ⅱ",AG36="Ⅱ"),"Ⅱ","Ⅰ"))) -> Ⅲ
K38: 特記事項
K40: 注1：誤記入防止のため、当該変状区分以外のセルは灰色表示とすること。
K41: 注2：応急対策を実施した場合は、その詳細を備考に記載すること。
K42: 注3：変状区分毎での最も評価の厳しい判定区分。
K43: 注4：変状区分毎での最も評価の厳しい判定区分．外力は覆工スパン単位、材質劣化、漏水は変状単位で行う。
K44: 注5：覆工スパンの中で最も評価の厳しい健全性を採用し、その覆工スパン毎の健全性とする。
B46: ※1：本シートは作成洩れのないよう、変状が無くても全スパン分を作成すること．また変状展開図は、様式D-2-1、様式D-2-1'と同じものを覆工スパン単位で拡大し掲載すること。
B47: ※2：変状番号は、様式D-1-1で記入した番号と整合させること。
B48: ※3：対策区分毎の変状発生規模は、様式D-1-1に記載した面積を記入すること（ただし外力はスパン単位で評価するため対象外とし、備考欄に状況を記入）。
B49: ※4：本様式は覆工スパン毎に作成すること。
B50: ※5：変状数が多い場合は、適時、表の行を増やして覆工スパン毎に1枚のシートに収めること。また、1スパン１シートとし、スパンに合わせてシートを追加すること。
B51: ※6：対策区分毎の変状の発生範囲の規模とは，対策を行う際に参考となる変状の長さや面積であり，変状を包含する長さや面積とする。
B52: ※7：路面滞水は、変状面積に1を記載するとともに、備考にも内容を記載すること。

Sheet 様式D-3_S019
AU1: 様式E-1リンク用→ | AV1: 覆工ｽﾊﾟﾝ 番号 | AW1: ｽﾊﾟﾝ 長 (m) | AX1: 変状数集計 | BS1: 覆工スパン毎の 健全性の診断 | BW1: 変状規模集計
AX2: 対策区分毎の変状数 | BJ2: 健全性の判定区分毎の変状数 | BW2: 覆工スパン長(m) | CA2: 対策区分毎の変状の発生範囲の規模(㎡）
B3: ■定期点検記録様式 覆工スパン別変状詳細展開図 【様式D-3】 | AX3: 外力 | BB3: 材質劣化 | BF3: 漏水 | BJ3: 外力 | BM3: 材質劣化 | BP3: 漏水 | BS3: 外力 | BT3: 材質劣化 | BU3: 漏水 | BV3: 健全性 | BW3: 外力※１ | CA3: 材質劣化 | CE3: 漏水
B4: フリガナ | E4: トノミトンネル | K4: 路線名 | N4: 主要道路防府環状線 | T4: 定期点検業者 | Y4: セントラルコンサルタント株式会社 | AG4: 定期点検年月日 | AK4: 44337 | AX4: Ⅳ | AY4: Ⅲ | AZ4: Ⅱa | BA4: Ⅱb | BB4: Ⅳ | BC4: Ⅲ | BD4: Ⅱa | BE4: Ⅱb | BF4: Ⅳ | BG4: Ⅲ | BH4: Ⅱa | BI4: Ⅱb | BJ4: Ⅳ | BK4: Ⅲ | BL4: Ⅱ | BM4: Ⅳ | BN4: Ⅲ | BO4: Ⅱ | BP4: Ⅳ | BQ4: Ⅲ | BR4: Ⅱ | BW4: Ⅳ | BX4: Ⅲ | BY4: Ⅱa | BZ4: Ⅱb | CA4: Ⅳ | CB4: Ⅲ | CC4: Ⅱa | CD4: Ⅱb | CE4: Ⅳ | CF4: Ⅲ | CG4: Ⅱa | CH4: Ⅱb
B5: 名 称 | E5: 富海トンネル | K5: 管理者名 | N5: 山口県防府土木建築事務所 | T5: 定期点検者名 | Y5: 鹿子嶋 康博 | AV5: =N7 -> S19 | AW5: =R7 -> 4 | AX5: =+Y32 -> 0 | AY5: =+Z32 -> 0 | AZ5: =+AA32 -> 0 | BA5: =+AB32 -> 0 | BB5: =+AC32 -> 0 | BC5: =+AD32 -> 0 | BD5: =+AE32 -> 0 | BE5: =+AF32 -> 0 | ... BI5: =+AJ32 -> 2 | BJ5: =+Y35 | BK5: =+Z35 | BL5: =+AA35 | BM5: =+AC35 -> 0 | BN5: =+AD35 -> 0 | BO5: =+AE35 -> 0 | BP5: =+AG35 -> 0 | BQ5: =+AH35 -> 0 | BR5: =+AI35 -> 2 | BS5: =+Y36 -> Ⅰ | BT5: =+AC36 -> Ⅰ | BU5: =+AG36 -> Ⅱ | BV5: =+Y37 -> Ⅱ | BW5: =IF(Y32>0,$R$7,"") | BX5: =IF(Z32>0,"",IF(AA32>0,$R$7,"")) | BY5: =IF(Y32+Z32>0,"",IF(AA32>0,$R$7,"")) | BZ5: =IF(Y32+Z32+AA32>0,"",IF(AB32>0,$R$7,"")) | CA5: =+AC31 -> 0 | CB5: =+AD31 -> 0 | CC5: =+AE31 -> 0 | CD5: =+AF31 -> 0 | CE5: =+AG31 -> 0 | CF5: =+AH31 -> 0 | CG5: =+AI31 -> 0 | CH5: =+AJ31 -> 5.34
B6: スパン別変状展開図 | K6: 【健全性判定集計表】
K7: スパン番号 | N7: S19 | P7: スパン長 | R7: 4 | U7: 前回定期点検時の健全性 | W7: 応急措置前の判定 | Y7: 対策区分毎の 変状の有無 | AC7: 対策区分毎の変状の発生範囲の規模(㎡) | AK7: 備考注2
K8: 変状番号 | L8: 対象箇所 | N8: 部位区分 | P8: 変状区分 | R8: 変状種類
Y9: 外力注1 | AC9: 材質劣化注1 | AG9: 漏水注1
Y10: Ⅳ | Z10: Ⅲ | AA10: Ⅱa | AB10: Ⅱb | AC10: Ⅳ | AD10: Ⅲ | AE10: Ⅱa | AF10: Ⅱb | AG10: Ⅳ | AH10: Ⅲ | AI10: Ⅱa | AJ10: Ⅱb
K11: 1 | L11: 路面 | N11: 側溝 | P11: 漏水 | R11: その他 | U11: － | AJ11: 2.3 | AK11: 0 | AQ11: =IF(P11="材質劣化",2,IF(P11="漏水",3,1)) -> 3
K12: 2 | L12: 路面 | N12: 側溝 | P12: 漏水 | R12: その他 | U12: Ⅱ | AJ12: 3.04 | AK12: 0 | AQ12: =IF(P12="材質劣化",2,IF(P12="漏水",3,1)) -> 3
AQ13: =IF(P13="材質劣化",2,IF(P13="漏水",3,1)) -> 1
AQ14: =IF(P14="材質劣化",2,IF(P14="漏水",3,1)) -> 1
AQ15: =IF(P15="材質劣化",2,IF(P15="漏水",3,1)) -> 1
AQ16: =IF(P16="材質劣化",2,IF(P16="漏水",3,1)) -> 1
AQ17: =IF(P17="材質劣化",2,IF(P17="漏水",3,1)) -> 1
AQ18: =IF(P18="材質劣化",2,IF(P18="漏水",3,1)) -> 1
AQ19: =IF(P19="材質劣化",2,IF(P19="漏水",3,1)) -> 1
AQ20: =IF(P20="材質劣化",2,IF(P20="漏水",3,1)) -> 1
AQ21: =IF(P21="材質劣化",2,IF(P21="漏水",3,1)) -> 1
AQ22: =IF(P22="材質劣化",2,IF(P22="漏水",3,1)) -> 1
AQ23: =IF(P23="材質劣化",2,IF(P23="漏水",3,1)) -> 1
AQ24: =IF(P24="材質劣化",2,IF(P24="漏水",3,1)) -> 1
... AQ30: =IF(P30="材質劣化",2,IF(P30="漏水",3,1)) -> 1
K31: 集計 ・ 判定 ・ 診断 | L31: 変状の発生規模合計(㎡) | Y31: － | AC31: =SUM(AC11:AC30) -> 0 | AD31: =SUM(AD11:AD30) -> 0 | AE31: =SUM(AE11:AE30) -> 0 | AF31: =SUM(AF11:AF30) -> 0 | AG31: =SUM(AG11:AG30) -> 0 | AH31: =SUM(AH11:AH30) -> 0 | AI31: =SUM(AI11:AI30) -> 0 | AJ31: =SUM(AJ11:AJ30) -> 5.34 | AK31: 計
L32: 対策区分の 判定結果 | O32: 判定区分毎の変状数 | Y32: =COUNTIF(Y11:Y30,"○") -> 0 | Z32: =COUNTIF(Z11:Z30,"○") -> 0 | AA32: =COUNTIF(AA11:AA30,"○") -> 0 | AB32: =COUNTIF(AB11:AB30,"○") -> 0 | AC32: =COUNT(AC11:AC30) -> 0 | AD32: =COUNT(AD11:AD30) -> 0 | AE32: =COUNT(AE11:AE30) -> 0 | AF32: =COUNT(AF11:AF30) -> 0 | AG32: =COUNT(AG11:AG30) -> 0 | AH32: =COUNT(AH11:AH30) -> 0 | AI32: =COUNT(AI11:AI30) -> 0 | AJ32: =COUNT(AJ11:AJ30) -> 2
O33: 変状区分毎の判定区分注3 | Y33: =IF(Y32>0,"Ⅳ",IF(Z32>0,"Ⅲ",IF(AA32>0,"Ⅱa",IF(AB32>0,"Ⅱb","Ⅰ")))) -> Ⅰ | AC33: =IF(AC32>0,"Ⅳ",IF(AD32>0,"Ⅲ",IF(AE32>0,"Ⅱa",IF(AF32>0,"Ⅱb","Ⅰ")))) -> Ⅰ | AG33: =IF(AG32>0,"Ⅳ",IF(AH32>0,"Ⅲ",IF(AI32>0,"Ⅱa",IF(AJ32>0,"Ⅱb","Ⅰ")))) -> Ⅱb | AQ33: Ⅳ | AR33: Ⅲ | AS33: Ⅱ
L34: 健全性の 診断結果 | O34: 判定区分 | Y34: Ⅳ | Z34: Ⅲ | AA34: Ⅱ | AC34: Ⅳ | AD34: Ⅲ | AE34: Ⅱ | AG34: Ⅳ | AH34: Ⅲ | AI34: Ⅱ | AQ34: =+Y32+Z32 -> 0 | AS34: =+AA32+AB32 -> 0
O35: 判定区分毎の変状数注4 | Y35: =IF(Y32=0,"",1) | Z35: =IF(Z32=0,"",1) | AA35: =IF(AQ34=1,"",IF(AS34>0,1,"")) | AC35: =+AC32 -> 0 | AD35: =AD32 -> 0 | AE35: =AE32+AF32 -> 0 | AG35: =AG32 -> 0 | AH35: =AH32 -> 0 | AI35: =AI32+AJ32 -> 2 | AQ35: =+Y32+AC35+AG35 -> 0 | AR35: =+Z32+AD35+AH35 -> 0 | AS35: =+AS34+AE35+AI35 -> 2
O36: 変状区分毎の判定区分注4 | Y36: =IF(Y35=1,"Ⅳ",IF(Z35=1,"Ⅲ",IF(AA35=1,"Ⅱ","Ⅰ"))) -> Ⅰ | AC36: =IF(AC35>0,"Ⅳ",IF(AD35>0,"Ⅲ",IF(AE35>0,"Ⅱ","Ⅰ"))) -> Ⅰ | AG36: =IF(AG35>0,"Ⅳ",IF(AH35>0,"Ⅲ",IF(AI35>0,"Ⅱ","Ⅰ"))) -> Ⅱ | AQ36: =IF(AQ35>0,"Ⅳ",IF(AR35>0,"Ⅲ",IF(AS35>0,"Ⅱ","Ⅰ"))) -> Ⅱ
O37: 覆工スパン単位の判定区分注5 | Y37: =IF(OR(Y36="Ⅳ",AC36="Ⅳ",AG36="Ⅳ"),"Ⅳ",IF(OR(Y36="Ⅲ",AC36="Ⅲ",AG36="Ⅲ"),"Ⅲ",IF(OR(Y36="Ⅱ",AC36="Ⅱ",AG36="Ⅱ"),"Ⅱ","Ⅰ"))) -> Ⅱ
K38: 特記事項
K40: 注1：誤記入防止のため、当該変状区分以外のセルは灰色表示とすること。
K41: 注2：応急対策を実施した場合は、その詳細を備考に記載すること。
K42: 注3：変状区分毎での最も評価の厳しい判定区分。
K43: 注4：変状区分毎での最も評価の厳しい判定区分．外力は覆工スパン単位、材質劣化、漏水は変状単位で行う。
K44: 注5：覆工スパンの中で最も評価の厳しい健全性を採用し、その覆工スパン毎の健全性とする。
B46: ※1：本シートは作成洩れのないよう、変状が無くても全スパン分を作成すること．また変状展開図は、様式D-2-1、様式D-2-1'と同じものを覆工スパン単位で拡大し掲載すること。
B47: ※2：変状番号は、様式D-1-1で記入した番号と整合させること。
B48: ※3：対策区分毎の変状発生規模は、様式D-1-1に記載した面積を記入すること（ただし外力はスパン単位で評価するため対象外とし、備考欄に状況を記入）。
B49: ※4：本様式は覆工スパン毎に作成すること。
B50: ※5：変状数が多い場合は、適時、表の行を増やして覆工スパン毎に1枚のシートに収めること。また、1スパン１シートとし、スパンに合わせてシートを追加すること。
B51: ※6：対策区分毎の変状の発生範囲の規模とは，対策を行う際に参考となる変状の長さや面積であり，変状を包含する長さや面積とする。
B52: ※7：路面滞水は、変状面積に1を記載するとともに、備考にも内容を記載すること。

Sheet 様式D-3_S020
AU1: 様式E-1リンク用→ | AV1: 覆工ｽﾊﾟﾝ 番号 | AW1: ｽﾊﾟﾝ 長 (m) | AX1: 変状数集計 | BS1: 覆工スパン毎の 健全性の診断 | BW1: 変状規模集計
AX2: 対策区分毎の変状数 | BJ2: 健全性の判定区分毎の変状数 | BW2: 覆工スパン長(m) | CA2: 対策区分毎の変状の発生範囲の規模(㎡）
B3: ■定期点検記録様式 覆工スパン別変状詳細展開図 【様式D-3】 | AX3: 外力 | BB3: 材質劣化 | BF3: 漏水 | BJ3: 外力 | BM3: 材質劣化 | BP3: 漏水 | BS3: 外力 | BT3: 材質劣化 | BU3: 漏水 | BV3: 健全性 | BW3: 外力※１ | CA3: 材質劣化 | CE3: 漏水
B4: フリガナ | E4: トノミトンネル | K4: 路線名 | N4: 主要道路防府環状線 | T4: 定期点検業者 | Y4: セントラルコンサルタント株式会社 | AG4: 定期点検年月日 | AK4: 44337 | AX4: Ⅳ | AY4: Ⅲ | AZ4: Ⅱa | BA4: Ⅱb | BB4: Ⅳ | BC4: Ⅲ | BD4: Ⅱa | BE4: Ⅱb | BF4: Ⅳ | BG4: Ⅲ | BH4: Ⅱa | BI4: Ⅱb | BJ4: Ⅳ | BK4: Ⅲ | BL4: Ⅱ | BM4: Ⅳ | BN4: Ⅲ | BO4: Ⅱ | BP4: Ⅳ | BQ4: Ⅲ | BR4: Ⅱ | BW4: Ⅳ | BX4: Ⅲ | BY4: Ⅱa | BZ4: Ⅱb | CA4: Ⅳ | CB4: Ⅲ | CC4: Ⅱa | CD4: Ⅱb | CE4: Ⅳ | CF4: Ⅲ | CG4: Ⅱa | CH4: Ⅱb
B5: 名 称 | E5: 富海トンネル | K5: 管理者名 | N5: 山口県防府土木建築事務所 | T5: 定期点検者名 | Y5: 鹿子嶋 康博 | AV5: =N7 -> S20 | AW5: =R7 -> 5.5 | AX5: =+Y32 -> 0 | AY5: =+Z32 -> 0 | AZ5: =+AA32 -> 0 | BA5: =+AB32 -> 0 | BB5: =+AC32 -> 0 | BC5: =+AD32 -> 0 | BD5: =+AE32 -> 0 | BE5: =+AF32 -> 0 | ... BI5: =+AJ32 -> 1 | BJ5: =+Y35 | BK5: =+Z35 | BL5: =+AA35 | BM5: =+AC35 -> 0 | BN5: =+AD35 -> 0 | BO5: =+AE35 -> 0 | BP5: =+AG35 -> 0 | BQ5: =+AH35 -> 0 | BR5: =+AI35 -> 1 | BS5: =+Y36 -> Ⅰ | BT5: =+AC36 -> Ⅰ | BU5: =+AG36 -> Ⅱ | BV5: =+Y37 -> Ⅱ | BW5: =IF(Y32>0,$R$7,"") | BX5: =IF(Z32>0,"",IF(AA32>0,$R$7,"")) | BY5: =IF(Y32+Z32>0,"",IF(AA32>0,$R$7,"")) | BZ5: =IF(Y32+Z32+AA32>0,"",IF(AB32>0,$R$7,"")) | CA5: =+AC31 -> 0 | CB5: =+AD31 -> 0 | CC5: =+AE31 -> 0 | CD5: =+AF31 -> 0 | CE5: =+AG31 -> 0 | CF5: =+AH31 -> 0 | CG5: =+AI31 -> 0 | CH5: =+AJ31 -> 1.44
B6: スパン別変状展開図 | K6: 【健全性判定集計表】
K7: スパン番号 | N7: S20 | P7: スパン長 | R7: 5.5 | U7: 前回定期点検時の健全性 | W7: 応急措置前の判定 | Y7: 対策区分毎の 変状の有無 | AC7: 対策区分毎の変状の発生範囲の規模(㎡) | AK7: 備考注2
K8: 変状番号 | L8: 対象箇所 | N8: 部位区分 | P8: 変状区分 | R8: 変状種類
Y9: 外力注1 | AC9: 材質劣化注1 | AG9: 漏水注1
Y10: Ⅳ | Z10: Ⅲ | AA10: Ⅱa | AB10: Ⅱb | AC10: Ⅳ | AD10: Ⅲ | AE10: Ⅱa | AF10: Ⅱb | AG10: Ⅳ | AH10: Ⅲ | AI10: Ⅱa | AJ10: Ⅱb
K11: 1 | L11: 覆工・坑門 | N11: 側壁（左側） | P11: 漏水 | R11: 漏水 | U11: Ⅱ | AJ11: 1.44 | AK11: 0 | AQ11: =IF(P11="材質劣化",2,IF(P11="漏水",3,1)) -> 3
AQ12: =IF(P12="材質劣化",2,IF(P12="漏水",3,1)) -> 1
AQ13: =IF(P13="材質劣化",2,IF(P13="漏水",3,1)) -> 1
AQ14: =IF(P14="材質劣化",2,IF(P14="漏水",3,1)) -> 1
AQ15: =IF(P15="材質劣化",2,IF(P15="漏水",3,1)) -> 1
AQ16: =IF(P16="材質劣化",2,IF(P16="漏水",3,1)) -> 1
AQ17: =IF(P17="材質劣化",2,IF(P17="漏水",3,1)) -> 1
AQ18: =IF(P18="材質劣化",2,IF(P18="漏水",3,1)) -> 1
AQ19: =IF(P19="材質劣化",2,IF(P19="漏水",3,1)) -> 1
AQ20: =IF(P20="材質劣化",2,IF(P20="漏水",3,1)) -> 1
AQ21: =IF(P21="材質劣化",2,IF(P21="漏水",3,1)) -> 1
AQ22: =IF(P22="材質劣化",2,IF(P22="漏水",3,1)) -> 1
AQ23: =IF(P23="材質劣化",2,IF(P23="漏水",3,1)) -> 1
... AQ30: =IF(P30="材質劣化",2,IF(P30="漏水",3,1)) -> 1
K31: 集計 ・ 判定 ・ 診断 | L31: 変状の発生規模合計(㎡) | Y31: － | AC31: =SUM(AC11:AC30) -> 0 | AD31: =SUM(AD11:AD30) -> 0 | AE31: =SUM(AE11:AE30) -> 0 | AF31: =SUM(AF11:AF30) -> 0 | AG31: =SUM(AG11:AG30) -> 0 | AH31: =SUM(AH11:AH30) -> 0 | AI31: =SUM(AI11:AI30) -> 0 | AJ31: =SUM(AJ11:AJ30) -> 1.44 | AK31: 計
L32: 対策区分の 判定結果 | O32: 判定区分毎の変状数 | Y32: =COUNTIF(Y11:Y30,"○") -> 0 | Z32: =COUNTIF(Z11:Z30,"○") -> 0 | AA32: =COUNTIF(AA11:AA30,"○") -> 0 | AB32: =COUNTIF(AB11:AB30,"○") -> 0 | AC32: =COUNT(AC11:AC30) -> 0 | AD32: =COUNT(AD11:AD30) -> 0 | AE32: =COUNT(AE11:AE30) -> 0 | AF32: =COUNT(AF11:AF30) -> 0 | AG32: =COUNT(AG11:AG30) -> 0 | AH32: =COUNT(AH11:AH30) -> 0 | AI32: =COUNT(AI11:AI30) -> 0 | AJ32: =COUNT(AJ11:AJ30) -> 1
O33: 変状区分毎の判定区分注3 | Y33: =IF(Y32>0,"Ⅳ",IF(Z32>0,"Ⅲ",IF(AA32>0,"Ⅱa",IF(AB32>0,"Ⅱb","Ⅰ")))) -> Ⅰ | AC33: =IF(AC32>0,"Ⅳ",IF(AD32>0,"Ⅲ",IF(AE32>0,"Ⅱa",IF(AF32>0,"Ⅱb","Ⅰ")))) -> Ⅰ | AG33: =IF(AG32>0,"Ⅳ",IF(AH32>0,"Ⅲ",IF(AI32>0,"Ⅱa",IF(AJ32>0,"Ⅱb","Ⅰ")))) -> Ⅱb | AQ33: Ⅳ | AR33: Ⅲ | AS33: Ⅱ
L34: 健全性の 診断結果 | O34: 判定区分 | Y34: Ⅳ | Z34: Ⅲ | AA34: Ⅱ | AC34: Ⅳ | AD34: Ⅲ | AE34: Ⅱ | AG34: Ⅳ | AH34: Ⅲ | AI34: Ⅱ | AQ34: =+Y32+Z32 -> 0 | AS34: =+AA32+AB32 -> 0
O35: 判定区分毎の変状数注4 | Y35: =IF(Y32=0,"",1) | Z35: =IF(Z32=0,"",1) | AA35: =IF(AQ34=1,"",IF(AS34>0,1,"")) | AC35: =+AC32 -> 0 | AD35: =AD32 -> 0 | AE35: =AE32+AF32 -> 0 | AG35: =AG32 -> 0 | AH35: =AH32 -> 0 | AI35: =AI32+AJ32 -> 1 | AQ35: =+Y32+AC35+AG35 -> 0 | AR35: =+Z32+AD35+AH35 -> 0 | AS35: =+AS34+AE35+AI35 -> 1
O36: 変状区分毎の判定区分注4 | Y36: =IF(Y35=1,"Ⅳ",IF(Z35=1,"Ⅲ",IF(AA35=1,"Ⅱ","Ⅰ"))) -> Ⅰ | AC36: =IF(AC35>0,"Ⅳ",IF(AD35>0,"Ⅲ",IF(AE35>0,"Ⅱ","Ⅰ"))) -> Ⅰ | AG36: =IF(AG35>0,"Ⅳ",IF(AH35>0,"Ⅲ",IF(AI35>0,"Ⅱ","Ⅰ"))) -> Ⅱ | AQ36: =IF(AQ35>0,"Ⅳ",IF(AR35>0,"Ⅲ",IF(AS35>0,"Ⅱ","Ⅰ"))) -> Ⅱ
O37: 覆工スパン単位の判定区分注5 | Y37: =IF(OR(Y36="Ⅳ",AC36="Ⅳ",AG36="Ⅳ"),"Ⅳ",IF(OR(Y36="Ⅲ",AC36="Ⅲ",AG36="Ⅲ"),"Ⅲ",IF(OR(Y36="Ⅱ",AC36="Ⅱ",AG36="Ⅱ"),"Ⅱ","Ⅰ"))) -> Ⅱ
K38: 特記事項
K40: 注1：誤記入防止のため、当該変状区分以外のセルは灰色表示とすること。
K41: 注2：応急対策を実施した場合は、その詳細を備考に記載すること。
K42: 注3：変状区分毎での最も評価の厳しい判定区分。
K43: 注4：変状区分毎での最も評価の厳しい判定区分．外力は覆工スパン単位、材質劣化、漏水は変状単位で行う。
K44: 注5：覆工スパンの中で最も評価の厳しい健全性を採用し、その覆工スパン毎の健全性とする。
B46: ※1：本シートは作成洩れのないよう、変状が無くても全スパン分を作成すること．また変状展開図は、様式D-2-1、様式D-2-1'と同じものを覆工スパン単位で拡大し掲載すること。
B47: ※2：変状番号は、様式D-1-1で記入した番号と整合させること。
B48: ※3：対策区分毎の変状発生規模は、様式D-1-1に記載した面積を記入すること（ただし外力はスパン単位で評価するため対象外とし、備考欄に状況を記入）。
B49: ※4：本様式は覆工スパン毎に作成すること。
B50: ※5：変状数が多い場合は、適時、表の行を増やして覆工スパン毎に1枚のシートに収めること。また、1スパン１シートとし、スパンに合わせてシートを追加すること。
B51: ※6：対策区分毎の変状の発生範囲の規模とは，対策を行う際に参考となる変状の長さや面積であり，変状を包含する長さや面積とする。
B52: ※7：路面滞水は、変状面積に1を記載するとともに、備考にも内容を記載すること。

Sheet 様式D-3_S021
AU1: 様式E-1リンク用→ | AV1: 覆工ｽﾊﾟﾝ 番号 | AW1: ｽﾊﾟﾝ 長 (m) | AX1: 変状数集計 | BS1: 覆工スパン毎の 健全性の診断 | BW1: 変状規模集計
AX2: 対策区分毎の変状数 | BJ2: 健全性の判定区分毎の変状数 | BW2: 覆工スパン長(m) | CA2: 対策区分毎の変状の発生範囲の規模(㎡）
B3: ■定期点検記録様式 覆工スパン別変状詳細展開図 【様式D-3】 | AX3: 外力 | BB3: 材質劣化 | BF3: 漏水 | BJ3: 外力 | BM3: 材質劣化 | BP3: 漏水 | BS3: 外力 | BT3: 材質劣化 | BU3: 漏水 | BV3: 健全性 | BW3: 外力※１ | CA3: 材質劣化 | CE3: 漏水
B4: フリガナ | E4: トノミトンネル | K4: 路線名 | N4: 主要道路防府環状線 | T4: 定期点検業者 | Y4: セントラルコンサルタント株式会社 | AG4: 定期点検年月日 | AK4: 44337 | AX4: Ⅳ | AY4: Ⅲ | AZ4: Ⅱa | BA4: Ⅱb | BB4: Ⅳ | BC4: Ⅲ | BD4: Ⅱa | BE4: Ⅱb | BF4: Ⅳ | BG4: Ⅲ | BH4: Ⅱa | BI4: Ⅱb | BJ4: Ⅳ | BK4: Ⅲ | BL4: Ⅱ | BM4: Ⅳ | BN4: Ⅲ | BO4: Ⅱ | BP4: Ⅳ | BQ4: Ⅲ | BR4: Ⅱ | BW4: Ⅳ | BX4: Ⅲ | BY4: Ⅱa | BZ4: Ⅱb | CA4: Ⅳ | CB4: Ⅲ | CC4: Ⅱa | CD4: Ⅱb | CE4: Ⅳ | CF4: Ⅲ | CG4: Ⅱa | CH4: Ⅱb
B5: 名 称 | E5: 富海トンネル | K5: 管理者名 | N5: 山口県防府土木建築事務所 | T5: 定期点検者名 | Y5: 鹿子嶋 康博 | AV5: =N7 -> S21 | AW5: =R7 -> 6.6 | AX5: =+Y32 -> 0 | AY5: =+Z32 -> 0 | AZ5: =+AA32 -> 0 | BA5: =+AB32 -> 0 | BB5: =+AC32 -> 0 | BC5: =+AD32 -> 0 | BD5: =+AE32 -> 0 | BE5: =+AF32 -> 1 | ... BI5: =+AJ32 -> 0 | BJ5: =+Y35 | BK5: =+Z35 | BL5: =+AA35 | BM5: =+AC35 -> 0 | BN5: =+AD35 -> 0 | BO5: =+AE35 -> 1 | BP5: =+AG35 -> 0 | BQ5: =+AH35 -> 0 | BR5: =+AI35 -> 0 | BS5: =+Y36 -> Ⅰ | BT5: =+AC36 -> Ⅱ | BU5: =+AG36 -> Ⅰ | BV5: =+Y37 -> Ⅱ | BW5: =IF(Y32>0,$R$7,"") | BX5: =IF(Z32>0,"",IF(AA32>0,$R$7,"")) | BY5: =IF(Y32+Z32>0,"",IF(AA32>0,$R$7,"")) | BZ5: =IF(Y32+Z32+AA32>0,"",IF(AB32>0,$R$7,"")) | CA5: =+AC31 -> 0 | CB5: =+AD31 -> 0 | CC5: =+AE31 -> 0 | CD5: =+AF31 -> 0.02 | CE5: =+AG31 -> 0 | CF5: =+AH31 -> 0 | CG5: =+AI31 -> 0 | CH5: =+AJ31 -> 0
B6: スパン別変状展開図 | K6: 【健全性判定集計表】
K7: スパン番号 | N7: S21 | P7: スパン長 | R7: 6.6 | U7: 前回定期点検時の健全性 | W7: 応急措置前の判定 | Y7: 対策区分毎の 変状の有無 | AC7: 対策区分毎の変状の発生範囲の規模(㎡) | AK7: 備考注2
K8: 変状番号 | L8: 対象箇所 | N8: 部位区分 | P8: 変状区分 | R8: 変状種類
Y9: 外力注1 | AC9: 材質劣化注1 | AG9: 漏水注1
Y10: Ⅳ | Z10: Ⅲ | AA10: Ⅱa | AB10: Ⅱb | AC10: Ⅳ | AD10: Ⅲ | AE10: Ⅱa | AF10: Ⅱb | AG10: Ⅳ | AH10: Ⅲ | AI10: Ⅱa | AJ10: Ⅱb
K11: 1 | L11: 覆工・坑門 | N11: アーチ（天端） | P11: 材質劣化 | R11: 鋼材腐食 | U11: － | AF11: 0.02 | AK11: 0 | AQ11: =IF(P11="材質劣化",2,IF(P11="漏水",3,1)) -> 2
AQ12: =IF(P12="材質劣化",2,IF(P12="漏水",3,1)) -> 1
AQ13: =IF(P13="材質劣化",2,IF(P13="漏水",3,1)) -> 1
AQ14: =IF(P14="材質劣化",2,IF(P14="漏水",3,1)) -> 1
AQ15: =IF(P15="材質劣化",2,IF(P15="漏水",3,1)) -> 1
AQ16: =IF(P16="材質劣化",2,IF(P16="漏水",3,1)) -> 1
AQ17: =IF(P17="材質劣化",2,IF(P17="漏水",3,1)) -> 1
AQ18: =IF(P18="材質劣化",2,IF(P18="漏水",3,1)) -> 1
AQ19: =IF(P19="材質劣化",2,IF(P19="漏水",3,1)) -> 1
AQ20: =IF(P20="材質劣化",2,IF(P20="漏水",3,1)) -> 1
AQ21: =IF(P21="材質劣化",2,IF(P21="漏水",3,1)) -> 1
AQ22: =IF(P22="材質劣化",2,IF(P22="漏水",3,1)) -> 1
AQ23: =IF(P23="材質劣化",2,IF(P23="漏水",3,1)) -> 1
... AQ30: =IF(P30="材質劣化",2,IF(P30="漏水",3,1)) -> 1
K31: 集計 ・ 判定 ・ 診断 | L31: 変状の発生規模合計(㎡) | Y31: － | AC31: =SUM(AC11:AC30) -> 0 | AD31: =SUM(AD11:AD30) -> 0 | AE31: =SUM(AE11:AE30) -> 0 | AF31: =SUM(AF11:AF30) -> 0.02 | AG31: =SUM(AG11:AG30) -> 0 | AH31: =SUM(AH11:AH30) -> 0 | AI31: =SUM(AI11:AI30) -> 0 | AJ31: =SUM(AJ11:AJ30) -> 0 | AK31: 計
L32: 対策区分の 判定結果 | O32: 判定区分毎の変状数 | Y32: =COUNTIF(Y11:Y30,"○") -> 0 | Z32: =COUNTIF(Z11:Z30,"○") -> 0 | AA32: =COUNTIF(AA11:AA30,"○") -> 0 | AB32: =COUNTIF(AB11:AB30,"○") -> 0 | AC32: =COUNT(AC11:AC30) -> 0 | AD32: =COUNT(AD11:AD30) -> 0 | AE32: =COUNT(AE11:AE30) -> 0 | AF32: =COUNT(AF11:AF30) -> 1 | AG32: =COUNT(AG11:AG30) -> 0 | AH32: =COUNT(AH11:AH30) -> 0 | AI32: =COUNT(AI11:AI30) -> 0 | AJ32: =COUNT(AJ11:AJ30) -> 0
