Workbook
Name その他: '(参考)リスト'!$C$47
Name その他施設: '(参考)リスト'!$C$79:$C$83
Name 換気施設: '(参考)リスト'!$C$56:$C$60
Name 坑門: '(参考)リスト'!$C$31:$C$32
Name 照明施設: '(参考)リスト'!$C$52:$C$54
Name 対象箇所: [1]!テーブル1[対象箇所]
Name 天井板: '(参考)リスト'!$C$37:$C$39
Name 内装板: '(参考)リスト'!$C$34:$C$35
Name 非常用施設: '(参考)リスト'!$C$62:$C$77
Name 覆工: '(参考)リスト'!$C$16:$C$29
Name 路面: '(参考)リスト'!$C$41:$C$45

Sheet 様式A-1
B2: ■トンネル台帳 トンネル諸元、非常用施設諸元 【様式A-1】 | S2: 施設ID | W2: 34.14339,131.80219
B3: フリガナ | D3: (ｵｵﾄﾞｳﾘﾄﾝﾈﾙ) | H3: 路線名 | J3: 一般国道 376号線 | P3: 管理者名 | R3: 周南土木建築事務所 | W3: 緊急輸送道路 | Z3: 一次
B4: 名 称 | D4: 大道理トンネル | W4: 代替路の有無 | Z4: 有
B5: 所在地 | D5: 自 | E5: 周南市大道理地内 | H5: 作成者 | K5: 基礎地盤コンサルタンツ株式会社 大谷 直毅 | P5: 作成年月日 | R5: 46080 | U5: トンネル延長 | X5: L= | Z5: 105 | AB5: ｍ
D6: 至 | E6: 周南市大道理地内 | U6: ﾄﾝﾈﾙの分類 | X6: 陸上トンネル（掘進工法）
B7: 起点 | C7: 緯度 | E7: 34.14342 | H7: 完成年月日 | K7: 1990年 | M7: 舗装 | O7: 種 別 | Q7: コンクリート系 | S7: トンネル非常用施設 | T7: 施設の内訳 | X7: 種別・方式 | Y7: 型式 | Z7: 個数 | AA7: 更新年度 | AE7: =INT(E7/10000) -> 0 | AF7: =INT(E7/100)-AE7*100 -> 0 | AG7: =E7-AE7*10000-AF7*100 -> 34.14342 | AH7: =ROUND(AE7+AF7/60+AG7/60/60,5) -> 0.00948 | AI7: =TEXT(AH7,"0.00000") -> 0.00948
C8: 経度 | E8: 131.80236 | H8: 供用年月日 | K8: - | O8: 厚 さ | Q8: 20cm | T8: 通報設備 | U8: 通話型通報設備 | X8: - | Y8: - | Z8: - | AA8: - | AE8: =INT(E8/10000) -> 0 | AF8: =INT(E8/100)-AE8*100 -> 1 | AG8: =E8-AE8*10000-AF8*100 -> 31.80236 | AH8: =ROUND(AE8+AF8/60+AG8/60/60,5) -> 0.0255 | AI8: =TEXT(AH8,"0.00000") -> 0.02550
B9: 終点 | C9: 緯度 | E9: 34.14333 | H9: トンネル区分 | K9: D | O9: 面 積 | Q9: 735.0㎡ | U9: 操作型通報設備 | X9: - | Y9: - | Z9: - | AA9: -
C10: 経度 | E10: 131.8035 | H10: 内装種類 | K10: 覆工(内装なし) | O10: 更新年次 | Q10: - | U10: 自動通報設備 | X10: - | Y10: - | Z10: - | AA10: -
B11: 一般有料区分 | E11: 一般（無料） | H11: 天井板種類 | K11: 覆工(内装なし) | M11: 排水 | O11: 種 別 | Q11: 落蓋式U型+暗渠排水 | T11: 警報設備 | U11: 非常警報設備 | X11: - | Y11: - | Z11: - | AA11: -
B12: 土かぶり | E12: - | G12: m | H12: 坑門 | I12: 起点 | J12: 形式 | K12: 面壁型 | O12: 更新年次 | Q12: - | T12: 消火設備 | U12: 消 火 器 | X12: - | Y12: - | Z12: - | AA12: -
B13: 内空断面積 | E13: 49 | G13: m2 | J13: 延長 | K13: 1 | L13: m | M13: 施設 | P13: 種別・方式 | Q13: 個数 | R13: 更新年次 | U13: 消火栓設備 | X13: - | Y13: - | Z13: - | AA13: -
B14: 交 通 量 | E14: 2,611 | G14: 台/日 | I14: 終点 | J14: 形式 | K14: 面壁型 | M14: 道路附属物等 | N14: 照明 | P14: ナトリウム灯 | Q14: 21 | R14: - | T14: 避難誘導設備 | U14: 誘導表示設備 | X14: - | Y14: - | Z14: - | AA14: -
C15: 道 路 幅 | E15: 9.6 | G15: m | J15: 延長 | K15: 1 | L15: m | N15: 換気 | P15: 自然排気 | Q15: - | R15: - | U15: 避難情報提供設備 | X15: - | Y15: - | Z15: - | AA15: -
B16: 幅 員 | C16: 車 道 幅 | E16: 3 | G16: m | H16: 竣工巻厚 | I16: アーチ | K16: 30 | L16: cm | N16: 標識 | P16: - | Q16: - | R16: - | X16: - | Y16: - | Z16: - | AA16: -
E17: 3 | G17: m | I17: 側 壁 | K17: 30 | L17: cm | N17: 警報表示板 | P17: - | Q17: - | R17: - | U17: 避難通路 | X17: - | Y17: - | Z17: - | AA17: -
C18: 歩道等幅 | E18: 3.6 | G18: m | K18: 30 | L18: cm | N18: 吸音板 | P18: - | Q18: - | R18: - | U18: 排煙設備 | X18: - | Y18: - | Z18: - | AA18: -
B19: 高さ | C19: 建築限界高 | E19: - | G19: m | I19: インバート | K19: - | L19: cm | T19: その他の設備 | U19: 給水栓設備 | X19: - | Y19: - | Z19: - | AA19: -
C20: 中央高 | E20: 6.1 | G20: m | H20: 半径 | I20: アーチ | K20: 490 | L20: cm | U20: 無線通信補助設備 | X20: - | Y20: - | Z20: - | AA20: -
C21: 有効高 | E21: 4.5 | G21: m | I21: 側 壁 | K21: 490 | L21: cm | U21: 水噴霧設備 | X21: - | Y21: - | Z21: - | AA21: -
C22: 縦断勾配 | E22: - | I22: インバート | K22: 4.9 | L22: cm | U22: 監視設備 | X22: - | Y22: - | Z22: - | AA22: -
B23: 線 形 | C23: 直線区間長 | E23: - | H23: 占用物件 | I23: 種 類 | K23: 寸 法 | M23: 管理者名 | Q23: 更新年次 | S23: 非常用施設 関連設備 | U23: 予備発電設備 | X23: - | Y23: - | Z23: - | AA23: -
C24: 曲線区間 | D24: 区間長 | F24: - | I24: - | K24: - | M24: - | Q24: -
D25: 起点側ｸﾛｿｲﾄﾞ | F25: - | I25: - | K25: - | M25: - | Q25: -
D26: 曲線半径 | F26: - | I26: - | K26: - | M26: - | Q26: -
D27: 終点側ｸﾛｿｲﾄﾞ | F27: - | I27: - | K27: - | M27: - | Q27: - | S27: その他 | U27: 非常駐車帯 | X27: - | Y27: - | Z27: - | AA27: -
B28: トンネル工法 | E28: 山岳トンネル工法（NATM） | U28: 方向転換所 | X28: - | Y28: - | Z28: - | AA28: -
C29: ※緯度・経度については、秒の小数第二位の単位まで記入すること。

Sheet 様式A-2
B3: ■トンネル台帳 トンネル情報一覧表 【様式A-2】
B4: フリガナ | E4: (ｵｵﾄﾞｳﾘﾄﾝﾈﾙ) | J4: 路線名 | M4: 一般国道 376号線 | S4: 作成者 | Y4: 基礎地盤コンサルタンツ株式会社 大谷 直毅 | AE4: 作成年月日 | AI4: 46080
B5: 名 称 | E5: 大道理トンネル | J5: 管理者名 | M5: 周南土木建築事務所
B6: 覆工 ｽﾊﾟﾝ 番号 | C6: ｽﾊﾟﾝ長 | D6: 追加距離 | F6: トンネル本体工 | K6: 照明施設 | O6: 非常用施設 | AE6: 換気施設 | AK6: その他附属物等
O7: 通報設備 | R7: 警報設備 | S7: 消火設備 | U7: 避難誘導設備 | Y7: その他の設備 | AC7: 特記事項
D8: 起点側 | E8: 終点側 | F8: 特記事項 | I8: 内装板 | J8: 天井板 | K8: 基本照明 | L8: 入口出口照明 | M8: 特記事項 | O8: 通話型通報設備 | P8: 操作型通報設備 | Q8: 自動通報設備 | R8: 非常警報設備 | S8: 消 火 器 | T8: 消火栓設備 | U8: 誘導表示設備 | V8: 避難情報提供設備 | W8: 避難通路 | X8: 排煙設備 | Y8: 給水栓設備 | Z8: 無線通信補助設備 | AA8: 水噴霧設備 | AB8: 監視設備 | AE8: JF | AF8: VI計 | AG8: CO計 | AH8: 風向 風速計 | AI8: 特記事項
C9: (m) | D9: (m) | E9: (m)
B10: PS | C10: 0 | D10: 0 | E10: 0
B11: 1 | C11: 10 | D11: 0 | E11: 10 | K11: ○ | M11: 照明種類不明
B12: 2 | C12: 10.5 | D12: 10 | E12: 20.5
B13: 3 | C13: 10.5 | D13: 20.5 | E13: 31 | K13: ○ | M13: 照明種類不明
B14: 4 | C14: 10.5 | D14: 31 | E14: 41.5 | K14: ○ | M14: 照明種類不明
B15: 5 | C15: 10.6 | D15: 41.5 | E15: 52.1 | K15: ○ | M15: 照明種類不明
B16: 6 | C16: 10.6 | D16: 52.1 | E16: 62.7 | K16: ○ | M16: 照明種類不明
B17: 7 | C17: 10.6 | D17: 62.7 | E17: 73.3 | K17: ○ | M17: 照明種類不明
B18: 8 | C18: 10.6 | D18: 73.3 | E18: 83.9 | K18: ○ | M18: 照明種類不明
B19: 9 | C19: 10.6 | D19: 83.9 | E19: 94.5
B20: 10 | C20: 10.5 | D20: 94.5 | E20: 105.5 | K20: ○ | M20: 照明種類不明
B21: PE | C21: 0 | D21: 105.5 | E21: 105.5
B42: ※ 行が不足する場合は、適時、表の行を増やすこと。

Sheet 様式A-3
B3: ■トンネル台帳 トンネル記録（位置図、断面図、施工実績他）【様式A-3】
B4: フリガナ | E4: (ｵｵﾄﾞｳﾘﾄﾝﾈﾙ) | J4: 路線名 | M4: 一般国道 376号線 | S4: 作成者 | W4: 基礎地盤コンサルタンツ株式会社 大谷 直毅 | AC4: 作成年月日 | AF4: 46080
B5: 名 称 | E5: 大道理トンネル | J5: 管理者名 | M5: 周南土木建築事務所
B6: 位置図・現況写真・標準断面図・地質縦断図・施工実績
B19: 位置図・現況写真・標準断面図・地質縦断図・施工実績

Sheet 様式B_001
B2: ■定期点検記録様式 トンネル変状・異常箇所写真位置図 【様式B】 | N2: 定期点検年月日 | P2: 45945 | S2: 施設ID | V2: 34.14339,131.80219
B3: フリガナ | C3: (ｵｵﾄﾞｳﾘﾄﾝﾈﾙ) | G3: 路線名 | H3: 一般国道 376号線 | K3: 管理者名 | L3: 周南土木建築事務所 | Q3: 定期点検実施者 | S3: 基礎地盤コンサルタンツ株式会社 | V3: 起点 | W3: 緯度 | X3: 34.143421
B4: 名 称 | C4: 大道理トンネル | S4: 大谷 直毅 | W4: 経度 | X4: 131.80235
B5: 所在地 | C5: 自 | D5: 周南市大道理地内 | G5: トンネル工法 | I5: 山岳トンネル工法（NATM） | L5: トンネル延長 | N5: L= | O5: 105 | P5: ｍ | Q5: 自専道 or 一般道 | R5: 一般道 | S5: 代替路の有無 | U5: 有 | V5: 終点 | W5: 緯度 | X5: 34.14333
C6: 至 | D6: 周南市大道理地内 | G6: 建設年度 | I6: 1990年 | L6: 幅員 | N6: L= | O6: 9.6 | P6: ｍ | S6: 緊急輸送道路 | U6: 一次 | W6: 経度 | X6: 131.8035
B7: トンネル毎 の健全性の 診断の区分 | D7: Ⅲ
G8: 変状・異常 箇所数合計 | I8: トンネル本体工 | J8: 材質劣化 | K8: Ⅱ | L8: 19 | N8: Ⅲ | O8: 3 | Q8: Ⅳ | R8: 0 | T8: 附属物等 の取付状態 | V8: ◯ （応急措置後) | X8: 5
J9: 漏水 | K9: Ⅱ | L9: 0 | N9: Ⅲ | O9: 0 | Q9: Ⅳ | R9: 0
V10: ✕ | X10: 4
J11: 外力 | K11: Ⅱ | L11: 0 | N11: Ⅲ | O11: 0 | Q11: Ⅳ | R11: 0
B12: トンネル変状・異常箇所写真位置図
J29: 注１：本位置図は、見下げた状態で記載すること。 注２：覆工スパン番号は横断目地毎(矢板工法の場合は上半アーチの 横断目地毎)に設定すること。 | Q29: 注３：写真番号に付する変状番号は、各覆工スパンの変状に対して新たに確認された場合 は順次追加していくこと。 注４：横断目地の変状は前の覆工スパン番号で計上すること。 注５：１枚に収まらない場合は、複数枚に分けて作成すること。
C30: ※1 トンネル本体工の変状数は、材質劣化、漏水に起因するものは変状単位で、外力に起因するものはスパン単位で計上すること。
C31: ※2 トンネル本体工の変状に対しては、措置の必要性（Ⅱ～Ⅳ）について表記すること。また、点検前に実施された措置によりⅠと判定された箇所についても記載すること。
C32: ※3 附属物等の取付状態の○欄については、応急措置前に判定区分×とした箇所のうち応急措置により○判定とした箇所の数を記入すること。
C33: ※4 附属物等の異常番号は、本体工と番号が重複しないよう101番以降とする等の配慮を行い、分かりやすく記録すること。

Sheet 様式B_002
B2: ■定期点検記録様式 トンネル変状・異常箇所写真位置図 【様式B】 | N2: 定期点検年月日 | P2: 45945 | S2: 施設ID | V2: 34.14339,131.80219
B3: フリガナ | C3: (ｵｵﾄﾞｳﾘﾄﾝﾈﾙ) | G3: 路線名 | H3: 一般国道 376号線 | K3: 管理者名 | L3: 周南土木建築事務所 | Q3: 定期点検実施者 | S3: 基礎地盤コンサルタンツ株式会社 | V3: 起点 | W3: 緯度 | X3: 34.143421
B4: 名 称 | C4: 大道理トンネル | S4: 大谷 直毅 | W4: 経度 | X4: 131.80235
B5: 所在地 | C5: 自 | D5: 周南市大道理地内 | G5: トンネル工法 | I5: 山岳トンネル工法（NATM） | L5: トンネル延長 | N5: L= | O5: 105 | P5: ｍ | Q5: 自専道 or 一般道 | R5: 一般道 | S5: 代替路の有無 | U5: 有 | V5: 終点 | W5: 緯度 | X5: 34.14333
C6: 至 | D6: 周南市大道理地内 | G6: 建設年度 | I6: 1990年 | L6: 幅員 | N6: L= | O6: 9.6 | P6: ｍ | S6: 緊急輸送道路 | U6: 一次 | W6: 経度 | X6: 131.8035
B7: トンネル毎 の健全性の 診断の区分 | D7: Ⅲ
G8: 変状・異常 箇所数合計 | I8: トンネル本体工 | J8: 材質劣化 | K8: Ⅱ | L8: 19 | N8: Ⅲ | O8: 3 | Q8: Ⅳ | R8: 0 | T8: 附属物等 の取付状態 | V8: ◯ （応急措置後) | X8: 5
J9: 漏水 | K9: Ⅱ | L9: 0 | N9: Ⅲ | O9: 0 | Q9: Ⅳ | R9: 0
V10: ✕ | X10: 4
J11: 外力 | K11: Ⅱ | L11: 0 | N11: Ⅲ | O11: 0 | Q11: Ⅳ | R11: 0
B12: トンネル変状・異常箇所写真位置図
J29: 注１：本位置図は、見下げた状態で記載すること。 注２：覆工スパン番号は横断目地毎(矢板工法の場合は上半アーチの 横断目地毎)に設定すること。 | Q29: 注３：写真番号に付する変状番号は、各覆工スパンの変状に対して新たに確認された場合 は順次追加していくこと。 注４：横断目地の変状は前の覆工スパン番号で計上すること。 注５：１枚に収まらない場合は、複数枚に分けて作成すること。
C30: ※1 トンネル本体工の変状数は、材質劣化、漏水に起因するものは変状単位で、外力に起因するものはスパン単位で計上すること。
C31: ※2 トンネル本体工の変状に対しては、措置の必要性（Ⅱ～Ⅳ）について表記すること。また、点検前に実施された措置によりⅠと判定された箇所についても記載すること。
C32: ※3 附属物等の取付状態の○欄については、応急措置前に判定区分×とした箇所のうち応急措置により○判定とした箇所の数を記入すること。
C33: ※4 附属物等の異常番号は、本体工と番号が重複しないよう101番以降とする等の配慮を行い、分かりやすく記録すること。

Sheet 様式C-1-1_001
B2: ■定期点検記録様式 全スパン定期点検結果総括表（トンネル本体工） 【様式C-1-1】
B3: フリガナ | F3: (ｵｵﾄﾞｳﾘﾄﾝﾈﾙ) | I3: 路線名 | K3: 一般国道 376号線 | O3: 定期点検実施者 | P3: 基礎地盤コンサルタンツ株式会社 | T3: 定期点検年月日 | X3: 45945
B4: 名 称 | F4: 大道理トンネル | I4: 管理者名 | K4: 周南土木建築事務所 | P4: 大谷 直毅
B5: 定期点検結果 | C5: 覆工 スパン 番号 | E5: 変状 番号 | F5: 距離 （m） | G5: 変状部位 | I5: 変 状 の 内 容 | O5: 前回定期点検時の状態 | P5: 今回定期点検結果 | T5: 措置履歴 | Y5: 対応方針 ・ 特記事項
O6: 44100
G7: 対象箇所 | H7: 部位区分 | I7: 変状区分 | J7: 変状種類 | M7: 変状の発生範囲の規模 | N7: 前回定期点検時の変状の発生範囲及び規模 | O7: 対策区分 | P7: 対策区分 | R7: 調査の 要否 | S7: 措置の 要否 | T7: 実施 | U7: 措置の実施状況
P8: 応急措置前 | Q8: 応急措置後
C9: PS | E9: 1 | F9: 0 | G9: 覆工 | H9: 面壁・妻壁等 | I9: 漏水 | J9: その他 | M9: - | N9: 0.2m×7.7m | O9: Ⅱb | P9: - | Q9: Ⅰ | R9: 否 | S9: 否 | T9: 未 | U9: - | Y9: 判定見直し
C10: 1 | E10: 1 | F10: 3.85 | G10: 覆工 | H10: 側壁（左側） | I10: 材質劣化 | J10: うき・はく離 | M10: 0.2m×0.9m | N10: 0.1m×0.5m | O10: Ⅱb | P10: - | Q10: Ⅱb | R10: 否 | S10: 要監視 | T10: 継続 | U10: 監視(日常) | Y10: 寸法変更
C11: 1 | E11: 2 | F11: 10 | G11: 覆工 | H11: 横断目地（左側） | I11: 材質劣化 | J11: 鋼材腐食 | M11: 0.2m×0.1m | N11: 0.2m×0.1m | O11: Ⅱb | P11: - | Q11: Ⅱb | R11: 否 | S11: 要監視 | T11: 継続 | U11: 監視(日常)
C12: 1 | E12: 3 | F12: 10 | G12: 覆工 | H12: 横断目地（左側） | I12: 材質劣化 | J12: 鋼材腐食 | M12: 0.05m×0.05m | N12: 0.05m×0.05m | O12: Ⅱb | P12: - | Q12: Ⅱb | R12: 否 | S12: 要監視 | T12: 継続 | U12: 監視(日常)
C13: 1 | E13: 4 | F13: 10 | G13: 覆工 | H13: 横断目地（天端） | I13: 材質劣化 | J13: うき・はく離 | M13: 0.7m×0.1m | N13: 0.7m×0.1m | O13: Ⅱa | P13: - | Q13: Ⅰ | R13: 否 | S13: 否 | T13: 済 | U13: 繊維シート工
C14: 1 | E14: 5 | F14: 0.03 | G14: 路面 | H14: 車道 | J14: その他 | M14: 2.2m×8.0m | N14: 2.2m×8.0m | O14: Ⅰ | R14: 否 | S14: 否 | U14: -
C15: 2 | E15: 1 | F15: 20.5 | G15: 覆工 | H15: 横断目地（左側） | I15: 材質劣化 | J15: 鋼材腐食 | M15: 2.3m×0.4m | N15: 2.3m×0.4m | O15: Ⅲ | P15: - | Q15: Ⅰ | R15: 否 | S15: 否 | T15: 済 | U15: FRPネット工
C16: 2 | E16: 2 | F16: 20.5 | G16: 覆工 | H16: 横断目地（左側） | I16: 材質劣化 | J16: うき・はく離 | M16: 0.7m×0.05m | N16: 0.7m×0.05m | O16: Ⅲ | P16: - | Q16: Ⅰ | R16: 否 | S16: 否 | T16: 済 | U16: FRPネット工
C17: 2 | E17: 3 | F17: 20.5 | G17: 覆工 | H17: 横断目地（左側） | I17: 材質劣化 | J17: うき・はく離 | M17: 1.0m×0.2m | N17: 1.0m×0.2m | O17: Ⅲ | P17: - | Q17: Ⅰ | R17: 否 | S17: 否 | T17: 済 | U17: FRPネット工
C18: 2 | E18: 4 | F18: 10 | G18: 覆工 | H18: 横断目地（天端） | I18: 材質劣化 | J18: 圧ざ、ひび割れ | M18: 0.3m×2.0m | N18: 幅0.3mm 長さ2.0m | O18: Ⅱb | P18: - | Q18: Ⅰ | R18: 否 | S18: 否 | T18: 済 | U18: 繊維シート工
C19: 2 | E19: 5 | F19: 20.5 | G19: 覆工 | H19: 横断目地（天端） | I19: 材質劣化 | J19: うき・はく離 | M19: 0.4m×0.05m | N19: 0.9m×0.05m | O19: Ⅱa | P19: - | Q19: Ⅱb | R19: 否 | S19: 要監視 | T19: 継続 | U19: 監視(日常) | Y19: 寸法変更 判定見直し
C20: 2 | E20: 6 | F20: 19.26 | G20: 覆工 | H20: アーチ（右側） | I20: 材質劣化 | J20: 鋼材腐食 | M20: 0.2m×0.2m | N20: - | O20: - | P20: Ⅳ | Q20: Ⅱb | R20: 否 | S20: 要監視 | T20: 未 | U20: - | Y20: 一部撤去
C21: 3 | E21: 1 | F21: 30.9 | G21: 覆工 | H21: 横断目地（左側） | I21: 材質劣化 | J21: 鋼材腐食 | M21: 0.5m×0.1m | N21: 0.5m×0.1m | O21: Ⅱb | P21: - | Q21: Ⅱb | R21: 否 | S21: 要監視 | T21: 継続 | U21: 監視(日常)
C22: 3 | E22: 2 | F22: 31 | G22: 覆工 | H22: 横断目地（左側） | I22: 材質劣化 | J22: うき・はく離 | M22: 0.1m×0.5m | N22: 0.1m×0.5m | O22: Ⅱa | P22: - | Q22: Ⅰ | R22: 否 | S22: 否 | T22: 済 | U22: FRPネット工
C23: 3 | E23: 3 | F23: 31 | G23: 覆工 | H23: 横断目地（左側） | I23: 材質劣化 | J23: うき・はく離 | M23: 2.6m×0.1m | N23: 2.6m×0.1m | O23: Ⅱa | P23: - | Q23: Ⅰ | R23: 否 | S23: 否 | T23: 済 | U23: FRPネット工
C24: 3 | E24: 4 | F24: 20.5 | G24: 覆工 | H24: 横断目地（右側） | I24: 材質劣化 | J24: 鋼材腐食 | M24: 0.2m×0.05m | N24: 0.3×0.05 | O24: - | P24: - | Q24: Ⅱb | R24: 否 | S24: 要監視 | T24: 未 | U24: -
C25: 4 | E25: 1 | F25: 35.82 | G25: 覆工 | H25: アーチ（天端） | I25: 材質劣化 | J25: うき・はく離 | M25: 0.05m×0.05m | N25: 0.05m×0.05m | O25: Ⅱa | P25: - | Q25: Ⅲ | R25: 否 | S25: 要対策 | T25: 継続 | U25: 要対策 | Y25: 判定見直し
C26: 4 | E26: 2 | F26: 41.5 | G26: 覆工 | H26: 横断目地（左側） | I26: 材質劣化 | J26: うき・はく離 | M26: 2.5m×0.1m | N26: 2.5m×0.1m | O26: Ⅱa | P26: - | Q26: Ⅰ | R26: 否 | S26: 否 | T26: 済 | U26: FRPネット工
C27: 4 | E27: 3 | F27: 39.01 | G27: 覆工 | H27: アーチ（右側） | I27: 材質劣化 | J27: 鋼材腐食 | M27: 0.05m×0.05m | N27: 0.05m×0.05m | O27: Ⅱb | P27: - | Q27: Ⅱb | R27: 否 | S27: 要監視 | T27: 継続 | U27: 監視(日常)
C28: 4 | E28: 4 | F28: 31 | G28: 覆工 | H28: 横断目地（天端） | I28: 材質劣化 | J28: 圧ざ、ひび割れ | M28: 0.75m×0.35m | N28: - | O28: - | P28: - | Q28: Ⅱb | R28: 否 | S28: 要監視 | T28: 未 | U28: -
C29: 5 | E29: 1 | F29: 51.8 | G29: 覆工 | H29: 横断目地（右側） | I29: 材質劣化 | J29: うき・はく離 | M29: 0.9m×0.3m | N29: 0.9m×0.3m | O29: Ⅱb | P29: - | Q29: Ⅱb | R29: 否 | S29: 要監視 | T29: 継続 | U29: 監視(日常)
C30: 5 | E30: 2 | F30: 51.51 | G30: 路面 | H30: 側溝 | J30: その他 | M30: 0.3m×0.8m | N30: 0.3m×0.8m | O30: Ⅱb | R30: 否 | S30: 否 | U30: -
C31: 5 | E31: 3 | F31: 51.51 | G31: 路面 | H31: 側溝 | J31: その他 | M31: - | N31: 20㎜ | O31: Ⅱb | R31: 否 | S31: 否 | U31: -
C32: 5 | E32: 4 | F32: 52 | G32: 覆工 | H32: 横断目地（左側） | I32: 材質劣化 | J32: うき・はく離 | M32: 2.4m×0.1m | N32: - | O32: - | P32: - | Q32: Ⅱb | R32: 否 | S32: 要監視 | T32: 未 | U32: -
C33: 9 | E33: 1 | F33: 87.3 | G33: 覆工 | H33: アーチ（左側） | I33: 材質劣化 | J33: 鋼材腐食 | M33: 0.1m×0.15m | N33: 0.1m×0.15m | O33: Ⅲ | P33: - | Q33: Ⅰ | R33: 否 | S33: 否 | T33: 済 | U33: FRPネット工
C34: 9 | E34: 2 | F34: 94.5 | G34: 覆工 | H34: 横断目地（左側） | I34: 材質劣化 | J34: うき・はく離 | M34: 0.4m×0.1m | N34: 0.4m×0.1m | O34: Ⅱa | P34: - | Q34: Ⅱb | R34: 否 | S34: 要監視 | T34: 継続 | U34: 監視(日常) | Y34: 判定見直し
C35: 9 | E35: 3 | F35: 87.33 | G35: 覆工 | H35: アーチ（右側） | I35: 材質劣化 | J35: 鋼材腐食 | M35: 0.1m×0.4m | N35: 0.1m×0.4m | O35: Ⅲ | P35: - | Q35: Ⅰ | R35: 否 | S35: 否 | T35: 済 | U35: 繊維シート工
C36: 9 | E36: 4 | F36: 87.33 | G36: 覆工 | H36: アーチ（右側） | I36: 材質劣化 | J36: 鋼材腐食 | M36: 1.75m×0.2m | N36: 1.75m×0.2m | O36: Ⅲ | P36: - | Q36: Ⅰ | R36: 否 | S36: 否 | T36: 済 | U36: 繊維シート工
C37: 9 | E37: 5 | F37: 92.53 | G37: 覆工 | H37: アーチ（天端） | I37: 材質劣化 | J37: うき・はく離 | M37: 1.2m×0.6m | N37: 0.9m×0.3m | O37: Ⅲ | P37: - | Q37: Ⅲ | R37: 否 | S37: 要対策 | T37: 継続 | U37: 要対策 | Y37: 寸法変更
C38: 9 | E38: 6 | F38: 94.5 | G38: 覆工 | H38: 横断目地（天端） | I38: 材質劣化 | J38: その他 | M38: 2.3m×1.2m | N38: 2.5m×0.9m | O38: Ⅰ | P38: - | Q38: Ⅰ | R38: 否 | S38: 否 | T38: 済 | U38: FRPネット工
C39: 9 | E39: 7 | F39: 87.8 | G39: 覆工 | H39: アーチ（左側） | I39: 材質劣化 | J39: 鋼材腐食 | M39: 0.1m×0.2m | N39: - | O39: - | P39: - | Q39: Ⅱb | R39: 否 | S39: 要監視 | T39: 未 | U39: -
C40: 9 | E40: 8 | F40: 87.78 | G40: 覆工 | H40: アーチ（左側） | I40: 材質劣化 | J40: 鋼材腐食 | M40: 0.1m×0.2m | N40: - | O40: - | P40: - | Q40: Ⅱb | R40: 否 | S40: 要監視 | T40: 未 | U40: -
C41: 9 | E41: 9 | F41: 87.78 | G41: 覆工 | H41: アーチ（左側） | I41: 材質劣化 | J41: うき・はく離 | M41: 0.15m×0.2m | N41: - | O41: - | P41: - | Q41: Ⅱb | R41: 否 | S41: 要監視 | T41: 未 | U41: -
...

Sheet 様式C-1-1_002
B2: ■定期点検記録様式 全スパン定期点検結果総括表（トンネル本体工） 【様式C-1-1】
B3: フリガナ | F3: (ｵｵﾄﾞｳﾘﾄﾝﾈﾙ) | I3: 路線名 | K3: 一般国道 376号線 | O3: 定期点検実施者 | P3: 基礎地盤コンサルタンツ株式会社 | T3: 定期点検年月日 | X3: 45945
B4: 名 称 | F4: 大道理トンネル | I4: 管理者名 | K4: 周南土木建築事務所 | P4: 大谷 直毅
B5: 定期点検結果 | C5: 覆工 スパン 番号 | E5: 変状 番号 | F5: 距離 （m） | G5: 変状部位 | I5: 変 状 の 内 容 | O5: 前回定期点検時の状態 | P5: 今回定期点検結果 | T5: 措置履歴 | Y5: 対応方針 ・ 特記事項
O6: 44100
G7: 対象箇所 | H7: 部位区分 | I7: 変状区分 | J7: 変状種類 | M7: 変状の発生範囲の規模 | N7: 前回定期点検時の変状の発生範囲及び規模 | O7: 対策区分 | P7: 対策区分 | R7: 調査の 要否 | S7: 措置の 要否 | T7: 実施 | U7: 措置の実施状況
P8: 応急措置前 | Q8: 応急措置後
C9: 9 | E9: 11 | F9: 92.53 | G9: 覆工 | H9: アーチ（天端） | I9: 材質劣化 | J9: 鋼材腐食 | M9: 0.3m×0.1m | N9: - | O9: - | P9: - | Q9: Ⅱb | R9: 否 | S9: 要監視 | T9: 未 | U9: -
C10: 9 | E10: 12 | F10: 87.82 | G10: 覆工 | H10: アーチ（右側） | I10: 材質劣化 | J10: うき・はく離 | M10: 0.2m×0.2m | N10: - | O10: - | P10: - | Q10: Ⅱb | R10: 否 | S10: 要監視 | T10: 未 | U10: -
C11: 10 | E11: 1 | F11: 96.57 | G11: 覆工 | H11: アーチ（天端） | I11: 材質劣化 | J11: うき・はく離 | M11: 0.7m×0.6m | N11: 0.7m×0.3m | O11: Ⅲ | P11: - | Q11: Ⅲ | R11: 否 | S11: 要対策 | T11: 継続 | U11: 要対策 | Y11: 寸法変更
C12: 10 | E12: 2 | F12: 104.29 | G12: 路面 | H12: 側溝 | J12: その他 | M12: 30.0mｍ | N12: 30㎜ | O12: Ⅱb | R12: 否 | S12: 否 | U12: -
C13: 10 | E13: 3 | F13: 105 | G13: 路面 | H13: 側溝 | J13: その他 | M13: 5.0ｍｍ | N13: 5㎜ | O13: Ⅱb | R13: 否 | S13: 否 | U13: -
C14: 10 | E14: 4 | F14: 101.44 | G14: 覆工 | H14: アーチ（左側） | I14: 材質劣化 | J14: 圧ざ、ひび割れ | M14: 1.2m×1.4m | N14: - | O14: - | P14: - | Q14: Ⅱa | R14: 否 | S14: 要監視 | T14: 未 | U14: -
C43: ※ 対策区分（応急措置後）のⅡb～Ⅳについて記入すること。また、点検前に実施された措置によりⅠと判定された変状も記入すること。
C44: ※ 応急措置を実施しないで判定した変状の対策区分は、対策区分の応急措置後の欄に記入すること。
C45: ※ 変状の除去が不完全で、緊急対応が必要な場合は対応方針欄に記入すること。
C46: ※ １区間の覆工に複数の変状がある場合は、変状箇所毎に記入すること。
C47: ※ 措置・監視点検を行った場合には、措置履歴、特記事項に記録を残すこと。（実施年度も記載）
C48: ※ 行が不足する場合は、適時、表の行を増やすこと。

Sheet 様式C-1-2
B2: ■定期点検記録様式 定期点検結果総括表（トンネル内附属物等の取付状態） 【様式C-1-2】
B3: フリガナ | F3: (ｵｵﾄﾞｳﾘﾄﾝﾈﾙ) | J3: 路線名 | K3: 一般国道 376号線 | M3: 定期点検実施者 | O3: 基礎地盤コンサルタンツ株式会社 | S3: 定期点検年月日 | W3: 45945
B4: 名 称 | F4: 大道理トンネル | J4: 管理者名 | K4: 周南土木建築事務所 | O4: 大谷 直毅
B5: 定期点検結果 | C5: 覆工 スパン 番号 | E5: 異常 番号 | F5: 距離 （m） | G5: 異常部位 | J5: 異 常 の 内 容 | N5: 定期点検結果 | P5: 応急措置の 実施状況 | V5: 対応方針 ・ 特記事項
G6: 対象箇所 | I6: 部位区分 | J6: 異常種類 | L6: 異常の発生範囲の規模 | N6: 異常判定区分 | P6: 実施 | Q6: 応急措置の内容
N7: 応急措置前 | O7: 応急措置後
C8: 2 | E8: 101 | F8: 17.88 | G8: その他施設 | H8: その他 | I8: 取付部材 | J8: 変形，欠損 | L8: 1箇所 | N8: - | O8: × | P8: 未 | Q8: -
C9: 2 | E9: 102 | F9: 17.53 | G9: その他施設 | H9: その他 | I9: 附属物本体 | J9: 変形，欠損 | L9: 1箇所 | N9: - | O9: ○ | P9: 済 | Q9: -
C10: 4 | E10: 101 | F10: 35.25 | G10: その他施設 | H10: その他 | I10: 取付部材 | J10: 変形，欠損 | L10: 1箇所 | N10: - | O10: × | P10: 未 | Q10: -
C11: 4 | E11: 102 | F11: 35.35 | G11: その他施設 | H11: その他 | I11: 附属物本体 | J11: 変形，欠損 | L11: 1箇所 | N11: - | O11: ○ | P11: 済 | Q11: -
C12: 6 | E12: 101 | F12: 52.78 | G12: その他施設 | H12: その他 | I12: 附属物本体 | J12: 変形，欠損 | L12: 1箇所 | N12: - | O12: ○ | P12: 済 | Q12: -
C13: 7 | E13: 101 | F13: 70.3 | G13: その他施設 | H13: その他 | I13: 取付部材 | J13: 変形，欠損 | L13: 1箇所 | N13: - | O13: × | P13: 未 | Q13: -
C14: 9 | E14: 101 | F14: 88.48 | G14: その他施設 | H14: その他 | I14: 附属物本体 | J14: 変形，欠損 | L14: 1箇所 | N14: - | O14: ○ | P14: 済 | Q14: -
C15: 9 | E15: 102 | F15: 88.62 | G15: その他施設 | H15: その他 | I15: 取付部材 | J15: 変形，欠損 | L15: 1箇所 | N15: - | O15: × | P15: 未 | Q15: -
C16: PE | E16: 101 | F16: 105.59 | G16: その他施設 | H16: その他 | I16: 附属物本体 | J16: 変形，欠損 | L16: 1箇所 | N16: - | O16: ○ | P16: 済 | Q16: -
C42: ※ 異常判定区分×について記入すること。また、応急措置により○と判定された箇所も記入すること。
C43: ※ 応急措置を実施しないで判定した箇所の異常判定区分は、異常判定区分の応急措置後の欄に記入すること。
C44: ※ 異常の除去が不完全で、緊急対応が必要な場合は対応方針欄に記入すること。
C45: ※ １スパンの覆工に複数の異常がある場合は、異常箇所毎に記入すること。
C46: ※ 行が不足する場合は、適時、表の行を増やすこと。

Sheet 様式C-2
B2: ■定期点検記録様式 状態の把握の内容 【様式C-2】
B3: フリガナ | E3: (ｵｵﾄﾞｳﾘﾄﾝﾈﾙ) | H3: 路線名 | J3: 一般国道 376号線 | M3: 定期点検実施者 | Q3: 基礎地盤コンサルタンツ株式会社 | U3: 定期点検年月日 | X3: 45945
B4: 名 称 | E4: 大道理トンネル | H4: 管理者名 | J4: 周南土木建築事務所 | Q4: 大谷 直毅
B5: 状態の把握の内容 | C5: 覆工スパン 番号 | E5: 変状 番号 | F5: 状態の把握の内容
F6: 年月日 | H6: 内容 | O6: 結果 | Y6: 対策区分の 判定
B22: 注）状態の把握において、微破壊・非破壊検査や各種試験等を実施した場合について記載する。
B23: ※ 行が不足する場合は、適時、表の行を増やすこと。

Sheet 様式D-1-1_001
B2: ■定期点検記録様式 変状写真台帳【様式D-1-1】 | R2: 施設ID | T2: 34.14339,131.80219
B3: フリガナ | E3: (ｵｵﾄﾞｳﾘﾄﾝﾈﾙ) | H3: 路 線 名 | J3: 一般国道 376号線 | M3: 定期点検実施者 | P3: 基礎地盤コンサルタンツ株式会社 | S3: 定期点検年月日 | U3: 45945
B4: 名 称 | E4: 大道理トンネル | H4: 管理者名 | J4: 周南土木建築事務所 | P4: 大谷 直毅
B5: 写真 番号 | C5: 覆工スパン 番号 | E5: PS | M5: 写真 番号 | N5: 覆工スパン 番号 | P5: 1
C6: 変状番号 | E6: 1 | N6: 変状番号 | P6: 1
B7: 変状 部位 | C7: 対象箇所 | E7: 覆工 | M7: 変状 部位 | N7: 対象箇所 | P7: 覆工
C8: 部位区分 | E8: 面壁・妻壁等 | N8: 部位区分 | P8: 側壁（左側）
B9: 変状種類 | E9: その他 | M9: 変状種類 | P9: うき・はく離
B10: 対策 区分 | C10: 変状区分 | E10: 漏水 | M10: 対策 区分 | N10: 変状区分 | P10: 材質劣化
C11: 応急措置前 | E11: - | N11: 応急措置前 | P11: -
C12: 応急措置後 | E12: Ⅰ | N12: 応急措置後 | P12: Ⅱb
B13: 変状の発生範囲及び規模 | E13: - | H13: 前回変状の発生範囲及び規模 | J13: にじみ 0.2m×7.7m | M13: 変状の発生範囲及び規模 | P13: 0.2m×0.9m | S13: 前回変状の発生範囲及び規模 | U13: うき 0.1m×0.5m
B14: 対策履歴 | E14: - | H14: 実施状況（実施日） | J14: - | M14: 対策履歴 | P14: - | S14: 実施状況（実施日） | U14: -
B15: メモ | E15: 面壁の遊離石灰 今回点検時にじみは確認されなかった | M15: メモ | P15: 側壁のうき 経過観察が望まれる
B16: 写真 番号 | C16: 覆工スパン 番号 | E16: 1 | M16: 写真 番号 | N16: 覆工スパン 番号 | P16: 1
C17: 変状番号 | E17: 2 | N17: 変状番号 | P17: 3
B18: 変状 部位 | C18: 対象箇所 | E18: 覆工 | M18: 変状 部位 | N18: 対象箇所 | P18: 覆工
C19: 部位区分 | E19: 横断目地（左側） | N19: 部位区分 | P19: 横断目地（左側）
B20: 変状種類 | E20: 鋼材腐食 | M20: 変状種類 | P20: 鋼材腐食
B21: 対策 区分 | C21: 変状区分 | E21: 材質劣化 | M21: 対策 区分 | N21: 変状区分 | P21: 材質劣化
C22: 応急措置前 | E22: - | N22: 応急措置前 | P22: -
C23: 応急措置後 | E23: Ⅱb | N23: 応急措置後 | P23: Ⅱb
B24: 変状の発生範囲及び規模 | E24: 0.2m×0.1m | H24: 前回変状の発生範囲及び規模 | J24: 鋼材露出 0.2m×0.1m | M24: 変状の発生範囲及び規模 | P24: 0.05m×0.05m | S24: 前回変状の発生範囲及び規模 | U24: 鋼材露出 0.05m×0.05m
B25: 対策履歴 | E25: - | H25: 実施状況（実施日） | J25: - | M25: 対策履歴 | P25: - | S25: 実施状況（実施日） | U25: -
B26: メモ | E26: 横断目地(アーチ)の鋼材腐食 経過観察が望まれる | M26: メモ | P26: 横断目地(アーチ)の鋼材腐食 経過観察が望まれる
C27: ※ 応急措置後の対策区分について添付すること。また、点検前に 実施された措置によりⅠと判定された箇所も添付すること。 | N27: ※ 変状の発生範囲の規模とは、対策を行う際に参考となる変状の長さや面積をいう。
N28: ※ 応急措置を実施しないで決定した変状の対策区分は、対策区分の応急措置後の欄に記入すること。
C29: ※ たたき落としを実施した場合は、実施後の写真を添付すること。 | N29: ※ 変状の発生範囲の規模は、面積・寸法を記載すること。(ひび割れ幅のみmmとし、その他をm表記とする)
C30: ※ 附属物の取付状態に関する異常写真は別途、任意の書式でとりまとめること。 | N30: ※ 構造用鋼材以外の異物に伴ううき・はく離については、メモ欄に異物の概要を記入すること。

Sheet 様式D-1-1_002
B2: ■定期点検記録様式 変状写真台帳【様式D-1-1】 | R2: 施設ID | T2: 34.14339,131.80219
B3: フリガナ | E3: (ｵｵﾄﾞｳﾘﾄﾝﾈﾙ) | H3: 路 線 名 | J3: 一般国道 376号線 | M3: 定期点検実施者 | P3: 基礎地盤コンサルタンツ株式会社 | S3: 定期点検年月日 | U3: 45945
B4: 名 称 | E4: 大道理トンネル | H4: 管理者名 | J4: 周南土木建築事務所 | P4: 大谷 直毅
B5: 写真 番号 | C5: 覆工スパン 番号 | E5: 1 | M5: 写真 番号 | N5: 覆工スパン 番号 | P5: 1
C6: 変状番号 | E6: 4 | N6: 変状番号 | P6: 5
B7: 変状 部位 | C7: 対象箇所 | E7: 覆工 | M7: 変状 部位 | N7: 対象箇所 | P7: 路面
C8: 部位区分 | E8: 横断目地（天端） | N8: 部位区分 | P8: 車道
B9: 変状種類 | E9: うき・はく離 | M9: 変状種類 | P9: その他
B10: 対策 区分 | C10: 変状区分 | E10: 材質劣化 | M10: 対策 区分 | N10: 変状区分
C11: 応急措置前 | E11: - | N11: 応急措置前
C12: 応急措置後 | E12: Ⅰ | N12: 応急措置後
B13: 変状の発生範囲及び規模 | E13: 0.7m×0.1m | H13: 前回変状の発生範囲及び規模 | J13: うき 0.7m×0.1m | M13: 変状の発生範囲及び規模 | P13: 2.2m×8.0m | S13: 前回変状の発生範囲及び規模 | U13: 劣化 2.2m×8.0m
B14: 対策履歴 | E14: 繊維シート工 | H14: 実施状況（実施日） | J14: - | M14: 対策履歴 | P14: - | S14: 実施状況（実施日） | U14: -
B15: メモ | E15: 繊維シート工により補修済 | M15: メモ | P15: 車道のコンクリート劣化
B16: 写真 番号 | C16: 覆工スパン 番号 | E16: 2 | M16: 写真 番号 | N16: 覆工スパン 番号 | P16: 2
C17: 変状番号 | E17: 1 | N17: 変状番号 | P17: 2
B18: 変状 部位 | C18: 対象箇所 | E18: 覆工 | M18: 変状 部位 | N18: 対象箇所 | P18: 覆工
C19: 部位区分 | E19: 横断目地（左側） | N19: 部位区分 | P19: 横断目地（左側）
B20: 変状種類 | E20: 鋼材腐食 | M20: 変状種類 | P20: うき・はく離
B21: 対策 区分 | C21: 変状区分 | E21: 材質劣化 | M21: 対策 区分 | N21: 変状区分 | P21: 材質劣化
C22: 応急措置前 | E22: - | N22: 応急措置前 | P22: -
C23: 応急措置後 | E23: Ⅰ | N23: 応急措置後 | P23: Ⅰ
B24: 変状の発生範囲及び規模 | E24: 2.3m×0.4m | H24: 前回変状の発生範囲及び規模 | J24: 鋼材露出 2.3m×0.4m | M24: 変状の発生範囲及び規模 | P24: 0.7m×0.05m | S24: 前回変状の発生範囲及び規模 | U24: うき 0.7m×0.05m
B25: 対策履歴 | E25: FRPネット工 | H25: 実施状況（実施日） | J25: - | M25: 対策履歴 | P25: FRPネット工 | S25: 実施状況（実施日） | U25: -
B26: メモ | E26: FRPネット工により補修済 | M26: メモ | P26: FRPネット工により補修済
C27: ※ 応急措置後の対策区分について添付すること。また、点検前に 実施された措置によりⅠと判定された箇所も添付すること。 | N27: ※ 変状の発生範囲の規模とは、対策を行う際に参考となる変状の長さや面積をいう。
N28: ※ 応急措置を実施しないで決定した変状の対策区分は、対策区分の応急措置後の欄に記入すること。
C29: ※ たたき落としを実施した場合は、実施後の写真を添付すること。 | N29: ※ 変状の発生範囲の規模は、面積・寸法を記載すること。(ひび割れ幅のみmmとし、その他をm表記とする)
C30: ※ 附属物の取付状態に関する異常写真は別途、任意の書式でとりまとめること。 | N30: ※ 構造用鋼材以外の異物に伴ううき・はく離については、メモ欄に異物の概要を記入すること。

Sheet 様式D-1-1_003
B2: ■定期点検記録様式 変状写真台帳【様式D-1-1】 | R2: 施設ID | T2: 34.14339,131.80219
B3: フリガナ | E3: (ｵｵﾄﾞｳﾘﾄﾝﾈﾙ) | H3: 路 線 名 | J3: 一般国道 376号線 | M3: 定期点検実施者 | P3: 基礎地盤コンサルタンツ株式会社 | S3: 定期点検年月日 | U3: 45945
B4: 名 称 | E4: 大道理トンネル | H4: 管理者名 | J4: 周南土木建築事務所 | P4: 大谷 直毅
B5: 写真 番号 | C5: 覆工スパン 番号 | E5: 2 | M5: 写真 番号 | N5: 覆工スパン 番号 | P5: 2
C6: 変状番号 | E6: 3 | N6: 変状番号 | P6: 4
B7: 変状 部位 | C7: 対象箇所 | E7: 覆工 | M7: 変状 部位 | N7: 対象箇所 | P7: 覆工
C8: 部位区分 | E8: 横断目地（左側） | N8: 部位区分 | P8: 横断目地（天端）
B9: 変状種類 | E9: うき・はく離 | M9: 変状種類 | P9: 圧ざ、ひび割れ
B10: 対策 区分 | C10: 変状区分 | E10: 材質劣化 | M10: 対策 区分 | N10: 変状区分 | P10: 材質劣化
C11: 応急措置前 | E11: - | N11: 応急措置前 | P11: -
C12: 応急措置後 | E12: Ⅰ | N12: 応急措置後 | P12: Ⅰ
B13: 変状の発生範囲及び規模 | E13: 1.0m×0.2m | H13: 前回変状の発生範囲及び規模 | J13: うき(鋼材露出) 1.0m×0.2m | M13: 変状の発生範囲及び規模 | P13: 0.3m×2.0m | S13: 前回変状の発生範囲及び規模 | U13: 半月状ひび割れ 幅0.3mm 長さ2.0m
B14: 対策履歴 | E14: FRPネット工 | H14: 実施状況（実施日） | J14: - | M14: 対策履歴 | P14: 繊維シート工 | S14: 実施状況（実施日） | U14: -
B15: メモ | E15: FRPネット工により補修済 | M15: メモ | P15: 繊維シート工により補修済
B16: 写真 番号 | C16: 覆工スパン 番号 | E16: 2 | M16: 写真 番号 | N16: 覆工スパン 番号 | P16: 2
C17: 変状番号 | E17: 5 | N17: 変状番号 | P17: 6
B18: 変状 部位 | C18: 対象箇所 | E18: 覆工 | M18: 変状 部位 | N18: 対象箇所 | P18: 覆工
C19: 部位区分 | E19: 横断目地（天端） | N19: 部位区分 | P19: アーチ（右側）
B20: 変状種類 | E20: うき・はく離 | M20: 変状種類 | P20: 鋼材腐食
B21: 対策 区分 | C21: 変状区分 | E21: 材質劣化 | M21: 対策 区分 | N21: 変状区分 | P21: 材質劣化
C22: 応急措置前 | E22: - | N22: 応急措置前 | P22: Ⅳ
C23: 応急措置後 | E23: Ⅱb | N23: 応急措置後 | P23: Ⅱb
B24: 変状の発生範囲及び規模 | E24: 0.4m×0.05m | H24: 前回変状の発生範囲及び規模 | J24: うき 0.9m×0.05m | M24: 変状の発生範囲及び規模 | P24: 0.2m×0.2m | S24: 前回変状の発生範囲及び規模 | U24: 新規
B25: 対策履歴 | E25: - | H25: 実施状況（実施日） | J25: - | M25: 対策履歴 | P25: - | S25: 実施状況（実施日） | U25: -
B26: メモ | E26: 横断目地(アーチ)のうき 経過観察が望まれる | M26: メモ | P26: アーチの鉄筋露出 はく離部撤去済 経過観察が望まれる
C27: ※ 応急措置後の対策区分について添付すること。また、点検前に 実施された措置によりⅠと判定された箇所も添付すること。 | N27: ※ 変状の発生範囲の規模とは、対策を行う際に参考となる変状の長さや面積をいう。
N28: ※ 応急措置を実施しないで決定した変状の対策区分は、対策区分の応急措置後の欄に記入すること。
C29: ※ たたき落としを実施した場合は、実施後の写真を添付すること。 | N29: ※ 変状の発生範囲の規模は、面積・寸法を記載すること。(ひび割れ幅のみmmとし、その他をm表記とする)
C30: ※ 附属物の取付状態に関する異常写真は別途、任意の書式でとりまとめること。 | N30: ※ 構造用鋼材以外の異物に伴ううき・はく離については、メモ欄に異物の概要を記入すること。

Sheet 様式D-1-1_004
B2: ■定期点検記録様式 変状写真台帳【様式D-1-1】 | R2: 施設ID | T2: 34.14339,131.80219
B3: フリガナ | E3: (ｵｵﾄﾞｳﾘﾄﾝﾈﾙ) | H3: 路 線 名 | J3: 一般国道 376号線 | M3: 定期点検実施者 | P3: 基礎地盤コンサルタンツ株式会社 | S3: 定期点検年月日 | U3: 45945
B4: 名 称 | E4: 大道理トンネル | H4: 管理者名 | J4: 周南土木建築事務所 | P4: 大谷 直毅
B5: 写真 番号 | C5: 覆工スパン 番号 | E5: 3 | M5: 写真 番号 | N5: 覆工スパン 番号 | P5: 3
C6: 変状番号 | E6: 1 | N6: 変状番号 | P6: 2
B7: 変状 部位 | C7: 対象箇所 | E7: 覆工 | M7: 変状 部位 | N7: 対象箇所 | P7: 覆工
C8: 部位区分 | E8: 横断目地（左側） | N8: 部位区分 | P8: 横断目地（左側）
B9: 変状種類 | E9: 鋼材腐食 | M9: 変状種類 | P9: うき・はく離
B10: 対策 区分 | C10: 変状区分 | E10: 材質劣化 | M10: 対策 区分 | N10: 変状区分 | P10: 材質劣化
C11: 応急措置前 | E11: - | N11: 応急措置前 | P11: -
C12: 応急措置後 | E12: Ⅱb | N12: 応急措置後 | P12: Ⅰ
B13: 変状の発生範囲及び規模 | E13: 0.5m×0.1m | H13: 前回変状の発生範囲及び規模 | J13: 鋼材露出 0.5m×0.1m | M13: 変状の発生範囲及び規模 | P13: 0.1m×0.5m | S13: 前回変状の発生範囲及び規模 | U13: 線導水うき 0.1m×0.5m
B14: 対策履歴 | E14: - | H14: 実施状況（実施日） | J14: - | M14: 対策履歴 | P14: FRPネット工 | S14: 実施状況（実施日） | U14: -
B15: メモ | E15: 横断目地(アーチ)の鉄筋露出 経過観察が望まれる | M15: メモ | P15: FRPネット工により補修済
B16: 写真 番号 | C16: 覆工スパン 番号 | E16: 3 | M16: 写真 番号 | N16: 覆工スパン 番号 | P16: 3
C17: 変状番号 | E17: 3 | N17: 変状番号 | P17: 4
B18: 変状 部位 | C18: 対象箇所 | E18: 覆工 | M18: 変状 部位 | N18: 対象箇所 | P18: 覆工
C19: 部位区分 | E19: 横断目地（左側） | N19: 部位区分 | P19: 横断目地（右側）
B20: 変状種類 | E20: うき・はく離 | M20: 変状種類 | P20: 鋼材腐食
B21: 対策 区分 | C21: 変状区分 | E21: 材質劣化 | M21: 対策 区分 | N21: 変状区分 | P21: 材質劣化
C22: 応急措置前 | E22: - | N22: 応急措置前 | P22: -
C23: 応急措置後 | E23: Ⅰ | N23: 応急措置後 | P23: Ⅱb
B24: 変状の発生範囲及び規模 | E24: 2.6m×0.1m | H24: 前回変状の発生範囲及び規模 | J24: 線導水うき 2.6m×0.1m | M24: 変状の発生範囲及び規模 | P24: 0.2m×0.05m | S24: 前回変状の発生範囲及び規模 | U24: 新規
B25: 対策履歴 | E25: FRPネット工 | H25: 実施状況（実施日） | J25: - | M25: 対策履歴 | P25: - | S25: 実施状況（実施日） | U25: -
B26: メモ | E26: FRPネット工により補修済 | M26: メモ | P26: 横断目地(アーチ)の鉄筋露出 経過観察が望まれる
C27: ※ 応急措置後の対策区分について添付すること。また、点検前に 実施された措置によりⅠと判定された箇所も添付すること。 | N27: ※ 変状の発生範囲の規模とは、対策を行う際に参考となる変状の長さや面積をいう。
N28: ※ 応急措置を実施しないで決定した変状の対策区分は、対策区分の応急措置後の欄に記入すること。
C29: ※ たたき落としを実施した場合は、実施後の写真を添付すること。 | N29: ※ 変状の発生範囲の規模は、面積・寸法を記載すること。(ひび割れ幅のみmmとし、その他をm表記とする)
C30: ※ 附属物の取付状態に関する異常写真は別途、任意の書式でとりまとめること。 | N30: ※ 構造用鋼材以外の異物に伴ううき・はく離については、メモ欄に異物の概要を記入すること。

Sheet 様式D-1-1_005
B2: ■定期点検記録様式 変状写真台帳【様式D-1-1】 | R2: 施設ID | T2: 34.14339,131.80219
B3: フリガナ | E3: (ｵｵﾄﾞｳﾘﾄﾝﾈﾙ) | H3: 路 線 名 | J3: 一般国道 376号線 | M3: 定期点検実施者 | P3: 基礎地盤コンサルタンツ株式会社 | S3: 定期点検年月日 | U3: 45945
B4: 名 称 | E4: 大道理トンネル | H4: 管理者名 | J4: 周南土木建築事務所 | P4: 大谷 直毅
B5: 写真 番号 | C5: 覆工スパン 番号 | E5: 4 | M5: 写真 番号 | N5: 覆工スパン 番号 | P5: 4
C6: 変状番号 | E6: 1 | N6: 変状番号 | P6: 2
B7: 変状 部位 | C7: 対象箇所 | E7: 覆工 | M7: 変状 部位 | N7: 対象箇所 | P7: 覆工
C8: 部位区分 | E8: アーチ（天端） | N8: 部位区分 | P8: 横断目地（左側）
B9: 変状種類 | E9: うき・はく離 | M9: 変状種類 | P9: うき・はく離
B10: 対策 区分 | C10: 変状区分 | E10: 材質劣化 | M10: 対策 区分 | N10: 変状区分 | P10: 材質劣化
C11: 応急措置前 | E11: - | N11: 応急措置前 | P11: -
C12: 応急措置後 | E12: Ⅲ | N12: 応急措置後 | P12: Ⅰ
B13: 変状の発生範囲及び規模 | E13: 0.05m×0.05m | H13: 前回変状の発生範囲及び規模 | J13: 補修跡うき 0.05m×0.05m | M13: 変状の発生範囲及び規模 | P13: 2.5m×0.1m | S13: 前回変状の発生範囲及び規模 | U13: 補修跡うき 2.5m×0.1m
B14: 対策履歴 | E14: - | H14: 実施状況（実施日） | J14: - | M14: 対策履歴 | P14: FRPネット工 | S14: 実施状況（実施日） | U14: -
B15: メモ | E15: アーチの補修跡のうき 早急な対策が望まれる | M15: メモ | P15: FRPネット工により補修済
B16: 写真 番号 | C16: 覆工スパン 番号 | E16: 4 | M16: 写真 番号 | N16: 覆工スパン 番号 | P16: 4
C17: 変状番号 | E17: 3 | N17: 変状番号 | P17: 4
B18: 変状 部位 | C18: 対象箇所 | E18: 覆工 | M18: 変状 部位 | N18: 対象箇所 | P18: 覆工
C19: 部位区分 | E19: アーチ（右側） | N19: 部位区分 | P19: 横断目地（天端）
B20: 変状種類 | E20: 鋼材腐食 | M20: 変状種類 | P20: 圧ざ、ひび割れ
B21: 対策 区分 | C21: 変状区分 | E21: 材質劣化 | M21: 対策 区分 | N21: 変状区分 | P21: 材質劣化
C22: 応急措置前 | E22: - | N22: 応急措置前 | P22: -
C23: 応急措置後 | E23: Ⅱb | N23: 応急措置後 | P23: Ⅱb
B24: 変状の発生範囲及び規模 | E24: 0.05m×0.05m | H24: 前回変状の発生範囲及び規模 | J24: 鋼材露出 0.05m×0.05m | M24: 変状の発生範囲及び規模 | P24: 0.75m×0.35m | S24: 前回変状の発生範囲及び規模 | U24: 新規
B25: 対策履歴 | E25: - | H25: 実施状況（実施日） | J25: - | M25: 対策履歴 | P25: - | S25: 実施状況（実施日） | U25: -
B26: メモ | E26: アーチの鋼材腐食 経過観察が望まれる | M26: メモ | P26: 横断目地(アーチ)のブロック化が懸念されるひび割れ 経過観察が望まれる
C27: ※ 応急措置後の対策区分について添付すること。また、点検前に 実施された措置によりⅠと判定された箇所も添付すること。 | N27: ※ 変状の発生範囲の規模とは、対策を行う際に参考となる変状の長さや面積をいう。
N28: ※ 応急措置を実施しないで決定した変状の対策区分は、対策区分の応急措置後の欄に記入すること。
C29: ※ たたき落としを実施した場合は、実施後の写真を添付すること。 | N29: ※ 変状の発生範囲の規模は、面積・寸法を記載すること。(ひび割れ幅のみmmとし、その他をm表記とする)
C30: ※ 附属物の取付状態に関する異常写真は別途、任意の書式でとりまとめること。 | N30: ※ 構造用鋼材以外の異物に伴ううき・はく離については、メモ欄に異物の概要を記入すること。

Sheet 様式D-1-1_006
B2: ■定期点検記録様式 変状写真台帳【様式D-1-1】 | R2: 施設ID | T2: 34.14339,131.80219
B3: フリガナ | E3: (ｵｵﾄﾞｳﾘﾄﾝﾈﾙ) | H3: 路 線 名 | J3: 一般国道 376号線 | M3: 定期点検実施者 | P3: 基礎地盤コンサルタンツ株式会社 | S3: 定期点検年月日 | U3: 45945
B4: 名 称 | E4: 大道理トンネル | H4: 管理者名 | J4: 周南土木建築事務所 | P4: 大谷 直毅
B5: 写真 番号 | C5: 覆工スパン 番号 | E5: 5 | M5: 写真 番号 | N5: 覆工スパン 番号 | P5: 5
C6: 変状番号 | E6: 1 | N6: 変状番号 | P6: 2
B7: 変状 部位 | C7: 対象箇所 | E7: 覆工 | M7: 変状 部位 | N7: 対象箇所 | P7: 路面
C8: 部位区分 | E8: 横断目地（右側） | N8: 部位区分 | P8: 側溝
B9: 変状種類 | E9: うき・はく離 | M9: 変状種類 | P9: その他
B10: 対策 区分 | C10: 変状区分 | E10: 材質劣化 | M10: 対策 区分 | N10: 変状区分
C11: 応急措置前 | E11: - | N11: 応急措置前
C12: 応急措置後 | E12: Ⅱb | N12: 応急措置後
B13: 変状の発生範囲及び規模 | E13: 0.9m×0.3m | H13: 前回変状の発生範囲及び規模 | J13: 異音 0.9m×0.3m | M13: 変状の発生範囲及び規模 | P13: 0.3m×0.8m | S13: 前回変状の発生範囲及び規模 | U13: 縁石傾斜(うき) 0.3m×0.8m
B14: 対策履歴 | E14: - | H14: 実施状況（実施日） | J14: - | M14: 対策履歴 | P14: - | S14: 実施状況（実施日） | U14: -
B15: メモ | E15: 横断目地(アーチ)のうき 経過観察が望まれる | M15: メモ | P15: 側溝の縁石のうき 撤去済
B16: 写真 番号 | C16: 覆工スパン 番号 | E16: 5 | M16: 写真 番号 | N16: 覆工スパン 番号 | P16: 5
C17: 変状番号 | E17: 3 | N17: 変状番号 | P17: 4
B18: 変状 部位 | C18: 対象箇所 | E18: 路面 | M18: 変状 部位 | N18: 対象箇所 | P18: 覆工
C19: 部位区分 | E19: 側溝 | N19: 部位区分 | P19: 横断目地（左側）
B20: 変状種類 | E20: その他 | M20: 変状種類 | P20: うき・はく離
B21: 対策 区分 | C21: 変状区分 | M21: 対策 区分 | N21: 変状区分 | P21: 材質劣化
C22: 応急措置前 | N22: 応急措置前 | P22: -
C23: 応急措置後 | N23: 応急措置後 | P23: Ⅱb
B24: 変状の発生範囲及び規模 | E24: - | H24: 前回変状の発生範囲及び規模 | J24: 開口 20㎜ | M24: 変状の発生範囲及び規模 | P24: 2.4m×0.1m | S24: 前回変状の発生範囲及び規模 | U24: 新規
B25: 対策履歴 | E25: - | H25: 実施状況（実施日） | J25: - | M25: 対策履歴 | P25: - | S25: 実施状況（実施日） | U25: -
B26: メモ | E26: 側溝の縁石を撤去したため開口なし | M26: メモ | P26: 横断目地(アーチ)のうき 経過観察が望まれる
C27: ※ 応急措置後の対策区分について添付すること。また、点検前に 実施された措置によりⅠと判定された箇所も添付すること。 | N27: ※ 変状の発生範囲の規模とは、対策を行う際に参考となる変状の長さや面積をいう。
N28: ※ 応急措置を実施しないで決定した変状の対策区分は、対策区分の応急措置後の欄に記入すること。
C29: ※ たたき落としを実施した場合は、実施後の写真を添付すること。 | N29: ※ 変状の発生範囲の規模は、面積・寸法を記載すること。(ひび割れ幅のみmmとし、その他をm表記とする)
C30: ※ 附属物の取付状態に関する異常写真は別途、任意の書式でとりまとめること。 | N30: ※ 構造用鋼材以外の異物に伴ううき・はく離については、メモ欄に異物の概要を記入すること。

Sheet 様式D-1-1_007
B2: ■定期点検記録様式 変状写真台帳【様式D-1-1】 | R2: 施設ID | T2: 34.14339,131.80219
B3: フリガナ | E3: (ｵｵﾄﾞｳﾘﾄﾝﾈﾙ) | H3: 路 線 名 | J3: 一般国道 376号線 | M3: 定期点検実施者 | P3: 基礎地盤コンサルタンツ株式会社 | S3: 定期点検年月日 | U3: 45945
B4: 名 称 | E4: 大道理トンネル | H4: 管理者名 | J4: 周南土木建築事務所 | P4: 大谷 直毅
B5: 写真 番号 | C5: 覆工スパン 番号 | E5: 9 | M5: 写真 番号 | N5: 覆工スパン 番号 | P5: 9
C6: 変状番号 | E6: 1 | N6: 変状番号 | P6: 2
B7: 変状 部位 | C7: 対象箇所 | E7: 覆工 | M7: 変状 部位 | N7: 対象箇所 | P7: 覆工
C8: 部位区分 | E8: アーチ（左側） | N8: 部位区分 | P8: 横断目地（左側）
B9: 変状種類 | E9: 鋼材腐食 | M9: 変状種類 | P9: うき・はく離
B10: 対策 区分 | C10: 変状区分 | E10: 材質劣化 | M10: 対策 区分 | N10: 変状区分 | P10: 材質劣化
C11: 応急措置前 | E11: - | N11: 応急措置前 | P11: -
C12: 応急措置後 | E12: Ⅰ | N12: 応急措置後 | P12: Ⅱb
B13: 変状の発生範囲及び規模 | E13: 0.1m×0.15m | H13: 前回変状の発生範囲及び規模 | J13: 鋼材露出(一部落し) 0.1m×0.15m | M13: 変状の発生範囲及び規模 | P13: 0.4m×0.1m | S13: 前回変状の発生範囲及び規模 | U13: うき 0.4m×0.1m
B14: 対策履歴 | E14: FRPネット工 | H14: 実施状況（実施日） | J14: - | M14: 対策履歴 | P14: - | S14: 実施状況（実施日） | U14: -
B15: メモ | E15: FRPネット工により補修済 | M15: メモ | P15: 横断目地(アーチ)のうき 経過観察が望まれる
B16: 写真 番号 | C16: 覆工スパン 番号 | E16: 9 | M16: 写真 番号 | N16: 覆工スパン 番号 | P16: 9
C17: 変状番号 | E17: 3 | N17: 変状番号 | P17: 4
B18: 変状 部位 | C18: 対象箇所 | E18: 覆工 | M18: 変状 部位 | N18: 対象箇所 | P18: 覆工
C19: 部位区分 | E19: アーチ（右側） | N19: 部位区分 | P19: アーチ（右側）
B20: 変状種類 | E20: 鋼材腐食 | M20: 変状種類 | P20: 鋼材腐食
B21: 対策 区分 | C21: 変状区分 | E21: 材質劣化 | M21: 対策 区分 | N21: 変状区分 | P21: 材質劣化
C22: 応急措置前 | E22: - | N22: 応急措置前 | P22: -
C23: 応急措置後 | E23: Ⅰ | N23: 応急措置後 | P23: Ⅰ
B24: 変状の発生範囲及び規模 | E24: 0.1m×0.4m | H24: 前回変状の発生範囲及び規模 | J24: 鋼材露出 0.1m×0.4m | M24: 変状の発生範囲及び規模 | P24: 1.75m×0.2m | S24: 前回変状の発生範囲及び規模 | U24: 鋼材露出 1.75m×0.2m
B25: 対策履歴 | E25: 繊維シート工 | H25: 実施状況（実施日） | J25: - | M25: 対策履歴 | P25: 繊維シート工 | S25: 実施状況（実施日） | U25: -
B26: メモ | E26: 繊維シート工により補修済 | M26: メモ | P26: 繊維シート工により補修済
C27: ※ 応急措置後の対策区分について添付すること。また、点検前に 実施された措置によりⅠと判定された箇所も添付すること。 | N27: ※ 変状の発生範囲の規模とは、対策を行う際に参考となる変状の長さや面積をいう。
N28: ※ 応急措置を実施しないで決定した変状の対策区分は、対策区分の応急措置後の欄に記入すること。
C29: ※ たたき落としを実施した場合は、実施後の写真を添付すること。 | N29: ※ 変状の発生範囲の規模は、面積・寸法を記載すること。(ひび割れ幅のみmmとし、その他をm表記とする)
C30: ※ 附属物の取付状態に関する異常写真は別途、任意の書式でとりまとめること。 | N30: ※ 構造用鋼材以外の異物に伴ううき・はく離については、メモ欄に異物の概要を記入すること。

Sheet 様式D-1-1_008
B2: ■定期点検記録様式 変状写真台帳【様式D-1-1】 | R2: 施設ID | T2: 34.14339,131.80219
B3: フリガナ | E3: (ｵｵﾄﾞｳﾘﾄﾝﾈﾙ) | H3: 路 線 名 | J3: 一般国道 376号線 | M3: 定期点検実施者 | P3: 基礎地盤コンサルタンツ株式会社 | S3: 定期点検年月日 | U3: 45945
B4: 名 称 | E4: 大道理トンネル | H4: 管理者名 | J4: 周南土木建築事務所 | P4: 大谷 直毅
B5: 写真 番号 | C5: 覆工スパン 番号 | E5: 9 | M5: 写真 番号 | N5: 覆工スパン 番号 | P5: 9
C6: 変状番号 | E6: 5 | N6: 変状番号 | P6: 6
B7: 変状 部位 | C7: 対象箇所 | E7: 覆工 | M7: 変状 部位 | N7: 対象箇所 | P7: 覆工
C8: 部位区分 | E8: アーチ（天端） | N8: 部位区分 | P8: 横断目地（天端）
B9: 変状種類 | E9: うき・はく離 | M9: 変状種類 | P9: その他
B10: 対策 区分 | C10: 変状区分 | E10: 材質劣化 | M10: 対策 区分 | N10: 変状区分 | P10: 材質劣化
C11: 応急措置前 | E11: - | N11: 応急措置前 | P11: -
C12: 応急措置後 | E12: Ⅲ | N12: 応急措置後 | P12: Ⅰ
B13: 変状の発生範囲及び規模 | E13: 1.2m×0.6m | H13: 前回変状の発生範囲及び規模 | J13: うき 0.9m×0.3m | M13: 変状の発生範囲及び規模 | P13: 2.3m×1.2m | S13: 前回変状の発生範囲及び規模 | U13: 補修跡 2.5m×0.9m
B14: 対策履歴 | E14: - | H14: 実施状況（実施日） | J14: - | M14: 対策履歴 | P14: FRPネット工 | S14: 実施状況（実施日） | U14: -
B15: メモ | E15: アーチの鉄筋腐食に伴ううき 早急な対策が望まれる | M15: メモ | P15: FRPネット工により補修済
B16: 写真 番号 | C16: 覆工スパン 番号 | E16: 9 | M16: 写真 番号 | N16: 覆工スパン 番号 | P16: 9
C17: 変状番号 | E17: 7 | N17: 変状番号 | P17: 8
B18: 変状 部位 | C18: 対象箇所 | E18: 覆工 | M18: 変状 部位 | N18: 対象箇所 | P18: 覆工
C19: 部位区分 | E19: アーチ（左側） | N19: 部位区分 | P19: アーチ（左側）
B20: 変状種類 | E20: 鋼材腐食 | M20: 変状種類 | P20: 鋼材腐食
B21: 対策 区分 | C21: 変状区分 | E21: 材質劣化 | M21: 対策 区分 | N21: 変状区分 | P21: 材質劣化
C22: 応急措置前 | E22: - | N22: 応急措置前 | P22: -
C23: 応急措置後 | E23: Ⅱb | N23: 応急措置後 | P23: Ⅱb
B24: 変状の発生範囲及び規模 | E24: 0.1m×0.2m | H24: 前回変状の発生範囲及び規模 | J24: 新規 | M24: 変状の発生範囲及び規模 | P24: 0.1m×0.2m | S24: 前回変状の発生範囲及び規模 | U24: 新規
B25: 対策履歴 | E25: - | H25: 実施状況（実施日） | J25: - | M25: 対策履歴 | P25: - | S25: 実施状況（実施日） | U25: -
B26: メモ | E26: アーチの鉄筋露出 経過観察が望まれる | M26: メモ | P26: アーチの鉄筋露出 経過観察が望まれる
C27: ※ 応急措置後の対策区分について添付すること。また、点検前に 実施された措置によりⅠと判定された箇所も添付すること。 | N27: ※ 変状の発生範囲の規模とは、対策を行う際に参考となる変状の長さや面積をいう。
N28: ※ 応急措置を実施しないで決定した変状の対策区分は、対策区分の応急措置後の欄に記入すること。
C29: ※ たたき落としを実施した場合は、実施後の写真を添付すること。 | N29: ※ 変状の発生範囲の規模は、面積・寸法を記載すること。(ひび割れ幅のみmmとし、その他をm表記とする)
C30: ※ 附属物の取付状態に関する異常写真は別途、任意の書式でとりまとめること。 | N30: ※ 構造用鋼材以外の異物に伴ううき・はく離については、メモ欄に異物の概要を記入すること。

Sheet 様式D-1-1_009
B2: ■定期点検記録様式 変状写真台帳【様式D-1-1】 | R2: 施設ID | T2: 34.14339,131.80219
B3: フリガナ | E3: (ｵｵﾄﾞｳﾘﾄﾝﾈﾙ) | H3: 路 線 名 | J3: 一般国道 376号線 | M3: 定期点検実施者 | P3: 基礎地盤コンサルタンツ株式会社 | S3: 定期点検年月日 | U3: 45945
B4: 名 称 | E4: 大道理トンネル | H4: 管理者名 | J4: 周南土木建築事務所 | P4: 大谷 直毅
B5: 写真 番号 | C5: 覆工スパン 番号 | E5: 9 | M5: 写真 番号 | N5: 覆工スパン 番号 | P5: 9
C6: 変状番号 | E6: 9 | N6: 変状番号 | P6: 10
B7: 変状 部位 | C7: 対象箇所 | E7: 覆工 | M7: 変状 部位 | N7: 対象箇所 | P7: 覆工
C8: 部位区分 | E8: アーチ（左側） | N8: 部位区分 | P8: アーチ（左側）
B9: 変状種類 | E9: うき・はく離 | M9: 変状種類 | P9: 鋼材腐食
B10: 対策 区分 | C10: 変状区分 | E10: 材質劣化 | M10: 対策 区分 | N10: 変状区分 | P10: 材質劣化
C11: 応急措置前 | E11: - | N11: 応急措置前 | P11: -
C12: 応急措置後 | E12: Ⅱb | N12: 応急措置後 | P12: Ⅱb
B13: 変状の発生範囲及び規模 | E13: 0.15m×0.2m | H13: 前回変状の発生範囲及び規模 | J13: 新規 | M13: 変状の発生範囲及び規模 | P13: 0.3m×0.6m | S13: 前回変状の発生範囲及び規模 | U13: 新規
B14: 対策履歴 | E14: - | H14: 実施状況（実施日） | J14: - | M14: 対策履歴 | P14: - | S14: 実施状況（実施日） | U14: -
B15: メモ | E15: アーチのうき 経過観察が望まれる | M15: メモ | P15: アーチの鉄筋露出 経過観察が望まれる
B16: 写真 番号 | C16: 覆工スパン 番号 | E16: 9 | M16: 写真 番号 | N16: 覆工スパン 番号 | P16: 9
C17: 変状番号 | E17: 11 | N17: 変状番号 | P17: 12
B18: 変状 部位 | C18: 対象箇所 | E18: 覆工 | M18: 変状 部位 | N18: 対象箇所 | P18: 覆工
C19: 部位区分 | E19: アーチ（天端） | N19: 部位区分 | P19: アーチ（右側）
B20: 変状種類 | E20: 鋼材腐食 | M20: 変状種類 | P20: うき・はく離
B21: 対策 区分 | C21: 変状区分 | E21: 材質劣化 | M21: 対策 区分 | N21: 変状区分 | P21: 材質劣化
C22: 応急措置前 | E22: - | N22: 応急措置前 | P22: -
C23: 応急措置後 | E23: Ⅱb | N23: 応急措置後 | P23: Ⅱb
B24: 変状の発生範囲及び規模 | E24: 0.3m×0.1m | H24: 前回変状の発生範囲及び規模 | J24: 新規 | M24: 変状の発生範囲及び規模 | P24: 0.2m×0.2m | S24: 前回変状の発生範囲及び規模 | U24: 新規
B25: 対策履歴 | E25: - | H25: 実施状況（実施日） | J25: - | M25: 対策履歴 | P25: - | S25: 実施状況（実施日） | U25: -
B26: メモ | E26: アーチの鉄筋露出 経過観察が望まれる | M26: メモ | P26: アーチのうき 経過観察が望まれる
C27: ※ 応急措置後の対策区分について添付すること。また、点検前に 実施された措置によりⅠと判定された箇所も添付すること。 | N27: ※ 変状の発生範囲の規模とは、対策を行う際に参考となる変状の長さや面積をいう。
N28: ※ 応急措置を実施しないで決定した変状の対策区分は、対策区分の応急措置後の欄に記入すること。
C29: ※ たたき落としを実施した場合は、実施後の写真を添付すること。 | N29: ※ 変状の発生範囲の規模は、面積・寸法を記載すること。(ひび割れ幅のみmmとし、その他をm表記とする)
C30: ※ 附属物の取付状態に関する異常写真は別途、任意の書式でとりまとめること。 | N30: ※ 構造用鋼材以外の異物に伴ううき・はく離については、メモ欄に異物の概要を記入すること。

Sheet 様式D-1-1_010
B2: ■定期点検記録様式 変状写真台帳【様式D-1-1】 | R2: 施設ID | T2: 34.14339,131.80219
B3: フリガナ | E3: (ｵｵﾄﾞｳﾘﾄﾝﾈﾙ) | H3: 路 線 名 | J3: 一般国道 376号線 | M3: 定期点検実施者 | P3: 基礎地盤コンサルタンツ株式会社 | S3: 定期点検年月日 | U3: 45945
B4: 名 称 | E4: 大道理トンネル | H4: 管理者名 | J4: 周南土木建築事務所 | P4: 大谷 直毅
B5: 写真 番号 | C5: 覆工スパン 番号 | E5: 10 | M5: 写真 番号 | N5: 覆工スパン 番号 | P5: 10
C6: 変状番号 | E6: 1 | N6: 変状番号 | P6: 2
B7: 変状 部位 | C7: 対象箇所 | E7: 覆工 | M7: 変状 部位 | N7: 対象箇所 | P7: 路面
C8: 部位区分 | E8: アーチ（天端） | N8: 部位区分 | P8: 側溝
B9: 変状種類 | E9: うき・はく離 | M9: 変状種類 | P9: その他
B10: 対策 区分 | C10: 変状区分 | E10: 材質劣化 | M10: 対策 区分 | N10: 変状区分
C11: 応急措置前 | E11: - | N11: 応急措置前
C12: 応急措置後 | E12: Ⅲ | N12: 応急措置後
B13: 変状の発生範囲及び規模 | E13: 0.7m×0.6m | H13: 前回変状の発生範囲及び規模 | J13: うき 0.7m×0.3m | M13: 変状の発生範囲及び規模 | P13: 30.0mｍ | S13: 前回変状の発生範囲及び規模 | U13: 段差(縁石側面) 30㎜
B14: 対策履歴 | E14: - | H14: 実施状況（実施日） | J14: - | M14: 対策履歴 | P14: - | S14: 実施状況（実施日） | U14: -
B15: メモ | E15: アーチの鉄筋腐食に伴ううき 早急な対策が望まれる | M15: メモ | P15: 側溝の段差
B16: 写真 番号 | C16: 覆工スパン 番号 | E16: 10 | M16: 写真 番号 | N16: 覆工スパン 番号 | P16: 10
C17: 変状番号 | E17: 3 | N17: 変状番号 | P17: 4
B18: 変状 部位 | C18: 対象箇所 | E18: 路面 | M18: 変状 部位 | N18: 対象箇所 | P18: 覆工
C19: 部位区分 | E19: 側溝 | N19: 部位区分 | P19: アーチ（左側）
B20: 変状種類 | E20: その他 | M20: 変状種類 | P20: 圧ざ、ひび割れ
B21: 対策 区分 | C21: 変状区分 | M21: 対策 区分 | N21: 変状区分 | P21: 材質劣化
C22: 応急措置前 | N22: 応急措置前 | P22: -
C23: 応急措置後 | N23: 応急措置後 | P23: Ⅱa
B24: 変状の発生範囲及び規模 | E24: 5.0ｍｍ | H24: 前回変状の発生範囲及び規模 | J24: 開口 5㎜ | M24: 変状の発生範囲及び規模 | P24: 1.2m×1.4m | S24: 前回変状の発生範囲及び規模 | U24: 新規
B25: 対策履歴 | E25: - | H25: 実施状況（実施日） | J25: - | M25: 対策履歴 | P25: - | S25: 実施状況（実施日） | U25: -
B26: メモ | E26: 側溝の開口 | M26: メモ | P26: アーチの規模の大きいブロック化 打音異常なし 計画的な対策が望まれる
C27: ※ 応急措置後の対策区分について添付すること。また、点検前に 実施された措置によりⅠと判定された箇所も添付すること。 | N27: ※ 変状の発生範囲の規模とは、対策を行う際に参考となる変状の長さや面積をいう。
N28: ※ 応急措置を実施しないで決定した変状の対策区分は、対策区分の応急措置後の欄に記入すること。
C29: ※ たたき落としを実施した場合は、実施後の写真を添付すること。 | N29: ※ 変状の発生範囲の規模は、面積・寸法を記載すること。(ひび割れ幅のみmmとし、その他をm表記とする)
C30: ※ 附属物の取付状態に関する異常写真は別途、任意の書式でとりまとめること。 | N30: ※ 構造用鋼材以外の異物に伴ううき・はく離については、メモ欄に異物の概要を記入すること。

Sheet 様式D-1-2_001
B2: ■定期点検記録様式 異常写真台帳（トンネル内附属物等の取付状態） 【様式D-1-2】
B3: フリガナ | E3: (ｵｵﾄﾞｳﾘﾄﾝﾈﾙ) | I3: 路 線 名 | L3: 一般国道 376号線 | O3: 定期点検実施者 | R3: 基礎地盤コンサルタンツ株式会社 | U3: 定期点検年月日 | W3: 45945
B4: 名 称 | E4: 大道理トンネル | I4: 管理者名 | L4: 周南土木建築事務所 | R4: 大谷 直毅
B5: 覆工スパン番号 | E5: 2 | F5: 異常番号 | I5: 101 | J5: 覆工スパン番号 | M5: 2 | N5: 異常番号 | Q5: 102 | R5: 覆工スパン番号 | U5: 4 | V5: 異常番号 | Y5: 101
B6: 対象箇所 | D6: その他施設 | E6: その他 | J6: 対象箇所 | L6: その他施設 | M6: その他 | R6: 対象箇所 | T6: その他施設 | U6: その他
B7: 部位区分 | D7: 取付部材 | F7: 異常の種類 | H7: 変形，欠損 | J7: 部位区分 | L7: 附属物本体 | N7: 異常の種類 | P7: 変形，欠損 | R7: 部位区分 | T7: 取付部材 | V7: 異常の種類 | X7: 変形，欠損
B8: 異常判定区分 | D8: × | E8: メモ | F8: デリネータ座金破損 | J8: 異常判定区分 | L8: ○ | M8: メモ | N8: デリネータ 更新済 | R8: 異常判定区分 | T8: × | U8: メモ | V8: デリネータ座金破損
B22: 覆工スパン番号 | E22: 4 | F22: 異常番号 | I22: 102 | J22: 覆工スパン番号 | M22: 6 | N22: 異常番号 | Q22: 101 | R22: 覆工スパン番号 | U22: 7 | V22: 異常番号 | Y22: 101
B23: 対象箇所 | D23: その他施設 | E23: その他 | J23: 対象箇所 | L23: その他施設 | M23: その他 | R23: 対象箇所 | T23: その他施設 | U23: その他
B24: 部位区分 | D24: 附属物本体 | F24: 異常の種類 | H24: 変形，欠損 | J24: 部位区分 | L24: 附属物本体 | N24: 異常の種類 | P24: 変形，欠損 | R24: 部位区分 | T24: 取付部材 | V24: 異常の種類 | X24: 変形，欠損
B25: 異常判定区分 | D25: ○ | E25: メモ | F25: デリネータ 更新済 | J25: 異常判定区分 | L25: ○ | M25: メモ | N25: デリネータ 更新済 | R25: 異常判定区分 | T25: × | U25: メモ | V25: デリネータ座金破損
C39: ※ 異常判定区分×について記入すること。また、応急措置前に異常判定区分×とした箇所のうち応急措置により○と判定した箇所も記入すること。
C40: ※ 応急措置を実施した場合は、その実施状況が分かる写真を添付すること。
C41: ※ 変状数に準じてシートを追加すること。

Sheet 様式D-1-2_002
B2: ■定期点検記録様式 異常写真台帳（トンネル内附属物等の取付状態） 【様式D-1-2】
B3: フリガナ | E3: (ｵｵﾄﾞｳﾘﾄﾝﾈﾙ) | I3: 路 線 名 | L3: 一般国道 376号線 | O3: 定期点検実施者 | R3: 基礎地盤コンサルタンツ株式会社 | U3: 定期点検年月日 | W3: 45945
B4: 名 称 | E4: 大道理トンネル | I4: 管理者名 | L4: 周南土木建築事務所 | R4: 大谷 直毅
B5: 覆工スパン番号 | E5: 9 | F5: 異常番号 | I5: 101 | J5: 覆工スパン番号 | M5: 9 | N5: 異常番号 | Q5: 102 | R5: 覆工スパン番号 | U5: PE | V5: 異常番号 | Y5: 101
B6: 対象箇所 | D6: その他施設 | E6: その他 | J6: 対象箇所 | L6: その他施設 | M6: その他 | R6: 対象箇所 | T6: その他施設 | U6: その他
B7: 部位区分 | D7: 附属物本体 | F7: 異常の種類 | H7: 変形，欠損 | J7: 部位区分 | L7: 取付部材 | N7: 異常の種類 | P7: 変形，欠損 | R7: 部位区分 | T7: 附属物本体 | V7: 異常の種類 | X7: 変形，欠損
B8: 異常判定区分 | D8: ○ | E8: メモ | F8: デリネータ 更新済 | J8: 異常判定区分 | L8: × | M8: メモ | N8: デリネータ座金破損 | R8: 異常判定区分 | T8: ○ | U8: メモ | V8: デリネータ 更新済
B22: 覆工スパン番号 | F22: 異常番号 | J22: 覆工スパン番号 | N22: 異常番号 | R22: 覆工スパン番号 | V22: 異常番号
B23: 対象箇所 | J23: 対象箇所 | R23: 対象箇所
B24: 部位区分 | F24: 異常の種類 | J24: 部位区分 | N24: 異常の種類 | R24: 部位区分 | V24: 異常の種類
B25: 異常判定区分 | E25: メモ | J25: 異常判定区分 | M25: メモ | R25: 異常判定区分 | U25: メモ
C39: ※ 異常判定区分×について記入すること。また、応急措置前に異常判定区分×とした箇所のうち応急措置により○と判定した箇所も記入すること。
C40: ※ 応急措置を実施した場合は、その実施状況が分かる写真を添付すること。
C41: ※ 変状数に準じてシートを追加すること。

Sheet 様式D-2-1_001
B3: ■定期点検記録様式 トンネル全体変状展開図 【様式D-2-1】
B4: フリガナ | E4: (ｵｵﾄﾞｳﾘﾄﾝﾈﾙ) | J4: 路線名 | M4: 一般国道 376号線 | S4: 定期点検実施者 | W4: 基礎地盤コンサルタンツ株式会社 | AC4: 定期点検年月日 | AF4: 45945
B5: 名 称 | E5: 大道理トンネル | J5: 管理者名 | M5: 周南土木建築事務所 | W5: 大谷 直毅
B6: トンネル変状展開図 | C6: トンネル全体変状展開図
V18: 注１：本展開図は、見下げた状態で記載すること。 注２：覆工スパン番号は横断目地毎（矢板工法の場合は上半アーチ の横断目地毎)に設定すること。 注３：横断目地の変状は前の覆工スパン番号で計上すること。 注４：１枚に収まらない場合は、複数枚に分けて作成すること。

Sheet 様式D-2-1_002
B3: ■定期点検記録様式 トンネル全体変状展開図 【様式D-2-1】
B4: フリガナ | E4: (ｵｵﾄﾞｳﾘﾄﾝﾈﾙ) | J4: 路線名 | M4: 一般国道 376号線 | S4: 定期点検実施者 | W4: 基礎地盤コンサルタンツ株式会社 | AC4: 定期点検年月日 | AF4: 45945
B5: 名 称 | E5: 大道理トンネル | J5: 管理者名 | M5: 周南土木建築事務所 | W5: 大谷 直毅
B6: トンネル変状展開図 | C6: トンネル全体変状展開図
V18: 注１：本展開図は、見下げた状態で記載すること。 注２：覆工スパン番号は横断目地毎（矢板工法の場合は上半アーチ の横断目地毎)に設定すること。 注３：横断目地の変状は前の覆工スパン番号で計上すること。 注４：１枚に収まらない場合は、複数枚に分けて作成すること。

Sheet 様式D-2-1´_001
B3: ■定期点検記録様式 トンネル全体変状展開図（機器の活用時） 【様式D-2-1’】
B4: フリガナ | E4: (ｵｵﾄﾞｳﾘﾄﾝﾈﾙ) | J4: 路線名 | M4: 一般国道 376号線 | S4: 定期点検実施者 | W4: 基礎地盤コンサルタンツ株式会社 | AC4: 定期点検年月日 | AF4: 45945
B5: 名 称 | E5: 大道理トンネル | J5: 管理者名 | M5: 周南土木建築事務所 | W5: 大谷 直毅
B6: トンネル変状展開図 | C6: トンネル全体変状展開図
V18: 注１：本展開図は、見下げた状態で記載すること。 注２：覆工スパン番号は横断目地毎（矢板工法の場合は上半アーチ の横断目地毎)に設定すること。 注３：横断目地の変状は前の覆工スパン番号で計上すること。 注４：１枚に収まらない場合は、複数枚に分けて作成すること。

Sheet 様式D-2-1´_002
B3: ■定期点検記録様式 トンネル全体変状展開図（機器の活用時） 【様式D-2-1’】
B4: フリガナ | E4: (ｵｵﾄﾞｳﾘﾄﾝﾈﾙ) | J4: 路線名 | M4: 一般国道 376号線 | S4: 定期点検実施者 | W4: 基礎地盤コンサルタンツ株式会社 | AC4: 定期点検年月日 | AF4: 45945
B5: 名 称 | E5: 大道理トンネル | J5: 管理者名 | M5: 周南土木建築事務所 | W5: 大谷 直毅
B6: トンネル変状展開図 | C6: トンネル全体変状展開図
V18: 注１：本展開図は、見下げた状態で記載すること。 注２：覆工スパン番号は横断目地毎（矢板工法の場合は上半アーチ の横断目地毎)に設定すること。 注３：横断目地の変状は前の覆工スパン番号で計上すること。 注４：１枚に収まらない場合は、複数枚に分けて作成すること。

Sheet 様式D-3_PS
AU1: 様式F用→ | AV1: 覆工スパン | AY1: 変 状 数 | BK1: 変 状 規 模
AV2: 番号 | AW2: 延長 （ｍ） | AX2: 健全性の診断の 区分 | AY2: 対策区分の判定 | BK2: 覆工スパン長（ｍ） | BO2: 変状の発生範囲の規模（㎡）
B3: ■定期点検記録様式 覆工スパン別変状詳細展開図 【様式D-3】 | AY3: 外力 | BC3: 材質劣化 | BG3: 漏水 | BK3: 外力 注2 | BO3: 材質劣化 | BS3: 漏水
B4: フリガナ | E4: (ｵｵﾄﾞｳﾘﾄﾝﾈﾙ) | K4: 路線名 | N4: 一般国道 376号線 | T4: 定期点検実施者 | Y4: 基礎地盤コンサルタンツ株式会社 | AG4: 定期点検年月日 | AK4: 45945 | AY4: Ⅳ | AZ4: Ⅲ | BA4: Ⅱa | BB4: Ⅱb | BC4: Ⅳ | BD4: Ⅲ | BE4: Ⅱa | BF4: Ⅱb | BG4: Ⅳ | BH4: Ⅲ | BI4: Ⅱa | BJ4: Ⅱb | BK4: Ⅳ | BL4: Ⅲ | BM4: Ⅱa | BN4: Ⅱb | BO4: Ⅳ | BP4: Ⅲ | BQ4: Ⅱa | BR4: Ⅱb | BS4: Ⅳ | BT4: Ⅲ | BU4: Ⅱa | BV4: Ⅱb
B5: 名 称 | E5: 大道理トンネル | K5: 管理者名 | N5: 周南土木建築事務所 | Y5: 大谷 直毅 | AV5: =N7 -> PS | AW5: =R7 -> 0 | AX5: =AM35 -> Ⅰ | AY5: =Y37 -> 0 | AZ5: =Z37 -> 0 | BA5: =AA37 -> 0 | BB5: =AB37 -> 0 | BC5: =AC37 -> 0 | BD5: =AD37 -> 0 | BE5: =AE37 -> 0 | BF5: =AF37 -> 0 | ... BJ5: =AJ37 -> 0 | BK5: =IF(Y37>0,R7,) -> 0 | BL5: =IF(Y37>0,"",IF(Z37>0,R7,)) -> 0 | BM5: =IF(Y37+Z37>0,"",IF(AA37>0,R7,)) -> 0 | BN5: =IF(Y37+Z37+AA37>0,"",IF(AB37>0,R7,)) -> 0 | BO5: =AC35 -> 0 | BP5: =AD35 -> 0 | BQ5: =AE35 -> 0 | BR5: =AF35 -> 0 | BS5: =AG35 -> 0 | BT5: =AH35 -> 0 | BU5: =AI35 -> 0 | BV5: =AJ35 -> 0
B6: スパン別変状展開図 | K6: 【健全性判定集計表】
K7: スパン番号 | N7: PS | P7: スパン長 | R7: 0 | U7: 前回定期点検時の判定 | W7: 応急措置前の判定 | Y7: 対策区分毎の 変状の有無 | AC7: 対策区分毎の変状の発生範囲の規模(㎡) | AK7: 備考注2
K8: 変状番号 | L8: 対象箇所 | N8: 部位区分 | P8: 変状区分 | R8: 変状種類
Y9: 外力注1 | AC9: 材質劣化注1 | AG9: 漏水注1
Y10: Ⅳ | Z10: Ⅲ | AA10: Ⅱa | AB10: Ⅱb | AC10: Ⅳ | AD10: Ⅲ | AE10: Ⅱa | AF10: Ⅱb | AG10: Ⅳ | AH10: Ⅲ | AI10: Ⅱa | AJ10: Ⅱb
K11: 1 | L11: 覆工 | N11: 面壁・妻壁等 | P11: 漏水 | R11: その他 | U11: Ⅱb | W11: - | AQ11: =IF(P11="材質劣化",2,IF(P11="漏水",3,1)) -> 3 | AS11: =IF(Y11<>"",1,"")
K12: 2 | AQ12: =IF(P12="材質劣化",2,IF(P12="漏水",3,1)) -> 1
K13: 3 | AQ13: =IF(P13="材質劣化",2,IF(P13="漏水",3,1)) -> 1
K14: 4 | AQ14: =IF(P14="材質劣化",2,IF(P14="漏水",3,1)) -> 1
K15: 5 | AQ15: =IF(P15="材質劣化",2,IF(P15="漏水",3,1)) -> 1
K16: 6 | AQ16: =IF(P16="材質劣化",2,IF(P16="漏水",3,1)) -> 1
K17: 7 | AQ17: =IF(P17="材質劣化",2,IF(P17="漏水",3,1)) -> 1
K18: 8 | AQ18: =IF(P18="材質劣化",2,IF(P18="漏水",3,1)) -> 1
K19: 9 | AQ19: =IF(P19="材質劣化",2,IF(P19="漏水",3,1)) -> 1
K20: 10 | AQ20: =IF(P20="材質劣化",2,IF(P20="漏水",3,1)) -> 1
K21: 11 | AQ21: =IF(P21="材質劣化",2,IF(P21="漏水",3,1)) -> 1
K22: 12 | AQ22: =IF(P22="材質劣化",2,IF(P22="漏水",3,1)) -> 1
K23: 13 | AQ23: =IF(P23="材質劣化",2,IF(P23="漏水",3,1)) -> 1
... K27: 17 | AQ27: =IF(P27="材質劣化",2,IF(P27="漏水",3,1)) -> 1
K28: 18 | AQ28: =IF(P30="材質劣化",2,IF(P30="漏水",3,1)) -> 1
K29: 19 | AQ29: =IF(P34="材質劣化",2,IF(P34="漏水",3,1)) -> 1
K30: 20 | AQ30: =IF(P30="材質劣化",2,IF(P30="漏水",3,1)) -> 1
K31: 21 | AQ31: =IF(P33="材質劣化",2,IF(P33="漏水",3,1)) -> 1
K32: 22 | AQ32: =IF(P37="材質劣化",2,IF(P37="漏水",3,1)) -> 1
K33: 23 | AQ33: =IF(P33="材質劣化",2,IF(P33="漏水",3,1)) -> 1
K34: 24 | AQ34: =IF(P36="材質劣化",2,IF(P36="漏水",3,1)) -> 1
K35: 集計 判定 診断 | L35: 変状の発生規模合計(㎡) | Y35: － | AC35: =SUM(AC11:AC34) -> 0 | AD35: =SUM(AD11:AD34) -> 0 | AE35: =SUM(AE11:AE34) -> 0 | AF35: =SUM(AF11:AF34) -> 0 | AG35: =SUM(AG11:AG34) -> 0 | AH35: =SUM(AH11:AH34) -> 0 | AI35: =SUM(AI11:AI34) -> 0 | AJ35: =SUM(AJ11:AJ34) -> 0 | AK35: 覆工スパン単位の 健全性の 診断の区分 | AM35: =IF(Y37+AC37+AG37>0,"Ⅳ",IF(Z37+AD37+AH37>0,"Ⅲ",IF(AA37+AB37+AE37+AF37+AI37+AJ37>0,"Ⅱ","Ⅰ"))) -> Ⅰ
L36: 対策区分の 判定結果 | O36: 対策区分毎の変状数注3 | Y36: Ⅳ | Z36: Ⅲ | AA36: Ⅱa | AB36: Ⅱb | AC36: Ⅳ | AD36: Ⅲ | AE36: Ⅱa | AF36: Ⅱb | AG36: Ⅳ | AH36: Ⅲ | AI36: Ⅱa | AJ36: Ⅱb
Y37: =IF(COUNTIF(Y11:Y34,"〇")>0,1,0) -> 0 | Z37: =IF(COUNTIF(Z11:Z34,"〇")>0,1,0) -> 0 | AA37: =IF(COUNTIF(AA11:AA34,"〇")>0,1,0) -> 0 | AB37: =IF(COUNTIF(AB11:AB34,"〇")>0,1,0) -> 0 | AC37: =COUNTA(AC11:AC34) -> 0 | AD37: =COUNTA(AD11:AD34) -> 0 | AE37: =COUNTA(AE11:AE34) -> 0 | AF37: =COUNTA(AF11:AF34) -> 0 | AG37: =COUNTA(AG11:AG34) -> 0 | AH37: =COUNTA(AH11:AH34) -> 0 | AI37: =COUNTA(AI11:AI34) -> 0 | AJ37: =COUNTA(AJ11:AJ34) -> 0
K39: 所見
K43: 注1：誤記入防止のため、当該変状区分以外のセルは灰色表示とすること。
K44: 注2：応急措置を実施した場合は、その詳細を備考に記載すること。
K45: 注3：外力は覆工スパン単位、材質劣化、漏水は変状単位とすること。
B46: （以下、印刷不要）
B47: ※1：本シートは作成洩れのないよう、変状が無くても全スパン分を作成すること．また変状展開図は、様式D-2-1、様式D-2-1'と同じものを覆工スパン単位で拡大し掲載すること。
...

Sheet 様式D-3_S001
AU1: 様式F用→ | AV1: 覆工スパン | AY1: 変 状 数 | BK1: 変 状 規 模
AV2: 番号 | AW2: 延長 （ｍ） | AX2: 健全性の診断の 区分 | AY2: 対策区分の判定 | BK2: 覆工スパン長（ｍ） | BO2: 変状の発生範囲の規模（㎡）
B3: ■定期点検記録様式 覆工スパン別変状詳細展開図 【様式D-3】 | AY3: 外力 | BC3: 材質劣化 | BG3: 漏水 | BK3: 外力 注2 | BO3: 材質劣化 | BS3: 漏水
B4: フリガナ | E4: (ｵｵﾄﾞｳﾘﾄﾝﾈﾙ) | K4: 路線名 | N4: 一般国道 376号線 | T4: 定期点検実施者 | Y4: 基礎地盤コンサルタンツ株式会社 | AG4: 定期点検年月日 | AK4: 45945 | AY4: Ⅳ | AZ4: Ⅲ | BA4: Ⅱa | BB4: Ⅱb | BC4: Ⅳ | BD4: Ⅲ | BE4: Ⅱa | BF4: Ⅱb | BG4: Ⅳ | BH4: Ⅲ | BI4: Ⅱa | BJ4: Ⅱb | BK4: Ⅳ | BL4: Ⅲ | BM4: Ⅱa | BN4: Ⅱb | BO4: Ⅳ | BP4: Ⅲ | BQ4: Ⅱa | BR4: Ⅱb | BS4: Ⅳ | BT4: Ⅲ | BU4: Ⅱa | BV4: Ⅱb
B5: 名 称 | E5: 大道理トンネル | K5: 管理者名 | N5: 周南土木建築事務所 | Y5: 大谷 直毅 | AV5: =N7 -> 1 | AW5: =R7 -> 10 | AX5: =AM35 -> Ⅱ | AY5: =Y37 -> 0 | AZ5: =Z37 -> 0 | BA5: =AA37 -> 0 | BB5: =AB37 -> 0 | BC5: =AC37 -> 0 | BD5: =AD37 -> 0 | BE5: =AE37 -> 0 | BF5: =AF37 -> 3 | ... BJ5: =AJ37 -> 0 | BK5: =IF(Y37>0,R7,) -> 0 | BL5: =IF(Y37>0,"",IF(Z37>0,R7,)) -> 0 | BM5: =IF(Y37+Z37>0,"",IF(AA37>0,R7,)) -> 0 | BN5: =IF(Y37+Z37+AA37>0,"",IF(AB37>0,R7,)) -> 0 | BO5: =AC35 -> 0 | BP5: =AD35 -> 0 | BQ5: =AE35 -> 0 | BR5: =AF35 -> 0.2025 | BS5: =AG35 -> 0 | BT5: =AH35 -> 0 | BU5: =AI35 -> 0 | BV5: =AJ35 -> 0
B6: スパン別変状展開図 | K6: 【健全性判定集計表】
K7: スパン番号 | N7: 1 | P7: スパン長 | R7: 10 | U7: 前回定期点検時の判定 | W7: 応急措置前の判定 | Y7: 対策区分毎の 変状の有無 | AC7: 対策区分毎の変状の発生範囲の規模(㎡) | AK7: 備考注2
K8: 変状番号 | L8: 対象箇所 | N8: 部位区分 | P8: 変状区分 | R8: 変状種類
Y9: 外力注1 | AC9: 材質劣化注1 | AG9: 漏水注1
Y10: Ⅳ | Z10: Ⅲ | AA10: Ⅱa | AB10: Ⅱb | AC10: Ⅳ | AD10: Ⅲ | AE10: Ⅱa | AF10: Ⅱb | AG10: Ⅳ | AH10: Ⅲ | AI10: Ⅱa | AJ10: Ⅱb
K11: 1 | L11: 覆工 | N11: 側壁（左側） | P11: 材質劣化 | R11: うき・はく離 | U11: Ⅱb | W11: - | AF11: 0.18 | AQ11: =IF(P11="材質劣化",2,IF(P11="漏水",3,1)) -> 2 | AS11: =IF(Y11<>"",1,"")
K12: 2 | L12: 覆工 | N12: 横断目地（左側） | P12: 材質劣化 | R12: 鋼材腐食 | U12: Ⅱb | W12: - | AF12: 0.02 | AQ12: =IF(P12="材質劣化",2,IF(P12="漏水",3,1)) -> 2
K13: 3 | L13: 覆工 | N13: 横断目地（左側） | P13: 材質劣化 | R13: 鋼材腐食 | U13: Ⅱb | W13: - | AF13: 0.0025 | AQ13: =IF(P13="材質劣化",2,IF(P13="漏水",3,1)) -> 2
K14: 4 | L14: 覆工 | N14: 横断目地（天端） | P14: 材質劣化 | R14: うき・はく離 | U14: Ⅱa | W14: - | AQ14: =IF(P14="材質劣化",2,IF(P14="漏水",3,1)) -> 2
K15: 5 | L15: 路面 | N15: 車道 | R15: その他 | U15: Ⅰ | AQ15: =IF(P15="材質劣化",2,IF(P15="漏水",3,1)) -> 1
K16: 6 | AQ16: =IF(P16="材質劣化",2,IF(P16="漏水",3,1)) -> 1
K17: 7 | AQ17: =IF(P17="材質劣化",2,IF(P17="漏水",3,1)) -> 1
K18: 8 | AQ18: =IF(P18="材質劣化",2,IF(P18="漏水",3,1)) -> 1
K19: 9 | AQ19: =IF(P19="材質劣化",2,IF(P19="漏水",3,1)) -> 1
K20: 10 | AQ20: =IF(P20="材質劣化",2,IF(P20="漏水",3,1)) -> 1
K21: 11 | AQ21: =IF(P21="材質劣化",2,IF(P21="漏水",3,1)) -> 1
K22: 12 | AQ22: =IF(P22="材質劣化",2,IF(P22="漏水",3,1)) -> 1
K23: 13 | AQ23: =IF(P23="材質劣化",2,IF(P23="漏水",3,1)) -> 1
K24: 14 | AQ24: =IF(P24="材質劣化",2,IF(P24="漏水",3,1)) -> 1
K25: 15 | AQ25: =IF(P25="材質劣化",2,IF(P25="漏水",3,1)) -> 1
K26: 16 | AQ26: =IF(P26="材質劣化",2,IF(P26="漏水",3,1)) -> 1
K27: 17 | AQ27: =IF(P27="材質劣化",2,IF(P27="漏水",3,1)) -> 1
K28: 18 | AQ28: =IF(P30="材質劣化",2,IF(P30="漏水",3,1)) -> 1
K29: 19 | AQ29: =IF(P34="材質劣化",2,IF(P34="漏水",3,1)) -> 1
K30: 20 | AQ30: =IF(P30="材質劣化",2,IF(P30="漏水",3,1)) -> 1
K31: 21 | AQ31: =IF(P33="材質劣化",2,IF(P33="漏水",3,1)) -> 1
K32: 22 | AQ32: =IF(P37="材質劣化",2,IF(P37="漏水",3,1)) -> 1
K33: 23 | AQ33: =IF(P33="材質劣化",2,IF(P33="漏水",3,1)) -> 1
K34: 24 | AQ34: =IF(P36="材質劣化",2,IF(P36="漏水",3,1)) -> 1
K35: 集計 判定 診断 | L35: 変状の発生規模合計(㎡) | Y35: － | AC35: =SUM(AC11:AC34) -> 0 | AD35: =SUM(AD11:AD34) -> 0 | AE35: =SUM(AE11:AE34) -> 0 | AF35: =SUM(AF11:AF34) -> 0.2025 | AG35: =SUM(AG11:AG34) -> 0 | AH35: =SUM(AH11:AH34) -> 0 | AI35: =SUM(AI11:AI34) -> 0 | AJ35: =SUM(AJ11:AJ34) -> 0 | AK35: 覆工スパン単位の 健全性の 診断の区分 | AM35: =IF(Y37+AC37+AG37>0,"Ⅳ",IF(Z37+AD37+AH37>0,"Ⅲ",IF(AA37+AB37+AE37+AF37+AI37+AJ37>0,"Ⅱ","Ⅰ"))) -> Ⅱ
L36: 対策区分の 判定結果 | O36: 対策区分毎の変状数注3 | Y36: Ⅳ | Z36: Ⅲ | AA36: Ⅱa | AB36: Ⅱb | AC36: Ⅳ | AD36: Ⅲ | AE36: Ⅱa | AF36: Ⅱb | AG36: Ⅳ | AH36: Ⅲ | AI36: Ⅱa | AJ36: Ⅱb
Y37: =IF(COUNTIF(Y11:Y34,"〇")>0,1,0) -> 0 | Z37: =IF(COUNTIF(Z11:Z34,"〇")>0,1,0) -> 0 | AA37: =IF(COUNTIF(AA11:AA34,"〇")>0,1,0) -> 0 | AB37: =IF(COUNTIF(AB11:AB34,"〇")>0,1,0) -> 0 | AC37: =COUNTA(AC11:AC34) -> 0 | AD37: =COUNTA(AD11:AD34) -> 0 | AE37: =COUNTA(AE11:AE34) -> 0 | AF37: =COUNTA(AF11:AF34) -> 3 | AG37: =COUNTA(AG11:AG34) -> 0 | AH37: =COUNTA(AH11:AH34) -> 0 | AI37: =COUNTA(AI11:AI34) -> 0 | AJ37: =COUNTA(AJ11:AJ34) -> 0
K39: 所見
K43: 注1：誤記入防止のため、当該変状区分以外のセルは灰色表示とすること。
K44: 注2：応急措置を実施した場合は、その詳細を備考に記載すること。
...

Sheet 様式D-3_S002
AU1: 様式F用→ | AV1: 覆工スパン | AY1: 変 状 数 | BK1: 変 状 規 模
AV2: 番号 | AW2: 延長 （ｍ） | AX2: 健全性の診断の 区分 | AY2: 対策区分の判定 | BK2: 覆工スパン長（ｍ） | BO2: 変状の発生範囲の規模（㎡）
B3: ■定期点検記録様式 覆工スパン別変状詳細展開図 【様式D-3】 | AY3: 外力 | BC3: 材質劣化 | BG3: 漏水 | BK3: 外力 注2 | BO3: 材質劣化 | BS3: 漏水
B4: フリガナ | E4: (ｵｵﾄﾞｳﾘﾄﾝﾈﾙ) | K4: 路線名 | N4: 一般国道 376号線 | T4: 定期点検実施者 | Y4: 基礎地盤コンサルタンツ株式会社 | AG4: 定期点検年月日 | AK4: 45945 | AY4: Ⅳ | AZ4: Ⅲ | BA4: Ⅱa | BB4: Ⅱb | BC4: Ⅳ | BD4: Ⅲ | BE4: Ⅱa | BF4: Ⅱb | BG4: Ⅳ | BH4: Ⅲ | BI4: Ⅱa | BJ4: Ⅱb | BK4: Ⅳ | BL4: Ⅲ | BM4: Ⅱa | BN4: Ⅱb | BO4: Ⅳ | BP4: Ⅲ | BQ4: Ⅱa | BR4: Ⅱb | BS4: Ⅳ | BT4: Ⅲ | BU4: Ⅱa | BV4: Ⅱb
B5: 名 称 | E5: 大道理トンネル | K5: 管理者名 | N5: 周南土木建築事務所 | Y5: 大谷 直毅 | AV5: =N7 -> 2 | AW5: =R7 -> 10.5 | AX5: =AM35 -> Ⅱ | AY5: =Y37 -> 0 | AZ5: =Z37 -> 0 | BA5: =AA37 -> 0 | BB5: =AB37 -> 0 | BC5: =AC37 -> 0 | BD5: =AD37 -> 0 | BE5: =AE37 -> 0 | BF5: =AF37 -> 2 | ... BJ5: =AJ37 -> 0 | BK5: =IF(Y37>0,R7,) -> 0 | BL5: =IF(Y37>0,"",IF(Z37>0,R7,)) -> 0 | BM5: =IF(Y37+Z37>0,"",IF(AA37>0,R7,)) -> 0 | BN5: =IF(Y37+Z37+AA37>0,"",IF(AB37>0,R7,)) -> 0 | BO5: =AC35 -> 0 | BP5: =AD35 -> 0 | BQ5: =AE35 -> 0 | BR5: =AF35 -> 0.06 | BS5: =AG35 -> 0 | BT5: =AH35 -> 0 | BU5: =AI35 -> 0 | BV5: =AJ35 -> 0
B6: スパン別変状展開図 | K6: 【健全性判定集計表】
K7: スパン番号 | N7: 2 | P7: スパン長 | R7: 10.5 | U7: 前回定期点検時の判定 | W7: 応急措置前の判定 | Y7: 対策区分毎の 変状の有無 | AC7: 対策区分毎の変状の発生範囲の規模(㎡) | AK7: 備考注2
K8: 変状番号 | L8: 対象箇所 | N8: 部位区分 | P8: 変状区分 | R8: 変状種類
Y9: 外力注1 | AC9: 材質劣化注1 | AG9: 漏水注1
Y10: Ⅳ | Z10: Ⅲ | AA10: Ⅱa | AB10: Ⅱb | AC10: Ⅳ | AD10: Ⅲ | AE10: Ⅱa | AF10: Ⅱb | AG10: Ⅳ | AH10: Ⅲ | AI10: Ⅱa | AJ10: Ⅱb
K11: 1 | L11: 覆工 | N11: 横断目地（左側） | P11: 材質劣化 | R11: 鋼材腐食 | U11: Ⅲ | W11: - | AQ11: =IF(P11="材質劣化",2,IF(P11="漏水",3,1)) -> 2 | AS11: =IF(Y11<>"",1,"")
K12: 2 | L12: 覆工 | N12: 横断目地（左側） | P12: 材質劣化 | R12: うき・はく離 | U12: Ⅲ | W12: - | AQ12: =IF(P12="材質劣化",2,IF(P12="漏水",3,1)) -> 2
K13: 3 | L13: 覆工 | N13: 横断目地（左側） | P13: 材質劣化 | R13: うき・はく離 | U13: Ⅲ | W13: - | AQ13: =IF(P13="材質劣化",2,IF(P13="漏水",3,1)) -> 2
K14: 4 | L14: 覆工 | N14: 横断目地（天端） | P14: 材質劣化 | R14: 圧ざ、ひび割れ | U14: Ⅱb | W14: - | AQ14: =IF(P14="材質劣化",2,IF(P14="漏水",3,1)) -> 2
K15: 5 | L15: 覆工 | N15: 横断目地（天端） | P15: 材質劣化 | R15: うき・はく離 | U15: Ⅱa | W15: - | AF15: 0.02 | AQ15: =IF(P15="材質劣化",2,IF(P15="漏水",3,1)) -> 2
K16: 6 | L16: 覆工 | N16: アーチ（右側） | P16: 材質劣化 | R16: 鋼材腐食 | U16: - | W16: Ⅳ | AF16: 0.04 | AQ16: =IF(P16="材質劣化",2,IF(P16="漏水",3,1)) -> 2
K17: 7 | AQ17: =IF(P17="材質劣化",2,IF(P17="漏水",3,1)) -> 1
K18: 8 | AQ18: =IF(P18="材質劣化",2,IF(P18="漏水",3,1)) -> 1
K19: 9 | AQ19: =IF(P19="材質劣化",2,IF(P19="漏水",3,1)) -> 1
K20: 10 | AQ20: =IF(P20="材質劣化",2,IF(P20="漏水",3,1)) -> 1
K21: 11 | AQ21: =IF(P21="材質劣化",2,IF(P21="漏水",3,1)) -> 1
K22: 12 | AQ22: =IF(P22="材質劣化",2,IF(P22="漏水",3,1)) -> 1
K23: 13 | AQ23: =IF(P23="材質劣化",2,IF(P23="漏水",3,1)) -> 1
K24: 14 | AQ24: =IF(P24="材質劣化",2,IF(P24="漏水",3,1)) -> 1
K25: 15 | AQ25: =IF(P25="材質劣化",2,IF(P25="漏水",3,1)) -> 1
K26: 16 | AQ26: =IF(P26="材質劣化",2,IF(P26="漏水",3,1)) -> 1
K27: 17 | AQ27: =IF(P27="材質劣化",2,IF(P27="漏水",3,1)) -> 1
K28: 18 | AQ28: =IF(P30="材質劣化",2,IF(P30="漏水",3,1)) -> 1
K29: 19 | AQ29: =IF(P34="材質劣化",2,IF(P34="漏水",3,1)) -> 1
K30: 20 | AQ30: =IF(P30="材質劣化",2,IF(P30="漏水",3,1)) -> 1
K31: 21 | AQ31: =IF(P33="材質劣化",2,IF(P33="漏水",3,1)) -> 1
K32: 22 | AQ32: =IF(P37="材質劣化",2,IF(P37="漏水",3,1)) -> 1
K33: 23 | AQ33: =IF(P33="材質劣化",2,IF(P33="漏水",3,1)) -> 1
K34: 24 | AQ34: =IF(P36="材質劣化",2,IF(P36="漏水",3,1)) -> 1
K35: 集計 判定 診断 | L35: 変状の発生規模合計(㎡) | Y35: － | AC35: =SUM(AC11:AC34) -> 0 | AD35: =SUM(AD11:AD34) -> 0 | AE35: =SUM(AE11:AE34) -> 0 | AF35: =SUM(AF11:AF34) -> 0.06 | AG35: =SUM(AG11:AG34) -> 0 | AH35: =SUM(AH11:AH34) -> 0 | AI35: =SUM(AI11:AI34) -> 0 | AJ35: =SUM(AJ11:AJ34) -> 0 | AK35: 覆工スパン単位の 健全性の 診断の区分 | AM35: =IF(Y37+AC37+AG37>0,"Ⅳ",IF(Z37+AD37+AH37>0,"Ⅲ",IF(AA37+AB37+AE37+AF37+AI37+AJ37>0,"Ⅱ","Ⅰ"))) -> Ⅱ
L36: 対策区分の 判定結果 | O36: 対策区分毎の変状数注3 | Y36: Ⅳ | Z36: Ⅲ | AA36: Ⅱa | AB36: Ⅱb | AC36: Ⅳ | AD36: Ⅲ | AE36: Ⅱa | AF36: Ⅱb | AG36: Ⅳ | AH36: Ⅲ | AI36: Ⅱa | AJ36: Ⅱb
Y37: =IF(COUNTIF(Y11:Y34,"〇")>0,1,0) -> 0 | Z37: =IF(COUNTIF(Z11:Z34,"〇")>0,1,0) -> 0 | AA37: =IF(COUNTIF(AA11:AA34,"〇")>0,1,0) -> 0 | AB37: =IF(COUNTIF(AB11:AB34,"〇")>0,1,0) -> 0 | AC37: =COUNTA(AC11:AC34) -> 0 | AD37: =COUNTA(AD11:AD34) -> 0 | AE37: =COUNTA(AE11:AE34) -> 0 | AF37: =COUNTA(AF11:AF34) -> 2 | AG37: =COUNTA(AG11:AG34) -> 0 | AH37: =COUNTA(AH11:AH34) -> 0 | AI37: =COUNTA(AI11:AI34) -> 0 | AJ37: =COUNTA(AJ11:AJ34) -> 0
K39: 所見
K43: 注1：誤記入防止のため、当該変状区分以外のセルは灰色表示とすること。
K44: 注2：応急措置を実施した場合は、その詳細を備考に記載すること。
...

Sheet 様式D-3_S003
AU1: 様式F用→ | AV1: 覆工スパン | AY1: 変 状 数 | BK1: 変 状 規 模
AV2: 番号 | AW2: 延長 （ｍ） | AX2: 健全性の診断の 区分 | AY2: 対策区分の判定 | BK2: 覆工スパン長（ｍ） | BO2: 変状の発生範囲の規模（㎡）
B3: ■定期点検記録様式 覆工スパン別変状詳細展開図 【様式D-3】 | AY3: 外力 | BC3: 材質劣化 | BG3: 漏水 | BK3: 外力 注2 | BO3: 材質劣化 | BS3: 漏水
B4: フリガナ | E4: (ｵｵﾄﾞｳﾘﾄﾝﾈﾙ) | K4: 路線名 | N4: 一般国道 376号線 | T4: 定期点検実施者 | Y4: 基礎地盤コンサルタンツ株式会社 | AG4: 定期点検年月日 | AK4: 45945 | AY4: Ⅳ | AZ4: Ⅲ | BA4: Ⅱa | BB4: Ⅱb | BC4: Ⅳ | BD4: Ⅲ | BE4: Ⅱa | BF4: Ⅱb | BG4: Ⅳ | BH4: Ⅲ | BI4: Ⅱa | BJ4: Ⅱb | BK4: Ⅳ | BL4: Ⅲ | BM4: Ⅱa | BN4: Ⅱb | BO4: Ⅳ | BP4: Ⅲ | BQ4: Ⅱa | BR4: Ⅱb | BS4: Ⅳ | BT4: Ⅲ | BU4: Ⅱa | BV4: Ⅱb
B5: 名 称 | E5: 大道理トンネル | K5: 管理者名 | N5: 周南土木建築事務所 | Y5: 大谷 直毅 | AV5: =N7 -> 3 | AW5: =R7 -> 10.5 | AX5: =AM35 -> Ⅱ | AY5: =Y37 -> 0 | AZ5: =Z37 -> 0 | BA5: =AA37 -> 0 | BB5: =AB37 -> 0 | BC5: =AC37 -> 0 | BD5: =AD37 -> 0 | BE5: =AE37 -> 0 | BF5: =AF37 -> 2 | ... BJ5: =AJ37 -> 0 | BK5: =IF(Y37>0,R7,) -> 0 | BL5: =IF(Y37>0,"",IF(Z37>0,R7,)) -> 0 | BM5: =IF(Y37+Z37>0,"",IF(AA37>0,R7,)) -> 0 | BN5: =IF(Y37+Z37+AA37>0,"",IF(AB37>0,R7,)) -> 0 | BO5: =AC35 -> 0 | BP5: =AD35 -> 0 | BQ5: =AE35 -> 0 | BR5: =AF35 -> 0.06 | BS5: =AG35 -> 0 | BT5: =AH35 -> 0 | BU5: =AI35 -> 0 | BV5: =AJ35 -> 0
B6: スパン別変状展開図 | K6: 【健全性判定集計表】
K7: スパン番号 | N7: 3 | P7: スパン長 | R7: 10.5 | U7: 前回定期点検時の判定 | W7: 応急措置前の判定 | Y7: 対策区分毎の 変状の有無 | AC7: 対策区分毎の変状の発生範囲の規模(㎡) | AK7: 備考注2
K8: 変状番号 | L8: 対象箇所 | N8: 部位区分 | P8: 変状区分 | R8: 変状種類
Y9: 外力注1 | AC9: 材質劣化注1 | AG9: 漏水注1
Y10: Ⅳ | Z10: Ⅲ | AA10: Ⅱa | AB10: Ⅱb | AC10: Ⅳ | AD10: Ⅲ | AE10: Ⅱa | AF10: Ⅱb | AG10: Ⅳ | AH10: Ⅲ | AI10: Ⅱa | AJ10: Ⅱb
K11: 1 | L11: 覆工 | N11: 横断目地（左側） | P11: 材質劣化 | R11: 鋼材腐食 | U11: Ⅱb | W11: - | AF11: 0.05 | AQ11: =IF(P11="材質劣化",2,IF(P11="漏水",3,1)) -> 2 | AS11: =IF(Y11<>"",1,"")
K12: 2 | L12: 覆工 | N12: 横断目地（左側） | P12: 材質劣化 | R12: うき・はく離 | U12: Ⅱa | W12: - | AQ12: =IF(P12="材質劣化",2,IF(P12="漏水",3,1)) -> 2
K13: 3 | L13: 覆工 | N13: 横断目地（左側） | P13: 材質劣化 | R13: うき・はく離 | U13: Ⅱa | W13: - | AQ13: =IF(P13="材質劣化",2,IF(P13="漏水",3,1)) -> 2
K14: 4 | L14: 覆工 | N14: 横断目地（右側） | P14: 材質劣化 | R14: 鋼材腐食 | U14: - | W14: - | AF14: 0.01 | AQ14: =IF(P14="材質劣化",2,IF(P14="漏水",3,1)) -> 2
K15: 5 | AQ15: =IF(P15="材質劣化",2,IF(P15="漏水",3,1)) -> 1
K16: 6 | AQ16: =IF(P16="材質劣化",2,IF(P16="漏水",3,1)) -> 1
K17: 7 | AQ17: =IF(P17="材質劣化",2,IF(P17="漏水",3,1)) -> 1
K18: 8 | AQ18: =IF(P18="材質劣化",2,IF(P18="漏水",3,1)) -> 1
K19: 9 | AQ19: =IF(P19="材質劣化",2,IF(P19="漏水",3,1)) -> 1
K20: 10 | AQ20: =IF(P20="材質劣化",2,IF(P20="漏水",3,1)) -> 1
K21: 11 | AQ21: =IF(P21="材質劣化",2,IF(P21="漏水",3,1)) -> 1
K22: 12 | AQ22: =IF(P22="材質劣化",2,IF(P22="漏水",3,1)) -> 1
K23: 13 | AQ23: =IF(P23="材質劣化",2,IF(P23="漏水",3,1)) -> 1
K24: 14 | AQ24: =IF(P24="材質劣化",2,IF(P24="漏水",3,1)) -> 1
K25: 15 | AQ25: =IF(P25="材質劣化",2,IF(P25="漏水",3,1)) -> 1
K26: 16 | AQ26: =IF(P26="材質劣化",2,IF(P26="漏水",3,1)) -> 1
K27: 17 | AQ27: =IF(P27="材質劣化",2,IF(P27="漏水",3,1)) -> 1
K28: 18 | AQ28: =IF(P30="材質劣化",2,IF(P30="漏水",3,1)) -> 1
K29: 19 | AQ29: =IF(P34="材質劣化",2,IF(P34="漏水",3,1)) -> 1
K30: 20 | AQ30: =IF(P30="材質劣化",2,IF(P30="漏水",3,1)) -> 1
