Workbook
Name 〇: #REF!
Name その他: '(参考)リスト'!$C$45
Name その他施設: '(参考)リスト'!$C$76:$C$80
Name 外力: '(参考)リスト'!$E$16:$E$23
Name 換気施設: '(参考)リスト'!$C$55:$C$59
Name 坑門: '(参考)リスト'!$C$16:$C$29
Name 材質劣化: '(参考)リスト'!$E$25:$E$30
Name 照明施設: '(参考)リスト'!$C$51:$C$53
Name 対象箇所: テーブル1[対象箇所]
Name 対象箇所: テーブル1[対象箇所]
Name 対象箇所: テーブル1[対象箇所]
Name 対象箇所: テーブル1[対象箇所]
Name 対象箇所: テーブル1[対象箇所]
Name 対象箇所: テーブル1[対象箇所]
Name 対象箇所: テーブル1[対象箇所]
Name 対象箇所: テーブル1[対象箇所]
Name 対象箇所: テーブル1[対象箇所]
Name 対象箇所: テーブル1[対象箇所]
Name 対象箇所: テーブル1[対象箇所]
Name 対象箇所: テーブル1[対象箇所]
Name 対象箇所: テーブル1[対象箇所]
Name 対象箇所: テーブル1[対象箇所]
Name 対象箇所: テーブル1[対象箇所]
Name 対象箇所: テーブル1[対象箇所]
Name 対象箇所: テーブル1[対象箇所]
Name 対象箇所: テーブル1[対象箇所]
Name 対象箇所: テーブル1[対象箇所]
Name 対象箇所: テーブル1[対象箇所]
Name 対象箇所: テーブル1[対象箇所]
Name 対象箇所: テーブル1[対象箇所]
Name 対象箇所: テーブル1[対象箇所]
Name 対象箇所: テーブル1[対象箇所]
Name 対象箇所: テーブル1[対象箇所]
Name 対象箇所: テーブル1[対象箇所]
Name 対象箇所: テーブル1[対象箇所]
Name 対象箇所: テーブル1[対象箇所]
Name 対象箇所: テーブル1[対象箇所]
Name 対象箇所: テーブル1[対象箇所]
Name 対象箇所: テーブル1[対象箇所]
Name 対象箇所: テーブル1[対象箇所]
Name 対象箇所: テーブル1[対象箇所]
Name 対象箇所: テーブル1[対象箇所]
Name 対象箇所: テーブル1[対象箇所]
Name 対象箇所: テーブル1[対象箇所]
Name 対象箇所: テーブル1[対象箇所]
Name 対象箇所: テーブル1[対象箇所]
Name 対象箇所: テーブル1[対象箇所]
Name 対象箇所: テーブル1[対象箇所]
Name 対象箇所: テーブル1[対象箇所]
Name 対象箇所: テーブル1[対象箇所]
Name 対象箇所: テーブル1[対象箇所]
Name 対象箇所: テーブル1[対象箇所]
Name 対象箇所: テーブル1[対象箇所]
Name 対象箇所: テーブル1[対象箇所]
Name 対象箇所: テーブル1[対象箇所]
Name 対象箇所: テーブル1[対象箇所]
Name 対象箇所: テーブル1[対象箇所]
Name 対象箇所: テーブル1[対象箇所]
Name 対象箇所: テーブル1[対象箇所]
Name 対象箇所: テーブル1[対象箇所]

Sheet 点検様式作成フロー
A1: 点検様式作成フロ-
A3: 作成フロー図 | H3: 点検調書作成手順
H4: ①様式A-1～A-3（トンネル台帳）
H5: トンネル点検の実施にあたっては，現場点検作業に先行してトンネル情報を収集する。トンネル台帳（様式Ａ－1～様式Ａ－3）はトンネル完成後に作成され，維持管理の段階で引き継がれるが，関連資料等を確認したうえで，追加情報があれば必要に応じて追記することが望ましい。
H9: ②様式D-2-1、様式D-2-1´
H10: 現場点検作業を実施し，近接目視点検で確認した変状状況や補修履歴を忠実に変状展開図に転記する
H12: ③様式D-1-1、様式D-1-2
H13: 変状展開図や撮影した写真等をもとに，対象トンネルの対策区分を判定し，対策区分の判定区分がⅡ～Ⅳの変状および異常判定区分「×」を抽出し，写真台帳を作成する
H16: ④様式B
H17: 写真台帳の作成と同時に，トンネルの構造を展開した位置図に変状写真位置を記録する
H19: ⑤様式D-3
H20: 変状展開図ならびに写真台帳をもとに覆工スパンごとの変状展開図を作成し，変状発生状況をとりまとめる
H22: ⑥様式E-1、様式E-2
H23: 様式Ｄ－1～様式Ｄ－3をもとに，健全性の診断結果を集計する
... H31: ファイルは以下の分割規則に従う。 ※各ファイルとも （参考）リスト のシートを付けて保存すること。 ・様式A-1～A-3は同一ファイルとする。 ・様式B、D-1-1、D-1-2、D-2-1（もしくはD-2-1'）、Eは別ファイルとする。 ・様式C-1-1,C-1-2、C-2は同一ファイルとする。 ・様式D-3、E、Fは同一ファイルとする。

Sheet 変状面積算出方法
A1: 変状面積算出方法
A26: 注1）外力による変状：ひび割れや圧ざの場合は変状の寸法を記録する。
A27: 例）ひび割れ：長さ（L）×最大ひび割れ幅（t）を記録する。 変形，移動，沈下：数値的な記載が可能な場合のみ記載する。
A28: 注2）材料劣化による：打音異常
A29: 例）うき，はく離（閉合ひび割れ）：変状範囲を包括する寸法（L×W） うき，はく離（ひび割れ沿い）：打音異常箇所を包括する寸法（L×W） 鋼材腐食（鉄筋腐食）：一括した対策が適当と考えられる範囲を包括する寸法（L×W）
A30: 注3）漏水による変状：漏水発生範囲を包括し，垂れ下がりの可能性がある側壁下端まで含めた寸法を，L×Wで記録する。打継ぎ目地沿いの 漏水については目地を跨いだ50cm幅を横幅とする。

Sheet 様式A-1
B2: ■トンネル台帳 トンネル諸元、非常用施設諸元 【様式A-1】 | S2: トンネルID | W2: 34.32556,131.12108
B3: フリガナ | D3: オオザサ | H3: 路線名 | J3: 一般県道俵山長門古市停車場線 | P3: 管理者名 | R3: 長門土木建築事務所 | W3: 緊急輸送道路 | Z3: 無
B4: 名 称 | D4: 大笹トンネル | W4: 代替路の有無 | Z4: 無
B5: 所在地 | D5: 自 | E5: 山口県長門市俵山 | H5: 作成者 | K5: 株式会社オリエンタルコンサルタンツ 妹尾 優大 | P5: 作成年月日 | R5: 45331 | U5: トンネル延長 | X5: L= | Z5: 228 | AB5: ｍ
D6: 至 | E6: 山口県長門市日置中 | U6: ﾄﾝﾈﾙの分類 | X6: 陸上トンネル（掘進工法）
B7: 起点 | C7: 緯度 | E7: 341942.3 | H7: 完成年月日 | K7: 23377 | M7: 舗装 | O7: 種 別 | Q7: コンクリート系 | S7: トンネル非常用施設 | T7: 施設の内訳 | X7: 種別・方式 | Y7: 型式 | Z7: 個数 | AA7: 更新年度 | AE7: =INT(E7/10000) -> 34 | AF7: =INT(E7/100)-AE7*100 -> 19 | AG7: =E7-AE7*10000-AF7*100 -> 42.3 | AH7: =ROUND(AE7+AF7/60+AG7/60/60,5) -> 34.32842 | AI7: =TEXT(AH7,"0.00000") -> 34.32842
C8: 経度 | E8: 1310707.9 | H8: 供用年月日 | O8: 厚 さ | T8: 通報設備 | U8: 通話型通報設備 | AE8: =INT(E8/10000) -> 131 | AF8: =INT(E8/100)-AE8*100 -> 7 | AG8: =E8-AE8*10000-AF8*100 -> 7.9 | AH8: =ROUND(AE8+AF8/60+AG8/60/60,5) -> 131.11886 | AI8: =TEXT(AH8,"0.00000") -> 131.11886
B9: 終点 | C9: 緯度 | E9: 341948.6 | H9: トンネル区分 | O9: 面 積 | Q9: 1254 | U9: 操作型通報設備
C10: 経度 | E10: 1310713 | H10: 内装種類 | K10: 覆工（内装なし） | O10: 更新年次 | U10: 自動通報設備
B11: 一般有料区分 | E11: 無料 | H11: 天井板種類 | M11: 排水 | O11: 種 別 | T11: 警報設備 | U11: 非常警報設備
B12: 土かぶり | G12: m | H12: 坑門 | I12: 起点 | J12: 形式 | K12: 面壁型 | O12: 更新年次 | T12: 消火設備 | U12: 消 火 器
B13: 内空断面積 | G13: ㎡ | J13: 延長 | L13: m | M13: 施設 | P13: 種別・方式 | Q13: 個数 | R13: 更新年次 | U13: 消火栓設備
B14: 交 通 量 | E14: 1963 | G14: 台/日 | I14: 終点 | J14: 形式 | K14: 面壁型 | M14: 道路附属物等 | N14: 照明 | Q14: 15 | T14: 避難誘導設備 | U14: 誘導表示設備
C15: 道 路 幅 | E15: 5.5 | G15: m | J15: 延長 | L15: m | N15: 換気 | U15: 避難情報提供設備
B16: 幅 員 | C16: 車 道 幅 | E16: 5.5 | G16: m | H16: 竣工巻厚 | I16: アーチ | L16: cm | N16: 標識
G17: m | I17: 側 壁 | L17: cm | N17: 警報表示板 | U17: 避難通路
C18: 歩道等幅 | E18: 0 | G18: m | L18: cm | N18: 吸音板 | U18: 排煙設備
B19: 高さ | C19: 建築限界高 | E19: 4.5 | G19: m | I19: インバート | L19: cm | T19: その他の設備 | U19: 給水栓設備
C20: 中央高 | G20: m | H20: 半径 | I20: アーチ | L20: cm | U20: 無線通信補助設備
C21: 有効高 | E21: 4.5 | G21: m | I21: 側 壁 | L21: cm | U21: 水噴霧設備
C22: 縦断勾配 | I22: インバート | L22: cm | U22: 監視設備
B23: 線 形 | C23: 直線区間長 | H23: 占用物件 | I23: 種 類 | K23: 寸 法 | M23: 管理者名 | Q23: 更新年次 | S23: 非常用施設 関連設備 | U23: 予備発電設備
C24: 曲線区間 | D24: 区間長
D25: 起点側ｸﾛｿｲﾄﾞ
D26: 曲線半径
D27: 終点側ｸﾛｿｲﾄﾞ | S27: その他 | U27: 非常駐車帯
B28: トンネル工法 | E28: 矢板工法 | U28: 方向転換所
C29: ※緯度・経度については、秒の少数第二位の単位まで記入すること。（例；36度20分35.56秒の場合、362035.36と入力）

Sheet 様式A-2
B3: ■トンネル台帳 トンネル情報一覧表 【様式A-2】
B4: フリガナ | E4: ='様式A-1'!D3 -> オオザサ | J4: 路線名 | M4: ='様式A-1'!J3 -> 一般県道俵山長門古市停車場線 | S4: 作成者 | Y4: ='様式A-1'!K5 -> 株式会社オリエンタルコンサルタンツ 妹尾 優大 | AE4: 作成年月日 | AI4: ='様式A-1'!R5 -> 45331
B5: 名 称 | E5: ='様式A-1'!D4 -> 大笹トンネル | J5: 管理者名 | M5: ='様式A-1'!R3 -> 長門土木建築事務所
B6: 覆工 ｽﾊﾟﾝ 番号 | C6: ｽﾊﾟﾝ長 | D6: 追加距離 | F6: トンネル本体工 | K6: 照明施設 | O6: 非常用施設 | AE6: 換気施設 | AK6: その他附属物等
O7: ='様式A-1'!T8 -> 通報設備 | R7: ='様式A-1'!T11 -> 警報設備 | S7: ='様式A-1'!T12 -> 消火設備 | U7: ='様式A-1'!T14 -> 避難誘導設備 | Y7: ='様式A-1'!T19 -> その他の設備 | AC7: 特記事項
D8: 起点側 | E8: 終点側 | F8: 特記事項 | I8: 内装板 | J8: 天井板 | K8: 基本照明 | L8: 入口出口照明 | M8: 特記事項 | O8: ='様式A-1'!U8 -> 通話型通報設備 | P8: ='様式A-1'!U9 -> 操作型通報設備 | Q8: ='様式A-1'!U10 -> 自動通報設備 | R8: ='様式A-1'!U11 -> 非常警報設備 | S8: ='様式A-1'!U12 -> 消 火 器 | T8: ='様式A-1'!U13 -> 消火栓設備 | U8: ='様式A-1'!U14 -> 誘導表示設備 | V8: ='様式A-1'!U15 -> 避難情報提供設備 | W8: ='様式A-1'!U17 -> 避難通路 | X8: ='様式A-1'!U18 -> 排煙設備 | Y8: ='様式A-1'!U19 -> 給水栓設備 | Z8: ='様式A-1'!U20 -> 無線通信補助設備 | AA8: ='様式A-1'!U21 -> 水噴霧設備 | AB8: ='様式A-1'!U22 -> 監視設備 | AE8: JF | AF8: VI計 | AG8: CO計 | AH8: 風向 風速計 | AI8: 特記事項
C9: (m) | D9: (m) | E9: (m)
B10: PS | D10: 0 | F10: 坑門(面壁型)
B11: S1 | C11: 10 | D11: 0 | E11: 10
B12: S2 | C12: 4.23 | D12: 10 | E12: 14.23
B13: S3 | C13: 4.39 | D13: 14.23 | E13: 18.62 | K13: ○
B14: S4 | C14: 3.26 | D14: 18.62 | E14: 21.88
B15: S5 | C15: 6.62 | D15: 21.88 | E15: 28.5 | K15: ○
B16: S6 | C16: 3.32 | D16: 28.5 | E16: 31.82
B17: S7 | C17: 3.32 | D17: 31.82 | E17: 35.14
B18: S8 | C18: 3.3 | D18: 35.14 | E18: 38.44 | K18: ○
B19: S9 | C19: 3.3 | D19: 38.44 | E19: 41.74
B20: S10 | C20: 3.27 | D20: 41.74 | E20: 45.01
B21: S11 | C21: 6.1 | D21: 45.01 | E21: 51.11
B22: S12 | C22: 3.35 | D22: 51.11 | E22: 54.46 | K22: ○
B23: S13 | C23: 3.28 | D23: 54.46 | E23: 57.74
B24: S14 | C24: 3.35 | D24: 57.74 | E24: 61.09
B25: S15 | C25: 5.5 | D25: 61.09 | E25: 66.59 | K25: ○
B26: S16 | C26: 4.42 | D26: 66.59 | E26: 71.01
B27: S17 | C27: 4.4 | D27: 71.01 | E27: 75.41
B28: S18 | C28: 3.3 | D28: 75.41 | E28: 78.71
B29: S19 | C29: 3.3 | D29: 78.71 | E29: 82.01
B30: S20 | C30: 4.4 | D30: 82.01 | E30: 86.41
B31: S21 | C31: 4.4 | D31: 86.41 | E31: 90.81
B32: S22 | C32: 5.55 | D32: 90.81 | E32: 96.36 | K32: ○
B33: S23 | C33: 5.4 | D33: 96.36 | E33: 101.76
B34: S24 | C34: 3.3 | D34: 101.76 | E34: 105.06
B35: S25 | C35: 4.42 | D35: 105.06 | E35: 109.48 | K35: ○
B36: S26 | C36: 2.18 | D36: 109.48 | E36: 111.66
B37: S27 | C37: 10 | D37: 111.66 | E37: 121.66
B38: S28 | C38: 10 | D38: 121.66 | E38: 131.66
B39: S29 | C39: 4.35 | D39: 131.66 | E39: 136.01
B40: S30 | C40: 4.43 | D40: 136.01 | E40: 140.44 | K40: ○
B41: 31 | C41: 3.27 | D41: 140.44 | E41: 143.71
B42: 32 | C42: 3.31 | D42: 143.71 | E42: 147.02
B43: 33 | C43: 3.2 | D43: 147.02 | E43: 150.22 | K43: ○
B44: S34 | C44: 10 | D44: 150.22 | E44: 160.22
B45: S35 | C45: 10 | D45: 160.22 | E45: 170.22 | K45: ○
B46: S36 | C46: 10 | D46: 170.22 | E46: 180.22 | K46: ○
B47: S37 | C47: 10 | D47: 180.22 | E47: 190.22
B48: S38 | C48: 10 | D48: 190.22 | E48: 200.22 | K48: ○
B49: S39 | C49: 10 | D49: 200.22 | E49: 210.22 | K49: ○
B50: S40 | C50: 10 | D50: 210.22 | E50: 220.22 | K50: ○
B51: S41 | C51: 7.79 | D51: 220.22 | E51: 228.01 | K51: ○
B52: PE | F52: 坑門(面壁型)
B80: ※ 行が不足する場合は、適時、表の行を増やすこと。

Sheet 様式A-3
B3: ■トンネル台帳 トンネル記録（位置図、断面図、施工実績他）【様式A-3】
B4: フリガナ | E4: ='様式A-1'!D3 -> オオザサ | J4: 路線名 | M4: ='様式A-1'!J3 -> 一般県道俵山長門古市停車場線 | S4: 作成者 | W4: ='様式A-1'!K5 -> 株式会社オリエンタルコンサルタンツ 妹尾 優大 | AC4: 作成年月日 | AF4: ='様式A-1'!R5 -> 45331
B5: 名 称 | E5: ='様式A-1'!D4 -> 大笹トンネル | J5: 管理者名 | M5: ='様式A-1'!R3 -> 長門土木建築事務所
B6: 位置図・現況写真・標準断面図・地質縦断図・施工実績

Sheet 様式B
B2: ■定期点検記録様式 トンネル変状・異常箇所写真位置図 【様式B】 | T2: トンネルID | V2: 34.32556,131.12108
B3: フリガナ | D3: オオザサ | H3: 路線名 | J3: 一般県道俵山長門古市停車場線 | N3: 管理者名 | P3: 長門土木建築事務所 | T3: 緊急輸送道路 | V3: 無
B4: 名 称 | D4: 大笹トンネル | T4: 代替路の有無 | V4: 無
B5: 所在地 | D5: 自 | E5: 山口県長門市俵山 | H5: 定期点検業者 | K5: 株式会社オリエンタルコンサルタンツ | O5: 定期点検年月日 | Q5: 45271 | T5: トンネル延長 | V5: L= | W5: ='様式A-1'!Z5 -> 228 | Y5: ｍ
D6: 至 | E6: 山口県長門市日置中 | H6: 定期点検者名 | K6: 妹尾 優大 | T6: ﾄﾝﾈﾙの分類 | V6: 陸上トンネル（掘進工法）
B7: 起点 | C7: 緯度 | D7: 341942.3 | F7: 変状・異常 箇所数合計 | H7: トンネル 本体工 | J7: 材質劣化 | L7: Ⅱ | M7: 58 | N7: Ⅲ | O7: 3 | P7: Ⅳ | R7: トンネル毎 の健全性 | T7: Ⅲ | V7: 附属物の 取付状態 | W7: ◯ （応急措置後） | Y7: 3
C10: 経度 | D10: 1310707.9
J11: 漏水 | L11: Ⅱ | M11: 22 | N11: Ⅲ | P11: Ⅳ
B13: 終点 | C13: 緯度 | D13: 341948.6 | W13: ✕ | Y13: 27
J15: 外力 | L15: Ⅱ | N15: Ⅲ | P15: Ⅳ | AC15: 0
C16: 経度 | D16: 1310713
B19: トンネル変状・異常箇所写真位置図
P26: 注１：本位置図は、見下げた状態で記載すること。 注２：覆工スパン番号は横断目地毎(矢板工法の場合は上半アーチ の横断目地毎)に設定すること。 注３：写真番号に付する変状番号は、各覆工スパンの変状に対して新た に確認された場合は順次追加していくこと。 注４：横断目地の変状は前の覆工スパン番号で計上すること。 注５：１枚に収まらない場合は、複数枚に分けて作成すること。
C28: ※1 トンネル本体工の変状数は、材質劣化、漏水に起因するものは変状単位で、外力に起因するものはスパン単位で計上すること。
C29: ※2 本体工の変状に対しては、健全性の判定区分Ⅱ～Ⅳについて表記すること。なお、初回点検（H26以降）以降に、措置が行われた結果、
C30: Ⅰと判定された箇所についても記載すること。
C31: ※3 附属物の取付状態の○欄については、応急措置前に判定区分×とした箇所のうち応急措置により○判定とした箇所の数を記入すること。
C32: ※4 附属物の異常番号は、本体工と番号が重複しないよう101番以降とする等の配慮を行い、分かりやすく記録すること。

Sheet 様式B (2)
B2: ■定期点検記録様式 トンネル変状・異常箇所写真位置図 【様式B】 | T2: トンネルID | V2: 34.32556,131.12108
B3: フリガナ | D3: オオザサ | H3: 路線名 | J3: 一般県道俵山長門古市停車場線 | N3: 管理者名 | P3: 長門土木建築事務所 | T3: 緊急輸送道路 | V3: 無
B4: 名 称 | D4: 大笹トンネル | T4: 代替路の有無 | V4: 無
B5: 所在地 | D5: 自 | E5: 山口県長門市俵山 | H5: 定期点検業者 | K5: 株式会社オリエンタルコンサルタンツ | O5: 定期点検年月日 | Q5: 45271 | T5: トンネル延長 | V5: L= | W5: ='様式A-1'!Z5 -> 228 | Y5: ｍ
D6: 至 | E6: 山口県長門市日置中 | H6: 定期点検者名 | K6: 妹尾 優大 | T6: ﾄﾝﾈﾙの分類 | V6: 陸上トンネル（掘進工法）
B7: 起点 | C7: 緯度 | D7: 341942.3 | F7: 変状・異常 箇所数合計 | H7: トンネル 本体工 | J7: 材質劣化 | L7: Ⅱ | M7: 58 | N7: Ⅲ | O7: 3 | P7: Ⅳ | R7: トンネル毎 の健全性 | T7: Ⅲ | V7: 附属物の 取付状態 | W7: ◯ （応急措置後） | Y7: 3
C10: 経度 | D10: 1310707.9
J11: 漏水 | L11: Ⅱ | M11: 22 | N11: Ⅲ | P11: Ⅳ
B13: 終点 | C13: 緯度 | D13: 341948.6 | W13: ✕ | Y13: 27
J15: 外力 | L15: Ⅱ | N15: Ⅲ | P15: Ⅳ | AC15: 0
C16: 経度 | D16: 1310713
B19: トンネル変状・異常箇所写真位置図
P26: 注１：本位置図は、見下げた状態で記載すること。 注２：覆工スパン番号は横断目地毎(矢板工法の場合は上半アーチ の横断目地毎)に設定すること。 注３：写真番号に付する変状番号は、各覆工スパンの変状に対して新た に確認された場合は順次追加していくこと。 注４：横断目地の変状は前の覆工スパン番号で計上すること。 注５：１枚に収まらない場合は、複数枚に分けて作成すること。
C28: ※1 トンネル本体工の変状数は、材質劣化、漏水に起因するものは変状単位で、外力に起因するものはスパン単位で計上すること。
C29: ※2 本体工の変状に対しては、健全性の判定区分Ⅱ～Ⅳについて表記すること。なお、初回点検（H26以降）以降に、措置が行われた結果、
C30: Ⅰと判定された箇所についても記載すること。
C31: ※3 附属物の取付状態の○欄については、応急措置前に判定区分×とした箇所のうち応急措置により○判定とした箇所の数を記入すること。
C32: ※4 附属物の異常番号は、本体工と番号が重複しないよう101番以降とする等の配慮を行い、分かりやすく記録すること。

Sheet 様式B (3)
B2: ■定期点検記録様式 トンネル変状・異常箇所写真位置図 【様式B】 | T2: トンネルID | V2: 34.32556,131.12108
B3: フリガナ | D3: オオザサ | H3: 路線名 | J3: 一般県道俵山長門古市停車場線 | N3: 管理者名 | P3: 長門土木建築事務所 | T3: 緊急輸送道路 | V3: 無
B4: 名 称 | D4: 大笹トンネル | T4: 代替路の有無 | V4: 無
B5: 所在地 | D5: 自 | E5: 山口県長門市俵山 | H5: 定期点検業者 | K5: 株式会社オリエンタルコンサルタンツ | O5: 定期点検年月日 | Q5: 45271 | T5: トンネル延長 | V5: L= | W5: ='様式A-1'!Z5 -> 228 | Y5: ｍ
D6: 至 | E6: 山口県長門市日置中 | H6: 定期点検者名 | K6: 妹尾 優大 | T6: ﾄﾝﾈﾙの分類 | V6: 陸上トンネル（掘進工法）
B7: 起点 | C7: 緯度 | D7: 341942.3 | F7: 変状・異常 箇所数合計 | H7: トンネル 本体工 | J7: 材質劣化 | L7: Ⅱ | M7: 58 | N7: Ⅲ | O7: 3 | P7: Ⅳ | R7: トンネル毎 の健全性 | T7: Ⅲ | V7: 附属物の 取付状態 | W7: ◯ （応急措置後） | Y7: 3
C10: 経度 | D10: 1310707.9
J11: 漏水 | L11: Ⅱ | M11: 22 | N11: Ⅲ | P11: Ⅳ
B13: 終点 | C13: 緯度 | D13: 341948.6 | W13: ✕ | Y13: 27
J15: 外力 | L15: Ⅱ | N15: Ⅲ | P15: Ⅳ | AC15: 0
C16: 経度 | D16: 1310713
B19: トンネル変状・異常箇所写真位置図
P26: 注１：本位置図は、見下げた状態で記載すること。 注２：覆工スパン番号は横断目地毎(矢板工法の場合は上半アーチ の横断目地毎)に設定すること。 注３：写真番号に付する変状番号は、各覆工スパンの変状に対して新た に確認された場合は順次追加していくこと。 注４：横断目地の変状は前の覆工スパン番号で計上すること。 注５：１枚に収まらない場合は、複数枚に分けて作成すること。
C28: ※1 トンネル本体工の変状数は、材質劣化、漏水に起因するものは変状単位で、外力に起因するものはスパン単位で計上すること。
C29: ※2 本体工の変状に対しては、健全性の判定区分Ⅱ～Ⅳについて表記すること。なお、初回点検（H26以降）以降に、措置が行われた結果、
C30: Ⅰと判定された箇所についても記載すること。
C31: ※3 附属物の取付状態の○欄については、応急措置前に判定区分×とした箇所のうち応急措置により○判定とした箇所の数を記入すること。
C32: ※4 附属物の異常番号は、本体工と番号が重複しないよう101番以降とする等の配慮を行い、分かりやすく記録すること。

Sheet 様式C-1-1
B2: ■定期点検記録様式 全スパン定期点検結果総括表（トンネル本体工） 【様式C-1-1】
B3: フリガナ | F3: オオザサ | I3: 路線名 | K3: 一般県道俵山長門古市停車場線 | O3: 定期点検業者 | Q3: 株式会社オリエンタルコンサルタンツ | U3: 定期点検年月日 | Y3: 45271
B4: 名 称 | F4: 大笹トンネル | I4: 管理者名 | K4: 長門土木建築事務所 | O4: 定期点検者名 | Q4: 妹尾 優大
C5: 覆工 スパン 番号 | E5: 変状 番号 | F5: 距離 （m） | G5: 変状部位 | I5: 変 状 の 内 容 | O5: 前回定期点検時の状態 | Q5: 今回定期点検結果 | U5: 措置履歴 | Z5: 対応方針 ・ 特記事項
G7: 対象箇所 | H7: 部位区分 | I7: 変状区分 | J7: 変状種類 | M7: 変状の発生範囲の規模 | N7: 前回定期点検時 との比較 | O7: 状態 | P7: 健全性 | Q7: 対策区分 | S7: 調査の 要否 | T7: 措置の 要否 | U7: 実施 | V7: 措置の実施状況
Q8: 応急措置前 | R8: 応急措置後
B9: 定期点検結果 | C9: PS | E9: 1 | G9: 覆工・坑門 | H9: 面壁・妻壁等 | I9: 漏水 | J9: 漏水 | M9: 4.8m×1.0m | N9: 進行が認められない | O9: Ⅱb | P9: Ⅱ | R9: Ⅱb | S9: 要 | T9: 要監視 | U9: 継続 | V9: 監視(日常巡視) | Z9: にじみ
C10: PS | E10: 2 | G10: 覆工・坑門 | H10: 面壁・妻壁等 | I10: 材質劣化 | J10: うき・はく離 | M10: 0.05m×0.4m | N10: 進行が認められない | O10: Ⅲ | P10: Ⅲ | R10: Ⅲ | S10: 要 | T10: 要対策 | U10: 継続 | V10: 監視(重点) | Z10: うき
C11: PS | E11: 3 | G11: 覆工・坑門 | H11: 面壁・妻壁等 | I11: 材質劣化 | J11: うき・はく離 | M11: 0.05m×0.2m | N11: 進行が認められない | O11: Ⅲ | P11: Ⅲ | R11: Ⅲ | S11: 要 | T11: 要対策 | U11: 継続 | V11: 監視(重点) | Z11: うき
C12: PS | E12: 4 | G12: 覆工・坑門 | H12: 面壁・妻壁等 | I12: 材質劣化 | J12: うき・はく離 | M12: 0.05m×0.05m | N12: 進行が認められない | O12: Ⅱb | P12: Ⅱ | R12: Ⅱb | S12: 要 | T12: 要監視 | U12: 継続 | V12: 監視(日常巡視) | Z12: はく落
C13: PS | E13: 5 | G13: 覆工・坑門 | H13: 面壁・妻壁等 | I13: 漏水 | J13: 漏水 | M13: 4.9m×0.75m | N13: 進行が認められない | O13: Ⅱb | P13: Ⅱ | R13: Ⅱb | S13: 要 | T13: 要監視 | U13: 継続 | V13: 監視(日常巡視) | Z13: にじみ
C14: S001 | E14: 1 | F14: 10 | G14: 覆工・坑門 | H14: 側壁（左側） | I14: 材質劣化 | J14: うき・はく離 | M14: 0.1m×1.3m | N14: 進行が認められない | O14: Ⅱb | P14: Ⅱ | R14: Ⅱb | S14: 要 | T14: 要監視 | U14: 継続 | V14: 監視(日常巡視) | Z14: はく落
C15: S001 | E15: 2 | F15: 10 | G15: 覆工・坑門 | H15: 側壁（左側） | I15: 材質劣化 | J15: うき・はく離 | M15: 1.4m×0.2m | N15: 進行が認められる | O15: Ⅱb | P15: Ⅱ | R15: Ⅱb | S15: 要 | T15: 要監視 | U15: 継続 | V15: 監視(日常巡視) | Z15: はく落
C16: S001 | E16: 3 | F16: 10 | G16: 覆工・坑門 | H16: 側壁（左側） | I16: 材質劣化 | J16: うき・はく離 | M16: 1.8m×9.5m | N16: 新規確認 | O16: － | P16: － | R16: Ⅱb | S16: 要 | T16: 要監視 | U16: 継続 | V16: 監視(日常巡視) | Z16: うき
C17: S001 | E17: 4 | F17: 10 | G17: 覆工・坑門 | H17: アーチ（左側） | I17: 材質劣化 | J17: うき・はく離 | M17: 0.6m×0.2m | N17: 新規確認 | O17: － | P17: － | R17: Ⅱa | S17: 要 | T17: 要監視 | U17: 継続 | V17: 監視(日常巡視) | Z17: うき
C18: S001 | E18: 5 | F18: 10 | G18: 覆工・坑門 | H18: アーチ（左側） | I18: 漏水 | J18: 漏水 | M18: 対策済 | N18: 対策済 | O18: Ⅱb | P18: Ⅱ | R18: Ⅰ | S18: 否 | T18: 否 | U18: 済 | V18: 導水工新設により対策済
C19: S001 | E19: 6 | F19: 10 | G19: 覆工・坑門 | H19: アーチ（左側） | I19: 材質劣化 | J19: うき・はく離 | M19: 4.0m×6.0m | N19: 進行が認められる | O19: Ⅱa | P19: Ⅱ | R19: Ⅱa | S19: 要 | T19: 要監視 | U19: 継続 | V19: 監視(日常巡視) | Z19: うき
C20: S001 | E20: 7 | F20: 10 | G20: 覆工・坑門 | H20: アーチ（左側） | I20: 漏水 | J20: 漏水 | M20: - | N20: - | O20: Ⅱb | P20: Ⅱ | R20: Ⅰ | S20: 否 | T20: 否 | U20: 済 | V20: - | Z20: 漏水跡
C21: S001 | E21: 8 | F21: 10 | G21: 覆工・坑門 | H21: アーチ（左側） | I21: 漏水 | J21: 漏水 | M21: 6.2m×0.5m | N21: 新規確認 | O21: － | P21: － | R21: Ⅱa | S21: 要 | T21: 要監視 | U21: 継続 | V21: 監視(日常巡視) | Z21: 滴水
C22: S001 | E22: 9 | F22: 10 | G22: 覆工・坑門 | H22: アーチ（左側） | I22: 漏水 | J22: 漏水 | M22: 4.5m×0.5m | N22: 新規確認 | O22: － | P22: － | R22: Ⅱb | S22: 要 | T22: 要監視 | U22: 継続 | V22: 監視(日常巡視) | Z22: にじみ
C23: S001 | E23: 10 | F23: 10 | G23: 覆工・坑門 | H23: アーチ（左側） | I23: 材質劣化 | J23: うき・はく離 | M23: 4.0m×6.5m | N23: 新規確認 | O23: － | P23: － | R23: Ⅱa | S23: 要 | T23: 要監視 | U23: 継続 | V23: 監視(日常巡視) | Z23: うき
C24: S001 | E24: 11 | F24: 10 | G24: 覆工・坑門 | H24: アーチ（右側） | I24: 材質劣化 | J24: うき・はく離 | M24: 3.0m×3.7m | N24: 新規確認 | O24: － | P24: － | R24: Ⅱa | S24: 要 | T24: 要監視 | U24: 継続 | V24: 監視(日常巡視) | Z24: うき
C25: S001 | E25: 12 | F25: 10 | G25: 覆工・坑門 | H25: アーチ（天端） | I25: 漏水 | J25: 漏水 | M25: 対策済 | N25: 対策済 | O25: Ⅲ | P25: Ⅲ | R25: Ⅰ | S25: 否 | T25: 否 | U25: 済 | V25: 導水工新設により対策済
C26: S001 | E26: 13 | F26: 10 | G26: 覆工・坑門 | H26: アーチ（右側） | I26: 漏水 | J26: 漏水 | M26: 5.5m×0.5m | N26: 新規確認 | O26: － | P26: － | R26: Ⅱa | S26: 要 | T26: 要監視 | U26: 継続 | V26: 監視(日常巡視) | Z26: 滴水
C27: S001 | E27: 14 | F27: 10 | G27: 覆工・坑門 | H27: アーチ（右側） | I27: 漏水 | J27: 漏水 | M27: 4.5m×0.5m | N27: 進行が認められない | O27: Ⅱb | P27: Ⅱ | R27: Ⅱb | S27: 要 | T27: 要監視 | U27: 継続 | V27: 監視(日常巡視) | Z27: にじみ
C28: S001 | E28: 15 | F28: 10 | G28: 路面 | H28: 側溝 | I28: 漏水 | J28: 滞水 | M28: 0.6m×6.5m | N28: 進行が認められない | O28: Ⅱb | P28: Ⅱ | R28: － | S28: 要 | T28: 要監視 | U28: 継続 | V28: 監視(日常巡視) | Z28: 滞水
C29: S001 | E29: 16 | F29: 10 | G29: 路面 | H29: 車道 | I29: 漏水 | J29: 滞水 | M29: 0.8m×0.8m | N29: 進行が認められない | O29: Ⅲ | P29: Ⅲ | R29: － | S29: 要 | T29: 要監視 | U29: 継続 | V29: 監視(日常巡視) | Z29: 滞水
C30: S001 | E30: 17 | F30: 10 | G30: 路面 | H30: 側溝 | I30: 漏水 | J30: 滞水 | M30: 0.9m×5.0m | N30: 進行が認められない | O30: Ⅱb | P30: Ⅱ | R30: － | S30: 要 | T30: 要監視 | U30: 継続 | V30: 監視(日常巡視) | Z30: 滞水
C31: S002 | E31: 1 | F31: 4.23 | G31: 覆工・坑門 | H31: 側壁（左側） | I31: 材質劣化 | J31: うき・はく離 | M31: 1.8m×1.4m | N31: 新規確認 | O31: － | P31: － | R31: Ⅱb | S31: 要 | T31: 要監視 | U31: 継続 | V31: 監視(日常巡視) | Z31: うき
C32: S002 | E32: 2 | F32: 4.23 | G32: 覆工・坑門 | H32: アーチ（右側） | I32: 材質劣化 | J32: うき・はく離 | M32: 2.6m×2.5m | N32: 新規確認 | O32: － | P32: － | R32: Ⅱa | S32: 要 | T32: 要監視 | U32: 継続 | V32: 監視(日常巡視) | Z32: うき
C33: S002 | E33: 3 | F33: 4.23 | G33: 路面 | H33: 側溝 | I33: 漏水 | J33: 滞水 | M33: - | N33: - | O33: Ⅲ | P33: Ⅲ | R33: － | S33: 否 | T33: 否 | U33: 済 | V33: - | Z33: 滞水跡
C34: S002 | E34: 4 | F34: 4.23 | G34: 路面 | H34: 車道 | I34: 漏水 | J34: 滞水 | M34: - | N34: - | O34: Ⅲ | P34: Ⅲ | R34: － | S34: 否 | T34: 否 | U34: 済 | V34: - | Z34: 滞水跡
C35: S003 | E35: 1 | F35: 4.39 | G35: 覆工・坑門 | H35: 側壁（左側） | I35: 漏水 | J35: 漏水 | M35: 0.5m×0.5m | N35: 進行が認められない | O35: Ⅱb | P35: Ⅱ | R35: Ⅱb | S35: 要 | T35: 要監視 | U35: 継続 | V35: 監視(日常巡視) | Z35: にじみ
C36: S003 | E36: 2 | F36: 4.39 | G36: 覆工・坑門 | H36: アーチ（左側） | I36: 漏水 | J36: 漏水 | M36: 対策済 | N36: 対策済 | O36: Ⅱb | P36: Ⅱ | R36: Ⅰ | S36: 否 | T36: 否 | U36: 済 | V36: 導水工新設により対策済
C37: S003 | E37: 3 | F37: 4.39 | G37: 覆工・坑門 | H37: 横断目地（右側） | I37: 材質劣化 | J37: うき・はく離 | M37: 対策済 | N37: 対策済 | O37: Ⅲ | P37: Ⅲ | R37: Ⅰ | S37: 否 | T37: 否 | U37: 済 | V37: 導水工新設により対策済
C38: S003 | E38: 4 | F38: 4.39 | G38: 覆工・坑門 | H38: アーチ（右側） | I38: 材質劣化 | J38: その他 | M38: 0.2m×0.2m | N38: 進行が認められない | O38: Ⅱb | P38: Ⅱ | R38: Ⅱb | S38: 要 | T38: 要監視 | U38: 継続 | V38: 監視(日常巡視) | Z38: 異物混入(木片)
C39: S003 | E39: 5 | F39: 4.39 | G39: 覆工・坑門 | H39: アーチ（右側） | I39: 漏水 | J39: 漏水 | M39: 対策済 | N39: 対策済 | O39: Ⅱb | P39: Ⅱ | R39: Ⅰ | S39: 否 | T39: 否 | U39: 済 | V39: 導水工新設により対策済
C40: S003 | E40: 6 | F40: 4.39 | G40: 覆工・坑門 | H40: アーチ（右側） | I40: 材質劣化 | J40: うき・はく離 | M40: 対策済 | N40: 対策済 | O40: Ⅱa | P40: Ⅱ | R40: Ⅰ | S40: 否 | T40: 否 | U40: 済 | V40: 導水工新設により対策済
C41: S003 | E41: 7 | F41: 4.39 | G41: 路面 | H41: 側溝 | I41: 漏水 | J41: 滞水 | M41: 0.4m×0.9m | N41: 進行が認められない | O41: Ⅲ | P41: Ⅲ | R41: － | S41: 要 | T41: 要監視 | U41: 継続 | V41: 監視(日常巡視) | Z41: 滞水
C42: S003 | E42: 8 | F42: 4.39 | G42: 路面 | H42: 側溝 | I42: 漏水 | J42: 滞水 | M42: 0.3m×1.2m | N42: 進行が認められない | O42: Ⅲ | P42: Ⅲ | R42: － | S42: 要 | T42: 要監視 | U42: 継続 | V42: 監視(日常巡視) | Z42: 滞水
C43: S004 | E43: 1 | F43: 3.26 | G43: 覆工・坑門 | H43: アーチ（左側） | I43: 漏水 | J43: 漏水 | M43: 3.6m×1.0m | N43: 進行が認められない | O43: Ⅱb | P43: Ⅱ | R43: Ⅱb | S43: 要 | T43: 要監視 | U43: 継続 | V43: 監視(日常巡視) | Z43: にじみ
C44: S004 | E44: 2 | F44: 3.26 | G44: 覆工・坑門 | H44: アーチ（左側） | I44: 材質劣化 | J44: その他 | M44: 0.2m×0.05m | N44: 進行が認められない | O44: Ⅱb | P44: Ⅱ | R44: Ⅱb | S44: 要 | T44: 要監視 | U44: 継続 | V44: 監視(日常巡視) | Z44: 異物混入(木片)
C45: S004 | E45: 3 | F45: 3.26 | G45: 路面 | H45: 側溝 | I45: 漏水 | J45: 滞水 | M45: 0.3m×1.7m | N45: 進行が認められない | O45: Ⅲ | P45: Ⅲ | R45: － | S45: 要 | T45: 要監視 | U45: 継続 | V45: 監視(日常巡視) | Z45: 滞水
C46: S005 | E46: 1 | F46: 6.62 | G46: 覆工・坑門 | H46: 水平打ち継ぎ目（左側） | I46: 材質劣化 | J46: うき・はく離 | M46: 0.1m×0.2m | N46: 進行が認められない | O46: Ⅱa | P46: Ⅱ | R46: Ⅱa | S46: 要 | T46: 要監視 | U46: 継続 | V46: 監視(日常巡視) | Z46: うき
C47: S005 | E47: 2 | F47: 6.62 | G47: 覆工・坑門 | H47: 水平打ち継ぎ目（左側） | I47: 材質劣化 | J47: うき・はく離 | M47: 対策済 | N47: 対策済 | O47: Ⅱb | P47: Ⅱ | R47: Ⅰ | S47: 否 | T47: 否 | U47: 済 | V47: はく落防止工を実施
C48: S005 | E48: 3 | F48: 6.62 | G48: 覆工・坑門 | H48: アーチ（左側） | I48: 材質劣化 | J48: うき・はく離 | M48: 0.05m×0.4m | N48: 進行が認められない | O48: Ⅲ | P48: Ⅲ | R48: Ⅱb | S48: 要 | T48: 要監視 | U48: 継続 | V48: 監視(日常巡視) | Z48: はく落
C49: S005 | E49: 4 | F49: 6.62 | G49: 覆工・坑門 | H49: アーチ（左側） | I49: 材質劣化 | J49: うき・はく離 | M49: 対策済 | N49: 対策済 | O49: Ⅱa | P49: Ⅱ | R49: Ⅰ | S49: 否 | T49: 否 | U49: 済 | V49: はく落防止工を実施
C50: S005 | E50: 5 | F50: 6.62 | G50: 覆工・坑門 | H50: アーチ（右側） | I50: 材質劣化 | J50: うき・はく離 | M50: 対策済 | N50: 対策済 | O50: Ⅱa | P50: Ⅱ | R50: Ⅰ | S50: 否 | T50: 否 | U50: 済 | V50: はく落防止工を実施
C51: S005 | E51: 6 | F51: 6.62 | G51: 覆工・坑門 | H51: アーチ（右側） | I51: 材質劣化 | J51: うき・はく離 | M51: 対策済 | N51: 対策済 | O51: Ⅲ | P51: Ⅲ | R51: Ⅰ | S51: 否 | T51: 否 | U51: 済 | V51: はく落防止工を実施
C52: S005 | E52: 7 | F52: 6.62 | G52: 覆工・坑門 | H52: アーチ（右側） | I52: 漏水 | J52: 漏水 | M52: 対策済 | N52: 対策済 | O52: Ⅱb | P52: Ⅱ | R52: Ⅰ | S52: 否 | T52: 否 | U52: 済 | V52: 導水工新設により対策済
C53: S005 | E53: 8 | F53: 6.62 | G53: 覆工・坑門 | H53: 水平打ち継ぎ目（右側） | I53: 材質劣化 | J53: うき・はく離 | M53: 0.1m×5.6m | N53: 進行が認められる | O53: Ⅱa | P53: Ⅱ | R53: Ⅱa | S53: 要 | T53: 要監視 | U53: 継続 | V53: 監視(日常巡視) | Z53: うき
C54: S005 | E54: 9 | F54: 6.62 | G54: 路面 | H54: 車道 | I54: 漏水 | J54: 滞水 | M54: - | N54: - | O54: Ⅲ | P54: Ⅲ | R54: － | S54: 否 | T54: 否 | U54: 済 | V54: - | Z54: 滞水跡
C55: S006 | E55: 1 | F55: 3.32 | G55: 覆工・坑門 | H55: 水平打ち継ぎ目（左側） | I55: 材質劣化 | J55: うき・はく離 | M55: 0.25m×0.45m | N55: 新規確認 | O55: － | P55: － | R55: Ⅱa | S55: 要 | T55: 要監視 | U55: 継続 | V55: 監視(日常巡視) | Z55: うき
C56: S006 | E56: 2 | F56: 3.32 | G56: 覆工・坑門 | H56: アーチ（左側） | I56: 材質劣化 | J56: うき・はく離 | M56: 対策済 | N56: 対策済 | O56: Ⅲ | P56: Ⅲ | R56: Ⅰ | S56: 否 | T56: 否 | U56: 済 | V56: はく落防止工を実施
C57: S006 | E57: 3 | F57: 3.32 | G57: 覆工・坑門 | H57: 側壁（右側） | I57: 材質劣化 | J57: うき・はく離 | M57: 対策済 | N57: 対策済 | O57: Ⅱb | P57: Ⅱ | R57: Ⅰ | S57: 否 | T57: 否 | U57: 済 | V57: 導水工新設により対策済
C58: S006 | E58: 4 | F58: 3.32 | G58: 路面 | H58: 車道 | I58: 漏水 | J58: 滞水 | M58: - | N58: - | O58: Ⅲ | P58: Ⅲ | R58: － | S58: 否 | T58: 否 | U58: 済 | V58: - | Z58: 滞水跡
C59: S006 | E59: 5 | F59: 3.32 | G59: 路面 | H59: 車道 | I59: 漏水 | J59: 滞水 | M59: - | N59: - | O59: Ⅲ | P59: Ⅲ | R59: － | S59: 否 | T59: 否 | U59: 済 | V59: - | Z59: 滞水跡
C60: S007 | E60: 1 | F60: 3.32 | G60: 覆工・坑門 | H60: 水平打ち継ぎ目（左側） | I60: 材質劣化 | J60: うき・はく離 | M60: 0.2m×0.55m | N60: 新規確認 | O60: － | P60: － | R60: Ⅱa | S60: 要 | T60: 要監視 | U60: 継続 | V60: 監視(日常巡視) | Z60: うき
C61: S007 | E61: 2 | F61: 3.32 | G61: 覆工・坑門 | H61: 横断目地（左側） | I61: 漏水 | J61: 漏水 | M61: 対策済 | N61: 対策済 | O61: Ⅱb | P61: Ⅱ | R61: Ⅰ | S61: 否 | T61: 否 | U61: 済 | V61: 導水工新設により対策済
C62: S007 | E62: 3 | F62: 3.32 | G62: 覆工・坑門 | H62: アーチ（左側） | I62: 材質劣化 | J62: うき・はく離 | M62: 対策済 | N62: 対策済 | O62: Ⅲ | P62: Ⅲ | R62: Ⅰ | S62: 否 | T62: 否 | U62: 済 | V62: はく落防止工を実施
C63: S007 | E63: 4 | F63: 3.32 | G63: 覆工・坑門 | H63: アーチ（右側） | I63: 材質劣化 | J63: うき・はく離 | M63: 対策済 | N63: 対策済 | O63: Ⅲ | P63: Ⅲ | R63: Ⅰ | S63: 否 | T63: 否 | U63: 済 | V63: はく落防止工を実施
C64: S007 | E64: 5 | F64: 3.32 | G64: 覆工・坑門 | H64: 水平打ち継ぎ目（右側） | I64: 漏水 | J64: 漏水 | M64: 対策済 | N64: 対策済 | O64: Ⅱb | P64: Ⅱ | R64: Ⅰ | S64: 否 | T64: 否 | U64: 済 | V64: 導水工新設により対策済
C65: S007 | E65: 6 | F65: 3.32 | G65: 路面 | H65: 側溝 | I65: 漏水 | J65: 滞水 | M65: 0.5m×1.0m | N65: 新規確認 | O65: － | P65: － | R65: － | S65: 要 | T65: 要監視 | U65: 継続 | V65: 監視(日常巡視) | Z65: 滞水
C66: S007 | E66: 7 | F66: 3.32 | G66: 路面 | H66: 車道 | I66: 漏水 | J66: 滞水 | M66: - | N66: - | O66: Ⅲ | P66: Ⅲ | R66: － | S66: 否 | T66: 否 | U66: 済 | V66: - | Z66: 滞水跡
C67: S008 | E67: 1 | F67: 3.3 | G67: 覆工・坑門 | H67: 横断目地（左側） | I67: 材質劣化 | J67: うき・はく離 | M67: 対策済 | N67: 対策済 | O67: Ⅲ | P67: Ⅲ | R67: Ⅰ | S67: 否 | T67: 否 | U67: 済 | V67: 導水工新設により対策済
C68: S008 | E68: 2 | F68: 3.3 | G68: 覆工・坑門 | H68: 水平打ち継ぎ目（右側） | I68: 材質劣化 | J68: うき・はく離 | M68: 0.2m×1.0m | N68: 進行が認められない | O68: Ⅱa | P68: Ⅱ | R68: Ⅱa | S68: 要 | T68: 要監視 | U68: 継続 | V68: 監視(日常巡視) | Z68: うき
C69: S008 | E69: 3 | F69: 3.3 | G69: 覆工・坑門 | H69: 水平打ち継ぎ目（右側） | I69: 漏水 | J69: 漏水 | M69: 2.0m×0.5m | N69: 進行が認められない | O69: Ⅱb | P69: Ⅱ | R69: Ⅱb | S69: 要 | T69: 要監視 | U69: 継続 | V69: 監視(日常巡視) | Z69: にじみ
C70: S008 | E70: 4 | F70: 3.3 | G70: 覆工・坑門 | H70: 水平打ち継ぎ目（右側） | I70: 材質劣化 | J70: うき・はく離 | M70: 対策済 | N70: 対策済 | O70: Ⅱb | P70: Ⅱ | R70: Ⅰ | S70: 否 | T70: 否 | U70: 済 | V70: 導水工新設により対策済
C71: S009 | E71: 1 | F71: 3.3 | G71: 覆工・坑門 | H71: 横断目地（左側） | I71: 材質劣化 | J71: うき・はく離 | M71: 対策済 | N71: 対策済 | O71: Ⅱa | P71: Ⅱ | R71: Ⅰ | S71: 否 | T71: 否 | U71: 済 | V71: 導水工新設により対策済
C72: S009 | E72: 2 | F72: 3.3 | G72: 覆工・坑門 | H72: 横断目地（左側） | I72: 材質劣化 | J72: うき・はく離 | M72: 対策済 | N72: 対策済 | O72: Ⅲ | P72: Ⅲ | R72: Ⅰ | S72: 否 | T72: 否 | U72: 済 | V72: 導水工新設により対策済
C73: S009 | E73: 3 | F73: 3.3 | G73: 覆工・坑門 | H73: 横断目地（右側） | I73: 漏水 | J73: 漏水 | M73: 対策済 | N73: 対策済 | O73: Ⅱb | P73: Ⅱ | R73: Ⅰ | S73: 否 | T73: 否 | U73: 済 | V73: 導水工新設により対策済
C74: S009 | E74: 4 | F74: 3.3 | G74: 覆工・坑門 | H74: 側壁（右側） | I74: 漏水 | J74: 漏水 | M74: 1.1m×0.5m | N74: 新規確認 | O74: － | P74: － | R74: Ⅱb | S74: 要 | T74: 要監視 | U74: 継続 | V74: 監視(日常巡視) | Z74: にじみ
C75: S009 | E75: 5 | F75: 3.3 | G75: 路面 | H75: 側溝 | I75: 漏水 | J75: 滞水 | M75: 0.6m×1.5m | N75: 進行が認められない | O75: Ⅲ | P75: Ⅲ | R75: － | S75: 要 | T75: 要監視 | U75: 継続 | V75: 監視(日常巡視) | Z75: 滞水
C76: S009 | E76: 6 | F76: 3.3 | G76: 路面 | H76: 側溝 | I76: 漏水 | J76: 滞水 | M76: 0.3m×2.7m | N76: 進行が認められない | O76: Ⅲ | P76: Ⅲ | R76: － | S76: 要 | T76: 要監視 | U76: 継続 | V76: 監視(日常巡視) | Z76: 滞水
C77: S010 | E77: 1 | F77: 3.27 | G77: 覆工・坑門 | H77: 横断目地（左側） | I77: 材質劣化 | J77: うき・はく離 | M77: 対策済 | N77: 対策済 | O77: Ⅲ | P77: Ⅲ | R77: Ⅰ | S77: 否 | T77: 否 | U77: 済 | V77: 導水工新設により対策済
C78: S010 | E78: 2 | F78: 3.27 | G78: 覆工・坑門 | H78: アーチ（左側） | I78: 漏水 | J78: 漏水 | M78: 6.0m×0.5m | N78: 進行が認められない | O78: Ⅱb | P78: Ⅱ | R78: Ⅱb | S78: 要 | T78: 要監視 | U78: 継続 | V78: 監視(日常巡視) | Z78: にじみ
C79: S010 | E79: 3 | F79: 3.27 | G79: 覆工・坑門 | H79: 横断目地（右側） | I79: 漏水 | J79: 漏水 | M79: 対策済 | N79: 対策済 | O79: Ⅱb | P79: Ⅱ | R79: Ⅰ | S79: 否 | T79: 否 | U79: 済 | V79: 導水工新設により対策済
C80: S010 | E80: 4 | F80: 3.27 | G80: 覆工・坑門 | H80: 水平打ち継ぎ目（右側） | I80: 材質劣化 | J80: うき・はく離 | M80: 対策済 | N80: 対策済 | O80: Ⅱa | P80: Ⅱ | R80: Ⅰ | S80: 否 | T80: 否 | U80: 済 | V80: 導水工新設により対策済
C81: S010 | E81: 5 | F81: 3.27 | G81: 路面 | H81: 車道 | I81: 漏水 | J81: 滞水 | M81: - | N81: - | O81: Ⅲ | P81: Ⅲ | R81: － | S81: 否 | T81: 否 | U81: 済 | V81: - | Z81: 滞水跡
C82: S010 | E82: 6 | F82: 3.27 | G82: 路面 | H82: 車道 | I82: 漏水 | J82: 滞水 | M82: - | N82: - | O82: Ⅲ | P82: Ⅲ | R82: － | S82: 否 | T82: 否 | U82: 済 | V82: - | Z82: 滞水跡
C83: S011 | E83: 1 | F83: 6.1 | G83: 覆工・坑門 | H83: 側壁（左側） | I83: 材質劣化 | J83: うき・はく離 | M83: 対策済 | N83: 対策済 | O83: Ⅱb | P83: Ⅱ | R83: Ⅰ | S83: 否 | T83: 否 | U83: 済 | V83: 導水工新設により対策済
C84: S011 | E84: 2 | F84: 6.1 | G84: 覆工・坑門 | H84: 横断目地（左側） | I84: 漏水 | J84: 補強・補修材の破損 | M84: 対策済 | N84: 対策済 | O84: － | P84: － | R84: － | S84: 否 | T84: 否 | U84: 済 | V84: 導水工新設による導水樋工の撤去
C85: S011 | E85: 3 | F85: 6.1 | G85: 覆工・坑門 | H85: アーチ（左側） | I85: 材質劣化 | J85: うき・はく離 | M85: 0.2m×0.2m | N85: 進行が認められない | O85: Ⅱb | P85: Ⅱ | R85: Ⅰ | S85: 要 | T85: 要監視 | U85: 継続 | V85: 監視(日常巡視) | Z85: はく落
C86: S011 | E86: 4 | F86: 6.1 | G86: 覆工・坑門 | H86: アーチ（左側） | I86: 漏水 | J86: 漏水 | M86: 5.9m×0.5m | N86: 進行が認められない | O86: Ⅱb | P86: Ⅱ | R86: Ⅱb | S86: 要 | T86: 要監視 | U86: 継続 | V86: 監視(日常巡視) | Z86: にじみ
C87: S011 | E87: 5 | F87: 6.1 | G87: 覆工・坑門 | H87: アーチ（左側） | I87: 材質劣化 | J87: その他 | M87: 対策済 | N87: 対策済 | O87: Ⅱa | P87: Ⅱ | R87: Ⅰ | S87: 否 | T87: 否 | U87: 済 | V87: はく落防止工を実施
C88: S011 | E88: 6 | F88: 6.1 | G88: 覆工・坑門 | H88: アーチ（右側） | I88: 漏水 | J88: 漏水 | M88: 対策済 | N88: 対策済 | O88: Ⅱa | P88: Ⅱ | R88: Ⅰ | S88: 否 | T88: 否 | U88: 済 | V88: 導水工新設により対策済
C89: S011 | E89: 7 | F89: 6.1 | G89: 覆工・坑門 | H89: アーチ（右側） | I89: 漏水 | J89: 漏水 | M89: 対策済 | N89: 対策済 | O89: Ⅱb | P89: Ⅱ | R89: Ⅰ | S89: 否 | T89: 否 | U89: 済 | V89: 導水工新設により対策済
C90: S011 | E90: 8 | F90: 6.1 | G90: 覆工・坑門 | H90: 側壁（右側） | I90: 漏水 | J90: 補強・補修材の破損 | M90: 対策済 | N90: 対策済 | O90: － | P90: － | R90: － | S90: 否 | T90: 否 | U90: 済 | V90: 導水工新設による導水樋工の撤去
C91: S011 | E91: 9 | F91: 6.1 | G91: 覆工・坑門 | H91: 横断目地（右側） | I91: 漏水 | J91: 補強・補修材の破損 | M91: 対策済 | N91: 対策済 | O91: － | P91: － | R91: － | S91: 否 | T91: 否 | U91: 済 | V91: 導水工新設による導水樋工の撤去
C92: S011 | E92: 10 | F92: 6.1 | G92: 路面 | H92: 側溝 | I92: 漏水 | J92: 滞水 | M92: 0.6m×1.9m | N92: 進行が認められない | O92: Ⅲ | P92: Ⅲ | R92: － | S92: 要 | T92: 要監視 | U92: 継続 | V92: 監視(日常巡視) | Z92: 滞水
C93: S011 | E93: 11 | F93: 6.1 | G93: 路面 | H93: 車道 | I93: 漏水 | J93: 滞水 | M93: - | N93: - | O93: Ⅲ | P93: Ⅲ | R93: － | S93: 否 | T93: 否 | U93: 済 | V93: - | Z93: 滞水跡
C94: S011 | E94: 12 | F94: 6.1 | G94: 路面 | H94: 側溝 | I94: 漏水 | J94: 滞水 | M94: 0.4m×1.5m | N94: 進行が認められない | O94: Ⅲ | P94: Ⅲ | R94: － | S94: 要 | T94: 要監視 | U94: 継続 | V94: 監視(日常巡視) | Z94: 滞水
C95: S012 | E95: 1 | F95: 3.35 | G95: 覆工・坑門 | H95: 水平打ち継ぎ目（左側） | I95: 材質劣化 | J95: うき・はく離 | M95: 0.05m×0.1m | N95: 進行が認められない | O95: Ⅱb | P95: Ⅱ | R95: Ⅰ | S95: 要 | T95: 要監視 | U95: 継続 | V95: 監視(日常巡視) | Z95: はく落
C96: S012 | E96: 2 | F96: 3.35 | G96: 覆工・坑門 | H96: アーチ（左側） | I96: 材質劣化 | J96: その他 | M96: 0.05m×0.1m | N96: 進行が認められない | O96: Ⅱb | P96: Ⅱ | R96: Ⅱb | S96: 要 | T96: 要監視 | U96: 継続 | V96: 監視(日常巡視) | Z96: 異物混入(木片)
C97: S012 | E97: 3 | F97: 3.35 | G97: 覆工・坑門 | H97: 横断目地（右側） | I97: 漏水 | J97: 漏水 | M97: 対策済 | N97: 対策済 | O97: Ⅱb | P97: Ⅱ | R97: Ⅰ | S97: 否 | T97: 否 | U97: 済 | V97: 導水工新設により対策済
C98: S012 | E98: 4 | F98: 3.35 | G98: 覆工・坑門 | H98: 水平打ち継ぎ目（右側） | I98: 材質劣化 | J98: うき・はく離 | M98: 対策済 | N98: 対策済 | O98: Ⅱa | P98: Ⅱ | R98: Ⅰ | S98: 否 | T98: 否 | U98: 済 | V98: はく落防止工を実施
C99: S013 | E99: 1 | F99: 3.28 | G99: 覆工・坑門 | H99: 水平打ち継ぎ目（左側） | I99: 材質劣化 | J99: うき・はく離 | M99: 対策済 | N99: 対策済 | O99: Ⅱa | P99: Ⅱ | R99: Ⅰ | S99: 否 | T99: 否 | U99: 済 | V99: 導水工新設により対策済
C100: S013 | E100: 2 | F100: 3.28 | G100: 覆工・坑門 | H100: アーチ（左側） | I100: 漏水 | J100: 漏水 | M100: 対策済 | N100: 対策済 | O100: Ⅱb | P100: Ⅱ | R100: Ⅰ | S100: 否 | T100: 否 | U100: 済 | V100: 導水工新設により対策済
C101: S013 | E101: 3 | F101: 3.28 | G101: 覆工・坑門 | H101: 水平打ち継ぎ目（右側） | I101: 材質劣化 | J101: うき・はく離 | M101: 対策済 | N101: 対策済 | O101: Ⅱa | P101: Ⅱ | R101: Ⅰ | S101: 否 | T101: 否 | U101: 済 | V101: 導水工新設により対策済
C102: S013 | E102: 4 | F102: 3.28 | G102: 路面 | H102: 側溝 | I102: 漏水 | J102: 滞水 | M102: 0.3m×1.0m | N102: 進行が認められない | O102: Ⅲ | P102: Ⅲ | R102: － | S102: 要 | T102: 要監視 | U102: 継続 | V102: 監視(日常巡視) | Z102: 滞水
...

Sheet 様式C-1-2
B2: ■定期点検記録様式 定期点検結果総括表（トンネル内附属物等の取付状態） 【様式C-1-2】
B3: フリガナ | F3: オオザサ | J3: 路線名 | L3: 一般県道俵山長門古市停車場線 | O3: 定期点検業者 | Q3: 株式会社オリエンタルコンサルタンツ | U3: 定期点検年月日 | Y3: 45271
B4: 名 称 | F4: 大笹トンネル | J4: 管理者名 | L4: 長門土木建築事務所 | O4: 定期点検者名 | Q4: 妹尾 優大
B5: 定期点検結果 | C5: 覆工 スパン 番号 | E5: 異常 番号 | F5: 距離 （m） | G5: 異常部位 | J5: 異 常 の 内 容 | P5: 定期点検結果 | R5: 応急措置の 実施状況 | X5: 対応方針 ・ 特記事項
G6: 対象箇所 | I6: 部位区分 | J6: 異常種類 | N6: 異常の発生範囲の規模 | P6: 異常判定区分 | R6: 実施 | S6: 応急措置の内容
P7: 応急措置前 | Q7: 応急措置後
C8: S008 | E8: 101 | F8: 3.3 | G8: 照明施設 | H8: 灯具 | I8: 取付部材 | J8: 腐食 | N8: 4箇所 | Q8: × | R8: 未 | X8: 取付金具腐食
C9: S008 | E9: 102 | F9: 3.3 | G9: 照明施設 | H9: ケーブル類 | I9: 取付部材 | J9: 変形，欠損 | N9: 2箇所 | Q9: × | R9: 未 | X9: 取付金具欠損
C10: S011 | E10: 101 | F10: 6.1 | G10: 照明施設 | H10: ケーブル類 | I10: 取付部材 | J10: 変形，欠損 | Q10: ○ | R10: 済 | X10: 欠損補修済
C11: S012 | E11: 101 | F11: 3.35 | G11: 照明施設 | H11: 灯具 | I11: 取付部材 | J11: 腐食 | N11: 4箇所 | Q11: × | R11: 未 | X11: 取付金具腐食
C12: S015 | E12: 101 | F12: 5.5 | G12: 照明施設 | H12: 灯具 | I12: 取付部材 | J12: 腐食 | N12: 2箇所 | Q12: × | R12: 未 | X12: 取付金具腐食
C13: S019 | E13: 101 | F13: 3.3 | G13: 照明施設 | H13: 灯具 | I13: 附属物本体 | J13: 変形，欠損 | Q13: ○ | R13: 済 | X13: 灯具撤去済
C14: S022 | E14: 101 | F14: 5.55 | G14: 照明施設 | H14: 灯具 | I14: 取付部材 | J14: 腐食 | N14: 4箇所 | Q14: × | R14: 未 | X14: 取付金具腐食
C15: S027 | E15: 101 | F15: 10 | G15: 照明施設 | H15: ケーブル類 | I15: 取付部材 | J15: 変形，欠損 | N15: 1箇所 | Q15: × | R15: 未 | X15: 取付金具欠損
C16: S027 | E16: 102 | F16: 10 | G16: 照明施設 | H16: 灯具 | I16: 附属物本体 | J16: 変形，欠損 | Q16: ○ | R16: 済 | X16: 灯具撤去済
C17: S030 | E17: 101 | F17: 4.43 | G17: 照明施設 | H17: 灯具 | I17: 取付部材 | J17: 腐食 | N17: 4箇所 | Q17: × | R17: 未 | X17: 取付金具腐食
C18: S031 | E18: 101 | F18: 3.27 | G18: 照明施設 | H18: ケーブル類 | I18: 取付部材 | J18: 変形，欠損 | N18: 1箇所 | Q18: × | R18: 未 | X18: 取付金具欠損
C19: S032 | E19: 101 | F19: 3.31 | G19: 照明施設 | H19: ケーブル類 | I19: 取付部材 | J19: 変形，欠損 | N19: 4箇所 | Q19: × | R19: 未 | X19: 取付金具欠損
C20: S034 | E20: 101 | F20: 10 | G20: 照明施設 | H20: ケーブル類 | I20: 取付部材 | J20: 変形，欠損 | N20: 1箇所 | Q20: × | R20: 未 | X20: 取付金具欠損
C21: S035 | E21: 101 | F21: 10 | G21: 照明施設 | H21: ケーブル類 | I21: 取付部材 | J21: 変形，欠損 | N21: 1箇所 | Q21: × | R21: 未 | X21: 取付金具欠損
C22: S036 | E22: 101 | F22: 10 | G22: 照明施設 | H22: ケーブル類 | I22: 取付部材 | J22: 変形，欠損 | N22: 4箇所 | Q22: × | R22: 未 | X22: 取付金具欠損
C23: S036 | E23: 102 | F23: 10 | G23: 照明施設 | H23: 灯具 | I23: 取付部材 | J23: 腐食 | N23: 4箇所 | Q23: × | R23: 未 | X23: 取付金具腐食
C24: S036 | E24: 103 | F24: 10 | G24: 照明施設 | H24: ケーブル類 | I24: 取付部材 | J24: 変形，欠損 | N24: 3箇所 | Q24: × | R24: 未 | X24: 取付金具欠損
C25: S037 | E25: 101 | F25: 10 | G25: 照明施設 | H25: ケーブル類 | I25: 取付部材 | J25: 変形，欠損 | N25: 3箇所 | Q25: × | R25: 未 | X25: 取付金具欠損
C26: S037 | E26: 102 | F26: 10 | G26: 照明施設 | H26: ケーブル類 | I26: 取付部材 | J26: 変形，欠損 | N26: 1箇所 | Q26: × | R26: 未 | X26: 取付金具欠損
C27: S038 | E27: 101 | F27: 10 | G27: 照明施設 | H27: ケーブル類 | I27: 取付部材 | J27: 変形，欠損 | N27: 2箇所 | Q27: × | R27: 未 | X27: 取付金具欠損
C28: S038 | E28: 102 | F28: 10 | G28: 照明施設 | H28: ケーブル類 | I28: 取付部材 | J28: 変形，欠損 | N28: 1箇所 | Q28: × | R28: 未 | X28: 取付金具欠損
... C37: S041 | E37: 102 | F37: 7.79 | G37: 照明施設 | H37: 灯具 | I37: 取付部材 | J37: 破断 | N37: 1箇所 | Q37: × | R37: 未 | X37: 取付金具破断
C39: ※ 異常判定区分×について記入すること。また、応急措置により○と判定された箇所も記入すること。
C40: ※ 応急措置を実施しないで判定した箇所の異常判定区分は、異常判定区分の応急措置後の欄に記入すること。
C41: ※ 異常の除去が不完全で、緊急対応が必要な場合は対応方針欄に記入すること。
C42: ※ １スパンの覆工に複数の異常がある場合は、異常箇所毎に記入すること。
C43: ※ 行が不足する場合は、適時、表の行を増やすこと。

Sheet 様式C-2
B2: ■定期点検記録様式 状態の把握の内容 【様式C-2】
B3: フリガナ | E3: オオザサ | H3: 路線名 | J3: 一般県道俵山長門古市停車場線 | M3: 定期点検業者 | R3: 株式会社オリエンタルコンサルタンツ | U3: 定期点検年月日 | X3: 45271
B4: 名 称 | E4: 大笹トンネル | H4: 管理者名 | J4: 長門土木建築事務所 | M4: 定期点検者名 | R4: 妹尾 優大
B5: 状態の把握の内容 | C5: 覆工スパン 番号 | E5: 変状 番号 | F5: 状態の把握の内容
F6: 年月日 | H6: 内容 | O6: 結果 | W6: 対策区分の 判定 | Y6: 健全性
B22: 注）状態の把握において、微破壊・非破壊検査や各種試験等を実施した場合について記載する。
B23: ※ 行が不足する場合は、適時、表の行を増やすこと。

Sheet 様式D-1-1
B2: ■定期点検記録様式 変状写真台帳（トンネル本体工） 【様式D-1-1】
B3: フリガナ | D3: オオザサ | H3: 路 線 名 | J3: 一般県道俵山長門古市停車場線 | M3: 定期点検業者 | P3: 株式会社オリエンタルコンサルタンツ | S3: 定期点検年月日 | U3: 45271
B4: 名 称 | D4: 大笹トンネル | H4: 管理者名 | J4: 長門土木建築事務所 | M4: 定期点検者名 | P4: 妹尾 優大
B5: 写真 番号 | C5: 覆工 スパン 番号 | D5: PS | M5: 写真 番号 | N5: 覆工 スパン 番号 | O5: =D5 -> PS
C7: 変状 番号 | D7: 1 | N7: 変状 番号 | O7: =D7+1 -> 2
B9: 変状 部位 | C9: 対象 箇所 | D9: 覆工・坑門 | M9: 変状 部位 | N9: 対象 箇所 | O9: 覆工・坑門
C11: 部位 区分 | D11: 面壁・妻壁等 | N11: 部位 区分 | O11: 面壁・妻壁等
B13: 変状区分 | D13: 漏水 | M13: 変状区分 | O13: 材質劣化
B14: 変状種類 | D14: 漏水 | M14: 変状種類 | O14: うき・はく離
B15: 対策 区分 | C15: 応急措置前 | M15: 対策 区分 | N15: 応急措置前
C16: 応急措置後 | E16: Ⅱb | N16: 応急措置後 | P16: Ⅲ
B17: 健全性 | D17: Ⅱ | M17: 健全性 | O17: Ⅲ
B18: 変状の発生範囲の規模 | E18: 4.8m×1.0m | M18: 変状の発生範囲の規模 | P18: 0.05m×0.4m
B19: 前回定期点検時の状態 | E19: 漏水、にじみ | M19: 前回定期点検時の状態 | P19: 0.05m×0.4mのうき
B20: 調査方針 | E20: なし | M20: 調査方針 | P20: なし
B21: 対策履歴 | E21: なし | H21: 実施状況（実施日） | M21: 対策履歴 | P21: なし | S21: 実施状況（実施日）
B22: メモ | D22: 打ち継ぎ目からの漏水、にじみ | M22: メモ | O22: うき
B23: 写真 番号 | C23: 覆工 スパン 番号 | D23: =O5 -> PS | M23: 写真 番号 | N23: 覆工 スパン 番号 | O23: =D23 -> PS
C25: 変状 番号 | D25: =O7+1 -> 3 | N25: 変状 番号 | O25: =D25+1 -> 4
B27: 変状 部位 | C27: 対象 箇所 | D27: 覆工・坑門 | M27: 変状 部位 | N27: 対象 箇所 | O27: 覆工・坑門
C29: 部位 区分 | D29: 面壁・妻壁等 | N29: 部位 区分 | O29: 面壁・妻壁等
B31: 変状区分 | D31: 材質劣化 | M31: 変状区分 | O31: 材質劣化
B32: 変状種類 | D32: うき・はく離 | M32: 変状種類 | O32: うき・はく離
B33: 対策 区分 | C33: 応急措置前 | M33: 対策 区分 | N33: 応急措置前
C34: 応急措置後 | E34: Ⅲ | N34: 応急措置後 | P34: Ⅱb
B35: 健全性 | D35: Ⅲ | M35: 健全性 | O35: Ⅱ
B36: 変状の発生範囲の規模 | E36: 0.05m×0.2m | M36: 変状の発生範囲の規模 | P36: 0.05m×0.05m
B37: 前回定期点検時の状態 | E37: 0.05m×0.2mのうき | M37: 前回定期点検時の状態 | P37: 0.05m×0.05mの木片
B38: 調査方針 | E38: なし | M38: 調査方針 | P38: なし
B39: 対策履歴 | E39: なし | H39: 実施状況（実施日） | M39: 対策履歴 | P39: なし | S39: 実施状況（実施日）
B40: メモ | D40: うき・はく離 | M40: メモ | O40: はく落(木片欠落)
C41: ※ 健全性の判定区分Ⅱ～Ⅳについて添付すること。また、点検前に実施 された措置によりⅠと判定された箇所も添付すること。 | N41: ※ 変状の発生範囲の規模とは、対策を行う際に参考となる変状の長さや面積をいう。
N42: ※ 応急措置を実施しないで判定した変状の対策区分は、対策区分の応急措置後の欄に記入すること。
C43: ※ たたき落としを実施した場合は、実施後の写真を添付すること。 | N43: ※ 変状の発生範囲の規模は、面積・寸法を記載すること。
C44: ※ 画像データは100kb程度とする。 | N44: (ひび割れ幅のみmmとし、その他をm表記とする)
C45: ※ 変状数に準じてシートを追加すること。（１シートに１ページとすること。） | N45: ※ 構造用鋼材以外の異物に伴ううき・はく離については、メモ欄に異物の概要を記入すること。

Sheet 様式D-1-1 (2)
B2: ■定期点検記録様式 変状写真台帳（トンネル本体工） 【様式D-1-1】
B3: フリガナ | D3: オオザサ | H3: 路 線 名 | J3: 一般県道俵山長門古市停車場線 | M3: 定期点検業者 | P3: 株式会社オリエンタルコンサルタンツ | S3: 定期点検年月日 | U3: 45271
B4: 名 称 | D4: 大笹トンネル | H4: 管理者名 | J4: 長門土木建築事務所 | M4: 定期点検者名 | P4: 妹尾 優大
B5: 写真 番号 | C5: 覆工 スパン 番号 | D5: PS | M5: 写真 番号 | N5: 覆工 スパン 番号 | O5: S001
C7: 変状 番号 | D7: 5 | N7: 変状 番号 | O7: 1
B9: 変状 部位 | C9: 対象 箇所 | D9: 覆工・坑門 | M9: 変状 部位 | N9: 対象 箇所 | O9: 覆工・坑門
C11: 部位 区分 | D11: 面壁・妻壁等 | N11: 部位 区分 | O11: 側壁（左側）
B13: 変状区分 | D13: 漏水 | M13: 変状区分 | O13: 材質劣化
B14: 変状種類 | D14: 漏水 | M14: 変状種類 | O14: うき・はく離
B15: 対策 区分 | C15: 応急措置前 | M15: 対策 区分 | N15: 応急措置前
C16: 応急措置後 | E16: Ⅱb | N16: 応急措置後 | P16: Ⅱb
B17: 健全性 | D17: Ⅱ | M17: 健全性 | O17: Ⅱ
B18: 変状の発生範囲の規模 | E18: 4.9m×0.75m | M18: 変状の発生範囲の規模 | P18: 0.1m×1.3m
B19: 前回定期点検時の状態 | E19: 漏水、にじみ | M19: 前回定期点検時の状態 | P19: 0.1m×1.3mのはく落
B20: 調査方針 | E20: なし | M20: 調査方針 | P20: なし
B21: 対策履歴 | E21: なし | H21: 実施状況（実施日） | M21: 対策履歴 | P21: なし | S21: 実施状況（実施日）
B22: メモ | D22: 打ち継ぎ目からの漏水、にじみ | M22: メモ | O22: はく落
B23: 写真 番号 | C23: 覆工 スパン 番号 | D23: =O5 -> S001 | M23: 写真 番号 | N23: 覆工 スパン 番号 | O23: =D23 -> S001
C25: 変状 番号 | D25: =O7+1 -> 2 | N25: 変状 番号 | O25: =D25+1 -> 3
B27: 変状 部位 | C27: 対象 箇所 | D27: 覆工・坑門 | M27: 変状 部位 | N27: 対象 箇所 | O27: 覆工・坑門
C29: 部位 区分 | D29: 側壁（左側） | N29: 部位 区分 | O29: 側壁（左側）
B31: 変状区分 | D31: 材質劣化 | M31: 変状区分 | O31: 材質劣化
B32: 変状種類 | D32: うき・はく離 | M32: 変状種類 | O32: うき・はく離
B33: 対策 区分 | C33: 応急措置前 | M33: 対策 区分 | N33: 応急措置前
C34: 応急措置後 | E34: Ⅱb | N34: 応急措置後 | P34: Ⅱb
B35: 健全性 | D35: Ⅱ | M35: 健全性 | O35: Ⅱ
B36: 変状の発生範囲の規模 | E36: 1.4m×0.2m | M36: 変状の発生範囲の規模 | P36: 1.8m×9.5m
B37: 前回定期点検時の状態 | E37: 0.4m×0.1mのはく落 | M37: 前回定期点検時の状態 | P37: -
B38: 調査方針 | E38: なし | M38: 調査方針 | P38: なし
B39: 対策履歴 | E39: なし | H39: 実施状況（実施日） | M39: 対策履歴 | P39: なし | S39: 実施状況（実施日）
B40: メモ | D40: はく落 | M40: メモ | O40: モルタル吹付部のうき
C41: ※ 健全性の判定区分Ⅱ～Ⅳについて添付すること。また、点検前に実施 された措置によりⅠと判定された箇所も添付すること。 | N41: ※ 変状の発生範囲の規模とは、対策を行う際に参考となる変状の長さや面積をいう。
N42: ※ 応急措置を実施しないで判定した変状の対策区分は、対策区分の応急措置後の欄に記入すること。
C43: ※ たたき落としを実施した場合は、実施後の写真を添付すること。 | N43: ※ 変状の発生範囲の規模は、面積・寸法を記載すること。
C44: ※ 画像データは100kb程度とする。 | N44: (ひび割れ幅のみmmとし、その他をm表記とする)
C45: ※ 変状数に準じてシートを追加すること。（１シートに１ページとすること。） | N45: ※ 構造用鋼材以外の異物に伴ううき・はく離については、メモ欄に異物の概要を記入すること。

Sheet 様式D-1-1 (3)
B2: ■定期点検記録様式 変状写真台帳（トンネル本体工） 【様式D-1-1】
B3: フリガナ | D3: オオザサ | H3: 路 線 名 | J3: 一般県道俵山長門古市停車場線 | M3: 定期点検業者 | P3: 株式会社オリエンタルコンサルタンツ | S3: 定期点検年月日 | U3: 45271
B4: 名 称 | D4: 大笹トンネル | H4: 管理者名 | J4: 長門土木建築事務所 | M4: 定期点検者名 | P4: 妹尾 優大
B5: 写真 番号 | C5: 覆工 スパン 番号 | D5: S001 | M5: 写真 番号 | N5: 覆工 スパン 番号 | O5: =D5 -> S001
C7: 変状 番号 | D7: 4 | N7: 変状 番号 | O7: =D7+1 -> 5
B9: 変状 部位 | C9: 対象 箇所 | D9: 覆工・坑門 | M9: 変状 部位 | N9: 対象 箇所 | O9: 覆工・坑門
C11: 部位 区分 | D11: アーチ（左側） | N11: 部位 区分 | O11: アーチ（左側）
B13: 変状区分 | D13: 材質劣化 | M13: 変状区分 | O13: 漏水
B14: 変状種類 | D14: うき・はく離 | M14: 変状種類 | O14: 漏水
B15: 対策 区分 | C15: 応急措置前 | M15: 対策 区分 | N15: 応急措置前
C16: 応急措置後 | E16: Ⅱa | N16: 応急措置後 | P16: Ⅰ
B17: 健全性 | D17: Ⅱ | M17: 健全性 | O17: Ⅰ
B18: 変状の発生範囲の規模 | E18: 0.6m×0.2m | M18: 変状の発生範囲の規模 | P18: -
B19: 前回定期点検時の状態 | E19: - | M19: 前回定期点検時の状態 | P19: 漏水、にじみ
B20: 調査方針 | E20: なし | M20: 調査方針 | P20: なし
B21: 対策履歴 | E21: なし | H21: 実施状況（実施日） | M21: 対策履歴 | P21: 導水工 | S21: 実施状況（実施日）
B22: メモ | D22: モルタル吹付部のうき | M22: メモ | O22: 導水工新設により対策済
B23: 写真 番号 | C23: 覆工 スパン 番号 | D23: =O5 -> S001 | M23: 写真 番号 | N23: 覆工 スパン 番号 | O23: =D23 -> S001
C25: 変状 番号 | D25: =O7+1 -> 6 | N25: 変状 番号 | O25: =D25+1 -> 7
B27: 変状 部位 | C27: 対象 箇所 | D27: 覆工・坑門 | M27: 変状 部位 | N27: 対象 箇所 | O27: 覆工・坑門
C29: 部位 区分 | D29: アーチ（左側） | N29: 部位 区分 | O29: アーチ（左側）
B31: 変状区分 | D31: 材質劣化 | M31: 変状区分 | O31: 漏水
B32: 変状種類 | D32: うき・はく離 | M32: 変状種類 | O32: 漏水
B33: 対策 区分 | C33: 応急措置前 | M33: 対策 区分 | N33: 応急措置前
C34: 応急措置後 | E34: Ⅱa | N34: 応急措置後 | P34: Ⅰ
B35: 健全性 | D35: Ⅱ | M35: 健全性 | O35: Ⅰ
B36: 変状の発生範囲の規模 | E36: 4.0m×6.0m | M36: 変状の発生範囲の規模 | P36: -
B37: 前回定期点検時の状態 | E37: 2.5m×1.3mのモルタル吹付部のうき | M37: 前回定期点検時の状態 | P37: 漏水、にじみ
B38: 調査方針 | E38: なし | M38: 調査方針 | P38: なし
B39: 対策履歴 | E39: なし | H39: 実施状況（実施日） | M39: 対策履歴 | P39: なし | S39: 実施状況（実施日）
B40: メモ | D40: モルタル吹付部のうき | M40: メモ | O40: 漏水跡
C41: ※ 健全性の判定区分Ⅱ～Ⅳについて添付すること。また、点検前に実施 された措置によりⅠと判定された箇所も添付すること。 | N41: ※ 変状の発生範囲の規模とは、対策を行う際に参考となる変状の長さや面積をいう。
N42: ※ 応急措置を実施しないで判定した変状の対策区分は、対策区分の応急措置後の欄に記入すること。
C43: ※ たたき落としを実施した場合は、実施後の写真を添付すること。 | N43: ※ 変状の発生範囲の規模は、面積・寸法を記載すること。
C44: ※ 画像データは100kb程度とする。 | N44: (ひび割れ幅のみmmとし、その他をm表記とする)
C45: ※ 変状数に準じてシートを追加すること。（１シートに１ページとすること。） | N45: ※ 構造用鋼材以外の異物に伴ううき・はく離については、メモ欄に異物の概要を記入すること。

Sheet 様式D-1-1 (4)
B2: ■定期点検記録様式 変状写真台帳（トンネル本体工） 【様式D-1-1】
B3: フリガナ | D3: オオザサ | H3: 路 線 名 | J3: 一般県道俵山長門古市停車場線 | M3: 定期点検業者 | P3: 株式会社オリエンタルコンサルタンツ | S3: 定期点検年月日 | U3: 45271
B4: 名 称 | D4: 大笹トンネル | H4: 管理者名 | J4: 長門土木建築事務所 | M4: 定期点検者名 | P4: 妹尾 優大
B5: 写真 番号 | C5: 覆工 スパン 番号 | D5: S001 | M5: 写真 番号 | N5: 覆工 スパン 番号 | O5: =D5 -> S001
C7: 変状 番号 | D7: 8 | N7: 変状 番号 | O7: =D7+1 -> 9
B9: 変状 部位 | C9: 対象 箇所 | D9: 覆工・坑門 | M9: 変状 部位 | N9: 対象 箇所 | O9: 覆工・坑門
C11: 部位 区分 | D11: アーチ（左側） | N11: 部位 区分 | O11: アーチ（左側）
B13: 変状区分 | D13: 漏水 | M13: 変状区分 | O13: 漏水
B14: 変状種類 | D14: 漏水 | M14: 変状種類 | O14: 漏水
B15: 対策 区分 | C15: 応急措置前 | M15: 対策 区分 | N15: 応急措置前
C16: 応急措置後 | E16: Ⅱa | N16: 応急措置後 | P16: Ⅱb
B17: 健全性 | D17: Ⅱ | M17: 健全性 | O17: Ⅱ
B18: 変状の発生範囲の規模 | E18: 6.2m×0.5m | M18: 変状の発生範囲の規模 | P18: 4.5m×0.5m
B19: 前回定期点検時の状態 | E19: - | M19: 前回定期点検時の状態 | P19: -
B20: 調査方針 | E20: なし | M20: 調査方針 | P20: なし
B21: 対策履歴 | E21: なし | H21: 実施状況（実施日） | M21: 対策履歴 | P21: なし | S21: 実施状況（実施日）
B22: メモ | D22: 導水工からの漏水、滴水 | M22: メモ | O22: ひび割れからの漏水、にじみ
B23: 写真 番号 | C23: 覆工 スパン 番号 | D23: =O5 -> S001 | M23: 写真 番号 | N23: 覆工 スパン 番号 | O23: =D23 -> S001
C25: 変状 番号 | D25: =O7+1 -> 10 | N25: 変状 番号 | O25: =D25+1 -> 11
B27: 変状 部位 | C27: 対象 箇所 | D27: 覆工・坑門 | M27: 変状 部位 | N27: 対象 箇所 | O27: 覆工・坑門
C29: 部位 区分 | D29: アーチ（左側） | N29: 部位 区分 | O29: アーチ（右側）
B31: 変状区分 | D31: 材質劣化 | M31: 変状区分 | O31: 材質劣化
B32: 変状種類 | D32: うき・はく離 | M32: 変状種類 | O32: うき・はく離
B33: 対策 区分 | C33: 応急措置前 | M33: 対策 区分 | N33: 応急措置前
C34: 応急措置後 | E34: Ⅱa | N34: 応急措置後 | P34: Ⅱa
B35: 健全性 | D35: Ⅱ | M35: 健全性 | O35: Ⅱ
B36: 変状の発生範囲の規模 | E36: 4.0m×6.5m | M36: 変状の発生範囲の規模 | P36: 3.0m×3.7m
B37: 前回定期点検時の状態 | E37: - | M37: 前回定期点検時の状態 | P37: -
B38: 調査方針 | E38: なし | M38: 調査方針 | P38: なし
B39: 対策履歴 | E39: なし | H39: 実施状況（実施日） | M39: 対策履歴 | P39: なし | S39: 実施状況（実施日）
B40: メモ | D40: モルタル吹付部のうき | M40: メモ | O40: モルタル吹付部のうき
C41: ※ 健全性の判定区分Ⅱ～Ⅳについて添付すること。また、点検前に実施 された措置によりⅠと判定された箇所も添付すること。 | N41: ※ 変状の発生範囲の規模とは、対策を行う際に参考となる変状の長さや面積をいう。
N42: ※ 応急措置を実施しないで判定した変状の対策区分は、対策区分の応急措置後の欄に記入すること。
C43: ※ たたき落としを実施した場合は、実施後の写真を添付すること。 | N43: ※ 変状の発生範囲の規模は、面積・寸法を記載すること。
C44: ※ 画像データは100kb程度とする。 | N44: (ひび割れ幅のみmmとし、その他をm表記とする)
C45: ※ 変状数に準じてシートを追加すること。（１シートに１ページとすること。） | N45: ※ 構造用鋼材以外の異物に伴ううき・はく離については、メモ欄に異物の概要を記入すること。

Sheet 様式D-1-1 (5)
B2: ■定期点検記録様式 変状写真台帳（トンネル本体工） 【様式D-1-1】
B3: フリガナ | D3: オオザサ | H3: 路 線 名 | J3: 一般県道俵山長門古市停車場線 | M3: 定期点検業者 | P3: 株式会社オリエンタルコンサルタンツ | S3: 定期点検年月日 | U3: 45271
B4: 名 称 | D4: 大笹トンネル | H4: 管理者名 | J4: 長門土木建築事務所 | M4: 定期点検者名 | P4: 妹尾 優大
B5: 写真 番号 | C5: 覆工 スパン 番号 | D5: S001 | M5: 写真 番号 | N5: 覆工 スパン 番号 | O5: =D5 -> S001
C7: 変状 番号 | D7: 12 | N7: 変状 番号 | O7: =D7+1 -> 13
B9: 変状 部位 | C9: 対象 箇所 | D9: 覆工・坑門 | M9: 変状 部位 | N9: 対象 箇所 | O9: 覆工・坑門
C11: 部位 区分 | D11: アーチ（天端） | N11: 部位 区分 | O11: アーチ（右側）
B13: 変状区分 | D13: 漏水 | M13: 変状区分 | O13: 漏水
B14: 変状種類 | D14: 漏水 | M14: 変状種類 | O14: 漏水
B15: 対策 区分 | C15: 応急措置前 | M15: 対策 区分 | N15: 応急措置前
C16: 応急措置後 | E16: Ⅰ | N16: 応急措置後 | P16: Ⅱa
B17: 健全性 | D17: Ⅰ | M17: 健全性 | O17: Ⅱ
B18: 変状の発生範囲の規模 | E18: - | M18: 変状の発生範囲の規模 | P18: 5.5m×0.5m
B19: 前回定期点検時の状態 | E19: 漏水、流下 | M19: 前回定期点検時の状態 | P19: -
B20: 調査方針 | E20: なし | M20: 調査方針 | P20: なし
B21: 対策履歴 | E21: 導水工 | H21: 実施状況（実施日） | M21: 対策履歴 | P21: なし | S21: 実施状況（実施日）
B22: メモ | D22: 導水工新設により対策済 | M22: メモ | O22: 導水工からの漏水、滴水
B23: 写真 番号 | C23: 覆工 スパン 番号 | D23: S001 | M23: 写真 番号 | N23: 覆工 スパン 番号 | O23: =D23 -> S001
C25: 変状 番号 | D25: 14 | N25: 変状 番号 | O25: =D25+1 -> 15
B27: 変状 部位 | C27: 対象 箇所 | D27: 覆工・坑門 | M27: 変状 部位 | N27: 対象 箇所 | O27: 路面
C29: 部位 区分 | D29: アーチ（右側） | N29: 部位 区分 | O29: 側溝
B31: 変状区分 | D31: 漏水 | M31: 変状区分 | O31: 漏水
B32: 変状種類 | D32: 漏水 | M32: 変状種類 | O32: 滞水
B33: 対策 区分 | C33: 応急措置前 | M33: 対策 区分 | N33: 応急措置前
C34: 応急措置後 | E34: Ⅱb | N34: 応急措置後 | P34: －
B35: 健全性 | D35: Ⅱ | M35: 健全性 | O35: －
B36: 変状の発生範囲の規模 | E36: 4.5m×0.5m | M36: 変状の発生範囲の規模 | P36: 0.6m×6.5m
B37: 前回定期点検時の状態 | E37: 漏水、にじみ | M37: 前回定期点検時の状態 | P37: 0.9m×8.0mの土砂堆積
B38: 調査方針 | E38: なし | M38: 調査方針 | P38: なし
B39: 対策履歴 | E39: なし | H39: 実施状況（実施日） | M39: 対策履歴 | P39: なし | S39: 実施状況（実施日）
B40: メモ | D40: ひび割れからの漏水、にじみ | M40: メモ | O40: 滞水、堆砂
C41: ※ 健全性の判定区分Ⅱ～Ⅳについて添付すること。また、点検前に実施 された措置によりⅠと判定された箇所も添付すること。 | N41: ※ 変状の発生範囲の規模とは、対策を行う際に参考となる変状の長さや面積をいう。
N42: ※ 応急措置を実施しないで判定した変状の対策区分は、対策区分の応急措置後の欄に記入すること。
C43: ※ たたき落としを実施した場合は、実施後の写真を添付すること。 | N43: ※ 変状の発生範囲の規模は、面積・寸法を記載すること。
C44: ※ 画像データは100kb程度とする。 | N44: (ひび割れ幅のみmmとし、その他をm表記とする)
C45: ※ 変状数に準じてシートを追加すること。（１シートに１ページとすること。） | N45: ※ 構造用鋼材以外の異物に伴ううき・はく離については、メモ欄に異物の概要を記入すること。

Sheet 様式D-1-1 (6)
B2: ■定期点検記録様式 変状写真台帳（トンネル本体工） 【様式D-1-1】
B3: フリガナ | D3: オオザサ | H3: 路 線 名 | J3: 一般県道俵山長門古市停車場線 | M3: 定期点検業者 | P3: 株式会社オリエンタルコンサルタンツ | S3: 定期点検年月日 | U3: 45271
B4: 名 称 | D4: 大笹トンネル | H4: 管理者名 | J4: 長門土木建築事務所 | M4: 定期点検者名 | P4: 妹尾 優大
B5: 写真 番号 | C5: 覆工 スパン 番号 | D5: S001 | M5: 写真 番号 | N5: 覆工 スパン 番号 | O5: =D5 -> S001
C7: 変状 番号 | D7: 16 | N7: 変状 番号 | O7: =D7+1 -> 17
B9: 変状 部位 | C9: 対象 箇所 | D9: 路面 | M9: 変状 部位 | N9: 対象 箇所 | O9: 路面
C11: 部位 区分 | D11: 車道 | N11: 部位 区分 | O11: 側溝
B13: 変状区分 | D13: 漏水 | M13: 変状区分 | O13: 漏水
B14: 変状種類 | D14: 滞水 | M14: 変状種類 | O14: 滞水
B15: 対策 区分 | C15: 応急措置前 | M15: 対策 区分 | N15: 応急措置前
C16: 応急措置後 | E16: － | N16: 応急措置後 | P16: －
B17: 健全性 | D17: － | M17: 健全性 | O17: －
B18: 変状の発生範囲の規模 | E18: 0.8m×0.8m | M18: 変状の発生範囲の規模 | P18: 0.9m×5.0m
B19: 前回定期点検時の状態 | E19: 10.0m×5.8mの滞水 | M19: 前回定期点検時の状態 | P19: 0.5m×9.0mの土砂堆積
B20: 調査方針 | E20: なし | M20: 調査方針 | P20: なし
B21: 対策履歴 | E21: なし | H21: 実施状況（実施日） | M21: 対策履歴 | P21: なし | S21: 実施状況（実施日）
B22: メモ | D22: 滞水 | M22: メモ | O22: 滞水、堆砂
B23: 写真 番号 | C23: 覆工 スパン 番号 | D23: S002 | M23: 写真 番号 | N23: 覆工 スパン 番号 | O23: =D23 -> S002
C25: 変状 番号 | D25: 1 | N25: 変状 番号 | O25: =D25+1 -> 2
B27: 変状 部位 | C27: 対象 箇所 | D27: 覆工・坑門 | M27: 変状 部位 | N27: 対象 箇所 | O27: 覆工・坑門
C29: 部位 区分 | D29: 側壁（左側） | N29: 部位 区分 | O29: アーチ（右側）
B31: 変状区分 | D31: 材質劣化 | M31: 変状区分 | O31: 材質劣化
B32: 変状種類 | D32: うき・はく離 | M32: 変状種類 | O32: うき・はく離
B33: 対策 区分 | C33: 応急措置前 | M33: 対策 区分 | N33: 応急措置前
C34: 応急措置後 | E34: Ⅱb | N34: 応急措置後 | P34: Ⅱa
B35: 健全性 | D35: Ⅱ | M35: 健全性 | O35: Ⅱ
B36: 変状の発生範囲の規模 | E36: 1.8m×1.4m | M36: 変状の発生範囲の規模 | P36: 2.6m×2.5m
B37: 前回定期点検時の状態 | E37: - | M37: 前回定期点検時の状態 | P37: -
B38: 調査方針 | E38: なし | M38: 調査方針 | P38: なし
B39: 対策履歴 | E39: なし | H39: 実施状況（実施日） | M39: 対策履歴 | P39: なし | S39: 実施状況（実施日）
B40: メモ | D40: モルタル吹付部のうき | M40: メモ | O40: モルタル吹付部のうき
C41: ※ 健全性の判定区分Ⅱ～Ⅳについて添付すること。また、点検前に実施 された措置によりⅠと判定された箇所も添付すること。 | N41: ※ 変状の発生範囲の規模とは、対策を行う際に参考となる変状の長さや面積をいう。
N42: ※ 応急措置を実施しないで判定した変状の対策区分は、対策区分の応急措置後の欄に記入すること。
C43: ※ たたき落としを実施した場合は、実施後の写真を添付すること。 | N43: ※ 変状の発生範囲の規模は、面積・寸法を記載すること。
C44: ※ 画像データは100kb程度とする。 | N44: (ひび割れ幅のみmmとし、その他をm表記とする)
C45: ※ 変状数に準じてシートを追加すること。（１シートに１ページとすること。） | N45: ※ 構造用鋼材以外の異物に伴ううき・はく離については、メモ欄に異物の概要を記入すること。

Sheet 様式D-1-1 (7)
B2: ■定期点検記録様式 変状写真台帳（トンネル本体工） 【様式D-1-1】
B3: フリガナ | D3: オオザサ | H3: 路 線 名 | J3: 一般県道俵山長門古市停車場線 | M3: 定期点検業者 | P3: 株式会社オリエンタルコンサルタンツ | S3: 定期点検年月日 | U3: 45271
B4: 名 称 | D4: 大笹トンネル | H4: 管理者名 | J4: 長門土木建築事務所 | M4: 定期点検者名 | P4: 妹尾 優大
B5: 写真 番号 | C5: 覆工 スパン 番号 | D5: S002 | M5: 写真 番号 | N5: 覆工 スパン 番号 | O5: =D5 -> S002
C7: 変状 番号 | D7: 3 | N7: 変状 番号 | O7: =D7+1 -> 4
B9: 変状 部位 | C9: 対象 箇所 | D9: 路面 | M9: 変状 部位 | N9: 対象 箇所 | O9: 路面
C11: 部位 区分 | D11: 側溝 | N11: 部位 区分 | O11: 車道
B13: 変状区分 | D13: 漏水 | M13: 変状区分 | O13: 漏水
B14: 変状種類 | D14: 滞水 | M14: 変状種類 | O14: 滞水
B15: 対策 区分 | C15: 応急措置前 | M15: 対策 区分 | N15: 応急措置前
C16: 応急措置後 | E16: － | N16: 応急措置後 | P16: －
B17: 健全性 | D17: － | M17: 健全性 | O17: －
B18: 変状の発生範囲の規模 | E18: - | M18: 変状の発生範囲の規模 | P18: -
B19: 前回定期点検時の状態 | E19: 0.5m×1.9mの滞水 | M19: 前回定期点検時の状態 | P19: 0.3m×0.1mの滞水、0.3m×2.0mの土砂堆積
B20: 調査方針 | E20: なし | M20: 調査方針 | P20: なし
B21: 対策履歴 | E21: なし | H21: 実施状況（実施日） | M21: 対策履歴 | P21: なし | S21: 実施状況（実施日）
B22: メモ | D22: 滞水跡 | M22: メモ | O22: 漏水、堆砂跡
B23: 写真 番号 | C23: 覆工 スパン 番号 | D23: S003 | M23: 写真 番号 | N23: 覆工 スパン 番号 | O23: =D23 -> S003
C25: 変状 番号 | D25: 1 | N25: 変状 番号 | O25: =D25+1 -> 2
B27: 変状 部位 | C27: 対象 箇所 | D27: 覆工・坑門 | M27: 変状 部位 | N27: 対象 箇所 | O27: 覆工・坑門
C29: 部位 区分 | D29: 側壁（左側） | N29: 部位 区分 | O29: アーチ（左側）
B31: 変状区分 | D31: 漏水 | M31: 変状区分 | O31: 漏水
B32: 変状種類 | D32: 漏水 | M32: 変状種類 | O32: 漏水
B33: 対策 区分 | C33: 応急措置前 | M33: 対策 区分 | N33: 応急措置前
C34: 応急措置後 | E34: Ⅱb | N34: 応急措置後 | P34: Ⅰ
B35: 健全性 | D35: Ⅱ | M35: 健全性 | O35: Ⅰ
B36: 変状の発生範囲の規模 | E36: 0.5m×0.5m | M36: 変状の発生範囲の規模 | P36: -
B37: 前回定期点検時の状態 | E37: 漏水、にじみ | M37: 前回定期点検時の状態 | P37: 漏水、にじみ
B38: 調査方針 | E38: なし | M38: 調査方針 | P38: なし
B39: 対策履歴 | E39: なし | H39: 実施状況（実施日） | M39: 対策履歴 | P39: 導水工 | S39: 実施状況（実施日）
B40: メモ | D40: 漏水、にじみ | M40: メモ | O40: 導水工新設により対策済
C41: ※ 健全性の判定区分Ⅱ～Ⅳについて添付すること。また、点検前に実施 された措置によりⅠと判定された箇所も添付すること。 | N41: ※ 変状の発生範囲の規模とは、対策を行う際に参考となる変状の長さや面積をいう。
N42: ※ 応急措置を実施しないで判定した変状の対策区分は、対策区分の応急措置後の欄に記入すること。
C43: ※ たたき落としを実施した場合は、実施後の写真を添付すること。 | N43: ※ 変状の発生範囲の規模は、面積・寸法を記載すること。
C44: ※ 画像データは100kb程度とする。 | N44: (ひび割れ幅のみmmとし、その他をm表記とする)
C45: ※ 変状数に準じてシートを追加すること。（１シートに１ページとすること。） | N45: ※ 構造用鋼材以外の異物に伴ううき・はく離については、メモ欄に異物の概要を記入すること。

Sheet 様式D-1-1 (8)
B2: ■定期点検記録様式 変状写真台帳（トンネル本体工） 【様式D-1-1】
B3: フリガナ | D3: オオザサ | H3: 路 線 名 | J3: 一般県道俵山長門古市停車場線 | M3: 定期点検業者 | P3: 株式会社オリエンタルコンサルタンツ | S3: 定期点検年月日 | U3: 45271
B4: 名 称 | D4: 大笹トンネル | H4: 管理者名 | J4: 長門土木建築事務所 | M4: 定期点検者名 | P4: 妹尾 優大
B5: 写真 番号 | C5: 覆工 スパン 番号 | D5: S003 | M5: 写真 番号 | N5: 覆工 スパン 番号 | O5: =D5 -> S003
C7: 変状 番号 | D7: 3 | N7: 変状 番号 | O7: =D7+1 -> 4
B9: 変状 部位 | C9: 対象 箇所 | D9: 覆工・坑門 | M9: 変状 部位 | N9: 対象 箇所 | O9: 覆工・坑門
C11: 部位 区分 | D11: 横断目地（右側） | N11: 部位 区分 | O11: アーチ（右側）
B13: 変状区分 | D13: 材質劣化 | M13: 変状区分 | O13: 材質劣化
B14: 変状種類 | D14: うき・はく離 | M14: 変状種類 | O14: その他
B15: 対策 区分 | C15: 応急措置前 | M15: 対策 区分 | N15: 応急措置前
C16: 応急措置後 | E16: Ⅰ | N16: 応急措置後 | P16: Ⅱb
B17: 健全性 | D17: Ⅰ | M17: 健全性 | O17: Ⅱ
B18: 変状の発生範囲の規模 | E18: - | M18: 変状の発生範囲の規模 | P18: 0.2m×0.2m
B19: 前回定期点検時の状態 | E19: 1.7m×0.2m、1.7m×0.2m、1.8m×0.2mの補修跡のうき | M19: 前回定期点検時の状態 | P19: 0.2m×0.2mの木片
B20: 調査方針 | E20: なし | M20: 調査方針 | P20: なし
B21: 対策履歴 | E21: 導水工 | H21: 実施状況（実施日） | M21: 対策履歴 | P21: なし | S21: 実施状況（実施日）
B22: メモ | D22: 導水工の新設により対策済 | M22: メモ | O22: 異物混入(木片)
B23: 写真 番号 | C23: 覆工 スパン 番号 | D23: =O5 -> S003 | M23: 写真 番号 | N23: 覆工 スパン 番号 | O23: =D23 -> S003
C25: 変状 番号 | D25: =O7+1 -> 5 | N25: 変状 番号 | O25: =D25+1 -> 6
B27: 変状 部位 | C27: 対象 箇所 | D27: 覆工・坑門 | M27: 変状 部位 | N27: 対象 箇所 | O27: 覆工・坑門
C29: 部位 区分 | D29: アーチ（右側） | N29: 部位 区分 | O29: アーチ（右側）
B31: 変状区分 | D31: 漏水 | M31: 変状区分 | O31: 材質劣化
B32: 変状種類 | D32: 漏水 | M32: 変状種類 | O32: うき・はく離
B33: 対策 区分 | C33: 応急措置前 | M33: 対策 区分 | N33: 応急措置前
C34: 応急措置後 | E34: Ⅰ | N34: 応急措置後 | P34: Ⅰ
B35: 健全性 | D35: Ⅰ | M35: 健全性 | O35: Ⅰ
B36: 変状の発生範囲の規模 | E36: - | M36: 変状の発生範囲の規模 | P36: -
B37: 前回定期点検時の状態 | E37: 漏水、にじみ | M37: 前回定期点検時の状態 | P37: 0.2m×0.8mのうき
B38: 調査方針 | E38: なし | M38: 調査方針 | P38: なし
B39: 対策履歴 | E39: 導水工 | H39: 実施状況（実施日） | M39: 対策履歴 | P39: 導水工 | S39: 実施状況（実施日）
B40: メモ | D40: 導水工の新設により対策済 | M40: メモ | O40: 導水工新設により対策済
C41: ※ 健全性の判定区分Ⅱ～Ⅳについて添付すること。また、点検前に実施 された措置によりⅠと判定された箇所も添付すること。 | N41: ※ 変状の発生範囲の規模とは、対策を行う際に参考となる変状の長さや面積をいう。
N42: ※ 応急措置を実施しないで判定した変状の対策区分は、対策区分の応急措置後の欄に記入すること。
C43: ※ たたき落としを実施した場合は、実施後の写真を添付すること。 | N43: ※ 変状の発生範囲の規模は、面積・寸法を記載すること。
C44: ※ 画像データは100kb程度とする。 | N44: (ひび割れ幅のみmmとし、その他をm表記とする)
C45: ※ 変状数に準じてシートを追加すること。（１シートに１ページとすること。） | N45: ※ 構造用鋼材以外の異物に伴ううき・はく離については、メモ欄に異物の概要を記入すること。

Sheet 様式D-1-1 (9)
B2: ■定期点検記録様式 変状写真台帳（トンネル本体工） 【様式D-1-1】
B3: フリガナ | D3: オオザサ | H3: 路 線 名 | J3: 一般県道俵山長門古市停車場線 | M3: 定期点検業者 | P3: 株式会社オリエンタルコンサルタンツ | S3: 定期点検年月日 | U3: 45271
B4: 名 称 | D4: 大笹トンネル | H4: 管理者名 | J4: 長門土木建築事務所 | M4: 定期点検者名 | P4: 妹尾 優大
B5: 写真 番号 | C5: 覆工 スパン 番号 | D5: S003 | M5: 写真 番号 | N5: 覆工 スパン 番号 | O5: =D5 -> S003
C7: 変状 番号 | D7: 7 | N7: 変状 番号 | O7: =D7+1 -> 8
B9: 変状 部位 | C9: 対象 箇所 | D9: 路面 | M9: 変状 部位 | N9: 対象 箇所 | O9: 路面
C11: 部位 区分 | D11: 側溝 | N11: 部位 区分 | O11: 側溝
B13: 変状区分 | D13: 漏水 | M13: 変状区分 | O13: 漏水
B14: 変状種類 | D14: 滞水 | M14: 変状種類 | O14: 滞水
B15: 対策 区分 | C15: 応急措置前 | M15: 対策 区分 | N15: 応急措置前
C16: 応急措置後 | E16: － | N16: 応急措置後 | P16: －
B17: 健全性 | D17: － | M17: 健全性 | O17: －
B18: 変状の発生範囲の規模 | E18: 0.4m×0.9m | M18: 変状の発生範囲の規模 | P18: 0.3m×1.2m
B19: 前回定期点検時の状態 | E19: 0.4m×0.3m、0.5ｍ×0.9mの滞水 | M19: 前回定期点検時の状態 | P19: 0.4m×1.2m、0.6m0.9mの滞水
B20: 調査方針 | E20: なし | M20: 調査方針 | P20: なし
B21: 対策履歴 | E21: なし | H21: 実施状況（実施日） | M21: 対策履歴 | P21: なし | S21: 実施状況（実施日）
B22: メモ | D22: 滞水 | M22: メモ | O22: 滞水
B23: 写真 番号 | C23: 覆工 スパン 番号 | D23: S004 | M23: 写真 番号 | N23: 覆工 スパン 番号 | O23: =D23 -> S004
C25: 変状 番号 | D25: 1 | N25: 変状 番号 | O25: =D25+1 -> 2
B27: 変状 部位 | C27: 対象 箇所 | D27: 覆工・坑門 | M27: 変状 部位 | N27: 対象 箇所 | O27: 覆工・坑門
C29: 部位 区分 | D29: アーチ（左側） | N29: 部位 区分 | O29: アーチ（左側）
B31: 変状区分 | D31: 漏水 | M31: 変状区分 | O31: 材質劣化
B32: 変状種類 | D32: 漏水 | M32: 変状種類 | O32: その他
B33: 対策 区分 | C33: 応急措置前 | M33: 対策 区分 | N33: 応急措置前
C34: 応急措置後 | E34: Ⅱb | N34: 応急措置後 | P34: Ⅱb
B35: 健全性 | D35: Ⅱ | M35: 健全性 | O35: Ⅱ
B36: 変状の発生範囲の規模 | E36: 3.6m×1.0m | M36: 変状の発生範囲の規模 | P36: 0.2m×0.05m
B37: 前回定期点検時の状態 | E37: 漏水、にじみ | M37: 前回定期点検時の状態 | P37: 0.2m×0.05mの木片
B38: 調査方針 | E38: なし | M38: 調査方針 | P38: なし
B39: 対策履歴 | E39: なし | H39: 実施状況（実施日） | M39: 対策履歴 | P39: なし | S39: 実施状況（実施日）
B40: メモ | D40: ひびわれからの漏水、にじみ | M40: メモ | O40: 異物混入(木片)
C41: ※ 健全性の判定区分Ⅱ～Ⅳについて添付すること。また、点検前に実施 された措置によりⅠと判定された箇所も添付すること。 | N41: ※ 変状の発生範囲の規模とは、対策を行う際に参考となる変状の長さや面積をいう。
N42: ※ 応急措置を実施しないで判定した変状の対策区分は、対策区分の応急措置後の欄に記入すること。
C43: ※ たたき落としを実施した場合は、実施後の写真を添付すること。 | N43: ※ 変状の発生範囲の規模は、面積・寸法を記載すること。
C44: ※ 画像データは100kb程度とする。 | N44: (ひび割れ幅のみmmとし、その他をm表記とする)
C45: ※ 変状数に準じてシートを追加すること。（１シートに１ページとすること。） | N45: ※ 構造用鋼材以外の異物に伴ううき・はく離については、メモ欄に異物の概要を記入すること。

Sheet 様式D-1-1 (10)
B2: ■定期点検記録様式 変状写真台帳（トンネル本体工） 【様式D-1-1】
B3: フリガナ | D3: オオザサ | H3: 路 線 名 | J3: 一般県道俵山長門古市停車場線 | M3: 定期点検業者 | P3: 株式会社オリエンタルコンサルタンツ | S3: 定期点検年月日 | U3: 45271
B4: 名 称 | D4: 大笹トンネル | H4: 管理者名 | J4: 長門土木建築事務所 | M4: 定期点検者名 | P4: 妹尾 優大
B5: 写真 番号 | C5: 覆工 スパン 番号 | D5: S004 | M5: 写真 番号 | N5: 覆工 スパン 番号 | O5: S005
C7: 変状 番号 | D7: 3 | N7: 変状 番号 | O7: 1
B9: 変状 部位 | C9: 対象 箇所 | D9: 路面 | M9: 変状 部位 | N9: 対象 箇所 | O9: 覆工・坑門
C11: 部位 区分 | D11: 側溝 | N11: 部位 区分 | O11: 水平打ち継ぎ目（左側）
B13: 変状区分 | D13: 漏水 | M13: 変状区分 | O13: 材質劣化
B14: 変状種類 | D14: 滞水 | M14: 変状種類 | O14: うき・はく離
B15: 対策 区分 | C15: 応急措置前 | M15: 対策 区分 | N15: 応急措置前
C16: 応急措置後 | E16: － | N16: 応急措置後 | P16: Ⅱa
B17: 健全性 | D17: － | M17: 健全性 | O17: Ⅱ
B18: 変状の発生範囲の規模 | E18: 0.3m×1.7m | M18: 変状の発生範囲の規模 | P18: 0.1m×0.2m
B19: 前回定期点検時の状態 | E19: 0.3m×0.6m、0.3m×0.6mの滞水 | M19: 前回定期点検時の状態 | P19: 0.1m×0.2mのうき
B20: 調査方針 | E20: なし | M20: 調査方針 | P20: なし
B21: 対策履歴 | E21: なし | H21: 実施状況（実施日） | M21: 対策履歴 | P21: なし | S21: 実施状況（実施日）
B22: メモ | D22: 滞水 | M22: メモ | O22: うき
B23: 写真 番号 | C23: 覆工 スパン 番号 | D23: =O5 -> S005 | M23: 写真 番号 | N23: 覆工 スパン 番号 | O23: =D23 -> S005
C25: 変状 番号 | D25: =O7+1 -> 2 | N25: 変状 番号 | O25: =D25+1 -> 3
B27: 変状 部位 | C27: 対象 箇所 | D27: 覆工・坑門 | M27: 変状 部位 | N27: 対象 箇所 | O27: 覆工・坑門
C29: 部位 区分 | D29: 水平打ち継ぎ目（左側） | N29: 部位 区分 | O29: アーチ（左側）
B31: 変状区分 | D31: 材質劣化 | M31: 変状区分 | O31: 材質劣化
B32: 変状種類 | D32: うき・はく離 | M32: 変状種類 | O32: うき・はく離
B33: 対策 区分 | C33: 応急措置前 | M33: 対策 区分 | N33: 応急措置前
C34: 応急措置後 | E34: Ⅰ | N34: 応急措置後 | P34: Ⅱb
B35: 健全性 | D35: Ⅰ | M35: 健全性 | O35: Ⅱ
B36: 変状の発生範囲の規模 | E36: 0.6m×3.1m | M36: 変状の発生範囲の規模 | P36: 0.05m×0.4m
B37: 前回定期点検時の状態 | E37: 0.1m×0.3m、0.2m×1.0m、0.3m×0.5m、0.2m×1.0mのはく落 | M37: 前回定期点検時の状態 | P37: 0.05m×0.4mのはく落
B38: 調査方針 | E38: なし | M38: 調査方針 | P38: なし
B39: 対策履歴 | E39: はく落防止工 | H39: 実施状況（実施日） | M39: 対策履歴 | P39: なし | S39: 実施状況（実施日）
B40: メモ | D40: はく落防止工対策済 | M40: メモ | O40: はく落
C41: ※ 健全性の判定区分Ⅱ～Ⅳについて添付すること。また、点検前に実施 された措置によりⅠと判定された箇所も添付すること。 | N41: ※ 変状の発生範囲の規模とは、対策を行う際に参考となる変状の長さや面積をいう。
N42: ※ 応急措置を実施しないで判定した変状の対策区分は、対策区分の応急措置後の欄に記入すること。
C43: ※ たたき落としを実施した場合は、実施後の写真を添付すること。 | N43: ※ 変状の発生範囲の規模は、面積・寸法を記載すること。
C44: ※ 画像データは100kb程度とする。 | N44: (ひび割れ幅のみmmとし、その他をm表記とする)
C45: ※ 変状数に準じてシートを追加すること。（１シートに１ページとすること。） | N45: ※ 構造用鋼材以外の異物に伴ううき・はく離については、メモ欄に異物の概要を記入すること。

Sheet 様式D-1-1 (11)
B2: ■定期点検記録様式 変状写真台帳（トンネル本体工） 【様式D-1-1】
B3: フリガナ | D3: オオザサ | H3: 路 線 名 | J3: 一般県道俵山長門古市停車場線 | M3: 定期点検業者 | P3: 株式会社オリエンタルコンサルタンツ | S3: 定期点検年月日 | U3: 45271
B4: 名 称 | D4: 大笹トンネル | H4: 管理者名 | J4: 長門土木建築事務所 | M4: 定期点検者名 | P4: 妹尾 優大
B5: 写真 番号 | C5: 覆工 スパン 番号 | D5: S005 | M5: 写真 番号 | N5: 覆工 スパン 番号 | O5: S005
C7: 変状 番号 | D7: 4 | N7: 変状 番号 | O7: =D7+1 -> 5
B9: 変状 部位 | C9: 対象 箇所 | D9: 覆工・坑門 | M9: 変状 部位 | N9: 対象 箇所 | O9: 覆工・坑門
C11: 部位 区分 | D11: アーチ（左側） | N11: 部位 区分 | O11: アーチ（右側）
B13: 変状区分 | D13: 材質劣化 | M13: 変状区分 | O13: 材質劣化
B14: 変状種類 | D14: うき・はく離 | M14: 変状種類 | O14: うき・はく離
B15: 対策 区分 | C15: 応急措置前 | M15: 対策 区分 | N15: 応急措置前
C16: 応急措置後 | E16: Ⅰ | N16: 応急措置後 | P16: Ⅰ
B17: 健全性 | D17: Ⅰ | M17: 健全性 | O17: Ⅰ
B18: 変状の発生範囲の規模 | E18: 2.7m×1.5m | M18: 変状の発生範囲の規模 | P18: 1.3m×1.0m
B19: 前回定期点検時の状態 | E19: 0.3m×0.2mのはく落 | M19: 前回定期点検時の状態 | P19: 0.2m×0.3m、0.2m×0.2mのはく落
B20: 調査方針 | E20: なし | M20: 調査方針 | P20: なし
B21: 対策履歴 | E21: はく落防止工 | H21: 実施状況（実施日） | M21: 対策履歴 | P21: はく落防止工 | S21: 実施状況（実施日）
B22: メモ | D22: はく落防止工対策済 | M22: メモ | O22: はく落防止工対策済
B23: 写真 番号 | C23: 覆工 スパン 番号 | D23: =O5 -> S005 | M23: 写真 番号 | N23: 覆工 スパン 番号 | O23: =D23 -> S005
C25: 変状 番号 | D25: =O7+1 -> 6 | N25: 変状 番号 | O25: =D25+1 -> 7
B27: 変状 部位 | C27: 対象 箇所 | D27: 覆工・坑門 | M27: 変状 部位 | N27: 対象 箇所 | O27: 覆工・坑門
C29: 部位 区分 | D29: アーチ（右側） | N29: 部位 区分 | O29: アーチ（右側）
B31: 変状区分 | D31: 材質劣化 | M31: 変状区分 | O31: 漏水
B32: 変状種類 | D32: うき・はく離 | M32: 変状種類 | O32: 漏水
B33: 対策 区分 | C33: 応急措置前 | M33: 対策 区分 | N33: 応急措置前
C34: 応急措置後 | E34: Ⅰ | N34: 応急措置後 | P34: Ⅰ
B35: 健全性 | D35: Ⅰ | M35: 健全性 | O35: Ⅰ
B36: 変状の発生範囲の規模 | E36: 1.0m×1.8m | M36: 変状の発生範囲の規模 | P36: -
B37: 前回定期点検時の状態 | E37: 0.05m×0.2mのはく落、0.1m×0.25mのうき | M37: 前回定期点検時の状態 | P37: 漏水、にじみ
B38: 調査方針 | E38: なし | M38: 調査方針 | P38: なし
B39: 対策履歴 | E39: はく落防止工 | H39: 実施状況（実施日） | M39: 対策履歴 | P39: 導水工 | S39: 実施状況（実施日）
B40: メモ | D40: はく落防止工対策済 | M40: メモ | O40: 導水工新設により対策済
C41: ※ 健全性の判定区分Ⅱ～Ⅳについて添付すること。また、点検前に実施 された措置によりⅠと判定された箇所も添付すること。 | N41: ※ 変状の発生範囲の規模とは、対策を行う際に参考となる変状の長さや面積をいう。
N42: ※ 応急措置を実施しないで判定した変状の対策区分は、対策区分の応急措置後の欄に記入すること。
C43: ※ たたき落としを実施した場合は、実施後の写真を添付すること。 | N43: ※ 変状の発生範囲の規模は、面積・寸法を記載すること。
C44: ※ 画像データは100kb程度とする。 | N44: (ひび割れ幅のみmmとし、その他をm表記とする)
C45: ※ 変状数に準じてシートを追加すること。（１シートに１ページとすること。） | N45: ※ 構造用鋼材以外の異物に伴ううき・はく離については、メモ欄に異物の概要を記入すること。

Sheet 様式D-1-1 (12)
B2: ■定期点検記録様式 変状写真台帳（トンネル本体工） 【様式D-1-1】
B3: フリガナ | D3: オオザサ | H3: 路 線 名 | J3: 一般県道俵山長門古市停車場線 | M3: 定期点検業者 | P3: 株式会社オリエンタルコンサルタンツ | S3: 定期点検年月日 | U3: 45271
B4: 名 称 | D4: 大笹トンネル | H4: 管理者名 | J4: 長門土木建築事務所 | M4: 定期点検者名 | P4: 妹尾 優大
B5: 写真 番号 | C5: 覆工 スパン 番号 | D5: S005 | M5: 写真 番号 | N5: 覆工 スパン 番号 | O5: =D5 -> S005
C7: 変状 番号 | D7: 8 | N7: 変状 番号 | O7: =D7+1 -> 9
B9: 変状 部位 | C9: 対象 箇所 | D9: 覆工・坑門 | M9: 変状 部位 | N9: 対象 箇所 | O9: 路面
C11: 部位 区分 | D11: 水平打ち継ぎ目（右側） | N11: 部位 区分 | O11: 車道
B13: 変状区分 | D13: 材質劣化 | M13: 変状区分 | O13: 漏水
B14: 変状種類 | D14: うき・はく離 | M14: 変状種類 | O14: 滞水
B15: 対策 区分 | C15: 応急措置前 | M15: 対策 区分 | N15: 応急措置前
C16: 応急措置後 | E16: Ⅱa | N16: 応急措置後 | P16: －
B17: 健全性 | D17: Ⅱ | M17: 健全性 | O17: －
B18: 変状の発生範囲の規模 | E18: 0.1m×5.6m | M18: 変状の発生範囲の規模 | P18: -
B19: 前回定期点検時の状態 | E19: 0.1m×1.2mのうき | M19: 前回定期点検時の状態 | P19: 0.3m×0.7mの滞水
B20: 調査方針 | E20: なし | M20: 調査方針 | P20: なし
B21: 対策履歴 | E21: なし | H21: 実施状況（実施日） | M21: 対策履歴 | P21: なし | S21: 実施状況（実施日）
B22: メモ | D22: うき | M22: メモ | O22: 滞水跡
B23: 写真 番号 | C23: 覆工 スパン 番号 | D23: S006 | M23: 写真 番号 | N23: 覆工 スパン 番号 | O23: =D23 -> S006
C25: 変状 番号 | D25: 1 | N25: 変状 番号 | O25: =D25+1 -> 2
B27: 変状 部位 | C27: 対象 箇所 | D27: 覆工・坑門 | M27: 変状 部位 | N27: 対象 箇所 | O27: 覆工・坑門
C29: 部位 区分 | D29: 水平打ち継ぎ目（左側） | N29: 部位 区分 | O29: アーチ（左側）
B31: 変状区分 | D31: 材質劣化 | M31: 変状区分 | O31: 材質劣化
B32: 変状種類 | D32: うき・はく離 | M32: 変状種類 | O32: うき・はく離
B33: 対策 区分 | C33: 応急措置前 | M33: 対策 区分 | N33: 応急措置前
C34: 応急措置後 | E34: Ⅱa | N34: 応急措置後 | P34: Ⅰ
B35: 健全性 | D35: Ⅱ | M35: 健全性 | O35: Ⅰ
B36: 変状の発生範囲の規模 | E36: 0.25m×0.45m | M36: 変状の発生範囲の規模 | P36: 1.3m×1.3m
B37: 前回定期点検時の状態 | E37: - | M37: 前回定期点検時の状態 | P37: 0.2m×0.3mのうき
B38: 調査方針 | E38: なし | M38: 調査方針 | P38: なし
B39: 対策履歴 | E39: なし | H39: 実施状況（実施日） | M39: 対策履歴 | P39: はく落防止工 | S39: 実施状況（実施日）
B40: メモ | D40: うき | M40: メモ | O40: はく落防止工対策済
C41: ※ 健全性の判定区分Ⅱ～Ⅳについて添付すること。また、点検前に実施 された措置によりⅠと判定された箇所も添付すること。 | N41: ※ 変状の発生範囲の規模とは、対策を行う際に参考となる変状の長さや面積をいう。
N42: ※ 応急措置を実施しないで判定した変状の対策区分は、対策区分の応急措置後の欄に記入すること。
C43: ※ たたき落としを実施した場合は、実施後の写真を添付すること。 | N43: ※ 変状の発生範囲の規模は、面積・寸法を記載すること。
C44: ※ 画像データは100kb程度とする。 | N44: (ひび割れ幅のみmmとし、その他をm表記とする)
C45: ※ 変状数に準じてシートを追加すること。（１シートに１ページとすること。） | N45: ※ 構造用鋼材以外の異物に伴ううき・はく離については、メモ欄に異物の概要を記入すること。

Sheet 様式D-1-1 (13)
B2: ■定期点検記録様式 変状写真台帳（トンネル本体工） 【様式D-1-1】
B3: フリガナ | D3: オオザサ | H3: 路 線 名 | J3: 一般県道俵山長門古市停車場線 | M3: 定期点検業者 | P3: 株式会社オリエンタルコンサルタンツ | S3: 定期点検年月日 | U3: 45271
B4: 名 称 | D4: 大笹トンネル | H4: 管理者名 | J4: 長門土木建築事務所 | M4: 定期点検者名 | P4: 妹尾 優大
B5: 写真 番号 | C5: 覆工 スパン 番号 | D5: S006 | M5: 写真 番号 | N5: 覆工 スパン 番号 | O5: =D5 -> S006
C7: 変状 番号 | D7: 3 | N7: 変状 番号 | O7: =D7+1 -> 4
B9: 変状 部位 | C9: 対象 箇所 | D9: 覆工・坑門 | M9: 変状 部位 | N9: 対象 箇所 | O9: 路面
C11: 部位 区分 | D11: 側壁（右側） | N11: 部位 区分 | O11: 車道
B13: 変状区分 | D13: 材質劣化 | M13: 変状区分 | O13: 漏水
B14: 変状種類 | D14: うき・はく離 | M14: 変状種類 | O14: 滞水
B15: 対策 区分 | C15: 応急措置前 | M15: 対策 区分 | N15: 応急措置前
C16: 応急措置後 | E16: Ⅰ | N16: 応急措置後 | P16: －
B17: 健全性 | D17: Ⅰ | M17: 健全性 | O17: －
B18: 変状の発生範囲の規模 | E18: - | M18: 変状の発生範囲の規模 | P18: -
B19: 前回定期点検時の状態 | E19: 1.2m×0.1mのうき | M19: 前回定期点検時の状態 | P19: 0.7m×0.5m、0.7m×0.6mの滞水
B20: 調査方針 | E20: なし | M20: 調査方針 | P20: なし
B21: 対策履歴 | E21: 導水工 | H21: 実施状況（実施日） | M21: 対策履歴 | P21: なし | S21: 実施状況（実施日）
B22: メモ | D22: 導水工新設により対策済 | M22: メモ | O22: 滞水跡
B23: 写真 番号 | C23: 覆工 スパン 番号 | D23: =O5 -> S006 | M23: 写真 番号 | N23: 覆工 スパン 番号 | O23: S007
C25: 変状 番号 | D25: =O7+1 -> 5 | N25: 変状 番号 | O25: 1
B27: 変状 部位 | C27: 対象 箇所 | D27: 路面 | M27: 変状 部位 | N27: 対象 箇所 | O27: 覆工・坑門
C29: 部位 区分 | D29: 車道 | N29: 部位 区分 | O29: 水平打ち継ぎ目（左側）
B31: 変状区分 | D31: 漏水 | M31: 変状区分 | O31: 材質劣化
B32: 変状種類 | D32: 滞水 | M32: 変状種類 | O32: うき・はく離
B33: 対策 区分 | C33: 応急措置前 | M33: 対策 区分 | N33: 応急措置前
C34: 応急措置後 | E34: － | N34: 応急措置後 | P34: Ⅱa
B35: 健全性 | D35: － | M35: 健全性 | O35: Ⅱ
B36: 変状の発生範囲の規模 | E36: - | M36: 変状の発生範囲の規模 | P36: 0.2m×0.55m
B37: 前回定期点検時の状態 | E37: 1.4m×0.3m、1.5m×0.6mの滞水 | M37: 前回定期点検時の状態 | P37: -
B38: 調査方針 | E38: なし | M38: 調査方針 | P38: なし
B39: 対策履歴 | E39: なし | H39: 実施状況（実施日） | M39: 対策履歴 | P39: なし | S39: 実施状況（実施日）
B40: メモ | D40: 滞水跡 | M40: メモ | O40: うき
C41: ※ 健全性の判定区分Ⅱ～Ⅳについて添付すること。また、点検前に実施 された措置によりⅠと判定された箇所も添付すること。 | N41: ※ 変状の発生範囲の規模とは、対策を行う際に参考となる変状の長さや面積をいう。
N42: ※ 応急措置を実施しないで判定した変状の対策区分は、対策区分の応急措置後の欄に記入すること。
C43: ※ たたき落としを実施した場合は、実施後の写真を添付すること。 | N43: ※ 変状の発生範囲の規模は、面積・寸法を記載すること。
C44: ※ 画像データは100kb程度とする。 | N44: (ひび割れ幅のみmmとし、その他をm表記とする)
C45: ※ 変状数に準じてシートを追加すること。（１シートに１ページとすること。） | N45: ※ 構造用鋼材以外の異物に伴ううき・はく離については、メモ欄に異物の概要を記入すること。

Sheet 様式D-1-1 (14)
B2: ■定期点検記録様式 変状写真台帳（トンネル本体工） 【様式D-1-1】
B3: フリガナ | D3: オオザサ | H3: 路 線 名 | J3: 一般県道俵山長門古市停車場線 | M3: 定期点検業者 | P3: 株式会社オリエンタルコンサルタンツ | S3: 定期点検年月日 | U3: 45271
B4: 名 称 | D4: 大笹トンネル | H4: 管理者名 | J4: 長門土木建築事務所 | M4: 定期点検者名 | P4: 妹尾 優大
B5: 写真 番号 | C5: 覆工 スパン 番号 | D5: S007 | M5: 写真 番号 | N5: 覆工 スパン 番号 | O5: =D5 -> S007
C7: 変状 番号 | D7: 2 | N7: 変状 番号 | O7: =D7+1 -> 3
B9: 変状 部位 | C9: 対象 箇所 | D9: 覆工・坑門 | M9: 変状 部位 | N9: 対象 箇所 | O9: 覆工・坑門
C11: 部位 区分 | D11: 横断目地（左側） | N11: 部位 区分 | O11: アーチ（左側）
B13: 変状区分 | D13: 漏水 | M13: 変状区分 | O13: 材質劣化
B14: 変状種類 | D14: 漏水 | M14: 変状種類 | O14: うき・はく離
B15: 対策 区分 | C15: 応急措置前 | M15: 対策 区分 | N15: 応急措置前
C16: 応急措置後 | E16: Ⅰ | N16: 応急措置後 | P16: Ⅰ
B17: 健全性 | D17: Ⅰ | M17: 健全性 | O17: Ⅰ
B18: 変状の発生範囲の規模 | E18: - | M18: 変状の発生範囲の規模 | P18: 1.15m×1.2m
B19: 前回定期点検時の状態 | E19: 漏水、にじみ | M19: 前回定期点検時の状態 | P19: 0.1m×0.2mのうき
B20: 調査方針 | E20: なし | M20: 調査方針 | P20: なし
B21: 対策履歴 | E21: 導水工 | H21: 実施状況（実施日） | M21: 対策履歴 | P21: はく落防止工 | S21: 実施状況（実施日）
B22: メモ | D22: 導水工新設により対策済 | M22: メモ | O22: はく落防止工対策済
B23: 写真 番号 | C23: 覆工 スパン 番号 | D23: =O5 -> S007 | M23: 写真 番号 | N23: 覆工 スパン 番号 | O23: =D23 -> S007
C25: 変状 番号 | D25: =O7+1 -> 4 | N25: 変状 番号 | O25: =D25+1 -> 5
B27: 変状 部位 | C27: 対象 箇所 | D27: 覆工・坑門 | M27: 変状 部位 | N27: 対象 箇所 | O27: 覆工・坑門
C29: 部位 区分 | D29: アーチ（右側） | N29: 部位 区分 | O29: 水平打ち継ぎ目（右側）
B31: 変状区分 | D31: 材質劣化 | M31: 変状区分 | O31: 漏水
B32: 変状種類 | D32: うき・はく離 | M32: 変状種類 | O32: 漏水
B33: 対策 区分 | C33: 応急措置前 | M33: 対策 区分 | N33: 応急措置前
C34: 応急措置後 | E34: Ⅰ | N34: 応急措置後 | P34: Ⅰ
B35: 健全性 | D35: Ⅰ | M35: 健全性 | O35: Ⅰ
B36: 変状の発生範囲の規模 | E36: 2.0m×2.0m | M36: 変状の発生範囲の規模 | P36: -
B37: 前回定期点検時の状態 | E37: 0.6m×0.7mのうき | M37: 前回定期点検時の状態 | P37: 漏水、にじみ
B38: 調査方針 | E38: なし | M38: 調査方針 | P38: なし
B39: 対策履歴 | E39: はく落防止工 | H39: 実施状況（実施日） | M39: 対策履歴 | P39: 導水工 | S39: 実施状況（実施日）
B40: メモ | D40: はく落防止工対策済 | M40: メモ | O40: 導水工新設により対策済
C41: ※ 健全性の判定区分Ⅱ～Ⅳについて添付すること。また、点検前に実施 された措置によりⅠと判定された箇所も添付すること。 | N41: ※ 変状の発生範囲の規模とは、対策を行う際に参考となる変状の長さや面積をいう。
N42: ※ 応急措置を実施しないで判定した変状の対策区分は、対策区分の応急措置後の欄に記入すること。
C43: ※ たたき落としを実施した場合は、実施後の写真を添付すること。 | N43: ※ 変状の発生範囲の規模は、面積・寸法を記載すること。
C44: ※ 画像データは100kb程度とする。 | N44: (ひび割れ幅のみmmとし、その他をm表記とする)
C45: ※ 変状数に準じてシートを追加すること。（１シートに１ページとすること。） | N45: ※ 構造用鋼材以外の異物に伴ううき・はく離については、メモ欄に異物の概要を記入すること。

Sheet 様式D-1-1 (15)
B2: ■定期点検記録様式 変状写真台帳（トンネル本体工） 【様式D-1-1】
B3: フリガナ | D3: オオザサ | H3: 路 線 名 | J3: 一般県道俵山長門古市停車場線 | M3: 定期点検業者 | P3: 株式会社オリエンタルコンサルタンツ | S3: 定期点検年月日 | U3: 45271
B4: 名 称 | D4: 大笹トンネル | H4: 管理者名 | J4: 長門土木建築事務所 | M4: 定期点検者名 | P4: 妹尾 優大
B5: 写真 番号 | C5: 覆工 スパン 番号 | D5: S007 | M5: 写真 番号 | N5: 覆工 スパン 番号 | O5: =D5 -> S007
C7: 変状 番号 | D7: 6 | N7: 変状 番号 | O7: =D7+1 -> 7
B9: 変状 部位 | C9: 対象 箇所 | D9: 路面 | M9: 変状 部位 | N9: 対象 箇所 | O9: 路面
C11: 部位 区分 | D11: 側溝 | N11: 部位 区分 | O11: 車道
B13: 変状区分 | D13: 漏水 | M13: 変状区分 | O13: 漏水
B14: 変状種類 | D14: 滞水 | M14: 変状種類 | O14: 滞水
B15: 対策 区分 | C15: 応急措置前 | M15: 対策 区分 | N15: 応急措置前
C16: 応急措置後 | E16: － | N16: 応急措置後 | P16: －
B17: 健全性 | D17: － | M17: 健全性 | O17: －
B18: 変状の発生範囲の規模 | E18: 0.5m×1.0m | M18: 変状の発生範囲の規模 | P18: -
B19: 前回定期点検時の状態 | E19: - | M19: 前回定期点検時の状態 | P19: 0.4m×0.8ｍ、0.3m×0.9ｍの滞水
B20: 調査方針 | E20: なし | M20: 調査方針 | P20: なし
B21: 対策履歴 | E21: なし | H21: 実施状況（実施日） | M21: 対策履歴 | P21: なし | S21: 実施状況（実施日）
B22: メモ | D22: 滞水 | M22: メモ | O22: 滞水跡
B23: 写真 番号 | C23: 覆工 スパン 番号 | D23: S008 | M23: 写真 番号 | N23: 覆工 スパン 番号 | O23: =D23 -> S008
C25: 変状 番号 | D25: 1 | N25: 変状 番号 | O25: =D25+1 -> 2
B27: 変状 部位 | C27: 対象 箇所 | D27: 覆工・坑門 | M27: 変状 部位 | N27: 対象 箇所 | O27: 覆工・坑門
C29: 部位 区分 | D29: 横断目地（左側） | N29: 部位 区分 | O29: 水平打ち継ぎ目（右側）
B31: 変状区分 | D31: 材質劣化 | M31: 変状区分 | O31: 材質劣化
B32: 変状種類 | D32: うき・はく離 | M32: 変状種類 | O32: うき・はく離
B33: 対策 区分 | C33: 応急措置前 | M33: 対策 区分 | N33: 応急措置前
C34: 応急措置後 | E34: Ⅰ | N34: 応急措置後 | P34: Ⅱa
B35: 健全性 | D35: Ⅰ | M35: 健全性 | O35: Ⅱ
B36: 変状の発生範囲の規模 | E36: - | M36: 変状の発生範囲の規模 | P36: 0.2m×1.0m
B37: 前回定期点検時の状態 | E37: 0.3m×0.1mのうき | M37: 前回定期点検時の状態 | P37: 0.2m×1.0mのうき
B38: 調査方針 | E38: なし | M38: 調査方針 | P38: なし
B39: 対策履歴 | E39: 導水工 | H39: 実施状況（実施日） | M39: 対策履歴 | P39: なし | S39: 実施状況（実施日）
B40: メモ | D40: 導水工新設により対策済 | M40: メモ | O40: うき
C41: ※ 健全性の判定区分Ⅱ～Ⅳについて添付すること。また、点検前に実施 された措置によりⅠと判定された箇所も添付すること。 | N41: ※ 変状の発生範囲の規模とは、対策を行う際に参考となる変状の長さや面積をいう。
N42: ※ 応急措置を実施しないで判定した変状の対策区分は、対策区分の応急措置後の欄に記入すること。
C43: ※ たたき落としを実施した場合は、実施後の写真を添付すること。 | N43: ※ 変状の発生範囲の規模は、面積・寸法を記載すること。
C44: ※ 画像データは100kb程度とする。 | N44: (ひび割れ幅のみmmとし、その他をm表記とする)
C45: ※ 変状数に準じてシートを追加すること。（１シートに１ページとすること。） | N45: ※ 構造用鋼材以外の異物に伴ううき・はく離については、メモ欄に異物の概要を記入すること。

Sheet 様式D-1-1 (16)
B2: ■定期点検記録様式 変状写真台帳（トンネル本体工） 【様式D-1-1】
B3: フリガナ | D3: オオザサ | H3: 路 線 名 | J3: 一般県道俵山長門古市停車場線 | M3: 定期点検業者 | P3: 株式会社オリエンタルコンサルタンツ | S3: 定期点検年月日 | U3: 45271
B4: 名 称 | D4: 大笹トンネル | H4: 管理者名 | J4: 長門土木建築事務所 | M4: 定期点検者名 | P4: 妹尾 優大
B5: 写真 番号 | C5: 覆工 スパン 番号 | D5: S008 | M5: 写真 番号 | N5: 覆工 スパン 番号 | O5: =D5 -> S008
C7: 変状 番号 | D7: 3 | N7: 変状 番号 | O7: =D7+1 -> 4
B9: 変状 部位 | C9: 対象 箇所 | D9: 覆工・坑門 | M9: 変状 部位 | N9: 対象 箇所 | O9: 覆工・坑門
C11: 部位 区分 | D11: 水平打ち継ぎ目（右側） | N11: 部位 区分 | O11: 水平打ち継ぎ目（右側）
B13: 変状区分 | D13: 漏水 | M13: 変状区分 | O13: 材質劣化
B14: 変状種類 | D14: 漏水 | M14: 変状種類 | O14: うき・はく離
B15: 対策 区分 | C15: 応急措置前 | M15: 対策 区分 | N15: 応急措置前
C16: 応急措置後 | E16: Ⅱb | N16: 応急措置後 | P16: Ⅰ
B17: 健全性 | D17: Ⅱ | M17: 健全性 | O17: Ⅰ
B18: 変状の発生範囲の規模 | E18: 2.0m×0.5m | M18: 変状の発生範囲の規模 | P18: -
B19: 前回定期点検時の状態 | E19: 漏水、にじみ | M19: 前回定期点検時の状態 | P19: 0.2m×0.5mのはく落
B20: 調査方針 | E20: なし | M20: 調査方針 | P20: なし
B21: 対策履歴 | E21: なし | H21: 実施状況（実施日） | M21: 対策履歴 | P21: 導水工 | S21: 実施状況（実施日）
B22: メモ | D22: 漏水、にじみ | M22: メモ | O22: 導水工新設により対策済
B23: 写真 番号 | C23: 覆工 スパン 番号 | D23: S009 | M23: 写真 番号 | N23: 覆工 スパン 番号 | O23: =D23 -> S009
C25: 変状 番号 | D25: 1 | N25: 変状 番号 | O25: =D25+1 -> 2
B27: 変状 部位 | C27: 対象 箇所 | D27: 覆工・坑門 | M27: 変状 部位 | N27: 対象 箇所 | O27: 覆工・坑門
C29: 部位 区分 | D29: 横断目地（左側） | N29: 部位 区分 | O29: 横断目地（左側）
B31: 変状区分 | D31: 材質劣化 | M31: 変状区分 | O31: 材質劣化
B32: 変状種類 | D32: うき・はく離 | M32: 変状種類 | O32: うき・はく離
B33: 対策 区分 | C33: 応急措置前 | M33: 対策 区分 | N33: 応急措置前
C34: 応急措置後 | E34: Ⅰ | N34: 応急措置後 | P34: Ⅰ
B35: 健全性 | D35: Ⅰ | M35: 健全性 | O35: Ⅰ
B36: 変状の発生範囲の規模 | E36: - | M36: 変状の発生範囲の規模 | P36: -
B37: 前回定期点検時の状態 | E37: 0.2m×0.1mのはく落 | M37: 前回定期点検時の状態 | P37: 0.5m×0.1mのうき
B38: 調査方針 | E38: なし | M38: 調査方針 | P38: なし
B39: 対策履歴 | E39: 導水工 | H39: 実施状況（実施日） | M39: 対策履歴 | P39: 導水工 | S39: 実施状況（実施日）
B40: メモ | D40: 導水工新設により対策済 | M40: メモ | O40: 導水工新設により対策済
C41: ※ 健全性の判定区分Ⅱ～Ⅳについて添付すること。また、点検前に実施 された措置によりⅠと判定された箇所も添付すること。 | N41: ※ 変状の発生範囲の規模とは、対策を行う際に参考となる変状の長さや面積をいう。
N42: ※ 応急措置を実施しないで判定した変状の対策区分は、対策区分の応急措置後の欄に記入すること。
C43: ※ たたき落としを実施した場合は、実施後の写真を添付すること。 | N43: ※ 変状の発生範囲の規模は、面積・寸法を記載すること。
C44: ※ 画像データは100kb程度とする。 | N44: (ひび割れ幅のみmmとし、その他をm表記とする)
C45: ※ 変状数に準じてシートを追加すること。（１シートに１ページとすること。） | N45: ※ 構造用鋼材以外の異物に伴ううき・はく離については、メモ欄に異物の概要を記入すること。

Sheet 様式D-1-1 (17)
B2: ■定期点検記録様式 変状写真台帳（トンネル本体工） 【様式D-1-1】
B3: フリガナ | D3: オオザサ | H3: 路 線 名 | J3: 一般県道俵山長門古市停車場線 | M3: 定期点検業者 | P3: 株式会社オリエンタルコンサルタンツ | S3: 定期点検年月日 | U3: 45271
B4: 名 称 | D4: 大笹トンネル | H4: 管理者名 | J4: 長門土木建築事務所 | M4: 定期点検者名 | P4: 妹尾 優大
B5: 写真 番号 | C5: 覆工 スパン 番号 | D5: S009 | M5: 写真 番号 | N5: 覆工 スパン 番号 | O5: =D5 -> S009
C7: 変状 番号 | D7: 3 | N7: 変状 番号 | O7: =D7+1 -> 4
B9: 変状 部位 | C9: 対象 箇所 | D9: 覆工・坑門 | M9: 変状 部位 | N9: 対象 箇所 | O9: 覆工・坑門
C11: 部位 区分 | D11: 横断目地（右側） | N11: 部位 区分 | O11: 側壁（右側）
B13: 変状区分 | D13: 漏水 | M13: 変状区分 | O13: 漏水
B14: 変状種類 | D14: 漏水 | M14: 変状種類 | O14: 漏水
B15: 対策 区分 | C15: 応急措置前 | M15: 対策 区分 | N15: 応急措置前
C16: 応急措置後 | E16: Ⅰ | N16: 応急措置後 | P16: Ⅱb
B17: 健全性 | D17: Ⅰ | M17: 健全性 | O17: Ⅱ
B18: 変状の発生範囲の規模 | E18: - | M18: 変状の発生範囲の規模 | P18: 1.1m×0.5m
B19: 前回定期点検時の状態 | E19: 漏水、にじみ | M19: 前回定期点検時の状態 | P19: -
B20: 調査方針 | E20: なし | M20: 調査方針 | P20: なし
B21: 対策履歴 | E21: 導水工 | H21: 実施状況（実施日） | M21: 対策履歴 | P21: なし | S21: 実施状況（実施日）
B22: メモ | D22: 導水工新設により対策済 | M22: メモ | O22: 漏水、にじみ
B23: 写真 番号 | C23: 覆工 スパン 番号 | D23: =O5 -> S009 | M23: 写真 番号 | N23: 覆工 スパン 番号 | O23: =D23 -> S009
C25: 変状 番号 | D25: =O7+1 -> 5 | N25: 変状 番号 | O25: =D25+1 -> 6
B27: 変状 部位 | C27: 対象 箇所 | D27: 路面 | M27: 変状 部位 | N27: 対象 箇所 | O27: 路面
C29: 部位 区分 | D29: 側溝 | N29: 部位 区分 | O29: 側溝
B31: 変状区分 | D31: 漏水 | M31: 変状区分 | O31: 漏水
B32: 変状種類 | D32: 滞水 | M32: 変状種類 | O32: 滞水
B33: 対策 区分 | C33: 応急措置前 | M33: 対策 区分 | N33: 応急措置前
C34: 応急措置後 | E34: － | N34: 応急措置後 | P34: －
B35: 健全性 | D35: － | M35: 健全性 | O35: －
B36: 変状の発生範囲の規模 | E36: 0.6m×1.5m | M36: 変状の発生範囲の規模 | P36: 0.3m×2.7m
B37: 前回定期点検時の状態 | E37: 0.2m×0.6mの滞水 | M37: 前回定期点検時の状態 | P37: 0.4m×0.3m、0.4m×2.6mの滞水
B38: 調査方針 | E38: なし | M38: 調査方針 | P38: なし
B39: 対策履歴 | E39: なし | H39: 実施状況（実施日） | M39: 対策履歴 | P39: なし | S39: 実施状況（実施日）
B40: メモ | D40: 滞水 | M40: メモ | O40: 滞水
C41: ※ 健全性の判定区分Ⅱ～Ⅳについて添付すること。また、点検前に実施 された措置によりⅠと判定された箇所も添付すること。 | N41: ※ 変状の発生範囲の規模とは、対策を行う際に参考となる変状の長さや面積をいう。
N42: ※ 応急措置を実施しないで判定した変状の対策区分は、対策区分の応急措置後の欄に記入すること。
C43: ※ たたき落としを実施した場合は、実施後の写真を添付すること。 | N43: ※ 変状の発生範囲の規模は、面積・寸法を記載すること。
C44: ※ 画像データは100kb程度とする。 | N44: (ひび割れ幅のみmmとし、その他をm表記とする)
C45: ※ 変状数に準じてシートを追加すること。（１シートに１ページとすること。） | N45: ※ 構造用鋼材以外の異物に伴ううき・はく離については、メモ欄に異物の概要を記入すること。

Sheet 様式D-1-1 (18)
B2: ■定期点検記録様式 変状写真台帳（トンネル本体工） 【様式D-1-1】
B3: フリガナ | D3: オオザサ | H3: 路 線 名 | J3: 一般県道俵山長門古市停車場線 | M3: 定期点検業者 | P3: 株式会社オリエンタルコンサルタンツ | S3: 定期点検年月日 | U3: 45271
B4: 名 称 | D4: 大笹トンネル | H4: 管理者名 | J4: 長門土木建築事務所 | M4: 定期点検者名 | P4: 妹尾 優大
B5: 写真 番号 | C5: 覆工 スパン 番号 | D5: S010 | M5: 写真 番号 | N5: 覆工 スパン 番号 | O5: =D5 -> S010
C7: 変状 番号 | D7: 1 | N7: 変状 番号 | O7: =D7+1 -> 2
B9: 変状 部位 | C9: 対象 箇所 | D9: 覆工・坑門 | M9: 変状 部位 | N9: 対象 箇所 | O9: 覆工・坑門
C11: 部位 区分 | D11: 横断目地（左側） | N11: 部位 区分 | O11: アーチ（左側）
B13: 変状区分 | D13: 材質劣化 | M13: 変状区分 | O13: 漏水
B14: 変状種類 | D14: うき・はく離 | M14: 変状種類 | O14: 漏水
B15: 対策 区分 | C15: 応急措置前 | M15: 対策 区分 | N15: 応急措置前
C16: 応急措置後 | E16: Ⅰ | N16: 応急措置後 | P16: Ⅱb
B17: 健全性 | D17: Ⅰ | M17: 健全性 | O17: Ⅱ
B18: 変状の発生範囲の規模 | E18: - | M18: 変状の発生範囲の規模 | P18: 6.0m×0.5m
B19: 前回定期点検時の状態 | E19: 1.5m×0.2mのうき | M19: 前回定期点検時の状態 | P19: 漏水、にじみ
B20: 調査方針 | E20: なし | M20: 調査方針 | P20: なし
B21: 対策履歴 | E21: 導水工 | H21: 実施状況（実施日） | M21: 対策履歴 | P21: なし | S21: 実施状況（実施日）
B22: メモ | D22: 導水工新設により対策済 | M22: メモ | O22: ひび割れからの漏水、にじみ
B23: 写真 番号 | C23: 覆工 スパン 番号 | D23: =O5 -> S010 | M23: 写真 番号 | N23: 覆工 スパン 番号 | O23: =D23 -> S010
C25: 変状 番号 | D25: =O7+1 -> 3 | N25: 変状 番号 | O25: =D25+1 -> 4
B27: 変状 部位 | C27: 対象 箇所 | D27: 覆工・坑門 | M27: 変状 部位 | N27: 対象 箇所 | O27: 覆工・坑門
C29: 部位 区分 | D29: 横断目地（右側） | N29: 部位 区分 | O29: 水平打ち継ぎ目（右側）
B31: 変状区分 | D31: 漏水 | M31: 変状区分 | O31: 材質劣化
B32: 変状種類 | D32: 漏水 | M32: 変状種類 | O32: うき・はく離
B33: 対策 区分 | C33: 応急措置前 | M33: 対策 区分 | N33: 応急措置前
C34: 応急措置後 | E34: Ⅰ | N34: 応急措置後 | P34: Ⅰ
B35: 健全性 | D35: Ⅰ | M35: 健全性 | O35: Ⅰ
B36: 変状の発生範囲の規模 | E36: - | M36: 変状の発生範囲の規模 | P36: -
B37: 前回定期点検時の状態 | E37: 漏水、にじみ | M37: 前回定期点検時の状態 | P37: 0.2m×1.5mのうき
B38: 調査方針 | E38: なし | M38: 調査方針 | P38: なし
B39: 対策履歴 | E39: 導水工 | H39: 実施状況（実施日） | M39: 対策履歴 | P39: 導水工 | S39: 実施状況（実施日）
B40: メモ | D40: 導水工新設により対策済 | M40: メモ | O40: 導水工新設により対策済
C41: ※ 健全性の判定区分Ⅱ～Ⅳについて添付すること。また、点検前に実施 された措置によりⅠと判定された箇所も添付すること。 | N41: ※ 変状の発生範囲の規模とは、対策を行う際に参考となる変状の長さや面積をいう。
N42: ※ 応急措置を実施しないで判定した変状の対策区分は、対策区分の応急措置後の欄に記入すること。
C43: ※ たたき落としを実施した場合は、実施後の写真を添付すること。 | N43: ※ 変状の発生範囲の規模は、面積・寸法を記載すること。
C44: ※ 画像データは100kb程度とする。 | N44: (ひび割れ幅のみmmとし、その他をm表記とする)
C45: ※ 変状数に準じてシートを追加すること。（１シートに１ページとすること。） | N45: ※ 構造用鋼材以外の異物に伴ううき・はく離については、メモ欄に異物の概要を記入すること。

Sheet 様式D-1-1 (19)
B2: ■定期点検記録様式 変状写真台帳（トンネル本体工） 【様式D-1-1】
B3: フリガナ | D3: オオザサ | H3: 路 線 名 | J3: 一般県道俵山長門古市停車場線 | M3: 定期点検業者 | P3: 株式会社オリエンタルコンサルタンツ | S3: 定期点検年月日 | U3: 45271
B4: 名 称 | D4: 大笹トンネル | H4: 管理者名 | J4: 長門土木建築事務所 | M4: 定期点検者名 | P4: 妹尾 優大
B5: 写真 番号 | C5: 覆工 スパン 番号 | D5: S010 | M5: 写真 番号 | N5: 覆工 スパン 番号 | O5: =D5 -> S010
C7: 変状 番号 | D7: 5 | N7: 変状 番号 | O7: =D7+1 -> 6
B9: 変状 部位 | C9: 対象 箇所 | D9: 路面 | M9: 変状 部位 | N9: 対象 箇所 | O9: 路面
C11: 部位 区分 | D11: 車道 | N11: 部位 区分 | O11: 車道
B13: 変状区分 | D13: 漏水 | M13: 変状区分 | O13: 漏水
B14: 変状種類 | D14: 滞水 | M14: 変状種類 | O14: 滞水
B15: 対策 区分 | C15: 応急措置前 | M15: 対策 区分 | N15: 応急措置前
C16: 応急措置後 | E16: － | N16: 応急措置後 | P16: －
B17: 健全性 | D17: － | M17: 健全性 | O17: －
B18: 変状の発生範囲の規模 | E18: - | M18: 変状の発生範囲の規模 | P18: -
B19: 前回定期点検時の状態 | E19: 0.5m×0.3m、1.7m×3.2mの滞水 | M19: 前回定期点検時の状態 | P19: 0.2m×1.0mの滞水
B20: 調査方針 | E20: なし | M20: 調査方針 | P20: なし
B21: 対策履歴 | E21: なし | H21: 実施状況（実施日） | M21: 対策履歴 | P21: なし | S21: 実施状況（実施日）
B22: メモ | D22: 滞水跡 | M22: メモ | O22: 滞水跡
B23: 写真 番号 | C23: 覆工 スパン 番号 | D23: S011 | M23: 写真 番号 | N23: 覆工 スパン 番号 | O23: =D23 -> S011
C25: 変状 番号 | D25: 1 | N25: 変状 番号 | O25: =D25+1 -> 2
B27: 変状 部位 | C27: 対象 箇所 | D27: 覆工・坑門 | M27: 変状 部位 | N27: 対象 箇所 | O27: 覆工・坑門
C29: 部位 区分 | D29: 側壁（左側） | N29: 部位 区分 | O29: 横断目地（左側）
B31: 変状区分 | D31: 材質劣化 | M31: 変状区分 | O31: 漏水
B32: 変状種類 | D32: うき・はく離 | M32: 変状種類 | O32: 補強・補修材の破損
B33: 対策 区分 | C33: 応急措置前 | M33: 対策 区分 | N33: 応急措置前
C34: 応急措置後 | E34: Ⅰ | N34: 応急措置後 | P34: Ⅰ
B35: 健全性 | D35: Ⅰ | M35: 健全性 | O35: Ⅰ
B36: 変状の発生範囲の規模 | E36: - | M36: 変状の発生範囲の規模 | P36: -
B37: 前回定期点検時の状態 | E37: 0.1m×0.1m、0.2m×0.05mのはく落 | M37: 前回定期点検時の状態 | P37: 導水樋工取付金具の腐食
B38: 調査方針 | E38: なし | M38: 調査方針 | P38: なし
B39: 対策履歴 | E39: 導水工 | H39: 実施状況（実施日） | M39: 対策履歴 | P39: 撤去 | S39: 実施状況（実施日）
B40: メモ | D40: 導水工新設により対策済 | M40: メモ | O40: 導水工新設に伴う導水樋工の撤去
C41: ※ 健全性の判定区分Ⅱ～Ⅳについて添付すること。また、点検前に実施 された措置によりⅠと判定された箇所も添付すること。 | N41: ※ 変状の発生範囲の規模とは、対策を行う際に参考となる変状の長さや面積をいう。
N42: ※ 応急措置を実施しないで判定した変状の対策区分は、対策区分の応急措置後の欄に記入すること。
C43: ※ たたき落としを実施した場合は、実施後の写真を添付すること。 | N43: ※ 変状の発生範囲の規模は、面積・寸法を記載すること。
C44: ※ 画像データは100kb程度とする。 | N44: (ひび割れ幅のみmmとし、その他をm表記とする)
C45: ※ 変状数に準じてシートを追加すること。（１シートに１ページとすること。） | N45: ※ 構造用鋼材以外の異物に伴ううき・はく離については、メモ欄に異物の概要を記入すること。

Sheet 様式D-1-1 (20)
B2: ■定期点検記録様式 変状写真台帳（トンネル本体工） 【様式D-1-1】
B3: フリガナ | D3: オオザサ | H3: 路 線 名 | J3: 一般県道俵山長門古市停車場線 | M3: 定期点検業者 | P3: 株式会社オリエンタルコンサルタンツ | S3: 定期点検年月日 | U3: 45271
B4: 名 称 | D4: 大笹トンネル | H4: 管理者名 | J4: 長門土木建築事務所 | M4: 定期点検者名 | P4: 妹尾 優大
B5: 写真 番号 | C5: 覆工 スパン 番号 | D5: S011 | M5: 写真 番号 | N5: 覆工 スパン 番号 | O5: =D5 -> S011
C7: 変状 番号 | D7: 3 | N7: 変状 番号 | O7: =D7+1 -> 4
B9: 変状 部位 | C9: 対象 箇所 | D9: 覆工・坑門 | M9: 変状 部位 | N9: 対象 箇所 | O9: 覆工・坑門
C11: 部位 区分 | D11: アーチ（左側） | N11: 部位 区分 | O11: アーチ（左側）
B13: 変状区分 | D13: 材質劣化 | M13: 変状区分 | O13: 漏水
B14: 変状種類 | D14: うき・はく離 | M14: 変状種類 | O14: 漏水
B15: 対策 区分 | C15: 応急措置前 | M15: 対策 区分 | N15: 応急措置前
C16: 応急措置後 | E16: Ⅰ | N16: 応急措置後 | P16: Ⅱb
B17: 健全性 | D17: Ⅰ | M17: 健全性 | O17: Ⅱ
B18: 変状の発生範囲の規模 | E18: 0.2m×0.2m | M18: 変状の発生範囲の規模 | P18: 5.9m×0.5m
B19: 前回定期点検時の状態 | E19: 0.2m×0.2mのはく落 | M19: 前回定期点検時の状態 | P19: 漏水、にじみ
B20: 調査方針 | E20: なし | M20: 調査方針 | P20: なし
B21: 対策履歴 | E21: なし | H21: 実施状況（実施日） | M21: 対策履歴 | P21: なし | S21: 実施状況（実施日）
B22: メモ | D22: はく落 | M22: メモ | O22: 漏水、にじみ
B23: 写真 番号 | C23: 覆工 スパン 番号 | D23: =O5 -> S011 | M23: 写真 番号 | N23: 覆工 スパン 番号 | O23: =D23 -> S011
C25: 変状 番号 | D25: =O7+1 -> 5 | N25: 変状 番号 | O25: =D25+1 -> 6
B27: 変状 部位 | C27: 対象 箇所 | D27: 覆工・坑門 | M27: 変状 部位 | N27: 対象 箇所 | O27: 覆工・坑門
C29: 部位 区分 | D29: アーチ（左側） | N29: 部位 区分 | O29: アーチ（右側）
B31: 変状区分 | D31: 材質劣化 | M31: 変状区分 | O31: 漏水
B32: 変状種類 | D32: その他 | M32: 変状種類 | O32: 漏水
B33: 対策 区分 | C33: 応急措置前 | M33: 対策 区分 | N33: 応急措置前
C34: 応急措置後 | E34: Ⅰ | N34: 応急措置後 | P34: Ⅰ
B35: 健全性 | D35: Ⅰ | M35: 健全性 | O35: Ⅰ
B36: 変状の発生範囲の規模 | E36: 3.0m×2.0m | M36: 変状の発生範囲の規模 | P36: -
B37: 前回定期点検時の状態 | E37: 0.6m×1.3の豆板、1.0m×2.0mのうき | M37: 前回定期点検時の状態 | P37: 漏水、滴水
B38: 調査方針 | E38: なし | M38: 調査方針 | P38: なし
B39: 対策履歴 | E39: はく落防止工 | H39: 実施状況（実施日） | M39: 対策履歴 | P39: 導水工 | S39: 実施状況（実施日）
B40: メモ | D40: はく落防止工対策済 | M40: メモ | O40: 導水工更新により対策済
C41: ※ 健全性の判定区分Ⅱ～Ⅳについて添付すること。また、点検前に実施 された措置によりⅠと判定された箇所も添付すること。 | N41: ※ 変状の発生範囲の規模とは、対策を行う際に参考となる変状の長さや面積をいう。
N42: ※ 応急措置を実施しないで判定した変状の対策区分は、対策区分の応急措置後の欄に記入すること。
C43: ※ たたき落としを実施した場合は、実施後の写真を添付すること。 | N43: ※ 変状の発生範囲の規模は、面積・寸法を記載すること。
C44: ※ 画像データは100kb程度とする。 | N44: (ひび割れ幅のみmmとし、その他をm表記とする)
C45: ※ 変状数に準じてシートを追加すること。（１シートに１ページとすること。） | N45: ※ 構造用鋼材以外の異物に伴ううき・はく離については、メモ欄に異物の概要を記入すること。

Sheet 様式D-1-1 (21)
B2: ■定期点検記録様式 変状写真台帳（トンネル本体工） 【様式D-1-1】
B3: フリガナ | D3: オオザサ | H3: 路 線 名 | J3: 一般県道俵山長門古市停車場線 | M3: 定期点検業者 | P3: 株式会社オリエンタルコンサルタンツ | S3: 定期点検年月日 | U3: 45271
B4: 名 称 | D4: 大笹トンネル | H4: 管理者名 | J4: 長門土木建築事務所 | M4: 定期点検者名 | P4: 妹尾 優大
B5: 写真 番号 | C5: 覆工 スパン 番号 | D5: S011 | M5: 写真 番号 | N5: 覆工 スパン 番号 | O5: =D5 -> S011
C7: 変状 番号 | D7: 7 | N7: 変状 番号 | O7: =D7+1 -> 8
B9: 変状 部位 | C9: 対象 箇所 | D9: 覆工・坑門 | M9: 変状 部位 | N9: 対象 箇所 | O9: 覆工・坑門
C11: 部位 区分 | D11: アーチ（右側） | N11: 部位 区分 | O11: 側壁（右側）
B13: 変状区分 | D13: 漏水 | M13: 変状区分 | O13: 漏水
B14: 変状種類 | D14: 漏水 | M14: 変状種類 | O14: 補強・補修材の破損
B15: 対策 区分 | C15: 応急措置前 | M15: 対策 区分 | N15: 応急措置前
C16: 応急措置後 | E16: Ⅰ | N16: 応急措置後 | P16: Ⅰ
B17: 健全性 | D17: Ⅰ | M17: 健全性 | O17: Ⅰ
B18: 変状の発生範囲の規模 | E18: - | M18: 変状の発生範囲の規模 | P18: -
B19: 前回定期点検時の状態 | E19: 漏水、にじみ | M19: 前回定期点検時の状態 | P19: 導水樋工取付金具の腐食
B20: 調査方針 | E20: なし | M20: 調査方針 | P20: なし
B21: 対策履歴 | E21: 導水工 | H21: 実施状況（実施日） | M21: 対策履歴 | P21: 撤去 | S21: 実施状況（実施日）
B22: メモ | D22: 導水工新設により対策済 | M22: メモ | O22: 導水工新設に伴う導水樋工の撤去
B23: 写真 番号 | C23: 覆工 スパン 番号 | D23: =O5 -> S011 | M23: 写真 番号 | N23: 覆工 スパン 番号 | O23: =D23 -> S011
C25: 変状 番号 | D25: =O7+1 -> 9 | N25: 変状 番号 | O25: =D25+1 -> 10
B27: 変状 部位 | C27: 対象 箇所 | D27: 覆工・坑門 | M27: 変状 部位 | N27: 対象 箇所 | O27: 路面
C29: 部位 区分 | D29: 横断目地（右側） | N29: 部位 区分 | O29: 側溝
B31: 変状区分 | D31: 漏水 | M31: 変状区分 | O31: 漏水
B32: 変状種類 | D32: 補強・補修材の破損 | M32: 変状種類 | O32: 滞水
B33: 対策 区分 | C33: 応急措置前 | M33: 対策 区分 | N33: 応急措置前
C34: 応急措置後 | E34: Ⅰ | N34: 応急措置後 | P34: －
B35: 健全性 | D35: Ⅰ | M35: 健全性 | O35: －
B36: 変状の発生範囲の規模 | E36: - | M36: 変状の発生範囲の規模 | P36: 0.6m×1.9m
B37: 前回定期点検時の状態 | E37: 導水樋工取付金具の腐食 | M37: 前回定期点検時の状態 | P37: 5.8m×10.0mの滞水
B38: 調査方針 | E38: なし | M38: 調査方針 | P38: なし
B39: 対策履歴 | E39: 撤去 | H39: 実施状況（実施日） | M39: 対策履歴 | P39: なし | S39: 実施状況（実施日）
B40: メモ | D40: 導水工新設に伴う導水樋工の撤去 | M40: メモ | O40: 滞水
C41: ※ 健全性の判定区分Ⅱ～Ⅳについて添付すること。また、点検前に実施 された措置によりⅠと判定された箇所も添付すること。 | N41: ※ 変状の発生範囲の規模とは、対策を行う際に参考となる変状の長さや面積をいう。
N42: ※ 応急措置を実施しないで判定した変状の対策区分は、対策区分の応急措置後の欄に記入すること。
C43: ※ たたき落としを実施した場合は、実施後の写真を添付すること。 | N43: ※ 変状の発生範囲の規模は、面積・寸法を記載すること。
C44: ※ 画像データは100kb程度とする。 | N44: (ひび割れ幅のみmmとし、その他をm表記とする)
C45: ※ 変状数に準じてシートを追加すること。（１シートに１ページとすること。） | N45: ※ 構造用鋼材以外の異物に伴ううき・はく離については、メモ欄に異物の概要を記入すること。

Sheet 様式D-1-1 (22)
B2: ■定期点検記録様式 変状写真台帳（トンネル本体工） 【様式D-1-1】
B3: フリガナ | D3: オオザサ | H3: 路 線 名 | J3: 一般県道俵山長門古市停車場線 | M3: 定期点検業者 | P3: 株式会社オリエンタルコンサルタンツ | S3: 定期点検年月日 | U3: 45271
B4: 名 称 | D4: 大笹トンネル | H4: 管理者名 | J4: 長門土木建築事務所 | M4: 定期点検者名 | P4: 妹尾 優大
B5: 写真 番号 | C5: 覆工 スパン 番号 | D5: S011 | M5: 写真 番号 | N5: 覆工 スパン 番号 | O5: =D5 -> S011
C7: 変状 番号 | D7: 11 | N7: 変状 番号 | O7: =D7+1 -> 12
B9: 変状 部位 | C9: 対象 箇所 | D9: 路面 | M9: 変状 部位 | N9: 対象 箇所 | O9: 路面
C11: 部位 区分 | D11: 車道 | N11: 部位 区分 | O11: 側溝
B13: 変状区分 | D13: 漏水 | M13: 変状区分 | O13: 漏水
B14: 変状種類 | D14: 滞水 | M14: 変状種類 | O14: 滞水
B15: 対策 区分 | C15: 応急措置前 | M15: 対策 区分 | N15: 応急措置前
C16: 応急措置後 | E16: － | N16: 応急措置後 | P16: －
B17: 健全性 | D17: － | M17: 健全性 | O17: －
B18: 変状の発生範囲の規模 | E18: - | M18: 変状の発生範囲の規模 | P18: 0.4m×1.5m
B19: 前回定期点検時の状態 | E19: 0.2m×0.5m、0.3m×0.5m、0.2m×1.0m、0.4m×1.9m、0.6m×0.7m、0.5m×0.7m、2.2m×1.0mの滞水 | M19: 前回定期点検時の状態 | P19: 0.3m×2.3mの滞水
B20: 調査方針 | E20: なし | M20: 調査方針 | P20: なし
B21: 対策履歴 | E21: なし | H21: 実施状況（実施日） | M21: 対策履歴 | P21: なし | S21: 実施状況（実施日）
B22: メモ | D22: 滞水跡 | M22: メモ | O22: 滞水
B23: 写真 番号 | C23: 覆工 スパン 番号 | D23: =O5 -> S011 | M23: 写真 番号 | N23: 覆工 スパン 番号 | O23: S012
C25: 変状 番号 | D25: =O7+1 -> 13 | N25: 変状 番号 | O25: 1
B27: 変状 部位 | C27: 対象 箇所 | D27: 路面 | M27: 変状 部位 | N27: 対象 箇所 | O27: 覆工・坑門
C29: 部位 区分 | D29: 側溝 | N29: 部位 区分 | O29: 水平打ち継ぎ目（左側）
B31: 変状区分 | D31: 漏水 | M31: 変状区分 | O31: 材質劣化
B32: 変状種類 | D32: 滞水 | M32: 変状種類 | O32: うき・はく離
B33: 対策 区分 | C33: 応急措置前 | M33: 対策 区分 | N33: 応急措置前
C34: 応急措置後 | E34: － | N34: 応急措置後 | P34: Ⅰ
B35: 健全性 | D35: － | M35: 健全性 | O35: Ⅰ
B36: 変状の発生範囲の規模 | E36: - | M36: 変状の発生範囲の規模 | P36: 0.05m×0.1m
B37: 前回定期点検時の状態 | E37: 0.2m×1.6m、0.2m×1.1mの滞水 | M37: 前回定期点検時の状態 | P37: 0.05m×0.1mのはく落
B38: 調査方針 | E38: なし | M38: 調査方針 | P38: なし
B39: 対策履歴 | E39: なし | H39: 実施状況（実施日） | M39: 対策履歴 | P39: なし | S39: 実施状況（実施日）
B40: メモ | D40: 滞水跡 | M40: メモ | O40: はく落
C41: ※ 健全性の判定区分Ⅱ～Ⅳについて添付すること。また、点検前に実施 された措置によりⅠと判定された箇所も添付すること。 | N41: ※ 変状の発生範囲の規模とは、対策を行う際に参考となる変状の長さや面積をいう。
N42: ※ 応急措置を実施しないで判定した変状の対策区分は、対策区分の応急措置後の欄に記入すること。
C43: ※ たたき落としを実施した場合は、実施後の写真を添付すること。 | N43: ※ 変状の発生範囲の規模は、面積・寸法を記載すること。
C44: ※ 画像データは100kb程度とする。 | N44: (ひび割れ幅のみmmとし、その他をm表記とする)
C45: ※ 変状数に準じてシートを追加すること。（１シートに１ページとすること。） | N45: ※ 構造用鋼材以外の異物に伴ううき・はく離については、メモ欄に異物の概要を記入すること。

Sheet 様式D-1-1 (23)
B2: ■定期点検記録様式 変状写真台帳（トンネル本体工） 【様式D-1-1】
B3: フリガナ | D3: オオザサ | H3: 路 線 名 | J3: 一般県道俵山長門古市停車場線 | M3: 定期点検業者 | P3: 株式会社オリエンタルコンサルタンツ | S3: 定期点検年月日 | U3: 45271
B4: 名 称 | D4: 大笹トンネル | H4: 管理者名 | J4: 長門土木建築事務所 | M4: 定期点検者名 | P4: 妹尾 優大
B5: 写真 番号 | C5: 覆工 スパン 番号 | D5: S012 | M5: 写真 番号 | N5: 覆工 スパン 番号 | O5: =D5 -> S012
C7: 変状 番号 | D7: 2 | N7: 変状 番号 | O7: =D7+1 -> 3
B9: 変状 部位 | C9: 対象 箇所 | D9: 覆工・坑門 | M9: 変状 部位 | N9: 対象 箇所 | O9: 覆工・坑門
C11: 部位 区分 | D11: アーチ（左側） | N11: 部位 区分 | O11: 横断目地（右側）
B13: 変状区分 | D13: 材質劣化 | M13: 変状区分 | O13: 漏水
B14: 変状種類 | D14: その他 | M14: 変状種類 | O14: 漏水
B15: 対策 区分 | C15: 応急措置前 | M15: 対策 区分 | N15: 応急措置前
C16: 応急措置後 | E16: Ⅱb | N16: 応急措置後 | P16: Ⅰ
B17: 健全性 | D17: Ⅱ | M17: 健全性 | O17: Ⅰ
B18: 変状の発生範囲の規模 | E18: 0.05m×0.1m | M18: 変状の発生範囲の規模 | P18: -
B19: 前回定期点検時の状態 | E19: 0.05m×0.1mの木片 | M19: 前回定期点検時の状態 | P19: 漏水、にじみ
B20: 調査方針 | E20: なし | M20: 調査方針 | P20: なし
B21: 対策履歴 | E21: なし | H21: 実施状況（実施日） | M21: 対策履歴 | P21: 導水工 | S21: 実施状況（実施日）
B22: メモ | D22: 異物混入(木片) | M22: メモ | O22: 導水工新設により対策済
B23: 写真 番号 | C23: 覆工 スパン 番号 | D23: =O5 -> S012 | M23: 写真 番号 | N23: 覆工 スパン 番号 | O23: S013
C25: 変状 番号 | D25: =O7+1 -> 4 | N25: 変状 番号 | O25: 1
B27: 変状 部位 | C27: 対象 箇所 | D27: 覆工・坑門 | M27: 変状 部位 | N27: 対象 箇所 | O27: 覆工・坑門
C29: 部位 区分 | D29: 水平打ち継ぎ目（右側） | N29: 部位 区分 | O29: 水平打ち継ぎ目（左側）
B31: 変状区分 | D31: 材質劣化 | M31: 変状区分 | O31: 材質劣化
B32: 変状種類 | D32: うき・はく離 | M32: 変状種類 | O32: うき・はく離
B33: 対策 区分 | C33: 応急措置前 | M33: 対策 区分 | N33: 応急措置前
C34: 応急措置後 | E34: Ⅰ | N34: 応急措置後 | P34: Ⅰ
B35: 健全性 | D35: Ⅰ | M35: 健全性 | O35: Ⅰ
B36: 変状の発生範囲の規模 | E36: 0.6m×2.2m | M36: 変状の発生範囲の規模 | P36: -
B37: 前回定期点検時の状態 | E37: 0.2m×0.05m、0.2m×0.6mのうき | M37: 前回定期点検時の状態 | P37: 0.05m×0.6m、0.1m×0.4mのはく落、0.2m×2.2mのうき
B38: 調査方針 | E38: なし | M38: 調査方針 | P38: なし
B39: 対策履歴 | E39: はく落防止工 | H39: 実施状況（実施日） | M39: 対策履歴 | P39: 導水工 | S39: 実施状況（実施日）
B40: メモ | D40: はく落防止工対策済 | M40: メモ | O40: 導水工新設により対策済
C41: ※ 健全性の判定区分Ⅱ～Ⅳについて添付すること。また、点検前に実施 された措置によりⅠと判定された箇所も添付すること。 | N41: ※ 変状の発生範囲の規模とは、対策を行う際に参考となる変状の長さや面積をいう。
N42: ※ 応急措置を実施しないで判定した変状の対策区分は、対策区分の応急措置後の欄に記入すること。
C43: ※ たたき落としを実施した場合は、実施後の写真を添付すること。 | N43: ※ 変状の発生範囲の規模は、面積・寸法を記載すること。
C44: ※ 画像データは100kb程度とする。 | N44: (ひび割れ幅のみmmとし、その他をm表記とする)
C45: ※ 変状数に準じてシートを追加すること。（１シートに１ページとすること。） | N45: ※ 構造用鋼材以外の異物に伴ううき・はく離については、メモ欄に異物の概要を記入すること。

Sheet 様式D-1-1 (24)
B2: ■定期点検記録様式 変状写真台帳（トンネル本体工） 【様式D-1-1】
B3: フリガナ | D3: オオザサ | H3: 路 線 名 | J3: 一般県道俵山長門古市停車場線 | M3: 定期点検業者 | P3: 株式会社オリエンタルコンサルタンツ | S3: 定期点検年月日 | U3: 45271
B4: 名 称 | D4: 大笹トンネル | H4: 管理者名 | J4: 長門土木建築事務所 | M4: 定期点検者名 | P4: 妹尾 優大
B5: 写真 番号 | C5: 覆工 スパン 番号 | D5: S013 | M5: 写真 番号 | N5: 覆工 スパン 番号 | O5: =D5 -> S013
C7: 変状 番号 | D7: 2 | N7: 変状 番号 | O7: =D7+1 -> 3
B9: 変状 部位 | C9: 対象 箇所 | D9: 覆工・坑門 | M9: 変状 部位 | N9: 対象 箇所 | O9: 覆工・坑門
C11: 部位 区分 | D11: アーチ（左側） | N11: 部位 区分 | O11: 水平打ち継ぎ目（右側）
B13: 変状区分 | D13: 漏水 | M13: 変状区分 | O13: 材質劣化
B14: 変状種類 | D14: 漏水 | M14: 変状種類 | O14: うき・はく離
B15: 対策 区分 | C15: 応急措置前 | M15: 対策 区分 | N15: 応急措置前
C16: 応急措置後 | E16: Ⅰ | N16: 応急措置後 | P16: Ⅰ
B17: 健全性 | D17: Ⅰ | M17: 健全性 | O17: Ⅰ
B18: 変状の発生範囲の規模 | E18: - | M18: 変状の発生範囲の規模 | P18: -
B19: 前回定期点検時の状態 | E19: 漏水、にじみ | M19: 前回定期点検時の状態 | P19: 0.5m×2.0mのうき
B20: 調査方針 | E20: なし | M20: 調査方針 | P20: なし
B21: 対策履歴 | E21: 導水工 | H21: 実施状況（実施日） | M21: 対策履歴 | P21: 導水工 | S21: 実施状況（実施日）
B22: メモ | D22: 導水工新設により対策済 | M22: メモ | O22: 導水工新設により対策済
B23: 写真 番号 | C23: 覆工 スパン 番号 | D23: =O5 -> S013 | M23: 写真 番号 | N23: 覆工 スパン 番号 | O23: S014
C25: 変状 番号 | D25: =O7+1 -> 4 | N25: 変状 番号 | O25: 1
B27: 変状 部位 | C27: 対象 箇所 | D27: 路面 | M27: 変状 部位 | N27: 対象 箇所 | O27: 覆工・坑門
C29: 部位 区分 | D29: 側溝 | N29: 部位 区分 | O29: 水平打ち継ぎ目（左側）
B31: 変状区分 | D31: 漏水 | M31: 変状区分 | O31: 材質劣化
B32: 変状種類 | D32: 滞水 | M32: 変状種類 | O32: うき・はく離
B33: 対策 区分 | C33: 応急措置前 | M33: 対策 区分 | N33: 応急措置前
C34: 応急措置後 | E34: － | N34: 応急措置後 | P34: Ⅰ
B35: 健全性 | D35: － | M35: 健全性 | O35: Ⅰ
B36: 変状の発生範囲の規模 | E36: 0.3m×1.0m | M36: 変状の発生範囲の規模 | P36: 0.6m×3.4m
B37: 前回定期点検時の状態 | E37: 0.2m×1.6mの滞水 | M37: 前回定期点検時の状態 | P37: 0.1m×2.5mのうき
B38: 調査方針 | E38: なし | M38: 調査方針 | P38: なし
B39: 対策履歴 | E39: なし | H39: 実施状況（実施日） | M39: 対策履歴 | P39: はく落防止工 | S39: 実施状況（実施日）
B40: メモ | D40: 滞水 | M40: メモ | O40: はく落防止工対策済
C41: ※ 健全性の判定区分Ⅱ～Ⅳについて添付すること。また、点検前に実施 された措置によりⅠと判定された箇所も添付すること。 | N41: ※ 変状の発生範囲の規模とは、対策を行う際に参考となる変状の長さや面積をいう。
N42: ※ 応急措置を実施しないで判定した変状の対策区分は、対策区分の応急措置後の欄に記入すること。
C43: ※ たたき落としを実施した場合は、実施後の写真を添付すること。 | N43: ※ 変状の発生範囲の規模は、面積・寸法を記載すること。
C44: ※ 画像データは100kb程度とする。 | N44: (ひび割れ幅のみmmとし、その他をm表記とする)
C45: ※ 変状数に準じてシートを追加すること。（１シートに１ページとすること。） | N45: ※ 構造用鋼材以外の異物に伴ううき・はく離については、メモ欄に異物の概要を記入すること。

Sheet 様式D-1-1 (25)
B2: ■定期点検記録様式 変状写真台帳（トンネル本体工） 【様式D-1-1】
B3: フリガナ | D3: オオザサ | H3: 路 線 名 | J3: 一般県道俵山長門古市停車場線 | M3: 定期点検業者 | P3: 株式会社オリエンタルコンサルタンツ | S3: 定期点検年月日 | U3: 45271
B4: 名 称 | D4: 大笹トンネル | H4: 管理者名 | J4: 長門土木建築事務所 | M4: 定期点検者名 | P4: 妹尾 優大
B5: 写真 番号 | C5: 覆工 スパン 番号 | D5: S014 | M5: 写真 番号 | N5: 覆工 スパン 番号 | O5: =D5 -> S014
C7: 変状 番号 | D7: 2 | N7: 変状 番号 | O7: =D7+1 -> 3
B9: 変状 部位 | C9: 対象 箇所 | D9: 覆工・坑門 | M9: 変状 部位 | N9: 対象 箇所 | O9: 覆工・坑門
C11: 部位 区分 | D11: 横断目地（左側） | N11: 部位 区分 | O11: アーチ（右側）
B13: 変状区分 | D13: 材質劣化 | M13: 変状区分 | O13: 材質劣化
B14: 変状種類 | D14: うき・はく離 | M14: 変状種類 | O14: うき・はく離
B15: 対策 区分 | C15: 応急措置前 | M15: 対策 区分 | N15: 応急措置前
C16: 応急措置後 | E16: Ⅰ | N16: 応急措置後 | P16: Ⅰ
B17: 健全性 | D17: Ⅰ | M17: 健全性 | O17: Ⅰ
B18: 変状の発生範囲の規模 | E18: 1.6m×1.1m | M18: 変状の発生範囲の規模 | P18: 0.05m×0.1m
B19: 前回定期点検時の状態 | E19: 0.6m×0.2mのうき | M19: 前回定期点検時の状態 | P19: 0.05m×0.1mのはく落
B20: 調査方針 | E20: なし | M20: 調査方針 | P20: なし
B21: 対策履歴 | E21: はく落防止工 | H21: 実施状況（実施日） | M21: 対策履歴 | P21: なし | S21: 実施状況（実施日）
B22: メモ | D22: はく落防止工対策済 | M22: メモ | O22: はく落
B23: 写真 番号 | C23: 覆工 スパン 番号 | D23: =O5 -> S014 | M23: 写真 番号 | N23: 覆工 スパン 番号 | O23: =D23 -> S014
C25: 変状 番号 | D25: =O7+1 -> 4 | N25: 変状 番号 | O25: =D25+1 -> 5
B27: 変状 部位 | C27: 対象 箇所 | D27: 覆工・坑門 | M27: 変状 部位 | N27: 対象 箇所 | O27: 路面
C29: 部位 区分 | D29: 水平打ち継ぎ目（右側） | N29: 部位 区分 | O29: 車道
B31: 変状区分 | D31: 材質劣化 | M31: 変状区分 | O31: 漏水
B32: 変状種類 | D32: うき・はく離 | M32: 変状種類 | O32: 滞水
B33: 対策 区分 | C33: 応急措置前 | M33: 対策 区分 | N33: 応急措置前
C34: 応急措置後 | E34: Ⅰ | N34: 応急措置後 | P34: －
B35: 健全性 | D35: Ⅰ | M35: 健全性 | O35: －
B36: 変状の発生範囲の規模 | E36: 0.6m×1.8m | M36: 変状の発生範囲の規模 | P36: -
B37: 前回定期点検時の状態 | E37: 0.2m×0.4m、0.2m×1.0mのうき | M37: 前回定期点検時の状態 | P37: 0.4m×0.3mの滞水
B38: 調査方針 | E38: なし | M38: 調査方針 | P38: なし
B39: 対策履歴 | E39: はく落防止工 | H39: 実施状況（実施日） | M39: 対策履歴 | P39: なし | S39: 実施状況（実施日）
B40: メモ | D40: はく落防止工対策済 | M40: メモ | O40: 滞水跡
C41: ※ 健全性の判定区分Ⅱ～Ⅳについて添付すること。また、点検前に実施 された措置によりⅠと判定された箇所も添付すること。 | N41: ※ 変状の発生範囲の規模とは、対策を行う際に参考となる変状の長さや面積をいう。
N42: ※ 応急措置を実施しないで判定した変状の対策区分は、対策区分の応急措置後の欄に記入すること。
C43: ※ たたき落としを実施した場合は、実施後の写真を添付すること。 | N43: ※ 変状の発生範囲の規模は、面積・寸法を記載すること。
C44: ※ 画像データは100kb程度とする。 | N44: (ひび割れ幅のみmmとし、その他をm表記とする)
C45: ※ 変状数に準じてシートを追加すること。（１シートに１ページとすること。） | N45: ※ 構造用鋼材以外の異物に伴ううき・はく離については、メモ欄に異物の概要を記入すること。

Sheet 様式D-1-1 (26)
B2: ■定期点検記録様式 変状写真台帳（トンネル本体工） 【様式D-1-1】
B3: フリガナ | D3: オオザサ | H3: 路 線 名 | J3: 一般県道俵山長門古市停車場線 | M3: 定期点検業者 | P3: 株式会社オリエンタルコンサルタンツ | S3: 定期点検年月日 | U3: 45271
B4: 名 称 | D4: 大笹トンネル | H4: 管理者名 | J4: 長門土木建築事務所 | M4: 定期点検者名 | P4: 妹尾 優大
B5: 写真 番号 | C5: 覆工 スパン 番号 | D5: S015 | M5: 写真 番号 | N5: 覆工 スパン 番号 | O5: =D5 -> S015
C7: 変状 番号 | D7: 1 | N7: 変状 番号 | O7: =D7+1 -> 2
B9: 変状 部位 | C9: 対象 箇所 | D9: 覆工・坑門 | M9: 変状 部位 | N9: 対象 箇所 | O9: 覆工・坑門
C11: 部位 区分 | D11: 水平打ち継ぎ目（左側） | N11: 部位 区分 | O11: 横断目地（右側）
B13: 変状区分 | D13: 材質劣化 | M13: 変状区分 | O13: 材質劣化
B14: 変状種類 | D14: うき・はく離 | M14: 変状種類 | O14: うき・はく離
B15: 対策 区分 | C15: 応急措置前 | M15: 対策 区分 | N15: 応急措置前
C16: 応急措置後 | E16: Ⅰ | N16: 応急措置後 | P16: Ⅰ
B17: 健全性 | D17: Ⅰ | M17: 健全性 | O17: Ⅰ
B18: 変状の発生範囲の規模 | E18: 0.6m×5.5m | M18: 変状の発生範囲の規模 | P18: 0.2m×0.1m
B19: 前回定期点検時の状態 | E19: 0.1m×1.9m、0.1m×1.0mのはく落、0.2m×2.2mのうき | M19: 前回定期点検時の状態 | P19: 0.2m×0.1mのはく落
B20: 調査方針 | E20: なし | M20: 調査方針 | P20: なし
B21: 対策履歴 | E21: はく落防止工 | H21: 実施状況（実施日） | M21: 対策履歴 | P21: なし | S21: 実施状況（実施日）
B22: メモ | D22: はく落防止工対策済 | M22: メモ | O22: はく落
B23: 写真 番号 | C23: 覆工 スパン 番号 | D23: =O5 -> S015 | M23: 写真 番号 | N23: 覆工 スパン 番号 | O23: S016
C25: 変状 番号 | D25: =O7+1 -> 3 | N25: 変状 番号 | O25: 1
B27: 変状 部位 | C27: 対象 箇所 | D27: 覆工・坑門 | M27: 変状 部位 | N27: 対象 箇所 | O27: 覆工・坑門
C29: 部位 区分 | D29: 水平打ち継ぎ目（右側） | N29: 部位 区分 | O29: 水平打ち継ぎ目（左側）
B31: 変状区分 | D31: 材質劣化 | M31: 変状区分 | O31: 材質劣化
B32: 変状種類 | D32: うき・はく離 | M32: 変状種類 | O32: うき・はく離
B33: 対策 区分 | C33: 応急措置前 | M33: 対策 区分 | N33: 応急措置前
C34: 応急措置後 | E34: Ⅰ | N34: 応急措置後 | P34: Ⅰ
B35: 健全性 | D35: Ⅰ | M35: 健全性 | O35: Ⅰ
B36: 変状の発生範囲の規模 | E36: 0.6m×2.2m | M36: 変状の発生範囲の規模 | P36: 0.6m×4.5m
B37: 前回定期点検時の状態 | E37: 0.1m×2.0mのうき | M37: 前回定期点検時の状態 | P37: 0.1m×0.3m、0.2m×0.4mのはく落、0.2m×1.2m、0.1m×1.2mのうき
B38: 調査方針 | E38: なし | M38: 調査方針 | P38: なし
B39: 対策履歴 | E39: はく落防止工 | H39: 実施状況（実施日） | M39: 対策履歴 | P39: はく落防止工 | S39: 実施状況（実施日）
B40: メモ | D40: はく落防止工対策済 | M40: メモ | O40: はく落防止工対策済
C41: ※ 健全性の判定区分Ⅱ～Ⅳについて添付すること。また、点検前に実施 された措置によりⅠと判定された箇所も添付すること。 | N41: ※ 変状の発生範囲の規模とは、対策を行う際に参考となる変状の長さや面積をいう。
N42: ※ 応急措置を実施しないで判定した変状の対策区分は、対策区分の応急措置後の欄に記入すること。
C43: ※ たたき落としを実施した場合は、実施後の写真を添付すること。 | N43: ※ 変状の発生範囲の規模は、面積・寸法を記載すること。
C44: ※ 画像データは100kb程度とする。 | N44: (ひび割れ幅のみmmとし、その他をm表記とする)
C45: ※ 変状数に準じてシートを追加すること。（１シートに１ページとすること。） | N45: ※ 構造用鋼材以外の異物に伴ううき・はく離については、メモ欄に異物の概要を記入すること。

Sheet 様式D-1-1 (27)
B2: ■定期点検記録様式 変状写真台帳（トンネル本体工） 【様式D-1-1】
B3: フリガナ | D3: オオザサ | H3: 路 線 名 | J3: 一般県道俵山長門古市停車場線 | M3: 定期点検業者 | P3: 株式会社オリエンタルコンサルタンツ | S3: 定期点検年月日 | U3: 45271
B4: 名 称 | D4: 大笹トンネル | H4: 管理者名 | J4: 長門土木建築事務所 | M4: 定期点検者名 | P4: 妹尾 優大
B5: 写真 番号 | C5: 覆工 スパン 番号 | D5: S016 | M5: 写真 番号 | N5: 覆工 スパン 番号 | O5: =D5 -> S016
C7: 変状 番号 | D7: 2 | N7: 変状 番号 | O7: =D7+1 -> 3
B9: 変状 部位 | C9: 対象 箇所 | D9: 覆工・坑門 | M9: 変状 部位 | N9: 対象 箇所 | O9: 覆工・坑門
C11: 部位 区分 | D11: 横断目地（左側） | N11: 部位 区分 | O11: 側壁（右側）
B13: 変状区分 | D13: 材質劣化 | M13: 変状区分 | O13: 材質劣化
B14: 変状種類 | D14: うき・はく離 | M14: 変状種類 | O14: うき・はく離
B15: 対策 区分 | C15: 応急措置前 | M15: 対策 区分 | N15: 応急措置前
C16: 応急措置後 | E16: Ⅰ | N16: 応急措置後 | P16: Ⅰ
B17: 健全性 | D17: Ⅰ | M17: 健全性 | O17: Ⅰ
B18: 変状の発生範囲の規模 | E18: 0.2m×0.1m | M18: 変状の発生範囲の規模 | P18: 2.3m×1.0m
B19: 前回定期点検時の状態 | E19: 0.2m×0.1mのはく落 | M19: 前回定期点検時の状態 | P19: 0.2m×0.3mのはく落、1.2m×0.2mのうき
B20: 調査方針 | E20: なし | M20: 調査方針 | P20: なし
B21: 対策履歴 | E21: なし | H21: 実施状況（実施日） | M21: 対策履歴 | P21: はく落防止工 | S21: 実施状況（実施日）
B22: メモ | D22: はく落 | M22: メモ | O22: はく落防止工対策済
B23: 写真 番号 | C23: 覆工 スパン 番号 | D23: S017 | M23: 写真 番号 | N23: 覆工 スパン 番号 | O23: =D23 -> S017
C25: 変状 番号 | D25: 1 | N25: 変状 番号 | O25: =D25+1 -> 2
B27: 変状 部位 | C27: 対象 箇所 | D27: 覆工・坑門 | M27: 変状 部位 | N27: 対象 箇所 | O27: 覆工・坑門
C29: 部位 区分 | D29: アーチ（左側） | N29: 部位 区分 | O29: 横断目地（左側）
B31: 変状区分 | D31: 材質劣化 | M31: 変状区分 | O31: 材質劣化
B32: 変状種類 | D32: うき・はく離 | M32: 変状種類 | O32: うき・はく離
B33: 対策 区分 | C33: 応急措置前 | M33: 対策 区分 | N33: 応急措置前
C34: 応急措置後 | E34: Ⅰ | N34: 応急措置後 | P34: Ⅰ
B35: 健全性 | D35: Ⅰ | M35: 健全性 | O35: Ⅰ
B36: 変状の発生範囲の規模 | E36: 1.4m×1.5m | M36: 変状の発生範囲の規模 | P36: -
B37: 前回定期点検時の状態 | E37: 0.3m×0.5mのうき | M37: 前回定期点検時の状態 | P37: 0.5m×0.05mのうき
B38: 調査方針 | E38: なし | M38: 調査方針 | P38: なし
B39: 対策履歴 | E39: はく落防止工 | H39: 実施状況（実施日） | M39: 対策履歴 | P39: 導水工 | S39: 実施状況（実施日）
B40: メモ | D40: はく落防止工対策済 | M40: メモ | O40: 導水工新設により対策済
C41: ※ 健全性の判定区分Ⅱ～Ⅳについて添付すること。また、点検前に実施 された措置によりⅠと判定された箇所も添付すること。 | N41: ※ 変状の発生範囲の規模とは、対策を行う際に参考となる変状の長さや面積をいう。
N42: ※ 応急措置を実施しないで判定した変状の対策区分は、対策区分の応急措置後の欄に記入すること。
C43: ※ たたき落としを実施した場合は、実施後の写真を添付すること。 | N43: ※ 変状の発生範囲の規模は、面積・寸法を記載すること。
C44: ※ 画像データは100kb程度とする。 | N44: (ひび割れ幅のみmmとし、その他をm表記とする)
C45: ※ 変状数に準じてシートを追加すること。（１シートに１ページとすること。） | N45: ※ 構造用鋼材以外の異物に伴ううき・はく離については、メモ欄に異物の概要を記入すること。

Sheet 様式D-1-1 (28)
B2: ■定期点検記録様式 変状写真台帳（トンネル本体工） 【様式D-1-1】
B3: フリガナ | D3: オオザサ | H3: 路 線 名 | J3: 一般県道俵山長門古市停車場線 | M3: 定期点検業者 | P3: 株式会社オリエンタルコンサルタンツ | S3: 定期点検年月日 | U3: 45271
B4: 名 称 | D4: 大笹トンネル | H4: 管理者名 | J4: 長門土木建築事務所 | M4: 定期点検者名 | P4: 妹尾 優大
B5: 写真 番号 | C5: 覆工 スパン 番号 | D5: S017 | M5: 写真 番号 | N5: 覆工 スパン 番号 | O5: =D5 -> S017
C7: 変状 番号 | D7: 3 | N7: 変状 番号 | O7: =D7+1 -> 4
B9: 変状 部位 | C9: 対象 箇所 | D9: 覆工・坑門 | M9: 変状 部位 | N9: 対象 箇所 | O9: 覆工・坑門
C11: 部位 区分 | D11: 横断目地（右側） | N11: 部位 区分 | O11: 水平打ち継ぎ目（右側）
B13: 変状区分 | D13: 材質劣化 | M13: 変状区分 | O13: 材質劣化
B14: 変状種類 | D14: うき・はく離 | M14: 変状種類 | O14: うき・はく離
B15: 対策 区分 | C15: 応急措置前 | M15: 対策 区分 | N15: 応急措置前
C16: 応急措置後 | E16: Ⅰ | N16: 応急措置後 | P16: Ⅰ
B17: 健全性 | D17: Ⅰ | M17: 健全性 | O17: Ⅰ
B18: 変状の発生範囲の規模 | E18: 2.7m×1.0m | M18: 変状の発生範囲の規模 | P18: 0.6m×2.0m
B19: 前回定期点検時の状態 | E19: 2.2m×0.1mのうき | M19: 前回定期点検時の状態 | P19: 0.2m×0.3m、0.3m×0.5mのうき
B20: 調査方針 | E20: なし | M20: 調査方針 | P20: なし
B21: 対策履歴 | E21: はく落防止工 | H21: 実施状況（実施日） | M21: 対策履歴 | P21: はく落防止工 | S21: 実施状況（実施日）
B22: メモ | D22: はく落防止工対策済 | M22: メモ | O22: はく落防止工対策済
B23: 写真 番号 | C23: 覆工 スパン 番号 | D23: S017 | M23: 写真 番号 | N23: 覆工 スパン 番号 | O23: =D23 -> S017
C25: 変状 番号 | D25: =O7+1 -> 5 | N25: 変状 番号 | O25: =D25+1 -> 6
B27: 変状 部位 | C27: 対象 箇所 | D27: 路面 | M27: 変状 部位 | N27: 対象 箇所 | O27: 路面
C29: 部位 区分 | D29: 側溝 | N29: 部位 区分 | O29: 側溝
B31: 変状区分 | D31: 材質劣化 | M31: 変状区分 | O31: 材質劣化
B32: 変状種類 | D32: うき・はく離 | M32: 変状種類 | O32: うき・はく離
B33: 対策 区分 | C33: 応急措置前 | M33: 対策 区分 | N33: 応急措置前
C34: 応急措置後 | E34: － | N34: 応急措置後 | P34: －
B35: 健全性 | D35: － | M35: 健全性 | O35: －
B36: 変状の発生範囲の規模 | E36: 0.4m×0.4m | M36: 変状の発生範囲の規模 | P36: 0.4m×0.5m
B37: 前回定期点検時の状態 | E37: 0.3m×0.4mのはく離 | M37: 前回定期点検時の状態 | P37: 0.4m×0.5mのはく離
B38: 調査方針 | E38: なし | M38: 調査方針 | P38: なし
B39: 対策履歴 | E39: なし | H39: 実施状況（実施日） | M39: 対策履歴 | P39: なし | S39: 実施状況（実施日）
B40: メモ | D40: 側溝蓋のはく離 | M40: メモ | O40: 側溝蓋のはく離
C41: ※ 健全性の判定区分Ⅱ～Ⅳについて添付すること。また、点検前に実施 された措置によりⅠと判定された箇所も添付すること。 | N41: ※ 変状の発生範囲の規模とは、対策を行う際に参考となる変状の長さや面積をいう。
N42: ※ 応急措置を実施しないで判定した変状の対策区分は、対策区分の応急措置後の欄に記入すること。
C43: ※ たたき落としを実施した場合は、実施後の写真を添付すること。 | N43: ※ 変状の発生範囲の規模は、面積・寸法を記載すること。
C44: ※ 画像データは100kb程度とする。 | N44: (ひび割れ幅のみmmとし、その他をm表記とする)
C45: ※ 変状数に準じてシートを追加すること。（１シートに１ページとすること。） | N45: ※ 構造用鋼材以外の異物に伴ううき・はく離については、メモ欄に異物の概要を記入すること。

Sheet 様式D-1-1 (29)
B2: ■定期点検記録様式 変状写真台帳（トンネル本体工） 【様式D-1-1】
B3: フリガナ | D3: オオザサ | H3: 路 線 名 | J3: 一般県道俵山長門古市停車場線 | M3: 定期点検業者 | P3: 株式会社オリエンタルコンサルタンツ | S3: 定期点検年月日 | U3: 45271
B4: 名 称 | D4: 大笹トンネル | H4: 管理者名 | J4: 長門土木建築事務所 | M4: 定期点検者名 | P4: 妹尾 優大
B5: 写真 番号 | C5: 覆工 スパン 番号 | D5: S018 | M5: 写真 番号 | N5: 覆工 スパン 番号 | O5: =D5 -> S018
C7: 変状 番号 | D7: 1 | N7: 変状 番号 | O7: =D7+1 -> 2
B9: 変状 部位 | C9: 対象 箇所 | D9: 覆工・坑門 | M9: 変状 部位 | N9: 対象 箇所 | O9: 覆工・坑門
C11: 部位 区分 | D11: 水平打ち継ぎ目（左側） | N11: 部位 区分 | O11: アーチ（右側）
B13: 変状区分 | D13: 材質劣化 | M13: 変状区分 | O13: 漏水
B14: 変状種類 | D14: うき・はく離 | M14: 変状種類 | O14: 漏水
B15: 対策 区分 | C15: 応急措置前 | M15: 対策 区分 | N15: 応急措置前
C16: 応急措置後 | E16: Ⅰ | N16: 応急措置後 | P16: Ⅱb
B17: 健全性 | D17: Ⅰ | M17: 健全性 | O17: Ⅱ
B18: 変状の発生範囲の規模 | E18: - | M18: 変状の発生範囲の規模 | P18: 4.3m×1.3m
B19: 前回定期点検時の状態 | E19: 0.1m×0.6mのうき | M19: 前回定期点検時の状態 | P19: 漏水、にじみ
B20: 調査方針 | E20: なし | M20: 調査方針 | P20: なし
B21: 対策履歴 | E21: 導水工 | H21: 実施状況（実施日） | M21: 対策履歴 | P21: なし | S21: 実施状況（実施日）
B22: メモ | D22: 導水工新設により対策済 | M22: メモ | O22: ひびわれからの漏水、にじみ
B23: 写真 番号 | C23: 覆工 スパン 番号 | D23: =O5 -> S018 | M23: 写真 番号 | N23: 覆工 スパン 番号 | O23: =D23 -> S018
C25: 変状 番号 | D25: =O7+1 -> 3 | N25: 変状 番号 | O25: =D25+1 -> 4
B27: 変状 部位 | C27: 対象 箇所 | D27: 覆工・坑門 | M27: 変状 部位 | N27: 対象 箇所 | O27: 覆工・坑門
C29: 部位 区分 | D29: 水平打ち継ぎ目（右側） | N29: 部位 区分 | O29: 水平打ち継ぎ目（右側）
B31: 変状区分 | D31: 材質劣化 | M31: 変状区分 | O31: 材質劣化
B32: 変状種類 | D32: うき・はく離 | M32: 変状種類 | O32: うき・はく離
B33: 対策 区分 | C33: 応急措置前 | M33: 対策 区分 | N33: 応急措置前
C34: 応急措置後 | E34: Ⅱa | N34: 応急措置後 | P34: Ⅱa
B35: 健全性 | D35: Ⅱ | M35: 健全性 | O35: Ⅱ
B36: 変状の発生範囲の規模 | E36: 0.1m×0.7m | M36: 変状の発生範囲の規模 | P36: 0.1m×0.6m
B37: 前回定期点検時の状態 | E37: - | M37: 前回定期点検時の状態 | P37: -
B38: 調査方針 | E38: なし | M38: 調査方針 | P38: なし
B39: 対策履歴 | E39: なし | H39: 実施状況（実施日） | M39: 対策履歴 | P39: なし | S39: 実施状況（実施日）
B40: メモ | D40: うき | M40: メモ | O40: うき
C41: ※ 健全性の判定区分Ⅱ～Ⅳについて添付すること。また、点検前に実施 された措置によりⅠと判定された箇所も添付すること。 | N41: ※ 変状の発生範囲の規模とは、対策を行う際に参考となる変状の長さや面積をいう。
N42: ※ 応急措置を実施しないで判定した変状の対策区分は、対策区分の応急措置後の欄に記入すること。
C43: ※ たたき落としを実施した場合は、実施後の写真を添付すること。 | N43: ※ 変状の発生範囲の規模は、面積・寸法を記載すること。
C44: ※ 画像データは100kb程度とする。 | N44: (ひび割れ幅のみmmとし、その他をm表記とする)
C45: ※ 変状数に準じてシートを追加すること。（１シートに１ページとすること。） | N45: ※ 構造用鋼材以外の異物に伴ううき・はく離については、メモ欄に異物の概要を記入すること。

Sheet 様式D-1-1 (30)
B2: ■定期点検記録様式 変状写真台帳（トンネル本体工） 【様式D-1-1】
B3: フリガナ | D3: オオザサ | H3: 路 線 名 | J3: 一般県道俵山長門古市停車場線 | M3: 定期点検業者 | P3: 株式会社オリエンタルコンサルタンツ | S3: 定期点検年月日 | U3: 45271
B4: 名 称 | D4: 大笹トンネル | H4: 管理者名 | J4: 長門土木建築事務所 | M4: 定期点検者名 | P4: 妹尾 優大
B5: 写真 番号 | C5: 覆工 スパン 番号 | D5: S018 | M5: 写真 番号 | N5: 覆工 スパン 番号 | O5: =D5 -> S018
C7: 変状 番号 | D7: 5 | N7: 変状 番号 | O7: =D7+1 -> 6
B9: 変状 部位 | C9: 対象 箇所 | D9: 覆工・坑門 | M9: 変状 部位 | N9: 対象 箇所 | O9: 覆工・坑門
C11: 部位 区分 | D11: 横断目地（右側） | N11: 部位 区分 | O11: 側壁（右側）
B13: 変状区分 | D13: 材質劣化 | M13: 変状区分 | O13: 材質劣化
B14: 変状種類 | D14: うき・はく離 | M14: 変状種類 | O14: うき・はく離
B15: 対策 区分 | C15: 応急措置前 | M15: 対策 区分 | N15: 応急措置前
C16: 応急措置後 | E16: Ⅱa | N16: 応急措置後 | P16: Ⅱb
B17: 健全性 | D17: Ⅱ | M17: 健全性 | O17: Ⅱ
B18: 変状の発生範囲の規模 | E18: 0.4m×0.1m | M18: 変状の発生範囲の規模 | P18: 0.1m×0.1m
B19: 前回定期点検時の状態 | E19: 0.4m×0.1mのうき | M19: 前回定期点検時の状態 | P19: 0.1m×0.1mのうき
B20: 調査方針 | E20: なし | M20: 調査方針 | P20: なし
B21: 対策履歴 | E21: なし | H21: 実施状況（実施日） | M21: 対策履歴 | P21: なし | S21: 実施状況（実施日）
B22: メモ | D22: うき | M22: メモ | O22: うき
B23: 写真 番号 | C23: 覆工 スパン 番号 | D23: =O5 -> S018 | M23: 写真 番号 | N23: 覆工 スパン 番号 | O23: =D23 -> S018
C25: 変状 番号 | D25: =O7+1 -> 7 | N25: 変状 番号 | O25: =D25+1 -> 8
B27: 変状 部位 | C27: 対象 箇所 | D27: 路面 | M27: 変状 部位 | N27: 対象 箇所 | O27: 路面
C29: 部位 区分 | D29: 側溝 | N29: 部位 区分 | O29: 側溝
B31: 変状区分 | D31: 材質劣化 | M31: 変状区分 | O31: 材質劣化
B32: 変状種類 | D32: うき・はく離 | M32: 変状種類 | O32: うき・はく離
B33: 対策 区分 | C33: 応急措置前 | M33: 対策 区分 | N33: 応急措置前
C34: 応急措置後 | E34: － | N34: 応急措置後 | P34: －
B35: 健全性 | D35: － | M35: 健全性 | O35: －
B36: 変状の発生範囲の規模 | E36: 0.4m×2.0m | M36: 変状の発生範囲の規模 | P36: 0.4m×0.1m
B37: 前回定期点検時の状態 | E37: 0.4m×2.0mのはく離 | M37: 前回定期点検時の状態 | P37: 0.4m×0.1mのはく離
B38: 調査方針 | E38: なし | M38: 調査方針 | P38: なし
B39: 対策履歴 | E39: なし | H39: 実施状況（実施日） | M39: 対策履歴 | P39: なし | S39: 実施状況（実施日）
B40: メモ | D40: 側溝蓋のはく離 | M40: メモ | O40: 側溝蓋のはく離
C41: ※ 健全性の判定区分Ⅱ～Ⅳについて添付すること。また、点検前に実施 された措置によりⅠと判定された箇所も添付すること。 | N41: ※ 変状の発生範囲の規模とは、対策を行う際に参考となる変状の長さや面積をいう。
N42: ※ 応急措置を実施しないで判定した変状の対策区分は、対策区分の応急措置後の欄に記入すること。
C43: ※ たたき落としを実施した場合は、実施後の写真を添付すること。 | N43: ※ 変状の発生範囲の規模は、面積・寸法を記載すること。
C44: ※ 画像データは100kb程度とする。 | N44: (ひび割れ幅のみmmとし、その他をm表記とする)
C45: ※ 変状数に準じてシートを追加すること。（１シートに１ページとすること。） | N45: ※ 構造用鋼材以外の異物に伴ううき・はく離については、メモ欄に異物の概要を記入すること。

Sheet 様式D-1-1 (31)
B2: ■定期点検記録様式 変状写真台帳（トンネル本体工） 【様式D-1-1】
B3: フリガナ | D3: オオザサ | H3: 路 線 名 | J3: 一般県道俵山長門古市停車場線 | M3: 定期点検業者 | P3: 株式会社オリエンタルコンサルタンツ | S3: 定期点検年月日 | U3: 45271
B4: 名 称 | D4: 大笹トンネル | H4: 管理者名 | J4: 長門土木建築事務所 | M4: 定期点検者名 | P4: 妹尾 優大
B5: 写真 番号 | C5: 覆工 スパン 番号 | D5: S019 | M5: 写真 番号 | N5: 覆工 スパン 番号 | O5: =D5 -> S019
C7: 変状 番号 | D7: 1 | N7: 変状 番号 | O7: =D7+1 -> 2
B9: 変状 部位 | C9: 対象 箇所 | D9: 覆工・坑門 | M9: 変状 部位 | N9: 対象 箇所 | O9: 覆工・坑門
C11: 部位 区分 | D11: 水平打ち継ぎ目（左側） | N11: 部位 区分 | O11: 横断目地（左側）
B13: 変状区分 | D13: 材質劣化 | M13: 変状区分 | O13: 材質劣化
B14: 変状種類 | D14: うき・はく離 | M14: 変状種類 | O14: その他
B15: 対策 区分 | C15: 応急措置前 | M15: 対策 区分 | N15: 応急措置前
C16: 応急措置後 | E16: Ⅱa | N16: 応急措置後 | P16: Ⅰ
B17: 健全性 | D17: Ⅱ | M17: 健全性 | O17: Ⅰ
B18: 変状の発生範囲の規模 | E18: 0.1m×2.5m | M18: 変状の発生範囲の規模 | P18: -
B19: 前回定期点検時の状態 | E19: 0.1m×3.0mのうき | M19: 前回定期点検時の状態 | P19: 0.8m×0.1mの豆板
B20: 調査方針 | E20: なし | M20: 調査方針 | P20: なし
B21: 対策履歴 | E21: なし | H21: 実施状況（実施日） | M21: 対策履歴 | P21: 導水工 | S21: 実施状況（実施日）
B22: メモ | D22: うき | M22: メモ | O22: 導水工新設により対策済
B23: 写真 番号 | C23: 覆工 スパン 番号 | D23: =O5 -> S019 | M23: 写真 番号 | N23: 覆工 スパン 番号 | O23: =D23 -> S019
C25: 変状 番号 | D25: =O7+1 -> 3 | N25: 変状 番号 | O25: =D25+1 -> 4
B27: 変状 部位 | C27: 対象 箇所 | D27: 覆工・坑門 | M27: 変状 部位 | N27: 対象 箇所 | O27: 覆工・坑門
C29: 部位 区分 | D29: 横断目地（右側） | N29: 部位 区分 | O29: アーチ（右側）
B31: 変状区分 | D31: 材質劣化 | M31: 変状区分 | O31: 漏水
B32: 変状種類 | D32: うき・はく離 | M32: 変状種類 | O32: 漏水
B33: 対策 区分 | C33: 応急措置前 | M33: 対策 区分 | N33: 応急措置前
C34: 応急措置後 | E34: Ⅰ | N34: 応急措置後 | P34: Ⅱb
B35: 健全性 | D35: Ⅰ | M35: 健全性 | O35: Ⅱ
B36: 変状の発生範囲の規模 | E36: - | M36: 変状の発生範囲の規模 | P36: 5.7m×2.0m
B37: 前回定期点検時の状態 | E37: 0.3m×0.05mのうき、はく離 | M37: 前回定期点検時の状態 | P37: 漏水、にじみ
B38: 調査方針 | E38: なし | M38: 調査方針 | P38: なし
B39: 対策履歴 | E39: 導水工 | H39: 実施状況（実施日） | M39: 対策履歴 | P39: なし | S39: 実施状況（実施日）
B40: メモ | D40: 導水工新設により対策済 | M40: メモ | O40: 漏水、にじみ
C41: ※ 健全性の判定区分Ⅱ～Ⅳについて添付すること。また、点検前に実施 された措置によりⅠと判定された箇所も添付すること。 | N41: ※ 変状の発生範囲の規模とは、対策を行う際に参考となる変状の長さや面積をいう。
N42: ※ 応急措置を実施しないで判定した変状の対策区分は、対策区分の応急措置後の欄に記入すること。
C43: ※ たたき落としを実施した場合は、実施後の写真を添付すること。 | N43: ※ 変状の発生範囲の規模は、面積・寸法を記載すること。
C44: ※ 画像データは100kb程度とする。 | N44: (ひび割れ幅のみmmとし、その他をm表記とする)
C45: ※ 変状数に準じてシートを追加すること。（１シートに１ページとすること。） | N45: ※ 構造用鋼材以外の異物に伴ううき・はく離については、メモ欄に異物の概要を記入すること。

Sheet 様式D-1-1 (32)
B2: ■定期点検記録様式 変状写真台帳（トンネル本体工） 【様式D-1-1】
B3: フリガナ | D3: オオザサ | H3: 路 線 名 | J3: 一般県道俵山長門古市停車場線 | M3: 定期点検業者 | P3: 株式会社オリエンタルコンサルタンツ | S3: 定期点検年月日 | U3: 45271
B4: 名 称 | D4: 大笹トンネル | H4: 管理者名 | J4: 長門土木建築事務所 | M4: 定期点検者名 | P4: 妹尾 優大
B5: 写真 番号 | C5: 覆工 スパン 番号 | D5: S019 | M5: 写真 番号 | N5: 覆工 スパン 番号 | O5: =D5 -> S019
C7: 変状 番号 | D7: 5 | N7: 変状 番号 | O7: =D7+1 -> 6
B9: 変状 部位 | C9: 対象 箇所 | D9: 路面 | M9: 変状 部位 | N9: 対象 箇所 | O9: 路面
C11: 部位 区分 | D11: 車道 | N11: 部位 区分 | O11: 側溝
B13: 変状区分 | D13: 漏水 | M13: 変状区分 | O13: 材質劣化
B14: 変状種類 | D14: 滞水 | M14: 変状種類 | O14: うき・はく離
B15: 対策 区分 | C15: 応急措置前 | M15: 対策 区分 | N15: 応急措置前
C16: 応急措置後 | E16: － | N16: 応急措置後 | P16: －
B17: 健全性 | D17: － | M17: 健全性 | O17: －
B18: 変状の発生範囲の規模 | E18: - | M18: 変状の発生範囲の規模 | P18: 0.4m×0.1m
B19: 前回定期点検時の状態 | E19: 0.4m×0.9mの滞水 | M19: 前回定期点検時の状態 | P19: 0.4m×0.1mのはく離
B20: 調査方針 | E20: なし | M20: 調査方針 | P20: なし
B21: 対策履歴 | E21: なし | H21: 実施状況（実施日） | M21: 対策履歴 | P21: なし | S21: 実施状況（実施日）
B22: メモ | D22: 滞水跡 | M22: メモ | O22: 側溝蓋のはく離
B23: 写真 番号 | C23: 覆工 スパン 番号 | D23: S020 | M23: 写真 番号 | N23: 覆工 スパン 番号 | O23: =D23 -> S020
C25: 変状 番号 | D25: 1 | N25: 変状 番号 | O25: =D25+1 -> 2
B27: 変状 部位 | C27: 対象 箇所 | D27: 覆工・坑門 | M27: 変状 部位 | N27: 対象 箇所 | O27: 覆工・坑門
C29: 部位 区分 | D29: アーチ（左側） | N29: 部位 区分 | O29: アーチ（右側）
B31: 変状区分 | D31: 材質劣化 | M31: 変状区分 | O31: 材質劣化
B32: 変状種類 | D32: うき・はく離 | M32: 変状種類 | O32: うき・はく離
B33: 対策 区分 | C33: 応急措置前 | M33: 対策 区分 | N33: 応急措置前
C34: 応急措置後 | E34: Ⅰ | N34: 応急措置後 | P34: Ⅰ
B35: 健全性 | D35: Ⅰ | M35: 健全性 | O35: Ⅰ
B36: 変状の発生範囲の規模 | E36: 1.2m×1.6m | M36: 変状の発生範囲の規模 | P36: 1.2m×2.2m
B37: 前回定期点検時の状態 | E37: 0.1m×0.6mのはく落 | M37: 前回定期点検時の状態 | P37: 0.1m×0.4m、0.2m×0.6mのうき
B38: 調査方針 | E38: なし | M38: 調査方針 | P38: なし
B39: 対策履歴 | E39: はく落防止工 | H39: 実施状況（実施日） | M39: 対策履歴 | P39: はく落防止工 | S39: 実施状況（実施日）
B40: メモ | D40: はく落防止工対策済 | M40: メモ | O40: はく落防止工対策済
C41: ※ 健全性の判定区分Ⅱ～Ⅳについて添付すること。また、点検前に実施 された措置によりⅠと判定された箇所も添付すること。 | N41: ※ 変状の発生範囲の規模とは、対策を行う際に参考となる変状の長さや面積をいう。
N42: ※ 応急措置を実施しないで判定した変状の対策区分は、対策区分の応急措置後の欄に記入すること。
C43: ※ たたき落としを実施した場合は、実施後の写真を添付すること。 | N43: ※ 変状の発生範囲の規模は、面積・寸法を記載すること。
C44: ※ 画像データは100kb程度とする。 | N44: (ひび割れ幅のみmmとし、その他をm表記とする)
C45: ※ 変状数に準じてシートを追加すること。（１シートに１ページとすること。） | N45: ※ 構造用鋼材以外の異物に伴ううき・はく離については、メモ欄に異物の概要を記入すること。

Sheet 様式D-1-1 (33)
B2: ■定期点検記録様式 変状写真台帳（トンネル本体工） 【様式D-1-1】
B3: フリガナ | D3: オオザサ | H3: 路 線 名 | J3: 一般県道俵山長門古市停車場線 | M3: 定期点検業者 | P3: 株式会社オリエンタルコンサルタンツ | S3: 定期点検年月日 | U3: 45271
B4: 名 称 | D4: 大笹トンネル | H4: 管理者名 | J4: 長門土木建築事務所 | M4: 定期点検者名 | P4: 妹尾 優大
B5: 写真 番号 | C5: 覆工 スパン 番号 | D5: S020 | M5: 写真 番号 | N5: 覆工 スパン 番号 | O5: =D5 -> S020
C7: 変状 番号 | D7: 3 | N7: 変状 番号 | O7: =D7+1 -> 4
B9: 変状 部位 | C9: 対象 箇所 | D9: 覆工・坑門 | M9: 変状 部位 | N9: 対象 箇所 | O9: 路面
C11: 部位 区分 | D11: 水平打ち継ぎ目（右側） | N11: 部位 区分 | O11: 側溝
B13: 変状区分 | D13: 材質劣化 | M13: 変状区分 | O13: 材質劣化
B14: 変状種類 | D14: うき・はく離 | M14: 変状種類 | O14: うき・はく離
B15: 対策 区分 | C15: 応急措置前 | M15: 対策 区分 | N15: 応急措置前
C16: 応急措置後 | E16: Ⅱa | N16: 応急措置後 | P16: －
B17: 健全性 | D17: Ⅱ | M17: 健全性 | O17: －
B18: 変状の発生範囲の規模 | E18: 0.2m×0.5m | M18: 変状の発生範囲の規模 | P18: 0.4m×0.5m
B19: 前回定期点検時の状態 | E19: 0.1m×0.5mのうき | M19: 前回定期点検時の状態 | P19: 0.4m×0.5mのはく離
B20: 調査方針 | E20: なし | M20: 調査方針 | P20: なし
B21: 対策履歴 | E21: なし | H21: 実施状況（実施日） | M21: 対策履歴 | P21: なし | S21: 実施状況（実施日）
B22: メモ | D22: うき | M22: メモ | O22: 側溝蓋のはく離
B23: 写真 番号 | C23: 覆工 スパン 番号 | D23: S021 | M23: 写真 番号 | N23: 覆工 スパン 番号 | O23: =D23 -> S021
C25: 変状 番号 | D25: 1 | N25: 変状 番号 | O25: =D25+1 -> 2
B27: 変状 部位 | C27: 対象 箇所 | D27: 覆工・坑門 | M27: 変状 部位 | N27: 対象 箇所 | O27: 覆工・坑門
C29: 部位 区分 | D29: 水平打ち継ぎ目（左側） | N29: 部位 区分 | O29: 水平打ち継ぎ目（左側）
B31: 変状区分 | D31: 材質劣化 | M31: 変状区分 | O31: 材質劣化
B32: 変状種類 | D32: うき・はく離 | M32: 変状種類 | O32: うき・はく離
B33: 対策 区分 | C33: 応急措置前 | M33: 対策 区分 | N33: 応急措置前
C34: 応急措置後 | E34: Ⅰ | N34: 応急措置後 | P34: Ⅰ
B35: 健全性 | D35: Ⅰ | M35: 健全性 | O35: Ⅰ
B36: 変状の発生範囲の規模 | E36: 0.1m×0.3m | M36: 変状の発生範囲の規模 | P36: 0.8m×1.5m
B37: 前回定期点検時の状態 | E37: 0.1m×0.6mのはく落 | M37: 前回定期点検時の状態 | P37: 0.2m×0.6mのはく落、0.3m×0.9mのうき
B38: 調査方針 | E38: なし | M38: 調査方針 | P38: なし
B39: 対策履歴 | E39: なし | H39: 実施状況（実施日） | M39: 対策履歴 | P39: はく落防止工 | S39: 実施状況（実施日）
B40: メモ | D40: はく落 | M40: メモ | O40: はく落防止工対策済
C41: ※ 健全性の判定区分Ⅱ～Ⅳについて添付すること。また、点検前に実施 された措置によりⅠと判定された箇所も添付すること。 | N41: ※ 変状の発生範囲の規模とは、対策を行う際に参考となる変状の長さや面積をいう。
N42: ※ 応急措置を実施しないで判定した変状の対策区分は、対策区分の応急措置後の欄に記入すること。
C43: ※ たたき落としを実施した場合は、実施後の写真を添付すること。 | N43: ※ 変状の発生範囲の規模は、面積・寸法を記載すること。
C44: ※ 画像データは100kb程度とする。 | N44: (ひび割れ幅のみmmとし、その他をm表記とする)
C45: ※ 変状数に準じてシートを追加すること。（１シートに１ページとすること。） | N45: ※ 構造用鋼材以外の異物に伴ううき・はく離については、メモ欄に異物の概要を記入すること。

Sheet 様式D-1-1 (34)
B2: ■定期点検記録様式 変状写真台帳（トンネル本体工） 【様式D-1-1】
B3: フリガナ | D3: オオザサ | H3: 路 線 名 | J3: 一般県道俵山長門古市停車場線 | M3: 定期点検業者 | P3: 株式会社オリエンタルコンサルタンツ | S3: 定期点検年月日 | U3: 45271
B4: 名 称 | D4: 大笹トンネル | H4: 管理者名 | J4: 長門土木建築事務所 | M4: 定期点検者名 | P4: 妹尾 優大
B5: 写真 番号 | C5: 覆工 スパン 番号 | D5: S021 | M5: 写真 番号 | N5: 覆工 スパン 番号 | O5: =D5 -> S021
C7: 変状 番号 | D7: 3 | N7: 変状 番号 | O7: =D7+1 -> 4
B9: 変状 部位 | C9: 対象 箇所 | D9: 覆工・坑門 | M9: 変状 部位 | N9: 対象 箇所 | O9: 覆工・坑門
C11: 部位 区分 | D11: 水平打ち継ぎ目（左側） | N11: 部位 区分 | O11: 横断目地（天端）
B13: 変状区分 | D13: 材質劣化 | M13: 変状区分 | O13: 材質劣化
B14: 変状種類 | D14: うき・はく離 | M14: 変状種類 | O14: うき・はく離
B15: 対策 区分 | C15: 応急措置前 | M15: 対策 区分 | N15: 応急措置前
C16: 応急措置後 | E16: Ⅰ | N16: 応急措置後 | P16: Ⅰ
B17: 健全性 | D17: Ⅰ | M17: 健全性 | O17: Ⅰ
B18: 変状の発生範囲の規模 | E18: 0.6m×1.5m | M18: 変状の発生範囲の規模 | P18: 1.6m×1.0m
B19: 前回定期点検時の状態 | E19: 0.3m×0.4mのはく落、0.2m×1.1mのうき | M19: 前回定期点検時の状態 | P19: 0.6m×0.1mのうき
B20: 調査方針 | E20: なし | M20: 調査方針 | P20: なし
B21: 対策履歴 | E21: はく落防止工 | H21: 実施状況（実施日） | M21: 対策履歴 | P21: はく落防止工 | S21: 実施状況（実施日）
B22: メモ | D22: はく落防止工対策済 | M22: メモ | O22: はく落防止工対策済
B23: 写真 番号 | C23: 覆工 スパン 番号 | D23: =O5 -> S021 | M23: 写真 番号 | N23: 覆工 スパン 番号 | O23: =D23 -> S021
C25: 変状 番号 | D25: =O7+1 -> 5 | N25: 変状 番号 | O25: =D25+1 -> 6
B27: 変状 部位 | C27: 対象 箇所 | D27: 覆工・坑門 | M27: 変状 部位 | N27: 対象 箇所 | O27: 覆工・坑門
C29: 部位 区分 | D29: 横断目地（右側） | N29: 部位 区分 | O29: 水平打ち継ぎ目（右側）
B31: 変状区分 | D31: 材質劣化 | M31: 変状区分 | O31: 材質劣化
B32: 変状種類 | D32: うき・はく離 | M32: 変状種類 | O32: うき・はく離
B33: 対策 区分 | C33: 応急措置前 | M33: 対策 区分 | N33: 応急措置前
C34: 応急措置後 | E34: Ⅰ | N34: 応急措置後 | P34: Ⅱa
B35: 健全性 | D35: Ⅰ | M35: 健全性 | O35: Ⅱ
B36: 変状の発生範囲の規模 | E36: 1.4m×1.0m | M36: 変状の発生範囲の規模 | P36: 0.2m×0.3m
B37: 前回定期点検時の状態 | E37: 0.4m×0.1mのうき | M37: 前回定期点検時の状態 | P37: 0.2m×0.3mのうき
B38: 調査方針 | E38: なし | M38: 調査方針 | P38: なし
B39: 対策履歴 | E39: はく落防止工 | H39: 実施状況（実施日） | M39: 対策履歴 | P39: なし | S39: 実施状況（実施日）
B40: メモ | D40: はく落防止工対策済 | M40: メモ | O40: うき
C41: ※ 健全性の判定区分Ⅱ～Ⅳについて添付すること。また、点検前に実施 された措置によりⅠと判定された箇所も添付すること。 | N41: ※ 変状の発生範囲の規模とは、対策を行う際に参考となる変状の長さや面積をいう。
N42: ※ 応急措置を実施しないで判定した変状の対策区分は、対策区分の応急措置後の欄に記入すること。
C43: ※ たたき落としを実施した場合は、実施後の写真を添付すること。 | N43: ※ 変状の発生範囲の規模は、面積・寸法を記載すること。
C44: ※ 画像データは100kb程度とする。 | N44: (ひび割れ幅のみmmとし、その他をm表記とする)
C45: ※ 変状数に準じてシートを追加すること。（１シートに１ページとすること。） | N45: ※ 構造用鋼材以外の異物に伴ううき・はく離については、メモ欄に異物の概要を記入すること。

Sheet 様式D-1-1 (35)
B2: ■定期点検記録様式 変状写真台帳（トンネル本体工） 【様式D-1-1】
B3: フリガナ | D3: オオザサ | H3: 路 線 名 | J3: 一般県道俵山長門古市停車場線 | M3: 定期点検業者 | P3: 株式会社オリエンタルコンサルタンツ | S3: 定期点検年月日 | U3: 45271
B4: 名 称 | D4: 大笹トンネル | H4: 管理者名 | J4: 長門土木建築事務所 | M4: 定期点検者名 | P4: 妹尾 優大
B5: 写真 番号 | C5: 覆工 スパン 番号 | D5: S021 | M5: 写真 番号 | N5: 覆工 スパン 番号 | O5: =D5 -> S021
C7: 変状 番号 | D7: 7 | N7: 変状 番号 | O7: =D7+1 -> 8
B9: 変状 部位 | C9: 対象 箇所 | D9: 覆工・坑門 | M9: 変状 部位 | N9: 対象 箇所 | O9: 路面
C11: 部位 区分 | D11: 水平打ち継ぎ目（右側） | N11: 部位 区分 | O11: 側溝
B13: 変状区分 | D13: 材質劣化 | M13: 変状区分 | O13: 材質劣化
B14: 変状種類 | D14: うき・はく離 | M14: 変状種類 | O14: うき・はく離
B15: 対策 区分 | C15: 応急措置前 | M15: 対策 区分 | N15: 応急措置前
C16: 応急措置後 | E16: Ⅰ | N16: 応急措置後 | P16: －
B17: 健全性 | D17: Ⅰ | M17: 健全性 | O17: －
B18: 変状の発生範囲の規模 | E18: 0.6m×4.0m | M18: 変状の発生範囲の規模 | P18: 0.4m×0.5m
B19: 前回定期点検時の状態 | E19: 0.2m×0.3mのはく落、0.2m×2.5m、0.2m×0.4mのうき | M19: 前回定期点検時の状態 | P19: 0.4m×0.5mのはく離
B20: 調査方針 | E20: なし | M20: 調査方針 | P20: なし
B21: 対策履歴 | E21: はく落防止工 | H21: 実施状況（実施日） | M21: 対策履歴 | P21: なし | S21: 実施状況（実施日）
B22: メモ | D22: はく落防止工対策済 | M22: メモ | O22: 側溝蓋のはく離
B23: 写真 番号 | C23: 覆工 スパン 番号 | D23: =O5 -> S021 | M23: 写真 番号 | N23: 覆工 スパン 番号 | O23: =D23 -> S021
C25: 変状 番号 | D25: =O7+1 -> 9 | N25: 変状 番号 | O25: =D25+1 -> 10
B27: 変状 部位 | C27: 対象 箇所 | D27: 路面 | M27: 変状 部位 | N27: 対象 箇所 | O27: 路面
C29: 部位 区分 | D29: 側溝 | N29: 部位 区分 | O29: 側溝
B31: 変状区分 | D31: 材質劣化 | M31: 変状区分 | O31: 材質劣化
B32: 変状種類 | D32: うき・はく離 | M32: 変状種類 | O32: うき・はく離
B33: 対策 区分 | C33: 応急措置前 | M33: 対策 区分 | N33: 応急措置前
C34: 応急措置後 | E34: － | N34: 応急措置後 | P34: －
B35: 健全性 | D35: － | M35: 健全性 | O35: －
B36: 変状の発生範囲の規模 | E36: 0.4m×0.5m | M36: 変状の発生範囲の規模 | P36: 0.4m×0.1m
B37: 前回定期点検時の状態 | E37: 0.4m×0.5mのはく離 | M37: 前回定期点検時の状態 | P37: 0.4m×0.1mのはく離
B38: 調査方針 | E38: なし | M38: 調査方針 | P38: なし
B39: 対策履歴 | E39: なし | H39: 実施状況（実施日） | M39: 対策履歴 | P39: なし | S39: 実施状況（実施日）
B40: メモ | D40: 側溝蓋のはく離 | M40: メモ | O40: 側溝蓋のはく離
C41: ※ 健全性の判定区分Ⅱ～Ⅳについて添付すること。また、点検前に実施 された措置によりⅠと判定された箇所も添付すること。 | N41: ※ 変状の発生範囲の規模とは、対策を行う際に参考となる変状の長さや面積をいう。
N42: ※ 応急措置を実施しないで判定した変状の対策区分は、対策区分の応急措置後の欄に記入すること。
C43: ※ たたき落としを実施した場合は、実施後の写真を添付すること。 | N43: ※ 変状の発生範囲の規模は、面積・寸法を記載すること。
C44: ※ 画像データは100kb程度とする。 | N44: (ひび割れ幅のみmmとし、その他をm表記とする)
C45: ※ 変状数に準じてシートを追加すること。（１シートに１ページとすること。） | N45: ※ 構造用鋼材以外の異物に伴ううき・はく離については、メモ欄に異物の概要を記入すること。

Sheet 様式D-1-1 (36)
B2: ■定期点検記録様式 変状写真台帳（トンネル本体工） 【様式D-1-1】
B3: フリガナ | D3: オオザサ | H3: 路 線 名 | J3: 一般県道俵山長門古市停車場線 | M3: 定期点検業者 | P3: 株式会社オリエンタルコンサルタンツ | S3: 定期点検年月日 | U3: 45271
B4: 名 称 | D4: 大笹トンネル | H4: 管理者名 | J4: 長門土木建築事務所 | M4: 定期点検者名 | P4: 妹尾 優大
B5: 写真 番号 | C5: 覆工 スパン 番号 | D5: S022 | M5: 写真 番号 | N5: 覆工 スパン 番号 | O5: =D5 -> S022
C7: 変状 番号 | D7: 1 | N7: 変状 番号 | O7: =D7+1 -> 2
B9: 変状 部位 | C9: 対象 箇所 | D9: 覆工・坑門 | M9: 変状 部位 | N9: 対象 箇所 | O9: 覆工・坑門
C11: 部位 区分 | D11: 水平打ち継ぎ目（左側） | N11: 部位 区分 | O11: 横断目地（左側）
B13: 変状区分 | D13: 材質劣化 | M13: 変状区分 | O13: 材質劣化
B14: 変状種類 | D14: うき・はく離 | M14: 変状種類 | O14: うき・はく離
B15: 対策 区分 | C15: 応急措置前 | M15: 対策 区分 | N15: 応急措置前
C16: 応急措置後 | E16: Ⅰ | N16: 応急措置後 | P16: Ⅰ
B17: 健全性 | D17: Ⅰ | M17: 健全性 | O17: Ⅰ
B18: 変状の発生範囲の規模 | E18: 0.6m×5.55m | M18: 変状の発生範囲の規模 | P18: 5.5m×1.0m
B19: 前回定期点検時の状態 | E19: 0.2m×2.5mのうき、0.2m×1.0m、0.2m×2.0mのはく落 | M19: 前回定期点検時の状態 | P19: 0.2m×0.2m、0.2m×0.2m、0.8m×0.1mのうき、0.2m×0.6ｍの豆板
B20: 調査方針 | E20: なし | M20: 調査方針 | P20: なし
B21: 対策履歴 | E21: はく落防止工 | H21: 実施状況（実施日） | M21: 対策履歴 | P21: はく落防止工 | S21: 実施状況（実施日）
B22: メモ | D22: はく落防止工対策済 | M22: メモ | O22: はく落防止工対策済
B23: 写真 番号 | C23: 覆工 スパン 番号 | D23: =O5 -> S022 | M23: 写真 番号 | N23: 覆工 スパン 番号 | O23: =D23 -> S022
C25: 変状 番号 | D25: =O7+1 -> 3 | N25: 変状 番号 | O25: =D25+1 -> 4
B27: 変状 部位 | C27: 対象 箇所 | D27: 覆工・坑門 | M27: 変状 部位 | N27: 対象 箇所 | O27: 路面
C29: 部位 区分 | D29: 水平打ち継ぎ目（右側） | N29: 部位 区分 | O29: 側溝
B31: 変状区分 | D31: 材質劣化 | M31: 変状区分 | O31: 材質劣化
B32: 変状種類 | D32: うき・はく離 | M32: 変状種類 | O32: うき・はく離
B33: 対策 区分 | C33: 応急措置前 | M33: 対策 区分 | N33: 応急措置前
C34: 応急措置後 | E34: Ⅰ | N34: 応急措置後 | P34: －
B35: 健全性 | D35: Ⅰ | M35: 健全性 | O35: －
B36: 変状の発生範囲の規模 | E36: 0.6m×2.1m | M36: 変状の発生範囲の規模 | P36: 0.4m×0.5m
B37: 前回定期点検時の状態 | E37: 0.1m×1.3m、0.2m×0.4mのうき | M37: 前回定期点検時の状態 | P37: 0.4m×0.5mのはく離
B38: 調査方針 | E38: なし | M38: 調査方針 | P38: なし
B39: 対策履歴 | E39: はく落防止工 | H39: 実施状況（実施日） | M39: 対策履歴 | P39: なし | S39: 実施状況（実施日）
B40: メモ | D40: はく落防止工対策済 | M40: メモ | O40: 側溝蓋のはく離
C41: ※ 健全性の判定区分Ⅱ～Ⅳについて添付すること。また、点検前に実施 された措置によりⅠと判定された箇所も添付すること。 | N41: ※ 変状の発生範囲の規模とは、対策を行う際に参考となる変状の長さや面積をいう。
N42: ※ 応急措置を実施しないで判定した変状の対策区分は、対策区分の応急措置後の欄に記入すること。
C43: ※ たたき落としを実施した場合は、実施後の写真を添付すること。 | N43: ※ 変状の発生範囲の規模は、面積・寸法を記載すること。
C44: ※ 画像データは100kb程度とする。 | N44: (ひび割れ幅のみmmとし、その他をm表記とする)
C45: ※ 変状数に準じてシートを追加すること。（１シートに１ページとすること。） | N45: ※ 構造用鋼材以外の異物に伴ううき・はく離については、メモ欄に異物の概要を記入すること。

Sheet 様式D-1-1 (37)
B2: ■定期点検記録様式 変状写真台帳（トンネル本体工） 【様式D-1-1】
B3: フリガナ | D3: オオザサ | H3: 路 線 名 | J3: 一般県道俵山長門古市停車場線 | M3: 定期点検業者 | P3: 株式会社オリエンタルコンサルタンツ | S3: 定期点検年月日 | U3: 45271
B4: 名 称 | D4: 大笹トンネル | H4: 管理者名 | J4: 長門土木建築事務所 | M4: 定期点検者名 | P4: 妹尾 優大
B5: 写真 番号 | C5: 覆工 スパン 番号 | D5: S022 | M5: 写真 番号 | N5: 覆工 スパン 番号 | O5: S023
C7: 変状 番号 | D7: 5 | N7: 変状 番号 | O7: 1
B9: 変状 部位 | C9: 対象 箇所 | D9: 路面 | M9: 変状 部位 | N9: 対象 箇所 | O9: 覆工・坑門
C11: 部位 区分 | D11: 側溝 | N11: 部位 区分 | O11: 水平打ち継ぎ目（左側）
B13: 変状区分 | D13: 材質劣化 | M13: 変状区分 | O13: 材質劣化
B14: 変状種類 | D14: うき・はく離 | M14: 変状種類 | O14: うき・はく離
B15: 対策 区分 | C15: 応急措置前 | M15: 対策 区分 | N15: 応急措置前
C16: 応急措置後 | E16: － | N16: 応急措置後 | P16: Ⅰ
B17: 健全性 | D17: － | M17: 健全性 | O17: Ⅰ
B18: 変状の発生範囲の規模 | E18: 0.4m×4.0m | M18: 変状の発生範囲の規模 | P18: 0.6m×1.7m
B19: 前回定期点検時の状態 | E19: 0.4m×4.0mのはく離 | M19: 前回定期点検時の状態 | P19: 0.05m×1.0mのはく落
B20: 調査方針 | E20: なし | M20: 調査方針 | P20: なし
B21: 対策履歴 | E21: なし | H21: 実施状況（実施日） | M21: 対策履歴 | P21: はく落防止工 | S21: 実施状況（実施日）
B22: メモ | D22: 側溝蓋のはく離 | M22: メモ | O22: はく落防止工対策済
B23: 写真 番号 | C23: 覆工 スパン 番号 | D23: =O5 -> S023 | M23: 写真 番号 | N23: 覆工 スパン 番号 | O23: =D23 -> S023
C25: 変状 番号 | D25: =O7+1 -> 2 | N25: 変状 番号 | O25: =D25+1 -> 3
B27: 変状 部位 | C27: 対象 箇所 | D27: 覆工・坑門 | M27: 変状 部位 | N27: 対象 箇所 | O27: 覆工・坑門
C29: 部位 区分 | D29: 側壁（左側） | N29: 部位 区分 | O29: アーチ（左側）
B31: 変状区分 | D31: 材質劣化 | M31: 変状区分 | O31: 材質劣化
B32: 変状種類 | D32: うき・はく離 | M32: 変状種類 | O32: うき・はく離
B33: 対策 区分 | C33: 応急措置前 | M33: 対策 区分 | N33: 応急措置前
C34: 応急措置後 | E34: Ⅰ | N34: 応急措置後 | P34: Ⅰ
B35: 健全性 | D35: Ⅰ | M35: 健全性 | O35: Ⅰ
B36: 変状の発生範囲の規模 | E36: 1.4m×1.2m | M36: 変状の発生範囲の規模 | P36: 2.0m×2.3m
B37: 前回定期点検時の状態 | E37: 0.3m×0.2mのうき | M37: 前回定期点検時の状態 | P37: 0.2m×1.9mの豆板
B38: 調査方針 | E38: なし | M38: 調査方針 | P38: なし
B39: 対策履歴 | E39: はく落防止工 | H39: 実施状況（実施日） | M39: 対策履歴 | P39: はく落防止工 | S39: 実施状況（実施日）
B40: メモ | D40: はく落防止工対策済 | M40: メモ | O40: はく落防止工対策済
C41: ※ 健全性の判定区分Ⅱ～Ⅳについて添付すること。また、点検前に実施 された措置によりⅠと判定された箇所も添付すること。 | N41: ※ 変状の発生範囲の規模とは、対策を行う際に参考となる変状の長さや面積をいう。
N42: ※ 応急措置を実施しないで判定した変状の対策区分は、対策区分の応急措置後の欄に記入すること。
C43: ※ たたき落としを実施した場合は、実施後の写真を添付すること。 | N43: ※ 変状の発生範囲の規模は、面積・寸法を記載すること。
C44: ※ 画像データは100kb程度とする。 | N44: (ひび割れ幅のみmmとし、その他をm表記とする)
C45: ※ 変状数に準じてシートを追加すること。（１シートに１ページとすること。） | N45: ※ 構造用鋼材以外の異物に伴ううき・はく離については、メモ欄に異物の概要を記入すること。

Sheet 様式D-1-1 (38)
B2: ■定期点検記録様式 変状写真台帳（トンネル本体工） 【様式D-1-1】
B3: フリガナ | D3: オオザサ | H3: 路 線 名 | J3: 一般県道俵山長門古市停車場線 | M3: 定期点検業者 | P3: 株式会社オリエンタルコンサルタンツ | S3: 定期点検年月日 | U3: 45271
B4: 名 称 | D4: 大笹トンネル | H4: 管理者名 | J4: 長門土木建築事務所 | M4: 定期点検者名 | P4: 妹尾 優大
B5: 写真 番号 | C5: 覆工 スパン 番号 | D5: S023 | M5: 写真 番号 | N5: 覆工 スパン 番号 | O5: S023
C7: 変状 番号 | D7: 4 | N7: 変状 番号 | O7: =D7+1 -> 5
B9: 変状 部位 | C9: 対象 箇所 | D9: 覆工・坑門 | M9: 変状 部位 | N9: 対象 箇所 | O9: 覆工・坑門
C11: 部位 区分 | D11: アーチ（右側） | N11: 部位 区分 | O11: アーチ（右側）
B13: 変状区分 | D13: 漏水 | M13: 変状区分 | O13: 材質劣化
B14: 変状種類 | D14: 漏水 | M14: 変状種類 | O14: その他
B15: 対策 区分 | C15: 応急措置前 | M15: 対策 区分 | N15: 応急措置前
C16: 応急措置後 | E16: Ⅰ | N16: 応急措置後 | P16: Ⅱb
B17: 健全性 | D17: Ⅰ | M17: 健全性 | O17: Ⅱ
B18: 変状の発生範囲の規模 | E18: - | M18: 変状の発生範囲の規模 | P18: 0.2m×0.1m
B19: 前回定期点検時の状態 | E19: 漏水、にじみ | M19: 前回定期点検時の状態 | P19: 0.2m×0.1mの木片
B20: 調査方針 | E20: なし | M20: 調査方針 | P20: なし
B21: 対策履歴 | E21: 導水工 | H21: 実施状況（実施日） | M21: 対策履歴 | P21: なし | S21: 実施状況（実施日）
B22: メモ | D22: 導水工新設により対策済 | M22: メモ | O22: 異物混入(木片)
B23: 写真 番号 | C23: 覆工 スパン 番号 | D23: =O5 -> S023 | M23: 写真 番号 | N23: 覆工 スパン 番号 | O23: =D23 -> S023
C25: 変状 番号 | D25: =O7+1 -> 6 | N25: 変状 番号 | O25: =D25+1 -> 7
B27: 変状 部位 | C27: 対象 箇所 | D27: 覆工・坑門 | M27: 変状 部位 | N27: 対象 箇所 | O27: 覆工・坑門
C29: 部位 区分 | D29: アーチ（右側） | N29: 部位 区分 | O29: 水平打ち継ぎ目（右側）
B31: 変状区分 | D31: 材質劣化 | M31: 変状区分 | O31: 材質劣化
B32: 変状種類 | D32: うき・はく離 | M32: 変状種類 | O32: うき・はく離
B33: 対策 区分 | C33: 応急措置前 | M33: 対策 区分 | N33: 応急措置前
C34: 応急措置後 | E34: Ⅰ | N34: 応急措置後 | P34: Ⅰ
B35: 健全性 | D35: Ⅰ | M35: 健全性 | O35: Ⅰ
B36: 変状の発生範囲の規模 | E36: 1.0m×1.2m | M36: 変状の発生範囲の規模 | P36: -
B37: 前回定期点検時の状態 | E37: 0.2m×0.1mのうき | M37: 前回定期点検時の状態 | P37: 0.3m×0.4mのうき
B38: 調査方針 | E38: なし | M38: 調査方針 | P38: なし
B39: 対策履歴 | E39: はく落防止工 | H39: 実施状況（実施日） | M39: 対策履歴 | P39: 導水工 | S39: 実施状況（実施日）
B40: メモ | D40: はく落防止工対策済 | M40: メモ | O40: 導水工新設により対策済
C41: ※ 健全性の判定区分Ⅱ～Ⅳについて添付すること。また、点検前に実施 された措置によりⅠと判定された箇所も添付すること。 | N41: ※ 変状の発生範囲の規模とは、対策を行う際に参考となる変状の長さや面積をいう。
N42: ※ 応急措置を実施しないで判定した変状の対策区分は、対策区分の応急措置後の欄に記入すること。
C43: ※ たたき落としを実施した場合は、実施後の写真を添付すること。 | N43: ※ 変状の発生範囲の規模は、面積・寸法を記載すること。
C44: ※ 画像データは100kb程度とする。 | N44: (ひび割れ幅のみmmとし、その他をm表記とする)
C45: ※ 変状数に準じてシートを追加すること。（１シートに１ページとすること。） | N45: ※ 構造用鋼材以外の異物に伴ううき・はく離については、メモ欄に異物の概要を記入すること。

Sheet 様式D-1-1 (39)
B2: ■定期点検記録様式 変状写真台帳（トンネル本体工） 【様式D-1-1】
B3: フリガナ | D3: オオザサ | H3: 路 線 名 | J3: 一般県道俵山長門古市停車場線 | M3: 定期点検業者 | P3: 株式会社オリエンタルコンサルタンツ | S3: 定期点検年月日 | U3: 45271
B4: 名 称 | D4: 大笹トンネル | H4: 管理者名 | J4: 長門土木建築事務所 | M4: 定期点検者名 | P4: 妹尾 優大
B5: 写真 番号 | C5: 覆工 スパン 番号 | D5: S023 | M5: 写真 番号 | N5: 覆工 スパン 番号 | O5: S023
C7: 変状 番号 | D7: 8 | N7: 変状 番号 | O7: =D7+1 -> 9
B9: 変状 部位 | C9: 対象 箇所 | D9: 路面 | M9: 変状 部位 | N9: 対象 箇所 | O9: 路面
C11: 部位 区分 | D11: 車道 | N11: 部位 区分 | O11: 側溝
B13: 変状区分 | D13: 漏水 | M13: 変状区分 | O13: 材質劣化
B14: 変状種類 | D14: 滞水 | M14: 変状種類 | O14: うき・はく離
B15: 対策 区分 | C15: 応急措置前 | M15: 対策 区分 | N15: 応急措置前
C16: 応急措置後 | E16: － | N16: 応急措置後 | P16: －
B17: 健全性 | D17: － | M17: 健全性 | O17: －
B18: 変状の発生範囲の規模 | E18: - | M18: 変状の発生範囲の規模 | P18: 0.4m×0.5m
B19: 前回定期点検時の状態 | E19: 0.2m×0.3mの滞水 | M19: 前回定期点検時の状態 | P19: 0.4m×0.5mのはく離
B20: 調査方針 | E20: なし | M20: 調査方針 | P20: なし
B21: 対策履歴 | E21: なし | H21: 実施状況（実施日） | M21: 対策履歴 | P21: なし | S21: 実施状況（実施日）
B22: メモ | D22: 滞水跡 | M22: メモ | O22: 側溝蓋のはく離
B23: 写真 番号 | C23: 覆工 スパン 番号 | D23: S024 | M23: 写真 番号 | N23: 覆工 スパン 番号 | O23: =D23 -> S024
C25: 変状 番号 | D25: 1 | N25: 変状 番号 | O25: =D25+1 -> 2
B27: 変状 部位 | C27: 対象 箇所 | D27: 覆工・坑門 | M27: 変状 部位 | N27: 対象 箇所 | O27: 覆工・坑門
C29: 部位 区分 | D29: 側壁（左側） | N29: 部位 区分 | O29: アーチ（左側）
B31: 変状区分 | D31: 材質劣化 | M31: 変状区分 | O31: 材質劣化
B32: 変状種類 | D32: うき・はく離 | M32: 変状種類 | O32: 補強・補修材の破損
B33: 対策 区分 | C33: 応急措置前 | M33: 対策 区分 | N33: 応急措置前
C34: 応急措置後 | E34: Ⅰ | N34: 応急措置後 | P34: Ⅱb
B35: 健全性 | D35: Ⅰ | M35: 健全性 | O35: Ⅱ
B36: 変状の発生範囲の規模 | E36: 1.1m×1.7m | M36: 変状の発生範囲の規模 | P36: -
B37: 前回定期点検時の状態 | E37: 0.05m×0.6mのうき | M37: 前回定期点検時の状態 | P37: -
B38: 調査方針 | E38: なし | M38: 調査方針 | P38: なし
B39: 対策履歴 | E39: はく落防止工 | H39: 実施状況（実施日） | M39: 対策履歴 | P39: なし | S39: 実施状況（実施日）
B40: メモ | D40: はく落防止工対策済 | M40: メモ | O40: はく落防止工のアンカーゆるみ
C41: ※ 健全性の判定区分Ⅱ～Ⅳについて添付すること。また、点検前に実施 された措置によりⅠと判定された箇所も添付すること。 | N41: ※ 変状の発生範囲の規模とは、対策を行う際に参考となる変状の長さや面積をいう。
N42: ※ 応急措置を実施しないで判定した変状の対策区分は、対策区分の応急措置後の欄に記入すること。
C43: ※ たたき落としを実施した場合は、実施後の写真を添付すること。 | N43: ※ 変状の発生範囲の規模は、面積・寸法を記載すること。
C44: ※ 画像データは100kb程度とする。 | N44: (ひび割れ幅のみmmとし、その他をm表記とする)
C45: ※ 変状数に準じてシートを追加すること。（１シートに１ページとすること。） | N45: ※ 構造用鋼材以外の異物に伴ううき・はく離については、メモ欄に異物の概要を記入すること。

Sheet 様式D-1-1 (40)
B2: ■定期点検記録様式 変状写真台帳（トンネル本体工） 【様式D-1-1】
B3: フリガナ | D3: オオザサ | H3: 路 線 名 | J3: 一般県道俵山長門古市停車場線 | M3: 定期点検業者 | P3: 株式会社オリエンタルコンサルタンツ | S3: 定期点検年月日 | U3: 45271
B4: 名 称 | D4: 大笹トンネル | H4: 管理者名 | J4: 長門土木建築事務所 | M4: 定期点検者名 | P4: 妹尾 優大
B5: 写真 番号 | C5: 覆工 スパン 番号 | D5: S024 | M5: 写真 番号 | N5: 覆工 スパン 番号 | O5: =D5 -> S024
C7: 変状 番号 | D7: 3 | N7: 変状 番号 | O7: =D7+1 -> 4
B9: 変状 部位 | C9: 対象 箇所 | D9: 覆工・坑門 | M9: 変状 部位 | N9: 対象 箇所 | O9: 覆工・坑門
C11: 部位 区分 | D11: アーチ（左側） | N11: 部位 区分 | O11: 水平打ち継ぎ目（右側）
B13: 変状区分 | D13: 材質劣化 | M13: 変状区分 | O13: 材質劣化
B14: 変状種類 | D14: その他 | M14: 変状種類 | O14: うき・はく離
B15: 対策 区分 | C15: 応急措置前 | M15: 対策 区分 | N15: 応急措置前
C16: 応急措置後 | E16: Ⅰ | N16: 応急措置後 | P16: Ⅰ
B17: 健全性 | D17: Ⅰ | M17: 健全性 | O17: Ⅰ
B18: 変状の発生範囲の規模 | E18: 2.5m×3.0m | M18: 変状の発生範囲の規模 | P18: 0.9m×0.6m
B19: 前回定期点検時の状態 | E19: 1.4m×1.5mの豆板 | M19: 前回定期点検時の状態 | P19: 0.2m×0.6mのはく落
B20: 調査方針 | E20: なし | M20: 調査方針 | P20: なし
B21: 対策履歴 | E21: はく落防止工 | H21: 実施状況（実施日） | M21: 対策履歴 | P21: はく落防止工 | S21: 実施状況（実施日）
B22: メモ | D22: はく落防止工対策済 | M22: メモ | O22: はく落防止工対策済
B23: 写真 番号 | C23: 覆工 スパン 番号 | D23: S024 | M23: 写真 番号 | N23: 覆工 スパン 番号 | O23: =D23 -> S024
C25: 変状 番号 | D25: =O7+1 -> 5 | N25: 変状 番号 | O25: =D25+1 -> 6
B27: 変状 部位 | C27: 対象 箇所 | D27: 路面 | M27: 変状 部位 | N27: 対象 箇所 | O27: 路面
C29: 部位 区分 | D29: 車道 | N29: 部位 区分 | O29: 側溝
B31: 変状区分 | D31: 漏水 | M31: 変状区分 | O31: 材質劣化
B32: 変状種類 | D32: 滞水 | M32: 変状種類 | O32: うき・はく離
B33: 対策 区分 | C33: 応急措置前 | M33: 対策 区分 | N33: 応急措置前
C34: 応急措置後 | E34: － | N34: 応急措置後 | P34: －
B35: 健全性 | D35: － | M35: 健全性 | O35: －
B36: 変状の発生範囲の規模 | E36: - | M36: 変状の発生範囲の規模 | P36: 0.4m×1.0m
B37: 前回定期点検時の状態 | E37: 0.2m×0.6mの滞水 | M37: 前回定期点検時の状態 | P37: 0.4m×1.0mのはく離
B38: 調査方針 | E38: なし | M38: 調査方針 | P38: なし
B39: 対策履歴 | E39: なし | H39: 実施状況（実施日） | M39: 対策履歴 | P39: なし | S39: 実施状況（実施日）
B40: メモ | D40: 滞水跡 | M40: メモ | O40: 側溝蓋のはく離
C41: ※ 健全性の判定区分Ⅱ～Ⅳについて添付すること。また、点検前に実施 された措置によりⅠと判定された箇所も添付すること。 | N41: ※ 変状の発生範囲の規模とは、対策を行う際に参考となる変状の長さや面積をいう。
N42: ※ 応急措置を実施しないで判定した変状の対策区分は、対策区分の応急措置後の欄に記入すること。
C43: ※ たたき落としを実施した場合は、実施後の写真を添付すること。 | N43: ※ 変状の発生範囲の規模は、面積・寸法を記載すること。
C44: ※ 画像データは100kb程度とする。 | N44: (ひび割れ幅のみmmとし、その他をm表記とする)
C45: ※ 変状数に準じてシートを追加すること。（１シートに１ページとすること。） | N45: ※ 構造用鋼材以外の異物に伴ううき・はく離については、メモ欄に異物の概要を記入すること。

Sheet 様式D-1-1 (41)
B2: ■定期点検記録様式 変状写真台帳（トンネル本体工） 【様式D-1-1】
B3: フリガナ | D3: オオザサ | H3: 路 線 名 | J3: 一般県道俵山長門古市停車場線 | M3: 定期点検業者 | P3: 株式会社オリエンタルコンサルタンツ | S3: 定期点検年月日 | U3: 45271
B4: 名 称 | D4: 大笹トンネル | H4: 管理者名 | J4: 長門土木建築事務所 | M4: 定期点検者名 | P4: 妹尾 優大
B5: 写真 番号 | C5: 覆工 スパン 番号 | D5: S024 | M5: 写真 番号 | N5: 覆工 スパン 番号 | O5: S025
C7: 変状 番号 | D7: 7 | N7: 変状 番号 | O7: 1
B9: 変状 部位 | C9: 対象 箇所 | D9: 路面 | M9: 変状 部位 | N9: 対象 箇所 | O9: 覆工・坑門
C11: 部位 区分 | D11: 側溝 | N11: 部位 区分 | O11: 側壁（左側）
B13: 変状区分 | D13: 材質劣化 | M13: 変状区分 | O13: 材質劣化
B14: 変状種類 | D14: うき・はく離 | M14: 変状種類 | O14: うき・はく離
B15: 対策 区分 | C15: 応急措置前 | M15: 対策 区分 | N15: 応急措置前
C16: 応急措置後 | E16: － | N16: 応急措置後 | P16: Ⅰ
B17: 健全性 | D17: － | M17: 健全性 | O17: Ⅰ
B18: 変状の発生範囲の規模 | E18: 0.4m×1.0m | M18: 変状の発生範囲の規模 | P18: 1.2m×1.2m
B19: 前回定期点検時の状態 | E19: 0.4m×1.0mのはく離 | M19: 前回定期点検時の状態 | P19: 0.1m×0.2mのうき
B20: 調査方針 | E20: なし | M20: 調査方針 | P20: なし
B21: 対策履歴 | E21: なし | H21: 実施状況（実施日） | M21: 対策履歴 | P21: はく落防止工 | S21: 実施状況（実施日）
B22: メモ | D22: 側溝蓋のはく離 | M22: メモ | O22: はく落防止工対策済
B23: 写真 番号 | C23: 覆工 スパン 番号 | D23: =O5 -> S025 | M23: 写真 番号 | N23: 覆工 スパン 番号 | O23: =D23 -> S025
C25: 変状 番号 | D25: =O7+1 -> 2 | N25: 変状 番号 | O25: =D25+1 -> 3
B27: 変状 部位 | C27: 対象 箇所 | D27: 覆工・坑門 | M27: 変状 部位 | N27: 対象 箇所 | O27: 覆工・坑門
C29: 部位 区分 | D29: アーチ（左側） | N29: 部位 区分 | O29: アーチ（左側）
B31: 変状区分 | D31: 材質劣化 | M31: 変状区分 | O31: 漏水
B32: 変状種類 | D32: うき・はく離 | M32: 変状種類 | O32: 漏水
B33: 対策 区分 | C33: 応急措置前 | M33: 対策 区分 | N33: 応急措置前
C34: 応急措置後 | E34: Ⅰ | N34: 応急措置後 | P34: Ⅰ
B35: 健全性 | D35: Ⅰ | M35: 健全性 | O35: Ⅰ
B36: 変状の発生範囲の規模 | E36: 1.4m×1.5m | M36: 変状の発生範囲の規模 | P36: -
B37: 前回定期点検時の状態 | E37: 0.2m×0.4mのうき | M37: 前回定期点検時の状態 | P37: 漏水、にじみ
B38: 調査方針 | E38: なし | M38: 調査方針 | P38: なし
B39: 対策履歴 | E39: はく落防止工 | H39: 実施状況（実施日） | M39: 対策履歴 | P39: なし | S39: 実施状況（実施日）
B40: メモ | D40: はく落防止工対策済 | M40: メモ | O40: 漏水跡
C41: ※ 健全性の判定区分Ⅱ～Ⅳについて添付すること。また、点検前に実施 された措置によりⅠと判定された箇所も添付すること。 | N41: ※ 変状の発生範囲の規模とは、対策を行う際に参考となる変状の長さや面積をいう。
N42: ※ 応急措置を実施しないで判定した変状の対策区分は、対策区分の応急措置後の欄に記入すること。
C43: ※ たたき落としを実施した場合は、実施後の写真を添付すること。 | N43: ※ 変状の発生範囲の規模は、面積・寸法を記載すること。
C44: ※ 画像データは100kb程度とする。 | N44: (ひび割れ幅のみmmとし、その他をm表記とする)
C45: ※ 変状数に準じてシートを追加すること。（１シートに１ページとすること。） | N45: ※ 構造用鋼材以外の異物に伴ううき・はく離については、メモ欄に異物の概要を記入すること。

Sheet 様式D-1-1 (42)
B2: ■定期点検記録様式 変状写真台帳（トンネル本体工） 【様式D-1-1】
B3: フリガナ | D3: オオザサ | H3: 路 線 名 | J3: 一般県道俵山長門古市停車場線 | M3: 定期点検業者 | P3: 株式会社オリエンタルコンサルタンツ | S3: 定期点検年月日 | U3: 45271
B4: 名 称 | D4: 大笹トンネル | H4: 管理者名 | J4: 長門土木建築事務所 | M4: 定期点検者名 | P4: 妹尾 優大
B5: 写真 番号 | C5: 覆工 スパン 番号 | D5: S025 | M5: 写真 番号 | N5: 覆工 スパン 番号 | O5: =D5 -> S025
C7: 変状 番号 | D7: 4 | N7: 変状 番号 | O7: =D7+1 -> 5
B9: 変状 部位 | C9: 対象 箇所 | D9: 路面 | M9: 変状 部位 | N9: 対象 箇所 | O9: 路面
C11: 部位 区分 | D11: 車道 | N11: 部位 区分 | O11: 車道
B13: 変状区分 | D13: 漏水 | M13: 変状区分 | O13: 漏水
B14: 変状種類 | D14: 滞水 | M14: 変状種類 | O14: 滞水
B15: 対策 区分 | C15: 応急措置前 | M15: 対策 区分 | N15: 応急措置前
C16: 応急措置後 | E16: － | N16: 応急措置後 | P16: －
B17: 健全性 | D17: － | M17: 健全性 | O17: －
B18: 変状の発生範囲の規模 | E18: - | M18: 変状の発生範囲の規模 | P18: -
B19: 前回定期点検時の状態 | E19: 0.3m×0.7m、0.3m×0.6mの滞水 | M19: 前回定期点検時の状態 | P19: 1.0m×1.2mの滞水
B20: 調査方針 | E20: なし | M20: 調査方針 | P20: なし
B21: 対策履歴 | E21: なし | H21: 実施状況（実施日） | M21: 対策履歴 | P21: なし | S21: 実施状況（実施日）
B22: メモ | D22: 滞水跡 | M22: メモ | O22: 滞水跡
B23: 写真 番号 | C23: 覆工 スパン 番号 | D23: =O5 -> S025 | M23: 写真 番号 | N23: 覆工 スパン 番号 | O23: =D23 -> S025
C25: 変状 番号 | D25: =O7+1 -> 6 | N25: 変状 番号 | O25: =D25+1 -> 7
B27: 変状 部位 | C27: 対象 箇所 | D27: 路面 | M27: 変状 部位 | N27: 対象 箇所 | O27: 路面
C29: 部位 区分 | D29: 側溝 | N29: 部位 区分 | O29: 側溝
B31: 変状区分 | D31: 材質劣化 | M31: 変状区分 | O31: 材質劣化
B32: 変状種類 | D32: うき・はく離 | M32: 変状種類 | O32: うき・はく離
B33: 対策 区分 | C33: 応急措置前 | M33: 対策 区分 | N33: 応急措置前
C34: 応急措置後 | E34: － | N34: 応急措置後 | P34: －
B35: 健全性 | D35: － | M35: 健全性 | O35: －
B36: 変状の発生範囲の規模 | E36: 0.4m×0.5m | M36: 変状の発生範囲の規模 | P36: 0.4m×0.5m
B37: 前回定期点検時の状態 | E37: 0.4m×0.5mのはく離 | M37: 前回定期点検時の状態 | P37: 0.4m×0.5mのはく離
B38: 調査方針 | E38: なし | M38: 調査方針 | P38: なし
B39: 対策履歴 | E39: なし | H39: 実施状況（実施日） | M39: 対策履歴 | P39: なし | S39: 実施状況（実施日）
B40: メモ | D40: 側溝蓋のはく離 | M40: メモ | O40: 側溝蓋のはく離
C41: ※ 健全性の判定区分Ⅱ～Ⅳについて添付すること。また、点検前に実施 された措置によりⅠと判定された箇所も添付すること。 | N41: ※ 変状の発生範囲の規模とは、対策を行う際に参考となる変状の長さや面積をいう。
N42: ※ 応急措置を実施しないで判定した変状の対策区分は、対策区分の応急措置後の欄に記入すること。
C43: ※ たたき落としを実施した場合は、実施後の写真を添付すること。 | N43: ※ 変状の発生範囲の規模は、面積・寸法を記載すること。
C44: ※ 画像データは100kb程度とする。 | N44: (ひび割れ幅のみmmとし、その他をm表記とする)
C45: ※ 変状数に準じてシートを追加すること。（１シートに１ページとすること。） | N45: ※ 構造用鋼材以外の異物に伴ううき・はく離については、メモ欄に異物の概要を記入すること。

Sheet 様式D-1-1 (43)
B2: ■定期点検記録様式 変状写真台帳（トンネル本体工） 【様式D-1-1】
B3: フリガナ | D3: オオザサ | H3: 路 線 名 | J3: 一般県道俵山長門古市停車場線 | M3: 定期点検業者 | P3: 株式会社オリエンタルコンサルタンツ | S3: 定期点検年月日 | U3: 45271
B4: 名 称 | D4: 大笹トンネル | H4: 管理者名 | J4: 長門土木建築事務所 | M4: 定期点検者名 | P4: 妹尾 優大
B5: 写真 番号 | C5: 覆工 スパン 番号 | D5: S026 | M5: 写真 番号 | N5: 覆工 スパン 番号 | O5: =D5 -> S026
C7: 変状 番号 | D7: 1 | N7: 変状 番号 | O7: =D7+1 -> 2
B9: 変状 部位 | C9: 対象 箇所 | D9: 覆工・坑門 | M9: 変状 部位 | N9: 対象 箇所 | O9: 路面
C11: 部位 区分 | D11: アーチ（右側） | N11: 部位 区分 | O11: 車道
B13: 変状区分 | D13: 漏水 | M13: 変状区分 | O13: 漏水
B14: 変状種類 | D14: 漏水 | M14: 変状種類 | O14: 滞水
B15: 対策 区分 | C15: 応急措置前 | M15: 対策 区分 | N15: 応急措置前
C16: 応急措置後 | E16: Ⅰ | N16: 応急措置後 | P16: －
B17: 健全性 | D17: Ⅰ | M17: 健全性 | O17: －
B18: 変状の発生範囲の規模 | E18: - | M18: 変状の発生範囲の規模 | P18: -
B19: 前回定期点検時の状態 | E19: 漏水、にじみ | M19: 前回定期点検時の状態 | P19: 0.7m×2.2m、0.4m×0.9mの滞水
B20: 調査方針 | E20: なし | M20: 調査方針 | P20: なし
B21: 対策履歴 | E21: 導水工 | H21: 実施状況（実施日） | M21: 対策履歴 | P21: なし | S21: 実施状況（実施日）
B22: メモ | D22: 導水工新設により対策済 | M22: メモ | O22: 滞水跡
B23: 写真 番号 | C23: 覆工 スパン 番号 | D23: =O5 -> S026 | M23: 写真 番号 | N23: 覆工 スパン 番号 | O23: S027
C25: 変状 番号 | D25: =O7+1 -> 3 | N25: 変状 番号 | O25: 1
B27: 変状 部位 | C27: 対象 箇所 | D27: 路面 | M27: 変状 部位 | N27: 対象 箇所 | O27: 覆工・坑門
C29: 部位 区分 | D29: 車道 | N29: 部位 区分 | O29: 横断目地（天端）
B31: 変状区分 | D31: 漏水 | M31: 変状区分 | O31: 材質劣化
B32: 変状種類 | D32: 滞水 | M32: 変状種類 | O32: うき・はく離
B33: 対策 区分 | C33: 応急措置前 | M33: 対策 区分 | N33: 応急措置前
C34: 応急措置後 | E34: － | N34: 応急措置後 | P34: Ⅰ
B35: 健全性 | D35: － | M35: 健全性 | O35: Ⅰ
B36: 変状の発生範囲の規模 | E36: - | M36: 変状の発生範囲の規模 | P36: 14.2m×2.0m
B37: 前回定期点検時の状態 | E37: 1.2m×2.1mの滞水 | M37: 前回定期点検時の状態 | P37: 3.0ｍ×0.7mのうき
B38: 調査方針 | E38: なし | M38: 調査方針 | P38: なし
B39: 対策履歴 | E39: なし | H39: 実施状況（実施日） | M39: 対策履歴 | P39: はく落防止工 | S39: 実施状況（実施日）
B40: メモ | D40: 滞水跡 | M40: メモ | O40: はく落防止工対策済
C41: ※ 健全性の判定区分Ⅱ～Ⅳについて添付すること。また、点検前に実施 された措置によりⅠと判定された箇所も添付すること。 | N41: ※ 変状の発生範囲の規模とは、対策を行う際に参考となる変状の長さや面積をいう。
N42: ※ 応急措置を実施しないで判定した変状の対策区分は、対策区分の応急措置後の欄に記入すること。
C43: ※ たたき落としを実施した場合は、実施後の写真を添付すること。 | N43: ※ 変状の発生範囲の規模は、面積・寸法を記載すること。
C44: ※ 画像データは100kb程度とする。 | N44: (ひび割れ幅のみmmとし、その他をm表記とする)
C45: ※ 変状数に準じてシートを追加すること。（１シートに１ページとすること。） | N45: ※ 構造用鋼材以外の異物に伴ううき・はく離については、メモ欄に異物の概要を記入すること。

Sheet 様式D-1-1 (44)
B2: ■定期点検記録様式 変状写真台帳（トンネル本体工） 【様式D-1-1】
B3: フリガナ | D3: オオザサ | H3: 路 線 名 | J3: 一般県道俵山長門古市停車場線 | M3: 定期点検業者 | P3: 株式会社オリエンタルコンサルタンツ | S3: 定期点検年月日 | U3: 45271
B4: 名 称 | D4: 大笹トンネル | H4: 管理者名 | J4: 長門土木建築事務所 | M4: 定期点検者名 | P4: 妹尾 優大
B5: 写真 番号 | C5: 覆工 スパン 番号 | D5: S027 | M5: 写真 番号 | N5: 覆工 スパン 番号 | O5: =D5 -> S027
C7: 変状 番号 | D7: 2 | N7: 変状 番号 | O7: =D7+1 -> 3
B9: 変状 部位 | C9: 対象 箇所 | D9: 覆工・坑門 | M9: 変状 部位 | N9: 対象 箇所 | O9: 覆工・坑門
C11: 部位 区分 | D11: 側壁（左側） | N11: 部位 区分 | O11: アーチ（左側）
B13: 変状区分 | D13: 材質劣化 | M13: 変状区分 | O13: 材質劣化
B14: 変状種類 | D14: うき・はく離 | M14: 変状種類 | O14: うき・はく離
B15: 対策 区分 | C15: 応急措置前 | M15: 対策 区分 | N15: 応急措置前
C16: 応急措置後 | E16: Ⅱb | N16: 応急措置後 | P16: Ⅱa
B17: 健全性 | D17: Ⅱ | M17: 健全性 | O17: Ⅱ
B18: 変状の発生範囲の規模 | E18: 1.1m×5.0m | M18: 変状の発生範囲の規模 | P18: 1.3m×1.4m
B19: 前回定期点検時の状態 | E19: - | M19: 前回定期点検時の状態 | P19: -
B20: 調査方針 | E20: なし | M20: 調査方針 | P20: なし
B21: 対策履歴 | E21: なし | H21: 実施状況（実施日） | M21: 対策履歴 | P21: なし | S21: 実施状況（実施日）
B22: メモ | D22: モルタル吹付部のうき | M22: メモ | O22: モルタル吹付部のうき
B23: 写真 番号 | C23: 覆工 スパン 番号 | D23: =O5 -> S027 | M23: 写真 番号 | N23: 覆工 スパン 番号 | O23: =D23 -> S027
C25: 変状 番号 | D25: =O7+1 -> 4 | N25: 変状 番号 | O25: =D25+1 -> 5
B27: 変状 部位 | C27: 対象 箇所 | D27: 覆工・坑門 | M27: 変状 部位 | N27: 対象 箇所 | O27: 覆工・坑門
C29: 部位 区分 | D29: アーチ（左側） | N29: 部位 区分 | O29: アーチ（天端）
B31: 変状区分 | D31: 材質劣化 | M31: 変状区分 | O31: 材質劣化
B32: 変状種類 | D32: うき・はく離 | M32: 変状種類 | O32: うき・はく離
B33: 対策 区分 | C33: 応急措置前 | M33: 対策 区分 | N33: 応急措置前
C34: 応急措置後 | E34: Ⅱa | N34: 応急措置後 | P34: Ⅱa
B35: 健全性 | D35: Ⅱ | M35: 健全性 | O35: Ⅱ
B36: 変状の発生範囲の規模 | E36: 0.5m×0.8m | M36: 変状の発生範囲の規模 | P36: 0.7m×0.8m
B37: 前回定期点検時の状態 | E37: - | M37: 前回定期点検時の状態 | P37: -
B38: 調査方針 | E38: なし | M38: 調査方針 | P38: なし
B39: 対策履歴 | E39: なし | H39: 実施状況（実施日） | M39: 対策履歴 | P39: なし | S39: 実施状況（実施日）
B40: メモ | D40: モルタル吹付部のうき | M40: メモ | O40: モルタル吹付部のうき
C41: ※ 健全性の判定区分Ⅱ～Ⅳについて添付すること。また、点検前に実施 された措置によりⅠと判定された箇所も添付すること。 | N41: ※ 変状の発生範囲の規模とは、対策を行う際に参考となる変状の長さや面積をいう。
N42: ※ 応急措置を実施しないで判定した変状の対策区分は、対策区分の応急措置後の欄に記入すること。
C43: ※ たたき落としを実施した場合は、実施後の写真を添付すること。 | N43: ※ 変状の発生範囲の規模は、面積・寸法を記載すること。
C44: ※ 画像データは100kb程度とする。 | N44: (ひび割れ幅のみmmとし、その他をm表記とする)
C45: ※ 変状数に準じてシートを追加すること。（１シートに１ページとすること。） | N45: ※ 構造用鋼材以外の異物に伴ううき・はく離については、メモ欄に異物の概要を記入すること。

Sheet 様式D-1-1 (45)
B2: ■定期点検記録様式 変状写真台帳（トンネル本体工） 【様式D-1-1】
B3: フリガナ | D3: オオザサ | H3: 路 線 名 | J3: 一般県道俵山長門古市停車場線 | M3: 定期点検業者 | P3: 株式会社オリエンタルコンサルタンツ | S3: 定期点検年月日 | U3: 45271
B4: 名 称 | D4: 大笹トンネル | H4: 管理者名 | J4: 長門土木建築事務所 | M4: 定期点検者名 | P4: 妹尾 優大
B5: 写真 番号 | C5: 覆工 スパン 番号 | D5: S027 | M5: 写真 番号 | N5: 覆工 スパン 番号 | O5: =D5 -> S027
C7: 変状 番号 | D7: 6 | N7: 変状 番号 | O7: =D7+1 -> 7
B9: 変状 部位 | C9: 対象 箇所 | D9: 覆工・坑門 | M9: 変状 部位 | N9: 対象 箇所 | O9: 覆工・坑門
C11: 部位 区分 | D11: アーチ（天端） | N11: 部位 区分 | O11: アーチ（天端）
B13: 変状区分 | D13: 材質劣化 | M13: 変状区分 | O13: 材質劣化
B14: 変状種類 | D14: うき・はく離 | M14: 変状種類 | O14: うき・はく離
B15: 対策 区分 | C15: 応急措置前 | M15: 対策 区分 | N15: 応急措置前
C16: 応急措置後 | E16: Ⅱa | N16: 応急措置後 | P16: Ⅱa
B17: 健全性 | D17: Ⅱ | M17: 健全性 | O17: Ⅱ
B18: 変状の発生範囲の規模 | E18: 2.2m×1.7m | M18: 変状の発生範囲の規模 | P18: 0.9ｍ×2.0m
B19: 前回定期点検時の状態 | E19: 2.2m×1.7mのモルタル吹付部のうき | M19: 前回定期点検時の状態 | P19: 0.9ｍ×2.0mのモルタル吹付部のうき
B20: 調査方針 | E20: なし | M20: 調査方針 | P20: なし
B21: 対策履歴 | E21: なし | H21: 実施状況（実施日） | M21: 対策履歴 | P21: なし | S21: 実施状況（実施日）
B22: メモ | D22: モルタル吹付部のうき | M22: メモ | O22: モルタル吹付部のうき
B23: 写真 番号 | C23: 覆工 スパン 番号 | D23: =O5 -> S027 | M23: 写真 番号 | N23: 覆工 スパン 番号 | O23: =D23 -> S027
C25: 変状 番号 | D25: =O7+1 -> 8 | N25: 変状 番号 | O25: =D25+1 -> 9
B27: 変状 部位 | C27: 対象 箇所 | D27: 路面 | M27: 変状 部位 | N27: 対象 箇所 | O27: 路面
C29: 部位 区分 | D29: 側溝 | N29: 部位 区分 | O29: 側溝
B31: 変状区分 | D31: 材質劣化 | M31: 変状区分 | O31: 材質劣化
B32: 変状種類 | D32: うき・はく離 | M32: 変状種類 | O32: うき・はく離
B33: 対策 区分 | C33: 応急措置前 | M33: 対策 区分 | N33: 応急措置前
C34: 応急措置後 | E34: － | N34: 応急措置後 | P34: －
B35: 健全性 | D35: － | M35: 健全性 | O35: －
B36: 変状の発生範囲の規模 | E36: 0.4m×2.6m | M36: 変状の発生範囲の規模 | P36: 0.2m×1.6m
B37: 前回定期点検時の状態 | E37: 0.4m×0.7mのはく離 | M37: 前回定期点検時の状態 | P37: 0.4m×0.5m、0.4m×0.5mのはく離
B38: 調査方針 | E38: なし | M38: 調査方針 | P38: なし
B39: 対策履歴 | E39: なし | H39: 実施状況（実施日） | M39: 対策履歴 | P39: なし | S39: 実施状況（実施日）
B40: メモ | D40: 側溝蓋のはく離 | M40: メモ | O40: 側溝蓋のはく離
C41: ※ 健全性の判定区分Ⅱ～Ⅳについて添付すること。また、点検前に実施 された措置によりⅠと判定された箇所も添付すること。 | N41: ※ 変状の発生範囲の規模とは、対策を行う際に参考となる変状の長さや面積をいう。
N42: ※ 応急措置を実施しないで判定した変状の対策区分は、対策区分の応急措置後の欄に記入すること。
C43: ※ たたき落としを実施した場合は、実施後の写真を添付すること。 | N43: ※ 変状の発生範囲の規模は、面積・寸法を記載すること。
C44: ※ 画像データは100kb程度とする。 | N44: (ひび割れ幅のみmmとし、その他をm表記とする)
C45: ※ 変状数に準じてシートを追加すること。（１シートに１ページとすること。） | N45: ※ 構造用鋼材以外の異物に伴ううき・はく離については、メモ欄に異物の概要を記入すること。

Sheet 様式D-1-1 (46)
B2: ■定期点検記録様式 変状写真台帳（トンネル本体工） 【様式D-1-1】
B3: フリガナ | D3: オオザサ | H3: 路 線 名 | J3: 一般県道俵山長門古市停車場線 | M3: 定期点検業者 | P3: 株式会社オリエンタルコンサルタンツ | S3: 定期点検年月日 | U3: 45271
B4: 名 称 | D4: 大笹トンネル | H4: 管理者名 | J4: 長門土木建築事務所 | M4: 定期点検者名 | P4: 妹尾 優大
B5: 写真 番号 | C5: 覆工 スパン 番号 | D5: S027 | M5: 写真 番号 | N5: 覆工 スパン 番号 | O5: =D5 -> S027
C7: 変状 番号 | D7: 10 | N7: 変状 番号 | O7: =D7+1 -> 11
B9: 変状 部位 | C9: 対象 箇所 | D9: 路面 | M9: 変状 部位 | N9: 対象 箇所 | O9: 路面
C11: 部位 区分 | D11: 車道 | N11: 部位 区分 | O11: 側溝
B13: 変状区分 | D13: 材質劣化 | M13: 変状区分 | O13: 漏水
B14: 変状種類 | D14: うき・はく離 | M14: 変状種類 | O14: 滞水
B15: 対策 区分 | C15: 応急措置前 | M15: 対策 区分 | N15: 応急措置前
C16: 応急措置後 | E16: － | N16: 応急措置後 | P16: －
B17: 健全性 | D17: － | M17: 健全性 | O17: －
B18: 変状の発生範囲の規模 | E18: 0.1m×1.2m | M18: 変状の発生範囲の規模 | P18: -
B19: 前回定期点検時の状態 | E19: 0.1m×1.2mのはく離 | M19: 前回定期点検時の状態 | P19: 0.4m×4.5mの滞水
B20: 調査方針 | E20: なし | M20: 調査方針 | P20: なし
B21: 対策履歴 | E21: なし | H21: 実施状況（実施日） | M21: 対策履歴 | P21: なし | S21: 実施状況（実施日）
B22: メモ | D22: 舗装のはく離 | M22: メモ | O22: 滞水跡
B23: 写真 番号 | C23: 覆工 スパン 番号 | D23: =O5 -> S027 | M23: 写真 番号 | N23: 覆工 スパン 番号 | O23: S028
C25: 変状 番号 | D25: =O7+1 -> 12 | N25: 変状 番号 | O25: 1
B27: 変状 部位 | C27: 対象 箇所 | D27: 路面 | M27: 変状 部位 | N27: 対象 箇所 | O27: 覆工・坑門
C29: 部位 区分 | D29: 側溝 | N29: 部位 区分 | O29: 側壁（左側）
B31: 変状区分 | D31: 材質劣化 | M31: 変状区分 | O31: 材質劣化
B32: 変状種類 | D32: うき・はく離 | M32: 変状種類 | O32: うき・はく離
B33: 対策 区分 | C33: 応急措置前 | M33: 対策 区分 | N33: 応急措置前
C34: 応急措置後 | E34: － | N34: 応急措置後 | P34: Ⅱb
B35: 健全性 | D35: － | M35: 健全性 | O35: Ⅱ
B36: 変状の発生範囲の規模 | E36: 0.4m×0.5m | M36: 変状の発生範囲の規模 | P36: 1.4m×0.9m
B37: 前回定期点検時の状態 | E37: 0.4m×0.5mのはく離 | M37: 前回定期点検時の状態 | P37: -
B38: 調査方針 | E38: なし | M38: 調査方針 | P38: なし
B39: 対策履歴 | E39: なし | H39: 実施状況（実施日） | M39: 対策履歴 | P39: なし | S39: 実施状況（実施日）
B40: メモ | D40: 側溝蓋のはく離 | M40: メモ | O40: モルタル吹付部のうき
C41: ※ 健全性の判定区分Ⅱ～Ⅳについて添付すること。また、点検前に実施 された措置によりⅠと判定された箇所も添付すること。 | N41: ※ 変状の発生範囲の規模とは、対策を行う際に参考となる変状の長さや面積をいう。
N42: ※ 応急措置を実施しないで判定した変状の対策区分は、対策区分の応急措置後の欄に記入すること。
C43: ※ たたき落としを実施した場合は、実施後の写真を添付すること。 | N43: ※ 変状の発生範囲の規模は、面積・寸法を記載すること。
C44: ※ 画像データは100kb程度とする。 | N44: (ひび割れ幅のみmmとし、その他をm表記とする)
C45: ※ 変状数に準じてシートを追加すること。（１シートに１ページとすること。） | N45: ※ 構造用鋼材以外の異物に伴ううき・はく離については、メモ欄に異物の概要を記入すること。

Sheet 様式D-1-1 (47)
B2: ■定期点検記録様式 変状写真台帳（トンネル本体工） 【様式D-1-1】
B3: フリガナ | D3: オオザサ | H3: 路 線 名 | J3: 一般県道俵山長門古市停車場線 | M3: 定期点検業者 | P3: 株式会社オリエンタルコンサルタンツ | S3: 定期点検年月日 | U3: 45271
B4: 名 称 | D4: 大笹トンネル | H4: 管理者名 | J4: 長門土木建築事務所 | M4: 定期点検者名 | P4: 妹尾 優大
B5: 写真 番号 | C5: 覆工 スパン 番号 | D5: S028 | M5: 写真 番号 | N5: 覆工 スパン 番号 | O5: =D5 -> S028
C7: 変状 番号 | D7: 2 | N7: 変状 番号 | O7: =D7+1 -> 3
B9: 変状 部位 | C9: 対象 箇所 | D9: 覆工・坑門 | M9: 変状 部位 | N9: 対象 箇所 | O9: 覆工・坑門
C11: 部位 区分 | D11: 側壁（左側） | N11: 部位 区分 | O11: アーチ（左側）
B13: 変状区分 | D13: 材質劣化 | M13: 変状区分 | O13: 材質劣化
B14: 変状種類 | D14: うき・はく離 | M14: 変状種類 | O14: うき・はく離
B15: 対策 区分 | C15: 応急措置前 | M15: 対策 区分 | N15: 応急措置前
C16: 応急措置後 | E16: Ⅱb | N16: 応急措置後 | P16: Ⅰ
B17: 健全性 | D17: Ⅱ | M17: 健全性 | O17: Ⅰ
B18: 変状の発生範囲の規模 | E18: 2.0m×1.6m | M18: 変状の発生範囲の規模 | P18: 14.2m×3.0m
B19: 前回定期点検時の状態 | E19: - | M19: 前回定期点検時の状態 | P19: 1.1m×1.0m、4.8m×2.1mのうき
B20: 調査方針 | E20: なし | M20: 調査方針 | P20: なし
B21: 対策履歴 | E21: なし | H21: 実施状況（実施日） | M21: 対策履歴 | P21: はく落防止工 | S21: 実施状況（実施日）
B22: メモ | D22: モルタル吹付部のうき | M22: メモ | O22: はく落防止工対策済
B23: 写真 番号 | C23: 覆工 スパン 番号 | D23: =O5 -> S028 | M23: 写真 番号 | N23: 覆工 スパン 番号 | O23: =D23 -> S028
C25: 変状 番号 | D25: =O7+1 -> 4 | N25: 変状 番号 | O25: =D25+1 -> 5
B27: 変状 部位 | C27: 対象 箇所 | D27: 覆工・坑門 | M27: 変状 部位 | N27: 対象 箇所 | O27: 覆工・坑門
C29: 部位 区分 | D29: アーチ（左側） | N29: 部位 区分 | O29: アーチ（左側）
B31: 変状区分 | D31: 材質劣化 | M31: 変状区分 | O31: 材質劣化
B32: 変状種類 | D32: うき・はく離 | M32: 変状種類 | O32: うき・はく離
B33: 対策 区分 | C33: 応急措置前 | M33: 対策 区分 | N33: 応急措置前
C34: 応急措置後 | E34: Ⅱa | N34: 応急措置後 | P34: Ⅱa
B35: 健全性 | D35: Ⅱ | M35: 健全性 | O35: Ⅱ
B36: 変状の発生範囲の規模 | E36: 2.2m×1.1m | M36: 変状の発生範囲の規模 | P36: 2.8m×3.0m
B37: 前回定期点検時の状態 | E37: 2.2m×1.1mのモルタル吹付部のうき | M37: 前回定期点検時の状態 | P37: -
B38: 調査方針 | E38: なし | M38: 調査方針 | P38: なし
B39: 対策履歴 | E39: なし | H39: 実施状況（実施日） | M39: 対策履歴 | P39: なし | S39: 実施状況（実施日）
B40: メモ | D40: モルタル吹付部のうき | M40: メモ | O40: モルタル吹付部のうき
C41: ※ 健全性の判定区分Ⅱ～Ⅳについて添付すること。また、点検前に実施 された措置によりⅠと判定された箇所も添付すること。 | N41: ※ 変状の発生範囲の規模とは、対策を行う際に参考となる変状の長さや面積をいう。
N42: ※ 応急措置を実施しないで判定した変状の対策区分は、対策区分の応急措置後の欄に記入すること。
C43: ※ たたき落としを実施した場合は、実施後の写真を添付すること。 | N43: ※ 変状の発生範囲の規模は、面積・寸法を記載すること。
C44: ※ 画像データは100kb程度とする。 | N44: (ひび割れ幅のみmmとし、その他をm表記とする)
C45: ※ 変状数に準じてシートを追加すること。（１シートに１ページとすること。） | N45: ※ 構造用鋼材以外の異物に伴ううき・はく離については、メモ欄に異物の概要を記入すること。

Sheet 様式D-1-1 (48)
B2: ■定期点検記録様式 変状写真台帳（トンネル本体工） 【様式D-1-1】
B3: フリガナ | D3: オオザサ | H3: 路 線 名 | J3: 一般県道俵山長門古市停車場線 | M3: 定期点検業者 | P3: 株式会社オリエンタルコンサルタンツ | S3: 定期点検年月日 | U3: 45271
B4: 名 称 | D4: 大笹トンネル | H4: 管理者名 | J4: 長門土木建築事務所 | M4: 定期点検者名 | P4: 妹尾 優大
B5: 写真 番号 | C5: 覆工 スパン 番号 | D5: S028 | M5: 写真 番号 | N5: 覆工 スパン 番号 | O5: =D5 -> S028
C7: 変状 番号 | D7: 6 | N7: 変状 番号 | O7: =D7+1 -> 7
B9: 変状 部位 | C9: 対象 箇所 | D9: 覆工・坑門 | M9: 変状 部位 | N9: 対象 箇所 | O9: 覆工・坑門
C11: 部位 区分 | D11: アーチ（天端） | N11: 部位 区分 | O11: アーチ（天端）
B13: 変状区分 | D13: 材質劣化 | M13: 変状区分 | O13: 材質劣化
B14: 変状種類 | D14: うき・はく離 | M14: 変状種類 | O14: うき・はく離
B15: 対策 区分 | C15: 応急措置前 | M15: 対策 区分 | N15: 応急措置前
C16: 応急措置後 | E16: Ⅱa | N16: 応急措置後 | P16: Ⅱa
B17: 健全性 | D17: Ⅱ | M17: 健全性 | O17: Ⅱ
B18: 変状の発生範囲の規模 | E18: 1.8m×3.5m | M18: 変状の発生範囲の規模 | P18: 1.4m×2.5m
B19: 前回定期点検時の状態 | E19: 1.8m×3.5mのモルタル吹付部のうき | M19: 前回定期点検時の状態 | P19: 1.4m×3.6mのモルタル吹付部のうき
B20: 調査方針 | E20: なし | M20: 調査方針 | P20: なし
B21: 対策履歴 | E21: なし | H21: 実施状況（実施日） | M21: 対策履歴 | P21: なし | S21: 実施状況（実施日）
B22: メモ | D22: モルタル吹付部のうき | M22: メモ | O22: モルタル吹付部のうき
B23: 写真 番号 | C23: 覆工 スパン 番号 | D23: =O5 -> S028 | M23: 写真 番号 | N23: 覆工 スパン 番号 | O23: =D23 -> S028
C25: 変状 番号 | D25: =O7+1 -> 8 | N25: 変状 番号 | O25: =D25+1 -> 9
B27: 変状 部位 | C27: 対象 箇所 | D27: 路面 | M27: 変状 部位 | N27: 対象 箇所 | O27: 路面
C29: 部位 区分 | D29: 側溝 | N29: 部位 区分 | O29: 側溝
B31: 変状区分 | D31: 材質劣化 | M31: 変状区分 | O31: 材質劣化
B32: 変状種類 | D32: うき・はく離 | M32: 変状種類 | O32: うき・はく離
B33: 対策 区分 | C33: 応急措置前 | M33: 対策 区分 | N33: 応急措置前
C34: 応急措置後 | E34: － | N34: 応急措置後 | P34: －
B35: 健全性 | D35: － | M35: 健全性 | O35: －
B36: 変状の発生範囲の規模 | E36: 0.4m×1.0m | M36: 変状の発生範囲の規模 | P36: 0.4m×0.8m
B37: 前回定期点検時の状態 | E37: 0.4m×1.0mのはく離 | M37: 前回定期点検時の状態 | P37: 0.4m×0.8mのはく離
B38: 調査方針 | E38: なし | M38: 調査方針 | P38: なし
B39: 対策履歴 | E39: なし | H39: 実施状況（実施日） | M39: 対策履歴 | P39: なし | S39: 実施状況（実施日）
B40: メモ | D40: 側溝蓋のはく離 | M40: メモ | O40: 側溝蓋のはく離
C41: ※ 健全性の判定区分Ⅱ～Ⅳについて添付すること。また、点検前に実施 された措置によりⅠと判定された箇所も添付すること。 | N41: ※ 変状の発生範囲の規模とは、対策を行う際に参考となる変状の長さや面積をいう。
N42: ※ 応急措置を実施しないで判定した変状の対策区分は、対策区分の応急措置後の欄に記入すること。
C43: ※ たたき落としを実施した場合は、実施後の写真を添付すること。 | N43: ※ 変状の発生範囲の規模は、面積・寸法を記載すること。
C44: ※ 画像データは100kb程度とする。 | N44: (ひび割れ幅のみmmとし、その他をm表記とする)
C45: ※ 変状数に準じてシートを追加すること。（１シートに１ページとすること。） | N45: ※ 構造用鋼材以外の異物に伴ううき・はく離については、メモ欄に異物の概要を記入すること。

Sheet 様式D-1-1 (49)
B2: ■定期点検記録様式 変状写真台帳（トンネル本体工） 【様式D-1-1】
B3: フリガナ | D3: オオザサ | H3: 路 線 名 | J3: 一般県道俵山長門古市停車場線 | M3: 定期点検業者 | P3: 株式会社オリエンタルコンサルタンツ | S3: 定期点検年月日 | U3: 45271
B4: 名 称 | D4: 大笹トンネル | H4: 管理者名 | J4: 長門土木建築事務所 | M4: 定期点検者名 | P4: 妹尾 優大
B5: 写真 番号 | C5: 覆工 スパン 番号 | D5: S028 | M5: 写真 番号 | N5: 覆工 スパン 番号 | O5: =D5 -> S028
C7: 変状 番号 | D7: 10 | N7: 変状 番号 | O7: =D7+1 -> 11
B9: 変状 部位 | C9: 対象 箇所 | D9: 路面 | M9: 変状 部位 | N9: 対象 箇所 | O9: 路面
C11: 部位 区分 | D11: 側溝 | N11: 部位 区分 | O11: 側溝
B13: 変状区分 | D13: 材質劣化 | M13: 変状区分 | O13: 材質劣化
B14: 変状種類 | D14: うき・はく離 | M14: 変状種類 | O14: うき・はく離
B15: 対策 区分 | C15: 応急措置前 | M15: 対策 区分 | N15: 応急措置前
C16: 応急措置後 | E16: － | N16: 応急措置後 | P16: －
B17: 健全性 | D17: － | M17: 健全性 | O17: －
B18: 変状の発生範囲の規模 | E18: 0.4m×0.5m | M18: 変状の発生範囲の規模 | P18: 0.4m×0.5m
B19: 前回定期点検時の状態 | E19: 0.4m×0.5mのはく離 | M19: 前回定期点検時の状態 | P19: 0.4m×0.5mの鉄筋露出
B20: 調査方針 | E20: なし | M20: 調査方針 | P20: なし
B21: 対策履歴 | E21: なし | H21: 実施状況（実施日） | M21: 対策履歴 | P21: なし | S21: 実施状況（実施日）
B22: メモ | D22: 側溝蓋のはく離 | M22: メモ | O22: 側溝蓋のはく離
B23: 写真 番号 | C23: 覆工 スパン 番号 | D23: S029 | M23: 写真 番号 | N23: 覆工 スパン 番号 | O23: =D23 -> S029
C25: 変状 番号 | D25: 1 | N25: 変状 番号 | O25: =D25+1 -> 2
B27: 変状 部位 | C27: 対象 箇所 | D27: 覆工・坑門 | M27: 変状 部位 | N27: 対象 箇所 | O27: 覆工・坑門
C29: 部位 区分 | D29: アーチ（左側） | N29: 部位 区分 | O29: アーチ（左側）
B31: 変状区分 | D31: 材質劣化 | M31: 変状区分 | O31: 材質劣化
B32: 変状種類 | D32: うき・はく離 | M32: 変状種類 | O32: うき・はく離
B33: 対策 区分 | C33: 応急措置前 | M33: 対策 区分 | N33: 応急措置前
C34: 応急措置後 | E34: Ⅱa | N34: 応急措置後 | P34: Ⅰ
B35: 健全性 | D35: Ⅱ | M35: 健全性 | O35: Ⅰ
B36: 変状の発生範囲の規模 | E36: 0.2m×0.4m | M36: 変状の発生範囲の規模 | P36: 2.1m×2.1m
B37: 前回定期点検時の状態 | E37: 0.2m×0.4mのうき | M37: 前回定期点検時の状態 | P37: 0.2m×0.6mのうき、1.1m×0.7mの豆板
B38: 調査方針 | E38: なし | M38: 調査方針 | P38: なし
B39: 対策履歴 | E39: なし | H39: 実施状況（実施日） | M39: 対策履歴 | P39: はく落防止工 | S39: 実施状況（実施日）
B40: メモ | D40: うき | M40: メモ | O40: はく落防止工対策済
C41: ※ 健全性の判定区分Ⅱ～Ⅳについて添付すること。また、点検前に実施 された措置によりⅠと判定された箇所も添付すること。 | N41: ※ 変状の発生範囲の規模とは、対策を行う際に参考となる変状の長さや面積をいう。
N42: ※ 応急措置を実施しないで判定した変状の対策区分は、対策区分の応急措置後の欄に記入すること。
C43: ※ たたき落としを実施した場合は、実施後の写真を添付すること。 | N43: ※ 変状の発生範囲の規模は、面積・寸法を記載すること。
C44: ※ 画像データは100kb程度とする。 | N44: (ひび割れ幅のみmmとし、その他をm表記とする)
C45: ※ 変状数に準じてシートを追加すること。（１シートに１ページとすること。） | N45: ※ 構造用鋼材以外の異物に伴ううき・はく離については、メモ欄に異物の概要を記入すること。

Sheet 様式D-1-1 (50)
B2: ■定期点検記録様式 変状写真台帳（トンネル本体工） 【様式D-1-1】
B3: フリガナ | D3: オオザサ | H3: 路 線 名 | J3: 一般県道俵山長門古市停車場線 | M3: 定期点検業者 | P3: 株式会社オリエンタルコンサルタンツ | S3: 定期点検年月日 | U3: 45271
B4: 名 称 | D4: 大笹トンネル | H4: 管理者名 | J4: 長門土木建築事務所 | M4: 定期点検者名 | P4: 妹尾 優大
B5: 写真 番号 | C5: 覆工 スパン 番号 | D5: S029 | M5: 写真 番号 | N5: 覆工 スパン 番号 | O5: =D5 -> S029
C7: 変状 番号 | D7: 3 | N7: 変状 番号 | O7: =D7+1 -> 4
B9: 変状 部位 | C9: 対象 箇所 | D9: 覆工・坑門 | M9: 変状 部位 | N9: 対象 箇所 | O9: 路面
C11: 部位 区分 | D11: アーチ（右側） | N11: 部位 区分 | O11: 側溝
B13: 変状区分 | D13: 材質劣化 | M13: 変状区分 | O13: 材質劣化
B14: 変状種類 | D14: その他 | M14: 変状種類 | O14: うき・はく離
B15: 対策 区分 | C15: 応急措置前 | M15: 対策 区分 | N15: 応急措置前
C16: 応急措置後 | E16: Ⅱa | N16: 応急措置後 | P16: －
B17: 健全性 | D17: Ⅱ | M17: 健全性 | O17: －
B18: 変状の発生範囲の規模 | E18: 0.3m×2.0m | M18: 変状の発生範囲の規模 | P18: 0.4m×0.5m
B19: 前回定期点検時の状態 | E19: 0.3m×2.0mの豆板 | M19: 前回定期点検時の状態 | P19: 0.4m×0.5mの鉄筋露出
B20: 調査方針 | E20: なし | M20: 調査方針 | P20: なし
B21: 対策履歴 | E21: なし | H21: 実施状況（実施日） | M21: 対策履歴 | P21: なし | S21: 実施状況（実施日）
B22: メモ | D22: 豆板 | M22: メモ | O22: 側溝蓋のはく離
B23: 写真 番号 | C23: 覆工 スパン 番号 | D23: =O5 -> S029 | M23: 写真 番号 | N23: 覆工 スパン 番号 | O23: S030
C25: 変状 番号 | D25: =O7+1 -> 5 | N25: 変状 番号 | O25: 1
B27: 変状 部位 | C27: 対象 箇所 | D27: 路面 | M27: 変状 部位 | N27: 対象 箇所 | O27: 覆工・坑門
C29: 部位 区分 | D29: 側溝 | N29: 部位 区分 | O29: アーチ（左側）
B31: 変状区分 | D31: 材質劣化 | M31: 変状区分 | O31: 材質劣化
B32: 変状種類 | D32: うき・はく離 | M32: 変状種類 | O32: うき・はく離
B33: 対策 区分 | C33: 応急措置前 | M33: 対策 区分 | N33: 応急措置前
C34: 応急措置後 | E34: － | N34: 応急措置後 | P34: Ⅱb
B35: 健全性 | D35: － | M35: 健全性 | O35: Ⅱ
B36: 変状の発生範囲の規模 | E36: 0.4m×1.7m | M36: 変状の発生範囲の規模 | P36: 0.1m×0.5m
B37: 前回定期点検時の状態 | E37: 0.4m×0.5m、0.4m×1.5mのはく離 | M37: 前回定期点検時の状態 | P37: 0.1m×0.5m D=0.1mのはく落
B38: 調査方針 | E38: なし | M38: 調査方針 | P38: なし
B39: 対策履歴 | E39: なし | H39: 実施状況（実施日） | M39: 対策履歴 | P39: なし | S39: 実施状況（実施日）
B40: メモ | D40: 側溝蓋のはく離 | M40: メモ | O40: D=0.1mのはく落
C41: ※ 健全性の判定区分Ⅱ～Ⅳについて添付すること。また、点検前に実施 された措置によりⅠと判定された箇所も添付すること。 | N41: ※ 変状の発生範囲の規模とは、対策を行う際に参考となる変状の長さや面積をいう。
N42: ※ 応急措置を実施しないで判定した変状の対策区分は、対策区分の応急措置後の欄に記入すること。
C43: ※ たたき落としを実施した場合は、実施後の写真を添付すること。 | N43: ※ 変状の発生範囲の規模は、面積・寸法を記載すること。
C44: ※ 画像データは100kb程度とする。 | N44: (ひび割れ幅のみmmとし、その他をm表記とする)
C45: ※ 変状数に準じてシートを追加すること。（１シートに１ページとすること。） | N45: ※ 構造用鋼材以外の異物に伴ううき・はく離については、メモ欄に異物の概要を記入すること。

Sheet 様式D-1-1 (51)
B2: ■定期点検記録様式 変状写真台帳（トンネル本体工） 【様式D-1-1】
B3: フリガナ | D3: オオザサ | H3: 路 線 名 | J3: 一般県道俵山長門古市停車場線 | M3: 定期点検業者 | P3: 株式会社オリエンタルコンサルタンツ | S3: 定期点検年月日 | U3: 45271
B4: 名 称 | D4: 大笹トンネル | H4: 管理者名 | J4: 長門土木建築事務所 | M4: 定期点検者名 | P4: 妹尾 優大
B5: 写真 番号 | C5: 覆工 スパン 番号 | D5: S030 | M5: 写真 番号 | N5: 覆工 スパン 番号 | O5: =D5 -> S030
C7: 変状 番号 | D7: 2 | N7: 変状 番号 | O7: =D7+1 -> 3
B9: 変状 部位 | C9: 対象 箇所 | D9: 覆工・坑門 | M9: 変状 部位 | N9: 対象 箇所 | O9: 覆工・坑門
C11: 部位 区分 | D11: 横断目地（左側） | N11: 部位 区分 | O11: アーチ（左側）
B13: 変状区分 | D13: 材質劣化 | M13: 変状区分 | O13: 材質劣化
B14: 変状種類 | D14: うき・はく離 | M14: 変状種類 | O14: その他
B15: 対策 区分 | C15: 応急措置前 | M15: 対策 区分 | N15: 応急措置前
C16: 応急措置後 | E16: Ⅰ | N16: 応急措置後 | P16: Ⅰ
B17: 健全性 | D17: Ⅰ | M17: 健全性 | O17: Ⅰ
B18: 変状の発生範囲の規模 | E18: 1.9m×1.2m | M18: 変状の発生範囲の規模 | P18: 2.2m×2.0m
B19: 前回定期点検時の状態 | E19: 1.1m×0.2mのうき | M19: 前回定期点検時の状態 | P19: 0.4m×0.6mの豆板
B20: 調査方針 | E20: なし | M20: 調査方針 | P20: なし
B21: 対策履歴 | E21: はく落防止工 | H21: 実施状況（実施日） | M21: 対策履歴 | P21: はく落防止工 | S21: 実施状況（実施日）
B22: メモ | D22: はく落防止工対策済 | M22: メモ | O22: はく落防止工対策済
B23: 写真 番号 | C23: 覆工 スパン 番号 | D23: =O5 -> S030 | M23: 写真 番号 | N23: 覆工 スパン 番号 | O23: S030
C25: 変状 番号 | D25: =O7+1 -> 4 | N25: 変状 番号 | O25: =D25+1 -> 5
B27: 変状 部位 | C27: 対象 箇所 | D27: 覆工・坑門 | M27: 変状 部位 | N27: 対象 箇所 | O27: 覆工・坑門
C29: 部位 区分 | D29: 横断目地（右側） | N29: 部位 区分 | O29: 水平打ち継ぎ目（右側）
B31: 変状区分 | D31: 材質劣化 | M31: 変状区分 | O31: 材質劣化
B32: 変状種類 | D32: うき・はく離 | M32: 変状種類 | O32: うき・はく離
B33: 対策 区分 | C33: 応急措置前 | M33: 対策 区分 | N33: 応急措置前
C34: 応急措置後 | E34: Ⅰ | N34: 応急措置後 | P34: Ⅰ
B35: 健全性 | D35: Ⅰ | M35: 健全性 | O35: Ⅰ
B36: 変状の発生範囲の規模 | E36: 2.0m×1.0m | M36: 変状の発生範囲の規模 | P36: 0.6m×4.4m
B37: 前回定期点検時の状態 | E37: 1.4m×0.05mのうき | M37: 前回定期点検時の状態 | P37: 0.1m×1.3m、0.1m×1.1mのうき
B38: 調査方針 | E38: なし | M38: 調査方針 | P38: なし
B39: 対策履歴 | E39: はく落防止工 | H39: 実施状況（実施日） | M39: 対策履歴 | P39: はく落防止工 | S39: 実施状況（実施日）
B40: メモ | D40: はく落防止工対策済 | M40: メモ | O40: はく落防止工対策済
C41: ※ 健全性の判定区分Ⅱ～Ⅳについて添付すること。また、点検前に実施 された措置によりⅠと判定された箇所も添付すること。 | N41: ※ 変状の発生範囲の規模とは、対策を行う際に参考となる変状の長さや面積をいう。
N42: ※ 応急措置を実施しないで判定した変状の対策区分は、対策区分の応急措置後の欄に記入すること。
C43: ※ たたき落としを実施した場合は、実施後の写真を添付すること。 | N43: ※ 変状の発生範囲の規模は、面積・寸法を記載すること。
C44: ※ 画像データは100kb程度とする。 | N44: (ひび割れ幅のみmmとし、その他をm表記とする)
C45: ※ 変状数に準じてシートを追加すること。（１シートに１ページとすること。） | N45: ※ 構造用鋼材以外の異物に伴ううき・はく離については、メモ欄に異物の概要を記入すること。

Sheet 様式D-1-1 (52)
B2: ■定期点検記録様式 変状写真台帳（トンネル本体工） 【様式D-1-1】
B3: フリガナ | D3: オオザサ | H3: 路 線 名 | J3: 一般県道俵山長門古市停車場線 | M3: 定期点検業者 | P3: 株式会社オリエンタルコンサルタンツ | S3: 定期点検年月日 | U3: 45271
B4: 名 称 | D4: 大笹トンネル | H4: 管理者名 | J4: 長門土木建築事務所 | M4: 定期点検者名 | P4: 妹尾 優大
B5: 写真 番号 | C5: 覆工 スパン 番号 | D5: S030 | M5: 写真 番号 | N5: 覆工 スパン 番号 | O5: S031
C7: 変状 番号 | D7: 6 | N7: 変状 番号 | O7: 1
B9: 変状 部位 | C9: 対象 箇所 | D9: 路面 | M9: 変状 部位 | N9: 対象 箇所 | O9: 覆工・坑門
C11: 部位 区分 | D11: 側溝 | N11: 部位 区分 | O11: 横断目地（左側）
B13: 変状区分 | D13: 材質劣化 | M13: 変状区分 | O13: 材質劣化
B14: 変状種類 | D14: うき・はく離 | M14: 変状種類 | O14: うき・はく離
B15: 対策 区分 | C15: 応急措置前 | M15: 対策 区分 | N15: 応急措置前
C16: 応急措置後 | E16: － | N16: 応急措置後 | P16: Ⅰ
B17: 健全性 | D17: － | M17: 健全性 | O17: Ⅰ
B18: 変状の発生範囲の規模 | E18: 0.4m×1.0m | M18: 変状の発生範囲の規模 | P18: 2.5m×2.1m
B19: 前回定期点検時の状態 | E19: 0.4m×1.5mのはく離 | M19: 前回定期点検時の状態 | P19: 0.7m×0.2mのうき、1.1m×0.6mの豆板
B20: 調査方針 | E20: なし | M20: 調査方針 | P20: なし
B21: 対策履歴 | E21: なし | H21: 実施状況（実施日） | M21: 対策履歴 | P21: はく落防止工 | S21: 実施状況（実施日）
B22: メモ | D22: 側溝蓋のはく離 | M22: メモ | O22: はく落防止工対策済
B23: 写真 番号 | C23: 覆工 スパン 番号 | D23: =O5 -> S031 | M23: 写真 番号 | N23: 覆工 スパン 番号 | O23: =D23 -> S031
C25: 変状 番号 | D25: =O7+1 -> 2 | N25: 変状 番号 | O25: =D25+1 -> 3
B27: 変状 部位 | C27: 対象 箇所 | D27: 覆工・坑門 | M27: 変状 部位 | N27: 対象 箇所 | O27: 路面
C29: 部位 区分 | D29: アーチ（右側） | N29: 部位 区分 | O29: 車道
B31: 変状区分 | D31: 材質劣化 | M31: 変状区分 | O31: 材質劣化
B32: 変状種類 | D32: その他 | M32: 変状種類 | O32: ひび割れ
B33: 対策 区分 | C33: 応急措置前 | M33: 対策 区分 | N33: 応急措置前
C34: 応急措置後 | E34: Ⅰ | N34: 応急措置後 | P34: －
B35: 健全性 | D35: Ⅰ | M35: 健全性 | O35: －
B36: 変状の発生範囲の規模 | E36: 2.1m×2.5m | M36: 変状の発生範囲の規模 | P36: 2.0mm×2.4m
B37: 前回定期点検時の状態 | E37: 1.0m×1.4mの豆板 | M37: 前回定期点検時の状態 | P37: 2.0mm×2.4mのひび割れ
B38: 調査方針 | E38: なし | M38: 調査方針 | P38: なし
B39: 対策履歴 | E39: はく落防止工 | H39: 実施状況（実施日） | M39: 対策履歴 | P39: なし | S39: 実施状況（実施日）
B40: メモ | D40: はく落防止工対策済 | M40: メモ | O40: 舗装のひび割れ
C41: ※ 健全性の判定区分Ⅱ～Ⅳについて添付すること。また、点検前に実施 された措置によりⅠと判定された箇所も添付すること。 | N41: ※ 変状の発生範囲の規模とは、対策を行う際に参考となる変状の長さや面積をいう。
N42: ※ 応急措置を実施しないで判定した変状の対策区分は、対策区分の応急措置後の欄に記入すること。
C43: ※ たたき落としを実施した場合は、実施後の写真を添付すること。 | N43: ※ 変状の発生範囲の規模は、面積・寸法を記載すること。
C44: ※ 画像データは100kb程度とする。 | N44: (ひび割れ幅のみmmとし、その他をm表記とする)
C45: ※ 変状数に準じてシートを追加すること。（１シートに１ページとすること。） | N45: ※ 構造用鋼材以外の異物に伴ううき・はく離については、メモ欄に異物の概要を記入すること。

Sheet 様式D-1-1 (53)
B2: ■定期点検記録様式 変状写真台帳（トンネル本体工） 【様式D-1-1】
B3: フリガナ | D3: オオザサ | H3: 路 線 名 | J3: 一般県道俵山長門古市停車場線 | M3: 定期点検業者 | P3: 株式会社オリエンタルコンサルタンツ | S3: 定期点検年月日 | U3: 45271
B4: 名 称 | D4: 大笹トンネル | H4: 管理者名 | J4: 長門土木建築事務所 | M4: 定期点検者名 | P4: 妹尾 優大
B5: 写真 番号 | C5: 覆工 スパン 番号 | D5: S031 | M5: 写真 番号 | N5: 覆工 スパン 番号 | O5: S032
C7: 変状 番号 | D7: 4 | N7: 変状 番号 | O7: 1
B9: 変状 部位 | C9: 対象 箇所 | D9: 路面 | M9: 変状 部位 | N9: 対象 箇所 | O9: 覆工・坑門
C11: 部位 区分 | D11: 側溝 | N11: 部位 区分 | O11: アーチ（右側）
B13: 変状区分 | D13: 材質劣化 | M13: 変状区分 | O13: 材質劣化
B14: 変状種類 | D14: うき・はく離 | M14: 変状種類 | O14: うき・はく離
B15: 対策 区分 | C15: 応急措置前 | M15: 対策 区分 | N15: 応急措置前
C16: 応急措置後 | E16: － | N16: 応急措置後 | P16: Ⅲ
B17: 健全性 | D17: － | M17: 健全性 | O17: Ⅲ
B18: 変状の発生範囲の規模 | E18: 0.4m×0.9m | M18: 変状の発生範囲の規模 | P18: 0.1m×0.5m
B19: 前回定期点検時の状態 | E19: 0.4m×0.9mのはく離 | M19: 前回定期点検時の状態 | P19: 0.1m×0.5mのうき
B20: 調査方針 | E20: なし | M20: 調査方針 | P20: なし
B21: 対策履歴 | E21: なし | H21: 実施状況（実施日） | M21: 対策履歴 | P21: なし | S21: 実施状況（実施日）
B22: メモ | D22: 側溝蓋のはく離 | M22: メモ | O22: うき
B23: 写真 番号 | C23: 覆工 スパン 番号 | D23: =O5 -> S032 | M23: 写真 番号 | N23: 覆工 スパン 番号 | O23: S033
C25: 変状 番号 | D25: =O7+1 -> 2 | N25: 変状 番号 | O25: 1
B27: 変状 部位 | C27: 対象 箇所 | D27: 覆工・坑門 | M27: 変状 部位 | N27: 対象 箇所 | O27: 覆工・坑門
C29: 部位 区分 | D29: アーチ（右側） | N29: 部位 区分 | O29: アーチ（天端）
B31: 変状区分 | D31: 漏水 | M31: 変状区分 | O31: 材質劣化
B32: 変状種類 | D32: 補強・補修材の破損 | M32: 変状種類 | O32: うき・はく離
B33: 対策 区分 | C33: 応急措置前 | M33: 対策 区分 | N33: 応急措置前
C34: 応急措置後 | E34: Ⅱb | N34: 応急措置後 | P34: Ⅰ
B35: 健全性 | D35: Ⅱ | M35: 健全性 | O35: Ⅰ
B36: 変状の発生範囲の規模 | E36: - | M36: 変状の発生範囲の規模 | P36: 14.2m×3.0m
B37: 前回定期点検時の状態 | E37: 導水樋工のボルト・ナット全箇所腐食 | M37: 前回定期点検時の状態 | P37: 4.6m×0.6mのモルタル吹付部のうき
B38: 調査方針 | E38: なし | M38: 調査方針 | P38: なし
B39: 対策履歴 | E39: なし | H39: 実施状況（実施日） | M39: 対策履歴 | P39: はく落防止工 | S39: 実施状況（実施日）
B40: メモ | D40: 導水樋工のボルト・ナット全箇所腐食 | M40: メモ | O40: はく落防止工対策済
C41: ※ 健全性の判定区分Ⅱ～Ⅳについて添付すること。また、点検前に実施 された措置によりⅠと判定された箇所も添付すること。 | N41: ※ 変状の発生範囲の規模とは、対策を行う際に参考となる変状の長さや面積をいう。
N42: ※ 応急措置を実施しないで判定した変状の対策区分は、対策区分の応急措置後の欄に記入すること。
C43: ※ たたき落としを実施した場合は、実施後の写真を添付すること。 | N43: ※ 変状の発生範囲の規模は、面積・寸法を記載すること。
C44: ※ 画像データは100kb程度とする。 | N44: (ひび割れ幅のみmmとし、その他をm表記とする)
C45: ※ 変状数に準じてシートを追加すること。（１シートに１ページとすること。） | N45: ※ 構造用鋼材以外の異物に伴ううき・はく離については、メモ欄に異物の概要を記入すること。

Sheet 様式D-1-1 (54)
B2: ■定期点検記録様式 変状写真台帳（トンネル本体工） 【様式D-1-1】
B3: フリガナ | D3: オオザサ | H3: 路 線 名 | J3: 一般県道俵山長門古市停車場線 | M3: 定期点検業者 | P3: 株式会社オリエンタルコンサルタンツ | S3: 定期点検年月日 | U3: 45271
B4: 名 称 | D4: 大笹トンネル | H4: 管理者名 | J4: 長門土木建築事務所 | M4: 定期点検者名 | P4: 妹尾 優大
B5: 写真 番号 | C5: 覆工 スパン 番号 | D5: S033 | M5: 写真 番号 | N5: 覆工 スパン 番号 | O5: S034
C7: 変状 番号 | D7: 2 | N7: 変状 番号 | O7: 1
B9: 変状 部位 | C9: 対象 箇所 | D9: 路面 | M9: 変状 部位 | N9: 対象 箇所 | O9: 覆工・坑門
C11: 部位 区分 | D11: 側溝 | N11: 部位 区分 | O11: アーチ（左側）
B13: 変状区分 | D13: 漏水 | M13: 変状区分 | O13: 材質劣化
B14: 変状種類 | D14: その他 | M14: 変状種類 | O14: うき・はく離
B15: 対策 区分 | C15: 応急措置前 | M15: 対策 区分 | N15: 応急措置前
C16: 応急措置後 | E16: － | N16: 応急措置後 | P16: Ⅰ
B17: 健全性 | D17: － | M17: 健全性 | O17: Ⅰ
B18: 変状の発生範囲の規模 | E18: 0.15m×2.5m | M18: 変状の発生範囲の規模 | P18: 1.4m×1.4m
B19: 前回定期点検時の状態 | E19: 0.2m×2.3mの滞水 | M19: 前回定期点検時の状態 | P19: 0.3m×0.3mのはく落
B20: 調査方針 | E20: なし | M20: 調査方針 | P20: なし
B21: 対策履歴 | E21: なし | H21: 実施状況（実施日） | M21: 対策履歴 | P21: はく落防止工 | S21: 実施状況（実施日）
B22: メモ | D22: 堆砂 | M22: メモ | O22: はく落防止工対策済
B23: 写真 番号 | C23: 覆工 スパン 番号 | D23: =O5 -> S034 | M23: 写真 番号 | N23: 覆工 スパン 番号 | O23: =D23 -> S034
C25: 変状 番号 | D25: =O7+1 -> 2 | N25: 変状 番号 | O25: =D25+1 -> 3
B27: 変状 部位 | C27: 対象 箇所 | D27: 覆工・坑門 | M27: 変状 部位 | N27: 対象 箇所 | O27: 覆工・坑門
C29: 部位 区分 | D29: アーチ（左側） | N29: 部位 区分 | O29: 側壁（右側）
B31: 変状区分 | D31: 漏水 | M31: 変状区分 | O31: 材質劣化
B32: 変状種類 | D32: 漏水 | M32: 変状種類 | O32: うき・はく離
B33: 対策 区分 | C33: 応急措置前 | M33: 対策 区分 | N33: 応急措置前
C34: 応急措置後 | E34: Ⅱa | N34: 応急措置後 | P34: Ⅱb
B35: 健全性 | D35: Ⅱ | M35: 健全性 | O35: Ⅱ
B36: 変状の発生範囲の規模 | E36: 6.6m×0.5m | M36: 変状の発生範囲の規模 | P36: 1.0m×1.0m
B37: 前回定期点検時の状態 | E37: - | M37: 前回定期点検時の状態 | P37: 1.0m×1.0mのモルタル吹付部のうき
B38: 調査方針 | E38: なし | M38: 調査方針 | P38: なし
B39: 対策履歴 | E39: なし | H39: 実施状況（実施日） | M39: 対策履歴 | P39: なし | S39: 実施状況（実施日）
B40: メモ | D40: 漏水、滴水 | M40: メモ | O40: モルタル吹付部のうき
C41: ※ 健全性の判定区分Ⅱ～Ⅳについて添付すること。また、点検前に実施 された措置によりⅠと判定された箇所も添付すること。 | N41: ※ 変状の発生範囲の規模とは、対策を行う際に参考となる変状の長さや面積をいう。
N42: ※ 応急措置を実施しないで判定した変状の対策区分は、対策区分の応急措置後の欄に記入すること。
C43: ※ たたき落としを実施した場合は、実施後の写真を添付すること。 | N43: ※ 変状の発生範囲の規模は、面積・寸法を記載すること。
C44: ※ 画像データは100kb程度とする。 | N44: (ひび割れ幅のみmmとし、その他をm表記とする)
C45: ※ 変状数に準じてシートを追加すること。（１シートに１ページとすること。） | N45: ※ 構造用鋼材以外の異物に伴ううき・はく離については、メモ欄に異物の概要を記入すること。

Sheet 様式D-1-1 (55)
B2: ■定期点検記録様式 変状写真台帳（トンネル本体工） 【様式D-1-1】
B3: フリガナ | D3: オオザサ | H3: 路 線 名 | J3: 一般県道俵山長門古市停車場線 | M3: 定期点検業者 | P3: 株式会社オリエンタルコンサルタンツ | S3: 定期点検年月日 | U3: 45271
B4: 名 称 | D4: 大笹トンネル | H4: 管理者名 | J4: 長門土木建築事務所 | M4: 定期点検者名 | P4: 妹尾 優大
B5: 写真 番号 | C5: 覆工 スパン 番号 | D5: S034 | M5: 写真 番号 | N5: 覆工 スパン 番号 | O5: S034
C7: 変状 番号 | D7: 4 | N7: 変状 番号 | O7: =D7+1 -> 5
B9: 変状 部位 | C9: 対象 箇所 | D9: 覆工・坑門 | M9: 変状 部位 | N9: 対象 箇所 | O9: 路面
C11: 部位 区分 | D11: 側壁（右側） | N11: 部位 区分 | O11: 側溝
B13: 変状区分 | D13: 材質劣化 | M13: 変状区分 | O13: 漏水
B14: 変状種類 | D14: うき・はく離 | M14: 変状種類 | O14: 滞水
B15: 対策 区分 | C15: 応急措置前 | M15: 対策 区分 | N15: 応急措置前
C16: 応急措置後 | E16: Ⅱb | N16: 応急措置後 | P16: －
B17: 健全性 | D17: Ⅱ | M17: 健全性 | O17: －
B18: 変状の発生範囲の規模 | E18: 0.5m×0.8m | M18: 変状の発生範囲の規模 | P18: 0.6m×0.8m
B19: 前回定期点検時の状態 | E19: 0.5m×0.8m D=0.15mのはく落 | M19: 前回定期点検時の状態 | P19: 0.6m×0.8mの滞水
B20: 調査方針 | E20: なし | M20: 調査方針 | P20: なし
B21: 対策履歴 | E21: なし | H21: 実施状況（実施日） | M21: 対策履歴 | P21: なし | S21: 実施状況（実施日）
B22: メモ | D22: D=0.15mのはく落 | M22: メモ | O22: 滞水
B23: 写真 番号 | C23: 覆工 スパン 番号 | D23: =O5 -> S034 | M23: 写真 番号 | N23: 覆工 スパン 番号 | O23: =D23 -> S034
C25: 変状 番号 | D25: =O7+1 -> 6 | N25: 変状 番号 | O25: =D25+1 -> 7
B27: 変状 部位 | C27: 対象 箇所 | D27: 路面 | M27: 変状 部位 | N27: 対象 箇所 | O27: 路面
C29: 部位 区分 | D29: 車道 | N29: 部位 区分 | O29: 側溝
B31: 変状区分 | D31: 漏水 | M31: 変状区分 | O31: 漏水
B32: 変状種類 | D32: 滞水 | M32: 変状種類 | O32: 滞水
B33: 対策 区分 | C33: 応急措置前 | M33: 対策 区分 | N33: 応急措置前
C34: 応急措置後 | E34: － | N34: 応急措置後 | P34: －
B35: 健全性 | D35: － | M35: 健全性 | O35: －
B36: 変状の発生範囲の規模 | E36: 1.5m×1.5m | M36: 変状の発生範囲の規模 | P36: 0.6m×4.5m
B37: 前回定期点検時の状態 | E37: - | M37: 前回定期点検時の状態 | P37: 0.6m×7.3mの滞水・堆砂
B38: 調査方針 | E38: なし | M38: 調査方針 | P38: なし
B39: 対策履歴 | E39: なし | H39: 実施状況（実施日） | M39: 対策履歴 | P39: なし | S39: 実施状況（実施日）
B40: メモ | D40: 滞水 | M40: メモ | O40: 滞水
C41: ※ 健全性の判定区分Ⅱ～Ⅳについて添付すること。また、点検前に実施 された措置によりⅠと判定された箇所も添付すること。 | N41: ※ 変状の発生範囲の規模とは、対策を行う際に参考となる変状の長さや面積をいう。
N42: ※ 応急措置を実施しないで判定した変状の対策区分は、対策区分の応急措置後の欄に記入すること。
C43: ※ たたき落としを実施した場合は、実施後の写真を添付すること。 | N43: ※ 変状の発生範囲の規模は、面積・寸法を記載すること。
C44: ※ 画像データは100kb程度とする。 | N44: (ひび割れ幅のみmmとし、その他をm表記とする)
C45: ※ 変状数に準じてシートを追加すること。（１シートに１ページとすること。） | N45: ※ 構造用鋼材以外の異物に伴ううき・はく離については、メモ欄に異物の概要を記入すること。

Sheet 様式D-1-1 (56)
B2: ■定期点検記録様式 変状写真台帳（トンネル本体工） 【様式D-1-1】
B3: フリガナ | D3: オオザサ | H3: 路 線 名 | J3: 一般県道俵山長門古市停車場線 | M3: 定期点検業者 | P3: 株式会社オリエンタルコンサルタンツ | S3: 定期点検年月日 | U3: 45271
B4: 名 称 | D4: 大笹トンネル | H4: 管理者名 | J4: 長門土木建築事務所 | M4: 定期点検者名 | P4: 妹尾 優大
B5: 写真 番号 | C5: 覆工 スパン 番号 | D5: S035 | M5: 写真 番号 | N5: 覆工 スパン 番号 | O5: =D5 -> S035
C7: 変状 番号 | D7: 1 | N7: 変状 番号 | O7: =D7+1 -> 2
B9: 変状 部位 | C9: 対象 箇所 | D9: 覆工・坑門 | M9: 変状 部位 | N9: 対象 箇所 | O9: 覆工・坑門
C11: 部位 区分 | D11: 側壁（左側） | N11: 部位 区分 | O11: 側壁（左側）
B13: 変状区分 | D13: 材質劣化 | M13: 変状区分 | O13: 材質劣化
B14: 変状種類 | D14: うき・はく離 | M14: 変状種類 | O14: うき・はく離
B15: 対策 区分 | C15: 応急措置前 | M15: 対策 区分 | N15: 応急措置前
C16: 応急措置後 | E16: Ⅱb | N16: 応急措置後 | P16: Ⅱb
B17: 健全性 | D17: Ⅱ | M17: 健全性 | O17: Ⅱ
B18: 変状の発生範囲の規模 | E18: 0.4m×1.2m | M18: 変状の発生範囲の規模 | P18: 2.0m×3.2m
B19: 前回定期点検時の状態 | E19: - | M19: 前回定期点検時の状態 | P19: 2.0m×3.2mのモルタル吹付部のうき
B20: 調査方針 | E20: なし | M20: 調査方針 | P20: なし
B21: 対策履歴 | E21: なし | H21: 実施状況（実施日） | M21: 対策履歴 | P21: なし | S21: 実施状況（実施日）
B22: メモ | D22: モルタル吹付部のうき | M22: メモ | O22: モルタル吹付部のうき
B23: 写真 番号 | C23: 覆工 スパン 番号 | D23: =O5 -> S035 | M23: 写真 番号 | N23: 覆工 スパン 番号 | O23: =D23 -> S035
C25: 変状 番号 | D25: =O7+1 -> 3 | N25: 変状 番号 | O25: =D25+1 -> 4
B27: 変状 部位 | C27: 対象 箇所 | D27: 覆工・坑門 | M27: 変状 部位 | N27: 対象 箇所 | O27: 覆工・坑門
C29: 部位 区分 | D29: 側壁（左側） | N29: 部位 区分 | O29: 側壁（左側）
B31: 変状区分 | D31: 材質劣化 | M31: 変状区分 | O31: 漏水
B32: 変状種類 | D32: うき・はく離 | M32: 変状種類 | O32: 漏水
B33: 対策 区分 | C33: 応急措置前 | M33: 対策 区分 | N33: 応急措置前
C34: 応急措置後 | E34: Ⅱb | N34: 応急措置後 | P34: Ⅱb
B35: 健全性 | D35: Ⅱ | M35: 健全性 | O35: Ⅱ
B36: 変状の発生範囲の規模 | E36: 1.2m×0.3m | M36: 変状の発生範囲の規模 | P36: 1.2m×0.5m
B37: 前回定期点検時の状態 | E37: 1.2m×0.3m D=0.1mのはく落 | M37: 前回定期点検時の状態 | P37: -
B38: 調査方針 | E38: なし | M38: 調査方針 | P38: なし
B39: 対策履歴 | E39: なし | H39: 実施状況（実施日） | M39: 対策履歴 | P39: なし | S39: 実施状況（実施日）
B40: メモ | D40: D=0.1mのはく落 | M40: メモ | O40: 漏水、にじみ
C41: ※ 健全性の判定区分Ⅱ～Ⅳについて添付すること。また、点検前に実施 された措置によりⅠと判定された箇所も添付すること。 | N41: ※ 変状の発生範囲の規模とは、対策を行う際に参考となる変状の長さや面積をいう。
N42: ※ 応急措置を実施しないで判定した変状の対策区分は、対策区分の応急措置後の欄に記入すること。
C43: ※ たたき落としを実施した場合は、実施後の写真を添付すること。 | N43: ※ 変状の発生範囲の規模は、面積・寸法を記載すること。
C44: ※ 画像データは100kb程度とする。 | N44: (ひび割れ幅のみmmとし、その他をm表記とする)
C45: ※ 変状数に準じてシートを追加すること。（１シートに１ページとすること。） | N45: ※ 構造用鋼材以外の異物に伴ううき・はく離については、メモ欄に異物の概要を記入すること。

Sheet 様式D-1-1 (57)
B2: ■定期点検記録様式 変状写真台帳（トンネル本体工） 【様式D-1-1】
B3: フリガナ | D3: オオザサ | H3: 路 線 名 | J3: 一般県道俵山長門古市停車場線 | M3: 定期点検業者 | P3: 株式会社オリエンタルコンサルタンツ | S3: 定期点検年月日 | U3: 45271
B4: 名 称 | D4: 大笹トンネル | H4: 管理者名 | J4: 長門土木建築事務所 | M4: 定期点検者名 | P4: 妹尾 優大
B5: 写真 番号 | C5: 覆工 スパン 番号 | D5: S035 | M5: 写真 番号 | N5: 覆工 スパン 番号 | O5: =D5 -> S035
C7: 変状 番号 | D7: 5 | N7: 変状 番号 | O7: =D7+1 -> 6
B9: 変状 部位 | C9: 対象 箇所 | D9: 覆工・坑門 | M9: 変状 部位 | N9: 対象 箇所 | O9: 覆工・坑門
C11: 部位 区分 | D11: アーチ（左側） | N11: 部位 区分 | O11: アーチ（左側）
B13: 変状区分 | D13: 材質劣化 | M13: 変状区分 | O13: 材質劣化
B14: 変状種類 | D14: うき・はく離 | M14: 変状種類 | O14: うき・はく離
B15: 対策 区分 | C15: 応急措置前 | M15: 対策 区分 | N15: 応急措置前
C16: 応急措置後 | E16: Ⅱa | N16: 応急措置後 | P16: Ⅱa
B17: 健全性 | D17: Ⅱ | M17: 健全性 | O17: Ⅱ
B18: 変状の発生範囲の規模 | E18: 0.6m×0.6m | M18: 変状の発生範囲の規模 | P18: 2.3m×2.5m
B19: 前回定期点検時の状態 | E19: 1.8m×0.6mのモルタル吹付部のうき | M19: 前回定期点検時の状態 | P19: -
B20: 調査方針 | E20: なし | M20: 調査方針 | P20: なし
B21: 対策履歴 | E21: なし | H21: 実施状況（実施日） | M21: 対策履歴 | P21: なし | S21: 実施状況（実施日）
B22: メモ | D22: モルタル吹付部のうき | M22: メモ | O22: モルタル吹付部のうき
B23: 写真 番号 | C23: 覆工 スパン 番号 | D23: =O5 -> S035 | M23: 写真 番号 | N23: 覆工 スパン 番号 | O23: =D23 -> S035
C25: 変状 番号 | D25: =O7+1 -> 7 | N25: 変状 番号 | O25: =D25+1 -> 8
B27: 変状 部位 | C27: 対象 箇所 | D27: 覆工・坑門 | M27: 変状 部位 | N27: 対象 箇所 | O27: 路面
C29: 部位 区分 | D29: 側壁（右側） | N29: 部位 区分 | O29: 側溝
B31: 変状区分 | D31: 漏水 | M31: 変状区分 | O31: 漏水
B32: 変状種類 | D32: 漏水 | M32: 変状種類 | O32: 滞水
B33: 対策 区分 | C33: 応急措置前 | M33: 対策 区分 | N33: 応急措置前
C34: 応急措置後 | E34: Ⅱb | N34: 応急措置後 | P34: －
B35: 健全性 | D35: Ⅱ | M35: 健全性 | O35: －
B36: 変状の発生範囲の規模 | E36: 2.1m×0.5m | M36: 変状の発生範囲の規模 | P36: 0.3m×0.8m
B37: 前回定期点検時の状態 | E37: - | M37: 前回定期点検時の状態 | P37: 0.3m×0.8mの滞水
B38: 調査方針 | E38: なし | M38: 調査方針 | P38: なし
B39: 対策履歴 | E39: なし | H39: 実施状況（実施日） | M39: 対策履歴 | P39: なし | S39: 実施状況（実施日）
B40: メモ | D40: ひび割れからの漏水、にじみ | M40: メモ | O40: 滞水
C41: ※ 健全性の判定区分Ⅱ～Ⅳについて添付すること。また、点検前に実施 された措置によりⅠと判定された箇所も添付すること。 | N41: ※ 変状の発生範囲の規模とは、対策を行う際に参考となる変状の長さや面積をいう。
N42: ※ 応急措置を実施しないで判定した変状の対策区分は、対策区分の応急措置後の欄に記入すること。
C43: ※ たたき落としを実施した場合は、実施後の写真を添付すること。 | N43: ※ 変状の発生範囲の規模は、面積・寸法を記載すること。
C44: ※ 画像データは100kb程度とする。 | N44: (ひび割れ幅のみmmとし、その他をm表記とする)
C45: ※ 変状数に準じてシートを追加すること。（１シートに１ページとすること。） | N45: ※ 構造用鋼材以外の異物に伴ううき・はく離については、メモ欄に異物の概要を記入すること。

Sheet 様式D-1-1 (58)
B2: ■定期点検記録様式 変状写真台帳（トンネル本体工） 【様式D-1-1】
B3: フリガナ | D3: オオザサ | H3: 路 線 名 | J3: 一般県道俵山長門古市停車場線 | M3: 定期点検業者 | P3: 株式会社オリエンタルコンサルタンツ | S3: 定期点検年月日 | U3: 45271
B4: 名 称 | D4: 大笹トンネル | H4: 管理者名 | J4: 長門土木建築事務所 | M4: 定期点検者名 | P4: 妹尾 優大
B5: 写真 番号 | C5: 覆工 スパン 番号 | D5: S035 | M5: 写真 番号 | N5: 覆工 スパン 番号 | O5: =D5 -> S035
C7: 変状 番号 | D7: 9 | N7: 変状 番号 | O7: =D7+1 -> 10
B9: 変状 部位 | C9: 対象 箇所 | D9: 路面 | M9: 変状 部位 | N9: 対象 箇所 | O9: 路面
C11: 部位 区分 | D11: 側溝 | N11: 部位 区分 | O11: 側溝
B13: 変状区分 | D13: 漏水 | M13: 変状区分 | O13: 漏水
B14: 変状種類 | D14: 滞水 | M14: 変状種類 | O14: 滞水
B15: 対策 区分 | C15: 応急措置前 | M15: 対策 区分 | N15: 応急措置前
C16: 応急措置後 | E16: － | N16: 応急措置後 | P16: －
B17: 健全性 | D17: － | M17: 健全性 | O17: －
B18: 変状の発生範囲の規模 | E18: 0.3m×1.2m | M18: 変状の発生範囲の規模 | P18: 0.6m×4.0m
B19: 前回定期点検時の状態 | E19: 0.3m×1.2mの滞水 | M19: 前回定期点検時の状態 | P19: 0.6m×4.0mの滞水・堆砂
B20: 調査方針 | E20: なし | M20: 調査方針 | P20: なし
B21: 対策履歴 | E21: なし | H21: 実施状況（実施日） | M21: 対策履歴 | P21: なし | S21: 実施状況（実施日）
B22: メモ | D22: 滞水 | M22: メモ | O22: 滞水・堆砂
B23: 写真 番号 | C23: 覆工 スパン 番号 | D23: =O5 -> S035 | M23: 写真 番号 | N23: 覆工 スパン 番号 | O23: =D23 -> S035
C25: 変状 番号 | D25: =O7+1 -> 11 | N25: 変状 番号 | O25: =D25+1 -> 12
B27: 変状 部位 | C27: 対象 箇所 | D27: 路面 | M27: 変状 部位 | N27: 対象 箇所 | O27: 路面
C29: 部位 区分 | D29: 側溝 | N29: 部位 区分 | O29: 側溝
B31: 変状区分 | D31: 漏水 | M31: 変状区分 | O31: 漏水
B32: 変状種類 | D32: 滞水 | M32: 変状種類 | O32: 滞水
B33: 対策 区分 | C33: 応急措置前 | M33: 対策 区分 | N33: 応急措置前
C34: 応急措置後 | E34: － | N34: 応急措置後 | P34: －
B35: 健全性 | D35: － | M35: 健全性 | O35: －
B36: 変状の発生範囲の規模 | E36: 0.6m×5.2m | M36: 変状の発生範囲の規模 | P36: 0.6m×3.8m
B37: 前回定期点検時の状態 | E37: 0.6m×6.0mの滞水・堆砂 | M37: 前回定期点検時の状態 | P37: 0.6m×3.2mの滞水・堆砂
B38: 調査方針 | E38: なし | M38: 調査方針 | P38: なし
B39: 対策履歴 | E39: なし | H39: 実施状況（実施日） | M39: 対策履歴 | P39: なし | S39: 実施状況（実施日）
B40: メモ | D40: 滞水・堆砂 | M40: メモ | O40: 滞水
C41: ※ 健全性の判定区分Ⅱ～Ⅳについて添付すること。また、点検前に実施 された措置によりⅠと判定された箇所も添付すること。 | N41: ※ 変状の発生範囲の規模とは、対策を行う際に参考となる変状の長さや面積をいう。
N42: ※ 応急措置を実施しないで判定した変状の対策区分は、対策区分の応急措置後の欄に記入すること。
C43: ※ たたき落としを実施した場合は、実施後の写真を添付すること。 | N43: ※ 変状の発生範囲の規模は、面積・寸法を記載すること。
C44: ※ 画像データは100kb程度とする。 | N44: (ひび割れ幅のみmmとし、その他をm表記とする)
C45: ※ 変状数に準じてシートを追加すること。（１シートに１ページとすること。） | N45: ※ 構造用鋼材以外の異物に伴ううき・はく離については、メモ欄に異物の概要を記入すること。

Sheet 様式D-1-1 (59)
B2: ■定期点検記録様式 変状写真台帳（トンネル本体工） 【様式D-1-1】
B3: フリガナ | D3: オオザサ | H3: 路 線 名 | J3: 一般県道俵山長門古市停車場線 | M3: 定期点検業者 | P3: 株式会社オリエンタルコンサルタンツ | S3: 定期点検年月日 | U3: 45271
B4: 名 称 | D4: 大笹トンネル | H4: 管理者名 | J4: 長門土木建築事務所 | M4: 定期点検者名 | P4: 妹尾 優大
B5: 写真 番号 | C5: 覆工 スパン 番号 | D5: S036 | M5: 写真 番号 | N5: 覆工 スパン 番号 | O5: =D5 -> S036
C7: 変状 番号 | D7: 1 | N7: 変状 番号 | O7: =D7+1 -> 2
B9: 変状 部位 | C9: 対象 箇所 | D9: 覆工・坑門 | M9: 変状 部位 | N9: 対象 箇所 | O9: 覆工・坑門
C11: 部位 区分 | D11: 側壁（左側） | N11: 部位 区分 | O11: アーチ（右側）
B13: 変状区分 | D13: 材質劣化 | M13: 変状区分 | O13: 材質劣化
B14: 変状種類 | D14: うき・はく離 | M14: 変状種類 | O14: うき・はく離
B15: 対策 区分 | C15: 応急措置前 | M15: 対策 区分 | N15: 応急措置前
C16: 応急措置後 | E16: Ⅱb | N16: 応急措置後 | P16: Ⅱa
B17: 健全性 | D17: Ⅱ | M17: 健全性 | O17: Ⅱ
B18: 変状の発生範囲の規模 | E18: 0.6m×1.2m | M18: 変状の発生範囲の規模 | P18: 1.4m×0.8m
B19: 前回定期点検時の状態 | E19: - | M19: 前回定期点検時の状態 | P19: -
B20: 調査方針 | E20: なし | M20: 調査方針 | P20: なし
B21: 対策履歴 | E21: なし | H21: 実施状況（実施日） | M21: 対策履歴 | P21: なし | S21: 実施状況（実施日）
B22: メモ | D22: モルタル吹付部のうき | M22: メモ | O22: モルタル吹付部のうき
B23: 写真 番号 | C23: 覆工 スパン 番号 | D23: =O5 -> S036 | M23: 写真 番号 | N23: 覆工 スパン 番号 | O23: =D23 -> S036
C25: 変状 番号 | D25: =O7+1 -> 3 | N25: 変状 番号 | O25: =D25+1 -> 4
B27: 変状 部位 | C27: 対象 箇所 | D27: 覆工・坑門 | M27: 変状 部位 | N27: 対象 箇所 | O27: 覆工・坑門
C29: 部位 区分 | D29: アーチ（右側） | N29: 部位 区分 | O29: アーチ（右側）
B31: 変状区分 | D31: 材質劣化 | M31: 変状区分 | O31: 漏水
B32: 変状種類 | D32: うき・はく離 | M32: 変状種類 | O32: 漏水
B33: 対策 区分 | C33: 応急措置前 | M33: 対策 区分 | N33: 応急措置前
C34: 応急措置後 | E34: Ⅱa | N34: 応急措置後 | P34: Ⅱb
B35: 健全性 | D35: Ⅱ | M35: 健全性 | O35: Ⅱ
B36: 変状の発生範囲の規模 | E36: 0.8m×0.6m | M36: 変状の発生範囲の規模 | P36: 3.8m×0.5m
B37: 前回定期点検時の状態 | E37: - | M37: 前回定期点検時の状態 | P37: -
B38: 調査方針 | E38: なし | M38: 調査方針 | P38: なし
B39: 対策履歴 | E39: なし | H39: 実施状況（実施日） | M39: 対策履歴 | P39: なし | S39: 実施状況（実施日）
B40: メモ | D40: モルタル吹付部のうき | M40: メモ | O40: 漏水、にじみ
C41: ※ 健全性の判定区分Ⅱ～Ⅳについて添付すること。また、点検前に実施 された措置によりⅠと判定された箇所も添付すること。 | N41: ※ 変状の発生範囲の規模とは、対策を行う際に参考となる変状の長さや面積をいう。
N42: ※ 応急措置を実施しないで判定した変状の対策区分は、対策区分の応急措置後の欄に記入すること。
C43: ※ たたき落としを実施した場合は、実施後の写真を添付すること。 | N43: ※ 変状の発生範囲の規模は、面積・寸法を記載すること。
C44: ※ 画像データは100kb程度とする。 | N44: (ひび割れ幅のみmmとし、その他をm表記とする)
C45: ※ 変状数に準じてシートを追加すること。（１シートに１ページとすること。） | N45: ※ 構造用鋼材以外の異物に伴ううき・はく離については、メモ欄に異物の概要を記入すること。

Sheet 様式D-1-1 (60)
B2: ■定期点検記録様式 変状写真台帳（トンネル本体工） 【様式D-1-1】
B3: フリガナ | D3: オオザサ | H3: 路 線 名 | J3: 一般県道俵山長門古市停車場線 | M3: 定期点検業者 | P3: 株式会社オリエンタルコンサルタンツ | S3: 定期点検年月日 | U3: 45271
B4: 名 称 | D4: 大笹トンネル | H4: 管理者名 | J4: 長門土木建築事務所 | M4: 定期点検者名 | P4: 妹尾 優大
B5: 写真 番号 | C5: 覆工 スパン 番号 | D5: S036 | M5: 写真 番号 | N5: 覆工 スパン 番号 | O5: =D5 -> S036
C7: 変状 番号 | D7: 5 | N7: 変状 番号 | O7: =D7+1 -> 6
B9: 変状 部位 | C9: 対象 箇所 | D9: 路面 | M9: 変状 部位 | N9: 対象 箇所 | O9: 路面
C11: 部位 区分 | D11: 側溝 | N11: 部位 区分 | O11: 側溝
B13: 変状区分 | D13: 漏水 | M13: 変状区分 | O13: 漏水
B14: 変状種類 | D14: 滞水 | M14: 変状種類 | O14: 滞水
B15: 対策 区分 | C15: 応急措置前 | M15: 対策 区分 | N15: 応急措置前
C16: 応急措置後 | E16: － | N16: 応急措置後 | P16: －
B17: 健全性 | D17: － | M17: 健全性 | O17: －
B18: 変状の発生範囲の規模 | E18: 0.3m×2.5m | M18: 変状の発生範囲の規模 | P18: 0.2m×0.9m
B19: 前回定期点検時の状態 | E19: 0.3m×3.9mの滞水 | M19: 前回定期点検時の状態 | P19: 0.3m×0.9mの滞水
B20: 調査方針 | E20: なし | M20: 調査方針 | P20: なし
B21: 対策履歴 | E21: なし | H21: 実施状況（実施日） | M21: 対策履歴 | P21: なし | S21: 実施状況（実施日）
B22: メモ | D22: 滞水 | M22: メモ | O22: 滞水
B23: 写真 番号 | C23: 覆工 スパン 番号 | D23: =O5 -> S036 | M23: 写真 番号 | N23: 覆工 スパン 番号 | O23: =D23 -> S036
C25: 変状 番号 | D25: =O7+1 -> 7 | N25: 変状 番号 | O25: =D25+1 -> 8
B27: 変状 部位 | C27: 対象 箇所 | D27: 路面 | M27: 変状 部位 | N27: 対象 箇所 | O27: 路面
C29: 部位 区分 | D29: 車道 | N29: 部位 区分 | O29: 側溝
B31: 変状区分 | D31: 漏水 | M31: 変状区分 | O31: 漏水
B32: 変状種類 | D32: 滞水 | M32: 変状種類 | O32: 滞水
B33: 対策 区分 | C33: 応急措置前 | M33: 対策 区分 | N33: 応急措置前
C34: 応急措置後 | E34: － | N34: 応急措置後 | P34: －
B35: 健全性 | D35: － | M35: 健全性 | O35: －
B36: 変状の発生範囲の規模 | E36: - | M36: 変状の発生範囲の規模 | P36: 0.7m×3.9m
B37: 前回定期点検時の状態 | E37: 0.4m×0.9mの滞水 | M37: 前回定期点検時の状態 | P37: 0.7m×2.4m、0.2m×0.6m、0.5m×0.6mの滞水
B38: 調査方針 | E38: なし | M38: 調査方針 | P38: なし
B39: 対策履歴 | E39: なし | H39: 実施状況（実施日） | M39: 対策履歴 | P39: なし | S39: 実施状況（実施日）
B40: メモ | D40: 滞水跡 | M40: メモ | O40: 滞水
C41: ※ 健全性の判定区分Ⅱ～Ⅳについて添付すること。また、点検前に実施 された措置によりⅠと判定された箇所も添付すること。 | N41: ※ 変状の発生範囲の規模とは、対策を行う際に参考となる変状の長さや面積をいう。
N42: ※ 応急措置を実施しないで判定した変状の対策区分は、対策区分の応急措置後の欄に記入すること。
C43: ※ たたき落としを実施した場合は、実施後の写真を添付すること。 | N43: ※ 変状の発生範囲の規模は、面積・寸法を記載すること。
C44: ※ 画像データは100kb程度とする。 | N44: (ひび割れ幅のみmmとし、その他をm表記とする)
C45: ※ 変状数に準じてシートを追加すること。（１シートに１ページとすること。） | N45: ※ 構造用鋼材以外の異物に伴ううき・はく離については、メモ欄に異物の概要を記入すること。

Sheet 様式D-1-1 (61)
B2: ■定期点検記録様式 変状写真台帳（トンネル本体工） 【様式D-1-1】
B3: フリガナ | D3: オオザサ | H3: 路 線 名 | J3: 一般県道俵山長門古市停車場線 | M3: 定期点検業者 | P3: 株式会社オリエンタルコンサルタンツ | S3: 定期点検年月日 | U3: 45271
B4: 名 称 | D4: 大笹トンネル | H4: 管理者名 | J4: 長門土木建築事務所 | M4: 定期点検者名 | P4: 妹尾 優大
B5: 写真 番号 | C5: 覆工 スパン 番号 | D5: S037 | M5: 写真 番号 | N5: 覆工 スパン 番号 | O5: =D5 -> S037
C7: 変状 番号 | D7: 1 | N7: 変状 番号 | O7: =D7+1 -> 2
B9: 変状 部位 | C9: 対象 箇所 | D9: 覆工・坑門 | M9: 変状 部位 | N9: 対象 箇所 | O9: 覆工・坑門
C11: 部位 区分 | D11: 側壁（左側） | N11: 部位 区分 | O11: 側壁（左側）
B13: 変状区分 | D13: 材質劣化 | M13: 変状区分 | O13: 材質劣化
B14: 変状種類 | D14: うき・はく離 | M14: 変状種類 | O14: うき・はく離
B15: 対策 区分 | C15: 応急措置前 | M15: 対策 区分 | N15: 応急措置前
C16: 応急措置後 | E16: Ⅱb | N16: 応急措置後 | P16: Ⅱb
B17: 健全性 | D17: Ⅱ | M17: 健全性 | O17: Ⅱ
B18: 変状の発生範囲の規模 | E18: 1.95m×3.0m | M18: 変状の発生範囲の規模 | P18: 2.0m×1.7m
B19: 前回定期点検時の状態 | E19: - | M19: 前回定期点検時の状態 | P19: -
B20: 調査方針 | E20: なし | M20: 調査方針 | P20: なし
B21: 対策履歴 | E21: なし | H21: 実施状況（実施日） | M21: 対策履歴 | P21: なし | S21: 実施状況（実施日）
B22: メモ | D22: モルタル吹付部のうき | M22: メモ | O22: モルタル吹付部のうき
B23: 写真 番号 | C23: 覆工 スパン 番号 | D23: =O5 -> S037 | M23: 写真 番号 | N23: 覆工 スパン 番号 | O23: =D23 -> S037
C25: 変状 番号 | D25: =O7+1 -> 3 | N25: 変状 番号 | O25: =D25+1 -> 4
B27: 変状 部位 | C27: 対象 箇所 | D27: 覆工・坑門 | M27: 変状 部位 | N27: 対象 箇所 | O27: 路面
C29: 部位 区分 | D29: アーチ（右側） | N29: 部位 区分 | O29: 側溝
B31: 変状区分 | D31: 漏水 | M31: 変状区分 | O31: 漏水
B32: 変状種類 | D32: 漏水 | M32: 変状種類 | O32: 滞水
B33: 対策 区分 | C33: 応急措置前 | M33: 対策 区分 | N33: 応急措置前
C34: 応急措置後 | E34: Ⅱb | N34: 応急措置後 | P34: －
B35: 健全性 | D35: Ⅱ | M35: 健全性 | O35: －
B36: 変状の発生範囲の規模 | E36: 3.9m×0.5m | M36: 変状の発生範囲の規模 | P36: -
B37: 前回定期点検時の状態 | E37: 漏水、滴水 | M37: 前回定期点検時の状態 | P37: 0.2m×2.0mの滞水
B38: 調査方針 | E38: なし | M38: 調査方針 | P38: なし
B39: 対策履歴 | E39: なし | H39: 実施状況（実施日） | M39: 対策履歴 | P39: なし | S39: 実施状況（実施日）
B40: メモ | D40: 漏水、にじみ | M40: メモ | O40: 滞水跡
C41: ※ 健全性の判定区分Ⅱ～Ⅳについて添付すること。また、点検前に実施 された措置によりⅠと判定された箇所も添付すること。 | N41: ※ 変状の発生範囲の規模とは、対策を行う際に参考となる変状の長さや面積をいう。
N42: ※ 応急措置を実施しないで判定した変状の対策区分は、対策区分の応急措置後の欄に記入すること。
C43: ※ たたき落としを実施した場合は、実施後の写真を添付すること。 | N43: ※ 変状の発生範囲の規模は、面積・寸法を記載すること。
C44: ※ 画像データは100kb程度とする。 | N44: (ひび割れ幅のみmmとし、その他をm表記とする)
C45: ※ 変状数に準じてシートを追加すること。（１シートに１ページとすること。） | N45: ※ 構造用鋼材以外の異物に伴ううき・はく離については、メモ欄に異物の概要を記入すること。

Sheet 様式D-1-1 (62)
B2: ■定期点検記録様式 変状写真台帳（トンネル本体工） 【様式D-1-1】
B3: フリガナ | D3: オオザサ | H3: 路 線 名 | J3: 一般県道俵山長門古市停車場線 | M3: 定期点検業者 | P3: 株式会社オリエンタルコンサルタンツ | S3: 定期点検年月日 | U3: 45271
B4: 名 称 | D4: 大笹トンネル | H4: 管理者名 | J4: 長門土木建築事務所 | M4: 定期点検者名 | P4: 妹尾 優大
B5: 写真 番号 | C5: 覆工 スパン 番号 | D5: S037 | M5: 写真 番号 | N5: 覆工 スパン 番号 | O5: =D5 -> S037
C7: 変状 番号 | D7: 5 | N7: 変状 番号 | O7: =D7+1 -> 6
B9: 変状 部位 | C9: 対象 箇所 | D9: 路面 | M9: 変状 部位 | N9: 対象 箇所 | O9: 路面
C11: 部位 区分 | D11: 側溝 | N11: 部位 区分 | O11: 側溝
B13: 変状区分 | D13: 漏水 | M13: 変状区分 | O13: 漏水
B14: 変状種類 | D14: 滞水 | M14: 変状種類 | O14: 滞水
B15: 対策 区分 | C15: 応急措置前 | M15: 対策 区分 | N15: 応急措置前
C16: 応急措置後 | E16: － | N16: 応急措置後 | P16: －
B17: 健全性 | D17: － | M17: 健全性 | O17: －
B18: 変状の発生範囲の規模 | E18: 0.6m×3.5m | M18: 変状の発生範囲の規模 | P18: 0.3m×6.0m
B19: 前回定期点検時の状態 | E19: 0.6m×3.5mの滞水 | M19: 前回定期点検時の状態 | P19: 0.3m×6.0mの滞水
B20: 調査方針 | E20: なし | M20: 調査方針 | P20: なし
B21: 対策履歴 | E21: なし | H21: 実施状況（実施日） | M21: 対策履歴 | P21: なし | S21: 実施状況（実施日）
B22: メモ | D22: 滞水 | M22: メモ | O22: 滞水
B23: 写真 番号 | C23: 覆工 スパン 番号 | D23: S038 | M23: 写真 番号 | N23: 覆工 スパン 番号 | O23: =D23 -> S038
C25: 変状 番号 | D25: 1 | N25: 変状 番号 | O25: =D25+1 -> 2
B27: 変状 部位 | C27: 対象 箇所 | D27: 覆工・坑門 | M27: 変状 部位 | N27: 対象 箇所 | O27: 覆工・坑門
C29: 部位 区分 | D29: アーチ（左側） | N29: 部位 区分 | O29: アーチ（右側）
B31: 変状区分 | D31: 材質劣化 | M31: 変状区分 | O31: 漏水
B32: 変状種類 | D32: うき・はく離 | M32: 変状種類 | O32: 漏水
B33: 対策 区分 | C33: 応急措置前 | M33: 対策 区分 | N33: 応急措置前
C34: 応急措置後 | E34: Ⅱa | N34: 応急措置後 | P34: Ⅰ
B35: 健全性 | D35: Ⅱ | M35: 健全性 | O35: Ⅰ
B36: 変状の発生範囲の規模 | E36: 1.0m×1.8m | M36: 変状の発生範囲の規模 | P36: -
B37: 前回定期点検時の状態 | E37: - | M37: 前回定期点検時の状態 | P37: 漏水、滴水
B38: 調査方針 | E38: なし | M38: 調査方針 | P38: なし
B39: 対策履歴 | E39: なし | H39: 実施状況（実施日） | M39: 対策履歴 | P39: なし | S39: 実施状況（実施日）
B40: メモ | D40: モルタル吹付部のうき | M40: メモ | O40: 漏水跡
C41: ※ 健全性の判定区分Ⅱ～Ⅳについて添付すること。また、点検前に実施 された措置によりⅠと判定された箇所も添付すること。 | N41: ※ 変状の発生範囲の規模とは、対策を行う際に参考となる変状の長さや面積をいう。
N42: ※ 応急措置を実施しないで判定した変状の対策区分は、対策区分の応急措置後の欄に記入すること。
C43: ※ たたき落としを実施した場合は、実施後の写真を添付すること。 | N43: ※ 変状の発生範囲の規模は、面積・寸法を記載すること。
C44: ※ 画像データは100kb程度とする。 | N44: (ひび割れ幅のみmmとし、その他をm表記とする)
C45: ※ 変状数に準じてシートを追加すること。（１シートに１ページとすること。） | N45: ※ 構造用鋼材以外の異物に伴ううき・はく離については、メモ欄に異物の概要を記入すること。

Sheet 様式D-1-1 (63)
B2: ■定期点検記録様式 変状写真台帳（トンネル本体工） 【様式D-1-1】
B3: フリガナ | D3: オオザサ | H3: 路 線 名 | J3: 一般県道俵山長門古市停車場線 | M3: 定期点検業者 | P3: 株式会社オリエンタルコンサルタンツ | S3: 定期点検年月日 | U3: 45271
B4: 名 称 | D4: 大笹トンネル | H4: 管理者名 | J4: 長門土木建築事務所 | M4: 定期点検者名 | P4: 妹尾 優大
B5: 写真 番号 | C5: 覆工 スパン 番号 | D5: S038 | M5: 写真 番号 | N5: 覆工 スパン 番号 | O5: =D5 -> S038
C7: 変状 番号 | D7: 3 | N7: 変状 番号 | O7: =D7+1 -> 4
B9: 変状 部位 | C9: 対象 箇所 | D9: 路面 | M9: 変状 部位 | N9: 対象 箇所 | O9: 路面
C11: 部位 区分 | D11: 側溝 | N11: 部位 区分 | O11: 側溝
B13: 変状区分 | D13: 漏水 | M13: 変状区分 | O13: 漏水
B14: 変状種類 | D14: 滞水 | M14: 変状種類 | O14: 滞水
B15: 対策 区分 | C15: 応急措置前 | M15: 対策 区分 | N15: 応急措置前
C16: 応急措置後 | E16: － | N16: 応急措置後 | P16: －
B17: 健全性 | D17: － | M17: 健全性 | O17: －
B18: 変状の発生範囲の規模 | E18: 0.2m×1.5m | M18: 変状の発生範囲の規模 | P18: 0.2m×2.5m
B19: 前回定期点検時の状態 | E19: 0.2m×1.5mの滞水 | M19: 前回定期点検時の状態 | P19: 0.2m×1.6mの滞水
B20: 調査方針 | E20: なし | M20: 調査方針 | P20: なし
B21: 対策履歴 | E21: なし | H21: 実施状況（実施日） | M21: 対策履歴 | P21: なし | S21: 実施状況（実施日）
B22: メモ | D22: 滞水 | M22: メモ | O22: 滞水
B23: 写真 番号 | C23: 覆工 スパン 番号 | D23: S038 | M23: 写真 番号 | N23: 覆工 スパン 番号 | O23: =D23 -> S038
C25: 変状 番号 | D25: =O7+1 -> 5 | N25: 変状 番号 | O25: =D25+1 -> 6
B27: 変状 部位 | C27: 対象 箇所 | D27: 路面 | M27: 変状 部位 | N27: 対象 箇所 | O27: 路面
C29: 部位 区分 | D29: 車道 | N29: 部位 区分 | O29: 側溝
B31: 変状区分 | D31: 漏水 | M31: 変状区分 | O31: 漏水
B32: 変状種類 | D32: 滞水 | M32: 変状種類 | O32: 滞水
B33: 対策 区分 | C33: 応急措置前 | M33: 対策 区分 | N33: 応急措置前
C34: 応急措置後 | E34: － | N34: 応急措置後 | P34: －
B35: 健全性 | D35: － | M35: 健全性 | O35: －
B36: 変状の発生範囲の規模 | E36: 0.3m×0.3m | M36: 変状の発生範囲の規模 | P36: 0.1m×2.0m
B37: 前回定期点検時の状態 | E37: 0.8m×0.6mの滞水 | M37: 前回定期点検時の状態 | P37: 0.4m×1.5mの滞水
B38: 調査方針 | E38: なし | M38: 調査方針 | P38: なし
B39: 対策履歴 | E39: なし | H39: 実施状況（実施日） | M39: 対策履歴 | P39: なし | S39: 実施状況（実施日）
B40: メモ | D40: 滞水 | M40: メモ | O40: 滞水
C41: ※ 健全性の判定区分Ⅱ～Ⅳについて添付すること。また、点検前に実施 された措置によりⅠと判定された箇所も添付すること。 | N41: ※ 変状の発生範囲の規模とは、対策を行う際に参考となる変状の長さや面積をいう。
N42: ※ 応急措置を実施しないで判定した変状の対策区分は、対策区分の応急措置後の欄に記入すること。
C43: ※ たたき落としを実施した場合は、実施後の写真を添付すること。 | N43: ※ 変状の発生範囲の規模は、面積・寸法を記載すること。
C44: ※ 画像データは100kb程度とする。 | N44: (ひび割れ幅のみmmとし、その他をm表記とする)
C45: ※ 変状数に準じてシートを追加すること。（１シートに１ページとすること。） | N45: ※ 構造用鋼材以外の異物に伴ううき・はく離については、メモ欄に異物の概要を記入すること。

Sheet 様式D-1-1 (64)
B2: ■定期点検記録様式 変状写真台帳（トンネル本体工） 【様式D-1-1】
B3: フリガナ | D3: オオザサ | H3: 路 線 名 | J3: 一般県道俵山長門古市停車場線 | M3: 定期点検業者 | P3: 株式会社オリエンタルコンサルタンツ | S3: 定期点検年月日 | U3: 45271
B4: 名 称 | D4: 大笹トンネル | H4: 管理者名 | J4: 長門土木建築事務所 | M4: 定期点検者名 | P4: 妹尾 優大
B5: 写真 番号 | C5: 覆工 スパン 番号 | D5: S039 | M5: 写真 番号 | N5: 覆工 スパン 番号 | O5: =D5 -> S039
C7: 変状 番号 | D7: 1 | N7: 変状 番号 | O7: =D7+1 -> 2
B9: 変状 部位 | C9: 対象 箇所 | D9: 覆工・坑門 | M9: 変状 部位 | N9: 対象 箇所 | O9: 路面
C11: 部位 区分 | D11: アーチ（左側） | N11: 部位 区分 | O11: 車道
B13: 変状区分 | D13: 材質劣化 | M13: 変状区分 | O13: 材質劣化
B14: 変状種類 | D14: うき・はく離 | M14: 変状種類 | O14: うき・はく離
B15: 対策 区分 | C15: 応急措置前 | M15: 対策 区分 | N15: 応急措置前
C16: 応急措置後 | E16: Ⅱa | N16: 応急措置後 | P16: －
B17: 健全性 | D17: Ⅱ | M17: 健全性 | O17: －
B18: 変状の発生範囲の規模 | E18: 3.3m×1.4m | M18: 変状の発生範囲の規模 | P18: 0.1m×2.4m
B19: 前回定期点検時の状態 | E19: 3.3m×2.2mのモルタル吹付部のうき | M19: 前回定期点検時の状態 | P19: 0.1m×2.4mのはく離
B20: 調査方針 | E20: なし | M20: 調査方針 | P20: なし
B21: 対策履歴 | E21: なし | H21: 実施状況（実施日） | M21: 対策履歴 | P21: なし | S21: 実施状況（実施日）
B22: メモ | D22: モルタル吹付部のうき | M22: メモ | O22: 舗装のはく離
B23: 写真 番号 | C23: 覆工 スパン 番号 | D23: =O5 -> S039 | M23: 写真 番号 | N23: 覆工 スパン 番号 | O23: =D23 -> S039
C25: 変状 番号 | D25: =O7+1 -> 3 | N25: 変状 番号 | O25: =D25+1 -> 4
B27: 変状 部位 | C27: 対象 箇所 | D27: 路面 | M27: 変状 部位 | N27: 対象 箇所 | O27: 路面
C29: 部位 区分 | D29: 車道 | N29: 部位 区分 | O29: 車道
B31: 変状区分 | D31: 漏水 | M31: 変状区分 | O31: 漏水
B32: 変状種類 | D32: 滞水 | M32: 変状種類 | O32: 滞水
B33: 対策 区分 | C33: 応急措置前 | M33: 対策 区分 | N33: 応急措置前
C34: 応急措置後 | E34: － | N34: 応急措置後 | P34: －
B35: 健全性 | D35: － | M35: 健全性 | O35: －
B36: 変状の発生範囲の規模 | E36: - | M36: 変状の発生範囲の規模 | P36: -
B37: 前回定期点検時の状態 | E37: 0.7m×0.9m、0.8m×1.4mの滞水 | M37: 前回定期点検時の状態 | P37: 0.2m×0.4m、0.2m×0.3mの滞水
B38: 調査方針 | E38: なし | M38: 調査方針 | P38: なし
B39: 対策履歴 | E39: なし | H39: 実施状況（実施日） | M39: 対策履歴 | P39: なし | S39: 実施状況（実施日）
B40: メモ | D40: 滞水跡 | M40: メモ | O40: 滞水跡
C41: ※ 健全性の判定区分Ⅱ～Ⅳについて添付すること。また、点検前に実施 された措置によりⅠと判定された箇所も添付すること。 | N41: ※ 変状の発生範囲の規模とは、対策を行う際に参考となる変状の長さや面積をいう。
N42: ※ 応急措置を実施しないで判定した変状の対策区分は、対策区分の応急措置後の欄に記入すること。
C43: ※ たたき落としを実施した場合は、実施後の写真を添付すること。 | N43: ※ 変状の発生範囲の規模は、面積・寸法を記載すること。
C44: ※ 画像データは100kb程度とする。 | N44: (ひび割れ幅のみmmとし、その他をm表記とする)
C45: ※ 変状数に準じてシートを追加すること。（１シートに１ページとすること。） | N45: ※ 構造用鋼材以外の異物に伴ううき・はく離については、メモ欄に異物の概要を記入すること。

Sheet 様式D-1-1 (65)
B2: ■定期点検記録様式 変状写真台帳（トンネル本体工） 【様式D-1-1】
B3: フリガナ | D3: オオザサ | H3: 路 線 名 | J3: 一般県道俵山長門古市停車場線 | M3: 定期点検業者 | P3: 株式会社オリエンタルコンサルタンツ | S3: 定期点検年月日 | U3: 45271
B4: 名 称 | D4: 大笹トンネル | H4: 管理者名 | J4: 長門土木建築事務所 | M4: 定期点検者名 | P4: 妹尾 優大
B5: 写真 番号 | C5: 覆工 スパン 番号 | D5: S039 | M5: 写真 番号 | N5: 覆工 スパン 番号 | O5: =D5 -> S039
C7: 変状 番号 | D7: 5 | N7: 変状 番号 | O7: =D7+1 -> 6
B9: 変状 部位 | C9: 対象 箇所 | D9: 路面 | M9: 変状 部位 | N9: 対象 箇所 | O9: 路面
C11: 部位 区分 | D11: 側溝 | N11: 部位 区分 | O11: 側溝
B13: 変状区分 | D13: 漏水 | M13: 変状区分 | O13: 漏水
B14: 変状種類 | D14: 滞水 | M14: 変状種類 | O14: 滞水
B15: 対策 区分 | C15: 応急措置前 | M15: 対策 区分 | N15: 応急措置前
C16: 応急措置後 | E16: － | N16: 応急措置後 | P16: －
B17: 健全性 | D17: － | M17: 健全性 | O17: －
B18: 変状の発生範囲の規模 | E18: 0.3m×4.5m | M18: 変状の発生範囲の規模 | P18: 0.6m×3.5m
B19: 前回定期点検時の状態 | E19: 5.8m×10.0mの滞水 | M19: 前回定期点検時の状態 | P19: 0.3m×1.0mの土砂堆積
B20: 調査方針 | E20: なし | M20: 調査方針 | P20: なし
B21: 対策履歴 | E21: なし | H21: 実施状況（実施日） | M21: 対策履歴 | P21: なし | S21: 実施状況（実施日）
B22: メモ | D22: 滞水 | M22: メモ | O22: 滞水
B23: 写真 番号 | C23: 覆工 スパン 番号 | D23: S040 | M23: 写真 番号 | N23: 覆工 スパン 番号 | O23: =D23 -> S040
C25: 変状 番号 | D25: 1 | N25: 変状 番号 | O25: =D25+1 -> 2
B27: 変状 部位 | C27: 対象 箇所 | D27: 覆工・坑門 | M27: 変状 部位 | N27: 対象 箇所 | O27: 覆工・坑門
C29: 部位 区分 | D29: アーチ（左側） | N29: 部位 区分 | O29: アーチ（右側）
B31: 変状区分 | D31: 漏水 | M31: 変状区分 | O31: 漏水
B32: 変状種類 | D32: 漏水 | M32: 変状種類 | O32: 漏水
B33: 対策 区分 | C33: 応急措置前 | M33: 対策 区分 | N33: 応急措置前
C34: 応急措置後 | E34: Ⅰ | N34: 応急措置後 | P34: Ⅱb
B35: 健全性 | D35: Ⅰ | M35: 健全性 | O35: Ⅱ
B36: 変状の発生範囲の規模 | E36: - | M36: 変状の発生範囲の規模 | P36: 6.8m×0.5m
B37: 前回定期点検時の状態 | E37: チューブからの漏水、滴水 | M37: 前回定期点検時の状態 | P37: -
B38: 調査方針 | E38: なし | M38: 調査方針 | P38: なし
B39: 対策履歴 | E39: なし | H39: 実施状況（実施日） | M39: 対策履歴 | P39: なし | S39: 実施状況（実施日）
B40: メモ | D40: チューブ撤去済 | M40: メモ | O40: ひび割れからの漏水、にじみ
C41: ※ 健全性の判定区分Ⅱ～Ⅳについて添付すること。また、点検前に実施 された措置によりⅠと判定された箇所も添付すること。 | N41: ※ 変状の発生範囲の規模とは、対策を行う際に参考となる変状の長さや面積をいう。
N42: ※ 応急措置を実施しないで判定した変状の対策区分は、対策区分の応急措置後の欄に記入すること。
C43: ※ たたき落としを実施した場合は、実施後の写真を添付すること。 | N43: ※ 変状の発生範囲の規模は、面積・寸法を記載すること。
C44: ※ 画像データは100kb程度とする。 | N44: (ひび割れ幅のみmmとし、その他をm表記とする)
C45: ※ 変状数に準じてシートを追加すること。（１シートに１ページとすること。） | N45: ※ 構造用鋼材以外の異物に伴ううき・はく離については、メモ欄に異物の概要を記入すること。

Sheet 様式D-1-1 (66)
B2: ■定期点検記録様式 変状写真台帳（トンネル本体工） 【様式D-1-1】
B3: フリガナ | D3: オオザサ | H3: 路 線 名 | J3: 一般県道俵山長門古市停車場線 | M3: 定期点検業者 | P3: 株式会社オリエンタルコンサルタンツ | S3: 定期点検年月日 | U3: 45271
B4: 名 称 | D4: 大笹トンネル | H4: 管理者名 | J4: 長門土木建築事務所 | M4: 定期点検者名 | P4: 妹尾 優大
B5: 写真 番号 | C5: 覆工 スパン 番号 | D5: S040 | M5: 写真 番号 | N5: 覆工 スパン 番号 | O5: =D5 -> S040
C7: 変状 番号 | D7: 3 | N7: 変状 番号 | O7: =D7+1 -> 4
B9: 変状 部位 | C9: 対象 箇所 | D9: 路面 | M9: 変状 部位 | N9: 対象 箇所 | O9: 路面
C11: 部位 区分 | D11: 側溝 | N11: 部位 区分 | O11: 車道
B13: 変状区分 | D13: 材質劣化 | M13: 変状区分 | O13: 漏水
B14: 変状種類 | D14: うき・はく離 | M14: 変状種類 | O14: 滞水
B15: 対策 区分 | C15: 応急措置前 | M15: 対策 区分 | N15: 応急措置前
C16: 応急措置後 | E16: － | N16: 応急措置後 | P16: －
B17: 健全性 | D17: － | M17: 健全性 | O17: －
B18: 変状の発生範囲の規模 | E18: 0.4m×0.5m | M18: 変状の発生範囲の規模 | P18: -
B19: 前回定期点検時の状態 | E19: 0.4m×0.5mのはく離 | M19: 前回定期点検時の状態 | P19: 0.7m×0.6mの滞水
B20: 調査方針 | E20: なし | M20: 調査方針 | P20: なし
B21: 対策履歴 | E21: なし | H21: 実施状況（実施日） | M21: 対策履歴 | P21: なし | S21: 実施状況（実施日）
B22: メモ | D22: 側溝蓋のはく離 | M22: メモ | O22: 滞水跡
B23: 写真 番号 | C23: 覆工 スパン 番号 | D23: S040 | M23: 写真 番号 | N23: 覆工 スパン 番号 | O23: =D23 -> S040
C25: 変状 番号 | D25: =O7+1 -> 5 | N25: 変状 番号 | O25: =D25+1 -> 6
B27: 変状 部位 | C27: 対象 箇所 | D27: 路面 | M27: 変状 部位 | N27: 対象 箇所 | O27: 路面
C29: 部位 区分 | D29: 車道 | N29: 部位 区分 | O29: 側溝
B31: 変状区分 | D31: 漏水 | M31: 変状区分 | O31: 漏水
B32: 変状種類 | D32: 滞水 | M32: 変状種類 | O32: 滞水
B33: 対策 区分 | C33: 応急措置前 | M33: 対策 区分 | N33: 応急措置前
C34: 応急措置後 | E34: － | N34: 応急措置後 | P34: －
B35: 健全性 | D35: － | M35: 健全性 | O35: －
B36: 変状の発生範囲の規模 | E36: - | M36: 変状の発生範囲の規模 | P36: 0.6m×5.0m
B37: 前回定期点検時の状態 | E37: 1.8m×1.6mの滞水 | M37: 前回定期点検時の状態 | P37: 0.4m×10.0mの土砂堆積
B38: 調査方針 | E38: なし | M38: 調査方針 | P38: なし
B39: 対策履歴 | E39: なし | H39: 実施状況（実施日） | M39: 対策履歴 | P39: なし | S39: 実施状況（実施日）
B40: メモ | D40: 滞水跡 | M40: メモ | O40: 滞水
C41: ※ 健全性の判定区分Ⅱ～Ⅳについて添付すること。また、点検前に実施 された措置によりⅠと判定された箇所も添付すること。 | N41: ※ 変状の発生範囲の規模とは、対策を行う際に参考となる変状の長さや面積をいう。
N42: ※ 応急措置を実施しないで判定した変状の対策区分は、対策区分の応急措置後の欄に記入すること。
C43: ※ たたき落としを実施した場合は、実施後の写真を添付すること。 | N43: ※ 変状の発生範囲の規模は、面積・寸法を記載すること。
C44: ※ 画像データは100kb程度とする。 | N44: (ひび割れ幅のみmmとし、その他をm表記とする)
C45: ※ 変状数に準じてシートを追加すること。（１シートに１ページとすること。） | N45: ※ 構造用鋼材以外の異物に伴ううき・はく離については、メモ欄に異物の概要を記入すること。

Sheet 様式D-1-1 (67)
B2: ■定期点検記録様式 変状写真台帳（トンネル本体工） 【様式D-1-1】
B3: フリガナ | D3: オオザサ | H3: 路 線 名 | J3: 一般県道俵山長門古市停車場線 | M3: 定期点検業者 | P3: 株式会社オリエンタルコンサルタンツ | S3: 定期点検年月日 | U3: 45271
B4: 名 称 | D4: 大笹トンネル | H4: 管理者名 | J4: 長門土木建築事務所 | M4: 定期点検者名 | P4: 妹尾 優大
B5: 写真 番号 | C5: 覆工 スパン 番号 | D5: S041 | M5: 写真 番号 | N5: 覆工 スパン 番号 | O5: =D5 -> S041
C7: 変状 番号 | D7: 1 | N7: 変状 番号 | O7: =D7+1 -> 2
B9: 変状 部位 | C9: 対象 箇所 | D9: 覆工・坑門 | M9: 変状 部位 | N9: 対象 箇所 | O9: 路面
C11: 部位 区分 | D11: アーチ（左側） | N11: 部位 区分 | O11: 側溝
B13: 変状区分 | D13: 材質劣化 | M13: 変状区分 | O13: 漏水
B14: 変状種類 | D14: うき・はく離 | M14: 変状種類 | O14: 滞水
B15: 対策 区分 | C15: 応急措置前 | M15: 対策 区分 | N15: 応急措置前
C16: 応急措置後 | E16: Ⅱa | N16: 応急措置後 | P16: －
B17: 健全性 | D17: Ⅱ | M17: 健全性 | O17: －
B18: 変状の発生範囲の規模 | E18: 3.0m×1.8m | M18: 変状の発生範囲の規模 | P18: 0.5m×5.4m
B19: 前回定期点検時の状態 | E19: 1.2m×1.3mのモルタル吹付部のうき | M19: 前回定期点検時の状態 | P19: 0.3m×5.6mの滞水
B20: 調査方針 | E20: なし | M20: 調査方針 | P20: なし
B21: 対策履歴 | E21: なし | H21: 実施状況（実施日） | M21: 対策履歴 | P21: なし | S21: 実施状況（実施日）
B22: メモ | D22: モルタル吹付部のうき | M22: メモ | O22: 滞水
B23: 写真 番号 | C23: 覆工 スパン 番号 | D23: =O5 -> S041 | M23: 写真 番号 | N23: 覆工 スパン 番号 | O23: =D23 -> S041
C25: 変状 番号 | D25: =O7+1 -> 3 | N25: 変状 番号 | O25: =D25+1 -> 4
B27: 変状 部位 | C27: 対象 箇所 | D27: 路面 | M27: 変状 部位 | N27: 対象 箇所 | O27: 路面
C29: 部位 区分 | D29: 車道 | N29: 部位 区分 | O29: 車道
B31: 変状区分 | D31: 漏水 | M31: 変状区分 | O31: 漏水
B32: 変状種類 | D32: 滞水 | M32: 変状種類 | O32: 滞水
B33: 対策 区分 | C33: 応急措置前 | M33: 対策 区分 | N33: 応急措置前
C34: 応急措置後 | E34: － | N34: 応急措置後 | P34: －
B35: 健全性 | D35: － | M35: 健全性 | O35: －
B36: 変状の発生範囲の規模 | E36: - | M36: 変状の発生範囲の規模 | P36: -
B37: 前回定期点検時の状態 | E37: 0.3m×0.7mの滞水 | M37: 前回定期点検時の状態 | P37: 0.3m×0.9mの滞水
B38: 調査方針 | E38: なし | M38: 調査方針 | P38: なし
B39: 対策履歴 | E39: なし | H39: 実施状況（実施日） | M39: 対策履歴 | P39: なし | S39: 実施状況（実施日）
B40: メモ | D40: 滞水跡 | M40: メモ | O40: 滞水跡
C41: ※ 健全性の判定区分Ⅱ～Ⅳについて添付すること。また、点検前に実施 された措置によりⅠと判定された箇所も添付すること。 | N41: ※ 変状の発生範囲の規模とは、対策を行う際に参考となる変状の長さや面積をいう。
N42: ※ 応急措置を実施しないで判定した変状の対策区分は、対策区分の応急措置後の欄に記入すること。
C43: ※ たたき落としを実施した場合は、実施後の写真を添付すること。 | N43: ※ 変状の発生範囲の規模は、面積・寸法を記載すること。
C44: ※ 画像データは100kb程度とする。 | N44: (ひび割れ幅のみmmとし、その他をm表記とする)
C45: ※ 変状数に準じてシートを追加すること。（１シートに１ページとすること。） | N45: ※ 構造用鋼材以外の異物に伴ううき・はく離については、メモ欄に異物の概要を記入すること。

Sheet 様式D-1-1 (68)
B2: ■定期点検記録様式 変状写真台帳（トンネル本体工） 【様式D-1-1】
B3: フリガナ | D3: オオザサ | H3: 路 線 名 | J3: 一般県道俵山長門古市停車場線 | M3: 定期点検業者 | P3: 株式会社オリエンタルコンサルタンツ | S3: 定期点検年月日 | U3: 45271
B4: 名 称 | D4: 大笹トンネル | H4: 管理者名 | J4: 長門土木建築事務所 | M4: 定期点検者名 | P4: 妹尾 優大
B5: 写真 番号 | C5: 覆工 スパン 番号 | D5: S041 | M5: 写真 番号 | N5: 覆工 スパン 番号 | O5: =D5 -> S041
C7: 変状 番号 | D7: 5 | N7: 変状 番号 | O7: =D7+1 -> 6
B9: 変状 部位 | C9: 対象 箇所 | D9: 路面 | M9: 変状 部位 | N9: 対象 箇所 | O9: 路面
C11: 部位 区分 | D11: 車道 | N11: 部位 区分 | O11: 車道
B13: 変状区分 | D13: 漏水 | M13: 変状区分 | O13: 漏水
B14: 変状種類 | D14: 滞水 | M14: 変状種類 | O14: 滞水
B15: 対策 区分 | C15: 応急措置前 | M15: 対策 区分 | N15: 応急措置前
C16: 応急措置後 | E16: － | N16: 応急措置後 | P16: －
B17: 健全性 | D17: － | M17: 健全性 | O17: －
B18: 変状の発生範囲の規模 | E18: - | M18: 変状の発生範囲の規模 | P18: -
B19: 前回定期点検時の状態 | E19: 0.6m×1.2mの滞水 | M19: 前回定期点検時の状態 | P19: 0.3m×0.4mの滞水
B20: 調査方針 | E20: なし | M20: 調査方針 | P20: なし
B21: 対策履歴 | E21: なし | H21: 実施状況（実施日） | M21: 対策履歴 | P21: なし | S21: 実施状況（実施日）
B22: メモ | D22: 滞水跡 | M22: メモ | O22: 滞水跡
B23: 写真 番号 | C23: 覆工 スパン 番号 | D23: =O5 -> S041 | M23: 写真 番号 | N23: 覆工 スパン 番号 | O23: PE
C25: 変状 番号 | D25: =O7+1 -> 7 | N25: 変状 番号 | O25: 1
B27: 変状 部位 | C27: 対象 箇所 | D27: 路面 | M27: 変状 部位 | N27: 対象 箇所 | O27: 覆工・坑門
C29: 部位 区分 | D29: 側溝 | N29: 部位 区分 | O29: 面壁・妻壁等
B31: 変状区分 | D31: 漏水 | M31: 変状区分 | O31: 漏水
B32: 変状種類 | D32: 滞水 | M32: 変状種類 | O32: 漏水
B33: 対策 区分 | C33: 応急措置前 | M33: 対策 区分 | N33: 応急措置前
C34: 応急措置後 | E34: － | N34: 応急措置後 | P34: Ⅰ
B35: 健全性 | D35: － | M35: 健全性 | O35: Ⅰ
B36: 変状の発生範囲の規模 | E36: 0.6m×6.0m | M36: 変状の発生範囲の規模 | P36: -
B37: 前回定期点検時の状態 | E37: 0.4m×7.5mの土砂堆積 | M37: 前回定期点検時の状態 | P37: 漏水、にじみ
B38: 調査方針 | E38: なし | M38: 調査方針 | P38: なし
B39: 対策履歴 | E39: なし | H39: 実施状況（実施日） | M39: 対策履歴 | P39: なし | S39: 実施状況（実施日）
B40: メモ | D40: 滞水 | M40: メモ | O40: 漏水跡
C41: ※ 健全性の判定区分Ⅱ～Ⅳについて添付すること。また、点検前に実施 された措置によりⅠと判定された箇所も添付すること。 | N41: ※ 変状の発生範囲の規模とは、対策を行う際に参考となる変状の長さや面積をいう。
N42: ※ 応急措置を実施しないで判定した変状の対策区分は、対策区分の応急措置後の欄に記入すること。
C43: ※ たたき落としを実施した場合は、実施後の写真を添付すること。 | N43: ※ 変状の発生範囲の規模は、面積・寸法を記載すること。
C44: ※ 画像データは100kb程度とする。 | N44: (ひび割れ幅のみmmとし、その他をm表記とする)
C45: ※ 変状数に準じてシートを追加すること。（１シートに１ページとすること。） | N45: ※ 構造用鋼材以外の異物に伴ううき・はく離については、メモ欄に異物の概要を記入すること。

Sheet 様式D-1-1 (69)
B2: ■定期点検記録様式 変状写真台帳（トンネル本体工） 【様式D-1-1】
B3: フリガナ | D3: オオザサ | H3: 路 線 名 | J3: 一般県道俵山長門古市停車場線 | M3: 定期点検業者 | P3: 株式会社オリエンタルコンサルタンツ | S3: 定期点検年月日 | U3: 45271
B4: 名 称 | D4: 大笹トンネル | H4: 管理者名 | J4: 長門土木建築事務所 | M4: 定期点検者名 | P4: 妹尾 優大
B5: 写真 番号 | C5: 覆工 スパン 番号 | D5: PE | M5: 写真 番号 | N5: 覆工 スパン 番号
C7: 変状 番号 | D7: 2 | N7: 変状 番号
B9: 変状 部位 | C9: 対象 箇所 | D9: 覆工・坑門 | M9: 変状 部位 | N9: 対象 箇所
C11: 部位 区分 | D11: 面壁・妻壁等 | N11: 部位 区分
B13: 変状区分 | D13: 漏水 | M13: 変状区分
B14: 変状種類 | D14: 漏水 | M14: 変状種類
B15: 対策 区分 | C15: 応急措置前 | M15: 対策 区分 | N15: 応急措置前
C16: 応急措置後 | E16: Ⅱb | N16: 応急措置後
B17: 健全性 | D17: Ⅱ | M17: 健全性
B18: 変状の発生範囲の規模 | E18: 2.9m×1.0m | M18: 変状の発生範囲の規模
B19: 前回定期点検時の状態 | E19: 漏水、にじみ | M19: 前回定期点検時の状態
B20: 調査方針 | E20: なし | M20: 調査方針
B21: 対策履歴 | E21: なし | H21: 実施状況（実施日） | M21: 対策履歴 | S21: 実施状況（実施日）
B22: メモ | D22: 漏水、にじみ | M22: メモ
B23: 写真 番号 | C23: 覆工 スパン 番号 | D23: =O5 -> 0 | M23: 写真 番号 | N23: 覆工 スパン 番号
C25: 変状 番号 | N25: 変状 番号
B27: 変状 部位 | C27: 対象 箇所 | M27: 変状 部位 | N27: 対象 箇所
C29: 部位 区分 | N29: 部位 区分
B31: 変状区分 | M31: 変状区分
B32: 変状種類 | M32: 変状種類
B33: 対策 区分 | C33: 応急措置前 | M33: 対策 区分 | N33: 応急措置前
C34: 応急措置後 | N34: 応急措置後
B35: 健全性 | M35: 健全性
B36: 変状の発生範囲の規模 | M36: 変状の発生範囲の規模
B37: 前回定期点検時の状態 | M37: 前回定期点検時の状態
B38: 調査方針 | M38: 調査方針
B39: 対策履歴 | H39: 実施状況（実施日） | M39: 対策履歴 | S39: 実施状況（実施日）
B40: メモ | M40: メモ
C41: ※ 健全性の判定区分Ⅱ～Ⅳについて添付すること。また、点検前に実施 された措置によりⅠと判定された箇所も添付すること。 | N41: ※ 変状の発生範囲の規模とは、対策を行う際に参考となる変状の長さや面積をいう。
N42: ※ 応急措置を実施しないで判定した変状の対策区分は、対策区分の応急措置後の欄に記入すること。
C43: ※ たたき落としを実施した場合は、実施後の写真を添付すること。 | N43: ※ 変状の発生範囲の規模は、面積・寸法を記載すること。
C44: ※ 画像データは100kb程度とする。 | N44: (ひび割れ幅のみmmとし、その他をm表記とする)
C45: ※ 変状数に準じてシートを追加すること。（１シートに１ページとすること。） | N45: ※ 構造用鋼材以外の異物に伴ううき・はく離については、メモ欄に異物の概要を記入すること。

Sheet 様式D-1-2 
B2: ■定期点検記録様式 異常写真台帳（トンネル内附属物等の取付状態） 【様式D-1-2】
B3: フリガナ | E3: オオザサ | I3: 路 線 名 | L3: 一般県道俵山長門古市停車場線 | O3: 定期点検業者 | R3: 株式会社オリエンタルコンサルタンツ | U3: 定期点検年月日 | W3: 45271
B4: 名 称 | E4: 大笹トンネル | I4: 管理者名 | L4: 長門土木建築事務所 | O4: 定期点検者名 | R4: 妹尾 優大
B5: 覆工スパン番号 | E5: S008 | F5: 異常番号 | I5: 101 | J5: 覆工スパン番号 | M5: S008 | N5: 異常番号 | Q5: 102 | R5: 覆工スパン番号 | U5: S011 | V5: 異常番号 | Y5: 101
B6: 対象箇所 | D6: 照明施設 | E6: 灯具 | G6: 部位区分 | I6: 取付部材 | J6: 対象箇所 | L6: 照明施設 | M6: ケーブル類 | O6: 部位区分 | Q6: 取付部材 | R6: 対象箇所 | T6: 照明施設 | U6: ケーブル類 | W6: 部位区分 | Y6: 取付部材
B7: 異常の種類 | D7: 腐食 | J7: 異常の種類 | L7: 変形，欠損 | R7: 異常の種類 | T7: 変形，欠損
B8: 異常判定区分 | D8: × | E8: メモ | F8: 取付金具腐食4箇所 | J8: 異常判定区分 | L8: × | M8: メモ | N8: 取付金具欠損2箇所 | R8: 異常判定区分 | T8: ○ | U8: メモ | V8: 欠損補修済
B22: 覆工スパン番号 | E22: S012 | F22: 異常番号 | I22: 101 | J22: 覆工スパン番号 | M22: S015 | N22: 異常番号 | Q22: 101 | R22: 覆工スパン番号 | U22: S019 | V22: 異常番号 | Y22: 101
B23: 対象箇所 | D23: 照明施設 | E23: 灯具 | G23: 部位区分 | I23: 取付部材 | J23: 対象箇所 | L23: 照明施設 | M23: 灯具 | O23: 部位区分 | Q23: 取付部材 | R23: 対象箇所 | T23: 照明施設 | U23: 灯具 | W23: 部位区分 | Y23: 附属物本体
B24: 異常の種類 | D24: 腐食 | J24: 異常の種類 | L24: 腐食 | R24: 異常の種類 | T24: 変形，欠損
B25: 異常判定区分 | D25: × | E25: メモ | F25: 取付金具腐食4箇所 | J25: 異常判定区分 | L25: × | M25: メモ | N25: 取付金具腐食2箇所 | R25: 異常判定区分 | T25: ○ | U25: メモ | V25: 灯具撤去済
B39: 覆工スパン番号 | E39: S022 | F39: 異常番号 | I39: 101 | J39: 覆工スパン番号 | M39: S027 | N39: 異常番号 | Q39: 101 | R39: 覆工スパン番号 | U39: S027 | V39: 異常番号 | Y39: 102
B40: 対象箇所 | D40: 照明施設 | E40: 灯具 | G40: 部位区分 | I40: 取付部材 | J40: 対象箇所 | L40: 照明施設 | M40: ケーブル類 | O40: 部位区分 | Q40: 取付部材 | R40: 対象箇所 | T40: 照明施設 | U40: 灯具 | W40: 部位区分 | Y40: 附属物本体
B41: 異常の種類 | D41: 腐食 | J41: 異常の種類 | L41: 変形，欠損 | R41: 異常の種類 | T41: 変形，欠損
B42: 異常判定区分 | D42: × | E42: メモ | F42: 取付金具腐食4箇所 | J42: 異常判定区分 | L42: × | M42: メモ | N42: 取付金具欠損1箇所 | R42: 異常判定区分 | T42: ○ | U42: メモ | V42: 灯具撤去済
D56: ※ 異常判定区分×について記入すること。また、応急措置前に異常判定区分×とした箇所のうち応急措置により○と判定した箇所も記入すること。
D57: ※ 応急措置を実施した場合は、その実施状況が分かる写真を添付すること。
D58: ※ 画像データは100kb程度とする。 | L58: ※ 変状数に準じてシートを追加すること。（１シートに１ページとすること。）

Sheet 様式D-1-2 (2)
B2: ■定期点検記録様式 異常写真台帳（トンネル内附属物等の取付状態） 【様式D-1-2】
B3: フリガナ | E3: オオザサ | I3: 路 線 名 | L3: 一般県道俵山長門古市停車場線 | O3: 定期点検業者 | R3: 株式会社オリエンタルコンサルタンツ | U3: 定期点検年月日 | W3: 45271
B4: 名 称 | E4: 大笹トンネル | I4: 管理者名 | L4: 長門土木建築事務所 | O4: 定期点検者名 | R4: 妹尾 優大
B5: 覆工スパン番号 | E5: S030 | F5: 異常番号 | I5: 101 | J5: 覆工スパン番号 | M5: S031 | N5: 異常番号 | Q5: 101 | R5: 覆工スパン番号 | U5: S032 | V5: 異常番号 | Y5: 101
B6: 対象箇所 | D6: 照明施設 | E6: 灯具 | G6: 部位区分 | I6: 取付部材 | J6: 対象箇所 | L6: 照明施設 | M6: ケーブル類 | O6: 部位区分 | Q6: 取付部材 | R6: 対象箇所 | T6: 照明施設 | U6: ケーブル類 | W6: 部位区分 | Y6: 取付部材
B7: 異常の種類 | D7: 腐食 | J7: 異常の種類 | L7: 変形，欠損 | R7: 異常の種類 | T7: 変形，欠損
B8: 異常判定区分 | D8: × | E8: メモ | F8: 取付金具腐食4箇所 | J8: 異常判定区分 | L8: × | M8: メモ | N8: 取付金具欠損1箇所 | R8: 異常判定区分 | T8: × | U8: メモ | V8: 取付金具欠損4箇所
B22: 覆工スパン番号 | E22: S034 | F22: 異常番号 | I22: 101 | J22: 覆工スパン番号 | M22: S035 | N22: 異常番号 | Q22: 101 | R22: 覆工スパン番号 | U22: S036 | V22: 異常番号 | Y22: 101
B23: 対象箇所 | D23: 照明施設 | E23: ケーブル類 | G23: 部位区分 | I23: 取付部材 | J23: 対象箇所 | L23: 照明施設 | M23: ケーブル類 | O23: 部位区分 | Q23: 取付部材 | R23: 対象箇所 | T23: 照明施設 | U23: ケーブル類 | W23: 部位区分 | Y23: 取付部材
B24: 異常の種類 | D24: 変形，欠損 | J24: 異常の種類 | L24: 変形，欠損 | R24: 異常の種類 | T24: 変形，欠損
B25: 異常判定区分 | D25: × | E25: メモ | F25: 取付金具欠損1箇所 | J25: 異常判定区分 | L25: × | M25: メモ | N25: 取付金具欠損1箇所 | R25: 異常判定区分 | T25: × | U25: メモ | V25: 取付金具欠損4箇所
B39: 覆工スパン番号 | E39: S036 | F39: 異常番号 | I39: 102 | J39: 覆工スパン番号 | M39: S036 | N39: 異常番号 | Q39: 103 | R39: 覆工スパン番号 | U39: S037 | V39: 異常番号 | Y39: 101
B40: 対象箇所 | D40: 照明施設 | E40: 灯具 | G40: 部位区分 | I40: 取付部材 | J40: 対象箇所 | L40: 照明施設 | M40: ケーブル類 | O40: 部位区分 | Q40: 取付部材 | R40: 対象箇所 | T40: 照明施設 | U40: ケーブル類 | W40: 部位区分 | Y40: 取付部材
B41: 異常の種類 | D41: 腐食 | J41: 異常の種類 | L41: 変形，欠損 | R41: 異常の種類 | T41: 変形，欠損
B42: 異常判定区分 | D42: × | E42: メモ | F42: 取付金具腐食4箇所 | J42: 異常判定区分 | L42: × | M42: メモ | N42: 取付金具欠損3箇所 | R42: 異常判定区分 | T42: × | U42: メモ | V42: 取付金具欠損3箇所
D56: ※ 異常判定区分×について記入すること。また、応急措置前に異常判定区分×とした箇所のうち応急措置により○と判定した箇所も記入すること。
D57: ※ 応急措置を実施した場合は、その実施状況が分かる写真を添付すること。
D58: ※ 画像データは100kb程度とする。 | L58: ※ 変状数に準じてシートを追加すること。（１シートに１ページとすること。）

Sheet 様式D-1-2 (3)
B2: ■定期点検記録様式 異常写真台帳（トンネル内附属物等の取付状態） 【様式D-1-2】
B3: フリガナ | E3: オオザサ | I3: 路 線 名 | L3: 一般県道俵山長門古市停車場線 | O3: 定期点検業者 | R3: 株式会社オリエンタルコンサルタンツ | U3: 定期点検年月日 | W3: 45271
B4: 名 称 | E4: 大笹トンネル | I4: 管理者名 | L4: 長門土木建築事務所 | O4: 定期点検者名 | R4: 妹尾 優大
B5: 覆工スパン番号 | E5: S037 | F5: 異常番号 | I5: 102 | J5: 覆工スパン番号 | M5: S038 | N5: 異常番号 | Q5: 101 | R5: 覆工スパン番号 | U5: S038 | V5: 異常番号 | Y5: 102
B6: 対象箇所 | D6: 照明施設 | E6: ケーブル類 | G6: 部位区分 | I6: 取付部材 | J6: 対象箇所 | L6: 照明施設 | M6: ケーブル類 | O6: 部位区分 | Q6: 取付部材 | R6: 対象箇所 | T6: 照明施設 | U6: ケーブル類 | W6: 部位区分 | Y6: 取付部材
B7: 異常の種類 | D7: 変形，欠損 | J7: 異常の種類 | L7: 変形，欠損 | R7: 異常の種類 | T7: 変形，欠損
B8: 異常判定区分 | D8: × | E8: メモ | F8: 取付金具欠損1箇所 | J8: 異常判定区分 | L8: × | M8: メモ | N8: 取付金具欠損2箇所 | R8: 異常判定区分 | T8: × | U8: メモ | V8: 取付金具欠損1箇所
B22: 覆工スパン番号 | E22: S039 | F22: 異常番号 | I22: 101 | J22: 覆工スパン番号 | M22: S039 | N22: 異常番号 | Q22: 102 | R22: 覆工スパン番号 | U22: S039 | V22: 異常番号 | Y22: 103
B23: 対象箇所 | D23: 照明施設 | E23: ケーブル類 | G23: 部位区分 | I23: 取付部材 | J23: 対象箇所 | L23: 照明施設 | M23: 灯具 | O23: 部位区分 | Q23: 取付部材 | R23: 対象箇所 | T23: 照明施設 | U23: 灯具 | W23: 部位区分 | Y23: 取付部材
B24: 異常の種類 | D24: 変形，欠損 | J24: 異常の種類 | L24: 腐食 | R24: 異常の種類 | T24: 腐食
B25: 異常判定区分 | D25: × | E25: メモ | F25: 取付金具欠損4箇所 | J25: 異常判定区分 | L25: × | M25: メモ | N25: 取付金具腐食2箇所 | R25: 異常判定区分 | T25: × | U25: メモ | V25: 取付金具腐食2箇所
B39: 覆工スパン番号 | E39: S039 | F39: 異常番号 | I39: 104 | J39: 覆工スパン番号 | M39: S040 | N39: 異常番号 | Q39: 101 | R39: 覆工スパン番号 | U39: S040 | V39: 異常番号 | Y39: 102
B40: 対象箇所 | D40: 照明施設 | E40: ケーブル類 | G40: 部位区分 | I40: 取付部材 | J40: 対象箇所 | L40: 照明施設 | M40: ケーブル類 | O40: 部位区分 | Q40: 取付部材 | R40: 対象箇所 | T40: 照明施設 | U40: 灯具 | W40: 部位区分 | Y40: 取付部材
B41: 異常の種類 | D41: 変形，欠損 | J41: 異常の種類 | L41: 変形，欠損 | R41: 異常の種類 | T41: 腐食
B42: 異常判定区分 | D42: × | E42: メモ | F42: 取付金具欠損1箇所 | J42: 異常判定区分 | L42: × | M42: メモ | N42: 取付金具欠損2箇所 | R42: 異常判定区分 | T42: × | U42: メモ | V42: 取付金具腐食2箇所
D56: ※ 異常判定区分×について記入すること。また、応急措置前に異常判定区分×とした箇所のうち応急措置により○と判定した箇所も記入すること。
D57: ※ 応急措置を実施した場合は、その実施状況が分かる写真を添付すること。
D58: ※ 画像データは100kb程度とする。 | L58: ※ 変状数に準じてシートを追加すること。（１シートに１ページとすること。）

Sheet 様式D-1-2 (4)
B2: ■定期点検記録様式 異常写真台帳（トンネル内附属物等の取付状態） 【様式D-1-2】
B3: フリガナ | E3: オオザサ | I3: 路 線 名 | L3: 一般県道俵山長門古市停車場線 | O3: 定期点検業者 | R3: 株式会社オリエンタルコンサルタンツ | U3: 定期点検年月日 | W3: 45271
B4: 名 称 | E4: 大笹トンネル | I4: 管理者名 | L4: 長門土木建築事務所 | O4: 定期点検者名 | R4: 妹尾 優大
B5: 覆工スパン番号 | E5: S040 | F5: 異常番号 | I5: 103 | J5: 覆工スパン番号 | M5: S041 | N5: 異常番号 | Q5: 101 | R5: 覆工スパン番号 | U5: S041 | V5: 異常番号 | Y5: 102
B6: 対象箇所 | D6: 照明施設 | E6: 灯具 | G6: 部位区分 | I6: 取付部材 | J6: 対象箇所 | L6: 照明施設 | M6: 灯具 | O6: 部位区分 | Q6: 取付部材 | R6: 対象箇所 | T6: 照明施設 | U6: 灯具 | W6: 部位区分 | Y6: 取付部材
B7: 異常の種類 | D7: 破断 | J7: 異常の種類 | L7: 腐食 | R7: 異常の種類 | T7: 破断
B8: 異常判定区分 | D8: × | E8: メモ | F8: 取付金具破断2箇所 | J8: 異常判定区分 | L8: × | M8: メモ | N8: 取付金具腐食3箇所 | R8: 異常判定区分 | T8: × | U8: メモ | V8: 取付金具破断1箇所
B22: 覆工スパン番号 | F22: 異常番号 | J22: 覆工スパン番号 | N22: 異常番号 | R22: 覆工スパン番号 | V22: 異常番号
B23: 対象箇所 | G23: 部位区分 | J23: 対象箇所 | O23: 部位区分 | R23: 対象箇所 | W23: 部位区分
B24: 異常の種類 | J24: 異常の種類 | R24: 異常の種類
B25: 異常判定区分 | E25: メモ | J25: 異常判定区分 | M25: メモ | R25: 異常判定区分 | U25: メモ
B39: 覆工スパン番号 | F39: 異常番号 | J39: 覆工スパン番号 | N39: 異常番号 | R39: 覆工スパン番号 | V39: 異常番号
B40: 対象箇所 | G40: 部位区分 | J40: 対象箇所 | O40: 部位区分 | R40: 対象箇所 | W40: 部位区分
B41: 異常の種類 | J41: 異常の種類 | R41: 異常の種類
B42: 異常判定区分 | E42: メモ | J42: 異常判定区分 | M42: メモ | R42: 異常判定区分 | U42: メモ
D56: ※ 異常判定区分×について記入すること。また、応急措置前に異常判定区分×とした箇所のうち応急措置により○と判定した箇所も記入すること。
D57: ※ 応急措置を実施した場合は、その実施状況が分かる写真を添付すること。
D58: ※ 画像データは100kb程度とする。 | L58: ※ 変状数に準じてシートを追加すること。（１シートに１ページとすること。）

Sheet 様式D-2-1
B3: ■定期点検記録様式 トンネル全体変状展開図 【様式D-2-1】
B4: フリガナ | E4: オオザサ | J4: 路線名 | M4: 一般県道俵山長門古市停車場線 | S4: 定期点検業者 | W4: 株式会社オリエンタルコンサルタンツ | AC4: 定期点検年月日 | AF4: 45271
B5: 名 称 | E5: 大笹トンネル | J5: 管理者名 | M5: 長門土木建築事務所 | S5: 定期点検者名 | W5: 妹尾 優大
B6: トンネル変状展開図 | C6: トンネル全体変状展開図
V18: 注１：本展開図は、見下げた状態で記載すること。 注２：覆工スパン番号は横断目地毎（矢板工法の場合は上半アーチ の横断目地毎)に設定すること。 注３：横断目地の変状は前の覆工スパン番号で計上すること。 注４：１枚に収まらない場合は、複数枚に分けて作成すること。

Sheet 様式D-2-1´
B3: ■定期点検記録様式 トンネル全体変状展開図（機器の活用時） 【様式D-2-1’】
B4: フリガナ | J4: 路線名 | S4: 定期点検業者 | AC4: 定期点検年月日
B5: 名 称 | J5: 管理者名 | S5: 定期点検者名
B6: トンネル変状展開図 | C6: トンネル全体変状展開図
S18: 注１：本展開図は、見下げた状態で記載すること。 注２：覆工スパン番号は横断目地毎（矢板工法の場合は上半アーチの横断目地毎)に 設定すること。 注３：横断目地の変状は前の覆工スパン番号で計上すること。 注４：１枚に収まらない場合は、複数枚に分けて作成すること。 注５：覆工写真の画像サイズは500kb程度とすること。

Sheet 様式D-2-1 (2)
B3: ■定期点検記録様式 トンネル全体変状展開図 【様式D-2-1】
B4: フリガナ | E4: オオザサ | J4: 路線名 | M4: 一般県道俵山長門古市停車場線 | S4: 定期点検業者 | W4: 株式会社オリエンタルコンサルタンツ | AC4: 定期点検年月日 | AF4: 45271
B5: 名 称 | E5: 大笹トンネル | J5: 管理者名 | M5: 長門土木建築事務所 | S5: 定期点検者名 | W5: 妹尾 優大
B6: トンネル変状展開図 | C6: トンネル全体変状展開図
V18: 注１：本展開図は、見下げた状態で記載すること。 注２：覆工スパン番号は横断目地毎（矢板工法の場合は上半アーチ の横断目地毎)に設定すること。 注３：横断目地の変状は前の覆工スパン番号で計上すること。 注４：１枚に収まらない場合は、複数枚に分けて作成すること。

Sheet 様式D-2-1 (3)
B3: ■定期点検記録様式 トンネル全体変状展開図 【様式D-2-1】
B4: フリガナ | E4: オオザサ | J4: 路線名 | M4: 一般県道俵山長門古市停車場線 | S4: 定期点検業者 | W4: 株式会社オリエンタルコンサルタンツ | AC4: 定期点検年月日 | AF4: 45271
B5: 名 称 | E5: 大笹トンネル | J5: 管理者名 | M5: 長門土木建築事務所 | S5: 定期点検者名 | W5: 妹尾 優大
B6: トンネル変状展開図 | C6: トンネル全体変状展開図
V18: 注１：本展開図は、見下げた状態で記載すること。 注２：覆工スパン番号は横断目地毎（矢板工法の場合は上半アーチ の横断目地毎)に設定すること。 注３：横断目地の変状は前の覆工スパン番号で計上すること。 注４：１枚に収まらない場合は、複数枚に分けて作成すること。

Sheet 様式D-2-1 (4)
B3: ■定期点検記録様式 トンネル全体変状展開図 【様式D-2-1】
B4: フリガナ | E4: オオザサ | J4: 路線名 | M4: 一般県道俵山長門古市停車場線 | S4: 定期点検業者 | W4: 株式会社オリエンタルコンサルタンツ | AC4: 定期点検年月日 | AF4: 45271
B5: 名 称 | E5: 大笹トンネル | J5: 管理者名 | M5: 長門土木建築事務所 | S5: 定期点検者名 | W5: 妹尾 優大
B6: トンネル変状展開図 | C6: トンネル全体変状展開図
V18: 注１：本展開図は、見下げた状態で記載すること。 注２：覆工スパン番号は横断目地毎（矢板工法の場合は上半アーチ の横断目地毎)に設定すること。 注３：横断目地の変状は前の覆工スパン番号で計上すること。 注４：１枚に収まらない場合は、複数枚に分けて作成すること。

Sheet 様式D-3_PS
AU1: 様式E-1リンク用→ | AV1: 覆工ｽﾊﾟﾝ 番号 | AW1: ｽﾊﾟﾝ 長 (m) | AX1: 変状数集計 | BS1: 覆工スパン毎の 健全性の診断 | BW1: 変状規模集計
AX2: 対策区分毎の変状数 | BJ2: 健全性の判定区分毎の変状数 | BW2: 覆工スパン長(m) | CA2: 対策区分毎の変状の発生範囲の規模(㎡）
B3: ■定期点検記録様式 覆工スパン別変状詳細展開図 【様式D-3】 | AX3: 外力 | BB3: 材質劣化 | BF3: 漏水 | BJ3: 外力 | BM3: 材質劣化 | BP3: 漏水 | BS3: 外力 | BT3: 材質劣化 | BU3: 漏水 | BV3: 健全性 | BW3: 外力※１ | CA3: 材質劣化 | CE3: 漏水
B4: フリガナ | E4: オオザサ | K4: 路線名 | N4: 一般県道俵山長門古市停車場線 | T4: 定期点検業者 | Y4: 株式会社オリエンタルコンサルタンツ | AG4: 定期点検年月日 | AK4: 45271 | AX4: Ⅳ | AY4: Ⅲ | AZ4: Ⅱa | BA4: Ⅱb | BB4: Ⅳ | BC4: Ⅲ | BD4: Ⅱa | BE4: Ⅱb | BF4: Ⅳ | BG4: Ⅲ | BH4: Ⅱa | BI4: Ⅱb | BJ4: Ⅳ | BK4: Ⅲ | BL4: Ⅱ | BM4: Ⅳ | BN4: Ⅲ | BO4: Ⅱ | BP4: Ⅳ | BQ4: Ⅲ | BR4: Ⅱ | BW4: Ⅳ | BX4: Ⅲ | BY4: Ⅱa | BZ4: Ⅱb | CA4: Ⅳ | CB4: Ⅲ | CC4: Ⅱa | CD4: Ⅱb | CE4: Ⅳ | CF4: Ⅲ | CG4: Ⅱa | CH4: Ⅱb
B5: 名 称 | E5: 大笹トンネル | K5: 管理者名 | N5: 長門土木建築事務所 | T5: 定期点検者名 | Y5: 妹尾 優大 | AV5: =N7 -> PS | AW5: =R7 -> 0 | AX5: =+Y32 -> 0 | AY5: =+Z32 -> 0 | AZ5: =+AA32 -> 0 | BA5: =+AB32 -> 0 | BB5: =+AC32 -> 0 | BC5: =+AD32 -> 2 | BD5: =+AE32 -> 0 | BE5: =+AF32 -> 1 | ... BI5: =+AJ32 -> 2 | BJ5: =+Y35 | BK5: =+Z35 | BL5: =+AA35 | BM5: =+AC35 -> 0 | BN5: =+AD35 -> 2 | BO5: =+AE35 -> 1 | BP5: =+AG35 -> 0 | BQ5: =+AH35 -> 0 | BR5: =+AI35 -> 2 | BS5: =+Y36 -> Ⅰ | BT5: =+AC36 -> Ⅲ | BU5: =+AG36 -> Ⅱ | BV5: =+Y37 -> Ⅲ | BW5: =IF(Y32>0,$R$7,"") | BX5: =IF(Z32>0,"",IF(AA32>0,$R$7,"")) | BY5: =IF(Y32+Z32>0,"",IF(AA32>0,$R$7,"")) | BZ5: =IF(Y32+Z32+AA32>0,"",IF(AB32>0,$R$7,"")) | CA5: =+AC31 -> 0 | CB5: =+AD31 -> 0.03 | CC5: =+AE31 -> 0 | CD5: =+AF31 -> 0.0025 | CE5: =+AG31 -> 0 | CF5: =+AH31 -> 0 | CG5: =+AI31 -> 0 | CH5: =+AJ31 -> 8.475
B6: スパン別変状展開図 | K6: 【健全性判定集計表】
K7: スパン番号 | N7: PS | P7: スパン長 | U7: 前回定期点検時の健全性 | W7: 応急措置前の判定 | Y7: 対策区分毎の 変状の有無 | AC7: 対策区分毎の変状の発生範囲の規模(㎡) | AK7: 備考注2
K8: 変状番号 | L8: 対象箇所 | N8: 部位区分 | P8: 変状区分 | R8: 変状種類
Y9: 外力注1 | AC9: 材質劣化注1 | AG9: 漏水注1
Y10: Ⅳ | Z10: Ⅲ | AA10: Ⅱa | AB10: Ⅱb | AC10: Ⅳ | AD10: Ⅲ | AE10: Ⅱa | AF10: Ⅱb | AG10: Ⅳ | AH10: Ⅲ | AI10: Ⅱa | AJ10: Ⅱb
K11: 1 | L11: 覆工・坑門 | N11: 面壁・妻壁等 | P11: 漏水 | R11: 漏水 | U11: Ⅱ | W11: Ⅱb | AJ11: 4.8 | AK11: にじみ | AQ11: =IF(P11="材質劣化",2,IF(P11="漏水",3,1)) -> 3
K12: 2 | L12: 覆工・坑門 | N12: 面壁・妻壁等 | P12: 材質劣化 | R12: うき・はく離 | U12: Ⅲ | W12: Ⅲ | AD12: 0.02 | AK12: うき | AQ12: =IF(P12="材質劣化",2,IF(P12="漏水",3,1)) -> 2
K13: 3 | L13: 覆工・坑門 | N13: 面壁・妻壁等 | P13: 材質劣化 | R13: うき・はく離 | U13: Ⅲ | W13: Ⅲ | AD13: 0.01 | AK13: うき | AQ13: =IF(P13="材質劣化",2,IF(P13="漏水",3,1)) -> 2
K14: 4 | L14: 覆工・坑門 | N14: 面壁・妻壁等 | P14: 材質劣化 | R14: うき・はく離 | U14: Ⅱ | W14: Ⅱb | AF14: 0.0025 | AK14: はく落 | AQ14: =IF(P14="材質劣化",2,IF(P14="漏水",3,1)) -> 2
K15: 5 | L15: 覆工・坑門 | N15: 面壁・妻壁等 | P15: 漏水 | R15: 漏水 | U15: Ⅱ | W15: Ⅱb | AJ15: 3.675 | AK15: にじみ | AQ15: =IF(P15="材質劣化",2,IF(P15="漏水",3,1)) -> 3
AQ16: =IF(P16="材質劣化",2,IF(P16="漏水",3,1)) -> 1
AQ17: =IF(P17="材質劣化",2,IF(P17="漏水",3,1)) -> 1
AQ18: =IF(P18="材質劣化",2,IF(P18="漏水",3,1)) -> 1
AQ19: =IF(P19="材質劣化",2,IF(P19="漏水",3,1)) -> 1
AQ20: =IF(P20="材質劣化",2,IF(P20="漏水",3,1)) -> 1
AQ21: =IF(P21="材質劣化",2,IF(P21="漏水",3,1)) -> 1
AQ22: =IF(P22="材質劣化",2,IF(P22="漏水",3,1)) -> 1
AQ23: =IF(P23="材質劣化",2,IF(P23="漏水",3,1)) -> 1
AQ24: =IF(P24="材質劣化",2,IF(P24="漏水",3,1)) -> 1
AQ25: =IF(P25="材質劣化",2,IF(P25="漏水",3,1)) -> 1
AQ26: =IF(P26="材質劣化",2,IF(P26="漏水",3,1)) -> 1
AQ27: =IF(P27="材質劣化",2,IF(P27="漏水",3,1)) -> 1
... AQ30: =IF(P30="材質劣化",2,IF(P30="漏水",3,1)) -> 1
