Workbook
Name 〇: #REF!
Name その他: '(参考)リスト'!$C$45
Name その他施設: '(参考)リスト'!$C$76:$C$80
Name 外力: '(参考)リスト'!$E$16:$E$23
Name 換気施設: '(参考)リスト'!$C$55:$C$59
Name 坑門: '(参考)リスト'!$C$16:$C$29
Name 材質劣化: '(参考)リスト'!$E$25:$E$30
Name 照明施設: '(参考)リスト'!$C$51:$C$53
Name 対象箇所: テーブル1[対象箇所]
Name 対象箇所: テーブル1[対象箇所]
Name 対象箇所: テーブル1[対象箇所]
Name 対象箇所: テーブル1[対象箇所]
Name 対象箇所: テーブル1[対象箇所]
Name 対象箇所: テーブル1[対象箇所]
Name 対象箇所: テーブル1[対象箇所]
Name 対象箇所: テーブル1[対象箇所]
Name 対象箇所: テーブル1[対象箇所]
Name 対象箇所: テーブル1[対象箇所]
Name 対象箇所: テーブル1[対象箇所]
Name 対象箇所: テーブル1[対象箇所]
Name 対象箇所: テーブル1[対象箇所]
Name 対象箇所: テーブル1[対象箇所]
Name 対象箇所: テーブル1[対象箇所]
Name 対象箇所: テーブル1[対象箇所]
Name 対象箇所: テーブル1[対象箇所]
Name 対象箇所: テーブル1[対象箇所]
Name 対象箇所: テーブル1[対象箇所]
Name 対象箇所: テーブル1[対象箇所]
Name 対象箇所: テーブル1[対象箇所]
Name 対象箇所: テーブル1[対象箇所]
Name 対象箇所: テーブル1[対象箇所]
Name 対象箇所: テーブル1[対象箇所]
Name 対象箇所: テーブル1[対象箇所]
Name 対象箇所: テーブル1[対象箇所]
Name 対象箇所: テーブル1[対象箇所]
Name 対象箇所: テーブル1[対象箇所]
Name 対象箇所: テーブル1[対象箇所]
Name 対象箇所: テーブル1[対象箇所]
Name 対象箇所: テーブル1[対象箇所]
Name 対象箇所: テーブル1[対象箇所]
Name 対象箇所: テーブル1[対象箇所]
Name 対象箇所: テーブル1[対象箇所]
Name 対象箇所: テーブル1[対象箇所]
Name 対象箇所: テーブル1[対象箇所]
Name 対象箇所: テーブル1[対象箇所]
Name 対象箇所: テーブル1[対象箇所]
Name 対象箇所: テーブル1[対象箇所]
Name 対象箇所: テーブル1[対象箇所]
Name 対象箇所: テーブル1[対象箇所]
Name 対象箇所: テーブル1[対象箇所]
Name 対象箇所: テーブル1[対象箇所]
Name 対象箇所: テーブル1[対象箇所]
Name 対象箇所: テーブル1[対象箇所]
Name 対象箇所: テーブル1[対象箇所]
Name 対象箇所: テーブル1[対象箇所]
Name 対象箇所: テーブル1[対象箇所]
Name 対象箇所: テーブル1[対象箇所]
Name 対象箇所: テーブル1[対象箇所]
Name 対象箇所: テーブル1[対象箇所]
Name 対象箇所: テーブル1[対象箇所]

Sheet 点検様式作成フロー
A1: 点検様式作成フロ-
A3: 作成フロー図 | H3: 点検調書作成手順
H4: ①様式A-1～A-3（トンネル台帳）
H5: トンネル点検の実施にあたっては，現場点検作業に先行してトンネル情報を収集する。トンネル台帳（様式Ａ－1～様式Ａ－3）はトンネル完成後に作成され，維持管理の段階で引き継がれるが，関連資料等を確認したうえで，追加情報があれば必要に応じて追記することが望ましい。
H9: ②様式D-2-1、様式D-2-1´
H10: 現場点検作業を実施し，近接目視点検で確認した変状状況や補修履歴を忠実に変状展開図に転記する
H12: ③様式D-1-1、様式D-1-2
H13: 変状展開図や撮影した写真等をもとに，対象トンネルの対策区分を判定し，対策区分の判定区分がⅡ～Ⅳの変状および異常判定区分「×」を抽出し，写真台帳を作成する
H16: ④様式B
H17: 写真台帳の作成と同時に，トンネルの構造を展開した位置図に変状写真位置を記録する
H19: ⑤様式D-3
H20: 変状展開図ならびに写真台帳をもとに覆工スパンごとの変状展開図を作成し，変状発生状況をとりまとめる
H22: ⑥様式E-1、様式E-2
H23: 様式Ｄ－1～様式Ｄ－3をもとに，健全性の診断結果を集計する
... H31: ファイルは以下の分割規則に従う。 ※各ファイルとも （参考）リスト のシートを付けて保存すること。 ・様式A-1～A-3は同一ファイルとする。 ・様式B、D-1-1、D-1-2、D-2-1（もしくはD-2-1'）、Eは別ファイルとする。 ・様式C-1-1,C-1-2、C-2は同一ファイルとする。 ・様式D-3、E、Fは同一ファイルとする。

Sheet 変状面積算出方法
A1: 変状面積算出方法
A26: 注1）外力による変状：ひび割れや圧ざの場合は変状の寸法を記録する。
A27: 例）ひび割れ：長さ（L）×最大ひび割れ幅（t）を記録する。 変形，移動，沈下：数値的な記載が可能な場合のみ記載する。
A28: 注2）材料劣化による：打音異常
A29: 例）うき，はく離（閉合ひび割れ）：変状範囲を包括する寸法（L×W） うき，はく離（ひび割れ沿い）：打音異常箇所を包括する寸法（L×W） 鋼材腐食（鉄筋腐食）：一括した対策が適当と考えられる範囲を包括する寸法（L×W）
A30: 注3）漏水による変状：漏水発生範囲を包括し，垂れ下がりの可能性がある側壁下端まで含めた寸法を，L×Wで記録する。打継ぎ目地沿いの 漏水については目地を跨いだ50cm幅を横幅とする。

Sheet 様式A-1
B2: ■トンネル台帳 トンネル諸元、非常用施設諸元 【様式A-1】 | S2: トンネルID | W2: 34.32556,131.12108
B3: フリガナ | D3: オオザサ | H3: 路線名 | J3: 一般県道俵山長門古市停車場線 | P3: 管理者名 | R3: 長門土木建築事務所 | W3: 緊急輸送道路 | Z3: 無
B4: 名 称 | D4: 大笹トンネル | W4: 代替路の有無 | Z4: 無
B5: 所在地 | D5: 自 | E5: 山口県長門市俵山 | H5: 作成者 | K5: 株式会社オリエンタルコンサルタンツ 妹尾 優大 | P5: 作成年月日 | R5: 45331 | U5: トンネル延長 | X5: L= | Z5: 228 | AB5: ｍ
D6: 至 | E6: 山口県長門市日置中 | U6: ﾄﾝﾈﾙの分類 | X6: 陸上トンネル（掘進工法）
B7: 起点 | C7: 緯度 | E7: 341942.3 | H7: 完成年月日 | K7: 23377 | M7: 舗装 | O7: 種 別 | Q7: コンクリート系 | S7: トンネル非常用施設 | T7: 施設の内訳 | X7: 種別・方式 | Y7: 型式 | Z7: 個数 | AA7: 更新年度 | AE7: =INT(E7/10000) -> 34 | AF7: =INT(E7/100)-AE7*100 -> 19 | AG7: =E7-AE7*10000-AF7*100 -> 42.3 | AH7: =ROUND(AE7+AF7/60+AG7/60/60,5) -> 34.32842 | AI7: =TEXT(AH7,"0.00000") -> 34.32842
C8: 経度 | E8: 1310707.9 | H8: 供用年月日 | O8: 厚 さ | T8: 通報設備 | U8: 通話型通報設備 | AE8: =INT(E8/10000) -> 131 | AF8: =INT(E8/100)-AE8*100 -> 7 | AG8: =E8-AE8*10000-AF8*100 -> 7.9 | AH8: =ROUND(AE8+AF8/60+AG8/60/60,5) -> 131.11886 | AI8: =TEXT(AH8,"0.00000") -> 131.11886
B9: 終点 | C9: 緯度 | E9: 341948.6 | H9: トンネル区分 | O9: 面 積 | Q9: 1254 | U9: 操作型通報設備
C10: 経度 | E10: 1310713 | H10: 内装種類 | K10: 覆工（内装なし） | O10: 更新年次 | U10: 自動通報設備
B11: 一般有料区分 | E11: 無料 | H11: 天井板種類 | M11: 排水 | O11: 種 別 | T11: 警報設備 | U11: 非常警報設備
B12: 土かぶり | G12: m | H12: 坑門 | I12: 起点 | J12: 形式 | K12: 面壁型 | O12: 更新年次 | T12: 消火設備 | U12: 消 火 器
B13: 内空断面積 | G13: ㎡ | J13: 延長 | L13: m | M13: 施設 | P13: 種別・方式 | Q13: 個数 | R13: 更新年次 | U13: 消火栓設備
B14: 交 通 量 | E14: 1963 | G14: 台/日 | I14: 終点 | J14: 形式 | K14: 面壁型 | M14: 道路附属物等 | N14: 照明 | Q14: 15 | T14: 避難誘導設備 | U14: 誘導表示設備
C15: 道 路 幅 | E15: 5.5 | G15: m | J15: 延長 | L15: m | N15: 換気 | U15: 避難情報提供設備
B16: 幅 員 | C16: 車 道 幅 | E16: 5.5 | G16: m | H16: 竣工巻厚 | I16: アーチ | L16: cm | N16: 標識
G17: m | I17: 側 壁 | L17: cm | N17: 警報表示板 | U17: 避難通路
C18: 歩道等幅 | E18: 0 | G18: m | L18: cm | N18: 吸音板 | U18: 排煙設備
B19: 高さ | C19: 建築限界高 | E19: 4.5 | G19: m | I19: インバート | L19: cm | T19: その他の設備 | U19: 給水栓設備
C20: 中央高 | G20: m | H20: 半径 | I20: アーチ | L20: cm | U20: 無線通信補助設備
C21: 有効高 | E21: 4.5 | G21: m | I21: 側 壁 | L21: cm | U21: 水噴霧設備
C22: 縦断勾配 | I22: インバート | L22: cm | U22: 監視設備
B23: 線 形 | C23: 直線区間長 | H23: 占用物件 | I23: 種 類 | K23: 寸 法 | M23: 管理者名 | Q23: 更新年次 | S23: 非常用施設 関連設備 | U23: 予備発電設備
C24: 曲線区間 | D24: 区間長
D25: 起点側ｸﾛｿｲﾄﾞ
D26: 曲線半径
D27: 終点側ｸﾛｿｲﾄﾞ | S27: その他 | U27: 非常駐車帯
B28: トンネル工法 | E28: 矢板工法 | U28: 方向転換所
C29: ※緯度・経度については、秒の少数第二位の単位まで記入すること。（例；36度20分35.56秒の場合、362035.36と入力）

Sheet 様式A-2
B3: ■トンネル台帳 トンネル情報一覧表 【様式A-2】
B4: フリガナ | E4: ='様式A-1'!D3 -> オオザサ | J4: 路線名 | M4: ='様式A-1'!J3 -> 一般県道俵山長門古市停車場線 | S4: 作成者 | Y4: ='様式A-1'!K5 -> 株式会社オリエンタルコンサルタンツ 妹尾 優大 | AE4: 作成年月日 | AI4: ='様式A-1'!R5 -> 45331
B5: 名 称 | E5: ='様式A-1'!D4 -> 大笹トンネル | J5: 管理者名 | M5: ='様式A-1'!R3 -> 長門土木建築事務所
B6: 覆工 ｽﾊﾟﾝ 番号 | C6: ｽﾊﾟﾝ長 | D6: 追加距離 | F6: トンネル本体工 | K6: 照明施設 | O6: 非常用施設 | AE6: 換気施設 | AK6: その他附属物等
O7: ='様式A-1'!T8 -> 通報設備 | R7: ='様式A-1'!T11 -> 警報設備 | S7: ='様式A-1'!T12 -> 消火設備 | U7: ='様式A-1'!T14 -> 避難誘導設備 | Y7: ='様式A-1'!T19 -> その他の設備 | AC7: 特記事項
D8: 起点側 | E8: 終点側 | F8: 特記事項 | I8: 内装板 | J8: 天井板 | K8: 基本照明 | L8: 入口出口照明 | M8: 特記事項 | O8: ='様式A-1'!U8 -> 通話型通報設備 | P8: ='様式A-1'!U9 -> 操作型通報設備 | Q8: ='様式A-1'!U10 -> 自動通報設備 | R8: ='様式A-1'!U11 -> 非常警報設備 | S8: ='様式A-1'!U12 -> 消 火 器 | T8: ='様式A-1'!U13 -> 消火栓設備 | U8: ='様式A-1'!U14 -> 誘導表示設備 | V8: ='様式A-1'!U15 -> 避難情報提供設備 | W8: ='様式A-1'!U17 -> 避難通路 | X8: ='様式A-1'!U18 -> 排煙設備 | Y8: ='様式A-1'!U19 -> 給水栓設備 | Z8: ='様式A-1'!U20 -> 無線通信補助設備 | AA8: ='様式A-1'!U21 -> 水噴霧設備 | AB8: ='様式A-1'!U22 -> 監視設備 | AE8: JF | AF8: VI計 | AG8: CO計 | AH8: 風向 風速計 | AI8: 特記事項
C9: (m) | D9: (m) | E9: (m)
B10: PS | D10: 0 | F10: 坑門(面壁型)
B11: S1 | C11: 10 | D11: 0 | E11: 10
B12: S2 | C12: 4.23 | D12: 10 | E12: 14.23
B13: S3 | C13: 4.39 | D13: 14.23 | E13: 18.62 | K13: ○
B14: S4 | C14: 3.26 | D14: 18.62 | E14: 21.88
B15: S5 | C15: 6.62 | D15: 21.88 | E15: 28.5 | K15: ○
B16: S6 | C16: 3.32 | D16: 28.5 | E16: 31.82
B17: S7 | C17: 3.32 | D17: 31.82 | E17: 35.14
B18: S8 | C18: 3.3 | D18: 35.14 | E18: 38.44 | K18: ○
B19: S9 | C19: 3.3 | D19: 38.44 | E19: 41.74
B20: S10 | C20: 3.27 | D20: 41.74 | E20: 45.01
B21: S11 | C21: 6.1 | D21: 45.01 | E21: 51.11
B22: S12 | C22: 3.35 | D22: 51.11 | E22: 54.46 | K22: ○
B23: S13 | C23: 3.28 | D23: 54.46 | E23: 57.74
B24: S14 | C24: 3.35 | D24: 57.74 | E24: 61.09
B25: S15 | C25: 5.5 | D25: 61.09 | E25: 66.59 | K25: ○
B26: S16 | C26: 4.42 | D26: 66.59 | E26: 71.01
B27: S17 | C27: 4.4 | D27: 71.01 | E27: 75.41
B28: S18 | C28: 3.3 | D28: 75.41 | E28: 78.71
B29: S19 | C29: 3.3 | D29: 78.71 | E29: 82.01
B30: S20 | C30: 4.4 | D30: 82.01 | E30: 86.41
B31: S21 | C31: 4.4 | D31: 86.41 | E31: 90.81
B32: S22 | C32: 5.55 | D32: 90.81 | E32: 96.36 | K32: ○
B33: S23 | C33: 5.4 | D33: 96.36 | E33: 101.76
B34: S24 | C34: 3.3 | D34: 101.76 | E34: 105.06
B35: S25 | C35: 4.42 | D35: 105.06 | E35: 109.48 | K35: ○
B36: S26 | C36: 2.18 | D36: 109.48 | E36: 111.66
B37: S27 | C37: 10 | D37: 111.66 | E37: 121.66
B38: S28 | C38: 10 | D38: 121.66 | E38: 131.66
B39: S29 | C39: 4.35 | D39: 131.66 | E39: 136.01
B40: S30 | C40: 4.43 | D40: 136.01 | E40: 140.44 | K40: ○
B41: 31 | C41: 3.27 | D41: 140.44 | E41: 143.71
B42: 32 | C42: 3.31 | D42: 143.71 | E42: 147.02
...

Sheet 様式A-3
B3: ■トンネル台帳 トンネル記録（位置図、断面図、施工実績他）【様式A-3】
B4: フリガナ | E4: ='様式A-1'!D3 -> オオザサ | J4: 路線名 | M4: ='様式A-1'!J3 -> 一般県道俵山長門古市停車場線 | S4: 作成者 | W4: ='様式A-1'!K5 -> 株式会社オリエンタルコンサルタンツ 妹尾 優大 | AC4: 作成年月日 | AF4: ='様式A-1'!R5 -> 45331
B5: 名 称 | E5: ='様式A-1'!D4 -> 大笹トンネル | J5: 管理者名 | M5: ='様式A-1'!R3 -> 長門土木建築事務所
B6: 位置図・現況写真・標準断面図・地質縦断図・施工実績

Sheet 様式B
B2: ■定期点検記録様式 トンネル変状・異常箇所写真位置図 【様式B】 | T2: トンネルID | V2: 34.32556,131.12108
B3: フリガナ | D3: オオザサ | H3: 路線名 | J3: 一般県道俵山長門古市停車場線 | N3: 管理者名 | P3: 長門土木建築事務所 | T3: 緊急輸送道路 | V3: 無
B4: 名 称 | D4: 大笹トンネル | T4: 代替路の有無 | V4: 無
B5: 所在地 | D5: 自 | E5: 山口県長門市俵山 | H5: 定期点検業者 | K5: 株式会社オリエンタルコンサルタンツ | O5: 定期点検年月日 | Q5: 45271 | T5: トンネル延長 | V5: L= | W5: ='様式A-1'!Z5 -> 228 | Y5: ｍ
D6: 至 | E6: 山口県長門市日置中 | H6: 定期点検者名 | K6: 妹尾 優大 | T6: ﾄﾝﾈﾙの分類 | V6: 陸上トンネル（掘進工法）
B7: 起点 | C7: 緯度 | D7: 341942.3 | F7: 変状・異常 箇所数合計 | H7: トンネル 本体工 | J7: 材質劣化 | L7: Ⅱ | M7: 58 | N7: Ⅲ | O7: 3 | P7: Ⅳ | R7: トンネル毎 の健全性 | T7: Ⅲ | V7: 附属物の 取付状態 | W7: ◯ （応急措置後） | Y7: 3
C10: 経度 | D10: 1310707.9
J11: 漏水 | L11: Ⅱ | M11: 22 | N11: Ⅲ | P11: Ⅳ
B13: 終点 | C13: 緯度 | D13: 341948.6 | W13: ✕ | Y13: 27
J15: 外力 | L15: Ⅱ | N15: Ⅲ | P15: Ⅳ | AC15: 0
C16: 経度 | D16: 1310713
B19: トンネル変状・異常箇所写真位置図
P26: 注１：本位置図は、見下げた状態で記載すること。 注２：覆工スパン番号は横断目地毎(矢板工法の場合は上半アーチ の横断目地毎)に設定すること。 注３：写真番号に付する変状番号は、各覆工スパンの変状に対して新た に確認された場合は順次追加していくこと。 注４：横断目地の変状は前の覆工スパン番号で計上すること。 注５：１枚に収まらない場合は、複数枚に分けて作成すること。
C28: ※1 トンネル本体工の変状数は、材質劣化、漏水に起因するものは変状単位で、外力に起因するものはスパン単位で計上すること。
C29: ※2 本体工の変状に対しては、健全性の判定区分Ⅱ～Ⅳについて表記すること。なお、初回点検（H26以降）以降に、措置が行われた結果、
C30: Ⅰと判定された箇所についても記載すること。
C31: ※3 附属物の取付状態の○欄については、応急措置前に判定区分×とした箇所のうち応急措置により○判定とした箇所の数を記入すること。
C32: ※4 附属物の異常番号は、本体工と番号が重複しないよう101番以降とする等の配慮を行い、分かりやすく記録すること。

Sheet 様式B (2)
B2: ■定期点検記録様式 トンネル変状・異常箇所写真位置図 【様式B】 | T2: トンネルID | V2: 34.32556,131.12108
B3: フリガナ | D3: オオザサ | H3: 路線名 | J3: 一般県道俵山長門古市停車場線 | N3: 管理者名 | P3: 長門土木建築事務所 | T3: 緊急輸送道路 | V3: 無
B4: 名 称 | D4: 大笹トンネル | T4: 代替路の有無 | V4: 無
B5: 所在地 | D5: 自 | E5: 山口県長門市俵山 | H5: 定期点検業者 | K5: 株式会社オリエンタルコンサルタンツ | O5: 定期点検年月日 | Q5: 45271 | T5: トンネル延長 | V5: L= | W5: ='様式A-1'!Z5 -> 228 | Y5: ｍ
D6: 至 | E6: 山口県長門市日置中 | H6: 定期点検者名 | K6: 妹尾 優大 | T6: ﾄﾝﾈﾙの分類 | V6: 陸上トンネル（掘進工法）
B7: 起点 | C7: 緯度 | D7: 341942.3 | F7: 変状・異常 箇所数合計 | H7: トンネル 本体工 | J7: 材質劣化 | L7: Ⅱ | M7: 58 | N7: Ⅲ | O7: 3 | P7: Ⅳ | R7: トンネル毎 の健全性 | T7: Ⅲ | V7: 附属物の 取付状態 | W7: ◯ （応急措置後） | Y7: 3
C10: 経度 | D10: 1310707.9
J11: 漏水 | L11: Ⅱ | M11: 22 | N11: Ⅲ | P11: Ⅳ
B13: 終点 | C13: 緯度 | D13: 341948.6 | W13: ✕ | Y13: 27
J15: 外力 | L15: Ⅱ | N15: Ⅲ | P15: Ⅳ | AC15: 0
C16: 経度 | D16: 1310713
B19: トンネル変状・異常箇所写真位置図
P26: 注１：本位置図は、見下げた状態で記載すること。 注２：覆工スパン番号は横断目地毎(矢板工法の場合は上半アーチ の横断目地毎)に設定すること。 注３：写真番号に付する変状番号は、各覆工スパンの変状に対して新た に確認された場合は順次追加していくこと。 注４：横断目地の変状は前の覆工スパン番号で計上すること。 注５：１枚に収まらない場合は、複数枚に分けて作成すること。
C28: ※1 トンネル本体工の変状数は、材質劣化、漏水に起因するものは変状単位で、外力に起因するものはスパン単位で計上すること。
C29: ※2 本体工の変状に対しては、健全性の判定区分Ⅱ～Ⅳについて表記すること。なお、初回点検（H26以降）以降に、措置が行われた結果、
C30: Ⅰと判定された箇所についても記載すること。
C31: ※3 附属物の取付状態の○欄については、応急措置前に判定区分×とした箇所のうち応急措置により○判定とした箇所の数を記入すること。
C32: ※4 附属物の異常番号は、本体工と番号が重複しないよう101番以降とする等の配慮を行い、分かりやすく記録すること。

Sheet 様式B (3)
B2: ■定期点検記録様式 トンネル変状・異常箇所写真位置図 【様式B】 | T2: トンネルID | V2: 34.32556,131.12108
B3: フリガナ | D3: オオザサ | H3: 路線名 | J3: 一般県道俵山長門古市停車場線 | N3: 管理者名 | P3: 長門土木建築事務所 | T3: 緊急輸送道路 | V3: 無
B4: 名 称 | D4: 大笹トンネル | T4: 代替路の有無 | V4: 無
B5: 所在地 | D5: 自 | E5: 山口県長門市俵山 | H5: 定期点検業者 | K5: 株式会社オリエンタルコンサルタンツ | O5: 定期点検年月日 | Q5: 45271 | T5: トンネル延長 | V5: L= | W5: ='様式A-1'!Z5 -> 228 | Y5: ｍ
D6: 至 | E6: 山口県長門市日置中 | H6: 定期点検者名 | K6: 妹尾 優大 | T6: ﾄﾝﾈﾙの分類 | V6: 陸上トンネル（掘進工法）
B7: 起点 | C7: 緯度 | D7: 341942.3 | F7: 変状・異常 箇所数合計 | H7: トンネル 本体工 | J7: 材質劣化 | L7: Ⅱ | M7: 58 | N7: Ⅲ | O7: 3 | P7: Ⅳ | R7: トンネル毎 の健全性 | T7: Ⅲ | V7: 附属物の 取付状態 | W7: ◯ （応急措置後） | Y7: 3
C10: 経度 | D10: 1310707.9
J11: 漏水 | L11: Ⅱ | M11: 22 | N11: Ⅲ | P11: Ⅳ
B13: 終点 | C13: 緯度 | D13: 341948.6 | W13: ✕ | Y13: 27
J15: 外力 | L15: Ⅱ | N15: Ⅲ | P15: Ⅳ | AC15: 0
C16: 経度 | D16: 1310713
B19: トンネル変状・異常箇所写真位置図
P26: 注１：本位置図は、見下げた状態で記載すること。 注２：覆工スパン番号は横断目地毎(矢板工法の場合は上半アーチ の横断目地毎)に設定すること。 注３：写真番号に付する変状番号は、各覆工スパンの変状に対して新た に確認された場合は順次追加していくこと。 注４：横断目地の変状は前の覆工スパン番号で計上すること。 注５：１枚に収まらない場合は、複数枚に分けて作成すること。
C28: ※1 トンネル本体工の変状数は、材質劣化、漏水に起因するものは変状単位で、外力に起因するものはスパン単位で計上すること。
C29: ※2 本体工の変状に対しては、健全性の判定区分Ⅱ～Ⅳについて表記すること。なお、初回点検（H26以降）以降に、措置が行われた結果、
C30: Ⅰと判定された箇所についても記載すること。
C31: ※3 附属物の取付状態の○欄については、応急措置前に判定区分×とした箇所のうち応急措置により○判定とした箇所の数を記入すること。
C32: ※4 附属物の異常番号は、本体工と番号が重複しないよう101番以降とする等の配慮を行い、分かりやすく記録すること。

Sheet 様式C-1-1
B2: ■定期点検記録様式 全スパン定期点検結果総括表（トンネル本体工） 【様式C-1-1】
B3: フリガナ | F3: オオザサ | I3: 路線名 | K3: 一般県道俵山長門古市停車場線 | O3: 定期点検業者 | Q3: 株式会社オリエンタルコンサルタンツ | U3: 定期点検年月日 | Y3: 45271
B4: 名 称 | F4: 大笹トンネル | I4: 管理者名 | K4: 長門土木建築事務所 | O4: 定期点検者名 | Q4: 妹尾 優大
C5: 覆工 スパン 番号 | E5: 変状 番号 | F5: 距離 （m） | G5: 変状部位 | I5: 変 状 の 内 容 | O5: 前回定期点検時の状態 | Q5: 今回定期点検結果 | U5: 措置履歴 | Z5: 対応方針 ・ 特記事項
G7: 対象箇所 | H7: 部位区分 | I7: 変状区分 | J7: 変状種類 | M7: 変状の発生範囲の規模 | N7: 前回定期点検時 との比較 | O7: 状態 | P7: 健全性 | Q7: 対策区分 | S7: 調査の 要否 | T7: 措置の 要否 | U7: 実施 | V7: 措置の実施状況
Q8: 応急措置前 | R8: 応急措置後
B9: 定期点検結果 | C9: PS | E9: 1 | G9: 覆工・坑門 | H9: 面壁・妻壁等 | I9: 漏水 | J9: 漏水 | M9: 4.8m×1.0m | N9: 進行が認められない | O9: Ⅱb | P9: Ⅱ | R9: Ⅱb | S9: 要 | T9: 要監視 | U9: 継続 | V9: 監視(日常巡視) | Z9: にじみ
C10: PS | E10: 2 | G10: 覆工・坑門 | H10: 面壁・妻壁等 | I10: 材質劣化 | J10: うき・はく離 | M10: 0.05m×0.4m | N10: 進行が認められない | O10: Ⅲ | P10: Ⅲ | R10: Ⅲ | S10: 要 | T10: 要対策 | U10: 継続 | V10: 監視(重点) | Z10: うき
C11: PS | E11: 3 | G11: 覆工・坑門 | H11: 面壁・妻壁等 | I11: 材質劣化 | J11: うき・はく離 | M11: 0.05m×0.2m | N11: 進行が認められない | O11: Ⅲ | P11: Ⅲ | R11: Ⅲ | S11: 要 | T11: 要対策 | U11: 継続 | V11: 監視(重点) | Z11: うき
C12: PS | E12: 4 | G12: 覆工・坑門 | H12: 面壁・妻壁等 | I12: 材質劣化 | J12: うき・はく離 | M12: 0.05m×0.05m | N12: 進行が認められない | O12: Ⅱb | P12: Ⅱ | R12: Ⅱb | S12: 要 | T12: 要監視 | U12: 継続 | V12: 監視(日常巡視) | Z12: はく落
C13: PS | E13: 5 | G13: 覆工・坑門 | H13: 面壁・妻壁等 | I13: 漏水 | J13: 漏水 | M13: 4.9m×0.75m | N13: 進行が認められない | O13: Ⅱb | P13: Ⅱ | R13: Ⅱb | S13: 要 | T13: 要監視 | U13: 継続 | V13: 監視(日常巡視) | Z13: にじみ
C14: S001 | E14: 1 | F14: 10 | G14: 覆工・坑門 | H14: 側壁（左側） | I14: 材質劣化 | J14: うき・はく離 | M14: 0.1m×1.3m | N14: 進行が認められない | O14: Ⅱb | P14: Ⅱ | R14: Ⅱb | S14: 要 | T14: 要監視 | U14: 継続 | V14: 監視(日常巡視) | Z14: はく落
C15: S001 | E15: 2 | F15: 10 | G15: 覆工・坑門 | H15: 側壁（左側） | I15: 材質劣化 | J15: うき・はく離 | M15: 1.4m×0.2m | N15: 進行が認められる | O15: Ⅱb | P15: Ⅱ | R15: Ⅱb | S15: 要 | T15: 要監視 | U15: 継続 | V15: 監視(日常巡視) | Z15: はく落
C16: S001 | E16: 3 | F16: 10 | G16: 覆工・坑門 | H16: 側壁（左側） | I16: 材質劣化 | J16: うき・はく離 | M16: 1.8m×9.5m | N16: 新規確認 | O16: － | P16: － | R16: Ⅱb | S16: 要 | T16: 要監視 | U16: 継続 | V16: 監視(日常巡視) | Z16: うき
C17: S001 | E17: 4 | F17: 10 | G17: 覆工・坑門 | H17: アーチ（左側） | I17: 材質劣化 | J17: うき・はく離 | M17: 0.6m×0.2m | N17: 新規確認 | O17: － | P17: － | R17: Ⅱa | S17: 要 | T17: 要監視 | U17: 継続 | V17: 監視(日常巡視) | Z17: うき
C18: S001 | E18: 5 | F18: 10 | G18: 覆工・坑門 | H18: アーチ（左側） | I18: 漏水 | J18: 漏水 | M18: 対策済 | N18: 対策済 | O18: Ⅱb | P18: Ⅱ | R18: Ⅰ | S18: 否 | T18: 否 | U18: 済 | V18: 導水工新設により対策済
C19: S001 | E19: 6 | F19: 10 | G19: 覆工・坑門 | H19: アーチ（左側） | I19: 材質劣化 | J19: うき・はく離 | M19: 4.0m×6.0m | N19: 進行が認められる | O19: Ⅱa | P19: Ⅱ | R19: Ⅱa | S19: 要 | T19: 要監視 | U19: 継続 | V19: 監視(日常巡視) | Z19: うき
C20: S001 | E20: 7 | F20: 10 | G20: 覆工・坑門 | H20: アーチ（左側） | I20: 漏水 | J20: 漏水 | M20: - | N20: - | O20: Ⅱb | P20: Ⅱ | R20: Ⅰ | S20: 否 | T20: 否 | U20: 済 | V20: - | Z20: 漏水跡
C21: S001 | E21: 8 | F21: 10 | G21: 覆工・坑門 | H21: アーチ（左側） | I21: 漏水 | J21: 漏水 | M21: 6.2m×0.5m | N21: 新規確認 | O21: － | P21: － | R21: Ⅱa | S21: 要 | T21: 要監視 | U21: 継続 | V21: 監視(日常巡視) | Z21: 滴水
C22: S001 | E22: 9 | F22: 10 | G22: 覆工・坑門 | H22: アーチ（左側） | I22: 漏水 | J22: 漏水 | M22: 4.5m×0.5m | N22: 新規確認 | O22: － | P22: － | R22: Ⅱb | S22: 要 | T22: 要監視 | U22: 継続 | V22: 監視(日常巡視) | Z22: にじみ
C23: S001 | E23: 10 | F23: 10 | G23: 覆工・坑門 | H23: アーチ（左側） | I23: 材質劣化 | J23: うき・はく離 | M23: 4.0m×6.5m | N23: 新規確認 | O23: － | P23: － | R23: Ⅱa | S23: 要 | T23: 要監視 | U23: 継続 | V23: 監視(日常巡視) | Z23: うき
C24: S001 | E24: 11 | F24: 10 | G24: 覆工・坑門 | H24: アーチ（右側） | I24: 材質劣化 | J24: うき・はく離 | M24: 3.0m×3.7m | N24: 新規確認 | O24: － | P24: － | R24: Ⅱa | S24: 要 | T24: 要監視 | U24: 継続 | V24: 監視(日常巡視) | Z24: うき
C25: S001 | E25: 12 | F25: 10 | G25: 覆工・坑門 | H25: アーチ（天端） | I25: 漏水 | J25: 漏水 | M25: 対策済 | N25: 対策済 | O25: Ⅲ | P25: Ⅲ | R25: Ⅰ | S25: 否 | T25: 否 | U25: 済 | V25: 導水工新設により対策済
C26: S001 | E26: 13 | F26: 10 | G26: 覆工・坑門 | H26: アーチ（右側） | I26: 漏水 | J26: 漏水 | M26: 5.5m×0.5m | N26: 新規確認 | O26: － | P26: － | R26: Ⅱa | S26: 要 | T26: 要監視 | U26: 継続 | V26: 監視(日常巡視) | Z26: 滴水
C27: S001 | E27: 14 | F27: 10 | G27: 覆工・坑門 | H27: アーチ（右側） | I27: 漏水 | J27: 漏水 | M27: 4.5m×0.5m | N27: 進行が認められない | O27: Ⅱb | P27: Ⅱ | R27: Ⅱb | S27: 要 | T27: 要監視 | U27: 継続 | V27: 監視(日常巡視) | Z27: にじみ
C28: S001 | E28: 15 | F28: 10 | G28: 路面 | H28: 側溝 | I28: 漏水 | J28: 滞水 | M28: 0.6m×6.5m | N28: 進行が認められない | O28: Ⅱb | P28: Ⅱ | R28: － | S28: 要 | T28: 要監視 | U28: 継続 | V28: 監視(日常巡視) | Z28: 滞水
C29: S001 | E29: 16 | F29: 10 | G29: 路面 | H29: 車道 | I29: 漏水 | J29: 滞水 | M29: 0.8m×0.8m | N29: 進行が認められない | O29: Ⅲ | P29: Ⅲ | R29: － | S29: 要 | T29: 要監視 | U29: 継続 | V29: 監視(日常巡視) | Z29: 滞水
C30: S001 | E30: 17 | F30: 10 | G30: 路面 | H30: 側溝 | I30: 漏水 | J30: 滞水 | M30: 0.9m×5.0m | N30: 進行が認められない | O30: Ⅱb | P30: Ⅱ | R30: － | S30: 要 | T30: 要監視 | U30: 継続 | V30: 監視(日常巡視) | Z30: 滞水
C31: S002 | E31: 1 | F31: 4.23 | G31: 覆工・坑門 | H31: 側壁（左側） | I31: 材質劣化 | J31: うき・はく離 | M31: 1.8m×1.4m | N31: 新規確認 | O31: － | P31: － | R31: Ⅱb | S31: 要 | T31: 要監視 | U31: 継続 | V31: 監視(日常巡視) | Z31: うき
C32: S002 | E32: 2 | F32: 4.23 | G32: 覆工・坑門 | H32: アーチ（右側） | I32: 材質劣化 | J32: うき・はく離 | M32: 2.6m×2.5m | N32: 新規確認 | O32: － | P32: － | R32: Ⅱa | S32: 要 | T32: 要監視 | U32: 継続 | V32: 監視(日常巡視) | Z32: うき
C33: S002 | E33: 3 | F33: 4.23 | G33: 路面 | H33: 側溝 | I33: 漏水 | J33: 滞水 | M33: - | N33: - | O33: Ⅲ | P33: Ⅲ | R33: － | S33: 否 | T33: 否 | U33: 済 | V33: - | Z33: 滞水跡
C34: S002 | E34: 4 | F34: 4.23 | G34: 路面 | H34: 車道 | I34: 漏水 | J34: 滞水 | M34: - | N34: - | O34: Ⅲ | P34: Ⅲ | R34: － | S34: 否 | T34: 否 | U34: 済 | V34: - | Z34: 滞水跡
C35: S003 | E35: 1 | F35: 4.39 | G35: 覆工・坑門 | H35: 側壁（左側） | I35: 漏水 | J35: 漏水 | M35: 0.5m×0.5m | N35: 進行が認められない | O35: Ⅱb | P35: Ⅱ | R35: Ⅱb | S35: 要 | T35: 要監視 | U35: 継続 | V35: 監視(日常巡視) | Z35: にじみ
C36: S003 | E36: 2 | F36: 4.39 | G36: 覆工・坑門 | H36: アーチ（左側） | I36: 漏水 | J36: 漏水 | M36: 対策済 | N36: 対策済 | O36: Ⅱb | P36: Ⅱ | R36: Ⅰ | S36: 否 | T36: 否 | U36: 済 | V36: 導水工新設により対策済
C37: S003 | E37: 3 | F37: 4.39 | G37: 覆工・坑門 | H37: 横断目地（右側） | I37: 材質劣化 | J37: うき・はく離 | M37: 対策済 | N37: 対策済 | O37: Ⅲ | P37: Ⅲ | R37: Ⅰ | S37: 否 | T37: 否 | U37: 済 | V37: 導水工新設により対策済
C38: S003 | E38: 4 | F38: 4.39 | G38: 覆工・坑門 | H38: アーチ（右側） | I38: 材質劣化 | J38: その他 | M38: 0.2m×0.2m | N38: 進行が認められない | O38: Ⅱb | P38: Ⅱ | R38: Ⅱb | S38: 要 | T38: 要監視 | U38: 継続 | V38: 監視(日常巡視) | Z38: 異物混入(木片)
C39: S003 | E39: 5 | F39: 4.39 | G39: 覆工・坑門 | H39: アーチ（右側） | I39: 漏水 | J39: 漏水 | M39: 対策済 | N39: 対策済 | O39: Ⅱb | P39: Ⅱ | R39: Ⅰ | S39: 否 | T39: 否 | U39: 済 | V39: 導水工新設により対策済
C40: S003 | E40: 6 | F40: 4.39 | G40: 覆工・坑門 | H40: アーチ（右側） | I40: 材質劣化 | J40: うき・はく離 | M40: 対策済 | N40: 対策済 | O40: Ⅱa | P40: Ⅱ | R40: Ⅰ | S40: 否 | T40: 否 | U40: 済 | V40: 導水工新設により対策済
C41: S003 | E41: 7 | F41: 4.39 | G41: 路面 | H41: 側溝 | I41: 漏水 | J41: 滞水 | M41: 0.4m×0.9m | N41: 進行が認められない | O41: Ⅲ | P41: Ⅲ | R41: － | S41: 要 | T41: 要監視 | U41: 継続 | V41: 監視(日常巡視) | Z41: 滞水
C42: S003 | E42: 8 | F42: 4.39 | G42: 路面 | H42: 側溝 | I42: 漏水 | J42: 滞水 | M42: 0.3m×1.2m | N42: 進行が認められない | O42: Ⅲ | P42: Ⅲ | R42: － | S42: 要 | T42: 要監視 | U42: 継続 | V42: 監視(日常巡視) | Z42: 滞水
...

Sheet 様式C-1-2
B2: ■定期点検記録様式 定期点検結果総括表（トンネル内附属物等の取付状態） 【様式C-1-2】
B3: フリガナ | F3: オオザサ | J3: 路線名 | L3: 一般県道俵山長門古市停車場線 | O3: 定期点検業者 | Q3: 株式会社オリエンタルコンサルタンツ | U3: 定期点検年月日 | Y3: 45271
B4: 名 称 | F4: 大笹トンネル | J4: 管理者名 | L4: 長門土木建築事務所 | O4: 定期点検者名 | Q4: 妹尾 優大
B5: 定期点検結果 | C5: 覆工 スパン 番号 | E5: 異常 番号 | F5: 距離 （m） | G5: 異常部位 | J5: 異 常 の 内 容 | P5: 定期点検結果 | R5: 応急措置の 実施状況 | X5: 対応方針 ・ 特記事項
G6: 対象箇所 | I6: 部位区分 | J6: 異常種類 | N6: 異常の発生範囲の規模 | P6: 異常判定区分 | R6: 実施 | S6: 応急措置の内容
P7: 応急措置前 | Q7: 応急措置後
C8: S008 | E8: 101 | F8: 3.3 | G8: 照明施設 | H8: 灯具 | I8: 取付部材 | J8: 腐食 | N8: 4箇所 | Q8: × | R8: 未 | X8: 取付金具腐食
C9: S008 | E9: 102 | F9: 3.3 | G9: 照明施設 | H9: ケーブル類 | I9: 取付部材 | J9: 変形，欠損 | N9: 2箇所 | Q9: × | R9: 未 | X9: 取付金具欠損
C10: S011 | E10: 101 | F10: 6.1 | G10: 照明施設 | H10: ケーブル類 | I10: 取付部材 | J10: 変形，欠損 | Q10: ○ | R10: 済 | X10: 欠損補修済
C11: S012 | E11: 101 | F11: 3.35 | G11: 照明施設 | H11: 灯具 | I11: 取付部材 | J11: 腐食 | N11: 4箇所 | Q11: × | R11: 未 | X11: 取付金具腐食
C12: S015 | E12: 101 | F12: 5.5 | G12: 照明施設 | H12: 灯具 | I12: 取付部材 | J12: 腐食 | N12: 2箇所 | Q12: × | R12: 未 | X12: 取付金具腐食
C13: S019 | E13: 101 | F13: 3.3 | G13: 照明施設 | H13: 灯具 | I13: 附属物本体 | J13: 変形，欠損 | Q13: ○ | R13: 済 | X13: 灯具撤去済
C14: S022 | E14: 101 | F14: 5.55 | G14: 照明施設 | H14: 灯具 | I14: 取付部材 | J14: 腐食 | N14: 4箇所 | Q14: × | R14: 未 | X14: 取付金具腐食
C15: S027 | E15: 101 | F15: 10 | G15: 照明施設 | H15: ケーブル類 | I15: 取付部材 | J15: 変形，欠損 | N15: 1箇所 | Q15: × | R15: 未 | X15: 取付金具欠損
C16: S027 | E16: 102 | F16: 10 | G16: 照明施設 | H16: 灯具 | I16: 附属物本体 | J16: 変形，欠損 | Q16: ○ | R16: 済 | X16: 灯具撤去済
C17: S030 | E17: 101 | F17: 4.43 | G17: 照明施設 | H17: 灯具 | I17: 取付部材 | J17: 腐食 | N17: 4箇所 | Q17: × | R17: 未 | X17: 取付金具腐食
C18: S031 | E18: 101 | F18: 3.27 | G18: 照明施設 | H18: ケーブル類 | I18: 取付部材 | J18: 変形，欠損 | N18: 1箇所 | Q18: × | R18: 未 | X18: 取付金具欠損
C19: S032 | E19: 101 | F19: 3.31 | G19: 照明施設 | H19: ケーブル類 | I19: 取付部材 | J19: 変形，欠損 | N19: 4箇所 | Q19: × | R19: 未 | X19: 取付金具欠損
C20: S034 | E20: 101 | F20: 10 | G20: 照明施設 | H20: ケーブル類 | I20: 取付部材 | J20: 変形，欠損 | N20: 1箇所 | Q20: × | R20: 未 | X20: 取付金具欠損
C21: S035 | E21: 101 | F21: 10 | G21: 照明施設 | H21: ケーブル類 | I21: 取付部材 | J21: 変形，欠損 | N21: 1箇所 | Q21: × | R21: 未 | X21: 取付金具欠損
C22: S036 | E22: 101 | F22: 10 | G22: 照明施設 | H22: ケーブル類 | I22: 取付部材 | J22: 変形，欠損 | N22: 4箇所 | Q22: × | R22: 未 | X22: 取付金具欠損
C23: S036 | E23: 102 | F23: 10 | G23: 照明施設 | H23: 灯具 | I23: 取付部材 | J23: 腐食 | N23: 4箇所 | Q23: × | R23: 未 | X23: 取付金具腐食
C24: S036 | E24: 103 | F24: 10 | G24: 照明施設 | H24: ケーブル類 | I24: 取付部材 | J24: 変形，欠損 | N24: 3箇所 | Q24: × | R24: 未 | X24: 取付金具欠損
C25: S037 | E25: 101 | F25: 10 | G25: 照明施設 | H25: ケーブル類 | I25: 取付部材 | J25: 変形，欠損 | N25: 3箇所 | Q25: × | R25: 未 | X25: 取付金具欠損
C26: S037 | E26: 102 | F26: 10 | G26: 照明施設 | H26: ケーブル類 | I26: 取付部材 | J26: 変形，欠損 | N26: 1箇所 | Q26: × | R26: 未 | X26: 取付金具欠損
C27: S038 | E27: 101 | F27: 10 | G27: 照明施設 | H27: ケーブル類 | I27: 取付部材 | J27: 変形，欠損 | N27: 2箇所 | Q27: × | R27: 未 | X27: 取付金具欠損
C28: S038 | E28: 102 | F28: 10 | G28: 照明施設 | H28: ケーブル類 | I28: 取付部材 | J28: 変形，欠損 | N28: 1箇所 | Q28: × | R28: 未 | X28: 取付金具欠損
... C37: S041 | E37: 102 | F37: 7.79 | G37: 照明施設 | H37: 灯具 | I37: 取付部材 | J37: 破断 | N37: 1箇所 | Q37: × | R37: 未 | X37: 取付金具破断
C39: ※ 異常判定区分×について記入すること。また、応急措置により○と判定された箇所も記入すること。
C40: ※ 応急措置を実施しないで判定した箇所の異常判定区分は、異常判定区分の応急措置後の欄に記入すること。
C41: ※ 異常の除去が不完全で、緊急対応が必要な場合は対応方針欄に記入すること。
C42: ※ １スパンの覆工に複数の異常がある場合は、異常箇所毎に記入すること。
C43: ※ 行が不足する場合は、適時、表の行を増やすこと。

Sheet 様式C-2
B2: ■定期点検記録様式 状態の把握の内容 【様式C-2】
B3: フリガナ | E3: オオザサ | H3: 路線名 | J3: 一般県道俵山長門古市停車場線 | M3: 定期点検業者 | R3: 株式会社オリエンタルコンサルタンツ | U3: 定期点検年月日 | X3: 45271
B4: 名 称 | E4: 大笹トンネル | H4: 管理者名 | J4: 長門土木建築事務所 | M4: 定期点検者名 | R4: 妹尾 優大
B5: 状態の把握の内容 | C5: 覆工スパン 番号 | E5: 変状 番号 | F5: 状態の把握の内容
F6: 年月日 | H6: 内容 | O6: 結果 | W6: 対策区分の 判定 | Y6: 健全性
B22: 注）状態の把握において、微破壊・非破壊検査や各種試験等を実施した場合について記載する。
B23: ※ 行が不足する場合は、適時、表の行を増やすこと。

Sheet 様式D-1-1
B2: ■定期点検記録様式 変状写真台帳（トンネル本体工） 【様式D-1-1】
B3: フリガナ | D3: オオザサ | H3: 路 線 名 | J3: 一般県道俵山長門古市停車場線 | M3: 定期点検業者 | P3: 株式会社オリエンタルコンサルタンツ | S3: 定期点検年月日 | U3: 45271
B4: 名 称 | D4: 大笹トンネル | H4: 管理者名 | J4: 長門土木建築事務所 | M4: 定期点検者名 | P4: 妹尾 優大
B5: 写真 番号 | C5: 覆工 スパン 番号 | D5: PS | M5: 写真 番号 | N5: 覆工 スパン 番号 | O5: =D5 -> PS
C7: 変状 番号 | D7: 1 | N7: 変状 番号 | O7: =D7+1 -> 2
B9: 変状 部位 | C9: 対象 箇所 | D9: 覆工・坑門 | M9: 変状 部位 | N9: 対象 箇所 | O9: 覆工・坑門
C11: 部位 区分 | D11: 面壁・妻壁等 | N11: 部位 区分 | O11: 面壁・妻壁等
B13: 変状区分 | D13: 漏水 | M13: 変状区分 | O13: 材質劣化
B14: 変状種類 | D14: 漏水 | M14: 変状種類 | O14: うき・はく離
B15: 対策 区分 | C15: 応急措置前 | M15: 対策 区分 | N15: 応急措置前
C16: 応急措置後 | E16: Ⅱb | N16: 応急措置後 | P16: Ⅲ
B17: 健全性 | D17: Ⅱ | M17: 健全性 | O17: Ⅲ
B18: 変状の発生範囲の規模 | E18: 4.8m×1.0m | M18: 変状の発生範囲の規模 | P18: 0.05m×0.4m
B19: 前回定期点検時の状態 | E19: 漏水、にじみ | M19: 前回定期点検時の状態 | P19: 0.05m×0.4mのうき
B20: 調査方針 | E20: なし | M20: 調査方針 | P20: なし
B21: 対策履歴 | E21: なし | H21: 実施状況（実施日） | M21: 対策履歴 | P21: なし | S21: 実施状況（実施日）
B22: メモ | D22: 打ち継ぎ目からの漏水、にじみ | M22: メモ | O22: うき
B23: 写真 番号 | C23: 覆工 スパン 番号 | D23: =O5 -> PS | M23: 写真 番号 | N23: 覆工 スパン 番号 | O23: =D23 -> PS
C25: 変状 番号 | D25: =O7+1 -> 3 | N25: 変状 番号 | O25: =D25+1 -> 4
B27: 変状 部位 | C27: 対象 箇所 | D27: 覆工・坑門 | M27: 変状 部位 | N27: 対象 箇所 | O27: 覆工・坑門
C29: 部位 区分 | D29: 面壁・妻壁等 | N29: 部位 区分 | O29: 面壁・妻壁等
B31: 変状区分 | D31: 材質劣化 | M31: 変状区分 | O31: 材質劣化
B32: 変状種類 | D32: うき・はく離 | M32: 変状種類 | O32: うき・はく離
B33: 対策 区分 | C33: 応急措置前 | M33: 対策 区分 | N33: 応急措置前
C34: 応急措置後 | E34: Ⅲ | N34: 応急措置後 | P34: Ⅱb
B35: 健全性 | D35: Ⅲ | M35: 健全性 | O35: Ⅱ
B36: 変状の発生範囲の規模 | E36: 0.05m×0.2m | M36: 変状の発生範囲の規模 | P36: 0.05m×0.05m
B37: 前回定期点検時の状態 | E37: 0.05m×0.2mのうき | M37: 前回定期点検時の状態 | P37: 0.05m×0.05mの木片
B38: 調査方針 | E38: なし | M38: 調査方針 | P38: なし
B39: 対策履歴 | E39: なし | H39: 実施状況（実施日） | M39: 対策履歴 | P39: なし | S39: 実施状況（実施日）
B40: メモ | D40: うき・はく離 | M40: メモ | O40: はく落(木片欠落)
C41: ※ 健全性の判定区分Ⅱ～Ⅳについて添付すること。また、点検前に実施 された措置によりⅠと判定された箇所も添付すること。 | N41: ※ 変状の発生範囲の規模とは、対策を行う際に参考となる変状の長さや面積をいう。
N42: ※ 応急措置を実施しないで判定した変状の対策区分は、対策区分の応急措置後の欄に記入すること。
C43: ※ たたき落としを実施した場合は、実施後の写真を添付すること。 | N43: ※ 変状の発生範囲の規模は、面積・寸法を記載すること。
C44: ※ 画像データは100kb程度とする。 | N44: (ひび割れ幅のみmmとし、その他をm表記とする)
C45: ※ 変状数に準じてシートを追加すること。（１シートに１ページとすること。） | N45: ※ 構造用鋼材以外の異物に伴ううき・はく離については、メモ欄に異物の概要を記入すること。

Sheet 様式D-1-1 (2)
B2: ■定期点検記録様式 変状写真台帳（トンネル本体工） 【様式D-1-1】
B3: フリガナ | D3: オオザサ | H3: 路 線 名 | J3: 一般県道俵山長門古市停車場線 | M3: 定期点検業者 | P3: 株式会社オリエンタルコンサルタンツ | S3: 定期点検年月日 | U3: 45271
B4: 名 称 | D4: 大笹トンネル | H4: 管理者名 | J4: 長門土木建築事務所 | M4: 定期点検者名 | P4: 妹尾 優大
B5: 写真 番号 | C5: 覆工 スパン 番号 | D5: PS | M5: 写真 番号 | N5: 覆工 スパン 番号 | O5: S001
C7: 変状 番号 | D7: 5 | N7: 変状 番号 | O7: 1
B9: 変状 部位 | C9: 対象 箇所 | D9: 覆工・坑門 | M9: 変状 部位 | N9: 対象 箇所 | O9: 覆工・坑門
C11: 部位 区分 | D11: 面壁・妻壁等 | N11: 部位 区分 | O11: 側壁（左側）
B13: 変状区分 | D13: 漏水 | M13: 変状区分 | O13: 材質劣化
B14: 変状種類 | D14: 漏水 | M14: 変状種類 | O14: うき・はく離
B15: 対策 区分 | C15: 応急措置前 | M15: 対策 区分 | N15: 応急措置前
C16: 応急措置後 | E16: Ⅱb | N16: 応急措置後 | P16: Ⅱb
B17: 健全性 | D17: Ⅱ | M17: 健全性 | O17: Ⅱ
B18: 変状の発生範囲の規模 | E18: 4.9m×0.75m | M18: 変状の発生範囲の規模 | P18: 0.1m×1.3m
B19: 前回定期点検時の状態 | E19: 漏水、にじみ | M19: 前回定期点検時の状態 | P19: 0.1m×1.3mのはく落
B20: 調査方針 | E20: なし | M20: 調査方針 | P20: なし
B21: 対策履歴 | E21: なし | H21: 実施状況（実施日） | M21: 対策履歴 | P21: なし | S21: 実施状況（実施日）
B22: メモ | D22: 打ち継ぎ目からの漏水、にじみ | M22: メモ | O22: はく落
B23: 写真 番号 | C23: 覆工 スパン 番号 | D23: =O5 -> S001 | M23: 写真 番号 | N23: 覆工 スパン 番号 | O23: =D23 -> S001
C25: 変状 番号 | D25: =O7+1 -> 2 | N25: 変状 番号 | O25: =D25+1 -> 3
B27: 変状 部位 | C27: 対象 箇所 | D27: 覆工・坑門 | M27: 変状 部位 | N27: 対象 箇所 | O27: 覆工・坑門
C29: 部位 区分 | D29: 側壁（左側） | N29: 部位 区分 | O29: 側壁（左側）
B31: 変状区分 | D31: 材質劣化 | M31: 変状区分 | O31: 材質劣化
B32: 変状種類 | D32: うき・はく離 | M32: 変状種類 | O32: うき・はく離
B33: 対策 区分 | C33: 応急措置前 | M33: 対策 区分 | N33: 応急措置前
C34: 応急措置後 | E34: Ⅱb | N34: 応急措置後 | P34: Ⅱb
B35: 健全性 | D35: Ⅱ | M35: 健全性 | O35: Ⅱ
B36: 変状の発生範囲の規模 | E36: 1.4m×0.2m | M36: 変状の発生範囲の規模 | P36: 1.8m×9.5m
B37: 前回定期点検時の状態 | E37: 0.4m×0.1mのはく落 | M37: 前回定期点検時の状態 | P37: -
B38: 調査方針 | E38: なし | M38: 調査方針 | P38: なし
B39: 対策履歴 | E39: なし | H39: 実施状況（実施日） | M39: 対策履歴 | P39: なし | S39: 実施状況（実施日）
B40: メモ | D40: はく落 | M40: メモ | O40: モルタル吹付部のうき
C41: ※ 健全性の判定区分Ⅱ～Ⅳについて添付すること。また、点検前に実施 された措置によりⅠと判定された箇所も添付すること。 | N41: ※ 変状の発生範囲の規模とは、対策を行う際に参考となる変状の長さや面積をいう。
N42: ※ 応急措置を実施しないで判定した変状の対策区分は、対策区分の応急措置後の欄に記入すること。
C43: ※ たたき落としを実施した場合は、実施後の写真を添付すること。 | N43: ※ 変状の発生範囲の規模は、面積・寸法を記載すること。
C44: ※ 画像データは100kb程度とする。 | N44: (ひび割れ幅のみmmとし、その他をm表記とする)
C45: ※ 変状数に準じてシートを追加すること。（１シートに１ページとすること。） | N45: ※ 構造用鋼材以外の異物に伴ううき・はく離については、メモ欄に異物の概要を記入すること。

Sheet 様式D-1-1 (3)
B2: ■定期点検記録様式 変状写真台帳（トンネル本体工） 【様式D-1-1】
B3: フリガナ | D3: オオザサ | H3: 路 線 名 | J3: 一般県道俵山長門古市停車場線 | M3: 定期点検業者 | P3: 株式会社オリエンタルコンサルタンツ | S3: 定期点検年月日 | U3: 45271
B4: 名 称 | D4: 大笹トンネル | H4: 管理者名 | J4: 長門土木建築事務所 | M4: 定期点検者名 | P4: 妹尾 優大
B5: 写真 番号 | C5: 覆工 スパン 番号 | D5: S001 | M5: 写真 番号 | N5: 覆工 スパン 番号 | O5: =D5 -> S001
C7: 変状 番号 | D7: 4 | N7: 変状 番号 | O7: =D7+1 -> 5
B9: 変状 部位 | C9: 対象 箇所 | D9: 覆工・坑門 | M9: 変状 部位 | N9: 対象 箇所 | O9: 覆工・坑門
C11: 部位 区分 | D11: アーチ（左側） | N11: 部位 区分 | O11: アーチ（左側）
B13: 変状区分 | D13: 材質劣化 | M13: 変状区分 | O13: 漏水
B14: 変状種類 | D14: うき・はく離 | M14: 変状種類 | O14: 漏水
B15: 対策 区分 | C15: 応急措置前 | M15: 対策 区分 | N15: 応急措置前
C16: 応急措置後 | E16: Ⅱa | N16: 応急措置後 | P16: Ⅰ
B17: 健全性 | D17: Ⅱ | M17: 健全性 | O17: Ⅰ
B18: 変状の発生範囲の規模 | E18: 0.6m×0.2m | M18: 変状の発生範囲の規模 | P18: -
B19: 前回定期点検時の状態 | E19: - | M19: 前回定期点検時の状態 | P19: 漏水、にじみ
B20: 調査方針 | E20: なし | M20: 調査方針 | P20: なし
B21: 対策履歴 | E21: なし | H21: 実施状況（実施日） | M21: 対策履歴 | P21: 導水工 | S21: 実施状況（実施日）
B22: メモ | D22: モルタル吹付部のうき | M22: メモ | O22: 導水工新設により対策済
B23: 写真 番号 | C23: 覆工 スパン 番号 | D23: =O5 -> S001 | M23: 写真 番号 | N23: 覆工 スパン 番号 | O23: =D23 -> S001
C25: 変状 番号 | D25: =O7+1 -> 6 | N25: 変状 番号 | O25: =D25+1 -> 7
B27: 変状 部位 | C27: 対象 箇所 | D27: 覆工・坑門 | M27: 変状 部位 | N27: 対象 箇所 | O27: 覆工・坑門
C29: 部位 区分 | D29: アーチ（左側） | N29: 部位 区分 | O29: アーチ（左側）
B31: 変状区分 | D31: 材質劣化 | M31: 変状区分 | O31: 漏水
B32: 変状種類 | D32: うき・はく離 | M32: 変状種類 | O32: 漏水
B33: 対策 区分 | C33: 応急措置前 | M33: 対策 区分 | N33: 応急措置前
C34: 応急措置後 | E34: Ⅱa | N34: 応急措置後 | P34: Ⅰ
B35: 健全性 | D35: Ⅱ | M35: 健全性 | O35: Ⅰ
B36: 変状の発生範囲の規模 | E36: 4.0m×6.0m | M36: 変状の発生範囲の規模 | P36: -
B37: 前回定期点検時の状態 | E37: 2.5m×1.3mのモルタル吹付部のうき | M37: 前回定期点検時の状態 | P37: 漏水、にじみ
B38: 調査方針 | E38: なし | M38: 調査方針 | P38: なし
B39: 対策履歴 | E39: なし | H39: 実施状況（実施日） | M39: 対策履歴 | P39: なし | S39: 実施状況（実施日）
B40: メモ | D40: モルタル吹付部のうき | M40: メモ | O40: 漏水跡
C41: ※ 健全性の判定区分Ⅱ～Ⅳについて添付すること。また、点検前に実施 された措置によりⅠと判定された箇所も添付すること。 | N41: ※ 変状の発生範囲の規模とは、対策を行う際に参考となる変状の長さや面積をいう。
N42: ※ 応急措置を実施しないで判定した変状の対策区分は、対策区分の応急措置後の欄に記入すること。
C43: ※ たたき落としを実施した場合は、実施後の写真を添付すること。 | N43: ※ 変状の発生範囲の規模は、面積・寸法を記載すること。
C44: ※ 画像データは100kb程度とする。 | N44: (ひび割れ幅のみmmとし、その他をm表記とする)
C45: ※ 変状数に準じてシートを追加すること。（１シートに１ページとすること。） | N45: ※ 構造用鋼材以外の異物に伴ううき・はく離については、メモ欄に異物の概要を記入すること。

Sheet 様式D-1-1 (4)
B2: ■定期点検記録様式 変状写真台帳（トンネル本体工） 【様式D-1-1】
B3: フリガナ | D3: オオザサ | H3: 路 線 名 | J3: 一般県道俵山長門古市停車場線 | M3: 定期点検業者 | P3: 株式会社オリエンタルコンサルタンツ | S3: 定期点検年月日 | U3: 45271
B4: 名 称 | D4: 大笹トンネル | H4: 管理者名 | J4: 長門土木建築事務所 | M4: 定期点検者名 | P4: 妹尾 優大
B5: 写真 番号 | C5: 覆工 スパン 番号 | D5: S001 | M5: 写真 番号 | N5: 覆工 スパン 番号 | O5: =D5 -> S001
C7: 変状 番号 | D7: 8 | N7: 変状 番号 | O7: =D7+1 -> 9
B9: 変状 部位 | C9: 対象 箇所 | D9: 覆工・坑門 | M9: 変状 部位 | N9: 対象 箇所 | O9: 覆工・坑門
C11: 部位 区分 | D11: アーチ（左側） | N11: 部位 区分 | O11: アーチ（左側）
B13: 変状区分 | D13: 漏水 | M13: 変状区分 | O13: 漏水
B14: 変状種類 | D14: 漏水 | M14: 変状種類 | O14: 漏水
B15: 対策 区分 | C15: 応急措置前 | M15: 対策 区分 | N15: 応急措置前
C16: 応急措置後 | E16: Ⅱa | N16: 応急措置後 | P16: Ⅱb
B17: 健全性 | D17: Ⅱ | M17: 健全性 | O17: Ⅱ
B18: 変状の発生範囲の規模 | E18: 6.2m×0.5m | M18: 変状の発生範囲の規模 | P18: 4.5m×0.5m
B19: 前回定期点検時の状態 | E19: - | M19: 前回定期点検時の状態 | P19: -
B20: 調査方針 | E20: なし | M20: 調査方針 | P20: なし
B21: 対策履歴 | E21: なし | H21: 実施状況（実施日） | M21: 対策履歴 | P21: なし | S21: 実施状況（実施日）
B22: メモ | D22: 導水工からの漏水、滴水 | M22: メモ | O22: ひび割れからの漏水、にじみ
B23: 写真 番号 | C23: 覆工 スパン 番号 | D23: =O5 -> S001 | M23: 写真 番号 | N23: 覆工 スパン 番号 | O23: =D23 -> S001
C25: 変状 番号 | D25: =O7+1 -> 10 | N25: 変状 番号 | O25: =D25+1 -> 11
B27: 変状 部位 | C27: 対象 箇所 | D27: 覆工・坑門 | M27: 変状 部位 | N27: 対象 箇所 | O27: 覆工・坑門
C29: 部位 区分 | D29: アーチ（左側） | N29: 部位 区分 | O29: アーチ（右側）
B31: 変状区分 | D31: 材質劣化 | M31: 変状区分 | O31: 材質劣化
B32: 変状種類 | D32: うき・はく離 | M32: 変状種類 | O32: うき・はく離
B33: 対策 区分 | C33: 応急措置前 | M33: 対策 区分 | N33: 応急措置前
C34: 応急措置後 | E34: Ⅱa | N34: 応急措置後 | P34: Ⅱa
B35: 健全性 | D35: Ⅱ | M35: 健全性 | O35: Ⅱ
B36: 変状の発生範囲の規模 | E36: 4.0m×6.5m | M36: 変状の発生範囲の規模 | P36: 3.0m×3.7m
B37: 前回定期点検時の状態 | E37: - | M37: 前回定期点検時の状態 | P37: -
B38: 調査方針 | E38: なし | M38: 調査方針 | P38: なし
B39: 対策履歴 | E39: なし | H39: 実施状況（実施日） | M39: 対策履歴 | P39: なし | S39: 実施状況（実施日）
B40: メモ | D40: モルタル吹付部のうき | M40: メモ | O40: モルタル吹付部のうき
C41: ※ 健全性の判定区分Ⅱ～Ⅳについて添付すること。また、点検前に実施 された措置によりⅠと判定された箇所も添付すること。 | N41: ※ 変状の発生範囲の規模とは、対策を行う際に参考となる変状の長さや面積をいう。
N42: ※ 応急措置を実施しないで判定した変状の対策区分は、対策区分の応急措置後の欄に記入すること。
C43: ※ たたき落としを実施した場合は、実施後の写真を添付すること。 | N43: ※ 変状の発生範囲の規模は、面積・寸法を記載すること。
C44: ※ 画像データは100kb程度とする。 | N44: (ひび割れ幅のみmmとし、その他をm表記とする)
C45: ※ 変状数に準じてシートを追加すること。（１シートに１ページとすること。） | N45: ※ 構造用鋼材以外の異物に伴ううき・はく離については、メモ欄に異物の概要を記入すること。

Sheet 様式D-1-1 (5)
B2: ■定期点検記録様式 変状写真台帳（トンネル本体工） 【様式D-1-1】
B3: フリガナ | D3: オオザサ | H3: 路 線 名 | J3: 一般県道俵山長門古市停車場線 | M3: 定期点検業者 | P3: 株式会社オリエンタルコンサルタンツ | S3: 定期点検年月日 | U3: 45271
B4: 名 称 | D4: 大笹トンネル | H4: 管理者名 | J4: 長門土木建築事務所 | M4: 定期点検者名 | P4: 妹尾 優大
B5: 写真 番号 | C5: 覆工 スパン 番号 | D5: S001 | M5: 写真 番号 | N5: 覆工 スパン 番号 | O5: =D5 -> S001
C7: 変状 番号 | D7: 12 | N7: 変状 番号 | O7: =D7+1 -> 13
B9: 変状 部位 | C9: 対象 箇所 | D9: 覆工・坑門 | M9: 変状 部位 | N9: 対象 箇所 | O9: 覆工・坑門
C11: 部位 区分 | D11: アーチ（天端） | N11: 部位 区分 | O11: アーチ（右側）
B13: 変状区分 | D13: 漏水 | M13: 変状区分 | O13: 漏水
B14: 変状種類 | D14: 漏水 | M14: 変状種類 | O14: 漏水
B15: 対策 区分 | C15: 応急措置前 | M15: 対策 区分 | N15: 応急措置前
C16: 応急措置後 | E16: Ⅰ | N16: 応急措置後 | P16: Ⅱa
B17: 健全性 | D17: Ⅰ | M17: 健全性 | O17: Ⅱ
B18: 変状の発生範囲の規模 | E18: - | M18: 変状の発生範囲の規模 | P18: 5.5m×0.5m
B19: 前回定期点検時の状態 | E19: 漏水、流下 | M19: 前回定期点検時の状態 | P19: -
B20: 調査方針 | E20: なし | M20: 調査方針 | P20: なし
B21: 対策履歴 | E21: 導水工 | H21: 実施状況（実施日） | M21: 対策履歴 | P21: なし | S21: 実施状況（実施日）
B22: メモ | D22: 導水工新設により対策済 | M22: メモ | O22: 導水工からの漏水、滴水
B23: 写真 番号 | C23: 覆工 スパン 番号 | D23: S001 | M23: 写真 番号 | N23: 覆工 スパン 番号 | O23: =D23 -> S001
C25: 変状 番号 | D25: 14 | N25: 変状 番号 | O25: =D25+1 -> 15
B27: 変状 部位 | C27: 対象 箇所 | D27: 覆工・坑門 | M27: 変状 部位 | N27: 対象 箇所 | O27: 路面
C29: 部位 区分 | D29: アーチ（右側） | N29: 部位 区分 | O29: 側溝
B31: 変状区分 | D31: 漏水 | M31: 変状区分 | O31: 漏水
B32: 変状種類 | D32: 漏水 | M32: 変状種類 | O32: 滞水
B33: 対策 区分 | C33: 応急措置前 | M33: 対策 区分 | N33: 応急措置前
C34: 応急措置後 | E34: Ⅱb | N34: 応急措置後 | P34: －
B35: 健全性 | D35: Ⅱ | M35: 健全性 | O35: －
B36: 変状の発生範囲の規模 | E36: 4.5m×0.5m | M36: 変状の発生範囲の規模 | P36: 0.6m×6.5m
B37: 前回定期点検時の状態 | E37: 漏水、にじみ | M37: 前回定期点検時の状態 | P37: 0.9m×8.0mの土砂堆積
B38: 調査方針 | E38: なし | M38: 調査方針 | P38: なし
B39: 対策履歴 | E39: なし | H39: 実施状況（実施日） | M39: 対策履歴 | P39: なし | S39: 実施状況（実施日）
B40: メモ | D40: ひび割れからの漏水、にじみ | M40: メモ | O40: 滞水、堆砂
C41: ※ 健全性の判定区分Ⅱ～Ⅳについて添付すること。また、点検前に実施 された措置によりⅠと判定された箇所も添付すること。 | N41: ※ 変状の発生範囲の規模とは、対策を行う際に参考となる変状の長さや面積をいう。
N42: ※ 応急措置を実施しないで判定した変状の対策区分は、対策区分の応急措置後の欄に記入すること。
C43: ※ たたき落としを実施した場合は、実施後の写真を添付すること。 | N43: ※ 変状の発生範囲の規模は、面積・寸法を記載すること。
C44: ※ 画像データは100kb程度とする。 | N44: (ひび割れ幅のみmmとし、その他をm表記とする)
C45: ※ 変状数に準じてシートを追加すること。（１シートに１ページとすること。） | N45: ※ 構造用鋼材以外の異物に伴ううき・はく離については、メモ欄に異物の概要を記入すること。

Sheet 様式D-1-1 (6)
B2: ■定期点検記録様式 変状写真台帳（トンネル本体工） 【様式D-1-1】
B3: フリガナ | D3: オオザサ | H3: 路 線 名 | J3: 一般県道俵山長門古市停車場線 | M3: 定期点検業者 | P3: 株式会社オリエンタルコンサルタンツ | S3: 定期点検年月日 | U3: 45271
B4: 名 称 | D4: 大笹トンネル | H4: 管理者名 | J4: 長門土木建築事務所 | M4: 定期点検者名 | P4: 妹尾 優大
B5: 写真 番号 | C5: 覆工 スパン 番号 | D5: S001 | M5: 写真 番号 | N5: 覆工 スパン 番号 | O5: =D5 -> S001
C7: 変状 番号 | D7: 16 | N7: 変状 番号 | O7: =D7+1 -> 17
B9: 変状 部位 | C9: 対象 箇所 | D9: 路面 | M9: 変状 部位 | N9: 対象 箇所 | O9: 路面
C11: 部位 区分 | D11: 車道 | N11: 部位 区分 | O11: 側溝
B13: 変状区分 | D13: 漏水 | M13: 変状区分 | O13: 漏水
B14: 変状種類 | D14: 滞水 | M14: 変状種類 | O14: 滞水
B15: 対策 区分 | C15: 応急措置前 | M15: 対策 区分 | N15: 応急措置前
C16: 応急措置後 | E16: － | N16: 応急措置後 | P16: －
B17: 健全性 | D17: － | M17: 健全性 | O17: －
B18: 変状の発生範囲の規模 | E18: 0.8m×0.8m | M18: 変状の発生範囲の規模 | P18: 0.9m×5.0m
B19: 前回定期点検時の状態 | E19: 10.0m×5.8mの滞水 | M19: 前回定期点検時の状態 | P19: 0.5m×9.0mの土砂堆積
B20: 調査方針 | E20: なし | M20: 調査方針 | P20: なし
B21: 対策履歴 | E21: なし | H21: 実施状況（実施日） | M21: 対策履歴 | P21: なし | S21: 実施状況（実施日）
B22: メモ | D22: 滞水 | M22: メモ | O22: 滞水、堆砂
B23: 写真 番号 | C23: 覆工 スパン 番号 | D23: S002 | M23: 写真 番号 | N23: 覆工 スパン 番号 | O23: =D23 -> S002
C25: 変状 番号 | D25: 1 | N25: 変状 番号 | O25: =D25+1 -> 2
B27: 変状 部位 | C27: 対象 箇所 | D27: 覆工・坑門 | M27: 変状 部位 | N27: 対象 箇所 | O27: 覆工・坑門
C29: 部位 区分 | D29: 側壁（左側） | N29: 部位 区分 | O29: アーチ（右側）
B31: 変状区分 | D31: 材質劣化 | M31: 変状区分 | O31: 材質劣化
B32: 変状種類 | D32: うき・はく離 | M32: 変状種類 | O32: うき・はく離
B33: 対策 区分 | C33: 応急措置前 | M33: 対策 区分 | N33: 応急措置前
C34: 応急措置後 | E34: Ⅱb | N34: 応急措置後 | P34: Ⅱa
B35: 健全性 | D35: Ⅱ | M35: 健全性 | O35: Ⅱ
B36: 変状の発生範囲の規模 | E36: 1.8m×1.4m | M36: 変状の発生範囲の規模 | P36: 2.6m×2.5m
B37: 前回定期点検時の状態 | E37: - | M37: 前回定期点検時の状態 | P37: -
B38: 調査方針 | E38: なし | M38: 調査方針 | P38: なし
B39: 対策履歴 | E39: なし | H39: 実施状況（実施日） | M39: 対策履歴 | P39: なし | S39: 実施状況（実施日）
B40: メモ | D40: モルタル吹付部のうき | M40: メモ | O40: モルタル吹付部のうき
C41: ※ 健全性の判定区分Ⅱ～Ⅳについて添付すること。また、点検前に実施 された措置によりⅠと判定された箇所も添付すること。 | N41: ※ 変状の発生範囲の規模とは、対策を行う際に参考となる変状の長さや面積をいう。
N42: ※ 応急措置を実施しないで判定した変状の対策区分は、対策区分の応急措置後の欄に記入すること。
C43: ※ たたき落としを実施した場合は、実施後の写真を添付すること。 | N43: ※ 変状の発生範囲の規模は、面積・寸法を記載すること。
C44: ※ 画像データは100kb程度とする。 | N44: (ひび割れ幅のみmmとし、その他をm表記とする)
C45: ※ 変状数に準じてシートを追加すること。（１シートに１ページとすること。） | N45: ※ 構造用鋼材以外の異物に伴ううき・はく離については、メモ欄に異物の概要を記入すること。

Sheet 様式D-1-1 (7)
B2: ■定期点検記録様式 変状写真台帳（トンネル本体工） 【様式D-1-1】
B3: フリガナ | D3: オオザサ | H3: 路 線 名 | J3: 一般県道俵山長門古市停車場線 | M3: 定期点検業者 | P3: 株式会社オリエンタルコンサルタンツ | S3: 定期点検年月日 | U3: 45271
B4: 名 称 | D4: 大笹トンネル | H4: 管理者名 | J4: 長門土木建築事務所 | M4: 定期点検者名 | P4: 妹尾 優大
B5: 写真 番号 | C5: 覆工 スパン 番号 | D5: S002 | M5: 写真 番号 | N5: 覆工 スパン 番号 | O5: =D5 -> S002
C7: 変状 番号 | D7: 3 | N7: 変状 番号 | O7: =D7+1 -> 4
B9: 変状 部位 | C9: 対象 箇所 | D9: 路面 | M9: 変状 部位 | N9: 対象 箇所 | O9: 路面
C11: 部位 区分 | D11: 側溝 | N11: 部位 区分 | O11: 車道
B13: 変状区分 | D13: 漏水 | M13: 変状区分 | O13: 漏水
B14: 変状種類 | D14: 滞水 | M14: 変状種類 | O14: 滞水
B15: 対策 区分 | C15: 応急措置前 | M15: 対策 区分 | N15: 応急措置前
C16: 応急措置後 | E16: － | N16: 応急措置後 | P16: －
B17: 健全性 | D17: － | M17: 健全性 | O17: －
B18: 変状の発生範囲の規模 | E18: - | M18: 変状の発生範囲の規模 | P18: -
B19: 前回定期点検時の状態 | E19: 0.5m×1.9mの滞水 | M19: 前回定期点検時の状態 | P19: 0.3m×0.1mの滞水、0.3m×2.0mの土砂堆積
B20: 調査方針 | E20: なし | M20: 調査方針 | P20: なし
B21: 対策履歴 | E21: なし | H21: 実施状況（実施日） | M21: 対策履歴 | P21: なし | S21: 実施状況（実施日）
B22: メモ | D22: 滞水跡 | M22: メモ | O22: 漏水、堆砂跡
B23: 写真 番号 | C23: 覆工 スパン 番号 | D23: S003 | M23: 写真 番号 | N23: 覆工 スパン 番号 | O23: =D23 -> S003
C25: 変状 番号 | D25: 1 | N25: 変状 番号 | O25: =D25+1 -> 2
B27: 変状 部位 | C27: 対象 箇所 | D27: 覆工・坑門 | M27: 変状 部位 | N27: 対象 箇所 | O27: 覆工・坑門
C29: 部位 区分 | D29: 側壁（左側） | N29: 部位 区分 | O29: アーチ（左側）
B31: 変状区分 | D31: 漏水 | M31: 変状区分 | O31: 漏水
B32: 変状種類 | D32: 漏水 | M32: 変状種類 | O32: 漏水
B33: 対策 区分 | C33: 応急措置前 | M33: 対策 区分 | N33: 応急措置前
C34: 応急措置後 | E34: Ⅱb | N34: 応急措置後 | P34: Ⅰ
B35: 健全性 | D35: Ⅱ | M35: 健全性 | O35: Ⅰ
B36: 変状の発生範囲の規模 | E36: 0.5m×0.5m | M36: 変状の発生範囲の規模 | P36: -
B37: 前回定期点検時の状態 | E37: 漏水、にじみ | M37: 前回定期点検時の状態 | P37: 漏水、にじみ
B38: 調査方針 | E38: なし | M38: 調査方針 | P38: なし
B39: 対策履歴 | E39: なし | H39: 実施状況（実施日） | M39: 対策履歴 | P39: 導水工 | S39: 実施状況（実施日）
B40: メモ | D40: 漏水、にじみ | M40: メモ | O40: 導水工新設により対策済
C41: ※ 健全性の判定区分Ⅱ～Ⅳについて添付すること。また、点検前に実施 された措置によりⅠと判定された箇所も添付すること。 | N41: ※ 変状の発生範囲の規模とは、対策を行う際に参考となる変状の長さや面積をいう。
N42: ※ 応急措置を実施しないで判定した変状の対策区分は、対策区分の応急措置後の欄に記入すること。
C43: ※ たたき落としを実施した場合は、実施後の写真を添付すること。 | N43: ※ 変状の発生範囲の規模は、面積・寸法を記載すること。
C44: ※ 画像データは100kb程度とする。 | N44: (ひび割れ幅のみmmとし、その他をm表記とする)
C45: ※ 変状数に準じてシートを追加すること。（１シートに１ページとすること。） | N45: ※ 構造用鋼材以外の異物に伴ううき・はく離については、メモ欄に異物の概要を記入すること。

Sheet 様式D-1-1 (8)
B2: ■定期点検記録様式 変状写真台帳（トンネル本体工） 【様式D-1-1】
B3: フリガナ | D3: オオザサ | H3: 路 線 名 | J3: 一般県道俵山長門古市停車場線 | M3: 定期点検業者 | P3: 株式会社オリエンタルコンサルタンツ | S3: 定期点検年月日 | U3: 45271
B4: 名 称 | D4: 大笹トンネル | H4: 管理者名 | J4: 長門土木建築事務所 | M4: 定期点検者名 | P4: 妹尾 優大
B5: 写真 番号 | C5: 覆工 スパン 番号 | D5: S003 | M5: 写真 番号 | N5: 覆工 スパン 番号 | O5: =D5 -> S003
C7: 変状 番号 | D7: 3 | N7: 変状 番号 | O7: =D7+1 -> 4
B9: 変状 部位 | C9: 対象 箇所 | D9: 覆工・坑門 | M9: 変状 部位 | N9: 対象 箇所 | O9: 覆工・坑門
C11: 部位 区分 | D11: 横断目地（右側） | N11: 部位 区分 | O11: アーチ（右側）
B13: 変状区分 | D13: 材質劣化 | M13: 変状区分 | O13: 材質劣化
B14: 変状種類 | D14: うき・はく離 | M14: 変状種類 | O14: その他
B15: 対策 区分 | C15: 応急措置前 | M15: 対策 区分 | N15: 応急措置前
C16: 応急措置後 | E16: Ⅰ | N16: 応急措置後 | P16: Ⅱb
B17: 健全性 | D17: Ⅰ | M17: 健全性 | O17: Ⅱ
B18: 変状の発生範囲の規模 | E18: - | M18: 変状の発生範囲の規模 | P18: 0.2m×0.2m
B19: 前回定期点検時の状態 | E19: 1.7m×0.2m、1.7m×0.2m、1.8m×0.2mの補修跡のうき | M19: 前回定期点検時の状態 | P19: 0.2m×0.2mの木片
B20: 調査方針 | E20: なし | M20: 調査方針 | P20: なし
B21: 対策履歴 | E21: 導水工 | H21: 実施状況（実施日） | M21: 対策履歴 | P21: なし | S21: 実施状況（実施日）
B22: メモ | D22: 導水工の新設により対策済 | M22: メモ | O22: 異物混入(木片)
B23: 写真 番号 | C23: 覆工 スパン 番号 | D23: =O5 -> S003 | M23: 写真 番号 | N23: 覆工 スパン 番号 | O23: =D23 -> S003
C25: 変状 番号 | D25: =O7+1 -> 5 | N25: 変状 番号 | O25: =D25+1 -> 6
B27: 変状 部位 | C27: 対象 箇所 | D27: 覆工・坑門 | M27: 変状 部位 | N27: 対象 箇所 | O27: 覆工・坑門
C29: 部位 区分 | D29: アーチ（右側） | N29: 部位 区分 | O29: アーチ（右側）
B31: 変状区分 | D31: 漏水 | M31: 変状区分 | O31: 材質劣化
B32: 変状種類 | D32: 漏水 | M32: 変状種類 | O32: うき・はく離
B33: 対策 区分 | C33: 応急措置前 | M33: 対策 区分 | N33: 応急措置前
C34: 応急措置後 | E34: Ⅰ | N34: 応急措置後 | P34: Ⅰ
B35: 健全性 | D35: Ⅰ | M35: 健全性 | O35: Ⅰ
B36: 変状の発生範囲の規模 | E36: - | M36: 変状の発生範囲の規模 | P36: -
B37: 前回定期点検時の状態 | E37: 漏水、にじみ | M37: 前回定期点検時の状態 | P37: 0.2m×0.8mのうき
B38: 調査方針 | E38: なし | M38: 調査方針 | P38: なし
B39: 対策履歴 | E39: 導水工 | H39: 実施状況（実施日） | M39: 対策履歴 | P39: 導水工 | S39: 実施状況（実施日）
B40: メモ | D40: 導水工の新設により対策済 | M40: メモ | O40: 導水工新設により対策済
C41: ※ 健全性の判定区分Ⅱ～Ⅳについて添付すること。また、点検前に実施 された措置によりⅠと判定された箇所も添付すること。 | N41: ※ 変状の発生範囲の規模とは、対策を行う際に参考となる変状の長さや面積をいう。
N42: ※ 応急措置を実施しないで判定した変状の対策区分は、対策区分の応急措置後の欄に記入すること。
C43: ※ たたき落としを実施した場合は、実施後の写真を添付すること。 | N43: ※ 変状の発生範囲の規模は、面積・寸法を記載すること。
C44: ※ 画像データは100kb程度とする。 | N44: (ひび割れ幅のみmmとし、その他をm表記とする)
C45: ※ 変状数に準じてシートを追加すること。（１シートに１ページとすること。） | N45: ※ 構造用鋼材以外の異物に伴ううき・はく離については、メモ欄に異物の概要を記入すること。

Sheet 様式D-1-1 (9)
B2: ■定期点検記録様式 変状写真台帳（トンネル本体工） 【様式D-1-1】
B3: フリガナ | D3: オオザサ | H3: 路 線 名 | J3: 一般県道俵山長門古市停車場線 | M3: 定期点検業者 | P3: 株式会社オリエンタルコンサルタンツ | S3: 定期点検年月日 | U3: 45271
B4: 名 称 | D4: 大笹トンネル | H4: 管理者名 | J4: 長門土木建築事務所 | M4: 定期点検者名 | P4: 妹尾 優大
B5: 写真 番号 | C5: 覆工 スパン 番号 | D5: S003 | M5: 写真 番号 | N5: 覆工 スパン 番号 | O5: =D5 -> S003
C7: 変状 番号 | D7: 7 | N7: 変状 番号 | O7: =D7+1 -> 8
B9: 変状 部位 | C9: 対象 箇所 | D9: 路面 | M9: 変状 部位 | N9: 対象 箇所 | O9: 路面
C11: 部位 区分 | D11: 側溝 | N11: 部位 区分 | O11: 側溝
B13: 変状区分 | D13: 漏水 | M13: 変状区分 | O13: 漏水
B14: 変状種類 | D14: 滞水 | M14: 変状種類 | O14: 滞水
B15: 対策 区分 | C15: 応急措置前 | M15: 対策 区分 | N15: 応急措置前
C16: 応急措置後 | E16: － | N16: 応急措置後 | P16: －
B17: 健全性 | D17: － | M17: 健全性 | O17: －
B18: 変状の発生範囲の規模 | E18: 0.4m×0.9m | M18: 変状の発生範囲の規模 | P18: 0.3m×1.2m
B19: 前回定期点検時の状態 | E19: 0.4m×0.3m、0.5ｍ×0.9mの滞水 | M19: 前回定期点検時の状態 | P19: 0.4m×1.2m、0.6m0.9mの滞水
B20: 調査方針 | E20: なし | M20: 調査方針 | P20: なし
B21: 対策履歴 | E21: なし | H21: 実施状況（実施日） | M21: 対策履歴 | P21: なし | S21: 実施状況（実施日）
B22: メモ | D22: 滞水 | M22: メモ | O22: 滞水
B23: 写真 番号 | C23: 覆工 スパン 番号 | D23: S004 | M23: 写真 番号 | N23: 覆工 スパン 番号 | O23: =D23 -> S004
C25: 変状 番号 | D25: 1 | N25: 変状 番号 | O25: =D25+1 -> 2
B27: 変状 部位 | C27: 対象 箇所 | D27: 覆工・坑門 | M27: 変状 部位 | N27: 対象 箇所 | O27: 覆工・坑門
C29: 部位 区分 | D29: アーチ（左側） | N29: 部位 区分 | O29: アーチ（左側）
B31: 変状区分 | D31: 漏水 | M31: 変状区分 | O31: 材質劣化
B32: 変状種類 | D32: 漏水 | M32: 変状種類 | O32: その他
B33: 対策 区分 | C33: 応急措置前 | M33: 対策 区分 | N33: 応急措置前
C34: 応急措置後 | E34: Ⅱb | N34: 応急措置後 | P34: Ⅱb
B35: 健全性 | D35: Ⅱ | M35: 健全性 | O35: Ⅱ
B36: 変状の発生範囲の規模 | E36: 3.6m×1.0m | M36: 変状の発生範囲の規模 | P36: 0.2m×0.05m
B37: 前回定期点検時の状態 | E37: 漏水、にじみ | M37: 前回定期点検時の状態 | P37: 0.2m×0.05mの木片
B38: 調査方針 | E38: なし | M38: 調査方針 | P38: なし
B39: 対策履歴 | E39: なし | H39: 実施状況（実施日） | M39: 対策履歴 | P39: なし | S39: 実施状況（実施日）
B40: メモ | D40: ひびわれからの漏水、にじみ | M40: メモ | O40: 異物混入(木片)
C41: ※ 健全性の判定区分Ⅱ～Ⅳについて添付すること。また、点検前に実施 された措置によりⅠと判定された箇所も添付すること。 | N41: ※ 変状の発生範囲の規模とは、対策を行う際に参考となる変状の長さや面積をいう。
N42: ※ 応急措置を実施しないで判定した変状の対策区分は、対策区分の応急措置後の欄に記入すること。
C43: ※ たたき落としを実施した場合は、実施後の写真を添付すること。 | N43: ※ 変状の発生範囲の規模は、面積・寸法を記載すること。
C44: ※ 画像データは100kb程度とする。 | N44: (ひび割れ幅のみmmとし、その他をm表記とする)
C45: ※ 変状数に準じてシートを追加すること。（１シートに１ページとすること。） | N45: ※ 構造用鋼材以外の異物に伴ううき・はく離については、メモ欄に異物の概要を記入すること。

Sheet 様式D-1-1 (10)
B2: ■定期点検記録様式 変状写真台帳（トンネル本体工） 【様式D-1-1】
B3: フリガナ | D3: オオザサ | H3: 路 線 名 | J3: 一般県道俵山長門古市停車場線 | M3: 定期点検業者 | P3: 株式会社オリエンタルコンサルタンツ | S3: 定期点検年月日 | U3: 45271
B4: 名 称 | D4: 大笹トンネル | H4: 管理者名 | J4: 長門土木建築事務所 | M4: 定期点検者名 | P4: 妹尾 優大
B5: 写真 番号 | C5: 覆工 スパン 番号 | D5: S004 | M5: 写真 番号 | N5: 覆工 スパン 番号 | O5: S005
C7: 変状 番号 | D7: 3 | N7: 変状 番号 | O7: 1
B9: 変状 部位 | C9: 対象 箇所 | D9: 路面 | M9: 変状 部位 | N9: 対象 箇所 | O9: 覆工・坑門
C11: 部位 区分 | D11: 側溝 | N11: 部位 区分 | O11: 水平打ち継ぎ目（左側）
B13: 変状区分 | D13: 漏水 | M13: 変状区分 | O13: 材質劣化
B14: 変状種類 | D14: 滞水 | M14: 変状種類 | O14: うき・はく離
B15: 対策 区分 | C15: 応急措置前 | M15: 対策 区分 | N15: 応急措置前
C16: 応急措置後 | E16: － | N16: 応急措置後 | P16: Ⅱa
B17: 健全性 | D17: － | M17: 健全性 | O17: Ⅱ
B18: 変状の発生範囲の規模 | E18: 0.3m×1.7m | M18: 変状の発生範囲の規模 | P18: 0.1m×0.2m
B19: 前回定期点検時の状態 | E19: 0.3m×0.6m、0.3m×0.6mの滞水 | M19: 前回定期点検時の状態 | P19: 0.1m×0.2mのうき
B20: 調査方針 | E20: なし | M20: 調査方針 | P20: なし
B21: 対策履歴 | E21: なし | H21: 実施状況（実施日） | M21: 対策履歴 | P21: なし | S21: 実施状況（実施日）
B22: メモ | D22: 滞水 | M22: メモ | O22: うき
B23: 写真 番号 | C23: 覆工 スパン 番号 | D23: =O5 -> S005 | M23: 写真 番号 | N23: 覆工 スパン 番号 | O23: =D23 -> S005
C25: 変状 番号 | D25: =O7+1 -> 2 | N25: 変状 番号 | O25: =D25+1 -> 3
B27: 変状 部位 | C27: 対象 箇所 | D27: 覆工・坑門 | M27: 変状 部位 | N27: 対象 箇所 | O27: 覆工・坑門
C29: 部位 区分 | D29: 水平打ち継ぎ目（左側） | N29: 部位 区分 | O29: アーチ（左側）
B31: 変状区分 | D31: 材質劣化 | M31: 変状区分 | O31: 材質劣化
B32: 変状種類 | D32: うき・はく離 | M32: 変状種類 | O32: うき・はく離
B33: 対策 区分 | C33: 応急措置前 | M33: 対策 区分 | N33: 応急措置前
C34: 応急措置後 | E34: Ⅰ | N34: 応急措置後 | P34: Ⅱb
B35: 健全性 | D35: Ⅰ | M35: 健全性 | O35: Ⅱ
B36: 変状の発生範囲の規模 | E36: 0.6m×3.1m | M36: 変状の発生範囲の規模 | P36: 0.05m×0.4m
B37: 前回定期点検時の状態 | E37: 0.1m×0.3m、0.2m×1.0m、0.3m×0.5m、0.2m×1.0mのはく落 | M37: 前回定期点検時の状態 | P37: 0.05m×0.4mのはく落
B38: 調査方針 | E38: なし | M38: 調査方針 | P38: なし
B39: 対策履歴 | E39: はく落防止工 | H39: 実施状況（実施日） | M39: 対策履歴 | P39: なし | S39: 実施状況（実施日）
B40: メモ | D40: はく落防止工対策済 | M40: メモ | O40: はく落
C41: ※ 健全性の判定区分Ⅱ～Ⅳについて添付すること。また、点検前に実施 された措置によりⅠと判定された箇所も添付すること。 | N41: ※ 変状の発生範囲の規模とは、対策を行う際に参考となる変状の長さや面積をいう。
N42: ※ 応急措置を実施しないで判定した変状の対策区分は、対策区分の応急措置後の欄に記入すること。
C43: ※ たたき落としを実施した場合は、実施後の写真を添付すること。 | N43: ※ 変状の発生範囲の規模は、面積・寸法を記載すること。
C44: ※ 画像データは100kb程度とする。 | N44: (ひび割れ幅のみmmとし、その他をm表記とする)
C45: ※ 変状数に準じてシートを追加すること。（１シートに１ページとすること。） | N45: ※ 構造用鋼材以外の異物に伴ううき・はく離については、メモ欄に異物の概要を記入すること。

Sheet 様式D-1-1 (11)
B2: ■定期点検記録様式 変状写真台帳（トンネル本体工） 【様式D-1-1】
B3: フリガナ | D3: オオザサ | H3: 路 線 名 | J3: 一般県道俵山長門古市停車場線 | M3: 定期点検業者 | P3: 株式会社オリエンタルコンサルタンツ | S3: 定期点検年月日 | U3: 45271
B4: 名 称 | D4: 大笹トンネル | H4: 管理者名 | J4: 長門土木建築事務所 | M4: 定期点検者名 | P4: 妹尾 優大
B5: 写真 番号 | C5: 覆工 スパン 番号 | D5: S005 | M5: 写真 番号 | N5: 覆工 スパン 番号 | O5: S005
C7: 変状 番号 | D7: 4 | N7: 変状 番号 | O7: =D7+1 -> 5
B9: 変状 部位 | C9: 対象 箇所 | D9: 覆工・坑門 | M9: 変状 部位 | N9: 対象 箇所 | O9: 覆工・坑門
C11: 部位 区分 | D11: アーチ（左側） | N11: 部位 区分 | O11: アーチ（右側）
B13: 変状区分 | D13: 材質劣化 | M13: 変状区分 | O13: 材質劣化
B14: 変状種類 | D14: うき・はく離 | M14: 変状種類 | O14: うき・はく離
B15: 対策 区分 | C15: 応急措置前 | M15: 対策 区分 | N15: 応急措置前
C16: 応急措置後 | E16: Ⅰ | N16: 応急措置後 | P16: Ⅰ
B17: 健全性 | D17: Ⅰ | M17: 健全性 | O17: Ⅰ
B18: 変状の発生範囲の規模 | E18: 2.7m×1.5m | M18: 変状の発生範囲の規模 | P18: 1.3m×1.0m
B19: 前回定期点検時の状態 | E19: 0.3m×0.2mのはく落 | M19: 前回定期点検時の状態 | P19: 0.2m×0.3m、0.2m×0.2mのはく落
B20: 調査方針 | E20: なし | M20: 調査方針 | P20: なし
B21: 対策履歴 | E21: はく落防止工 | H21: 実施状況（実施日） | M21: 対策履歴 | P21: はく落防止工 | S21: 実施状況（実施日）
B22: メモ | D22: はく落防止工対策済 | M22: メモ | O22: はく落防止工対策済
B23: 写真 番号 | C23: 覆工 スパン 番号 | D23: =O5 -> S005 | M23: 写真 番号 | N23: 覆工 スパン 番号 | O23: =D23 -> S005
C25: 変状 番号 | D25: =O7+1 -> 6 | N25: 変状 番号 | O25: =D25+1 -> 7
B27: 変状 部位 | C27: 対象 箇所 | D27: 覆工・坑門 | M27: 変状 部位 | N27: 対象 箇所 | O27: 覆工・坑門
C29: 部位 区分 | D29: アーチ（右側） | N29: 部位 区分 | O29: アーチ（右側）
B31: 変状区分 | D31: 材質劣化 | M31: 変状区分 | O31: 漏水
B32: 変状種類 | D32: うき・はく離 | M32: 変状種類 | O32: 漏水
B33: 対策 区分 | C33: 応急措置前 | M33: 対策 区分 | N33: 応急措置前
C34: 応急措置後 | E34: Ⅰ | N34: 応急措置後 | P34: Ⅰ
B35: 健全性 | D35: Ⅰ | M35: 健全性 | O35: Ⅰ
B36: 変状の発生範囲の規模 | E36: 1.0m×1.8m | M36: 変状の発生範囲の規模 | P36: -
B37: 前回定期点検時の状態 | E37: 0.05m×0.2mのはく落、0.1m×0.25mのうき | M37: 前回定期点検時の状態 | P37: 漏水、にじみ
B38: 調査方針 | E38: なし | M38: 調査方針 | P38: なし
B39: 対策履歴 | E39: はく落防止工 | H39: 実施状況（実施日） | M39: 対策履歴 | P39: 導水工 | S39: 実施状況（実施日）
B40: メモ | D40: はく落防止工対策済 | M40: メモ | O40: 導水工新設により対策済
C41: ※ 健全性の判定区分Ⅱ～Ⅳについて添付すること。また、点検前に実施 された措置によりⅠと判定された箇所も添付すること。 | N41: ※ 変状の発生範囲の規模とは、対策を行う際に参考となる変状の長さや面積をいう。
N42: ※ 応急措置を実施しないで判定した変状の対策区分は、対策区分の応急措置後の欄に記入すること。
C43: ※ たたき落としを実施した場合は、実施後の写真を添付すること。 | N43: ※ 変状の発生範囲の規模は、面積・寸法を記載すること。
C44: ※ 画像データは100kb程度とする。 | N44: (ひび割れ幅のみmmとし、その他をm表記とする)
C45: ※ 変状数に準じてシートを追加すること。（１シートに１ページとすること。） | N45: ※ 構造用鋼材以外の異物に伴ううき・はく離については、メモ欄に異物の概要を記入すること。

Sheet 様式D-1-1 (12)
B2: ■定期点検記録様式 変状写真台帳（トンネル本体工） 【様式D-1-1】
B3: フリガナ | D3: オオザサ | H3: 路 線 名 | J3: 一般県道俵山長門古市停車場線 | M3: 定期点検業者 | P3: 株式会社オリエンタルコンサルタンツ | S3: 定期点検年月日 | U3: 45271
B4: 名 称 | D4: 大笹トンネル | H4: 管理者名 | J4: 長門土木建築事務所 | M4: 定期点検者名 | P4: 妹尾 優大
B5: 写真 番号 | C5: 覆工 スパン 番号 | D5: S005 | M5: 写真 番号 | N5: 覆工 スパン 番号 | O5: =D5 -> S005
C7: 変状 番号 | D7: 8 | N7: 変状 番号 | O7: =D7+1 -> 9
B9: 変状 部位 | C9: 対象 箇所 | D9: 覆工・坑門 | M9: 変状 部位 | N9: 対象 箇所 | O9: 路面
C11: 部位 区分 | D11: 水平打ち継ぎ目（右側） | N11: 部位 区分 | O11: 車道
B13: 変状区分 | D13: 材質劣化 | M13: 変状区分 | O13: 漏水
B14: 変状種類 | D14: うき・はく離 | M14: 変状種類 | O14: 滞水
B15: 対策 区分 | C15: 応急措置前 | M15: 対策 区分 | N15: 応急措置前
C16: 応急措置後 | E16: Ⅱa | N16: 応急措置後 | P16: －
B17: 健全性 | D17: Ⅱ | M17: 健全性 | O17: －
B18: 変状の発生範囲の規模 | E18: 0.1m×5.6m | M18: 変状の発生範囲の規模 | P18: -
B19: 前回定期点検時の状態 | E19: 0.1m×1.2mのうき | M19: 前回定期点検時の状態 | P19: 0.3m×0.7mの滞水
B20: 調査方針 | E20: なし | M20: 調査方針 | P20: なし
B21: 対策履歴 | E21: なし | H21: 実施状況（実施日） | M21: 対策履歴 | P21: なし | S21: 実施状況（実施日）
B22: メモ | D22: うき | M22: メモ | O22: 滞水跡
B23: 写真 番号 | C23: 覆工 スパン 番号 | D23: S006 | M23: 写真 番号 | N23: 覆工 スパン 番号 | O23: =D23 -> S006
C25: 変状 番号 | D25: 1 | N25: 変状 番号 | O25: =D25+1 -> 2
B27: 変状 部位 | C27: 対象 箇所 | D27: 覆工・坑門 | M27: 変状 部位 | N27: 対象 箇所 | O27: 覆工・坑門
C29: 部位 区分 | D29: 水平打ち継ぎ目（左側） | N29: 部位 区分 | O29: アーチ（左側）
B31: 変状区分 | D31: 材質劣化 | M31: 変状区分 | O31: 材質劣化
B32: 変状種類 | D32: うき・はく離 | M32: 変状種類 | O32: うき・はく離
B33: 対策 区分 | C33: 応急措置前 | M33: 対策 区分 | N33: 応急措置前
C34: 応急措置後 | E34: Ⅱa | N34: 応急措置後 | P34: Ⅰ
B35: 健全性 | D35: Ⅱ | M35: 健全性 | O35: Ⅰ
B36: 変状の発生範囲の規模 | E36: 0.25m×0.45m | M36: 変状の発生範囲の規模 | P36: 1.3m×1.3m
B37: 前回定期点検時の状態 | E37: - | M37: 前回定期点検時の状態 | P37: 0.2m×0.3mのうき
B38: 調査方針 | E38: なし | M38: 調査方針 | P38: なし
B39: 対策履歴 | E39: なし | H39: 実施状況（実施日） | M39: 対策履歴 | P39: はく落防止工 | S39: 実施状況（実施日）
B40: メモ | D40: うき | M40: メモ | O40: はく落防止工対策済
C41: ※ 健全性の判定区分Ⅱ～Ⅳについて添付すること。また、点検前に実施 された措置によりⅠと判定された箇所も添付すること。 | N41: ※ 変状の発生範囲の規模とは、対策を行う際に参考となる変状の長さや面積をいう。
N42: ※ 応急措置を実施しないで判定した変状の対策区分は、対策区分の応急措置後の欄に記入すること。
C43: ※ たたき落としを実施した場合は、実施後の写真を添付すること。 | N43: ※ 変状の発生範囲の規模は、面積・寸法を記載すること。
C44: ※ 画像データは100kb程度とする。 | N44: (ひび割れ幅のみmmとし、その他をm表記とする)
C45: ※ 変状数に準じてシートを追加すること。（１シートに１ページとすること。） | N45: ※ 構造用鋼材以外の異物に伴ううき・はく離については、メモ欄に異物の概要を記入すること。

Sheet 様式D-1-1 (13)
B2: ■定期点検記録様式 変状写真台帳（トンネル本体工） 【様式D-1-1】
B3: フリガナ | D3: オオザサ | H3: 路 線 名 | J3: 一般県道俵山長門古市停車場線 | M3: 定期点検業者 | P3: 株式会社オリエンタルコンサルタンツ | S3: 定期点検年月日 | U3: 45271
B4: 名 称 | D4: 大笹トンネル | H4: 管理者名 | J4: 長門土木建築事務所 | M4: 定期点検者名 | P4: 妹尾 優大
B5: 写真 番号 | C5: 覆工 スパン 番号 | D5: S006 | M5: 写真 番号 | N5: 覆工 スパン 番号 | O5: =D5 -> S006
C7: 変状 番号 | D7: 3 | N7: 変状 番号 | O7: =D7+1 -> 4
B9: 変状 部位 | C9: 対象 箇所 | D9: 覆工・坑門 | M9: 変状 部位 | N9: 対象 箇所 | O9: 路面
C11: 部位 区分 | D11: 側壁（右側） | N11: 部位 区分 | O11: 車道
B13: 変状区分 | D13: 材質劣化 | M13: 変状区分 | O13: 漏水
B14: 変状種類 | D14: うき・はく離 | M14: 変状種類 | O14: 滞水
B15: 対策 区分 | C15: 応急措置前 | M15: 対策 区分 | N15: 応急措置前
C16: 応急措置後 | E16: Ⅰ | N16: 応急措置後 | P16: －
B17: 健全性 | D17: Ⅰ | M17: 健全性 | O17: －
B18: 変状の発生範囲の規模 | E18: - | M18: 変状の発生範囲の規模 | P18: -
B19: 前回定期点検時の状態 | E19: 1.2m×0.1mのうき | M19: 前回定期点検時の状態 | P19: 0.7m×0.5m、0.7m×0.6mの滞水
B20: 調査方針 | E20: なし | M20: 調査方針 | P20: なし
B21: 対策履歴 | E21: 導水工 | H21: 実施状況（実施日） | M21: 対策履歴 | P21: なし | S21: 実施状況（実施日）
B22: メモ | D22: 導水工新設により対策済 | M22: メモ | O22: 滞水跡
B23: 写真 番号 | C23: 覆工 スパン 番号 | D23: =O5 -> S006 | M23: 写真 番号 | N23: 覆工 スパン 番号 | O23: S007
C25: 変状 番号 | D25: =O7+1 -> 5 | N25: 変状 番号 | O25: 1
B27: 変状 部位 | C27: 対象 箇所 | D27: 路面 | M27: 変状 部位 | N27: 対象 箇所 | O27: 覆工・坑門
C29: 部位 区分 | D29: 車道 | N29: 部位 区分 | O29: 水平打ち継ぎ目（左側）
B31: 変状区分 | D31: 漏水 | M31: 変状区分 | O31: 材質劣化
B32: 変状種類 | D32: 滞水 | M32: 変状種類 | O32: うき・はく離
B33: 対策 区分 | C33: 応急措置前 | M33: 対策 区分 | N33: 応急措置前
C34: 応急措置後 | E34: － | N34: 応急措置後 | P34: Ⅱa
B35: 健全性 | D35: － | M35: 健全性 | O35: Ⅱ
B36: 変状の発生範囲の規模 | E36: - | M36: 変状の発生範囲の規模 | P36: 0.2m×0.55m
B37: 前回定期点検時の状態 | E37: 1.4m×0.3m、1.5m×0.6mの滞水 | M37: 前回定期点検時の状態 | P37: -
B38: 調査方針 | E38: なし | M38: 調査方針 | P38: なし
B39: 対策履歴 | E39: なし | H39: 実施状況（実施日） | M39: 対策履歴 | P39: なし | S39: 実施状況（実施日）
B40: メモ | D40: 滞水跡 | M40: メモ | O40: うき
C41: ※ 健全性の判定区分Ⅱ～Ⅳについて添付すること。また、点検前に実施 された措置によりⅠと判定された箇所も添付すること。 | N41: ※ 変状の発生範囲の規模とは、対策を行う際に参考となる変状の長さや面積をいう。
N42: ※ 応急措置を実施しないで判定した変状の対策区分は、対策区分の応急措置後の欄に記入すること。
C43: ※ たたき落としを実施した場合は、実施後の写真を添付すること。 | N43: ※ 変状の発生範囲の規模は、面積・寸法を記載すること。
C44: ※ 画像データは100kb程度とする。 | N44: (ひび割れ幅のみmmとし、その他をm表記とする)
C45: ※ 変状数に準じてシートを追加すること。（１シートに１ページとすること。） | N45: ※ 構造用鋼材以外の異物に伴ううき・はく離については、メモ欄に異物の概要を記入すること。

Sheet 様式D-1-1 (14)
B2: ■定期点検記録様式 変状写真台帳（トンネル本体工） 【様式D-1-1】
B3: フリガナ | D3: オオザサ | H3: 路 線 名 | J3: 一般県道俵山長門古市停車場線 | M3: 定期点検業者 | P3: 株式会社オリエンタルコンサルタンツ | S3: 定期点検年月日 | U3: 45271
B4: 名 称 | D4: 大笹トンネル | H4: 管理者名 | J4: 長門土木建築事務所 | M4: 定期点検者名 | P4: 妹尾 優大
B5: 写真 番号 | C5: 覆工 スパン 番号 | D5: S007 | M5: 写真 番号 | N5: 覆工 スパン 番号 | O5: =D5 -> S007
C7: 変状 番号 | D7: 2 | N7: 変状 番号 | O7: =D7+1 -> 3
B9: 変状 部位 | C9: 対象 箇所 | D9: 覆工・坑門 | M9: 変状 部位 | N9: 対象 箇所 | O9: 覆工・坑門
C11: 部位 区分 | D11: 横断目地（左側） | N11: 部位 区分 | O11: アーチ（左側）
B13: 変状区分 | D13: 漏水 | M13: 変状区分 | O13: 材質劣化
B14: 変状種類 | D14: 漏水 | M14: 変状種類 | O14: うき・はく離
B15: 対策 区分 | C15: 応急措置前 | M15: 対策 区分 | N15: 応急措置前
C16: 応急措置後 | E16: Ⅰ | N16: 応急措置後 | P16: Ⅰ
B17: 健全性 | D17: Ⅰ | M17: 健全性 | O17: Ⅰ
B18: 変状の発生範囲の規模 | E18: - | M18: 変状の発生範囲の規模 | P18: 1.15m×1.2m
B19: 前回定期点検時の状態 | E19: 漏水、にじみ | M19: 前回定期点検時の状態 | P19: 0.1m×0.2mのうき
B20: 調査方針 | E20: なし | M20: 調査方針 | P20: なし
B21: 対策履歴 | E21: 導水工 | H21: 実施状況（実施日） | M21: 対策履歴 | P21: はく落防止工 | S21: 実施状況（実施日）
B22: メモ | D22: 導水工新設により対策済 | M22: メモ | O22: はく落防止工対策済
B23: 写真 番号 | C23: 覆工 スパン 番号 | D23: =O5 -> S007 | M23: 写真 番号 | N23: 覆工 スパン 番号 | O23: =D23 -> S007
C25: 変状 番号 | D25: =O7+1 -> 4 | N25: 変状 番号 | O25: =D25+1 -> 5
B27: 変状 部位 | C27: 対象 箇所 | D27: 覆工・坑門 | M27: 変状 部位 | N27: 対象 箇所 | O27: 覆工・坑門
C29: 部位 区分 | D29: アーチ（右側） | N29: 部位 区分 | O29: 水平打ち継ぎ目（右側）
B31: 変状区分 | D31: 材質劣化 | M31: 変状区分 | O31: 漏水
B32: 変状種類 | D32: うき・はく離 | M32: 変状種類 | O32: 漏水
B33: 対策 区分 | C33: 応急措置前 | M33: 対策 区分 | N33: 応急措置前
C34: 応急措置後 | E34: Ⅰ | N34: 応急措置後 | P34: Ⅰ
B35: 健全性 | D35: Ⅰ | M35: 健全性 | O35: Ⅰ
B36: 変状の発生範囲の規模 | E36: 2.0m×2.0m | M36: 変状の発生範囲の規模 | P36: -
B37: 前回定期点検時の状態 | E37: 0.6m×0.7mのうき | M37: 前回定期点検時の状態 | P37: 漏水、にじみ
B38: 調査方針 | E38: なし | M38: 調査方針 | P38: なし
B39: 対策履歴 | E39: はく落防止工 | H39: 実施状況（実施日） | M39: 対策履歴 | P39: 導水工 | S39: 実施状況（実施日）
B40: メモ | D40: はく落防止工対策済 | M40: メモ | O40: 導水工新設により対策済
C41: ※ 健全性の判定区分Ⅱ～Ⅳについて添付すること。また、点検前に実施 された措置によりⅠと判定された箇所も添付すること。 | N41: ※ 変状の発生範囲の規模とは、対策を行う際に参考となる変状の長さや面積をいう。
N42: ※ 応急措置を実施しないで判定した変状の対策区分は、対策区分の応急措置後の欄に記入すること。
C43: ※ たたき落としを実施した場合は、実施後の写真を添付すること。 | N43: ※ 変状の発生範囲の規模は、面積・寸法を記載すること。
C44: ※ 画像データは100kb程度とする。 | N44: (ひび割れ幅のみmmとし、その他をm表記とする)
C45: ※ 変状数に準じてシートを追加すること。（１シートに１ページとすること。） | N45: ※ 構造用鋼材以外の異物に伴ううき・はく離については、メモ欄に異物の概要を記入すること。

Sheet 様式D-1-1 (15)
B2: ■定期点検記録様式 変状写真台帳（トンネル本体工） 【様式D-1-1】
B3: フリガナ | D3: オオザサ | H3: 路 線 名 | J3: 一般県道俵山長門古市停車場線 | M3: 定期点検業者 | P3: 株式会社オリエンタルコンサルタンツ | S3: 定期点検年月日 | U3: 45271
B4: 名 称 | D4: 大笹トンネル | H4: 管理者名 | J4: 長門土木建築事務所 | M4: 定期点検者名 | P4: 妹尾 優大
B5: 写真 番号 | C5: 覆工 スパン 番号 | D5: S007 | M5: 写真 番号 | N5: 覆工 スパン 番号 | O5: =D5 -> S007
C7: 変状 番号 | D7: 6 | N7: 変状 番号 | O7: =D7+1 -> 7
B9: 変状 部位 | C9: 対象 箇所 | D9: 路面 | M9: 変状 部位 | N9: 対象 箇所 | O9: 路面
C11: 部位 区分 | D11: 側溝 | N11: 部位 区分 | O11: 車道
B13: 変状区分 | D13: 漏水 | M13: 変状区分 | O13: 漏水
B14: 変状種類 | D14: 滞水 | M14: 変状種類 | O14: 滞水
B15: 対策 区分 | C15: 応急措置前 | M15: 対策 区分 | N15: 応急措置前
C16: 応急措置後 | E16: － | N16: 応急措置後 | P16: －
B17: 健全性 | D17: － | M17: 健全性 | O17: －
B18: 変状の発生範囲の規模 | E18: 0.5m×1.0m | M18: 変状の発生範囲の規模 | P18: -
B19: 前回定期点検時の状態 | E19: - | M19: 前回定期点検時の状態 | P19: 0.4m×0.8ｍ、0.3m×0.9ｍの滞水
B20: 調査方針 | E20: なし | M20: 調査方針 | P20: なし
B21: 対策履歴 | E21: なし | H21: 実施状況（実施日） | M21: 対策履歴 | P21: なし | S21: 実施状況（実施日）
B22: メモ | D22: 滞水 | M22: メモ | O22: 滞水跡
B23: 写真 番号 | C23: 覆工 スパン 番号 | D23: S008 | M23: 写真 番号 | N23: 覆工 スパン 番号 | O23: =D23 -> S008
C25: 変状 番号 | D25: 1 | N25: 変状 番号 | O25: =D25+1 -> 2
B27: 変状 部位 | C27: 対象 箇所 | D27: 覆工・坑門 | M27: 変状 部位 | N27: 対象 箇所 | O27: 覆工・坑門
C29: 部位 区分 | D29: 横断目地（左側） | N29: 部位 区分 | O29: 水平打ち継ぎ目（右側）
B31: 変状区分 | D31: 材質劣化 | M31: 変状区分 | O31: 材質劣化
B32: 変状種類 | D32: うき・はく離 | M32: 変状種類 | O32: うき・はく離
B33: 対策 区分 | C33: 応急措置前 | M33: 対策 区分 | N33: 応急措置前
C34: 応急措置後 | E34: Ⅰ | N34: 応急措置後 | P34: Ⅱa
B35: 健全性 | D35: Ⅰ | M35: 健全性 | O35: Ⅱ
B36: 変状の発生範囲の規模 | E36: - | M36: 変状の発生範囲の規模 | P36: 0.2m×1.0m
B37: 前回定期点検時の状態 | E37: 0.3m×0.1mのうき | M37: 前回定期点検時の状態 | P37: 0.2m×1.0mのうき
B38: 調査方針 | E38: なし | M38: 調査方針 | P38: なし
B39: 対策履歴 | E39: 導水工 | H39: 実施状況（実施日） | M39: 対策履歴 | P39: なし | S39: 実施状況（実施日）
B40: メモ | D40: 導水工新設により対策済 | M40: メモ | O40: うき
C41: ※ 健全性の判定区分Ⅱ～Ⅳについて添付すること。また、点検前に実施 された措置によりⅠと判定された箇所も添付すること。 | N41: ※ 変状の発生範囲の規模とは、対策を行う際に参考となる変状の長さや面積をいう。
N42: ※ 応急措置を実施しないで判定した変状の対策区分は、対策区分の応急措置後の欄に記入すること。
C43: ※ たたき落としを実施した場合は、実施後の写真を添付すること。 | N43: ※ 変状の発生範囲の規模は、面積・寸法を記載すること。
C44: ※ 画像データは100kb程度とする。 | N44: (ひび割れ幅のみmmとし、その他をm表記とする)
C45: ※ 変状数に準じてシートを追加すること。（１シートに１ページとすること。） | N45: ※ 構造用鋼材以外の異物に伴ううき・はく離については、メモ欄に異物の概要を記入すること。

Sheet 様式D-1-1 (16)
B2: ■定期点検記録様式 変状写真台帳（トンネル本体工） 【様式D-1-1】
B3: フリガナ | D3: オオザサ | H3: 路 線 名 | J3: 一般県道俵山長門古市停車場線 | M3: 定期点検業者 | P3: 株式会社オリエンタルコンサルタンツ | S3: 定期点検年月日 | U3: 45271
B4: 名 称 | D4: 大笹トンネル | H4: 管理者名 | J4: 長門土木建築事務所 | M4: 定期点検者名 | P4: 妹尾 優大
B5: 写真 番号 | C5: 覆工 スパン 番号 | D5: S008 | M5: 写真 番号 | N5: 覆工 スパン 番号 | O5: =D5 -> S008
C7: 変状 番号 | D7: 3 | N7: 変状 番号 | O7: =D7+1 -> 4
B9: 変状 部位 | C9: 対象 箇所 | D9: 覆工・坑門 | M9: 変状 部位 | N9: 対象 箇所 | O9: 覆工・坑門
C11: 部位 区分 | D11: 水平打ち継ぎ目（右側） | N11: 部位 区分 | O11: 水平打ち継ぎ目（右側）
B13: 変状区分 | D13: 漏水 | M13: 変状区分 | O13: 材質劣化
B14: 変状種類 | D14: 漏水 | M14: 変状種類 | O14: うき・はく離
B15: 対策 区分 | C15: 応急措置前 | M15: 対策 区分 | N15: 応急措置前
C16: 応急措置後 | E16: Ⅱb | N16: 応急措置後 | P16: Ⅰ
B17: 健全性 | D17: Ⅱ | M17: 健全性 | O17: Ⅰ
B18: 変状の発生範囲の規模 | E18: 2.0m×0.5m | M18: 変状の発生範囲の規模 | P18: -
B19: 前回定期点検時の状態 | E19: 漏水、にじみ | M19: 前回定期点検時の状態 | P19: 0.2m×0.5mのはく落
B20: 調査方針 | E20: なし | M20: 調査方針 | P20: なし
B21: 対策履歴 | E21: なし | H21: 実施状況（実施日） | M21: 対策履歴 | P21: 導水工 | S21: 実施状況（実施日）
B22: メモ | D22: 漏水、にじみ | M22: メモ | O22: 導水工新設により対策済
B23: 写真 番号 | C23: 覆工 スパン 番号 | D23: S009 | M23: 写真 番号 | N23: 覆工 スパン 番号 | O23: =D23 -> S009
C25: 変状 番号 | D25: 1 | N25: 変状 番号 | O25: =D25+1 -> 2
B27: 変状 部位 | C27: 対象 箇所 | D27: 覆工・坑門 | M27: 変状 部位 | N27: 対象 箇所 | O27: 覆工・坑門
C29: 部位 区分 | D29: 横断目地（左側） | N29: 部位 区分 | O29: 横断目地（左側）
B31: 変状区分 | D31: 材質劣化 | M31: 変状区分 | O31: 材質劣化
B32: 変状種類 | D32: うき・はく離 | M32: 変状種類 | O32: うき・はく離
B33: 対策 区分 | C33: 応急措置前 | M33: 対策 区分 | N33: 応急措置前
C34: 応急措置後 | E34: Ⅰ | N34: 応急措置後 | P34: Ⅰ
B35: 健全性 | D35: Ⅰ | M35: 健全性 | O35: Ⅰ
B36: 変状の発生範囲の規模 | E36: - | M36: 変状の発生範囲の規模 | P36: -
B37: 前回定期点検時の状態 | E37: 0.2m×0.1mのはく落 | M37: 前回定期点検時の状態 | P37: 0.5m×0.1mのうき
B38: 調査方針 | E38: なし | M38: 調査方針 | P38: なし
B39: 対策履歴 | E39: 導水工 | H39: 実施状況（実施日） | M39: 対策履歴 | P39: 導水工 | S39: 実施状況（実施日）
B40: メモ | D40: 導水工新設により対策済 | M40: メモ | O40: 導水工新設により対策済
C41: ※ 健全性の判定区分Ⅱ～Ⅳについて添付すること。また、点検前に実施 された措置によりⅠと判定された箇所も添付すること。 | N41: ※ 変状の発生範囲の規模とは、対策を行う際に参考となる変状の長さや面積をいう。
N42: ※ 応急措置を実施しないで判定した変状の対策区分は、対策区分の応急措置後の欄に記入すること。
C43: ※ たたき落としを実施した場合は、実施後の写真を添付すること。 | N43: ※ 変状の発生範囲の規模は、面積・寸法を記載すること。
C44: ※ 画像データは100kb程度とする。 | N44: (ひび割れ幅のみmmとし、その他をm表記とする)
C45: ※ 変状数に準じてシートを追加すること。（１シートに１ページとすること。） | N45: ※ 構造用鋼材以外の異物に伴ううき・はく離については、メモ欄に異物の概要を記入すること。

Sheet 様式D-1-1 (17)
B2: ■定期点検記録様式 変状写真台帳（トンネル本体工） 【様式D-1-1】
B3: フリガナ | D3: オオザサ | H3: 路 線 名 | J3: 一般県道俵山長門古市停車場線 | M3: 定期点検業者 | P3: 株式会社オリエンタルコンサルタンツ | S3: 定期点検年月日 | U3: 45271
B4: 名 称 | D4: 大笹トンネル | H4: 管理者名 | J4: 長門土木建築事務所 | M4: 定期点検者名 | P4: 妹尾 優大
B5: 写真 番号 | C5: 覆工 スパン 番号 | D5: S009 | M5: 写真 番号 | N5: 覆工 スパン 番号 | O5: =D5 -> S009
C7: 変状 番号 | D7: 3 | N7: 変状 番号 | O7: =D7+1 -> 4
B9: 変状 部位 | C9: 対象 箇所 | D9: 覆工・坑門 | M9: 変状 部位 | N9: 対象 箇所 | O9: 覆工・坑門
C11: 部位 区分 | D11: 横断目地（右側） | N11: 部位 区分 | O11: 側壁（右側）
B13: 変状区分 | D13: 漏水 | M13: 変状区分 | O13: 漏水
B14: 変状種類 | D14: 漏水 | M14: 変状種類 | O14: 漏水
B15: 対策 区分 | C15: 応急措置前 | M15: 対策 区分 | N15: 応急措置前
C16: 応急措置後 | E16: Ⅰ | N16: 応急措置後 | P16: Ⅱb
B17: 健全性 | D17: Ⅰ | M17: 健全性 | O17: Ⅱ
B18: 変状の発生範囲の規模 | E18: - | M18: 変状の発生範囲の規模 | P18: 1.1m×0.5m
B19: 前回定期点検時の状態 | E19: 漏水、にじみ | M19: 前回定期点検時の状態 | P19: -
B20: 調査方針 | E20: なし | M20: 調査方針 | P20: なし
B21: 対策履歴 | E21: 導水工 | H21: 実施状況（実施日） | M21: 対策履歴 | P21: なし | S21: 実施状況（実施日）
B22: メモ | D22: 導水工新設により対策済 | M22: メモ | O22: 漏水、にじみ
B23: 写真 番号 | C23: 覆工 スパン 番号 | D23: =O5 -> S009 | M23: 写真 番号 | N23: 覆工 スパン 番号 | O23: =D23 -> S009
C25: 変状 番号 | D25: =O7+1 -> 5 | N25: 変状 番号 | O25: =D25+1 -> 6
B27: 変状 部位 | C27: 対象 箇所 | D27: 路面 | M27: 変状 部位 | N27: 対象 箇所 | O27: 路面
C29: 部位 区分 | D29: 側溝 | N29: 部位 区分 | O29: 側溝
B31: 変状区分 | D31: 漏水 | M31: 変状区分 | O31: 漏水
B32: 変状種類 | D32: 滞水 | M32: 変状種類 | O32: 滞水
B33: 対策 区分 | C33: 応急措置前 | M33: 対策 区分 | N33: 応急措置前
C34: 応急措置後 | E34: － | N34: 応急措置後 | P34: －
B35: 健全性 | D35: － | M35: 健全性 | O35: －
B36: 変状の発生範囲の規模 | E36: 0.6m×1.5m | M36: 変状の発生範囲の規模 | P36: 0.3m×2.7m
B37: 前回定期点検時の状態 | E37: 0.2m×0.6mの滞水 | M37: 前回定期点検時の状態 | P37: 0.4m×0.3m、0.4m×2.6mの滞水
B38: 調査方針 | E38: なし | M38: 調査方針 | P38: なし
B39: 対策履歴 | E39: なし | H39: 実施状況（実施日） | M39: 対策履歴 | P39: なし | S39: 実施状況（実施日）
B40: メモ | D40: 滞水 | M40: メモ | O40: 滞水
