Workbook
Name その他: '(参考)リスト'!$C$45
Name その他施設: '(参考)リスト'!$C$76:$C$80
Name 外力: '(参考)リスト'!$E$16:$E$23
Name 換気施設: '(参考)リスト'!$C$55:$C$59
Name 坑門: '(参考)リスト'!$C$16:$C$29
Name 材質劣化: '(参考)リスト'!$E$25:$E$30
Name 照明施設: '(参考)リスト'!$C$51:$C$53
Name 対象箇所: [1]!テーブル1[対象箇所]
Name 対象箇所: [2]!テーブル1[対象箇所]
Name 対象箇所: [2]!テーブル1[対象箇所]
Name 対象箇所: [2]!テーブル1[対象箇所]
Name 対象箇所: [2]!テーブル1[対象箇所]
Name 対象箇所: [2]!テーブル1[対象箇所]
Name 対象箇所: [2]!テーブル1[対象箇所]
Name 対象箇所: [2]!テーブル1[対象箇所]
Name 対象箇所: [2]!テーブル1[対象箇所]
Name 対象箇所: [2]!テーブル1[対象箇所]
Name 対象箇所: [2]!テーブル1[対象箇所]
Name 対象箇所: [2]!テーブル1[対象箇所]
Name 対象箇所: [2]!テーブル1[対象箇所]
Name 対象箇所: [2]!テーブル1[対象箇所]
Name 対象箇所: [2]!テーブル1[対象箇所]
Name 対象箇所: [2]!テーブル1[対象箇所]
Name 対象箇所: [2]!テーブル1[対象箇所]
Name 対象箇所: [2]!テーブル1[対象箇所]
Name 対象箇所: [2]!テーブル1[対象箇所]
Name 対象箇所: [2]!テーブル1[対象箇所]
Name 対象箇所: [2]!テーブル1[対象箇所]
Name 対象箇所: [2]!テーブル1[対象箇所]
Name 対象箇所: [2]!テーブル1[対象箇所]
Name 対象箇所: [2]!テーブル1[対象箇所]
Name 対象箇所: [2]!テーブル1[対象箇所]
Name 対象箇所: [2]!テーブル1[対象箇所]
Name 対象箇所: [2]!テーブル1[対象箇所]
Name 対象箇所: [2]!テーブル1[対象箇所]
Name 対象箇所: [2]!テーブル1[対象箇所]
Name 対象箇所: [2]!テーブル1[対象箇所]
Name 対象箇所: [2]!テーブル1[対象箇所]
Name 対象箇所: [2]!テーブル1[対象箇所]
Name 対象箇所: [2]!テーブル1[対象箇所]
Name 対象箇所: [2]!テーブル1[対象箇所]
Name 対象箇所: [2]!テーブル1[対象箇所]
Name 対象箇所: [2]!テーブル1[対象箇所]
Name 対象箇所: [2]!テーブル1[対象箇所]
Name 対象箇所: [2]!テーブル1[対象箇所]
Name 対象箇所: [2]!テーブル1[対象箇所]
Name 対象箇所: [2]!テーブル1[対象箇所]
Name 対象箇所: [2]!テーブル1[対象箇所]
Name 対象箇所: [2]!テーブル1[対象箇所]
Name 対象箇所: [2]!テーブル1[対象箇所]
Name 対象箇所: [2]!テーブル1[対象箇所]
Name 対象箇所: [2]!テーブル1[対象箇所]
Name 対象箇所: [2]!テーブル1[対象箇所]
Name 対象箇所: [2]!テーブル1[対象箇所]
Name 対象箇所: [2]!テーブル1[対象箇所]
Name 対象箇所: [2]!テーブル1[対象箇所]
Name 対象箇所: [2]!テーブル1[対象箇所]
Name 対象箇所: [2]!テーブル1[対象箇所]
Name 対象箇所: [2]!テーブル1[対象箇所]
Name 対象箇所: [2]!テーブル1[対象箇所]

Sheet 様式A-1
B2: ■トンネル台帳 トンネル諸元、非常用施設諸元 【様式A-1】 | S2: トンネルID
B3: フリガナ | D3: オオミズトウゲトンネル | H3: 路線名 | J3: 主要県道秋芳三隅線 | P3: 管理者名 | R3: 長門土木建築事務所 | W3: 緊急輸送道路 | Z3: 有
B4: 名 称 | D4: 大水峠トンネル | W4: 代替路の有無 | Z4: 有
B5: 所在地 | D5: 自 | E5: 山口県美祢市秋芳町 | H5: 作成者 | K5: 応用地質株式会社 | P5: 作成年月日 | R5: 44971 | U5: トンネル延長 | X5: L= | Z5: 1175 | AB5: ｍ
D6: 至 | E6: 山口県長門市三隅中 | U6: ﾄﾝﾈﾙの分類 | X6: 陸上トンネル(NATM工法)
B7: 起点 | C7: 緯度 | E7: 341932.29 | H7: 完成年月日 | K7: 36800 | M7: 舗装 | O7: 種 別 | Q7: コンクリート | S7: トンネル非常用施設 | T7: 施設の内訳 | X7: 種別・方式 | Y7: 型式 | Z7: 個数 | AA7: 更新年度 | AE7: =INT(E7/10000) -> 34 | AF7: =INT(E7/100)-AE7*100 -> 19 | AG7: =E7-AE7*10000-AF7*100 -> 32.29 | AH7: =ROUND(AE7+AF7/60+AG7/60/60,5) -> 34.32564 | AI7: =TEXT(AH7,"0.00000") -> 34.32564
C8: 経度 | E8: 1311639.2 | H8: 供用年月日 | K8: 36973 | O8: 厚 さ | Q8: 0.25 | T8: 通報設備 | U8: 通話型通報設備 | X8: 12 | AE8: =INT(E8/10000) -> 131 | AF8: =INT(E8/100)-AE8*100 -> 16 | AG8: =E8-AE8*10000-AF8*100 -> 39.16 | AH8: =ROUND(AE8+AF8/60+AG8/60/60,5) -> 131.27754 | AI8: =TEXT(AH8,"0.00000") -> 131.27754
B9: 終点 | C9: 緯度 | E9: 342004.19 | H9: トンネル区分 | K9: Ｂ | O9: 面 積 | U9: 操作型通報設備 | X9: 24
C10: 経度 | E10: 1311614.7 | H10: 内装種類 | K10: 内装なし(覆工) | O10: 更新年次 | U10: 自動通報設備
B11: 一般有料区分 | E11: 一般 | H11: 天井板種類 | K11: - | M11: 排水 | O11: 種 別 | Q11: 円形水路 | T11: 警報設備 | U11: 非常警報設備
B12: 土かぶり | E12: 225 | G12: m | H12: 坑門 | I12: 起点 | J12: 形式 | K12: 面壁型 | O12: 更新年次 | T12: 消火設備 | U12: 消 火 器 | X12: 24
B13: 内空断面積 | E13: 57 | G13: ㎡ | J13: 延長 | K13: 1 | L13: m | M13: 施設 | P13: 種別・方式 | Q13: 個数 | R13: 更新年次 | U13: 消火栓設備
B14: 交 通 量 | E14: 2226 | G14: 台/日 | I14: 終点 | J14: 形式 | K14: 面壁型 | M14: 道路附属物等 | N14: 照明 | P14: LED | Q14: 98 | T14: 避難誘導設備 | U14: 誘導表示設備 | X14: 11
C15: 道 路 幅 | E15: 9.75 | G15: m | J15: 延長 | K15: 1 | L15: m | N15: 換気 | P15: 自然換気 | U15: 避難情報提供設備
B16: 幅 員 | C16: 車 道 幅 | E16: 3.5 | G16: m | H16: 竣工巻厚 | I16: アーチ | K16: 30～35 | L16: cm | N16: 標識 | P16: 案内板 | Q16: 82
E17: 3.5 | G17: m | I17: 側 壁 | K17: 30～35 | L17: cm | N17: 警報表示板 | U17: 避難通路
C18: 歩道等幅 | E18: 2.75 | G18: m | L18: cm | N18: 吸音板 | U18: 排煙設備
B19: 高さ | C19: 建築限界高 | E19: 4.5 | G19: m | I19: インバート | K19: 50 | L19: cm | T19: その他の設備 | U19: 給水栓設備
C20: 中央高 | E20: 6.4 | G20: m | H20: 半径 | I20: アーチ | K20: 510 | L20: cm | U20: 無線通信補助設備
C21: 有効高 | E21: 4.7 | G21: m | I21: 側 壁 | K21: 1020 | L21: cm | U21: 水噴霧設備
C22: 縦断勾配 | E22: 下り3.0％ | I22: インバート | K22: 1485 | L22: cm | U22: 監視設備
B23: 線 形 | C23: 直線区間長 | E23: 469.8 | H23: 占用物件 | I23: 種 類 | K23: 寸 法 | M23: 管理者名 | Q23: 更新年次 | S23: 非常用施設 関連設備 | U23: 予備発電設備
C24: 曲線区間 | D24: 区間長 | F24: 705.2
D25: 起点側ｸﾛｿｲﾄﾞ | F25: -
D26: 曲線半径 | F26: 1000
D27: 終点側ｸﾛｿｲﾄﾞ | F27: - | S27: その他 | U27: 非常駐車帯 | X27: 2
B28: トンネル工法 | E28: 山岳トンネル工法（NATM） | U28: 方向転換所
C29: ※緯度・経度については、秒の少数第二位の単位まで記入すること。（例；36度20分35.56秒の場合、362035.36と入力）

Sheet 様式A-2
B3: ■トンネル台帳 トンネル情報一覧表 【様式A-2】
B4: フリガナ | E4: オオミズトウゲトンネル | J4: 路線名 | M4: 主要県道秋芳三隅線 | S4: 作成者 | Y4: 応用地質株式会社 | AE4: 作成年月日 | AI4: 44971
B5: 名 称 | E5: 大水峠トンネル | J5: 管理者名 | M5: 長門土木建築事務所
B6: 覆工 ｽﾊﾟﾝ 番号 | C6: ｽﾊﾟﾝ長 | D6: 追加距離 | F6: トンネル本体工 | K6: 照明施設 | O6: 非常用施設 | AE6: 換気施設 | AK6: その他附属物等
O7: ='様式A-1'!T8 -> 通報設備 | R7: ='様式A-1'!T11 -> 警報設備 | S7: ='様式A-1'!T12 -> 消火設備 | U7: ='様式A-1'!T14 -> 避難誘導設備 | Y7: ='様式A-1'!T19 -> その他の設備 | AC7: 特記事項
D8: 起点側 | E8: 終点側 | F8: 特記事項 | I8: 内装板 | J8: 天井板 | K8: 基本照明 | L8: 入口出口照明 | M8: 特記事項 | O8: ='様式A-1'!U8 -> 通話型通報設備 | P8: ='様式A-1'!U9 -> 操作型通報設備 | Q8: ='様式A-1'!U10 -> 自動通報設備 | R8: ='様式A-1'!U11 -> 非常警報設備 | S8: ='様式A-1'!U12 -> 消 火 器 | T8: ='様式A-1'!U13 -> 消火栓設備 | U8: ='様式A-1'!U14 -> 誘導表示設備 | V8: ='様式A-1'!U15 -> 避難情報提供設備 | W8: ='様式A-1'!U17 -> 避難通路 | X8: ='様式A-1'!U18 -> 排煙設備 | Y8: ='様式A-1'!U19 -> 給水栓設備 | Z8: ='様式A-1'!U20 -> 無線通信補助設備 | AA8: ='様式A-1'!U21 -> 水噴霧設備 | AB8: ='様式A-1'!U22 -> 監視設備 | AE8: JF | AF8: VI計 | AG8: CO計 | AH8: 風向 風速計 | AI8: 特記事項
C9: (m) | D9: (m) | E9: (m)
B10: PS | C10: 0 | D10: 0 | E10: 0 | F10: 坑門（面壁型）
B11: 1 | C11: 3.8 | D11: 0 | E11: 3.8 | K11: ○
B12: 2 | C12: 10.4 | D12: 3.81 | E12: 14.21 | L12: ○ | O12: ① | P12: ① | T12: ①
B13: 3 | C13: 10.43 | D13: 14.21 | E13: 24.64 | L13: ○
B14: 4 | C14: 10.49 | D14: 24.64 | E14: 35.13 | K14: ○
B15: 5 | C15: 10.45 | D15: 35.13 | E15: 45.58 | L15: ○
B16: 6 | C16: 10.43 | D16: 45.58 | E16: 56.01 | L16: ○
B17: 7 | C17: 10.57 | D17: 56.01 | E17: 66.58 | K17: ○ | P17: ② | T17: ②
B18: 8 | C18: 10.56 | D18: 66.58 | E18: 77.14 | L18: ○
B19: 9 | C19: 10.56 | D19: 77.14 | E19: 87.7 | K19: ○ | L19: ○
B20: 10 | C20: 10.58 | D20: 87.7 | E20: 98.28 | L20: ○
B21: 11 | C21: 10.52 | D21: 98.28 | E21: 108.8 | L21: ○
B22: 12 | C22: 10.47 | D22: 108.8 | E22: 119.27 | K22: ○ | P22: ③ | T22: ③
B23: 13 | C23: 10.38 | D23: 119.27 | E23: 129.65 | L23: ○
B24: 14 | C24: 10.34 | D24: 129.65 | E24: 139.99 | L24: ○
B25: 15 | C25: 10.4 | D25: 139.99 | E25: 150.39 | K25: ○
B26: 16 | C26: 10.37 | D26: 150.39 | E26: 160.76 | L26: ○
B27: 17 | C27: 10.37 | D27: 160.76 | E27: 171.13 | K27: ○ | O27: ② | P27: ④ | T27: ④
B28: 18 | C28: 10.38 | D28: 171.13 | E28: 181.51
B29: 19 | C29: 10.37 | D29: 181.51 | E29: 191.88 | L29: ○
B30: 20 | C30: 10.37 | D30: 191.88 | E30: 202.25 | K30: ○
B31: 21 | C31: 10.38 | D31: 202.25 | E31: 212.63 | L31: ○ | O31: ③ | P31: ⑤ | T31: ⑤
B32: 22 | C32: 10.37 | D32: 212.63 | E32: 223
B33: 23 | C33: 10.36 | D33: 223 | E33: 233.36 | K33: ○
B34: 24 | C34: 10.41 | D34: 233.36 | E34: 243.77
B35: 25 | C35: 10.36 | D35: 243.77 | E35: 254.13 | K35: ○
B36: 26 | C36: 10.45 | D36: 254.13 | E36: 264.58 | P36: ⑥ | T36: ⑥
B37: 27 | C37: 10.43 | D37: 264.58 | E37: 275.01
B38: 28 | C38: 10.35 | D38: 275.01 | E38: 285.36 | K38: ○
B39: 29 | C39: 10.48 | D39: 285.36 | E39: 295.84
B40: 30 | C40: 10.37 | D40: 295.84 | E40: 306.21
B41: 31 | C41: 10.43 | D41: 306.21 | E41: 316.64 | K41: ○ | P41: ⑦ | T41: ⑦
B42: 32 | C42: 10.38 | D42: 316.64 | E42: 327.02
B43: 33 | C43: 10.45 | D43: 327.02 | E43: 337.47 | K43: ○
B44: 34 | C44: 10.43 | D44: 337.47 | E44: 347.9
B45: 35 | C45: 10.4 | D45: 347.9 | E45: 358.3
B46: 36 | C46: 10.42 | D46: 358.3 | E46: 368.72 | K46: ○ | O46: ④ | P46: ⑧ | T46: ⑧
B47: 37 | C47: 10.41 | D47: 368.72 | E47: 379.13
B48: 38 | C48: 10.38 | D48: 379.13 | E48: 389.51
B49: 39 | C49: 10.41 | D49: 389.51 | E49: 399.92 | K49: ○
B50: 40 | C50: 10.43 | D50: 399.92 | E50: 410.35
B51: 41 | C51: 10.45 | D51: 410.35 | E51: 420.8 | K51: ○ | O51: ⑤ | P51: ⑨ | T51: ⑨
B52: 42 | C52: 10.43 | D52: 420.8 | E52: 431.23
B53: 43 | C53: 10.42 | D53: 431.23 | E53: 441.65
B54: 44 | C54: 10.42 | D54: 441.65 | E54: 452.07 | K54: ○
B55: 45 | C55: 10.4 | D55: 452.07 | E55: 462.47 | P55: ⑩ | T55: ⑩
B56: 46 | C56: 10.54 | D56: 462.47 | E56: 473.01
B57: 47 | C57: 10.56 | D57: 473.01 | E57: 483.57 | K57: ○
B58: 48 | C58: 10.55 | D58: 483.57 | E58: 494.12
B59: 49 | C59: 10.55 | D59: 494.12 | E59: 504.67 | K59: ○
B60: 50 | C60: 10.5 | D60: 504.67 | E60: 515.17 | P60: ⑪ | T60: ⑪
B61: 51 | C61: 10.48 | D61: 515.17 | E61: 525.65
B62: 52 | C62: 10.3 | D62: 525.65 | E62: 535.95 | K62: ○
B63: 53 | C63: 6.39 | D63: 535.95 | E63: 542.34 | F63: 非常駐車帯（R） | L63: ○
B64: 54 | C64: 6.5 | D64: 542.34 | E64: 548.84 | F64: 非常駐車帯（R） | L64: ○
B65: 55 | C65: 6.54 | D65: 548.84 | E65: 555.38 | F65: 非常駐車帯（R） | L65: ○
B66: 56 | C66: 6.6 | D66: 555.38 | E66: 561.98 | F66: 非常駐車帯（R） | K66: ○ | L66: ○
B67: 57 | C67: 7.4 | D67: 561.98 | E67: 569.38 | O67: ⑥ | P67: ⑫ | T67: ⑫
B68: 58 | C68: 10.5 | D68: 569.38 | E68: 579.88
B69: 59 | C69: 10.5 | D69: 579.88 | E69: 590.38 | K69: ○
B70: 60 | C70: 10.5 | D70: 590.38 | E70: 600.88
B71: 61 | C71: 10.5 | D71: 600.88 | E71: 611.38 | O71: ⑦ | P71: ⑬ | T71: ⑬
B72: 62 | C72: 6.4 | D72: 611.38 | E72: 617.78 | F72: 非常駐車帯（L） | K72: ○
B73: 63 | C73: 6.5 | D73: 617.78 | E73: 624.28 | F73: 非常駐車帯（L） | L73: ○
B74: 64 | C74: 6.5 | D74: 624.28 | E74: 630.78 | F74: 非常駐車帯（L） | L74: ○
B75: 65 | C75: 6.7 | D75: 630.78 | E75: 637.48 | F75: 非常駐車帯（L） | L75: ○
B76: 66 | C76: 6 | D76: 637.48 | E76: 643.48 | K76: ○
B77: 67 | C77: 10.5 | D77: 643.48 | E77: 653.98
B78: 68 | C78: 10.5 | D78: 653.98 | E78: 664.48 | P78: ⑭ | T78: ⑭
B79: 69 | C79: 10.5 | D79: 664.48 | E79: 674.98 | K79: ○
B80: 70 | C80: 10.5 | D80: 674.98 | E80: 685.48
B81: 71 | C81: 10.5 | D81: 685.48 | E81: 695.98
B82: 72 | C82: 10.5 | D82: 695.98 | E82: 706.48 | K82: ○
B83: 73 | C83: 10.5 | D83: 706.48 | E83: 716.98 | P83: ⑮ | T83: ⑮
B84: 74 | C84: 10.5 | D84: 716.98 | E84: 727.48 | K84: ○
B85: 75 | C85: 10.5 | D85: 727.48 | E85: 737.98
B86: 76 | C86: 10.5 | D86: 737.98 | E86: 748.48
B87: 77 | C87: 10.5 | D87: 748.48 | E87: 758.98 | K87: ○
B88: 78 | C88: 10.5 | D88: 758.98 | E88: 769.48 | O88: ⑧ | P88: ⑯ | T88: ⑯
B89: 79 | C89: 10.4 | D89: 769.48 | E89: 779.88
B90: 80 | C90: 10.4 | D90: 779.88 | E90: 790.28 | K90: ○
B91: 81 | C91: 10.48 | D91: 790.28 | E91: 800.76
B92: 82 | C92: 10.46 | D92: 800.76 | E92: 811.22 | K92: ○
B93: 83 | C93: 10.46 | D93: 811.22 | E93: 821.68 | O93: ⑨ | P93: ⑰ | T93: ⑰
B94: 84 | C94: 10.46 | D94: 821.68 | E94: 832.14
B95: 85 | C95: 10.45 | D95: 832.14 | E95: 842.59 | K95: ○
B96: 86 | C96: 10.47 | D96: 842.59 | E96: 853.06
B97: 87 | C97: 10.46 | D97: 853.06 | E97: 863.52 | P97: ⑱ | T97: ⑱
B98: 88 | C98: 10.42 | D98: 863.52 | E98: 873.94 | K98: ○
B99: 89 | C99: 10.42 | D99: 873.94 | E99: 884.36
B100: 90 | C100: 10.44 | D100: 884.36 | E100: 894.8 | K100: ○
B101: 91 | C101: 10.46 | D101: 894.8 | E101: 905.26
B102: 92 | C102: 10.42 | D102: 905.26 | E102: 915.68 | P102: ⑲ | T102: ⑲
...

Sheet 様式A-3
B3: ■トンネル台帳 トンネル記録（位置図、断面図、施工実績他）【様式A-3】
B4: フリガナ | E4: オオミズトウゲトンネル | J4: 路線名 | M4: 主要県道秋芳三隅線 | S4: 作成者 | W4: 応用地質株式会社 | AC4: 作成年月日 | AF4: 44971
B5: 名 称 | E5: 大水峠トンネル | J5: 管理者名 | M5: 長門土木建築事務所
B6: 位置図・現況写真・標準断面図・地質縦断図・施工実績
B20: ■トンネル台帳 トンネル記録（位置図、断面図、施工実績他）【様式A-3】
B21: フリガナ | E21: オオミズトウゲトンネル | J21: 路線名 | M21: 主要県道秋芳三隅線 | S21: 作成者 | W21: 応用地質株式会社 | AC21: 作成年月日 | AF21: 44971
B22: 名 称 | E22: 大水峠トンネル | J22: 管理者名 | M22: 長門土木建築事務所
B23: 位置図・現況写真・標準断面図・地質縦断図・施工実績
B37: ■トンネル台帳 トンネル記録（位置図、断面図、施工実績他）【様式A-3】
B38: フリガナ | E38: オオミズトウゲトンネル | J38: 路線名 | M38: 主要県道秋芳三隅線 | S38: 作成者 | W38: 応用地質株式会社 | AC38: 作成年月日 | AF38: 44971
B39: 名 称 | E39: 大水峠トンネル | J39: 管理者名 | M39: 長門土木建築事務所
B40: 位置図・現況写真・標準断面図・地質縦断図・施工実績
B54: ■トンネル台帳 トンネル記録（位置図、断面図、施工実績他）【様式A-3】
B55: フリガナ | E55: オオミズトウゲトンネル | J55: 路線名 | M55: 主要県道秋芳三隅線 | S55: 作成者 | W55: 応用地質株式会社 | AC55: 作成年月日 | AF55: 44971
B56: 名 称 | E56: 大水峠トンネル | J56: 管理者名 | M56: 長門土木建築事務所
B57: 位置図・現況写真・標準断面図・地質縦断図・施工実績

Sheet 様式B(トンネル様式1P001)
B2: ■定期点検記録様式 トンネル変状・異常箇所写真位置図 【様式B】 | T2: トンネルID | AA2: Ⅰ | AB2: あり | AC2: 陸上トンネル 掘進工法
B3: フリガナ | D3: オオミズトウゲトンネル | H3: 路線名 | J3: 主要県道秋芳三隅線 | N3: 管理者名 | P3: 長門土木建築事務所 | T3: 緊急輸送道路 | V3: あり | AA3: Ⅱ | AB3: なし | AC3: 陸上トンネル 開削工法
B4: 名 称 | D4: 大水峠トンネル | T4: 代替路の有無 | V4: あり | AA4: Ⅲ | AC4: 陸上トンネル その他
B5: 所在地 | D5: 自 | E5: 山口県美祢市秋芳町 | H5: 定期点検業者 | K5: 応用地質株式会社 | O5: 定期点検年月日 | Q5: 44860 | T5: トンネル延長 | V5: L= | W5: 1175 | Y5: ｍ | AA5: Ⅳ | AC5: 水底トンネル 掘進工法
D6: 至 | E6: 山口県長門市三隅中 | H6: 定期点検者名 | K6: 太田 裕之 | T6: ﾄﾝﾈﾙの分類 | V6: 陸上トンネル(NATM工法) | AC6: 水底トンネル 沈埋工法
B7: 起点 | C7: 緯度 | D7: 34°19′32.29″ | F7: 変状・異常 箇所数合計 | H7: トンネル 本体工 | J7: 材質劣化 | L7: Ⅱ | M7: 155 | N7: Ⅲ | O7: 6 | P7: Ⅳ | Q7: 0 | R7: トンネル毎 の健全性 | T7: Ⅲ | V7: 附属物の 取付状態 | W7: ◯ （応急措置後） | Y7: 0 | AC7: 水底トンネル 開削工法
AC8: 水底トンネル その他
C10: 経度 | D10: 131°16′39.16″
J11: 漏水 | L11: Ⅱ | M11: 26 | N11: Ⅲ | O11: 0 | P11: Ⅳ | Q11: 0
B13: 終点 | C13: 緯度 | D13: 34°20′04.19″ | W13: ✕ | Y13: 0
J15: 外力 | L15: Ⅱ | M15: 22 | N15: Ⅲ | O15: 0 | P15: Ⅳ | Q15: 0 | AC15: 0
C16: 経度 | D16: 131°16′14.71″
B19: トンネル変状・異常箇所写真位置図
P26: 注１：本位置図は、見下げた状態で記載すること。 注２：覆工スパン番号は横断目地毎(矢板工法の場合は上半アーチ の横断目地毎)に設定すること。 注３：写真番号に付する変状番号は、各覆工スパンの変状に対して新た に確認された場合は順次追加していくこと。 注４：横断目地の変状は前の覆工スパン番号で計上すること。 注５：１枚に収まらない場合は、複数枚に分けて作成すること。
C28: ※1 トンネル本体工の変状数は、材質劣化、漏水に起因するものは変状単位で、外力に起因するものはスパン単位で計上すること。
C29: ※2 本体工の変状に対しては、健全性の判定区分Ⅱ～Ⅳについて添付すること。また、点検前に実施された措置によりⅠと判定された箇所も添付すること。
C30: ※3 附属物の取付状態の○欄については、応急措置前に判定区分×とした箇所のうち応急措置により○判定とした箇所の数を記入すること。
C31: ※4 附属物の異常番号は、本体工と番号が重複しないよう101番以降とする等の配慮を行い、分かりやすく記録すること。
B33: ■定期点検記録様式 トンネル変状・異常箇所写真位置図 【様式B】 | T33: トンネルID | AA33: Ⅰ | AB33: あり | AC33: 陸上トンネル 掘進工法
B34: フリガナ | D34: オオミズトウゲトンネル | H34: 路線名 | J34: 主要県道秋芳三隅線 | N34: 管理者名 | P34: 長門土木建築事務所 | T34: 緊急輸送道路 | V34: あり | AA34: Ⅱ | AB34: なし | AC34: 陸上トンネル 開削工法
B35: 名 称 | D35: 大水峠トンネル | T35: 代替路の有無 | V35: あり | AA35: Ⅲ | AC35: 陸上トンネル その他
B36: 所在地 | D36: 自 | E36: 山口県美祢市秋芳町 | H36: 定期点検業者 | K36: 応用地質株式会社 | O36: 定期点検年月日 | Q36: 44860 | T36: トンネル延長 | V36: L= | W36: 1175 | Y36: ｍ | AA36: Ⅳ | AC36: 水底トンネル 掘進工法
D37: 至 | E37: 山口県長門市三隅中 | H37: 定期点検者名 | K37: 太田 裕之 | T37: ﾄﾝﾈﾙの分類 | V37: 陸上トンネル(NATM工法) | AC37: 水底トンネル 沈埋工法
B38: 起点 | C38: 緯度 | D38: 34°19′32.29″ | F38: 変状・異常 箇所数合計 | H38: トンネル 本体工 | J38: 材質劣化 | L38: Ⅱ | M38: 155 | N38: Ⅲ | O38: 6 | P38: Ⅳ | Q38: 0 | R38: トンネル毎 の健全性 | T38: Ⅲ | V38: 附属物の 取付状態 | W38: ◯ （応急措置後） | Y38: 0 | AC38: 水底トンネル 開削工法
AC39: 水底トンネル その他
C41: 経度 | D41: 131°16′39.16″
J42: 漏水 | L42: Ⅱ | M42: 26 | N42: Ⅲ | O42: 0 | P42: Ⅳ | Q42: 0
B44: 終点 | C44: 緯度 | D44: 34°20′04.19″ | W44: ✕ | Y44: 0
J46: 外力 | L46: Ⅱ | M46: 22 | N46: Ⅲ | O46: 0 | P46: Ⅳ | Q46: 0 | AC46: 0
C47: 経度 | D47: 131°16′14.71″
B50: トンネル変状・異常箇所写真位置図
P57: 注１：本位置図は、見下げた状態で記載すること。 注２：覆工スパン番号は横断目地毎(矢板工法の場合は上半アーチ の横断目地毎)に設定すること。 注３：写真番号に付する変状番号は、各覆工スパンの変状に対して新た に確認された場合は順次追加していくこと。 注４：横断目地の変状は前の覆工スパン番号で計上すること。 注５：１枚に収まらない場合は、複数枚に分けて作成すること。
C59: ※1 トンネル本体工の変状数は、材質劣化、漏水に起因するものは変状単位で、外力に起因するものはスパン単位で計上すること。
C60: ※2 本体工の変状に対しては、健全性の判定区分Ⅱ～Ⅳについて添付すること。また、点検前に実施された措置によりⅠと判定された箇所も添付すること。
C61: ※3 附属物の取付状態の○欄については、応急措置前に判定区分×とした箇所のうち応急措置により○判定とした箇所の数を記入すること。
C62: ※4 附属物の異常番号は、本体工と番号が重複しないよう101番以降とする等の配慮を行い、分かりやすく記録すること。
B64: ■定期点検記録様式 トンネル変状・異常箇所写真位置図 【様式B】 | T64: トンネルID | AA64: Ⅰ | AB64: あり | AC64: 陸上トンネル 掘進工法
B65: フリガナ | D65: オオミズトウゲトンネル | H65: 路線名 | J65: 主要県道秋芳三隅線 | N65: 管理者名 | P65: 長門土木建築事務所 | T65: 緊急輸送道路 | V65: あり | AA65: Ⅱ | AB65: なし | AC65: 陸上トンネル 開削工法
B66: 名 称 | D66: 大水峠トンネル | T66: 代替路の有無 | V66: あり | AA66: Ⅲ | AC66: 陸上トンネル その他
B67: 所在地 | D67: 自 | E67: 山口県美祢市秋芳町 | H67: 定期点検業者 | K67: 応用地質株式会社 | O67: 定期点検年月日 | Q67: 44860 | T67: トンネル延長 | V67: L= | W67: 1175 | Y67: ｍ | AA67: Ⅳ | AC67: 水底トンネル 掘進工法
D68: 至 | E68: 山口県長門市三隅中 | H68: 定期点検者名 | K68: 太田 裕之 | T68: ﾄﾝﾈﾙの分類 | V68: 陸上トンネル(NATM工法) | AC68: 水底トンネル 沈埋工法
B69: 起点 | C69: 緯度 | D69: 34°19′32.29″ | F69: 変状・異常 箇所数合計 | H69: トンネル 本体工 | J69: 材質劣化 | L69: Ⅱ | M69: 155 | N69: Ⅲ | O69: 6 | P69: Ⅳ | Q69: 0 | R69: トンネル毎 の健全性 | T69: Ⅲ | V69: 附属物の 取付状態 | W69: ◯ （応急措置後） | Y69: 0 | AC69: 水底トンネル 開削工法
AC70: 水底トンネル その他
C72: 経度 | D72: 131°16′39.16″
J73: 漏水 | L73: Ⅱ | M73: 26 | N73: Ⅲ | O73: 0 | P73: Ⅳ | Q73: 0
B75: 終点 | C75: 緯度 | D75: 34°20′04.19″ | W75: ✕ | Y75: 0
J77: 外力 | L77: Ⅱ | M77: 22 | N77: Ⅲ | O77: 0 | P77: Ⅳ | Q77: 0 | AC77: 0
C78: 経度 | D78: 131°16′14.71″
B81: トンネル変状・異常箇所写真位置図
P88: 注１：本位置図は、見下げた状態で記載すること。 注２：覆工スパン番号は横断目地毎(矢板工法の場合は上半アーチ の横断目地毎)に設定すること。 注３：写真番号に付する変状番号は、各覆工スパンの変状に対して新た に確認された場合は順次追加していくこと。 注４：横断目地の変状は前の覆工スパン番号で計上すること。 注５：１枚に収まらない場合は、複数枚に分けて作成すること。
C90: ※1 トンネル本体工の変状数は、材質劣化、漏水に起因するものは変状単位で、外力に起因するものはスパン単位で計上すること。
C91: ※2 本体工の変状に対しては、健全性の判定区分Ⅱ～Ⅳについて添付すること。また、点検前に実施された措置によりⅠと判定された箇所も添付すること。
C92: ※3 附属物の取付状態の○欄については、応急措置前に判定区分×とした箇所のうち応急措置により○判定とした箇所の数を記入すること。
C93: ※4 附属物の異常番号は、本体工と番号が重複しないよう101番以降とする等の配慮を行い、分かりやすく記録すること。
B95: ■定期点検記録様式 トンネル変状・異常箇所写真位置図 【様式B】 | T95: トンネルID | AA95: Ⅰ | AB95: あり | AC95: 陸上トンネル 掘進工法
B96: フリガナ | D96: オオミズトウゲトンネル | H96: 路線名 | J96: 主要県道秋芳三隅線 | N96: 管理者名 | P96: 長門土木建築事務所 | T96: 緊急輸送道路 | V96: あり | AA96: Ⅱ | AB96: なし | AC96: 陸上トンネル 開削工法
B97: 名 称 | D97: 大水峠トンネル | T97: 代替路の有無 | V97: あり | AA97: Ⅲ | AC97: 陸上トンネル その他
B98: 所在地 | D98: 自 | E98: 山口県美祢市秋芳町 | H98: 定期点検業者 | K98: 応用地質株式会社 | O98: 定期点検年月日 | Q98: 44860 | T98: トンネル延長 | V98: L= | W98: 1175 | Y98: ｍ | AA98: Ⅳ | AC98: 水底トンネル 掘進工法
D99: 至 | E99: 山口県長門市三隅中 | H99: 定期点検者名 | K99: 太田 裕之 | T99: ﾄﾝﾈﾙの分類 | V99: 陸上トンネル(NATM工法) | AC99: 水底トンネル 沈埋工法
B100: 起点 | C100: 緯度 | D100: 34°19′32.29″ | F100: 変状・異常 箇所数合計 | H100: トンネル 本体工 | J100: 材質劣化 | L100: Ⅱ | M100: 155 | N100: Ⅲ | O100: 6 | P100: Ⅳ | Q100: 0 | R100: トンネル毎 の健全性 | T100: Ⅲ | V100: 附属物の 取付状態 | W100: ◯ （応急措置後） | Y100: 0 | AC100: 水底トンネル 開削工法
AC101: 水底トンネル その他
C103: 経度 | D103: 131°16′39.16″
J104: 漏水 | L104: Ⅱ | M104: 26 | N104: Ⅲ | O104: 0 | P104: Ⅳ | Q104: 0
B106: 終点 | C106: 緯度 | D106: 34°20′04.19″ | W106: ✕ | Y106: 0
J108: 外力 | L108: Ⅱ | M108: 22 | N108: Ⅲ | O108: 0 | P108: Ⅳ | Q108: 0 | AC108: 0
C109: 経度 | D109: 131°16′14.71″
B112: トンネル変状・異常箇所写真位置図
P119: 注１：本位置図は、見下げた状態で記載すること。 注２：覆工スパン番号は横断目地毎(矢板工法の場合は上半アーチ の横断目地毎)に設定すること。 注３：写真番号に付する変状番号は、各覆工スパンの変状に対して新た に確認された場合は順次追加していくこと。 注４：横断目地の変状は前の覆工スパン番号で計上すること。 注５：１枚に収まらない場合は、複数枚に分けて作成すること。
C121: ※1 トンネル本体工の変状数は、材質劣化、漏水に起因するものは変状単位で、外力に起因するものはスパン単位で計上すること。
C122: ※2 本体工の変状に対しては、健全性の判定区分Ⅱ～Ⅳについて添付すること。また、点検前に実施された措置によりⅠと判定された箇所も添付すること。
C123: ※3 附属物の取付状態の○欄については、応急措置前に判定区分×とした箇所のうち応急措置により○判定とした箇所の数を記入すること。
C124: ※4 附属物の異常番号は、本体工と番号が重複しないよう101番以降とする等の配慮を行い、分かりやすく記録すること。
B126: ■定期点検記録様式 トンネル変状・異常箇所写真位置図 【様式B】 | T126: トンネルID | AA126: Ⅰ | AB126: あり | AC126: 陸上トンネル 掘進工法
B127: フリガナ | D127: オオミズトウゲトンネル | H127: 路線名 | J127: 主要県道秋芳三隅線 | N127: 管理者名 | P127: 長門土木建築事務所 | T127: 緊急輸送道路 | V127: あり | AA127: Ⅱ | AB127: なし | AC127: 陸上トンネル 開削工法
B128: 名 称 | D128: 大水峠トンネル | T128: 代替路の有無 | V128: あり | AA128: Ⅲ | AC128: 陸上トンネル その他
B129: 所在地 | D129: 自 | E129: 山口県美祢市秋芳町 | H129: 定期点検業者 | K129: 応用地質株式会社 | O129: 定期点検年月日 | Q129: 44860 | T129: トンネル延長 | V129: L= | W129: 1175 | Y129: ｍ | AA129: Ⅳ | AC129: 水底トンネル 掘進工法
D130: 至 | E130: 山口県長門市三隅中 | H130: 定期点検者名 | K130: 太田 裕之 | T130: ﾄﾝﾈﾙの分類 | V130: 陸上トンネル(NATM工法) | AC130: 水底トンネル 沈埋工法
B131: 起点 | C131: 緯度 | D131: 34°19′32.29″ | F131: 変状・異常 箇所数合計 | H131: トンネル 本体工 | J131: 材質劣化 | L131: Ⅱ | M131: 155 | N131: Ⅲ | O131: 6 | P131: Ⅳ | Q131: 0 | R131: トンネル毎 の健全性 | T131: Ⅲ | V131: 附属物の 取付状態 | W131: ◯ （応急措置後） | Y131: 0 | AC131: 水底トンネル 開削工法
AC132: 水底トンネル その他
C134: 経度 | D134: 131°16′39.16″
J135: 漏水 | L135: Ⅱ | M135: 26 | N135: Ⅲ | O135: 0 | P135: Ⅳ | Q135: 0
B137: 終点 | C137: 緯度 | D137: 34°20′04.19″ | W137: ✕ | Y137: 0
J139: 外力 | L139: Ⅱ | M139: 22 | N139: Ⅲ | O139: 0 | P139: Ⅳ | Q139: 0 | AC139: 0
C140: 経度 | D140: 131°16′14.71″
B143: トンネル変状・異常箇所写真位置図
P150: 注１：本位置図は、見下げた状態で記載すること。 注２：覆工スパン番号は横断目地毎(矢板工法の場合は上半アーチ の横断目地毎)に設定すること。 注３：写真番号に付する変状番号は、各覆工スパンの変状に対して新た に確認された場合は順次追加していくこと。 注４：横断目地の変状は前の覆工スパン番号で計上すること。 注５：１枚に収まらない場合は、複数枚に分けて作成すること。
C152: ※1 トンネル本体工の変状数は、材質劣化、漏水に起因するものは変状単位で、外力に起因するものはスパン単位で計上すること。
C153: ※2 本体工の変状に対しては、健全性の判定区分Ⅱ～Ⅳについて添付すること。また、点検前に実施された措置によりⅠと判定された箇所も添付すること。
C154: ※3 附属物の取付状態の○欄については、応急措置前に判定区分×とした箇所のうち応急措置により○判定とした箇所の数を記入すること。
C155: ※4 附属物の異常番号は、本体工と番号が重複しないよう101番以降とする等の配慮を行い、分かりやすく記録すること。
B157: ■定期点検記録様式 トンネル変状・異常箇所写真位置図 【様式B】 | T157: トンネルID | AA157: Ⅰ | AB157: あり | AC157: 陸上トンネル 掘進工法
B158: フリガナ | D158: オオミズトウゲトンネル | H158: 路線名 | J158: 主要県道秋芳三隅線 | N158: 管理者名 | P158: 長門土木建築事務所 | T158: 緊急輸送道路 | V158: あり | AA158: Ⅱ | AB158: なし | AC158: 陸上トンネル 開削工法
B159: 名 称 | D159: 大水峠トンネル | T159: 代替路の有無 | V159: あり | AA159: Ⅲ | AC159: 陸上トンネル その他
B160: 所在地 | D160: 自 | E160: 山口県美祢市秋芳町 | H160: 定期点検業者 | K160: 応用地質株式会社 | O160: 定期点検年月日 | Q160: 44860 | T160: トンネル延長 | V160: L= | W160: 1175 | Y160: ｍ | AA160: Ⅳ | AC160: 水底トンネル 掘進工法
D161: 至 | E161: 山口県長門市三隅中 | H161: 定期点検者名 | K161: 太田 裕之 | T161: ﾄﾝﾈﾙの分類 | V161: 陸上トンネル(NATM工法) | AC161: 水底トンネル 沈埋工法
B162: 起点 | C162: 緯度 | D162: 34°19′32.29″ | F162: 変状・異常 箇所数合計 | H162: トンネル 本体工 | J162: 材質劣化 | L162: Ⅱ | M162: 155 | N162: Ⅲ | O162: 6 | P162: Ⅳ | Q162: 0 | R162: トンネル毎 の健全性 | T162: Ⅲ | V162: 附属物の 取付状態 | W162: ◯ （応急措置後） | Y162: 0 | AC162: 水底トンネル 開削工法
AC163: 水底トンネル その他
C165: 経度 | D165: 131°16′39.16″
J166: 漏水 | L166: Ⅱ | M166: 26 | N166: Ⅲ | O166: 0 | P166: Ⅳ | Q166: 0
B168: 終点 | C168: 緯度 | D168: 34°20′04.19″ | W168: ✕ | Y168: 0
...

Sheet 様式C-1-1
B2: ■定期点検記録様式 全スパン定期点検結果総括表（トンネル本体工） 【様式C-1-1】
B3: フリガナ | F3: オオミズトウゲトンネル | I3: 路線名 | K3: 主要県道秋芳三隅線 | O3: 定期点検業者 | Q3: 応用地質株式会社 | U3: 定期点検年月日 | Y3: 44860
B4: 名 称 | F4: 大水峠トンネル | I4: 管理者名 | K4: 長門土木建築事務所 | O4: 定期点検者名 | Q4: 太田 裕之
B5: 定期点検結果 | C5: 覆工 スパン 番号 | E5: 変状 番号 | F5: 距離 （m） | G5: 変状部位 | I5: 変 状 の 内 容 | O5: 前回定期点検時の状態 | Q5: 今回定期点検結果 | U5: 措置履歴 | Z5: 対応方針 ・ 特記事項
O6: 201809
G7: 対象箇所 | H7: 部位区分 | I7: 変状区分 | J7: 変状種類 | M7: 変状の発生範囲の規模 | N7: 前回定期点検時 との比較 | O7: 状態 | P7: 健全性 | Q7: 対策区分 | S7: 調査の 要否 | T7: 措置の 要否 | U7: 実施 | V7: 措置の実施状況
Q8: 応急措置前 | R8: 応急措置後
C9: PS | E9: 1 | F9: 0 | G9: 覆工・坑門 | H9: 面壁・妻壁等 | I9: 材質劣化 | J9: うき・はく離 | M9: 0.05m×0.5m | N9: 同程度 | O9: 対策区分判定Ⅱb | P9: Ⅱ | Q9: － | R9: Ⅱb | S9: 否 | T9: 要監視 | U9: 継続 | V9: － | Z9: 日常巡視
C10: PS | E10: 2 | F10: 0 | G10: 覆工・坑門 | H10: 面壁・妻壁等 | I10: 材質劣化 | J10: うき・はく離 | M10: 0.05m×0.4m | N10: 同程度 | O10: 対策区分判定Ⅱb | P10: Ⅱ | Q10: － | R10: Ⅱb | S10: 否 | T10: 要監視 | U10: 継続 | V10: － | Z10: 日常巡視
C11: PS | E11: 3 | F11: 0 | G11: 覆工・坑門 | H11: 面壁・妻壁等 | I11: 材質劣化 | J11: うき・はく離 | M11: 0.05m×0.9m | N11: 同程度 | O11: 対策区分判定Ⅱb | P11: Ⅱ | Q11: － | R11: Ⅱb | S11: 否 | T11: 要監視 | U11: 継続 | V11: － | Z11: 日常巡視
C12: PS | E12: 4 | F12: 0 | G12: 覆工・坑門 | H12: 面壁・妻壁等 | I12: 材質劣化 | J12: うき・はく離 | M12: 0.05m×1.1m | N12: 同程度 | O12: 対策区分判定Ⅱb | P12: Ⅱ | Q12: － | R12: Ⅱb | S12: 否 | T12: 要監視 | U12: 継続 | V12: － | Z12: 日常巡視
C13: 2 | E13: 1 | F13: 14.1 | G13: 覆工・坑門 | H13: 横断目地（天端） | I13: 材質劣化 | J13: 鋼材腐食 | M13: 0.2m×0.05m | N13: 再判定 | O13: 対策区分判定Ⅱb | P13: Ⅱ | Q13: － | R13: Ⅱb | S13: 否 | T13: 要監視 | U13: 継続 | V13: － | Z13: 日常巡視
C14: 2 | E14: 2 | F14: 14.1 | G14: 覆工・坑門 | H14: 横断目地（右側） | I14: 材質劣化 | J14: 鋼材腐食 | M14: 0.2m×0.05m | N14: 同程度 | O14: 対策区分判定Ⅱb | P14: Ⅱ | Q14: － | R14: Ⅱb | S14: 否 | T14: 要監視 | U14: 継続 | V14: － | Z14: 日常巡視
C15: 2 | E15: 3 | F15: 8.6 | G15: 覆工・坑門 | H15: アーチ（右側） | I15: 材質劣化 | J15: 鋼材腐食 | M15: 0.05m×0.05m | N15: 同程度 | O15: 対策区分判定Ⅱb | P15: Ⅱ | Q15: － | R15: Ⅱb | S15: 否 | T15: 要監視 | U15: 継続 | V15: － | Z15: 日常巡視
C16: 3 | E16: 1 | F16: 22.6 | G16: 覆工・坑門 | H16: アーチ（右側） | I16: 材質劣化 | J16: 鋼材腐食 | M16: 0.1m×0.2m | N16: 同程度 | O16: 対策区分判定Ⅱb | P16: Ⅱ | Q16: － | R16: Ⅱb | S16: 否 | T16: 要監視 | U16: 継続 | V16: － | Z16: 日常巡視
C17: 3 | E17: 2 | F17: 21 | G17: 覆工・坑門 | H17: アーチ（天端） | I17: 材質劣化 | J17: 鋼材腐食 | M17: 0.1m×0.1m | N17: 新規確認 | O17: － | P17: － | Q17: － | R17: Ⅱb | S17: 否 | T17: 要監視 | U17: 継続 | V17: － | Z17: 日常巡視
C18: 4 | E18: 1 | F18: 28.2 | G18: 覆工・坑門 | H18: アーチ（左側） | I18: 材質劣化 | J18: 鋼材腐食 | M18: 0.1m×0.1m | N18: 同程度 | O18: 対策区分判定Ⅱb | P18: Ⅱ | Q18: － | R18: Ⅱb | S18: 否 | T18: 要監視 | U18: 継続 | V18: － | Z18: 日常巡視
C19: 6 | E19: 1 | F19: 45.6 | G19: 覆工・坑門 | H19: アーチ（天端） | I19: 材質劣化 | J19: ひび割れ | M19: 2.6m×0.8m | N19: 同程度 | O19: 対策区分判定Ⅱb | P19: Ⅱ | Q19: － | R19: Ⅱb | S19: 否 | T19: 要監視 | U19: 継続 | V19: － | Z19: 日常巡視
C20: 6 | E20: 2 | F20: 47.6 | G20: 覆工・坑門 | H20: アーチ（右側） | I20: 材質劣化 | J20: 鋼材腐食 | M20: 0.05m×0.05m | N20: 同程度 | O20: 対策区分判定Ⅱb | P20: Ⅱ | Q20: － | R20: Ⅱb | S20: 否 | T20: 要監視 | U20: 継続 | V20: － | Z20: 日常巡視
C21: 6 | E21: 3 | F21: 55.9 | G21: 覆工・坑門 | H21: 横断目地（天端） | I21: 材質劣化 | J21: うき・はく離 | M21: 0.3m×0.1m | N21: 新規確認 | O21: － | P21: － | Q21: － | R21: Ⅱb | S21: 否 | T21: 要監視 | U21: 継続 | V21: － | Z21: 日常巡視
C22: 7 | E22: 1 | F22: 56.1 | G22: 覆工・坑門 | H22: アーチ（左側） | I22: 材質劣化 | J22: うき・はく離 | M22: 0.2m×0.1m | N22: 同程度 | O22: 対策区分判定Ⅱa | P22: Ⅱ | Q22: － | R22: Ⅱa | S22: 否 | T22: 要対策 | U22: 未 | V22: － | Z22: 計画的対策(剥落防止対策)
C23: 7 | E23: 2 | F23: 61.9 | G23: 覆工・坑門 | H23: アーチ（左側） | I23: 材質劣化 | J23: 鋼材腐食 | M23: 0.1m×0.1m | N23: 同程度 | O23: 対策区分判定Ⅱb | P23: Ⅱ | Q23: － | R23: Ⅱb | S23: 否 | T23: 要監視 | U23: 継続 | V23: － | Z23: 日常巡視
C24: 7 | E24: 3 | F24: 63.4 | G24: 覆工・坑門 | H24: アーチ（左側） | I24: 材質劣化 | J24: 鋼材腐食 | M24: 0.05m×0.05m | N24: 新規確認 | O24: － | P24: － | Q24: － | R24: Ⅱb | S24: 否 | T24: 要監視 | U24: 継続 | V24: － | Z24: 日常巡視
... C101: 50 | E101: 1 | F101: 513 | G101: 覆工・坑門 | H101: アーチ（天端） | I101: 材質劣化 | J101: うき・はく離 | M101: 0.4m×0.3m | N101: 対策済み | O101: 対策区分判定Ⅰ | P101: Ⅰ | Q101: － | R101: Ⅰ | S101: 否 | T101: 否 | U101: 済 | V101: はく落防止工(FRPネット) | Z101: －
C102: 50 | E102: 2 | F102: 512.1 | G102: 覆工・坑門 | H102: 側壁（右側） | I102: 材質劣化 | J102: 鋼材腐食 | M102: 0.7m×0.2m | N102: 同程度 | P102: Ⅱ | Q102: － | R102: Ⅱb | S102: 否 | T102: 要監視 | U102: 継続 | V102: － | Z102: 日常巡視
C103: 50 | E103: 3 | F103: 504.7 | G103: 覆工・坑門 | H103: 側壁（左側） | I103: 外力 | J103: ひび割れ | M103: 5.9m×0.2mm他 | N103: 再判定 | O103: 対策区分判定Ⅰ | P103: Ⅰ | Q103: － | R103: Ⅱb | S103: 否 | T103: 要監視 | U103: 継続 | V103: － | Z103: 日常巡視
C104: 51 | E104: 1 | F104: 524.6 | G104: 覆工・坑門 | H104: アーチ（左側） | I104: 材質劣化 | J104: 鋼材腐食 | M104: 0.1m×0.1m | N104: 新規確認 | O104: － | P104: － | Q104: － | R104: Ⅱb | S104: 否 | T104: 要監視 | U104: 継続 | V104: － | Z104: 日常巡視
C105: 51 | E105: 2 | F105: 517.5 | G105: 覆工・坑門 | H105: アーチ（天端） | I105: 材質劣化 | J105: その他 | M105: 0.6m×0.7m | N105: 再判定 | O105: 対策区分判定Ⅰ | P105: Ⅰ | Q105: － | R105: Ⅱb | S105: 否 | T105: 要監視 | U105: 継続 | V105: － | Z105: 日常巡視
C106: 52 | E106: 1 | F106: 535.9 | G106: 覆工・坑門 | H106: 横断目地（左側） | I106: 材質劣化 | J106: うき・はく離 | M106: 0.4m×0.1m | N106: 同程度 | O106: 対策区分判定Ⅱa | P106: Ⅱ | Q106: Ⅱa | R106: Ⅰ | S106: 否 | T106: 否 | U106: － | V106: － | Z106: 今回点検時叩き落し実施
C107: 52 | E107: 2 | F107: 525.6 | G107: 覆工・坑門 | H107: 横断目地（左側） | I107: 材質劣化 | J107: うき・はく離 | M107: 0.6m×0.1m | N107: 同程度 | O107: 対策区分判定Ⅱa | P107: Ⅱ | Q107: Ⅱa | R107: Ⅰ | S107: 否 | T107: 否 | U107: － | V107: － | Z107: 今回点検時叩き落し実施
C108: 52 | E108: 3 | F108: 535.9 | G108: 覆工・坑門 | H108: 横断目地（天端） | I108: 材質劣化 | J108: うき・はく離 | M108: 0.8m×0.3m | N108: 同程度 | O108: 対策区分判定Ⅱa | P108: Ⅱ | Q108: － | R108: Ⅱa | S108: 否 | T108: 要対策 | U108: 未 | V108: － | Z108: 計画的対策(剥落防止対策)
C109: 53 | E109: 1 | F109: 535.9 | G109: 覆工・坑門 | H109: 横断目地（左側） | I109: 材質劣化 | J109: うき・はく離 | M109: 0.6m×0.05m | N109: 同程度 | O109: 対策区分判定Ⅱa | P109: Ⅱ | Q109: Ⅱa | R109: Ⅰ | S109: 否 | T109: 否 | U109: － | V109: － | Z109: 今回点検時叩き落し実施
C110: 53 | E110: 2 | F110: 535.9 | G110: 覆工・坑門 | H110: 横断目地（左側） | I110: 材質劣化 | J110: うき・はく離 | M110: 0.1m×0.05m | N110: 同程度 | O110: 対策区分判定Ⅱa | P110: Ⅱ | Q110: Ⅱa | R110: Ⅰ | S110: 否 | T110: 否 | U110: － | V110: － | Z110: 今回点検時叩き落し実施
C111: 53 | E111: 3 | F111: 541.8 | G111: 覆工・坑門 | H111: 横断目地（左側） | I111: 漏水 | J111: 漏水 | M111: - | N111: 再判定 | O111: 対策区分判定Ⅱa | P111: Ⅱ | Q111: － | R111: Ⅱb | S111: 否 | T111: 要監視 | U111: 継続 | V111: － | Z111: 日常巡視
C112: 54 | E112: 1 | F112: 548.8 | G112: 覆工・坑門 | H112: 横断目地（左側） | I112: 材質劣化 | J112: うき・はく離 | M112: 0.2m×0.1m | N112: 同程度 | O112: 対策区分判定Ⅱa | P112: Ⅱ | Q112: － | R112: Ⅱa | S112: 否 | T112: 要対策 | U112: 未 | V112: － | Z112: 計画的対策(剥落防止対策)
C113: 56 | E113: 1 | F113: 561.9 | G113: 覆工・坑門 | H113: 横断目地（右側） | I113: 材質劣化 | J113: うき・はく離 | M113: 2.2m×0.05m | N113: 新規確認 | O113: － | P113: － | Q113: － | R113: Ⅱb | S113: 否 | T113: 要監視 | U113: 継続 | V113: － | Z113: 日常巡視
C114: 57 | E114: 1 | F114: 564.9 | G114: 覆工・坑門 | H114: 側壁（右側） | I114: 材質劣化 | J114: 鋼材腐食 | M114: 0.05m×0.1m | N114: 同程度 | O114: 対策区分判定Ⅱb | P114: Ⅱ | Q114: － | R114: Ⅱb | S114: 否 | T114: 要監視 | U114: 継続 | V114: － | Z114: 日常巡視
... C244: 117 | E244: 2 | F244: 1166.5 | G244: 覆工・坑門 | H244: 横断目地（左側） | I244: 材質劣化 | J244: うき・はく離 | M244: 0.3m×0.1m | N244: 新規確認 | O244: － | P244: － | Q244: Ⅲ | R244: Ⅰ | S244: 否 | T244: 否 | U244: － | V244: － | Z244: 今回点検時叩き落し実施
C245: PE | E245: 1 | F245: 1175 | G245: 覆工・坑門 | H245: 面壁・妻壁等 | I245: 材質劣化 | J245: うき・はく離 | M245: 0.05m×0.3m他 | N245: 同程度 | O245: 対策区分判定Ⅱb | P245: Ⅱ | Q245: － | R245: Ⅱb | S245: 否 | T245: 要監視 | U245: 継続 | V245: － | Z245: 日常巡視
C246: PE | E246: 2 | F246: 1175 | G246: 覆工・坑門 | H246: 面壁・妻壁等 | I246: 材質劣化 | J246: うき・はく離 | M246: 0.05m×0.8m | N246: 同程度 | O246: 対策区分判定Ⅱb | P246: Ⅱ | Q246: － | R246: Ⅱb | S246: 否 | T246: 要監視 | U246: 継続 | V246: － | Z246: 日常巡視
C247: ※ 対策区分（応急措置後）の判定区分Ⅱ～Ⅳについて記入すること。また、点検前に実施された措置によりⅠと判定された変状も記入すること。
C248: ※ 応急措置を実施しないで判定した変状の対策区分は、対策区分の応急措置後の欄に記入すること。
C249: ※ 変状の除去が不完全で、緊急対応が必要な場合は対応方針欄に記入すること。
C250: ※ １区間の覆工に複数の変状がある場合は、変状箇所毎に記入すること。
C251: ※ 措置・監視点検を行った場合には、措置履歴、特記事項に記録を残すこと。（実施年度も記載）
C252: ※ 行が不足する場合は、適時、表の行を増やすこと。

Sheet 様式C-1-2
B2: ■定期点検記録様式 定期点検結果総括表（トンネル内附属物等の取付状態） 【様式C-1-2】
B3: フリガナ | F3: オオミズトウゲトンネル | J3: 路線名 | L3: 主要県道秋芳三隅線 | O3: 定期点検業者 | Q3: 応用地質株式会社 | U3: 定期点検年月日 | Y3: 44860
B4: 名 称 | F4: 大水峠トンネル | J4: 管理者名 | L4: 長門土木建築事務所 | O4: 定期点検者名 | Q4: 太田 裕之
B5: 定期点検結果 | C5: 覆工 スパン 番号 | E5: 異常 番号 | F5: 距離 （m） | G5: 異常部位 | J5: 異 常 の 内 容 | P5: 定期点検結果 | R5: 応急措置の 実施状況 | X5: 対応方針 ・ 特記事項
G6: 対象箇所 | I6: 部位区分 | J6: 異常種類 | N6: 異常の発生範囲の規模 | P6: 異常判定区分 | R6: 実施 | S6: 応急措置の内容
P7: 応急措置前 | Q7: 応急措置後
C39: ※ 異常判定区分×について記入すること。また、応急措置により○と判定された箇所も記入すること。
C40: ※ 応急措置を実施しないで判定した箇所の異常判定区分は、異常判定区分の応急措置後の欄に記入すること。
C41: ※ 異常の除去が不完全で、緊急対応が必要な場合は対応方針欄に記入すること。
C42: ※ １スパンの覆工に複数の異常がある場合は、異常箇所毎に記入すること。
C43: ※ 行が不足する場合は、適時、表の行を増やすこと。

Sheet 様式C-2
B2: ■定期点検記録様式 状態の把握の内容 【様式C-2】
B3: フリガナ | E3: オオミズトウゲトンネル | H3: 路線名 | J3: 主要県道秋芳三隅線 | M3: 定期点検業者 | R3: 応用地質株式会社 | U3: 定期点検年月日 | X3: 44860
B4: 名 称 | E4: 大水峠トンネル | H4: 管理者名 | J4: 長門土木建築事務所 | M4: 定期点検者名 | R4: 太田 裕之
B5: 状態の把握の内容 | C5: 覆工スパン 番号 | E5: 変状 番号 | F5: 状態の把握の内容
F6: 年月日 | H6: 内容 | O6: 結果 | W6: 対策区分の 判定 | Y6: 健全性
B21: 注）状態の把握において、微破壊・非破壊検査や各種試験等を実施した場合について記載する。
B22: ※ 行が不足する場合は、適時、表の行を増やすこと。

Sheet 様式D-1-1(トンネル様式2P001)
B2: ■定期点検記録様式 変状写真台帳 | Y2: Ⅰ
B3: フリガナ | D3: オオミズトウゲトンネル | H3: 路線名 | J3: 主要県道秋芳三隅線 | M3: 定期点検業者 | P3: 応用地質株式会社 | S3: 定期点検年月日 | U3: 44860 | Y3: Ⅱ
B4: 名 称 | D4: 大水峠トンネル | H4: 管理者名 | J4: 長門土木建築事務所 | M4: 定期点検者名 | P4: 太田 裕之 | Y4: Ⅲ
B5: 写真 番号 | C5: 覆工 スパン 番号 | D5: PS | M5: 写真 番号 | N5: 覆工 スパン 番号 | O5: PS | Y5: Ⅳ
Y6: －
C7: 変状 番号 | D7: 1 | N7: 変状 番号 | O7: 2
B9: 変状 部位 | C9: 対象 箇所 | D9: 覆工・坑門 | M9: 変状 部位 | N9: 対象 箇所 | O9: 覆工・坑門
C11: 部位 区分 | D11: 面壁・妻壁等 | N11: 部位 区分 | O11: 面壁・妻壁等
B13: 変状区分 | D13: 材質劣化 | M13: 変状区分 | O13: 材質劣化
B14: 変状種類 | D14: うき・はく離 | M14: 変状種類 | O14: うき・はく離
B15: 健全性 | C15: 応急措置前 | E15: － | M15: 健全性 | N15: 応急措置前 | P15: －
C16: 応急措置後 | E16: Ⅱ | N16: 応急措置後 | P16: Ⅱ
B17: 変状の発生範囲の規模 | E17: 0.05m×0.5m | M17: 変状の発生範囲の規模 | P17: 0.05m×0.4m
B18: 前回定期点検時の状態 | E18: 同程度 | M18: 前回定期点検時の状態 | P18: 同程度
B19: 調査方針 | E19: - | M19: 調査方針 | P19: -
B20: 対策履歴 | E20: なし | H20: 実施状況（実施日） | J20: - | M20: 対策履歴 | P20: なし | S20: 実施状況（実施日） | U20: -
B21: メモ | D21: 銘板沿いのうき(Ⅱb)、浸透固化材塗布 | M21: メモ | O21: 銘板沿いのうき(Ⅱb)、浸透固化材塗布
B22: 写真 番号 | C22: 覆工 スパン 番号 | D22: PS | M22: 写真 番号 | N22: 覆工 スパン 番号 | O22: PS
C24: 変状 番号 | D24: 3 | N24: 変状 番号 | O24: 4
B26: 変状 部位 | C26: 対象 箇所 | D26: 覆工・坑門 | M26: 変状 部位 | N26: 対象 箇所 | O26: 覆工・坑門
C28: 部位 区分 | D28: 面壁・妻壁等 | N28: 部位 区分 | O28: 面壁・妻壁等
B30: 変状区分 | D30: 材質劣化 | M30: 変状区分 | O30: 材質劣化
B31: 変状種類 | D31: うき・はく離 | M31: 変状種類 | O31: うき・はく離
B32: 健全性 | C32: 応急措置前 | E32: － | M32: 健全性 | N32: 応急措置前 | P32: －
C33: 応急措置後 | E33: Ⅱ | N33: 応急措置後 | P33: Ⅱ
B34: 変状の発生範囲の規模 | E34: 0.05m×0.9m | M34: 変状の発生範囲の規模 | P34: 0.05m×1.1m
B35: 前回定期点検時の状態 | E35: 同程度 | M35: 前回定期点検時の状態 | P35: 同程度
B36: 調査方針 | E36: - | M36: 調査方針 | P36: -
B37: 対策履歴 | E37: なし | H37: 実施状況（実施日） | J37: - | M37: 対策履歴 | P37: なし | S37: 実施状況（実施日） | U37: -
B38: メモ | D38: 銘板沿いのうき(Ⅱb)、浸透固化材塗布 | M38: メモ | O38: 銘板沿いのうき(Ⅱb)、浸透固化材塗布
C39: ※ 健全性（応急措置後）の判定区分Ⅱ～Ⅳについて添付すること。また、点検前に 実施された措置によりⅠと判定された箇所も添付すること。 | N39: ※ 変状の発生範囲の規模とは、対策を行う際に参考となる変状の長さや面積をいう。
N40: ※ 応急措置を実施しないで判定した変状の健全性は、健全性の応急措置後の欄に記入すること。
C41: ※ たたき落としを実施した場合は、実施後の写真を添付すること。 | N41: ※ 変状の発生範囲の規模は、面積・寸法を記載すること。
C42: ※ 附属物の取付状態に関する異常写真は別途、様式D-1-2でとりまとめること。 | N42: (ひび割れ幅のみmmとし、その他をm表記とする)
C43: ※ 変状数に準じてシートを追加すること。（１シートに１ページとすること。） | N43: ※ 構造用鋼材以外の異物に伴ううき・はく離については、メモ欄に異物の概要を記入すること。

Sheet 様式D-1-1(トンネル様式2P001) (2)
B2: ■定期点検記録様式 変状写真台帳 | Y2: Ⅰ
B3: フリガナ | D3: オオミズトウゲトンネル | H3: 路線名 | J3: 主要県道秋芳三隅線 | M3: 定期点検業者 | P3: 応用地質株式会社 | S3: 定期点検年月日 | U3: 44860 | Y3: Ⅱ
B4: 名 称 | D4: 大水峠トンネル | H4: 管理者名 | J4: 長門土木建築事務所 | M4: 定期点検者名 | P4: 太田 裕之 | Y4: Ⅲ
B5: 写真 番号 | C5: 覆工 スパン 番号 | D5: 2 | M5: 写真 番号 | N5: 覆工 スパン 番号 | O5: 2 | Y5: Ⅳ
Y6: －
C7: 変状 番号 | D7: 1 | N7: 変状 番号 | O7: 2
B9: 変状 部位 | C9: 対象 箇所 | D9: 覆工・坑門 | M9: 変状 部位 | N9: 対象 箇所 | O9: 覆工・坑門
C11: 部位 区分 | D11: 横断目地（天端） | N11: 部位 区分 | O11: 横断目地（右側）
B13: 変状区分 | D13: 材質劣化 | M13: 変状区分 | O13: 材質劣化
B14: 変状種類 | D14: 鋼材腐食 | M14: 変状種類 | O14: 鋼材腐食
B15: 健全性 | C15: 応急措置前 | E15: － | M15: 健全性 | N15: 応急措置前 | P15: －
C16: 応急措置後 | E16: Ⅱ | N16: 応急措置後 | P16: Ⅱ
B17: 変状の発生範囲の規模 | E17: 0.2m×0.05m | M17: 変状の発生範囲の規模 | P17: 0.2m×0.05m
B18: 前回定期点検時の状態 | E18: はく落0.2m×0.1m(Ⅰ) | M18: 前回定期点検時の状態 | P18: 同程度
B19: 調査方針 | E19: - | M19: 調査方針 | P19: -
B20: 対策履歴 | E20: なし | H20: 実施状況（実施日） | J20: - | M20: 対策履歴 | P20: なし | S20: 実施状況（実施日） | U20: -
B21: メモ | D21: 鋼材露出(Ⅱb)深さ70mm、防錆剤塗布、再判定 | M21: メモ | O21: 鋼材露出(Ⅱb)、防錆剤塗布
B22: 写真 番号 | C22: 覆工 スパン 番号 | D22: 2 | M22: 写真 番号 | N22: 覆工 スパン 番号
C24: 変状 番号 | D24: 3 | N24: 変状 番号
B26: 変状 部位 | C26: 対象 箇所 | D26: 覆工・坑門 | M26: 変状 部位 | N26: 対象 箇所
C28: 部位 区分 | D28: アーチ（右側） | N28: 部位 区分
B30: 変状区分 | D30: 材質劣化 | M30: 変状区分
B31: 変状種類 | D31: 鋼材腐食 | M31: 変状種類
B32: 健全性 | C32: 応急措置前 | E32: － | M32: 健全性 | N32: 応急措置前
C33: 応急措置後 | E33: Ⅱ | N33: 応急措置後
B34: 変状の発生範囲の規模 | E34: 0.05m×0.05m | M34: 変状の発生範囲の規模
B35: 前回定期点検時の状態 | E35: 同程度 | M35: 前回定期点検時の状態
B36: 調査方針 | E36: - | M36: 調査方針
B37: 対策履歴 | E37: なし | H37: 実施状況（実施日） | J37: - | M37: 対策履歴 | S37: 実施状況（実施日）
B38: メモ | D38: 鋼材露出(深さ50mm)(Ⅱb)、部分的に露出した鋼材(表面的な腐食)に防錆剤塗布 | M38: メモ
C39: ※ 健全性（応急措置後）の判定区分Ⅱ～Ⅳについて添付すること。また、点検前に 実施された措置によりⅠと判定された箇所も添付すること。 | N39: ※ 変状の発生範囲の規模とは、対策を行う際に参考となる変状の長さや面積をいう。
N40: ※ 応急措置を実施しないで判定した変状の健全性は、健全性の応急措置後の欄に記入すること。
C41: ※ たたき落としを実施した場合は、実施後の写真を添付すること。 | N41: ※ 変状の発生範囲の規模は、面積・寸法を記載すること。
C42: ※ 附属物の取付状態に関する異常写真は別途、様式D-1-2でとりまとめること。 | N42: (ひび割れ幅のみmmとし、その他をm表記とする)
C43: ※ 変状数に準じてシートを追加すること。（１シートに１ページとすること。） | N43: ※ 構造用鋼材以外の異物に伴ううき・はく離については、メモ欄に異物の概要を記入すること。

Sheet 様式D-1-1(トンネル様式2P001) (3)
B2: ■定期点検記録様式 変状写真台帳 | Y2: Ⅰ
B3: フリガナ | D3: オオミズトウゲトンネル | H3: 路線名 | J3: 主要県道秋芳三隅線 | M3: 定期点検業者 | P3: 応用地質株式会社 | S3: 定期点検年月日 | U3: 44860 | Y3: Ⅱ
B4: 名 称 | D4: 大水峠トンネル | H4: 管理者名 | J4: 長門土木建築事務所 | M4: 定期点検者名 | P4: 太田 裕之 | Y4: Ⅲ
B5: 写真 番号 | C5: 覆工 スパン 番号 | D5: 3 | M5: 写真 番号 | N5: 覆工 スパン 番号 | O5: 3 | Y5: Ⅳ
Y6: －
C7: 変状 番号 | D7: 1 | N7: 変状 番号 | O7: 2
B9: 変状 部位 | C9: 対象 箇所 | D9: 覆工・坑門 | M9: 変状 部位 | N9: 対象 箇所 | O9: 覆工・坑門
C11: 部位 区分 | D11: アーチ（右側） | N11: 部位 区分 | O11: アーチ（天端）
B13: 変状区分 | D13: 材質劣化 | M13: 変状区分 | O13: 材質劣化
B14: 変状種類 | D14: 鋼材腐食 | M14: 変状種類 | O14: 鋼材腐食
B15: 健全性 | C15: 応急措置前 | E15: － | M15: 健全性 | N15: 応急措置前 | P15: －
C16: 応急措置後 | E16: Ⅱ | N16: 応急措置後 | P16: Ⅱ
B17: 変状の発生範囲の規模 | E17: 0.1m×0.2m | M17: 変状の発生範囲の規模 | P17: 0.1m×0.1m
B18: 前回定期点検時の状態 | E18: 同程度 | M18: 前回定期点検時の状態 | P18: なし
B19: 調査方針 | E19: - | M19: 調査方針 | P19: -
B20: 対策履歴 | E20: なし | H20: 実施状況（実施日） | J20: - | M20: 対策履歴 | P20: なし | S20: 実施状況（実施日） | U20: -
B21: メモ | D21: 鋼材露出(深さ50mm)(Ⅱb)、部分的に露出した鋼材(表面的な腐食)に防錆剤塗布 | M21: メモ | O21: 鋼材露出(Ⅱb)、防錆剤塗布
B22: 写真 番号 | C22: 覆工 スパン 番号 | M22: 写真 番号 | N22: 覆工 スパン 番号
C24: 変状 番号 | N24: 変状 番号
B26: 変状 部位 | C26: 対象 箇所 | M26: 変状 部位 | N26: 対象 箇所
C28: 部位 区分 | N28: 部位 区分
B30: 変状区分 | M30: 変状区分
B31: 変状種類 | M31: 変状種類
B32: 健全性 | C32: 応急措置前 | M32: 健全性 | N32: 応急措置前
C33: 応急措置後 | N33: 応急措置後
B34: 変状の発生範囲の規模 | M34: 変状の発生範囲の規模
B35: 前回定期点検時の状態 | M35: 前回定期点検時の状態
B36: 調査方針 | M36: 調査方針
B37: 対策履歴 | H37: 実施状況（実施日） | M37: 対策履歴 | S37: 実施状況（実施日）
B38: メモ | M38: メモ
C39: ※ 健全性（応急措置後）の判定区分Ⅱ～Ⅳについて添付すること。また、点検前に 実施された措置によりⅠと判定された箇所も添付すること。 | N39: ※ 変状の発生範囲の規模とは、対策を行う際に参考となる変状の長さや面積をいう。
N40: ※ 応急措置を実施しないで判定した変状の健全性は、健全性の応急措置後の欄に記入すること。
C41: ※ たたき落としを実施した場合は、実施後の写真を添付すること。 | N41: ※ 変状の発生範囲の規模は、面積・寸法を記載すること。
C42: ※ 附属物の取付状態に関する異常写真は別途、様式D-1-2でとりまとめること。 | N42: (ひび割れ幅のみmmとし、その他をm表記とする)
C43: ※ 変状数に準じてシートを追加すること。（１シートに１ページとすること。） | N43: ※ 構造用鋼材以外の異物に伴ううき・はく離については、メモ欄に異物の概要を記入すること。

Sheet 様式D-1-1(トンネル様式2P001) (4)
B2: ■定期点検記録様式 変状写真台帳 | Y2: Ⅰ
B3: フリガナ | D3: オオミズトウゲトンネル | H3: 路線名 | J3: 主要県道秋芳三隅線 | M3: 定期点検業者 | P3: 応用地質株式会社 | S3: 定期点検年月日 | U3: 44860 | Y3: Ⅱ
B4: 名 称 | D4: 大水峠トンネル | H4: 管理者名 | J4: 長門土木建築事務所 | M4: 定期点検者名 | P4: 太田 裕之 | Y4: Ⅲ
B5: 写真 番号 | C5: 覆工 スパン 番号 | D5: 4 | M5: 写真 番号 | N5: 覆工 スパン 番号 | Y5: Ⅳ
Y6: －
C7: 変状 番号 | D7: 1 | N7: 変状 番号
B9: 変状 部位 | C9: 対象 箇所 | D9: 覆工・坑門 | M9: 変状 部位 | N9: 対象 箇所
C11: 部位 区分 | D11: アーチ（左側） | N11: 部位 区分
B13: 変状区分 | D13: 材質劣化 | M13: 変状区分
B14: 変状種類 | D14: 鋼材腐食 | M14: 変状種類
B15: 健全性 | C15: 応急措置前 | E15: － | M15: 健全性 | N15: 応急措置前
C16: 応急措置後 | E16: Ⅱ | N16: 応急措置後
B17: 変状の発生範囲の規模 | E17: 0.1m×0.1m | M17: 変状の発生範囲の規模
B18: 前回定期点検時の状態 | E18: 同程度 | M18: 前回定期点検時の状態
B19: 調査方針 | E19: - | M19: 調査方針
B20: 対策履歴 | E20: なし | H20: 実施状況（実施日） | J20: - | M20: 対策履歴 | S20: 実施状況（実施日）
B21: メモ | D21: 鋼材露出(深さ50mm)(Ⅱb)、部分的に露出した鋼材(表面的な腐食)に防錆剤塗布 | M21: メモ
B22: 写真 番号 | C22: 覆工 スパン 番号 | M22: 写真 番号 | N22: 覆工 スパン 番号
C24: 変状 番号 | N24: 変状 番号
B26: 変状 部位 | C26: 対象 箇所 | M26: 変状 部位 | N26: 対象 箇所
C28: 部位 区分 | N28: 部位 区分
B30: 変状区分 | M30: 変状区分
B31: 変状種類 | M31: 変状種類
B32: 健全性 | C32: 応急措置前 | M32: 健全性 | N32: 応急措置前
C33: 応急措置後 | N33: 応急措置後
B34: 変状の発生範囲の規模 | M34: 変状の発生範囲の規模
B35: 前回定期点検時の状態 | M35: 前回定期点検時の状態
B36: 調査方針 | M36: 調査方針
B37: 対策履歴 | H37: 実施状況（実施日） | M37: 対策履歴 | S37: 実施状況（実施日）
B38: メモ | M38: メモ
C39: ※ 健全性（応急措置後）の判定区分Ⅱ～Ⅳについて添付すること。また、点検前に 実施された措置によりⅠと判定された箇所も添付すること。 | N39: ※ 変状の発生範囲の規模とは、対策を行う際に参考となる変状の長さや面積をいう。
N40: ※ 応急措置を実施しないで判定した変状の健全性は、健全性の応急措置後の欄に記入すること。
C41: ※ たたき落としを実施した場合は、実施後の写真を添付すること。 | N41: ※ 変状の発生範囲の規模は、面積・寸法を記載すること。
C42: ※ 附属物の取付状態に関する異常写真は別途、様式D-1-2でとりまとめること。 | N42: (ひび割れ幅のみmmとし、その他をm表記とする)
C43: ※ 変状数に準じてシートを追加すること。（１シートに１ページとすること。） | N43: ※ 構造用鋼材以外の異物に伴ううき・はく離については、メモ欄に異物の概要を記入すること。

Sheet 様式D-1-1(トンネル様式2P001) (5)
B2: ■定期点検記録様式 変状写真台帳 | Y2: Ⅰ
B3: フリガナ | D3: オオミズトウゲトンネル | H3: 路線名 | J3: 主要県道秋芳三隅線 | M3: 定期点検業者 | P3: 応用地質株式会社 | S3: 定期点検年月日 | U3: 44860 | Y3: Ⅱ
B4: 名 称 | D4: 大水峠トンネル | H4: 管理者名 | J4: 長門土木建築事務所 | M4: 定期点検者名 | P4: 太田 裕之 | Y4: Ⅲ
B5: 写真 番号 | C5: 覆工 スパン 番号 | D5: 6 | M5: 写真 番号 | N5: 覆工 スパン 番号 | O5: 6 | Y5: Ⅳ
Y6: －
C7: 変状 番号 | D7: 1 | N7: 変状 番号 | O7: 2
B9: 変状 部位 | C9: 対象 箇所 | D9: 覆工・坑門 | M9: 変状 部位 | N9: 対象 箇所 | O9: 覆工・坑門
C11: 部位 区分 | D11: アーチ（天端） | N11: 部位 区分 | O11: アーチ（右側）
B13: 変状区分 | D13: 材質劣化 | M13: 変状区分 | O13: 材質劣化
B14: 変状種類 | D14: ひび割れ | M14: 変状種類 | O14: 鋼材腐食
B15: 健全性 | C15: 応急措置前 | E15: － | M15: 健全性 | N15: 応急措置前 | P15: －
C16: 応急措置後 | E16: Ⅱ | N16: 応急措置後 | P16: Ⅱ
B17: 変状の発生範囲の規模 | E17: 2.6m×0.8m | M17: 変状の発生範囲の規模 | P17: 0.05m×0.05m
B18: 前回定期点検時の状態 | E18: 同程度 | M18: 前回定期点検時の状態 | P18: 同程度
B19: 調査方針 | E19: - | M19: 調査方針 | P19: -
B20: 対策履歴 | E20: なし | H20: 実施状況（実施日） | J20: - | M20: 対策履歴 | P20: なし | S20: 実施状況（実施日） | U20: -
B21: メモ | D21: 目地沿いに幅0.5mmの半月状ひび割れ(Ⅱb)、打音異常なし | M21: メモ | O21: 鋼材露出(深さ50mm)(Ⅱb)、部分的に露出した鋼材(表面的な腐食)に防錆剤塗布
B22: 写真 番号 | C22: 覆工 スパン 番号 | D22: 6 | M22: 写真 番号 | N22: 覆工 スパン 番号
C24: 変状 番号 | D24: 3 | N24: 変状 番号
B26: 変状 部位 | C26: 対象 箇所 | D26: 覆工・坑門 | M26: 変状 部位 | N26: 対象 箇所
C28: 部位 区分 | D28: 横断目地（天端） | N28: 部位 区分
B30: 変状区分 | D30: 材質劣化 | M30: 変状区分
B31: 変状種類 | D31: うき・はく離 | M31: 変状種類
B32: 健全性 | C32: 応急措置前 | E32: － | M32: 健全性 | N32: 応急措置前
C33: 応急措置後 | E33: Ⅱ | N33: 応急措置後
B34: 変状の発生範囲の規模 | E34: 0.3m×0.1m | M34: 変状の発生範囲の規模
B35: 前回定期点検時の状態 | E35: なし | M35: 前回定期点検時の状態
B36: 調査方針 | E36: - | M36: 調査方針
B37: 対策履歴 | E37: なし | H37: 実施状況（実施日） | J37: - | M37: 対策履歴 | S37: 実施状況（実施日）
B38: メモ | D38: 目地部の豆板(Ⅱb)、浸透固化材塗布 | M38: メモ
C39: ※ 健全性（応急措置後）の判定区分Ⅱ～Ⅳについて添付すること。また、点検前に 実施された措置によりⅠと判定された箇所も添付すること。 | N39: ※ 変状の発生範囲の規模とは、対策を行う際に参考となる変状の長さや面積をいう。
N40: ※ 応急措置を実施しないで判定した変状の健全性は、健全性の応急措置後の欄に記入すること。
C41: ※ たたき落としを実施した場合は、実施後の写真を添付すること。 | N41: ※ 変状の発生範囲の規模は、面積・寸法を記載すること。
C42: ※ 附属物の取付状態に関する異常写真は別途、様式D-1-2でとりまとめること。 | N42: (ひび割れ幅のみmmとし、その他をm表記とする)
C43: ※ 変状数に準じてシートを追加すること。（１シートに１ページとすること。） | N43: ※ 構造用鋼材以外の異物に伴ううき・はく離については、メモ欄に異物の概要を記入すること。

Sheet 様式D-1-1(トンネル様式2P001) (6)
B2: ■定期点検記録様式 変状写真台帳 | Y2: Ⅰ
B3: フリガナ | D3: オオミズトウゲトンネル | H3: 路線名 | J3: 主要県道秋芳三隅線 | M3: 定期点検業者 | P3: 応用地質株式会社 | S3: 定期点検年月日 | U3: 44860 | Y3: Ⅱ
B4: 名 称 | D4: 大水峠トンネル | H4: 管理者名 | J4: 長門土木建築事務所 | M4: 定期点検者名 | P4: 太田 裕之 | Y4: Ⅲ
B5: 写真 番号 | C5: 覆工 スパン 番号 | D5: 7 | M5: 写真 番号 | N5: 覆工 スパン 番号 | O5: 7 | Y5: Ⅳ
Y6: －
C7: 変状 番号 | D7: 1 | N7: 変状 番号 | O7: 2
B9: 変状 部位 | C9: 対象 箇所 | D9: 覆工・坑門 | M9: 変状 部位 | N9: 対象 箇所 | O9: 覆工・坑門
C11: 部位 区分 | D11: アーチ（左側） | N11: 部位 区分 | O11: アーチ（左側）
B13: 変状区分 | D13: 材質劣化 | M13: 変状区分 | O13: 材質劣化
B14: 変状種類 | D14: うき・はく離 | M14: 変状種類 | O14: 鋼材腐食
B15: 健全性 | C15: 応急措置前 | E15: － | M15: 健全性 | N15: 応急措置前 | P15: －
C16: 応急措置後 | E16: Ⅱ | N16: 応急措置後 | P16: Ⅱ
B17: 変状の発生範囲の規模 | E17: 0.2m×0.1m | M17: 変状の発生範囲の規模 | P17: 0.1m×0.1m
B18: 前回定期点検時の状態 | E18: 同程度 | M18: 前回定期点検時の状態 | P18: 同程度
B19: 調査方針 | E19: - | M19: 調査方針 | P19: -
B20: 対策履歴 | E20: なし | H20: 実施状況（実施日） | J20: - | M20: 対策履歴 | P20: なし | S20: 実施状況（実施日） | U20: -
B21: メモ | D21: ひび割れ沿いのブロック化したうき(Ⅱa)、浸透固化材塗布 | M21: メモ | O21: 鋼材露出(深さ50mm)(Ⅱb)、部分的に露出した鋼材(表面的な腐食)に防錆剤塗布
B22: 写真 番号 | C22: 覆工 スパン 番号 | D22: 7 | M22: 写真 番号 | N22: 覆工 スパン 番号
C24: 変状 番号 | D24: 3 | N24: 変状 番号
B26: 変状 部位 | C26: 対象 箇所 | D26: 覆工・坑門 | M26: 変状 部位 | N26: 対象 箇所
C28: 部位 区分 | D28: アーチ（左側） | N28: 部位 区分
B30: 変状区分 | D30: 材質劣化 | M30: 変状区分
B31: 変状種類 | D31: 鋼材腐食 | M31: 変状種類
B32: 健全性 | C32: 応急措置前 | E32: － | M32: 健全性 | N32: 応急措置前
C33: 応急措置後 | E33: Ⅱ | N33: 応急措置後
B34: 変状の発生範囲の規模 | E34: 0.05m×0.05m | M34: 変状の発生範囲の規模
B35: 前回定期点検時の状態 | E35: なし | M35: 前回定期点検時の状態
B36: 調査方針 | E36: - | M36: 調査方針
B37: 対策履歴 | E37: なし | H37: 実施状況（実施日） | J37: - | M37: 対策履歴 | S37: 実施状況（実施日）
B38: メモ | D38: 鋼材露出(Ⅱb)、防錆剤塗布 | M38: メモ
C39: ※ 健全性（応急措置後）の判定区分Ⅱ～Ⅳについて添付すること。また、点検前に 実施された措置によりⅠと判定された箇所も添付すること。 | N39: ※ 変状の発生範囲の規模とは、対策を行う際に参考となる変状の長さや面積をいう。
N40: ※ 応急措置を実施しないで判定した変状の健全性は、健全性の応急措置後の欄に記入すること。
C41: ※ たたき落としを実施した場合は、実施後の写真を添付すること。 | N41: ※ 変状の発生範囲の規模は、面積・寸法を記載すること。
C42: ※ 附属物の取付状態に関する異常写真は別途、様式D-1-2でとりまとめること。 | N42: (ひび割れ幅のみmmとし、その他をm表記とする)
C43: ※ 変状数に準じてシートを追加すること。（１シートに１ページとすること。） | N43: ※ 構造用鋼材以外の異物に伴ううき・はく離については、メモ欄に異物の概要を記入すること。

Sheet 様式D-1-1(トンネル様式2P001) (7)
B2: ■定期点検記録様式 変状写真台帳 | Y2: Ⅰ
B3: フリガナ | D3: オオミズトウゲトンネル | H3: 路線名 | J3: 主要県道秋芳三隅線 | M3: 定期点検業者 | P3: 応用地質株式会社 | S3: 定期点検年月日 | U3: 44860 | Y3: Ⅱ
B4: 名 称 | D4: 大水峠トンネル | H4: 管理者名 | J4: 長門土木建築事務所 | M4: 定期点検者名 | P4: 太田 裕之 | Y4: Ⅲ
B5: 写真 番号 | C5: 覆工 スパン 番号 | D5: 8 | M5: 写真 番号 | N5: 覆工 スパン 番号 | O5: 8 | Y5: Ⅳ
Y6: －
C7: 変状 番号 | D7: 1 | N7: 変状 番号 | O7: 2
B9: 変状 部位 | C9: 対象 箇所 | D9: 覆工・坑門 | M9: 変状 部位 | N9: 対象 箇所 | O9: 覆工・坑門
C11: 部位 区分 | D11: アーチ（左側） | N11: 部位 区分 | O11: アーチ（左側）
B13: 変状区分 | D13: 材質劣化 | M13: 変状区分 | O13: 材質劣化
B14: 変状種類 | D14: 鋼材腐食 | M14: 変状種類 | O14: 鋼材腐食
B15: 健全性 | C15: 応急措置前 | E15: － | M15: 健全性 | N15: 応急措置前 | P15: －
C16: 応急措置後 | E16: Ⅱ | N16: 応急措置後 | P16: Ⅱ
B17: 変状の発生範囲の規模 | E17: 0.05m×0.05m | M17: 変状の発生範囲の規模 | P17: 0.1m×0.1m
B18: 前回定期点検時の状態 | E18: 同程度 | M18: 前回定期点検時の状態 | P18: 同程度
B19: 調査方針 | E19: - | M19: 調査方針 | P19: -
B20: 対策履歴 | E20: なし | H20: 実施状況（実施日） | J20: - | M20: 対策履歴 | P20: なし | S20: 実施状況（実施日） | U20: -
B21: メモ | D21: 鋼材露出(深さ50mm)(Ⅱb)、部分的に露出した鋼材(表面的な腐食)に防錆剤塗布 | M21: メモ | O21: 鋼材露出(深さ50mm)(Ⅱb)、部分的に露出した鋼材(表面的な腐食)に防錆剤塗布
B22: 写真 番号 | C22: 覆工 スパン 番号 | D22: 8 | M22: 写真 番号 | N22: 覆工 スパン 番号
C24: 変状 番号 | D24: 3 | N24: 変状 番号
B26: 変状 部位 | C26: 対象 箇所 | D26: 覆工・坑門 | M26: 変状 部位 | N26: 対象 箇所
C28: 部位 区分 | D28: アーチ（右側） | N28: 部位 区分
B30: 変状区分 | D30: 材質劣化 | M30: 変状区分
B31: 変状種類 | D31: 鋼材腐食 | M31: 変状種類
B32: 健全性 | C32: 応急措置前 | E32: － | M32: 健全性 | N32: 応急措置前
C33: 応急措置後 | E33: Ⅱ | N33: 応急措置後
B34: 変状の発生範囲の規模 | E34: 0.1m×0.1m | M34: 変状の発生範囲の規模
B35: 前回定期点検時の状態 | E35: 同程度 | M35: 前回定期点検時の状態
B36: 調査方針 | E36: - | M36: 調査方針
B37: 対策履歴 | E37: なし | H37: 実施状況（実施日） | J37: - | M37: 対策履歴 | S37: 実施状況（実施日）
B38: メモ | D38: 鋼材露出(Ⅱb)、防錆剤塗布 | M38: メモ
C39: ※ 健全性（応急措置後）の判定区分Ⅱ～Ⅳについて添付すること。また、点検前に 実施された措置によりⅠと判定された箇所も添付すること。 | N39: ※ 変状の発生範囲の規模とは、対策を行う際に参考となる変状の長さや面積をいう。
N40: ※ 応急措置を実施しないで判定した変状の健全性は、健全性の応急措置後の欄に記入すること。
C41: ※ たたき落としを実施した場合は、実施後の写真を添付すること。 | N41: ※ 変状の発生範囲の規模は、面積・寸法を記載すること。
C42: ※ 附属物の取付状態に関する異常写真は別途、様式D-1-2でとりまとめること。 | N42: (ひび割れ幅のみmmとし、その他をm表記とする)
C43: ※ 変状数に準じてシートを追加すること。（１シートに１ページとすること。） | N43: ※ 構造用鋼材以外の異物に伴ううき・はく離については、メモ欄に異物の概要を記入すること。

Sheet 様式D-1-1(トンネル様式2P001) (8)
B2: ■定期点検記録様式 変状写真台帳 | Y2: Ⅰ
B3: フリガナ | D3: オオミズトウゲトンネル | H3: 路線名 | J3: 主要県道秋芳三隅線 | M3: 定期点検業者 | P3: 応用地質株式会社 | S3: 定期点検年月日 | U3: 44860 | Y3: Ⅱ
B4: 名 称 | D4: 大水峠トンネル | H4: 管理者名 | J4: 長門土木建築事務所 | M4: 定期点検者名 | P4: 太田 裕之 | Y4: Ⅲ
B5: 写真 番号 | C5: 覆工 スパン 番号 | D5: 9 | M5: 写真 番号 | N5: 覆工 スパン 番号 | Y5: Ⅳ
Y6: －
C7: 変状 番号 | D7: 1 | N7: 変状 番号
B9: 変状 部位 | C9: 対象 箇所 | D9: 覆工・坑門 | M9: 変状 部位 | N9: 対象 箇所
C11: 部位 区分 | D11: アーチ（左側） | N11: 部位 区分
B13: 変状区分 | D13: 材質劣化 | M13: 変状区分
B14: 変状種類 | D14: 鋼材腐食 | M14: 変状種類
B15: 健全性 | C15: 応急措置前 | E15: － | M15: 健全性 | N15: 応急措置前
C16: 応急措置後 | E16: Ⅱ | N16: 応急措置後
B17: 変状の発生範囲の規模 | E17: 0.05m×0.05m他 | M17: 変状の発生範囲の規模
B18: 前回定期点検時の状態 | E18: 同程度 | M18: 前回定期点検時の状態
B19: 調査方針 | E19: - | M19: 調査方針
B20: 対策履歴 | E20: なし | H20: 実施状況（実施日） | J20: - | M20: 対策履歴 | S20: 実施状況（実施日）
B21: メモ | D21: 2ヶ所の鋼材露出(Ⅱb)、防錆剤塗布 | M21: メモ
B22: 写真 番号 | C22: 覆工 スパン 番号 | M22: 写真 番号 | N22: 覆工 スパン 番号
C24: 変状 番号 | N24: 変状 番号
B26: 変状 部位 | C26: 対象 箇所 | M26: 変状 部位 | N26: 対象 箇所
C28: 部位 区分 | N28: 部位 区分
B30: 変状区分 | M30: 変状区分
B31: 変状種類 | M31: 変状種類
B32: 健全性 | C32: 応急措置前 | M32: 健全性 | N32: 応急措置前
C33: 応急措置後 | N33: 応急措置後
B34: 変状の発生範囲の規模 | M34: 変状の発生範囲の規模
B35: 前回定期点検時の状態 | M35: 前回定期点検時の状態
B36: 調査方針 | M36: 調査方針
B37: 対策履歴 | H37: 実施状況（実施日） | M37: 対策履歴 | S37: 実施状況（実施日）
B38: メモ | M38: メモ
C39: ※ 健全性（応急措置後）の判定区分Ⅱ～Ⅳについて添付すること。また、点検前に 実施された措置によりⅠと判定された箇所も添付すること。 | N39: ※ 変状の発生範囲の規模とは、対策を行う際に参考となる変状の長さや面積をいう。
N40: ※ 応急措置を実施しないで判定した変状の健全性は、健全性の応急措置後の欄に記入すること。
C41: ※ たたき落としを実施した場合は、実施後の写真を添付すること。 | N41: ※ 変状の発生範囲の規模は、面積・寸法を記載すること。
C42: ※ 附属物の取付状態に関する異常写真は別途、様式D-1-2でとりまとめること。 | N42: (ひび割れ幅のみmmとし、その他をm表記とする)
C43: ※ 変状数に準じてシートを追加すること。（１シートに１ページとすること。） | N43: ※ 構造用鋼材以外の異物に伴ううき・はく離については、メモ欄に異物の概要を記入すること。

Sheet 様式D-1-1(トンネル様式2P001) (9)
B2: ■定期点検記録様式 変状写真台帳 | Y2: Ⅰ
B3: フリガナ | D3: オオミズトウゲトンネル | H3: 路線名 | J3: 主要県道秋芳三隅線 | M3: 定期点検業者 | P3: 応用地質株式会社 | S3: 定期点検年月日 | U3: 44860 | Y3: Ⅱ
B4: 名 称 | D4: 大水峠トンネル | H4: 管理者名 | J4: 長門土木建築事務所 | M4: 定期点検者名 | P4: 太田 裕之 | Y4: Ⅲ
B5: 写真 番号 | C5: 覆工 スパン 番号 | D5: 10 | M5: 写真 番号 | N5: 覆工 スパン 番号 | Y5: Ⅳ
Y6: －
C7: 変状 番号 | D7: 1 | N7: 変状 番号
B9: 変状 部位 | C9: 対象 箇所 | D9: 覆工・坑門 | M9: 変状 部位 | N9: 対象 箇所
C11: 部位 区分 | D11: 横断目地（天端） | N11: 部位 区分
B13: 変状区分 | D13: 材質劣化 | M13: 変状区分
B14: 変状種類 | D14: うき・はく離 | M14: 変状種類
B15: 健全性 | C15: 応急措置前 | E15: － | M15: 健全性 | N15: 応急措置前
C16: 応急措置後 | E16: Ⅱ | N16: 応急措置後
B17: 変状の発生範囲の規模 | E17: 0.8m×0.1m | M17: 変状の発生範囲の規模
B18: 前回定期点検時の状態 | E18: 同程度 | M18: 前回定期点検時の状態
B19: 調査方針 | E19: - | M19: 調査方針
B20: 対策履歴 | E20: なし | H20: 実施状況（実施日） | J20: - | M20: 対策履歴 | S20: 実施状況（実施日）
B21: メモ | D21: 目地部の豆板(Ⅱb)、浸透固化材塗布 | M21: メモ
B22: 写真 番号 | C22: 覆工 スパン 番号 | M22: 写真 番号 | N22: 覆工 スパン 番号
C24: 変状 番号 | N24: 変状 番号
B26: 変状 部位 | C26: 対象 箇所 | M26: 変状 部位 | N26: 対象 箇所
C28: 部位 区分 | N28: 部位 区分
B30: 変状区分 | M30: 変状区分
B31: 変状種類 | M31: 変状種類
B32: 健全性 | C32: 応急措置前 | M32: 健全性 | N32: 応急措置前
C33: 応急措置後 | N33: 応急措置後
B34: 変状の発生範囲の規模 | M34: 変状の発生範囲の規模
B35: 前回定期点検時の状態 | M35: 前回定期点検時の状態
B36: 調査方針 | M36: 調査方針
B37: 対策履歴 | H37: 実施状況（実施日） | M37: 対策履歴 | S37: 実施状況（実施日）
B38: メモ | M38: メモ
C39: ※ 健全性（応急措置後）の判定区分Ⅱ～Ⅳについて添付すること。また、点検前に 実施された措置によりⅠと判定された箇所も添付すること。 | N39: ※ 変状の発生範囲の規模とは、対策を行う際に参考となる変状の長さや面積をいう。
N40: ※ 応急措置を実施しないで判定した変状の健全性は、健全性の応急措置後の欄に記入すること。
C41: ※ たたき落としを実施した場合は、実施後の写真を添付すること。 | N41: ※ 変状の発生範囲の規模は、面積・寸法を記載すること。
C42: ※ 附属物の取付状態に関する異常写真は別途、様式D-1-2でとりまとめること。 | N42: (ひび割れ幅のみmmとし、その他をm表記とする)
C43: ※ 変状数に準じてシートを追加すること。（１シートに１ページとすること。） | N43: ※ 構造用鋼材以外の異物に伴ううき・はく離については、メモ欄に異物の概要を記入すること。

Sheet 様式D-1-1(トンネル様式2P001) (10)
B2: ■定期点検記録様式 変状写真台帳 | Y2: Ⅰ
B3: フリガナ | D3: オオミズトウゲトンネル | H3: 路線名 | J3: 主要県道秋芳三隅線 | M3: 定期点検業者 | P3: 応用地質株式会社 | S3: 定期点検年月日 | U3: 44860 | Y3: Ⅱ
B4: 名 称 | D4: 大水峠トンネル | H4: 管理者名 | J4: 長門土木建築事務所 | M4: 定期点検者名 | P4: 太田 裕之 | Y4: Ⅲ
B5: 写真 番号 | C5: 覆工 スパン 番号 | D5: 11 | M5: 写真 番号 | N5: 覆工 スパン 番号 | O5: 11 | Y5: Ⅳ
Y6: －
C7: 変状 番号 | D7: 1 | N7: 変状 番号 | O7: 2
B9: 変状 部位 | C9: 対象 箇所 | D9: 覆工・坑門 | M9: 変状 部位 | N9: 対象 箇所 | O9: 覆工・坑門
C11: 部位 区分 | D11: アーチ（右側） | N11: 部位 区分 | O11: 横断目地（右側）
B13: 変状区分 | D13: 材質劣化 | M13: 変状区分 | O13: 材質劣化
B14: 変状種類 | D14: 鋼材腐食 | M14: 変状種類 | O14: うき・はく離
B15: 健全性 | C15: 応急措置前 | E15: － | M15: 健全性 | N15: 応急措置前 | P15: Ⅱ
C16: 応急措置後 | E16: Ⅱ | N16: 応急措置後 | P16: Ⅰ
B17: 変状の発生範囲の規模 | E17: 0.1m×0.1m | M17: 変状の発生範囲の規模 | P17: 0.3m×0.05m
B18: 前回定期点検時の状態 | E18: 同程度 | M18: 前回定期点検時の状態 | P18: なし
B19: 調査方針 | E19: - | M19: 調査方針 | P19: -
B20: 対策履歴 | E20: なし | H20: 実施状況（実施日） | J20: - | M20: 対策履歴 | P20: なし | S20: 実施状況（実施日） | U20: -
B21: メモ | D21: 鋼材露出(深さ50mm)(Ⅱb)、部分的に露出した鋼材(表面的な腐食)に防錆剤塗布 | M21: メモ | O21: 目地部のうき(Ⅱb→Ⅰ)、今回点検時に叩き落とし実施(深さ50mm)
B22: 写真 番号 | C22: 覆工 スパン 番号 | M22: 写真 番号 | N22: 覆工 スパン 番号
C24: 変状 番号 | N24: 変状 番号
B26: 変状 部位 | C26: 対象 箇所 | M26: 変状 部位 | N26: 対象 箇所
C28: 部位 区分 | N28: 部位 区分
B30: 変状区分 | M30: 変状区分
B31: 変状種類 | M31: 変状種類
B32: 健全性 | C32: 応急措置前 | M32: 健全性 | N32: 応急措置前
C33: 応急措置後 | N33: 応急措置後
B34: 変状の発生範囲の規模 | M34: 変状の発生範囲の規模
B35: 前回定期点検時の状態 | M35: 前回定期点検時の状態
B36: 調査方針 | M36: 調査方針
B37: 対策履歴 | H37: 実施状況（実施日） | M37: 対策履歴 | S37: 実施状況（実施日）
B38: メモ | M38: メモ
C39: ※ 健全性（応急措置後）の判定区分Ⅱ～Ⅳについて添付すること。また、点検前に 実施された措置によりⅠと判定された箇所も添付すること。 | N39: ※ 変状の発生範囲の規模とは、対策を行う際に参考となる変状の長さや面積をいう。
N40: ※ 応急措置を実施しないで判定した変状の健全性は、健全性の応急措置後の欄に記入すること。
C41: ※ たたき落としを実施した場合は、実施後の写真を添付すること。 | N41: ※ 変状の発生範囲の規模は、面積・寸法を記載すること。
C42: ※ 附属物の取付状態に関する異常写真は別途、様式D-1-2でとりまとめること。 | N42: (ひび割れ幅のみmmとし、その他をm表記とする)
C43: ※ 変状数に準じてシートを追加すること。（１シートに１ページとすること。） | N43: ※ 構造用鋼材以外の異物に伴ううき・はく離については、メモ欄に異物の概要を記入すること。

Sheet 様式D-1-1(トンネル様式2P001) (11)
B2: ■定期点検記録様式 変状写真台帳 | Y2: Ⅰ
B3: フリガナ | D3: オオミズトウゲトンネル | H3: 路線名 | J3: 主要県道秋芳三隅線 | M3: 定期点検業者 | P3: 応用地質株式会社 | S3: 定期点検年月日 | U3: 44860 | Y3: Ⅱ
B4: 名 称 | D4: 大水峠トンネル | H4: 管理者名 | J4: 長門土木建築事務所 | M4: 定期点検者名 | P4: 太田 裕之 | Y4: Ⅲ
B5: 写真 番号 | C5: 覆工 スパン 番号 | D5: 12 | M5: 写真 番号 | N5: 覆工 スパン 番号 | Y5: Ⅳ
Y6: －
C7: 変状 番号 | D7: 1 | N7: 変状 番号
B9: 変状 部位 | C9: 対象 箇所 | D9: 覆工・坑門 | M9: 変状 部位 | N9: 対象 箇所
C11: 部位 区分 | D11: 横断目地（天端） | N11: 部位 区分
B13: 変状区分 | D13: 材質劣化 | M13: 変状区分
B14: 変状種類 | D14: うき・はく離 | M14: 変状種類
B15: 健全性 | C15: 応急措置前 | E15: － | M15: 健全性 | N15: 応急措置前
C16: 応急措置後 | E16: Ⅱ | N16: 応急措置後
B17: 変状の発生範囲の規模 | E17: 0.5m×0.15m | M17: 変状の発生範囲の規模
B18: 前回定期点検時の状態 | E18: 同程度 | M18: 前回定期点検時の状態
B19: 調査方針 | E19: - | M19: 調査方針
B20: 対策履歴 | E20: なし | H20: 実施状況（実施日） | J20: - | M20: 対策履歴 | S20: 実施状況（実施日）
B21: メモ | D21: 目地部のブロック化したうき(Ⅱa)、浸透固化材塗布 | M21: メモ
B22: 写真 番号 | C22: 覆工 スパン 番号 | M22: 写真 番号 | N22: 覆工 スパン 番号
C24: 変状 番号 | N24: 変状 番号
B26: 変状 部位 | C26: 対象 箇所 | M26: 変状 部位 | N26: 対象 箇所
C28: 部位 区分 | N28: 部位 区分
B30: 変状区分 | M30: 変状区分
B31: 変状種類 | M31: 変状種類
B32: 健全性 | C32: 応急措置前 | M32: 健全性 | N32: 応急措置前
C33: 応急措置後 | N33: 応急措置後
B34: 変状の発生範囲の規模 | M34: 変状の発生範囲の規模
B35: 前回定期点検時の状態 | M35: 前回定期点検時の状態
B36: 調査方針 | M36: 調査方針
B37: 対策履歴 | H37: 実施状況（実施日） | M37: 対策履歴 | S37: 実施状況（実施日）
B38: メモ | M38: メモ
C39: ※ 健全性（応急措置後）の判定区分Ⅱ～Ⅳについて添付すること。また、点検前に 実施された措置によりⅠと判定された箇所も添付すること。 | N39: ※ 変状の発生範囲の規模とは、対策を行う際に参考となる変状の長さや面積をいう。
N40: ※ 応急措置を実施しないで判定した変状の健全性は、健全性の応急措置後の欄に記入すること。
C41: ※ たたき落としを実施した場合は、実施後の写真を添付すること。 | N41: ※ 変状の発生範囲の規模は、面積・寸法を記載すること。
C42: ※ 附属物の取付状態に関する異常写真は別途、様式D-1-2でとりまとめること。 | N42: (ひび割れ幅のみmmとし、その他をm表記とする)
C43: ※ 変状数に準じてシートを追加すること。（１シートに１ページとすること。） | N43: ※ 構造用鋼材以外の異物に伴ううき・はく離については、メモ欄に異物の概要を記入すること。

Sheet 様式D-1-1(トンネル様式2P001) (12)
B2: ■定期点検記録様式 変状写真台帳 | Y2: Ⅰ
B3: フリガナ | D3: オオミズトウゲトンネル | H3: 路線名 | J3: 主要県道秋芳三隅線 | M3: 定期点検業者 | P3: 応用地質株式会社 | S3: 定期点検年月日 | U3: 44860 | Y3: Ⅱ
B4: 名 称 | D4: 大水峠トンネル | H4: 管理者名 | J4: 長門土木建築事務所 | M4: 定期点検者名 | P4: 太田 裕之 | Y4: Ⅲ
B5: 写真 番号 | C5: 覆工 スパン 番号 | D5: 13 | M5: 写真 番号 | N5: 覆工 スパン 番号 | O5: 13 | Y5: Ⅳ
Y6: －
C7: 変状 番号 | D7: 1 | N7: 変状 番号 | O7: 2
B9: 変状 部位 | C9: 対象 箇所 | D9: 覆工・坑門 | M9: 変状 部位 | N9: 対象 箇所 | O9: 覆工・坑門
C11: 部位 区分 | D11: 横断目地（天端） | N11: 部位 区分 | O11: アーチ（天端）
B13: 変状区分 | D13: 材質劣化 | M13: 変状区分 | O13: 材質劣化
B14: 変状種類 | D14: うき・はく離 | M14: 変状種類 | O14: ひび割れ
B15: 健全性 | C15: 応急措置前 | E15: － | M15: 健全性 | N15: 応急措置前 | P15: －
C16: 応急措置後 | E16: Ⅲ | N16: 応急措置後 | P16: Ⅱ
B17: 変状の発生範囲の規模 | E17: 0.5m×0.15m | M17: 変状の発生範囲の規模 | P17: 5.8m×1.2m
B18: 前回定期点検時の状態 | E18: はく落0.5m×0.15m(Ⅰ) | M18: 前回定期点検時の状態 | P18: ひび割れ5.8m×1.2m(Ⅰ)
B19: 調査方針 | E19: - | M19: 調査方針 | P19: -
B20: 対策履歴 | E20: なし | H20: 実施状況（実施日） | J20: - | M20: 対策履歴 | P20: なし | S20: 実施状況（実施日） | U20: -
B21: メモ | D21: 目地部のブロック化したうき、浸透固化材塗布、再判定 | M21: メモ | O21: 目地沿いに幅0.3～0.5mmの半月状ひび割れ(Ⅱb)、打音異常なし、再判定
B22: 写真 番号 | C22: 覆工 スパン 番号 | M22: 写真 番号 | N22: 覆工 スパン 番号
C24: 変状 番号 | N24: 変状 番号
B26: 変状 部位 | C26: 対象 箇所 | M26: 変状 部位 | N26: 対象 箇所
C28: 部位 区分 | N28: 部位 区分
B30: 変状区分 | M30: 変状区分
B31: 変状種類 | M31: 変状種類
B32: 健全性 | C32: 応急措置前 | M32: 健全性 | N32: 応急措置前
C33: 応急措置後 | N33: 応急措置後
B34: 変状の発生範囲の規模 | M34: 変状の発生範囲の規模
B35: 前回定期点検時の状態 | M35: 前回定期点検時の状態
B36: 調査方針 | M36: 調査方針
B37: 対策履歴 | H37: 実施状況（実施日） | M37: 対策履歴 | S37: 実施状況（実施日）
B38: メモ | M38: メモ
C39: ※ 健全性（応急措置後）の判定区分Ⅱ～Ⅳについて添付すること。また、点検前に 実施された措置によりⅠと判定された箇所も添付すること。 | N39: ※ 変状の発生範囲の規模とは、対策を行う際に参考となる変状の長さや面積をいう。
N40: ※ 応急措置を実施しないで判定した変状の健全性は、健全性の応急措置後の欄に記入すること。
C41: ※ たたき落としを実施した場合は、実施後の写真を添付すること。 | N41: ※ 変状の発生範囲の規模は、面積・寸法を記載すること。
C42: ※ 附属物の取付状態に関する異常写真は別途、様式D-1-2でとりまとめること。 | N42: (ひび割れ幅のみmmとし、その他をm表記とする)
C43: ※ 変状数に準じてシートを追加すること。（１シートに１ページとすること。） | N43: ※ 構造用鋼材以外の異物に伴ううき・はく離については、メモ欄に異物の概要を記入すること。

Sheet 様式D-1-1(トンネル様式2P001) (13)
B2: ■定期点検記録様式 変状写真台帳 | Y2: Ⅰ
B3: フリガナ | D3: オオミズトウゲトンネル | H3: 路線名 | J3: 主要県道秋芳三隅線 | M3: 定期点検業者 | P3: 応用地質株式会社 | S3: 定期点検年月日 | U3: 44860 | Y3: Ⅱ
B4: 名 称 | D4: 大水峠トンネル | H4: 管理者名 | J4: 長門土木建築事務所 | M4: 定期点検者名 | P4: 太田 裕之 | Y4: Ⅲ
B5: 写真 番号 | C5: 覆工 スパン 番号 | D5: 14 | M5: 写真 番号 | N5: 覆工 スパン 番号 | Y5: Ⅳ
Y6: －
C7: 変状 番号 | D7: 1 | N7: 変状 番号
B9: 変状 部位 | C9: 対象 箇所 | D9: 覆工・坑門 | M9: 変状 部位 | N9: 対象 箇所
C11: 部位 区分 | D11: アーチ（左側） | N11: 部位 区分
B13: 変状区分 | D13: 材質劣化 | M13: 変状区分
B14: 変状種類 | D14: 鋼材腐食 | M14: 変状種類
B15: 健全性 | C15: 応急措置前 | E15: － | M15: 健全性 | N15: 応急措置前
C16: 応急措置後 | E16: Ⅱ | N16: 応急措置後
B17: 変状の発生範囲の規模 | E17: 0.1m×0.1m | M17: 変状の発生範囲の規模
B18: 前回定期点検時の状態 | E18: 同程度 | M18: 前回定期点検時の状態
B19: 調査方針 | E19: - | M19: 調査方針
B20: 対策履歴 | E20: なし | H20: 実施状況（実施日） | J20: - | M20: 対策履歴 | S20: 実施状況（実施日）
B21: メモ | D21: 鋼材露出(深さ50mm)(Ⅱb)、部分的に露出した鋼材(表面的な腐食)に防錆剤塗布 | M21: メモ
B22: 写真 番号 | C22: 覆工 スパン 番号 | M22: 写真 番号 | N22: 覆工 スパン 番号
C24: 変状 番号 | N24: 変状 番号
B26: 変状 部位 | C26: 対象 箇所 | M26: 変状 部位 | N26: 対象 箇所
C28: 部位 区分 | N28: 部位 区分
B30: 変状区分 | M30: 変状区分
B31: 変状種類 | M31: 変状種類
B32: 健全性 | C32: 応急措置前 | M32: 健全性 | N32: 応急措置前
C33: 応急措置後 | N33: 応急措置後
B34: 変状の発生範囲の規模 | M34: 変状の発生範囲の規模
B35: 前回定期点検時の状態 | M35: 前回定期点検時の状態
B36: 調査方針 | M36: 調査方針
B37: 対策履歴 | H37: 実施状況（実施日） | M37: 対策履歴 | S37: 実施状況（実施日）
B38: メモ | M38: メモ
C39: ※ 健全性（応急措置後）の判定区分Ⅱ～Ⅳについて添付すること。また、点検前に 実施された措置によりⅠと判定された箇所も添付すること。 | N39: ※ 変状の発生範囲の規模とは、対策を行う際に参考となる変状の長さや面積をいう。
N40: ※ 応急措置を実施しないで判定した変状の健全性は、健全性の応急措置後の欄に記入すること。
C41: ※ たたき落としを実施した場合は、実施後の写真を添付すること。 | N41: ※ 変状の発生範囲の規模は、面積・寸法を記載すること。
C42: ※ 附属物の取付状態に関する異常写真は別途、様式D-1-2でとりまとめること。 | N42: (ひび割れ幅のみmmとし、その他をm表記とする)
C43: ※ 変状数に準じてシートを追加すること。（１シートに１ページとすること。） | N43: ※ 構造用鋼材以外の異物に伴ううき・はく離については、メモ欄に異物の概要を記入すること。

Sheet 様式D-1-1(トンネル様式2P001) (14)
B2: ■定期点検記録様式 変状写真台帳 | Y2: Ⅰ
B3: フリガナ | D3: オオミズトウゲトンネル | H3: 路線名 | J3: 主要県道秋芳三隅線 | M3: 定期点検業者 | P3: 応用地質株式会社 | S3: 定期点検年月日 | U3: 44860 | Y3: Ⅱ
B4: 名 称 | D4: 大水峠トンネル | H4: 管理者名 | J4: 長門土木建築事務所 | M4: 定期点検者名 | P4: 太田 裕之 | Y4: Ⅲ
B5: 写真 番号 | C5: 覆工 スパン 番号 | D5: 15 | M5: 写真 番号 | N5: 覆工 スパン 番号 | O5: 15 | Y5: Ⅳ
Y6: －
C7: 変状 番号 | D7: 1 | N7: 変状 番号 | O7: 2
B9: 変状 部位 | C9: 対象 箇所 | D9: 覆工・坑門 | M9: 変状 部位 | N9: 対象 箇所 | O9: 覆工・坑門
C11: 部位 区分 | D11: アーチ（左側） | N11: 部位 区分 | O11: 横断目地（天端）
B13: 変状区分 | D13: 材質劣化 | M13: 変状区分 | O13: 材質劣化
B14: 変状種類 | D14: 鋼材腐食 | M14: 変状種類 | O14: うき・はく離
B15: 健全性 | C15: 応急措置前 | E15: － | M15: 健全性 | N15: 応急措置前 | P15: －
C16: 応急措置後 | E16: Ⅱ | N16: 応急措置後 | P16: Ⅱ
B17: 変状の発生範囲の規模 | E17: 0.05m×0.05m | M17: 変状の発生範囲の規模 | P17: 0.4m×0.05m
B18: 前回定期点検時の状態 | E18: 同程度 | M18: 前回定期点検時の状態 | P18: 同程度
B19: 調査方針 | E19: - | M19: 調査方針 | P19: -
B20: 対策履歴 | E20: なし | H20: 実施状況（実施日） | J20: - | M20: 対策履歴 | P20: なし | S20: 実施状況（実施日） | U20: -
B21: メモ | D21: 鋼材露出(Ⅱb)、防錆剤塗布 | M21: メモ | O21: 目地部の豆板(Ⅱb)、浸透固化材塗布
B22: 写真 番号 | C22: 覆工 スパン 番号 | M22: 写真 番号 | N22: 覆工 スパン 番号
C24: 変状 番号 | N24: 変状 番号
B26: 変状 部位 | C26: 対象 箇所 | M26: 変状 部位 | N26: 対象 箇所
C28: 部位 区分 | N28: 部位 区分
B30: 変状区分 | M30: 変状区分
B31: 変状種類 | M31: 変状種類
B32: 健全性 | C32: 応急措置前 | M32: 健全性 | N32: 応急措置前
C33: 応急措置後 | N33: 応急措置後
B34: 変状の発生範囲の規模 | M34: 変状の発生範囲の規模
B35: 前回定期点検時の状態 | M35: 前回定期点検時の状態
B36: 調査方針 | M36: 調査方針
B37: 対策履歴 | H37: 実施状況（実施日） | M37: 対策履歴 | S37: 実施状況（実施日）
B38: メモ | M38: メモ
C39: ※ 健全性（応急措置後）の判定区分Ⅱ～Ⅳについて添付すること。また、点検前に 実施された措置によりⅠと判定された箇所も添付すること。 | N39: ※ 変状の発生範囲の規模とは、対策を行う際に参考となる変状の長さや面積をいう。
N40: ※ 応急措置を実施しないで判定した変状の健全性は、健全性の応急措置後の欄に記入すること。
C41: ※ たたき落としを実施した場合は、実施後の写真を添付すること。 | N41: ※ 変状の発生範囲の規模は、面積・寸法を記載すること。
C42: ※ 附属物の取付状態に関する異常写真は別途、様式D-1-2でとりまとめること。 | N42: (ひび割れ幅のみmmとし、その他をm表記とする)
C43: ※ 変状数に準じてシートを追加すること。（１シートに１ページとすること。） | N43: ※ 構造用鋼材以外の異物に伴ううき・はく離については、メモ欄に異物の概要を記入すること。

Sheet 様式D-1-1(トンネル様式2P001) (15)
B2: ■定期点検記録様式 変状写真台帳 | Y2: Ⅰ
B3: フリガナ | D3: オオミズトウゲトンネル | H3: 路線名 | J3: 主要県道秋芳三隅線 | M3: 定期点検業者 | P3: 応用地質株式会社 | S3: 定期点検年月日 | U3: 44860 | Y3: Ⅱ
B4: 名 称 | D4: 大水峠トンネル | H4: 管理者名 | J4: 長門土木建築事務所 | M4: 定期点検者名 | P4: 太田 裕之 | Y4: Ⅲ
B5: 写真 番号 | C5: 覆工 スパン 番号 | D5: 16 | M5: 写真 番号 | N5: 覆工 スパン 番号 | Y5: Ⅳ
Y6: －
C7: 変状 番号 | D7: 1 | N7: 変状 番号
B9: 変状 部位 | C9: 対象 箇所 | D9: 覆工・坑門 | M9: 変状 部位 | N9: 対象 箇所
C11: 部位 区分 | D11: アーチ（左側） | N11: 部位 区分
B13: 変状区分 | D13: 材質劣化 | M13: 変状区分
B14: 変状種類 | D14: 鋼材腐食 | M14: 変状種類
B15: 健全性 | C15: 応急措置前 | E15: － | M15: 健全性 | N15: 応急措置前
C16: 応急措置後 | E16: Ⅱ | N16: 応急措置後
B17: 変状の発生範囲の規模 | E17: 0.1m×0.1m | M17: 変状の発生範囲の規模
B18: 前回定期点検時の状態 | E18: なし | M18: 前回定期点検時の状態
B19: 調査方針 | E19: - | M19: 調査方針
B20: 対策履歴 | E20: なし | H20: 実施状況（実施日） | J20: - | M20: 対策履歴 | S20: 実施状況（実施日）
B21: メモ | D21: 鋼材露出(深さ50mm)(Ⅱb)、部分的に露出した鋼材(表面的な腐食)に防錆剤塗布 | M21: メモ
B22: 写真 番号 | C22: 覆工 スパン 番号 | M22: 写真 番号 | N22: 覆工 スパン 番号
C24: 変状 番号 | N24: 変状 番号
B26: 変状 部位 | C26: 対象 箇所 | M26: 変状 部位 | N26: 対象 箇所
C28: 部位 区分 | N28: 部位 区分
B30: 変状区分 | M30: 変状区分
B31: 変状種類 | M31: 変状種類
B32: 健全性 | C32: 応急措置前 | M32: 健全性 | N32: 応急措置前
C33: 応急措置後 | N33: 応急措置後
B34: 変状の発生範囲の規模 | M34: 変状の発生範囲の規模
B35: 前回定期点検時の状態 | M35: 前回定期点検時の状態
B36: 調査方針 | M36: 調査方針
B37: 対策履歴 | H37: 実施状況（実施日） | M37: 対策履歴 | S37: 実施状況（実施日）
B38: メモ | M38: メモ
C39: ※ 健全性（応急措置後）の判定区分Ⅱ～Ⅳについて添付すること。また、点検前に 実施された措置によりⅠと判定された箇所も添付すること。 | N39: ※ 変状の発生範囲の規模とは、対策を行う際に参考となる変状の長さや面積をいう。
N40: ※ 応急措置を実施しないで判定した変状の健全性は、健全性の応急措置後の欄に記入すること。
C41: ※ たたき落としを実施した場合は、実施後の写真を添付すること。 | N41: ※ 変状の発生範囲の規模は、面積・寸法を記載すること。
C42: ※ 附属物の取付状態に関する異常写真は別途、様式D-1-2でとりまとめること。 | N42: (ひび割れ幅のみmmとし、その他をm表記とする)
C43: ※ 変状数に準じてシートを追加すること。（１シートに１ページとすること。） | N43: ※ 構造用鋼材以外の異物に伴ううき・はく離については、メモ欄に異物の概要を記入すること。

Sheet 様式D-1-1(トンネル様式2P001) (16)
B2: ■定期点検記録様式 変状写真台帳 | Y2: Ⅰ
B3: フリガナ | D3: オオミズトウゲトンネル | H3: 路線名 | J3: 主要県道秋芳三隅線 | M3: 定期点検業者 | P3: 応用地質株式会社 | S3: 定期点検年月日 | U3: 44860 | Y3: Ⅱ
B4: 名 称 | D4: 大水峠トンネル | H4: 管理者名 | J4: 長門土木建築事務所 | M4: 定期点検者名 | P4: 太田 裕之 | Y4: Ⅲ
B5: 写真 番号 | C5: 覆工 スパン 番号 | D5: 19 | M5: 写真 番号 | N5: 覆工 スパン 番号 | O5: 19 | Y5: Ⅳ
Y6: －
C7: 変状 番号 | D7: 1 | N7: 変状 番号 | O7: 2
B9: 変状 部位 | C9: 対象 箇所 | D9: 覆工・坑門 | M9: 変状 部位 | N9: 対象 箇所 | O9: 覆工・坑門
C11: 部位 区分 | D11: アーチ（右側） | N11: 部位 区分 | O11: 横断目地（左側）
B13: 変状区分 | D13: 材質劣化 | M13: 変状区分 | O13: 材質劣化
B14: 変状種類 | D14: ひび割れ | M14: 変状種類 | O14: うき・はく離
B15: 健全性 | C15: 応急措置前 | E15: － | M15: 健全性 | N15: 応急措置前 | P15: －
C16: 応急措置後 | E16: Ⅱ | N16: 応急措置後 | P16: Ⅱ
B17: 変状の発生範囲の規模 | E17: 3.6m×0.8m | M17: 変状の発生範囲の規模 | P17: 0.3m×0.05m
B18: 前回定期点検時の状態 | E18: 同程度 | M18: 前回定期点検時の状態 | P18: はく落0.3m×0.05m(Ⅰ)
B19: 調査方針 | E19: - | M19: 調査方針 | P19: -
B20: 対策履歴 | E20: なし | H20: 実施状況（実施日） | J20: - | M20: 対策履歴 | P20: なし | S20: 実施状況（実施日） | U20: -
B21: メモ | D21: 目地沿いに幅0.3～0.4mmの半月状ひび割れ(Ⅱb)、打音異常なし | M21: メモ | O21: 目地部のブロック化したうき(Ⅱa)、浸透固化材塗布、再判定
B22: 写真 番号 | C22: 覆工 スパン 番号 | D22: 19 | M22: 写真 番号 | N22: 覆工 スパン 番号
C24: 変状 番号 | D24: 3 | N24: 変状 番号
B26: 変状 部位 | C26: 対象 箇所 | D26: 覆工・坑門 | M26: 変状 部位 | N26: 対象 箇所
C28: 部位 区分 | D28: 横断目地（天端） | N28: 部位 区分
B30: 変状区分 | D30: 材質劣化 | M30: 変状区分
B31: 変状種類 | D31: うき・はく離 | M31: 変状種類
B32: 健全性 | C32: 応急措置前 | E32: － | M32: 健全性 | N32: 応急措置前
C33: 応急措置後 | E33: Ⅱ | N33: 応急措置後
B34: 変状の発生範囲の規模 | E34: 0.5m×0.2m | M34: 変状の発生範囲の規模
B35: 前回定期点検時の状態 | E35: 同程度 | M35: 前回定期点検時の状態
B36: 調査方針 | E36: - | M36: 調査方針
B37: 対策履歴 | E37: なし | H37: 実施状況（実施日） | J37: - | M37: 対策履歴 | S37: 実施状況（実施日）
B38: メモ | D38: 目地部のブロック化したうき(Ⅱa)、浸透固化材塗布 | M38: メモ
C39: ※ 健全性（応急措置後）の判定区分Ⅱ～Ⅳについて添付すること。また、点検前に 実施された措置によりⅠと判定された箇所も添付すること。 | N39: ※ 変状の発生範囲の規模とは、対策を行う際に参考となる変状の長さや面積をいう。
N40: ※ 応急措置を実施しないで判定した変状の健全性は、健全性の応急措置後の欄に記入すること。
C41: ※ たたき落としを実施した場合は、実施後の写真を添付すること。 | N41: ※ 変状の発生範囲の規模は、面積・寸法を記載すること。
C42: ※ 附属物の取付状態に関する異常写真は別途、様式D-1-2でとりまとめること。 | N42: (ひび割れ幅のみmmとし、その他をm表記とする)
C43: ※ 変状数に準じてシートを追加すること。（１シートに１ページとすること。） | N43: ※ 構造用鋼材以外の異物に伴ううき・はく離については、メモ欄に異物の概要を記入すること。

Sheet 様式D-1-1(トンネル様式2P001) (17)
B2: ■定期点検記録様式 変状写真台帳 | Y2: Ⅰ
B3: フリガナ | D3: オオミズトウゲトンネル | H3: 路線名 | J3: 主要県道秋芳三隅線 | M3: 定期点検業者 | P3: 応用地質株式会社 | S3: 定期点検年月日 | U3: 44860 | Y3: Ⅱ
B4: 名 称 | D4: 大水峠トンネル | H4: 管理者名 | J4: 長門土木建築事務所 | M4: 定期点検者名 | P4: 太田 裕之 | Y4: Ⅲ
B5: 写真 番号 | C5: 覆工 スパン 番号 | D5: 21 | M5: 写真 番号 | N5: 覆工 スパン 番号 | O5: 21 | Y5: Ⅳ
Y6: －
C7: 変状 番号 | D7: 1 | N7: 変状 番号 | O7: 2
B9: 変状 部位 | C9: 対象 箇所 | D9: 覆工・坑門 | M9: 変状 部位 | N9: 対象 箇所 | O9: 覆工・坑門
C11: 部位 区分 | D11: アーチ（左側） | N11: 部位 区分 | O11: アーチ（右側）
B13: 変状区分 | D13: 材質劣化 | M13: 変状区分 | O13: 材質劣化
B14: 変状種類 | D14: 鋼材腐食 | M14: 変状種類 | O14: その他
B15: 健全性 | C15: 応急措置前 | E15: － | M15: 健全性 | N15: 応急措置前 | P15: －
C16: 応急措置後 | E16: Ⅱ | N16: 応急措置後 | P16: Ⅱ
B17: 変状の発生範囲の規模 | E17: 0.1m×0.1m | M17: 変状の発生範囲の規模 | P17: 4.25m×0.3m
B18: 前回定期点検時の状態 | E18: 同程度 | M18: 前回定期点検時の状態 | P18: 打音異常4.0m×0.3m(Ⅰ)
B19: 調査方針 | E19: - | M19: 調査方針 | P19: -
B20: 対策履歴 | E20: なし | H20: 実施状況（実施日） | J20: - | M20: 対策履歴 | P20: なし | S20: 実施状況（実施日） | U20: -
B21: メモ | D21: 鋼材露出(深さ50mm)(Ⅱb)、部分的に露出した鋼材(表面的な腐食)に防錆剤塗布 | M21: メモ | O21: 目地沿いの打音異常(濁音)(Ⅱb)、再判定
B22: 写真 番号 | C22: 覆工 スパン 番号 | D22: 21 | M22: 写真 番号 | N22: 覆工 スパン 番号
C24: 変状 番号 | D24: 3 | N24: 変状 番号
B26: 変状 部位 | C26: 対象 箇所 | D26: 覆工・坑門 | M26: 変状 部位 | N26: 対象 箇所
C28: 部位 区分 | D28: アーチ（右側） | N28: 部位 区分
B30: 変状区分 | D30: 材質劣化 | M30: 変状区分
B31: 変状種類 | D31: その他 | M31: 変状種類
B32: 健全性 | C32: 応急措置前 | E32: － | M32: 健全性 | N32: 応急措置前
C33: 応急措置後 | E33: Ⅱ | N33: 応急措置後
B34: 変状の発生範囲の規模 | E34: 1.5m×0.5m | M34: 変状の発生範囲の規模
B35: 前回定期点検時の状態 | E35: なし | M35: 前回定期点検時の状態
B36: 調査方針 | E36: - | M36: 調査方針
B37: 対策履歴 | E37: なし | H37: 実施状況（実施日） | J37: - | M37: 対策履歴 | S37: 実施状況（実施日）
B38: メモ | D38: 目地沿いの打音異常(異音)(Ⅱb) | M38: メモ
C39: ※ 健全性（応急措置後）の判定区分Ⅱ～Ⅳについて添付すること。また、点検前に 実施された措置によりⅠと判定された箇所も添付すること。 | N39: ※ 変状の発生範囲の規模とは、対策を行う際に参考となる変状の長さや面積をいう。
N40: ※ 応急措置を実施しないで判定した変状の健全性は、健全性の応急措置後の欄に記入すること。
C41: ※ たたき落としを実施した場合は、実施後の写真を添付すること。 | N41: ※ 変状の発生範囲の規模は、面積・寸法を記載すること。
C42: ※ 附属物の取付状態に関する異常写真は別途、様式D-1-2でとりまとめること。 | N42: (ひび割れ幅のみmmとし、その他をm表記とする)
C43: ※ 変状数に準じてシートを追加すること。（１シートに１ページとすること。） | N43: ※ 構造用鋼材以外の異物に伴ううき・はく離については、メモ欄に異物の概要を記入すること。

Sheet 様式D-1-1(トンネル様式2P001) (18)
B2: ■定期点検記録様式 変状写真台帳 | Y2: Ⅰ
B3: フリガナ | D3: オオミズトウゲトンネル | H3: 路線名 | J3: 主要県道秋芳三隅線 | M3: 定期点検業者 | P3: 応用地質株式会社 | S3: 定期点検年月日 | U3: 44860 | Y3: Ⅱ
B4: 名 称 | D4: 大水峠トンネル | H4: 管理者名 | J4: 長門土木建築事務所 | M4: 定期点検者名 | P4: 太田 裕之 | Y4: Ⅲ
B5: 写真 番号 | C5: 覆工 スパン 番号 | D5: 23 | M5: 写真 番号 | N5: 覆工 スパン 番号 | Y5: Ⅳ
Y6: －
C7: 変状 番号 | D7: 1 | N7: 変状 番号
B9: 変状 部位 | C9: 対象 箇所 | D9: 覆工・坑門 | M9: 変状 部位 | N9: 対象 箇所
C11: 部位 区分 | D11: 横断目地（右側） | N11: 部位 区分
B13: 変状区分 | D13: 材質劣化 | M13: 変状区分
B14: 変状種類 | D14: うき・はく離 | M14: 変状種類
B15: 健全性 | C15: 応急措置前 | E15: Ⅱ | M15: 健全性 | N15: 応急措置前
C16: 応急措置後 | E16: Ⅰ | N16: 応急措置後
B17: 変状の発生範囲の規模 | E17: 0.1m×0.05m | M17: 変状の発生範囲の規模
B18: 前回定期点検時の状態 | E18: なし | M18: 前回定期点検時の状態
B19: 調査方針 | E19: - | M19: 調査方針
B20: 対策履歴 | E20: なし | H20: 実施状況（実施日） | J20: - | M20: 対策履歴 | S20: 実施状況（実施日）
B21: メモ | D21: 目地部のうき(Ⅱb→Ⅰ)、今回点検時に叩き落とし実施(深さ50mm)、浸透固化材塗布 | M21: メモ
B22: 写真 番号 | C22: 覆工 スパン 番号 | M22: 写真 番号 | N22: 覆工 スパン 番号
C24: 変状 番号 | N24: 変状 番号
B26: 変状 部位 | C26: 対象 箇所 | M26: 変状 部位 | N26: 対象 箇所
C28: 部位 区分 | N28: 部位 区分
B30: 変状区分 | M30: 変状区分
B31: 変状種類 | M31: 変状種類
B32: 健全性 | C32: 応急措置前 | M32: 健全性 | N32: 応急措置前
C33: 応急措置後 | N33: 応急措置後
B34: 変状の発生範囲の規模 | M34: 変状の発生範囲の規模
B35: 前回定期点検時の状態 | M35: 前回定期点検時の状態
B36: 調査方針 | M36: 調査方針
B37: 対策履歴 | H37: 実施状況（実施日） | M37: 対策履歴 | S37: 実施状況（実施日）
B38: メモ | M38: メモ
C39: ※ 健全性（応急措置後）の判定区分Ⅱ～Ⅳについて添付すること。また、点検前に 実施された措置によりⅠと判定された箇所も添付すること。 | N39: ※ 変状の発生範囲の規模とは、対策を行う際に参考となる変状の長さや面積をいう。
N40: ※ 応急措置を実施しないで判定した変状の健全性は、健全性の応急措置後の欄に記入すること。
C41: ※ たたき落としを実施した場合は、実施後の写真を添付すること。 | N41: ※ 変状の発生範囲の規模は、面積・寸法を記載すること。
C42: ※ 附属物の取付状態に関する異常写真は別途、様式D-1-2でとりまとめること。 | N42: (ひび割れ幅のみmmとし、その他をm表記とする)
C43: ※ 変状数に準じてシートを追加すること。（１シートに１ページとすること。） | N43: ※ 構造用鋼材以外の異物に伴ううき・はく離については、メモ欄に異物の概要を記入すること。

Sheet 様式D-1-1(トンネル様式2P001) (19)
B2: ■定期点検記録様式 変状写真台帳 | Y2: Ⅰ
B3: フリガナ | D3: オオミズトウゲトンネル | H3: 路線名 | J3: 主要県道秋芳三隅線 | M3: 定期点検業者 | P3: 応用地質株式会社 | S3: 定期点検年月日 | U3: 44860 | Y3: Ⅱ
B4: 名 称 | D4: 大水峠トンネル | H4: 管理者名 | J4: 長門土木建築事務所 | M4: 定期点検者名 | P4: 太田 裕之 | Y4: Ⅲ
B5: 写真 番号 | C5: 覆工 スパン 番号 | D5: 24 | M5: 写真 番号 | N5: 覆工 スパン 番号 | Y5: Ⅳ
Y6: －
C7: 変状 番号 | D7: 1 | N7: 変状 番号
B9: 変状 部位 | C9: 対象 箇所 | D9: 覆工・坑門 | M9: 変状 部位 | N9: 対象 箇所
C11: 部位 区分 | D11: アーチ（左側） | N11: 部位 区分
B13: 変状区分 | D13: 材質劣化 | M13: 変状区分
B14: 変状種類 | D14: うき・はく離 | M14: 変状種類
B15: 健全性 | C15: 応急措置前 | E15: － | M15: 健全性 | N15: 応急措置前
C16: 応急措置後 | E16: Ⅱ | N16: 応急措置後
B17: 変状の発生範囲の規模 | E17: 0.2m×0.5m | M17: 変状の発生範囲の規模
B18: 前回定期点検時の状態 | E18: 同程度 | M18: 前回定期点検時の状態
B19: 調査方針 | E19: - | M19: 調査方針
B20: 対策履歴 | E20: なし | H20: 実施状況（実施日） | J20: - | M20: 対策履歴 | S20: 実施状況（実施日）
B21: メモ | D21: 部分的な豆板(Ⅱb) | M21: メモ
B22: 写真 番号 | C22: 覆工 スパン 番号 | M22: 写真 番号 | N22: 覆工 スパン 番号
C24: 変状 番号 | N24: 変状 番号
B26: 変状 部位 | C26: 対象 箇所 | M26: 変状 部位 | N26: 対象 箇所
C28: 部位 区分 | N28: 部位 区分
B30: 変状区分 | M30: 変状区分
B31: 変状種類 | M31: 変状種類
B32: 健全性 | C32: 応急措置前 | M32: 健全性 | N32: 応急措置前
C33: 応急措置後 | N33: 応急措置後
B34: 変状の発生範囲の規模 | M34: 変状の発生範囲の規模
B35: 前回定期点検時の状態 | M35: 前回定期点検時の状態
B36: 調査方針 | M36: 調査方針
B37: 対策履歴 | H37: 実施状況（実施日） | M37: 対策履歴 | S37: 実施状況（実施日）
B38: メモ | M38: メモ
C39: ※ 健全性（応急措置後）の判定区分Ⅱ～Ⅳについて添付すること。また、点検前に 実施された措置によりⅠと判定された箇所も添付すること。 | N39: ※ 変状の発生範囲の規模とは、対策を行う際に参考となる変状の長さや面積をいう。
N40: ※ 応急措置を実施しないで判定した変状の健全性は、健全性の応急措置後の欄に記入すること。
C41: ※ たたき落としを実施した場合は、実施後の写真を添付すること。 | N41: ※ 変状の発生範囲の規模は、面積・寸法を記載すること。
C42: ※ 附属物の取付状態に関する異常写真は別途、様式D-1-2でとりまとめること。 | N42: (ひび割れ幅のみmmとし、その他をm表記とする)
C43: ※ 変状数に準じてシートを追加すること。（１シートに１ページとすること。） | N43: ※ 構造用鋼材以外の異物に伴ううき・はく離については、メモ欄に異物の概要を記入すること。

Sheet 様式D-1-1(トンネル様式2P001) (20)
B2: ■定期点検記録様式 変状写真台帳 | Y2: Ⅰ
B3: フリガナ | D3: オオミズトウゲトンネル | H3: 路線名 | J3: 主要県道秋芳三隅線 | M3: 定期点検業者 | P3: 応用地質株式会社 | S3: 定期点検年月日 | U3: 44860 | Y3: Ⅱ
B4: 名 称 | D4: 大水峠トンネル | H4: 管理者名 | J4: 長門土木建築事務所 | M4: 定期点検者名 | P4: 太田 裕之 | Y4: Ⅲ
B5: 写真 番号 | C5: 覆工 スパン 番号 | D5: 26 | M5: 写真 番号 | N5: 覆工 スパン 番号 | O5: 26 | Y5: Ⅳ
Y6: －
C7: 変状 番号 | D7: 1 | N7: 変状 番号 | O7: 2
B9: 変状 部位 | C9: 対象 箇所 | D9: 覆工・坑門 | M9: 変状 部位 | N9: 対象 箇所 | O9: 覆工・坑門
C11: 部位 区分 | D11: アーチ（左側） | N11: 部位 区分 | O11: アーチ（右側）
B13: 変状区分 | D13: 材質劣化 | M13: 変状区分 | O13: 材質劣化
B14: 変状種類 | D14: 鋼材腐食 | M14: 変状種類 | O14: 鋼材腐食
B15: 健全性 | C15: 応急措置前 | E15: － | M15: 健全性 | N15: 応急措置前 | P15: －
C16: 応急措置後 | E16: Ⅱ | N16: 応急措置後 | P16: Ⅱ
B17: 変状の発生範囲の規模 | E17: 0.05m×0.05m | M17: 変状の発生範囲の規模 | P17: 0.05m×0.05m
B18: 前回定期点検時の状態 | E18: 同程度 | M18: 前回定期点検時の状態 | P18: 同程度
B19: 調査方針 | E19: - | M19: 調査方針 | P19: -
B20: 対策履歴 | E20: なし | H20: 実施状況（実施日） | J20: - | M20: 対策履歴 | P20: なし | S20: 実施状況（実施日） | U20: -
B21: メモ | D21: 鋼材露出(深さ50mm)(Ⅱb)、部分的に露出した鋼材(表面的な腐食)に防錆剤塗布 | M21: メモ | O21: 鋼材露出(深さ50mm)(Ⅱb)、部分的に露出した鋼材(表面的な腐食)に防錆剤塗布
B22: 写真 番号 | C22: 覆工 スパン 番号 | M22: 写真 番号 | N22: 覆工 スパン 番号
C24: 変状 番号 | N24: 変状 番号
B26: 変状 部位 | C26: 対象 箇所 | M26: 変状 部位 | N26: 対象 箇所
C28: 部位 区分 | N28: 部位 区分
B30: 変状区分 | M30: 変状区分
B31: 変状種類 | M31: 変状種類
B32: 健全性 | C32: 応急措置前 | M32: 健全性 | N32: 応急措置前
C33: 応急措置後 | N33: 応急措置後
B34: 変状の発生範囲の規模 | M34: 変状の発生範囲の規模
B35: 前回定期点検時の状態 | M35: 前回定期点検時の状態
B36: 調査方針 | M36: 調査方針
B37: 対策履歴 | H37: 実施状況（実施日） | M37: 対策履歴 | S37: 実施状況（実施日）
B38: メモ | M38: メモ
C39: ※ 健全性（応急措置後）の判定区分Ⅱ～Ⅳについて添付すること。また、点検前に 実施された措置によりⅠと判定された箇所も添付すること。 | N39: ※ 変状の発生範囲の規模とは、対策を行う際に参考となる変状の長さや面積をいう。
N40: ※ 応急措置を実施しないで判定した変状の健全性は、健全性の応急措置後の欄に記入すること。
C41: ※ たたき落としを実施した場合は、実施後の写真を添付すること。 | N41: ※ 変状の発生範囲の規模は、面積・寸法を記載すること。
C42: ※ 附属物の取付状態に関する異常写真は別途、様式D-1-2でとりまとめること。 | N42: (ひび割れ幅のみmmとし、その他をm表記とする)
C43: ※ 変状数に準じてシートを追加すること。（１シートに１ページとすること。） | N43: ※ 構造用鋼材以外の異物に伴ううき・はく離については、メモ欄に異物の概要を記入すること。

Sheet 様式D-1-1(トンネル様式2P001) (21)
B2: ■定期点検記録様式 変状写真台帳 | Y2: Ⅰ
B3: フリガナ | D3: オオミズトウゲトンネル | H3: 路線名 | J3: 主要県道秋芳三隅線 | M3: 定期点検業者 | P3: 応用地質株式会社 | S3: 定期点検年月日 | U3: 44860 | Y3: Ⅱ
B4: 名 称 | D4: 大水峠トンネル | H4: 管理者名 | J4: 長門土木建築事務所 | M4: 定期点検者名 | P4: 太田 裕之 | Y4: Ⅲ
B5: 写真 番号 | C5: 覆工 スパン 番号 | D5: 27 | M5: 写真 番号 | N5: 覆工 スパン 番号 | Y5: Ⅳ
Y6: －
C7: 変状 番号 | D7: 1 | N7: 変状 番号
B9: 変状 部位 | C9: 対象 箇所 | D9: 覆工・坑門 | M9: 変状 部位 | N9: 対象 箇所
C11: 部位 区分 | D11: アーチ（天端） | N11: 部位 区分
B13: 変状区分 | D13: 材質劣化 | M13: 変状区分
B14: 変状種類 | D14: ひび割れ | M14: 変状種類
B15: 健全性 | C15: 応急措置前 | E15: － | M15: 健全性 | N15: 応急措置前
C16: 応急措置後 | E16: Ⅱ | N16: 応急措置後
B17: 変状の発生範囲の規模 | E17: 2.5m×0.9m | M17: 変状の発生範囲の規模
B18: 前回定期点検時の状態 | E18: ひび割れ2.5m×0.9m(Ⅰ) | M18: 前回定期点検時の状態
B19: 調査方針 | E19: - | M19: 調査方針
B20: 対策履歴 | E20: なし | H20: 実施状況（実施日） | J20: - | M20: 対策履歴 | S20: 実施状況（実施日）
B21: メモ | D21: 目地沿いに幅0.3mmの半月状ひび割れ(Ⅱb)、打音異常なし、再判定 | M21: メモ
B22: 写真 番号 | C22: 覆工 スパン 番号 | M22: 写真 番号 | N22: 覆工 スパン 番号
C24: 変状 番号 | N24: 変状 番号
B26: 変状 部位 | C26: 対象 箇所 | M26: 変状 部位 | N26: 対象 箇所
C28: 部位 区分 | N28: 部位 区分
B30: 変状区分 | M30: 変状区分
B31: 変状種類 | M31: 変状種類
B32: 健全性 | C32: 応急措置前 | M32: 健全性 | N32: 応急措置前
C33: 応急措置後 | N33: 応急措置後
B34: 変状の発生範囲の規模 | M34: 変状の発生範囲の規模
B35: 前回定期点検時の状態 | M35: 前回定期点検時の状態
B36: 調査方針 | M36: 調査方針
B37: 対策履歴 | H37: 実施状況（実施日） | M37: 対策履歴 | S37: 実施状況（実施日）
B38: メモ | M38: メモ
C39: ※ 健全性（応急措置後）の判定区分Ⅱ～Ⅳについて添付すること。また、点検前に 実施された措置によりⅠと判定された箇所も添付すること。 | N39: ※ 変状の発生範囲の規模とは、対策を行う際に参考となる変状の長さや面積をいう。
N40: ※ 応急措置を実施しないで判定した変状の健全性は、健全性の応急措置後の欄に記入すること。
C41: ※ たたき落としを実施した場合は、実施後の写真を添付すること。 | N41: ※ 変状の発生範囲の規模は、面積・寸法を記載すること。
C42: ※ 附属物の取付状態に関する異常写真は別途、様式D-1-2でとりまとめること。 | N42: (ひび割れ幅のみmmとし、その他をm表記とする)
C43: ※ 変状数に準じてシートを追加すること。（１シートに１ページとすること。） | N43: ※ 構造用鋼材以外の異物に伴ううき・はく離については、メモ欄に異物の概要を記入すること。

Sheet 様式D-1-1(トンネル様式2P001) (22)
B2: ■定期点検記録様式 変状写真台帳 | Y2: Ⅰ
B3: フリガナ | D3: オオミズトウゲトンネル | H3: 路線名 | J3: 主要県道秋芳三隅線 | M3: 定期点検業者 | P3: 応用地質株式会社 | S3: 定期点検年月日 | U3: 44860 | Y3: Ⅱ
B4: 名 称 | D4: 大水峠トンネル | H4: 管理者名 | J4: 長門土木建築事務所 | M4: 定期点検者名 | P4: 太田 裕之 | Y4: Ⅲ
B5: 写真 番号 | C5: 覆工 スパン 番号 | D5: 28 | M5: 写真 番号 | N5: 覆工 スパン 番号 | O5: 28 | Y5: Ⅳ
Y6: －
C7: 変状 番号 | D7: 1 | N7: 変状 番号 | O7: 2
B9: 変状 部位 | C9: 対象 箇所 | D9: 覆工・坑門 | M9: 変状 部位 | N9: 対象 箇所 | O9: 覆工・坑門
C11: 部位 区分 | D11: アーチ（左側） | N11: 部位 区分 | O11: アーチ（左側）
B13: 変状区分 | D13: 材質劣化 | M13: 変状区分 | O13: 材質劣化
B14: 変状種類 | D14: 鋼材腐食 | M14: 変状種類 | O14: 鋼材腐食
B15: 健全性 | C15: 応急措置前 | E15: － | M15: 健全性 | N15: 応急措置前 | P15: －
C16: 応急措置後 | E16: Ⅱ | N16: 応急措置後 | P16: Ⅱ
B17: 変状の発生範囲の規模 | E17: 0.05m×0.05m | M17: 変状の発生範囲の規模 | P17: 0.15m×0.15m
B18: 前回定期点検時の状態 | E18: 同程度 | M18: 前回定期点検時の状態 | P18: 同程度
B19: 調査方針 | E19: - | M19: 調査方針 | P19: -
B20: 対策履歴 | E20: なし | H20: 実施状況（実施日） | J20: - | M20: 対策履歴 | P20: なし | S20: 実施状況（実施日） | U20: -
B21: メモ | D21: 鋼材露出(深さ50mm)(Ⅱb)、部分的に露出した鋼材(表面的な腐食)に防錆剤塗布 | M21: メモ | O21: 鋼材露出(深さ50mm)(Ⅱb)、部分的に露出した鋼材(表面的な腐食)に防錆剤塗布
B22: 写真 番号 | C22: 覆工 スパン 番号 | D22: 28 | M22: 写真 番号 | N22: 覆工 スパン 番号
C24: 変状 番号 | D24: 3 | N24: 変状 番号
B26: 変状 部位 | C26: 対象 箇所 | D26: 覆工・坑門 | M26: 変状 部位 | N26: 対象 箇所
C28: 部位 区分 | D28: 横断目地（右側） | N28: 部位 区分
B30: 変状区分 | D30: 材質劣化 | M30: 変状区分
B31: 変状種類 | D31: うき・はく離 | M31: 変状種類
B32: 健全性 | C32: 応急措置前 | E32: － | M32: 健全性 | N32: 応急措置前
C33: 応急措置後 | E33: Ⅱ | N33: 応急措置後
B34: 変状の発生範囲の規模 | E34: 0.3m×0.1m | M34: 変状の発生範囲の規模
B35: 前回定期点検時の状態 | E35: 同程度 | M35: 前回定期点検時の状態
B36: 調査方針 | E36: - | M36: 調査方針
B37: 対策履歴 | E37: なし | H37: 実施状況（実施日） | J37: - | M37: 対策履歴 | S37: 実施状況（実施日）
B38: メモ | D38: 目地部のブロック化したうき(Ⅱa)、浸透固化材塗布 | M38: メモ
C39: ※ 健全性（応急措置後）の判定区分Ⅱ～Ⅳについて添付すること。また、点検前に 実施された措置によりⅠと判定された箇所も添付すること。 | N39: ※ 変状の発生範囲の規模とは、対策を行う際に参考となる変状の長さや面積をいう。
N40: ※ 応急措置を実施しないで判定した変状の健全性は、健全性の応急措置後の欄に記入すること。
C41: ※ たたき落としを実施した場合は、実施後の写真を添付すること。 | N41: ※ 変状の発生範囲の規模は、面積・寸法を記載すること。
C42: ※ 附属物の取付状態に関する異常写真は別途、様式D-1-2でとりまとめること。 | N42: (ひび割れ幅のみmmとし、その他をm表記とする)
C43: ※ 変状数に準じてシートを追加すること。（１シートに１ページとすること。） | N43: ※ 構造用鋼材以外の異物に伴ううき・はく離については、メモ欄に異物の概要を記入すること。

Sheet 様式D-1-1(トンネル様式2P001) (23)
B2: ■定期点検記録様式 変状写真台帳 | Y2: Ⅰ
B3: フリガナ | D3: オオミズトウゲトンネル | H3: 路線名 | J3: 主要県道秋芳三隅線 | M3: 定期点検業者 | P3: 応用地質株式会社 | S3: 定期点検年月日 | U3: 44860 | Y3: Ⅱ
B4: 名 称 | D4: 大水峠トンネル | H4: 管理者名 | J4: 長門土木建築事務所 | M4: 定期点検者名 | P4: 太田 裕之 | Y4: Ⅲ
B5: 写真 番号 | C5: 覆工 スパン 番号 | D5: 29 | M5: 写真 番号 | N5: 覆工 スパン 番号 | Y5: Ⅳ
Y6: －
C7: 変状 番号 | D7: 1 | N7: 変状 番号
B9: 変状 部位 | C9: 対象 箇所 | D9: 覆工・坑門 | M9: 変状 部位 | N9: 対象 箇所
C11: 部位 区分 | D11: アーチ（右側） | N11: 部位 区分
B13: 変状区分 | D13: 材質劣化 | M13: 変状区分
B14: 変状種類 | D14: ひび割れ | M14: 変状種類
B15: 健全性 | C15: 応急措置前 | E15: － | M15: 健全性 | N15: 応急措置前
C16: 応急措置後 | E16: Ⅱ | N16: 応急措置後
B17: 変状の発生範囲の規模 | E17: 3.6m×0.6m | M17: 変状の発生範囲の規模
B18: 前回定期点検時の状態 | E18: 同程度 | M18: 前回定期点検時の状態
B19: 調査方針 | E19: - | M19: 調査方針
B20: 対策履歴 | E20: なし | H20: 実施状況（実施日） | J20: - | M20: 対策履歴 | S20: 実施状況（実施日）
B21: メモ | D21: 目地沿いに幅0.3～0.5mmの半月状ひび割れ(Ⅱb)、打音異常なし | M21: メモ
B22: 写真 番号 | C22: 覆工 スパン 番号 | M22: 写真 番号 | N22: 覆工 スパン 番号
C24: 変状 番号 | N24: 変状 番号
B26: 変状 部位 | C26: 対象 箇所 | M26: 変状 部位 | N26: 対象 箇所
C28: 部位 区分 | N28: 部位 区分
B30: 変状区分 | M30: 変状区分
B31: 変状種類 | M31: 変状種類
B32: 健全性 | C32: 応急措置前 | M32: 健全性 | N32: 応急措置前
C33: 応急措置後 | N33: 応急措置後
B34: 変状の発生範囲の規模 | M34: 変状の発生範囲の規模
B35: 前回定期点検時の状態 | M35: 前回定期点検時の状態
B36: 調査方針 | M36: 調査方針
B37: 対策履歴 | H37: 実施状況（実施日） | M37: 対策履歴 | S37: 実施状況（実施日）
B38: メモ | M38: メモ
C39: ※ 健全性（応急措置後）の判定区分Ⅱ～Ⅳについて添付すること。また、点検前に 実施された措置によりⅠと判定された箇所も添付すること。 | N39: ※ 変状の発生範囲の規模とは、対策を行う際に参考となる変状の長さや面積をいう。
N40: ※ 応急措置を実施しないで判定した変状の健全性は、健全性の応急措置後の欄に記入すること。
C41: ※ たたき落としを実施した場合は、実施後の写真を添付すること。 | N41: ※ 変状の発生範囲の規模は、面積・寸法を記載すること。
C42: ※ 附属物の取付状態に関する異常写真は別途、様式D-1-2でとりまとめること。 | N42: (ひび割れ幅のみmmとし、その他をm表記とする)
C43: ※ 変状数に準じてシートを追加すること。（１シートに１ページとすること。） | N43: ※ 構造用鋼材以外の異物に伴ううき・はく離については、メモ欄に異物の概要を記入すること。

Sheet 様式D-1-1(トンネル様式2P001) (24)
B2: ■定期点検記録様式 変状写真台帳 | Y2: Ⅰ
B3: フリガナ | D3: オオミズトウゲトンネル | H3: 路線名 | J3: 主要県道秋芳三隅線 | M3: 定期点検業者 | P3: 応用地質株式会社 | S3: 定期点検年月日 | U3: 44860 | Y3: Ⅱ
B4: 名 称 | D4: 大水峠トンネル | H4: 管理者名 | J4: 長門土木建築事務所 | M4: 定期点検者名 | P4: 太田 裕之 | Y4: Ⅲ
B5: 写真 番号 | C5: 覆工 スパン 番号 | D5: 34 | M5: 写真 番号 | N5: 覆工 スパン 番号 | Y5: Ⅳ
Y6: －
C7: 変状 番号 | D7: 1 | N7: 変状 番号
B9: 変状 部位 | C9: 対象 箇所 | D9: 覆工・坑門 | M9: 変状 部位 | N9: 対象 箇所
C11: 部位 区分 | D11: アーチ（右側） | N11: 部位 区分
B13: 変状区分 | D13: 材質劣化 | M13: 変状区分
B14: 変状種類 | D14: ひび割れ | M14: 変状種類
B15: 健全性 | C15: 応急措置前 | E15: － | M15: 健全性 | N15: 応急措置前
C16: 応急措置後 | E16: Ⅱ | N16: 応急措置後
B17: 変状の発生範囲の規模 | E17: 3.1m×0.9m | M17: 変状の発生範囲の規模
B18: 前回定期点検時の状態 | E18: 同程度 | M18: 前回定期点検時の状態
B19: 調査方針 | E19: - | M19: 調査方針
B20: 対策履歴 | E20: なし | H20: 実施状況（実施日） | J20: - | M20: 対策履歴 | S20: 実施状況（実施日）
B21: メモ | D21: 目地沿いに幅0.3mmの半月状ひび割れ(Ⅱb)、打音異常なし | M21: メモ
B22: 写真 番号 | C22: 覆工 スパン 番号 | M22: 写真 番号 | N22: 覆工 スパン 番号
C24: 変状 番号 | N24: 変状 番号
B26: 変状 部位 | C26: 対象 箇所 | M26: 変状 部位 | N26: 対象 箇所
C28: 部位 区分 | N28: 部位 区分
B30: 変状区分 | M30: 変状区分
B31: 変状種類 | M31: 変状種類
B32: 健全性 | C32: 応急措置前 | M32: 健全性 | N32: 応急措置前
C33: 応急措置後 | N33: 応急措置後
B34: 変状の発生範囲の規模 | M34: 変状の発生範囲の規模
B35: 前回定期点検時の状態 | M35: 前回定期点検時の状態
B36: 調査方針 | M36: 調査方針
B37: 対策履歴 | H37: 実施状況（実施日） | M37: 対策履歴 | S37: 実施状況（実施日）
B38: メモ | M38: メモ
C39: ※ 健全性（応急措置後）の判定区分Ⅱ～Ⅳについて添付すること。また、点検前に 実施された措置によりⅠと判定された箇所も添付すること。 | N39: ※ 変状の発生範囲の規模とは、対策を行う際に参考となる変状の長さや面積をいう。
N40: ※ 応急措置を実施しないで判定した変状の健全性は、健全性の応急措置後の欄に記入すること。
C41: ※ たたき落としを実施した場合は、実施後の写真を添付すること。 | N41: ※ 変状の発生範囲の規模は、面積・寸法を記載すること。
C42: ※ 附属物の取付状態に関する異常写真は別途、様式D-1-2でとりまとめること。 | N42: (ひび割れ幅のみmmとし、その他をm表記とする)
C43: ※ 変状数に準じてシートを追加すること。（１シートに１ページとすること。） | N43: ※ 構造用鋼材以外の異物に伴ううき・はく離については、メモ欄に異物の概要を記入すること。

Sheet 様式D-1-1(トンネル様式2P001) (25)
B2: ■定期点検記録様式 変状写真台帳 | Y2: Ⅰ
B3: フリガナ | D3: オオミズトウゲトンネル | H3: 路線名 | J3: 主要県道秋芳三隅線 | M3: 定期点検業者 | P3: 応用地質株式会社 | S3: 定期点検年月日 | U3: 44860 | Y3: Ⅱ
B4: 名 称 | D4: 大水峠トンネル | H4: 管理者名 | J4: 長門土木建築事務所 | M4: 定期点検者名 | P4: 太田 裕之 | Y4: Ⅲ
B5: 写真 番号 | C5: 覆工 スパン 番号 | D5: 36 | M5: 写真 番号 | N5: 覆工 スパン 番号 | Y5: Ⅳ
Y6: －
C7: 変状 番号 | D7: 1 | N7: 変状 番号
B9: 変状 部位 | C9: 対象 箇所 | D9: 覆工・坑門 | M9: 変状 部位 | N9: 対象 箇所
C11: 部位 区分 | D11: アーチ（右側） | N11: 部位 区分
B13: 変状区分 | D13: 材質劣化 | M13: 変状区分
B14: 変状種類 | D14: ひび割れ | M14: 変状種類
B15: 健全性 | C15: 応急措置前 | E15: － | M15: 健全性 | N15: 応急措置前
C16: 応急措置後 | E16: Ⅱ | N16: 応急措置後
B17: 変状の発生範囲の規模 | E17: 0.9m×0.2m | M17: 変状の発生範囲の規模
B18: 前回定期点検時の状態 | E18: 同程度 | M18: 前回定期点検時の状態
B19: 調査方針 | E19: - | M19: 調査方針
B20: 対策履歴 | E20: なし | H20: 実施状況（実施日） | J20: - | M20: 対策履歴 | S20: 実施状況（実施日）
B21: メモ | D21: 目地沿いに幅0.45mmの半月状ひび割れ(Ⅱb)、打音異常なし | M21: メモ
B22: 写真 番号 | C22: 覆工 スパン 番号 | M22: 写真 番号 | N22: 覆工 スパン 番号
C24: 変状 番号 | N24: 変状 番号
B26: 変状 部位 | C26: 対象 箇所 | M26: 変状 部位 | N26: 対象 箇所
C28: 部位 区分 | N28: 部位 区分
B30: 変状区分 | M30: 変状区分
B31: 変状種類 | M31: 変状種類
B32: 健全性 | C32: 応急措置前 | M32: 健全性 | N32: 応急措置前
C33: 応急措置後 | N33: 応急措置後
B34: 変状の発生範囲の規模 | M34: 変状の発生範囲の規模
B35: 前回定期点検時の状態 | M35: 前回定期点検時の状態
B36: 調査方針 | M36: 調査方針
B37: 対策履歴 | H37: 実施状況（実施日） | M37: 対策履歴 | S37: 実施状況（実施日）
B38: メモ | M38: メモ
C39: ※ 健全性（応急措置後）の判定区分Ⅱ～Ⅳについて添付すること。また、点検前に 実施された措置によりⅠと判定された箇所も添付すること。 | N39: ※ 変状の発生範囲の規模とは、対策を行う際に参考となる変状の長さや面積をいう。
N40: ※ 応急措置を実施しないで判定した変状の健全性は、健全性の応急措置後の欄に記入すること。
C41: ※ たたき落としを実施した場合は、実施後の写真を添付すること。 | N41: ※ 変状の発生範囲の規模は、面積・寸法を記載すること。
C42: ※ 附属物の取付状態に関する異常写真は別途、様式D-1-2でとりまとめること。 | N42: (ひび割れ幅のみmmとし、その他をm表記とする)
C43: ※ 変状数に準じてシートを追加すること。（１シートに１ページとすること。） | N43: ※ 構造用鋼材以外の異物に伴ううき・はく離については、メモ欄に異物の概要を記入すること。

Sheet 様式D-1-1(トンネル様式2P001) (26)
B2: ■定期点検記録様式 変状写真台帳 | Y2: Ⅰ
B3: フリガナ | D3: オオミズトウゲトンネル | H3: 路線名 | J3: 主要県道秋芳三隅線 | M3: 定期点検業者 | P3: 応用地質株式会社 | S3: 定期点検年月日 | U3: 44860 | Y3: Ⅱ
B4: 名 称 | D4: 大水峠トンネル | H4: 管理者名 | J4: 長門土木建築事務所 | M4: 定期点検者名 | P4: 太田 裕之 | Y4: Ⅲ
B5: 写真 番号 | C5: 覆工 スパン 番号 | D5: 37 | M5: 写真 番号 | N5: 覆工 スパン 番号 | Y5: Ⅳ
Y6: －
C7: 変状 番号 | D7: 1 | N7: 変状 番号
B9: 変状 部位 | C9: 対象 箇所 | D9: 覆工・坑門 | M9: 変状 部位 | N9: 対象 箇所
C11: 部位 区分 | D11: アーチ（左側） | N11: 部位 区分
B13: 変状区分 | D13: 材質劣化 | M13: 変状区分
B14: 変状種類 | D14: 鋼材腐食 | M14: 変状種類
B15: 健全性 | C15: 応急措置前 | E15: － | M15: 健全性 | N15: 応急措置前
C16: 応急措置後 | E16: Ⅱ | N16: 応急措置後
B17: 変状の発生範囲の規模 | E17: 0.1m×0.1m | M17: 変状の発生範囲の規模
B18: 前回定期点検時の状態 | E18: 同程度 | M18: 前回定期点検時の状態
B19: 調査方針 | E19: - | M19: 調査方針
B20: 対策履歴 | E20: なし | H20: 実施状況（実施日） | J20: - | M20: 対策履歴 | S20: 実施状況（実施日）
B21: メモ | D21: 鋼材露出(Ⅱb)、防錆剤塗布 | M21: メモ
B22: 写真 番号 | C22: 覆工 スパン 番号 | M22: 写真 番号 | N22: 覆工 スパン 番号
C24: 変状 番号 | N24: 変状 番号
B26: 変状 部位 | C26: 対象 箇所 | M26: 変状 部位 | N26: 対象 箇所
C28: 部位 区分 | N28: 部位 区分
B30: 変状区分 | M30: 変状区分
B31: 変状種類 | M31: 変状種類
B32: 健全性 | C32: 応急措置前 | M32: 健全性 | N32: 応急措置前
C33: 応急措置後 | N33: 応急措置後
B34: 変状の発生範囲の規模 | M34: 変状の発生範囲の規模
B35: 前回定期点検時の状態 | M35: 前回定期点検時の状態
B36: 調査方針 | M36: 調査方針
B37: 対策履歴 | H37: 実施状況（実施日） | M37: 対策履歴 | S37: 実施状況（実施日）
B38: メモ | M38: メモ
C39: ※ 健全性（応急措置後）の判定区分Ⅱ～Ⅳについて添付すること。また、点検前に 実施された措置によりⅠと判定された箇所も添付すること。 | N39: ※ 変状の発生範囲の規模とは、対策を行う際に参考となる変状の長さや面積をいう。
N40: ※ 応急措置を実施しないで判定した変状の健全性は、健全性の応急措置後の欄に記入すること。
C41: ※ たたき落としを実施した場合は、実施後の写真を添付すること。 | N41: ※ 変状の発生範囲の規模は、面積・寸法を記載すること。
C42: ※ 附属物の取付状態に関する異常写真は別途、様式D-1-2でとりまとめること。 | N42: (ひび割れ幅のみmmとし、その他をm表記とする)
C43: ※ 変状数に準じてシートを追加すること。（１シートに１ページとすること。） | N43: ※ 構造用鋼材以外の異物に伴ううき・はく離については、メモ欄に異物の概要を記入すること。

Sheet 様式D-1-1(トンネル様式2P001) (27)
B2: ■定期点検記録様式 変状写真台帳 | Y2: Ⅰ
B3: フリガナ | D3: オオミズトウゲトンネル | H3: 路線名 | J3: 主要県道秋芳三隅線 | M3: 定期点検業者 | P3: 応用地質株式会社 | S3: 定期点検年月日 | U3: 44860 | Y3: Ⅱ
B4: 名 称 | D4: 大水峠トンネル | H4: 管理者名 | J4: 長門土木建築事務所 | M4: 定期点検者名 | P4: 太田 裕之 | Y4: Ⅲ
B5: 写真 番号 | C5: 覆工 スパン 番号 | D5: 38 | M5: 写真 番号 | N5: 覆工 スパン 番号 | O5: 38 | Y5: Ⅳ
Y6: －
C7: 変状 番号 | D7: 1 | N7: 変状 番号 | O7: 2
B9: 変状 部位 | C9: 対象 箇所 | D9: 覆工・坑門 | M9: 変状 部位 | N9: 対象 箇所 | O9: 覆工・坑門
C11: 部位 区分 | D11: アーチ（右側） | N11: 部位 区分 | O11: 横断目地（天端）
B13: 変状区分 | D13: 材質劣化 | M13: 変状区分 | O13: 材質劣化
B14: 変状種類 | D14: 鋼材腐食 | M14: 変状種類 | O14: うき・はく離
B15: 健全性 | C15: 応急措置前 | E15: － | M15: 健全性 | N15: 応急措置前 | P15: －
C16: 応急措置後 | E16: Ⅱ | N16: 応急措置後 | P16: Ⅱ
B17: 変状の発生範囲の規模 | E17: 0.1m×0.2m | M17: 変状の発生範囲の規模 | P17: 0.5m×0.1m
B18: 前回定期点検時の状態 | E18: 同程度 | M18: 前回定期点検時の状態 | P18: 豆板1.0m×1.3m(Ⅱb)
B19: 調査方針 | E19: - | M19: 調査方針 | P19: -
B20: 対策履歴 | E20: なし | H20: 実施状況（実施日） | J20: - | M20: 対策履歴 | P20: なし | S20: 実施状況（実施日） | U20: -
B21: メモ | D21: 鋼材露出(Ⅱb)、防錆剤塗布 | M21: メモ | O21: 目地部の豆板(Ⅱb)、浸透固化材塗布
B22: 写真 番号 | C22: 覆工 スパン 番号 | D22: 38 | M22: 写真 番号 | N22: 覆工 スパン 番号
C24: 変状 番号 | D24: 3 | N24: 変状 番号
B26: 変状 部位 | C26: 対象 箇所 | D26: 覆工・坑門 | M26: 変状 部位 | N26: 対象 箇所
C28: 部位 区分 | D28: アーチ（右側） | N28: 部位 区分
B30: 変状区分 | D30: 材質劣化 | M30: 変状区分
B31: 変状種類 | D31: 鋼材腐食 | M31: 変状種類
B32: 健全性 | C32: 応急措置前 | E32: － | M32: 健全性 | N32: 応急措置前
C33: 応急措置後 | E33: Ⅱ | N33: 応急措置後
B34: 変状の発生範囲の規模 | E34: 0.05m×0.05m | M34: 変状の発生範囲の規模
B35: 前回定期点検時の状態 | E35: 同程度 | M35: 前回定期点検時の状態
B36: 調査方針 | E36: - | M36: 調査方針
B37: 対策履歴 | E37: なし | H37: 実施状況（実施日） | J37: - | M37: 対策履歴 | S37: 実施状況（実施日）
B38: メモ | D38: 鋼材露出(Ⅱb)、防錆剤塗布 | M38: メモ
C39: ※ 健全性（応急措置後）の判定区分Ⅱ～Ⅳについて添付すること。また、点検前に 実施された措置によりⅠと判定された箇所も添付すること。 | N39: ※ 変状の発生範囲の規模とは、対策を行う際に参考となる変状の長さや面積をいう。
N40: ※ 応急措置を実施しないで判定した変状の健全性は、健全性の応急措置後の欄に記入すること。
C41: ※ たたき落としを実施した場合は、実施後の写真を添付すること。 | N41: ※ 変状の発生範囲の規模は、面積・寸法を記載すること。
C42: ※ 附属物の取付状態に関する異常写真は別途、様式D-1-2でとりまとめること。 | N42: (ひび割れ幅のみmmとし、その他をm表記とする)
C43: ※ 変状数に準じてシートを追加すること。（１シートに１ページとすること。） | N43: ※ 構造用鋼材以外の異物に伴ううき・はく離については、メモ欄に異物の概要を記入すること。

Sheet 様式D-1-1(トンネル様式2P001) (28)
B2: ■定期点検記録様式 変状写真台帳 | Y2: Ⅰ
B3: フリガナ | D3: オオミズトウゲトンネル | H3: 路線名 | J3: 主要県道秋芳三隅線 | M3: 定期点検業者 | P3: 応用地質株式会社 | S3: 定期点検年月日 | U3: 44860 | Y3: Ⅱ
B4: 名 称 | D4: 大水峠トンネル | H4: 管理者名 | J4: 長門土木建築事務所 | M4: 定期点検者名 | P4: 太田 裕之 | Y4: Ⅲ
B5: 写真 番号 | C5: 覆工 スパン 番号 | D5: 39 | M5: 写真 番号 | N5: 覆工 スパン 番号 | O5: 39 | Y5: Ⅳ
Y6: －
C7: 変状 番号 | D7: 1 | N7: 変状 番号 | O7: 2
B9: 変状 部位 | C9: 対象 箇所 | D9: 覆工・坑門 | M9: 変状 部位 | N9: 対象 箇所 | O9: 覆工・坑門
C11: 部位 区分 | D11: アーチ（左側） | N11: 部位 区分 | O11: アーチ（右側）
B13: 変状区分 | D13: 材質劣化 | M13: 変状区分 | O13: 材質劣化
B14: 変状種類 | D14: 鋼材腐食 | M14: 変状種類 | O14: 鋼材腐食
B15: 健全性 | C15: 応急措置前 | E15: － | M15: 健全性 | N15: 応急措置前 | P15: －
C16: 応急措置後 | E16: Ⅱ | N16: 応急措置後 | P16: Ⅱ
B17: 変状の発生範囲の規模 | E17: 0.05m×0.05m | M17: 変状の発生範囲の規模 | P17: 0.05m×0.05m
B18: 前回定期点検時の状態 | E18: 同程度 | M18: 前回定期点検時の状態 | P18: 同程度
B19: 調査方針 | E19: - | M19: 調査方針 | P19: -
B20: 対策履歴 | E20: なし | H20: 実施状況（実施日） | J20: - | M20: 対策履歴 | P20: なし | S20: 実施状況（実施日） | U20: -
B21: メモ | D21: 鋼材露出(Ⅱb)、防錆剤塗布 | M21: メモ | O21: 鋼材露出(Ⅱb)、防錆剤塗布
B22: 写真 番号 | C22: 覆工 スパン 番号 | D22: 39 | M22: 写真 番号 | N22: 覆工 スパン 番号
C24: 変状 番号 | D24: 3 | N24: 変状 番号
B26: 変状 部位 | C26: 対象 箇所 | D26: 覆工・坑門 | M26: 変状 部位 | N26: 対象 箇所
C28: 部位 区分 | D28: 横断目地（右側） | N28: 部位 区分
B30: 変状区分 | D30: 漏水 | M30: 変状区分
B31: 変状種類 | D31: 漏水 | M31: 変状種類
B32: 健全性 | C32: 応急措置前 | E32: － | M32: 健全性 | N32: 応急措置前
C33: 応急措置後 | E33: Ⅱ | N33: 応急措置後
B34: 変状の発生範囲の規模 | E34: - | M34: 変状の発生範囲の規模
B35: 前回定期点検時の状態 | E35: なし | M35: 前回定期点検時の状態
B36: 調査方針 | E36: - | M36: 調査方針
B37: 対策履歴 | E37: なし | H37: 実施状況（実施日） | J37: - | M37: 対策履歴 | S37: 実施状況（実施日）
B38: メモ | D38: 目地部に遊離石灰を伴う漏水(Ⅱb) | M38: メモ
C39: ※ 健全性（応急措置後）の判定区分Ⅱ～Ⅳについて添付すること。また、点検前に 実施された措置によりⅠと判定された箇所も添付すること。 | N39: ※ 変状の発生範囲の規模とは、対策を行う際に参考となる変状の長さや面積をいう。
N40: ※ 応急措置を実施しないで判定した変状の健全性は、健全性の応急措置後の欄に記入すること。
C41: ※ たたき落としを実施した場合は、実施後の写真を添付すること。 | N41: ※ 変状の発生範囲の規模は、面積・寸法を記載すること。
C42: ※ 附属物の取付状態に関する異常写真は別途、様式D-1-2でとりまとめること。 | N42: (ひび割れ幅のみmmとし、その他をm表記とする)
C43: ※ 変状数に準じてシートを追加すること。（１シートに１ページとすること。） | N43: ※ 構造用鋼材以外の異物に伴ううき・はく離については、メモ欄に異物の概要を記入すること。

Sheet 様式D-1-1(トンネル様式2P001) (29)
B2: ■定期点検記録様式 変状写真台帳 | Y2: Ⅰ
B3: フリガナ | D3: オオミズトウゲトンネル | H3: 路線名 | J3: 主要県道秋芳三隅線 | M3: 定期点検業者 | P3: 応用地質株式会社 | S3: 定期点検年月日 | U3: 44860 | Y3: Ⅱ
B4: 名 称 | D4: 大水峠トンネル | H4: 管理者名 | J4: 長門土木建築事務所 | M4: 定期点検者名 | P4: 太田 裕之 | Y4: Ⅲ
B5: 写真 番号 | C5: 覆工 スパン 番号 | D5: 40 | M5: 写真 番号 | N5: 覆工 スパン 番号 | O5: 40 | Y5: Ⅳ
Y6: －
C7: 変状 番号 | D7: 1 | N7: 変状 番号 | O7: 2
B9: 変状 部位 | C9: 対象 箇所 | D9: 覆工・坑門 | M9: 変状 部位 | N9: 対象 箇所 | O9: 覆工・坑門
C11: 部位 区分 | D11: 側壁（左側） | N11: 部位 区分 | O11: 横断目地（天端）
B13: 変状区分 | D13: 外力 | M13: 変状区分 | O13: 材質劣化
B14: 変状種類 | D14: ひび割れ | M14: 変状種類 | O14: うき・はく離
B15: 健全性 | C15: 応急措置前 | E15: － | M15: 健全性 | N15: 応急措置前 | P15: －
C16: 応急措置後 | E16: Ⅱ | N16: 応急措置後 | P16: Ⅱ
B17: 変状の発生範囲の規模 | E17: 9.0m×0.2mm他 | M17: 変状の発生範囲の規模 | P17: 0.25m×0.1m
B18: 前回定期点検時の状態 | E18: 同程度 | M18: 前回定期点検時の状態 | P18: 同程度
B19: 調査方針 | E19: - | M19: 調査方針 | P19: -
B20: 対策履歴 | E20: なし | H20: 実施状況（実施日） | J20: - | M20: 対策履歴 | P20: なし | S20: 実施状況（実施日） | U20: -
B21: メモ | D21: 遊離石灰を伴う水平ひび割れ(Ⅱa) | M21: メモ | O21: 目地部のブロック化したうき(Ⅱa)、浸透固化材塗布
B22: 写真 番号 | C22: 覆工 スパン 番号 | D22: 40 | M22: 写真 番号 | N22: 覆工 スパン 番号 | O22: 40
C24: 変状 番号 | D24: 3 | N24: 変状 番号 | O24: 4
B26: 変状 部位 | C26: 対象 箇所 | D26: 覆工・坑門 | M26: 変状 部位 | N26: 対象 箇所 | O26: 覆工・坑門
C28: 部位 区分 | D28: アーチ（右側） | N28: 部位 区分 | O28: アーチ（右側）
B30: 変状区分 | D30: 材質劣化 | M30: 変状区分 | O30: 材質劣化
B31: 変状種類 | D31: ひび割れ | M31: 変状種類 | O31: 鋼材腐食
B32: 健全性 | C32: 応急措置前 | E32: － | M32: 健全性 | N32: 応急措置前 | P32: －
C33: 応急措置後 | E33: Ⅱ | N33: 応急措置後 | P33: Ⅱ
B34: 変状の発生範囲の規模 | E34: 2.7m×0.9m | M34: 変状の発生範囲の規模 | P34: 0.05m×0.05m
B35: 前回定期点検時の状態 | E35: 同程度 | M35: 前回定期点検時の状態 | P35: 同程度
B36: 調査方針 | E36: - | M36: 調査方針 | P36: -
B37: 対策履歴 | E37: なし | H37: 実施状況（実施日） | J37: - | M37: 対策履歴 | P37: なし | S37: 実施状況（実施日） | U37: -
B38: メモ | D38: 目地沿いに幅0.3～0.5mmの半月状ひび割れ(Ⅱb)、打音異常なし | M38: メモ | O38: 鋼材露出(Ⅱb)、防錆剤塗布
C39: ※ 健全性（応急措置後）の判定区分Ⅱ～Ⅳについて添付すること。また、点検前に 実施された措置によりⅠと判定された箇所も添付すること。 | N39: ※ 変状の発生範囲の規模とは、対策を行う際に参考となる変状の長さや面積をいう。
N40: ※ 応急措置を実施しないで判定した変状の健全性は、健全性の応急措置後の欄に記入すること。
C41: ※ たたき落としを実施した場合は、実施後の写真を添付すること。 | N41: ※ 変状の発生範囲の規模は、面積・寸法を記載すること。
C42: ※ 附属物の取付状態に関する異常写真は別途、様式D-1-2でとりまとめること。 | N42: (ひび割れ幅のみmmとし、その他をm表記とする)
C43: ※ 変状数に準じてシートを追加すること。（１シートに１ページとすること。） | N43: ※ 構造用鋼材以外の異物に伴ううき・はく離については、メモ欄に異物の概要を記入すること。

Sheet 様式D-1-1(トンネル様式2P001) (30)
B2: ■定期点検記録様式 変状写真台帳 | Y2: Ⅰ
B3: フリガナ | D3: オオミズトウゲトンネル | H3: 路線名 | J3: 主要県道秋芳三隅線 | M3: 定期点検業者 | P3: 応用地質株式会社 | S3: 定期点検年月日 | U3: 44860 | Y3: Ⅱ
B4: 名 称 | D4: 大水峠トンネル | H4: 管理者名 | J4: 長門土木建築事務所 | M4: 定期点検者名 | P4: 太田 裕之 | Y4: Ⅲ
B5: 写真 番号 | C5: 覆工 スパン 番号 | D5: 40 | M5: 写真 番号 | N5: 覆工 スパン 番号 | O5: 40 | Y5: Ⅳ
Y6: －
C7: 変状 番号 | D7: 5 | N7: 変状 番号 | O7: 6
B9: 変状 部位 | C9: 対象 箇所 | D9: 覆工・坑門 | M9: 変状 部位 | N9: 対象 箇所 | O9: 覆工・坑門
C11: 部位 区分 | D11: 横断目地（右側） | N11: 部位 区分 | O11: 側壁（右側）
B13: 変状区分 | D13: 漏水 | M13: 変状区分 | O13: 外力
B14: 変状種類 | D14: 漏水 | M14: 変状種類 | O14: ひび割れ
B15: 健全性 | C15: 応急措置前 | E15: － | M15: 健全性 | N15: 応急措置前 | P15: －
C16: 応急措置後 | E16: Ⅱ | N16: 応急措置後 | P16: Ⅱ
B17: 変状の発生範囲の規模 | E17: - | M17: 変状の発生範囲の規模 | P17: 6.3m×0.3mm他
B18: 前回定期点検時の状態 | E18: 同程度 | M18: 前回定期点検時の状態 | P18: ひび割れ5.0m×0.3mm他(Ⅰ)
B19: 調査方針 | E19: - | M19: 調査方針 | P19: -
B20: 対策履歴 | E20: なし | H20: 実施状況（実施日） | J20: - | M20: 対策履歴 | P20: なし | S20: 実施状況（実施日） | U20: -
B21: メモ | D21: 目地部の漏水(Ⅱb)、路面に土砂堆積あり | M21: メモ | O21: 縦横断方向に遊離石灰・漏水を伴うひび割れ(Ⅱa)、再判定
B22: 写真 番号 | C22: 覆工 スパン 番号 | M22: 写真 番号 | N22: 覆工 スパン 番号
C24: 変状 番号 | N24: 変状 番号
B26: 変状 部位 | C26: 対象 箇所 | M26: 変状 部位 | N26: 対象 箇所
C28: 部位 区分 | N28: 部位 区分
B30: 変状区分 | M30: 変状区分
B31: 変状種類 | M31: 変状種類
B32: 健全性 | C32: 応急措置前 | M32: 健全性 | N32: 応急措置前
C33: 応急措置後 | N33: 応急措置後
B34: 変状の発生範囲の規模 | M34: 変状の発生範囲の規模
B35: 前回定期点検時の状態 | M35: 前回定期点検時の状態
B36: 調査方針 | M36: 調査方針
B37: 対策履歴 | H37: 実施状況（実施日） | M37: 対策履歴 | S37: 実施状況（実施日）
B38: メモ | M38: メモ
C39: ※ 健全性（応急措置後）の判定区分Ⅱ～Ⅳについて添付すること。また、点検前に 実施された措置によりⅠと判定された箇所も添付すること。 | N39: ※ 変状の発生範囲の規模とは、対策を行う際に参考となる変状の長さや面積をいう。
N40: ※ 応急措置を実施しないで判定した変状の健全性は、健全性の応急措置後の欄に記入すること。
C41: ※ たたき落としを実施した場合は、実施後の写真を添付すること。 | N41: ※ 変状の発生範囲の規模は、面積・寸法を記載すること。
C42: ※ 附属物の取付状態に関する異常写真は別途、様式D-1-2でとりまとめること。 | N42: (ひび割れ幅のみmmとし、その他をm表記とする)
C43: ※ 変状数に準じてシートを追加すること。（１シートに１ページとすること。） | N43: ※ 構造用鋼材以外の異物に伴ううき・はく離については、メモ欄に異物の概要を記入すること。

Sheet 様式D-1-1(トンネル様式2P001) (31)
B2: ■定期点検記録様式 変状写真台帳 | Y2: Ⅰ
B3: フリガナ | D3: オオミズトウゲトンネル | H3: 路線名 | J3: 主要県道秋芳三隅線 | M3: 定期点検業者 | P3: 応用地質株式会社 | S3: 定期点検年月日 | U3: 44860 | Y3: Ⅱ
B4: 名 称 | D4: 大水峠トンネル | H4: 管理者名 | J4: 長門土木建築事務所 | M4: 定期点検者名 | P4: 太田 裕之 | Y4: Ⅲ
B5: 写真 番号 | C5: 覆工 スパン 番号 | D5: 41 | M5: 写真 番号 | N5: 覆工 スパン 番号 | O5: 41 | Y5: Ⅳ
Y6: －
C7: 変状 番号 | D7: 1 | N7: 変状 番号 | O7: 2
B9: 変状 部位 | C9: 対象 箇所 | D9: 覆工・坑門 | M9: 変状 部位 | N9: 対象 箇所 | O9: 覆工・坑門
C11: 部位 区分 | D11: 側壁（左側） | N11: 部位 区分 | O11: 横断目地（左側）
B13: 変状区分 | D13: 外力 | M13: 変状区分 | O13: 漏水
B14: 変状種類 | D14: ひび割れ | M14: 変状種類 | O14: 漏水
B15: 健全性 | C15: 応急措置前 | E15: － | M15: 健全性 | N15: 応急措置前 | P15: －
C16: 応急措置後 | E16: Ⅱ | N16: 応急措置後 | P16: Ⅱ
B17: 変状の発生範囲の規模 | E17: 5.4m×0.3mm他 | M17: 変状の発生範囲の規模 | P17: -
B18: 前回定期点検時の状態 | E18: 同程度 | M18: 前回定期点検時の状態 | P18: 同程度
B19: 調査方針 | E19: - | M19: 調査方針 | P19: -
B20: 対策履歴 | E20: なし | H20: 実施状況（実施日） | J20: - | M20: 対策履歴 | P20: なし | S20: 実施状況（実施日） | U20: -
B21: メモ | D21: 縦横断方向に遊離石灰・漏水を伴うひび割れ(Ⅱa) | M21: メモ | O21: 目地部の漏水(Ⅱb)
B22: 写真 番号 | C22: 覆工 スパン 番号 | D22: 41 | M22: 写真 番号 | N22: 覆工 スパン 番号 | O22: 41
C24: 変状 番号 | D24: 3 | N24: 変状 番号 | O24: 4
B26: 変状 部位 | C26: 対象 箇所 | D26: 覆工・坑門 | M26: 変状 部位 | N26: 対象 箇所 | O26: 覆工・坑門
C28: 部位 区分 | D28: 側壁（右側） | N28: 部位 区分 | O28: 横断目地（右側）
B30: 変状区分 | D30: 外力 | M30: 変状区分 | O30: 漏水
B31: 変状種類 | D31: ひび割れ | M31: 変状種類 | O31: 漏水
B32: 健全性 | C32: 応急措置前 | E32: － | M32: 健全性 | N32: 応急措置前 | P32: －
C33: 応急措置後 | E33: Ⅱ | N33: 応急措置後 | P33: Ⅱ
B34: 変状の発生範囲の規模 | E34: 10.4m×0.2mm他 | M34: 変状の発生範囲の規模 | P34: -
B35: 前回定期点検時の状態 | E35: ひび割れ10.4m×0.2mm他(Ⅰ) | M35: 前回定期点検時の状態 | P35: 同程度
B36: 調査方針 | E36: - | M36: 調査方針 | P36: -
B37: 対策履歴 | E37: なし | H37: 実施状況（実施日） | J37: - | M37: 対策履歴 | P37: なし | S37: 実施状況（実施日） | U37: -
B38: メモ | D38: 縦横断方向に遊離石灰・漏水を伴うひび割れ(Ⅱb)、再判定 | M38: メモ | O38: 目地部に遊離石灰を伴う漏水(Ⅱb)、路面に土砂堆積あり
C39: ※ 健全性（応急措置後）の判定区分Ⅱ～Ⅳについて添付すること。また、点検前に 実施された措置によりⅠと判定された箇所も添付すること。 | N39: ※ 変状の発生範囲の規模とは、対策を行う際に参考となる変状の長さや面積をいう。
N40: ※ 応急措置を実施しないで判定した変状の健全性は、健全性の応急措置後の欄に記入すること。
C41: ※ たたき落としを実施した場合は、実施後の写真を添付すること。 | N41: ※ 変状の発生範囲の規模は、面積・寸法を記載すること。
C42: ※ 附属物の取付状態に関する異常写真は別途、様式D-1-2でとりまとめること。 | N42: (ひび割れ幅のみmmとし、その他をm表記とする)
C43: ※ 変状数に準じてシートを追加すること。（１シートに１ページとすること。） | N43: ※ 構造用鋼材以外の異物に伴ううき・はく離については、メモ欄に異物の概要を記入すること。

Sheet 様式D-1-1(トンネル様式2P001) (32)
B2: ■定期点検記録様式 変状写真台帳 | Y2: Ⅰ
B3: フリガナ | D3: オオミズトウゲトンネル | H3: 路線名 | J3: 主要県道秋芳三隅線 | M3: 定期点検業者 | P3: 応用地質株式会社 | S3: 定期点検年月日 | U3: 44860 | Y3: Ⅱ
B4: 名 称 | D4: 大水峠トンネル | H4: 管理者名 | J4: 長門土木建築事務所 | M4: 定期点検者名 | P4: 太田 裕之 | Y4: Ⅲ
B5: 写真 番号 | C5: 覆工 スパン 番号 | D5: 42 | M5: 写真 番号 | N5: 覆工 スパン 番号 | O5: 42 | Y5: Ⅳ
Y6: －
C7: 変状 番号 | D7: 1 | N7: 変状 番号 | O7: 2
B9: 変状 部位 | C9: 対象 箇所 | D9: 覆工・坑門 | M9: 変状 部位 | N9: 対象 箇所 | O9: 覆工・坑門
C11: 部位 区分 | D11: 側壁（左側） | N11: 部位 区分 | O11: 横断目地（左側）
B13: 変状区分 | D13: 外力 | M13: 変状区分 | O13: 漏水
B14: 変状種類 | D14: ひび割れ | M14: 変状種類 | O14: 漏水
B15: 健全性 | C15: 応急措置前 | E15: － | M15: 健全性 | N15: 応急措置前 | P15: －
C16: 応急措置後 | E16: Ⅱ | N16: 応急措置後 | P16: Ⅱ
B17: 変状の発生範囲の規模 | E17: 10.4m×0.4mm | M17: 変状の発生範囲の規模 | P17: -
B18: 前回定期点検時の状態 | E18: 同程度 | M18: 前回定期点検時の状態 | P18: 側壁・路面の漏水・滞水(Ⅱa)
B19: 調査方針 | E19: - | M19: 調査方針 | P19: -
B20: 対策履歴 | E20: なし | H20: 実施状況（実施日） | J20: - | M20: 対策履歴 | P20: なし | S20: 実施状況（実施日） | U20: -
B21: メモ | D21: 遊離石灰・漏水を伴う水平ひび割れ(Ⅱa) | M21: メモ | O21: 目地部に遊離石灰を伴う漏水(Ⅱb)、路面に土砂堆積あり、再判定
B22: 写真 番号 | C22: 覆工 スパン 番号 | D22: 42 | M22: 写真 番号 | N22: 覆工 スパン 番号 | O22: 42
C24: 変状 番号 | D24: 3 | N24: 変状 番号 | O24: 4
B26: 変状 部位 | C26: 対象 箇所 | D26: 覆工・坑門 | M26: 変状 部位 | N26: 対象 箇所 | O26: 覆工・坑門
C28: 部位 区分 | D28: 側壁（右側） | N28: 部位 区分 | O28: 横断目地（右側）
B30: 変状区分 | D30: 外力 | M30: 変状区分 | O30: 漏水
B31: 変状種類 | D31: ひび割れ | M31: 変状種類 | O31: 漏水
B32: 健全性 | C32: 応急措置前 | E32: － | M32: 健全性 | N32: 応急措置前 | P32: －
C33: 応急措置後 | E33: Ⅱ | N33: 応急措置後 | P33: Ⅱ
B34: 変状の発生範囲の規模 | E34: 6.5m×0.2mm他 | M34: 変状の発生範囲の規模 | P34: -
B35: 前回定期点検時の状態 | E35: ひび割れ3.7m×0.15mm他(Ⅰ) | M35: 前回定期点検時の状態 | P35: なし
B36: 調査方針 | E36: - | M36: 調査方針 | P36: -
B37: 対策履歴 | E37: なし | H37: 実施状況（実施日） | J37: - | M37: 対策履歴 | P37: なし | S37: 実施状況（実施日） | U37: -
B38: メモ | D38: 縦横断方向に遊離石灰を伴うひび割れ(Ⅱb)、再判定 | M38: メモ | O38: 目地部の遊離石灰を伴う漏水(Ⅱb)
C39: ※ 健全性（応急措置後）の判定区分Ⅱ～Ⅳについて添付すること。また、点検前に 実施された措置によりⅠと判定された箇所も添付すること。 | N39: ※ 変状の発生範囲の規模とは、対策を行う際に参考となる変状の長さや面積をいう。
N40: ※ 応急措置を実施しないで判定した変状の健全性は、健全性の応急措置後の欄に記入すること。
C41: ※ たたき落としを実施した場合は、実施後の写真を添付すること。 | N41: ※ 変状の発生範囲の規模は、面積・寸法を記載すること。
C42: ※ 附属物の取付状態に関する異常写真は別途、様式D-1-2でとりまとめること。 | N42: (ひび割れ幅のみmmとし、その他をm表記とする)
C43: ※ 変状数に準じてシートを追加すること。（１シートに１ページとすること。） | N43: ※ 構造用鋼材以外の異物に伴ううき・はく離については、メモ欄に異物の概要を記入すること。

Sheet 様式D-1-1(トンネル様式2P001) (33)
B2: ■定期点検記録様式 変状写真台帳 | Y2: Ⅰ
B3: フリガナ | D3: オオミズトウゲトンネル | H3: 路線名 | J3: 主要県道秋芳三隅線 | M3: 定期点検業者 | P3: 応用地質株式会社 | S3: 定期点検年月日 | U3: 44860 | Y3: Ⅱ
B4: 名 称 | D4: 大水峠トンネル | H4: 管理者名 | J4: 長門土木建築事務所 | M4: 定期点検者名 | P4: 太田 裕之 | Y4: Ⅲ
B5: 写真 番号 | C5: 覆工 スパン 番号 | D5: 43 | M5: 写真 番号 | N5: 覆工 スパン 番号 | O5: 43 | Y5: Ⅳ
Y6: －
C7: 変状 番号 | D7: 1 | N7: 変状 番号 | O7: 2
B9: 変状 部位 | C9: 対象 箇所 | D9: 覆工・坑門 | M9: 変状 部位 | N9: 対象 箇所 | O9: 覆工・坑門
C11: 部位 区分 | D11: 側壁（左側） | N11: 部位 区分 | O11: 側壁（左側）
B13: 変状区分 | D13: 漏水 | M13: 変状区分 | O13: 外力
B14: 変状種類 | D14: 漏水 | M14: 変状種類 | O14: ひび割れ
B15: 健全性 | C15: 応急措置前 | E15: － | M15: 健全性 | N15: 応急措置前 | P15: －
C16: 応急措置後 | E16: Ⅱ | N16: 応急措置後 | P16: Ⅱ
B17: 変状の発生範囲の規模 | E17: - | M17: 変状の発生範囲の規模 | P17: 10.4m×0.2mm他
B18: 前回定期点検時の状態 | E18: 同程度 | M18: 前回定期点検時の状態 | P18: ひび割れ10.4m×0.2mm(Ⅰ)
B19: 調査方針 | E19: - | M19: 調査方針 | P19: -
B20: 対策履歴 | E20: なし | H20: 実施状況（実施日） | J20: - | M20: 対策履歴 | P20: なし | S20: 実施状況（実施日） | U20: -
B21: メモ | D21: ひび割れ沿いに遊離石灰を伴う漏水(Ⅱb)、今回点検時路面に滞水なし | M21: メモ | O21: 遊離石灰・漏水を伴う水平ひび割れ(Ⅱa)、再判定
B22: 写真 番号 | C22: 覆工 スパン 番号 | D22: 43 | M22: 写真 番号 | N22: 覆工 スパン 番号 | O22: 43
C24: 変状 番号 | D24: 3 | N24: 変状 番号 | O24: 4
B26: 変状 部位 | C26: 対象 箇所 | D26: 覆工・坑門 | M26: 変状 部位 | N26: 対象 箇所 | O26: 覆工・坑門
C28: 部位 区分 | D28: アーチ（右側） | N28: 部位 区分 | O28: 側壁（右側）
B30: 変状区分 | D30: 材質劣化 | M30: 変状区分 | O30: 材質劣化
B31: 変状種類 | D31: ひび割れ | M31: 変状種類 | O31: うき・はく離
B32: 健全性 | C32: 応急措置前 | E32: － | M32: 健全性 | N32: 応急措置前 | P32: Ⅱ
C33: 応急措置後 | E33: Ⅱ | N33: 応急措置後 | P33: Ⅰ
B34: 変状の発生範囲の規模 | E34: 2.4m×1.2m | M34: 変状の発生範囲の規模 | P34: 0.1m×0.2m
B35: 前回定期点検時の状態 | E35: ひび割れ2.4m×1.2m(Ⅰ) | M35: 前回定期点検時の状態 | P35: なし
B36: 調査方針 | E36: - | M36: 調査方針 | P36: -
B37: 対策履歴 | E37: なし | H37: 実施状況（実施日） | J37: - | M37: 対策履歴 | P37: なし | S37: 実施状況（実施日） | U37: -
B38: メモ | D38: 目地沿いに幅0.3mmの半月状ひび割れ(Ⅱb)、打音異常なし、再判定 | M38: メモ | O38: ひび割れ沿いのうき(Ⅱa→Ⅰ)、今回点検時に叩き落とし実施(深さ50mm)
C39: ※ 健全性（応急措置後）の判定区分Ⅱ～Ⅳについて添付すること。また、点検前に 実施された措置によりⅠと判定された箇所も添付すること。 | N39: ※ 変状の発生範囲の規模とは、対策を行う際に参考となる変状の長さや面積をいう。
N40: ※ 応急措置を実施しないで判定した変状の健全性は、健全性の応急措置後の欄に記入すること。
C41: ※ たたき落としを実施した場合は、実施後の写真を添付すること。 | N41: ※ 変状の発生範囲の規模は、面積・寸法を記載すること。
C42: ※ 附属物の取付状態に関する異常写真は別途、様式D-1-2でとりまとめること。 | N42: (ひび割れ幅のみmmとし、その他をm表記とする)
C43: ※ 変状数に準じてシートを追加すること。（１シートに１ページとすること。） | N43: ※ 構造用鋼材以外の異物に伴ううき・はく離については、メモ欄に異物の概要を記入すること。

Sheet 様式D-1-1(トンネル様式2P001) (34)
B2: ■定期点検記録様式 変状写真台帳 | Y2: Ⅰ
B3: フリガナ | D3: オオミズトウゲトンネル | H3: 路線名 | J3: 主要県道秋芳三隅線 | M3: 定期点検業者 | P3: 応用地質株式会社 | S3: 定期点検年月日 | U3: 44860 | Y3: Ⅱ
B4: 名 称 | D4: 大水峠トンネル | H4: 管理者名 | J4: 長門土木建築事務所 | M4: 定期点検者名 | P4: 太田 裕之 | Y4: Ⅲ
B5: 写真 番号 | C5: 覆工 スパン 番号 | D5: 43 | M5: 写真 番号 | N5: 覆工 スパン 番号 | Y5: Ⅳ
Y6: －
C7: 変状 番号 | D7: 5 | N7: 変状 番号
B9: 変状 部位 | C9: 対象 箇所 | D9: 覆工・坑門 | M9: 変状 部位 | N9: 対象 箇所
C11: 部位 区分 | D11: 側壁（右側） | N11: 部位 区分
B13: 変状区分 | D13: 外力 | M13: 変状区分
B14: 変状種類 | D14: ひび割れ | M14: 変状種類
B15: 健全性 | C15: 応急措置前 | E15: － | M15: 健全性 | N15: 応急措置前
C16: 応急措置後 | E16: Ⅱ | N16: 応急措置後
B17: 変状の発生範囲の規模 | E17: 4.3m×0.3mm他 | M17: 変状の発生範囲の規模
B18: 前回定期点検時の状態 | E18: ひび割れ4.3m×0.3mm他(Ⅰ) | M18: 前回定期点検時の状態
B19: 調査方針 | E19: - | M19: 調査方針
B20: 対策履歴 | E20: なし | H20: 実施状況（実施日） | J20: - | M20: 対策履歴 | S20: 実施状況（実施日）
B21: メモ | D21: 縦横断方向に遊離石灰を伴うひび割れ(Ⅱb)、再判定 | M21: メモ
B22: 写真 番号 | C22: 覆工 スパン 番号 | M22: 写真 番号 | N22: 覆工 スパン 番号
C24: 変状 番号 | N24: 変状 番号
B26: 変状 部位 | C26: 対象 箇所 | M26: 変状 部位 | N26: 対象 箇所
C28: 部位 区分 | N28: 部位 区分
B30: 変状区分 | M30: 変状区分
B31: 変状種類 | M31: 変状種類
B32: 健全性 | C32: 応急措置前 | M32: 健全性 | N32: 応急措置前
C33: 応急措置後 | N33: 応急措置後
B34: 変状の発生範囲の規模 | M34: 変状の発生範囲の規模
B35: 前回定期点検時の状態 | M35: 前回定期点検時の状態
B36: 調査方針 | M36: 調査方針
B37: 対策履歴 | H37: 実施状況（実施日） | M37: 対策履歴 | S37: 実施状況（実施日）
B38: メモ | M38: メモ
C39: ※ 健全性（応急措置後）の判定区分Ⅱ～Ⅳについて添付すること。また、点検前に 実施された措置によりⅠと判定された箇所も添付すること。 | N39: ※ 変状の発生範囲の規模とは、対策を行う際に参考となる変状の長さや面積をいう。
N40: ※ 応急措置を実施しないで判定した変状の健全性は、健全性の応急措置後の欄に記入すること。
C41: ※ たたき落としを実施した場合は、実施後の写真を添付すること。 | N41: ※ 変状の発生範囲の規模は、面積・寸法を記載すること。
C42: ※ 附属物の取付状態に関する異常写真は別途、様式D-1-2でとりまとめること。 | N42: (ひび割れ幅のみmmとし、その他をm表記とする)
C43: ※ 変状数に準じてシートを追加すること。（１シートに１ページとすること。） | N43: ※ 構造用鋼材以外の異物に伴ううき・はく離については、メモ欄に異物の概要を記入すること。

Sheet 様式D-1-1(トンネル様式2P001) (35)
B2: ■定期点検記録様式 変状写真台帳 | Y2: Ⅰ
B3: フリガナ | D3: オオミズトウゲトンネル | H3: 路線名 | J3: 主要県道秋芳三隅線 | M3: 定期点検業者 | P3: 応用地質株式会社 | S3: 定期点検年月日 | U3: 44860 | Y3: Ⅱ
B4: 名 称 | D4: 大水峠トンネル | H4: 管理者名 | J4: 長門土木建築事務所 | M4: 定期点検者名 | P4: 太田 裕之 | Y4: Ⅲ
B5: 写真 番号 | C5: 覆工 スパン 番号 | D5: 44 | M5: 写真 番号 | N5: 覆工 スパン 番号 | O5: 44 | Y5: Ⅳ
Y6: －
C7: 変状 番号 | D7: 1 | N7: 変状 番号 | O7: 2
B9: 変状 部位 | C9: 対象 箇所 | D9: 覆工・坑門 | M9: 変状 部位 | N9: 対象 箇所 | O9: 覆工・坑門
C11: 部位 区分 | D11: 側壁（左側） | N11: 部位 区分 | O11: 横断目地（左側）
B13: 変状区分 | D13: 漏水 | M13: 変状区分 | O13: 漏水
B14: 変状種類 | D14: 漏水 | M14: 変状種類 | O14: 漏水
B15: 健全性 | C15: 応急措置前 | E15: － | M15: 健全性 | N15: 応急措置前 | P15: －
C16: 応急措置後 | E16: Ⅱ | N16: 応急措置後 | P16: Ⅱ
B17: 変状の発生範囲の規模 | E17: - | M17: 変状の発生範囲の規模 | P17: -
B18: 前回定期点検時の状態 | E18: 同程度 | M18: 前回定期点検時の状態 | P18: 同程度
B19: 調査方針 | E19: - | M19: 調査方針 | P19: -
B20: 対策履歴 | E20: なし | H20: 実施状況（実施日） | J20: - | M20: 対策履歴 | P20: なし | S20: 実施状況（実施日） | U20: -
B21: メモ | D21: ひび割れ沿いに遊離石灰を伴う漏水(Ⅱb) | M21: メモ | O21: 目地部の漏水(Ⅱb)、今回点検時路面に滞水なし
B22: 写真 番号 | C22: 覆工 スパン 番号 | D22: 44 | M22: 写真 番号 | N22: 覆工 スパン 番号 | O22: 44
C24: 変状 番号 | D24: 3 | N24: 変状 番号 | O24: 4
B26: 変状 部位 | C26: 対象 箇所 | D26: 覆工・坑門 | M26: 変状 部位 | N26: 対象 箇所 | O26: 覆工・坑門
C28: 部位 区分 | D28: 側壁（右側） | N28: 部位 区分 | O28: 側壁（左側）
B30: 変状区分 | D30: 外力 | M30: 変状区分 | O30: 外力
B31: 変状種類 | D31: ひび割れ | M31: 変状種類 | O31: ひび割れ
B32: 健全性 | C32: 応急措置前 | E32: － | M32: 健全性 | N32: 応急措置前 | P32: －
C33: 応急措置後 | E33: Ⅱ | N33: 応急措置後 | P33: Ⅱ
B34: 変状の発生範囲の規模 | E34: 10.4m×0.3mm他 | M34: 変状の発生範囲の規模 | P34: 10.4m×0.2mm他
B35: 前回定期点検時の状態 | E35: 同程度 | M35: 前回定期点検時の状態 | P35: ひび割れ10.4m×0.2mm(Ⅰ)
B36: 調査方針 | E36: - | M36: 調査方針 | P36: -
B37: 対策履歴 | E37: なし | H37: 実施状況（実施日） | J37: - | M37: 対策履歴 | P37: なし | S37: 実施状況（実施日） | U37: -
B38: メモ | D38: 遊離石灰・漏水を伴う水平ひび割れ(Ⅱa) | M38: メモ | O38: 遊離石灰・漏水を伴う水平ひび割れ(Ⅱa)、再判定
C39: ※ 健全性（応急措置後）の判定区分Ⅱ～Ⅳについて添付すること。また、点検前に 実施された措置によりⅠと判定された箇所も添付すること。 | N39: ※ 変状の発生範囲の規模とは、対策を行う際に参考となる変状の長さや面積をいう。
N40: ※ 応急措置を実施しないで判定した変状の健全性は、健全性の応急措置後の欄に記入すること。
C41: ※ たたき落としを実施した場合は、実施後の写真を添付すること。 | N41: ※ 変状の発生範囲の規模は、面積・寸法を記載すること。
C42: ※ 附属物の取付状態に関する異常写真は別途、様式D-1-2でとりまとめること。 | N42: (ひび割れ幅のみmmとし、その他をm表記とする)
C43: ※ 変状数に準じてシートを追加すること。（１シートに１ページとすること。） | N43: ※ 構造用鋼材以外の異物に伴ううき・はく離については、メモ欄に異物の概要を記入すること。

Sheet 様式D-1-1(トンネル様式2P001) (36)
B2: ■定期点検記録様式 変状写真台帳 | Y2: Ⅰ
B3: フリガナ | D3: オオミズトウゲトンネル | H3: 路線名 | J3: 主要県道秋芳三隅線 | M3: 定期点検業者 | P3: 応用地質株式会社 | S3: 定期点検年月日 | U3: 44860 | Y3: Ⅱ
B4: 名 称 | D4: 大水峠トンネル | H4: 管理者名 | J4: 長門土木建築事務所 | M4: 定期点検者名 | P4: 太田 裕之 | Y4: Ⅲ
B5: 写真 番号 | C5: 覆工 スパン 番号 | D5: 45 | M5: 写真 番号 | N5: 覆工 スパン 番号 | O5: 45 | Y5: Ⅳ
Y6: －
C7: 変状 番号 | D7: 1 | N7: 変状 番号 | O7: 2
B9: 変状 部位 | C9: 対象 箇所 | D9: 覆工・坑門 | M9: 変状 部位 | N9: 対象 箇所 | O9: 覆工・坑門
C11: 部位 区分 | D11: 側壁（左側） | N11: 部位 区分 | O11: 側壁（左側）
B13: 変状区分 | D13: 漏水 | M13: 変状区分 | O13: 外力
B14: 変状種類 | D14: 漏水 | M14: 変状種類 | O14: ひび割れ
B15: 健全性 | C15: 応急措置前 | E15: － | M15: 健全性 | N15: 応急措置前 | P15: －
C16: 応急措置後 | E16: Ⅱ | N16: 応急措置後 | P16: Ⅱ
B17: 変状の発生範囲の規模 | E17: - | M17: 変状の発生範囲の規模 | P17: 10.4m×0.5mm他
B18: 前回定期点検時の状態 | E18: 同程度 | M18: 前回定期点検時の状態 | P18: 同程度
B19: 調査方針 | E19: - | M19: 調査方針 | P19: -
B20: 対策履歴 | E20: なし | H20: 実施状況（実施日） | J20: - | M20: 対策履歴 | P20: なし | S20: 実施状況（実施日） | U20: -
B21: メモ | D21: ひび割れ沿いに遊離石灰を伴う漏水(Ⅱb) | M21: メモ | O21: 縦横断方向に遊離石灰・漏水を伴うひび割れ(Ⅱa)
B22: 写真 番号 | C22: 覆工 スパン 番号 | D22: 45 | M22: 写真 番号 | N22: 覆工 スパン 番号 | O22: 45
C24: 変状 番号 | D24: 3 | N24: 変状 番号 | O24: 4
B26: 変状 部位 | C26: 対象 箇所 | D26: 覆工・坑門 | M26: 変状 部位 | N26: 対象 箇所 | O26: 覆工・坑門
C28: 部位 区分 | D28: 横断目地（左側） | N28: 部位 区分 | O28: 側壁（右側）
B30: 変状区分 | D30: 漏水 | M30: 変状区分 | O30: 外力
B31: 変状種類 | D31: 漏水 | M31: 変状種類 | O31: ひび割れ
B32: 健全性 | C32: 応急措置前 | E32: － | M32: 健全性 | N32: 応急措置前 | P32: －
C33: 応急措置後 | E33: Ⅱ | N33: 応急措置後 | P33: Ⅱ
B34: 変状の発生範囲の規模 | E34: - | M34: 変状の発生範囲の規模 | P34: 5.8m×0.2mm他
B35: 前回定期点検時の状態 | E35: 同程度 | M35: 前回定期点検時の状態 | P35: ひび割れ4.7m×0.2mm他(Ⅰ)
B36: 調査方針 | E36: - | M36: 調査方針 | P36: -
B37: 対策履歴 | E37: なし | H37: 実施状況（実施日） | J37: - | M37: 対策履歴 | P37: なし | S37: 実施状況（実施日） | U37: -
B38: メモ | D38: 目地部に遊離石灰を伴う漏水(Ⅱb)、路面に土砂堆積あり | M38: メモ | O38: 縦横断方向に遊離石灰を伴うひび割れ(Ⅱb)、再判定
C39: ※ 健全性（応急措置後）の判定区分Ⅱ～Ⅳについて添付すること。また、点検前に 実施された措置によりⅠと判定された箇所も添付すること。 | N39: ※ 変状の発生範囲の規模とは、対策を行う際に参考となる変状の長さや面積をいう。
N40: ※ 応急措置を実施しないで判定した変状の健全性は、健全性の応急措置後の欄に記入すること。
C41: ※ たたき落としを実施した場合は、実施後の写真を添付すること。 | N41: ※ 変状の発生範囲の規模は、面積・寸法を記載すること。
C42: ※ 附属物の取付状態に関する異常写真は別途、様式D-1-2でとりまとめること。 | N42: (ひび割れ幅のみmmとし、その他をm表記とする)
C43: ※ 変状数に準じてシートを追加すること。（１シートに１ページとすること。） | N43: ※ 構造用鋼材以外の異物に伴ううき・はく離については、メモ欄に異物の概要を記入すること。

Sheet 様式D-1-1(トンネル様式2P001) (37)
B2: ■定期点検記録様式 変状写真台帳 | Y2: Ⅰ
B3: フリガナ | D3: オオミズトウゲトンネル | H3: 路線名 | J3: 主要県道秋芳三隅線 | M3: 定期点検業者 | P3: 応用地質株式会社 | S3: 定期点検年月日 | U3: 44860 | Y3: Ⅱ
B4: 名 称 | D4: 大水峠トンネル | H4: 管理者名 | J4: 長門土木建築事務所 | M4: 定期点検者名 | P4: 太田 裕之 | Y4: Ⅲ
B5: 写真 番号 | C5: 覆工 スパン 番号 | D5: 45 | M5: 写真 番号 | N5: 覆工 スパン 番号 | Y5: Ⅳ
Y6: －
C7: 変状 番号 | D7: 5 | N7: 変状 番号
B9: 変状 部位 | C9: 対象 箇所 | D9: 覆工・坑門 | M9: 変状 部位 | N9: 対象 箇所
C11: 部位 区分 | D11: 横断目地（右側） | N11: 部位 区分
B13: 変状区分 | D13: 漏水 | M13: 変状区分
B14: 変状種類 | D14: 漏水 | M14: 変状種類
B15: 健全性 | C15: 応急措置前 | E15: － | M15: 健全性 | N15: 応急措置前
C16: 応急措置後 | E16: Ⅱ | N16: 応急措置後
B17: 変状の発生範囲の規模 | E17: - | M17: 変状の発生範囲の規模
B18: 前回定期点検時の状態 | E18: なし | M18: 前回定期点検時の状態
B19: 調査方針 | E19: - | M19: 調査方針
B20: 対策履歴 | E20: なし | H20: 実施状況（実施日） | J20: - | M20: 対策履歴 | S20: 実施状況（実施日）
B21: メモ | D21: 目地部に遊離石灰を伴う漏水(Ⅱb) | M21: メモ
B22: 写真 番号 | C22: 覆工 スパン 番号 | M22: 写真 番号 | N22: 覆工 スパン 番号
C24: 変状 番号 | N24: 変状 番号
B26: 変状 部位 | C26: 対象 箇所 | M26: 変状 部位 | N26: 対象 箇所
C28: 部位 区分 | N28: 部位 区分
B30: 変状区分 | M30: 変状区分
B31: 変状種類 | M31: 変状種類
B32: 健全性 | C32: 応急措置前 | M32: 健全性 | N32: 応急措置前
C33: 応急措置後 | N33: 応急措置後
B34: 変状の発生範囲の規模 | M34: 変状の発生範囲の規模
B35: 前回定期点検時の状態 | M35: 前回定期点検時の状態
B36: 調査方針 | M36: 調査方針
B37: 対策履歴 | H37: 実施状況（実施日） | M37: 対策履歴 | S37: 実施状況（実施日）
B38: メモ | M38: メモ
C39: ※ 健全性（応急措置後）の判定区分Ⅱ～Ⅳについて添付すること。また、点検前に 実施された措置によりⅠと判定された箇所も添付すること。 | N39: ※ 変状の発生範囲の規模とは、対策を行う際に参考となる変状の長さや面積をいう。
N40: ※ 応急措置を実施しないで判定した変状の健全性は、健全性の応急措置後の欄に記入すること。
C41: ※ たたき落としを実施した場合は、実施後の写真を添付すること。 | N41: ※ 変状の発生範囲の規模は、面積・寸法を記載すること。
C42: ※ 附属物の取付状態に関する異常写真は別途、様式D-1-2でとりまとめること。 | N42: (ひび割れ幅のみmmとし、その他をm表記とする)
C43: ※ 変状数に準じてシートを追加すること。（１シートに１ページとすること。） | N43: ※ 構造用鋼材以外の異物に伴ううき・はく離については、メモ欄に異物の概要を記入すること。

Sheet 様式D-1-1(トンネル様式2P001) (38)
B2: ■定期点検記録様式 変状写真台帳 | Y2: Ⅰ
B3: フリガナ | D3: オオミズトウゲトンネル | H3: 路線名 | J3: 主要県道秋芳三隅線 | M3: 定期点検業者 | P3: 応用地質株式会社 | S3: 定期点検年月日 | U3: 44860 | Y3: Ⅱ
B4: 名 称 | D4: 大水峠トンネル | H4: 管理者名 | J4: 長門土木建築事務所 | M4: 定期点検者名 | P4: 太田 裕之 | Y4: Ⅲ
B5: 写真 番号 | C5: 覆工 スパン 番号 | D5: 46 | M5: 写真 番号 | N5: 覆工 スパン 番号 | O5: 46 | Y5: Ⅳ
Y6: －
C7: 変状 番号 | D7: 1 | N7: 変状 番号 | O7: 2
B9: 変状 部位 | C9: 対象 箇所 | D9: 覆工・坑門 | M9: 変状 部位 | N9: 対象 箇所 | O9: 覆工・坑門
C11: 部位 区分 | D11: 側壁（左側） | N11: 部位 区分 | O11: 側壁（右側）
B13: 変状区分 | D13: 外力 | M13: 変状区分 | O13: 外力
B14: 変状種類 | D14: ひび割れ | M14: 変状種類 | O14: ひび割れ
B15: 健全性 | C15: 応急措置前 | E15: － | M15: 健全性 | N15: 応急措置前 | P15: －
C16: 応急措置後 | E16: Ⅱ | N16: 応急措置後 | P16: Ⅱ
B17: 変状の発生範囲の規模 | E17: 10.5m×0.2mm他 | M17: 変状の発生範囲の規模 | P17: 8.5m×0.2mm他
B18: 前回定期点検時の状態 | E18: 同程度 | M18: 前回定期点検時の状態 | P18: ひび割れ4.9m×0.2mm他(Ⅰ)
B19: 調査方針 | E19: - | M19: 調査方針 | P19: -
B20: 対策履歴 | E20: なし | H20: 実施状況（実施日） | J20: - | M20: 対策履歴 | P20: なし | S20: 実施状況（実施日） | U20: -
B21: メモ | D21: 縦横断方向に遊離石灰を伴うひび割れ(Ⅱa) | M21: メモ | O21: 縦横断方向に遊離石灰を伴うひび割れ(Ⅱb)、再判定
B22: 写真 番号 | C22: 覆工 スパン 番号 | M22: 写真 番号 | N22: 覆工 スパン 番号
C24: 変状 番号 | N24: 変状 番号
B26: 変状 部位 | C26: 対象 箇所 | M26: 変状 部位 | N26: 対象 箇所
C28: 部位 区分 | N28: 部位 区分
B30: 変状区分 | M30: 変状区分
B31: 変状種類 | M31: 変状種類
B32: 健全性 | C32: 応急措置前 | M32: 健全性 | N32: 応急措置前
C33: 応急措置後 | N33: 応急措置後
B34: 変状の発生範囲の規模 | M34: 変状の発生範囲の規模
B35: 前回定期点検時の状態 | M35: 前回定期点検時の状態
B36: 調査方針 | M36: 調査方針
B37: 対策履歴 | H37: 実施状況（実施日） | M37: 対策履歴 | S37: 実施状況（実施日）
B38: メモ | M38: メモ
C39: ※ 健全性（応急措置後）の判定区分Ⅱ～Ⅳについて添付すること。また、点検前に 実施された措置によりⅠと判定された箇所も添付すること。 | N39: ※ 変状の発生範囲の規模とは、対策を行う際に参考となる変状の長さや面積をいう。
N40: ※ 応急措置を実施しないで判定した変状の健全性は、健全性の応急措置後の欄に記入すること。
C41: ※ たたき落としを実施した場合は、実施後の写真を添付すること。 | N41: ※ 変状の発生範囲の規模は、面積・寸法を記載すること。
C42: ※ 附属物の取付状態に関する異常写真は別途、様式D-1-2でとりまとめること。 | N42: (ひび割れ幅のみmmとし、その他をm表記とする)
C43: ※ 変状数に準じてシートを追加すること。（１シートに１ページとすること。） | N43: ※ 構造用鋼材以外の異物に伴ううき・はく離については、メモ欄に異物の概要を記入すること。

Sheet 様式D-1-1(トンネル様式2P001) (39)
B2: ■定期点検記録様式 変状写真台帳 | Y2: Ⅰ
B3: フリガナ | D3: オオミズトウゲトンネル | H3: 路線名 | J3: 主要県道秋芳三隅線 | M3: 定期点検業者 | P3: 応用地質株式会社 | S3: 定期点検年月日 | U3: 44860 | Y3: Ⅱ
B4: 名 称 | D4: 大水峠トンネル | H4: 管理者名 | J4: 長門土木建築事務所 | M4: 定期点検者名 | P4: 太田 裕之 | Y4: Ⅲ
B5: 写真 番号 | C5: 覆工 スパン 番号 | D5: 47 | M5: 写真 番号 | N5: 覆工 スパン 番号 | O5: 47 | Y5: Ⅳ
Y6: －
C7: 変状 番号 | D7: 1 | N7: 変状 番号 | O7: 2
B9: 変状 部位 | C9: 対象 箇所 | D9: 覆工・坑門 | M9: 変状 部位 | N9: 対象 箇所 | O9: 覆工・坑門
C11: 部位 区分 | D11: アーチ（右側） | N11: 部位 区分 | O11: 横断目地（左側）
B13: 変状区分 | D13: 材質劣化 | M13: 変状区分 | O13: 漏水
B14: 変状種類 | D14: ひび割れ | M14: 変状種類 | O14: 漏水
B15: 健全性 | C15: 応急措置前 | E15: － | M15: 健全性 | N15: 応急措置前 | P15: －
C16: 応急措置後 | E16: Ⅱ | N16: 応急措置後 | P16: Ⅱ
B17: 変状の発生範囲の規模 | E17: 3.2m×0.9m | M17: 変状の発生範囲の規模 | P17: -
B18: 前回定期点検時の状態 | E18: 同程度 | M18: 前回定期点検時の状態 | P18: 路面の漏水・帯水(Ⅱa)
B19: 調査方針 | E19: - | M19: 調査方針 | P19: -
B20: 対策履歴 | E20: なし | H20: 実施状況（実施日） | J20: - | M20: 対策履歴 | P20: なし | S20: 実施状況（実施日） | U20: -
B21: メモ | D21: 目地沿いに幅0.3mmの半月状ひび割れ(Ⅱb)、打音異常なし | M21: メモ | O21: 目地部に遊離石灰を伴う漏水(Ⅱb)、路面に土砂堆積あり、再判定
B22: 写真 番号 | C22: 覆工 スパン 番号 | D22: 47 | M22: 写真 番号 | N22: 覆工 スパン 番号
C24: 変状 番号 | D24: 3 | N24: 変状 番号
B26: 変状 部位 | C26: 対象 箇所 | D26: 覆工・坑門 | M26: 変状 部位 | N26: 対象 箇所
C28: 部位 区分 | D28: 横断目地（左側） | N28: 部位 区分
B30: 変状区分 | D30: 漏水 | M30: 変状区分
B31: 変状種類 | D31: 漏水 | M31: 変状種類
B32: 健全性 | C32: 応急措置前 | E32: － | M32: 健全性 | N32: 応急措置前
C33: 応急措置後 | E33: Ⅱ | N33: 応急措置後
B34: 変状の発生範囲の規模 | E34: - | M34: 変状の発生範囲の規模
B35: 前回定期点検時の状態 | E35: なし | M35: 前回定期点検時の状態
B36: 調査方針 | E36: - | M36: 調査方針
B37: 対策履歴 | E37: なし | H37: 実施状況（実施日） | J37: - | M37: 対策履歴 | S37: 実施状況（実施日）
B38: メモ | D38: 目地部に遊離石灰を伴う漏水(Ⅱb) | M38: メモ
C39: ※ 健全性（応急措置後）の判定区分Ⅱ～Ⅳについて添付すること。また、点検前に 実施された措置によりⅠと判定された箇所も添付すること。 | N39: ※ 変状の発生範囲の規模とは、対策を行う際に参考となる変状の長さや面積をいう。
N40: ※ 応急措置を実施しないで判定した変状の健全性は、健全性の応急措置後の欄に記入すること。
C41: ※ たたき落としを実施した場合は、実施後の写真を添付すること。 | N41: ※ 変状の発生範囲の規模は、面積・寸法を記載すること。
C42: ※ 附属物の取付状態に関する異常写真は別途、様式D-1-2でとりまとめること。 | N42: (ひび割れ幅のみmmとし、その他をm表記とする)
C43: ※ 変状数に準じてシートを追加すること。（１シートに１ページとすること。） | N43: ※ 構造用鋼材以外の異物に伴ううき・はく離については、メモ欄に異物の概要を記入すること。

Sheet 様式D-1-1(トンネル様式2P001) (40)
B2: ■定期点検記録様式 変状写真台帳 | Y2: Ⅰ
B3: フリガナ | D3: オオミズトウゲトンネル | H3: 路線名 | J3: 主要県道秋芳三隅線 | M3: 定期点検業者 | P3: 応用地質株式会社 | S3: 定期点検年月日 | U3: 44860 | Y3: Ⅱ
B4: 名 称 | D4: 大水峠トンネル | H4: 管理者名 | J4: 長門土木建築事務所 | M4: 定期点検者名 | P4: 太田 裕之 | Y4: Ⅲ
B5: 写真 番号 | C5: 覆工 スパン 番号 | D5: 48 | M5: 写真 番号 | N5: 覆工 スパン 番号 | O5: 48 | Y5: Ⅳ
Y6: －
C7: 変状 番号 | D7: 1 | N7: 変状 番号 | O7: 2
B9: 変状 部位 | C9: 対象 箇所 | D9: 覆工・坑門 | M9: 変状 部位 | N9: 対象 箇所 | O9: 覆工・坑門
C11: 部位 区分 | D11: 側壁（左側） | N11: 部位 区分 | O11: アーチ（右側）
B13: 変状区分 | D13: 外力 | M13: 変状区分 | O13: 材質劣化
B14: 変状種類 | D14: ひび割れ | M14: 変状種類 | O14: ひび割れ
B15: 健全性 | C15: 応急措置前 | E15: － | M15: 健全性 | N15: 応急措置前 | P15: －
C16: 応急措置後 | E16: Ⅱ | N16: 応急措置後 | P16: Ⅱ
B17: 変状の発生範囲の規模 | E17: 10.5m×0.5mm他 | M17: 変状の発生範囲の規模 | P17: 2.7m×0.7m
B18: 前回定期点検時の状態 | E18: 同程度 | M18: 前回定期点検時の状態 | P18: 同程度
B19: 調査方針 | E19: - | M19: 調査方針 | P19: -
B20: 対策履歴 | E20: なし | H20: 実施状況（実施日） | J20: - | M20: 対策履歴 | P20: なし | S20: 実施状況（実施日） | U20: -
B21: メモ | D21: 遊離石灰・漏水を伴う水平ひび割れ(Ⅱa) | M21: メモ | O21: 目地沿いに幅0.3mmの半月状ひび割れ(Ⅱb)、打音異常なし
B22: 写真 番号 | C22: 覆工 スパン 番号 | D22: 48 | M22: 写真 番号 | N22: 覆工 スパン 番号 | O22: 48
C24: 変状 番号 | D24: 3 | N24: 変状 番号 | O24: 4
B26: 変状 部位 | C26: 対象 箇所 | D26: 覆工・坑門 | M26: 変状 部位 | N26: 対象 箇所 | O26: 覆工・坑門
C28: 部位 区分 | D28: 横断目地（右側） | N28: 部位 区分 | O28: 側壁（左側）
B30: 変状区分 | D30: 材質劣化 | M30: 変状区分 | O30: 漏水
B31: 変状種類 | D31: うき・はく離 | M31: 変状種類 | O31: 漏水
B32: 健全性 | C32: 応急措置前 | E32: － | M32: 健全性 | N32: 応急措置前 | P32: －
C33: 応急措置後 | E33: Ⅲ | N33: 応急措置後 | P33: Ⅱ
B34: 変状の発生範囲の規模 | E34: 0.3m×0.1m | M34: 変状の発生範囲の規模 | P34: -
B35: 前回定期点検時の状態 | E35: うき0.4m×0.1m(Ⅰ) | M35: 前回定期点検時の状態 | P35: なし
B36: 調査方針 | E36: - | M36: 調査方針 | P36: -
B37: 対策履歴 | E37: なし | H37: 実施状況（実施日） | J37: - | M37: 対策履歴 | P37: なし | S37: 実施状況（実施日） | U37: -
B38: メモ | D38: 目地部のブロック化したうき、浸透固化材塗布、再判定 | M38: メモ | O38: ひび割れ沿いに遊離石灰を伴う漏水(Ⅱb)
C39: ※ 健全性（応急措置後）の判定区分Ⅱ～Ⅳについて添付すること。また、点検前に 実施された措置によりⅠと判定された箇所も添付すること。 | N39: ※ 変状の発生範囲の規模とは、対策を行う際に参考となる変状の長さや面積をいう。
N40: ※ 応急措置を実施しないで判定した変状の健全性は、健全性の応急措置後の欄に記入すること。
C41: ※ たたき落としを実施した場合は、実施後の写真を添付すること。 | N41: ※ 変状の発生範囲の規模は、面積・寸法を記載すること。
C42: ※ 附属物の取付状態に関する異常写真は別途、様式D-1-2でとりまとめること。 | N42: (ひび割れ幅のみmmとし、その他をm表記とする)
C43: ※ 変状数に準じてシートを追加すること。（１シートに１ページとすること。） | N43: ※ 構造用鋼材以外の異物に伴ううき・はく離については、メモ欄に異物の概要を記入すること。

Sheet 様式D-1-1(トンネル様式2P001) (41)
B2: ■定期点検記録様式 変状写真台帳 | Y2: Ⅰ
B3: フリガナ | D3: オオミズトウゲトンネル | H3: 路線名 | J3: 主要県道秋芳三隅線 | M3: 定期点検業者 | P3: 応用地質株式会社 | S3: 定期点検年月日 | U3: 44860 | Y3: Ⅱ
B4: 名 称 | D4: 大水峠トンネル | H4: 管理者名 | J4: 長門土木建築事務所 | M4: 定期点検者名 | P4: 太田 裕之 | Y4: Ⅲ
B5: 写真 番号 | C5: 覆工 スパン 番号 | D5: 49 | M5: 写真 番号 | N5: 覆工 スパン 番号 | Y5: Ⅳ
Y6: －
C7: 変状 番号 | D7: 1 | N7: 変状 番号
B9: 変状 部位 | C9: 対象 箇所 | D9: 覆工・坑門 | M9: 変状 部位 | N9: 対象 箇所
C11: 部位 区分 | D11: アーチ（右側） | N11: 部位 区分
B13: 変状区分 | D13: 材質劣化 | M13: 変状区分
B14: 変状種類 | D14: ひび割れ | M14: 変状種類
B15: 健全性 | C15: 応急措置前 | E15: － | M15: 健全性 | N15: 応急措置前
C16: 応急措置後 | E16: Ⅱ | N16: 応急措置後
B17: 変状の発生範囲の規模 | E17: 3.7m×1.1m | M17: 変状の発生範囲の規模
B18: 前回定期点検時の状態 | E18: ひび割れ0.8m×0.8m他(Ⅰ) | M18: 前回定期点検時の状態
B19: 調査方針 | E19: - | M19: 調査方針
B20: 対策履歴 | E20: なし | H20: 実施状況（実施日） | J20: - | M20: 対策履歴 | S20: 実施状況（実施日）
B21: メモ | D21: 目地沿いに幅0.3mmの半月状ひび割れ(Ⅱb)、打音異常なし、再判定 | M21: メモ
B22: 写真 番号 | C22: 覆工 スパン 番号 | M22: 写真 番号 | N22: 覆工 スパン 番号
C24: 変状 番号 | N24: 変状 番号
B26: 変状 部位 | C26: 対象 箇所 | M26: 変状 部位 | N26: 対象 箇所
C28: 部位 区分 | N28: 部位 区分
B30: 変状区分 | M30: 変状区分
B31: 変状種類 | M31: 変状種類
B32: 健全性 | C32: 応急措置前 | M32: 健全性 | N32: 応急措置前
C33: 応急措置後 | N33: 応急措置後
B34: 変状の発生範囲の規模 | M34: 変状の発生範囲の規模
B35: 前回定期点検時の状態 | M35: 前回定期点検時の状態
B36: 調査方針 | M36: 調査方針
B37: 対策履歴 | H37: 実施状況（実施日） | M37: 対策履歴 | S37: 実施状況（実施日）
B38: メモ | M38: メモ
C39: ※ 健全性（応急措置後）の判定区分Ⅱ～Ⅳについて添付すること。また、点検前に 実施された措置によりⅠと判定された箇所も添付すること。 | N39: ※ 変状の発生範囲の規模とは、対策を行う際に参考となる変状の長さや面積をいう。
N40: ※ 応急措置を実施しないで判定した変状の健全性は、健全性の応急措置後の欄に記入すること。
C41: ※ たたき落としを実施した場合は、実施後の写真を添付すること。 | N41: ※ 変状の発生範囲の規模は、面積・寸法を記載すること。
C42: ※ 附属物の取付状態に関する異常写真は別途、様式D-1-2でとりまとめること。 | N42: (ひび割れ幅のみmmとし、その他をm表記とする)
C43: ※ 変状数に準じてシートを追加すること。（１シートに１ページとすること。） | N43: ※ 構造用鋼材以外の異物に伴ううき・はく離については、メモ欄に異物の概要を記入すること。

Sheet 様式D-1-1(トンネル様式2P001) (42)
B2: ■定期点検記録様式 変状写真台帳 | Y2: Ⅰ
B3: フリガナ | D3: オオミズトウゲトンネル | H3: 路線名 | J3: 主要県道秋芳三隅線 | M3: 定期点検業者 | P3: 応用地質株式会社 | S3: 定期点検年月日 | U3: 44860 | Y3: Ⅱ
B4: 名 称 | D4: 大水峠トンネル | H4: 管理者名 | J4: 長門土木建築事務所 | M4: 定期点検者名 | P4: 太田 裕之 | Y4: Ⅲ
B5: 写真 番号 | C5: 覆工 スパン 番号 | D5: 50 | M5: 写真 番号 | N5: 覆工 スパン 番号 | O5: 50 | Y5: Ⅳ
Y6: －
C7: 変状 番号 | D7: 1 | N7: 変状 番号 | O7: 2
B9: 変状 部位 | C9: 対象 箇所 | D9: 覆工・坑門 | M9: 変状 部位 | N9: 対象 箇所 | O9: 覆工・坑門
C11: 部位 区分 | D11: アーチ（天端） | N11: 部位 区分 | O11: 側壁（右側）
B13: 変状区分 | D13: 材質劣化 | M13: 変状区分 | O13: 材質劣化
B14: 変状種類 | D14: うき・はく離 | M14: 変状種類 | O14: 鋼材腐食
B15: 健全性 | C15: 応急措置前 | E15: － | M15: 健全性 | N15: 応急措置前 | P15: －
C16: 応急措置後 | E16: Ⅰ | N16: 応急措置後 | P16: Ⅱ
B17: 変状の発生範囲の規模 | E17: 0.4m×0.3m | M17: 変状の発生範囲の規模 | P17: 0.7m×0.2m
B18: 前回定期点検時の状態 | E18: うき0.4m×0.3m(Ⅰ) | M18: 前回定期点検時の状態 | P18: 同程度
B19: 調査方針 | E19: - | M19: 調査方針 | P19: -
B20: 対策履歴 | E20: はく落防止工(FRPネット) | H20: 実施状況（実施日） | J20: - | M20: 対策履歴 | P20: なし | S20: 実施状況（実施日） | U20: -
B21: メモ | D21: - | M21: メモ | O21: 鋼材露出(深さ50mm)(Ⅱb)、部分的に露出した鋼材(表面的な腐食)に防錆剤塗布
B22: 写真 番号 | C22: 覆工 スパン 番号 | D22: 50 | M22: 写真 番号 | N22: 覆工 スパン 番号
C24: 変状 番号 | D24: 3 | N24: 変状 番号
B26: 変状 部位 | C26: 対象 箇所 | D26: 覆工・坑門 | M26: 変状 部位 | N26: 対象 箇所
C28: 部位 区分 | D28: 側壁（左側） | N28: 部位 区分
B30: 変状区分 | D30: 外力 | M30: 変状区分
B31: 変状種類 | D31: ひび割れ | M31: 変状種類
B32: 健全性 | C32: 応急措置前 | E32: － | M32: 健全性 | N32: 応急措置前
C33: 応急措置後 | E33: Ⅱ | N33: 応急措置後
B34: 変状の発生範囲の規模 | E34: 5.9m×0.2mm他 | M34: 変状の発生範囲の規模
B35: 前回定期点検時の状態 | E35: ひび割れ4.8m×0.1mm他(Ⅰ) | M35: 前回定期点検時の状態
B36: 調査方針 | E36: - | M36: 調査方針
B37: 対策履歴 | E37: なし | H37: 実施状況（実施日） | J37: - | M37: 対策履歴 | S37: 実施状況（実施日）
B38: メモ | D38: 縦横断方向に遊離石灰・漏水を伴うひび割れ(Ⅱb)、再判定 | M38: メモ
C39: ※ 健全性（応急措置後）の判定区分Ⅱ～Ⅳについて添付すること。また、点検前に 実施された措置によりⅠと判定された箇所も添付すること。 | N39: ※ 変状の発生範囲の規模とは、対策を行う際に参考となる変状の長さや面積をいう。
N40: ※ 応急措置を実施しないで判定した変状の健全性は、健全性の応急措置後の欄に記入すること。
C41: ※ たたき落としを実施した場合は、実施後の写真を添付すること。 | N41: ※ 変状の発生範囲の規模は、面積・寸法を記載すること。
C42: ※ 附属物の取付状態に関する異常写真は別途、様式D-1-2でとりまとめること。 | N42: (ひび割れ幅のみmmとし、その他をm表記とする)
C43: ※ 変状数に準じてシートを追加すること。（１シートに１ページとすること。） | N43: ※ 構造用鋼材以外の異物に伴ううき・はく離については、メモ欄に異物の概要を記入すること。

Sheet 様式D-1-1(トンネル様式2P001) (43)
B2: ■定期点検記録様式 変状写真台帳 | Y2: Ⅰ
B3: フリガナ | D3: オオミズトウゲトンネル | H3: 路線名 | J3: 主要県道秋芳三隅線 | M3: 定期点検業者 | P3: 応用地質株式会社 | S3: 定期点検年月日 | U3: 44860 | Y3: Ⅱ
B4: 名 称 | D4: 大水峠トンネル | H4: 管理者名 | J4: 長門土木建築事務所 | M4: 定期点検者名 | P4: 太田 裕之 | Y4: Ⅲ
B5: 写真 番号 | C5: 覆工 スパン 番号 | D5: 51 | M5: 写真 番号 | N5: 覆工 スパン 番号 | O5: 51 | Y5: Ⅳ
Y6: －
C7: 変状 番号 | D7: 1 | N7: 変状 番号 | O7: 2
B9: 変状 部位 | C9: 対象 箇所 | D9: 覆工・坑門 | M9: 変状 部位 | N9: 対象 箇所 | O9: 覆工・坑門
C11: 部位 区分 | D11: アーチ（左側） | N11: 部位 区分 | O11: アーチ（天端）
B13: 変状区分 | D13: 材質劣化 | M13: 変状区分 | O13: 材質劣化
B14: 変状種類 | D14: 鋼材腐食 | M14: 変状種類 | O14: その他
B15: 健全性 | C15: 応急措置前 | E15: － | M15: 健全性 | N15: 応急措置前 | P15: －
C16: 応急措置後 | E16: Ⅱ | N16: 応急措置後 | P16: Ⅱ
B17: 変状の発生範囲の規模 | E17: 0.1m×0.1m | M17: 変状の発生範囲の規模 | P17: 0.6m×0.7m
B18: 前回定期点検時の状態 | E18: なし | M18: 前回定期点検時の状態 | P18: 打音異常0.6m×0.7m(Ⅰ)
B19: 調査方針 | E19: - | M19: 調査方針 | P19: -
B20: 対策履歴 | E20: なし | H20: 実施状況（実施日） | J20: - | M20: 対策履歴 | P20: なし | S20: 実施状況（実施日） | U20: -
B21: メモ | D21: 鋼材腐食(Ⅱb)、防錆剤塗布 | M21: メモ | O21: 打音異常(濁音)(Ⅱb)、遊離石灰を伴うひび割れあり(幅0.1mm)、再判定
B22: 写真 番号 | C22: 覆工 スパン 番号 | M22: 写真 番号 | N22: 覆工 スパン 番号
C24: 変状 番号 | N24: 変状 番号
B26: 変状 部位 | C26: 対象 箇所 | M26: 変状 部位 | N26: 対象 箇所
C28: 部位 区分 | N28: 部位 区分
B30: 変状区分 | M30: 変状区分
B31: 変状種類 | M31: 変状種類
B32: 健全性 | C32: 応急措置前 | M32: 健全性 | N32: 応急措置前
C33: 応急措置後 | N33: 応急措置後
B34: 変状の発生範囲の規模 | M34: 変状の発生範囲の規模
B35: 前回定期点検時の状態 | M35: 前回定期点検時の状態
B36: 調査方針 | M36: 調査方針
B37: 対策履歴 | H37: 実施状況（実施日） | M37: 対策履歴 | S37: 実施状況（実施日）
B38: メモ | M38: メモ
C39: ※ 健全性（応急措置後）の判定区分Ⅱ～Ⅳについて添付すること。また、点検前に 実施された措置によりⅠと判定された箇所も添付すること。 | N39: ※ 変状の発生範囲の規模とは、対策を行う際に参考となる変状の長さや面積をいう。
N40: ※ 応急措置を実施しないで判定した変状の健全性は、健全性の応急措置後の欄に記入すること。
C41: ※ たたき落としを実施した場合は、実施後の写真を添付すること。 | N41: ※ 変状の発生範囲の規模は、面積・寸法を記載すること。
C42: ※ 附属物の取付状態に関する異常写真は別途、様式D-1-2でとりまとめること。 | N42: (ひび割れ幅のみmmとし、その他をm表記とする)
C43: ※ 変状数に準じてシートを追加すること。（１シートに１ページとすること。） | N43: ※ 構造用鋼材以外の異物に伴ううき・はく離については、メモ欄に異物の概要を記入すること。

Sheet 様式D-1-1(トンネル様式2P001) (44)
B2: ■定期点検記録様式 変状写真台帳 | Y2: Ⅰ
B3: フリガナ | D3: オオミズトウゲトンネル | H3: 路線名 | J3: 主要県道秋芳三隅線 | M3: 定期点検業者 | P3: 応用地質株式会社 | S3: 定期点検年月日 | U3: 44860 | Y3: Ⅱ
B4: 名 称 | D4: 大水峠トンネル | H4: 管理者名 | J4: 長門土木建築事務所 | M4: 定期点検者名 | P4: 太田 裕之 | Y4: Ⅲ
B5: 写真 番号 | C5: 覆工 スパン 番号 | D5: 52 | M5: 写真 番号 | N5: 覆工 スパン 番号 | O5: 52 | Y5: Ⅳ
Y6: －
C7: 変状 番号 | D7: 1 | N7: 変状 番号 | O7: 2
B9: 変状 部位 | C9: 対象 箇所 | D9: 覆工・坑門 | M9: 変状 部位 | N9: 対象 箇所 | O9: 覆工・坑門
C11: 部位 区分 | D11: 横断目地（左側） | N11: 部位 区分 | O11: 横断目地（左側）
B13: 変状区分 | D13: 材質劣化 | M13: 変状区分 | O13: 材質劣化
B14: 変状種類 | D14: うき・はく離 | M14: 変状種類 | O14: うき・はく離
B15: 健全性 | C15: 応急措置前 | E15: Ⅱ | M15: 健全性 | N15: 応急措置前 | P15: Ⅱ
C16: 応急措置後 | E16: Ⅰ | N16: 応急措置後 | P16: Ⅰ
B17: 変状の発生範囲の規模 | E17: 0.4m×0.1m | M17: 変状の発生範囲の規模 | P17: 0.6m×0.1m
B18: 前回定期点検時の状態 | E18: うき0.05m×0.05m(Ⅱa) | M18: 前回定期点検時の状態 | P18: うき0.4m×0.05m(Ⅱa)
B19: 調査方針 | E19: - | M19: 調査方針 | P19: -
B20: 対策履歴 | E20: なし | H20: 実施状況（実施日） | J20: - | M20: 対策履歴 | P20: なし | S20: 実施状況（実施日） | U20: -
B21: メモ | D21: 目地部のうき(Ⅱa→Ⅰ)、今回点検時に叩き落とし実施(深さ50mm)、浸透固化材塗布 | M21: メモ | O21: 目地部のうき(Ⅱa→Ⅰ)、今回点検時に叩き落とし実施(深さ50mm)、浸透固化材塗布
B22: 写真 番号 | C22: 覆工 スパン 番号 | D22: 52 | M22: 写真 番号 | N22: 覆工 スパン 番号
C24: 変状 番号 | D24: 3 | N24: 変状 番号
B26: 変状 部位 | C26: 対象 箇所 | D26: 覆工・坑門 | M26: 変状 部位 | N26: 対象 箇所
C28: 部位 区分 | D28: 横断目地（天端） | N28: 部位 区分
B30: 変状区分 | D30: 材質劣化 | M30: 変状区分
B31: 変状種類 | D31: うき・はく離 | M31: 変状種類
B32: 健全性 | C32: 応急措置前 | E32: － | M32: 健全性 | N32: 応急措置前
C33: 応急措置後 | E33: Ⅱ | N33: 応急措置後
B34: 変状の発生範囲の規模 | E34: 0.8m×0.3m | M34: 変状の発生範囲の規模
B35: 前回定期点検時の状態 | E35: 同程度 | M35: 前回定期点検時の状態
B36: 調査方針 | E36: - | M36: 調査方針
B37: 対策履歴 | E37: なし | H37: 実施状況（実施日） | J37: - | M37: 対策履歴 | S37: 実施状況（実施日）
B38: メモ | D38: 目地沿いにブロック化したうき(Ⅱa) | M38: メモ
C39: ※ 健全性（応急措置後）の判定区分Ⅱ～Ⅳについて添付すること。また、点検前に 実施された措置によりⅠと判定された箇所も添付すること。 | N39: ※ 変状の発生範囲の規模とは、対策を行う際に参考となる変状の長さや面積をいう。
N40: ※ 応急措置を実施しないで判定した変状の健全性は、健全性の応急措置後の欄に記入すること。
C41: ※ たたき落としを実施した場合は、実施後の写真を添付すること。 | N41: ※ 変状の発生範囲の規模は、面積・寸法を記載すること。
C42: ※ 附属物の取付状態に関する異常写真は別途、様式D-1-2でとりまとめること。 | N42: (ひび割れ幅のみmmとし、その他をm表記とする)
C43: ※ 変状数に準じてシートを追加すること。（１シートに１ページとすること。） | N43: ※ 構造用鋼材以外の異物に伴ううき・はく離については、メモ欄に異物の概要を記入すること。

Sheet 様式D-1-1(トンネル様式2P001) (45)
B2: ■定期点検記録様式 変状写真台帳 | Y2: Ⅰ
B3: フリガナ | D3: オオミズトウゲトンネル | H3: 路線名 | J3: 主要県道秋芳三隅線 | M3: 定期点検業者 | P3: 応用地質株式会社 | S3: 定期点検年月日 | U3: 44860 | Y3: Ⅱ
B4: 名 称 | D4: 大水峠トンネル | H4: 管理者名 | J4: 長門土木建築事務所 | M4: 定期点検者名 | P4: 太田 裕之 | Y4: Ⅲ
B5: 写真 番号 | C5: 覆工 スパン 番号 | D5: 53 | M5: 写真 番号 | N5: 覆工 スパン 番号 | O5: 53 | Y5: Ⅳ
Y6: －
C7: 変状 番号 | D7: 1 | N7: 変状 番号 | O7: 2
B9: 変状 部位 | C9: 対象 箇所 | D9: 覆工・坑門 | M9: 変状 部位 | N9: 対象 箇所 | O9: 覆工・坑門
C11: 部位 区分 | D11: 横断目地（左側） | N11: 部位 区分 | O11: 横断目地（左側）
B13: 変状区分 | D13: 材質劣化 | M13: 変状区分 | O13: 材質劣化
B14: 変状種類 | D14: うき・はく離 | M14: 変状種類 | O14: うき・はく離
B15: 健全性 | C15: 応急措置前 | E15: Ⅱ | M15: 健全性 | N15: 応急措置前 | P15: Ⅱ
C16: 応急措置後 | E16: Ⅰ | N16: 応急措置後 | P16: Ⅰ
B17: 変状の発生範囲の規模 | E17: 0.6m×0.05m | M17: 変状の発生範囲の規模 | P17: 0.1m×0.05m
B18: 前回定期点検時の状態 | E18: うき0.6m×0.05m(Ⅱa) | M18: 前回定期点検時の状態 | P18: うき0.1m×0.05m(Ⅱa)
B19: 調査方針 | E19: - | M19: 調査方針 | P19: -
B20: 対策履歴 | E20: なし | H20: 実施状況（実施日） | J20: - | M20: 対策履歴 | P20: なし | S20: 実施状況（実施日） | U20: -
B21: メモ | D21: 目地部のうき(Ⅱa→Ⅰ)、今回点検時に叩き落とし実施(深さ50mm)、浸透固化材塗布 | M21: メモ | O21: 目地部のうき(Ⅱa→Ⅰ)、今回点検時に叩き落とし実施(深さ100mm)、浸透固化材塗布
B22: 写真 番号 | C22: 覆工 スパン 番号 | D22: 53 | M22: 写真 番号 | N22: 覆工 スパン 番号
C24: 変状 番号 | D24: 3 | N24: 変状 番号
B26: 変状 部位 | C26: 対象 箇所 | D26: 覆工・坑門 | M26: 変状 部位 | N26: 対象 箇所
C28: 部位 区分 | D28: 横断目地（左側） | N28: 部位 区分
B30: 変状区分 | D30: 漏水 | M30: 変状区分
B31: 変状種類 | D31: 漏水 | M31: 変状種類
B32: 健全性 | C32: 応急措置前 | E32: － | M32: 健全性 | N32: 応急措置前
C33: 応急措置後 | E33: Ⅱ | N33: 応急措置後
B34: 変状の発生範囲の規模 | E34: - | M34: 変状の発生範囲の規模
B35: 前回定期点検時の状態 | E35: 路面の漏水・帯水(Ⅱa) | M35: 前回定期点検時の状態
B36: 調査方針 | E36: - | M36: 調査方針
B37: 対策履歴 | E37: なし | H37: 実施状況（実施日） | J37: - | M37: 対策履歴 | S37: 実施状況（実施日）
B38: メモ | D38: 目地部の遊離石灰を伴う漏水(Ⅱb)、今回点検時路面に滞水なし、再判定 | M38: メモ
C39: ※ 健全性（応急措置後）の判定区分Ⅱ～Ⅳについて添付すること。また、点検前に 実施された措置によりⅠと判定された箇所も添付すること。 | N39: ※ 変状の発生範囲の規模とは、対策を行う際に参考となる変状の長さや面積をいう。
N40: ※ 応急措置を実施しないで判定した変状の健全性は、健全性の応急措置後の欄に記入すること。
C41: ※ たたき落としを実施した場合は、実施後の写真を添付すること。 | N41: ※ 変状の発生範囲の規模は、面積・寸法を記載すること。
C42: ※ 附属物の取付状態に関する異常写真は別途、様式D-1-2でとりまとめること。 | N42: (ひび割れ幅のみmmとし、その他をm表記とする)
C43: ※ 変状数に準じてシートを追加すること。（１シートに１ページとすること。） | N43: ※ 構造用鋼材以外の異物に伴ううき・はく離については、メモ欄に異物の概要を記入すること。

Sheet 様式D-1-1(トンネル様式2P001) (46)
B2: ■定期点検記録様式 変状写真台帳 | Y2: Ⅰ
B3: フリガナ | D3: オオミズトウゲトンネル | H3: 路線名 | J3: 主要県道秋芳三隅線 | M3: 定期点検業者 | P3: 応用地質株式会社 | S3: 定期点検年月日 | U3: 44860 | Y3: Ⅱ
B4: 名 称 | D4: 大水峠トンネル | H4: 管理者名 | J4: 長門土木建築事務所 | M4: 定期点検者名 | P4: 太田 裕之 | Y4: Ⅲ
B5: 写真 番号 | C5: 覆工 スパン 番号 | D5: 54 | M5: 写真 番号 | N5: 覆工 スパン 番号 | Y5: Ⅳ
Y6: －
C7: 変状 番号 | D7: 1 | N7: 変状 番号
B9: 変状 部位 | C9: 対象 箇所 | D9: 覆工・坑門 | M9: 変状 部位 | N9: 対象 箇所
C11: 部位 区分 | D11: 横断目地（左側） | N11: 部位 区分
B13: 変状区分 | D13: 材質劣化 | M13: 変状区分
B14: 変状種類 | D14: うき・はく離 | M14: 変状種類
B15: 健全性 | C15: 応急措置前 | E15: － | M15: 健全性 | N15: 応急措置前
C16: 応急措置後 | E16: Ⅱ | N16: 応急措置後
B17: 変状の発生範囲の規模 | E17: 0.2m×0.1m | M17: 変状の発生範囲の規模
B18: 前回定期点検時の状態 | E18: 同程度 | M18: 前回定期点検時の状態
B19: 調査方針 | E19: - | M19: 調査方針
B20: 対策履歴 | E20: なし | H20: 実施状況（実施日） | J20: - | M20: 対策履歴 | S20: 実施状況（実施日）
B21: メモ | D21: 目地部のブロック化したうき(Ⅱa) | M21: メモ
B22: 写真 番号 | C22: 覆工 スパン 番号 | M22: 写真 番号 | N22: 覆工 スパン 番号
C24: 変状 番号 | N24: 変状 番号
B26: 変状 部位 | C26: 対象 箇所 | M26: 変状 部位 | N26: 対象 箇所
C28: 部位 区分 | N28: 部位 区分
B30: 変状区分 | M30: 変状区分
B31: 変状種類 | M31: 変状種類
B32: 健全性 | C32: 応急措置前 | M32: 健全性 | N32: 応急措置前
C33: 応急措置後 | N33: 応急措置後
B34: 変状の発生範囲の規模 | M34: 変状の発生範囲の規模
B35: 前回定期点検時の状態 | M35: 前回定期点検時の状態
B36: 調査方針 | M36: 調査方針
B37: 対策履歴 | H37: 実施状況（実施日） | M37: 対策履歴 | S37: 実施状況（実施日）
B38: メモ | M38: メモ
C39: ※ 健全性（応急措置後）の判定区分Ⅱ～Ⅳについて添付すること。また、点検前に 実施された措置によりⅠと判定された箇所も添付すること。 | N39: ※ 変状の発生範囲の規模とは、対策を行う際に参考となる変状の長さや面積をいう。
N40: ※ 応急措置を実施しないで判定した変状の健全性は、健全性の応急措置後の欄に記入すること。
C41: ※ たたき落としを実施した場合は、実施後の写真を添付すること。 | N41: ※ 変状の発生範囲の規模は、面積・寸法を記載すること。
C42: ※ 附属物の取付状態に関する異常写真は別途、様式D-1-2でとりまとめること。 | N42: (ひび割れ幅のみmmとし、その他をm表記とする)
C43: ※ 変状数に準じてシートを追加すること。（１シートに１ページとすること。） | N43: ※ 構造用鋼材以外の異物に伴ううき・はく離については、メモ欄に異物の概要を記入すること。

Sheet 様式D-1-1(トンネル様式2P001) (47)
B2: ■定期点検記録様式 変状写真台帳 | Y2: Ⅰ
B3: フリガナ | D3: オオミズトウゲトンネル | H3: 路線名 | J3: 主要県道秋芳三隅線 | M3: 定期点検業者 | P3: 応用地質株式会社 | S3: 定期点検年月日 | U3: 44860 | Y3: Ⅱ
B4: 名 称 | D4: 大水峠トンネル | H4: 管理者名 | J4: 長門土木建築事務所 | M4: 定期点検者名 | P4: 太田 裕之 | Y4: Ⅲ
B5: 写真 番号 | C5: 覆工 スパン 番号 | D5: 56 | M5: 写真 番号 | N5: 覆工 スパン 番号 | Y5: Ⅳ
Y6: －
C7: 変状 番号 | D7: 1 | N7: 変状 番号
B9: 変状 部位 | C9: 対象 箇所 | D9: 覆工・坑門 | M9: 変状 部位 | N9: 対象 箇所
C11: 部位 区分 | D11: 横断目地（右側） | N11: 部位 区分
B13: 変状区分 | D13: 材質劣化 | M13: 変状区分
B14: 変状種類 | D14: うき・はく離 | M14: 変状種類
B15: 健全性 | C15: 応急措置前 | E15: － | M15: 健全性 | N15: 応急措置前
C16: 応急措置後 | E16: Ⅱ | N16: 応急措置後
B17: 変状の発生範囲の規模 | E17: 2.2m×0.05m | M17: 変状の発生範囲の規模
B18: 前回定期点検時の状態 | E18: なし | M18: 前回定期点検時の状態
B19: 調査方針 | E19: - | M19: 調査方針
B20: 対策履歴 | E20: なし | H20: 実施状況（実施日） | J20: - | M20: 対策履歴 | S20: 実施状況（実施日）
B21: メモ | D21: 目地沿いの豆板(Ⅱb)、浸透固化材塗布 | M21: メモ
B22: 写真 番号 | C22: 覆工 スパン 番号 | M22: 写真 番号 | N22: 覆工 スパン 番号
C24: 変状 番号 | N24: 変状 番号
B26: 変状 部位 | C26: 対象 箇所 | M26: 変状 部位 | N26: 対象 箇所
C28: 部位 区分 | N28: 部位 区分
B30: 変状区分 | M30: 変状区分
B31: 変状種類 | M31: 変状種類
B32: 健全性 | C32: 応急措置前 | M32: 健全性 | N32: 応急措置前
C33: 応急措置後 | N33: 応急措置後
B34: 変状の発生範囲の規模 | M34: 変状の発生範囲の規模
B35: 前回定期点検時の状態 | M35: 前回定期点検時の状態
B36: 調査方針 | M36: 調査方針
B37: 対策履歴 | H37: 実施状況（実施日） | M37: 対策履歴 | S37: 実施状況（実施日）
B38: メモ | M38: メモ
C39: ※ 健全性（応急措置後）の判定区分Ⅱ～Ⅳについて添付すること。また、点検前に 実施された措置によりⅠと判定された箇所も添付すること。 | N39: ※ 変状の発生範囲の規模とは、対策を行う際に参考となる変状の長さや面積をいう。
N40: ※ 応急措置を実施しないで判定した変状の健全性は、健全性の応急措置後の欄に記入すること。
C41: ※ たたき落としを実施した場合は、実施後の写真を添付すること。 | N41: ※ 変状の発生範囲の規模は、面積・寸法を記載すること。
C42: ※ 附属物の取付状態に関する異常写真は別途、様式D-1-2でとりまとめること。 | N42: (ひび割れ幅のみmmとし、その他をm表記とする)
C43: ※ 変状数に準じてシートを追加すること。（１シートに１ページとすること。） | N43: ※ 構造用鋼材以外の異物に伴ううき・はく離については、メモ欄に異物の概要を記入すること。

Sheet 様式D-1-1(トンネル様式2P001) (48)
B2: ■定期点検記録様式 変状写真台帳 | Y2: Ⅰ
B3: フリガナ | D3: オオミズトウゲトンネル | H3: 路線名 | J3: 主要県道秋芳三隅線 | M3: 定期点検業者 | P3: 応用地質株式会社 | S3: 定期点検年月日 | U3: 44860 | Y3: Ⅱ
B4: 名 称 | D4: 大水峠トンネル | H4: 管理者名 | J4: 長門土木建築事務所 | M4: 定期点検者名 | P4: 太田 裕之 | Y4: Ⅲ
B5: 写真 番号 | C5: 覆工 スパン 番号 | D5: 57 | M5: 写真 番号 | N5: 覆工 スパン 番号 | O5: 57 | Y5: Ⅳ
Y6: －
C7: 変状 番号 | D7: 1 | N7: 変状 番号 | O7: 2
B9: 変状 部位 | C9: 対象 箇所 | D9: 覆工・坑門 | M9: 変状 部位 | N9: 対象 箇所 | O9: 覆工・坑門
C11: 部位 区分 | D11: 側壁（右側） | N11: 部位 区分 | O11: アーチ（天端）
B13: 変状区分 | D13: 材質劣化 | M13: 変状区分 | O13: 材質劣化
B14: 変状種類 | D14: 鋼材腐食 | M14: 変状種類 | O14: 鋼材腐食
B15: 健全性 | C15: 応急措置前 | E15: － | M15: 健全性 | N15: 応急措置前 | P15: －
C16: 応急措置後 | E16: Ⅱ | N16: 応急措置後 | P16: Ⅱ
B17: 変状の発生範囲の規模 | E17: 0.05m×0.1m | M17: 変状の発生範囲の規模 | P17: 0.1m×0.1m
B18: 前回定期点検時の状態 | E18: 同程度 | M18: 前回定期点検時の状態 | P18: 同程度
B19: 調査方針 | E19: - | M19: 調査方針 | P19: -
B20: 対策履歴 | E20: なし | H20: 実施状況（実施日） | J20: - | M20: 対策履歴 | P20: なし | S20: 実施状況（実施日） | U20: -
B21: メモ | D21: 鋼材露出(深さ50mm)(Ⅱb)、部分的に露出した鋼材(表面的な腐食)に防錆剤塗布 | M21: メモ | O21: 鋼材腐食(Ⅱb)、防錆剤塗布
B22: 写真 番号 | C22: 覆工 スパン 番号 | M22: 写真 番号 | N22: 覆工 スパン 番号
C24: 変状 番号 | N24: 変状 番号
B26: 変状 部位 | C26: 対象 箇所 | M26: 変状 部位 | N26: 対象 箇所
C28: 部位 区分 | N28: 部位 区分
B30: 変状区分 | M30: 変状区分
B31: 変状種類 | M31: 変状種類
B32: 健全性 | C32: 応急措置前 | M32: 健全性 | N32: 応急措置前
C33: 応急措置後 | N33: 応急措置後
B34: 変状の発生範囲の規模 | M34: 変状の発生範囲の規模
B35: 前回定期点検時の状態 | M35: 前回定期点検時の状態
B36: 調査方針 | M36: 調査方針
B37: 対策履歴 | H37: 実施状況（実施日） | M37: 対策履歴 | S37: 実施状況（実施日）
B38: メモ | M38: メモ
C39: ※ 健全性（応急措置後）の判定区分Ⅱ～Ⅳについて添付すること。また、点検前に 実施された措置によりⅠと判定された箇所も添付すること。 | N39: ※ 変状の発生範囲の規模とは、対策を行う際に参考となる変状の長さや面積をいう。
N40: ※ 応急措置を実施しないで判定した変状の健全性は、健全性の応急措置後の欄に記入すること。
C41: ※ たたき落としを実施した場合は、実施後の写真を添付すること。 | N41: ※ 変状の発生範囲の規模は、面積・寸法を記載すること。
C42: ※ 附属物の取付状態に関する異常写真は別途、様式D-1-2でとりまとめること。 | N42: (ひび割れ幅のみmmとし、その他をm表記とする)
C43: ※ 変状数に準じてシートを追加すること。（１シートに１ページとすること。） | N43: ※ 構造用鋼材以外の異物に伴ううき・はく離については、メモ欄に異物の概要を記入すること。

Sheet 様式D-1-1(トンネル様式2P001) (49)
B2: ■定期点検記録様式 変状写真台帳 | Y2: Ⅰ
B3: フリガナ | D3: オオミズトウゲトンネル | H3: 路線名 | J3: 主要県道秋芳三隅線 | M3: 定期点検業者 | P3: 応用地質株式会社 | S3: 定期点検年月日 | U3: 44860 | Y3: Ⅱ
B4: 名 称 | D4: 大水峠トンネル | H4: 管理者名 | J4: 長門土木建築事務所 | M4: 定期点検者名 | P4: 太田 裕之 | Y4: Ⅲ
B5: 写真 番号 | C5: 覆工 スパン 番号 | D5: 59 | M5: 写真 番号 | N5: 覆工 スパン 番号 | O5: 59 | Y5: Ⅳ
Y6: －
C7: 変状 番号 | D7: 1 | N7: 変状 番号 | O7: 2
B9: 変状 部位 | C9: 対象 箇所 | D9: 覆工・坑門 | M9: 変状 部位 | N9: 対象 箇所 | O9: 覆工・坑門
C11: 部位 区分 | D11: 横断目地（右側） | N11: 部位 区分 | O11: 横断目地（左側）
B13: 変状区分 | D13: 漏水 | M13: 変状区分 | O13: 漏水
B14: 変状種類 | D14: 漏水 | M14: 変状種類 | O14: 漏水
B15: 健全性 | C15: 応急措置前 | E15: － | M15: 健全性 | N15: 応急措置前 | P15: －
C16: 応急措置後 | E16: Ⅱ | N16: 応急措置後 | P16: Ⅱ
B17: 変状の発生範囲の規模 | E17: - | M17: 変状の発生範囲の規模 | P17: -
B18: 前回定期点検時の状態 | E18: 同程度 | M18: 前回定期点検時の状態 | P18: なし
B19: 調査方針 | E19: - | M19: 調査方針 | P19: -
B20: 対策履歴 | E20: なし | H20: 実施状況（実施日） | J20: - | M20: 対策履歴 | P20: なし | S20: 実施状況（実施日） | U20: -
B21: メモ | D21: 目地部の漏水(Ⅱb)、今回点検時路面に滞水なし | M21: メモ | O21: 目地部の漏水(Ⅱb)
B22: 写真 番号 | C22: 覆工 スパン 番号 | M22: 写真 番号 | N22: 覆工 スパン 番号
C24: 変状 番号 | N24: 変状 番号
B26: 変状 部位 | C26: 対象 箇所 | M26: 変状 部位 | N26: 対象 箇所
C28: 部位 区分 | N28: 部位 区分
B30: 変状区分 | M30: 変状区分
B31: 変状種類 | M31: 変状種類
B32: 健全性 | C32: 応急措置前 | M32: 健全性 | N32: 応急措置前
C33: 応急措置後 | N33: 応急措置後
B34: 変状の発生範囲の規模 | M34: 変状の発生範囲の規模
B35: 前回定期点検時の状態 | M35: 前回定期点検時の状態
B36: 調査方針 | M36: 調査方針
B37: 対策履歴 | H37: 実施状況（実施日） | M37: 対策履歴 | S37: 実施状況（実施日）
B38: メモ | M38: メモ
C39: ※ 健全性（応急措置後）の判定区分Ⅱ～Ⅳについて添付すること。また、点検前に 実施された措置によりⅠと判定された箇所も添付すること。 | N39: ※ 変状の発生範囲の規模とは、対策を行う際に参考となる変状の長さや面積をいう。
N40: ※ 応急措置を実施しないで判定した変状の健全性は、健全性の応急措置後の欄に記入すること。
C41: ※ たたき落としを実施した場合は、実施後の写真を添付すること。 | N41: ※ 変状の発生範囲の規模は、面積・寸法を記載すること。
C42: ※ 附属物の取付状態に関する異常写真は別途、様式D-1-2でとりまとめること。 | N42: (ひび割れ幅のみmmとし、その他をm表記とする)
C43: ※ 変状数に準じてシートを追加すること。（１シートに１ページとすること。） | N43: ※ 構造用鋼材以外の異物に伴ううき・はく離については、メモ欄に異物の概要を記入すること。

Sheet 様式D-1-1(トンネル様式2P001) (50)
B2: ■定期点検記録様式 変状写真台帳 | Y2: Ⅰ
B3: フリガナ | D3: オオミズトウゲトンネル | H3: 路線名 | J3: 主要県道秋芳三隅線 | M3: 定期点検業者 | P3: 応用地質株式会社 | S3: 定期点検年月日 | U3: 44860 | Y3: Ⅱ
B4: 名 称 | D4: 大水峠トンネル | H4: 管理者名 | J4: 長門土木建築事務所 | M4: 定期点検者名 | P4: 太田 裕之 | Y4: Ⅲ
B5: 写真 番号 | C5: 覆工 スパン 番号 | D5: 60 | M5: 写真 番号 | N5: 覆工 スパン 番号 | O5: 60 | Y5: Ⅳ
Y6: －
C7: 変状 番号 | D7: 1 | N7: 変状 番号 | O7: 2
B9: 変状 部位 | C9: 対象 箇所 | D9: 覆工・坑門 | M9: 変状 部位 | N9: 対象 箇所 | O9: 覆工・坑門
C11: 部位 区分 | D11: 横断目地（左側） | N11: 部位 区分 | O11: 側壁（左側）
B13: 変状区分 | D13: 漏水 | M13: 変状区分 | O13: 外力
B14: 変状種類 | D14: 漏水 | M14: 変状種類 | O14: ひび割れ
B15: 健全性 | C15: 応急措置前 | E15: － | M15: 健全性 | N15: 応急措置前 | P15: －
C16: 応急措置後 | E16: Ⅱ | N16: 応急措置後 | P16: Ⅱ
B17: 変状の発生範囲の規模 | E17: - | M17: 変状の発生範囲の規模 | P17: 3.0m×0.4mm他
B18: 前回定期点検時の状態 | E18: 路面の漏水・帯水(Ⅱa) | M18: 前回定期点検時の状態 | P18: ひび割れ2.9m×0.2mm他(Ⅰ)
B19: 調査方針 | E19: - | M19: 調査方針 | P19: -
B20: 対策履歴 | E20: なし | H20: 実施状況（実施日） | J20: - | M20: 対策履歴 | P20: なし | S20: 実施状況（実施日） | U20: -
B21: メモ | D21: 目地部からの滲み(Ⅱb)、路面に土砂堆積あり、再判定 | M21: メモ | O21: 縦横断方向に複数のひび割れ(Ⅱb)、再判定
B22: 写真 番号 | C22: 覆工 スパン 番号 | M22: 写真 番号 | N22: 覆工 スパン 番号
C24: 変状 番号 | N24: 変状 番号
B26: 変状 部位 | C26: 対象 箇所 | M26: 変状 部位 | N26: 対象 箇所
C28: 部位 区分 | N28: 部位 区分
B30: 変状区分 | M30: 変状区分
B31: 変状種類 | M31: 変状種類
B32: 健全性 | C32: 応急措置前 | M32: 健全性 | N32: 応急措置前
C33: 応急措置後 | N33: 応急措置後
B34: 変状の発生範囲の規模 | M34: 変状の発生範囲の規模
B35: 前回定期点検時の状態 | M35: 前回定期点検時の状態
B36: 調査方針 | M36: 調査方針
B37: 対策履歴 | H37: 実施状況（実施日） | M37: 対策履歴 | S37: 実施状況（実施日）
B38: メモ | M38: メモ
C39: ※ 健全性（応急措置後）の判定区分Ⅱ～Ⅳについて添付すること。また、点検前に 実施された措置によりⅠと判定された箇所も添付すること。 | N39: ※ 変状の発生範囲の規模とは、対策を行う際に参考となる変状の長さや面積をいう。
N40: ※ 応急措置を実施しないで判定した変状の健全性は、健全性の応急措置後の欄に記入すること。
C41: ※ たたき落としを実施した場合は、実施後の写真を添付すること。 | N41: ※ 変状の発生範囲の規模は、面積・寸法を記載すること。
C42: ※ 附属物の取付状態に関する異常写真は別途、様式D-1-2でとりまとめること。 | N42: (ひび割れ幅のみmmとし、その他をm表記とする)
C43: ※ 変状数に準じてシートを追加すること。（１シートに１ページとすること。） | N43: ※ 構造用鋼材以外の異物に伴ううき・はく離については、メモ欄に異物の概要を記入すること。

Sheet 様式D-1-1(トンネル様式2P001) (51)
B2: ■定期点検記録様式 変状写真台帳 | Y2: Ⅰ
B3: フリガナ | D3: オオミズトウゲトンネル | H3: 路線名 | J3: 主要県道秋芳三隅線 | M3: 定期点検業者 | P3: 応用地質株式会社 | S3: 定期点検年月日 | U3: 44860 | Y3: Ⅱ
B4: 名 称 | D4: 大水峠トンネル | H4: 管理者名 | J4: 長門土木建築事務所 | M4: 定期点検者名 | P4: 太田 裕之 | Y4: Ⅲ
B5: 写真 番号 | C5: 覆工 スパン 番号 | D5: 62 | M5: 写真 番号 | N5: 覆工 スパン 番号 | Y5: Ⅳ
Y6: －
C7: 変状 番号 | D7: 1 | N7: 変状 番号
B9: 変状 部位 | C9: 対象 箇所 | D9: 覆工・坑門 | M9: 変状 部位 | N9: 対象 箇所
C11: 部位 区分 | D11: 横断目地（天端） | N11: 部位 区分
B13: 変状区分 | D13: 材質劣化 | M13: 変状区分
B14: 変状種類 | D14: うき・はく離 | M14: 変状種類
B15: 健全性 | C15: 応急措置前 | E15: － | M15: 健全性 | N15: 応急措置前
C16: 応急措置後 | E16: Ⅱ | N16: 応急措置後
B17: 変状の発生範囲の規模 | E17: 0.6m×0.1m他 | M17: 変状の発生範囲の規模
B18: 前回定期点検時の状態 | E18: なし | M18: 前回定期点検時の状態
B19: 調査方針 | E19: - | M19: 調査方針
B20: 対策履歴 | E20: なし | H20: 実施状況（実施日） | J20: - | M20: 対策履歴 | S20: 実施状況（実施日）
B21: メモ | D21: 目地部に2ヶ所の豆板(Ⅱb)、浸透固化材塗布 | M21: メモ
B22: 写真 番号 | C22: 覆工 スパン 番号 | M22: 写真 番号 | N22: 覆工 スパン 番号
C24: 変状 番号 | N24: 変状 番号
B26: 変状 部位 | C26: 対象 箇所 | M26: 変状 部位 | N26: 対象 箇所
C28: 部位 区分 | N28: 部位 区分
B30: 変状区分 | M30: 変状区分
B31: 変状種類 | M31: 変状種類
B32: 健全性 | C32: 応急措置前 | M32: 健全性 | N32: 応急措置前
C33: 応急措置後 | N33: 応急措置後
B34: 変状の発生範囲の規模 | M34: 変状の発生範囲の規模
B35: 前回定期点検時の状態 | M35: 前回定期点検時の状態
B36: 調査方針 | M36: 調査方針
B37: 対策履歴 | H37: 実施状況（実施日） | M37: 対策履歴 | S37: 実施状況（実施日）
B38: メモ | M38: メモ
C39: ※ 健全性（応急措置後）の判定区分Ⅱ～Ⅳについて添付すること。また、点検前に 実施された措置によりⅠと判定された箇所も添付すること。 | N39: ※ 変状の発生範囲の規模とは、対策を行う際に参考となる変状の長さや面積をいう。
N40: ※ 応急措置を実施しないで判定した変状の健全性は、健全性の応急措置後の欄に記入すること。
C41: ※ たたき落としを実施した場合は、実施後の写真を添付すること。 | N41: ※ 変状の発生範囲の規模は、面積・寸法を記載すること。
C42: ※ 附属物の取付状態に関する異常写真は別途、様式D-1-2でとりまとめること。 | N42: (ひび割れ幅のみmmとし、その他をm表記とする)
C43: ※ 変状数に準じてシートを追加すること。（１シートに１ページとすること。） | N43: ※ 構造用鋼材以外の異物に伴ううき・はく離については、メモ欄に異物の概要を記入すること。

Sheet 様式D-1-1(トンネル様式2P001) (52)
B2: ■定期点検記録様式 変状写真台帳 | Y2: Ⅰ
B3: フリガナ | D3: オオミズトウゲトンネル | H3: 路線名 | J3: 主要県道秋芳三隅線 | M3: 定期点検業者 | P3: 応用地質株式会社 | S3: 定期点検年月日 | U3: 44860 | Y3: Ⅱ
B4: 名 称 | D4: 大水峠トンネル | H4: 管理者名 | J4: 長門土木建築事務所 | M4: 定期点検者名 | P4: 太田 裕之 | Y4: Ⅲ
B5: 写真 番号 | C5: 覆工 スパン 番号 | D5: 64 | M5: 写真 番号 | N5: 覆工 スパン 番号 | Y5: Ⅳ
Y6: －
C7: 変状 番号 | D7: 1 | N7: 変状 番号
B9: 変状 部位 | C9: 対象 箇所 | D9: 覆工・坑門 | M9: 変状 部位 | N9: 対象 箇所
C11: 部位 区分 | D11: アーチ（左側） | N11: 部位 区分
B13: 変状区分 | D13: 材質劣化 | M13: 変状区分
B14: 変状種類 | D14: 鋼材腐食 | M14: 変状種類
B15: 健全性 | C15: 応急措置前 | E15: － | M15: 健全性 | N15: 応急措置前
C16: 応急措置後 | E16: Ⅱ | N16: 応急措置後
B17: 変状の発生範囲の規模 | E17: 0.1m×0.1m | M17: 変状の発生範囲の規模
B18: 前回定期点検時の状態 | E18: なし | M18: 前回定期点検時の状態
B19: 調査方針 | E19: - | M19: 調査方針
B20: 対策履歴 | E20: なし | H20: 実施状況（実施日） | J20: - | M20: 対策履歴 | S20: 実施状況（実施日）
B21: メモ | D21: 鋼材露出(深さ50mm)(Ⅱb)、部分的に露出した鋼材(表面的な腐食)に防錆剤塗布 | M21: メモ
B22: 写真 番号 | C22: 覆工 スパン 番号 | M22: 写真 番号 | N22: 覆工 スパン 番号
C24: 変状 番号 | N24: 変状 番号
B26: 変状 部位 | C26: 対象 箇所 | M26: 変状 部位 | N26: 対象 箇所
C28: 部位 区分 | N28: 部位 区分
B30: 変状区分 | M30: 変状区分
B31: 変状種類 | M31: 変状種類
B32: 健全性 | C32: 応急措置前 | M32: 健全性 | N32: 応急措置前
C33: 応急措置後 | N33: 応急措置後
B34: 変状の発生範囲の規模 | M34: 変状の発生範囲の規模
B35: 前回定期点検時の状態 | M35: 前回定期点検時の状態
B36: 調査方針 | M36: 調査方針
B37: 対策履歴 | H37: 実施状況（実施日） | M37: 対策履歴 | S37: 実施状況（実施日）
B38: メモ | M38: メモ
C39: ※ 健全性（応急措置後）の判定区分Ⅱ～Ⅳについて添付すること。また、点検前に 実施された措置によりⅠと判定された箇所も添付すること。 | N39: ※ 変状の発生範囲の規模とは、対策を行う際に参考となる変状の長さや面積をいう。
N40: ※ 応急措置を実施しないで判定した変状の健全性は、健全性の応急措置後の欄に記入すること。
C41: ※ たたき落としを実施した場合は、実施後の写真を添付すること。 | N41: ※ 変状の発生範囲の規模は、面積・寸法を記載すること。
C42: ※ 附属物の取付状態に関する異常写真は別途、様式D-1-2でとりまとめること。 | N42: (ひび割れ幅のみmmとし、その他をm表記とする)
C43: ※ 変状数に準じてシートを追加すること。（１シートに１ページとすること。） | N43: ※ 構造用鋼材以外の異物に伴ううき・はく離については、メモ欄に異物の概要を記入すること。

Sheet 様式D-1-1(トンネル様式2P001) (53)
B2: ■定期点検記録様式 変状写真台帳 | Y2: Ⅰ
B3: フリガナ | D3: オオミズトウゲトンネル | H3: 路線名 | J3: 主要県道秋芳三隅線 | M3: 定期点検業者 | P3: 応用地質株式会社 | S3: 定期点検年月日 | U3: 44860 | Y3: Ⅱ
B4: 名 称 | D4: 大水峠トンネル | H4: 管理者名 | J4: 長門土木建築事務所 | M4: 定期点検者名 | P4: 太田 裕之 | Y4: Ⅲ
B5: 写真 番号 | C5: 覆工 スパン 番号 | D5: 65 | M5: 写真 番号 | N5: 覆工 スパン 番号 | O5: 65 | Y5: Ⅳ
Y6: －
C7: 変状 番号 | D7: 1 | N7: 変状 番号 | O7: 2
B9: 変状 部位 | C9: 対象 箇所 | D9: 覆工・坑門 | M9: 変状 部位 | N9: 対象 箇所 | O9: 覆工・坑門
C11: 部位 区分 | D11: 横断目地（右側） | N11: 部位 区分 | O11: アーチ（天端）
B13: 変状区分 | D13: 材質劣化 | M13: 変状区分 | O13: 材質劣化
B14: 変状種類 | D14: うき・はく離 | M14: 変状種類 | O14: うき・はく離
B15: 健全性 | C15: 応急措置前 | E15: Ⅳ | M15: 健全性 | N15: 応急措置前 | P15: －
C16: 応急措置後 | E16: Ⅱ | N16: 応急措置後 | P16: Ⅱ
B17: 変状の発生範囲の規模 | E17: 0.6m×0.15m | M17: 変状の発生範囲の規模 | P17: 0.2m×0.3m他
B18: 前回定期点検時の状態 | E18: うき0.5m×0.1m(Ⅱa) | M18: 前回定期点検時の状態 | P18: 豆板0.2m×0.3m他(Ⅰ)
B19: 調査方針 | E19: - | M19: 調査方針 | P19: -
B20: 対策履歴 | E20: なし | H20: 実施状況（実施日） | J20: - | M20: 対策履歴 | P20: なし | S20: 実施状況（実施日） | U20: -
B21: メモ | D21: 目地部の豆板(Ⅳ→Ⅱa)、今回点検時に叩き落とし実施(深さ50mm)、浸透固化材塗布 | M21: メモ | O21: 複数の豆板(Ⅱb)、浸透固化材塗布、再判定
B22: 写真 番号 | C22: 覆工 スパン 番号 | D22: 65 | M22: 写真 番号 | N22: 覆工 スパン 番号 | O22: 65
C24: 変状 番号 | D24: 3 | N24: 変状 番号 | O24: 4
B26: 変状 部位 | C26: 対象 箇所 | D26: 覆工・坑門 | M26: 変状 部位 | N26: 対象 箇所 | O26: 覆工・坑門
C28: 部位 区分 | D28: 横断目地（左側） | N28: 部位 区分 | O28: 横断目地（天端）
B30: 変状区分 | D30: 漏水 | M30: 変状区分 | O30: 材質劣化
B31: 変状種類 | D31: 漏水 | M31: 変状種類 | O31: うき・はく離
B32: 健全性 | C32: 応急措置前 | E32: － | M32: 健全性 | N32: 応急措置前 | P32: －
C33: 応急措置後 | E33: Ⅱ | N33: 応急措置後 | P33: Ⅱ
B34: 変状の発生範囲の規模 | E34: - | M34: 変状の発生範囲の規模 | P34: 5.6m×0.1m
B35: 前回定期点検時の状態 | E35: 路面の漏水・帯水(Ⅱb) | M35: 前回定期点検時の状態 | P35: なし
B36: 調査方針 | E36: - | M36: 調査方針 | P36: -
B37: 対策履歴 | E37: なし | H37: 実施状況（実施日） | J37: - | M37: 対策履歴 | P37: なし | S37: 実施状況（実施日） | U37: -
B38: メモ | D38: 目地部に遊離石灰を伴う漏水(Ⅱb)、路面に土砂堆積あり | M38: メモ | O38: 目地部の豆板(Ⅱb)、浸透固化材塗布
C39: ※ 健全性（応急措置後）の判定区分Ⅱ～Ⅳについて添付すること。また、点検前に 実施された措置によりⅠと判定された箇所も添付すること。 | N39: ※ 変状の発生範囲の規模とは、対策を行う際に参考となる変状の長さや面積をいう。
N40: ※ 応急措置を実施しないで判定した変状の健全性は、健全性の応急措置後の欄に記入すること。
C41: ※ たたき落としを実施した場合は、実施後の写真を添付すること。 | N41: ※ 変状の発生範囲の規模は、面積・寸法を記載すること。
C42: ※ 附属物の取付状態に関する異常写真は別途、様式D-1-2でとりまとめること。 | N42: (ひび割れ幅のみmmとし、その他をm表記とする)
C43: ※ 変状数に準じてシートを追加すること。（１シートに１ページとすること。） | N43: ※ 構造用鋼材以外の異物に伴ううき・はく離については、メモ欄に異物の概要を記入すること。

Sheet 様式D-1-1(トンネル様式2P001) (54)
B2: ■定期点検記録様式 変状写真台帳 | Y2: Ⅰ
B3: フリガナ | D3: オオミズトウゲトンネル | H3: 路線名 | J3: 主要県道秋芳三隅線 | M3: 定期点検業者 | P3: 応用地質株式会社 | S3: 定期点検年月日 | U3: 44860 | Y3: Ⅱ
B4: 名 称 | D4: 大水峠トンネル | H4: 管理者名 | J4: 長門土木建築事務所 | M4: 定期点検者名 | P4: 太田 裕之 | Y4: Ⅲ
B5: 写真 番号 | C5: 覆工 スパン 番号 | D5: 67 | M5: 写真 番号 | N5: 覆工 スパン 番号 | O5: 67 | Y5: Ⅳ
Y6: －
C7: 変状 番号 | D7: 1 | N7: 変状 番号 | O7: 2
B9: 変状 部位 | C9: 対象 箇所 | D9: 覆工・坑門 | M9: 変状 部位 | N9: 対象 箇所 | O9: 覆工・坑門
C11: 部位 区分 | D11: アーチ（右側） | N11: 部位 区分 | O11: 側壁（右側）
B13: 変状区分 | D13: 材質劣化 | M13: 変状区分 | O13: 外力
B14: 変状種類 | D14: ひび割れ | M14: 変状種類 | O14: ひび割れ
B15: 健全性 | C15: 応急措置前 | E15: － | M15: 健全性 | N15: 応急措置前 | P15: －
C16: 応急措置後 | E16: Ⅱ | N16: 応急措置後 | P16: Ⅱ
B17: 変状の発生範囲の規模 | E17: 1.6m×0.6m | M17: 変状の発生範囲の規模 | P17: 5.7m×0.4mm他
B18: 前回定期点検時の状態 | E18: 同程度 | M18: 前回定期点検時の状態 | P18: ひび割れ5.7m×0.3mm他(Ⅰ)
B19: 調査方針 | E19: - | M19: 調査方針 | P19: -
B20: 対策履歴 | E20: なし | H20: 実施状況（実施日） | J20: - | M20: 対策履歴 | P20: なし | S20: 実施状況（実施日） | U20: -
B21: メモ | D21: 目地沿いに幅0.3mmの半月状ひび割れ(Ⅱb)、打音異常なし | M21: メモ | O21: 縦横断方向に遊離石灰・漏水を伴うひび割れ(Ⅱa)、再判定
B22: 写真 番号 | C22: 覆工 スパン 番号 | M22: 写真 番号 | N22: 覆工 スパン 番号
C24: 変状 番号 | N24: 変状 番号
B26: 変状 部位 | C26: 対象 箇所 | M26: 変状 部位 | N26: 対象 箇所
C28: 部位 区分 | N28: 部位 区分
B30: 変状区分 | M30: 変状区分
B31: 変状種類 | M31: 変状種類
B32: 健全性 | C32: 応急措置前 | M32: 健全性 | N32: 応急措置前
C33: 応急措置後 | N33: 応急措置後
B34: 変状の発生範囲の規模 | M34: 変状の発生範囲の規模
B35: 前回定期点検時の状態 | M35: 前回定期点検時の状態
B36: 調査方針 | M36: 調査方針
B37: 対策履歴 | H37: 実施状況（実施日） | M37: 対策履歴 | S37: 実施状況（実施日）
B38: メモ | M38: メモ
C39: ※ 健全性（応急措置後）の判定区分Ⅱ～Ⅳについて添付すること。また、点検前に 実施された措置によりⅠと判定された箇所も添付すること。 | N39: ※ 変状の発生範囲の規模とは、対策を行う際に参考となる変状の長さや面積をいう。
N40: ※ 応急措置を実施しないで判定した変状の健全性は、健全性の応急措置後の欄に記入すること。
C41: ※ たたき落としを実施した場合は、実施後の写真を添付すること。 | N41: ※ 変状の発生範囲の規模は、面積・寸法を記載すること。
C42: ※ 附属物の取付状態に関する異常写真は別途、様式D-1-2でとりまとめること。 | N42: (ひび割れ幅のみmmとし、その他をm表記とする)
C43: ※ 変状数に準じてシートを追加すること。（１シートに１ページとすること。） | N43: ※ 構造用鋼材以外の異物に伴ううき・はく離については、メモ欄に異物の概要を記入すること。

Sheet 様式D-1-1(トンネル様式2P001) (55)
B2: ■定期点検記録様式 変状写真台帳 | Y2: Ⅰ
B3: フリガナ | D3: オオミズトウゲトンネル | H3: 路線名 | J3: 主要県道秋芳三隅線 | M3: 定期点検業者 | P3: 応用地質株式会社 | S3: 定期点検年月日 | U3: 44860 | Y3: Ⅱ
B4: 名 称 | D4: 大水峠トンネル | H4: 管理者名 | J4: 長門土木建築事務所 | M4: 定期点検者名 | P4: 太田 裕之 | Y4: Ⅲ
B5: 写真 番号 | C5: 覆工 スパン 番号 | D5: 68 | M5: 写真 番号 | N5: 覆工 スパン 番号 | O5: 68 | Y5: Ⅳ
Y6: －
C7: 変状 番号 | D7: 1 | N7: 変状 番号 | O7: 2
B9: 変状 部位 | C9: 対象 箇所 | D9: 覆工・坑門 | M9: 変状 部位 | N9: 対象 箇所 | O9: 覆工・坑門
C11: 部位 区分 | D11: 横断目地（天端） | N11: 部位 区分 | O11: 側壁（右側）
B13: 変状区分 | D13: 材質劣化 | M13: 変状区分 | O13: 外力
B14: 変状種類 | D14: うき・はく離 | M14: 変状種類 | O14: ひび割れ
B15: 健全性 | C15: 応急措置前 | E15: － | M15: 健全性 | N15: 応急措置前 | P15: －
C16: 応急措置後 | E16: Ⅱ | N16: 応急措置後 | P16: Ⅱ
B17: 変状の発生範囲の規模 | E17: 0.2m×0.1m | M17: 変状の発生範囲の規模 | P17: 6.0m×0.2mm他
B18: 前回定期点検時の状態 | E18: 同程度 | M18: 前回定期点検時の状態 | P18: ひび割れ6.0m×0.2mm他(Ⅰ)
B19: 調査方針 | E19: - | M19: 調査方針 | P19: -
B20: 対策履歴 | E20: なし | H20: 実施状況（実施日） | J20: - | M20: 対策履歴 | P20: なし | S20: 実施状況（実施日） | U20: -
B21: メモ | D21: 補修箇所のうき(Ⅱa)、浸透固化材塗布 | M21: メモ | O21: 縦横断方向に遊離石灰を伴うひび割れ(Ⅱb)、再判定
B22: 写真 番号 | C22: 覆工 スパン 番号 | M22: 写真 番号 | N22: 覆工 スパン 番号
C24: 変状 番号 | N24: 変状 番号
B26: 変状 部位 | C26: 対象 箇所 | M26: 変状 部位 | N26: 対象 箇所
C28: 部位 区分 | N28: 部位 区分
B30: 変状区分 | M30: 変状区分
B31: 変状種類 | M31: 変状種類
B32: 健全性 | C32: 応急措置前 | M32: 健全性 | N32: 応急措置前
C33: 応急措置後 | N33: 応急措置後
B34: 変状の発生範囲の規模 | M34: 変状の発生範囲の規模
B35: 前回定期点検時の状態 | M35: 前回定期点検時の状態
B36: 調査方針 | M36: 調査方針
B37: 対策履歴 | H37: 実施状況（実施日） | M37: 対策履歴 | S37: 実施状況（実施日）
B38: メモ | M38: メモ
C39: ※ 健全性（応急措置後）の判定区分Ⅱ～Ⅳについて添付すること。また、点検前に 実施された措置によりⅠと判定された箇所も添付すること。 | N39: ※ 変状の発生範囲の規模とは、対策を行う際に参考となる変状の長さや面積をいう。
N40: ※ 応急措置を実施しないで判定した変状の健全性は、健全性の応急措置後の欄に記入すること。
C41: ※ たたき落としを実施した場合は、実施後の写真を添付すること。 | N41: ※ 変状の発生範囲の規模は、面積・寸法を記載すること。
C42: ※ 附属物の取付状態に関する異常写真は別途、様式D-1-2でとりまとめること。 | N42: (ひび割れ幅のみmmとし、その他をm表記とする)
C43: ※ 変状数に準じてシートを追加すること。（１シートに１ページとすること。） | N43: ※ 構造用鋼材以外の異物に伴ううき・はく離については、メモ欄に異物の概要を記入すること。

Sheet 様式D-1-1(トンネル様式2P001) (56)
B2: ■定期点検記録様式 変状写真台帳 | Y2: Ⅰ
B3: フリガナ | D3: オオミズトウゲトンネル | H3: 路線名 | J3: 主要県道秋芳三隅線 | M3: 定期点検業者 | P3: 応用地質株式会社 | S3: 定期点検年月日 | U3: 44860 | Y3: Ⅱ
B4: 名 称 | D4: 大水峠トンネル | H4: 管理者名 | J4: 長門土木建築事務所 | M4: 定期点検者名 | P4: 太田 裕之 | Y4: Ⅲ
B5: 写真 番号 | C5: 覆工 スパン 番号 | D5: 69 | M5: 写真 番号 | N5: 覆工 スパン 番号 | Y5: Ⅳ
Y6: －
C7: 変状 番号 | D7: 1 | N7: 変状 番号
B9: 変状 部位 | C9: 対象 箇所 | D9: 覆工・坑門 | M9: 変状 部位 | N9: 対象 箇所
C11: 部位 区分 | D11: 側壁（右側） | N11: 部位 区分
B13: 変状区分 | D13: 外力 | M13: 変状区分
B14: 変状種類 | D14: ひび割れ | M14: 変状種類
B15: 健全性 | C15: 応急措置前 | E15: － | M15: 健全性 | N15: 応急措置前
C16: 応急措置後 | E16: Ⅱ | N16: 応急措置後
B17: 変状の発生範囲の規模 | E17: 6.2m×0.3mm | M17: 変状の発生範囲の規模
B18: 前回定期点検時の状態 | E18: ひび割れ4.3m×0.2mm(Ⅰ) | M18: 前回定期点検時の状態
B19: 調査方針 | E19: - | M19: 調査方針
B20: 対策履歴 | E20: なし | H20: 実施状況（実施日） | J20: - | M20: 対策履歴 | S20: 実施状況（実施日）
B21: メモ | D21: 縦断方向に遊離石灰を伴うひび割れ(Ⅱb)、再判定 | M21: メモ
B22: 写真 番号 | C22: 覆工 スパン 番号 | M22: 写真 番号 | N22: 覆工 スパン 番号
C24: 変状 番号 | N24: 変状 番号
B26: 変状 部位 | C26: 対象 箇所 | M26: 変状 部位 | N26: 対象 箇所
C28: 部位 区分 | N28: 部位 区分
B30: 変状区分 | M30: 変状区分
B31: 変状種類 | M31: 変状種類
B32: 健全性 | C32: 応急措置前 | M32: 健全性 | N32: 応急措置前
C33: 応急措置後 | N33: 応急措置後
B34: 変状の発生範囲の規模 | M34: 変状の発生範囲の規模
B35: 前回定期点検時の状態 | M35: 前回定期点検時の状態
B36: 調査方針 | M36: 調査方針
B37: 対策履歴 | H37: 実施状況（実施日） | M37: 対策履歴 | S37: 実施状況（実施日）
B38: メモ | M38: メモ
C39: ※ 健全性（応急措置後）の判定区分Ⅱ～Ⅳについて添付すること。また、点検前に 実施された措置によりⅠと判定された箇所も添付すること。 | N39: ※ 変状の発生範囲の規模とは、対策を行う際に参考となる変状の長さや面積をいう。
N40: ※ 応急措置を実施しないで判定した変状の健全性は、健全性の応急措置後の欄に記入すること。
C41: ※ たたき落としを実施した場合は、実施後の写真を添付すること。 | N41: ※ 変状の発生範囲の規模は、面積・寸法を記載すること。
C42: ※ 附属物の取付状態に関する異常写真は別途、様式D-1-2でとりまとめること。 | N42: (ひび割れ幅のみmmとし、その他をm表記とする)
C43: ※ 変状数に準じてシートを追加すること。（１シートに１ページとすること。） | N43: ※ 構造用鋼材以外の異物に伴ううき・はく離については、メモ欄に異物の概要を記入すること。

Sheet 様式D-1-1(トンネル様式2P001) (57)
B2: ■定期点検記録様式 変状写真台帳 | Y2: Ⅰ
B3: フリガナ | D3: オオミズトウゲトンネル | H3: 路線名 | J3: 主要県道秋芳三隅線 | M3: 定期点検業者 | P3: 応用地質株式会社 | S3: 定期点検年月日 | U3: 44860 | Y3: Ⅱ
B4: 名 称 | D4: 大水峠トンネル | H4: 管理者名 | J4: 長門土木建築事務所 | M4: 定期点検者名 | P4: 太田 裕之 | Y4: Ⅲ
B5: 写真 番号 | C5: 覆工 スパン 番号 | D5: 71 | M5: 写真 番号 | N5: 覆工 スパン 番号 | Y5: Ⅳ
Y6: －
C7: 変状 番号 | D7: 1 | N7: 変状 番号
B9: 変状 部位 | C9: 対象 箇所 | D9: 覆工・坑門 | M9: 変状 部位 | N9: 対象 箇所
C11: 部位 区分 | D11: アーチ（右側） | N11: 部位 区分
B13: 変状区分 | D13: 材質劣化 | M13: 変状区分
B14: 変状種類 | D14: 鋼材腐食 | M14: 変状種類
B15: 健全性 | C15: 応急措置前 | E15: － | M15: 健全性 | N15: 応急措置前
C16: 応急措置後 | E16: Ⅱ | N16: 応急措置後
B17: 変状の発生範囲の規模 | E17: 0.05m×0.05m | M17: 変状の発生範囲の規模
B18: 前回定期点検時の状態 | E18: 同程度 | M18: 前回定期点検時の状態
B19: 調査方針 | E19: - | M19: 調査方針
B20: 対策履歴 | E20: なし | H20: 実施状況（実施日） | J20: - | M20: 対策履歴 | S20: 実施状況（実施日）
B21: メモ | D21: 鋼材腐食(Ⅱb)、防錆剤塗布 | M21: メモ
B22: 写真 番号 | C22: 覆工 スパン 番号 | M22: 写真 番号 | N22: 覆工 スパン 番号
C24: 変状 番号 | N24: 変状 番号
B26: 変状 部位 | C26: 対象 箇所 | M26: 変状 部位 | N26: 対象 箇所
C28: 部位 区分 | N28: 部位 区分
B30: 変状区分 | M30: 変状区分
B31: 変状種類 | M31: 変状種類
B32: 健全性 | C32: 応急措置前 | M32: 健全性 | N32: 応急措置前
C33: 応急措置後 | N33: 応急措置後
B34: 変状の発生範囲の規模 | M34: 変状の発生範囲の規模
B35: 前回定期点検時の状態 | M35: 前回定期点検時の状態
B36: 調査方針 | M36: 調査方針
B37: 対策履歴 | H37: 実施状況（実施日） | M37: 対策履歴 | S37: 実施状況（実施日）
B38: メモ | M38: メモ
C39: ※ 健全性（応急措置後）の判定区分Ⅱ～Ⅳについて添付すること。また、点検前に 実施された措置によりⅠと判定された箇所も添付すること。 | N39: ※ 変状の発生範囲の規模とは、対策を行う際に参考となる変状の長さや面積をいう。
N40: ※ 応急措置を実施しないで判定した変状の健全性は、健全性の応急措置後の欄に記入すること。
C41: ※ たたき落としを実施した場合は、実施後の写真を添付すること。 | N41: ※ 変状の発生範囲の規模は、面積・寸法を記載すること。
C42: ※ 附属物の取付状態に関する異常写真は別途、様式D-1-2でとりまとめること。 | N42: (ひび割れ幅のみmmとし、その他をm表記とする)
C43: ※ 変状数に準じてシートを追加すること。（１シートに１ページとすること。） | N43: ※ 構造用鋼材以外の異物に伴ううき・はく離については、メモ欄に異物の概要を記入すること。

Sheet 様式D-1-1(トンネル様式2P001) (58)
B2: ■定期点検記録様式 変状写真台帳 | Y2: Ⅰ
B3: フリガナ | D3: オオミズトウゲトンネル | H3: 路線名 | J3: 主要県道秋芳三隅線 | M3: 定期点検業者 | P3: 応用地質株式会社 | S3: 定期点検年月日 | U3: 44860 | Y3: Ⅱ
B4: 名 称 | D4: 大水峠トンネル | H4: 管理者名 | J4: 長門土木建築事務所 | M4: 定期点検者名 | P4: 太田 裕之 | Y4: Ⅲ
B5: 写真 番号 | C5: 覆工 スパン 番号 | D5: 73 | M5: 写真 番号 | N5: 覆工 スパン 番号 | O5: 73 | Y5: Ⅳ
Y6: －
C7: 変状 番号 | D7: 1 | N7: 変状 番号 | O7: 2
B9: 変状 部位 | C9: 対象 箇所 | D9: 覆工・坑門 | M9: 変状 部位 | N9: 対象 箇所 | O9: 覆工・坑門
C11: 部位 区分 | D11: アーチ（右側） | N11: 部位 区分 | O11: 側壁（左側）
B13: 変状区分 | D13: 材質劣化 | M13: 変状区分 | O13: 外力
B14: 変状種類 | D14: ひび割れ | M14: 変状種類 | O14: ひび割れ
B15: 健全性 | C15: 応急措置前 | E15: － | M15: 健全性 | N15: 応急措置前 | P15: －
C16: 応急措置後 | E16: Ⅱ | N16: 応急措置後 | P16: Ⅱ
B17: 変状の発生範囲の規模 | E17: 2.6m×0.4m | M17: 変状の発生範囲の規模 | P17: 1.4m×0.5mm他
B18: 前回定期点検時の状態 | E18: 同程度 | M18: 前回定期点検時の状態 | P18: ひび割れ1.3m×0.2mm他(Ⅰ)
B19: 調査方針 | E19: - | M19: 調査方針 | P19: -
B20: 対策履歴 | E20: なし | H20: 実施状況（実施日） | J20: - | M20: 対策履歴 | P20: なし | S20: 実施状況（実施日） | U20: -
B21: メモ | D21: 目地沿いに幅0.3mmの半月状ひび割れ(Ⅱb)、打音異常なし | M21: メモ | O21: 遊離石灰を伴う水平ひび割れ(Ⅱb)、再判定
B22: 写真 番号 | C22: 覆工 スパン 番号 | M22: 写真 番号 | N22: 覆工 スパン 番号
C24: 変状 番号 | N24: 変状 番号
B26: 変状 部位 | C26: 対象 箇所 | M26: 変状 部位 | N26: 対象 箇所
C28: 部位 区分 | N28: 部位 区分
B30: 変状区分 | M30: 変状区分
B31: 変状種類 | M31: 変状種類
B32: 健全性 | C32: 応急措置前 | M32: 健全性 | N32: 応急措置前
C33: 応急措置後 | N33: 応急措置後
B34: 変状の発生範囲の規模 | M34: 変状の発生範囲の規模
B35: 前回定期点検時の状態 | M35: 前回定期点検時の状態
B36: 調査方針 | M36: 調査方針
B37: 対策履歴 | H37: 実施状況（実施日） | M37: 対策履歴 | S37: 実施状況（実施日）
B38: メモ | M38: メモ
C39: ※ 健全性（応急措置後）の判定区分Ⅱ～Ⅳについて添付すること。また、点検前に 実施された措置によりⅠと判定された箇所も添付すること。 | N39: ※ 変状の発生範囲の規模とは、対策を行う際に参考となる変状の長さや面積をいう。
N40: ※ 応急措置を実施しないで判定した変状の健全性は、健全性の応急措置後の欄に記入すること。
C41: ※ たたき落としを実施した場合は、実施後の写真を添付すること。 | N41: ※ 変状の発生範囲の規模は、面積・寸法を記載すること。
C42: ※ 附属物の取付状態に関する異常写真は別途、様式D-1-2でとりまとめること。 | N42: (ひび割れ幅のみmmとし、その他をm表記とする)
C43: ※ 変状数に準じてシートを追加すること。（１シートに１ページとすること。） | N43: ※ 構造用鋼材以外の異物に伴ううき・はく離については、メモ欄に異物の概要を記入すること。

Sheet 様式D-1-1(トンネル様式2P001) (59)
B2: ■定期点検記録様式 変状写真台帳 | Y2: Ⅰ
B3: フリガナ | D3: オオミズトウゲトンネル | H3: 路線名 | J3: 主要県道秋芳三隅線 | M3: 定期点検業者 | P3: 応用地質株式会社 | S3: 定期点検年月日 | U3: 44860 | Y3: Ⅱ
B4: 名 称 | D4: 大水峠トンネル | H4: 管理者名 | J4: 長門土木建築事務所 | M4: 定期点検者名 | P4: 太田 裕之 | Y4: Ⅲ
B5: 写真 番号 | C5: 覆工 スパン 番号 | D5: 74 | M5: 写真 番号 | N5: 覆工 スパン 番号 | O5: 74 | Y5: Ⅳ
Y6: －
C7: 変状 番号 | D7: 1 | N7: 変状 番号 | O7: 2
B9: 変状 部位 | C9: 対象 箇所 | D9: 覆工・坑門 | M9: 変状 部位 | N9: 対象 箇所 | O9: 覆工・坑門
C11: 部位 区分 | D11: アーチ（左側） | N11: 部位 区分 | O11: アーチ（左側）
B13: 変状区分 | D13: 材質劣化 | M13: 変状区分 | O13: 材質劣化
B14: 変状種類 | D14: 鋼材腐食 | M14: 変状種類 | O14: 鋼材腐食
B15: 健全性 | C15: 応急措置前 | E15: － | M15: 健全性 | N15: 応急措置前 | P15: －
C16: 応急措置後 | E16: Ⅱ | N16: 応急措置後 | P16: Ⅱ
B17: 変状の発生範囲の規模 | E17: 0.05m×0.05m | M17: 変状の発生範囲の規模 | P17: 0.1m×0.1m
B18: 前回定期点検時の状態 | E18: 同程度 | M18: 前回定期点検時の状態 | P18: 同程度
B19: 調査方針 | E19: - | M19: 調査方針 | P19: -
B20: 対策履歴 | E20: なし | H20: 実施状況（実施日） | J20: - | M20: 対策履歴 | P20: なし | S20: 実施状況（実施日） | U20: -
B21: メモ | D21: 鋼材露出(深さ50mm)(Ⅱb)、部分的に露出した鋼材(表面的な腐食)に防錆剤塗布 | M21: メモ | O21: 鋼材露出(深さ50mm)(Ⅱb)、部分的に露出した鋼材(表面的な腐食)に防錆剤塗布
B22: 写真 番号 | C22: 覆工 スパン 番号 | D22: 74 | M22: 写真 番号 | N22: 覆工 スパン 番号
C24: 変状 番号 | D24: 3 | N24: 変状 番号
B26: 変状 部位 | C26: 対象 箇所 | D26: 覆工・坑門 | M26: 変状 部位 | N26: 対象 箇所
C28: 部位 区分 | D28: アーチ（左側） | N28: 部位 区分
B30: 変状区分 | D30: 材質劣化 | M30: 変状区分
B31: 変状種類 | D31: 鋼材腐食 | M31: 変状種類
B32: 健全性 | C32: 応急措置前 | E32: － | M32: 健全性 | N32: 応急措置前
C33: 応急措置後 | E33: Ⅱ | N33: 応急措置後
B34: 変状の発生範囲の規模 | E34: 0.05m×0.05m | M34: 変状の発生範囲の規模
B35: 前回定期点検時の状態 | E35: 同程度 | M35: 前回定期点検時の状態
B36: 調査方針 | E36: - | M36: 調査方針
B37: 対策履歴 | E37: なし | H37: 実施状況（実施日） | J37: - | M37: 対策履歴 | S37: 実施状況（実施日）
B38: メモ | D38: 鋼材露出(深さ50mm)(Ⅱb)、部分的に露出した鋼材(表面的な腐食)に防錆剤塗布 | M38: メモ
C39: ※ 健全性（応急措置後）の判定区分Ⅱ～Ⅳについて添付すること。また、点検前に 実施された措置によりⅠと判定された箇所も添付すること。 | N39: ※ 変状の発生範囲の規模とは、対策を行う際に参考となる変状の長さや面積をいう。
N40: ※ 応急措置を実施しないで判定した変状の健全性は、健全性の応急措置後の欄に記入すること。
C41: ※ たたき落としを実施した場合は、実施後の写真を添付すること。 | N41: ※ 変状の発生範囲の規模は、面積・寸法を記載すること。
C42: ※ 附属物の取付状態に関する異常写真は別途、様式D-1-2でとりまとめること。 | N42: (ひび割れ幅のみmmとし、その他をm表記とする)
C43: ※ 変状数に準じてシートを追加すること。（１シートに１ページとすること。） | N43: ※ 構造用鋼材以外の異物に伴ううき・はく離については、メモ欄に異物の概要を記入すること。

Sheet 様式D-1-1(トンネル様式2P001) (60)
B2: ■定期点検記録様式 変状写真台帳 | Y2: Ⅰ
B3: フリガナ | D3: オオミズトウゲトンネル | H3: 路線名 | J3: 主要県道秋芳三隅線 | M3: 定期点検業者 | P3: 応用地質株式会社 | S3: 定期点検年月日 | U3: 44860 | Y3: Ⅱ
B4: 名 称 | D4: 大水峠トンネル | H4: 管理者名 | J4: 長門土木建築事務所 | M4: 定期点検者名 | P4: 太田 裕之 | Y4: Ⅲ
B5: 写真 番号 | C5: 覆工 スパン 番号 | D5: 75 | M5: 写真 番号 | N5: 覆工 スパン 番号 | O5: 75 | Y5: Ⅳ
Y6: －
C7: 変状 番号 | D7: 1 | N7: 変状 番号 | O7: 2
B9: 変状 部位 | C9: 対象 箇所 | D9: 覆工・坑門 | M9: 変状 部位 | N9: 対象 箇所 | O9: 覆工・坑門
C11: 部位 区分 | D11: 横断目地（右側） | N11: 部位 区分 | O11: アーチ（右側）
B13: 変状区分 | D13: 材質劣化 | M13: 変状区分 | O13: 材質劣化
B14: 変状種類 | D14: うき・はく離 | M14: 変状種類 | O14: 鋼材腐食
B15: 健全性 | C15: 応急措置前 | E15: － | M15: 健全性 | N15: 応急措置前 | P15: －
C16: 応急措置後 | E16: Ⅱ | N16: 応急措置後 | P16: Ⅱ
B17: 変状の発生範囲の規模 | E17: 0.4m×0.1m | M17: 変状の発生範囲の規模 | P17: 0.05m×0.05m
B18: 前回定期点検時の状態 | E18: 同程度 | M18: 前回定期点検時の状態 | P18: 同程度
B19: 調査方針 | E19: - | M19: 調査方針 | P19: -
B20: 対策履歴 | E20: なし | H20: 実施状況（実施日） | J20: - | M20: 対策履歴 | P20: なし | S20: 実施状況（実施日） | U20: -
B21: メモ | D21: 目地部のブロック化したうき(Ⅱa)、浸透固化材塗布 | M21: メモ | O21: 鋼材露出(深さ50mm)(Ⅱb)、部分的に露出した鋼材(表面的な腐食)に防錆剤塗布
B22: 写真 番号 | C22: 覆工 スパン 番号 | D22: 75 | M22: 写真 番号 | N22: 覆工 スパン 番号 | O22: 75
C24: 変状 番号 | D24: 3 | N24: 変状 番号 | O24: 4
B26: 変状 部位 | C26: 対象 箇所 | D26: 覆工・坑門 | M26: 変状 部位 | N26: 対象 箇所 | O26: 覆工・坑門
C28: 部位 区分 | D28: アーチ（右側） | N28: 部位 区分 | O28: 側壁（右側）
B30: 変状区分 | D30: 材質劣化 | M30: 変状区分 | O30: 外力
B31: 変状種類 | D31: 鋼材腐食 | M31: 変状種類 | O31: ひび割れ
B32: 健全性 | C32: 応急措置前 | E32: － | M32: 健全性 | N32: 応急措置前 | P32: －
C33: 応急措置後 | E33: Ⅱ | N33: 応急措置後 | P33: Ⅱ
B34: 変状の発生範囲の規模 | E34: 0.1m×0.1m | M34: 変状の発生範囲の規模 | P34: 4.7m×0.4mm他
B35: 前回定期点検時の状態 | E35: 同程度 | M35: 前回定期点検時の状態 | P35: ひび割れ4.7m×0.3mm他(Ⅰ)
B36: 調査方針 | E36: - | M36: 調査方針 | P36: -
B37: 対策履歴 | E37: なし | H37: 実施状況（実施日） | J37: - | M37: 対策履歴 | P37: なし | S37: 実施状況（実施日） | U37: -
B38: メモ | D38: 鋼材露出(深さ50mm)(Ⅱb)、部分的に露出した鋼材(表面的な腐食)に防錆剤塗布 | M38: メモ | O38: 縦横断方向に遊離石灰を伴うひび割れ(Ⅱa)、再判定
C39: ※ 健全性（応急措置後）の判定区分Ⅱ～Ⅳについて添付すること。また、点検前に 実施された措置によりⅠと判定された箇所も添付すること。 | N39: ※ 変状の発生範囲の規模とは、対策を行う際に参考となる変状の長さや面積をいう。
N40: ※ 応急措置を実施しないで判定した変状の健全性は、健全性の応急措置後の欄に記入すること。
C41: ※ たたき落としを実施した場合は、実施後の写真を添付すること。 | N41: ※ 変状の発生範囲の規模は、面積・寸法を記載すること。
C42: ※ 附属物の取付状態に関する異常写真は別途、様式D-1-2でとりまとめること。 | N42: (ひび割れ幅のみmmとし、その他をm表記とする)
C43: ※ 変状数に準じてシートを追加すること。（１シートに１ページとすること。） | N43: ※ 構造用鋼材以外の異物に伴ううき・はく離については、メモ欄に異物の概要を記入すること。

Sheet 様式D-1-1(トンネル様式2P001) (61)
B2: ■定期点検記録様式 変状写真台帳 | Y2: Ⅰ
B3: フリガナ | D3: オオミズトウゲトンネル | H3: 路線名 | J3: 主要県道秋芳三隅線 | M3: 定期点検業者 | P3: 応用地質株式会社 | S3: 定期点検年月日 | U3: 44860 | Y3: Ⅱ
B4: 名 称 | D4: 大水峠トンネル | H4: 管理者名 | J4: 長門土木建築事務所 | M4: 定期点検者名 | P4: 太田 裕之 | Y4: Ⅲ
B5: 写真 番号 | C5: 覆工 スパン 番号 | D5: 77 | M5: 写真 番号 | N5: 覆工 スパン 番号 | Y5: Ⅳ
Y6: －
C7: 変状 番号 | D7: 1 | N7: 変状 番号
B9: 変状 部位 | C9: 対象 箇所 | D9: 覆工・坑門 | M9: 変状 部位 | N9: 対象 箇所
C11: 部位 区分 | D11: 横断目地（天端） | N11: 部位 区分
B13: 変状区分 | D13: 材質劣化 | M13: 変状区分
B14: 変状種類 | D14: うき・はく離 | M14: 変状種類
B15: 健全性 | C15: 応急措置前 | E15: － | M15: 健全性 | N15: 応急措置前
C16: 応急措置後 | E16: Ⅱ | N16: 応急措置後
B17: 変状の発生範囲の規模 | E17: 1.1m×0.1m | M17: 変状の発生範囲の規模
B18: 前回定期点検時の状態 | E18: はく落1.1m×0.2m(Ⅰ) | M18: 前回定期点検時の状態
B19: 調査方針 | E19: - | M19: 調査方針
B20: 対策履歴 | E20: なし | H20: 実施状況（実施日） | J20: - | M20: 対策履歴 | S20: 実施状況（実施日）
B21: メモ | D21: 目地部の豆板(Ⅱb)、浸透固化材塗布、再判定 | M21: メモ
B22: 写真 番号 | C22: 覆工 スパン 番号 | M22: 写真 番号 | N22: 覆工 スパン 番号
C24: 変状 番号 | N24: 変状 番号
B26: 変状 部位 | C26: 対象 箇所 | M26: 変状 部位 | N26: 対象 箇所
C28: 部位 区分 | N28: 部位 区分
B30: 変状区分 | M30: 変状区分
B31: 変状種類 | M31: 変状種類
B32: 健全性 | C32: 応急措置前 | M32: 健全性 | N32: 応急措置前
C33: 応急措置後 | N33: 応急措置後
B34: 変状の発生範囲の規模 | M34: 変状の発生範囲の規模
B35: 前回定期点検時の状態 | M35: 前回定期点検時の状態
B36: 調査方針 | M36: 調査方針
B37: 対策履歴 | H37: 実施状況（実施日） | M37: 対策履歴 | S37: 実施状況（実施日）
B38: メモ | M38: メモ
C39: ※ 健全性（応急措置後）の判定区分Ⅱ～Ⅳについて添付すること。また、点検前に 実施された措置によりⅠと判定された箇所も添付すること。 | N39: ※ 変状の発生範囲の規模とは、対策を行う際に参考となる変状の長さや面積をいう。
N40: ※ 応急措置を実施しないで判定した変状の健全性は、健全性の応急措置後の欄に記入すること。
C41: ※ たたき落としを実施した場合は、実施後の写真を添付すること。 | N41: ※ 変状の発生範囲の規模は、面積・寸法を記載すること。
C42: ※ 附属物の取付状態に関する異常写真は別途、様式D-1-2でとりまとめること。 | N42: (ひび割れ幅のみmmとし、その他をm表記とする)
C43: ※ 変状数に準じてシートを追加すること。（１シートに１ページとすること。） | N43: ※ 構造用鋼材以外の異物に伴ううき・はく離については、メモ欄に異物の概要を記入すること。

Sheet 様式D-1-1(トンネル様式2P001) (62)
B2: ■定期点検記録様式 変状写真台帳 | Y2: Ⅰ
B3: フリガナ | D3: オオミズトウゲトンネル | H3: 路線名 | J3: 主要県道秋芳三隅線 | M3: 定期点検業者 | P3: 応用地質株式会社 | S3: 定期点検年月日 | U3: 44860 | Y3: Ⅱ
B4: 名 称 | D4: 大水峠トンネル | H4: 管理者名 | J4: 長門土木建築事務所 | M4: 定期点検者名 | P4: 太田 裕之 | Y4: Ⅲ
B5: 写真 番号 | C5: 覆工 スパン 番号 | D5: 78 | M5: 写真 番号 | N5: 覆工 スパン 番号 | Y5: Ⅳ
Y6: －
C7: 変状 番号 | D7: 1 | N7: 変状 番号
B9: 変状 部位 | C9: 対象 箇所 | D9: 覆工・坑門 | M9: 変状 部位 | N9: 対象 箇所
C11: 部位 区分 | D11: 横断目地（天端） | N11: 部位 区分
B13: 変状区分 | D13: 材質劣化 | M13: 変状区分
B14: 変状種類 | D14: うき・はく離 | M14: 変状種類
B15: 健全性 | C15: 応急措置前 | E15: Ⅳ | M15: 健全性 | N15: 応急措置前
C16: 応急措置後 | E16: Ⅰ | N16: 応急措置後
B17: 変状の発生範囲の規模 | E17: 0.3m×0.05m | M17: 変状の発生範囲の規模
B18: 前回定期点検時の状態 | E18: うき0.3m×0.05m(Ⅱa) | M18: 前回定期点検時の状態
B19: 調査方針 | E19: - | M19: 調査方針
B20: 対策履歴 | E20: なし | H20: 実施状況（実施日） | J20: - | M20: 対策履歴 | S20: 実施状況（実施日）
B21: メモ | D21: 目地部のうき(Ⅳ→Ⅰ)、今回点検時に叩き落とし実施(深さ100mm)、浸透固化材塗布 | M21: メモ
B22: 写真 番号 | C22: 覆工 スパン 番号 | M22: 写真 番号 | N22: 覆工 スパン 番号
C24: 変状 番号 | N24: 変状 番号
B26: 変状 部位 | C26: 対象 箇所 | M26: 変状 部位 | N26: 対象 箇所
C28: 部位 区分 | N28: 部位 区分
B30: 変状区分 | M30: 変状区分
B31: 変状種類 | M31: 変状種類
B32: 健全性 | C32: 応急措置前 | M32: 健全性 | N32: 応急措置前
C33: 応急措置後 | N33: 応急措置後
B34: 変状の発生範囲の規模 | M34: 変状の発生範囲の規模
B35: 前回定期点検時の状態 | M35: 前回定期点検時の状態
B36: 調査方針 | M36: 調査方針
B37: 対策履歴 | H37: 実施状況（実施日） | M37: 対策履歴 | S37: 実施状況（実施日）
B38: メモ | M38: メモ
C39: ※ 健全性（応急措置後）の判定区分Ⅱ～Ⅳについて添付すること。また、点検前に 実施された措置によりⅠと判定された箇所も添付すること。 | N39: ※ 変状の発生範囲の規模とは、対策を行う際に参考となる変状の長さや面積をいう。
N40: ※ 応急措置を実施しないで判定した変状の健全性は、健全性の応急措置後の欄に記入すること。
C41: ※ たたき落としを実施した場合は、実施後の写真を添付すること。 | N41: ※ 変状の発生範囲の規模は、面積・寸法を記載すること。
C42: ※ 附属物の取付状態に関する異常写真は別途、様式D-1-2でとりまとめること。 | N42: (ひび割れ幅のみmmとし、その他をm表記とする)
C43: ※ 変状数に準じてシートを追加すること。（１シートに１ページとすること。） | N43: ※ 構造用鋼材以外の異物に伴ううき・はく離については、メモ欄に異物の概要を記入すること。

Sheet 様式D-1-1(トンネル様式2P001) (63)
B2: ■定期点検記録様式 変状写真台帳 | Y2: Ⅰ
B3: フリガナ | D3: オオミズトウゲトンネル | H3: 路線名 | J3: 主要県道秋芳三隅線 | M3: 定期点検業者 | P3: 応用地質株式会社 | S3: 定期点検年月日 | U3: 44860 | Y3: Ⅱ
B4: 名 称 | D4: 大水峠トンネル | H4: 管理者名 | J4: 長門土木建築事務所 | M4: 定期点検者名 | P4: 太田 裕之 | Y4: Ⅲ
B5: 写真 番号 | C5: 覆工 スパン 番号 | D5: 80 | M5: 写真 番号 | N5: 覆工 スパン 番号 | Y5: Ⅳ
Y6: －
C7: 変状 番号 | D7: 1 | N7: 変状 番号
B9: 変状 部位 | C9: 対象 箇所 | D9: 覆工・坑門 | M9: 変状 部位 | N9: 対象 箇所
C11: 部位 区分 | D11: アーチ（右側） | N11: 部位 区分
B13: 変状区分 | D13: 材質劣化 | M13: 変状区分
B14: 変状種類 | D14: 鋼材腐食 | M14: 変状種類
B15: 健全性 | C15: 応急措置前 | E15: － | M15: 健全性 | N15: 応急措置前
C16: 応急措置後 | E16: Ⅱ | N16: 応急措置後
B17: 変状の発生範囲の規模 | E17: 0.05m×0.05m | M17: 変状の発生範囲の規模
B18: 前回定期点検時の状態 | E18: 同程度 | M18: 前回定期点検時の状態
B19: 調査方針 | E19: - | M19: 調査方針
B20: 対策履歴 | E20: なし | H20: 実施状況（実施日） | J20: - | M20: 対策履歴 | S20: 実施状況（実施日）
B21: メモ | D21: 鋼材腐食(Ⅱb)、防錆剤塗布 | M21: メモ
B22: 写真 番号 | C22: 覆工 スパン 番号 | M22: 写真 番号 | N22: 覆工 スパン 番号
C24: 変状 番号 | N24: 変状 番号
B26: 変状 部位 | C26: 対象 箇所 | M26: 変状 部位 | N26: 対象 箇所
C28: 部位 区分 | N28: 部位 区分
B30: 変状区分 | M30: 変状区分
B31: 変状種類 | M31: 変状種類
B32: 健全性 | C32: 応急措置前 | M32: 健全性 | N32: 応急措置前
C33: 応急措置後 | N33: 応急措置後
B34: 変状の発生範囲の規模 | M34: 変状の発生範囲の規模
B35: 前回定期点検時の状態 | M35: 前回定期点検時の状態
B36: 調査方針 | M36: 調査方針
B37: 対策履歴 | H37: 実施状況（実施日） | M37: 対策履歴 | S37: 実施状況（実施日）
B38: メモ | M38: メモ
C39: ※ 健全性（応急措置後）の判定区分Ⅱ～Ⅳについて添付すること。また、点検前に 実施された措置によりⅠと判定された箇所も添付すること。 | N39: ※ 変状の発生範囲の規模とは、対策を行う際に参考となる変状の長さや面積をいう。
N40: ※ 応急措置を実施しないで判定した変状の健全性は、健全性の応急措置後の欄に記入すること。
C41: ※ たたき落としを実施した場合は、実施後の写真を添付すること。 | N41: ※ 変状の発生範囲の規模は、面積・寸法を記載すること。
C42: ※ 附属物の取付状態に関する異常写真は別途、様式D-1-2でとりまとめること。 | N42: (ひび割れ幅のみmmとし、その他をm表記とする)
C43: ※ 変状数に準じてシートを追加すること。（１シートに１ページとすること。） | N43: ※ 構造用鋼材以外の異物に伴ううき・はく離については、メモ欄に異物の概要を記入すること。

Sheet 様式D-1-1(トンネル様式2P001) (64)
B2: ■定期点検記録様式 変状写真台帳 | Y2: Ⅰ
B3: フリガナ | D3: オオミズトウゲトンネル | H3: 路線名 | J3: 主要県道秋芳三隅線 | M3: 定期点検業者 | P3: 応用地質株式会社 | S3: 定期点検年月日 | U3: 44860 | Y3: Ⅱ
B4: 名 称 | D4: 大水峠トンネル | H4: 管理者名 | J4: 長門土木建築事務所 | M4: 定期点検者名 | P4: 太田 裕之 | Y4: Ⅲ
B5: 写真 番号 | C5: 覆工 スパン 番号 | D5: 81 | M5: 写真 番号 | N5: 覆工 スパン 番号 | O5: 81 | Y5: Ⅳ
Y6: －
C7: 変状 番号 | D7: 1 | N7: 変状 番号 | O7: 2
B9: 変状 部位 | C9: 対象 箇所 | D9: 覆工・坑門 | M9: 変状 部位 | N9: 対象 箇所 | O9: 覆工・坑門
C11: 部位 区分 | D11: 横断目地（天端） | N11: 部位 区分 | O11: 横断目地（左側）
B13: 変状区分 | D13: 材質劣化 | M13: 変状区分 | O13: 材質劣化
B14: 変状種類 | D14: うき・はく離 | M14: 変状種類 | O14: うき・はく離
B15: 健全性 | C15: 応急措置前 | E15: － | M15: 健全性 | N15: 応急措置前 | P15: Ⅳ
C16: 応急措置後 | E16: Ⅱ | N16: 応急措置後 | P16: Ⅰ
B17: 変状の発生範囲の規模 | E17: 0.6m×0.1m | M17: 変状の発生範囲の規模 | P17: 0.2m×0.05m
B18: 前回定期点検時の状態 | E18: はく落0.6m×0.1m(Ⅰ) | M18: 前回定期点検時の状態 | P18: はく落0.2m×0.05m(Ⅰ)
B19: 調査方針 | E19: - | M19: 調査方針 | P19: -
B20: 対策履歴 | E20: なし | H20: 実施状況（実施日） | J20: - | M20: 対策履歴 | P20: なし | S20: 実施状況（実施日） | U20: -
B21: メモ | D21: 目地部の豆板(Ⅱb)、浸透固化材塗布、再判定 | M21: メモ | O21: 目地部のうき(Ⅳ→Ⅰ)、今回点検時に叩き落とし実施(深さ100mm)、浸透固化材塗布、再判定
B22: 写真 番号 | C22: 覆工 スパン 番号 | D22: 81 | M22: 写真 番号 | N22: 覆工 スパン 番号 | O22: 81
C24: 変状 番号 | D24: 3 | N24: 変状 番号 | O24: 4
B26: 変状 部位 | C26: 対象 箇所 | D26: 覆工・坑門 | M26: 変状 部位 | N26: 対象 箇所 | O26: 覆工・坑門
C28: 部位 区分 | D28: 横断目地（右側） | N28: 部位 区分 | O28: 側壁（右側）
B30: 変状区分 | D30: 材質劣化 | M30: 変状区分 | O30: 材質劣化
B31: 変状種類 | D31: うき・はく離 | M31: 変状種類 | O31: 鋼材腐食
B32: 健全性 | C32: 応急措置前 | E32: Ⅱ | M32: 健全性 | N32: 応急措置前 | P32: －
C33: 応急措置後 | E33: Ⅰ | N33: 応急措置後 | P33: Ⅱ
B34: 変状の発生範囲の規模 | E34: 0.2m×0.05m | M34: 変状の発生範囲の規模 | P34: 0.05m×0.05m
B35: 前回定期点検時の状態 | E35: なし | M35: 前回定期点検時の状態 | P35: 同程度
B36: 調査方針 | E36: - | M36: 調査方針 | P36: -
B37: 対策履歴 | E37: なし | H37: 実施状況（実施日） | J37: - | M37: 対策履歴 | P37: なし | S37: 実施状況（実施日） | U37: -
B38: メモ | D38: 目地部のうき(Ⅱb→Ⅰ)、今回点検時に叩き落とし実施(深さ50mm) | M38: メモ | O38: 鋼材露出(深さ50mm)(Ⅱb)、部分的に露出した鋼材(表面的な腐食)に防錆剤塗布
C39: ※ 健全性（応急措置後）の判定区分Ⅱ～Ⅳについて添付すること。また、点検前に 実施された措置によりⅠと判定された箇所も添付すること。 | N39: ※ 変状の発生範囲の規模とは、対策を行う際に参考となる変状の長さや面積をいう。
N40: ※ 応急措置を実施しないで判定した変状の健全性は、健全性の応急措置後の欄に記入すること。
C41: ※ たたき落としを実施した場合は、実施後の写真を添付すること。 | N41: ※ 変状の発生範囲の規模は、面積・寸法を記載すること。
C42: ※ 附属物の取付状態に関する異常写真は別途、様式D-1-2でとりまとめること。 | N42: (ひび割れ幅のみmmとし、その他をm表記とする)
C43: ※ 変状数に準じてシートを追加すること。（１シートに１ページとすること。） | N43: ※ 構造用鋼材以外の異物に伴ううき・はく離については、メモ欄に異物の概要を記入すること。

Sheet 様式D-1-1(トンネル様式2P001) (65)
B2: ■定期点検記録様式 変状写真台帳 | Y2: Ⅰ
B3: フリガナ | D3: オオミズトウゲトンネル | H3: 路線名 | J3: 主要県道秋芳三隅線 | M3: 定期点検業者 | P3: 応用地質株式会社 | S3: 定期点検年月日 | U3: 44860 | Y3: Ⅱ
B4: 名 称 | D4: 大水峠トンネル | H4: 管理者名 | J4: 長門土木建築事務所 | M4: 定期点検者名 | P4: 太田 裕之 | Y4: Ⅲ
B5: 写真 番号 | C5: 覆工 スパン 番号 | D5: 82 | M5: 写真 番号 | N5: 覆工 スパン 番号 | O5: 82 | Y5: Ⅳ
Y6: －
C7: 変状 番号 | D7: 1 | N7: 変状 番号 | O7: 2
B9: 変状 部位 | C9: 対象 箇所 | D9: 覆工・坑門 | M9: 変状 部位 | N9: 対象 箇所 | O9: 覆工・坑門
C11: 部位 区分 | D11: アーチ（左側） | N11: 部位 区分 | O11: 横断目地（左側）
B13: 変状区分 | D13: 材質劣化 | M13: 変状区分 | O13: 材質劣化
B14: 変状種類 | D14: 鋼材腐食 | M14: 変状種類 | O14: うき・はく離
B15: 健全性 | C15: 応急措置前 | E15: － | M15: 健全性 | N15: 応急措置前 | P15: －
C16: 応急措置後 | E16: Ⅱ | N16: 応急措置後 | P16: Ⅱ
B17: 変状の発生範囲の規模 | E17: 0.05m×0.3m | M17: 変状の発生範囲の規模 | P17: 0.4m×0.3m
B18: 前回定期点検時の状態 | E18: 同程度 | M18: 前回定期点検時の状態 | P18: 同程度
B19: 調査方針 | E19: - | M19: 調査方針 | P19: -
B20: 対策履歴 | E20: なし | H20: 実施状況（実施日） | J20: - | M20: 対策履歴 | P20: なし | S20: 実施状況（実施日） | U20: -
B21: メモ | D21: 鋼材露出(Ⅱa)、防錆剤塗布 | M21: メモ | O21: 目地部に閉合しかけのうき(Ⅱa)、浸透固化材塗布
B22: 写真 番号 | C22: 覆工 スパン 番号 | D22: 82 | M22: 写真 番号 | N22: 覆工 スパン 番号
C24: 変状 番号 | D24: 3 | N24: 変状 番号
B26: 変状 部位 | C26: 対象 箇所 | D26: 覆工・坑門 | M26: 変状 部位 | N26: 対象 箇所
C28: 部位 区分 | D28: アーチ（右側） | N28: 部位 区分
B30: 変状区分 | D30: 材質劣化 | M30: 変状区分
B31: 変状種類 | D31: 鋼材腐食 | M31: 変状種類
B32: 健全性 | C32: 応急措置前 | E32: － | M32: 健全性 | N32: 応急措置前
C33: 応急措置後 | E33: Ⅱ | N33: 応急措置後
B34: 変状の発生範囲の規模 | E34: 0.05m×0.05m | M34: 変状の発生範囲の規模
B35: 前回定期点検時の状態 | E35: 同程度 | M35: 前回定期点検時の状態
B36: 調査方針 | E36: - | M36: 調査方針
B37: 対策履歴 | E37: なし | H37: 実施状況（実施日） | J37: - | M37: 対策履歴 | S37: 実施状況（実施日）
B38: メモ | D38: 鋼材腐食(Ⅱb)、防錆剤塗布 | M38: メモ
C39: ※ 健全性（応急措置後）の判定区分Ⅱ～Ⅳについて添付すること。また、点検前に 実施された措置によりⅠと判定された箇所も添付すること。 | N39: ※ 変状の発生範囲の規模とは、対策を行う際に参考となる変状の長さや面積をいう。
N40: ※ 応急措置を実施しないで判定した変状の健全性は、健全性の応急措置後の欄に記入すること。
C41: ※ たたき落としを実施した場合は、実施後の写真を添付すること。 | N41: ※ 変状の発生範囲の規模は、面積・寸法を記載すること。
C42: ※ 附属物の取付状態に関する異常写真は別途、様式D-1-2でとりまとめること。 | N42: (ひび割れ幅のみmmとし、その他をm表記とする)
C43: ※ 変状数に準じてシートを追加すること。（１シートに１ページとすること。） | N43: ※ 構造用鋼材以外の異物に伴ううき・はく離については、メモ欄に異物の概要を記入すること。

Sheet 様式D-1-1(トンネル様式2P001) (66)
B2: ■定期点検記録様式 変状写真台帳 | Y2: Ⅰ
B3: フリガナ | D3: オオミズトウゲトンネル | H3: 路線名 | J3: 主要県道秋芳三隅線 | M3: 定期点検業者 | P3: 応用地質株式会社 | S3: 定期点検年月日 | U3: 44860 | Y3: Ⅱ
B4: 名 称 | D4: 大水峠トンネル | H4: 管理者名 | J4: 長門土木建築事務所 | M4: 定期点検者名 | P4: 太田 裕之 | Y4: Ⅲ
B5: 写真 番号 | C5: 覆工 スパン 番号 | D5: 83 | M5: 写真 番号 | N5: 覆工 スパン 番号 | O5: 83 | Y5: Ⅳ
Y6: －
C7: 変状 番号 | D7: 1 | N7: 変状 番号 | O7: 2
B9: 変状 部位 | C9: 対象 箇所 | D9: 覆工・坑門 | M9: 変状 部位 | N9: 対象 箇所 | O9: 覆工・坑門
C11: 部位 区分 | D11: 側壁（左側） | N11: 部位 区分 | O11: アーチ（左側）
B13: 変状区分 | D13: 材質劣化 | M13: 変状区分 | O13: 材質劣化
B14: 変状種類 | D14: 鋼材腐食 | M14: 変状種類 | O14: 鋼材腐食
B15: 健全性 | C15: 応急措置前 | E15: － | M15: 健全性 | N15: 応急措置前 | P15: －
C16: 応急措置後 | E16: Ⅱ | N16: 応急措置後 | P16: Ⅱ
B17: 変状の発生範囲の規模 | E17: 0.1m×0.1m | M17: 変状の発生範囲の規模 | P17: 0.05m×0.6m他
B18: 前回定期点検時の状態 | E18: 同程度 | M18: 前回定期点検時の状態 | P18: 同程度
B19: 調査方針 | E19: - | M19: 調査方針 | P19: -
B20: 対策履歴 | E20: なし | H20: 実施状況（実施日） | J20: - | M20: 対策履歴 | P20: なし | S20: 実施状況（実施日） | U20: -
B21: メモ | D21: 鋼材露出(深さ50mm)(Ⅱb)、部分的に露出した鋼材(表面的な腐食)に防錆剤塗布 | M21: メモ | O21: 2箇所の鋼材露出(Ⅱa)、防錆剤塗布
B22: 写真 番号 | C22: 覆工 スパン 番号 | D22: 83 | M22: 写真 番号 | N22: 覆工 スパン 番号 | O22: 83
C24: 変状 番号 | D24: 3 | N24: 変状 番号 | O24: 4
B26: 変状 部位 | C26: 対象 箇所 | D26: 覆工・坑門 | M26: 変状 部位 | N26: 対象 箇所 | O26: 覆工・坑門
C28: 部位 区分 | D28: 横断目地（天端） | N28: 部位 区分 | O28: アーチ（右側）
B30: 変状区分 | D30: 材質劣化 | M30: 変状区分 | O30: 材質劣化
B31: 変状種類 | D31: うき・はく離 | M31: 変状種類 | O31: 鋼材腐食
B32: 健全性 | C32: 応急措置前 | E32: － | M32: 健全性 | N32: 応急措置前 | P32: －
C33: 応急措置後 | E33: Ⅱ | N33: 応急措置後 | P33: Ⅱ
B34: 変状の発生範囲の規模 | E34: 1.3m×0.1m | M34: 変状の発生範囲の規模 | P34: 0.1m×0.1m
B35: 前回定期点検時の状態 | E35: 豆板1.3m×0.1m(Ⅱb) | M35: 前回定期点検時の状態 | P35: 同程度
B36: 調査方針 | E36: - | M36: 調査方針 | P36: -
B37: 対策履歴 | E37: なし | H37: 実施状況（実施日） | J37: - | M37: 対策履歴 | P37: なし | S37: 実施状況（実施日） | U37: -
B38: メモ | D38: 目地部の豆板(Ⅱa)、浸透固化材塗布、再判定 | M38: メモ | O38: 鋼材腐食(Ⅱb)、防錆剤塗布
C39: ※ 健全性（応急措置後）の判定区分Ⅱ～Ⅳについて添付すること。また、点検前に 実施された措置によりⅠと判定された箇所も添付すること。 | N39: ※ 変状の発生範囲の規模とは、対策を行う際に参考となる変状の長さや面積をいう。
N40: ※ 応急措置を実施しないで判定した変状の健全性は、健全性の応急措置後の欄に記入すること。
C41: ※ たたき落としを実施した場合は、実施後の写真を添付すること。 | N41: ※ 変状の発生範囲の規模は、面積・寸法を記載すること。
C42: ※ 附属物の取付状態に関する異常写真は別途、様式D-1-2でとりまとめること。 | N42: (ひび割れ幅のみmmとし、その他をm表記とする)
C43: ※ 変状数に準じてシートを追加すること。（１シートに１ページとすること。） | N43: ※ 構造用鋼材以外の異物に伴ううき・はく離については、メモ欄に異物の概要を記入すること。

Sheet 様式D-1-1(トンネル様式2P001) (67)
B2: ■定期点検記録様式 変状写真台帳 | Y2: Ⅰ
B3: フリガナ | D3: オオミズトウゲトンネル | H3: 路線名 | J3: 主要県道秋芳三隅線 | M3: 定期点検業者 | P3: 応用地質株式会社 | S3: 定期点検年月日 | U3: 44860 | Y3: Ⅱ
B4: 名 称 | D4: 大水峠トンネル | H4: 管理者名 | J4: 長門土木建築事務所 | M4: 定期点検者名 | P4: 太田 裕之 | Y4: Ⅲ
B5: 写真 番号 | C5: 覆工 スパン 番号 | D5: 83 | M5: 写真 番号 | N5: 覆工 スパン 番号 | Y5: Ⅳ
Y6: －
C7: 変状 番号 | D7: 5 | N7: 変状 番号
B9: 変状 部位 | C9: 対象 箇所 | D9: 覆工・坑門 | M9: 変状 部位 | N9: 対象 箇所
C11: 部位 区分 | D11: 側壁（左側） | N11: 部位 区分
B13: 変状区分 | D13: 外力 | M13: 変状区分
B14: 変状種類 | D14: ひび割れ | M14: 変状種類
B15: 健全性 | C15: 応急措置前 | E15: － | M15: 健全性 | N15: 応急措置前
C16: 応急措置後 | E16: Ⅱ | N16: 応急措置後
B17: 変状の発生範囲の規模 | E17: 1.9m×0.4mm他 | M17: 変状の発生範囲の規模
B18: 前回定期点検時の状態 | E18: ひび割れ3.7m×0.2mm他(Ⅰ) | M18: 前回定期点検時の状態
B19: 調査方針 | E19: - | M19: 調査方針
B20: 対策履歴 | E20: なし | H20: 実施状況（実施日） | J20: - | M20: 対策履歴 | S20: 実施状況（実施日）
B21: メモ | D21: 縦横断方向に遊離石灰を伴うひび割れ(Ⅱb)、再判定 | M21: メモ
B22: 写真 番号 | C22: 覆工 スパン 番号 | M22: 写真 番号 | N22: 覆工 スパン 番号
C24: 変状 番号 | N24: 変状 番号
B26: 変状 部位 | C26: 対象 箇所 | M26: 変状 部位 | N26: 対象 箇所
C28: 部位 区分 | N28: 部位 区分
B30: 変状区分 | M30: 変状区分
B31: 変状種類 | M31: 変状種類
B32: 健全性 | C32: 応急措置前 | M32: 健全性 | N32: 応急措置前
C33: 応急措置後 | N33: 応急措置後
B34: 変状の発生範囲の規模 | M34: 変状の発生範囲の規模
B35: 前回定期点検時の状態 | M35: 前回定期点検時の状態
B36: 調査方針 | M36: 調査方針
B37: 対策履歴 | H37: 実施状況（実施日） | M37: 対策履歴 | S37: 実施状況（実施日）
B38: メモ | M38: メモ
C39: ※ 健全性（応急措置後）の判定区分Ⅱ～Ⅳについて添付すること。また、点検前に 実施された措置によりⅠと判定された箇所も添付すること。 | N39: ※ 変状の発生範囲の規模とは、対策を行う際に参考となる変状の長さや面積をいう。
N40: ※ 応急措置を実施しないで判定した変状の健全性は、健全性の応急措置後の欄に記入すること。
C41: ※ たたき落としを実施した場合は、実施後の写真を添付すること。 | N41: ※ 変状の発生範囲の規模は、面積・寸法を記載すること。
C42: ※ 附属物の取付状態に関する異常写真は別途、様式D-1-2でとりまとめること。 | N42: (ひび割れ幅のみmmとし、その他をm表記とする)
C43: ※ 変状数に準じてシートを追加すること。（１シートに１ページとすること。） | N43: ※ 構造用鋼材以外の異物に伴ううき・はく離については、メモ欄に異物の概要を記入すること。

Sheet 様式D-1-1(トンネル様式2P001) (68)
B2: ■定期点検記録様式 変状写真台帳 | Y2: Ⅰ
B3: フリガナ | D3: オオミズトウゲトンネル | H3: 路線名 | J3: 主要県道秋芳三隅線 | M3: 定期点検業者 | P3: 応用地質株式会社 | S3: 定期点検年月日 | U3: 44860 | Y3: Ⅱ
B4: 名 称 | D4: 大水峠トンネル | H4: 管理者名 | J4: 長門土木建築事務所 | M4: 定期点検者名 | P4: 太田 裕之 | Y4: Ⅲ
B5: 写真 番号 | C5: 覆工 スパン 番号 | D5: 84 | M5: 写真 番号 | N5: 覆工 スパン 番号 | O5: 84 | Y5: Ⅳ
Y6: －
C7: 変状 番号 | D7: 1 | N7: 変状 番号 | O7: 2
B9: 変状 部位 | C9: 対象 箇所 | D9: 覆工・坑門 | M9: 変状 部位 | N9: 対象 箇所 | O9: 覆工・坑門
C11: 部位 区分 | D11: アーチ（左側） | N11: 部位 区分 | O11: アーチ（右側）
B13: 変状区分 | D13: 材質劣化 | M13: 変状区分 | O13: 材質劣化
B14: 変状種類 | D14: 鋼材腐食 | M14: 変状種類 | O14: 鋼材腐食
B15: 健全性 | C15: 応急措置前 | E15: － | M15: 健全性 | N15: 応急措置前 | P15: －
C16: 応急措置後 | E16: Ⅱ | N16: 応急措置後 | P16: Ⅱ
B17: 変状の発生範囲の規模 | E17: 0.05m×0.6m | M17: 変状の発生範囲の規模 | P17: 0.1m×0.5m
B18: 前回定期点検時の状態 | E18: 同程度 | M18: 前回定期点検時の状態 | P18: 同程度
B19: 調査方針 | E19: - | M19: 調査方針 | P19: -
B20: 対策履歴 | E20: なし | H20: 実施状況（実施日） | J20: - | M20: 対策履歴 | P20: なし | S20: 実施状況（実施日） | U20: -
B21: メモ | D21: 鋼材露出(Ⅱa)、防錆剤塗布 | M21: メモ | O21: 鋼材露出(深さ50mm)(Ⅱa)、部分的に露出した鋼材(表面的な腐食)に防錆剤塗布
B22: 写真 番号 | C22: 覆工 スパン 番号 | D22: 84 | M22: 写真 番号 | N22: 覆工 スパン 番号
C24: 変状 番号 | D24: 3 | N24: 変状 番号
B26: 変状 部位 | C26: 対象 箇所 | D26: 覆工・坑門 | M26: 変状 部位 | N26: 対象 箇所
C28: 部位 区分 | D28: 側壁（左側） | N28: 部位 区分
B30: 変状区分 | D30: 外力 | M30: 変状区分
B31: 変状種類 | D31: ひび割れ | M31: 変状種類
B32: 健全性 | C32: 応急措置前 | E32: － | M32: 健全性 | N32: 応急措置前
C33: 応急措置後 | E33: Ⅱ | N33: 応急措置後
B34: 変状の発生範囲の規模 | E34: 4.7m×0.4mm他 | M34: 変状の発生範囲の規模
B35: 前回定期点検時の状態 | E35: ひび割れ4.7m×0.4mm他(Ⅰ) | M35: 前回定期点検時の状態
B36: 調査方針 | E36: - | M36: 調査方針
B37: 対策履歴 | E37: なし | H37: 実施状況（実施日） | J37: - | M37: 対策履歴 | S37: 実施状況（実施日）
B38: メモ | D38: 縦横断方向に遊離石灰を伴うひび割れ(Ⅱb)、再判定 | M38: メモ
C39: ※ 健全性（応急措置後）の判定区分Ⅱ～Ⅳについて添付すること。また、点検前に 実施された措置によりⅠと判定された箇所も添付すること。 | N39: ※ 変状の発生範囲の規模とは、対策を行う際に参考となる変状の長さや面積をいう。
N40: ※ 応急措置を実施しないで判定した変状の健全性は、健全性の応急措置後の欄に記入すること。
C41: ※ たたき落としを実施した場合は、実施後の写真を添付すること。 | N41: ※ 変状の発生範囲の規模は、面積・寸法を記載すること。
C42: ※ 附属物の取付状態に関する異常写真は別途、様式D-1-2でとりまとめること。 | N42: (ひび割れ幅のみmmとし、その他をm表記とする)
C43: ※ 変状数に準じてシートを追加すること。（１シートに１ページとすること。） | N43: ※ 構造用鋼材以外の異物に伴ううき・はく離については、メモ欄に異物の概要を記入すること。

Sheet 様式D-1-1(トンネル様式2P001) (69)
B2: ■定期点検記録様式 変状写真台帳 | Y2: Ⅰ
B3: フリガナ | D3: オオミズトウゲトンネル | H3: 路線名 | J3: 主要県道秋芳三隅線 | M3: 定期点検業者 | P3: 応用地質株式会社 | S3: 定期点検年月日 | U3: 44860 | Y3: Ⅱ
B4: 名 称 | D4: 大水峠トンネル | H4: 管理者名 | J4: 長門土木建築事務所 | M4: 定期点検者名 | P4: 太田 裕之 | Y4: Ⅲ
B5: 写真 番号 | C5: 覆工 スパン 番号 | D5: 85 | M5: 写真 番号 | N5: 覆工 スパン 番号 | O5: 85 | Y5: Ⅳ
Y6: －
C7: 変状 番号 | D7: 1 | N7: 変状 番号 | O7: 2
B9: 変状 部位 | C9: 対象 箇所 | D9: 覆工・坑門 | M9: 変状 部位 | N9: 対象 箇所 | O9: 覆工・坑門
C11: 部位 区分 | D11: 側壁（左側） | N11: 部位 区分 | O11: アーチ（左側）
B13: 変状区分 | D13: 材質劣化 | M13: 変状区分 | O13: 材質劣化
B14: 変状種類 | D14: 鋼材腐食 | M14: 変状種類 | O14: 鋼材腐食
B15: 健全性 | C15: 応急措置前 | E15: － | M15: 健全性 | N15: 応急措置前 | P15: －
C16: 応急措置後 | E16: Ⅱ | N16: 応急措置後 | P16: Ⅱ
B17: 変状の発生範囲の規模 | E17: 0.1m×0.1m | M17: 変状の発生範囲の規模 | P17: 0.05m×0.3m他
B18: 前回定期点検時の状態 | E18: 同程度 | M18: 前回定期点検時の状態 | P18: 同程度
B19: 調査方針 | E19: - | M19: 調査方針 | P19: -
B20: 対策履歴 | E20: なし | H20: 実施状況（実施日） | J20: - | M20: 対策履歴 | P20: なし | S20: 実施状況（実施日） | U20: -
B21: メモ | D21: 鋼材露出(深さ50mm)(Ⅱb)、部分的に露出した鋼材(表面的な腐食)に防錆剤塗布 | M21: メモ | O21: 3箇所の鋼材露出(Ⅱa)、防錆剤塗布
B22: 写真 番号 | C22: 覆工 スパン 番号 | D22: 85 | M22: 写真 番号 | N22: 覆工 スパン 番号 | O22: 85
C24: 変状 番号 | D24: 3 | N24: 変状 番号 | O24: 4
B26: 変状 部位 | C26: 対象 箇所 | D26: 覆工・坑門 | M26: 変状 部位 | N26: 対象 箇所 | O26: 覆工・坑門
C28: 部位 区分 | D28: 横断目地（右側） | N28: 部位 区分 | O28: アーチ（右側）
B30: 変状区分 | D30: 材質劣化 | M30: 変状区分 | O30: 材質劣化
B31: 変状種類 | D31: うき・はく離 | M31: 変状種類 | O31: 鋼材腐食
B32: 健全性 | C32: 応急措置前 | E32: － | M32: 健全性 | N32: 応急措置前 | P32: －
C33: 応急措置後 | E33: Ⅱ | N33: 応急措置後 | P33: Ⅱ
B34: 変状の発生範囲の規模 | E34: 0.6m×0.1m | M34: 変状の発生範囲の規模 | P34: 0.05m×0.05m
B35: 前回定期点検時の状態 | E35: 同程度 | M35: 前回定期点検時の状態 | P35: 同程度
B36: 調査方針 | E36: - | M36: 調査方針 | P36: -
B37: 対策履歴 | E37: なし | H37: 実施状況（実施日） | J37: - | M37: 対策履歴 | P37: なし | S37: 実施状況（実施日） | U37: -
B38: メモ | D38: 目地部の豆板(Ⅱb)、浸透固化材塗布 | M38: メモ | O38: 鋼材腐食(Ⅱb)、防錆剤塗布
C39: ※ 健全性（応急措置後）の判定区分Ⅱ～Ⅳについて添付すること。また、点検前に 実施された措置によりⅠと判定された箇所も添付すること。 | N39: ※ 変状の発生範囲の規模とは、対策を行う際に参考となる変状の長さや面積をいう。
N40: ※ 応急措置を実施しないで判定した変状の健全性は、健全性の応急措置後の欄に記入すること。
C41: ※ たたき落としを実施した場合は、実施後の写真を添付すること。 | N41: ※ 変状の発生範囲の規模は、面積・寸法を記載すること。
C42: ※ 附属物の取付状態に関する異常写真は別途、様式D-1-2でとりまとめること。 | N42: (ひび割れ幅のみmmとし、その他をm表記とする)
C43: ※ 変状数に準じてシートを追加すること。（１シートに１ページとすること。） | N43: ※ 構造用鋼材以外の異物に伴ううき・はく離については、メモ欄に異物の概要を記入すること。

Sheet 様式D-1-1(トンネル様式2P001) (70)
B2: ■定期点検記録様式 変状写真台帳 | Y2: Ⅰ
B3: フリガナ | D3: オオミズトウゲトンネル | H3: 路線名 | J3: 主要県道秋芳三隅線 | M3: 定期点検業者 | P3: 応用地質株式会社 | S3: 定期点検年月日 | U3: 44860 | Y3: Ⅱ
B4: 名 称 | D4: 大水峠トンネル | H4: 管理者名 | J4: 長門土木建築事務所 | M4: 定期点検者名 | P4: 太田 裕之 | Y4: Ⅲ
B5: 写真 番号 | C5: 覆工 スパン 番号 | D5: 85 | M5: 写真 番号 | N5: 覆工 スパン 番号 | O5: 85 | Y5: Ⅳ
Y6: －
C7: 変状 番号 | D7: 5 | N7: 変状 番号 | O7: 6
B9: 変状 部位 | C9: 対象 箇所 | D9: 覆工・坑門 | M9: 変状 部位 | N9: 対象 箇所 | O9: 覆工・坑門
C11: 部位 区分 | D11: 側壁（右側） | N11: 部位 区分 | O11: 側壁（左側）
B13: 変状区分 | D13: 材質劣化 | M13: 変状区分 | O13: 外力
B14: 変状種類 | D14: 鋼材腐食 | M14: 変状種類 | O14: ひび割れ
B15: 健全性 | C15: 応急措置前 | E15: － | M15: 健全性 | N15: 応急措置前 | P15: －
C16: 応急措置後 | E16: Ⅱ | N16: 応急措置後 | P16: Ⅱ
B17: 変状の発生範囲の規模 | E17: 0.05m×0.05m | M17: 変状の発生範囲の規模 | P17: 10.4m×0.4mm
B18: 前回定期点検時の状態 | E18: 同程度 | M18: 前回定期点検時の状態 | P18: ひび割れ10.4m×0.3mm(Ⅰ)
B19: 調査方針 | E19: - | M19: 調査方針 | P19: -
B20: 対策履歴 | E20: なし | H20: 実施状況（実施日） | J20: - | M20: 対策履歴 | P20: なし | S20: 実施状況（実施日） | U20: -
B21: メモ | D21: 鋼材腐食(Ⅱb)、防錆剤塗布 | M21: メモ | O21: 遊離石灰を伴う水平ひび割れ(Ⅱb)、再判定
B22: 写真 番号 | C22: 覆工 スパン 番号 | M22: 写真 番号 | N22: 覆工 スパン 番号
C24: 変状 番号 | N24: 変状 番号
B26: 変状 部位 | C26: 対象 箇所 | M26: 変状 部位 | N26: 対象 箇所
C28: 部位 区分 | N28: 部位 区分
B30: 変状区分 | M30: 変状区分
B31: 変状種類 | M31: 変状種類
B32: 健全性 | C32: 応急措置前 | M32: 健全性 | N32: 応急措置前
C33: 応急措置後 | N33: 応急措置後
B34: 変状の発生範囲の規模 | M34: 変状の発生範囲の規模
B35: 前回定期点検時の状態 | M35: 前回定期点検時の状態
B36: 調査方針 | M36: 調査方針
B37: 対策履歴 | H37: 実施状況（実施日） | M37: 対策履歴 | S37: 実施状況（実施日）
B38: メモ | M38: メモ
C39: ※ 健全性（応急措置後）の判定区分Ⅱ～Ⅳについて添付すること。また、点検前に 実施された措置によりⅠと判定された箇所も添付すること。 | N39: ※ 変状の発生範囲の規模とは、対策を行う際に参考となる変状の長さや面積をいう。
N40: ※ 応急措置を実施しないで判定した変状の健全性は、健全性の応急措置後の欄に記入すること。
C41: ※ たたき落としを実施した場合は、実施後の写真を添付すること。 | N41: ※ 変状の発生範囲の規模は、面積・寸法を記載すること。
C42: ※ 附属物の取付状態に関する異常写真は別途、様式D-1-2でとりまとめること。 | N42: (ひび割れ幅のみmmとし、その他をm表記とする)
C43: ※ 変状数に準じてシートを追加すること。（１シートに１ページとすること。） | N43: ※ 構造用鋼材以外の異物に伴ううき・はく離については、メモ欄に異物の概要を記入すること。

Sheet 様式D-1-1(トンネル様式2P001) (71)
B2: ■定期点検記録様式 変状写真台帳 | Y2: Ⅰ
B3: フリガナ | D3: オオミズトウゲトンネル | H3: 路線名 | J3: 主要県道秋芳三隅線 | M3: 定期点検業者 | P3: 応用地質株式会社 | S3: 定期点検年月日 | U3: 44860 | Y3: Ⅱ
B4: 名 称 | D4: 大水峠トンネル | H4: 管理者名 | J4: 長門土木建築事務所 | M4: 定期点検者名 | P4: 太田 裕之 | Y4: Ⅲ
B5: 写真 番号 | C5: 覆工 スパン 番号 | D5: 86 | M5: 写真 番号 | N5: 覆工 スパン 番号 | O5: 86 | Y5: Ⅳ
Y6: －
C7: 変状 番号 | D7: 1 | N7: 変状 番号 | O7: 2
B9: 変状 部位 | C9: 対象 箇所 | D9: 覆工・坑門 | M9: 変状 部位 | N9: 対象 箇所 | O9: 覆工・坑門
C11: 部位 区分 | D11: アーチ（左側） | N11: 部位 区分 | O11: 横断目地（左側）
B13: 変状区分 | D13: 材質劣化 | M13: 変状区分 | O13: 漏水
B14: 変状種類 | D14: 鋼材腐食 | M14: 変状種類 | O14: 漏水
B15: 健全性 | C15: 応急措置前 | E15: － | M15: 健全性 | N15: 応急措置前 | P15: －
C16: 応急措置後 | E16: Ⅱ | N16: 応急措置後 | P16: Ⅱ
B17: 変状の発生範囲の規模 | E17: 0.05m×0.05m | M17: 変状の発生範囲の規模 | P17: -
B18: 前回定期点検時の状態 | E18: 同程度 | M18: 前回定期点検時の状態 | P18: 同程度
B19: 調査方針 | E19: - | M19: 調査方針 | P19: -
B20: 対策履歴 | E20: なし | H20: 実施状況（実施日） | J20: - | M20: 対策履歴 | P20: なし | S20: 実施状況（実施日） | U20: -
B21: メモ | D21: 鋼材腐食(Ⅱb)、防錆剤塗布 | M21: メモ | O21: 目地部の漏水(Ⅱb)、路面に土砂堆積あり
B22: 写真 番号 | C22: 覆工 スパン 番号 | M22: 写真 番号 | N22: 覆工 スパン 番号
C24: 変状 番号 | N24: 変状 番号
B26: 変状 部位 | C26: 対象 箇所 | M26: 変状 部位 | N26: 対象 箇所
C28: 部位 区分 | N28: 部位 区分
B30: 変状区分 | M30: 変状区分
B31: 変状種類 | M31: 変状種類
B32: 健全性 | C32: 応急措置前 | M32: 健全性 | N32: 応急措置前
C33: 応急措置後 | N33: 応急措置後
B34: 変状の発生範囲の規模 | M34: 変状の発生範囲の規模
B35: 前回定期点検時の状態 | M35: 前回定期点検時の状態
B36: 調査方針 | M36: 調査方針
B37: 対策履歴 | H37: 実施状況（実施日） | M37: 対策履歴 | S37: 実施状況（実施日）
B38: メモ | M38: メモ
C39: ※ 健全性（応急措置後）の判定区分Ⅱ～Ⅳについて添付すること。また、点検前に 実施された措置によりⅠと判定された箇所も添付すること。 | N39: ※ 変状の発生範囲の規模とは、対策を行う際に参考となる変状の長さや面積をいう。
N40: ※ 応急措置を実施しないで判定した変状の健全性は、健全性の応急措置後の欄に記入すること。
C41: ※ たたき落としを実施した場合は、実施後の写真を添付すること。 | N41: ※ 変状の発生範囲の規模は、面積・寸法を記載すること。
C42: ※ 附属物の取付状態に関する異常写真は別途、様式D-1-2でとりまとめること。 | N42: (ひび割れ幅のみmmとし、その他をm表記とする)
C43: ※ 変状数に準じてシートを追加すること。（１シートに１ページとすること。） | N43: ※ 構造用鋼材以外の異物に伴ううき・はく離については、メモ欄に異物の概要を記入すること。

Sheet 様式D-1-1(トンネル様式2P001) (72)
B2: ■定期点検記録様式 変状写真台帳 | Y2: Ⅰ
B3: フリガナ | D3: オオミズトウゲトンネル | H3: 路線名 | J3: 主要県道秋芳三隅線 | M3: 定期点検業者 | P3: 応用地質株式会社 | S3: 定期点検年月日 | U3: 44860 | Y3: Ⅱ
B4: 名 称 | D4: 大水峠トンネル | H4: 管理者名 | J4: 長門土木建築事務所 | M4: 定期点検者名 | P4: 太田 裕之 | Y4: Ⅲ
B5: 写真 番号 | C5: 覆工 スパン 番号 | D5: 87 | M5: 写真 番号 | N5: 覆工 スパン 番号 | O5: 87 | Y5: Ⅳ
Y6: －
C7: 変状 番号 | D7: 1 | N7: 変状 番号 | O7: 2
B9: 変状 部位 | C9: 対象 箇所 | D9: 覆工・坑門 | M9: 変状 部位 | N9: 対象 箇所 | O9: 覆工・坑門
C11: 部位 区分 | D11: 側壁（左側） | N11: 部位 区分 | O11: 横断目地（左側）
B13: 変状区分 | D13: 漏水 | M13: 変状区分 | O13: 漏水
B14: 変状種類 | D14: 漏水 | M14: 変状種類 | O14: 漏水
B15: 健全性 | C15: 応急措置前 | E15: － | M15: 健全性 | N15: 応急措置前 | P15: －
C16: 応急措置後 | E16: Ⅱ | N16: 応急措置後 | P16: Ⅱ
B17: 変状の発生範囲の規模 | E17: - | M17: 変状の発生範囲の規模 | P17: -
B18: 前回定期点検時の状態 | E18: 漏水(Ⅰ) | M18: 前回定期点検時の状態 | P18: 路面の漏水・帯水(Ⅱa)、側壁の滲み
B19: 調査方針 | E19: - | M19: 調査方針 | P19: -
B20: 対策履歴 | E20: なし | H20: 実施状況（実施日） | J20: - | M20: 対策履歴 | P20: なし | S20: 実施状況（実施日） | U20: -
B21: メモ | D21: ひび割れ沿いに遊離石灰を伴う漏水(Ⅱb)、再判定 | M21: メモ | O21: 目地部に遊離石灰を伴う漏水(Ⅱb)、路面に土砂堆積あり、再判定
B22: 写真 番号 | C22: 覆工 スパン 番号 | M22: 写真 番号 | N22: 覆工 スパン 番号
C24: 変状 番号 | N24: 変状 番号
B26: 変状 部位 | C26: 対象 箇所 | M26: 変状 部位 | N26: 対象 箇所
C28: 部位 区分 | N28: 部位 区分
B30: 変状区分 | M30: 変状区分
B31: 変状種類 | M31: 変状種類
B32: 健全性 | C32: 応急措置前 | M32: 健全性 | N32: 応急措置前
C33: 応急措置後 | N33: 応急措置後
B34: 変状の発生範囲の規模 | M34: 変状の発生範囲の規模
B35: 前回定期点検時の状態 | M35: 前回定期点検時の状態
B36: 調査方針 | M36: 調査方針
B37: 対策履歴 | H37: 実施状況（実施日） | M37: 対策履歴 | S37: 実施状況（実施日）
B38: メモ | M38: メモ
C39: ※ 健全性（応急措置後）の判定区分Ⅱ～Ⅳについて添付すること。また、点検前に 実施された措置によりⅠと判定された箇所も添付すること。 | N39: ※ 変状の発生範囲の規模とは、対策を行う際に参考となる変状の長さや面積をいう。
N40: ※ 応急措置を実施しないで判定した変状の健全性は、健全性の応急措置後の欄に記入すること。
C41: ※ たたき落としを実施した場合は、実施後の写真を添付すること。 | N41: ※ 変状の発生範囲の規模は、面積・寸法を記載すること。
C42: ※ 附属物の取付状態に関する異常写真は別途、様式D-1-2でとりまとめること。 | N42: (ひび割れ幅のみmmとし、その他をm表記とする)
C43: ※ 変状数に準じてシートを追加すること。（１シートに１ページとすること。） | N43: ※ 構造用鋼材以外の異物に伴ううき・はく離については、メモ欄に異物の概要を記入すること。

Sheet 様式D-1-1(トンネル様式2P001) (73)
B2: ■定期点検記録様式 変状写真台帳 | Y2: Ⅰ
B3: フリガナ | D3: オオミズトウゲトンネル | H3: 路線名 | J3: 主要県道秋芳三隅線 | M3: 定期点検業者 | P3: 応用地質株式会社 | S3: 定期点検年月日 | U3: 44860 | Y3: Ⅱ
B4: 名 称 | D4: 大水峠トンネル | H4: 管理者名 | J4: 長門土木建築事務所 | M4: 定期点検者名 | P4: 太田 裕之 | Y4: Ⅲ
B5: 写真 番号 | C5: 覆工 スパン 番号 | D5: 88 | M5: 写真 番号 | N5: 覆工 スパン 番号 | Y5: Ⅳ
Y6: －
C7: 変状 番号 | D7: 1 | N7: 変状 番号
B9: 変状 部位 | C9: 対象 箇所 | D9: 覆工・坑門 | M9: 変状 部位 | N9: 対象 箇所
C11: 部位 区分 | D11: 側壁（左側） | N11: 部位 区分
B13: 変状区分 | D13: 外力 | M13: 変状区分
B14: 変状種類 | D14: ひび割れ | M14: 変状種類
B15: 健全性 | C15: 応急措置前 | E15: － | M15: 健全性 | N15: 応急措置前
C16: 応急措置後 | E16: Ⅱ | N16: 応急措置後
B17: 変状の発生範囲の規模 | E17: 10.4m×0.2mm他 | M17: 変状の発生範囲の規模
B18: 前回定期点検時の状態 | E18: ひび割れ10.4m×0.15mm他(Ⅰ) | M18: 前回定期点検時の状態
B19: 調査方針 | E19: - | M19: 調査方針
B20: 対策履歴 | E20: なし | H20: 実施状況（実施日） | J20: - | M20: 対策履歴 | S20: 実施状況（実施日）
B21: メモ | D21: 縦横断方向に遊離石灰を伴うひび割れ(Ⅱb)、再判定 | M21: メモ
B22: 写真 番号 | C22: 覆工 スパン 番号 | M22: 写真 番号 | N22: 覆工 スパン 番号
C24: 変状 番号 | N24: 変状 番号
B26: 変状 部位 | C26: 対象 箇所 | M26: 変状 部位 | N26: 対象 箇所
C28: 部位 区分 | N28: 部位 区分
B30: 変状区分 | M30: 変状区分
B31: 変状種類 | M31: 変状種類
B32: 健全性 | C32: 応急措置前 | M32: 健全性 | N32: 応急措置前
C33: 応急措置後 | N33: 応急措置後
B34: 変状の発生範囲の規模 | M34: 変状の発生範囲の規模
B35: 前回定期点検時の状態 | M35: 前回定期点検時の状態
B36: 調査方針 | M36: 調査方針
B37: 対策履歴 | H37: 実施状況（実施日） | M37: 対策履歴 | S37: 実施状況（実施日）
B38: メモ | M38: メモ
C39: ※ 健全性（応急措置後）の判定区分Ⅱ～Ⅳについて添付すること。また、点検前に 実施された措置によりⅠと判定された箇所も添付すること。 | N39: ※ 変状の発生範囲の規模とは、対策を行う際に参考となる変状の長さや面積をいう。
N40: ※ 応急措置を実施しないで判定した変状の健全性は、健全性の応急措置後の欄に記入すること。
C41: ※ たたき落としを実施した場合は、実施後の写真を添付すること。 | N41: ※ 変状の発生範囲の規模は、面積・寸法を記載すること。
C42: ※ 附属物の取付状態に関する異常写真は別途、様式D-1-2でとりまとめること。 | N42: (ひび割れ幅のみmmとし、その他をm表記とする)
C43: ※ 変状数に準じてシートを追加すること。（１シートに１ページとすること。） | N43: ※ 構造用鋼材以外の異物に伴ううき・はく離については、メモ欄に異物の概要を記入すること。

Sheet 様式D-1-1(トンネル様式2P001) (74)
B2: ■定期点検記録様式 変状写真台帳 | Y2: Ⅰ
B3: フリガナ | D3: オオミズトウゲトンネル | H3: 路線名 | J3: 主要県道秋芳三隅線 | M3: 定期点検業者 | P3: 応用地質株式会社 | S3: 定期点検年月日 | U3: 44860 | Y3: Ⅱ
B4: 名 称 | D4: 大水峠トンネル | H4: 管理者名 | J4: 長門土木建築事務所 | M4: 定期点検者名 | P4: 太田 裕之 | Y4: Ⅲ
B5: 写真 番号 | C5: 覆工 スパン 番号 | D5: 89 | M5: 写真 番号 | N5: 覆工 スパン 番号 | O5: 89 | Y5: Ⅳ
Y6: －
C7: 変状 番号 | D7: 1 | N7: 変状 番号 | O7: 2
B9: 変状 部位 | C9: 対象 箇所 | D9: 覆工・坑門 | M9: 変状 部位 | N9: 対象 箇所 | O9: 覆工・坑門
C11: 部位 区分 | D11: アーチ（左側） | N11: 部位 区分 | O11: 横断目地（左側）
B13: 変状区分 | D13: 材質劣化 | M13: 変状区分 | O13: 漏水
B14: 変状種類 | D14: 鋼材腐食 | M14: 変状種類 | O14: 漏水
B15: 健全性 | C15: 応急措置前 | E15: － | M15: 健全性 | N15: 応急措置前 | P15: －
C16: 応急措置後 | E16: Ⅱ | N16: 応急措置後 | P16: Ⅱ
B17: 変状の発生範囲の規模 | E17: 0.1m×0.1m | M17: 変状の発生範囲の規模 | P17: -
B18: 前回定期点検時の状態 | E18: 同程度 | M18: 前回定期点検時の状態 | P18: 同程度
B19: 調査方針 | E19: - | M19: 調査方針 | P19: -
B20: 対策履歴 | E20: なし | H20: 実施状況（実施日） | J20: - | M20: 対策履歴 | P20: なし | S20: 実施状況（実施日） | U20: -
B21: メモ | D21: 鋼材腐食(Ⅱb)、防錆剤塗布 | M21: メモ | O21: 目地部に遊離石灰を伴う漏水(Ⅱb)
B22: 写真 番号 | C22: 覆工 スパン 番号 | D22: 89 | M22: 写真 番号 | N22: 覆工 スパン 番号 | O22: 89
C24: 変状 番号 | D24: 3 | N24: 変状 番号 | O24: 4
B26: 変状 部位 | C26: 対象 箇所 | D26: 覆工・坑門 | M26: 変状 部位 | N26: 対象 箇所 | O26: 覆工・坑門
C28: 部位 区分 | D28: 横断目地（天端） | N28: 部位 区分 | O28: 側壁（左側）
B30: 変状区分 | D30: 材質劣化 | M30: 変状区分 | O30: 外力
B31: 変状種類 | D31: うき・はく離 | M31: 変状種類 | O31: ひび割れ
B32: 健全性 | C32: 応急措置前 | E32: － | M32: 健全性 | N32: 応急措置前 | P32: －
C33: 応急措置後 | E33: Ⅱ | N33: 応急措置後 | P33: Ⅱ
B34: 変状の発生範囲の規模 | E34: 1.3m×0.1m | M34: 変状の発生範囲の規模 | P34: 4.5m×0.7mm他
B35: 前回定期点検時の状態 | E35: 豆板1.3m×0.1m(Ⅱb) | M35: 前回定期点検時の状態 | P35: ひび割れ4.5m×0.7mm他(Ⅰ)
B36: 調査方針 | E36: - | M36: 調査方針 | P36: -
B37: 対策履歴 | E37: なし | H37: 実施状況（実施日） | J37: - | M37: 対策履歴 | P37: なし | S37: 実施状況（実施日） | U37: -
B38: メモ | D38: 目地部の豆板(Ⅱa)、浸透固化材塗布、再判定 | M38: メモ | O38: 縦横断方向に遊離石灰を伴うひび割れ(Ⅱb)、再判定
C39: ※ 健全性（応急措置後）の判定区分Ⅱ～Ⅳについて添付すること。また、点検前に 実施された措置によりⅠと判定された箇所も添付すること。 | N39: ※ 変状の発生範囲の規模とは、対策を行う際に参考となる変状の長さや面積をいう。
N40: ※ 応急措置を実施しないで判定した変状の健全性は、健全性の応急措置後の欄に記入すること。
C41: ※ たたき落としを実施した場合は、実施後の写真を添付すること。 | N41: ※ 変状の発生範囲の規模は、面積・寸法を記載すること。
C42: ※ 附属物の取付状態に関する異常写真は別途、様式D-1-2でとりまとめること。 | N42: (ひび割れ幅のみmmとし、その他をm表記とする)
C43: ※ 変状数に準じてシートを追加すること。（１シートに１ページとすること。） | N43: ※ 構造用鋼材以外の異物に伴ううき・はく離については、メモ欄に異物の概要を記入すること。

Sheet 様式D-1-1(トンネル様式2P001) (75)
B2: ■定期点検記録様式 変状写真台帳 | Y2: Ⅰ
B3: フリガナ | D3: オオミズトウゲトンネル | H3: 路線名 | J3: 主要県道秋芳三隅線 | M3: 定期点検業者 | P3: 応用地質株式会社 | S3: 定期点検年月日 | U3: 44860 | Y3: Ⅱ
B4: 名 称 | D4: 大水峠トンネル | H4: 管理者名 | J4: 長門土木建築事務所 | M4: 定期点検者名 | P4: 太田 裕之 | Y4: Ⅲ
B5: 写真 番号 | C5: 覆工 スパン 番号 | D5: 90 | M5: 写真 番号 | N5: 覆工 スパン 番号 | O5: 90 | Y5: Ⅳ
Y6: －
C7: 変状 番号 | D7: 1 | N7: 変状 番号 | O7: 2
B9: 変状 部位 | C9: 対象 箇所 | D9: 覆工・坑門 | M9: 変状 部位 | N9: 対象 箇所 | O9: 覆工・坑門
C11: 部位 区分 | D11: アーチ（左側） | N11: 部位 区分 | O11: アーチ（左側）
B13: 変状区分 | D13: 材質劣化 | M13: 変状区分 | O13: 材質劣化
B14: 変状種類 | D14: 鋼材腐食 | M14: 変状種類 | O14: 鋼材腐食
B15: 健全性 | C15: 応急措置前 | E15: － | M15: 健全性 | N15: 応急措置前 | P15: －
C16: 応急措置後 | E16: Ⅱ | N16: 応急措置後 | P16: Ⅱ
B17: 変状の発生範囲の規模 | E17: 0.05m×0.5m | M17: 変状の発生範囲の規模 | P17: 0.1m×0.1m
B18: 前回定期点検時の状態 | E18: 同程度 | M18: 前回定期点検時の状態 | P18: 同程度
B19: 調査方針 | E19: - | M19: 調査方針 | P19: -
B20: 対策履歴 | E20: なし | H20: 実施状況（実施日） | J20: - | M20: 対策履歴 | P20: なし | S20: 実施状況（実施日） | U20: -
B21: メモ | D21: 鋼材露出(Ⅱa)、防錆剤塗布 | M21: メモ | O21: 鋼材露出(Ⅱa)、防錆剤塗布
B22: 写真 番号 | C22: 覆工 スパン 番号 | D22: 90 | M22: 写真 番号 | N22: 覆工 スパン 番号 | O22: 90
C24: 変状 番号 | D24: 3 | N24: 変状 番号 | O24: 4
B26: 変状 部位 | C26: 対象 箇所 | D26: 覆工・坑門 | M26: 変状 部位 | N26: 対象 箇所 | O26: 覆工・坑門
C28: 部位 区分 | D28: アーチ（左側） | N28: 部位 区分 | O28: アーチ（左側）
B30: 変状区分 | D30: 材質劣化 | M30: 変状区分 | O30: 材質劣化
B31: 変状種類 | D31: 鋼材腐食 | M31: 変状種類 | O31: 鋼材腐食
B32: 健全性 | C32: 応急措置前 | E32: － | M32: 健全性 | N32: 応急措置前 | P32: －
C33: 応急措置後 | E33: Ⅱ | N33: 応急措置後 | P33: Ⅱ
B34: 変状の発生範囲の規模 | E34: 0.05m×0.4m | M34: 変状の発生範囲の規模 | P34: 0.1m×0.1m
B35: 前回定期点検時の状態 | E35: 同程度 | M35: 前回定期点検時の状態 | P35: 同程度
B36: 調査方針 | E36: - | M36: 調査方針 | P36: -
B37: 対策履歴 | E37: なし | H37: 実施状況（実施日） | J37: - | M37: 対策履歴 | P37: なし | S37: 実施状況（実施日） | U37: -
B38: メモ | D38: 鋼材露出(Ⅱa)、防錆剤塗布 | M38: メモ | O38: 鋼材露出(Ⅱa)、防錆剤塗布
C39: ※ 健全性（応急措置後）の判定区分Ⅱ～Ⅳについて添付すること。また、点検前に 実施された措置によりⅠと判定された箇所も添付すること。 | N39: ※ 変状の発生範囲の規模とは、対策を行う際に参考となる変状の長さや面積をいう。
N40: ※ 応急措置を実施しないで判定した変状の健全性は、健全性の応急措置後の欄に記入すること。
C41: ※ たたき落としを実施した場合は、実施後の写真を添付すること。 | N41: ※ 変状の発生範囲の規模は、面積・寸法を記載すること。
C42: ※ 附属物の取付状態に関する異常写真は別途、様式D-1-2でとりまとめること。 | N42: (ひび割れ幅のみmmとし、その他をm表記とする)
C43: ※ 変状数に準じてシートを追加すること。（１シートに１ページとすること。） | N43: ※ 構造用鋼材以外の異物に伴ううき・はく離については、メモ欄に異物の概要を記入すること。

Sheet 様式D-1-1(トンネル様式2P001) (76)
B2: ■定期点検記録様式 変状写真台帳 | Y2: Ⅰ
B3: フリガナ | D3: オオミズトウゲトンネル | H3: 路線名 | J3: 主要県道秋芳三隅線 | M3: 定期点検業者 | P3: 応用地質株式会社 | S3: 定期点検年月日 | U3: 44860 | Y3: Ⅱ
B4: 名 称 | D4: 大水峠トンネル | H4: 管理者名 | J4: 長門土木建築事務所 | M4: 定期点検者名 | P4: 太田 裕之 | Y4: Ⅲ
B5: 写真 番号 | C5: 覆工 スパン 番号 | D5: 90 | M5: 写真 番号 | N5: 覆工 スパン 番号 | O5: 90 | Y5: Ⅳ
Y6: －
C7: 変状 番号 | D7: 5 | N7: 変状 番号 | O7: 6
B9: 変状 部位 | C9: 対象 箇所 | D9: 覆工・坑門 | M9: 変状 部位 | N9: 対象 箇所 | O9: 覆工・坑門
C11: 部位 区分 | D11: アーチ（右側） | N11: 部位 区分 | O11: アーチ（右側）
B13: 変状区分 | D13: 材質劣化 | M13: 変状区分 | O13: 材質劣化
B14: 変状種類 | D14: 鋼材腐食 | M14: 変状種類 | O14: 鋼材腐食
B15: 健全性 | C15: 応急措置前 | E15: － | M15: 健全性 | N15: 応急措置前 | P15: －
C16: 応急措置後 | E16: Ⅱ | N16: 応急措置後 | P16: Ⅱ
B17: 変状の発生範囲の規模 | E17: 0.05m×0.15m | M17: 変状の発生範囲の規模 | P17: 0.05m×0.05m
B18: 前回定期点検時の状態 | E18: 同程度 | M18: 前回定期点検時の状態 | P18: 同程度
B19: 調査方針 | E19: - | M19: 調査方針 | P19: -
B20: 対策履歴 | E20: なし | H20: 実施状況（実施日） | J20: - | M20: 対策履歴 | P20: なし | S20: 実施状況（実施日） | U20: -
B21: メモ | D21: 鋼材露出(Ⅱa)、防錆剤塗布 | M21: メモ | O21: 鋼材露出(Ⅱb)、防錆剤塗布
B22: 写真 番号 | C22: 覆工 スパン 番号 | D22: 90 | M22: 写真 番号 | N22: 覆工 スパン 番号 | O22: 90
C24: 変状 番号 | D24: 7 | N24: 変状 番号 | O24: 8
B26: 変状 部位 | C26: 対象 箇所 | D26: 覆工・坑門 | M26: 変状 部位 | N26: 対象 箇所 | O26: 覆工・坑門
C28: 部位 区分 | D28: アーチ（右側） | N28: 部位 区分 | O28: 横断目地（左側）
B30: 変状区分 | D30: 材質劣化 | M30: 変状区分 | O30: 漏水
B31: 変状種類 | D31: 鋼材腐食 | M31: 変状種類 | O31: 漏水
B32: 健全性 | C32: 応急措置前 | E32: － | M32: 健全性 | N32: 応急措置前 | P32: －
C33: 応急措置後 | E33: Ⅱ | N33: 応急措置後 | P33: Ⅱ
B34: 変状の発生範囲の規模 | E34: 0.05m×0.3m | M34: 変状の発生範囲の規模 | P34: -
B35: 前回定期点検時の状態 | E35: 同程度 | M35: 前回定期点検時の状態 | P35: 路面の漏水・帯水(Ⅱa)、側壁の滲み
B36: 調査方針 | E36: - | M36: 調査方針 | P36: -
B37: 対策履歴 | E37: なし | H37: 実施状況（実施日） | J37: - | M37: 対策履歴 | P37: なし | S37: 実施状況（実施日） | U37: -
B38: メモ | D38: 鋼材露出(深さ50mm)(Ⅱa)、部分的に露出した鋼材(表面的な腐食)に防錆剤塗布 | M38: メモ | O38: 目地部に遊離石灰を伴う漏水(Ⅱb)、路面に土砂堆積あり、再判定
C39: ※ 健全性（応急措置後）の判定区分Ⅱ～Ⅳについて添付すること。また、点検前に 実施された措置によりⅠと判定された箇所も添付すること。 | N39: ※ 変状の発生範囲の規模とは、対策を行う際に参考となる変状の長さや面積をいう。
N40: ※ 応急措置を実施しないで判定した変状の健全性は、健全性の応急措置後の欄に記入すること。
C41: ※ たたき落としを実施した場合は、実施後の写真を添付すること。 | N41: ※ 変状の発生範囲の規模は、面積・寸法を記載すること。
C42: ※ 附属物の取付状態に関する異常写真は別途、様式D-1-2でとりまとめること。 | N42: (ひび割れ幅のみmmとし、その他をm表記とする)
C43: ※ 変状数に準じてシートを追加すること。（１シートに１ページとすること。） | N43: ※ 構造用鋼材以外の異物に伴ううき・はく離については、メモ欄に異物の概要を記入すること。

Sheet 様式D-1-1(トンネル様式2P001) (77)
B2: ■定期点検記録様式 変状写真台帳 | Y2: Ⅰ
B3: フリガナ | D3: オオミズトウゲトンネル | H3: 路線名 | J3: 主要県道秋芳三隅線 | M3: 定期点検業者 | P3: 応用地質株式会社 | S3: 定期点検年月日 | U3: 44860 | Y3: Ⅱ
B4: 名 称 | D4: 大水峠トンネル | H4: 管理者名 | J4: 長門土木建築事務所 | M4: 定期点検者名 | P4: 太田 裕之 | Y4: Ⅲ
B5: 写真 番号 | C5: 覆工 スパン 番号 | D5: 90 | M5: 写真 番号 | N5: 覆工 スパン 番号 | O5: 90 | Y5: Ⅳ
Y6: －
C7: 変状 番号 | D7: 9 | N7: 変状 番号 | O7: 10
B9: 変状 部位 | C9: 対象 箇所 | D9: 覆工・坑門 | M9: 変状 部位 | N9: 対象 箇所 | O9: 覆工・坑門
C11: 部位 区分 | D11: アーチ（左側） | N11: 部位 区分 | O11: 側壁（左側）
B13: 変状区分 | D13: 漏水 | M13: 変状区分 | O13: 外力
B14: 変状種類 | D14: 漏水 | M14: 変状種類 | O14: ひび割れ
B15: 健全性 | C15: 応急措置前 | E15: － | M15: 健全性 | N15: 応急措置前 | P15: －
C16: 応急措置後 | E16: Ⅱ | N16: 応急措置後 | P16: Ⅱ
B17: 変状の発生範囲の規模 | E17: - | M17: 変状の発生範囲の規模 | P17: 10.4m×0.2mm他
B18: 前回定期点検時の状態 | E18: 漏水(Ⅰ) | M18: 前回定期点検時の状態 | P18: ひび割れ10.4m×0.2mm他(Ⅰ)
B19: 調査方針 | E19: - | M19: 調査方針 | P19: -
B20: 対策履歴 | E20: なし | H20: 実施状況（実施日） | J20: - | M20: 対策履歴 | P20: なし | S20: 実施状況（実施日） | U20: -
B21: メモ | D21: ひび割れ沿いに遊離石灰を伴う漏水(Ⅱb)、再判定 | M21: メモ | O21: 縦横断方向に遊離石灰を伴うひび割れ(Ⅱa)、再判定
B22: 写真 番号 | C22: 覆工 スパン 番号 | M22: 写真 番号 | N22: 覆工 スパン 番号
C24: 変状 番号 | N24: 変状 番号
B26: 変状 部位 | C26: 対象 箇所 | M26: 変状 部位 | N26: 対象 箇所
C28: 部位 区分 | N28: 部位 区分
B30: 変状区分 | M30: 変状区分
B31: 変状種類 | M31: 変状種類
B32: 健全性 | C32: 応急措置前 | M32: 健全性 | N32: 応急措置前
C33: 応急措置後 | N33: 応急措置後
B34: 変状の発生範囲の規模 | M34: 変状の発生範囲の規模
B35: 前回定期点検時の状態 | M35: 前回定期点検時の状態
B36: 調査方針 | M36: 調査方針
B37: 対策履歴 | H37: 実施状況（実施日） | M37: 対策履歴 | S37: 実施状況（実施日）
B38: メモ | M38: メモ
C39: ※ 健全性（応急措置後）の判定区分Ⅱ～Ⅳについて添付すること。また、点検前に 実施された措置によりⅠと判定された箇所も添付すること。 | N39: ※ 変状の発生範囲の規模とは、対策を行う際に参考となる変状の長さや面積をいう。
N40: ※ 応急措置を実施しないで判定した変状の健全性は、健全性の応急措置後の欄に記入すること。
C41: ※ たたき落としを実施した場合は、実施後の写真を添付すること。 | N41: ※ 変状の発生範囲の規模は、面積・寸法を記載すること。
C42: ※ 附属物の取付状態に関する異常写真は別途、様式D-1-2でとりまとめること。 | N42: (ひび割れ幅のみmmとし、その他をm表記とする)
C43: ※ 変状数に準じてシートを追加すること。（１シートに１ページとすること。） | N43: ※ 構造用鋼材以外の異物に伴ううき・はく離については、メモ欄に異物の概要を記入すること。

Sheet 様式D-1-1(トンネル様式2P001) (78)
B2: ■定期点検記録様式 変状写真台帳 | Y2: Ⅰ
B3: フリガナ | D3: オオミズトウゲトンネル | H3: 路線名 | J3: 主要県道秋芳三隅線 | M3: 定期点検業者 | P3: 応用地質株式会社 | S3: 定期点検年月日 | U3: 44860 | Y3: Ⅱ
B4: 名 称 | D4: 大水峠トンネル | H4: 管理者名 | J4: 長門土木建築事務所 | M4: 定期点検者名 | P4: 太田 裕之 | Y4: Ⅲ
B5: 写真 番号 | C5: 覆工 スパン 番号 | D5: 91 | M5: 写真 番号 | N5: 覆工 スパン 番号 | O5: 91 | Y5: Ⅳ
Y6: －
C7: 変状 番号 | D7: 1 | N7: 変状 番号 | O7: 2
B9: 変状 部位 | C9: 対象 箇所 | D9: 覆工・坑門 | M9: 変状 部位 | N9: 対象 箇所 | O9: 覆工・坑門
C11: 部位 区分 | D11: アーチ（左側） | N11: 部位 区分 | O11: アーチ（左側）
B13: 変状区分 | D13: 材質劣化 | M13: 変状区分 | O13: 材質劣化
B14: 変状種類 | D14: 鋼材腐食 | M14: 変状種類 | O14: 鋼材腐食
B15: 健全性 | C15: 応急措置前 | E15: － | M15: 健全性 | N15: 応急措置前 | P15: －
C16: 応急措置後 | E16: Ⅱ | N16: 応急措置後 | P16: Ⅱ
B17: 変状の発生範囲の規模 | E17: 0.05m×0.4m他 | M17: 変状の発生範囲の規模 | P17: 0.05m×0.2m
B18: 前回定期点検時の状態 | E18: 同程度 | M18: 前回定期点検時の状態 | P18: 同程度
B19: 調査方針 | E19: - | M19: 調査方針 | P19: -
B20: 対策履歴 | E20: なし | H20: 実施状況（実施日） | J20: - | M20: 対策履歴 | P20: なし | S20: 実施状況（実施日） | U20: -
B21: メモ | D21: 複数の鋼材露出(Ⅱa)、防錆剤塗布 | M21: メモ | O21: 鋼材露出(Ⅱa)、防錆剤塗布
B22: 写真 番号 | C22: 覆工 スパン 番号 | D22: 91 | M22: 写真 番号 | N22: 覆工 スパン 番号 | O22: 91
C24: 変状 番号 | D24: 3 | N24: 変状 番号 | O24: 4
B26: 変状 部位 | C26: 対象 箇所 | D26: 覆工・坑門 | M26: 変状 部位 | N26: 対象 箇所 | O26: 覆工・坑門
C28: 部位 区分 | D28: アーチ（右側） | N28: 部位 区分 | O28: アーチ（右側）
B30: 変状区分 | D30: 材質劣化 | M30: 変状区分 | O30: 材質劣化
B31: 変状種類 | D31: 鋼材腐食 | M31: 変状種類 | O31: 鋼材腐食
B32: 健全性 | C32: 応急措置前 | E32: － | M32: 健全性 | N32: 応急措置前 | P32: －
C33: 応急措置後 | E33: Ⅱ | N33: 応急措置後 | P33: Ⅱ
B34: 変状の発生範囲の規模 | E34: 0.2m×0.6m他 | M34: 変状の発生範囲の規模 | P34: 0.1m×0.5m他
B35: 前回定期点検時の状態 | E35: 同程度 | M35: 前回定期点検時の状態 | P35: 同程度
B36: 調査方針 | E36: - | M36: 調査方針 | P36: -
B37: 対策履歴 | E37: なし | H37: 実施状況（実施日） | J37: - | M37: 対策履歴 | P37: なし | S37: 実施状況（実施日） | U37: -
B38: メモ | D38: 複数の鋼材露出(深さ50mm)(Ⅱa)、部分的に露出した鋼材(表面的な腐食)に防錆剤塗布 | M38: メモ | O38: 複数の鋼材露出(深さ50mm)(Ⅱa)、部分的に露出した鋼材(表面的な腐食)に防錆剤塗布
C39: ※ 健全性（応急措置後）の判定区分Ⅱ～Ⅳについて添付すること。また、点検前に 実施された措置によりⅠと判定された箇所も添付すること。 | N39: ※ 変状の発生範囲の規模とは、対策を行う際に参考となる変状の長さや面積をいう。
N40: ※ 応急措置を実施しないで判定した変状の健全性は、健全性の応急措置後の欄に記入すること。
C41: ※ たたき落としを実施した場合は、実施後の写真を添付すること。 | N41: ※ 変状の発生範囲の規模は、面積・寸法を記載すること。
C42: ※ 附属物の取付状態に関する異常写真は別途、様式D-1-2でとりまとめること。 | N42: (ひび割れ幅のみmmとし、その他をm表記とする)
C43: ※ 変状数に準じてシートを追加すること。（１シートに１ページとすること。） | N43: ※ 構造用鋼材以外の異物に伴ううき・はく離については、メモ欄に異物の概要を記入すること。

Sheet 様式D-1-1(トンネル様式2P001) (79)
B2: ■定期点検記録様式 変状写真台帳 | Y2: Ⅰ
B3: フリガナ | D3: オオミズトウゲトンネル | H3: 路線名 | J3: 主要県道秋芳三隅線 | M3: 定期点検業者 | P3: 応用地質株式会社 | S3: 定期点検年月日 | U3: 44860 | Y3: Ⅱ
B4: 名 称 | D4: 大水峠トンネル | H4: 管理者名 | J4: 長門土木建築事務所 | M4: 定期点検者名 | P4: 太田 裕之 | Y4: Ⅲ
B5: 写真 番号 | C5: 覆工 スパン 番号 | D5: 91 | M5: 写真 番号 | N5: 覆工 スパン 番号 | O5: 91 | Y5: Ⅳ
Y6: －
C7: 変状 番号 | D7: 5 | N7: 変状 番号 | O7: 6
B9: 変状 部位 | C9: 対象 箇所 | D9: 覆工・坑門 | M9: 変状 部位 | N9: 対象 箇所 | O9: 覆工・坑門
C11: 部位 区分 | D11: アーチ（右側） | N11: 部位 区分 | O11: 側壁（右側）
B13: 変状区分 | D13: 材質劣化 | M13: 変状区分 | O13: 材質劣化
B14: 変状種類 | D14: 鋼材腐食 | M14: 変状種類 | O14: 鋼材腐食
B15: 健全性 | C15: 応急措置前 | E15: － | M15: 健全性 | N15: 応急措置前 | P15: －
C16: 応急措置後 | E16: Ⅱ | N16: 応急措置後 | P16: Ⅱ
B17: 変状の発生範囲の規模 | E17: 0.2m×0.1m | M17: 変状の発生範囲の規模 | P17: 0.05m×0.05m
B18: 前回定期点検時の状態 | E18: 同程度 | M18: 前回定期点検時の状態 | P18: 同程度
B19: 調査方針 | E19: - | M19: 調査方針 | P19: -
B20: 対策履歴 | E20: なし | H20: 実施状況（実施日） | J20: - | M20: 対策履歴 | P20: なし | S20: 実施状況（実施日） | U20: -
B21: メモ | D21: 鋼材露出(深さ30mm)(Ⅱa)、部分的に露出した鋼材(表面的な腐食)に防錆剤塗布 | M21: メモ | O21: 鋼材露出(深さ50mm)(Ⅱb)、部分的に露出した鋼材(表面的な腐食)に防錆剤塗布
B22: 写真 番号 | C22: 覆工 スパン 番号 | D22: 91 | M22: 写真 番号 | N22: 覆工 スパン 番号 | O22: 91
C24: 変状 番号 | D24: 7 | N24: 変状 番号 | O24: 8
B26: 変状 部位 | C26: 対象 箇所 | D26: 覆工・坑門 | M26: 変状 部位 | N26: 対象 箇所 | O26: 覆工・坑門
C28: 部位 区分 | D28: 横断目地（右側） | N28: 部位 区分 | O28: アーチ（右側）
B30: 変状区分 | D30: 材質劣化 | M30: 変状区分 | O30: 材質劣化
B31: 変状種類 | D31: うき・はく離 | M31: 変状種類 | O31: 鋼材腐食
B32: 健全性 | C32: 応急措置前 | E32: － | M32: 健全性 | N32: 応急措置前 | P32: －
C33: 応急措置後 | E33: Ⅱ | N33: 応急措置後 | P33: Ⅱ
B34: 変状の発生範囲の規模 | E34: 0.3m×0.1m | M34: 変状の発生範囲の規模 | P34: 0.05m×0.05m
B35: 前回定期点検時の状態 | E35: 同程度 | M35: 前回定期点検時の状態 | P35: なし
B36: 調査方針 | E36: - | M36: 調査方針 | P36: -
B37: 対策履歴 | E37: なし | H37: 実施状況（実施日） | J37: - | M37: 対策履歴 | P37: なし | S37: 実施状況（実施日） | U37: -
B38: メモ | D38: 目地部の豆板(Ⅱb)、浸透固化材塗布 | M38: メモ | O38: 鋼材露出(Ⅱb)、防錆剤塗布
C39: ※ 健全性（応急措置後）の判定区分Ⅱ～Ⅳについて添付すること。また、点検前に 実施された措置によりⅠと判定された箇所も添付すること。 | N39: ※ 変状の発生範囲の規模とは、対策を行う際に参考となる変状の長さや面積をいう。
N40: ※ 応急措置を実施しないで判定した変状の健全性は、健全性の応急措置後の欄に記入すること。
C41: ※ たたき落としを実施した場合は、実施後の写真を添付すること。 | N41: ※ 変状の発生範囲の規模は、面積・寸法を記載すること。
C42: ※ 附属物の取付状態に関する異常写真は別途、様式D-1-2でとりまとめること。 | N42: (ひび割れ幅のみmmとし、その他をm表記とする)
C43: ※ 変状数に準じてシートを追加すること。（１シートに１ページとすること。） | N43: ※ 構造用鋼材以外の異物に伴ううき・はく離については、メモ欄に異物の概要を記入すること。

Sheet 様式D-1-1(トンネル様式2P001) (80)
B2: ■定期点検記録様式 変状写真台帳 | Y2: Ⅰ
B3: フリガナ | D3: オオミズトウゲトンネル | H3: 路線名 | J3: 主要県道秋芳三隅線 | M3: 定期点検業者 | P3: 応用地質株式会社 | S3: 定期点検年月日 | U3: 44860 | Y3: Ⅱ
B4: 名 称 | D4: 大水峠トンネル | H4: 管理者名 | J4: 長門土木建築事務所 | M4: 定期点検者名 | P4: 太田 裕之 | Y4: Ⅲ
B5: 写真 番号 | C5: 覆工 スパン 番号 | D5: 91 | M5: 写真 番号 | N5: 覆工 スパン 番号 | O5: 91 | Y5: Ⅳ
Y6: －
C7: 変状 番号 | D7: 9 | N7: 変状 番号 | O7: 10
B9: 変状 部位 | C9: 対象 箇所 | D9: 覆工・坑門 | M9: 変状 部位 | N9: 対象 箇所 | O9: 覆工・坑門
C11: 部位 区分 | D11: 側壁（左側） | N11: 部位 区分 | O11: アーチ（右側）
B13: 変状区分 | D13: 外力 | M13: 変状区分 | O13: 材質劣化
B14: 変状種類 | D14: ひび割れ | M14: 変状種類 | O14: ひび割れ
B15: 健全性 | C15: 応急措置前 | E15: － | M15: 健全性 | N15: 応急措置前 | P15: －
C16: 応急措置後 | E16: Ⅱ | N16: 応急措置後 | P16: Ⅱ
B17: 変状の発生範囲の規模 | E17: 3.8m×0.2mm他 | M17: 変状の発生範囲の規模 | P17: 3.4m×1.2m
B18: 前回定期点検時の状態 | E18: ひび割れ4.0m×0.15mm他(Ⅰ) | M18: 前回定期点検時の状態 | P18: ひび割れ2.7m×1.2m(Ⅰ)
B19: 調査方針 | E19: - | M19: 調査方針 | P19: -
B20: 対策履歴 | E20: なし | H20: 実施状況（実施日） | J20: - | M20: 対策履歴 | P20: なし | S20: 実施状況（実施日） | U20: -
B21: メモ | D21: 縦断方向に遊離石灰を伴う複数のひび割れ(Ⅱa)、再判定 | M21: メモ | O21: 目地沿いに幅0.1～0.2mmの半月状ひび割れ(Ⅱb)、打音異常なし、進行性あり
B22: 写真 番号 | C22: 覆工 スパン 番号 | M22: 写真 番号 | N22: 覆工 スパン 番号
C24: 変状 番号 | N24: 変状 番号
B26: 変状 部位 | C26: 対象 箇所 | M26: 変状 部位 | N26: 対象 箇所
C28: 部位 区分 | N28: 部位 区分
B30: 変状区分 | M30: 変状区分
B31: 変状種類 | M31: 変状種類
B32: 健全性 | C32: 応急措置前 | M32: 健全性 | N32: 応急措置前
C33: 応急措置後 | N33: 応急措置後
B34: 変状の発生範囲の規模 | M34: 変状の発生範囲の規模
B35: 前回定期点検時の状態 | M35: 前回定期点検時の状態
B36: 調査方針 | M36: 調査方針
B37: 対策履歴 | H37: 実施状況（実施日） | M37: 対策履歴 | S37: 実施状況（実施日）
B38: メモ | M38: メモ
C39: ※ 健全性（応急措置後）の判定区分Ⅱ～Ⅳについて添付すること。また、点検前に 実施された措置によりⅠと判定された箇所も添付すること。 | N39: ※ 変状の発生範囲の規模とは、対策を行う際に参考となる変状の長さや面積をいう。
N40: ※ 応急措置を実施しないで判定した変状の健全性は、健全性の応急措置後の欄に記入すること。
C41: ※ たたき落としを実施した場合は、実施後の写真を添付すること。 | N41: ※ 変状の発生範囲の規模は、面積・寸法を記載すること。
C42: ※ 附属物の取付状態に関する異常写真は別途、様式D-1-2でとりまとめること。 | N42: (ひび割れ幅のみmmとし、その他をm表記とする)
C43: ※ 変状数に準じてシートを追加すること。（１シートに１ページとすること。） | N43: ※ 構造用鋼材以外の異物に伴ううき・はく離については、メモ欄に異物の概要を記入すること。

Sheet 様式D-1-1(トンネル様式2P001) (81)
B2: ■定期点検記録様式 変状写真台帳 | Y2: Ⅰ
B3: フリガナ | D3: オオミズトウゲトンネル | H3: 路線名 | J3: 主要県道秋芳三隅線 | M3: 定期点検業者 | P3: 応用地質株式会社 | S3: 定期点検年月日 | U3: 44860 | Y3: Ⅱ
B4: 名 称 | D4: 大水峠トンネル | H4: 管理者名 | J4: 長門土木建築事務所 | M4: 定期点検者名 | P4: 太田 裕之 | Y4: Ⅲ
B5: 写真 番号 | C5: 覆工 スパン 番号 | D5: 92 | M5: 写真 番号 | N5: 覆工 スパン 番号 | O5: 92 | Y5: Ⅳ
Y6: －
C7: 変状 番号 | D7: 1 | N7: 変状 番号 | O7: 2
B9: 変状 部位 | C9: 対象 箇所 | D9: 覆工・坑門 | M9: 変状 部位 | N9: 対象 箇所 | O9: 覆工・坑門
C11: 部位 区分 | D11: 側壁（左側） | N11: 部位 区分 | O11: 横断目地（天端）
B13: 変状区分 | D13: 材質劣化 | M13: 変状区分 | O13: 材質劣化
B14: 変状種類 | D14: 鋼材腐食 | M14: 変状種類 | O14: うき・はく離
B15: 健全性 | C15: 応急措置前 | E15: － | M15: 健全性 | N15: 応急措置前 | P15: －
C16: 応急措置後 | E16: Ⅱ | N16: 応急措置後 | P16: Ⅱ
B17: 変状の発生範囲の規模 | E17: 0.1m×0.15m | M17: 変状の発生範囲の規模 | P17: 0.4m×0.1m
B18: 前回定期点検時の状態 | E18: 同程度 | M18: 前回定期点検時の状態 | P18: 同程度
B19: 調査方針 | E19: - | M19: 調査方針 | P19: -
B20: 対策履歴 | E20: なし | H20: 実施状況（実施日） | J20: - | M20: 対策履歴 | P20: なし | S20: 実施状況（実施日） | U20: -
B21: メモ | D21: 鋼材露出(深さ50mm)(Ⅱb)、部分的に露出した鋼材(表面的な腐食)に防錆剤塗布 | M21: メモ | O21: 目地部の豆板(Ⅱb)、浸透固化材塗布
B22: 写真 番号 | C22: 覆工 スパン 番号 | M22: 写真 番号 | N22: 覆工 スパン 番号
C24: 変状 番号 | N24: 変状 番号
B26: 変状 部位 | C26: 対象 箇所 | M26: 変状 部位 | N26: 対象 箇所
C28: 部位 区分 | N28: 部位 区分
B30: 変状区分 | M30: 変状区分
B31: 変状種類 | M31: 変状種類
B32: 健全性 | C32: 応急措置前 | M32: 健全性 | N32: 応急措置前
C33: 応急措置後 | N33: 応急措置後
B34: 変状の発生範囲の規模 | M34: 変状の発生範囲の規模
B35: 前回定期点検時の状態 | M35: 前回定期点検時の状態
B36: 調査方針 | M36: 調査方針
B37: 対策履歴 | H37: 実施状況（実施日） | M37: 対策履歴 | S37: 実施状況（実施日）
B38: メモ | M38: メモ
C39: ※ 健全性（応急措置後）の判定区分Ⅱ～Ⅳについて添付すること。また、点検前に 実施された措置によりⅠと判定された箇所も添付すること。 | N39: ※ 変状の発生範囲の規模とは、対策を行う際に参考となる変状の長さや面積をいう。
N40: ※ 応急措置を実施しないで判定した変状の健全性は、健全性の応急措置後の欄に記入すること。
C41: ※ たたき落としを実施した場合は、実施後の写真を添付すること。 | N41: ※ 変状の発生範囲の規模は、面積・寸法を記載すること。
C42: ※ 附属物の取付状態に関する異常写真は別途、様式D-1-2でとりまとめること。 | N42: (ひび割れ幅のみmmとし、その他をm表記とする)
C43: ※ 変状数に準じてシートを追加すること。（１シートに１ページとすること。） | N43: ※ 構造用鋼材以外の異物に伴ううき・はく離については、メモ欄に異物の概要を記入すること。

Sheet 様式D-1-1(トンネル様式2P001) (82)
B2: ■定期点検記録様式 変状写真台帳 | Y2: Ⅰ
B3: フリガナ | D3: オオミズトウゲトンネル | H3: 路線名 | J3: 主要県道秋芳三隅線 | M3: 定期点検業者 | P3: 応用地質株式会社 | S3: 定期点検年月日 | U3: 44860 | Y3: Ⅱ
B4: 名 称 | D4: 大水峠トンネル | H4: 管理者名 | J4: 長門土木建築事務所 | M4: 定期点検者名 | P4: 太田 裕之 | Y4: Ⅲ
B5: 写真 番号 | C5: 覆工 スパン 番号 | D5: 93 | M5: 写真 番号 | N5: 覆工 スパン 番号 | O5: 93 | Y5: Ⅳ
Y6: －
C7: 変状 番号 | D7: 1 | N7: 変状 番号 | O7: 2
B9: 変状 部位 | C9: 対象 箇所 | D9: 覆工・坑門 | M9: 変状 部位 | N9: 対象 箇所 | O9: 覆工・坑門
C11: 部位 区分 | D11: 側壁（左側） | N11: 部位 区分 | O11: アーチ（右側）
B13: 変状区分 | D13: 材質劣化 | M13: 変状区分 | O13: 材質劣化
B14: 変状種類 | D14: 鋼材腐食 | M14: 変状種類 | O14: 鋼材腐食
B15: 健全性 | C15: 応急措置前 | E15: － | M15: 健全性 | N15: 応急措置前 | P15: －
C16: 応急措置後 | E16: Ⅱ | N16: 応急措置後 | P16: Ⅱ
B17: 変状の発生範囲の規模 | E17: 0.1m×0.1m他 | M17: 変状の発生範囲の規模 | P17: 0.1m×0.1m
B18: 前回定期点検時の状態 | E18: 同程度 | M18: 前回定期点検時の状態 | P18: はく落0.1m×0.1m(Ⅰ)
B19: 調査方針 | E19: - | M19: 調査方針 | P19: -
B20: 対策履歴 | E20: なし | H20: 実施状況（実施日） | J20: - | M20: 対策履歴 | P20: なし | S20: 実施状況（実施日） | U20: -
B21: メモ | D21: 2箇所の鋼材露出(深さ50mm)(Ⅱb)、部分的に露出した鋼材(表面的な腐食)に防錆剤塗布 | M21: メモ | O21: 鋼材露出(深さ50mm)(Ⅱb)、部分的に露出した鋼材(表面的な腐食)に防錆剤塗布、再判定
B22: 写真 番号 | C22: 覆工 スパン 番号 | D22: 93 | M22: 写真 番号 | N22: 覆工 スパン 番号
C24: 変状 番号 | D24: 3 | N24: 変状 番号
B26: 変状 部位 | C26: 対象 箇所 | D26: 覆工・坑門 | M26: 変状 部位 | N26: 対象 箇所
C28: 部位 区分 | D28: 横断目地（右側） | N28: 部位 区分
B30: 変状区分 | D30: 材質劣化 | M30: 変状区分
B31: 変状種類 | D31: うき・はく離 | M31: 変状種類
B32: 健全性 | C32: 応急措置前 | E32: － | M32: 健全性 | N32: 応急措置前
C33: 応急措置後 | E33: Ⅱ | N33: 応急措置後
B34: 変状の発生範囲の規模 | E34: 0.6m×0.1m | M34: 変状の発生範囲の規模
B35: 前回定期点検時の状態 | E35: 豆板0.6m×0.1m(Ⅱb) | M35: 前回定期点検時の状態
B36: 調査方針 | E36: - | M36: 調査方針
B37: 対策履歴 | E37: なし | H37: 実施状況（実施日） | J37: - | M37: 対策履歴 | S37: 実施状況（実施日）
B38: メモ | D38: 目地部の豆板(Ⅱa)、浸透固化材塗布 | M38: メモ
C39: ※ 健全性（応急措置後）の判定区分Ⅱ～Ⅳについて添付すること。また、点検前に 実施された措置によりⅠと判定された箇所も添付すること。 | N39: ※ 変状の発生範囲の規模とは、対策を行う際に参考となる変状の長さや面積をいう。
N40: ※ 応急措置を実施しないで判定した変状の健全性は、健全性の応急措置後の欄に記入すること。
C41: ※ たたき落としを実施した場合は、実施後の写真を添付すること。 | N41: ※ 変状の発生範囲の規模は、面積・寸法を記載すること。
C42: ※ 附属物の取付状態に関する異常写真は別途、様式D-1-2でとりまとめること。 | N42: (ひび割れ幅のみmmとし、その他をm表記とする)
C43: ※ 変状数に準じてシートを追加すること。（１シートに１ページとすること。） | N43: ※ 構造用鋼材以外の異物に伴ううき・はく離については、メモ欄に異物の概要を記入すること。

Sheet 様式D-1-1(トンネル様式2P001) (83)
B2: ■定期点検記録様式 変状写真台帳 | Y2: Ⅰ
B3: フリガナ | D3: オオミズトウゲトンネル | H3: 路線名 | J3: 主要県道秋芳三隅線 | M3: 定期点検業者 | P3: 応用地質株式会社 | S3: 定期点検年月日 | U3: 44860 | Y3: Ⅱ
B4: 名 称 | D4: 大水峠トンネル | H4: 管理者名 | J4: 長門土木建築事務所 | M4: 定期点検者名 | P4: 太田 裕之 | Y4: Ⅲ
B5: 写真 番号 | C5: 覆工 スパン 番号 | D5: 94 | M5: 写真 番号 | N5: 覆工 スパン 番号 | Y5: Ⅳ
Y6: －
C7: 変状 番号 | D7: 1 | N7: 変状 番号
B9: 変状 部位 | C9: 対象 箇所 | D9: 覆工・坑門 | M9: 変状 部位 | N9: 対象 箇所
C11: 部位 区分 | D11: 横断目地（左側） | N11: 部位 区分
B13: 変状区分 | D13: 材質劣化 | M13: 変状区分
B14: 変状種類 | D14: うき・はく離 | M14: 変状種類
B15: 健全性 | C15: 応急措置前 | E15: Ⅱ | M15: 健全性 | N15: 応急措置前
C16: 応急措置後 | E16: Ⅰ | N16: 応急措置後
B17: 変状の発生範囲の規模 | E17: 0.4m×0.05m | M17: 変状の発生範囲の規模
B18: 前回定期点検時の状態 | E18: なし | M18: 前回定期点検時の状態
B19: 調査方針 | E19: - | M19: 調査方針
B20: 対策履歴 | E20: なし | H20: 実施状況（実施日） | J20: - | M20: 対策履歴 | S20: 実施状況（実施日）
B21: メモ | D21: 目地部のうき(Ⅱb→Ⅰ)、今回点検時に叩き落とし実施(深さ50mm) | M21: メモ
B22: 写真 番号 | C22: 覆工 スパン 番号 | M22: 写真 番号 | N22: 覆工 スパン 番号
C24: 変状 番号 | N24: 変状 番号
B26: 変状 部位 | C26: 対象 箇所 | M26: 変状 部位 | N26: 対象 箇所
C28: 部位 区分 | N28: 部位 区分
B30: 変状区分 | M30: 変状区分
B31: 変状種類 | M31: 変状種類
B32: 健全性 | C32: 応急措置前 | M32: 健全性 | N32: 応急措置前
C33: 応急措置後 | N33: 応急措置後
B34: 変状の発生範囲の規模 | M34: 変状の発生範囲の規模
B35: 前回定期点検時の状態 | M35: 前回定期点検時の状態
B36: 調査方針 | M36: 調査方針
B37: 対策履歴 | H37: 実施状況（実施日） | M37: 対策履歴 | S37: 実施状況（実施日）
B38: メモ | M38: メモ
C39: ※ 健全性（応急措置後）の判定区分Ⅱ～Ⅳについて添付すること。また、点検前に 実施された措置によりⅠと判定された箇所も添付すること。 | N39: ※ 変状の発生範囲の規模とは、対策を行う際に参考となる変状の長さや面積をいう。
N40: ※ 応急措置を実施しないで判定した変状の健全性は、健全性の応急措置後の欄に記入すること。
C41: ※ たたき落としを実施した場合は、実施後の写真を添付すること。 | N41: ※ 変状の発生範囲の規模は、面積・寸法を記載すること。
C42: ※ 附属物の取付状態に関する異常写真は別途、様式D-1-2でとりまとめること。 | N42: (ひび割れ幅のみmmとし、その他をm表記とする)
C43: ※ 変状数に準じてシートを追加すること。（１シートに１ページとすること。） | N43: ※ 構造用鋼材以外の異物に伴ううき・はく離については、メモ欄に異物の概要を記入すること。

Sheet 様式D-1-1(トンネル様式2P001) (84)
B2: ■定期点検記録様式 変状写真台帳 | Y2: Ⅰ
B3: フリガナ | D3: オオミズトウゲトンネル | H3: 路線名 | J3: 主要県道秋芳三隅線 | M3: 定期点検業者 | P3: 応用地質株式会社 | S3: 定期点検年月日 | U3: 44860 | Y3: Ⅱ
B4: 名 称 | D4: 大水峠トンネル | H4: 管理者名 | J4: 長門土木建築事務所 | M4: 定期点検者名 | P4: 太田 裕之 | Y4: Ⅲ
B5: 写真 番号 | C5: 覆工 スパン 番号 | D5: 95 | M5: 写真 番号 | N5: 覆工 スパン 番号 | O5: 95 | Y5: Ⅳ
Y6: －
C7: 変状 番号 | D7: 1 | N7: 変状 番号 | O7: 2
B9: 変状 部位 | C9: 対象 箇所 | D9: 覆工・坑門 | M9: 変状 部位 | N9: 対象 箇所 | O9: 覆工・坑門
C11: 部位 区分 | D11: アーチ（左側） | N11: 部位 区分 | O11: 横断目地（天端）
B13: 変状区分 | D13: 材質劣化 | M13: 変状区分 | O13: 材質劣化
B14: 変状種類 | D14: 鋼材腐食 | M14: 変状種類 | O14: うき・はく離
B15: 健全性 | C15: 応急措置前 | E15: － | M15: 健全性 | N15: 応急措置前 | P15: －
C16: 応急措置後 | E16: Ⅱ | N16: 応急措置後 | P16: Ⅱ
B17: 変状の発生範囲の規模 | E17: 0.05m×0.05m | M17: 変状の発生範囲の規模 | P17: 0.3m×0.1m
B18: 前回定期点検時の状態 | E18: 同程度 | M18: 前回定期点検時の状態 | P18: なし
B19: 調査方針 | E19: - | M19: 調査方針 | P19: -
B20: 対策履歴 | E20: なし | H20: 実施状況（実施日） | J20: - | M20: 対策履歴 | P20: なし | S20: 実施状況（実施日） | U20: -
B21: メモ | D21: 鋼材露出(Ⅱb)、防錆剤塗布 | M21: メモ | O21: 目地部の豆板(Ⅱa)、浸透固化材塗布
B22: 写真 番号 | C22: 覆工 スパン 番号 | M22: 写真 番号 | N22: 覆工 スパン 番号
C24: 変状 番号 | N24: 変状 番号
B26: 変状 部位 | C26: 対象 箇所 | M26: 変状 部位 | N26: 対象 箇所
C28: 部位 区分 | N28: 部位 区分
B30: 変状区分 | M30: 変状区分
B31: 変状種類 | M31: 変状種類
B32: 健全性 | C32: 応急措置前 | M32: 健全性 | N32: 応急措置前
C33: 応急措置後 | N33: 応急措置後
B34: 変状の発生範囲の規模 | M34: 変状の発生範囲の規模
B35: 前回定期点検時の状態 | M35: 前回定期点検時の状態
B36: 調査方針 | M36: 調査方針
B37: 対策履歴 | H37: 実施状況（実施日） | M37: 対策履歴 | S37: 実施状況（実施日）
B38: メモ | M38: メモ
C39: ※ 健全性（応急措置後）の判定区分Ⅱ～Ⅳについて添付すること。また、点検前に 実施された措置によりⅠと判定された箇所も添付すること。 | N39: ※ 変状の発生範囲の規模とは、対策を行う際に参考となる変状の長さや面積をいう。
N40: ※ 応急措置を実施しないで判定した変状の健全性は、健全性の応急措置後の欄に記入すること。
C41: ※ たたき落としを実施した場合は、実施後の写真を添付すること。 | N41: ※ 変状の発生範囲の規模は、面積・寸法を記載すること。
C42: ※ 附属物の取付状態に関する異常写真は別途、様式D-1-2でとりまとめること。 | N42: (ひび割れ幅のみmmとし、その他をm表記とする)
C43: ※ 変状数に準じてシートを追加すること。（１シートに１ページとすること。） | N43: ※ 構造用鋼材以外の異物に伴ううき・はく離については、メモ欄に異物の概要を記入すること。

Sheet 様式D-1-1(トンネル様式2P001) (85)
B2: ■定期点検記録様式 変状写真台帳 | Y2: Ⅰ
B3: フリガナ | D3: オオミズトウゲトンネル | H3: 路線名 | J3: 主要県道秋芳三隅線 | M3: 定期点検業者 | P3: 応用地質株式会社 | S3: 定期点検年月日 | U3: 44860 | Y3: Ⅱ
B4: 名 称 | D4: 大水峠トンネル | H4: 管理者名 | J4: 長門土木建築事務所 | M4: 定期点検者名 | P4: 太田 裕之 | Y4: Ⅲ
B5: 写真 番号 | C5: 覆工 スパン 番号 | D5: 96 | M5: 写真 番号 | N5: 覆工 スパン 番号 | Y5: Ⅳ
Y6: －
C7: 変状 番号 | D7: 1 | N7: 変状 番号
B9: 変状 部位 | C9: 対象 箇所 | D9: 覆工・坑門 | M9: 変状 部位 | N9: 対象 箇所
C11: 部位 区分 | D11: 横断目地（天端） | N11: 部位 区分
B13: 変状区分 | D13: 材質劣化 | M13: 変状区分
B14: 変状種類 | D14: うき・はく離 | M14: 変状種類
B15: 健全性 | C15: 応急措置前 | E15: － | M15: 健全性 | N15: 応急措置前
C16: 応急措置後 | E16: Ⅲ | N16: 応急措置後
B17: 変状の発生範囲の規模 | E17: 0.6m×0.1m | M17: 変状の発生範囲の規模
B18: 前回定期点検時の状態 | E18: うき0.6m×0.1m(Ⅰ) | M18: 前回定期点検時の状態
B19: 調査方針 | E19: - | M19: 調査方針
B20: 対策履歴 | E20: なし | H20: 実施状況（実施日） | J20: - | M20: 対策履歴 | S20: 実施状況（実施日）
B21: メモ | D21: 目地部のブロック化したうき、浸透固化材塗布、再判定 | M21: メモ
B22: 写真 番号 | C22: 覆工 スパン 番号 | M22: 写真 番号 | N22: 覆工 スパン 番号
C24: 変状 番号 | N24: 変状 番号
B26: 変状 部位 | C26: 対象 箇所 | M26: 変状 部位 | N26: 対象 箇所
C28: 部位 区分 | N28: 部位 区分
B30: 変状区分 | M30: 変状区分
B31: 変状種類 | M31: 変状種類
B32: 健全性 | C32: 応急措置前 | M32: 健全性 | N32: 応急措置前
C33: 応急措置後 | N33: 応急措置後
B34: 変状の発生範囲の規模 | M34: 変状の発生範囲の規模
B35: 前回定期点検時の状態 | M35: 前回定期点検時の状態
B36: 調査方針 | M36: 調査方針
B37: 対策履歴 | H37: 実施状況（実施日） | M37: 対策履歴 | S37: 実施状況（実施日）
B38: メモ | M38: メモ
C39: ※ 健全性（応急措置後）の判定区分Ⅱ～Ⅳについて添付すること。また、点検前に 実施された措置によりⅠと判定された箇所も添付すること。 | N39: ※ 変状の発生範囲の規模とは、対策を行う際に参考となる変状の長さや面積をいう。
N40: ※ 応急措置を実施しないで判定した変状の健全性は、健全性の応急措置後の欄に記入すること。
C41: ※ たたき落としを実施した場合は、実施後の写真を添付すること。 | N41: ※ 変状の発生範囲の規模は、面積・寸法を記載すること。
C42: ※ 附属物の取付状態に関する異常写真は別途、様式D-1-2でとりまとめること。 | N42: (ひび割れ幅のみmmとし、その他をm表記とする)
C43: ※ 変状数に準じてシートを追加すること。（１シートに１ページとすること。） | N43: ※ 構造用鋼材以外の異物に伴ううき・はく離については、メモ欄に異物の概要を記入すること。

Sheet 様式D-1-1(トンネル様式2P001) (86)
B2: ■定期点検記録様式 変状写真台帳 | Y2: Ⅰ
B3: フリガナ | D3: オオミズトウゲトンネル | H3: 路線名 | J3: 主要県道秋芳三隅線 | M3: 定期点検業者 | P3: 応用地質株式会社 | S3: 定期点検年月日 | U3: 44860 | Y3: Ⅱ
B4: 名 称 | D4: 大水峠トンネル | H4: 管理者名 | J4: 長門土木建築事務所 | M4: 定期点検者名 | P4: 太田 裕之 | Y4: Ⅲ
B5: 写真 番号 | C5: 覆工 スパン 番号 | D5: 97 | M5: 写真 番号 | N5: 覆工 スパン 番号 | O5: 97 | Y5: Ⅳ
Y6: －
C7: 変状 番号 | D7: 1 | N7: 変状 番号 | O7: 2
B9: 変状 部位 | C9: 対象 箇所 | D9: 覆工・坑門 | M9: 変状 部位 | N9: 対象 箇所 | O9: 覆工・坑門
C11: 部位 区分 | D11: 横断目地（天端） | N11: 部位 区分 | O11: アーチ（天端）
B13: 変状区分 | D13: 材質劣化 | M13: 変状区分 | O13: 材質劣化
B14: 変状種類 | D14: うき・はく離 | M14: 変状種類 | O14: ひび割れ
B15: 健全性 | C15: 応急措置前 | E15: － | M15: 健全性 | N15: 応急措置前 | P15: －
C16: 応急措置後 | E16: Ⅲ | N16: 応急措置後 | P16: Ⅱ
B17: 変状の発生範囲の規模 | E17: 0.4m×0.1m | M17: 変状の発生範囲の規模 | P17: 3.1m×1.0m
B18: 前回定期点検時の状態 | E18: うき0.4m×0.1m(Ⅱa) | M18: 前回定期点検時の状態 | P18: 同程度
B19: 調査方針 | E19: - | M19: 調査方針 | P19: -
B20: 対策履歴 | E20: なし | H20: 実施状況（実施日） | J20: - | M20: 対策履歴 | P20: なし | S20: 実施状況（実施日） | U20: -
B21: メモ | D21: 目地部のブロック化したうき、浸透固化材塗布、再判定 | M21: メモ | O21: 目地沿いに幅0.3mmの半月状ひび割れ(Ⅱb)、打音異常なし
B22: 写真 番号 | C22: 覆工 スパン 番号 | D22: 97 | M22: 写真 番号 | N22: 覆工 スパン 番号
C24: 変状 番号 | D24: 3 | N24: 変状 番号
B26: 変状 部位 | C26: 対象 箇所 | D26: 覆工・坑門 | M26: 変状 部位 | N26: 対象 箇所
C28: 部位 区分 | D28: 横断目地（右側） | N28: 部位 区分
B30: 変状区分 | D30: 材質劣化 | M30: 変状区分
B31: 変状種類 | D31: うき・はく離 | M31: 変状種類
B32: 健全性 | C32: 応急措置前 | E32: － | M32: 健全性 | N32: 応急措置前
C33: 応急措置後 | E33: Ⅲ | N33: 応急措置後
B34: 変状の発生範囲の規模 | E34: 0.7m×0.1m | M34: 変状の発生範囲の規模
B35: 前回定期点検時の状態 | E35: うき0.75m×0.3m(Ⅱa)、はく落防止対策 | M35: 前回定期点検時の状態
B36: 調査方針 | E36: - | M36: 調査方針
B37: 対策履歴 | E37: はく落防止対策工 | H37: 実施状況（実施日） | J37: - | M37: 対策履歴 | S37: 実施状況（実施日）
B38: メモ | D38: 目地部のブロック化したうき、浸透固化材塗布、再判定 | M38: メモ
C39: ※ 健全性（応急措置後）の判定区分Ⅱ～Ⅳについて添付すること。また、点検前に 実施された措置によりⅠと判定された箇所も添付すること。 | N39: ※ 変状の発生範囲の規模とは、対策を行う際に参考となる変状の長さや面積をいう。
N40: ※ 応急措置を実施しないで判定した変状の健全性は、健全性の応急措置後の欄に記入すること。
C41: ※ たたき落としを実施した場合は、実施後の写真を添付すること。 | N41: ※ 変状の発生範囲の規模は、面積・寸法を記載すること。
C42: ※ 附属物の取付状態に関する異常写真は別途、様式D-1-2でとりまとめること。 | N42: (ひび割れ幅のみmmとし、その他をm表記とする)
C43: ※ 変状数に準じてシートを追加すること。（１シートに１ページとすること。） | N43: ※ 構造用鋼材以外の異物に伴ううき・はく離については、メモ欄に異物の概要を記入すること。

Sheet 様式D-1-1(トンネル様式2P001) (87)
B2: ■定期点検記録様式 変状写真台帳 | Y2: Ⅰ
B3: フリガナ | D3: オオミズトウゲトンネル | H3: 路線名 | J3: 主要県道秋芳三隅線 | M3: 定期点検業者 | P3: 応用地質株式会社 | S3: 定期点検年月日 | U3: 44860 | Y3: Ⅱ
B4: 名 称 | D4: 大水峠トンネル | H4: 管理者名 | J4: 長門土木建築事務所 | M4: 定期点検者名 | P4: 太田 裕之 | Y4: Ⅲ
B5: 写真 番号 | C5: 覆工 スパン 番号 | D5: 98 | M5: 写真 番号 | N5: 覆工 スパン 番号 | O5: 98 | Y5: Ⅳ
Y6: －
C7: 変状 番号 | D7: 1 | N7: 変状 番号 | O7: 2
B9: 変状 部位 | C9: 対象 箇所 | D9: 覆工・坑門 | M9: 変状 部位 | N9: 対象 箇所 | O9: 覆工・坑門
C11: 部位 区分 | D11: 横断目地（左側） | N11: 部位 区分 | O11: 横断目地（右側）
B13: 変状区分 | D13: 材質劣化 | M13: 変状区分 | O13: 材質劣化
B14: 変状種類 | D14: うき・はく離 | M14: 変状種類 | O14: うき・はく離
B15: 健全性 | C15: 応急措置前 | E15: Ⅱ | M15: 健全性 | N15: 応急措置前 | P15: Ⅱ
C16: 応急措置後 | E16: Ⅰ | N16: 応急措置後 | P16: Ⅰ
B17: 変状の発生範囲の規模 | E17: 0.8m×0.05m | M17: 変状の発生範囲の規模 | P17: 0.1m×0.05m
B18: 前回定期点検時の状態 | E18: なし | M18: 前回定期点検時の状態 | P18: なし
B19: 調査方針 | E19: - | M19: 調査方針 | P19: -
B20: 対策履歴 | E20: なし | H20: 実施状況（実施日） | J20: - | M20: 対策履歴 | P20: なし | S20: 実施状況（実施日） | U20: -
B21: メモ | D21: 目地部のうき(Ⅱb→Ⅰ)、今回点検時に叩き落とし実施(深さ50mm) | M21: メモ | O21: 目地部のうき(Ⅱb→Ⅰ)、今回点検時に叩き落とし実施(深さ50mm)
B22: 写真 番号 | C22: 覆工 スパン 番号 | M22: 写真 番号 | N22: 覆工 スパン 番号
C24: 変状 番号 | N24: 変状 番号
B26: 変状 部位 | C26: 対象 箇所 | M26: 変状 部位 | N26: 対象 箇所
C28: 部位 区分 | N28: 部位 区分
B30: 変状区分 | M30: 変状区分
B31: 変状種類 | M31: 変状種類
B32: 健全性 | C32: 応急措置前 | M32: 健全性 | N32: 応急措置前
C33: 応急措置後 | N33: 応急措置後
B34: 変状の発生範囲の規模 | M34: 変状の発生範囲の規模
B35: 前回定期点検時の状態 | M35: 前回定期点検時の状態
B36: 調査方針 | M36: 調査方針
B37: 対策履歴 | H37: 実施状況（実施日） | M37: 対策履歴 | S37: 実施状況（実施日）
B38: メモ | M38: メモ
C39: ※ 健全性（応急措置後）の判定区分Ⅱ～Ⅳについて添付すること。また、点検前に 実施された措置によりⅠと判定された箇所も添付すること。 | N39: ※ 変状の発生範囲の規模とは、対策を行う際に参考となる変状の長さや面積をいう。
