Workbook
Name その他: '(参考)リスト'!$C$45
Name その他施設: '(参考)リスト'!$C$76:$C$80
Name 外力: '(参考)リスト'!$E$16:$E$23
Name 換気施設: '(参考)リスト'!$C$55:$C$59
Name 坑門: '(参考)リスト'!$C$16:$C$29
Name 材質劣化: '(参考)リスト'!$E$25:$E$30
Name 照明施設: '(参考)リスト'!$C$51:$C$53
Name 対象箇所: [1]!テーブル1[対象箇所]
Name 対象箇所: [2]!テーブル1[対象箇所]
Name 対象箇所: [2]!テーブル1[対象箇所]
Name 対象箇所: [2]!テーブル1[対象箇所]
Name 対象箇所: [2]!テーブル1[対象箇所]
Name 対象箇所: [2]!テーブル1[対象箇所]
Name 対象箇所: [2]!テーブル1[対象箇所]
Name 対象箇所: [2]!テーブル1[対象箇所]
Name 対象箇所: [2]!テーブル1[対象箇所]
Name 対象箇所: [2]!テーブル1[対象箇所]
Name 対象箇所: [2]!テーブル1[対象箇所]
Name 対象箇所: [2]!テーブル1[対象箇所]
Name 対象箇所: [2]!テーブル1[対象箇所]
Name 対象箇所: [2]!テーブル1[対象箇所]
Name 対象箇所: [2]!テーブル1[対象箇所]
Name 対象箇所: [2]!テーブル1[対象箇所]
Name 対象箇所: [2]!テーブル1[対象箇所]
Name 対象箇所: [2]!テーブル1[対象箇所]
Name 対象箇所: [3]!テーブル1[対象箇所]
Name 対象箇所: [4]!テーブル1[対象箇所]
Name 対象箇所: [5]!テーブル1[対象箇所]
Name 対象箇所: [5]!テーブル1[対象箇所]
Name 対象箇所: [5]!テーブル1[対象箇所]
Name 対象箇所: [5]!テーブル1[対象箇所]
Name 対象箇所: [5]!テーブル1[対象箇所]
Name 対象箇所: [5]!テーブル1[対象箇所]
Name 対象箇所: [5]!テーブル1[対象箇所]
Name 対象箇所: [5]!テーブル1[対象箇所]
Name 対象箇所: [5]!テーブル1[対象箇所]
Name 対象箇所: [5]!テーブル1[対象箇所]
Name 対象箇所: [5]!テーブル1[対象箇所]
Name 対象箇所: [5]!テーブル1[対象箇所]
Name 対象箇所: [5]!テーブル1[対象箇所]
Name 対象箇所: [5]!テーブル1[対象箇所]
Name 対象箇所: [5]!テーブル1[対象箇所]
Name 対象箇所: [5]!テーブル1[対象箇所]
Name 対象箇所: [5]!テーブル1[対象箇所]
Name 対象箇所: [5]!テーブル1[対象箇所]
Name 対象箇所: [5]!テーブル1[対象箇所]
Name 対象箇所: [5]!テーブル1[対象箇所]
Name 対象箇所: [5]!テーブル1[対象箇所]
Name 対象箇所: [5]!テーブル1[対象箇所]
Name 対象箇所: [5]!テーブル1[対象箇所]
Name 対象箇所: [5]!テーブル1[対象箇所]
Name 対象箇所: [5]!テーブル1[対象箇所]
Name 対象箇所: [5]!テーブル1[対象箇所]
Name 対象箇所: [5]!テーブル1[対象箇所]
Name 対象箇所: [5]!テーブル1[対象箇所]
Name 対象箇所: [5]!テーブル1[対象箇所]
Name 対象箇所: [5]!テーブル1[対象箇所]
Name 対象箇所: [5]!テーブル1[対象箇所]
Name 対象箇所: [5]!テーブル1[対象箇所]
Name 対象箇所: [5]!テーブル1[対象箇所]

Sheet 様式A-1
B2: ■トンネル台帳 トンネル諸元、非常用施設諸元 【様式A-1】 | S2: トンネルID
B3: フリガナ | D3: オオミネトンネル | H3: 路線名 | J3: 一般国道435号 | P3: 管理者名 | R3: 山口県宇部土木建築事務所 | W3: 緊急輸送道路 | Z3: 有
B4: 名 称 | D4: 大嶺トンネル | W4: 代替路の有無 | Z4: 有
B5: 所在地 | D5: 自 | E5: 山口県美祢市大嶺町西分 | H5: 作成者 | K5: 応用地質株式会社 | P5: 作成年月日 | R5: 44952 | U5: トンネル延長 | X5: L= | Z5: 330 | AB5: ｍ
D6: 至 | E6: 山口県美祢市大嶺町西分 | U6: ﾄﾝﾈﾙの分類 | X6: 陸上トンネル（掘進工法）
B7: 起点 | C7: 緯度 | E7: 341007.6 | H7: 完成年月日 | K7: 平成5年 | M7: 舗装 | O7: 種 別 | Q7: コンクリート系 | S7: トンネル非常用施設 | T7: 施設の内訳 | X7: 種別・方式 | Y7: 型式 | Z7: 個数 | AA7: 更新年度 | AE7: =INT(E7/10000) -> 34 | AF7: =INT(E7/100)-AE7*100 -> 10 | AG7: =E7-AE7*10000-AF7*100 -> 7.6 | AH7: =ROUND(AE7+AF7/60+AG7/60/60,5) -> 34.16878 | AI7: =TEXT(AH7,"0.00000") -> 34.16878
C8: 経度 | E8: 1311016.6 | H8: 供用年月日 | O8: 厚 さ | Q8: 0.2 | T8: 通報設備 | U8: 通話型通報設備 | Z8: * | AE8: =INT(E8/10000) -> 131 | AF8: =INT(E8/100)-AE8*100 -> 10 | AG8: =E8-AE8*10000-AF8*100 -> 16.6 | AH8: =ROUND(AE8+AF8/60+AG8/60/60,5) -> 131.17128 | AI8: =TEXT(AH8,"0.00000") -> 131.17128
B9: 終点 | C9: 緯度 | E9: 341007.6 | H9: トンネル区分 | K9: D | O9: 面 積 | Q9: 2310 | U9: 操作型通報設備 | Z9: *
C10: 経度 | E10: 1311003.7 | H10: 内装種類 | K10: 覆工（内装なし） | O10: 更新年次 | U10: 自動通報設備 | Z10: *
B11: 一般有料区分 | E11: 無料 | H11: 天井板種類 | K11: 覆工（内装なし） | M11: 排水 | O11: 種 別 | Q11: 自然排水 | T11: 警報設備 | U11: 非常警報設備 | Z11: *
B12: 土かぶり | G12: m | H12: 坑門 | I12: 起点 | J12: 形式 | K12: 面壁型 | O12: 更新年次 | T12: 消火設備 | U12: 消 火 器 | Z12: *
B13: 内空断面積 | E13: 48.17 | G13: ㎡ | J13: 延長 | K13: 0 | L13: m | M13: 施設 | P13: 種別・方式 | Q13: 個数 | R13: 更新年次 | U13: 消火栓設備 | Z13: *
B14: 交 通 量 | E14: 4646 | G14: 台/日 | I14: 終点 | J14: 形式 | K14: 面壁型 | M14: 道路附属物等 | N14: 照明 | P14: LED | Q14: 52 | T14: 避難誘導設備 | U14: 誘導表示設備 | Z14: *
C15: 道 路 幅 | E15: 9.25 | G15: m | J15: 延長 | K15: 0 | L15: m | N15: 換気 | P15: 自然換気 | U15: 避難情報提供設備
B16: 幅 員 | C16: 車 道 幅 | E16: 3.5 | G16: m | H16: 竣工巻厚 | I16: アーチ | K16: 30 | L16: cm | N16: 標識
E17: 3.5 | G17: m | I17: 側 壁 | K17: 30 | L17: cm | N17: 警報表示板 | U17: 避難通路 | Z17: *
C18: 歩道等幅 | E18: 2.25 | G18: m | K18: 30 | L18: cm | N18: 吸音板 | U18: 排煙設備 | Z18: *
B19: 高さ | C19: 建築限界高 | E19: 4.5 | G19: m | I19: インバート | K19: - | L19: cm | T19: その他の設備 | U19: 給水栓設備 | Z19: *
C20: 中央高 | E20: 6.06 | G20: m | H20: 半径 | I20: アーチ | K20: 485 | L20: cm | U20: 無線通信補助設備 | Z20: *
C21: 有効高 | E21: 4.98 | G21: m | I21: 側 壁 | K21: 485 | L21: cm | U21: 水噴霧設備 | Z21: *
C22: 縦断勾配 | E22: - | I22: インバート | K22: - | L22: cm | U22: 監視設備 | Z22: *
B23: 線 形 | C23: 直線区間長 | E23: - | H23: 占用物件 | I23: 種 類 | K23: 寸 法 | M23: 管理者名 | Q23: 更新年次 | S23: 非常用施設 関連設備 | U23: 予備発電設備 | Z23: *
C24: 曲線区間 | D24: 区間長 | F24: -
D25: 起点側ｸﾛｿｲﾄﾞ | F25: -
D26: 曲線半径 | F26: -
D27: 終点側ｸﾛｿｲﾄﾞ | F27: - | S27: その他 | U27: 非常駐車帯 | Z27: *
B28: トンネル工法 | E28: 山岳トンネル工法（NATM） | U28: 方向転換所 | Z28: *
C29: ※緯度・経度については、秒の少数第二位の単位まで記入すること。（例；36度20分35.56秒の場合、362035.36と入力）

Sheet 様式A-2
B3: ■トンネル台帳 トンネル情報一覧表 【様式A-2】
B4: フリガナ | E4: オオミネトンネル | J4: 路線名 | M4: 一般国道435号 | S4: 作成者 | Y4: 応用地質株式会社 | AE4: 作成年月日 | AI4: 44952
B5: 名 称 | E5: 大嶺トンネル | J5: 管理者名 | M5: 山口県宇部土木建築事務所
B6: 覆工 ｽﾊﾟﾝ 番号 | C6: ｽﾊﾟﾝ長 | D6: 追加距離 | F6: トンネル本体工 | K6: 照明施設 | O6: 非常用施設 | AE6: 換気施設 | AK6: その他附属物等
O7: ='様式A-1'!T8 -> 通報設備 | R7: ='様式A-1'!T11 -> 警報設備 | S7: ='様式A-1'!T12 -> 消火設備 | U7: ='様式A-1'!T14 -> 避難誘導設備 | Y7: ='様式A-1'!T19 -> その他の設備 | AC7: 特記事項
D8: 起点側 | E8: 終点側 | F8: 特記事項 | I8: 内装板 | J8: 天井板 | K8: 基本照明 | L8: 入口出口照明 | M8: 特記事項 | O8: ='様式A-1'!U8 -> 通話型通報設備 | P8: ='様式A-1'!U9 -> 操作型通報設備 | Q8: ='様式A-1'!U10 -> 自動通報設備 | R8: ='様式A-1'!U11 -> 非常警報設備 | S8: ='様式A-1'!U12 -> 消 火 器 | T8: ='様式A-1'!U13 -> 消火栓設備 | U8: ='様式A-1'!U14 -> 誘導表示設備 | V8: ='様式A-1'!U15 -> 避難情報提供設備 | W8: ='様式A-1'!U17 -> 避難通路 | X8: ='様式A-1'!U18 -> 排煙設備 | Y8: ='様式A-1'!U19 -> 給水栓設備 | Z8: ='様式A-1'!U20 -> 無線通信補助設備 | AA8: ='様式A-1'!U21 -> 水噴霧設備 | AB8: ='様式A-1'!U22 -> 監視設備 | AE8: JF | AF8: VI計 | AG8: CO計 | AH8: 風向 風速計 | AI8: 特記事項
C9: (m) | D9: (m) | E9: (m)
B10: PS | C10: 0 | D10: 0 | E10: 0 | F10: 坑門（面壁型）
B11: 1 | C11: 7.3 | D11: 0 | E11: 7.3 | K11: ○
B12: 2 | C12: 10.4 | D12: 7.3 | E12: 17.7 | L12: ○
B13: 3 | C13: 10.4 | D13: 17.7 | E13: 28.1 | L13: ○
B14: 4 | C14: 10.4 | D14: 28.1 | E14: 38.5 | K14: ○ | L14: ○
B15: 5 | C15: 10.4 | D15: 38.5 | E15: 48.9 | L15: ○
B16: 6 | C16: 10.4 | D16: 48.9 | E16: 59.3 | K16: ○
B17: 7 | C17: 10.4 | D17: 59.3 | E17: 69.7 | L17: ○
B18: 8 | C18: 10.4 | D18: 69.7 | E18: 80.1 | K18: ○ | L18: ○
B19: 9 | C19: 10.4 | D19: 80.1 | E19: 90.5
B20: 10 | C20: 10.4 | D20: 90.5 | E20: 100.9 | L20: ○
B21: 11 | C21: 10.4 | D21: 100.9 | E21: 111.3 | K21: ○
B22: 12 | C22: 10.4 | D22: 111.3 | E22: 121.7 | L22: ○
B23: 13 | C23: 10.4 | D23: 121.7 | E23: 132.1 | K23: ○
B24: 14 | C24: 10.4 | D24: 132.1 | E24: 142.5 | L24: ○
B25: 15 | C25: 10.4 | D25: 142.5 | E25: 152.9 | K25: ○
B26: 16 | C26: 10.4 | D26: 152.9 | E26: 163.3
B27: 17 | C27: 10.4 | D27: 163.3 | E27: 173.7 | L27: ○
B28: 18 | C28: 10.4 | D28: 173.7 | E28: 184.1 | K28: ○
B29: 19 | C29: 10.4 | D29: 184.1 | E29: 194.5 | L29: ○
B30: 20 | C30: 10.4 | D30: 194.5 | E30: 204.9 | K30: ○
B31: 21 | C31: 10.4 | D31: 204.9 | E31: 215.3 | L31: ○
B32: 22 | C32: 10.4 | D32: 215.3 | E32: 225.7
B33: 23 | C33: 10.4 | D33: 225.7 | E33: 236.1 | K33: ○
B34: 24 | C34: 10.4 | D34: 236.1 | E34: 246.5 | L34: ○
B35: 25 | C35: 10.4 | D35: 246.5 | E35: 256.9 | K35: ○
B36: 26 | C36: 10.4 | D36: 256.9 | E36: 267.3 | L36: ○
B37: 27 | C37: 10.4 | D37: 267.3 | E37: 277.7 | K37: ○ | L37: ○
B38: 28 | C38: 10.4 | D38: 277.7 | E38: 288.1 | L38: ○
B39: 29 | C39: 10.4 | D39: 288.1 | E39: 298.5 | L39: ○
B40: 30 | C40: 10.6 | D40: 298.5 | E40: 309.1 | K40: ○
B41: 31 | C41: 10.6 | D41: 309.1 | E41: 319.7 | L41: ○
B42: 32 | C42: 10.3 | D42: 319.7 | E42: 330 | K42: ○
...

Sheet 様式A-3
B3: ■トンネル台帳 トンネル記録（位置図、断面図、施工実績他）【様式A-3】
B4: フリガナ | E4: オオミネトンネル | J4: 路線名 | M4: 一般国道435号 | S4: 作成者 | W4: 応用地質株式会社 | AC4: 作成年月日 | AF4: 44952
B5: 名 称 | E5: 大嶺トンネル | J5: 管理者名 | M5: 山口県宇部土木建築事務所
B6: 位置図・現況写真・標準断面図・地質縦断図・施工実績
B20: ■トンネル台帳 トンネル記録（位置図、断面図、施工実績他）【様式A-3】
B21: フリガナ | E21: オオミネトンネル | J21: 路線名 | M21: 一般国道435号 | S21: 作成者 | W21: 応用地質株式会社 | AC21: 作成年月日 | AF21: 44952
B22: 名 称 | E22: 大嶺トンネル | J22: 管理者名 | M22: 山口県宇部土木建築事務所
B23: 位置図・現況写真・標準断面図・地質縦断図・施工実績

Sheet 様式B(トンネル様式1P001)
B2: ■定期点検記録様式 トンネル変状・異常箇所写真位置図 【様式B】 | T2: トンネルID | AA2: Ⅰ | AB2: あり | AC2: 陸上トンネル 掘進工法
B3: フリガナ | D3: オオミネトンネル | H3: 路線名 | J3: 一般国道435号 | N3: 管理者名 | P3: 山口県宇部土木建築事務所 | T3: 緊急輸送道路 | V3: あり | AA3: Ⅱ | AB3: なし | AC3: 陸上トンネル 開削工法
B4: 名 称 | D4: 大嶺トンネル | T4: 代替路の有無 | V4: あり | AA4: Ⅲ | AC4: 陸上トンネル その他
B5: 所在地 | D5: 自 | E5: 山口県美祢市大嶺町西分 | H5: 定期点検業者 | K5: 応用地質株式会社 | O5: 定期点検年月日 | Q5: 44861 | T5: トンネル延長 | V5: L= | W5: 330 | Y5: ｍ | AA5: Ⅳ | AC5: 水底トンネル 掘進工法
D6: 至 | E6: 山口県美祢市大嶺町西分 | H6: 定期点検者名 | K6: 太田 裕之 | T6: ﾄﾝﾈﾙの分類 | V6: 陸上トンネル（掘進工法） | AC6: 水底トンネル 沈埋工法
B7: 起点 | C7: 緯度 | D7: 34°10′07.60″ | F7: 変状・異常 箇所数合計 | H7: トンネル 本体工 | J7: 材質劣化 | L7: Ⅱ | M7: 17 | N7: Ⅲ | O7: 0 | P7: Ⅳ | Q7: 0 | R7: トンネル毎 の健全性 | T7: Ⅱ | V7: 附属物の 取付状態 | W7: ◯ （応急措置後） | Y7: 0 | AC7: 水底トンネル 開削工法
AC8: 水底トンネル その他
C10: 経度 | D10: 131°10′16.60″
J11: 漏水 | L11: Ⅱ | M11: 2 | N11: Ⅲ | O11: 0 | P11: Ⅳ | Q11: 0
B13: 終点 | C13: 緯度 | D13: 34°10′07.60″ | W13: ✕ | Y13: 0
J15: 外力 | L15: Ⅱ | M15: 6 | N15: Ⅲ | O15: 0 | P15: Ⅳ | Q15: 0 | AC15: 0
C16: 経度 | D16: 131°10′03.70″
B19: トンネル変状・異常箇所写真位置図
P26: 注１：本位置図は、見下げた状態で記載すること。 注２：覆工スパン番号は横断目地毎(矢板工法の場合は上半アーチ の横断目地毎)に設定すること。 注３：写真番号に付する変状番号は、各覆工スパンの変状に対して新た に確認された場合は順次追加していくこと。 注４：横断目地の変状は前の覆工スパン番号で計上すること。 注５：１枚に収まらない場合は、複数枚に分けて作成すること。
C28: ※1 トンネル本体工の変状数は、材質劣化、漏水に起因するものは変状単位で、外力に起因するものはスパン単位で計上すること。
C29: ※2 本体工の変状に対しては、健全性の判定区分Ⅱ～Ⅳについて添付すること。また、点検前に実施された措置によりⅠと判定された箇所も添付すること。
C30: ※3 附属物の取付状態の○欄については、応急措置前に判定区分×とした箇所のうち応急措置により○判定とした箇所の数を記入すること。
C31: ※4 附属物の異常番号は、本体工と番号が重複しないよう101番以降とする等の配慮を行い、分かりやすく記録すること。
B33: ■定期点検記録様式 トンネル変状・異常箇所写真位置図 【様式B】 | T33: トンネルID | AA33: Ⅰ | AB33: あり | AC33: 陸上トンネル 掘進工法
B34: フリガナ | D34: オオミネトンネル | H34: 路線名 | J34: 一般国道435号 | N34: 管理者名 | P34: 山口県宇部土木建築事務所 | T34: 緊急輸送道路 | V34: あり | AA34: Ⅱ | AB34: なし | AC34: 陸上トンネル 開削工法
B35: 名 称 | D35: 大嶺トンネル | T35: 代替路の有無 | V35: あり | AA35: Ⅲ | AC35: 陸上トンネル その他
B36: 所在地 | D36: 自 | E36: 山口県美祢市大嶺町西分 | H36: 定期点検業者 | K36: 応用地質株式会社 | O36: 定期点検年月日 | Q36: 44861 | T36: トンネル延長 | V36: L= | W36: 330 | Y36: ｍ | AA36: Ⅳ | AC36: 水底トンネル 掘進工法
D37: 至 | E37: 山口県美祢市大嶺町西分 | H37: 定期点検者名 | K37: 太田 裕之 | T37: ﾄﾝﾈﾙの分類 | V37: 陸上トンネル（掘進工法） | AC37: 水底トンネル 沈埋工法
B38: 起点 | C38: 緯度 | D38: 34°10′07.60″ | F38: 変状・異常 箇所数合計 | H38: トンネル 本体工 | J38: 材質劣化 | L38: Ⅱ | M38: 17 | N38: Ⅲ | O38: 0 | P38: Ⅳ | Q38: 0 | R38: トンネル毎 の健全性 | T38: Ⅱ | V38: 附属物の 取付状態 | W38: ◯ （応急措置後） | Y38: 0 | AC38: 水底トンネル 開削工法
AC39: 水底トンネル その他
C41: 経度 | D41: 131°10′16.60″
J42: 漏水 | L42: Ⅱ | M42: 2 | N42: Ⅲ | O42: 0 | P42: Ⅳ | Q42: 0
B44: 終点 | C44: 緯度 | D44: 34°10′07.60″ | W44: ✕ | Y44: 0
J46: 外力 | L46: Ⅱ | M46: 6 | N46: Ⅲ | O46: 0 | P46: Ⅳ | Q46: 0 | AC46: 0
C47: 経度 | D47: 131°10′03.70″
B50: トンネル変状・異常箇所写真位置図
P57: 注１：本位置図は、見下げた状態で記載すること。 注２：覆工スパン番号は横断目地毎(矢板工法の場合は上半アーチ の横断目地毎)に設定すること。 注３：写真番号に付する変状番号は、各覆工スパンの変状に対して新た に確認された場合は順次追加していくこと。 注４：横断目地の変状は前の覆工スパン番号で計上すること。 注５：１枚に収まらない場合は、複数枚に分けて作成すること。
C59: ※1 トンネル本体工の変状数は、材質劣化、漏水に起因するものは変状単位で、外力に起因するものはスパン単位で計上すること。
C60: ※2 本体工の変状に対しては、健全性の判定区分Ⅱ～Ⅳについて添付すること。また、点検前に実施された措置によりⅠと判定された箇所も添付すること。
C61: ※3 附属物の取付状態の○欄については、応急措置前に判定区分×とした箇所のうち応急措置により○判定とした箇所の数を記入すること。
C62: ※4 附属物の異常番号は、本体工と番号が重複しないよう101番以降とする等の配慮を行い、分かりやすく記録すること。
B64: ■定期点検記録様式 トンネル変状・異常箇所写真位置図 【様式B】 | T64: トンネルID | AA64: Ⅰ | AB64: あり | AC64: 陸上トンネル 掘進工法
B65: フリガナ | D65: オオミネトンネル | H65: 路線名 | J65: 一般国道435号 | N65: 管理者名 | P65: 山口県宇部土木建築事務所 | T65: 緊急輸送道路 | V65: あり | AA65: Ⅱ | AB65: なし | AC65: 陸上トンネル 開削工法
B66: 名 称 | D66: 大嶺トンネル | T66: 代替路の有無 | V66: あり | AA66: Ⅲ | AC66: 陸上トンネル その他
B67: 所在地 | D67: 自 | E67: 山口県美祢市大嶺町西分 | H67: 定期点検業者 | K67: 応用地質株式会社 | O67: 定期点検年月日 | Q67: 44861 | T67: トンネル延長 | V67: L= | W67: 330 | Y67: ｍ | AA67: Ⅳ | AC67: 水底トンネル 掘進工法
...

Sheet 様式C-1-1
B2: ■定期点検記録様式 全スパン定期点検結果総括表（トンネル本体工） 【様式C-1-1】
B3: フリガナ | F3: オオミネトンネル | I3: 路線名 | K3: 一般国道435号 | O3: 定期点検業者 | Q3: 応用地質株式会社 | U3: 定期点検年月日 | Y3: 44861
B4: 名 称 | F4: 大嶺トンネル | I4: 管理者名 | K4: 山口県宇部土木建築事務所 | O4: 定期点検者名 | Q4: 太田 裕之
B5: 定期点検結果 | C5: 覆工 スパン 番号 | E5: 変状 番号 | F5: 距離 （m） | G5: 変状部位 | I5: 変 状 の 内 容 | O5: 前回定期点検時の状態 | Q5: 今回定期点検結果 | U5: 措置履歴 | Z5: 対応方針 ・ 特記事項
O6: 201806
G7: 対象箇所 | H7: 部位区分 | I7: 変状区分 | J7: 変状種類 | M7: 変状の発生範囲の規模 | N7: 前回定期点検時 との比較 | O7: 状態 | P7: 健全性 | Q7: 対策区分 | S7: 調査の 要否 | T7: 措置の 要否 | U7: 実施 | V7: 措置の実施状況
Q8: 応急措置前 | R8: 応急措置後
C9: 1 | E9: 1 | F9: 7.3 | G9: 覆工・坑門 | H9: 横断目地（右側） | I9: 材質劣化 | J9: うき・はく離 | M9: 0.4m×0.05m | N9: 進行が認められる | O9: 対策区分判定Ⅰ | P9: Ⅰ | Q9: Ⅱb | R9: Ⅰ | S9: 否 | T9: 否 | U9: － | V9: － | Z9: 今回点検時叩き落し実施
C10: 2 | E10: 1 | F10: 17.7 | G10: 覆工・坑門 | H10: 横断目地（左側） | I10: 材質劣化 | J10: うき・はく離 | M10: 0.5m×0.05m | N10: 同程度 | O10: 対策区分判定Ⅱb | P10: Ⅱ | Q10: － | R10: Ⅱb | S10: 否 | T10: 要監視 | U10: 継続 | V10: － | Z10: 日常巡視
C11: 2 | E11: 2 | F11: 17.7 | G11: 覆工・坑門 | H11: 横断目地（左側） | I11: 材質劣化 | J11: うき・はく離 | M11: 0.2m×0.05m | N11: 同程度 | O11: 対策区分判定Ⅱa | P11: Ⅱ | Q11: Ⅱa | R11: Ⅰ | S11: 否 | T11: 否 | U11: － | V11: － | Z11: 今回点検時叩き落し実施
C12: 2 | E12: 3 | F12: 17.7 | G12: 覆工・坑門 | H12: 横断目地（左側） | I12: 材質劣化 | J12: うき・はく離 | M12: 0.8m×0.05m | N12: 進行が認められる | O12: 対策区分判定Ⅰ | P12: Ⅰ | Q12: Ⅱa | R12: Ⅰ | S12: 否 | T12: 否 | U12: － | V12: － | Z12: 今回点検時叩き落し実施
C13: 2 | E13: 4 | F13: 17.7 | G13: 覆工・坑門 | H13: 横断目地（左側） | I13: 材質劣化 | J13: うき・はく離 | M13: 0.3m×0.05m | N13: 新規確認 | O13: － | P13: － | Q13: Ⅳ | R13: Ⅰ | S13: 否 | T13: 否 | U13: － | V13: － | Z13: 今回点検時叩き落し実施
C14: 3 | E14: 1 | F14: 17.8 | G14: 覆工・坑門 | H14: 側壁（左側） | I14: 外力 | J14: ひび割れ | M14: 0.3mm×7.4m他 | N14: 再判定 | O14: 対策区分判定Ⅰ | P14: Ⅰ | Q14: － | R14: Ⅱb | S14: 否 | T14: 要監視 | U14: 継続 | V14: － | Z14: 日常巡視
C15: 3 | E15: 2 | F15: 11.9 | G15: 覆工・坑門 | H15: アーチ（天端） | I15: 材質劣化 | J15: 鋼材腐食 | M15: 0.1m×0.1m | N15: 新規確認 | O15: － | P15: － | Q15: － | R15: Ⅱb | S15: 否 | T15: 要監視 | U15: 継続 | V15: － | Z15: 日常巡視、防錆剤塗布
C16: 4 | E16: 1 | F16: 28.2 | G16: 覆工・坑門 | H16: 側壁（左側） | I16: 外力 | J16: ひび割れ | M16: 0.5mm×10.7m | N16: 再判定 | O16: 対策区分判定Ⅰ | P16: Ⅰ | Q16: － | R16: Ⅱb | S16: 否 | T16: 要監視 | U16: 継続 | V16: － | Z16: 日常巡視
C17: 4 | E17: 2 | F17: 37.5 | G17: 覆工・坑門 | H17: アーチ（天端） | I17: 材質劣化 | J17: うき・はく離 | M17: 0.15m×0.3m | N17: 対策済み | O17: 対策区分判定Ⅰ | P17: Ⅰ | Q17: － | R17: Ⅰ | S17: 否 | T17: 否 | U17: 済 | V17: はく落防止工(FRPネット) | Z17: －
C18: 7 | E18: 1 | F18: 68.5 | G18: 覆工・坑門 | H18: アーチ（左側） | I18: 材質劣化 | J18: 鋼材腐食 | M18: 0.1m×0.05m | N18: 新規確認 | O18: － | P18: － | Q18: － | R18: Ⅱb | S18: 否 | T18: 要監視 | U18: 継続 | V18: － | Z18: 日常巡視、防錆剤塗布
C19: 7 | E19: 2 | F19: 59.4 | G19: 覆工・坑門 | H19: 横断目地（天端） | I19: 材質劣化 | J19: ひび割れ | M19: 1.4m×0.55m | N19: 再判定 | O19: 対策区分判定Ⅰ | P19: Ⅰ | Q19: － | R19: Ⅱb | S19: 否 | T19: 要監視 | U19: 継続 | V19: － | Z19: 日常巡視
C20: 7 | E20: 3 | F20: 69.7 | G20: 覆工・坑門 | H20: 横断目地（右側） | I20: 材質劣化 | J20: うき・はく離 | M20: 0.2m×0.05m | N20: 同程度 | O20: 対策区分判定Ⅱb | P20: Ⅱ | Q20: Ⅱb | R20: Ⅰ | S20: 否 | T20: 否 | U20: － | V20: － | Z20: 今回点検時叩き落し実施
... C39: 28 | E39: 1 | F39: 277.8 | G39: 覆工・坑門 | H39: 横断目地（天端） | I39: 材質劣化 | J39: ひび割れ | M39: 5.2m×0.65m | N39: 再判定 | O39: 対策区分判定Ⅰ | P39: Ⅰ | Q39: － | R39: Ⅱb | S39: 否 | T39: 要監視 | U39: 継続 | V39: － | Z39: 日常巡視
C42: ※ 対策区分（応急措置後）の判定区分Ⅱ～Ⅳについて記入すること。また、点検前に実施された措置によりⅠと判定された変状も記入すること。
C43: ※ 応急措置を実施しないで判定した変状の対策区分は、対策区分の応急措置後の欄に記入すること。
C44: ※ 変状の除去が不完全で、緊急対応が必要な場合は対応方針欄に記入すること。
C45: ※ １区間の覆工に複数の変状がある場合は、変状箇所毎に記入すること。
C46: ※ 措置・監視点検を行った場合には、措置履歴、特記事項に記録を残すこと。（実施年度も記載）
C47: ※ 行が不足する場合は、適時、表の行を増やすこと。

Sheet 様式C-1-2
B2: ■定期点検記録様式 定期点検結果総括表（トンネル内附属物等の取付状態） 【様式C-1-2】
B3: フリガナ | F3: オオミネトンネル | J3: 路線名 | L3: 一般国道435号 | O3: 定期点検業者 | Q3: 応用地質株式会社 | U3: 定期点検年月日 | Y3: 44861
B4: 名 称 | F4: 大嶺トンネル | J4: 管理者名 | L4: 山口県宇部土木建築事務所 | O4: 定期点検者名 | Q4: 太田 裕之
B5: 定期点検結果 | C5: 覆工 スパン 番号 | E5: 異常 番号 | F5: 距離 （m） | G5: 異常部位 | J5: 異 常 の 内 容 | P5: 定期点検結果 | R5: 応急措置の 実施状況 | X5: 対応方針 ・ 特記事項
G6: 対象箇所 | I6: 部位区分 | J6: 異常種類 | N6: 異常の発生範囲の規模 | P6: 異常判定区分 | R6: 実施 | S6: 応急措置の内容
P7: 応急措置前 | Q7: 応急措置後
C39: ※ 異常判定区分×について記入すること。また、応急措置により○と判定された箇所も記入すること。
C40: ※ 応急措置を実施しないで判定した箇所の異常判定区分は、異常判定区分の応急措置後の欄に記入すること。
C41: ※ 異常の除去が不完全で、緊急対応が必要な場合は対応方針欄に記入すること。
C42: ※ １スパンの覆工に複数の異常がある場合は、異常箇所毎に記入すること。
C43: ※ 行が不足する場合は、適時、表の行を増やすこと。

Sheet 様式C-2
B2: ■定期点検記録様式 状態の把握の内容 【様式C-2】
B3: フリガナ | E3: オオミネトンネル | H3: 路線名 | J3: 一般国道435号 | M3: 定期点検業者 | R3: 応用地質株式会社 | U3: 定期点検年月日 | X3: 44861
B4: 名 称 | E4: 大嶺トンネル | H4: 管理者名 | J4: 山口県宇部土木建築事務所 | M4: 定期点検者名 | R4: 太田 裕之
B5: 状態の把握の内容 | C5: 覆工スパン 番号 | E5: 変状 番号 | F5: 状態の把握の内容
F6: 年月日 | H6: 内容 | O6: 結果 | W6: 対策区分の 判定 | Y6: 健全性
B22: 注）状態の把握において、微破壊・非破壊検査や各種試験等を実施した場合について記載する。
B23: ※ 行が不足する場合は、適時、表の行を増やすこと。

Sheet 様式D-1-1(トンネル様式2P001)
B2: ■定期点検記録様式 変状写真台帳 | Y2: Ⅰ
B3: フリガナ | D3: オオミネトンネル | H3: 路線名 | J3: 一般国道435号 | M3: 定期点検業者 | P3: 応用地質株式会社 | S3: 定期点検年月日 | U3: 44861 | Y3: Ⅱ
B4: 名 称 | D4: 大嶺トンネル | H4: 管理者名 | J4: 山口県宇部土木建築事務所 | M4: 定期点検者名 | P4: 太田 裕之 | Y4: Ⅲ
B5: 写真 番号 | C5: 覆工 スパン 番号 | D5: 1 | M5: 写真 番号 | N5: 覆工 スパン 番号 | Y5: Ⅳ
Y6: －
C7: 変状 番号 | D7: 1 | N7: 変状 番号
B9: 変状 部位 | C9: 対象 箇所 | D9: 覆工・坑門 | M9: 変状 部位 | N9: 対象 箇所
C11: 部位 区分 | D11: 横断目地（右側） | N11: 部位 区分
B13: 変状区分 | D13: 材質劣化 | M13: 変状区分
B14: 変状種類 | D14: うき・はく離 | M14: 変状種類
B15: 健全性 | C15: 応急措置前 | E15: Ⅱ | M15: 健全性 | N15: 応急措置前
C16: 応急措置後 | E16: Ⅰ | N16: 応急措置後
B17: 変状の発生範囲の規模 | E17: 0.4m×0.05m | M17: 変状の発生範囲の規模
B18: 前回定期点検時の状態 | E18: はく落0.3m×0.1m(Ⅰ) | M18: 前回定期点検時の状態
B19: 調査方針 | E19: - | M19: 調査方針
B20: 対策履歴 | E20: なし | H20: 実施状況（実施日） | J20: - | M20: 対策履歴 | S20: 実施状況（実施日）
B21: メモ | D21: うき、今回点検時に叩き落とし実施(Ⅱb→Ⅰ、深さ50mm)、浸透固化材塗布、進行性あり | M21: メモ
B22: 写真 番号 | C22: 覆工 スパン 番号 | M22: 写真 番号 | N22: 覆工 スパン 番号
C24: 変状 番号 | N24: 変状 番号
B26: 変状 部位 | C26: 対象 箇所 | M26: 変状 部位 | N26: 対象 箇所
C28: 部位 区分 | N28: 部位 区分
B30: 変状区分 | M30: 変状区分
B31: 変状種類 | M31: 変状種類
B32: 健全性 | C32: 応急措置前 | M32: 健全性 | N32: 応急措置前
C33: 応急措置後 | N33: 応急措置後
B34: 変状の発生範囲の規模 | M34: 変状の発生範囲の規模
B35: 前回定期点検時の状態 | M35: 前回定期点検時の状態
B36: 調査方針 | M36: 調査方針
B37: 対策履歴 | H37: 実施状況（実施日） | M37: 対策履歴 | S37: 実施状況（実施日）
B38: メモ | M38: メモ
C39: ※ 健全性（応急措置後）の判定区分Ⅱ～Ⅳについて添付すること。また、点検前に 実施された措置によりⅠと判定された箇所も添付すること。 | N39: ※ 変状の発生範囲の規模とは、対策を行う際に参考となる変状の長さや面積をいう。
N40: ※ 応急措置を実施しないで判定した変状の健全性は、健全性の応急措置後の欄に記入すること。
C41: ※ たたき落としを実施した場合は、実施後の写真を添付すること。 | N41: ※ 変状の発生範囲の規模は、面積・寸法を記載すること。
C42: ※ 附属物の取付状態に関する異常写真は別途、様式D-1-2でとりまとめること。 | N42: (ひび割れ幅のみmmとし、その他をm表記とする)
C43: ※ 変状数に準じてシートを追加すること。（１シートに１ページとすること。） | N43: ※ 構造用鋼材以外の異物に伴ううき・はく離については、メモ欄に異物の概要を記入すること。

Sheet 様式D-1-1(トンネル様式2P001) (2)
B2: ■定期点検記録様式 変状写真台帳 | Y2: Ⅰ
B3: フリガナ | D3: オオミネトンネル | H3: 路線名 | J3: 一般国道435号 | M3: 定期点検業者 | P3: 応用地質株式会社 | S3: 定期点検年月日 | U3: 44861 | Y3: Ⅱ
B4: 名 称 | D4: 大嶺トンネル | H4: 管理者名 | J4: 山口県宇部土木建築事務所 | M4: 定期点検者名 | P4: 太田 裕之 | Y4: Ⅲ
B5: 写真 番号 | C5: 覆工 スパン 番号 | D5: 2 | M5: 写真 番号 | N5: 覆工 スパン 番号 | O5: 2 | Y5: Ⅳ
Y6: －
C7: 変状 番号 | D7: 1 | N7: 変状 番号 | O7: 2
B9: 変状 部位 | C9: 対象 箇所 | D9: 覆工・坑門 | M9: 変状 部位 | N9: 対象 箇所 | O9: 覆工・坑門
C11: 部位 区分 | D11: 横断目地（左側） | N11: 部位 区分 | O11: 横断目地（左側）
B13: 変状区分 | D13: 材質劣化 | M13: 変状区分 | O13: 材質劣化
B14: 変状種類 | D14: うき・はく離 | M14: 変状種類 | O14: うき・はく離
B15: 健全性 | C15: 応急措置前 | E15: － | M15: 健全性 | N15: 応急措置前 | P15: Ⅱ
C16: 応急措置後 | E16: Ⅱ | N16: 応急措置後 | P16: Ⅰ
B17: 変状の発生範囲の規模 | E17: 0.5m×0.05m | M17: 変状の発生範囲の規模 | P17: 0.2m×0.05m
B18: 前回定期点検時の状態 | E18: 同程度 | M18: 前回定期点検時の状態 | P18: 同程度
B19: 調査方針 | E19: - | M19: 調査方針 | P19: -
B20: 対策履歴 | E20: なし | H20: 実施状況（実施日） | J20: - | M20: 対策履歴 | P20: なし | S20: 実施状況（実施日） | U20: -
B21: メモ | D21: 目地部のうき(Ⅱb) | M21: メモ | O21: うき、今回点検時に叩き落とし実施(Ⅱa→Ⅰ、深さ50mm)
B22: 写真 番号 | C22: 覆工 スパン 番号 | D22: 2 | M22: 写真 番号 | N22: 覆工 スパン 番号 | O22: 2
C24: 変状 番号 | D24: 3 | N24: 変状 番号 | O24: 4
B26: 変状 部位 | C26: 対象 箇所 | D26: 覆工・坑門 | M26: 変状 部位 | N26: 対象 箇所 | O26: 覆工・坑門
C28: 部位 区分 | D28: 横断目地（左側） | N28: 部位 区分 | O28: 横断目地（左側）
B30: 変状区分 | D30: 材質劣化 | M30: 変状区分 | O30: 材質劣化
B31: 変状種類 | D31: うき・はく離 | M31: 変状種類 | O31: うき・はく離
B32: 健全性 | C32: 応急措置前 | E32: Ⅱ | M32: 健全性 | N32: 応急措置前 | P32: Ⅳ
C33: 応急措置後 | E33: Ⅰ | N33: 応急措置後 | P33: Ⅰ
B34: 変状の発生範囲の規模 | E34: 0.8m×0.05m | M34: 変状の発生範囲の規模 | P34: 0.3m×0.05m
B35: 前回定期点検時の状態 | E35: はく落0.8m×0.05m(Ⅰ) | M35: 前回定期点検時の状態 | P35: なし
B36: 調査方針 | E36: - | M36: 調査方針 | P36: -
B37: 対策履歴 | E37: なし | H37: 実施状況（実施日） | J37: - | M37: 対策履歴 | P37: なし | S37: 実施状況（実施日） | U37: -
B38: メモ | D38: うき、今回点検時に叩き落とし実施(Ⅱa→Ⅰ、深さ50mm)、浸透固化材塗布、進行性あり | M38: メモ | O38: うき、今回点検時に叩き落とし実施(Ⅳ→Ⅰ、深さ50mm)、浸透固化材塗布
C39: ※ 健全性（応急措置後）の判定区分Ⅱ～Ⅳについて添付すること。また、点検前に 実施された措置によりⅠと判定された箇所も添付すること。 | N39: ※ 変状の発生範囲の規模とは、対策を行う際に参考となる変状の長さや面積をいう。
N40: ※ 応急措置を実施しないで判定した変状の健全性は、健全性の応急措置後の欄に記入すること。
C41: ※ たたき落としを実施した場合は、実施後の写真を添付すること。 | N41: ※ 変状の発生範囲の規模は、面積・寸法を記載すること。
C42: ※ 附属物の取付状態に関する異常写真は別途、様式D-1-2でとりまとめること。 | N42: (ひび割れ幅のみmmとし、その他をm表記とする)
C43: ※ 変状数に準じてシートを追加すること。（１シートに１ページとすること。） | N43: ※ 構造用鋼材以外の異物に伴ううき・はく離については、メモ欄に異物の概要を記入すること。

Sheet 様式D-1-1(トンネル様式2P001) (3)
B2: ■定期点検記録様式 変状写真台帳 | Y2: Ⅰ
B3: フリガナ | D3: オオミネトンネル | H3: 路線名 | J3: 一般国道435号 | M3: 定期点検業者 | P3: 応用地質株式会社 | S3: 定期点検年月日 | U3: 44861 | Y3: Ⅱ
B4: 名 称 | D4: 大嶺トンネル | H4: 管理者名 | J4: 山口県宇部土木建築事務所 | M4: 定期点検者名 | P4: 太田 裕之 | Y4: Ⅲ
B5: 写真 番号 | C5: 覆工 スパン 番号 | D5: 3 | M5: 写真 番号 | N5: 覆工 スパン 番号 | O5: 3 | Y5: Ⅳ
Y6: －
C7: 変状 番号 | D7: 1 | N7: 変状 番号 | O7: 2
B9: 変状 部位 | C9: 対象 箇所 | D9: 覆工・坑門 | M9: 変状 部位 | N9: 対象 箇所 | O9: 覆工・坑門
C11: 部位 区分 | D11: 側壁（左側） | N11: 部位 区分 | O11: アーチ（天端）
B13: 変状区分 | D13: 外力 | M13: 変状区分 | O13: 材質劣化
B14: 変状種類 | D14: ひび割れ | M14: 変状種類 | O14: 鋼材腐食
B15: 健全性 | C15: 応急措置前 | E15: － | M15: 健全性 | N15: 応急措置前 | P15: －
C16: 応急措置後 | E16: Ⅱ | N16: 応急措置後 | P16: Ⅱ
B17: 変状の発生範囲の規模 | E17: 0.3mm×7.4m他 | M17: 変状の発生範囲の規模 | P17: 0.1m×0.1m
B18: 前回定期点検時の状態 | E18: ひび割れ0.3mm×7.4m(Ⅰ)他 | M18: 前回定期点検時の状態 | P18: なし
B19: 調査方針 | E19: - | M19: 調査方針 | P19: -
B20: 対策履歴 | E20: なし | H20: 実施状況（実施日） | J20: - | M20: 対策履歴 | P20: なし | S20: 実施状況（実施日） | U20: -
B21: メモ | D21: 縦断方向に複数のひび割れ(幅0.3mm～0.5mm)(Ⅱb)、一部遊離石灰を伴う、再判定 | M21: メモ | O21: 鋼材露出(Ⅱb)、防錆剤塗布、周辺にうきなし
B22: 写真 番号 | C22: 覆工 スパン 番号 | M22: 写真 番号 | N22: 覆工 スパン 番号
C24: 変状 番号 | N24: 変状 番号
B26: 変状 部位 | C26: 対象 箇所 | M26: 変状 部位 | N26: 対象 箇所
C28: 部位 区分 | N28: 部位 区分
B30: 変状区分 | M30: 変状区分
B31: 変状種類 | M31: 変状種類
B32: 健全性 | C32: 応急措置前 | M32: 健全性 | N32: 応急措置前
C33: 応急措置後 | N33: 応急措置後
B34: 変状の発生範囲の規模 | M34: 変状の発生範囲の規模
B35: 前回定期点検時の状態 | M35: 前回定期点検時の状態
B36: 調査方針 | M36: 調査方針
B37: 対策履歴 | H37: 実施状況（実施日） | M37: 対策履歴 | S37: 実施状況（実施日）
B38: メモ | M38: メモ
C39: ※ 健全性（応急措置後）の判定区分Ⅱ～Ⅳについて添付すること。また、点検前に 実施された措置によりⅠと判定された箇所も添付すること。 | N39: ※ 変状の発生範囲の規模とは、対策を行う際に参考となる変状の長さや面積をいう。
N40: ※ 応急措置を実施しないで判定した変状の健全性は、健全性の応急措置後の欄に記入すること。
C41: ※ たたき落としを実施した場合は、実施後の写真を添付すること。 | N41: ※ 変状の発生範囲の規模は、面積・寸法を記載すること。
C42: ※ 附属物の取付状態に関する異常写真は別途、様式D-1-2でとりまとめること。 | N42: (ひび割れ幅のみmmとし、その他をm表記とする)
C43: ※ 変状数に準じてシートを追加すること。（１シートに１ページとすること。） | N43: ※ 構造用鋼材以外の異物に伴ううき・はく離については、メモ欄に異物の概要を記入すること。

Sheet 様式D-1-1(トンネル様式2P001) (4)
B2: ■定期点検記録様式 変状写真台帳 | Y2: Ⅰ
B3: フリガナ | D3: オオミネトンネル | H3: 路線名 | J3: 一般国道435号 | M3: 定期点検業者 | P3: 応用地質株式会社 | S3: 定期点検年月日 | U3: 44861 | Y3: Ⅱ
B4: 名 称 | D4: 大嶺トンネル | H4: 管理者名 | J4: 山口県宇部土木建築事務所 | M4: 定期点検者名 | P4: 太田 裕之 | Y4: Ⅲ
B5: 写真 番号 | C5: 覆工 スパン 番号 | D5: 4 | M5: 写真 番号 | N5: 覆工 スパン 番号 | O5: 4 | Y5: Ⅳ
Y6: －
C7: 変状 番号 | D7: 1 | N7: 変状 番号 | O7: 2
B9: 変状 部位 | C9: 対象 箇所 | D9: 覆工・坑門 | M9: 変状 部位 | N9: 対象 箇所 | O9: 覆工・坑門
C11: 部位 区分 | D11: 側壁（左側） | N11: 部位 区分 | O11: アーチ（天端）
B13: 変状区分 | D13: 外力 | M13: 変状区分 | O13: 材質劣化
B14: 変状種類 | D14: ひび割れ | M14: 変状種類 | O14: うき・はく離
B15: 健全性 | C15: 応急措置前 | E15: － | M15: 健全性 | N15: 応急措置前 | P15: －
C16: 応急措置後 | E16: Ⅱ | N16: 応急措置後 | P16: Ⅰ
B17: 変状の発生範囲の規模 | E17: 0.5mm×10.7m | M17: 変状の発生範囲の規模 | P17: 0.15m×0.3m
B18: 前回定期点検時の状態 | E18: ひび割れ0.5mm×10.7m(Ⅰ) | M18: 前回定期点検時の状態 | P18: 同程度
B19: 調査方針 | E19: - | M19: 調査方針 | P19: -
B20: 対策履歴 | E20: なし | H20: 実施状況（実施日） | J20: - | M20: 対策履歴 | P20: はく落防止工(FRPネット) | S20: 実施状況（実施日） | U20: -
B21: メモ | D21: 縦断方向のひび割れ(幅0.5mm)(Ⅱb)、再判定 | M21: メモ | O21: -
B22: 写真 番号 | C22: 覆工 スパン 番号 | M22: 写真 番号 | N22: 覆工 スパン 番号
C24: 変状 番号 | N24: 変状 番号
B26: 変状 部位 | C26: 対象 箇所 | M26: 変状 部位 | N26: 対象 箇所
C28: 部位 区分 | N28: 部位 区分
B30: 変状区分 | M30: 変状区分
B31: 変状種類 | M31: 変状種類
B32: 健全性 | C32: 応急措置前 | M32: 健全性 | N32: 応急措置前
C33: 応急措置後 | N33: 応急措置後
B34: 変状の発生範囲の規模 | M34: 変状の発生範囲の規模
B35: 前回定期点検時の状態 | M35: 前回定期点検時の状態
B36: 調査方針 | M36: 調査方針
B37: 対策履歴 | H37: 実施状況（実施日） | M37: 対策履歴 | S37: 実施状況（実施日）
B38: メモ | M38: メモ
C39: ※ 健全性（応急措置後）の判定区分Ⅱ～Ⅳについて添付すること。また、点検前に 実施された措置によりⅠと判定された箇所も添付すること。 | N39: ※ 変状の発生範囲の規模とは、対策を行う際に参考となる変状の長さや面積をいう。
N40: ※ 応急措置を実施しないで判定した変状の健全性は、健全性の応急措置後の欄に記入すること。
C41: ※ たたき落としを実施した場合は、実施後の写真を添付すること。 | N41: ※ 変状の発生範囲の規模は、面積・寸法を記載すること。
C42: ※ 附属物の取付状態に関する異常写真は別途、様式D-1-2でとりまとめること。 | N42: (ひび割れ幅のみmmとし、その他をm表記とする)
C43: ※ 変状数に準じてシートを追加すること。（１シートに１ページとすること。） | N43: ※ 構造用鋼材以外の異物に伴ううき・はく離については、メモ欄に異物の概要を記入すること。

Sheet 様式D-1-1(トンネル様式2P001) (5)
B2: ■定期点検記録様式 変状写真台帳 | Y2: Ⅰ
B3: フリガナ | D3: オオミネトンネル | H3: 路線名 | J3: 一般国道435号 | M3: 定期点検業者 | P3: 応用地質株式会社 | S3: 定期点検年月日 | U3: 44861 | Y3: Ⅱ
B4: 名 称 | D4: 大嶺トンネル | H4: 管理者名 | J4: 山口県宇部土木建築事務所 | M4: 定期点検者名 | P4: 太田 裕之 | Y4: Ⅲ
B5: 写真 番号 | C5: 覆工 スパン 番号 | D5: 7 | M5: 写真 番号 | N5: 覆工 スパン 番号 | O5: 7 | Y5: Ⅳ
Y6: －
C7: 変状 番号 | D7: 1 | N7: 変状 番号 | O7: 2
B9: 変状 部位 | C9: 対象 箇所 | D9: 覆工・坑門 | M9: 変状 部位 | N9: 対象 箇所 | O9: 覆工・坑門
C11: 部位 区分 | D11: アーチ（左側） | N11: 部位 区分 | O11: 横断目地（天端）
B13: 変状区分 | D13: 材質劣化 | M13: 変状区分 | O13: 材質劣化
B14: 変状種類 | D14: 鋼材腐食 | M14: 変状種類 | O14: ひび割れ
B15: 健全性 | C15: 応急措置前 | E15: － | M15: 健全性 | N15: 応急措置前 | P15: －
C16: 応急措置後 | E16: Ⅱ | N16: 応急措置後 | P16: Ⅱ
B17: 変状の発生範囲の規模 | E17: 0.1m×0.05m | M17: 変状の発生範囲の規模 | P17: 1.4m×0.55m
B18: 前回定期点検時の状態 | E18: なし | M18: 前回定期点検時の状態 | P18: ひび割れ1.4m×0.55m(Ⅰ)
B19: 調査方針 | E19: - | M19: 調査方針 | P19: -
B20: 対策履歴 | E20: なし | H20: 実施状況（実施日） | J20: - | M20: 対策履歴 | P20: なし | S20: 実施状況（実施日） | U20: -
B21: メモ | D21: 鋼材露出(Ⅱb)、防錆剤塗布、周辺にうきなし | M21: メモ | O21: 目地部に半月状のひび割れ(幅0.2mm)(Ⅱb)、打音異常なし、再判定
B22: 写真 番号 | C22: 覆工 スパン 番号 | D22: 7 | M22: 写真 番号 | N22: 覆工 スパン 番号
C24: 変状 番号 | D24: 3 | N24: 変状 番号
B26: 変状 部位 | C26: 対象 箇所 | D26: 覆工・坑門 | M26: 変状 部位 | N26: 対象 箇所
C28: 部位 区分 | D28: 横断目地（右側） | N28: 部位 区分
B30: 変状区分 | D30: 材質劣化 | M30: 変状区分
B31: 変状種類 | D31: うき・はく離 | M31: 変状種類
B32: 健全性 | C32: 応急措置前 | E32: Ⅱ | M32: 健全性 | N32: 応急措置前
C33: 応急措置後 | E33: Ⅰ | N33: 応急措置後
B34: 変状の発生範囲の規模 | E34: 0.2m×0.05m | M34: 変状の発生範囲の規模
B35: 前回定期点検時の状態 | E35: 同程度 | M35: 前回定期点検時の状態
B36: 調査方針 | E36: - | M36: 調査方針
B37: 対策履歴 | E37: なし | H37: 実施状況（実施日） | J37: - | M37: 対策履歴 | S37: 実施状況（実施日）
B38: メモ | D38: うき、今回点検時に叩き落とし実施(Ⅱb→Ⅰ、深さ50mm) | M38: メモ
C39: ※ 健全性（応急措置後）の判定区分Ⅱ～Ⅳについて添付すること。また、点検前に 実施された措置によりⅠと判定された箇所も添付すること。 | N39: ※ 変状の発生範囲の規模とは、対策を行う際に参考となる変状の長さや面積をいう。
N40: ※ 応急措置を実施しないで判定した変状の健全性は、健全性の応急措置後の欄に記入すること。
C41: ※ たたき落としを実施した場合は、実施後の写真を添付すること。 | N41: ※ 変状の発生範囲の規模は、面積・寸法を記載すること。
C42: ※ 附属物の取付状態に関する異常写真は別途、様式D-1-2でとりまとめること。 | N42: (ひび割れ幅のみmmとし、その他をm表記とする)
C43: ※ 変状数に準じてシートを追加すること。（１シートに１ページとすること。） | N43: ※ 構造用鋼材以外の異物に伴ううき・はく離については、メモ欄に異物の概要を記入すること。

Sheet 様式D-1-1(トンネル様式2P001) (6)
B2: ■定期点検記録様式 変状写真台帳 | Y2: Ⅰ
B3: フリガナ | D3: オオミネトンネル | H3: 路線名 | J3: 一般国道435号 | M3: 定期点検業者 | P3: 応用地質株式会社 | S3: 定期点検年月日 | U3: 44861 | Y3: Ⅱ
B4: 名 称 | D4: 大嶺トンネル | H4: 管理者名 | J4: 山口県宇部土木建築事務所 | M4: 定期点検者名 | P4: 太田 裕之 | Y4: Ⅲ
B5: 写真 番号 | C5: 覆工 スパン 番号 | D5: 8 | M5: 写真 番号 | N5: 覆工 スパン 番号 | Y5: Ⅳ
Y6: －
C7: 変状 番号 | D7: 1 | N7: 変状 番号
B9: 変状 部位 | C9: 対象 箇所 | D9: 覆工・坑門 | M9: 変状 部位 | N9: 対象 箇所
C11: 部位 区分 | D11: 側壁（左側） | N11: 部位 区分
B13: 変状区分 | D13: 外力 | M13: 変状区分
B14: 変状種類 | D14: ひび割れ | M14: 変状種類
B15: 健全性 | C15: 応急措置前 | E15: － | M15: 健全性 | N15: 応急措置前
C16: 応急措置後 | E16: Ⅱ | N16: 応急措置後
B17: 変状の発生範囲の規模 | E17: 0.3mm×2.9m他 | M17: 変状の発生範囲の規模
B18: 前回定期点検時の状態 | E18: ひび割れ0.3mm×2.1m(Ⅰ)他 | M18: 前回定期点検時の状態
B19: 調査方針 | E19: - | M19: 調査方針
B20: 対策履歴 | E20: なし | H20: 実施状況（実施日） | J20: - | M20: 対策履歴 | S20: 実施状況（実施日）
B21: メモ | D21: 縦断方向に複数のひび割れ(幅0.3mm)(Ⅱb)、一部遊離石灰を伴う、再判定 | M21: メモ
B22: 写真 番号 | C22: 覆工 スパン 番号 | M22: 写真 番号 | N22: 覆工 スパン 番号
C24: 変状 番号 | N24: 変状 番号
B26: 変状 部位 | C26: 対象 箇所 | M26: 変状 部位 | N26: 対象 箇所
C28: 部位 区分 | N28: 部位 区分
B30: 変状区分 | M30: 変状区分
B31: 変状種類 | M31: 変状種類
B32: 健全性 | C32: 応急措置前 | M32: 健全性 | N32: 応急措置前
C33: 応急措置後 | N33: 応急措置後
B34: 変状の発生範囲の規模 | M34: 変状の発生範囲の規模
B35: 前回定期点検時の状態 | M35: 前回定期点検時の状態
B36: 調査方針 | M36: 調査方針
B37: 対策履歴 | H37: 実施状況（実施日） | M37: 対策履歴 | S37: 実施状況（実施日）
B38: メモ | M38: メモ
C39: ※ 健全性（応急措置後）の判定区分Ⅱ～Ⅳについて添付すること。また、点検前に 実施された措置によりⅠと判定された箇所も添付すること。 | N39: ※ 変状の発生範囲の規模とは、対策を行う際に参考となる変状の長さや面積をいう。
N40: ※ 応急措置を実施しないで判定した変状の健全性は、健全性の応急措置後の欄に記入すること。
C41: ※ たたき落としを実施した場合は、実施後の写真を添付すること。 | N41: ※ 変状の発生範囲の規模は、面積・寸法を記載すること。
C42: ※ 附属物の取付状態に関する異常写真は別途、様式D-1-2でとりまとめること。 | N42: (ひび割れ幅のみmmとし、その他をm表記とする)
C43: ※ 変状数に準じてシートを追加すること。（１シートに１ページとすること。） | N43: ※ 構造用鋼材以外の異物に伴ううき・はく離については、メモ欄に異物の概要を記入すること。

Sheet 様式D-1-1(トンネル様式2P001) (7)
B2: ■定期点検記録様式 変状写真台帳 | Y2: Ⅰ
B3: フリガナ | D3: オオミネトンネル | H3: 路線名 | J3: 一般国道435号 | M3: 定期点検業者 | P3: 応用地質株式会社 | S3: 定期点検年月日 | U3: 44861 | Y3: Ⅱ
B4: 名 称 | D4: 大嶺トンネル | H4: 管理者名 | J4: 山口県宇部土木建築事務所 | M4: 定期点検者名 | P4: 太田 裕之 | Y4: Ⅲ
B5: 写真 番号 | C5: 覆工 スパン 番号 | D5: 10 | M5: 写真 番号 | N5: 覆工 スパン 番号 | O5: 10 | Y5: Ⅳ
Y6: －
C7: 変状 番号 | D7: 1 | N7: 変状 番号 | O7: 2
B9: 変状 部位 | C9: 対象 箇所 | D9: 覆工・坑門 | M9: 変状 部位 | N9: 対象 箇所 | O9: 覆工・坑門
C11: 部位 区分 | D11: アーチ（左側） | N11: 部位 区分 | O11: アーチ（天端）
B13: 変状区分 | D13: 材質劣化 | M13: 変状区分 | O13: 材質劣化
B14: 変状種類 | D14: 鋼材腐食 | M14: 変状種類 | O14: 鋼材腐食
B15: 健全性 | C15: 応急措置前 | E15: － | M15: 健全性 | N15: 応急措置前 | P15: －
C16: 応急措置後 | E16: Ⅱ | N16: 応急措置後 | P16: Ⅱ
B17: 変状の発生範囲の規模 | E17: 0.05m×0.05m | M17: 変状の発生範囲の規模 | P17: 0.2m×0.05m
B18: 前回定期点検時の状態 | E18: なし | M18: 前回定期点検時の状態 | P18: なし
B19: 調査方針 | E19: - | M19: 調査方針 | P19: -
B20: 対策履歴 | E20: なし | H20: 実施状況（実施日） | J20: - | M20: 対策履歴 | P20: なし | S20: 実施状況（実施日） | U20: -
B21: メモ | D21: 鋼材露出(Ⅱb)、防錆剤塗布、周辺にうきなし | M21: メモ | O21: 鋼材露出(Ⅱb)、防錆剤塗布、周辺にうきなし
B22: 写真 番号 | C22: 覆工 スパン 番号 | M22: 写真 番号 | N22: 覆工 スパン 番号
C24: 変状 番号 | N24: 変状 番号
B26: 変状 部位 | C26: 対象 箇所 | M26: 変状 部位 | N26: 対象 箇所
C28: 部位 区分 | N28: 部位 区分
B30: 変状区分 | M30: 変状区分
B31: 変状種類 | M31: 変状種類
B32: 健全性 | C32: 応急措置前 | M32: 健全性 | N32: 応急措置前
C33: 応急措置後 | N33: 応急措置後
B34: 変状の発生範囲の規模 | M34: 変状の発生範囲の規模
B35: 前回定期点検時の状態 | M35: 前回定期点検時の状態
B36: 調査方針 | M36: 調査方針
B37: 対策履歴 | H37: 実施状況（実施日） | M37: 対策履歴 | S37: 実施状況（実施日）
B38: メモ | M38: メモ
C39: ※ 健全性（応急措置後）の判定区分Ⅱ～Ⅳについて添付すること。また、点検前に 実施された措置によりⅠと判定された箇所も添付すること。 | N39: ※ 変状の発生範囲の規模とは、対策を行う際に参考となる変状の長さや面積をいう。
N40: ※ 応急措置を実施しないで判定した変状の健全性は、健全性の応急措置後の欄に記入すること。
C41: ※ たたき落としを実施した場合は、実施後の写真を添付すること。 | N41: ※ 変状の発生範囲の規模は、面積・寸法を記載すること。
C42: ※ 附属物の取付状態に関する異常写真は別途、様式D-1-2でとりまとめること。 | N42: (ひび割れ幅のみmmとし、その他をm表記とする)
C43: ※ 変状数に準じてシートを追加すること。（１シートに１ページとすること。） | N43: ※ 構造用鋼材以外の異物に伴ううき・はく離については、メモ欄に異物の概要を記入すること。

Sheet 様式D-1-1(トンネル様式2P001) (8)
B2: ■定期点検記録様式 変状写真台帳 | Y2: Ⅰ
B3: フリガナ | D3: オオミネトンネル | H3: 路線名 | J3: 一般国道435号 | M3: 定期点検業者 | P3: 応用地質株式会社 | S3: 定期点検年月日 | U3: 44861 | Y3: Ⅱ
B4: 名 称 | D4: 大嶺トンネル | H4: 管理者名 | J4: 山口県宇部土木建築事務所 | M4: 定期点検者名 | P4: 太田 裕之 | Y4: Ⅲ
B5: 写真 番号 | C5: 覆工 スパン 番号 | D5: 14 | M5: 写真 番号 | N5: 覆工 スパン 番号 | Y5: Ⅳ
Y6: －
C7: 変状 番号 | D7: 1 | N7: 変状 番号
B9: 変状 部位 | C9: 対象 箇所 | D9: 覆工・坑門 | M9: 変状 部位 | N9: 対象 箇所
C11: 部位 区分 | D11: 側壁（左側） | N11: 部位 区分
B13: 変状区分 | D13: 外力 | M13: 変状区分
B14: 変状種類 | D14: ひび割れ | M14: 変状種類
B15: 健全性 | C15: 応急措置前 | E15: － | M15: 健全性 | N15: 応急措置前
C16: 応急措置後 | E16: Ⅱ | N16: 応急措置後
B17: 変状の発生範囲の規模 | E17: 0.5mm×3.0m他 | M17: 変状の発生範囲の規模
B18: 前回定期点検時の状態 | E18: ひび割れ0.5mm×3.0m(Ⅰ)他 | M18: 前回定期点検時の状態
B19: 調査方針 | E19: - | M19: 調査方針
B20: 対策履歴 | E20: なし | H20: 実施状況（実施日） | J20: - | M20: 対策履歴 | S20: 実施状況（実施日）
B21: メモ | D21: 縦断方向に複数のひび割れ(幅0.2mm～0.5mm)(Ⅱb)、再判定 | M21: メモ
B22: 写真 番号 | C22: 覆工 スパン 番号 | M22: 写真 番号 | N22: 覆工 スパン 番号
C24: 変状 番号 | N24: 変状 番号
B26: 変状 部位 | C26: 対象 箇所 | M26: 変状 部位 | N26: 対象 箇所
C28: 部位 区分 | N28: 部位 区分
B30: 変状区分 | M30: 変状区分
B31: 変状種類 | M31: 変状種類
B32: 健全性 | C32: 応急措置前 | M32: 健全性 | N32: 応急措置前
C33: 応急措置後 | N33: 応急措置後
B34: 変状の発生範囲の規模 | M34: 変状の発生範囲の規模
B35: 前回定期点検時の状態 | M35: 前回定期点検時の状態
B36: 調査方針 | M36: 調査方針
B37: 対策履歴 | H37: 実施状況（実施日） | M37: 対策履歴 | S37: 実施状況（実施日）
B38: メモ | M38: メモ
C39: ※ 健全性（応急措置後）の判定区分Ⅱ～Ⅳについて添付すること。また、点検前に 実施された措置によりⅠと判定された箇所も添付すること。 | N39: ※ 変状の発生範囲の規模とは、対策を行う際に参考となる変状の長さや面積をいう。
N40: ※ 応急措置を実施しないで判定した変状の健全性は、健全性の応急措置後の欄に記入すること。
C41: ※ たたき落としを実施した場合は、実施後の写真を添付すること。 | N41: ※ 変状の発生範囲の規模は、面積・寸法を記載すること。
C42: ※ 附属物の取付状態に関する異常写真は別途、様式D-1-2でとりまとめること。 | N42: (ひび割れ幅のみmmとし、その他をm表記とする)
C43: ※ 変状数に準じてシートを追加すること。（１シートに１ページとすること。） | N43: ※ 構造用鋼材以外の異物に伴ううき・はく離については、メモ欄に異物の概要を記入すること。

Sheet 様式D-1-1(トンネル様式2P001) (9)
B2: ■定期点検記録様式 変状写真台帳 | Y2: Ⅰ
B3: フリガナ | D3: オオミネトンネル | H3: 路線名 | J3: 一般国道435号 | M3: 定期点検業者 | P3: 応用地質株式会社 | S3: 定期点検年月日 | U3: 44861 | Y3: Ⅱ
B4: 名 称 | D4: 大嶺トンネル | H4: 管理者名 | J4: 山口県宇部土木建築事務所 | M4: 定期点検者名 | P4: 太田 裕之 | Y4: Ⅲ
B5: 写真 番号 | C5: 覆工 スパン 番号 | D5: 17 | M5: 写真 番号 | N5: 覆工 スパン 番号 | Y5: Ⅳ
Y6: －
C7: 変状 番号 | D7: 1 | N7: 変状 番号
B9: 変状 部位 | C9: 対象 箇所 | D9: 覆工・坑門 | M9: 変状 部位 | N9: 対象 箇所
C11: 部位 区分 | D11: 側壁（左側） | N11: 部位 区分
B13: 変状区分 | D13: 材質劣化 | M13: 変状区分
B14: 変状種類 | D14: 鋼材腐食 | M14: 変状種類
B15: 健全性 | C15: 応急措置前 | E15: － | M15: 健全性 | N15: 応急措置前
C16: 応急措置後 | E16: Ⅱ | N16: 応急措置後
B17: 変状の発生範囲の規模 | E17: 0.4m×0.2m | M17: 変状の発生範囲の規模
B18: 前回定期点検時の状態 | E18: 同程度 | M18: 前回定期点検時の状態
B19: 調査方針 | E19: - | M19: 調査方針
B20: 対策履歴 | E20: なし | H20: 実施状況（実施日） | J20: - | M20: 対策履歴 | S20: 実施状況（実施日）
B21: メモ | D21: 鋼材露出(深さ50mm)(Ⅱb)、部分的に露出した鋼材(表面的な腐食)に防錆剤塗布 | M21: メモ
B22: 写真 番号 | C22: 覆工 スパン 番号 | M22: 写真 番号 | N22: 覆工 スパン 番号
C24: 変状 番号 | N24: 変状 番号
B26: 変状 部位 | C26: 対象 箇所 | M26: 変状 部位 | N26: 対象 箇所
C28: 部位 区分 | N28: 部位 区分
B30: 変状区分 | M30: 変状区分
B31: 変状種類 | M31: 変状種類
B32: 健全性 | C32: 応急措置前 | M32: 健全性 | N32: 応急措置前
C33: 応急措置後 | N33: 応急措置後
B34: 変状の発生範囲の規模 | M34: 変状の発生範囲の規模
B35: 前回定期点検時の状態 | M35: 前回定期点検時の状態
B36: 調査方針 | M36: 調査方針
B37: 対策履歴 | H37: 実施状況（実施日） | M37: 対策履歴 | S37: 実施状況（実施日）
B38: メモ | M38: メモ
C39: ※ 健全性（応急措置後）の判定区分Ⅱ～Ⅳについて添付すること。また、点検前に 実施された措置によりⅠと判定された箇所も添付すること。 | N39: ※ 変状の発生範囲の規模とは、対策を行う際に参考となる変状の長さや面積をいう。
N40: ※ 応急措置を実施しないで判定した変状の健全性は、健全性の応急措置後の欄に記入すること。
C41: ※ たたき落としを実施した場合は、実施後の写真を添付すること。 | N41: ※ 変状の発生範囲の規模は、面積・寸法を記載すること。
C42: ※ 附属物の取付状態に関する異常写真は別途、様式D-1-2でとりまとめること。 | N42: (ひび割れ幅のみmmとし、その他をm表記とする)
C43: ※ 変状数に準じてシートを追加すること。（１シートに１ページとすること。） | N43: ※ 構造用鋼材以外の異物に伴ううき・はく離については、メモ欄に異物の概要を記入すること。

Sheet 様式D-1-1(トンネル様式2P001) (10)
B2: ■定期点検記録様式 変状写真台帳 | Y2: Ⅰ
B3: フリガナ | D3: オオミネトンネル | H3: 路線名 | J3: 一般国道435号 | M3: 定期点検業者 | P3: 応用地質株式会社 | S3: 定期点検年月日 | U3: 44861 | Y3: Ⅱ
B4: 名 称 | D4: 大嶺トンネル | H4: 管理者名 | J4: 山口県宇部土木建築事務所 | M4: 定期点検者名 | P4: 太田 裕之 | Y4: Ⅲ
B5: 写真 番号 | C5: 覆工 スパン 番号 | D5: 19 | M5: 写真 番号 | N5: 覆工 スパン 番号 | O5: 19 | Y5: Ⅳ
Y6: －
C7: 変状 番号 | D7: 1 | N7: 変状 番号 | O7: 2
B9: 変状 部位 | C9: 対象 箇所 | D9: 覆工・坑門 | M9: 変状 部位 | N9: 対象 箇所 | O9: 覆工・坑門
C11: 部位 区分 | D11: 側壁（左側） | N11: 部位 区分 | O11: アーチ（左側）
B13: 変状区分 | D13: 外力 | M13: 変状区分 | O13: 材質劣化
B14: 変状種類 | D14: ひび割れ | M14: 変状種類 | O14: 鋼材腐食
B15: 健全性 | C15: 応急措置前 | E15: － | M15: 健全性 | N15: 応急措置前 | P15: －
C16: 応急措置後 | E16: Ⅱ | N16: 応急措置後 | P16: Ⅱ
B17: 変状の発生範囲の規模 | E17: 0.3mm×2.9m他 | M17: 変状の発生範囲の規模 | P17: 0.05m×0.2m
B18: 前回定期点検時の状態 | E18: ひび割れ0.3mm×2.9m(Ⅰ)他 | M18: 前回定期点検時の状態 | P18: なし
B19: 調査方針 | E19: - | M19: 調査方針 | P19: -
B20: 対策履歴 | E20: なし | H20: 実施状況（実施日） | J20: - | M20: 対策履歴 | P20: なし | S20: 実施状況（実施日） | U20: -
B21: メモ | D21: 縦断方向に複数のひび割れ(幅0.3mm)(Ⅱb)、再判定 | M21: メモ | O21: 鋼材露出(Ⅱb)、防錆剤塗布、周辺にうきなし
B22: 写真 番号 | C22: 覆工 スパン 番号 | D22: 19 | M22: 写真 番号 | N22: 覆工 スパン 番号
C24: 変状 番号 | D24: 3 | N24: 変状 番号
B26: 変状 部位 | C26: 対象 箇所 | D26: 覆工・坑門 | M26: 変状 部位 | N26: 対象 箇所
C28: 部位 区分 | D28: 横断目地（全周） | N28: 部位 区分
B30: 変状区分 | D30: 材質劣化 | M30: 変状区分
B31: 変状種類 | D31: 補強・補修材の破損 | M31: 変状種類
B32: 健全性 | C32: 応急措置前 | E32: － | M32: 健全性 | N32: 応急措置前
C33: 応急措置後 | E33: Ⅱ | N33: 応急措置後
B34: 変状の発生範囲の規模 | E34: 17.6m×0.15m | M34: 変状の発生範囲の規模
B35: 前回定期点検時の状態 | E35: 補修跡(Ⅰ) | M35: 前回定期点検時の状態
B36: 調査方針 | E36: - | M36: 調査方針
B37: 対策履歴 | E37: なし | H37: 実施状況（実施日） | J37: - | M37: 対策履歴 | S37: 実施状況（実施日）
B38: メモ | D38: 目地部、補修箇所の再劣化(Ⅱb) | M38: メモ
C39: ※ 健全性（応急措置後）の判定区分Ⅱ～Ⅳについて添付すること。また、点検前に 実施された措置によりⅠと判定された箇所も添付すること。 | N39: ※ 変状の発生範囲の規模とは、対策を行う際に参考となる変状の長さや面積をいう。
N40: ※ 応急措置を実施しないで判定した変状の健全性は、健全性の応急措置後の欄に記入すること。
C41: ※ たたき落としを実施した場合は、実施後の写真を添付すること。 | N41: ※ 変状の発生範囲の規模は、面積・寸法を記載すること。
C42: ※ 附属物の取付状態に関する異常写真は別途、様式D-1-2でとりまとめること。 | N42: (ひび割れ幅のみmmとし、その他をm表記とする)
C43: ※ 変状数に準じてシートを追加すること。（１シートに１ページとすること。） | N43: ※ 構造用鋼材以外の異物に伴ううき・はく離については、メモ欄に異物の概要を記入すること。

Sheet 様式D-1-1(トンネル様式2P001) (11)
B2: ■定期点検記録様式 変状写真台帳 | Y2: Ⅰ
B3: フリガナ | D3: オオミネトンネル | H3: 路線名 | J3: 一般国道435号 | M3: 定期点検業者 | P3: 応用地質株式会社 | S3: 定期点検年月日 | U3: 44861 | Y3: Ⅱ
B4: 名 称 | D4: 大嶺トンネル | H4: 管理者名 | J4: 山口県宇部土木建築事務所 | M4: 定期点検者名 | P4: 太田 裕之 | Y4: Ⅲ
B5: 写真 番号 | C5: 覆工 スパン 番号 | D5: 20 | M5: 写真 番号 | N5: 覆工 スパン 番号 | Y5: Ⅳ
Y6: －
C7: 変状 番号 | D7: 1 | N7: 変状 番号
B9: 変状 部位 | C9: 対象 箇所 | D9: 覆工・坑門 | M9: 変状 部位 | N9: 対象 箇所
C11: 部位 区分 | D11: 側壁（右側） | N11: 部位 区分
B13: 変状区分 | D13: 漏水 | M13: 変状区分
B14: 変状種類 | D14: 漏水 | M14: 変状種類
B15: 健全性 | C15: 応急措置前 | E15: － | M15: 健全性 | N15: 応急措置前
C16: 応急措置後 | E16: Ⅱ | N16: 応急措置後
B17: 変状の発生範囲の規模 | E17: - | M17: 変状の発生範囲の規模
B18: 前回定期点検時の状態 | E18: 同程度 | M18: 前回定期点検時の状態
B19: 調査方針 | E19: - | M19: 調査方針
B20: 対策履歴 | E20: なし | H20: 実施状況（実施日） | J20: - | M20: 対策履歴 | S20: 実施状況（実施日）
B21: メモ | D21: ひび割れ沿いに遊離石灰を伴う複数のにじみ(Ⅱb) | M21: メモ
B22: 写真 番号 | C22: 覆工 スパン 番号 | M22: 写真 番号 | N22: 覆工 スパン 番号
C24: 変状 番号 | N24: 変状 番号
B26: 変状 部位 | C26: 対象 箇所 | M26: 変状 部位 | N26: 対象 箇所
C28: 部位 区分 | N28: 部位 区分
B30: 変状区分 | M30: 変状区分
B31: 変状種類 | M31: 変状種類
B32: 健全性 | C32: 応急措置前 | M32: 健全性 | N32: 応急措置前
C33: 応急措置後 | N33: 応急措置後
B34: 変状の発生範囲の規模 | M34: 変状の発生範囲の規模
B35: 前回定期点検時の状態 | M35: 前回定期点検時の状態
B36: 調査方針 | M36: 調査方針
B37: 対策履歴 | H37: 実施状況（実施日） | M37: 対策履歴 | S37: 実施状況（実施日）
B38: メモ | M38: メモ
C39: ※ 健全性（応急措置後）の判定区分Ⅱ～Ⅳについて添付すること。また、点検前に 実施された措置によりⅠと判定された箇所も添付すること。 | N39: ※ 変状の発生範囲の規模とは、対策を行う際に参考となる変状の長さや面積をいう。
N40: ※ 応急措置を実施しないで判定した変状の健全性は、健全性の応急措置後の欄に記入すること。
C41: ※ たたき落としを実施した場合は、実施後の写真を添付すること。 | N41: ※ 変状の発生範囲の規模は、面積・寸法を記載すること。
C42: ※ 附属物の取付状態に関する異常写真は別途、様式D-1-2でとりまとめること。 | N42: (ひび割れ幅のみmmとし、その他をm表記とする)
C43: ※ 変状数に準じてシートを追加すること。（１シートに１ページとすること。） | N43: ※ 構造用鋼材以外の異物に伴ううき・はく離については、メモ欄に異物の概要を記入すること。

Sheet 様式D-1-1(トンネル様式2P001) (12)
B2: ■定期点検記録様式 変状写真台帳 | Y2: Ⅰ
B3: フリガナ | D3: オオミネトンネル | H3: 路線名 | J3: 一般国道435号 | M3: 定期点検業者 | P3: 応用地質株式会社 | S3: 定期点検年月日 | U3: 44861 | Y3: Ⅱ
B4: 名 称 | D4: 大嶺トンネル | H4: 管理者名 | J4: 山口県宇部土木建築事務所 | M4: 定期点検者名 | P4: 太田 裕之 | Y4: Ⅲ
B5: 写真 番号 | C5: 覆工 スパン 番号 | D5: 22 | M5: 写真 番号 | N5: 覆工 スパン 番号 | Y5: Ⅳ
Y6: －
C7: 変状 番号 | D7: 1 | N7: 変状 番号
B9: 変状 部位 | C9: 対象 箇所 | D9: 覆工・坑門 | M9: 変状 部位 | N9: 対象 箇所
C11: 部位 区分 | D11: 横断目地（左側） | N11: 部位 区分
B13: 変状区分 | D13: 材質劣化 | M13: 変状区分
B14: 変状種類 | D14: うき・はく離 | M14: 変状種類
B15: 健全性 | C15: 応急措置前 | E15: － | M15: 健全性 | N15: 応急措置前
C16: 応急措置後 | E16: Ⅱ | N16: 応急措置後
B17: 変状の発生範囲の規模 | E17: 0.6m×0.05m | M17: 変状の発生範囲の規模
B18: 前回定期点検時の状態 | E18: 同程度 | M18: 前回定期点検時の状態
B19: 調査方針 | E19: - | M19: 調査方針
B20: 対策履歴 | E20: なし | H20: 実施状況（実施日） | J20: - | M20: 対策履歴 | S20: 実施状況（実施日）
B21: メモ | D21: 目地部のうき(Ⅱb) | M21: メモ
B22: 写真 番号 | C22: 覆工 スパン 番号 | M22: 写真 番号 | N22: 覆工 スパン 番号
C24: 変状 番号 | N24: 変状 番号
B26: 変状 部位 | C26: 対象 箇所 | M26: 変状 部位 | N26: 対象 箇所
C28: 部位 区分 | N28: 部位 区分
B30: 変状区分 | M30: 変状区分
B31: 変状種類 | M31: 変状種類
B32: 健全性 | C32: 応急措置前 | M32: 健全性 | N32: 応急措置前
C33: 応急措置後 | N33: 応急措置後
B34: 変状の発生範囲の規模 | M34: 変状の発生範囲の規模
B35: 前回定期点検時の状態 | M35: 前回定期点検時の状態
B36: 調査方針 | M36: 調査方針
B37: 対策履歴 | H37: 実施状況（実施日） | M37: 対策履歴 | S37: 実施状況（実施日）
B38: メモ | M38: メモ
C39: ※ 健全性（応急措置後）の判定区分Ⅱ～Ⅳについて添付すること。また、点検前に 実施された措置によりⅠと判定された箇所も添付すること。 | N39: ※ 変状の発生範囲の規模とは、対策を行う際に参考となる変状の長さや面積をいう。
N40: ※ 応急措置を実施しないで判定した変状の健全性は、健全性の応急措置後の欄に記入すること。
C41: ※ たたき落としを実施した場合は、実施後の写真を添付すること。 | N41: ※ 変状の発生範囲の規模は、面積・寸法を記載すること。
C42: ※ 附属物の取付状態に関する異常写真は別途、様式D-1-2でとりまとめること。 | N42: (ひび割れ幅のみmmとし、その他をm表記とする)
C43: ※ 変状数に準じてシートを追加すること。（１シートに１ページとすること。） | N43: ※ 構造用鋼材以外の異物に伴ううき・はく離については、メモ欄に異物の概要を記入すること。

Sheet 様式D-1-1(トンネル様式2P001) (13)
B2: ■定期点検記録様式 変状写真台帳 | Y2: Ⅰ
B3: フリガナ | D3: オオミネトンネル | H3: 路線名 | J3: 一般国道435号 | M3: 定期点検業者 | P3: 応用地質株式会社 | S3: 定期点検年月日 | U3: 44861 | Y3: Ⅱ
B4: 名 称 | D4: 大嶺トンネル | H4: 管理者名 | J4: 山口県宇部土木建築事務所 | M4: 定期点検者名 | P4: 太田 裕之 | Y4: Ⅲ
B5: 写真 番号 | C5: 覆工 スパン 番号 | D5: 23 | M5: 写真 番号 | N5: 覆工 スパン 番号 | O5: 23 | Y5: Ⅳ
Y6: －
C7: 変状 番号 | D7: 1 | N7: 変状 番号 | O7: 2
B9: 変状 部位 | C9: 対象 箇所 | D9: 覆工・坑門 | M9: 変状 部位 | N9: 対象 箇所 | O9: 覆工・坑門
C11: 部位 区分 | D11: 横断目地（左側） | N11: 部位 区分 | O11: 横断目地（天端）
B13: 変状区分 | D13: 材質劣化 | M13: 変状区分 | O13: 材質劣化
B14: 変状種類 | D14: うき・はく離 | M14: 変状種類 | O14: ひび割れ
B15: 健全性 | C15: 応急措置前 | E15: － | M15: 健全性 | N15: 応急措置前 | P15: －
C16: 応急措置後 | E16: Ⅱ | N16: 応急措置後 | P16: Ⅱ
B17: 変状の発生範囲の規模 | E17: 0.6m×0.05m | M17: 変状の発生範囲の規模 | P17: 5.3m×1.2m
B18: 前回定期点検時の状態 | E18: 同程度 | M18: 前回定期点検時の状態 | P18: ひび割れ5.3m×1.2m(Ⅰ)
B19: 調査方針 | E19: - | M19: 調査方針 | P19: -
B20: 対策履歴 | E20: なし | H20: 実施状況（実施日） | J20: - | M20: 対策履歴 | P20: なし | S20: 実施状況（実施日） | U20: -
B21: メモ | D21: 目地部のうき(Ⅱb) | M21: メモ | O21: 目地部に半月状のひび割れ(幅0.2mm～0.3mm)(Ⅱb)、打音異常なし、再判定
B22: 写真 番号 | C22: 覆工 スパン 番号 | M22: 写真 番号 | N22: 覆工 スパン 番号
C24: 変状 番号 | N24: 変状 番号
B26: 変状 部位 | C26: 対象 箇所 | M26: 変状 部位 | N26: 対象 箇所
C28: 部位 区分 | N28: 部位 区分
B30: 変状区分 | M30: 変状区分
B31: 変状種類 | M31: 変状種類
B32: 健全性 | C32: 応急措置前 | M32: 健全性 | N32: 応急措置前
C33: 応急措置後 | N33: 応急措置後
B34: 変状の発生範囲の規模 | M34: 変状の発生範囲の規模
B35: 前回定期点検時の状態 | M35: 前回定期点検時の状態
B36: 調査方針 | M36: 調査方針
B37: 対策履歴 | H37: 実施状況（実施日） | M37: 対策履歴 | S37: 実施状況（実施日）
B38: メモ | M38: メモ
C39: ※ 健全性（応急措置後）の判定区分Ⅱ～Ⅳについて添付すること。また、点検前に 実施された措置によりⅠと判定された箇所も添付すること。 | N39: ※ 変状の発生範囲の規模とは、対策を行う際に参考となる変状の長さや面積をいう。
N40: ※ 応急措置を実施しないで判定した変状の健全性は、健全性の応急措置後の欄に記入すること。
C41: ※ たたき落としを実施した場合は、実施後の写真を添付すること。 | N41: ※ 変状の発生範囲の規模は、面積・寸法を記載すること。
C42: ※ 附属物の取付状態に関する異常写真は別途、様式D-1-2でとりまとめること。 | N42: (ひび割れ幅のみmmとし、その他をm表記とする)
C43: ※ 変状数に準じてシートを追加すること。（１シートに１ページとすること。） | N43: ※ 構造用鋼材以外の異物に伴ううき・はく離については、メモ欄に異物の概要を記入すること。

Sheet 様式D-1-1(トンネル様式2P001) (14)
B2: ■定期点検記録様式 変状写真台帳 | Y2: Ⅰ
B3: フリガナ | D3: オオミネトンネル | H3: 路線名 | J3: 一般国道435号 | M3: 定期点検業者 | P3: 応用地質株式会社 | S3: 定期点検年月日 | U3: 44861 | Y3: Ⅱ
B4: 名 称 | D4: 大嶺トンネル | H4: 管理者名 | J4: 山口県宇部土木建築事務所 | M4: 定期点検者名 | P4: 太田 裕之 | Y4: Ⅲ
B5: 写真 番号 | C5: 覆工 スパン 番号 | D5: 24 | M5: 写真 番号 | N5: 覆工 スパン 番号 | O5: 24 | Y5: Ⅳ
Y6: －
C7: 変状 番号 | D7: 1 | N7: 変状 番号 | O7: 2
B9: 変状 部位 | C9: 対象 箇所 | D9: 覆工・坑門 | M9: 変状 部位 | N9: 対象 箇所 | O9: 覆工・坑門
C11: 部位 区分 | D11: 側壁（左側） | N11: 部位 区分 | O11: アーチ（左側）
B13: 変状区分 | D13: 外力 | M13: 変状区分 | O13: 材質劣化
B14: 変状種類 | D14: ひび割れ | M14: 変状種類 | O14: 鋼材腐食
B15: 健全性 | C15: 応急措置前 | E15: － | M15: 健全性 | N15: 応急措置前 | P15: －
C16: 応急措置後 | E16: Ⅱ | N16: 応急措置後 | P16: Ⅱ
B17: 変状の発生範囲の規模 | E17: 0.2mm×3.4m他 | M17: 変状の発生範囲の規模 | P17: 0.05m×0.2m
B18: 前回定期点検時の状態 | E18: なし | M18: 前回定期点検時の状態 | P18: なし
B19: 調査方針 | E19: - | M19: 調査方針 | P19: -
B20: 対策履歴 | E20: なし | H20: 実施状況（実施日） | J20: - | M20: 対策履歴 | P20: なし | S20: 実施状況（実施日） | U20: -
B21: メモ | D21: 縦断方向に複数のひび割れ(幅0.2mm)(Ⅱb) | M21: メモ | O21: 鋼材露出(深さ30mm)(Ⅱa)、部分的に露出した鋼材(表面的な腐食)に防錆剤塗布、周辺にうきなし
B22: 写真 番号 | C22: 覆工 スパン 番号 | D22: 24 | M22: 写真 番号 | N22: 覆工 スパン 番号 | O22: 24
C24: 変状 番号 | D24: 3 | N24: 変状 番号 | O24: 4
B26: 変状 部位 | C26: 対象 箇所 | D26: 覆工・坑門 | M26: 変状 部位 | N26: 対象 箇所 | O26: 覆工・坑門
C28: 部位 区分 | D28: 横断目地（天端） | N28: 部位 区分 | O28: 横断目地（天端）
B30: 変状区分 | D30: 材質劣化 | M30: 変状区分 | O30: 材質劣化
B31: 変状種類 | D31: ひび割れ | M31: 変状種類 | O31: ひび割れ
B32: 健全性 | C32: 応急措置前 | E32: － | M32: 健全性 | N32: 応急措置前 | P32: －
C33: 応急措置後 | E33: Ⅱ | N33: 応急措置後 | P33: Ⅱ
B34: 変状の発生範囲の規模 | E34: 3.4m×1.6m | M34: 変状の発生範囲の規模 | P34: 3.15m×0.5m
B35: 前回定期点検時の状態 | E35: ひび割れ3.4m×1.6m(Ⅰ) | M35: 前回定期点検時の状態 | P35: ひび割れ3.15m×0.5m(Ⅰ)
B36: 調査方針 | E36: - | M36: 調査方針 | P36: -
B37: 対策履歴 | E37: なし | H37: 実施状況（実施日） | J37: - | M37: 対策履歴 | P37: なし | S37: 実施状況（実施日） | U37: -
B38: メモ | D38: 目地部に半月状のひび割れ(幅0.3mm～0.4mm)(Ⅱb)、打音異常なし、再判定 | M38: メモ | O38: 目地部に半月状のひび割れ(幅0.3mm)(Ⅱb)、打音異常なし、再判定
C39: ※ 健全性（応急措置後）の判定区分Ⅱ～Ⅳについて添付すること。また、点検前に 実施された措置によりⅠと判定された箇所も添付すること。 | N39: ※ 変状の発生範囲の規模とは、対策を行う際に参考となる変状の長さや面積をいう。
N40: ※ 応急措置を実施しないで判定した変状の健全性は、健全性の応急措置後の欄に記入すること。
C41: ※ たたき落としを実施した場合は、実施後の写真を添付すること。 | N41: ※ 変状の発生範囲の規模は、面積・寸法を記載すること。
C42: ※ 附属物の取付状態に関する異常写真は別途、様式D-1-2でとりまとめること。 | N42: (ひび割れ幅のみmmとし、その他をm表記とする)
C43: ※ 変状数に準じてシートを追加すること。（１シートに１ページとすること。） | N43: ※ 構造用鋼材以外の異物に伴ううき・はく離については、メモ欄に異物の概要を記入すること。

Sheet 様式D-1-1(トンネル様式2P001) (15)
B2: ■定期点検記録様式 変状写真台帳 | Y2: Ⅰ
B3: フリガナ | D3: オオミネトンネル | H3: 路線名 | J3: 一般国道435号 | M3: 定期点検業者 | P3: 応用地質株式会社 | S3: 定期点検年月日 | U3: 44861 | Y3: Ⅱ
B4: 名 称 | D4: 大嶺トンネル | H4: 管理者名 | J4: 山口県宇部土木建築事務所 | M4: 定期点検者名 | P4: 太田 裕之 | Y4: Ⅲ
B5: 写真 番号 | C5: 覆工 スパン 番号 | D5: 25 | M5: 写真 番号 | N5: 覆工 スパン 番号 | Y5: Ⅳ
Y6: －
C7: 変状 番号 | D7: 1 | N7: 変状 番号
B9: 変状 部位 | C9: 対象 箇所 | D9: 覆工・坑門 | M9: 変状 部位 | N9: 対象 箇所
C11: 部位 区分 | D11: 側壁（右側） | N11: 部位 区分
B13: 変状区分 | D13: 漏水 | M13: 変状区分
B14: 変状種類 | D14: 漏水 | M14: 変状種類
B15: 健全性 | C15: 応急措置前 | E15: － | M15: 健全性 | N15: 応急措置前
C16: 応急措置後 | E16: Ⅱ | N16: 応急措置後
B17: 変状の発生範囲の規模 | E17: - | M17: 変状の発生範囲の規模
B18: 前回定期点検時の状態 | E18: なし | M18: 前回定期点検時の状態
B19: 調査方針 | E19: - | M19: 調査方針
B20: 対策履歴 | E20: なし | H20: 実施状況（実施日） | J20: - | M20: 対策履歴 | S20: 実施状況（実施日）
B21: メモ | D21: ひび割れ沿いに遊離石灰を伴う複数の漏水(Ⅱb) | M21: メモ
B22: 写真 番号 | C22: 覆工 スパン 番号 | M22: 写真 番号 | N22: 覆工 スパン 番号
C24: 変状 番号 | N24: 変状 番号
B26: 変状 部位 | C26: 対象 箇所 | M26: 変状 部位 | N26: 対象 箇所
C28: 部位 区分 | N28: 部位 区分
B30: 変状区分 | M30: 変状区分
B31: 変状種類 | M31: 変状種類
B32: 健全性 | C32: 応急措置前 | M32: 健全性 | N32: 応急措置前
C33: 応急措置後 | N33: 応急措置後
B34: 変状の発生範囲の規模 | M34: 変状の発生範囲の規模
B35: 前回定期点検時の状態 | M35: 前回定期点検時の状態
B36: 調査方針 | M36: 調査方針
B37: 対策履歴 | H37: 実施状況（実施日） | M37: 対策履歴 | S37: 実施状況（実施日）
B38: メモ | M38: メモ
C39: ※ 健全性（応急措置後）の判定区分Ⅱ～Ⅳについて添付すること。また、点検前に 実施された措置によりⅠと判定された箇所も添付すること。 | N39: ※ 変状の発生範囲の規模とは、対策を行う際に参考となる変状の長さや面積をいう。
N40: ※ 応急措置を実施しないで判定した変状の健全性は、健全性の応急措置後の欄に記入すること。
C41: ※ たたき落としを実施した場合は、実施後の写真を添付すること。 | N41: ※ 変状の発生範囲の規模は、面積・寸法を記載すること。
C42: ※ 附属物の取付状態に関する異常写真は別途、様式D-1-2でとりまとめること。 | N42: (ひび割れ幅のみmmとし、その他をm表記とする)
C43: ※ 変状数に準じてシートを追加すること。（１シートに１ページとすること。） | N43: ※ 構造用鋼材以外の異物に伴ううき・はく離については、メモ欄に異物の概要を記入すること。

Sheet 様式D-1-1(トンネル様式2P001) (16)
B2: ■定期点検記録様式 変状写真台帳 | Y2: Ⅰ
B3: フリガナ | D3: オオミネトンネル | H3: 路線名 | J3: 一般国道435号 | M3: 定期点検業者 | P3: 応用地質株式会社 | S3: 定期点検年月日 | U3: 44861 | Y3: Ⅱ
B4: 名 称 | D4: 大嶺トンネル | H4: 管理者名 | J4: 山口県宇部土木建築事務所 | M4: 定期点検者名 | P4: 太田 裕之 | Y4: Ⅲ
B5: 写真 番号 | C5: 覆工 スパン 番号 | D5: 26 | M5: 写真 番号 | N5: 覆工 スパン 番号 | Y5: Ⅳ
Y6: －
C7: 変状 番号 | D7: 1 | N7: 変状 番号
B9: 変状 部位 | C9: 対象 箇所 | D9: 覆工・坑門 | M9: 変状 部位 | N9: 対象 箇所
C11: 部位 区分 | D11: 横断目地（天端） | N11: 部位 区分
B13: 変状区分 | D13: 材質劣化 | M13: 変状区分
B14: 変状種類 | D14: ひび割れ | M14: 変状種類
B15: 健全性 | C15: 応急措置前 | E15: － | M15: 健全性 | N15: 応急措置前
C16: 応急措置後 | E16: Ⅱ | N16: 応急措置後
B17: 変状の発生範囲の規模 | E17: 2.45m×1.0m | M17: 変状の発生範囲の規模
B18: 前回定期点検時の状態 | E18: なし | M18: 前回定期点検時の状態
B19: 調査方針 | E19: - | M19: 調査方針
B20: 対策履歴 | E20: なし | H20: 実施状況（実施日） | J20: - | M20: 対策履歴 | S20: 実施状況（実施日）
B21: メモ | D21: 目地部に半月状のひび割れ(幅0.1mm～0.3mm)(Ⅱb)、打音異常なし | M21: メモ
B22: 写真 番号 | C22: 覆工 スパン 番号 | M22: 写真 番号 | N22: 覆工 スパン 番号
C24: 変状 番号 | N24: 変状 番号
B26: 変状 部位 | C26: 対象 箇所 | M26: 変状 部位 | N26: 対象 箇所
C28: 部位 区分 | N28: 部位 区分
B30: 変状区分 | M30: 変状区分
B31: 変状種類 | M31: 変状種類
B32: 健全性 | C32: 応急措置前 | M32: 健全性 | N32: 応急措置前
C33: 応急措置後 | N33: 応急措置後
B34: 変状の発生範囲の規模 | M34: 変状の発生範囲の規模
B35: 前回定期点検時の状態 | M35: 前回定期点検時の状態
B36: 調査方針 | M36: 調査方針
B37: 対策履歴 | H37: 実施状況（実施日） | M37: 対策履歴 | S37: 実施状況（実施日）
B38: メモ | M38: メモ
C39: ※ 健全性（応急措置後）の判定区分Ⅱ～Ⅳについて添付すること。また、点検前に 実施された措置によりⅠと判定された箇所も添付すること。 | N39: ※ 変状の発生範囲の規模とは、対策を行う際に参考となる変状の長さや面積をいう。
N40: ※ 応急措置を実施しないで判定した変状の健全性は、健全性の応急措置後の欄に記入すること。
C41: ※ たたき落としを実施した場合は、実施後の写真を添付すること。 | N41: ※ 変状の発生範囲の規模は、面積・寸法を記載すること。
C42: ※ 附属物の取付状態に関する異常写真は別途、様式D-1-2でとりまとめること。 | N42: (ひび割れ幅のみmmとし、その他をm表記とする)
C43: ※ 変状数に準じてシートを追加すること。（１シートに１ページとすること。） | N43: ※ 構造用鋼材以外の異物に伴ううき・はく離については、メモ欄に異物の概要を記入すること。

Sheet 様式D-1-1(トンネル様式2P001) (17)
B2: ■定期点検記録様式 変状写真台帳 | Y2: Ⅰ
B3: フリガナ | D3: オオミネトンネル | H3: 路線名 | J3: 一般国道435号 | M3: 定期点検業者 | P3: 応用地質株式会社 | S3: 定期点検年月日 | U3: 44861 | Y3: Ⅱ
B4: 名 称 | D4: 大嶺トンネル | H4: 管理者名 | J4: 山口県宇部土木建築事務所 | M4: 定期点検者名 | P4: 太田 裕之 | Y4: Ⅲ
B5: 写真 番号 | C5: 覆工 スパン 番号 | D5: 28 | M5: 写真 番号 | N5: 覆工 スパン 番号 | Y5: Ⅳ
Y6: －
C7: 変状 番号 | D7: 1 | N7: 変状 番号
B9: 変状 部位 | C9: 対象 箇所 | D9: 覆工・坑門 | M9: 変状 部位 | N9: 対象 箇所
C11: 部位 区分 | D11: 横断目地（天端） | N11: 部位 区分
B13: 変状区分 | D13: 材質劣化 | M13: 変状区分
B14: 変状種類 | D14: ひび割れ | M14: 変状種類
B15: 健全性 | C15: 応急措置前 | E15: － | M15: 健全性 | N15: 応急措置前
C16: 応急措置後 | E16: Ⅱ | N16: 応急措置後
B17: 変状の発生範囲の規模 | E17: 5.2m×0.65m | M17: 変状の発生範囲の規模
B18: 前回定期点検時の状態 | E18: ひび割れ5.2m×0.65m(Ⅰ) | M18: 前回定期点検時の状態
B19: 調査方針 | E19: - | M19: 調査方針
B20: 対策履歴 | E20: なし | H20: 実施状況（実施日） | J20: - | M20: 対策履歴 | S20: 実施状況（実施日）
B21: メモ | D21: 目地部に半月状のひび割れ(幅0.3mm)(Ⅱb)、打音異常なし、再判定 | M21: メモ
B22: 写真 番号 | C22: 覆工 スパン 番号 | M22: 写真 番号 | N22: 覆工 スパン 番号
C24: 変状 番号 | N24: 変状 番号
B26: 変状 部位 | C26: 対象 箇所 | M26: 変状 部位 | N26: 対象 箇所
C28: 部位 区分 | N28: 部位 区分
B30: 変状区分 | M30: 変状区分
B31: 変状種類 | M31: 変状種類
B32: 健全性 | C32: 応急措置前 | M32: 健全性 | N32: 応急措置前
C33: 応急措置後 | N33: 応急措置後
B34: 変状の発生範囲の規模 | M34: 変状の発生範囲の規模
B35: 前回定期点検時の状態 | M35: 前回定期点検時の状態
B36: 調査方針 | M36: 調査方針
B37: 対策履歴 | H37: 実施状況（実施日） | M37: 対策履歴 | S37: 実施状況（実施日）
B38: メモ | M38: メモ
C39: ※ 健全性（応急措置後）の判定区分Ⅱ～Ⅳについて添付すること。また、点検前に 実施された措置によりⅠと判定された箇所も添付すること。 | N39: ※ 変状の発生範囲の規模とは、対策を行う際に参考となる変状の長さや面積をいう。
N40: ※ 応急措置を実施しないで判定した変状の健全性は、健全性の応急措置後の欄に記入すること。
C41: ※ たたき落としを実施した場合は、実施後の写真を添付すること。 | N41: ※ 変状の発生範囲の規模は、面積・寸法を記載すること。
C42: ※ 附属物の取付状態に関する異常写真は別途、様式D-1-2でとりまとめること。 | N42: (ひび割れ幅のみmmとし、その他をm表記とする)
C43: ※ 変状数に準じてシートを追加すること。（１シートに１ページとすること。） | N43: ※ 構造用鋼材以外の異物に伴ううき・はく離については、メモ欄に異物の概要を記入すること。

Sheet 様式D-1-2
B2: ■定期点検記録様式 異常写真台帳（トンネル内附属物等の取付状態） 【様式D-1-2】
B3: フリガナ | E3: オオミネトンネル | I3: 路 線 名 | L3: 一般国道435号 | O3: 定期点検業者 | R3: 応用地質株式会社 | U3: 定期点検年月日 | W3: 44861
B4: 名 称 | E4: 大嶺トンネル | I4: 管理者名 | L4: 山口県宇部土木建築事務所 | O4: 定期点検者名 | R4: 太田 裕之
B5: 覆工スパン番号 | F5: 異常番号 | J5: 覆工スパン番号 | N5: 異常番号 | R5: 覆工スパン番号 | V5: 異常番号
B6: 対象箇所 | G6: 部位区分 | J6: 対象箇所 | O6: 部位区分 | R6: 対象箇所 | W6: 部位区分
B7: 異常の種類 | J7: 異常の種類 | R7: 異常の種類
B8: 異常判定区分 | E8: メモ | J8: 異常判定区分 | M8: メモ | R8: 異常判定区分 | U8: メモ
B22: 覆工スパン番号 | F22: 異常番号 | J22: 覆工スパン番号 | N22: 異常番号 | R22: 覆工スパン番号 | V22: 異常番号
B23: 対象箇所 | G23: 部位区分 | J23: 対象箇所 | O23: 部位区分 | R23: 対象箇所 | W23: 部位区分
B24: 異常の種類 | J24: 異常の種類 | R24: 異常の種類
B25: 異常判定区分 | E25: メモ | J25: 異常判定区分 | M25: メモ | R25: 異常判定区分 | U25: メモ
B39: 覆工スパン番号 | F39: 異常番号 | J39: 覆工スパン番号 | N39: 異常番号 | R39: 覆工スパン番号 | V39: 異常番号
B40: 対象箇所 | G40: 部位区分 | J40: 対象箇所 | O40: 部位区分 | R40: 対象箇所 | W40: 部位区分
B41: 異常の種類 | J41: 異常の種類 | R41: 異常の種類
B42: 異常判定区分 | E42: メモ | J42: 異常判定区分 | M42: メモ | R42: 異常判定区分 | U42: メモ
D56: ※ 異常判定区分×について記入すること。また、応急措置前に異常判定区分×とした箇所のうち応急措置により○と判定した箇所も記入すること。
D57: ※ 応急措置を実施した場合は、その実施状況が分かる写真を添付すること。
D58: ※ 画像データは100kb程度とする。 | L58: ※ 変状数に準じてシートを追加すること。（１シートに１ページとすること。）

Sheet 様式D-2-1´
B3: ■定期点検記録様式 トンネル全体変状展開図（機器の活用時） 【様式D-2-1’】
B4: フリガナ | E4: オオミネトンネル | J4: 路線名 | M4: 一般国道435号 | S4: 定期点検業者 | W4: 応用地質株式会社 | AC4: 定期点検年月日 | AF4: 44861
B5: 名 称 | E5: 大嶺トンネル | J5: 管理者名 | M5: 山口県宇部土木建築事務所 | S5: 定期点検者名 | W5: 太田 裕之
B6: トンネル変状展開図 | C6: トンネル全体変状展開図
S18: 注１：本展開図は、見下げた状態で記載すること。 注２：覆工スパン番号は横断目地毎（矢板工法の場合は上半アーチの横断目地毎)に 設定すること。 注３：横断目地の変状は前の覆工スパン番号で計上すること。 注４：１枚に収まらない場合は、複数枚に分けて作成すること。 注５：覆工写真の画像サイズは500kb程度とすること。
B20: ■定期点検記録様式 トンネル全体変状展開図（機器の活用時） 【様式D-2-1’】
B21: フリガナ | E21: オオミネトンネル | J21: 路線名 | M21: 一般国道435号 | S21: 定期点検業者 | W21: 応用地質株式会社 | AC21: 定期点検年月日 | AF21: 44861
B22: 名 称 | E22: 大嶺トンネル | J22: 管理者名 | M22: 山口県宇部土木建築事務所 | S22: 定期点検者名 | W22: 太田 裕之
B23: トンネル変状展開図 | C23: トンネル全体変状展開図
S35: 注１：本展開図は、見下げた状態で記載すること。 注２：覆工スパン番号は横断目地毎（矢板工法の場合は上半アーチの横断目地毎)に 設定すること。 注３：横断目地の変状は前の覆工スパン番号で計上すること。 注４：１枚に収まらない場合は、複数枚に分けて作成すること。 注５：覆工写真の画像サイズは500kb程度とすること。
B37: ■定期点検記録様式 トンネル全体変状展開図（機器の活用時） 【様式D-2-1’】
B38: フリガナ | E38: オオミネトンネル | J38: 路線名 | M38: 一般国道435号 | S38: 定期点検業者 | W38: 応用地質株式会社 | AC38: 定期点検年月日 | AF38: 44861
B39: 名 称 | E39: 大嶺トンネル | J39: 管理者名 | M39: 山口県宇部土木建築事務所 | S39: 定期点検者名 | W39: 太田 裕之
B40: トンネル変状展開図 | C40: トンネル全体変状展開図
S52: 注１：本展開図は、見下げた状態で記載すること。 注２：覆工スパン番号は横断目地毎（矢板工法の場合は上半アーチの横断目地毎)に 設定すること。 注３：横断目地の変状は前の覆工スパン番号で計上すること。 注４：１枚に収まらない場合は、複数枚に分けて作成すること。 注５：覆工写真の画像サイズは500kb程度とすること。

Sheet 様式D-3_PS
AU1: 様式Fリンク用→ | AV1: 覆工ｽﾊﾟﾝ 番号 | AW1: ｽﾊﾟﾝ 長 (m) | AX1: 変状数集計 | BS1: 覆工スパン毎の 健全性の診断 | BW1: 変状規模集計
AX2: 対策区分毎の変状数 | BJ2: 健全性の判定区分毎の変状数 | BW2: 覆工スパン長(m) | CA2: 対策区分毎の変状の発生範囲の規模(㎡）
B3: ■定期点検記録様式 覆工スパン別変状詳細展開図 【様式D-3】 | AX3: 外力 | BB3: 材質劣化 | BF3: 漏水 | BJ3: 外力 | BM3: 材質劣化 | BP3: 漏水 | BS3: 外力 | BT3: 材質劣化 | BU3: 漏水 | BV3: 健全性 | BW3: 外力※１ | CA3: 材質劣化 | CE3: 漏水
B4: フリガナ | E4: オオミネトンネル | K4: 路線名 | N4: 一般国道435号 | T4: 定期点検業者 | Y4: 応用地質株式会社 | AG4: 定期点検年月日 | AK4: 44861 | AX4: Ⅳ | AY4: Ⅲ | AZ4: Ⅱa | BA4: Ⅱb | BB4: Ⅳ | BC4: Ⅲ | BD4: Ⅱa | BE4: Ⅱb | BF4: Ⅳ | BG4: Ⅲ | BH4: Ⅱa | BI4: Ⅱb | BJ4: Ⅳ | BK4: Ⅲ | BL4: Ⅱ | BM4: Ⅳ | BN4: Ⅲ | BO4: Ⅱ | BP4: Ⅳ | BQ4: Ⅲ | BR4: Ⅱ | BW4: Ⅳ | BX4: Ⅲ | BY4: Ⅱa | BZ4: Ⅱb | CA4: Ⅳ | CB4: Ⅲ | CC4: Ⅱa | CD4: Ⅱb | CE4: Ⅳ | CF4: Ⅲ | CG4: Ⅱa | CH4: Ⅱb
B5: 名 称 | E5: 大嶺トンネル | K5: 管理者名 | N5: 山口県宇部土木建築事務所 | T5: 定期点検者名 | Y5: 太田 裕之 | AQ5: 〇 | AV5: =N7 -> PS | AW5: =R7 -> 0 | AX5: =+Y32 -> 0 | AY5: =+Z32 -> 0 | AZ5: =+AA32 -> 0 | BA5: =+AB32 -> 0 | BB5: =+AC32 -> 0 | BC5: =+AD32 -> 0 | BD5: =+AE32 -> 0 | BE5: =+AF32 -> 0 | ... BI5: =+AJ32 -> 0 | BJ5: =IF(Y35="",0,Y35) -> 0 | BK5: =IF(Z35="",0,Z35) -> 0 | BL5: =IF(AA35="",0,AA35) -> 0 | BM5: =+AC35 -> 0 | BN5: =+AD35 -> 0 | BO5: =+AE35 -> 0 | BP5: =+AG35 -> 0 | BQ5: =+AH35 -> 0 | BR5: =+AI35 -> 0 | BS5: =+Y36 -> Ⅰ | BT5: =+AC36 -> Ⅰ | BU5: =+AG36 -> Ⅰ | BV5: =+Y37 -> Ⅰ | BW5: =IF(Y32>0,R7,"") | BX5: =IF(Z32>0,"",IF(AA32>0,R7,"")) | BY5: =IF(Y32+Z32>0,"",IF(AA32>0,R7,"")) | BZ5: =IF(Y32+Z32+AA32>0,"",IF(AB32>0,R7,"")) | CA5: =+AC31 -> 0 | CB5: =+AD31 -> 0 | CC5: =+AE31 -> 0 | CD5: =+AF31 -> 0 | CE5: =+AG31 -> 0 | CF5: =+AH31 -> 0 | CG5: =+AI31 -> 0 | CH5: =+AJ31 -> 0
B6: スパン別変状展開図 | K6: 【健全性判定集計表】
K7: スパン番号 | N7: PS | P7: スパン長 | R7: 0 | U7: 前回定期点検時の健全性 | W7: 応急措置前の判定 | Y7: 対策区分毎の 変状の有無 | AC7: 対策区分毎の変状の発生範囲の規模(㎡) | AK7: 備考注2
K8: 変状番号 | L8: 対象箇所 | N8: 部位区分 | P8: 変状区分 | R8: 変状種類
Y9: 外力注1 | AC9: 材質劣化注1 | AG9: 漏水注1
Y10: Ⅳ | Z10: Ⅲ | AA10: Ⅱa | AB10: Ⅱb | AC10: Ⅳ | AD10: Ⅲ | AE10: Ⅱa | AF10: Ⅱb | AG10: Ⅳ | AH10: Ⅲ | AI10: Ⅱa | AJ10: Ⅱb
AQ11: =IF(P11="外力",1,IF(P11="材質劣化",2,IF(P11="漏水",3,4))) -> 4
AQ12: =IF(P12="外力",1,IF(P12="材質劣化",2,IF(P12="漏水",3,4))) -> 4
AQ13: =IF(P13="外力",1,IF(P13="材質劣化",2,IF(P13="漏水",3,4))) -> 4
AQ14: =IF(P14="外力",1,IF(P14="材質劣化",2,IF(P14="漏水",3,4))) -> 4
AQ15: =IF(P15="外力",1,IF(P15="材質劣化",2,IF(P15="漏水",3,4))) -> 4
AQ16: =IF(P16="外力",1,IF(P16="材質劣化",2,IF(P16="漏水",3,4))) -> 4
AQ17: =IF(P17="外力",1,IF(P17="材質劣化",2,IF(P17="漏水",3,4))) -> 4
AQ18: =IF(P18="外力",1,IF(P18="材質劣化",2,IF(P18="漏水",3,4))) -> 4
AQ19: =IF(P19="外力",1,IF(P19="材質劣化",2,IF(P19="漏水",3,4))) -> 4
AQ20: =IF(P20="外力",1,IF(P20="材質劣化",2,IF(P20="漏水",3,4))) -> 4
AQ21: =IF(P21="外力",1,IF(P21="材質劣化",2,IF(P21="漏水",3,4))) -> 4
AQ22: =IF(P22="外力",1,IF(P22="材質劣化",2,IF(P22="漏水",3,4))) -> 4
... AQ30: =IF(P30="外力",1,IF(P30="材質劣化",2,IF(P30="漏水",3,4))) -> 4
K31: 集計 ・ 判定 ・ 診断 | L31: 変状の発生規模合計(㎡) | Y31: － | AC31: =SUM(AC11:AC30) -> 0 | AD31: =SUM(AD11:AD30) -> 0 | AE31: =SUM(AE11:AE30) -> 0 | AF31: =SUM(AF11:AF30) -> 0 | AG31: =SUM(AG11:AG30) -> 0 | AH31: =SUM(AH11:AH30) -> 0 | AI31: =SUM(AI11:AI30) -> 0 | AJ31: =SUM(AJ11:AJ30) -> 0 | AK31: 計
L32: 対策区分の 判定結果 | O32: 判定区分毎の変状数 | Y32: =COUNTIF(Y11:Y30,"〇") -> 0 | Z32: =COUNTIF(Z11:Z30,"〇") -> 0 | AA32: =COUNTIF(AA11:AA30,"〇") -> 0 | AB32: =COUNTIF(AB11:AB30,"〇") -> 0 | AC32: =COUNT(AC11:AC30) -> 0 | AD32: =COUNT(AD11:AD30) -> 0 | AE32: =COUNT(AE11:AE30) -> 0 | AF32: =COUNT(AF11:AF30) -> 0 | AG32: =COUNT(AG11:AG30) -> 0 | AH32: =COUNT(AH11:AH30) -> 0 | AI32: =COUNT(AI11:AI30) -> 0 | AJ32: =COUNT(AJ11:AJ30) -> 0
O33: 変状区分毎の判定区分注3 | Y33: =IF(Y32>0,"Ⅳ",IF(Z32>0,"Ⅲ",IF(AA32>0,"Ⅱa",IF(AB32>0,"Ⅱb","Ⅰ")))) -> Ⅰ | AC33: =IF(AC32>0,"Ⅳ",IF(AD32>0,"Ⅲ",IF(AE32>0,"Ⅱa",IF(AF32>0,"Ⅱb","Ⅰ")))) -> Ⅰ | AG33: =IF(AG32>0,"Ⅳ",IF(AH32>0,"Ⅲ",IF(AI32>0,"Ⅱa",IF(AJ32>0,"Ⅱb","Ⅰ")))) -> Ⅰ | AQ33: Ⅳ | AR33: Ⅲ | AS33: Ⅱ
L34: 健全性の 診断結果 | O34: 判定区分 | Y34: Ⅳ | Z34: Ⅲ | AA34: Ⅱ | AC34: Ⅳ | AD34: Ⅲ | AE34: Ⅱ | AG34: Ⅳ | AH34: Ⅲ | AI34: Ⅱ | AQ34: =+Y32+Z32 -> 0 | AS34: =+AA32+AB32 -> 0
O35: 判定区分毎の変状数注4 | Y35: =IF(Y32=0,"",1) | Z35: =IF(Y32=1,"",IF(Z32>0,1,"")) | AA35: =IF(AQ34>=1,"",IF(AS34>0,1,"")) | AC35: =+AC32 -> 0 | AD35: =AD32 -> 0 | AE35: =AE32+AF32 -> 0 | AG35: =AG32 -> 0 | AH35: =AH32 -> 0 | AI35: =AI32+AJ32 -> 0 | AQ35: =+Y32+AC35+AG35 -> 0 | AR35: =+Z32+AD35+AH35 -> 0 | AS35: =+AS34+AE35+AI35 -> 0
O36: 変状区分毎の判定区分注4 | Y36: =IF(Y35<>"","Ⅳ",IF(Z35<>"","Ⅲ",IF(AA35<>"","Ⅱ","Ⅰ"))) -> Ⅰ | AC36: =IF(AC35>=1,"Ⅳ",IF(AD35>=1,"Ⅲ",IF(AE35>=1,"Ⅱ","Ⅰ"))) -> Ⅰ | AG36: =IF(AG35>=1,"Ⅳ",IF(AH35>=1,"Ⅲ",IF(AI35>=1,"Ⅱ","Ⅰ"))) -> Ⅰ | AQ36: =IF(AQ35>0,"Ⅳ",IF(AR35>0,"Ⅲ",IF(AS35>0,"Ⅱ","Ⅰ"))) -> Ⅰ
O37: 覆工スパン単位の判定区分注5 | Y37: =IF(COUNTIF(Y36:AJ36,"Ⅳ")>0,"Ⅳ",IF(COUNTIF(Y36:AJ36,"Ⅲ")>0,"Ⅲ",IF(COUNTIF(Y36:AJ36,"Ⅱ")>0,"Ⅱ","Ⅰ"))) -> Ⅰ
K38: 特記事項
K40: 注1：誤記入防止のため、当該変状区分以外のセルは灰色表示とすること。
K41: 注2：応急対策を実施した場合は、その詳細を備考に記載すること。
K42: 注3：変状区分毎での最も評価の厳しい判定区分。
K43: 注4：変状区分毎での最も評価の厳しい判定区分．外力は覆工スパン単位、材質劣化、漏水は変状単位で行う。
K44: 注5：覆工スパンの中で最も評価の厳しい健全性を採用し、その覆工スパン毎の健全性とする。
B46: ※1：本シートは作成洩れのないよう、変状が無くても全スパン分を作成すること．また変状展開図は、様式D-2-1、様式D-2-1'と同じものを覆工スパン単位で拡大し掲載すること。
B47: ※2：変状番号は、様式D-1-1で記入した番号と整合させること。
B48: ※3：対策区分毎の変状発生規模は、様式D-1-1に記載した面積を記入すること（ただし外力はスパン単位で評価するため対象外とし、備考欄に状況を記入）。
B49: ※4：本様式は覆工スパン毎に作成すること。
...

Sheet 様式D-3_S01
AU1: 様式Fリンク用→ | AV1: 覆工ｽﾊﾟﾝ 番号 | AW1: ｽﾊﾟﾝ 長 (m) | AX1: 変状数集計 | BS1: 覆工スパン毎の 健全性の診断 | BW1: 変状規模集計
AX2: 対策区分毎の変状数 | BJ2: 健全性の判定区分毎の変状数 | BW2: 覆工スパン長(m) | CA2: 対策区分毎の変状の発生範囲の規模(㎡）
B3: ■定期点検記録様式 覆工スパン別変状詳細展開図 【様式D-3】 | AX3: 外力 | BB3: 材質劣化 | BF3: 漏水 | BJ3: 外力 | BM3: 材質劣化 | BP3: 漏水 | BS3: 外力 | BT3: 材質劣化 | BU3: 漏水 | BV3: 健全性 | BW3: 外力※１ | CA3: 材質劣化 | CE3: 漏水
B4: フリガナ | E4: オオミネトンネル | K4: 路線名 | N4: 一般国道435号 | T4: 定期点検業者 | Y4: 応用地質株式会社 | AG4: 定期点検年月日 | AK4: 44861 | AX4: Ⅳ | AY4: Ⅲ | AZ4: Ⅱa | BA4: Ⅱb | BB4: Ⅳ | BC4: Ⅲ | BD4: Ⅱa | BE4: Ⅱb | BF4: Ⅳ | BG4: Ⅲ | BH4: Ⅱa | BI4: Ⅱb | BJ4: Ⅳ | BK4: Ⅲ | BL4: Ⅱ | BM4: Ⅳ | BN4: Ⅲ | BO4: Ⅱ | BP4: Ⅳ | BQ4: Ⅲ | BR4: Ⅱ | BW4: Ⅳ | BX4: Ⅲ | BY4: Ⅱa | BZ4: Ⅱb | CA4: Ⅳ | CB4: Ⅲ | CC4: Ⅱa | CD4: Ⅱb | CE4: Ⅳ | CF4: Ⅲ | CG4: Ⅱa | CH4: Ⅱb
B5: 名 称 | E5: 大嶺トンネル | K5: 管理者名 | N5: 山口県宇部土木建築事務所 | T5: 定期点検者名 | Y5: 太田 裕之 | AQ5: 〇 | AV5: =N7 -> 1 | AW5: =R7 -> 7.3 | AX5: =+Y32 -> 0 | AY5: =+Z32 -> 0 | AZ5: =+AA32 -> 0 | BA5: =+AB32 -> 0 | BB5: =+AC32 -> 0 | BC5: =+AD32 -> 0 | BD5: =+AE32 -> 0 | BE5: =+AF32 -> 0 | ... BI5: =+AJ32 -> 0 | BJ5: =IF(Y35="",0,Y35) -> 0 | BK5: =IF(Z35="",0,Z35) -> 0 | BL5: =IF(AA35="",0,AA35) -> 0 | BM5: =+AC35 -> 0 | BN5: =+AD35 -> 0 | BO5: =+AE35 -> 0 | BP5: =+AG35 -> 0 | BQ5: =+AH35 -> 0 | BR5: =+AI35 -> 0 | BS5: =+Y36 -> Ⅰ | BT5: =+AC36 -> Ⅰ | BU5: =+AG36 -> Ⅰ | BV5: =+Y37 -> Ⅰ | BW5: =IF(Y32>0,R7,"") | BX5: =IF(Z32>0,"",IF(AA32>0,R7,"")) | BY5: =IF(Y32+Z32>0,"",IF(AA32>0,R7,"")) | BZ5: =IF(Y32+Z32+AA32>0,"",IF(AB32>0,R7,"")) | CA5: =+AC31 -> 0 | CB5: =+AD31 -> 0 | CC5: =+AE31 -> 0 | CD5: =+AF31 -> 0 | CE5: =+AG31 -> 0 | CF5: =+AH31 -> 0 | CG5: =+AI31 -> 0 | CH5: =+AJ31 -> 0
B6: スパン別変状展開図 | K6: 【健全性判定集計表】
K7: スパン番号 | N7: 1 | P7: スパン長 | R7: 7.3 | U7: 前回定期点検時の健全性 | W7: 応急措置前の判定 | Y7: 対策区分毎の 変状の有無 | AC7: 対策区分毎の変状の発生範囲の規模(㎡) | AK7: 備考注2
K8: 変状番号 | L8: 対象箇所 | N8: 部位区分 | P8: 変状区分 | R8: 変状種類
Y9: 外力注1 | AC9: 材質劣化注1 | AG9: 漏水注1
Y10: Ⅳ | Z10: Ⅲ | AA10: Ⅱa | AB10: Ⅱb | AC10: Ⅳ | AD10: Ⅲ | AE10: Ⅱa | AF10: Ⅱb | AG10: Ⅳ | AH10: Ⅲ | AI10: Ⅱa | AJ10: Ⅱb
K11: 1 | L11: 覆工・坑門 | N11: 横断目地（右側） | P11: 材質劣化 | R11: うき・はく離 | U11: Ⅰ | W11: Ⅱb | AK11: 今回点検時叩き落し実施 | AQ11: =IF(P11="外力",1,IF(P11="材質劣化",2,IF(P11="漏水",3,4))) -> 2
AQ12: =IF(P12="外力",1,IF(P12="材質劣化",2,IF(P12="漏水",3,4))) -> 4
AQ13: =IF(P13="外力",1,IF(P13="材質劣化",2,IF(P13="漏水",3,4))) -> 4
AQ14: =IF(P14="外力",1,IF(P14="材質劣化",2,IF(P14="漏水",3,4))) -> 4
AQ15: =IF(P15="外力",1,IF(P15="材質劣化",2,IF(P15="漏水",3,4))) -> 4
AQ16: =IF(P16="外力",1,IF(P16="材質劣化",2,IF(P16="漏水",3,4))) -> 4
AQ17: =IF(P17="外力",1,IF(P17="材質劣化",2,IF(P17="漏水",3,4))) -> 4
AQ18: =IF(P18="外力",1,IF(P18="材質劣化",2,IF(P18="漏水",3,4))) -> 4
AQ19: =IF(P19="外力",1,IF(P19="材質劣化",2,IF(P19="漏水",3,4))) -> 4
AQ20: =IF(P20="外力",1,IF(P20="材質劣化",2,IF(P20="漏水",3,4))) -> 4
AQ21: =IF(P21="外力",1,IF(P21="材質劣化",2,IF(P21="漏水",3,4))) -> 4
AQ22: =IF(P22="外力",1,IF(P22="材質劣化",2,IF(P22="漏水",3,4))) -> 4
AQ23: =IF(P23="外力",1,IF(P23="材質劣化",2,IF(P23="漏水",3,4))) -> 4
... AQ30: =IF(P30="外力",1,IF(P30="材質劣化",2,IF(P30="漏水",3,4))) -> 4
K31: 集計 ・ 判定 ・ 診断 | L31: 変状の発生規模合計(㎡) | Y31: － | AC31: =SUM(AC11:AC30) -> 0 | AD31: =SUM(AD11:AD30) -> 0 | AE31: =SUM(AE11:AE30) -> 0 | AF31: =SUM(AF11:AF30) -> 0 | AG31: =SUM(AG11:AG30) -> 0 | AH31: =SUM(AH11:AH30) -> 0 | AI31: =SUM(AI11:AI30) -> 0 | AJ31: =SUM(AJ11:AJ30) -> 0 | AK31: 計
L32: 対策区分の 判定結果 | O32: 判定区分毎の変状数 | Y32: =COUNTIF(Y11:Y30,"〇") -> 0 | Z32: =COUNTIF(Z11:Z30,"〇") -> 0 | AA32: =COUNTIF(AA11:AA30,"〇") -> 0 | AB32: =COUNTIF(AB11:AB30,"〇") -> 0 | AC32: =COUNT(AC11:AC30) -> 0 | AD32: =COUNT(AD11:AD30) -> 0 | AE32: =COUNT(AE11:AE30) -> 0 | AF32: =COUNT(AF11:AF30) -> 0 | AG32: =COUNT(AG11:AG30) -> 0 | AH32: =COUNT(AH11:AH30) -> 0 | AI32: =COUNT(AI11:AI30) -> 0 | AJ32: =COUNT(AJ11:AJ30) -> 0
O33: 変状区分毎の判定区分注3 | Y33: =IF(Y32>0,"Ⅳ",IF(Z32>0,"Ⅲ",IF(AA32>0,"Ⅱa",IF(AB32>0,"Ⅱb","Ⅰ")))) -> Ⅰ | AC33: =IF(AC32>0,"Ⅳ",IF(AD32>0,"Ⅲ",IF(AE32>0,"Ⅱa",IF(AF32>0,"Ⅱb","Ⅰ")))) -> Ⅰ | AG33: =IF(AG32>0,"Ⅳ",IF(AH32>0,"Ⅲ",IF(AI32>0,"Ⅱa",IF(AJ32>0,"Ⅱb","Ⅰ")))) -> Ⅰ | AQ33: Ⅳ | AR33: Ⅲ | AS33: Ⅱ
L34: 健全性の 診断結果 | O34: 判定区分 | Y34: Ⅳ | Z34: Ⅲ | AA34: Ⅱ | AC34: Ⅳ | AD34: Ⅲ | AE34: Ⅱ | AG34: Ⅳ | AH34: Ⅲ | AI34: Ⅱ | AQ34: =+Y32+Z32 -> 0 | AS34: =+AA32+AB32 -> 0
