Workbook
Name その他: '(参考)リスト'!$C$47
Name その他施設: '(参考)リスト'!$C$79:$C$83
Name 換気施設: '(参考)リスト'!$C$56:$C$60
Name 坑門: '(参考)リスト'!$C$31:$C$32
Name 照明施設: '(参考)リスト'!$C$52:$C$54
Name 対象箇所: [1]!テーブル1[対象箇所]
Name 天井板: '(参考)リスト'!$C$37:$C$39
Name 内装板: '(参考)リスト'!$C$34:$C$35
Name 非常用施設: '(参考)リスト'!$C$62:$C$77
Name 覆工: '(参考)リスト'!$C$16:$C$29
Name 路面: '(参考)リスト'!$C$41:$C$45

Sheet 様式A-1
B2: ■トンネル台帳 トンネル諸元、非常用施設諸元 【様式A-1】 | S2: 施設ID | W2: 34.16361,131.77622
B3: フリガナ | D3: (ｵｵﾂﾞｴﾄﾝﾈﾙ) | H3: 路線名 | J3: 一般国道 376号 | P3: 管理者名 | R3: 周南土木建築事務所 | W3: 緊急輸送道路 | Z3: 一次
B4: 名 称 | D4: 大崩トンネル | W4: 代替路の有無 | Z4: 有
B5: 所在地 | D5: 自 | E5: 山口県周南市高瀬 | H5: 作成者 | K5: 基礎地盤コンサルタンツ株式会社 大谷 直毅 | P5: 作成年月日 | R5: 46080 | U5: トンネル延長 | X5: L= | Z5: 91 | AB5: ｍ
D6: 至 | E6: 山口県周南市高瀬 | U6: ﾄﾝﾈﾙの分類 | X6: 陸上トンネル（掘進工法）
B7: 起点 | C7: 緯度 | E7: 34.16361 | H7: 完成年月日 | K7: 1988年 | M7: 舗装 | O7: 種 別 | Q7: 舗装道（セメント系） | S7: トンネル非常用施設 | T7: 施設の内訳 | X7: 種別・方式 | Y7: 型式 | Z7: 個数 | AA7: 更新年度 | AE7: =INT(E7/10000) -> 0 | AF7: =INT(E7/100)-AE7*100 -> 0 | AG7: =E7-AE7*10000-AF7*100 -> 34.16361 | AH7: =ROUND(AE7+AF7/60+AG7/60/60,5) -> 0.00949 | AI7: =TEXT(AH7,"0.00000") -> 0.00949
C8: 経度 | E8: 131.77622 | H8: 供用年月日 | K8: ー | O8: 厚 さ | Q8: 20cm | T8: 通報設備 | U8: 通話型通報設備 | X8: - | Y8: - | Z8: - | AA8: - | AE8: =INT(E8/10000) -> 0 | AF8: =INT(E8/100)-AE8*100 -> 1 | AG8: =E8-AE8*10000-AF8*100 -> 31.77622 | AH8: =ROUND(AE8+AF8/60+AG8/60/60,5) -> 0.02549 | AI8: =TEXT(AH8,"0.00000") -> 0.02549
B9: 終点 | C9: 緯度 | E9: 34.163 | H9: トンネル区分 | K9: D | O9: 面 積 | Q9: - | U9: 操作型通報設備 | X9: - | Y9: - | Z9: - | AA9: -
C10: 経度 | E10: 131.77625 | H10: 内装種類 | K10: 覆工（内装なし） | O10: 更新年次 | Q10: - | U10: 自動通報設備 | X10: - | Y10: - | Z10: - | AA10: -
B11: 一般有料区分 | E11: 一般（無料）トンネル | H11: 天井板種類 | K11: 覆工（内装なし） | M11: 排水 | O11: 種 別 | Q11: 自然排水 | T11: 警報設備 | U11: 非常警報設備 | X11: - | Y11: - | Z11: - | AA11: -
B12: 土かぶり | E12: 約20 | G12: m | H12: 坑門 | I12: 起点 | J12: 形式 | K12: 面壁型 | O12: 更新年次 | Q12: - | T12: 消火設備 | U12: 消 火 器 | X12: - | Y12: - | Z12: - | AA12: -
B13: 内空断面積 | E13: 56 | G13: m2 | J13: 延長 | K13: 0 | L13: m | M13: 施設 | P13: 種別・方式 | Q13: 個数 | R13: 更新年次 | U13: 消火栓設備 | X13: - | Y13: - | Z13: - | AA13: -
B14: 交 通 量 | E14: 2611 | G14: 台/日 | I14: 終点 | J14: 形式 | K14: 面壁型 | M14: 道路附属物等 | N14: 照明 | P14: 照明施設なし | Q14: - | R14: - | T14: 避難誘導設備 | U14: 誘導表示設備 | X14: - | Y14: - | Z14: - | AA14: -
C15: 道 路 幅 | E15: 10.35 | G15: m | J15: 延長 | K15: 0 | L15: m | N15: 換気 | P15: 自然換気 | Q15: - | R15: - | U15: 避難情報提供設備 | X15: - | Y15: - | Z15: - | AA15: -
B16: 幅 員 | C16: 車 道 幅 | E16: 3 | G16: m | H16: 竣工巻厚 | I16: アーチ | K16: 50 | L16: cm | N16: 標識 | P16: - | Q16: - | R16: - | X16: - | Y16: - | Z16: - | AA16: -
E17: 3 | G17: m | I17: 側 壁 | K17: 50 | L17: cm | N17: 警報表示板 | P17: - | Q17: - | R17: - | U17: 避難通路 | X17: - | Y17: - | Z17: - | AA17: -
C18: 歩道等幅 | E18: 4.35 | G18: m | K18: 50 | L18: cm | N18: 吸音板 | P18: - | Q18: - | R18: - | U18: 排煙設備 | X18: - | Y18: - | Z18: - | AA18: -
B19: 高さ | C19: 建築限界高 | E19: 4.7 | G19: m | I19: インバート | K19: 50 | L19: cm | T19: その他の設備 | U19: 給水栓設備 | X19: - | Y19: - | Z19: - | AA19: -
C20: 中央高 | E20: 6.5 | G20: m | H20: 半径 | I20: アーチ | K20: 525 | L20: cm | U20: 無線通信補助設備 | X20: - | Y20: - | Z20: - | AA20: -
C21: 有効高 | E21: - | G21: m | I21: 側 壁 | K21: 1050 | L21: cm | U21: 水噴霧設備 | X21: - | Y21: - | Z21: - | AA21: -
C22: 縦断勾配 | E22: - | I22: インバート | K22: - | L22: cm | U22: 監視設備 | X22: - | Y22: - | Z22: - | AA22: -
B23: 線 形 | C23: 直線区間長 | E23: - | H23: 占用物件 | I23: 種 類 | K23: 寸 法 | M23: 管理者名 | Q23: 更新年次 | S23: 非常用施設 関連設備 | U23: 予備発電設備 | X23: - | Y23: - | Z23: - | AA23: -
C24: 曲線区間 | D24: 区間長 | F24: - | I24: - | K24: - | M24: - | Q24: -
D25: 起点側ｸﾛｿｲﾄﾞ | F25: - | I25: - | K25: - | M25: - | Q25: -
D26: 曲線半径 | F26: - | I26: - | K26: - | M26: - | Q26: -
D27: 終点側ｸﾛｿｲﾄﾞ | F27: - | I27: - | K27: - | M27: - | Q27: - | S27: その他 | U27: 非常駐車帯 | X27: - | Y27: - | Z27: - | AA27: -
B28: トンネル工法 | E28: 矢板工法 | U28: 方向転換所 | X28: - | Y28: - | Z28: - | AA28: -
C29: ※緯度・経度については、秒の小数第二位の単位まで記入すること。

Sheet 様式A-2
B3: ■トンネル台帳 トンネル情報一覧表 【様式A-2】
B4: フリガナ | E4: (ｵｵﾂﾞｴﾄﾝﾈﾙ) | J4: 路線名 | M4: 一般国道 376号 | S4: 作成者 | Y4: 基礎地盤コンサルタンツ株式会社 大谷 直毅 | AE4: 作成年月日 | AI4: 46080
B5: 名 称 | E5: 大崩トンネル | J5: 管理者名 | M5: 周南土木建築事務所
B6: 覆工 ｽﾊﾟﾝ 番号 | C6: ｽﾊﾟﾝ長 | D6: 追加距離 | F6: トンネル本体工 | K6: 照明施設 | O6: 非常用施設 | AE6: 換気施設 | AK6: その他附属物等
O7: 通報設備 | R7: 警報設備 | S7: 消火設備 | U7: 避難誘導設備 | Y7: その他の設備 | AC7: 特記事項
D8: 起点側 | E8: 終点側 | F8: 特記事項 | I8: 内装板 | J8: 天井板 | K8: 基本照明 | L8: 入口出口照明 | M8: 特記事項 | O8: 通話型通報設備 | P8: 操作型通報設備 | Q8: 自動通報設備 | R8: 非常警報設備 | S8: 消 火 器 | T8: 消火栓設備 | U8: 誘導表示設備 | V8: 避難情報提供設備 | W8: 避難通路 | X8: 排煙設備 | Y8: 給水栓設備 | Z8: 無線通信補助設備 | AA8: 水噴霧設備 | AB8: 監視設備 | AE8: JF | AF8: VI計 | AG8: CO計 | AH8: 風向 風速計 | AI8: 特記事項
C9: (m) | D9: (m) | E9: (m)
B10: PS | C10: 0 | D10: 0 | E10: 0 | F10: 坑門（面壁型）
B11: S1 | C11: 9.5 | D11: 0 | E11: 9.5
B12: S2 | C12: 10.4 | D12: 9.5 | E12: 19.9
B13: S3 | C13: 10.4 | D13: 19.9 | E13: 30.3
B14: S4 | C14: 10.4 | D14: 30.3 | E14: 40.7
B15: S5 | C15: 10.4 | D15: 40.7 | E15: 51.5
B16: S6 | C16: 10.4 | D16: 51.1 | E16: 61.5
B17: S7 | C17: 10.4 | D17: 61.5 | E17: 71.9
B18: S8 | C18: 10.4 | D18: 71.9 | E18: 82.3
B19: S9 | C19: 8.7 | D19: 82.3 | E19: 91
B20: PE | C20: 0 | D20: 91 | E20: 91 | F20: 坑門（面壁型）
B42: ※ 行が不足する場合は、適時、表の行を増やすこと。

Sheet 様式A-3
B3: ■トンネル台帳 トンネル記録（位置図、断面図、施工実績他）【様式A-3】
B4: フリガナ | E4: (ｵｵﾂﾞｴﾄﾝﾈﾙ) | J4: 路線名 | M4: 一般国道 376号 | S4: 作成者 | W4: 基礎地盤コンサルタンツ株式会社 大谷 直毅 | AC4: 作成年月日 | AF4: 46080
B5: 名 称 | E5: 大崩トンネル | J5: 管理者名 | M5: 周南土木建築事務所
B6: 位置図・現況写真・標準断面図・地質縦断図・施工実績
B19: 位置図・現況写真・標準断面図・地質縦断図・施工実績

Sheet 様式B_001
B2: ■定期点検記録様式 トンネル変状・異常箇所写真位置図 【様式B】 | N2: 定期点検年月日 | P2: 45944 | S2: 施設ID | V2: 34.16361,131.77622
B3: フリガナ | C3: (ｵｵﾂﾞｴﾄﾝﾈﾙ) | G3: 路線名 | H3: 一般国道 376号 | K3: 管理者名 | L3: 周南土木建築事務所 | Q3: 定期点検実施者 | S3: 基礎地盤コンサルタンツ株式会社 | V3: 起点 | W3: 緯度 | X3: 34.163609
B4: 名 称 | C4: 大崩トンネル | S4: 大谷 直毅 | W4: 経度 | X4: 131.77621
B5: 所在地 | C5: 自 | D5: 山口県周南市高瀬 | G5: トンネル工法 | I5: 矢板工法 | L5: トンネル延長 | N5: L= | O5: 91 | P5: ｍ | Q5: 自専道 or 一般道 | R5: 一般道 | S5: 代替路の有無 | U5: 有 | V5: 終点 | W5: 緯度 | X5: 34.162998
C6: 至 | D6: 山口県周南市高瀬 | G6: 建設年度 | I6: 1988年 | L6: 幅員 | N6: L= | O6: 10.35 | P6: ｍ | S6: 緊急輸送道路 | U6: 一次 | W6: 経度 | X6: 131.77625
B7: トンネル毎 の健全性の 診断の区分 | D7: Ⅲ
G8: 変状・異常 箇所数合計 | I8: トンネル本体工 | J8: 材質劣化 | K8: Ⅱ | L8: 90 | N8: Ⅲ | O8: 11 | Q8: Ⅳ | R8: 0 | T8: 附属物等 の取付状態 | V8: ◯ （応急措置後) | X8: 0
J9: 漏水 | K9: Ⅱ | L9: 16 | N9: Ⅲ | O9: 4 | Q9: Ⅳ | R9: 0
V10: ✕ | X10: 10
J11: 外力 | K11: Ⅱ | L11: 1 | N11: Ⅲ | O11: 0 | Q11: Ⅳ | R11: 0
B12: トンネル変状・異常箇所写真位置図
J29: 注１：本位置図は、見下げた状態で記載すること。 注２：覆工スパン番号は横断目地毎(矢板工法の場合は上半アーチの 横断目地毎)に設定すること。 | Q29: 注３：写真番号に付する変状番号は、各覆工スパンの変状に対して新たに確認された場合 は順次追加していくこと。 注４：横断目地の変状は前の覆工スパン番号で計上すること。 注５：１枚に収まらない場合は、複数枚に分けて作成すること。
C30: ※1 トンネル本体工の変状数は、材質劣化、漏水に起因するものは変状単位で、外力に起因するものはスパン単位で計上すること。
C31: ※2 トンネル本体工の変状に対しては、措置の必要性（Ⅱ～Ⅳ）について表記すること。また、点検前に実施された措置によりⅠと判定された箇所についても記載すること。
C32: ※3 附属物等の取付状態の○欄については、応急措置前に判定区分×とした箇所のうち応急措置により○判定とした箇所の数を記入すること。
C33: ※4 附属物等の異常番号は、本体工と番号が重複しないよう101番以降とする等の配慮を行い、分かりやすく記録すること。

Sheet 様式B_002
B2: ■定期点検記録様式 トンネル変状・異常箇所写真位置図 【様式B】 | N2: 定期点検年月日 | P2: 45944 | S2: 施設ID | V2: 34.16361,131.77622
B3: フリガナ | C3: (ｵｵﾂﾞｴﾄﾝﾈﾙ) | G3: 路線名 | H3: 一般国道 376号 | K3: 管理者名 | L3: 周南土木建築事務所 | Q3: 定期点検実施者 | S3: 基礎地盤コンサルタンツ株式会社 | V3: 起点 | W3: 緯度 | X3: 34.163609
B4: 名 称 | C4: 大崩トンネル | S4: 大谷 直毅 | W4: 経度 | X4: 131.77621
B5: 所在地 | C5: 自 | D5: 山口県周南市高瀬 | G5: トンネル工法 | I5: 矢板工法 | L5: トンネル延長 | N5: L= | O5: 91 | P5: ｍ | Q5: 自専道 or 一般道 | R5: 一般道 | S5: 代替路の有無 | U5: 有 | V5: 終点 | W5: 緯度 | X5: 34.162998
C6: 至 | D6: 山口県周南市高瀬 | G6: 建設年度 | I6: 1988年 | L6: 幅員 | N6: L= | O6: 10.35 | P6: ｍ | S6: 緊急輸送道路 | U6: 一次 | W6: 経度 | X6: 131.77625
B7: トンネル毎 の健全性の 診断の区分 | D7: Ⅲ
G8: 変状・異常 箇所数合計 | I8: トンネル本体工 | J8: 材質劣化 | K8: Ⅱ | L8: 90 | N8: Ⅲ | O8: 11 | Q8: Ⅳ | R8: 0 | T8: 附属物等 の取付状態 | V8: ◯ （応急措置後) | X8: 0
J9: 漏水 | K9: Ⅱ | L9: 16 | N9: Ⅲ | O9: 4 | Q9: Ⅳ | R9: 0
V10: ✕ | X10: 10
J11: 外力 | K11: Ⅱ | L11: 1 | N11: Ⅲ | O11: 0 | Q11: Ⅳ | R11: 0
B12: トンネル変状・異常箇所写真位置図
J29: 注１：本位置図は、見下げた状態で記載すること。 注２：覆工スパン番号は横断目地毎(矢板工法の場合は上半アーチの 横断目地毎)に設定すること。 | Q29: 注３：写真番号に付する変状番号は、各覆工スパンの変状に対して新たに確認された場合 は順次追加していくこと。 注４：横断目地の変状は前の覆工スパン番号で計上すること。 注５：１枚に収まらない場合は、複数枚に分けて作成すること。
C30: ※1 トンネル本体工の変状数は、材質劣化、漏水に起因するものは変状単位で、外力に起因するものはスパン単位で計上すること。
C31: ※2 トンネル本体工の変状に対しては、措置の必要性（Ⅱ～Ⅳ）について表記すること。また、点検前に実施された措置によりⅠと判定された箇所についても記載すること。
C32: ※3 附属物等の取付状態の○欄については、応急措置前に判定区分×とした箇所のうち応急措置により○判定とした箇所の数を記入すること。
C33: ※4 附属物等の異常番号は、本体工と番号が重複しないよう101番以降とする等の配慮を行い、分かりやすく記録すること。

Sheet 様式C-1-1_001
B2: ■定期点検記録様式 全スパン定期点検結果総括表（トンネル本体工） 【様式C-1-1】
B3: フリガナ | F3: (ｵｵﾂﾞｴﾄﾝﾈﾙ) | I3: 路線名 | K3: 一般国道 376号 | O3: 定期点検実施者 | P3: 基礎地盤コンサルタンツ株式会社 | T3: 定期点検年月日 | X3: 45944
B4: 名 称 | F4: 大崩トンネル | I4: 管理者名 | K4: 周南土木建築事務所 | P4: 大谷 直毅
B5: 定期点検結果 | C5: 覆工 スパン 番号 | E5: 変状 番号 | F5: 距離 （m） | G5: 変状部位 | I5: 変 状 の 内 容 | O5: 前回定期点検時の状態 | P5: 今回定期点検結果 | T5: 措置履歴 | Y5: 対応方針 ・ 特記事項
O6: 44099
G7: 対象箇所 | H7: 部位区分 | I7: 変状区分 | J7: 変状種類 | M7: 変状の発生範囲の規模 | N7: 前回定期点検時の変状の発生範囲及び規模 | O7: 対策区分 | P7: 対策区分 | R7: 調査の 要否 | S7: 措置の 要否 | T7: 実施 | U7: 措置の実施状況
P8: 応急措置前 | Q8: 応急措置後
C9: 1 | E9: 1 | F9: 1.9 | G9: 覆工 | H9: アーチ（左側） | I9: 材質劣化 | J9: うき・はく離 | M9: 0.05m×0.2m | N9: 0.05m×0.2m | O9: Ⅱa | P9: - | Q9: Ⅱb | R9: 否 | S9: 要監視 | T9: 継続 | U9: 監視(日常) | Y9: 判定見直し
C10: 1 | E10: 2 | F10: 3.9 | G10: 覆工 | H10: 水平打ち継ぎ目（左側） | I10: 材質劣化 | J10: うき・はく離 | M10: 0.1m×5.2m | N10: 0.1m×5.2m | O10: Ⅱb | P10: - | Q10: Ⅱb | R10: 否 | S10: 要監視 | T10: 継続 | U10: 監視(日常)
C11: 1 | E11: 3 | F11: 2.69 | G11: 覆工 | H11: アーチ（右側） | I11: 材質劣化 | J11: 鋼材腐食 | M11: 0.05m×0.05m | N11: 0.05m×0.05m | O11: Ⅱb | P11: - | Q11: Ⅱb | R11: 否 | S11: 要監視 | T11: 継続 | U11: 監視(日常)
C12: 1 | E12: 4 | F12: 2.6 | G12: 覆工 | H12: 水平打ち継ぎ目（右側） | I12: 材質劣化 | J12: うき・はく離 | M12: 0.1m×6.1m | N12: 0.1m×6.6m | O12: Ⅱb | P12: - | Q12: Ⅱb | R12: 否 | S12: 要監視 | T12: 継続 | U12: 監視(日常) | Y12: 寸法変更
C13: 1 | E13: 5 | F13: 8.59 | G13: 覆工 | H13: 横断目地（右側） | I13: 材質劣化 | J13: うき・はく離 | M13: 0.5m×0.05m | N13: 0.5m×0.05m | O13: Ⅱa | P13: - | Q13: Ⅲ | R13: 否 | S13: 要対策 | T13: 継続 | U13: 要対策 | Y13: 判定見直し
C14: 1 | E14: 6 | F14: 1.84 | G14: 覆工 | H14: アーチ（左側） | I14: 材質劣化 | J14: 圧ざ、ひび割れ | M14: 6.0m×8.7m | N14: - | O14: - | P14: - | Q14: Ⅱb | R14: 否 | S14: 要監視 | T14: 未 | U14: -
C15: 1 | E15: 7 | F15: 1.43 | G15: 覆工 | H15: アーチ（右側） | I15: 材質劣化 | J15: 圧ざ、ひび割れ | M15: 7.4m×8.7m | N15: - | O15: - | P15: - | Q15: Ⅱb | R15: 否 | S15: 要監視 | T15: 未 | U15: -
C16: 2 | E16: 1 | F16: 8.7 | G16: 覆工 | H16: 水平打ち継ぎ目（左側） | I16: 材質劣化 | J16: うき・はく離 | M16: 0.1m×10.4m | N16: 0.1m×9m(他1箇所) | O16: Ⅱb | P16: - | Q16: Ⅱb | R16: 否 | S16: 要監視 | T16: 継続 | U16: 監視(日常) | Y16: 寸法変更
C17: 2 | E17: 2 | F17: 19.12 | G17: 覆工 | H17: 横断目地（左側） | I17: 材質劣化 | J17: うき・はく離 | M17: 0.3m×0.05m | N17: 0.3m×0.05m | O17: Ⅱa | P17: - | Q17: Ⅱb | R17: 否 | S17: 要監視 | T17: 継続 | U17: 監視(日常) | Y17: 判定見直し
C18: 2 | E18: 3 | F18: 18.98 | G18: 覆工 | H18: 横断目地（左側） | I18: 材質劣化 | J18: うき・はく離 | M18: 0.1m×0.1m | N18: 0.1m×0.1m | O18: Ⅱa | P18: - | Q18: Ⅲ | R18: 否 | S18: 要対策 | T18: 継続 | U18: 要対策 | Y18: 判定見直し
C19: 2 | E19: 4 | F19: 17.84 | G19: 覆工 | H19: アーチ（左側） | I19: 漏水 | J19: 漏水 | M19: 7.9m×0.8m | N19: 8.2m×0.5m | O19: Ⅱa | P19: - | Q19: Ⅱb | R19: 否 | S19: 要監視 | T19: 継続 | U19: 監視(日常)
C20: 2 | E20: 5 | F20: 19.08 | G20: 覆工 | H20: 横断目地（右側） | I20: 材質劣化 | J20: うき・はく離 | M20: 0.5m×0.05m | N20: 0.5m×0.05m | O20: Ⅱa | P20: - | Q20: Ⅱb | R20: 否 | S20: 要監視 | T20: 継続 | U20: 監視(日常) | Y20: 判定見直し
C21: 2 | E21: 6 | F21: 8.7 | G21: 覆工 | H21: 水平打ち継ぎ目（右側） | I21: 材質劣化 | J21: うき・はく離 | M21: 0.1m×10.4m | N21: 0.1m×10.4m | O21: Ⅱb | P21: - | Q21: Ⅱb | R21: 否 | S21: 要監視 | T21: 継続 | U21: 監視(日常)
C22: 2 | E22: 7 | F22: 15.13 | G22: 覆工 | H22: アーチ（右側） | I22: 材質劣化 | J22: うき・はく離 | M22: 0.2m×0.1m | N22: 0.2m×0.1m | O22: Ⅱa | P22: - | Q22: Ⅱb | R22: 否 | S22: 要監視 | T22: 継続 | U22: 監視(日常) | Y22: 判定見直し
C23: 2 | E23: 8 | F23: 16.97 | G23: 覆工 | H23: アーチ（右側） | I23: 漏水 | J23: その他 | M23: - | N23: 6.8m×0.5m | O23: Ⅱa | P23: - | Q23: Ⅰ | R23: 否 | S23: 否 | T23: 未 | U23: -
C24: 2 | E24: 9 | F24: 9.82 | G24: 路面 | H24: 車道 | J24: その他 | M24: - | N24: 0.7m×6.4m | O24: Ⅱb | R24: 否 | S24: 否 | U24: -
C25: 2 | E25: 10 | F25: 17.41 | G25: 覆工 | H25: アーチ（左側） | I25: 材質劣化 | J25: 鋼材腐食 | M25: 0.05m×0.05m 3箇所 | N25: - | O25: - | P25: - | Q25: Ⅱb | R25: 否 | S25: 要監視 | T25: 未 | U25: -
C26: 2 | E26: 11 | F26: 18.76 | G26: 覆工 | H26: アーチ（左側） | I26: 漏水 | J26: 漏水 | M26: 4.9m×0.5m | N26: - | O26: - | P26: - | Q26: Ⅱb | R26: 否 | S26: 要監視 | T26: 未 | U26: -
C27: 2 | E27: 12 | F27: 12.3 | G27: 覆工 | H27: アーチ（左側） | I27: 材質劣化 | J27: 圧ざ、ひび割れ | M27: 3.9m×4.7m | N27: - | O27: - | P27: - | Q27: Ⅱb | R27: 否 | S27: 要監視 | T27: 未 | U27: -
C28: 2 | E28: 13 | F28: 14.51 | G28: 覆工 | H28: アーチ（右側） | I28: 材質劣化 | J28: 鋼材腐食 | M28: 0.05m×0.05m 2箇所 | N28: - | O28: - | P28: - | Q28: Ⅱb | R28: 否 | S28: 要監視 | T28: 未 | U28: -
C29: 3 | E29: 1 | F29: 19.1 | G29: 覆工 | H29: 水平打ち継ぎ目（左側） | I29: 材質劣化 | J29: うき・はく離 | M29: 0.1m×10.4m | N29: 0.1m×9.3m(他1箇所) | O29: Ⅱb | P29: - | Q29: Ⅱb | R29: 否 | S29: 要監視 | T29: 継続 | U29: 監視(日常) | Y29: 寸法変更
C30: 3 | E30: 2 | F30: 29.5 | G30: 覆工 | H30: 横断目地（左側） | I30: 材質劣化 | J30: うき・はく離 | M30: 1.0m×0.1m | N30: 1m×0.1m | O30: Ⅱa | P30: - | Q30: Ⅱb | R30: 否 | S30: 要監視 | T30: 継続 | U30: 監視(日常) | Y30: 判定見直し
C31: 3 | E31: 3 | F31: 21.41 | G31: 覆工 | H31: アーチ（右側） | I31: 材質劣化 | J31: うき・はく離 | M31: 0.2m×0.2m | N31: 0.2m×0.2m | O31: Ⅱa | P31: - | Q31: Ⅱb | R31: 否 | S31: 要監視 | T31: 継続 | U31: 監視(日常) | Y31: 判定見直し
C32: 3 | E32: 4 | F32: 22.1 | G32: 覆工 | H32: アーチ（右側） | I32: 材質劣化 | J32: うき・はく離 | M32: 0.1m×0.1m | N32: 0.1m×0.1m | O32: Ⅱa | P32: - | Q32: Ⅲ | R32: 否 | S32: 要対策 | T32: 継続 | U32: 要対策 | Y32: 判定見直し
C33: 3 | E33: 5 | F33: 25.39 | G33: 覆工 | H33: アーチ（左側） | I33: 漏水 | J33: 漏水 | M33: 8.1m×0.5m | N33: 8.8m×0.5m | O33: Ⅱa | P33: - | Q33: Ⅱa | R33: 否 | S33: 要監視 | T33: 継続 | U33: 監視(重点)
C34: 3 | E34: 6 | F34: 29.48 | G34: 覆工 | H34: 横断目地（左側） | I34: 材質劣化 | J34: その他 | M34: 0.2m×0.1m | N34: 0.2m×0.1m | O34: Ⅰ | P34: - | Q34: Ⅰ | R34: 否 | S34: 否 | T34: 未 | U34: -
C35: 3 | E35: 7 | F35: 20.15 | G35: 覆工 | H35: アーチ（右側） | I35: 材質劣化 | J35: うき・はく離 | M35: 0.1m×0.5m | N35: 0.1m×0.5m | O35: Ⅱa | P35: - | Q35: Ⅲ | R35: 否 | S35: 要対策 | T35: 継続 | U35: 要対策 | Y35: 判定見直し
C36: 3 | E36: 8 | F36: 21.68 | G36: 覆工 | H36: アーチ（右側） | I36: 漏水 | J36: 漏水 | M36: 8.5m×1.0m | N36: 8.3m×1m | O36: Ⅱb | P36: - | Q36: Ⅱb | R36: 否 | S36: 要監視 | T36: 継続 | U36: 監視(日常)
C37: 3 | E37: 9 | F37: 22.23 | G37: 覆工 | H37: アーチ（右側） | I37: 材質劣化 | J37: うき・はく離 | M37: 0.3m×0.05m | N37: 0.3m×0.05m | O37: Ⅱa | P37: - | Q37: Ⅱb | R37: 否 | S37: 要監視 | T37: 継続 | U37: 監視(日常) | Y37: 判定見直し
C38: 3 | E38: 10 | F38: 24.29 | G38: 覆工 | H38: アーチ（右側） | I38: 漏水 | J38: その他 | M38: 8.2m×1.9m | N38: 8.2m×1.9m | O38: Ⅱa | P38: - | Q38: Ⅱb | R38: 否 | S38: 否 | T38: 継続 | U38: 監視(日常)
C39: 3 | E39: 11 | F39: 27.37 | G39: 覆工 | H39: アーチ（右側） | I39: 漏水 | J39: その他 | M39: - | N39: 6.9m×0.5m | O39: Ⅱa | P39: - | Q39: Ⅰ | R39: 否 | S39: 否 | T39: 未 | U39: -
C40: 3 | E40: 12 | F40: 19.1 | G40: 覆工 | H40: 水平打ち継ぎ目（右側） | I40: 材質劣化 | J40: うき・はく離 | M40: 0.1m×10.4m | N40: 0.1m×10.4m | O40: Ⅱb | P40: - | Q40: Ⅱb | R40: 否 | S40: 要監視 | T40: 継続 | U40: 監視(日常)
C41: 3 | E41: 13 | F41: 29.21 | G41: 覆工 | H41: アーチ（右側） | I41: 材質劣化 | J41: うき・はく離 | M41: 0.1m×0.3m | N41: 0.1m×0.3m | O41: Ⅱa | P41: - | Q41: Ⅱb | R41: 否 | S41: 要監視 | T41: 継続 | U41: 監視(日常) | Y41: 判定見直し
...

Sheet 様式C-1-1_002
B2: ■定期点検記録様式 全スパン定期点検結果総括表（トンネル本体工） 【様式C-1-1】
B3: フリガナ | F3: (ｵｵﾂﾞｴﾄﾝﾈﾙ) | I3: 路線名 | K3: 一般国道 376号 | O3: 定期点検実施者 | P3: 基礎地盤コンサルタンツ株式会社 | T3: 定期点検年月日 | X3: 45944
B4: 名 称 | F4: 大崩トンネル | I4: 管理者名 | K4: 周南土木建築事務所 | P4: 大谷 直毅
B5: 定期点検結果 | C5: 覆工 スパン 番号 | E5: 変状 番号 | F5: 距離 （m） | G5: 変状部位 | I5: 変 状 の 内 容 | O5: 前回定期点検時の状態 | P5: 今回定期点検結果 | T5: 措置履歴 | Y5: 対応方針 ・ 特記事項
O6: 44099
G7: 対象箇所 | H7: 部位区分 | I7: 変状区分 | J7: 変状種類 | M7: 変状の発生範囲の規模 | N7: 前回定期点検時の変状の発生範囲及び規模 | O7: 対策区分 | P7: 対策区分 | R7: 調査の 要否 | S7: 措置の 要否 | T7: 実施 | U7: 措置の実施状況
P8: 応急措置前 | Q8: 応急措置後
C9: 3 | E9: 15 | F9: 27.49 | G9: 路面 | H9: 車道 | I9: 漏水 | J9: 滞水 | M9: - | N9: 1.2m×5.1m | O9: Ⅱb | P9: - | Q9: Ⅰ | R9: 否 | S9: 否 | T9: 未 | U9: -
C10: 3 | E10: 16 | F10: 23.88 | G10: 覆工 | H10: アーチ（左側） | I10: 材質劣化 | J10: 圧ざ、ひび割れ | M10: 0.1m×0.1m | N10: - | O10: - | P10: - | Q10: Ⅱb | R10: 否 | S10: 要監視 | T10: 未 | U10: -
C11: 3 | E11: 17 | F11: 19.1 | G11: 覆工 | H11: アーチ（右側） | I11: 材質劣化 | J11: うき・はく離 | M11: 0.1m×0.3m | N11: - | O11: - | P11: - | Q11: Ⅲ | R11: 否 | S11: 要対策 | T11: 未 | U11: -
C12: 3 | E12: 18 | F12: 23.01 | G12: 覆工 | H12: アーチ（右側） | I12: 材質劣化 | J12: うき・はく離 | M12: 0.3m×0.05m | N12: 0.3m×0.05m | O12: Ⅱa | P12: - | Q12: Ⅱb | R12: 否 | S12: 要監視 | T12: 継続 | U12: 監視(日常) | Y12: 判定見直し
C13: 3 | E13: 19 | F13: 24.72 | G13: 覆工 | H13: アーチ（右側） | I13: 材質劣化 | J13: 圧ざ、ひび割れ | M13: 0.3m×0.5m | N13: - | O13: - | P13: - | Q13: Ⅱa | R13: 否 | S13: 要監視 | T13: 未 | U13: -
C14: 3 | E14: 20 | F14: 25.93 | G14: 覆工 | H14: アーチ（右側） | I14: 材質劣化 | J14: 圧ざ、ひび割れ | M14: 1.4m×2.2m | N14: - | O14: - | P14: - | Q14: Ⅱb | R14: 否 | S14: 要監視 | T14: 未 | U14: -
C15: 3 | E15: 21 | F15: 19.46 | G15: 覆工 | H15: アーチ（右側） | I15: 材質劣化 | J15: うき・はく離 | M15: 0.05m×0.2m | N15: - | O15: - | P15: - | Q15: Ⅱb | R15: 否 | S15: 要監視 | T15: 未 | U15: -
C16: 3 | E16: 22 | F16: 20.38 | G16: 覆工 | H16: アーチ（右側） | I16: 材質劣化 | J16: 鋼材腐食 | M16: 0.05m×0.05m 6箇所 | N16: - | O16: - | P16: - | Q16: Ⅱb | R16: 否 | S16: 要監視 | T16: 未 | U16: -
C17: 4 | E17: 1 | F17: 34.1 | G17: 覆工 | H17: 水平打ち継ぎ目（左側） | I17: 材質劣化 | J17: うき・はく離 | M17: 0.1m×5.8m | N17: 0.1m×5.8m | O17: Ⅱb | P17: - | Q17: Ⅱb | R17: 否 | S17: 要監視 | T17: 継続 | U17: 監視(日常)
C18: 4 | E18: 2 | F18: 36.84 | G18: 覆工 | H18: アーチ（左側） | I18: 材質劣化 | J18: うき・はく離 | M18: 0.3m×1.3m | N18: 0.3m×1.3m | O18: Ⅱa | P18: - | Q18: Ⅱb | R18: 否 | S18: 要監視 | T18: 継続 | U18: 監視(日常) | Y18: 判定見直し
C19: 4 | E19: 3 | F19: 39.88 | G19: 覆工 | H19: 横断目地（左側） | I19: 材質劣化 | J19: うき・はく離 | M19: 0.6m×0.2m | N19: 0.6m×0.2m | O19: Ⅱa | P19: - | Q19: Ⅱb | R19: 否 | S19: 要監視 | T19: 継続 | U19: 監視(日常) | Y19: 判定見直し
C20: 4 | E20: 4 | F20: 29.76 | G20: 覆工 | H20: アーチ（左側） | I20: 材質劣化 | J20: 鋼材腐食 | M20: 0.1m×0.15m | N20: 0.2m×0.2m | O20: Ⅱb | P20: - | Q20: Ⅱb | R20: 否 | S20: 要監視 | T20: 継続 | U20: 監視(日常) | Y20: 寸法変更
C21: 4 | E21: 5 | F21: 39.9 | G21: 覆工 | H21: 横断目地（左側） | I21: 材質劣化 | J21: うき・はく離 | M21: 0.9m×0.15m | N21: 0.9m×0.15m | O21: Ⅱa | P21: - | Q21: Ⅱb | R21: 否 | S21: 要監視 | T21: 継続 | U21: 監視(日常) | Y21: 判定見直し
C22: 4 | E22: 6 | F22: 39.85 | G22: 覆工 | H22: 横断目地（左側） | I22: 材質劣化 | J22: うき・はく離 | M22: 1.0m×0.05m | N22: 1m×0.05m | O22: Ⅱa | P22: - | Q22: Ⅱb | R22: 否 | S22: 要監視 | T22: 継続 | U22: 監視(日常) | Y22: 判定見直し
C23: 4 | E23: 7 | F23: 39.74 | G23: 覆工 | H23: 横断目地（右側） | I23: 材質劣化 | J23: うき・はく離 | M23: 0.1m×0.1m | N23: 0.1m×0.1m | O23: Ⅱa | P23: - | Q23: Ⅲ | R23: 否 | S23: 要対策 | T23: 継続 | U23: 要対策 | Y23: 判定見直し
C24: 4 | E24: 8 | F24: 29.5 | G24: 覆工 | H24: 水平打ち継ぎ目（右側） | I24: 材質劣化 | J24: うき・はく離 | M24: 0.1m×10.4m | N24: 0.1m×10.4m | O24: Ⅱb | P24: - | Q24: Ⅱb | R24: 否 | S24: 要監視 | T24: 継続 | U24: 監視(日常)
C25: 4 | E25: 9 | F25: 39.7 | G25: 覆工 | H25: 横断目地（右側） | I25: 材質劣化 | J25: うき・はく離 | M25: 0.95m×0.2m | N25: 0.95m×0.2m | O25: Ⅱa | P25: - | Q25: Ⅱb | R25: 否 | S25: 要監視 | T25: 継続 | U25: 監視(日常) | Y25: 判定見直し
C26: 4 | E26: 10 | F26: 39.9 | G26: 覆工 | H26: 横断目地（右側） | I26: 材質劣化 | J26: うき・はく離 | M26: 1.7m×0.3m | N26: 1.7m×0.3m | O26: Ⅱa | P26: - | Q26: Ⅱb | R26: 否 | S26: 要監視 | T26: 継続 | U26: 監視(日常) | Y26: 判定見直し
C27: 4 | E27: 11 | F27: 29.5 | G27: 路面 | H27: 車道 | J27: その他 | M27: - | N27: 0.6m×8.1m | O27: Ⅱb | R27: 否 | S27: 否 | U27: -
C28: 4 | E28: 12 | F28: 29.5 | G28: 覆工 | H28: 水平打ち継ぎ目（左側） | I28: 材質劣化 | J28: うき・はく離 | M28: 0.1m×1.6m | N28: 0.1m×1.7m | O28: Ⅱb | P28: - | Q28: Ⅱb | R28: 否 | S28: 要監視 | T28: 継続 | U28: 監視(日常)
C29: 4 | E29: 13 | F29: 31.7 | G29: 覆工 | H29: 水平打ち継ぎ目（左側） | I29: 材質劣化 | J29: うき・はく離 | M29: 0.1m×0.3m | N29: 0.1m×0.3m | O29: Ⅱb | P29: - | Q29: Ⅱb | R29: 否 | S29: 要監視 | T29: 継続 | U29: 監視(日常)
C30: 4 | E30: 14 | F30: 39.74 | G30: 覆工 | H30: アーチ（左側） | I30: 材質劣化 | J30: 鋼材腐食 | M30: 0.05m×0.05m 3箇所 | N30: - | O30: - | P30: - | Q30: Ⅱb | R30: 否 | S30: 要監視 | T30: 未 | U30: -
C31: 4 | E31: 15 | F31: 30.39 | G31: 覆工 | H31: アーチ（左側） | I31: 材質劣化 | J31: 鋼材腐食 | M31: 0.1m×0.15m | N31: 0.1m×0.15m | O31: Ⅱb | P31: - | Q31: Ⅱb | R31: 否 | S31: 要監視 | T31: 継続 | U31: 監視(日常)
C32: 4 | E32: 16 | F32: 38.12 | G32: 覆工 | H32: アーチ（左側） | I32: 材質劣化 | J32: 鋼材腐食 | M32: 0.05m×0.05m | N32: 0.05m×0.05m | O32: Ⅱb | P32: - | Q32: Ⅱb | R32: 否 | S32: 要監視 | T32: 継続 | U32: 監視(日常)
C33: 4 | E33: 17 | F33: 39.63 | G33: 覆工 | H33: アーチ（左側） | I33: 材質劣化 | J33: 鋼材腐食 | M33: 0.2m×0.05m | N33: 0.2m×0.05m | O33: Ⅱb | P33: - | Q33: Ⅱb | R33: 否 | S33: 要監視 | T33: 継続 | U33: 監視(日常)
C34: 4 | E34: 18 | F34: 30.07 | G34: 覆工 | H34: アーチ（右側） | I34: 材質劣化 | J34: 鋼材腐食 | M34: 0.05m×0.05m | N34: 0.05m×0.05m | O34: Ⅱb | P34: - | Q34: Ⅱb | R34: 否 | S34: 要監視 | T34: 継続 | U34: 監視(日常)
C35: 4 | E35: 19 | F35: 32.84 | G35: 覆工 | H35: アーチ（右側） | I35: 材質劣化 | J35: 鋼材腐食 | M35: 0.05m×0.05m | N35: 0.05m×0.05m | O35: Ⅱb | P35: - | Q35: Ⅱb | R35: 否 | S35: 要監視 | T35: 継続 | U35: 監視(日常)
C36: 4 | E36: 20 | F36: 32.28 | G36: 覆工 | H36: アーチ（右側） | I36: 材質劣化 | J36: 鋼材腐食 | M36: 0.05m×0.05m 4箇所 | N36: - | O36: - | P36: - | Q36: Ⅱb | R36: 否 | S36: 要監視 | T36: 未 | U36: -
C37: 5 | E37: 1 | F37: 39.9 | G37: 覆工 | H37: 水平打ち継ぎ目（左側） | I37: 材質劣化 | J37: うき・はく離 | M37: 0.1m×2.8m | N37: 0.1m×2.8m | O37: Ⅱb | P37: - | Q37: Ⅱb | R37: 否 | S37: 要監視 | T37: 継続 | U37: 監視(日常)
C38: 5 | E38: 2 | F38: 46.6 | G38: 覆工 | H38: 側壁（左側） | I38: 漏水 | J38: その他 | M38: - | N38: 2.2m×0.9m | O38: Ⅱb | P38: - | Q38: Ⅰ | R38: 否 | S38: 否 | T38: 未 | U38: -
C39: 5 | E39: 3 | F39: 47.21 | G39: 覆工 | H39: アーチ（左側） | I39: 漏水 | J39: 漏水 | M39: 8.0m×0.5m | N39: 8.5m×0.5m | O39: Ⅱa | P39: - | Q39: Ⅲ | R39: 否 | S39: 要対策 | T39: 継続 | U39: 要対策
C40: 5 | E40: 4 | F40: 47.83 | G40: 覆工 | H40: アーチ（左側） | I40: 漏水 | J40: 漏水 | M40: 8.7m×0.5m | N40: 9.3m×1.8m | O40: Ⅱa | P40: - | Q40: Ⅲ | R40: 否 | S40: 要対策 | T40: 継続 | U40: 要対策
C41: 5 | E41: 5 | F41: 43.01 | G41: 覆工 | H41: アーチ（右側） | I41: 材質劣化 | J41: うき・はく離 | M41: 0.1m×0.1m | N41: 0.1m×0.1m | O41: Ⅱa | P41: - | Q41: Ⅲ | R41: 否 | S41: 要対策 | T41: 継続 | U41: 要対策 | Y41: 判定見直し
...

Sheet 様式C-1-1_003
B2: ■定期点検記録様式 全スパン定期点検結果総括表（トンネル本体工） 【様式C-1-1】
B3: フリガナ | F3: (ｵｵﾂﾞｴﾄﾝﾈﾙ) | I3: 路線名 | K3: 一般国道 376号 | O3: 定期点検実施者 | P3: 基礎地盤コンサルタンツ株式会社 | T3: 定期点検年月日 | X3: 45944
B4: 名 称 | F4: 大崩トンネル | I4: 管理者名 | K4: 周南土木建築事務所 | P4: 大谷 直毅
B5: 定期点検結果 | C5: 覆工 スパン 番号 | E5: 変状 番号 | F5: 距離 （m） | G5: 変状部位 | I5: 変 状 の 内 容 | O5: 前回定期点検時の状態 | P5: 今回定期点検結果 | T5: 措置履歴 | Y5: 対応方針 ・ 特記事項
O6: 44099
G7: 対象箇所 | H7: 部位区分 | I7: 変状区分 | J7: 変状種類 | M7: 変状の発生範囲の規模 | N7: 前回定期点検時の変状の発生範囲及び規模 | O7: 対策区分 | P7: 対策区分 | R7: 調査の 要否 | S7: 措置の 要否 | T7: 実施 | U7: 措置の実施状況
P8: 応急措置前 | Q8: 応急措置後
C9: 5 | E9: 7 | F9: 50.3 | G9: 覆工 | H9: 横断目地（右側） | I9: 材質劣化 | J9: うき・はく離 | M9: 0.3m×0.05m | N9: 0.3m×0.05m | O9: Ⅱa | P9: - | Q9: Ⅱb | R9: 否 | S9: 要監視 | T9: 継続 | U9: 監視(日常) | Y9: 判定見直し
C10: 5 | E10: 8 | F10: 39.9 | G10: 覆工 | H10: 水平打ち継ぎ目（右側） | I10: 材質劣化 | J10: うき・はく離 | M10: 0.1m×10.4m | N10: 0.1m×10.4m | O10: Ⅱb | P10: - | Q10: Ⅱb | R10: 否 | S10: 要監視 | T10: 継続 | U10: 監視(日常)
C11: 5 | E11: 9 | F11: 46.75 | G11: 覆工 | H11: アーチ（右側） | I11: 材質劣化 | J11: その他 | M11: 3.1m×0.1m | N11: 3.1m×0.1m | O11: Ⅰ | P11: - | Q11: Ⅰ | R11: 否 | S11: 否 | T11: 未 | U11: -
C12: 5 | E12: 10 | F12: 46.06 | G12: 路面 | H12: 車道 | J12: その他 | M12: 0.5m×0.05m | N12: 0.5m×0.05m | O12: Ⅱb | R12: 否 | S12: 否 | U12: -
C13: 5 | E13: 11 | F13: 46.81 | G13: 路面 | H13: 車道 | I13: 漏水 | J13: 滞水 | M13: - | N13: 2.8m×3.5m | O13: Ⅱb | P13: - | Q13: - | R13: 否 | S13: 否 | T13: 未 | U13: -
C14: 5 | E14: 12 | F14: 46.75 | G14: 路面 | H14: 車道 | I14: 漏水 | J14: 滞水 | M14: - | N14: 2.4m×1.8m | O14: Ⅱb | P14: - | Q14: - | R14: 否 | S14: 否 | T14: 未 | U14: -
C15: 5 | E15: 13 | F15: 43.83 | G15: 覆工 | H15: 水平打ち継ぎ目（左側） | I15: 材質劣化 | J15: うき・はく離 | M15: 0.1m×0.3m | N15: 0.1m×0.3m | O15: Ⅱb | P15: - | Q15: Ⅱb | R15: 否 | S15: 要監視 | T15: 継続 | U15: 監視(日常)
C16: 5 | E16: 14 | F16: 44.35 | G16: 覆工 | H16: 水平打ち継ぎ目（左側） | I16: 材質劣化 | J16: うき・はく離 | M16: 0.1m×1.3m | N16: 0.1m×1.5m | O16: Ⅱb | P16: - | Q16: Ⅱb | R16: 否 | S16: 要監視 | T16: 継続 | U16: 監視(日常) | Y16: 寸法変更
C17: 5 | E17: 15 | F17: 48.77 | G17: 覆工 | H17: 水平打ち継ぎ目（左側） | I17: 材質劣化 | J17: うき・はく離 | M17: 0.1m×0.5m | N17: 0.1m×0.5m | O17: Ⅱb | P17: - | Q17: Ⅱb | R17: 否 | S17: 要監視 | T17: 継続 | U17: 監視(日常)
C18: 5 | E18: 16 | F18: 47.44 | G18: 覆工 | H18: アーチ（左側） | I18: 材質劣化 | J18: 鋼材腐食 | M18: 0.05m×0.05m 9箇所 | N18: - | O18: - | P18: - | Q18: Ⅱb | R18: 否 | S18: 要監視 | T18: 未 | U18: -
C19: 5 | E19: 17 | F19: 39.9 | G19: 覆工 | H19: 横断目地（左側） | I19: 材質劣化 | J19: うき・はく離 | M19: 0.25m×0.1m | N19: - | O19: - | P19: - | Q19: Ⅱb | R19: 否 | S19: 要監視 | T19: 未 | U19: -
C20: 5 | E20: 18 | F20: 41.44 | G20: 覆工 | H20: アーチ（右側） | I20: 材質劣化 | J20: 鋼材腐食 | M20: 0.05m×0.05m 5箇所 | N20: - | O20: - | P20: - | Q20: Ⅱb | R20: 否 | S20: 要監視 | T20: 未 | U20: -
C21: 6 | E21: 1 | F21: 58.44 | G21: 覆工 | H21: アーチ（左側） | I21: 材質劣化 | J21: うき・はく離 | M21: 0.1m×0.4m | N21: 0.1m×0.4m | O21: Ⅱa | P21: - | Q21: Ⅲ | R21: 否 | S21: 要対策 | T21: 継続 | U21: 要対策 | Y21: 判定見直し
C22: 6 | E22: 2 | F22: 59.06 | G22: 覆工 | H22: 水平打ち継ぎ目（左側） | I22: 材質劣化 | J22: うき・はく離 | M22: 0.2m×0.2m | N22: 0.2m×0.2m | O22: Ⅱa | P22: - | Q22: Ⅱb | R22: 否 | S22: 要監視 | T22: 継続 | U22: 監視(日常) | Y22: 判定見直し
C23: 6 | E23: 3 | F23: 60.7 | G23: 覆工 | H23: 横断目地（左側） | I23: 材質劣化 | J23: うき・はく離 | M23: 0.4m×0.2m | N23: 0.4m×0.2m | O23: Ⅱa | P23: - | Q23: Ⅱb | R23: 否 | S23: 要監視 | T23: 継続 | U23: 監視(日常) | Y23: 判定見直し
C24: 6 | E24: 4 | F24: 58.47 | G24: 覆工 | H24: アーチ（左側） | I24: 漏水 | J24: 漏水 | M24: 6.4m×1.5m | N24: 9.3m×4.5m | O24: Ⅱa | P24: - | Q24: Ⅱa | R24: 否 | S24: 要監視 | T24: 継続 | U24: 監視(重点)
C25: 6 | E25: 5 | F25: 60.5 | G25: 覆工 | H25: 横断目地（左側） | I25: 材質劣化 | J25: その他 | M25: 0.6m×0.15m | N25: 0.6m×0.15m | O25: Ⅰ | P25: - | Q25: Ⅰ | R25: 否 | S25: 否 | T25: 未 | U25: -
C26: 6 | E26: 6 | F26: 52.96 | G26: 覆工 | H26: アーチ（右側） | I26: 漏水 | J26: その他 | M26: - | N26: 9.1m×1.5m | O26: Ⅱa | P26: - | Q26: Ⅰ | R26: 否 | S26: 否 | T26: 未 | U26: -
C27: 6 | E27: 7 | F27: 51.55 | G27: 覆工 | H27: アーチ（右側） | I27: 材質劣化 | J27: 鋼材腐食 | M27: 0.1m×0.25m | N27: 0.1m×0.25m | O27: Ⅱb | P27: - | Q27: Ⅱb | R27: 否 | S27: 要監視 | T27: 継続 | U27: 監視(日常)
C28: 6 | E28: 8 | F28: 57.17 | G28: 覆工 | H28: アーチ（左側） | I28: 材質劣化 | J28: うき・はく離 | M28: 0.2m×0.2m | N28: 0.2m×0.2m | O28: Ⅱa | P28: - | Q28: Ⅲ | R28: 否 | S28: 要対策 | T28: 継続 | U28: 要対策 | Y28: 判定見直し
C29: 6 | E29: 9 | F29: 58.47 | G29: 覆工 | H29: アーチ（右側） | I29: 漏水 | J29: 漏水 | M29: 6.8m×0.5m | N29: 7m×0.5m | O29: Ⅱa | P29: - | Q29: Ⅱa | R29: 否 | S29: 要監視 | T29: 継続 | U29: 監視(重点)
C30: 6 | E30: 10 | F30: 60.65 | G30: 覆工 | H30: 横断目地（左側） | I30: 材質劣化 | J30: うき・はく離 | M30: 0.6m×0.1m | N30: 0.6m×0.15m | O30: Ⅱa | P30: - | Q30: Ⅲ | R30: 否 | S30: 要対策 | T30: 継続 | U30: 要対策 | Y30: 寸法変更 判定見直し
C31: 6 | E31: 11 | F31: 50.3 | G31: 覆工 | H31: 水平打ち継ぎ目（右側） | I31: 材質劣化 | J31: うき・はく離 | M31: 0.1m×10.4m | N31: 0.1m×10.4m | O31: Ⅱb | P31: - | Q31: Ⅱb | R31: 否 | S31: 要監視 | T31: 継続 | U31: 監視(日常)
C32: 6 | E32: 12 | F32: 60.7 | G32: 覆工 | H32: 横断目地（右側） | I32: 材質劣化 | J32: うき・はく離 | M32: 1.15m×0.05m | N32: 1.15m×0.05m | O32: Ⅱa | P32: - | Q32: Ⅱb | R32: 否 | S32: 要監視 | T32: 継続 | U32: 監視(日常) | Y32: 判定見直し
C33: 6 | E33: 13 | F33: 54.17 | G33: 路面 | H33: 車道 | I33: 漏水 | J33: 滞水 | M33: - | N33: 2.8m×3.5m | O33: Ⅱb | P33: - | Q33: - | R33: 否 | S33: 否 | T33: 未 | U33: -
C34: 6 | E34: 14 | F34: 51.85 | G34: 覆工 | H34: 水平打ち継ぎ目（左側） | I34: 材質劣化 | J34: うき・はく離 | M34: 0.1m×2.4m | N34: - | O34: - | P34: - | Q34: Ⅱb | R34: 否 | S34: 要監視 | T34: 未 | U34: -
C35: 6 | E35: 15 | F35: 59.26 | G35: 覆工 | H35: 水平打ち継ぎ目（左側） | I35: 材質劣化 | J35: うき・はく離 | M35: 0.1m×1.5m | N35: - | O35: - | P35: - | Q35: Ⅱb | R35: 否 | S35: 要監視 | T35: 未 | U35: -
C36: 6 | E36: 16 | F36: 50.7 | G36: 覆工 | H36: アーチ（左側） | I36: 漏水 | J36: 漏水 | M36: 5.7m×1.5m | N36: - | O36: - | P36: - | Q36: Ⅱb | R36: 否 | S36: 要監視 | T36: 未 | U36: -
C37: 6 | E37: 17 | F37: 55.03 | G37: 覆工 | H37: アーチ（左側） | I37: 漏水 | J37: 漏水 | M37: 7.0m×1.0m | N37: - | O37: - | P37: - | Q37: Ⅲ | R37: 否 | S37: 要対策 | T37: 未 | U37: -
C38: 6 | E38: 18 | F38: 56.81 | G38: 覆工 | H38: アーチ（左側） | I38: 漏水 | J38: 漏水 | M38: 8.2m×1.0m | N38: - | O38: - | P38: - | Q38: Ⅲ | R38: 否 | S38: 要対策 | T38: 未 | U38: -
C39: 6 | E39: 19 | F39: 55.93 | G39: 覆工 | H39: アーチ（右側） | I39: 漏水 | J39: 漏水 | M39: 8.8m×0.5m | N39: - | O39: - | P39: - | Q39: Ⅱa | R39: 否 | S39: 要監視 | T39: 未 | U39: -
C40: 6 | E40: 20 | F40: 54.07 | G40: 覆工 | H40: アーチ（右側） | I40: 漏水 | J40: 漏水 | M40: 5.6m×0.5m | N40: - | O40: - | P40: - | Q40: Ⅱa | R40: 否 | S40: 要監視 | T40: 未 | U40: -
C41: 6 | E41: 21 | F41: 50.35 | G41: 覆工 | H41: アーチ（右側） | I41: 材質劣化 | J41: 鋼材腐食 | M41: 0.05m×0.05m | N41: - | O41: - | P41: - | Q41: Ⅱb | R41: 否 | S41: 要監視 | T41: 未 | U41: -
...

Sheet 様式C-1-1_004
B2: ■定期点検記録様式 全スパン定期点検結果総括表（トンネル本体工） 【様式C-1-1】
B3: フリガナ | F3: (ｵｵﾂﾞｴﾄﾝﾈﾙ) | I3: 路線名 | K3: 一般国道 376号 | O3: 定期点検実施者 | P3: 基礎地盤コンサルタンツ株式会社 | T3: 定期点検年月日 | X3: 45944
B4: 名 称 | F4: 大崩トンネル | I4: 管理者名 | K4: 周南土木建築事務所 | P4: 大谷 直毅
B5: 定期点検結果 | C5: 覆工 スパン 番号 | E5: 変状 番号 | F5: 距離 （m） | G5: 変状部位 | I5: 変 状 の 内 容 | O5: 前回定期点検時の状態 | P5: 今回定期点検結果 | T5: 措置履歴 | Y5: 対応方針 ・ 特記事項
O6: 44099
G7: 対象箇所 | H7: 部位区分 | I7: 変状区分 | J7: 変状種類 | M7: 変状の発生範囲の規模 | N7: 前回定期点検時の変状の発生範囲及び規模 | O7: 対策区分 | P7: 対策区分 | R7: 調査の 要否 | S7: 措置の 要否 | T7: 実施 | U7: 措置の実施状況
P8: 応急措置前 | Q8: 応急措置後
C9: 7 | E9: 2 | F9: 63.99 | G9: 覆工 | H9: アーチ（左側） | I9: 材質劣化 | J9: うき・はく離 | M9: 0.9m×0.4m | N9: 0.8m×0.9m | O9: Ⅱa | P9: - | Q9: Ⅱb | R9: 否 | S9: 要監視 | T9: 継続 | U9: 監視(日常) | Y9: 寸法変更 判定見直し
C10: 7 | E10: 3 | F10: 64.68 | G10: 覆工 | H10: アーチ（左側） | I10: 材質劣化 | J10: 圧ざ、ひび割れ | M10: 1.9m×6.2m | N10: 幅3.0mm 長さ6.9m 他(最大幅3.0mm) | O10: Ⅱa | P10: - | Q10: Ⅱa | R10: 否 | S10: 要監視 | T10: 継続 | U10: 監視(重点)
C11: 7 | E11: 4 | F11: 60.79 | G11: 覆工 | H11: 横断目地（左側） | I11: 漏水 | J11: 漏水 | M11: 7.2m×0.5m | N11: 7.4m×0.5m | O11: Ⅱa | P11: - | Q11: Ⅱa | R11: 否 | S11: 要監視 | T11: 継続 | U11: 監視(重点)
C12: 7 | E12: 5 | F12: 61.92 | G12: 覆工 | H12: アーチ（左側） | I12: 材質劣化 | J12: うき・はく離 | M12: 0.1m×1.5m | N12: 0.1m×1m | O12: Ⅱa | P12: - | Q12: Ⅱb | R12: 否 | S12: 要監視 | T12: 継続 | U12: 監視(日常) | Y12: 寸法変更 判定見直し
C13: 7 | E13: 6 | F13: 63.67 | G13: 覆工 | H13: アーチ（左側） | I13: 材質劣化 | J13: うき・はく離 | M13: 0.2m×0.1m | N13: 0.1m×0.15m | O13: Ⅱa | P13: - | Q13: Ⅱb | R13: 否 | S13: 要監視 | T13: 継続 | U13: 監視(日常) | Y13: 寸法変更 判定見直し
C14: 7 | E14: 7 | F14: 67.96 | G14: 覆工 | H14: アーチ（左側） | I14: 材質劣化 | J14: うき・はく離 | M14: 0.1m×0.3m | N14: 0.1m×0.3m | O14: Ⅱa | P14: - | Q14: Ⅲ | R14: 否 | S14: 要対策 | T14: 継続 | U14: 要対策 | Y14: 判定見直し
C15: 7 | E15: 8 | F15: 60.63 | G15: 覆工 | H15: 横断目地（右側） | I15: 漏水 | J15: その他 | M15: - | N15: 9.2m×0.5m | O15: Ⅱa | P15: - | Q15: Ⅰ | R15: 否 | S15: 否 | T15: 未 | U15: -
C16: 7 | E16: 9 | F16: 64.75 | G16: 覆工 | H16: アーチ（左側） | I16: 漏水 | J16: 漏水 | M16: 8.6m×0.5m | N16: 9.1m×0.5m | O16: Ⅱa | P16: - | Q16: Ⅱa | R16: 否 | S16: 要監視 | T16: 継続 | U16: 監視(重点)
C17: 7 | E17: 10 | F17: 67.64 | G17: 覆工 | H17: アーチ（右側） | I17: 材質劣化 | J17: うき・はく離 | M17: 0.3m×0.05m | N17: 0.3m×0.05m | O17: Ⅱa | P17: - | Q17: Ⅱb | R17: 否 | S17: 要監視 | T17: 継続 | U17: 監視(日常) | Y17: 判定見直し
C18: 7 | E18: 11 | F18: 66.52 | G18: 覆工 | H18: アーチ（右側） | I18: 材質劣化 | J18: うき・はく離 | M18: 0.9m×0.05m | N18: 0.9m×0.05m | O18: Ⅱa | P18: - | Q18: Ⅱb | R18: 否 | S18: 要監視 | T18: 継続 | U18: 監視(日常) | Y18: 判定見直し
C19: 7 | E19: 12 | F19: 61.36 | G19: 覆工 | H19: アーチ（右側） | I19: 材質劣化 | J19: 鋼材腐食 | M19: 0.1m×0.05m | N19: 0.1m×0.05m | O19: Ⅱb | P19: - | Q19: Ⅱb | R19: 否 | S19: 要監視 | T19: 継続 | U19: 監視(日常)
C20: 7 | E20: 13 | F20: 60.7 | G20: 覆工 | H20: 水平打ち継ぎ目（右側） | I20: 材質劣化 | J20: うき・はく離 | M20: 0.1m×10.4m | N20: 0.1m×10.4m | O20: Ⅱb | P20: - | Q20: Ⅱb | R20: 否 | S20: 要監視 | T20: 継続 | U20: 監視(日常)
C21: 7 | E21: 14 | F21: 71.07 | G21: 覆工 | H21: 横断目地（右側） | I21: 材質劣化 | J21: うき・はく離 | M21: 2.1m×0.05m | N21: 2.1m×0.05m | O21: Ⅱa | P21: - | Q21: Ⅱb | R21: 否 | S21: 要監視 | T21: 継続 | U21: 監視(日常) | Y21: 判定見直し
C22: 7 | E22: 15 | F22: 62.13 | G22: 路面 | H22: 歩道 | I22: 漏水 | J22: 滞水 | M22: - | N22: 1.1m×3.4m | O22: Ⅱb | P22: - | Q22: Ⅰ | R22: 否 | S22: 否 | T22: 未 | U22: -
C23: 7 | E23: 16 | F23: 64.03 | G23: 路面 | H23: 車道 | I23: 漏水 | J23: 滞水 | M23: - | N23: 1.1m×2.1m | O23: Ⅱb | P23: - | Q23: - | R23: 否 | S23: 否 | T23: 未 | U23: -
C24: 7 | E24: 17 | F24: 63.97 | G24: 覆工 | H24: 水平打ち継ぎ目（左側） | I24: 材質劣化 | J24: うき・はく離 | M24: 0.1m×1.5m | N24: - | O24: - | P24: - | Q24: Ⅱb | R24: 否 | S24: 要監視 | T24: 未 | U24: -
C25: 7 | E25: 18 | F25: 67.7 | G25: 覆工 | H25: 水平打ち継ぎ目（左側） | I25: 材質劣化 | J25: うき・はく離 | M25: 0.1m×3.2m | N25: - | O25: - | P25: - | Q25: Ⅱb | R25: 否 | S25: 要監視 | T25: 未 | U25: -
C26: 7 | E26: 19 | F26: 60.74 | G26: 覆工 | H26: アーチ（右側） | I26: 材質劣化 | J26: 鋼材腐食 | M26: 0.05m×0.05m | N26: - | O26: - | P26: - | Q26: Ⅱb | R26: 否 | S26: 要監視 | T26: 未 | U26: -
C27: 7 | E27: 20 | F27: 65.15 | G27: 覆工 | H27: アーチ（右側） | I27: 材質劣化 | J27: 鋼材腐食 | M27: 0.1m×0.1m | N27: - | O27: - | P27: - | Q27: Ⅱb | R27: 否 | S27: 要監視 | T27: 未 | U27: -
C28: 8 | E28: 1 | F28: 71.1 | G28: 覆工 | H28: アーチ（左側） | I28: 材質劣化 | J28: うき・はく離 | M28: 0.05m×0.15m | N28: 0.05m×0.15m | O28: Ⅱa | P28: - | Q28: Ⅱb | R28: 否 | S28: 要監視 | T28: 継続 | U28: 監視(日常) | Y28: 判定見直し
C29: 8 | E29: 2 | F29: 75.09 | G29: 覆工 | H29: 水平打ち継ぎ目（左側） | I29: 材質劣化 | J29: うき・はく離 | M29: 0.1m×2.7m | N29: 0.1m×1.5m | O29: Ⅱb | P29: - | Q29: Ⅱb | R29: 否 | S29: 要監視 | T29: 継続 | U29: 監視(日常) | Y29: 寸法変更
C30: 8 | E30: 3 | F30: 77 | G30: 覆工 | H30: アーチ（天端） | I30: 材質劣化 | J30: うき・はく離 | M30: 0.7m×0.1m | N30: 0.5m×1m | O30: Ⅱa | P30: - | Q30: Ⅱb | R30: 否 | S30: 要監視 | T30: 継続 | U30: 監視(日常) | Y30: 寸法変更 判定見直し
C31: 8 | E31: 4 | F31: 71.1 | G31: 覆工 | H31: 水平打ち継ぎ目（右側） | I31: 材質劣化 | J31: うき・はく離 | M31: 0.1m×10.4m | N31: 0.1m×10.4m | O31: Ⅱb | P31: - | Q31: Ⅱb | R31: 否 | S31: 要監視 | T31: 継続 | U31: 監視(日常)
C32: 8 | E32: 5 | F32: 68.1 | G32: 路面 | H32: 車道 | J32: その他 | M32: - | N32: 0.55m×6.25m | O32: Ⅱb | R32: 否 | S32: 否 | U32: -
C33: 8 | E33: 6 | F33: 78.02 | G33: 覆工 | H33: 側壁（左側） | I33: 漏水 | J33: 漏水 | M33: 0.6m×0.5m | N33: - | O33: - | P33: - | Q33: Ⅱa | R33: 否 | S33: 要監視 | T33: 未 | U33: -
C34: 8 | E34: 7 | F34: 71.1 | G34: 覆工 | H34: 水平打ち継ぎ目（左側） | I34: 材質劣化 | J34: うき・はく離 | M34: 0.1m×3.8m | N34: - | O34: - | P34: - | Q34: Ⅱb | R34: 否 | S34: 要監視 | T34: 未 | U34: -
C35: 8 | E35: 8 | F35: 78.27 | G35: 覆工 | H35: 水平打ち継ぎ目（左側） | I35: 材質劣化 | J35: うき・はく離 | M35: 0.1m×3.3m | N35: - | O35: - | P35: - | Q35: Ⅱb | R35: 否 | S35: 要監視 | T35: 未 | U35: -
C36: 8 | E36: 9 | F36: 71.1 | G36: 覆工 | H36: アーチ（左側） | I36: 漏水 | J36: 漏水 | M36: 4.7m×0.5m | N36: - | O36: - | P36: - | Q36: Ⅱb | R36: 否 | S36: 要監視 | T36: 未 | U36: -
C37: 8 | E37: 10 | F37: 71.89 | G37: 覆工 | H37: アーチ（左側） | I37: 材質劣化 | J37: 圧ざ、ひび割れ | M37: 0.1m×0.6m | N37: - | O37: - | P37: - | Q37: Ⅱb | R37: 否 | S37: 要監視 | T37: 未 | U37: -
C38: 8 | E38: 11 | F38: 81.13 | G38: 覆工 | H38: 横断目地（左側） | I38: 漏水 | J38: 漏水 | M38: 9.6m×0.7m | N38: - | O38: - | P38: - | Q38: Ⅱb | R38: 否 | S38: 要監視 | T38: 未 | U38: -
C39: 8 | E39: 12 | F39: 79.86 | G39: 覆工 | H39: 側壁（右側） | I39: 材質劣化 | J39: うき・はく離 | M39: 0.2m×0.2m | N39: 0.2m×0.2m | O39: Ⅱb | P39: - | Q39: Ⅱb | R39: 否 | S39: 要監視 | T39: 継続 | U39: 監視(日常)
C40: 9 | E40: 1 | F40: 85.57 | G40: 覆工 | H40: 水平打ち継ぎ目（左側） | I40: 材質劣化 | J40: うき・はく離 | M40: 0.1m×3.2m | N40: 0.1m×3.8m | O40: Ⅱb | P40: - | Q40: Ⅱb | R40: 否 | S40: 要監視 | T40: 継続 | U40: 監視(日常) | Y40: 寸法変更
C41: 9 | E41: 2 | F41: 86.29 | G41: 覆工 | H41: アーチ（右側） | I41: 材質劣化 | J41: うき・はく離 | M41: 0.5m×0.05m | N41: 0.5m×0.05m | O41: Ⅱa | P41: - | Q41: Ⅱb | R41: 否 | S41: 要監視 | T41: 継続 | U41: 監視(日常) | Y41: 判定見直し
...

Sheet 様式C-1-1_005
B2: ■定期点検記録様式 全スパン定期点検結果総括表（トンネル本体工） 【様式C-1-1】
B3: フリガナ | F3: (ｵｵﾂﾞｴﾄﾝﾈﾙ) | I3: 路線名 | K3: 一般国道 376号 | O3: 定期点検実施者 | P3: 基礎地盤コンサルタンツ株式会社 | T3: 定期点検年月日 | X3: 45944
B4: 名 称 | F4: 大崩トンネル | I4: 管理者名 | K4: 周南土木建築事務所 | P4: 大谷 直毅
B5: 定期点検結果 | C5: 覆工 スパン 番号 | E5: 変状 番号 | F5: 距離 （m） | G5: 変状部位 | I5: 変 状 の 内 容 | O5: 前回定期点検時の状態 | P5: 今回定期点検結果 | T5: 措置履歴 | Y5: 対応方針 ・ 特記事項
O6: 44099
G7: 対象箇所 | H7: 部位区分 | I7: 変状区分 | J7: 変状種類 | M7: 変状の発生範囲の規模 | N7: 前回定期点検時の変状の発生範囲及び規模 | O7: 対策区分 | P7: 対策区分 | R7: 調査の 要否 | S7: 措置の 要否 | T7: 実施 | U7: 措置の実施状況
P8: 応急措置前 | Q8: 応急措置後
C9: 9 | E9: 4 | F9: 81.5 | G9: 覆工 | H9: 水平打ち継ぎ目（右側） | I9: 材質劣化 | J9: うき・はく離 | M9: 0.1m×7.5m | N9: 0.1m×7.5m | O9: Ⅱb | P9: - | Q9: Ⅱb | R9: 否 | S9: 要監視 | T9: 継続 | U9: 監視(日常)
C10: 9 | E10: 5 | F10: 84.51 | G10: 覆工 | H10: 側壁（右側） | I10: 外力 | J10: 圧ざ、ひび割れ | M10: L=1.6m×W=5.0mm | N10: 幅5.0mm 長さ1.6m | O10: Ⅱa | P10: - | Q10: Ⅱb | R10: 否 | S10: 要監視 | T10: 継続 | U10: 監視(日常) | Y10: 判定見直し
C11: 9 | E11: 6 | F11: 81.5 | G11: 路面 | H11: 車道 | J11: その他 | M11: - | N11: 0.6m×8.7m | O11: Ⅱb | R11: 否 | S11: 否 | U11: -
C12: 9 | E12: 7 | F12: 81.5 | G12: 覆工 | H12: 水平打ち継ぎ目（左側） | I12: 材質劣化 | J12: うき・はく離 | M12: 0.1m×3.8m | N12: - | O12: - | P12: - | Q12: Ⅱb | R12: 否 | S12: 要監視 | T12: 未 | U12: -
C13: 9 | E13: 8 | F13: 81.55 | G13: 覆工 | H13: アーチ（左側） | I13: 材質劣化 | J13: 鋼材腐食 | M13: 0.05m×0.05m | N13: - | O13: - | P13: - | Q13: Ⅱb | R13: 否 | S13: 要監視 | T13: 未 | U13: -
C14: 9 | E14: 9 | F14: 85.62 | G14: 覆工 | H14: アーチ（右側） | I14: 材質劣化 | J14: 圧ざ、ひび割れ | M14: 0.05m×0.2m | N14: - | O14: - | P14: - | Q14: Ⅱb | R14: 否 | S14: 要監視 | T14: 未 | U14: -
C43: ※ 対策区分（応急措置後）のⅡb～Ⅳについて記入すること。また、点検前に実施された措置によりⅠと判定された変状も記入すること。
C44: ※ 応急措置を実施しないで判定した変状の対策区分は、対策区分の応急措置後の欄に記入すること。
C45: ※ 変状の除去が不完全で、緊急対応が必要な場合は対応方針欄に記入すること。
C46: ※ １区間の覆工に複数の変状がある場合は、変状箇所毎に記入すること。
C47: ※ 措置・監視点検を行った場合には、措置履歴、特記事項に記録を残すこと。（実施年度も記載）
C48: ※ 行が不足する場合は、適時、表の行を増やすこと。

Sheet 様式C-1-2
B2: ■定期点検記録様式 定期点検結果総括表（トンネル内附属物等の取付状態） 【様式C-1-2】
B3: フリガナ | F3: (ｵｵﾂﾞｴﾄﾝﾈﾙ) | J3: 路線名 | K3: 一般国道 376号 | M3: 定期点検実施者 | O3: 基礎地盤コンサルタンツ株式会社 | S3: 定期点検年月日 | W3: 45944
B4: 名 称 | F4: 大崩トンネル | J4: 管理者名 | K4: 周南土木建築事務所 | O4: 大谷 直毅
B5: 定期点検結果 | C5: 覆工 スパン 番号 | E5: 異常 番号 | F5: 距離 （m） | G5: 異常部位 | J5: 異 常 の 内 容 | N5: 定期点検結果 | P5: 応急措置の 実施状況 | V5: 対応方針 ・ 特記事項
G6: 対象箇所 | I6: 部位区分 | J6: 異常種類 | L6: 異常の発生範囲の規模 | N6: 異常判定区分 | P6: 実施 | Q6: 応急措置の内容
N7: 応急措置前 | O7: 応急措置後
C8: 2 | E8: 101 | F8: 11.17 | G8: その他施設 | H8: その他 | I8: 取付部材 | J8: 腐食 | L8: 1箇所 | O8: × | P8: 未
C9: 2 | E9: 102 | F9: 16.49 | G9: その他施設 | H9: その他 | I9: 取付部材 | J9: 腐食 | L9: 1箇所 | O9: × | P9: 未
C10: 3 | E10: 101 | F10: 21.54 | G10: その他施設 | H10: その他 | I10: 取付部材 | J10: 腐食 | L10: 1箇所 | O10: × | P10: 未
C11: 4 | E11: 101 | F11: 31.86 | G11: その他施設 | H11: その他 | I11: 取付部材 | J11: 変形，欠損 | L11: 1箇所 | O11: × | P11: 未
C12: 4 | E12: 102 | F12: 37.26 | G12: その他施設 | H12: その他 | I12: 取付部材 | J12: 腐食 | L12: 1箇所 | O12: × | P12: 未
C13: 5 | E13: 101 | F13: 42.31 | G13: その他施設 | H13: その他 | I13: 取付部材 | J13: 腐食 | L13: 1箇所 | O13: × | P13: 未
C14: 6 | E14: 101 | F14: 52.74 | G14: その他施設 | H14: その他 | I14: 取付部材 | J14: 変形，欠損 | L14: 1箇所 | O14: × | P14: 未
C15: 8 | E15: 101 | F15: 78.91 | G15: その他施設 | H15: その他 | I15: 取付部材 | J15: 腐食 | L15: 1箇所 | O15: × | P15: 未
C16: 9 | E16: 101 | F16: 84.03 | G16: その他施設 | H16: その他 | I16: 取付部材 | J16: 変形，欠損 | L16: 1箇所 | O16: × | P16: 未
C17: 9 | E17: 102 | F17: 88.31 | G17: その他施設 | H17: その他 | I17: 取付部材 | J17: 変形，欠損 | L17: 1箇所 | O17: × | P17: 未
C42: ※ 異常判定区分×について記入すること。また、応急措置により○と判定された箇所も記入すること。
C43: ※ 応急措置を実施しないで判定した箇所の異常判定区分は、異常判定区分の応急措置後の欄に記入すること。
C44: ※ 異常の除去が不完全で、緊急対応が必要な場合は対応方針欄に記入すること。
C45: ※ １スパンの覆工に複数の異常がある場合は、異常箇所毎に記入すること。
C46: ※ 行が不足する場合は、適時、表の行を増やすこと。

Sheet 様式C-2
B2: ■定期点検記録様式 状態の把握の内容 【様式C-2】
B3: フリガナ | E3: (ｵｵﾂﾞｴﾄﾝﾈﾙ) | H3: 路線名 | J3: 一般国道 376号 | M3: 定期点検実施者 | Q3: 基礎地盤コンサルタンツ株式会社 | U3: 定期点検年月日 | X3: 45944
B4: 名 称 | E4: 大崩トンネル | H4: 管理者名 | J4: 周南土木建築事務所 | Q4: 大谷 直毅
B5: 状態の把握の内容 | C5: 覆工スパン 番号 | E5: 変状 番号 | F5: 状態の把握の内容
F6: 年月日 | H6: 内容 | O6: 結果 | Y6: 対策区分の 判定
B22: 注）状態の把握において、微破壊・非破壊検査や各種試験等を実施した場合について記載する。
B23: ※ 行が不足する場合は、適時、表の行を増やすこと。

Sheet 様式D-1-1_001
B2: ■定期点検記録様式 変状写真台帳【様式D-1-1】 | R2: 施設ID | T2: 34.16361,131.77622
B3: フリガナ | E3: (ｵｵﾂﾞｴﾄﾝﾈﾙ) | H3: 路 線 名 | J3: 一般国道 376号 | M3: 定期点検実施者 | P3: 基礎地盤コンサルタンツ株式会社 | S3: 定期点検年月日 | U3: 45944
B4: 名 称 | E4: 大崩トンネル | H4: 管理者名 | J4: 周南土木建築事務所 | P4: 大谷 直毅
B5: 写真 番号 | C5: 覆工スパン 番号 | E5: 1 | M5: 写真 番号 | N5: 覆工スパン 番号 | P5: 1
C6: 変状番号 | E6: 1 | N6: 変状番号 | P6: 2
B7: 変状 部位 | C7: 対象箇所 | E7: 覆工 | M7: 変状 部位 | N7: 対象箇所 | P7: 覆工
C8: 部位区分 | E8: アーチ（左側） | N8: 部位区分 | P8: 水平打ち継ぎ目（左側）
B9: 変状種類 | E9: うき・はく離 | M9: 変状種類 | P9: うき・はく離
B10: 対策 区分 | C10: 変状区分 | E10: 材質劣化 | M10: 対策 区分 | N10: 変状区分 | P10: 材質劣化
C11: 応急措置前 | E11: - | N11: 応急措置前 | P11: -
C12: 応急措置後 | E12: Ⅱb | N12: 応急措置後 | P12: Ⅱb
B13: 変状の発生範囲及び規模 | E13: 0.05m×0.2m | H13: 前回変状の発生範囲及び規模 | J13: うき 0.05m×0.2m | M13: 変状の発生範囲及び規模 | P13: 0.1m×5.2m | S13: 前回変状の発生範囲及び規模 | U13: うき 0.1m×5.2m
B14: 対策履歴 | E14: - | H14: 実施状況（実施日） | J14: - | M14: 対策履歴 | P14: - | S14: 実施状況（実施日） | U14: -
B15: メモ | E15: アーチのひび割れ沿いのうき 経過観察が望まれる | M15: メモ | P15: 水平打ち継ぎ目のうき 経過観察が望まれる
B16: 写真 番号 | C16: 覆工スパン 番号 | E16: 1 | M16: 写真 番号 | N16: 覆工スパン 番号 | P16: 1
C17: 変状番号 | E17: 3 | N17: 変状番号 | P17: 4
B18: 変状 部位 | C18: 対象箇所 | E18: 覆工 | M18: 変状 部位 | N18: 対象箇所 | P18: 覆工
C19: 部位区分 | E19: アーチ（右側） | N19: 部位区分 | P19: 水平打ち継ぎ目（右側）
B20: 変状種類 | E20: 鋼材腐食 | M20: 変状種類 | P20: うき・はく離
B21: 対策 区分 | C21: 変状区分 | E21: 材質劣化 | M21: 対策 区分 | N21: 変状区分 | P21: 材質劣化
C22: 応急措置前 | E22: - | N22: 応急措置前 | P22: -
C23: 応急措置後 | E23: Ⅱb | N23: 応急措置後 | P23: Ⅱb
B24: 変状の発生範囲及び規模 | E24: 0.05m×0.05m | H24: 前回変状の発生範囲及び規模 | J24: 鋼材露出 0.05m×0.05m | M24: 変状の発生範囲及び規模 | P24: 0.1m×6.1m | S24: 前回変状の発生範囲及び規模 | U24: うき 0.1m×6.6m
B25: 対策履歴 | E25: - | H25: 実施状況（実施日） | J25: - | M25: 対策履歴 | P25: - | S25: 実施状況（実施日） | U25: -
B26: メモ | E26: アーチの鋼材腐食 経過観察が望まれる | M26: メモ | P26: 水平打ち継ぎ目のうき 経過観察が望まれる
C27: ※ 応急措置後の対策区分について添付すること。また、点検前に 実施された措置によりⅠと判定された箇所も添付すること。 | N27: ※ 変状の発生範囲の規模とは、対策を行う際に参考となる変状の長さや面積をいう。
N28: ※ 応急措置を実施しないで決定した変状の対策区分は、対策区分の応急措置後の欄に記入すること。
C29: ※ たたき落としを実施した場合は、実施後の写真を添付すること。 | N29: ※ 変状の発生範囲の規模は、面積・寸法を記載すること。(ひび割れ幅のみmmとし、その他をm表記とする)
C30: ※ 附属物の取付状態に関する異常写真は別途、任意の書式でとりまとめること。 | N30: ※ 構造用鋼材以外の異物に伴ううき・はく離については、メモ欄に異物の概要を記入すること。

Sheet 様式D-1-1_002
B2: ■定期点検記録様式 変状写真台帳【様式D-1-1】 | R2: 施設ID | T2: 34.16361,131.77622
B3: フリガナ | E3: (ｵｵﾂﾞｴﾄﾝﾈﾙ) | H3: 路 線 名 | J3: 一般国道 376号 | M3: 定期点検実施者 | P3: 基礎地盤コンサルタンツ株式会社 | S3: 定期点検年月日 | U3: 45944
B4: 名 称 | E4: 大崩トンネル | H4: 管理者名 | J4: 周南土木建築事務所 | P4: 大谷 直毅
B5: 写真 番号 | C5: 覆工スパン 番号 | E5: 1 | M5: 写真 番号 | N5: 覆工スパン 番号 | P5: 1
C6: 変状番号 | E6: 5 | N6: 変状番号 | P6: 6
B7: 変状 部位 | C7: 対象箇所 | E7: 覆工 | M7: 変状 部位 | N7: 対象箇所 | P7: 覆工
C8: 部位区分 | E8: 横断目地（右側） | N8: 部位区分 | P8: アーチ（左側）
B9: 変状種類 | E9: うき・はく離 | M9: 変状種類 | P9: 圧ざ、ひび割れ
B10: 対策 区分 | C10: 変状区分 | E10: 材質劣化 | M10: 対策 区分 | N10: 変状区分 | P10: 材質劣化
C11: 応急措置前 | E11: - | N11: 応急措置前 | P11: -
C12: 応急措置後 | E12: Ⅲ | N12: 応急措置後 | P12: Ⅱb
B13: 変状の発生範囲及び規模 | E13: 0.5m×0.05m | H13: 前回変状の発生範囲及び規模 | J13: うき 0.5m×0.05m | M13: 変状の発生範囲及び規模 | P13: 6.0m×8.7m | S13: 前回変状の発生範囲及び規模 | U13: 新規
B14: 対策履歴 | E14: - | H14: 実施状況（実施日） | J14: - | M14: 対策履歴 | P14: - | S14: 実施状況（実施日） | U14: -
B15: メモ | E15: 横断目地のブロック化箇所のうき 早急な対策が望まれる | M15: メモ | P15: アーチの密集したひび割れ(一部ブロック化) 経過観察が望まれる
B16: 写真 番号 | C16: 覆工スパン 番号 | E16: 1 | M16: 写真 番号 | N16: 覆工スパン 番号 | P16: 2
C17: 変状番号 | E17: 7 | N17: 変状番号 | P17: 1
B18: 変状 部位 | C18: 対象箇所 | E18: 覆工 | M18: 変状 部位 | N18: 対象箇所 | P18: 覆工
C19: 部位区分 | E19: アーチ（右側） | N19: 部位区分 | P19: 水平打ち継ぎ目（左側）
B20: 変状種類 | E20: 圧ざ、ひび割れ | M20: 変状種類 | P20: うき・はく離
B21: 対策 区分 | C21: 変状区分 | E21: 材質劣化 | M21: 対策 区分 | N21: 変状区分 | P21: 材質劣化
C22: 応急措置前 | E22: - | N22: 応急措置前 | P22: -
C23: 応急措置後 | E23: Ⅱb | N23: 応急措置後 | P23: Ⅱb
B24: 変状の発生範囲及び規模 | E24: 7.4m×8.7m | H24: 前回変状の発生範囲及び規模 | J24: 新規 | M24: 変状の発生範囲及び規模 | P24: 0.1m×10.4m | S24: 前回変状の発生範囲及び規模 | U24: うき 0.1m×9m(他1箇所)
B25: 対策履歴 | E25: - | H25: 実施状況（実施日） | J25: - | M25: 対策履歴 | P25: - | S25: 実施状況（実施日） | U25: -
B26: メモ | E26: アーチの密集したひび割れ(一部ブロック化) 経過観察が望まれる | M26: メモ | P26: 水平打ち継ぎ目のうき 経過観察が望まれる
C27: ※ 応急措置後の対策区分について添付すること。また、点検前に 実施された措置によりⅠと判定された箇所も添付すること。 | N27: ※ 変状の発生範囲の規模とは、対策を行う際に参考となる変状の長さや面積をいう。
N28: ※ 応急措置を実施しないで決定した変状の対策区分は、対策区分の応急措置後の欄に記入すること。
C29: ※ たたき落としを実施した場合は、実施後の写真を添付すること。 | N29: ※ 変状の発生範囲の規模は、面積・寸法を記載すること。(ひび割れ幅のみmmとし、その他をm表記とする)
C30: ※ 附属物の取付状態に関する異常写真は別途、任意の書式でとりまとめること。 | N30: ※ 構造用鋼材以外の異物に伴ううき・はく離については、メモ欄に異物の概要を記入すること。

Sheet 様式D-1-1_003
B2: ■定期点検記録様式 変状写真台帳【様式D-1-1】 | R2: 施設ID | T2: 34.16361,131.77622
B3: フリガナ | E3: (ｵｵﾂﾞｴﾄﾝﾈﾙ) | H3: 路 線 名 | J3: 一般国道 376号 | M3: 定期点検実施者 | P3: 基礎地盤コンサルタンツ株式会社 | S3: 定期点検年月日 | U3: 45944
B4: 名 称 | E4: 大崩トンネル | H4: 管理者名 | J4: 周南土木建築事務所 | P4: 大谷 直毅
B5: 写真 番号 | C5: 覆工スパン 番号 | E5: 2 | M5: 写真 番号 | N5: 覆工スパン 番号 | P5: 2
C6: 変状番号 | E6: 2 | N6: 変状番号 | P6: 3
B7: 変状 部位 | C7: 対象箇所 | E7: 覆工 | M7: 変状 部位 | N7: 対象箇所 | P7: 覆工
C8: 部位区分 | E8: 横断目地（左側） | N8: 部位区分 | P8: 横断目地（左側）
B9: 変状種類 | E9: うき・はく離 | M9: 変状種類 | P9: うき・はく離
B10: 対策 区分 | C10: 変状区分 | E10: 材質劣化 | M10: 対策 区分 | N10: 変状区分 | P10: 材質劣化
C11: 応急措置前 | E11: - | N11: 応急措置前 | P11: -
C12: 応急措置後 | E12: Ⅱb | N12: 応急措置後 | P12: Ⅲ
B13: 変状の発生範囲及び規模 | E13: 0.3m×0.05m | H13: 前回変状の発生範囲及び規模 | J13: うき 0.3m×0.05m | M13: 変状の発生範囲及び規模 | P13: 0.1m×0.1m | S13: 前回変状の発生範囲及び規模 | U13: うき 0.1m×0.1m
B14: 対策履歴 | E14: - | H14: 実施状況（実施日） | J14: - | M14: 対策履歴 | P14: - | S14: 実施状況（実施日） | U14: -
B15: メモ | E15: 横断目地のうき 経過観察が望まれる | M15: メモ | P15: 横断目地の補修跡のうき 早急な対策が望まれる
B16: 写真 番号 | C16: 覆工スパン 番号 | E16: 2 | M16: 写真 番号 | N16: 覆工スパン 番号 | P16: 2
C17: 変状番号 | E17: 4 | N17: 変状番号 | P17: 5
B18: 変状 部位 | C18: 対象箇所 | E18: 覆工 | M18: 変状 部位 | N18: 対象箇所 | P18: 覆工
C19: 部位区分 | E19: アーチ（左側） | N19: 部位区分 | P19: 横断目地（右側）
B20: 変状種類 | E20: 漏水 | M20: 変状種類 | P20: うき・はく離
B21: 対策 区分 | C21: 変状区分 | E21: 漏水 | M21: 対策 区分 | N21: 変状区分 | P21: 材質劣化
C22: 応急措置前 | E22: - | N22: 応急措置前 | P22: -
C23: 応急措置後 | E23: Ⅱb | N23: 応急措置後 | P23: Ⅱb
B24: 変状の発生範囲及び規模 | E24: 7.9m×0.8m | H24: 前回変状の発生範囲及び規模 | J24: 滴水 8.2m×0.5m | M24: 変状の発生範囲及び規模 | P24: 0.5m×0.05m | S24: 前回変状の発生範囲及び規模 | U24: うき 0.5m×0.05m
B25: 対策履歴 | E25: - | H25: 実施状況（実施日） | J25: - | M25: 対策履歴 | P25: - | S25: 実施状況（実施日） | U25: -
B26: メモ | E26: アーチのにじみ 経過観察が望まれる | M26: メモ | P26: 横断目地のうき 経過観察が望まれる
C27: ※ 応急措置後の対策区分について添付すること。また、点検前に 実施された措置によりⅠと判定された箇所も添付すること。 | N27: ※ 変状の発生範囲の規模とは、対策を行う際に参考となる変状の長さや面積をいう。
N28: ※ 応急措置を実施しないで決定した変状の対策区分は、対策区分の応急措置後の欄に記入すること。
C29: ※ たたき落としを実施した場合は、実施後の写真を添付すること。 | N29: ※ 変状の発生範囲の規模は、面積・寸法を記載すること。(ひび割れ幅のみmmとし、その他をm表記とする)
C30: ※ 附属物の取付状態に関する異常写真は別途、任意の書式でとりまとめること。 | N30: ※ 構造用鋼材以外の異物に伴ううき・はく離については、メモ欄に異物の概要を記入すること。

Sheet 様式D-1-1_004
B2: ■定期点検記録様式 変状写真台帳【様式D-1-1】 | R2: 施設ID | T2: 34.16361,131.77622
B3: フリガナ | E3: (ｵｵﾂﾞｴﾄﾝﾈﾙ) | H3: 路 線 名 | J3: 一般国道 376号 | M3: 定期点検実施者 | P3: 基礎地盤コンサルタンツ株式会社 | S3: 定期点検年月日 | U3: 45944
B4: 名 称 | E4: 大崩トンネル | H4: 管理者名 | J4: 周南土木建築事務所 | P4: 大谷 直毅
B5: 写真 番号 | C5: 覆工スパン 番号 | E5: 2 | M5: 写真 番号 | N5: 覆工スパン 番号 | P5: 2
C6: 変状番号 | E6: 6 | N6: 変状番号 | P6: 7
B7: 変状 部位 | C7: 対象箇所 | E7: 覆工 | M7: 変状 部位 | N7: 対象箇所 | P7: 覆工
C8: 部位区分 | E8: 水平打ち継ぎ目（右側） | N8: 部位区分 | P8: アーチ（右側）
B9: 変状種類 | E9: うき・はく離 | M9: 変状種類 | P9: うき・はく離
B10: 対策 区分 | C10: 変状区分 | E10: 材質劣化 | M10: 対策 区分 | N10: 変状区分 | P10: 材質劣化
C11: 応急措置前 | E11: - | N11: 応急措置前 | P11: -
C12: 応急措置後 | E12: Ⅱb | N12: 応急措置後 | P12: Ⅱb
B13: 変状の発生範囲及び規模 | E13: 0.1m×10.4m | H13: 前回変状の発生範囲及び規模 | J13: うき 0.1m×10.4m | M13: 変状の発生範囲及び規模 | P13: 0.2m×0.1m | S13: 前回変状の発生範囲及び規模 | U13: うき 0.2m×0.1m
B14: 対策履歴 | E14: - | H14: 実施状況（実施日） | J14: - | M14: 対策履歴 | P14: - | S14: 実施状況（実施日） | U14: -
B15: メモ | E15: 水平打ち継ぎ目のうき 経過観察が望まれる | M15: メモ | P15: アーチのひび割れ沿いのうき 経過観察が望まれる
B16: 写真 番号 | C16: 覆工スパン 番号 | E16: 2 | M16: 写真 番号 | N16: 覆工スパン 番号 | P16: 2
C17: 変状番号 | E17: 8 | N17: 変状番号 | P17: 9
B18: 変状 部位 | C18: 対象箇所 | E18: 覆工 | M18: 変状 部位 | N18: 対象箇所 | P18: 路面
C19: 部位区分 | E19: アーチ（右側） | N19: 部位区分 | P19: 車道
B20: 変状種類 | E20: その他 | M20: 変状種類 | P20: その他
B21: 対策 区分 | C21: 変状区分 | E21: 漏水 | M21: 対策 区分 | N21: 変状区分
C22: 応急措置前 | E22: - | N22: 応急措置前
C23: 応急措置後 | E23: Ⅰ | N23: 応急措置後
B24: 変状の発生範囲及び規模 | E24: - | H24: 前回変状の発生範囲及び規模 | J24: 滴水 6.8m×0.5m | M24: 変状の発生範囲及び規模 | P24: - | S24: 前回変状の発生範囲及び規模 | U24: 土砂・落葉堆積 0.7m×6.4m
B25: 対策履歴 | E25: - | H25: 実施状況（実施日） | J25: - | M25: 対策履歴 | P25: - | S25: 実施状況（実施日） | U25: -
B26: メモ | E26: アーチの遊離石灰 今回点検時漏水は確認されなかった | M26: メモ | P26: 車道の土砂堆積(t=100mm)
C27: ※ 応急措置後の対策区分について添付すること。また、点検前に 実施された措置によりⅠと判定された箇所も添付すること。 | N27: ※ 変状の発生範囲の規模とは、対策を行う際に参考となる変状の長さや面積をいう。
N28: ※ 応急措置を実施しないで決定した変状の対策区分は、対策区分の応急措置後の欄に記入すること。
C29: ※ たたき落としを実施した場合は、実施後の写真を添付すること。 | N29: ※ 変状の発生範囲の規模は、面積・寸法を記載すること。(ひび割れ幅のみmmとし、その他をm表記とする)
C30: ※ 附属物の取付状態に関する異常写真は別途、任意の書式でとりまとめること。 | N30: ※ 構造用鋼材以外の異物に伴ううき・はく離については、メモ欄に異物の概要を記入すること。

Sheet 様式D-1-1_005
B2: ■定期点検記録様式 変状写真台帳【様式D-1-1】 | R2: 施設ID | T2: 34.16361,131.77622
B3: フリガナ | E3: (ｵｵﾂﾞｴﾄﾝﾈﾙ) | H3: 路 線 名 | J3: 一般国道 376号 | M3: 定期点検実施者 | P3: 基礎地盤コンサルタンツ株式会社 | S3: 定期点検年月日 | U3: 45944
B4: 名 称 | E4: 大崩トンネル | H4: 管理者名 | J4: 周南土木建築事務所 | P4: 大谷 直毅
B5: 写真 番号 | C5: 覆工スパン 番号 | E5: 2 | M5: 写真 番号 | N5: 覆工スパン 番号 | P5: 2
C6: 変状番号 | E6: 10 | N6: 変状番号 | P6: 11
B7: 変状 部位 | C7: 対象箇所 | E7: 覆工 | M7: 変状 部位 | N7: 対象箇所 | P7: 覆工
C8: 部位区分 | E8: アーチ（左側） | N8: 部位区分 | P8: アーチ（左側）
B9: 変状種類 | E9: 鋼材腐食 | M9: 変状種類 | P9: 漏水
B10: 対策 区分 | C10: 変状区分 | E10: 材質劣化 | M10: 対策 区分 | N10: 変状区分 | P10: 漏水
C11: 応急措置前 | E11: - | N11: 応急措置前 | P11: -
C12: 応急措置後 | E12: Ⅱb | N12: 応急措置後 | P12: Ⅱb
B13: 変状の発生範囲及び規模 | E13: 0.05m×0.05m 3箇所 | H13: 前回変状の発生範囲及び規模 | J13: 新規 | M13: 変状の発生範囲及び規模 | P13: 4.9m×0.5m | S13: 前回変状の発生範囲及び規模 | U13: 新規
B14: 対策履歴 | E14: - | H14: 実施状況（実施日） | J14: - | M14: 対策履歴 | P14: - | S14: 実施状況（実施日） | U14: -
B15: メモ | E15: アーチの鋼材腐食 経過観察が望まれる | M15: メモ | P15: アーチのにじみ 経過観察が望まれる
B16: 写真 番号 | C16: 覆工スパン 番号 | E16: 2 | M16: 写真 番号 | N16: 覆工スパン 番号 | P16: 2
C17: 変状番号 | E17: 12 | N17: 変状番号 | P17: 13
B18: 変状 部位 | C18: 対象箇所 | E18: 覆工 | M18: 変状 部位 | N18: 対象箇所 | P18: 覆工
C19: 部位区分 | E19: アーチ（左側） | N19: 部位区分 | P19: アーチ（右側）
B20: 変状種類 | E20: 圧ざ、ひび割れ | M20: 変状種類 | P20: 鋼材腐食
B21: 対策 区分 | C21: 変状区分 | E21: 材質劣化 | M21: 対策 区分 | N21: 変状区分 | P21: 材質劣化
C22: 応急措置前 | E22: - | N22: 応急措置前 | P22: -
C23: 応急措置後 | E23: Ⅱb | N23: 応急措置後 | P23: Ⅱb
B24: 変状の発生範囲及び規模 | E24: 3.9m×4.7m | H24: 前回変状の発生範囲及び規模 | J24: 新規 | M24: 変状の発生範囲及び規模 | P24: 0.05m×0.05m 2箇所 | S24: 前回変状の発生範囲及び規模 | U24: 新規
B25: 対策履歴 | E25: - | H25: 実施状況（実施日） | J25: - | M25: 対策履歴 | P25: - | S25: 実施状況（実施日） | U25: -
B26: メモ | E26: アーチのブロック化が懸念されるひび割れ 経過観察が望まれる | M26: メモ | P26: アーチの鋼材腐食 経過観察が望まれる
C27: ※ 応急措置後の対策区分について添付すること。また、点検前に 実施された措置によりⅠと判定された箇所も添付すること。 | N27: ※ 変状の発生範囲の規模とは、対策を行う際に参考となる変状の長さや面積をいう。
N28: ※ 応急措置を実施しないで決定した変状の対策区分は、対策区分の応急措置後の欄に記入すること。
C29: ※ たたき落としを実施した場合は、実施後の写真を添付すること。 | N29: ※ 変状の発生範囲の規模は、面積・寸法を記載すること。(ひび割れ幅のみmmとし、その他をm表記とする)
C30: ※ 附属物の取付状態に関する異常写真は別途、任意の書式でとりまとめること。 | N30: ※ 構造用鋼材以外の異物に伴ううき・はく離については、メモ欄に異物の概要を記入すること。

Sheet 様式D-1-1_006
B2: ■定期点検記録様式 変状写真台帳【様式D-1-1】 | R2: 施設ID | T2: 34.16361,131.77622
B3: フリガナ | E3: (ｵｵﾂﾞｴﾄﾝﾈﾙ) | H3: 路 線 名 | J3: 一般国道 376号 | M3: 定期点検実施者 | P3: 基礎地盤コンサルタンツ株式会社 | S3: 定期点検年月日 | U3: 45944
B4: 名 称 | E4: 大崩トンネル | H4: 管理者名 | J4: 周南土木建築事務所 | P4: 大谷 直毅
B5: 写真 番号 | C5: 覆工スパン 番号 | E5: 3 | M5: 写真 番号 | N5: 覆工スパン 番号 | P5: 3
C6: 変状番号 | E6: 1 | N6: 変状番号 | P6: 2
B7: 変状 部位 | C7: 対象箇所 | E7: 覆工 | M7: 変状 部位 | N7: 対象箇所 | P7: 覆工
C8: 部位区分 | E8: 水平打ち継ぎ目（左側） | N8: 部位区分 | P8: 横断目地（左側）
B9: 変状種類 | E9: うき・はく離 | M9: 変状種類 | P9: うき・はく離
B10: 対策 区分 | C10: 変状区分 | E10: 材質劣化 | M10: 対策 区分 | N10: 変状区分 | P10: 材質劣化
C11: 応急措置前 | E11: - | N11: 応急措置前 | P11: -
C12: 応急措置後 | E12: Ⅱb | N12: 応急措置後 | P12: Ⅱb
B13: 変状の発生範囲及び規模 | E13: 0.1m×10.4m | H13: 前回変状の発生範囲及び規模 | J13: うき 0.1m×9.3m(他1箇所) | M13: 変状の発生範囲及び規模 | P13: 1.0m×0.1m | S13: 前回変状の発生範囲及び規模 | U13: うき 1m×0.1m
B14: 対策履歴 | E14: - | H14: 実施状況（実施日） | J14: - | M14: 対策履歴 | P14: - | S14: 実施状況（実施日） | U14: -
B15: メモ | E15: 水平打ち継ぎ目のうき 経過観察が望まれる | M15: メモ | P15: 横断目地のうき 経過観察が望まれる
B16: 写真 番号 | C16: 覆工スパン 番号 | E16: 3 | M16: 写真 番号 | N16: 覆工スパン 番号 | P16: 3
C17: 変状番号 | E17: 3 | N17: 変状番号 | P17: 4
B18: 変状 部位 | C18: 対象箇所 | E18: 覆工 | M18: 変状 部位 | N18: 対象箇所 | P18: 覆工
C19: 部位区分 | E19: アーチ（右側） | N19: 部位区分 | P19: アーチ（右側）
B20: 変状種類 | E20: うき・はく離 | M20: 変状種類 | P20: うき・はく離
B21: 対策 区分 | C21: 変状区分 | E21: 材質劣化 | M21: 対策 区分 | N21: 変状区分 | P21: 材質劣化
C22: 応急措置前 | E22: - | N22: 応急措置前 | P22: -
C23: 応急措置後 | E23: Ⅱb | N23: 応急措置後 | P23: Ⅲ
B24: 変状の発生範囲及び規模 | E24: 0.2m×0.2m | H24: 前回変状の発生範囲及び規模 | J24: うき 0.2m×0.2m | M24: 変状の発生範囲及び規模 | P24: 0.1m×0.1m | S24: 前回変状の発生範囲及び規模 | U24: うき 0.1m×0.1m
B25: 対策履歴 | E25: - | H25: 実施状況（実施日） | J25: - | M25: 対策履歴 | P25: - | S25: 実施状況（実施日） | U25: -
B26: メモ | E26: アーチのひび割れ沿いのうき 経過観察が望まれる | M26: メモ | P26: アーチの補修跡のうき 早急な対策が望まれる
C27: ※ 応急措置後の対策区分について添付すること。また、点検前に 実施された措置によりⅠと判定された箇所も添付すること。 | N27: ※ 変状の発生範囲の規模とは、対策を行う際に参考となる変状の長さや面積をいう。
N28: ※ 応急措置を実施しないで決定した変状の対策区分は、対策区分の応急措置後の欄に記入すること。
C29: ※ たたき落としを実施した場合は、実施後の写真を添付すること。 | N29: ※ 変状の発生範囲の規模は、面積・寸法を記載すること。(ひび割れ幅のみmmとし、その他をm表記とする)
C30: ※ 附属物の取付状態に関する異常写真は別途、任意の書式でとりまとめること。 | N30: ※ 構造用鋼材以外の異物に伴ううき・はく離については、メモ欄に異物の概要を記入すること。

Sheet 様式D-1-1_007
B2: ■定期点検記録様式 変状写真台帳【様式D-1-1】 | R2: 施設ID | T2: 34.16361,131.77622
B3: フリガナ | E3: (ｵｵﾂﾞｴﾄﾝﾈﾙ) | H3: 路 線 名 | J3: 一般国道 376号 | M3: 定期点検実施者 | P3: 基礎地盤コンサルタンツ株式会社 | S3: 定期点検年月日 | U3: 45944
B4: 名 称 | E4: 大崩トンネル | H4: 管理者名 | J4: 周南土木建築事務所 | P4: 大谷 直毅
B5: 写真 番号 | C5: 覆工スパン 番号 | E5: 3 | M5: 写真 番号 | N5: 覆工スパン 番号 | P5: 3
C6: 変状番号 | E6: 5 | N6: 変状番号 | P6: 6
B7: 変状 部位 | C7: 対象箇所 | E7: 覆工 | M7: 変状 部位 | N7: 対象箇所 | P7: 覆工
C8: 部位区分 | E8: アーチ（左側） | N8: 部位区分 | P8: 横断目地（左側）
B9: 変状種類 | E9: 漏水 | M9: 変状種類 | P9: その他
B10: 対策 区分 | C10: 変状区分 | E10: 漏水 | M10: 対策 区分 | N10: 変状区分 | P10: 材質劣化
C11: 応急措置前 | E11: - | N11: 応急措置前 | P11: -
C12: 応急措置後 | E12: Ⅱa | N12: 応急措置後 | P12: Ⅰ
B13: 変状の発生範囲及び規模 | E13: 8.1m×0.5m | H13: 前回変状の発生範囲及び規模 | J13: 滴水 8.8m×0.5m | M13: 変状の発生範囲及び規模 | P13: 0.2m×0.1m | S13: 前回変状の発生範囲及び規模 | U13: はく落 0.2m×0.1m
B14: 対策履歴 | E14: - | H14: 実施状況（実施日） | J14: - | M14: 対策履歴 | P14: - | S14: 実施状況（実施日） | U14: -
B15: メモ | E15: アーチの滴水(5ml/min) 滴水により車道に滞水を確認 計画的な対策が望まれる | M15: メモ | P15: 横断目地のはく落
B16: 写真 番号 | C16: 覆工スパン 番号 | E16: 3 | M16: 写真 番号 | N16: 覆工スパン 番号 | P16: 3
C17: 変状番号 | E17: 7 | N17: 変状番号 | P17: 8
B18: 変状 部位 | C18: 対象箇所 | E18: 覆工 | M18: 変状 部位 | N18: 対象箇所 | P18: 覆工
C19: 部位区分 | E19: アーチ（右側） | N19: 部位区分 | P19: アーチ（右側）
B20: 変状種類 | E20: うき・はく離 | M20: 変状種類 | P20: 漏水
B21: 対策 区分 | C21: 変状区分 | E21: 材質劣化 | M21: 対策 区分 | N21: 変状区分 | P21: 漏水
C22: 応急措置前 | E22: - | N22: 応急措置前 | P22: -
C23: 応急措置後 | E23: Ⅲ | N23: 応急措置後 | P23: Ⅱb
B24: 変状の発生範囲及び規模 | E24: 0.1m×0.5m | H24: 前回変状の発生範囲及び規模 | J24: うき 0.1m×0.5m | M24: 変状の発生範囲及び規模 | P24: 8.5m×1.0m | S24: 前回変状の発生範囲及び規模 | U24: にじみ 8.3m×1m
B25: 対策履歴 | E25: - | H25: 実施状況（実施日） | J25: - | M25: 対策履歴 | P25: - | S25: 実施状況（実施日） | U25: -
B26: メモ | E26: アーチのひび割れ沿いの補修跡のうき 早急な対策が望まれる | M26: メモ | P26: アーチのにじみ 経過観察が望まれる
C27: ※ 応急措置後の対策区分について添付すること。また、点検前に 実施された措置によりⅠと判定された箇所も添付すること。 | N27: ※ 変状の発生範囲の規模とは、対策を行う際に参考となる変状の長さや面積をいう。
N28: ※ 応急措置を実施しないで決定した変状の対策区分は、対策区分の応急措置後の欄に記入すること。
C29: ※ たたき落としを実施した場合は、実施後の写真を添付すること。 | N29: ※ 変状の発生範囲の規模は、面積・寸法を記載すること。(ひび割れ幅のみmmとし、その他をm表記とする)
C30: ※ 附属物の取付状態に関する異常写真は別途、任意の書式でとりまとめること。 | N30: ※ 構造用鋼材以外の異物に伴ううき・はく離については、メモ欄に異物の概要を記入すること。

Sheet 様式D-1-1_008
B2: ■定期点検記録様式 変状写真台帳【様式D-1-1】 | R2: 施設ID | T2: 34.16361,131.77622
B3: フリガナ | E3: (ｵｵﾂﾞｴﾄﾝﾈﾙ) | H3: 路 線 名 | J3: 一般国道 376号 | M3: 定期点検実施者 | P3: 基礎地盤コンサルタンツ株式会社 | S3: 定期点検年月日 | U3: 45944
B4: 名 称 | E4: 大崩トンネル | H4: 管理者名 | J4: 周南土木建築事務所 | P4: 大谷 直毅
B5: 写真 番号 | C5: 覆工スパン 番号 | E5: 3 | M5: 写真 番号 | N5: 覆工スパン 番号 | P5: 3
C6: 変状番号 | E6: 9 | N6: 変状番号 | P6: 10
B7: 変状 部位 | C7: 対象箇所 | E7: 覆工 | M7: 変状 部位 | N7: 対象箇所 | P7: 覆工
C8: 部位区分 | E8: アーチ（右側） | N8: 部位区分 | P8: アーチ（右側）
B9: 変状種類 | E9: うき・はく離 | M9: 変状種類 | P9: その他
B10: 対策 区分 | C10: 変状区分 | E10: 材質劣化 | M10: 対策 区分 | N10: 変状区分 | P10: 漏水
C11: 応急措置前 | E11: - | N11: 応急措置前 | P11: -
C12: 応急措置後 | E12: Ⅱb | N12: 応急措置後 | P12: Ⅱb
B13: 変状の発生範囲及び規模 | E13: 0.3m×0.05m | H13: 前回変状の発生範囲及び規模 | J13: うき 0.3m×0.05m | M13: 変状の発生範囲及び規模 | P13: 8.2m×1.9m | S13: 前回変状の発生範囲及び規模 | U13: 滴水 8.2m×1.9m
B14: 対策履歴 | E14: - | H14: 実施状況（実施日） | J14: - | M14: 対策履歴 | P14: - | S14: 実施状況（実施日） | U14: -
B15: メモ | E15: アーチのひび割れ沿いのうき 経過観察が望まれる | M15: メモ | P15: アーチの遊離石灰 今回点検時漏水は確認されなかったが遊離石灰成分の析出量が増加している 経過観察が望まれる
B16: 写真 番号 | C16: 覆工スパン 番号 | E16: 3 | M16: 写真 番号 | N16: 覆工スパン 番号 | P16: 3
C17: 変状番号 | E17: 11 | N17: 変状番号 | P17: 12
B18: 変状 部位 | C18: 対象箇所 | E18: 覆工 | M18: 変状 部位 | N18: 対象箇所 | P18: 覆工
C19: 部位区分 | E19: アーチ（右側） | N19: 部位区分 | P19: 水平打ち継ぎ目（右側）
B20: 変状種類 | E20: その他 | M20: 変状種類 | P20: うき・はく離
B21: 対策 区分 | C21: 変状区分 | E21: 漏水 | M21: 対策 区分 | N21: 変状区分 | P21: 材質劣化
C22: 応急措置前 | E22: - | N22: 応急措置前 | P22: -
C23: 応急措置後 | E23: Ⅰ | N23: 応急措置後 | P23: Ⅱb
B24: 変状の発生範囲及び規模 | E24: - | H24: 前回変状の発生範囲及び規模 | J24: 滴水 6.9m×0.5m | M24: 変状の発生範囲及び規模 | P24: 0.1m×10.4m | S24: 前回変状の発生範囲及び規模 | U24: うき 0.1m×10.4m
B25: 対策履歴 | E25: - | H25: 実施状況（実施日） | J25: - | M25: 対策履歴 | P25: - | S25: 実施状況（実施日） | U25: -
B26: メモ | E26: アーチの遊離石灰 今回点検時漏水は確認されなかった | M26: メモ | P26: 水平打ち継ぎ目のうき 経過観察が望まれる
C27: ※ 応急措置後の対策区分について添付すること。また、点検前に 実施された措置によりⅠと判定された箇所も添付すること。 | N27: ※ 変状の発生範囲の規模とは、対策を行う際に参考となる変状の長さや面積をいう。
N28: ※ 応急措置を実施しないで決定した変状の対策区分は、対策区分の応急措置後の欄に記入すること。
C29: ※ たたき落としを実施した場合は、実施後の写真を添付すること。 | N29: ※ 変状の発生範囲の規模は、面積・寸法を記載すること。(ひび割れ幅のみmmとし、その他をm表記とする)
C30: ※ 附属物の取付状態に関する異常写真は別途、任意の書式でとりまとめること。 | N30: ※ 構造用鋼材以外の異物に伴ううき・はく離については、メモ欄に異物の概要を記入すること。

Sheet 様式D-1-1_009
B2: ■定期点検記録様式 変状写真台帳【様式D-1-1】 | R2: 施設ID | T2: 34.16361,131.77622
B3: フリガナ | E3: (ｵｵﾂﾞｴﾄﾝﾈﾙ) | H3: 路 線 名 | J3: 一般国道 376号 | M3: 定期点検実施者 | P3: 基礎地盤コンサルタンツ株式会社 | S3: 定期点検年月日 | U3: 45944
B4: 名 称 | E4: 大崩トンネル | H4: 管理者名 | J4: 周南土木建築事務所 | P4: 大谷 直毅
B5: 写真 番号 | C5: 覆工スパン 番号 | E5: 3 | M5: 写真 番号 | N5: 覆工スパン 番号 | P5: 3
C6: 変状番号 | E6: 13 | N6: 変状番号 | P6: 14
B7: 変状 部位 | C7: 対象箇所 | E7: 覆工 | M7: 変状 部位 | N7: 対象箇所 | P7: 路面
C8: 部位区分 | E8: アーチ（右側） | N8: 部位区分 | P8: 車道
B9: 変状種類 | E9: うき・はく離 | M9: 変状種類 | P9: その他
B10: 対策 区分 | C10: 変状区分 | E10: 材質劣化 | M10: 対策 区分 | N10: 変状区分
C11: 応急措置前 | E11: - | N11: 応急措置前
C12: 応急措置後 | E12: Ⅱb | N12: 応急措置後
B13: 変状の発生範囲及び規模 | E13: 0.1m×0.3m | H13: 前回変状の発生範囲及び規模 | J13: うき 0.1m×0.3m | M13: 変状の発生範囲及び規模 | P13: - | S13: 前回変状の発生範囲及び規模 | U13: 土砂・落葉堆積 0.6m×8.1m
B14: 対策履歴 | E14: - | H14: 実施状況（実施日） | J14: - | M14: 対策履歴 | P14: - | S14: 実施状況（実施日） | U14: -
B15: メモ | E15: アーチのひび割れ沿いのうき 経過観察が望まれる | M15: メモ | P15: 車道の土砂堆積(t=40mm)
B16: 写真 番号 | C16: 覆工スパン 番号 | E16: 3 | M16: 写真 番号 | N16: 覆工スパン 番号 | P16: 3
C17: 変状番号 | E17: 15 | N17: 変状番号 | P17: 16
B18: 変状 部位 | C18: 対象箇所 | E18: 路面 | M18: 変状 部位 | N18: 対象箇所 | P18: 覆工
C19: 部位区分 | E19: 車道 | N19: 部位区分 | P19: アーチ（左側）
B20: 変状種類 | E20: 滞水 | M20: 変状種類 | P20: 圧ざ、ひび割れ
B21: 対策 区分 | C21: 変状区分 | E21: 漏水 | M21: 対策 区分 | N21: 変状区分 | P21: 材質劣化
C22: 応急措置前 | E22: - | N22: 応急措置前 | P22: -
C23: 応急措置後 | E23: Ⅰ | N23: 応急措置後 | P23: Ⅱb
B24: 変状の発生範囲及び規模 | E24: - | H24: 前回変状の発生範囲及び規模 | J24: 滞水 1.2m×5.1m | M24: 変状の発生範囲及び規模 | P24: 0.1m×0.1m | S24: 前回変状の発生範囲及び規模 | U24: 新規
B25: 対策履歴 | E25: - | H25: 実施状況（実施日） | J25: - | M25: 対策履歴 | P25: - | S25: 実施状況（実施日） | U25: -
B26: メモ | E26: 今回点検時に滞水は確認されなかった | M26: メモ | P26: アーチのブロック化 打音異常なし 経過観察が望まれる
C27: ※ 応急措置後の対策区分について添付すること。また、点検前に 実施された措置によりⅠと判定された箇所も添付すること。 | N27: ※ 変状の発生範囲の規模とは、対策を行う際に参考となる変状の長さや面積をいう。
N28: ※ 応急措置を実施しないで決定した変状の対策区分は、対策区分の応急措置後の欄に記入すること。
C29: ※ たたき落としを実施した場合は、実施後の写真を添付すること。 | N29: ※ 変状の発生範囲の規模は、面積・寸法を記載すること。(ひび割れ幅のみmmとし、その他をm表記とする)
C30: ※ 附属物の取付状態に関する異常写真は別途、任意の書式でとりまとめること。 | N30: ※ 構造用鋼材以外の異物に伴ううき・はく離については、メモ欄に異物の概要を記入すること。

Sheet 様式D-1-1_010
B2: ■定期点検記録様式 変状写真台帳【様式D-1-1】 | R2: 施設ID | T2: 34.16361,131.77622
B3: フリガナ | E3: (ｵｵﾂﾞｴﾄﾝﾈﾙ) | H3: 路 線 名 | J3: 一般国道 376号 | M3: 定期点検実施者 | P3: 基礎地盤コンサルタンツ株式会社 | S3: 定期点検年月日 | U3: 45944
B4: 名 称 | E4: 大崩トンネル | H4: 管理者名 | J4: 周南土木建築事務所 | P4: 大谷 直毅
B5: 写真 番号 | C5: 覆工スパン 番号 | E5: 3 | M5: 写真 番号 | N5: 覆工スパン 番号 | P5: 3
C6: 変状番号 | E6: 17 | N6: 変状番号 | P6: 18
B7: 変状 部位 | C7: 対象箇所 | E7: 覆工 | M7: 変状 部位 | N7: 対象箇所 | P7: 覆工
C8: 部位区分 | E8: アーチ（右側） | N8: 部位区分 | P8: アーチ（右側）
B9: 変状種類 | E9: うき・はく離 | M9: 変状種類 | P9: うき・はく離
B10: 対策 区分 | C10: 変状区分 | E10: 材質劣化 | M10: 対策 区分 | N10: 変状区分 | P10: 材質劣化
C11: 応急措置前 | E11: - | N11: 応急措置前 | P11: -
C12: 応急措置後 | E12: Ⅲ | N12: 応急措置後 | P12: Ⅱb
B13: 変状の発生範囲及び規模 | E13: 0.1m×0.3m | H13: 前回変状の発生範囲及び規模 | J13: 新規 | M13: 変状の発生範囲及び規模 | P13: 0.3m×0.05m | S13: 前回変状の発生範囲及び規模 | U13: うき 0.3m×0.05m
B14: 対策履歴 | E14: - | H14: 実施状況（実施日） | J14: - | M14: 対策履歴 | P14: - | S14: 実施状況（実施日） | U14: -
B15: メモ | E15: アーチのひび割れ沿いの補修跡のうき 早急な対策が望まれる | M15: メモ | P15: アーチのひび割れ沿いのうき 経過観察が望まれる
B16: 写真 番号 | C16: 覆工スパン 番号 | E16: 3 | M16: 写真 番号 | N16: 覆工スパン 番号 | P16: 3
C17: 変状番号 | E17: 19 | N17: 変状番号 | P17: 20
B18: 変状 部位 | C18: 対象箇所 | E18: 覆工 | M18: 変状 部位 | N18: 対象箇所 | P18: 覆工
C19: 部位区分 | E19: アーチ（右側） | N19: 部位区分 | P19: アーチ（右側）
B20: 変状種類 | E20: 圧ざ、ひび割れ | M20: 変状種類 | P20: 圧ざ、ひび割れ
B21: 対策 区分 | C21: 変状区分 | E21: 材質劣化 | M21: 対策 区分 | N21: 変状区分 | P21: 材質劣化
C22: 応急措置前 | E22: - | N22: 応急措置前 | P22: -
C23: 応急措置後 | E23: Ⅱa | N23: 応急措置後 | P23: Ⅱb
B24: 変状の発生範囲及び規模 | E24: 0.3m×0.5m | H24: 前回変状の発生範囲及び規模 | J24: 新規 | M24: 変状の発生範囲及び規模 | P24: 1.4m×2.2m | S24: 前回変状の発生範囲及び規模 | U24: 新規
B25: 対策履歴 | E25: - | H25: 実施状況（実施日） | J25: - | M25: 対策履歴 | P25: - | S25: 実施状況（実施日） | U25: -
B26: メモ | E26: アーチの規模の大きいブロック化 打音異常なし 計画的な対策が望まれる | M26: メモ | P26: アーチのブロック化が懸念されるひび割れ 経過観察が望まれる
C27: ※ 応急措置後の対策区分について添付すること。また、点検前に 実施された措置によりⅠと判定された箇所も添付すること。 | N27: ※ 変状の発生範囲の規模とは、対策を行う際に参考となる変状の長さや面積をいう。
N28: ※ 応急措置を実施しないで決定した変状の対策区分は、対策区分の応急措置後の欄に記入すること。
C29: ※ たたき落としを実施した場合は、実施後の写真を添付すること。 | N29: ※ 変状の発生範囲の規模は、面積・寸法を記載すること。(ひび割れ幅のみmmとし、その他をm表記とする)
C30: ※ 附属物の取付状態に関する異常写真は別途、任意の書式でとりまとめること。 | N30: ※ 構造用鋼材以外の異物に伴ううき・はく離については、メモ欄に異物の概要を記入すること。

Sheet 様式D-1-1_011
