Workbook
Name その他: '(参考)リスト'!$C$47
Name その他: #REF!
Name その他施設: '(参考)リスト'!$C$79:$C$83
Name その他施設: #REF!
Name 換気施設: '(参考)リスト'!$C$56:$C$60
Name 換気施設: #REF!
Name 坑門: '(参考)リスト'!$C$31:$C$32
Name 坑門: #REF!
Name 照明施設: '(参考)リスト'!$C$52:$C$54
Name 照明施設: #REF!
Name 天井板: '(参考)リスト'!$C$37:$C$39
Name 天井板: #REF!
Name 内装板: '(参考)リスト'!$C$34:$C$35
Name 内装板: #REF!
Name 非常用施設: '(参考)リスト'!$C$62:$C$77
Name 非常用施設: #REF!
Name 覆工: '(参考)リスト'!$C$16:$C$29
Name 覆工: #REF!
Name 路面: '(参考)リスト'!$C$41:$C$45
Name 路面: #REF!

Sheet 点検様式作成フロー
A1: 点検様式作成フロ-
A3: 作成フロー図 | H3: 点検調書作成手順
H4: ①様式A-1～A-3（トンネル台帳）
H5: トンネル点検の実施にあたっては，現場点検作業に先行してトンネル情報を収集する。トンネル台帳（様式Ａ－1～様式Ａ－3）はトンネル完成後に作成され，維持管理の段階で引き継がれるが，関連資料等を確認したうえで，追加情報があれば必要に応じて追記することが望ましい。
H9: ②様式D-2-1、様式D-2-1´
H10: 現場点検作業を実施し，近接目視点検で確認した変状状況や補修履歴を忠実に変状展開図に転記する。
H12: ③様式D-1-1、様式D-1-2
H13: 変状展開図や撮影した写真等をもとに，対象トンネルの対策区分を決定し，対策区分がⅡ～Ⅳの変状および異常判定区分「×」を抽出し，写真台帳を作成する。
H16: ④様式B
H17: 写真台帳の作成と同時に，トンネルの構造を展開した位置図に変状写真位置を記録する。
H19: ⑤様式D-3
H20: 変状展開図ならびに写真台帳をもとに覆工スパンごとの変状展開図を作成し，変状発生状況をとりまとめる。
H22: ⑥様式E
H23: 近接目視または打音検査，触診ができていない箇所および近接目視によらない方法を講じた場所に対する調査結果を記録する。
... H33: ファイルは以下の分割規則に従う。 ※各ファイルとも （参考）リスト のシートを付けて保存すること。 ・様式A-1～A-3は同一ファイルとする。 ・様式B、D-1-1、D-1-2、D-2-1（もしくはD-2-1'）は別ファイルとする。 ・様式C-1-1、C-1-2、C-2は同一ファイルとする。 ・様式D-3、E、F、Gは同一ファイルとする。

Sheet 様式A-1
B2: ■トンネル台帳 トンネル諸元、非常用施設諸元 【様式A-1】 | S2: 施設ID | W2: 34.32507,131.15851
B3: フリガナ | D3: (ﾀｲﾈｲｼﾞﾀﾞｲｲﾁﾄﾝﾈﾙ) | H3: 路線名 | J3: 国道491号（長門・俵山道路） | P3: 管理者名 | R3: 山口県長門土木建築事務所 | W3: 緊急輸送道路 | Z3: 一次
B4: 名 称 | D4: 大寧寺第1トンネル | W4: 代替路の有無 | Z4: 有
B5: 所在地 | D5: 自 | E5: 山口県長門市深川湯本地先 | H5: 作成者 | K5: 株式会社荒谷建設コンサルタント 河野 秀生 | P5: 作成年月日 | R5: 45747 | U5: トンネル延長 | X5: L= | Z5: 1873 | AB5: ｍ
D6: 至 | E6: 山口県長門市深川湯本地先 | U6: ﾄﾝﾈﾙの分類 | X6: 陸上トンネル（掘進工法）
B7: 起点 | C7: 緯度 | E7: 341930.25 | H7: 完成年月日 | K7: 2018/7 | M7: 舗装 | O7: 種 別 | Q7: コンクリート系 | S7: トンネル非常用施設 | T7: 施設の内訳 | X7: 種別・方式 | Y7: 型式 | Z7: 個数 | AA7: 更新年度 | AE7: 34 | AF7: =INT(E7/100)-AE7*100 -> 19 | AG7: 30.25 | AH7: =ROUND(AE7+AF7/60+AG7/60/60,5) -> 34.32507 | AI7: =TEXT(AH7,"0.00000") -> 34.32507
C8: 経度 | E8: 1310930.6 | H8: 供用年月日 | K8: 43716 | O8: 厚 さ | Q8: 0.25m+0.15m | T8: 通報設備 | U8: 通話型通報設備 | X8: 非常電話 | Y8: 坑内 | Z8: 19 | AE8: =INT(E8/10000) -> 131 | AF8: =INT(E8/100)-AE8*100 -> 9 | AG8: 30.64 | AH8: =ROUND(AE8+AF8/60+AG8/60/60,5) -> 131.15851 | AI8: =TEXT(AH8,"0.00000") -> 131.15851
B9: 終点 | C9: 緯度 | E9: 342016.53 | H9: トンネル区分 | K9: A等級 | O9: 面 積 | U9: 操作型通報設備 | X9: 押しﾎﾞﾀﾝ式 通報設備 | Z9: 74
C10: 経度 | E10: 1311011.6 | H10: 内装種類 | K10: 覆工（内装なし） | O10: 更新年次 | U10: 自動通報設備
B11: 一般有料区分 | E11: 一般（無料） | H11: 天井板種類 | K11: 覆工（内装なし） | M11: 排水 | O11: 種 別 | Q11: 円型+暗渠排水 | T11: 警報設備 | U11: 非常警報設備 | X11: 補助警報表示板 | Y11: 起点側 面壁設置 | Z11: 1
B12: 土かぶり | E12: 124 | G12: m | H12: 坑門 | I12: 起点 | J12: 形式 | K12: 面壁型 | O12: 更新年次 | T12: 消火設備 | U12: 消 火 器 | Y12: ２本/箱 | Z12: 148
B13: 内空断面積 | E13: 85.8 | G13: m2 | J13: 延長 | K13: 0.8 | L13: m | M13: 施設 | P13: 種別・方式 | Q13: 個数 | R13: 更新年次 | U13: 消火栓設備 | Z13: 74
B14: 交 通 量 | E14: 2429 | G14: 台/日 | I14: 終点 | J14: 形式 | K14: 面壁型 | M14: 道路附属物等 | N14: 照明 | P14: LED | Q14: 244 | T14: 避難誘導設備 | U14: 誘導表示設備 | X14: 誘導表示板 | Y14: 反射式 | Z14: 16
C15: 道 路 幅 | E15: 13.5 | G15: m | J15: 延長 | K15: 0.8 | L15: m | N15: 換気 | P15: ｼﾞｪｯﾄﾌｧﾝ | Q15: 2 | U15: 避難情報提供設備
B16: 幅 員 | C16: 車 道 幅 | E16: 3.5 | G16: m | H16: 竣工巻厚 | I16: アーチ | K16: 40 | L16: cm | N16: 標識 | Q16: 5
E17: 3.5 | G17: m | I17: 側 壁 | K17: 40 | L17: cm | N17: 警報表示板 | P17: 終点側 坑外 | Q17: 1 | U17: 避難通路
C18: 歩道等幅 | E18: 0.75 | G18: m | L18: cm | N18: 吸音板 | U18: 排煙設備
B19: 高さ | C19: 建築限界高 | E19: 4.5 | G19: m | I19: インバート | K19: 50 | L19: cm | T19: その他の設備 | U19: 給水栓設備 | Y19: 坑内 | Z19: 19
C20: 中央高 | E20: 7.515 | G20: m | H20: 半径 | I20: アーチ | K20: 782 | L20: cm | U20: 無線通信補助設備 | X20: 漏洩同軸ケーブル | Z20: 1
C21: 有効高 | E21: 4.7 | G21: m | I21: 側 壁 | K21: 514 | L21: cm | U21: 水噴霧設備
C22: 縦断勾配 | E22: 3.4 | I22: インバート | K22: 2230 | L22: cm | U22: 監視設備
B23: 線 形 | C23: 直線区間長 | E23: － | H23: 占用物件 | I23: 種 類 | K23: 寸 法 | M23: 管理者名 | Q23: 更新年次 | S23: 非常用施設 関連設備 | U23: 予備発電設備
C24: 曲線区間 | D24: 区間長 | F24: 1873
D25: 起点側ｸﾛｿｲﾄﾞ | F25: A＝240
D26: 曲線半径 | F26: R＝700
D27: 終点側ｸﾛｿｲﾄﾞ | F27: A＝300 | S27: その他 | U27: 非常駐車帯 | Z27: 4
B28: トンネル工法 | E28: 山岳トンネル工法（NATM） | U28: 方向転換所
C29: ※緯度・経度については、秒の小数第二位の単位まで記入すること。

Sheet 様式A-2
B3: ■トンネル台帳 トンネル情報一覧表 【様式A-2】
B4: フリガナ | E4: ='様式A-1'!D3 -> (ﾀｲﾈｲｼﾞﾀﾞｲｲﾁﾄﾝﾈﾙ) | J4: 路線名 | M4: ='様式A-1'!J3 -> 国道491号（長門・俵山道路） | S4: 作成者 | Y4: ='様式A-1'!K5 -> 株式会社荒谷建設コンサルタント 河野 秀生 | AE4: 作成年月日 | AI4: ='様式A-1'!R5 -> 45747
B5: 名 称 | E5: ='様式A-1'!D4 -> 大寧寺第1トンネル | J5: 管理者名 | M5: ='様式A-1'!R3 -> 山口県長門土木建築事務所
B6: 覆工 ｽﾊﾟﾝ 番号 | C6: ｽﾊﾟﾝ長 | D6: 追加距離 | F6: トンネル本体工 | K6: 照明施設 | O6: 非常用施設 | AE6: 換気施設 | AK6: その他附属物等
O7: 通報設備 | R7: 警報設備 | S7: 消火設備 | U7: 避難誘導設備 | Y7: その他の設備 | AC7: 特記事項
D8: 起点側 | E8: 終点側 | F8: 特記事項 | I8: 内装板 | J8: 天井板 | K8: 基本照明 | L8: 入口出口照明 | M8: 特記事項 | O8: 通話型通報設備 | P8: 操作型通報設備 | Q8: 自動通報設備 | R8: 非常警報設備 | S8: 消 火 器 | T8: 消火栓設備 | U8: 誘導表示設備 | V8: 避難情報提供設備 | W8: 避難通路 | X8: 排煙設備 | Y8: 給水栓設備 | Z8: 無線通信補助設備 | AA8: 水噴霧設備 | AB8: 監視設備 | AE8: JF | AF8: VI計 | AG8: CO計 | AH8: 風向 風速計 | AI8: 特記事項
C9: (m) | D9: (m) | E9: (m)
B10: PS | C10: 0 | F10: 坑口(面壁型) | R10: ① | AK10: 補助警報表示板･坑口表示板
B11: S001 | C11: 8 | D11: =E10 -> 0 | E11: =SUM(C11:D11) -> 8 | K11: ○
B12: S002 | C12: 10.5 | D12: =E11 -> 8 | E12: =SUM(C12:D12) -> 18.5 | K12: ○ | L12: ○
B13: S003 | C13: 10.5 | D13: =E12 -> 18.5 | E13: =SUM(C13:D13) -> 29 | L13: ○ | AK13: 非常電話案内板
B14: S004 | C14: 10.5 | D14: =E13 -> 29 | E14: =SUM(C14:D14) -> 39.5 | K14: ○ | L14: ○ | P14: 1 | S14: 1 | T14: 1
B15: S005 | C15: 10.5 | D15: =E14 -> 39.5 | E15: =SUM(C15:D15) -> 50 | K15: ○ | L15: ○ | P15: 2 | S15: 2 | T15: 2 | AK15: 非常電話案内板
B16: S006 | C16: 10.5 | D16: =E15 -> 50 | E16: =SUM(C16:D16) -> 60.5 | L16: ○
B17: S007 | C17: 10.5 | D17: =E16 -> 60.5 | E17: =SUM(C17:D17) -> 71 | K17: ○ | L17: ○
B18: S008 | C18: 10.5 | D18: =E17 -> 71 | E18: =SUM(C18:D18) -> 81.5 | K18: ○ | L18: ○ | AK18: 非常電話案内板
B19: S009 | C19: 10.5 | D19: =E18 -> 81.5 | E19: =SUM(C19:D19) -> 92 | L19: ○ | P19: 3 | S19: 3 | T19: 3
B20: S010 | C20: 10.5 | D20: =E19 -> 92 | E20: =SUM(C20:D20) -> 102.5 | K20: ○ | L20: ○ | P20: 4 | S20: 4 | T20: 4 | Y20: ① | AK20: 非常電話案内板
B21: S011 | C21: 10.5 | D21: =E20 -> 102.5 | E21: =SUM(C21:D21) -> 113 | K21: ○ | L21: ○ | AK21: 非常電話案内板
B22: S012 | C22: 10.5 | D22: =E21 -> 113 | E22: =SUM(C22:D22) -> 123.5 | K22: ○ | L22: ○
B23: S013 | C23: 10.5 | D23: =E22 -> 123.5 | E23: =SUM(C23:D23) -> 134 | L23: ○ | P23: 5 | S23: 5 | T23: 5 | AK23: 非常電話案内板
B24: S014 | C24: 10.5 | D24: =E23 -> 134 | E24: =SUM(C24:D24) -> 144.5 | K24: ○ | L24: ○ | S24: 6 | T24: 6
B25: S015 | C25: 10.4 | D25: =E24 -> 144.5 | E25: =SUM(C25:D25) -> 154.9 | K25: ○ | L25: ○ | O25: ① | P25: 6
B26: S016 | C26: 10.5 | D26: =E25 -> 154.9 | E26: =SUM(C26:D26) -> 165.4 | L26: ○ | AK26: 非常電話案内板
B27: S017 | C27: 10.5 | D27: =E26 -> 165.4 | E27: =SUM(C27:D27) -> 175.9 | K27: ○ | L27: ○ | AK27: 非常電話案内板
B28: S018 | C28: 10.5 | D28: =E27 -> 175.9 | E28: =SUM(C28:D28) -> 186.4 | K28: ○ | L28: ○ | O28: ② | P28: 7 | S28: 7 | T28: 7 | Y28: ②
B29: S019 | C29: 10.5 | D29: =E28 -> 186.4 | E29: =SUM(C29:D29) -> 196.9 | L29: ○
B30: S020 | C30: 10.5 | D30: =E29 -> 196.9 | E30: =SUM(C30:D30) -> 207.4 | K30: ○ | L30: ○ | P30: 8 | S30: 8 | T30: 8 | AK30: 非常電話案内板
B31: S021 | C31: 10.5 | D31: =E30 -> 207.4 | E31: =SUM(C31:D31) -> 217.9 | K31: ○ | L31: ○
B32: S022 | C32: 10.5 | D32: =E31 -> 217.9 | E32: =SUM(C32:D32) -> 228.4 | L32: ○ | AK32: 非常電話案内板
B33: S023 | C33: 10.5 | D33: =E32 -> 228.4 | E33: =SUM(C33:D33) -> 238.9 | K33: ○ | L33: ○ | P33: 9 | S33: 9 | T33: 9 | U33: ①② | AK33: 非常電話案内板
B34: S024 | C34: 10.5 | D34: =E33 -> 238.9 | E34: =SUM(C34:D34) -> 249.4 | K34: ○
B35: S025 | C35: 10.5 | D35: =E34 -> 249.4 | E35: =SUM(C35:D35) -> 259.9 | L35: ○ | P35: 10 | S35: 10 | T35: 10 | AK35: 非常電話案内板
B36: S026 | C36: 10.4 | D36: =E35 -> 259.9 | E36: =SUM(C36:D36) -> 270.3 | K36: ○ | L36: ○
B37: S027 | C37: 10.5 | D37: =E36 -> 270.3 | E37: =SUM(C37:D37) -> 280.8 | K37: ○ | P37: 11 | S37: 11 | T37: 11 | AK37: 非常電話案内板
B38: S028 | C38: 10.5 | D38: =E37 -> 280.8 | E38: =SUM(C38:D38) -> 291.3 | K38: ○ | L38: ○
B39: S029 | C39: 10.5 | D39: =E38 -> 291.3 | E39: =SUM(C39:D39) -> 301.8 | L39: ○
B40: S030 | C40: 10.5 | D40: =E39 -> 301.8 | E40: =SUM(C40:D40) -> 312.3 | K40: ○ | O40: ③ | P40: 12 | S40: 12 | T40: 12 | Y40: ③ | AK40: 非常電話案内板
B41: S031 | C41: 10.5 | D41: =E40 -> 312.3 | E41: =SUM(C41:D41) -> 322.8 | K41: ○ | L41: ○
B42: S032 | C42: 10.5 | D42: =E41 -> 322.8 | E42: =SUM(C42:D42) -> 333.3 | P42: 13 | S42: 13 | T42: 13 | AK42: 非常電話案内板
...

Sheet 様式A-3
B3: ■トンネル台帳 トンネル記録（位置図、断面図、施工実績他）【様式A-3】
B4: フリガナ | E4: ='様式A-1'!$D$3 -> (ﾀｲﾈｲｼﾞﾀﾞｲｲﾁﾄﾝﾈﾙ) | J4: 路線名 | M4: ='様式A-1'!$J$3 -> 国道491号（長門・俵山道路） | S4: 作成者 | W4: ='様式A-1'!$K$5 -> 株式会社荒谷建設コンサルタント 河野 秀生 | AC4: 作成年月日 | AF4: ='様式A-1'!$R$5 -> 45747
B5: 名 称 | E5: ='様式A-1'!$D$4 -> 大寧寺第1トンネル | J5: 管理者名 | M5: ='様式A-1'!$R$3 -> 山口県長門土木建築事務所
B6: 位置図・現況写真・標準断面図・地質縦断図・施工実績
B19: フリガナ | E19: ='様式A-1'!$D$3 -> (ﾀｲﾈｲｼﾞﾀﾞｲｲﾁﾄﾝﾈﾙ) | J19: 路線名 | M19: ='様式A-1'!$J$3 -> 国道491号（長門・俵山道路） | S19: 作成者 | W19: ='様式A-1'!$K$5 -> 株式会社荒谷建設コンサルタント 河野 秀生 | AC19: 作成年月日 | AF19: ='様式A-1'!$R$5 -> 45747
B20: 名 称 | E20: ='様式A-1'!$D$4 -> 大寧寺第1トンネル | J20: 管理者名 | M20: ='様式A-1'!$R$3 -> 山口県長門土木建築事務所
B21: 位置図・現況写真・標準断面図・地質縦断図・施工実績 | C21: 現況写真
G27: 起点側坑口 | U27: 終点側坑口
J33: 銘板（起点側工事） | U33: 銘板（終点側工事）
B34: フリガナ | E34: ='様式A-1'!$D$3 -> (ﾀｲﾈｲｼﾞﾀﾞｲｲﾁﾄﾝﾈﾙ) | J34: 路線名 | M34: ='様式A-1'!$J$3 -> 国道491号（長門・俵山道路） | S34: 作成者 | W34: ='様式A-1'!$K$5 -> 株式会社荒谷建設コンサルタント 河野 秀生 | AC34: 作成年月日 | AF34: ='様式A-1'!$R$5 -> 45747
B35: 名 称 | E35: ='様式A-1'!$D$4 -> 大寧寺第1トンネル | J35: 管理者名 | M35: ='様式A-1'!$R$3 -> 山口県長門土木建築事務所
B36: 位置図・現況写真・標準断面図・地質縦断図・施工実績
B49: フリガナ | E49: ='様式A-1'!$D$3 -> (ﾀｲﾈｲｼﾞﾀﾞｲｲﾁﾄﾝﾈﾙ) | J49: 路線名 | M49: ='様式A-1'!$J$3 -> 国道491号（長門・俵山道路） | S49: 作成者 | W49: ='様式A-1'!$K$5 -> 株式会社荒谷建設コンサルタント 河野 秀生 | AC49: 作成年月日 | AF49: ='様式A-1'!$R$5 -> 45747
B50: 名 称 | E50: ='様式A-1'!$D$4 -> 大寧寺第1トンネル | J50: 管理者名 | M50: ='様式A-1'!$R$3 -> 山口県長門土木建築事務所
B51: 位置図・現況写真・標準断面図・地質縦断図・施工実績

Sheet 様式B_001
B2: ■定期点検記録様式 トンネル変状・異常箇所写真位置図 【様式B】 | N2: 定期点検年月日 | P2: 45621 | S2: 施設ID | V2: 34.32507,131.15851
B3: フリガナ | C3: (ﾀｲﾈｲｼﾞﾀﾞｲｲﾁﾄﾝﾈﾙ) | G3: 路線名 | H3: 国道491号 （長門・俵山道路） | K3: 管理者名 | L3: 山口県長門土木建築事務所 | Q3: 定期点検実施者 | S3: 株式会社荒谷建設コンサルタント | V3: 起点 | W3: 緯度 | X3: 341930.25
B4: 名 称 | C4: 大寧寺第1トンネル | S4: 河野 秀生 | W4: 経度 | X4: 1310930.6
B5: 所在地 | C5: 自 | D5: 山口県長門市深川湯本地先 | G5: トンネル工法 | I5: 山岳トンネル工法（NAT） | L5: トンネル延長 | N5: L= | O5: 1873 | P5: ｍ | Q5: 自専道 or 一般道 | R5: 自専道 | S5: 代替路の有無 | U5: 有 | V5: 終点 | W5: 緯度 | X5: 342016.53
C6: 至 | D6: 山口県長門市深川湯本地先 | G6: 建設年度 | I6: 2018 | L6: 幅員 | N6: L= | O6: 12 | P6: ｍ | S6: 緊急輸送道路 | U6: 一次 | W6: 経度 | X6: 1311011.6
B7: トンネル毎 の健全性の 診断の区分 | D7: Ⅲ
G8: 変状・異常 箇所数合計 | I8: トンネル本体工 | J8: 材質劣化 | K8: Ⅱ | L8: 109 | N8: Ⅲ | O8: 5 | Q8: Ⅳ | R8: 0 | T8: 附属物等 の取付状態 | V8: ◯ （応急措置後) | X8: 0
J9: 漏水 | K9: Ⅱ | L9: 1 | N9: Ⅲ | O9: 0 | Q9: Ⅳ | R9: 0
V10: ✕ | X10: 1
J11: 外力 | K11: Ⅱ | L11: 0 | N11: Ⅲ | O11: 0 | Q11: Ⅳ | R11: 0
B12: トンネル変状・異常箇所写真位置図
J29: 注１：本位置図は、見下げた状態で記載すること。 注２：覆工スパン番号は横断目地毎(矢板工法の場合は上半アーチの 横断目地毎)に設定すること。 | Q29: 注３：写真番号に付する変状番号は、各覆工スパンの変状に対して新たに確認された場合 は順次追加していくこと。 注４：横断目地の変状は前の覆工スパン番号で計上すること。 注５：１枚に収まらない場合は、複数枚に分けて作成すること。
C30: ※1 トンネル本体工の変状数は、材質劣化、漏水に起因するものは変状単位で、外力に起因するものはスパン単位で計上すること。
C31: ※2 トンネル本体工の変状に対しては、措置の必要性（Ⅱ～Ⅳ）について表記すること。また、点検前に実施された措置によりⅠと判定された箇所についても記載すること。
C32: ※3 附属物等の取付状態の○欄については、応急措置前に判定区分×とした箇所のうち応急措置により○判定とした箇所の数を記入すること。
C33: ※4 附属物等の異常番号は、本体工と番号が重複しないよう101番以降とする等の配慮を行い、分かりやすく記録すること。

Sheet 様式B_002
B2: ■定期点検記録様式 トンネル変状・異常箇所写真位置図 【様式B】 | N2: 定期点検年月日 | P2: 45621 | S2: 施設ID | V2: 34.32507,131.15851
B3: フリガナ | C3: (ﾀｲﾈｲｼﾞﾀﾞｲｲﾁﾄﾝﾈﾙ) | G3: 路線名 | H3: 国道491号 （長門・俵山道路） | K3: 管理者名 | L3: 山口県長門土木建築事務所 | Q3: 定期点検実施者 | S3: 株式会社荒谷建設コンサルタント | V3: 起点 | W3: 緯度 | X3: 341930.25
B4: 名 称 | C4: 大寧寺第1トンネル | S4: 河野 秀生 | W4: 経度 | X4: 1310930.6
B5: 所在地 | C5: 自 | D5: 山口県長門市深川湯本地先 | G5: トンネル工法 | I5: 山岳トンネル工法（NAT） | L5: トンネル延長 | N5: L= | O5: 1873 | P5: ｍ | Q5: 自専道 or 一般道 | R5: 自専道 | S5: 代替路の有無 | U5: 有 | V5: 終点 | W5: 緯度 | X5: 342016.53
C6: 至 | D6: 山口県長門市深川湯本地先 | G6: 建設年度 | I6: 2018 | L6: 幅員 | N6: L= | O6: 12 | P6: ｍ | S6: 緊急輸送道路 | U6: 一次 | W6: 経度 | X6: 1311011.6
B7: トンネル毎 の健全性の 診断の区分 | D7: Ⅲ
G8: 変状・異常 箇所数合計 | I8: トンネル本体工 | J8: 材質劣化 | K8: Ⅱ | L8: 109 | N8: Ⅲ | O8: 5 | Q8: Ⅳ | R8: 0 | T8: 附属物等 の取付状態 | V8: ◯ （応急措置後) | X8: 0
J9: 漏水 | K9: Ⅱ | L9: 1 | N9: Ⅲ | O9: 0 | Q9: Ⅳ | R9: 0
V10: ✕ | X10: 1
J11: 外力 | K11: Ⅱ | L11: 0 | N11: Ⅲ | O11: 0 | Q11: Ⅳ | R11: 0
B12: トンネル変状・異常箇所写真位置図
J29: 注１：本位置図は、見下げた状態で記載すること。 注２：覆工スパン番号は横断目地毎(矢板工法の場合は上半アーチの 横断目地毎)に設定すること。 | Q29: 注３：写真番号に付する変状番号は、各覆工スパンの変状に対して新たに確認された場合 は順次追加していくこと。 注４：横断目地の変状は前の覆工スパン番号で計上すること。 注５：１枚に収まらない場合は、複数枚に分けて作成すること。
C30: ※1 トンネル本体工の変状数は、材質劣化、漏水に起因するものは変状単位で、外力に起因するものはスパン単位で計上すること。
C31: ※2 トンネル本体工の変状に対しては、措置の必要性（Ⅱ～Ⅳ）について表記すること。また、点検前に実施された措置によりⅠと判定された箇所についても記載すること。
C32: ※3 附属物等の取付状態の○欄については、応急措置前に判定区分×とした箇所のうち応急措置により○判定とした箇所の数を記入すること。
C33: ※4 附属物等の異常番号は、本体工と番号が重複しないよう101番以降とする等の配慮を行い、分かりやすく記録すること。

Sheet 様式B_003
B2: ■定期点検記録様式 トンネル変状・異常箇所写真位置図 【様式B】 | N2: 定期点検年月日 | P2: 45621 | S2: 施設ID | V2: 34.32507,131.15851
B3: フリガナ | C3: (ﾀｲﾈｲｼﾞﾀﾞｲｲﾁﾄﾝﾈﾙ) | G3: 路線名 | H3: 国道491号 （長門・俵山道路） | K3: 管理者名 | L3: 山口県長門土木建築事務所 | Q3: 定期点検実施者 | S3: 株式会社荒谷建設コンサルタント | V3: 起点 | W3: 緯度 | X3: 341930.25
B4: 名 称 | C4: 大寧寺第1トンネル | S4: 河野 秀生 | W4: 経度 | X4: 1310930.6
B5: 所在地 | C5: 自 | D5: 山口県長門市深川湯本地先 | G5: トンネル工法 | I5: 山岳トンネル工法（NAT） | L5: トンネル延長 | N5: L= | O5: 1873 | P5: ｍ | Q5: 自専道 or 一般道 | R5: 自専道 | S5: 代替路の有無 | U5: 有 | V5: 終点 | W5: 緯度 | X5: 342016.53
C6: 至 | D6: 山口県長門市深川湯本地先 | G6: 建設年度 | I6: 2018 | L6: 幅員 | N6: L= | O6: 12 | P6: ｍ | S6: 緊急輸送道路 | U6: 一次 | W6: 経度 | X6: 1311011.6
B7: トンネル毎 の健全性の 診断の区分 | D7: Ⅲ
G8: 変状・異常 箇所数合計 | I8: トンネル本体工 | J8: 材質劣化 | K8: Ⅱ | L8: 109 | N8: Ⅲ | O8: 5 | Q8: Ⅳ | R8: 0 | T8: 附属物等 の取付状態 | V8: ◯ （応急措置後) | X8: 0
J9: 漏水 | K9: Ⅱ | L9: 1 | N9: Ⅲ | O9: 0 | Q9: Ⅳ | R9: 0
V10: ✕ | X10: 1
J11: 外力 | K11: Ⅱ | L11: 0 | N11: Ⅲ | O11: 0 | Q11: Ⅳ | R11: 0
B12: トンネル変状・異常箇所写真位置図
J29: 注１：本位置図は、見下げた状態で記載すること。 注２：覆工スパン番号は横断目地毎(矢板工法の場合は上半アーチの 横断目地毎)に設定すること。 | Q29: 注３：写真番号に付する変状番号は、各覆工スパンの変状に対して新たに確認された場合 は順次追加していくこと。 注４：横断目地の変状は前の覆工スパン番号で計上すること。 注５：１枚に収まらない場合は、複数枚に分けて作成すること。
C30: ※1 トンネル本体工の変状数は、材質劣化、漏水に起因するものは変状単位で、外力に起因するものはスパン単位で計上すること。
C31: ※2 トンネル本体工の変状に対しては、措置の必要性（Ⅱ～Ⅳ）について表記すること。また、点検前に実施された措置によりⅠと判定された箇所についても記載すること。
C32: ※3 附属物等の取付状態の○欄については、応急措置前に判定区分×とした箇所のうち応急措置により○判定とした箇所の数を記入すること。
C33: ※4 附属物等の異常番号は、本体工と番号が重複しないよう101番以降とする等の配慮を行い、分かりやすく記録すること。

Sheet 様式B_004
B2: ■定期点検記録様式 トンネル変状・異常箇所写真位置図 【様式B】 | N2: 定期点検年月日 | P2: 45621 | S2: 施設ID | V2: 34.32507,131.15851
B3: フリガナ | C3: (ﾀｲﾈｲｼﾞﾀﾞｲｲﾁﾄﾝﾈﾙ) | G3: 路線名 | H3: 国道491号 （長門・俵山道路） | K3: 管理者名 | L3: 山口県長門土木建築事務所 | Q3: 定期点検実施者 | S3: 株式会社荒谷建設コンサルタント | V3: 起点 | W3: 緯度 | X3: 341930.25
B4: 名 称 | C4: 大寧寺第1トンネル | S4: 河野 秀生 | W4: 経度 | X4: 1310930.6
B5: 所在地 | C5: 自 | D5: 山口県長門市深川湯本地先 | G5: トンネル工法 | I5: 山岳トンネル工法（NAT） | L5: トンネル延長 | N5: L= | O5: 1873 | P5: ｍ | Q5: 自専道 or 一般道 | R5: 自専道 | S5: 代替路の有無 | U5: 有 | V5: 終点 | W5: 緯度 | X5: 342016.53
C6: 至 | D6: 山口県長門市深川湯本地先 | G6: 建設年度 | I6: 2018 | L6: 幅員 | N6: L= | O6: 12 | P6: ｍ | S6: 緊急輸送道路 | U6: 一次 | W6: 経度 | X6: 1311011.6
B7: トンネル毎 の健全性の 診断の区分 | D7: Ⅲ
G8: 変状・異常 箇所数合計 | I8: トンネル本体工 | J8: 材質劣化 | K8: Ⅱ | L8: 109 | N8: Ⅲ | O8: 5 | Q8: Ⅳ | R8: 0 | T8: 附属物等 の取付状態 | V8: ◯ （応急措置後) | X8: 0
J9: 漏水 | K9: Ⅱ | L9: 1 | N9: Ⅲ | O9: 0 | Q9: Ⅳ | R9: 0
V10: ✕ | X10: 1
J11: 外力 | K11: Ⅱ | L11: 0 | N11: Ⅲ | O11: 0 | Q11: Ⅳ | R11: 0
B12: トンネル変状・異常箇所写真位置図
J29: 注１：本位置図は、見下げた状態で記載すること。 注２：覆工スパン番号は横断目地毎(矢板工法の場合は上半アーチの 横断目地毎)に設定すること。 | Q29: 注３：写真番号に付する変状番号は、各覆工スパンの変状に対して新たに確認された場合 は順次追加していくこと。 注４：横断目地の変状は前の覆工スパン番号で計上すること。 注５：１枚に収まらない場合は、複数枚に分けて作成すること。
C30: ※1 トンネル本体工の変状数は、材質劣化、漏水に起因するものは変状単位で、外力に起因するものはスパン単位で計上すること。
C31: ※2 トンネル本体工の変状に対しては、措置の必要性（Ⅱ～Ⅳ）について表記すること。また、点検前に実施された措置によりⅠと判定された箇所についても記載すること。
C32: ※3 附属物等の取付状態の○欄については、応急措置前に判定区分×とした箇所のうち応急措置により○判定とした箇所の数を記入すること。
C33: ※4 附属物等の異常番号は、本体工と番号が重複しないよう101番以降とする等の配慮を行い、分かりやすく記録すること。

Sheet 様式B_005
B2: ■定期点検記録様式 トンネル変状・異常箇所写真位置図 【様式B】 | N2: 定期点検年月日 | P2: 45621 | S2: 施設ID | V2: 34.32507,131.15851
B3: フリガナ | C3: (ﾀｲﾈｲｼﾞﾀﾞｲｲﾁﾄﾝﾈﾙ) | G3: 路線名 | H3: 国道491号 （長門・俵山道路） | K3: 管理者名 | L3: 山口県長門土木建築事務所 | Q3: 定期点検実施者 | S3: 株式会社荒谷建設コンサルタント | V3: 起点 | W3: 緯度 | X3: 341930.25
B4: 名 称 | C4: 大寧寺第1トンネル | S4: 河野 秀生 | W4: 経度 | X4: 1310930.6
B5: 所在地 | C5: 自 | D5: 山口県長門市深川湯本地先 | G5: トンネル工法 | I5: 山岳トンネル工法（NAT） | L5: トンネル延長 | N5: L= | O5: 1873 | P5: ｍ | Q5: 自専道 or 一般道 | R5: 自専道 | S5: 代替路の有無 | U5: 有 | V5: 終点 | W5: 緯度 | X5: 342016.53
C6: 至 | D6: 山口県長門市深川湯本地先 | G6: 建設年度 | I6: 2018 | L6: 幅員 | N6: L= | O6: 12 | P6: ｍ | S6: 緊急輸送道路 | U6: 一次 | W6: 経度 | X6: 1311011.6
B7: トンネル毎 の健全性の 診断の区分 | D7: Ⅲ
G8: 変状・異常 箇所数合計 | I8: トンネル本体工 | J8: 材質劣化 | K8: Ⅱ | L8: 109 | N8: Ⅲ | O8: 5 | Q8: Ⅳ | R8: 0 | T8: 附属物等 の取付状態 | V8: ◯ （応急措置後) | X8: 0
J9: 漏水 | K9: Ⅱ | L9: 1 | N9: Ⅲ | O9: 0 | Q9: Ⅳ | R9: 0
V10: ✕ | X10: 1
J11: 外力 | K11: Ⅱ | L11: 0 | N11: Ⅲ | O11: 0 | Q11: Ⅳ | R11: 0
B12: トンネル変状・異常箇所写真位置図
J29: 注１：本位置図は、見下げた状態で記載すること。 注２：覆工スパン番号は横断目地毎(矢板工法の場合は上半アーチの 横断目地毎)に設定すること。 | Q29: 注３：写真番号に付する変状番号は、各覆工スパンの変状に対して新たに確認された場合 は順次追加していくこと。 注４：横断目地の変状は前の覆工スパン番号で計上すること。 注５：１枚に収まらない場合は、複数枚に分けて作成すること。
C30: ※1 トンネル本体工の変状数は、材質劣化、漏水に起因するものは変状単位で、外力に起因するものはスパン単位で計上すること。
C31: ※2 トンネル本体工の変状に対しては、措置の必要性（Ⅱ～Ⅳ）について表記すること。また、点検前に実施された措置によりⅠと判定された箇所についても記載すること。
C32: ※3 附属物等の取付状態の○欄については、応急措置前に判定区分×とした箇所のうち応急措置により○判定とした箇所の数を記入すること。
C33: ※4 附属物等の異常番号は、本体工と番号が重複しないよう101番以降とする等の配慮を行い、分かりやすく記録すること。

Sheet 様式B_006
B2: ■定期点検記録様式 トンネル変状・異常箇所写真位置図 【様式B】 | N2: 定期点検年月日 | P2: 45621 | S2: 施設ID | V2: 34.32507,131.15851
B3: フリガナ | C3: (ﾀｲﾈｲｼﾞﾀﾞｲｲﾁﾄﾝﾈﾙ) | G3: 路線名 | H3: 国道491号 （長門・俵山道路） | K3: 管理者名 | L3: 山口県長門土木建築事務所 | Q3: 定期点検実施者 | S3: 株式会社荒谷建設コンサルタント | V3: 起点 | W3: 緯度 | X3: 341930.25
B4: 名 称 | C4: 大寧寺第1トンネル | S4: 河野 秀生 | W4: 経度 | X4: 1310930.6
B5: 所在地 | C5: 自 | D5: 山口県長門市深川湯本地先 | G5: トンネル工法 | I5: 山岳トンネル工法（NAT） | L5: トンネル延長 | N5: L= | O5: 1873 | P5: ｍ | Q5: 自専道 or 一般道 | R5: 自専道 | S5: 代替路の有無 | U5: 有 | V5: 終点 | W5: 緯度 | X5: 342016.53
C6: 至 | D6: 山口県長門市深川湯本地先 | G6: 建設年度 | I6: 2018 | L6: 幅員 | N6: L= | O6: 12 | P6: ｍ | S6: 緊急輸送道路 | U6: 一次 | W6: 経度 | X6: 1311011.6
B7: トンネル毎 の健全性の 診断の区分 | D7: Ⅲ
G8: 変状・異常 箇所数合計 | I8: トンネル本体工 | J8: 材質劣化 | K8: Ⅱ | L8: 109 | N8: Ⅲ | O8: 5 | Q8: Ⅳ | R8: 0 | T8: 附属物等 の取付状態 | V8: ◯ （応急措置後) | X8: 0
J9: 漏水 | K9: Ⅱ | L9: 1 | N9: Ⅲ | O9: 0 | Q9: Ⅳ | R9: 0
V10: ✕ | X10: 1
J11: 外力 | K11: Ⅱ | L11: 0 | N11: Ⅲ | O11: 0 | Q11: Ⅳ | R11: 0
B12: トンネル変状・異常箇所写真位置図
J29: 注１：本位置図は、見下げた状態で記載すること。 注２：覆工スパン番号は横断目地毎(矢板工法の場合は上半アーチの 横断目地毎)に設定すること。 | Q29: 注３：写真番号に付する変状番号は、各覆工スパンの変状に対して新たに確認された場合 は順次追加していくこと。 注４：横断目地の変状は前の覆工スパン番号で計上すること。 注５：１枚に収まらない場合は、複数枚に分けて作成すること。
C30: ※1 トンネル本体工の変状数は、材質劣化、漏水に起因するものは変状単位で、外力に起因するものはスパン単位で計上すること。
C31: ※2 トンネル本体工の変状に対しては、措置の必要性（Ⅱ～Ⅳ）について表記すること。また、点検前に実施された措置によりⅠと判定された箇所についても記載すること。
C32: ※3 附属物等の取付状態の○欄については、応急措置前に判定区分×とした箇所のうち応急措置により○判定とした箇所の数を記入すること。
C33: ※4 附属物等の異常番号は、本体工と番号が重複しないよう101番以降とする等の配慮を行い、分かりやすく記録すること。

Sheet 様式B_007
B2: ■定期点検記録様式 トンネル変状・異常箇所写真位置図 【様式B】 | N2: 定期点検年月日 | P2: 45621 | S2: 施設ID | V2: 34.32507,131.15851
B3: フリガナ | C3: (ﾀｲﾈｲｼﾞﾀﾞｲｲﾁﾄﾝﾈﾙ) | G3: 路線名 | H3: 国道491号 （長門・俵山道路） | K3: 管理者名 | L3: 山口県長門土木建築事務所 | Q3: 定期点検実施者 | S3: 株式会社荒谷建設コンサルタント | V3: 起点 | W3: 緯度 | X3: 341930.25
B4: 名 称 | C4: 大寧寺第1トンネル | S4: 河野 秀生 | W4: 経度 | X4: 1310930.6
B5: 所在地 | C5: 自 | D5: 山口県長門市深川湯本地先 | G5: トンネル工法 | I5: 山岳トンネル工法（NAT） | L5: トンネル延長 | N5: L= | O5: 1873 | P5: ｍ | Q5: 自専道 or 一般道 | R5: 自専道 | S5: 代替路の有無 | U5: 有 | V5: 終点 | W5: 緯度 | X5: 342016.53
C6: 至 | D6: 山口県長門市深川湯本地先 | G6: 建設年度 | I6: 2018 | L6: 幅員 | N6: L= | O6: 12 | P6: ｍ | S6: 緊急輸送道路 | U6: 一次 | W6: 経度 | X6: 1311011.6
B7: トンネル毎 の健全性の 診断の区分 | D7: Ⅲ
G8: 変状・異常 箇所数合計 | I8: トンネル本体工 | J8: 材質劣化 | K8: Ⅱ | L8: 109 | N8: Ⅲ | O8: 5 | Q8: Ⅳ | R8: 0 | T8: 附属物等 の取付状態 | V8: ◯ （応急措置後) | X8: 0
J9: 漏水 | K9: Ⅱ | L9: 1 | N9: Ⅲ | O9: 0 | Q9: Ⅳ | R9: 0
V10: ✕ | X10: 1
J11: 外力 | K11: Ⅱ | L11: 0 | N11: Ⅲ | O11: 0 | Q11: Ⅳ | R11: 0
B12: トンネル変状・異常箇所写真位置図
J29: 注１：本位置図は、見下げた状態で記載すること。 注２：覆工スパン番号は横断目地毎(矢板工法の場合は上半アーチの 横断目地毎)に設定すること。 | Q29: 注３：写真番号に付する変状番号は、各覆工スパンの変状に対して新たに確認された場合 は順次追加していくこと。 注４：横断目地の変状は前の覆工スパン番号で計上すること。 注５：１枚に収まらない場合は、複数枚に分けて作成すること。
C30: ※1 トンネル本体工の変状数は、材質劣化、漏水に起因するものは変状単位で、外力に起因するものはスパン単位で計上すること。
C31: ※2 トンネル本体工の変状に対しては、措置の必要性（Ⅱ～Ⅳ）について表記すること。また、点検前に実施された措置によりⅠと判定された箇所についても記載すること。
C32: ※3 附属物等の取付状態の○欄については、応急措置前に判定区分×とした箇所のうち応急措置により○判定とした箇所の数を記入すること。
C33: ※4 附属物等の異常番号は、本体工と番号が重複しないよう101番以降とする等の配慮を行い、分かりやすく記録すること。

Sheet 様式B_008
B2: ■定期点検記録様式 トンネル変状・異常箇所写真位置図 【様式B】 | N2: 定期点検年月日 | P2: 45621 | S2: 施設ID | V2: 34.32507,131.15851
B3: フリガナ | C3: (ﾀｲﾈｲｼﾞﾀﾞｲｲﾁﾄﾝﾈﾙ) | G3: 路線名 | H3: 国道491号 （長門・俵山道路） | K3: 管理者名 | L3: 山口県長門土木建築事務所 | Q3: 定期点検実施者 | S3: 株式会社荒谷建設コンサルタント | V3: 起点 | W3: 緯度 | X3: 341930.25
B4: 名 称 | C4: 大寧寺第1トンネル | S4: 河野 秀生 | W4: 経度 | X4: 1310930.6
B5: 所在地 | C5: 自 | D5: 山口県長門市深川湯本地先 | G5: トンネル工法 | I5: 山岳トンネル工法（NAT） | L5: トンネル延長 | N5: L= | O5: 1873 | P5: ｍ | Q5: 自専道 or 一般道 | R5: 自専道 | S5: 代替路の有無 | U5: 有 | V5: 終点 | W5: 緯度 | X5: 342016.53
C6: 至 | D6: 山口県長門市深川湯本地先 | G6: 建設年度 | I6: 2018 | L6: 幅員 | N6: L= | O6: 12 | P6: ｍ | S6: 緊急輸送道路 | U6: 一次 | W6: 経度 | X6: 1311011.6
B7: トンネル毎 の健全性の 診断の区分 | D7: Ⅲ
G8: 変状・異常 箇所数合計 | I8: トンネル本体工 | J8: 材質劣化 | K8: Ⅱ | L8: 109 | N8: Ⅲ | O8: 5 | Q8: Ⅳ | R8: 0 | T8: 附属物等 の取付状態 | V8: ◯ （応急措置後) | X8: 0
J9: 漏水 | K9: Ⅱ | L9: 1 | N9: Ⅲ | O9: 0 | Q9: Ⅳ | R9: 0
V10: ✕ | X10: 1
J11: 外力 | K11: Ⅱ | L11: 0 | N11: Ⅲ | O11: 0 | Q11: Ⅳ | R11: 0
B12: トンネル変状・異常箇所写真位置図
J29: 注１：本位置図は、見下げた状態で記載すること。 注２：覆工スパン番号は横断目地毎(矢板工法の場合は上半アーチの 横断目地毎)に設定すること。 | Q29: 注３：写真番号に付する変状番号は、各覆工スパンの変状に対して新たに確認された場合 は順次追加していくこと。 注４：横断目地の変状は前の覆工スパン番号で計上すること。 注５：１枚に収まらない場合は、複数枚に分けて作成すること。
C30: ※1 トンネル本体工の変状数は、材質劣化、漏水に起因するものは変状単位で、外力に起因するものはスパン単位で計上すること。
C31: ※2 トンネル本体工の変状に対しては、措置の必要性（Ⅱ～Ⅳ）について表記すること。また、点検前に実施された措置によりⅠと判定された箇所についても記載すること。
C32: ※3 附属物等の取付状態の○欄については、応急措置前に判定区分×とした箇所のうち応急措置により○判定とした箇所の数を記入すること。
C33: ※4 附属物等の異常番号は、本体工と番号が重複しないよう101番以降とする等の配慮を行い、分かりやすく記録すること。

Sheet 様式B_009
B2: ■定期点検記録様式 トンネル変状・異常箇所写真位置図 【様式B】 | N2: 定期点検年月日 | P2: 45621 | S2: 施設ID | V2: 34.32507,131.15851
B3: フリガナ | C3: (ﾀｲﾈｲｼﾞﾀﾞｲｲﾁﾄﾝﾈﾙ) | G3: 路線名 | H3: 国道491号 （長門・俵山道路） | K3: 管理者名 | L3: 山口県長門土木建築事務所 | Q3: 定期点検実施者 | S3: 株式会社荒谷建設コンサルタント | V3: 起点 | W3: 緯度 | X3: 341930.25
B4: 名 称 | C4: 大寧寺第1トンネル | S4: 河野 秀生 | W4: 経度 | X4: 1310930.6
B5: 所在地 | C5: 自 | D5: 山口県長門市深川湯本地先 | G5: トンネル工法 | I5: 山岳トンネル工法（NAT） | L5: トンネル延長 | N5: L= | O5: 1873 | P5: ｍ | Q5: 自専道 or 一般道 | R5: 自専道 | S5: 代替路の有無 | U5: 有 | V5: 終点 | W5: 緯度 | X5: 342016.53
C6: 至 | D6: 山口県長門市深川湯本地先 | G6: 建設年度 | I6: 2018 | L6: 幅員 | N6: L= | O6: 12 | P6: ｍ | S6: 緊急輸送道路 | U6: 一次 | W6: 経度 | X6: 1311011.6
B7: トンネル毎 の健全性の 診断の区分 | D7: Ⅲ
G8: 変状・異常 箇所数合計 | I8: トンネル本体工 | J8: 材質劣化 | K8: Ⅱ | L8: 109 | N8: Ⅲ | O8: 5 | Q8: Ⅳ | R8: 0 | T8: 附属物等 の取付状態 | V8: ◯ （応急措置後) | X8: 0
J9: 漏水 | K9: Ⅱ | L9: 1 | N9: Ⅲ | O9: 0 | Q9: Ⅳ | R9: 0
V10: ✕ | X10: 1
J11: 外力 | K11: Ⅱ | L11: 0 | N11: Ⅲ | O11: 0 | Q11: Ⅳ | R11: 0
B12: トンネル変状・異常箇所写真位置図
J29: 注１：本位置図は、見下げた状態で記載すること。 注２：覆工スパン番号は横断目地毎(矢板工法の場合は上半アーチの 横断目地毎)に設定すること。 | Q29: 注３：写真番号に付する変状番号は、各覆工スパンの変状に対して新たに確認された場合 は順次追加していくこと。 注４：横断目地の変状は前の覆工スパン番号で計上すること。 注５：１枚に収まらない場合は、複数枚に分けて作成すること。
C30: ※1 トンネル本体工の変状数は、材質劣化、漏水に起因するものは変状単位で、外力に起因するものはスパン単位で計上すること。
C31: ※2 トンネル本体工の変状に対しては、措置の必要性（Ⅱ～Ⅳ）について表記すること。また、点検前に実施された措置によりⅠと判定された箇所についても記載すること。
C32: ※3 附属物等の取付状態の○欄については、応急措置前に判定区分×とした箇所のうち応急措置により○判定とした箇所の数を記入すること。
C33: ※4 附属物等の異常番号は、本体工と番号が重複しないよう101番以降とする等の配慮を行い、分かりやすく記録すること。

Sheet 様式B_010
B2: ■定期点検記録様式 トンネル変状・異常箇所写真位置図 【様式B】 | N2: 定期点検年月日 | P2: 45621 | S2: 施設ID | V2: 34.32507,131.15851
B3: フリガナ | C3: (ﾀｲﾈｲｼﾞﾀﾞｲｲﾁﾄﾝﾈﾙ) | G3: 路線名 | H3: 国道491号 （長門・俵山道路） | K3: 管理者名 | L3: 山口県長門土木建築事務所 | Q3: 定期点検実施者 | S3: 株式会社荒谷建設コンサルタント | V3: 起点 | W3: 緯度 | X3: 341930.25
B4: 名 称 | C4: 大寧寺第1トンネル | S4: 河野 秀生 | W4: 経度 | X4: 1310930.6
B5: 所在地 | C5: 自 | D5: 山口県長門市深川湯本地先 | G5: トンネル工法 | I5: 山岳トンネル工法（NAT） | L5: トンネル延長 | N5: L= | O5: 1873 | P5: ｍ | Q5: 自専道 or 一般道 | R5: 自専道 | S5: 代替路の有無 | U5: 有 | V5: 終点 | W5: 緯度 | X5: 342016.53
C6: 至 | D6: 山口県長門市深川湯本地先 | G6: 建設年度 | I6: 2018 | L6: 幅員 | N6: L= | O6: 12 | P6: ｍ | S6: 緊急輸送道路 | U6: 一次 | W6: 経度 | X6: 1311011.6
B7: トンネル毎 の健全性の 診断の区分 | D7: Ⅲ
G8: 変状・異常 箇所数合計 | I8: トンネル本体工 | J8: 材質劣化 | K8: Ⅱ | L8: 109 | N8: Ⅲ | O8: 5 | Q8: Ⅳ | R8: 0 | T8: 附属物等 の取付状態 | V8: ◯ （応急措置後) | X8: 0
J9: 漏水 | K9: Ⅱ | L9: 1 | N9: Ⅲ | O9: 0 | Q9: Ⅳ | R9: 0
V10: ✕ | X10: 1
J11: 外力 | K11: Ⅱ | L11: 0 | N11: Ⅲ | O11: 0 | Q11: Ⅳ | R11: 0
B12: トンネル変状・異常箇所写真位置図
J29: 注１：本位置図は、見下げた状態で記載すること。 注２：覆工スパン番号は横断目地毎(矢板工法の場合は上半アーチの 横断目地毎)に設定すること。 | Q29: 注３：写真番号に付する変状番号は、各覆工スパンの変状に対して新たに確認された場合 は順次追加していくこと。 注４：横断目地の変状は前の覆工スパン番号で計上すること。 注５：１枚に収まらない場合は、複数枚に分けて作成すること。
C30: ※1 トンネル本体工の変状数は、材質劣化、漏水に起因するものは変状単位で、外力に起因するものはスパン単位で計上すること。
C31: ※2 トンネル本体工の変状に対しては、措置の必要性（Ⅱ～Ⅳ）について表記すること。また、点検前に実施された措置によりⅠと判定された箇所についても記載すること。
C32: ※3 附属物等の取付状態の○欄については、応急措置前に判定区分×とした箇所のうち応急措置により○判定とした箇所の数を記入すること。
C33: ※4 附属物等の異常番号は、本体工と番号が重複しないよう101番以降とする等の配慮を行い、分かりやすく記録すること。

Sheet 様式B_011
B2: ■定期点検記録様式 トンネル変状・異常箇所写真位置図 【様式B】 | N2: 定期点検年月日 | P2: 45621 | S2: 施設ID | V2: 34.32507,131.15851
B3: フリガナ | C3: (ﾀｲﾈｲｼﾞﾀﾞｲｲﾁﾄﾝﾈﾙ) | G3: 路線名 | H3: 国道491号 （長門・俵山道路） | K3: 管理者名 | L3: 山口県長門土木建築事務所 | Q3: 定期点検実施者 | S3: 株式会社荒谷建設コンサルタント | V3: 起点 | W3: 緯度 | X3: 341930.25
B4: 名 称 | C4: 大寧寺第1トンネル | S4: 河野 秀生 | W4: 経度 | X4: 1310930.6
B5: 所在地 | C5: 自 | D5: 山口県長門市深川湯本地先 | G5: トンネル工法 | I5: 山岳トンネル工法（NAT） | L5: トンネル延長 | N5: L= | O5: 1873 | P5: ｍ | Q5: 自専道 or 一般道 | R5: 自専道 | S5: 代替路の有無 | U5: 有 | V5: 終点 | W5: 緯度 | X5: 342016.53
C6: 至 | D6: 山口県長門市深川湯本地先 | G6: 建設年度 | I6: 2018 | L6: 幅員 | N6: L= | O6: 12 | P6: ｍ | S6: 緊急輸送道路 | U6: 一次 | W6: 経度 | X6: 1311011.6
B7: トンネル毎 の健全性の 診断の区分 | D7: Ⅲ
G8: 変状・異常 箇所数合計 | I8: トンネル本体工 | J8: 材質劣化 | K8: Ⅱ | L8: 109 | N8: Ⅲ | O8: 5 | Q8: Ⅳ | R8: 0 | T8: 附属物等 の取付状態 | V8: ◯ （応急措置後) | X8: 0
J9: 漏水 | K9: Ⅱ | L9: 1 | N9: Ⅲ | O9: 0 | Q9: Ⅳ | R9: 0
V10: ✕ | X10: 1
J11: 外力 | K11: Ⅱ | L11: 0 | N11: Ⅲ | O11: 0 | Q11: Ⅳ | R11: 0
B12: トンネル変状・異常箇所写真位置図
J29: 注１：本位置図は、見下げた状態で記載すること。 注２：覆工スパン番号は横断目地毎(矢板工法の場合は上半アーチの 横断目地毎)に設定すること。 | Q29: 注３：写真番号に付する変状番号は、各覆工スパンの変状に対して新たに確認された場合 は順次追加していくこと。 注４：横断目地の変状は前の覆工スパン番号で計上すること。 注５：１枚に収まらない場合は、複数枚に分けて作成すること。
C30: ※1 トンネル本体工の変状数は、材質劣化、漏水に起因するものは変状単位で、外力に起因するものはスパン単位で計上すること。
C31: ※2 トンネル本体工の変状に対しては、措置の必要性（Ⅱ～Ⅳ）について表記すること。また、点検前に実施された措置によりⅠと判定された箇所についても記載すること。
C32: ※3 附属物等の取付状態の○欄については、応急措置前に判定区分×とした箇所のうち応急措置により○判定とした箇所の数を記入すること。
C33: ※4 附属物等の異常番号は、本体工と番号が重複しないよう101番以降とする等の配慮を行い、分かりやすく記録すること。

Sheet 様式B_012
B2: ■定期点検記録様式 トンネル変状・異常箇所写真位置図 【様式B】 | N2: 定期点検年月日 | P2: 45621 | S2: 施設ID | V2: 34.32507,131.15851
B3: フリガナ | C3: (ﾀｲﾈｲｼﾞﾀﾞｲｲﾁﾄﾝﾈﾙ) | G3: 路線名 | H3: 国道491号 （長門・俵山道路） | K3: 管理者名 | L3: 山口県長門土木建築事務所 | Q3: 定期点検実施者 | S3: 株式会社荒谷建設コンサルタント | V3: 起点 | W3: 緯度 | X3: 341930.25
B4: 名 称 | C4: 大寧寺第1トンネル | S4: 河野 秀生 | W4: 経度 | X4: 1310930.6
B5: 所在地 | C5: 自 | D5: 山口県長門市深川湯本地先 | G5: トンネル工法 | I5: 山岳トンネル工法（NAT） | L5: トンネル延長 | N5: L= | O5: 1873 | P5: ｍ | Q5: 自専道 or 一般道 | R5: 自専道 | S5: 代替路の有無 | U5: 有 | V5: 終点 | W5: 緯度 | X5: 342016.53
C6: 至 | D6: 山口県長門市深川湯本地先 | G6: 建設年度 | I6: 2018 | L6: 幅員 | N6: L= | O6: 12 | P6: ｍ | S6: 緊急輸送道路 | U6: 一次 | W6: 経度 | X6: 1311011.6
B7: トンネル毎 の健全性の 診断の区分 | D7: Ⅲ
G8: 変状・異常 箇所数合計 | I8: トンネル本体工 | J8: 材質劣化 | K8: Ⅱ | L8: 109 | N8: Ⅲ | O8: 5 | Q8: Ⅳ | R8: 0 | T8: 附属物等 の取付状態 | V8: ◯ （応急措置後) | X8: 0
J9: 漏水 | K9: Ⅱ | L9: 1 | N9: Ⅲ | O9: 0 | Q9: Ⅳ | R9: 0
V10: ✕ | X10: 1
J11: 外力 | K11: Ⅱ | L11: 0 | N11: Ⅲ | O11: 0 | Q11: Ⅳ | R11: 0
B12: トンネル変状・異常箇所写真位置図
J29: 注１：本位置図は、見下げた状態で記載すること。 注２：覆工スパン番号は横断目地毎(矢板工法の場合は上半アーチの 横断目地毎)に設定すること。 | Q29: 注３：写真番号に付する変状番号は、各覆工スパンの変状に対して新たに確認された場合 は順次追加していくこと。 注４：横断目地の変状は前の覆工スパン番号で計上すること。 注５：１枚に収まらない場合は、複数枚に分けて作成すること。
C30: ※1 トンネル本体工の変状数は、材質劣化、漏水に起因するものは変状単位で、外力に起因するものはスパン単位で計上すること。
C31: ※2 トンネル本体工の変状に対しては、措置の必要性（Ⅱ～Ⅳ）について表記すること。また、点検前に実施された措置によりⅠと判定された箇所についても記載すること。
C32: ※3 附属物等の取付状態の○欄については、応急措置前に判定区分×とした箇所のうち応急措置により○判定とした箇所の数を記入すること。
C33: ※4 附属物等の異常番号は、本体工と番号が重複しないよう101番以降とする等の配慮を行い、分かりやすく記録すること。

Sheet 様式B_013
B2: ■定期点検記録様式 トンネル変状・異常箇所写真位置図 【様式B】 | N2: 定期点検年月日 | P2: 45621 | S2: 施設ID | V2: 34.32507,131.15851
B3: フリガナ | C3: (ﾀｲﾈｲｼﾞﾀﾞｲｲﾁﾄﾝﾈﾙ) | G3: 路線名 | H3: 国道491号 （長門・俵山道路） | K3: 管理者名 | L3: 山口県長門土木建築事務所 | Q3: 定期点検実施者 | S3: 株式会社荒谷建設コンサルタント | V3: 起点 | W3: 緯度 | X3: 341930.25
B4: 名 称 | C4: 大寧寺第1トンネル | S4: 河野 秀生 | W4: 経度 | X4: 1310930.6
B5: 所在地 | C5: 自 | D5: 山口県長門市深川湯本地先 | G5: トンネル工法 | I5: 山岳トンネル工法（NAT） | L5: トンネル延長 | N5: L= | O5: 1873 | P5: ｍ | Q5: 自専道 or 一般道 | R5: 自専道 | S5: 代替路の有無 | U5: 有 | V5: 終点 | W5: 緯度 | X5: 342016.53
C6: 至 | D6: 山口県長門市深川湯本地先 | G6: 建設年度 | I6: 2018 | L6: 幅員 | N6: L= | O6: 12 | P6: ｍ | S6: 緊急輸送道路 | U6: 一次 | W6: 経度 | X6: 1311011.6
B7: トンネル毎 の健全性の 診断の区分 | D7: Ⅲ
G8: 変状・異常 箇所数合計 | I8: トンネル本体工 | J8: 材質劣化 | K8: Ⅱ | L8: 109 | N8: Ⅲ | O8: 5 | Q8: Ⅳ | R8: 0 | T8: 附属物等 の取付状態 | V8: ◯ （応急措置後) | X8: 0
J9: 漏水 | K9: Ⅱ | L9: 1 | N9: Ⅲ | O9: 0 | Q9: Ⅳ | R9: 0
V10: ✕ | X10: 1
J11: 外力 | K11: Ⅱ | L11: 0 | N11: Ⅲ | O11: 0 | Q11: Ⅳ | R11: 0
B12: トンネル変状・異常箇所写真位置図
J29: 注１：本位置図は、見下げた状態で記載すること。 注２：覆工スパン番号は横断目地毎(矢板工法の場合は上半アーチの 横断目地毎)に設定すること。 | Q29: 注３：写真番号に付する変状番号は、各覆工スパンの変状に対して新たに確認された場合 は順次追加していくこと。 注４：横断目地の変状は前の覆工スパン番号で計上すること。 注５：１枚に収まらない場合は、複数枚に分けて作成すること。
C30: ※1 トンネル本体工の変状数は、材質劣化、漏水に起因するものは変状単位で、外力に起因するものはスパン単位で計上すること。
C31: ※2 トンネル本体工の変状に対しては、措置の必要性（Ⅱ～Ⅳ）について表記すること。また、点検前に実施された措置によりⅠと判定された箇所についても記載すること。
C32: ※3 附属物等の取付状態の○欄については、応急措置前に判定区分×とした箇所のうち応急措置により○判定とした箇所の数を記入すること。
C33: ※4 附属物等の異常番号は、本体工と番号が重複しないよう101番以降とする等の配慮を行い、分かりやすく記録すること。

Sheet 様式B_014
B2: ■定期点検記録様式 トンネル変状・異常箇所写真位置図 【様式B】 | N2: 定期点検年月日 | P2: 45621 | S2: 施設ID | V2: 34.32507,131.15851
B3: フリガナ | C3: (ﾀｲﾈｲｼﾞﾀﾞｲｲﾁﾄﾝﾈﾙ) | G3: 路線名 | H3: 国道491号 （長門・俵山道路） | K3: 管理者名 | L3: 山口県長門土木建築事務所 | Q3: 定期点検実施者 | S3: 株式会社荒谷建設コンサルタント | V3: 起点 | W3: 緯度 | X3: 341930.25
B4: 名 称 | C4: 大寧寺第1トンネル | S4: 河野 秀生 | W4: 経度 | X4: 1310930.6
B5: 所在地 | C5: 自 | D5: 山口県長門市深川湯本地先 | G5: トンネル工法 | I5: 山岳トンネル工法（NAT） | L5: トンネル延長 | N5: L= | O5: 1873 | P5: ｍ | Q5: 自専道 or 一般道 | R5: 自専道 | S5: 代替路の有無 | U5: 有 | V5: 終点 | W5: 緯度 | X5: 342016.53
C6: 至 | D6: 山口県長門市深川湯本地先 | G6: 建設年度 | I6: 2018 | L6: 幅員 | N6: L= | O6: 12 | P6: ｍ | S6: 緊急輸送道路 | U6: 一次 | W6: 経度 | X6: 1311011.6
B7: トンネル毎 の健全性の 診断の区分 | D7: Ⅲ
G8: 変状・異常 箇所数合計 | I8: トンネル本体工 | J8: 材質劣化 | K8: Ⅱ | L8: 109 | N8: Ⅲ | O8: 5 | Q8: Ⅳ | R8: 0 | T8: 附属物等 の取付状態 | V8: ◯ （応急措置後) | X8: 0
J9: 漏水 | K9: Ⅱ | L9: 1 | N9: Ⅲ | O9: 0 | Q9: Ⅳ | R9: 0
V10: ✕ | X10: 1
J11: 外力 | K11: Ⅱ | L11: 0 | N11: Ⅲ | O11: 0 | Q11: Ⅳ | R11: 0
B12: トンネル変状・異常箇所写真位置図
J29: 注１：本位置図は、見下げた状態で記載すること。 注２：覆工スパン番号は横断目地毎(矢板工法の場合は上半アーチの 横断目地毎)に設定すること。 | Q29: 注３：写真番号に付する変状番号は、各覆工スパンの変状に対して新たに確認された場合 は順次追加していくこと。 注４：横断目地の変状は前の覆工スパン番号で計上すること。 注５：１枚に収まらない場合は、複数枚に分けて作成すること。
C30: ※1 トンネル本体工の変状数は、材質劣化、漏水に起因するものは変状単位で、外力に起因するものはスパン単位で計上すること。
C31: ※2 トンネル本体工の変状に対しては、措置の必要性（Ⅱ～Ⅳ）について表記すること。また、点検前に実施された措置によりⅠと判定された箇所についても記載すること。
C32: ※3 附属物等の取付状態の○欄については、応急措置前に判定区分×とした箇所のうち応急措置により○判定とした箇所の数を記入すること。
C33: ※4 附属物等の異常番号は、本体工と番号が重複しないよう101番以降とする等の配慮を行い、分かりやすく記録すること。

Sheet 様式B_015
B2: ■定期点検記録様式 トンネル変状・異常箇所写真位置図 【様式B】 | N2: 定期点検年月日 | P2: 45621 | S2: 施設ID | V2: 34.32507,131.15851
B3: フリガナ | C3: (ﾀｲﾈｲｼﾞﾀﾞｲｲﾁﾄﾝﾈﾙ) | G3: 路線名 | H3: 国道491号 （長門・俵山道路） | K3: 管理者名 | L3: 山口県長門土木建築事務所 | Q3: 定期点検実施者 | S3: 株式会社荒谷建設コンサルタント | V3: 起点 | W3: 緯度 | X3: 341930.25
B4: 名 称 | C4: 大寧寺第1トンネル | S4: 河野 秀生 | W4: 経度 | X4: 1310930.6
B5: 所在地 | C5: 自 | D5: 山口県長門市深川湯本地先 | G5: トンネル工法 | I5: 山岳トンネル工法（NAT） | L5: トンネル延長 | N5: L= | O5: 1873 | P5: ｍ | Q5: 自専道 or 一般道 | R5: 自専道 | S5: 代替路の有無 | U5: 有 | V5: 終点 | W5: 緯度 | X5: 342016.53
C6: 至 | D6: 山口県長門市深川湯本地先 | G6: 建設年度 | I6: 2018 | L6: 幅員 | N6: L= | O6: 12 | P6: ｍ | S6: 緊急輸送道路 | U6: 一次 | W6: 経度 | X6: 1311011.6
B7: トンネル毎 の健全性の 診断の区分 | D7: Ⅲ
G8: 変状・異常 箇所数合計 | I8: トンネル本体工 | J8: 材質劣化 | K8: Ⅱ | L8: 109 | N8: Ⅲ | O8: 5 | Q8: Ⅳ | R8: 0 | T8: 附属物等 の取付状態 | V8: ◯ （応急措置後) | X8: 0
J9: 漏水 | K9: Ⅱ | L9: 1 | N9: Ⅲ | O9: 0 | Q9: Ⅳ | R9: 0
V10: ✕ | X10: 1
J11: 外力 | K11: Ⅱ | L11: 0 | N11: Ⅲ | O11: 0 | Q11: Ⅳ | R11: 0
B12: トンネル変状・異常箇所写真位置図
J29: 注１：本位置図は、見下げた状態で記載すること。 注２：覆工スパン番号は横断目地毎(矢板工法の場合は上半アーチの 横断目地毎)に設定すること。 | Q29: 注３：写真番号に付する変状番号は、各覆工スパンの変状に対して新たに確認された場合 は順次追加していくこと。 注４：横断目地の変状は前の覆工スパン番号で計上すること。 注５：１枚に収まらない場合は、複数枚に分けて作成すること。
C30: ※1 トンネル本体工の変状数は、材質劣化、漏水に起因するものは変状単位で、外力に起因するものはスパン単位で計上すること。
C31: ※2 トンネル本体工の変状に対しては、措置の必要性（Ⅱ～Ⅳ）について表記すること。また、点検前に実施された措置によりⅠと判定された箇所についても記載すること。
C32: ※3 附属物等の取付状態の○欄については、応急措置前に判定区分×とした箇所のうち応急措置により○判定とした箇所の数を記入すること。
C33: ※4 附属物等の異常番号は、本体工と番号が重複しないよう101番以降とする等の配慮を行い、分かりやすく記録すること。

Sheet 様式B_016
B2: ■定期点検記録様式 トンネル変状・異常箇所写真位置図 【様式B】 | N2: 定期点検年月日 | P2: 45621 | S2: 施設ID | V2: 34.32507,131.15851
B3: フリガナ | C3: (ﾀｲﾈｲｼﾞﾀﾞｲｲﾁﾄﾝﾈﾙ) | G3: 路線名 | H3: 国道491号 （長門・俵山道路） | K3: 管理者名 | L3: 山口県長門土木建築事務所 | Q3: 定期点検実施者 | S3: 株式会社荒谷建設コンサルタント | V3: 起点 | W3: 緯度 | X3: 341930.25
B4: 名 称 | C4: 大寧寺第1トンネル | S4: 河野 秀生 | W4: 経度 | X4: 1310930.6
B5: 所在地 | C5: 自 | D5: 山口県長門市深川湯本地先 | G5: トンネル工法 | I5: 山岳トンネル工法（NAT） | L5: トンネル延長 | N5: L= | O5: 1873 | P5: ｍ | Q5: 自専道 or 一般道 | R5: 自専道 | S5: 代替路の有無 | U5: 有 | V5: 終点 | W5: 緯度 | X5: 342016.53
C6: 至 | D6: 山口県長門市深川湯本地先 | G6: 建設年度 | I6: 2018 | L6: 幅員 | N6: L= | O6: 12 | P6: ｍ | S6: 緊急輸送道路 | U6: 一次 | W6: 経度 | X6: 1311011.6
B7: トンネル毎 の健全性の 診断の区分 | D7: Ⅲ
G8: 変状・異常 箇所数合計 | I8: トンネル本体工 | J8: 材質劣化 | K8: Ⅱ | L8: 109 | N8: Ⅲ | O8: 5 | Q8: Ⅳ | R8: 0 | T8: 附属物等 の取付状態 | V8: ◯ （応急措置後) | X8: 0
J9: 漏水 | K9: Ⅱ | L9: 1 | N9: Ⅲ | O9: 0 | Q9: Ⅳ | R9: 0
V10: ✕ | X10: 1
J11: 外力 | K11: Ⅱ | L11: 0 | N11: Ⅲ | O11: 0 | Q11: Ⅳ | R11: 0
B12: トンネル変状・異常箇所写真位置図
J29: 注１：本位置図は、見下げた状態で記載すること。 注２：覆工スパン番号は横断目地毎(矢板工法の場合は上半アーチの 横断目地毎)に設定すること。 | Q29: 注３：写真番号に付する変状番号は、各覆工スパンの変状に対して新たに確認された場合 は順次追加していくこと。 注４：横断目地の変状は前の覆工スパン番号で計上すること。 注５：１枚に収まらない場合は、複数枚に分けて作成すること。
C30: ※1 トンネル本体工の変状数は、材質劣化、漏水に起因するものは変状単位で、外力に起因するものはスパン単位で計上すること。
C31: ※2 トンネル本体工の変状に対しては、措置の必要性（Ⅱ～Ⅳ）について表記すること。また、点検前に実施された措置によりⅠと判定された箇所についても記載すること。
C32: ※3 附属物等の取付状態の○欄については、応急措置前に判定区分×とした箇所のうち応急措置により○判定とした箇所の数を記入すること。
C33: ※4 附属物等の異常番号は、本体工と番号が重複しないよう101番以降とする等の配慮を行い、分かりやすく記録すること。

Sheet 様式B_017
B2: ■定期点検記録様式 トンネル変状・異常箇所写真位置図 【様式B】 | N2: 定期点検年月日 | P2: 45621 | S2: 施設ID | V2: 34.32507,131.15851
B3: フリガナ | C3: (ﾀｲﾈｲｼﾞﾀﾞｲｲﾁﾄﾝﾈﾙ) | G3: 路線名 | H3: 国道491号 （長門・俵山道路） | K3: 管理者名 | L3: 山口県長門土木建築事務所 | Q3: 定期点検実施者 | S3: 株式会社荒谷建設コンサルタント | V3: 起点 | W3: 緯度 | X3: 341930.25
B4: 名 称 | C4: 大寧寺第1トンネル | S4: 河野 秀生 | W4: 経度 | X4: 1310930.6
B5: 所在地 | C5: 自 | D5: 山口県長門市深川湯本地先 | G5: トンネル工法 | I5: 山岳トンネル工法（NAT） | L5: トンネル延長 | N5: L= | O5: 1873 | P5: ｍ | Q5: 自専道 or 一般道 | R5: 自専道 | S5: 代替路の有無 | U5: 有 | V5: 終点 | W5: 緯度 | X5: 342016.53
C6: 至 | D6: 山口県長門市深川湯本地先 | G6: 建設年度 | I6: 2018 | L6: 幅員 | N6: L= | O6: 12 | P6: ｍ | S6: 緊急輸送道路 | U6: 一次 | W6: 経度 | X6: 1311011.6
B7: トンネル毎 の健全性の 診断の区分 | D7: Ⅲ
G8: 変状・異常 箇所数合計 | I8: トンネル本体工 | J8: 材質劣化 | K8: Ⅱ | L8: 109 | N8: Ⅲ | O8: 5 | Q8: Ⅳ | R8: 0 | T8: 附属物等 の取付状態 | V8: ◯ （応急措置後) | X8: 0
J9: 漏水 | K9: Ⅱ | L9: 1 | N9: Ⅲ | O9: 0 | Q9: Ⅳ | R9: 0
V10: ✕ | X10: 1
J11: 外力 | K11: Ⅱ | L11: 0 | N11: Ⅲ | O11: 0 | Q11: Ⅳ | R11: 0
B12: トンネル変状・異常箇所写真位置図
J29: 注１：本位置図は、見下げた状態で記載すること。 注２：覆工スパン番号は横断目地毎(矢板工法の場合は上半アーチの 横断目地毎)に設定すること。 | Q29: 注３：写真番号に付する変状番号は、各覆工スパンの変状に対して新たに確認された場合 は順次追加していくこと。 注４：横断目地の変状は前の覆工スパン番号で計上すること。 注５：１枚に収まらない場合は、複数枚に分けて作成すること。
C30: ※1 トンネル本体工の変状数は、材質劣化、漏水に起因するものは変状単位で、外力に起因するものはスパン単位で計上すること。
C31: ※2 トンネル本体工の変状に対しては、措置の必要性（Ⅱ～Ⅳ）について表記すること。また、点検前に実施された措置によりⅠと判定された箇所についても記載すること。
C32: ※3 附属物等の取付状態の○欄については、応急措置前に判定区分×とした箇所のうち応急措置により○判定とした箇所の数を記入すること。
C33: ※4 附属物等の異常番号は、本体工と番号が重複しないよう101番以降とする等の配慮を行い、分かりやすく記録すること。

Sheet 様式B_018
B2: ■定期点検記録様式 トンネル変状・異常箇所写真位置図 【様式B】 | N2: 定期点検年月日 | P2: 45621 | S2: 施設ID | V2: 34.32507,131.15851
B3: フリガナ | C3: (ﾀｲﾈｲｼﾞﾀﾞｲｲﾁﾄﾝﾈﾙ) | G3: 路線名 | H3: 国道491号 （長門・俵山道路） | K3: 管理者名 | L3: 山口県長門土木建築事務所 | Q3: 定期点検実施者 | S3: 株式会社荒谷建設コンサルタント | V3: 起点 | W3: 緯度 | X3: 341930.25
B4: 名 称 | C4: 大寧寺第1トンネル | S4: 河野 秀生 | W4: 経度 | X4: 1310930.6
B5: 所在地 | C5: 自 | D5: 山口県長門市深川湯本地先 | G5: トンネル工法 | I5: 山岳トンネル工法（NAT） | L5: トンネル延長 | N5: L= | O5: 1873 | P5: ｍ | Q5: 自専道 or 一般道 | R5: 自専道 | S5: 代替路の有無 | U5: 有 | V5: 終点 | W5: 緯度 | X5: 342016.53
C6: 至 | D6: 山口県長門市深川湯本地先 | G6: 建設年度 | I6: 2018 | L6: 幅員 | N6: L= | O6: 12 | P6: ｍ | S6: 緊急輸送道路 | U6: 一次 | W6: 経度 | X6: 1311011.6
B7: トンネル毎 の健全性の 診断の区分 | D7: Ⅲ
G8: 変状・異常 箇所数合計 | I8: トンネル本体工 | J8: 材質劣化 | K8: Ⅱ | L8: 109 | N8: Ⅲ | O8: 5 | Q8: Ⅳ | R8: 0 | T8: 附属物等 の取付状態 | V8: ◯ （応急措置後) | X8: 0
J9: 漏水 | K9: Ⅱ | L9: 1 | N9: Ⅲ | O9: 0 | Q9: Ⅳ | R9: 0
V10: ✕ | X10: 1
J11: 外力 | K11: Ⅱ | L11: 0 | N11: Ⅲ | O11: 0 | Q11: Ⅳ | R11: 0
B12: トンネル変状・異常箇所写真位置図
J29: 注１：本位置図は、見下げた状態で記載すること。 注２：覆工スパン番号は横断目地毎(矢板工法の場合は上半アーチの 横断目地毎)に設定すること。 | Q29: 注３：写真番号に付する変状番号は、各覆工スパンの変状に対して新たに確認された場合 は順次追加していくこと。 注４：横断目地の変状は前の覆工スパン番号で計上すること。 注５：１枚に収まらない場合は、複数枚に分けて作成すること。
C30: ※1 トンネル本体工の変状数は、材質劣化、漏水に起因するものは変状単位で、外力に起因するものはスパン単位で計上すること。
C31: ※2 トンネル本体工の変状に対しては、措置の必要性（Ⅱ～Ⅳ）について表記すること。また、点検前に実施された措置によりⅠと判定された箇所についても記載すること。
C32: ※3 附属物等の取付状態の○欄については、応急措置前に判定区分×とした箇所のうち応急措置により○判定とした箇所の数を記入すること。
C33: ※4 附属物等の異常番号は、本体工と番号が重複しないよう101番以降とする等の配慮を行い、分かりやすく記録すること。

Sheet 様式B_019
B2: ■定期点検記録様式 トンネル変状・異常箇所写真位置図 【様式B】 | N2: 定期点検年月日 | P2: 45621 | S2: 施設ID | V2: 34.32507,131.15851
B3: フリガナ | C3: (ﾀｲﾈｲｼﾞﾀﾞｲｲﾁﾄﾝﾈﾙ) | G3: 路線名 | H3: 国道491号 （長門・俵山道路） | K3: 管理者名 | L3: 山口県長門土木建築事務所 | Q3: 定期点検実施者 | S3: 株式会社荒谷建設コンサルタント | V3: 起点 | W3: 緯度 | X3: 341930.25
B4: 名 称 | C4: 大寧寺第1トンネル | S4: 河野 秀生 | W4: 経度 | X4: 1310930.6
B5: 所在地 | C5: 自 | D5: 山口県長門市深川湯本地先 | G5: トンネル工法 | I5: 山岳トンネル工法（NAT） | L5: トンネル延長 | N5: L= | O5: 1873 | P5: ｍ | Q5: 自専道 or 一般道 | R5: 自専道 | S5: 代替路の有無 | U5: 有 | V5: 終点 | W5: 緯度 | X5: 342016.53
C6: 至 | D6: 山口県長門市深川湯本地先 | G6: 建設年度 | I6: 2018 | L6: 幅員 | N6: L= | O6: 12 | P6: ｍ | S6: 緊急輸送道路 | U6: 一次 | W6: 経度 | X6: 1311011.6
B7: トンネル毎 の健全性の 診断の区分 | D7: Ⅲ
G8: 変状・異常 箇所数合計 | I8: トンネル本体工 | J8: 材質劣化 | K8: Ⅱ | L8: 109 | N8: Ⅲ | O8: 5 | Q8: Ⅳ | R8: 0 | T8: 附属物等 の取付状態 | V8: ◯ （応急措置後) | X8: 0
J9: 漏水 | K9: Ⅱ | L9: 1 | N9: Ⅲ | O9: 0 | Q9: Ⅳ | R9: 0
V10: ✕ | X10: 1
J11: 外力 | K11: Ⅱ | L11: 0 | N11: Ⅲ | O11: 0 | Q11: Ⅳ | R11: 0
B12: トンネル変状・異常箇所写真位置図
J29: 注１：本位置図は、見下げた状態で記載すること。 注２：覆工スパン番号は横断目地毎(矢板工法の場合は上半アーチの 横断目地毎)に設定すること。 | Q29: 注３：写真番号に付する変状番号は、各覆工スパンの変状に対して新たに確認された場合 は順次追加していくこと。 注４：横断目地の変状は前の覆工スパン番号で計上すること。 注５：１枚に収まらない場合は、複数枚に分けて作成すること。
C30: ※1 トンネル本体工の変状数は、材質劣化、漏水に起因するものは変状単位で、外力に起因するものはスパン単位で計上すること。
C31: ※2 トンネル本体工の変状に対しては、措置の必要性（Ⅱ～Ⅳ）について表記すること。また、点検前に実施された措置によりⅠと判定された箇所についても記載すること。
C32: ※3 附属物等の取付状態の○欄については、応急措置前に判定区分×とした箇所のうち応急措置により○判定とした箇所の数を記入すること。
C33: ※4 附属物等の異常番号は、本体工と番号が重複しないよう101番以降とする等の配慮を行い、分かりやすく記録すること。

Sheet 様式B_020
B2: ■定期点検記録様式 トンネル変状・異常箇所写真位置図 【様式B】 | N2: 定期点検年月日 | P2: 45621 | S2: 施設ID | V2: 34.32507,131.15851
B3: フリガナ | C3: (ﾀｲﾈｲｼﾞﾀﾞｲｲﾁﾄﾝﾈﾙ) | G3: 路線名 | H3: 国道491号 （長門・俵山道路） | K3: 管理者名 | L3: 山口県長門土木建築事務所 | Q3: 定期点検実施者 | S3: 株式会社荒谷建設コンサルタント | V3: 起点 | W3: 緯度 | X3: 341930.25
B4: 名 称 | C4: 大寧寺第1トンネル | S4: 河野 秀生 | W4: 経度 | X4: 1310930.6
B5: 所在地 | C5: 自 | D5: 山口県長門市深川湯本地先 | G5: トンネル工法 | I5: 山岳トンネル工法（NAT） | L5: トンネル延長 | N5: L= | O5: 1873 | P5: ｍ | Q5: 自専道 or 一般道 | R5: 自専道 | S5: 代替路の有無 | U5: 有 | V5: 終点 | W5: 緯度 | X5: 342016.53
C6: 至 | D6: 山口県長門市深川湯本地先 | G6: 建設年度 | I6: 2018 | L6: 幅員 | N6: L= | O6: 12 | P6: ｍ | S6: 緊急輸送道路 | U6: 一次 | W6: 経度 | X6: 1311011.6
B7: トンネル毎 の健全性の 診断の区分 | D7: Ⅲ
G8: 変状・異常 箇所数合計 | I8: トンネル本体工 | J8: 材質劣化 | K8: Ⅱ | L8: 109 | N8: Ⅲ | O8: 5 | Q8: Ⅳ | R8: 0 | T8: 附属物等 の取付状態 | V8: ◯ （応急措置後) | X8: 0
J9: 漏水 | K9: Ⅱ | L9: 1 | N9: Ⅲ | O9: 0 | Q9: Ⅳ | R9: 0
V10: ✕ | X10: 1
J11: 外力 | K11: Ⅱ | L11: 0 | N11: Ⅲ | O11: 0 | Q11: Ⅳ | R11: 0
B12: トンネル変状・異常箇所写真位置図
J29: 注１：本位置図は、見下げた状態で記載すること。 注２：覆工スパン番号は横断目地毎(矢板工法の場合は上半アーチの 横断目地毎)に設定すること。 | Q29: 注３：写真番号に付する変状番号は、各覆工スパンの変状に対して新たに確認された場合 は順次追加していくこと。 注４：横断目地の変状は前の覆工スパン番号で計上すること。 注５：１枚に収まらない場合は、複数枚に分けて作成すること。
C30: ※1 トンネル本体工の変状数は、材質劣化、漏水に起因するものは変状単位で、外力に起因するものはスパン単位で計上すること。
C31: ※2 トンネル本体工の変状に対しては、措置の必要性（Ⅱ～Ⅳ）について表記すること。また、点検前に実施された措置によりⅠと判定された箇所についても記載すること。
C32: ※3 附属物等の取付状態の○欄については、応急措置前に判定区分×とした箇所のうち応急措置により○判定とした箇所の数を記入すること。
C33: ※4 附属物等の異常番号は、本体工と番号が重複しないよう101番以降とする等の配慮を行い、分かりやすく記録すること。

Sheet 様式B_021
B2: ■定期点検記録様式 トンネル変状・異常箇所写真位置図 【様式B】 | N2: 定期点検年月日 | P2: 45621 | S2: 施設ID | V2: 34.32507,131.15851
B3: フリガナ | C3: (ﾀｲﾈｲｼﾞﾀﾞｲｲﾁﾄﾝﾈﾙ) | G3: 路線名 | H3: 国道491号 （長門・俵山道路） | K3: 管理者名 | L3: 山口県長門土木建築事務所 | Q3: 定期点検実施者 | S3: 株式会社荒谷建設コンサルタント | V3: 起点 | W3: 緯度 | X3: 341930.25
B4: 名 称 | C4: 大寧寺第1トンネル | S4: 河野 秀生 | W4: 経度 | X4: 1310930.6
B5: 所在地 | C5: 自 | D5: 山口県長門市深川湯本地先 | G5: トンネル工法 | I5: 山岳トンネル工法（NAT） | L5: トンネル延長 | N5: L= | O5: 1873 | P5: ｍ | Q5: 自専道 or 一般道 | R5: 自専道 | S5: 代替路の有無 | U5: 有 | V5: 終点 | W5: 緯度 | X5: 342016.53
C6: 至 | D6: 山口県長門市深川湯本地先 | G6: 建設年度 | I6: 2018 | L6: 幅員 | N6: L= | O6: 12 | P6: ｍ | S6: 緊急輸送道路 | U6: 一次 | W6: 経度 | X6: 1311011.6
B7: トンネル毎 の健全性の 診断の区分 | D7: Ⅲ
G8: 変状・異常 箇所数合計 | I8: トンネル本体工 | J8: 材質劣化 | K8: Ⅱ | L8: 109 | N8: Ⅲ | O8: 5 | Q8: Ⅳ | R8: 0 | T8: 附属物等 の取付状態 | V8: ◯ （応急措置後) | X8: 0
J9: 漏水 | K9: Ⅱ | L9: 1 | N9: Ⅲ | O9: 0 | Q9: Ⅳ | R9: 0
V10: ✕ | X10: 1
J11: 外力 | K11: Ⅱ | L11: 0 | N11: Ⅲ | O11: 0 | Q11: Ⅳ | R11: 0
B12: トンネル変状・異常箇所写真位置図
J29: 注１：本位置図は、見下げた状態で記載すること。 注２：覆工スパン番号は横断目地毎(矢板工法の場合は上半アーチの 横断目地毎)に設定すること。 | Q29: 注３：写真番号に付する変状番号は、各覆工スパンの変状に対して新たに確認された場合 は順次追加していくこと。 注４：横断目地の変状は前の覆工スパン番号で計上すること。 注５：１枚に収まらない場合は、複数枚に分けて作成すること。
C30: ※1 トンネル本体工の変状数は、材質劣化、漏水に起因するものは変状単位で、外力に起因するものはスパン単位で計上すること。
C31: ※2 トンネル本体工の変状に対しては、措置の必要性（Ⅱ～Ⅳ）について表記すること。また、点検前に実施された措置によりⅠと判定された箇所についても記載すること。
C32: ※3 附属物等の取付状態の○欄については、応急措置前に判定区分×とした箇所のうち応急措置により○判定とした箇所の数を記入すること。
C33: ※4 附属物等の異常番号は、本体工と番号が重複しないよう101番以降とする等の配慮を行い、分かりやすく記録すること。

Sheet 様式B_022
B2: ■定期点検記録様式 トンネル変状・異常箇所写真位置図 【様式B】 | N2: 定期点検年月日 | P2: 45621 | S2: 施設ID | V2: 34.32507,131.15851
B3: フリガナ | C3: (ﾀｲﾈｲｼﾞﾀﾞｲｲﾁﾄﾝﾈﾙ) | G3: 路線名 | H3: 国道491号 （長門・俵山道路） | K3: 管理者名 | L3: 山口県長門土木建築事務所 | Q3: 定期点検実施者 | S3: 株式会社荒谷建設コンサルタント | V3: 起点 | W3: 緯度 | X3: 341930.25
B4: 名 称 | C4: 大寧寺第1トンネル | S4: 河野 秀生 | W4: 経度 | X4: 1310930.6
B5: 所在地 | C5: 自 | D5: 山口県長門市深川湯本地先 | G5: トンネル工法 | I5: 山岳トンネル工法（NAT） | L5: トンネル延長 | N5: L= | O5: 1873 | P5: ｍ | Q5: 自専道 or 一般道 | R5: 自専道 | S5: 代替路の有無 | U5: 有 | V5: 終点 | W5: 緯度 | X5: 342016.53
C6: 至 | D6: 山口県長門市深川湯本地先 | G6: 建設年度 | I6: 2018 | L6: 幅員 | N6: L= | O6: 12 | P6: ｍ | S6: 緊急輸送道路 | U6: 一次 | W6: 経度 | X6: 1311011.6
B7: トンネル毎 の健全性の 診断の区分 | D7: Ⅲ
G8: 変状・異常 箇所数合計 | I8: トンネル本体工 | J8: 材質劣化 | K8: Ⅱ | L8: 109 | N8: Ⅲ | O8: 5 | Q8: Ⅳ | R8: 0 | T8: 附属物等 の取付状態 | V8: ◯ （応急措置後) | X8: 0
J9: 漏水 | K9: Ⅱ | L9: 1 | N9: Ⅲ | O9: 0 | Q9: Ⅳ | R9: 0
V10: ✕ | X10: 1
J11: 外力 | K11: Ⅱ | L11: 0 | N11: Ⅲ | O11: 0 | Q11: Ⅳ | R11: 0
B12: トンネル変状・異常箇所写真位置図
J29: 注１：本位置図は、見下げた状態で記載すること。 注２：覆工スパン番号は横断目地毎(矢板工法の場合は上半アーチの 横断目地毎)に設定すること。 | Q29: 注３：写真番号に付する変状番号は、各覆工スパンの変状に対して新たに確認された場合 は順次追加していくこと。 注４：横断目地の変状は前の覆工スパン番号で計上すること。 注５：１枚に収まらない場合は、複数枚に分けて作成すること。
C30: ※1 トンネル本体工の変状数は、材質劣化、漏水に起因するものは変状単位で、外力に起因するものはスパン単位で計上すること。
C31: ※2 トンネル本体工の変状に対しては、措置の必要性（Ⅱ～Ⅳ）について表記すること。また、点検前に実施された措置によりⅠと判定された箇所についても記載すること。
C32: ※3 附属物等の取付状態の○欄については、応急措置前に判定区分×とした箇所のうち応急措置により○判定とした箇所の数を記入すること。
C33: ※4 附属物等の異常番号は、本体工と番号が重複しないよう101番以降とする等の配慮を行い、分かりやすく記録すること。

Sheet 様式B_023
B2: ■定期点検記録様式 トンネル変状・異常箇所写真位置図 【様式B】 | N2: 定期点検年月日 | P2: 45621 | S2: 施設ID | V2: 34.32507,131.15851
B3: フリガナ | C3: (ﾀｲﾈｲｼﾞﾀﾞｲｲﾁﾄﾝﾈﾙ) | G3: 路線名 | H3: 国道491号 （長門・俵山道路） | K3: 管理者名 | L3: 山口県長門土木建築事務所 | Q3: 定期点検実施者 | S3: 株式会社荒谷建設コンサルタント | V3: 起点 | W3: 緯度 | X3: 341930.25
B4: 名 称 | C4: 大寧寺第1トンネル | S4: 河野 秀生 | W4: 経度 | X4: 1310930.6
B5: 所在地 | C5: 自 | D5: 山口県長門市深川湯本地先 | G5: トンネル工法 | I5: 山岳トンネル工法（NAT） | L5: トンネル延長 | N5: L= | O5: 1873 | P5: ｍ | Q5: 自専道 or 一般道 | R5: 自専道 | S5: 代替路の有無 | U5: 有 | V5: 終点 | W5: 緯度 | X5: 342016.53
C6: 至 | D6: 山口県長門市深川湯本地先 | G6: 建設年度 | I6: 2018 | L6: 幅員 | N6: L= | O6: 12 | P6: ｍ | S6: 緊急輸送道路 | U6: 一次 | W6: 経度 | X6: 1311011.6
B7: トンネル毎 の健全性の 診断の区分 | D7: Ⅲ
G8: 変状・異常 箇所数合計 | I8: トンネル本体工 | J8: 材質劣化 | K8: Ⅱ | L8: 109 | N8: Ⅲ | O8: 5 | Q8: Ⅳ | R8: 0 | T8: 附属物等 の取付状態 | V8: ◯ （応急措置後) | X8: 0
J9: 漏水 | K9: Ⅱ | L9: 1 | N9: Ⅲ | O9: 0 | Q9: Ⅳ | R9: 0
V10: ✕ | X10: 1
J11: 外力 | K11: Ⅱ | L11: 0 | N11: Ⅲ | O11: 0 | Q11: Ⅳ | R11: 0
B12: トンネル変状・異常箇所写真位置図
J29: 注１：本位置図は、見下げた状態で記載すること。 注２：覆工スパン番号は横断目地毎(矢板工法の場合は上半アーチの 横断目地毎)に設定すること。 | Q29: 注３：写真番号に付する変状番号は、各覆工スパンの変状に対して新たに確認された場合 は順次追加していくこと。 注４：横断目地の変状は前の覆工スパン番号で計上すること。 注５：１枚に収まらない場合は、複数枚に分けて作成すること。
C30: ※1 トンネル本体工の変状数は、材質劣化、漏水に起因するものは変状単位で、外力に起因するものはスパン単位で計上すること。
C31: ※2 トンネル本体工の変状に対しては、措置の必要性（Ⅱ～Ⅳ）について表記すること。また、点検前に実施された措置によりⅠと判定された箇所についても記載すること。
C32: ※3 附属物等の取付状態の○欄については、応急措置前に判定区分×とした箇所のうち応急措置により○判定とした箇所の数を記入すること。
C33: ※4 附属物等の異常番号は、本体工と番号が重複しないよう101番以降とする等の配慮を行い、分かりやすく記録すること。

Sheet 様式C-1-1
B2: ■定期点検記録様式 全スパン定期点検結果総括表（トンネル本体工） 【様式C-1-1】
B3: フリガナ | F3: (ﾀｲﾈｲｼﾞﾀﾞｲｲﾁﾄﾝﾈﾙ) | I3: 路線名 | K3: 国道491号（長門・俵山道路） | O3: 定期点検実施者 | P3: 株式会社荒谷建設コンサルタント | T3: 定期点検年月日 | X3: 45621
B4: 名 称 | F4: 大寧寺第1トンネル | I4: 管理者名 | K4: 山口県長門土木建築事務所 | P4: 河野 秀生
B5: 定期点検結果 | C5: 覆工 スパン 番号 | E5: 変状 番号 | F5: 距離 （m） | G5: 変状部位 | I5: 変 状 の 内 容 | O5: 前回定期点検時の状態 | P5: 今回定期点検結果 | T5: 措置履歴 | Y5: 対応方針 ・ 特記事項
O6: 43679
G7: 対象箇所 | H7: 部位区分 | I7: 変状区分 | J7: 変状種類 | M7: 変状の発生範囲の規模 | N7: 前回定期点検時の変状の発生範囲及び規模 | O7: 対策区分 | P7: 対策区分 | R7: 調査の 要否 | S7: 措置の 要否 | T7: 実施 | U7: 措置の実施状況
P8: 応急措置前 | Q8: 応急措置後
C9: S001 | E9: 1 | F9: -2.3 | G9: 覆工 | H9: アーチ（左側） | I9: 材質劣化 | J9: うき・はく離 | M9: 0.0400m2 | N9: 0.0400m2 | O9: Ⅱb | Q9: Ⅱa | R9: 否 | S9: 要対策 | T9: 未 | Y9: はく落防止対策工
C10: S002 | E10: 1 | F10: 18.5 | G10: 覆工 | H10: 横断目地（天端） | I10: 材質劣化 | J10: うき・はく離 | M10: 0.0500m2 | N10: 0.0450m2 | O10: Ⅱb | Q10: Ⅱb | R10: 否 | S10: 要監視 | T10: － | Y10: 監視
C11: S003 | E11: 1 | F11: 28.9 | G11: 覆工 | H11: 横断目地（左側） | I11: 材質劣化 | J11: その他 | M11: 0.6000m2 | N11: － | O11: － | Q11: Ⅱb | R11: 否 | S11: 要監視 | T11: － | Y11: 監視
C12: S005 | E12: 1 | F12: 50 | G12: 覆工 | H12: 横断目地（右側） | I12: 材質劣化 | J12: うき・はく離 | M12: 0.0150m2 | N12: 0.0150m2 | O12: Ⅱb | Q12: Ⅱa | R12: 否 | S12: 要対策 | T12: 未 | Y12: はく落防止対策工
C13: S005 | E13: 2 | F13: 49.7 | G13: 覆工 | H13: 横断目地（左側） | I13: 漏水 | J13: 漏水 | M13: 3.7500m2 | N13: － | O13: － | Q13: Ⅱb | R13: 否 | S13: 要監視 | T13: － | Y13: 監視
C14: S006 | E14: 1 | F14: 60.5 | G14: 覆工 | H14: 横断目地（左側） | I14: 材質劣化 | J14: うき・はく離 | M14: 0.0150m2 | N14: 0.0150m2 | O14: Ⅱb | Q14: Ⅱa | R14: 否 | S14: 要対策 | T14: 未 | Y14: はく落防止対策工
C15: S006 | E15: 2 | F15: 50.8 | G15: 覆工 | H15: アーチ（天端） | I15: 材質劣化 | J15: うき・はく離 | M15: 0.2400m2 | N15: 0.1800m2 | O15: Ⅱb | Q15: Ⅱb | R15: 否 | S15: 要監視 | T15: － | Y15: 監視
C16: S006 | E16: 3 | F16: 60.5 | G16: 覆工 | H16: 横断目地（右側） | I16: 材質劣化 | J16: うき・はく離 | M16: 0.0150m2 | N16: － | O16: － | Q16: Ⅱa | R16: 否 | S16: 要対策 | T16: 未 | Y16: はく落防止対策工
C17: S008 | E17: 1 | F17: 71.4 | G17: 覆工 | H17: アーチ（天端） | I17: 材質劣化 | J17: うき・はく離 | M17: 0.2925m2 | N17: － | O17: － | Q17: Ⅱb | R17: 否 | S17: 要監視 | T17: － | Y17: 監視
C18: S010 | E18: 1 | F18: 102.5 | G18: 覆工 | H18: 横断目地（左側） | I18: 材質劣化 | J18: うき・はく離 | M18: 0.0450m2 | N18: 0.0450m2 | O18: Ⅱb | Q18: Ⅱa | R18: 否 | S18: 要対策 | T18: 未 | Y18: はく落防止対策工
C19: S010 | E19: 2 | F19: 102.5 | G19: 覆工 | H19: 横断目地（左側） | I19: 材質劣化 | J19: うき・はく離 | M19: 0.0200m2 | N19: 0.0200m2 | O19: Ⅱb | Q19: Ⅱb | R19: 否 | S19: 要監視 | T19: － | Y19: 監視
C20: S010 | E20: 3 | F20: 92.5 | G20: 覆工 | H20: アーチ（右側） | I20: 材質劣化 | J20: うき・はく離 | M20: 0.0900m2 | N20: 0.1000m2 | O20: Ⅱb | Q20: Ⅱb | R20: 否 | S20: 要監視 | T20: － | Y20: 監視
... C36: S026 | E36: 1 | F36: 260.6 | G36: 覆工 | H36: アーチ（右側） | I36: 材質劣化 | J36: 鋼材腐食 | M36: 0.0025m2 | N36: 0.0025m2 | O36: Ⅰ | Q36: Ⅱb | R36: 否 | S36: 要監視 | T36: － | Y36: 監視
C37: S029 | E37: 1 | F37: 301.8 | G37: 覆工 | H37: 横断目地（天端） | I37: 材質劣化 | J37: うき・はく離 | M37: 0.0100m2 | N37: － | O37: － | P37: Ⅲ | Q37: Ⅰ | R37: 否 | S37: 否 | T37: 済
C38: S030 | E38: 1 | F38: 302.4 | G38: 覆工 | H38: アーチ（天端） | I38: 材質劣化 | J38: うき・はく離 | M38: 0.0625m2 | N38: 0.0400m2 | O38: Ⅱa | Q38: Ⅱa | R38: 否 | S38: 要対策 | T38: 未 | Y38: はく落防止対策工
C39: S030 | E39: 2 | F39: 302.9 | G39: 覆工 | H39: アーチ（天端） | I39: 材質劣化 | J39: うき・はく離 | M39: 0.4800m2 | N39: 0.4800m2 | O39: Ⅱb | Q39: Ⅱb | R39: 否 | S39: 要監視 | T39: － | Y39: 監視
C40: S030 | E40: 3 | F40: 303.2 | G40: 覆工 | H40: アーチ（天端） | I40: 材質劣化 | J40: うき・はく離 | M40: 0.2275m2 | N40: 0.2800m2 | O40: Ⅱa | Q40: Ⅱa | R40: 否 | S40: 要対策 | T40: 未 | Y40: はく落防止対策工
C41: S030 | E41: 4 | F41: 303.4 | G41: 覆工 | H41: アーチ（天端） | I41: 材質劣化 | J41: うき・はく離 | M41: 3.8400m2 | N41: 3.8400m2 | O41: Ⅱb | Q41: Ⅱb | R41: 否 | S41: 要監視 | T41: － | Y41: 監視
C42: S031 | E42: 1 | F42: 314.3 | G42: 覆工 | H42: アーチ（天端） | I42: 材質劣化 | J42: うき・はく離 | M42: 0.0500m2 | N42: 0.0500m2 | O42: Ⅱa | Q42: Ⅱa | R42: 否 | S42: 要対策 | T42: 未 | Y42: はく落防止対策工
C43: S031 | E43: 2 | F43: 314.8 | G43: 覆工 | H43: アーチ（天端） | I43: 材質劣化 | J43: うき・はく離 | M43: 0.0875m2 | N43: 0.0250m2 | O43: Ⅱa | Q43: Ⅱa | R43: 否 | S43: 要対策 | T43: 未 | Y43: はく落防止対策工
C44: S031 | E44: 3 | F44: 314.6 | G44: 覆工 | H44: アーチ（天端） | I44: 材質劣化 | J44: うき・はく離 | M44: 0.2100m2 | N44: 0.2300m2 | O44: Ⅱb | Q44: Ⅱb | R44: 否 | S44: 要監視 | T44: － | Y44: 監視
C45: S032 | E45: 1 | F45: 333.2 | G45: 覆工 | H45: 横断目地（天端） | I45: 材質劣化 | J45: うき・はく離 | M45: 0.0300m2 | N45: 0.0300m2 | O45: Ⅱa | Q45: Ⅲ | R45: 否 | S45: 要対策 | T45: 未 | Y45: はく落防止対策工
C46: S033 | E46: 1 | F46: 343.7 | G46: 覆工 | H46: 横断目地（右側） | I46: 材質劣化 | J46: うき・はく離 | M46: 0.0125m2 | N46: 0.0125m2 | O46: Ⅱa | Q46: Ⅱa | R46: 否 | S46: 要対策 | T46: 未 | Y46: はく落防止対策工
C47: S034 | E47: 1 | F47: 354.1 | G47: 覆工 | H47: 横断目地（天端） | I47: 材質劣化 | J47: うき・はく離 | M47: 0.0400m2 | N47: － | O47: － | Q47: Ⅱa | R47: 否 | S47: 要対策 | T47: 未 | Y47: はく落防止対策工
C48: S035 | E48: 1 | F48: 355.9 | G48: 覆工 | H48: アーチ（右側） | I48: 材質劣化 | J48: 鋼材腐食 | M48: 0.0025m2 | N48: 0.0025m2 | O48: Ⅱa | Q48: Ⅱb | R48: 否 | S48: 要監視 | T48: － | Y48: 監視
B49: 定期点検結果 | C49: S035 | E49: 2 | F49: 364.7 | G49: 覆工 | H49: 横断目地（右側） | I49: 材質劣化 | J49: うき・はく離 | M49: 0.0300m2 | N49: － | O49: － | Q49: Ⅱb | R49: 否 | S49: 要監視 | T49: － | Y49: 監視
C50: S037 | E50: 1 | F50: 385.7 | G50: 覆工 | H50: 横断目地（右側） | I50: 材質劣化 | J50: うき・はく離 | M50: 0.0750m2 | N50: 0.0750m2 | O50: Ⅱb | Q50: Ⅱa | R50: 否 | S50: 要対策 | T50: 未 | Y50: はく落防止対策工
C51: S038 | E51: 1 | F51: 396.2 | G51: 覆工 | H51: 横断目地（右側） | I51: 材質劣化 | J51: うき・はく離 | M51: 0.0700m2 | N51: － | O51: － | Q51: Ⅱa | R51: 否 | S51: 要対策 | T51: 未 | Y51: はく落防止対策工
C52: S039 | E52: 1 | F52: 406.6 | G52: 覆工 | H52: 横断目地（天端） | I52: 材質劣化 | J52: うき・はく離 | M52: 0.0250m2 | N52: 0.0250m2 | O52: Ⅱa | Q52: Ⅱa | R52: 否 | S52: 要対策 | T52: 未 | Y52: はく落防止対策工
C53: S041 | E53: 1 | F53: 419.2 | G53: 覆工 | H53: アーチ（右側） | I53: 材質劣化 | J53: 鋼材腐食 | M53: 0.0025m2 | N53: － | O53: － | Q53: Ⅱb | R53: 否 | S53: 要監視 | T53: － | Y53: 監視
C54: S043 | E54: 1 | F54: 441.6 | G54: 覆工 | H54: アーチ（天端） | I54: 材質劣化 | J54: うき・はく離 | M54: 0.0100m2 | N54: － | O54: － | Q54: Ⅱa | R54: 否 | S54: 要対策 | T54: 未 | Y54: はく落防止対策工
C55: S048 | E55: 1 | F55: 493.2 | G55: 覆工 | H55: アーチ（左側） | I55: 材質劣化 | J55: 鋼材腐食 | M55: 0.0050m2 | N55: 0.0050m2 | O55: Ⅱa | Q55: Ⅱb | R55: 否 | S55: 要監視 | T55: － | Y55: 監視
C56: S053 | E56: 1 | F56: 533.8 | G56: 覆工 | H56: 横断目地（天端） | I56: 材質劣化 | J56: うき・はく離 | M56: 0.0900m2 | N56: 0.0125m2 | O56: Ⅱb | Q56: Ⅱb | R56: 否 | S56: 要監視 | T56: － | Y56: 監視
...

Sheet 様式C-1-2
B2: ■定期点検記録様式 定期点検結果総括表（トンネル内附属物等の取付状態） 【様式C-1-2】
B3: フリガナ | F3: (ﾀｲﾈｲｼﾞﾀﾞｲｲﾁﾄﾝﾈﾙ) | J3: 路線名 | K3: 国道491号（長門・俵山道路） | M3: 定期点検実施者 | O3: 株式会社荒谷建設コンサルタント | S3: 定期点検年月日 | W3: 45621
B4: 名 称 | F4: 大寧寺第1トンネル | J4: 管理者名 | K4: 山口県長門土木建築事務所 | O4: 河野 秀生
B5: 定期点検結果 | C5: 覆工 スパン 番号 | E5: 異常 番号 | F5: 距離 （m） | G5: 異常部位 | J5: 異 常 の 内 容 | N5: 定期点検結果 | P5: 応急措置の 実施状況 | V5: 対応方針 ・ 特記事項
G6: 対象箇所 | I6: 部位区分 | J6: 異常種類 | L6: 異常の発生範囲の規模 | N6: 異常判定区分 | P6: 実施 | Q6: 応急措置の内容
N7: 応急措置前 | O7: 応急措置後
C8: S063 | E8: 1 | F8: 616.79999 | G8: 非常用施設 | H8: 無線通信補助設備 | I8: 附属物本体 | J8: 緩み、脱落 | L8: 1箇所 | O8: × | P8: 未 | V8: 再設置
C42: ※ 異常判定区分×について記入すること。また、応急措置により○と判定された箇所も記入すること。
C43: ※ 応急措置を実施しないで判定した箇所の異常判定区分は、異常判定区分の応急措置後の欄に記入すること。
C44: ※ 異常の除去が不完全で、緊急対応が必要な場合は対応方針欄に記入すること。
C45: ※ １スパンの覆工に複数の異常がある場合は、異常箇所毎に記入すること。
C46: ※ 行が不足する場合は、適時、表の行を増やすこと。

Sheet 様式C-2
B2: ■定期点検記録様式 状態の把握の内容 【様式C-2】
B3: フリガナ | E3: (ﾀｲﾈｲｼﾞﾀﾞｲｲﾁﾄﾝﾈﾙ) | H3: 路線名 | J3: 国道491号（長門・俵山道路） | M3: 定期点検実施者 | Q3: 株式会社荒谷建設コンサルタント | U3: 定期点検年月日 | X3: 45621
B4: 名 称 | E4: 大寧寺第1トンネル | H4: 管理者名 | J4: 山口県長門土木建築事務所 | Q4: 河野 秀生
B5: 状態の把握の内容 | C5: 覆工スパン 番号 | E5: 変状 番号 | F5: 状態の把握の内容
F6: 年月日 | H6: 内容 | O6: 結果 | Y6: 対策区分の 判定
B22: 注）状態の把握において、微破壊・非破壊検査や各種試験等を実施した場合について記載する。
B23: ※ 行が不足する場合は、適時、表の行を増やすこと。

Sheet 様式D-1-1_001
B2: ■定期点検記録様式 変状写真台帳【様式D-1-1】 | R2: 施設ID | T2: 34.32507,131.15851
B3: フリガナ | E3: (ﾀｲﾈｲｼﾞﾀﾞｲｲﾁﾄﾝﾈﾙ) | H3: 路 線 名 | J3: 国道491号（長門・俵山道路） | M3: 定期点検実施者 | P3: 株式会社荒谷建設コンサルタント | S3: 定期点検年月日 | U3: 45621
B4: 名 称 | E4: 大寧寺第1トンネル | H4: 管理者名 | J4: 山口県長門土木建築事務所 | P4: 河野 秀生
B5: 写真 番号 | C5: 覆工スパン 番号 | E5: S001 | M5: 写真 番号 | N5: 覆工スパン 番号 | P5: S002
C6: 変状番号 | E6: 1 | N6: 変状番号 | P6: 1
B7: 変状 部位 | C7: 対象箇所 | E7: 覆工 | M7: 変状 部位 | N7: 対象箇所 | P7: 覆工
C8: 部位区分 | E8: アーチ（左側） | N8: 部位区分 | P8: 横断目地（天端）
B9: 変状種類 | E9: うき・はく離 | M9: 変状種類 | P9: うき・はく離
B10: 対策 区分 | C10: 変状区分 | E10: 材質劣化 | M10: 対策 区分 | N10: 変状区分 | P10: 材質劣化
C11: 応急措置前 | N11: 応急措置前
C12: 応急措置後 | E12: Ⅱa | N12: 応急措置後 | P12: Ⅱb
B13: 変状の発生範囲及び規模 | E13: 0.20m×0.20m | H13: 前回変状の発生範囲及び規模 | J13: 0.20m×0.20m (Ⅱb判定) | M13: 変状の発生範囲及び規模 | P13: 1.00m×0.05m | S13: 前回変状の発生範囲及び規模 | U13: 0.90m×0.05m (Ⅱb判定)
B14: 対策履歴 | H14: 実施状況（実施日） | M14: 対策履歴 | S14: 実施状況（実施日）
B15: メモ | E15: アーチ部(左側)にうき。将来的に利用者に影響が及ぶ可能性があるため、重点的な監視及び計画的な対策を必要とする。(前回194-1) | M15: メモ | P15: 横断目地部(天端)に豆板(スプレー処置済)。現状で利用者被害の可能性は低いため、監視にとどめる。(前回192-1)
B16: 写真 番号 | C16: 覆工スパン 番号 | E16: S003 | M16: 写真 番号 | N16: 覆工スパン 番号 | P16: S005
C17: 変状番号 | E17: 1 | N17: 変状番号 | P17: 1
B18: 変状 部位 | C18: 対象箇所 | E18: 覆工 | M18: 変状 部位 | N18: 対象箇所 | P18: 覆工
C19: 部位区分 | E19: 横断目地（左側） | N19: 部位区分 | P19: 横断目地（右側）
B20: 変状種類 | E20: その他 | M20: 変状種類 | P20: うき・はく離
B21: 対策 区分 | C21: 変状区分 | E21: 材質劣化 | M21: 対策 区分 | N21: 変状区分 | P21: 材質劣化
C22: 応急措置前 | N22: 応急措置前
C23: 応急措置後 | E23: Ⅱb | N23: 応急措置後 | P23: Ⅱa
B24: 変状の発生範囲及び規模 | E24: 2.00m×0.30m | H24: 前回変状の発生範囲及び規模 | J24: 今回新規変状 | M24: 変状の発生範囲及び規模 | P24: 0.30m×0.05m | S24: 前回変状の発生範囲及び規模 | U24: 0.30m×0.05m (Ⅱb判定)
B25: 対策履歴 | H25: 実施状況（実施日） | M25: 対策履歴 | S25: 実施状況（実施日）
B26: メモ | E26: 横断目地部(アーチ左側)に繊維シートの塗装剥がれ。新規変状。現状で利用者被害の可能性は低いため、監視にとどめる。 | M26: メモ | P26: 横断目地部(アーチ右側)にうき。将来的に利用者に影響が及ぶ可能性があるため、重点的な監視及び計画的な対策を必要とする。(前回189-2)
C27: ※ 応急措置後の対策区分の判定区分Ⅱb～Ⅳについて添付すること。また、点検前に 実施された措置によりⅠと判定された箇所も添付すること。 | N27: ※ 変状の発生範囲の規模とは、対策を行う際に参考となる変状の長さや面積をいう。
N28: ※ 応急措置を実施しないで判定した変状の判定区分は、判定区分の応急措置後の欄に記入すること。
C29: ※ たたき落としを実施した場合は、実施後の写真を添付すること。 | N29: ※ 変状の発生範囲の規模は、面積・寸法を記載すること。(ひび割れ幅のみmmとし、その他をm表記とする)
C30: ※ 附属物の取付状態に関する異常写真は別途、任意の書式でとりまとめること。 | N30: ※ 構造用鋼材以外の異物に伴ううき・はく離については、メモ欄に異物の概要を記入すること。

Sheet 様式D-1-1_002
B2: ■定期点検記録様式 変状写真台帳【様式D-1-1】 | R2: 施設ID | T2: 34.32507,131.15851
B3: フリガナ | E3: (ﾀｲﾈｲｼﾞﾀﾞｲｲﾁﾄﾝﾈﾙ) | H3: 路 線 名 | J3: 国道491号（長門・俵山道路） | M3: 定期点検実施者 | P3: 株式会社荒谷建設コンサルタント | S3: 定期点検年月日 | U3: 45621
B4: 名 称 | E4: 大寧寺第1トンネル | H4: 管理者名 | J4: 山口県長門土木建築事務所 | P4: 河野 秀生
B5: 写真 番号 | C5: 覆工スパン 番号 | E5: S005 | M5: 写真 番号 | N5: 覆工スパン 番号 | P5: S006
C6: 変状番号 | E6: 2 | N6: 変状番号 | P6: 1
B7: 変状 部位 | C7: 対象箇所 | E7: 覆工 | M7: 変状 部位 | N7: 対象箇所 | P7: 覆工
C8: 部位区分 | E8: 横断目地（左側） | N8: 部位区分 | P8: 横断目地（左側）
B9: 変状種類 | E9: 漏水 | M9: 変状種類 | P9: うき・はく離
B10: 対策 区分 | C10: 変状区分 | E10: 漏水 | M10: 対策 区分 | N10: 変状区分 | P10: 材質劣化
C11: 応急措置前 | N11: 応急措置前
C12: 応急措置後 | E12: Ⅱb | N12: 応急措置後 | P12: Ⅱa
B13: 変状の発生範囲及び規模 | E13: 7.50m×0.50m | H13: 前回変状の発生範囲及び規模 | J13: 今回新規変状 | M13: 変状の発生範囲及び規模 | P13: 0.30m×0.05m | S13: 前回変状の発生範囲及び規模 | U13: 0.30m×0.05m (Ⅱb判定)
B14: 対策履歴 | H14: 実施状況（実施日） | M14: 対策履歴 | S14: 実施状況（実施日）
B15: メモ | E15: 横断目地部(アーチ左側)ににじみ。新規変状。現状で利用者被害の可能性は低いため、監視にとどめる。 | M15: メモ | P15: 横断目地部(アーチ左側)にうき。将来的に利用者に影響が及ぶ可能性があるため、重点的な監視及び計画的な対策を必要とする。(前回189-3)
B16: 写真 番号 | C16: 覆工スパン 番号 | E16: S006 | M16: 写真 番号 | N16: 覆工スパン 番号 | P16: S006
C17: 変状番号 | E17: 2 | N17: 変状番号 | P17: 3
B18: 変状 部位 | C18: 対象箇所 | E18: 覆工 | M18: 変状 部位 | N18: 対象箇所 | P18: 覆工
C19: 部位区分 | E19: アーチ（天端） | N19: 部位区分 | P19: 横断目地（右側）
B20: 変状種類 | E20: うき・はく離 | M20: 変状種類 | P20: うき・はく離
B21: 対策 区分 | C21: 変状区分 | E21: 材質劣化 | M21: 対策 区分 | N21: 変状区分 | P21: 材質劣化
C22: 応急措置前 | N22: 応急措置前
C23: 応急措置後 | E23: Ⅱb | N23: 応急措置後 | P23: Ⅱa
B24: 変状の発生範囲及び規模 | E24: 0.40m×0.60m | H24: 前回変状の発生範囲及び規模 | J24: 0.30m×0.60m (Ⅱb判定) | M24: 変状の発生範囲及び規模 | P24: 0.30m×0.05m | S24: 前回変状の発生範囲及び規模 | U24: 今回新規変状
B25: 対策履歴 | H25: 実施状況（実施日） | M25: 対策履歴 | S25: 実施状況（実施日）
B26: メモ | E26: アーチ部(天端)に豆板(スプレー処置済)。現状で利用者被害の可能性は低いため、監視にとどめる。(前回189-1) | M26: メモ | P26: 横断目地部(アーチ右側)にうき。新規変状。将来的に利用者に影響が及ぶ可能性があるため、重点的な監視及び計画的な対策を必要とする。
C27: ※ 応急措置後の対策区分の判定区分Ⅱb～Ⅳについて添付すること。また、点検前に 実施された措置によりⅠと判定された箇所も添付すること。 | N27: ※ 変状の発生範囲の規模とは、対策を行う際に参考となる変状の長さや面積をいう。
N28: ※ 応急措置を実施しないで判定した変状の判定区分は、判定区分の応急措置後の欄に記入すること。
C29: ※ たたき落としを実施した場合は、実施後の写真を添付すること。 | N29: ※ 変状の発生範囲の規模は、面積・寸法を記載すること。(ひび割れ幅のみmmとし、その他をm表記とする)
C30: ※ 附属物の取付状態に関する異常写真は別途、任意の書式でとりまとめること。 | N30: ※ 構造用鋼材以外の異物に伴ううき・はく離については、メモ欄に異物の概要を記入すること。

Sheet 様式D-1-1_003
B2: ■定期点検記録様式 変状写真台帳【様式D-1-1】 | R2: 施設ID | T2: 34.32507,131.15851
B3: フリガナ | E3: (ﾀｲﾈｲｼﾞﾀﾞｲｲﾁﾄﾝﾈﾙ) | H3: 路 線 名 | J3: 国道491号（長門・俵山道路） | M3: 定期点検実施者 | P3: 株式会社荒谷建設コンサルタント | S3: 定期点検年月日 | U3: 45621
B4: 名 称 | E4: 大寧寺第1トンネル | H4: 管理者名 | J4: 山口県長門土木建築事務所 | P4: 河野 秀生
B5: 写真 番号 | C5: 覆工スパン 番号 | E5: S008 | M5: 写真 番号 | N5: 覆工スパン 番号 | P5: S010
C6: 変状番号 | E6: 1 | N6: 変状番号 | P6: 1
B7: 変状 部位 | C7: 対象箇所 | E7: 覆工 | M7: 変状 部位 | N7: 対象箇所 | P7: 覆工
C8: 部位区分 | E8: アーチ（天端） | N8: 部位区分 | P8: 横断目地（左側）
B9: 変状種類 | E9: うき・はく離 | M9: 変状種類 | P9: うき・はく離
B10: 対策 区分 | C10: 変状区分 | E10: 材質劣化 | M10: 対策 区分 | N10: 変状区分 | P10: 材質劣化
C11: 応急措置前 | N11: 応急措置前
C12: 応急措置後 | E12: Ⅱb | N12: 応急措置後 | P12: Ⅱa
B13: 変状の発生範囲及び規模 | E13: 0.45m×0.65m | H13: 前回変状の発生範囲及び規模 | J13: 今回新規変状 | M13: 変状の発生範囲及び規模 | P13: 0.90m×0.05m | S13: 前回変状の発生範囲及び規模 | U13: 0.90m×0.05m (Ⅱb判定)
B14: 対策履歴 | H14: 実施状況（実施日） | M14: 対策履歴 | S14: 実施状況（実施日）
B15: メモ | E15: アーチ部(天端)に豆板(スプレー処置済)。新規変状。現状で利用者被害の可能性は低いため、監視にとどめる。 | M15: メモ | P15: 横断目地部(アーチ左側)にうき。将来的に利用者に影響が及ぶ可能性があるため、重点的な監視及び計画的な対策を必要とする。(前回184-5)
B16: 写真 番号 | C16: 覆工スパン 番号 | E16: S010 | M16: 写真 番号 | N16: 覆工スパン 番号 | P16: S010
C17: 変状番号 | E17: 2 | N17: 変状番号 | P17: 3
B18: 変状 部位 | C18: 対象箇所 | E18: 覆工 | M18: 変状 部位 | N18: 対象箇所 | P18: 覆工
C19: 部位区分 | E19: 横断目地（左側） | N19: 部位区分 | P19: アーチ（右側）
B20: 変状種類 | E20: うき・はく離 | M20: 変状種類 | P20: うき・はく離
B21: 対策 区分 | C21: 変状区分 | E21: 材質劣化 | M21: 対策 区分 | N21: 変状区分 | P21: 材質劣化
C22: 応急措置前 | N22: 応急措置前
C23: 応急措置後 | E23: Ⅱb | N23: 応急措置後 | P23: Ⅱb
B24: 変状の発生範囲及び規模 | E24: 0.40m×0.05m | H24: 前回変状の発生範囲及び規模 | J24: 0.40m×0.05m (Ⅱb判定) | M24: 変状の発生範囲及び規模 | P24: 0.20m×0.45m | S24: 前回変状の発生範囲及び規模 | U24: 0.20m×0.50m (Ⅱb判定)
B25: 対策履歴 | H25: 実施状況（実施日） | M25: 対策履歴 | S25: 実施状況（実施日）
B26: メモ | E26: 横断目地部(アーチ左側)に豆板(スプレー処置済)。現状で利用者被害の可能性は低いため、監視にとどめる。(前回184-4) | M26: メモ | P26: アーチ部(右側)に豆板(スプレー処置済)。現状で利用者被害の可能性は低いため、監視にとどめる。(前回185-1)
C27: ※ 応急措置後の対策区分の判定区分Ⅱb～Ⅳについて添付すること。また、点検前に 実施された措置によりⅠと判定された箇所も添付すること。 | N27: ※ 変状の発生範囲の規模とは、対策を行う際に参考となる変状の長さや面積をいう。
N28: ※ 応急措置を実施しないで判定した変状の判定区分は、判定区分の応急措置後の欄に記入すること。
C29: ※ たたき落としを実施した場合は、実施後の写真を添付すること。 | N29: ※ 変状の発生範囲の規模は、面積・寸法を記載すること。(ひび割れ幅のみmmとし、その他をm表記とする)
C30: ※ 附属物の取付状態に関する異常写真は別途、任意の書式でとりまとめること。 | N30: ※ 構造用鋼材以外の異物に伴ううき・はく離については、メモ欄に異物の概要を記入すること。

Sheet 様式D-1-1_004
B2: ■定期点検記録様式 変状写真台帳【様式D-1-1】 | R2: 施設ID | T2: 34.32507,131.15851
B3: フリガナ | E3: (ﾀｲﾈｲｼﾞﾀﾞｲｲﾁﾄﾝﾈﾙ) | H3: 路 線 名 | J3: 国道491号（長門・俵山道路） | M3: 定期点検実施者 | P3: 株式会社荒谷建設コンサルタント | S3: 定期点検年月日 | U3: 45621
B4: 名 称 | E4: 大寧寺第1トンネル | H4: 管理者名 | J4: 山口県長門土木建築事務所 | P4: 河野 秀生
B5: 写真 番号 | C5: 覆工スパン 番号 | E5: S010 | M5: 写真 番号 | N5: 覆工スパン 番号 | P5: S011
C6: 変状番号 | E6: 4 | N6: 変状番号 | P6: 1
B7: 変状 部位 | C7: 対象箇所 | E7: 覆工 | M7: 変状 部位 | N7: 対象箇所 | P7: 覆工
C8: 部位区分 | E8: 横断目地（天端） | N8: 部位区分 | P8: 横断目地（左側）
B9: 変状種類 | E9: うき・はく離 | M9: 変状種類 | P9: うき・はく離
B10: 対策 区分 | C10: 変状区分 | E10: 材質劣化 | M10: 対策 区分 | N10: 変状区分 | P10: 材質劣化
C11: 応急措置前 | N11: 応急措置前
C12: 応急措置後 | E12: Ⅱa | N12: 応急措置後 | P12: Ⅱa
B13: 変状の発生範囲及び規模 | E13: 0.50m×0.10m | H13: 前回変状の発生範囲及び規模 | J13: 0.25m×0.05m (Ⅱb判定) | M13: 変状の発生範囲及び規模 | P13: 1.20m×0.05m | S13: 前回変状の発生範囲及び規模 | U13: 1.20m×0.05m (Ⅱa判定)
B14: 対策履歴 | H14: 実施状況（実施日） | M14: 対策履歴 | S14: 実施状況（実施日）
B15: メモ | E15: 横断目地部(天端)にうき。拡大。将来的に利用者に影響が及ぶ可能性があるため、重点的な監視及び計画的な対策を必要とする。(前回184-2) | M15: メモ | P15: 横断目地部(アーチ左側)にうき。将来的に利用者に影響が及ぶ可能性があるため、重点的な監視及び計画的な対策を必要とする。(前回183-2)
B16: 写真 番号 | C16: 覆工スパン 番号 | E16: S011 | M16: 写真 番号 | N16: 覆工スパン 番号 | P16: S011
C17: 変状番号 | E17: 2 | N17: 変状番号 | P17: 3
B18: 変状 部位 | C18: 対象箇所 | E18: 覆工 | M18: 変状 部位 | N18: 対象箇所 | P18: 覆工
C19: 部位区分 | E19: アーチ（天端） | N19: 部位区分 | P19: 横断目地（天端）
B20: 変状種類 | E20: うき・はく離 | M20: 変状種類 | P20: うき・はく離
B21: 対策 区分 | C21: 変状区分 | E21: 材質劣化 | M21: 対策 区分 | N21: 変状区分 | P21: 材質劣化
C22: 応急措置前 | N22: 応急措置前
C23: 応急措置後 | E23: Ⅱb | N23: 応急措置後 | P23: Ⅱa
B24: 変状の発生範囲及び規模 | E24: 0.05m×0.05m | H24: 前回変状の発生範囲及び規模 | J24: 0.05m×0.05m (Ⅱb判定) | M24: 変状の発生範囲及び規模 | P24: 0.50m×0.10m | S24: 前回変状の発生範囲及び規模 | U24: 0.50m×0.10m (Ⅱa判定)
B25: 対策履歴 | H25: 実施状況（実施日） | M25: 対策履歴 | S25: 実施状況（実施日）
B26: メモ | E26: アーチ部(天端)に豆板。現状で利用者被害の可能性は低いため、監視にとどめる。(前回184-3) | M26: メモ | P26: 横断目地部(天端)にうき(スプレー処置済)。将来的に利用者に影響が及ぶ可能性があるため、重点的な監視及び計画的な対策を必要とする。(前回184-1)
C27: ※ 応急措置後の対策区分の判定区分Ⅱb～Ⅳについて添付すること。また、点検前に 実施された措置によりⅠと判定された箇所も添付すること。 | N27: ※ 変状の発生範囲の規模とは、対策を行う際に参考となる変状の長さや面積をいう。
N28: ※ 応急措置を実施しないで判定した変状の判定区分は、判定区分の応急措置後の欄に記入すること。
C29: ※ たたき落としを実施した場合は、実施後の写真を添付すること。 | N29: ※ 変状の発生範囲の規模は、面積・寸法を記載すること。(ひび割れ幅のみmmとし、その他をm表記とする)
C30: ※ 附属物の取付状態に関する異常写真は別途、任意の書式でとりまとめること。 | N30: ※ 構造用鋼材以外の異物に伴ううき・はく離については、メモ欄に異物の概要を記入すること。

Sheet 様式D-1-1_005
