Workbook
Name その他: '(参考)リスト'!$C$47
Name その他: #REF!
Name その他施設: '(参考)リスト'!$C$79:$C$83
Name その他施設: #REF!
Name 換気施設: '(参考)リスト'!$C$56:$C$60
Name 換気施設: #REF!
Name 坑門: '(参考)リスト'!$C$31:$C$32
Name 坑門: #REF!
Name 照明施設: '(参考)リスト'!$C$52:$C$54
Name 照明施設: #REF!
Name 天井板: '(参考)リスト'!$C$37:$C$39
Name 天井板: #REF!
Name 内装板: '(参考)リスト'!$C$34:$C$35
Name 内装板: #REF!
Name 非常用施設: '(参考)リスト'!$C$62:$C$77
Name 非常用施設: #REF!
Name 覆工: '(参考)リスト'!$C$16:$C$29
Name 覆工: #REF!
Name 路面: '(参考)リスト'!$C$41:$C$45
Name 路面: #REF!

Sheet 点検様式作成フロー
A1: 点検様式作成フロ-
A3: 作成フロー図 | H3: 点検調書作成手順
H4: ①様式A-1～A-3（トンネル台帳）
H5: トンネル点検の実施にあたっては，現場点検作業に先行してトンネル情報を収集する。トンネル台帳（様式Ａ－1～様式Ａ－3）はトンネル完成後に作成され，維持管理の段階で引き継がれるが，関連資料等を確認したうえで，追加情報があれば必要に応じて追記することが望ましい。
H9: ②様式D-2-1、様式D-2-1´
H10: 現場点検作業を実施し，近接目視点検で確認した変状状況や補修履歴を忠実に変状展開図に転記する。
H12: ③様式D-1-1、様式D-1-2
H13: 変状展開図や撮影した写真等をもとに，対象トンネルの対策区分を決定し，対策区分がⅡ～Ⅳの変状および異常判定区分「×」を抽出し，写真台帳を作成する。
H16: ④様式B
H17: 写真台帳の作成と同時に，トンネルの構造を展開した位置図に変状写真位置を記録する。
H19: ⑤様式D-3
H20: 変状展開図ならびに写真台帳をもとに覆工スパンごとの変状展開図を作成し，変状発生状況をとりまとめる。
H22: ⑥様式E
H23: 近接目視または打音検査，触診ができていない箇所および近接目視によらない方法を講じた場所に対する調査結果を記録する。
... H33: ファイルは以下の分割規則に従う。 ※各ファイルとも （参考）リスト のシートを付けて保存すること。 ・様式A-1～A-3は同一ファイルとする。 ・様式B、D-1-1、D-1-2、D-2-1（もしくはD-2-1'）は別ファイルとする。 ・様式C-1-1、C-1-2、C-2は同一ファイルとする。 ・様式D-3、E、F、Gは同一ファイルとする。

Sheet 様式A-1
B2: ■トンネル台帳 トンネル諸元、非常用施設諸元 【様式A-1】 | S2: 施設ID | W2: 34.32507,131.15851
B3: フリガナ | D3: (ﾀｲﾈｲｼﾞﾀﾞｲｲﾁﾄﾝﾈﾙ) | H3: 路線名 | J3: 国道491号（長門・俵山道路） | P3: 管理者名 | R3: 山口県長門土木建築事務所 | W3: 緊急輸送道路 | Z3: 一次
B4: 名 称 | D4: 大寧寺第1トンネル | W4: 代替路の有無 | Z4: 有
B5: 所在地 | D5: 自 | E5: 山口県長門市深川湯本地先 | H5: 作成者 | K5: 株式会社荒谷建設コンサルタント 河野 秀生 | P5: 作成年月日 | R5: 45747 | U5: トンネル延長 | X5: L= | Z5: 1873 | AB5: ｍ
D6: 至 | E6: 山口県長門市深川湯本地先 | U6: ﾄﾝﾈﾙの分類 | X6: 陸上トンネル（掘進工法）
B7: 起点 | C7: 緯度 | E7: 341930.25 | H7: 完成年月日 | K7: 2018/7 | M7: 舗装 | O7: 種 別 | Q7: コンクリート系 | S7: トンネル非常用施設 | T7: 施設の内訳 | X7: 種別・方式 | Y7: 型式 | Z7: 個数 | AA7: 更新年度 | AE7: 34 | AF7: =INT(E7/100)-AE7*100 -> 19 | AG7: 30.25 | AH7: =ROUND(AE7+AF7/60+AG7/60/60,5) -> 34.32507 | AI7: =TEXT(AH7,"0.00000") -> 34.32507
C8: 経度 | E8: 1310930.6 | H8: 供用年月日 | K8: 43716 | O8: 厚 さ | Q8: 0.25m+0.15m | T8: 通報設備 | U8: 通話型通報設備 | X8: 非常電話 | Y8: 坑内 | Z8: 19 | AE8: =INT(E8/10000) -> 131 | AF8: =INT(E8/100)-AE8*100 -> 9 | AG8: 30.64 | AH8: =ROUND(AE8+AF8/60+AG8/60/60,5) -> 131.15851 | AI8: =TEXT(AH8,"0.00000") -> 131.15851
B9: 終点 | C9: 緯度 | E9: 342016.53 | H9: トンネル区分 | K9: A等級 | O9: 面 積 | U9: 操作型通報設備 | X9: 押しﾎﾞﾀﾝ式 通報設備 | Z9: 74
C10: 経度 | E10: 1311011.6 | H10: 内装種類 | K10: 覆工（内装なし） | O10: 更新年次 | U10: 自動通報設備
B11: 一般有料区分 | E11: 一般（無料） | H11: 天井板種類 | K11: 覆工（内装なし） | M11: 排水 | O11: 種 別 | Q11: 円型+暗渠排水 | T11: 警報設備 | U11: 非常警報設備 | X11: 補助警報表示板 | Y11: 起点側 面壁設置 | Z11: 1
B12: 土かぶり | E12: 124 | G12: m | H12: 坑門 | I12: 起点 | J12: 形式 | K12: 面壁型 | O12: 更新年次 | T12: 消火設備 | U12: 消 火 器 | Y12: ２本/箱 | Z12: 148
B13: 内空断面積 | E13: 85.8 | G13: m2 | J13: 延長 | K13: 0.8 | L13: m | M13: 施設 | P13: 種別・方式 | Q13: 個数 | R13: 更新年次 | U13: 消火栓設備 | Z13: 74
B14: 交 通 量 | E14: 2429 | G14: 台/日 | I14: 終点 | J14: 形式 | K14: 面壁型 | M14: 道路附属物等 | N14: 照明 | P14: LED | Q14: 244 | T14: 避難誘導設備 | U14: 誘導表示設備 | X14: 誘導表示板 | Y14: 反射式 | Z14: 16
C15: 道 路 幅 | E15: 13.5 | G15: m | J15: 延長 | K15: 0.8 | L15: m | N15: 換気 | P15: ｼﾞｪｯﾄﾌｧﾝ | Q15: 2 | U15: 避難情報提供設備
B16: 幅 員 | C16: 車 道 幅 | E16: 3.5 | G16: m | H16: 竣工巻厚 | I16: アーチ | K16: 40 | L16: cm | N16: 標識 | Q16: 5
E17: 3.5 | G17: m | I17: 側 壁 | K17: 40 | L17: cm | N17: 警報表示板 | P17: 終点側 坑外 | Q17: 1 | U17: 避難通路
C18: 歩道等幅 | E18: 0.75 | G18: m | L18: cm | N18: 吸音板 | U18: 排煙設備
B19: 高さ | C19: 建築限界高 | E19: 4.5 | G19: m | I19: インバート | K19: 50 | L19: cm | T19: その他の設備 | U19: 給水栓設備 | Y19: 坑内 | Z19: 19
C20: 中央高 | E20: 7.515 | G20: m | H20: 半径 | I20: アーチ | K20: 782 | L20: cm | U20: 無線通信補助設備 | X20: 漏洩同軸ケーブル | Z20: 1
C21: 有効高 | E21: 4.7 | G21: m | I21: 側 壁 | K21: 514 | L21: cm | U21: 水噴霧設備
C22: 縦断勾配 | E22: 3.4 | I22: インバート | K22: 2230 | L22: cm | U22: 監視設備
B23: 線 形 | C23: 直線区間長 | E23: － | H23: 占用物件 | I23: 種 類 | K23: 寸 法 | M23: 管理者名 | Q23: 更新年次 | S23: 非常用施設 関連設備 | U23: 予備発電設備
C24: 曲線区間 | D24: 区間長 | F24: 1873
D25: 起点側ｸﾛｿｲﾄﾞ | F25: A＝240
D26: 曲線半径 | F26: R＝700
D27: 終点側ｸﾛｿｲﾄﾞ | F27: A＝300 | S27: その他 | U27: 非常駐車帯 | Z27: 4
B28: トンネル工法 | E28: 山岳トンネル工法（NATM） | U28: 方向転換所
C29: ※緯度・経度については、秒の小数第二位の単位まで記入すること。

Sheet 様式A-2
B3: ■トンネル台帳 トンネル情報一覧表 【様式A-2】
B4: フリガナ | E4: ='様式A-1'!D3 -> (ﾀｲﾈｲｼﾞﾀﾞｲｲﾁﾄﾝﾈﾙ) | J4: 路線名 | M4: ='様式A-1'!J3 -> 国道491号（長門・俵山道路） | S4: 作成者 | Y4: ='様式A-1'!K5 -> 株式会社荒谷建設コンサルタント 河野 秀生 | AE4: 作成年月日 | AI4: ='様式A-1'!R5 -> 45747
B5: 名 称 | E5: ='様式A-1'!D4 -> 大寧寺第1トンネル | J5: 管理者名 | M5: ='様式A-1'!R3 -> 山口県長門土木建築事務所
B6: 覆工 ｽﾊﾟﾝ 番号 | C6: ｽﾊﾟﾝ長 | D6: 追加距離 | F6: トンネル本体工 | K6: 照明施設 | O6: 非常用施設 | AE6: 換気施設 | AK6: その他附属物等
O7: 通報設備 | R7: 警報設備 | S7: 消火設備 | U7: 避難誘導設備 | Y7: その他の設備 | AC7: 特記事項
D8: 起点側 | E8: 終点側 | F8: 特記事項 | I8: 内装板 | J8: 天井板 | K8: 基本照明 | L8: 入口出口照明 | M8: 特記事項 | O8: 通話型通報設備 | P8: 操作型通報設備 | Q8: 自動通報設備 | R8: 非常警報設備 | S8: 消 火 器 | T8: 消火栓設備 | U8: 誘導表示設備 | V8: 避難情報提供設備 | W8: 避難通路 | X8: 排煙設備 | Y8: 給水栓設備 | Z8: 無線通信補助設備 | AA8: 水噴霧設備 | AB8: 監視設備 | AE8: JF | AF8: VI計 | AG8: CO計 | AH8: 風向 風速計 | AI8: 特記事項
C9: (m) | D9: (m) | E9: (m)
B10: PS | C10: 0 | F10: 坑口(面壁型) | R10: ① | AK10: 補助警報表示板･坑口表示板
B11: S001 | C11: 8 | D11: =E10 -> 0 | E11: =SUM(C11:D11) -> 8 | K11: ○
B12: S002 | C12: 10.5 | D12: =E11 -> 8 | E12: =SUM(C12:D12) -> 18.5 | K12: ○ | L12: ○
B13: S003 | C13: 10.5 | D13: =E12 -> 18.5 | E13: =SUM(C13:D13) -> 29 | L13: ○ | AK13: 非常電話案内板
B14: S004 | C14: 10.5 | D14: =E13 -> 29 | E14: =SUM(C14:D14) -> 39.5 | K14: ○ | L14: ○ | P14: 1 | S14: 1 | T14: 1
B15: S005 | C15: 10.5 | D15: =E14 -> 39.5 | E15: =SUM(C15:D15) -> 50 | K15: ○ | L15: ○ | P15: 2 | S15: 2 | T15: 2 | AK15: 非常電話案内板
B16: S006 | C16: 10.5 | D16: =E15 -> 50 | E16: =SUM(C16:D16) -> 60.5 | L16: ○
B17: S007 | C17: 10.5 | D17: =E16 -> 60.5 | E17: =SUM(C17:D17) -> 71 | K17: ○ | L17: ○
B18: S008 | C18: 10.5 | D18: =E17 -> 71 | E18: =SUM(C18:D18) -> 81.5 | K18: ○ | L18: ○ | AK18: 非常電話案内板
B19: S009 | C19: 10.5 | D19: =E18 -> 81.5 | E19: =SUM(C19:D19) -> 92 | L19: ○ | P19: 3 | S19: 3 | T19: 3
B20: S010 | C20: 10.5 | D20: =E19 -> 92 | E20: =SUM(C20:D20) -> 102.5 | K20: ○ | L20: ○ | P20: 4 | S20: 4 | T20: 4 | Y20: ① | AK20: 非常電話案内板
B21: S011 | C21: 10.5 | D21: =E20 -> 102.5 | E21: =SUM(C21:D21) -> 113 | K21: ○ | L21: ○ | AK21: 非常電話案内板
B22: S012 | C22: 10.5 | D22: =E21 -> 113 | E22: =SUM(C22:D22) -> 123.5 | K22: ○ | L22: ○
B23: S013 | C23: 10.5 | D23: =E22 -> 123.5 | E23: =SUM(C23:D23) -> 134 | L23: ○ | P23: 5 | S23: 5 | T23: 5 | AK23: 非常電話案内板
B24: S014 | C24: 10.5 | D24: =E23 -> 134 | E24: =SUM(C24:D24) -> 144.5 | K24: ○ | L24: ○ | S24: 6 | T24: 6
B25: S015 | C25: 10.4 | D25: =E24 -> 144.5 | E25: =SUM(C25:D25) -> 154.9 | K25: ○ | L25: ○ | O25: ① | P25: 6
B26: S016 | C26: 10.5 | D26: =E25 -> 154.9 | E26: =SUM(C26:D26) -> 165.4 | L26: ○ | AK26: 非常電話案内板
B27: S017 | C27: 10.5 | D27: =E26 -> 165.4 | E27: =SUM(C27:D27) -> 175.9 | K27: ○ | L27: ○ | AK27: 非常電話案内板
B28: S018 | C28: 10.5 | D28: =E27 -> 175.9 | E28: =SUM(C28:D28) -> 186.4 | K28: ○ | L28: ○ | O28: ② | P28: 7 | S28: 7 | T28: 7 | Y28: ②
B29: S019 | C29: 10.5 | D29: =E28 -> 186.4 | E29: =SUM(C29:D29) -> 196.9 | L29: ○
B30: S020 | C30: 10.5 | D30: =E29 -> 196.9 | E30: =SUM(C30:D30) -> 207.4 | K30: ○ | L30: ○ | P30: 8 | S30: 8 | T30: 8 | AK30: 非常電話案内板
B31: S021 | C31: 10.5 | D31: =E30 -> 207.4 | E31: =SUM(C31:D31) -> 217.9 | K31: ○ | L31: ○
B32: S022 | C32: 10.5 | D32: =E31 -> 217.9 | E32: =SUM(C32:D32) -> 228.4 | L32: ○ | AK32: 非常電話案内板
B33: S023 | C33: 10.5 | D33: =E32 -> 228.4 | E33: =SUM(C33:D33) -> 238.9 | K33: ○ | L33: ○ | P33: 9 | S33: 9 | T33: 9 | U33: ①② | AK33: 非常電話案内板
B34: S024 | C34: 10.5 | D34: =E33 -> 238.9 | E34: =SUM(C34:D34) -> 249.4 | K34: ○
B35: S025 | C35: 10.5 | D35: =E34 -> 249.4 | E35: =SUM(C35:D35) -> 259.9 | L35: ○ | P35: 10 | S35: 10 | T35: 10 | AK35: 非常電話案内板
B36: S026 | C36: 10.4 | D36: =E35 -> 259.9 | E36: =SUM(C36:D36) -> 270.3 | K36: ○ | L36: ○
B37: S027 | C37: 10.5 | D37: =E36 -> 270.3 | E37: =SUM(C37:D37) -> 280.8 | K37: ○ | P37: 11 | S37: 11 | T37: 11 | AK37: 非常電話案内板
B38: S028 | C38: 10.5 | D38: =E37 -> 280.8 | E38: =SUM(C38:D38) -> 291.3 | K38: ○ | L38: ○
B39: S029 | C39: 10.5 | D39: =E38 -> 291.3 | E39: =SUM(C39:D39) -> 301.8 | L39: ○
B40: S030 | C40: 10.5 | D40: =E39 -> 301.8 | E40: =SUM(C40:D40) -> 312.3 | K40: ○ | O40: ③ | P40: 12 | S40: 12 | T40: 12 | Y40: ③ | AK40: 非常電話案内板
B41: S031 | C41: 10.5 | D41: =E40 -> 312.3 | E41: =SUM(C41:D41) -> 322.8 | K41: ○ | L41: ○
B42: S032 | C42: 10.5 | D42: =E41 -> 322.8 | E42: =SUM(C42:D42) -> 333.3 | P42: 13 | S42: 13 | T42: 13 | AK42: 非常電話案内板
B43: S033 | C43: 10.5 | D43: =E42 -> 333.3 | E43: =SUM(C43:D43) -> 343.8 | K43: ○
B44: S034 | C44: 10.4 | D44: =E43 -> 343.8 | E44: =SUM(C44:D44) -> 354.2 | K44: ○ | P44: 14 | S44: 14 | T44: 14 | AK44: 非常電話案内板
B45: S035 | C45: 10.5 | D45: =E44 -> 354.2 | E45: =SUM(C45:D45) -> 364.7
B46: S036 | C46: 10.5 | D46: =E45 -> 364.7 | E46: =SUM(C46:D46) -> 375.2 | K46: ○
B47: S037 | C47: 10.5 | D47: =E46 -> 375.2 | E47: =SUM(C47:D47) -> 385.7 | K47: ○ | O47: ④ | P47: 15 | S47: 15 | T47: 15 | Y47: ④ | AK47: 非常電話案内板
B48: S038 | C48: 10.5 | D48: =E47 -> 385.7 | E48: =SUM(C48:D48) -> 396.2
B49: S039 | C49: 10.5 | D49: =E48 -> 396.2 | E49: =SUM(C49:D49) -> 406.7 | K49: ○ | P49: 16 | S49: 16 | T49: 16 | AK49: 非常電話案内板
B50: S040 | C50: 10.5 | D50: =E49 -> 406.7 | E50: =SUM(C50:D50) -> 417.2 | K50: ○
B51: S041 | C51: 10.5 | D51: =E50 -> 417.2 | E51: =SUM(C51:D51) -> 427.7 | K51: ○ | P51: 17 | S51: 17 | T51: 17 | AK51: 非常電話案内板
B52: S042 | C52: 10.5 | D52: =E51 -> 427.7 | E52: =SUM(C52:D52) -> 438.2 | U52: ③ | AK52: 非常電話案内板
B53: S043 | C53: 10.8 | D53: =E52 -> 438.2 | E53: =SUM(C53:D53) -> 449 | K53: ○ | P53: 18 | S53: 18 | T53: 18 | U53: ④ | AK53: 非常電話案内板
B54: S044 | C54: 10.8 | D54: =E53 -> 449 | E54: =SUM(C54:D54) -> 459.8 | K54: ○ | AK54: 非常電話案内板
B55: S045 | C55: 10.8 | D55: =E54 -> 459.8 | E55: =SUM(C55:D55) -> 470.6
B56: S046 | C56: 10.7 | D56: =E55 -> 470.6 | E56: =SUM(C56:D56) -> 481.3 | K56: ○ | P56: 19 | S56: 19 | T56: 19 | AK56: 非常電話案内板
B57: S047 | C57: 6 | D57: =E56 -> 481.3 | E57: =SUM(C57:D57) -> 487.3 | F57: 非常駐車帯(L) | K57: ○ | AK57: 非常電話案内板・非常駐車帯案内板
B58: S048 | C58: 6.3000002 | D58: =E57 -> 487.3 | E58: =SUM(C58:D58) -> 493.6 | F58: 非常駐車帯(L)
B59: S049 | C59: 6.1999998 | D59: =E58 -> 493.6 | E59: =SUM(C59:D59) -> 499.8 | F59: 非常駐車帯(L) | K59: ○ | O59: ⑤ | P59: 20 | S59: 20 | T59: 20 | Y59: ⑤
B60: S050 | C60: 6.1999998 | D60: =E59 -> 499.8 | E60: =SUM(C60:D60) -> 506 | F60: 非常駐車帯(L) | K60: ○ | AK60: 非常電話案内板
B61: S051 | C61: 6.1999998 | D61: =E60 -> 506 | E61: =SUM(C61:D61) -> 512.2 | F61: 非常駐車帯(L) | K61: ○ | AK61: 案内表示板
B62: S052 | C62: 10.9 | D62: =E61 -> 512.2 | E62: =SUM(C62:D62) -> 523.1 | K62: ○ | AK62: 非常電話案内板
B63: S053 | C63: 10.7 | D63: =E62 -> 523.1 | E63: =SUM(C63:D63) -> 533.8 | K63: ○ | P63: 21 | S63: 21 | T63: 21 | AK63: 非常電話案内板
B64: S054 | C64: 10.8 | D64: =E63 -> 533.8 | E64: =SUM(C64:D64) -> 544.6
B65: S055 | C65: 10.8 | D65: =E64 -> 544.6 | E65: =SUM(C65:D65) -> 555.4 | K65: ○ | P65: 22 | S65: 22 | T65: 22 | AK65: 非常電話案内板
B66: S056 | C66: 10.8 | D66: =E65 -> 555.4 | E66: =SUM(C66:D66) -> 566.2 | K66: ○
B67: S057 | C67: 6 | D67: =E66 -> 566.2 | E67: =SUM(C67:D67) -> 572.2 | F67: 非常駐車帯(R) | K67: ○ | AK67: 非常電話案内板
B68: S058 | C68: 6.3000002 | D68: =E67 -> 572.2 | E68: =SUM(C68:D68) -> 578.5 | F68: 非常駐車帯(R) | O68: ⑥ | P68: 23 | S68: 23 | T68: 23 | Y68: ⑥
B69: S059 | C69: 6.1999998 | D69: =E68 -> 578.5 | E69: =SUM(C69:D69) -> 584.7 | F69: 非常駐車帯(R) | K69: ○
B70: S060 | C70: 6.3000002 | D70: =E69 -> 584.7 | E70: =SUM(C70:D70) -> 591 | F70: 非常駐車帯(R)
B71: S061 | C71: 6.3000002 | D71: =E70 -> 591 | E71: =SUM(C71:D71) -> 597.3 | F71: 非常駐車帯(R) | K71: ○ | P71: 24 | S71: 24 | T71: 24 | AK71: 非常電話案内板・非常駐車帯案内板
B72: S062 | C72: 10.7 | D72: =E71 -> 597.3 | E72: =SUM(C72:D72) -> 608 | AK72: 非常電話案内板
B73: S063 | C73: 10.3 | D73: =E72 -> 608 | E73: =SUM(C73:D73) -> 618.3 | K73: ○
B74: S064 | C74: 10.3 | D74: =E73 -> 618.3 | E74: =SUM(C74:D74) -> 628.6 | K74: ○ | P74: 25 | S74: 25 | T74: 25 | AK74: 非常電話案内板
B75: S065 | C75: 10.5 | D75: =E74 -> 628.6 | E75: =SUM(C75:D75) -> 639.1 | U75: ⑤ | AK75: 非常電話案内板
B76: S066 | C76: 10.3 | D76: =E75 -> 639.1 | E76: =SUM(C76:D76) -> 649.4 | K76: ○ | O76: ⑦ | P76: 26 | S76: 26 | T76: 26 | U76: ⑥ | Y76: ⑦
B77: S067 | C77: 10.1 | D77: =E76 -> 649.4 | E77: =SUM(C77:D77) -> 659.5 | K77: ○ | AK77: 非常電話案内板
B78: S068 | C78: 10 | D78: =E77 -> 659.5 | E78: =SUM(C78:D78) -> 669.5 | AK78: 非常電話案内板
B79: S069 | C79: 9.8999996 | D79: =E78 -> 669.5 | E79: =SUM(C79:D79) -> 679.4 | K79: ○
B80: S070 | C80: 9.8999996 | D80: =E79 -> 679.4 | E80: =SUM(C80:D80) -> 689.3 | K80: ○ | P80: 27 | S80: 27 | T80: 27 | AK80: 非常電話案内板
B81: S071 | C81: 9.6999998 | D81: =E80 -> 689.3 | E81: =SUM(C81:D81) -> 699 | P81: 28 | S81: 28 | T81: 28 | AK81: 非常電話案内板
B82: S072 | C82: 9.6999998 | D82: =E81 -> 699 | E82: =SUM(C82:D82) -> 708.7 | K82: ○ | AK82: 非常電話案内板
B83: S073 | C83: 10.1 | D83: =E82 -> 708.7 | E83: =SUM(C83:D83) -> 718.8 | K83: ○ | AK83: 非常電話案内板
B84: S074 | C84: 10 | D84: =E83 -> 718.8 | E84: =SUM(C84:D84) -> 728.8
B85: S075 | C85: 10 | D85: =E84 -> 728.8 | E85: =SUM(C85:D85) -> 738.8 | K85: ○ | O85: ⑧ | P85: 29 | S85: 29 | T85: 29 | Y85: ⑧
B86: S076 | C86: 10 | D86: =E85 -> 738.8 | E86: =SUM(C86:D86) -> 748.8 | K86: ○ | P86: 30 | S86: 30 | T86: 30 | AK86: 非常電話案内板
B87: S077 | C87: 10.1 | D87: =E86 -> 748.8 | E87: =SUM(C87:D87) -> 758.9 | AK87: 非常電話案内板
B88: S078 | C88: 10 | D88: =E87 -> 758.9 | E88: =SUM(C88:D88) -> 768.9 | K88: ○
B89: S079 | C89: 10.1 | D89: =E88 -> 768.9 | E89: =SUM(C89:D89) -> 779 | K89: ○ | AK89: 非常電話案内板
B90: S080 | C90: 10 | D90: =E89 -> 779 | E90: =SUM(C90:D90) -> 789 | P90: 31 | S90: 31 | T90: 31 | AK90: 非常電話案内板
B91: S081 | C91: 10.1 | D91: =E90 -> 789 | E91: =SUM(C91:D91) -> 799.1 | K91: ○ | P91: 32 | S91: 32 | T91: 32 | AK91: 非常電話案内板
B92: S082 | C92: 10 | D92: =E91 -> 799.1 | E92: =SUM(C92:D92) -> 809.1 | K92: ○ | AK92: 非常電話案内板
B93: S083 | C93: 10 | D93: =E92 -> 809.1 | E93: =SUM(C93:D93) -> 819.1 | AK93: 非常電話案内板
B94: S084 | C94: 10 | D94: =E93 -> 819.1 | E94: =SUM(C94:D94) -> 829.1 | K94: ○
B95: S085 | C95: 10.1 | D95: =E94 -> 829.1 | E95: =SUM(C95:D95) -> 839.2 | K95: ○ | P95: 33 | S95: 33 | T95: 33 | U95: ⑦ | AK95: 非常電話案内板
B96: S086 | C96: 10 | D96: =E95 -> 839.2 | E96: =SUM(C96:D96) -> 849.2 | O96: ⑨ | P96: 34 | S96: 34 | T96: 34 | U96: ⑧ | Y96: ⑨
B97: S087 | C97: 10 | D97: =E96 -> 849.2 | E97: =SUM(C97:D97) -> 859.2 | K97: ○ | AK97: 非常電話案内板
B98: S088 | C98: 10 | D98: =E97 -> 859.2 | E98: =SUM(C98:D98) -> 869.2 | K98: ○ | AK98: 非常電話案内板
B99: S089 | C99: 10 | D99: =E98 -> 869.2 | E99: =SUM(C99:D99) -> 879.2
B100: S090 | C100: 10 | D100: =E99 -> 879.2 | E100: =SUM(C100:D100) -> 889.2 | K100: ○ | P100: 35 | S100: 35 | T100: 35 | AK100: 非常電話案内板
B101: S091 | C101: 10 | D101: =E100 -> 889.2 | E101: =SUM(C101:D101) -> 899.2 | K101: ○ | P101: 36 | S101: 36 | T101: 36 | AK101: 非常電話案内板
B102: S092 | C102: 9.8999996 | D102: =E101 -> 899.2 | E102: =SUM(C102:D102) -> 909.1 | AK102: 非常電話案内板
...

Sheet 様式A-3
B3: ■トンネル台帳 トンネル記録（位置図、断面図、施工実績他）【様式A-3】
B4: フリガナ | E4: ='様式A-1'!$D$3 -> (ﾀｲﾈｲｼﾞﾀﾞｲｲﾁﾄﾝﾈﾙ) | J4: 路線名 | M4: ='様式A-1'!$J$3 -> 国道491号（長門・俵山道路） | S4: 作成者 | W4: ='様式A-1'!$K$5 -> 株式会社荒谷建設コンサルタント 河野 秀生 | AC4: 作成年月日 | AF4: ='様式A-1'!$R$5 -> 45747
B5: 名 称 | E5: ='様式A-1'!$D$4 -> 大寧寺第1トンネル | J5: 管理者名 | M5: ='様式A-1'!$R$3 -> 山口県長門土木建築事務所
B6: 位置図・現況写真・標準断面図・地質縦断図・施工実績
B19: フリガナ | E19: ='様式A-1'!$D$3 -> (ﾀｲﾈｲｼﾞﾀﾞｲｲﾁﾄﾝﾈﾙ) | J19: 路線名 | M19: ='様式A-1'!$J$3 -> 国道491号（長門・俵山道路） | S19: 作成者 | W19: ='様式A-1'!$K$5 -> 株式会社荒谷建設コンサルタント 河野 秀生 | AC19: 作成年月日 | AF19: ='様式A-1'!$R$5 -> 45747
B20: 名 称 | E20: ='様式A-1'!$D$4 -> 大寧寺第1トンネル | J20: 管理者名 | M20: ='様式A-1'!$R$3 -> 山口県長門土木建築事務所
B21: 位置図・現況写真・標準断面図・地質縦断図・施工実績 | C21: 現況写真
G27: 起点側坑口 | U27: 終点側坑口
J33: 銘板（起点側工事） | U33: 銘板（終点側工事）
B34: フリガナ | E34: ='様式A-1'!$D$3 -> (ﾀｲﾈｲｼﾞﾀﾞｲｲﾁﾄﾝﾈﾙ) | J34: 路線名 | M34: ='様式A-1'!$J$3 -> 国道491号（長門・俵山道路） | S34: 作成者 | W34: ='様式A-1'!$K$5 -> 株式会社荒谷建設コンサルタント 河野 秀生 | AC34: 作成年月日 | AF34: ='様式A-1'!$R$5 -> 45747
B35: 名 称 | E35: ='様式A-1'!$D$4 -> 大寧寺第1トンネル | J35: 管理者名 | M35: ='様式A-1'!$R$3 -> 山口県長門土木建築事務所
B36: 位置図・現況写真・標準断面図・地質縦断図・施工実績
B49: フリガナ | E49: ='様式A-1'!$D$3 -> (ﾀｲﾈｲｼﾞﾀﾞｲｲﾁﾄﾝﾈﾙ) | J49: 路線名 | M49: ='様式A-1'!$J$3 -> 国道491号（長門・俵山道路） | S49: 作成者 | W49: ='様式A-1'!$K$5 -> 株式会社荒谷建設コンサルタント 河野 秀生 | AC49: 作成年月日 | AF49: ='様式A-1'!$R$5 -> 45747
B50: 名 称 | E50: ='様式A-1'!$D$4 -> 大寧寺第1トンネル | J50: 管理者名 | M50: ='様式A-1'!$R$3 -> 山口県長門土木建築事務所
B51: 位置図・現況写真・標準断面図・地質縦断図・施工実績

Sheet 様式B_001
B2: ■定期点検記録様式 トンネル変状・異常箇所写真位置図 【様式B】 | N2: 定期点検年月日 | P2: 45621 | S2: 施設ID | V2: 34.32507,131.15851
B3: フリガナ | C3: (ﾀｲﾈｲｼﾞﾀﾞｲｲﾁﾄﾝﾈﾙ) | G3: 路線名 | H3: 国道491号 （長門・俵山道路） | K3: 管理者名 | L3: 山口県長門土木建築事務所 | Q3: 定期点検実施者 | S3: 株式会社荒谷建設コンサルタント | V3: 起点 | W3: 緯度 | X3: 341930.25
B4: 名 称 | C4: 大寧寺第1トンネル | S4: 河野 秀生 | W4: 経度 | X4: 1310930.6
B5: 所在地 | C5: 自 | D5: 山口県長門市深川湯本地先 | G5: トンネル工法 | I5: 山岳トンネル工法（NAT） | L5: トンネル延長 | N5: L= | O5: 1873 | P5: ｍ | Q5: 自専道 or 一般道 | R5: 自専道 | S5: 代替路の有無 | U5: 有 | V5: 終点 | W5: 緯度 | X5: 342016.53
C6: 至 | D6: 山口県長門市深川湯本地先 | G6: 建設年度 | I6: 2018 | L6: 幅員 | N6: L= | O6: 12 | P6: ｍ | S6: 緊急輸送道路 | U6: 一次 | W6: 経度 | X6: 1311011.6
B7: トンネル毎 の健全性の 診断の区分 | D7: Ⅲ
G8: 変状・異常 箇所数合計 | I8: トンネル本体工 | J8: 材質劣化 | K8: Ⅱ | L8: 109 | N8: Ⅲ | O8: 5 | Q8: Ⅳ | R8: 0 | T8: 附属物等 の取付状態 | V8: ◯ （応急措置後) | X8: 0
J9: 漏水 | K9: Ⅱ | L9: 1 | N9: Ⅲ | O9: 0 | Q9: Ⅳ | R9: 0
V10: ✕ | X10: 1
J11: 外力 | K11: Ⅱ | L11: 0 | N11: Ⅲ | O11: 0 | Q11: Ⅳ | R11: 0
B12: トンネル変状・異常箇所写真位置図
J29: 注１：本位置図は、見下げた状態で記載すること。 注２：覆工スパン番号は横断目地毎(矢板工法の場合は上半アーチの 横断目地毎)に設定すること。 | Q29: 注３：写真番号に付する変状番号は、各覆工スパンの変状に対して新たに確認された場合 は順次追加していくこと。 注４：横断目地の変状は前の覆工スパン番号で計上すること。 注５：１枚に収まらない場合は、複数枚に分けて作成すること。
C30: ※1 トンネル本体工の変状数は、材質劣化、漏水に起因するものは変状単位で、外力に起因するものはスパン単位で計上すること。
C31: ※2 トンネル本体工の変状に対しては、措置の必要性（Ⅱ～Ⅳ）について表記すること。また、点検前に実施された措置によりⅠと判定された箇所についても記載すること。
C32: ※3 附属物等の取付状態の○欄については、応急措置前に判定区分×とした箇所のうち応急措置により○判定とした箇所の数を記入すること。
C33: ※4 附属物等の異常番号は、本体工と番号が重複しないよう101番以降とする等の配慮を行い、分かりやすく記録すること。

Sheet 様式B_002
B2: ■定期点検記録様式 トンネル変状・異常箇所写真位置図 【様式B】 | N2: 定期点検年月日 | P2: 45621 | S2: 施設ID | V2: 34.32507,131.15851
B3: フリガナ | C3: (ﾀｲﾈｲｼﾞﾀﾞｲｲﾁﾄﾝﾈﾙ) | G3: 路線名 | H3: 国道491号 （長門・俵山道路） | K3: 管理者名 | L3: 山口県長門土木建築事務所 | Q3: 定期点検実施者 | S3: 株式会社荒谷建設コンサルタント | V3: 起点 | W3: 緯度 | X3: 341930.25
B4: 名 称 | C4: 大寧寺第1トンネル | S4: 河野 秀生 | W4: 経度 | X4: 1310930.6
B5: 所在地 | C5: 自 | D5: 山口県長門市深川湯本地先 | G5: トンネル工法 | I5: 山岳トンネル工法（NAT） | L5: トンネル延長 | N5: L= | O5: 1873 | P5: ｍ | Q5: 自専道 or 一般道 | R5: 自専道 | S5: 代替路の有無 | U5: 有 | V5: 終点 | W5: 緯度 | X5: 342016.53
C6: 至 | D6: 山口県長門市深川湯本地先 | G6: 建設年度 | I6: 2018 | L6: 幅員 | N6: L= | O6: 12 | P6: ｍ | S6: 緊急輸送道路 | U6: 一次 | W6: 経度 | X6: 1311011.6
B7: トンネル毎 の健全性の 診断の区分 | D7: Ⅲ
G8: 変状・異常 箇所数合計 | I8: トンネル本体工 | J8: 材質劣化 | K8: Ⅱ | L8: 109 | N8: Ⅲ | O8: 5 | Q8: Ⅳ | R8: 0 | T8: 附属物等 の取付状態 | V8: ◯ （応急措置後) | X8: 0
J9: 漏水 | K9: Ⅱ | L9: 1 | N9: Ⅲ | O9: 0 | Q9: Ⅳ | R9: 0
V10: ✕ | X10: 1
J11: 外力 | K11: Ⅱ | L11: 0 | N11: Ⅲ | O11: 0 | Q11: Ⅳ | R11: 0
B12: トンネル変状・異常箇所写真位置図
J29: 注１：本位置図は、見下げた状態で記載すること。 注２：覆工スパン番号は横断目地毎(矢板工法の場合は上半アーチの 横断目地毎)に設定すること。 | Q29: 注３：写真番号に付する変状番号は、各覆工スパンの変状に対して新たに確認された場合 は順次追加していくこと。 注４：横断目地の変状は前の覆工スパン番号で計上すること。 注５：１枚に収まらない場合は、複数枚に分けて作成すること。
C30: ※1 トンネル本体工の変状数は、材質劣化、漏水に起因するものは変状単位で、外力に起因するものはスパン単位で計上すること。
C31: ※2 トンネル本体工の変状に対しては、措置の必要性（Ⅱ～Ⅳ）について表記すること。また、点検前に実施された措置によりⅠと判定された箇所についても記載すること。
C32: ※3 附属物等の取付状態の○欄については、応急措置前に判定区分×とした箇所のうち応急措置により○判定とした箇所の数を記入すること。
C33: ※4 附属物等の異常番号は、本体工と番号が重複しないよう101番以降とする等の配慮を行い、分かりやすく記録すること。

Sheet 様式B_003
B2: ■定期点検記録様式 トンネル変状・異常箇所写真位置図 【様式B】 | N2: 定期点検年月日 | P2: 45621 | S2: 施設ID | V2: 34.32507,131.15851
B3: フリガナ | C3: (ﾀｲﾈｲｼﾞﾀﾞｲｲﾁﾄﾝﾈﾙ) | G3: 路線名 | H3: 国道491号 （長門・俵山道路） | K3: 管理者名 | L3: 山口県長門土木建築事務所 | Q3: 定期点検実施者 | S3: 株式会社荒谷建設コンサルタント | V3: 起点 | W3: 緯度 | X3: 341930.25
B4: 名 称 | C4: 大寧寺第1トンネル | S4: 河野 秀生 | W4: 経度 | X4: 1310930.6
B5: 所在地 | C5: 自 | D5: 山口県長門市深川湯本地先 | G5: トンネル工法 | I5: 山岳トンネル工法（NAT） | L5: トンネル延長 | N5: L= | O5: 1873 | P5: ｍ | Q5: 自専道 or 一般道 | R5: 自専道 | S5: 代替路の有無 | U5: 有 | V5: 終点 | W5: 緯度 | X5: 342016.53
C6: 至 | D6: 山口県長門市深川湯本地先 | G6: 建設年度 | I6: 2018 | L6: 幅員 | N6: L= | O6: 12 | P6: ｍ | S6: 緊急輸送道路 | U6: 一次 | W6: 経度 | X6: 1311011.6
B7: トンネル毎 の健全性の 診断の区分 | D7: Ⅲ
G8: 変状・異常 箇所数合計 | I8: トンネル本体工 | J8: 材質劣化 | K8: Ⅱ | L8: 109 | N8: Ⅲ | O8: 5 | Q8: Ⅳ | R8: 0 | T8: 附属物等 の取付状態 | V8: ◯ （応急措置後) | X8: 0
J9: 漏水 | K9: Ⅱ | L9: 1 | N9: Ⅲ | O9: 0 | Q9: Ⅳ | R9: 0
V10: ✕ | X10: 1
J11: 外力 | K11: Ⅱ | L11: 0 | N11: Ⅲ | O11: 0 | Q11: Ⅳ | R11: 0
B12: トンネル変状・異常箇所写真位置図
J29: 注１：本位置図は、見下げた状態で記載すること。 注２：覆工スパン番号は横断目地毎(矢板工法の場合は上半アーチの 横断目地毎)に設定すること。 | Q29: 注３：写真番号に付する変状番号は、各覆工スパンの変状に対して新たに確認された場合 は順次追加していくこと。 注４：横断目地の変状は前の覆工スパン番号で計上すること。 注５：１枚に収まらない場合は、複数枚に分けて作成すること。
C30: ※1 トンネル本体工の変状数は、材質劣化、漏水に起因するものは変状単位で、外力に起因するものはスパン単位で計上すること。
C31: ※2 トンネル本体工の変状に対しては、措置の必要性（Ⅱ～Ⅳ）について表記すること。また、点検前に実施された措置によりⅠと判定された箇所についても記載すること。
C32: ※3 附属物等の取付状態の○欄については、応急措置前に判定区分×とした箇所のうち応急措置により○判定とした箇所の数を記入すること。
C33: ※4 附属物等の異常番号は、本体工と番号が重複しないよう101番以降とする等の配慮を行い、分かりやすく記録すること。

Sheet 様式B_004
B2: ■定期点検記録様式 トンネル変状・異常箇所写真位置図 【様式B】 | N2: 定期点検年月日 | P2: 45621 | S2: 施設ID | V2: 34.32507,131.15851
B3: フリガナ | C3: (ﾀｲﾈｲｼﾞﾀﾞｲｲﾁﾄﾝﾈﾙ) | G3: 路線名 | H3: 国道491号 （長門・俵山道路） | K3: 管理者名 | L3: 山口県長門土木建築事務所 | Q3: 定期点検実施者 | S3: 株式会社荒谷建設コンサルタント | V3: 起点 | W3: 緯度 | X3: 341930.25
B4: 名 称 | C4: 大寧寺第1トンネル | S4: 河野 秀生 | W4: 経度 | X4: 1310930.6
B5: 所在地 | C5: 自 | D5: 山口県長門市深川湯本地先 | G5: トンネル工法 | I5: 山岳トンネル工法（NAT） | L5: トンネル延長 | N5: L= | O5: 1873 | P5: ｍ | Q5: 自専道 or 一般道 | R5: 自専道 | S5: 代替路の有無 | U5: 有 | V5: 終点 | W5: 緯度 | X5: 342016.53
C6: 至 | D6: 山口県長門市深川湯本地先 | G6: 建設年度 | I6: 2018 | L6: 幅員 | N6: L= | O6: 12 | P6: ｍ | S6: 緊急輸送道路 | U6: 一次 | W6: 経度 | X6: 1311011.6
B7: トンネル毎 の健全性の 診断の区分 | D7: Ⅲ
G8: 変状・異常 箇所数合計 | I8: トンネル本体工 | J8: 材質劣化 | K8: Ⅱ | L8: 109 | N8: Ⅲ | O8: 5 | Q8: Ⅳ | R8: 0 | T8: 附属物等 の取付状態 | V8: ◯ （応急措置後) | X8: 0
J9: 漏水 | K9: Ⅱ | L9: 1 | N9: Ⅲ | O9: 0 | Q9: Ⅳ | R9: 0
V10: ✕ | X10: 1
J11: 外力 | K11: Ⅱ | L11: 0 | N11: Ⅲ | O11: 0 | Q11: Ⅳ | R11: 0
B12: トンネル変状・異常箇所写真位置図
J29: 注１：本位置図は、見下げた状態で記載すること。 注２：覆工スパン番号は横断目地毎(矢板工法の場合は上半アーチの 横断目地毎)に設定すること。 | Q29: 注３：写真番号に付する変状番号は、各覆工スパンの変状に対して新たに確認された場合 は順次追加していくこと。 注４：横断目地の変状は前の覆工スパン番号で計上すること。 注５：１枚に収まらない場合は、複数枚に分けて作成すること。
C30: ※1 トンネル本体工の変状数は、材質劣化、漏水に起因するものは変状単位で、外力に起因するものはスパン単位で計上すること。
C31: ※2 トンネル本体工の変状に対しては、措置の必要性（Ⅱ～Ⅳ）について表記すること。また、点検前に実施された措置によりⅠと判定された箇所についても記載すること。
C32: ※3 附属物等の取付状態の○欄については、応急措置前に判定区分×とした箇所のうち応急措置により○判定とした箇所の数を記入すること。
C33: ※4 附属物等の異常番号は、本体工と番号が重複しないよう101番以降とする等の配慮を行い、分かりやすく記録すること。

Sheet 様式B_005
B2: ■定期点検記録様式 トンネル変状・異常箇所写真位置図 【様式B】 | N2: 定期点検年月日 | P2: 45621 | S2: 施設ID | V2: 34.32507,131.15851
B3: フリガナ | C3: (ﾀｲﾈｲｼﾞﾀﾞｲｲﾁﾄﾝﾈﾙ) | G3: 路線名 | H3: 国道491号 （長門・俵山道路） | K3: 管理者名 | L3: 山口県長門土木建築事務所 | Q3: 定期点検実施者 | S3: 株式会社荒谷建設コンサルタント | V3: 起点 | W3: 緯度 | X3: 341930.25
B4: 名 称 | C4: 大寧寺第1トンネル | S4: 河野 秀生 | W4: 経度 | X4: 1310930.6
B5: 所在地 | C5: 自 | D5: 山口県長門市深川湯本地先 | G5: トンネル工法 | I5: 山岳トンネル工法（NAT） | L5: トンネル延長 | N5: L= | O5: 1873 | P5: ｍ | Q5: 自専道 or 一般道 | R5: 自専道 | S5: 代替路の有無 | U5: 有 | V5: 終点 | W5: 緯度 | X5: 342016.53
C6: 至 | D6: 山口県長門市深川湯本地先 | G6: 建設年度 | I6: 2018 | L6: 幅員 | N6: L= | O6: 12 | P6: ｍ | S6: 緊急輸送道路 | U6: 一次 | W6: 経度 | X6: 1311011.6
B7: トンネル毎 の健全性の 診断の区分 | D7: Ⅲ
G8: 変状・異常 箇所数合計 | I8: トンネル本体工 | J8: 材質劣化 | K8: Ⅱ | L8: 109 | N8: Ⅲ | O8: 5 | Q8: Ⅳ | R8: 0 | T8: 附属物等 の取付状態 | V8: ◯ （応急措置後) | X8: 0
J9: 漏水 | K9: Ⅱ | L9: 1 | N9: Ⅲ | O9: 0 | Q9: Ⅳ | R9: 0
V10: ✕ | X10: 1
J11: 外力 | K11: Ⅱ | L11: 0 | N11: Ⅲ | O11: 0 | Q11: Ⅳ | R11: 0
B12: トンネル変状・異常箇所写真位置図
J29: 注１：本位置図は、見下げた状態で記載すること。 注２：覆工スパン番号は横断目地毎(矢板工法の場合は上半アーチの 横断目地毎)に設定すること。 | Q29: 注３：写真番号に付する変状番号は、各覆工スパンの変状に対して新たに確認された場合 は順次追加していくこと。 注４：横断目地の変状は前の覆工スパン番号で計上すること。 注５：１枚に収まらない場合は、複数枚に分けて作成すること。
C30: ※1 トンネル本体工の変状数は、材質劣化、漏水に起因するものは変状単位で、外力に起因するものはスパン単位で計上すること。
C31: ※2 トンネル本体工の変状に対しては、措置の必要性（Ⅱ～Ⅳ）について表記すること。また、点検前に実施された措置によりⅠと判定された箇所についても記載すること。
C32: ※3 附属物等の取付状態の○欄については、応急措置前に判定区分×とした箇所のうち応急措置により○判定とした箇所の数を記入すること。
C33: ※4 附属物等の異常番号は、本体工と番号が重複しないよう101番以降とする等の配慮を行い、分かりやすく記録すること。

Sheet 様式B_006
B2: ■定期点検記録様式 トンネル変状・異常箇所写真位置図 【様式B】 | N2: 定期点検年月日 | P2: 45621 | S2: 施設ID | V2: 34.32507,131.15851
B3: フリガナ | C3: (ﾀｲﾈｲｼﾞﾀﾞｲｲﾁﾄﾝﾈﾙ) | G3: 路線名 | H3: 国道491号 （長門・俵山道路） | K3: 管理者名 | L3: 山口県長門土木建築事務所 | Q3: 定期点検実施者 | S3: 株式会社荒谷建設コンサルタント | V3: 起点 | W3: 緯度 | X3: 341930.25
B4: 名 称 | C4: 大寧寺第1トンネル | S4: 河野 秀生 | W4: 経度 | X4: 1310930.6
B5: 所在地 | C5: 自 | D5: 山口県長門市深川湯本地先 | G5: トンネル工法 | I5: 山岳トンネル工法（NAT） | L5: トンネル延長 | N5: L= | O5: 1873 | P5: ｍ | Q5: 自専道 or 一般道 | R5: 自専道 | S5: 代替路の有無 | U5: 有 | V5: 終点 | W5: 緯度 | X5: 342016.53
C6: 至 | D6: 山口県長門市深川湯本地先 | G6: 建設年度 | I6: 2018 | L6: 幅員 | N6: L= | O6: 12 | P6: ｍ | S6: 緊急輸送道路 | U6: 一次 | W6: 経度 | X6: 1311011.6
B7: トンネル毎 の健全性の 診断の区分 | D7: Ⅲ
G8: 変状・異常 箇所数合計 | I8: トンネル本体工 | J8: 材質劣化 | K8: Ⅱ | L8: 109 | N8: Ⅲ | O8: 5 | Q8: Ⅳ | R8: 0 | T8: 附属物等 の取付状態 | V8: ◯ （応急措置後) | X8: 0
J9: 漏水 | K9: Ⅱ | L9: 1 | N9: Ⅲ | O9: 0 | Q9: Ⅳ | R9: 0
V10: ✕ | X10: 1
J11: 外力 | K11: Ⅱ | L11: 0 | N11: Ⅲ | O11: 0 | Q11: Ⅳ | R11: 0
B12: トンネル変状・異常箇所写真位置図
J29: 注１：本位置図は、見下げた状態で記載すること。 注２：覆工スパン番号は横断目地毎(矢板工法の場合は上半アーチの 横断目地毎)に設定すること。 | Q29: 注３：写真番号に付する変状番号は、各覆工スパンの変状に対して新たに確認された場合 は順次追加していくこと。 注４：横断目地の変状は前の覆工スパン番号で計上すること。 注５：１枚に収まらない場合は、複数枚に分けて作成すること。
C30: ※1 トンネル本体工の変状数は、材質劣化、漏水に起因するものは変状単位で、外力に起因するものはスパン単位で計上すること。
C31: ※2 トンネル本体工の変状に対しては、措置の必要性（Ⅱ～Ⅳ）について表記すること。また、点検前に実施された措置によりⅠと判定された箇所についても記載すること。
C32: ※3 附属物等の取付状態の○欄については、応急措置前に判定区分×とした箇所のうち応急措置により○判定とした箇所の数を記入すること。
C33: ※4 附属物等の異常番号は、本体工と番号が重複しないよう101番以降とする等の配慮を行い、分かりやすく記録すること。

Sheet 様式B_007
B2: ■定期点検記録様式 トンネル変状・異常箇所写真位置図 【様式B】 | N2: 定期点検年月日 | P2: 45621 | S2: 施設ID | V2: 34.32507,131.15851
B3: フリガナ | C3: (ﾀｲﾈｲｼﾞﾀﾞｲｲﾁﾄﾝﾈﾙ) | G3: 路線名 | H3: 国道491号 （長門・俵山道路） | K3: 管理者名 | L3: 山口県長門土木建築事務所 | Q3: 定期点検実施者 | S3: 株式会社荒谷建設コンサルタント | V3: 起点 | W3: 緯度 | X3: 341930.25
B4: 名 称 | C4: 大寧寺第1トンネル | S4: 河野 秀生 | W4: 経度 | X4: 1310930.6
B5: 所在地 | C5: 自 | D5: 山口県長門市深川湯本地先 | G5: トンネル工法 | I5: 山岳トンネル工法（NAT） | L5: トンネル延長 | N5: L= | O5: 1873 | P5: ｍ | Q5: 自専道 or 一般道 | R5: 自専道 | S5: 代替路の有無 | U5: 有 | V5: 終点 | W5: 緯度 | X5: 342016.53
C6: 至 | D6: 山口県長門市深川湯本地先 | G6: 建設年度 | I6: 2018 | L6: 幅員 | N6: L= | O6: 12 | P6: ｍ | S6: 緊急輸送道路 | U6: 一次 | W6: 経度 | X6: 1311011.6
B7: トンネル毎 の健全性の 診断の区分 | D7: Ⅲ
G8: 変状・異常 箇所数合計 | I8: トンネル本体工 | J8: 材質劣化 | K8: Ⅱ | L8: 109 | N8: Ⅲ | O8: 5 | Q8: Ⅳ | R8: 0 | T8: 附属物等 の取付状態 | V8: ◯ （応急措置後) | X8: 0
J9: 漏水 | K9: Ⅱ | L9: 1 | N9: Ⅲ | O9: 0 | Q9: Ⅳ | R9: 0
V10: ✕ | X10: 1
J11: 外力 | K11: Ⅱ | L11: 0 | N11: Ⅲ | O11: 0 | Q11: Ⅳ | R11: 0
B12: トンネル変状・異常箇所写真位置図
J29: 注１：本位置図は、見下げた状態で記載すること。 注２：覆工スパン番号は横断目地毎(矢板工法の場合は上半アーチの 横断目地毎)に設定すること。 | Q29: 注３：写真番号に付する変状番号は、各覆工スパンの変状に対して新たに確認された場合 は順次追加していくこと。 注４：横断目地の変状は前の覆工スパン番号で計上すること。 注５：１枚に収まらない場合は、複数枚に分けて作成すること。
C30: ※1 トンネル本体工の変状数は、材質劣化、漏水に起因するものは変状単位で、外力に起因するものはスパン単位で計上すること。
C31: ※2 トンネル本体工の変状に対しては、措置の必要性（Ⅱ～Ⅳ）について表記すること。また、点検前に実施された措置によりⅠと判定された箇所についても記載すること。
C32: ※3 附属物等の取付状態の○欄については、応急措置前に判定区分×とした箇所のうち応急措置により○判定とした箇所の数を記入すること。
C33: ※4 附属物等の異常番号は、本体工と番号が重複しないよう101番以降とする等の配慮を行い、分かりやすく記録すること。

Sheet 様式B_008
B2: ■定期点検記録様式 トンネル変状・異常箇所写真位置図 【様式B】 | N2: 定期点検年月日 | P2: 45621 | S2: 施設ID | V2: 34.32507,131.15851
B3: フリガナ | C3: (ﾀｲﾈｲｼﾞﾀﾞｲｲﾁﾄﾝﾈﾙ) | G3: 路線名 | H3: 国道491号 （長門・俵山道路） | K3: 管理者名 | L3: 山口県長門土木建築事務所 | Q3: 定期点検実施者 | S3: 株式会社荒谷建設コンサルタント | V3: 起点 | W3: 緯度 | X3: 341930.25
B4: 名 称 | C4: 大寧寺第1トンネル | S4: 河野 秀生 | W4: 経度 | X4: 1310930.6
B5: 所在地 | C5: 自 | D5: 山口県長門市深川湯本地先 | G5: トンネル工法 | I5: 山岳トンネル工法（NAT） | L5: トンネル延長 | N5: L= | O5: 1873 | P5: ｍ | Q5: 自専道 or 一般道 | R5: 自専道 | S5: 代替路の有無 | U5: 有 | V5: 終点 | W5: 緯度 | X5: 342016.53
C6: 至 | D6: 山口県長門市深川湯本地先 | G6: 建設年度 | I6: 2018 | L6: 幅員 | N6: L= | O6: 12 | P6: ｍ | S6: 緊急輸送道路 | U6: 一次 | W6: 経度 | X6: 1311011.6
B7: トンネル毎 の健全性の 診断の区分 | D7: Ⅲ
G8: 変状・異常 箇所数合計 | I8: トンネル本体工 | J8: 材質劣化 | K8: Ⅱ | L8: 109 | N8: Ⅲ | O8: 5 | Q8: Ⅳ | R8: 0 | T8: 附属物等 の取付状態 | V8: ◯ （応急措置後) | X8: 0
J9: 漏水 | K9: Ⅱ | L9: 1 | N9: Ⅲ | O9: 0 | Q9: Ⅳ | R9: 0
V10: ✕ | X10: 1
J11: 外力 | K11: Ⅱ | L11: 0 | N11: Ⅲ | O11: 0 | Q11: Ⅳ | R11: 0
B12: トンネル変状・異常箇所写真位置図
J29: 注１：本位置図は、見下げた状態で記載すること。 注２：覆工スパン番号は横断目地毎(矢板工法の場合は上半アーチの 横断目地毎)に設定すること。 | Q29: 注３：写真番号に付する変状番号は、各覆工スパンの変状に対して新たに確認された場合 は順次追加していくこと。 注４：横断目地の変状は前の覆工スパン番号で計上すること。 注５：１枚に収まらない場合は、複数枚に分けて作成すること。
C30: ※1 トンネル本体工の変状数は、材質劣化、漏水に起因するものは変状単位で、外力に起因するものはスパン単位で計上すること。
C31: ※2 トンネル本体工の変状に対しては、措置の必要性（Ⅱ～Ⅳ）について表記すること。また、点検前に実施された措置によりⅠと判定された箇所についても記載すること。
C32: ※3 附属物等の取付状態の○欄については、応急措置前に判定区分×とした箇所のうち応急措置により○判定とした箇所の数を記入すること。
C33: ※4 附属物等の異常番号は、本体工と番号が重複しないよう101番以降とする等の配慮を行い、分かりやすく記録すること。

Sheet 様式B_009
B2: ■定期点検記録様式 トンネル変状・異常箇所写真位置図 【様式B】 | N2: 定期点検年月日 | P2: 45621 | S2: 施設ID | V2: 34.32507,131.15851
B3: フリガナ | C3: (ﾀｲﾈｲｼﾞﾀﾞｲｲﾁﾄﾝﾈﾙ) | G3: 路線名 | H3: 国道491号 （長門・俵山道路） | K3: 管理者名 | L3: 山口県長門土木建築事務所 | Q3: 定期点検実施者 | S3: 株式会社荒谷建設コンサルタント | V3: 起点 | W3: 緯度 | X3: 341930.25
B4: 名 称 | C4: 大寧寺第1トンネル | S4: 河野 秀生 | W4: 経度 | X4: 1310930.6
B5: 所在地 | C5: 自 | D5: 山口県長門市深川湯本地先 | G5: トンネル工法 | I5: 山岳トンネル工法（NAT） | L5: トンネル延長 | N5: L= | O5: 1873 | P5: ｍ | Q5: 自専道 or 一般道 | R5: 自専道 | S5: 代替路の有無 | U5: 有 | V5: 終点 | W5: 緯度 | X5: 342016.53
C6: 至 | D6: 山口県長門市深川湯本地先 | G6: 建設年度 | I6: 2018 | L6: 幅員 | N6: L= | O6: 12 | P6: ｍ | S6: 緊急輸送道路 | U6: 一次 | W6: 経度 | X6: 1311011.6
B7: トンネル毎 の健全性の 診断の区分 | D7: Ⅲ
G8: 変状・異常 箇所数合計 | I8: トンネル本体工 | J8: 材質劣化 | K8: Ⅱ | L8: 109 | N8: Ⅲ | O8: 5 | Q8: Ⅳ | R8: 0 | T8: 附属物等 の取付状態 | V8: ◯ （応急措置後) | X8: 0
J9: 漏水 | K9: Ⅱ | L9: 1 | N9: Ⅲ | O9: 0 | Q9: Ⅳ | R9: 0
V10: ✕ | X10: 1
J11: 外力 | K11: Ⅱ | L11: 0 | N11: Ⅲ | O11: 0 | Q11: Ⅳ | R11: 0
B12: トンネル変状・異常箇所写真位置図
J29: 注１：本位置図は、見下げた状態で記載すること。 注２：覆工スパン番号は横断目地毎(矢板工法の場合は上半アーチの 横断目地毎)に設定すること。 | Q29: 注３：写真番号に付する変状番号は、各覆工スパンの変状に対して新たに確認された場合 は順次追加していくこと。 注４：横断目地の変状は前の覆工スパン番号で計上すること。 注５：１枚に収まらない場合は、複数枚に分けて作成すること。
C30: ※1 トンネル本体工の変状数は、材質劣化、漏水に起因するものは変状単位で、外力に起因するものはスパン単位で計上すること。
C31: ※2 トンネル本体工の変状に対しては、措置の必要性（Ⅱ～Ⅳ）について表記すること。また、点検前に実施された措置によりⅠと判定された箇所についても記載すること。
C32: ※3 附属物等の取付状態の○欄については、応急措置前に判定区分×とした箇所のうち応急措置により○判定とした箇所の数を記入すること。
C33: ※4 附属物等の異常番号は、本体工と番号が重複しないよう101番以降とする等の配慮を行い、分かりやすく記録すること。

Sheet 様式B_010
B2: ■定期点検記録様式 トンネル変状・異常箇所写真位置図 【様式B】 | N2: 定期点検年月日 | P2: 45621 | S2: 施設ID | V2: 34.32507,131.15851
B3: フリガナ | C3: (ﾀｲﾈｲｼﾞﾀﾞｲｲﾁﾄﾝﾈﾙ) | G3: 路線名 | H3: 国道491号 （長門・俵山道路） | K3: 管理者名 | L3: 山口県長門土木建築事務所 | Q3: 定期点検実施者 | S3: 株式会社荒谷建設コンサルタント | V3: 起点 | W3: 緯度 | X3: 341930.25
B4: 名 称 | C4: 大寧寺第1トンネル | S4: 河野 秀生 | W4: 経度 | X4: 1310930.6
B5: 所在地 | C5: 自 | D5: 山口県長門市深川湯本地先 | G5: トンネル工法 | I5: 山岳トンネル工法（NAT） | L5: トンネル延長 | N5: L= | O5: 1873 | P5: ｍ | Q5: 自専道 or 一般道 | R5: 自専道 | S5: 代替路の有無 | U5: 有 | V5: 終点 | W5: 緯度 | X5: 342016.53
C6: 至 | D6: 山口県長門市深川湯本地先 | G6: 建設年度 | I6: 2018 | L6: 幅員 | N6: L= | O6: 12 | P6: ｍ | S6: 緊急輸送道路 | U6: 一次 | W6: 経度 | X6: 1311011.6
B7: トンネル毎 の健全性の 診断の区分 | D7: Ⅲ
G8: 変状・異常 箇所数合計 | I8: トンネル本体工 | J8: 材質劣化 | K8: Ⅱ | L8: 109 | N8: Ⅲ | O8: 5 | Q8: Ⅳ | R8: 0 | T8: 附属物等 の取付状態 | V8: ◯ （応急措置後) | X8: 0
J9: 漏水 | K9: Ⅱ | L9: 1 | N9: Ⅲ | O9: 0 | Q9: Ⅳ | R9: 0
V10: ✕ | X10: 1
J11: 外力 | K11: Ⅱ | L11: 0 | N11: Ⅲ | O11: 0 | Q11: Ⅳ | R11: 0
B12: トンネル変状・異常箇所写真位置図
J29: 注１：本位置図は、見下げた状態で記載すること。 注２：覆工スパン番号は横断目地毎(矢板工法の場合は上半アーチの 横断目地毎)に設定すること。 | Q29: 注３：写真番号に付する変状番号は、各覆工スパンの変状に対して新たに確認された場合 は順次追加していくこと。 注４：横断目地の変状は前の覆工スパン番号で計上すること。 注５：１枚に収まらない場合は、複数枚に分けて作成すること。
C30: ※1 トンネル本体工の変状数は、材質劣化、漏水に起因するものは変状単位で、外力に起因するものはスパン単位で計上すること。
C31: ※2 トンネル本体工の変状に対しては、措置の必要性（Ⅱ～Ⅳ）について表記すること。また、点検前に実施された措置によりⅠと判定された箇所についても記載すること。
C32: ※3 附属物等の取付状態の○欄については、応急措置前に判定区分×とした箇所のうち応急措置により○判定とした箇所の数を記入すること。
C33: ※4 附属物等の異常番号は、本体工と番号が重複しないよう101番以降とする等の配慮を行い、分かりやすく記録すること。

Sheet 様式B_011
B2: ■定期点検記録様式 トンネル変状・異常箇所写真位置図 【様式B】 | N2: 定期点検年月日 | P2: 45621 | S2: 施設ID | V2: 34.32507,131.15851
B3: フリガナ | C3: (ﾀｲﾈｲｼﾞﾀﾞｲｲﾁﾄﾝﾈﾙ) | G3: 路線名 | H3: 国道491号 （長門・俵山道路） | K3: 管理者名 | L3: 山口県長門土木建築事務所 | Q3: 定期点検実施者 | S3: 株式会社荒谷建設コンサルタント | V3: 起点 | W3: 緯度 | X3: 341930.25
B4: 名 称 | C4: 大寧寺第1トンネル | S4: 河野 秀生 | W4: 経度 | X4: 1310930.6
B5: 所在地 | C5: 自 | D5: 山口県長門市深川湯本地先 | G5: トンネル工法 | I5: 山岳トンネル工法（NAT） | L5: トンネル延長 | N5: L= | O5: 1873 | P5: ｍ | Q5: 自専道 or 一般道 | R5: 自専道 | S5: 代替路の有無 | U5: 有 | V5: 終点 | W5: 緯度 | X5: 342016.53
C6: 至 | D6: 山口県長門市深川湯本地先 | G6: 建設年度 | I6: 2018 | L6: 幅員 | N6: L= | O6: 12 | P6: ｍ | S6: 緊急輸送道路 | U6: 一次 | W6: 経度 | X6: 1311011.6
B7: トンネル毎 の健全性の 診断の区分 | D7: Ⅲ
G8: 変状・異常 箇所数合計 | I8: トンネル本体工 | J8: 材質劣化 | K8: Ⅱ | L8: 109 | N8: Ⅲ | O8: 5 | Q8: Ⅳ | R8: 0 | T8: 附属物等 の取付状態 | V8: ◯ （応急措置後) | X8: 0
J9: 漏水 | K9: Ⅱ | L9: 1 | N9: Ⅲ | O9: 0 | Q9: Ⅳ | R9: 0
V10: ✕ | X10: 1
J11: 外力 | K11: Ⅱ | L11: 0 | N11: Ⅲ | O11: 0 | Q11: Ⅳ | R11: 0
B12: トンネル変状・異常箇所写真位置図
J29: 注１：本位置図は、見下げた状態で記載すること。 注２：覆工スパン番号は横断目地毎(矢板工法の場合は上半アーチの 横断目地毎)に設定すること。 | Q29: 注３：写真番号に付する変状番号は、各覆工スパンの変状に対して新たに確認された場合 は順次追加していくこと。 注４：横断目地の変状は前の覆工スパン番号で計上すること。 注５：１枚に収まらない場合は、複数枚に分けて作成すること。
C30: ※1 トンネル本体工の変状数は、材質劣化、漏水に起因するものは変状単位で、外力に起因するものはスパン単位で計上すること。
C31: ※2 トンネル本体工の変状に対しては、措置の必要性（Ⅱ～Ⅳ）について表記すること。また、点検前に実施された措置によりⅠと判定された箇所についても記載すること。
C32: ※3 附属物等の取付状態の○欄については、応急措置前に判定区分×とした箇所のうち応急措置により○判定とした箇所の数を記入すること。
C33: ※4 附属物等の異常番号は、本体工と番号が重複しないよう101番以降とする等の配慮を行い、分かりやすく記録すること。

Sheet 様式B_012
B2: ■定期点検記録様式 トンネル変状・異常箇所写真位置図 【様式B】 | N2: 定期点検年月日 | P2: 45621 | S2: 施設ID | V2: 34.32507,131.15851
B3: フリガナ | C3: (ﾀｲﾈｲｼﾞﾀﾞｲｲﾁﾄﾝﾈﾙ) | G3: 路線名 | H3: 国道491号 （長門・俵山道路） | K3: 管理者名 | L3: 山口県長門土木建築事務所 | Q3: 定期点検実施者 | S3: 株式会社荒谷建設コンサルタント | V3: 起点 | W3: 緯度 | X3: 341930.25
B4: 名 称 | C4: 大寧寺第1トンネル | S4: 河野 秀生 | W4: 経度 | X4: 1310930.6
B5: 所在地 | C5: 自 | D5: 山口県長門市深川湯本地先 | G5: トンネル工法 | I5: 山岳トンネル工法（NAT） | L5: トンネル延長 | N5: L= | O5: 1873 | P5: ｍ | Q5: 自専道 or 一般道 | R5: 自専道 | S5: 代替路の有無 | U5: 有 | V5: 終点 | W5: 緯度 | X5: 342016.53
C6: 至 | D6: 山口県長門市深川湯本地先 | G6: 建設年度 | I6: 2018 | L6: 幅員 | N6: L= | O6: 12 | P6: ｍ | S6: 緊急輸送道路 | U6: 一次 | W6: 経度 | X6: 1311011.6
B7: トンネル毎 の健全性の 診断の区分 | D7: Ⅲ
G8: 変状・異常 箇所数合計 | I8: トンネル本体工 | J8: 材質劣化 | K8: Ⅱ | L8: 109 | N8: Ⅲ | O8: 5 | Q8: Ⅳ | R8: 0 | T8: 附属物等 の取付状態 | V8: ◯ （応急措置後) | X8: 0
J9: 漏水 | K9: Ⅱ | L9: 1 | N9: Ⅲ | O9: 0 | Q9: Ⅳ | R9: 0
V10: ✕ | X10: 1
J11: 外力 | K11: Ⅱ | L11: 0 | N11: Ⅲ | O11: 0 | Q11: Ⅳ | R11: 0
B12: トンネル変状・異常箇所写真位置図
J29: 注１：本位置図は、見下げた状態で記載すること。 注２：覆工スパン番号は横断目地毎(矢板工法の場合は上半アーチの 横断目地毎)に設定すること。 | Q29: 注３：写真番号に付する変状番号は、各覆工スパンの変状に対して新たに確認された場合 は順次追加していくこと。 注４：横断目地の変状は前の覆工スパン番号で計上すること。 注５：１枚に収まらない場合は、複数枚に分けて作成すること。
C30: ※1 トンネル本体工の変状数は、材質劣化、漏水に起因するものは変状単位で、外力に起因するものはスパン単位で計上すること。
C31: ※2 トンネル本体工の変状に対しては、措置の必要性（Ⅱ～Ⅳ）について表記すること。また、点検前に実施された措置によりⅠと判定された箇所についても記載すること。
C32: ※3 附属物等の取付状態の○欄については、応急措置前に判定区分×とした箇所のうち応急措置により○判定とした箇所の数を記入すること。
C33: ※4 附属物等の異常番号は、本体工と番号が重複しないよう101番以降とする等の配慮を行い、分かりやすく記録すること。

Sheet 様式B_013
B2: ■定期点検記録様式 トンネル変状・異常箇所写真位置図 【様式B】 | N2: 定期点検年月日 | P2: 45621 | S2: 施設ID | V2: 34.32507,131.15851
B3: フリガナ | C3: (ﾀｲﾈｲｼﾞﾀﾞｲｲﾁﾄﾝﾈﾙ) | G3: 路線名 | H3: 国道491号 （長門・俵山道路） | K3: 管理者名 | L3: 山口県長門土木建築事務所 | Q3: 定期点検実施者 | S3: 株式会社荒谷建設コンサルタント | V3: 起点 | W3: 緯度 | X3: 341930.25
B4: 名 称 | C4: 大寧寺第1トンネル | S4: 河野 秀生 | W4: 経度 | X4: 1310930.6
B5: 所在地 | C5: 自 | D5: 山口県長門市深川湯本地先 | G5: トンネル工法 | I5: 山岳トンネル工法（NAT） | L5: トンネル延長 | N5: L= | O5: 1873 | P5: ｍ | Q5: 自専道 or 一般道 | R5: 自専道 | S5: 代替路の有無 | U5: 有 | V5: 終点 | W5: 緯度 | X5: 342016.53
C6: 至 | D6: 山口県長門市深川湯本地先 | G6: 建設年度 | I6: 2018 | L6: 幅員 | N6: L= | O6: 12 | P6: ｍ | S6: 緊急輸送道路 | U6: 一次 | W6: 経度 | X6: 1311011.6
B7: トンネル毎 の健全性の 診断の区分 | D7: Ⅲ
G8: 変状・異常 箇所数合計 | I8: トンネル本体工 | J8: 材質劣化 | K8: Ⅱ | L8: 109 | N8: Ⅲ | O8: 5 | Q8: Ⅳ | R8: 0 | T8: 附属物等 の取付状態 | V8: ◯ （応急措置後) | X8: 0
J9: 漏水 | K9: Ⅱ | L9: 1 | N9: Ⅲ | O9: 0 | Q9: Ⅳ | R9: 0
V10: ✕ | X10: 1
J11: 外力 | K11: Ⅱ | L11: 0 | N11: Ⅲ | O11: 0 | Q11: Ⅳ | R11: 0
B12: トンネル変状・異常箇所写真位置図
J29: 注１：本位置図は、見下げた状態で記載すること。 注２：覆工スパン番号は横断目地毎(矢板工法の場合は上半アーチの 横断目地毎)に設定すること。 | Q29: 注３：写真番号に付する変状番号は、各覆工スパンの変状に対して新たに確認された場合 は順次追加していくこと。 注４：横断目地の変状は前の覆工スパン番号で計上すること。 注５：１枚に収まらない場合は、複数枚に分けて作成すること。
C30: ※1 トンネル本体工の変状数は、材質劣化、漏水に起因するものは変状単位で、外力に起因するものはスパン単位で計上すること。
C31: ※2 トンネル本体工の変状に対しては、措置の必要性（Ⅱ～Ⅳ）について表記すること。また、点検前に実施された措置によりⅠと判定された箇所についても記載すること。
C32: ※3 附属物等の取付状態の○欄については、応急措置前に判定区分×とした箇所のうち応急措置により○判定とした箇所の数を記入すること。
C33: ※4 附属物等の異常番号は、本体工と番号が重複しないよう101番以降とする等の配慮を行い、分かりやすく記録すること。

Sheet 様式B_014
B2: ■定期点検記録様式 トンネル変状・異常箇所写真位置図 【様式B】 | N2: 定期点検年月日 | P2: 45621 | S2: 施設ID | V2: 34.32507,131.15851
B3: フリガナ | C3: (ﾀｲﾈｲｼﾞﾀﾞｲｲﾁﾄﾝﾈﾙ) | G3: 路線名 | H3: 国道491号 （長門・俵山道路） | K3: 管理者名 | L3: 山口県長門土木建築事務所 | Q3: 定期点検実施者 | S3: 株式会社荒谷建設コンサルタント | V3: 起点 | W3: 緯度 | X3: 341930.25
B4: 名 称 | C4: 大寧寺第1トンネル | S4: 河野 秀生 | W4: 経度 | X4: 1310930.6
B5: 所在地 | C5: 自 | D5: 山口県長門市深川湯本地先 | G5: トンネル工法 | I5: 山岳トンネル工法（NAT） | L5: トンネル延長 | N5: L= | O5: 1873 | P5: ｍ | Q5: 自専道 or 一般道 | R5: 自専道 | S5: 代替路の有無 | U5: 有 | V5: 終点 | W5: 緯度 | X5: 342016.53
C6: 至 | D6: 山口県長門市深川湯本地先 | G6: 建設年度 | I6: 2018 | L6: 幅員 | N6: L= | O6: 12 | P6: ｍ | S6: 緊急輸送道路 | U6: 一次 | W6: 経度 | X6: 1311011.6
B7: トンネル毎 の健全性の 診断の区分 | D7: Ⅲ
G8: 変状・異常 箇所数合計 | I8: トンネル本体工 | J8: 材質劣化 | K8: Ⅱ | L8: 109 | N8: Ⅲ | O8: 5 | Q8: Ⅳ | R8: 0 | T8: 附属物等 の取付状態 | V8: ◯ （応急措置後) | X8: 0
J9: 漏水 | K9: Ⅱ | L9: 1 | N9: Ⅲ | O9: 0 | Q9: Ⅳ | R9: 0
V10: ✕ | X10: 1
J11: 外力 | K11: Ⅱ | L11: 0 | N11: Ⅲ | O11: 0 | Q11: Ⅳ | R11: 0
B12: トンネル変状・異常箇所写真位置図
J29: 注１：本位置図は、見下げた状態で記載すること。 注２：覆工スパン番号は横断目地毎(矢板工法の場合は上半アーチの 横断目地毎)に設定すること。 | Q29: 注３：写真番号に付する変状番号は、各覆工スパンの変状に対して新たに確認された場合 は順次追加していくこと。 注４：横断目地の変状は前の覆工スパン番号で計上すること。 注５：１枚に収まらない場合は、複数枚に分けて作成すること。
C30: ※1 トンネル本体工の変状数は、材質劣化、漏水に起因するものは変状単位で、外力に起因するものはスパン単位で計上すること。
C31: ※2 トンネル本体工の変状に対しては、措置の必要性（Ⅱ～Ⅳ）について表記すること。また、点検前に実施された措置によりⅠと判定された箇所についても記載すること。
C32: ※3 附属物等の取付状態の○欄については、応急措置前に判定区分×とした箇所のうち応急措置により○判定とした箇所の数を記入すること。
C33: ※4 附属物等の異常番号は、本体工と番号が重複しないよう101番以降とする等の配慮を行い、分かりやすく記録すること。

Sheet 様式B_015
B2: ■定期点検記録様式 トンネル変状・異常箇所写真位置図 【様式B】 | N2: 定期点検年月日 | P2: 45621 | S2: 施設ID | V2: 34.32507,131.15851
B3: フリガナ | C3: (ﾀｲﾈｲｼﾞﾀﾞｲｲﾁﾄﾝﾈﾙ) | G3: 路線名 | H3: 国道491号 （長門・俵山道路） | K3: 管理者名 | L3: 山口県長門土木建築事務所 | Q3: 定期点検実施者 | S3: 株式会社荒谷建設コンサルタント | V3: 起点 | W3: 緯度 | X3: 341930.25
B4: 名 称 | C4: 大寧寺第1トンネル | S4: 河野 秀生 | W4: 経度 | X4: 1310930.6
B5: 所在地 | C5: 自 | D5: 山口県長門市深川湯本地先 | G5: トンネル工法 | I5: 山岳トンネル工法（NAT） | L5: トンネル延長 | N5: L= | O5: 1873 | P5: ｍ | Q5: 自専道 or 一般道 | R5: 自専道 | S5: 代替路の有無 | U5: 有 | V5: 終点 | W5: 緯度 | X5: 342016.53
C6: 至 | D6: 山口県長門市深川湯本地先 | G6: 建設年度 | I6: 2018 | L6: 幅員 | N6: L= | O6: 12 | P6: ｍ | S6: 緊急輸送道路 | U6: 一次 | W6: 経度 | X6: 1311011.6
B7: トンネル毎 の健全性の 診断の区分 | D7: Ⅲ
G8: 変状・異常 箇所数合計 | I8: トンネル本体工 | J8: 材質劣化 | K8: Ⅱ | L8: 109 | N8: Ⅲ | O8: 5 | Q8: Ⅳ | R8: 0 | T8: 附属物等 の取付状態 | V8: ◯ （応急措置後) | X8: 0
J9: 漏水 | K9: Ⅱ | L9: 1 | N9: Ⅲ | O9: 0 | Q9: Ⅳ | R9: 0
V10: ✕ | X10: 1
J11: 外力 | K11: Ⅱ | L11: 0 | N11: Ⅲ | O11: 0 | Q11: Ⅳ | R11: 0
B12: トンネル変状・異常箇所写真位置図
J29: 注１：本位置図は、見下げた状態で記載すること。 注２：覆工スパン番号は横断目地毎(矢板工法の場合は上半アーチの 横断目地毎)に設定すること。 | Q29: 注３：写真番号に付する変状番号は、各覆工スパンの変状に対して新たに確認された場合 は順次追加していくこと。 注４：横断目地の変状は前の覆工スパン番号で計上すること。 注５：１枚に収まらない場合は、複数枚に分けて作成すること。
C30: ※1 トンネル本体工の変状数は、材質劣化、漏水に起因するものは変状単位で、外力に起因するものはスパン単位で計上すること。
C31: ※2 トンネル本体工の変状に対しては、措置の必要性（Ⅱ～Ⅳ）について表記すること。また、点検前に実施された措置によりⅠと判定された箇所についても記載すること。
C32: ※3 附属物等の取付状態の○欄については、応急措置前に判定区分×とした箇所のうち応急措置により○判定とした箇所の数を記入すること。
C33: ※4 附属物等の異常番号は、本体工と番号が重複しないよう101番以降とする等の配慮を行い、分かりやすく記録すること。

Sheet 様式B_016
B2: ■定期点検記録様式 トンネル変状・異常箇所写真位置図 【様式B】 | N2: 定期点検年月日 | P2: 45621 | S2: 施設ID | V2: 34.32507,131.15851
B3: フリガナ | C3: (ﾀｲﾈｲｼﾞﾀﾞｲｲﾁﾄﾝﾈﾙ) | G3: 路線名 | H3: 国道491号 （長門・俵山道路） | K3: 管理者名 | L3: 山口県長門土木建築事務所 | Q3: 定期点検実施者 | S3: 株式会社荒谷建設コンサルタント | V3: 起点 | W3: 緯度 | X3: 341930.25
B4: 名 称 | C4: 大寧寺第1トンネル | S4: 河野 秀生 | W4: 経度 | X4: 1310930.6
B5: 所在地 | C5: 自 | D5: 山口県長門市深川湯本地先 | G5: トンネル工法 | I5: 山岳トンネル工法（NAT） | L5: トンネル延長 | N5: L= | O5: 1873 | P5: ｍ | Q5: 自専道 or 一般道 | R5: 自専道 | S5: 代替路の有無 | U5: 有 | V5: 終点 | W5: 緯度 | X5: 342016.53
C6: 至 | D6: 山口県長門市深川湯本地先 | G6: 建設年度 | I6: 2018 | L6: 幅員 | N6: L= | O6: 12 | P6: ｍ | S6: 緊急輸送道路 | U6: 一次 | W6: 経度 | X6: 1311011.6
B7: トンネル毎 の健全性の 診断の区分 | D7: Ⅲ
G8: 変状・異常 箇所数合計 | I8: トンネル本体工 | J8: 材質劣化 | K8: Ⅱ | L8: 109 | N8: Ⅲ | O8: 5 | Q8: Ⅳ | R8: 0 | T8: 附属物等 の取付状態 | V8: ◯ （応急措置後) | X8: 0
J9: 漏水 | K9: Ⅱ | L9: 1 | N9: Ⅲ | O9: 0 | Q9: Ⅳ | R9: 0
V10: ✕ | X10: 1
J11: 外力 | K11: Ⅱ | L11: 0 | N11: Ⅲ | O11: 0 | Q11: Ⅳ | R11: 0
B12: トンネル変状・異常箇所写真位置図
J29: 注１：本位置図は、見下げた状態で記載すること。 注２：覆工スパン番号は横断目地毎(矢板工法の場合は上半アーチの 横断目地毎)に設定すること。 | Q29: 注３：写真番号に付する変状番号は、各覆工スパンの変状に対して新たに確認された場合 は順次追加していくこと。 注４：横断目地の変状は前の覆工スパン番号で計上すること。 注５：１枚に収まらない場合は、複数枚に分けて作成すること。
C30: ※1 トンネル本体工の変状数は、材質劣化、漏水に起因するものは変状単位で、外力に起因するものはスパン単位で計上すること。
C31: ※2 トンネル本体工の変状に対しては、措置の必要性（Ⅱ～Ⅳ）について表記すること。また、点検前に実施された措置によりⅠと判定された箇所についても記載すること。
C32: ※3 附属物等の取付状態の○欄については、応急措置前に判定区分×とした箇所のうち応急措置により○判定とした箇所の数を記入すること。
C33: ※4 附属物等の異常番号は、本体工と番号が重複しないよう101番以降とする等の配慮を行い、分かりやすく記録すること。

Sheet 様式B_017
B2: ■定期点検記録様式 トンネル変状・異常箇所写真位置図 【様式B】 | N2: 定期点検年月日 | P2: 45621 | S2: 施設ID | V2: 34.32507,131.15851
B3: フリガナ | C3: (ﾀｲﾈｲｼﾞﾀﾞｲｲﾁﾄﾝﾈﾙ) | G3: 路線名 | H3: 国道491号 （長門・俵山道路） | K3: 管理者名 | L3: 山口県長門土木建築事務所 | Q3: 定期点検実施者 | S3: 株式会社荒谷建設コンサルタント | V3: 起点 | W3: 緯度 | X3: 341930.25
B4: 名 称 | C4: 大寧寺第1トンネル | S4: 河野 秀生 | W4: 経度 | X4: 1310930.6
B5: 所在地 | C5: 自 | D5: 山口県長門市深川湯本地先 | G5: トンネル工法 | I5: 山岳トンネル工法（NAT） | L5: トンネル延長 | N5: L= | O5: 1873 | P5: ｍ | Q5: 自専道 or 一般道 | R5: 自専道 | S5: 代替路の有無 | U5: 有 | V5: 終点 | W5: 緯度 | X5: 342016.53
C6: 至 | D6: 山口県長門市深川湯本地先 | G6: 建設年度 | I6: 2018 | L6: 幅員 | N6: L= | O6: 12 | P6: ｍ | S6: 緊急輸送道路 | U6: 一次 | W6: 経度 | X6: 1311011.6
B7: トンネル毎 の健全性の 診断の区分 | D7: Ⅲ
G8: 変状・異常 箇所数合計 | I8: トンネル本体工 | J8: 材質劣化 | K8: Ⅱ | L8: 109 | N8: Ⅲ | O8: 5 | Q8: Ⅳ | R8: 0 | T8: 附属物等 の取付状態 | V8: ◯ （応急措置後) | X8: 0
J9: 漏水 | K9: Ⅱ | L9: 1 | N9: Ⅲ | O9: 0 | Q9: Ⅳ | R9: 0
V10: ✕ | X10: 1
J11: 外力 | K11: Ⅱ | L11: 0 | N11: Ⅲ | O11: 0 | Q11: Ⅳ | R11: 0
B12: トンネル変状・異常箇所写真位置図
J29: 注１：本位置図は、見下げた状態で記載すること。 注２：覆工スパン番号は横断目地毎(矢板工法の場合は上半アーチの 横断目地毎)に設定すること。 | Q29: 注３：写真番号に付する変状番号は、各覆工スパンの変状に対して新たに確認された場合 は順次追加していくこと。 注４：横断目地の変状は前の覆工スパン番号で計上すること。 注５：１枚に収まらない場合は、複数枚に分けて作成すること。
C30: ※1 トンネル本体工の変状数は、材質劣化、漏水に起因するものは変状単位で、外力に起因するものはスパン単位で計上すること。
C31: ※2 トンネル本体工の変状に対しては、措置の必要性（Ⅱ～Ⅳ）について表記すること。また、点検前に実施された措置によりⅠと判定された箇所についても記載すること。
C32: ※3 附属物等の取付状態の○欄については、応急措置前に判定区分×とした箇所のうち応急措置により○判定とした箇所の数を記入すること。
C33: ※4 附属物等の異常番号は、本体工と番号が重複しないよう101番以降とする等の配慮を行い、分かりやすく記録すること。

Sheet 様式B_018
B2: ■定期点検記録様式 トンネル変状・異常箇所写真位置図 【様式B】 | N2: 定期点検年月日 | P2: 45621 | S2: 施設ID | V2: 34.32507,131.15851
B3: フリガナ | C3: (ﾀｲﾈｲｼﾞﾀﾞｲｲﾁﾄﾝﾈﾙ) | G3: 路線名 | H3: 国道491号 （長門・俵山道路） | K3: 管理者名 | L3: 山口県長門土木建築事務所 | Q3: 定期点検実施者 | S3: 株式会社荒谷建設コンサルタント | V3: 起点 | W3: 緯度 | X3: 341930.25
B4: 名 称 | C4: 大寧寺第1トンネル | S4: 河野 秀生 | W4: 経度 | X4: 1310930.6
B5: 所在地 | C5: 自 | D5: 山口県長門市深川湯本地先 | G5: トンネル工法 | I5: 山岳トンネル工法（NAT） | L5: トンネル延長 | N5: L= | O5: 1873 | P5: ｍ | Q5: 自専道 or 一般道 | R5: 自専道 | S5: 代替路の有無 | U5: 有 | V5: 終点 | W5: 緯度 | X5: 342016.53
C6: 至 | D6: 山口県長門市深川湯本地先 | G6: 建設年度 | I6: 2018 | L6: 幅員 | N6: L= | O6: 12 | P6: ｍ | S6: 緊急輸送道路 | U6: 一次 | W6: 経度 | X6: 1311011.6
B7: トンネル毎 の健全性の 診断の区分 | D7: Ⅲ
G8: 変状・異常 箇所数合計 | I8: トンネル本体工 | J8: 材質劣化 | K8: Ⅱ | L8: 109 | N8: Ⅲ | O8: 5 | Q8: Ⅳ | R8: 0 | T8: 附属物等 の取付状態 | V8: ◯ （応急措置後) | X8: 0
J9: 漏水 | K9: Ⅱ | L9: 1 | N9: Ⅲ | O9: 0 | Q9: Ⅳ | R9: 0
V10: ✕ | X10: 1
J11: 外力 | K11: Ⅱ | L11: 0 | N11: Ⅲ | O11: 0 | Q11: Ⅳ | R11: 0
B12: トンネル変状・異常箇所写真位置図
J29: 注１：本位置図は、見下げた状態で記載すること。 注２：覆工スパン番号は横断目地毎(矢板工法の場合は上半アーチの 横断目地毎)に設定すること。 | Q29: 注３：写真番号に付する変状番号は、各覆工スパンの変状に対して新たに確認された場合 は順次追加していくこと。 注４：横断目地の変状は前の覆工スパン番号で計上すること。 注５：１枚に収まらない場合は、複数枚に分けて作成すること。
C30: ※1 トンネル本体工の変状数は、材質劣化、漏水に起因するものは変状単位で、外力に起因するものはスパン単位で計上すること。
C31: ※2 トンネル本体工の変状に対しては、措置の必要性（Ⅱ～Ⅳ）について表記すること。また、点検前に実施された措置によりⅠと判定された箇所についても記載すること。
C32: ※3 附属物等の取付状態の○欄については、応急措置前に判定区分×とした箇所のうち応急措置により○判定とした箇所の数を記入すること。
C33: ※4 附属物等の異常番号は、本体工と番号が重複しないよう101番以降とする等の配慮を行い、分かりやすく記録すること。

Sheet 様式B_019
B2: ■定期点検記録様式 トンネル変状・異常箇所写真位置図 【様式B】 | N2: 定期点検年月日 | P2: 45621 | S2: 施設ID | V2: 34.32507,131.15851
B3: フリガナ | C3: (ﾀｲﾈｲｼﾞﾀﾞｲｲﾁﾄﾝﾈﾙ) | G3: 路線名 | H3: 国道491号 （長門・俵山道路） | K3: 管理者名 | L3: 山口県長門土木建築事務所 | Q3: 定期点検実施者 | S3: 株式会社荒谷建設コンサルタント | V3: 起点 | W3: 緯度 | X3: 341930.25
B4: 名 称 | C4: 大寧寺第1トンネル | S4: 河野 秀生 | W4: 経度 | X4: 1310930.6
B5: 所在地 | C5: 自 | D5: 山口県長門市深川湯本地先 | G5: トンネル工法 | I5: 山岳トンネル工法（NAT） | L5: トンネル延長 | N5: L= | O5: 1873 | P5: ｍ | Q5: 自専道 or 一般道 | R5: 自専道 | S5: 代替路の有無 | U5: 有 | V5: 終点 | W5: 緯度 | X5: 342016.53
C6: 至 | D6: 山口県長門市深川湯本地先 | G6: 建設年度 | I6: 2018 | L6: 幅員 | N6: L= | O6: 12 | P6: ｍ | S6: 緊急輸送道路 | U6: 一次 | W6: 経度 | X6: 1311011.6
B7: トンネル毎 の健全性の 診断の区分 | D7: Ⅲ
G8: 変状・異常 箇所数合計 | I8: トンネル本体工 | J8: 材質劣化 | K8: Ⅱ | L8: 109 | N8: Ⅲ | O8: 5 | Q8: Ⅳ | R8: 0 | T8: 附属物等 の取付状態 | V8: ◯ （応急措置後) | X8: 0
J9: 漏水 | K9: Ⅱ | L9: 1 | N9: Ⅲ | O9: 0 | Q9: Ⅳ | R9: 0
V10: ✕ | X10: 1
J11: 外力 | K11: Ⅱ | L11: 0 | N11: Ⅲ | O11: 0 | Q11: Ⅳ | R11: 0
B12: トンネル変状・異常箇所写真位置図
J29: 注１：本位置図は、見下げた状態で記載すること。 注２：覆工スパン番号は横断目地毎(矢板工法の場合は上半アーチの 横断目地毎)に設定すること。 | Q29: 注３：写真番号に付する変状番号は、各覆工スパンの変状に対して新たに確認された場合 は順次追加していくこと。 注４：横断目地の変状は前の覆工スパン番号で計上すること。 注５：１枚に収まらない場合は、複数枚に分けて作成すること。
C30: ※1 トンネル本体工の変状数は、材質劣化、漏水に起因するものは変状単位で、外力に起因するものはスパン単位で計上すること。
C31: ※2 トンネル本体工の変状に対しては、措置の必要性（Ⅱ～Ⅳ）について表記すること。また、点検前に実施された措置によりⅠと判定された箇所についても記載すること。
C32: ※3 附属物等の取付状態の○欄については、応急措置前に判定区分×とした箇所のうち応急措置により○判定とした箇所の数を記入すること。
C33: ※4 附属物等の異常番号は、本体工と番号が重複しないよう101番以降とする等の配慮を行い、分かりやすく記録すること。

Sheet 様式B_020
B2: ■定期点検記録様式 トンネル変状・異常箇所写真位置図 【様式B】 | N2: 定期点検年月日 | P2: 45621 | S2: 施設ID | V2: 34.32507,131.15851
B3: フリガナ | C3: (ﾀｲﾈｲｼﾞﾀﾞｲｲﾁﾄﾝﾈﾙ) | G3: 路線名 | H3: 国道491号 （長門・俵山道路） | K3: 管理者名 | L3: 山口県長門土木建築事務所 | Q3: 定期点検実施者 | S3: 株式会社荒谷建設コンサルタント | V3: 起点 | W3: 緯度 | X3: 341930.25
B4: 名 称 | C4: 大寧寺第1トンネル | S4: 河野 秀生 | W4: 経度 | X4: 1310930.6
B5: 所在地 | C5: 自 | D5: 山口県長門市深川湯本地先 | G5: トンネル工法 | I5: 山岳トンネル工法（NAT） | L5: トンネル延長 | N5: L= | O5: 1873 | P5: ｍ | Q5: 自専道 or 一般道 | R5: 自専道 | S5: 代替路の有無 | U5: 有 | V5: 終点 | W5: 緯度 | X5: 342016.53
C6: 至 | D6: 山口県長門市深川湯本地先 | G6: 建設年度 | I6: 2018 | L6: 幅員 | N6: L= | O6: 12 | P6: ｍ | S6: 緊急輸送道路 | U6: 一次 | W6: 経度 | X6: 1311011.6
B7: トンネル毎 の健全性の 診断の区分 | D7: Ⅲ
G8: 変状・異常 箇所数合計 | I8: トンネル本体工 | J8: 材質劣化 | K8: Ⅱ | L8: 109 | N8: Ⅲ | O8: 5 | Q8: Ⅳ | R8: 0 | T8: 附属物等 の取付状態 | V8: ◯ （応急措置後) | X8: 0
J9: 漏水 | K9: Ⅱ | L9: 1 | N9: Ⅲ | O9: 0 | Q9: Ⅳ | R9: 0
V10: ✕ | X10: 1
J11: 外力 | K11: Ⅱ | L11: 0 | N11: Ⅲ | O11: 0 | Q11: Ⅳ | R11: 0
B12: トンネル変状・異常箇所写真位置図
J29: 注１：本位置図は、見下げた状態で記載すること。 注２：覆工スパン番号は横断目地毎(矢板工法の場合は上半アーチの 横断目地毎)に設定すること。 | Q29: 注３：写真番号に付する変状番号は、各覆工スパンの変状に対して新たに確認された場合 は順次追加していくこと。 注４：横断目地の変状は前の覆工スパン番号で計上すること。 注５：１枚に収まらない場合は、複数枚に分けて作成すること。
C30: ※1 トンネル本体工の変状数は、材質劣化、漏水に起因するものは変状単位で、外力に起因するものはスパン単位で計上すること。
C31: ※2 トンネル本体工の変状に対しては、措置の必要性（Ⅱ～Ⅳ）について表記すること。また、点検前に実施された措置によりⅠと判定された箇所についても記載すること。
C32: ※3 附属物等の取付状態の○欄については、応急措置前に判定区分×とした箇所のうち応急措置により○判定とした箇所の数を記入すること。
C33: ※4 附属物等の異常番号は、本体工と番号が重複しないよう101番以降とする等の配慮を行い、分かりやすく記録すること。

Sheet 様式B_021
B2: ■定期点検記録様式 トンネル変状・異常箇所写真位置図 【様式B】 | N2: 定期点検年月日 | P2: 45621 | S2: 施設ID | V2: 34.32507,131.15851
B3: フリガナ | C3: (ﾀｲﾈｲｼﾞﾀﾞｲｲﾁﾄﾝﾈﾙ) | G3: 路線名 | H3: 国道491号 （長門・俵山道路） | K3: 管理者名 | L3: 山口県長門土木建築事務所 | Q3: 定期点検実施者 | S3: 株式会社荒谷建設コンサルタント | V3: 起点 | W3: 緯度 | X3: 341930.25
B4: 名 称 | C4: 大寧寺第1トンネル | S4: 河野 秀生 | W4: 経度 | X4: 1310930.6
B5: 所在地 | C5: 自 | D5: 山口県長門市深川湯本地先 | G5: トンネル工法 | I5: 山岳トンネル工法（NAT） | L5: トンネル延長 | N5: L= | O5: 1873 | P5: ｍ | Q5: 自専道 or 一般道 | R5: 自専道 | S5: 代替路の有無 | U5: 有 | V5: 終点 | W5: 緯度 | X5: 342016.53
C6: 至 | D6: 山口県長門市深川湯本地先 | G6: 建設年度 | I6: 2018 | L6: 幅員 | N6: L= | O6: 12 | P6: ｍ | S6: 緊急輸送道路 | U6: 一次 | W6: 経度 | X6: 1311011.6
B7: トンネル毎 の健全性の 診断の区分 | D7: Ⅲ
G8: 変状・異常 箇所数合計 | I8: トンネル本体工 | J8: 材質劣化 | K8: Ⅱ | L8: 109 | N8: Ⅲ | O8: 5 | Q8: Ⅳ | R8: 0 | T8: 附属物等 の取付状態 | V8: ◯ （応急措置後) | X8: 0
J9: 漏水 | K9: Ⅱ | L9: 1 | N9: Ⅲ | O9: 0 | Q9: Ⅳ | R9: 0
V10: ✕ | X10: 1
J11: 外力 | K11: Ⅱ | L11: 0 | N11: Ⅲ | O11: 0 | Q11: Ⅳ | R11: 0
B12: トンネル変状・異常箇所写真位置図
J29: 注１：本位置図は、見下げた状態で記載すること。 注２：覆工スパン番号は横断目地毎(矢板工法の場合は上半アーチの 横断目地毎)に設定すること。 | Q29: 注３：写真番号に付する変状番号は、各覆工スパンの変状に対して新たに確認された場合 は順次追加していくこと。 注４：横断目地の変状は前の覆工スパン番号で計上すること。 注５：１枚に収まらない場合は、複数枚に分けて作成すること。
C30: ※1 トンネル本体工の変状数は、材質劣化、漏水に起因するものは変状単位で、外力に起因するものはスパン単位で計上すること。
C31: ※2 トンネル本体工の変状に対しては、措置の必要性（Ⅱ～Ⅳ）について表記すること。また、点検前に実施された措置によりⅠと判定された箇所についても記載すること。
C32: ※3 附属物等の取付状態の○欄については、応急措置前に判定区分×とした箇所のうち応急措置により○判定とした箇所の数を記入すること。
C33: ※4 附属物等の異常番号は、本体工と番号が重複しないよう101番以降とする等の配慮を行い、分かりやすく記録すること。

Sheet 様式B_022
B2: ■定期点検記録様式 トンネル変状・異常箇所写真位置図 【様式B】 | N2: 定期点検年月日 | P2: 45621 | S2: 施設ID | V2: 34.32507,131.15851
B3: フリガナ | C3: (ﾀｲﾈｲｼﾞﾀﾞｲｲﾁﾄﾝﾈﾙ) | G3: 路線名 | H3: 国道491号 （長門・俵山道路） | K3: 管理者名 | L3: 山口県長門土木建築事務所 | Q3: 定期点検実施者 | S3: 株式会社荒谷建設コンサルタント | V3: 起点 | W3: 緯度 | X3: 341930.25
B4: 名 称 | C4: 大寧寺第1トンネル | S4: 河野 秀生 | W4: 経度 | X4: 1310930.6
B5: 所在地 | C5: 自 | D5: 山口県長門市深川湯本地先 | G5: トンネル工法 | I5: 山岳トンネル工法（NAT） | L5: トンネル延長 | N5: L= | O5: 1873 | P5: ｍ | Q5: 自専道 or 一般道 | R5: 自専道 | S5: 代替路の有無 | U5: 有 | V5: 終点 | W5: 緯度 | X5: 342016.53
C6: 至 | D6: 山口県長門市深川湯本地先 | G6: 建設年度 | I6: 2018 | L6: 幅員 | N6: L= | O6: 12 | P6: ｍ | S6: 緊急輸送道路 | U6: 一次 | W6: 経度 | X6: 1311011.6
B7: トンネル毎 の健全性の 診断の区分 | D7: Ⅲ
G8: 変状・異常 箇所数合計 | I8: トンネル本体工 | J8: 材質劣化 | K8: Ⅱ | L8: 109 | N8: Ⅲ | O8: 5 | Q8: Ⅳ | R8: 0 | T8: 附属物等 の取付状態 | V8: ◯ （応急措置後) | X8: 0
J9: 漏水 | K9: Ⅱ | L9: 1 | N9: Ⅲ | O9: 0 | Q9: Ⅳ | R9: 0
V10: ✕ | X10: 1
J11: 外力 | K11: Ⅱ | L11: 0 | N11: Ⅲ | O11: 0 | Q11: Ⅳ | R11: 0
B12: トンネル変状・異常箇所写真位置図
J29: 注１：本位置図は、見下げた状態で記載すること。 注２：覆工スパン番号は横断目地毎(矢板工法の場合は上半アーチの 横断目地毎)に設定すること。 | Q29: 注３：写真番号に付する変状番号は、各覆工スパンの変状に対して新たに確認された場合 は順次追加していくこと。 注４：横断目地の変状は前の覆工スパン番号で計上すること。 注５：１枚に収まらない場合は、複数枚に分けて作成すること。
C30: ※1 トンネル本体工の変状数は、材質劣化、漏水に起因するものは変状単位で、外力に起因するものはスパン単位で計上すること。
C31: ※2 トンネル本体工の変状に対しては、措置の必要性（Ⅱ～Ⅳ）について表記すること。また、点検前に実施された措置によりⅠと判定された箇所についても記載すること。
C32: ※3 附属物等の取付状態の○欄については、応急措置前に判定区分×とした箇所のうち応急措置により○判定とした箇所の数を記入すること。
C33: ※4 附属物等の異常番号は、本体工と番号が重複しないよう101番以降とする等の配慮を行い、分かりやすく記録すること。

Sheet 様式B_023
B2: ■定期点検記録様式 トンネル変状・異常箇所写真位置図 【様式B】 | N2: 定期点検年月日 | P2: 45621 | S2: 施設ID | V2: 34.32507,131.15851
B3: フリガナ | C3: (ﾀｲﾈｲｼﾞﾀﾞｲｲﾁﾄﾝﾈﾙ) | G3: 路線名 | H3: 国道491号 （長門・俵山道路） | K3: 管理者名 | L3: 山口県長門土木建築事務所 | Q3: 定期点検実施者 | S3: 株式会社荒谷建設コンサルタント | V3: 起点 | W3: 緯度 | X3: 341930.25
B4: 名 称 | C4: 大寧寺第1トンネル | S4: 河野 秀生 | W4: 経度 | X4: 1310930.6
B5: 所在地 | C5: 自 | D5: 山口県長門市深川湯本地先 | G5: トンネル工法 | I5: 山岳トンネル工法（NAT） | L5: トンネル延長 | N5: L= | O5: 1873 | P5: ｍ | Q5: 自専道 or 一般道 | R5: 自専道 | S5: 代替路の有無 | U5: 有 | V5: 終点 | W5: 緯度 | X5: 342016.53
C6: 至 | D6: 山口県長門市深川湯本地先 | G6: 建設年度 | I6: 2018 | L6: 幅員 | N6: L= | O6: 12 | P6: ｍ | S6: 緊急輸送道路 | U6: 一次 | W6: 経度 | X6: 1311011.6
B7: トンネル毎 の健全性の 診断の区分 | D7: Ⅲ
G8: 変状・異常 箇所数合計 | I8: トンネル本体工 | J8: 材質劣化 | K8: Ⅱ | L8: 109 | N8: Ⅲ | O8: 5 | Q8: Ⅳ | R8: 0 | T8: 附属物等 の取付状態 | V8: ◯ （応急措置後) | X8: 0
J9: 漏水 | K9: Ⅱ | L9: 1 | N9: Ⅲ | O9: 0 | Q9: Ⅳ | R9: 0
V10: ✕ | X10: 1
J11: 外力 | K11: Ⅱ | L11: 0 | N11: Ⅲ | O11: 0 | Q11: Ⅳ | R11: 0
B12: トンネル変状・異常箇所写真位置図
J29: 注１：本位置図は、見下げた状態で記載すること。 注２：覆工スパン番号は横断目地毎(矢板工法の場合は上半アーチの 横断目地毎)に設定すること。 | Q29: 注３：写真番号に付する変状番号は、各覆工スパンの変状に対して新たに確認された場合 は順次追加していくこと。 注４：横断目地の変状は前の覆工スパン番号で計上すること。 注５：１枚に収まらない場合は、複数枚に分けて作成すること。
C30: ※1 トンネル本体工の変状数は、材質劣化、漏水に起因するものは変状単位で、外力に起因するものはスパン単位で計上すること。
C31: ※2 トンネル本体工の変状に対しては、措置の必要性（Ⅱ～Ⅳ）について表記すること。また、点検前に実施された措置によりⅠと判定された箇所についても記載すること。
C32: ※3 附属物等の取付状態の○欄については、応急措置前に判定区分×とした箇所のうち応急措置により○判定とした箇所の数を記入すること。
C33: ※4 附属物等の異常番号は、本体工と番号が重複しないよう101番以降とする等の配慮を行い、分かりやすく記録すること。

Sheet 様式C-1-1
B2: ■定期点検記録様式 全スパン定期点検結果総括表（トンネル本体工） 【様式C-1-1】
B3: フリガナ | F3: (ﾀｲﾈｲｼﾞﾀﾞｲｲﾁﾄﾝﾈﾙ) | I3: 路線名 | K3: 国道491号（長門・俵山道路） | O3: 定期点検実施者 | P3: 株式会社荒谷建設コンサルタント | T3: 定期点検年月日 | X3: 45621
B4: 名 称 | F4: 大寧寺第1トンネル | I4: 管理者名 | K4: 山口県長門土木建築事務所 | P4: 河野 秀生
B5: 定期点検結果 | C5: 覆工 スパン 番号 | E5: 変状 番号 | F5: 距離 （m） | G5: 変状部位 | I5: 変 状 の 内 容 | O5: 前回定期点検時の状態 | P5: 今回定期点検結果 | T5: 措置履歴 | Y5: 対応方針 ・ 特記事項
O6: 43679
G7: 対象箇所 | H7: 部位区分 | I7: 変状区分 | J7: 変状種類 | M7: 変状の発生範囲の規模 | N7: 前回定期点検時の変状の発生範囲及び規模 | O7: 対策区分 | P7: 対策区分 | R7: 調査の 要否 | S7: 措置の 要否 | T7: 実施 | U7: 措置の実施状況
P8: 応急措置前 | Q8: 応急措置後
C9: S001 | E9: 1 | F9: -2.3 | G9: 覆工 | H9: アーチ（左側） | I9: 材質劣化 | J9: うき・はく離 | M9: 0.0400m2 | N9: 0.0400m2 | O9: Ⅱb | Q9: Ⅱa | R9: 否 | S9: 要対策 | T9: 未 | Y9: はく落防止対策工
C10: S002 | E10: 1 | F10: 18.5 | G10: 覆工 | H10: 横断目地（天端） | I10: 材質劣化 | J10: うき・はく離 | M10: 0.0500m2 | N10: 0.0450m2 | O10: Ⅱb | Q10: Ⅱb | R10: 否 | S10: 要監視 | T10: － | Y10: 監視
C11: S003 | E11: 1 | F11: 28.9 | G11: 覆工 | H11: 横断目地（左側） | I11: 材質劣化 | J11: その他 | M11: 0.6000m2 | N11: － | O11: － | Q11: Ⅱb | R11: 否 | S11: 要監視 | T11: － | Y11: 監視
C12: S005 | E12: 1 | F12: 50 | G12: 覆工 | H12: 横断目地（右側） | I12: 材質劣化 | J12: うき・はく離 | M12: 0.0150m2 | N12: 0.0150m2 | O12: Ⅱb | Q12: Ⅱa | R12: 否 | S12: 要対策 | T12: 未 | Y12: はく落防止対策工
C13: S005 | E13: 2 | F13: 49.7 | G13: 覆工 | H13: 横断目地（左側） | I13: 漏水 | J13: 漏水 | M13: 3.7500m2 | N13: － | O13: － | Q13: Ⅱb | R13: 否 | S13: 要監視 | T13: － | Y13: 監視
C14: S006 | E14: 1 | F14: 60.5 | G14: 覆工 | H14: 横断目地（左側） | I14: 材質劣化 | J14: うき・はく離 | M14: 0.0150m2 | N14: 0.0150m2 | O14: Ⅱb | Q14: Ⅱa | R14: 否 | S14: 要対策 | T14: 未 | Y14: はく落防止対策工
C15: S006 | E15: 2 | F15: 50.8 | G15: 覆工 | H15: アーチ（天端） | I15: 材質劣化 | J15: うき・はく離 | M15: 0.2400m2 | N15: 0.1800m2 | O15: Ⅱb | Q15: Ⅱb | R15: 否 | S15: 要監視 | T15: － | Y15: 監視
C16: S006 | E16: 3 | F16: 60.5 | G16: 覆工 | H16: 横断目地（右側） | I16: 材質劣化 | J16: うき・はく離 | M16: 0.0150m2 | N16: － | O16: － | Q16: Ⅱa | R16: 否 | S16: 要対策 | T16: 未 | Y16: はく落防止対策工
C17: S008 | E17: 1 | F17: 71.4 | G17: 覆工 | H17: アーチ（天端） | I17: 材質劣化 | J17: うき・はく離 | M17: 0.2925m2 | N17: － | O17: － | Q17: Ⅱb | R17: 否 | S17: 要監視 | T17: － | Y17: 監視
C18: S010 | E18: 1 | F18: 102.5 | G18: 覆工 | H18: 横断目地（左側） | I18: 材質劣化 | J18: うき・はく離 | M18: 0.0450m2 | N18: 0.0450m2 | O18: Ⅱb | Q18: Ⅱa | R18: 否 | S18: 要対策 | T18: 未 | Y18: はく落防止対策工
C19: S010 | E19: 2 | F19: 102.5 | G19: 覆工 | H19: 横断目地（左側） | I19: 材質劣化 | J19: うき・はく離 | M19: 0.0200m2 | N19: 0.0200m2 | O19: Ⅱb | Q19: Ⅱb | R19: 否 | S19: 要監視 | T19: － | Y19: 監視
C20: S010 | E20: 3 | F20: 92.5 | G20: 覆工 | H20: アーチ（右側） | I20: 材質劣化 | J20: うき・はく離 | M20: 0.0900m2 | N20: 0.1000m2 | O20: Ⅱb | Q20: Ⅱb | R20: 否 | S20: 要監視 | T20: － | Y20: 監視
... C36: S026 | E36: 1 | F36: 260.6 | G36: 覆工 | H36: アーチ（右側） | I36: 材質劣化 | J36: 鋼材腐食 | M36: 0.0025m2 | N36: 0.0025m2 | O36: Ⅰ | Q36: Ⅱb | R36: 否 | S36: 要監視 | T36: － | Y36: 監視
C37: S029 | E37: 1 | F37: 301.8 | G37: 覆工 | H37: 横断目地（天端） | I37: 材質劣化 | J37: うき・はく離 | M37: 0.0100m2 | N37: － | O37: － | P37: Ⅲ | Q37: Ⅰ | R37: 否 | S37: 否 | T37: 済
C38: S030 | E38: 1 | F38: 302.4 | G38: 覆工 | H38: アーチ（天端） | I38: 材質劣化 | J38: うき・はく離 | M38: 0.0625m2 | N38: 0.0400m2 | O38: Ⅱa | Q38: Ⅱa | R38: 否 | S38: 要対策 | T38: 未 | Y38: はく落防止対策工
C39: S030 | E39: 2 | F39: 302.9 | G39: 覆工 | H39: アーチ（天端） | I39: 材質劣化 | J39: うき・はく離 | M39: 0.4800m2 | N39: 0.4800m2 | O39: Ⅱb | Q39: Ⅱb | R39: 否 | S39: 要監視 | T39: － | Y39: 監視
C40: S030 | E40: 3 | F40: 303.2 | G40: 覆工 | H40: アーチ（天端） | I40: 材質劣化 | J40: うき・はく離 | M40: 0.2275m2 | N40: 0.2800m2 | O40: Ⅱa | Q40: Ⅱa | R40: 否 | S40: 要対策 | T40: 未 | Y40: はく落防止対策工
C41: S030 | E41: 4 | F41: 303.4 | G41: 覆工 | H41: アーチ（天端） | I41: 材質劣化 | J41: うき・はく離 | M41: 3.8400m2 | N41: 3.8400m2 | O41: Ⅱb | Q41: Ⅱb | R41: 否 | S41: 要監視 | T41: － | Y41: 監視
C42: S031 | E42: 1 | F42: 314.3 | G42: 覆工 | H42: アーチ（天端） | I42: 材質劣化 | J42: うき・はく離 | M42: 0.0500m2 | N42: 0.0500m2 | O42: Ⅱa | Q42: Ⅱa | R42: 否 | S42: 要対策 | T42: 未 | Y42: はく落防止対策工
C43: S031 | E43: 2 | F43: 314.8 | G43: 覆工 | H43: アーチ（天端） | I43: 材質劣化 | J43: うき・はく離 | M43: 0.0875m2 | N43: 0.0250m2 | O43: Ⅱa | Q43: Ⅱa | R43: 否 | S43: 要対策 | T43: 未 | Y43: はく落防止対策工
C44: S031 | E44: 3 | F44: 314.6 | G44: 覆工 | H44: アーチ（天端） | I44: 材質劣化 | J44: うき・はく離 | M44: 0.2100m2 | N44: 0.2300m2 | O44: Ⅱb | Q44: Ⅱb | R44: 否 | S44: 要監視 | T44: － | Y44: 監視
C45: S032 | E45: 1 | F45: 333.2 | G45: 覆工 | H45: 横断目地（天端） | I45: 材質劣化 | J45: うき・はく離 | M45: 0.0300m2 | N45: 0.0300m2 | O45: Ⅱa | Q45: Ⅲ | R45: 否 | S45: 要対策 | T45: 未 | Y45: はく落防止対策工
C46: S033 | E46: 1 | F46: 343.7 | G46: 覆工 | H46: 横断目地（右側） | I46: 材質劣化 | J46: うき・はく離 | M46: 0.0125m2 | N46: 0.0125m2 | O46: Ⅱa | Q46: Ⅱa | R46: 否 | S46: 要対策 | T46: 未 | Y46: はく落防止対策工
C47: S034 | E47: 1 | F47: 354.1 | G47: 覆工 | H47: 横断目地（天端） | I47: 材質劣化 | J47: うき・はく離 | M47: 0.0400m2 | N47: － | O47: － | Q47: Ⅱa | R47: 否 | S47: 要対策 | T47: 未 | Y47: はく落防止対策工
C48: S035 | E48: 1 | F48: 355.9 | G48: 覆工 | H48: アーチ（右側） | I48: 材質劣化 | J48: 鋼材腐食 | M48: 0.0025m2 | N48: 0.0025m2 | O48: Ⅱa | Q48: Ⅱb | R48: 否 | S48: 要監視 | T48: － | Y48: 監視
B49: 定期点検結果 | C49: S035 | E49: 2 | F49: 364.7 | G49: 覆工 | H49: 横断目地（右側） | I49: 材質劣化 | J49: うき・はく離 | M49: 0.0300m2 | N49: － | O49: － | Q49: Ⅱb | R49: 否 | S49: 要監視 | T49: － | Y49: 監視
C50: S037 | E50: 1 | F50: 385.7 | G50: 覆工 | H50: 横断目地（右側） | I50: 材質劣化 | J50: うき・はく離 | M50: 0.0750m2 | N50: 0.0750m2 | O50: Ⅱb | Q50: Ⅱa | R50: 否 | S50: 要対策 | T50: 未 | Y50: はく落防止対策工
C51: S038 | E51: 1 | F51: 396.2 | G51: 覆工 | H51: 横断目地（右側） | I51: 材質劣化 | J51: うき・はく離 | M51: 0.0700m2 | N51: － | O51: － | Q51: Ⅱa | R51: 否 | S51: 要対策 | T51: 未 | Y51: はく落防止対策工
C52: S039 | E52: 1 | F52: 406.6 | G52: 覆工 | H52: 横断目地（天端） | I52: 材質劣化 | J52: うき・はく離 | M52: 0.0250m2 | N52: 0.0250m2 | O52: Ⅱa | Q52: Ⅱa | R52: 否 | S52: 要対策 | T52: 未 | Y52: はく落防止対策工
C53: S041 | E53: 1 | F53: 419.2 | G53: 覆工 | H53: アーチ（右側） | I53: 材質劣化 | J53: 鋼材腐食 | M53: 0.0025m2 | N53: － | O53: － | Q53: Ⅱb | R53: 否 | S53: 要監視 | T53: － | Y53: 監視
C54: S043 | E54: 1 | F54: 441.6 | G54: 覆工 | H54: アーチ（天端） | I54: 材質劣化 | J54: うき・はく離 | M54: 0.0100m2 | N54: － | O54: － | Q54: Ⅱa | R54: 否 | S54: 要対策 | T54: 未 | Y54: はく落防止対策工
C55: S048 | E55: 1 | F55: 493.2 | G55: 覆工 | H55: アーチ（左側） | I55: 材質劣化 | J55: 鋼材腐食 | M55: 0.0050m2 | N55: 0.0050m2 | O55: Ⅱa | Q55: Ⅱb | R55: 否 | S55: 要監視 | T55: － | Y55: 監視
C56: S053 | E56: 1 | F56: 533.8 | G56: 覆工 | H56: 横断目地（天端） | I56: 材質劣化 | J56: うき・はく離 | M56: 0.0900m2 | N56: 0.0125m2 | O56: Ⅱb | Q56: Ⅱb | R56: 否 | S56: 要監視 | T56: － | Y56: 監視
C57: S053 | E57: 2 | F57: 533.8 | G57: 覆工 | H57: 横断目地（天端） | I57: 材質劣化 | J57: うき・はく離 | M57: 0.1200m2 | N57: 0.0450m2 | O57: Ⅱa | Q57: Ⅱb | R57: 否 | S57: 要監視 | T57: － | Y57: 監視
C58: S055 | E58: 1 | F58: 551.9 | G58: 覆工 | H58: アーチ（天端） | I58: 材質劣化 | J58: うき・はく離 | M58: 0.0050m2 | N58: － | O58: － | Q58: Ⅲ | R58: 否 | S58: 要対策 | T58: 未 | Y58: はく落防止対策工
C59: S059 | E59: 1 | F59: 584.7 | G59: 覆工 | H59: 横断目地（右側） | I59: 材質劣化 | J59: うき・はく離 | M59: 0.0100m2 | N59: － | O59: － | Q59: Ⅲ | R59: 否 | S59: 要対策 | T59: 未 | Y59: はく落防止対策工
C60: S059 | E60: 2 | F60: 584.7 | G60: 覆工 | H60: 横断目地（右側） | I60: 材質劣化 | J60: うき・はく離 | M60: 0.0650m2 | N60: 0.0350m2 | O60: Ⅱa | Q60: Ⅱa | R60: 否 | S60: 要対策 | T60: 未 | Y60: はく落防止対策工
C61: S059 | E61: 3 | F61: 584.7 | G61: 覆工 | H61: 横断目地（右側） | I61: 材質劣化 | J61: うき・はく離 | M61: 0.0900m2 | N61: 0.0900m2 | O61: Ⅱb | Q61: Ⅱa | R61: 否 | S61: 要対策 | T61: 未 | Y61: はく落防止対策工
... C76: S091 | E76: 1 | F76: 899.2 | G76: 覆工 | H76: 横断目地（天端） | I76: 材質劣化 | J76: うき・はく離 | M76: 0.0300m2 | N76: 0.0300m2 | O76: Ⅱb | Q76: Ⅱb | R76: 否 | S76: 要監視 | T76: － | Y76: 監視
C77: S092 | E77: 1 | F77: 909.1 | G77: 覆工 | H77: 横断目地（天端） | I77: 材質劣化 | J77: うき・はく離 | M77: 0.0150m2 | N77: － | O77: － | P77: Ⅲ | Q77: Ⅰ | R77: 否 | S77: 否 | T77: 済
C78: S093 | E78: 1 | F78: 913.4 | G78: 覆工 | H78: アーチ（右側） | I78: 材質劣化 | J78: 鋼材腐食 | M78: 0.0025m2 | N78: 0.0025m2 | O78: Ⅱa | Q78: Ⅱb | R78: 否 | S78: 要監視 | T78: － | Y78: 監視
C79: S097 | E79: 1 | F79: 952.8 | G79: 覆工 | H79: アーチ（右側） | I79: 材質劣化 | J79: 鋼材腐食 | M79: 0.0025m2 | N79: 0.0025m2 | O79: Ⅱa | Q79: Ⅱb | R79: 否 | S79: 要監視 | T79: － | Y79: 監視
C80: S098 | E80: 1 | F80: 969.3 | G80: 覆工 | H80: 横断目地（天端） | I80: 材質劣化 | J80: うき・はく離 | M80: 0.0400m2 | N80: 0.0400m2 | O80: Ⅱa | Q80: Ⅱa | R80: 否 | S80: 要対策 | T80: 未 | Y80: はく落防止対策工
C81: S100 | E81: 1 | F81: 988.6 | G81: 覆工 | H81: アーチ（天端） | I81: 材質劣化 | J81: うき・はく離 | M81: 0.0100m2 | N81: 0.0050m2 | O81: Ⅱb | Q81: Ⅱb | R81: 否 | S81: 要監視 | T81: － | Y81: 監視
C82: S116 | E82: 1 | F82: 1150 | G82: 覆工 | H82: 横断目地（天端） | I82: 材質劣化 | J82: うき・はく離 | M82: 0.0350m2 | N82: 0.0350m2 | O82: Ⅱb | Q82: Ⅱb | R82: 否 | S82: 要監視 | T82: － | Y82: 監視
C83: S123 | E83: 1 | F83: 1220.6 | G83: 覆工 | H83: 横断目地（左側） | I83: 材質劣化 | J83: うき・はく離 | M83: 0.0450m2 | N83: 0.0450m2 | O83: Ⅱa | Q83: Ⅱa | R83: 否 | S83: 要対策 | T83: 未 | Y83: はく落防止対策工
C84: S123 | E84: 2 | F84: 1220.6 | G84: 覆工 | H84: 横断目地（右側） | I84: 材質劣化 | J84: うき・はく離 | M84: 0.0300m2 | N84: 0.0300m2 | O84: Ⅱb | Q84: Ⅰ | R84: 否 | S84: 否 | T84: －
C85: S126 | E85: 1 | F85: 1242.7 | G85: 覆工 | H85: 横断目地（右側） | I85: 材質劣化 | J85: うき・はく離 | M85: 0.0300m2 | N85: 0.0550m2 | O85: Ⅰ | Q85: Ⅱb | R85: 否 | S85: 要監視 | T85: － | Y85: 監視
C86: S130 | E86: 1 | F86: 1261.3 | G86: 覆工 | H86: 面壁・妻壁等 | I86: 材質劣化 | J86: うき・はく離 | M86: 0.0250m2 | N86: 0.0250m2 | O86: Ⅱb | Q86: Ⅱb | R86: 否 | S86: 要監視 | T86: － | Y86: 監視
C87: S130 | E87: 2 | F87: 1268.8 | G87: 覆工 | H87: 横断目地（右側） | I87: 材質劣化 | J87: その他 | M87: 1.0000m2 | N87: － | O87: － | Q87: Ⅱb | R87: 否 | S87: 要監視 | T87: － | Y87: 監視
C88: S131 | E88: 1 | F88: 1278.5 | G88: 覆工 | H88: 横断目地（左側） | I88: 材質劣化 | J88: うき・はく離 | M88: 0.0150m2 | N88: 0.0150m2 | O88: Ⅱa | Q88: Ⅱa | R88: 否 | S88: 要対策 | T88: 未 | Y88: はく落防止対策工
B89: 定期点検結果 | C89: S134 | E89: 1 | F89: 1300.7 | G89: 覆工 | H89: アーチ（左側） | I89: 材質劣化 | J89: 鋼材腐食 | M89: 0.0025m2 | N89: 0.0025m2 | O89: Ⅱa | Q89: Ⅱb | R89: 否 | S89: 要監視 | T89: － | Y89: 監視
C90: S136 | E90: 1 | F90: 1321 | G90: 覆工 | H90: 横断目地（右側） | I90: 材質劣化 | J90: うき・はく離 | M90: 0.0100m2 | N90: － | O90: － | Q90: Ⅱa | R90: 否 | S90: 要対策 | T90: 未 | Y90: はく落防止対策工
C91: S137 | E91: 1 | F91: 1324.2 | G91: 覆工 | H91: アーチ（天端） | I91: 材質劣化 | J91: うき・はく離 | M91: 0.0075m2 | N91: － | O91: － | Q91: Ⅲ | R91: 否 | S91: 要対策 | T91: 未 | Y91: はく落防止対策工
C92: S137 | E92: 2 | F92: 1326.8 | G92: 覆工 | H92: アーチ（天端） | I92: 材質劣化 | J92: うき・はく離 | M92: 0.1500m2 | N92: － | O92: － | Q92: Ⅱa | R92: 否 | S92: 要対策 | T92: 未 | Y92: はく落防止対策工
C93: S138 | E93: 1 | F93: 1333.5 | G93: 覆工 | H93: 横断目地（左側） | I93: 材質劣化 | J93: うき・はく離 | M93: 0.0125m2 | N93: 0.0125m2 | O93: Ⅱb | Q93: Ⅱa | R93: 否 | S93: 要対策 | T93: 未 | Y93: はく落防止対策工
C94: S140 | E94: 1 | F94: 1343.3 | G94: 覆工 | H94: アーチ（右側） | I94: 材質劣化 | J94: 鋼材腐食 | M94: 0.0025m2 | N94: 0.0025m2 | O94: Ⅱa | Q94: Ⅱb | R94: 否 | S94: 要監視 | T94: － | Y94: 監視
C95: S145 | E95: 1 | F95: 1382.7 | G95: 覆工 | H95: アーチ（左側） | I95: 材質劣化 | J95: 鋼材腐食 | M95: 0.0025m2 | N95: － | O95: － | Q95: Ⅱb | R95: 否 | S95: 要監視 | T95: － | Y95: 監視
C96: S146 | E96: 1 | F96: 1394.6 | G96: 覆工 | H96: アーチ（右側） | I96: 材質劣化 | J96: 鋼材腐食 | M96: 0.0025m2 | N96: 0.0025m2 | O96: Ⅱa | Q96: Ⅱb | R96: 否 | S96: 要監視 | T96: － | Y96: 監視
C97: S150 | E97: 1 | F97: 1437.3 | G97: 覆工 | H97: 横断目地（左側） | I97: 材質劣化 | J97: うき・はく離 | M97: 0.0300m2 | N97: 0.0250m2 | O97: Ⅱa | Q97: Ⅲ | R97: 否 | S97: 要対策 | T97: 未 | Y97: はく落防止対策工
C98: S150 | E98: 2 | F98: 1433.2 | G98: 覆工 | H98: アーチ（右側） | I98: 材質劣化 | J98: 鋼材腐食 | M98: 0.0025m2 | N98: 0.0025m2 | O98: Ⅱa | Q98: Ⅱb | R98: 否 | S98: 要監視 | T98: － | Y98: 監視
C99: S150 | E99: 3 | F99: 1433.1 | G99: 覆工 | H99: アーチ（右側） | I99: 材質劣化 | J99: 鋼材腐食 | M99: 0.0225m2 | N99: － | O99: － | Q99: Ⅱb | R99: 否 | S99: 要監視 | T99: － | Y99: 監視
C100: S156 | E100: 1 | F100: 1497 | G100: 覆工 | H100: アーチ（左側） | I100: 材質劣化 | J100: 鋼材腐食 | M100: 0.0025m2 | N100: 0.0025m2 | O100: Ⅱa | Q100: Ⅱb | R100: 否 | S100: 要監視 | T100: － | Y100: 監視
C101: S156 | E101: 2 | F101: 1493.7 | G101: 覆工 | H101: アーチ（右側） | I101: 材質劣化 | J101: 鋼材腐食 | M101: 0.0025m2 | N101: 0.0025m2 | O101: Ⅱa | Q101: Ⅱb | R101: 否 | S101: 要監視 | T101: － | Y101: 監視
... C126: PE | E126: 1 | F126: 1880.3 | G126: 坑門 | H126: 面壁・妻壁等 | I126: 材質劣化 | J126: 圧ざ、ひび割れ | M126: 長さ4.3m×幅0.3mm | N126: － | O126: － | Q126: Ⅱb | R126: 否 | S126: 要監視 | T126: － | Y126: 監視
B129: 定期点検結果
C163: ※ 対策区分（応急措置後）の判定区分Ⅱb～Ⅳについて記入すること。また、点検前に実施された措置によりⅠと判定された変状も記入すること。
C164: ※ 応急措置を実施しないで判定した変状の対策区分は、対策区分の応急措置後の欄に記入すること。
C165: ※ 変状の除去が不完全で、緊急対応が必要な場合は対応方針欄に記入すること。
C166: ※ １区間の覆工に複数の変状がある場合は、変状箇所毎に記入すること。
C167: ※ 措置・監視点検を行った場合には、措置履歴、特記事項に記録を残すこと。（実施年度も記載）
C168: ※ 行が不足する場合は、適時、表の行を増やすこと。

Sheet 様式C-1-2
B2: ■定期点検記録様式 定期点検結果総括表（トンネル内附属物等の取付状態） 【様式C-1-2】
B3: フリガナ | F3: (ﾀｲﾈｲｼﾞﾀﾞｲｲﾁﾄﾝﾈﾙ) | J3: 路線名 | K3: 国道491号（長門・俵山道路） | M3: 定期点検実施者 | O3: 株式会社荒谷建設コンサルタント | S3: 定期点検年月日 | W3: 45621
B4: 名 称 | F4: 大寧寺第1トンネル | J4: 管理者名 | K4: 山口県長門土木建築事務所 | O4: 河野 秀生
B5: 定期点検結果 | C5: 覆工 スパン 番号 | E5: 異常 番号 | F5: 距離 （m） | G5: 異常部位 | J5: 異 常 の 内 容 | N5: 定期点検結果 | P5: 応急措置の 実施状況 | V5: 対応方針 ・ 特記事項
G6: 対象箇所 | I6: 部位区分 | J6: 異常種類 | L6: 異常の発生範囲の規模 | N6: 異常判定区分 | P6: 実施 | Q6: 応急措置の内容
N7: 応急措置前 | O7: 応急措置後
C8: S063 | E8: 1 | F8: 616.79999 | G8: 非常用施設 | H8: 無線通信補助設備 | I8: 附属物本体 | J8: 緩み、脱落 | L8: 1箇所 | O8: × | P8: 未 | V8: 再設置
C42: ※ 異常判定区分×について記入すること。また、応急措置により○と判定された箇所も記入すること。
C43: ※ 応急措置を実施しないで判定した箇所の異常判定区分は、異常判定区分の応急措置後の欄に記入すること。
C44: ※ 異常の除去が不完全で、緊急対応が必要な場合は対応方針欄に記入すること。
C45: ※ １スパンの覆工に複数の異常がある場合は、異常箇所毎に記入すること。
C46: ※ 行が不足する場合は、適時、表の行を増やすこと。

Sheet 様式C-2
B2: ■定期点検記録様式 状態の把握の内容 【様式C-2】
B3: フリガナ | E3: (ﾀｲﾈｲｼﾞﾀﾞｲｲﾁﾄﾝﾈﾙ) | H3: 路線名 | J3: 国道491号（長門・俵山道路） | M3: 定期点検実施者 | Q3: 株式会社荒谷建設コンサルタント | U3: 定期点検年月日 | X3: 45621
B4: 名 称 | E4: 大寧寺第1トンネル | H4: 管理者名 | J4: 山口県長門土木建築事務所 | Q4: 河野 秀生
B5: 状態の把握の内容 | C5: 覆工スパン 番号 | E5: 変状 番号 | F5: 状態の把握の内容
F6: 年月日 | H6: 内容 | O6: 結果 | Y6: 対策区分の 判定
B22: 注）状態の把握において、微破壊・非破壊検査や各種試験等を実施した場合について記載する。
B23: ※ 行が不足する場合は、適時、表の行を増やすこと。

Sheet 様式D-1-1_001
B2: ■定期点検記録様式 変状写真台帳【様式D-1-1】 | R2: 施設ID | T2: 34.32507,131.15851
B3: フリガナ | E3: (ﾀｲﾈｲｼﾞﾀﾞｲｲﾁﾄﾝﾈﾙ) | H3: 路 線 名 | J3: 国道491号（長門・俵山道路） | M3: 定期点検実施者 | P3: 株式会社荒谷建設コンサルタント | S3: 定期点検年月日 | U3: 45621
B4: 名 称 | E4: 大寧寺第1トンネル | H4: 管理者名 | J4: 山口県長門土木建築事務所 | P4: 河野 秀生
B5: 写真 番号 | C5: 覆工スパン 番号 | E5: S001 | M5: 写真 番号 | N5: 覆工スパン 番号 | P5: S002
C6: 変状番号 | E6: 1 | N6: 変状番号 | P6: 1
B7: 変状 部位 | C7: 対象箇所 | E7: 覆工 | M7: 変状 部位 | N7: 対象箇所 | P7: 覆工
C8: 部位区分 | E8: アーチ（左側） | N8: 部位区分 | P8: 横断目地（天端）
B9: 変状種類 | E9: うき・はく離 | M9: 変状種類 | P9: うき・はく離
B10: 対策 区分 | C10: 変状区分 | E10: 材質劣化 | M10: 対策 区分 | N10: 変状区分 | P10: 材質劣化
C11: 応急措置前 | N11: 応急措置前
C12: 応急措置後 | E12: Ⅱa | N12: 応急措置後 | P12: Ⅱb
B13: 変状の発生範囲及び規模 | E13: 0.20m×0.20m | H13: 前回変状の発生範囲及び規模 | J13: 0.20m×0.20m (Ⅱb判定) | M13: 変状の発生範囲及び規模 | P13: 1.00m×0.05m | S13: 前回変状の発生範囲及び規模 | U13: 0.90m×0.05m (Ⅱb判定)
B14: 対策履歴 | H14: 実施状況（実施日） | M14: 対策履歴 | S14: 実施状況（実施日）
B15: メモ | E15: アーチ部(左側)にうき。将来的に利用者に影響が及ぶ可能性があるため、重点的な監視及び計画的な対策を必要とする。(前回194-1) | M15: メモ | P15: 横断目地部(天端)に豆板(スプレー処置済)。現状で利用者被害の可能性は低いため、監視にとどめる。(前回192-1)
B16: 写真 番号 | C16: 覆工スパン 番号 | E16: S003 | M16: 写真 番号 | N16: 覆工スパン 番号 | P16: S005
C17: 変状番号 | E17: 1 | N17: 変状番号 | P17: 1
B18: 変状 部位 | C18: 対象箇所 | E18: 覆工 | M18: 変状 部位 | N18: 対象箇所 | P18: 覆工
C19: 部位区分 | E19: 横断目地（左側） | N19: 部位区分 | P19: 横断目地（右側）
B20: 変状種類 | E20: その他 | M20: 変状種類 | P20: うき・はく離
B21: 対策 区分 | C21: 変状区分 | E21: 材質劣化 | M21: 対策 区分 | N21: 変状区分 | P21: 材質劣化
C22: 応急措置前 | N22: 応急措置前
C23: 応急措置後 | E23: Ⅱb | N23: 応急措置後 | P23: Ⅱa
B24: 変状の発生範囲及び規模 | E24: 2.00m×0.30m | H24: 前回変状の発生範囲及び規模 | J24: 今回新規変状 | M24: 変状の発生範囲及び規模 | P24: 0.30m×0.05m | S24: 前回変状の発生範囲及び規模 | U24: 0.30m×0.05m (Ⅱb判定)
B25: 対策履歴 | H25: 実施状況（実施日） | M25: 対策履歴 | S25: 実施状況（実施日）
B26: メモ | E26: 横断目地部(アーチ左側)に繊維シートの塗装剥がれ。新規変状。現状で利用者被害の可能性は低いため、監視にとどめる。 | M26: メモ | P26: 横断目地部(アーチ右側)にうき。将来的に利用者に影響が及ぶ可能性があるため、重点的な監視及び計画的な対策を必要とする。(前回189-2)
C27: ※ 応急措置後の対策区分の判定区分Ⅱb～Ⅳについて添付すること。また、点検前に 実施された措置によりⅠと判定された箇所も添付すること。 | N27: ※ 変状の発生範囲の規模とは、対策を行う際に参考となる変状の長さや面積をいう。
N28: ※ 応急措置を実施しないで判定した変状の判定区分は、判定区分の応急措置後の欄に記入すること。
C29: ※ たたき落としを実施した場合は、実施後の写真を添付すること。 | N29: ※ 変状の発生範囲の規模は、面積・寸法を記載すること。(ひび割れ幅のみmmとし、その他をm表記とする)
C30: ※ 附属物の取付状態に関する異常写真は別途、任意の書式でとりまとめること。 | N30: ※ 構造用鋼材以外の異物に伴ううき・はく離については、メモ欄に異物の概要を記入すること。

Sheet 様式D-1-1_002
B2: ■定期点検記録様式 変状写真台帳【様式D-1-1】 | R2: 施設ID | T2: 34.32507,131.15851
B3: フリガナ | E3: (ﾀｲﾈｲｼﾞﾀﾞｲｲﾁﾄﾝﾈﾙ) | H3: 路 線 名 | J3: 国道491号（長門・俵山道路） | M3: 定期点検実施者 | P3: 株式会社荒谷建設コンサルタント | S3: 定期点検年月日 | U3: 45621
B4: 名 称 | E4: 大寧寺第1トンネル | H4: 管理者名 | J4: 山口県長門土木建築事務所 | P4: 河野 秀生
B5: 写真 番号 | C5: 覆工スパン 番号 | E5: S005 | M5: 写真 番号 | N5: 覆工スパン 番号 | P5: S006
C6: 変状番号 | E6: 2 | N6: 変状番号 | P6: 1
B7: 変状 部位 | C7: 対象箇所 | E7: 覆工 | M7: 変状 部位 | N7: 対象箇所 | P7: 覆工
C8: 部位区分 | E8: 横断目地（左側） | N8: 部位区分 | P8: 横断目地（左側）
B9: 変状種類 | E9: 漏水 | M9: 変状種類 | P9: うき・はく離
B10: 対策 区分 | C10: 変状区分 | E10: 漏水 | M10: 対策 区分 | N10: 変状区分 | P10: 材質劣化
C11: 応急措置前 | N11: 応急措置前
C12: 応急措置後 | E12: Ⅱb | N12: 応急措置後 | P12: Ⅱa
B13: 変状の発生範囲及び規模 | E13: 7.50m×0.50m | H13: 前回変状の発生範囲及び規模 | J13: 今回新規変状 | M13: 変状の発生範囲及び規模 | P13: 0.30m×0.05m | S13: 前回変状の発生範囲及び規模 | U13: 0.30m×0.05m (Ⅱb判定)
B14: 対策履歴 | H14: 実施状況（実施日） | M14: 対策履歴 | S14: 実施状況（実施日）
B15: メモ | E15: 横断目地部(アーチ左側)ににじみ。新規変状。現状で利用者被害の可能性は低いため、監視にとどめる。 | M15: メモ | P15: 横断目地部(アーチ左側)にうき。将来的に利用者に影響が及ぶ可能性があるため、重点的な監視及び計画的な対策を必要とする。(前回189-3)
B16: 写真 番号 | C16: 覆工スパン 番号 | E16: S006 | M16: 写真 番号 | N16: 覆工スパン 番号 | P16: S006
C17: 変状番号 | E17: 2 | N17: 変状番号 | P17: 3
B18: 変状 部位 | C18: 対象箇所 | E18: 覆工 | M18: 変状 部位 | N18: 対象箇所 | P18: 覆工
C19: 部位区分 | E19: アーチ（天端） | N19: 部位区分 | P19: 横断目地（右側）
B20: 変状種類 | E20: うき・はく離 | M20: 変状種類 | P20: うき・はく離
B21: 対策 区分 | C21: 変状区分 | E21: 材質劣化 | M21: 対策 区分 | N21: 変状区分 | P21: 材質劣化
C22: 応急措置前 | N22: 応急措置前
C23: 応急措置後 | E23: Ⅱb | N23: 応急措置後 | P23: Ⅱa
B24: 変状の発生範囲及び規模 | E24: 0.40m×0.60m | H24: 前回変状の発生範囲及び規模 | J24: 0.30m×0.60m (Ⅱb判定) | M24: 変状の発生範囲及び規模 | P24: 0.30m×0.05m | S24: 前回変状の発生範囲及び規模 | U24: 今回新規変状
B25: 対策履歴 | H25: 実施状況（実施日） | M25: 対策履歴 | S25: 実施状況（実施日）
B26: メモ | E26: アーチ部(天端)に豆板(スプレー処置済)。現状で利用者被害の可能性は低いため、監視にとどめる。(前回189-1) | M26: メモ | P26: 横断目地部(アーチ右側)にうき。新規変状。将来的に利用者に影響が及ぶ可能性があるため、重点的な監視及び計画的な対策を必要とする。
C27: ※ 応急措置後の対策区分の判定区分Ⅱb～Ⅳについて添付すること。また、点検前に 実施された措置によりⅠと判定された箇所も添付すること。 | N27: ※ 変状の発生範囲の規模とは、対策を行う際に参考となる変状の長さや面積をいう。
N28: ※ 応急措置を実施しないで判定した変状の判定区分は、判定区分の応急措置後の欄に記入すること。
C29: ※ たたき落としを実施した場合は、実施後の写真を添付すること。 | N29: ※ 変状の発生範囲の規模は、面積・寸法を記載すること。(ひび割れ幅のみmmとし、その他をm表記とする)
C30: ※ 附属物の取付状態に関する異常写真は別途、任意の書式でとりまとめること。 | N30: ※ 構造用鋼材以外の異物に伴ううき・はく離については、メモ欄に異物の概要を記入すること。

Sheet 様式D-1-1_003
B2: ■定期点検記録様式 変状写真台帳【様式D-1-1】 | R2: 施設ID | T2: 34.32507,131.15851
B3: フリガナ | E3: (ﾀｲﾈｲｼﾞﾀﾞｲｲﾁﾄﾝﾈﾙ) | H3: 路 線 名 | J3: 国道491号（長門・俵山道路） | M3: 定期点検実施者 | P3: 株式会社荒谷建設コンサルタント | S3: 定期点検年月日 | U3: 45621
B4: 名 称 | E4: 大寧寺第1トンネル | H4: 管理者名 | J4: 山口県長門土木建築事務所 | P4: 河野 秀生
B5: 写真 番号 | C5: 覆工スパン 番号 | E5: S008 | M5: 写真 番号 | N5: 覆工スパン 番号 | P5: S010
C6: 変状番号 | E6: 1 | N6: 変状番号 | P6: 1
B7: 変状 部位 | C7: 対象箇所 | E7: 覆工 | M7: 変状 部位 | N7: 対象箇所 | P7: 覆工
C8: 部位区分 | E8: アーチ（天端） | N8: 部位区分 | P8: 横断目地（左側）
B9: 変状種類 | E9: うき・はく離 | M9: 変状種類 | P9: うき・はく離
B10: 対策 区分 | C10: 変状区分 | E10: 材質劣化 | M10: 対策 区分 | N10: 変状区分 | P10: 材質劣化
C11: 応急措置前 | N11: 応急措置前
C12: 応急措置後 | E12: Ⅱb | N12: 応急措置後 | P12: Ⅱa
B13: 変状の発生範囲及び規模 | E13: 0.45m×0.65m | H13: 前回変状の発生範囲及び規模 | J13: 今回新規変状 | M13: 変状の発生範囲及び規模 | P13: 0.90m×0.05m | S13: 前回変状の発生範囲及び規模 | U13: 0.90m×0.05m (Ⅱb判定)
B14: 対策履歴 | H14: 実施状況（実施日） | M14: 対策履歴 | S14: 実施状況（実施日）
B15: メモ | E15: アーチ部(天端)に豆板(スプレー処置済)。新規変状。現状で利用者被害の可能性は低いため、監視にとどめる。 | M15: メモ | P15: 横断目地部(アーチ左側)にうき。将来的に利用者に影響が及ぶ可能性があるため、重点的な監視及び計画的な対策を必要とする。(前回184-5)
B16: 写真 番号 | C16: 覆工スパン 番号 | E16: S010 | M16: 写真 番号 | N16: 覆工スパン 番号 | P16: S010
C17: 変状番号 | E17: 2 | N17: 変状番号 | P17: 3
B18: 変状 部位 | C18: 対象箇所 | E18: 覆工 | M18: 変状 部位 | N18: 対象箇所 | P18: 覆工
C19: 部位区分 | E19: 横断目地（左側） | N19: 部位区分 | P19: アーチ（右側）
B20: 変状種類 | E20: うき・はく離 | M20: 変状種類 | P20: うき・はく離
B21: 対策 区分 | C21: 変状区分 | E21: 材質劣化 | M21: 対策 区分 | N21: 変状区分 | P21: 材質劣化
C22: 応急措置前 | N22: 応急措置前
C23: 応急措置後 | E23: Ⅱb | N23: 応急措置後 | P23: Ⅱb
B24: 変状の発生範囲及び規模 | E24: 0.40m×0.05m | H24: 前回変状の発生範囲及び規模 | J24: 0.40m×0.05m (Ⅱb判定) | M24: 変状の発生範囲及び規模 | P24: 0.20m×0.45m | S24: 前回変状の発生範囲及び規模 | U24: 0.20m×0.50m (Ⅱb判定)
B25: 対策履歴 | H25: 実施状況（実施日） | M25: 対策履歴 | S25: 実施状況（実施日）
B26: メモ | E26: 横断目地部(アーチ左側)に豆板(スプレー処置済)。現状で利用者被害の可能性は低いため、監視にとどめる。(前回184-4) | M26: メモ | P26: アーチ部(右側)に豆板(スプレー処置済)。現状で利用者被害の可能性は低いため、監視にとどめる。(前回185-1)
C27: ※ 応急措置後の対策区分の判定区分Ⅱb～Ⅳについて添付すること。また、点検前に 実施された措置によりⅠと判定された箇所も添付すること。 | N27: ※ 変状の発生範囲の規模とは、対策を行う際に参考となる変状の長さや面積をいう。
N28: ※ 応急措置を実施しないで判定した変状の判定区分は、判定区分の応急措置後の欄に記入すること。
C29: ※ たたき落としを実施した場合は、実施後の写真を添付すること。 | N29: ※ 変状の発生範囲の規模は、面積・寸法を記載すること。(ひび割れ幅のみmmとし、その他をm表記とする)
C30: ※ 附属物の取付状態に関する異常写真は別途、任意の書式でとりまとめること。 | N30: ※ 構造用鋼材以外の異物に伴ううき・はく離については、メモ欄に異物の概要を記入すること。

Sheet 様式D-1-1_004
B2: ■定期点検記録様式 変状写真台帳【様式D-1-1】 | R2: 施設ID | T2: 34.32507,131.15851
B3: フリガナ | E3: (ﾀｲﾈｲｼﾞﾀﾞｲｲﾁﾄﾝﾈﾙ) | H3: 路 線 名 | J3: 国道491号（長門・俵山道路） | M3: 定期点検実施者 | P3: 株式会社荒谷建設コンサルタント | S3: 定期点検年月日 | U3: 45621
B4: 名 称 | E4: 大寧寺第1トンネル | H4: 管理者名 | J4: 山口県長門土木建築事務所 | P4: 河野 秀生
B5: 写真 番号 | C5: 覆工スパン 番号 | E5: S010 | M5: 写真 番号 | N5: 覆工スパン 番号 | P5: S011
C6: 変状番号 | E6: 4 | N6: 変状番号 | P6: 1
B7: 変状 部位 | C7: 対象箇所 | E7: 覆工 | M7: 変状 部位 | N7: 対象箇所 | P7: 覆工
C8: 部位区分 | E8: 横断目地（天端） | N8: 部位区分 | P8: 横断目地（左側）
B9: 変状種類 | E9: うき・はく離 | M9: 変状種類 | P9: うき・はく離
B10: 対策 区分 | C10: 変状区分 | E10: 材質劣化 | M10: 対策 区分 | N10: 変状区分 | P10: 材質劣化
C11: 応急措置前 | N11: 応急措置前
C12: 応急措置後 | E12: Ⅱa | N12: 応急措置後 | P12: Ⅱa
B13: 変状の発生範囲及び規模 | E13: 0.50m×0.10m | H13: 前回変状の発生範囲及び規模 | J13: 0.25m×0.05m (Ⅱb判定) | M13: 変状の発生範囲及び規模 | P13: 1.20m×0.05m | S13: 前回変状の発生範囲及び規模 | U13: 1.20m×0.05m (Ⅱa判定)
B14: 対策履歴 | H14: 実施状況（実施日） | M14: 対策履歴 | S14: 実施状況（実施日）
B15: メモ | E15: 横断目地部(天端)にうき。拡大。将来的に利用者に影響が及ぶ可能性があるため、重点的な監視及び計画的な対策を必要とする。(前回184-2) | M15: メモ | P15: 横断目地部(アーチ左側)にうき。将来的に利用者に影響が及ぶ可能性があるため、重点的な監視及び計画的な対策を必要とする。(前回183-2)
B16: 写真 番号 | C16: 覆工スパン 番号 | E16: S011 | M16: 写真 番号 | N16: 覆工スパン 番号 | P16: S011
C17: 変状番号 | E17: 2 | N17: 変状番号 | P17: 3
B18: 変状 部位 | C18: 対象箇所 | E18: 覆工 | M18: 変状 部位 | N18: 対象箇所 | P18: 覆工
C19: 部位区分 | E19: アーチ（天端） | N19: 部位区分 | P19: 横断目地（天端）
B20: 変状種類 | E20: うき・はく離 | M20: 変状種類 | P20: うき・はく離
B21: 対策 区分 | C21: 変状区分 | E21: 材質劣化 | M21: 対策 区分 | N21: 変状区分 | P21: 材質劣化
C22: 応急措置前 | N22: 応急措置前
C23: 応急措置後 | E23: Ⅱb | N23: 応急措置後 | P23: Ⅱa
B24: 変状の発生範囲及び規模 | E24: 0.05m×0.05m | H24: 前回変状の発生範囲及び規模 | J24: 0.05m×0.05m (Ⅱb判定) | M24: 変状の発生範囲及び規模 | P24: 0.50m×0.10m | S24: 前回変状の発生範囲及び規模 | U24: 0.50m×0.10m (Ⅱa判定)
B25: 対策履歴 | H25: 実施状況（実施日） | M25: 対策履歴 | S25: 実施状況（実施日）
B26: メモ | E26: アーチ部(天端)に豆板。現状で利用者被害の可能性は低いため、監視にとどめる。(前回184-3) | M26: メモ | P26: 横断目地部(天端)にうき(スプレー処置済)。将来的に利用者に影響が及ぶ可能性があるため、重点的な監視及び計画的な対策を必要とする。(前回184-1)
C27: ※ 応急措置後の対策区分の判定区分Ⅱb～Ⅳについて添付すること。また、点検前に 実施された措置によりⅠと判定された箇所も添付すること。 | N27: ※ 変状の発生範囲の規模とは、対策を行う際に参考となる変状の長さや面積をいう。
N28: ※ 応急措置を実施しないで判定した変状の判定区分は、判定区分の応急措置後の欄に記入すること。
C29: ※ たたき落としを実施した場合は、実施後の写真を添付すること。 | N29: ※ 変状の発生範囲の規模は、面積・寸法を記載すること。(ひび割れ幅のみmmとし、その他をm表記とする)
C30: ※ 附属物の取付状態に関する異常写真は別途、任意の書式でとりまとめること。 | N30: ※ 構造用鋼材以外の異物に伴ううき・はく離については、メモ欄に異物の概要を記入すること。

Sheet 様式D-1-1_005
B2: ■定期点検記録様式 変状写真台帳【様式D-1-1】 | R2: 施設ID | T2: 34.32507,131.15851
B3: フリガナ | E3: (ﾀｲﾈｲｼﾞﾀﾞｲｲﾁﾄﾝﾈﾙ) | H3: 路 線 名 | J3: 国道491号（長門・俵山道路） | M3: 定期点検実施者 | P3: 株式会社荒谷建設コンサルタント | S3: 定期点検年月日 | U3: 45621
B4: 名 称 | E4: 大寧寺第1トンネル | H4: 管理者名 | J4: 山口県長門土木建築事務所 | P4: 河野 秀生
B5: 写真 番号 | C5: 覆工スパン 番号 | E5: S012 | M5: 写真 番号 | N5: 覆工スパン 番号 | P5: S013
C6: 変状番号 | E6: 1 | N6: 変状番号 | P6: 1
B7: 変状 部位 | C7: 対象箇所 | E7: 覆工 | M7: 変状 部位 | N7: 対象箇所 | P7: 覆工
C8: 部位区分 | E8: アーチ（右側） | N8: 部位区分 | P8: アーチ（天端）
B9: 変状種類 | E9: うき・はく離 | M9: 変状種類 | P9: うき・はく離
B10: 対策 区分 | C10: 変状区分 | E10: 材質劣化 | M10: 対策 区分 | N10: 変状区分 | P10: 材質劣化
C11: 応急措置前 | N11: 応急措置前
C12: 応急措置後 | E12: Ⅱa | N12: 応急措置後 | P12: Ⅱb
B13: 変状の発生範囲及び規模 | E13: 0.05m×0.20m | H13: 前回変状の発生範囲及び規模 | J13: 0.05m×0.20m (Ⅱb判定) | M13: 変状の発生範囲及び規模 | P13: 1.00m×0.70m | S13: 前回変状の発生範囲及び規模 | U13: 1.00m×0.70m (Ⅱb判定)
B14: 対策履歴 | H14: 実施状況（実施日） | M14: 対策履歴 | S14: 実施状況（実施日）
B15: メモ | E15: アーチ部(右側)にうき。将来的に利用者に影響が及ぶ可能性があるため、重点的な監視及び計画的な対策を必要とする。(前回183-1) | M15: メモ | P15: アーチ部(天端)に豆板(スプレー処置済)。現状で利用者被害の可能性は低いため、監視にとどめる。(前回182-2)
B16: 写真 番号 | C16: 覆工スパン 番号 | E16: S013 | M16: 写真 番号 | N16: 覆工スパン 番号 | P16: S013
C17: 変状番号 | E17: 2 | N17: 変状番号 | P17: 3
B18: 変状 部位 | C18: 対象箇所 | E18: 覆工 | M18: 変状 部位 | N18: 対象箇所 | P18: 覆工
C19: 部位区分 | E19: アーチ（天端） | N19: 部位区分 | P19: 横断目地（右側）
B20: 変状種類 | E20: うき・はく離 | M20: 変状種類 | P20: うき・はく離
B21: 対策 区分 | C21: 変状区分 | E21: 材質劣化 | M21: 対策 区分 | N21: 変状区分 | P21: 材質劣化
C22: 応急措置前 | N22: 応急措置前
C23: 応急措置後 | E23: Ⅱb | N23: 応急措置後 | P23: Ⅱa
B24: 変状の発生範囲及び規模 | E24: 0.70m×0.90m | H24: 前回変状の発生範囲及び規模 | J24: 0.90m×0.90m (Ⅱb判定) | M24: 変状の発生範囲及び規模 | P24: 1.00m×0.05m | S24: 前回変状の発生範囲及び規模 | U24: 1.00m×0.05m (Ⅱb判定)
B25: 対策履歴 | H25: 実施状況（実施日） | M25: 対策履歴 | S25: 実施状況（実施日）
B26: メモ | E26: アーチ部(天端)に豆板(スプレー処置済)。現状で利用者被害の可能性は低いため、監視にとどめる。(前回182-1) | M26: メモ | P26: 横断目地部(アーチ右側)にうき。将来的に利用者に影響が及ぶ可能性があるため、重点的な監視及び計画的な対策を必要とする。(前回181-1)
C27: ※ 応急措置後の対策区分の判定区分Ⅱb～Ⅳについて添付すること。また、点検前に 実施された措置によりⅠと判定された箇所も添付すること。 | N27: ※ 変状の発生範囲の規模とは、対策を行う際に参考となる変状の長さや面積をいう。
N28: ※ 応急措置を実施しないで判定した変状の判定区分は、判定区分の応急措置後の欄に記入すること。
C29: ※ たたき落としを実施した場合は、実施後の写真を添付すること。 | N29: ※ 変状の発生範囲の規模は、面積・寸法を記載すること。(ひび割れ幅のみmmとし、その他をm表記とする)
C30: ※ 附属物の取付状態に関する異常写真は別途、任意の書式でとりまとめること。 | N30: ※ 構造用鋼材以外の異物に伴ううき・はく離については、メモ欄に異物の概要を記入すること。

Sheet 様式D-1-1_006
B2: ■定期点検記録様式 変状写真台帳【様式D-1-1】 | R2: 施設ID | T2: 34.32507,131.15851
B3: フリガナ | E3: (ﾀｲﾈｲｼﾞﾀﾞｲｲﾁﾄﾝﾈﾙ) | H3: 路 線 名 | J3: 国道491号（長門・俵山道路） | M3: 定期点検実施者 | P3: 株式会社荒谷建設コンサルタント | S3: 定期点検年月日 | U3: 45621
B4: 名 称 | E4: 大寧寺第1トンネル | H4: 管理者名 | J4: 山口県長門土木建築事務所 | P4: 河野 秀生
B5: 写真 番号 | C5: 覆工スパン 番号 | E5: S019 | M5: 写真 番号 | N5: 覆工スパン 番号 | P5: S020
C6: 変状番号 | E6: 1 | N6: 変状番号 | P6: 1
B7: 変状 部位 | C7: 対象箇所 | E7: 覆工 | M7: 変状 部位 | N7: 対象箇所 | P7: 覆工
C8: 部位区分 | E8: アーチ（天端） | N8: 部位区分 | P8: 横断目地（左側）
B9: 変状種類 | E9: うき・はく離 | M9: 変状種類 | P9: うき・はく離
B10: 対策 区分 | C10: 変状区分 | E10: 材質劣化 | M10: 対策 区分 | N10: 変状区分 | P10: 材質劣化
C11: 応急措置前 | N11: 応急措置前
C12: 応急措置後 | E12: Ⅱa | N12: 応急措置後 | P12: Ⅱa
B13: 変状の発生範囲及び規模 | E13: 0.15m×0.30m | H13: 前回変状の発生範囲及び規模 | J13: 0.15m×0.30m (Ⅱa判定) | M13: 変状の発生範囲及び規模 | P13: 0.30m×0.05m | S13: 前回変状の発生範囲及び規模 | U13: 0.30m×0.05m (Ⅱa判定)
B14: 対策履歴 | H14: 実施状況（実施日） | M14: 対策履歴 | S14: 実施状況（実施日）
B15: メモ | E15: アーチ部(天端)にひび割れ沿いのうき(スプレー処置済)。将来的に利用者に影響が及ぶ可能性があるため、重点的な監視及び計画的な対策を必要とする。(前回176-1) | M15: メモ | P15: 横断目地部(アーチ左側)にうき(スプレー処置済)。将来的に利用者に影響が及ぶ可能性があるため、重点的な監視及び計画的な対策を必要とする。(前回175-1)
B16: 写真 番号 | C16: 覆工スパン 番号 | E16: S023 | M16: 写真 番号 | N16: 覆工スパン 番号 | P16: S024
C17: 変状番号 | E17: 1 | N17: 変状番号 | P17: 1
B18: 変状 部位 | C18: 対象箇所 | E18: 覆工 | M18: 変状 部位 | N18: 対象箇所 | P18: 覆工
C19: 部位区分 | E19: 横断目地（左側） | N19: 部位区分 | P19: アーチ（天端）
B20: 変状種類 | E20: うき・はく離 | M20: 変状種類 | P20: うき・はく離
B21: 対策 区分 | C21: 変状区分 | E21: 材質劣化 | M21: 対策 区分 | N21: 変状区分 | P21: 材質劣化
C22: 応急措置前 | N22: 応急措置前
C23: 応急措置後 | E23: Ⅱa | N23: 応急措置後 | P23: Ⅱa
B24: 変状の発生範囲及び規模 | E24: 0.80m×0.05m | H24: 前回変状の発生範囲及び規模 | J24: 今回新規変状 | M24: 変状の発生範囲及び規模 | P24: 0.10m×0.30m | S24: 前回変状の発生範囲及び規模 | U24: 今回新規変状
B25: 対策履歴 | H25: 実施状況（実施日） | M25: 対策履歴 | S25: 実施状況（実施日）
B26: メモ | E26: 横断目地部(アーチ左側)にうき。新規変状。将来的に利用者に影響が及ぶ可能性があるため、重点的な監視及び計画的な対策を必要とする。 | M26: メモ | P26: アーチ部(天端)にうき(スプレー処置済)。新規変状。将来的に利用者に影響が及ぶ可能性があるため、重点的な監視及び計画的な対策を必要とする。
C27: ※ 応急措置後の対策区分の判定区分Ⅱb～Ⅳについて添付すること。また、点検前に 実施された措置によりⅠと判定された箇所も添付すること。 | N27: ※ 変状の発生範囲の規模とは、対策を行う際に参考となる変状の長さや面積をいう。
N28: ※ 応急措置を実施しないで判定した変状の判定区分は、判定区分の応急措置後の欄に記入すること。
C29: ※ たたき落としを実施した場合は、実施後の写真を添付すること。 | N29: ※ 変状の発生範囲の規模は、面積・寸法を記載すること。(ひび割れ幅のみmmとし、その他をm表記とする)
C30: ※ 附属物の取付状態に関する異常写真は別途、任意の書式でとりまとめること。 | N30: ※ 構造用鋼材以外の異物に伴ううき・はく離については、メモ欄に異物の概要を記入すること。

Sheet 様式D-1-1_007
B2: ■定期点検記録様式 変状写真台帳【様式D-1-1】 | R2: 施設ID | T2: 34.32507,131.15851
B3: フリガナ | E3: (ﾀｲﾈｲｼﾞﾀﾞｲｲﾁﾄﾝﾈﾙ) | H3: 路 線 名 | J3: 国道491号（長門・俵山道路） | M3: 定期点検実施者 | P3: 株式会社荒谷建設コンサルタント | S3: 定期点検年月日 | U3: 45621
B4: 名 称 | E4: 大寧寺第1トンネル | H4: 管理者名 | J4: 山口県長門土木建築事務所 | P4: 河野 秀生
B5: 写真 番号 | C5: 覆工スパン 番号 | E5: S024 | M5: 写真 番号 | N5: 覆工スパン 番号 | P5: S024
C6: 変状番号 | E6: 2 | N6: 変状番号 | P6: 3
B7: 変状 部位 | C7: 対象箇所 | E7: 覆工 | M7: 変状 部位 | N7: 対象箇所 | P7: 覆工
C8: 部位区分 | E8: アーチ（天端） | N8: 部位区分 | P8: アーチ（天端）
B9: 変状種類 | E9: うき・はく離 | M9: 変状種類 | P9: うき・はく離
B10: 対策 区分 | C10: 変状区分 | E10: 材質劣化 | M10: 対策 区分 | N10: 変状区分 | P10: 材質劣化
C11: 応急措置前 | N11: 応急措置前
C12: 応急措置後 | E12: Ⅱb | N12: 応急措置後 | P12: Ⅱb
B13: 変状の発生範囲及び規模 | E13: 1.00m×1.20m | H13: 前回変状の発生範囲及び規模 | J13: 1.00m×1.20m (Ⅱb判定) | M13: 変状の発生範囲及び規模 | P13: 0.20m×0.20m | S13: 前回変状の発生範囲及び規模 | U13: 0.20m×0.20m (Ⅱb判定)
B14: 対策履歴 | H14: 実施状況（実施日） | M14: 対策履歴 | S14: 実施状況（実施日）
B15: メモ | E15: アーチ部(天端)に豆板(スプレー処置済)。現状で利用者被害の可能性は低いため、監視にとどめる。(前回171-2) | M15: メモ | P15: アーチ部(天端)に豆板(スプレー処置済)。現状で利用者被害の可能性は低いため、監視にとどめる。(前回171-1)
B16: 写真 番号 | C16: 覆工スパン 番号 | E16: S025 | M16: 写真 番号 | N16: 覆工スパン 番号 | P16: S026
C17: 変状番号 | E17: 1 | N17: 変状番号 | P17: 1
B18: 変状 部位 | C18: 対象箇所 | E18: 覆工 | M18: 変状 部位 | N18: 対象箇所 | P18: 覆工
C19: 部位区分 | E19: アーチ（左側） | N19: 部位区分 | P19: アーチ（右側）
B20: 変状種類 | E20: うき・はく離 | M20: 変状種類 | P20: 鋼材腐食
B21: 対策 区分 | C21: 変状区分 | E21: 材質劣化 | M21: 対策 区分 | N21: 変状区分 | P21: 材質劣化
C22: 応急措置前 | N22: 応急措置前
C23: 応急措置後 | E23: Ⅱa | N23: 応急措置後 | P23: Ⅱb
B24: 変状の発生範囲及び規模 | E24: 0.10m×1.00m | H24: 前回変状の発生範囲及び規模 | J24: 0.10m×0.50m (Ⅱb判定) | M24: 変状の発生範囲及び規模 | P24: 0.05m×0.05m | S24: 前回変状の発生範囲及び規模 | U24: 0.05m×0.05m (Ⅰ判定)
B25: 対策履歴 | H25: 実施状況（実施日） | M25: 対策履歴 | S25: 実施状況（実施日）
B26: メモ | E26: アーチ部(左側)にうき。拡大。将来的に利用者に影響が及ぶ可能性があるため、重点的な監視及び計画的な対策を必要とする。(前回170-1) | M26: メモ | P26: アーチ部(右側)に鋼材腐食(スプレー処置済)。現状で利用者被害の可能性は低いため、監視にとどめる。(前回169-1)
C27: ※ 応急措置後の対策区分の判定区分Ⅱb～Ⅳについて添付すること。また、点検前に 実施された措置によりⅠと判定された箇所も添付すること。 | N27: ※ 変状の発生範囲の規模とは、対策を行う際に参考となる変状の長さや面積をいう。
N28: ※ 応急措置を実施しないで判定した変状の判定区分は、判定区分の応急措置後の欄に記入すること。
C29: ※ たたき落としを実施した場合は、実施後の写真を添付すること。 | N29: ※ 変状の発生範囲の規模は、面積・寸法を記載すること。(ひび割れ幅のみmmとし、その他をm表記とする)
C30: ※ 附属物の取付状態に関する異常写真は別途、任意の書式でとりまとめること。 | N30: ※ 構造用鋼材以外の異物に伴ううき・はく離については、メモ欄に異物の概要を記入すること。

Sheet 様式D-1-1_008
B2: ■定期点検記録様式 変状写真台帳【様式D-1-1】 | R2: 施設ID | T2: 34.32507,131.15851
B3: フリガナ | E3: (ﾀｲﾈｲｼﾞﾀﾞｲｲﾁﾄﾝﾈﾙ) | H3: 路 線 名 | J3: 国道491号（長門・俵山道路） | M3: 定期点検実施者 | P3: 株式会社荒谷建設コンサルタント | S3: 定期点検年月日 | U3: 45621
B4: 名 称 | E4: 大寧寺第1トンネル | H4: 管理者名 | J4: 山口県長門土木建築事務所 | P4: 河野 秀生
B5: 写真 番号 | C5: 覆工スパン 番号 | E5: S029 | M5: 写真 番号 | N5: 覆工スパン 番号 | P5: S030
C6: 変状番号 | E6: 1 | N6: 変状番号 | P6: 1
B7: 変状 部位 | C7: 対象箇所 | E7: 覆工 | M7: 変状 部位 | N7: 対象箇所 | P7: 覆工
C8: 部位区分 | E8: 横断目地（天端） | N8: 部位区分 | P8: アーチ（天端）
B9: 変状種類 | E9: うき・はく離 | M9: 変状種類 | P9: うき・はく離
B10: 対策 区分 | C10: 変状区分 | E10: 材質劣化 | M10: 対策 区分 | N10: 変状区分 | P10: 材質劣化
C11: 応急措置前 | E11: Ⅲ | N11: 応急措置前
C12: 応急措置後 | E12: Ⅰ | N12: 応急措置後 | P12: Ⅱa
B13: 変状の発生範囲及び規模 | E13: 0.20m×0.05m | H13: 前回変状の発生範囲及び規模 | J13: 今回新規変状 | M13: 変状の発生範囲及び規模 | P13: 0.25m×0.25m | S13: 前回変状の発生範囲及び規模 | U13: 0.20m×0.20m (Ⅱa判定)
B14: 対策履歴 | E14: はく落防止対策工(叩落し)を実施 | H14: 実施状況（実施日） | J14: 45621 | M14: 対策履歴 | S14: 実施状況（実施日）
B15: メモ | E15: 横断目地部(天端)にはく落（叩落し・スプレー処置済）。新規変状。前回点検時に確認されたうきを叩き落した事により状態は改善され、現状で利用者被害がないと判断しⅠ判定とした。 | M15: メモ | P15: アーチ部(天端)にうき(スプレー処置済)。将来的に利用者に影響が及ぶ可能性があるため、重点的な監視及び計画的な対策を必要とする。(前回165-4)
B16: 写真 番号 | C16: 覆工スパン 番号 | E16: S030 | M16: 写真 番号 | N16: 覆工スパン 番号 | P16: S030
C17: 変状番号 | E17: 2 | N17: 変状番号 | P17: 3
B18: 変状 部位 | C18: 対象箇所 | E18: 覆工 | M18: 変状 部位 | N18: 対象箇所 | P18: 覆工
C19: 部位区分 | E19: アーチ（天端） | N19: 部位区分 | P19: アーチ（天端）
B20: 変状種類 | E20: うき・はく離 | M20: 変状種類 | P20: うき・はく離
B21: 対策 区分 | C21: 変状区分 | E21: 材質劣化 | M21: 対策 区分 | N21: 変状区分 | P21: 材質劣化
C22: 応急措置前 | N22: 応急措置前
C23: 応急措置後 | E23: Ⅱb | N23: 応急措置後 | P23: Ⅱa
B24: 変状の発生範囲及び規模 | E24: 0.60m×0.80m | H24: 前回変状の発生範囲及び規模 | J24: 0.60m×0.80m (Ⅱb判定) | M24: 変状の発生範囲及び規模 | P24: 0.35m×0.65m | S24: 前回変状の発生範囲及び規模 | U24: 0.40m×0.70m (Ⅱa判定)
B25: 対策履歴 | H25: 実施状況（実施日） | M25: 対策履歴 | S25: 実施状況（実施日）
B26: メモ | E26: アーチ部(天端)に豆板(スプレー処置済)。現状で利用者被害の可能性は低いため、監視にとどめる。(前回165-3) | M26: メモ | P26: アーチ部(天端)にうき(拡大・スプレー処置済)。将来的に利用者に影響が及ぶ可能性があるため、重点的な監視及び計画的な対策を必要とする。(前回165-2)
C27: ※ 応急措置後の対策区分の判定区分Ⅱb～Ⅳについて添付すること。また、点検前に 実施された措置によりⅠと判定された箇所も添付すること。 | N27: ※ 変状の発生範囲の規模とは、対策を行う際に参考となる変状の長さや面積をいう。
N28: ※ 応急措置を実施しないで判定した変状の判定区分は、判定区分の応急措置後の欄に記入すること。
C29: ※ たたき落としを実施した場合は、実施後の写真を添付すること。 | N29: ※ 変状の発生範囲の規模は、面積・寸法を記載すること。(ひび割れ幅のみmmとし、その他をm表記とする)
C30: ※ 附属物の取付状態に関する異常写真は別途、任意の書式でとりまとめること。 | N30: ※ 構造用鋼材以外の異物に伴ううき・はく離については、メモ欄に異物の概要を記入すること。

Sheet 様式D-1-1_009
B2: ■定期点検記録様式 変状写真台帳【様式D-1-1】 | R2: 施設ID | T2: 34.32507,131.15851
B3: フリガナ | E3: (ﾀｲﾈｲｼﾞﾀﾞｲｲﾁﾄﾝﾈﾙ) | H3: 路 線 名 | J3: 国道491号（長門・俵山道路） | M3: 定期点検実施者 | P3: 株式会社荒谷建設コンサルタント | S3: 定期点検年月日 | U3: 45621
B4: 名 称 | E4: 大寧寺第1トンネル | H4: 管理者名 | J4: 山口県長門土木建築事務所 | P4: 河野 秀生
B5: 写真 番号 | C5: 覆工スパン 番号 | E5: S030 | M5: 写真 番号 | N5: 覆工スパン 番号 | P5: S031
C6: 変状番号 | E6: 4 | N6: 変状番号 | P6: 1
B7: 変状 部位 | C7: 対象箇所 | E7: 覆工 | M7: 変状 部位 | N7: 対象箇所 | P7: 覆工
C8: 部位区分 | E8: アーチ（天端） | N8: 部位区分 | P8: アーチ（天端）
B9: 変状種類 | E9: うき・はく離 | M9: 変状種類 | P9: うき・はく離
B10: 対策 区分 | C10: 変状区分 | E10: 材質劣化 | M10: 対策 区分 | N10: 変状区分 | P10: 材質劣化
C11: 応急措置前 | N11: 応急措置前
C12: 応急措置後 | E12: Ⅱb | N12: 応急措置後 | P12: Ⅱa
B13: 変状の発生範囲及び規模 | E13: 1.60m×2.40m | H13: 前回変状の発生範囲及び規模 | J13: 1.60m×2.40m (Ⅱb判定) | M13: 変状の発生範囲及び規模 | P13: 0.20m×0.25m | S13: 前回変状の発生範囲及び規模 | U13: 0.20m×0.25m (Ⅱa判定)
B14: 対策履歴 | H14: 実施状況（実施日） | M14: 対策履歴 | S14: 実施状況（実施日）
B15: メモ | E15: アーチ部(天端)にはく離(豆板状)。現状で利用者被害の可能性は低いため、監視にとどめる。(前回165-1) | M15: メモ | P15: アーチ部(天端)にうき(スプレー処置済)。将来的に利用者に影響が及ぶ可能性があるため、重点的な監視及び計画的な対策を必要とする。(前回164-1)
B16: 写真 番号 | C16: 覆工スパン 番号 | E16: S031 | M16: 写真 番号 | N16: 覆工スパン 番号 | P16: S031
C17: 変状番号 | E17: 2 | N17: 変状番号 | P17: 3
B18: 変状 部位 | C18: 対象箇所 | E18: 覆工 | M18: 変状 部位 | N18: 対象箇所 | P18: 覆工
C19: 部位区分 | E19: アーチ（天端） | N19: 部位区分 | P19: アーチ（天端）
B20: 変状種類 | E20: うき・はく離 | M20: 変状種類 | P20: うき・はく離
B21: 対策 区分 | C21: 変状区分 | E21: 材質劣化 | M21: 対策 区分 | N21: 変状区分 | P21: 材質劣化
C22: 応急措置前 | N22: 応急措置前
C23: 応急措置後 | E23: Ⅱa | N23: 応急措置後 | P23: Ⅱb
B24: 変状の発生範囲及び規模 | E24: 0.25m×0.35m | H24: 前回変状の発生範囲及び規模 | J24: 0.10m×0.25m (Ⅱa判定) | M24: 変状の発生範囲及び規模 | P24: 0.30m×0.70m | S24: 前回変状の発生範囲及び規模 | U24: 0.30m×0.75m (Ⅱb判定)
B25: 対策履歴 | H25: 実施状況（実施日） | M25: 対策履歴 | S25: 実施状況（実施日）
B26: メモ | E26: アーチ部(天端)にうき(拡大・スプレー処置済)。将来的に利用者に影響が及ぶ可能性があるため、重点的な監視及び計画的な対策を必要とする。(前回164-2) | M26: メモ | P26: アーチ部(天端)にはく離(豆板状)。現状で利用者被害の可能性は低いため、監視にとどめる。(前回164-3)
C27: ※ 応急措置後の対策区分の判定区分Ⅱb～Ⅳについて添付すること。また、点検前に 実施された措置によりⅠと判定された箇所も添付すること。 | N27: ※ 変状の発生範囲の規模とは、対策を行う際に参考となる変状の長さや面積をいう。
N28: ※ 応急措置を実施しないで判定した変状の判定区分は、判定区分の応急措置後の欄に記入すること。
C29: ※ たたき落としを実施した場合は、実施後の写真を添付すること。 | N29: ※ 変状の発生範囲の規模は、面積・寸法を記載すること。(ひび割れ幅のみmmとし、その他をm表記とする)
C30: ※ 附属物の取付状態に関する異常写真は別途、任意の書式でとりまとめること。 | N30: ※ 構造用鋼材以外の異物に伴ううき・はく離については、メモ欄に異物の概要を記入すること。

Sheet 様式D-1-1_010
B2: ■定期点検記録様式 変状写真台帳【様式D-1-1】 | R2: 施設ID | T2: 34.32507,131.15851
B3: フリガナ | E3: (ﾀｲﾈｲｼﾞﾀﾞｲｲﾁﾄﾝﾈﾙ) | H3: 路 線 名 | J3: 国道491号（長門・俵山道路） | M3: 定期点検実施者 | P3: 株式会社荒谷建設コンサルタント | S3: 定期点検年月日 | U3: 45621
B4: 名 称 | E4: 大寧寺第1トンネル | H4: 管理者名 | J4: 山口県長門土木建築事務所 | P4: 河野 秀生
B5: 写真 番号 | C5: 覆工スパン 番号 | E5: S032 | M5: 写真 番号 | N5: 覆工スパン 番号 | P5: S033
C6: 変状番号 | E6: 1 | N6: 変状番号 | P6: 1
B7: 変状 部位 | C7: 対象箇所 | E7: 覆工 | M7: 変状 部位 | N7: 対象箇所 | P7: 覆工
C8: 部位区分 | E8: 横断目地（天端） | N8: 部位区分 | P8: 横断目地（右側）
B9: 変状種類 | E9: うき・はく離 | M9: 変状種類 | P9: うき・はく離
B10: 対策 区分 | C10: 変状区分 | E10: 材質劣化 | M10: 対策 区分 | N10: 変状区分 | P10: 材質劣化
C11: 応急措置前 | N11: 応急措置前
C12: 応急措置後 | E12: Ⅲ | N12: 応急措置後 | P12: Ⅱa
B13: 変状の発生範囲及び規模 | E13: 0.30m×0.10m | H13: 前回変状の発生範囲及び規模 | J13: 0.30m×0.10m (Ⅱa判定) | M13: 変状の発生範囲及び規模 | P13: 0.25m×0.05m | S13: 前回変状の発生範囲及び規模 | U13: 0.25m×0.05m (Ⅱa判定)
B14: 対策履歴 | H14: 実施状況（実施日） | M14: 対策履歴 | S14: 実施状況（実施日）
B15: メモ | E15: 横断目地部(天端)に閉合しかけのひび割れを伴ううき(スプレー処置済)。早晩、利用者に影響が及ぶ可能性が高いため、早期に措置を講ずる必要がある。 (前回163-1) | M15: メモ | P15: 横断目地部(アーチ右側)にうき(スプレー処置済)。将来的に利用者に影響が及ぶ可能性があるため、重点的な監視及び計画的な対策を必要とする。(前回162-1)
B16: 写真 番号 | C16: 覆工スパン 番号 | E16: S034 | M16: 写真 番号 | N16: 覆工スパン 番号 | P16: S035
C17: 変状番号 | E17: 1 | N17: 変状番号 | P17: 1
B18: 変状 部位 | C18: 対象箇所 | E18: 覆工 | M18: 変状 部位 | N18: 対象箇所 | P18: 覆工
C19: 部位区分 | E19: 横断目地（天端） | N19: 部位区分 | P19: アーチ（右側）
B20: 変状種類 | E20: うき・はく離 | M20: 変状種類 | P20: 鋼材腐食
B21: 対策 区分 | C21: 変状区分 | E21: 材質劣化 | M21: 対策 区分 | N21: 変状区分 | P21: 材質劣化
C22: 応急措置前 | N22: 応急措置前
C23: 応急措置後 | E23: Ⅱa | N23: 応急措置後 | P23: Ⅱb
B24: 変状の発生範囲及び規模 | E24: 0.40m×0.10m | H24: 前回変状の発生範囲及び規模 | J24: 今回新規変状 | M24: 変状の発生範囲及び規模 | P24: 0.05m×0.05m | S24: 前回変状の発生範囲及び規模 | U24: 0.05m×0.05m (Ⅱa判定)
B25: 対策履歴 | H25: 実施状況（実施日） | M25: 対策履歴 | S25: 実施状況（実施日）
B26: メモ | E26: 横断目地部(天端)にうき(スプレー処置済)。新規変状。将来的に利用者に影響が及ぶ可能性があるため、重点的な監視及び計画的な対策を必要とする。 | M26: メモ | P26: アーチ部(右側)に鋼材腐食(スプレー処置済)。現状で利用者被害の可能性は低いため、監視にとどめる。(前回160-1)
C27: ※ 応急措置後の対策区分の判定区分Ⅱb～Ⅳについて添付すること。また、点検前に 実施された措置によりⅠと判定された箇所も添付すること。 | N27: ※ 変状の発生範囲の規模とは、対策を行う際に参考となる変状の長さや面積をいう。
N28: ※ 応急措置を実施しないで判定した変状の判定区分は、判定区分の応急措置後の欄に記入すること。
C29: ※ たたき落としを実施した場合は、実施後の写真を添付すること。 | N29: ※ 変状の発生範囲の規模は、面積・寸法を記載すること。(ひび割れ幅のみmmとし、その他をm表記とする)
C30: ※ 附属物の取付状態に関する異常写真は別途、任意の書式でとりまとめること。 | N30: ※ 構造用鋼材以外の異物に伴ううき・はく離については、メモ欄に異物の概要を記入すること。

Sheet 様式D-1-1_011
B2: ■定期点検記録様式 変状写真台帳【様式D-1-1】 | R2: 施設ID | T2: 34.32507,131.15851
B3: フリガナ | E3: (ﾀｲﾈｲｼﾞﾀﾞｲｲﾁﾄﾝﾈﾙ) | H3: 路 線 名 | J3: 国道491号（長門・俵山道路） | M3: 定期点検実施者 | P3: 株式会社荒谷建設コンサルタント | S3: 定期点検年月日 | U3: 45621
B4: 名 称 | E4: 大寧寺第1トンネル | H4: 管理者名 | J4: 山口県長門土木建築事務所 | P4: 河野 秀生
B5: 写真 番号 | C5: 覆工スパン 番号 | E5: S035 | M5: 写真 番号 | N5: 覆工スパン 番号 | P5: S037
C6: 変状番号 | E6: 2 | N6: 変状番号 | P6: 1
B7: 変状 部位 | C7: 対象箇所 | E7: 覆工 | M7: 変状 部位 | N7: 対象箇所 | P7: 覆工
C8: 部位区分 | E8: 横断目地（右側） | N8: 部位区分 | P8: 横断目地（右側）
B9: 変状種類 | E9: うき・はく離 | M9: 変状種類 | P9: うき・はく離
B10: 対策 区分 | C10: 変状区分 | E10: 材質劣化 | M10: 対策 区分 | N10: 変状区分 | P10: 材質劣化
C11: 応急措置前 | N11: 応急措置前
C12: 応急措置後 | E12: Ⅱb | N12: 応急措置後 | P12: Ⅱa
B13: 変状の発生範囲及び規模 | E13: 0.60m×0.05m | H13: 前回変状の発生範囲及び規模 | J13: 今回新規変状 | M13: 変状の発生範囲及び規模 | P13: 1.50m×0.05m | S13: 前回変状の発生範囲及び規模 | U13: 1.50m×0.05m (Ⅱb判定)
B14: 対策履歴 | H14: 実施状況（実施日） | M14: 対策履歴 | S14: 実施状況（実施日）
B15: メモ | E15: 横断目地部(側壁右側)にうき。新規変状。現状で利用者被害の可能性は低いため、監視にとどめる。 | M15: メモ | P15: 横断目地部(アーチ右側)にうき。将来的に利用者に影響が及ぶ可能性があるため、重点的な監視及び計画的な対策を必要とする。(前回157-1)
B16: 写真 番号 | C16: 覆工スパン 番号 | E16: S038 | M16: 写真 番号 | N16: 覆工スパン 番号 | P16: S039
C17: 変状番号 | E17: 1 | N17: 変状番号 | P17: 1
B18: 変状 部位 | C18: 対象箇所 | E18: 覆工 | M18: 変状 部位 | N18: 対象箇所 | P18: 覆工
C19: 部位区分 | E19: 横断目地（右側） | N19: 部位区分 | P19: 横断目地（天端）
B20: 変状種類 | E20: うき・はく離 | M20: 変状種類 | P20: うき・はく離
B21: 対策 区分 | C21: 変状区分 | E21: 材質劣化 | M21: 対策 区分 | N21: 変状区分 | P21: 材質劣化
C22: 応急措置前 | N22: 応急措置前
C23: 応急措置後 | E23: Ⅱa | N23: 応急措置後 | P23: Ⅱa
B24: 変状の発生範囲及び規模 | E24: 0.70m×0.10m | H24: 前回変状の発生範囲及び規模 | J24: 今回新規変状 | M24: 変状の発生範囲及び規模 | P24: 0.25m×0.10m | S24: 前回変状の発生範囲及び規模 | U24: 0.25m×0.10m (Ⅱa判定)
B25: 対策履歴 | H25: 実施状況（実施日） | M25: 対策履歴 | S25: 実施状況（実施日）
B26: メモ | E26: 横断目地部(アーチ右側)にうき(スプレー処置済)。新規変状。将来的に利用者に影響が及ぶ可能性があるため、重点的な監視及び計画的な対策を必要とする。 | M26: メモ | P26: 横断目地部(天端)にうき(スプレー処置済)。将来的に利用者に影響が及ぶ可能性があるため、重点的な監視及び計画的な対策を必要とする。(前回156-2)
C27: ※ 応急措置後の対策区分の判定区分Ⅱb～Ⅳについて添付すること。また、点検前に 実施された措置によりⅠと判定された箇所も添付すること。 | N27: ※ 変状の発生範囲の規模とは、対策を行う際に参考となる変状の長さや面積をいう。
N28: ※ 応急措置を実施しないで判定した変状の判定区分は、判定区分の応急措置後の欄に記入すること。
C29: ※ たたき落としを実施した場合は、実施後の写真を添付すること。 | N29: ※ 変状の発生範囲の規模は、面積・寸法を記載すること。(ひび割れ幅のみmmとし、その他をm表記とする)
C30: ※ 附属物の取付状態に関する異常写真は別途、任意の書式でとりまとめること。 | N30: ※ 構造用鋼材以外の異物に伴ううき・はく離については、メモ欄に異物の概要を記入すること。

Sheet 様式D-1-1_012
B2: ■定期点検記録様式 変状写真台帳【様式D-1-1】 | R2: 施設ID | T2: 34.32507,131.15851
B3: フリガナ | E3: (ﾀｲﾈｲｼﾞﾀﾞｲｲﾁﾄﾝﾈﾙ) | H3: 路 線 名 | J3: 国道491号（長門・俵山道路） | M3: 定期点検実施者 | P3: 株式会社荒谷建設コンサルタント | S3: 定期点検年月日 | U3: 45621
B4: 名 称 | E4: 大寧寺第1トンネル | H4: 管理者名 | J4: 山口県長門土木建築事務所 | P4: 河野 秀生
B5: 写真 番号 | C5: 覆工スパン 番号 | E5: S041 | M5: 写真 番号 | N5: 覆工スパン 番号 | P5: S043
C6: 変状番号 | E6: 1 | N6: 変状番号 | P6: 1
B7: 変状 部位 | C7: 対象箇所 | E7: 覆工 | M7: 変状 部位 | N7: 対象箇所 | P7: 覆工
C8: 部位区分 | E8: アーチ（右側） | N8: 部位区分 | P8: アーチ（天端）
B9: 変状種類 | E9: 鋼材腐食 | M9: 変状種類 | P9: うき・はく離
B10: 対策 区分 | C10: 変状区分 | E10: 材質劣化 | M10: 対策 区分 | N10: 変状区分 | P10: 材質劣化
C11: 応急措置前 | N11: 応急措置前
C12: 応急措置後 | E12: Ⅱb | N12: 応急措置後 | P12: Ⅱa
B13: 変状の発生範囲及び規模 | E13: 0.05m×0.05m | H13: 前回変状の発生範囲及び規模 | J13: 今回新規変状 | M13: 変状の発生範囲及び規模 | P13: 0.05m×0.20m | S13: 前回変状の発生範囲及び規模 | U13: 今回新規変状
B14: 対策履歴 | H14: 実施状況（実施日） | M14: 対策履歴 | S14: 実施状況（実施日）
B15: メモ | E15: アーチ部(右側)に鋼材腐食(スプレー処置済)。新規変状。現状で利用者被害の可能性は低いため、監視にとどめる。 | M15: メモ | P15: アーチ部(天端)にひび割れ沿いのうき(スプレー処置済)。新規変状。将来的に利用者に影響が及ぶ可能性があるため、重点的な監視及び計画的な対策を必要とする。
B16: 写真 番号 | C16: 覆工スパン 番号 | E16: S048 | M16: 写真 番号 | N16: 覆工スパン 番号 | P16: S053
C17: 変状番号 | E17: 1 | N17: 変状番号 | P17: 1
B18: 変状 部位 | C18: 対象箇所 | E18: 覆工 | M18: 変状 部位 | N18: 対象箇所 | P18: 覆工
C19: 部位区分 | E19: アーチ（左側） | N19: 部位区分 | P19: 横断目地（天端）
B20: 変状種類 | E20: 鋼材腐食 | M20: 変状種類 | P20: うき・はく離
B21: 対策 区分 | C21: 変状区分 | E21: 材質劣化 | M21: 対策 区分 | N21: 変状区分 | P21: 材質劣化
C22: 応急措置前 | N22: 応急措置前
C23: 応急措置後 | E23: Ⅱb | N23: 応急措置後 | P23: Ⅱb
B24: 変状の発生範囲及び規模 | E24: 0.10m×0.05m | H24: 前回変状の発生範囲及び規模 | J24: 0.10m×0.05m (Ⅱa判定) | M24: 変状の発生範囲及び規模 | P24: 0.90m×0.10m | S24: 前回変状の発生範囲及び規模 | U24: 0.25m×0.05m (Ⅱb判定)
B25: 対策履歴 | H25: 実施状況（実施日） | M25: 対策履歴 | S25: 実施状況（実施日）
B26: メモ | E26: アーチ部(左側)に鋼材腐食(スプレー処置済)。現状で利用者被害の可能性は低いため、監視にとどめる。(前回147-1) | M26: メモ | P26: 横断目地部(天端)に豆板(スプレー処置済)。現状で利用者被害の可能性は低いため、監視にとどめる。(前回141-2)
C27: ※ 応急措置後の対策区分の判定区分Ⅱb～Ⅳについて添付すること。また、点検前に 実施された措置によりⅠと判定された箇所も添付すること。 | N27: ※ 変状の発生範囲の規模とは、対策を行う際に参考となる変状の長さや面積をいう。
N28: ※ 応急措置を実施しないで判定した変状の判定区分は、判定区分の応急措置後の欄に記入すること。
C29: ※ たたき落としを実施した場合は、実施後の写真を添付すること。 | N29: ※ 変状の発生範囲の規模は、面積・寸法を記載すること。(ひび割れ幅のみmmとし、その他をm表記とする)
C30: ※ 附属物の取付状態に関する異常写真は別途、任意の書式でとりまとめること。 | N30: ※ 構造用鋼材以外の異物に伴ううき・はく離については、メモ欄に異物の概要を記入すること。

Sheet 様式D-1-1_013
B2: ■定期点検記録様式 変状写真台帳【様式D-1-1】 | R2: 施設ID | T2: 34.32507,131.15851
B3: フリガナ | E3: (ﾀｲﾈｲｼﾞﾀﾞｲｲﾁﾄﾝﾈﾙ) | H3: 路 線 名 | J3: 国道491号（長門・俵山道路） | M3: 定期点検実施者 | P3: 株式会社荒谷建設コンサルタント | S3: 定期点検年月日 | U3: 45621
B4: 名 称 | E4: 大寧寺第1トンネル | H4: 管理者名 | J4: 山口県長門土木建築事務所 | P4: 河野 秀生
B5: 写真 番号 | C5: 覆工スパン 番号 | E5: S053 | M5: 写真 番号 | N5: 覆工スパン 番号 | P5: S055
C6: 変状番号 | E6: 2 | N6: 変状番号 | P6: 1
B7: 変状 部位 | C7: 対象箇所 | E7: 覆工 | M7: 変状 部位 | N7: 対象箇所 | P7: 覆工
C8: 部位区分 | E8: 横断目地（天端） | N8: 部位区分 | P8: アーチ（天端）
B9: 変状種類 | E9: うき・はく離 | M9: 変状種類 | P9: うき・はく離
B10: 対策 区分 | C10: 変状区分 | E10: 材質劣化 | M10: 対策 区分 | N10: 変状区分 | P10: 材質劣化
C11: 応急措置前 | N11: 応急措置前
C12: 応急措置後 | E12: Ⅱb | N12: 応急措置後 | P12: Ⅲ
B13: 変状の発生範囲及び規模 | E13: 1.20m×0.10m | H13: 前回変状の発生範囲及び規模 | J13: 0.90m×0.05m (Ⅱa判定) | M13: 変状の発生範囲及び規模 | P13: 0.05m×0.10m | S13: 前回変状の発生範囲及び規模 | U13: 今回新規変状
B14: 対策履歴 | H14: 実施状況（実施日） | M14: 対策履歴 | S14: 実施状況（実施日）
B15: メモ | E15: 横断目地部(天端)に豆板(スプレー処置済)。現状で利用者被害の可能性は低いため、監視にとどめる。(前回141-1) | M15: メモ | P15: アーチ部(天端)ひび割れ沿いに閉合しかけのひび割れを伴ううき(スプレー処置済)。新規変状。早晩、利用者に影響が及ぶ可能性が高いため、早期に措置を講ずる必要がある。
B16: 写真 番号 | C16: 覆工スパン 番号 | E16: S059 | M16: 写真 番号 | N16: 覆工スパン 番号 | P16: S059
C17: 変状番号 | E17: 1 | N17: 変状番号 | P17: 2
B18: 変状 部位 | C18: 対象箇所 | E18: 覆工 | M18: 変状 部位 | N18: 対象箇所 | P18: 覆工
C19: 部位区分 | E19: 横断目地（右側） | N19: 部位区分 | P19: 横断目地（右側）
B20: 変状種類 | E20: うき・はく離 | M20: 変状種類 | P20: うき・はく離
B21: 対策 区分 | C21: 変状区分 | E21: 材質劣化 | M21: 対策 区分 | N21: 変状区分 | P21: 材質劣化
C22: 応急措置前 | N22: 応急措置前
C23: 応急措置後 | E23: Ⅲ | N23: 応急措置後 | P23: Ⅱa
B24: 変状の発生範囲及び規模 | E24: 0.20m×0.05m | H24: 前回変状の発生範囲及び規模 | J24: 今回新規変状 | M24: 変状の発生範囲及び規模 | P24: 1.30m×0.05m | S24: 前回変状の発生範囲及び規模 | U24: 0.70m×0.05m (Ⅱa判定)
B25: 対策履歴 | H25: 実施状況（実施日） | M25: 対策履歴 | S25: 実施状況（実施日）
B26: メモ | E26: 横断目地部(アーチ右側)に閉合しかけのひび割れを伴ううき(スプレー処置済)。新規変状。早晩、利用者に影響が及ぶ可能性が高いため、早期に措置を講ずる必要がある。 | M26: メモ | P26: 横断目地部(アーチ右側)にうき(スプレー処置済)。将来的に利用者に影響が及ぶ可能性があるため、重点的な監視及び計画的な対策を必要とする。(前回136-2)
C27: ※ 応急措置後の対策区分の判定区分Ⅱb～Ⅳについて添付すること。また、点検前に 実施された措置によりⅠと判定された箇所も添付すること。 | N27: ※ 変状の発生範囲の規模とは、対策を行う際に参考となる変状の長さや面積をいう。
N28: ※ 応急措置を実施しないで判定した変状の判定区分は、判定区分の応急措置後の欄に記入すること。
C29: ※ たたき落としを実施した場合は、実施後の写真を添付すること。 | N29: ※ 変状の発生範囲の規模は、面積・寸法を記載すること。(ひび割れ幅のみmmとし、その他をm表記とする)
C30: ※ 附属物の取付状態に関する異常写真は別途、任意の書式でとりまとめること。 | N30: ※ 構造用鋼材以外の異物に伴ううき・はく離については、メモ欄に異物の概要を記入すること。

Sheet 様式D-1-1_014
B2: ■定期点検記録様式 変状写真台帳【様式D-1-1】 | R2: 施設ID | T2: 34.32507,131.15851
B3: フリガナ | E3: (ﾀｲﾈｲｼﾞﾀﾞｲｲﾁﾄﾝﾈﾙ) | H3: 路 線 名 | J3: 国道491号（長門・俵山道路） | M3: 定期点検実施者 | P3: 株式会社荒谷建設コンサルタント | S3: 定期点検年月日 | U3: 45621
B4: 名 称 | E4: 大寧寺第1トンネル | H4: 管理者名 | J4: 山口県長門土木建築事務所 | P4: 河野 秀生
B5: 写真 番号 | C5: 覆工スパン 番号 | E5: S059 | M5: 写真 番号 | N5: 覆工スパン 番号 | P5: S064
C6: 変状番号 | E6: 3 | N6: 変状番号 | P6: 1
B7: 変状 部位 | C7: 対象箇所 | E7: 覆工 | M7: 変状 部位 | N7: 対象箇所 | P7: 覆工
C8: 部位区分 | E8: 横断目地（右側） | N8: 部位区分 | P8: アーチ（左側）
B9: 変状種類 | E9: うき・はく離 | M9: 変状種類 | P9: 鋼材腐食
B10: 対策 区分 | C10: 変状区分 | E10: 材質劣化 | M10: 対策 区分 | N10: 変状区分 | P10: 材質劣化
C11: 応急措置前 | N11: 応急措置前
C12: 応急措置後 | E12: Ⅱa | N12: 応急措置後 | P12: Ⅱb
B13: 変状の発生範囲及び規模 | E13: 1.80m×0.05m | H13: 前回変状の発生範囲及び規模 | J13: 1.80m×0.05m (Ⅱb判定) | M13: 変状の発生範囲及び規模 | P13: 0.05m×0.10m | S13: 前回変状の発生範囲及び規模 | U13: 今回新規変状
B14: 対策履歴 | H14: 実施状況（実施日） | M14: 対策履歴 | S14: 実施状況（実施日）
B15: メモ | E15: 横断目地部(アーチ右側)にうき。将来的に利用者に影響が及ぶ可能性があるため、重点的な監視及び計画的な対策を必要とする。(前回136-1) | M15: メモ | P15: アーチ部(左側)に鋼材腐食(スプレー処置済)。新規変状。現状で利用者被害の可能性は低いため、監視にとどめる。
B16: 写真 番号 | C16: 覆工スパン 番号 | E16: S070 | M16: 写真 番号 | N16: 覆工スパン 番号 | P16: S073
C17: 変状番号 | E17: 1 | N17: 変状番号 | P17: 1
B18: 変状 部位 | C18: 対象箇所 | E18: 覆工 | M18: 変状 部位 | N18: 対象箇所 | P18: 覆工
C19: 部位区分 | E19: 横断目地（右側） | N19: 部位区分 | P19: 横断目地（右側）
B20: 変状種類 | E20: その他 | M20: 変状種類 | P20: うき・はく離
B21: 対策 区分 | C21: 変状区分 | E21: 材質劣化 | M21: 対策 区分 | N21: 変状区分 | P21: 材質劣化
C22: 応急措置前 | N22: 応急措置前
C23: 応急措置後 | E23: Ⅱb | N23: 応急措置後 | P23: Ⅱa
B24: 変状の発生範囲及び規模 | E24: 2.40m×0.60m | H24: 前回変状の発生範囲及び規模 | J24: 1.10m×0.10m (Ⅱb判定) | M24: 変状の発生範囲及び規模 | P24: 0.90m×0.05m | S24: 前回変状の発生範囲及び規模 | U24: 0.90m×0.05m (Ⅱa判定)
B25: 対策履歴 | H25: 実施状況（実施日） | M25: 対策履歴 | S25: 実施状況（実施日）
B26: メモ | E26: 横断目地部(アーチ右側)に繊維シートの塗装剥がれ。現状で利用者被害の可能性は低いため、監視にとどめる。(前回124-1) | M26: メモ | P26: 横断目地部(アーチ右側)にうき(スプレー処置済)。将来的に利用者に影響が及ぶ可能性があるため、重点的な監視及び計画的な対策を必要とする。(前回121-1)
C27: ※ 応急措置後の対策区分の判定区分Ⅱb～Ⅳについて添付すること。また、点検前に 実施された措置によりⅠと判定された箇所も添付すること。 | N27: ※ 変状の発生範囲の規模とは、対策を行う際に参考となる変状の長さや面積をいう。
N28: ※ 応急措置を実施しないで判定した変状の判定区分は、判定区分の応急措置後の欄に記入すること。
C29: ※ たたき落としを実施した場合は、実施後の写真を添付すること。 | N29: ※ 変状の発生範囲の規模は、面積・寸法を記載すること。(ひび割れ幅のみmmとし、その他をm表記とする)
C30: ※ 附属物の取付状態に関する異常写真は別途、任意の書式でとりまとめること。 | N30: ※ 構造用鋼材以外の異物に伴ううき・はく離については、メモ欄に異物の概要を記入すること。

Sheet 様式D-1-1_015
B2: ■定期点検記録様式 変状写真台帳【様式D-1-1】 | R2: 施設ID | T2: 34.32507,131.15851
B3: フリガナ | E3: (ﾀｲﾈｲｼﾞﾀﾞｲｲﾁﾄﾝﾈﾙ) | H3: 路 線 名 | J3: 国道491号（長門・俵山道路） | M3: 定期点検実施者 | P3: 株式会社荒谷建設コンサルタント | S3: 定期点検年月日 | U3: 45621
B4: 名 称 | E4: 大寧寺第1トンネル | H4: 管理者名 | J4: 山口県長門土木建築事務所 | P4: 河野 秀生
B5: 写真 番号 | C5: 覆工スパン 番号 | E5: S074 | M5: 写真 番号 | N5: 覆工スパン 番号 | P5: S076
C6: 変状番号 | E6: 1 | N6: 変状番号 | P6: 1
B7: 変状 部位 | C7: 対象箇所 | E7: 覆工 | M7: 変状 部位 | N7: 対象箇所 | P7: 覆工
C8: 部位区分 | E8: 横断目地（右側） | N8: 部位区分 | P8: 横断目地（左側）
B9: 変状種類 | E9: うき・はく離 | M9: 変状種類 | P9: うき・はく離
B10: 対策 区分 | C10: 変状区分 | E10: 材質劣化 | M10: 対策 区分 | N10: 変状区分 | P10: 材質劣化
C11: 応急措置前 | N11: 応急措置前
C12: 応急措置後 | E12: Ⅱa | N12: 応急措置後 | P12: Ⅱb
B13: 変状の発生範囲及び規模 | E13: 1.20m×0.05m | H13: 前回変状の発生範囲及び規模 | J13: 1.20m×0.05m (Ⅱa判定) | M13: 変状の発生範囲及び規模 | P13: 0.20m×0.05m | S13: 前回変状の発生範囲及び規模 | U13: 0.20m×0.05m (Ⅱb判定)
B14: 対策履歴 | H14: 実施状況（実施日） | M14: 対策履歴 | S14: 実施状況（実施日）
B15: メモ | E15: 横断目地部(アーチ右側)にうき(スプレー処置済)。将来的に利用者に影響が及ぶ可能性があるため、重点的な監視及び計画的な対策を必要とする。(前回120-1) | M15: メモ | P15: 横断目地部(側壁左側)にうき。現状で利用者被害の可能性は低いため、監視にとどめる。(前回119-1)
B16: 写真 番号 | C16: 覆工スパン 番号 | E16: S080 | M16: 写真 番号 | N16: 覆工スパン 番号 | P16: S082
C17: 変状番号 | E17: 1 | N17: 変状番号 | P17: 1
B18: 変状 部位 | C18: 対象箇所 | E18: 覆工 | M18: 変状 部位 | N18: 対象箇所 | P18: 覆工
C19: 部位区分 | E19: 横断目地（右側） | N19: 部位区分 | P19: 横断目地（右側）
B20: 変状種類 | E20: うき・はく離 | M20: 変状種類 | P20: うき・はく離
B21: 対策 区分 | C21: 変状区分 | E21: 材質劣化 | M21: 対策 区分 | N21: 変状区分 | P21: 材質劣化
C22: 応急措置前 | N22: 応急措置前
C23: 応急措置後 | E23: Ⅱa | N23: 応急措置後 | P23: Ⅱa
B24: 変状の発生範囲及び規模 | E24: 0.80m×0.10m | H24: 前回変状の発生範囲及び規模 | J24: 0.80m×0.10m (Ⅱa判定) | M24: 変状の発生範囲及び規模 | P24: 0.15m×0.10m | S24: 前回変状の発生範囲及び規模 | U24: 今回新規変状
B25: 対策履歴 | H25: 実施状況（実施日） | M25: 対策履歴 | S25: 実施状況（実施日）
B26: メモ | E26: 横断目地部(アーチ右側)にうき(スプレー処置済)。将来的に利用者に影響が及ぶ可能性があるため、重点的な監視及び計画的な対策を必要とする。(前回114-1) | M26: メモ | P26: 横断目地部(アーチ右側)にうき(スプレー処置済)。新規変状。将来的に利用者に影響が及ぶ可能性があるため、重点的な監視及び計画的な対策を必要とする。
C27: ※ 応急措置後の対策区分の判定区分Ⅱb～Ⅳについて添付すること。また、点検前に 実施された措置によりⅠと判定された箇所も添付すること。 | N27: ※ 変状の発生範囲の規模とは、対策を行う際に参考となる変状の長さや面積をいう。
N28: ※ 応急措置を実施しないで判定した変状の判定区分は、判定区分の応急措置後の欄に記入すること。
C29: ※ たたき落としを実施した場合は、実施後の写真を添付すること。 | N29: ※ 変状の発生範囲の規模は、面積・寸法を記載すること。(ひび割れ幅のみmmとし、その他をm表記とする)
C30: ※ 附属物の取付状態に関する異常写真は別途、任意の書式でとりまとめること。 | N30: ※ 構造用鋼材以外の異物に伴ううき・はく離については、メモ欄に異物の概要を記入すること。

Sheet 様式D-1-1_016
B2: ■定期点検記録様式 変状写真台帳【様式D-1-1】 | R2: 施設ID | T2: 34.32507,131.15851
B3: フリガナ | E3: (ﾀｲﾈｲｼﾞﾀﾞｲｲﾁﾄﾝﾈﾙ) | H3: 路 線 名 | J3: 国道491号（長門・俵山道路） | M3: 定期点検実施者 | P3: 株式会社荒谷建設コンサルタント | S3: 定期点検年月日 | U3: 45621
B4: 名 称 | E4: 大寧寺第1トンネル | H4: 管理者名 | J4: 山口県長門土木建築事務所 | P4: 河野 秀生
B5: 写真 番号 | C5: 覆工スパン 番号 | E5: S082 | M5: 写真 番号 | N5: 覆工スパン 番号 | P5: S087
C6: 変状番号 | E6: 2 | N6: 変状番号 | P6: 1
B7: 変状 部位 | C7: 対象箇所 | E7: 覆工 | M7: 変状 部位 | N7: 対象箇所 | P7: 覆工
C8: 部位区分 | E8: 横断目地（右側） | N8: 部位区分 | P8: 横断目地（左側）
B9: 変状種類 | E9: うき・はく離 | M9: 変状種類 | P9: うき・はく離
B10: 対策 区分 | C10: 変状区分 | E10: 材質劣化 | M10: 対策 区分 | N10: 変状区分 | P10: 材質劣化
C11: 応急措置前 | N11: 応急措置前
C12: 応急措置後 | E12: Ⅱa | N12: 応急措置後 | P12: Ⅱa
B13: 変状の発生範囲及び規模 | E13: 0.30m×0.10m | H13: 前回変状の発生範囲及び規模 | J13: 今回新規変状 | M13: 変状の発生範囲及び規模 | P13: 1.75m×0.15m | S13: 前回変状の発生範囲及び規模 | U13: 0.40m×0.10m (Ⅱb判定)
B14: 対策履歴 | H14: 実施状況（実施日） | M14: 対策履歴 | S14: 実施状況（実施日）
B15: メモ | E15: 横断目地部(アーチ右側)にうき。新規変状。将来的に利用者に影響が及ぶ可能性があるため、重点的な監視及び計画的な対策を必要とする。 | M15: メモ | P15: 横断目地部(アーチ左側)にうき。将来的に利用者に影響が及ぶ可能性があるため、重点的な監視及び計画的な対策を必要とする。(前回108-1)
B16: 写真 番号 | C16: 覆工スパン 番号 | E16: S087 | M16: 写真 番号 | N16: 覆工スパン 番号 | P16: S087
C17: 変状番号 | E17: 2 | N17: 変状番号 | P17: 3
B18: 変状 部位 | C18: 対象箇所 | E18: 覆工 | M18: 変状 部位 | N18: 対象箇所 | P18: 覆工
C19: 部位区分 | E19: 横断目地（天端） | N19: 部位区分 | P19: 横断目地（右側）
B20: 変状種類 | E20: うき・はく離 | M20: 変状種類 | P20: うき・はく離
B21: 対策 区分 | C21: 変状区分 | E21: 材質劣化 | M21: 対策 区分 | N21: 変状区分 | P21: 材質劣化
C22: 応急措置前 | N22: 応急措置前
C23: 応急措置後 | E23: Ⅱa | N23: 応急措置後 | P23: Ⅱb
B24: 変状の発生範囲及び規模 | E24: 1.00m×0.10m | H24: 前回変状の発生範囲及び規模 | J24: 1.00m×0.10m (Ⅱa判定) | M24: 変状の発生範囲及び規模 | P24: 0.40m×0.10m | S24: 前回変状の発生範囲及び規模 | U24: 0.40m×0.10m (Ⅱb判定)
B25: 対策履歴 | H25: 実施状況（実施日） | M25: 対策履歴 | S25: 実施状況（実施日）
B26: メモ | E26: 横断目地部(天端)にうき(スプレー処置済)。将来的に利用者に影響が及ぶ可能性があるため、重点的な監視及び計画的な対策を必要とする。(前回107-1) | M26: メモ | P26: 横断目地部(側壁右側)にうき。現状で利用者被害の可能性は低いため、監視にとどめる。(前回107-2)
C27: ※ 応急措置後の対策区分の判定区分Ⅱb～Ⅳについて添付すること。また、点検前に 実施された措置によりⅠと判定された箇所も添付すること。 | N27: ※ 変状の発生範囲の規模とは、対策を行う際に参考となる変状の長さや面積をいう。
N28: ※ 応急措置を実施しないで判定した変状の判定区分は、判定区分の応急措置後の欄に記入すること。
C29: ※ たたき落としを実施した場合は、実施後の写真を添付すること。 | N29: ※ 変状の発生範囲の規模は、面積・寸法を記載すること。(ひび割れ幅のみmmとし、その他をm表記とする)
C30: ※ 附属物の取付状態に関する異常写真は別途、任意の書式でとりまとめること。 | N30: ※ 構造用鋼材以外の異物に伴ううき・はく離については、メモ欄に異物の概要を記入すること。

Sheet 様式D-1-1_017
B2: ■定期点検記録様式 変状写真台帳【様式D-1-1】 | R2: 施設ID | T2: 34.32507,131.15851
B3: フリガナ | E3: (ﾀｲﾈｲｼﾞﾀﾞｲｲﾁﾄﾝﾈﾙ) | H3: 路 線 名 | J3: 国道491号（長門・俵山道路） | M3: 定期点検実施者 | P3: 株式会社荒谷建設コンサルタント | S3: 定期点検年月日 | U3: 45621
B4: 名 称 | E4: 大寧寺第1トンネル | H4: 管理者名 | J4: 山口県長門土木建築事務所 | P4: 河野 秀生
B5: 写真 番号 | C5: 覆工スパン 番号 | E5: S088 | M5: 写真 番号 | N5: 覆工スパン 番号 | P5: S088
C6: 変状番号 | E6: 1 | N6: 変状番号 | P6: 2
B7: 変状 部位 | C7: 対象箇所 | E7: 覆工 | M7: 変状 部位 | N7: 対象箇所 | P7: 覆工
C8: 部位区分 | E8: 横断目地（左側） | N8: 部位区分 | P8: 横断目地（右側）
B9: 変状種類 | E9: うき・はく離 | M9: 変状種類 | P9: うき・はく離
B10: 対策 区分 | C10: 変状区分 | E10: 材質劣化 | M10: 対策 区分 | N10: 変状区分 | P10: 材質劣化
C11: 応急措置前 | N11: 応急措置前
C12: 応急措置後 | E12: Ⅱb | N12: 応急措置後 | P12: Ⅱb
B13: 変状の発生範囲及び規模 | E13: 0.40m×0.10m | H13: 前回変状の発生範囲及び規模 | J13: 今回新規変状 | M13: 変状の発生範囲及び規模 | P13: 0.60m×0.15m | S13: 前回変状の発生範囲及び規模 | U13: 今回新規変状
B14: 対策履歴 | H14: 実施状況（実施日） | M14: 対策履歴 | S14: 実施状況（実施日）
B15: メモ | E15: 横断目地部(アーチ左側)に異音。新規変状。現状で利用者被害の可能性は低いため、監視にとどめる。 | M15: メモ | P15: 横断目地部(アーチ右側)に異音。新規変状。現状で利用者被害の可能性は低いため、監視にとどめる。
B16: 写真 番号 | C16: 覆工スパン 番号 | E16: S090 | M16: 写真 番号 | N16: 覆工スパン 番号 | P16: S091
C17: 変状番号 | E17: 1 | N17: 変状番号 | P17: 1
B18: 変状 部位 | C18: 対象箇所 | E18: 覆工 | M18: 変状 部位 | N18: 対象箇所 | P18: 覆工
C19: 部位区分 | E19: 横断目地（右側） | N19: 部位区分 | P19: 横断目地（天端）
B20: 変状種類 | E20: うき・はく離 | M20: 変状種類 | P20: うき・はく離
B21: 対策 区分 | C21: 変状区分 | E21: 材質劣化 | M21: 対策 区分 | N21: 変状区分 | P21: 材質劣化
C22: 応急措置前 | N22: 応急措置前
C23: 応急措置後 | E23: Ⅱa | N23: 応急措置後 | P23: Ⅱb
B24: 変状の発生範囲及び規模 | E24: 0.20m×0.05m | H24: 前回変状の発生範囲及び規模 | J24: 0.20m×0.05m (Ⅱa判定) | M24: 変状の発生範囲及び規模 | P24: 0.60m×0.05m | S24: 前回変状の発生範囲及び規模 | U24: 0.60m×0.05m (Ⅱb判定)
B25: 対策履歴 | H25: 実施状況（実施日） | M25: 対策履歴 | S25: 実施状況（実施日）
B26: メモ | E26: 横断目地部(アーチ右側)にうき(スプレー処置済)。将来的に利用者に影響が及ぶ可能性があるため、重点的な監視及び計画的な対策を必要とする。(前回105-1) | M26: メモ | P26: 横断目地部(天端)に豆板(スプレー処置済)。現状で利用者被害の可能性は低いため、監視にとどめる。(前回103-1)
C27: ※ 応急措置後の対策区分の判定区分Ⅱb～Ⅳについて添付すること。また、点検前に 実施された措置によりⅠと判定された箇所も添付すること。 | N27: ※ 変状の発生範囲の規模とは、対策を行う際に参考となる変状の長さや面積をいう。
N28: ※ 応急措置を実施しないで判定した変状の判定区分は、判定区分の応急措置後の欄に記入すること。
C29: ※ たたき落としを実施した場合は、実施後の写真を添付すること。 | N29: ※ 変状の発生範囲の規模は、面積・寸法を記載すること。(ひび割れ幅のみmmとし、その他をm表記とする)
C30: ※ 附属物の取付状態に関する異常写真は別途、任意の書式でとりまとめること。 | N30: ※ 構造用鋼材以外の異物に伴ううき・はく離については、メモ欄に異物の概要を記入すること。

Sheet 様式D-1-1_018
B2: ■定期点検記録様式 変状写真台帳【様式D-1-1】 | R2: 施設ID | T2: 34.32507,131.15851
B3: フリガナ | E3: (ﾀｲﾈｲｼﾞﾀﾞｲｲﾁﾄﾝﾈﾙ) | H3: 路 線 名 | J3: 国道491号（長門・俵山道路） | M3: 定期点検実施者 | P3: 株式会社荒谷建設コンサルタント | S3: 定期点検年月日 | U3: 45621
B4: 名 称 | E4: 大寧寺第1トンネル | H4: 管理者名 | J4: 山口県長門土木建築事務所 | P4: 河野 秀生
B5: 写真 番号 | C5: 覆工スパン 番号 | E5: S092 | M5: 写真 番号 | N5: 覆工スパン 番号 | P5: S093
C6: 変状番号 | E6: 1 | N6: 変状番号 | P6: 1
B7: 変状 部位 | C7: 対象箇所 | E7: 覆工 | M7: 変状 部位 | N7: 対象箇所 | P7: 覆工
C8: 部位区分 | E8: 横断目地（天端） | N8: 部位区分 | P8: アーチ（右側）
B9: 変状種類 | E9: うき・はく離 | M9: 変状種類 | P9: 鋼材腐食
B10: 対策 区分 | C10: 変状区分 | E10: 材質劣化 | M10: 対策 区分 | N10: 変状区分 | P10: 材質劣化
C11: 応急措置前 | E11: Ⅲ | N11: 応急措置前
C12: 応急措置後 | E12: Ⅰ | N12: 応急措置後 | P12: Ⅱb
B13: 変状の発生範囲及び規模 | E13: 0.30m×0.05m | H13: 前回変状の発生範囲及び規模 | J13: 今回新規変状 | M13: 変状の発生範囲及び規模 | P13: 0.05m×0.05m | S13: 前回変状の発生範囲及び規模 | U13: 0.05m×0.05m (Ⅱa判定)
B14: 対策履歴 | E14: はく落防止対策工(叩落し)を実施 | H14: 実施状況（実施日） | J14: 45621 | M14: 対策履歴 | S14: 実施状況（実施日）
B15: メモ | E15: 横断目地部(天端)にはく落（叩落し・スプレー処置済）。新規変状。前回点検時に確認されたうきを叩き落した事により状態は改善され、現状で利用者被害がないと判断しⅠ判定とした。 | M15: メモ | P15: アーチ部(右側)に鋼材腐食(スプレー処置済)。現状で利用者被害の可能性は低いため、監視にとどめる。(前回102-1)
B16: 写真 番号 | C16: 覆工スパン 番号 | E16: S097 | M16: 写真 番号 | N16: 覆工スパン 番号 | P16: S098
C17: 変状番号 | E17: 1 | N17: 変状番号 | P17: 1
B18: 変状 部位 | C18: 対象箇所 | E18: 覆工 | M18: 変状 部位 | N18: 対象箇所 | P18: 覆工
C19: 部位区分 | E19: アーチ（右側） | N19: 部位区分 | P19: 横断目地（天端）
B20: 変状種類 | E20: 鋼材腐食 | M20: 変状種類 | P20: うき・はく離
B21: 対策 区分 | C21: 変状区分 | E21: 材質劣化 | M21: 対策 区分 | N21: 変状区分 | P21: 材質劣化
C22: 応急措置前 | N22: 応急措置前
C23: 応急措置後 | E23: Ⅱb | N23: 応急措置後 | P23: Ⅱa
B24: 変状の発生範囲及び規模 | E24: 0.05m×0.05m | H24: 前回変状の発生範囲及び規模 | J24: 0.05m×0.05m (Ⅱa判定) | M24: 変状の発生範囲及び規模 | P24: 0.40m×0.10m | S24: 前回変状の発生範囲及び規模 | U24: 0.40m×0.10m (Ⅱa判定)
B25: 対策履歴 | H25: 実施状況（実施日） | M25: 対策履歴 | S25: 実施状況（実施日）
B26: メモ | E26: アーチ部(右側)に鋼材腐食(スプレー処置済)。現状で利用者被害の可能性は低いため、監視にとどめる。(前回98-1) | M26: メモ | P26: 横断目地部(天端)にうき(スプレー処置済)。将来的に利用者に影響が及ぶ可能性があるため、重点的な監視及び計画的な対策を必要とする。(前回96-1)
C27: ※ 応急措置後の対策区分の判定区分Ⅱb～Ⅳについて添付すること。また、点検前に 実施された措置によりⅠと判定された箇所も添付すること。 | N27: ※ 変状の発生範囲の規模とは、対策を行う際に参考となる変状の長さや面積をいう。
N28: ※ 応急措置を実施しないで判定した変状の判定区分は、判定区分の応急措置後の欄に記入すること。
C29: ※ たたき落としを実施した場合は、実施後の写真を添付すること。 | N29: ※ 変状の発生範囲の規模は、面積・寸法を記載すること。(ひび割れ幅のみmmとし、その他をm表記とする)
C30: ※ 附属物の取付状態に関する異常写真は別途、任意の書式でとりまとめること。 | N30: ※ 構造用鋼材以外の異物に伴ううき・はく離については、メモ欄に異物の概要を記入すること。

Sheet 様式D-1-1_019
B2: ■定期点検記録様式 変状写真台帳【様式D-1-1】 | R2: 施設ID | T2: 34.32507,131.15851
B3: フリガナ | E3: (ﾀｲﾈｲｼﾞﾀﾞｲｲﾁﾄﾝﾈﾙ) | H3: 路 線 名 | J3: 国道491号（長門・俵山道路） | M3: 定期点検実施者 | P3: 株式会社荒谷建設コンサルタント | S3: 定期点検年月日 | U3: 45621
B4: 名 称 | E4: 大寧寺第1トンネル | H4: 管理者名 | J4: 山口県長門土木建築事務所 | P4: 河野 秀生
B5: 写真 番号 | C5: 覆工スパン 番号 | E5: S100 | M5: 写真 番号 | N5: 覆工スパン 番号 | P5: S116
C6: 変状番号 | E6: 1 | N6: 変状番号 | P6: 1
B7: 変状 部位 | C7: 対象箇所 | E7: 覆工 | M7: 変状 部位 | N7: 対象箇所 | P7: 覆工
C8: 部位区分 | E8: アーチ（天端） | N8: 部位区分 | P8: 横断目地（天端）
B9: 変状種類 | E9: うき・はく離 | M9: 変状種類 | P9: うき・はく離
B10: 対策 区分 | C10: 変状区分 | E10: 材質劣化 | M10: 対策 区分 | N10: 変状区分 | P10: 材質劣化
C11: 応急措置前 | N11: 応急措置前
C12: 応急措置後 | E12: Ⅱb | N12: 応急措置後 | P12: Ⅱb
B13: 変状の発生範囲及び規模 | E13: 0.10m×0.10m | H13: 前回変状の発生範囲及び規模 | J13: 0.10m×0.05m (Ⅱb判定) | M13: 変状の発生範囲及び規模 | P13: 0.70m×0.05m | S13: 前回変状の発生範囲及び規模 | U13: 0.70m×0.05m (Ⅱb判定)
B14: 対策履歴 | H14: 実施状況（実施日） | M14: 対策履歴 | S14: 実施状況（実施日）
B15: メモ | E15: アーチ部(天端)に豆板(スプレー処置済)。現状で利用者被害の可能性は低いため、監視にとどめる。(前回95-1) | M15: メモ | P15: 横断目地部(天端)に豆板(スプレー処置済)。現状で利用者被害の可能性は低いため、監視にとどめる。(前回79-1)
B16: 写真 番号 | C16: 覆工スパン 番号 | E16: S123 | M16: 写真 番号 | N16: 覆工スパン 番号 | P16: S123
C17: 変状番号 | E17: 1 | N17: 変状番号 | P17: 2
B18: 変状 部位 | C18: 対象箇所 | E18: 覆工 | M18: 変状 部位 | N18: 対象箇所 | P18: 覆工
C19: 部位区分 | E19: 横断目地（左側） | N19: 部位区分 | P19: 横断目地（右側）
B20: 変状種類 | E20: うき・はく離 | M20: 変状種類 | P20: うき・はく離
B21: 対策 区分 | C21: 変状区分 | E21: 材質劣化 | M21: 対策 区分 | N21: 変状区分 | P21: 材質劣化
C22: 応急措置前 | N22: 応急措置前
C23: 応急措置後 | E23: Ⅱa | N23: 応急措置後 | P23: Ⅰ
B24: 変状の発生範囲及び規模 | E24: 0.90m×0.05m | H24: 前回変状の発生範囲及び規模 | J24: 0.90m×0.05m (Ⅱa判定) | M24: 変状の発生範囲及び規模 | P24: 0.60m×0.05m | S24: 前回変状の発生範囲及び規模 | U24: 0.60m×0.05m (Ⅱb判定)
B25: 対策履歴 | H25: 実施状況（実施日） | M25: 対策履歴 | S25: 実施状況（実施日）
B26: メモ | E26: 横断目地部(アーチ左側)にうき。将来的に利用者に影響が及ぶ可能性があるため、重点的な監視及び計画的な対策を必要とする。(前回72-3) | M26: メモ | P26: 横断目地部(アーチ右側)にはく落。前回確認されていたうきの範囲がはく落していた（打音異常無し）。現状で利用者被害がないと判断しⅠ判定とした。(前回72-1)
C27: ※ 応急措置後の対策区分の判定区分Ⅱb～Ⅳについて添付すること。また、点検前に 実施された措置によりⅠと判定された箇所も添付すること。 | N27: ※ 変状の発生範囲の規模とは、対策を行う際に参考となる変状の長さや面積をいう。
N28: ※ 応急措置を実施しないで判定した変状の判定区分は、判定区分の応急措置後の欄に記入すること。
C29: ※ たたき落としを実施した場合は、実施後の写真を添付すること。 | N29: ※ 変状の発生範囲の規模は、面積・寸法を記載すること。(ひび割れ幅のみmmとし、その他をm表記とする)
C30: ※ 附属物の取付状態に関する異常写真は別途、任意の書式でとりまとめること。 | N30: ※ 構造用鋼材以外の異物に伴ううき・はく離については、メモ欄に異物の概要を記入すること。

Sheet 様式D-1-1_020
B2: ■定期点検記録様式 変状写真台帳【様式D-1-1】 | R2: 施設ID | T2: 34.32507,131.15851
B3: フリガナ | E3: (ﾀｲﾈｲｼﾞﾀﾞｲｲﾁﾄﾝﾈﾙ) | H3: 路 線 名 | J3: 国道491号（長門・俵山道路） | M3: 定期点検実施者 | P3: 株式会社荒谷建設コンサルタント | S3: 定期点検年月日 | U3: 45621
B4: 名 称 | E4: 大寧寺第1トンネル | H4: 管理者名 | J4: 山口県長門土木建築事務所 | P4: 河野 秀生
B5: 写真 番号 | C5: 覆工スパン 番号 | E5: S126 | M5: 写真 番号 | N5: 覆工スパン 番号 | P5: S130
C6: 変状番号 | E6: 1 | N6: 変状番号 | P6: 1
B7: 変状 部位 | C7: 対象箇所 | E7: 覆工 | M7: 変状 部位 | N7: 対象箇所 | P7: 覆工
C8: 部位区分 | E8: 横断目地（右側） | N8: 部位区分 | P8: 面壁・妻壁等
B9: 変状種類 | E9: うき・はく離 | M9: 変状種類 | P9: うき・はく離
B10: 対策 区分 | C10: 変状区分 | E10: 材質劣化 | M10: 対策 区分 | N10: 変状区分 | P10: 材質劣化
C11: 応急措置前 | N11: 応急措置前
C12: 応急措置後 | E12: Ⅱb | N12: 応急措置後 | P12: Ⅱb
B13: 変状の発生範囲及び規模 | E13: 0.60m×0.05m | H13: 前回変状の発生範囲及び規模 | J13: 1.10m×0.05m (Ⅰ判定) | M13: 変状の発生範囲及び規模 | P13: 0.50m×0.05m | S13: 前回変状の発生範囲及び規模 | U13: 0.50m×0.05m (Ⅱb判定)
B14: 対策履歴 | H14: 実施状況（実施日） | M14: 対策履歴 | S14: 実施状況（実施日）
B15: メモ | E15: 横断目地部(側壁右側)の前回点検時叩き落とされた箇所にうき。現状で利用者被害の可能性は低いため、監視にとどめる。(前回69-1) | M15: メモ | P15: 妻壁部に豆板(スプレー処置済)。現状で利用者被害の可能性は低いため、監視にとどめる。(前回65-1)
B16: 写真 番号 | C16: 覆工スパン 番号 | E16: S130 | M16: 写真 番号 | N16: 覆工スパン 番号 | P16: S131
C17: 変状番号 | E17: 2 | N17: 変状番号 | P17: 1
B18: 変状 部位 | C18: 対象箇所 | E18: 覆工 | M18: 変状 部位 | N18: 対象箇所 | P18: 覆工
C19: 部位区分 | E19: 横断目地（右側） | N19: 部位区分 | P19: 横断目地（左側）
B20: 変状種類 | E20: その他 | M20: 変状種類 | P20: うき・はく離
B21: 対策 区分 | C21: 変状区分 | E21: 材質劣化 | M21: 対策 区分 | N21: 変状区分 | P21: 材質劣化
C22: 応急措置前 | N22: 応急措置前
C23: 応急措置後 | E23: Ⅱb | N23: 応急措置後 | P23: Ⅱa
B24: 変状の発生範囲及び規模 | E24: 2.50m×0.40m | H24: 前回変状の発生範囲及び規模 | J24: 今回新規変状 | M24: 変状の発生範囲及び規模 | P24: 0.3m×0.05m | S24: 前回変状の発生範囲及び規模 | U24: 0.3m×0.05m (Ⅱa判定)
B25: 対策履歴 | H25: 実施状況（実施日） | M25: 対策履歴 | S25: 実施状況（実施日）
B26: メモ | E26: 横断目地部(アーチ右側)の繊維シートに塗装剥がれ。新規変状。現状で利用者被害の可能性は低いため、監視にとどめる。 | M26: メモ | P26: 横断目地部(アーチ左側)にうき(スプレー処置済)。将来的に利用者に影響が及ぶ可能性があるため、重点的な監視及び計画的な対策を必要とする。(前回63-1)
C27: ※ 応急措置後の対策区分の判定区分Ⅱb～Ⅳについて添付すること。また、点検前に 実施された措置によりⅠと判定された箇所も添付すること。 | N27: ※ 変状の発生範囲の規模とは、対策を行う際に参考となる変状の長さや面積をいう。
N28: ※ 応急措置を実施しないで判定した変状の判定区分は、判定区分の応急措置後の欄に記入すること。
C29: ※ たたき落としを実施した場合は、実施後の写真を添付すること。 | N29: ※ 変状の発生範囲の規模は、面積・寸法を記載すること。(ひび割れ幅のみmmとし、その他をm表記とする)
C30: ※ 附属物の取付状態に関する異常写真は別途、任意の書式でとりまとめること。 | N30: ※ 構造用鋼材以外の異物に伴ううき・はく離については、メモ欄に異物の概要を記入すること。

Sheet 様式D-1-1_021
B2: ■定期点検記録様式 変状写真台帳【様式D-1-1】 | R2: 施設ID | T2: 34.32507,131.15851
B3: フリガナ | E3: (ﾀｲﾈｲｼﾞﾀﾞｲｲﾁﾄﾝﾈﾙ) | H3: 路 線 名 | J3: 国道491号（長門・俵山道路） | M3: 定期点検実施者 | P3: 株式会社荒谷建設コンサルタント | S3: 定期点検年月日 | U3: 45621
B4: 名 称 | E4: 大寧寺第1トンネル | H4: 管理者名 | J4: 山口県長門土木建築事務所 | P4: 河野 秀生
B5: 写真 番号 | C5: 覆工スパン 番号 | E5: S134 | M5: 写真 番号 | N5: 覆工スパン 番号 | P5: S136
C6: 変状番号 | E6: 1 | N6: 変状番号 | P6: 1
B7: 変状 部位 | C7: 対象箇所 | E7: 覆工 | M7: 変状 部位 | N7: 対象箇所 | P7: 覆工
C8: 部位区分 | E8: アーチ（左側） | N8: 部位区分 | P8: 横断目地（右側）
B9: 変状種類 | E9: 鋼材腐食 | M9: 変状種類 | P9: うき・はく離
B10: 対策 区分 | C10: 変状区分 | E10: 材質劣化 | M10: 対策 区分 | N10: 変状区分 | P10: 材質劣化
C11: 応急措置前 | N11: 応急措置前
C12: 応急措置後 | E12: Ⅱb | N12: 応急措置後 | P12: Ⅱa
B13: 変状の発生範囲及び規模 | E13: 0.05m×0.05m | H13: 前回変状の発生範囲及び規模 | J13: 0.05m×0.05m (Ⅱa判定) | M13: 変状の発生範囲及び規模 | P13: 0.20m×0.05m | S13: 前回変状の発生範囲及び規模 | U13: 今回新規変状
B14: 対策履歴 | H14: 実施状況（実施日） | M14: 対策履歴 | S14: 実施状況（実施日）
B15: メモ | E15: アーチ部(左側)に鋼材腐食(スプレー処置済)。現状で利用者被害の可能性は低いため、監視にとどめる。(前回61-7) | M15: メモ | P15: 横断目地部(アーチ右側)にうき。新規変状。将来的に利用者に影響が及ぶ可能性があるため、重点的な監視及び計画的な対策を必要とする。
B16: 写真 番号 | C16: 覆工スパン 番号 | E16: S137 | M16: 写真 番号 | N16: 覆工スパン 番号 | P16: S137
C17: 変状番号 | E17: 1 | N17: 変状番号 | P17: 2
B18: 変状 部位 | C18: 対象箇所 | E18: 覆工 | M18: 変状 部位 | N18: 対象箇所 | P18: 覆工
C19: 部位区分 | E19: アーチ（天端） | N19: 部位区分 | P19: アーチ（天端）
B20: 変状種類 | E20: うき・はく離 | M20: 変状種類 | P20: うき・はく離
B21: 対策 区分 | C21: 変状区分 | E21: 材質劣化 | M21: 対策 区分 | N21: 変状区分 | P21: 材質劣化
C22: 応急措置前 | N22: 応急措置前
C23: 応急措置後 | E23: Ⅲ | N23: 応急措置後 | P23: Ⅱa
B24: 変状の発生範囲及び規模 | E24: 0.05m×0.15m | H24: 前回変状の発生範囲及び規模 | J24: 今回新規変状 | M24: 変状の発生範囲及び規模 | P24: 0.20m×0.75m | S24: 前回変状の発生範囲及び規模 | U24: 今回新規変状
B25: 対策履歴 | H25: 実施状況（実施日） | M25: 対策履歴 | S25: 実施状況（実施日）
B26: メモ | E26: アーチ部(天端)にひび割れ沿いに閉合しかけのひび割れを伴ううき(スプレー処置済)。新規変状。早晩、利用者に影響が及ぶ可能性が高いため、早期に措置を講ずる必要がある。 | M26: メモ | P26: アーチ部(天端)にうき(スプレー処置済)。新規変状。将来的に利用者に影響が及ぶ可能性があるため、重点的な監視及び計画的な対策を必要とする。
C27: ※ 応急措置後の対策区分の判定区分Ⅱb～Ⅳについて添付すること。また、点検前に 実施された措置によりⅠと判定された箇所も添付すること。 | N27: ※ 変状の発生範囲の規模とは、対策を行う際に参考となる変状の長さや面積をいう。
N28: ※ 応急措置を実施しないで判定した変状の判定区分は、判定区分の応急措置後の欄に記入すること。
C29: ※ たたき落としを実施した場合は、実施後の写真を添付すること。 | N29: ※ 変状の発生範囲の規模は、面積・寸法を記載すること。(ひび割れ幅のみmmとし、その他をm表記とする)
C30: ※ 附属物の取付状態に関する異常写真は別途、任意の書式でとりまとめること。 | N30: ※ 構造用鋼材以外の異物に伴ううき・はく離については、メモ欄に異物の概要を記入すること。

Sheet 様式D-1-1_022
B2: ■定期点検記録様式 変状写真台帳【様式D-1-1】 | R2: 施設ID | T2: 34.32507,131.15851
B3: フリガナ | E3: (ﾀｲﾈｲｼﾞﾀﾞｲｲﾁﾄﾝﾈﾙ) | H3: 路 線 名 | J3: 国道491号（長門・俵山道路） | M3: 定期点検実施者 | P3: 株式会社荒谷建設コンサルタント | S3: 定期点検年月日 | U3: 45621
B4: 名 称 | E4: 大寧寺第1トンネル | H4: 管理者名 | J4: 山口県長門土木建築事務所 | P4: 河野 秀生
B5: 写真 番号 | C5: 覆工スパン 番号 | E5: S138 | M5: 写真 番号 | N5: 覆工スパン 番号 | P5: S140
C6: 変状番号 | E6: 1 | N6: 変状番号 | P6: 1
B7: 変状 部位 | C7: 対象箇所 | E7: 覆工 | M7: 変状 部位 | N7: 対象箇所 | P7: 覆工
C8: 部位区分 | E8: 横断目地（左側） | N8: 部位区分 | P8: アーチ（右側）
B9: 変状種類 | E9: うき・はく離 | M9: 変状種類 | P9: 鋼材腐食
B10: 対策 区分 | C10: 変状区分 | E10: 材質劣化 | M10: 対策 区分 | N10: 変状区分 | P10: 材質劣化
C11: 応急措置前 | N11: 応急措置前
C12: 応急措置後 | E12: Ⅱa | N12: 応急措置後 | P12: Ⅱb
B13: 変状の発生範囲及び規模 | E13: 0.25m×0.05m | H13: 前回変状の発生範囲及び規模 | J13: 0.25m×0.05m (Ⅱb判定) | M13: 変状の発生範囲及び規模 | P13: 0.05m×0.05m | S13: 前回変状の発生範囲及び規模 | U13: 0.05m×0.05m (Ⅱa判定)
B14: 対策履歴 | H14: 実施状況（実施日） | M14: 対策履歴 | S14: 実施状況（実施日）
B15: メモ | E15: 横断目地部(アーチ左側)にうき。将来的に利用者に影響が及ぶ可能性があるため、重点的な監視及び計画的な対策を必要とする。(前回57-1) | M15: メモ | P15: アーチ部(右側)に鋼材腐食(スプレー処置済)。現状で利用者被害の可能性は低いため、監視にとどめる。(前回55-1)
B16: 写真 番号 | C16: 覆工スパン 番号 | E16: S145 | M16: 写真 番号 | N16: 覆工スパン 番号 | P16: S146
C17: 変状番号 | E17: 1 | N17: 変状番号 | P17: 1
B18: 変状 部位 | C18: 対象箇所 | E18: 覆工 | M18: 変状 部位 | N18: 対象箇所 | P18: 覆工
C19: 部位区分 | E19: アーチ（左側） | N19: 部位区分 | P19: アーチ（右側）
B20: 変状種類 | E20: 鋼材腐食 | M20: 変状種類 | P20: 鋼材腐食
B21: 対策 区分 | C21: 変状区分 | E21: 材質劣化 | M21: 対策 区分 | N21: 変状区分 | P21: 材質劣化
C22: 応急措置前 | N22: 応急措置前
C23: 応急措置後 | E23: Ⅱb | N23: 応急措置後 | P23: Ⅱb
B24: 変状の発生範囲及び規模 | E24: 0.05m×0.05m | H24: 前回変状の発生範囲及び規模 | J24: 今回新規変状 | M24: 変状の発生範囲及び規模 | P24: 0.05m×0.05m | S24: 前回変状の発生範囲及び規模 | U24: 0.05m×0.05m (Ⅱa判定)
B25: 対策履歴 | H25: 実施状況（実施日） | M25: 対策履歴 | S25: 実施状況（実施日）
B26: メモ | E26: アーチ部(左側)に鋼材腐食(スプレー処置済)。新規変状。現状で利用者被害の可能性は低いため、監視にとどめる。 | M26: メモ | P26: アーチ部(右側)に鋼材腐食(スプレー処置済)。現状で利用者被害の可能性は低いため、監視にとどめる。(前回49-1)
C27: ※ 応急措置後の対策区分の判定区分Ⅱb～Ⅳについて添付すること。また、点検前に 実施された措置によりⅠと判定された箇所も添付すること。 | N27: ※ 変状の発生範囲の規模とは、対策を行う際に参考となる変状の長さや面積をいう。
N28: ※ 応急措置を実施しないで判定した変状の判定区分は、判定区分の応急措置後の欄に記入すること。
C29: ※ たたき落としを実施した場合は、実施後の写真を添付すること。 | N29: ※ 変状の発生範囲の規模は、面積・寸法を記載すること。(ひび割れ幅のみmmとし、その他をm表記とする)
C30: ※ 附属物の取付状態に関する異常写真は別途、任意の書式でとりまとめること。 | N30: ※ 構造用鋼材以外の異物に伴ううき・はく離については、メモ欄に異物の概要を記入すること。

Sheet 様式D-1-1_023
B2: ■定期点検記録様式 変状写真台帳【様式D-1-1】 | R2: 施設ID | T2: 34.32507,131.15851
B3: フリガナ | E3: (ﾀｲﾈｲｼﾞﾀﾞｲｲﾁﾄﾝﾈﾙ) | H3: 路 線 名 | J3: 国道491号（長門・俵山道路） | M3: 定期点検実施者 | P3: 株式会社荒谷建設コンサルタント | S3: 定期点検年月日 | U3: 45621
B4: 名 称 | E4: 大寧寺第1トンネル | H4: 管理者名 | J4: 山口県長門土木建築事務所 | P4: 河野 秀生
B5: 写真 番号 | C5: 覆工スパン 番号 | E5: S150 | M5: 写真 番号 | N5: 覆工スパン 番号 | P5: S150
C6: 変状番号 | E6: 1 | N6: 変状番号 | P6: 2
B7: 変状 部位 | C7: 対象箇所 | E7: 覆工 | M7: 変状 部位 | N7: 対象箇所 | P7: 覆工
C8: 部位区分 | E8: 横断目地（左側） | N8: 部位区分 | P8: アーチ（右側）
B9: 変状種類 | E9: うき・はく離 | M9: 変状種類 | P9: 鋼材腐食
B10: 対策 区分 | C10: 変状区分 | E10: 材質劣化 | M10: 対策 区分 | N10: 変状区分 | P10: 材質劣化
C11: 応急措置前 | N11: 応急措置前
C12: 応急措置後 | E12: Ⅲ | N12: 応急措置後 | P12: Ⅱb
B13: 変状の発生範囲及び規模 | E13: 0.30m×0.10m | H13: 前回変状の発生範囲及び規模 | J13: 0.25m×0.10m (Ⅱa判定) | M13: 変状の発生範囲及び規模 | P13: 0.05m×0.05m | S13: 前回変状の発生範囲及び規模 | U13: 0.05m×0.05m (Ⅱa判定)
B14: 対策履歴 | H14: 実施状況（実施日） | M14: 対策履歴 | S14: 実施状況（実施日）
B15: メモ | E15: 横断目地部(アーチ左側)に閉合しかけのひび割れを伴ううき(スプレー処置済)。早晩、利用者に影響が及ぶ可能性が高いため、早期に措置を講ずる必要がある。 (前回44-1) | M15: メモ | P15: アーチ部(右側)に鋼材腐食(スプレー処置済)。現状で利用者被害の可能性は低いため、監視にとどめる。(前回45-1)
B16: 写真 番号 | C16: 覆工スパン 番号 | E16: S150 | M16: 写真 番号 | N16: 覆工スパン 番号 | P16: S156
C17: 変状番号 | E17: 3 | N17: 変状番号 | P17: 1
B18: 変状 部位 | C18: 対象箇所 | E18: 覆工 | M18: 変状 部位 | N18: 対象箇所 | P18: 覆工
C19: 部位区分 | E19: アーチ（右側） | N19: 部位区分 | P19: アーチ（左側）
B20: 変状種類 | E20: 鋼材腐食 | M20: 変状種類 | P20: 鋼材腐食
B21: 対策 区分 | C21: 変状区分 | E21: 材質劣化 | M21: 対策 区分 | N21: 変状区分 | P21: 材質劣化
C22: 応急措置前 | N22: 応急措置前
C23: 応急措置後 | E23: Ⅱb | N23: 応急措置後 | P23: Ⅱb
B24: 変状の発生範囲及び規模 | E24: 0.15m×0.15m | H24: 前回変状の発生範囲及び規模 | J24: 今回新規変状 | M24: 変状の発生範囲及び規模 | P24: 0.05m×0.05m | S24: 前回変状の発生範囲及び規模 | U24: 0.05m×0.05m (Ⅱa判定)
B25: 対策履歴 | H25: 実施状況（実施日） | M25: 対策履歴 | S25: 実施状況（実施日）
B26: メモ | E26: アーチ部(右側)に鋼材腐食(スプレー処置済)。新規変状。現状で利用者被害の可能性は低いため、監視にとどめる。 | M26: メモ | P26: アーチ部(左側)に鋼材腐食(スプレー処置済)。現状で利用者被害の可能性は低いため、監視にとどめる。(前回39-2)
C27: ※ 応急措置後の対策区分の判定区分Ⅱb～Ⅳについて添付すること。また、点検前に 実施された措置によりⅠと判定された箇所も添付すること。 | N27: ※ 変状の発生範囲の規模とは、対策を行う際に参考となる変状の長さや面積をいう。
N28: ※ 応急措置を実施しないで判定した変状の判定区分は、判定区分の応急措置後の欄に記入すること。
C29: ※ たたき落としを実施した場合は、実施後の写真を添付すること。 | N29: ※ 変状の発生範囲の規模は、面積・寸法を記載すること。(ひび割れ幅のみmmとし、その他をm表記とする)
C30: ※ 附属物の取付状態に関する異常写真は別途、任意の書式でとりまとめること。 | N30: ※ 構造用鋼材以外の異物に伴ううき・はく離については、メモ欄に異物の概要を記入すること。

Sheet 様式D-1-1_024
B2: ■定期点検記録様式 変状写真台帳【様式D-1-1】 | R2: 施設ID | T2: 34.32507,131.15851
B3: フリガナ | E3: (ﾀｲﾈｲｼﾞﾀﾞｲｲﾁﾄﾝﾈﾙ) | H3: 路 線 名 | J3: 国道491号（長門・俵山道路） | M3: 定期点検実施者 | P3: 株式会社荒谷建設コンサルタント | S3: 定期点検年月日 | U3: 45621
B4: 名 称 | E4: 大寧寺第1トンネル | H4: 管理者名 | J4: 山口県長門土木建築事務所 | P4: 河野 秀生
B5: 写真 番号 | C5: 覆工スパン 番号 | E5: S156 | M5: 写真 番号 | N5: 覆工スパン 番号 | P5: S157
C6: 変状番号 | E6: 2 | N6: 変状番号 | P6: 1
B7: 変状 部位 | C7: 対象箇所 | E7: 覆工 | M7: 変状 部位 | N7: 対象箇所 | P7: 覆工
C8: 部位区分 | E8: アーチ（右側） | N8: 部位区分 | P8: アーチ（右側）
B9: 変状種類 | E9: 鋼材腐食 | M9: 変状種類 | P9: 鋼材腐食
B10: 対策 区分 | C10: 変状区分 | E10: 材質劣化 | M10: 対策 区分 | N10: 変状区分 | P10: 材質劣化
C11: 応急措置前 | N11: 応急措置前
C12: 応急措置後 | E12: Ⅱb | N12: 応急措置後 | P12: Ⅱb
B13: 変状の発生範囲及び規模 | E13: 0.05m×0.05m | H13: 前回変状の発生範囲及び規模 | J13: 0.05m×0.05m (Ⅱa判定) | M13: 変状の発生範囲及び規模 | P13: 0.05m×0.05m | S13: 前回変状の発生範囲及び規模 | U13: 0.05m×0.05m (Ⅱa判定)
B14: 対策履歴 | H14: 実施状況（実施日） | M14: 対策履歴 | S14: 実施状況（実施日）
B15: メモ | E15: アーチ部(右側)に鋼材腐食(スプレー処置済)。現状で利用者被害の可能性は低いため、監視にとどめる。(前回39-1) | M15: メモ | P15: アーチ部(右側)に鋼材腐食(スプレー処置済)。現状で利用者被害の可能性は低いため、監視にとどめる。(前回38-1)
B16: 写真 番号 | C16: 覆工スパン 番号 | E16: S159 | M16: 写真 番号 | N16: 覆工スパン 番号 | P16: S161
C17: 変状番号 | E17: 1 | N17: 変状番号 | P17: 1
B18: 変状 部位 | C18: 対象箇所 | E18: 覆工 | M18: 変状 部位 | N18: 対象箇所 | P18: 覆工
C19: 部位区分 | E19: 横断目地（左側） | N19: 部位区分 | P19: アーチ（右側）
B20: 変状種類 | E20: うき・はく離 | M20: 変状種類 | P20: 鋼材腐食
B21: 対策 区分 | C21: 変状区分 | E21: 材質劣化 | M21: 対策 区分 | N21: 変状区分 | P21: 材質劣化
C22: 応急措置前 | N22: 応急措置前
C23: 応急措置後 | E23: Ⅱa | N23: 応急措置後 | P23: Ⅱb
B24: 変状の発生範囲及び規模 | E24: 0.25m×0.10m | H24: 前回変状の発生範囲及び規模 | J24: 0.25m×0.10m (Ⅱa判定) | M24: 変状の発生範囲及び規模 | P24: 0.05m×0.05m | S24: 前回変状の発生範囲及び規模 | U24: 0.05m×0.05m (Ⅱa判定)
B25: 対策履歴 | H25: 実施状況（実施日） | M25: 対策履歴 | S25: 実施状況（実施日）
B26: メモ | E26: 横断目地部(アーチ左側)にうき(スプレー処置済)。将来的に利用者に影響が及ぶ可能性があるため、重点的な監視及び計画的な対策を必要とする。(前回35-1) | M26: メモ | P26: アーチ部(右側)に鋼材腐食(スプレー処置済)。現状で利用者被害の可能性は低いため、監視にとどめる。(前回34-2)
C27: ※ 応急措置後の対策区分の判定区分Ⅱb～Ⅳについて添付すること。また、点検前に 実施された措置によりⅠと判定された箇所も添付すること。 | N27: ※ 変状の発生範囲の規模とは、対策を行う際に参考となる変状の長さや面積をいう。
N28: ※ 応急措置を実施しないで判定した変状の判定区分は、判定区分の応急措置後の欄に記入すること。
C29: ※ たたき落としを実施した場合は、実施後の写真を添付すること。 | N29: ※ 変状の発生範囲の規模は、面積・寸法を記載すること。(ひび割れ幅のみmmとし、その他をm表記とする)
C30: ※ 附属物の取付状態に関する異常写真は別途、任意の書式でとりまとめること。 | N30: ※ 構造用鋼材以外の異物に伴ううき・はく離については、メモ欄に異物の概要を記入すること。

Sheet 様式D-1-1_025
B2: ■定期点検記録様式 変状写真台帳【様式D-1-1】 | R2: 施設ID | T2: 34.32507,131.15851
B3: フリガナ | E3: (ﾀｲﾈｲｼﾞﾀﾞｲｲﾁﾄﾝﾈﾙ) | H3: 路 線 名 | J3: 国道491号（長門・俵山道路） | M3: 定期点検実施者 | P3: 株式会社荒谷建設コンサルタント | S3: 定期点検年月日 | U3: 45621
B4: 名 称 | E4: 大寧寺第1トンネル | H4: 管理者名 | J4: 山口県長門土木建築事務所 | P4: 河野 秀生
B5: 写真 番号 | C5: 覆工スパン 番号 | E5: S161 | M5: 写真 番号 | N5: 覆工スパン 番号 | P5: S162
C6: 変状番号 | E6: 2 | N6: 変状番号 | P6: 1
B7: 変状 部位 | C7: 対象箇所 | E7: 覆工 | M7: 変状 部位 | N7: 対象箇所 | P7: 覆工
C8: 部位区分 | E8: アーチ（右側） | N8: 部位区分 | P8: アーチ（右側）
B9: 変状種類 | E9: 鋼材腐食 | M9: 変状種類 | P9: 鋼材腐食
B10: 対策 区分 | C10: 変状区分 | E10: 材質劣化 | M10: 対策 区分 | N10: 変状区分 | P10: 材質劣化
C11: 応急措置前 | N11: 応急措置前
C12: 応急措置後 | E12: Ⅱb | N12: 応急措置後 | P12: Ⅱb
B13: 変状の発生範囲及び規模 | E13: 0.05m×0.05m | H13: 前回変状の発生範囲及び規模 | J13: 0.05m×0.05m (Ⅱa判定) | M13: 変状の発生範囲及び規模 | P13: 0.05m×0.05m | S13: 前回変状の発生範囲及び規模 | U13: 0.05m×0.05m (Ⅰ判定)
B14: 対策履歴 | H14: 実施状況（実施日） | M14: 対策履歴 | S14: 実施状況（実施日）
B15: メモ | E15: アーチ部(右側)に鋼材腐食(スプレー処置済)。現状で利用者被害の可能性は低いため、監視にとどめる。(前回34-1) | M15: メモ | P15: アーチ部(右側)に鋼材腐食(スプレー処置済)。現状で利用者被害の可能性は低いため、監視にとどめる。(前回33-1)
B16: 写真 番号 | C16: 覆工スパン 番号 | E16: S163 | M16: 写真 番号 | N16: 覆工スパン 番号 | P16: S167
C17: 変状番号 | E17: 1 | N17: 変状番号 | P17: 1
B18: 変状 部位 | C18: 対象箇所 | E18: 覆工 | M18: 変状 部位 | N18: 対象箇所 | P18: 覆工
C19: 部位区分 | E19: アーチ（天端） | N19: 部位区分 | P19: アーチ（左側）
B20: 変状種類 | E20: うき・はく離 | M20: 変状種類 | P20: 鋼材腐食
B21: 対策 区分 | C21: 変状区分 | E21: 材質劣化 | M21: 対策 区分 | N21: 変状区分 | P21: 材質劣化
C22: 応急措置前 | N22: 応急措置前
C23: 応急措置後 | E23: Ⅱa | N23: 応急措置後 | P23: Ⅱb
B24: 変状の発生範囲及び規模 | E24: 0.05m×0.10m | H24: 前回変状の発生範囲及び規模 | J24: 今回新規変状 | M24: 変状の発生範囲及び規模 | P24: 0.05m×0.05m | S24: 前回変状の発生範囲及び規模 | U24: 0.05m×0.05m (Ⅱa判定)
B25: 対策履歴 | H25: 実施状況（実施日） | M25: 対策履歴 | S25: 実施状況（実施日）
B26: メモ | E26: アーチ部(天端)にひび割れ沿いのうき(スプレー処置済)。新規変状。将来的に利用者に影響が及ぶ可能性があるため、重点的な監視及び計画的な対策を必要とする。 | M26: メモ | P26: アーチ部(左側)に鋼材腐食(スプレー処置済)。現状で利用者被害の可能性は低いため、監視にとどめる。(前回28-2)
C27: ※ 応急措置後の対策区分の判定区分Ⅱb～Ⅳについて添付すること。また、点検前に 実施された措置によりⅠと判定された箇所も添付すること。 | N27: ※ 変状の発生範囲の規模とは、対策を行う際に参考となる変状の長さや面積をいう。
N28: ※ 応急措置を実施しないで判定した変状の判定区分は、判定区分の応急措置後の欄に記入すること。
C29: ※ たたき落としを実施した場合は、実施後の写真を添付すること。 | N29: ※ 変状の発生範囲の規模は、面積・寸法を記載すること。(ひび割れ幅のみmmとし、その他をm表記とする)
C30: ※ 附属物の取付状態に関する異常写真は別途、任意の書式でとりまとめること。 | N30: ※ 構造用鋼材以外の異物に伴ううき・はく離については、メモ欄に異物の概要を記入すること。

Sheet 様式D-1-1_026
B2: ■定期点検記録様式 変状写真台帳【様式D-1-1】 | R2: 施設ID | T2: 34.32507,131.15851
B3: フリガナ | E3: (ﾀｲﾈｲｼﾞﾀﾞｲｲﾁﾄﾝﾈﾙ) | H3: 路 線 名 | J3: 国道491号（長門・俵山道路） | M3: 定期点検実施者 | P3: 株式会社荒谷建設コンサルタント | S3: 定期点検年月日 | U3: 45621
B4: 名 称 | E4: 大寧寺第1トンネル | H4: 管理者名 | J4: 山口県長門土木建築事務所 | P4: 河野 秀生
B5: 写真 番号 | C5: 覆工スパン 番号 | E5: S167 | M5: 写真 番号 | N5: 覆工スパン 番号 | P5: S168
C6: 変状番号 | E6: 2 | N6: 変状番号 | P6: 1
B7: 変状 部位 | C7: 対象箇所 | E7: 覆工 | M7: 変状 部位 | N7: 対象箇所 | P7: 覆工
C8: 部位区分 | E8: アーチ（右側） | N8: 部位区分 | P8: アーチ（右側）
B9: 変状種類 | E9: 鋼材腐食 | M9: 変状種類 | P9: 鋼材腐食
B10: 対策 区分 | C10: 変状区分 | E10: 材質劣化 | M10: 対策 区分 | N10: 変状区分 | P10: 材質劣化
C11: 応急措置前 | N11: 応急措置前
C12: 応急措置後 | E12: Ⅱb | N12: 応急措置後 | P12: Ⅱb
B13: 変状の発生範囲及び規模 | E13: 0.05m×0.05m | H13: 前回変状の発生範囲及び規模 | J13: 0.05m×0.05m (Ⅱa判定) | M13: 変状の発生範囲及び規模 | P13: 0.05m×0.05m | S13: 前回変状の発生範囲及び規模 | U13: 今回新規変状
B14: 対策履歴 | H14: 実施状況（実施日） | M14: 対策履歴 | S14: 実施状況（実施日）
B15: メモ | E15: アーチ部(右側)に鋼材腐食(スプレー処置済)。現状で利用者被害の可能性は低いため、監視にとどめる。(前回28-1) | M15: メモ | P15: アーチ部(右側)に鋼材腐食(スプレー処置済)。新規変状。現状で利用者被害の可能性は低いため、監視にとどめる。
B16: 写真 番号 | C16: 覆工スパン 番号 | E16: S169 | M16: 写真 番号 | N16: 覆工スパン 番号 | P16: S170
C17: 変状番号 | E17: 1 | N17: 変状番号 | P17: 1
B18: 変状 部位 | C18: 対象箇所 | E18: 覆工 | M18: 変状 部位 | N18: 対象箇所 | P18: 覆工
C19: 部位区分 | E19: アーチ（右側） | N19: 部位区分 | P19: アーチ（右側）
B20: 変状種類 | E20: 鋼材腐食 | M20: 変状種類 | P20: 鋼材腐食
B21: 対策 区分 | C21: 変状区分 | E21: 材質劣化 | M21: 対策 区分 | N21: 変状区分 | P21: 材質劣化
C22: 応急措置前 | N22: 応急措置前
C23: 応急措置後 | E23: Ⅱb | N23: 応急措置後 | P23: Ⅱb
B24: 変状の発生範囲及び規模 | E24: 0.05m×0.05m | H24: 前回変状の発生範囲及び規模 | J24: 0.05m×0.05m (Ⅱa判定) | M24: 変状の発生範囲及び規模 | P24: 0.05m×0.05m | S24: 前回変状の発生範囲及び規模 | U24: 今回新規変状
B25: 対策履歴 | H25: 実施状況（実施日） | M25: 対策履歴 | S25: 実施状況（実施日）
B26: メモ | E26: アーチ部(右側)に鋼材腐食(スプレー処置済)。現状で利用者被害の可能性は低いため、監視にとどめる。(前回26-1) | M26: メモ | P26: アーチ部(右側)に鋼材腐食(スプレー処置済)。新規変状。現状で利用者被害の可能性は低いため、監視にとどめる。
C27: ※ 応急措置後の対策区分の判定区分Ⅱb～Ⅳについて添付すること。また、点検前に 実施された措置によりⅠと判定された箇所も添付すること。 | N27: ※ 変状の発生範囲の規模とは、対策を行う際に参考となる変状の長さや面積をいう。
N28: ※ 応急措置を実施しないで判定した変状の判定区分は、判定区分の応急措置後の欄に記入すること。
C29: ※ たたき落としを実施した場合は、実施後の写真を添付すること。 | N29: ※ 変状の発生範囲の規模は、面積・寸法を記載すること。(ひび割れ幅のみmmとし、その他をm表記とする)
C30: ※ 附属物の取付状態に関する異常写真は別途、任意の書式でとりまとめること。 | N30: ※ 構造用鋼材以外の異物に伴ううき・はく離については、メモ欄に異物の概要を記入すること。

Sheet 様式D-1-1_027
B2: ■定期点検記録様式 変状写真台帳【様式D-1-1】 | R2: 施設ID | T2: 34.32507,131.15851
B3: フリガナ | E3: (ﾀｲﾈｲｼﾞﾀﾞｲｲﾁﾄﾝﾈﾙ) | H3: 路 線 名 | J3: 国道491号（長門・俵山道路） | M3: 定期点検実施者 | P3: 株式会社荒谷建設コンサルタント | S3: 定期点検年月日 | U3: 45621
B4: 名 称 | E4: 大寧寺第1トンネル | H4: 管理者名 | J4: 山口県長門土木建築事務所 | P4: 河野 秀生
B5: 写真 番号 | C5: 覆工スパン 番号 | E5: S170 | M5: 写真 番号 | N5: 覆工スパン 番号 | P5: S170
C6: 変状番号 | E6: 2 | N6: 変状番号 | P6: 3
B7: 変状 部位 | C7: 対象箇所 | E7: 覆工 | M7: 変状 部位 | N7: 対象箇所 | P7: 覆工
C8: 部位区分 | E8: アーチ（右側） | N8: 部位区分 | P8: アーチ（右側）
B9: 変状種類 | E9: 鋼材腐食 | M9: 変状種類 | P9: 鋼材腐食
B10: 対策 区分 | C10: 変状区分 | E10: 材質劣化 | M10: 対策 区分 | N10: 変状区分 | P10: 材質劣化
C11: 応急措置前 | N11: 応急措置前
C12: 応急措置後 | E12: Ⅱb | N12: 応急措置後 | P12: Ⅱb
B13: 変状の発生範囲及び規模 | E13: 0.05m×0.05m | H13: 前回変状の発生範囲及び規模 | J13: 0.05m×0.05m (Ⅱa判定) | M13: 変状の発生範囲及び規模 | P13: 0.05m×0.05m | S13: 前回変状の発生範囲及び規模 | U13: 0.05m×0.05m (Ⅱa判定)
B14: 対策履歴 | H14: 実施状況（実施日） | M14: 対策履歴 | S14: 実施状況（実施日）
B15: メモ | E15: アーチ部(右側)に鋼材腐食(スプレー処置済)。現状で利用者被害の可能性は低いため、監視にとどめる。(前回25-2) | M15: メモ | P15: アーチ部(右側)に鋼材腐食(スプレー処置済)。現状で利用者被害の可能性は低いため、監視にとどめる。(前回25-1)
B16: 写真 番号 | C16: 覆工スパン 番号 | E16: S176 | M16: 写真 番号 | N16: 覆工スパン 番号 | P16: S182
C17: 変状番号 | E17: 1 | N17: 変状番号 | P17: 1
B18: 変状 部位 | C18: 対象箇所 | E18: 覆工 | M18: 変状 部位 | N18: 対象箇所 | P18: 覆工
C19: 部位区分 | E19: アーチ（右側） | N19: 部位区分 | P19: アーチ（右側）
B20: 変状種類 | E20: 鋼材腐食 | M20: 変状種類 | P20: 鋼材腐食
B21: 対策 区分 | C21: 変状区分 | E21: 材質劣化 | M21: 対策 区分 | N21: 変状区分 | P21: 材質劣化
C22: 応急措置前 | N22: 応急措置前
C23: 応急措置後 | E23: Ⅱb | N23: 応急措置後 | P23: Ⅱb
B24: 変状の発生範囲及び規模 | E24: 0.15m×0.15m | H24: 前回変状の発生範囲及び規模 | J24: 今回新規変状 | M24: 変状の発生範囲及び規模 | P24: 0.05m×0.05m | S24: 前回変状の発生範囲及び規模 | U24: 今回新規変状
B25: 対策履歴 | H25: 実施状況（実施日） | M25: 対策履歴 | S25: 実施状況（実施日）
B26: メモ | E26: アーチ部(右側)に鋼材腐食(スプレー処置済)。新規変状。現状で利用者被害の可能性は低いため、監視にとどめる。 | M26: メモ | P26: アーチ部(右側)に鋼材腐食(スプレー処置済)。新規変状。現状で利用者被害の可能性は低いため、監視にとどめる。
C27: ※ 応急措置後の対策区分の判定区分Ⅱb～Ⅳについて添付すること。また、点検前に 実施された措置によりⅠと判定された箇所も添付すること。 | N27: ※ 変状の発生範囲の規模とは、対策を行う際に参考となる変状の長さや面積をいう。
N28: ※ 応急措置を実施しないで判定した変状の判定区分は、判定区分の応急措置後の欄に記入すること。
C29: ※ たたき落としを実施した場合は、実施後の写真を添付すること。 | N29: ※ 変状の発生範囲の規模は、面積・寸法を記載すること。(ひび割れ幅のみmmとし、その他をm表記とする)
C30: ※ 附属物の取付状態に関する異常写真は別途、任意の書式でとりまとめること。 | N30: ※ 構造用鋼材以外の異物に伴ううき・はく離については、メモ欄に異物の概要を記入すること。

Sheet 様式D-1-1_028
B2: ■定期点検記録様式 変状写真台帳【様式D-1-1】 | R2: 施設ID | T2: 34.32507,131.15851
B3: フリガナ | E3: (ﾀｲﾈｲｼﾞﾀﾞｲｲﾁﾄﾝﾈﾙ) | H3: 路 線 名 | J3: 国道491号（長門・俵山道路） | M3: 定期点検実施者 | P3: 株式会社荒谷建設コンサルタント | S3: 定期点検年月日 | U3: 45621
B4: 名 称 | E4: 大寧寺第1トンネル | H4: 管理者名 | J4: 山口県長門土木建築事務所 | P4: 河野 秀生
B5: 写真 番号 | C5: 覆工スパン 番号 | E5: S184 | M5: 写真 番号 | N5: 覆工スパン 番号 | P5: S185
C6: 変状番号 | E6: 1 | N6: 変状番号 | P6: 1
B7: 変状 部位 | C7: 対象箇所 | E7: 覆工 | M7: 変状 部位 | N7: 対象箇所 | P7: 覆工
C8: 部位区分 | E8: 横断目地（天端） | N8: 部位区分 | P8: アーチ（右側）
B9: 変状種類 | E9: うき・はく離 | M9: 変状種類 | P9: 鋼材腐食
B10: 対策 区分 | C10: 変状区分 | E10: 材質劣化 | M10: 対策 区分 | N10: 変状区分 | P10: 材質劣化
C11: 応急措置前 | N11: 応急措置前
C12: 応急措置後 | E12: Ⅱb | N12: 応急措置後 | P12: Ⅱb
B13: 変状の発生範囲及び規模 | E13: 1.60m×0.05m | H13: 前回変状の発生範囲及び規模 | J13: 1.60m×0.05m (Ⅱb判定) | M13: 変状の発生範囲及び規模 | P13: 0.05m×0.05m | S13: 前回変状の発生範囲及び規模 | U13: 0.05m×0.05m (Ⅱa判定)
B14: 対策履歴 | H14: 実施状況（実施日） | M14: 対策履歴 | S14: 実施状況（実施日）
B15: メモ | E15: 横断目地部(天端)に豆板(スプレー処置済)。現状で利用者被害の可能性は低いため、監視にとどめる。(前回10-2) | M15: メモ | P15: アーチ部(右側)に鋼材腐食(スプレー処置済)。現状で利用者被害の可能性は低いため、監視にとどめる。(前回10-1)
B16: 写真 番号 | C16: 覆工スパン 番号 | E16: S185 | M16: 写真 番号 | N16: 覆工スパン 番号 | P16: S187
C17: 変状番号 | E17: 2 | N17: 変状番号 | P17: 1
B18: 変状 部位 | C18: 対象箇所 | E18: 覆工 | M18: 変状 部位 | N18: 対象箇所 | P18: 覆工
C19: 部位区分 | E19: 横断目地（右側） | N19: 部位区分 | P19: アーチ（天端）
B20: 変状種類 | E20: うき・はく離 | M20: 変状種類 | P20: うき・はく離
B21: 対策 区分 | C21: 変状区分 | E21: 材質劣化 | M21: 対策 区分 | N21: 変状区分 | P21: 材質劣化
C22: 応急措置前 | N22: 応急措置前
C23: 応急措置後 | E23: Ⅱb | N23: 応急措置後 | P23: Ⅱa
B24: 変状の発生範囲及び規模 | E24: 0.40m×0.05m | H24: 前回変状の発生範囲及び規模 | J24: 0.40m×0.05m (Ⅱb判定) | M24: 変状の発生範囲及び規模 | P24: 0.20m×0.25m | S24: 前回変状の発生範囲及び規模 | U24: 今回新規変状
B25: 対策履歴 | H25: 実施状況（実施日） | M25: 対策履歴 | S25: 実施状況（実施日）
B26: メモ | E26: 横断目地部(アーチ右側)に豆板。現状で利用者被害の可能性は低いため、監視にとどめる。(前回9-1) | M26: メモ | P26: アーチ部(天端)にうき(スプレー処置済)。新規変状。将来的に利用者に影響が及ぶ可能性があるため、重点的な監視及び計画的な対策を必要とする。
C27: ※ 応急措置後の対策区分の判定区分Ⅱb～Ⅳについて添付すること。また、点検前に 実施された措置によりⅠと判定された箇所も添付すること。 | N27: ※ 変状の発生範囲の規模とは、対策を行う際に参考となる変状の長さや面積をいう。
N28: ※ 応急措置を実施しないで判定した変状の判定区分は、判定区分の応急措置後の欄に記入すること。
C29: ※ たたき落としを実施した場合は、実施後の写真を添付すること。 | N29: ※ 変状の発生範囲の規模は、面積・寸法を記載すること。(ひび割れ幅のみmmとし、その他をm表記とする)
C30: ※ 附属物の取付状態に関する異常写真は別途、任意の書式でとりまとめること。 | N30: ※ 構造用鋼材以外の異物に伴ううき・はく離については、メモ欄に異物の概要を記入すること。

Sheet 様式D-1-1_029
B2: ■定期点検記録様式 変状写真台帳【様式D-1-1】 | R2: 施設ID | T2: 34.32507,131.15851
B3: フリガナ | E3: (ﾀｲﾈｲｼﾞﾀﾞｲｲﾁﾄﾝﾈﾙ) | H3: 路 線 名 | J3: 国道491号（長門・俵山道路） | M3: 定期点検実施者 | P3: 株式会社荒谷建設コンサルタント | S3: 定期点検年月日 | U3: 45621
B4: 名 称 | E4: 大寧寺第1トンネル | H4: 管理者名 | J4: 山口県長門土木建築事務所 | P4: 河野 秀生
B5: 写真 番号 | C5: 覆工スパン 番号 | E5: S188 | M5: 写真 番号 | N5: 覆工スパン 番号 | P5: S191
C6: 変状番号 | E6: 1 | N6: 変状番号 | P6: 1
B7: 変状 部位 | C7: 対象箇所 | E7: 覆工 | M7: 変状 部位 | N7: 対象箇所 | P7: 覆工
C8: 部位区分 | E8: アーチ（天端） | N8: 部位区分 | P8: 横断目地（左側）
B9: 変状種類 | E9: うき・はく離 | M9: 変状種類 | P9: うき・はく離
B10: 対策 区分 | C10: 変状区分 | E10: 材質劣化 | M10: 対策 区分 | N10: 変状区分 | P10: 材質劣化
C11: 応急措置前 | N11: 応急措置前
C12: 応急措置後 | E12: Ⅱb | N12: 応急措置後 | P12: Ⅱa
B13: 変状の発生範囲及び規模 | E13: 0.50m×0.50m | H13: 前回変状の発生範囲及び規模 | J13: 0.60m×0.50m (Ⅱb判定) | M13: 変状の発生範囲及び規模 | P13: 1.60m×0.05m | S13: 前回変状の発生範囲及び規模 | U13: 1.00m×0.05m (Ⅱb判定)
B14: 対策履歴 | H14: 実施状況（実施日） | M14: 対策履歴 | S14: 実施状況（実施日）
B15: メモ | E15: アーチ部(天端)に豆板(スプレー処置済)。現状で利用者被害の可能性は低いため、監視にとどめる。(前回7-1) | M15: メモ | P15: 横断目地部(アーチ左側)にうき(スプレー処置済)。拡大。将来的に利用者に影響が及ぶ可能性があるため、重点的な監視及び計画的な対策を必要とする。(前回3-2)
B16: 写真 番号 | C16: 覆工スパン 番号 | E16: S191 | M16: 写真 番号 | N16: 覆工スパン 番号 | P16: S191
C17: 変状番号 | E17: 2 | N17: 変状番号 | P17: 3
B18: 変状 部位 | C18: 対象箇所 | E18: 覆工 | M18: 変状 部位 | N18: 対象箇所 | P18: 覆工
C19: 部位区分 | E19: アーチ（左側） | N19: 部位区分 | P19: アーチ（天端）
B20: 変状種類 | E20: うき・はく離 | M20: 変状種類 | P20: うき・はく離
B21: 対策 区分 | C21: 変状区分 | E21: 材質劣化 | M21: 対策 区分 | N21: 変状区分 | P21: 材質劣化
C22: 応急措置前 | N22: 応急措置前
C23: 応急措置後 | E23: Ⅱb | N23: 応急措置後 | P23: Ⅱb
B24: 変状の発生範囲及び規模 | E24: 0.80m×3.20m | H24: 前回変状の発生範囲及び規模 | J24: 0.80m×3.00m (Ⅱb判定) | M24: 変状の発生範囲及び規模 | P24: 0.35m×0.80m | S24: 前回変状の発生範囲及び規模 | U24: 0.50m×0.70m (Ⅱb判定)
B25: 対策履歴 | H25: 実施状況（実施日） | M25: 対策履歴 | S25: 実施状況（実施日）
B26: メモ | E26: アーチ部(左側)に豆板(スプレー処置済)。現状で利用者被害の可能性は低いため、監視にとどめる。(前回4-2) | M26: メモ | P26: アーチ部(天端)に豆板(スプレー処置済)。現状で利用者被害の可能性は低いため、監視にとどめる。(前回4-1)
C27: ※ 応急措置後の対策区分の判定区分Ⅱb～Ⅳについて添付すること。また、点検前に 実施された措置によりⅠと判定された箇所も添付すること。 | N27: ※ 変状の発生範囲の規模とは、対策を行う際に参考となる変状の長さや面積をいう。
N28: ※ 応急措置を実施しないで判定した変状の判定区分は、判定区分の応急措置後の欄に記入すること。
C29: ※ たたき落としを実施した場合は、実施後の写真を添付すること。 | N29: ※ 変状の発生範囲の規模は、面積・寸法を記載すること。(ひび割れ幅のみmmとし、その他をm表記とする)
C30: ※ 附属物の取付状態に関する異常写真は別途、任意の書式でとりまとめること。 | N30: ※ 構造用鋼材以外の異物に伴ううき・はく離については、メモ欄に異物の概要を記入すること。

Sheet 様式D-1-1_030
B2: ■定期点検記録様式 変状写真台帳【様式D-1-1】 | R2: 施設ID | T2: 34.32507,131.15851
B3: フリガナ | E3: (ﾀｲﾈｲｼﾞﾀﾞｲｲﾁﾄﾝﾈﾙ) | H3: 路 線 名 | J3: 国道491号（長門・俵山道路） | M3: 定期点検実施者 | P3: 株式会社荒谷建設コンサルタント | S3: 定期点検年月日 | U3: 45621
B4: 名 称 | E4: 大寧寺第1トンネル | H4: 管理者名 | J4: 山口県長門土木建築事務所 | P4: 河野 秀生
B5: 写真 番号 | C5: 覆工スパン 番号 | E5: S192 | M5: 写真 番号 | N5: 覆工スパン 番号 | P5: PE
C6: 変状番号 | E6: 1 | N6: 変状番号 | P6: 1
B7: 変状 部位 | C7: 対象箇所 | E7: 覆工 | M7: 変状 部位 | N7: 対象箇所 | P7: 坑門
C8: 部位区分 | E8: アーチ（天端） | N8: 部位区分 | P8: 面壁・妻壁等
B9: 変状種類 | E9: うき・はく離 | M9: 変状種類 | P9: 圧ざ、ひび割れ
B10: 対策 区分 | C10: 変状区分 | E10: 材質劣化 | M10: 対策 区分 | N10: 変状区分 | P10: 材質劣化
C11: 応急措置前 | N11: 応急措置前
C12: 応急措置後 | E12: Ⅱb | N12: 応急措置後 | P12: Ⅱb
B13: 変状の発生範囲及び規模 | E13: 1.40m×0.60m | H13: 前回変状の発生範囲及び規模 | J13: 1.40m×0.60m (Ⅱb判定) | M13: 変状の発生範囲及び規模 | P13: 長さ4.3m×幅0.3mm | S13: 前回変状の発生範囲及び規模 | U13: 今回新規変状
B14: 対策履歴 | H14: 実施状況（実施日） | M14: 対策履歴 | S14: 実施状況（実施日）
B15: メモ | E15: アーチ部(天端)に豆板(スプレー処置済)。現状で利用者被害の可能性は低いため、監視にとどめる。(前回3-1) | M15: メモ | P15: 面壁に鉛直方向のひび割れ(遊離石灰)。新規変状。現状で利用者被害の可能性は低いため、監視にとどめる。
B16: 写真 番号 | C16: 覆工スパン 番号 | M16: 写真 番号 | N16: 覆工スパン 番号
C17: 変状番号 | N17: 変状番号
B18: 変状 部位 | C18: 対象箇所 | M18: 変状 部位 | N18: 対象箇所
C19: 部位区分 | N19: 部位区分
B20: 変状種類 | M20: 変状種類
B21: 対策 区分 | C21: 変状区分 | M21: 対策 区分 | N21: 変状区分
C22: 応急措置前 | N22: 応急措置前
C23: 応急措置後 | N23: 応急措置後
B24: 変状の発生範囲及び規模 | H24: 前回変状の発生範囲及び規模 | M24: 変状の発生範囲及び規模 | S24: 前回変状の発生範囲及び規模
B25: 対策履歴 | H25: 実施状況（実施日） | M25: 対策履歴 | S25: 実施状況（実施日）
B26: メモ | M26: メモ
C27: ※ 応急措置後の対策区分の判定区分Ⅱb～Ⅳについて添付すること。また、点検前に 実施された措置によりⅠと判定された箇所も添付すること。 | N27: ※ 変状の発生範囲の規模とは、対策を行う際に参考となる変状の長さや面積をいう。
N28: ※ 応急措置を実施しないで判定した変状の判定区分は、判定区分の応急措置後の欄に記入すること。
C29: ※ たたき落としを実施した場合は、実施後の写真を添付すること。 | N29: ※ 変状の発生範囲の規模は、面積・寸法を記載すること。(ひび割れ幅のみmmとし、その他をm表記とする)
C30: ※ 附属物の取付状態に関する異常写真は別途、任意の書式でとりまとめること。 | N30: ※ 構造用鋼材以外の異物に伴ううき・はく離については、メモ欄に異物の概要を記入すること。

Sheet 様式D-1-2
B2: ■定期点検記録様式 異常写真台帳（トンネル内附属物等の取付状態） 【様式D-1-2】
B3: フリガナ | E3: (ﾀｲﾈｲｼﾞﾀﾞｲｲﾁﾄﾝﾈﾙ) | I3: 路 線 名 | L3: 国道491号（長門・俵山道路） | O3: 定期点検実施者 | R3: 株式会社荒谷建設コンサルタント | U3: 定期点検年月日 | W3: 45621
B4: 名 称 | E4: 大寧寺第1トンネル | I4: 管理者名 | L4: 山口県長門土木建築事務所 | R4: 河野 秀生
B5: 覆工スパン番号 | E5: S063 | F5: 異常番号 | I5: 1 | J5: 覆工スパン番号 | N5: 異常番号 | R5: 覆工スパン番号 | V5: 異常番号
B6: 対象箇所 | D6: 非常用施設 | E6: 無線通信補助設備 | J6: 対象箇所 | R6: 対象箇所
B7: 部位区分 | D7: 附属物本体 | F7: 異常の種類 | H7: 脱落 | J7: 部位区分 | N7: 異常の種類 | R7: 部位区分 | V7: 異常の種類
B8: 異常判定区分 | D8: × | E8: メモ | F8: 漏洩同軸ケーブル脱落 | J8: 異常判定区分 | M8: メモ | R8: 異常判定区分 | U8: メモ
B22: 覆工スパン番号 | F22: 異常番号 | J22: 覆工スパン番号 | N22: 異常番号 | R22: 覆工スパン番号 | V22: 異常番号
B23: 対象箇所 | J23: 対象箇所 | R23: 対象箇所
B24: 部位区分 | F24: 異常の種類 | J24: 部位区分 | N24: 異常の種類 | R24: 部位区分 | V24: 異常の種類
B25: 異常判定区分 | E25: メモ | J25: 異常判定区分 | M25: メモ | R25: 異常判定区分 | U25: メモ
C39: ※ 異常判定区分×について記入すること。また、応急措置前に異常判定区分×とした箇所のうち応急措置により○と判定した箇所も記入すること。
C40: ※ 応急措置を実施した場合は、その実施状況が分かる写真を添付すること。
C41: ※ 変状数に準じてシートを追加すること。

Sheet 様式D-2-1_001
B3: ■定期点検記録様式 トンネル全体変状展開図 【様式D-2-1】
B4: フリガナ | E4: (ﾀｲﾈｲｼﾞﾀﾞｲｲﾁﾄﾝﾈﾙ) | J4: 路線名 | M4: 国道491号（長門・俵山道路） | S4: 定期点検実施者 | W4: 株式会社荒谷建設コンサルタント | AC4: 定期点検年月日 | AF4: 45621
B5: 名 称 | E5: 大寧寺第1トンネル | J5: 管理者名 | M5: 山口県長門土木建築事務所 | W5: 河野 秀生
B6: トンネル変状展開図 | C6: トンネル全体変状展開図
V18: 注１：本展開図は、見下げた状態で記載すること。 注２：覆工スパン番号は横断目地毎（矢板工法の場合は上半アーチ の横断目地毎)に設定すること。 注３：横断目地の変状は前の覆工スパン番号で計上すること。 注４：１枚に収まらない場合は、複数枚に分けて作成すること。

Sheet 様式D-2-1_002
B3: ■定期点検記録様式 トンネル全体変状展開図 【様式D-2-1】
B4: フリガナ | E4: (ﾀｲﾈｲｼﾞﾀﾞｲｲﾁﾄﾝﾈﾙ) | J4: 路線名 | M4: 国道491号（長門・俵山道路） | S4: 定期点検実施者 | W4: 株式会社荒谷建設コンサルタント | AC4: 定期点検年月日 | AF4: 45621
B5: 名 称 | E5: 大寧寺第1トンネル | J5: 管理者名 | M5: 山口県長門土木建築事務所 | W5: 河野 秀生
B6: トンネル変状展開図 | C6: トンネル全体変状展開図
V18: 注１：本展開図は、見下げた状態で記載すること。 注２：覆工スパン番号は横断目地毎（矢板工法の場合は上半アーチ の横断目地毎)に設定すること。 注３：横断目地の変状は前の覆工スパン番号で計上すること。 注４：１枚に収まらない場合は、複数枚に分けて作成すること。

Sheet 様式D-2-1_003
B3: ■定期点検記録様式 トンネル全体変状展開図 【様式D-2-1】
B4: フリガナ | E4: (ﾀｲﾈｲｼﾞﾀﾞｲｲﾁﾄﾝﾈﾙ) | J4: 路線名 | M4: 国道491号（長門・俵山道路） | S4: 定期点検実施者 | W4: 株式会社荒谷建設コンサルタント | AC4: 定期点検年月日 | AF4: 45621
B5: 名 称 | E5: 大寧寺第1トンネル | J5: 管理者名 | M5: 山口県長門土木建築事務所 | W5: 河野 秀生
B6: トンネル変状展開図 | C6: トンネル全体変状展開図
V18: 注１：本展開図は、見下げた状態で記載すること。 注２：覆工スパン番号は横断目地毎（矢板工法の場合は上半アーチ の横断目地毎)に設定すること。 注３：横断目地の変状は前の覆工スパン番号で計上すること。 注４：１枚に収まらない場合は、複数枚に分けて作成すること。

Sheet 様式D-2-1_004
B3: ■定期点検記録様式 トンネル全体変状展開図 【様式D-2-1】
B4: フリガナ | E4: (ﾀｲﾈｲｼﾞﾀﾞｲｲﾁﾄﾝﾈﾙ) | J4: 路線名 | M4: 国道491号（長門・俵山道路） | S4: 定期点検実施者 | W4: 株式会社荒谷建設コンサルタント | AC4: 定期点検年月日 | AF4: 45621
B5: 名 称 | E5: 大寧寺第1トンネル | J5: 管理者名 | M5: 山口県長門土木建築事務所 | W5: 河野 秀生
B6: トンネル変状展開図 | C6: トンネル全体変状展開図
V18: 注１：本展開図は、見下げた状態で記載すること。 注２：覆工スパン番号は横断目地毎（矢板工法の場合は上半アーチ の横断目地毎)に設定すること。 注３：横断目地の変状は前の覆工スパン番号で計上すること。 注４：１枚に収まらない場合は、複数枚に分けて作成すること。

Sheet 様式D-2-1_005
B3: ■定期点検記録様式 トンネル全体変状展開図 【様式D-2-1】
B4: フリガナ | E4: (ﾀｲﾈｲｼﾞﾀﾞｲｲﾁﾄﾝﾈﾙ) | J4: 路線名 | M4: 国道491号（長門・俵山道路） | S4: 定期点検実施者 | W4: 株式会社荒谷建設コンサルタント | AC4: 定期点検年月日 | AF4: 45621
B5: 名 称 | E5: 大寧寺第1トンネル | J5: 管理者名 | M5: 山口県長門土木建築事務所 | W5: 河野 秀生
B6: トンネル変状展開図 | C6: トンネル全体変状展開図
V18: 注１：本展開図は、見下げた状態で記載すること。 注２：覆工スパン番号は横断目地毎（矢板工法の場合は上半アーチ の横断目地毎)に設定すること。 注３：横断目地の変状は前の覆工スパン番号で計上すること。 注４：１枚に収まらない場合は、複数枚に分けて作成すること。

Sheet 様式D-2-1_006
B3: ■定期点検記録様式 トンネル全体変状展開図 【様式D-2-1】
B4: フリガナ | E4: (ﾀｲﾈｲｼﾞﾀﾞｲｲﾁﾄﾝﾈﾙ) | J4: 路線名 | M4: 国道491号（長門・俵山道路） | S4: 定期点検実施者 | W4: 株式会社荒谷建設コンサルタント | AC4: 定期点検年月日 | AF4: 45621
B5: 名 称 | E5: 大寧寺第1トンネル | J5: 管理者名 | M5: 山口県長門土木建築事務所 | W5: 河野 秀生
B6: トンネル変状展開図 | C6: トンネル全体変状展開図
V18: 注１：本展開図は、見下げた状態で記載すること。 注２：覆工スパン番号は横断目地毎（矢板工法の場合は上半アーチ の横断目地毎)に設定すること。 注３：横断目地の変状は前の覆工スパン番号で計上すること。 注４：１枚に収まらない場合は、複数枚に分けて作成すること。

Sheet 様式D-2-1_007
B3: ■定期点検記録様式 トンネル全体変状展開図 【様式D-2-1】
B4: フリガナ | E4: (ﾀｲﾈｲｼﾞﾀﾞｲｲﾁﾄﾝﾈﾙ) | J4: 路線名 | M4: 国道491号（長門・俵山道路） | S4: 定期点検実施者 | W4: 株式会社荒谷建設コンサルタント | AC4: 定期点検年月日 | AF4: 45621
B5: 名 称 | E5: 大寧寺第1トンネル | J5: 管理者名 | M5: 山口県長門土木建築事務所 | W5: 河野 秀生
B6: トンネル変状展開図 | C6: トンネル全体変状展開図
V18: 注１：本展開図は、見下げた状態で記載すること。 注２：覆工スパン番号は横断目地毎（矢板工法の場合は上半アーチ の横断目地毎)に設定すること。 注３：横断目地の変状は前の覆工スパン番号で計上すること。 注４：１枚に収まらない場合は、複数枚に分けて作成すること。

Sheet 様式D-2-1_008
B3: ■定期点検記録様式 トンネル全体変状展開図 【様式D-2-1】
B4: フリガナ | E4: (ﾀｲﾈｲｼﾞﾀﾞｲｲﾁﾄﾝﾈﾙ) | J4: 路線名 | M4: 国道491号（長門・俵山道路） | S4: 定期点検実施者 | W4: 株式会社荒谷建設コンサルタント | AC4: 定期点検年月日 | AF4: 45621
B5: 名 称 | E5: 大寧寺第1トンネル | J5: 管理者名 | M5: 山口県長門土木建築事務所 | W5: 河野 秀生
B6: トンネル変状展開図 | C6: トンネル全体変状展開図
V18: 注１：本展開図は、見下げた状態で記載すること。 注２：覆工スパン番号は横断目地毎（矢板工法の場合は上半アーチ の横断目地毎)に設定すること。 注３：横断目地の変状は前の覆工スパン番号で計上すること。 注４：１枚に収まらない場合は、複数枚に分けて作成すること。

Sheet 様式D-2-1_009
B3: ■定期点検記録様式 トンネル全体変状展開図 【様式D-2-1】
B4: フリガナ | E4: (ﾀｲﾈｲｼﾞﾀﾞｲｲﾁﾄﾝﾈﾙ) | J4: 路線名 | M4: 国道491号（長門・俵山道路） | S4: 定期点検実施者 | W4: 株式会社荒谷建設コンサルタント | AC4: 定期点検年月日 | AF4: 45621
B5: 名 称 | E5: 大寧寺第1トンネル | J5: 管理者名 | M5: 山口県長門土木建築事務所 | W5: 河野 秀生
B6: トンネル変状展開図 | C6: トンネル全体変状展開図
V18: 注１：本展開図は、見下げた状態で記載すること。 注２：覆工スパン番号は横断目地毎（矢板工法の場合は上半アーチ の横断目地毎)に設定すること。 注３：横断目地の変状は前の覆工スパン番号で計上すること。 注４：１枚に収まらない場合は、複数枚に分けて作成すること。

Sheet 様式D-2-1_010
B3: ■定期点検記録様式 トンネル全体変状展開図 【様式D-2-1】
B4: フリガナ | E4: (ﾀｲﾈｲｼﾞﾀﾞｲｲﾁﾄﾝﾈﾙ) | J4: 路線名 | M4: 国道491号（長門・俵山道路） | S4: 定期点検実施者 | W4: 株式会社荒谷建設コンサルタント | AC4: 定期点検年月日 | AF4: 45621
B5: 名 称 | E5: 大寧寺第1トンネル | J5: 管理者名 | M5: 山口県長門土木建築事務所 | W5: 河野 秀生
B6: トンネル変状展開図 | C6: トンネル全体変状展開図
V18: 注１：本展開図は、見下げた状態で記載すること。 注２：覆工スパン番号は横断目地毎（矢板工法の場合は上半アーチ の横断目地毎)に設定すること。 注３：横断目地の変状は前の覆工スパン番号で計上すること。 注４：１枚に収まらない場合は、複数枚に分けて作成すること。

Sheet 様式D-2-1_011
B3: ■定期点検記録様式 トンネル全体変状展開図 【様式D-2-1】
B4: フリガナ | E4: (ﾀｲﾈｲｼﾞﾀﾞｲｲﾁﾄﾝﾈﾙ) | J4: 路線名 | M4: 国道491号（長門・俵山道路） | S4: 定期点検実施者 | W4: 株式会社荒谷建設コンサルタント | AC4: 定期点検年月日 | AF4: 45621
B5: 名 称 | E5: 大寧寺第1トンネル | J5: 管理者名 | M5: 山口県長門土木建築事務所 | W5: 河野 秀生
B6: トンネル変状展開図 | C6: トンネル全体変状展開図
V18: 注１：本展開図は、見下げた状態で記載すること。 注２：覆工スパン番号は横断目地毎（矢板工法の場合は上半アーチ の横断目地毎)に設定すること。 注３：横断目地の変状は前の覆工スパン番号で計上すること。 注４：１枚に収まらない場合は、複数枚に分けて作成すること。

Sheet 様式D-2-1_012
B3: ■定期点検記録様式 トンネル全体変状展開図 【様式D-2-1】
B4: フリガナ | E4: (ﾀｲﾈｲｼﾞﾀﾞｲｲﾁﾄﾝﾈﾙ) | J4: 路線名 | M4: 国道491号（長門・俵山道路） | S4: 定期点検実施者 | W4: 株式会社荒谷建設コンサルタント | AC4: 定期点検年月日 | AF4: 45621
B5: 名 称 | E5: 大寧寺第1トンネル | J5: 管理者名 | M5: 山口県長門土木建築事務所 | W5: 河野 秀生
B6: トンネル変状展開図 | C6: トンネル全体変状展開図
V18: 注１：本展開図は、見下げた状態で記載すること。 注２：覆工スパン番号は横断目地毎（矢板工法の場合は上半アーチ の横断目地毎)に設定すること。 注３：横断目地の変状は前の覆工スパン番号で計上すること。 注４：１枚に収まらない場合は、複数枚に分けて作成すること。

Sheet 様式D-2-1_013
B3: ■定期点検記録様式 トンネル全体変状展開図 【様式D-2-1】
B4: フリガナ | E4: (ﾀｲﾈｲｼﾞﾀﾞｲｲﾁﾄﾝﾈﾙ) | J4: 路線名 | M4: 国道491号（長門・俵山道路） | S4: 定期点検実施者 | W4: 株式会社荒谷建設コンサルタント | AC4: 定期点検年月日 | AF4: 45621
B5: 名 称 | E5: 大寧寺第1トンネル | J5: 管理者名 | M5: 山口県長門土木建築事務所 | W5: 河野 秀生
B6: トンネル変状展開図 | C6: トンネル全体変状展開図
V18: 注１：本展開図は、見下げた状態で記載すること。 注２：覆工スパン番号は横断目地毎（矢板工法の場合は上半アーチ の横断目地毎)に設定すること。 注３：横断目地の変状は前の覆工スパン番号で計上すること。 注４：１枚に収まらない場合は、複数枚に分けて作成すること。

Sheet 様式D-2-1_014
B3: ■定期点検記録様式 トンネル全体変状展開図 【様式D-2-1】
B4: フリガナ | E4: (ﾀｲﾈｲｼﾞﾀﾞｲｲﾁﾄﾝﾈﾙ) | J4: 路線名 | M4: 国道491号（長門・俵山道路） | S4: 定期点検実施者 | W4: 株式会社荒谷建設コンサルタント | AC4: 定期点検年月日 | AF4: 45621
B5: 名 称 | E5: 大寧寺第1トンネル | J5: 管理者名 | M5: 山口県長門土木建築事務所 | W5: 河野 秀生
B6: トンネル変状展開図 | C6: トンネル全体変状展開図
V18: 注１：本展開図は、見下げた状態で記載すること。 注２：覆工スパン番号は横断目地毎（矢板工法の場合は上半アーチ の横断目地毎)に設定すること。 注３：横断目地の変状は前の覆工スパン番号で計上すること。 注４：１枚に収まらない場合は、複数枚に分けて作成すること。

Sheet 様式D-2-1_015
B3: ■定期点検記録様式 トンネル全体変状展開図 【様式D-2-1】
B4: フリガナ | E4: (ﾀｲﾈｲｼﾞﾀﾞｲｲﾁﾄﾝﾈﾙ) | J4: 路線名 | M4: 国道491号（長門・俵山道路） | S4: 定期点検実施者 | W4: 株式会社荒谷建設コンサルタント | AC4: 定期点検年月日 | AF4: 45621
B5: 名 称 | E5: 大寧寺第1トンネル | J5: 管理者名 | M5: 山口県長門土木建築事務所 | W5: 河野 秀生
B6: トンネル変状展開図 | C6: トンネル全体変状展開図
V18: 注１：本展開図は、見下げた状態で記載すること。 注２：覆工スパン番号は横断目地毎（矢板工法の場合は上半アーチ の横断目地毎)に設定すること。 注３：横断目地の変状は前の覆工スパン番号で計上すること。 注４：１枚に収まらない場合は、複数枚に分けて作成すること。

Sheet 様式D-2-1_016
B3: ■定期点検記録様式 トンネル全体変状展開図 【様式D-2-1】
B4: フリガナ | E4: (ﾀｲﾈｲｼﾞﾀﾞｲｲﾁﾄﾝﾈﾙ) | J4: 路線名 | M4: 国道491号（長門・俵山道路） | S4: 定期点検実施者 | W4: 株式会社荒谷建設コンサルタント | AC4: 定期点検年月日 | AF4: 45621
B5: 名 称 | E5: 大寧寺第1トンネル | J5: 管理者名 | M5: 山口県長門土木建築事務所 | W5: 河野 秀生
B6: トンネル変状展開図 | C6: トンネル全体変状展開図
V18: 注１：本展開図は、見下げた状態で記載すること。 注２：覆工スパン番号は横断目地毎（矢板工法の場合は上半アーチ の横断目地毎)に設定すること。 注３：横断目地の変状は前の覆工スパン番号で計上すること。 注４：１枚に収まらない場合は、複数枚に分けて作成すること。

Sheet 様式D-2-1_017
B3: ■定期点検記録様式 トンネル全体変状展開図 【様式D-2-1】
B4: フリガナ | E4: (ﾀｲﾈｲｼﾞﾀﾞｲｲﾁﾄﾝﾈﾙ) | J4: 路線名 | M4: 国道491号（長門・俵山道路） | S4: 定期点検実施者 | W4: 株式会社荒谷建設コンサルタント | AC4: 定期点検年月日 | AF4: 45621
B5: 名 称 | E5: 大寧寺第1トンネル | J5: 管理者名 | M5: 山口県長門土木建築事務所 | W5: 河野 秀生
B6: トンネル変状展開図 | C6: トンネル全体変状展開図
V18: 注１：本展開図は、見下げた状態で記載すること。 注２：覆工スパン番号は横断目地毎（矢板工法の場合は上半アーチ の横断目地毎)に設定すること。 注３：横断目地の変状は前の覆工スパン番号で計上すること。 注４：１枚に収まらない場合は、複数枚に分けて作成すること。

Sheet 様式D-2-1_018
B3: ■定期点検記録様式 トンネル全体変状展開図 【様式D-2-1】
B4: フリガナ | E4: (ﾀｲﾈｲｼﾞﾀﾞｲｲﾁﾄﾝﾈﾙ) | J4: 路線名 | M4: 国道491号（長門・俵山道路） | S4: 定期点検実施者 | W4: 株式会社荒谷建設コンサルタント | AC4: 定期点検年月日 | AF4: 45621
B5: 名 称 | E5: 大寧寺第1トンネル | J5: 管理者名 | M5: 山口県長門土木建築事務所 | W5: 河野 秀生
B6: トンネル変状展開図 | C6: トンネル全体変状展開図
V18: 注１：本展開図は、見下げた状態で記載すること。 注２：覆工スパン番号は横断目地毎（矢板工法の場合は上半アーチ の横断目地毎)に設定すること。 注３：横断目地の変状は前の覆工スパン番号で計上すること。 注４：１枚に収まらない場合は、複数枚に分けて作成すること。

Sheet 様式D-2-1_019
B3: ■定期点検記録様式 トンネル全体変状展開図 【様式D-2-1】
B4: フリガナ | E4: (ﾀｲﾈｲｼﾞﾀﾞｲｲﾁﾄﾝﾈﾙ) | J4: 路線名 | M4: 国道491号（長門・俵山道路） | S4: 定期点検実施者 | W4: 株式会社荒谷建設コンサルタント | AC4: 定期点検年月日 | AF4: 45621
B5: 名 称 | E5: 大寧寺第1トンネル | J5: 管理者名 | M5: 山口県長門土木建築事務所 | W5: 河野 秀生
B6: トンネル変状展開図 | C6: トンネル全体変状展開図
V18: 注１：本展開図は、見下げた状態で記載すること。 注２：覆工スパン番号は横断目地毎（矢板工法の場合は上半アーチ の横断目地毎)に設定すること。 注３：横断目地の変状は前の覆工スパン番号で計上すること。 注４：１枚に収まらない場合は、複数枚に分けて作成すること。

Sheet 様式D-2-1_020
B3: ■定期点検記録様式 トンネル全体変状展開図 【様式D-2-1】
B4: フリガナ | E4: (ﾀｲﾈｲｼﾞﾀﾞｲｲﾁﾄﾝﾈﾙ) | J4: 路線名 | M4: 国道491号（長門・俵山道路） | S4: 定期点検実施者 | W4: 株式会社荒谷建設コンサルタント | AC4: 定期点検年月日 | AF4: 45621
B5: 名 称 | E5: 大寧寺第1トンネル | J5: 管理者名 | M5: 山口県長門土木建築事務所 | W5: 河野 秀生
B6: トンネル変状展開図 | C6: トンネル全体変状展開図
V18: 注１：本展開図は、見下げた状態で記載すること。 注２：覆工スパン番号は横断目地毎（矢板工法の場合は上半アーチ の横断目地毎)に設定すること。 注３：横断目地の変状は前の覆工スパン番号で計上すること。 注４：１枚に収まらない場合は、複数枚に分けて作成すること。

Sheet 様式D-2-1_021
B3: ■定期点検記録様式 トンネル全体変状展開図 【様式D-2-1】
B4: フリガナ | E4: (ﾀｲﾈｲｼﾞﾀﾞｲｲﾁﾄﾝﾈﾙ) | J4: 路線名 | M4: 国道491号（長門・俵山道路） | S4: 定期点検実施者 | W4: 株式会社荒谷建設コンサルタント | AC4: 定期点検年月日 | AF4: 45621
B5: 名 称 | E5: 大寧寺第1トンネル | J5: 管理者名 | M5: 山口県長門土木建築事務所 | W5: 河野 秀生
B6: トンネル変状展開図 | C6: トンネル全体変状展開図
V18: 注１：本展開図は、見下げた状態で記載すること。 注２：覆工スパン番号は横断目地毎（矢板工法の場合は上半アーチ の横断目地毎)に設定すること。 注３：横断目地の変状は前の覆工スパン番号で計上すること。 注４：１枚に収まらない場合は、複数枚に分けて作成すること。

Sheet 様式D-2-1_022
B3: ■定期点検記録様式 トンネル全体変状展開図 【様式D-2-1】
B4: フリガナ | E4: (ﾀｲﾈｲｼﾞﾀﾞｲｲﾁﾄﾝﾈﾙ) | J4: 路線名 | M4: 国道491号（長門・俵山道路） | S4: 定期点検実施者 | W4: 株式会社荒谷建設コンサルタント | AC4: 定期点検年月日 | AF4: 45621
B5: 名 称 | E5: 大寧寺第1トンネル | J5: 管理者名 | M5: 山口県長門土木建築事務所 | W5: 河野 秀生
B6: トンネル変状展開図 | C6: トンネル全体変状展開図
V18: 注１：本展開図は、見下げた状態で記載すること。 注２：覆工スパン番号は横断目地毎（矢板工法の場合は上半アーチ の横断目地毎)に設定すること。 注３：横断目地の変状は前の覆工スパン番号で計上すること。 注４：１枚に収まらない場合は、複数枚に分けて作成すること。

Sheet 様式D-2-1_023
B3: ■定期点検記録様式 トンネル全体変状展開図 【様式D-2-1】
B4: フリガナ | E4: (ﾀｲﾈｲｼﾞﾀﾞｲｲﾁﾄﾝﾈﾙ) | J4: 路線名 | M4: 国道491号（長門・俵山道路） | S4: 定期点検実施者 | W4: 株式会社荒谷建設コンサルタント | AC4: 定期点検年月日 | AF4: 45621
B5: 名 称 | E5: 大寧寺第1トンネル | J5: 管理者名 | M5: 山口県長門土木建築事務所 | W5: 河野 秀生
B6: トンネル変状展開図 | C6: トンネル全体変状展開図
V18: 注１：本展開図は、見下げた状態で記載すること。 注２：覆工スパン番号は横断目地毎（矢板工法の場合は上半アーチ の横断目地毎)に設定すること。 注３：横断目地の変状は前の覆工スパン番号で計上すること。 注４：１枚に収まらない場合は、複数枚に分けて作成すること。

Sheet 様式D-2-1_024
B3: ■定期点検記録様式 トンネル全体変状展開図 【様式D-2-1】
B4: フリガナ | E4: (ﾀｲﾈｲｼﾞﾀﾞｲｲﾁﾄﾝﾈﾙ) | J4: 路線名 | M4: 国道491号（長門・俵山道路） | S4: 定期点検実施者 | W4: 株式会社荒谷建設コンサルタント | AC4: 定期点検年月日 | AF4: 45621
B5: 名 称 | E5: 大寧寺第1トンネル | J5: 管理者名 | M5: 山口県長門土木建築事務所 | W5: 河野 秀生
B6: トンネル変状展開図 | C6: トンネル全体変状展開図
V18: 注１：本展開図は、見下げた状態で記載すること。 注２：覆工スパン番号は横断目地毎（矢板工法の場合は上半アーチ の横断目地毎)に設定すること。 注３：横断目地の変状は前の覆工スパン番号で計上すること。 注４：１枚に収まらない場合は、複数枚に分けて作成すること。

Sheet 様式D-2-1´_001
B3: ■定期点検記録様式 トンネル全体変状展開図（機器の活用時） 【様式D-2-1’】
B4: フリガナ | E4: (ﾀｲﾈｲｼﾞﾀﾞｲｲﾁﾄﾝﾈﾙ) | J4: 路線名 | M4: 国道491号（長門・俵山道路） | S4: 定期点検実施者 | W4: 株式会社荒谷建設コンサルタント | AC4: 定期点検年月日 | AF4: 45621
B5: 名 称 | E5: 大寧寺第1トンネル | J5: 管理者名 | M5: 山口県長門土木建築事務所 | W5: 河野 秀生
B6: トンネル変状展開図 | C6: トンネル全体変状展開図
V18: 注１：本展開図は、見下げた状態で記載すること。 注２：覆工スパン番号は横断目地毎（矢板工法の場合は上半アーチ の横断目地毎)に設定すること。 注３：横断目地の変状は前の覆工スパン番号で計上すること。 注４：１枚に収まらない場合は、複数枚に分けて作成すること。

Sheet 様式D-2-1´_002
B3: ■定期点検記録様式 トンネル全体変状展開図（機器の活用時） 【様式D-2-1’】
B4: フリガナ | E4: (ﾀｲﾈｲｼﾞﾀﾞｲｲﾁﾄﾝﾈﾙ) | J4: 路線名 | M4: 国道491号（長門・俵山道路） | S4: 定期点検実施者 | W4: 株式会社荒谷建設コンサルタント | AC4: 定期点検年月日 | AF4: 45621
B5: 名 称 | E5: 大寧寺第1トンネル | J5: 管理者名 | M5: 山口県長門土木建築事務所 | W5: 河野 秀生
B6: トンネル変状展開図 | C6: トンネル全体変状展開図
V18: 注１：本展開図は、見下げた状態で記載すること。 注２：覆工スパン番号は横断目地毎（矢板工法の場合は上半アーチ の横断目地毎)に設定すること。 注３：横断目地の変状は前の覆工スパン番号で計上すること。 注４：１枚に収まらない場合は、複数枚に分けて作成すること。

Sheet 様式D-2-1´_003
B3: ■定期点検記録様式 トンネル全体変状展開図（機器の活用時） 【様式D-2-1’】
B4: フリガナ | E4: (ﾀｲﾈｲｼﾞﾀﾞｲｲﾁﾄﾝﾈﾙ) | J4: 路線名 | M4: 国道491号（長門・俵山道路） | S4: 定期点検実施者 | W4: 株式会社荒谷建設コンサルタント | AC4: 定期点検年月日 | AF4: 45621
B5: 名 称 | E5: 大寧寺第1トンネル | J5: 管理者名 | M5: 山口県長門土木建築事務所 | W5: 河野 秀生
B6: トンネル変状展開図 | C6: トンネル全体変状展開図
V18: 注１：本展開図は、見下げた状態で記載すること。 注２：覆工スパン番号は横断目地毎（矢板工法の場合は上半アーチ の横断目地毎)に設定すること。 注３：横断目地の変状は前の覆工スパン番号で計上すること。 注４：１枚に収まらない場合は、複数枚に分けて作成すること。

Sheet 様式D-2-1´_004
B3: ■定期点検記録様式 トンネル全体変状展開図（機器の活用時） 【様式D-2-1’】
B4: フリガナ | E4: (ﾀｲﾈｲｼﾞﾀﾞｲｲﾁﾄﾝﾈﾙ) | J4: 路線名 | M4: 国道491号（長門・俵山道路） | S4: 定期点検実施者 | W4: 株式会社荒谷建設コンサルタント | AC4: 定期点検年月日 | AF4: 45621
B5: 名 称 | E5: 大寧寺第1トンネル | J5: 管理者名 | M5: 山口県長門土木建築事務所 | W5: 河野 秀生
B6: トンネル変状展開図 | C6: トンネル全体変状展開図
V18: 注１：本展開図は、見下げた状態で記載すること。 注２：覆工スパン番号は横断目地毎（矢板工法の場合は上半アーチ の横断目地毎)に設定すること。 注３：横断目地の変状は前の覆工スパン番号で計上すること。 注４：１枚に収まらない場合は、複数枚に分けて作成すること。

Sheet 様式D-2-1´_005
B3: ■定期点検記録様式 トンネル全体変状展開図（機器の活用時） 【様式D-2-1’】
B4: フリガナ | E4: (ﾀｲﾈｲｼﾞﾀﾞｲｲﾁﾄﾝﾈﾙ) | J4: 路線名 | M4: 国道491号（長門・俵山道路） | S4: 定期点検実施者 | W4: 株式会社荒谷建設コンサルタント | AC4: 定期点検年月日 | AF4: 45621
B5: 名 称 | E5: 大寧寺第1トンネル | J5: 管理者名 | M5: 山口県長門土木建築事務所 | W5: 河野 秀生
B6: トンネル変状展開図 | C6: トンネル全体変状展開図
V18: 注１：本展開図は、見下げた状態で記載すること。 注２：覆工スパン番号は横断目地毎（矢板工法の場合は上半アーチ の横断目地毎)に設定すること。 注３：横断目地の変状は前の覆工スパン番号で計上すること。 注４：１枚に収まらない場合は、複数枚に分けて作成すること。

Sheet 様式D-2-1´_006
B3: ■定期点検記録様式 トンネル全体変状展開図（機器の活用時） 【様式D-2-1’】
B4: フリガナ | E4: (ﾀｲﾈｲｼﾞﾀﾞｲｲﾁﾄﾝﾈﾙ) | J4: 路線名 | M4: 国道491号（長門・俵山道路） | S4: 定期点検実施者 | W4: 株式会社荒谷建設コンサルタント | AC4: 定期点検年月日 | AF4: 45621
B5: 名 称 | E5: 大寧寺第1トンネル | J5: 管理者名 | M5: 山口県長門土木建築事務所 | W5: 河野 秀生
B6: トンネル変状展開図 | C6: トンネル全体変状展開図
V18: 注１：本展開図は、見下げた状態で記載すること。 注２：覆工スパン番号は横断目地毎（矢板工法の場合は上半アーチ の横断目地毎)に設定すること。 注３：横断目地の変状は前の覆工スパン番号で計上すること。 注４：１枚に収まらない場合は、複数枚に分けて作成すること。

Sheet 様式D-2-1´_007
B3: ■定期点検記録様式 トンネル全体変状展開図（機器の活用時） 【様式D-2-1’】
B4: フリガナ | E4: (ﾀｲﾈｲｼﾞﾀﾞｲｲﾁﾄﾝﾈﾙ) | J4: 路線名 | M4: 国道491号（長門・俵山道路） | S4: 定期点検実施者 | W4: 株式会社荒谷建設コンサルタント | AC4: 定期点検年月日 | AF4: 45621
B5: 名 称 | E5: 大寧寺第1トンネル | J5: 管理者名 | M5: 山口県長門土木建築事務所 | W5: 河野 秀生
B6: トンネル変状展開図 | C6: トンネル全体変状展開図
V18: 注１：本展開図は、見下げた状態で記載すること。 注２：覆工スパン番号は横断目地毎（矢板工法の場合は上半アーチ の横断目地毎)に設定すること。 注３：横断目地の変状は前の覆工スパン番号で計上すること。 注４：１枚に収まらない場合は、複数枚に分けて作成すること。

Sheet 様式D-2-1´_008
B3: ■定期点検記録様式 トンネル全体変状展開図（機器の活用時） 【様式D-2-1’】
B4: フリガナ | E4: (ﾀｲﾈｲｼﾞﾀﾞｲｲﾁﾄﾝﾈﾙ) | J4: 路線名 | M4: 国道491号（長門・俵山道路） | S4: 定期点検実施者 | W4: 株式会社荒谷建設コンサルタント | AC4: 定期点検年月日 | AF4: 45621
B5: 名 称 | E5: 大寧寺第1トンネル | J5: 管理者名 | M5: 山口県長門土木建築事務所 | W5: 河野 秀生
B6: トンネル変状展開図 | C6: トンネル全体変状展開図
V18: 注１：本展開図は、見下げた状態で記載すること。 注２：覆工スパン番号は横断目地毎（矢板工法の場合は上半アーチ の横断目地毎)に設定すること。 注３：横断目地の変状は前の覆工スパン番号で計上すること。 注４：１枚に収まらない場合は、複数枚に分けて作成すること。

Sheet 様式D-2-1´_009
B3: ■定期点検記録様式 トンネル全体変状展開図（機器の活用時） 【様式D-2-1’】
B4: フリガナ | E4: (ﾀｲﾈｲｼﾞﾀﾞｲｲﾁﾄﾝﾈﾙ) | J4: 路線名 | M4: 国道491号（長門・俵山道路） | S4: 定期点検実施者 | W4: 株式会社荒谷建設コンサルタント | AC4: 定期点検年月日 | AF4: 45621
B5: 名 称 | E5: 大寧寺第1トンネル | J5: 管理者名 | M5: 山口県長門土木建築事務所 | W5: 河野 秀生
B6: トンネル変状展開図 | C6: トンネル全体変状展開図
V18: 注１：本展開図は、見下げた状態で記載すること。 注２：覆工スパン番号は横断目地毎（矢板工法の場合は上半アーチ の横断目地毎)に設定すること。 注３：横断目地の変状は前の覆工スパン番号で計上すること。 注４：１枚に収まらない場合は、複数枚に分けて作成すること。

Sheet 様式D-2-1´_010
B3: ■定期点検記録様式 トンネル全体変状展開図（機器の活用時） 【様式D-2-1’】
B4: フリガナ | E4: (ﾀｲﾈｲｼﾞﾀﾞｲｲﾁﾄﾝﾈﾙ) | J4: 路線名 | M4: 国道491号（長門・俵山道路） | S4: 定期点検実施者 | W4: 株式会社荒谷建設コンサルタント | AC4: 定期点検年月日 | AF4: 45621
B5: 名 称 | E5: 大寧寺第1トンネル | J5: 管理者名 | M5: 山口県長門土木建築事務所 | W5: 河野 秀生
B6: トンネル変状展開図 | C6: トンネル全体変状展開図
V18: 注１：本展開図は、見下げた状態で記載すること。 注２：覆工スパン番号は横断目地毎（矢板工法の場合は上半アーチ の横断目地毎)に設定すること。 注３：横断目地の変状は前の覆工スパン番号で計上すること。 注４：１枚に収まらない場合は、複数枚に分けて作成すること。

Sheet 様式D-2-1´_011
B3: ■定期点検記録様式 トンネル全体変状展開図（機器の活用時） 【様式D-2-1’】
B4: フリガナ | E4: (ﾀｲﾈｲｼﾞﾀﾞｲｲﾁﾄﾝﾈﾙ) | J4: 路線名 | M4: 国道491号（長門・俵山道路） | S4: 定期点検実施者 | W4: 株式会社荒谷建設コンサルタント | AC4: 定期点検年月日 | AF4: 45621
B5: 名 称 | E5: 大寧寺第1トンネル | J5: 管理者名 | M5: 山口県長門土木建築事務所 | W5: 河野 秀生
B6: トンネル変状展開図 | C6: トンネル全体変状展開図
V18: 注１：本展開図は、見下げた状態で記載すること。 注２：覆工スパン番号は横断目地毎（矢板工法の場合は上半アーチ の横断目地毎)に設定すること。 注３：横断目地の変状は前の覆工スパン番号で計上すること。 注４：１枚に収まらない場合は、複数枚に分けて作成すること。

Sheet 様式D-2-1´_012
B3: ■定期点検記録様式 トンネル全体変状展開図（機器の活用時） 【様式D-2-1’】
B4: フリガナ | E4: (ﾀｲﾈｲｼﾞﾀﾞｲｲﾁﾄﾝﾈﾙ) | J4: 路線名 | M4: 国道491号（長門・俵山道路） | S4: 定期点検実施者 | W4: 株式会社荒谷建設コンサルタント | AC4: 定期点検年月日 | AF4: 45621
B5: 名 称 | E5: 大寧寺第1トンネル | J5: 管理者名 | M5: 山口県長門土木建築事務所 | W5: 河野 秀生
B6: トンネル変状展開図 | C6: トンネル全体変状展開図
V18: 注１：本展開図は、見下げた状態で記載すること。 注２：覆工スパン番号は横断目地毎（矢板工法の場合は上半アーチ の横断目地毎)に設定すること。 注３：横断目地の変状は前の覆工スパン番号で計上すること。 注４：１枚に収まらない場合は、複数枚に分けて作成すること。

Sheet 様式D-2-1´_013
B3: ■定期点検記録様式 トンネル全体変状展開図（機器の活用時） 【様式D-2-1’】
B4: フリガナ | E4: (ﾀｲﾈｲｼﾞﾀﾞｲｲﾁﾄﾝﾈﾙ) | J4: 路線名 | M4: 国道491号（長門・俵山道路） | S4: 定期点検実施者 | W4: 株式会社荒谷建設コンサルタント | AC4: 定期点検年月日 | AF4: 45621
B5: 名 称 | E5: 大寧寺第1トンネル | J5: 管理者名 | M5: 山口県長門土木建築事務所 | W5: 河野 秀生
B6: トンネル変状展開図 | C6: トンネル全体変状展開図
V18: 注１：本展開図は、見下げた状態で記載すること。 注２：覆工スパン番号は横断目地毎（矢板工法の場合は上半アーチ の横断目地毎)に設定すること。 注３：横断目地の変状は前の覆工スパン番号で計上すること。 注４：１枚に収まらない場合は、複数枚に分けて作成すること。

Sheet 様式D-2-1´_014
B3: ■定期点検記録様式 トンネル全体変状展開図（機器の活用時） 【様式D-2-1’】
B4: フリガナ | E4: (ﾀｲﾈｲｼﾞﾀﾞｲｲﾁﾄﾝﾈﾙ) | J4: 路線名 | M4: 国道491号（長門・俵山道路） | S4: 定期点検実施者 | W4: 株式会社荒谷建設コンサルタント | AC4: 定期点検年月日 | AF4: 45621
B5: 名 称 | E5: 大寧寺第1トンネル | J5: 管理者名 | M5: 山口県長門土木建築事務所 | W5: 河野 秀生
B6: トンネル変状展開図 | C6: トンネル全体変状展開図
V18: 注１：本展開図は、見下げた状態で記載すること。 注２：覆工スパン番号は横断目地毎（矢板工法の場合は上半アーチ の横断目地毎)に設定すること。 注３：横断目地の変状は前の覆工スパン番号で計上すること。 注４：１枚に収まらない場合は、複数枚に分けて作成すること。

Sheet 様式D-2-1´_015
B3: ■定期点検記録様式 トンネル全体変状展開図（機器の活用時） 【様式D-2-1’】
B4: フリガナ | E4: (ﾀｲﾈｲｼﾞﾀﾞｲｲﾁﾄﾝﾈﾙ) | J4: 路線名 | M4: 国道491号（長門・俵山道路） | S4: 定期点検実施者 | W4: 株式会社荒谷建設コンサルタント | AC4: 定期点検年月日 | AF4: 45621
B5: 名 称 | E5: 大寧寺第1トンネル | J5: 管理者名 | M5: 山口県長門土木建築事務所 | W5: 河野 秀生
B6: トンネル変状展開図 | C6: トンネル全体変状展開図
V18: 注１：本展開図は、見下げた状態で記載すること。 注２：覆工スパン番号は横断目地毎（矢板工法の場合は上半アーチ の横断目地毎)に設定すること。 注３：横断目地の変状は前の覆工スパン番号で計上すること。 注４：１枚に収まらない場合は、複数枚に分けて作成すること。

Sheet 様式D-2-1´_016
B3: ■定期点検記録様式 トンネル全体変状展開図（機器の活用時） 【様式D-2-1’】
B4: フリガナ | E4: (ﾀｲﾈｲｼﾞﾀﾞｲｲﾁﾄﾝﾈﾙ) | J4: 路線名 | M4: 国道491号（長門・俵山道路） | S4: 定期点検実施者 | W4: 株式会社荒谷建設コンサルタント | AC4: 定期点検年月日 | AF4: 45621
B5: 名 称 | E5: 大寧寺第1トンネル | J5: 管理者名 | M5: 山口県長門土木建築事務所 | W5: 河野 秀生
B6: トンネル変状展開図 | C6: トンネル全体変状展開図
V18: 注１：本展開図は、見下げた状態で記載すること。 注２：覆工スパン番号は横断目地毎（矢板工法の場合は上半アーチ の横断目地毎)に設定すること。 注３：横断目地の変状は前の覆工スパン番号で計上すること。 注４：１枚に収まらない場合は、複数枚に分けて作成すること。

Sheet 様式D-2-1´_017
B3: ■定期点検記録様式 トンネル全体変状展開図（機器の活用時） 【様式D-2-1’】
B4: フリガナ | E4: (ﾀｲﾈｲｼﾞﾀﾞｲｲﾁﾄﾝﾈﾙ) | J4: 路線名 | M4: 国道491号（長門・俵山道路） | S4: 定期点検実施者 | W4: 株式会社荒谷建設コンサルタント | AC4: 定期点検年月日 | AF4: 45621
B5: 名 称 | E5: 大寧寺第1トンネル | J5: 管理者名 | M5: 山口県長門土木建築事務所 | W5: 河野 秀生
B6: トンネル変状展開図 | C6: トンネル全体変状展開図
V18: 注１：本展開図は、見下げた状態で記載すること。 注２：覆工スパン番号は横断目地毎（矢板工法の場合は上半アーチ の横断目地毎)に設定すること。 注３：横断目地の変状は前の覆工スパン番号で計上すること。 注４：１枚に収まらない場合は、複数枚に分けて作成すること。

Sheet 様式D-2-1´_018
B3: ■定期点検記録様式 トンネル全体変状展開図（機器の活用時） 【様式D-2-1’】
B4: フリガナ | E4: (ﾀｲﾈｲｼﾞﾀﾞｲｲﾁﾄﾝﾈﾙ) | J4: 路線名 | M4: 国道491号（長門・俵山道路） | S4: 定期点検実施者 | W4: 株式会社荒谷建設コンサルタント | AC4: 定期点検年月日 | AF4: 45621
B5: 名 称 | E5: 大寧寺第1トンネル | J5: 管理者名 | M5: 山口県長門土木建築事務所 | W5: 河野 秀生
B6: トンネル変状展開図 | C6: トンネル全体変状展開図
V18: 注１：本展開図は、見下げた状態で記載すること。 注２：覆工スパン番号は横断目地毎（矢板工法の場合は上半アーチ の横断目地毎)に設定すること。 注３：横断目地の変状は前の覆工スパン番号で計上すること。 注４：１枚に収まらない場合は、複数枚に分けて作成すること。

Sheet 様式D-2-1´_019
B3: ■定期点検記録様式 トンネル全体変状展開図（機器の活用時） 【様式D-2-1’】
B4: フリガナ | E4: (ﾀｲﾈｲｼﾞﾀﾞｲｲﾁﾄﾝﾈﾙ) | J4: 路線名 | M4: 国道491号（長門・俵山道路） | S4: 定期点検実施者 | W4: 株式会社荒谷建設コンサルタント | AC4: 定期点検年月日 | AF4: 45621
B5: 名 称 | E5: 大寧寺第1トンネル | J5: 管理者名 | M5: 山口県長門土木建築事務所 | W5: 河野 秀生
B6: トンネル変状展開図 | C6: トンネル全体変状展開図
V18: 注１：本展開図は、見下げた状態で記載すること。 注２：覆工スパン番号は横断目地毎（矢板工法の場合は上半アーチ の横断目地毎)に設定すること。 注３：横断目地の変状は前の覆工スパン番号で計上すること。 注４：１枚に収まらない場合は、複数枚に分けて作成すること。

Sheet 様式D-2-1´_020
B3: ■定期点検記録様式 トンネル全体変状展開図（機器の活用時） 【様式D-2-1’】
B4: フリガナ | E4: (ﾀｲﾈｲｼﾞﾀﾞｲｲﾁﾄﾝﾈﾙ) | J4: 路線名 | M4: 国道491号（長門・俵山道路） | S4: 定期点検実施者 | W4: 株式会社荒谷建設コンサルタント | AC4: 定期点検年月日 | AF4: 45621
B5: 名 称 | E5: 大寧寺第1トンネル | J5: 管理者名 | M5: 山口県長門土木建築事務所 | W5: 河野 秀生
B6: トンネル変状展開図 | C6: トンネル全体変状展開図
V18: 注１：本展開図は、見下げた状態で記載すること。 注２：覆工スパン番号は横断目地毎（矢板工法の場合は上半アーチ の横断目地毎)に設定すること。 注３：横断目地の変状は前の覆工スパン番号で計上すること。 注４：１枚に収まらない場合は、複数枚に分けて作成すること。

Sheet 様式D-2-1´_021
B3: ■定期点検記録様式 トンネル全体変状展開図（機器の活用時） 【様式D-2-1’】
B4: フリガナ | E4: (ﾀｲﾈｲｼﾞﾀﾞｲｲﾁﾄﾝﾈﾙ) | J4: 路線名 | M4: 国道491号（長門・俵山道路） | S4: 定期点検実施者 | W4: 株式会社荒谷建設コンサルタント | AC4: 定期点検年月日 | AF4: 45621
B5: 名 称 | E5: 大寧寺第1トンネル | J5: 管理者名 | M5: 山口県長門土木建築事務所 | W5: 河野 秀生
B6: トンネル変状展開図 | C6: トンネル全体変状展開図
V18: 注１：本展開図は、見下げた状態で記載すること。 注２：覆工スパン番号は横断目地毎（矢板工法の場合は上半アーチ の横断目地毎)に設定すること。 注３：横断目地の変状は前の覆工スパン番号で計上すること。 注４：１枚に収まらない場合は、複数枚に分けて作成すること。

Sheet 様式D-2-1´_022
B3: ■定期点検記録様式 トンネル全体変状展開図（機器の活用時） 【様式D-2-1’】
B4: フリガナ | E4: (ﾀｲﾈｲｼﾞﾀﾞｲｲﾁﾄﾝﾈﾙ) | J4: 路線名 | M4: 国道491号（長門・俵山道路） | S4: 定期点検実施者 | W4: 株式会社荒谷建設コンサルタント | AC4: 定期点検年月日 | AF4: 45621
B5: 名 称 | E5: 大寧寺第1トンネル | J5: 管理者名 | M5: 山口県長門土木建築事務所 | W5: 河野 秀生
B6: トンネル変状展開図 | C6: トンネル全体変状展開図
V18: 注１：本展開図は、見下げた状態で記載すること。 注２：覆工スパン番号は横断目地毎（矢板工法の場合は上半アーチ の横断目地毎)に設定すること。 注３：横断目地の変状は前の覆工スパン番号で計上すること。 注４：１枚に収まらない場合は、複数枚に分けて作成すること。

Sheet 様式D-2-1´_023
B3: ■定期点検記録様式 トンネル全体変状展開図（機器の活用時） 【様式D-2-1’】
B4: フリガナ | E4: (ﾀｲﾈｲｼﾞﾀﾞｲｲﾁﾄﾝﾈﾙ) | J4: 路線名 | M4: 国道491号（長門・俵山道路） | S4: 定期点検実施者 | W4: 株式会社荒谷建設コンサルタント | AC4: 定期点検年月日 | AF4: 45621
B5: 名 称 | E5: 大寧寺第1トンネル | J5: 管理者名 | M5: 山口県長門土木建築事務所 | W5: 河野 秀生
B6: トンネル変状展開図 | C6: トンネル全体変状展開図
V18: 注１：本展開図は、見下げた状態で記載すること。 注２：覆工スパン番号は横断目地毎（矢板工法の場合は上半アーチ の横断目地毎)に設定すること。 注３：横断目地の変状は前の覆工スパン番号で計上すること。 注４：１枚に収まらない場合は、複数枚に分けて作成すること。

Sheet 様式D-2-1´_024
B3: ■定期点検記録様式 トンネル全体変状展開図（機器の活用時） 【様式D-2-1’】
B4: フリガナ | E4: (ﾀｲﾈｲｼﾞﾀﾞｲｲﾁﾄﾝﾈﾙ) | J4: 路線名 | M4: 国道491号（長門・俵山道路） | S4: 定期点検実施者 | W4: 株式会社荒谷建設コンサルタント | AC4: 定期点検年月日 | AF4: 45621
B5: 名 称 | E5: 大寧寺第1トンネル | J5: 管理者名 | M5: 山口県長門土木建築事務所 | W5: 河野 秀生
B6: トンネル変状展開図 | C6: トンネル全体変状展開図
V18: 注１：本展開図は、見下げた状態で記載すること。 注２：覆工スパン番号は横断目地毎（矢板工法の場合は上半アーチ の横断目地毎)に設定すること。 注３：横断目地の変状は前の覆工スパン番号で計上すること。 注４：１枚に収まらない場合は、複数枚に分けて作成すること。

Sheet 様式D-2-1´_025
B3: ■定期点検記録様式 トンネル全体変状展開図（機器の活用時） 【様式D-2-1’】
B4: フリガナ | E4: (ﾀｲﾈｲｼﾞﾀﾞｲｲﾁﾄﾝﾈﾙ) | J4: 路線名 | M4: 国道491号（長門・俵山道路） | S4: 定期点検実施者 | W4: 株式会社荒谷建設コンサルタント | AC4: 定期点検年月日 | AF4: 45621
B5: 名 称 | E5: 大寧寺第1トンネル | J5: 管理者名 | M5: 山口県長門土木建築事務所 | W5: 河野 秀生
B6: トンネル変状展開図 | C6: トンネル全体変状展開図
V18: 注１：本展開図は、見下げた状態で記載すること。 注２：覆工スパン番号は横断目地毎（矢板工法の場合は上半アーチ の横断目地毎)に設定すること。 注３：横断目地の変状は前の覆工スパン番号で計上すること。 注４：１枚に収まらない場合は、複数枚に分けて作成すること。

Sheet 様式D-2-1´_026
B3: ■定期点検記録様式 トンネル全体変状展開図（機器の活用時） 【様式D-2-1’】
B4: フリガナ | E4: (ﾀｲﾈｲｼﾞﾀﾞｲｲﾁﾄﾝﾈﾙ) | J4: 路線名 | M4: 国道491号（長門・俵山道路） | S4: 定期点検実施者 | W4: 株式会社荒谷建設コンサルタント | AC4: 定期点検年月日 | AF4: 45621
B5: 名 称 | E5: 大寧寺第1トンネル | J5: 管理者名 | M5: 山口県長門土木建築事務所 | W5: 河野 秀生
B6: トンネル変状展開図 | C6: トンネル全体変状展開図
V18: 注１：本展開図は、見下げた状態で記載すること。 注２：覆工スパン番号は横断目地毎（矢板工法の場合は上半アーチ の横断目地毎)に設定すること。 注３：横断目地の変状は前の覆工スパン番号で計上すること。 注４：１枚に収まらない場合は、複数枚に分けて作成すること。

Sheet 様式D-2-1´_027
B3: ■定期点検記録様式 トンネル全体変状展開図（機器の活用時） 【様式D-2-1’】
B4: フリガナ | E4: (ﾀｲﾈｲｼﾞﾀﾞｲｲﾁﾄﾝﾈﾙ) | J4: 路線名 | M4: 国道491号（長門・俵山道路） | S4: 定期点検実施者 | W4: 株式会社荒谷建設コンサルタント | AC4: 定期点検年月日 | AF4: 45621
B5: 名 称 | E5: 大寧寺第1トンネル | J5: 管理者名 | M5: 山口県長門土木建築事務所 | W5: 河野 秀生
B6: トンネル変状展開図 | C6: トンネル全体変状展開図
V18: 注１：本展開図は、見下げた状態で記載すること。 注２：覆工スパン番号は横断目地毎（矢板工法の場合は上半アーチ の横断目地毎)に設定すること。 注３：横断目地の変状は前の覆工スパン番号で計上すること。 注４：１枚に収まらない場合は、複数枚に分けて作成すること。

Sheet 様式D-2-1´_028
B3: ■定期点検記録様式 トンネル全体変状展開図（機器の活用時） 【様式D-2-1’】
B4: フリガナ | E4: (ﾀｲﾈｲｼﾞﾀﾞｲｲﾁﾄﾝﾈﾙ) | J4: 路線名 | M4: 国道491号（長門・俵山道路） | S4: 定期点検実施者 | W4: 株式会社荒谷建設コンサルタント | AC4: 定期点検年月日 | AF4: 45621
B5: 名 称 | E5: 大寧寺第1トンネル | J5: 管理者名 | M5: 山口県長門土木建築事務所 | W5: 河野 秀生
B6: トンネル変状展開図 | C6: トンネル全体変状展開図
V18: 注１：本展開図は、見下げた状態で記載すること。 注２：覆工スパン番号は横断目地毎（矢板工法の場合は上半アーチ の横断目地毎)に設定すること。 注３：横断目地の変状は前の覆工スパン番号で計上すること。 注４：１枚に収まらない場合は、複数枚に分けて作成すること。

Sheet 様式D-2-1´_029
B3: ■定期点検記録様式 トンネル全体変状展開図（機器の活用時） 【様式D-2-1’】
B4: フリガナ | E4: (ﾀｲﾈｲｼﾞﾀﾞｲｲﾁﾄﾝﾈﾙ) | J4: 路線名 | M4: 国道491号（長門・俵山道路） | S4: 定期点検実施者 | W4: 株式会社荒谷建設コンサルタント | AC4: 定期点検年月日 | AF4: 45621
B5: 名 称 | E5: 大寧寺第1トンネル | J5: 管理者名 | M5: 山口県長門土木建築事務所 | W5: 河野 秀生
B6: トンネル変状展開図 | C6: トンネル全体変状展開図
V18: 注１：本展開図は、見下げた状態で記載すること。 注２：覆工スパン番号は横断目地毎（矢板工法の場合は上半アーチ の横断目地毎)に設定すること。 注３：横断目地の変状は前の覆工スパン番号で計上すること。 注４：１枚に収まらない場合は、複数枚に分けて作成すること。

Sheet 様式D-2-1´_030
B3: ■定期点検記録様式 トンネル全体変状展開図（機器の活用時） 【様式D-2-1’】
B4: フリガナ | E4: (ﾀｲﾈｲｼﾞﾀﾞｲｲﾁﾄﾝﾈﾙ) | J4: 路線名 | M4: 国道491号（長門・俵山道路） | S4: 定期点検実施者 | W4: 株式会社荒谷建設コンサルタント | AC4: 定期点検年月日 | AF4: 45621
B5: 名 称 | E5: 大寧寺第1トンネル | J5: 管理者名 | M5: 山口県長門土木建築事務所 | W5: 河野 秀生
B6: トンネル変状展開図 | C6: トンネル全体変状展開図
V18: 注１：本展開図は、見下げた状態で記載すること。 注２：覆工スパン番号は横断目地毎（矢板工法の場合は上半アーチ の横断目地毎)に設定すること。 注３：横断目地の変状は前の覆工スパン番号で計上すること。 注４：１枚に収まらない場合は、複数枚に分けて作成すること。

Sheet 様式D-2-1´_031
B3: ■定期点検記録様式 トンネル全体変状展開図（機器の活用時） 【様式D-2-1’】
B4: フリガナ | E4: (ﾀｲﾈｲｼﾞﾀﾞｲｲﾁﾄﾝﾈﾙ) | J4: 路線名 | M4: 国道491号（長門・俵山道路） | S4: 定期点検実施者 | W4: 株式会社荒谷建設コンサルタント | AC4: 定期点検年月日 | AF4: 45621
B5: 名 称 | E5: 大寧寺第1トンネル | J5: 管理者名 | M5: 山口県長門土木建築事務所 | W5: 河野 秀生
B6: トンネル変状展開図 | C6: トンネル全体変状展開図
V18: 注１：本展開図は、見下げた状態で記載すること。 注２：覆工スパン番号は横断目地毎（矢板工法の場合は上半アーチ の横断目地毎)に設定すること。 注３：横断目地の変状は前の覆工スパン番号で計上すること。 注４：１枚に収まらない場合は、複数枚に分けて作成すること。

Sheet 様式D-2-1´_032
B3: ■定期点検記録様式 トンネル全体変状展開図（機器の活用時） 【様式D-2-1’】
B4: フリガナ | E4: (ﾀｲﾈｲｼﾞﾀﾞｲｲﾁﾄﾝﾈﾙ) | J4: 路線名 | M4: 国道491号（長門・俵山道路） | S4: 定期点検実施者 | W4: 株式会社荒谷建設コンサルタント | AC4: 定期点検年月日 | AF4: 45621
B5: 名 称 | E5: 大寧寺第1トンネル | J5: 管理者名 | M5: 山口県長門土木建築事務所 | W5: 河野 秀生
B6: トンネル変状展開図 | C6: トンネル全体変状展開図
V18: 注１：本展開図は、見下げた状態で記載すること。 注２：覆工スパン番号は横断目地毎（矢板工法の場合は上半アーチ の横断目地毎)に設定すること。 注３：横断目地の変状は前の覆工スパン番号で計上すること。 注４：１枚に収まらない場合は、複数枚に分けて作成すること。

Sheet 様式D-2-1´_033
B3: ■定期点検記録様式 トンネル全体変状展開図（機器の活用時） 【様式D-2-1’】
B4: フリガナ | E4: (ﾀｲﾈｲｼﾞﾀﾞｲｲﾁﾄﾝﾈﾙ) | J4: 路線名 | M4: 国道491号（長門・俵山道路） | S4: 定期点検実施者 | W4: 株式会社荒谷建設コンサルタント | AC4: 定期点検年月日 | AF4: 45621
B5: 名 称 | E5: 大寧寺第1トンネル | J5: 管理者名 | M5: 山口県長門土木建築事務所 | W5: 河野 秀生
B6: トンネル変状展開図 | C6: トンネル全体変状展開図
V18: 注１：本展開図は、見下げた状態で記載すること。 注２：覆工スパン番号は横断目地毎（矢板工法の場合は上半アーチ の横断目地毎)に設定すること。 注３：横断目地の変状は前の覆工スパン番号で計上すること。 注４：１枚に収まらない場合は、複数枚に分けて作成すること。

Sheet 様式D-2-1´_034
B3: ■定期点検記録様式 トンネル全体変状展開図（機器の活用時） 【様式D-2-1’】
B4: フリガナ | E4: (ﾀｲﾈｲｼﾞﾀﾞｲｲﾁﾄﾝﾈﾙ) | J4: 路線名 | M4: 国道491号（長門・俵山道路） | S4: 定期点検実施者 | W4: 株式会社荒谷建設コンサルタント | AC4: 定期点検年月日 | AF4: 45621
B5: 名 称 | E5: 大寧寺第1トンネル | J5: 管理者名 | M5: 山口県長門土木建築事務所 | W5: 河野 秀生
B6: トンネル変状展開図 | C6: トンネル全体変状展開図
V18: 注１：本展開図は、見下げた状態で記載すること。 注２：覆工スパン番号は横断目地毎（矢板工法の場合は上半アーチ の横断目地毎)に設定すること。 注３：横断目地の変状は前の覆工スパン番号で計上すること。 注４：１枚に収まらない場合は、複数枚に分けて作成すること。

Sheet 様式D-2-1´_035
B3: ■定期点検記録様式 トンネル全体変状展開図（機器の活用時） 【様式D-2-1’】
B4: フリガナ | E4: (ﾀｲﾈｲｼﾞﾀﾞｲｲﾁﾄﾝﾈﾙ) | J4: 路線名 | M4: 国道491号（長門・俵山道路） | S4: 定期点検実施者 | W4: 株式会社荒谷建設コンサルタント | AC4: 定期点検年月日 | AF4: 45621
B5: 名 称 | E5: 大寧寺第1トンネル | J5: 管理者名 | M5: 山口県長門土木建築事務所 | W5: 河野 秀生
B6: トンネル変状展開図 | C6: トンネル全体変状展開図
V18: 注１：本展開図は、見下げた状態で記載すること。 注２：覆工スパン番号は横断目地毎（矢板工法の場合は上半アーチ の横断目地毎)に設定すること。 注３：横断目地の変状は前の覆工スパン番号で計上すること。 注４：１枚に収まらない場合は、複数枚に分けて作成すること。

Sheet 様式D-3_PS
AU1: 様式F用→ | AV1: 覆工スパン | AY1: 変 状 数 | BK1: 変 状 規 模
AV2: 番号 | AW2: 延長 （ｍ） | AX2: 健全性の診断の 区分 | AY2: 対策区分の判定 | BK2: 覆工スパン長（ｍ） | BO2: 変状の発生範囲の規模（㎡）
B3: ■定期点検記録様式 覆工スパン別変状詳細展開図 【様式D-3】 | AY3: 外力 | BC3: 材質劣化 | BG3: 漏水 | BK3: 外力 注2 | BO3: 材質劣化 | BS3: 漏水
B4: フリガナ | E4: (ﾀｲﾈｲｼﾞﾀﾞｲｲﾁﾄﾝﾈﾙ) | K4: 路線名 | N4: 国道491号（長門・俵山道路） | T4: 定期点検業者 | Y4: 株式会社荒谷建設コンサルタント | AG4: 定期点検年月日 | AK4: 45621 | AY4: Ⅳ | AZ4: Ⅲ | BA4: Ⅱa | BB4: Ⅱb | BC4: Ⅳ | BD4: Ⅲ | BE4: Ⅱa | BF4: Ⅱb | BG4: Ⅳ | BH4: Ⅲ | BI4: Ⅱa | BJ4: Ⅱb | BK4: Ⅳ | BL4: Ⅲ | BM4: Ⅱa | BN4: Ⅱb | BO4: Ⅳ | BP4: Ⅲ | BQ4: Ⅱa | BR4: Ⅱb | BS4: Ⅳ | BT4: Ⅲ | BU4: Ⅱa | BV4: Ⅱb
B5: 名 称 | E5: 大寧寺第1トンネル | K5: 管理者名 | N5: 山口県長門土木建築事務所 | Y5: 河野 秀生 | AV5: =N7 -> PS | AW5: =R7 -> 0 | AX5: =AM35 -> Ⅰ | AY5: =Y37 -> 0 | AZ5: =Z37 -> 0 | BA5: =AA37 -> 0 | BB5: =AB37 -> 0 | BC5: =AC37 -> 0 | BD5: =AD37 -> 0 | BE5: =AE37 -> 0 | BF5: =AF37 -> 0 | ... BJ5: =AJ37 -> 0 | BK5: =IF(Y37>0,R7,"") | BL5: =IF(Y37>0,"",IF(Z37>0,R7,"")) | BM5: =IF(Y37+Z37>0,"",IF(AA37>0,R7,"")) | BN5: =IF(Y37+Z37+AA37>0,"",IF(AB37>0,R7,"")) | BO5: =AC35 -> 0 | BP5: =AD35 -> 0 | BQ5: =AE35 -> 0 | BR5: =AF35 -> 0 | BS5: =AG35 -> 0 | BT5: =AH35 -> 0 | BU5: =AI35 -> 0 | BV5: =AJ35 -> 0
B6: スパン別変状展開図 | K6: 【健全性判定集計表】
K7: スパン番号 | N7: PS | P7: スパン長 | R7: 0 | U7: 前回定期点検時の判定 | W7: 応急措置前の判定 | Y7: 対策区分毎の 変状の有無 | AC7: 対策区分毎の変状の発生範囲の規模(㎡) | AK7: 備考注2
K8: 変状番号 | L8: 対象箇所 | N8: 部位区分 | P8: 変状区分 | R8: 変状種類
Y9: 外力注1 | AC9: 材質劣化注1 | AG9: 漏水注1
Y10: Ⅳ | Z10: Ⅲ | AA10: Ⅱa | AB10: Ⅱb | AC10: Ⅳ | AD10: Ⅲ | AE10: Ⅱa | AF10: Ⅱb | AG10: Ⅳ | AH10: Ⅲ | AI10: Ⅱa | AJ10: Ⅱb
AQ11: =IF(P11="材質劣化",2,IF(P11="漏水",3,1)) -> 1
AQ12: =IF(P12="材質劣化",2,IF(P12="漏水",3,1)) -> 1
AQ13: =IF(P13="材質劣化",2,IF(P13="漏水",3,1)) -> 1
AQ14: =IF(P14="材質劣化",2,IF(P14="漏水",3,1)) -> 1
AQ15: =IF(P15="材質劣化",2,IF(P15="漏水",3,1)) -> 1
AQ16: =IF(P16="材質劣化",2,IF(P16="漏水",3,1)) -> 1
AQ17: =IF(P17="材質劣化",2,IF(P17="漏水",3,1)) -> 1
AQ18: =IF(P18="材質劣化",2,IF(P18="漏水",3,1)) -> 1
AQ19: =IF(P19="材質劣化",2,IF(P19="漏水",3,1)) -> 1
AQ20: =IF(P20="材質劣化",2,IF(P20="漏水",3,1)) -> 1
AQ21: =IF(P21="材質劣化",2,IF(P21="漏水",3,1)) -> 1
AQ22: =IF(P22="材質劣化",2,IF(P22="漏水",3,1)) -> 1
... AQ34: =IF(P34="材質劣化",2,IF(P34="漏水",3,1)) -> 1
K35: 集計 判定 診断 | L35: 変状の発生規模合計(㎡) | Y35: － | AC35: =SUM(AC11:AC34) -> 0 | AD35: =SUM(AD11:AD34) -> 0 | AE35: =SUM(AE11:AE34) -> 0 | AF35: =SUM(AF11:AF34) -> 0 | AG35: =SUM(AG11:AG34) -> 0 | AH35: =SUM(AH11:AH34) -> 0 | AI35: =SUM(AI11:AI34) -> 0 | AJ35: =SUM(AJ11:AJ34) -> 0 | AK35: 覆工スパン単位の 健全性の 診断の区分 | AM35: Ⅰ
L36: 対策区分の 判定結果 | O36: 対策区分毎の変状数 | Y36: Ⅳ | Z36: Ⅲ | AA36: Ⅱa | AB36: Ⅱb | AC36: Ⅳ | AD36: Ⅲ | AE36: Ⅱa | AF36: Ⅱb | AG36: Ⅳ | AH36: Ⅲ | AI36: Ⅱa | AJ36: Ⅱb
Y37: =COUNTIF(Y11:Y34,"〇") -> 0 | Z37: =COUNTIF(Z11:Z34,"〇") -> 0 | AA37: =COUNTIF(AA11:AA34,"〇") -> 0 | AB37: =COUNTIF(AB11:AB34,"〇") -> 0 | AC37: =COUNTA(AC11:AC34) -> 0 | AD37: =COUNTA(AD11:AD34) -> 0 | AE37: =COUNTA(AE11:AE34) -> 0 | AF37: =COUNTA(AF11:AF34) -> 0 | AG37: =COUNTA(AG11:AG34) -> 0 | AH37: =COUNTA(AH11:AH34) -> 0 | AI37: =COUNTA(AI11:AI34) -> 0 | AJ37: =COUNTA(AJ11:AJ34) -> 0
K39: 所見
K43: 注1：誤記入防止のため、当該変状区分以外のセルは灰色表示とすること。
K44: 注2：応急措置を実施した場合は、その詳細を備考に記載すること。
K45: 注3：外力は覆工スパン単位、材質劣化、漏水は変状単位とすること。
B46: （以下、印刷不要）
B47: ※1：本シートは作成洩れのないよう、変状が無くても全スパン分を作成すること．また変状展開図は、様式D-2-1、様式D-2-1'と同じものを覆工スパン単位で拡大し掲載すること。
B48: ※2：変状番号は、様式D-1-1で記入した番号と整合させること。
B49: ※3：対策区分毎の変状発生規模は、様式D-1-1に記載した面積を記入すること（ただし外力はスパン単位で評価するため変状の有無の欄には面積でなく○を記入し、備考欄に状況を記入）。
B50: ※4：本様式は覆工スパン毎に作成すること。
B51: ※5：変状数が多い場合は、適時、表の行を増やして覆工スパン毎に1枚のシートに収めること。また、1スパン１シートとし、スパンに合わせてシートを追加すること。
B52: ※6：対策区分毎の変状の発生範囲の規模とは，対策を行う際に参考となる変状の長さや面積であり，変状を包含する長さや面積とする。
B53: ※7：対策範囲を示す発生範囲の規模を面積で記入することが妥当ではない変状は、発生範囲の規模の欄に○を記入するとともに、備考に内容を記入すること。

Sheet 様式D-3_S001
AU1: 様式F用→ | AV1: 覆工スパン | AY1: 変 状 数 | BK1: 変 状 規 模
AV2: 番号 | AW2: 延長 （ｍ） | AX2: 健全性の診断の 区分 | AY2: 対策区分の判定 | BK2: 覆工スパン長（ｍ） | BO2: 変状の発生範囲の規模（㎡）
B3: ■定期点検記録様式 覆工スパン別変状詳細展開図 【様式D-3】 | AY3: 外力 | BC3: 材質劣化 | BG3: 漏水 | BK3: 外力 注2 | BO3: 材質劣化 | BS3: 漏水
B4: フリガナ | E4: (ﾀｲﾈｲｼﾞﾀﾞｲｲﾁﾄﾝﾈﾙ) | K4: 路線名 | N4: 国道491号（長門・俵山道路） | T4: 定期点検業者 | Y4: 株式会社荒谷建設コンサルタント | AG4: 定期点検年月日 | AK4: 45621 | AY4: Ⅳ | AZ4: Ⅲ | BA4: Ⅱa | BB4: Ⅱb | BC4: Ⅳ | BD4: Ⅲ | BE4: Ⅱa | BF4: Ⅱb | BG4: Ⅳ | BH4: Ⅲ | BI4: Ⅱa | BJ4: Ⅱb | BK4: Ⅳ | BL4: Ⅲ | BM4: Ⅱa | BN4: Ⅱb | BO4: Ⅳ | BP4: Ⅲ | BQ4: Ⅱa | BR4: Ⅱb | BS4: Ⅳ | BT4: Ⅲ | BU4: Ⅱa | BV4: Ⅱb
B5: 名 称 | E5: 大寧寺第1トンネル | K5: 管理者名 | N5: 山口県長門土木建築事務所 | Y5: 河野 秀生 | AV5: =N7 -> S001 | AW5: =R7 -> 8 | AX5: =AM35 -> Ⅱ | AY5: =Y37 -> 0 | AZ5: =Z37 -> 0 | BA5: =AA37 -> 0 | BB5: =AB37 -> 0 | BC5: =AC37 -> 0 | BD5: =AD37 -> 0 | BE5: =AE37 -> 1 | BF5: =AF37 -> 0 | ... BJ5: =AJ37 -> 0 | BK5: =IF(Y37>0,R7,"") | BL5: =IF(Y37>0,"",IF(Z37>0,R7,"")) | BM5: =IF(Y37+Z37>0,"",IF(AA37>0,R7,"")) | BN5: =IF(Y37+Z37+AA37>0,"",IF(AB37>0,R7,"")) | BO5: =AC35 -> 0 | BP5: =AD35 -> 0 | BQ5: =AE35 -> 0.04 | BR5: =AF35 -> 0 | BS5: =AG35 -> 0 | BT5: =AH35 -> 0 | BU5: =AI35 -> 0 | BV5: =AJ35 -> 0
B6: スパン別変状展開図 | K6: 【健全性判定集計表】
K7: スパン番号 | N7: S001 | P7: スパン長 | R7: 8 | U7: 前回定期点検時の判定 | W7: 応急措置前の判定 | Y7: 対策区分毎の 変状の有無 | AC7: 対策区分毎の変状の発生範囲の規模(㎡) | AK7: 備考注2
K8: 変状番号 | L8: 対象箇所 | N8: 部位区分 | P8: 変状区分 | R8: 変状種類
Y9: 外力注1 | AC9: 材質劣化注1 | AG9: 漏水注1
Y10: Ⅳ | Z10: Ⅲ | AA10: Ⅱa | AB10: Ⅱb | AC10: Ⅳ | AD10: Ⅲ | AE10: Ⅱa | AF10: Ⅱb | AG10: Ⅳ | AH10: Ⅲ | AI10: Ⅱa | AJ10: Ⅱb
K11: 1 | L11: 覆工 | N11: アーチ（左側） | P11: 材質劣化 | R11: うき・はく離 | U11: Ⅱb | AE11: 0.04 | AQ11: =IF(P11="材質劣化",2,IF(P11="漏水",3,1)) -> 2
AQ12: =IF(P12="材質劣化",2,IF(P12="漏水",3,1)) -> 1
AQ13: =IF(P13="材質劣化",2,IF(P13="漏水",3,1)) -> 1
AQ14: =IF(P14="材質劣化",2,IF(P14="漏水",3,1)) -> 1
AQ15: =IF(P15="材質劣化",2,IF(P15="漏水",3,1)) -> 1
AQ16: =IF(P16="材質劣化",2,IF(P16="漏水",3,1)) -> 1
AQ17: =IF(P17="材質劣化",2,IF(P17="漏水",3,1)) -> 1
AQ18: =IF(P18="材質劣化",2,IF(P18="漏水",3,1)) -> 1
AQ19: =IF(P19="材質劣化",2,IF(P19="漏水",3,1)) -> 1
AQ20: =IF(P20="材質劣化",2,IF(P20="漏水",3,1)) -> 1
AQ21: =IF(P21="材質劣化",2,IF(P21="漏水",3,1)) -> 1
AQ22: =IF(P22="材質劣化",2,IF(P22="漏水",3,1)) -> 1
AQ23: =IF(P23="材質劣化",2,IF(P23="漏水",3,1)) -> 1
... AQ34: =IF(P34="材質劣化",2,IF(P34="漏水",3,1)) -> 1
K35: 集計 判定 診断 | L35: 変状の発生規模合計(㎡) | Y35: － | AC35: =SUM(AC11:AC34) -> 0 | AD35: =SUM(AD11:AD34) -> 0 | AE35: =SUM(AE11:AE34) -> 0.04 | AF35: =SUM(AF11:AF34) -> 0 | AG35: =SUM(AG11:AG34) -> 0 | AH35: =SUM(AH11:AH34) -> 0 | AI35: =SUM(AI11:AI34) -> 0 | AJ35: =SUM(AJ11:AJ34) -> 0 | AK35: 覆工スパン単位の 健全性の 診断の区分 | AM35: Ⅱ
L36: 対策区分の 判定結果 | O36: 対策区分毎の変状数 | Y36: Ⅳ | Z36: Ⅲ | AA36: Ⅱa | AB36: Ⅱb | AC36: Ⅳ | AD36: Ⅲ | AE36: Ⅱa | AF36: Ⅱb | AG36: Ⅳ | AH36: Ⅲ | AI36: Ⅱa | AJ36: Ⅱb
Y37: =COUNTIF(Y11:Y34,"〇") -> 0 | Z37: =COUNTIF(Z11:Z34,"〇") -> 0 | AA37: =COUNTIF(AA11:AA34,"〇") -> 0 | AB37: =COUNTIF(AB11:AB34,"〇") -> 0 | AC37: =COUNTA(AC11:AC34) -> 0 | AD37: =COUNTA(AD11:AD34) -> 0 | AE37: =COUNTA(AE11:AE34) -> 1 | AF37: =COUNTA(AF11:AF34) -> 0 | AG37: =COUNTA(AG11:AG34) -> 0 | AH37: =COUNTA(AH11:AH34) -> 0 | AI37: =COUNTA(AI11:AI34) -> 0 | AJ37: =COUNTA(AJ11:AJ34) -> 0
K39: 所見
K43: 注1：誤記入防止のため、当該変状区分以外のセルは灰色表示とすること。
K44: 注2：応急措置を実施した場合は、その詳細を備考に記載すること。
K45: 注3：外力は覆工スパン単位、材質劣化、漏水は変状単位とすること。
B46: （以下、印刷不要）
B47: ※1：本シートは作成洩れのないよう、変状が無くても全スパン分を作成すること．また変状展開図は、様式D-2-1、様式D-2-1'と同じものを覆工スパン単位で拡大し掲載すること。
B48: ※2：変状番号は、様式D-1-1で記入した番号と整合させること。
B49: ※3：対策区分毎の変状発生規模は、様式D-1-1に記載した面積を記入すること（ただし外力はスパン単位で評価するため変状の有無の欄には面積でなく○を記入し、備考欄に状況を記入）。
B50: ※4：本様式は覆工スパン毎に作成すること。
B51: ※5：変状数が多い場合は、適時、表の行を増やして覆工スパン毎に1枚のシートに収めること。また、1スパン１シートとし、スパンに合わせてシートを追加すること。
B52: ※6：対策区分毎の変状の発生範囲の規模とは，対策を行う際に参考となる変状の長さや面積であり，変状を包含する長さや面積とする。
B53: ※7：対策範囲を示す発生範囲の規模を面積で記入することが妥当ではない変状は、発生範囲の規模の欄に○を記入するとともに、備考に内容を記入すること。

Sheet 様式D-3_S002
AU1: 様式F用→ | AV1: 覆工スパン | AY1: 変 状 数 | BK1: 変 状 規 模
AV2: 番号 | AW2: 延長 （ｍ） | AX2: 健全性の診断の 区分 | AY2: 対策区分の判定 | BK2: 覆工スパン長（ｍ） | BO2: 変状の発生範囲の規模（㎡）
B3: ■定期点検記録様式 覆工スパン別変状詳細展開図 【様式D-3】 | AY3: 外力 | BC3: 材質劣化 | BG3: 漏水 | BK3: 外力 注2 | BO3: 材質劣化 | BS3: 漏水
B4: フリガナ | E4: (ﾀｲﾈｲｼﾞﾀﾞｲｲﾁﾄﾝﾈﾙ) | K4: 路線名 | N4: 国道491号（長門・俵山道路） | T4: 定期点検業者 | Y4: 株式会社荒谷建設コンサルタント | AG4: 定期点検年月日 | AK4: 45621 | AY4: Ⅳ | AZ4: Ⅲ | BA4: Ⅱa | BB4: Ⅱb | BC4: Ⅳ | BD4: Ⅲ | BE4: Ⅱa | BF4: Ⅱb | BG4: Ⅳ | BH4: Ⅲ | BI4: Ⅱa | BJ4: Ⅱb | BK4: Ⅳ | BL4: Ⅲ | BM4: Ⅱa | BN4: Ⅱb | BO4: Ⅳ | BP4: Ⅲ | BQ4: Ⅱa | BR4: Ⅱb | BS4: Ⅳ | BT4: Ⅲ | BU4: Ⅱa | BV4: Ⅱb
B5: 名 称 | E5: 大寧寺第1トンネル | K5: 管理者名 | N5: 山口県長門土木建築事務所 | Y5: 河野 秀生 | AV5: =N7 -> S002 | AW5: =R7 -> 10.5 | AX5: =AM35 -> Ⅱ | AY5: =Y37 -> 0 | AZ5: =Z37 -> 0 | BA5: =AA37 -> 0 | BB5: =AB37 -> 0 | BC5: =AC37 -> 0 | BD5: =AD37 -> 0 | BE5: =AE37 -> 0 | BF5: =AF37 -> 1 | ... BJ5: =AJ37 -> 0 | BK5: =IF(Y37>0,R7,"") | BL5: =IF(Y37>0,"",IF(Z37>0,R7,"")) | BM5: =IF(Y37+Z37>0,"",IF(AA37>0,R7,"")) | BN5: =IF(Y37+Z37+AA37>0,"",IF(AB37>0,R7,"")) | BO5: =AC35 -> 0 | BP5: =AD35 -> 0 | BQ5: =AE35 -> 0 | BR5: =AF35 -> 0.05 | BS5: =AG35 -> 0 | BT5: =AH35 -> 0 | BU5: =AI35 -> 0 | BV5: =AJ35 -> 0
B6: スパン別変状展開図 | K6: 【健全性判定集計表】
K7: スパン番号 | N7: S002 | P7: スパン長 | R7: 10.5 | U7: 前回定期点検時の判定 | W7: 応急措置前の判定 | Y7: 対策区分毎の 変状の有無 | AC7: 対策区分毎の変状の発生範囲の規模(㎡) | AK7: 備考注2
K8: 変状番号 | L8: 対象箇所 | N8: 部位区分 | P8: 変状区分 | R8: 変状種類
Y9: 外力注1 | AC9: 材質劣化注1 | AG9: 漏水注1
Y10: Ⅳ | Z10: Ⅲ | AA10: Ⅱa | AB10: Ⅱb | AC10: Ⅳ | AD10: Ⅲ | AE10: Ⅱa | AF10: Ⅱb | AG10: Ⅳ | AH10: Ⅲ | AI10: Ⅱa | AJ10: Ⅱb
K11: 1 | L11: 覆工 | N11: 横断目地（天端） | P11: 材質劣化 | R11: うき・はく離 | U11: Ⅱb | AF11: 0.05 | AQ11: =IF(P11="材質劣化",2,IF(P11="漏水",3,1)) -> 2
AQ12: =IF(P12="材質劣化",2,IF(P12="漏水",3,1)) -> 1
AQ13: =IF(P13="材質劣化",2,IF(P13="漏水",3,1)) -> 1
AQ14: =IF(P14="材質劣化",2,IF(P14="漏水",3,1)) -> 1
AQ15: =IF(P15="材質劣化",2,IF(P15="漏水",3,1)) -> 1
AQ16: =IF(P16="材質劣化",2,IF(P16="漏水",3,1)) -> 1
AQ17: =IF(P17="材質劣化",2,IF(P17="漏水",3,1)) -> 1
AQ18: =IF(P18="材質劣化",2,IF(P18="漏水",3,1)) -> 1
AQ19: =IF(P19="材質劣化",2,IF(P19="漏水",3,1)) -> 1
AQ20: =IF(P20="材質劣化",2,IF(P20="漏水",3,1)) -> 1
AQ21: =IF(P21="材質劣化",2,IF(P21="漏水",3,1)) -> 1
AQ22: =IF(P22="材質劣化",2,IF(P22="漏水",3,1)) -> 1
AQ23: =IF(P23="材質劣化",2,IF(P23="漏水",3,1)) -> 1
... AQ34: =IF(P34="材質劣化",2,IF(P34="漏水",3,1)) -> 1
K35: 集計 判定 診断 | L35: 変状の発生規模合計(㎡) | Y35: － | AC35: =SUM(AC11:AC34) -> 0 | AD35: =SUM(AD11:AD34) -> 0 | AE35: =SUM(AE11:AE34) -> 0 | AF35: =SUM(AF11:AF34) -> 0.05 | AG35: =SUM(AG11:AG34) -> 0 | AH35: =SUM(AH11:AH34) -> 0 | AI35: =SUM(AI11:AI34) -> 0 | AJ35: =SUM(AJ11:AJ34) -> 0 | AK35: 覆工スパン単位の 健全性の 診断の区分 | AM35: Ⅱ
L36: 対策区分の 判定結果 | O36: 対策区分毎の変状数 | Y36: Ⅳ | Z36: Ⅲ | AA36: Ⅱa | AB36: Ⅱb | AC36: Ⅳ | AD36: Ⅲ | AE36: Ⅱa | AF36: Ⅱb | AG36: Ⅳ | AH36: Ⅲ | AI36: Ⅱa | AJ36: Ⅱb
Y37: =COUNTIF(Y11:Y34,"〇") -> 0 | Z37: =COUNTIF(Z11:Z34,"〇") -> 0 | AA37: =COUNTIF(AA11:AA34,"〇") -> 0 | AB37: =COUNTIF(AB11:AB34,"〇") -> 0 | AC37: =COUNTA(AC11:AC34) -> 0 | AD37: =COUNTA(AD11:AD34) -> 0 | AE37: =COUNTA(AE11:AE34) -> 0 | AF37: =COUNTA(AF11:AF34) -> 1 | AG37: =COUNTA(AG11:AG34) -> 0 | AH37: =COUNTA(AH11:AH34) -> 0 | AI37: =COUNTA(AI11:AI34) -> 0 | AJ37: =COUNTA(AJ11:AJ34) -> 0
K39: 所見
K43: 注1：誤記入防止のため、当該変状区分以外のセルは灰色表示とすること。
K44: 注2：応急措置を実施した場合は、その詳細を備考に記載すること。
K45: 注3：外力は覆工スパン単位、材質劣化、漏水は変状単位とすること。
B46: （以下、印刷不要）
B47: ※1：本シートは作成洩れのないよう、変状が無くても全スパン分を作成すること．また変状展開図は、様式D-2-1、様式D-2-1'と同じものを覆工スパン単位で拡大し掲載すること。
B48: ※2：変状番号は、様式D-1-1で記入した番号と整合させること。
B49: ※3：対策区分毎の変状発生規模は、様式D-1-1に記載した面積を記入すること（ただし外力はスパン単位で評価するため変状の有無の欄には面積でなく○を記入し、備考欄に状況を記入）。
B50: ※4：本様式は覆工スパン毎に作成すること。
B51: ※5：変状数が多い場合は、適時、表の行を増やして覆工スパン毎に1枚のシートに収めること。また、1スパン１シートとし、スパンに合わせてシートを追加すること。
B52: ※6：対策区分毎の変状の発生範囲の規模とは，対策を行う際に参考となる変状の長さや面積であり，変状を包含する長さや面積とする。
B53: ※7：対策範囲を示す発生範囲の規模を面積で記入することが妥当ではない変状は、発生範囲の規模の欄に○を記入するとともに、備考に内容を記入すること。

Sheet 様式D-3_S003
AU1: 様式F用→ | AV1: 覆工スパン | AY1: 変 状 数 | BK1: 変 状 規 模
AV2: 番号 | AW2: 延長 （ｍ） | AX2: 健全性の診断の 区分 | AY2: 対策区分の判定 | BK2: 覆工スパン長（ｍ） | BO2: 変状の発生範囲の規模（㎡）
B3: ■定期点検記録様式 覆工スパン別変状詳細展開図 【様式D-3】 | AY3: 外力 | BC3: 材質劣化 | BG3: 漏水 | BK3: 外力 注2 | BO3: 材質劣化 | BS3: 漏水
B4: フリガナ | E4: (ﾀｲﾈｲｼﾞﾀﾞｲｲﾁﾄﾝﾈﾙ) | K4: 路線名 | N4: 国道491号（長門・俵山道路） | T4: 定期点検業者 | Y4: 株式会社荒谷建設コンサルタント | AG4: 定期点検年月日 | AK4: 45621 | AY4: Ⅳ | AZ4: Ⅲ | BA4: Ⅱa | BB4: Ⅱb | BC4: Ⅳ | BD4: Ⅲ | BE4: Ⅱa | BF4: Ⅱb | BG4: Ⅳ | BH4: Ⅲ | BI4: Ⅱa | BJ4: Ⅱb | BK4: Ⅳ | BL4: Ⅲ | BM4: Ⅱa | BN4: Ⅱb | BO4: Ⅳ | BP4: Ⅲ | BQ4: Ⅱa | BR4: Ⅱb | BS4: Ⅳ | BT4: Ⅲ | BU4: Ⅱa | BV4: Ⅱb
B5: 名 称 | E5: 大寧寺第1トンネル | K5: 管理者名 | N5: 山口県長門土木建築事務所 | Y5: 河野 秀生 | AV5: =N7 -> S003 | AW5: =R7 -> 10.5 | AX5: =AM35 -> Ⅱ | AY5: =Y37 -> 0 | AZ5: =Z37 -> 0 | BA5: =AA37 -> 0 | BB5: =AB37 -> 0 | BC5: =AC37 -> 0 | BD5: =AD37 -> 0 | BE5: =AE37 -> 0 | BF5: =AF37 -> 1 | ... BJ5: =AJ37 -> 0 | BK5: =IF(Y37>0,R7,"") | BL5: =IF(Y37>0,"",IF(Z37>0,R7,"")) | BM5: =IF(Y37+Z37>0,"",IF(AA37>0,R7,"")) | BN5: =IF(Y37+Z37+AA37>0,"",IF(AB37>0,R7,"")) | BO5: =AC35 -> 0 | BP5: =AD35 -> 0 | BQ5: =AE35 -> 0 | BR5: =AF35 -> 0.6 | BS5: =AG35 -> 0 | BT5: =AH35 -> 0 | BU5: =AI35 -> 0 | BV5: =AJ35 -> 0
B6: スパン別変状展開図 | K6: 【健全性判定集計表】
K7: スパン番号 | N7: S003 | P7: スパン長 | R7: 10.5 | U7: 前回定期点検時の判定 | W7: 応急措置前の判定 | Y7: 対策区分毎の 変状の有無 | AC7: 対策区分毎の変状の発生範囲の規模(㎡) | AK7: 備考注2
K8: 変状番号 | L8: 対象箇所 | N8: 部位区分 | P8: 変状区分 | R8: 変状種類
Y9: 外力注1 | AC9: 材質劣化注1 | AG9: 漏水注1
Y10: Ⅳ | Z10: Ⅲ | AA10: Ⅱa | AB10: Ⅱb | AC10: Ⅳ | AD10: Ⅲ | AE10: Ⅱa | AF10: Ⅱb | AG10: Ⅳ | AH10: Ⅲ | AI10: Ⅱa | AJ10: Ⅱb
K11: 1 | L11: 覆工 | N11: 横断目地（左側） | P11: 材質劣化 | R11: その他 | U11: － | AF11: 0.6 | AQ11: =IF(P11="材質劣化",2,IF(P11="漏水",3,1)) -> 2
AQ12: =IF(P12="材質劣化",2,IF(P12="漏水",3,1)) -> 1
AQ13: =IF(P13="材質劣化",2,IF(P13="漏水",3,1)) -> 1
AQ14: =IF(P14="材質劣化",2,IF(P14="漏水",3,1)) -> 1
AQ15: =IF(P15="材質劣化",2,IF(P15="漏水",3,1)) -> 1
AQ16: =IF(P16="材質劣化",2,IF(P16="漏水",3,1)) -> 1
AQ17: =IF(P17="材質劣化",2,IF(P17="漏水",3,1)) -> 1
AQ18: =IF(P18="材質劣化",2,IF(P18="漏水",3,1)) -> 1
AQ19: =IF(P19="材質劣化",2,IF(P19="漏水",3,1)) -> 1
AQ20: =IF(P20="材質劣化",2,IF(P20="漏水",3,1)) -> 1
AQ21: =IF(P21="材質劣化",2,IF(P21="漏水",3,1)) -> 1
AQ22: =IF(P22="材質劣化",2,IF(P22="漏水",3,1)) -> 1
AQ23: =IF(P23="材質劣化",2,IF(P23="漏水",3,1)) -> 1
... AQ34: =IF(P34="材質劣化",2,IF(P34="漏水",3,1)) -> 1
K35: 集計 判定 診断 | L35: 変状の発生規模合計(㎡) | Y35: － | AC35: =SUM(AC11:AC34) -> 0 | AD35: =SUM(AD11:AD34) -> 0 | AE35: =SUM(AE11:AE34) -> 0 | AF35: =SUM(AF11:AF34) -> 0.6 | AG35: =SUM(AG11:AG34) -> 0 | AH35: =SUM(AH11:AH34) -> 0 | AI35: =SUM(AI11:AI34) -> 0 | AJ35: =SUM(AJ11:AJ34) -> 0 | AK35: 覆工スパン単位の 健全性の 診断の区分 | AM35: Ⅱ
L36: 対策区分の 判定結果 | O36: 対策区分毎の変状数 | Y36: Ⅳ | Z36: Ⅲ | AA36: Ⅱa | AB36: Ⅱb | AC36: Ⅳ | AD36: Ⅲ | AE36: Ⅱa | AF36: Ⅱb | AG36: Ⅳ | AH36: Ⅲ | AI36: Ⅱa | AJ36: Ⅱb
Y37: =COUNTIF(Y11:Y34,"〇") -> 0 | Z37: =COUNTIF(Z11:Z34,"〇") -> 0 | AA37: =COUNTIF(AA11:AA34,"〇") -> 0 | AB37: =COUNTIF(AB11:AB34,"〇") -> 0 | AC37: =COUNTA(AC11:AC34) -> 0 | AD37: =COUNTA(AD11:AD34) -> 0 | AE37: =COUNTA(AE11:AE34) -> 0 | AF37: =COUNTA(AF11:AF34) -> 1 | AG37: =COUNTA(AG11:AG34) -> 0 | AH37: =COUNTA(AH11:AH34) -> 0 | AI37: =COUNTA(AI11:AI34) -> 0 | AJ37: =COUNTA(AJ11:AJ34) -> 0
K39: 所見
K43: 注1：誤記入防止のため、当該変状区分以外のセルは灰色表示とすること。
K44: 注2：応急措置を実施した場合は、その詳細を備考に記載すること。
K45: 注3：外力は覆工スパン単位、材質劣化、漏水は変状単位とすること。
B46: （以下、印刷不要）
B47: ※1：本シートは作成洩れのないよう、変状が無くても全スパン分を作成すること．また変状展開図は、様式D-2-1、様式D-2-1'と同じものを覆工スパン単位で拡大し掲載すること。
B48: ※2：変状番号は、様式D-1-1で記入した番号と整合させること。
B49: ※3：対策区分毎の変状発生規模は、様式D-1-1に記載した面積を記入すること（ただし外力はスパン単位で評価するため変状の有無の欄には面積でなく○を記入し、備考欄に状況を記入）。
B50: ※4：本様式は覆工スパン毎に作成すること。
B51: ※5：変状数が多い場合は、適時、表の行を増やして覆工スパン毎に1枚のシートに収めること。また、1スパン１シートとし、スパンに合わせてシートを追加すること。
B52: ※6：対策区分毎の変状の発生範囲の規模とは，対策を行う際に参考となる変状の長さや面積であり，変状を包含する長さや面積とする。
B53: ※7：対策範囲を示す発生範囲の規模を面積で記入することが妥当ではない変状は、発生範囲の規模の欄に○を記入するとともに、備考に内容を記入すること。

Sheet 様式D-3_S004
AU1: 様式F用→ | AV1: 覆工スパン | AY1: 変 状 数 | BK1: 変 状 規 模
AV2: 番号 | AW2: 延長 （ｍ） | AX2: 健全性の診断の 区分 | AY2: 対策区分の判定 | BK2: 覆工スパン長（ｍ） | BO2: 変状の発生範囲の規模（㎡）
B3: ■定期点検記録様式 覆工スパン別変状詳細展開図 【様式D-3】 | AY3: 外力 | BC3: 材質劣化 | BG3: 漏水 | BK3: 外力 注2 | BO3: 材質劣化 | BS3: 漏水
B4: フリガナ | E4: (ﾀｲﾈｲｼﾞﾀﾞｲｲﾁﾄﾝﾈﾙ) | K4: 路線名 | N4: 国道491号（長門・俵山道路） | T4: 定期点検業者 | Y4: 株式会社荒谷建設コンサルタント | AG4: 定期点検年月日 | AK4: 45621 | AY4: Ⅳ | AZ4: Ⅲ | BA4: Ⅱa | BB4: Ⅱb | BC4: Ⅳ | BD4: Ⅲ | BE4: Ⅱa | BF4: Ⅱb | BG4: Ⅳ | BH4: Ⅲ | BI4: Ⅱa | BJ4: Ⅱb | BK4: Ⅳ | BL4: Ⅲ | BM4: Ⅱa | BN4: Ⅱb | BO4: Ⅳ | BP4: Ⅲ | BQ4: Ⅱa | BR4: Ⅱb | BS4: Ⅳ | BT4: Ⅲ | BU4: Ⅱa | BV4: Ⅱb
B5: 名 称 | E5: 大寧寺第1トンネル | K5: 管理者名 | N5: 山口県長門土木建築事務所 | Y5: 河野 秀生 | AV5: =N7 -> S004 | AW5: =R7 -> 10.5 | AX5: =AM35 -> Ⅰ | AY5: =Y37 -> 0 | AZ5: =Z37 -> 0 | BA5: =AA37 -> 0 | BB5: =AB37 -> 0 | BC5: =AC37 -> 0 | BD5: =AD37 -> 0 | BE5: =AE37 -> 0 | BF5: =AF37 -> 0 | ... BJ5: =AJ37 -> 0 | BK5: =IF(Y37>0,R7,"") | BL5: =IF(Y37>0,"",IF(Z37>0,R7,"")) | BM5: =IF(Y37+Z37>0,"",IF(AA37>0,R7,"")) | BN5: =IF(Y37+Z37+AA37>0,"",IF(AB37>0,R7,"")) | BO5: =AC35 -> 0 | BP5: =AD35 -> 0 | BQ5: =AE35 -> 0 | BR5: =AF35 -> 0 | BS5: =AG35 -> 0 | BT5: =AH35 -> 0 | BU5: =AI35 -> 0 | BV5: =AJ35 -> 0
B6: スパン別変状展開図 | K6: 【健全性判定集計表】
K7: スパン番号 | N7: S004 | P7: スパン長 | R7: 10.5 | U7: 前回定期点検時の判定 | W7: 応急措置前の判定 | Y7: 対策区分毎の 変状の有無 | AC7: 対策区分毎の変状の発生範囲の規模(㎡) | AK7: 備考注2
K8: 変状番号 | L8: 対象箇所 | N8: 部位区分 | P8: 変状区分 | R8: 変状種類
Y9: 外力注1 | AC9: 材質劣化注1 | AG9: 漏水注1
Y10: Ⅳ | Z10: Ⅲ | AA10: Ⅱa | AB10: Ⅱb | AC10: Ⅳ | AD10: Ⅲ | AE10: Ⅱa | AF10: Ⅱb | AG10: Ⅳ | AH10: Ⅲ | AI10: Ⅱa | AJ10: Ⅱb
AQ11: =IF(P11="材質劣化",2,IF(P11="漏水",3,1)) -> 1
AQ12: =IF(P12="材質劣化",2,IF(P12="漏水",3,1)) -> 1
AQ13: =IF(P13="材質劣化",2,IF(P13="漏水",3,1)) -> 1
AQ14: =IF(P14="材質劣化",2,IF(P14="漏水",3,1)) -> 1
AQ15: =IF(P15="材質劣化",2,IF(P15="漏水",3,1)) -> 1
AQ16: =IF(P16="材質劣化",2,IF(P16="漏水",3,1)) -> 1
AQ17: =IF(P17="材質劣化",2,IF(P17="漏水",3,1)) -> 1
AQ18: =IF(P18="材質劣化",2,IF(P18="漏水",3,1)) -> 1
AQ19: =IF(P19="材質劣化",2,IF(P19="漏水",3,1)) -> 1
AQ20: =IF(P20="材質劣化",2,IF(P20="漏水",3,1)) -> 1
AQ21: =IF(P21="材質劣化",2,IF(P21="漏水",3,1)) -> 1
AQ22: =IF(P22="材質劣化",2,IF(P22="漏水",3,1)) -> 1
... AQ34: =IF(P34="材質劣化",2,IF(P34="漏水",3,1)) -> 1
K35: 集計 判定 診断 | L35: 変状の発生規模合計(㎡) | Y35: － | AC35: =SUM(AC11:AC34) -> 0 | AD35: =SUM(AD11:AD34) -> 0 | AE35: =SUM(AE11:AE34) -> 0 | AF35: =SUM(AF11:AF34) -> 0 | AG35: =SUM(AG11:AG34) -> 0 | AH35: =SUM(AH11:AH34) -> 0 | AI35: =SUM(AI11:AI34) -> 0 | AJ35: =SUM(AJ11:AJ34) -> 0 | AK35: 覆工スパン単位の 健全性の 診断の区分 | AM35: Ⅰ
L36: 対策区分の 判定結果 | O36: 対策区分毎の変状数 | Y36: Ⅳ | Z36: Ⅲ | AA36: Ⅱa | AB36: Ⅱb | AC36: Ⅳ | AD36: Ⅲ | AE36: Ⅱa | AF36: Ⅱb | AG36: Ⅳ | AH36: Ⅲ | AI36: Ⅱa | AJ36: Ⅱb
Y37: =COUNTIF(Y11:Y34,"〇") -> 0 | Z37: =COUNTIF(Z11:Z34,"〇") -> 0 | AA37: =COUNTIF(AA11:AA34,"〇") -> 0 | AB37: =COUNTIF(AB11:AB34,"〇") -> 0 | AC37: =COUNTA(AC11:AC34) -> 0 | AD37: =COUNTA(AD11:AD34) -> 0 | AE37: =COUNTA(AE11:AE34) -> 0 | AF37: =COUNTA(AF11:AF34) -> 0 | AG37: =COUNTA(AG11:AG34) -> 0 | AH37: =COUNTA(AH11:AH34) -> 0 | AI37: =COUNTA(AI11:AI34) -> 0 | AJ37: =COUNTA(AJ11:AJ34) -> 0
K39: 所見
K43: 注1：誤記入防止のため、当該変状区分以外のセルは灰色表示とすること。
K44: 注2：応急措置を実施した場合は、その詳細を備考に記載すること。
K45: 注3：外力は覆工スパン単位、材質劣化、漏水は変状単位とすること。
B46: （以下、印刷不要）
B47: ※1：本シートは作成洩れのないよう、変状が無くても全スパン分を作成すること．また変状展開図は、様式D-2-1、様式D-2-1'と同じものを覆工スパン単位で拡大し掲載すること。
B48: ※2：変状番号は、様式D-1-1で記入した番号と整合させること。
B49: ※3：対策区分毎の変状発生規模は、様式D-1-1に記載した面積を記入すること（ただし外力はスパン単位で評価するため変状の有無の欄には面積でなく○を記入し、備考欄に状況を記入）。
B50: ※4：本様式は覆工スパン毎に作成すること。
B51: ※5：変状数が多い場合は、適時、表の行を増やして覆工スパン毎に1枚のシートに収めること。また、1スパン１シートとし、スパンに合わせてシートを追加すること。
B52: ※6：対策区分毎の変状の発生範囲の規模とは，対策を行う際に参考となる変状の長さや面積であり，変状を包含する長さや面積とする。
B53: ※7：対策範囲を示す発生範囲の規模を面積で記入することが妥当ではない変状は、発生範囲の規模の欄に○を記入するとともに、備考に内容を記入すること。

Sheet 様式D-3_S005
AU1: 様式F用→ | AV1: 覆工スパン | AY1: 変 状 数 | BK1: 変 状 規 模
AV2: 番号 | AW2: 延長 （ｍ） | AX2: 健全性の診断の 区分 | AY2: 対策区分の判定 | BK2: 覆工スパン長（ｍ） | BO2: 変状の発生範囲の規模（㎡）
B3: ■定期点検記録様式 覆工スパン別変状詳細展開図 【様式D-3】 | AY3: 外力 | BC3: 材質劣化 | BG3: 漏水 | BK3: 外力 注2 | BO3: 材質劣化 | BS3: 漏水
B4: フリガナ | E4: (ﾀｲﾈｲｼﾞﾀﾞｲｲﾁﾄﾝﾈﾙ) | K4: 路線名 | N4: 国道491号（長門・俵山道路） | T4: 定期点検業者 | Y4: 株式会社荒谷建設コンサルタント | AG4: 定期点検年月日 | AK4: 45621 | AY4: Ⅳ | AZ4: Ⅲ | BA4: Ⅱa | BB4: Ⅱb | BC4: Ⅳ | BD4: Ⅲ | BE4: Ⅱa | BF4: Ⅱb | BG4: Ⅳ | BH4: Ⅲ | BI4: Ⅱa | BJ4: Ⅱb | BK4: Ⅳ | BL4: Ⅲ | BM4: Ⅱa | BN4: Ⅱb | BO4: Ⅳ | BP4: Ⅲ | BQ4: Ⅱa | BR4: Ⅱb | BS4: Ⅳ | BT4: Ⅲ | BU4: Ⅱa | BV4: Ⅱb
B5: 名 称 | E5: 大寧寺第1トンネル | K5: 管理者名 | N5: 山口県長門土木建築事務所 | Y5: 河野 秀生 | AV5: =N7 -> S005 | AW5: =R7 -> 10.5 | AX5: =AM35 -> Ⅱ | AY5: =Y37 -> 0 | AZ5: =Z37 -> 0 | BA5: =AA37 -> 0 | BB5: =AB37 -> 0 | BC5: =AC37 -> 0 | BD5: =AD37 -> 0 | BE5: =AE37 -> 1 | BF5: =AF37 -> 0 | ... BJ5: =AJ37 -> 1 | BK5: =IF(Y37>0,R7,"") | BL5: =IF(Y37>0,"",IF(Z37>0,R7,"")) | BM5: =IF(Y37+Z37>0,"",IF(AA37>0,R7,"")) | BN5: =IF(Y37+Z37+AA37>0,"",IF(AB37>0,R7,"")) | BO5: =AC35 -> 0 | BP5: =AD35 -> 0 | BQ5: =AE35 -> 0.015 | BR5: =AF35 -> 0 | BS5: =AG35 -> 0 | BT5: =AH35 -> 0 | BU5: =AI35 -> 0 | BV5: =AJ35 -> 3.75
B6: スパン別変状展開図 | K6: 【健全性判定集計表】
K7: スパン番号 | N7: S005 | P7: スパン長 | R7: 10.5 | U7: 前回定期点検時の判定 | W7: 応急措置前の判定 | Y7: 対策区分毎の 変状の有無 | AC7: 対策区分毎の変状の発生範囲の規模(㎡) | AK7: 備考注2
K8: 変状番号 | L8: 対象箇所 | N8: 部位区分 | P8: 変状区分 | R8: 変状種類
Y9: 外力注1 | AC9: 材質劣化注1 | AG9: 漏水注1
Y10: Ⅳ | Z10: Ⅲ | AA10: Ⅱa | AB10: Ⅱb | AC10: Ⅳ | AD10: Ⅲ | AE10: Ⅱa | AF10: Ⅱb | AG10: Ⅳ | AH10: Ⅲ | AI10: Ⅱa | AJ10: Ⅱb
K11: 1 | L11: 覆工 | N11: 横断目地（右側） | P11: 材質劣化 | R11: うき・はく離 | U11: Ⅱb | AE11: 0.015 | AQ11: =IF(P11="材質劣化",2,IF(P11="漏水",3,1)) -> 2
K12: 2 | L12: 覆工 | N12: 横断目地（左側） | P12: 漏水 | R12: 漏水 | U12: － | AJ12: 3.75 | AQ12: =IF(P12="材質劣化",2,IF(P12="漏水",3,1)) -> 3
AQ13: =IF(P13="材質劣化",2,IF(P13="漏水",3,1)) -> 1
AQ14: =IF(P14="材質劣化",2,IF(P14="漏水",3,1)) -> 1
AQ15: =IF(P15="材質劣化",2,IF(P15="漏水",3,1)) -> 1
AQ16: =IF(P16="材質劣化",2,IF(P16="漏水",3,1)) -> 1
AQ17: =IF(P17="材質劣化",2,IF(P17="漏水",3,1)) -> 1
AQ18: =IF(P18="材質劣化",2,IF(P18="漏水",3,1)) -> 1
AQ19: =IF(P19="材質劣化",2,IF(P19="漏水",3,1)) -> 1
AQ20: =IF(P20="材質劣化",2,IF(P20="漏水",3,1)) -> 1
AQ21: =IF(P21="材質劣化",2,IF(P21="漏水",3,1)) -> 1
AQ22: =IF(P22="材質劣化",2,IF(P22="漏水",3,1)) -> 1
AQ23: =IF(P23="材質劣化",2,IF(P23="漏水",3,1)) -> 1
AQ24: =IF(P24="材質劣化",2,IF(P24="漏水",3,1)) -> 1
... AQ34: =IF(P34="材質劣化",2,IF(P34="漏水",3,1)) -> 1
K35: 集計 判定 診断 | L35: 変状の発生規模合計(㎡) | Y35: － | AC35: =SUM(AC11:AC34) -> 0 | AD35: =SUM(AD11:AD34) -> 0 | AE35: =SUM(AE11:AE34) -> 0.015 | AF35: =SUM(AF11:AF34) -> 0 | AG35: =SUM(AG11:AG34) -> 0 | AH35: =SUM(AH11:AH34) -> 0 | AI35: =SUM(AI11:AI34) -> 0 | AJ35: =SUM(AJ11:AJ34) -> 3.75 | AK35: 覆工スパン単位の 健全性の 診断の区分 | AM35: Ⅱ
L36: 対策区分の 判定結果 | O36: 対策区分毎の変状数 | Y36: Ⅳ | Z36: Ⅲ | AA36: Ⅱa | AB36: Ⅱb | AC36: Ⅳ | AD36: Ⅲ | AE36: Ⅱa | AF36: Ⅱb | AG36: Ⅳ | AH36: Ⅲ | AI36: Ⅱa | AJ36: Ⅱb
Y37: =COUNTIF(Y11:Y34,"〇") -> 0 | Z37: =COUNTIF(Z11:Z34,"〇") -> 0 | AA37: =COUNTIF(AA11:AA34,"〇") -> 0 | AB37: =COUNTIF(AB11:AB34,"〇") -> 0 | AC37: =COUNTA(AC11:AC34) -> 0 | AD37: =COUNTA(AD11:AD34) -> 0 | AE37: =COUNTA(AE11:AE34) -> 1 | AF37: =COUNTA(AF11:AF34) -> 0 | AG37: =COUNTA(AG11:AG34) -> 0 | AH37: =COUNTA(AH11:AH34) -> 0 | AI37: =COUNTA(AI11:AI34) -> 0 | AJ37: =COUNTA(AJ11:AJ34) -> 1
K39: 所見
K43: 注1：誤記入防止のため、当該変状区分以外のセルは灰色表示とすること。
K44: 注2：応急措置を実施した場合は、その詳細を備考に記載すること。
K45: 注3：外力は覆工スパン単位、材質劣化、漏水は変状単位とすること。
B46: （以下、印刷不要）
B47: ※1：本シートは作成洩れのないよう、変状が無くても全スパン分を作成すること．また変状展開図は、様式D-2-1、様式D-2-1'と同じものを覆工スパン単位で拡大し掲載すること。
B48: ※2：変状番号は、様式D-1-1で記入した番号と整合させること。
B49: ※3：対策区分毎の変状発生規模は、様式D-1-1に記載した面積を記入すること（ただし外力はスパン単位で評価するため変状の有無の欄には面積でなく○を記入し、備考欄に状況を記入）。
B50: ※4：本様式は覆工スパン毎に作成すること。
B51: ※5：変状数が多い場合は、適時、表の行を増やして覆工スパン毎に1枚のシートに収めること。また、1スパン１シートとし、スパンに合わせてシートを追加すること。
B52: ※6：対策区分毎の変状の発生範囲の規模とは，対策を行う際に参考となる変状の長さや面積であり，変状を包含する長さや面積とする。
B53: ※7：対策範囲を示す発生範囲の規模を面積で記入することが妥当ではない変状は、発生範囲の規模の欄に○を記入するとともに、備考に内容を記入すること。

Sheet 様式D-3_S006
AU1: 様式F用→ | AV1: 覆工スパン | AY1: 変 状 数 | BK1: 変 状 規 模
AV2: 番号 | AW2: 延長 （ｍ） | AX2: 健全性の診断の 区分 | AY2: 対策区分の判定 | BK2: 覆工スパン長（ｍ） | BO2: 変状の発生範囲の規模（㎡）
B3: ■定期点検記録様式 覆工スパン別変状詳細展開図 【様式D-3】 | AY3: 外力 | BC3: 材質劣化 | BG3: 漏水 | BK3: 外力 注2 | BO3: 材質劣化 | BS3: 漏水
B4: フリガナ | E4: (ﾀｲﾈｲｼﾞﾀﾞｲｲﾁﾄﾝﾈﾙ) | K4: 路線名 | N4: 国道491号（長門・俵山道路） | T4: 定期点検業者 | Y4: 株式会社荒谷建設コンサルタント | AG4: 定期点検年月日 | AK4: 45621 | AY4: Ⅳ | AZ4: Ⅲ | BA4: Ⅱa | BB4: Ⅱb | BC4: Ⅳ | BD4: Ⅲ | BE4: Ⅱa | BF4: Ⅱb | BG4: Ⅳ | BH4: Ⅲ | BI4: Ⅱa | BJ4: Ⅱb | BK4: Ⅳ | BL4: Ⅲ | BM4: Ⅱa | BN4: Ⅱb | BO4: Ⅳ | BP4: Ⅲ | BQ4: Ⅱa | BR4: Ⅱb | BS4: Ⅳ | BT4: Ⅲ | BU4: Ⅱa | BV4: Ⅱb
B5: 名 称 | E5: 大寧寺第1トンネル | K5: 管理者名 | N5: 山口県長門土木建築事務所 | Y5: 河野 秀生 | AV5: =N7 -> S006 | AW5: =R7 -> 10.5 | AX5: =AM35 -> Ⅱ | AY5: =Y37 -> 0 | AZ5: =Z37 -> 0 | BA5: =AA37 -> 0 | BB5: =AB37 -> 0 | BC5: =AC37 -> 0 | BD5: =AD37 -> 0 | BE5: =AE37 -> 2 | BF5: =AF37 -> 1 | ... BJ5: =AJ37 -> 0 | BK5: =IF(Y37>0,R7,"") | BL5: =IF(Y37>0,"",IF(Z37>0,R7,"")) | BM5: =IF(Y37+Z37>0,"",IF(AA37>0,R7,"")) | BN5: =IF(Y37+Z37+AA37>0,"",IF(AB37>0,R7,"")) | BO5: =AC35 -> 0 | BP5: =AD35 -> 0 | BQ5: =AE35 -> 0.03 | BR5: =AF35 -> 0.24 | BS5: =AG35 -> 0 | BT5: =AH35 -> 0 | BU5: =AI35 -> 0 | BV5: =AJ35 -> 0
B6: スパン別変状展開図 | K6: 【健全性判定集計表】
K7: スパン番号 | N7: S006 | P7: スパン長 | R7: 10.5 | U7: 前回定期点検時の判定 | W7: 応急措置前の判定 | Y7: 対策区分毎の 変状の有無 | AC7: 対策区分毎の変状の発生範囲の規模(㎡) | AK7: 備考注2
K8: 変状番号 | L8: 対象箇所 | N8: 部位区分 | P8: 変状区分 | R8: 変状種類
Y9: 外力注1 | AC9: 材質劣化注1 | AG9: 漏水注1
Y10: Ⅳ | Z10: Ⅲ | AA10: Ⅱa | AB10: Ⅱb | AC10: Ⅳ | AD10: Ⅲ | AE10: Ⅱa | AF10: Ⅱb | AG10: Ⅳ | AH10: Ⅲ | AI10: Ⅱa | AJ10: Ⅱb
K11: 1 | L11: 覆工 | N11: 横断目地（左側） | P11: 材質劣化 | R11: うき・はく離 | U11: Ⅱb | AE11: 0.015 | AQ11: =IF(P11="材質劣化",2,IF(P11="漏水",3,1)) -> 2
K12: 2 | L12: 覆工 | N12: アーチ（天端） | P12: 材質劣化 | R12: うき・はく離 | U12: Ⅱb | AF12: 0.24 | AQ12: =IF(P12="材質劣化",2,IF(P12="漏水",3,1)) -> 2
K13: 3 | L13: 覆工 | N13: 横断目地（右側） | P13: 材質劣化 | R13: うき・はく離 | U13: － | AE13: 0.015 | AQ13: =IF(P13="材質劣化",2,IF(P13="漏水",3,1)) -> 2
AQ14: =IF(P14="材質劣化",2,IF(P14="漏水",3,1)) -> 1
AQ15: =IF(P15="材質劣化",2,IF(P15="漏水",3,1)) -> 1
AQ16: =IF(P16="材質劣化",2,IF(P16="漏水",3,1)) -> 1
AQ17: =IF(P17="材質劣化",2,IF(P17="漏水",3,1)) -> 1
AQ18: =IF(P18="材質劣化",2,IF(P18="漏水",3,1)) -> 1
AQ19: =IF(P19="材質劣化",2,IF(P19="漏水",3,1)) -> 1
AQ20: =IF(P20="材質劣化",2,IF(P20="漏水",3,1)) -> 1
AQ21: =IF(P21="材質劣化",2,IF(P21="漏水",3,1)) -> 1
AQ22: =IF(P22="材質劣化",2,IF(P22="漏水",3,1)) -> 1
AQ23: =IF(P23="材質劣化",2,IF(P23="漏水",3,1)) -> 1
AQ24: =IF(P24="材質劣化",2,IF(P24="漏水",3,1)) -> 1
AQ25: =IF(P25="材質劣化",2,IF(P25="漏水",3,1)) -> 1
... AQ34: =IF(P34="材質劣化",2,IF(P34="漏水",3,1)) -> 1
K35: 集計 判定 診断 | L35: 変状の発生規模合計(㎡) | Y35: － | AC35: =SUM(AC11:AC34) -> 0 | AD35: =SUM(AD11:AD34) -> 0 | AE35: =SUM(AE11:AE34) -> 0.03 | AF35: =SUM(AF11:AF34) -> 0.24 | AG35: =SUM(AG11:AG34) -> 0 | AH35: =SUM(AH11:AH34) -> 0 | AI35: =SUM(AI11:AI34) -> 0 | AJ35: =SUM(AJ11:AJ34) -> 0 | AK35: 覆工スパン単位の 健全性の 診断の区分 | AM35: Ⅱ
L36: 対策区分の 判定結果 | O36: 対策区分毎の変状数 | Y36: Ⅳ | Z36: Ⅲ | AA36: Ⅱa | AB36: Ⅱb | AC36: Ⅳ | AD36: Ⅲ | AE36: Ⅱa | AF36: Ⅱb | AG36: Ⅳ | AH36: Ⅲ | AI36: Ⅱa | AJ36: Ⅱb
Y37: =COUNTIF(Y11:Y34,"〇") -> 0 | Z37: =COUNTIF(Z11:Z34,"〇") -> 0 | AA37: =COUNTIF(AA11:AA34,"〇") -> 0 | AB37: =COUNTIF(AB11:AB34,"〇") -> 0 | AC37: =COUNTA(AC11:AC34) -> 0 | AD37: =COUNTA(AD11:AD34) -> 0 | AE37: =COUNTA(AE11:AE34) -> 2 | AF37: =COUNTA(AF11:AF34) -> 1 | AG37: =COUNTA(AG11:AG34) -> 0 | AH37: =COUNTA(AH11:AH34) -> 0 | AI37: =COUNTA(AI11:AI34) -> 0 | AJ37: =COUNTA(AJ11:AJ34) -> 0
K39: 所見
K43: 注1：誤記入防止のため、当該変状区分以外のセルは灰色表示とすること。
K44: 注2：応急措置を実施した場合は、その詳細を備考に記載すること。
K45: 注3：外力は覆工スパン単位、材質劣化、漏水は変状単位とすること。
B46: （以下、印刷不要）
B47: ※1：本シートは作成洩れのないよう、変状が無くても全スパン分を作成すること．また変状展開図は、様式D-2-1、様式D-2-1'と同じものを覆工スパン単位で拡大し掲載すること。
B48: ※2：変状番号は、様式D-1-1で記入した番号と整合させること。
B49: ※3：対策区分毎の変状発生規模は、様式D-1-1に記載した面積を記入すること（ただし外力はスパン単位で評価するため変状の有無の欄には面積でなく○を記入し、備考欄に状況を記入）。
B50: ※4：本様式は覆工スパン毎に作成すること。
B51: ※5：変状数が多い場合は、適時、表の行を増やして覆工スパン毎に1枚のシートに収めること。また、1スパン１シートとし、スパンに合わせてシートを追加すること。
B52: ※6：対策区分毎の変状の発生範囲の規模とは，対策を行う際に参考となる変状の長さや面積であり，変状を包含する長さや面積とする。
B53: ※7：対策範囲を示す発生範囲の規模を面積で記入することが妥当ではない変状は、発生範囲の規模の欄に○を記入するとともに、備考に内容を記入すること。

Sheet 様式D-3_S007
AU1: 様式F用→ | AV1: 覆工スパン | AY1: 変 状 数 | BK1: 変 状 規 模
AV2: 番号 | AW2: 延長 （ｍ） | AX2: 健全性の診断の 区分 | AY2: 対策区分の判定 | BK2: 覆工スパン長（ｍ） | BO2: 変状の発生範囲の規模（㎡）
B3: ■定期点検記録様式 覆工スパン別変状詳細展開図 【様式D-3】 | AY3: 外力 | BC3: 材質劣化 | BG3: 漏水 | BK3: 外力 注2 | BO3: 材質劣化 | BS3: 漏水
B4: フリガナ | E4: (ﾀｲﾈｲｼﾞﾀﾞｲｲﾁﾄﾝﾈﾙ) | K4: 路線名 | N4: 国道491号（長門・俵山道路） | T4: 定期点検業者 | Y4: 株式会社荒谷建設コンサルタント | AG4: 定期点検年月日 | AK4: 45621 | AY4: Ⅳ | AZ4: Ⅲ | BA4: Ⅱa | BB4: Ⅱb | BC4: Ⅳ | BD4: Ⅲ | BE4: Ⅱa | BF4: Ⅱb | BG4: Ⅳ | BH4: Ⅲ | BI4: Ⅱa | BJ4: Ⅱb | BK4: Ⅳ | BL4: Ⅲ | BM4: Ⅱa | BN4: Ⅱb | BO4: Ⅳ | BP4: Ⅲ | BQ4: Ⅱa | BR4: Ⅱb | BS4: Ⅳ | BT4: Ⅲ | BU4: Ⅱa | BV4: Ⅱb
B5: 名 称 | E5: 大寧寺第1トンネル | K5: 管理者名 | N5: 山口県長門土木建築事務所 | Y5: 河野 秀生 | AV5: =N7 -> S007 | AW5: =R7 -> 10.5 | AX5: =AM35 -> Ⅰ | AY5: =Y37 -> 0 | AZ5: =Z37 -> 0 | BA5: =AA37 -> 0 | BB5: =AB37 -> 0 | BC5: =AC37 -> 0 | BD5: =AD37 -> 0 | BE5: =AE37 -> 0 | BF5: =AF37 -> 0 | ... BJ5: =AJ37 -> 0 | BK5: =IF(Y37>0,R7,"") | BL5: =IF(Y37>0,"",IF(Z37>0,R7,"")) | BM5: =IF(Y37+Z37>0,"",IF(AA37>0,R7,"")) | BN5: =IF(Y37+Z37+AA37>0,"",IF(AB37>0,R7,"")) | BO5: =AC35 -> 0 | BP5: =AD35 -> 0 | BQ5: =AE35 -> 0 | BR5: =AF35 -> 0 | BS5: =AG35 -> 0 | BT5: =AH35 -> 0 | BU5: =AI35 -> 0 | BV5: =AJ35 -> 0
B6: スパン別変状展開図 | K6: 【健全性判定集計表】
K7: スパン番号 | N7: S007 | P7: スパン長 | R7: 10.5 | U7: 前回定期点検時の判定 | W7: 応急措置前の判定 | Y7: 対策区分毎の 変状の有無 | AC7: 対策区分毎の変状の発生範囲の規模(㎡) | AK7: 備考注2
K8: 変状番号 | L8: 対象箇所 | N8: 部位区分 | P8: 変状区分 | R8: 変状種類
Y9: 外力注1 | AC9: 材質劣化注1 | AG9: 漏水注1
Y10: Ⅳ | Z10: Ⅲ | AA10: Ⅱa | AB10: Ⅱb | AC10: Ⅳ | AD10: Ⅲ | AE10: Ⅱa | AF10: Ⅱb | AG10: Ⅳ | AH10: Ⅲ | AI10: Ⅱa | AJ10: Ⅱb
AQ11: =IF(P11="材質劣化",2,IF(P11="漏水",3,1)) -> 1
AQ12: =IF(P12="材質劣化",2,IF(P12="漏水",3,1)) -> 1
AQ13: =IF(P13="材質劣化",2,IF(P13="漏水",3,1)) -> 1
AQ14: =IF(P14="材質劣化",2,IF(P14="漏水",3,1)) -> 1
AQ15: =IF(P15="材質劣化",2,IF(P15="漏水",3,1)) -> 1
AQ16: =IF(P16="材質劣化",2,IF(P16="漏水",3,1)) -> 1
AQ17: =IF(P17="材質劣化",2,IF(P17="漏水",3,1)) -> 1
AQ18: =IF(P18="材質劣化",2,IF(P18="漏水",3,1)) -> 1
AQ19: =IF(P19="材質劣化",2,IF(P19="漏水",3,1)) -> 1
AQ20: =IF(P20="材質劣化",2,IF(P20="漏水",3,1)) -> 1
AQ21: =IF(P21="材質劣化",2,IF(P21="漏水",3,1)) -> 1
AQ22: =IF(P22="材質劣化",2,IF(P22="漏水",3,1)) -> 1
... AQ34: =IF(P34="材質劣化",2,IF(P34="漏水",3,1)) -> 1
K35: 集計 判定 診断 | L35: 変状の発生規模合計(㎡) | Y35: － | AC35: =SUM(AC11:AC34) -> 0 | AD35: =SUM(AD11:AD34) -> 0 | AE35: =SUM(AE11:AE34) -> 0 | AF35: =SUM(AF11:AF34) -> 0 | AG35: =SUM(AG11:AG34) -> 0 | AH35: =SUM(AH11:AH34) -> 0 | AI35: =SUM(AI11:AI34) -> 0 | AJ35: =SUM(AJ11:AJ34) -> 0 | AK35: 覆工スパン単位の 健全性の 診断の区分 | AM35: Ⅰ
L36: 対策区分の 判定結果 | O36: 対策区分毎の変状数 | Y36: Ⅳ | Z36: Ⅲ | AA36: Ⅱa | AB36: Ⅱb | AC36: Ⅳ | AD36: Ⅲ | AE36: Ⅱa | AF36: Ⅱb | AG36: Ⅳ | AH36: Ⅲ | AI36: Ⅱa | AJ36: Ⅱb
Y37: =COUNTIF(Y11:Y34,"〇") -> 0 | Z37: =COUNTIF(Z11:Z34,"〇") -> 0 | AA37: =COUNTIF(AA11:AA34,"〇") -> 0 | AB37: =COUNTIF(AB11:AB34,"〇") -> 0 | AC37: =COUNTA(AC11:AC34) -> 0 | AD37: =COUNTA(AD11:AD34) -> 0 | AE37: =COUNTA(AE11:AE34) -> 0 | AF37: =COUNTA(AF11:AF34) -> 0 | AG37: =COUNTA(AG11:AG34) -> 0 | AH37: =COUNTA(AH11:AH34) -> 0 | AI37: =COUNTA(AI11:AI34) -> 0 | AJ37: =COUNTA(AJ11:AJ34) -> 0
K39: 所見
K43: 注1：誤記入防止のため、当該変状区分以外のセルは灰色表示とすること。
K44: 注2：応急措置を実施した場合は、その詳細を備考に記載すること。
K45: 注3：外力は覆工スパン単位、材質劣化、漏水は変状単位とすること。
B46: （以下、印刷不要）
B47: ※1：本シートは作成洩れのないよう、変状が無くても全スパン分を作成すること．また変状展開図は、様式D-2-1、様式D-2-1'と同じものを覆工スパン単位で拡大し掲載すること。
B48: ※2：変状番号は、様式D-1-1で記入した番号と整合させること。
B49: ※3：対策区分毎の変状発生規模は、様式D-1-1に記載した面積を記入すること（ただし外力はスパン単位で評価するため変状の有無の欄には面積でなく○を記入し、備考欄に状況を記入）。
B50: ※4：本様式は覆工スパン毎に作成すること。
B51: ※5：変状数が多い場合は、適時、表の行を増やして覆工スパン毎に1枚のシートに収めること。また、1スパン１シートとし、スパンに合わせてシートを追加すること。
B52: ※6：対策区分毎の変状の発生範囲の規模とは，対策を行う際に参考となる変状の長さや面積であり，変状を包含する長さや面積とする。
B53: ※7：対策範囲を示す発生範囲の規模を面積で記入することが妥当ではない変状は、発生範囲の規模の欄に○を記入するとともに、備考に内容を記入すること。

Sheet 様式D-3_S008
AU1: 様式F用→ | AV1: 覆工スパン | AY1: 変 状 数 | BK1: 変 状 規 模
AV2: 番号 | AW2: 延長 （ｍ） | AX2: 健全性の診断の 区分 | AY2: 対策区分の判定 | BK2: 覆工スパン長（ｍ） | BO2: 変状の発生範囲の規模（㎡）
B3: ■定期点検記録様式 覆工スパン別変状詳細展開図 【様式D-3】 | AY3: 外力 | BC3: 材質劣化 | BG3: 漏水 | BK3: 外力 注2 | BO3: 材質劣化 | BS3: 漏水
B4: フリガナ | E4: (ﾀｲﾈｲｼﾞﾀﾞｲｲﾁﾄﾝﾈﾙ) | K4: 路線名 | N4: 国道491号（長門・俵山道路） | T4: 定期点検業者 | Y4: 株式会社荒谷建設コンサルタント | AG4: 定期点検年月日 | AK4: 45621 | AY4: Ⅳ | AZ4: Ⅲ | BA4: Ⅱa | BB4: Ⅱb | BC4: Ⅳ | BD4: Ⅲ | BE4: Ⅱa | BF4: Ⅱb | BG4: Ⅳ | BH4: Ⅲ | BI4: Ⅱa | BJ4: Ⅱb | BK4: Ⅳ | BL4: Ⅲ | BM4: Ⅱa | BN4: Ⅱb | BO4: Ⅳ | BP4: Ⅲ | BQ4: Ⅱa | BR4: Ⅱb | BS4: Ⅳ | BT4: Ⅲ | BU4: Ⅱa | BV4: Ⅱb
B5: 名 称 | E5: 大寧寺第1トンネル | K5: 管理者名 | N5: 山口県長門土木建築事務所 | Y5: 河野 秀生 | AV5: =N7 -> S008 | AW5: =R7 -> 10.5 | AX5: =AM35 -> Ⅱ | AY5: =Y37 -> 0 | AZ5: =Z37 -> 0 | BA5: =AA37 -> 0 | BB5: =AB37 -> 0 | BC5: =AC37 -> 0 | BD5: =AD37 -> 0 | BE5: =AE37 -> 0 | BF5: =AF37 -> 1 | ... BJ5: =AJ37 -> 0 | BK5: =IF(Y37>0,R7,"") | BL5: =IF(Y37>0,"",IF(Z37>0,R7,"")) | BM5: =IF(Y37+Z37>0,"",IF(AA37>0,R7,"")) | BN5: =IF(Y37+Z37+AA37>0,"",IF(AB37>0,R7,"")) | BO5: =AC35 -> 0 | BP5: =AD35 -> 0 | BQ5: =AE35 -> 0 | BR5: =AF35 -> 0.2925 | BS5: =AG35 -> 0 | BT5: =AH35 -> 0 | BU5: =AI35 -> 0 | BV5: =AJ35 -> 0
B6: スパン別変状展開図 | K6: 【健全性判定集計表】
K7: スパン番号 | N7: S008 | P7: スパン長 | R7: 10.5 | U7: 前回定期点検時の判定 | W7: 応急措置前の判定 | Y7: 対策区分毎の 変状の有無 | AC7: 対策区分毎の変状の発生範囲の規模(㎡) | AK7: 備考注2
K8: 変状番号 | L8: 対象箇所 | N8: 部位区分 | P8: 変状区分 | R8: 変状種類
Y9: 外力注1 | AC9: 材質劣化注1 | AG9: 漏水注1
Y10: Ⅳ | Z10: Ⅲ | AA10: Ⅱa | AB10: Ⅱb | AC10: Ⅳ | AD10: Ⅲ | AE10: Ⅱa | AF10: Ⅱb | AG10: Ⅳ | AH10: Ⅲ | AI10: Ⅱa | AJ10: Ⅱb
K11: 1 | L11: 覆工 | N11: アーチ（天端） | P11: 材質劣化 | R11: うき・はく離 | U11: － | AF11: 0.2925 | AQ11: =IF(P11="材質劣化",2,IF(P11="漏水",3,1)) -> 2
AQ12: =IF(P12="材質劣化",2,IF(P12="漏水",3,1)) -> 1
AQ13: =IF(P13="材質劣化",2,IF(P13="漏水",3,1)) -> 1
AQ14: =IF(P14="材質劣化",2,IF(P14="漏水",3,1)) -> 1
AQ15: =IF(P15="材質劣化",2,IF(P15="漏水",3,1)) -> 1
AQ16: =IF(P16="材質劣化",2,IF(P16="漏水",3,1)) -> 1
AQ17: =IF(P17="材質劣化",2,IF(P17="漏水",3,1)) -> 1
AQ18: =IF(P18="材質劣化",2,IF(P18="漏水",3,1)) -> 1
AQ19: =IF(P19="材質劣化",2,IF(P19="漏水",3,1)) -> 1
AQ20: =IF(P20="材質劣化",2,IF(P20="漏水",3,1)) -> 1
AQ21: =IF(P21="材質劣化",2,IF(P21="漏水",3,1)) -> 1
AQ22: =IF(P22="材質劣化",2,IF(P22="漏水",3,1)) -> 1
AQ23: =IF(P23="材質劣化",2,IF(P23="漏水",3,1)) -> 1
... AQ34: =IF(P34="材質劣化",2,IF(P34="漏水",3,1)) -> 1
K35: 集計 判定 診断 | L35: 変状の発生規模合計(㎡) | Y35: － | AC35: =SUM(AC11:AC34) -> 0 | AD35: =SUM(AD11:AD34) -> 0 | AE35: =SUM(AE11:AE34) -> 0 | AF35: =SUM(AF11:AF34) -> 0.2925 | AG35: =SUM(AG11:AG34) -> 0 | AH35: =SUM(AH11:AH34) -> 0 | AI35: =SUM(AI11:AI34) -> 0 | AJ35: =SUM(AJ11:AJ34) -> 0 | AK35: 覆工スパン単位の 健全性の 診断の区分 | AM35: Ⅱ
L36: 対策区分の 判定結果 | O36: 対策区分毎の変状数 | Y36: Ⅳ | Z36: Ⅲ | AA36: Ⅱa | AB36: Ⅱb | AC36: Ⅳ | AD36: Ⅲ | AE36: Ⅱa | AF36: Ⅱb | AG36: Ⅳ | AH36: Ⅲ | AI36: Ⅱa | AJ36: Ⅱb
Y37: =COUNTIF(Y11:Y34,"〇") -> 0 | Z37: =COUNTIF(Z11:Z34,"〇") -> 0 | AA37: =COUNTIF(AA11:AA34,"〇") -> 0 | AB37: =COUNTIF(AB11:AB34,"〇") -> 0 | AC37: =COUNTA(AC11:AC34) -> 0 | AD37: =COUNTA(AD11:AD34) -> 0 | AE37: =COUNTA(AE11:AE34) -> 0 | AF37: =COUNTA(AF11:AF34) -> 1 | AG37: =COUNTA(AG11:AG34) -> 0 | AH37: =COUNTA(AH11:AH34) -> 0 | AI37: =COUNTA(AI11:AI34) -> 0 | AJ37: =COUNTA(AJ11:AJ34) -> 0
K39: 所見
K43: 注1：誤記入防止のため、当該変状区分以外のセルは灰色表示とすること。
K44: 注2：応急措置を実施した場合は、その詳細を備考に記載すること。
K45: 注3：外力は覆工スパン単位、材質劣化、漏水は変状単位とすること。
B46: （以下、印刷不要）
B47: ※1：本シートは作成洩れのないよう、変状が無くても全スパン分を作成すること．また変状展開図は、様式D-2-1、様式D-2-1'と同じものを覆工スパン単位で拡大し掲載すること。
B48: ※2：変状番号は、様式D-1-1で記入した番号と整合させること。
B49: ※3：対策区分毎の変状発生規模は、様式D-1-1に記載した面積を記入すること（ただし外力はスパン単位で評価するため変状の有無の欄には面積でなく○を記入し、備考欄に状況を記入）。
B50: ※4：本様式は覆工スパン毎に作成すること。
B51: ※5：変状数が多い場合は、適時、表の行を増やして覆工スパン毎に1枚のシートに収めること。また、1スパン１シートとし、スパンに合わせてシートを追加すること。
B52: ※6：対策区分毎の変状の発生範囲の規模とは，対策を行う際に参考となる変状の長さや面積であり，変状を包含する長さや面積とする。
B53: ※7：対策範囲を示す発生範囲の規模を面積で記入することが妥当ではない変状は、発生範囲の規模の欄に○を記入するとともに、備考に内容を記入すること。

Sheet 様式D-3_S009
AU1: 様式F用→ | AV1: 覆工スパン | AY1: 変 状 数 | BK1: 変 状 規 模
AV2: 番号 | AW2: 延長 （ｍ） | AX2: 健全性の診断の 区分 | AY2: 対策区分の判定 | BK2: 覆工スパン長（ｍ） | BO2: 変状の発生範囲の規模（㎡）
B3: ■定期点検記録様式 覆工スパン別変状詳細展開図 【様式D-3】 | AY3: 外力 | BC3: 材質劣化 | BG3: 漏水 | BK3: 外力 注2 | BO3: 材質劣化 | BS3: 漏水
B4: フリガナ | E4: (ﾀｲﾈｲｼﾞﾀﾞｲｲﾁﾄﾝﾈﾙ) | K4: 路線名 | N4: 国道491号（長門・俵山道路） | T4: 定期点検業者 | Y4: 株式会社荒谷建設コンサルタント | AG4: 定期点検年月日 | AK4: 45621 | AY4: Ⅳ | AZ4: Ⅲ | BA4: Ⅱa | BB4: Ⅱb | BC4: Ⅳ | BD4: Ⅲ | BE4: Ⅱa | BF4: Ⅱb | BG4: Ⅳ | BH4: Ⅲ | BI4: Ⅱa | BJ4: Ⅱb | BK4: Ⅳ | BL4: Ⅲ | BM4: Ⅱa | BN4: Ⅱb | BO4: Ⅳ | BP4: Ⅲ | BQ4: Ⅱa | BR4: Ⅱb | BS4: Ⅳ | BT4: Ⅲ | BU4: Ⅱa | BV4: Ⅱb
B5: 名 称 | E5: 大寧寺第1トンネル | K5: 管理者名 | N5: 山口県長門土木建築事務所 | Y5: 河野 秀生 | AV5: =N7 -> S009 | AW5: =R7 -> 10.5 | AX5: =AM35 -> Ⅰ | AY5: =Y37 -> 0 | AZ5: =Z37 -> 0 | BA5: =AA37 -> 0 | BB5: =AB37 -> 0 | BC5: =AC37 -> 0 | BD5: =AD37 -> 0 | BE5: =AE37 -> 0 | BF5: =AF37 -> 0 | ... BJ5: =AJ37 -> 0 | BK5: =IF(Y37>0,R7,"") | BL5: =IF(Y37>0,"",IF(Z37>0,R7,"")) | BM5: =IF(Y37+Z37>0,"",IF(AA37>0,R7,"")) | BN5: =IF(Y37+Z37+AA37>0,"",IF(AB37>0,R7,"")) | BO5: =AC35 -> 0 | BP5: =AD35 -> 0 | BQ5: =AE35 -> 0 | BR5: =AF35 -> 0 | BS5: =AG35 -> 0 | BT5: =AH35 -> 0 | BU5: =AI35 -> 0 | BV5: =AJ35 -> 0
B6: スパン別変状展開図 | K6: 【健全性判定集計表】
K7: スパン番号 | N7: S009 | P7: スパン長 | R7: 10.5 | U7: 前回定期点検時の判定 | W7: 応急措置前の判定 | Y7: 対策区分毎の 変状の有無 | AC7: 対策区分毎の変状の発生範囲の規模(㎡) | AK7: 備考注2
K8: 変状番号 | L8: 対象箇所 | N8: 部位区分 | P8: 変状区分 | R8: 変状種類
Y9: 外力注1 | AC9: 材質劣化注1 | AG9: 漏水注1
Y10: Ⅳ | Z10: Ⅲ | AA10: Ⅱa | AB10: Ⅱb | AC10: Ⅳ | AD10: Ⅲ | AE10: Ⅱa | AF10: Ⅱb | AG10: Ⅳ | AH10: Ⅲ | AI10: Ⅱa | AJ10: Ⅱb
AQ11: =IF(P11="材質劣化",2,IF(P11="漏水",3,1)) -> 1
AQ12: =IF(P12="材質劣化",2,IF(P12="漏水",3,1)) -> 1
AQ13: =IF(P13="材質劣化",2,IF(P13="漏水",3,1)) -> 1
AQ14: =IF(P14="材質劣化",2,IF(P14="漏水",3,1)) -> 1
AQ15: =IF(P15="材質劣化",2,IF(P15="漏水",3,1)) -> 1
AQ16: =IF(P16="材質劣化",2,IF(P16="漏水",3,1)) -> 1
AQ17: =IF(P17="材質劣化",2,IF(P17="漏水",3,1)) -> 1
AQ18: =IF(P18="材質劣化",2,IF(P18="漏水",3,1)) -> 1
AQ19: =IF(P19="材質劣化",2,IF(P19="漏水",3,1)) -> 1
AQ20: =IF(P20="材質劣化",2,IF(P20="漏水",3,1)) -> 1
AQ21: =IF(P21="材質劣化",2,IF(P21="漏水",3,1)) -> 1
AQ22: =IF(P22="材質劣化",2,IF(P22="漏水",3,1)) -> 1
... AQ34: =IF(P34="材質劣化",2,IF(P34="漏水",3,1)) -> 1
K35: 集計 判定 診断 | L35: 変状の発生規模合計(㎡) | Y35: － | AC35: =SUM(AC11:AC34) -> 0 | AD35: =SUM(AD11:AD34) -> 0 | AE35: =SUM(AE11:AE34) -> 0 | AF35: =SUM(AF11:AF34) -> 0 | AG35: =SUM(AG11:AG34) -> 0 | AH35: =SUM(AH11:AH34) -> 0 | AI35: =SUM(AI11:AI34) -> 0 | AJ35: =SUM(AJ11:AJ34) -> 0 | AK35: 覆工スパン単位の 健全性の 診断の区分 | AM35: Ⅰ
L36: 対策区分の 判定結果 | O36: 対策区分毎の変状数 | Y36: Ⅳ | Z36: Ⅲ | AA36: Ⅱa | AB36: Ⅱb | AC36: Ⅳ | AD36: Ⅲ | AE36: Ⅱa | AF36: Ⅱb | AG36: Ⅳ | AH36: Ⅲ | AI36: Ⅱa | AJ36: Ⅱb
Y37: =COUNTIF(Y11:Y34,"〇") -> 0 | Z37: =COUNTIF(Z11:Z34,"〇") -> 0 | AA37: =COUNTIF(AA11:AA34,"〇") -> 0 | AB37: =COUNTIF(AB11:AB34,"〇") -> 0 | AC37: =COUNTA(AC11:AC34) -> 0 | AD37: =COUNTA(AD11:AD34) -> 0 | AE37: =COUNTA(AE11:AE34) -> 0 | AF37: =COUNTA(AF11:AF34) -> 0 | AG37: =COUNTA(AG11:AG34) -> 0 | AH37: =COUNTA(AH11:AH34) -> 0 | AI37: =COUNTA(AI11:AI34) -> 0 | AJ37: =COUNTA(AJ11:AJ34) -> 0
K39: 所見
K43: 注1：誤記入防止のため、当該変状区分以外のセルは灰色表示とすること。
K44: 注2：応急措置を実施した場合は、その詳細を備考に記載すること。
K45: 注3：外力は覆工スパン単位、材質劣化、漏水は変状単位とすること。
B46: （以下、印刷不要）
B47: ※1：本シートは作成洩れのないよう、変状が無くても全スパン分を作成すること．また変状展開図は、様式D-2-1、様式D-2-1'と同じものを覆工スパン単位で拡大し掲載すること。
B48: ※2：変状番号は、様式D-1-1で記入した番号と整合させること。
B49: ※3：対策区分毎の変状発生規模は、様式D-1-1に記載した面積を記入すること（ただし外力はスパン単位で評価するため変状の有無の欄には面積でなく○を記入し、備考欄に状況を記入）。
B50: ※4：本様式は覆工スパン毎に作成すること。
B51: ※5：変状数が多い場合は、適時、表の行を増やして覆工スパン毎に1枚のシートに収めること。また、1スパン１シートとし、スパンに合わせてシートを追加すること。
B52: ※6：対策区分毎の変状の発生範囲の規模とは，対策を行う際に参考となる変状の長さや面積であり，変状を包含する長さや面積とする。
B53: ※7：対策範囲を示す発生範囲の規模を面積で記入することが妥当ではない変状は、発生範囲の規模の欄に○を記入するとともに、備考に内容を記入すること。

Sheet 様式D-3_S010
AU1: 様式F用→ | AV1: 覆工スパン | AY1: 変 状 数 | BK1: 変 状 規 模
AV2: 番号 | AW2: 延長 （ｍ） | AX2: 健全性の診断の 区分 | AY2: 対策区分の判定 | BK2: 覆工スパン長（ｍ） | BO2: 変状の発生範囲の規模（㎡）
B3: ■定期点検記録様式 覆工スパン別変状詳細展開図 【様式D-3】 | AY3: 外力 | BC3: 材質劣化 | BG3: 漏水 | BK3: 外力 注2 | BO3: 材質劣化 | BS3: 漏水
B4: フリガナ | E4: (ﾀｲﾈｲｼﾞﾀﾞｲｲﾁﾄﾝﾈﾙ) | K4: 路線名 | N4: 国道491号（長門・俵山道路） | T4: 定期点検業者 | Y4: 株式会社荒谷建設コンサルタント | AG4: 定期点検年月日 | AK4: 45621 | AY4: Ⅳ | AZ4: Ⅲ | BA4: Ⅱa | BB4: Ⅱb | BC4: Ⅳ | BD4: Ⅲ | BE4: Ⅱa | BF4: Ⅱb | BG4: Ⅳ | BH4: Ⅲ | BI4: Ⅱa | BJ4: Ⅱb | BK4: Ⅳ | BL4: Ⅲ | BM4: Ⅱa | BN4: Ⅱb | BO4: Ⅳ | BP4: Ⅲ | BQ4: Ⅱa | BR4: Ⅱb | BS4: Ⅳ | BT4: Ⅲ | BU4: Ⅱa | BV4: Ⅱb
B5: 名 称 | E5: 大寧寺第1トンネル | K5: 管理者名 | N5: 山口県長門土木建築事務所 | Y5: 河野 秀生 | AV5: =N7 -> S010 | AW5: =R7 -> 10.5 | AX5: =AM35 -> Ⅱ | AY5: =Y37 -> 0 | AZ5: =Z37 -> 0 | BA5: =AA37 -> 0 | BB5: =AB37 -> 0 | BC5: =AC37 -> 0 | BD5: =AD37 -> 0 | BE5: =AE37 -> 2 | BF5: =AF37 -> 2 | ... BJ5: =AJ37 -> 0 | BK5: =IF(Y37>0,R7,"") | BL5: =IF(Y37>0,"",IF(Z37>0,R7,"")) | BM5: =IF(Y37+Z37>0,"",IF(AA37>0,R7,"")) | BN5: =IF(Y37+Z37+AA37>0,"",IF(AB37>0,R7,"")) | BO5: =AC35 -> 0 | BP5: =AD35 -> 0 | BQ5: =AE35 -> 0.095 | BR5: =AF35 -> 0.11 | BS5: =AG35 -> 0 | BT5: =AH35 -> 0 | BU5: =AI35 -> 0 | BV5: =AJ35 -> 0
B6: スパン別変状展開図 | K6: 【健全性判定集計表】
K7: スパン番号 | N7: S010 | P7: スパン長 | R7: 10.5 | U7: 前回定期点検時の判定 | W7: 応急措置前の判定 | Y7: 対策区分毎の 変状の有無 | AC7: 対策区分毎の変状の発生範囲の規模(㎡) | AK7: 備考注2
K8: 変状番号 | L8: 対象箇所 | N8: 部位区分 | P8: 変状区分 | R8: 変状種類
Y9: 外力注1 | AC9: 材質劣化注1 | AG9: 漏水注1
Y10: Ⅳ | Z10: Ⅲ | AA10: Ⅱa | AB10: Ⅱb | AC10: Ⅳ | AD10: Ⅲ | AE10: Ⅱa | AF10: Ⅱb | AG10: Ⅳ | AH10: Ⅲ | AI10: Ⅱa | AJ10: Ⅱb
K11: 1 | L11: 覆工 | N11: 横断目地（左側） | P11: 材質劣化 | R11: うき・はく離 | U11: Ⅱb | AE11: 0.045 | AQ11: =IF(P11="材質劣化",2,IF(P11="漏水",3,1)) -> 2
K12: 2 | L12: 覆工 | N12: 横断目地（左側） | P12: 材質劣化 | R12: うき・はく離 | U12: Ⅱb | AF12: 0.02 | AQ12: =IF(P12="材質劣化",2,IF(P12="漏水",3,1)) -> 2
K13: 3 | L13: 覆工 | N13: アーチ（右側） | P13: 材質劣化 | R13: うき・はく離 | U13: Ⅱb | AF13: 0.09 | AQ13: =IF(P13="材質劣化",2,IF(P13="漏水",3,1)) -> 2
K14: 4 | L14: 覆工 | N14: 横断目地（天端） | P14: 材質劣化 | R14: うき・はく離 | U14: Ⅱb | AE14: 0.05 | AQ14: =IF(P14="材質劣化",2,IF(P14="漏水",3,1)) -> 2
AQ15: =IF(P15="材質劣化",2,IF(P15="漏水",3,1)) -> 1
AQ16: =IF(P16="材質劣化",2,IF(P16="漏水",3,1)) -> 1
AQ17: =IF(P17="材質劣化",2,IF(P17="漏水",3,1)) -> 1
AQ18: =IF(P18="材質劣化",2,IF(P18="漏水",3,1)) -> 1
AQ19: =IF(P19="材質劣化",2,IF(P19="漏水",3,1)) -> 1
AQ20: =IF(P20="材質劣化",2,IF(P20="漏水",3,1)) -> 1
AQ21: =IF(P21="材質劣化",2,IF(P21="漏水",3,1)) -> 1
AQ22: =IF(P22="材質劣化",2,IF(P22="漏水",3,1)) -> 1
AQ23: =IF(P23="材質劣化",2,IF(P23="漏水",3,1)) -> 1
AQ24: =IF(P24="材質劣化",2,IF(P24="漏水",3,1)) -> 1
AQ25: =IF(P25="材質劣化",2,IF(P25="漏水",3,1)) -> 1
AQ26: =IF(P26="材質劣化",2,IF(P26="漏水",3,1)) -> 1
... AQ34: =IF(P34="材質劣化",2,IF(P34="漏水",3,1)) -> 1
K35: 集計 判定 診断 | L35: 変状の発生規模合計(㎡) | Y35: － | AC35: =SUM(AC11:AC34) -> 0 | AD35: =SUM(AD11:AD34) -> 0 | AE35: =SUM(AE11:AE34) -> 0.095 | AF35: =SUM(AF11:AF34) -> 0.11 | AG35: =SUM(AG11:AG34) -> 0 | AH35: =SUM(AH11:AH34) -> 0 | AI35: =SUM(AI11:AI34) -> 0 | AJ35: =SUM(AJ11:AJ34) -> 0 | AK35: 覆工スパン単位の 健全性の 診断の区分 | AM35: Ⅱ
L36: 対策区分の 判定結果 | O36: 対策区分毎の変状数 | Y36: Ⅳ | Z36: Ⅲ | AA36: Ⅱa | AB36: Ⅱb | AC36: Ⅳ | AD36: Ⅲ | AE36: Ⅱa | AF36: Ⅱb | AG36: Ⅳ | AH36: Ⅲ | AI36: Ⅱa | AJ36: Ⅱb
Y37: =COUNTIF(Y11:Y34,"〇") -> 0 | Z37: =COUNTIF(Z11:Z34,"〇") -> 0 | AA37: =COUNTIF(AA11:AA34,"〇") -> 0 | AB37: =COUNTIF(AB11:AB34,"〇") -> 0 | AC37: =COUNTA(AC11:AC34) -> 0 | AD37: =COUNTA(AD11:AD34) -> 0 | AE37: =COUNTA(AE11:AE34) -> 2 | AF37: =COUNTA(AF11:AF34) -> 2 | AG37: =COUNTA(AG11:AG34) -> 0 | AH37: =COUNTA(AH11:AH34) -> 0 | AI37: =COUNTA(AI11:AI34) -> 0 | AJ37: =COUNTA(AJ11:AJ34) -> 0
K39: 所見
K43: 注1：誤記入防止のため、当該変状区分以外のセルは灰色表示とすること。
K44: 注2：応急措置を実施した場合は、その詳細を備考に記載すること。
K45: 注3：外力は覆工スパン単位、材質劣化、漏水は変状単位とすること。
B46: （以下、印刷不要）
B47: ※1：本シートは作成洩れのないよう、変状が無くても全スパン分を作成すること．また変状展開図は、様式D-2-1、様式D-2-1'と同じものを覆工スパン単位で拡大し掲載すること。
B48: ※2：変状番号は、様式D-1-1で記入した番号と整合させること。
B49: ※3：対策区分毎の変状発生規模は、様式D-1-1に記載した面積を記入すること（ただし外力はスパン単位で評価するため変状の有無の欄には面積でなく○を記入し、備考欄に状況を記入）。
B50: ※4：本様式は覆工スパン毎に作成すること。
B51: ※5：変状数が多い場合は、適時、表の行を増やして覆工スパン毎に1枚のシートに収めること。また、1スパン１シートとし、スパンに合わせてシートを追加すること。
B52: ※6：対策区分毎の変状の発生範囲の規模とは，対策を行う際に参考となる変状の長さや面積であり，変状を包含する長さや面積とする。
B53: ※7：対策範囲を示す発生範囲の規模を面積で記入することが妥当ではない変状は、発生範囲の規模の欄に○を記入するとともに、備考に内容を記入すること。

Sheet 様式D-3_S011
AU1: 様式F用→ | AV1: 覆工スパン | AY1: 変 状 数 | BK1: 変 状 規 模
AV2: 番号 | AW2: 延長 （ｍ） | AX2: 健全性の診断の 区分 | AY2: 対策区分の判定 | BK2: 覆工スパン長（ｍ） | BO2: 変状の発生範囲の規模（㎡）
B3: ■定期点検記録様式 覆工スパン別変状詳細展開図 【様式D-3】 | AY3: 外力 | BC3: 材質劣化 | BG3: 漏水 | BK3: 外力 注2 | BO3: 材質劣化 | BS3: 漏水
B4: フリガナ | E4: (ﾀｲﾈｲｼﾞﾀﾞｲｲﾁﾄﾝﾈﾙ) | K4: 路線名 | N4: 国道491号（長門・俵山道路） | T4: 定期点検業者 | Y4: 株式会社荒谷建設コンサルタント | AG4: 定期点検年月日 | AK4: 45621 | AY4: Ⅳ | AZ4: Ⅲ | BA4: Ⅱa | BB4: Ⅱb | BC4: Ⅳ | BD4: Ⅲ | BE4: Ⅱa | BF4: Ⅱb | BG4: Ⅳ | BH4: Ⅲ | BI4: Ⅱa | BJ4: Ⅱb | BK4: Ⅳ | BL4: Ⅲ | BM4: Ⅱa | BN4: Ⅱb | BO4: Ⅳ | BP4: Ⅲ | BQ4: Ⅱa | BR4: Ⅱb | BS4: Ⅳ | BT4: Ⅲ | BU4: Ⅱa | BV4: Ⅱb
B5: 名 称 | E5: 大寧寺第1トンネル | K5: 管理者名 | N5: 山口県長門土木建築事務所 | Y5: 河野 秀生 | AV5: =N7 -> S011 | AW5: =R7 -> 10.5 | AX5: =AM35 -> Ⅱ | AY5: =Y37 -> 0 | AZ5: =Z37 -> 0 | BA5: =AA37 -> 0 | BB5: =AB37 -> 0 | BC5: =AC37 -> 0 | BD5: =AD37 -> 0 | BE5: =AE37 -> 2 | BF5: =AF37 -> 1 | ... BJ5: =AJ37 -> 0 | BK5: =IF(Y37>0,R7,"") | BL5: =IF(Y37>0,"",IF(Z37>0,R7,"")) | BM5: =IF(Y37+Z37>0,"",IF(AA37>0,R7,"")) | BN5: =IF(Y37+Z37+AA37>0,"",IF(AB37>0,R7,"")) | BO5: =AC35 -> 0 | BP5: =AD35 -> 0 | BQ5: =AE35 -> 0.11 | BR5: =AF35 -> 0.0025 | BS5: =AG35 -> 0 | BT5: =AH35 -> 0 | BU5: =AI35 -> 0 | BV5: =AJ35 -> 0
B6: スパン別変状展開図 | K6: 【健全性判定集計表】
K7: スパン番号 | N7: S011 | P7: スパン長 | R7: 10.5 | U7: 前回定期点検時の判定 | W7: 応急措置前の判定 | Y7: 対策区分毎の 変状の有無 | AC7: 対策区分毎の変状の発生範囲の規模(㎡) | AK7: 備考注2
K8: 変状番号 | L8: 対象箇所 | N8: 部位区分 | P8: 変状区分 | R8: 変状種類
Y9: 外力注1 | AC9: 材質劣化注1 | AG9: 漏水注1
Y10: Ⅳ | Z10: Ⅲ | AA10: Ⅱa | AB10: Ⅱb | AC10: Ⅳ | AD10: Ⅲ | AE10: Ⅱa | AF10: Ⅱb | AG10: Ⅳ | AH10: Ⅲ | AI10: Ⅱa | AJ10: Ⅱb
K11: 1 | L11: 覆工 | N11: 横断目地（左側） | P11: 材質劣化 | R11: うき・はく離 | U11: Ⅱa | AE11: 0.06 | AQ11: =IF(P11="材質劣化",2,IF(P11="漏水",3,1)) -> 2
K12: 2 | L12: 覆工 | N12: アーチ（天端） | P12: 材質劣化 | R12: うき・はく離 | U12: Ⅱb | AF12: 0.0025 | AQ12: =IF(P12="材質劣化",2,IF(P12="漏水",3,1)) -> 2
