Workbook
Name その他: '(参考)リスト'!$C$45
Name その他施設: '(参考)リスト'!$C$76:$C$80
Name 外力: '(参考)リスト'!$E$16:$E$23
Name 換気施設: '(参考)リスト'!$C$55:$C$59
Name 坑門: '(参考)リスト'!$C$16:$C$29
Name 材質劣化: '(参考)リスト'!$E$25:$E$30
Name 照明施設: '(参考)リスト'!$C$51:$C$53
Name 対象箇所: テーブル1[対象箇所]
Name 対象箇所: テーブル1[対象箇所]
Name 対象箇所: テーブル1[対象箇所]
Name 対象箇所: テーブル1[対象箇所]
Name 対象箇所: テーブル1[対象箇所]
Name 対象箇所: テーブル1[対象箇所]
Name 対象箇所: テーブル1[対象箇所]
Name 対象箇所: テーブル1[対象箇所]
Name 対象箇所: テーブル1[対象箇所]
Name 対象箇所: テーブル1[対象箇所]
Name 対象箇所: テーブル1[対象箇所]
Name 対象箇所: テーブル1[対象箇所]
Name 対象箇所: テーブル1[対象箇所]
Name 対象箇所: テーブル1[対象箇所]
Name 対象箇所: テーブル1[対象箇所]
Name 対象箇所: テーブル1[対象箇所]
Name 対象箇所: テーブル1[対象箇所]
Name 対象箇所: テーブル1[対象箇所]
Name 対象箇所: テーブル1[対象箇所]
Name 対象箇所: テーブル1[対象箇所]
Name 対象箇所: テーブル1[対象箇所]
Name 対象箇所: テーブル1[対象箇所]
Name 対象箇所: テーブル1[対象箇所]
Name 対象箇所: テーブル1[対象箇所]
Name 対象箇所: テーブル1[対象箇所]
Name 対象箇所: テーブル1[対象箇所]
Name 対象箇所: テーブル1[対象箇所]
Name 対象箇所: テーブル1[対象箇所]
Name 対象箇所: テーブル1[対象箇所]
Name 対象箇所: テーブル1[対象箇所]
Name 対象箇所: テーブル1[対象箇所]
Name 対象箇所: テーブル1[対象箇所]
Name 対象箇所: テーブル1[対象箇所]
Name 対象箇所: テーブル1[対象箇所]
Name 対象箇所: テーブル1[対象箇所]
Name 対象箇所: テーブル1[対象箇所]
Name 対象箇所: テーブル1[対象箇所]
Name 対象箇所: テーブル1[対象箇所]
Name 対象箇所: テーブル1[対象箇所]
Name 対象箇所: テーブル1[対象箇所]
Name 対象箇所: テーブル1[対象箇所]
Name 対象箇所: テーブル1[対象箇所]
Name 対象箇所: テーブル1[対象箇所]
Name 対象箇所: テーブル1[対象箇所]
Name 対象箇所: テーブル1[対象箇所]
Name 対象箇所: テーブル1[対象箇所]
Name 対象箇所: テーブル1[対象箇所]
Name 対象箇所: テーブル1[対象箇所]
Name 対象箇所: テーブル1[対象箇所]
Name 対象箇所: テーブル1[対象箇所]
Name 対象箇所: テーブル1[対象箇所]
Name 対象箇所: テーブル1[対象箇所]
Name 対象箇所: テーブル1[対象箇所]

Sheet 点検様式作成フロー
A1: 点検様式作成フロ-
A3: 作成フロー図 | H3: 点検調書作成手順
H4: ①様式A-1～A-3（トンネル台帳）
H5: トンネル点検の実施にあたっては，現場点検作業に先行してトンネル情報を収集する。トンネル台帳（様式Ａ－1～様式Ａ－3）はトンネル完成後に作成され，維持管理の段階で引き継がれるが，関連資料等を確認したうえで，追加情報があれば必要に応じて追記することが望ましい。
H9: ②様式D-2-1、様式D-2-1´
H10: 現場点検作業を実施し，近接目視点検で確認した変状状況や補修履歴を忠実に変状展開図に転記する
H12: ③様式D-1-1、様式D-1-2
H13: 変状展開図や撮影した写真等をもとに，対象トンネルの対策区分を判定し，対策区分の判定区分がⅡ～Ⅳの変状および異常判定区分「×」を抽出し，写真台帳を作成する
H16: ④様式B
H17: 写真台帳の作成と同時に，トンネルの構造を展開した位置図に変状写真位置を記録する
H19: ⑤様式D-3
H20: 変状展開図ならびに写真台帳をもとに覆工スパンごとの変状展開図を作成し，変状発生状況をとりまとめる
H22: ⑥様式E-1、様式E-2
H23: 様式Ｄ－1～様式Ｄ－3をもとに，健全性の診断結果を集計する
... H31: ファイルは以下の分割規則に従う。 ※各ファイルとも （参考）リスト のシートを付けて保存すること。 ・様式A-1～A-3は同一ファイルとする。 ・様式B、D-1-1、D-1-2、D-2-1（もしくはD-2-1'）、Eは別ファイルとする。 ・様式C-1-1,C-1-2、C-2は同一ファイルとする。 ・様式D-3、E、Fは同一ファイルとする。

Sheet 変状面積算出方法
A1: 変状面積算出方法
A26: 注1）外力による変状：ひび割れや圧ざの場合は変状の寸法を記録する。
A27: 例）ひび割れ：長さ（L）×最大ひび割れ幅（t）を記録する。 変形，移動，沈下：数値的な記載が可能な場合のみ記載する。
A28: 注2）材料劣化による：打音異常
A29: 例）うき，はく離（閉合ひび割れ）：変状範囲を包括する寸法（L×W） うき，はく離（ひび割れ沿い）：打音異常箇所を包括する寸法（L×W） 鋼材腐食（鉄筋腐食）：一括した対策が適当と考えられる範囲を包括する寸法（L×W）
A30: 注3）漏水による変状：漏水発生範囲を包括し，垂れ下がりの可能性がある側壁下端まで含めた寸法を，L×Wで記録する。打継ぎ目地沿いの 漏水については目地を跨いだ50cm幅を横幅とする。

Sheet 様式A-1
B2: ■トンネル台帳 トンネル諸元、非常用施設諸元 【様式A-1】 | S2: トンネルID | W2: 34.29228,131.19650
B3: フリガナ | D3: オオガサコ | H3: 路線名 | J3: 一般国道316号 | P3: 管理者名 | R3: 長門土木建築事務所 | W3: 緊急輸送道路 | Z3: 有
B4: 名 称 | D4: 大ヶ迫トンネル | W4: 代替路の有無 | Z4: 有
B5: 所在地 | D5: 自 | E5: 山口県長門市渋木 | H5: 作成者 | K5: 株式会社オリエンタルコンサルタンツ 妹尾 優大 | P5: 作成年月日 | R5: 45327 | U5: トンネル延長 | X5: L= | Z5: 397 | AB5: ｍ
D6: 至 | E6: 山口県長門市渋木 | U6: ﾄﾝﾈﾙの分類 | X6: 陸上トンネル（掘進工法）
B7: 起点 | C7: 緯度 | E7: 341743.4 | H7: 完成年月日 | K7: 28004 | M7: 舗装 | O7: 種 別 | Q7: コンクリート系 | S7: トンネル非常用施設 | T7: 施設の内訳 | X7: 種別・方式 | Y7: 型式 | Z7: 個数 | AA7: 更新年度 | AE7: =INT(E7/10000) -> 34 | AF7: =INT(E7/100)-AE7*100 -> 17 | AG7: =E7-AE7*10000-AF7*100 -> 43.4 | AH7: =ROUND(AE7+AF7/60+AG7/60/60,5) -> 34.29539 | AI7: =TEXT(AH7,"0.00000") -> 34.29539
C8: 経度 | E8: 1311138.5 | H8: 供用年月日 | O8: 厚 さ | T8: 通報設備 | U8: 通話型通報設備 | Z8: 1 | AE8: =INT(E8/10000) -> 131 | AF8: =INT(E8/100)-AE8*100 -> 11 | AG8: =E8-AE8*10000-AF8*100 -> 38.5 | AH8: =ROUND(AE8+AF8/60+AG8/60/60,5) -> 131.19403 | AI8: =TEXT(AH8,"0.00000") -> 131.19403
B9: 終点 | C9: 緯度 | E9: 341730.5 | H9: トンネル区分 | O9: 面 積 | Q9: 2580.5 | U9: 操作型通報設備 | Z9: 7
C10: 経度 | E10: 1311138.5 | H10: 内装種類 | K10: パネル張工法 | O10: 更新年次 | U10: 自動通報設備
B11: 一般有料区分 | E11: 無料 | H11: 天井板種類 | M11: 排水 | O11: 種 別 | T11: 警報設備 | U11: 非常警報設備
B12: 土かぶり | G12: m | H12: 坑門 | I12: 起点 | J12: 形式 | K12: 面壁型 | O12: 更新年次 | T12: 消火設備 | U12: 消 火 器 | Z12: 7
B13: 内空断面積 | G13: ㎡ | J13: 延長 | L13: m | M13: 施設 | P13: 種別・方式 | Q13: 個数 | R13: 更新年次 | U13: 消火栓設備
B14: 交 通 量 | E14: 6855 | G14: 台/日 | I14: 終点 | J14: 形式 | K14: 面壁型 | M14: 道路附属物等 | N14: 照明 | Q14: 101 | T14: 避難誘導設備 | U14: 誘導表示設備 | Z14: 6
C15: 道 路 幅 | E15: 6.5 | G15: m | J15: 延長 | L15: m | N15: 換気 | U15: 避難情報提供設備
B16: 幅 員 | C16: 車 道 幅 | E16: 6 | G16: m | H16: 竣工巻厚 | I16: アーチ | L16: cm | N16: 標識
G17: m | I17: 側 壁 | L17: cm | N17: 警報表示板 | U17: 避難通路
C18: 歩道等幅 | E18: 0.5 | G18: m | L18: cm | N18: 吸音板 | U18: 排煙設備
B19: 高さ | C19: 建築限界高 | G19: m | I19: インバート | L19: cm | T19: その他の設備 | U19: 給水栓設備
C20: 中央高 | G20: m | H20: 半径 | I20: アーチ | L20: cm | U20: 無線通信補助設備
C21: 有効高 | E21: 4.5 | G21: m | I21: 側 壁 | L21: cm | U21: 水噴霧設備
C22: 縦断勾配 | I22: インバート | L22: cm | U22: 監視設備
B23: 線 形 | C23: 直線区間長 | H23: 占用物件 | I23: 種 類 | K23: 寸 法 | M23: 管理者名 | Q23: 更新年次 | S23: 非常用施設 関連設備 | U23: 予備発電設備
C24: 曲線区間 | D24: 区間長
D25: 起点側ｸﾛｿｲﾄﾞ
D26: 曲線半径
D27: 終点側ｸﾛｿｲﾄﾞ | S27: その他 | U27: 非常駐車帯
B28: トンネル工法 | E28: 矢板工法 | U28: 方向転換所
C29: ※緯度・経度については、秒の少数第二位の単位まで記入すること。（例；36度20分35.56秒の場合、362035.36と入力）

Sheet 様式A-2
B3: ■トンネル台帳 トンネル情報一覧表 【様式A-2】
B4: フリガナ | E4: ='様式A-1'!D3 -> オオガサコ | J4: 路線名 | M4: ='様式A-1'!J3 -> 一般国道316号 | S4: 作成者 | Y4: ='様式A-1'!K5 -> 株式会社オリエンタルコンサルタンツ 妹尾 優大 | AE4: 作成年月日 | AI4: ='様式A-1'!R5 -> 45327
B5: 名 称 | E5: ='様式A-1'!D4 -> 大ヶ迫トンネル | J5: 管理者名 | M5: ='様式A-1'!R3 -> 長門土木建築事務所
B6: 覆工 ｽﾊﾟﾝ 番号 | C6: ｽﾊﾟﾝ長 | D6: 追加距離 | F6: トンネル本体工 | K6: 照明施設 | O6: 非常用施設 | AE6: 換気施設 | AK6: その他附属物等
O7: ='様式A-1'!T8 -> 通報設備 | R7: ='様式A-1'!T11 -> 警報設備 | S7: ='様式A-1'!T12 -> 消火設備 | U7: ='様式A-1'!T14 -> 避難誘導設備 | Y7: ='様式A-1'!T19 -> その他の設備 | AC7: 特記事項
D8: 起点側 | E8: 終点側 | F8: 特記事項 | I8: 内装板 | J8: 天井板 | K8: 基本照明 | L8: 入口出口照明 | M8: 特記事項 | O8: ='様式A-1'!U8 -> 通話型通報設備 | P8: ='様式A-1'!U9 -> 操作型通報設備 | Q8: ='様式A-1'!U10 -> 自動通報設備 | R8: ='様式A-1'!U11 -> 非常警報設備 | S8: ='様式A-1'!U12 -> 消 火 器 | T8: ='様式A-1'!U13 -> 消火栓設備 | U8: ='様式A-1'!U14 -> 誘導表示設備 | V8: ='様式A-1'!U15 -> 避難情報提供設備 | W8: ='様式A-1'!U17 -> 避難通路 | X8: ='様式A-1'!U18 -> 排煙設備 | Y8: ='様式A-1'!U19 -> 給水栓設備 | Z8: ='様式A-1'!U20 -> 無線通信補助設備 | AA8: ='様式A-1'!U21 -> 水噴霧設備 | AB8: ='様式A-1'!U22 -> 監視設備 | AE8: JF | AF8: VI計 | AG8: CO計 | AH8: 風向 風速計 | AI8: 特記事項
C9: (m) | D9: (m) | E9: (m)
B10: PS | C10: 5.16 | D10: 0 | E10: 5.16 | F10: 坑門(面壁型) | I10: ○
B11: S1 | C11: 8.77 | D11: 5.16 | E11: 13.93 | I11: ○ | K11: ○
B12: S2 | C12: 8.83 | D12: 13.93 | E12: 22.76 | I12: ○ | K12: ○
B13: S3 | C13: 8.92 | D13: 22.76 | E13: 31.68 | I13: ○ | K13: ○
B14: S4 | C14: 8.77 | D14: 31.68 | E14: 40.45 | I14: ○ | K14: ○
B15: S5 | C15: 8.95 | D15: 40.45 | E15: 49.4 | I15: ○ | K15: ○
B16: S6 | C16: 8.97 | D16: 49.4 | E16: 58.37 | I16: ○ | K16: ○ | P16: ① | S16: ①
B17: S7 | C17: 8.96 | D17: 58.37 | E17: 67.33 | I17: ○ | K17: ○
B18: S8 | C18: 8.9 | D18: 67.33 | E18: 76.23 | I18: ○ | K18: ○
B19: S9 | C19: 9.04 | D19: 76.23 | E19: 85.27 | I19: ○ | K19: ○
B20: S10 | C20: 8.96 | D20: 85.27 | E20: 94.23 | I20: ○ | K20: ○
B21: S11 | C21: 8.86 | D21: 94.23 | E21: 103.09 | I21: ○ | K21: ○ | P21: ② | S21: ②
B22: S12 | C22: 8.98 | D22: 103.09 | E22: 112.07 | I22: ○ | K22: ○
B23: S13 | C23: 8.82 | D23: 112.07 | E23: 120.89 | I23: ○ | K23: ○
B24: S14 | C24: 8.99 | D24: 120.89 | E24: 129.88 | I24: ○ | K24: ○
B25: S15 | C25: 8.93 | D25: 129.88 | E25: 138.81 | I25: ○ | K25: ○
B26: S16 | C26: 9.13 | D26: 138.81 | E26: 147.94 | I26: ○ | K26: ○
B27: S17 | C27: 8.8 | D27: 147.94 | E27: 156.74 | I27: ○ | K27: ○ | P27: ③ | S27: ③
B28: S18 | C28: 8.96 | D28: 156.74 | E28: 165.7 | I28: ○ | K28: ○
B29: S19 | C29: 9.14 | D29: 165.7 | E29: 174.84 | I29: ○ | K29: ○
B30: S20 | C30: 8.76 | D30: 174.84 | E30: 183.6 | I30: ○ | K30: ○ | U30: ①
B31: S21 | C31: 8.93 | D31: 183.6 | E31: 192.53 | I31: ○ | K31: ○
B32: S22 | C32: 8.83 | D32: 192.53 | E32: 201.36 | I32: ○ | K32: ○
B33: S23 | C33: 9.02 | D33: 201.36 | E33: 210.38 | I33: ○ | K33: ○ | P33: ④ | S33: ④ | U33: ②
B34: S24 | C34: 8.91 | D34: 210.38 | E34: 219.29 | I34: ○ | K34: ○
B35: S25 | C35: 9.02 | D35: 219.29 | E35: 228.31 | I35: ○ | K35: ○ | U35: ③
B36: S26 | C36: 8.86 | D36: 228.31 | E36: 237.17 | I36: ○ | K36: ○
B37: S27 | C37: 8.81 | D37: 237.17 | E37: 245.98 | I37: ○ | K37: ○
B38: S28 | C38: 9.08 | D38: 245.98 | E38: 255.06 | I38: ○ | K38: ○ | O38: ① | P38: ⑤ | S38: ⑤
B39: S29 | C39: 9.25 | D39: 255.06 | E39: 264.31 | I39: ○ | K39: ○
B40: S30 | C40: 8.81 | D40: 264.31 | E40: 273.12 | I40: ○ | K40: ○
B41: 31 | C41: 8.93 | D41: 273.12 | E41: 282.05 | I41: ○ | K41: ○ | U41: ④
B42: 32 | C42: 8.82 | D42: 282.05 | E42: 290.87 | I42: ○ | K42: ○
B43: 33 | C43: 8.8 | D43: 290.87 | E43: 299.67 | I43: ○ | K43: ○
B44: 34 | C44: 9.1 | D44: 299.67 | E44: 308.77 | I44: ○ | K44: ○ | P44: ⑥ | S44: ⑥ | U44: ⑤
B45: 35 | C45: 9.16 | D45: 308.77 | E45: 317.93 | I45: ○ | K45: ○
B46: 36 | C46: 8.63 | D46: 317.93 | E46: 326.56 | I46: ○ | K46: ○ | U46: ⑥
B47: 37 | C47: 9.11 | D47: 326.56 | E47: 335.67 | I47: ○ | K47: ○
B48: 38 | C48: 8.79 | D48: 335.67 | E48: 344.46 | I48: ○ | K48: ○
B49: 39 | C49: 9.05 | D49: 344.46 | E49: 353.51 | I49: ○ | K49: ○ | P49: ⑦ | S49: ⑦
B50: 40 | C50: 8.96 | D50: 353.51 | E50: 362.47 | I50: ○ | K50: ○
B51: 41 | C51: 8.98 | D51: 362.47 | E51: 371.45 | I51: ○ | K51: ○
B52: 42 | C52: 8.99 | D52: 371.45 | E52: 380.44 | I52: ○ | K52: ○
B53: 43 | C53: 8.94 | D53: 380.44 | E53: 389.38 | I53: ○ | K53: ○
B54: 44 | C54: 5.93 | D54: 389.38 | E54: 395.31 | I54: ○
B55: PE | C55: 5.23 | D55: 395.31 | E55: 400.54 | F55: 坑門(面壁型) | I55: ○ | K55: ○
B80: ※ 行が不足する場合は、適時、表の行を増やすこと。

Sheet 様式A-3
B3: ■トンネル台帳 トンネル記録（位置図、断面図、施工実績他）【様式A-3】
B4: フリガナ | E4: ='様式A-1'!D3 -> オオガサコ | J4: 路線名 | M4: ='様式A-1'!J3 -> 一般国道316号 | S4: 作成者 | W4: ='様式A-1'!K5 -> 株式会社オリエンタルコンサルタンツ 妹尾 優大 | AC4: 作成年月日 | AF4: ='様式A-1'!R5 -> 45327
B5: 名 称 | E5: ='様式A-1'!D4 -> 大ヶ迫トンネル | J5: 管理者名 | M5: ='様式A-1'!R3 -> 長門土木建築事務所
B6: 位置図・現況写真・標準断面図・地質縦断図・施工実績

Sheet 様式B
B2: ■定期点検記録様式 トンネル変状・異常箇所写真位置図 【様式B】 | T2: トンネルID | V2: 34.29228,131.19650
B3: フリガナ | D3: オオガサコ | H3: 路線名 | J3: 一般国道316号 | N3: 管理者名 | P3: 長門土木建築事務所 | T3: 緊急輸送道路 | V3: 有
B4: 名 称 | D4: 大ヶ迫トンネル | T4: 代替路の有無 | V4: 有
B5: 所在地 | D5: 自 | E5: 山口県長門市渋木 | H5: 定期点検業者 | K5: 株式会社オリエンタルコンサルタンツ | O5: 定期点検年月日 | Q5: 45275 | T5: トンネル延長 | V5: L= | W5: ='様式A-1'!Z5 -> 397 | Y5: ｍ
D6: 至 | E6: 山口県長門市渋木 | H6: 定期点検者名 | K6: 妹尾 優大 | T6: ﾄﾝﾈﾙの分類 | V6: 陸上トンネル（掘進工法）
B7: 起点 | C7: 緯度 | D7: 341743.4 | F7: 変状・異常 箇所数合計 | H7: トンネル 本体工 | J7: 材質劣化 | L7: Ⅱ | M7: 48 | N7: Ⅲ | O7: 6 | P7: Ⅳ | R7: トンネル毎 の健全性 | T7: Ⅲ | V7: 附属物の 取付状態 | W7: ◯ （応急措置後）
C10: 経度 | D10: 1311138.5
J11: 漏水 | L11: Ⅱ | M11: 20 | N11: Ⅲ | P11: Ⅳ
B13: 終点 | C13: 緯度 | D13: 341730.5 | W13: ✕ | Y13: 5
J15: 外力 | L15: Ⅱ | M15: 2 | N15: Ⅲ | P15: Ⅳ | AC15: 0
C16: 経度 | D16: 1311138.5
B19: トンネル変状・異常箇所写真位置図
P26: 注１：本位置図は、見下げた状態で記載すること。 注２：覆工スパン番号は横断目地毎(矢板工法の場合は上半アーチ の横断目地毎)に設定すること。 注３：写真番号に付する変状番号は、各覆工スパンの変状に対して新た に確認された場合は順次追加していくこと。 注４：横断目地の変状は前の覆工スパン番号で計上すること。 注５：１枚に収まらない場合は、複数枚に分けて作成すること。
C28: ※1 トンネル本体工の変状数は、材質劣化、漏水に起因するものは変状単位で、外力に起因するものはスパン単位で計上すること。
C29: ※2 本体工の変状に対しては、健全性の判定区分Ⅱ～Ⅳについて表記すること。なお、初回点検（H26以降）以降に、措置が行われた結果、
C30: Ⅰと判定された箇所についても記載すること。
C31: ※3 附属物の取付状態の○欄については、応急措置前に判定区分×とした箇所のうち応急措置により○判定とした箇所の数を記入すること。
C32: ※4 附属物の異常番号は、本体工と番号が重複しないよう101番以降とする等の配慮を行い、分かりやすく記録すること。

Sheet 様式B (2)
B2: ■定期点検記録様式 トンネル変状・異常箇所写真位置図 【様式B】 | T2: トンネルID | V2: 34.29228,131.19650
B3: フリガナ | D3: オオガサコ | H3: 路線名 | J3: 一般国道316号 | N3: 管理者名 | P3: 長門土木建築事務所 | T3: 緊急輸送道路 | V3: 有
B4: 名 称 | D4: 大ヶ迫トンネル | T4: 代替路の有無 | V4: 有
B5: 所在地 | D5: 自 | E5: 山口県長門市渋木 | H5: 定期点検業者 | K5: 株式会社オリエンタルコンサルタンツ | O5: 定期点検年月日 | Q5: 45275 | T5: トンネル延長 | V5: L= | W5: ='様式A-1'!Z5 -> 397 | Y5: ｍ
D6: 至 | E6: 山口県長門市渋木 | H6: 定期点検者名 | K6: 妹尾 優大 | T6: ﾄﾝﾈﾙの分類 | V6: 陸上トンネル（掘進工法）
B7: 起点 | C7: 緯度 | D7: 341743.4 | F7: 変状・異常 箇所数合計 | H7: トンネル 本体工 | J7: 材質劣化 | L7: Ⅱ | M7: 48 | N7: Ⅲ | O7: 6 | P7: Ⅳ | R7: トンネル毎 の健全性 | T7: Ⅲ | V7: 附属物の 取付状態 | W7: ◯ （応急措置後）
C10: 経度 | D10: 1311138.5
J11: 漏水 | L11: Ⅱ | M11: 20 | N11: Ⅲ | P11: Ⅳ
B13: 終点 | C13: 緯度 | D13: 341730.5 | W13: ✕ | Y13: 5
J15: 外力 | L15: Ⅱ | M15: 2 | N15: Ⅲ | P15: Ⅳ | AC15: 0
C16: 経度 | D16: 1311138.5
B19: トンネル変状・異常箇所写真位置図
P26: 注１：本位置図は、見下げた状態で記載すること。 注２：覆工スパン番号は横断目地毎(矢板工法の場合は上半アーチ の横断目地毎)に設定すること。 注３：写真番号に付する変状番号は、各覆工スパンの変状に対して新た に確認された場合は順次追加していくこと。 注４：横断目地の変状は前の覆工スパン番号で計上すること。 注５：１枚に収まらない場合は、複数枚に分けて作成すること。
C28: ※1 トンネル本体工の変状数は、材質劣化、漏水に起因するものは変状単位で、外力に起因するものはスパン単位で計上すること。
C29: ※2 本体工の変状に対しては、健全性の判定区分Ⅱ～Ⅳについて表記すること。なお、初回点検（H26以降）以降に、措置が行われた結果、
C30: Ⅰと判定された箇所についても記載すること。
C31: ※3 附属物の取付状態の○欄については、応急措置前に判定区分×とした箇所のうち応急措置により○判定とした箇所の数を記入すること。
C32: ※4 附属物の異常番号は、本体工と番号が重複しないよう101番以降とする等の配慮を行い、分かりやすく記録すること。

Sheet 様式B (3)
B2: ■定期点検記録様式 トンネル変状・異常箇所写真位置図 【様式B】 | T2: トンネルID | V2: 34.29228,131.19650
B3: フリガナ | D3: オオガサコ | H3: 路線名 | J3: 一般国道316号 | N3: 管理者名 | P3: 長門土木建築事務所 | T3: 緊急輸送道路 | V3: 有
B4: 名 称 | D4: 大ヶ迫トンネル | T4: 代替路の有無 | V4: 有
B5: 所在地 | D5: 自 | E5: 山口県長門市渋木 | H5: 定期点検業者 | K5: 株式会社オリエンタルコンサルタンツ | O5: 定期点検年月日 | Q5: 45275 | T5: トンネル延長 | V5: L= | W5: ='様式A-1'!Z5 -> 397 | Y5: ｍ
D6: 至 | E6: 山口県長門市渋木 | H6: 定期点検者名 | K6: 妹尾 優大 | T6: ﾄﾝﾈﾙの分類 | V6: 陸上トンネル（掘進工法）
B7: 起点 | C7: 緯度 | D7: 341743.4 | F7: 変状・異常 箇所数合計 | H7: トンネル 本体工 | J7: 材質劣化 | L7: Ⅱ | M7: 48 | N7: Ⅲ | O7: 6 | P7: Ⅳ | R7: トンネル毎 の健全性 | T7: Ⅲ | V7: 附属物の 取付状態 | W7: ◯ （応急措置後）
C10: 経度 | D10: 1311138.5
J11: 漏水 | L11: Ⅱ | M11: 20 | N11: Ⅲ | P11: Ⅳ
B13: 終点 | C13: 緯度 | D13: 341730.5 | W13: ✕ | Y13: 5
J15: 外力 | L15: Ⅱ | M15: 2 | N15: Ⅲ | P15: Ⅳ | AC15: 0
C16: 経度 | D16: 1311138.5
B19: トンネル変状・異常箇所写真位置図
P26: 注１：本位置図は、見下げた状態で記載すること。 注２：覆工スパン番号は横断目地毎(矢板工法の場合は上半アーチ の横断目地毎)に設定すること。 注３：写真番号に付する変状番号は、各覆工スパンの変状に対して新た に確認された場合は順次追加していくこと。 注４：横断目地の変状は前の覆工スパン番号で計上すること。 注５：１枚に収まらない場合は、複数枚に分けて作成すること。
C28: ※1 トンネル本体工の変状数は、材質劣化、漏水に起因するものは変状単位で、外力に起因するものはスパン単位で計上すること。
C29: ※2 本体工の変状に対しては、健全性の判定区分Ⅱ～Ⅳについて表記すること。なお、初回点検（H26以降）以降に、措置が行われた結果、
C30: Ⅰと判定された箇所についても記載すること。
C31: ※3 附属物の取付状態の○欄については、応急措置前に判定区分×とした箇所のうち応急措置により○判定とした箇所の数を記入すること。
C32: ※4 附属物の異常番号は、本体工と番号が重複しないよう101番以降とする等の配慮を行い、分かりやすく記録すること。

Sheet 様式B (4)
B2: ■定期点検記録様式 トンネル変状・異常箇所写真位置図 【様式B】 | T2: トンネルID | V2: 34.29228,131.19650
B3: フリガナ | D3: オオガサコ | H3: 路線名 | J3: 一般国道316号 | N3: 管理者名 | P3: 長門土木建築事務所 | T3: 緊急輸送道路 | V3: 有
B4: 名 称 | D4: 大ヶ迫トンネル | T4: 代替路の有無 | V4: 有
B5: 所在地 | D5: 自 | E5: 山口県長門市渋木 | H5: 定期点検業者 | K5: 株式会社オリエンタルコンサルタンツ | O5: 定期点検年月日 | Q5: 45275 | T5: トンネル延長 | V5: L= | W5: ='様式A-1'!Z5 -> 397 | Y5: ｍ
D6: 至 | E6: 山口県長門市渋木 | H6: 定期点検者名 | K6: 妹尾 優大 | T6: ﾄﾝﾈﾙの分類 | V6: 陸上トンネル（掘進工法）
B7: 起点 | C7: 緯度 | D7: 341743.4 | F7: 変状・異常 箇所数合計 | H7: トンネル 本体工 | J7: 材質劣化 | L7: Ⅱ | M7: 48 | N7: Ⅲ | O7: 6 | P7: Ⅳ | R7: トンネル毎 の健全性 | T7: Ⅲ | V7: 附属物の 取付状態 | W7: ◯ （応急措置後）
C10: 経度 | D10: 1311138.5
J11: 漏水 | L11: Ⅱ | M11: 20 | N11: Ⅲ | P11: Ⅳ
B13: 終点 | C13: 緯度 | D13: 341730.5 | W13: ✕ | Y13: 5
J15: 外力 | L15: Ⅱ | M15: 2 | N15: Ⅲ | P15: Ⅳ | AC15: 0
C16: 経度 | D16: 1311138.5
B19: トンネル変状・異常箇所写真位置図
P26: 注１：本位置図は、見下げた状態で記載すること。 注２：覆工スパン番号は横断目地毎(矢板工法の場合は上半アーチ の横断目地毎)に設定すること。 注３：写真番号に付する変状番号は、各覆工スパンの変状に対して新た に確認された場合は順次追加していくこと。 注４：横断目地の変状は前の覆工スパン番号で計上すること。 注５：１枚に収まらない場合は、複数枚に分けて作成すること。
C28: ※1 トンネル本体工の変状数は、材質劣化、漏水に起因するものは変状単位で、外力に起因するものはスパン単位で計上すること。
C29: ※2 本体工の変状に対しては、健全性の判定区分Ⅱ～Ⅳについて表記すること。なお、初回点検（H26以降）以降に、措置が行われた結果、
C30: Ⅰと判定された箇所についても記載すること。
C31: ※3 附属物の取付状態の○欄については、応急措置前に判定区分×とした箇所のうち応急措置により○判定とした箇所の数を記入すること。
C32: ※4 附属物の異常番号は、本体工と番号が重複しないよう101番以降とする等の配慮を行い、分かりやすく記録すること。

Sheet 様式C-1-1
B2: ■定期点検記録様式 全スパン定期点検結果総括表（トンネル本体工） 【様式C-1-1】
B3: フリガナ | F3: オオガサコ | I3: 路線名 | K3: 一般国道316号 | O3: 定期点検業者 | Q3: 株式会社オリエンタルコンサルタンツ | U3: 定期点検年月日 | Y3: 45275
B4: 名 称 | F4: 大ヶ迫トンネル | I4: 管理者名 | K4: 長門土木建築事務所 | O4: 定期点検者名 | Q4: 妹尾 優大
C5: 覆工 スパン 番号 | E5: 変状 番号 | F5: 距離 （m） | G5: 変状部位 | I5: 変 状 の 内 容 | O5: 前回定期点検時の状態 | Q5: 今回定期点検結果 | U5: 措置履歴 | Z5: 対応方針 ・ 特記事項
G7: 対象箇所 | H7: 部位区分 | I7: 変状区分 | J7: 変状種類 | M7: 変状の発生範囲の規模 | N7: 前回定期点検時 との比較 | O7: 状態 | P7: 健全性 | Q7: 対策区分 | S7: 調査の 要否 | T7: 措置の 要否 | U7: 実施 | V7: 措置の実施状況
Q8: 応急措置前 | R8: 応急措置後
B9: 定期点検結果 | C9: PS | E9: 1 | F9: 5.16 | G9: 覆工・坑門 | H9: 面壁・妻壁等 | I9: 漏水 | J9: 漏水 | M9: - | N9: - | O9: Ⅱb | P9: Ⅱ | R9: Ⅰ | S9: 否 | T9: 否 | U9: 済 | V9: - | Z9: 漏水跡
C10: PS | E10: 2 | F10: 5.16 | G10: 覆工・坑門 | H10: 水平打ち継ぎ目（左側） | I10: 材質劣化 | J10: うき・はく離 | M10: 0.1m×0.15m | N10: 進行が認められない | O10: Ⅱb | P10: Ⅱ | R10: Ⅱb | S10: 要 | T10: 要監視 | U10: 継続 | V10: 監視(日常巡視) | Z10: うき
C11: PS | E11: 3 | F11: 5.16 | G11: 覆工・坑門 | H11: 水平打ち継ぎ目（左側） | I11: 漏水 | J11: 漏水 | M11: - | N11: - | O11: Ⅱb | P11: Ⅱ | R11: Ⅰ | S11: 否 | T11: 否 | U11: 済 | V11: - | Z11: 漏水跡
C12: S001 | E12: 1 | F12: 8.77 | G12: 覆工・坑門 | H12: アーチ（天端） | I12: 材質劣化 | J12: その他 | M12: 0.3m×0.8m | N12: 進行が認められない | O12: Ⅱa | P12: Ⅱ | R12: Ⅱa | S12: 要 | T12: 要監視 | U12: 継続 | V12: 監視(日常巡視) | Z12: 豆板
C13: S002 | E13: 1 | F13: 8.83 | G13: 覆工・坑門 | H13: アーチ（左側） | I13: 材質劣化 | J13: その他 | M13: 0.9m×0.6m | N13: 進行が認められない | O13: Ⅱa | P13: Ⅱ | R13: Ⅱa | S13: 要 | T13: 要監視 | U13: 継続 | V13: 監視(日常巡視) | Z13: 豆板
C14: S002 | E14: 2 | F14: 8.83 | G14: 路面 | H14: 側溝 | I14: 材質劣化 | J14: うき・はく離 | M14: 0.3m×0.6m | N14: 進行が認められない | O14: Ⅱb | P14: Ⅱ | R14: － | S14: 要 | T14: 要監視 | U14: 継続 | V14: 監視(日常巡視) | Z14: はく離
C15: S002 | E15: 3 | F15: 8.83 | G15: 路面 | H15: 監査歩路 | I15: 材質劣化 | J15: うき・はく離 | M15: 0.05m×0.4m | N15: 進行が認められない | O15: Ⅱb | P15: Ⅱ | R15: － | S15: 要 | T15: 要監視 | U15: 継続 | V15: 監視(日常巡視) | Z15: 欠損
C16: S002 | E16: 4 | F16: 8.83 | G16: 路面 | H16: 側溝 | I16: 材質劣化 | J16: うき・はく離 | M16: 0.3m×0.1m | N16: 進行が認められない | O16: Ⅱb | P16: Ⅱ | R16: － | S16: 要 | T16: 要監視 | U16: 継続 | V16: 監視(日常巡視) | Z16: はく離
C17: S002 | E17: 5 | F17: 8.83 | G17: 路面 | H17: 側溝 | I17: 材質劣化 | J17: うき・はく離 | M17: 0.3m×1.0m | N17: 進行が認められない | O17: Ⅱb | P17: Ⅱ | R17: － | S17: 要 | T17: 要監視 | U17: 継続 | V17: 監視(日常巡視) | Z17: うき
C18: S002 | E18: 6 | F18: 8.83 | G18: 路面 | H18: 監査歩路 | I18: 材質劣化 | J18: うき・はく離 | M18: 0.05m×4.3m | N18: 進行が認められない | O18: Ⅱb | P18: Ⅱ | R18: － | S18: 要 | T18: 要監視 | U18: 継続 | V18: 監視(日常巡視) | Z18: 欠損
C19: S002 | E19: 7 | F19: 8.83 | G19: 路面 | H19: 車道 | I19: 漏水 | J19: その他 | M19: 0.3m×8.6m | N19: 進行が認められない | O19: Ⅱb | P19: Ⅱ | R19: － | S19: 要 | T19: 要監視 | U19: 継続 | V19: 監視(日常巡視) | Z19: 堆砂
C20: S003 | E20: 1 | F20: 8.92 | G20: 路面 | H20: 監査歩路 | I20: 漏水 | J20: その他 | M20: - | N20: - | O20: Ⅱb | P20: Ⅱ | R20: － | S20: 否 | T20: 否 | U20: 済 | V20: - | Z20: 堆砂跡
C21: S003 | E21: 2 | F21: 8.92 | G21: 路面 | H21: 監査歩路 | I21: 材質劣化 | J21: うき・はく離 | M21: 0.2m×8.8m | N21: 進行が認められない | O21: Ⅱb | P21: Ⅱ | R21: － | S21: 要 | T21: 要監視 | U21: 継続 | V21: 監視(日常巡視) | Z21: 欠損
... C87: S016 | E87: 3 | F87: 9.13 | G87: 路面 | H87: 側溝 | I87: 材質劣化 | J87: うき・はく離 | M87: 0.3m×0.3m | N87: 進行が認められない | O87: Ⅱb | P87: Ⅱ | R87: － | S87: 要 | T87: 要監視 | U87: 継続 | V87: 監視(日常巡視) | Z87: はく離
C88: S017 | E88: 1 | F88: 8.8 | G88: 路面 | H88: 監査歩路 | I88: 漏水 | J88: 滞水 | M88: 0.4m×5.3m | N88: 進行が認められない | O88: Ⅱb | P88: Ⅱ | R88: － | S88: 要 | T88: 要監視 | U88: 継続 | V88: 監視(日常巡視)
C89: S018 | E89: 1 | F89: 8.96 | G89: 覆工・坑門 | H89: 横断目地（左側） | I89: 漏水 | J89: 漏水 | M89: - | N89: - | O89: Ⅱb | P89: Ⅱ | R89: Ⅰ | S89: 否 | T89: 否 | U89: 済 | V89: - | Z89: 漏水跡
C90: S018 | E90: 2 | F90: 8.96 | G90: 覆工・坑門 | H90: アーチ（右側） | I90: 材質劣化 | J90: その他 | M90: 0.2m×0.2m | N90: 進行が認められない | O90: Ⅱb | P90: Ⅱ | R90: Ⅱb | S90: 要 | T90: 要監視 | U90: 継続 | V90: 監視(日常巡視) | Z90: 異物混入(木片)
C91: S018 | E91: 3 | F91: 8.96 | G91: 路面 | H91: 側溝 | I91: 材質劣化 | J91: うき・はく離 | M91: 0.4m×0.5m | N91: 進行が認められない | O91: Ⅱb | P91: Ⅱ | R91: － | S91: 要 | T91: 要監視 | U91: 継続 | V91: 監視(日常巡視) | Z91: はく離
C92: S019 | E92: 1 | F92: 9.14 | G92: 覆工・坑門 | H92: 横断目地（左側） | I92: 材質劣化 | J92: うき・はく離 | M92: 0.4m×0.05m | N92: 進行が認められない | O92: Ⅱa | P92: Ⅱ | R92: Ⅱa | S92: 要 | T92: 要監視 | U92: 継続 | V92: 監視(日常巡視) | Z92: うき
C93: S019 | E93: 2 | F93: 9.14 | G93: 覆工・坑門 | H93: 横断目地（右側） | I93: 材質劣化 | J93: うき・はく離 | M93: 0.25m×0.2m | N93: 進行が認められない | O93: Ⅰ | P93: Ⅰ | R93: Ⅰ | S93: 要 | T93: 要監視 | U93: 継続 | V93: 監視(日常巡視) | Z93: はく落
C94: S019 | E94: 3 | F94: 9.14 | G94: 覆工・坑門 | H94: 横断目地（右側） | I94: 材質劣化 | J94: うき・はく離 | M94: 0.15m×0.05m | N94: 進行が認められない | O94: Ⅰ | P94: Ⅰ | R94: Ⅰ | S94: 要 | T94: 要監視 | U94: 継続 | V94: 監視(日常巡視) | Z94: はく落
C95: S019 | E95: 4 | F95: 9.14 | G95: 覆工・坑門 | H95: 横断目地（右側） | I95: 漏水 | J95: 漏水 | M95: 6.0m×0.5m | N95: 進行が認められない | O95: Ⅱb | P95: Ⅱ | R95: Ⅱb | S95: 要 | T95: 要監視 | U95: 継続 | V95: 監視(日常巡視) | Z95: にじみ
C96: S019 | E96: 5 | F96: 9.14 | G96: 覆工・坑門 | H96: 横断目地（右側） | I96: 漏水 | J96: 補強・補修材の破損 | M96: 2.3m×0.2m | N96: 進行が認められない | O96: Ⅱa | P96: Ⅱ | R96: Ⅱa | S96: 要 | T96: 要監視 | U96: 継続 | V96: 監視(日常巡視) | Z96: 導水工破損
C97: S019 | E97: 6 | F97: 9.14 | G97: 路面 | H97: 側溝 | I97: 材質劣化 | J97: うき・はく離 | M97: 0.4m×1.0m | N97: 進行が認められる | O97: Ⅱb | P97: Ⅱ | R97: － | S97: 要 | T97: 要監視 | U97: 継続 | V97: 監視(日常巡視) | Z97: はく離
C98: S019 | E98: 7 | F98: 9.14 | G98: 路面 | H98: 車道 | I98: 材質劣化 | J98: うき・はく離 | M98: 0.05m×0.3m | N98: 進行が認められない | O98: Ⅱa | P98: Ⅱ | R98: － | S98: 要 | T98: 要監視 | U98: 継続 | V98: 監視(日常巡視) | Z98: はく離
C99: S019 | E99: 8 | F99: 9.14 | G99: 路面 | H99: 側溝 | I99: 材質劣化 | J99: うき・はく離 | M99: 0.1m×0.5m | N99: 進行が認められない | O99: Ⅱb | P99: Ⅱ | R99: － | S99: 要 | T99: 要監視 | U99: 継続 | V99: 監視(日常巡視) | Z99: うき
C100: S019 | E100: 9 | F100: 9.14 | G100: 路面 | H100: 監査歩路 | I100: 漏水 | J100: 滞水 | M100: - | N100: - | O100: Ⅱb | P100: Ⅱ | R100: － | S100: 否 | T100: 否 | U100: 済 | V100: - | Z100: 滞水跡
... C213: S041 | E213: 6 | F213: 8.98 | G213: 路面 | H213: 側溝 | I213: 材質劣化 | J213: うき・はく離 | M213: 0.4m×0.1m | N213: 進行が認められない | O213: Ⅱb | P213: Ⅱ | R213: － | S213: 要 | T213: 要監視 | U213: 継続 | V213: 監視(日常巡視) | Z213: はく離
C214: S041 | E214: 7 | F214: 8.98 | G214: 路面 | H214: 車道 | I214: 外力 | J214: ひび割れ | M214: 30mm | N214: 進行が認められない | O214: Ⅱa | P214: Ⅱ | R214: － | S214: 要 | T214: 要監視 | U214: 継続 | V214: 監視(日常巡視)
C215: S041 | E215: 8 | F215: 8.98 | G215: 路面 | H215: 車道 | I215: 外力 | J215: ひび割れ | M215: 30mm | N215: 進行が認められない | O215: Ⅱa | P215: Ⅱ | R215: － | S215: 要 | T215: 要監視 | U215: 継続 | V215: 監視(日常巡視) | Z215: 段差3mm
C216: S041 | E216: 9 | F216: 8.98 | G216: 路面 | H216: 側溝 | I216: 材質劣化 | J216: うき・はく離 | M216: 0.4m×1.2m | N216: 進行が認められない | O216: Ⅱb | P216: Ⅱ | R216: － | S216: 要 | T216: 要監視 | U216: 継続 | V216: 監視(日常巡視) | Z216: はく離
C217: S041 | E217: 10 | F217: 8.98 | G217: 路面 | H217: 側溝 | I217: 材質劣化 | J217: うき・はく離 | M217: 0.3m×0.8m | N217: 進行が認められない | O217: Ⅱb | P217: Ⅱ | R217: － | S217: 要 | T217: 要監視 | U217: 継続 | V217: 監視(日常巡視) | Z217: はく離
C218: S042 | E218: 1 | F218: 8.99 | G218: 覆工・坑門 | H218: 横断目地（左側） | I218: 材質劣化 | J218: うき・はく離 | M218: 0.4m×0.1m | N218: 進行が認められない | O218: Ⅰ | P218: Ⅰ | R218: Ⅰ | S218: 要 | T218: 要監視 | U218: 継続 | V218: 監視(日常巡視) | Z218: はく落
C219: S042 | E219: 2 | F219: 8.99 | G219: 覆工・坑門 | H219: 横断目地（右側） | I219: 材質劣化 | J219: うき・はく離 | M219: 0.6m×0.15m | N219: 進行が認められない | O219: Ⅰ | P219: Ⅰ | R219: Ⅰ | S219: 要 | T219: 要監視 | U219: 継続 | V219: 監視(日常巡視) | Z219: はく落
C220: S042 | E220: 3 | F220: 8.99 | G220: 覆工・坑門 | H220: その他 | I220: 材質劣化 | J220: 補強・補修材の破損 | M220: アンカーゆるみ | N220: 新規確認 | O220: － | P220: － | R220: Ⅱb | S220: 要 | T220: 要監視 | U220: 継続 | V220: 監視(日常巡視)
C221: S042 | E221: 4 | F221: 8.99 | G221: 路面 | H221: 側溝 | I221: 材質劣化 | J221: うき・はく離 | M221: 0.3m×0.2m | N221: 進行が認められない | O221: Ⅱb | P221: Ⅱ | R221: － | S221: 要 | T221: 要監視 | U221: 継続 | V221: 監視(日常巡視) | Z221: はく離
C222: S042 | E222: 5 | F222: 8.99 | G222: 路面 | H222: 側溝 | I222: 材質劣化 | J222: うき・はく離 | M222: 0.4m×0.3m | N222: 進行が認められない | O222: Ⅱb | P222: Ⅱ | R222: － | S222: 要 | T222: 要監視 | U222: 継続 | V222: 監視(日常巡視) | Z222: はく離
C223: S042 | E223: 6 | F223: 8.99 | G223: 路面 | H223: 監査歩路 | I223: 材質劣化 | J223: うき・はく離 | M223: 0.1m×0.45m | N223: 進行が認められない | O223: Ⅱb | P223: Ⅱ | R223: － | S223: 要 | T223: 要監視 | U223: 継続 | V223: 監視(日常巡視) | Z223: 欠損
C224: S043 | E224: 1 | F224: 8.94 | G224: 覆工・坑門 | H224: アーチ（左側） | I224: 漏水 | J224: 漏水 | M224: - | N224: - | O224: Ⅱb | P224: Ⅱ | R224: Ⅰ | S224: 否 | T224: 否 | U224: 済 | V224: - | Z224: 漏水跡
C225: S043 | E225: 2 | F225: 8.94 | G225: 覆工・坑門 | H225: アーチ（右側） | I225: 漏水 | J225: 漏水 | M225: - | N225: - | O225: Ⅱb | P225: Ⅱ | R225: Ⅰ | S225: 否 | T225: 否 | U225: 済 | V225: - | Z225: 漏水跡
C226: S043 | E226: 3 | F226: 8.94 | G226: 覆工・坑門 | H226: アーチ（右側） | I226: 漏水 | J226: 漏水 | M226: - | N226: - | O226: Ⅱb | P226: Ⅱ | R226: Ⅰ | S226: 否 | T226: 否 | U226: 済 | V226: - | Z226: 漏水跡
C227: S043 | E227: 4 | F227: 8.94 | G227: 覆工・坑門 | H227: アーチ（右側） | I227: 材質劣化 | J227: うき・はく離 | M227: 0.1m×0.6m | N227: 進行が認められない | O227: Ⅰ | P227: Ⅰ | R227: Ⅰ | S227: 要 | T227: 要監視 | U227: 継続 | V227: 監視(日常巡視) | Z227: はく落
C228: S043 | E228: 5 | F228: 8.94 | G228: 覆工・坑門 | H228: アーチ（右側） | I228: 外力 | J228: ひび割れ | M228: 6mm | N228: 進行が認められない | O228: Ⅱb | P228: Ⅱ | R228: Ⅱb | S228: 要 | T228: 要監視 | U228: 継続 | V228: 監視(日常巡視) | Z228: 段差3mm
C229: S043 | E229: 6 | F229: 8.94 | G229: 覆工・坑門 | H229: アーチ（右側） | I229: 漏水 | J229: 漏水 | M229: 5.7m×0.5m | N229: 進行が認められない | O229: Ⅱb | P229: Ⅱ | R229: Ⅱb | S229: 要 | T229: 要監視 | U229: 継続 | V229: 監視(日常巡視) | Z229: にじみ
C230: S043 | E230: 7 | F230: 8.94 | G230: 路面 | H230: 側溝 | I230: 材質劣化 | J230: うき・はく離 | M230: 0.1m×0.3m | N230: 進行が認められない | O230: Ⅱb | P230: Ⅱ | R230: － | S230: 要 | T230: 要監視 | U230: 継続 | V230: 監視(日常巡視) | Z230: はく離
C231: S043 | E231: 8 | F231: 8.94 | G231: 路面 | H231: 側溝 | I231: 材質劣化 | J231: うき・はく離 | M231: 0.3m×0.2m | N231: 進行が認められない | O231: Ⅱb | P231: Ⅱ | R231: － | S231: 要 | T231: 要監視 | U231: 継続 | V231: 監視(日常巡視) | Z231: はく離
C232: S044 | E232: 1 | F232: 5.93 | G232: 覆工・坑門 | H232: 横断目地（左側） | I232: 漏水 | J232: 漏水 | M232: - | N232: - | O232: Ⅱb | P232: Ⅱ | R232: Ⅰ | S232: 否 | T232: 否 | U232: 済 | V232: - | Z232: 漏水跡
... C247: PE | E247: 8 | F247: 5.23 | G247: 覆工・坑門 | H247: 面壁・妻壁等 | I247: 材質劣化 | J247: うき・はく離 | M247: 0.9m×0.6m | N247: 新規確認 | O247: － | P247: － | R247: Ⅱb | S247: 要 | T247: 要監視 | U247: 継続 | V247: 監視(日常巡視) | Z247: 閉合ひびわれ(打音異常なし)
C248: ※ 対策区分（応急措置後）の判定区分Ⅱ～Ⅳについて記入すること。また、点検前に実施された措置によりⅠと判定された変状も記入すること。
C249: ※ 応急措置を実施しないで判定した変状の対策区分は、対策区分の応急措置後の欄に記入すること。
C250: ※ 変状の除去が不完全で、緊急対応が必要な場合は対応方針欄に記入すること。
C251: ※ １区間の覆工に複数の変状がある場合は、変状箇所毎に記入すること。
C252: ※ 措置・監視点検を行った場合には、措置履歴、特記事項に記録を残すこと。（実施年度も記載）
C253: ※ 行が不足する場合は、適時、表の行を増やすこと。

Sheet 様式C-1-2
B2: ■定期点検記録様式 定期点検結果総括表（トンネル内附属物等の取付状態） 【様式C-1-2】
B3: フリガナ | F3: オオガサコ | J3: 路線名 | L3: 一般国道316号 | O3: 定期点検業者 | Q3: 株式会社オリエンタルコンサルタンツ | U3: 定期点検年月日 | Y3: 45275
B4: 名 称 | F4: 大ヶ迫トンネル | J4: 管理者名 | L4: 長門土木建築事務所 | O4: 定期点検者名 | Q4: 妹尾 優大
B5: 定期点検結果 | C5: 覆工 スパン 番号 | E5: 異常 番号 | F5: 距離 （m） | G5: 異常部位 | J5: 異 常 の 内 容 | P5: 定期点検結果 | R5: 応急措置の 実施状況 | X5: 対応方針 ・ 特記事項
G6: 対象箇所 | I6: 部位区分 | J6: 異常種類 | N6: 異常の発生範囲の規模 | P6: 異常判定区分 | R6: 実施 | S6: 応急措置の内容
P7: 応急措置前 | Q7: 応急措置後
C8: S020 | E8: 101 | F8: 8.76 | G8: その他施設 | H8: その他 | I8: 附属物本体 | J8: 変形，欠損 | N8: 1箇所 | Q8: - | R8: 未 | X8: デリネーター欠損
C9: S025 | E9: 101 | F9: 9.02 | G9: その他施設 | H9: その他 | I9: 附属物本体 | J9: 変形，欠損 | N9: 1箇所 | Q9: - | R9: 未 | X9: デリネーター欠損
C10: S029 | E10: 101 | F10: 9.25 | G10: その他施設 | H10: その他 | I10: 附属物本体 | J10: 変形，欠損 | N10: 1箇所 | Q10: - | R10: 未 | X10: デリネーター欠損
C11: S034 | E11: 101 | F11: 9.1 | G11: 照明施設 | H11: 灯具 | I11: 取付部材 | J11: 変形，欠損 | N11: 1箇所 | Q11: × | R11: 未 | X11: 照明蓋の欠損
C12: S042 | E12: 101 | F12: 8.99 | G12: その他施設 | H12: その他 | I12: 附属物本体 | J12: 変形，欠損 | N12: 1箇所 | Q12: - | R12: 未 | X12: デリネーター欠損
C39: ※ 異常判定区分×について記入すること。また、応急措置により○と判定された箇所も記入すること。
C40: ※ 応急措置を実施しないで判定した箇所の異常判定区分は、異常判定区分の応急措置後の欄に記入すること。
C41: ※ 異常の除去が不完全で、緊急対応が必要な場合は対応方針欄に記入すること。
C42: ※ １スパンの覆工に複数の異常がある場合は、異常箇所毎に記入すること。
C43: ※ 行が不足する場合は、適時、表の行を増やすこと。

Sheet 様式C-2
B2: ■定期点検記録様式 状態の把握の内容 【様式C-2】
B3: フリガナ | E3: オオガサコ | H3: 路線名 | J3: 一般国道316号 | M3: 定期点検業者 | R3: 株式会社オリエンタルコンサルタンツ | U3: 定期点検年月日 | X3: 45275
B4: 名 称 | E4: 大ヶ迫トンネル | H4: 管理者名 | J4: 長門土木建築事務所 | M4: 定期点検者名 | R4: 妹尾 優大
B5: 状態の把握の内容 | C5: 覆工スパン 番号 | E5: 変状 番号 | F5: 状態の把握の内容
F6: 年月日 | H6: 内容 | O6: 結果 | W6: 対策区分の 判定 | Y6: 健全性
B22: 注）状態の把握において、微破壊・非破壊検査や各種試験等を実施した場合について記載する。
B23: ※ 行が不足する場合は、適時、表の行を増やすこと。

Sheet 様式D-1-1
B2: ■定期点検記録様式 変状写真台帳（トンネル本体工） 【様式D-1-1】
B3: フリガナ | D3: オオガサコ | H3: 路 線 名 | J3: 一般国道316号 | M3: 定期点検業者 | P3: 株式会社オリエンタルコンサルタンツ | S3: 定期点検年月日 | U3: 45275
B4: 名 称 | D4: 大ヶ迫トンネル | H4: 管理者名 | J4: 長門土木建築事務所 | M4: 定期点検者名 | P4: 妹尾 優大
B5: 写真 番号 | C5: 覆工 スパン 番号 | D5: PS | M5: 写真 番号 | N5: 覆工 スパン 番号 | O5: PS
C7: 変状 番号 | D7: 1 | N7: 変状 番号 | O7: 2
B9: 変状 部位 | C9: 対象 箇所 | D9: 覆工・坑門 | M9: 変状 部位 | N9: 対象 箇所 | O9: 覆工・坑門
C11: 部位 区分 | D11: 面壁・妻壁等 | N11: 部位 区分 | O11: 水平打ち継ぎ目（左側）
B13: 変状区分 | D13: 漏水 | M13: 変状区分 | O13: 材質劣化
B14: 変状種類 | D14: 漏水 | M14: 変状種類 | O14: うき・はく離
B15: 対策 区分 | C15: 応急措置前 | M15: 対策 区分 | N15: 応急措置前
C16: 応急措置後 | E16: Ⅰ | N16: 応急措置後 | P16: Ⅱb
B17: 健全性 | D17: Ⅰ | M17: 健全性 | O17: Ⅱ
B18: 変状の発生範囲の規模 | E18: - | M18: 変状の発生範囲の規模 | P18: 0.1m×0.15m
B19: 前回定期点検時の状態 | E19: 目地からの漏水、にじみ | M19: 前回定期点検時の状態 | P19: 0.1m×0.15mのうき
B20: 調査方針 | E20: なし | M20: 調査方針 | P20: なし
B21: 対策履歴 | E21: なし | H21: 実施状況（実施日） | M21: 対策履歴 | P21: なし | S21: 実施状況（実施日）
B22: メモ | D22: 漏水跡 | M22: メモ | O22: うき
B23: 写真 番号 | C23: 覆工 スパン 番号 | D23: PS | M23: 写真 番号 | N23: 覆工 スパン 番号 | O23: S001
C25: 変状 番号 | D25: 3 | N25: 変状 番号 | O25: 1
B27: 変状 部位 | C27: 対象 箇所 | D27: 覆工・坑門 | M27: 変状 部位 | N27: 対象 箇所 | O27: 覆工・坑門
C29: 部位 区分 | D29: 水平打ち継ぎ目（左側） | N29: 部位 区分 | O29: アーチ（天端）
B31: 変状区分 | D31: 漏水 | M31: 変状区分 | O31: 材質劣化
B32: 変状種類 | D32: 漏水 | M32: 変状種類 | O32: その他
B33: 対策 区分 | C33: 応急措置前 | M33: 対策 区分 | N33: 応急措置前
C34: 応急措置後 | E34: Ⅰ | N34: 応急措置後 | P34: Ⅱa
B35: 健全性 | D35: Ⅰ | M35: 健全性 | O35: Ⅱ
B36: 変状の発生範囲の規模 | E36: － | M36: 変状の発生範囲の規模 | P36: 0.3m×0.8m
B37: 前回定期点検時の状態 | E37: 打継目からの漏水、にじみ | M37: 前回定期点検時の状態 | P37: 0.3m×0.8mの豆板
B38: 調査方針 | E38: なし | M38: 調査方針 | P38: なし
B39: 対策履歴 | E39: なし | H39: 実施状況（実施日） | M39: 対策履歴 | P39: なし | S39: 実施状況（実施日）
B40: メモ | D40: 漏水跡 | M40: メモ | O40: 豆板
C41: ※ 健全性の判定区分Ⅱ～Ⅳについて添付すること。また、点検前に実施 された措置によりⅠと判定された箇所も添付すること。 | N41: ※ 変状の発生範囲の規模とは、対策を行う際に参考となる変状の長さや面積をいう。
N42: ※ 応急措置を実施しないで判定した変状の対策区分は、対策区分の応急措置後の欄に記入すること。
C43: ※ たたき落としを実施した場合は、実施後の写真を添付すること。 | N43: ※ 変状の発生範囲の規模は、面積・寸法を記載すること。
C44: ※ 画像データは100kb程度とする。 | N44: (ひび割れ幅のみmmとし、その他をm表記とする)
C45: ※ 変状数に準じてシートを追加すること。（１シートに１ページとすること。） | N45: ※ 構造用鋼材以外の異物に伴ううき・はく離については、メモ欄に異物の概要を記入すること。

Sheet 様式D-1-1 (2)
E1: 1
B2: ■定期点検記録様式 変状写真台帳（トンネル本体工） 【様式D-1-1】
B3: フリガナ | D3: オオガサコ | H3: 路 線 名 | J3: 一般国道316号 | M3: 定期点検業者 | P3: 株式会社オリエンタルコンサルタンツ | S3: 定期点検年月日 | U3: 45275
B4: 名 称 | D4: 大ヶ迫トンネル | H4: 管理者名 | J4: 長門土木建築事務所 | M4: 定期点検者名 | P4: 妹尾 優大
B5: 写真 番号 | C5: 覆工 スパン 番号 | D5: S002 | M5: 写真 番号 | N5: 覆工 スパン 番号 | O5: S002
C7: 変状 番号 | D7: 1 | N7: 変状 番号 | O7: 2
B9: 変状 部位 | C9: 対象 箇所 | D9: 覆工・坑門 | M9: 変状 部位 | N9: 対象 箇所 | O9: 路面
C11: 部位 区分 | D11: アーチ（左側） | N11: 部位 区分 | O11: 側溝
B13: 変状区分 | D13: 材質劣化 | M13: 変状区分 | O13: 材質劣化
B14: 変状種類 | D14: その他 | M14: 変状種類 | O14: うき・はく離
B15: 対策 区分 | C15: 応急措置前 | M15: 対策 区分 | N15: 応急措置前
C16: 応急措置後 | E16: Ⅱa | N16: 応急措置後 | P16: －
B17: 健全性 | D17: Ⅱ | M17: 健全性 | O17: －
B18: 変状の発生範囲の規模 | E18: 0.9m×0.6m | M18: 変状の発生範囲の規模 | P18: 0.3m×0.6m
B19: 前回定期点検時の状態 | E19: 0.9m×0.6mの豆板 | M19: 前回定期点検時の状態 | P19: 0.3m×0.6mのはく離
B20: 調査方針 | E20: なし | M20: 調査方針 | P20: なし
B21: 対策履歴 | E21: なし | H21: 実施状況（実施日） | M21: 対策履歴 | P21: なし | S21: 実施状況（実施日）
B22: メモ | D22: 豆板 | M22: メモ | O22: 側溝蓋のはく離
B23: 写真 番号 | C23: 覆工 スパン 番号 | D23: S002 | M23: 写真 番号 | N23: 覆工 スパン 番号 | O23: S002
C25: 変状 番号 | D25: 3 | N25: 変状 番号 | O25: 4
B27: 変状 部位 | C27: 対象 箇所 | D27: 路面 | M27: 変状 部位 | N27: 対象 箇所 | O27: 路面
C29: 部位 区分 | D29: 監査歩路 | N29: 部位 区分 | O29: 側溝
B31: 変状区分 | D31: 材質劣化 | M31: 変状区分 | O31: 材質劣化
B32: 変状種類 | D32: うき・はく離 | M32: 変状種類 | O32: うき・はく離
B33: 対策 区分 | C33: 応急措置前 | M33: 対策 区分 | N33: 応急措置前
C34: 応急措置後 | E34: － | N34: 応急措置後 | P34: －
B35: 健全性 | D35: － | M35: 健全性 | O35: －
B36: 変状の発生範囲の規模 | E36: 0.05m×0.4m | M36: 変状の発生範囲の規模 | P36: 0.3m×0.1m
B37: 前回定期点検時の状態 | E37: 0.05m×0.4mの欠損 | M37: 前回定期点検時の状態 | P37: 0.3m×0.1mのはく離
B38: 調査方針 | E38: なし | M38: 調査方針 | P38: なし
B39: 対策履歴 | E39: なし | H39: 実施状況（実施日） | M39: 対策履歴 | P39: なし | S39: 実施状況（実施日）
B40: メモ | D40: 欠損 | M40: メモ | O40: 側溝蓋のはく離
C41: ※ 健全性の判定区分Ⅱ～Ⅳについて添付すること。また、点検前に実施 された措置によりⅠと判定された箇所も添付すること。 | N41: ※ 変状の発生範囲の規模とは、対策を行う際に参考となる変状の長さや面積をいう。
N42: ※ 応急措置を実施しないで判定した変状の対策区分は、対策区分の応急措置後の欄に記入すること。
C43: ※ たたき落としを実施した場合は、実施後の写真を添付すること。 | N43: ※ 変状の発生範囲の規模は、面積・寸法を記載すること。
C44: ※ 画像データは100kb程度とする。 | N44: (ひび割れ幅のみmmとし、その他をm表記とする)
C45: ※ 変状数に準じてシートを追加すること。（１シートに１ページとすること。） | N45: ※ 構造用鋼材以外の異物に伴ううき・はく離については、メモ欄に異物の概要を記入すること。

Sheet 様式D-1-1 (3)
E1: 1
B2: ■定期点検記録様式 変状写真台帳（トンネル本体工） 【様式D-1-1】
B3: フリガナ | D3: オオガサコ | H3: 路 線 名 | J3: 一般国道316号 | M3: 定期点検業者 | P3: 株式会社オリエンタルコンサルタンツ | S3: 定期点検年月日 | U3: 45275
B4: 名 称 | D4: 大ヶ迫トンネル | H4: 管理者名 | J4: 長門土木建築事務所 | M4: 定期点検者名 | P4: 妹尾 優大
B5: 写真 番号 | C5: 覆工 スパン 番号 | D5: S002 | M5: 写真 番号 | N5: 覆工 スパン 番号 | O5: S002
C7: 変状 番号 | D7: 5 | N7: 変状 番号 | O7: 6
B9: 変状 部位 | C9: 対象 箇所 | D9: 路面 | M9: 変状 部位 | N9: 対象 箇所 | O9: 路面
C11: 部位 区分 | D11: 側溝 | N11: 部位 区分 | O11: 監査歩路
B13: 変状区分 | D13: 材質劣化 | M13: 変状区分 | O13: 材質劣化
B14: 変状種類 | D14: うき・はく離 | M14: 変状種類 | O14: うき・はく離
B15: 対策 区分 | C15: 応急措置前 | M15: 対策 区分 | N15: 応急措置前
C16: 応急措置後 | E16: － | N16: 応急措置後 | P16: －
B17: 健全性 | D17: － | M17: 健全性 | O17: －
B18: 変状の発生範囲の規模 | E18: 0.3m×1.0m | M18: 変状の発生範囲の規模 | P18: 0.05m×4.3m
B19: 前回定期点検時の状態 | E19: 0.3m×1.0mのうき | M19: 前回定期点検時の状態 | P19: 0.05m×4.3mの欠損
B20: 調査方針 | E20: なし | M20: 調査方針 | P20: なし
B21: 対策履歴 | E21: なし | H21: 実施状況（実施日） | M21: 対策履歴 | P21: なし | S21: 実施状況（実施日）
B22: メモ | D22: 側溝蓋のうき | M22: メモ | O22: 欠損
B23: 写真 番号 | C23: 覆工 スパン 番号 | D23: S002 | M23: 写真 番号 | N23: 覆工 スパン 番号 | O23: S003
C25: 変状 番号 | D25: 7 | N25: 変状 番号 | O25: 1
B27: 変状 部位 | C27: 対象 箇所 | D27: 路面 | M27: 変状 部位 | N27: 対象 箇所 | O27: 路面
C29: 部位 区分 | D29: 車道 | N29: 部位 区分 | O29: 監査歩路
B31: 変状区分 | D31: 漏水 | M31: 変状区分 | O31: 漏水
B32: 変状種類 | D32: その他 | M32: 変状種類 | O32: その他
B33: 対策 区分 | C33: 応急措置前 | M33: 対策 区分 | N33: 応急措置前
C34: 応急措置後 | E34: － | N34: 応急措置後 | P34: －
B35: 健全性 | D35: － | M35: 健全性 | O35: －
B36: 変状の発生範囲の規模 | E36: 0.3m×8.6m | M36: 変状の発生範囲の規模 | P36: -
B37: 前回定期点検時の状態 | E37: 0.3m×8.6mの堆砂 | M37: 前回定期点検時の状態 | P37: 堆砂
B38: 調査方針 | E38: なし | M38: 調査方針 | P38: なし
B39: 対策履歴 | E39: なし | H39: 実施状況（実施日） | M39: 対策履歴 | P39: なし | S39: 実施状況（実施日）
B40: メモ | D40: 堆砂 | M40: メモ | O40: 堆砂跡
C41: ※ 健全性の判定区分Ⅱ～Ⅳについて添付すること。また、点検前に実施 された措置によりⅠと判定された箇所も添付すること。 | N41: ※ 変状の発生範囲の規模とは、対策を行う際に参考となる変状の長さや面積をいう。
N42: ※ 応急措置を実施しないで判定した変状の対策区分は、対策区分の応急措置後の欄に記入すること。
C43: ※ たたき落としを実施した場合は、実施後の写真を添付すること。 | N43: ※ 変状の発生範囲の規模は、面積・寸法を記載すること。
C44: ※ 画像データは100kb程度とする。 | N44: (ひび割れ幅のみmmとし、その他をm表記とする)
C45: ※ 変状数に準じてシートを追加すること。（１シートに１ページとすること。） | N45: ※ 構造用鋼材以外の異物に伴ううき・はく離については、メモ欄に異物の概要を記入すること。

Sheet 様式D-1-1 (4)
E1: 1
B2: ■定期点検記録様式 変状写真台帳（トンネル本体工） 【様式D-1-1】
B3: フリガナ | D3: オオガサコ | H3: 路 線 名 | J3: 一般国道316号 | M3: 定期点検業者 | P3: 株式会社オリエンタルコンサルタンツ | S3: 定期点検年月日 | U3: 45275
B4: 名 称 | D4: 大ヶ迫トンネル | H4: 管理者名 | J4: 長門土木建築事務所 | M4: 定期点検者名 | P4: 妹尾 優大
B5: 写真 番号 | C5: 覆工 スパン 番号 | D5: S003 | M5: 写真 番号 | N5: 覆工 スパン 番号 | O5: S004
C7: 変状 番号 | D7: 2 | N7: 変状 番号 | O7: 1
B9: 変状 部位 | C9: 対象 箇所 | D9: 路面 | M9: 変状 部位 | N9: 対象 箇所 | O9: 覆工・坑門
C11: 部位 区分 | D11: 監査歩路 | N11: 部位 区分 | O11: 横断目地（左側）
B13: 変状区分 | D13: 材質劣化 | M13: 変状区分 | O13: 漏水
B14: 変状種類 | D14: うき・はく離 | M14: 変状種類 | O14: 漏水
B15: 対策 区分 | C15: 応急措置前 | M15: 対策 区分 | N15: 応急措置前
C16: 応急措置後 | E16: － | N16: 応急措置後 | P16: Ⅱb
B17: 健全性 | D17: － | M17: 健全性 | O17: Ⅱ
B18: 変状の発生範囲の規模 | E18: 0.2m×8.8m | M18: 変状の発生範囲の規模 | P18: 4.0m×0.5m
B19: 前回定期点検時の状態 | E19: 0.2m×8.8mの欠損 | M19: 前回定期点検時の状態 | P19: 目地からの漏水、にじみ
B20: 調査方針 | E20: なし | M20: 調査方針 | P20: なし
B21: 対策履歴 | E21: なし | H21: 実施状況（実施日） | M21: 対策履歴 | P21: なし | S21: 実施状況（実施日）
B22: メモ | D22: 欠損 | M22: メモ | O22: 目地からの漏水、にじみ
B23: 写真 番号 | C23: 覆工 スパン 番号 | D23: S004 | M23: 写真 番号 | N23: 覆工 スパン 番号 | O23: S004
C25: 変状 番号 | D25: 2 | N25: 変状 番号 | O25: 3
B27: 変状 部位 | C27: 対象 箇所 | D27: 覆工・坑門 | M27: 変状 部位 | N27: 対象 箇所 | O27: 覆工・坑門
C29: 部位 区分 | D29: アーチ（左側） | N29: 部位 区分 | O29: 横断目地（左側）
B31: 変状区分 | D31: 漏水 | M31: 変状区分 | O31: 材質劣化
B32: 変状種類 | D32: 補強・補修材の破損 | M32: 変状種類 | O32: うき・はく離
B33: 対策 区分 | C33: 応急措置前 | M33: 対策 区分 | N33: 応急措置前
C34: 応急措置後 | E34: Ⅱa | N34: 応急措置後 | P34: Ⅰ
B35: 健全性 | D35: Ⅱ | M35: 健全性 | O35: Ⅰ
B36: 変状の発生範囲の規模 | E36: 6.5m×0.1m | M36: 変状の発生範囲の規模 | P36: 0.7m×0.15m
B37: 前回定期点検時の状態 | E37: 幅0.1mの導水工破損 | M37: 前回定期点検時の状態 | P37: 0.7m×0.15mのはく落
B38: 調査方針 | E38: なし | M38: 調査方針 | P38: なし
B39: 対策履歴 | E39: なし | H39: 実施状況（実施日） | M39: 対策履歴 | P39: なし | S39: 実施状況（実施日）
B40: メモ | D40: 導水工破損 | M40: メモ | O40: はく落
C41: ※ 健全性の判定区分Ⅱ～Ⅳについて添付すること。また、点検前に実施 された措置によりⅠと判定された箇所も添付すること。 | N41: ※ 変状の発生範囲の規模とは、対策を行う際に参考となる変状の長さや面積をいう。
N42: ※ 応急措置を実施しないで判定した変状の対策区分は、対策区分の応急措置後の欄に記入すること。
C43: ※ たたき落としを実施した場合は、実施後の写真を添付すること。 | N43: ※ 変状の発生範囲の規模は、面積・寸法を記載すること。
C44: ※ 画像データは100kb程度とする。 | N44: (ひび割れ幅のみmmとし、その他をm表記とする)
C45: ※ 変状数に準じてシートを追加すること。（１シートに１ページとすること。） | N45: ※ 構造用鋼材以外の異物に伴ううき・はく離については、メモ欄に異物の概要を記入すること。

Sheet 様式D-1-1 (5)
E1: 1
B2: ■定期点検記録様式 変状写真台帳（トンネル本体工） 【様式D-1-1】
B3: フリガナ | D3: オオガサコ | H3: 路 線 名 | J3: 一般国道316号 | M3: 定期点検業者 | P3: 株式会社オリエンタルコンサルタンツ | S3: 定期点検年月日 | U3: 45275
B4: 名 称 | D4: 大ヶ迫トンネル | H4: 管理者名 | J4: 長門土木建築事務所 | M4: 定期点検者名 | P4: 妹尾 優大
B5: 写真 番号 | C5: 覆工 スパン 番号 | D5: S004 | M5: 写真 番号 | N5: 覆工 スパン 番号 | O5: S004
C7: 変状 番号 | D7: 4 | N7: 変状 番号 | O7: 5
B9: 変状 部位 | C9: 対象 箇所 | D9: 覆工・坑門 | M9: 変状 部位 | N9: 対象 箇所 | O9: 覆工・坑門
C11: 部位 区分 | D11: 横断目地（左側） | N11: 部位 区分 | O11: アーチ（左側）
B13: 変状区分 | D13: 材質劣化 | M13: 変状区分 | O13: 漏水
B14: 変状種類 | D14: うき・はく離 | M14: 変状種類 | O14: 漏水
B15: 対策 区分 | C15: 応急措置前 | M15: 対策 区分 | N15: 応急措置前
C16: 応急措置後 | E16: Ⅰ | N16: 応急措置後 | P16: Ⅱa
B17: 健全性 | D17: Ⅰ | M17: 健全性 | O17: Ⅱ
B18: 変状の発生範囲の規模 | E18: 0.5m×0.1m | M18: 変状の発生範囲の規模 | P18: 8.5m×0.5m
B19: 前回定期点検時の状態 | E19: 0.5m×0.1mのはく落 | M19: 前回定期点検時の状態 | P19: 漏水、滴水
B20: 調査方針 | E20: なし | M20: 調査方針 | P20: なし
B21: 対策履歴 | E21: なし | H21: 実施状況（実施日） | M21: 対策履歴 | P21: なし | S21: 実施状況（実施日）
B22: メモ | D22: はく落 | M22: メモ | O22: 導水工からの漏水、滴水
B23: 写真 番号 | C23: 覆工 スパン 番号 | D23: S004 | M23: 写真 番号 | N23: 覆工 スパン 番号 | O23: S004
C25: 変状 番号 | D25: 6 | N25: 変状 番号 | O25: 7
B27: 変状 部位 | C27: 対象 箇所 | D27: 覆工・坑門 | M27: 変状 部位 | N27: 対象 箇所 | O27: 覆工・坑門
C29: 部位 区分 | D29: 横断目地（天端） | N29: 部位 区分 | O29: 横断目地（右側）
B31: 変状区分 | D31: 漏水 | M31: 変状区分 | O31: 漏水
B32: 変状種類 | D32: 漏水 | M32: 変状種類 | O32: 漏水
B33: 対策 区分 | C33: 応急措置前 | M33: 対策 区分 | N33: 応急措置前
C34: 応急措置後 | E34: Ⅱb | N34: 応急措置後 | P34: Ⅱb
B35: 健全性 | D35: Ⅱ | M35: 健全性 | O35: Ⅱ
B36: 変状の発生範囲の規模 | E36: 8.5m×0.5m | M36: 変状の発生範囲の規模 | P36: 7.0m×0.5m
B37: 前回定期点検時の状態 | E37: 漏水、にじみ | M37: 前回定期点検時の状態 | P37: 漏水、にじみ
B38: 調査方針 | E38: なし | M38: 調査方針 | P38: なし
B39: 対策履歴 | E39: なし | H39: 実施状況（実施日） | M39: 対策履歴 | P39: なし | S39: 実施状況（実施日）
B40: メモ | D40: 導水工からの漏水、にじみ | M40: メモ | O40: 導水工からの漏水、にじみ
C41: ※ 健全性の判定区分Ⅱ～Ⅳについて添付すること。また、点検前に実施 された措置によりⅠと判定された箇所も添付すること。 | N41: ※ 変状の発生範囲の規模とは、対策を行う際に参考となる変状の長さや面積をいう。
N42: ※ 応急措置を実施しないで判定した変状の対策区分は、対策区分の応急措置後の欄に記入すること。
C43: ※ たたき落としを実施した場合は、実施後の写真を添付すること。 | N43: ※ 変状の発生範囲の規模は、面積・寸法を記載すること。
C44: ※ 画像データは100kb程度とする。 | N44: (ひび割れ幅のみmmとし、その他をm表記とする)
C45: ※ 変状数に準じてシートを追加すること。（１シートに１ページとすること。） | N45: ※ 構造用鋼材以外の異物に伴ううき・はく離については、メモ欄に異物の概要を記入すること。

Sheet 様式D-1-1 (6)
E1: 1
B2: ■定期点検記録様式 変状写真台帳（トンネル本体工） 【様式D-1-1】
B3: フリガナ | D3: オオガサコ | H3: 路 線 名 | J3: 一般国道316号 | M3: 定期点検業者 | P3: 株式会社オリエンタルコンサルタンツ | S3: 定期点検年月日 | U3: 45275
B4: 名 称 | D4: 大ヶ迫トンネル | H4: 管理者名 | J4: 長門土木建築事務所 | M4: 定期点検者名 | P4: 妹尾 優大
B5: 写真 番号 | C5: 覆工 スパン 番号 | D5: S004 | M5: 写真 番号 | N5: 覆工 スパン 番号 | O5: S004
C7: 変状 番号 | D7: 8 | N7: 変状 番号 | O7: 9
B9: 変状 部位 | C9: 対象 箇所 | D9: 路面 | M9: 変状 部位 | N9: 対象 箇所 | O9: 路面
C11: 部位 区分 | D11: 監査歩路 | N11: 部位 区分 | O11: 側溝
B13: 変状区分 | D13: 材質劣化 | M13: 変状区分 | O13: 材質劣化
B14: 変状種類 | D14: うき・はく離 | M14: 変状種類 | O14: うき・はく離
B15: 対策 区分 | C15: 応急措置前 | M15: 対策 区分 | N15: 応急措置前
C16: 応急措置後 | E16: － | N16: 応急措置後 | P16: －
B17: 健全性 | D17: － | M17: 健全性 | O17: －
B18: 変状の発生範囲の規模 | E18: 0.1m×0.3m | M18: 変状の発生範囲の規模 | P18: 0.3m×0.2m
B19: 前回定期点検時の状態 | E19: 0.1m×0.3mのうき | M19: 前回定期点検時の状態 | P19: 0.3m×0.2mのはく離
B20: 調査方針 | E20: なし | M20: 調査方針 | P20: なし
B21: 対策履歴 | E21: なし | H21: 実施状況（実施日） | M21: 対策履歴 | P21: なし | S21: 実施状況（実施日）
B22: メモ | D22: うき | M22: メモ | O22: 側溝蓋のはく離
B23: 写真 番号 | C23: 覆工 スパン 番号 | D23: S005 | M23: 写真 番号 | N23: 覆工 スパン 番号 | O23: S005
C25: 変状 番号 | D25: 1 | N25: 変状 番号 | O25: 2
B27: 変状 部位 | C27: 対象 箇所 | D27: 覆工・坑門 | M27: 変状 部位 | N27: 対象 箇所 | O27: 路面
C29: 部位 区分 | D29: 横断目地（右側） | N29: 部位 区分 | O29: 側溝
B31: 変状区分 | D31: 材質劣化 | M31: 変状区分 | O31: 材質劣化
B32: 変状種類 | D32: うき・はく離 | M32: 変状種類 | O32: うき・はく離
B33: 対策 区分 | C33: 応急措置前 | E33: Ⅰ | M33: 対策 区分 | N33: 応急措置前
C34: 応急措置後 | E34: Ⅰ | N34: 応急措置後 | P34: －
B35: 健全性 | D35: Ⅰ | M35: 健全性 | O35: －
B36: 変状の発生範囲の規模 | E36: 0.5m×0.1m | M36: 変状の発生範囲の規模 | P36: 0.05m×0.15m
B37: 前回定期点検時の状態 | E37: 0.2m×0.1mのはく落 | M37: 前回定期点検時の状態 | P37: 0.05m×0.15mのうき
B38: 調査方針 | E38: なし | M38: 調査方針 | P38: なし
B39: 対策履歴 | E39: 叩き落とし実施 | H39: 実施状況（実施日） | J39: 45275 | M39: 対策履歴 | P39: なし | S39: 実施状況（実施日）
B40: メモ | D40: はく落 | M40: メモ | O40: 側溝蓋のうき
C41: ※ 健全性の判定区分Ⅱ～Ⅳについて添付すること。また、点検前に実施 された措置によりⅠと判定された箇所も添付すること。 | N41: ※ 変状の発生範囲の規模とは、対策を行う際に参考となる変状の長さや面積をいう。
N42: ※ 応急措置を実施しないで判定した変状の対策区分は、対策区分の応急措置後の欄に記入すること。
C43: ※ たたき落としを実施した場合は、実施後の写真を添付すること。 | N43: ※ 変状の発生範囲の規模は、面積・寸法を記載すること。
C44: ※ 画像データは100kb程度とする。 | N44: (ひび割れ幅のみmmとし、その他をm表記とする)
C45: ※ 変状数に準じてシートを追加すること。（１シートに１ページとすること。） | N45: ※ 構造用鋼材以外の異物に伴ううき・はく離については、メモ欄に異物の概要を記入すること。

Sheet 様式D-1-1 (7)
E1: 1
B2: ■定期点検記録様式 変状写真台帳（トンネル本体工） 【様式D-1-1】
B3: フリガナ | D3: オオガサコ | H3: 路 線 名 | J3: 一般国道316号 | M3: 定期点検業者 | P3: 株式会社オリエンタルコンサルタンツ | S3: 定期点検年月日 | U3: 45275
B4: 名 称 | D4: 大ヶ迫トンネル | H4: 管理者名 | J4: 長門土木建築事務所 | M4: 定期点検者名 | P4: 妹尾 優大
B5: 写真 番号 | C5: 覆工 スパン 番号 | D5: S005 | M5: 写真 番号 | N5: 覆工 スパン 番号 | O5: S005
C7: 変状 番号 | D7: 3 | N7: 変状 番号 | O7: 4
B9: 変状 部位 | C9: 対象 箇所 | D9: 路面 | M9: 変状 部位 | N9: 対象 箇所 | O9: 路面
C11: 部位 区分 | D11: 側溝 | N11: 部位 区分 | O11: 監査歩路
B13: 変状区分 | D13: 材質劣化 | M13: 変状区分 | O13: 材質劣化
B14: 変状種類 | D14: うき・はく離 | M14: 変状種類 | O14: うき・はく離
B15: 対策 区分 | C15: 応急措置前 | M15: 対策 区分 | N15: 応急措置前
C16: 応急措置後 | E16: － | N16: 応急措置後 | P16: －
B17: 健全性 | D17: － | M17: 健全性 | O17: －
B18: 変状の発生範囲の規模 | E18: 0.3m×0.2m | M18: 変状の発生範囲の規模 | P18: 0.1m×0.5m
B19: 前回定期点検時の状態 | E19: 0.3m×0.15mのはく離 | M19: 前回定期点検時の状態 | P19: 0.1m×0.5mの欠損
B20: 調査方針 | E20: なし | M20: 調査方針 | P20: なし
B21: 対策履歴 | E21: なし | H21: 実施状況（実施日） | M21: 対策履歴 | P21: なし | S21: 実施状況（実施日）
B22: メモ | D22: 側溝蓋のはく離 | M22: メモ | O22: 欠損
B23: 写真 番号 | C23: 覆工 スパン 番号 | D23: S005 | M23: 写真 番号 | N23: 覆工 スパン 番号 | O23: S006
C25: 変状 番号 | D25: 5 | N25: 変状 番号 | O25: 1
B27: 変状 部位 | C27: 対象 箇所 | D27: 路面 | M27: 変状 部位 | N27: 対象 箇所 | O27: 覆工・坑門
C29: 部位 区分 | D29: 側溝 | N29: 部位 区分 | O29: 横断目地（左側）
B31: 変状区分 | D31: 材質劣化 | M31: 変状区分 | O31: 材質劣化
B32: 変状種類 | D32: うき・はく離 | M32: 変状種類 | O32: うき・はく離
B33: 対策 区分 | C33: 応急措置前 | M33: 対策 区分 | N33: 応急措置前
C34: 応急措置後 | E34: － | N34: 応急措置後 | P34: Ⅱa
B35: 健全性 | D35: － | M35: 健全性 | O35: Ⅱ
B36: 変状の発生範囲の規模 | E36: 0.3m×0.2m | M36: 変状の発生範囲の規模 | P36: 1.0m×0.05m
B37: 前回定期点検時の状態 | E37: 0.3m×0.2mのはく離 | M37: 前回定期点検時の状態 | P37: 1.0m×0.05mのうき
B38: 調査方針 | E38: なし | M38: 調査方針 | P38: なし
B39: 対策履歴 | E39: なし | H39: 実施状況（実施日） | M39: 対策履歴 | P39: なし | S39: 実施状況（実施日）
B40: メモ | D40: 側溝蓋のはく離 | M40: メモ | O40: 目地付近のうき
C41: ※ 健全性の判定区分Ⅱ～Ⅳについて添付すること。また、点検前に実施 された措置によりⅠと判定された箇所も添付すること。 | N41: ※ 変状の発生範囲の規模とは、対策を行う際に参考となる変状の長さや面積をいう。
N42: ※ 応急措置を実施しないで判定した変状の対策区分は、対策区分の応急措置後の欄に記入すること。
C43: ※ たたき落としを実施した場合は、実施後の写真を添付すること。 | N43: ※ 変状の発生範囲の規模は、面積・寸法を記載すること。
C44: ※ 画像データは100kb程度とする。 | N44: (ひび割れ幅のみmmとし、その他をm表記とする)
C45: ※ 変状数に準じてシートを追加すること。（１シートに１ページとすること。） | N45: ※ 構造用鋼材以外の異物に伴ううき・はく離については、メモ欄に異物の概要を記入すること。

Sheet 様式D-1-1 (8)
E1: 1
B2: ■定期点検記録様式 変状写真台帳（トンネル本体工） 【様式D-1-1】
B3: フリガナ | D3: オオガサコ | H3: 路 線 名 | J3: 一般国道316号 | M3: 定期点検業者 | P3: 株式会社オリエンタルコンサルタンツ | S3: 定期点検年月日 | U3: 45275
B4: 名 称 | D4: 大ヶ迫トンネル | H4: 管理者名 | J4: 長門土木建築事務所 | M4: 定期点検者名 | P4: 妹尾 優大
B5: 写真 番号 | C5: 覆工 スパン 番号 | D5: S006 | M5: 写真 番号 | N5: 覆工 スパン 番号 | O5: S006
C7: 変状 番号 | D7: 2 | N7: 変状 番号 | O7: 3
B9: 変状 部位 | C9: 対象 箇所 | D9: 覆工・坑門 | M9: 変状 部位 | N9: 対象 箇所 | O9: 路面
C11: 部位 区分 | D11: アーチ（左側） | N11: 部位 区分 | O11: 側溝
B13: 変状区分 | D13: 材質劣化 | M13: 変状区分 | O13: 材質劣化
B14: 変状種類 | D14: その他 | M14: 変状種類 | O14: うき・はく離
B15: 対策 区分 | C15: 応急措置前 | M15: 対策 区分 | N15: 応急措置前
C16: 応急措置後 | E16: Ⅱa | N16: 応急措置後 | P16: －
B17: 健全性 | D17: Ⅱ | M17: 健全性 | O17: －
B18: 変状の発生範囲の規模 | E18: 0.9m×0.6m | M18: 変状の発生範囲の規模 | P18: 0.1m×0.4m
B19: 前回定期点検時の状態 | E19: 0.9m×0.6mの豆板 | M19: 前回定期点検時の状態 | P19: 0.1m×0.4mのうき
B20: 調査方針 | E20: なし | M20: 調査方針 | P20: なし
B21: 対策履歴 | E21: なし | H21: 実施状況（実施日） | M21: 対策履歴 | P21: なし | S21: 実施状況（実施日）
B22: メモ | D22: 豆板 | M22: メモ | O22: 側溝蓋のうき
B23: 写真 番号 | C23: 覆工 スパン 番号 | D23: S006 | M23: 写真 番号 | N23: 覆工 スパン 番号 | O23: S007
C25: 変状 番号 | D25: 4 | N25: 変状 番号 | O25: 1
B27: 変状 部位 | C27: 対象 箇所 | D27: 路面 | M27: 変状 部位 | N27: 対象 箇所 | O27: 覆工・坑門
C29: 部位 区分 | D29: 車道 | N29: 部位 区分 | O29: 横断目地（左側）
B31: 変状区分 | D31: 材質劣化 | M31: 変状区分 | O31: 漏水
B32: 変状種類 | D32: うき・はく離 | M32: 変状種類 | O32: 漏水
B33: 対策 区分 | C33: 応急措置前 | M33: 対策 区分 | N33: 応急措置前
C34: 応急措置後 | E34: － | N34: 応急措置後 | P34: Ⅱb
B35: 健全性 | D35: － | M35: 健全性 | O35: Ⅱ
B36: 変状の発生範囲の規模 | E36: 0.2m×0.8m | M36: 変状の発生範囲の規模 | P36: 6.5m×0.5m
B37: 前回定期点検時の状態 | E37: 0.2m×0.5mのうき | M37: 前回定期点検時の状態 | P37: 漏水、にじみ
B38: 調査方針 | E38: なし | M38: 調査方針 | P38: なし
B39: 対策履歴 | E39: なし | H39: 実施状況（実施日） | M39: 対策履歴 | P39: なし | S39: 実施状況（実施日）
B40: メモ | D40: 舗装のうき | M40: メモ | O40: 導水工からの漏水、にじみ
C41: ※ 健全性の判定区分Ⅱ～Ⅳについて添付すること。また、点検前に実施 された措置によりⅠと判定された箇所も添付すること。 | N41: ※ 変状の発生範囲の規模とは、対策を行う際に参考となる変状の長さや面積をいう。
N42: ※ 応急措置を実施しないで判定した変状の対策区分は、対策区分の応急措置後の欄に記入すること。
C43: ※ たたき落としを実施した場合は、実施後の写真を添付すること。 | N43: ※ 変状の発生範囲の規模は、面積・寸法を記載すること。
C44: ※ 画像データは100kb程度とする。 | N44: (ひび割れ幅のみmmとし、その他をm表記とする)
C45: ※ 変状数に準じてシートを追加すること。（１シートに１ページとすること。） | N45: ※ 構造用鋼材以外の異物に伴ううき・はく離については、メモ欄に異物の概要を記入すること。

Sheet 様式D-1-1 (9)
E1: 1
B2: ■定期点検記録様式 変状写真台帳（トンネル本体工） 【様式D-1-1】
B3: フリガナ | D3: オオガサコ | H3: 路 線 名 | J3: 一般国道316号 | M3: 定期点検業者 | P3: 株式会社オリエンタルコンサルタンツ | S3: 定期点検年月日 | U3: 45275
B4: 名 称 | D4: 大ヶ迫トンネル | H4: 管理者名 | J4: 長門土木建築事務所 | M4: 定期点検者名 | P4: 妹尾 優大
B5: 写真 番号 | C5: 覆工 スパン 番号 | D5: S007 | M5: 写真 番号 | N5: 覆工 スパン 番号 | O5: S007
C7: 変状 番号 | D7: 2 | N7: 変状 番号 | O7: 3
B9: 変状 部位 | C9: 対象 箇所 | D9: 路面 | M9: 変状 部位 | N9: 対象 箇所 | O9: 路面
C11: 部位 区分 | D11: 側溝 | N11: 部位 区分 | O11: 側溝
B13: 変状区分 | D13: 材質劣化 | M13: 変状区分 | O13: 材質劣化
B14: 変状種類 | D14: うき・はく離 | M14: 変状種類 | O14: うき・はく離
B15: 対策 区分 | C15: 応急措置前 | M15: 対策 区分 | N15: 応急措置前
C16: 応急措置後 | E16: － | N16: 応急措置後 | P16: －
B17: 健全性 | D17: － | M17: 健全性 | O17: －
B18: 変状の発生範囲の規模 | E18: 0.3m×0.9m | M18: 変状の発生範囲の規模 | P18: 0.4m×0.4m
B19: 前回定期点検時の状態 | E19: 0.2m×0.4m、0.25m×0.4mの鉄筋露出 | M19: 前回定期点検時の状態 | P19: 0.35m×0.3mのはく離
B20: 調査方針 | E20: なし | M20: 調査方針 | P20: なし
B21: 対策履歴 | E21: なし | H21: 実施状況（実施日） | M21: 対策履歴 | P21: なし | S21: 実施状況（実施日）
B22: メモ | D22: 側溝蓋のはく離 | M22: メモ | O22: 側溝蓋のはく離
B23: 写真 番号 | C23: 覆工 スパン 番号 | D23: S007 | M23: 写真 番号 | N23: 覆工 スパン 番号 | O23: S007
C25: 変状 番号 | D25: 4 | N25: 変状 番号 | O25: 5
B27: 変状 部位 | C27: 対象 箇所 | D27: 路面 | M27: 変状 部位 | N27: 対象 箇所 | O27: 路面
C29: 部位 区分 | D29: 側溝 | N29: 部位 区分 | O29: 側溝
B31: 変状区分 | D31: 材質劣化 | M31: 変状区分 | O31: 材質劣化
B32: 変状種類 | D32: うき・はく離 | M32: 変状種類 | O32: うき・はく離
B33: 対策 区分 | C33: 応急措置前 | M33: 対策 区分 | N33: 応急措置前
C34: 応急措置後 | E34: － | N34: 応急措置後 | P34: －
B35: 健全性 | D35: － | M35: 健全性 | O35: －
B36: 変状の発生範囲の規模 | E36: 0.4m×0.25m | M36: 変状の発生範囲の規模 | P36: 0.2m×0.4m
B37: 前回定期点検時の状態 | E37: 0.4m×0.25mの鉄筋露出 | M37: 前回定期点検時の状態 | P37: 0.2m×0.4mのはく離
B38: 調査方針 | E38: なし | M38: 調査方針 | P38: なし
B39: 対策履歴 | E39: なし | H39: 実施状況（実施日） | M39: 対策履歴 | P39: なし | S39: 実施状況（実施日）
B40: メモ | D40: 側溝蓋のはく離 | M40: メモ | O40: 側溝蓋のはく離
C41: ※ 健全性の判定区分Ⅱ～Ⅳについて添付すること。また、点検前に実施 された措置によりⅠと判定された箇所も添付すること。 | N41: ※ 変状の発生範囲の規模とは、対策を行う際に参考となる変状の長さや面積をいう。
N42: ※ 応急措置を実施しないで判定した変状の対策区分は、対策区分の応急措置後の欄に記入すること。
C43: ※ たたき落としを実施した場合は、実施後の写真を添付すること。 | N43: ※ 変状の発生範囲の規模は、面積・寸法を記載すること。
C44: ※ 画像データは100kb程度とする。 | N44: (ひび割れ幅のみmmとし、その他をm表記とする)
C45: ※ 変状数に準じてシートを追加すること。（１シートに１ページとすること。） | N45: ※ 構造用鋼材以外の異物に伴ううき・はく離については、メモ欄に異物の概要を記入すること。

Sheet 様式D-1-1 (10)
E1: 1
B2: ■定期点検記録様式 変状写真台帳（トンネル本体工） 【様式D-1-1】
B3: フリガナ | D3: オオガサコ | H3: 路 線 名 | J3: 一般国道316号 | M3: 定期点検業者 | P3: 株式会社オリエンタルコンサルタンツ | S3: 定期点検年月日 | U3: 45275
B4: 名 称 | D4: 大ヶ迫トンネル | H4: 管理者名 | J4: 長門土木建築事務所 | M4: 定期点検者名 | P4: 妹尾 優大
B5: 写真 番号 | C5: 覆工 スパン 番号 | D5: S008 | M5: 写真 番号 | N5: 覆工 スパン 番号 | O5: S008
C7: 変状 番号 | D7: 1 | N7: 変状 番号 | O7: 2
B9: 変状 部位 | C9: 対象 箇所 | D9: 覆工・坑門 | M9: 変状 部位 | N9: 対象 箇所 | O9: 覆工・坑門
C11: 部位 区分 | D11: 横断目地（左側） | N11: 部位 区分 | O11: 横断目地（左側）
B13: 変状区分 | D13: 漏水 | M13: 変状区分 | O13: 漏水
B14: 変状種類 | D14: 補強・補修材の破損 | M14: 変状種類 | O14: 漏水
B15: 対策 区分 | C15: 応急措置前 | M15: 対策 区分 | N15: 応急措置前
C16: 応急措置後 | E16: Ⅱa | N16: 応急措置後 | P16: Ⅱb
B17: 健全性 | D17: Ⅱ | M17: 健全性 | O17: Ⅱ
B18: 変状の発生範囲の規模 | E18: 2.1m×0.2m | M18: 変状の発生範囲の規模 | P18: 7.5m×0.5m
B19: 前回定期点検時の状態 | E19: 2.1m×0.2mの導水工破損 | M19: 前回定期点検時の状態 | P19: 漏水、にじみ
B20: 調査方針 | E20: なし | M20: 調査方針 | P20: なし
B21: 対策履歴 | E21: なし | H21: 実施状況（実施日） | M21: 対策履歴 | P21: なし | S21: 実施状況（実施日）
B22: メモ | D22: 導水工破損 | M22: メモ | O22: 導水工からの漏水、にじみ
B23: 写真 番号 | C23: 覆工 スパン 番号 | D23: S008 | M23: 写真 番号 | N23: 覆工 スパン 番号 | O23: S008
C25: 変状 番号 | D25: 3 | N25: 変状 番号 | O25: 4
B27: 変状 部位 | C27: 対象 箇所 | D27: 覆工・坑門 | M27: 変状 部位 | N27: 対象 箇所 | O27: 覆工・坑門
C29: 部位 区分 | D29: 横断目地（右側） | N29: 部位 区分 | O29: 横断目地（右側）
B31: 変状区分 | D31: 漏水 | M31: 変状区分 | O31: 漏水
B32: 変状種類 | D32: 漏水 | M32: 変状種類 | O32: 漏水
B33: 対策 区分 | C33: 応急措置前 | M33: 対策 区分 | N33: 応急措置前
C34: 応急措置後 | E34: Ⅱb | N34: 応急措置後 | P34: Ⅱb
B35: 健全性 | D35: Ⅱ | M35: 健全性 | O35: Ⅱ
B36: 変状の発生範囲の規模 | E36: 7.2m×0.5m | M36: 変状の発生範囲の規模 | P36: 7.0m×0.5m
B37: 前回定期点検時の状態 | E37: 漏水、にじみ | M37: 前回定期点検時の状態 | P37: 漏水、にじみ
B38: 調査方針 | E38: なし | M38: 調査方針 | P38: なし
B39: 対策履歴 | E39: なし | H39: 実施状況（実施日） | M39: 対策履歴 | P39: なし | S39: 実施状況（実施日）
B40: メモ | D40: 導水工からの漏水、にじみ | M40: メモ | O40: 導水工からの漏水、にじみ
C41: ※ 健全性の判定区分Ⅱ～Ⅳについて添付すること。また、点検前に実施 された措置によりⅠと判定された箇所も添付すること。 | N41: ※ 変状の発生範囲の規模とは、対策を行う際に参考となる変状の長さや面積をいう。
N42: ※ 応急措置を実施しないで判定した変状の対策区分は、対策区分の応急措置後の欄に記入すること。
C43: ※ たたき落としを実施した場合は、実施後の写真を添付すること。 | N43: ※ 変状の発生範囲の規模は、面積・寸法を記載すること。
C44: ※ 画像データは100kb程度とする。 | N44: (ひび割れ幅のみmmとし、その他をm表記とする)
C45: ※ 変状数に準じてシートを追加すること。（１シートに１ページとすること。） | N45: ※ 構造用鋼材以外の異物に伴ううき・はく離については、メモ欄に異物の概要を記入すること。

Sheet 様式D-1-1 (11)
E1: 1
B2: ■定期点検記録様式 変状写真台帳（トンネル本体工） 【様式D-1-1】
B3: フリガナ | D3: オオガサコ | H3: 路 線 名 | J3: 一般国道316号 | M3: 定期点検業者 | P3: 株式会社オリエンタルコンサルタンツ | S3: 定期点検年月日 | U3: 45275
B4: 名 称 | D4: 大ヶ迫トンネル | H4: 管理者名 | J4: 長門土木建築事務所 | M4: 定期点検者名 | P4: 妹尾 優大
B5: 写真 番号 | C5: 覆工 スパン 番号 | D5: S008 | M5: 写真 番号 | N5: 覆工 スパン 番号 | O5: S008
C7: 変状 番号 | D7: 5 | N7: 変状 番号 | O7: 6
B9: 変状 部位 | C9: 対象 箇所 | D9: 覆工・坑門 | M9: 変状 部位 | N9: 対象 箇所 | O9: 覆工・坑門
C11: 部位 区分 | D11: 横断目地（右側） | N11: 部位 区分 | O11: 横断目地（右側）
B13: 変状区分 | D13: 漏水 | M13: 変状区分 | O13: 漏水
B14: 変状種類 | D14: 補強・補修材の破損 | M14: 変状種類 | O14: 補強・補修材の破損
B15: 対策 区分 | C15: 応急措置前 | M15: 対策 区分 | N15: 応急措置前
C16: 応急措置後 | E16: Ⅱa | N16: 応急措置後 | P16: Ⅱa
B17: 健全性 | D17: Ⅱ | M17: 健全性 | O17: Ⅱ
B18: 変状の発生範囲の規模 | E18: 2.7m×0.15m | M18: 変状の発生範囲の規模 | P18: 0.9m×0.15m
B19: 前回定期点検時の状態 | E19: 2.7m×0.15mの導水工破損 | M19: 前回定期点検時の状態 | P19: 0.9m×0.15mの導水工破損
B20: 調査方針 | E20: なし | M20: 調査方針 | P20: なし
B21: 対策履歴 | E21: なし | H21: 実施状況（実施日） | M21: 対策履歴 | P21: なし | S21: 実施状況（実施日）
B22: メモ | D22: 導水工破損 | M22: メモ | O22: 導水工破損
B23: 写真 番号 | C23: 覆工 スパン 番号 | D23: S008 | M23: 写真 番号 | N23: 覆工 スパン 番号 | O23: S008
C25: 変状 番号 | D25: 7 | N25: 変状 番号 | O25: 8
B27: 変状 部位 | C27: 対象 箇所 | D27: 路面 | M27: 変状 部位 | N27: 対象 箇所 | O27: 路面
C29: 部位 区分 | D29: 側溝 | N29: 部位 区分 | O29: 監査歩路
B31: 変状区分 | D31: 材質劣化 | M31: 変状区分 | O31: 材質劣化
B32: 変状種類 | D32: うき・はく離 | M32: 変状種類 | O32: うき・はく離
B33: 対策 区分 | C33: 応急措置前 | M33: 対策 区分 | N33: 応急措置前
C34: 応急措置後 | E34: － | N34: 応急措置後 | P34: －
B35: 健全性 | D35: － | M35: 健全性 | O35: －
B36: 変状の発生範囲の規模 | E36: 0.4m×0.2m | M36: 変状の発生範囲の規模 | P36: 0.15m×0.2m
B37: 前回定期点検時の状態 | E37: 0.4m×0.2mのはく離 | M37: 前回定期点検時の状態 | P37: 0.15m×0.2mの欠損
B38: 調査方針 | E38: なし | M38: 調査方針 | P38: なし
B39: 対策履歴 | E39: なし | H39: 実施状況（実施日） | M39: 対策履歴 | P39: なし | S39: 実施状況（実施日）
B40: メモ | D40: 側溝蓋のはく離 | M40: メモ | O40: 欠損
C41: ※ 健全性の判定区分Ⅱ～Ⅳについて添付すること。また、点検前に実施 された措置によりⅠと判定された箇所も添付すること。 | N41: ※ 変状の発生範囲の規模とは、対策を行う際に参考となる変状の長さや面積をいう。
N42: ※ 応急措置を実施しないで判定した変状の対策区分は、対策区分の応急措置後の欄に記入すること。
C43: ※ たたき落としを実施した場合は、実施後の写真を添付すること。 | N43: ※ 変状の発生範囲の規模は、面積・寸法を記載すること。
C44: ※ 画像データは100kb程度とする。 | N44: (ひび割れ幅のみmmとし、その他をm表記とする)
C45: ※ 変状数に準じてシートを追加すること。（１シートに１ページとすること。） | N45: ※ 構造用鋼材以外の異物に伴ううき・はく離については、メモ欄に異物の概要を記入すること。

Sheet 様式D-1-1 (12)
E1: 1
B2: ■定期点検記録様式 変状写真台帳（トンネル本体工） 【様式D-1-1】
B3: フリガナ | D3: オオガサコ | H3: 路 線 名 | J3: 一般国道316号 | M3: 定期点検業者 | P3: 株式会社オリエンタルコンサルタンツ | S3: 定期点検年月日 | U3: 45275
B4: 名 称 | D4: 大ヶ迫トンネル | H4: 管理者名 | J4: 長門土木建築事務所 | M4: 定期点検者名 | P4: 妹尾 優大
B5: 写真 番号 | C5: 覆工 スパン 番号 | D5: S009 | M5: 写真 番号 | N5: 覆工 スパン 番号 | O5: S009
C7: 変状 番号 | D7: 1 | N7: 変状 番号 | O7: 2
B9: 変状 部位 | C9: 対象 箇所 | D9: 覆工・坑門 | M9: 変状 部位 | N9: 対象 箇所 | O9: 路面
C11: 部位 区分 | D11: 横断目地（右側） | N11: 部位 区分 | O11: 側溝
B13: 変状区分 | D13: 材質劣化 | M13: 変状区分 | O13: 材質劣化
B14: 変状種類 | D14: うき・はく離 | M14: 変状種類 | O14: うき・はく離
B15: 対策 区分 | C15: 応急措置前 | M15: 対策 区分 | N15: 応急措置前
C16: 応急措置後 | E16: Ⅰ | N16: 応急措置後 | P16: －
B17: 健全性 | D17: Ⅰ | M17: 健全性 | O17: －
B18: 変状の発生範囲の規模 | E18: 0.5m×0.1m | M18: 変状の発生範囲の規模 | P18: 0.1m×0.5m
B19: 前回定期点検時の状態 | E19: 0.5m×0.1mのはく落 | M19: 前回定期点検時の状態 | P19: 0.1m×0.5mのうき
B20: 調査方針 | E20: なし | M20: 調査方針 | P20: なし
B21: 対策履歴 | E21: なし | H21: 実施状況（実施日） | M21: 対策履歴 | P21: なし | S21: 実施状況（実施日）
B22: メモ | D22: はく落 | M22: メモ | O22: 側溝蓋のうき
B23: 写真 番号 | C23: 覆工 スパン 番号 | D23: S009 | M23: 写真 番号 | N23: 覆工 スパン 番号 | O23: S009
C25: 変状 番号 | D25: 3 | N25: 変状 番号 | O25: 4
B27: 変状 部位 | C27: 対象 箇所 | D27: 路面 | M27: 変状 部位 | N27: 対象 箇所 | O27: 路面
C29: 部位 区分 | D29: 側溝 | N29: 部位 区分 | O29: 監査歩路
B31: 変状区分 | D31: 材質劣化 | M31: 変状区分 | O31: 材質劣化
B32: 変状種類 | D32: うき・はく離 | M32: 変状種類 | O32: うき・はく離
B33: 対策 区分 | C33: 応急措置前 | M33: 対策 区分 | N33: 応急措置前
C34: 応急措置後 | E34: － | N34: 応急措置後 | P34: －
B35: 健全性 | D35: － | M35: 健全性 | O35: －
B36: 変状の発生範囲の規模 | E36: 0.1m×0.15m | M36: 変状の発生範囲の規模 | P36: 0.05m×0.2m
B37: 前回定期点検時の状態 | E37: 0.1m×0.15mのうき | M37: 前回定期点検時の状態 | P37: 0.05m×0.2mの欠損
B38: 調査方針 | E38: なし | M38: 調査方針 | P38: なし
B39: 対策履歴 | E39: なし | H39: 実施状況（実施日） | M39: 対策履歴 | P39: なし | S39: 実施状況（実施日）
B40: メモ | D40: 側溝蓋のうき | M40: メモ | O40: 欠損
C41: ※ 健全性の判定区分Ⅱ～Ⅳについて添付すること。また、点検前に実施 された措置によりⅠと判定された箇所も添付すること。 | N41: ※ 変状の発生範囲の規模とは、対策を行う際に参考となる変状の長さや面積をいう。
N42: ※ 応急措置を実施しないで判定した変状の対策区分は、対策区分の応急措置後の欄に記入すること。
C43: ※ たたき落としを実施した場合は、実施後の写真を添付すること。 | N43: ※ 変状の発生範囲の規模は、面積・寸法を記載すること。
C44: ※ 画像データは100kb程度とする。 | N44: (ひび割れ幅のみmmとし、その他をm表記とする)
C45: ※ 変状数に準じてシートを追加すること。（１シートに１ページとすること。） | N45: ※ 構造用鋼材以外の異物に伴ううき・はく離については、メモ欄に異物の概要を記入すること。

Sheet 様式D-1-1 (13)
E1: 1
B2: ■定期点検記録様式 変状写真台帳（トンネル本体工） 【様式D-1-1】
B3: フリガナ | D3: オオガサコ | H3: 路 線 名 | J3: 一般国道316号 | M3: 定期点検業者 | P3: 株式会社オリエンタルコンサルタンツ | S3: 定期点検年月日 | U3: 45275
B4: 名 称 | D4: 大ヶ迫トンネル | H4: 管理者名 | J4: 長門土木建築事務所 | M4: 定期点検者名 | P4: 妹尾 優大
B5: 写真 番号 | C5: 覆工 スパン 番号 | D5: S009 | M5: 写真 番号 | N5: 覆工 スパン 番号 | O5: S010
C7: 変状 番号 | D7: 5 | N7: 変状 番号 | O7: 1
B9: 変状 部位 | C9: 対象 箇所 | D9: 路面 | M9: 変状 部位 | N9: 対象 箇所 | O9: 路面
C11: 部位 区分 | D11: 車道 | N11: 部位 区分 | O11: 側溝
B13: 変状区分 | D13: 材質劣化 | M13: 変状区分 | O13: 材質劣化
B14: 変状種類 | D14: うき・はく離 | M14: 変状種類 | O14: うき・はく離
B15: 対策 区分 | C15: 応急措置前 | M15: 対策 区分 | N15: 応急措置前
C16: 応急措置後 | E16: － | N16: 応急措置後 | P16: －
B17: 健全性 | D17: － | M17: 健全性 | O17: －
B18: 変状の発生範囲の規模 | E18: 0.4m×0.1m | M18: 変状の発生範囲の規模 | P18: 0.1m×0.35m
B19: 前回定期点検時の状態 | E19: 0.4m×0.05mのうき | M19: 前回定期点検時の状態 | P19: 0.1m×0.35mのうき
B20: 調査方針 | E20: なし | M20: 調査方針 | P20: なし
B21: 対策履歴 | E21: なし | H21: 実施状況（実施日） | M21: 対策履歴 | P21: なし | S21: 実施状況（実施日）
B22: メモ | D22: 舗装のうき | M22: メモ | O22: 側溝蓋のうき
B23: 写真 番号 | C23: 覆工 スパン 番号 | D23: S010 | M23: 写真 番号 | N23: 覆工 スパン 番号 | O23: S010
C25: 変状 番号 | D25: 2 | N25: 変状 番号 | O25: 3
B27: 変状 部位 | C27: 対象 箇所 | D27: 路面 | M27: 変状 部位 | N27: 対象 箇所 | O27: 路面
C29: 部位 区分 | D29: 側溝 | N29: 部位 区分 | O29: 車道
B31: 変状区分 | D31: 材質劣化 | M31: 変状区分 | O31: 材質劣化
B32: 変状種類 | D32: うき・はく離 | M32: 変状種類 | O32: うき・はく離
B33: 対策 区分 | C33: 応急措置前 | M33: 対策 区分 | N33: 応急措置前
C34: 応急措置後 | E34: － | N34: 応急措置後 | P34: －
B35: 健全性 | D35: － | M35: 健全性 | O35: －
B36: 変状の発生範囲の規模 | E36: 0.1m×0.2m | M36: 変状の発生範囲の規模 | P36: 2.8m×0.3m
B37: 前回定期点検時の状態 | E37: 0.05m×0.2mのうき | M37: 前回定期点検時の状態 | P37: 3.1m×0.15mのうき
B38: 調査方針 | E38: なし | M38: 調査方針 | P38: なし
B39: 対策履歴 | E39: なし | H39: 実施状況（実施日） | M39: 対策履歴 | P39: なし | S39: 実施状況（実施日）
B40: メモ | D40: 側溝蓋のうき | M40: メモ | O40: 舗装のうき
C41: ※ 健全性の判定区分Ⅱ～Ⅳについて添付すること。また、点検前に実施 された措置によりⅠと判定された箇所も添付すること。 | N41: ※ 変状の発生範囲の規模とは、対策を行う際に参考となる変状の長さや面積をいう。
N42: ※ 応急措置を実施しないで判定した変状の対策区分は、対策区分の応急措置後の欄に記入すること。
C43: ※ たたき落としを実施した場合は、実施後の写真を添付すること。 | N43: ※ 変状の発生範囲の規模は、面積・寸法を記載すること。
C44: ※ 画像データは100kb程度とする。 | N44: (ひび割れ幅のみmmとし、その他をm表記とする)
C45: ※ 変状数に準じてシートを追加すること。（１シートに１ページとすること。） | N45: ※ 構造用鋼材以外の異物に伴ううき・はく離については、メモ欄に異物の概要を記入すること。

Sheet 様式D-1-1 (14)
E1: 1
B2: ■定期点検記録様式 変状写真台帳（トンネル本体工） 【様式D-1-1】
B3: フリガナ | D3: オオガサコ | H3: 路 線 名 | J3: 一般国道316号 | M3: 定期点検業者 | P3: 株式会社オリエンタルコンサルタンツ | S3: 定期点検年月日 | U3: 45275
B4: 名 称 | D4: 大ヶ迫トンネル | H4: 管理者名 | J4: 長門土木建築事務所 | M4: 定期点検者名 | P4: 妹尾 優大
B5: 写真 番号 | C5: 覆工 スパン 番号 | D5: S010 | M5: 写真 番号 | N5: 覆工 スパン 番号 | O5: S011
C7: 変状 番号 | D7: 4 | N7: 変状 番号 | O7: 1
B9: 変状 部位 | C9: 対象 箇所 | D9: 路面 | M9: 変状 部位 | N9: 対象 箇所 | O9: 路面
C11: 部位 区分 | D11: 側溝 | N11: 部位 区分 | O11: 側溝
B13: 変状区分 | D13: 材質劣化 | M13: 変状区分 | O13: 材質劣化
B14: 変状種類 | D14: うき・はく離 | M14: 変状種類 | O14: うき・はく離
B15: 対策 区分 | C15: 応急措置前 | M15: 対策 区分 | N15: 応急措置前
C16: 応急措置後 | E16: － | N16: 応急措置後 | P16: －
B17: 健全性 | D17: － | M17: 健全性 | O17: －
B18: 変状の発生範囲の規模 | E18: 0.2m×0.5m | M18: 変状の発生範囲の規模 | P18: 0.2m×0.9m
B19: 前回定期点検時の状態 | E19: 0.15m×0.35mの鉄筋露出 | M19: 前回定期点検時の状態 | P19: 0.2m×0.3m、0.15m×0.35mのはく離
B20: 調査方針 | E20: なし | M20: 調査方針 | P20: なし
B21: 対策履歴 | E21: なし | H21: 実施状況（実施日） | M21: 対策履歴 | P21: なし | S21: 実施状況（実施日）
B22: メモ | D22: 側溝蓋のうき | M22: メモ | O22: 側溝蓋のはく離
B23: 写真 番号 | C23: 覆工 スパン 番号 | D23: S011 | M23: 写真 番号 | N23: 覆工 スパン 番号 | O23: S011
C25: 変状 番号 | D25: 2 | N25: 変状 番号 | O25: 3
B27: 変状 部位 | C27: 対象 箇所 | D27: 路面 | M27: 変状 部位 | N27: 対象 箇所 | O27: 路面
C29: 部位 区分 | D29: 車道 | N29: 部位 区分 | O29: 車道
B31: 変状区分 | D31: 材質劣化 | M31: 変状区分 | O31: 材質劣化
B32: 変状種類 | D32: うき・はく離 | M32: 変状種類 | O32: うき・はく離
B33: 対策 区分 | C33: 応急措置前 | M33: 対策 区分 | N33: 応急措置前
C34: 応急措置後 | E34: － | N34: 応急措置後 | P34: －
B35: 健全性 | D35: － | M35: 健全性 | O35: －
B36: 変状の発生範囲の規模 | E36: 0.5m×0.1m | M36: 変状の発生範囲の規模 | P36: 0.6m×0.1m
B37: 前回定期点検時の状態 | E37: 0.5m×0.25mのうき | M37: 前回定期点検時の状態 | P37: 0.4m×0.05mのうき
B38: 調査方針 | E38: なし | M38: 調査方針 | P38: なし
B39: 対策履歴 | E39: なし | H39: 実施状況（実施日） | M39: 対策履歴 | P39: なし | S39: 実施状況（実施日）
B40: メモ | D40: 舗装のうき | M40: メモ | O40: 舗装のうき
C41: ※ 健全性の判定区分Ⅱ～Ⅳについて添付すること。また、点検前に実施 された措置によりⅠと判定された箇所も添付すること。 | N41: ※ 変状の発生範囲の規模とは、対策を行う際に参考となる変状の長さや面積をいう。
N42: ※ 応急措置を実施しないで判定した変状の対策区分は、対策区分の応急措置後の欄に記入すること。
C43: ※ たたき落としを実施した場合は、実施後の写真を添付すること。 | N43: ※ 変状の発生範囲の規模は、面積・寸法を記載すること。
C44: ※ 画像データは100kb程度とする。 | N44: (ひび割れ幅のみmmとし、その他をm表記とする)
C45: ※ 変状数に準じてシートを追加すること。（１シートに１ページとすること。） | N45: ※ 構造用鋼材以外の異物に伴ううき・はく離については、メモ欄に異物の概要を記入すること。

Sheet 様式D-1-1 (15)
E1: 1
B2: ■定期点検記録様式 変状写真台帳（トンネル本体工） 【様式D-1-1】
B3: フリガナ | D3: オオガサコ | H3: 路 線 名 | J3: 一般国道316号 | M3: 定期点検業者 | P3: 株式会社オリエンタルコンサルタンツ | S3: 定期点検年月日 | U3: 45275
B4: 名 称 | D4: 大ヶ迫トンネル | H4: 管理者名 | J4: 長門土木建築事務所 | M4: 定期点検者名 | P4: 妹尾 優大
B5: 写真 番号 | C5: 覆工 スパン 番号 | D5: S011 | M5: 写真 番号 | N5: 覆工 スパン 番号 | O5: S012
C7: 変状 番号 | D7: 4 | N7: 変状 番号 | O7: 1
B9: 変状 部位 | C9: 対象 箇所 | D9: 路面 | M9: 変状 部位 | N9: 対象 箇所 | O9: 覆工・坑門
C11: 部位 区分 | D11: 監査歩路 | N11: 部位 区分 | O11: 横断目地（右側）
B13: 変状区分 | D13: 材質劣化 | M13: 変状区分 | O13: 材質劣化
B14: 変状種類 | D14: うき・はく離 | M14: 変状種類 | O14: うき・はく離
B15: 対策 区分 | C15: 応急措置前 | M15: 対策 区分 | N15: 応急措置前
C16: 応急措置後 | E16: － | N16: 応急措置後 | P16: Ⅰ
B17: 健全性 | D17: － | M17: 健全性 | O17: Ⅰ
B18: 変状の発生範囲の規模 | E18: 0.1m×0.2m | M18: 変状の発生範囲の規模 | P18: 0.2m×0.05m
B19: 前回定期点検時の状態 | E19: 0.1m×0.2mの欠損 | M19: 前回定期点検時の状態 | P19: 0.2m×0.05mのはく落
B20: 調査方針 | E20: なし | M20: 調査方針 | P20: なし
B21: 対策履歴 | E21: なし | H21: 実施状況（実施日） | M21: 対策履歴 | P21: なし | S21: 実施状況（実施日）
B22: メモ | D22: 欠損 | M22: メモ | O22: はく落
B23: 写真 番号 | C23: 覆工 スパン 番号 | D23: S012 | M23: 写真 番号 | N23: 覆工 スパン 番号 | O23: S012
C25: 変状 番号 | D25: 2 | N25: 変状 番号 | O25: 3
B27: 変状 部位 | C27: 対象 箇所 | D27: 覆工・坑門 | M27: 変状 部位 | N27: 対象 箇所 | O27: 路面
C29: 部位 区分 | D29: 横断目地（右側） | N29: 部位 区分 | O29: 側溝
B31: 変状区分 | D31: 漏水 | M31: 変状区分 | O31: 材質劣化
B32: 変状種類 | D32: 漏水 | M32: 変状種類 | O32: うき・はく離
B33: 対策 区分 | C33: 応急措置前 | M33: 対策 区分 | N33: 応急措置前
C34: 応急措置後 | E34: Ⅰ | N34: 応急措置後 | P34: －
B35: 健全性 | D35: Ⅰ | M35: 健全性 | O35: －
B36: 変状の発生範囲の規模 | E36: - | M36: 変状の発生範囲の規模 | P36: 0.3m×0.4m
B37: 前回定期点検時の状態 | E37: 漏水、にじみ | M37: 前回定期点検時の状態 | P37: 0.2m×0.3mの鉄筋露出
B38: 調査方針 | E38: なし | M38: 調査方針 | P38: なし
B39: 対策履歴 | E39: なし | H39: 実施状況（実施日） | M39: 対策履歴 | P39: なし | S39: 実施状況（実施日）
B40: メモ | D40: 漏水跡 | M40: メモ | O40: 側溝蓋のはく離
C41: ※ 健全性の判定区分Ⅱ～Ⅳについて添付すること。また、点検前に実施 された措置によりⅠと判定された箇所も添付すること。 | N41: ※ 変状の発生範囲の規模とは、対策を行う際に参考となる変状の長さや面積をいう。
N42: ※ 応急措置を実施しないで判定した変状の対策区分は、対策区分の応急措置後の欄に記入すること。
C43: ※ たたき落としを実施した場合は、実施後の写真を添付すること。 | N43: ※ 変状の発生範囲の規模は、面積・寸法を記載すること。
C44: ※ 画像データは100kb程度とする。 | N44: (ひび割れ幅のみmmとし、その他をm表記とする)
C45: ※ 変状数に準じてシートを追加すること。（１シートに１ページとすること。） | N45: ※ 構造用鋼材以外の異物に伴ううき・はく離については、メモ欄に異物の概要を記入すること。

Sheet 様式D-1-1 (16)
E1: 1
B2: ■定期点検記録様式 変状写真台帳（トンネル本体工） 【様式D-1-1】
B3: フリガナ | D3: オオガサコ | H3: 路 線 名 | J3: 一般国道316号 | M3: 定期点検業者 | P3: 株式会社オリエンタルコンサルタンツ | S3: 定期点検年月日 | U3: 45275
B4: 名 称 | D4: 大ヶ迫トンネル | H4: 管理者名 | J4: 長門土木建築事務所 | M4: 定期点検者名 | P4: 妹尾 優大
B5: 写真 番号 | C5: 覆工 スパン 番号 | D5: S012 | M5: 写真 番号 | N5: 覆工 スパン 番号 | O5: S013
C7: 変状 番号 | D7: 4 | N7: 変状 番号 | O7: 1
B9: 変状 部位 | C9: 対象 箇所 | D9: 路面 | M9: 変状 部位 | N9: 対象 箇所 | O9: 覆工・坑門
C11: 部位 区分 | D11: 車道 | N11: 部位 区分 | O11: アーチ（左側）
B13: 変状区分 | D13: 材質劣化 | M13: 変状区分 | O13: 材質劣化
B14: 変状種類 | D14: うき・はく離 | M14: 変状種類 | O14: うき・はく離
B15: 対策 区分 | C15: 応急措置前 | M15: 対策 区分 | N15: 応急措置前
C16: 応急措置後 | E16: － | N16: 応急措置後 | P16: Ⅱa
B17: 健全性 | D17: － | M17: 健全性 | O17: Ⅱ
B18: 変状の発生範囲の規模 | E18: 0.4m×0.2m | M18: 変状の発生範囲の規模 | P18: 1.1m×1.7m
B19: 前回定期点検時の状態 | E19: 0.2m×0.03mのうき | M19: 前回定期点検時の状態 | P19: 1.1m×1.7mのうき
B20: 調査方針 | E20: なし | M20: 調査方針 | P20: なし
B21: 対策履歴 | E21: なし | H21: 実施状況（実施日） | M21: 対策履歴 | P21: なし | S21: 実施状況（実施日）
B22: メモ | D22: 舗装のうき | M22: メモ | O22: うき
B23: 写真 番号 | C23: 覆工 スパン 番号 | D23: S013 | M23: 写真 番号 | N23: 覆工 スパン 番号 | O23: S013
C25: 変状 番号 | D25: 2 | N25: 変状 番号 | O25: 3
B27: 変状 部位 | C27: 対象 箇所 | D27: 覆工・坑門 | M27: 変状 部位 | N27: 対象 箇所 | O27: 覆工・坑門
C29: 部位 区分 | D29: 横断目地（左側） | N29: 部位 区分 | O29: アーチ（右側）
B31: 変状区分 | D31: 漏水 | M31: 変状区分 | O31: 材質劣化
B32: 変状種類 | D32: 漏水 | M32: 変状種類 | O32: その他
B33: 対策 区分 | C33: 応急措置前 | M33: 対策 区分 | N33: 応急措置前
C34: 応急措置後 | E34: Ⅰ | N34: 応急措置後 | P34: Ⅱa
B35: 健全性 | D35: Ⅰ | M35: 健全性 | O35: Ⅱ
B36: 変状の発生範囲の規模 | E36: - | M36: 変状の発生範囲の規模 | P36: 0.2m×0.45m
B37: 前回定期点検時の状態 | E37: 漏水、にじみ | M37: 前回定期点検時の状態 | P37: 0.2m×0.45mの豆板
B38: 調査方針 | E38: なし | M38: 調査方針 | P38: なし
B39: 対策履歴 | E39: なし | H39: 実施状況（実施日） | M39: 対策履歴 | P39: なし | S39: 実施状況（実施日）
B40: メモ | D40: 漏水跡 | M40: メモ | O40: 豆板
C41: ※ 健全性の判定区分Ⅱ～Ⅳについて添付すること。また、点検前に実施 された措置によりⅠと判定された箇所も添付すること。 | N41: ※ 変状の発生範囲の規模とは、対策を行う際に参考となる変状の長さや面積をいう。
N42: ※ 応急措置を実施しないで判定した変状の対策区分は、対策区分の応急措置後の欄に記入すること。
C43: ※ たたき落としを実施した場合は、実施後の写真を添付すること。 | N43: ※ 変状の発生範囲の規模は、面積・寸法を記載すること。
C44: ※ 画像データは100kb程度とする。 | N44: (ひび割れ幅のみmmとし、その他をm表記とする)
C45: ※ 変状数に準じてシートを追加すること。（１シートに１ページとすること。） | N45: ※ 構造用鋼材以外の異物に伴ううき・はく離については、メモ欄に異物の概要を記入すること。

Sheet 様式D-1-1 (17)
E1: 1
B2: ■定期点検記録様式 変状写真台帳（トンネル本体工） 【様式D-1-1】
B3: フリガナ | D3: オオガサコ | H3: 路 線 名 | J3: 一般国道316号 | M3: 定期点検業者 | P3: 株式会社オリエンタルコンサルタンツ | S3: 定期点検年月日 | U3: 45275
B4: 名 称 | D4: 大ヶ迫トンネル | H4: 管理者名 | J4: 長門土木建築事務所 | M4: 定期点検者名 | P4: 妹尾 優大
B5: 写真 番号 | C5: 覆工 スパン 番号 | D5: S013 | M5: 写真 番号 | N5: 覆工 スパン 番号 | O5: S013
C7: 変状 番号 | D7: 4 | N7: 変状 番号 | O7: 5
B9: 変状 部位 | C9: 対象 箇所 | D9: 覆工・坑門 | M9: 変状 部位 | N9: 対象 箇所 | O9: 路面
C11: 部位 区分 | D11: 横断目地（右側） | N11: 部位 区分 | O11: 監査歩路
B13: 変状区分 | D13: 漏水 | M13: 変状区分 | O13: 材質劣化
B14: 変状種類 | D14: 漏水 | M14: 変状種類 | O14: うき・はく離
B15: 対策 区分 | C15: 応急措置前 | M15: 対策 区分 | N15: 応急措置前
C16: 応急措置後 | E16: Ⅰ | N16: 応急措置後 | P16: －
B17: 健全性 | D17: Ⅰ | M17: 健全性 | O17: －
B18: 変状の発生範囲の規模 | E18: - | M18: 変状の発生範囲の規模 | P18: 0.1m×1.1m
B19: 前回定期点検時の状態 | E19: 漏水、にじみ | M19: 前回定期点検時の状態 | P19: 0.1m×1.1mの欠損
B20: 調査方針 | E20: なし | M20: 調査方針 | P20: なし
B21: 対策履歴 | E21: なし | H21: 実施状況（実施日） | M21: 対策履歴 | P21: なし | S21: 実施状況（実施日）
B22: メモ | D22: 漏水跡 | M22: メモ | O22: 欠損
B23: 写真 番号 | C23: 覆工 スパン 番号 | D23: S013 | M23: 写真 番号 | N23: 覆工 スパン 番号 | O23: S013
C25: 変状 番号 | D25: 6 | N25: 変状 番号 | O25: 7
B27: 変状 部位 | C27: 対象 箇所 | D27: 路面 | M27: 変状 部位 | N27: 対象 箇所 | O27: 路面
C29: 部位 区分 | D29: 車道 | N29: 部位 区分 | O29: 側溝
B31: 変状区分 | D31: 材質劣化 | M31: 変状区分 | O31: 材質劣化
B32: 変状種類 | D32: うき・はく離 | M32: 変状種類 | O32: うき・はく離
B33: 対策 区分 | C33: 応急措置前 | M33: 対策 区分 | N33: 応急措置前
C34: 応急措置後 | E34: － | N34: 応急措置後 | P34: －
B35: 健全性 | D35: － | M35: 健全性 | O35: －
B36: 変状の発生範囲の規模 | E36: 0.2m×0.3m | M36: 変状の発生範囲の規模 | P36: 0.3m×1.0m
B37: 前回定期点検時の状態 | E37: 0.2m×0.4mのうき | M37: 前回定期点検時の状態 | P37: 0.2m×0.35m、0.2m×0.25mの鉄筋露出
B38: 調査方針 | E38: なし | M38: 調査方針 | P38: なし
B39: 対策履歴 | E39: なし | H39: 実施状況（実施日） | M39: 対策履歴 | P39: なし | S39: 実施状況（実施日）
B40: メモ | D40: 舗装のうき | M40: メモ | O40: 側溝蓋のはく離
C41: ※ 健全性の判定区分Ⅱ～Ⅳについて添付すること。また、点検前に実施 された措置によりⅠと判定された箇所も添付すること。 | N41: ※ 変状の発生範囲の規模とは、対策を行う際に参考となる変状の長さや面積をいう。
N42: ※ 応急措置を実施しないで判定した変状の対策区分は、対策区分の応急措置後の欄に記入すること。
C43: ※ たたき落としを実施した場合は、実施後の写真を添付すること。 | N43: ※ 変状の発生範囲の規模は、面積・寸法を記載すること。
C44: ※ 画像データは100kb程度とする。 | N44: (ひび割れ幅のみmmとし、その他をm表記とする)
C45: ※ 変状数に準じてシートを追加すること。（１シートに１ページとすること。） | N45: ※ 構造用鋼材以外の異物に伴ううき・はく離については、メモ欄に異物の概要を記入すること。

Sheet 様式D-1-1 (18)
E1: 1
B2: ■定期点検記録様式 変状写真台帳（トンネル本体工） 【様式D-1-1】
B3: フリガナ | D3: オオガサコ | H3: 路 線 名 | J3: 一般国道316号 | M3: 定期点検業者 | P3: 株式会社オリエンタルコンサルタンツ | S3: 定期点検年月日 | U3: 45275
B4: 名 称 | D4: 大ヶ迫トンネル | H4: 管理者名 | J4: 長門土木建築事務所 | M4: 定期点検者名 | P4: 妹尾 優大
B5: 写真 番号 | C5: 覆工 スパン 番号 | D5: S013 | M5: 写真 番号 | N5: 覆工 スパン 番号 | O5: S014
C7: 変状 番号 | D7: 8 | N7: 変状 番号 | O7: 1
B9: 変状 部位 | C9: 対象 箇所 | D9: 路面 | M9: 変状 部位 | N9: 対象 箇所 | O9: 覆工・坑門
C11: 部位 区分 | D11: 車道 | N11: 部位 区分 | O11: 横断目地（右側）
B13: 変状区分 | D13: 材質劣化 | M13: 変状区分 | O13: 材質劣化
B14: 変状種類 | D14: うき・はく離 | M14: 変状種類 | O14: うき・はく離
B15: 対策 区分 | C15: 応急措置前 | M15: 対策 区分 | N15: 応急措置前
C16: 応急措置後 | E16: － | N16: 応急措置後 | P16: Ⅱa
B17: 健全性 | D17: － | M17: 健全性 | O17: Ⅱ
B18: 変状の発生範囲の規模 | E18: 0.3m×0.2m | M18: 変状の発生範囲の規模 | P18: 1.4m×0.5m
B19: 前回定期点検時の状態 | E19: 0.3m×0.1mのはく離 | M19: 前回定期点検時の状態 | P19: 1.4m×0.5mのうき
B20: 調査方針 | E20: なし | M20: 調査方針 | P20: なし
B21: 対策履歴 | E21: なし | H21: 実施状況（実施日） | M21: 対策履歴 | P21: なし | S21: 実施状況（実施日）
B22: メモ | D22: 舗装のはく離 | M22: メモ | O22: うき
B23: 写真 番号 | C23: 覆工 スパン 番号 | D23: S014 | M23: 写真 番号 | N23: 覆工 スパン 番号 | O23: S014
C25: 変状 番号 | D25: 2 | N25: 変状 番号 | O25: 3
B27: 変状 部位 | C27: 対象 箇所 | D27: 路面 | M27: 変状 部位 | N27: 対象 箇所 | O27: 路面
C29: 部位 区分 | D29: 監査歩路 | N29: 部位 区分 | O29: 側溝
B31: 変状区分 | D31: 材質劣化 | M31: 変状区分 | O31: 材質劣化
B32: 変状種類 | D32: うき・はく離 | M32: 変状種類 | O32: うき・はく離
B33: 対策 区分 | C33: 応急措置前 | M33: 対策 区分 | N33: 応急措置前
C34: 応急措置後 | E34: － | N34: 応急措置後 | P34: －
B35: 健全性 | D35: － | M35: 健全性 | O35: －
B36: 変状の発生範囲の規模 | E36: 0.6m×1.0m | M36: 変状の発生範囲の規模 | P36: 0.2m×0.6m
B37: 前回定期点検時の状態 | E37: 0.2m×0.3m、0.2m×0.03mのはく離 | M37: 前回定期点検時の状態 | P37: 0.2m×0.35mの鉄筋露出
B38: 調査方針 | E38: なし | M38: 調査方針 | P38: なし
B39: 対策履歴 | E39: なし | H39: 実施状況（実施日） | M39: 対策履歴 | P39: なし | S39: 実施状況（実施日）
B40: メモ | D40: 側溝蓋のはく離 | M40: メモ | O40: 側溝蓋のはく離
C41: ※ 健全性の判定区分Ⅱ～Ⅳについて添付すること。また、点検前に実施 された措置によりⅠと判定された箇所も添付すること。 | N41: ※ 変状の発生範囲の規模とは、対策を行う際に参考となる変状の長さや面積をいう。
N42: ※ 応急措置を実施しないで判定した変状の対策区分は、対策区分の応急措置後の欄に記入すること。
C43: ※ たたき落としを実施した場合は、実施後の写真を添付すること。 | N43: ※ 変状の発生範囲の規模は、面積・寸法を記載すること。
C44: ※ 画像データは100kb程度とする。 | N44: (ひび割れ幅のみmmとし、その他をm表記とする)
C45: ※ 変状数に準じてシートを追加すること。（１シートに１ページとすること。） | N45: ※ 構造用鋼材以外の異物に伴ううき・はく離については、メモ欄に異物の概要を記入すること。

Sheet 様式D-1-1 (19)
E1: 1
B2: ■定期点検記録様式 変状写真台帳（トンネル本体工） 【様式D-1-1】
B3: フリガナ | D3: オオガサコ | H3: 路 線 名 | J3: 一般国道316号 | M3: 定期点検業者 | P3: 株式会社オリエンタルコンサルタンツ | S3: 定期点検年月日 | U3: 45275
B4: 名 称 | D4: 大ヶ迫トンネル | H4: 管理者名 | J4: 長門土木建築事務所 | M4: 定期点検者名 | P4: 妹尾 優大
B5: 写真 番号 | C5: 覆工 スパン 番号 | D5: S015 | M5: 写真 番号 | N5: 覆工 スパン 番号 | O5: S015
C7: 変状 番号 | D7: 1 | N7: 変状 番号 | O7: 2
B9: 変状 部位 | C9: 対象 箇所 | D9: 覆工・坑門 | M9: 変状 部位 | N9: 対象 箇所 | O9: 覆工・坑門
C11: 部位 区分 | D11: 横断目地（左側） | N11: 部位 区分 | O11: アーチ（右側）
B13: 変状区分 | D13: 材質劣化 | M13: 変状区分 | O13: 材質劣化
B14: 変状種類 | D14: うき・はく離 | M14: 変状種類 | O14: その他
B15: 対策 区分 | C15: 応急措置前 | M15: 対策 区分 | N15: 応急措置前
C16: 応急措置後 | E16: Ⅰ | N16: 応急措置後 | P16: Ⅱb
B17: 健全性 | D17: Ⅰ | M17: 健全性 | O17: Ⅱ
B18: 変状の発生範囲の規模 | E18: 0.25m×0.05m | M18: 変状の発生範囲の規模 | P18: 0.05m×0.15m
B19: 前回定期点検時の状態 | E19: 0.25m×0.05mのはく落 | M19: 前回定期点検時の状態 | P19: 0.05m×0.15mの異物混入(木片)
B20: 調査方針 | E20: なし | M20: 調査方針 | P20: なし
B21: 対策履歴 | E21: なし | H21: 実施状況（実施日） | M21: 対策履歴 | P21: なし | S21: 実施状況（実施日）
B22: メモ | D22: はく落 | M22: メモ | O22: 異物混入(木片)
B23: 写真 番号 | C23: 覆工 スパン 番号 | D23: S015 | M23: 写真 番号 | N23: 覆工 スパン 番号 | O23: S015
C25: 変状 番号 | D25: 3 | N25: 変状 番号 | O25: 4
B27: 変状 部位 | C27: 対象 箇所 | D27: 路面 | M27: 変状 部位 | N27: 対象 箇所 | O27: 路面
C29: 部位 区分 | D29: 側溝 | N29: 部位 区分 | O29: 側溝
B31: 変状区分 | D31: 材質劣化 | M31: 変状区分 | O31: 材質劣化
B32: 変状種類 | D32: うき・はく離 | M32: 変状種類 | O32: うき・はく離
B33: 対策 区分 | C33: 応急措置前 | M33: 対策 区分 | N33: 応急措置前
C34: 応急措置後 | E34: － | N34: 応急措置後 | P34: －
B35: 健全性 | D35: － | M35: 健全性 | O35: －
B36: 変状の発生範囲の規模 | E36: 0.2m×0.2m | M36: 変状の発生範囲の規模 | P36: 0.4m×0.7m
B37: 前回定期点検時の状態 | E37: 0.2m×0.2mのはく離 | M37: 前回定期点検時の状態 | P37: 0.3m×0.2mのはく離
B38: 調査方針 | E38: なし | M38: 調査方針 | P38: なし
B39: 対策履歴 | E39: なし | H39: 実施状況（実施日） | M39: 対策履歴 | P39: なし | S39: 実施状況（実施日）
B40: メモ | D40: 側溝蓋のはく離 | M40: メモ | O40: 側溝蓋のはく離
C41: ※ 健全性の判定区分Ⅱ～Ⅳについて添付すること。また、点検前に実施 された措置によりⅠと判定された箇所も添付すること。 | N41: ※ 変状の発生範囲の規模とは、対策を行う際に参考となる変状の長さや面積をいう。
N42: ※ 応急措置を実施しないで判定した変状の対策区分は、対策区分の応急措置後の欄に記入すること。
C43: ※ たたき落としを実施した場合は、実施後の写真を添付すること。 | N43: ※ 変状の発生範囲の規模は、面積・寸法を記載すること。
C44: ※ 画像データは100kb程度とする。 | N44: (ひび割れ幅のみmmとし、その他をm表記とする)
C45: ※ 変状数に準じてシートを追加すること。（１シートに１ページとすること。） | N45: ※ 構造用鋼材以外の異物に伴ううき・はく離については、メモ欄に異物の概要を記入すること。

Sheet 様式D-1-1 (20)
E1: 1
B2: ■定期点検記録様式 変状写真台帳（トンネル本体工） 【様式D-1-1】
B3: フリガナ | D3: オオガサコ | H3: 路 線 名 | J3: 一般国道316号 | M3: 定期点検業者 | P3: 株式会社オリエンタルコンサルタンツ | S3: 定期点検年月日 | U3: 45275
B4: 名 称 | D4: 大ヶ迫トンネル | H4: 管理者名 | J4: 長門土木建築事務所 | M4: 定期点検者名 | P4: 妹尾 優大
B5: 写真 番号 | C5: 覆工 スパン 番号 | D5: S016 | M5: 写真 番号 | N5: 覆工 スパン 番号 | O5: S016
C7: 変状 番号 | D7: 1 | N7: 変状 番号 | O7: 2
B9: 変状 部位 | C9: 対象 箇所 | D9: 路面 | M9: 変状 部位 | N9: 対象 箇所 | O9: 路面
C11: 部位 区分 | D11: 車道 | N11: 部位 区分 | O11: 側溝
B13: 変状区分 | D13: 材質劣化 | M13: 変状区分 | O13: 材質劣化
B14: 変状種類 | D14: うき・はく離 | M14: 変状種類 | O14: うき・はく離
B15: 対策 区分 | C15: 応急措置前 | M15: 対策 区分 | N15: 応急措置前
C16: 応急措置後 | E16: － | N16: 応急措置後 | P16: －
B17: 健全性 | D17: － | M17: 健全性 | O17: －
B18: 変状の発生範囲の規模 | E18: 2.2m×0.2m | M18: 変状の発生範囲の規模 | P18: 0.2m×0.2m
B19: 前回定期点検時の状態 | E19: 0.6m×0.1m、0.6m×0.1m、0.4m×0.1mのうき・はく離 | M19: 前回定期点検時の状態 | P19: 0.15m×0.2mのはく離
B20: 調査方針 | E20: なし | M20: 調査方針 | P20: なし
B21: 対策履歴 | E21: なし | H21: 実施状況（実施日） | M21: 対策履歴 | P21: なし | S21: 実施状況（実施日）
B22: メモ | D22: 舗装のうき | M22: メモ | O22: 側溝蓋のはく離
B23: 写真 番号 | C23: 覆工 スパン 番号 | D23: S016 | M23: 写真 番号 | N23: 覆工 スパン 番号 | O23: S017
C25: 変状 番号 | D25: 3 | N25: 変状 番号 | O25: 1
B27: 変状 部位 | C27: 対象 箇所 | D27: 路面 | M27: 変状 部位 | N27: 対象 箇所 | O27: 路面
C29: 部位 区分 | D29: 側溝 | N29: 部位 区分 | O29: 監査歩路
B31: 変状区分 | D31: 材質劣化 | M31: 変状区分 | O31: 漏水
B32: 変状種類 | D32: うき・はく離 | M32: 変状種類 | O32: 滞水
B33: 対策 区分 | C33: 応急措置前 | M33: 対策 区分 | N33: 応急措置前
C34: 応急措置後 | E34: － | N34: 応急措置後 | P34: －
B35: 健全性 | D35: － | M35: 健全性 | O35: －
B36: 変状の発生範囲の規模 | E36: 0.3m×0.3m | M36: 変状の発生範囲の規模 | P36: 0.4m×5.3m
B37: 前回定期点検時の状態 | E37: 0.25m×0.25mの鉄筋露出 | M37: 前回定期点検時の状態 | P37: 0.4m×5.3mの滞水
B38: 調査方針 | E38: なし | M38: 調査方針 | P38: なし
B39: 対策履歴 | E39: なし | H39: 実施状況（実施日） | M39: 対策履歴 | P39: なし | S39: 実施状況（実施日）
B40: メモ | D40: 側溝蓋のはく離 | M40: メモ | O40: 滞水
C41: ※ 健全性の判定区分Ⅱ～Ⅳについて添付すること。また、点検前に実施 された措置によりⅠと判定された箇所も添付すること。 | N41: ※ 変状の発生範囲の規模とは、対策を行う際に参考となる変状の長さや面積をいう。
N42: ※ 応急措置を実施しないで判定した変状の対策区分は、対策区分の応急措置後の欄に記入すること。
C43: ※ たたき落としを実施した場合は、実施後の写真を添付すること。 | N43: ※ 変状の発生範囲の規模は、面積・寸法を記載すること。
C44: ※ 画像データは100kb程度とする。 | N44: (ひび割れ幅のみmmとし、その他をm表記とする)
C45: ※ 変状数に準じてシートを追加すること。（１シートに１ページとすること。） | N45: ※ 構造用鋼材以外の異物に伴ううき・はく離については、メモ欄に異物の概要を記入すること。

Sheet 様式D-1-1 (21)
E1: 1
B2: ■定期点検記録様式 変状写真台帳（トンネル本体工） 【様式D-1-1】
B3: フリガナ | D3: オオガサコ | H3: 路 線 名 | J3: 一般国道316号 | M3: 定期点検業者 | P3: 株式会社オリエンタルコンサルタンツ | S3: 定期点検年月日 | U3: 45275
B4: 名 称 | D4: 大ヶ迫トンネル | H4: 管理者名 | J4: 長門土木建築事務所 | M4: 定期点検者名 | P4: 妹尾 優大
B5: 写真 番号 | C5: 覆工 スパン 番号 | D5: S018 | M5: 写真 番号 | N5: 覆工 スパン 番号 | O5: S018
C7: 変状 番号 | D7: 1 | N7: 変状 番号 | O7: 2
B9: 変状 部位 | C9: 対象 箇所 | D9: 覆工・坑門 | M9: 変状 部位 | N9: 対象 箇所 | O9: 覆工・坑門
C11: 部位 区分 | D11: 横断目地（左側） | N11: 部位 区分 | O11: アーチ（右側）
B13: 変状区分 | D13: 漏水 | M13: 変状区分 | O13: 材質劣化
B14: 変状種類 | D14: 漏水 | M14: 変状種類 | O14: その他
B15: 対策 区分 | C15: 応急措置前 | M15: 対策 区分 | N15: 応急措置前
C16: 応急措置後 | E16: Ⅰ | N16: 応急措置後 | P16: Ⅱb
B17: 健全性 | D17: Ⅰ | M17: 健全性 | O17: Ⅱ
B18: 変状の発生範囲の規模 | E18: - | M18: 変状の発生範囲の規模 | P18: 0.2m×0.2m
B19: 前回定期点検時の状態 | E19: 漏水、にじみ | M19: 前回定期点検時の状態 | P19: 0.2m×0.2mの異物混入(木片)
B20: 調査方針 | E20: なし | M20: 調査方針 | P20: なし
B21: 対策履歴 | E21: なし | H21: 実施状況（実施日） | M21: 対策履歴 | P21: なし | S21: 実施状況（実施日）
B22: メモ | D22: 漏水跡 | M22: メモ | O22: 異物混入(木片)
B23: 写真 番号 | C23: 覆工 スパン 番号 | D23: S018 | M23: 写真 番号 | N23: 覆工 スパン 番号 | O23: S019
C25: 変状 番号 | D25: 3 | N25: 変状 番号 | O25: 1
B27: 変状 部位 | C27: 対象 箇所 | D27: 路面 | M27: 変状 部位 | N27: 対象 箇所 | O27: 覆工・坑門
C29: 部位 区分 | D29: 側溝 | N29: 部位 区分 | O29: 横断目地（左側）
B31: 変状区分 | D31: 材質劣化 | M31: 変状区分 | O31: 材質劣化
B32: 変状種類 | D32: うき・はく離 | M32: 変状種類 | O32: うき・はく離
B33: 対策 区分 | C33: 応急措置前 | M33: 対策 区分 | N33: 応急措置前
C34: 応急措置後 | E34: － | N34: 応急措置後 | P34: Ⅱa
B35: 健全性 | D35: － | M35: 健全性 | O35: Ⅱ
B36: 変状の発生範囲の規模 | E36: 0.4m×0.5m | M36: 変状の発生範囲の規模 | P36: 0.4m×0.05m
B37: 前回定期点検時の状態 | E37: 0.35m×0.4mの鉄筋露出 | M37: 前回定期点検時の状態 | P37: 0.4m×0.05mのうき
B38: 調査方針 | E38: なし | M38: 調査方針 | P38: なし
B39: 対策履歴 | E39: なし | H39: 実施状況（実施日） | M39: 対策履歴 | P39: なし | S39: 実施状況（実施日）
B40: メモ | D40: 側溝蓋のはく離 | M40: メモ | O40: うき
C41: ※ 健全性の判定区分Ⅱ～Ⅳについて添付すること。また、点検前に実施 された措置によりⅠと判定された箇所も添付すること。 | N41: ※ 変状の発生範囲の規模とは、対策を行う際に参考となる変状の長さや面積をいう。
N42: ※ 応急措置を実施しないで判定した変状の対策区分は、対策区分の応急措置後の欄に記入すること。
C43: ※ たたき落としを実施した場合は、実施後の写真を添付すること。 | N43: ※ 変状の発生範囲の規模は、面積・寸法を記載すること。
C44: ※ 画像データは100kb程度とする。 | N44: (ひび割れ幅のみmmとし、その他をm表記とする)
C45: ※ 変状数に準じてシートを追加すること。（１シートに１ページとすること。） | N45: ※ 構造用鋼材以外の異物に伴ううき・はく離については、メモ欄に異物の概要を記入すること。

Sheet 様式D-1-1 (22)
E1: 1
B2: ■定期点検記録様式 変状写真台帳（トンネル本体工） 【様式D-1-1】
B3: フリガナ | D3: オオガサコ | H3: 路 線 名 | J3: 一般国道316号 | M3: 定期点検業者 | P3: 株式会社オリエンタルコンサルタンツ | S3: 定期点検年月日 | U3: 45275
B4: 名 称 | D4: 大ヶ迫トンネル | H4: 管理者名 | J4: 長門土木建築事務所 | M4: 定期点検者名 | P4: 妹尾 優大
B5: 写真 番号 | C5: 覆工 スパン 番号 | D5: S019 | M5: 写真 番号 | N5: 覆工 スパン 番号 | O5: S019
C7: 変状 番号 | D7: 2 | N7: 変状 番号 | O7: 3
B9: 変状 部位 | C9: 対象 箇所 | D9: 覆工・坑門 | M9: 変状 部位 | N9: 対象 箇所 | O9: 覆工・坑門
C11: 部位 区分 | D11: 横断目地（右側） | N11: 部位 区分 | O11: 横断目地（右側）
B13: 変状区分 | D13: 材質劣化 | M13: 変状区分 | O13: 材質劣化
B14: 変状種類 | D14: うき・はく離 | M14: 変状種類 | O14: うき・はく離
B15: 対策 区分 | C15: 応急措置前 | M15: 対策 区分 | N15: 応急措置前
C16: 応急措置後 | E16: Ⅰ | N16: 応急措置後 | P16: Ⅰ
B17: 健全性 | D17: Ⅰ | M17: 健全性 | O17: Ⅰ
B18: 変状の発生範囲の規模 | E18: 0.25m×0.2m | M18: 変状の発生範囲の規模 | P18: 0.15m×0.05m
B19: 前回定期点検時の状態 | E19: 0.25m×0.2mのはく落 | M19: 前回定期点検時の状態 | P19: 0.15m×0.05mのはく落
B20: 調査方針 | E20: なし | M20: 調査方針 | P20: なし
B21: 対策履歴 | E21: なし | H21: 実施状況（実施日） | M21: 対策履歴 | P21: なし | S21: 実施状況（実施日）
B22: メモ | D22: はく落 | M22: メモ | O22: はく落
B23: 写真 番号 | C23: 覆工 スパン 番号 | D23: S019 | M23: 写真 番号 | N23: 覆工 スパン 番号 | O23: S019
C25: 変状 番号 | D25: 4 | N25: 変状 番号 | O25: 5
B27: 変状 部位 | C27: 対象 箇所 | D27: 覆工・坑門 | M27: 変状 部位 | N27: 対象 箇所 | O27: 覆工・坑門
C29: 部位 区分 | D29: 横断目地（右側） | N29: 部位 区分 | O29: 横断目地（右側）
B31: 変状区分 | D31: 漏水 | M31: 変状区分 | O31: 漏水
B32: 変状種類 | D32: 漏水 | M32: 変状種類 | O32: 補強・補修材の破損
B33: 対策 区分 | C33: 応急措置前 | M33: 対策 区分 | N33: 応急措置前
C34: 応急措置後 | E34: Ⅱb | N34: 応急措置後 | P34: Ⅱa
B35: 健全性 | D35: Ⅱ | M35: 健全性 | O35: Ⅱ
B36: 変状の発生範囲の規模 | E36: 6.0m×0.5m | M36: 変状の発生範囲の規模 | P36: 2.3m×0.2m
B37: 前回定期点検時の状態 | E37: 漏水、にじみ | M37: 前回定期点検時の状態 | P37: 2.3m×0.2mの導水工破損
B38: 調査方針 | E38: なし | M38: 調査方針 | P38: なし
B39: 対策履歴 | E39: なし | H39: 実施状況（実施日） | M39: 対策履歴 | P39: なし | S39: 実施状況（実施日）
B40: メモ | D40: 導水工からの漏水、にじみ | M40: メモ | O40: 導水工破損
C41: ※ 健全性の判定区分Ⅱ～Ⅳについて添付すること。また、点検前に実施 された措置によりⅠと判定された箇所も添付すること。 | N41: ※ 変状の発生範囲の規模とは、対策を行う際に参考となる変状の長さや面積をいう。
N42: ※ 応急措置を実施しないで判定した変状の対策区分は、対策区分の応急措置後の欄に記入すること。
C43: ※ たたき落としを実施した場合は、実施後の写真を添付すること。 | N43: ※ 変状の発生範囲の規模は、面積・寸法を記載すること。
C44: ※ 画像データは100kb程度とする。 | N44: (ひび割れ幅のみmmとし、その他をm表記とする)
C45: ※ 変状数に準じてシートを追加すること。（１シートに１ページとすること。） | N45: ※ 構造用鋼材以外の異物に伴ううき・はく離については、メモ欄に異物の概要を記入すること。

Sheet 様式D-1-1 (23)
E1: 1
B2: ■定期点検記録様式 変状写真台帳（トンネル本体工） 【様式D-1-1】
B3: フリガナ | D3: オオガサコ | H3: 路 線 名 | J3: 一般国道316号 | M3: 定期点検業者 | P3: 株式会社オリエンタルコンサルタンツ | S3: 定期点検年月日 | U3: 45275
B4: 名 称 | D4: 大ヶ迫トンネル | H4: 管理者名 | J4: 長門土木建築事務所 | M4: 定期点検者名 | P4: 妹尾 優大
B5: 写真 番号 | C5: 覆工 スパン 番号 | D5: S019 | M5: 写真 番号 | N5: 覆工 スパン 番号 | O5: S019
C7: 変状 番号 | D7: 6 | N7: 変状 番号 | O7: 7
B9: 変状 部位 | C9: 対象 箇所 | D9: 路面 | M9: 変状 部位 | N9: 対象 箇所 | O9: 路面
C11: 部位 区分 | D11: 側溝 | N11: 部位 区分 | O11: 車道
B13: 変状区分 | D13: 材質劣化 | M13: 変状区分 | O13: 材質劣化
B14: 変状種類 | D14: うき・はく離 | M14: 変状種類 | O14: うき・はく離
B15: 対策 区分 | C15: 応急措置前 | M15: 対策 区分 | N15: 応急措置前
C16: 応急措置後 | E16: － | N16: 応急措置後 | P16: －
B17: 健全性 | D17: － | M17: 健全性 | O17: －
B18: 変状の発生範囲の規模 | E18: 0.4m×1.0m | M18: 変状の発生範囲の規模 | P18: 0.05m×0.3m
B19: 前回定期点検時の状態 | E19: 0.3m×0.45mのはく離 | M19: 前回定期点検時の状態 | P19: 0.03m×0.15mのうき
B20: 調査方針 | E20: なし | M20: 調査方針 | P20: なし
B21: 対策履歴 | E21: なし | H21: 実施状況（実施日） | M21: 対策履歴 | P21: なし | S21: 実施状況（実施日）
B22: メモ | D22: 側溝蓋のはく離 | M22: メモ | O22: 舗装のはく離
B23: 写真 番号 | C23: 覆工 スパン 番号 | D23: S019 | M23: 写真 番号 | N23: 覆工 スパン 番号 | O23: S019
C25: 変状 番号 | D25: 8 | N25: 変状 番号 | O25: 9
B27: 変状 部位 | C27: 対象 箇所 | D27: 路面 | M27: 変状 部位 | N27: 対象 箇所 | O27: 路面
C29: 部位 区分 | D29: 側溝 | N29: 部位 区分 | O29: 監査歩路
B31: 変状区分 | D31: 材質劣化 | M31: 変状区分 | O31: 漏水
B32: 変状種類 | D32: うき・はく離 | M32: 変状種類 | O32: 滞水
B33: 対策 区分 | C33: 応急措置前 | M33: 対策 区分 | N33: 応急措置前
C34: 応急措置後 | E34: － | N34: 応急措置後 | P34: －
B35: 健全性 | D35: － | M35: 健全性 | O35: －
B36: 変状の発生範囲の規模 | E36: 0.1m×0.5m | M36: 変状の発生範囲の規模 | P36: -
B37: 前回定期点検時の状態 | E37: 0.1m×0.5mのうき | M37: 前回定期点検時の状態 | P37: 滞水
B38: 調査方針 | E38: なし | M38: 調査方針 | P38: なし
B39: 対策履歴 | E39: なし | H39: 実施状況（実施日） | M39: 対策履歴 | P39: なし | S39: 実施状況（実施日）
B40: メモ | D40: 側溝蓋のうき | M40: メモ | O40: 滞水跡
C41: ※ 健全性の判定区分Ⅱ～Ⅳについて添付すること。また、点検前に実施 された措置によりⅠと判定された箇所も添付すること。 | N41: ※ 変状の発生範囲の規模とは、対策を行う際に参考となる変状の長さや面積をいう。
N42: ※ 応急措置を実施しないで判定した変状の対策区分は、対策区分の応急措置後の欄に記入すること。
C43: ※ たたき落としを実施した場合は、実施後の写真を添付すること。 | N43: ※ 変状の発生範囲の規模は、面積・寸法を記載すること。
C44: ※ 画像データは100kb程度とする。 | N44: (ひび割れ幅のみmmとし、その他をm表記とする)
C45: ※ 変状数に準じてシートを追加すること。（１シートに１ページとすること。） | N45: ※ 構造用鋼材以外の異物に伴ううき・はく離については、メモ欄に異物の概要を記入すること。

Sheet 様式D-1-1 (24)
E1: 1
B2: ■定期点検記録様式 変状写真台帳（トンネル本体工） 【様式D-1-1】
B3: フリガナ | D3: オオガサコ | H3: 路 線 名 | J3: 一般国道316号 | M3: 定期点検業者 | P3: 株式会社オリエンタルコンサルタンツ | S3: 定期点検年月日 | U3: 45275
B4: 名 称 | D4: 大ヶ迫トンネル | H4: 管理者名 | J4: 長門土木建築事務所 | M4: 定期点検者名 | P4: 妹尾 優大
B5: 写真 番号 | C5: 覆工 スパン 番号 | D5: S019 | M5: 写真 番号 | N5: 覆工 スパン 番号 | O5: S020
C7: 変状 番号 | D7: 10 | N7: 変状 番号 | O7: 1
B9: 変状 部位 | C9: 対象 箇所 | D9: 路面 | M9: 変状 部位 | N9: 対象 箇所 | O9: 覆工・坑門
C11: 部位 区分 | D11: 車道 | N11: 部位 区分 | O11: アーチ（左側）
B13: 変状区分 | D13: 漏水 | M13: 変状区分 | O13: 材質劣化
B14: 変状種類 | D14: その他 | M14: 変状種類 | O14: その他
B15: 対策 区分 | C15: 応急措置前 | M15: 対策 区分 | N15: 応急措置前
C16: 応急措置後 | E16: － | N16: 応急措置後 | P16: Ⅱa
B17: 健全性 | D17: － | M17: 健全性 | O17: Ⅱ
B18: 変状の発生範囲の規模 | E18: - | M18: 変状の発生範囲の規模 | P18: 0.5m×1.1m
B19: 前回定期点検時の状態 | E19: 堆砂 | M19: 前回定期点検時の状態 | P19: 0.5m×1.1mの豆板
B20: 調査方針 | E20: なし | M20: 調査方針 | P20: なし
B21: 対策履歴 | E21: なし | H21: 実施状況（実施日） | M21: 対策履歴 | P21: なし | S21: 実施状況（実施日）
B22: メモ | D22: 堆砂跡 | M22: メモ | O22: 豆板
B23: 写真 番号 | C23: 覆工 スパン 番号 | D23: S020 | M23: 写真 番号 | N23: 覆工 スパン 番号 | O23: S020
C25: 変状 番号 | D25: 2 | N25: 変状 番号 | O25: 3
B27: 変状 部位 | C27: 対象 箇所 | D27: 覆工・坑門 | M27: 変状 部位 | N27: 対象 箇所 | O27: 覆工・坑門
C29: 部位 区分 | D29: 横断目地（左側） | N29: 部位 区分 | O29: アーチ（天端）
B31: 変状区分 | D31: 材質劣化 | M31: 変状区分 | O31: 材質劣化
B32: 変状種類 | D32: うき・はく離 | M32: 変状種類 | O32: その他
B33: 対策 区分 | C33: 応急措置前 | M33: 対策 区分 | N33: 応急措置前
C34: 応急措置後 | E34: Ⅱa | N34: 応急措置後 | P34: Ⅱb
B35: 健全性 | D35: Ⅱ | M35: 健全性 | O35: Ⅱ
B36: 変状の発生範囲の規模 | E36: 0.9m×0.1m | M36: 変状の発生範囲の規模 | P36: 0.1m×0.2m
B37: 前回定期点検時の状態 | E37: 0.9m×0.1mのうき | M37: 前回定期点検時の状態 | P37: 0.1m×0.2mの異物混入(木片)
B38: 調査方針 | E38: なし | M38: 調査方針 | P38: なし
B39: 対策履歴 | E39: なし | H39: 実施状況（実施日） | M39: 対策履歴 | P39: なし | S39: 実施状況（実施日）
B40: メモ | D40: うき | M40: メモ | O40: 異物混入(木片)
C41: ※ 健全性の判定区分Ⅱ～Ⅳについて添付すること。また、点検前に実施 された措置によりⅠと判定された箇所も添付すること。 | N41: ※ 変状の発生範囲の規模とは、対策を行う際に参考となる変状の長さや面積をいう。
N42: ※ 応急措置を実施しないで判定した変状の対策区分は、対策区分の応急措置後の欄に記入すること。
C43: ※ たたき落としを実施した場合は、実施後の写真を添付すること。 | N43: ※ 変状の発生範囲の規模は、面積・寸法を記載すること。
C44: ※ 画像データは100kb程度とする。 | N44: (ひび割れ幅のみmmとし、その他をm表記とする)
C45: ※ 変状数に準じてシートを追加すること。（１シートに１ページとすること。） | N45: ※ 構造用鋼材以外の異物に伴ううき・はく離については、メモ欄に異物の概要を記入すること。

Sheet 様式D-1-1 (25)
E1: 1
B2: ■定期点検記録様式 変状写真台帳（トンネル本体工） 【様式D-1-1】
B3: フリガナ | D3: オオガサコ | H3: 路 線 名 | J3: 一般国道316号 | M3: 定期点検業者 | P3: 株式会社オリエンタルコンサルタンツ | S3: 定期点検年月日 | U3: 45275
B4: 名 称 | D4: 大ヶ迫トンネル | H4: 管理者名 | J4: 長門土木建築事務所 | M4: 定期点検者名 | P4: 妹尾 優大
B5: 写真 番号 | C5: 覆工 スパン 番号 | D5: S020 | M5: 写真 番号 | N5: 覆工 スパン 番号 | O5: S020
C7: 変状 番号 | D7: 4 | N7: 変状 番号 | O7: 5
B9: 変状 部位 | C9: 対象 箇所 | D9: 路面 | M9: 変状 部位 | N9: 対象 箇所 | O9: 路面
C11: 部位 区分 | D11: 側溝 | N11: 部位 区分 | O11: 監査歩路
B13: 変状区分 | D13: 材質劣化 | M13: 変状区分 | O13: 材質劣化
B14: 変状種類 | D14: うき・はく離 | M14: 変状種類 | O14: うき・はく離
B15: 対策 区分 | C15: 応急措置前 | M15: 対策 区分 | N15: 応急措置前
C16: 応急措置後 | E16: － | N16: 応急措置後 | P16: －
B17: 健全性 | D17: － | M17: 健全性 | O17: －
B18: 変状の発生範囲の規模 | E18: 0.15m×0.5m | M18: 変状の発生範囲の規模 | P18: 0.05m×10.5m
B19: 前回定期点検時の状態 | E19: 0.15m×0.5mのうき | M19: 前回定期点検時の状態 | P19: 0.05m×10.5mの欠損
B20: 調査方針 | E20: なし | M20: 調査方針 | P20: なし
B21: 対策履歴 | E21: なし | H21: 実施状況（実施日） | M21: 対策履歴 | P21: なし | S21: 実施状況（実施日）
B22: メモ | D22: 側溝蓋のうき・はく離 | M22: メモ | O22: 欠損
B23: 写真 番号 | C23: 覆工 スパン 番号 | D23: S020 | M23: 写真 番号 | N23: 覆工 スパン 番号 | O23: S020
C25: 変状 番号 | D25: 6 | N25: 変状 番号 | O25: 7
B27: 変状 部位 | C27: 対象 箇所 | D27: 路面 | M27: 変状 部位 | N27: 対象 箇所 | O27: 路面
C29: 部位 区分 | D29: 車道 | N29: 部位 区分 | O29: 監査歩路
B31: 変状区分 | D31: 漏水 | M31: 変状区分 | O31: 漏水
B32: 変状種類 | D32: その他 | M32: 変状種類 | O32: 滞水
B33: 対策 区分 | C33: 応急措置前 | M33: 対策 区分 | N33: 応急措置前
C34: 応急措置後 | E34: － | N34: 応急措置後 | P34: －
B35: 健全性 | D35: － | M35: 健全性 | O35: －
B36: 変状の発生範囲の規模 | E36: - | M36: 変状の発生範囲の規模 | P36: -
B37: 前回定期点検時の状態 | E37: 堆砂 | M37: 前回定期点検時の状態 | P37: 滞水
B38: 調査方針 | E38: なし | M38: 調査方針 | P38: なし
B39: 対策履歴 | E39: なし | H39: 実施状況（実施日） | M39: 対策履歴 | P39: なし | S39: 実施状況（実施日）
B40: メモ | D40: 堆砂跡 | M40: メモ | O40: 滞水跡
C41: ※ 健全性の判定区分Ⅱ～Ⅳについて添付すること。また、点検前に実施 された措置によりⅠと判定された箇所も添付すること。 | N41: ※ 変状の発生範囲の規模とは、対策を行う際に参考となる変状の長さや面積をいう。
N42: ※ 応急措置を実施しないで判定した変状の対策区分は、対策区分の応急措置後の欄に記入すること。
C43: ※ たたき落としを実施した場合は、実施後の写真を添付すること。 | N43: ※ 変状の発生範囲の規模は、面積・寸法を記載すること。
C44: ※ 画像データは100kb程度とする。 | N44: (ひび割れ幅のみmmとし、その他をm表記とする)
C45: ※ 変状数に準じてシートを追加すること。（１シートに１ページとすること。） | N45: ※ 構造用鋼材以外の異物に伴ううき・はく離については、メモ欄に異物の概要を記入すること。

Sheet 様式D-1-1 (26)
E1: 1
B2: ■定期点検記録様式 変状写真台帳（トンネル本体工） 【様式D-1-1】
B3: フリガナ | D3: オオガサコ | H3: 路 線 名 | J3: 一般国道316号 | M3: 定期点検業者 | P3: 株式会社オリエンタルコンサルタンツ | S3: 定期点検年月日 | U3: 45275
B4: 名 称 | D4: 大ヶ迫トンネル | H4: 管理者名 | J4: 長門土木建築事務所 | M4: 定期点検者名 | P4: 妹尾 優大
B5: 写真 番号 | C5: 覆工 スパン 番号 | D5: S020 | M5: 写真 番号 | N5: 覆工 スパン 番号 | O5: S020
C7: 変状 番号 | D7: 8 | N7: 変状 番号 | O7: 9
B9: 変状 部位 | C9: 対象 箇所 | D9: 路面 | M9: 変状 部位 | N9: 対象 箇所 | O9: 路面
C11: 部位 区分 | D11: 監査歩路 | N11: 部位 区分 | O11: 監査歩路
B13: 変状区分 | D13: 材質劣化 | M13: 変状区分 | O13: 外力
B14: 変状種類 | D14: うき・はく離 | M14: 変状種類 | O14: 変形、移動
B15: 対策 区分 | C15: 応急措置前 | M15: 対策 区分 | N15: 応急措置前
C16: 応急措置後 | E16: － | N16: 応急措置後 | P16: Ⅱb
B17: 健全性 | D17: － | M17: 健全性 | O17: Ⅱ
B18: 変状の発生範囲の規模 | E18: 0.2m×0.6m | M18: 変状の発生範囲の規模 | P18: 20mm
B19: 前回定期点検時の状態 | E19: 0.15m×0.6mのうき | M19: 前回定期点検時の状態 | P19: 5mmの傾き
B20: 調査方針 | E20: なし | M20: 調査方針 | P20: なし
B21: 対策履歴 | E21: なし | H21: 実施状況（実施日） | M21: 対策履歴 | P21: なし | S21: 実施状況（実施日）
B22: メモ | D22: うき | M22: メモ | O22: 20mmの傾き
B23: 写真 番号 | C23: 覆工 スパン 番号 | D23: S021 | M23: 写真 番号 | N23: 覆工 スパン 番号 | O23: S021
C25: 変状 番号 | D25: 1 | N25: 変状 番号 | O25: 2
B27: 変状 部位 | C27: 対象 箇所 | D27: 覆工・坑門 | M27: 変状 部位 | N27: 対象 箇所 | O27: 路面
C29: 部位 区分 | D29: 横断目地（左側） | N29: 部位 区分 | O29: 車道
B31: 変状区分 | D31: 材質劣化 | M31: 変状区分 | O31: 材質劣化
B32: 変状種類 | D32: うき・はく離 | M32: 変状種類 | O32: うき・はく離
B33: 対策 区分 | C33: 応急措置前 | M33: 対策 区分 | N33: 応急措置前
C34: 応急措置後 | E34: Ⅰ | N34: 応急措置後 | P34: －
B35: 健全性 | D35: Ⅰ | M35: 健全性 | O35: －
B36: 変状の発生範囲の規模 | E36: 0.4m×0.05m | M36: 変状の発生範囲の規模 | P36: 1.3m×0.3m
B37: 前回定期点検時の状態 | E37: 0.4m×0.05mのはく落 | M37: 前回定期点検時の状態 | P37: 0.4m×0.05mのはく離
B38: 調査方針 | E38: なし | M38: 調査方針 | P38: なし
B39: 対策履歴 | E39: なし | H39: 実施状況（実施日） | M39: 対策履歴 | P39: なし | S39: 実施状況（実施日）
B40: メモ | D40: はく落 | M40: メモ | O40: 舗装のはく離
C41: ※ 健全性の判定区分Ⅱ～Ⅳについて添付すること。また、点検前に実施 された措置によりⅠと判定された箇所も添付すること。 | N41: ※ 変状の発生範囲の規模とは、対策を行う際に参考となる変状の長さや面積をいう。
N42: ※ 応急措置を実施しないで判定した変状の対策区分は、対策区分の応急措置後の欄に記入すること。
C43: ※ たたき落としを実施した場合は、実施後の写真を添付すること。 | N43: ※ 変状の発生範囲の規模は、面積・寸法を記載すること。
C44: ※ 画像データは100kb程度とする。 | N44: (ひび割れ幅のみmmとし、その他をm表記とする)
C45: ※ 変状数に準じてシートを追加すること。（１シートに１ページとすること。） | N45: ※ 構造用鋼材以外の異物に伴ううき・はく離については、メモ欄に異物の概要を記入すること。

Sheet 様式D-1-1 (27)
E1: 1
B2: ■定期点検記録様式 変状写真台帳（トンネル本体工） 【様式D-1-1】
B3: フリガナ | D3: オオガサコ | H3: 路 線 名 | J3: 一般国道316号 | M3: 定期点検業者 | P3: 株式会社オリエンタルコンサルタンツ | S3: 定期点検年月日 | U3: 45275
B4: 名 称 | D4: 大ヶ迫トンネル | H4: 管理者名 | J4: 長門土木建築事務所 | M4: 定期点検者名 | P4: 妹尾 優大
B5: 写真 番号 | C5: 覆工 スパン 番号 | D5: S021 | M5: 写真 番号 | N5: 覆工 スパン 番号 | O5: S021
C7: 変状 番号 | D7: 3 | N7: 変状 番号 | O7: 4
B9: 変状 部位 | C9: 対象 箇所 | D9: 路面 | M9: 変状 部位 | N9: 対象 箇所 | O9: 路面
C11: 部位 区分 | D11: 車道 | N11: 部位 区分 | O11: 車道
B13: 変状区分 | D13: 材質劣化 | M13: 変状区分 | O13: 材質劣化
B14: 変状種類 | D14: うき・はく離 | M14: 変状種類 | O14: うき・はく離
B15: 対策 区分 | C15: 応急措置前 | M15: 対策 区分 | N15: 応急措置前
C16: 応急措置後 | E16: － | N16: 応急措置後 | P16: －
B17: 健全性 | D17: － | M17: 健全性 | O17: －
B18: 変状の発生範囲の規模 | E18: 0.4m×0.1m | M18: 変状の発生範囲の規模 | P18: 0.4m×0.2m
B19: 前回定期点検時の状態 | E19: 0.3m×0.1mのはく落 | M19: 前回定期点検時の状態 | P19: 0.45m×0.2mのはく離
B20: 調査方針 | E20: なし | M20: 調査方針 | P20: なし
B21: 対策履歴 | E21: なし | H21: 実施状況（実施日） | M21: 対策履歴 | P21: なし | S21: 実施状況（実施日）
B22: メモ | D22: 舗装のはく離 | M22: メモ | O22: 舗装のはく離
B23: 写真 番号 | C23: 覆工 スパン 番号 | D23: S021 | M23: 写真 番号 | N23: 覆工 スパン 番号 | O23: S022
C25: 変状 番号 | D25: 5 | N25: 変状 番号 | O25: 1
B27: 変状 部位 | C27: 対象 箇所 | D27: 路面 | M27: 変状 部位 | N27: 対象 箇所 | O27: 覆工・坑門
C29: 部位 区分 | D29: 車道 | N29: 部位 区分 | O29: アーチ（左側）
B31: 変状区分 | D31: 材質劣化 | M31: 変状区分 | O31: 漏水
B32: 変状種類 | D32: うき・はく離 | M32: 変状種類 | O32: 漏水
B33: 対策 区分 | C33: 応急措置前 | M33: 対策 区分 | N33: 応急措置前
C34: 応急措置後 | E34: － | N34: 応急措置後 | P34: Ⅱb
B35: 健全性 | D35: － | M35: 健全性 | O35: Ⅱ
B36: 変状の発生範囲の規模 | E36: 0.3m×0.7m | M36: 変状の発生範囲の規模 | P36: 6.6m×0.5m
B37: 前回定期点検時の状態 | E37: 0.2m×0.85mのうき | M37: 前回定期点検時の状態 | P37: 漏水、にじみ
B38: 調査方針 | E38: なし | M38: 調査方針 | P38: なし
B39: 対策履歴 | E39: なし | H39: 実施状況（実施日） | M39: 対策履歴 | P39: なし | S39: 実施状況（実施日）
B40: メモ | D40: 舗装のうき | M40: メモ | O40: ひび割れからの漏水、にじみ
C41: ※ 健全性の判定区分Ⅱ～Ⅳについて添付すること。また、点検前に実施 された措置によりⅠと判定された箇所も添付すること。 | N41: ※ 変状の発生範囲の規模とは、対策を行う際に参考となる変状の長さや面積をいう。
N42: ※ 応急措置を実施しないで判定した変状の対策区分は、対策区分の応急措置後の欄に記入すること。
C43: ※ たたき落としを実施した場合は、実施後の写真を添付すること。 | N43: ※ 変状の発生範囲の規模は、面積・寸法を記載すること。
C44: ※ 画像データは100kb程度とする。 | N44: (ひび割れ幅のみmmとし、その他をm表記とする)
C45: ※ 変状数に準じてシートを追加すること。（１シートに１ページとすること。） | N45: ※ 構造用鋼材以外の異物に伴ううき・はく離については、メモ欄に異物の概要を記入すること。

Sheet 様式D-1-1 (28)
E1: 1
B2: ■定期点検記録様式 変状写真台帳（トンネル本体工） 【様式D-1-1】
B3: フリガナ | D3: オオガサコ | H3: 路 線 名 | J3: 一般国道316号 | M3: 定期点検業者 | P3: 株式会社オリエンタルコンサルタンツ | S3: 定期点検年月日 | U3: 45275
B4: 名 称 | D4: 大ヶ迫トンネル | H4: 管理者名 | J4: 長門土木建築事務所 | M4: 定期点検者名 | P4: 妹尾 優大
B5: 写真 番号 | C5: 覆工 スパン 番号 | D5: S022 | M5: 写真 番号 | N5: 覆工 スパン 番号 | O5: S023
C7: 変状 番号 | D7: 2 | N7: 変状 番号 | O7: 1
B9: 変状 部位 | C9: 対象 箇所 | D9: 路面 | M9: 変状 部位 | N9: 対象 箇所 | O9: 覆工・坑門
C11: 部位 区分 | D11: 側溝 | N11: 部位 区分 | O11: 横断目地（左側）
B13: 変状区分 | D13: 材質劣化 | M13: 変状区分 | O13: 材質劣化
B14: 変状種類 | D14: うき・はく離 | M14: 変状種類 | O14: うき・はく離
B15: 対策 区分 | C15: 応急措置前 | M15: 対策 区分 | N15: 応急措置前
C16: 応急措置後 | E16: － | N16: 応急措置後 | P16: Ⅲ
B17: 健全性 | D17: － | M17: 健全性 | O17: Ⅲ
B18: 変状の発生範囲の規模 | E18: 0.3m×0.3m | M18: 変状の発生範囲の規模 | P18: 0.3m×0.1m
B19: 前回定期点検時の状態 | E19: 0.3m×0.3mの鉄筋露出 | M19: 前回定期点検時の状態 | P19: 0.3m×0.1mのうき
B20: 調査方針 | E20: なし | M20: 調査方針 | P20: なし
B21: 対策履歴 | E21: なし | H21: 実施状況（実施日） | M21: 対策履歴 | P21: なし | S21: 実施状況（実施日）
B22: メモ | D22: 側溝蓋のはく離 | M22: メモ | O22: 目地付近のうき
B23: 写真 番号 | C23: 覆工 スパン 番号 | D23: S023 | M23: 写真 番号 | N23: 覆工 スパン 番号 | O23: S023
C25: 変状 番号 | D25: 2 | N25: 変状 番号 | O25: 3
B27: 変状 部位 | C27: 対象 箇所 | D27: 覆工・坑門 | M27: 変状 部位 | N27: 対象 箇所 | O27: 覆工・坑門
C29: 部位 区分 | D29: アーチ（左側） | N29: 部位 区分 | O29: 横断目地（右側）
B31: 変状区分 | D31: 材質劣化 | M31: 変状区分 | O31: 材質劣化
B32: 変状種類 | D32: うき・はく離 | M32: 変状種類 | O32: うき・はく離
B33: 対策 区分 | C33: 応急措置前 | M33: 対策 区分 | N33: 応急措置前
C34: 応急措置後 | E34: Ⅰ | N34: 応急措置後 | P34: Ⅱa
B35: 健全性 | D35: Ⅰ | M35: 健全性 | O35: Ⅱ
B36: 変状の発生範囲の規模 | E36: 0.1m×0.1m | M36: 変状の発生範囲の規模 | P36: 1.1m×0.1m
B37: 前回定期点検時の状態 | E37: 0.1m×0.1mのはく落 | M37: 前回定期点検時の状態 | P37: 1.1m×0.1mのうき
B38: 調査方針 | E38: なし | M38: 調査方針 | P38: なし
B39: 対策履歴 | E39: なし | H39: 実施状況（実施日） | M39: 対策履歴 | P39: なし | S39: 実施状況（実施日）
B40: メモ | D40: はく落 | M40: メモ | O40: 目地付近のうき
C41: ※ 健全性の判定区分Ⅱ～Ⅳについて添付すること。また、点検前に実施 された措置によりⅠと判定された箇所も添付すること。 | N41: ※ 変状の発生範囲の規模とは、対策を行う際に参考となる変状の長さや面積をいう。
N42: ※ 応急措置を実施しないで判定した変状の対策区分は、対策区分の応急措置後の欄に記入すること。
C43: ※ たたき落としを実施した場合は、実施後の写真を添付すること。 | N43: ※ 変状の発生範囲の規模は、面積・寸法を記載すること。
C44: ※ 画像データは100kb程度とする。 | N44: (ひび割れ幅のみmmとし、その他をm表記とする)
C45: ※ 変状数に準じてシートを追加すること。（１シートに１ページとすること。） | N45: ※ 構造用鋼材以外の異物に伴ううき・はく離については、メモ欄に異物の概要を記入すること。

Sheet 様式D-1-1 (29)
E1: 1
B2: ■定期点検記録様式 変状写真台帳（トンネル本体工） 【様式D-1-1】
B3: フリガナ | D3: オオガサコ | H3: 路 線 名 | J3: 一般国道316号 | M3: 定期点検業者 | P3: 株式会社オリエンタルコンサルタンツ | S3: 定期点検年月日 | U3: 45275
B4: 名 称 | D4: 大ヶ迫トンネル | H4: 管理者名 | J4: 長門土木建築事務所 | M4: 定期点検者名 | P4: 妹尾 優大
B5: 写真 番号 | C5: 覆工 スパン 番号 | D5: S023 | M5: 写真 番号 | N5: 覆工 スパン 番号 | O5: S023
C7: 変状 番号 | D7: 4 | N7: 変状 番号 | O7: 5
B9: 変状 部位 | C9: 対象 箇所 | D9: 覆工・坑門 | M9: 変状 部位 | N9: 対象 箇所 | O9: 覆工・坑門
C11: 部位 区分 | D11: 横断目地（右側） | N11: 部位 区分 | O11: 横断目地（右側）
B13: 変状区分 | D13: 材質劣化 | M13: 変状区分 | O13: 材質劣化
B14: 変状種類 | D14: うき・はく離 | M14: 変状種類 | O14: うき・はく離
B15: 対策 区分 | C15: 応急措置前 | M15: 対策 区分 | N15: 応急措置前
C16: 応急措置後 | E16: Ⅱa | N16: 応急措置後 | P16: Ⅰ
B17: 健全性 | D17: Ⅱ | M17: 健全性 | O17: Ⅰ
B18: 変状の発生範囲の規模 | E18: 0.7m×0.1m | M18: 変状の発生範囲の規模 | P18: 0.15m×0.15m
B19: 前回定期点検時の状態 | E19: 0.7m×0.1mのうき | M19: 前回定期点検時の状態 | P19: 0.15m×0.15mのはく落
B20: 調査方針 | E20: なし | M20: 調査方針 | P20: なし
B21: 対策履歴 | E21: なし | H21: 実施状況（実施日） | M21: 対策履歴 | P21: なし | S21: 実施状況（実施日）
B22: メモ | D22: 目地付近のうき | M22: メモ | O22: はく落
B23: 写真 番号 | C23: 覆工 スパン 番号 | D23: S023 | M23: 写真 番号 | N23: 覆工 スパン 番号 | O23: S023
C25: 変状 番号 | D25: 6 | N25: 変状 番号 | O25: 7
B27: 変状 部位 | C27: 対象 箇所 | D27: 路面 | M27: 変状 部位 | N27: 対象 箇所 | O27: 路面
C29: 部位 区分 | D29: 側溝 | N29: 部位 区分 | O29: 車道
B31: 変状区分 | D31: 材質劣化 | M31: 変状区分 | O31: 材質劣化
B32: 変状種類 | D32: うき・はく離 | M32: 変状種類 | O32: うき・はく離
B33: 対策 区分 | C33: 応急措置前 | M33: 対策 区分 | N33: 応急措置前
C34: 応急措置後 | E34: － | N34: 応急措置後 | P34: －
B35: 健全性 | D35: － | M35: 健全性 | O35: －
B36: 変状の発生範囲の規模 | E36: 0.3m×0.3m | M36: 変状の発生範囲の規模 | P36: 2.5m×0.3m
B37: 前回定期点検時の状態 | E37: 0.3m×0.3mのうき | M37: 前回定期点検時の状態 | P37: 2.15m×0.1mの欠損
B38: 調査方針 | E38: なし | M38: 調査方針 | P38: なし
B39: 対策履歴 | E39: なし | H39: 実施状況（実施日） | M39: 対策履歴 | P39: なし | S39: 実施状況（実施日）
B40: メモ | D40: 側溝蓋のはく離 | M40: メモ | O40: 舗装のはく離
C41: ※ 健全性の判定区分Ⅱ～Ⅳについて添付すること。また、点検前に実施 された措置によりⅠと判定された箇所も添付すること。 | N41: ※ 変状の発生範囲の規模とは、対策を行う際に参考となる変状の長さや面積をいう。
N42: ※ 応急措置を実施しないで判定した変状の対策区分は、対策区分の応急措置後の欄に記入すること。
C43: ※ たたき落としを実施した場合は、実施後の写真を添付すること。 | N43: ※ 変状の発生範囲の規模は、面積・寸法を記載すること。
C44: ※ 画像データは100kb程度とする。 | N44: (ひび割れ幅のみmmとし、その他をm表記とする)
C45: ※ 変状数に準じてシートを追加すること。（１シートに１ページとすること。） | N45: ※ 構造用鋼材以外の異物に伴ううき・はく離については、メモ欄に異物の概要を記入すること。

Sheet 様式D-1-1 (30)
E1: 1
B2: ■定期点検記録様式 変状写真台帳（トンネル本体工） 【様式D-1-1】
B3: フリガナ | D3: オオガサコ | H3: 路 線 名 | J3: 一般国道316号 | M3: 定期点検業者 | P3: 株式会社オリエンタルコンサルタンツ | S3: 定期点検年月日 | U3: 45275
B4: 名 称 | D4: 大ヶ迫トンネル | H4: 管理者名 | J4: 長門土木建築事務所 | M4: 定期点検者名 | P4: 妹尾 優大
B5: 写真 番号 | C5: 覆工 スパン 番号 | D5: S023 | M5: 写真 番号 | N5: 覆工 スパン 番号 | O5: S024
C7: 変状 番号 | D7: 8 | N7: 変状 番号 | O7: 1
B9: 変状 部位 | C9: 対象 箇所 | D9: 路面 | M9: 変状 部位 | N9: 対象 箇所 | O9: 覆工・坑門
C11: 部位 区分 | D11: 車道 | N11: 部位 区分 | O11: 横断目地（左側）
B13: 変状区分 | D13: 材質劣化 | M13: 変状区分 | O13: 材質劣化
B14: 変状種類 | D14: うき・はく離 | M14: 変状種類 | O14: うき・はく離
B15: 対策 区分 | C15: 応急措置前 | M15: 対策 区分 | N15: 応急措置前
C16: 応急措置後 | E16: － | N16: 応急措置後 | P16: Ⅱa
B17: 健全性 | D17: － | M17: 健全性 | O17: Ⅱ
B18: 変状の発生範囲の規模 | E18: 0.4m×0.9m | M18: 変状の発生範囲の規模 | P18: 0.35m×0.1m
B19: 前回定期点検時の状態 | E19: 0.3m×0.9mのうき | M19: 前回定期点検時の状態 | P19: 0.35m×0.1mのうき
B20: 調査方針 | E20: なし | M20: 調査方針 | P20: なし
B21: 対策履歴 | E21: なし | H21: 実施状況（実施日） | M21: 対策履歴 | P21: なし | S21: 実施状況（実施日）
B22: メモ | D22: 舗装のうき | M22: メモ | O22: 目地付近のうき
B23: 写真 番号 | C23: 覆工 スパン 番号 | D23: S024 | M23: 写真 番号 | N23: 覆工 スパン 番号 | O23: S024
C25: 変状 番号 | D25: 2 | N25: 変状 番号 | O25: 3
B27: 変状 部位 | C27: 対象 箇所 | D27: 覆工・坑門 | M27: 変状 部位 | N27: 対象 箇所 | O27: 覆工・坑門
C29: 部位 区分 | D29: 横断目地（左側） | N29: 部位 区分 | O29: 横断目地（右側）
B31: 変状区分 | D31: 材質劣化 | M31: 変状区分 | O31: 材質劣化
B32: 変状種類 | D32: うき・はく離 | M32: 変状種類 | O32: うき・はく離
B33: 対策 区分 | C33: 応急措置前 | M33: 対策 区分 | N33: 応急措置前
C34: 応急措置後 | E34: Ⅰ | N34: 応急措置後 | P34: Ⅰ
B35: 健全性 | D35: Ⅰ | M35: 健全性 | O35: Ⅰ
B36: 変状の発生範囲の規模 | E36: 0.15m×0.1m | M36: 変状の発生範囲の規模 | P36: 0.1m×0.1m
B37: 前回定期点検時の状態 | E37: 0.15m×0.1mのはく落 | M37: 前回定期点検時の状態 | P37: 0.1m×0.1mのはく落
B38: 調査方針 | E38: なし | M38: 調査方針 | P38: なし
B39: 対策履歴 | E39: なし | H39: 実施状況（実施日） | M39: 対策履歴 | P39: なし | S39: 実施状況（実施日）
B40: メモ | D40: はく落 | M40: メモ | O40: はく落
C41: ※ 健全性の判定区分Ⅱ～Ⅳについて添付すること。また、点検前に実施 された措置によりⅠと判定された箇所も添付すること。 | N41: ※ 変状の発生範囲の規模とは、対策を行う際に参考となる変状の長さや面積をいう。
N42: ※ 応急措置を実施しないで判定した変状の対策区分は、対策区分の応急措置後の欄に記入すること。
C43: ※ たたき落としを実施した場合は、実施後の写真を添付すること。 | N43: ※ 変状の発生範囲の規模は、面積・寸法を記載すること。
C44: ※ 画像データは100kb程度とする。 | N44: (ひび割れ幅のみmmとし、その他をm表記とする)
C45: ※ 変状数に準じてシートを追加すること。（１シートに１ページとすること。） | N45: ※ 構造用鋼材以外の異物に伴ううき・はく離については、メモ欄に異物の概要を記入すること。

Sheet 様式D-1-1 (31)
E1: 1
B2: ■定期点検記録様式 変状写真台帳（トンネル本体工） 【様式D-1-1】
B3: フリガナ | D3: オオガサコ | H3: 路 線 名 | J3: 一般国道316号 | M3: 定期点検業者 | P3: 株式会社オリエンタルコンサルタンツ | S3: 定期点検年月日 | U3: 45275
B4: 名 称 | D4: 大ヶ迫トンネル | H4: 管理者名 | J4: 長門土木建築事務所 | M4: 定期点検者名 | P4: 妹尾 優大
B5: 写真 番号 | C5: 覆工 スパン 番号 | D5: S024 | M5: 写真 番号 | N5: 覆工 スパン 番号 | O5: S024
C7: 変状 番号 | D7: 4 | N7: 変状 番号 | O7: 5
B9: 変状 部位 | C9: 対象 箇所 | D9: 路面 | M9: 変状 部位 | N9: 対象 箇所 | O9: 路面
C11: 部位 区分 | D11: 側溝 | N11: 部位 区分 | O11: 側溝
B13: 変状区分 | D13: 材質劣化 | M13: 変状区分 | O13: 材質劣化
B14: 変状種類 | D14: うき・はく離 | M14: 変状種類 | O14: うき・はく離
B15: 対策 区分 | C15: 応急措置前 | M15: 対策 区分 | N15: 応急措置前
C16: 応急措置後 | E16: － | N16: 応急措置後 | P16: －
B17: 健全性 | D17: － | M17: 健全性 | O17: －
B18: 変状の発生範囲の規模 | E18: 0.1m×0.6m | M18: 変状の発生範囲の規模 | P18: 0.2m×0.5m
B19: 前回定期点検時の状態 | E19: 0.15m×0.5mのうき | M19: 前回定期点検時の状態 | P19: 0.2m×0.45mのはく離
B20: 調査方針 | E20: なし | M20: 調査方針 | P20: なし
B21: 対策履歴 | E21: なし | H21: 実施状況（実施日） | M21: 対策履歴 | P21: なし | S21: 実施状況（実施日）
B22: メモ | D22: 側溝蓋のはく離 | M22: メモ | O22: 側溝蓋のはく離
B23: 写真 番号 | C23: 覆工 スパン 番号 | D23: S024 | M23: 写真 番号 | N23: 覆工 スパン 番号 | O23: S025
C25: 変状 番号 | D25: 6 | N25: 変状 番号 | O25: 1
B27: 変状 部位 | C27: 対象 箇所 | D27: 路面 | M27: 変状 部位 | N27: 対象 箇所 | O27: 覆工・坑門
C29: 部位 区分 | D29: 監査歩路 | N29: 部位 区分 | O29: 横断目地（左側）
B31: 変状区分 | D31: 材質劣化 | M31: 変状区分 | O31: 材質劣化
B32: 変状種類 | D32: うき・はく離 | M32: 変状種類 | O32: うき・はく離
B33: 対策 区分 | C33: 応急措置前 | M33: 対策 区分 | N33: 応急措置前
C34: 応急措置後 | E34: － | N34: 応急措置後 | P34: Ⅰ
B35: 健全性 | D35: － | M35: 健全性 | O35: Ⅰ
B36: 変状の発生範囲の規模 | E36: 0.1m×0.3m | M36: 変状の発生範囲の規模 | P36: 0.5m×0.05m
B37: 前回定期点検時の状態 | E37: 0.1m×0.2mの欠損 | M37: 前回定期点検時の状態 | P37: 0.5m×0.05mｎのはく落
B38: 調査方針 | E38: なし | M38: 調査方針 | P38: なし
B39: 対策履歴 | E39: なし | H39: 実施状況（実施日） | M39: 対策履歴 | P39: なし | S39: 実施状況（実施日）
B40: メモ | D40: 欠損 | M40: メモ | O40: はく落
C41: ※ 健全性の判定区分Ⅱ～Ⅳについて添付すること。また、点検前に実施 された措置によりⅠと判定された箇所も添付すること。 | N41: ※ 変状の発生範囲の規模とは、対策を行う際に参考となる変状の長さや面積をいう。
N42: ※ 応急措置を実施しないで判定した変状の対策区分は、対策区分の応急措置後の欄に記入すること。
C43: ※ たたき落としを実施した場合は、実施後の写真を添付すること。 | N43: ※ 変状の発生範囲の規模は、面積・寸法を記載すること。
C44: ※ 画像データは100kb程度とする。 | N44: (ひび割れ幅のみmmとし、その他をm表記とする)
C45: ※ 変状数に準じてシートを追加すること。（１シートに１ページとすること。） | N45: ※ 構造用鋼材以外の異物に伴ううき・はく離については、メモ欄に異物の概要を記入すること。

Sheet 様式D-1-1 (32)
E1: 1
B2: ■定期点検記録様式 変状写真台帳（トンネル本体工） 【様式D-1-1】
B3: フリガナ | D3: オオガサコ | H3: 路 線 名 | J3: 一般国道316号 | M3: 定期点検業者 | P3: 株式会社オリエンタルコンサルタンツ | S3: 定期点検年月日 | U3: 45275
B4: 名 称 | D4: 大ヶ迫トンネル | H4: 管理者名 | J4: 長門土木建築事務所 | M4: 定期点検者名 | P4: 妹尾 優大
B5: 写真 番号 | C5: 覆工 スパン 番号 | D5: S025 | M5: 写真 番号 | N5: 覆工 スパン 番号 | O5: S025
C7: 変状 番号 | D7: 2 | N7: 変状 番号 | O7: 3
B9: 変状 部位 | C9: 対象 箇所 | D9: 覆工・坑門 | M9: 変状 部位 | N9: 対象 箇所 | O9: 覆工・坑門
C11: 部位 区分 | D11: アーチ（天端） | N11: 部位 区分 | O11: アーチ（天端）
B13: 変状区分 | D13: 材質劣化 | M13: 変状区分 | O13: 材質劣化
B14: 変状種類 | D14: その他 | M14: 変状種類 | O14: うき・はく離
B15: 対策 区分 | C15: 応急措置前 | M15: 対策 区分 | N15: 応急措置前
C16: 応急措置後 | E16: Ⅱb | N16: 応急措置後 | P16: Ⅰ
B17: 健全性 | D17: Ⅱ | M17: 健全性 | O17: Ⅰ
B18: 変状の発生範囲の規模 | E18: 0.15m×0.15m | M18: 変状の発生範囲の規模 | P18: 0.3m×0.1m
B19: 前回定期点検時の状態 | E19: 0.15m×0.15mの異物混入(木片) | M19: 前回定期点検時の状態 | P19: 0.3m×0.1mのはく落
B20: 調査方針 | E20: なし | M20: 調査方針 | P20: なし
B21: 対策履歴 | E21: なし | H21: 実施状況（実施日） | M21: 対策履歴 | P21: なし | S21: 実施状況（実施日）
B22: メモ | D22: 異物混入(木片) | M22: メモ | O22: はく落
B23: 写真 番号 | C23: 覆工 スパン 番号 | D23: S025 | M23: 写真 番号 | N23: 覆工 スパン 番号 | O23: S025
C25: 変状 番号 | D25: 4 | N25: 変状 番号 | O25: 5
B27: 変状 部位 | C27: 対象 箇所 | D27: 覆工・坑門 | M27: 変状 部位 | N27: 対象 箇所 | O27: 覆工・坑門
C29: 部位 区分 | D29: アーチ（天端） | N29: 部位 区分 | O29: 横断目地（右側）
B31: 変状区分 | D31: 材質劣化 | M31: 変状区分 | O31: 材質劣化
B32: 変状種類 | D32: うき・はく離 | M32: 変状種類 | O32: うき・はく離
B33: 対策 区分 | C33: 応急措置前 | M33: 対策 区分 | N33: 応急措置前
C34: 応急措置後 | E34: Ⅰ | N34: 応急措置後 | P34: Ⅰ
B35: 健全性 | D35: Ⅰ | M35: 健全性 | O35: Ⅰ
B36: 変状の発生範囲の規模 | E36: 0.1m×0.3m | M36: 変状の発生範囲の規模 | P36: 0.4m×0.15m
B37: 前回定期点検時の状態 | E37: 0.1m×0.3mのはく落 | M37: 前回定期点検時の状態 | P37: 0.4m×0.15mのはく落(背面ゴムあり)
B38: 調査方針 | E38: なし | M38: 調査方針 | P38: なし
B39: 対策履歴 | E39: なし | H39: 実施状況（実施日） | M39: 対策履歴 | P39: なし | S39: 実施状況（実施日）
B40: メモ | D40: はく落 | M40: メモ | O40: はく落(背面ゴムあり)
C41: ※ 健全性の判定区分Ⅱ～Ⅳについて添付すること。また、点検前に実施 された措置によりⅠと判定された箇所も添付すること。 | N41: ※ 変状の発生範囲の規模とは、対策を行う際に参考となる変状の長さや面積をいう。
N42: ※ 応急措置を実施しないで判定した変状の対策区分は、対策区分の応急措置後の欄に記入すること。
C43: ※ たたき落としを実施した場合は、実施後の写真を添付すること。 | N43: ※ 変状の発生範囲の規模は、面積・寸法を記載すること。
C44: ※ 画像データは100kb程度とする。 | N44: (ひび割れ幅のみmmとし、その他をm表記とする)
C45: ※ 変状数に準じてシートを追加すること。（１シートに１ページとすること。） | N45: ※ 構造用鋼材以外の異物に伴ううき・はく離については、メモ欄に異物の概要を記入すること。

Sheet 様式D-1-1 (33)
E1: 1
B2: ■定期点検記録様式 変状写真台帳（トンネル本体工） 【様式D-1-1】
B3: フリガナ | D3: オオガサコ | H3: 路 線 名 | J3: 一般国道316号 | M3: 定期点検業者 | P3: 株式会社オリエンタルコンサルタンツ | S3: 定期点検年月日 | U3: 45275
B4: 名 称 | D4: 大ヶ迫トンネル | H4: 管理者名 | J4: 長門土木建築事務所 | M4: 定期点検者名 | P4: 妹尾 優大
B5: 写真 番号 | C5: 覆工 スパン 番号 | D5: S025 | M5: 写真 番号 | N5: 覆工 スパン 番号 | O5: S025
C7: 変状 番号 | D7: 6 | N7: 変状 番号 | O7: 7
B9: 変状 部位 | C9: 対象 箇所 | D9: 路面 | M9: 変状 部位 | N9: 対象 箇所 | O9: 路面
C11: 部位 区分 | D11: 側溝 | N11: 部位 区分 | O11: 側溝
B13: 変状区分 | D13: 材質劣化 | M13: 変状区分 | O13: 材質劣化
B14: 変状種類 | D14: うき・はく離 | M14: 変状種類 | O14: うき・はく離
B15: 対策 区分 | C15: 応急措置前 | M15: 対策 区分 | N15: 応急措置前
C16: 応急措置後 | E16: － | N16: 応急措置後 | P16: －
B17: 健全性 | D17: － | M17: 健全性 | O17: －
B18: 変状の発生範囲の規模 | E18: 0.4m×0.2m | M18: 変状の発生範囲の規模 | P18: 0.4m×0.7m
B19: 前回定期点検時の状態 | E19: 0.25m×0.1mのはく離 | M19: 前回定期点検時の状態 | P19: 0.2m×0.35mの鉄筋露出
B20: 調査方針 | E20: なし | M20: 調査方針 | P20: なし
B21: 対策履歴 | E21: なし | H21: 実施状況（実施日） | M21: 対策履歴 | P21: なし | S21: 実施状況（実施日）
B22: メモ | D22: 側溝蓋のはく離 | M22: メモ | O22: 側溝蓋のはく離
B23: 写真 番号 | C23: 覆工 スパン 番号 | D23: S026 | M23: 写真 番号 | N23: 覆工 スパン 番号 | O23: S026
C25: 変状 番号 | D25: 1 | N25: 変状 番号 | O25: 2
B27: 変状 部位 | C27: 対象 箇所 | D27: 覆工・坑門 | M27: 変状 部位 | N27: 対象 箇所 | O27: 覆工・坑門
C29: 部位 区分 | D29: 横断目地（左側） | N29: 部位 区分 | O29: 横断目地（右側）
B31: 変状区分 | D31: 材質劣化 | M31: 変状区分 | O31: 材質劣化
B32: 変状種類 | D32: うき・はく離 | M32: 変状種類 | O32: うき・はく離
B33: 対策 区分 | C33: 応急措置前 | M33: 対策 区分 | N33: 応急措置前
C34: 応急措置後 | E34: Ⅱa | N34: 応急措置後 | P34: Ⅱa
B35: 健全性 | D35: Ⅱ | M35: 健全性 | O35: Ⅱ
B36: 変状の発生範囲の規模 | E36: 0.45m×0.05m | M36: 変状の発生範囲の規模 | P36: 0.3m×0.1m
B37: 前回定期点検時の状態 | E37: 0.45m×0.05mのうき | M37: 前回定期点検時の状態 | P37: 0.3m×0.1mのうき
B38: 調査方針 | E38: なし | M38: 調査方針 | P38: なし
B39: 対策履歴 | E39: なし | H39: 実施状況（実施日） | M39: 対策履歴 | P39: なし | S39: 実施状況（実施日）
B40: メモ | D40: 目地付近のうき | M40: メモ | O40: 目地付近のうき
C41: ※ 健全性の判定区分Ⅱ～Ⅳについて添付すること。また、点検前に実施 された措置によりⅠと判定された箇所も添付すること。 | N41: ※ 変状の発生範囲の規模とは、対策を行う際に参考となる変状の長さや面積をいう。
N42: ※ 応急措置を実施しないで判定した変状の対策区分は、対策区分の応急措置後の欄に記入すること。
C43: ※ たたき落としを実施した場合は、実施後の写真を添付すること。 | N43: ※ 変状の発生範囲の規模は、面積・寸法を記載すること。
C44: ※ 画像データは100kb程度とする。 | N44: (ひび割れ幅のみmmとし、その他をm表記とする)
C45: ※ 変状数に準じてシートを追加すること。（１シートに１ページとすること。） | N45: ※ 構造用鋼材以外の異物に伴ううき・はく離については、メモ欄に異物の概要を記入すること。

Sheet 様式D-1-1 (34)
E1: 1
B2: ■定期点検記録様式 変状写真台帳（トンネル本体工） 【様式D-1-1】
B3: フリガナ | D3: オオガサコ | H3: 路 線 名 | J3: 一般国道316号 | M3: 定期点検業者 | P3: 株式会社オリエンタルコンサルタンツ | S3: 定期点検年月日 | U3: 45275
B4: 名 称 | D4: 大ヶ迫トンネル | H4: 管理者名 | J4: 長門土木建築事務所 | M4: 定期点検者名 | P4: 妹尾 優大
B5: 写真 番号 | C5: 覆工 スパン 番号 | D5: S026 | M5: 写真 番号 | N5: 覆工 スパン 番号 | O5: S026
C7: 変状 番号 | D7: 3 | N7: 変状 番号 | O7: 4
B9: 変状 部位 | C9: 対象 箇所 | D9: 覆工・坑門 | M9: 変状 部位 | N9: 対象 箇所 | O9: 路面
C11: 部位 区分 | D11: 横断目地（右側） | N11: 部位 区分 | O11: 側溝
B13: 変状区分 | D13: 材質劣化 | M13: 変状区分 | O13: 材質劣化
B14: 変状種類 | D14: うき・はく離 | M14: 変状種類 | O14: うき・はく離
B15: 対策 区分 | C15: 応急措置前 | M15: 対策 区分 | N15: 応急措置前
C16: 応急措置後 | E16: Ⅱa | N16: 応急措置後 | P16: －
B17: 健全性 | D17: Ⅱ | M17: 健全性 | O17: －
B18: 変状の発生範囲の規模 | E18: 0.4m×0.1m | M18: 変状の発生範囲の規模 | P18: 0.2m×0.1m
B19: 前回定期点検時の状態 | E19: 0.4m×0.1mのうき | M19: 前回定期点検時の状態 | P19: 0.25m×0.05mのはく離
B20: 調査方針 | E20: なし | M20: 調査方針 | P20: なし
B21: 対策履歴 | E21: なし | H21: 実施状況（実施日） | M21: 対策履歴 | P21: なし | S21: 実施状況（実施日）
B22: メモ | D22: 目地付近のうき | M22: メモ | O22: 側溝蓋のはく離
B23: 写真 番号 | C23: 覆工 スパン 番号 | D23: S026 | M23: 写真 番号 | N23: 覆工 スパン 番号 | O23: S026
C25: 変状 番号 | D25: 5 | N25: 変状 番号 | O25: 6
B27: 変状 部位 | C27: 対象 箇所 | D27: 路面 | M27: 変状 部位 | N27: 対象 箇所 | O27: 路面
C29: 部位 区分 | D29: 車道 | N29: 部位 区分 | O29: 側溝
B31: 変状区分 | D31: 材質劣化 | M31: 変状区分 | O31: 材質劣化
B32: 変状種類 | D32: うき・はく離 | M32: 変状種類 | O32: うき・はく離
B33: 対策 区分 | C33: 応急措置前 | M33: 対策 区分 | N33: 応急措置前
C34: 応急措置後 | E34: － | N34: 応急措置後 | P34: －
B35: 健全性 | D35: － | M35: 健全性 | O35: －
B36: 変状の発生範囲の規模 | E36: 0.3m×0.2m | M36: 変状の発生範囲の規模 | P36: 0.2m×1.0m
B37: 前回定期点検時の状態 | E37: 0.3m×0.2mのはく離 | M37: 前回定期点検時の状態 | P37: 0.25m×0.3m、0.2m×0.15mの鉄筋露出
B38: 調査方針 | E38: なし | M38: 調査方針 | P38: なし
B39: 対策履歴 | E39: なし | H39: 実施状況（実施日） | M39: 対策履歴 | P39: なし | S39: 実施状況（実施日）
B40: メモ | D40: 舗装のはく離 | M40: メモ | O40: 側溝蓋のはく離
C41: ※ 健全性の判定区分Ⅱ～Ⅳについて添付すること。また、点検前に実施 された措置によりⅠと判定された箇所も添付すること。 | N41: ※ 変状の発生範囲の規模とは、対策を行う際に参考となる変状の長さや面積をいう。
N42: ※ 応急措置を実施しないで判定した変状の対策区分は、対策区分の応急措置後の欄に記入すること。
C43: ※ たたき落としを実施した場合は、実施後の写真を添付すること。 | N43: ※ 変状の発生範囲の規模は、面積・寸法を記載すること。
C44: ※ 画像データは100kb程度とする。 | N44: (ひび割れ幅のみmmとし、その他をm表記とする)
C45: ※ 変状数に準じてシートを追加すること。（１シートに１ページとすること。） | N45: ※ 構造用鋼材以外の異物に伴ううき・はく離については、メモ欄に異物の概要を記入すること。

Sheet 様式D-1-1 (35)
E1: 1
B2: ■定期点検記録様式 変状写真台帳（トンネル本体工） 【様式D-1-1】
B3: フリガナ | D3: オオガサコ | H3: 路 線 名 | J3: 一般国道316号 | M3: 定期点検業者 | P3: 株式会社オリエンタルコンサルタンツ | S3: 定期点検年月日 | U3: 45275
B4: 名 称 | D4: 大ヶ迫トンネル | H4: 管理者名 | J4: 長門土木建築事務所 | M4: 定期点検者名 | P4: 妹尾 優大
B5: 写真 番号 | C5: 覆工 スパン 番号 | D5: S027 | M5: 写真 番号 | N5: 覆工 スパン 番号 | O5: S027
C7: 変状 番号 | D7: 1 | N7: 変状 番号 | O7: 2
B9: 変状 部位 | C9: 対象 箇所 | D9: 覆工・坑門 | M9: 変状 部位 | N9: 対象 箇所 | O9: 路面
C11: 部位 区分 | D11: 横断目地（天端） | N11: 部位 区分 | O11: 車道
B13: 変状区分 | D13: 材質劣化 | M13: 変状区分 | O13: 材質劣化
B14: 変状種類 | D14: うき・はく離 | M14: 変状種類 | O14: うき・はく離
B15: 対策 区分 | C15: 応急措置前 | M15: 対策 区分 | N15: 応急措置前
C16: 応急措置後 | E16: Ⅱa | N16: 応急措置後 | P16: －
B17: 健全性 | D17: Ⅱ | M17: 健全性 | O17: －
B18: 変状の発生範囲の規模 | E18: 2.2m×0.2m | M18: 変状の発生範囲の規模 | P18: 0.3m×0.2m
B19: 前回定期点検時の状態 | E19: 2.2m×0.2mのうき | M19: 前回定期点検時の状態 | P19: 0.3m×0.2mのはく離
B20: 調査方針 | E20: なし | M20: 調査方針 | P20: なし
B21: 対策履歴 | E21: なし | H21: 実施状況（実施日） | M21: 対策履歴 | P21: なし | S21: 実施状況（実施日）
B22: メモ | D22: 目地付近のうき | M22: メモ | O22: 舗装のはく離
B23: 写真 番号 | C23: 覆工 スパン 番号 | D23: S028 | M23: 写真 番号 | N23: 覆工 スパン 番号 | O23: S028
C25: 変状 番号 | D25: 1 | N25: 変状 番号 | O25: 2
B27: 変状 部位 | C27: 対象 箇所 | D27: 覆工・坑門 | M27: 変状 部位 | N27: 対象 箇所 | O27: 路面
C29: 部位 区分 | D29: アーチ（右側） | N29: 部位 区分 | O29: 側溝
B31: 変状区分 | D31: 材質劣化 | M31: 変状区分 | O31: 材質劣化
B32: 変状種類 | D32: 鋼材腐食 | M32: 変状種類 | O32: うき・はく離
B33: 対策 区分 | C33: 応急措置前 | M33: 対策 区分 | N33: 応急措置前
C34: 応急措置後 | E34: Ⅱb | N34: 応急措置後 | P34: －
B35: 健全性 | D35: Ⅱ | M35: 健全性 | O35: －
B36: 変状の発生範囲の規模 | E36: 0.15m×0.15m | M36: 変状の発生範囲の規模 | P36: 0.3m×0.5m
B37: 前回定期点検時の状態 | E37: 0.15m×0.4mの豆板 | M37: 前回定期点検時の状態 | P37: 0.25m×0.45mの鉄筋露出
B38: 調査方針 | E38: なし | M38: 調査方針 | P38: なし
B39: 対策履歴 | E39: なし | H39: 実施状況（実施日） | M39: 対策履歴 | P39: なし | S39: 実施状況（実施日）
B40: メモ | D40: 鉄筋露出 | M40: メモ | O40: 側溝蓋のはく離
C41: ※ 健全性の判定区分Ⅱ～Ⅳについて添付すること。また、点検前に実施 された措置によりⅠと判定された箇所も添付すること。 | N41: ※ 変状の発生範囲の規模とは、対策を行う際に参考となる変状の長さや面積をいう。
N42: ※ 応急措置を実施しないで判定した変状の対策区分は、対策区分の応急措置後の欄に記入すること。
C43: ※ たたき落としを実施した場合は、実施後の写真を添付すること。 | N43: ※ 変状の発生範囲の規模は、面積・寸法を記載すること。
C44: ※ 画像データは100kb程度とする。 | N44: (ひび割れ幅のみmmとし、その他をm表記とする)
C45: ※ 変状数に準じてシートを追加すること。（１シートに１ページとすること。） | N45: ※ 構造用鋼材以外の異物に伴ううき・はく離については、メモ欄に異物の概要を記入すること。

Sheet 様式D-1-1 (36)
E1: 1
B2: ■定期点検記録様式 変状写真台帳（トンネル本体工） 【様式D-1-1】
B3: フリガナ | D3: オオガサコ | H3: 路 線 名 | J3: 一般国道316号 | M3: 定期点検業者 | P3: 株式会社オリエンタルコンサルタンツ | S3: 定期点検年月日 | U3: 45275
B4: 名 称 | D4: 大ヶ迫トンネル | H4: 管理者名 | J4: 長門土木建築事務所 | M4: 定期点検者名 | P4: 妹尾 優大
B5: 写真 番号 | C5: 覆工 スパン 番号 | D5: S028 | M5: 写真 番号 | N5: 覆工 スパン 番号 | O5: S028
C7: 変状 番号 | D7: 3 | N7: 変状 番号 | O7: 4
B9: 変状 部位 | C9: 対象 箇所 | D9: 路面 | M9: 変状 部位 | N9: 対象 箇所 | O9: 路面
C11: 部位 区分 | D11: 車道 | N11: 部位 区分 | O11: 側溝
B13: 変状区分 | D13: 材質劣化 | M13: 変状区分 | O13: 材質劣化
B14: 変状種類 | D14: うき・はく離 | M14: 変状種類 | O14: うき・はく離
B15: 対策 区分 | C15: 応急措置前 | M15: 対策 区分 | N15: 応急措置前
C16: 応急措置後 | E16: － | N16: 応急措置後 | P16: －
B17: 健全性 | D17: － | M17: 健全性 | O17: －
B18: 変状の発生範囲の規模 | E18: 0.6m×0.1m | M18: 変状の発生範囲の規模 | P18: 0.3m×0.1m
B19: 前回定期点検時の状態 | E19: 0.4m×0.05mのうき | M19: 前回定期点検時の状態 | P19: 0.25m×0.1mのはく離
B20: 調査方針 | E20: なし | M20: 調査方針 | P20: なし
B21: 対策履歴 | E21: なし | H21: 実施状況（実施日） | M21: 対策履歴 | P21: なし | S21: 実施状況（実施日）
B22: メモ | D22: 舗装のうき | M22: メモ | O22: 側溝蓋のはく離
B23: 写真 番号 | C23: 覆工 スパン 番号 | D23: S029 | M23: 写真 番号 | N23: 覆工 スパン 番号 | O23: S029
C25: 変状 番号 | D25: 1 | N25: 変状 番号 | O25: 2
B27: 変状 部位 | C27: 対象 箇所 | D27: 覆工・坑門 | M27: 変状 部位 | N27: 対象 箇所 | O27: 路面
C29: 部位 区分 | D29: アーチ（天端） | N29: 部位 区分 | O29: 車道
B31: 変状区分 | D31: 材質劣化 | M31: 変状区分 | O31: 材質劣化
B32: 変状種類 | D32: うき・はく離 | M32: 変状種類 | O32: うき・はく離
B33: 対策 区分 | C33: 応急措置前 | M33: 対策 区分 | N33: 応急措置前
C34: 応急措置後 | E34: Ⅰ | N34: 応急措置後 | P34: －
B35: 健全性 | D35: Ⅰ | M35: 健全性 | O35: －
B36: 変状の発生範囲の規模 | E36: 0.3m×0.2m | M36: 変状の発生範囲の規模 | P36: 0.3m×0.1m
B37: 前回定期点検時の状態 | E37: 0.3m×0.2mのはく落 | M37: 前回定期点検時の状態 | P37: 0.25m×0.1mのはく離
B38: 調査方針 | E38: なし | M38: 調査方針 | P38: なし
B39: 対策履歴 | E39: なし | H39: 実施状況（実施日） | M39: 対策履歴 | P39: なし | S39: 実施状況（実施日）
B40: メモ | D40: はく落 | M40: メモ | O40: 舗装のはく離
C41: ※ 健全性の判定区分Ⅱ～Ⅳについて添付すること。また、点検前に実施 された措置によりⅠと判定された箇所も添付すること。 | N41: ※ 変状の発生範囲の規模とは、対策を行う際に参考となる変状の長さや面積をいう。
N42: ※ 応急措置を実施しないで判定した変状の対策区分は、対策区分の応急措置後の欄に記入すること。
C43: ※ たたき落としを実施した場合は、実施後の写真を添付すること。 | N43: ※ 変状の発生範囲の規模は、面積・寸法を記載すること。
C44: ※ 画像データは100kb程度とする。 | N44: (ひび割れ幅のみmmとし、その他をm表記とする)
C45: ※ 変状数に準じてシートを追加すること。（１シートに１ページとすること。） | N45: ※ 構造用鋼材以外の異物に伴ううき・はく離については、メモ欄に異物の概要を記入すること。

Sheet 様式D-1-1 (37)
E1: 1
B2: ■定期点検記録様式 変状写真台帳（トンネル本体工） 【様式D-1-1】
B3: フリガナ | D3: オオガサコ | H3: 路 線 名 | J3: 一般国道316号 | M3: 定期点検業者 | P3: 株式会社オリエンタルコンサルタンツ | S3: 定期点検年月日 | U3: 45275
B4: 名 称 | D4: 大ヶ迫トンネル | H4: 管理者名 | J4: 長門土木建築事務所 | M4: 定期点検者名 | P4: 妹尾 優大
B5: 写真 番号 | C5: 覆工 スパン 番号 | D5: S030 | M5: 写真 番号 | N5: 覆工 スパン 番号 | O5: S030
C7: 変状 番号 | D7: 1 | N7: 変状 番号 | O7: 2
B9: 変状 部位 | C9: 対象 箇所 | D9: 覆工・坑門 | M9: 変状 部位 | N9: 対象 箇所 | O9: 覆工・坑門
C11: 部位 区分 | D11: 横断目地（左側） | N11: 部位 区分 | O11: アーチ（左側）
B13: 変状区分 | D13: 材質劣化 | M13: 変状区分 | O13: 材質劣化
B14: 変状種類 | D14: うき・はく離 | M14: 変状種類 | O14: うき・はく離
B15: 対策 区分 | C15: 応急措置前 | M15: 対策 区分 | N15: 応急措置前
C16: 応急措置後 | E16: Ⅱa | N16: 応急措置後 | P16: Ⅱb
B17: 健全性 | D17: Ⅱ | M17: 健全性 | O17: Ⅱ
B18: 変状の発生範囲の規模 | E18: 1.1m×0.05m | M18: 変状の発生範囲の規模 | P18: 0.6m×0.35m
B19: 前回定期点検時の状態 | E19: 1.1m×0.05mのうき | M19: 前回定期点検時の状態 | P19: 0.6m×0.35mの閉合ひびわれ(打音異常なし)
B20: 調査方針 | E20: なし | M20: 調査方針 | P20: なし
B21: 対策履歴 | E21: なし | H21: 実施状況（実施日） | M21: 対策履歴 | P21: なし | S21: 実施状況（実施日）
B22: メモ | D22: 目地付近のうき | M22: メモ | O22: 閉合ひびわれ(打音異常なし)
B23: 写真 番号 | C23: 覆工 スパン 番号 | D23: S030 | M23: 写真 番号 | N23: 覆工 スパン 番号 | O23: S030
C25: 変状 番号 | D25: 3 | N25: 変状 番号 | O25: 4
B27: 変状 部位 | C27: 対象 箇所 | D27: 路面 | M27: 変状 部位 | N27: 対象 箇所 | O27: 路面
C29: 部位 区分 | D29: 側溝 | N29: 部位 区分 | O29: 監査歩路
B31: 変状区分 | D31: 材質劣化 | M31: 変状区分 | O31: 材質劣化
B32: 変状種類 | D32: うき・はく離 | M32: 変状種類 | O32: うき・はく離
B33: 対策 区分 | C33: 応急措置前 | M33: 対策 区分 | N33: 応急措置前
C34: 応急措置後 | E34: － | N34: 応急措置後 | P34: －
B35: 健全性 | D35: － | M35: 健全性 | O35: －
B36: 変状の発生範囲の規模 | E36: 0.3m×0.4m | M36: 変状の発生範囲の規模 | P36: 0.1m×0.4m
B37: 前回定期点検時の状態 | E37: - | M37: 前回定期点検時の状態 | P37: 0.1m×0.35mの欠損
B38: 調査方針 | E38: なし | M38: 調査方針 | P38: なし
B39: 対策履歴 | E39: なし | H39: 実施状況（実施日） | M39: 対策履歴 | P39: なし | S39: 実施状況（実施日）
B40: メモ | D40: 側溝蓋のはく離 | M40: メモ | O40: 欠損
C41: ※ 健全性の判定区分Ⅱ～Ⅳについて添付すること。また、点検前に実施 された措置によりⅠと判定された箇所も添付すること。 | N41: ※ 変状の発生範囲の規模とは、対策を行う際に参考となる変状の長さや面積をいう。
N42: ※ 応急措置を実施しないで判定した変状の対策区分は、対策区分の応急措置後の欄に記入すること。
C43: ※ たたき落としを実施した場合は、実施後の写真を添付すること。 | N43: ※ 変状の発生範囲の規模は、面積・寸法を記載すること。
C44: ※ 画像データは100kb程度とする。 | N44: (ひび割れ幅のみmmとし、その他をm表記とする)
C45: ※ 変状数に準じてシートを追加すること。（１シートに１ページとすること。） | N45: ※ 構造用鋼材以外の異物に伴ううき・はく離については、メモ欄に異物の概要を記入すること。

Sheet 様式D-1-1 (38)
E1: 1
B2: ■定期点検記録様式 変状写真台帳（トンネル本体工） 【様式D-1-1】
B3: フリガナ | D3: オオガサコ | H3: 路 線 名 | J3: 一般国道316号 | M3: 定期点検業者 | P3: 株式会社オリエンタルコンサルタンツ | S3: 定期点検年月日 | U3: 45275
B4: 名 称 | D4: 大ヶ迫トンネル | H4: 管理者名 | J4: 長門土木建築事務所 | M4: 定期点検者名 | P4: 妹尾 優大
B5: 写真 番号 | C5: 覆工 スパン 番号 | D5: S030 | M5: 写真 番号 | N5: 覆工 スパン 番号 | O5: S031
C7: 変状 番号 | D7: 5 | N7: 変状 番号 | O7: 1
B9: 変状 部位 | C9: 対象 箇所 | D9: 路面 | M9: 変状 部位 | N9: 対象 箇所 | O9: 覆工・坑門
C11: 部位 区分 | D11: 側溝 | N11: 部位 区分 | O11: アーチ（左側）
B13: 変状区分 | D13: 材質劣化 | M13: 変状区分 | O13: 材質劣化
B14: 変状種類 | D14: うき・はく離 | M14: 変状種類 | O14: ひび割れ
B15: 対策 区分 | C15: 応急措置前 | M15: 対策 区分 | N15: 応急措置前
C16: 応急措置後 | E16: － | N16: 応急措置後 | P16: Ⅱb
B17: 健全性 | D17: － | M17: 健全性 | O17: Ⅱ
B18: 変状の発生範囲の規模 | E18: 0.2m×0.3m | M18: 変状の発生範囲の規模 | P18: 0.4m×0.5m
B19: 前回定期点検時の状態 | E19: 0.15m×0.25mの鉄筋露出 | M19: 前回定期点検時の状態 | P19: 0.4m×0.5mのひび割れ密集(幅0.1～0.5mm)
B20: 調査方針 | E20: なし | M20: 調査方針 | P20: なし
B21: 対策履歴 | E21: なし | H21: 実施状況（実施日） | M21: 対策履歴 | P21: なし | S21: 実施状況（実施日）
B22: メモ | D22: 側溝蓋のはく離 | M22: メモ | O22: ひび割れ密集(幅0.1～0.5mm)
B23: 写真 番号 | C23: 覆工 スパン 番号 | D23: S031 | M23: 写真 番号 | N23: 覆工 スパン 番号 | O23: S031
C25: 変状 番号 | D25: 2 | N25: 変状 番号 | O25: 3
B27: 変状 部位 | C27: 対象 箇所 | D27: 覆工・坑門 | M27: 変状 部位 | N27: 対象 箇所 | O27: 覆工・坑門
C29: 部位 区分 | D29: アーチ（左側） | N29: 部位 区分 | O29: 横断目地（右側）
B31: 変状区分 | D31: 材質劣化 | M31: 変状区分 | O31: 材質劣化
B32: 変状種類 | D32: その他 | M32: 変状種類 | O32: うき・はく離
B33: 対策 区分 | C33: 応急措置前 | M33: 対策 区分 | N33: 応急措置前
C34: 応急措置後 | E34: Ⅱb | N34: 応急措置後 | P34: Ⅰ
B35: 健全性 | D35: Ⅱ | M35: 健全性 | O35: Ⅰ
B36: 変状の発生範囲の規模 | E36: 0.1m×0.2m | M36: 変状の発生範囲の規模 | P36: 0.4m×0.05m
B37: 前回定期点検時の状態 | E37: 0.1m×0.2mの異物混入(木片) | M37: 前回定期点検時の状態 | P37: 0.4m×0.05mのはく落
B38: 調査方針 | E38: なし | M38: 調査方針 | P38: なし
B39: 対策履歴 | E39: なし | H39: 実施状況（実施日） | M39: 対策履歴 | P39: なし | S39: 実施状況（実施日）
B40: メモ | D40: 異物混入(木片) | M40: メモ | O40: はく落
C41: ※ 健全性の判定区分Ⅱ～Ⅳについて添付すること。また、点検前に実施 された措置によりⅠと判定された箇所も添付すること。 | N41: ※ 変状の発生範囲の規模とは、対策を行う際に参考となる変状の長さや面積をいう。
N42: ※ 応急措置を実施しないで判定した変状の対策区分は、対策区分の応急措置後の欄に記入すること。
C43: ※ たたき落としを実施した場合は、実施後の写真を添付すること。 | N43: ※ 変状の発生範囲の規模は、面積・寸法を記載すること。
C44: ※ 画像データは100kb程度とする。 | N44: (ひび割れ幅のみmmとし、その他をm表記とする)
C45: ※ 変状数に準じてシートを追加すること。（１シートに１ページとすること。） | N45: ※ 構造用鋼材以外の異物に伴ううき・はく離については、メモ欄に異物の概要を記入すること。

Sheet 様式D-1-1 (39)
E1: 1
B2: ■定期点検記録様式 変状写真台帳（トンネル本体工） 【様式D-1-1】
B3: フリガナ | D3: オオガサコ | H3: 路 線 名 | J3: 一般国道316号 | M3: 定期点検業者 | P3: 株式会社オリエンタルコンサルタンツ | S3: 定期点検年月日 | U3: 45275
B4: 名 称 | D4: 大ヶ迫トンネル | H4: 管理者名 | J4: 長門土木建築事務所 | M4: 定期点検者名 | P4: 妹尾 優大
B5: 写真 番号 | C5: 覆工 スパン 番号 | D5: S031 | M5: 写真 番号 | N5: 覆工 スパン 番号 | O5: S031
C7: 変状 番号 | D7: 4 | N7: 変状 番号 | O7: 5
B9: 変状 部位 | C9: 対象 箇所 | D9: 路面 | M9: 変状 部位 | N9: 対象 箇所 | O9: 路面
C11: 部位 区分 | D11: 側溝 | N11: 部位 区分 | O11: 車道
B13: 変状区分 | D13: 材質劣化 | M13: 変状区分 | O13: 材質劣化
B14: 変状種類 | D14: うき・はく離 | M14: 変状種類 | O14: うき・はく離
B15: 対策 区分 | C15: 応急措置前 | M15: 対策 区分 | N15: 応急措置前
C16: 応急措置後 | E16: － | N16: 応急措置後 | P16: －
B17: 健全性 | D17: － | M17: 健全性 | O17: －
B18: 変状の発生範囲の規模 | E18: 0.2m×0.5m | M18: 変状の発生範囲の規模 | P18: 0.2m×0.3m
B19: 前回定期点検時の状態 | E19: 0.25m×0.45mの鉄筋露出 | M19: 前回定期点検時の状態 | P19: 0.2m×0.3mのうき
B20: 調査方針 | E20: なし | M20: 調査方針 | P20: なし
B21: 対策履歴 | E21: なし | H21: 実施状況（実施日） | M21: 対策履歴 | P21: なし | S21: 実施状況（実施日）
B22: メモ | D22: 側溝蓋のはく離 | M22: メモ | O22: 舗装のはく離
B23: 写真 番号 | C23: 覆工 スパン 番号 | D23: S031 | M23: 写真 番号 | N23: 覆工 スパン 番号 | O23: S031
C25: 変状 番号 | D25: 6 | N25: 変状 番号 | O25: 7
B27: 変状 部位 | C27: 対象 箇所 | D27: 路面 | M27: 変状 部位 | N27: 対象 箇所 | O27: 路面
C29: 部位 区分 | D29: 側溝 | N29: 部位 区分 | O29: 車道
B31: 変状区分 | D31: 材質劣化 | M31: 変状区分 | O31: 材質劣化
B32: 変状種類 | D32: うき・はく離 | M32: 変状種類 | O32: うき・はく離
B33: 対策 区分 | C33: 応急措置前 | M33: 対策 区分 | N33: 応急措置前
C34: 応急措置後 | E34: － | N34: 応急措置後 | P34: －
B35: 健全性 | D35: － | M35: 健全性 | O35: －
B36: 変状の発生範囲の規模 | E36: 0.3m×0.4m | M36: 変状の発生範囲の規模 | P36: 0.3m×0.2m
B37: 前回定期点検時の状態 | E37: 0.3m×0.45mのはく離 | M37: 前回定期点検時の状態 | P37: 0.3m×0.05mのはく離
B38: 調査方針 | E38: なし | M38: 調査方針 | P38: なし
B39: 対策履歴 | E39: なし | H39: 実施状況（実施日） | M39: 対策履歴 | P39: なし | S39: 実施状況（実施日）
B40: メモ | D40: 側溝蓋のはく離 | M40: メモ | O40: 舗装のはく離
C41: ※ 健全性の判定区分Ⅱ～Ⅳについて添付すること。また、点検前に実施 された措置によりⅠと判定された箇所も添付すること。 | N41: ※ 変状の発生範囲の規模とは、対策を行う際に参考となる変状の長さや面積をいう。
N42: ※ 応急措置を実施しないで判定した変状の対策区分は、対策区分の応急措置後の欄に記入すること。
C43: ※ たたき落としを実施した場合は、実施後の写真を添付すること。 | N43: ※ 変状の発生範囲の規模は、面積・寸法を記載すること。
C44: ※ 画像データは100kb程度とする。 | N44: (ひび割れ幅のみmmとし、その他をm表記とする)
C45: ※ 変状数に準じてシートを追加すること。（１シートに１ページとすること。） | N45: ※ 構造用鋼材以外の異物に伴ううき・はく離については、メモ欄に異物の概要を記入すること。

Sheet 様式D-1-1 (40)
E1: 1
B2: ■定期点検記録様式 変状写真台帳（トンネル本体工） 【様式D-1-1】
B3: フリガナ | D3: オオガサコ | H3: 路 線 名 | J3: 一般国道316号 | M3: 定期点検業者 | P3: 株式会社オリエンタルコンサルタンツ | S3: 定期点検年月日 | U3: 45275
B4: 名 称 | D4: 大ヶ迫トンネル | H4: 管理者名 | J4: 長門土木建築事務所 | M4: 定期点検者名 | P4: 妹尾 優大
B5: 写真 番号 | C5: 覆工 スパン 番号 | D5: S031 | M5: 写真 番号 | N5: 覆工 スパン 番号 | O5: S032
C7: 変状 番号 | D7: 8 | N7: 変状 番号 | O7: 1
B9: 変状 部位 | C9: 対象 箇所 | D9: 路面 | M9: 変状 部位 | N9: 対象 箇所 | O9: 覆工・坑門
C11: 部位 区分 | D11: 側溝 | N11: 部位 区分 | O11: アーチ（右側）
B13: 変状区分 | D13: 材質劣化 | M13: 変状区分 | O13: 材質劣化
B14: 変状種類 | D14: うき・はく離 | M14: 変状種類 | O14: その他
B15: 対策 区分 | C15: 応急措置前 | M15: 対策 区分 | N15: 応急措置前
C16: 応急措置後 | E16: － | N16: 応急措置後 | P16: Ⅱa
B17: 健全性 | D17: － | M17: 健全性 | O17: Ⅱ
B18: 変状の発生範囲の規模 | E18: 0.2m×0.4m | M18: 変状の発生範囲の規模 | P18: 0.2m×1.3m
B19: 前回定期点検時の状態 | E19: 0.2m×0.45mの鉄筋露出 | M19: 前回定期点検時の状態 | P19: 0.2m×1.3mの豆板
B20: 調査方針 | E20: なし | M20: 調査方針 | P20: なし
B21: 対策履歴 | E21: なし | H21: 実施状況（実施日） | M21: 対策履歴 | P21: なし | S21: 実施状況（実施日）
B22: メモ | D22: 側溝蓋のはく離 | M22: メモ | O22: 豆板
B23: 写真 番号 | C23: 覆工 スパン 番号 | D23: S032 | M23: 写真 番号 | N23: 覆工 スパン 番号 | O23: S033
C25: 変状 番号 | D25: 2 | N25: 変状 番号 | O25: 1
B27: 変状 部位 | C27: 対象 箇所 | D27: 路面 | M27: 変状 部位 | N27: 対象 箇所 | O27: 路面
C29: 部位 区分 | D29: 側溝 | N29: 部位 区分 | O29: 監査歩路
B31: 変状区分 | D31: 材質劣化 | M31: 変状区分 | O31: 材質劣化
B32: 変状種類 | D32: うき・はく離 | M32: 変状種類 | O32: うき・はく離
B33: 対策 区分 | C33: 応急措置前 | M33: 対策 区分 | N33: 応急措置前
C34: 応急措置後 | E34: － | N34: 応急措置後 | P34: －
B35: 健全性 | D35: － | M35: 健全性 | O35: －
B36: 変状の発生範囲の規模 | E36: 0.4m×0.4m | M36: 変状の発生範囲の規模 | P36: 0.2m×0.3m
B37: 前回定期点検時の状態 | E37: 0.4m×0.3mの鉄筋露出 | M37: 前回定期点検時の状態 | P37: 0.15m×0.2mの欠損
B38: 調査方針 | E38: なし | M38: 調査方針 | P38: なし
B39: 対策履歴 | E39: なし | H39: 実施状況（実施日） | M39: 対策履歴 | P39: なし | S39: 実施状況（実施日）
B40: メモ | D40: 側溝蓋のはく離 | M40: メモ | O40: 欠損
C41: ※ 健全性の判定区分Ⅱ～Ⅳについて添付すること。また、点検前に実施 された措置によりⅠと判定された箇所も添付すること。 | N41: ※ 変状の発生範囲の規模とは、対策を行う際に参考となる変状の長さや面積をいう。
N42: ※ 応急措置を実施しないで判定した変状の対策区分は、対策区分の応急措置後の欄に記入すること。
C43: ※ たたき落としを実施した場合は、実施後の写真を添付すること。 | N43: ※ 変状の発生範囲の規模は、面積・寸法を記載すること。
C44: ※ 画像データは100kb程度とする。 | N44: (ひび割れ幅のみmmとし、その他をm表記とする)
C45: ※ 変状数に準じてシートを追加すること。（１シートに１ページとすること。） | N45: ※ 構造用鋼材以外の異物に伴ううき・はく離については、メモ欄に異物の概要を記入すること。

Sheet 様式D-1-1 (41)
E1: 1
B2: ■定期点検記録様式 変状写真台帳（トンネル本体工） 【様式D-1-1】
B3: フリガナ | D3: オオガサコ | H3: 路 線 名 | J3: 一般国道316号 | M3: 定期点検業者 | P3: 株式会社オリエンタルコンサルタンツ | S3: 定期点検年月日 | U3: 45275
B4: 名 称 | D4: 大ヶ迫トンネル | H4: 管理者名 | J4: 長門土木建築事務所 | M4: 定期点検者名 | P4: 妹尾 優大
B5: 写真 番号 | C5: 覆工 スパン 番号 | D5: S034 | M5: 写真 番号 | N5: 覆工 スパン 番号 | O5: S034
C7: 変状 番号 | D7: 1 | N7: 変状 番号 | O7: 2
B9: 変状 部位 | C9: 対象 箇所 | D9: 覆工・坑門 | M9: 変状 部位 | N9: 対象 箇所 | O9: 覆工・坑門
C11: 部位 区分 | D11: 横断目地（左側） | N11: 部位 区分 | O11: 横断目地（左側）
B13: 変状区分 | D13: 材質劣化 | M13: 変状区分 | O13: 材質劣化
B14: 変状種類 | D14: うき・はく離 | M14: 変状種類 | O14: うき・はく離
B15: 対策 区分 | C15: 応急措置前 | M15: 対策 区分 | N15: 応急措置前
C16: 応急措置後 | E16: Ⅰ | N16: 応急措置後 | P16: Ⅱa
B17: 健全性 | D17: Ⅰ | M17: 健全性 | O17: Ⅱ
B18: 変状の発生範囲の規模 | E18: 0.2m×0.05m | M18: 変状の発生範囲の規模 | P18: 0.9m×0.1m
B19: 前回定期点検時の状態 | E19: 0.2m×0.05mのはく落 | M19: 前回定期点検時の状態 | P19: 0.9m×0.1mのうき
B20: 調査方針 | E20: なし | M20: 調査方針 | P20: なし
B21: 対策履歴 | E21: なし | H21: 実施状況（実施日） | M21: 対策履歴 | P21: なし | S21: 実施状況（実施日）
B22: メモ | D22: はく落 | M22: メモ | O22: 目地付近のうき
B23: 写真 番号 | C23: 覆工 スパン 番号 | D23: S034 | M23: 写真 番号 | N23: 覆工 スパン 番号 | O23: S034
C25: 変状 番号 | D25: 3 | N25: 変状 番号 | O25: 4
B27: 変状 部位 | C27: 対象 箇所 | D27: 覆工・坑門 | M27: 変状 部位 | N27: 対象 箇所 | O27: 路面
C29: 部位 区分 | D29: アーチ（左側） | N29: 部位 区分 | O29: 側溝
B31: 変状区分 | D31: 材質劣化 | M31: 変状区分 | O31: 材質劣化
B32: 変状種類 | D32: その他 | M32: 変状種類 | O32: うき・はく離
B33: 対策 区分 | C33: 応急措置前 | M33: 対策 区分 | N33: 応急措置前
C34: 応急措置後 | E34: Ⅱb | N34: 応急措置後 | P34: －
B35: 健全性 | D35: Ⅱ | M35: 健全性 | O35: －
B36: 変状の発生範囲の規模 | E36: 0.1m×0.2m | M36: 変状の発生範囲の規模 | P36: 0.1m×0.3m
B37: 前回定期点検時の状態 | E37: 0.1m×0.2mの異物混入(木片) | M37: 前回定期点検時の状態 | P37: 0.1m×0.3mのはく離
B38: 調査方針 | E38: なし | M38: 調査方針 | P38: なし
B39: 対策履歴 | E39: なし | H39: 実施状況（実施日） | M39: 対策履歴 | P39: なし | S39: 実施状況（実施日）
B40: メモ | D40: 異物混入(木片) | M40: メモ | O40: 側溝蓋のはく離
C41: ※ 健全性の判定区分Ⅱ～Ⅳについて添付すること。また、点検前に実施 された措置によりⅠと判定された箇所も添付すること。 | N41: ※ 変状の発生範囲の規模とは、対策を行う際に参考となる変状の長さや面積をいう。
N42: ※ 応急措置を実施しないで判定した変状の対策区分は、対策区分の応急措置後の欄に記入すること。
C43: ※ たたき落としを実施した場合は、実施後の写真を添付すること。 | N43: ※ 変状の発生範囲の規模は、面積・寸法を記載すること。
C44: ※ 画像データは100kb程度とする。 | N44: (ひび割れ幅のみmmとし、その他をm表記とする)
C45: ※ 変状数に準じてシートを追加すること。（１シートに１ページとすること。） | N45: ※ 構造用鋼材以外の異物に伴ううき・はく離については、メモ欄に異物の概要を記入すること。

Sheet 様式D-1-1 (42)
E1: 1
B2: ■定期点検記録様式 変状写真台帳（トンネル本体工） 【様式D-1-1】
B3: フリガナ | D3: オオガサコ | H3: 路 線 名 | J3: 一般国道316号 | M3: 定期点検業者 | P3: 株式会社オリエンタルコンサルタンツ | S3: 定期点検年月日 | U3: 45275
B4: 名 称 | D4: 大ヶ迫トンネル | H4: 管理者名 | J4: 長門土木建築事務所 | M4: 定期点検者名 | P4: 妹尾 優大
B5: 写真 番号 | C5: 覆工 スパン 番号 | D5: S034 | M5: 写真 番号 | N5: 覆工 スパン 番号 | O5: S034
C7: 変状 番号 | D7: 5 | N7: 変状 番号 | O7: 6
B9: 変状 部位 | C9: 対象 箇所 | D9: 路面 | M9: 変状 部位 | N9: 対象 箇所 | O9: 路面
C11: 部位 区分 | D11: 側溝 | N11: 部位 区分 | O11: 側溝
B13: 変状区分 | D13: 材質劣化 | M13: 変状区分 | O13: 材質劣化
B14: 変状種類 | D14: うき・はく離 | M14: 変状種類 | O14: うき・はく離
B15: 対策 区分 | C15: 応急措置前 | M15: 対策 区分 | N15: 応急措置前
C16: 応急措置後 | E16: － | N16: 応急措置後 | P16: －
B17: 健全性 | D17: － | M17: 健全性 | O17: －
B18: 変状の発生範囲の規模 | E18: 0.4m×0.5m | M18: 変状の発生範囲の規模 | P18: 0.3m×0.9m
B19: 前回定期点検時の状態 | E19: 0.4m×0.45mの鉄筋露出 | M19: 前回定期点検時の状態 | P19: 0.3m×0.35m、0.3m×0.2mのうき、鉄筋露出
B20: 調査方針 | E20: なし | M20: 調査方針 | P20: なし
B21: 対策履歴 | E21: なし | H21: 実施状況（実施日） | M21: 対策履歴 | P21: なし | S21: 実施状況（実施日）
B22: メモ | D22: 側溝蓋のはく離 | M22: メモ | O22: 側溝蓋のはく離
B23: 写真 番号 | C23: 覆工 スパン 番号 | D23: S035 | M23: 写真 番号 | N23: 覆工 スパン 番号 | O23: S035
C25: 変状 番号 | D25: 1 | N25: 変状 番号 | O25: 2
B27: 変状 部位 | C27: 対象 箇所 | D27: 覆工・坑門 | M27: 変状 部位 | N27: 対象 箇所 | O27: 覆工・坑門
C29: 部位 区分 | D29: アーチ（左側） | N29: 部位 区分 | O29: 横断目地（左側）
B31: 変状区分 | D31: 材質劣化 | M31: 変状区分 | O31: 材質劣化
B32: 変状種類 | D32: その他 | M32: 変状種類 | O32: うき・はく離
B33: 対策 区分 | C33: 応急措置前 | M33: 対策 区分 | N33: 応急措置前
C34: 応急措置後 | E34: Ⅱb | N34: 応急措置後 | P34: Ⅰ
B35: 健全性 | D35: Ⅱ | M35: 健全性 | O35: Ⅰ
B36: 変状の発生範囲の規模 | E36: 0.1m×0.1m | M36: 変状の発生範囲の規模 | P36: 0.3m×0.15m
B37: 前回定期点検時の状態 | E37: 0.1m×0.1mの異物混入(木片) | M37: 前回定期点検時の状態 | P37: 0.3m×0.15mのはく落
B38: 調査方針 | E38: なし | M38: 調査方針 | P38: なし
B39: 対策履歴 | E39: なし | H39: 実施状況（実施日） | M39: 対策履歴 | P39: なし | S39: 実施状況（実施日）
B40: メモ | D40: 異物混入(木片) | M40: メモ | O40: はく落
C41: ※ 健全性の判定区分Ⅱ～Ⅳについて添付すること。また、点検前に実施 された措置によりⅠと判定された箇所も添付すること。 | N41: ※ 変状の発生範囲の規模とは、対策を行う際に参考となる変状の長さや面積をいう。
N42: ※ 応急措置を実施しないで判定した変状の対策区分は、対策区分の応急措置後の欄に記入すること。
C43: ※ たたき落としを実施した場合は、実施後の写真を添付すること。 | N43: ※ 変状の発生範囲の規模は、面積・寸法を記載すること。
C44: ※ 画像データは100kb程度とする。 | N44: (ひび割れ幅のみmmとし、その他をm表記とする)
C45: ※ 変状数に準じてシートを追加すること。（１シートに１ページとすること。） | N45: ※ 構造用鋼材以外の異物に伴ううき・はく離については、メモ欄に異物の概要を記入すること。

Sheet 様式D-1-1 (43)
E1: 1
B2: ■定期点検記録様式 変状写真台帳（トンネル本体工） 【様式D-1-1】
B3: フリガナ | D3: オオガサコ | H3: 路 線 名 | J3: 一般国道316号 | M3: 定期点検業者 | P3: 株式会社オリエンタルコンサルタンツ | S3: 定期点検年月日 | U3: 45275
B4: 名 称 | D4: 大ヶ迫トンネル | H4: 管理者名 | J4: 長門土木建築事務所 | M4: 定期点検者名 | P4: 妹尾 優大
B5: 写真 番号 | C5: 覆工 スパン 番号 | D5: S035 | M5: 写真 番号 | N5: 覆工 スパン 番号 | O5: S035
C7: 変状 番号 | D7: 3 | N7: 変状 番号 | O7: 4
B9: 変状 部位 | C9: 対象 箇所 | D9: 覆工・坑門 | M9: 変状 部位 | N9: 対象 箇所 | O9: 覆工・坑門
C11: 部位 区分 | D11: 横断目地（左側） | N11: 部位 区分 | O11: 横断目地（左側）
B13: 変状区分 | D13: 材質劣化 | M13: 変状区分 | O13: 漏水
B14: 変状種類 | D14: うき・はく離 | M14: 変状種類 | O14: 漏水
B15: 対策 区分 | C15: 応急措置前 | M15: 対策 区分 | N15: 応急措置前
C16: 応急措置後 | E16: Ⅲ | N16: 応急措置後 | P16: Ⅱb
B17: 健全性 | D17: Ⅲ | M17: 健全性 | O17: Ⅱ
B18: 変状の発生範囲の規模 | E18: 0.2m×0.1m | M18: 変状の発生範囲の規模 | P18: 5.5m×0.5m
B19: 前回定期点検時の状態 | E19: 0.2m×0.1mのうき | M19: 前回定期点検時の状態 | P19: 漏水、にじみ
B20: 調査方針 | E20: なし | M20: 調査方針 | P20: なし
B21: 対策履歴 | E21: なし | H21: 実施状況（実施日） | M21: 対策履歴 | P21: なし | S21: 実施状況（実施日）
B22: メモ | D22: 目地付近のうき | M22: メモ | O22: 導水工からの漏水、にじみ
B23: 写真 番号 | C23: 覆工 スパン 番号 | D23: S035 | M23: 写真 番号 | N23: 覆工 スパン 番号 | O23: S035
C25: 変状 番号 | D25: 5 | N25: 変状 番号 | O25: 6
B27: 変状 部位 | C27: 対象 箇所 | D27: 覆工・坑門 | M27: 変状 部位 | N27: 対象 箇所 | O27: 覆工・坑門
C29: 部位 区分 | D29: アーチ（右側） | N29: 部位 区分 | O29: アーチ（右側）
B31: 変状区分 | D31: 材質劣化 | M31: 変状区分 | O31: 材質劣化
B32: 変状種類 | D32: うき・はく離 | M32: 変状種類 | O32: うき・はく離
B33: 対策 区分 | C33: 応急措置前 | M33: 対策 区分 | N33: 応急措置前
C34: 応急措置後 | E34: Ⅰ | N34: 応急措置後 | P34: Ⅲ
B35: 健全性 | D35: Ⅰ | M35: 健全性 | O35: Ⅲ
B36: 変状の発生範囲の規模 | E36: 0.1m×2.3m | M36: 変状の発生範囲の規模 | P36: 0.1m×1.9m
B37: 前回定期点検時の状態 | E37: 0.1m×2.3mのはく落 | M37: 前回定期点検時の状態 | P37: 0.1m×1.9mのうき
B38: 調査方針 | E38: なし | M38: 調査方針 | P38: なし
B39: 対策履歴 | E39: なし | H39: 実施状況（実施日） | M39: 対策履歴 | P39: なし | S39: 実施状況（実施日）
B40: メモ | D40: はく落 | M40: メモ | O40: 補修跡のうき
C41: ※ 健全性の判定区分Ⅱ～Ⅳについて添付すること。また、点検前に実施 された措置によりⅠと判定された箇所も添付すること。 | N41: ※ 変状の発生範囲の規模とは、対策を行う際に参考となる変状の長さや面積をいう。
N42: ※ 応急措置を実施しないで判定した変状の対策区分は、対策区分の応急措置後の欄に記入すること。
C43: ※ たたき落としを実施した場合は、実施後の写真を添付すること。 | N43: ※ 変状の発生範囲の規模は、面積・寸法を記載すること。
C44: ※ 画像データは100kb程度とする。 | N44: (ひび割れ幅のみmmとし、その他をm表記とする)
C45: ※ 変状数に準じてシートを追加すること。（１シートに１ページとすること。） | N45: ※ 構造用鋼材以外の異物に伴ううき・はく離については、メモ欄に異物の概要を記入すること。

Sheet 様式D-1-1 (44)
E1: 1
B2: ■定期点検記録様式 変状写真台帳（トンネル本体工） 【様式D-1-1】
B3: フリガナ | D3: オオガサコ | H3: 路 線 名 | J3: 一般国道316号 | M3: 定期点検業者 | P3: 株式会社オリエンタルコンサルタンツ | S3: 定期点検年月日 | U3: 45275
B4: 名 称 | D4: 大ヶ迫トンネル | H4: 管理者名 | J4: 長門土木建築事務所 | M4: 定期点検者名 | P4: 妹尾 優大
B5: 写真 番号 | C5: 覆工 スパン 番号 | D5: S035 | M5: 写真 番号 | N5: 覆工 スパン 番号 | O5: S035
C7: 変状 番号 | D7: 7 | N7: 変状 番号 | O7: 8
B9: 変状 部位 | C9: 対象 箇所 | D9: 覆工・坑門 | M9: 変状 部位 | N9: 対象 箇所 | O9: 路面
C11: 部位 区分 | D11: アーチ（右側） | N11: 部位 区分 | O11: 側溝
B13: 変状区分 | D13: 漏水 | M13: 変状区分 | O13: 材質劣化
B14: 変状種類 | D14: 漏水 | M14: 変状種類 | O14: うき・はく離
B15: 対策 区分 | C15: 応急措置前 | M15: 対策 区分 | N15: 応急措置前
C16: 応急措置後 | E16: Ⅰ | N16: 応急措置後 | P16: －
B17: 健全性 | D17: Ⅰ | M17: 健全性 | O17: －
B18: 変状の発生範囲の規模 | E18: - | M18: 変状の発生範囲の規模 | P18: 0.2m×0.3m
B19: 前回定期点検時の状態 | E19: 漏水、にじみ | M19: 前回定期点検時の状態 | P19: 0.2m×0.35mのはく離
B20: 調査方針 | E20: なし | M20: 調査方針 | P20: なし
B21: 対策履歴 | E21: なし | H21: 実施状況（実施日） | M21: 対策履歴 | P21: なし | S21: 実施状況（実施日）
B22: メモ | D22: 漏水跡 | M22: メモ | O22: 側溝蓋のはく離
B23: 写真 番号 | C23: 覆工 スパン 番号 | D23: S035 | M23: 写真 番号 | N23: 覆工 スパン 番号 | O23: S036
C25: 変状 番号 | D25: 9 | N25: 変状 番号 | O25: 1
B27: 変状 部位 | C27: 対象 箇所 | D27: 路面 | M27: 変状 部位 | N27: 対象 箇所 | O27: 覆工・坑門
C29: 部位 区分 | D29: 車道 | N29: 部位 区分 | O29: 横断目地（左側）
B31: 変状区分 | D31: 材質劣化 | M31: 変状区分 | O31: 材質劣化
B32: 変状種類 | D32: うき・はく離 | M32: 変状種類 | O32: うき・はく離
B33: 対策 区分 | C33: 応急措置前 | M33: 対策 区分 | N33: 応急措置前
C34: 応急措置後 | E34: － | N34: 応急措置後 | P34: Ⅲ
B35: 健全性 | D35: － | M35: 健全性 | O35: Ⅲ
B36: 変状の発生範囲の規模 | E36: 0.5m×0.1m | M36: 変状の発生範囲の規模 | P36: 0.3m×0.1m
B37: 前回定期点検時の状態 | E37: 0.5m×0.05mのうき | M37: 前回定期点検時の状態 | P37: 0.3m×0.1mのうき
B38: 調査方針 | E38: なし | M38: 調査方針 | P38: なし
B39: 対策履歴 | E39: なし | H39: 実施状況（実施日） | M39: 対策履歴 | P39: なし | S39: 実施状況（実施日）
B40: メモ | D40: 舗装のうき | M40: メモ | O40: 目地付近のうき
C41: ※ 健全性の判定区分Ⅱ～Ⅳについて添付すること。また、点検前に実施 された措置によりⅠと判定された箇所も添付すること。 | N41: ※ 変状の発生範囲の規模とは、対策を行う際に参考となる変状の長さや面積をいう。
N42: ※ 応急措置を実施しないで判定した変状の対策区分は、対策区分の応急措置後の欄に記入すること。
C43: ※ たたき落としを実施した場合は、実施後の写真を添付すること。 | N43: ※ 変状の発生範囲の規模は、面積・寸法を記載すること。
C44: ※ 画像データは100kb程度とする。 | N44: (ひび割れ幅のみmmとし、その他をm表記とする)
C45: ※ 変状数に準じてシートを追加すること。（１シートに１ページとすること。） | N45: ※ 構造用鋼材以外の異物に伴ううき・はく離については、メモ欄に異物の概要を記入すること。

Sheet 様式D-1-1 (45)
E1: 1
B2: ■定期点検記録様式 変状写真台帳（トンネル本体工） 【様式D-1-1】
B3: フリガナ | D3: オオガサコ | H3: 路 線 名 | J3: 一般国道316号 | M3: 定期点検業者 | P3: 株式会社オリエンタルコンサルタンツ | S3: 定期点検年月日 | U3: 45275
B4: 名 称 | D4: 大ヶ迫トンネル | H4: 管理者名 | J4: 長門土木建築事務所 | M4: 定期点検者名 | P4: 妹尾 優大
B5: 写真 番号 | C5: 覆工 スパン 番号 | D5: S036 | M5: 写真 番号 | N5: 覆工 スパン 番号 | O5: S036
C7: 変状 番号 | D7: 2 | N7: 変状 番号 | O7: 3
B9: 変状 部位 | C9: 対象 箇所 | D9: 覆工・坑門 | M9: 変状 部位 | N9: 対象 箇所 | O9: 覆工・坑門
C11: 部位 区分 | D11: アーチ（左側） | N11: 部位 区分 | O11: アーチ（左側）
B13: 変状区分 | D13: 漏水 | M13: 変状区分 | O13: 材質劣化
B14: 変状種類 | D14: 漏水 | M14: 変状種類 | O14: 鋼材腐食
B15: 対策 区分 | C15: 応急措置前 | M15: 対策 区分 | N15: 応急措置前
C16: 応急措置後 | E16: Ⅱb | N16: 応急措置後 | P16: Ⅱb
B17: 健全性 | D17: Ⅱ | M17: 健全性 | O17: Ⅱ
B18: 変状の発生範囲の規模 | E18: 7.0m×0.5m | M18: 変状の発生範囲の規模 | P18: 0.1m×0.25m
B19: 前回定期点検時の状態 | E19: 漏水、にじみ | M19: 前回定期点検時の状態 | P19: 0.1m×0.25mの鉄筋露出
B20: 調査方針 | E20: なし | M20: 調査方針 | P20: なし
B21: 対策履歴 | E21: なし | H21: 実施状況（実施日） | M21: 対策履歴 | P21: なし | S21: 実施状況（実施日）
B22: メモ | D22: 導水工からの漏水、にじみ | M22: メモ | O22: 鉄筋露出
B23: 写真 番号 | C23: 覆工 スパン 番号 | D23: S036 | M23: 写真 番号 | N23: 覆工 スパン 番号 | O23: S036
C25: 変状 番号 | D25: 4 | N25: 変状 番号 | O25: 5
B27: 変状 部位 | C27: 対象 箇所 | D27: 覆工・坑門 | M27: 変状 部位 | N27: 対象 箇所 | O27: 覆工・坑門
C29: 部位 区分 | D29: 横断目地（左側） | N29: 部位 区分 | O29: 横断目地（右側）
B31: 変状区分 | D31: 材質劣化 | M31: 変状区分 | O31: 材質劣化
B32: 変状種類 | D32: うき・はく離 | M32: 変状種類 | O32: うき・はく離
B33: 対策 区分 | C33: 応急措置前 | M33: 対策 区分 | N33: 応急措置前
C34: 応急措置後 | E34: Ⅱa | N34: 応急措置後 | P34: Ⅱa
B35: 健全性 | D35: Ⅱ | M35: 健全性 | O35: Ⅱ
B36: 変状の発生範囲の規模 | E36: 0.15m×0.05m | M36: 変状の発生範囲の規模 | P36: 0.7m×0.1m
B37: 前回定期点検時の状態 | E37: 0.15m×0.05mのうき | M37: 前回定期点検時の状態 | P37: 0.7m×0.1mのうき
B38: 調査方針 | E38: なし | M38: 調査方針 | P38: なし
B39: 対策履歴 | E39: なし | H39: 実施状況（実施日） | M39: 対策履歴 | P39: なし | S39: 実施状況（実施日）
B40: メモ | D40: 目地付近のうき | M40: メモ | O40: 目地付近のうき
C41: ※ 健全性の判定区分Ⅱ～Ⅳについて添付すること。また、点検前に実施 された措置によりⅠと判定された箇所も添付すること。 | N41: ※ 変状の発生範囲の規模とは、対策を行う際に参考となる変状の長さや面積をいう。
N42: ※ 応急措置を実施しないで判定した変状の対策区分は、対策区分の応急措置後の欄に記入すること。
C43: ※ たたき落としを実施した場合は、実施後の写真を添付すること。 | N43: ※ 変状の発生範囲の規模は、面積・寸法を記載すること。
C44: ※ 画像データは100kb程度とする。 | N44: (ひび割れ幅のみmmとし、その他をm表記とする)
C45: ※ 変状数に準じてシートを追加すること。（１シートに１ページとすること。） | N45: ※ 構造用鋼材以外の異物に伴ううき・はく離については、メモ欄に異物の概要を記入すること。

Sheet 様式D-1-1 (46)
E1: 1
B2: ■定期点検記録様式 変状写真台帳（トンネル本体工） 【様式D-1-1】
B3: フリガナ | D3: オオガサコ | H3: 路 線 名 | J3: 一般国道316号 | M3: 定期点検業者 | P3: 株式会社オリエンタルコンサルタンツ | S3: 定期点検年月日 | U3: 45275
B4: 名 称 | D4: 大ヶ迫トンネル | H4: 管理者名 | J4: 長門土木建築事務所 | M4: 定期点検者名 | P4: 妹尾 優大
B5: 写真 番号 | C5: 覆工 スパン 番号 | D5: S036 | M5: 写真 番号 | N5: 覆工 スパン 番号 | O5: S036
C7: 変状 番号 | D7: 6 | N7: 変状 番号 | O7: 7
B9: 変状 部位 | C9: 対象 箇所 | D9: 覆工・坑門 | M9: 変状 部位 | N9: 対象 箇所 | O9: 路面
C11: 部位 区分 | D11: アーチ（天端） | N11: 部位 区分 | O11: 側溝
B13: 変状区分 | D13: 材質劣化 | M13: 変状区分 | O13: 材質劣化
B14: 変状種類 | D14: その他 | M14: 変状種類 | O14: うき・はく離
B15: 対策 区分 | C15: 応急措置前 | M15: 対策 区分 | N15: 応急措置前
C16: 応急措置後 | E16: Ⅱa | N16: 応急措置後 | P16: －
B17: 健全性 | D17: Ⅱ | M17: 健全性 | O17: －
B18: 変状の発生範囲の規模 | E18: 1.8m×1.5m | M18: 変状の発生範囲の規模 | P18: 0.4m×1.0m
B19: 前回定期点検時の状態 | E19: 1.8m×1.5mの豆板 | M19: 前回定期点検時の状態 | P19: 0.25m×0.2m、0.2m×0.3mのはく離
B20: 調査方針 | E20: なし | M20: 調査方針 | P20: なし
B21: 対策履歴 | E21: なし | H21: 実施状況（実施日） | M21: 対策履歴 | P21: なし | S21: 実施状況（実施日）
B22: メモ | D22: 豆板 | M22: メモ | O22: 側溝蓋のはく離
B23: 写真 番号 | C23: 覆工 スパン 番号 | D23: S036 | M23: 写真 番号 | N23: 覆工 スパン 番号 | O23: S036
C25: 変状 番号 | D25: 8 | N25: 変状 番号 | O25: 9
B27: 変状 部位 | C27: 対象 箇所 | D27: 路面 | M27: 変状 部位 | N27: 対象 箇所 | O27: 路面
C29: 部位 区分 | D29: 車道 | N29: 部位 区分 | O29: 車道
B31: 変状区分 | D31: 材質劣化 | M31: 変状区分 | O31: 材質劣化
B32: 変状種類 | D32: うき・はく離 | M32: 変状種類 | O32: うき・はく離
B33: 対策 区分 | C33: 応急措置前 | M33: 対策 区分 | N33: 応急措置前
C34: 応急措置後 | E34: － | N34: 応急措置後 | P34: －
B35: 健全性 | D35: － | M35: 健全性 | O35: －
B36: 変状の発生範囲の規模 | E36: 0.3m×0.3m | M36: 変状の発生範囲の規模 | P36: 0.6m×0.2m
B37: 前回定期点検時の状態 | E37: 0.25m×0.35mのうき | M37: 前回定期点検時の状態 | P37: 0.65m×0.15mのうき
B38: 調査方針 | E38: なし | M38: 調査方針 | P38: なし
B39: 対策履歴 | E39: なし | H39: 実施状況（実施日） | M39: 対策履歴 | P39: なし | S39: 実施状況（実施日）
B40: メモ | D40: 舗装のはく離 | M40: メモ | O40: 舗装のうき
C41: ※ 健全性の判定区分Ⅱ～Ⅳについて添付すること。また、点検前に実施 された措置によりⅠと判定された箇所も添付すること。 | N41: ※ 変状の発生範囲の規模とは、対策を行う際に参考となる変状の長さや面積をいう。
N42: ※ 応急措置を実施しないで判定した変状の対策区分は、対策区分の応急措置後の欄に記入すること。
C43: ※ たたき落としを実施した場合は、実施後の写真を添付すること。 | N43: ※ 変状の発生範囲の規模は、面積・寸法を記載すること。
C44: ※ 画像データは100kb程度とする。 | N44: (ひび割れ幅のみmmとし、その他をm表記とする)
C45: ※ 変状数に準じてシートを追加すること。（１シートに１ページとすること。） | N45: ※ 構造用鋼材以外の異物に伴ううき・はく離については、メモ欄に異物の概要を記入すること。

Sheet 様式D-1-1 (47)
E1: 1
B2: ■定期点検記録様式 変状写真台帳（トンネル本体工） 【様式D-1-1】
B3: フリガナ | D3: オオガサコ | H3: 路 線 名 | J3: 一般国道316号 | M3: 定期点検業者 | P3: 株式会社オリエンタルコンサルタンツ | S3: 定期点検年月日 | U3: 45275
B4: 名 称 | D4: 大ヶ迫トンネル | H4: 管理者名 | J4: 長門土木建築事務所 | M4: 定期点検者名 | P4: 妹尾 優大
B5: 写真 番号 | C5: 覆工 スパン 番号 | D5: S036 | M5: 写真 番号 | N5: 覆工 スパン 番号 | O5: S037
C7: 変状 番号 | D7: 10 | N7: 変状 番号 | O7: 1
B9: 変状 部位 | C9: 対象 箇所 | D9: 路面 | M9: 変状 部位 | N9: 対象 箇所 | O9: 路面
C11: 部位 区分 | D11: 側溝 | N11: 部位 区分 | O11: 側溝
B13: 変状区分 | D13: 材質劣化 | M13: 変状区分 | O13: 材質劣化
B14: 変状種類 | D14: うき・はく離 | M14: 変状種類 | O14: うき・はく離
B15: 対策 区分 | C15: 応急措置前 | M15: 対策 区分 | N15: 応急措置前
C16: 応急措置後 | E16: － | N16: 応急措置後 | P16: －
B17: 健全性 | D17: － | M17: 健全性 | O17: －
B18: 変状の発生範囲の規模 | E18: 0.4m×0.5m | M18: 変状の発生範囲の規模 | P18: 0.3m×0.7m
B19: 前回定期点検時の状態 | E19: 0.4m×0.4mの鉄筋露出 | M19: 前回定期点検時の状態 | P19: 0.3m×0.2mのはく離
B20: 調査方針 | E20: なし | M20: 調査方針 | P20: なし
B21: 対策履歴 | E21: なし | H21: 実施状況（実施日） | M21: 対策履歴 | P21: なし | S21: 実施状況（実施日）
B22: メモ | D22: 側溝蓋のはく離 | M22: メモ | O22: 側溝蓋のはく離
B23: 写真 番号 | C23: 覆工 スパン 番号 | D23: S037 | M23: 写真 番号 | N23: 覆工 スパン 番号 | O23: S038
C25: 変状 番号 | D25: 2 | N25: 変状 番号 | O25: 1
B27: 変状 部位 | C27: 対象 箇所 | D27: 路面 | M27: 変状 部位 | N27: 対象 箇所 | O27: 覆工・坑門
C29: 部位 区分 | D29: 側溝 | N29: 部位 区分 | O29: 横断目地（右側）
B31: 変状区分 | D31: 材質劣化 | M31: 変状区分 | O31: 漏水
B32: 変状種類 | D32: うき・はく離 | M32: 変状種類 | O32: 漏水
B33: 対策 区分 | C33: 応急措置前 | M33: 対策 区分 | N33: 応急措置前
C34: 応急措置後 | E34: － | N34: 応急措置後 | P34: Ⅰ
B35: 健全性 | D35: － | M35: 健全性 | O35: Ⅰ
B36: 変状の発生範囲の規模 | E36: 0.4m×1.1m | M36: 変状の発生範囲の規模 | P36: -
B37: 前回定期点検時の状態 | E37: 0.3m×0.4mのはく離 | M37: 前回定期点検時の状態 | P37: 漏水、にじみ
B38: 調査方針 | E38: なし | M38: 調査方針 | P38: なし
B39: 対策履歴 | E39: なし | H39: 実施状況（実施日） | M39: 対策履歴 | P39: なし | S39: 実施状況（実施日）
B40: メモ | D40: 側溝蓋のはく離 | M40: メモ | O40: 漏水跡
C41: ※ 健全性の判定区分Ⅱ～Ⅳについて添付すること。また、点検前に実施 された措置によりⅠと判定された箇所も添付すること。 | N41: ※ 変状の発生範囲の規模とは、対策を行う際に参考となる変状の長さや面積をいう。
N42: ※ 応急措置を実施しないで判定した変状の対策区分は、対策区分の応急措置後の欄に記入すること。
C43: ※ たたき落としを実施した場合は、実施後の写真を添付すること。 | N43: ※ 変状の発生範囲の規模は、面積・寸法を記載すること。
C44: ※ 画像データは100kb程度とする。 | N44: (ひび割れ幅のみmmとし、その他をm表記とする)
C45: ※ 変状数に準じてシートを追加すること。（１シートに１ページとすること。） | N45: ※ 構造用鋼材以外の異物に伴ううき・はく離については、メモ欄に異物の概要を記入すること。

Sheet 様式D-1-1 (48)
E1: 1
B2: ■定期点検記録様式 変状写真台帳（トンネル本体工） 【様式D-1-1】
B3: フリガナ | D3: オオガサコ | H3: 路 線 名 | J3: 一般国道316号 | M3: 定期点検業者 | P3: 株式会社オリエンタルコンサルタンツ | S3: 定期点検年月日 | U3: 45275
B4: 名 称 | D4: 大ヶ迫トンネル | H4: 管理者名 | J4: 長門土木建築事務所 | M4: 定期点検者名 | P4: 妹尾 優大
B5: 写真 番号 | C5: 覆工 スパン 番号 | D5: S038 | M5: 写真 番号 | N5: 覆工 スパン 番号 | O5: S039
C7: 変状 番号 | D7: 2 | N7: 変状 番号 | O7: 1
B9: 変状 部位 | C9: 対象 箇所 | D9: 路面 | M9: 変状 部位 | N9: 対象 箇所 | O9: 覆工・坑門
C11: 部位 区分 | D11: 側溝 | N11: 部位 区分 | O11: 横断目地（左側）
B13: 変状区分 | D13: 材質劣化 | M13: 変状区分 | O13: 材質劣化
B14: 変状種類 | D14: うき・はく離 | M14: 変状種類 | O14: うき・はく離
B15: 対策 区分 | C15: 応急措置前 | M15: 対策 区分 | N15: 応急措置前
C16: 応急措置後 | E16: － | N16: 応急措置後 | P16: Ⅰ
B17: 健全性 | D17: － | M17: 健全性 | O17: Ⅰ
B18: 変状の発生範囲の規模 | E18: 0.3m×0.3m | M18: 変状の発生範囲の規模 | P18: 0.15m×0.05m
B19: 前回定期点検時の状態 | E19: 0.25m×0.3mの鉄筋露出 | M19: 前回定期点検時の状態 | P19: 0.15m×0.05mのはく落
B20: 調査方針 | E20: なし | M20: 調査方針 | P20: なし
B21: 対策履歴 | E21: なし | H21: 実施状況（実施日） | M21: 対策履歴 | P21: なし | S21: 実施状況（実施日）
B22: メモ | D22: 側溝蓋のはく離 | M22: メモ | O22: はく落
B23: 写真 番号 | C23: 覆工 スパン 番号 | D23: S039 | M23: 写真 番号 | N23: 覆工 スパン 番号 | O23: S039
C25: 変状 番号 | D25: 2 | N25: 変状 番号 | O25: 3
B27: 変状 部位 | C27: 対象 箇所 | D27: 覆工・坑門 | M27: 変状 部位 | N27: 対象 箇所 | O27: 路面
C29: 部位 区分 | D29: アーチ（天端） | N29: 部位 区分 | O29: 側溝
B31: 変状区分 | D31: 材質劣化 | M31: 変状区分 | O31: 材質劣化
B32: 変状種類 | D32: ひび割れ | M32: 変状種類 | O32: うき・はく離
B33: 対策 区分 | C33: 応急措置前 | M33: 対策 区分 | N33: 応急措置前
C34: 応急措置後 | E34: Ⅱb | N34: 応急措置後 | P34: －
B35: 健全性 | D35: Ⅱ | M35: 健全性 | O35: －
B36: 変状の発生範囲の規模 | E36: 0.35m×0.35m | M36: 変状の発生範囲の規模 | P36: 0.2m×0.4m
B37: 前回定期点検時の状態 | E37: 0.35m×0.35mのひび割れ密集(幅0.3～1.0mm) | M37: 前回定期点検時の状態 | P37: 0.2m×0.4mの鉄筋露出
B38: 調査方針 | E38: なし | M38: 調査方針 | P38: なし
B39: 対策履歴 | E39: なし | H39: 実施状況（実施日） | M39: 対策履歴 | P39: なし | S39: 実施状況（実施日）
B40: メモ | D40: ひび割れ密集(幅0.3～1.0mm) | M40: メモ | O40: 側溝蓋のはく離
C41: ※ 健全性の判定区分Ⅱ～Ⅳについて添付すること。また、点検前に実施 された措置によりⅠと判定された箇所も添付すること。 | N41: ※ 変状の発生範囲の規模とは、対策を行う際に参考となる変状の長さや面積をいう。
N42: ※ 応急措置を実施しないで判定した変状の対策区分は、対策区分の応急措置後の欄に記入すること。
C43: ※ たたき落としを実施した場合は、実施後の写真を添付すること。 | N43: ※ 変状の発生範囲の規模は、面積・寸法を記載すること。
C44: ※ 画像データは100kb程度とする。 | N44: (ひび割れ幅のみmmとし、その他をm表記とする)
C45: ※ 変状数に準じてシートを追加すること。（１シートに１ページとすること。） | N45: ※ 構造用鋼材以外の異物に伴ううき・はく離については、メモ欄に異物の概要を記入すること。

Sheet 様式D-1-1 (49)
E1: 1
B2: ■定期点検記録様式 変状写真台帳（トンネル本体工） 【様式D-1-1】
B3: フリガナ | D3: オオガサコ | H3: 路 線 名 | J3: 一般国道316号 | M3: 定期点検業者 | P3: 株式会社オリエンタルコンサルタンツ | S3: 定期点検年月日 | U3: 45275
B4: 名 称 | D4: 大ヶ迫トンネル | H4: 管理者名 | J4: 長門土木建築事務所 | M4: 定期点検者名 | P4: 妹尾 優大
B5: 写真 番号 | C5: 覆工 スパン 番号 | D5: S039 | M5: 写真 番号 | N5: 覆工 スパン 番号 | O5: S040
C7: 変状 番号 | D7: 4 | N7: 変状 番号 | O7: 1
B9: 変状 部位 | C9: 対象 箇所 | D9: 路面 | M9: 変状 部位 | N9: 対象 箇所 | O9: 覆工・坑門
C11: 部位 区分 | D11: 側溝 | N11: 部位 区分 | O11: 横断目地（天端）
B13: 変状区分 | D13: 材質劣化 | M13: 変状区分 | O13: 材質劣化
B14: 変状種類 | D14: うき・はく離 | M14: 変状種類 | O14: うき・はく離
B15: 対策 区分 | C15: 応急措置前 | M15: 対策 区分 | N15: 応急措置前
C16: 応急措置後 | E16: － | N16: 応急措置後 | P16: Ⅰ
B17: 健全性 | D17: － | M17: 健全性 | O17: Ⅰ
B18: 変状の発生範囲の規模 | E18: 0.3m×0.4m | M18: 変状の発生範囲の規模 | P18: 1.4m×0.1m
B19: 前回定期点検時の状態 | E19: 0.3m×0.45mの鉄筋露出 | M19: 前回定期点検時の状態 | P19: 1.4m×0.1mのはく落
B20: 調査方針 | E20: なし | M20: 調査方針 | P20: なし
B21: 対策履歴 | E21: なし | H21: 実施状況（実施日） | M21: 対策履歴 | P21: なし | S21: 実施状況（実施日）
B22: メモ | D22: 側溝蓋のはく離 | M22: メモ | O22: はく落
B23: 写真 番号 | C23: 覆工 スパン 番号 | D23: S040 | M23: 写真 番号 | N23: 覆工 スパン 番号 | O23: S040
C25: 変状 番号 | D25: 2 | N25: 変状 番号 | O25: 3
B27: 変状 部位 | C27: 対象 箇所 | D27: 覆工・坑門 | M27: 変状 部位 | N27: 対象 箇所 | O27: 路面
C29: 部位 区分 | D29: アーチ（右側） | N29: 部位 区分 | O29: 側溝
B31: 変状区分 | D31: 漏水 | M31: 変状区分 | O31: 材質劣化
B32: 変状種類 | D32: 漏水 | M32: 変状種類 | O32: うき・はく離
B33: 対策 区分 | C33: 応急措置前 | M33: 対策 区分 | N33: 応急措置前
C34: 応急措置後 | E34: Ⅱb | N34: 応急措置後 | P34: －
B35: 健全性 | D35: Ⅱ | M35: 健全性 | O35: －
B36: 変状の発生範囲の規模 | E36: 7.9m×0.5m | M36: 変状の発生範囲の規模 | P36: 0.3m×0.1m
B37: 前回定期点検時の状態 | E37: 漏水、にじみ | M37: 前回定期点検時の状態 | P37: 0.3m×0.1mの鉄筋露出
B38: 調査方針 | E38: なし | M38: 調査方針 | P38: なし
B39: 対策履歴 | E39: なし | H39: 実施状況（実施日） | M39: 対策履歴 | P39: なし | S39: 実施状況（実施日）
B40: メモ | D40: 導水工からの漏水、にじみ | M40: メモ | O40: 側溝蓋のはく離
C41: ※ 健全性の判定区分Ⅱ～Ⅳについて添付すること。また、点検前に実施 された措置によりⅠと判定された箇所も添付すること。 | N41: ※ 変状の発生範囲の規模とは、対策を行う際に参考となる変状の長さや面積をいう。
N42: ※ 応急措置を実施しないで判定した変状の対策区分は、対策区分の応急措置後の欄に記入すること。
C43: ※ たたき落としを実施した場合は、実施後の写真を添付すること。 | N43: ※ 変状の発生範囲の規模は、面積・寸法を記載すること。
C44: ※ 画像データは100kb程度とする。 | N44: (ひび割れ幅のみmmとし、その他をm表記とする)
C45: ※ 変状数に準じてシートを追加すること。（１シートに１ページとすること。） | N45: ※ 構造用鋼材以外の異物に伴ううき・はく離については、メモ欄に異物の概要を記入すること。

Sheet 様式D-1-1 (50)
E1: 1
B2: ■定期点検記録様式 変状写真台帳（トンネル本体工） 【様式D-1-1】
B3: フリガナ | D3: オオガサコ | H3: 路 線 名 | J3: 一般国道316号 | M3: 定期点検業者 | P3: 株式会社オリエンタルコンサルタンツ | S3: 定期点検年月日 | U3: 45275
B4: 名 称 | D4: 大ヶ迫トンネル | H4: 管理者名 | J4: 長門土木建築事務所 | M4: 定期点検者名 | P4: 妹尾 優大
B5: 写真 番号 | C5: 覆工 スパン 番号 | D5: S040 | M5: 写真 番号 | N5: 覆工 スパン 番号 | O5: S040
C7: 変状 番号 | D7: 4 | N7: 変状 番号 | O7: 5
B9: 変状 部位 | C9: 対象 箇所 | D9: 路面 | M9: 変状 部位 | N9: 対象 箇所 | O9: 路面
C11: 部位 区分 | D11: 側溝 | N11: 部位 区分 | O11: 側溝
B13: 変状区分 | D13: 材質劣化 | M13: 変状区分 | O13: 材質劣化
B14: 変状種類 | D14: うき・はく離 | M14: 変状種類 | O14: うき・はく離
B15: 対策 区分 | C15: 応急措置前 | M15: 対策 区分 | N15: 応急措置前
C16: 応急措置後 | E16: － | N16: 応急措置後 | P16: －
B17: 健全性 | D17: － | M17: 健全性 | O17: －
B18: 変状の発生範囲の規模 | E18: 0.2m×0.2m | M18: 変状の発生範囲の規模 | P18: 0.2m×0.2m
B19: 前回定期点検時の状態 | E19: 0.15m×0.2mのはく離 | M19: 前回定期点検時の状態 | P19: 0.3m×0.2mのはく離
B20: 調査方針 | E20: なし | M20: 調査方針 | P20: なし
B21: 対策履歴 | E21: なし | H21: 実施状況（実施日） | M21: 対策履歴 | P21: なし | S21: 実施状況（実施日）
B22: メモ | D22: 側溝蓋のはく離 | M22: メモ | O22: 側溝蓋のはく離
B23: 写真 番号 | C23: 覆工 スパン 番号 | D23: S040 | M23: 写真 番号 | N23: 覆工 スパン 番号 | O23: S041
C25: 変状 番号 | D25: 6 | N25: 変状 番号 | O25: 1
B27: 変状 部位 | C27: 対象 箇所 | D27: 路面 | M27: 変状 部位 | N27: 対象 箇所 | O27: 覆工・坑門
C29: 部位 区分 | D29: 側溝 | N29: 部位 区分 | O29: 横断目地（左側）
B31: 変状区分 | D31: 材質劣化 | M31: 変状区分 | O31: 漏水
B32: 変状種類 | D32: うき・はく離 | M32: 変状種類 | O32: 漏水
B33: 対策 区分 | C33: 応急措置前 | M33: 対策 区分 | N33: 応急措置前
C34: 応急措置後 | E34: － | N34: 応急措置後 | P34: Ⅱb
B35: 健全性 | D35: － | M35: 健全性 | O35: Ⅱ
B36: 変状の発生範囲の規模 | E36: 0.4m×0.4m | M36: 変状の発生範囲の規模 | P36: 5.2m×0.5m
B37: 前回定期点検時の状態 | E37: 0.4m×0.4mの鉄筋露出 | M37: 前回定期点検時の状態 | P37: 漏水、にじみ
B38: 調査方針 | E38: なし | M38: 調査方針 | P38: なし
B39: 対策履歴 | E39: なし | H39: 実施状況（実施日） | M39: 対策履歴 | P39: なし | S39: 実施状況（実施日）
B40: メモ | D40: 側溝蓋のはく離 | M40: メモ | O40: 導水工からの漏水、にじみ
C41: ※ 健全性の判定区分Ⅱ～Ⅳについて添付すること。また、点検前に実施 された措置によりⅠと判定された箇所も添付すること。 | N41: ※ 変状の発生範囲の規模とは、対策を行う際に参考となる変状の長さや面積をいう。
N42: ※ 応急措置を実施しないで判定した変状の対策区分は、対策区分の応急措置後の欄に記入すること。
C43: ※ たたき落としを実施した場合は、実施後の写真を添付すること。 | N43: ※ 変状の発生範囲の規模は、面積・寸法を記載すること。
C44: ※ 画像データは100kb程度とする。 | N44: (ひび割れ幅のみmmとし、その他をm表記とする)
C45: ※ 変状数に準じてシートを追加すること。（１シートに１ページとすること。） | N45: ※ 構造用鋼材以外の異物に伴ううき・はく離については、メモ欄に異物の概要を記入すること。

Sheet 様式D-1-1 (51)
E1: 1
B2: ■定期点検記録様式 変状写真台帳（トンネル本体工） 【様式D-1-1】
B3: フリガナ | D3: オオガサコ | H3: 路 線 名 | J3: 一般国道316号 | M3: 定期点検業者 | P3: 株式会社オリエンタルコンサルタンツ | S3: 定期点検年月日 | U3: 45275
B4: 名 称 | D4: 大ヶ迫トンネル | H4: 管理者名 | J4: 長門土木建築事務所 | M4: 定期点検者名 | P4: 妹尾 優大
B5: 写真 番号 | C5: 覆工 スパン 番号 | D5: S041 | M5: 写真 番号 | N5: 覆工 スパン 番号 | O5: S041
C7: 変状 番号 | D7: 2 | N7: 変状 番号 | O7: 3
B9: 変状 部位 | C9: 対象 箇所 | D9: 覆工・坑門 | M9: 変状 部位 | N9: 対象 箇所 | O9: 覆工・坑門
C11: 部位 区分 | D11: 横断目地（左側） | N11: 部位 区分 | O11: アーチ（左側）
B13: 変状区分 | D13: 材質劣化 | M13: 変状区分 | O13: 材質劣化
B14: 変状種類 | D14: うき・はく離 | M14: 変状種類 | O14: その他
B15: 対策 区分 | C15: 応急措置前 | M15: 対策 区分 | N15: 応急措置前
C16: 応急措置後 | E16: Ⅱa | N16: 応急措置後 | P16: Ⅱb
B17: 健全性 | D17: Ⅱ | M17: 健全性 | O17: Ⅱ
B18: 変状の発生範囲の規模 | E18: 0.15m×0.1m | M18: 変状の発生範囲の規模 | P18: 0.15m×0.15m
B19: 前回定期点検時の状態 | E19: - | M19: 前回定期点検時の状態 | P19: 0.15m×0.15mの異物混入(木片)
B20: 調査方針 | E20: なし | M20: 調査方針 | P20: なし
B21: 対策履歴 | E21: なし | H21: 実施状況（実施日） | M21: 対策履歴 | P21: なし | S21: 実施状況（実施日）
B22: メモ | D22: 目地付近のうき | M22: メモ | O22: 異物混入(木片)
B23: 写真 番号 | C23: 覆工 スパン 番号 | D23: S041 | M23: 写真 番号 | N23: 覆工 スパン 番号 | O23: S041
C25: 変状 番号 | D25: 4 | N25: 変状 番号 | O25: 5
B27: 変状 部位 | C27: 対象 箇所 | D27: 覆工・坑門 | M27: 変状 部位 | N27: 対象 箇所 | O27: 覆工・坑門
C29: 部位 区分 | D29: 横断目地（左側） | N29: 部位 区分 | O29: アーチ（右側）
B31: 変状区分 | D31: 材質劣化 | M31: 変状区分 | O31: 材質劣化
B32: 変状種類 | D32: うき・はく離 | M32: 変状種類 | O32: うき・はく離
B33: 対策 区分 | C33: 応急措置前 | M33: 対策 区分 | N33: 応急措置前
C34: 応急措置後 | E34: Ⅰ | N34: 応急措置後 | P34: Ⅰ
B35: 健全性 | D35: Ⅰ | M35: 健全性 | O35: Ⅰ
B36: 変状の発生範囲の規模 | E36: 0.2m×0.1m | M36: 変状の発生範囲の規模 | P36: 0.1m×0.3m
B37: 前回定期点検時の状態 | E37: 0.2m×0.1mのはく落 | M37: 前回定期点検時の状態 | P37: 0.1m×0.3mのはく落
B38: 調査方針 | E38: なし | M38: 調査方針 | P38: なし
B39: 対策履歴 | E39: なし | H39: 実施状況（実施日） | M39: 対策履歴 | P39: なし | S39: 実施状況（実施日）
B40: メモ | D40: はく落 | M40: メモ | O40: はく落
C41: ※ 健全性の判定区分Ⅱ～Ⅳについて添付すること。また、点検前に実施 された措置によりⅠと判定された箇所も添付すること。 | N41: ※ 変状の発生範囲の規模とは、対策を行う際に参考となる変状の長さや面積をいう。
N42: ※ 応急措置を実施しないで判定した変状の対策区分は、対策区分の応急措置後の欄に記入すること。
C43: ※ たたき落としを実施した場合は、実施後の写真を添付すること。 | N43: ※ 変状の発生範囲の規模は、面積・寸法を記載すること。
C44: ※ 画像データは100kb程度とする。 | N44: (ひび割れ幅のみmmとし、その他をm表記とする)
C45: ※ 変状数に準じてシートを追加すること。（１シートに１ページとすること。） | N45: ※ 構造用鋼材以外の異物に伴ううき・はく離については、メモ欄に異物の概要を記入すること。

Sheet 様式D-1-1 (52)
E1: 1
B2: ■定期点検記録様式 変状写真台帳（トンネル本体工） 【様式D-1-1】
B3: フリガナ | D3: オオガサコ | H3: 路 線 名 | J3: 一般国道316号 | M3: 定期点検業者 | P3: 株式会社オリエンタルコンサルタンツ | S3: 定期点検年月日 | U3: 45275
B4: 名 称 | D4: 大ヶ迫トンネル | H4: 管理者名 | J4: 長門土木建築事務所 | M4: 定期点検者名 | P4: 妹尾 優大
B5: 写真 番号 | C5: 覆工 スパン 番号 | D5: S041 | M5: 写真 番号 | N5: 覆工 スパン 番号 | O5: S041
C7: 変状 番号 | D7: 6 | N7: 変状 番号 | O7: 7
B9: 変状 部位 | C9: 対象 箇所 | D9: 路面 | M9: 変状 部位 | N9: 対象 箇所 | O9: 路面
C11: 部位 区分 | D11: 側溝 | N11: 部位 区分 | O11: 車道
B13: 変状区分 | D13: 材質劣化 | M13: 変状区分 | O13: 外力
B14: 変状種類 | D14: うき・はく離 | M14: 変状種類 | O14: ひび割れ
B15: 対策 区分 | C15: 応急措置前 | M15: 対策 区分 | N15: 応急措置前
C16: 応急措置後 | E16: － | N16: 応急措置後 | P16: －
B17: 健全性 | D17: － | M17: 健全性 | O17: －
B18: 変状の発生範囲の規模 | E18: 0.4m×0.1m | M18: 変状の発生範囲の規模 | P18: 30mm
B19: 前回定期点検時の状態 | E19: 0.4m×0.15mのはく離 | M19: 前回定期点検時の状態 | P19: 幅30mmのひび割れ
B20: 調査方針 | E20: なし | M20: 調査方針 | P20: なし
B21: 対策履歴 | E21: なし | H21: 実施状況（実施日） | M21: 対策履歴 | P21: なし | S21: 実施状況（実施日）
B22: メモ | D22: 側溝蓋のはく離 | M22: メモ | O22: 幅30mmのひび割れ
B23: 写真 番号 | C23: 覆工 スパン 番号 | D23: S041 | M23: 写真 番号 | N23: 覆工 スパン 番号 | O23: S041
C25: 変状 番号 | D25: 8 | N25: 変状 番号 | O25: 9
B27: 変状 部位 | C27: 対象 箇所 | D27: 路面 | M27: 変状 部位 | N27: 対象 箇所 | O27: 路面
C29: 部位 区分 | D29: 車道 | N29: 部位 区分 | O29: 側溝
B31: 変状区分 | D31: 外力 | M31: 変状区分 | O31: 材質劣化
B32: 変状種類 | D32: ひび割れ | M32: 変状種類 | O32: うき・はく離
B33: 対策 区分 | C33: 応急措置前 | M33: 対策 区分 | N33: 応急措置前
C34: 応急措置後 | E34: － | N34: 応急措置後 | P34: －
B35: 健全性 | D35: － | M35: 健全性 | O35: －
B36: 変状の発生範囲の規模 | E36: 30mm | M36: 変状の発生範囲の規模 | P36: 0.4m×1.2m
B37: 前回定期点検時の状態 | E37: 30mmのひび割れ | M37: 前回定期点検時の状態 | P37: 0.2m×0.3m、0.25m×0.35m、0.2m×0.3mのうき・はく離
B38: 調査方針 | E38: なし | M38: 調査方針 | P38: なし
B39: 対策履歴 | E39: なし | H39: 実施状況（実施日） | M39: 対策履歴 | P39: なし | S39: 実施状況（実施日）
B40: メモ | D40: 幅30mmのひび割れ(段差3mm) | M40: メモ | O40: 側溝蓋のはく離
C41: ※ 健全性の判定区分Ⅱ～Ⅳについて添付すること。また、点検前に実施 された措置によりⅠと判定された箇所も添付すること。 | N41: ※ 変状の発生範囲の規模とは、対策を行う際に参考となる変状の長さや面積をいう。
N42: ※ 応急措置を実施しないで判定した変状の対策区分は、対策区分の応急措置後の欄に記入すること。
C43: ※ たたき落としを実施した場合は、実施後の写真を添付すること。 | N43: ※ 変状の発生範囲の規模は、面積・寸法を記載すること。
C44: ※ 画像データは100kb程度とする。 | N44: (ひび割れ幅のみmmとし、その他をm表記とする)
C45: ※ 変状数に準じてシートを追加すること。（１シートに１ページとすること。） | N45: ※ 構造用鋼材以外の異物に伴ううき・はく離については、メモ欄に異物の概要を記入すること。

Sheet 様式D-1-1 (53)
E1: 1
B2: ■定期点検記録様式 変状写真台帳（トンネル本体工） 【様式D-1-1】
B3: フリガナ | D3: オオガサコ | H3: 路 線 名 | J3: 一般国道316号 | M3: 定期点検業者 | P3: 株式会社オリエンタルコンサルタンツ | S3: 定期点検年月日 | U3: 45275
B4: 名 称 | D4: 大ヶ迫トンネル | H4: 管理者名 | J4: 長門土木建築事務所 | M4: 定期点検者名 | P4: 妹尾 優大
B5: 写真 番号 | C5: 覆工 スパン 番号 | D5: S041 | M5: 写真 番号 | N5: 覆工 スパン 番号 | O5: S042
C7: 変状 番号 | D7: 10 | N7: 変状 番号 | O7: 1
B9: 変状 部位 | C9: 対象 箇所 | D9: 路面 | M9: 変状 部位 | N9: 対象 箇所 | O9: 覆工・坑門
C11: 部位 区分 | D11: 側溝 | N11: 部位 区分 | O11: 横断目地（左側）
B13: 変状区分 | D13: 材質劣化 | M13: 変状区分 | O13: 材質劣化
B14: 変状種類 | D14: うき・はく離 | M14: 変状種類 | O14: うき・はく離
B15: 対策 区分 | C15: 応急措置前 | M15: 対策 区分 | N15: 応急措置前
C16: 応急措置後 | E16: － | N16: 応急措置後 | P16: Ⅰ
B17: 健全性 | D17: － | M17: 健全性 | O17: Ⅰ
B18: 変状の発生範囲の規模 | E18: 0.3m×0.8m | M18: 変状の発生範囲の規模 | P18: 0.4m×0.1m
B19: 前回定期点検時の状態 | E19: 0.25m×0.4m、0.1m×0.35mのはく離 | M19: 前回定期点検時の状態 | P19: 0.4m×0.1mのはく落
B20: 調査方針 | E20: なし | M20: 調査方針 | P20: なし
B21: 対策履歴 | E21: なし | H21: 実施状況（実施日） | M21: 対策履歴 | P21: なし | S21: 実施状況（実施日）
B22: メモ | D22: 側溝蓋のはく離 | M22: メモ | O22: はく落
B23: 写真 番号 | C23: 覆工 スパン 番号 | D23: S042 | M23: 写真 番号 | N23: 覆工 スパン 番号 | O23: S042
C25: 変状 番号 | D25: 2 | N25: 変状 番号 | O25: 3
B27: 変状 部位 | C27: 対象 箇所 | D27: 覆工・坑門 | M27: 変状 部位 | N27: 対象 箇所 | O27: 覆工・坑門
C29: 部位 区分 | D29: 横断目地（右側） | N29: 部位 区分 | O29: その他
B31: 変状区分 | D31: 材質劣化 | M31: 変状区分 | O31: 材質劣化
B32: 変状種類 | D32: うき・はく離 | M32: 変状種類 | O32: 補強・補修材の破損
B33: 対策 区分 | C33: 応急措置前 | M33: 対策 区分 | N33: 応急措置前
C34: 応急措置後 | E34: Ⅰ | N34: 応急措置後 | P34: Ⅱb
B35: 健全性 | D35: Ⅰ | M35: 健全性 | O35: Ⅱ
B36: 変状の発生範囲の規模 | E36: 0.6m×0.15m | M36: 変状の発生範囲の規模 | P36: -
B37: 前回定期点検時の状態 | E37: 0.6m×0.15mのはく落 | M37: 前回定期点検時の状態 | P37: -
B38: 調査方針 | E38: なし | M38: 調査方針 | P38: なし
B39: 対策履歴 | E39: なし | H39: 実施状況（実施日） | M39: 対策履歴 | P39: なし | S39: 実施状況（実施日）
B40: メモ | D40: はく落 | M40: メモ | O40: はく落防止対策工アンカーのゆるみ
C41: ※ 健全性の判定区分Ⅱ～Ⅳについて添付すること。また、点検前に実施 された措置によりⅠと判定された箇所も添付すること。 | N41: ※ 変状の発生範囲の規模とは、対策を行う際に参考となる変状の長さや面積をいう。
N42: ※ 応急措置を実施しないで判定した変状の対策区分は、対策区分の応急措置後の欄に記入すること。
C43: ※ たたき落としを実施した場合は、実施後の写真を添付すること。 | N43: ※ 変状の発生範囲の規模は、面積・寸法を記載すること。
C44: ※ 画像データは100kb程度とする。 | N44: (ひび割れ幅のみmmとし、その他をm表記とする)
C45: ※ 変状数に準じてシートを追加すること。（１シートに１ページとすること。） | N45: ※ 構造用鋼材以外の異物に伴ううき・はく離については、メモ欄に異物の概要を記入すること。

Sheet 様式D-1-1 (54)
E1: 1
B2: ■定期点検記録様式 変状写真台帳（トンネル本体工） 【様式D-1-1】
B3: フリガナ | D3: オオガサコ | H3: 路 線 名 | J3: 一般国道316号 | M3: 定期点検業者 | P3: 株式会社オリエンタルコンサルタンツ | S3: 定期点検年月日 | U3: 45275
B4: 名 称 | D4: 大ヶ迫トンネル | H4: 管理者名 | J4: 長門土木建築事務所 | M4: 定期点検者名 | P4: 妹尾 優大
B5: 写真 番号 | C5: 覆工 スパン 番号 | D5: S042 | M5: 写真 番号 | N5: 覆工 スパン 番号 | O5: S042
C7: 変状 番号 | D7: 4 | N7: 変状 番号 | O7: 5
B9: 変状 部位 | C9: 対象 箇所 | D9: 路面 | M9: 変状 部位 | N9: 対象 箇所 | O9: 路面
C11: 部位 区分 | D11: 側溝 | N11: 部位 区分 | O11: 側溝
B13: 変状区分 | D13: 材質劣化 | M13: 変状区分 | O13: 材質劣化
B14: 変状種類 | D14: うき・はく離 | M14: 変状種類 | O14: うき・はく離
B15: 対策 区分 | C15: 応急措置前 | M15: 対策 区分 | N15: 応急措置前
C16: 応急措置後 | E16: － | N16: 応急措置後 | P16: －
B17: 健全性 | D17: － | M17: 健全性 | O17: －
B18: 変状の発生範囲の規模 | E18: 0.3m×0.2m | M18: 変状の発生範囲の規模 | P18: 0.4m×0.3m
B19: 前回定期点検時の状態 | E19: 0.3m×0.2mのはく落 | M19: 前回定期点検時の状態 | P19: 0.4m×0.25mのはく離
B20: 調査方針 | E20: なし | M20: 調査方針 | P20: なし
B21: 対策履歴 | E21: なし | H21: 実施状況（実施日） | M21: 対策履歴 | P21: なし | S21: 実施状況（実施日）
B22: メモ | D22: 側溝蓋のはく離 | M22: メモ | O22: 側溝蓋のはく離
B23: 写真 番号 | C23: 覆工 スパン 番号 | D23: S042 | M23: 写真 番号 | N23: 覆工 スパン 番号 | O23: S043
C25: 変状 番号 | D25: 6 | N25: 変状 番号 | O25: 1
B27: 変状 部位 | C27: 対象 箇所 | D27: 路面 | M27: 変状 部位 | N27: 対象 箇所 | O27: 覆工・坑門
C29: 部位 区分 | D29: 監査歩路 | N29: 部位 区分 | O29: アーチ（左側）
B31: 変状区分 | D31: 材質劣化 | M31: 変状区分 | O31: 漏水
B32: 変状種類 | D32: うき・はく離 | M32: 変状種類 | O32: 漏水
B33: 対策 区分 | C33: 応急措置前 | M33: 対策 区分 | N33: 応急措置前
C34: 応急措置後 | E34: － | N34: 応急措置後 | P34: Ⅰ
B35: 健全性 | D35: － | M35: 健全性 | O35: Ⅰ
B36: 変状の発生範囲の規模 | E36: 0.1m×0.45m | M36: 変状の発生範囲の規模 | P36: -
B37: 前回定期点検時の状態 | E37: 0.1m×0.45mの欠損 | M37: 前回定期点検時の状態 | P37: 漏水、にじみ
B38: 調査方針 | E38: なし | M38: 調査方針 | P38: なし
B39: 対策履歴 | E39: なし | H39: 実施状況（実施日） | M39: 対策履歴 | P39: なし | S39: 実施状況（実施日）
B40: メモ | D40: 欠損 | M40: メモ | O40: 漏水跡
C41: ※ 健全性の判定区分Ⅱ～Ⅳについて添付すること。また、点検前に実施 された措置によりⅠと判定された箇所も添付すること。 | N41: ※ 変状の発生範囲の規模とは、対策を行う際に参考となる変状の長さや面積をいう。
N42: ※ 応急措置を実施しないで判定した変状の対策区分は、対策区分の応急措置後の欄に記入すること。
C43: ※ たたき落としを実施した場合は、実施後の写真を添付すること。 | N43: ※ 変状の発生範囲の規模は、面積・寸法を記載すること。
C44: ※ 画像データは100kb程度とする。 | N44: (ひび割れ幅のみmmとし、その他をm表記とする)
C45: ※ 変状数に準じてシートを追加すること。（１シートに１ページとすること。） | N45: ※ 構造用鋼材以外の異物に伴ううき・はく離については、メモ欄に異物の概要を記入すること。

Sheet 様式D-1-1 (55)
E1: 1
B2: ■定期点検記録様式 変状写真台帳（トンネル本体工） 【様式D-1-1】
B3: フリガナ | D3: オオガサコ | H3: 路 線 名 | J3: 一般国道316号 | M3: 定期点検業者 | P3: 株式会社オリエンタルコンサルタンツ | S3: 定期点検年月日 | U3: 45275
B4: 名 称 | D4: 大ヶ迫トンネル | H4: 管理者名 | J4: 長門土木建築事務所 | M4: 定期点検者名 | P4: 妹尾 優大
B5: 写真 番号 | C5: 覆工 スパン 番号 | D5: S043 | M5: 写真 番号 | N5: 覆工 スパン 番号 | O5: S043
C7: 変状 番号 | D7: 2 | N7: 変状 番号 | O7: 3
B9: 変状 部位 | C9: 対象 箇所 | D9: 覆工・坑門 | M9: 変状 部位 | N9: 対象 箇所 | O9: 覆工・坑門
C11: 部位 区分 | D11: アーチ（右側） | N11: 部位 区分 | O11: アーチ（右側）
B13: 変状区分 | D13: 漏水 | M13: 変状区分 | O13: 漏水
B14: 変状種類 | D14: 漏水 | M14: 変状種類 | O14: 漏水
B15: 対策 区分 | C15: 応急措置前 | M15: 対策 区分 | N15: 応急措置前
C16: 応急措置後 | E16: Ⅰ | N16: 応急措置後 | P16: Ⅰ
B17: 健全性 | D17: Ⅰ | M17: 健全性 | O17: Ⅰ
B18: 変状の発生範囲の規模 | E18: - | M18: 変状の発生範囲の規模 | P18: -
B19: 前回定期点検時の状態 | E19: 漏水、にじみ | M19: 前回定期点検時の状態 | P19: 漏水、にじみ
B20: 調査方針 | E20: なし | M20: 調査方針 | P20: なし
B21: 対策履歴 | E21: なし | H21: 実施状況（実施日） | M21: 対策履歴 | P21: なし | S21: 実施状況（実施日）
B22: メモ | D22: 漏水跡 | M22: メモ | O22: 漏水跡
B23: 写真 番号 | C23: 覆工 スパン 番号 | D23: S043 | M23: 写真 番号 | N23: 覆工 スパン 番号 | O23: S043
C25: 変状 番号 | D25: 4 | N25: 変状 番号 | O25: 5
B27: 変状 部位 | C27: 対象 箇所 | D27: 覆工・坑門 | M27: 変状 部位 | N27: 対象 箇所 | O27: 覆工・坑門
C29: 部位 区分 | D29: アーチ（右側） | N29: 部位 区分 | O29: アーチ（右側）
B31: 変状区分 | D31: 材質劣化 | M31: 変状区分 | O31: 外力
B32: 変状種類 | D32: うき・はく離 | M32: 変状種類 | O32: ひび割れ
B33: 対策 区分 | C33: 応急措置前 | M33: 対策 区分 | N33: 応急措置前
C34: 応急措置後 | E34: Ⅰ | N34: 応急措置後 | P34: Ⅱb
B35: 健全性 | D35: Ⅰ | M35: 健全性 | O35: Ⅱ
B36: 変状の発生範囲の規模 | E36: 0.1m×0.6m | M36: 変状の発生範囲の規模 | P36: 6mm
B37: 前回定期点検時の状態 | E37: 0.1m×0.6mのはく落 | M37: 前回定期点検時の状態 | P37: 3mmの段差を伴う6mmのひび割れ
B38: 調査方針 | E38: なし | M38: 調査方針 | P38: なし
B39: 対策履歴 | E39: なし | H39: 実施状況（実施日） | M39: 対策履歴 | P39: なし | S39: 実施状況（実施日）
B40: メモ | D40: はく落 | M40: メモ | O40: 3mmの段差を伴う6mmのひび割れ
C41: ※ 健全性の判定区分Ⅱ～Ⅳについて添付すること。また、点検前に実施 された措置によりⅠと判定された箇所も添付すること。 | N41: ※ 変状の発生範囲の規模とは、対策を行う際に参考となる変状の長さや面積をいう。
N42: ※ 応急措置を実施しないで判定した変状の対策区分は、対策区分の応急措置後の欄に記入すること。
C43: ※ たたき落としを実施した場合は、実施後の写真を添付すること。 | N43: ※ 変状の発生範囲の規模は、面積・寸法を記載すること。
C44: ※ 画像データは100kb程度とする。 | N44: (ひび割れ幅のみmmとし、その他をm表記とする)
C45: ※ 変状数に準じてシートを追加すること。（１シートに１ページとすること。） | N45: ※ 構造用鋼材以外の異物に伴ううき・はく離については、メモ欄に異物の概要を記入すること。

Sheet 様式D-1-1 (56)
E1: 1
B2: ■定期点検記録様式 変状写真台帳（トンネル本体工） 【様式D-1-1】
B3: フリガナ | D3: オオガサコ | H3: 路 線 名 | J3: 一般国道316号 | M3: 定期点検業者 | P3: 株式会社オリエンタルコンサルタンツ | S3: 定期点検年月日 | U3: 45275
B4: 名 称 | D4: 大ヶ迫トンネル | H4: 管理者名 | J4: 長門土木建築事務所 | M4: 定期点検者名 | P4: 妹尾 優大
B5: 写真 番号 | C5: 覆工 スパン 番号 | D5: S043 | M5: 写真 番号 | N5: 覆工 スパン 番号 | O5: S043
C7: 変状 番号 | D7: 6 | N7: 変状 番号 | O7: 7
B9: 変状 部位 | C9: 対象 箇所 | D9: 覆工・坑門 | M9: 変状 部位 | N9: 対象 箇所 | O9: 路面
C11: 部位 区分 | D11: アーチ（右側） | N11: 部位 区分 | O11: 側溝
B13: 変状区分 | D13: 漏水 | M13: 変状区分 | O13: 材質劣化
B14: 変状種類 | D14: 漏水 | M14: 変状種類 | O14: うき・はく離
B15: 対策 区分 | C15: 応急措置前 | M15: 対策 区分 | N15: 応急措置前
C16: 応急措置後 | E16: Ⅱb | N16: 応急措置後 | P16: －
B17: 健全性 | D17: Ⅱ | M17: 健全性 | O17: －
B18: 変状の発生範囲の規模 | E18: 5.7m×0.5m | M18: 変状の発生範囲の規模 | P18: 0.1m×0.3m
B19: 前回定期点検時の状態 | E19: 漏水、にじみ | M19: 前回定期点検時の状態 | P19: -
B20: 調査方針 | E20: なし | M20: 調査方針 | P20: なし
B21: 対策履歴 | E21: なし | H21: 実施状況（実施日） | M21: 対策履歴 | P21: なし | S21: 実施状況（実施日）
B22: メモ | D22: 導水工からの漏水、にじみ | M22: メモ | O22: 側溝蓋のはく離
B23: 写真 番号 | C23: 覆工 スパン 番号 | D23: S043 | M23: 写真 番号 | N23: 覆工 スパン 番号 | O23: S044
C25: 変状 番号 | D25: 8 | N25: 変状 番号 | O25: 1
B27: 変状 部位 | C27: 対象 箇所 | D27: 路面 | M27: 変状 部位 | N27: 対象 箇所 | O27: 覆工・坑門
C29: 部位 区分 | D29: 側溝 | N29: 部位 区分 | O29: 横断目地（左側）
B31: 変状区分 | D31: 材質劣化 | M31: 変状区分 | O31: 漏水
B32: 変状種類 | D32: うき・はく離 | M32: 変状種類 | O32: 漏水
B33: 対策 区分 | C33: 応急措置前 | M33: 対策 区分 | N33: 応急措置前
C34: 応急措置後 | E34: － | N34: 応急措置後 | P34: Ⅰ
B35: 健全性 | D35: － | M35: 健全性 | O35: Ⅰ
B36: 変状の発生範囲の規模 | E36: 0.3m×0.2m | M36: 変状の発生範囲の規模 | P36: -
B37: 前回定期点検時の状態 | E37: 0.3m×0.25mのうき | M37: 前回定期点検時の状態 | P37: 漏水、にじみ
B38: 調査方針 | E38: なし | M38: 調査方針 | P38: なし
B39: 対策履歴 | E39: なし | H39: 実施状況（実施日） | M39: 対策履歴 | P39: なし | S39: 実施状況（実施日）
B40: メモ | D40: 側溝蓋のはく離 | M40: メモ | O40: 漏水跡
C41: ※ 健全性の判定区分Ⅱ～Ⅳについて添付すること。また、点検前に実施 された措置によりⅠと判定された箇所も添付すること。 | N41: ※ 変状の発生範囲の規模とは、対策を行う際に参考となる変状の長さや面積をいう。
N42: ※ 応急措置を実施しないで判定した変状の対策区分は、対策区分の応急措置後の欄に記入すること。
C43: ※ たたき落としを実施した場合は、実施後の写真を添付すること。 | N43: ※ 変状の発生範囲の規模は、面積・寸法を記載すること。
C44: ※ 画像データは100kb程度とする。 | N44: (ひび割れ幅のみmmとし、その他をm表記とする)
C45: ※ 変状数に準じてシートを追加すること。（１シートに１ページとすること。） | N45: ※ 構造用鋼材以外の異物に伴ううき・はく離については、メモ欄に異物の概要を記入すること。

Sheet 様式D-1-1 (57)
E1: 1
B2: ■定期点検記録様式 変状写真台帳（トンネル本体工） 【様式D-1-1】
B3: フリガナ | D3: オオガサコ | H3: 路 線 名 | J3: 一般国道316号 | M3: 定期点検業者 | P3: 株式会社オリエンタルコンサルタンツ | S3: 定期点検年月日 | U3: 45275
B4: 名 称 | D4: 大ヶ迫トンネル | H4: 管理者名 | J4: 長門土木建築事務所 | M4: 定期点検者名 | P4: 妹尾 優大
B5: 写真 番号 | C5: 覆工 スパン 番号 | D5: S044 | M5: 写真 番号 | N5: 覆工 スパン 番号 | O5: S044
C7: 変状 番号 | D7: 2 | N7: 変状 番号 | O7: 3
B9: 変状 部位 | C9: 対象 箇所 | D9: 覆工・坑門 | M9: 変状 部位 | N9: 対象 箇所 | O9: 覆工・坑門
C11: 部位 区分 | D11: 横断目地（左側） | N11: 部位 区分 | O11: 横断目地（左側）
B13: 変状区分 | D13: 材質劣化 | M13: 変状区分 | O13: 材質劣化
B14: 変状種類 | D14: うき・はく離 | M14: 変状種類 | O14: うき・はく離
B15: 対策 区分 | C15: 応急措置前 | M15: 対策 区分 | N15: 応急措置前
C16: 応急措置後 | E16: Ⅲ | N16: 応急措置後 | P16: Ⅲ
B17: 健全性 | D17: Ⅲ | M17: 健全性 | O17: Ⅲ
B18: 変状の発生範囲の規模 | E18: 0.3m×0.05m | M18: 変状の発生範囲の規模 | P18: 0.65m×0.15m
B19: 前回定期点検時の状態 | E19: 0.3m×0.05mのうき | M19: 前回定期点検時の状態 | P19: 0.65m×0.15mのうき
B20: 調査方針 | E20: なし | M20: 調査方針 | P20: なし
B21: 対策履歴 | E21: なし | H21: 実施状況（実施日） | M21: 対策履歴 | P21: なし | S21: 実施状況（実施日）
B22: メモ | D22: 目地付近の補修跡のうき | M22: メモ | O22: 目地付近の補修跡のうき
B23: 写真 番号 | C23: 覆工 スパン 番号 | D23: S044 | M23: 写真 番号 | N23: 覆工 スパン 番号 | O23: S044
C25: 変状 番号 | D25: 4 | N25: 変状 番号 | O25: 5
B27: 変状 部位 | C27: 対象 箇所 | D27: 覆工・坑門 | M27: 変状 部位 | N27: 対象 箇所 | O27: 覆工・坑門
C29: 部位 区分 | D29: アーチ（右側） | N29: 部位 区分 | O29: アーチ（右側）
B31: 変状区分 | D31: 材質劣化 | M31: 変状区分 | O31: 材質劣化
B32: 変状種類 | D32: 鋼材腐食 | M32: 変状種類 | O32: 鋼材腐食
B33: 対策 区分 | C33: 応急措置前 | M33: 対策 区分 | N33: 応急措置前
C34: 応急措置後 | E34: Ⅱb | N34: 応急措置後 | P34: Ⅱb
B35: 健全性 | D35: Ⅱ | M35: 健全性 | O35: Ⅱ
B36: 変状の発生範囲の規模 | E36: 0.15m×0.15m | M36: 変状の発生範囲の規模 | P36: 0.3m×0.1m
B37: 前回定期点検時の状態 | E37: 0.15m×0.15mの鉄筋露出 | M37: 前回定期点検時の状態 | P37: 0.3m×0.1mの鉄筋露出
B38: 調査方針 | E38: なし | M38: 調査方針 | P38: なし
B39: 対策履歴 | E39: なし | H39: 実施状況（実施日） | M39: 対策履歴 | P39: なし | S39: 実施状況（実施日）
B40: メモ | D40: 鉄筋露出 | M40: メモ | O40: 鉄筋露出
C41: ※ 健全性の判定区分Ⅱ～Ⅳについて添付すること。また、点検前に実施 された措置によりⅠと判定された箇所も添付すること。 | N41: ※ 変状の発生範囲の規模とは、対策を行う際に参考となる変状の長さや面積をいう。
N42: ※ 応急措置を実施しないで判定した変状の対策区分は、対策区分の応急措置後の欄に記入すること。
C43: ※ たたき落としを実施した場合は、実施後の写真を添付すること。 | N43: ※ 変状の発生範囲の規模は、面積・寸法を記載すること。
C44: ※ 画像データは100kb程度とする。 | N44: (ひび割れ幅のみmmとし、その他をm表記とする)
C45: ※ 変状数に準じてシートを追加すること。（１シートに１ページとすること。） | N45: ※ 構造用鋼材以外の異物に伴ううき・はく離については、メモ欄に異物の概要を記入すること。

Sheet 様式D-1-1 (58)
E1: 1
B2: ■定期点検記録様式 変状写真台帳（トンネル本体工） 【様式D-1-1】
B3: フリガナ | D3: オオガサコ | H3: 路 線 名 | J3: 一般国道316号 | M3: 定期点検業者 | P3: 株式会社オリエンタルコンサルタンツ | S3: 定期点検年月日 | U3: 45275
B4: 名 称 | D4: 大ヶ迫トンネル | H4: 管理者名 | J4: 長門土木建築事務所 | M4: 定期点検者名 | P4: 妹尾 優大
B5: 写真 番号 | C5: 覆工 スパン 番号 | D5: S044 | M5: 写真 番号 | N5: 覆工 スパン 番号 | O5: S044
C7: 変状 番号 | D7: 6 | N7: 変状 番号 | O7: 7
B9: 変状 部位 | C9: 対象 箇所 | D9: 覆工・坑門 | M9: 変状 部位 | N9: 対象 箇所 | O9: 路面
C11: 部位 区分 | D11: アーチ（右側） | N11: 部位 区分 | O11: 側溝
B13: 変状区分 | D13: 材質劣化 | M13: 変状区分 | O13: 材質劣化
B14: 変状種類 | D14: 鋼材腐食 | M14: 変状種類 | O14: うき・はく離
B15: 対策 区分 | C15: 応急措置前 | M15: 対策 区分 | N15: 応急措置前
C16: 応急措置後 | E16: Ⅱb | N16: 応急措置後 | P16: －
B17: 健全性 | D17: Ⅱ | M17: 健全性 | O17: －
B18: 変状の発生範囲の規模 | E18: 0.1m×1.0m | M18: 変状の発生範囲の規模 | P18: 0.3m×0.2m
B19: 前回定期点検時の状態 | E19: 0.1m×1.0mの鉄筋露出 | M19: 前回定期点検時の状態 | P19: 0.35m×0.1mのうき
B20: 調査方針 | E20: なし | M20: 調査方針 | P20: なし
B21: 対策履歴 | E21: なし | H21: 実施状況（実施日） | M21: 対策履歴 | P21: なし | S21: 実施状況（実施日）
B22: メモ | D22: 鉄筋露出 | M22: メモ | O22: 側溝蓋のうき
B23: 写真 番号 | C23: 覆工 スパン 番号 | D23: S044 | M23: 写真 番号 | N23: 覆工 スパン 番号 | O23: PE
C25: 変状 番号 | D25: 8 | N25: 変状 番号 | O25: 1
B27: 変状 部位 | C27: 対象 箇所 | D27: 路面 | M27: 変状 部位 | N27: 対象 箇所 | O27: 覆工・坑門
C29: 部位 区分 | D29: 側溝 | N29: 部位 区分 | O29: アーチ（天端）
B31: 変状区分 | D31: 材質劣化 | M31: 変状区分 | O31: 材質劣化
B32: 変状種類 | D32: うき・はく離 | M32: 変状種類 | O32: 鋼材腐食
B33: 対策 区分 | C33: 応急措置前 | M33: 対策 区分 | N33: 応急措置前
C34: 応急措置後 | E34: － | N34: 応急措置後 | P34: Ⅱb
B35: 健全性 | D35: － | M35: 健全性 | O35: Ⅱ
B36: 変状の発生範囲の規模 | E36: 0.4m×0.2m | M36: 変状の発生範囲の規模 | P36: 015m×0.2m
B37: 前回定期点検時の状態 | E37: 0.4m×0.2mのはく離 | M37: 前回定期点検時の状態 | P37: 015m×0.2mの鉄筋露出
B38: 調査方針 | E38: なし | M38: 調査方針 | P38: なし
B39: 対策履歴 | E39: なし | H39: 実施状況（実施日） | M39: 対策履歴 | P39: なし | S39: 実施状況（実施日）
B40: メモ | D40: 側溝蓋のはく離 | M40: メモ | O40: 鉄筋露出
C41: ※ 健全性の判定区分Ⅱ～Ⅳについて添付すること。また、点検前に実施 された措置によりⅠと判定された箇所も添付すること。 | N41: ※ 変状の発生範囲の規模とは、対策を行う際に参考となる変状の長さや面積をいう。
N42: ※ 応急措置を実施しないで判定した変状の対策区分は、対策区分の応急措置後の欄に記入すること。
C43: ※ たたき落としを実施した場合は、実施後の写真を添付すること。 | N43: ※ 変状の発生範囲の規模は、面積・寸法を記載すること。
C44: ※ 画像データは100kb程度とする。 | N44: (ひび割れ幅のみmmとし、その他をm表記とする)
C45: ※ 変状数に準じてシートを追加すること。（１シートに１ページとすること。） | N45: ※ 構造用鋼材以外の異物に伴ううき・はく離については、メモ欄に異物の概要を記入すること。

Sheet 様式D-1-1 (59)
E1: 1
B2: ■定期点検記録様式 変状写真台帳（トンネル本体工） 【様式D-1-1】
B3: フリガナ | D3: オオガサコ | H3: 路 線 名 | J3: 一般国道316号 | M3: 定期点検業者 | P3: 株式会社オリエンタルコンサルタンツ | S3: 定期点検年月日 | U3: 45275
B4: 名 称 | D4: 大ヶ迫トンネル | H4: 管理者名 | J4: 長門土木建築事務所 | M4: 定期点検者名 | P4: 妹尾 優大
B5: 写真 番号 | C5: 覆工 スパン 番号 | D5: PE | M5: 写真 番号 | N5: 覆工 スパン 番号 | O5: PE
C7: 変状 番号 | D7: 2 | N7: 変状 番号 | O7: 3
B9: 変状 部位 | C9: 対象 箇所 | D9: 覆工・坑門 | M9: 変状 部位 | N9: 対象 箇所 | O9: 覆工・坑門
C11: 部位 区分 | D11: アーチ（右側） | N11: 部位 区分 | O11: アーチ（右側）
B13: 変状区分 | D13: 材質劣化 | M13: 変状区分 | O13: 材質劣化
B14: 変状種類 | D14: うき・はく離 | M14: 変状種類 | O14: うき・はく離
B15: 対策 区分 | C15: 応急措置前 | M15: 対策 区分 | N15: 応急措置前
C16: 応急措置後 | E16: Ⅱb | N16: 応急措置後 | P16: Ⅱb
B17: 健全性 | D17: Ⅱ | M17: 健全性 | O17: Ⅱ
B18: 変状の発生範囲の規模 | E18: 0.5m×0.9m | M18: 変状の発生範囲の規模 | P18: 0.4m×0.25m
B19: 前回定期点検時の状態 | E19: 0.5m×0.9mの閉合ひびわれ(打音異常なし) | M19: 前回定期点検時の状態 | P19: 0.4m×0.25mの閉合ひびわれ(打音異常なし)
B20: 調査方針 | E20: なし | M20: 調査方針 | P20: なし
B21: 対策履歴 | E21: なし | H21: 実施状況（実施日） | M21: 対策履歴 | P21: なし | S21: 実施状況（実施日）
B22: メモ | D22: 閉合ひびわれ(打音異常なし) | M22: メモ | O22: 閉合ひびわれ(打音異常なし)
B23: 写真 番号 | C23: 覆工 スパン 番号 | D23: PE | M23: 写真 番号 | N23: 覆工 スパン 番号 | O23: PE
C25: 変状 番号 | D25: 4 | N25: 変状 番号 | O25: 5
B27: 変状 部位 | C27: 対象 箇所 | D27: 覆工・坑門 | M27: 変状 部位 | N27: 対象 箇所 | O27: 路面
C29: 部位 区分 | D29: アーチ（右側） | N29: 部位 区分 | O29: 側溝
B31: 変状区分 | D31: 材質劣化 | M31: 変状区分 | O31: 材質劣化
B32: 変状種類 | D32: うき・はく離 | M32: 変状種類 | O32: うき・はく離
B33: 対策 区分 | C33: 応急措置前 | M33: 対策 区分 | N33: 応急措置前
C34: 応急措置後 | E34: Ⅱb | N34: 応急措置後 | P34: －
B35: 健全性 | D35: Ⅱ | M35: 健全性 | O35: －
B36: 変状の発生範囲の規模 | E36: 0.5m×0.25m | M36: 変状の発生範囲の規模 | P36: 0.1m×0.2m
B37: 前回定期点検時の状態 | E37: 0.5m×0.25mの閉合ひびわれ(打音異常なし) | M37: 前回定期点検時の状態 | P37: 0.15m×0.25mのはく離
B38: 調査方針 | E38: なし | M38: 調査方針 | P38: なし
B39: 対策履歴 | E39: なし | H39: 実施状況（実施日） | M39: 対策履歴 | P39: なし | S39: 実施状況（実施日）
B40: メモ | D40: 閉合ひびわれ(打音異常なし) | M40: メモ | O40: 側溝蓋のはく離
C41: ※ 健全性の判定区分Ⅱ～Ⅳについて添付すること。また、点検前に実施 された措置によりⅠと判定された箇所も添付すること。 | N41: ※ 変状の発生範囲の規模とは、対策を行う際に参考となる変状の長さや面積をいう。
N42: ※ 応急措置を実施しないで判定した変状の対策区分は、対策区分の応急措置後の欄に記入すること。
C43: ※ たたき落としを実施した場合は、実施後の写真を添付すること。 | N43: ※ 変状の発生範囲の規模は、面積・寸法を記載すること。
C44: ※ 画像データは100kb程度とする。 | N44: (ひび割れ幅のみmmとし、その他をm表記とする)
C45: ※ 変状数に準じてシートを追加すること。（１シートに１ページとすること。） | N45: ※ 構造用鋼材以外の異物に伴ううき・はく離については、メモ欄に異物の概要を記入すること。

Sheet 様式D-1-1 (60)
E1: 1
B2: ■定期点検記録様式 変状写真台帳（トンネル本体工） 【様式D-1-1】
B3: フリガナ | D3: オオガサコ | H3: 路 線 名 | J3: 一般国道316号 | M3: 定期点検業者 | P3: 株式会社オリエンタルコンサルタンツ | S3: 定期点検年月日 | U3: 45275
B4: 名 称 | D4: 大ヶ迫トンネル | H4: 管理者名 | J4: 長門土木建築事務所 | M4: 定期点検者名 | P4: 妹尾 優大
B5: 写真 番号 | C5: 覆工 スパン 番号 | D5: PE | M5: 写真 番号 | N5: 覆工 スパン 番号 | O5: PE
C7: 変状 番号 | D7: 6 | N7: 変状 番号 | O7: 7
B9: 変状 部位 | C9: 対象 箇所 | D9: 路面 | M9: 変状 部位 | N9: 対象 箇所 | O9: 覆工・坑門
C11: 部位 区分 | D11: 車道 | N11: 部位 区分 | O11: 面壁・妻壁等
B13: 変状区分 | D13: 材質劣化 | M13: 変状区分 | O13: 材質劣化
B14: 変状種類 | D14: うき・はく離 | M14: 変状種類
B15: 対策 区分 | C15: 応急措置前 | M15: 対策 区分 | N15: 応急措置前
C16: 応急措置後 | E16: － | N16: 応急措置後 | P16: Ⅱb
B17: 健全性 | D17: － | M17: 健全性 | O17: Ⅱ
B18: 変状の発生範囲の規模 | E18: 1.0m×0.6m | M18: 変状の発生範囲の規模 | P18: 0.6m×0.5m
B19: 前回定期点検時の状態 | E19: - | M19: 前回定期点検時の状態 | P19: -
B20: 調査方針 | E20: なし | M20: 調査方針 | P20: なし
B21: 対策履歴 | E21: なし | H21: 実施状況（実施日） | M21: 対策履歴 | P21: なし | S21: 実施状況（実施日）
B22: メモ | D22: 舗装のはく離 | M22: メモ | O22: 閉合ひびわれ(打音異常なし)
B23: 写真 番号 | C23: 覆工 スパン 番号 | D23: PE | M23: 写真 番号 | N23: 覆工 スパン 番号
C25: 変状 番号 | D25: 8 | N25: 変状 番号
B27: 変状 部位 | C27: 対象 箇所 | D27: 覆工・坑門 | M27: 変状 部位 | N27: 対象 箇所
C29: 部位 区分 | D29: 面壁・妻壁等 | N29: 部位 区分
B31: 変状区分 | D31: 材質劣化 | M31: 変状区分
B32: 変状種類 | D32: うき・はく離 | M32: 変状種類
B33: 対策 区分 | C33: 応急措置前 | M33: 対策 区分 | N33: 応急措置前
C34: 応急措置後 | E34: Ⅱb | N34: 応急措置後
B35: 健全性 | D35: Ⅱ | M35: 健全性
B36: 変状の発生範囲の規模 | E36: 0.9m×0.6m | M36: 変状の発生範囲の規模
B37: 前回定期点検時の状態 | E37: - | M37: 前回定期点検時の状態
B38: 調査方針 | E38: なし | M38: 調査方針
B39: 対策履歴 | E39: なし | H39: 実施状況（実施日） | M39: 対策履歴 | S39: 実施状況（実施日）
B40: メモ | D40: 閉合ひびわれ(打音異常なし) | M40: メモ
C41: ※ 健全性の判定区分Ⅱ～Ⅳについて添付すること。また、点検前に実施 された措置によりⅠと判定された箇所も添付すること。 | N41: ※ 変状の発生範囲の規模とは、対策を行う際に参考となる変状の長さや面積をいう。
N42: ※ 応急措置を実施しないで判定した変状の対策区分は、対策区分の応急措置後の欄に記入すること。
C43: ※ たたき落としを実施した場合は、実施後の写真を添付すること。 | N43: ※ 変状の発生範囲の規模は、面積・寸法を記載すること。
C44: ※ 画像データは100kb程度とする。 | N44: (ひび割れ幅のみmmとし、その他をm表記とする)
C45: ※ 変状数に準じてシートを追加すること。（１シートに１ページとすること。） | N45: ※ 構造用鋼材以外の異物に伴ううき・はく離については、メモ欄に異物の概要を記入すること。

Sheet 様式D-1-2
B2: ■定期点検記録様式 異常写真台帳（トンネル内附属物等の取付状態） 【様式D-1-2】
B3: フリガナ | E3: オオガサコ | I3: 路 線 名 | L3: 一般国道316号 | O3: 定期点検業者 | R3: 株式会社オリエンタルコンサルタンツ | U3: 定期点検年月日 | W3: 45275
B4: 名 称 | E4: 大ヶ迫トンネル | I4: 管理者名 | L4: 長門土木建築事務所 | O4: 定期点検者名 | R4: 妹尾 優大
B5: 覆工スパン番号 | E5: S020 | F5: 異常番号 | I5: 101 | J5: 覆工スパン番号 | M5: S025 | N5: 異常番号 | Q5: 101 | R5: 覆工スパン番号 | U5: S029 | V5: 異常番号 | Y5: 101
B6: 対象箇所 | D6: その他施設 | E6: その他 | G6: 部位区分 | I6: 附属物本体 | J6: 対象箇所 | L6: その他施設 | M6: その他 | O6: 部位区分 | Q6: 附属物本体 | R6: 対象箇所 | T6: その他施設 | U6: その他 | W6: 部位区分 | Y6: 附属物本体
B7: 異常の種類 | D7: 変形，欠損 | J7: 異常の種類 | L7: 変形，欠損 | R7: 異常の種類 | T7: 変形，欠損
B8: 異常判定区分 | D8: - | E8: メモ | F8: デリネーター欠損 | J8: 異常判定区分 | L8: - | M8: メモ | N8: デリネーター欠損 | R8: 異常判定区分 | T8: - | U8: メモ | V8: デリネーター欠損
B22: 覆工スパン番号 | E22: S034 | F22: 異常番号 | I22: 101 | J22: 覆工スパン番号 | M22: S042 | N22: 異常番号 | Q22: 101 | R22: 覆工スパン番号 | V22: 異常番号
B23: 対象箇所 | D23: 照明施設 | E23: 灯具 | G23: 部位区分 | I23: 取付部材 | J23: 対象箇所 | L23: その他施設 | M23: その他 | O23: 部位区分 | Q23: 附属物本体 | R23: 対象箇所 | W23: 部位区分
B24: 異常の種類 | D24: 変形，欠損 | J24: 異常の種類 | L24: 変形，欠損 | R24: 異常の種類
B25: 異常判定区分 | D25: × | E25: メモ | F25: 照明蓋の欠損 | J25: 異常判定区分 | L25: - | M25: メモ | N25: デリネーター欠損 | R25: 異常判定区分 | U25: メモ
B39: 覆工スパン番号 | F39: 異常番号 | J39: 覆工スパン番号 | N39: 異常番号 | R39: 覆工スパン番号 | V39: 異常番号
B40: 対象箇所 | G40: 部位区分 | J40: 対象箇所 | O40: 部位区分 | R40: 対象箇所 | W40: 部位区分
B41: 異常の種類 | J41: 異常の種類 | R41: 異常の種類
B42: 異常判定区分 | E42: メモ | J42: 異常判定区分 | M42: メモ | R42: 異常判定区分 | U42: メモ
D56: ※ 異常判定区分×について記入すること。また、応急措置前に異常判定区分×とした箇所のうち応急措置により○と判定した箇所も記入すること。
D57: ※ 応急措置を実施した場合は、その実施状況が分かる写真を添付すること。
D58: ※ 画像データは100kb程度とする。 | L58: ※ 変状数に準じてシートを追加すること。（１シートに１ページとすること。）

Sheet 様式D-2-1
B3: ■定期点検記録様式 トンネル全体変状展開図 【様式D-2-1】
B4: フリガナ | E4: オオガサコ | J4: 路線名 | M4: 一般国道316号 | S4: 定期点検業者 | W4: 株式会社オリエンタルコンサルタンツ | AC4: 定期点検年月日 | AF4: 45275
B5: 名 称 | E5: 大ヶ迫トンネル | J5: 管理者名 | M5: 長門土木建築事務所 | S5: 定期点検者名 | W5: 妹尾 優大
B6: トンネル変状展開図 | C6: トンネル全体変状展開図
V18: 注１：本展開図は、見下げた状態で記載すること。 注２：覆工スパン番号は横断目地毎（矢板工法の場合は上半アーチ の横断目地毎)に設定すること。 注３：横断目地の変状は前の覆工スパン番号で計上すること。 注４：１枚に収まらない場合は、複数枚に分けて作成すること。

Sheet 様式D-2-1 (2)
B3: ■定期点検記録様式 トンネル全体変状展開図 【様式D-2-1】
B4: フリガナ | E4: オオガサコ | J4: 路線名 | M4: 一般国道316号 | S4: 定期点検業者 | W4: 株式会社オリエンタルコンサルタンツ | AC4: 定期点検年月日 | AF4: 45275
B5: 名 称 | E5: 大ヶ迫トンネル | J5: 管理者名 | M5: 長門土木建築事務所 | S5: 定期点検者名 | W5: 妹尾 優大
B6: トンネル変状展開図 | C6: トンネル全体変状展開図
V18: 注１：本展開図は、見下げた状態で記載すること。 注２：覆工スパン番号は横断目地毎（矢板工法の場合は上半アーチ の横断目地毎)に設定すること。 注３：横断目地の変状は前の覆工スパン番号で計上すること。 注４：１枚に収まらない場合は、複数枚に分けて作成すること。

Sheet 様式D-2-1 (3)
B3: ■定期点検記録様式 トンネル全体変状展開図 【様式D-2-1】
B4: フリガナ | E4: オオガサコ | J4: 路線名 | M4: 一般国道316号 | S4: 定期点検業者 | W4: 株式会社オリエンタルコンサルタンツ | AC4: 定期点検年月日 | AF4: 45275
B5: 名 称 | E5: 大ヶ迫トンネル | J5: 管理者名 | M5: 長門土木建築事務所 | S5: 定期点検者名 | W5: 妹尾 優大
B6: トンネル変状展開図 | C6: トンネル全体変状展開図
V18: 注１：本展開図は、見下げた状態で記載すること。 注２：覆工スパン番号は横断目地毎（矢板工法の場合は上半アーチ の横断目地毎)に設定すること。 注３：横断目地の変状は前の覆工スパン番号で計上すること。 注４：１枚に収まらない場合は、複数枚に分けて作成すること。

Sheet 様式D-2-1 (4)
B3: ■定期点検記録様式 トンネル全体変状展開図 【様式D-2-1】
B4: フリガナ | E4: オオガサコ | J4: 路線名 | M4: 一般国道316号 | S4: 定期点検業者 | W4: 株式会社オリエンタルコンサルタンツ | AC4: 定期点検年月日 | AF4: 45275
B5: 名 称 | E5: 大ヶ迫トンネル | J5: 管理者名 | M5: 長門土木建築事務所 | S5: 定期点検者名 | W5: 妹尾 優大
B6: トンネル変状展開図 | C6: トンネル全体変状展開図
V18: 注１：本展開図は、見下げた状態で記載すること。 注２：覆工スパン番号は横断目地毎（矢板工法の場合は上半アーチ の横断目地毎)に設定すること。 注３：横断目地の変状は前の覆工スパン番号で計上すること。 注４：１枚に収まらない場合は、複数枚に分けて作成すること。

Sheet 様式D-2-1 (5)
B3: ■定期点検記録様式 トンネル全体変状展開図 【様式D-2-1】
B4: フリガナ | E4: オオガサコ | J4: 路線名 | M4: 一般国道316号 | S4: 定期点検業者 | W4: 株式会社オリエンタルコンサルタンツ | AC4: 定期点検年月日 | AF4: 45275
B5: 名 称 | E5: 大ヶ迫トンネル | J5: 管理者名 | M5: 長門土木建築事務所 | S5: 定期点検者名 | W5: 妹尾 優大
B6: トンネル変状展開図 | C6: トンネル全体変状展開図
V18: 注１：本展開図は、見下げた状態で記載すること。 注２：覆工スパン番号は横断目地毎（矢板工法の場合は上半アーチ の横断目地毎)に設定すること。 注３：横断目地の変状は前の覆工スパン番号で計上すること。 注４：１枚に収まらない場合は、複数枚に分けて作成すること。

Sheet 様式D-2-1 (6)
B3: ■定期点検記録様式 トンネル全体変状展開図 【様式D-2-1】
B4: フリガナ | E4: オオガサコ | J4: 路線名 | M4: 一般国道316号 | S4: 定期点検業者 | W4: 株式会社オリエンタルコンサルタンツ | AC4: 定期点検年月日 | AF4: 45275
B5: 名 称 | E5: 大ヶ迫トンネル | J5: 管理者名 | M5: 長門土木建築事務所 | S5: 定期点検者名 | W5: 妹尾 優大
B6: トンネル変状展開図 | C6: トンネル全体変状展開図
V18: 注１：本展開図は、見下げた状態で記載すること。 注２：覆工スパン番号は横断目地毎（矢板工法の場合は上半アーチ の横断目地毎)に設定すること。 注３：横断目地の変状は前の覆工スパン番号で計上すること。 注４：１枚に収まらない場合は、複数枚に分けて作成すること。

Sheet 様式D-3_PS
AU1: 様式E-1リンク用→ | AV1: 覆工ｽﾊﾟﾝ 番号 | AW1: ｽﾊﾟﾝ 長 (m) | AX1: 変状数集計 | BS1: 覆工スパン毎の 健全性の診断 | BW1: 変状規模集計
AX2: 対策区分毎の変状数 | BJ2: 健全性の判定区分毎の変状数 | BW2: 覆工スパン長(m) | CA2: 対策区分毎の変状の発生範囲の規模(㎡）
B3: ■定期点検記録様式 覆工スパン別変状詳細展開図 【様式D-3】 | AX3: 外力 | BB3: 材質劣化 | BF3: 漏水 | BJ3: 外力 | BM3: 材質劣化 | BP3: 漏水 | BS3: 外力 | BT3: 材質劣化 | BU3: 漏水 | BV3: 健全性 | BW3: 外力※１ | CA3: 材質劣化 | CE3: 漏水
B4: フリガナ | E4: オオガサコ | K4: 路線名 | N4: 一般国道316号 | T4: 定期点検業者 | Y4: 株式会社オリエンタルコンサルタンツ | AG4: 定期点検年月日 | AK4: 45275 | AX4: Ⅳ | AY4: Ⅲ | AZ4: Ⅱa | BA4: Ⅱb | BB4: Ⅳ | BC4: Ⅲ | BD4: Ⅱa | BE4: Ⅱb | BF4: Ⅳ | BG4: Ⅲ | BH4: Ⅱa | BI4: Ⅱb | BJ4: Ⅳ | BK4: Ⅲ | BL4: Ⅱ | BM4: Ⅳ | BN4: Ⅲ | BO4: Ⅱ | BP4: Ⅳ | BQ4: Ⅲ | BR4: Ⅱ | BW4: Ⅳ | BX4: Ⅲ | BY4: Ⅱa | BZ4: Ⅱb | CA4: Ⅳ | CB4: Ⅲ | CC4: Ⅱa | CD4: Ⅱb | CE4: Ⅳ | CF4: Ⅲ | CG4: Ⅱa | CH4: Ⅱb
B5: 名 称 | E5: 大ヶ迫トンネル | K5: 管理者名 | N5: 長門土木建築事務所 | T5: 定期点検者名 | Y5: 妹尾 優大 | AV5: =N7 -> PS | AW5: =R7 -> 5.16 | AX5: =+Y32 -> 0 | AY5: =+Z32 -> 0 | AZ5: =+AA32 -> 0 | BA5: =+AB32 -> 0 | BB5: =+AC32 -> 0 | BC5: =+AD32 -> 0 | BD5: =+AE32 -> 0 | BE5: =+AF32 -> 1 | ... BI5: =+AJ32 -> 0 | BJ5: =+Y35 | BK5: =+Z35 | BL5: =+AA35 | BM5: =+AC35 -> 0 | BN5: =+AD35 -> 0 | BO5: =+AE35 -> 1 | BP5: =+AG35 -> 0 | BQ5: =+AH35 -> 0 | BR5: =+AI35 -> 0 | BS5: =+Y36 -> Ⅰ | BT5: =+AC36 -> Ⅱ | BU5: =+AG36 -> Ⅰ | BV5: =+Y37 -> Ⅱ | BW5: =IF(Y32>0,$R$7,"") | BX5: =IF(Z32>0,"",IF(AA32>0,$R$7,"")) | BY5: =IF(Y32+Z32>0,"",IF(AA32>0,$R$7,"")) | BZ5: =IF(Y32+Z32+AA32>0,"",IF(AB32>0,$R$7,"")) | CA5: =+AC31 -> 0 | CB5: =+AD31 -> 0 | CC5: =+AE31 -> 0 | CD5: =+AF31 -> 0.015 | CE5: =+AG31 -> 0 | CF5: =+AH31 -> 0 | CG5: =+AI31 -> 0 | CH5: =+AJ31 -> 0
B6: スパン別変状展開図 | K6: 【健全性判定集計表】
K7: スパン番号 | N7: PS | P7: スパン長 | R7: 5.16 | U7: 前回定期点検時の健全性 | W7: 応急措置前の判定 | Y7: 対策区分毎の 変状の有無 | AC7: 対策区分毎の変状の発生範囲の規模(㎡) | AK7: 備考注2
K8: 変状番号 | L8: 対象箇所 | N8: 部位区分 | P8: 変状区分 | R8: 変状種類
Y9: 外力注1 | AC9: 材質劣化注1 | AG9: 漏水注1
Y10: Ⅳ | Z10: Ⅲ | AA10: Ⅱa | AB10: Ⅱb | AC10: Ⅳ | AD10: Ⅲ | AE10: Ⅱa | AF10: Ⅱb | AG10: Ⅳ | AH10: Ⅲ | AI10: Ⅱa | AJ10: Ⅱb
K11: 1 | L11: 覆工・坑門 | N11: 面壁・妻壁等 | P11: 漏水 | R11: 漏水 | U11: Ⅱ | W11: Ⅰ | AK11: 漏水跡 | AQ11: =IF(P11="材質劣化",2,IF(P11="漏水",3,1)) -> 3
K12: 2 | L12: 覆工・坑門 | N12: 水平打ち継ぎ目（左側） | P12: 材質劣化 | R12: うき・はく離 | U12: Ⅱ | W12: Ⅱb | AF12: 0.015 | AK12: うき | AQ12: =IF(P12="材質劣化",2,IF(P12="漏水",3,1)) -> 2
K13: 3 | L13: 覆工・坑門 | N13: 水平打ち継ぎ目（左側） | P13: 漏水 | R13: 漏水 | U13: Ⅱ | W13: Ⅰ | AK13: 漏水跡 | AQ13: =IF(P13="材質劣化",2,IF(P13="漏水",3,1)) -> 3
AQ14: =IF(P14="材質劣化",2,IF(P14="漏水",3,1)) -> 1
AQ15: =IF(P15="材質劣化",2,IF(P15="漏水",3,1)) -> 1
AQ16: =IF(P16="材質劣化",2,IF(P16="漏水",3,1)) -> 1
AQ17: =IF(P17="材質劣化",2,IF(P17="漏水",3,1)) -> 1
AQ18: =IF(P18="材質劣化",2,IF(P18="漏水",3,1)) -> 1
AQ19: =IF(P19="材質劣化",2,IF(P19="漏水",3,1)) -> 1
AQ20: =IF(P20="材質劣化",2,IF(P20="漏水",3,1)) -> 1
AQ21: =IF(P21="材質劣化",2,IF(P21="漏水",3,1)) -> 1
AQ22: =IF(P22="材質劣化",2,IF(P22="漏水",3,1)) -> 1
AQ23: =IF(P23="材質劣化",2,IF(P23="漏水",3,1)) -> 1
AQ24: =IF(P24="材質劣化",2,IF(P24="漏水",3,1)) -> 1
AQ25: =IF(P25="材質劣化",2,IF(P25="漏水",3,1)) -> 1
... AQ30: =IF(P30="材質劣化",2,IF(P30="漏水",3,1)) -> 1
K31: 集計 ・ 判定 ・ 診断 | L31: 変状の発生規模合計(㎡) | Y31: － | AC31: =SUM(AC11:AC30) -> 0 | AD31: =SUM(AD11:AD30) -> 0 | AE31: =SUM(AE11:AE30) -> 0 | AF31: =SUM(AF11:AF30) -> 0.015 | AG31: =SUM(AG11:AG30) -> 0 | AH31: =SUM(AH11:AH30) -> 0 | AI31: =SUM(AI11:AI30) -> 0 | AJ31: =SUM(AJ11:AJ30) -> 0 | AK31: 計
L32: 対策区分の 判定結果 | O32: 判定区分毎の変状数 | Y32: =COUNTIF(Y11:Y30,"〇") -> 0 | Z32: =COUNTIF(Z11:Z30,"〇") -> 0 | AA32: =COUNTIF(AA11:AA30,"〇") -> 0 | AB32: =COUNTIF(AB11:AB30,"〇") -> 0 | AC32: =COUNT(AC11:AC30) -> 0 | AD32: =COUNT(AD11:AD30) -> 0 | AE32: =COUNT(AE11:AE30) -> 0 | AF32: =COUNT(AF11:AF30) -> 1 | AG32: =COUNT(AG11:AG30) -> 0 | AH32: =COUNT(AH11:AH30) -> 0 | AI32: =COUNT(AI11:AI30) -> 0 | AJ32: =COUNT(AJ11:AJ30) -> 0
O33: 変状区分毎の判定区分注3 | Y33: =IF(Y32>0,"Ⅳ",IF(Z32>0,"Ⅲ",IF(AA32>0,"Ⅱa",IF(AB32>0,"Ⅱb","Ⅰ")))) -> Ⅰ | AC33: =IF(AC32>0,"Ⅳ",IF(AD32>0,"Ⅲ",IF(AE32>0,"Ⅱa",IF(AF32>0,"Ⅱb","Ⅰ")))) -> Ⅱb | AG33: =IF(AG32>0,"Ⅳ",IF(AH32>0,"Ⅲ",IF(AI32>0,"Ⅱa",IF(AJ32>0,"Ⅱb","Ⅰ")))) -> Ⅰ | AQ33: Ⅳ | AR33: Ⅲ | AS33: Ⅱ
L34: 健全性の 診断結果 | O34: 判定区分 | Y34: Ⅳ | Z34: Ⅲ | AA34: Ⅱ | AC34: Ⅳ | AD34: Ⅲ | AE34: Ⅱ | AG34: Ⅳ | AH34: Ⅲ | AI34: Ⅱ | AQ34: =+Y32+Z32 -> 0 | AS34: =+AA32+AB32 -> 0
O35: 判定区分毎の変状数注4 | Y35: =IF(Y32=0,"",1) | Z35: =IF(Z32=0,"",1) | AA35: =IF(AQ34=1,"",IF(AS34>0,1,"")) | AC35: =+AC32 -> 0 | AD35: =AD32 -> 0 | AE35: =AE32+AF32 -> 1 | AG35: =AG32 -> 0 | AH35: =AH32 -> 0 | AI35: =AI32+AJ32 -> 0 | AQ35: =+Y32+AC35+AG35 -> 0 | AR35: =+Z32+AD35+AH35 -> 0 | AS35: =+AS34+AE35+AI35 -> 1
O36: 変状区分毎の判定区分注4 | Y36: Ⅰ | AC36: Ⅱ | AG36: Ⅰ | AQ36: =IF(AQ35>0,"Ⅳ",IF(AR35>0,"Ⅲ",IF(AS35>0,"Ⅱ","Ⅰ"))) -> Ⅱ
O37: 覆工スパン単位の判定区分注5 | Y37: Ⅱ
K38: 特記事項
K40: 注1：誤記入防止のため、当該変状区分以外のセルは灰色表示とすること。
K41: 注2：応急対策を実施した場合は、その詳細を備考に記載すること。
K42: 注3：変状区分毎での最も評価の厳しい判定区分。
K43: 注4：変状区分毎での最も評価の厳しい判定区分．外力は覆工スパン単位、材質劣化、漏水は変状単位で行う。
K44: 注5：覆工スパンの中で最も評価の厳しい健全性を採用し、その覆工スパン毎の健全性とする。
B46: ※1：本シートは作成洩れのないよう、変状が無くても全スパン分を作成すること．また変状展開図は、様式D-2-1、様式D-2-1'と同じものを覆工スパン単位で拡大し掲載すること。
B47: ※2：変状番号は、様式D-1-1で記入した番号と整合させること。
B48: ※3：対策区分毎の変状発生規模は、様式D-1-1に記載した面積を記入すること（ただし外力はスパン単位で評価するため対象外とし、備考欄に状況を記入）。
B49: ※4：本様式は覆工スパン毎に作成すること。
B50: ※5：変状数が多い場合は、適時、表の行を増やして覆工スパン毎に1枚のシートに収めること。また、1スパン１シートとし、スパンに合わせてシートを追加すること。
B51: ※6：対策区分毎の変状の発生範囲の規模とは，対策を行う際に参考となる変状の長さや面積であり，変状を包含する長さや面積とする。
B52: ※7：路面滞水は、変状面積に1を記載するとともに、備考にも内容を記載すること。

Sheet 様式D-3_S001
AU1: 様式E-1リンク用→ | AV1: 覆工ｽﾊﾟﾝ 番号 | AW1: ｽﾊﾟﾝ 長 (m) | AX1: 変状数集計 | BS1: 覆工スパン毎の 健全性の診断 | BW1: 変状規模集計
AX2: 対策区分毎の変状数 | BJ2: 健全性の判定区分毎の変状数 | BW2: 覆工スパン長(m) | CA2: 対策区分毎の変状の発生範囲の規模(㎡）
B3: ■定期点検記録様式 覆工スパン別変状詳細展開図 【様式D-3】 | AX3: 外力 | BB3: 材質劣化 | BF3: 漏水 | BJ3: 外力 | BM3: 材質劣化 | BP3: 漏水 | BS3: 外力 | BT3: 材質劣化 | BU3: 漏水 | BV3: 健全性 | BW3: 外力※１ | CA3: 材質劣化 | CE3: 漏水
B4: フリガナ | E4: オオガサコ | K4: 路線名 | N4: 一般国道316号 | T4: 定期点検業者 | Y4: 株式会社オリエンタルコンサルタンツ | AG4: 定期点検年月日 | AK4: 45275 | AX4: Ⅳ | AY4: Ⅲ | AZ4: Ⅱa | BA4: Ⅱb | BB4: Ⅳ | BC4: Ⅲ | BD4: Ⅱa | BE4: Ⅱb | BF4: Ⅳ | BG4: Ⅲ | BH4: Ⅱa | BI4: Ⅱb | BJ4: Ⅳ | BK4: Ⅲ | BL4: Ⅱ | BM4: Ⅳ | BN4: Ⅲ | BO4: Ⅱ | BP4: Ⅳ | BQ4: Ⅲ | BR4: Ⅱ | BW4: Ⅳ | BX4: Ⅲ | BY4: Ⅱa | BZ4: Ⅱb | CA4: Ⅳ | CB4: Ⅲ | CC4: Ⅱa | CD4: Ⅱb | CE4: Ⅳ | CF4: Ⅲ | CG4: Ⅱa | CH4: Ⅱb
B5: 名 称 | E5: 大ヶ迫トンネル | K5: 管理者名 | N5: 長門土木建築事務所 | T5: 定期点検者名 | Y5: 妹尾 優大 | AV5: =N7 -> S001 | AW5: =R7 -> 8.77 | AX5: =+Y32 -> 0 | AY5: =+Z32 -> 0 | AZ5: =+AA32 -> 0 | BA5: =+AB32 -> 0 | BB5: =+AC32 -> 0 | BC5: =+AD32 -> 0 | BD5: =+AE32 -> 1 | BE5: =+AF32 -> 0 | ... BI5: =+AJ32 -> 0 | BJ5: =+Y35 | BK5: =+Z35 | BL5: =+AA35 | BM5: =+AC35 -> 0 | BN5: =+AD35 -> 0 | BO5: =+AE35 -> 1 | BP5: =+AG35 -> 0 | BQ5: =+AH35 -> 0 | BR5: =+AI35 -> 0 | BS5: =+Y36 -> Ⅰ | BT5: =+AC36 -> Ⅱ | BU5: =+AG36 -> Ⅰ | BV5: =+Y37 -> Ⅱ | BW5: =IF(Y32>0,$R$7,"") | BX5: =IF(Z32>0,"",IF(AA32>0,$R$7,"")) | BY5: =IF(Y32+Z32>0,"",IF(AA32>0,$R$7,"")) | BZ5: =IF(Y32+Z32+AA32>0,"",IF(AB32>0,$R$7,"")) | CA5: =+AC31 -> 0 | CB5: =+AD31 -> 0 | CC5: =+AE31 -> 0.24 | CD5: =+AF31 -> 0 | CE5: =+AG31 -> 0 | CF5: =+AH31 -> 0 | CG5: =+AI31 -> 0 | CH5: =+AJ31 -> 0
B6: スパン別変状展開図 | K6: 【健全性判定集計表】
K7: スパン番号 | N7: S001 | P7: スパン長 | R7: 8.77 | U7: 前回定期点検時の健全性 | W7: 応急措置前の判定 | Y7: 対策区分毎の 変状の有無 | AC7: 対策区分毎の変状の発生範囲の規模(㎡) | AK7: 備考注2
K8: 変状番号 | L8: 対象箇所 | N8: 部位区分 | P8: 変状区分 | R8: 変状種類
Y9: 外力注1 | AC9: 材質劣化注1 | AG9: 漏水注1
Y10: Ⅳ | Z10: Ⅲ | AA10: Ⅱa | AB10: Ⅱb | AC10: Ⅳ | AD10: Ⅲ | AE10: Ⅱa | AF10: Ⅱb | AG10: Ⅳ | AH10: Ⅲ | AI10: Ⅱa | AJ10: Ⅱb
K11: 1 | L11: 覆工・坑門 | N11: アーチ（天端） | P11: 材質劣化 | R11: その他 | U11: Ⅱ | W11: Ⅱa | AE11: 0.24 | AK11: 豆板 | AQ11: =IF(P11="材質劣化",2,IF(P11="漏水",3,1)) -> 2
AQ12: =IF(P12="材質劣化",2,IF(P12="漏水",3,1)) -> 1
AQ13: =IF(P13="材質劣化",2,IF(P13="漏水",3,1)) -> 1
AQ14: =IF(P14="材質劣化",2,IF(P14="漏水",3,1)) -> 1
AQ15: =IF(P15="材質劣化",2,IF(P15="漏水",3,1)) -> 1
AQ16: =IF(P16="材質劣化",2,IF(P16="漏水",3,1)) -> 1
AQ17: =IF(P17="材質劣化",2,IF(P17="漏水",3,1)) -> 1
AQ18: =IF(P18="材質劣化",2,IF(P18="漏水",3,1)) -> 1
AQ19: =IF(P19="材質劣化",2,IF(P19="漏水",3,1)) -> 1
AQ20: =IF(P20="材質劣化",2,IF(P20="漏水",3,1)) -> 1
AQ21: =IF(P21="材質劣化",2,IF(P21="漏水",3,1)) -> 1
AQ22: =IF(P22="材質劣化",2,IF(P22="漏水",3,1)) -> 1
AQ23: =IF(P23="材質劣化",2,IF(P23="漏水",3,1)) -> 1
... AQ30: =IF(P30="材質劣化",2,IF(P30="漏水",3,1)) -> 1
K31: 集計 ・ 判定 ・ 診断 | L31: 変状の発生規模合計(㎡) | Y31: － | AC31: =SUM(AC11:AC30) -> 0 | AD31: =SUM(AD11:AD30) -> 0 | AE31: =SUM(AE11:AE30) -> 0.24 | AF31: =SUM(AF11:AF30) -> 0 | AG31: =SUM(AG11:AG30) -> 0 | AH31: =SUM(AH11:AH30) -> 0 | AI31: =SUM(AI11:AI30) -> 0 | AJ31: =SUM(AJ11:AJ30) -> 0 | AK31: 計
L32: 対策区分の 判定結果 | O32: 判定区分毎の変状数 | Y32: =COUNTIF(Y11:Y30,"〇") -> 0 | Z32: =COUNTIF(Z11:Z30,"〇") -> 0 | AA32: =COUNTIF(AA11:AA30,"〇") -> 0 | AB32: =COUNTIF(AB11:AB30,"〇") -> 0 | AC32: =COUNT(AC11:AC30) -> 0 | AD32: =COUNT(AD11:AD30) -> 0 | AE32: =COUNT(AE11:AE30) -> 1 | AF32: =COUNT(AF11:AF30) -> 0 | AG32: =COUNT(AG11:AG30) -> 0 | AH32: =COUNT(AH11:AH30) -> 0 | AI32: =COUNT(AI11:AI30) -> 0 | AJ32: =COUNT(AJ11:AJ30) -> 0
O33: 変状区分毎の判定区分注3 | Y33: =IF(Y32>0,"Ⅳ",IF(Z32>0,"Ⅲ",IF(AA32>0,"Ⅱa",IF(AB32>0,"Ⅱb","Ⅰ")))) -> Ⅰ | AC33: =IF(AC32>0,"Ⅳ",IF(AD32>0,"Ⅲ",IF(AE32>0,"Ⅱa",IF(AF32>0,"Ⅱb","Ⅰ")))) -> Ⅱa | AG33: =IF(AG32>0,"Ⅳ",IF(AH32>0,"Ⅲ",IF(AI32>0,"Ⅱa",IF(AJ32>0,"Ⅱb","Ⅰ")))) -> Ⅰ | AQ33: Ⅳ | AR33: Ⅲ | AS33: Ⅱ
L34: 健全性の 診断結果 | O34: 判定区分 | Y34: Ⅳ | Z34: Ⅲ | AA34: Ⅱ | AC34: Ⅳ | AD34: Ⅲ | AE34: Ⅱ | AG34: Ⅳ | AH34: Ⅲ | AI34: Ⅱ | AQ34: =+Y32+Z32 -> 0 | AS34: =+AA32+AB32 -> 0
O35: 判定区分毎の変状数注4 | Y35: =IF(Y32=0,"",1) | Z35: =IF(Z32=0,"",1) | AA35: =IF(AQ34=1,"",IF(AS34>0,1,"")) | AC35: =+AC32 -> 0 | AD35: =AD32 -> 0 | AE35: =AE32+AF32 -> 1 | AG35: =AG32 -> 0 | AH35: =AH32 -> 0 | AI35: =AI32+AJ32 -> 0 | AQ35: =+Y32+AC35+AG35 -> 0 | AR35: =+Z32+AD35+AH35 -> 0 | AS35: =+AS34+AE35+AI35 -> 1
O36: 変状区分毎の判定区分注4 | Y36: Ⅰ | AC36: Ⅱ | AG36: Ⅰ | AQ36: =IF(AQ35>0,"Ⅳ",IF(AR35>0,"Ⅲ",IF(AS35>0,"Ⅱ","Ⅰ"))) -> Ⅱ
O37: 覆工スパン単位の判定区分注5 | Y37: Ⅱ
K38: 特記事項
K40: 注1：誤記入防止のため、当該変状区分以外のセルは灰色表示とすること。
K41: 注2：応急対策を実施した場合は、その詳細を備考に記載すること。
K42: 注3：変状区分毎での最も評価の厳しい判定区分。
K43: 注4：変状区分毎での最も評価の厳しい判定区分．外力は覆工スパン単位、材質劣化、漏水は変状単位で行う。
K44: 注5：覆工スパンの中で最も評価の厳しい健全性を採用し、その覆工スパン毎の健全性とする。
B46: ※1：本シートは作成洩れのないよう、変状が無くても全スパン分を作成すること．また変状展開図は、様式D-2-1、様式D-2-1'と同じものを覆工スパン単位で拡大し掲載すること。
B47: ※2：変状番号は、様式D-1-1で記入した番号と整合させること。
B48: ※3：対策区分毎の変状発生規模は、様式D-1-1に記載した面積を記入すること（ただし外力はスパン単位で評価するため対象外とし、備考欄に状況を記入）。
B49: ※4：本様式は覆工スパン毎に作成すること。
B50: ※5：変状数が多い場合は、適時、表の行を増やして覆工スパン毎に1枚のシートに収めること。また、1スパン１シートとし、スパンに合わせてシートを追加すること。
B51: ※6：対策区分毎の変状の発生範囲の規模とは，対策を行う際に参考となる変状の長さや面積であり，変状を包含する長さや面積とする。
B52: ※7：路面滞水は、変状面積に1を記載するとともに、備考にも内容を記載すること。

Sheet 様式D-3_S002
AU1: 様式E-1リンク用→ | AV1: 覆工ｽﾊﾟﾝ 番号 | AW1: ｽﾊﾟﾝ 長 (m) | AX1: 変状数集計 | BS1: 覆工スパン毎の 健全性の診断 | BW1: 変状規模集計
AX2: 対策区分毎の変状数 | BJ2: 健全性の判定区分毎の変状数 | BW2: 覆工スパン長(m) | CA2: 対策区分毎の変状の発生範囲の規模(㎡）
B3: ■定期点検記録様式 覆工スパン別変状詳細展開図 【様式D-3】 | AX3: 外力 | BB3: 材質劣化 | BF3: 漏水 | BJ3: 外力 | BM3: 材質劣化 | BP3: 漏水 | BS3: 外力 | BT3: 材質劣化 | BU3: 漏水 | BV3: 健全性 | BW3: 外力※１ | CA3: 材質劣化 | CE3: 漏水
B4: フリガナ | E4: オオガサコ | K4: 路線名 | N4: 一般国道316号 | T4: 定期点検業者 | Y4: 株式会社オリエンタルコンサルタンツ | AG4: 定期点検年月日 | AK4: 45275 | AX4: Ⅳ | AY4: Ⅲ | AZ4: Ⅱa | BA4: Ⅱb | BB4: Ⅳ | BC4: Ⅲ | BD4: Ⅱa | BE4: Ⅱb | BF4: Ⅳ | BG4: Ⅲ | BH4: Ⅱa | BI4: Ⅱb | BJ4: Ⅳ | BK4: Ⅲ | BL4: Ⅱ | BM4: Ⅳ | BN4: Ⅲ | BO4: Ⅱ | BP4: Ⅳ | BQ4: Ⅲ | BR4: Ⅱ | BW4: Ⅳ | BX4: Ⅲ | BY4: Ⅱa | BZ4: Ⅱb | CA4: Ⅳ | CB4: Ⅲ | CC4: Ⅱa | CD4: Ⅱb | CE4: Ⅳ | CF4: Ⅲ | CG4: Ⅱa | CH4: Ⅱb
B5: 名 称 | E5: 大ヶ迫トンネル | K5: 管理者名 | N5: 長門土木建築事務所 | T5: 定期点検者名 | Y5: 妹尾 優大 | AV5: =N7 -> S002 | AW5: =R7 -> 8.83 | AX5: =+Y32 -> 0 | AY5: =+Z32 -> 0 | AZ5: =+AA32 -> 0 | BA5: =+AB32 -> 0 | BB5: =+AC32 -> 0 | BC5: =+AD32 -> 0 | BD5: =+AE32 -> 1 | BE5: =+AF32 -> 0 | ... BI5: =+AJ32 -> 0 | BJ5: =+Y35 | BK5: =+Z35 | BL5: =+AA35 | BM5: =+AC35 -> 0 | BN5: =+AD35 -> 0 | BO5: =+AE35 -> 1 | BP5: =+AG35 -> 0 | BQ5: =+AH35 -> 0 | BR5: =+AI35 -> 0 | BS5: =+Y36 -> Ⅰ | BT5: =+AC36 -> Ⅱ | BU5: =+AG36 -> Ⅰ | BV5: =+Y37 -> Ⅱ | BW5: =IF(Y32>0,$R$7,"") | BX5: =IF(Z32>0,"",IF(AA32>0,$R$7,"")) | BY5: =IF(Y32+Z32>0,"",IF(AA32>0,$R$7,"")) | BZ5: =IF(Y32+Z32+AA32>0,"",IF(AB32>0,$R$7,"")) | CA5: =+AC31 -> 0 | CB5: =+AD31 -> 0 | CC5: =+AE31 -> 0.54 | CD5: =+AF31 -> 0 | CE5: =+AG31 -> 0 | CF5: =+AH31 -> 0 | CG5: =+AI31 -> 0 | CH5: =+AJ31 -> 0
B6: スパン別変状展開図 | K6: 【健全性判定集計表】
K7: スパン番号 | N7: S002 | P7: スパン長 | R7: 8.83 | U7: 前回定期点検時の健全性 | W7: 応急措置前の判定 | Y7: 対策区分毎の 変状の有無 | AC7: 対策区分毎の変状の発生範囲の規模(㎡) | AK7: 備考注2
K8: 変状番号 | L8: 対象箇所 | N8: 部位区分 | P8: 変状区分 | R8: 変状種類
Y9: 外力注1 | AC9: 材質劣化注1 | AG9: 漏水注1
Y10: Ⅳ | Z10: Ⅲ | AA10: Ⅱa | AB10: Ⅱb | AC10: Ⅳ | AD10: Ⅲ | AE10: Ⅱa | AF10: Ⅱb | AG10: Ⅳ | AH10: Ⅲ | AI10: Ⅱa | AJ10: Ⅱb
K11: 1 | L11: 覆工・坑門 | N11: アーチ（左側） | P11: 材質劣化 | R11: その他 | U11: Ⅱ | W11: Ⅱa | AE11: 0.54 | AK11: 豆板 | AQ11: =IF(P11="材質劣化",2,IF(P11="漏水",3,1)) -> 2
K12: 2 | L12: 路面 | N12: 側溝 | P12: 材質劣化 | R12: うき・はく離 | U12: Ⅱ | W12: － | AK12: はく離 | AQ12: =IF(P12="材質劣化",2,IF(P12="漏水",3,1)) -> 2
K13: 3 | L13: 路面 | N13: 監査歩路 | P13: 材質劣化 | R13: うき・はく離 | U13: Ⅱ | W13: － | AK13: 欠損 | AQ13: =IF(P13="材質劣化",2,IF(P13="漏水",3,1)) -> 2
K14: 4 | L14: 路面 | N14: 側溝 | P14: 材質劣化 | R14: うき・はく離 | U14: Ⅱ | W14: － | AK14: はく離 | AQ14: =IF(P14="材質劣化",2,IF(P14="漏水",3,1)) -> 2
K15: 5 | L15: 路面 | N15: 側溝 | P15: 材質劣化 | R15: うき・はく離 | U15: Ⅱ | W15: － | AK15: うき | AQ15: =IF(P15="材質劣化",2,IF(P15="漏水",3,1)) -> 2
K16: 6 | L16: 路面 | N16: 監査歩路 | P16: 材質劣化 | R16: うき・はく離 | U16: Ⅱ | W16: － | AK16: 欠損 | AQ16: =IF(P16="材質劣化",2,IF(P16="漏水",3,1)) -> 2
K17: 7 | L17: 路面 | N17: 車道 | P17: 漏水 | R17: その他 | U17: Ⅱ | W17: － | AK17: 堆砂 | AQ17: =IF(P17="材質劣化",2,IF(P17="漏水",3,1)) -> 3
AQ18: =IF(P18="材質劣化",2,IF(P18="漏水",3,1)) -> 1
AQ19: =IF(P19="材質劣化",2,IF(P19="漏水",3,1)) -> 1
AQ20: =IF(P20="材質劣化",2,IF(P20="漏水",3,1)) -> 1
AQ21: =IF(P21="材質劣化",2,IF(P21="漏水",3,1)) -> 1
AQ22: =IF(P22="材質劣化",2,IF(P22="漏水",3,1)) -> 1
AQ23: =IF(P23="材質劣化",2,IF(P23="漏水",3,1)) -> 1
AQ24: =IF(P24="材質劣化",2,IF(P24="漏水",3,1)) -> 1
AQ25: =IF(P25="材質劣化",2,IF(P25="漏水",3,1)) -> 1
AQ26: =IF(P26="材質劣化",2,IF(P26="漏水",3,1)) -> 1
AQ27: =IF(P27="材質劣化",2,IF(P27="漏水",3,1)) -> 1
AQ28: =IF(P28="材質劣化",2,IF(P28="漏水",3,1)) -> 1
AQ29: =IF(P29="材質劣化",2,IF(P29="漏水",3,1)) -> 1
AQ30: =IF(P30="材質劣化",2,IF(P30="漏水",3,1)) -> 1
K31: 集計 ・ 判定 ・ 診断 | L31: 変状の発生規模合計(㎡) | Y31: － | AC31: =SUM(AC11:AC30) -> 0 | AD31: =SUM(AD11:AD30) -> 0 | AE31: =SUM(AE11:AE30) -> 0.54 | AF31: =SUM(AF11:AF30) -> 0 | AG31: =SUM(AG11:AG30) -> 0 | AH31: =SUM(AH11:AH30) -> 0 | AI31: =SUM(AI11:AI30) -> 0 | AJ31: =SUM(AJ11:AJ30) -> 0 | AK31: 計
L32: 対策区分の 判定結果 | O32: 判定区分毎の変状数 | Y32: =COUNTIF(Y11:Y30,"〇") -> 0 | Z32: =COUNTIF(Z11:Z30,"〇") -> 0 | AA32: =COUNTIF(AA11:AA30,"〇") -> 0 | AB32: =COUNTIF(AB11:AB30,"〇") -> 0 | AC32: =COUNT(AC11:AC30) -> 0 | AD32: =COUNT(AD11:AD30) -> 0 | AE32: =COUNT(AE11:AE30) -> 1 | AF32: =COUNT(AF11:AF30) -> 0 | AG32: =COUNT(AG11:AG30) -> 0 | AH32: =COUNT(AH11:AH30) -> 0 | AI32: =COUNT(AI11:AI30) -> 0 | AJ32: =COUNT(AJ11:AJ30) -> 0
O33: 変状区分毎の判定区分注3 | Y33: =IF(Y32>0,"Ⅳ",IF(Z32>0,"Ⅲ",IF(AA32>0,"Ⅱa",IF(AB32>0,"Ⅱb","Ⅰ")))) -> Ⅰ | AC33: =IF(AC32>0,"Ⅳ",IF(AD32>0,"Ⅲ",IF(AE32>0,"Ⅱa",IF(AF32>0,"Ⅱb","Ⅰ")))) -> Ⅱa | AG33: =IF(AG32>0,"Ⅳ",IF(AH32>0,"Ⅲ",IF(AI32>0,"Ⅱa",IF(AJ32>0,"Ⅱb","Ⅰ")))) -> Ⅰ | AQ33: Ⅳ | AR33: Ⅲ | AS33: Ⅱ
L34: 健全性の 診断結果 | O34: 判定区分 | Y34: Ⅳ | Z34: Ⅲ | AA34: Ⅱ | AC34: Ⅳ | AD34: Ⅲ | AE34: Ⅱ | AG34: Ⅳ | AH34: Ⅲ | AI34: Ⅱ | AQ34: =+Y32+Z32 -> 0 | AS34: =+AA32+AB32 -> 0
O35: 判定区分毎の変状数注4 | Y35: =IF(Y32=0,"",1) | Z35: =IF(Z32=0,"",1) | AA35: =IF(AQ34=1,"",IF(AS34>0,1,"")) | AC35: =+AC32 -> 0 | AD35: =AD32 -> 0 | AE35: =AE32+AF32 -> 1 | AG35: =AG32 -> 0 | AH35: =AH32 -> 0 | AI35: =AI32+AJ32 -> 0 | AQ35: =+Y32+AC35+AG35 -> 0 | AR35: =+Z32+AD35+AH35 -> 0 | AS35: =+AS34+AE35+AI35 -> 1
O36: 変状区分毎の判定区分注4 | Y36: Ⅰ | AC36: Ⅱ | AG36: Ⅰ | AQ36: =IF(AQ35>0,"Ⅳ",IF(AR35>0,"Ⅲ",IF(AS35>0,"Ⅱ","Ⅰ"))) -> Ⅱ
O37: 覆工スパン単位の判定区分注5 | Y37: Ⅱ
K38: 特記事項
K40: 注1：誤記入防止のため、当該変状区分以外のセルは灰色表示とすること。
K41: 注2：応急対策を実施した場合は、その詳細を備考に記載すること。
K42: 注3：変状区分毎での最も評価の厳しい判定区分。
K43: 注4：変状区分毎での最も評価の厳しい判定区分．外力は覆工スパン単位、材質劣化、漏水は変状単位で行う。
K44: 注5：覆工スパンの中で最も評価の厳しい健全性を採用し、その覆工スパン毎の健全性とする。
B46: ※1：本シートは作成洩れのないよう、変状が無くても全スパン分を作成すること．また変状展開図は、様式D-2-1、様式D-2-1'と同じものを覆工スパン単位で拡大し掲載すること。
B47: ※2：変状番号は、様式D-1-1で記入した番号と整合させること。
B48: ※3：対策区分毎の変状発生規模は、様式D-1-1に記載した面積を記入すること（ただし外力はスパン単位で評価するため対象外とし、備考欄に状況を記入）。
B49: ※4：本様式は覆工スパン毎に作成すること。
B50: ※5：変状数が多い場合は、適時、表の行を増やして覆工スパン毎に1枚のシートに収めること。また、1スパン１シートとし、スパンに合わせてシートを追加すること。
B51: ※6：対策区分毎の変状の発生範囲の規模とは，対策を行う際に参考となる変状の長さや面積であり，変状を包含する長さや面積とする。
B52: ※7：路面滞水は、変状面積に1を記載するとともに、備考にも内容を記載すること。

Sheet 様式D-3_S003
AU1: 様式E-1リンク用→ | AV1: 覆工ｽﾊﾟﾝ 番号 | AW1: ｽﾊﾟﾝ 長 (m) | AX1: 変状数集計 | BS1: 覆工スパン毎の 健全性の診断 | BW1: 変状規模集計
AX2: 対策区分毎の変状数 | BJ2: 健全性の判定区分毎の変状数 | BW2: 覆工スパン長(m) | CA2: 対策区分毎の変状の発生範囲の規模(㎡）
B3: ■定期点検記録様式 覆工スパン別変状詳細展開図 【様式D-3】 | AX3: 外力 | BB3: 材質劣化 | BF3: 漏水 | BJ3: 外力 | BM3: 材質劣化 | BP3: 漏水 | BS3: 外力 | BT3: 材質劣化 | BU3: 漏水 | BV3: 健全性 | BW3: 外力※１ | CA3: 材質劣化 | CE3: 漏水
B4: フリガナ | E4: オオガサコ | K4: 路線名 | N4: 一般国道316号 | T4: 定期点検業者 | Y4: 株式会社オリエンタルコンサルタンツ | AG4: 定期点検年月日 | AK4: 45275 | AX4: Ⅳ | AY4: Ⅲ | AZ4: Ⅱa | BA4: Ⅱb | BB4: Ⅳ | BC4: Ⅲ | BD4: Ⅱa | BE4: Ⅱb | BF4: Ⅳ | BG4: Ⅲ | BH4: Ⅱa | BI4: Ⅱb | BJ4: Ⅳ | BK4: Ⅲ | BL4: Ⅱ | BM4: Ⅳ | BN4: Ⅲ | BO4: Ⅱ | BP4: Ⅳ | BQ4: Ⅲ | BR4: Ⅱ | BW4: Ⅳ | BX4: Ⅲ | BY4: Ⅱa | BZ4: Ⅱb | CA4: Ⅳ | CB4: Ⅲ | CC4: Ⅱa | CD4: Ⅱb | CE4: Ⅳ | CF4: Ⅲ | CG4: Ⅱa | CH4: Ⅱb
B5: 名 称 | E5: 大ヶ迫トンネル | K5: 管理者名 | N5: 長門土木建築事務所 | T5: 定期点検者名 | Y5: 妹尾 優大 | AV5: =N7 -> S003 | AW5: =R7 -> 8.92 | AX5: =+Y32 -> 0 | AY5: =+Z32 -> 0 | AZ5: =+AA32 -> 0 | BA5: =+AB32 -> 0 | BB5: =+AC32 -> 0 | BC5: =+AD32 -> 0 | BD5: =+AE32 -> 0 | BE5: =+AF32 -> 0 | ... BI5: =+AJ32 -> 0 | BJ5: =+Y35 | BK5: =+Z35 | BL5: =+AA35 | BM5: =+AC35 -> 0 | BN5: =+AD35 -> 0 | BO5: =+AE35 -> 0 | BP5: =+AG35 -> 0 | BQ5: =+AH35 -> 0 | BR5: =+AI35 -> 0 | BS5: =+Y36 -> Ⅰ | BT5: =+AC36 -> Ⅰ | BU5: =+AG36 -> Ⅰ | BV5: =+Y37 -> Ⅰ | BW5: =IF(Y32>0,$R$7,"") | BX5: =IF(Z32>0,"",IF(AA32>0,$R$7,"")) | BY5: =IF(Y32+Z32>0,"",IF(AA32>0,$R$7,"")) | BZ5: =IF(Y32+Z32+AA32>0,"",IF(AB32>0,$R$7,"")) | CA5: =+AC31 -> 0 | CB5: =+AD31 -> 0 | CC5: =+AE31 -> 0 | CD5: =+AF31 -> 0 | CE5: =+AG31 -> 0 | CF5: =+AH31 -> 0 | CG5: =+AI31 -> 0 | CH5: =+AJ31 -> 0
B6: スパン別変状展開図 | K6: 【健全性判定集計表】
K7: スパン番号 | N7: S003 | P7: スパン長 | R7: 8.92 | U7: 前回定期点検時の健全性 | W7: 応急措置前の判定 | Y7: 対策区分毎の 変状の有無 | AC7: 対策区分毎の変状の発生範囲の規模(㎡) | AK7: 備考注2
K8: 変状番号 | L8: 対象箇所 | N8: 部位区分 | P8: 変状区分 | R8: 変状種類
Y9: 外力注1 | AC9: 材質劣化注1 | AG9: 漏水注1
Y10: Ⅳ | Z10: Ⅲ | AA10: Ⅱa | AB10: Ⅱb | AC10: Ⅳ | AD10: Ⅲ | AE10: Ⅱa | AF10: Ⅱb | AG10: Ⅳ | AH10: Ⅲ | AI10: Ⅱa | AJ10: Ⅱb
K11: 1 | L11: 路面 | N11: 監査歩路 | P11: 漏水 | R11: その他 | U11: Ⅱ | W11: － | AK11: 堆砂跡 | AQ11: =IF(P11="材質劣化",2,IF(P11="漏水",3,1)) -> 3
K12: 2 | L12: 路面 | N12: 監査歩路 | P12: 材質劣化 | R12: うき・はく離 | U12: Ⅱ | W12: － | AK12: 欠損 | AQ12: =IF(P12="材質劣化",2,IF(P12="漏水",3,1)) -> 2
AQ13: =IF(P13="材質劣化",2,IF(P13="漏水",3,1)) -> 1
AQ14: =IF(P14="材質劣化",2,IF(P14="漏水",3,1)) -> 1
AQ15: =IF(P15="材質劣化",2,IF(P15="漏水",3,1)) -> 1
AQ16: =IF(P16="材質劣化",2,IF(P16="漏水",3,1)) -> 1
AQ17: =IF(P17="材質劣化",2,IF(P17="漏水",3,1)) -> 1
AQ18: =IF(P18="材質劣化",2,IF(P18="漏水",3,1)) -> 1
AQ19: =IF(P19="材質劣化",2,IF(P19="漏水",3,1)) -> 1
AQ20: =IF(P20="材質劣化",2,IF(P20="漏水",3,1)) -> 1
AQ21: =IF(P21="材質劣化",2,IF(P21="漏水",3,1)) -> 1
AQ22: =IF(P22="材質劣化",2,IF(P22="漏水",3,1)) -> 1
AQ23: =IF(P23="材質劣化",2,IF(P23="漏水",3,1)) -> 1
AQ24: =IF(P24="材質劣化",2,IF(P24="漏水",3,1)) -> 1
... AQ30: =IF(P30="材質劣化",2,IF(P30="漏水",3,1)) -> 1
K31: 集計 ・ 判定 ・ 診断 | L31: 変状の発生規模合計(㎡) | Y31: － | AC31: =SUM(AC11:AC30) -> 0 | AD31: =SUM(AD11:AD30) -> 0 | AE31: =SUM(AE11:AE30) -> 0 | AF31: =SUM(AF11:AF30) -> 0 | AG31: =SUM(AG11:AG30) -> 0 | AH31: =SUM(AH11:AH30) -> 0 | AI31: =SUM(AI11:AI30) -> 0 | AJ31: =SUM(AJ11:AJ30) -> 0 | AK31: 計
L32: 対策区分の 判定結果 | O32: 判定区分毎の変状数 | Y32: =COUNTIF(Y11:Y30,"〇") -> 0 | Z32: =COUNTIF(Z11:Z30,"〇") -> 0 | AA32: =COUNTIF(AA11:AA30,"〇") -> 0 | AB32: =COUNTIF(AB11:AB30,"〇") -> 0 | AC32: =COUNT(AC11:AC30) -> 0 | AD32: =COUNT(AD11:AD30) -> 0 | AE32: =COUNT(AE11:AE30) -> 0 | AF32: =COUNT(AF11:AF30) -> 0 | AG32: =COUNT(AG11:AG30) -> 0 | AH32: =COUNT(AH11:AH30) -> 0 | AI32: =COUNT(AI11:AI30) -> 0 | AJ32: =COUNT(AJ11:AJ30) -> 0
O33: 変状区分毎の判定区分注3 | Y33: =IF(Y32>0,"Ⅳ",IF(Z32>0,"Ⅲ",IF(AA32>0,"Ⅱa",IF(AB32>0,"Ⅱb","Ⅰ")))) -> Ⅰ | AC33: =IF(AC32>0,"Ⅳ",IF(AD32>0,"Ⅲ",IF(AE32>0,"Ⅱa",IF(AF32>0,"Ⅱb","Ⅰ")))) -> Ⅰ | AG33: =IF(AG32>0,"Ⅳ",IF(AH32>0,"Ⅲ",IF(AI32>0,"Ⅱa",IF(AJ32>0,"Ⅱb","Ⅰ")))) -> Ⅰ | AQ33: Ⅳ | AR33: Ⅲ | AS33: Ⅱ
L34: 健全性の 診断結果 | O34: 判定区分 | Y34: Ⅳ | Z34: Ⅲ | AA34: Ⅱ | AC34: Ⅳ | AD34: Ⅲ | AE34: Ⅱ | AG34: Ⅳ | AH34: Ⅲ | AI34: Ⅱ | AQ34: =+Y32+Z32 -> 0 | AS34: =+AA32+AB32 -> 0
O35: 判定区分毎の変状数注4 | Y35: =IF(Y32=0,"",1) | Z35: =IF(Z32=0,"",1) | AA35: =IF(AQ34=1,"",IF(AS34>0,1,"")) | AC35: =+AC32 -> 0 | AD35: =AD32 -> 0 | AE35: =AE32+AF32 -> 0 | AG35: =AG32 -> 0 | AH35: =AH32 -> 0 | AI35: =AI32+AJ32 -> 0 | AQ35: =+Y32+AC35+AG35 -> 0 | AR35: =+Z32+AD35+AH35 -> 0 | AS35: =+AS34+AE35+AI35 -> 0
O36: 変状区分毎の判定区分注4 | Y36: Ⅰ | AC36: Ⅰ | AG36: Ⅰ | AQ36: =IF(AQ35>0,"Ⅳ",IF(AR35>0,"Ⅲ",IF(AS35>0,"Ⅱ","Ⅰ"))) -> Ⅰ
O37: 覆工スパン単位の判定区分注5 | Y37: Ⅰ
K38: 特記事項
K40: 注1：誤記入防止のため、当該変状区分以外のセルは灰色表示とすること。
K41: 注2：応急対策を実施した場合は、その詳細を備考に記載すること。
K42: 注3：変状区分毎での最も評価の厳しい判定区分。
K43: 注4：変状区分毎での最も評価の厳しい判定区分．外力は覆工スパン単位、材質劣化、漏水は変状単位で行う。
K44: 注5：覆工スパンの中で最も評価の厳しい健全性を採用し、その覆工スパン毎の健全性とする。
B46: ※1：本シートは作成洩れのないよう、変状が無くても全スパン分を作成すること．また変状展開図は、様式D-2-1、様式D-2-1'と同じものを覆工スパン単位で拡大し掲載すること。
B47: ※2：変状番号は、様式D-1-1で記入した番号と整合させること。
B48: ※3：対策区分毎の変状発生規模は、様式D-1-1に記載した面積を記入すること（ただし外力はスパン単位で評価するため対象外とし、備考欄に状況を記入）。
B49: ※4：本様式は覆工スパン毎に作成すること。
B50: ※5：変状数が多い場合は、適時、表の行を増やして覆工スパン毎に1枚のシートに収めること。また、1スパン１シートとし、スパンに合わせてシートを追加すること。
B51: ※6：対策区分毎の変状の発生範囲の規模とは，対策を行う際に参考となる変状の長さや面積であり，変状を包含する長さや面積とする。
B52: ※7：路面滞水は、変状面積に1を記載するとともに、備考にも内容を記載すること。

Sheet 様式D-3_S004
AU1: 様式E-1リンク用→ | AV1: 覆工ｽﾊﾟﾝ 番号 | AW1: ｽﾊﾟﾝ 長 (m) | AX1: 変状数集計 | BS1: 覆工スパン毎の 健全性の診断 | BW1: 変状規模集計
AX2: 対策区分毎の変状数 | BJ2: 健全性の判定区分毎の変状数 | BW2: 覆工スパン長(m) | CA2: 対策区分毎の変状の発生範囲の規模(㎡）
B3: ■定期点検記録様式 覆工スパン別変状詳細展開図 【様式D-3】 | AX3: 外力 | BB3: 材質劣化 | BF3: 漏水 | BJ3: 外力 | BM3: 材質劣化 | BP3: 漏水 | BS3: 外力 | BT3: 材質劣化 | BU3: 漏水 | BV3: 健全性 | BW3: 外力※１ | CA3: 材質劣化 | CE3: 漏水
B4: フリガナ | E4: オオガサコ | K4: 路線名 | N4: 一般国道316号 | T4: 定期点検業者 | Y4: 株式会社オリエンタルコンサルタンツ | AG4: 定期点検年月日 | AK4: 45275 | AX4: Ⅳ | AY4: Ⅲ | AZ4: Ⅱa | BA4: Ⅱb | BB4: Ⅳ | BC4: Ⅲ | BD4: Ⅱa | BE4: Ⅱb | BF4: Ⅳ | BG4: Ⅲ | BH4: Ⅱa | BI4: Ⅱb | BJ4: Ⅳ | BK4: Ⅲ | BL4: Ⅱ | BM4: Ⅳ | BN4: Ⅲ | BO4: Ⅱ | BP4: Ⅳ | BQ4: Ⅲ | BR4: Ⅱ | BW4: Ⅳ | BX4: Ⅲ | BY4: Ⅱa | BZ4: Ⅱb | CA4: Ⅳ | CB4: Ⅲ | CC4: Ⅱa | CD4: Ⅱb | CE4: Ⅳ | CF4: Ⅲ | CG4: Ⅱa | CH4: Ⅱb
B5: 名 称 | E5: 大ヶ迫トンネル | K5: 管理者名 | N5: 長門土木建築事務所 | T5: 定期点検者名 | Y5: 妹尾 優大 | AV5: =N7 -> S004 | AW5: =R7 -> 8.77 | AX5: =+Y32 -> 0 | AY5: =+Z32 -> 0 | AZ5: =+AA32 -> 0 | BA5: =+AB32 -> 0 | BB5: =+AC32 -> 0 | BC5: =+AD32 -> 0 | BD5: =+AE32 -> 0 | BE5: =+AF32 -> 0 | ... BI5: =+AJ32 -> 3 | BJ5: =+Y35 | BK5: =+Z35 | BL5: =+AA35 | BM5: =+AC35 -> 0 | BN5: =+AD35 -> 0 | BO5: =+AE35 -> 0 | BP5: =+AG35 -> 0 | BQ5: =+AH35 -> 0 | BR5: =+AI35 -> 5 | BS5: =+Y36 -> Ⅰ | BT5: =+AC36 -> Ⅰ | BU5: =+AG36 -> Ⅱ | BV5: =+Y37 -> Ⅱ | BW5: =IF(Y32>0,$R$7,"") | BX5: =IF(Z32>0,"",IF(AA32>0,$R$7,"")) | BY5: =IF(Y32+Z32>0,"",IF(AA32>0,$R$7,"")) | BZ5: =IF(Y32+Z32+AA32>0,"",IF(AB32>0,$R$7,"")) | CA5: =+AC31 -> 0 | CB5: =+AD31 -> 0 | CC5: =+AE31 -> 0 | CD5: =+AF31 -> 0 | CE5: =+AG31 -> 0 | CF5: =+AH31 -> 0 | CG5: =+AI31 -> 4.9 | CH5: =+AJ31 -> 9.75
B6: スパン別変状展開図 | K6: 【健全性判定集計表】
K7: スパン番号 | N7: S004 | P7: スパン長 | R7: 8.77 | U7: 前回定期点検時の健全性 | W7: 応急措置前の判定 | Y7: 対策区分毎の 変状の有無 | AC7: 対策区分毎の変状の発生範囲の規模(㎡) | AK7: 備考注2
K8: 変状番号 | L8: 対象箇所 | N8: 部位区分 | P8: 変状区分 | R8: 変状種類
Y9: 外力注1 | AC9: 材質劣化注1 | AG9: 漏水注1
Y10: Ⅳ | Z10: Ⅲ | AA10: Ⅱa | AB10: Ⅱb | AC10: Ⅳ | AD10: Ⅲ | AE10: Ⅱa | AF10: Ⅱb | AG10: Ⅳ | AH10: Ⅲ | AI10: Ⅱa | AJ10: Ⅱb
K11: 1 | L11: 覆工・坑門 | N11: 横断目地（左側） | P11: 漏水 | R11: 漏水 | U11: Ⅱ | W11: Ⅱb | AJ11: 2 | AK11: にじみ | AQ11: =IF(P11="材質劣化",2,IF(P11="漏水",3,1)) -> 3
K12: 2 | L12: 覆工・坑門 | N12: アーチ（左側） | P12: 漏水 | R12: 補強・補修材の破損 | U12: Ⅱ | W12: Ⅱa | AI12: 0.65 | AK12: 導水工破損 | AQ12: =IF(P12="材質劣化",2,IF(P12="漏水",3,1)) -> 3
K13: 3 | L13: 覆工・坑門 | N13: 横断目地（左側） | P13: 材質劣化 | R13: うき・はく離 | U13: Ⅰ | W13: Ⅰ | AK13: はく落 | AQ13: =IF(P13="材質劣化",2,IF(P13="漏水",3,1)) -> 2
K14: 4 | L14: 覆工・坑門 | N14: 横断目地（左側） | P14: 材質劣化 | R14: うき・はく離 | U14: Ⅰ | W14: Ⅰ | AK14: はく落 | AQ14: =IF(P14="材質劣化",2,IF(P14="漏水",3,1)) -> 2
K15: 5 | L15: 覆工・坑門 | N15: アーチ（左側） | P15: 漏水 | R15: 漏水 | U15: Ⅱ | W15: Ⅱa | AI15: 4.25 | AK15: 滴水 | AQ15: =IF(P15="材質劣化",2,IF(P15="漏水",3,1)) -> 3
K16: 6 | L16: 覆工・坑門 | N16: 横断目地（天端） | P16: 漏水 | R16: 漏水 | U16: Ⅱ | W16: Ⅱb | AJ16: 4.25 | AK16: にじみ | AQ16: =IF(P16="材質劣化",2,IF(P16="漏水",3,1)) -> 3
K17: 7 | L17: 覆工・坑門 | N17: 横断目地（右側） | P17: 漏水 | R17: 漏水 | U17: Ⅱ | W17: Ⅱb | AJ17: 3.5 | AK17: にじみ | AQ17: =IF(P17="材質劣化",2,IF(P17="漏水",3,1)) -> 3
K18: 8 | L18: 路面 | N18: 監査歩路 | P18: 材質劣化 | R18: うき・はく離 | U18: Ⅱ | W18: － | AK18: うき | AQ18: =IF(P18="材質劣化",2,IF(P18="漏水",3,1)) -> 2
K19: 9 | L19: 路面 | N19: 側溝 | P19: 材質劣化 | R19: うき・はく離 | U19: Ⅱ | W19: － | AK19: はく離 | AQ19: =IF(P19="材質劣化",2,IF(P19="漏水",3,1)) -> 2
AQ20: =IF(P20="材質劣化",2,IF(P20="漏水",3,1)) -> 1
AQ21: =IF(P21="材質劣化",2,IF(P21="漏水",3,1)) -> 1
AQ22: =IF(P22="材質劣化",2,IF(P22="漏水",3,1)) -> 1
AQ23: =IF(P23="材質劣化",2,IF(P23="漏水",3,1)) -> 1
AQ24: =IF(P24="材質劣化",2,IF(P24="漏水",3,1)) -> 1
AQ25: =IF(P25="材質劣化",2,IF(P25="漏水",3,1)) -> 1
AQ26: =IF(P26="材質劣化",2,IF(P26="漏水",3,1)) -> 1
AQ27: =IF(P27="材質劣化",2,IF(P27="漏水",3,1)) -> 1
AQ28: =IF(P28="材質劣化",2,IF(P28="漏水",3,1)) -> 1
AQ29: =IF(P29="材質劣化",2,IF(P29="漏水",3,1)) -> 1
AQ30: =IF(P30="材質劣化",2,IF(P30="漏水",3,1)) -> 1
K31: 集計 ・ 判定 ・ 診断 | L31: 変状の発生規模合計(㎡) | Y31: － | AC31: =SUM(AC11:AC30) -> 0 | AD31: =SUM(AD11:AD30) -> 0 | AE31: =SUM(AE11:AE30) -> 0 | AF31: =SUM(AF11:AF30) -> 0 | AG31: =SUM(AG11:AG30) -> 0 | AH31: =SUM(AH11:AH30) -> 0 | AI31: =SUM(AI11:AI30) -> 4.9 | AJ31: =SUM(AJ11:AJ30) -> 9.75 | AK31: 計
L32: 対策区分の 判定結果 | O32: 判定区分毎の変状数 | Y32: =COUNTIF(Y11:Y30,"〇") -> 0 | Z32: =COUNTIF(Z11:Z30,"〇") -> 0 | AA32: =COUNTIF(AA11:AA30,"〇") -> 0 | AB32: =COUNTIF(AB11:AB30,"〇") -> 0 | AC32: =COUNT(AC11:AC30) -> 0 | AD32: =COUNT(AD11:AD30) -> 0 | AE32: =COUNT(AE11:AE30) -> 0 | AF32: =COUNT(AF11:AF30) -> 0 | AG32: =COUNT(AG11:AG30) -> 0 | AH32: =COUNT(AH11:AH30) -> 0 | AI32: =COUNT(AI11:AI30) -> 2 | AJ32: =COUNT(AJ11:AJ30) -> 3
O33: 変状区分毎の判定区分注3 | Y33: =IF(Y32>0,"Ⅳ",IF(Z32>0,"Ⅲ",IF(AA32>0,"Ⅱa",IF(AB32>0,"Ⅱb","Ⅰ")))) -> Ⅰ | AC33: =IF(AC32>0,"Ⅳ",IF(AD32>0,"Ⅲ",IF(AE32>0,"Ⅱa",IF(AF32>0,"Ⅱb","Ⅰ")))) -> Ⅰ | AG33: =IF(AG32>0,"Ⅳ",IF(AH32>0,"Ⅲ",IF(AI32>0,"Ⅱa",IF(AJ32>0,"Ⅱb","Ⅰ")))) -> Ⅱa | AQ33: Ⅳ | AR33: Ⅲ | AS33: Ⅱ
L34: 健全性の 診断結果 | O34: 判定区分 | Y34: Ⅳ | Z34: Ⅲ | AA34: Ⅱ | AC34: Ⅳ | AD34: Ⅲ | AE34: Ⅱ | AG34: Ⅳ | AH34: Ⅲ | AI34: Ⅱ | AQ34: =+Y32+Z32 -> 0 | AS34: =+AA32+AB32 -> 0
O35: 判定区分毎の変状数注4 | Y35: =IF(Y32=0,"",1) | Z35: =IF(Z32=0,"",1) | AA35: =IF(AQ34=1,"",IF(AS34>0,1,"")) | AC35: =+AC32 -> 0 | AD35: =AD32 -> 0 | AE35: =AE32+AF32 -> 0 | AG35: =AG32 -> 0 | AH35: =AH32 -> 0 | AI35: =AI32+AJ32 -> 5 | AQ35: =+Y32+AC35+AG35 -> 0 | AR35: =+Z32+AD35+AH35 -> 0 | AS35: =+AS34+AE35+AI35 -> 5
O36: 変状区分毎の判定区分注4 | Y36: Ⅰ | AC36: Ⅰ | AG36: Ⅱ | AQ36: =IF(AQ35>0,"Ⅳ",IF(AR35>0,"Ⅲ",IF(AS35>0,"Ⅱ","Ⅰ"))) -> Ⅱ
O37: 覆工スパン単位の判定区分注5 | Y37: Ⅱ
K38: 特記事項
K40: 注1：誤記入防止のため、当該変状区分以外のセルは灰色表示とすること。
K41: 注2：応急対策を実施した場合は、その詳細を備考に記載すること。
K42: 注3：変状区分毎での最も評価の厳しい判定区分。
K43: 注4：変状区分毎での最も評価の厳しい判定区分．外力は覆工スパン単位、材質劣化、漏水は変状単位で行う。
K44: 注5：覆工スパンの中で最も評価の厳しい健全性を採用し、その覆工スパン毎の健全性とする。
B46: ※1：本シートは作成洩れのないよう、変状が無くても全スパン分を作成すること．また変状展開図は、様式D-2-1、様式D-2-1'と同じものを覆工スパン単位で拡大し掲載すること。
B47: ※2：変状番号は、様式D-1-1で記入した番号と整合させること。
B48: ※3：対策区分毎の変状発生規模は、様式D-1-1に記載した面積を記入すること（ただし外力はスパン単位で評価するため対象外とし、備考欄に状況を記入）。
B49: ※4：本様式は覆工スパン毎に作成すること。
B50: ※5：変状数が多い場合は、適時、表の行を増やして覆工スパン毎に1枚のシートに収めること。また、1スパン１シートとし、スパンに合わせてシートを追加すること。
B51: ※6：対策区分毎の変状の発生範囲の規模とは，対策を行う際に参考となる変状の長さや面積であり，変状を包含する長さや面積とする。
B52: ※7：路面滞水は、変状面積に1を記載するとともに、備考にも内容を記載すること。

Sheet 様式D-3_S005
AU1: 様式E-1リンク用→ | AV1: 覆工ｽﾊﾟﾝ 番号 | AW1: ｽﾊﾟﾝ 長 (m) | AX1: 変状数集計 | BS1: 覆工スパン毎の 健全性の診断 | BW1: 変状規模集計
AX2: 対策区分毎の変状数 | BJ2: 健全性の判定区分毎の変状数 | BW2: 覆工スパン長(m) | CA2: 対策区分毎の変状の発生範囲の規模(㎡）
B3: ■定期点検記録様式 覆工スパン別変状詳細展開図 【様式D-3】 | AX3: 外力 | BB3: 材質劣化 | BF3: 漏水 | BJ3: 外力 | BM3: 材質劣化 | BP3: 漏水 | BS3: 外力 | BT3: 材質劣化 | BU3: 漏水 | BV3: 健全性 | BW3: 外力※１ | CA3: 材質劣化 | CE3: 漏水
B4: フリガナ | E4: オオガサコ | K4: 路線名 | N4: 一般国道316号 | T4: 定期点検業者 | Y4: 株式会社オリエンタルコンサルタンツ | AG4: 定期点検年月日 | AK4: 45275 | AX4: Ⅳ | AY4: Ⅲ | AZ4: Ⅱa | BA4: Ⅱb | BB4: Ⅳ | BC4: Ⅲ | BD4: Ⅱa | BE4: Ⅱb | BF4: Ⅳ | BG4: Ⅲ | BH4: Ⅱa | BI4: Ⅱb | BJ4: Ⅳ | BK4: Ⅲ | BL4: Ⅱ | BM4: Ⅳ | BN4: Ⅲ | BO4: Ⅱ | BP4: Ⅳ | BQ4: Ⅲ | BR4: Ⅱ | BW4: Ⅳ | BX4: Ⅲ | BY4: Ⅱa | BZ4: Ⅱb | CA4: Ⅳ | CB4: Ⅲ | CC4: Ⅱa | CD4: Ⅱb | CE4: Ⅳ | CF4: Ⅲ | CG4: Ⅱa | CH4: Ⅱb
B5: 名 称 | E5: 大ヶ迫トンネル | K5: 管理者名 | N5: 長門土木建築事務所 | T5: 定期点検者名 | Y5: 妹尾 優大 | AV5: =N7 -> S005 | AW5: =R7 -> 8.95 | AX5: =+Y32 -> 0 | AY5: =+Z32 -> 0 | AZ5: =+AA32 -> 0 | BA5: =+AB32 -> 0 | BB5: =+AC32 -> 0 | BC5: =+AD32 -> 0 | BD5: =+AE32 -> 0 | BE5: =+AF32 -> 0 | ... BI5: =+AJ32 -> 0 | BJ5: =+Y35 | BK5: =+Z35 | BL5: =+AA35 | BM5: =+AC35 -> 0 | BN5: =+AD35 -> 0 | BO5: =+AE35 -> 0 | BP5: =+AG35 -> 0 | BQ5: =+AH35 -> 0 | BR5: =+AI35 -> 0 | BS5: =+Y36 -> Ⅰ | BT5: =+AC36 -> Ⅰ | BU5: =+AG36 -> Ⅰ | BV5: =+Y37 -> Ⅰ | BW5: =IF(Y32>0,$R$7,"") | BX5: =IF(Z32>0,"",IF(AA32>0,$R$7,"")) | BY5: =IF(Y32+Z32>0,"",IF(AA32>0,$R$7,"")) | BZ5: =IF(Y32+Z32+AA32>0,"",IF(AB32>0,$R$7,"")) | CA5: =+AC31 -> 0 | CB5: =+AD31 -> 0 | CC5: =+AE31 -> 0 | CD5: =+AF31 -> 0 | CE5: =+AG31 -> 0 | CF5: =+AH31 -> 0 | CG5: =+AI31 -> 0 | CH5: =+AJ31 -> 0
B6: スパン別変状展開図 | K6: 【健全性判定集計表】
K7: スパン番号 | N7: S005 | P7: スパン長 | R7: 8.95 | U7: 前回定期点検時の健全性 | W7: 応急措置前の判定 | Y7: 対策区分毎の 変状の有無 | AC7: 対策区分毎の変状の発生範囲の規模(㎡) | AK7: 備考注2
K8: 変状番号 | L8: 対象箇所 | N8: 部位区分 | P8: 変状区分 | R8: 変状種類
Y9: 外力注1 | AC9: 材質劣化注1 | AG9: 漏水注1
Y10: Ⅳ | Z10: Ⅲ | AA10: Ⅱa | AB10: Ⅱb | AC10: Ⅳ | AD10: Ⅲ | AE10: Ⅱa | AF10: Ⅱb | AG10: Ⅳ | AH10: Ⅲ | AI10: Ⅱa | AJ10: Ⅱb
K11: 1 | L11: 覆工・坑門 | N11: 横断目地（右側） | P11: 材質劣化 | R11: うき・はく離 | U11: Ⅰ | W11: Ⅰ | AK11: はく落 | AQ11: =IF(P11="材質劣化",2,IF(P11="漏水",3,1)) -> 2
K12: 2 | L12: 路面 | N12: 側溝 | P12: 材質劣化 | R12: うき・はく離 | U12: Ⅱ | W12: － | AK12: うき | AQ12: =IF(P12="材質劣化",2,IF(P12="漏水",3,1)) -> 2
K13: 3 | L13: 路面 | N13: 側溝 | P13: 材質劣化 | R13: うき・はく離 | U13: Ⅱ | W13: － | AK13: はく離 | AQ13: =IF(P13="材質劣化",2,IF(P13="漏水",3,1)) -> 2
K14: 4 | L14: 路面 | N14: 監査歩路 | P14: 材質劣化 | R14: うき・はく離 | U14: Ⅱ | W14: － | AK14: 欠損 | AQ14: =IF(P14="材質劣化",2,IF(P14="漏水",3,1)) -> 2
K15: 5 | L15: 路面 | N15: 側溝 | P15: 材質劣化 | R15: うき・はく離 | U15: Ⅱ | W15: － | AK15: はく離 | AQ15: =IF(P15="材質劣化",2,IF(P15="漏水",3,1)) -> 2
AQ16: =IF(P16="材質劣化",2,IF(P16="漏水",3,1)) -> 1
AQ17: =IF(P17="材質劣化",2,IF(P17="漏水",3,1)) -> 1
AQ18: =IF(P18="材質劣化",2,IF(P18="漏水",3,1)) -> 1
AQ19: =IF(P19="材質劣化",2,IF(P19="漏水",3,1)) -> 1
AQ20: =IF(P20="材質劣化",2,IF(P20="漏水",3,1)) -> 1
AQ21: =IF(P21="材質劣化",2,IF(P21="漏水",3,1)) -> 1
AQ22: =IF(P22="材質劣化",2,IF(P22="漏水",3,1)) -> 1
AQ23: =IF(P23="材質劣化",2,IF(P23="漏水",3,1)) -> 1
AQ24: =IF(P24="材質劣化",2,IF(P24="漏水",3,1)) -> 1
AQ25: =IF(P25="材質劣化",2,IF(P25="漏水",3,1)) -> 1
AQ26: =IF(P26="材質劣化",2,IF(P26="漏水",3,1)) -> 1
AQ27: =IF(P27="材質劣化",2,IF(P27="漏水",3,1)) -> 1
... AQ30: =IF(P30="材質劣化",2,IF(P30="漏水",3,1)) -> 1
K31: 集計 ・ 判定 ・ 診断 | L31: 変状の発生規模合計(㎡) | Y31: － | AC31: =SUM(AC11:AC30) -> 0 | AD31: =SUM(AD11:AD30) -> 0 | AE31: =SUM(AE11:AE30) -> 0 | AF31: =SUM(AF11:AF30) -> 0 | AG31: =SUM(AG11:AG30) -> 0 | AH31: =SUM(AH11:AH30) -> 0 | AI31: =SUM(AI11:AI30) -> 0 | AJ31: =SUM(AJ11:AJ30) -> 0 | AK31: 計
L32: 対策区分の 判定結果 | O32: 判定区分毎の変状数 | Y32: =COUNTIF(Y11:Y30,"〇") -> 0 | Z32: =COUNTIF(Z11:Z30,"〇") -> 0 | AA32: =COUNTIF(AA11:AA30,"〇") -> 0 | AB32: =COUNTIF(AB11:AB30,"〇") -> 0 | AC32: =COUNT(AC11:AC30) -> 0 | AD32: =COUNT(AD11:AD30) -> 0 | AE32: =COUNT(AE11:AE30) -> 0 | AF32: =COUNT(AF11:AF30) -> 0 | AG32: =COUNT(AG11:AG30) -> 0 | AH32: =COUNT(AH11:AH30) -> 0 | AI32: =COUNT(AI11:AI30) -> 0 | AJ32: =COUNT(AJ11:AJ30) -> 0
O33: 変状区分毎の判定区分注3 | Y33: =IF(Y32>0,"Ⅳ",IF(Z32>0,"Ⅲ",IF(AA32>0,"Ⅱa",IF(AB32>0,"Ⅱb","Ⅰ")))) -> Ⅰ | AC33: =IF(AC32>0,"Ⅳ",IF(AD32>0,"Ⅲ",IF(AE32>0,"Ⅱa",IF(AF32>0,"Ⅱb","Ⅰ")))) -> Ⅰ | AG33: =IF(AG32>0,"Ⅳ",IF(AH32>0,"Ⅲ",IF(AI32>0,"Ⅱa",IF(AJ32>0,"Ⅱb","Ⅰ")))) -> Ⅰ | AQ33: Ⅳ | AR33: Ⅲ | AS33: Ⅱ
L34: 健全性の 診断結果 | O34: 判定区分 | Y34: Ⅳ | Z34: Ⅲ | AA34: Ⅱ | AC34: Ⅳ | AD34: Ⅲ | AE34: Ⅱ | AG34: Ⅳ | AH34: Ⅲ | AI34: Ⅱ | AQ34: =+Y32+Z32 -> 0 | AS34: =+AA32+AB32 -> 0
O35: 判定区分毎の変状数注4 | Y35: =IF(Y32=0,"",1) | Z35: =IF(Z32=0,"",1) | AA35: =IF(AQ34=1,"",IF(AS34>0,1,"")) | AC35: =+AC32 -> 0 | AD35: =AD32 -> 0 | AE35: =AE32+AF32 -> 0 | AG35: =AG32 -> 0 | AH35: =AH32 -> 0 | AI35: =AI32+AJ32 -> 0 | AQ35: =+Y32+AC35+AG35 -> 0 | AR35: =+Z32+AD35+AH35 -> 0 | AS35: =+AS34+AE35+AI35 -> 0
O36: 変状区分毎の判定区分注4 | Y36: Ⅰ | AC36: Ⅰ | AG36: Ⅰ | AQ36: =IF(AQ35>0,"Ⅳ",IF(AR35>0,"Ⅲ",IF(AS35>0,"Ⅱ","Ⅰ"))) -> Ⅰ
O37: 覆工スパン単位の判定区分注5 | Y37: Ⅰ
K38: 特記事項
K40: 注1：誤記入防止のため、当該変状区分以外のセルは灰色表示とすること。
K41: 注2：応急対策を実施した場合は、その詳細を備考に記載すること。
K42: 注3：変状区分毎での最も評価の厳しい判定区分。
K43: 注4：変状区分毎での最も評価の厳しい判定区分．外力は覆工スパン単位、材質劣化、漏水は変状単位で行う。
K44: 注5：覆工スパンの中で最も評価の厳しい健全性を採用し、その覆工スパン毎の健全性とする。
B46: ※1：本シートは作成洩れのないよう、変状が無くても全スパン分を作成すること．また変状展開図は、様式D-2-1、様式D-2-1'と同じものを覆工スパン単位で拡大し掲載すること。
B47: ※2：変状番号は、様式D-1-1で記入した番号と整合させること。
B48: ※3：対策区分毎の変状発生規模は、様式D-1-1に記載した面積を記入すること（ただし外力はスパン単位で評価するため対象外とし、備考欄に状況を記入）。
B49: ※4：本様式は覆工スパン毎に作成すること。
B50: ※5：変状数が多い場合は、適時、表の行を増やして覆工スパン毎に1枚のシートに収めること。また、1スパン１シートとし、スパンに合わせてシートを追加すること。
B51: ※6：対策区分毎の変状の発生範囲の規模とは，対策を行う際に参考となる変状の長さや面積であり，変状を包含する長さや面積とする。
B52: ※7：路面滞水は、変状面積に1を記載するとともに、備考にも内容を記載すること。

Sheet 様式D-3_S006
AU1: 様式E-1リンク用→ | AV1: 覆工ｽﾊﾟﾝ 番号 | AW1: ｽﾊﾟﾝ 長 (m) | AX1: 変状数集計 | BS1: 覆工スパン毎の 健全性の診断 | BW1: 変状規模集計
AX2: 対策区分毎の変状数 | BJ2: 健全性の判定区分毎の変状数 | BW2: 覆工スパン長(m) | CA2: 対策区分毎の変状の発生範囲の規模(㎡）
B3: ■定期点検記録様式 覆工スパン別変状詳細展開図 【様式D-3】 | AX3: 外力 | BB3: 材質劣化 | BF3: 漏水 | BJ3: 外力 | BM3: 材質劣化 | BP3: 漏水 | BS3: 外力 | BT3: 材質劣化 | BU3: 漏水 | BV3: 健全性 | BW3: 外力※１ | CA3: 材質劣化 | CE3: 漏水
B4: フリガナ | E4: オオガサコ | K4: 路線名 | N4: 一般国道316号 | T4: 定期点検業者 | Y4: 株式会社オリエンタルコンサルタンツ | AG4: 定期点検年月日 | AK4: 45275 | AX4: Ⅳ | AY4: Ⅲ | AZ4: Ⅱa | BA4: Ⅱb | BB4: Ⅳ | BC4: Ⅲ | BD4: Ⅱa | BE4: Ⅱb | BF4: Ⅳ | BG4: Ⅲ | BH4: Ⅱa | BI4: Ⅱb | BJ4: Ⅳ | BK4: Ⅲ | BL4: Ⅱ | BM4: Ⅳ | BN4: Ⅲ | BO4: Ⅱ | BP4: Ⅳ | BQ4: Ⅲ | BR4: Ⅱ | BW4: Ⅳ | BX4: Ⅲ | BY4: Ⅱa | BZ4: Ⅱb | CA4: Ⅳ | CB4: Ⅲ | CC4: Ⅱa | CD4: Ⅱb | CE4: Ⅳ | CF4: Ⅲ | CG4: Ⅱa | CH4: Ⅱb
B5: 名 称 | E5: 大ヶ迫トンネル | K5: 管理者名 | N5: 長門土木建築事務所 | T5: 定期点検者名 | Y5: 妹尾 優大 | AV5: =N7 -> S006 | AW5: =R7 -> 8.97 | AX5: =+Y32 -> 0 | AY5: =+Z32 -> 0 | AZ5: =+AA32 -> 0 | BA5: =+AB32 -> 0 | BB5: =+AC32 -> 0 | BC5: =+AD32 -> 0 | BD5: =+AE32 -> 2 | BE5: =+AF32 -> 0 | ... BI5: =+AJ32 -> 0 | BJ5: =+Y35 | BK5: =+Z35 | BL5: =+AA35 | BM5: =+AC35 -> 0 | BN5: =+AD35 -> 0 | BO5: =+AE35 -> 2 | BP5: =+AG35 -> 0 | BQ5: =+AH35 -> 0 | BR5: =+AI35 -> 0 | BS5: =+Y36 -> Ⅰ | BT5: =+AC36 -> Ⅱ | BU5: =+AG36 -> Ⅰ | BV5: =+Y37 -> Ⅱ | BW5: =IF(Y32>0,$R$7,"") | BX5: =IF(Z32>0,"",IF(AA32>0,$R$7,"")) | BY5: =IF(Y32+Z32>0,"",IF(AA32>0,$R$7,"")) | BZ5: =IF(Y32+Z32+AA32>0,"",IF(AB32>0,$R$7,"")) | CA5: =+AC31 -> 0 | CB5: =+AD31 -> 0 | CC5: =+AE31 -> 0.59 | CD5: =+AF31 -> 0 | CE5: =+AG31 -> 0 | CF5: =+AH31 -> 0 | CG5: =+AI31 -> 0 | CH5: =+AJ31 -> 0
B6: スパン別変状展開図 | K6: 【健全性判定集計表】
K7: スパン番号 | N7: S006 | P7: スパン長 | R7: 8.97 | U7: 前回定期点検時の健全性 | W7: 応急措置前の判定 | Y7: 対策区分毎の 変状の有無 | AC7: 対策区分毎の変状の発生範囲の規模(㎡) | AK7: 備考注2
K8: 変状番号 | L8: 対象箇所 | N8: 部位区分 | P8: 変状区分 | R8: 変状種類
Y9: 外力注1 | AC9: 材質劣化注1 | AG9: 漏水注1
Y10: Ⅳ | Z10: Ⅲ | AA10: Ⅱa | AB10: Ⅱb | AC10: Ⅳ | AD10: Ⅲ | AE10: Ⅱa | AF10: Ⅱb | AG10: Ⅳ | AH10: Ⅲ | AI10: Ⅱa | AJ10: Ⅱb
K11: 1 | L11: 覆工・坑門 | N11: 横断目地（左側） | P11: 材質劣化 | R11: うき・はく離 | U11: Ⅱ | W11: Ⅱa | AE11: 0.05 | AK11: うき | AQ11: =IF(P11="材質劣化",2,IF(P11="漏水",3,1)) -> 2
K12: 2 | L12: 覆工・坑門 | N12: アーチ（左側） | P12: 材質劣化 | R12: その他 | U12: Ⅱ | W12: Ⅱa | AE12: 0.54 | AK12: 豆板 | AQ12: =IF(P12="材質劣化",2,IF(P12="漏水",3,1)) -> 2
K13: 3 | L13: 路面 | N13: 側溝 | P13: 材質劣化 | R13: うき・はく離 | U13: Ⅱ | W13: － | AK13: うき | AQ13: =IF(P13="材質劣化",2,IF(P13="漏水",3,1)) -> 2
K14: 4 | L14: 路面 | N14: 車道 | P14: 材質劣化 | R14: うき・はく離 | U14: Ⅱ | W14: － | AK14: うき | AQ14: =IF(P14="材質劣化",2,IF(P14="漏水",3,1)) -> 2
AQ15: =IF(P15="材質劣化",2,IF(P15="漏水",3,1)) -> 1
AQ16: =IF(P16="材質劣化",2,IF(P16="漏水",3,1)) -> 1
AQ17: =IF(P17="材質劣化",2,IF(P17="漏水",3,1)) -> 1
AQ18: =IF(P18="材質劣化",2,IF(P18="漏水",3,1)) -> 1
AQ19: =IF(P19="材質劣化",2,IF(P19="漏水",3,1)) -> 1
AQ20: =IF(P20="材質劣化",2,IF(P20="漏水",3,1)) -> 1
AQ21: =IF(P21="材質劣化",2,IF(P21="漏水",3,1)) -> 1
AQ22: =IF(P22="材質劣化",2,IF(P22="漏水",3,1)) -> 1
AQ23: =IF(P23="材質劣化",2,IF(P23="漏水",3,1)) -> 1
AQ24: =IF(P24="材質劣化",2,IF(P24="漏水",3,1)) -> 1
AQ25: =IF(P25="材質劣化",2,IF(P25="漏水",3,1)) -> 1
AQ26: =IF(P26="材質劣化",2,IF(P26="漏水",3,1)) -> 1
... AQ30: =IF(P30="材質劣化",2,IF(P30="漏水",3,1)) -> 1
K31: 集計 ・ 判定 ・ 診断 | L31: 変状の発生規模合計(㎡) | Y31: － | AC31: =SUM(AC11:AC30) -> 0 | AD31: =SUM(AD11:AD30) -> 0 | AE31: =SUM(AE11:AE30) -> 0.59 | AF31: =SUM(AF11:AF30) -> 0 | AG31: =SUM(AG11:AG30) -> 0 | AH31: =SUM(AH11:AH30) -> 0 | AI31: =SUM(AI11:AI30) -> 0 | AJ31: =SUM(AJ11:AJ30) -> 0 | AK31: 計
L32: 対策区分の 判定結果 | O32: 判定区分毎の変状数 | Y32: =COUNTIF(Y11:Y30,"〇") -> 0 | Z32: =COUNTIF(Z11:Z30,"〇") -> 0 | AA32: =COUNTIF(AA11:AA30,"〇") -> 0 | AB32: =COUNTIF(AB11:AB30,"〇") -> 0 | AC32: =COUNT(AC11:AC30) -> 0 | AD32: =COUNT(AD11:AD30) -> 0 | AE32: =COUNT(AE11:AE30) -> 2 | AF32: =COUNT(AF11:AF30) -> 0 | AG32: =COUNT(AG11:AG30) -> 0 | AH32: =COUNT(AH11:AH30) -> 0 | AI32: =COUNT(AI11:AI30) -> 0 | AJ32: =COUNT(AJ11:AJ30) -> 0
O33: 変状区分毎の判定区分注3 | Y33: =IF(Y32>0,"Ⅳ",IF(Z32>0,"Ⅲ",IF(AA32>0,"Ⅱa",IF(AB32>0,"Ⅱb","Ⅰ")))) -> Ⅰ | AC33: =IF(AC32>0,"Ⅳ",IF(AD32>0,"Ⅲ",IF(AE32>0,"Ⅱa",IF(AF32>0,"Ⅱb","Ⅰ")))) -> Ⅱa | AG33: =IF(AG32>0,"Ⅳ",IF(AH32>0,"Ⅲ",IF(AI32>0,"Ⅱa",IF(AJ32>0,"Ⅱb","Ⅰ")))) -> Ⅰ | AQ33: Ⅳ | AR33: Ⅲ | AS33: Ⅱ
L34: 健全性の 診断結果 | O34: 判定区分 | Y34: Ⅳ | Z34: Ⅲ | AA34: Ⅱ | AC34: Ⅳ | AD34: Ⅲ | AE34: Ⅱ | AG34: Ⅳ | AH34: Ⅲ | AI34: Ⅱ | AQ34: =+Y32+Z32 -> 0 | AS34: =+AA32+AB32 -> 0
O35: 判定区分毎の変状数注4 | Y35: =IF(Y32=0,"",1) | Z35: =IF(Z32=0,"",1) | AA35: =IF(AQ34=1,"",IF(AS34>0,1,"")) | AC35: =+AC32 -> 0 | AD35: =AD32 -> 0 | AE35: =AE32+AF32 -> 2 | AG35: =AG32 -> 0 | AH35: =AH32 -> 0 | AI35: =AI32+AJ32 -> 0 | AQ35: =+Y32+AC35+AG35 -> 0 | AR35: =+Z32+AD35+AH35 -> 0 | AS35: =+AS34+AE35+AI35 -> 2
O36: 変状区分毎の判定区分注4 | Y36: Ⅰ | AC36: Ⅱ | AG36: Ⅰ | AQ36: =IF(AQ35>0,"Ⅳ",IF(AR35>0,"Ⅲ",IF(AS35>0,"Ⅱ","Ⅰ"))) -> Ⅱ
O37: 覆工スパン単位の判定区分注5 | Y37: Ⅱ
K38: 特記事項
K40: 注1：誤記入防止のため、当該変状区分以外のセルは灰色表示とすること。
K41: 注2：応急対策を実施した場合は、その詳細を備考に記載すること。
K42: 注3：変状区分毎での最も評価の厳しい判定区分。
K43: 注4：変状区分毎での最も評価の厳しい判定区分．外力は覆工スパン単位、材質劣化、漏水は変状単位で行う。
K44: 注5：覆工スパンの中で最も評価の厳しい健全性を採用し、その覆工スパン毎の健全性とする。
B46: ※1：本シートは作成洩れのないよう、変状が無くても全スパン分を作成すること．また変状展開図は、様式D-2-1、様式D-2-1'と同じものを覆工スパン単位で拡大し掲載すること。
B47: ※2：変状番号は、様式D-1-1で記入した番号と整合させること。
B48: ※3：対策区分毎の変状発生規模は、様式D-1-1に記載した面積を記入すること（ただし外力はスパン単位で評価するため対象外とし、備考欄に状況を記入）。
