Workbook
Name 〇: #REF!
Name その他: '(参考)リスト'!$C$45
Name その他施設: '(参考)リスト'!$C$76:$C$80
Name 外力: '(参考)リスト'!$E$16:$E$23
Name 換気施設: '(参考)リスト'!$C$55:$C$59
Name 坑門: '(参考)リスト'!$C$16:$C$29
Name 材質劣化: '(参考)リスト'!$E$25:$E$30
Name 照明施設: '(参考)リスト'!$C$51:$C$53
Name 対象箇所: テーブル1[対象箇所]
Name 対象箇所: テーブル1[対象箇所]
Name 対象箇所: テーブル1[対象箇所]
Name 対象箇所: テーブル1[対象箇所]
Name 対象箇所: テーブル1[対象箇所]
Name 対象箇所: テーブル1[対象箇所]
Name 対象箇所: テーブル1[対象箇所]
Name 対象箇所: テーブル1[対象箇所]
Name 対象箇所: テーブル1[対象箇所]
Name 対象箇所: テーブル1[対象箇所]
Name 対象箇所: テーブル1[対象箇所]
Name 対象箇所: テーブル1[対象箇所]
Name 対象箇所: テーブル1[対象箇所]
Name 対象箇所: テーブル1[対象箇所]
Name 対象箇所: テーブル1[対象箇所]
Name 対象箇所: テーブル1[対象箇所]
Name 対象箇所: テーブル1[対象箇所]
Name 対象箇所: テーブル1[対象箇所]
Name 対象箇所: テーブル1[対象箇所]
Name 対象箇所: テーブル1[対象箇所]
Name 対象箇所: テーブル1[対象箇所]
Name 対象箇所: テーブル1[対象箇所]
Name 対象箇所: テーブル1[対象箇所]
Name 対象箇所: テーブル1[対象箇所]
Name 対象箇所: テーブル1[対象箇所]
Name 対象箇所: テーブル1[対象箇所]
Name 対象箇所: テーブル1[対象箇所]
Name 対象箇所: テーブル1[対象箇所]
Name 対象箇所: テーブル1[対象箇所]
Name 対象箇所: テーブル1[対象箇所]
Name 対象箇所: テーブル1[対象箇所]
Name 対象箇所: テーブル1[対象箇所]
Name 対象箇所: テーブル1[対象箇所]
Name 対象箇所: テーブル1[対象箇所]
Name 対象箇所: テーブル1[対象箇所]
Name 対象箇所: テーブル1[対象箇所]
Name 対象箇所: テーブル1[対象箇所]
Name 対象箇所: テーブル1[対象箇所]
Name 対象箇所: テーブル1[対象箇所]
Name 対象箇所: テーブル1[対象箇所]
Name 対象箇所: テーブル1[対象箇所]
Name 対象箇所: テーブル1[対象箇所]
Name 対象箇所: テーブル1[対象箇所]
Name 対象箇所: テーブル1[対象箇所]
Name 対象箇所: テーブル1[対象箇所]
Name 対象箇所: テーブル1[対象箇所]
Name 対象箇所: テーブル1[対象箇所]
Name 対象箇所: テーブル1[対象箇所]
Name 対象箇所: テーブル1[対象箇所]
Name 対象箇所: テーブル1[対象箇所]
Name 対象箇所: テーブル1[対象箇所]
Name 対象箇所: テーブル1[対象箇所]

Sheet 点検様式作成フロー
A1: 点検様式作成フロ-
A3: 作成フロー図 | H3: 点検調書作成手順
H4: ①様式A-1～A-3（トンネル台帳）
H5: トンネル点検の実施にあたっては，現場点検作業に先行してトンネル情報を収集する。トンネル台帳（様式Ａ－1～様式Ａ－3）はトンネル完成後に作成され，維持管理の段階で引き継がれるが，関連資料等を確認したうえで，追加情報があれば必要に応じて追記することが望ましい。
H9: ②様式D-2-1、様式D-2-1´
H10: 現場点検作業を実施し，近接目視点検で確認した変状状況や補修履歴を忠実に変状展開図に転記する
H12: ③様式D-1-1、様式D-1-2
H13: 変状展開図や撮影した写真等をもとに，対象トンネルの対策区分を判定し，対策区分の判定区分がⅡ～Ⅳの変状および異常判定区分「×」を抽出し，写真台帳を作成する
H16: ④様式B
H17: 写真台帳の作成と同時に，トンネルの構造を展開した位置図に変状写真位置を記録する
H19: ⑤様式D-3
H20: 変状展開図ならびに写真台帳をもとに覆工スパンごとの変状展開図を作成し，変状発生状況をとりまとめる
H22: ⑥様式E-1、様式E-2
H23: 様式Ｄ－1～様式Ｄ－3をもとに，健全性の診断結果を集計する
... H31: ファイルは以下の分割規則に従う。 ※各ファイルとも （参考）リスト のシートを付けて保存すること。 ・様式A-1～A-3は同一ファイルとする。 ・様式B、D-1-1、D-1-2、D-2-1（もしくはD-2-1'）、Eは別ファイルとする。 ・様式C-1-1,C-1-2、C-2は同一ファイルとする。 ・様式D-3、E、Fは同一ファイルとする。

Sheet 変状面積算出方法
A1: 変状面積算出方法
A26: 注1）外力による変状：ひび割れや圧ざの場合は変状の寸法を記録する。
A27: 例）ひび割れ：長さ（L）×最大ひび割れ幅（t）を記録する。 変形，移動，沈下：数値的な記載が可能な場合のみ記載する。
A28: 注2）材料劣化による：打音異常
A29: 例）うき，はく離（閉合ひび割れ）：変状範囲を包括する寸法（L×W） うき，はく離（ひび割れ沿い）：打音異常箇所を包括する寸法（L×W） 鋼材腐食（鉄筋腐食）：一括した対策が適当と考えられる範囲を包括する寸法（L×W）
A30: 注3）漏水による変状：漏水発生範囲を包括し，垂れ下がりの可能性がある側壁下端まで含めた寸法を，L×Wで記録する。打継ぎ目地沿いの 漏水については目地を跨いだ50cm幅を横幅とする。

Sheet 様式A-1
B2: ■トンネル台帳 トンネル諸元、非常用施設諸元 【様式A-1】 | S2: トンネルID | W2: 34.31239,131.19108
B3: フリガナ | D3: オオガタオ | H3: 路線名 | J3: 一般国道316号 | P3: 管理者名 | R3: 長門土木建築事務所 | W3: 緊急輸送道路 | Z3: 有
B4: 名 称 | D4: 大ヶ峠トンネル | W4: 代替路の有無 | Z4: 有
B5: 所在地 | D5: 自 | E5: 山口県長門市渋木 | H5: 作成者 | K5: 株式会社オリエンタルコンサルタンツ 妹尾 優大 | P5: 作成年月日 | R5: 45342 | U5: トンネル延長 | X5: L= | Z5: 1066 | AB5: ｍ
D6: 至 | E6: 山口県美祢市於福町 | U6: ﾄﾝﾈﾙの分類 | X6: 陸上トンネル（掘進工法）
B7: 起点 | C7: 緯度 | E7: 341718.3 | H7: 完成年月日 | K7: 29403 | M7: 舗装 | O7: 種 別 | Q7: コンクリート系 | S7: トンネル非常用施設 | T7: 施設の内訳 | X7: 種別・方式 | Y7: 型式 | Z7: 個数 | AA7: 更新年度 | AE7: =INT(E7/10000) -> 34 | AF7: =INT(E7/100)-AE7*100 -> 17 | AG7: =E7-AE7*10000-AF7*100 -> 18.3 | AH7: =ROUND(AE7+AF7/60+AG7/60/60,5) -> 34.28842 | AI7: =TEXT(AH7,"0.00000") -> 34.28842
C8: 経度 | E8: 1311138.6 | H8: 供用年月日 | O8: 厚 さ | T8: 通報設備 | U8: 通話型通報設備 | Z8: 7 | AE8: =INT(E8/10000) -> 131 | AF8: =INT(E8/100)-AE8*100 -> 11 | AG8: =E8-AE8*10000-AF8*100 -> 38.6 | AH8: =ROUND(AE8+AF8/60+AG8/60/60,5) -> 131.19406 | AI8: =TEXT(AH8,"0.00000") -> 131.19406
B9: 終点 | C9: 緯度 | E9: 341643.6 | H9: トンネル区分 | O9: 面 積 | U9: 操作型通報設備 | Z9: 22
C10: 経度 | E10: 1311138.2 | H10: 内装種類 | K10: パネル張工法 | O10: 更新年次 | U10: 自動通報設備 | Z10: 22
B11: 一般有料区分 | E11: 無料 | H11: 天井板種類 | M11: 排水 | O11: 種 別 | T11: 警報設備 | U11: 非常警報設備 | Z11: 2
B12: 土かぶり | G12: m | H12: 坑門 | I12: 起点 | J12: 形式 | K12: 面壁型 | O12: 更新年次 | T12: 消火設備 | U12: 消 火 器 | Z12: 22
B13: 内空断面積 | G13: ㎡ | J13: 延長 | K13: 1.7 | L13: m | M13: 施設 | P13: 種別・方式 | Q13: 個数 | R13: 更新年次 | U13: 消火栓設備
B14: 交 通 量 | E14: 6855 | G14: 台/日 | I14: 終点 | J14: 形式 | K14: 面壁型 | M14: 道路附属物等 | N14: 照明 | Q14: 159 | T14: 避難誘導設備 | U14: 誘導表示設備
C15: 道 路 幅 | E15: 7.5 | G15: m | J15: 延長 | K15: 2.2 | L15: m | N15: 換気 | U15: 避難情報提供設備
B16: 幅 員 | C16: 車 道 幅 | E16: 7.5 | G16: m | H16: 竣工巻厚 | I16: アーチ | L16: cm | N16: 標識
G17: m | I17: 側 壁 | L17: cm | N17: 警報表示板 | U17: 避難通路
C18: 歩道等幅 | E18: 0 | G18: m | L18: cm | N18: 吸音板 | U18: 排煙設備
B19: 高さ | C19: 建築限界高 | E19: 4.5 | G19: m | I19: インバート | L19: cm | T19: その他の設備 | U19: 給水栓設備
C20: 中央高 | G20: m | H20: 半径 | I20: アーチ | L20: cm | U20: 無線通信補助設備
C21: 有効高 | E21: 4.5 | G21: m | I21: 側 壁 | L21: cm | U21: 水噴霧設備
C22: 縦断勾配 | I22: インバート | L22: cm | U22: 監視設備
B23: 線 形 | C23: 直線区間長 | H23: 占用物件 | I23: 種 類 | K23: 寸 法 | M23: 管理者名 | Q23: 更新年次 | S23: 非常用施設 関連設備 | U23: 予備発電設備
C24: 曲線区間 | D24: 区間長
D25: 起点側ｸﾛｿｲﾄﾞ
D26: 曲線半径
D27: 終点側ｸﾛｿｲﾄﾞ | S27: その他 | U27: 非常駐車帯 | Z27: 2
B28: トンネル工法 | E28: 矢板工法 | U28: 方向転換所
C29: ※緯度・経度については、秒の少数第二位の単位まで記入すること。（例；36度20分35.56秒の場合、362035.36と入力）

Sheet 様式A-2
B3: ■トンネル台帳 トンネル情報一覧表 【様式A-2】
B4: フリガナ | E4: ='様式A-1'!D3 -> オオガタオ | J4: 路線名 | M4: ='様式A-1'!J3 -> 一般国道316号 | S4: 作成者 | Y4: ='様式A-1'!K5 -> 株式会社オリエンタルコンサルタンツ 妹尾 優大 | AE4: 作成年月日 | AI4: ='様式A-1'!R5 -> 45342
B5: 名 称 | E5: ='様式A-1'!D4 -> 大ヶ峠トンネル | J5: 管理者名 | M5: ='様式A-1'!R3 -> 長門土木建築事務所
B6: 覆工 ｽﾊﾟﾝ 番号 | C6: ｽﾊﾟﾝ長 | D6: 追加距離 | F6: トンネル本体工 | K6: 照明施設 | O6: 非常用施設 | AE6: 換気施設 | AK6: その他附属物等
O7: ='様式A-1'!T8 -> 通報設備 | R7: ='様式A-1'!T11 -> 警報設備 | S7: ='様式A-1'!T12 -> 消火設備 | U7: ='様式A-1'!T14 -> 避難誘導設備 | Y7: ='様式A-1'!T19 -> その他の設備 | AC7: 特記事項
D8: 起点側 | E8: 終点側 | F8: 特記事項 | I8: 内装板 | J8: 天井板 | K8: 基本照明 | L8: 入口出口照明 | M8: 特記事項 | O8: ='様式A-1'!U8 -> 通話型通報設備 | P8: ='様式A-1'!U9 -> 操作型通報設備 | Q8: ='様式A-1'!U10 -> 自動通報設備 | R8: ='様式A-1'!U11 -> 非常警報設備 | S8: ='様式A-1'!U12 -> 消 火 器 | T8: ='様式A-1'!U13 -> 消火栓設備 | U8: ='様式A-1'!U14 -> 誘導表示設備 | V8: ='様式A-1'!U15 -> 避難情報提供設備 | W8: ='様式A-1'!U17 -> 避難通路 | X8: ='様式A-1'!U18 -> 排煙設備 | Y8: ='様式A-1'!U19 -> 給水栓設備 | Z8: ='様式A-1'!U20 -> 無線通信補助設備 | AA8: ='様式A-1'!U21 -> 水噴霧設備 | AB8: ='様式A-1'!U22 -> 監視設備 | AE8: JF | AF8: VI計 | AG8: CO計 | AH8: 風向 風速計 | AI8: 特記事項
C9: (m) | D9: (m) | E9: (m)
B10: PS | C10: 2.6 | D10: 0 | E10: 2.6 | F10: 坑門(面壁型) | I10: 〇
B11: S1 | C11: 10.5 | D11: 2.6 | E11: 13.1 | I11: 〇 | K11: 〇
B12: S2 | C12: 10.5 | D12: 13.1 | E12: 23.6 | I12: 〇 | K12: 〇 | O12: ① | P12: ① | S12: ① | U12: ①
B13: S3 | C13: 10.5 | D13: 23.6 | E13: 34.1 | I13: 〇 | K13: 〇
B14: S4 | C14: 10.5 | D14: 34.1 | E14: 44.6 | I14: 〇 | K14: 〇
B15: S5 | C15: 10.5 | D15: 44.6 | E15: 55.1 | I15: 〇 | K15: 〇 | P15: ② | S15: ②
B16: S6 | C16: 10.6 | D16: 55.1 | E16: 65.7 | I16: 〇 | K16: 〇
B17: S7 | C17: 10.5 | D17: 65.7 | E17: 76.2 | I17: 〇 | K17: 〇 | U17: ②
B18: S8 | C18: 10.6 | D18: 76.2 | E18: 86.8 | I18: 〇 | K18: 〇
B19: S9 | C19: 10.5 | D19: 86.8 | E19: 97.3 | I19: 〇 | K19: 〇 | U19: ③
B20: S10 | C20: 10.5 | D20: 97.3 | E20: 107.8 | I20: 〇 | K20: 〇
B21: S11 | C21: 10.7 | D21: 107.8 | E21: 118.5 | I21: 〇 | K21: 〇 | P21: ③ | S21: ③
B22: S12 | C22: 10.5 | D22: 118.5 | E22: 129 | I22: 〇 | K22: 〇 | U22: ④
B23: S13 | C23: 10.5 | D23: 129 | E23: 139.5 | I23: 〇 | K23: 〇
B24: S14 | C24: 10.5 | D24: 139.5 | E24: 150 | I24: 〇 | K24: 〇 | U24: ⑤
B25: S15 | C25: 10.5 | D25: 150 | E25: 160.5 | I25: 〇 | K25: 〇 | P25: ④ | S25: ④
B26: S16 | C26: 10.5 | D26: 160.5 | E26: 171 | I26: 〇 | K26: 〇 | U26: ⑥
B27: S17 | C27: 10.5 | D27: 171 | E27: 181.5 | I27: 〇 | K27: 〇
B28: S18 | C28: 10.5 | D28: 181.5 | E28: 192 | I28: 〇 | K28: 〇
B29: S19 | C29: 10.5 | D29: 192 | E29: 202.5 | I29: 〇 | K29: 〇
B30: S20 | C30: 10.5 | D30: 202.5 | E30: 213 | I30: 〇 | K30: 〇 | U30: ⑦
B31: S21 | C31: 10.5 | D31: 213 | E31: 223.5 | I31: 〇 | O31: ② | P31: ⑤ | S31: ⑤
B32: S22 | C32: 10.1 | D32: 223.5 | E32: 233.6 | I32: 〇 | K32: 〇
B33: S23 | C33: 10.1 | D33: 233.6 | E33: 243.7 | I33: 〇 | K33: 〇 | U33: ⑧
B34: S24 | C34: 10.1 | D34: 243.7 | E34: 253.8 | I34: 〇 | P34: ⑥ | S34: ⑥
B35: S25 | C35: 10.5 | D35: 253.8 | E35: 264.3 | I35: 〇 | K35: 〇
B36: S26 | C36: 10 | D36: 264.3 | E36: 274.3 | I36: 〇 | K36: 〇 | U36: ⑨
B37: S27 | C37: 10.6 | D37: 274.3 | E37: 284.9 | I37: 〇
B38: S28 | C38: 10.5 | D38: 284.9 | E38: 295.4 | I38: 〇 | K38: 〇 | U38: ⑩
B39: S29 | C39: 10.5 | D39: 295.4 | E39: 305.9 | I39: 〇 | K39: 〇
B40: S30 | C40: 10 | D40: 305.9 | E40: 315.9 | I40: 〇 | K40: 〇 | P40: ⑦ | S40: ⑦
B41: 31 | C41: 10.5 | D41: 315.9 | E41: 326.4 | I41: 〇 | U41: ⑪
B42: 32 | C42: 10.5 | D42: 326.4 | E42: 336.9 | I42: 〇 | K42: 〇
B43: 33 | C43: 10.1 | D43: 336.9 | E43: 347 | I43: 〇 | K43: 〇 | U43: ⑫
B44: 34 | C44: 10.1 | D44: 347 | E44: 357.1 | I44: 〇 | P44: ⑧ | S44: ⑧
B45: 35 | C45: 10.1 | D45: 357.1 | E45: 367.2 | I45: 〇 | K45: 〇 | U45: ⑬
B46: 36 | C46: 10.5 | D46: 367.2 | E46: 377.7 | I46: 〇 | K46: 〇
B47: 37 | C47: 10.5 | D47: 377.7 | E47: 388.2 | I47: 〇
B48: 38 | C48: 10.4 | D48: 388.2 | E48: 398.6 | I48: 〇 | K48: 〇 | U48: ⑭
B49: 39 | C49: 6 | D49: 398.6 | E49: 404.6 | F49: 非常駐車帯 | I49: 〇 | K49: 〇 | U49: ⑮
B50: 40 | C50: 6 | D50: 404.6 | E50: 410.6 | F50: 非常駐車帯 | I50: 〇 | K50: 〇 | U50: ⑯⑰⑱⑲
B51: 41 | C51: 6 | D51: 410.6 | E51: 416.6 | F51: 非常駐車帯 | I51: 〇 | K51: 〇 | O51: ③ | P51: ⑨ | S51: ⑨
B52: 42 | C52: 6 | D52: 416.6 | E52: 422.6 | F52: 非常駐車帯 | I52: 〇 | K52: 〇
B53: 43 | C53: 6 | D53: 422.6 | E53: 428.6 | F53: 非常駐車帯 | I53: 〇
B54: 44 | C54: 10.1 | D54: 428.6 | E54: 438.7 | I54: 〇 | K54: 〇
B55: 45 | C55: 10.5 | D55: 438.7 | E55: 449.2 | I55: 〇 | K55: 〇 | U55: ⑳
B56: 46 | C56: 10.5 | D56: 449.2 | E56: 459.7 | I56: 〇 | P56: ⑩ | S56: ⑩
B57: 47 | C57: 10.4 | D57: 459.7 | E57: 470.1 | I57: 〇 | K57: 〇 | U57: ㉑
B58: 48 | C58: 10.5 | D58: 470.1 | E58: 480.6 | I58: 〇 | K58: 〇
B59: 49 | C59: 10.4 | D59: 480.6 | E59: 491 | I59: 〇 | U59: ㉒
B60: 50 | C60: 10.5 | D60: 491 | E60: 501.5 | I60: 〇 | K60: 〇
B61: 51 | C61: 10.1 | D61: 501.5 | E61: 511.6 | I61: 〇 | K61: 〇
B62: 52 | C62: 10.1 | D62: 511.6 | E62: 521.7 | I62: 〇 | P62: ⑪ | S62: ⑪ | U62: ㉓
B63: 53 | C63: 10.1 | D63: 521.7 | E63: 531.8 | I63: 〇 | K63: 〇 | U63: ㉔㉕
B64: 54 | C64: 10.6 | D64: 531.8 | E64: 542.4 | I64: 〇 | K64: 〇
B65: 55 | C65: 10.5 | D65: 542.4 | E65: 552.9 | I65: 〇 | U65: ㉖
B66: 56 | C66: 10.5 | D66: 552.9 | E66: 563.4 | I66: 〇 | K66: 〇 | P66: ⑫ | S66: ⑫ | U66: ㉗
B67: 57 | C67: 10.1 | D67: 563.4 | E67: 573.5 | I67: 〇 | K67: 〇
B68: 58 | C68: 10.1 | D68: 573.5 | E68: 583.6 | I68: 〇 | K68: 〇 | U68: ㉘㉙
B69: 59 | C69: 10.1 | D69: 583.6 | E69: 593.7 | I69: 〇
B70: 60 | C70: 5.9 | D70: 593.7 | E70: 599.6 | F70: 非常駐車帯 | I70: 〇 | K70: 〇 | U70: ㉚
B71: 61 | C71: 6 | D71: 599.6 | E71: 605.6 | F71: 非常駐車帯 | I71: 〇 | K71: 〇 | O71: ④⑤ | P71: ⑬ | S71: ⑬
B72: 62 | C72: 6 | D72: 605.6 | E72: 611.6 | F72: 非常駐車帯 | I72: 〇 | K72: 〇
B73: 63 | C73: 6.1 | D73: 611.6 | E73: 617.7 | F73: 非常駐車帯 | I73: 〇 | K73: 〇
B74: 64 | C74: 5.9 | D74: 617.7 | E74: 623.6 | F74: 非常駐車帯 | I74: 〇
B75: 65 | C75: 10.7 | D75: 623.6 | E75: 634.3 | I75: 〇 | K75: 〇 | U75: ㉛㉜
B76: 66 | C76: 10.5 | D76: 634.3 | E76: 644.8 | I76: 〇 | K76: 〇
B77: 67 | C77: 10.5 | D77: 644.8 | E77: 655.3 | I77: 〇 | P77: ⑭ | S77: ⑭ | U77: ㉝㉞
B78: 68 | C78: 10.4 | D78: 655.3 | E78: 665.7 | I78: 〇 | K78: 〇
B79: 69 | C79: 10.5 | D79: 665.7 | E79: 676.2 | I79: 〇 | K79: 〇
B80: 70 | C80: 10.5 | D80: 676.2 | E80: 686.7 | I80: 〇 | U80: ㉟㊱
B81: 71 | C81: 10.5 | D81: 686.7 | E81: 697.2 | I81: 〇 | K81: 〇
B82: 72 | C82: 10.5 | D82: 697.2 | E82: 707.7 | I82: 〇 | K82: 〇
B83: 73 | C83: 10.5 | D83: 707.7 | E83: 718.2 | I83: 〇 | K83: 〇 | P83: ⑮ | S83: ⑮ | U83: ㊲
B84: 74 | C84: 10.5 | D84: 718.2 | E84: 728.7 | I84: 〇
B85: 75 | C85: 10.5 | D85: 728.7 | E85: 739.2 | I85: 〇 | K85: 〇
B86: 76 | C86: 10.5 | D86: 739.2 | E86: 749.7 | I86: 〇 | K86: 〇 | U86: ㊳
B87: 77 | C87: 10.4 | D87: 749.7 | E87: 760.1 | I87: 〇 | P87: ⑯ | S87: ⑯
B88: 78 | C88: 10.4 | D88: 760.1 | E88: 770.5 | I88: 〇 | K88: 〇 | U88: ㊴
B89: 79 | C89: 10.4 | D89: 770.5 | E89: 780.9 | I89: 〇 | K89: 〇
B90: 80 | C90: 10.5 | D90: 780.9 | E90: 791.4 | I90: 〇
B91: 81 | C91: 10.5 | D91: 791.4 | E91: 801.9 | I91: 〇 | K91: 〇 | U91: ㊵㊶
B92: 82 | C92: 10.1 | D92: 801.9 | E92: 812 | I92: 〇 | K92: 〇
B93: 83 | C93: 10.5 | D93: 812 | E93: 822.5 | I93: 〇 | K93: 〇 | O93: ⑥ | P93: ⑰ | S93: ⑰
B94: 84 | C94: 10.5 | D94: 822.5 | E94: 833 | I94: 〇
B95: 85 | C95: 10.5 | D95: 833 | E95: 843.5 | I95: 〇 | K95: 〇 | U95: ㊷
B96: 86 | C96: 10.4 | D96: 843.5 | E96: 853.9 | I96: 〇 | K96: 〇 | P96: ⑱ | S96: ⑱
B97: 87 | C97: 10.5 | D97: 853.9 | E97: 864.4 | I97: 〇 | K97: 〇
B98: 88 | C98: 10.5 | D98: 864.4 | E98: 874.9 | I98: 〇 | K98: 〇 | U98: ㊸
B99: 89 | C99: 10.5 | D99: 874.9 | E99: 885.4 | I99: 〇 | K99: 〇
B100: 90 | C100: 10.5 | D100: 885.4 | E100: 895.9 | I100: 〇 | K100: 〇 | U100: ㊹
B101: 91 | C101: 10.4 | D101: 895.9 | E101: 906.3 | I101: 〇 | K101: 〇
B102: 92 | C102: 10.5 | D102: 906.3 | E102: 916.8 | I102: 〇 | K102: 〇 | P102: ⑲ | S102: ⑲ | U102: ㊺
...

Sheet 様式A-3
B3: ■トンネル台帳 トンネル記録（位置図、断面図、施工実績他）【様式A-3】
B4: フリガナ | E4: ='様式A-1'!D3 -> オオガタオ | J4: 路線名 | M4: ='様式A-1'!J3 -> 一般国道316号 | S4: 作成者 | W4: ='様式A-1'!K5 -> 株式会社オリエンタルコンサルタンツ 妹尾 優大 | AC4: 作成年月日 | AF4: ='様式A-1'!R5 -> 45342
B5: 名 称 | E5: ='様式A-1'!D4 -> 大ヶ峠トンネル | J5: 管理者名 | M5: ='様式A-1'!R3 -> 長門土木建築事務所
B6: 位置図・現況写真・標準断面図・地質縦断図・施工実績

Sheet 様式B
B2: ■定期点検記録様式 トンネル変状・異常箇所写真位置図 【様式B】 | T2: トンネルID | V2: 34.31239,131.19108
B3: フリガナ | D3: オオガタオ | H3: 路線名 | J3: 一般国道316号 | N3: 管理者名 | P3: 長門土木建築事務所 | T3: 緊急輸送道路 | V3: 有
B4: 名 称 | D4: 大ヶ峠トンネル | T4: 代替路の有無 | V4: 有
B5: 所在地 | D5: 自 | E5: 山口県長門市渋木 | H5: 定期点検業者 | K5: 株式会社オリエンタルコンサルタンツ | O5: 定期点検年月日 | Q5: 45280 | T5: トンネル延長 | V5: L= | W5: ='様式A-1'!Z5 -> 1066 | Y5: ｍ
D6: 至 | E6: 山口県美祢市於福町 | H6: 定期点検者名 | K6: 妹尾 優大 | T6: ﾄﾝﾈﾙの分類 | V6: 陸上トンネル（掘進工法）
B7: 起点 | C7: 緯度 | D7: 341718.3 | F7: 変状・異常 箇所数合計 | H7: トンネル 本体工 | J7: 材質劣化 | L7: Ⅱ | M7: 19 | N7: Ⅲ | O7: 27 | P7: Ⅳ | R7: トンネル毎 の健全性 | T7: Ⅲ | V7: 附属物の 取付状態 | W7: ◯ （応急措置後）
C10: 経度 | D10: 1311138.6
J11: 漏水 | L11: Ⅱ | M11: 107 | N11: Ⅲ | O11: 1 | P11: Ⅳ
B13: 終点 | C13: 緯度 | D13: 341643.6 | W13: ✕ | Y13: 1
J15: 外力 | L15: Ⅱ | M15: 7 | N15: Ⅲ | P15: Ⅳ | AC15: 0
C16: 経度 | D16: 1311138.2
B19: トンネル変状・異常箇所写真位置図
P26: 注１：本位置図は、見下げた状態で記載すること。 注２：覆工スパン番号は横断目地毎(矢板工法の場合は上半アーチ の横断目地毎)に設定すること。 注３：写真番号に付する変状番号は、各覆工スパンの変状に対して新た に確認された場合は順次追加していくこと。 注４：横断目地の変状は前の覆工スパン番号で計上すること。 注５：１枚に収まらない場合は、複数枚に分けて作成すること。
C28: ※1 トンネル本体工の変状数は、材質劣化、漏水に起因するものは変状単位で、外力に起因するものはスパン単位で計上すること。
C29: ※2 本体工の変状に対しては、健全性の判定区分Ⅱ～Ⅳについて表記すること。なお、初回点検（H26以降）以降に、措置が行われた結果、
C30: Ⅰと判定された箇所についても記載すること。
C31: ※3 附属物の取付状態の○欄については、応急措置前に判定区分×とした箇所のうち応急措置により○判定とした箇所の数を記入すること。
C32: ※4 附属物の異常番号は、本体工と番号が重複しないよう101番以降とする等の配慮を行い、分かりやすく記録すること。

Sheet 様式B (2)
B2: ■定期点検記録様式 トンネル変状・異常箇所写真位置図 【様式B】 | T2: トンネルID | V2: 34.31239,131.19108
B3: フリガナ | D3: オオガタオ | H3: 路線名 | J3: 一般国道316号 | N3: 管理者名 | P3: 長門土木建築事務所 | T3: 緊急輸送道路 | V3: 有
B4: 名 称 | D4: 大ヶ峠トンネル | T4: 代替路の有無 | V4: 有
B5: 所在地 | D5: 自 | E5: 山口県長門市渋木 | H5: 定期点検業者 | K5: 株式会社オリエンタルコンサルタンツ | O5: 定期点検年月日 | Q5: 45280 | T5: トンネル延長 | V5: L= | W5: ='様式A-1'!Z5 -> 1066 | Y5: ｍ
D6: 至 | E6: 山口県美祢市於福町 | H6: 定期点検者名 | K6: 妹尾 優大 | T6: ﾄﾝﾈﾙの分類 | V6: 陸上トンネル（掘進工法）
B7: 起点 | C7: 緯度 | D7: 341718.3 | F7: 変状・異常 箇所数合計 | H7: トンネル 本体工 | J7: 材質劣化 | L7: Ⅱ | M7: 19 | N7: Ⅲ | O7: 27 | P7: Ⅳ | R7: トンネル毎 の健全性 | T7: Ⅲ | V7: 附属物の 取付状態 | W7: ◯ （応急措置後）
C10: 経度 | D10: 1311138.6
J11: 漏水 | L11: Ⅱ | M11: 107 | N11: Ⅲ | O11: 1 | P11: Ⅳ
B13: 終点 | C13: 緯度 | D13: 341643.6 | W13: ✕ | Y13: 1
J15: 外力 | L15: Ⅱ | M15: 7 | N15: Ⅲ | P15: Ⅳ | AC15: 0
C16: 経度 | D16: 1311138.2
B19: トンネル変状・異常箇所写真位置図
P26: 注１：本位置図は、見下げた状態で記載すること。 注２：覆工スパン番号は横断目地毎(矢板工法の場合は上半アーチ の横断目地毎)に設定すること。 注３：写真番号に付する変状番号は、各覆工スパンの変状に対して新た に確認された場合は順次追加していくこと。 注４：横断目地の変状は前の覆工スパン番号で計上すること。 注５：１枚に収まらない場合は、複数枚に分けて作成すること。
C28: ※1 トンネル本体工の変状数は、材質劣化、漏水に起因するものは変状単位で、外力に起因するものはスパン単位で計上すること。
C29: ※2 本体工の変状に対しては、健全性の判定区分Ⅱ～Ⅳについて表記すること。なお、初回点検（H26以降）以降に、措置が行われた結果、
C30: Ⅰと判定された箇所についても記載すること。
C31: ※3 附属物の取付状態の○欄については、応急措置前に判定区分×とした箇所のうち応急措置により○判定とした箇所の数を記入すること。
C32: ※4 附属物の異常番号は、本体工と番号が重複しないよう101番以降とする等の配慮を行い、分かりやすく記録すること。

Sheet 様式B (3)
B2: ■定期点検記録様式 トンネル変状・異常箇所写真位置図 【様式B】 | T2: トンネルID | V2: 34.31239,131.19108
B3: フリガナ | D3: オオガタオ | H3: 路線名 | J3: 一般国道316号 | N3: 管理者名 | P3: 長門土木建築事務所 | T3: 緊急輸送道路 | V3: 有
B4: 名 称 | D4: 大ヶ峠トンネル | T4: 代替路の有無 | V4: 有
B5: 所在地 | D5: 自 | E5: 山口県長門市渋木 | H5: 定期点検業者 | K5: 株式会社オリエンタルコンサルタンツ | O5: 定期点検年月日 | Q5: 45280 | T5: トンネル延長 | V5: L= | W5: ='様式A-1'!Z5 -> 1066 | Y5: ｍ
D6: 至 | E6: 山口県美祢市於福町 | H6: 定期点検者名 | K6: 妹尾 優大 | T6: ﾄﾝﾈﾙの分類 | V6: 陸上トンネル（掘進工法）
B7: 起点 | C7: 緯度 | D7: 341718.3 | F7: 変状・異常 箇所数合計 | H7: トンネル 本体工 | J7: 材質劣化 | L7: Ⅱ | M7: 19 | N7: Ⅲ | O7: 27 | P7: Ⅳ | R7: トンネル毎 の健全性 | T7: Ⅲ | V7: 附属物の 取付状態 | W7: ◯ （応急措置後）
C10: 経度 | D10: 1311138.6
J11: 漏水 | L11: Ⅱ | M11: 107 | N11: Ⅲ | O11: 1 | P11: Ⅳ
B13: 終点 | C13: 緯度 | D13: 341643.6 | W13: ✕ | Y13: 1
J15: 外力 | L15: Ⅱ | M15: 7 | N15: Ⅲ | P15: Ⅳ | AC15: 0
C16: 経度 | D16: 1311138.2
B19: トンネル変状・異常箇所写真位置図
P26: 注１：本位置図は、見下げた状態で記載すること。 注２：覆工スパン番号は横断目地毎(矢板工法の場合は上半アーチ の横断目地毎)に設定すること。 注３：写真番号に付する変状番号は、各覆工スパンの変状に対して新た に確認された場合は順次追加していくこと。 注４：横断目地の変状は前の覆工スパン番号で計上すること。 注５：１枚に収まらない場合は、複数枚に分けて作成すること。
C28: ※1 トンネル本体工の変状数は、材質劣化、漏水に起因するものは変状単位で、外力に起因するものはスパン単位で計上すること。
C29: ※2 本体工の変状に対しては、健全性の判定区分Ⅱ～Ⅳについて表記すること。なお、初回点検（H26以降）以降に、措置が行われた結果、
C30: Ⅰと判定された箇所についても記載すること。
C31: ※3 附属物の取付状態の○欄については、応急措置前に判定区分×とした箇所のうち応急措置により○判定とした箇所の数を記入すること。
C32: ※4 附属物の異常番号は、本体工と番号が重複しないよう101番以降とする等の配慮を行い、分かりやすく記録すること。

Sheet 様式B (4)
B2: ■定期点検記録様式 トンネル変状・異常箇所写真位置図 【様式B】 | T2: トンネルID | V2: 34.31239,131.19108
B3: フリガナ | D3: オオガタオ | H3: 路線名 | J3: 一般国道316号 | N3: 管理者名 | P3: 長門土木建築事務所 | T3: 緊急輸送道路 | V3: 有
B4: 名 称 | D4: 大ヶ峠トンネル | T4: 代替路の有無 | V4: 有
B5: 所在地 | D5: 自 | E5: 山口県長門市渋木 | H5: 定期点検業者 | K5: 株式会社オリエンタルコンサルタンツ | O5: 定期点検年月日 | Q5: 45280 | T5: トンネル延長 | V5: L= | W5: ='様式A-1'!Z5 -> 1066 | Y5: ｍ
D6: 至 | E6: 山口県美祢市於福町 | H6: 定期点検者名 | K6: 妹尾 優大 | T6: ﾄﾝﾈﾙの分類 | V6: 陸上トンネル（掘進工法）
B7: 起点 | C7: 緯度 | D7: 341718.3 | F7: 変状・異常 箇所数合計 | H7: トンネル 本体工 | J7: 材質劣化 | L7: Ⅱ | M7: 19 | N7: Ⅲ | O7: 27 | P7: Ⅳ | R7: トンネル毎 の健全性 | T7: Ⅲ | V7: 附属物の 取付状態 | W7: ◯ （応急措置後）
C10: 経度 | D10: 1311138.6
J11: 漏水 | L11: Ⅱ | M11: 107 | N11: Ⅲ | O11: 1 | P11: Ⅳ
B13: 終点 | C13: 緯度 | D13: 341643.6 | W13: ✕ | Y13: 1
J15: 外力 | L15: Ⅱ | M15: 7 | N15: Ⅲ | P15: Ⅳ | AC15: 0
C16: 経度 | D16: 1311138.2
B19: トンネル変状・異常箇所写真位置図
P26: 注１：本位置図は、見下げた状態で記載すること。 注２：覆工スパン番号は横断目地毎(矢板工法の場合は上半アーチ の横断目地毎)に設定すること。 注３：写真番号に付する変状番号は、各覆工スパンの変状に対して新た に確認された場合は順次追加していくこと。 注４：横断目地の変状は前の覆工スパン番号で計上すること。 注５：１枚に収まらない場合は、複数枚に分けて作成すること。
C28: ※1 トンネル本体工の変状数は、材質劣化、漏水に起因するものは変状単位で、外力に起因するものはスパン単位で計上すること。
C29: ※2 本体工の変状に対しては、健全性の判定区分Ⅱ～Ⅳについて表記すること。なお、初回点検（H26以降）以降に、措置が行われた結果、
C30: Ⅰと判定された箇所についても記載すること。
C31: ※3 附属物の取付状態の○欄については、応急措置前に判定区分×とした箇所のうち応急措置により○判定とした箇所の数を記入すること。
C32: ※4 附属物の異常番号は、本体工と番号が重複しないよう101番以降とする等の配慮を行い、分かりやすく記録すること。

Sheet 様式B (5)
B2: ■定期点検記録様式 トンネル変状・異常箇所写真位置図 【様式B】 | T2: トンネルID | V2: 34.31239,131.19108
B3: フリガナ | D3: オオガタオ | H3: 路線名 | J3: 一般国道316号 | N3: 管理者名 | P3: 長門土木建築事務所 | T3: 緊急輸送道路 | V3: 有
B4: 名 称 | D4: 大ヶ峠トンネル | T4: 代替路の有無 | V4: 有
B5: 所在地 | D5: 自 | E5: 山口県長門市渋木 | H5: 定期点検業者 | K5: 株式会社オリエンタルコンサルタンツ | O5: 定期点検年月日 | Q5: 45280 | T5: トンネル延長 | V5: L= | W5: ='様式A-1'!Z5 -> 1066 | Y5: ｍ
D6: 至 | E6: 山口県美祢市於福町 | H6: 定期点検者名 | K6: 妹尾 優大 | T6: ﾄﾝﾈﾙの分類 | V6: 陸上トンネル（掘進工法）
B7: 起点 | C7: 緯度 | D7: 341718.3 | F7: 変状・異常 箇所数合計 | H7: トンネル 本体工 | J7: 材質劣化 | L7: Ⅱ | M7: 19 | N7: Ⅲ | O7: 27 | P7: Ⅳ | R7: トンネル毎 の健全性 | T7: Ⅲ | V7: 附属物の 取付状態 | W7: ◯ （応急措置後）
C10: 経度 | D10: 1311138.6
J11: 漏水 | L11: Ⅱ | M11: 107 | N11: Ⅲ | O11: 1 | P11: Ⅳ
B13: 終点 | C13: 緯度 | D13: 341643.6 | W13: ✕ | Y13: 1
J15: 外力 | L15: Ⅱ | M15: 7 | N15: Ⅲ | P15: Ⅳ | AC15: 0
C16: 経度 | D16: 1311138.2
B19: トンネル変状・異常箇所写真位置図
P26: 注１：本位置図は、見下げた状態で記載すること。 注２：覆工スパン番号は横断目地毎(矢板工法の場合は上半アーチ の横断目地毎)に設定すること。 注３：写真番号に付する変状番号は、各覆工スパンの変状に対して新た に確認された場合は順次追加していくこと。 注４：横断目地の変状は前の覆工スパン番号で計上すること。 注５：１枚に収まらない場合は、複数枚に分けて作成すること。
C28: ※1 トンネル本体工の変状数は、材質劣化、漏水に起因するものは変状単位で、外力に起因するものはスパン単位で計上すること。
C29: ※2 本体工の変状に対しては、健全性の判定区分Ⅱ～Ⅳについて表記すること。なお、初回点検（H26以降）以降に、措置が行われた結果、
C30: Ⅰと判定された箇所についても記載すること。
C31: ※3 附属物の取付状態の○欄については、応急措置前に判定区分×とした箇所のうち応急措置により○判定とした箇所の数を記入すること。
C32: ※4 附属物の異常番号は、本体工と番号が重複しないよう101番以降とする等の配慮を行い、分かりやすく記録すること。

Sheet 様式B (6)
B2: ■定期点検記録様式 トンネル変状・異常箇所写真位置図 【様式B】 | T2: トンネルID | V2: 34.31239,131.19108
B3: フリガナ | D3: オオガタオ | H3: 路線名 | J3: 一般国道316号 | N3: 管理者名 | P3: 長門土木建築事務所 | T3: 緊急輸送道路 | V3: 有
B4: 名 称 | D4: 大ヶ峠トンネル | T4: 代替路の有無 | V4: 有
B5: 所在地 | D5: 自 | E5: 山口県長門市渋木 | H5: 定期点検業者 | K5: 株式会社オリエンタルコンサルタンツ | O5: 定期点検年月日 | Q5: 45280 | T5: トンネル延長 | V5: L= | W5: ='様式A-1'!Z5 -> 1066 | Y5: ｍ
D6: 至 | E6: 山口県美祢市於福町 | H6: 定期点検者名 | K6: 妹尾 優大 | T6: ﾄﾝﾈﾙの分類 | V6: 陸上トンネル（掘進工法）
B7: 起点 | C7: 緯度 | D7: 341718.3 | F7: 変状・異常 箇所数合計 | H7: トンネル 本体工 | J7: 材質劣化 | L7: Ⅱ | M7: 19 | N7: Ⅲ | O7: 27 | P7: Ⅳ | R7: トンネル毎 の健全性 | T7: Ⅲ | V7: 附属物の 取付状態 | W7: ◯ （応急措置後）
C10: 経度 | D10: 1311138.6
J11: 漏水 | L11: Ⅱ | M11: 107 | N11: Ⅲ | O11: 1 | P11: Ⅳ
B13: 終点 | C13: 緯度 | D13: 341643.6 | W13: ✕ | Y13: 1
J15: 外力 | L15: Ⅱ | M15: 7 | N15: Ⅲ | P15: Ⅳ | AC15: 0
C16: 経度 | D16: 1311138.2
B19: トンネル変状・異常箇所写真位置図
P26: 注１：本位置図は、見下げた状態で記載すること。 注２：覆工スパン番号は横断目地毎(矢板工法の場合は上半アーチ の横断目地毎)に設定すること。 注３：写真番号に付する変状番号は、各覆工スパンの変状に対して新た に確認された場合は順次追加していくこと。 注４：横断目地の変状は前の覆工スパン番号で計上すること。 注５：１枚に収まらない場合は、複数枚に分けて作成すること。
C28: ※1 トンネル本体工の変状数は、材質劣化、漏水に起因するものは変状単位で、外力に起因するものはスパン単位で計上すること。
C29: ※2 本体工の変状に対しては、健全性の判定区分Ⅱ～Ⅳについて表記すること。なお、初回点検（H26以降）以降に、措置が行われた結果、
C30: Ⅰと判定された箇所についても記載すること。
C31: ※3 附属物の取付状態の○欄については、応急措置前に判定区分×とした箇所のうち応急措置により○判定とした箇所の数を記入すること。
C32: ※4 附属物の異常番号は、本体工と番号が重複しないよう101番以降とする等の配慮を行い、分かりやすく記録すること。

Sheet 様式B (7)
B2: ■定期点検記録様式 トンネル変状・異常箇所写真位置図 【様式B】 | T2: トンネルID | V2: 34.31239,131.19108
B3: フリガナ | D3: オオガタオ | H3: 路線名 | J3: 一般国道316号 | N3: 管理者名 | P3: 長門土木建築事務所 | T3: 緊急輸送道路 | V3: 有
B4: 名 称 | D4: 大ヶ峠トンネル | T4: 代替路の有無 | V4: 有
B5: 所在地 | D5: 自 | E5: 山口県長門市渋木 | H5: 定期点検業者 | K5: 株式会社オリエンタルコンサルタンツ | O5: 定期点検年月日 | Q5: 45280 | T5: トンネル延長 | V5: L= | W5: ='様式A-1'!Z5 -> 1066 | Y5: ｍ
D6: 至 | E6: 山口県美祢市於福町 | H6: 定期点検者名 | K6: 妹尾 優大 | T6: ﾄﾝﾈﾙの分類 | V6: 陸上トンネル（掘進工法）
B7: 起点 | C7: 緯度 | D7: 341718.3 | F7: 変状・異常 箇所数合計 | H7: トンネル 本体工 | J7: 材質劣化 | L7: Ⅱ | M7: 19 | N7: Ⅲ | O7: 27 | P7: Ⅳ | R7: トンネル毎 の健全性 | T7: Ⅲ | V7: 附属物の 取付状態 | W7: ◯ （応急措置後）
C10: 経度 | D10: 1311138.6
J11: 漏水 | L11: Ⅱ | M11: 107 | N11: Ⅲ | O11: 1 | P11: Ⅳ
B13: 終点 | C13: 緯度 | D13: 341643.6 | W13: ✕ | Y13: 1
J15: 外力 | L15: Ⅱ | M15: 7 | N15: Ⅲ | P15: Ⅳ | AC15: 0
C16: 経度 | D16: 1311138.2
B19: トンネル変状・異常箇所写真位置図
P26: 注１：本位置図は、見下げた状態で記載すること。 注２：覆工スパン番号は横断目地毎(矢板工法の場合は上半アーチ の横断目地毎)に設定すること。 注３：写真番号に付する変状番号は、各覆工スパンの変状に対して新た に確認された場合は順次追加していくこと。 注４：横断目地の変状は前の覆工スパン番号で計上すること。 注５：１枚に収まらない場合は、複数枚に分けて作成すること。
C28: ※1 トンネル本体工の変状数は、材質劣化、漏水に起因するものは変状単位で、外力に起因するものはスパン単位で計上すること。
C29: ※2 本体工の変状に対しては、健全性の判定区分Ⅱ～Ⅳについて表記すること。なお、初回点検（H26以降）以降に、措置が行われた結果、
C30: Ⅰと判定された箇所についても記載すること。
C31: ※3 附属物の取付状態の○欄については、応急措置前に判定区分×とした箇所のうち応急措置により○判定とした箇所の数を記入すること。
C32: ※4 附属物の異常番号は、本体工と番号が重複しないよう101番以降とする等の配慮を行い、分かりやすく記録すること。

Sheet 様式B (8)
B2: ■定期点検記録様式 トンネル変状・異常箇所写真位置図 【様式B】 | T2: トンネルID | V2: 34.31239,131.19108
B3: フリガナ | D3: オオガタオ | H3: 路線名 | J3: 一般国道316号 | N3: 管理者名 | P3: 長門土木建築事務所 | T3: 緊急輸送道路 | V3: 有
B4: 名 称 | D4: 大ヶ峠トンネル | T4: 代替路の有無 | V4: 有
B5: 所在地 | D5: 自 | E5: 山口県長門市渋木 | H5: 定期点検業者 | K5: 株式会社オリエンタルコンサルタンツ | O5: 定期点検年月日 | Q5: 45280 | T5: トンネル延長 | V5: L= | W5: ='様式A-1'!Z5 -> 1066 | Y5: ｍ
D6: 至 | E6: 山口県美祢市於福町 | H6: 定期点検者名 | K6: 妹尾 優大 | T6: ﾄﾝﾈﾙの分類 | V6: 陸上トンネル（掘進工法）
B7: 起点 | C7: 緯度 | D7: 341718.3 | F7: 変状・異常 箇所数合計 | H7: トンネル 本体工 | J7: 材質劣化 | L7: Ⅱ | M7: 19 | N7: Ⅲ | O7: 27 | P7: Ⅳ | R7: トンネル毎 の健全性 | T7: Ⅲ | V7: 附属物の 取付状態 | W7: ◯ （応急措置後）
C10: 経度 | D10: 1311138.6
J11: 漏水 | L11: Ⅱ | M11: 107 | N11: Ⅲ | O11: 1 | P11: Ⅳ
B13: 終点 | C13: 緯度 | D13: 341643.6 | W13: ✕ | Y13: 1
J15: 外力 | L15: Ⅱ | M15: 7 | N15: Ⅲ | P15: Ⅳ | AC15: 0
C16: 経度 | D16: 1311138.2
B19: トンネル変状・異常箇所写真位置図
P26: 注１：本位置図は、見下げた状態で記載すること。 注２：覆工スパン番号は横断目地毎(矢板工法の場合は上半アーチ の横断目地毎)に設定すること。 注３：写真番号に付する変状番号は、各覆工スパンの変状に対して新た に確認された場合は順次追加していくこと。 注４：横断目地の変状は前の覆工スパン番号で計上すること。 注５：１枚に収まらない場合は、複数枚に分けて作成すること。
C28: ※1 トンネル本体工の変状数は、材質劣化、漏水に起因するものは変状単位で、外力に起因するものはスパン単位で計上すること。
C29: ※2 本体工の変状に対しては、健全性の判定区分Ⅱ～Ⅳについて表記すること。なお、初回点検（H26以降）以降に、措置が行われた結果、
C30: Ⅰと判定された箇所についても記載すること。
C31: ※3 附属物の取付状態の○欄については、応急措置前に判定区分×とした箇所のうち応急措置により○判定とした箇所の数を記入すること。
C32: ※4 附属物の異常番号は、本体工と番号が重複しないよう101番以降とする等の配慮を行い、分かりやすく記録すること。

Sheet 様式B (9)
B2: ■定期点検記録様式 トンネル変状・異常箇所写真位置図 【様式B】 | T2: トンネルID | V2: 34.31239,131.19108
B3: フリガナ | D3: オオガタオ | H3: 路線名 | J3: 一般国道316号 | N3: 管理者名 | P3: 長門土木建築事務所 | T3: 緊急輸送道路 | V3: 有
B4: 名 称 | D4: 大ヶ峠トンネル | T4: 代替路の有無 | V4: 有
B5: 所在地 | D5: 自 | E5: 山口県長門市渋木 | H5: 定期点検業者 | K5: 株式会社オリエンタルコンサルタンツ | O5: 定期点検年月日 | Q5: 45280 | T5: トンネル延長 | V5: L= | W5: ='様式A-1'!Z5 -> 1066 | Y5: ｍ
D6: 至 | E6: 山口県美祢市於福町 | H6: 定期点検者名 | K6: 妹尾 優大 | T6: ﾄﾝﾈﾙの分類 | V6: 陸上トンネル（掘進工法）
B7: 起点 | C7: 緯度 | D7: 341718.3 | F7: 変状・異常 箇所数合計 | H7: トンネル 本体工 | J7: 材質劣化 | L7: Ⅱ | M7: 19 | N7: Ⅲ | O7: 27 | P7: Ⅳ | R7: トンネル毎 の健全性 | T7: Ⅲ | V7: 附属物の 取付状態 | W7: ◯ （応急措置後）
C10: 経度 | D10: 1311138.6
J11: 漏水 | L11: Ⅱ | M11: 107 | N11: Ⅲ | O11: 1 | P11: Ⅳ
B13: 終点 | C13: 緯度 | D13: 341643.6 | W13: ✕ | Y13: 1
J15: 外力 | L15: Ⅱ | M15: 7 | N15: Ⅲ | P15: Ⅳ | AC15: 0
C16: 経度 | D16: 1311138.2
B19: トンネル変状・異常箇所写真位置図
P26: 注１：本位置図は、見下げた状態で記載すること。 注２：覆工スパン番号は横断目地毎(矢板工法の場合は上半アーチ の横断目地毎)に設定すること。 注３：写真番号に付する変状番号は、各覆工スパンの変状に対して新た に確認された場合は順次追加していくこと。 注４：横断目地の変状は前の覆工スパン番号で計上すること。 注５：１枚に収まらない場合は、複数枚に分けて作成すること。
C28: ※1 トンネル本体工の変状数は、材質劣化、漏水に起因するものは変状単位で、外力に起因するものはスパン単位で計上すること。
C29: ※2 本体工の変状に対しては、健全性の判定区分Ⅱ～Ⅳについて表記すること。なお、初回点検（H26以降）以降に、措置が行われた結果、
C30: Ⅰと判定された箇所についても記載すること。
C31: ※3 附属物の取付状態の○欄については、応急措置前に判定区分×とした箇所のうち応急措置により○判定とした箇所の数を記入すること。
C32: ※4 附属物の異常番号は、本体工と番号が重複しないよう101番以降とする等の配慮を行い、分かりやすく記録すること。

Sheet 様式B (10)
B2: ■定期点検記録様式 トンネル変状・異常箇所写真位置図 【様式B】 | T2: トンネルID | V2: 34.31239,131.19108
B3: フリガナ | D3: オオガタオ | H3: 路線名 | J3: 一般国道316号 | N3: 管理者名 | P3: 長門土木建築事務所 | T3: 緊急輸送道路 | V3: 有
B4: 名 称 | D4: 大ヶ峠トンネル | T4: 代替路の有無 | V4: 有
B5: 所在地 | D5: 自 | E5: 山口県長門市渋木 | H5: 定期点検業者 | K5: 株式会社オリエンタルコンサルタンツ | O5: 定期点検年月日 | Q5: 45280 | T5: トンネル延長 | V5: L= | W5: ='様式A-1'!Z5 -> 1066 | Y5: ｍ
D6: 至 | E6: 山口県美祢市於福町 | H6: 定期点検者名 | K6: 妹尾 優大 | T6: ﾄﾝﾈﾙの分類 | V6: 陸上トンネル（掘進工法）
B7: 起点 | C7: 緯度 | D7: 341718.3 | F7: 変状・異常 箇所数合計 | H7: トンネル 本体工 | J7: 材質劣化 | L7: Ⅱ | M7: 19 | N7: Ⅲ | O7: 27 | P7: Ⅳ | R7: トンネル毎 の健全性 | T7: Ⅲ | V7: 附属物の 取付状態 | W7: ◯ （応急措置後）
C10: 経度 | D10: 1311138.6
J11: 漏水 | L11: Ⅱ | M11: 107 | N11: Ⅲ | O11: 1 | P11: Ⅳ
B13: 終点 | C13: 緯度 | D13: 341643.6 | W13: ✕ | Y13: 1
J15: 外力 | L15: Ⅱ | M15: 7 | N15: Ⅲ | P15: Ⅳ | AC15: 0
C16: 経度 | D16: 1311138.2
B19: トンネル変状・異常箇所写真位置図
P26: 注１：本位置図は、見下げた状態で記載すること。 注２：覆工スパン番号は横断目地毎(矢板工法の場合は上半アーチ の横断目地毎)に設定すること。 注３：写真番号に付する変状番号は、各覆工スパンの変状に対して新た に確認された場合は順次追加していくこと。 注４：横断目地の変状は前の覆工スパン番号で計上すること。 注５：１枚に収まらない場合は、複数枚に分けて作成すること。
C28: ※1 トンネル本体工の変状数は、材質劣化、漏水に起因するものは変状単位で、外力に起因するものはスパン単位で計上すること。
C29: ※2 本体工の変状に対しては、健全性の判定区分Ⅱ～Ⅳについて表記すること。なお、初回点検（H26以降）以降に、措置が行われた結果、
C30: Ⅰと判定された箇所についても記載すること。
C31: ※3 附属物の取付状態の○欄については、応急措置前に判定区分×とした箇所のうち応急措置により○判定とした箇所の数を記入すること。
C32: ※4 附属物の異常番号は、本体工と番号が重複しないよう101番以降とする等の配慮を行い、分かりやすく記録すること。

Sheet 様式C-1-1
B2: ■定期点検記録様式 全スパン定期点検結果総括表（トンネル本体工） 【様式C-1-1】
B3: フリガナ | F3: オオガタオ | I3: 路線名 | K3: 一般国道316号 | O3: 定期点検業者 | Q3: 株式会社オリエンタルコンサルタンツ | U3: 定期点検年月日 | Y3: 45280
B4: 名 称 | F4: 大ヶ峠トンネル | I4: 管理者名 | K4: 長門土木建築事務所 | O4: 定期点検者名 | Q4: 妹尾 優大
C5: 覆工 スパン 番号 | E5: 変状 番号 | F5: 距離 （m） | G5: 変状部位 | I5: 変 状 の 内 容 | O5: 前回定期点検時の状態 | Q5: 今回定期点検結果 | U5: 措置履歴 | Z5: 対応方針 ・ 特記事項
G7: 対象箇所 | H7: 部位区分 | I7: 変状区分 | J7: 変状種類 | M7: 変状の発生範囲の規模 | N7: 前回定期点検時 との比較 | O7: 状態 | P7: 健全性 | Q7: 対策区分 | S7: 調査の 要否 | T7: 措置の 要否 | U7: 実施 | V7: 措置の実施状況
Q8: 応急措置前 | R8: 応急措置後
B9: 定期点検結果 | C9: PS | E9: 1 | F9: 2.5 | G9: 覆工・坑門 | H9: 側壁（右側） | I9: 漏水 | J9: 漏水 | M9: - | N9: 進行が認められない | O9: Ⅱb | P9: Ⅱ | R9: Ⅰ | S9: 要 | T9: 要監視 | U9: 継続 | V9: 監視(日常巡視) | Z9: にじみ
C10: S002 | E10: 1 | F10: 10.4 | G10: 覆工・坑門 | H10: 横断目地（天端） | I10: 材質劣化 | J10: その他 | M10: 0.2m×0.1m | N10: 進行が認められない | O10: Ⅱa | P10: Ⅱ | R10: Ⅱa | S10: 要 | T10: 要監視 | U10: 継続 | V10: 監視(日常巡視) | Z10: 豆板
C11: S002 | E11: 2 | F11: 10.4 | G11: 覆工・坑門 | H11: 横断目地（左側） | I11: 材質劣化 | J11: うき・はく離 | M11: 対策済 | N11: 対策済 | O11: Ⅲ | P11: Ⅲ | R11: Ⅰ | S11: 否 | T11: 否 | U11: 済 | V11: 導水工新設により対策済
C12: S002 | E12: 3 | F12: 10.4 | G12: 覆工・坑門 | H12: 横断目地（天端） | I12: 漏水 | J12: 漏水 | M12: 対策済 | N12: 対策済 | O12: Ⅱb | P12: Ⅱ | R12: Ⅰ | S12: 否 | T12: 否 | U12: 済 | V12: 導水工新設により対策済
C13: S002 | E13: 4 | F13: 10.4 | G13: 覆工・坑門 | H13: 側壁（右側） | I13: 漏水 | J13: 漏水 | M13: - | N13: 進行が認められない | O13: Ⅱb | P13: Ⅱ | R13: Ⅰ | S13: 要 | T13: 要監視 | U13: 継続 | V13: 監視(日常巡視) | Z13: にじみ
C14: S003 | E14: 1 | F14: 10.6 | G14: 覆工・坑門 | H14: アーチ（左側） | I14: 漏水 | J14: 漏水 | M14: 6.4m×0.5m | N14: 進行が認められない | O14: Ⅱb | P14: Ⅱ | R14: Ⅱb | S14: 要 | T14: 要監視 | U14: 継続 | V14: 監視(日常巡視) | Z14: にじみ
C15: S003 | E15: 2 | F15: 10.6 | G15: 覆工・坑門 | H15: アーチ（左側） | I15: 材質劣化 | J15: その他 | M15: 0.35m×1.2m | N15: 進行が認められない | O15: Ⅱa | P15: Ⅱ | R15: Ⅱa | S15: 要 | T15: 要監視 | U15: 継続 | V15: 監視(日常巡視) | Z15: 豆板
C16: S003 | E16: 3 | F16: 10.6 | G16: 覆工・坑門 | H16: 横断目地（左側） | I16: 材質劣化 | J16: うき・はく離 | M16: 0.7m×0.1m | N16: 進行が認められない | O16: Ⅲ | P16: Ⅲ | R16: Ⅲ | S16: 要 | T16: 要対策 | U16: 継続 | V16: 監視(重点) | Z16: うき
C17: S003 | E17: 4 | F17: 10.6 | G17: 覆工・坑門 | H17: アーチ（右側） | I17: 漏水 | J17: 漏水 | M17: - | N17: - | O17: Ⅱb | P17: Ⅱ | R17: Ⅰ | S17: 否 | T17: 否 | U17: 済 | V17: - | Z17: 漏水跡
C18: S004 | E18: 1 | F18: 10.2 | G18: 覆工・坑門 | H18: 側壁（左側） | I18: 漏水 | J18: 漏水 | M18: - | N18: - | O18: Ⅱb | P18: Ⅱ | R18: Ⅰ | S18: 否 | T18: 否 | U18: 済 | V18: - | Z18: 漏水跡
C19: S004 | E19: 2 | F19: 10.2 | G19: 覆工・坑門 | H19: 横断目地（左側） | I19: 外力 | J19: 変形、移動 | M19: 20mm | N19: 進行が認められない | O19: Ⅱb | P19: Ⅱ | R19: Ⅱb | S19: 要 | T19: 要監視 | U19: 継続 | V19: 監視(日常巡視) | Z19: 段差
C20: S004 | E20: 3 | F20: 10.2 | G20: 覆工・坑門 | H20: アーチ（右側） | I20: 漏水 | J20: 漏水 | M20: - | N20: - | O20: Ⅱb | P20: Ⅱ | R20: Ⅰ | S20: 否 | T20: 否 | U20: 済 | V20: - | Z20: 漏水跡
C21: S004 | E21: 4 | F21: 10.2 | G21: 覆工・坑門 | H21: アーチ（右側） | I21: 漏水 | J21: 漏水 | M21: 4.6m×0.5m | N21: 進行が認められない | O21: Ⅱb | P21: Ⅱ | R21: Ⅱb | S21: 要 | T21: 要監視 | U21: 継続 | V21: 監視(日常巡視) | Z21: にじみ
C22: S004 | E22: 5 | F22: 10.2 | G22: 覆工・坑門 | H22: アーチ（右側） | I22: 漏水 | J22: 漏水 | M22: - | N22: - | O22: Ⅱb | P22: Ⅱ | R22: Ⅰ | S22: 否 | T22: 否 | U22: 済 | V22: - | Z22: 漏水跡
C23: S005 | E23: 1 | F23: 10.8 | G23: 覆工・坑門 | H23: 側壁（左側） | I23: 漏水 | J23: 漏水 | M23: - | N23: - | O23: Ⅱb | P23: Ⅱ | R23: Ⅰ | S23: 否 | T23: 否 | U23: 済 | V23: - | Z23: 漏水跡
C24: S005 | E24: 2 | F24: 10.8 | G24: 覆工・坑門 | H24: アーチ（左側） | I24: 漏水 | J24: 漏水 | M24: 対策済 | N24: 対策済 | O24: Ⅱa | P24: Ⅱ | R24: Ⅰ | S24: 否 | T24: 否 | U24: 済 | V24: 導水工の更新により対策済
C25: S005 | E25: 3 | F25: 10.8 | G25: 覆工・坑門 | H25: 横断目地（左側） | I25: 外力 | J25: 変形、移動 | M25: 15mm | N25: 進行が認められない | O25: Ⅱb | P25: Ⅱ | R25: Ⅱb | S25: 要 | T25: 要監視 | U25: 継続 | V25: 監視(日常巡視) | Z25: 段差
C26: S005 | E26: 4 | F26: 10.8 | G26: 覆工・坑門 | H26: アーチ（天端） | I26: 漏水 | J26: 漏水 | M26: 対策済 | N26: 対策済 | O26: Ⅱb | P26: Ⅱ | R26: Ⅰ | S26: 否 | T26: 否 | U26: 済 | V26: 導水工の更新により対策済
C27: S005 | E27: 5 | F27: 10.8 | G27: 覆工・坑門 | H27: アーチ（右側） | I27: 漏水 | J27: 漏水 | M27: 対策済 | N27: 対策済 | O27: Ⅱb | P27: Ⅱ | R27: Ⅰ | S27: 否 | T27: 否 | U27: 済 | V27: 導水工の更新により対策済
C28: S005 | E28: 6 | F28: 10.8 | G28: 覆工・坑門 | H28: アーチ（右側） | I28: 漏水 | J28: 漏水 | M28: 対策済 | N28: 対策済 | O28: Ⅱb | P28: Ⅱ | R28: Ⅰ | S28: 否 | T28: 否 | U28: 済 | V28: 導水工の更新により対策済
C29: S005 | E29: 7 | F29: 10.8 | G29: 覆工・坑門 | H29: 側壁（右側） | I29: 漏水 | J29: 漏水 | M29: - | N29: 新規確認 | O29: － | P29: － | R29: Ⅰ | S29: 要 | T29: 要監視 | U29: 継続 | V29: 監視(日常巡視) | Z29: にじみ
C30: S006 | E30: 1 | F30: 10.5 | G30: 覆工・坑門 | H30: アーチ（左側） | I30: 材質劣化 | J30: うき・はく離 | M30: 0.8m×0.1m | N30: 進行が認められない | O30: Ⅲ | P30: Ⅲ | R30: Ⅲ | S30: 要 | T30: 要対策 | U30: 継続 | V30: 監視(重点) | Z30: うき
C31: S006 | E31: 2 | F31: 10.5 | G31: 覆工・坑門 | H31: アーチ（天端） | I31: 漏水 | J31: 漏水 | M31: - | N31: - | O31: Ⅱb | P31: Ⅱ | R31: Ⅰ | S31: 否 | T31: 否 | U31: 済 | V31: - | Z31: 漏水跡
C32: S006 | E32: 3 | F32: 10.5 | G32: 覆工・坑門 | H32: アーチ（天端） | I32: 漏水 | J32: 漏水 | M32: 8.4m×0.5m | N32: 進行が認められない | O32: Ⅱb | P32: Ⅱ | R32: Ⅱb | S32: 要 | T32: 要監視 | U32: 継続 | V32: 監視(日常巡視) | Z32: にじみ
C33: S006 | E33: 4 | F33: 10.5 | G33: 覆工・坑門 | H33: アーチ（右側） | I33: 漏水 | J33: 漏水 | M33: 対策済 | N33: 対策済 | O33: Ⅱb | P33: Ⅱ | R33: Ⅰ | S33: 否 | T33: 否 | U33: 済 | V33: 導水工の更新により対策済
C34: S006 | E34: 5 | F34: 10.5 | G34: 覆工・坑門 | H34: アーチ（右側） | I34: 漏水 | J34: 漏水 | M34: 対策済 | N34: 対策済 | O34: Ⅱb | P34: Ⅱ | R34: Ⅰ | S34: 否 | T34: 否 | U34: 済 | V34: 導水工の更新により対策済
C35: S006 | E35: 6 | F35: 10.5 | G35: 覆工・坑門 | H35: アーチ（天端） | I35: 漏水 | J35: 漏水 | M35: - | N35: - | O35: Ⅱb | P35: Ⅱ | R35: Ⅰ | S35: 否 | T35: 否 | U35: 済 | V35: - | Z35: 漏水跡
C36: S006 | E36: 7 | F36: 10.5 | G36: 路面 | H36: 車道 | I36: 材質劣化 | J36: うき・はく離 | M36: 1.9m×0.1m | N36: 進行が認められない | O36: Ⅱa | P36: Ⅱ | R36: － | S36: 要 | T36: 要監視 | U36: 継続 | V36: 監視(日常巡視) | Z36: うき
C37: S006 | E37: 8 | F37: 10.5 | G37: 路面 | H37: 車道 | I37: 材質劣化 | J37: うき・はく離 | M37: 0.3m×0.1m | N37: 進行が認められない | O37: Ⅱa | P37: Ⅱ | R37: － | S37: 要 | T37: 要監視 | U37: 継続 | V37: 監視(日常巡視) | Z37: うき
C38: S006 | E38: 9 | F38: 10.5 | G38: 路面 | H38: 車道 | I38: 材質劣化 | J38: うき・はく離 | M38: 1.7m×0.1m | N38: 進行が認められない | O38: Ⅱa | P38: Ⅱ | R38: － | S38: 要 | T38: 要監視 | U38: 継続 | V38: 監視(日常巡視) | Z38: うき
C39: S008 | E39: 1 | F39: 10.4 | G39: 覆工・坑門 | H39: 側壁（左側） | I39: 漏水 | J39: 漏水 | M39: - | N39: - | O39: Ⅱb | P39: Ⅱ | R39: Ⅰ | S39: 否 | T39: 否 | U39: 済 | V39: - | Z39: 漏水跡
C40: S008 | E40: 2 | F40: 10.4 | G40: 覆工・坑門 | H40: 側壁（左側） | I40: 漏水 | J40: 漏水 | M40: - | N40: 進行が認められない | O40: Ⅱb | P40: Ⅱ | R40: Ⅰ | S40: 要 | T40: 要監視 | U40: 継続 | V40: 監視(日常巡視) | Z40: にじみ
C41: S008 | E41: 3 | F41: 10.4 | G41: 覆工・坑門 | H41: アーチ（天端） | I41: 漏水 | J41: 漏水 | M41: 対策済 | N41: 対策済 | O41: Ⅱb | P41: Ⅱ | R41: Ⅰ | S41: 否 | T41: 否 | U41: 済 | V41: 導水工新設により対策済
C42: S008 | E42: 4 | F42: 10.4 | G42: 覆工・坑門 | H42: 横断目地（天端） | I42: 材質劣化 | J42: その他 | M42: 0.2m×0.1m | N42: 進行が認められない | O42: Ⅱb | P42: Ⅱ | R42: Ⅱb | S42: 要 | T42: 要監視 | U42: 継続 | V42: 監視(日常巡視) | Z42: 異物混入(木片)
C43: S008 | E43: 5 | F43: 10.4 | G43: 路面 | H43: 監査歩路 | I43: 漏水 | J43: 滞水 | M43: - | N43: - | O43: Ⅱb | P43: Ⅱ | R43: － | S43: 否 | T43: 否 | U43: 済 | V43: - | Z43: 滞水跡
C44: S008 | E44: 6 | F44: 10.4 | G44: 路面 | H44: 監査歩路 | I44: 漏水 | J44: 滞水 | M44: - | N44: - | O44: Ⅱb | P44: Ⅱ | R44: － | S44: 否 | T44: 否 | U44: 済 | V44: - | Z44: 滞水跡
C45: S009 | E45: 1 | F45: 10.7 | G45: 覆工・坑門 | H45: アーチ（左側） | I45: 漏水 | J45: 漏水 | M45: 対策済 | N45: 対策済 | O45: Ⅱb | P45: Ⅱ | R45: Ⅰ | S45: 否 | T45: 否 | U45: 済 | V45: 導水工の更新により対策済
C46: S009 | E46: 2 | F46: 10.7 | G46: 覆工・坑門 | H46: アーチ（天端） | I46: 材質劣化 | J46: その他 | M46: 0.25m×0.15m | N46: 進行が認められない | O46: Ⅱa | P46: Ⅱ | R46: Ⅱa | S46: 要 | T46: 要監視 | U46: 継続 | V46: 監視(日常巡視) | Z46: 豆板
C47: S009 | E47: 3 | F47: 10.7 | G47: 覆工・坑門 | H47: アーチ（右側） | I47: 漏水 | J47: 漏水 | M47: 対策済 | N47: 対策済 | O47: Ⅱa | P47: Ⅱ | R47: Ⅰ | S47: 否 | T47: 否 | U47: 済 | V47: 導水工新設により対策済
C48: S009 | E48: 4 | F48: 10.7 | G48: 覆工・坑門 | H48: アーチ（右側） | I48: 漏水 | J48: 漏水 | M48: 対策済 | N48: 対策済 | O48: Ⅱb | P48: Ⅱ | R48: Ⅰ | S48: 否 | T48: 否 | U48: 済 | V48: 導水工の更新により対策済
C49: S010 | E49: 1 | F49: 10.4 | G49: 覆工・坑門 | H49: アーチ（右側） | I49: 材質劣化 | J49: 鋼材腐食 | M49: 0.1m×0.2m | N49: 進行が認められない | O49: Ⅱb | P49: Ⅱ | R49: Ⅱb | S49: 要 | T49: 要監視 | U49: 継続 | V49: 監視(日常巡視) | Z49: 鉄筋露出
C50: S010 | E50: 2 | F50: 10.4 | G50: 覆工・坑門 | H50: 側壁（右側） | I50: 漏水 | J50: 漏水 | M50: - | N50: 進行が認められない | O50: Ⅱb | P50: Ⅱ | R50: Ⅰ | S50: 要 | T50: 要監視 | U50: 継続 | V50: 監視(日常巡視) | Z50: にじみ
C51: S010 | E51: 3 | F51: 10.4 | G51: 路面 | H51: 監査歩路 | I51: 漏水 | J51: 滞水 | M51: - | N51: - | O51: Ⅱb | P51: Ⅱ | R51: － | S51: 否 | T51: 否 | U51: 済 | V51: - | Z51: 滞水跡
C52: S010 | E52: 4 | F52: 10.4 | G52: 路面 | H52: 監査歩路 | I52: 漏水 | J52: 滞水 | M52: 0.4m×6.5m | N52: 新規確認 | O52: － | P52: － | R52: － | S52: 要 | T52: 要監視 | U52: 継続 | V52: 監視(日常巡視) | Z52: 滞水
C53: S011 | E53: 1 | F53: 10.5 | G53: 覆工・坑門 | H53: 側壁（左側） | I53: 漏水 | J53: 漏水 | M53: - | N53: - | O53: Ⅱb | P53: Ⅱ | R53: Ⅰ | S53: 否 | T53: 否 | U53: 済 | V53: - | Z53: 漏水跡
C54: S011 | E54: 2 | F54: 10.5 | G54: 覆工・坑門 | H54: 側壁（左側） | I54: 漏水 | J54: 漏水 | M54: - | N54: - | O54: Ⅱb | P54: Ⅱ | R54: Ⅰ | S54: 否 | T54: 否 | U54: 済 | V54: - | Z54: 漏水跡
C55: S011 | E55: 3 | F55: 10.5 | G55: 覆工・坑門 | H55: 側壁（左側） | I55: 漏水 | J55: 漏水 | M55: - | N55: - | O55: Ⅱb | P55: Ⅱ | R55: Ⅰ | S55: 否 | T55: 否 | U55: 済 | V55: - | Z55: 漏水跡
C56: S011 | E56: 4 | F56: 10.5 | G56: 覆工・坑門 | H56: 側壁（右側） | I56: 漏水 | J56: 漏水 | M56: - | N56: 新規確認 | O56: － | P56: － | R56: Ⅰ | S56: 要 | T56: 要監視 | U56: 継続 | V56: 監視(日常巡視) | Z56: にじみ
C57: S011 | E57: 5 | F57: 10.5 | G57: 路面 | H57: 監査歩路 | I57: 漏水 | J57: 滞水 | M57: - | N57: - | O57: Ⅱb | P57: Ⅱ | R57: － | S57: 否 | T57: 否 | U57: 済 | V57: - | Z57: 滞水跡
C58: S011 | E58: 6 | F58: 10.5 | G58: 路面 | H58: 監査歩路 | I58: 漏水 | J58: 滞水 | M58: - | N58: - | O58: Ⅱb | P58: Ⅱ | R58: － | S58: 否 | T58: 否 | U58: 済 | V58: - | Z58: 滞水跡
C59: S011 | E59: 7 | F59: 10.5 | G59: 路面 | H59: 監査歩路 | I59: 漏水 | J59: 滞水 | M59: 0.1m×5.0m | N59: 新規確認 | O59: － | P59: － | R59: － | S59: 要 | T59: 要監視 | U59: 継続 | V59: 監視(日常巡視) | Z59: 滞水
C60: S012 | E60: 1 | F60: 10.6 | G60: 覆工・坑門 | H60: 側壁（左側） | I60: 漏水 | J60: 漏水 | M60: - | N60: - | O60: Ⅱb | P60: Ⅱ | R60: Ⅰ | S60: 否 | T60: 否 | U60: 済 | V60: - | Z60: 漏水跡
C61: S012 | E61: 2 | F61: 10.6 | G61: 覆工・坑門 | H61: アーチ（右側） | I61: 漏水 | J61: 漏水 | M61: 対策済 | N61: 対策済 | O61: Ⅱb | P61: Ⅱ | R61: Ⅰ | S61: 否 | T61: 否 | U61: 済 | V61: 導水工の更新により対策済
C62: S012 | E62: 3 | F62: 10.6 | G62: 覆工・坑門 | H62: 側壁（右側） | I62: 漏水 | J62: 漏水 | M62: - | N62: - | O62: Ⅱb | P62: Ⅱ | R62: Ⅰ | S62: 否 | T62: 否 | U62: 済 | V62: - | Z62: 漏水跡
C63: S012 | E63: 4 | F63: 10.6 | G63: 覆工・坑門 | H63: 側壁（右側） | I63: 漏水 | J63: 漏水 | M63: - | N63: - | O63: Ⅱb | P63: Ⅱ | R63: Ⅰ | S63: 否 | T63: 否 | U63: 済 | V63: - | Z63: 漏水跡
C64: S012 | E64: 5 | F64: 10.6 | G64: 路面 | H64: 監査歩路 | I64: 漏水 | J64: 滞水 | M64: - | N64: - | O64: Ⅱb | P64: Ⅱ | R64: － | S64: 否 | T64: 否 | U64: 済 | V64: - | Z64: 滞水跡
C65: S013 | E65: 1 | F65: 10.5 | G65: 覆工・坑門 | H65: 側壁（左側） | I65: 漏水 | J65: 漏水 | M65: - | N65: - | O65: Ⅱb | P65: Ⅱ | R65: Ⅰ | S65: 否 | T65: 否 | U65: 済 | V65: - | Z65: 漏水跡
C66: S013 | E66: 2 | F66: 10.5 | G66: 覆工・坑門 | H66: アーチ（右側） | I66: 材質劣化 | J66: 鋼材腐食 | M66: 0.1m×0.15m | N66: 進行が認められない | O66: Ⅱb | P66: Ⅱ | R66: Ⅱb | S66: 要 | T66: 要監視 | U66: 継続 | V66: 監視(日常巡視) | Z66: 鉄筋露出
C67: S013 | E67: 3 | F67: 10.5 | G67: 覆工・坑門 | H67: 横断目地（右側） | I67: 材質劣化 | J67: うき・はく離 | M67: 0.2m×0.05m | N67: 進行が認められない | O67: Ⅲ | P67: Ⅲ | R67: Ⅲ | S67: 要 | T67: 要対策 | U67: 継続 | V67: 監視(重点) | Z67: うき
C68: S013 | E68: 4 | F68: 10.5 | G68: 覆工・坑門 | H68: 側壁（右側） | I68: 漏水 | J68: 漏水 | M68: - | N68: - | O68: Ⅱb | P68: Ⅱ | R68: Ⅰ | S68: 否 | T68: 否 | U68: 済 | V68: - | Z68: 漏水跡
C69: S014 | E69: 1 | F69: 10.4 | G69: 覆工・坑門 | H69: 側壁（左側） | I69: 漏水 | J69: 漏水 | M69: - | N69: 進行が認められない | O69: Ⅱb | P69: Ⅱ | R69: Ⅰ | S69: 要 | T69: 要監視 | U69: 継続 | V69: 監視(日常巡視) | Z69: にじみ
C70: S014 | E70: 2 | F70: 10.4 | G70: 覆工・坑門 | H70: 側壁（右側） | I70: 漏水 | J70: 漏水 | M70: - | N70: - | O70: Ⅱb | P70: Ⅱ | R70: Ⅰ | S70: 否 | T70: 否 | U70: 済 | V70: - | Z70: 漏水跡
C71: S015 | E71: 1 | F71: 10.6 | G71: 覆工・坑門 | H71: 側壁（左側） | I71: 漏水 | J71: 漏水 | M71: - | N71: - | O71: Ⅱb | P71: Ⅱ | R71: Ⅰ | S71: 否 | T71: 否 | U71: 済 | V71: - | Z71: 漏水跡
C72: S015 | E72: 2 | F72: 10.6 | G72: 覆工・坑門 | H72: アーチ（左側） | I72: 漏水 | J72: 漏水 | M72: 対策済 | N72: 対策済 | O72: Ⅱb | P72: Ⅱ | R72: Ⅰ | S72: 否 | T72: 否 | U72: 済 | V72: 導水工の更新により対策済
C73: S015 | E73: 3 | F73: 10.6 | G73: 覆工・坑門 | H73: アーチ（天端） | I73: 漏水 | J73: 漏水 | M73: 対策済 | N73: 対策済 | O73: Ⅱb | P73: Ⅱ | R73: Ⅰ | S73: 否 | T73: 否 | U73: 済 | V73: 導水工の更新により対策済
C74: S015 | E74: 4 | F74: 10.6 | G74: 路面 | H74: 側溝 | I74: 材質劣化 | J74: うき・はく離 | M74: 0.2m×0.5m | N74: 進行が認められない | O74: Ⅱb | P74: Ⅱ | R74: － | S74: 要 | T74: 要監視 | U74: 継続 | V74: 監視(日常巡視) | Z74: はく離
C75: S015 | E75: 5 | F75: 10.6 | G75: 路面 | H75: 側溝 | I75: 材質劣化 | J75: うき・はく離 | M75: 0.2m×0.5m | N75: 進行が認められない | O75: Ⅱb | P75: Ⅱ | R75: － | S75: 要 | T75: 要監視 | U75: 継続 | V75: 監視(日常巡視) | Z75: はく離
C76: S015 | E76: 6 | F76: 10.6 | G76: 路面 | H76: 車道 | I76: 材質劣化 | J76: うき・はく離 | M76: 1.0m×0.3m | N76: 進行が認められない | O76: Ⅱa | P76: Ⅱ | R76: － | S76: 要 | T76: 要監視 | U76: 継続 | V76: 監視(日常巡視) | Z76: うき
C77: S015 | E77: 7 | F77: 10.6 | G77: 路面 | H77: 車道 | I77: 材質劣化 | J77: うき・はく離 | M77: 1.0m×0.1m | N77: 進行が認められない | O77: Ⅱa | P77: Ⅱ | R77: － | S77: 要 | T77: 要監視 | U77: 継続 | V77: 監視(日常巡視) | Z77: うき
C78: S018 | E78: 1 | F78: 10.6 | G78: 覆工・坑門 | H78: 側壁（左側） | I78: 漏水 | J78: 漏水 | M78: - | N78: 進行が認められない | O78: Ⅱb | P78: Ⅱ | R78: Ⅰ | S78: 要 | T78: 要監視 | U78: 継続 | V78: 監視(日常巡視) | Z78: にじみ
C79: S018 | E79: 2 | F79: 10.6 | G79: 路面 | H79: 監査歩路 | I79: 漏水 | J79: 滞水 | M79: 0.3m×3.3m | N79: 新規確認 | O79: － | P79: － | R79: Ⅱb | S79: 要 | T79: 要監視 | U79: 継続 | V79: 監視(日常巡視) | Z79: 滞水
C80: S019 | E80: 1 | F80: 10.3 | G80: 覆工・坑門 | H80: 側壁（左側） | I80: 漏水 | J80: 漏水 | M80: - | N80: 進行が認められない | O80: Ⅱb | P80: Ⅱ | R80: Ⅰ | S80: 要 | T80: 要監視 | U80: 継続 | V80: 監視(日常巡視) | Z80: にじみ
C81: S019 | E81: 2 | F81: 10.3 | G81: 覆工・坑門 | H81: アーチ（右側） | I81: 漏水 | J81: 漏水 | M81: - | N81: - | O81: Ⅱb | P81: Ⅱ | R81: Ⅰ | S81: 否 | T81: 否 | U81: 済 | V81: - | Z81: 漏水跡
C82: S019 | E82: 3 | F82: 10.3 | G82: 覆工・坑門 | H82: 側壁（右側） | I82: 漏水 | J82: 漏水 | M82: - | N82: - | O82: Ⅱb | P82: Ⅱ | R82: Ⅰ | S82: 否 | T82: 否 | U82: 済 | V82: - | Z82: 漏水跡
C83: S019 | E83: 4 | F83: 10.3 | G83: 路面 | H83: 監査歩路 | I83: 漏水 | J83: 滞水 | M83: 0.4m×6.5m | N83: 進行が認められない | O83: Ⅱb | P83: Ⅱ | R83: － | S83: 要 | T83: 要監視 | U83: 継続 | V83: 監視(日常巡視) | Z83: 滞水
C84: S019 | E84: 5 | F84: 10.3 | G84: 路面 | H84: 車道 | I84: 材質劣化 | J84: うき・はく離 | M84: 0.6m×0.1m | N84: 進行が認められない | O84: Ⅱa | P84: Ⅱ | R84: － | S84: 要 | T84: 要監視 | U84: 継続 | V84: 監視(日常巡視) | Z84: うき
C85: S020 | E85: 1 | F85: 10.8 | G85: 覆工・坑門 | H85: アーチ（左側） | I85: 材質劣化 | J85: うき・はく離 | M85: 0.4m×0.1m | N85: 進行が認められない | O85: Ⅲ | P85: Ⅲ | R85: Ⅲ | S85: 要 | T85: 要対策 | U85: 継続 | V85: 監視(重点) | Z85: うき
C86: S020 | E86: 2 | F86: 10.8 | G86: 覆工・坑門 | H86: アーチ（左側） | I86: 材質劣化 | J86: うき・はく離 | M86: 対策済 | N86: 対策済 | O86: Ⅱb | P86: Ⅱ | R86: Ⅰ | S86: 否 | T86: 否 | U86: 済 | V86: ひび割れ注入工により対策済
C87: S020 | E87: 3 | F87: 10.8 | G87: 覆工・坑門 | H87: アーチ（左側） | I87: 材質劣化 | J87: うき・はく離 | M87: 0.1m×1.1m | N87: 進行が認められない | O87: Ⅲ | P87: Ⅲ | R87: Ⅲ | S87: 要 | T87: 要対策 | U87: 継続 | V87: 監視(重点) | Z87: うき
C88: S020 | E88: 4 | F88: 10.8 | G88: 覆工・坑門 | H88: 横断目地（左側） | I88: 漏水 | J88: 漏水 | M88: 5.2m×0.5m | N88: 進行が認められない | O88: Ⅱb | P88: Ⅱ | R88: Ⅱb | S88: 要 | T88: 要監視 | U88: 継続 | V88: 監視(日常巡視) | Z88: にじみ
C89: S020 | E89: 5 | F89: 10.8 | G89: 覆工・坑門 | H89: アーチ（左側） | I89: 材質劣化 | J89: うき・はく離 | M89: 1.4m×0.1m | N89: 進行が認められない | O89: Ⅲ | P89: Ⅲ | R89: Ⅲ | S89: 要 | T89: 要対策 | U89: 継続 | V89: 監視(重点) | Z89: うき
C90: S020 | E90: 6 | F90: 10.8 | G90: 覆工・坑門 | H90: アーチ（右側） | I90: 漏水 | J90: 漏水 | M90: - | N90: - | O90: Ⅱb | P90: Ⅱ | R90: Ⅰ | S90: 否 | T90: 否 | U90: 済 | V90: - | Z90: 漏水跡
C91: S020 | E91: 7 | F91: 10.8 | G91: 覆工・坑門 | H91: アーチ（右側） | I91: 材質劣化 | J91: うき・はく離 | M91: 対策済 | N91: 対策済 | O91: Ⅱb | P91: Ⅱ | R91: Ⅰ | S91: 否 | T91: 否 | U91: 済 | V91: ひび割れ注入工により対策済
C92: S020 | E92: 8 | F92: 10.8 | G92: 覆工・坑門 | H92: アーチ（右側） | I92: 外力 | J92: 変形、移動 | M92: 対策済 | N92: 対策済 | O92: Ⅱb | P92: Ⅱ | R92: Ⅰ | S92: 否 | T92: 否 | U92: 済 | V92: ひび割れ注入工により対策済
C93: S020 | E93: 9 | F93: 10.8 | G93: 覆工・坑門 | H93: アーチ（天端） | I93: 材質劣化 | J93: うき・はく離 | M93: 0.35m×0.1m | N93: 進行が認められない | O93: Ⅲ | P93: Ⅲ | R93: Ⅲ | S93: 要 | T93: 要対策 | U93: 継続 | V93: 監視(重点) | Z93: うき
C94: S023 | E94: 1 | F94: 10.3 | G94: 覆工・坑門 | H94: アーチ（右側） | I94: 漏水 | J94: 漏水 | M94: 8.1m×0.9m | N94: 進行が認められない | O94: Ⅱb | P94: Ⅱ | R94: Ⅱb | S94: 要 | T94: 要監視 | U94: 継続 | V94: 監視(日常巡視) | Z94: にじみ
C95: S023 | E95: 2 | F95: 10.3 | G95: 覆工・坑門 | H95: 横断目地（天端） | I95: 漏水 | J95: 漏水 | M95: 8.5m×0.5m | N95: 進行が認められない | O95: Ⅱb | P95: Ⅱ | R95: Ⅱb | S95: 要 | T95: 要監視 | U95: 継続 | V95: 監視(日常巡視) | Z95: にじみ
C96: S024 | E96: 1 | F96: 10.3 | G96: 覆工・坑門 | H96: アーチ（天端） | I96: 漏水 | J96: 漏水 | M96: - | N96: - | O96: Ⅱb | P96: Ⅱ | R96: Ⅰ | S96: 否 | T96: 否 | U96: 済 | V96: - | Z96: 漏水跡
C97: S024 | E97: 2 | F97: 10.3 | G97: 覆工・坑門 | H97: 横断目地（左側） | I97: 外力 | J97: 変形、移動 | M97: 対策済 | N97: 対策済 | O97: Ⅱb | P97: Ⅱ | R97: Ⅰ | S97: 否 | T97: 否 | U97: 済 | V97: 導水工新設により対策済
C98: S024 | E98: 3 | F98: 10.3 | G98: 覆工・坑門 | H98: 横断目地（天端） | I98: 材質劣化 | J98: 鋼材腐食 | M98: 0.2m×0.05m | N98: 進行が認められない | O98: Ⅱb | P98: Ⅱ | R98: Ⅱb | S98: 要 | T98: 要監視 | U98: 継続 | V98: 監視(日常巡視) | Z98: 鉄筋露出
C99: S024 | E99: 4 | F99: 10.3 | G99: 路面 | H99: 側溝 | I99: 材質劣化 | J99: うき・はく離 | M99: 0.1m×0.2m | N99: 進行が認められない | O99: Ⅱb | P99: Ⅱ | R99: － | S99: 要 | T99: 要監視 | U99: 継続 | V99: 監視(日常巡視) | Z99: はく離
C100: S025 | E100: 1 | F100: 10.5 | G100: 覆工・坑門 | H100: 側壁（左側） | I100: 漏水 | J100: 漏水 | M100: - | N100: - | O100: Ⅱb | P100: Ⅱ | R100: Ⅰ | S100: 否 | T100: 否 | U100: 済 | V100: - | Z100: 漏水跡
C101: S025 | E101: 2 | F101: 10.5 | G101: 覆工・坑門 | H101: アーチ（左側） | I101: 材質劣化 | J101: その他 | M101: 対策済 | N101: 対策済 | O101: Ⅱa | P101: Ⅱ | R101: Ⅰ | S101: 否 | T101: 否 | U101: 済 | V101: 断面修復工により対策済
C102: S025 | E102: 3 | F102: 10.5 | G102: 覆工・坑門 | H102: アーチ（左側） | I102: 材質劣化 | J102: うき・はく離 | M102: 対策済 | N102: 対策済 | O102: Ⅱb | P102: Ⅱ | R102: Ⅰ | S102: 否 | T102: 否 | U102: 済 | V102: ひび割れ注入工により対策済
...

Sheet 様式C-1-2
B2: ■定期点検記録様式 定期点検結果総括表（トンネル内附属物等の取付状態） 【様式C-1-2】
B3: フリガナ | F3: オオガタオ | J3: 路線名 | L3: 一般国道316号 | O3: 定期点検業者 | Q3: 株式会社オリエンタルコンサルタンツ | U3: 定期点検年月日 | Y3: 45280
B4: 名 称 | F4: 大ヶ峠トンネル | J4: 管理者名 | L4: 長門土木建築事務所 | O4: 定期点検者名 | Q4: 妹尾 優大
B5: 定期点検結果 | C5: 覆工 スパン 番号 | E5: 異常 番号 | F5: 距離 （m） | G5: 異常部位 | J5: 異 常 の 内 容 | P5: 定期点検結果 | R5: 応急措置の 実施状況 | X5: 対応方針 ・ 特記事項
G6: 対象箇所 | I6: 部位区分 | J6: 異常種類 | N6: 異常の発生範囲の規模 | P6: 異常判定区分 | R6: 実施 | S6: 応急措置の内容
P7: 応急措置前 | Q7: 応急措置後
C8: S048 | E8: 101 | F8: 10.5 | G8: その他施設 | H8: その他 | I8: 取付部材 | J8: 変形，欠損 | N8: 1箇所 | Q8: × | R8: 未 | X8: 内装板留め具破損
C9: S056 | E9: 101 | F9: 10.5 | G9: その他施設 | H9: その他 | I9: 附属物本体 | J9: 変形，欠損 | N9: 1箇所 | Q9: × | R9: 未 | X9: 付帯設備破損
C10: S079 | E10: 101 | F10: 10.5 | G10: その他施設 | H10: その他 | I10: 取付部材 | J10: 変形，欠損 | N10: 1箇所 | Q10: × | R10: 未 | X10: 内装板留め具破損
C39: ※ 異常判定区分×について記入すること。また、応急措置により○と判定された箇所も記入すること。
C40: ※ 応急措置を実施しないで判定した箇所の異常判定区分は、異常判定区分の応急措置後の欄に記入すること。
C41: ※ 異常の除去が不完全で、緊急対応が必要な場合は対応方針欄に記入すること。
C42: ※ １スパンの覆工に複数の異常がある場合は、異常箇所毎に記入すること。
C43: ※ 行が不足する場合は、適時、表の行を増やすこと。

Sheet 様式C-2
B2: ■定期点検記録様式 状態の把握の内容 【様式C-2】
B3: フリガナ | E3: オオガタオ | H3: 路線名 | J3: 一般国道316号 | M3: 定期点検業者 | R3: 株式会社オリエンタルコンサルタンツ | U3: 定期点検年月日 | X3: 45280
B4: 名 称 | E4: 大ヶ峠トンネル | H4: 管理者名 | J4: 長門土木建築事務所 | M4: 定期点検者名 | R4: 妹尾 優大
B5: 状態の把握の内容 | C5: 覆工スパン 番号 | E5: 変状 番号 | F5: 状態の把握の内容
F6: 年月日 | H6: 内容 | O6: 結果 | W6: 対策区分の 判定 | Y6: 健全性
B22: 注）状態の把握において、微破壊・非破壊検査や各種試験等を実施した場合について記載する。
B23: ※ 行が不足する場合は、適時、表の行を増やすこと。

Sheet 様式D-1-1
B2: ■定期点検記録様式 変状写真台帳（トンネル本体工） 【様式D-1-1】
B3: フリガナ | D3: オオガタオ | H3: 路 線 名 | J3: 一般国道316号 | M3: 定期点検業者 | P3: 株式会社オリエンタルコンサルタンツ | S3: 定期点検年月日 | U3: 45280
B4: 名 称 | D4: 大ヶ峠トンネル | H4: 管理者名 | J4: 長門土木建築事務所 | M4: 定期点検者名 | P4: 妹尾 優大
B5: 写真 番号 | C5: 覆工 スパン 番号 | D5: PS | M5: 写真 番号 | N5: 覆工 スパン 番号 | O5: S002
C7: 変状 番号 | D7: 1 | N7: 変状 番号 | O7: 1
B9: 変状 部位 | C9: 対象 箇所 | D9: 覆工・坑門 | M9: 変状 部位 | N9: 対象 箇所 | O9: 覆工・坑門
C11: 部位 区分 | D11: 側壁（右側） | N11: 部位 区分 | O11: 横断目地（天端）
B13: 変状区分 | D13: 漏水 | M13: 変状区分 | O13: 材質劣化
B14: 変状種類 | D14: 漏水 | M14: 変状種類 | O14: その他
B15: 対策 区分 | C15: 応急措置前 | M15: 対策 区分 | N15: 応急措置前
C16: 応急措置後 | E16: Ⅰ | N16: 応急措置後 | P16: Ⅱa
B17: 健全性 | D17: Ⅰ | M17: 健全性 | O17: Ⅱ
B18: 変状の発生範囲の規模 | E18: - | M18: 変状の発生範囲の規模 | P18: 0.2m×0.1m
B19: 前回定期点検時の状態 | E19: 漏水、にじみ | M19: 前回定期点検時の状態 | P19: 0.2m×0.1mの豆板
B20: 調査方針 | E20: なし | M20: 調査方針 | P20: なし
B21: 対策履歴 | E21: なし | H21: 実施状況（実施日） | M21: 対策履歴 | P21: なし | S21: 実施状況（実施日）
B22: メモ | D22: 漏水、にじみ | M22: メモ | O22: 目地付近の豆板
B23: 写真 番号 | C23: 覆工 スパン 番号 | D23: S002 | M23: 写真 番号 | N23: 覆工 スパン 番号 | O23: S002
C25: 変状 番号 | D25: 2 | N25: 変状 番号 | O25: 3
B27: 変状 部位 | C27: 対象 箇所 | D27: 覆工・坑門 | M27: 変状 部位 | N27: 対象 箇所 | O27: 覆工・坑門
C29: 部位 区分 | D29: 横断目地（左側） | N29: 部位 区分 | O29: 横断目地（天端）
B31: 変状区分 | D31: 材質劣化 | M31: 変状区分 | O31: 漏水
B32: 変状種類 | D32: うき・はく離 | M32: 変状種類 | O32: 漏水
B33: 対策 区分 | C33: 応急措置前 | M33: 対策 区分 | N33: 応急措置前
C34: 応急措置後 | E34: Ⅰ | N34: 応急措置後 | P34: Ⅰ
B35: 健全性 | D35: Ⅰ | M35: 健全性 | O35: Ⅰ
B36: 変状の発生範囲の規模 | E36: - | M36: 変状の発生範囲の規模 | P36: -
B37: 前回定期点検時の状態 | E37: 2.1m×0.1mのうき | M37: 前回定期点検時の状態 | P37: 漏水、にじみ
B38: 調査方針 | E38: なし | M38: 調査方針 | P38: なし
B39: 対策履歴 | E39: 導水工 | H39: 実施状況（実施日） | M39: 対策履歴 | P39: 導水工 | S39: 実施状況（実施日）
B40: メモ | D40: 導水工新設により対策済み | M40: メモ | O40: 導水工新設により対策済み
C41: ※ 健全性の判定区分Ⅱ～Ⅳについて添付すること。また、点検前に実施 された措置によりⅠと判定された箇所も添付すること。 | N41: ※ 変状の発生範囲の規模とは、対策を行う際に参考となる変状の長さや面積をいう。
N42: ※ 応急措置を実施しないで判定した変状の対策区分は、対策区分の応急措置後の欄に記入すること。
C43: ※ たたき落としを実施した場合は、実施後の写真を添付すること。 | N43: ※ 変状の発生範囲の規模は、面積・寸法を記載すること。
C44: ※ 画像データは100kb程度とする。 | N44: (ひび割れ幅のみmmとし、その他をm表記とする)
C45: ※ 変状数に準じてシートを追加すること。（１シートに１ページとすること。） | N45: ※ 構造用鋼材以外の異物に伴ううき・はく離については、メモ欄に異物の概要を記入すること。

Sheet 様式D-1-1 (2)
B2: ■定期点検記録様式 変状写真台帳（トンネル本体工） 【様式D-1-1】
B3: フリガナ | D3: オオガタオ | H3: 路 線 名 | J3: 一般国道316号 | M3: 定期点検業者 | P3: 株式会社オリエンタルコンサルタンツ | S3: 定期点検年月日 | U3: 45280
B4: 名 称 | D4: 大ヶ峠トンネル | H4: 管理者名 | J4: 長門土木建築事務所 | M4: 定期点検者名 | P4: 妹尾 優大
B5: 写真 番号 | C5: 覆工 スパン 番号 | D5: S002 | M5: 写真 番号 | N5: 覆工 スパン 番号 | O5: S003
C7: 変状 番号 | D7: 4 | N7: 変状 番号 | O7: 1
B9: 変状 部位 | C9: 対象 箇所 | D9: 覆工・坑門 | M9: 変状 部位 | N9: 対象 箇所 | O9: 覆工・坑門
C11: 部位 区分 | D11: 側壁（右側） | N11: 部位 区分 | O11: アーチ（左側）
B13: 変状区分 | D13: 漏水 | M13: 変状区分 | O13: 漏水
B14: 変状種類 | D14: 漏水 | M14: 変状種類 | O14: 漏水
B15: 対策 区分 | C15: 応急措置前 | M15: 対策 区分 | N15: 応急措置前
C16: 応急措置後 | E16: Ⅰ | N16: 応急措置後 | P16: Ⅱb
B17: 健全性 | D17: Ⅰ | M17: 健全性 | O17: Ⅱ
B18: 変状の発生範囲の規模 | E18: - | M18: 変状の発生範囲の規模 | P18: 6.4m×0.5m
B19: 前回定期点検時の状態 | E19: 漏水、にじみ | M19: 前回定期点検時の状態 | P19: 漏水、にじみ
B20: 調査方針 | E20: なし | M20: 調査方針 | P20: なし
B21: 対策履歴 | E21: なし | H21: 実施状況（実施日） | M21: 対策履歴 | P21: なし | S21: 実施状況（実施日）
B22: メモ | D22: 漏水、にじみ | M22: メモ | O22: ひび割れからの漏水、にじみ
B23: 写真 番号 | C23: 覆工 スパン 番号 | D23: S003 | M23: 写真 番号 | N23: 覆工 スパン 番号 | O23: S003
C25: 変状 番号 | D25: 2 | N25: 変状 番号 | O25: 3
B27: 変状 部位 | C27: 対象 箇所 | D27: 覆工・坑門 | M27: 変状 部位 | N27: 対象 箇所 | O27: 覆工・坑門
C29: 部位 区分 | D29: アーチ（左側） | N29: 部位 区分 | O29: 横断目地（左側）
B31: 変状区分 | D31: 材質劣化 | M31: 変状区分 | O31: 材質劣化
B32: 変状種類 | D32: その他 | M32: 変状種類 | O32: うき・はく離
B33: 対策 区分 | C33: 応急措置前 | M33: 対策 区分 | N33: 応急措置前
C34: 応急措置後 | E34: Ⅱa | N34: 応急措置後 | P34: Ⅲ
B35: 健全性 | D35: Ⅱ | M35: 健全性 | O35: Ⅲ
B36: 変状の発生範囲の規模 | E36: 0.35m×1.2m | M36: 変状の発生範囲の規模 | P36: 0.7m×0.1m
B37: 前回定期点検時の状態 | E37: 0.35m×1.2mの豆板 | M37: 前回定期点検時の状態 | P37: 0.7m×0.1mのうき
B38: 調査方針 | E38: なし | M38: 調査方針 | P38: なし
B39: 対策履歴 | E39: なし | H39: 実施状況（実施日） | M39: 対策履歴 | P39: なし | S39: 実施状況（実施日）
B40: メモ | D40: 豆板 | M40: メモ | O40: 横断目地付近のうき
C41: ※ 健全性の判定区分Ⅱ～Ⅳについて添付すること。また、点検前に実施 された措置によりⅠと判定された箇所も添付すること。 | N41: ※ 変状の発生範囲の規模とは、対策を行う際に参考となる変状の長さや面積をいう。
N42: ※ 応急措置を実施しないで判定した変状の対策区分は、対策区分の応急措置後の欄に記入すること。
C43: ※ たたき落としを実施した場合は、実施後の写真を添付すること。 | N43: ※ 変状の発生範囲の規模は、面積・寸法を記載すること。
C44: ※ 画像データは100kb程度とする。 | N44: (ひび割れ幅のみmmとし、その他をm表記とする)
C45: ※ 変状数に準じてシートを追加すること。（１シートに１ページとすること。） | N45: ※ 構造用鋼材以外の異物に伴ううき・はく離については、メモ欄に異物の概要を記入すること。

Sheet 様式D-1-1 (3)
B2: ■定期点検記録様式 変状写真台帳（トンネル本体工） 【様式D-1-1】
B3: フリガナ | D3: オオガタオ | H3: 路 線 名 | J3: 一般国道316号 | M3: 定期点検業者 | P3: 株式会社オリエンタルコンサルタンツ | S3: 定期点検年月日 | U3: 45280
B4: 名 称 | D4: 大ヶ峠トンネル | H4: 管理者名 | J4: 長門土木建築事務所 | M4: 定期点検者名 | P4: 妹尾 優大
B5: 写真 番号 | C5: 覆工 スパン 番号 | D5: S003 | M5: 写真 番号 | N5: 覆工 スパン 番号 | O5: S004
C7: 変状 番号 | D7: 4 | N7: 変状 番号 | O7: 1
B9: 変状 部位 | C9: 対象 箇所 | D9: 覆工・坑門 | M9: 変状 部位 | N9: 対象 箇所 | O9: 覆工・坑門
C11: 部位 区分 | D11: アーチ（右側） | N11: 部位 区分 | O11: 側壁（左側）
B13: 変状区分 | D13: 漏水 | M13: 変状区分 | O13: 漏水
B14: 変状種類 | D14: 漏水 | M14: 変状種類 | O14: 漏水
B15: 対策 区分 | C15: 応急措置前 | M15: 対策 区分 | N15: 応急措置前
C16: 応急措置後 | E16: Ⅰ | N16: 応急措置後 | P16: Ⅰ
B17: 健全性 | D17: Ⅰ | M17: 健全性 | O17: Ⅰ
B18: 変状の発生範囲の規模 | E18: - | M18: 変状の発生範囲の規模 | P18: -
B19: 前回定期点検時の状態 | E19: 漏水、にじみ | M19: 前回定期点検時の状態 | P19: 漏水、にじみ
B20: 調査方針 | E20: なし | M20: 調査方針 | P20: なし
B21: 対策履歴 | E21: なし | H21: 実施状況（実施日） | M21: 対策履歴 | P21: なし | S21: 実施状況（実施日）
B22: メモ | D22: 漏水跡 | M22: メモ | O22: 漏水跡
B23: 写真 番号 | C23: 覆工 スパン 番号 | D23: S004 | M23: 写真 番号 | N23: 覆工 スパン 番号 | O23: S004
C25: 変状 番号 | D25: 2 | N25: 変状 番号 | O25: 3
B27: 変状 部位 | C27: 対象 箇所 | D27: 覆工・坑門 | M27: 変状 部位 | N27: 対象 箇所 | O27: 覆工・坑門
C29: 部位 区分 | D29: 横断目地（左側） | N29: 部位 区分 | O29: アーチ（右側）
B31: 変状区分 | D31: 外力 | M31: 変状区分 | O31: 漏水
B32: 変状種類 | D32: 変形、移動 | M32: 変状種類 | O32: 漏水
B33: 対策 区分 | C33: 応急措置前 | M33: 対策 区分 | N33: 応急措置前
C34: 応急措置後 | E34: Ⅱb | N34: 応急措置後 | P34: Ⅰ
B35: 健全性 | D35: Ⅱ | M35: 健全性 | O35: Ⅰ
B36: 変状の発生範囲の規模 | E36: 20mm | M36: 変状の発生範囲の規模 | P36: -
B37: 前回定期点検時の状態 | E37: 20mmの段差 | M37: 前回定期点検時の状態 | P37: 漏水、にじみ
B38: 調査方針 | E38: なし | M38: 調査方針 | P38: なし
B39: 対策履歴 | E39: なし | H39: 実施状況（実施日） | M39: 対策履歴 | P39: なし | S39: 実施状況（実施日）
B40: メモ | D40: 横断目地に20mmの段差 | M40: メモ | O40: 漏水跡
C41: ※ 健全性の判定区分Ⅱ～Ⅳについて添付すること。また、点検前に実施 された措置によりⅠと判定された箇所も添付すること。 | N41: ※ 変状の発生範囲の規模とは、対策を行う際に参考となる変状の長さや面積をいう。
N42: ※ 応急措置を実施しないで判定した変状の対策区分は、対策区分の応急措置後の欄に記入すること。
C43: ※ たたき落としを実施した場合は、実施後の写真を添付すること。 | N43: ※ 変状の発生範囲の規模は、面積・寸法を記載すること。
C44: ※ 画像データは100kb程度とする。 | N44: (ひび割れ幅のみmmとし、その他をm表記とする)
C45: ※ 変状数に準じてシートを追加すること。（１シートに１ページとすること。） | N45: ※ 構造用鋼材以外の異物に伴ううき・はく離については、メモ欄に異物の概要を記入すること。

Sheet 様式D-1-1 (4)
B2: ■定期点検記録様式 変状写真台帳（トンネル本体工） 【様式D-1-1】
B3: フリガナ | D3: オオガタオ | H3: 路 線 名 | J3: 一般国道316号 | M3: 定期点検業者 | P3: 株式会社オリエンタルコンサルタンツ | S3: 定期点検年月日 | U3: 45280
B4: 名 称 | D4: 大ヶ峠トンネル | H4: 管理者名 | J4: 長門土木建築事務所 | M4: 定期点検者名 | P4: 妹尾 優大
B5: 写真 番号 | C5: 覆工 スパン 番号 | D5: S004 | M5: 写真 番号 | N5: 覆工 スパン 番号 | O5: S004
C7: 変状 番号 | D7: 4 | N7: 変状 番号 | O7: 5
B9: 変状 部位 | C9: 対象 箇所 | D9: 覆工・坑門 | M9: 変状 部位 | N9: 対象 箇所 | O9: 覆工・坑門
C11: 部位 区分 | D11: アーチ（右側） | N11: 部位 区分 | O11: アーチ（右側）
B13: 変状区分 | D13: 漏水 | M13: 変状区分 | O13: 漏水
B14: 変状種類 | D14: 漏水 | M14: 変状種類 | O14: 漏水
B15: 対策 区分 | C15: 応急措置前 | M15: 対策 区分 | N15: 応急措置前
C16: 応急措置後 | E16: Ⅱb | N16: 応急措置後 | P16: Ⅰ
B17: 健全性 | D17: Ⅱ | M17: 健全性 | O17: Ⅰ
B18: 変状の発生範囲の規模 | E18: 4.6m×0.5m | M18: 変状の発生範囲の規模 | P18: -
B19: 前回定期点検時の状態 | E19: 漏水、にじみ | M19: 前回定期点検時の状態 | P19: 漏水、にじみ
B20: 調査方針 | E20: なし | M20: 調査方針 | P20: なし
B21: 対策履歴 | E21: なし | H21: 実施状況（実施日） | M21: 対策履歴 | P21: なし | S21: 実施状況（実施日）
B22: メモ | D22: ひび割れからの漏水、にじみ | M22: メモ | O22: 漏水跡
B23: 写真 番号 | C23: 覆工 スパン 番号 | D23: S005 | M23: 写真 番号 | N23: 覆工 スパン 番号 | O23: S005
C25: 変状 番号 | D25: 1 | N25: 変状 番号 | O25: 2
B27: 変状 部位 | C27: 対象 箇所 | D27: 覆工・坑門 | M27: 変状 部位 | N27: 対象 箇所 | O27: 覆工・坑門
C29: 部位 区分 | D29: 側壁（左側） | N29: 部位 区分 | O29: アーチ（左側）
B31: 変状区分 | D31: 漏水 | M31: 変状区分 | O31: 漏水
B32: 変状種類 | D32: 漏水 | M32: 変状種類 | O32: 漏水
B33: 対策 区分 | C33: 応急措置前 | M33: 対策 区分 | N33: 応急措置前
C34: 応急措置後 | E34: Ⅰ | N34: 応急措置後 | P34: Ⅰ
B35: 健全性 | D35: Ⅰ | M35: 健全性 | O35: Ⅰ
B36: 変状の発生範囲の規模 | E36: - | M36: 変状の発生範囲の規模 | P36: -
B37: 前回定期点検時の状態 | E37: 漏水、にじみ | M37: 前回定期点検時の状態 | P37: 漏水、滴水
B38: 調査方針 | E38: なし | M38: 調査方針 | P38: なし
B39: 対策履歴 | E39: なし | H39: 実施状況（実施日） | M39: 対策履歴 | P39: 導水工の更新 | S39: 実施状況（実施日）
B40: メモ | D40: 漏水跡 | M40: メモ | O40: 導水工の更新により対策済み
C41: ※ 健全性の判定区分Ⅱ～Ⅳについて添付すること。また、点検前に実施 された措置によりⅠと判定された箇所も添付すること。 | N41: ※ 変状の発生範囲の規模とは、対策を行う際に参考となる変状の長さや面積をいう。
N42: ※ 応急措置を実施しないで判定した変状の対策区分は、対策区分の応急措置後の欄に記入すること。
C43: ※ たたき落としを実施した場合は、実施後の写真を添付すること。 | N43: ※ 変状の発生範囲の規模は、面積・寸法を記載すること。
C44: ※ 画像データは100kb程度とする。 | N44: (ひび割れ幅のみmmとし、その他をm表記とする)
C45: ※ 変状数に準じてシートを追加すること。（１シートに１ページとすること。） | N45: ※ 構造用鋼材以外の異物に伴ううき・はく離については、メモ欄に異物の概要を記入すること。

Sheet 様式D-1-1 (5)
B2: ■定期点検記録様式 変状写真台帳（トンネル本体工） 【様式D-1-1】
B3: フリガナ | D3: オオガタオ | H3: 路 線 名 | J3: 一般国道316号 | M3: 定期点検業者 | P3: 株式会社オリエンタルコンサルタンツ | S3: 定期点検年月日 | U3: 45280
B4: 名 称 | D4: 大ヶ峠トンネル | H4: 管理者名 | J4: 長門土木建築事務所 | M4: 定期点検者名 | P4: 妹尾 優大
B5: 写真 番号 | C5: 覆工 スパン 番号 | D5: S005 | M5: 写真 番号 | N5: 覆工 スパン 番号 | O5: S005
C7: 変状 番号 | D7: 3 | N7: 変状 番号 | O7: 4
B9: 変状 部位 | C9: 対象 箇所 | D9: 覆工・坑門 | M9: 変状 部位 | N9: 対象 箇所 | O9: 覆工・坑門
C11: 部位 区分 | D11: 横断目地（左側） | N11: 部位 区分 | O11: アーチ（天端）
B13: 変状区分 | D13: 外力 | M13: 変状区分 | O13: 漏水
B14: 変状種類 | D14: 変形、移動 | M14: 変状種類 | O14: 漏水
B15: 対策 区分 | C15: 応急措置前 | M15: 対策 区分 | N15: 応急措置前
C16: 応急措置後 | E16: Ⅱb | N16: 応急措置後 | P16: Ⅰ
B17: 健全性 | D17: Ⅱ | M17: 健全性 | O17: Ⅰ
B18: 変状の発生範囲の規模 | E18: 15mm | M18: 変状の発生範囲の規模 | P18: -
B19: 前回定期点検時の状態 | E19: 15mmの段差 | M19: 前回定期点検時の状態 | P19: 漏水、にじみ
B20: 調査方針 | E20: なし | M20: 調査方針 | P20: なし
B21: 対策履歴 | E21: なし | H21: 実施状況（実施日） | M21: 対策履歴 | P21: 導水工の更新 | S21: 実施状況（実施日）
B22: メモ | D22: 横断目地に15mmの段差 | M22: メモ | O22: 導水工の更新により対策済み
B23: 写真 番号 | C23: 覆工 スパン 番号 | D23: S005 | M23: 写真 番号 | N23: 覆工 スパン 番号 | O23: S005
C25: 変状 番号 | D25: 5 | N25: 変状 番号 | O25: 6
B27: 変状 部位 | C27: 対象 箇所 | D27: 覆工・坑門 | M27: 変状 部位 | N27: 対象 箇所 | O27: 覆工・坑門
C29: 部位 区分 | D29: アーチ（右側） | N29: 部位 区分 | O29: アーチ（右側）
B31: 変状区分 | D31: 漏水 | M31: 変状区分 | O31: 漏水
B32: 変状種類 | D32: 漏水 | M32: 変状種類 | O32: 漏水
B33: 対策 区分 | C33: 応急措置前 | M33: 対策 区分 | N33: 応急措置前
C34: 応急措置後 | E34: Ⅰ | N34: 応急措置後 | P34: Ⅰ
B35: 健全性 | D35: Ⅰ | M35: 健全性 | O35: Ⅰ
B36: 変状の発生範囲の規模 | E36: - | M36: 変状の発生範囲の規模 | P36: -
B37: 前回定期点検時の状態 | E37: 漏水、にじみ | M37: 前回定期点検時の状態 | P37: 漏水、にじみ
B38: 調査方針 | E38: なし | M38: 調査方針 | P38: なし
B39: 対策履歴 | E39: 導水工の更新 | H39: 実施状況（実施日） | M39: 対策履歴 | P39: 導水工の更新 | S39: 実施状況（実施日）
B40: メモ | D40: 導水工の更新により対策済み | M40: メモ | O40: 導水工の更新により対策済み
C41: ※ 健全性の判定区分Ⅱ～Ⅳについて添付すること。また、点検前に実施 された措置によりⅠと判定された箇所も添付すること。 | N41: ※ 変状の発生範囲の規模とは、対策を行う際に参考となる変状の長さや面積をいう。
N42: ※ 応急措置を実施しないで判定した変状の対策区分は、対策区分の応急措置後の欄に記入すること。
C43: ※ たたき落としを実施した場合は、実施後の写真を添付すること。 | N43: ※ 変状の発生範囲の規模は、面積・寸法を記載すること。
C44: ※ 画像データは100kb程度とする。 | N44: (ひび割れ幅のみmmとし、その他をm表記とする)
C45: ※ 変状数に準じてシートを追加すること。（１シートに１ページとすること。） | N45: ※ 構造用鋼材以外の異物に伴ううき・はく離については、メモ欄に異物の概要を記入すること。

Sheet 様式D-1-1 (6)
B2: ■定期点検記録様式 変状写真台帳（トンネル本体工） 【様式D-1-1】
B3: フリガナ | D3: オオガタオ | H3: 路 線 名 | J3: 一般国道316号 | M3: 定期点検業者 | P3: 株式会社オリエンタルコンサルタンツ | S3: 定期点検年月日 | U3: 45280
B4: 名 称 | D4: 大ヶ峠トンネル | H4: 管理者名 | J4: 長門土木建築事務所 | M4: 定期点検者名 | P4: 妹尾 優大
B5: 写真 番号 | C5: 覆工 スパン 番号 | D5: S005 | M5: 写真 番号 | N5: 覆工 スパン 番号 | O5: S006
C7: 変状 番号 | D7: 7 | N7: 変状 番号 | O7: 1
B9: 変状 部位 | C9: 対象 箇所 | D9: 覆工・坑門 | M9: 変状 部位 | N9: 対象 箇所 | O9: 覆工・坑門
C11: 部位 区分 | D11: 側壁（右側） | N11: 部位 区分 | O11: アーチ（左側）
B13: 変状区分 | D13: 漏水 | M13: 変状区分 | O13: 材質劣化
B14: 変状種類 | D14: 漏水 | M14: 変状種類 | O14: うき・はく離
B15: 対策 区分 | C15: 応急措置前 | M15: 対策 区分 | N15: 応急措置前
C16: 応急措置後 | E16: Ⅰ | N16: 応急措置後 | P16: Ⅲ
B17: 健全性 | D17: Ⅰ | M17: 健全性 | O17: Ⅲ
B18: 変状の発生範囲の規模 | E18: - | M18: 変状の発生範囲の規模 | P18: 0.8m×0.1m
B19: 前回定期点検時の状態 | E19: - | M19: 前回定期点検時の状態 | P19: 0.8m×0.1mのうき(段差3mm)
B20: 調査方針 | E20: なし | M20: 調査方針 | P20: なし
B21: 対策履歴 | E21: なし | H21: 実施状況（実施日） | M21: 対策履歴 | P21: なし | S21: 実施状況（実施日）
B22: メモ | D22: 漏水、にじみ | M22: メモ | O22: 補修跡のうき(段差3mm)
B23: 写真 番号 | C23: 覆工 スパン 番号 | D23: S006 | M23: 写真 番号 | N23: 覆工 スパン 番号 | O23: S006
C25: 変状 番号 | D25: 2 | N25: 変状 番号 | O25: 3
B27: 変状 部位 | C27: 対象 箇所 | D27: 覆工・坑門 | M27: 変状 部位 | N27: 対象 箇所 | O27: 覆工・坑門
C29: 部位 区分 | D29: アーチ（天端） | N29: 部位 区分 | O29: アーチ（天端）
B31: 変状区分 | D31: 漏水 | M31: 変状区分 | O31: 漏水
B32: 変状種類 | D32: 漏水 | M32: 変状種類 | O32: 漏水
B33: 対策 区分 | C33: 応急措置前 | M33: 対策 区分 | N33: 応急措置前
C34: 応急措置後 | E34: Ⅰ | N34: 応急措置後 | P34: Ⅱb
B35: 健全性 | D35: Ⅰ | M35: 健全性 | O35: Ⅱ
B36: 変状の発生範囲の規模 | E36: - | M36: 変状の発生範囲の規模 | P36: 8.4m×0.5m
B37: 前回定期点検時の状態 | E37: 漏水、にじみ | M37: 前回定期点検時の状態 | P37: 漏水、にじみ
B38: 調査方針 | E38: なし | M38: 調査方針 | P38: なし
B39: 対策履歴 | E39: なし | H39: 実施状況（実施日） | M39: 対策履歴 | P39: なし | S39: 実施状況（実施日）
B40: メモ | D40: 漏水跡 | M40: メモ | O40: 導水工からの漏水、にじみ
C41: ※ 健全性の判定区分Ⅱ～Ⅳについて添付すること。また、点検前に実施 された措置によりⅠと判定された箇所も添付すること。 | N41: ※ 変状の発生範囲の規模とは、対策を行う際に参考となる変状の長さや面積をいう。
N42: ※ 応急措置を実施しないで判定した変状の対策区分は、対策区分の応急措置後の欄に記入すること。
C43: ※ たたき落としを実施した場合は、実施後の写真を添付すること。 | N43: ※ 変状の発生範囲の規模は、面積・寸法を記載すること。
C44: ※ 画像データは100kb程度とする。 | N44: (ひび割れ幅のみmmとし、その他をm表記とする)
C45: ※ 変状数に準じてシートを追加すること。（１シートに１ページとすること。） | N45: ※ 構造用鋼材以外の異物に伴ううき・はく離については、メモ欄に異物の概要を記入すること。

Sheet 様式D-1-1 (7)
B2: ■定期点検記録様式 変状写真台帳（トンネル本体工） 【様式D-1-1】
B3: フリガナ | D3: オオガタオ | H3: 路 線 名 | J3: 一般国道316号 | M3: 定期点検業者 | P3: 株式会社オリエンタルコンサルタンツ | S3: 定期点検年月日 | U3: 45280
B4: 名 称 | D4: 大ヶ峠トンネル | H4: 管理者名 | J4: 長門土木建築事務所 | M4: 定期点検者名 | P4: 妹尾 優大
B5: 写真 番号 | C5: 覆工 スパン 番号 | D5: S006 | M5: 写真 番号 | N5: 覆工 スパン 番号 | O5: S006
C7: 変状 番号 | D7: 4 | N7: 変状 番号 | O7: 5
B9: 変状 部位 | C9: 対象 箇所 | D9: 覆工・坑門 | M9: 変状 部位 | N9: 対象 箇所 | O9: 覆工・坑門
C11: 部位 区分 | D11: アーチ（右側） | N11: 部位 区分 | O11: アーチ（右側）
B13: 変状区分 | D13: 漏水 | M13: 変状区分 | O13: 漏水
B14: 変状種類 | D14: 漏水 | M14: 変状種類 | O14: 漏水
B15: 対策 区分 | C15: 応急措置前 | M15: 対策 区分 | N15: 応急措置前
C16: 応急措置後 | E16: Ⅰ | N16: 応急措置後 | P16: Ⅰ
B17: 健全性 | D17: Ⅰ | M17: 健全性 | O17: Ⅰ
B18: 変状の発生範囲の規模 | E18: - | M18: 変状の発生範囲の規模 | P18: -
B19: 前回定期点検時の状態 | E19: 漏水、にじみ | M19: 前回定期点検時の状態 | P19: 漏水、にじみ
B20: 調査方針 | E20: なし | M20: 調査方針 | P20: なし
B21: 対策履歴 | E21: 導水工の更新 | H21: 実施状況（実施日） | M21: 対策履歴 | P21: 導水工の更新 | S21: 実施状況（実施日）
B22: メモ | D22: 導水工の更新により対策済み | M22: メモ | O22: 導水工の更新により対策済み
B23: 写真 番号 | C23: 覆工 スパン 番号 | D23: S006 | M23: 写真 番号 | N23: 覆工 スパン 番号 | O23: S006
C25: 変状 番号 | D25: 6 | N25: 変状 番号 | O25: 7
B27: 変状 部位 | C27: 対象 箇所 | D27: 覆工・坑門 | M27: 変状 部位 | N27: 対象 箇所 | O27: 路面
C29: 部位 区分 | D29: アーチ（天端） | N29: 部位 区分 | O29: 車道
B31: 変状区分 | D31: 漏水 | M31: 変状区分 | O31: 材質劣化
B32: 変状種類 | D32: 漏水 | M32: 変状種類 | O32: うき・はく離
B33: 対策 区分 | C33: 応急措置前 | M33: 対策 区分 | N33: 応急措置前
C34: 応急措置後 | E34: Ⅰ | N34: 応急措置後 | P34: －
B35: 健全性 | D35: Ⅰ | M35: 健全性 | O35: －
B36: 変状の発生範囲の規模 | E36: - | M36: 変状の発生範囲の規模 | P36: 1.9m×0.1m
B37: 前回定期点検時の状態 | E37: 漏水、にじみ | M37: 前回定期点検時の状態 | P37: 0.35m×0.05m、0.7m×0.05mのうき
B38: 調査方針 | E38: なし | M38: 調査方針 | P38: なし
B39: 対策履歴 | E39: なし | H39: 実施状況（実施日） | M39: 対策履歴 | P39: なし | S39: 実施状況（実施日）
B40: メモ | D40: 漏水跡 | M40: メモ | O40: 舗装のうき
C41: ※ 健全性の判定区分Ⅱ～Ⅳについて添付すること。また、点検前に実施 された措置によりⅠと判定された箇所も添付すること。 | N41: ※ 変状の発生範囲の規模とは、対策を行う際に参考となる変状の長さや面積をいう。
N42: ※ 応急措置を実施しないで判定した変状の対策区分は、対策区分の応急措置後の欄に記入すること。
C43: ※ たたき落としを実施した場合は、実施後の写真を添付すること。 | N43: ※ 変状の発生範囲の規模は、面積・寸法を記載すること。
C44: ※ 画像データは100kb程度とする。 | N44: (ひび割れ幅のみmmとし、その他をm表記とする)
C45: ※ 変状数に準じてシートを追加すること。（１シートに１ページとすること。） | N45: ※ 構造用鋼材以外の異物に伴ううき・はく離については、メモ欄に異物の概要を記入すること。

Sheet 様式D-1-1 (8)
B2: ■定期点検記録様式 変状写真台帳（トンネル本体工） 【様式D-1-1】
B3: フリガナ | D3: オオガタオ | H3: 路 線 名 | J3: 一般国道316号 | M3: 定期点検業者 | P3: 株式会社オリエンタルコンサルタンツ | S3: 定期点検年月日 | U3: 45280
B4: 名 称 | D4: 大ヶ峠トンネル | H4: 管理者名 | J4: 長門土木建築事務所 | M4: 定期点検者名 | P4: 妹尾 優大
B5: 写真 番号 | C5: 覆工 スパン 番号 | D5: S006 | M5: 写真 番号 | N5: 覆工 スパン 番号 | O5: S006
C7: 変状 番号 | D7: 8 | N7: 変状 番号 | O7: 9
B9: 変状 部位 | C9: 対象 箇所 | D9: 路面 | M9: 変状 部位 | N9: 対象 箇所 | O9: 路面
C11: 部位 区分 | D11: 車道 | N11: 部位 区分 | O11: 車道
B13: 変状区分 | D13: 材質劣化 | M13: 変状区分 | O13: 材質劣化
B14: 変状種類 | D14: うき・はく離 | M14: 変状種類 | O14: うき・はく離
B15: 対策 区分 | C15: 応急措置前 | M15: 対策 区分 | N15: 応急措置前
C16: 応急措置後 | E16: － | N16: 応急措置後 | P16: －
B17: 健全性 | D17: － | M17: 健全性 | O17: －
B18: 変状の発生範囲の規模 | E18: 0.3m×0.1m | M18: 変状の発生範囲の規模 | P18: 1.7m×0.1m
B19: 前回定期点検時の状態 | E19: 0.3m×0.1mのうき | M19: 前回定期点検時の状態 | P19: 0.4m×0.05m、1.0m×0.1mのうき
B20: 調査方針 | E20: なし | M20: 調査方針 | P20: なし
B21: 対策履歴 | E21: なし | H21: 実施状況（実施日） | M21: 対策履歴 | P21: なし | S21: 実施状況（実施日）
B22: メモ | D22: 舗装のうき | M22: メモ | O22: 舗装のうき
B23: 写真 番号 | C23: 覆工 スパン 番号 | D23: S008 | M23: 写真 番号 | N23: 覆工 スパン 番号 | O23: S008
C25: 変状 番号 | D25: 1 | N25: 変状 番号 | O25: 2
B27: 変状 部位 | C27: 対象 箇所 | D27: 覆工・坑門 | M27: 変状 部位 | N27: 対象 箇所 | O27: 覆工・坑門
C29: 部位 区分 | D29: 側壁（左側） | N29: 部位 区分 | O29: 側壁（左側）
B31: 変状区分 | D31: 漏水 | M31: 変状区分 | O31: 漏水
B32: 変状種類 | D32: 漏水 | M32: 変状種類 | O32: 漏水
B33: 対策 区分 | C33: 応急措置前 | M33: 対策 区分 | N33: 応急措置前
C34: 応急措置後 | E34: Ⅰ | N34: 応急措置後 | P34: Ⅰ
B35: 健全性 | D35: Ⅰ | M35: 健全性 | O35: Ⅰ
B36: 変状の発生範囲の規模 | E36: - | M36: 変状の発生範囲の規模 | P36: -
B37: 前回定期点検時の状態 | E37: 漏水、にじみ | M37: 前回定期点検時の状態 | P37: 漏水、にじみ
B38: 調査方針 | E38: なし | M38: 調査方針 | P38: なし
B39: 対策履歴 | E39: なし | H39: 実施状況（実施日） | M39: 対策履歴 | P39: なし | S39: 実施状況（実施日）
B40: メモ | D40: 漏水跡 | M40: メモ | O40: 漏水、にじみ
C41: ※ 健全性の判定区分Ⅱ～Ⅳについて添付すること。また、点検前に実施 された措置によりⅠと判定された箇所も添付すること。 | N41: ※ 変状の発生範囲の規模とは、対策を行う際に参考となる変状の長さや面積をいう。
N42: ※ 応急措置を実施しないで判定した変状の対策区分は、対策区分の応急措置後の欄に記入すること。
C43: ※ たたき落としを実施した場合は、実施後の写真を添付すること。 | N43: ※ 変状の発生範囲の規模は、面積・寸法を記載すること。
C44: ※ 画像データは100kb程度とする。 | N44: (ひび割れ幅のみmmとし、その他をm表記とする)
C45: ※ 変状数に準じてシートを追加すること。（１シートに１ページとすること。） | N45: ※ 構造用鋼材以外の異物に伴ううき・はく離については、メモ欄に異物の概要を記入すること。

Sheet 様式D-1-1 (9)
B2: ■定期点検記録様式 変状写真台帳（トンネル本体工） 【様式D-1-1】
B3: フリガナ | D3: オオガタオ | H3: 路 線 名 | J3: 一般国道316号 | M3: 定期点検業者 | P3: 株式会社オリエンタルコンサルタンツ | S3: 定期点検年月日 | U3: 45280
B4: 名 称 | D4: 大ヶ峠トンネル | H4: 管理者名 | J4: 長門土木建築事務所 | M4: 定期点検者名 | P4: 妹尾 優大
B5: 写真 番号 | C5: 覆工 スパン 番号 | D5: S008 | M5: 写真 番号 | N5: 覆工 スパン 番号 | O5: S008
C7: 変状 番号 | D7: 3 | N7: 変状 番号 | O7: 4
B9: 変状 部位 | C9: 対象 箇所 | D9: 覆工・坑門 | M9: 変状 部位 | N9: 対象 箇所 | O9: 覆工・坑門
C11: 部位 区分 | D11: アーチ（天端） | N11: 部位 区分 | O11: 横断目地（天端）
B13: 変状区分 | D13: 漏水 | M13: 変状区分 | O13: 材質劣化
B14: 変状種類 | D14: 漏水 | M14: 変状種類 | O14: その他
B15: 対策 区分 | C15: 応急措置前 | M15: 対策 区分 | N15: 応急措置前
C16: 応急措置後 | E16: Ⅰ | N16: 応急措置後 | P16: Ⅱb
B17: 健全性 | D17: Ⅰ | M17: 健全性 | O17: Ⅱ
B18: 変状の発生範囲の規模 | E18: - | M18: 変状の発生範囲の規模 | P18: 0.2m×0.1m
B19: 前回定期点検時の状態 | E19: 漏水、にじみ | M19: 前回定期点検時の状態 | P19: 0.2m×0.1mの異物混入(木片)
B20: 調査方針 | E20: なし | M20: 調査方針 | P20: なし
B21: 対策履歴 | E21: 導水工 | H21: 実施状況（実施日） | M21: 対策履歴 | P21: なし | S21: 実施状況（実施日）
B22: メモ | D22: 導水工新設により対策済み | M22: メモ | O22: 異物混入(木片)
B23: 写真 番号 | C23: 覆工 スパン 番号 | D23: S008 | M23: 写真 番号 | N23: 覆工 スパン 番号 | O23: S008
C25: 変状 番号 | D25: 5 | N25: 変状 番号 | O25: 6
B27: 変状 部位 | C27: 対象 箇所 | D27: 路面 | M27: 変状 部位 | N27: 対象 箇所 | O27: 路面
C29: 部位 区分 | D29: 監査歩路 | N29: 部位 区分 | O29: 監査歩路
B31: 変状区分 | D31: 漏水 | M31: 変状区分 | O31: 漏水
B32: 変状種類 | D32: 滞水 | M32: 変状種類 | O32: 滞水
B33: 対策 区分 | C33: 応急措置前 | M33: 対策 区分 | N33: 応急措置前
C34: 応急措置後 | E34: － | N34: 応急措置後 | P34: －
B35: 健全性 | D35: － | M35: 健全性 | O35: －
B36: 変状の発生範囲の規模 | E36: - | M36: 変状の発生範囲の規模 | P36: -
B37: 前回定期点検時の状態 | E37: 滞水 | M37: 前回定期点検時の状態 | P37: 滞水
B38: 調査方針 | E38: なし | M38: 調査方針 | P38: なし
B39: 対策履歴 | E39: なし | H39: 実施状況（実施日） | M39: 対策履歴 | P39: なし | S39: 実施状況（実施日）
B40: メモ | D40: 滞水跡 | M40: メモ | O40: 滞水跡
C41: ※ 健全性の判定区分Ⅱ～Ⅳについて添付すること。また、点検前に実施 された措置によりⅠと判定された箇所も添付すること。 | N41: ※ 変状の発生範囲の規模とは、対策を行う際に参考となる変状の長さや面積をいう。
N42: ※ 応急措置を実施しないで判定した変状の対策区分は、対策区分の応急措置後の欄に記入すること。
C43: ※ たたき落としを実施した場合は、実施後の写真を添付すること。 | N43: ※ 変状の発生範囲の規模は、面積・寸法を記載すること。
C44: ※ 画像データは100kb程度とする。 | N44: (ひび割れ幅のみmmとし、その他をm表記とする)
C45: ※ 変状数に準じてシートを追加すること。（１シートに１ページとすること。） | N45: ※ 構造用鋼材以外の異物に伴ううき・はく離については、メモ欄に異物の概要を記入すること。

Sheet 様式D-1-1 (10)
B2: ■定期点検記録様式 変状写真台帳（トンネル本体工） 【様式D-1-1】
B3: フリガナ | D3: オオガタオ | H3: 路 線 名 | J3: 一般国道316号 | M3: 定期点検業者 | P3: 株式会社オリエンタルコンサルタンツ | S3: 定期点検年月日 | U3: 45280
B4: 名 称 | D4: 大ヶ峠トンネル | H4: 管理者名 | J4: 長門土木建築事務所 | M4: 定期点検者名 | P4: 妹尾 優大
B5: 写真 番号 | C5: 覆工 スパン 番号 | D5: S009 | M5: 写真 番号 | N5: 覆工 スパン 番号 | O5: S009
C7: 変状 番号 | D7: 1 | N7: 変状 番号 | O7: 2
B9: 変状 部位 | C9: 対象 箇所 | D9: 覆工・坑門 | M9: 変状 部位 | N9: 対象 箇所 | O9: 覆工・坑門
C11: 部位 区分 | D11: アーチ（左側） | N11: 部位 区分 | O11: アーチ（天端）
B13: 変状区分 | D13: 漏水 | M13: 変状区分 | O13: 材質劣化
B14: 変状種類 | D14: 漏水 | M14: 変状種類 | O14: その他
B15: 対策 区分 | C15: 応急措置前 | M15: 対策 区分 | N15: 応急措置前
C16: 応急措置後 | E16: Ⅰ | N16: 応急措置後 | P16: Ⅱa
B17: 健全性 | D17: Ⅰ | M17: 健全性 | O17: Ⅱ
B18: 変状の発生範囲の規模 | E18: - | M18: 変状の発生範囲の規模 | P18: 0.25m×0.15m
B19: 前回定期点検時の状態 | E19: 漏水、にじみ | M19: 前回定期点検時の状態 | P19: 0.25m×0.15mの豆板
B20: 調査方針 | E20: なし | M20: 調査方針 | P20: なし
B21: 対策履歴 | E21: 導水工の更新 | H21: 実施状況（実施日） | M21: 対策履歴 | P21: なし | S21: 実施状況（実施日）
B22: メモ | D22: 導水工の更新により対策済み | M22: メモ | O22: 豆板
B23: 写真 番号 | C23: 覆工 スパン 番号 | D23: S009 | M23: 写真 番号 | N23: 覆工 スパン 番号 | O23: S009
C25: 変状 番号 | D25: 3 | N25: 変状 番号 | O25: 4
B27: 変状 部位 | C27: 対象 箇所 | D27: 覆工・坑門 | M27: 変状 部位 | N27: 対象 箇所 | O27: 覆工・坑門
C29: 部位 区分 | D29: アーチ（右側） | N29: 部位 区分 | O29: アーチ（右側）
B31: 変状区分 | D31: 漏水 | M31: 変状区分 | O31: 漏水
B32: 変状種類 | D32: 漏水 | M32: 変状種類 | O32: 漏水
B33: 対策 区分 | C33: 応急措置前 | M33: 対策 区分 | N33: 応急措置前
C34: 応急措置後 | E34: Ⅰ | N34: 応急措置後 | P34: Ⅰ
B35: 健全性 | D35: Ⅰ | M35: 健全性 | O35: Ⅰ
B36: 変状の発生範囲の規模 | E36: - | M36: 変状の発生範囲の規模 | P36: -
B37: 前回定期点検時の状態 | E37: 漏水、滴水 | M37: 前回定期点検時の状態 | P37: 漏水、にじみ
B38: 調査方針 | E38: なし | M38: 調査方針 | P38: なし
B39: 対策履歴 | E39: 導水工 | H39: 実施状況（実施日） | M39: 対策履歴 | P39: 導水工の更新 | S39: 実施状況（実施日）
B40: メモ | D40: 導水工新設により対策済み | M40: メモ | O40: 導水工の更新により対策済み
C41: ※ 健全性の判定区分Ⅱ～Ⅳについて添付すること。また、点検前に実施 された措置によりⅠと判定された箇所も添付すること。 | N41: ※ 変状の発生範囲の規模とは、対策を行う際に参考となる変状の長さや面積をいう。
N42: ※ 応急措置を実施しないで判定した変状の対策区分は、対策区分の応急措置後の欄に記入すること。
C43: ※ たたき落としを実施した場合は、実施後の写真を添付すること。 | N43: ※ 変状の発生範囲の規模は、面積・寸法を記載すること。
C44: ※ 画像データは100kb程度とする。 | N44: (ひび割れ幅のみmmとし、その他をm表記とする)
C45: ※ 変状数に準じてシートを追加すること。（１シートに１ページとすること。） | N45: ※ 構造用鋼材以外の異物に伴ううき・はく離については、メモ欄に異物の概要を記入すること。

Sheet 様式D-1-1 (11)
B2: ■定期点検記録様式 変状写真台帳（トンネル本体工） 【様式D-1-1】
B3: フリガナ | D3: オオガタオ | H3: 路 線 名 | J3: 一般国道316号 | M3: 定期点検業者 | P3: 株式会社オリエンタルコンサルタンツ | S3: 定期点検年月日 | U3: 45280
B4: 名 称 | D4: 大ヶ峠トンネル | H4: 管理者名 | J4: 長門土木建築事務所 | M4: 定期点検者名 | P4: 妹尾 優大
B5: 写真 番号 | C5: 覆工 スパン 番号 | D5: S010 | M5: 写真 番号 | N5: 覆工 スパン 番号 | O5: S010
C7: 変状 番号 | D7: 1 | N7: 変状 番号 | O7: 2
B9: 変状 部位 | C9: 対象 箇所 | D9: 覆工・坑門 | M9: 変状 部位 | N9: 対象 箇所 | O9: 覆工・坑門
C11: 部位 区分 | D11: アーチ（右側） | N11: 部位 区分 | O11: 側壁（右側）
B13: 変状区分 | D13: 材質劣化 | M13: 変状区分 | O13: 漏水
B14: 変状種類 | D14: 鋼材腐食 | M14: 変状種類 | O14: 漏水
B15: 対策 区分 | C15: 応急措置前 | M15: 対策 区分 | N15: 応急措置前
C16: 応急措置後 | E16: Ⅱb | N16: 応急措置後 | P16: Ⅰ
B17: 健全性 | D17: Ⅱ | M17: 健全性 | O17: Ⅰ
B18: 変状の発生範囲の規模 | E18: 0.1m×0.2m | M18: 変状の発生範囲の規模 | P18: -
B19: 前回定期点検時の状態 | E19: 0.1m×0.2mの鉄筋露出 | M19: 前回定期点検時の状態 | P19: 漏水、にじみ
B20: 調査方針 | E20: なし | M20: 調査方針 | P20: なし
B21: 対策履歴 | E21: なし | H21: 実施状況（実施日） | M21: 対策履歴 | P21: なし | S21: 実施状況（実施日）
B22: メモ | D22: 鉄筋露出 | M22: メモ | O22: 漏水、にじみ
B23: 写真 番号 | C23: 覆工 スパン 番号 | D23: S010 | M23: 写真 番号 | N23: 覆工 スパン 番号 | O23: S010
C25: 変状 番号 | D25: 3 | N25: 変状 番号 | O25: 4
B27: 変状 部位 | C27: 対象 箇所 | D27: 路面 | M27: 変状 部位 | N27: 対象 箇所 | O27: 路面
C29: 部位 区分 | D29: 監査歩路 | N29: 部位 区分 | O29: 監査歩路
B31: 変状区分 | D31: 漏水 | M31: 変状区分 | O31: 漏水
B32: 変状種類 | D32: 滞水 | M32: 変状種類 | O32: 滞水
B33: 対策 区分 | C33: 応急措置前 | M33: 対策 区分 | N33: 応急措置前
C34: 応急措置後 | E34: － | N34: 応急措置後 | P34: －
B35: 健全性 | D35: － | M35: 健全性 | O35: －
B36: 変状の発生範囲の規模 | E36: - | M36: 変状の発生範囲の規模 | P36: 0.4m×6.5m
B37: 前回定期点検時の状態 | E37: 滞水 | M37: 前回定期点検時の状態 | P37: -
B38: 調査方針 | E38: なし | M38: 調査方針 | P38: なし
B39: 対策履歴 | E39: なし | H39: 実施状況（実施日） | M39: 対策履歴 | P39: なし | S39: 実施状況（実施日）
B40: メモ | D40: 滞水跡 | M40: メモ | O40: 滞水
C41: ※ 健全性の判定区分Ⅱ～Ⅳについて添付すること。また、点検前に実施 された措置によりⅠと判定された箇所も添付すること。 | N41: ※ 変状の発生範囲の規模とは、対策を行う際に参考となる変状の長さや面積をいう。
N42: ※ 応急措置を実施しないで判定した変状の対策区分は、対策区分の応急措置後の欄に記入すること。
C43: ※ たたき落としを実施した場合は、実施後の写真を添付すること。 | N43: ※ 変状の発生範囲の規模は、面積・寸法を記載すること。
C44: ※ 画像データは100kb程度とする。 | N44: (ひび割れ幅のみmmとし、その他をm表記とする)
C45: ※ 変状数に準じてシートを追加すること。（１シートに１ページとすること。） | N45: ※ 構造用鋼材以外の異物に伴ううき・はく離については、メモ欄に異物の概要を記入すること。

Sheet 様式D-1-1 (12)
B2: ■定期点検記録様式 変状写真台帳（トンネル本体工） 【様式D-1-1】
B3: フリガナ | D3: オオガタオ | H3: 路 線 名 | J3: 一般国道316号 | M3: 定期点検業者 | P3: 株式会社オリエンタルコンサルタンツ | S3: 定期点検年月日 | U3: 45280
B4: 名 称 | D4: 大ヶ峠トンネル | H4: 管理者名 | J4: 長門土木建築事務所 | M4: 定期点検者名 | P4: 妹尾 優大
B5: 写真 番号 | C5: 覆工 スパン 番号 | D5: S011 | M5: 写真 番号 | N5: 覆工 スパン 番号 | O5: S011
C7: 変状 番号 | D7: 1 | N7: 変状 番号 | O7: 2
B9: 変状 部位 | C9: 対象 箇所 | D9: 覆工・坑門 | M9: 変状 部位 | N9: 対象 箇所 | O9: 覆工・坑門
C11: 部位 区分 | D11: 側壁（左側） | N11: 部位 区分 | O11: 側壁（左側）
B13: 変状区分 | D13: 漏水 | M13: 変状区分 | O13: 漏水
B14: 変状種類 | D14: 漏水 | M14: 変状種類 | O14: 漏水
B15: 対策 区分 | C15: 応急措置前 | M15: 対策 区分 | N15: 応急措置前
C16: 応急措置後 | E16: Ⅰ | N16: 応急措置後 | P16: Ⅰ
B17: 健全性 | D17: Ⅰ | M17: 健全性 | O17: Ⅰ
B18: 変状の発生範囲の規模 | E18: - | M18: 変状の発生範囲の規模 | P18: -
B19: 前回定期点検時の状態 | E19: 漏水、にじみ | M19: 前回定期点検時の状態 | P19: 漏水、にじみ
B20: 調査方針 | E20: なし | M20: 調査方針 | P20: なし
B21: 対策履歴 | E21: なし | H21: 実施状況（実施日） | M21: 対策履歴 | P21: なし | S21: 実施状況（実施日）
B22: メモ | D22: 漏水跡 | M22: メモ | O22: 漏水跡
B23: 写真 番号 | C23: 覆工 スパン 番号 | D23: S011 | M23: 写真 番号 | N23: 覆工 スパン 番号 | O23: S011
C25: 変状 番号 | D25: 3 | N25: 変状 番号 | O25: 4
B27: 変状 部位 | C27: 対象 箇所 | D27: 覆工・坑門 | M27: 変状 部位 | N27: 対象 箇所 | O27: 覆工・坑門
C29: 部位 区分 | D29: 側壁（左側） | N29: 部位 区分 | O29: 側壁（右側）
B31: 変状区分 | D31: 漏水 | M31: 変状区分 | O31: 漏水
B32: 変状種類 | D32: 漏水 | M32: 変状種類 | O32: 漏水
B33: 対策 区分 | C33: 応急措置前 | M33: 対策 区分 | N33: 応急措置前
C34: 応急措置後 | E34: Ⅰ | N34: 応急措置後 | P34: Ⅰ
B35: 健全性 | D35: Ⅰ | M35: 健全性 | O35: Ⅰ
B36: 変状の発生範囲の規模 | E36: - | M36: 変状の発生範囲の規模 | P36: -
B37: 前回定期点検時の状態 | E37: 漏水、にじみ | M37: 前回定期点検時の状態 | P37: -
B38: 調査方針 | E38: なし | M38: 調査方針 | P38: なし
B39: 対策履歴 | E39: なし | H39: 実施状況（実施日） | M39: 対策履歴 | P39: なし | S39: 実施状況（実施日）
B40: メモ | D40: 漏水跡 | M40: メモ | O40: 漏水、にじみ
C41: ※ 健全性の判定区分Ⅱ～Ⅳについて添付すること。また、点検前に実施 された措置によりⅠと判定された箇所も添付すること。 | N41: ※ 変状の発生範囲の規模とは、対策を行う際に参考となる変状の長さや面積をいう。
N42: ※ 応急措置を実施しないで判定した変状の対策区分は、対策区分の応急措置後の欄に記入すること。
C43: ※ たたき落としを実施した場合は、実施後の写真を添付すること。 | N43: ※ 変状の発生範囲の規模は、面積・寸法を記載すること。
C44: ※ 画像データは100kb程度とする。 | N44: (ひび割れ幅のみmmとし、その他をm表記とする)
C45: ※ 変状数に準じてシートを追加すること。（１シートに１ページとすること。） | N45: ※ 構造用鋼材以外の異物に伴ううき・はく離については、メモ欄に異物の概要を記入すること。

Sheet 様式D-1-1 (13)
B2: ■定期点検記録様式 変状写真台帳（トンネル本体工） 【様式D-1-1】
B3: フリガナ | D3: オオガタオ | H3: 路 線 名 | J3: 一般国道316号 | M3: 定期点検業者 | P3: 株式会社オリエンタルコンサルタンツ | S3: 定期点検年月日 | U3: 45280
B4: 名 称 | D4: 大ヶ峠トンネル | H4: 管理者名 | J4: 長門土木建築事務所 | M4: 定期点検者名 | P4: 妹尾 優大
B5: 写真 番号 | C5: 覆工 スパン 番号 | D5: S011 | M5: 写真 番号 | N5: 覆工 スパン 番号 | O5: S011
C7: 変状 番号 | D7: 5 | N7: 変状 番号 | O7: 6
B9: 変状 部位 | C9: 対象 箇所 | D9: 路面 | M9: 変状 部位 | N9: 対象 箇所 | O9: 路面
C11: 部位 区分 | D11: 監査歩路 | N11: 部位 区分 | O11: 監査歩路
B13: 変状区分 | D13: 漏水 | M13: 変状区分 | O13: 漏水
B14: 変状種類 | D14: 滞水 | M14: 変状種類 | O14: 滞水
B15: 対策 区分 | C15: 応急措置前 | M15: 対策 区分 | N15: 応急措置前
C16: 応急措置後 | E16: － | N16: 応急措置後 | P16: －
B17: 健全性 | D17: － | M17: 健全性 | O17: －
B18: 変状の発生範囲の規模 | E18: - | M18: 変状の発生範囲の規模 | P18: -
B19: 前回定期点検時の状態 | E19: 滞水 | M19: 前回定期点検時の状態 | P19: 滞水
B20: 調査方針 | E20: なし | M20: 調査方針 | P20: なし
B21: 対策履歴 | E21: なし | H21: 実施状況（実施日） | M21: 対策履歴 | P21: なし | S21: 実施状況（実施日）
B22: メモ | D22: 滞水跡 | M22: メモ | O22: 滞水跡
B23: 写真 番号 | C23: 覆工 スパン 番号 | D23: S011 | M23: 写真 番号 | N23: 覆工 スパン 番号 | O23: S012
C25: 変状 番号 | D25: 7 | N25: 変状 番号 | O25: 1
B27: 変状 部位 | C27: 対象 箇所 | D27: 路面 | M27: 変状 部位 | N27: 対象 箇所 | O27: 覆工・坑門
C29: 部位 区分 | D29: 監査歩路 | N29: 部位 区分 | O29: 側壁（左側）
B31: 変状区分 | D31: 漏水 | M31: 変状区分 | O31: 漏水
B32: 変状種類 | D32: 滞水 | M32: 変状種類 | O32: 漏水
B33: 対策 区分 | C33: 応急措置前 | M33: 対策 区分 | N33: 応急措置前
C34: 応急措置後 | E34: － | N34: 応急措置後 | P34: Ⅰ
B35: 健全性 | D35: － | M35: 健全性 | O35: Ⅰ
B36: 変状の発生範囲の規模 | E36: 0.1m×5.0m | M36: 変状の発生範囲の規模 | P36: -
B37: 前回定期点検時の状態 | E37: - | M37: 前回定期点検時の状態 | P37: 漏水、にじみ
B38: 調査方針 | E38: なし | M38: 調査方針 | P38: なし
B39: 対策履歴 | E39: なし | H39: 実施状況（実施日） | M39: 対策履歴 | P39: なし | S39: 実施状況（実施日）
B40: メモ | D40: 滞水 | M40: メモ | O40: 漏水跡
C41: ※ 健全性の判定区分Ⅱ～Ⅳについて添付すること。また、点検前に実施 された措置によりⅠと判定された箇所も添付すること。 | N41: ※ 変状の発生範囲の規模とは、対策を行う際に参考となる変状の長さや面積をいう。
N42: ※ 応急措置を実施しないで判定した変状の対策区分は、対策区分の応急措置後の欄に記入すること。
C43: ※ たたき落としを実施した場合は、実施後の写真を添付すること。 | N43: ※ 変状の発生範囲の規模は、面積・寸法を記載すること。
C44: ※ 画像データは100kb程度とする。 | N44: (ひび割れ幅のみmmとし、その他をm表記とする)
C45: ※ 変状数に準じてシートを追加すること。（１シートに１ページとすること。） | N45: ※ 構造用鋼材以外の異物に伴ううき・はく離については、メモ欄に異物の概要を記入すること。

Sheet 様式D-1-1 (14)
B2: ■定期点検記録様式 変状写真台帳（トンネル本体工） 【様式D-1-1】
B3: フリガナ | D3: オオガタオ | H3: 路 線 名 | J3: 一般国道316号 | M3: 定期点検業者 | P3: 株式会社オリエンタルコンサルタンツ | S3: 定期点検年月日 | U3: 45280
B4: 名 称 | D4: 大ヶ峠トンネル | H4: 管理者名 | J4: 長門土木建築事務所 | M4: 定期点検者名 | P4: 妹尾 優大
B5: 写真 番号 | C5: 覆工 スパン 番号 | D5: S012 | M5: 写真 番号 | N5: 覆工 スパン 番号 | O5: S012
C7: 変状 番号 | D7: 2 | N7: 変状 番号 | O7: 3
B9: 変状 部位 | C9: 対象 箇所 | D9: 覆工・坑門 | M9: 変状 部位 | N9: 対象 箇所 | O9: 覆工・坑門
C11: 部位 区分 | D11: アーチ（右側） | N11: 部位 区分 | O11: 側壁（右側）
B13: 変状区分 | D13: 漏水 | M13: 変状区分 | O13: 漏水
B14: 変状種類 | D14: 漏水 | M14: 変状種類 | O14: 漏水
B15: 対策 区分 | C15: 応急措置前 | M15: 対策 区分 | N15: 応急措置前
C16: 応急措置後 | E16: Ⅰ | N16: 応急措置後 | P16: Ⅰ
B17: 健全性 | D17: Ⅰ | M17: 健全性 | O17: Ⅰ
B18: 変状の発生範囲の規模 | E18: - | M18: 変状の発生範囲の規模 | P18: -
B19: 前回定期点検時の状態 | E19: 漏水、にじみ | M19: 前回定期点検時の状態 | P19: 漏水、にじみ
B20: 調査方針 | E20: なし | M20: 調査方針 | P20: なし
B21: 対策履歴 | E21: 導水工の更新 | H21: 実施状況（実施日） | M21: 対策履歴 | P21: なし | S21: 実施状況（実施日）
B22: メモ | D22: 導水工の更新により対策済み | M22: メモ | O22: 漏水跡
B23: 写真 番号 | C23: 覆工 スパン 番号 | D23: S012 | M23: 写真 番号 | N23: 覆工 スパン 番号 | O23: S012
C25: 変状 番号 | D25: 4 | N25: 変状 番号 | O25: 5
B27: 変状 部位 | C27: 対象 箇所 | D27: 覆工・坑門 | M27: 変状 部位 | N27: 対象 箇所 | O27: 路面
C29: 部位 区分 | D29: 側壁（右側） | N29: 部位 区分 | O29: 監査歩路
B31: 変状区分 | D31: 漏水 | M31: 変状区分 | O31: 漏水
B32: 変状種類 | D32: 漏水 | M32: 変状種類 | O32: 滞水
B33: 対策 区分 | C33: 応急措置前 | M33: 対策 区分 | N33: 応急措置前
C34: 応急措置後 | E34: Ⅰ | N34: 応急措置後 | P34: －
B35: 健全性 | D35: Ⅰ | M35: 健全性 | O35: －
B36: 変状の発生範囲の規模 | E36: - | M36: 変状の発生範囲の規模 | P36: -
B37: 前回定期点検時の状態 | E37: 漏水、にじみ | M37: 前回定期点検時の状態 | P37: 滞水
B38: 調査方針 | E38: なし | M38: 調査方針 | P38: なし
B39: 対策履歴 | E39: なし | H39: 実施状況（実施日） | M39: 対策履歴 | P39: なし | S39: 実施状況（実施日）
B40: メモ | D40: 漏水跡 | M40: メモ | O40: 滞水跡
C41: ※ 健全性の判定区分Ⅱ～Ⅳについて添付すること。また、点検前に実施 された措置によりⅠと判定された箇所も添付すること。 | N41: ※ 変状の発生範囲の規模とは、対策を行う際に参考となる変状の長さや面積をいう。
N42: ※ 応急措置を実施しないで判定した変状の対策区分は、対策区分の応急措置後の欄に記入すること。
C43: ※ たたき落としを実施した場合は、実施後の写真を添付すること。 | N43: ※ 変状の発生範囲の規模は、面積・寸法を記載すること。
C44: ※ 画像データは100kb程度とする。 | N44: (ひび割れ幅のみmmとし、その他をm表記とする)
C45: ※ 変状数に準じてシートを追加すること。（１シートに１ページとすること。） | N45: ※ 構造用鋼材以外の異物に伴ううき・はく離については、メモ欄に異物の概要を記入すること。

Sheet 様式D-1-1 (15)
B2: ■定期点検記録様式 変状写真台帳（トンネル本体工） 【様式D-1-1】
B3: フリガナ | D3: オオガタオ | H3: 路 線 名 | J3: 一般国道316号 | M3: 定期点検業者 | P3: 株式会社オリエンタルコンサルタンツ | S3: 定期点検年月日 | U3: 45280
B4: 名 称 | D4: 大ヶ峠トンネル | H4: 管理者名 | J4: 長門土木建築事務所 | M4: 定期点検者名 | P4: 妹尾 優大
B5: 写真 番号 | C5: 覆工 スパン 番号 | D5: S013 | M5: 写真 番号 | N5: 覆工 スパン 番号 | O5: S013
C7: 変状 番号 | D7: 1 | N7: 変状 番号 | O7: 2
B9: 変状 部位 | C9: 対象 箇所 | D9: 覆工・坑門 | M9: 変状 部位 | N9: 対象 箇所 | O9: 覆工・坑門
C11: 部位 区分 | D11: 側壁（左側） | N11: 部位 区分 | O11: アーチ（右側）
B13: 変状区分 | D13: 漏水 | M13: 変状区分 | O13: 材質劣化
B14: 変状種類 | D14: 漏水 | M14: 変状種類 | O14: 鋼材腐食
B15: 対策 区分 | C15: 応急措置前 | M15: 対策 区分 | N15: 応急措置前
C16: 応急措置後 | E16: Ⅰ | N16: 応急措置後 | P16: Ⅱb
B17: 健全性 | D17: Ⅰ | M17: 健全性 | O17: Ⅱ
B18: 変状の発生範囲の規模 | E18: - | M18: 変状の発生範囲の規模 | P18: 0.1m×0.15m
B19: 前回定期点検時の状態 | E19: 漏水、にじみ | M19: 前回定期点検時の状態 | P19: 0.1m×0.15mの鉄筋露出
B20: 調査方針 | E20: なし | M20: 調査方針 | P20: なし
B21: 対策履歴 | E21: なし | H21: 実施状況（実施日） | M21: 対策履歴 | P21: なし | S21: 実施状況（実施日）
B22: メモ | D22: 漏水跡 | M22: メモ | O22: 鉄筋露出
B23: 写真 番号 | C23: 覆工 スパン 番号 | D23: S013 | M23: 写真 番号 | N23: 覆工 スパン 番号 | O23: S013
C25: 変状 番号 | D25: 3 | N25: 変状 番号 | O25: 4
B27: 変状 部位 | C27: 対象 箇所 | D27: 覆工・坑門 | M27: 変状 部位 | N27: 対象 箇所 | O27: 覆工・坑門
C29: 部位 区分 | D29: 横断目地（右側） | N29: 部位 区分 | O29: 側壁（右側）
B31: 変状区分 | D31: 材質劣化 | M31: 変状区分 | O31: 漏水
B32: 変状種類 | D32: うき・はく離 | M32: 変状種類 | O32: 漏水
B33: 対策 区分 | C33: 応急措置前 | M33: 対策 区分 | N33: 応急措置前
C34: 応急措置後 | E34: Ⅲ | N34: 応急措置後 | P34: Ⅰ
B35: 健全性 | D35: Ⅲ | M35: 健全性 | O35: Ⅰ
B36: 変状の発生範囲の規模 | E36: 0.2m×0.05m | M36: 変状の発生範囲の規模 | P36: -
B37: 前回定期点検時の状態 | E37: 0.2m×0.05mのうき | M37: 前回定期点検時の状態 | P37: 漏水、にじみ
B38: 調査方針 | E38: なし | M38: 調査方針 | P38: なし
B39: 対策履歴 | E39: なし | H39: 実施状況（実施日） | M39: 対策履歴 | P39: なし | S39: 実施状況（実施日）
B40: メモ | D40: 横断目地付近のうき | M40: メモ | O40: 漏水跡
C41: ※ 健全性の判定区分Ⅱ～Ⅳについて添付すること。また、点検前に実施 された措置によりⅠと判定された箇所も添付すること。 | N41: ※ 変状の発生範囲の規模とは、対策を行う際に参考となる変状の長さや面積をいう。
N42: ※ 応急措置を実施しないで判定した変状の対策区分は、対策区分の応急措置後の欄に記入すること。
C43: ※ たたき落としを実施した場合は、実施後の写真を添付すること。 | N43: ※ 変状の発生範囲の規模は、面積・寸法を記載すること。
C44: ※ 画像データは100kb程度とする。 | N44: (ひび割れ幅のみmmとし、その他をm表記とする)
C45: ※ 変状数に準じてシートを追加すること。（１シートに１ページとすること。） | N45: ※ 構造用鋼材以外の異物に伴ううき・はく離については、メモ欄に異物の概要を記入すること。

Sheet 様式D-1-1 (16)
B2: ■定期点検記録様式 変状写真台帳（トンネル本体工） 【様式D-1-1】
B3: フリガナ | D3: オオガタオ | H3: 路 線 名 | J3: 一般国道316号 | M3: 定期点検業者 | P3: 株式会社オリエンタルコンサルタンツ | S3: 定期点検年月日 | U3: 45280
B4: 名 称 | D4: 大ヶ峠トンネル | H4: 管理者名 | J4: 長門土木建築事務所 | M4: 定期点検者名 | P4: 妹尾 優大
B5: 写真 番号 | C5: 覆工 スパン 番号 | D5: S014 | M5: 写真 番号 | N5: 覆工 スパン 番号 | O5: S014
C7: 変状 番号 | D7: 1 | N7: 変状 番号 | O7: 2
B9: 変状 部位 | C9: 対象 箇所 | D9: 覆工・坑門 | M9: 変状 部位 | N9: 対象 箇所 | O9: 覆工・坑門
C11: 部位 区分 | D11: 側壁（左側） | N11: 部位 区分 | O11: 側壁（右側）
B13: 変状区分 | D13: 漏水 | M13: 変状区分 | O13: 漏水
B14: 変状種類 | D14: 漏水 | M14: 変状種類 | O14: 漏水
B15: 対策 区分 | C15: 応急措置前 | M15: 対策 区分 | N15: 応急措置前
C16: 応急措置後 | E16: Ⅰ | N16: 応急措置後 | P16: Ⅰ
B17: 健全性 | D17: Ⅰ | M17: 健全性 | O17: Ⅰ
B18: 変状の発生範囲の規模 | E18: - | M18: 変状の発生範囲の規模 | P18: -
B19: 前回定期点検時の状態 | E19: 漏水、にじみ | M19: 前回定期点検時の状態 | P19: 漏水、にじみ
B20: 調査方針 | E20: なし | M20: 調査方針 | P20: なし
B21: 対策履歴 | E21: なし | H21: 実施状況（実施日） | M21: 対策履歴 | P21: なし | S21: 実施状況（実施日）
B22: メモ | D22: 漏水、にじみ | M22: メモ | O22: 漏水跡
B23: 写真 番号 | C23: 覆工 スパン 番号 | D23: S015 | M23: 写真 番号 | N23: 覆工 スパン 番号 | O23: S015
C25: 変状 番号 | D25: 1 | N25: 変状 番号 | O25: 2
B27: 変状 部位 | C27: 対象 箇所 | D27: 覆工・坑門 | M27: 変状 部位 | N27: 対象 箇所 | O27: 覆工・坑門
C29: 部位 区分 | D29: 側壁（左側） | N29: 部位 区分 | O29: アーチ（左側）
B31: 変状区分 | D31: 漏水 | M31: 変状区分 | O31: 漏水
B32: 変状種類 | D32: 漏水 | M32: 変状種類 | O32: 漏水
B33: 対策 区分 | C33: 応急措置前 | M33: 対策 区分 | N33: 応急措置前
C34: 応急措置後 | E34: Ⅰ | N34: 応急措置後 | P34: Ⅰ
B35: 健全性 | D35: Ⅰ | M35: 健全性 | O35: Ⅰ
B36: 変状の発生範囲の規模 | E36: - | M36: 変状の発生範囲の規模 | P36: -
B37: 前回定期点検時の状態 | E37: 漏水、にじみ | M37: 前回定期点検時の状態 | P37: 漏水、にじみ
B38: 調査方針 | E38: なし | M38: 調査方針 | P38: なし
B39: 対策履歴 | E39: なし | H39: 実施状況（実施日） | M39: 対策履歴 | P39: 導水工の更新 | S39: 実施状況（実施日）
B40: メモ | D40: 漏水跡 | M40: メモ | O40: 導水工の更新により対策済み
C41: ※ 健全性の判定区分Ⅱ～Ⅳについて添付すること。また、点検前に実施 された措置によりⅠと判定された箇所も添付すること。 | N41: ※ 変状の発生範囲の規模とは、対策を行う際に参考となる変状の長さや面積をいう。
N42: ※ 応急措置を実施しないで判定した変状の対策区分は、対策区分の応急措置後の欄に記入すること。
C43: ※ たたき落としを実施した場合は、実施後の写真を添付すること。 | N43: ※ 変状の発生範囲の規模は、面積・寸法を記載すること。
C44: ※ 画像データは100kb程度とする。 | N44: (ひび割れ幅のみmmとし、その他をm表記とする)
C45: ※ 変状数に準じてシートを追加すること。（１シートに１ページとすること。） | N45: ※ 構造用鋼材以外の異物に伴ううき・はく離については、メモ欄に異物の概要を記入すること。

Sheet 様式D-1-1 (17)
B2: ■定期点検記録様式 変状写真台帳（トンネル本体工） 【様式D-1-1】
B3: フリガナ | D3: オオガタオ | H3: 路 線 名 | J3: 一般国道316号 | M3: 定期点検業者 | P3: 株式会社オリエンタルコンサルタンツ | S3: 定期点検年月日 | U3: 45280
B4: 名 称 | D4: 大ヶ峠トンネル | H4: 管理者名 | J4: 長門土木建築事務所 | M4: 定期点検者名 | P4: 妹尾 優大
B5: 写真 番号 | C5: 覆工 スパン 番号 | D5: S015 | M5: 写真 番号 | N5: 覆工 スパン 番号 | O5: S015
C7: 変状 番号 | D7: 3 | N7: 変状 番号 | O7: 4
B9: 変状 部位 | C9: 対象 箇所 | D9: 覆工・坑門 | M9: 変状 部位 | N9: 対象 箇所 | O9: 路面
C11: 部位 区分 | D11: アーチ（天端） | N11: 部位 区分 | O11: 側溝
B13: 変状区分 | D13: 漏水 | M13: 変状区分 | O13: 材質劣化
B14: 変状種類 | D14: 漏水 | M14: 変状種類 | O14: うき・はく離
B15: 対策 区分 | C15: 応急措置前 | M15: 対策 区分 | N15: 応急措置前
C16: 応急措置後 | E16: Ⅰ | N16: 応急措置後 | P16: －
B17: 健全性 | D17: Ⅰ | M17: 健全性 | O17: －
B18: 変状の発生範囲の規模 | E18: - | M18: 変状の発生範囲の規模 | P18: 0.2m×0.5m
B19: 前回定期点検時の状態 | E19: 漏水、にじみ | M19: 前回定期点検時の状態 | P19: 0.2m×0.5mのはく離
B20: 調査方針 | E20: なし | M20: 調査方針 | P20: なし
B21: 対策履歴 | E21: 導水工の更新 | H21: 実施状況（実施日） | M21: 対策履歴 | P21: なし | S21: 実施状況（実施日）
B22: メモ | D22: 導水工の更新により対策済み | M22: メモ | O22: 側溝蓋のはく離
B23: 写真 番号 | C23: 覆工 スパン 番号 | D23: S015 | M23: 写真 番号 | N23: 覆工 スパン 番号 | O23: S015
C25: 変状 番号 | D25: 5 | N25: 変状 番号 | O25: 6
B27: 変状 部位 | C27: 対象 箇所 | D27: 路面 | M27: 変状 部位 | N27: 対象 箇所 | O27: 路面
C29: 部位 区分 | D29: 側溝 | N29: 部位 区分 | O29: 車道
B31: 変状区分 | D31: 材質劣化 | M31: 変状区分 | O31: 材質劣化
B32: 変状種類 | D32: うき・はく離 | M32: 変状種類 | O32: うき・はく離
B33: 対策 区分 | C33: 応急措置前 | M33: 対策 区分 | N33: 応急措置前
C34: 応急措置後 | E34: － | N34: 応急措置後 | P34: －
B35: 健全性 | D35: － | M35: 健全性 | O35: －
B36: 変状の発生範囲の規模 | E36: 0.2m×0.5m | M36: 変状の発生範囲の規模 | P36: 1.0m×0.3m
B37: 前回定期点検時の状態 | E37: 0.2m×0.5mのはく離 | M37: 前回定期点検時の状態 | P37: 0.9m×0.35mのうき
B38: 調査方針 | E38: なし | M38: 調査方針 | P38: なし
B39: 対策履歴 | E39: なし | H39: 実施状況（実施日） | M39: 対策履歴 | P39: なし | S39: 実施状況（実施日）
B40: メモ | D40: 側溝蓋のはく離 | M40: メモ | O40: 舗装のうき
C41: ※ 健全性の判定区分Ⅱ～Ⅳについて添付すること。また、点検前に実施 された措置によりⅠと判定された箇所も添付すること。 | N41: ※ 変状の発生範囲の規模とは、対策を行う際に参考となる変状の長さや面積をいう。
N42: ※ 応急措置を実施しないで判定した変状の対策区分は、対策区分の応急措置後の欄に記入すること。
C43: ※ たたき落としを実施した場合は、実施後の写真を添付すること。 | N43: ※ 変状の発生範囲の規模は、面積・寸法を記載すること。
C44: ※ 画像データは100kb程度とする。 | N44: (ひび割れ幅のみmmとし、その他をm表記とする)
C45: ※ 変状数に準じてシートを追加すること。（１シートに１ページとすること。） | N45: ※ 構造用鋼材以外の異物に伴ううき・はく離については、メモ欄に異物の概要を記入すること。

Sheet 様式D-1-1 (18)
B2: ■定期点検記録様式 変状写真台帳（トンネル本体工） 【様式D-1-1】
B3: フリガナ | D3: オオガタオ | H3: 路 線 名 | J3: 一般国道316号 | M3: 定期点検業者 | P3: 株式会社オリエンタルコンサルタンツ | S3: 定期点検年月日 | U3: 45280
B4: 名 称 | D4: 大ヶ峠トンネル | H4: 管理者名 | J4: 長門土木建築事務所 | M4: 定期点検者名 | P4: 妹尾 優大
B5: 写真 番号 | C5: 覆工 スパン 番号 | D5: S015 | M5: 写真 番号 | N5: 覆工 スパン 番号 | O5: S018
C7: 変状 番号 | D7: 7 | N7: 変状 番号 | O7: 1
B9: 変状 部位 | C9: 対象 箇所 | D9: 路面 | M9: 変状 部位 | N9: 対象 箇所 | O9: 覆工・坑門
C11: 部位 区分 | D11: 車道 | N11: 部位 区分 | O11: 側壁（左側）
B13: 変状区分 | D13: 材質劣化 | M13: 変状区分 | O13: 漏水
B14: 変状種類 | D14: うき・はく離 | M14: 変状種類 | O14: 漏水
B15: 対策 区分 | C15: 応急措置前 | M15: 対策 区分 | N15: 応急措置前
C16: 応急措置後 | E16: － | N16: 応急措置後 | P16: Ⅰ
B17: 健全性 | D17: － | M17: 健全性 | O17: Ⅰ
B18: 変状の発生範囲の規模 | E18: 1.0m×0.1m | M18: 変状の発生範囲の規模 | P18: -
B19: 前回定期点検時の状態 | E19: 0.4m×0.05m、0.45m×0.05mのうき | M19: 前回定期点検時の状態 | P19: 漏水、にじみ
B20: 調査方針 | E20: なし | M20: 調査方針 | P20: なし
B21: 対策履歴 | E21: なし | H21: 実施状況（実施日） | M21: 対策履歴 | P21: なし | S21: 実施状況（実施日）
B22: メモ | D22: 舗装のうき | M22: メモ | O22: 漏水、にじみ
B23: 写真 番号 | C23: 覆工 スパン 番号 | D23: S018 | M23: 写真 番号 | N23: 覆工 スパン 番号 | O23: S019
C25: 変状 番号 | D25: 2 | N25: 変状 番号 | O25: 1
B27: 変状 部位 | C27: 対象 箇所 | D27: 路面 | M27: 変状 部位 | N27: 対象 箇所 | O27: 覆工・坑門
C29: 部位 区分 | D29: 監査歩路 | N29: 部位 区分 | O29: 側壁（左側）
B31: 変状区分 | D31: 漏水 | M31: 変状区分 | O31: 漏水
B32: 変状種類 | D32: 滞水 | M32: 変状種類 | O32: 漏水
B33: 対策 区分 | C33: 応急措置前 | M33: 対策 区分 | N33: 応急措置前
C34: 応急措置後 | E34: Ⅱb | N34: 応急措置後 | P34: Ⅰ
B35: 健全性 | D35: Ⅱ | M35: 健全性 | O35: Ⅰ
B36: 変状の発生範囲の規模 | E36: 0.3m×3.3m | M36: 変状の発生範囲の規模 | P36: -
B37: 前回定期点検時の状態 | E37: - | M37: 前回定期点検時の状態 | P37: 漏水、にじみ
B38: 調査方針 | E38: なし | M38: 調査方針 | P38: なし
B39: 対策履歴 | E39: なし | H39: 実施状況（実施日） | M39: 対策履歴 | P39: なし | S39: 実施状況（実施日）
B40: メモ | D40: 滞水 | M40: メモ | O40: 漏水、にじみ
C41: ※ 健全性の判定区分Ⅱ～Ⅳについて添付すること。また、点検前に実施 された措置によりⅠと判定された箇所も添付すること。 | N41: ※ 変状の発生範囲の規模とは、対策を行う際に参考となる変状の長さや面積をいう。
N42: ※ 応急措置を実施しないで判定した変状の対策区分は、対策区分の応急措置後の欄に記入すること。
C43: ※ たたき落としを実施した場合は、実施後の写真を添付すること。 | N43: ※ 変状の発生範囲の規模は、面積・寸法を記載すること。
C44: ※ 画像データは100kb程度とする。 | N44: (ひび割れ幅のみmmとし、その他をm表記とする)
C45: ※ 変状数に準じてシートを追加すること。（１シートに１ページとすること。） | N45: ※ 構造用鋼材以外の異物に伴ううき・はく離については、メモ欄に異物の概要を記入すること。

Sheet 様式D-1-1 (19)
B2: ■定期点検記録様式 変状写真台帳（トンネル本体工） 【様式D-1-1】
B3: フリガナ | D3: オオガタオ | H3: 路 線 名 | J3: 一般国道316号 | M3: 定期点検業者 | P3: 株式会社オリエンタルコンサルタンツ | S3: 定期点検年月日 | U3: 45280
B4: 名 称 | D4: 大ヶ峠トンネル | H4: 管理者名 | J4: 長門土木建築事務所 | M4: 定期点検者名 | P4: 妹尾 優大
B5: 写真 番号 | C5: 覆工 スパン 番号 | D5: S019 | M5: 写真 番号 | N5: 覆工 スパン 番号 | O5: S019
C7: 変状 番号 | D7: 2 | N7: 変状 番号 | O7: 3
B9: 変状 部位 | C9: 対象 箇所 | D9: 覆工・坑門 | M9: 変状 部位 | N9: 対象 箇所 | O9: 覆工・坑門
C11: 部位 区分 | D11: アーチ（右側） | N11: 部位 区分 | O11: 側壁（右側）
B13: 変状区分 | D13: 漏水 | M13: 変状区分 | O13: 漏水
B14: 変状種類 | D14: 漏水 | M14: 変状種類 | O14: 漏水
B15: 対策 区分 | C15: 応急措置前 | M15: 対策 区分 | N15: 応急措置前
C16: 応急措置後 | E16: Ⅰ | N16: 応急措置後 | P16: Ⅰ
B17: 健全性 | D17: Ⅰ | M17: 健全性 | O17: Ⅰ
B18: 変状の発生範囲の規模 | E18: - | M18: 変状の発生範囲の規模 | P18: -
B19: 前回定期点検時の状態 | E19: 漏水、にじみ | M19: 前回定期点検時の状態 | P19: 漏水、にじみ
B20: 調査方針 | E20: なし | M20: 調査方針 | P20: なし
B21: 対策履歴 | E21: なし | H21: 実施状況（実施日） | M21: 対策履歴 | P21: なし | S21: 実施状況（実施日）
B22: メモ | D22: 漏水跡 | M22: メモ | O22: 漏水跡
B23: 写真 番号 | C23: 覆工 スパン 番号 | D23: S019 | M23: 写真 番号 | N23: 覆工 スパン 番号 | O23: S019
C25: 変状 番号 | D25: 4 | N25: 変状 番号 | O25: 5
B27: 変状 部位 | C27: 対象 箇所 | D27: 路面 | M27: 変状 部位 | N27: 対象 箇所 | O27: 路面
C29: 部位 区分 | D29: 監査歩路 | N29: 部位 区分 | O29: 車道
B31: 変状区分 | D31: 漏水 | M31: 変状区分 | O31: 材質劣化
B32: 変状種類 | D32: 滞水 | M32: 変状種類 | O32: うき・はく離
B33: 対策 区分 | C33: 応急措置前 | M33: 対策 区分 | N33: 応急措置前
C34: 応急措置後 | E34: － | N34: 応急措置後 | P34: －
B35: 健全性 | D35: － | M35: 健全性 | O35: －
B36: 変状の発生範囲の規模 | E36: 0.4m×6.5m | M36: 変状の発生範囲の規模 | P36: 0.6m×0.1m
B37: 前回定期点検時の状態 | E37: 0.5m×6.5mの滞水 | M37: 前回定期点検時の状態 | P37: 0.7m×0.1mのうき
B38: 調査方針 | E38: なし | M38: 調査方針 | P38: なし
B39: 対策履歴 | E39: なし | H39: 実施状況（実施日） | M39: 対策履歴 | P39: なし | S39: 実施状況（実施日）
B40: メモ | D40: 滞水 | M40: メモ | O40: 舗装のうき
C41: ※ 健全性の判定区分Ⅱ～Ⅳについて添付すること。また、点検前に実施 された措置によりⅠと判定された箇所も添付すること。 | N41: ※ 変状の発生範囲の規模とは、対策を行う際に参考となる変状の長さや面積をいう。
N42: ※ 応急措置を実施しないで判定した変状の対策区分は、対策区分の応急措置後の欄に記入すること。
C43: ※ たたき落としを実施した場合は、実施後の写真を添付すること。 | N43: ※ 変状の発生範囲の規模は、面積・寸法を記載すること。
C44: ※ 画像データは100kb程度とする。 | N44: (ひび割れ幅のみmmとし、その他をm表記とする)
C45: ※ 変状数に準じてシートを追加すること。（１シートに１ページとすること。） | N45: ※ 構造用鋼材以外の異物に伴ううき・はく離については、メモ欄に異物の概要を記入すること。

Sheet 様式D-1-1 (20)
B2: ■定期点検記録様式 変状写真台帳（トンネル本体工） 【様式D-1-1】
B3: フリガナ | D3: オオガタオ | H3: 路 線 名 | J3: 一般国道316号 | M3: 定期点検業者 | P3: 株式会社オリエンタルコンサルタンツ | S3: 定期点検年月日 | U3: 45280
B4: 名 称 | D4: 大ヶ峠トンネル | H4: 管理者名 | J4: 長門土木建築事務所 | M4: 定期点検者名 | P4: 妹尾 優大
B5: 写真 番号 | C5: 覆工 スパン 番号 | D5: S020 | M5: 写真 番号 | N5: 覆工 スパン 番号 | O5: S020
C7: 変状 番号 | D7: 1 | N7: 変状 番号 | O7: 2
B9: 変状 部位 | C9: 対象 箇所 | D9: 覆工・坑門 | M9: 変状 部位 | N9: 対象 箇所 | O9: 覆工・坑門
C11: 部位 区分 | D11: アーチ（左側） | N11: 部位 区分 | O11: アーチ（左側）
B13: 変状区分 | D13: 材質劣化 | M13: 変状区分 | O13: 材質劣化
B14: 変状種類 | D14: うき・はく離 | M14: 変状種類 | O14: うき・はく離
B15: 対策 区分 | C15: 応急措置前 | M15: 対策 区分 | N15: 応急措置前
C16: 応急措置後 | E16: Ⅲ | N16: 応急措置後 | P16: Ⅰ
B17: 健全性 | D17: Ⅲ | M17: 健全性 | O17: Ⅰ
B18: 変状の発生範囲の規模 | E18: 0.4m×0.1m | M18: 変状の発生範囲の規模 | P18: -
B19: 前回定期点検時の状態 | E19: 0.4m×0.1mのうき | M19: 前回定期点検時の状態 | P19: 0.7m×0.7mの閉合ひび割れ(打音異常なし)
B20: 調査方針 | E20: なし | M20: 調査方針 | P20: なし
B21: 対策履歴 | E21: なし | H21: 実施状況（実施日） | M21: 対策履歴 | P21: ひび割れ注入工 | S21: 実施状況（実施日）
B22: メモ | D22: 補修跡のうき | M22: メモ | O22: ひび割れ注入工により対策済み
B23: 写真 番号 | C23: 覆工 スパン 番号 | D23: S020 | M23: 写真 番号 | N23: 覆工 スパン 番号 | O23: S020
C25: 変状 番号 | D25: 3 | N25: 変状 番号 | O25: 4
B27: 変状 部位 | C27: 対象 箇所 | D27: 覆工・坑門 | M27: 変状 部位 | N27: 対象 箇所 | O27: 覆工・坑門
C29: 部位 区分 | D29: アーチ（左側） | N29: 部位 区分 | O29: 横断目地（左側）
B31: 変状区分 | D31: 材質劣化 | M31: 変状区分 | O31: 漏水
B32: 変状種類 | D32: うき・はく離 | M32: 変状種類 | O32: 漏水
B33: 対策 区分 | C33: 応急措置前 | M33: 対策 区分 | N33: 応急措置前
C34: 応急措置後 | E34: Ⅲ | N34: 応急措置後 | P34: Ⅱb
B35: 健全性 | D35: Ⅲ | M35: 健全性 | O35: Ⅱ
B36: 変状の発生範囲の規模 | E36: 0.1m×1.1m | M36: 変状の発生範囲の規模 | P36: 5.2m×0.5m
B37: 前回定期点検時の状態 | E37: 0.1m×1.1mのうき | M37: 前回定期点検時の状態 | P37: 漏水、にじみ
B38: 調査方針 | E38: なし | M38: 調査方針 | P38: なし
B39: 対策履歴 | E39: なし | H39: 実施状況（実施日） | M39: 対策履歴 | P39: なし | S39: 実施状況（実施日）
B40: メモ | D40: 補修跡のうき | M40: メモ | O40: 導水工からの漏水、にじみ
C41: ※ 健全性の判定区分Ⅱ～Ⅳについて添付すること。また、点検前に実施 された措置によりⅠと判定された箇所も添付すること。 | N41: ※ 変状の発生範囲の規模とは、対策を行う際に参考となる変状の長さや面積をいう。
N42: ※ 応急措置を実施しないで判定した変状の対策区分は、対策区分の応急措置後の欄に記入すること。
C43: ※ たたき落としを実施した場合は、実施後の写真を添付すること。 | N43: ※ 変状の発生範囲の規模は、面積・寸法を記載すること。
C44: ※ 画像データは100kb程度とする。 | N44: (ひび割れ幅のみmmとし、その他をm表記とする)
C45: ※ 変状数に準じてシートを追加すること。（１シートに１ページとすること。） | N45: ※ 構造用鋼材以外の異物に伴ううき・はく離については、メモ欄に異物の概要を記入すること。

Sheet 様式D-1-1 (21)
B2: ■定期点検記録様式 変状写真台帳（トンネル本体工） 【様式D-1-1】
B3: フリガナ | D3: オオガタオ | H3: 路 線 名 | J3: 一般国道316号 | M3: 定期点検業者 | P3: 株式会社オリエンタルコンサルタンツ | S3: 定期点検年月日 | U3: 45280
B4: 名 称 | D4: 大ヶ峠トンネル | H4: 管理者名 | J4: 長門土木建築事務所 | M4: 定期点検者名 | P4: 妹尾 優大
B5: 写真 番号 | C5: 覆工 スパン 番号 | D5: S020 | M5: 写真 番号 | N5: 覆工 スパン 番号 | O5: S020
C7: 変状 番号 | D7: 5 | N7: 変状 番号 | O7: 6
B9: 変状 部位 | C9: 対象 箇所 | D9: 覆工・坑門 | M9: 変状 部位 | N9: 対象 箇所 | O9: 覆工・坑門
C11: 部位 区分 | D11: アーチ（左側） | N11: 部位 区分 | O11: アーチ（右側）
B13: 変状区分 | D13: 材質劣化 | M13: 変状区分 | O13: 漏水
B14: 変状種類 | D14: うき・はく離 | M14: 変状種類 | O14: 漏水
B15: 対策 区分 | C15: 応急措置前 | M15: 対策 区分 | N15: 応急措置前
C16: 応急措置後 | E16: Ⅲ | N16: 応急措置後 | P16: Ⅰ
B17: 健全性 | D17: Ⅲ | M17: 健全性 | O17: Ⅰ
B18: 変状の発生範囲の規模 | E18: 1.4m×0.1m | M18: 変状の発生範囲の規模 | P18: -
B19: 前回定期点検時の状態 | E19: 1.4m×0.1mのうき | M19: 前回定期点検時の状態 | P19: 漏水、にじみ
B20: 調査方針 | E20: なし | M20: 調査方針 | P20: なし
B21: 対策履歴 | E21: なし | H21: 実施状況（実施日） | M21: 対策履歴 | P21: なし | S21: 実施状況（実施日）
B22: メモ | D22: 補修跡のうき | M22: メモ | O22: 漏水跡
B23: 写真 番号 | C23: 覆工 スパン 番号 | D23: S020 | M23: 写真 番号 | N23: 覆工 スパン 番号 | O23: S020
C25: 変状 番号 | D25: 7 | N25: 変状 番号 | O25: 8
B27: 変状 部位 | C27: 対象 箇所 | D27: 覆工・坑門 | M27: 変状 部位 | N27: 対象 箇所 | O27: 覆工・坑門
C29: 部位 区分 | D29: アーチ（右側） | N29: 部位 区分 | O29: アーチ（右側）
B31: 変状区分 | D31: 材質劣化 | M31: 変状区分 | O31: 外力
B32: 変状種類 | D32: うき・はく離 | M32: 変状種類 | O32: 変形、移動
B33: 対策 区分 | C33: 応急措置前 | M33: 対策 区分 | N33: 応急措置前
C34: 応急措置後 | E34: Ⅰ | N34: 応急措置後 | P34: Ⅰ
B35: 健全性 | D35: Ⅰ | M35: 健全性 | O35: Ⅰ
B36: 変状の発生範囲の規模 | E36: - | M36: 変状の発生範囲の規模 | P36: -
B37: 前回定期点検時の状態 | E37: 0.4m×0.5mの閉合ひびわれ(打音異常なし) | M37: 前回定期点検時の状態 | P37: 1mmの段差
B38: 調査方針 | E38: なし | M38: 調査方針 | P38: なし
B39: 対策履歴 | E39: ひび割れ注入工 | H39: 実施状況（実施日） | M39: 対策履歴 | P39: ひび割れ注入工 | S39: 実施状況（実施日）
B40: メモ | D40: ひび割れ注入工により対策済み | M40: メモ | O40: ひび割れ注入工により対策済み
C41: ※ 健全性の判定区分Ⅱ～Ⅳについて添付すること。また、点検前に実施 された措置によりⅠと判定された箇所も添付すること。 | N41: ※ 変状の発生範囲の規模とは、対策を行う際に参考となる変状の長さや面積をいう。
N42: ※ 応急措置を実施しないで判定した変状の対策区分は、対策区分の応急措置後の欄に記入すること。
C43: ※ たたき落としを実施した場合は、実施後の写真を添付すること。 | N43: ※ 変状の発生範囲の規模は、面積・寸法を記載すること。
C44: ※ 画像データは100kb程度とする。 | N44: (ひび割れ幅のみmmとし、その他をm表記とする)
C45: ※ 変状数に準じてシートを追加すること。（１シートに１ページとすること。） | N45: ※ 構造用鋼材以外の異物に伴ううき・はく離については、メモ欄に異物の概要を記入すること。

Sheet 様式D-1-1 (22)
B2: ■定期点検記録様式 変状写真台帳（トンネル本体工） 【様式D-1-1】
B3: フリガナ | D3: オオガタオ | H3: 路 線 名 | J3: 一般国道316号 | M3: 定期点検業者 | P3: 株式会社オリエンタルコンサルタンツ | S3: 定期点検年月日 | U3: 45280
B4: 名 称 | D4: 大ヶ峠トンネル | H4: 管理者名 | J4: 長門土木建築事務所 | M4: 定期点検者名 | P4: 妹尾 優大
B5: 写真 番号 | C5: 覆工 スパン 番号 | D5: S020 | M5: 写真 番号 | N5: 覆工 スパン 番号 | O5: S023
C7: 変状 番号 | D7: 9 | N7: 変状 番号 | O7: 1
B9: 変状 部位 | C9: 対象 箇所 | D9: 覆工・坑門 | M9: 変状 部位 | N9: 対象 箇所 | O9: 覆工・坑門
C11: 部位 区分 | D11: アーチ（天端） | N11: 部位 区分 | O11: アーチ（右側）
B13: 変状区分 | D13: 材質劣化 | M13: 変状区分 | O13: 漏水
B14: 変状種類 | D14: うき・はく離 | M14: 変状種類 | O14: 漏水
B15: 対策 区分 | C15: 応急措置前 | M15: 対策 区分 | N15: 応急措置前
C16: 応急措置後 | E16: Ⅲ | N16: 応急措置後 | P16: Ⅱb
B17: 健全性 | D17: Ⅲ | M17: 健全性 | O17: Ⅱ
B18: 変状の発生範囲の規模 | E18: 0.35m×0.1m | M18: 変状の発生範囲の規模 | P18: 8.1m×0.9m
B19: 前回定期点検時の状態 | E19: 0.35m×0.1mのうき | M19: 前回定期点検時の状態 | P19: 漏水、にじみ
B20: 調査方針 | E20: なし | M20: 調査方針 | P20: なし
B21: 対策履歴 | E21: なし | H21: 実施状況（実施日） | M21: 対策履歴 | P21: なし | S21: 実施状況（実施日）
B22: メモ | D22: 補修跡のうき | M22: メモ | O22: ひび割れからの漏水、にじみ
B23: 写真 番号 | C23: 覆工 スパン 番号 | D23: S023 | M23: 写真 番号 | N23: 覆工 スパン 番号 | O23: S024
C25: 変状 番号 | D25: 2 | N25: 変状 番号 | O25: 1
B27: 変状 部位 | C27: 対象 箇所 | D27: 覆工・坑門 | M27: 変状 部位 | N27: 対象 箇所 | O27: 覆工・坑門
C29: 部位 区分 | D29: 横断目地（天端） | N29: 部位 区分 | O29: アーチ（天端）
B31: 変状区分 | D31: 漏水 | M31: 変状区分 | O31: 漏水
B32: 変状種類 | D32: 漏水 | M32: 変状種類 | O32: 漏水
B33: 対策 区分 | C33: 応急措置前 | M33: 対策 区分 | N33: 応急措置前
C34: 応急措置後 | E34: Ⅱb | N34: 応急措置後 | P34: Ⅰ
B35: 健全性 | D35: Ⅱ | M35: 健全性 | O35: Ⅰ
B36: 変状の発生範囲の規模 | E36: 8.5m×0.5m | M36: 変状の発生範囲の規模 | P36: -
B37: 前回定期点検時の状態 | E37: 漏水、にじみ | M37: 前回定期点検時の状態 | P37: 漏水、にじみ
B38: 調査方針 | E38: なし | M38: 調査方針 | P38: なし
B39: 対策履歴 | E39: なし | H39: 実施状況（実施日） | M39: 対策履歴 | P39: なし | S39: 実施状況（実施日）
B40: メモ | D40: 横断目地からの漏水、にじみ | M40: メモ | O40: 漏水跡
C41: ※ 健全性の判定区分Ⅱ～Ⅳについて添付すること。また、点検前に実施 された措置によりⅠと判定された箇所も添付すること。 | N41: ※ 変状の発生範囲の規模とは、対策を行う際に参考となる変状の長さや面積をいう。
N42: ※ 応急措置を実施しないで判定した変状の対策区分は、対策区分の応急措置後の欄に記入すること。
C43: ※ たたき落としを実施した場合は、実施後の写真を添付すること。 | N43: ※ 変状の発生範囲の規模は、面積・寸法を記載すること。
C44: ※ 画像データは100kb程度とする。 | N44: (ひび割れ幅のみmmとし、その他をm表記とする)
C45: ※ 変状数に準じてシートを追加すること。（１シートに１ページとすること。） | N45: ※ 構造用鋼材以外の異物に伴ううき・はく離については、メモ欄に異物の概要を記入すること。

Sheet 様式D-1-1 (23)
B2: ■定期点検記録様式 変状写真台帳（トンネル本体工） 【様式D-1-1】
B3: フリガナ | D3: オオガタオ | H3: 路 線 名 | J3: 一般国道316号 | M3: 定期点検業者 | P3: 株式会社オリエンタルコンサルタンツ | S3: 定期点検年月日 | U3: 45280
B4: 名 称 | D4: 大ヶ峠トンネル | H4: 管理者名 | J4: 長門土木建築事務所 | M4: 定期点検者名 | P4: 妹尾 優大
B5: 写真 番号 | C5: 覆工 スパン 番号 | D5: S024 | M5: 写真 番号 | N5: 覆工 スパン 番号 | O5: S024
C7: 変状 番号 | D7: 2 | N7: 変状 番号 | O7: 3
B9: 変状 部位 | C9: 対象 箇所 | D9: 覆工・坑門 | M9: 変状 部位 | N9: 対象 箇所 | O9: 覆工・坑門
C11: 部位 区分 | D11: 横断目地（左側） | N11: 部位 区分 | O11: 横断目地（天端）
B13: 変状区分 | D13: 外力 | M13: 変状区分 | O13: 材質劣化
B14: 変状種類 | D14: 変形、移動 | M14: 変状種類 | O14: 鋼材腐食
B15: 対策 区分 | C15: 応急措置前 | M15: 対策 区分 | N15: 応急措置前
C16: 応急措置後 | E16: Ⅰ | N16: 応急措置後 | P16: Ⅱb
B17: 健全性 | D17: Ⅰ | M17: 健全性 | O17: Ⅱ
B18: 変状の発生範囲の規模 | E18: - | M18: 変状の発生範囲の規模 | P18: 0.2m×0.05m
B19: 前回定期点検時の状態 | E19: 20mmの段差 | M19: 前回定期点検時の状態 | P19: 0.2m×0.05mの鉄筋露出
B20: 調査方針 | E20: なし | M20: 調査方針 | P20: なし
B21: 対策履歴 | E21: 導水工 | H21: 実施状況（実施日） | M21: 対策履歴 | P21: なし | S21: 実施状況（実施日）
B22: メモ | D22: 導水工新設により対策済み | M22: メモ | O22: 目地付近の鉄筋露出
B23: 写真 番号 | C23: 覆工 スパン 番号 | D23: S024 | M23: 写真 番号 | N23: 覆工 スパン 番号 | O23: S025
C25: 変状 番号 | D25: 4 | N25: 変状 番号 | O25: 1
B27: 変状 部位 | C27: 対象 箇所 | D27: 路面 | M27: 変状 部位 | N27: 対象 箇所 | O27: 覆工・坑門
C29: 部位 区分 | D29: 側溝 | N29: 部位 区分 | O29: 側壁（左側）
B31: 変状区分 | D31: 材質劣化 | M31: 変状区分 | O31: 漏水
B32: 変状種類 | D32: うき・はく離 | M32: 変状種類 | O32: 漏水
B33: 対策 区分 | C33: 応急措置前 | M33: 対策 区分 | N33: 応急措置前
C34: 応急措置後 | E34: － | N34: 応急措置後 | P34: Ⅰ
B35: 健全性 | D35: － | M35: 健全性 | O35: Ⅰ
B36: 変状の発生範囲の規模 | E36: 0.1m×0.2m | M36: 変状の発生範囲の規模 | P36: -
B37: 前回定期点検時の状態 | E37: 0.1m×0.15mのうき | M37: 前回定期点検時の状態 | P37: 漏水、にじみ
B38: 調査方針 | E38: なし | M38: 調査方針 | P38: なし
B39: 対策履歴 | E39: なし | H39: 実施状況（実施日） | M39: 対策履歴 | P39: なし | S39: 実施状況（実施日）
B40: メモ | D40: 側溝蓋のうき | M40: メモ | O40: 漏水跡
C41: ※ 健全性の判定区分Ⅱ～Ⅳについて添付すること。また、点検前に実施 された措置によりⅠと判定された箇所も添付すること。 | N41: ※ 変状の発生範囲の規模とは、対策を行う際に参考となる変状の長さや面積をいう。
N42: ※ 応急措置を実施しないで判定した変状の対策区分は、対策区分の応急措置後の欄に記入すること。
C43: ※ たたき落としを実施した場合は、実施後の写真を添付すること。 | N43: ※ 変状の発生範囲の規模は、面積・寸法を記載すること。
C44: ※ 画像データは100kb程度とする。 | N44: (ひび割れ幅のみmmとし、その他をm表記とする)
C45: ※ 変状数に準じてシートを追加すること。（１シートに１ページとすること。） | N45: ※ 構造用鋼材以外の異物に伴ううき・はく離については、メモ欄に異物の概要を記入すること。

Sheet 様式D-1-1 (24)
B2: ■定期点検記録様式 変状写真台帳（トンネル本体工） 【様式D-1-1】
B3: フリガナ | D3: オオガタオ | H3: 路 線 名 | J3: 一般国道316号 | M3: 定期点検業者 | P3: 株式会社オリエンタルコンサルタンツ | S3: 定期点検年月日 | U3: 45280
B4: 名 称 | D4: 大ヶ峠トンネル | H4: 管理者名 | J4: 長門土木建築事務所 | M4: 定期点検者名 | P4: 妹尾 優大
B5: 写真 番号 | C5: 覆工 スパン 番号 | D5: S025 | M5: 写真 番号 | N5: 覆工 スパン 番号 | O5: S025
C7: 変状 番号 | D7: 2 | N7: 変状 番号 | O7: 3
B9: 変状 部位 | C9: 対象 箇所 | D9: 覆工・坑門 | M9: 変状 部位 | N9: 対象 箇所 | O9: 覆工・坑門
C11: 部位 区分 | D11: アーチ（左側） | N11: 部位 区分 | O11: アーチ（左側）
B13: 変状区分 | D13: 材質劣化 | M13: 変状区分 | O13: 材質劣化
B14: 変状種類 | D14: その他 | M14: 変状種類 | O14: うき・はく離
B15: 対策 区分 | C15: 応急措置前 | M15: 対策 区分 | N15: 応急措置前
C16: 応急措置後 | E16: Ⅰ | N16: 応急措置後 | P16: Ⅰ
B17: 健全性 | D17: Ⅰ | M17: 健全性 | O17: Ⅰ
B18: 変状の発生範囲の規模 | E18: - | M18: 変状の発生範囲の規模 | P18: -
B19: 前回定期点検時の状態 | E19: 0.3m×0.2mの豆板 | M19: 前回定期点検時の状態 | P19: 0.6m×0.3mの閉合ひび割れ(打音異常なし)
B20: 調査方針 | E20: なし | M20: 調査方針 | P20: なし
B21: 対策履歴 | E21: 断面修復工 | H21: 実施状況（実施日） | M21: 対策履歴 | P21: ひび割れ注入工 | S21: 実施状況（実施日）
B22: メモ | D22: 断面修復工により対策済み | M22: メモ | O22: ひび割れ注入工により対策済み
B23: 写真 番号 | C23: 覆工 スパン 番号 | D23: S025 | M23: 写真 番号 | N23: 覆工 スパン 番号 | O23: S025
C25: 変状 番号 | D25: 4 | N25: 変状 番号 | O25: 5
B27: 変状 部位 | C27: 対象 箇所 | D27: 覆工・坑門 | M27: 変状 部位 | N27: 対象 箇所 | O27: 路面
C29: 部位 区分 | D29: アーチ（左側） | N29: 部位 区分 | O29: 側溝
B31: 変状区分 | D31: 材質劣化 | M31: 変状区分 | O31: 材質劣化
B32: 変状種類 | D32: うき・はく離 | M32: 変状種類 | O32: うき・はく離
B33: 対策 区分 | C33: 応急措置前 | M33: 対策 区分 | N33: 応急措置前
C34: 応急措置後 | E34: Ⅰ | N34: 応急措置後 | P34: －
B35: 健全性 | D35: Ⅰ | M35: 健全性 | O35: －
B36: 変状の発生範囲の規模 | E36: - | M36: 変状の発生範囲の規模 | P36: 0.2m×0.5m
B37: 前回定期点検時の状態 | E37: 0.1m×0.3mの閉合ひび割れ(打音異常なし) | M37: 前回定期点検時の状態 | P37: 0.2m×0.5mのはく離
B38: 調査方針 | E38: なし | M38: 調査方針 | P38: なし
B39: 対策履歴 | E39: ひび割れ注入工 | H39: 実施状況（実施日） | M39: 対策履歴 | P39: なし | S39: 実施状況（実施日）
B40: メモ | D40: ひび割れ注入工により対策済み | M40: メモ | O40: 側溝蓋のはく離
C41: ※ 健全性の判定区分Ⅱ～Ⅳについて添付すること。また、点検前に実施 された措置によりⅠと判定された箇所も添付すること。 | N41: ※ 変状の発生範囲の規模とは、対策を行う際に参考となる変状の長さや面積をいう。
N42: ※ 応急措置を実施しないで判定した変状の対策区分は、対策区分の応急措置後の欄に記入すること。
C43: ※ たたき落としを実施した場合は、実施後の写真を添付すること。 | N43: ※ 変状の発生範囲の規模は、面積・寸法を記載すること。
C44: ※ 画像データは100kb程度とする。 | N44: (ひび割れ幅のみmmとし、その他をm表記とする)
C45: ※ 変状数に準じてシートを追加すること。（１シートに１ページとすること。） | N45: ※ 構造用鋼材以外の異物に伴ううき・はく離については、メモ欄に異物の概要を記入すること。

Sheet 様式D-1-1 (25)
B2: ■定期点検記録様式 変状写真台帳（トンネル本体工） 【様式D-1-1】
B3: フリガナ | D3: オオガタオ | H3: 路 線 名 | J3: 一般国道316号 | M3: 定期点検業者 | P3: 株式会社オリエンタルコンサルタンツ | S3: 定期点検年月日 | U3: 45280
B4: 名 称 | D4: 大ヶ峠トンネル | H4: 管理者名 | J4: 長門土木建築事務所 | M4: 定期点検者名 | P4: 妹尾 優大
B5: 写真 番号 | C5: 覆工 スパン 番号 | D5: S026 | M5: 写真 番号 | N5: 覆工 スパン 番号 | O5: S026
C7: 変状 番号 | D7: 1 | N7: 変状 番号 | O7: 2
B9: 変状 部位 | C9: 対象 箇所 | D9: 覆工・坑門 | M9: 変状 部位 | N9: 対象 箇所 | O9: 覆工・坑門
C11: 部位 区分 | D11: 側壁（左側） | N11: 部位 区分 | O11: アーチ（天端）
B13: 変状区分 | D13: 漏水 | M13: 変状区分 | O13: 漏水
B14: 変状種類 | D14: 漏水 | M14: 変状種類 | O14: 漏水
B15: 対策 区分 | C15: 応急措置前 | M15: 対策 区分 | N15: 応急措置前
C16: 応急措置後 | E16: Ⅰ | N16: 応急措置後 | P16: Ⅰ
B17: 健全性 | D17: Ⅰ | M17: 健全性 | O17: Ⅰ
B18: 変状の発生範囲の規模 | E18: - | M18: 変状の発生範囲の規模 | P18: -
B19: 前回定期点検時の状態 | E19: 漏水、にじみ | M19: 前回定期点検時の状態 | P19: 漏水、にじみ
B20: 調査方針 | E20: なし | M20: 調査方針 | P20: なし
B21: 対策履歴 | E21: なし | H21: 実施状況（実施日） | M21: 対策履歴 | P21: 導水工 | S21: 実施状況（実施日）
B22: メモ | D22: 漏水跡 | M22: メモ | O22: 導水工新設により対策済み
B23: 写真 番号 | C23: 覆工 スパン 番号 | D23: S027 | M23: 写真 番号 | N23: 覆工 スパン 番号 | O23: S027
C25: 変状 番号 | D25: 1 | N25: 変状 番号 | O25: 2
B27: 変状 部位 | C27: 対象 箇所 | D27: 覆工・坑門 | M27: 変状 部位 | N27: 対象 箇所 | O27: 覆工・坑門
C29: 部位 区分 | D29: アーチ（左側） | N29: 部位 区分 | O29: アーチ（左側）
B31: 変状区分 | D31: 漏水 | M31: 変状区分 | O31: 材質劣化
B32: 変状種類 | D32: 漏水 | M32: 変状種類 | O32: うき・はく離
B33: 対策 区分 | C33: 応急措置前 | M33: 対策 区分 | N33: 応急措置前
C34: 応急措置後 | E34: Ⅰ | N34: 応急措置後 | P34: Ⅰ
B35: 健全性 | D35: Ⅰ | M35: 健全性 | O35: Ⅰ
B36: 変状の発生範囲の規模 | E36: - | M36: 変状の発生範囲の規模 | P36: -
B37: 前回定期点検時の状態 | E37: 漏水、にじみ | M37: 前回定期点検時の状態 | P37: 0.9m×0.15mのうき
B38: 調査方針 | E38: なし | M38: 調査方針 | P38: なし
B39: 対策履歴 | E39: なし | H39: 実施状況（実施日） | M39: 対策履歴 | P39: 導水工の更新 | S39: 実施状況（実施日）
B40: メモ | D40: 漏水跡 | M40: メモ | O40: 導水工の更新により対策済み
C41: ※ 健全性の判定区分Ⅱ～Ⅳについて添付すること。また、点検前に実施 された措置によりⅠと判定された箇所も添付すること。 | N41: ※ 変状の発生範囲の規模とは、対策を行う際に参考となる変状の長さや面積をいう。
N42: ※ 応急措置を実施しないで判定した変状の対策区分は、対策区分の応急措置後の欄に記入すること。
C43: ※ たたき落としを実施した場合は、実施後の写真を添付すること。 | N43: ※ 変状の発生範囲の規模は、面積・寸法を記載すること。
C44: ※ 画像データは100kb程度とする。 | N44: (ひび割れ幅のみmmとし、その他をm表記とする)
C45: ※ 変状数に準じてシートを追加すること。（１シートに１ページとすること。） | N45: ※ 構造用鋼材以外の異物に伴ううき・はく離については、メモ欄に異物の概要を記入すること。

Sheet 様式D-1-1 (26)
B2: ■定期点検記録様式 変状写真台帳（トンネル本体工） 【様式D-1-1】
B3: フリガナ | D3: オオガタオ | H3: 路 線 名 | J3: 一般国道316号 | M3: 定期点検業者 | P3: 株式会社オリエンタルコンサルタンツ | S3: 定期点検年月日 | U3: 45280
B4: 名 称 | D4: 大ヶ峠トンネル | H4: 管理者名 | J4: 長門土木建築事務所 | M4: 定期点検者名 | P4: 妹尾 優大
B5: 写真 番号 | C5: 覆工 スパン 番号 | D5: S027 | M5: 写真 番号 | N5: 覆工 スパン 番号 | O5: S029
C7: 変状 番号 | D7: 3 | N7: 変状 番号 | O7: 1
B9: 変状 部位 | C9: 対象 箇所 | D9: 覆工・坑門 | M9: 変状 部位 | N9: 対象 箇所 | O9: 内装板
C11: 部位 区分 | D11: 側壁（右側） | N11: 部位 区分 | O11: 側壁
B13: 変状区分 | D13: 漏水 | M13: 変状区分 | O13: 材質劣化
B14: 変状種類 | D14: 漏水 | M14: 変状種類 | O14: その他
B15: 対策 区分 | C15: 応急措置前 | M15: 対策 区分 | N15: 応急措置前
C16: 応急措置後 | E16: Ⅰ | N16: 応急措置後 | P16: Ⅰ
B17: 健全性 | D17: Ⅰ | M17: 健全性 | O17: Ⅰ
B18: 変状の発生範囲の規模 | E18: - | M18: 変状の発生範囲の規模 | P18: -
B19: 前回定期点検時の状態 | E19: 漏水、にじみ | M19: 前回定期点検時の状態 | P19: 1.0m×2.4mの内装板の破損
B20: 調査方針 | E20: なし | M20: 調査方針 | P20: なし
B21: 対策履歴 | E21: なし | H21: 実施状況（実施日） | M21: 対策履歴 | P21: 内装板更新 | S21: 実施状況（実施日）
B22: メモ | D22: 漏水跡 | M22: メモ | O22: 内装板更新により対策済み
B23: 写真 番号 | C23: 覆工 スパン 番号 | D23: S029 | M23: 写真 番号 | N23: 覆工 スパン 番号 | O23: S029
C25: 変状 番号 | D25: 2 | N25: 変状 番号 | O25: 3
B27: 変状 部位 | C27: 対象 箇所 | D27: 路面 | M27: 変状 部位 | N27: 対象 箇所 | O27: 路面
C29: 部位 区分 | D29: 監査歩路 | N29: 部位 区分 | O29: 監査歩路
B31: 変状区分 | D31: 材質劣化 | M31: 変状区分 | O31: 材質劣化
B32: 変状種類 | D32: うき・はく離 | M32: 変状種類 | O32: うき・はく離
B33: 対策 区分 | C33: 応急措置前 | M33: 対策 区分 | N33: 応急措置前
C34: 応急措置後 | E34: － | N34: 応急措置後 | P34: －
B35: 健全性 | D35: － | M35: 健全性 | O35: －
B36: 変状の発生範囲の規模 | E36: - | M36: 変状の発生範囲の規模 | P36: 0.1m×0.6m
B37: 前回定期点検時の状態 | E37: 0.1m×0.8mの欠損 | M37: 前回定期点検時の状態 | P37: 0.12m×0.75mのうき(5mmの傾き)
B38: 調査方針 | E38: なし | M38: 調査方針 | P38: なし
B39: 対策履歴 | E39: 断面修復工 | H39: 実施状況（実施日） | M39: 対策履歴 | P39: なし | S39: 実施状況（実施日）
B40: メモ | D40: 断面修復工により対策済み | M40: メモ | O40: うき(5mmの傾き)
C41: ※ 健全性の判定区分Ⅱ～Ⅳについて添付すること。また、点検前に実施 された措置によりⅠと判定された箇所も添付すること。 | N41: ※ 変状の発生範囲の規模とは、対策を行う際に参考となる変状の長さや面積をいう。
N42: ※ 応急措置を実施しないで判定した変状の対策区分は、対策区分の応急措置後の欄に記入すること。
C43: ※ たたき落としを実施した場合は、実施後の写真を添付すること。 | N43: ※ 変状の発生範囲の規模は、面積・寸法を記載すること。
C44: ※ 画像データは100kb程度とする。 | N44: (ひび割れ幅のみmmとし、その他をm表記とする)
C45: ※ 変状数に準じてシートを追加すること。（１シートに１ページとすること。） | N45: ※ 構造用鋼材以外の異物に伴ううき・はく離については、メモ欄に異物の概要を記入すること。

Sheet 様式D-1-1 (27)
B2: ■定期点検記録様式 変状写真台帳（トンネル本体工） 【様式D-1-1】
B3: フリガナ | D3: オオガタオ | H3: 路 線 名 | J3: 一般国道316号 | M3: 定期点検業者 | P3: 株式会社オリエンタルコンサルタンツ | S3: 定期点検年月日 | U3: 45280
B4: 名 称 | D4: 大ヶ峠トンネル | H4: 管理者名 | J4: 長門土木建築事務所 | M4: 定期点検者名 | P4: 妹尾 優大
B5: 写真 番号 | C5: 覆工 スパン 番号 | D5: S030 | M5: 写真 番号 | N5: 覆工 スパン 番号 | O5: S030
C7: 変状 番号 | D7: 1 | N7: 変状 番号 | O7: 2
B9: 変状 部位 | C9: 対象 箇所 | D9: 内装板 | M9: 変状 部位 | N9: 対象 箇所 | O9: 覆工・坑門
C11: 部位 区分 | D11: 側壁 | N11: 部位 区分 | O11: 側壁（左側）
B13: 変状区分 | D13: 材質劣化 | M13: 変状区分 | O13: 漏水
B14: 変状種類 | D14: その他 | M14: 変状種類 | O14: 漏水
B15: 対策 区分 | C15: 応急措置前 | M15: 対策 区分 | N15: 応急措置前
C16: 応急措置後 | E16: Ⅰ | N16: 応急措置後 | P16: Ⅰ
B17: 健全性 | D17: Ⅰ | M17: 健全性
B18: 変状の発生範囲の規模 | E18: - | M18: 変状の発生範囲の規模 | P18: -
B19: 前回定期点検時の状態 | E19: 1.0m×1.2mの内装板の破損 | M19: 前回定期点検時の状態 | P19: 漏水、にじみ
B20: 調査方針 | E20: なし | M20: 調査方針 | P20: なし
B21: 対策履歴 | E21: 内装板更新 | H21: 実施状況（実施日） | M21: 対策履歴 | P21: なし | S21: 実施状況（実施日）
B22: メモ | D22: 内装板更新により対策済み | M22: メモ | O22: 漏水、にじみ
B23: 写真 番号 | C23: 覆工 スパン 番号 | D23: S030 | M23: 写真 番号 | N23: 覆工 スパン 番号 | O23: S030
C25: 変状 番号 | D25: 3 | N25: 変状 番号 | O25: 4
B27: 変状 部位 | C27: 対象 箇所 | D27: 覆工・坑門 | M27: 変状 部位 | N27: 対象 箇所 | O27: 覆工・坑門
C29: 部位 区分 | D29: 側壁（右側） | N29: 部位 区分 | O29: 側壁（右側）
B31: 変状区分 | D31: 漏水 | M31: 変状区分 | O31: 漏水
B32: 変状種類 | D32: 漏水 | M32: 変状種類 | O32: 漏水
B33: 対策 区分 | C33: 応急措置前 | M33: 対策 区分 | N33: 応急措置前
C34: 応急措置後 | E34: Ⅰ | N34: 応急措置後 | P34: Ⅰ
B35: 健全性 | D35: Ⅰ | M35: 健全性 | O35: Ⅰ
B36: 変状の発生範囲の規模 | E36: - | M36: 変状の発生範囲の規模 | P36: -
B37: 前回定期点検時の状態 | E37: 漏水、流下 | M37: 前回定期点検時の状態 | P37: 漏水、にじみ
B38: 調査方針 | E38: なし | M38: 調査方針 | P38: なし
B39: 対策履歴 | E39: なし | H39: 実施状況（実施日） | M39: 対策履歴 | P39: なし | S39: 実施状況（実施日）
B40: メモ | D40: 漏水、にじみ | M40: メモ | O40: 漏水、にじみ
C41: ※ 健全性の判定区分Ⅱ～Ⅳについて添付すること。また、点検前に実施 された措置によりⅠと判定された箇所も添付すること。 | N41: ※ 変状の発生範囲の規模とは、対策を行う際に参考となる変状の長さや面積をいう。
N42: ※ 応急措置を実施しないで判定した変状の対策区分は、対策区分の応急措置後の欄に記入すること。
C43: ※ たたき落としを実施した場合は、実施後の写真を添付すること。 | N43: ※ 変状の発生範囲の規模は、面積・寸法を記載すること。
C44: ※ 画像データは100kb程度とする。 | N44: (ひび割れ幅のみmmとし、その他をm表記とする)
C45: ※ 変状数に準じてシートを追加すること。（１シートに１ページとすること。） | N45: ※ 構造用鋼材以外の異物に伴ううき・はく離については、メモ欄に異物の概要を記入すること。

Sheet 様式D-1-1 (28)
B2: ■定期点検記録様式 変状写真台帳（トンネル本体工） 【様式D-1-1】
B3: フリガナ | D3: オオガタオ | H3: 路 線 名 | J3: 一般国道316号 | M3: 定期点検業者 | P3: 株式会社オリエンタルコンサルタンツ | S3: 定期点検年月日 | U3: 45280
B4: 名 称 | D4: 大ヶ峠トンネル | H4: 管理者名 | J4: 長門土木建築事務所 | M4: 定期点検者名 | P4: 妹尾 優大
B5: 写真 番号 | C5: 覆工 スパン 番号 | D5: S030 | M5: 写真 番号 | N5: 覆工 スパン 番号 | O5: S030
C7: 変状 番号 | D7: 5 | N7: 変状 番号 | O7: 6
B9: 変状 部位 | C9: 対象 箇所 | D9: 覆工・坑門 | M9: 変状 部位 | N9: 対象 箇所 | O9: 路面
C11: 部位 区分 | D11: 側壁（右側） | N11: 部位 区分 | O11: 監査歩路
B13: 変状区分 | D13: 漏水 | M13: 変状区分 | O13: 漏水
B14: 変状種類 | D14: 漏水 | M14: 変状種類 | O14: 滞水
B15: 対策 区分 | C15: 応急措置前 | M15: 対策 区分 | N15: 応急措置前
C16: 応急措置後 | E16: Ⅰ | N16: 応急措置後 | P16: －
B17: 健全性 | D17: Ⅰ | M17: 健全性 | O17: －
B18: 変状の発生範囲の規模 | E18: - | M18: 変状の発生範囲の規模 | P18: 0.3m×2.2m
B19: 前回定期点検時の状態 | E19: 漏水、にじみ | M19: 前回定期点検時の状態 | P19: 0.5m×3.5mの滞水
B20: 調査方針 | E20: なし | M20: 調査方針 | P20: なし
B21: 対策履歴 | E21: なし | H21: 実施状況（実施日） | M21: 対策履歴 | P21: なし | S21: 実施状況（実施日）
B22: メモ | D22: 漏水跡 | M22: メモ | O22: 滞水
B23: 写真 番号 | C23: 覆工 スパン 番号 | D23: S030 | M23: 写真 番号 | N23: 覆工 スパン 番号 | O23: S031
C25: 変状 番号 | D25: 7 | N25: 変状 番号 | O25: 1
B27: 変状 部位 | C27: 対象 箇所 | D27: 路面 | M27: 変状 部位 | N27: 対象 箇所 | O27: 覆工・坑門
C29: 部位 区分 | D29: 監査歩路 | N29: 部位 区分 | O29: 横断目地（左側）
B31: 変状区分 | D31: 外力 | M31: 変状区分 | O31: 外力
B32: 変状種類 | D32: 変形、移動 | M32: 変状種類 | O32: 変形、移動
B33: 対策 区分 | C33: 応急措置前 | M33: 対策 区分 | N33: 応急措置前
C34: 応急措置後 | E34: Ⅱb | N34: 応急措置後 | P34: Ⅱb
B35: 健全性 | D35: Ⅱ | M35: 健全性 | O35: Ⅱ
B36: 変状の発生範囲の規模 | E36: 30mm | M36: 変状の発生範囲の規模 | P36: 10mm
B37: 前回定期点検時の状態 | E37: 20mmの傾き | M37: 前回定期点検時の状態 | P37: 10mmの段差
B38: 調査方針 | E38: なし | M38: 調査方針 | P38: なし
B39: 対策履歴 | E39: なし | H39: 実施状況（実施日） | M39: 対策履歴 | P39: なし | S39: 実施状況（実施日）
B40: メモ | D40: 30mmの傾き | M40: メモ | O40: 横断目地に10mmの段差
C41: ※ 健全性の判定区分Ⅱ～Ⅳについて添付すること。また、点検前に実施 された措置によりⅠと判定された箇所も添付すること。 | N41: ※ 変状の発生範囲の規模とは、対策を行う際に参考となる変状の長さや面積をいう。
N42: ※ 応急措置を実施しないで判定した変状の対策区分は、対策区分の応急措置後の欄に記入すること。
C43: ※ たたき落としを実施した場合は、実施後の写真を添付すること。 | N43: ※ 変状の発生範囲の規模は、面積・寸法を記載すること。
C44: ※ 画像データは100kb程度とする。 | N44: (ひび割れ幅のみmmとし、その他をm表記とする)
C45: ※ 変状数に準じてシートを追加すること。（１シートに１ページとすること。） | N45: ※ 構造用鋼材以外の異物に伴ううき・はく離については、メモ欄に異物の概要を記入すること。

Sheet 様式D-1-1 (29)
B2: ■定期点検記録様式 変状写真台帳（トンネル本体工） 【様式D-1-1】
B3: フリガナ | D3: オオガタオ | H3: 路 線 名 | J3: 一般国道316号 | M3: 定期点検業者 | P3: 株式会社オリエンタルコンサルタンツ | S3: 定期点検年月日 | U3: 45280
B4: 名 称 | D4: 大ヶ峠トンネル | H4: 管理者名 | J4: 長門土木建築事務所 | M4: 定期点検者名 | P4: 妹尾 優大
B5: 写真 番号 | C5: 覆工 スパン 番号 | D5: S031 | M5: 写真 番号 | N5: 覆工 スパン 番号 | O5: S031
C7: 変状 番号 | D7: 2 | N7: 変状 番号 | O7: 3
B9: 変状 部位 | C9: 対象 箇所 | D9: 路面 | M9: 変状 部位 | N9: 対象 箇所 | O9: 路面
C11: 部位 区分 | D11: 監査歩路 | N11: 部位 区分 | O11: 監査歩路
B13: 変状区分 | D13: 材質劣化 | M13: 変状区分 | O13: 外力
B14: 変状種類 | D14: うき・はく離 | M14: 変状種類 | O14: 変形、移動
B15: 対策 区分 | C15: 応急措置前 | M15: 対策 区分 | N15: 応急措置前
C16: 応急措置後 | E16: － | N16: 応急措置後 | P16: Ⅱb
B17: 健全性 | D17: － | M17: 健全性 | O17: Ⅱ
B18: 変状の発生範囲の規模 | E18: 0.1m×0.4m | M18: 変状の発生範囲の規模 | P18: 15mm
B19: 前回定期点検時の状態 | E19: 0.1m×0.4mの欠損 | M19: 前回定期点検時の状態 | P19: 15mmの傾き
B20: 調査方針 | E20: なし | M20: 調査方針 | P20: なし
B21: 対策履歴 | E21: なし | H21: 実施状況（実施日） | M21: 対策履歴 | P21: なし | S21: 実施状況（実施日）
B22: メモ | D22: 欠損 | M22: メモ | O22: 15mmの傾き
B23: 写真 番号 | C23: 覆工 スパン 番号 | D23: S031 | M23: 写真 番号 | N23: 覆工 スパン 番号 | O23: S032
C25: 変状 番号 | D25: 4 | N25: 変状 番号 | O25: 1
B27: 変状 部位 | C27: 対象 箇所 | D27: 路面 | M27: 変状 部位 | N27: 対象 箇所 | O27: 路面
C29: 部位 区分 | D29: 監査歩路 | N29: 部位 区分 | O29: 車道
B31: 変状区分 | D31: 材質劣化 | M31: 変状区分 | O31: 材質劣化
B32: 変状種類 | D32: うき・はく離 | M32: 変状種類 | O32: うき・はく離
B33: 対策 区分 | C33: 応急措置前 | M33: 対策 区分 | N33: 応急措置前
C34: 応急措置後 | E34: － | N34: 応急措置後 | P34: －
B35: 健全性 | D35: － | M35: 健全性 | O35: －
B36: 変状の発生範囲の規模 | E36: 0.1m×0.3m | M36: 変状の発生範囲の規模 | P36: 0.9m×0.1m
B37: 前回定期点検時の状態 | E37: 0.1m×0.3mのうき | M37: 前回定期点検時の状態 | P37: 0.65m×0.05mのうき
B38: 調査方針 | E38: なし | M38: 調査方針 | P38: なし
B39: 対策履歴 | E39: なし | H39: 実施状況（実施日） | M39: 対策履歴 | P39: なし | S39: 実施状況（実施日）
B40: メモ | D40: うき | M40: メモ | O40: 舗装のうき
C41: ※ 健全性の判定区分Ⅱ～Ⅳについて添付すること。また、点検前に実施 された措置によりⅠと判定された箇所も添付すること。 | N41: ※ 変状の発生範囲の規模とは、対策を行う際に参考となる変状の長さや面積をいう。
N42: ※ 応急措置を実施しないで判定した変状の対策区分は、対策区分の応急措置後の欄に記入すること。
C43: ※ たたき落としを実施した場合は、実施後の写真を添付すること。 | N43: ※ 変状の発生範囲の規模は、面積・寸法を記載すること。
C44: ※ 画像データは100kb程度とする。 | N44: (ひび割れ幅のみmmとし、その他をm表記とする)
C45: ※ 変状数に準じてシートを追加すること。（１シートに１ページとすること。） | N45: ※ 構造用鋼材以外の異物に伴ううき・はく離については、メモ欄に異物の概要を記入すること。

Sheet 様式D-1-1 (30)
B2: ■定期点検記録様式 変状写真台帳（トンネル本体工） 【様式D-1-1】
B3: フリガナ | D3: オオガタオ | H3: 路 線 名 | J3: 一般国道316号 | M3: 定期点検業者 | P3: 株式会社オリエンタルコンサルタンツ | S3: 定期点検年月日 | U3: 45280
B4: 名 称 | D4: 大ヶ峠トンネル | H4: 管理者名 | J4: 長門土木建築事務所 | M4: 定期点検者名 | P4: 妹尾 優大
B5: 写真 番号 | C5: 覆工 スパン 番号 | D5: S033 | M5: 写真 番号 | N5: 覆工 スパン 番号 | O5: S033
C7: 変状 番号 | D7: 1 | N7: 変状 番号 | O7: 2
B9: 変状 部位 | C9: 対象 箇所 | D9: 覆工・坑門 | M9: 変状 部位 | N9: 対象 箇所 | O9: 覆工・坑門
C11: 部位 区分 | D11: アーチ（右側） | N11: 部位 区分 | O11: 側壁（右側）
B13: 変状区分 | D13: 漏水 | M13: 変状区分 | O13: 漏水
B14: 変状種類 | D14: 漏水 | M14: 変状種類 | O14: 漏水
B15: 対策 区分 | C15: 応急措置前 | M15: 対策 区分 | N15: 応急措置前
C16: 応急措置後 | E16: Ⅰ | N16: 応急措置後 | P16: Ⅰ
B17: 健全性 | D17: Ⅰ | M17: 健全性 | O17: Ⅰ
B18: 変状の発生範囲の規模 | E18: - | M18: 変状の発生範囲の規模 | P18: -
B19: 前回定期点検時の状態 | E19: 漏水、にじみ | M19: 前回定期点検時の状態 | P19: 漏水、にじみ
B20: 調査方針 | E20: なし | M20: 調査方針 | P20: なし
B21: 対策履歴 | E21: 導水工 | H21: 実施状況（実施日） | M21: 対策履歴 | P21: なし | S21: 実施状況（実施日）
B22: メモ | D22: 導水工新設により対策済み | M22: メモ | O22: 漏水跡
B23: 写真 番号 | C23: 覆工 スパン 番号 | D23: S033 | M23: 写真 番号 | N23: 覆工 スパン 番号 | O23: S034
C25: 変状 番号 | D25: 3 | N25: 変状 番号 | O25: 1
B27: 変状 部位 | C27: 対象 箇所 | D27: 路面 | M27: 変状 部位 | N27: 対象 箇所 | O27: 覆工・坑門
C29: 部位 区分 | D29: 側溝 | N29: 部位 区分 | O29: アーチ（右側）
B31: 変状区分 | D31: 材質劣化 | M31: 変状区分 | O31: 外力
B32: 変状種類 | D32: うき・はく離 | M32: 変状種類 | O32: 変形、移動
B33: 対策 区分 | C33: 応急措置前 | M33: 対策 区分 | N33: 応急措置前
C34: 応急措置後 | E34: － | N34: 応急措置後 | P34: Ⅰ
B35: 健全性 | D35: － | M35: 健全性 | O35: Ⅰ
B36: 変状の発生範囲の規模 | E36: 0.2m×0.5m | M36: 変状の発生範囲の規模 | P36: -
B37: 前回定期点検時の状態 | E37: 0.3m×0.5mのはく離 | M37: 前回定期点検時の状態 | P37: 1mmの段差
B38: 調査方針 | E38: なし | M38: 調査方針 | P38: なし
B39: 対策履歴 | E39: なし | H39: 実施状況（実施日） | M39: 対策履歴 | P39: ひび割れ注入工 | S39: 実施状況（実施日）
B40: メモ | D40: 側溝蓋のはく離 | M40: メモ | O40: ひび割れ注入工により対策済み
C41: ※ 健全性の判定区分Ⅱ～Ⅳについて添付すること。また、点検前に実施 された措置によりⅠと判定された箇所も添付すること。 | N41: ※ 変状の発生範囲の規模とは、対策を行う際に参考となる変状の長さや面積をいう。
N42: ※ 応急措置を実施しないで判定した変状の対策区分は、対策区分の応急措置後の欄に記入すること。
C43: ※ たたき落としを実施した場合は、実施後の写真を添付すること。 | N43: ※ 変状の発生範囲の規模は、面積・寸法を記載すること。
C44: ※ 画像データは100kb程度とする。 | N44: (ひび割れ幅のみmmとし、その他をm表記とする)
C45: ※ 変状数に準じてシートを追加すること。（１シートに１ページとすること。） | N45: ※ 構造用鋼材以外の異物に伴ううき・はく離については、メモ欄に異物の概要を記入すること。

Sheet 様式D-1-1 (31)
B2: ■定期点検記録様式 変状写真台帳（トンネル本体工） 【様式D-1-1】
B3: フリガナ | D3: オオガタオ | H3: 路 線 名 | J3: 一般国道316号 | M3: 定期点検業者 | P3: 株式会社オリエンタルコンサルタンツ | S3: 定期点検年月日 | U3: 45280
B4: 名 称 | D4: 大ヶ峠トンネル | H4: 管理者名 | J4: 長門土木建築事務所 | M4: 定期点検者名 | P4: 妹尾 優大
B5: 写真 番号 | C5: 覆工 スパン 番号 | D5: S035 | M5: 写真 番号 | N5: 覆工 スパン 番号 | O5: S035
C7: 変状 番号 | D7: 1 | N7: 変状 番号 | O7: 2
B9: 変状 部位 | C9: 対象 箇所 | D9: 覆工・坑門 | M9: 変状 部位 | N9: 対象 箇所 | O9: 覆工・坑門
C11: 部位 区分 | D11: アーチ（左側） | N11: 部位 区分 | O11: アーチ（左側）
B13: 変状区分 | D13: 材質劣化 | M13: 変状区分 | O13: 外力
B14: 変状種類 | D14: うき・はく離 | M14: 変状種類 | O14: ひび割れ
B15: 対策 区分 | C15: 応急措置前 | M15: 対策 区分 | N15: 応急措置前
C16: 応急措置後 | E16: Ⅰ | N16: 応急措置後 | P16: Ⅰ
B17: 健全性 | D17: Ⅰ | M17: 健全性 | O17: Ⅰ
B18: 変状の発生範囲の規模 | E18: - | M18: 変状の発生範囲の規模 | P18: -
B19: 前回定期点検時の状態 | E19: 0.05m×0.3mのうき | M19: 前回定期点検時の状態 | P19: 5mmのひび割れ
B20: 調査方針 | E20: なし | M20: 調査方針 | P20: なし
B21: 対策履歴 | E21: ひび割れ注入工 | H21: 実施状況（実施日） | M21: 対策履歴 | P21: ひび割れ注入工 | S21: 実施状況（実施日）
B22: メモ | D22: ひび割れ注入工により対策済み | M22: メモ | O22: ひび割れ注入工により対策済み
B23: 写真 番号 | C23: 覆工 スパン 番号 | D23: S036 | M23: 写真 番号 | N23: 覆工 スパン 番号 | O23: S036
C25: 変状 番号 | D25: 1 | N25: 変状 番号 | O25: 2
B27: 変状 部位 | C27: 対象 箇所 | D27: 覆工・坑門 | M27: 変状 部位 | N27: 対象 箇所 | O27: 覆工・坑門
C29: 部位 区分 | D29: アーチ（左側） | N29: 部位 区分 | O29: アーチ（左側）
B31: 変状区分 | D31: 外力 | M31: 変状区分 | O31: 外力
B32: 変状種類 | D32: ひび割れ | M32: 変状種類 | O32: ひび割れ
B33: 対策 区分 | C33: 応急措置前 | M33: 対策 区分 | N33: 応急措置前
C34: 応急措置後 | E34: Ⅰ | N34: 応急措置後 | P34: Ⅰ
B35: 健全性 | D35: Ⅰ | M35: 健全性 | O35: Ⅰ
B36: 変状の発生範囲の規模 | E36: - | M36: 変状の発生範囲の規模 | P36: -
B37: 前回定期点検時の状態 | E37: 4mmのひび割れ(段差1mm) | M37: 前回定期点検時の状態 | P37: 4mmのひび割れ(段差1mm)
B38: 調査方針 | E38: なし | M38: 調査方針 | P38: なし
B39: 対策履歴 | E39: ひび割れ注入工 | H39: 実施状況（実施日） | M39: 対策履歴 | P39: ひび割れ注入工 | S39: 実施状況（実施日）
B40: メモ | D40: ひび割れ注入工により対策済み | M40: メモ | O40: ひび割れ注入工により対策済み
C41: ※ 健全性の判定区分Ⅱ～Ⅳについて添付すること。また、点検前に実施 された措置によりⅠと判定された箇所も添付すること。 | N41: ※ 変状の発生範囲の規模とは、対策を行う際に参考となる変状の長さや面積をいう。
N42: ※ 応急措置を実施しないで判定した変状の対策区分は、対策区分の応急措置後の欄に記入すること。
C43: ※ たたき落としを実施した場合は、実施後の写真を添付すること。 | N43: ※ 変状の発生範囲の規模は、面積・寸法を記載すること。
C44: ※ 画像データは100kb程度とする。 | N44: (ひび割れ幅のみmmとし、その他をm表記とする)
C45: ※ 変状数に準じてシートを追加すること。（１シートに１ページとすること。） | N45: ※ 構造用鋼材以外の異物に伴ううき・はく離については、メモ欄に異物の概要を記入すること。

Sheet 様式D-1-1 (32)
B2: ■定期点検記録様式 変状写真台帳（トンネル本体工） 【様式D-1-1】
B3: フリガナ | D3: オオガタオ | H3: 路 線 名 | J3: 一般国道316号 | M3: 定期点検業者 | P3: 株式会社オリエンタルコンサルタンツ | S3: 定期点検年月日 | U3: 45280
B4: 名 称 | D4: 大ヶ峠トンネル | H4: 管理者名 | J4: 長門土木建築事務所 | M4: 定期点検者名 | P4: 妹尾 優大
B5: 写真 番号 | C5: 覆工 スパン 番号 | D5: S036 | M5: 写真 番号 | N5: 覆工 スパン 番号 | O5: S036
C7: 変状 番号 | D7: 3 | N7: 変状 番号 | O7: 4
B9: 変状 部位 | C9: 対象 箇所 | D9: 覆工・坑門 | M9: 変状 部位 | N9: 対象 箇所 | O9: 覆工・坑門
C11: 部位 区分 | D11: 横断目地（左側） | N11: 部位 区分 | O11: アーチ（右側）
B13: 変状区分 | D13: 漏水 | M13: 変状区分 | O13: 材質劣化
B14: 変状種類 | D14: 漏水 | M14: 変状種類 | O14: うき・はく離
B15: 対策 区分 | C15: 応急措置前 | M15: 対策 区分 | N15: 応急措置前
C16: 応急措置後 | E16: Ⅱb | N16: 応急措置後 | P16: Ⅰ
B17: 健全性 | D17: Ⅱ | M17: 健全性 | O17: Ⅰ
B18: 変状の発生範囲の規模 | E18: 5.3m×0.5m | M18: 変状の発生範囲の規模 | P18: -
B19: 前回定期点検時の状態 | E19: 漏水、にじみ | M19: 前回定期点検時の状態 | P19: 0.05m×0.2mのうき
B20: 調査方針 | E20: なし | M20: 調査方針 | P20: なし
B21: 対策履歴 | E21: なし | H21: 実施状況（実施日） | M21: 対策履歴 | P21: ひび割れ注入工 | S21: 実施状況（実施日）
B22: メモ | D22: 導水工からの漏水、にじみ | M22: メモ | O22: ひび割れ注入工により対策済み
B23: 写真 番号 | C23: 覆工 スパン 番号 | D23: S037 | M23: 写真 番号 | N23: 覆工 スパン 番号 | O23: S037
C25: 変状 番号 | D25: 1 | N25: 変状 番号 | O25: 2
B27: 変状 部位 | C27: 対象 箇所 | D27: 覆工・坑門 | M27: 変状 部位 | N27: 対象 箇所 | O27: 覆工・坑門
C29: 部位 区分 | D29: 横断目地（左側） | N29: 部位 区分 | O29: アーチ（天端）
B31: 変状区分 | D31: 材質劣化 | M31: 変状区分 | O31: 漏水
B32: 変状種類 | D32: うき・はく離 | M32: 変状種類 | O32: 漏水
B33: 対策 区分 | C33: 応急措置前 | M33: 対策 区分 | N33: 応急措置前
C34: 応急措置後 | E34: Ⅲ | N34: 応急措置後 | P34: Ⅰ
B35: 健全性 | D35: Ⅲ | M35: 健全性 | O35: Ⅰ
B36: 変状の発生範囲の規模 | E36: 0.15m×0.05m | M36: 変状の発生範囲の規模 | P36: -
B37: 前回定期点検時の状態 | E37: 0.15m×0.05mのうき | M37: 前回定期点検時の状態 | P37: 漏水、にじみ
B38: 調査方針 | E38: なし | M38: 調査方針 | P38: なし
B39: 対策履歴 | E39: なし | H39: 実施状況（実施日） | M39: 対策履歴 | P39: 導水工の更新 | S39: 実施状況（実施日）
B40: メモ | D40: 横断目地付近のうき | M40: メモ | O40: 導水工の更新により対策済み
C41: ※ 健全性の判定区分Ⅱ～Ⅳについて添付すること。また、点検前に実施 された措置によりⅠと判定された箇所も添付すること。 | N41: ※ 変状の発生範囲の規模とは、対策を行う際に参考となる変状の長さや面積をいう。
N42: ※ 応急措置を実施しないで判定した変状の対策区分は、対策区分の応急措置後の欄に記入すること。
C43: ※ たたき落としを実施した場合は、実施後の写真を添付すること。 | N43: ※ 変状の発生範囲の規模は、面積・寸法を記載すること。
C44: ※ 画像データは100kb程度とする。 | N44: (ひび割れ幅のみmmとし、その他をm表記とする)
C45: ※ 変状数に準じてシートを追加すること。（１シートに１ページとすること。） | N45: ※ 構造用鋼材以外の異物に伴ううき・はく離については、メモ欄に異物の概要を記入すること。

Sheet 様式D-1-1 (33)
B2: ■定期点検記録様式 変状写真台帳（トンネル本体工） 【様式D-1-1】
B3: フリガナ | D3: オオガタオ | H3: 路 線 名 | J3: 一般国道316号 | M3: 定期点検業者 | P3: 株式会社オリエンタルコンサルタンツ | S3: 定期点検年月日 | U3: 45280
B4: 名 称 | D4: 大ヶ峠トンネル | H4: 管理者名 | J4: 長門土木建築事務所 | M4: 定期点検者名 | P4: 妹尾 優大
B5: 写真 番号 | C5: 覆工 スパン 番号 | D5: S037 | M5: 写真 番号 | N5: 覆工 スパン 番号 | O5: S037
C7: 変状 番号 | D7: 3 | N7: 変状 番号 | O7: 4
B9: 変状 部位 | C9: 対象 箇所 | D9: 覆工・坑門 | M9: 変状 部位 | N9: 対象 箇所 | O9: 覆工・坑門
C11: 部位 区分 | D11: 横断目地（天端） | N11: 部位 区分 | O11: アーチ（右側）
B13: 変状区分 | D13: 漏水 | M13: 変状区分 | O13: 漏水
B14: 変状種類 | D14: 漏水 | M14: 変状種類 | O14: 漏水
B15: 対策 区分 | C15: 応急措置前 | M15: 対策 区分 | N15: 応急措置前
C16: 応急措置後 | E16: Ⅱb | N16: 応急措置後 | P16: Ⅰ
B17: 健全性 | D17: Ⅱ | M17: 健全性 | O17: Ⅰ
B18: 変状の発生範囲の規模 | E18: 8.4m×0.5m | M18: 変状の発生範囲の規模 | P18: -
B19: 前回定期点検時の状態 | E19: 漏水、にじみ | M19: 前回定期点検時の状態 | P19: 漏水、にじみ
B20: 調査方針 | E20: なし | M20: 調査方針 | P20: なし
B21: 対策履歴 | E21: なし | H21: 実施状況（実施日） | M21: 対策履歴 | P21: 導水工の更新 | S21: 実施状況（実施日）
B22: メモ | D22: 導水工からの漏水、にじみ | M22: メモ | O22: 導水工の更新により対策済み
B23: 写真 番号 | C23: 覆工 スパン 番号 | D23: S037 | M23: 写真 番号 | N23: 覆工 スパン 番号 | O23: S037
C25: 変状 番号 | D25: 5 | N25: 変状 番号 | O25: 6
B27: 変状 部位 | C27: 対象 箇所 | D27: 覆工・坑門 | M27: 変状 部位 | N27: 対象 箇所 | O27: 路面
C29: 部位 区分 | D29: アーチ（右側） | N29: 部位 区分 | O29: 監査歩路
B31: 変状区分 | D31: 漏水 | M31: 変状区分 | O31: 漏水
B32: 変状種類 | D32: 漏水 | M32: 変状種類 | O32: 滞水
B33: 対策 区分 | C33: 応急措置前 | M33: 対策 区分 | N33: 応急措置前
C34: 応急措置後 | E34: Ⅱb | N34: 応急措置後 | P34: －
B35: 健全性 | D35: Ⅱ | M35: 健全性 | O35: －
B36: 変状の発生範囲の規模 | E36: 4.4m×1.1m | M36: 変状の発生範囲の規模 | P36: 0.4m×12.5m
B37: 前回定期点検時の状態 | E37: - | M37: 前回定期点検時の状態 | P37: -
B38: 調査方針 | E38: なし | M38: 調査方針 | P38: なし
B39: 対策履歴 | E39: なし | H39: 実施状況（実施日） | M39: 対策履歴 | P39: なし | S39: 実施状況（実施日）
B40: メモ | D40: ひび割れからの漏水、にじみ | M40: メモ | O40: 滞水
C41: ※ 健全性の判定区分Ⅱ～Ⅳについて添付すること。また、点検前に実施 された措置によりⅠと判定された箇所も添付すること。 | N41: ※ 変状の発生範囲の規模とは、対策を行う際に参考となる変状の長さや面積をいう。
N42: ※ 応急措置を実施しないで判定した変状の対策区分は、対策区分の応急措置後の欄に記入すること。
C43: ※ たたき落としを実施した場合は、実施後の写真を添付すること。 | N43: ※ 変状の発生範囲の規模は、面積・寸法を記載すること。
C44: ※ 画像データは100kb程度とする。 | N44: (ひび割れ幅のみmmとし、その他をm表記とする)
C45: ※ 変状数に準じてシートを追加すること。（１シートに１ページとすること。） | N45: ※ 構造用鋼材以外の異物に伴ううき・はく離については、メモ欄に異物の概要を記入すること。

Sheet 様式D-1-1 (34)
B2: ■定期点検記録様式 変状写真台帳（トンネル本体工） 【様式D-1-1】
B3: フリガナ | D3: オオガタオ | H3: 路 線 名 | J3: 一般国道316号 | M3: 定期点検業者 | P3: 株式会社オリエンタルコンサルタンツ | S3: 定期点検年月日 | U3: 45280
B4: 名 称 | D4: 大ヶ峠トンネル | H4: 管理者名 | J4: 長門土木建築事務所 | M4: 定期点検者名 | P4: 妹尾 優大
B5: 写真 番号 | C5: 覆工 スパン 番号 | D5: S038 | M5: 写真 番号 | N5: 覆工 スパン 番号 | O5: S038
C7: 変状 番号 | D7: 1 | N7: 変状 番号 | O7: 2
B9: 変状 部位 | C9: 対象 箇所 | D9: 覆工・坑門 | M9: 変状 部位 | N9: 対象 箇所 | O9: 路面
C11: 部位 区分 | D11: アーチ（左側） | N11: 部位 区分 | O11: 側溝
B13: 変状区分 | D13: 漏水 | M13: 変状区分 | O13: 材質劣化
B14: 変状種類 | D14: 漏水 | M14: 変状種類 | O14: うき・はく離
B15: 対策 区分 | C15: 応急措置前 | M15: 対策 区分 | N15: 応急措置前
C16: 応急措置後 | E16: Ⅱb | N16: 応急措置後 | P16: －
B17: 健全性 | D17: Ⅱ | M17: 健全性 | O17: －
B18: 変状の発生範囲の規模 | E18: 4.6m×0.5m | M18: 変状の発生範囲の規模 | P18: 0.2m×0.5m
B19: 前回定期点検時の状態 | E19: 漏水、にじみ | M19: 前回定期点検時の状態 | P19: 0.2m×0.5mのはく離
B20: 調査方針 | E20: なし | M20: 調査方針 | P20: なし
B21: 対策履歴 | E21: なし | H21: 実施状況（実施日） | M21: 対策履歴 | P21: なし | S21: 実施状況（実施日）
B22: メモ | D22: 導水工からの漏水、にじみ | M22: メモ | O22: 側溝蓋のはく離
B23: 写真 番号 | C23: 覆工 スパン 番号 | D23: S038 | M23: 写真 番号 | N23: 覆工 スパン 番号 | O23: S038
C25: 変状 番号 | D25: 3 | N25: 変状 番号 | O25: 4
B27: 変状 部位 | C27: 対象 箇所 | D27: 路面 | M27: 変状 部位 | N27: 対象 箇所 | O27: 路面
C29: 部位 区分 | D29: 車道 | N29: 部位 区分 | O29: 車道
B31: 変状区分 | D31: 材質劣化 | M31: 変状区分 | O31: 材質劣化
B32: 変状種類 | D32: うき・はく離 | M32: 変状種類 | O32: うき・はく離
B33: 対策 区分 | C33: 応急措置前 | M33: 対策 区分 | N33: 応急措置前
C34: 応急措置後 | E34: － | N34: 応急措置後 | P34: －
B35: 健全性 | D35: － | M35: 健全性 | O35: －
B36: 変状の発生範囲の規模 | E36: 0.3m×0.2m | M36: 変状の発生範囲の規模 | P36: 1.9m×0.1m
B37: 前回定期点検時の状態 | E37: 0.5m×0.25mのうき | M37: 前回定期点検時の状態 | P37: 0.5m×0.05m、0.7m×0.05mのうき
B38: 調査方針 | E38: なし | M38: 調査方針 | P38: なし
B39: 対策履歴 | E39: なし | H39: 実施状況（実施日） | M39: 対策履歴 | P39: なし | S39: 実施状況（実施日）
B40: メモ | D40: 舗装のうき | M40: メモ | O40: 舗装のうき
C41: ※ 健全性の判定区分Ⅱ～Ⅳについて添付すること。また、点検前に実施 された措置によりⅠと判定された箇所も添付すること。 | N41: ※ 変状の発生範囲の規模とは、対策を行う際に参考となる変状の長さや面積をいう。
N42: ※ 応急措置を実施しないで判定した変状の対策区分は、対策区分の応急措置後の欄に記入すること。
C43: ※ たたき落としを実施した場合は、実施後の写真を添付すること。 | N43: ※ 変状の発生範囲の規模は、面積・寸法を記載すること。
C44: ※ 画像データは100kb程度とする。 | N44: (ひび割れ幅のみmmとし、その他をm表記とする)
C45: ※ 変状数に準じてシートを追加すること。（１シートに１ページとすること。） | N45: ※ 構造用鋼材以外の異物に伴ううき・はく離については、メモ欄に異物の概要を記入すること。

Sheet 様式D-1-1 (35)
B2: ■定期点検記録様式 変状写真台帳（トンネル本体工） 【様式D-1-1】
B3: フリガナ | D3: オオガタオ | H3: 路 線 名 | J3: 一般国道316号 | M3: 定期点検業者 | P3: 株式会社オリエンタルコンサルタンツ | S3: 定期点検年月日 | U3: 45280
B4: 名 称 | D4: 大ヶ峠トンネル | H4: 管理者名 | J4: 長門土木建築事務所 | M4: 定期点検者名 | P4: 妹尾 優大
B5: 写真 番号 | C5: 覆工 スパン 番号 | D5: S039 | M5: 写真 番号 | N5: 覆工 スパン 番号 | O5: S039
C7: 変状 番号 | D7: 1 | N7: 変状 番号 | O7: 2
B9: 変状 部位 | C9: 対象 箇所 | D9: 覆工・坑門 | M9: 変状 部位 | N9: 対象 箇所 | O9: 覆工・坑門
C11: 部位 区分 | D11: アーチ（左側） | N11: 部位 区分 | O11: アーチ（右側）
B13: 変状区分 | D13: 材質劣化 | M13: 変状区分 | O13: 漏水
B14: 変状種類 | D14: うき・はく離 | M14: 変状種類 | O14: 漏水
B15: 対策 区分 | C15: 応急措置前 | M15: 対策 区分 | N15: 応急措置前
C16: 応急措置後 | E16: Ⅲ | N16: 応急措置後 | P16: Ⅱb
B17: 健全性 | D17: Ⅲ | M17: 健全性 | O17: Ⅱ
B18: 変状の発生範囲の規模 | E18: 0.2m×0.2m | M18: 変状の発生範囲の規模 | P18: 9.9m×0.5m
B19: 前回定期点検時の状態 | E19: 0.2m×0.2mのうき | M19: 前回定期点検時の状態 | P19: 漏水、にじみ
B20: 調査方針 | E20: なし | M20: 調査方針 | P20: なし
B21: 対策履歴 | E21: なし | H21: 実施状況（実施日） | M21: 対策履歴 | P21: なし | S21: 実施状況（実施日）
B22: メモ | D22: うき | M22: メモ | O22: ひび割れからの漏水、にじみ
B23: 写真 番号 | C23: 覆工 スパン 番号 | D23: S039 | M23: 写真 番号 | N23: 覆工 スパン 番号 | O23: S039
C25: 変状 番号 | D25: 3 | N25: 変状 番号 | O25: 4
B27: 変状 部位 | C27: 対象 箇所 | D27: 覆工・坑門 | M27: 変状 部位 | N27: 対象 箇所 | O27: 覆工・坑門
C29: 部位 区分 | D29: 横断目地（右側） | N29: 部位 区分 | O29: アーチ（右側）
B31: 変状区分 | D31: 漏水 | M31: 変状区分 | O31: 材質劣化
B32: 変状種類 | D32: 漏水 | M32: 変状種類 | O32: うき・はく離
B33: 対策 区分 | C33: 応急措置前 | M33: 対策 区分 | N33: 応急措置前
C34: 応急措置後 | E34: Ⅰ | N34: 応急措置後 | P34: Ⅲ
B35: 健全性 | D35: Ⅰ | M35: 健全性 | O35: Ⅲ
B36: 変状の発生範囲の規模 | E36: - | M36: 変状の発生範囲の規模 | P36: 1.2m×0.05m
B37: 前回定期点検時の状態 | E37: 漏水、にじみ | M37: 前回定期点検時の状態 | P37: 1.2m×0.05mのうき
B38: 調査方針 | E38: なし | M38: 調査方針 | P38: なし
B39: 対策履歴 | E39: なし | H39: 実施状況（実施日） | M39: 対策履歴 | P39: なし | S39: 実施状況（実施日）
B40: メモ | D40: 漏水跡 | M40: メモ | O40: 補修跡のうき
C41: ※ 健全性の判定区分Ⅱ～Ⅳについて添付すること。また、点検前に実施 された措置によりⅠと判定された箇所も添付すること。 | N41: ※ 変状の発生範囲の規模とは、対策を行う際に参考となる変状の長さや面積をいう。
N42: ※ 応急措置を実施しないで判定した変状の対策区分は、対策区分の応急措置後の欄に記入すること。
C43: ※ たたき落としを実施した場合は、実施後の写真を添付すること。 | N43: ※ 変状の発生範囲の規模は、面積・寸法を記載すること。
C44: ※ 画像データは100kb程度とする。 | N44: (ひび割れ幅のみmmとし、その他をm表記とする)
C45: ※ 変状数に準じてシートを追加すること。（１シートに１ページとすること。） | N45: ※ 構造用鋼材以外の異物に伴ううき・はく離については、メモ欄に異物の概要を記入すること。

Sheet 様式D-1-1 (36)
B2: ■定期点検記録様式 変状写真台帳（トンネル本体工） 【様式D-1-1】
B3: フリガナ | D3: オオガタオ | H3: 路 線 名 | J3: 一般国道316号 | M3: 定期点検業者 | P3: 株式会社オリエンタルコンサルタンツ | S3: 定期点検年月日 | U3: 45280
B4: 名 称 | D4: 大ヶ峠トンネル | H4: 管理者名 | J4: 長門土木建築事務所 | M4: 定期点検者名 | P4: 妹尾 優大
B5: 写真 番号 | C5: 覆工 スパン 番号 | D5: S040 | M5: 写真 番号 | N5: 覆工 スパン 番号 | O5: S040
C7: 変状 番号 | D7: 1 | N7: 変状 番号 | O7: 2
B9: 変状 部位 | C9: 対象 箇所 | D9: 覆工・坑門 | M9: 変状 部位 | N9: 対象 箇所 | O9: 覆工・坑門
C11: 部位 区分 | D11: アーチ（左側） | N11: 部位 区分 | O11: アーチ（左側）
B13: 変状区分 | D13: 漏水 | M13: 変状区分 | O13: 外力
B14: 変状種類 | D14: 漏水 | M14: 変状種類 | O14: ひび割れ
B15: 対策 区分 | C15: 応急措置前 | M15: 対策 区分 | N15: 応急措置前
C16: 応急措置後 | E16: Ⅰ | N16: 応急措置後 | P16: Ⅰ
B17: 健全性 | D17: Ⅰ | M17: 健全性 | O17: Ⅰ
B18: 変状の発生範囲の規模 | E18: - | M18: 変状の発生範囲の規模 | P18: -
B19: 前回定期点検時の状態 | E19: 漏水、にじみ | M19: 前回定期点検時の状態 | P19: 3mmのひび割れ
B20: 調査方針 | E20: なし | M20: 調査方針 | P20: なし
B21: 対策履歴 | E21: なし | H21: 実施状況（実施日） | M21: 対策履歴 | P21: ひび割れ注入工 | S21: 実施状況（実施日）
B22: メモ | D22: 漏水跡 | M22: メモ | O22: ひび割れ注入工により対策済み
B23: 写真 番号 | C23: 覆工 スパン 番号 | D23: S040 | M23: 写真 番号 | N23: 覆工 スパン 番号 | O23: S040
C25: 変状 番号 | D25: 3 | N25: 変状 番号 | O25: 4
B27: 変状 部位 | C27: 対象 箇所 | D27: 覆工・坑門 | M27: 変状 部位 | N27: 対象 箇所 | O27: 覆工・坑門
C29: 部位 区分 | D29: アーチ（左側） | N29: 部位 区分 | O29: アーチ（左側）
B31: 変状区分 | D31: 材質劣化 | M31: 変状区分 | O31: 外力
B32: 変状種類 | D32: うき・はく離 | M32: 変状種類 | O32: ひび割れ
B33: 対策 区分 | C33: 応急措置前 | M33: 対策 区分 | N33: 応急措置前
C34: 応急措置後 | E34: Ⅰ | N34: 応急措置後 | P34: Ⅰ
B35: 健全性 | D35: Ⅰ | M35: 健全性 | O35: Ⅰ
B36: 変状の発生範囲の規模 | E36: - | M36: 変状の発生範囲の規模 | P36: -
B37: 前回定期点検時の状態 | E37: 0.05m×0.15mのはく落 | M37: 前回定期点検時の状態 | P37: 5mmのひび割れ
B38: 調査方針 | E38: なし | M38: 調査方針 | P38: なし
B39: 対策履歴 | E39: ひび割れ注入工 | H39: 実施状況（実施日） | M39: 対策履歴 | P39: ひび割れ注入工 | S39: 実施状況（実施日）
B40: メモ | D40: ひび割れ注入工により対策済み | M40: メモ | O40: ひび割れ注入工により対策済み
C41: ※ 健全性の判定区分Ⅱ～Ⅳについて添付すること。また、点検前に実施 された措置によりⅠと判定された箇所も添付すること。 | N41: ※ 変状の発生範囲の規模とは、対策を行う際に参考となる変状の長さや面積をいう。
N42: ※ 応急措置を実施しないで判定した変状の対策区分は、対策区分の応急措置後の欄に記入すること。
C43: ※ たたき落としを実施した場合は、実施後の写真を添付すること。 | N43: ※ 変状の発生範囲の規模は、面積・寸法を記載すること。
C44: ※ 画像データは100kb程度とする。 | N44: (ひび割れ幅のみmmとし、その他をm表記とする)
C45: ※ 変状数に準じてシートを追加すること。（１シートに１ページとすること。） | N45: ※ 構造用鋼材以外の異物に伴ううき・はく離については、メモ欄に異物の概要を記入すること。

Sheet 様式D-1-1 (37)
B2: ■定期点検記録様式 変状写真台帳（トンネル本体工） 【様式D-1-1】
B3: フリガナ | D3: オオガタオ | H3: 路 線 名 | J3: 一般国道316号 | M3: 定期点検業者 | P3: 株式会社オリエンタルコンサルタンツ | S3: 定期点検年月日 | U3: 45280
B4: 名 称 | D4: 大ヶ峠トンネル | H4: 管理者名 | J4: 長門土木建築事務所 | M4: 定期点検者名 | P4: 妹尾 優大
B5: 写真 番号 | C5: 覆工 スパン 番号 | D5: S040 | M5: 写真 番号 | N5: 覆工 スパン 番号 | O5: S040
C7: 変状 番号 | D7: 5 | N7: 変状 番号 | O7: 6
B9: 変状 部位 | C9: 対象 箇所 | D9: 覆工・坑門 | M9: 変状 部位 | N9: 対象 箇所 | O9: 覆工・坑門
C11: 部位 区分 | D11: アーチ（右側） | N11: 部位 区分 | O11: アーチ（右側）
B13: 変状区分 | D13: 漏水 | M13: 変状区分 | O13: 材質劣化
B14: 変状種類 | D14: 漏水 | M14: 変状種類 | O14: うき・はく離
B15: 対策 区分 | C15: 応急措置前 | M15: 対策 区分 | N15: 応急措置前
C16: 応急措置後 | E16: Ⅱb | N16: 応急措置後 | P16: Ⅰ
B17: 健全性 | D17: Ⅱ | M17: 健全性 | O17: Ⅰ
B18: 変状の発生範囲の規模 | E18: 9.6m×0.5m | M18: 変状の発生範囲の規模 | P18: -
B19: 前回定期点検時の状態 | E19: 漏水、にじみ | M19: 前回定期点検時の状態 | P19: 0.05m×0.2mのうき
B20: 調査方針 | E20: なし | M20: 調査方針 | P20: なし
B21: 対策履歴 | E21: なし | H21: 実施状況（実施日） | M21: 対策履歴 | P21: ひび割れ注入工 | S21: 実施状況（実施日）
B22: メモ | D22: 漏水、にじみ | M22: メモ | O22: ひび割れ注入工により対策済み
B23: 写真 番号 | C23: 覆工 スパン 番号 | D23: S040 | M23: 写真 番号 | N23: 覆工 スパン 番号 | O23: S041
C25: 変状 番号 | D25: 7 | N25: 変状 番号 | O25: 1
B27: 変状 部位 | C27: 対象 箇所 | D27: 路面 | M27: 変状 部位 | N27: 対象 箇所 | O27: 覆工・坑門
C29: 部位 区分 | D29: 監査歩路 | N29: 部位 区分 | O29: 横断目地（天端）
B31: 変状区分 | D31: 材質劣化 | M31: 変状区分 | O31: 材質劣化
B32: 変状種類 | D32: うき・はく離 | M32: 変状種類 | O32: その他
B33: 対策 区分 | C33: 応急措置前 | M33: 対策 区分 | N33: 応急措置前
C34: 応急措置後 | E34: － | N34: 応急措置後 | P34: Ⅱa
B35: 健全性 | D35: － | M35: 健全性 | O35: Ⅱ
B36: 変状の発生範囲の規模 | E36: 0.1m×0.5m | M36: 変状の発生範囲の規模 | P36: 4.6m×0.05m
B37: 前回定期点検時の状態 | E37: 0.15m×0.6mのうき | M37: 前回定期点検時の状態 | P37: 4.6m×0.03mの豆板
B38: 調査方針 | E38: なし | M38: 調査方針 | P38: なし
B39: 対策履歴 | E39: なし | H39: 実施状況（実施日） | M39: 対策履歴 | P39: なし | S39: 実施状況（実施日）
B40: メモ | D40: うき | M40: メモ | O40: 横断目地付近の豆板
C41: ※ 健全性の判定区分Ⅱ～Ⅳについて添付すること。また、点検前に実施 された措置によりⅠと判定された箇所も添付すること。 | N41: ※ 変状の発生範囲の規模とは、対策を行う際に参考となる変状の長さや面積をいう。
N42: ※ 応急措置を実施しないで判定した変状の対策区分は、対策区分の応急措置後の欄に記入すること。
C43: ※ たたき落としを実施した場合は、実施後の写真を添付すること。 | N43: ※ 変状の発生範囲の規模は、面積・寸法を記載すること。
C44: ※ 画像データは100kb程度とする。 | N44: (ひび割れ幅のみmmとし、その他をm表記とする)
C45: ※ 変状数に準じてシートを追加すること。（１シートに１ページとすること。） | N45: ※ 構造用鋼材以外の異物に伴ううき・はく離については、メモ欄に異物の概要を記入すること。

Sheet 様式D-1-1 (38)
B2: ■定期点検記録様式 変状写真台帳（トンネル本体工） 【様式D-1-1】
B3: フリガナ | D3: オオガタオ | H3: 路 線 名 | J3: 一般国道316号 | M3: 定期点検業者 | P3: 株式会社オリエンタルコンサルタンツ | S3: 定期点検年月日 | U3: 45280
B4: 名 称 | D4: 大ヶ峠トンネル | H4: 管理者名 | J4: 長門土木建築事務所 | M4: 定期点検者名 | P4: 妹尾 優大
B5: 写真 番号 | C5: 覆工 スパン 番号 | D5: S041 | M5: 写真 番号 | N5: 覆工 スパン 番号 | O5: S041
C7: 変状 番号 | D7: 2 | N7: 変状 番号 | O7: 3
B9: 変状 部位 | C9: 対象 箇所 | D9: 覆工・坑門 | M9: 変状 部位 | N9: 対象 箇所 | O9: 覆工・坑門
C11: 部位 区分 | D11: アーチ（右側） | N11: 部位 区分 | O11: アーチ（右側）
B13: 変状区分 | D13: 漏水 | M13: 変状区分 | O13: 漏水
B14: 変状種類 | D14: 漏水 | M14: 変状種類 | O14: 漏水
B15: 対策 区分 | C15: 応急措置前 | M15: 対策 区分 | N15: 応急措置前
C16: 応急措置後 | E16: Ⅰ | N16: 応急措置後 | P16: Ⅱb
B17: 健全性 | D17: Ⅰ | M17: 健全性 | O17: Ⅱ
B18: 変状の発生範囲の規模 | E18: - | M18: 変状の発生範囲の規模 | P18: 6.4m×0.5m
B19: 前回定期点検時の状態 | E19: 漏水、にじみ | M19: 前回定期点検時の状態 | P19: 漏水、にじみ
B20: 調査方針 | E20: なし | M20: 調査方針 | P20: なし
B21: 対策履歴 | E21: なし | H21: 実施状況（実施日） | M21: 対策履歴 | P21: なし | S21: 実施状況（実施日）
B22: メモ | D22: 漏水跡 | M22: メモ | O22: ひび割れからの漏水、にじみ
B23: 写真 番号 | C23: 覆工 スパン 番号 | D23: S041 | M23: 写真 番号 | N23: 覆工 スパン 番号 | O23: S041
C25: 変状 番号 | D25: 4 | N25: 変状 番号 | O25: 5
B27: 変状 部位 | C27: 対象 箇所 | D27: 覆工・坑門 | M27: 変状 部位 | N27: 対象 箇所 | O27: 路面
C29: 部位 区分 | D29: アーチ（右側） | N29: 部位 区分 | O29: 側溝
B31: 変状区分 | D31: 漏水 | M31: 変状区分 | O31: 材質劣化
B32: 変状種類 | D32: 漏水 | M32: 変状種類 | O32: うき・はく離
B33: 対策 区分 | C33: 応急措置前 | M33: 対策 区分 | N33: 応急措置前
C34: 応急措置後 | E34: Ⅰ | N34: 応急措置後 | P34: －
B35: 健全性 | D35: Ⅰ | M35: 健全性 | O35: －
B36: 変状の発生範囲の規模 | E36: - | M36: 変状の発生範囲の規模 | P36: 0.1m×0.5m
B37: 前回定期点検時の状態 | E37: 漏水、にじみ | M37: 前回定期点検時の状態 | P37: 0.15m×0.5mのうき
B38: 調査方針 | E38: なし | M38: 調査方針 | P38: なし
B39: 対策履歴 | E39: なし | H39: 実施状況（実施日） | M39: 対策履歴 | P39: なし | S39: 実施状況（実施日）
B40: メモ | D40: 漏水跡 | M40: メモ | O40: 側溝蓋のうき
C41: ※ 健全性の判定区分Ⅱ～Ⅳについて添付すること。また、点検前に実施 された措置によりⅠと判定された箇所も添付すること。 | N41: ※ 変状の発生範囲の規模とは、対策を行う際に参考となる変状の長さや面積をいう。
N42: ※ 応急措置を実施しないで判定した変状の対策区分は、対策区分の応急措置後の欄に記入すること。
C43: ※ たたき落としを実施した場合は、実施後の写真を添付すること。 | N43: ※ 変状の発生範囲の規模は、面積・寸法を記載すること。
C44: ※ 画像データは100kb程度とする。 | N44: (ひび割れ幅のみmmとし、その他をm表記とする)
C45: ※ 変状数に準じてシートを追加すること。（１シートに１ページとすること。） | N45: ※ 構造用鋼材以外の異物に伴ううき・はく離については、メモ欄に異物の概要を記入すること。

Sheet 様式D-1-1 (39)
B2: ■定期点検記録様式 変状写真台帳（トンネル本体工） 【様式D-1-1】
B3: フリガナ | D3: オオガタオ | H3: 路 線 名 | J3: 一般国道316号 | M3: 定期点検業者 | P3: 株式会社オリエンタルコンサルタンツ | S3: 定期点検年月日 | U3: 45280
B4: 名 称 | D4: 大ヶ峠トンネル | H4: 管理者名 | J4: 長門土木建築事務所 | M4: 定期点検者名 | P4: 妹尾 優大
B5: 写真 番号 | C5: 覆工 スパン 番号 | D5: S042 | M5: 写真 番号 | N5: 覆工 スパン 番号 | O5: S043
C7: 変状 番号 | D7: 1 | N7: 変状 番号 | O7: 1
B9: 変状 部位 | C9: 対象 箇所 | D9: 覆工・坑門 | M9: 変状 部位 | N9: 対象 箇所 | O9: 覆工・坑門
C11: 部位 区分 | D11: アーチ（右側） | N11: 部位 区分 | O11: アーチ（天端）
B13: 変状区分 | D13: 漏水 | M13: 変状区分 | O13: 材質劣化
B14: 変状種類 | D14: 漏水 | M14: 変状種類 | O14: うき・はく離
B15: 対策 区分 | C15: 応急措置前 | M15: 対策 区分 | N15: 応急措置前
C16: 応急措置後 | E16: Ⅰ | N16: 応急措置後 | P16: Ⅲ
B17: 健全性 | D17: Ⅰ | M17: 健全性 | O17: Ⅲ
B18: 変状の発生範囲の規模 | E18: - | M18: 変状の発生範囲の規模 | P18: 2.6m×0.05m
B19: 前回定期点検時の状態 | E19: 漏水、にじみ | M19: 前回定期点検時の状態 | P19: 2.6m×0.05mのうき
B20: 調査方針 | E20: なし | M20: 調査方針 | P20: なし
B21: 対策履歴 | E21: なし | H21: 実施状況（実施日） | M21: 対策履歴 | P21: なし | S21: 実施状況（実施日）
B22: メモ | D22: 漏水跡 | M22: メモ | O22: 補修跡のうき
B23: 写真 番号 | C23: 覆工 スパン 番号 | D23: S043 | M23: 写真 番号 | N23: 覆工 スパン 番号 | O23: S043
C25: 変状 番号 | D25: 2 | N25: 変状 番号 | O25: 3
B27: 変状 部位 | C27: 対象 箇所 | D27: 路面 | M27: 変状 部位 | N27: 対象 箇所 | O27: 路面
C29: 部位 区分 | D29: 監査歩路 | N29: 部位 区分 | O29: 車道
B31: 変状区分 | D31: 材質劣化 | M31: 変状区分 | O31: 材質劣化
B32: 変状種類 | D32: うき・はく離 | M32: 変状種類 | O32: うき・はく離
B33: 対策 区分 | C33: 応急措置前 | M33: 対策 区分 | N33: 応急措置前
C34: 応急措置後 | E34: － | N34: 応急措置後 | P34: －
B35: 健全性 | D35: － | M35: 健全性 | O35: －
B36: 変状の発生範囲の規模 | E36: - | M36: 変状の発生範囲の規模 | P36: 0.4m×0.05m
B37: 前回定期点検時の状態 | E37: 0.15m×0.45mの欠損 | M37: 前回定期点検時の状態 | P37: 0.4m×0.05mのうき
B38: 調査方針 | E38: なし | M38: 調査方針 | P38: なし
B39: 対策履歴 | E39: 断面修復工 | H39: 実施状況（実施日） | M39: 対策履歴 | P39: なし | S39: 実施状況（実施日）
B40: メモ | D40: 断面修復工により対策済み | M40: メモ | O40: 舗装のうき
C41: ※ 健全性の判定区分Ⅱ～Ⅳについて添付すること。また、点検前に実施 された措置によりⅠと判定された箇所も添付すること。 | N41: ※ 変状の発生範囲の規模とは、対策を行う際に参考となる変状の長さや面積をいう。
N42: ※ 応急措置を実施しないで判定した変状の対策区分は、対策区分の応急措置後の欄に記入すること。
C43: ※ たたき落としを実施した場合は、実施後の写真を添付すること。 | N43: ※ 変状の発生範囲の規模は、面積・寸法を記載すること。
C44: ※ 画像データは100kb程度とする。 | N44: (ひび割れ幅のみmmとし、その他をm表記とする)
C45: ※ 変状数に準じてシートを追加すること。（１シートに１ページとすること。） | N45: ※ 構造用鋼材以外の異物に伴ううき・はく離については、メモ欄に異物の概要を記入すること。

Sheet 様式D-1-1 (40)
B2: ■定期点検記録様式 変状写真台帳（トンネル本体工） 【様式D-1-1】
B3: フリガナ | D3: オオガタオ | H3: 路 線 名 | J3: 一般国道316号 | M3: 定期点検業者 | P3: 株式会社オリエンタルコンサルタンツ | S3: 定期点検年月日 | U3: 45280
B4: 名 称 | D4: 大ヶ峠トンネル | H4: 管理者名 | J4: 長門土木建築事務所 | M4: 定期点検者名 | P4: 妹尾 優大
B5: 写真 番号 | C5: 覆工 スパン 番号 | D5: S043 | M5: 写真 番号 | N5: 覆工 スパン 番号 | O5: S045
C7: 変状 番号 | D7: 4 | N7: 変状 番号 | O7: 1
B9: 変状 部位 | C9: 対象 箇所 | D9: 路面 | M9: 変状 部位 | N9: 対象 箇所 | O9: 覆工・坑門
C11: 部位 区分 | D11: 車道 | N11: 部位 区分 | O11: 横断目地（天端）
B13: 変状区分 | D13: 材質劣化 | M13: 変状区分 | O13: 材質劣化
B14: 変状種類 | D14: うき・はく離 | M14: 変状種類 | O14: 鋼材腐食
B15: 対策 区分 | C15: 応急措置前 | M15: 対策 区分 | N15: 応急措置前
C16: 応急措置後 | E16: － | N16: 応急措置後 | P16: Ⅱb
B17: 健全性 | D17: － | M17: 健全性 | O17: Ⅱ
B18: 変状の発生範囲の規模 | E18: 0.25m×0.25m | M18: 変状の発生範囲の規模 | P18: 0.7m×0.2m
B19: 前回定期点検時の状態 | E19: 0.25m×0.25mのうき | M19: 前回定期点検時の状態 | P19: 0.7m×0.2mの鉄筋露出
B20: 調査方針 | E20: なし | M20: 調査方針 | P20: なし
B21: 対策履歴 | E21: なし | H21: 実施状況（実施日） | M21: 対策履歴 | P21: なし | S21: 実施状況（実施日）
B22: メモ | D22: 舗装のうき | M22: メモ | O22: 鉄筋露出
B23: 写真 番号 | C23: 覆工 スパン 番号 | D23: S045 | M23: 写真 番号 | N23: 覆工 スパン 番号 | O23: S046
C25: 変状 番号 | D25: 2 | N25: 変状 番号 | O25: 1
B27: 変状 部位 | C27: 対象 箇所 | D27: 路面 | M27: 変状 部位 | N27: 対象 箇所 | O27: 覆工・坑門
C29: 部位 区分 | D29: 側溝 | N29: 部位 区分 | O29: アーチ（天端）
B31: 変状区分 | D31: 材質劣化 | M31: 変状区分 | O31: 漏水
B32: 変状種類 | D32: うき・はく離 | M32: 変状種類 | O32: 漏水
B33: 対策 区分 | C33: 応急措置前 | M33: 対策 区分 | N33: 応急措置前
C34: 応急措置後 | E34: － | N34: 応急措置後 | P34: Ⅰ
B35: 健全性 | D35: － | M35: 健全性 | O35: Ⅰ
B36: 変状の発生範囲の規模 | E36: 0.2m×0.5m | M36: 変状の発生範囲の規模 | P36: -
B37: 前回定期点検時の状態 | E37: 0.15m×0.5mのうき | M37: 前回定期点検時の状態 | P37: 漏水、にじみ
B38: 調査方針 | E38: なし | M38: 調査方針 | P38: なし
B39: 対策履歴 | E39: なし | H39: 実施状況（実施日） | M39: 対策履歴 | P39: なし | S39: 実施状況（実施日）
B40: メモ | D40: 側溝蓋のはく離 | M40: メモ | O40: 漏水跡
C41: ※ 健全性の判定区分Ⅱ～Ⅳについて添付すること。また、点検前に実施 された措置によりⅠと判定された箇所も添付すること。 | N41: ※ 変状の発生範囲の規模とは、対策を行う際に参考となる変状の長さや面積をいう。
N42: ※ 応急措置を実施しないで判定した変状の対策区分は、対策区分の応急措置後の欄に記入すること。
C43: ※ たたき落としを実施した場合は、実施後の写真を添付すること。 | N43: ※ 変状の発生範囲の規模は、面積・寸法を記載すること。
C44: ※ 画像データは100kb程度とする。 | N44: (ひび割れ幅のみmmとし、その他をm表記とする)
C45: ※ 変状数に準じてシートを追加すること。（１シートに１ページとすること。） | N45: ※ 構造用鋼材以外の異物に伴ううき・はく離については、メモ欄に異物の概要を記入すること。

Sheet 様式D-1-1 (41)
B2: ■定期点検記録様式 変状写真台帳（トンネル本体工） 【様式D-1-1】
B3: フリガナ | D3: オオガタオ | H3: 路 線 名 | J3: 一般国道316号 | M3: 定期点検業者 | P3: 株式会社オリエンタルコンサルタンツ | S3: 定期点検年月日 | U3: 45280
B4: 名 称 | D4: 大ヶ峠トンネル | H4: 管理者名 | J4: 長門土木建築事務所 | M4: 定期点検者名 | P4: 妹尾 優大
B5: 写真 番号 | C5: 覆工 スパン 番号 | D5: S046 | M5: 写真 番号 | N5: 覆工 スパン 番号 | O5: S046
C7: 変状 番号 | D7: 2 | N7: 変状 番号 | O7: 3
B9: 変状 部位 | C9: 対象 箇所 | D9: 覆工・坑門 | M9: 変状 部位 | N9: 対象 箇所 | O9: 覆工・坑門
C11: 部位 区分 | D11: アーチ（右側） | N11: 部位 区分 | O11: 側壁（右側）
B13: 変状区分 | D13: 漏水 | M13: 変状区分 | O13: 漏水
B14: 変状種類 | D14: 漏水 | M14: 変状種類 | O14: 漏水
B15: 対策 区分 | C15: 応急措置前 | M15: 対策 区分 | N15: 応急措置前
C16: 応急措置後 | E16: Ⅱb | N16: 応急措置後 | P16: Ⅰ
B17: 健全性 | D17: Ⅱ | M17: 健全性 | O17: Ⅰ
B18: 変状の発生範囲の規模 | E18: 5.8m×0.5m | M18: 変状の発生範囲の規模 | P18: -
B19: 前回定期点検時の状態 | E19: 漏水、にじみ | M19: 前回定期点検時の状態 | P19: 漏水、にじみ
B20: 調査方針 | E20: なし | M20: 調査方針 | P20: なし
B21: 対策履歴 | E21: なし | H21: 実施状況（実施日） | M21: 対策履歴 | P21: なし | S21: 実施状況（実施日）
B22: メモ | D22: ひび割れからの漏水、にじみ | M22: メモ | O22: 漏水跡
B23: 写真 番号 | C23: 覆工 スパン 番号 | D23: S047 | M23: 写真 番号 | N23: 覆工 スパン 番号 | O23: S047
C25: 変状 番号 | D25: 1 | N25: 変状 番号 | O25: 2
B27: 変状 部位 | C27: 対象 箇所 | D27: 覆工・坑門 | M27: 変状 部位 | N27: 対象 箇所 | O27: 覆工・坑門
C29: 部位 区分 | D29: 側壁（左側） | N29: 部位 区分 | O29: アーチ（天端）
B31: 変状区分 | D31: 漏水 | M31: 変状区分 | O31: 材質劣化
B32: 変状種類 | D32: 漏水 | M32: 変状種類 | O32: その他
B33: 対策 区分 | C33: 応急措置前 | M33: 対策 区分 | N33: 応急措置前
C34: 応急措置後 | E34: Ⅰ | N34: 応急措置後 | P34: Ⅱb
B35: 健全性 | D35: Ⅰ | M35: 健全性 | O35: Ⅱ
B36: 変状の発生範囲の規模 | E36: - | M36: 変状の発生範囲の規模 | P36: 0.2m×0.05m
B37: 前回定期点検時の状態 | E37: 漏水、にじみ | M37: 前回定期点検時の状態 | P37: 0.2m×0.05mの異物混入(木片)
B38: 調査方針 | E38: なし | M38: 調査方針 | P38: なし
B39: 対策履歴 | E39: なし | H39: 実施状況（実施日） | M39: 対策履歴 | P39: なし | S39: 実施状況（実施日）
B40: メモ | D40: 漏水跡 | M40: メモ | O40: 異物混入(木片)
C41: ※ 健全性の判定区分Ⅱ～Ⅳについて添付すること。また、点検前に実施 された措置によりⅠと判定された箇所も添付すること。 | N41: ※ 変状の発生範囲の規模とは、対策を行う際に参考となる変状の長さや面積をいう。
N42: ※ 応急措置を実施しないで判定した変状の対策区分は、対策区分の応急措置後の欄に記入すること。
C43: ※ たたき落としを実施した場合は、実施後の写真を添付すること。 | N43: ※ 変状の発生範囲の規模は、面積・寸法を記載すること。
C44: ※ 画像データは100kb程度とする。 | N44: (ひび割れ幅のみmmとし、その他をm表記とする)
C45: ※ 変状数に準じてシートを追加すること。（１シートに１ページとすること。） | N45: ※ 構造用鋼材以外の異物に伴ううき・はく離については、メモ欄に異物の概要を記入すること。

Sheet 様式D-1-1 (42)
B2: ■定期点検記録様式 変状写真台帳（トンネル本体工） 【様式D-1-1】
B3: フリガナ | D3: オオガタオ | H3: 路 線 名 | J3: 一般国道316号 | M3: 定期点検業者 | P3: 株式会社オリエンタルコンサルタンツ | S3: 定期点検年月日 | U3: 45280
B4: 名 称 | D4: 大ヶ峠トンネル | H4: 管理者名 | J4: 長門土木建築事務所 | M4: 定期点検者名 | P4: 妹尾 優大
B5: 写真 番号 | C5: 覆工 スパン 番号 | D5: S048 | M5: 写真 番号 | N5: 覆工 スパン 番号 | O5: S048
C7: 変状 番号 | D7: 1 | N7: 変状 番号 | O7: 2
B9: 変状 部位 | C9: 対象 箇所 | D9: 内装板 | M9: 変状 部位 | N9: 対象 箇所 | O9: 覆工・坑門
C11: 部位 区分 | D11: 側壁 | N11: 部位 区分 | O11: 横断目地（左側）
B13: 変状区分 | D13: 材質劣化 | M13: 変状区分 | O13: 漏水
B14: 変状種類 | D14: その他 | M14: 変状種類 | O14: 漏水
B15: 対策 区分 | C15: 応急措置前 | M15: 対策 区分 | N15: 応急措置前
C16: 応急措置後 | N16: 応急措置後 | P16: Ⅱa
B17: 健全性 | M17: 健全性 | O17: Ⅱ
B18: 変状の発生範囲の規模 | E18: - | M18: 変状の発生範囲の規模 | P18: 4.9m×0.5m
B19: 前回定期点検時の状態 | E19: - | M19: 前回定期点検時の状態 | P19: 漏水、にじみ
B20: 調査方針 | E20: なし | M20: 調査方針 | P20: なし
B21: 対策履歴 | E21: なし | H21: 実施状況（実施日） | M21: 対策履歴 | P21: なし | S21: 実施状況（実施日）
B22: メモ | D22: 内装板(止め金具)破損 | M22: メモ | O22: 導水工からの漏水、滴水
B23: 写真 番号 | C23: 覆工 スパン 番号 | D23: S048 | M23: 写真 番号 | N23: 覆工 スパン 番号 | O23: S048
C25: 変状 番号 | D25: 3 | N25: 変状 番号 | O25: 4
B27: 変状 部位 | C27: 対象 箇所 | D27: 覆工・坑門 | M27: 変状 部位 | N27: 対象 箇所 | O27: 覆工・坑門
C29: 部位 区分 | D29: 横断目地（左側） | N29: 部位 区分 | O29: 横断目地（天端）
B31: 変状区分 | D31: 材質劣化 | M31: 変状区分 | O31: 漏水
B32: 変状種類 | D32: うき・はく離 | M32: 変状種類 | O32: 漏水
B33: 対策 区分 | C33: 応急措置前 | M33: 対策 区分 | N33: 応急措置前
C34: 応急措置後 | E34: Ⅲ | N34: 応急措置後 | P34: Ⅰ
B35: 健全性 | D35: Ⅲ | M35: 健全性 | O35: Ⅰ
B36: 変状の発生範囲の規模 | E36: 0.3m×0.2m | M36: 変状の発生範囲の規模 | P36: -
B37: 前回定期点検時の状態 | E37: - | M37: 前回定期点検時の状態 | P37: 漏水、にじみ
B38: 調査方針 | E38: なし | M38: 調査方針 | P38: なし
B39: 対策履歴 | E39: なし | H39: 実施状況（実施日） | M39: 対策履歴 | P39: なし | S39: 実施状況（実施日）
B40: メモ | D40: 補修跡のうき | M40: メモ | O40: 漏水跡
C41: ※ 健全性の判定区分Ⅱ～Ⅳについて添付すること。また、点検前に実施 された措置によりⅠと判定された箇所も添付すること。 | N41: ※ 変状の発生範囲の規模とは、対策を行う際に参考となる変状の長さや面積をいう。
N42: ※ 応急措置を実施しないで判定した変状の対策区分は、対策区分の応急措置後の欄に記入すること。
C43: ※ たたき落としを実施した場合は、実施後の写真を添付すること。 | N43: ※ 変状の発生範囲の規模は、面積・寸法を記載すること。
C44: ※ 画像データは100kb程度とする。 | N44: (ひび割れ幅のみmmとし、その他をm表記とする)
C45: ※ 変状数に準じてシートを追加すること。（１シートに１ページとすること。） | N45: ※ 構造用鋼材以外の異物に伴ううき・はく離については、メモ欄に異物の概要を記入すること。

Sheet 様式D-1-1 (43)
B2: ■定期点検記録様式 変状写真台帳（トンネル本体工） 【様式D-1-1】
B3: フリガナ | D3: オオガタオ | H3: 路 線 名 | J3: 一般国道316号 | M3: 定期点検業者 | P3: 株式会社オリエンタルコンサルタンツ | S3: 定期点検年月日 | U3: 45280
B4: 名 称 | D4: 大ヶ峠トンネル | H4: 管理者名 | J4: 長門土木建築事務所 | M4: 定期点検者名 | P4: 妹尾 優大
B5: 写真 番号 | C5: 覆工 スパン 番号 | D5: S048 | M5: 写真 番号 | N5: 覆工 スパン 番号 | O5: S048
C7: 変状 番号 | D7: 5 | N7: 変状 番号 | O7: 6
B9: 変状 部位 | C9: 対象 箇所 | D9: 覆工・坑門 | M9: 変状 部位 | N9: 対象 箇所 | O9: 覆工・坑門
C11: 部位 区分 | D11: アーチ（右側） | N11: 部位 区分 | O11: 横断目地（天端）
B13: 変状区分 | D13: 漏水 | M13: 変状区分 | O13: 漏水
B14: 変状種類 | D14: 漏水 | M14: 変状種類 | O14: 漏水
B15: 対策 区分 | C15: 応急措置前 | M15: 対策 区分 | N15: 応急措置前
C16: 応急措置後 | E16: Ⅰ | N16: 応急措置後 | P16: Ⅱb
B17: 健全性 | D17: Ⅰ | M17: 健全性 | O17: Ⅱ
B18: 変状の発生範囲の規模 | E18: - | M18: 変状の発生範囲の規模 | P18: 8.1m×0.5m
B19: 前回定期点検時の状態 | E19: 漏水、にじみ | M19: 前回定期点検時の状態 | P19: 漏水、にじみ
B20: 調査方針 | E20: なし | M20: 調査方針 | P20: なし
B21: 対策履歴 | E21: なし | H21: 実施状況（実施日） | M21: 対策履歴 | P21: なし | S21: 実施状況（実施日）
B22: メモ | D22: 漏水跡 | M22: メモ | O22: 横断目地からの漏水、にじみ
B23: 写真 番号 | C23: 覆工 スパン 番号 | D23: S048 | M23: 写真 番号 | N23: 覆工 スパン 番号 | O23: S048
C25: 変状 番号 | D25: 7 | N25: 変状 番号 | O25: 8
B27: 変状 部位 | C27: 対象 箇所 | D27: 路面 | M27: 変状 部位 | N27: 対象 箇所 | O27: 路面
C29: 部位 区分 | D29: 監査歩路 | N29: 部位 区分 | O29: 車道
B31: 変状区分 | D31: 漏水 | M31: 変状区分 | O31: 材質劣化
B32: 変状種類 | D32: 滞水 | M32: 変状種類 | O32: うき・はく離
B33: 対策 区分 | C33: 応急措置前 | M33: 対策 区分 | N33: 応急措置前
C34: 応急措置後 | E34: － | N34: 応急措置後 | P34: －
B35: 健全性 | D35: － | M35: 健全性 | O35: －
B36: 変状の発生範囲の規模 | E36: 0.4m×51.5m | M36: 変状の発生範囲の規模 | P36: 0.5m×0.4m
B37: 前回定期点検時の状態 | E37: - | M37: 前回定期点検時の状態 | P37: 0.45m×0.35mのうき
B38: 調査方針 | E38: なし | M38: 調査方針 | P38: なし
B39: 対策履歴 | E39: なし | H39: 実施状況（実施日） | M39: 対策履歴 | P39: なし | S39: 実施状況（実施日）
B40: メモ | D40: 滞水 | M40: メモ | O40: 舗装のうき
C41: ※ 健全性の判定区分Ⅱ～Ⅳについて添付すること。また、点検前に実施 された措置によりⅠと判定された箇所も添付すること。 | N41: ※ 変状の発生範囲の規模とは、対策を行う際に参考となる変状の長さや面積をいう。
N42: ※ 応急措置を実施しないで判定した変状の対策区分は、対策区分の応急措置後の欄に記入すること。
C43: ※ たたき落としを実施した場合は、実施後の写真を添付すること。 | N43: ※ 変状の発生範囲の規模は、面積・寸法を記載すること。
C44: ※ 画像データは100kb程度とする。 | N44: (ひび割れ幅のみmmとし、その他をm表記とする)
C45: ※ 変状数に準じてシートを追加すること。（１シートに１ページとすること。） | N45: ※ 構造用鋼材以外の異物に伴ううき・はく離については、メモ欄に異物の概要を記入すること。

Sheet 様式D-1-1 (44)
B2: ■定期点検記録様式 変状写真台帳（トンネル本体工） 【様式D-1-1】
B3: フリガナ | D3: オオガタオ | H3: 路 線 名 | J3: 一般国道316号 | M3: 定期点検業者 | P3: 株式会社オリエンタルコンサルタンツ | S3: 定期点検年月日 | U3: 45280
B4: 名 称 | D4: 大ヶ峠トンネル | H4: 管理者名 | J4: 長門土木建築事務所 | M4: 定期点検者名 | P4: 妹尾 優大
B5: 写真 番号 | C5: 覆工 スパン 番号 | D5: S049 | M5: 写真 番号 | N5: 覆工 スパン 番号 | O5: S049
C7: 変状 番号 | D7: 1 | N7: 変状 番号 | O7: 2
B9: 変状 部位 | C9: 対象 箇所 | D9: 覆工・坑門 | M9: 変状 部位 | N9: 対象 箇所 | O9: 覆工・坑門
C11: 部位 区分 | D11: 側壁（左側） | N11: 部位 区分 | O11: 側壁（左側）
B13: 変状区分 | D13: 漏水 | M13: 変状区分 | O13: 漏水
B14: 変状種類 | D14: 漏水 | M14: 変状種類 | O14: 漏水
B15: 対策 区分 | C15: 応急措置前 | M15: 対策 区分 | N15: 応急措置前
C16: 応急措置後 | E16: Ⅰ | N16: 応急措置後 | P16: Ⅰ
B17: 健全性 | D17: Ⅰ | M17: 健全性 | O17: Ⅰ
B18: 変状の発生範囲の規模 | E18: - | M18: 変状の発生範囲の規模 | P18: -
B19: 前回定期点検時の状態 | E19: 漏水、にじみ | M19: 前回定期点検時の状態 | P19: -
B20: 調査方針 | E20: なし | M20: 調査方針 | P20: なし
B21: 対策履歴 | E21: なし | H21: 実施状況（実施日） | M21: 対策履歴 | P21: なし | S21: 実施状況（実施日）
B22: メモ | D22: 漏水、にじみ | M22: メモ | O22: 漏水、にじみ
B23: 写真 番号 | C23: 覆工 スパン 番号 | D23: S049 | M23: 写真 番号 | N23: 覆工 スパン 番号 | O23: S049
C25: 変状 番号 | D25: 3 | N25: 変状 番号 | O25: 4
B27: 変状 部位 | C27: 対象 箇所 | D27: 覆工・坑門 | M27: 変状 部位 | N27: 対象 箇所 | O27: 路面
C29: 部位 区分 | D29: 側壁（右側） | N29: 部位 区分 | O29: 監査歩路
B31: 変状区分 | D31: 漏水 | M31: 変状区分 | O31: 漏水
B32: 変状種類 | D32: 漏水 | M32: 変状種類 | O32: 滞水
B33: 対策 区分 | C33: 応急措置前 | M33: 対策 区分 | N33: 応急措置前
C34: 応急措置後 | E34: Ⅰ | N34: 応急措置後 | P34: －
B35: 健全性 | D35: Ⅰ | M35: 健全性 | O35: －
B36: 変状の発生範囲の規模 | E36: - | M36: 変状の発生範囲の規模 | P36: 0.3m×7.7m
B37: 前回定期点検時の状態 | E37: 漏水、にじみ | M37: 前回定期点検時の状態 | P37: -
B38: 調査方針 | E38: なし | M38: 調査方針 | P38: なし
B39: 対策履歴 | E39: なし | H39: 実施状況（実施日） | M39: 対策履歴 | P39: なし | S39: 実施状況（実施日）
B40: メモ | D40: 漏水、にじみ | M40: メモ | O40: 滞水
C41: ※ 健全性の判定区分Ⅱ～Ⅳについて添付すること。また、点検前に実施 された措置によりⅠと判定された箇所も添付すること。 | N41: ※ 変状の発生範囲の規模とは、対策を行う際に参考となる変状の長さや面積をいう。
N42: ※ 応急措置を実施しないで判定した変状の対策区分は、対策区分の応急措置後の欄に記入すること。
C43: ※ たたき落としを実施した場合は、実施後の写真を添付すること。 | N43: ※ 変状の発生範囲の規模は、面積・寸法を記載すること。
C44: ※ 画像データは100kb程度とする。 | N44: (ひび割れ幅のみmmとし、その他をm表記とする)
C45: ※ 変状数に準じてシートを追加すること。（１シートに１ページとすること。） | N45: ※ 構造用鋼材以外の異物に伴ううき・はく離については、メモ欄に異物の概要を記入すること。

Sheet 様式D-1-1 (45)
B2: ■定期点検記録様式 変状写真台帳（トンネル本体工） 【様式D-1-1】
B3: フリガナ | D3: オオガタオ | H3: 路 線 名 | J3: 一般国道316号 | M3: 定期点検業者 | P3: 株式会社オリエンタルコンサルタンツ | S3: 定期点検年月日 | U3: 45280
B4: 名 称 | D4: 大ヶ峠トンネル | H4: 管理者名 | J4: 長門土木建築事務所 | M4: 定期点検者名 | P4: 妹尾 優大
B5: 写真 番号 | C5: 覆工 スパン 番号 | D5: S050 | M5: 写真 番号 | N5: 覆工 スパン 番号 | O5: S050
C7: 変状 番号 | D7: 1 | N7: 変状 番号 | O7: 2
B9: 変状 部位 | C9: 対象 箇所 | D9: 覆工・坑門 | M9: 変状 部位 | N9: 対象 箇所 | O9: 覆工・坑門
C11: 部位 区分 | D11: 側壁（左側） | N11: 部位 区分 | O11: アーチ（左側）
B13: 変状区分 | D13: 漏水 | M13: 変状区分 | O13: 漏水
B14: 変状種類 | D14: 漏水 | M14: 変状種類 | O14: 漏水
B15: 対策 区分 | C15: 応急措置前 | M15: 対策 区分 | N15: 応急措置前
C16: 応急措置後 | E16: Ⅰ | N16: 応急措置後 | P16: Ⅱb
B17: 健全性 | D17: Ⅰ | M17: 健全性 | O17: Ⅱ
B18: 変状の発生範囲の規模 | E18: - | M18: 変状の発生範囲の規模 | P18: 5.4m×0.5m
B19: 前回定期点検時の状態 | E19: - | M19: 前回定期点検時の状態 | P19: 漏水、にじみ
B20: 調査方針 | E20: なし | M20: 調査方針 | P20: なし
B21: 対策履歴 | E21: なし | H21: 実施状況（実施日） | M21: 対策履歴 | P21: なし | S21: 実施状況（実施日）
B22: メモ | D22: 漏水、にじみ | M22: メモ | O22: ひび割れからの漏水、にじみ
B23: 写真 番号 | C23: 覆工 スパン 番号 | D23: S050 | M23: 写真 番号 | N23: 覆工 スパン 番号 | O23: S050
C25: 変状 番号 | D25: 3 | N25: 変状 番号 | O25: 4
B27: 変状 部位 | C27: 対象 箇所 | D27: 覆工・坑門 | M27: 変状 部位 | N27: 対象 箇所 | O27: 覆工・坑門
C29: 部位 区分 | D29: アーチ（左側） | N29: 部位 区分 | O29: 側壁（右側）
B31: 変状区分 | D31: 漏水 | M31: 変状区分 | O31: 漏水
B32: 変状種類 | D32: 漏水 | M32: 変状種類 | O32: 漏水
B33: 対策 区分 | C33: 応急措置前 | M33: 対策 区分 | N33: 応急措置前
C34: 応急措置後 | E34: Ⅰ | N34: 応急措置後 | P34: Ⅰ
B35: 健全性 | D35: Ⅰ | M35: 健全性 | O35: Ⅰ
B36: 変状の発生範囲の規模 | E36: - | M36: 変状の発生範囲の規模 | P36: -
B37: 前回定期点検時の状態 | E37: 漏水、にじみ | M37: 前回定期点検時の状態 | P37: 漏水、流下
B38: 調査方針 | E38: なし | M38: 調査方針 | P38: なし
B39: 対策履歴 | E39: なし | H39: 実施状況（実施日） | M39: 対策履歴 | P39: なし | S39: 実施状況（実施日）
B40: メモ | D40: 漏水跡 | M40: メモ | O40: 漏水、にじみ
C41: ※ 健全性の判定区分Ⅱ～Ⅳについて添付すること。また、点検前に実施 された措置によりⅠと判定された箇所も添付すること。 | N41: ※ 変状の発生範囲の規模とは、対策を行う際に参考となる変状の長さや面積をいう。
N42: ※ 応急措置を実施しないで判定した変状の対策区分は、対策区分の応急措置後の欄に記入すること。
C43: ※ たたき落としを実施した場合は、実施後の写真を添付すること。 | N43: ※ 変状の発生範囲の規模は、面積・寸法を記載すること。
C44: ※ 画像データは100kb程度とする。 | N44: (ひび割れ幅のみmmとし、その他をm表記とする)
C45: ※ 変状数に準じてシートを追加すること。（１シートに１ページとすること。） | N45: ※ 構造用鋼材以外の異物に伴ううき・はく離については、メモ欄に異物の概要を記入すること。

Sheet 様式D-1-1 (46)
B2: ■定期点検記録様式 変状写真台帳（トンネル本体工） 【様式D-1-1】
B3: フリガナ | D3: オオガタオ | H3: 路 線 名 | J3: 一般国道316号 | M3: 定期点検業者 | P3: 株式会社オリエンタルコンサルタンツ | S3: 定期点検年月日 | U3: 45280
B4: 名 称 | D4: 大ヶ峠トンネル | H4: 管理者名 | J4: 長門土木建築事務所 | M4: 定期点検者名 | P4: 妹尾 優大
B5: 写真 番号 | C5: 覆工 スパン 番号 | D5: S050 | M5: 写真 番号 | N5: 覆工 スパン 番号 | O5: S050
C7: 変状 番号 | D7: 5 | N7: 変状 番号 | O7: 6
B9: 変状 部位 | C9: 対象 箇所 | D9: 覆工・坑門 | M9: 変状 部位 | N9: 対象 箇所 | O9: 路面
C11: 部位 区分 | D11: 側壁（右側） | N11: 部位 区分 | O11: 監査歩路
B13: 変状区分 | D13: 漏水 | M13: 変状区分 | O13: 漏水
B14: 変状種類 | D14: 漏水 | M14: 変状種類 | O14: 滞水
B15: 対策 区分 | C15: 応急措置前 | M15: 対策 区分 | N15: 応急措置前
C16: 応急措置後 | E16: Ⅰ | N16: 応急措置後 | P16: －
B17: 健全性 | D17: Ⅰ | M17: 健全性 | O17: －
B18: 変状の発生範囲の規模 | E18: - | M18: 変状の発生範囲の規模 | P18: 0.3m×11.0m
B19: 前回定期点検時の状態 | E19: - | M19: 前回定期点検時の状態 | P19: -
B20: 調査方針 | E20: なし | M20: 調査方針 | P20: なし
B21: 対策履歴 | E21: なし | H21: 実施状況（実施日） | M21: 対策履歴 | P21: なし | S21: 実施状況（実施日）
B22: メモ | D22: 漏水、にじみ | M22: メモ | O22: 滞水
B23: 写真 番号 | C23: 覆工 スパン 番号 | D23: S051 | M23: 写真 番号 | N23: 覆工 スパン 番号 | O23: S051
C25: 変状 番号 | D25: 1 | N25: 変状 番号 | O25: 2
B27: 変状 部位 | C27: 対象 箇所 | D27: 覆工・坑門 | M27: 変状 部位 | N27: 対象 箇所 | O27: 覆工・坑門
C29: 部位 区分 | D29: 側壁（左側） | N29: 部位 区分 | O29: 側壁（左側）
B31: 変状区分 | D31: 漏水 | M31: 変状区分 | O31: 漏水
B32: 変状種類 | D32: 漏水 | M32: 変状種類 | O32: 漏水
B33: 対策 区分 | C33: 応急措置前 | M33: 対策 区分 | N33: 応急措置前
C34: 応急措置後 | E34: Ⅰ | N34: 応急措置後 | P34: Ⅰ
B35: 健全性 | D35: Ⅰ | M35: 健全性 | O35: Ⅰ
B36: 変状の発生範囲の規模 | E36: - | M36: 変状の発生範囲の規模 | P36: -
B37: 前回定期点検時の状態 | E37: 漏水、にじみ | M37: 前回定期点検時の状態 | P37: -
B38: 調査方針 | E38: なし | M38: 調査方針 | P38: なし
B39: 対策履歴 | E39: なし | H39: 実施状況（実施日） | M39: 対策履歴 | P39: なし | S39: 実施状況（実施日）
B40: メモ | D40: 漏水、にじみ | M40: メモ | O40: 漏水、にじみ
C41: ※ 健全性の判定区分Ⅱ～Ⅳについて添付すること。また、点検前に実施 された措置によりⅠと判定された箇所も添付すること。 | N41: ※ 変状の発生範囲の規模とは、対策を行う際に参考となる変状の長さや面積をいう。
N42: ※ 応急措置を実施しないで判定した変状の対策区分は、対策区分の応急措置後の欄に記入すること。
C43: ※ たたき落としを実施した場合は、実施後の写真を添付すること。 | N43: ※ 変状の発生範囲の規模は、面積・寸法を記載すること。
C44: ※ 画像データは100kb程度とする。 | N44: (ひび割れ幅のみmmとし、その他をm表記とする)
C45: ※ 変状数に準じてシートを追加すること。（１シートに１ページとすること。） | N45: ※ 構造用鋼材以外の異物に伴ううき・はく離については、メモ欄に異物の概要を記入すること。

Sheet 様式D-1-1 (47)
B2: ■定期点検記録様式 変状写真台帳（トンネル本体工） 【様式D-1-1】
B3: フリガナ | D3: オオガタオ | H3: 路 線 名 | J3: 一般国道316号 | M3: 定期点検業者 | P3: 株式会社オリエンタルコンサルタンツ | S3: 定期点検年月日 | U3: 45280
B4: 名 称 | D4: 大ヶ峠トンネル | H4: 管理者名 | J4: 長門土木建築事務所 | M4: 定期点検者名 | P4: 妹尾 優大
B5: 写真 番号 | C5: 覆工 スパン 番号 | D5: S051 | M5: 写真 番号 | N5: 覆工 スパン 番号 | O5: S051
C7: 変状 番号 | D7: 3 | N7: 変状 番号 | O7: 4
B9: 変状 部位 | C9: 対象 箇所 | D9: 覆工・坑門 | M9: 変状 部位 | N9: 対象 箇所 | O9: 覆工・坑門
C11: 部位 区分 | D11: アーチ（左側） | N11: 部位 区分 | O11: アーチ（天端）
B13: 変状区分 | D13: 漏水 | M13: 変状区分 | O13: 漏水
B14: 変状種類 | D14: 漏水 | M14: 変状種類 | O14: 漏水
B15: 対策 区分 | C15: 応急措置前 | M15: 対策 区分 | N15: 応急措置前
C16: 応急措置後 | E16: Ⅰ | N16: 応急措置後 | P16: Ⅰ
B17: 健全性 | D17: Ⅰ | M17: 健全性 | O17: Ⅰ
B18: 変状の発生範囲の規模 | E18: - | M18: 変状の発生範囲の規模 | P18: -
B19: 前回定期点検時の状態 | E19: 漏水、にじみ | M19: 前回定期点検時の状態 | P19: 漏水、にじみ
B20: 調査方針 | E20: なし | M20: 調査方針 | P20: なし
B21: 対策履歴 | E21: なし | H21: 実施状況（実施日） | M21: 対策履歴 | P21: なし | S21: 実施状況（実施日）
B22: メモ | D22: 漏水跡 | M22: メモ | O22: 漏水跡
B23: 写真 番号 | C23: 覆工 スパン 番号 | D23: S051 | M23: 写真 番号 | N23: 覆工 スパン 番号 | O23: S051
C25: 変状 番号 | D25: 5 | N25: 変状 番号 | O25: 6
B27: 変状 部位 | C27: 対象 箇所 | D27: 覆工・坑門 | M27: 変状 部位 | N27: 対象 箇所 | O27: 路面
C29: 部位 区分 | D29: アーチ（右側） | N29: 部位 区分 | O29: 車道
B31: 変状区分 | D31: 漏水 | M31: 変状区分 | O31: 材質劣化
B32: 変状種類 | D32: 漏水 | M32: 変状種類 | O32: うき・はく離
B33: 対策 区分 | C33: 応急措置前 | M33: 対策 区分 | N33: 応急措置前
C34: 応急措置後 | E34: Ⅱb | N34: 応急措置後 | P34: －
B35: 健全性 | D35: Ⅱ | M35: 健全性 | O35: －
B36: 変状の発生範囲の規模 | E36: 6.6m×0.5m | M36: 変状の発生範囲の規模 | P36: 0.7m×0.9m
B37: 前回定期点検時の状態 | E37: 漏水、にじみ | M37: 前回定期点検時の状態 | P37: 0.6m×0.8mのうき
B38: 調査方針 | E38: なし | M38: 調査方針 | P38: なし
B39: 対策履歴 | E39: なし | H39: 実施状況（実施日） | M39: 対策履歴 | P39: なし | S39: 実施状況（実施日）
B40: メモ | D40: ひび割れからの漏水、にじみ | M40: メモ | O40: 舗装のうき
C41: ※ 健全性の判定区分Ⅱ～Ⅳについて添付すること。また、点検前に実施 された措置によりⅠと判定された箇所も添付すること。 | N41: ※ 変状の発生範囲の規模とは、対策を行う際に参考となる変状の長さや面積をいう。
N42: ※ 応急措置を実施しないで判定した変状の対策区分は、対策区分の応急措置後の欄に記入すること。
C43: ※ たたき落としを実施した場合は、実施後の写真を添付すること。 | N43: ※ 変状の発生範囲の規模は、面積・寸法を記載すること。
C44: ※ 画像データは100kb程度とする。 | N44: (ひび割れ幅のみmmとし、その他をm表記とする)
C45: ※ 変状数に準じてシートを追加すること。（１シートに１ページとすること。） | N45: ※ 構造用鋼材以外の異物に伴ううき・はく離については、メモ欄に異物の概要を記入すること。

Sheet 様式D-1-1 (48)
B2: ■定期点検記録様式 変状写真台帳（トンネル本体工） 【様式D-1-1】
B3: フリガナ | D3: オオガタオ | H3: 路 線 名 | J3: 一般国道316号 | M3: 定期点検業者 | P3: 株式会社オリエンタルコンサルタンツ | S3: 定期点検年月日 | U3: 45280
B4: 名 称 | D4: 大ヶ峠トンネル | H4: 管理者名 | J4: 長門土木建築事務所 | M4: 定期点検者名 | P4: 妹尾 優大
B5: 写真 番号 | C5: 覆工 スパン 番号 | D5: S051 | M5: 写真 番号 | N5: 覆工 スパン 番号 | O5: S051
C7: 変状 番号 | D7: 7 | N7: 変状 番号 | O7: 8
B9: 変状 部位 | C9: 対象 箇所 | D9: 路面 | M9: 変状 部位 | N9: 対象 箇所 | O9: 路面
C11: 部位 区分 | D11: 側溝 | N11: 部位 区分 | O11: 監査歩路
B13: 変状区分 | D13: 材質劣化 | M13: 変状区分 | O13: 外力
B14: 変状種類 | D14: うき・はく離 | M14: 変状種類 | O14: 変形、移動
B15: 対策 区分 | C15: 応急措置前 | M15: 対策 区分 | N15: 応急措置前
C16: 応急措置後 | E16: － | N16: 応急措置後 | P16: Ⅱb
B17: 健全性 | D17: － | M17: 健全性 | O17: Ⅱ
B18: 変状の発生範囲の規模 | E18: 0.1m×0.5m | M18: 変状の発生範囲の規模 | P18: 25mm
B19: 前回定期点検時の状態 | E19: 0.2m×0.5mのうき | M19: 前回定期点検時の状態 | P19: 0.15m×1.3m、0.15m×1.4mのうき
B20: 調査方針 | E20: なし | M20: 調査方針 | P20: なし
B21: 対策履歴 | E21: なし | H21: 実施状況（実施日） | M21: 対策履歴 | P21: なし | S21: 実施状況（実施日）
B22: メモ | D22: 側溝蓋のうき | M22: メモ | O22: 25mmの傾き
B23: 写真 番号 | C23: 覆工 スパン 番号 | D23: S052 | M23: 写真 番号 | N23: 覆工 スパン 番号 | O23: S052
C25: 変状 番号 | D25: 1 | N25: 変状 番号 | O25: 2
B27: 変状 部位 | C27: 対象 箇所 | D27: 覆工・坑門 | M27: 変状 部位 | N27: 対象 箇所 | O27: 覆工・坑門
C29: 部位 区分 | D29: 側壁（左側） | N29: 部位 区分 | O29: 側壁（左側）
B31: 変状区分 | D31: 漏水 | M31: 変状区分 | O31: 漏水
B32: 変状種類 | D32: 漏水 | M32: 変状種類 | O32: 漏水
B33: 対策 区分 | C33: 応急措置前 | M33: 対策 区分 | N33: 応急措置前
C34: 応急措置後 | E34: Ⅰ | N34: 応急措置後 | P34: Ⅰ
B35: 健全性 | D35: Ⅰ | M35: 健全性 | O35: Ⅰ
B36: 変状の発生範囲の規模 | E36: - | M36: 変状の発生範囲の規模 | P36: -
B37: 前回定期点検時の状態 | E37: - | M37: 前回定期点検時の状態 | P37: 漏水、にじみ、流下
B38: 調査方針 | E38: なし | M38: 調査方針 | P38: なし
B39: 対策履歴 | E39: なし | H39: 実施状況（実施日） | M39: 対策履歴 | P39: なし | S39: 実施状況（実施日）
B40: メモ | D40: 漏水、にじみ | M40: メモ | O40: 漏水、にじみ
C41: ※ 健全性の判定区分Ⅱ～Ⅳについて添付すること。また、点検前に実施 された措置によりⅠと判定された箇所も添付すること。 | N41: ※ 変状の発生範囲の規模とは、対策を行う際に参考となる変状の長さや面積をいう。
N42: ※ 応急措置を実施しないで判定した変状の対策区分は、対策区分の応急措置後の欄に記入すること。
C43: ※ たたき落としを実施した場合は、実施後の写真を添付すること。 | N43: ※ 変状の発生範囲の規模は、面積・寸法を記載すること。
C44: ※ 画像データは100kb程度とする。 | N44: (ひび割れ幅のみmmとし、その他をm表記とする)
C45: ※ 変状数に準じてシートを追加すること。（１シートに１ページとすること。） | N45: ※ 構造用鋼材以外の異物に伴ううき・はく離については、メモ欄に異物の概要を記入すること。

Sheet 様式D-1-1 (49)
B2: ■定期点検記録様式 変状写真台帳（トンネル本体工） 【様式D-1-1】
B3: フリガナ | D3: オオガタオ | H3: 路 線 名 | J3: 一般国道316号 | M3: 定期点検業者 | P3: 株式会社オリエンタルコンサルタンツ | S3: 定期点検年月日 | U3: 45280
B4: 名 称 | D4: 大ヶ峠トンネル | H4: 管理者名 | J4: 長門土木建築事務所 | M4: 定期点検者名 | P4: 妹尾 優大
B5: 写真 番号 | C5: 覆工 スパン 番号 | D5: S052 | M5: 写真 番号 | N5: 覆工 スパン 番号 | O5: S052
C7: 変状 番号 | D7: 3 | N7: 変状 番号 | O7: 4
B9: 変状 部位 | C9: 対象 箇所 | D9: 覆工・坑門 | M9: 変状 部位 | N9: 対象 箇所 | O9: 覆工・坑門
C11: 部位 区分 | D11: 横断目地（左側） | N11: 部位 区分 | O11: アーチ（右側）
B13: 変状区分 | D13: 漏水 | M13: 変状区分 | O13: 漏水
B14: 変状種類 | D14: 漏水 | M14: 変状種類 | O14: 漏水
B15: 対策 区分 | C15: 応急措置前 | M15: 対策 区分 | N15: 応急措置前
C16: 応急措置後 | E16: Ⅱb | N16: 応急措置後 | P16: Ⅰ
B17: 健全性 | D17: Ⅱ | M17: 健全性 | O17: Ⅰ
B18: 変状の発生範囲の規模 | E18: 3.9m×0.5m | M18: 変状の発生範囲の規模 | P18: -
B19: 前回定期点検時の状態 | E19: 漏水、にじみ | M19: 前回定期点検時の状態 | P19: 漏水、にじみ
B20: 調査方針 | E20: なし | M20: 調査方針 | P20: なし
B21: 対策履歴 | E21: なし | H21: 実施状況（実施日） | M21: 対策履歴 | P21: 導水工 | S21: 実施状況（実施日）
B22: メモ | D22: 導水工からの漏水、にじみ | M22: メモ | O22: 導水工新設により対策済み
B23: 写真 番号 | C23: 覆工 スパン 番号 | D23: S052 | M23: 写真 番号 | N23: 覆工 スパン 番号 | O23: S052
C25: 変状 番号 | D25: 5 | N25: 変状 番号 | O25: 6
B27: 変状 部位 | C27: 対象 箇所 | D27: 覆工・坑門 | M27: 変状 部位 | N27: 対象 箇所 | O27: 覆工・坑門
C29: 部位 区分 | D29: アーチ（天端） | N29: 部位 区分 | O29: 側壁（右側）
B31: 変状区分 | D31: 漏水 | M31: 変状区分 | O31: 漏水
B32: 変状種類 | D32: 漏水 | M32: 変状種類 | O32: 漏水
B33: 対策 区分 | C33: 応急措置前 | M33: 対策 区分 | N33: 応急措置前
C34: 応急措置後 | E34: Ⅰ | N34: 応急措置後 | P34: Ⅰ
B35: 健全性 | D35: Ⅰ | M35: 健全性 | O35: Ⅰ
B36: 変状の発生範囲の規模 | E36: - | M36: 変状の発生範囲の規模 | P36: -
B37: 前回定期点検時の状態 | E37: 漏水、にじみ | M37: 前回定期点検時の状態 | P37: 漏水、にじみ
B38: 調査方針 | E38: なし | M38: 調査方針 | P38: なし
B39: 対策履歴 | E39: 導水工の更新 | H39: 実施状況（実施日） | M39: 対策履歴 | P39: なし | S39: 実施状況（実施日）
B40: メモ | D40: 導水工の更新により対策済み | M40: メモ | O40: 漏水、にじみ
C41: ※ 健全性の判定区分Ⅱ～Ⅳについて添付すること。また、点検前に実施 された措置によりⅠと判定された箇所も添付すること。 | N41: ※ 変状の発生範囲の規模とは、対策を行う際に参考となる変状の長さや面積をいう。
N42: ※ 応急措置を実施しないで判定した変状の対策区分は、対策区分の応急措置後の欄に記入すること。
C43: ※ たたき落としを実施した場合は、実施後の写真を添付すること。 | N43: ※ 変状の発生範囲の規模は、面積・寸法を記載すること。
C44: ※ 画像データは100kb程度とする。 | N44: (ひび割れ幅のみmmとし、その他をm表記とする)
C45: ※ 変状数に準じてシートを追加すること。（１シートに１ページとすること。） | N45: ※ 構造用鋼材以外の異物に伴ううき・はく離については、メモ欄に異物の概要を記入すること。

Sheet 様式D-1-1 (50)
B2: ■定期点検記録様式 変状写真台帳（トンネル本体工） 【様式D-1-1】
B3: フリガナ | D3: オオガタオ | H3: 路 線 名 | J3: 一般国道316号 | M3: 定期点検業者 | P3: 株式会社オリエンタルコンサルタンツ | S3: 定期点検年月日 | U3: 45280
B4: 名 称 | D4: 大ヶ峠トンネル | H4: 管理者名 | J4: 長門土木建築事務所 | M4: 定期点検者名 | P4: 妹尾 優大
B5: 写真 番号 | C5: 覆工 スパン 番号 | D5: S052 | M5: 写真 番号 | N5: 覆工 スパン 番号 | O5: S053
C7: 変状 番号 | D7: 7 | N7: 変状 番号 | O7: 1
B9: 変状 部位 | C9: 対象 箇所 | D9: 路面 | M9: 変状 部位 | N9: 対象 箇所 | O9: 覆工・坑門
C11: 部位 区分 | D11: 監査歩路 | N11: 部位 区分 | O11: 側壁（左側）
B13: 変状区分 | D13: 外力 | M13: 変状区分 | O13: 漏水
B14: 変状種類 | D14: 変形、移動 | M14: 変状種類 | O14: 漏水
B15: 対策 区分 | C15: 応急措置前 | M15: 対策 区分 | N15: 応急措置前
C16: 応急措置後 | E16: Ⅱb | N16: 応急措置後 | P16: Ⅰ
B17: 健全性 | D17: Ⅱ | M17: 健全性 | O17: Ⅰ
B18: 変状の発生範囲の規模 | E18: 30mm | M18: 変状の発生範囲の規模 | P18: -
B19: 前回定期点検時の状態 | E19: - | M19: 前回定期点検時の状態 | P19: 漏水、にじみ
B20: 調査方針 | E20: なし | M20: 調査方針 | P20: なし
B21: 対策履歴 | E21: なし | H21: 実施状況（実施日） | M21: 対策履歴 | P21: なし | S21: 実施状況（実施日）
B22: メモ | D22: 30mmの傾き | M22: メモ | O22: 漏水、にじみ
B23: 写真 番号 | C23: 覆工 スパン 番号 | D23: S053 | M23: 写真 番号 | N23: 覆工 スパン 番号 | O23: S053
C25: 変状 番号 | D25: 2 | N25: 変状 番号 | O25: 3
B27: 変状 部位 | C27: 対象 箇所 | D27: 覆工・坑門 | M27: 変状 部位 | N27: 対象 箇所 | O27: 覆工・坑門
C29: 部位 区分 | D29: 側壁（左側） | N29: 部位 区分 | O29: 側壁（左側）
B31: 変状区分 | D31: 漏水 | M31: 変状区分 | O31: 漏水
B32: 変状種類 | D32: 漏水 | M32: 変状種類 | O32: 漏水
B33: 対策 区分 | C33: 応急措置前 | M33: 対策 区分 | N33: 応急措置前
C34: 応急措置後 | E34: Ⅰ | N34: 応急措置後 | P34: Ⅰ
B35: 健全性 | D35: Ⅰ | M35: 健全性 | O35: Ⅰ
B36: 変状の発生範囲の規模 | E36: - | M36: 変状の発生範囲の規模 | P36: -
B37: 前回定期点検時の状態 | E37: 漏水、にじみ | M37: 前回定期点検時の状態 | P37: -
B38: 調査方針 | E38: なし | M38: 調査方針 | P38: なし
B39: 対策履歴 | E39: なし | H39: 実施状況（実施日） | M39: 対策履歴 | P39: なし | S39: 実施状況（実施日）
B40: メモ | D40: 漏水、にじみ | M40: メモ | O40: 漏水、にじみ
C41: ※ 健全性の判定区分Ⅱ～Ⅳについて添付すること。また、点検前に実施 された措置によりⅠと判定された箇所も添付すること。 | N41: ※ 変状の発生範囲の規模とは、対策を行う際に参考となる変状の長さや面積をいう。
N42: ※ 応急措置を実施しないで判定した変状の対策区分は、対策区分の応急措置後の欄に記入すること。
C43: ※ たたき落としを実施した場合は、実施後の写真を添付すること。 | N43: ※ 変状の発生範囲の規模は、面積・寸法を記載すること。
C44: ※ 画像データは100kb程度とする。 | N44: (ひび割れ幅のみmmとし、その他をm表記とする)
C45: ※ 変状数に準じてシートを追加すること。（１シートに１ページとすること。） | N45: ※ 構造用鋼材以外の異物に伴ううき・はく離については、メモ欄に異物の概要を記入すること。

Sheet 様式D-1-1 (51)
B2: ■定期点検記録様式 変状写真台帳（トンネル本体工） 【様式D-1-1】
B3: フリガナ | D3: オオガタオ | H3: 路 線 名 | J3: 一般国道316号 | M3: 定期点検業者 | P3: 株式会社オリエンタルコンサルタンツ | S3: 定期点検年月日 | U3: 45280
B4: 名 称 | D4: 大ヶ峠トンネル | H4: 管理者名 | J4: 長門土木建築事務所 | M4: 定期点検者名 | P4: 妹尾 優大
B5: 写真 番号 | C5: 覆工 スパン 番号 | D5: S053 | M5: 写真 番号 | N5: 覆工 スパン 番号 | O5: S053
C7: 変状 番号 | D7: 4 | N7: 変状 番号 | O7: 5
B9: 変状 部位 | C9: 対象 箇所 | D9: 覆工・坑門 | M9: 変状 部位 | N9: 対象 箇所 | O9: 覆工・坑門
C11: 部位 区分 | D11: アーチ（左側） | N11: 部位 区分 | O11: 横断目地（左側）
B13: 変状区分 | D13: 漏水 | M13: 変状区分 | O13: 材質劣化
B14: 変状種類 | D14: 漏水 | M14: 変状種類 | O14: うき・はく離
B15: 対策 区分 | C15: 応急措置前 | M15: 対策 区分 | N15: 応急措置前
C16: 応急措置後 | E16: Ⅰ | N16: 応急措置後 | P16: Ⅲ
B17: 健全性 | D17: Ⅰ | M17: 健全性 | O17: Ⅲ
B18: 変状の発生範囲の規模 | E18: - | M18: 変状の発生範囲の規模 | P18: 0.2m×0.1m
B19: 前回定期点検時の状態 | E19: 漏水、にじみ | M19: 前回定期点検時の状態 | P19: 0.2m×0.1mのうき
B20: 調査方針 | E20: なし | M20: 調査方針 | P20: なし
B21: 対策履歴 | E21: 導水工の更新 | H21: 実施状況（実施日） | M21: 対策履歴 | P21: なし | S21: 実施状況（実施日）
B22: メモ | D22: 導水工の更新により対策済み | M22: メモ | O22: 横断目地付近のうき
B23: 写真 番号 | C23: 覆工 スパン 番号 | D23: S053 | M23: 写真 番号 | N23: 覆工 スパン 番号 | O23: S053
C25: 変状 番号 | D25: 6 | N25: 変状 番号 | O25: 7
B27: 変状 部位 | C27: 対象 箇所 | D27: 覆工・坑門 | M27: 変状 部位 | N27: 対象 箇所 | O27: 覆工・坑門
C29: 部位 区分 | D29: アーチ（天端） | N29: 部位 区分 | O29: 横断目地（天端）
B31: 変状区分 | D31: 漏水 | M31: 変状区分 | O31: 漏水
B32: 変状種類 | D32: 漏水 | M32: 変状種類 | O32: 漏水
B33: 対策 区分 | C33: 応急措置前 | M33: 対策 区分 | N33: 応急措置前
C34: 応急措置後 | E34: Ⅰ | N34: 応急措置後 | P34: Ⅱa
B35: 健全性 | D35: Ⅰ | M35: 健全性 | O35: Ⅱ
B36: 変状の発生範囲の規模 | E36: - | M36: 変状の発生範囲の規模 | P36: 8.3m×0.5m
B37: 前回定期点検時の状態 | E37: 漏水、にじみ | M37: 前回定期点検時の状態 | P37: 漏水、にじみ
B38: 調査方針 | E38: なし | M38: 調査方針 | P38: なし
B39: 対策履歴 | E39: 導水工の更新 | H39: 実施状況（実施日） | M39: 対策履歴 | P39: なし | S39: 実施状況（実施日）
B40: メモ | D40: 導水工の更新により対策済み | M40: メモ | O40: 目地からの漏水、滴水
C41: ※ 健全性の判定区分Ⅱ～Ⅳについて添付すること。また、点検前に実施 された措置によりⅠと判定された箇所も添付すること。 | N41: ※ 変状の発生範囲の規模とは、対策を行う際に参考となる変状の長さや面積をいう。
N42: ※ 応急措置を実施しないで判定した変状の対策区分は、対策区分の応急措置後の欄に記入すること。
C43: ※ たたき落としを実施した場合は、実施後の写真を添付すること。 | N43: ※ 変状の発生範囲の規模は、面積・寸法を記載すること。
C44: ※ 画像データは100kb程度とする。 | N44: (ひび割れ幅のみmmとし、その他をm表記とする)
C45: ※ 変状数に準じてシートを追加すること。（１シートに１ページとすること。） | N45: ※ 構造用鋼材以外の異物に伴ううき・はく離については、メモ欄に異物の概要を記入すること。

Sheet 様式D-1-1 (52)
B2: ■定期点検記録様式 変状写真台帳（トンネル本体工） 【様式D-1-1】
B3: フリガナ | D3: オオガタオ | H3: 路 線 名 | J3: 一般国道316号 | M3: 定期点検業者 | P3: 株式会社オリエンタルコンサルタンツ | S3: 定期点検年月日 | U3: 45280
B4: 名 称 | D4: 大ヶ峠トンネル | H4: 管理者名 | J4: 長門土木建築事務所 | M4: 定期点検者名 | P4: 妹尾 優大
B5: 写真 番号 | C5: 覆工 スパン 番号 | D5: S053 | M5: 写真 番号 | N5: 覆工 スパン 番号 | O5: S053
C7: 変状 番号 | D7: 8 | N7: 変状 番号 | O7: 9
B9: 変状 部位 | C9: 対象 箇所 | D9: 覆工・坑門 | M9: 変状 部位 | N9: 対象 箇所 | O9: 路面
C11: 部位 区分 | D11: アーチ（右側） | N11: 部位 区分 | O11: 監査歩路
B13: 変状区分 | D13: 漏水 | M13: 変状区分 | O13: 漏水
B14: 変状種類 | D14: 漏水 | M14: 変状種類 | O14: 滞水
B15: 対策 区分 | C15: 応急措置前 | M15: 対策 区分 | N15: 応急措置前
C16: 応急措置後 | E16: Ⅰ | N16: 応急措置後 | P16: －
B17: 健全性 | D17: Ⅰ | M17: 健全性 | O17: －
B18: 変状の発生範囲の規模 | E18: - | M18: 変状の発生範囲の規模 | P18: 0.1m×2.0m
B19: 前回定期点検時の状態 | E19: 漏水、にじみ | M19: 前回定期点検時の状態 | P19: -
B20: 調査方針 | E20: なし | M20: 調査方針 | P20: なし
B21: 対策履歴 | E21: なし | H21: 実施状況（実施日） | M21: 対策履歴 | P21: なし | S21: 実施状況（実施日）
B22: メモ | D22: 漏水跡 | M22: メモ | O22: 滞水
B23: 写真 番号 | C23: 覆工 スパン 番号 | D23: S053 | M23: 写真 番号 | N23: 覆工 スパン 番号 | O23: S054
C25: 変状 番号 | D25: 10 | N25: 変状 番号 | O25: 1
B27: 変状 部位 | C27: 対象 箇所 | D27: 路面 | M27: 変状 部位 | N27: 対象 箇所 | O27: 覆工・坑門
C29: 部位 区分 | D29: 監査歩路 | N29: 部位 区分 | O29: 側壁（左側）
B31: 変状区分 | D31: 漏水 | M31: 変状区分 | O31: 漏水
B32: 変状種類 | D32: 滞水 | M32: 変状種類 | O32: 漏水
B33: 対策 区分 | C33: 応急措置前 | M33: 対策 区分 | N33: 応急措置前
C34: 応急措置後 | E34: － | N34: 応急措置後 | P34: Ⅰ
B35: 健全性 | D35: － | M35: 健全性 | O35: Ⅰ
B36: 変状の発生範囲の規模 | E36: 0.3m×13.0m | M36: 変状の発生範囲の規模 | P36: -
B37: 前回定期点検時の状態 | E37: - | M37: 前回定期点検時の状態 | P37: 漏水、にじみ
B38: 調査方針 | E38: なし | M38: 調査方針 | P38: なし
B39: 対策履歴 | E39: なし | H39: 実施状況（実施日） | M39: 対策履歴 | P39: なし | S39: 実施状況（実施日）
B40: メモ | D40: 滞水 | M40: メモ | O40: 漏水跡
C41: ※ 健全性の判定区分Ⅱ～Ⅳについて添付すること。また、点検前に実施 された措置によりⅠと判定された箇所も添付すること。 | N41: ※ 変状の発生範囲の規模とは、対策を行う際に参考となる変状の長さや面積をいう。
N42: ※ 応急措置を実施しないで判定した変状の対策区分は、対策区分の応急措置後の欄に記入すること。
C43: ※ たたき落としを実施した場合は、実施後の写真を添付すること。 | N43: ※ 変状の発生範囲の規模は、面積・寸法を記載すること。
C44: ※ 画像データは100kb程度とする。 | N44: (ひび割れ幅のみmmとし、その他をm表記とする)
C45: ※ 変状数に準じてシートを追加すること。（１シートに１ページとすること。） | N45: ※ 構造用鋼材以外の異物に伴ううき・はく離については、メモ欄に異物の概要を記入すること。

Sheet 様式D-1-1 (53)
B2: ■定期点検記録様式 変状写真台帳（トンネル本体工） 【様式D-1-1】
B3: フリガナ | D3: オオガタオ | H3: 路 線 名 | J3: 一般国道316号 | M3: 定期点検業者 | P3: 株式会社オリエンタルコンサルタンツ | S3: 定期点検年月日 | U3: 45280
B4: 名 称 | D4: 大ヶ峠トンネル | H4: 管理者名 | J4: 長門土木建築事務所 | M4: 定期点検者名 | P4: 妹尾 優大
B5: 写真 番号 | C5: 覆工 スパン 番号 | D5: S054 | M5: 写真 番号 | N5: 覆工 スパン 番号 | O5: S054
C7: 変状 番号 | D7: 2 | N7: 変状 番号 | O7: 3
B9: 変状 部位 | C9: 対象 箇所 | D9: 覆工・坑門 | M9: 変状 部位 | N9: 対象 箇所 | O9: 覆工・坑門
C11: 部位 区分 | D11: アーチ（左側） | N11: 部位 区分 | O11: アーチ（左側）
B13: 変状区分 | D13: 材質劣化 | M13: 変状区分 | O13: 材質劣化
B14: 変状種類 | D14: うき・はく離 | M14: 変状種類 | O14: うき・はく離
B15: 対策 区分 | C15: 応急措置前 | M15: 対策 区分 | N15: 応急措置前
C16: 応急措置後 | E16: Ⅰ | N16: 応急措置後 | P16: Ⅰ
B17: 健全性 | D17: Ⅰ | M17: 健全性 | O17: Ⅰ
B18: 変状の発生範囲の規模 | E18: - | M18: 変状の発生範囲の規模 | P18: -
B19: 前回定期点検時の状態 | E19: 0.6m×0.4mのうき | M19: 前回定期点検時の状態 | P19: 0.6m×0.1mのうき
B20: 調査方針 | E20: なし | M20: 調査方針 | P20: なし
B21: 対策履歴 | E21: 導水工の更新 | H21: 実施状況（実施日） | M21: 対策履歴 | P21: 導水工の更新 | S21: 実施状況（実施日）
B22: メモ | D22: 導水工の更新により対策済み | M22: メモ | O22: 導水工の更新により対策済み
B23: 写真 番号 | C23: 覆工 スパン 番号 | D23: S054 | M23: 写真 番号 | N23: 覆工 スパン 番号 | O23: S055
C25: 変状 番号 | D25: 4 | N25: 変状 番号 | O25: 1
B27: 変状 部位 | C27: 対象 箇所 | D27: 覆工・坑門 | M27: 変状 部位 | N27: 対象 箇所 | O27: 覆工・坑門
C29: 部位 区分 | D29: 横断目地（天端） | N29: 部位 区分 | O29: 側壁（左側）
B31: 変状区分 | D31: 漏水 | M31: 変状区分 | O31: 漏水
B32: 変状種類 | D32: 漏水 | M32: 変状種類 | O32: 漏水
B33: 対策 区分 | C33: 応急措置前 | M33: 対策 区分 | N33: 応急措置前
C34: 応急措置後 | E34: Ⅱb | N34: 応急措置後 | P34: Ⅰ
B35: 健全性 | D35: Ⅱ | M35: 健全性 | O35: Ⅰ
B36: 変状の発生範囲の規模 | E36: 8.6m×0.5m | M36: 変状の発生範囲の規模 | P36: -
B37: 前回定期点検時の状態 | E37: 漏水、にじみ | M37: 前回定期点検時の状態 | P37: 漏水、にじみ
B38: 調査方針 | E38: なし | M38: 調査方針 | P38: なし
B39: 対策履歴 | E39: なし | H39: 実施状況（実施日） | M39: 対策履歴 | P39: なし | S39: 実施状況（実施日）
B40: メモ | D40: 目地からの漏水、にじみ | M40: メモ | O40: 漏水、にじみ
C41: ※ 健全性の判定区分Ⅱ～Ⅳについて添付すること。また、点検前に実施 された措置によりⅠと判定された箇所も添付すること。 | N41: ※ 変状の発生範囲の規模とは、対策を行う際に参考となる変状の長さや面積をいう。
N42: ※ 応急措置を実施しないで判定した変状の対策区分は、対策区分の応急措置後の欄に記入すること。
C43: ※ たたき落としを実施した場合は、実施後の写真を添付すること。 | N43: ※ 変状の発生範囲の規模は、面積・寸法を記載すること。
C44: ※ 画像データは100kb程度とする。 | N44: (ひび割れ幅のみmmとし、その他をm表記とする)
C45: ※ 変状数に準じてシートを追加すること。（１シートに１ページとすること。） | N45: ※ 構造用鋼材以外の異物に伴ううき・はく離については、メモ欄に異物の概要を記入すること。

Sheet 様式D-1-1 (54)
B2: ■定期点検記録様式 変状写真台帳（トンネル本体工） 【様式D-1-1】
B3: フリガナ | D3: オオガタオ | H3: 路 線 名 | J3: 一般国道316号 | M3: 定期点検業者 | P3: 株式会社オリエンタルコンサルタンツ | S3: 定期点検年月日 | U3: 45280
B4: 名 称 | D4: 大ヶ峠トンネル | H4: 管理者名 | J4: 長門土木建築事務所 | M4: 定期点検者名 | P4: 妹尾 優大
B5: 写真 番号 | C5: 覆工 スパン 番号 | D5: S055 | M5: 写真 番号 | N5: 覆工 スパン 番号 | O5: S057
C7: 変状 番号 | D7: 2 | N7: 変状 番号 | O7: 1
B9: 変状 部位 | C9: 対象 箇所 | D9: 覆工・坑門 | M9: 変状 部位 | N9: 対象 箇所 | O9: 覆工・坑門
C11: 部位 区分 | D11: 横断目地（天端） | N11: 部位 区分 | O11: 側壁（左側）
B13: 変状区分 | D13: 漏水 | M13: 変状区分 | O13: 漏水
B14: 変状種類 | D14: 漏水 | M14: 変状種類 | O14: 漏水
B15: 対策 区分 | C15: 応急措置前 | M15: 対策 区分 | N15: 応急措置前
C16: 応急措置後 | E16: Ⅱb | N16: 応急措置後 | P16: Ⅰ
B17: 健全性 | D17: Ⅱ | M17: 健全性 | O17: Ⅰ
B18: 変状の発生範囲の規模 | E18: 8.5m×0.5m | M18: 変状の発生範囲の規模 | P18: -
B19: 前回定期点検時の状態 | E19: 漏水、にじみ | M19: 前回定期点検時の状態 | P19: 漏水、にじみ
B20: 調査方針 | E20: なし | M20: 調査方針 | P20: なし
B21: 対策履歴 | E21: なし | H21: 実施状況（実施日） | M21: 対策履歴 | P21: なし | S21: 実施状況（実施日）
B22: メモ | D22: 目地からの漏水、にじみ | M22: メモ | O22: 漏水、にじみ
B23: 写真 番号 | C23: 覆工 スパン 番号 | D23: S057 | M23: 写真 番号 | N23: 覆工 スパン 番号 | O23: S057
C25: 変状 番号 | D25: 2 | N25: 変状 番号 | O25: 3
B27: 変状 部位 | C27: 対象 箇所 | D27: 路面 | M27: 変状 部位 | N27: 対象 箇所 | O27: 路面
C29: 部位 区分 | D29: 監査歩路 | N29: 部位 区分 | O29: 側溝
B31: 変状区分 | D31: 漏水 | M31: 変状区分 | O31: 材質劣化
B32: 変状種類 | D32: 滞水 | M32: 変状種類 | O32: うき・はく離
B33: 対策 区分 | C33: 応急措置前 | M33: 対策 区分 | N33: 応急措置前
C34: 応急措置後 | E34: － | N34: 応急措置後 | P34: －
B35: 健全性 | D35: － | M35: 健全性 | O35: －
B36: 変状の発生範囲の規模 | E36: 0.3m×10.0m | M36: 変状の発生範囲の規模 | P36: 0.2m×0.5m
B37: 前回定期点検時の状態 | E37: - | M37: 前回定期点検時の状態 | P37: 0.15m×0.4mの鉄筋露出
B38: 調査方針 | E38: なし | M38: 調査方針 | P38: なし
B39: 対策履歴 | E39: なし | H39: 実施状況（実施日） | M39: 対策履歴 | P39: なし | S39: 実施状況（実施日）
B40: メモ | D40: 滞水 | M40: メモ | O40: 側溝蓋のはく離
C41: ※ 健全性の判定区分Ⅱ～Ⅳについて添付すること。また、点検前に実施 された措置によりⅠと判定された箇所も添付すること。 | N41: ※ 変状の発生範囲の規模とは、対策を行う際に参考となる変状の長さや面積をいう。
N42: ※ 応急措置を実施しないで判定した変状の対策区分は、対策区分の応急措置後の欄に記入すること。
C43: ※ たたき落としを実施した場合は、実施後の写真を添付すること。 | N43: ※ 変状の発生範囲の規模は、面積・寸法を記載すること。
C44: ※ 画像データは100kb程度とする。 | N44: (ひび割れ幅のみmmとし、その他をm表記とする)
C45: ※ 変状数に準じてシートを追加すること。（１シートに１ページとすること。） | N45: ※ 構造用鋼材以外の異物に伴ううき・はく離については、メモ欄に異物の概要を記入すること。

Sheet 様式D-1-1 (55)
B2: ■定期点検記録様式 変状写真台帳（トンネル本体工） 【様式D-1-1】
B3: フリガナ | D3: オオガタオ | H3: 路 線 名 | J3: 一般国道316号 | M3: 定期点検業者 | P3: 株式会社オリエンタルコンサルタンツ | S3: 定期点検年月日 | U3: 45280
B4: 名 称 | D4: 大ヶ峠トンネル | H4: 管理者名 | J4: 長門土木建築事務所 | M4: 定期点検者名 | P4: 妹尾 優大
B5: 写真 番号 | C5: 覆工 スパン 番号 | D5: S058 | M5: 写真 番号 | N5: 覆工 スパン 番号 | O5: S058
C7: 変状 番号 | D7: 1 | N7: 変状 番号 | O7: 2
B9: 変状 部位 | C9: 対象 箇所 | D9: 覆工・坑門 | M9: 変状 部位 | N9: 対象 箇所 | O9: 覆工・坑門
C11: 部位 区分 | D11: 側壁（左側） | N11: 部位 区分 | O11: 横断目地（右側）
B13: 変状区分 | D13: 漏水 | M13: 変状区分 | O13: 漏水
B14: 変状種類 | D14: 漏水 | M14: 変状種類 | O14: 漏水
B15: 対策 区分 | C15: 応急措置前 | M15: 対策 区分 | N15: 応急措置前
C16: 応急措置後 | E16: Ⅰ | N16: 応急措置後 | P16: Ⅰ
B17: 健全性 | D17: Ⅰ | M17: 健全性 | O17: Ⅰ
B18: 変状の発生範囲の規模 | E18: - | M18: 変状の発生範囲の規模 | P18: -
B19: 前回定期点検時の状態 | E19: 漏水、にじみ | M19: 前回定期点検時の状態 | P19: 漏水、にじみ
B20: 調査方針 | E20: なし | M20: 調査方針 | P20: なし
B21: 対策履歴 | E21: なし | H21: 実施状況（実施日） | M21: 対策履歴 | P21: なし | S21: 実施状況（実施日）
B22: メモ | D22: 漏水、にじみ | M22: メモ | O22: 漏水跡
B23: 写真 番号 | C23: 覆工 スパン 番号 | D23: S058 | M23: 写真 番号 | N23: 覆工 スパン 番号 | O23: S058
C25: 変状 番号 | D25: 3 | N25: 変状 番号 | O25: 4
B27: 変状 部位 | C27: 対象 箇所 | D27: 路面 | M27: 変状 部位 | N27: 対象 箇所 | O27: 路面
C29: 部位 区分 | D29: 監査歩路 | N29: 部位 区分 | O29: 側溝
B31: 変状区分 | D31: 漏水 | M31: 変状区分 | O31: 材質劣化
B32: 変状種類 | D32: 滞水 | M32: 変状種類 | O32: うき・はく離
B33: 対策 区分 | C33: 応急措置前 | M33: 対策 区分 | N33: 応急措置前
C34: 応急措置後 | E34: － | N34: 応急措置後 | P34: －
B35: 健全性 | D35: － | M35: 健全性 | O35: －
B36: 変状の発生範囲の規模 | E36: 0.3m×10.5m | M36: 変状の発生範囲の規模 | P36: 0.3m×1.0m
B37: 前回定期点検時の状態 | E37: - | M37: 前回定期点検時の状態 | P37: 0.15m×0.5mのうき
B38: 調査方針 | E38: なし | M38: 調査方針 | P38: なし
B39: 対策履歴 | E39: なし | H39: 実施状況（実施日） | M39: 対策履歴 | P39: なし | S39: 実施状況（実施日）
B40: メモ | D40: 滞水 | M40: メモ | O40: 側溝蓋のはく離
C41: ※ 健全性の判定区分Ⅱ～Ⅳについて添付すること。また、点検前に実施 された措置によりⅠと判定された箇所も添付すること。 | N41: ※ 変状の発生範囲の規模とは、対策を行う際に参考となる変状の長さや面積をいう。
N42: ※ 応急措置を実施しないで判定した変状の対策区分は、対策区分の応急措置後の欄に記入すること。
C43: ※ たたき落としを実施した場合は、実施後の写真を添付すること。 | N43: ※ 変状の発生範囲の規模は、面積・寸法を記載すること。
C44: ※ 画像データは100kb程度とする。 | N44: (ひび割れ幅のみmmとし、その他をm表記とする)
C45: ※ 変状数に準じてシートを追加すること。（１シートに１ページとすること。） | N45: ※ 構造用鋼材以外の異物に伴ううき・はく離については、メモ欄に異物の概要を記入すること。

Sheet 様式D-1-1 (56)
B2: ■定期点検記録様式 変状写真台帳（トンネル本体工） 【様式D-1-1】
B3: フリガナ | D3: オオガタオ | H3: 路 線 名 | J3: 一般国道316号 | M3: 定期点検業者 | P3: 株式会社オリエンタルコンサルタンツ | S3: 定期点検年月日 | U3: 45280
B4: 名 称 | D4: 大ヶ峠トンネル | H4: 管理者名 | J4: 長門土木建築事務所 | M4: 定期点検者名 | P4: 妹尾 優大
B5: 写真 番号 | C5: 覆工 スパン 番号 | D5: S060 | M5: 写真 番号 | N5: 覆工 スパン 番号 | O5: S060
C7: 変状 番号 | D7: 1 | N7: 変状 番号 | O7: 2
B9: 変状 部位 | C9: 対象 箇所 | D9: 覆工・坑門 | M9: 変状 部位 | N9: 対象 箇所 | O9: 路面
C11: 部位 区分 | D11: アーチ（左側） | N11: 部位 区分 | O11: 車道
B13: 変状区分 | D13: 漏水 | M13: 変状区分 | O13: 材質劣化
B14: 変状種類 | D14: 漏水 | M14: 変状種類 | O14: うき・はく離
B15: 対策 区分 | C15: 応急措置前 | M15: 対策 区分 | N15: 応急措置前
C16: 応急措置後 | E16: Ⅰ | N16: 応急措置後 | P16: －
B17: 健全性 | D17: Ⅰ | M17: 健全性 | O17: －
B18: 変状の発生範囲の規模 | E18: - | M18: 変状の発生範囲の規模 | P18: 0.9m×0.4m
B19: 前回定期点検時の状態 | E19: 漏水、にじみ | M19: 前回定期点検時の状態 | P19: 0.9m×0.35mのうき
B20: 調査方針 | E20: なし | M20: 調査方針 | P20: なし
B21: 対策履歴 | E21: なし | H21: 実施状況（実施日） | M21: 対策履歴 | P21: なし | S21: 実施状況（実施日）
B22: メモ | D22: 漏水跡 | M22: メモ | O22: 舗装のうき
B23: 写真 番号 | C23: 覆工 スパン 番号 | D23: S061 | M23: 写真 番号 | N23: 覆工 スパン 番号 | O23: S062
C25: 変状 番号 | D25: 1 | N25: 変状 番号 | O25: 1
B27: 変状 部位 | C27: 対象 箇所 | D27: 路面 | M27: 変状 部位 | N27: 対象 箇所 | O27: 覆工・坑門
C29: 部位 区分 | D29: 車道 | N29: 部位 区分 | O29: 横断目地（天端）
B31: 変状区分 | D31: 材質劣化 | M31: 変状区分 | O31: 材質劣化
B32: 変状種類 | D32: うき・はく離 | M32: 変状種類 | O32: その他
B33: 対策 区分 | C33: 応急措置前 | M33: 対策 区分 | N33: 応急措置前
C34: 応急措置後 | E34: － | N34: 応急措置後 | P34: Ⅱa
B35: 健全性 | D35: － | M35: 健全性 | O35: Ⅱ
B36: 変状の発生範囲の規模 | E36: 0.9m×0.65m | M36: 変状の発生範囲の規模 | P36: 4.0m×0.05m
B37: 前回定期点検時の状態 | E37: 0.6m×0.65mのうき | M37: 前回定期点検時の状態 | P37: 4.0m×0.05mの豆板
B38: 調査方針 | E38: なし | M38: 調査方針 | P38: なし
B39: 対策履歴 | E39: なし | H39: 実施状況（実施日） | M39: 対策履歴 | P39: なし | S39: 実施状況（実施日）
B40: メモ | D40: 舗装のうき | M40: メモ | O40: 横断目地付近の豆板
C41: ※ 健全性の判定区分Ⅱ～Ⅳについて添付すること。また、点検前に実施 された措置によりⅠと判定された箇所も添付すること。 | N41: ※ 変状の発生範囲の規模とは、対策を行う際に参考となる変状の長さや面積をいう。
N42: ※ 応急措置を実施しないで判定した変状の対策区分は、対策区分の応急措置後の欄に記入すること。
C43: ※ たたき落としを実施した場合は、実施後の写真を添付すること。 | N43: ※ 変状の発生範囲の規模は、面積・寸法を記載すること。
C44: ※ 画像データは100kb程度とする。 | N44: (ひび割れ幅のみmmとし、その他をm表記とする)
C45: ※ 変状数に準じてシートを追加すること。（１シートに１ページとすること。） | N45: ※ 構造用鋼材以外の異物に伴ううき・はく離については、メモ欄に異物の概要を記入すること。

Sheet 様式D-1-1 (57)
B2: ■定期点検記録様式 変状写真台帳（トンネル本体工） 【様式D-1-1】
B3: フリガナ | D3: オオガタオ | H3: 路 線 名 | J3: 一般国道316号 | M3: 定期点検業者 | P3: 株式会社オリエンタルコンサルタンツ | S3: 定期点検年月日 | U3: 45280
B4: 名 称 | D4: 大ヶ峠トンネル | H4: 管理者名 | J4: 長門土木建築事務所 | M4: 定期点検者名 | P4: 妹尾 優大
B5: 写真 番号 | C5: 覆工 スパン 番号 | D5: S064 | M5: 写真 番号 | N5: 覆工 スパン 番号 | O5: S064
C7: 変状 番号 | D7: 1 | N7: 変状 番号 | O7: 2
B9: 変状 部位 | C9: 対象 箇所 | D9: 覆工・坑門 | M9: 変状 部位 | N9: 対象 箇所 | O9: 覆工・坑門
C11: 部位 区分 | D11: アーチ（左側） | N11: 部位 区分 | O11: アーチ（天端）
B13: 変状区分 | D13: 漏水 | M13: 変状区分 | O13: 漏水
B14: 変状種類 | D14: 漏水 | M14: 変状種類 | O14: 漏水
B15: 対策 区分 | C15: 応急措置前 | M15: 対策 区分 | N15: 応急措置前
C16: 応急措置後 | E16: Ⅱb | N16: 応急措置後 | P16: Ⅰ
B17: 健全性 | D17: Ⅱ | M17: 健全性 | O17: Ⅰ
B18: 変状の発生範囲の規模 | E18: 8.2m×0.5m | M18: 変状の発生範囲の規模 | P18: -
B19: 前回定期点検時の状態 | E19: 漏水、にじみ | M19: 前回定期点検時の状態 | P19: 漏水、にじみ
B20: 調査方針 | E20: なし | M20: 調査方針 | P20: なし
B21: 対策履歴 | E21: なし | H21: 実施状況（実施日） | M21: 対策履歴 | P21: なし | S21: 実施状況（実施日）
B22: メモ | D22: 漏水、にじみ | M22: メモ | O22: 漏水跡
B23: 写真 番号 | C23: 覆工 スパン 番号 | D23: S064 | M23: 写真 番号 | N23: 覆工 スパン 番号 | O23: S064
C25: 変状 番号 | D25: 3 | N25: 変状 番号 | O25: 4
B27: 変状 部位 | C27: 対象 箇所 | D27: 覆工・坑門 | M27: 変状 部位 | N27: 対象 箇所 | O27: 覆工・坑門
C29: 部位 区分 | D29: 側壁（右側） | N29: 部位 区分 | O29: 側壁（右側）
B31: 変状区分 | D31: 漏水 | M31: 変状区分 | O31: 漏水
B32: 変状種類 | D32: 漏水 | M32: 変状種類 | O32: 漏水
B33: 対策 区分 | C33: 応急措置前 | M33: 対策 区分 | N33: 応急措置前
C34: 応急措置後 | E34: Ⅰ | N34: 応急措置後 | P34: Ⅰ
B35: 健全性 | D35: Ⅰ | M35: 健全性 | O35: Ⅰ
B36: 変状の発生範囲の規模 | E36: - | M36: 変状の発生範囲の規模 | P36: -
B37: 前回定期点検時の状態 | E37: 漏水、にじみ | M37: 前回定期点検時の状態 | P37: 漏水、にじみ
B38: 調査方針 | E38: なし | M38: 調査方針 | P38: なし
B39: 対策履歴 | E39: なし | H39: 実施状況（実施日） | M39: 対策履歴 | P39: なし | S39: 実施状況（実施日）
B40: メモ | D40: 漏水、にじみ | M40: メモ | O40: 漏水、にじみ
C41: ※ 健全性の判定区分Ⅱ～Ⅳについて添付すること。また、点検前に実施 された措置によりⅠと判定された箇所も添付すること。 | N41: ※ 変状の発生範囲の規模とは、対策を行う際に参考となる変状の長さや面積をいう。
N42: ※ 応急措置を実施しないで判定した変状の対策区分は、対策区分の応急措置後の欄に記入すること。
C43: ※ たたき落としを実施した場合は、実施後の写真を添付すること。 | N43: ※ 変状の発生範囲の規模は、面積・寸法を記載すること。
C44: ※ 画像データは100kb程度とする。 | N44: (ひび割れ幅のみmmとし、その他をm表記とする)
C45: ※ 変状数に準じてシートを追加すること。（１シートに１ページとすること。） | N45: ※ 構造用鋼材以外の異物に伴ううき・はく離については、メモ欄に異物の概要を記入すること。

Sheet 様式D-1-1 (58)
B2: ■定期点検記録様式 変状写真台帳（トンネル本体工） 【様式D-1-1】
B3: フリガナ | D3: オオガタオ | H3: 路 線 名 | J3: 一般国道316号 | M3: 定期点検業者 | P3: 株式会社オリエンタルコンサルタンツ | S3: 定期点検年月日 | U3: 45280
B4: 名 称 | D4: 大ヶ峠トンネル | H4: 管理者名 | J4: 長門土木建築事務所 | M4: 定期点検者名 | P4: 妹尾 優大
B5: 写真 番号 | C5: 覆工 スパン 番号 | D5: S065 | M5: 写真 番号 | N5: 覆工 スパン 番号 | O5: S065
C7: 変状 番号 | D7: 1 | N7: 変状 番号 | O7: 2
B9: 変状 部位 | C9: 対象 箇所 | D9: 覆工・坑門 | M9: 変状 部位 | N9: 対象 箇所 | O9: 覆工・坑門
C11: 部位 区分 | D11: 側壁（右側） | N11: 部位 区分 | O11: 側壁（右側）
B13: 変状区分 | D13: 漏水 | M13: 変状区分 | O13: 漏水
B14: 変状種類 | D14: 漏水 | M14: 変状種類 | O14: 漏水
B15: 対策 区分 | C15: 応急措置前 | M15: 対策 区分 | N15: 応急措置前
C16: 応急措置後 | E16: Ⅰ | N16: 応急措置後 | P16: Ⅰ
B17: 健全性 | D17: Ⅰ | M17: 健全性 | O17: Ⅰ
B18: 変状の発生範囲の規模 | E18: - | M18: 変状の発生範囲の規模 | P18: -
B19: 前回定期点検時の状態 | E19: 漏水、にじみ | M19: 前回定期点検時の状態 | P19: 漏水、にじみ
B20: 調査方針 | E20: なし | M20: 調査方針 | P20: なし
B21: 対策履歴 | E21: なし | H21: 実施状況（実施日） | M21: 対策履歴 | P21: なし | S21: 実施状況（実施日）
B22: メモ | D22: 漏水跡 | M22: メモ | O22: 漏水跡
B23: 写真 番号 | C23: 覆工 スパン 番号 | D23: S067 | M23: 写真 番号 | N23: 覆工 スパン 番号 | O23: S067
C25: 変状 番号 | D25: 1 | N25: 変状 番号 | O25: 2
B27: 変状 部位 | C27: 対象 箇所 | D27: 覆工・坑門 | M27: 変状 部位 | N27: 対象 箇所 | O27: 覆工・坑門
C29: 部位 区分 | D29: 側壁（左側） | N29: 部位 区分 | O29: 横断目地（左側）
B31: 変状区分 | D31: 漏水 | M31: 変状区分 | O31: 漏水
B32: 変状種類 | D32: 漏水 | M32: 変状種類 | O32: 補強・補修材の破損
B33: 対策 区分 | C33: 応急措置前 | M33: 対策 区分 | N33: 応急措置前
C34: 応急措置後 | E34: Ⅰ | N34: 応急措置後 | P34: Ⅱa
B35: 健全性 | D35: Ⅰ | M35: 健全性 | O35: Ⅱ
B36: 変状の発生範囲の規模 | E36: - | M36: 変状の発生範囲の規模 | P36: 0.4m×0.1m
B37: 前回定期点検時の状態 | E37: - | M37: 前回定期点検時の状態 | P37: 0.4m×0.1mの導水工破損
B38: 調査方針 | E38: なし | M38: 調査方針 | P38: なし
B39: 対策履歴 | E39: なし | H39: 実施状況（実施日） | M39: 対策履歴 | P39: なし | S39: 実施状況（実施日）
B40: メモ | D40: 漏水、にじみ | M40: メモ | O40: 導水工破損
C41: ※ 健全性の判定区分Ⅱ～Ⅳについて添付すること。また、点検前に実施 された措置によりⅠと判定された箇所も添付すること。 | N41: ※ 変状の発生範囲の規模とは、対策を行う際に参考となる変状の長さや面積をいう。
N42: ※ 応急措置を実施しないで判定した変状の対策区分は、対策区分の応急措置後の欄に記入すること。
C43: ※ たたき落としを実施した場合は、実施後の写真を添付すること。 | N43: ※ 変状の発生範囲の規模は、面積・寸法を記載すること。
C44: ※ 画像データは100kb程度とする。 | N44: (ひび割れ幅のみmmとし、その他をm表記とする)
C45: ※ 変状数に準じてシートを追加すること。（１シートに１ページとすること。） | N45: ※ 構造用鋼材以外の異物に伴ううき・はく離については、メモ欄に異物の概要を記入すること。

Sheet 様式D-1-1 (59)
B2: ■定期点検記録様式 変状写真台帳（トンネル本体工） 【様式D-1-1】
B3: フリガナ | D3: オオガタオ | H3: 路 線 名 | J3: 一般国道316号 | M3: 定期点検業者 | P3: 株式会社オリエンタルコンサルタンツ | S3: 定期点検年月日 | U3: 45280
B4: 名 称 | D4: 大ヶ峠トンネル | H4: 管理者名 | J4: 長門土木建築事務所 | M4: 定期点検者名 | P4: 妹尾 優大
B5: 写真 番号 | C5: 覆工 スパン 番号 | D5: S067 | M5: 写真 番号 | N5: 覆工 スパン 番号 | O5: S067
C7: 変状 番号 | D7: 3 | N7: 変状 番号 | O7: 4
B9: 変状 部位 | C9: 対象 箇所 | D9: 覆工・坑門 | M9: 変状 部位 | N9: 対象 箇所 | O9: 覆工・坑門
C11: 部位 区分 | D11: 横断目地（左側） | N11: 部位 区分 | O11: 横断目地（天端）
B13: 変状区分 | D13: 漏水 | M13: 変状区分 | O13: 漏水
B14: 変状種類 | D14: 漏水 | M14: 変状種類 | O14: 補強・補修材の破損
B15: 対策 区分 | C15: 応急措置前 | M15: 対策 区分 | N15: 応急措置前
C16: 応急措置後 | E16: Ⅱb | N16: 応急措置後 | P16: Ⅱa
B17: 健全性 | D17: Ⅱ | M17: 健全性 | O17: Ⅱ
B18: 変状の発生範囲の規模 | E18: 7.7m×0.5m | M18: 変状の発生範囲の規模 | P18: 0.35m×0.1m
B19: 前回定期点検時の状態 | E19: - | M19: 前回定期点検時の状態 | P19: 0.35m×0.1mの導水工破損
B20: 調査方針 | E20: なし | M20: 調査方針 | P20: なし
B21: 対策履歴 | E21: なし | H21: 実施状況（実施日） | M21: 対策履歴 | P21: なし | S21: 実施状況（実施日）
B22: メモ | D22: 導水工からの漏水、にじみ | M22: メモ | O22: 導水工破損
B23: 写真 番号 | C23: 覆工 スパン 番号 | D23: S067 | M23: 写真 番号 | N23: 覆工 スパン 番号 | O23: S068
C25: 変状 番号 | D25: 5 | N25: 変状 番号 | O25: 1
B27: 変状 部位 | C27: 対象 箇所 | D27: 覆工・坑門 | M27: 変状 部位 | N27: 対象 箇所 | O27: 覆工・坑門
C29: 部位 区分 | D29: 横断目地（天端） | N29: 部位 区分 | O29: 横断目地（右側）
B31: 変状区分 | D31: 漏水 | M31: 変状区分 | O31: 漏水
B32: 変状種類 | D32: 漏水 | M32: 変状種類 | O32: 漏水
B33: 対策 区分 | C33: 応急措置前 | M33: 対策 区分 | N33: 応急措置前
C34: 応急措置後 | E34: Ⅱa | N34: 応急措置後 | P34: Ⅲ
B35: 健全性 | D35: Ⅱ | M35: 健全性 | O35: Ⅲ
B36: 変状の発生範囲の規模 | E36: 8.6m×0.5m | M36: 変状の発生範囲の規模 | P36: 6.9m×0.8m
B37: 前回定期点検時の状態 | E37: 漏水、滴水 | M37: 前回定期点検時の状態 | P37: 漏水、流下
B38: 調査方針 | E38: なし | M38: 調査方針 | P38: なし
B39: 対策履歴 | E39: なし | H39: 実施状況（実施日） | M39: 対策履歴 | P39: なし | S39: 実施状況（実施日）
B40: メモ | D40: 目地からの漏水、滴水 | M40: メモ | O40: 導水工からの漏水、流下
C41: ※ 健全性の判定区分Ⅱ～Ⅳについて添付すること。また、点検前に実施 された措置によりⅠと判定された箇所も添付すること。 | N41: ※ 変状の発生範囲の規模とは、対策を行う際に参考となる変状の長さや面積をいう。
N42: ※ 応急措置を実施しないで判定した変状の対策区分は、対策区分の応急措置後の欄に記入すること。
C43: ※ たたき落としを実施した場合は、実施後の写真を添付すること。 | N43: ※ 変状の発生範囲の規模は、面積・寸法を記載すること。
C44: ※ 画像データは100kb程度とする。 | N44: (ひび割れ幅のみmmとし、その他をm表記とする)
C45: ※ 変状数に準じてシートを追加すること。（１シートに１ページとすること。） | N45: ※ 構造用鋼材以外の異物に伴ううき・はく離については、メモ欄に異物の概要を記入すること。

Sheet 様式D-1-1 (60)
B2: ■定期点検記録様式 変状写真台帳（トンネル本体工） 【様式D-1-1】
B3: フリガナ | D3: オオガタオ | H3: 路 線 名 | J3: 一般国道316号 | M3: 定期点検業者 | P3: 株式会社オリエンタルコンサルタンツ | S3: 定期点検年月日 | U3: 45280
B4: 名 称 | D4: 大ヶ峠トンネル | H4: 管理者名 | J4: 長門土木建築事務所 | M4: 定期点検者名 | P4: 妹尾 優大
B5: 写真 番号 | C5: 覆工 スパン 番号 | D5: S068 | M5: 写真 番号 | N5: 覆工 スパン 番号 | O5: S068
C7: 変状 番号 | D7: 2 | N7: 変状 番号 | O7: 3
B9: 変状 部位 | C9: 対象 箇所 | D9: 覆工・坑門 | M9: 変状 部位 | N9: 対象 箇所 | O9: 路面
C11: 部位 区分 | D11: 側壁（右側） | N11: 部位 区分 | O11: 監査歩路
B13: 変状区分 | D13: 漏水 | M13: 変状区分 | O13: 漏水
B14: 変状種類 | D14: 漏水 | M14: 変状種類 | O14: 滞水
B15: 対策 区分 | C15: 応急措置前 | M15: 対策 区分 | N15: 応急措置前
C16: 応急措置後 | E16: Ⅰ | N16: 応急措置後 | P16: －
B17: 健全性 | D17: Ⅰ | M17: 健全性 | O17: －
B18: 変状の発生範囲の規模 | E18: - | M18: 変状の発生範囲の規模 | P18: 0.3m×2.5m
B19: 前回定期点検時の状態 | E19: - | M19: 前回定期点検時の状態 | P19: -
B20: 調査方針 | E20: なし | M20: 調査方針 | P20: なし
B21: 対策履歴 | E21: なし | H21: 実施状況（実施日） | M21: 対策履歴 | P21: なし | S21: 実施状況（実施日）
B22: メモ | D22: 漏水、にじみ | M22: メモ | O22: 滞水
B23: 写真 番号 | C23: 覆工 スパン 番号 | D23: S069 | M23: 写真 番号 | N23: 覆工 スパン 番号 | O23: S069
C25: 変状 番号 | D25: 1 | N25: 変状 番号 | O25: 2
B27: 変状 部位 | C27: 対象 箇所 | D27: 覆工・坑門 | M27: 変状 部位 | N27: 対象 箇所 | O27: 覆工・坑門
C29: 部位 区分 | D29: 側壁（左側） | N29: 部位 区分 | O29: 側壁（左側）
B31: 変状区分 | D31: 漏水 | M31: 変状区分 | O31: 漏水
B32: 変状種類 | D32: 漏水 | M32: 変状種類 | O32: 漏水
B33: 対策 区分 | C33: 応急措置前 | M33: 対策 区分 | N33: 応急措置前
C34: 応急措置後 | E34: Ⅰ | N34: 応急措置後 | P34: Ⅰ
B35: 健全性 | D35: Ⅰ | M35: 健全性 | O35: Ⅰ
B36: 変状の発生範囲の規模 | E36: - | M36: 変状の発生範囲の規模 | P36: -
B37: 前回定期点検時の状態 | E37: 漏水、にじみ | M37: 前回定期点検時の状態 | P37: 漏水、にじみ
B38: 調査方針 | E38: なし | M38: 調査方針 | P38: なし
B39: 対策履歴 | E39: なし | H39: 実施状況（実施日） | M39: 対策履歴 | P39: なし | S39: 実施状況（実施日）
B40: メモ | D40: 漏水、にじみ | M40: メモ | O40: 漏水、にじみ
C41: ※ 健全性の判定区分Ⅱ～Ⅳについて添付すること。また、点検前に実施 された措置によりⅠと判定された箇所も添付すること。 | N41: ※ 変状の発生範囲の規模とは、対策を行う際に参考となる変状の長さや面積をいう。
N42: ※ 応急措置を実施しないで判定した変状の対策区分は、対策区分の応急措置後の欄に記入すること。
C43: ※ たたき落としを実施した場合は、実施後の写真を添付すること。 | N43: ※ 変状の発生範囲の規模は、面積・寸法を記載すること。
C44: ※ 画像データは100kb程度とする。 | N44: (ひび割れ幅のみmmとし、その他をm表記とする)
C45: ※ 変状数に準じてシートを追加すること。（１シートに１ページとすること。） | N45: ※ 構造用鋼材以外の異物に伴ううき・はく離については、メモ欄に異物の概要を記入すること。

Sheet 様式D-1-1 (61)
B2: ■定期点検記録様式 変状写真台帳（トンネル本体工） 【様式D-1-1】
B3: フリガナ | D3: オオガタオ | H3: 路 線 名 | J3: 一般国道316号 | M3: 定期点検業者 | P3: 株式会社オリエンタルコンサルタンツ | S3: 定期点検年月日 | U3: 45280
B4: 名 称 | D4: 大ヶ峠トンネル | H4: 管理者名 | J4: 長門土木建築事務所 | M4: 定期点検者名 | P4: 妹尾 優大
B5: 写真 番号 | C5: 覆工 スパン 番号 | D5: S069 | M5: 写真 番号 | N5: 覆工 スパン 番号 | O5: S069
C7: 変状 番号 | D7: 3 | N7: 変状 番号 | O7: 4
B9: 変状 部位 | C9: 対象 箇所 | D9: 覆工・坑門 | M9: 変状 部位 | N9: 対象 箇所 | O9: 覆工・坑門
C11: 部位 区分 | D11: 横断目地（左側） | N11: 部位 区分 | O11: 横断目地（左側）
B13: 変状区分 | D13: 漏水 | M13: 変状区分 | O13: 漏水
B14: 変状種類 | D14: 補強・補修材の破損 | M14: 変状種類 | O14: 補強・補修材の破損
B15: 対策 区分 | C15: 応急措置前 | M15: 対策 区分 | N15: 応急措置前
C16: 応急措置後 | E16: Ⅱa | N16: 応急措置後 | P16: Ⅱa
B17: 健全性 | D17: Ⅱ | M17: 健全性 | O17: Ⅱ
B18: 変状の発生範囲の規模 | E18: 0.4m×0.1m | M18: 変状の発生範囲の規模 | P18: 0.6m×0.1m
B19: 前回定期点検時の状態 | E19: 0.4m×0.1mの導水工破損 | M19: 前回定期点検時の状態 | P19: 0.6m×0.1mの導水工破損
B20: 調査方針 | E20: なし | M20: 調査方針 | P20: なし
B21: 対策履歴 | E21: なし | H21: 実施状況（実施日） | M21: 対策履歴 | P21: なし | S21: 実施状況（実施日）
B22: メモ | D22: 導水工破損 | M22: メモ | O22: 導水工破損
B23: 写真 番号 | C23: 覆工 スパン 番号 | D23: S069 | M23: 写真 番号 | N23: 覆工 スパン 番号 | O23: S069
C25: 変状 番号 | D25: 5 | N25: 変状 番号 | O25: 6
B27: 変状 部位 | C27: 対象 箇所 | D27: 覆工・坑門 | M27: 変状 部位 | N27: 対象 箇所 | O27: 覆工・坑門
C29: 部位 区分 | D29: 横断目地（左側） | N29: 部位 区分 | O29: アーチ（右側）
B31: 変状区分 | D31: 漏水 | M31: 変状区分 | O31: 漏水
B32: 変状種類 | D32: 漏水 | M32: 変状種類 | O32: 漏水
B33: 対策 区分 | C33: 応急措置前 | M33: 対策 区分 | N33: 応急措置前
C34: 応急措置後 | E34: Ⅱa | N34: 応急措置後 | P34: Ⅰ
B35: 健全性 | D35: Ⅱ | M35: 健全性 | O35: Ⅰ
B36: 変状の発生範囲の規模 | E36: 8.0m×0.5m | M36: 変状の発生範囲の規模 | P36: -
B37: 前回定期点検時の状態 | E37: 漏水、にじみ | M37: 前回定期点検時の状態 | P37: 漏水、にじみ
B38: 調査方針 | E38: なし | M38: 調査方針 | P38: なし
B39: 対策履歴 | E39: なし | H39: 実施状況（実施日） | M39: 対策履歴 | P39: なし | S39: 実施状況（実施日）
B40: メモ | D40: 導水工からの漏水、滴水 | M40: メモ | O40: 漏水跡
C41: ※ 健全性の判定区分Ⅱ～Ⅳについて添付すること。また、点検前に実施 された措置によりⅠと判定された箇所も添付すること。 | N41: ※ 変状の発生範囲の規模とは、対策を行う際に参考となる変状の長さや面積をいう。
N42: ※ 応急措置を実施しないで判定した変状の対策区分は、対策区分の応急措置後の欄に記入すること。
C43: ※ たたき落としを実施した場合は、実施後の写真を添付すること。 | N43: ※ 変状の発生範囲の規模は、面積・寸法を記載すること。
C44: ※ 画像データは100kb程度とする。 | N44: (ひび割れ幅のみmmとし、その他をm表記とする)
C45: ※ 変状数に準じてシートを追加すること。（１シートに１ページとすること。） | N45: ※ 構造用鋼材以外の異物に伴ううき・はく離については、メモ欄に異物の概要を記入すること。

Sheet 様式D-1-1 (62)
B2: ■定期点検記録様式 変状写真台帳（トンネル本体工） 【様式D-1-1】
B3: フリガナ | D3: オオガタオ | H3: 路 線 名 | J3: 一般国道316号 | M3: 定期点検業者 | P3: 株式会社オリエンタルコンサルタンツ | S3: 定期点検年月日 | U3: 45280
B4: 名 称 | D4: 大ヶ峠トンネル | H4: 管理者名 | J4: 長門土木建築事務所 | M4: 定期点検者名 | P4: 妹尾 優大
B5: 写真 番号 | C5: 覆工 スパン 番号 | D5: S069 | M5: 写真 番号 | N5: 覆工 スパン 番号 | O5: S069
C7: 変状 番号 | D7: 7 | N7: 変状 番号 | O7: 8
B9: 変状 部位 | C9: 対象 箇所 | D9: 覆工・坑門 | M9: 変状 部位 | N9: 対象 箇所 | O9: 覆工・坑門
C11: 部位 区分 | D11: アーチ（右側） | N11: 部位 区分 | O11: アーチ（天端）
B13: 変状区分 | D13: 漏水 | M13: 変状区分 | O13: 漏水
B14: 変状種類 | D14: 漏水 | M14: 変状種類 | O14: 漏水
B15: 対策 区分 | C15: 応急措置前 | M15: 対策 区分 | N15: 応急措置前
C16: 応急措置後 | E16: Ⅱb | N16: 応急措置後 | P16: Ⅰ
B17: 健全性 | D17: Ⅱ | M17: 健全性 | O17: Ⅰ
B18: 変状の発生範囲の規模 | E18: 7.7m×0.5m | M18: 変状の発生範囲の規模 | P18: -
B19: 前回定期点検時の状態 | E19: 漏水、にじみ | M19: 前回定期点検時の状態 | P19: 漏水、にじみ
B20: 調査方針 | E20: なし | M20: 調査方針 | P20: なし
B21: 対策履歴 | E21: なし | H21: 実施状況（実施日） | M21: 対策履歴 | P21: なし | S21: 実施状況（実施日）
B22: メモ | D22: 導水工からの漏水、にじみ | M22: メモ | O22: 漏水跡
B23: 写真 番号 | C23: 覆工 スパン 番号 | D23: S069 | M23: 写真 番号 | N23: 覆工 スパン 番号 | O23: S069
C25: 変状 番号 | D25: 9 | N25: 変状 番号 | O25: 10
B27: 変状 部位 | C27: 対象 箇所 | D27: 覆工・坑門 | M27: 変状 部位 | N27: 対象 箇所 | O27: 覆工・坑門
C29: 部位 区分 | D29: 横断目地（右側） | N29: 部位 区分 | O29: 側壁（右側）
B31: 変状区分 | D31: 漏水 | M31: 変状区分 | O31: 漏水
B32: 変状種類 | D32: 漏水 | M32: 変状種類 | O32: 漏水
B33: 対策 区分 | C33: 応急措置前 | M33: 対策 区分 | N33: 応急措置前
C34: 応急措置後 | E34: Ⅱb | N34: 応急措置後 | P34: Ⅰ
B35: 健全性 | D35: Ⅱ | M35: 健全性 | O35: Ⅰ
B36: 変状の発生範囲の規模 | E36: 7.7m×0.5m | M36: 変状の発生範囲の規模 | P36: -
B37: 前回定期点検時の状態 | E37: 漏水、にじみ | M37: 前回定期点検時の状態 | P37: 漏水、にじみ
B38: 調査方針 | E38: なし | M38: 調査方針 | P38: なし
B39: 対策履歴 | E39: なし | H39: 実施状況（実施日） | M39: 対策履歴 | P39: なし | S39: 実施状況（実施日）
B40: メモ | D40: 導水工からの漏水、にじみ | M40: メモ | O40: 漏水、にじみ
C41: ※ 健全性の判定区分Ⅱ～Ⅳについて添付すること。また、点検前に実施 された措置によりⅠと判定された箇所も添付すること。 | N41: ※ 変状の発生範囲の規模とは、対策を行う際に参考となる変状の長さや面積をいう。
N42: ※ 応急措置を実施しないで判定した変状の対策区分は、対策区分の応急措置後の欄に記入すること。
C43: ※ たたき落としを実施した場合は、実施後の写真を添付すること。 | N43: ※ 変状の発生範囲の規模は、面積・寸法を記載すること。
C44: ※ 画像データは100kb程度とする。 | N44: (ひび割れ幅のみmmとし、その他をm表記とする)
C45: ※ 変状数に準じてシートを追加すること。（１シートに１ページとすること。） | N45: ※ 構造用鋼材以外の異物に伴ううき・はく離については、メモ欄に異物の概要を記入すること。

Sheet 様式D-1-1 (63)
B2: ■定期点検記録様式 変状写真台帳（トンネル本体工） 【様式D-1-1】
B3: フリガナ | D3: オオガタオ | H3: 路 線 名 | J3: 一般国道316号 | M3: 定期点検業者 | P3: 株式会社オリエンタルコンサルタンツ | S3: 定期点検年月日 | U3: 45280
B4: 名 称 | D4: 大ヶ峠トンネル | H4: 管理者名 | J4: 長門土木建築事務所 | M4: 定期点検者名 | P4: 妹尾 優大
B5: 写真 番号 | C5: 覆工 スパン 番号 | D5: S069 | M5: 写真 番号 | N5: 覆工 スパン 番号 | O5: S069
C7: 変状 番号 | D7: 11 | N7: 変状 番号 | O7: 12
B9: 変状 部位 | C9: 対象 箇所 | D9: 路面 | M9: 変状 部位 | N9: 対象 箇所 | O9: 路面
C11: 部位 区分 | D11: 監査歩路 | N11: 部位 区分 | O11: 監査歩路
B13: 変状区分 | D13: 漏水 | M13: 変状区分 | O13: 漏水
B14: 変状種類 | D14: 滞水 | M14: 変状種類 | O14: 滞水
B15: 対策 区分 | C15: 応急措置前 | M15: 対策 区分 | N15: 応急措置前
C16: 応急措置後 | E16: － | N16: 応急措置後 | P16: －
B17: 健全性 | D17: － | M17: 健全性 | O17: －
B18: 変状の発生範囲の規模 | E18: 0.3m×3.0m | M18: 変状の発生範囲の規模 | P18: 0.3m×6.2m
B19: 前回定期点検時の状態 | E19: - | M19: 前回定期点検時の状態 | P19: -
B20: 調査方針 | E20: なし | M20: 調査方針 | P20: なし
B21: 対策履歴 | E21: なし | H21: 実施状況（実施日） | M21: 対策履歴 | P21: なし | S21: 実施状況（実施日）
B22: メモ | D22: 滞水 | M22: メモ | O22: 滞水
B23: 写真 番号 | C23: 覆工 スパン 番号 | D23: S069 | M23: 写真 番号 | N23: 覆工 スパン 番号 | O23: S069
C25: 変状 番号 | D25: 13 | N25: 変状 番号 | O25: 14
B27: 変状 部位 | C27: 対象 箇所 | D27: 路面 | M27: 変状 部位 | N27: 対象 箇所 | O27: 路面
C29: 部位 区分 | D29: 車道 | N29: 部位 区分 | O29: 監査歩路
B31: 変状区分 | D31: 材質劣化 | M31: 変状区分 | O31: 漏水
B32: 変状種類 | D32: うき・はく離 | M32: 変状種類 | O32: 滞水
B33: 対策 区分 | C33: 応急措置前 | M33: 対策 区分 | N33: 応急措置前
C34: 応急措置後 | E34: － | N34: 応急措置後 | P34: －
B35: 健全性 | D35: － | M35: 健全性 | O35: －
B36: 変状の発生範囲の規模 | E36: 1.0m×0.2m | M36: 変状の発生範囲の規模 | P36: 0.3m×9.5m
B37: 前回定期点検時の状態 | E37: 0.6m×0.25mのうき | M37: 前回定期点検時の状態 | P37: -
B38: 調査方針 | E38: なし | M38: 調査方針 | P38: なし
B39: 対策履歴 | E39: なし | H39: 実施状況（実施日） | M39: 対策履歴 | P39: なし | S39: 実施状況（実施日）
B40: メモ | D40: 舗装のうき | M40: メモ | O40: 滞水
C41: ※ 健全性の判定区分Ⅱ～Ⅳについて添付すること。また、点検前に実施 された措置によりⅠと判定された箇所も添付すること。 | N41: ※ 変状の発生範囲の規模とは、対策を行う際に参考となる変状の長さや面積をいう。
N42: ※ 応急措置を実施しないで判定した変状の対策区分は、対策区分の応急措置後の欄に記入すること。
C43: ※ たたき落としを実施した場合は、実施後の写真を添付すること。 | N43: ※ 変状の発生範囲の規模は、面積・寸法を記載すること。
C44: ※ 画像データは100kb程度とする。 | N44: (ひび割れ幅のみmmとし、その他をm表記とする)
C45: ※ 変状数に準じてシートを追加すること。（１シートに１ページとすること。） | N45: ※ 構造用鋼材以外の異物に伴ううき・はく離については、メモ欄に異物の概要を記入すること。

Sheet 様式D-1-1 (64)
B2: ■定期点検記録様式 変状写真台帳（トンネル本体工） 【様式D-1-1】
B3: フリガナ | D3: オオガタオ | H3: 路 線 名 | J3: 一般国道316号 | M3: 定期点検業者 | P3: 株式会社オリエンタルコンサルタンツ | S3: 定期点検年月日 | U3: 45280
B4: 名 称 | D4: 大ヶ峠トンネル | H4: 管理者名 | J4: 長門土木建築事務所 | M4: 定期点検者名 | P4: 妹尾 優大
B5: 写真 番号 | C5: 覆工 スパン 番号 | D5: S070 | M5: 写真 番号 | N5: 覆工 スパン 番号 | O5: S070
C7: 変状 番号 | D7: 1 | N7: 変状 番号 | O7: 2
B9: 変状 部位 | C9: 対象 箇所 | D9: 覆工・坑門 | M9: 変状 部位 | N9: 対象 箇所 | O9: 覆工・坑門
C11: 部位 区分 | D11: 側壁（左側） | N11: 部位 区分 | O11: 横断目地（左側）
B13: 変状区分 | D13: 漏水 | M13: 変状区分 | O13: 材質劣化
B14: 変状種類 | D14: 漏水 | M14: 変状種類 | O14: うき・はく離
B15: 対策 区分 | C15: 応急措置前 | M15: 対策 区分 | N15: 応急措置前
C16: 応急措置後 | E16: Ⅰ | N16: 応急措置後 | P16: Ⅲ
B17: 健全性 | D17: Ⅰ | M17: 健全性 | O17: Ⅲ
B18: 変状の発生範囲の規模 | E18: - | M18: 変状の発生範囲の規模 | P18: 0.3m×0.1m
B19: 前回定期点検時の状態 | E19: 漏水、にじみ | M19: 前回定期点検時の状態 | P19: 0.3m×0.1mのうき
B20: 調査方針 | E20: なし | M20: 調査方針 | P20: なし
B21: 対策履歴 | E21: なし | H21: 実施状況（実施日） | M21: 対策履歴 | P21: なし | S21: 実施状況（実施日）
B22: メモ | D22: 漏水、にじみ | M22: メモ | O22: 補修跡のうき
B23: 写真 番号 | C23: 覆工 スパン 番号 | D23: S070 | M23: 写真 番号 | N23: 覆工 スパン 番号 | O23: S070
C25: 変状 番号 | D25: 3 | N25: 変状 番号 | O25: 4
B27: 変状 部位 | C27: 対象 箇所 | D27: 路面 | M27: 変状 部位 | N27: 対象 箇所 | O27: 路面
C29: 部位 区分 | D29: 車道 | N29: 部位 区分 | O29: 監査歩路
B31: 変状区分 | D31: 材質劣化 | M31: 変状区分 | O31: 漏水
B32: 変状種類 | D32: うき・はく離 | M32: 変状種類 | O32: 滞水
B33: 対策 区分 | C33: 応急措置前 | M33: 対策 区分 | N33: 応急措置前
C34: 応急措置後 | E34: － | N34: 応急措置後 | P34: －
B35: 健全性 | D35: － | M35: 健全性 | O35: －
B36: 変状の発生範囲の規模 | E36: 0.5m×0.1m | M36: 変状の発生範囲の規模 | P36: 0.3m×8.5m
B37: 前回定期点検時の状態 | E37: 0.4m×0.1mの欠損 | M37: 前回定期点検時の状態 | P37: -
B38: 調査方針 | E38: なし | M38: 調査方針 | P38: なし
B39: 対策履歴 | E39: なし | H39: 実施状況（実施日） | M39: 対策履歴 | P39: なし | S39: 実施状況（実施日）
B40: メモ | D40: 舗装のうき | M40: メモ | O40: 滞水
C41: ※ 健全性の判定区分Ⅱ～Ⅳについて添付すること。また、点検前に実施 された措置によりⅠと判定された箇所も添付すること。 | N41: ※ 変状の発生範囲の規模とは、対策を行う際に参考となる変状の長さや面積をいう。
N42: ※ 応急措置を実施しないで判定した変状の対策区分は、対策区分の応急措置後の欄に記入すること。
C43: ※ たたき落としを実施した場合は、実施後の写真を添付すること。 | N43: ※ 変状の発生範囲の規模は、面積・寸法を記載すること。
C44: ※ 画像データは100kb程度とする。 | N44: (ひび割れ幅のみmmとし、その他をm表記とする)
C45: ※ 変状数に準じてシートを追加すること。（１シートに１ページとすること。） | N45: ※ 構造用鋼材以外の異物に伴ううき・はく離については、メモ欄に異物の概要を記入すること。

Sheet 様式D-1-1 (65)
B2: ■定期点検記録様式 変状写真台帳（トンネル本体工） 【様式D-1-1】
B3: フリガナ | D3: オオガタオ | H3: 路 線 名 | J3: 一般国道316号 | M3: 定期点検業者 | P3: 株式会社オリエンタルコンサルタンツ | S3: 定期点検年月日 | U3: 45280
B4: 名 称 | D4: 大ヶ峠トンネル | H4: 管理者名 | J4: 長門土木建築事務所 | M4: 定期点検者名 | P4: 妹尾 優大
B5: 写真 番号 | C5: 覆工 スパン 番号 | D5: S071 | M5: 写真 番号 | N5: 覆工 スパン 番号 | O5: S072
C7: 変状 番号 | D7: 1 | N7: 変状 番号 | O7: 1
B9: 変状 部位 | C9: 対象 箇所 | D9: 覆工・坑門 | M9: 変状 部位 | N9: 対象 箇所 | O9: 覆工・坑門
C11: 部位 区分 | D11: 横断目地（右側） | N11: 部位 区分 | O11: 側壁（左側）
B13: 変状区分 | D13: 漏水 | M13: 変状区分 | O13: 漏水
B14: 変状種類 | D14: 漏水 | M14: 変状種類 | O14: 漏水
B15: 対策 区分 | C15: 応急措置前 | M15: 対策 区分 | N15: 応急措置前
C16: 応急措置後 | E16: Ⅱa | N16: 応急措置後 | P16: Ⅰ
B17: 健全性 | D17: Ⅱ | M17: 健全性 | O17: Ⅰ
B18: 変状の発生範囲の規模 | E18: 7.8m×0.5m | M18: 変状の発生範囲の規模 | P18: -
B19: 前回定期点検時の状態 | E19: 漏水、滴水 | M19: 前回定期点検時の状態 | P19: 漏水、にじみ
B20: 調査方針 | E20: なし | M20: 調査方針 | P20: なし
B21: 対策履歴 | E21: なし | H21: 実施状況（実施日） | M21: 対策履歴 | P21: なし | S21: 実施状況（実施日）
B22: メモ | D22: 導水工からの漏水、滴水 | M22: メモ | O22: 漏水、にじみ
B23: 写真 番号 | C23: 覆工 スパン 番号 | D23: S072 | M23: 写真 番号 | N23: 覆工 スパン 番号 | O23: S072
C25: 変状 番号 | D25: 2 | N25: 変状 番号 | O25: 3
B27: 変状 部位 | C27: 対象 箇所 | D27: 覆工・坑門 | M27: 変状 部位 | N27: 対象 箇所 | O27: 覆工・坑門
C29: 部位 区分 | D29: 側壁（左側） | N29: 部位 区分 | O29: 側壁（左側）
B31: 変状区分 | D31: 漏水 | M31: 変状区分 | O31: 漏水
B32: 変状種類 | D32: 漏水 | M32: 変状種類 | O32: 漏水
B33: 対策 区分 | C33: 応急措置前 | M33: 対策 区分 | N33: 応急措置前
C34: 応急措置後 | E34: Ⅰ | N34: 応急措置後 | P34: Ⅰ
B35: 健全性 | D35: Ⅰ | M35: 健全性 | O35: Ⅰ
B36: 変状の発生範囲の規模 | E36: - | M36: 変状の発生範囲の規模 | P36: -
B37: 前回定期点検時の状態 | E37: 漏水、にじみ | M37: 前回定期点検時の状態 | P37: 漏水、にじみ
B38: 調査方針 | E38: なし | M38: 調査方針 | P38: なし
B39: 対策履歴 | E39: なし | H39: 実施状況（実施日） | M39: 対策履歴 | P39: なし | S39: 実施状況（実施日）
B40: メモ | D40: 漏水、にじみ | M40: メモ | O40: 漏水、にじみ
C41: ※ 健全性の判定区分Ⅱ～Ⅳについて添付すること。また、点検前に実施 された措置によりⅠと判定された箇所も添付すること。 | N41: ※ 変状の発生範囲の規模とは、対策を行う際に参考となる変状の長さや面積をいう。
N42: ※ 応急措置を実施しないで判定した変状の対策区分は、対策区分の応急措置後の欄に記入すること。
C43: ※ たたき落としを実施した場合は、実施後の写真を添付すること。 | N43: ※ 変状の発生範囲の規模は、面積・寸法を記載すること。
C44: ※ 画像データは100kb程度とする。 | N44: (ひび割れ幅のみmmとし、その他をm表記とする)
C45: ※ 変状数に準じてシートを追加すること。（１シートに１ページとすること。） | N45: ※ 構造用鋼材以外の異物に伴ううき・はく離については、メモ欄に異物の概要を記入すること。

Sheet 様式D-1-1 (66)
B2: ■定期点検記録様式 変状写真台帳（トンネル本体工） 【様式D-1-1】
B3: フリガナ | D3: オオガタオ | H3: 路 線 名 | J3: 一般国道316号 | M3: 定期点検業者 | P3: 株式会社オリエンタルコンサルタンツ | S3: 定期点検年月日 | U3: 45280
B4: 名 称 | D4: 大ヶ峠トンネル | H4: 管理者名 | J4: 長門土木建築事務所 | M4: 定期点検者名 | P4: 妹尾 優大
B5: 写真 番号 | C5: 覆工 スパン 番号 | D5: S072 | M5: 写真 番号 | N5: 覆工 スパン 番号 | O5: S072
C7: 変状 番号 | D7: 4 | N7: 変状 番号 | O7: 5
B9: 変状 部位 | C9: 対象 箇所 | D9: 覆工・坑門 | M9: 変状 部位 | N9: 対象 箇所 | O9: 覆工・坑門
C11: 部位 区分 | D11: アーチ（左側） | N11: 部位 区分 | O11: 横断目地（右側）
B13: 変状区分 | D13: 漏水 | M13: 変状区分 | O13: 材質劣化
B14: 変状種類 | D14: 漏水 | M14: 変状種類 | O14: うき・はく離
B15: 対策 区分 | C15: 応急措置前 | M15: 対策 区分 | N15: 応急措置前
C16: 応急措置後 | E16: Ⅰ | N16: 応急措置後 | P16: Ⅲ
B17: 健全性 | D17: Ⅰ | M17: 健全性 | O17: Ⅲ
B18: 変状の発生範囲の規模 | E18: - | M18: 変状の発生範囲の規模 | P18: 1.3m×0.15m
B19: 前回定期点検時の状態 | E19: 漏水、にじみ | M19: 前回定期点検時の状態 | P19: 1.3m×0.15mのうき
B20: 調査方針 | E20: なし | M20: 調査方針 | P20: なし
B21: 対策履歴 | E21: 導水工 | H21: 実施状況（実施日） | M21: 対策履歴 | P21: なし | S21: 実施状況（実施日）
B22: メモ | D22: 導水工新設により対策済み | M22: メモ | O22: 補修跡のうき
B23: 写真 番号 | C23: 覆工 スパン 番号 | D23: S072 | M23: 写真 番号 | N23: 覆工 スパン 番号 | O23: S072
C25: 変状 番号 | D25: 6 | N25: 変状 番号 | O25: 7
B27: 変状 部位 | C27: 対象 箇所 | D27: 覆工・坑門 | M27: 変状 部位 | N27: 対象 箇所 | O27: 覆工・坑門
C29: 部位 区分 | D29: 横断目地（右側） | N29: 部位 区分 | O29: 横断目地（右側）
B31: 変状区分 | D31: 材質劣化 | M31: 変状区分 | O31: 材質劣化
B32: 変状種類 | D32: うき・はく離 | M32: 変状種類 | O32: うき・はく離
B33: 対策 区分 | C33: 応急措置前 | M33: 対策 区分 | N33: 応急措置前
C34: 応急措置後 | E34: Ⅲ | N34: 応急措置後 | P34: Ⅱb
B35: 健全性 | D35: Ⅲ | M35: 健全性 | O35: Ⅱ
B36: 変状の発生範囲の規模 | E36: 0.75m×0.1m | M36: 変状の発生範囲の規模 | P36: 0.9m×0.15m
B37: 前回定期点検時の状態 | E37: 0.75m×0.1mのうき | M37: 前回定期点検時の状態 | P37: 0.9m×0.15mの閉合ひび割れ(打音異常なし)
B38: 調査方針 | E38: なし | M38: 調査方針 | P38: なし
B39: 対策履歴 | E39: なし | H39: 実施状況（実施日） | M39: 対策履歴 | P39: なし | S39: 実施状況（実施日）
B40: メモ | D40: 横断目地付近のうき | M40: メモ | O40: 閉合ひび割れ(打音異常なし)
C41: ※ 健全性の判定区分Ⅱ～Ⅳについて添付すること。また、点検前に実施 された措置によりⅠと判定された箇所も添付すること。 | N41: ※ 変状の発生範囲の規模とは、対策を行う際に参考となる変状の長さや面積をいう。
N42: ※ 応急措置を実施しないで判定した変状の対策区分は、対策区分の応急措置後の欄に記入すること。
C43: ※ たたき落としを実施した場合は、実施後の写真を添付すること。 | N43: ※ 変状の発生範囲の規模は、面積・寸法を記載すること。
C44: ※ 画像データは100kb程度とする。 | N44: (ひび割れ幅のみmmとし、その他をm表記とする)
C45: ※ 変状数に準じてシートを追加すること。（１シートに１ページとすること。） | N45: ※ 構造用鋼材以外の異物に伴ううき・はく離については、メモ欄に異物の概要を記入すること。

Sheet 様式D-1-1 (67)
B2: ■定期点検記録様式 変状写真台帳（トンネル本体工） 【様式D-1-1】
B3: フリガナ | D3: オオガタオ | H3: 路 線 名 | J3: 一般国道316号 | M3: 定期点検業者 | P3: 株式会社オリエンタルコンサルタンツ | S3: 定期点検年月日 | U3: 45280
B4: 名 称 | D4: 大ヶ峠トンネル | H4: 管理者名 | J4: 長門土木建築事務所 | M4: 定期点検者名 | P4: 妹尾 優大
B5: 写真 番号 | C5: 覆工 スパン 番号 | D5: S072 | M5: 写真 番号 | N5: 覆工 スパン 番号 | O5: S072
C7: 変状 番号 | D7: 8 | N7: 変状 番号 | O7: 9
B9: 変状 部位 | C9: 対象 箇所 | D9: 覆工・坑門 | M9: 変状 部位 | N9: 対象 箇所 | O9: 路面
C11: 部位 区分 | D11: 側壁（右側） | N11: 部位 区分 | O11: 監査歩路
B13: 変状区分 | D13: 漏水 | M13: 変状区分 | O13: 漏水
B14: 変状種類 | D14: 漏水 | M14: 変状種類 | O14: 滞水
B15: 対策 区分 | C15: 応急措置前 | M15: 対策 区分 | N15: 応急措置前
C16: 応急措置後 | E16: Ⅰ | N16: 応急措置後 | P16: －
B17: 健全性 | D17: Ⅰ | M17: 健全性 | O17: －
B18: 変状の発生範囲の規模 | E18: - | M18: 変状の発生範囲の規模 | P18: 0.3m×20.5m
B19: 前回定期点検時の状態 | E19: 漏水、にじみ | M19: 前回定期点検時の状態 | P19: -
B20: 調査方針 | E20: なし | M20: 調査方針 | P20: なし
B21: 対策履歴 | E21: なし | H21: 実施状況（実施日） | M21: 対策履歴 | P21: なし | S21: 実施状況（実施日）
B22: メモ | D22: 漏水跡 | M22: メモ | O22: 滞水
B23: 写真 番号 | C23: 覆工 スパン 番号 | D23: S073 | M23: 写真 番号 | N23: 覆工 スパン 番号 | O23: S073
C25: 変状 番号 | D25: 1 | N25: 変状 番号 | O25: 2
B27: 変状 部位 | C27: 対象 箇所 | D27: 覆工・坑門 | M27: 変状 部位 | N27: 対象 箇所 | O27: 覆工・坑門
C29: 部位 区分 | D29: 側壁（左側） | N29: 部位 区分 | O29: 側壁（左側）
B31: 変状区分 | D31: 漏水 | M31: 変状区分 | O31: 漏水
B32: 変状種類 | D32: 漏水 | M32: 変状種類 | O32: 漏水
B33: 対策 区分 | C33: 応急措置前 | M33: 対策 区分 | N33: 応急措置前
C34: 応急措置後 | E34: Ⅰ | N34: 応急措置後 | P34: Ⅰ
B35: 健全性 | D35: Ⅰ | M35: 健全性 | O35: Ⅰ
B36: 変状の発生範囲の規模 | E36: - | M36: 変状の発生範囲の規模 | P36: -
B37: 前回定期点検時の状態 | E37: 漏水、にじみ | M37: 前回定期点検時の状態 | P37: 漏水、にじみ
B38: 調査方針 | E38: なし | M38: 調査方針 | P38: なし
B39: 対策履歴 | E39: なし | H39: 実施状況（実施日） | M39: 対策履歴 | P39: なし | S39: 実施状況（実施日）
B40: メモ | D40: 漏水、にじみ | M40: メモ | O40: 漏水、にじみ
C41: ※ 健全性の判定区分Ⅱ～Ⅳについて添付すること。また、点検前に実施 された措置によりⅠと判定された箇所も添付すること。 | N41: ※ 変状の発生範囲の規模とは、対策を行う際に参考となる変状の長さや面積をいう。
N42: ※ 応急措置を実施しないで判定した変状の対策区分は、対策区分の応急措置後の欄に記入すること。
C43: ※ たたき落としを実施した場合は、実施後の写真を添付すること。 | N43: ※ 変状の発生範囲の規模は、面積・寸法を記載すること。
C44: ※ 画像データは100kb程度とする。 | N44: (ひび割れ幅のみmmとし、その他をm表記とする)
C45: ※ 変状数に準じてシートを追加すること。（１シートに１ページとすること。） | N45: ※ 構造用鋼材以外の異物に伴ううき・はく離については、メモ欄に異物の概要を記入すること。

Sheet 様式D-1-1 (68)
B2: ■定期点検記録様式 変状写真台帳（トンネル本体工） 【様式D-1-1】
B3: フリガナ | D3: オオガタオ | H3: 路 線 名 | J3: 一般国道316号 | M3: 定期点検業者 | P3: 株式会社オリエンタルコンサルタンツ | S3: 定期点検年月日 | U3: 45280
B4: 名 称 | D4: 大ヶ峠トンネル | H4: 管理者名 | J4: 長門土木建築事務所 | M4: 定期点検者名 | P4: 妹尾 優大
B5: 写真 番号 | C5: 覆工 スパン 番号 | D5: S073 | M5: 写真 番号 | N5: 覆工 スパン 番号 | O5: S073
C7: 変状 番号 | D7: 3 | N7: 変状 番号 | O7: 4
B9: 変状 部位 | C9: 対象 箇所 | D9: 覆工・坑門 | M9: 変状 部位 | N9: 対象 箇所 | O9: 覆工・坑門
C11: 部位 区分 | D11: 側壁（左側） | N11: 部位 区分 | O11: 側壁（左側）
B13: 変状区分 | D13: 漏水 | M13: 変状区分 | O13: 漏水
B14: 変状種類 | D14: 漏水 | M14: 変状種類 | O14: 漏水
B15: 対策 区分 | C15: 応急措置前 | M15: 対策 区分 | N15: 応急措置前
C16: 応急措置後 | E16: Ⅰ | N16: 応急措置後 | P16: Ⅰ
B17: 健全性 | D17: Ⅰ | M17: 健全性 | O17: Ⅰ
B18: 変状の発生範囲の規模 | E18: - | M18: 変状の発生範囲の規模 | P18: -
B19: 前回定期点検時の状態 | E19: 漏水、にじみ | M19: 前回定期点検時の状態 | P19: 漏水、にじみ
B20: 調査方針 | E20: なし | M20: 調査方針 | P20: なし
B21: 対策履歴 | E21: なし | H21: 実施状況（実施日） | M21: 対策履歴 | P21: なし | S21: 実施状況（実施日）
B22: メモ | D22: 漏水、にじみ | M22: メモ | O22: 漏水、にじみ
B23: 写真 番号 | C23: 覆工 スパン 番号 | D23: S073 | M23: 写真 番号 | N23: 覆工 スパン 番号 | O23: S073
C25: 変状 番号 | D25: 5 | N25: 変状 番号 | O25: 6
B27: 変状 部位 | C27: 対象 箇所 | D27: 覆工・坑門 | M27: 変状 部位 | N27: 対象 箇所 | O27: 覆工・坑門
C29: 部位 区分 | D29: 横断目地（左側） | N29: 部位 区分 | O29: 横断目地（左側）
B31: 変状区分 | D31: 漏水 | M31: 変状区分 | O31: 漏水
B32: 変状種類 | D32: 補強・補修材の破損 | M32: 変状種類 | O32: 漏水
B33: 対策 区分 | C33: 応急措置前 | M33: 対策 区分 | N33: 応急措置前
C34: 応急措置後 | E34: Ⅱa | N34: 応急措置後 | P34: Ⅱb
B35: 健全性 | D35: Ⅱ | M35: 健全性 | O35: Ⅱ
B36: 変状の発生範囲の規模 | E36: 1.7m×0.1m | M36: 変状の発生範囲の規模 | P36: 6.2m×0.5m
B37: 前回定期点検時の状態 | E37: 1.7m×0.1mの導水工破損 | M37: 前回定期点検時の状態 | P37: -
B38: 調査方針 | E38: なし | M38: 調査方針 | P38: なし
B39: 対策履歴 | E39: なし | H39: 実施状況（実施日） | M39: 対策履歴 | P39: なし | S39: 実施状況（実施日）
B40: メモ | D40: 導水工破損 | M40: メモ | O40: 導水工からの漏水、にじみ
C41: ※ 健全性の判定区分Ⅱ～Ⅳについて添付すること。また、点検前に実施 された措置によりⅠと判定された箇所も添付すること。 | N41: ※ 変状の発生範囲の規模とは、対策を行う際に参考となる変状の長さや面積をいう。
N42: ※ 応急措置を実施しないで判定した変状の対策区分は、対策区分の応急措置後の欄に記入すること。
C43: ※ たたき落としを実施した場合は、実施後の写真を添付すること。 | N43: ※ 変状の発生範囲の規模は、面積・寸法を記載すること。
C44: ※ 画像データは100kb程度とする。 | N44: (ひび割れ幅のみmmとし、その他をm表記とする)
C45: ※ 変状数に準じてシートを追加すること。（１シートに１ページとすること。） | N45: ※ 構造用鋼材以外の異物に伴ううき・はく離については、メモ欄に異物の概要を記入すること。

Sheet 様式D-1-1 (69)
B2: ■定期点検記録様式 変状写真台帳（トンネル本体工） 【様式D-1-1】
B3: フリガナ | D3: オオガタオ | H3: 路 線 名 | J3: 一般国道316号 | M3: 定期点検業者 | P3: 株式会社オリエンタルコンサルタンツ | S3: 定期点検年月日 | U3: 45280
B4: 名 称 | D4: 大ヶ峠トンネル | H4: 管理者名 | J4: 長門土木建築事務所 | M4: 定期点検者名 | P4: 妹尾 優大
B5: 写真 番号 | C5: 覆工 スパン 番号 | D5: S073 | M5: 写真 番号 | N5: 覆工 スパン 番号 | O5: S073
C7: 変状 番号 | D7: 7 | N7: 変状 番号 | O7: 8
B9: 変状 部位 | C9: 対象 箇所 | D9: 覆工・坑門 | M9: 変状 部位 | N9: 対象 箇所 | O9: 覆工・坑門
C11: 部位 区分 | D11: 横断目地（左側） | N11: 部位 区分 | O11: 横断目地（左側）
B13: 変状区分 | D13: 漏水 | M13: 変状区分 | O13: 漏水
B14: 変状種類 | D14: 補強・補修材の破損 | M14: 変状種類 | O14: 漏水
B15: 対策 区分 | C15: 応急措置前 | M15: 対策 区分 | N15: 応急措置前
C16: 応急措置後 | E16: Ⅱa | N16: 応急措置後 | P16: Ⅱb
B17: 健全性 | D17: Ⅱ | M17: 健全性 | O17: Ⅱ
B18: 変状の発生範囲の規模 | E18: 0.3m×0.1m | M18: 変状の発生範囲の規模 | P18: 7.5m×0.5m
B19: 前回定期点検時の状態 | E19: 0.3m×0.1mの導水工破損 | M19: 前回定期点検時の状態 | P19: 漏水、にじみ
B20: 調査方針 | E20: なし | M20: 調査方針 | P20: なし
B21: 対策履歴 | E21: なし | H21: 実施状況（実施日） | M21: 対策履歴 | P21: なし | S21: 実施状況（実施日）
B22: メモ | D22: 導水工破損 | M22: メモ | O22: 導水工からの漏水、にじみ
B23: 写真 番号 | C23: 覆工 スパン 番号 | D23: S073 | M23: 写真 番号 | N23: 覆工 スパン 番号 | O23: S073
C25: 変状 番号 | D25: 9 | N25: 変状 番号 | O25: 10
B27: 変状 部位 | C27: 対象 箇所 | D27: 覆工・坑門 | M27: 変状 部位 | N27: 対象 箇所 | O27: 覆工・坑門
C29: 部位 区分 | D29: 横断目地（左側） | N29: 部位 区分 | O29: 横断目地（天端）
B31: 変状区分 | D31: 漏水 | M31: 変状区分 | O31: 漏水
B32: 変状種類 | D32: 補強・補修材の破損 | M32: 変状種類 | O32: 漏水
B33: 対策 区分 | C33: 応急措置前 | M33: 対策 区分 | N33: 応急措置前
C34: 応急措置後 | E34: Ⅱa | N34: 応急措置後 | P34: Ⅱb
B35: 健全性 | D35: Ⅱ | M35: 健全性 | O35: Ⅱ
B36: 変状の発生範囲の規模 | E36: 1.0m×0.1m | M36: 変状の発生範囲の規模 | P36: 8.5m×0.5m
B37: 前回定期点検時の状態 | E37: 1.0m×0.1mの導水工破損 | M37: 前回定期点検時の状態 | P37: 漏水、にじみ
B38: 調査方針 | E38: なし | M38: 調査方針 | P38: なし
B39: 対策履歴 | E39: なし | H39: 実施状況（実施日） | M39: 対策履歴 | P39: なし | S39: 実施状況（実施日）
B40: メモ | D40: 導水工破損 | M40: メモ | O40: 導水工からの漏水、にじみ
C41: ※ 健全性の判定区分Ⅱ～Ⅳについて添付すること。また、点検前に実施 された措置によりⅠと判定された箇所も添付すること。 | N41: ※ 変状の発生範囲の規模とは、対策を行う際に参考となる変状の長さや面積をいう。
N42: ※ 応急措置を実施しないで判定した変状の対策区分は、対策区分の応急措置後の欄に記入すること。
C43: ※ たたき落としを実施した場合は、実施後の写真を添付すること。 | N43: ※ 変状の発生範囲の規模は、面積・寸法を記載すること。
C44: ※ 画像データは100kb程度とする。 | N44: (ひび割れ幅のみmmとし、その他をm表記とする)
C45: ※ 変状数に準じてシートを追加すること。（１シートに１ページとすること。） | N45: ※ 構造用鋼材以外の異物に伴ううき・はく離については、メモ欄に異物の概要を記入すること。

Sheet 様式D-1-1 (70)
B2: ■定期点検記録様式 変状写真台帳（トンネル本体工） 【様式D-1-1】
B3: フリガナ | D3: オオガタオ | H3: 路 線 名 | J3: 一般国道316号 | M3: 定期点検業者 | P3: 株式会社オリエンタルコンサルタンツ | S3: 定期点検年月日 | U3: 45280
B4: 名 称 | D4: 大ヶ峠トンネル | H4: 管理者名 | J4: 長門土木建築事務所 | M4: 定期点検者名 | P4: 妹尾 優大
B5: 写真 番号 | C5: 覆工 スパン 番号 | D5: S073 | M5: 写真 番号 | N5: 覆工 スパン 番号 | O5: S073
C7: 変状 番号 | D7: 11 | N7: 変状 番号 | O7: 12
B9: 変状 部位 | C9: 対象 箇所 | D9: 覆工・坑門 | M9: 変状 部位 | N9: 対象 箇所 | O9: 覆工・坑門
C11: 部位 区分 | D11: 横断目地（右側） | N11: 部位 区分 | O11: 側壁（右側）
B13: 変状区分 | D13: 漏水 | M13: 変状区分 | O13: 漏水
B14: 変状種類 | D14: 補強・補修材の破損 | M14: 変状種類 | O14: 漏水
B15: 対策 区分 | C15: 応急措置前 | M15: 対策 区分 | N15: 応急措置前
C16: 応急措置後 | E16: Ⅱa | N16: 応急措置後 | P16: Ⅰ
B17: 健全性 | D17: Ⅱ | M17: 健全性 | O17: Ⅰ
B18: 変状の発生範囲の規模 | E18: 0.4m×0.1m | M18: 変状の発生範囲の規模 | P18: -
B19: 前回定期点検時の状態 | E19: 0.4m×0.1mの導水工破損 | M19: 前回定期点検時の状態 | P19: 漏水、にじみ
B20: 調査方針 | E20: なし | M20: 調査方針 | P20: なし
B21: 対策履歴 | E21: なし | H21: 実施状況（実施日） | M21: 対策履歴 | P21: なし | S21: 実施状況（実施日）
B22: メモ | D22: 導水工破損 | M22: メモ | O22: 漏水、にじみ
B23: 写真 番号 | C23: 覆工 スパン 番号 | D23: S073 | M23: 写真 番号 | N23: 覆工 スパン 番号 | O23: S073
C25: 変状 番号 | D25: 13 | N25: 変状 番号 | O25: 14
B27: 変状 部位 | C27: 対象 箇所 | D27: 覆工・坑門 | M27: 変状 部位 | N27: 対象 箇所 | O27: 路面
C29: 部位 区分 | D29: 側壁（右側） | N29: 部位 区分 | O29: 監査歩路
B31: 変状区分 | D31: 漏水 | M31: 変状区分 | O31: 漏水
B32: 変状種類 | D32: 漏水 | M32: 変状種類 | O32: 滞水
B33: 対策 区分 | C33: 応急措置前 | M33: 対策 区分 | N33: 応急措置前
C34: 応急措置後 | E34: Ⅰ | N34: 応急措置後 | P34: －
B35: 健全性 | D35: Ⅰ | M35: 健全性 | O35: －
B36: 変状の発生範囲の規模 | E36: - | M36: 変状の発生範囲の規模 | P36: 0.3m×9.0m
B37: 前回定期点検時の状態 | E37: 漏水、にじみ | M37: 前回定期点検時の状態 | P37: -
B38: 調査方針 | E38: なし | M38: 調査方針 | P38: なし
B39: 対策履歴 | E39: なし | H39: 実施状況（実施日） | M39: 対策履歴 | P39: なし | S39: 実施状況（実施日）
B40: メモ | D40: 漏水、にじみ | M40: メモ | O40: 滞水
C41: ※ 健全性の判定区分Ⅱ～Ⅳについて添付すること。また、点検前に実施 された措置によりⅠと判定された箇所も添付すること。 | N41: ※ 変状の発生範囲の規模とは、対策を行う際に参考となる変状の長さや面積をいう。
N42: ※ 応急措置を実施しないで判定した変状の対策区分は、対策区分の応急措置後の欄に記入すること。
C43: ※ たたき落としを実施した場合は、実施後の写真を添付すること。 | N43: ※ 変状の発生範囲の規模は、面積・寸法を記載すること。
C44: ※ 画像データは100kb程度とする。 | N44: (ひび割れ幅のみmmとし、その他をm表記とする)
C45: ※ 変状数に準じてシートを追加すること。（１シートに１ページとすること。） | N45: ※ 構造用鋼材以外の異物に伴ううき・はく離については、メモ欄に異物の概要を記入すること。

Sheet 様式D-1-1 (71)
B2: ■定期点検記録様式 変状写真台帳（トンネル本体工） 【様式D-1-1】
B3: フリガナ | D3: オオガタオ | H3: 路 線 名 | J3: 一般国道316号 | M3: 定期点検業者 | P3: 株式会社オリエンタルコンサルタンツ | S3: 定期点検年月日 | U3: 45280
B4: 名 称 | D4: 大ヶ峠トンネル | H4: 管理者名 | J4: 長門土木建築事務所 | M4: 定期点検者名 | P4: 妹尾 優大
B5: 写真 番号 | C5: 覆工 スパン 番号 | D5: S074 | M5: 写真 番号 | N5: 覆工 スパン 番号 | O5: S074
C7: 変状 番号 | D7: 1 | N7: 変状 番号 | O7: 2
B9: 変状 部位 | C9: 対象 箇所 | D9: 覆工・坑門 | M9: 変状 部位 | N9: 対象 箇所 | O9: 路面
C11: 部位 区分 | D11: 側壁（左側） | N11: 部位 区分 | O11: 監査歩路
B13: 変状区分 | D13: 漏水 | M13: 変状区分 | O13: 漏水
B14: 変状種類 | D14: 漏水 | M14: 変状種類 | O14: 滞水
B15: 対策 区分 | C15: 応急措置前 | M15: 対策 区分 | N15: 応急措置前
C16: 応急措置後 | E16: Ⅰ | N16: 応急措置後 | P16: －
B17: 健全性 | D17: Ⅰ | M17: 健全性 | O17: －
B18: 変状の発生範囲の規模 | E18: - | M18: 変状の発生範囲の規模 | P18: 0.3m×15.0m
B19: 前回定期点検時の状態 | E19: - | M19: 前回定期点検時の状態 | P19: -
B20: 調査方針 | E20: なし | M20: 調査方針 | P20: なし
B21: 対策履歴 | E21: なし | H21: 実施状況（実施日） | M21: 対策履歴 | P21: なし | S21: 実施状況（実施日）
B22: メモ | D22: 漏水、にじみ | M22: メモ | O22: 滞水
B23: 写真 番号 | C23: 覆工 スパン 番号 | D23: S074 | M23: 写真 番号 | N23: 覆工 スパン 番号 | O23: S075
C25: 変状 番号 | D25: 3 | N25: 変状 番号 | O25: 1
B27: 変状 部位 | C27: 対象 箇所 | D27: 路面 | M27: 変状 部位 | N27: 対象 箇所 | O27: 覆工・坑門
C29: 部位 区分 | D29: 監査歩路 | N29: 部位 区分 | O29: 側壁（左側）
B31: 変状区分 | D31: 材質劣化 | M31: 変状区分 | O31: 漏水
B32: 変状種類 | D32: うき・はく離 | M32: 変状種類 | O32: 漏水
B33: 対策 区分 | C33: 応急措置前 | M33: 対策 区分 | N33: 応急措置前
C34: 応急措置後 | E34: － | N34: 応急措置後 | P34: Ⅰ
B35: 健全性 | D35: － | M35: 健全性 | O35: Ⅰ
B36: 変状の発生範囲の規模 | E36: 0.1m×0.2m | M36: 変状の発生範囲の規模 | P36: -
B37: 前回定期点検時の状態 | E37: 0.1m×0.2mのうき | M37: 前回定期点検時の状態 | P37: 漏水、にじみ
B38: 調査方針 | E38: なし | M38: 調査方針 | P38: なし
B39: 対策履歴 | E39: なし | H39: 実施状況（実施日） | M39: 対策履歴 | P39: なし | S39: 実施状況（実施日）
B40: メモ | D40: うき | M40: メモ | O40: 漏水、にじみ
C41: ※ 健全性の判定区分Ⅱ～Ⅳについて添付すること。また、点検前に実施 された措置によりⅠと判定された箇所も添付すること。 | N41: ※ 変状の発生範囲の規模とは、対策を行う際に参考となる変状の長さや面積をいう。
N42: ※ 応急措置を実施しないで判定した変状の対策区分は、対策区分の応急措置後の欄に記入すること。
C43: ※ たたき落としを実施した場合は、実施後の写真を添付すること。 | N43: ※ 変状の発生範囲の規模は、面積・寸法を記載すること。
C44: ※ 画像データは100kb程度とする。 | N44: (ひび割れ幅のみmmとし、その他をm表記とする)
C45: ※ 変状数に準じてシートを追加すること。（１シートに１ページとすること。） | N45: ※ 構造用鋼材以外の異物に伴ううき・はく離については、メモ欄に異物の概要を記入すること。

Sheet 様式D-1-1 (72)
B2: ■定期点検記録様式 変状写真台帳（トンネル本体工） 【様式D-1-1】
B3: フリガナ | D3: オオガタオ | H3: 路 線 名 | J3: 一般国道316号 | M3: 定期点検業者 | P3: 株式会社オリエンタルコンサルタンツ | S3: 定期点検年月日 | U3: 45280
B4: 名 称 | D4: 大ヶ峠トンネル | H4: 管理者名 | J4: 長門土木建築事務所 | M4: 定期点検者名 | P4: 妹尾 優大
B5: 写真 番号 | C5: 覆工 スパン 番号 | D5: S075 | M5: 写真 番号 | N5: 覆工 スパン 番号 | O5: S075
C7: 変状 番号 | D7: 2 | N7: 変状 番号 | O7: 3
B9: 変状 部位 | C9: 対象 箇所 | D9: 覆工・坑門 | M9: 変状 部位 | N9: 対象 箇所 | O9: 覆工・坑門
C11: 部位 区分 | D11: 側壁（左側） | N11: 部位 区分 | O11: アーチ（天端）
B13: 変状区分 | D13: 漏水 | M13: 変状区分 | O13: 漏水
B14: 変状種類 | D14: 漏水 | M14: 変状種類 | O14: 漏水
B15: 対策 区分 | C15: 応急措置前 | M15: 対策 区分 | N15: 応急措置前
C16: 応急措置後 | E16: Ⅰ | N16: 応急措置後 | P16: Ⅱb
B17: 健全性 | D17: Ⅰ | M17: 健全性 | O17: Ⅱ
B18: 変状の発生範囲の規模 | E18: - | M18: 変状の発生範囲の規模 | P18: 8.5m×0.5m
B19: 前回定期点検時の状態 | E19: 漏水、にじみ | M19: 前回定期点検時の状態 | P19: 漏水、にじみ
B20: 調査方針 | E20: なし | M20: 調査方針 | P20: なし
B21: 対策履歴 | E21: なし | H21: 実施状況（実施日） | M21: 対策履歴 | P21: なし | S21: 実施状況（実施日）
B22: メモ | D22: 漏水、にじみ | M22: メモ | O22: ひび割れからの漏水、にじみ
B23: 写真 番号 | C23: 覆工 スパン 番号 | D23: S076 | M23: 写真 番号 | N23: 覆工 スパン 番号 | O23: S076
C25: 変状 番号 | D25: 1 | N25: 変状 番号 | O25: 2
B27: 変状 部位 | C27: 対象 箇所 | D27: 覆工・坑門 | M27: 変状 部位 | N27: 対象 箇所 | O27: 内装板
C29: 部位 区分 | D29: 横断目地（右側） | N29: 部位 区分 | O29: 側壁
B31: 変状区分 | D31: 漏水 | M31: 変状区分 | O31: 材質劣化
B32: 変状種類 | D32: 補強・補修材の破損 | M32: 変状種類 | O32: その他
B33: 対策 区分 | C33: 応急措置前 | M33: 対策 区分 | N33: 応急措置前
C34: 応急措置後 | E34: Ⅱa | N34: 応急措置後 | P34: Ⅱb
B35: 健全性 | D35: Ⅱ | M35: 健全性 | O35: Ⅱ
B36: 変状の発生範囲の規模 | E36: 1.2m×0.1m | M36: 変状の発生範囲の規模 | P36: -
B37: 前回定期点検時の状態 | E37: 1.2m×0.1mの導水工破損 | M37: 前回定期点検時の状態 | P37: -
B38: 調査方針 | E38: なし | M38: 調査方針 | P38: なし
B39: 対策履歴 | E39: なし | H39: 実施状況（実施日） | M39: 対策履歴 | P39: なし | S39: 実施状況（実施日）
B40: メモ | D40: 導水工破損 | M40: メモ | O40: 内装板アンカーのゆるみ
C41: ※ 健全性の判定区分Ⅱ～Ⅳについて添付すること。また、点検前に実施 された措置によりⅠと判定された箇所も添付すること。 | N41: ※ 変状の発生範囲の規模とは、対策を行う際に参考となる変状の長さや面積をいう。
N42: ※ 応急措置を実施しないで判定した変状の対策区分は、対策区分の応急措置後の欄に記入すること。
C43: ※ たたき落としを実施した場合は、実施後の写真を添付すること。 | N43: ※ 変状の発生範囲の規模は、面積・寸法を記載すること。
C44: ※ 画像データは100kb程度とする。 | N44: (ひび割れ幅のみmmとし、その他をm表記とする)
C45: ※ 変状数に準じてシートを追加すること。（１シートに１ページとすること。） | N45: ※ 構造用鋼材以外の異物に伴ううき・はく離については、メモ欄に異物の概要を記入すること。

