Workbook
Name その他: '(参考)リスト'!$C$47
Name その他施設: '[1](参考)リスト'!#REF!
Name その他施設: '(参考)リスト'!$C$79:$C$83
Name 換気施設: '[1](参考)リスト'!#REF!
Name 換気施設: '(参考)リスト'!$C$56:$C$60
Name 坑門: '(参考)リスト'!$C$31:$C$32
Name 照明施設: '[1](参考)リスト'!#REF!
Name 照明施設: '(参考)リスト'!$C$52:$C$54
Name 対象箇所: [2]!テーブル1[対象箇所]
Name 天井板: '(参考)リスト'!$C$37:$C$39
Name 内装板: '(参考)リスト'!$C$34:$C$35
Name 非常用施設: '[1](参考)リスト'!#REF!
Name 非常用施設: '(参考)リスト'!$C$62:$C$77
Name 覆工: '(参考)リスト'!$C$16:$C$29
Name 路面: '(参考)リスト'!$C$41:$C$45

Sheet 点検様式作成フロー
A1: 点検様式作成フロ-
A3: 作成フロー図 | H3: 点検調書作成手順
H4: ①様式A-1～A-3（トンネル台帳）
H5: トンネル点検の実施にあたっては，現場点検作業に先行してトンネル情報を収集する。トンネル台帳（様式Ａ－1～様式Ａ－3）はトンネル完成後に作成され，維持管理の段階で引き継がれるが，関連資料等を確認したうえで，追加情報があれば必要に応じて追記することが望ましい。
H9: ②様式D-2-1、様式D-2-1´
H10: 現場点検作業を実施し，近接目視点検で確認した変状状況や補修履歴を忠実に変状展開図に転記する。
H12: ③様式D-1-1、様式D-1-2
H13: 変状展開図や撮影した写真等をもとに，対象トンネルの対策区分を決定し，対策区分がⅡ～Ⅳの変状および異常判定区分「×」を抽出し，写真台帳を作成する。
H16: ④様式B
H17: 写真台帳の作成と同時に，トンネルの構造を展開した位置図に変状写真位置を記録する。
H19: ⑤様式D-3
H20: 変状展開図ならびに写真台帳をもとに覆工スパンごとの変状展開図を作成し，変状発生状況をとりまとめる。
H22: ⑥様式E
H23: 近接目視または打音検査，触診ができていない箇所および近接目視によらない方法を講じた場所に対する調査結果を記録する。
... H33: すること。 ※各ファイルとも （参考）リスト のシートを付けて保存すること。

Sheet 変状面積算出方法
A1: 変状面積算出方法
A26: 注1）外力による変状：ひび割れや圧ざの場合は変状の寸法を記録する。
A27: 例）ひび割れ：長さ（L）×最大ひび割れ幅（t）を記録する。 変形，移動，沈下：数値的な記載が可能な場合のみ記載する。
A28: 注2）材料劣化による：打音異常
A29: 例）うき，はく離（閉合ひび割れ）：変状範囲を包括する寸法（L×W） うき，はく離（ひび割れ沿い）：打音異常箇所を包括する寸法（L×W） 鋼材腐食（鉄筋腐食）：一括した対策が適当と考えられる範囲を包括する寸法（L×W）
A30: 注3）漏水による変状：漏水発生範囲を包括し，垂れ下がりの可能性がある側壁下端まで含めた寸法を，L×Wで記録する。打継ぎ目地沿いの 漏水については目地を跨いだ50cm幅を横幅とする。

Sheet 記入の留意点
B2: トンネルDBでは、Excelに記載された文字や数値・配置された画像を自動的に読込みデータベースへ登録します。
B3: 記録様式へ記入の留意点を下記に示します。
B5: １．記録様式への記入
C6: ➤各セルに表示されるコメントに従って、様式A-1～様式Gのシートに、点検結果（テキスト入力、選択項目）を入力してください。
C7: ➤位置図(様式B)、変状写真(様式D-1-1)、異常写真(様式D-1-2)は記入した変状写真番号等に対応した画像を間違いないように貼り付けてください。
C8: ➤列や行の挿入削除は行わず、セルの位置がずれないようにしてください。データベースへ読み取り時にずれて取り込まれてしまいます。
B11: ２．画像ファイルの配置の注意点
C12: 登録に使用可能な画像ファイルの拡張子は「jpg」「jpeg」「png」の3種類のみです。
C13: 必ず、１か所に画像１枚のみを張り付けてください。エクセルの図形などのオブジェクトは使用しないでください。
C14: 張り付けた画像はエクセルのトリミング機能を使用しないでください。あらかじめ切り抜いた画像を利用してください。
C15: ※１ 画像の左上を必ずセルの内部に含め、はみ出ないようにしてください。
C16: ※２ 図の書式設定で「セルに合わせて移動やサイズを変更しない」のモードを使用しないでください。
C32: ※３ 「挿入」→「画像」→「セルの上に配置」してください。
B41: ３．シート名の連番について
C42: １ページに記載しきれない場合は、１シート内にページを増やすのではなくシート自体をコピーしシート名の末尾を連番にしてください。
C43: 対象様式
C44: 様式B
C45: 様式D-1-1
C46: 様式D-1-2
C47: 様式D-2-1
C48: 様式D-2-1´
C49: 様式D-3_S00 ※スパン名を記載
C50: 様式G
C52: 末尾の連番の形式例
C53: 様式B(1) 様式B(2) 様式B(3)
C54: 様式B_001 様式B_002 様式B_003
... C61: で示される要領を制限するものではありません。

Sheet 様式A-1
B2: ■トンネル台帳 トンネル諸元、非常用施設諸元 【様式A-1】 | S2: 施設ID | W2: 34.19214,132.18053
B3: フリガナ | D3: ワキトンネル | H3: 路線名 | J3: 一般県道北中山岩国線 | P3: 管理者名 | R3: 山口県岩国土木建築事務所 | W3: 緊急輸送道路 | Z3: 二次
B4: 名 称 | D4: 和木トンネル | W4: 代替路の有無 | Z4: 無
B5: 所在地 | D5: 自 | E5: 山口県和木町 | H5: 作成者 | K5: 復建調査設計㈱・小笠原洋 | P5: 作成年月日 | R5: 45968 | U5: トンネル延長 | X5: L= | Z5: 242 | AB5: ｍ
D6: 至 | E6: 山口県和木町 | U6: ﾄﾝﾈﾙの分類 | X6: 陸上トンネル（その他）
B7: 起点 | C7: 緯度 | E7: 34.2044 | H7: 完成年月日 | K7: 2008年 | M7: 舗装 | O7: 種 別 | S7: トンネル非常用施設 | T7: 施設の内訳 | X7: 種別・方式 | Y7: 型式 | Z7: 個数 | AA7: 更新年度 | AE7: =INT(E7/10000) -> 0 | AF7: =INT(E7/100)-AE7*100 -> 0 | AG7: =E7-AE7*10000-AF7*100 -> 34.2044 | AH7: =ROUND(AE7+AF7/60+AG7/60/60,5) -> 0.0095 | AI7: =TEXT(AH7,"0.00000") -> 0.00950
C8: 経度 | E8: 132.1977 | H8: 供用年月日 | K8: 2008年 | O8: 厚 さ | T8: 通報設備 | U8: 通話型通報設備 | AE8: =INT(E8/10000) -> 0 | AF8: =INT(E8/100)-AE8*100 -> 1 | AG8: =E8-AE8*10000-AF8*100 -> 32.1977 | AH8: =ROUND(AE8+AF8/60+AG8/60/60,5) -> 0.02561 | AI8: =TEXT(AH8,"0.00000") -> 0.02561
B9: 終点 | C9: 緯度 | E9: 34.205728 | H9: トンネル区分 | O9: 面 積 | U9: 操作型通報設備
C10: 経度 | E10: 132.19965 | H10: 内装種類 | K10: なし | O10: 更新年次 | U10: 自動通報設備
B11: 一般有料区分 | E11: 一般トンネル | H11: 天井板種類 | K11: なし | M11: 排水 | O11: 種 別 | Q11: 円型水路,ｶﾞｯﾀｰ | T11: 警報設備 | U11: 非常警報設備
B12: 土かぶり | E12: 40 | G12: m | H12: 坑門 | I12: 起点 | J12: 形式 | K12: 面壁型 | O12: 更新年次 | T12: 消火設備 | U12: 消 火 器
B13: 内空断面積 | G13: m2 | J13: 延長 | L13: m | M13: 施設 | P13: 種別・方式 | Q13: 個数 | R13: 更新年次 | U13: 消火栓設備
B14: 交 通 量 | E14: 6820 | G14: 台/日 | I14: 終点 | J14: 形式 | K14: 面壁型 | M14: 道路附属物等 | N14: 照明 | P14: 蛍光灯 | Q14: 79 | T14: 避難誘導設備 | U14: 誘導表示設備
C15: 道 路 幅 | E15: 10.25 | G15: m | J15: 延長 | L15: m | N15: 換気 | U15: 避難情報提供設備
B16: 幅 員 | C16: 車 道 幅 | E16: 3 | G16: m | H16: 竣工巻厚 | I16: アーチ | K16: 30 | L16: cm | N16: 標識
E17: 3 | G17: m | I17: 側 壁 | K17: 30 | L17: cm | N17: 警報表示板 | U17: 避難通路
C18: 歩道等幅 | E18: 2.5 | G18: m | K18: 30 | L18: cm | N18: 吸音板 | U18: 排煙設備
B19: 高さ | C19: 建築限界高 | E19: 4.7 | G19: m | I19: インバート | K19: 50 | L19: cm | T19: その他の設備 | U19: 給水栓設備
C20: 中央高 | E20: 4.7 | G20: m | H20: 半径 | I20: アーチ | L20: cm | U20: 無線通信補助設備
C21: 有効高 | E21: 4.5 | G21: m | I21: 側 壁 | L21: cm | U21: 水噴霧設備
C22: 縦断勾配 | I22: インバート | L22: cm | U22: 監視設備
B23: 線 形 | C23: 直線区間長 | H23: 占用物件 | I23: 種 類 | K23: 寸 法 | M23: 管理者名 | Q23: 更新年次 | S23: 非常用施設 関連設備 | U23: 予備発電設備
C24: 曲線区間 | D24: 区間長
D25: 起点側ｸﾛｿｲﾄﾞ
D26: 曲線半径
D27: 終点側ｸﾛｿｲﾄﾞ | S27: その他 | U27: 非常駐車帯
B28: トンネル工法 | E28: 山岳トンネル工法（NATM） | U28: 方向転換所
C29: ※緯度・経度については、秒の小数第二位の単位まで記入すること。

Sheet 様式A-2
B3: ■トンネル台帳 トンネル情報一覧表 【様式A-2】
B4: フリガナ | E4: ='様式A-1'!$D$3 -> ワキトンネル | J4: 路線名 | M4: ='様式A-1'!$J$3 -> 一般県道北中山岩国線 | S4: 作成者 | Y4: ='様式A-1'!$K$5 -> 復建調査設計㈱・小笠原洋 | AE4: 作成年月日 | AI4: ='様式A-1'!$R$5 -> 45968
B5: 名 称 | E5: ='様式A-1'!$D$4 -> 和木トンネル | J5: 管理者名 | M5: ='様式A-1'!$R$3 -> 山口県岩国土木建築事務所
B6: 覆工 ｽﾊﾟﾝ 番号 | C6: ｽﾊﾟﾝ長 | D6: 追加距離 | F6: トンネル本体工 | K6: 照明施設 | O6: 非常用施設 | AE6: 換気施設 | AK6: その他附属物等
O7: 通報設備 | R7: 警報設備 | S7: 消火設備 | U7: 避難誘導設備 | Y7: その他の設備 | AC7: 特記事項
D8: 起点側 | E8: 終点側 | F8: 特記事項 | I8: 内装板 | J8: 天井板 | K8: 基本照明 | L8: 入口出口照明 | M8: 特記事項 | O8: 通話型通報設備 | P8: 操作型通報設備 | Q8: 自動通報設備 | R8: 非常警報設備 | S8: 消 火 器 | T8: 消火栓設備 | U8: 誘導表示設備 | V8: 避難情報提供設備 | W8: 避難通路 | X8: 排煙設備 | Y8: 給水栓設備 | Z8: 無線通信補助設備 | AA8: 水噴霧設備 | AB8: 監視設備 | AE8: JF | AF8: VI計 | AG8: CO計 | AH8: 風向 風速計 | AI8: 特記事項
C9: (m) | D9: (m) | E9: (m)
B10: PS | C10: 11.8 | E10: =C10+D10 -> 11.8 | F10: 坑門(面壁斜坑門) | K10: ○
B11: S1 | C11: 7.3 | D11: =E10 -> 11.8 | E11: =C11+D11 -> 19.1 | L11: ○
B12: S2 | C12: 9 | D12: =E11 -> 19.1 | E12: =C12+D12 -> 28.1 | K12: ○ | L12: ○
B13: S3 | C13: 9 | D13: =E12 -> 28.1 | E13: =C13+D13 -> 37.1 | K13: ○ | L13: ○
B14: S4 | C14: 9 | D14: =E13 -> 37.1 | E14: =C14+D14 -> 46.1 | L14: ○
B15: S5 | C15: 9 | D15: =E14 -> 46.1 | E15: =C15+D15 -> 55.1 | K15: ○ | L15: ○
B16: S6 | C16: 9 | D16: =E15 -> 55.1 | E16: =C16+D16 -> 64.1 | L16: ○
B17: S7 | C17: 9 | D17: =E16 -> 64.1 | E17: =C17+D17 -> 73.1 | K17: ○ | L17: ○
B18: S8 | C18: 9 | D18: =E17 -> 73.1 | E18: =C18+D18 -> 82.1 | K18: ○ | L18: ○
B19: S9 | C19: 9 | D19: =E18 -> 82.1 | E19: =C19+D19 -> 91.1 | L19: ○
B20: S10 | C20: 9 | D20: =E19 -> 91.1 | E20: =C20+D20 -> 100.1 | K20: ○ | L20: ○
B21: S11 | C21: 9 | D21: =E20 -> 100.1 | E21: =C21+D21 -> 109.1 | K21: ○ | L21: ○
B22: S12 | C22: 9 | D22: =E21 -> 109.1 | E22: =C22+D22 -> 118.1 | L22: ○
B23: S13 | C23: 9 | D23: =E22 -> 118.1 | E23: =C23+D23 -> 127.1 | K23: ○
B24: S14 | C24: 9 | D24: =E23 -> 127.1 | E24: =C24+D24 -> 136.1 | K24: ○ | L24: ○
B25: S15 | C25: 9 | D25: =E24 -> 136.1 | E25: =C25+D25 -> 145.1 | L25: ○
B26: S16 | C26: 9 | D26: =E25 -> 145.1 | E26: =C26+D26 -> 154.1 | K26: ○ | L26: ○
B27: S17 | C27: 9 | D27: =E26 -> 154.1 | E27: =C27+D27 -> 163.1 | K27: ○ | L27: ○
B28: S18 | C28: 9 | D28: =E27 -> 163.1 | E28: =C28+D28 -> 172.1 | L28: ○
B29: S19 | C29: 9 | D29: =E28 -> 172.1 | E29: =C29+D29 -> 181.1 | K29: ○ | L29: ○
B30: S20 | C30: 9 | D30: =E29 -> 181.1 | E30: =C30+D30 -> 190.1 | L30: ○
B31: S21 | C31: 9 | D31: =E30 -> 190.1 | E31: =C31+D31 -> 199.1 | K31: ○ | L31: ○
B32: S22 | C32: 9 | D32: =E31 -> 199.1 | E32: =C32+D32 -> 208.1 | K32: ○ | L32: ○
B33: S23 | C33: 9 | D33: =E32 -> 208.1 | E33: =C33+D33 -> 217.1 | L33: ○
B34: S24 | C34: 9 | D34: =E33 -> 217.1 | E34: =C34+D34 -> 226.1 | K34: ○ | L34: ○
B35: S25 | C35: 9 | D35: =E34 -> 226.1 | E35: =C35+D35 -> 235.1 | K35: ○ | L35: ○
B36: S26 | C36: 9 | D36: =E35 -> 235.1 | E36: =C36+D36 -> 244.1 | L36: ○
B37: PE | C37: 9.35 | D37: =E36 -> 244.1 | E37: =+C37+D37 -> 253.45 | F37: 坑門(面壁斜坑門) | K37: ○
B49: ※ 行が不足する場合は、適時、表の行を増やすこと。

Sheet 様式A-3
B3: ■トンネル台帳 トンネル記録（位置図、断面図、施工実績他）【様式A-3】
B4: フリガナ | E4: ='様式A-1'!$D$3 -> ワキトンネル | J4: 路線名 | M4: ='様式A-1'!$J$3 -> 一般県道北中山岩国線 | S4: 作成者 | W4: ='様式A-1'!$K$5 -> 復建調査設計㈱・小笠原洋 | AC4: 作成年月日 | AF4: ='様式A-1'!$R$5 -> 45968
B5: 名 称 | E5: ='様式A-1'!$D$4 -> 和木トンネル | J5: 管理者名 | M5: ='様式A-1'!$R$3 -> 山口県岩国土木建築事務所
B6: 位置図・現況写真・標準断面図・地質縦断図・施工実績

Sheet 様式B (1)
B2: ■定期点検記録様式 トンネル変状・異常箇所写真位置図 【様式B】 | N2: 定期点検年月日 | P2: 45860 | S2: 施設ID | V2: =+'様式A-1'!$W$2 -> 34.19214,132.18053
B3: フリガナ | C3: =+'様式A-1'!$D$3 -> ワキトンネル | G3: 路線名 | H3: =+'様式A-1'!$J$3 -> 一般県道北中山岩国線 | K3: 管理者名 | L3: =+'様式A-1'!$R$3 -> 山口県岩国土木建築事務所 | Q3: 定期点検実施者 | S3: 復建調査設計株式会社 | V3: 起点 | W3: 緯度 | X3: =+'様式A-1'!$E$7 -> 34.2044
B4: 名 称 | C4: =+'様式A-1'!$D$4 -> 和木トンネル | S4: 小笠原洋 | W4: 経度 | X4: =+'様式A-1'!$E$8 -> 132.1977
B5: 所在地 | C5: 自 | D5: =+'様式A-1'!$E$5 -> 山口県和木町 | G5: トンネル工法 | I5: 山岳トンネル工法（NATM） | L5: トンネル延長 | N5: L= | O5: =+'様式A-1'!$Z$5 -> 242 | P5: ｍ | Q5: 自専道 or 一般道 | R5: 一般道 | S5: 代替路の有無 | U5: 無 | V5: 終点 | W5: 緯度 | X5: =+'様式A-1'!$E$9 -> 34.205728
C6: 至 | D6: =+'様式A-1'!$E$6 -> 山口県和木町 | G6: 建設年度 | I6: 2008年 | L6: 幅員 | N6: L= | O6: =+'様式A-1'!$E$15 -> 10.25 | P6: ｍ | S6: 緊急輸送道路 | U6: 指定なし | W6: 経度 | X6: =+'様式A-1'!$E$10 -> 132.19965
B7: トンネル毎 の健全性の 診断の区分 | D7: Ⅱ
G8: 変状・異常 箇所数合計 | I8: トンネル本体工 | J8: 材質劣化 | K8: Ⅱ | L8: 7 | N8: Ⅲ | O8: 0 | Q8: Ⅳ | R8: 0 | T8: 附属物等 の取付状態 | V8: ◯ （応急措置後)
J9: 漏水 | K9: Ⅱ | L9: 0 | N9: Ⅲ | O9: 0 | Q9: Ⅳ | R9: 0
V10: ✕
J11: 外力 | K11: Ⅱ | L11: 0 | N11: Ⅲ | O11: 0 | Q11: Ⅳ | R11: 0
B12: トンネル変状・異常箇所写真位置図
J29: 注１：本位置図は、見下げた状態で記載すること。 注２：覆工スパン番号は横断目地毎(矢板工法の場合は上半アーチの 横断目地毎)に設定すること。 | Q29: 注３：写真番号に付する変状番号は、各覆工スパンの変状に対して新たに確認された場合 は順次追加していくこと。 注４：横断目地の変状は前の覆工スパン番号で計上すること。 注５：１枚に収まらない場合は、複数枚に分けて作成すること。
C30: ※1 トンネル本体工の変状数は、材質劣化、漏水に起因するものは変状単位で、外力に起因するものはスパン単位で計上すること。
C31: ※2 トンネル本体工の変状に対しては、措置の必要性（Ⅱ～Ⅳ）について表記すること。また、点検前に実施された措置によりⅠと判定された箇所についても記載すること。
C32: ※3 附属物等の取付状態の○欄については、応急措置前に判定区分×とした箇所のうち応急措置により○判定とした箇所の数を記入すること。
C33: ※4 附属物等の異常番号は、本体工と番号が重複しないよう101番以降とする等の配慮を行い、分かりやすく記録すること。

Sheet 様式B (2)
B2: ■定期点検記録様式 トンネル変状・異常箇所写真位置図 【様式B】 | N2: 定期点検年月日 | P2: =+'様式B (1)'!$P$2 -> 45860 | S2: 施設ID | V2: =+'様式A-1'!$W$2 -> 34.19214,132.18053
B3: フリガナ | C3: =+'様式A-1'!$D$3 -> ワキトンネル | G3: 路線名 | H3: =+'様式A-1'!$J$3 -> 一般県道北中山岩国線 | K3: 管理者名 | L3: =+'様式A-1'!$R$3 -> 山口県岩国土木建築事務所 | Q3: 定期点検実施者 | S3: ='様式B (1)'!$S$3 -> 復建調査設計株式会社 | V3: 起点 | W3: 緯度 | X3: =+'様式A-1'!$E$7 -> 34.2044
B4: 名 称 | C4: =+'様式A-1'!$D$4 -> 和木トンネル | S4: ='様式B (1)'!$S$4 -> 小笠原洋 | W4: 経度 | X4: =+'様式A-1'!$E$8 -> 132.1977
B5: 所在地 | C5: 自 | D5: =+'様式A-1'!$E$5 -> 山口県和木町 | G5: トンネル工法 | I5: ='様式B (1)'!$I$5 -> 山岳トンネル工法（NATM） | L5: トンネル延長 | N5: L= | O5: =+'様式A-1'!$Z$5 -> 242 | P5: ｍ | Q5: 自専道 or 一般道 | R5: ='様式B (1)'!$R$5 -> 一般道 | S5: 代替路の有無 | U5: ='様式B (1)'!$U$5 -> 無 | V5: 終点 | W5: 緯度 | X5: =+'様式A-1'!$E$9 -> 34.205728
C6: 至 | D6: =+'様式A-1'!$E$6 -> 山口県和木町 | G6: 建設年度 | I6: ='様式B (1)'!$I$6 -> 2008年 | L6: 幅員 | N6: L= | O6: =+'様式A-1'!$E$15 -> 10.25 | P6: ｍ | S6: 緊急輸送道路 | U6: ='様式B (1)'!$U$6 -> 指定なし | W6: 経度 | X6: =+'様式A-1'!$E$10 -> 132.19965
B7: トンネル毎 の健全性の 診断の区分 | D7: ='様式B (1)'!$D$7 -> Ⅱ
G8: 変状・異常 箇所数合計 | I8: トンネル本体工 | J8: 材質劣化 | K8: Ⅱ | L8: ='様式B (1)'!$L$8 -> 7 | N8: Ⅲ | O8: ='様式B (1)'!$O$8 -> 0 | Q8: Ⅳ | R8: ='様式B (1)'!$R$8 -> 0 | T8: 附属物等 の取付状態 | V8: ◯ （応急措置後) | X8: ='様式B (1)'!$X$8 -> 0
J9: 漏水 | K9: Ⅱ | L9: ='様式B (1)'!$L$9 -> 0 | N9: Ⅲ | O9: ='様式B (1)'!$O$9 -> 0 | Q9: Ⅳ | R9: ='様式B (1)'!$R$9 -> 0
V10: ✕ | X10: ='様式B (1)'!$X$10 -> 0
J11: 外力 | K11: Ⅱ | L11: ='様式B (1)'!$L$11 -> 0 | N11: Ⅲ | O11: ='様式B (1)'!$O$11 -> 0 | Q11: Ⅳ | R11: ='様式B (1)'!$R$11 -> 0
B12: トンネル変状・異常箇所写真位置図
J29: 注１：本位置図は、見下げた状態で記載すること。 注２：覆工スパン番号は横断目地毎(矢板工法の場合は上半アーチの 横断目地毎)に設定すること。 | Q29: 注３：写真番号に付する変状番号は、各覆工スパンの変状に対して新たに確認された場合 は順次追加していくこと。 注４：横断目地の変状は前の覆工スパン番号で計上すること。 注５：１枚に収まらない場合は、複数枚に分けて作成すること。
C30: ※1 トンネル本体工の変状数は、材質劣化、漏水に起因するものは変状単位で、外力に起因するものはスパン単位で計上すること。
C31: ※2 トンネル本体工の変状に対しては、措置の必要性（Ⅱ～Ⅳ）について表記すること。また、点検前に実施された措置によりⅠと判定された箇所についても記載すること。
C32: ※3 附属物等の取付状態の○欄については、応急措置前に判定区分×とした箇所のうち応急措置により○判定とした箇所の数を記入すること。
C33: ※4 附属物等の異常番号は、本体工と番号が重複しないよう101番以降とする等の配慮を行い、分かりやすく記録すること。

Sheet 様式B (3)
B2: ■定期点検記録様式 トンネル変状・異常箇所写真位置図 【様式B】 | N2: 定期点検年月日 | P2: =+'様式B (1)'!$P$2 -> 45860 | S2: 施設ID | V2: =+'様式A-1'!$W$2 -> 34.19214,132.18053
B3: フリガナ | C3: =+'様式A-1'!$D$3 -> ワキトンネル | G3: 路線名 | H3: =+'様式A-1'!$J$3 -> 一般県道北中山岩国線 | K3: 管理者名 | L3: =+'様式A-1'!$R$3 -> 山口県岩国土木建築事務所 | Q3: 定期点検実施者 | S3: ='様式B (1)'!$S$3 -> 復建調査設計株式会社 | V3: 起点 | W3: 緯度 | X3: =+'様式A-1'!$E$7 -> 34.2044
B4: 名 称 | C4: =+'様式A-1'!$D$4 -> 和木トンネル | S4: ='様式B (1)'!$S$4 -> 小笠原洋 | W4: 経度 | X4: =+'様式A-1'!$E$8 -> 132.1977
B5: 所在地 | C5: 自 | D5: =+'様式A-1'!$E$5 -> 山口県和木町 | G5: トンネル工法 | I5: ='様式B (1)'!$I$5 -> 山岳トンネル工法（NATM） | L5: トンネル延長 | N5: L= | O5: =+'様式A-1'!$Z$5 -> 242 | P5: ｍ | Q5: 自専道 or 一般道 | R5: ='様式B (1)'!$R$5 -> 一般道 | S5: 代替路の有無 | U5: ='様式B (1)'!$U$5 -> 無 | V5: 終点 | W5: 緯度 | X5: =+'様式A-1'!$E$9 -> 34.205728
C6: 至 | D6: =+'様式A-1'!$E$6 -> 山口県和木町 | G6: 建設年度 | I6: ='様式B (1)'!$I$6 -> 2008年 | L6: 幅員 | N6: L= | O6: =+'様式A-1'!$E$15 -> 10.25 | P6: ｍ | S6: 緊急輸送道路 | U6: ='様式B (1)'!$U$6 -> 指定なし | W6: 経度 | X6: =+'様式A-1'!$E$10 -> 132.19965
B7: トンネル毎 の健全性の 診断の区分 | D7: ='様式B (1)'!$D$7 -> Ⅱ
G8: 変状・異常 箇所数合計 | I8: トンネル本体工 | J8: 材質劣化 | K8: Ⅱ | L8: ='様式B (1)'!$L$8 -> 7 | N8: Ⅲ | O8: ='様式B (1)'!$O$8 -> 0 | Q8: Ⅳ | R8: ='様式B (1)'!$R$8 -> 0 | T8: 附属物等 の取付状態 | V8: ◯ （応急措置後) | X8: ='様式B (1)'!$X$8 -> 0
J9: 漏水 | K9: Ⅱ | L9: ='様式B (1)'!$L$9 -> 0 | N9: Ⅲ | O9: ='様式B (1)'!$O$9 -> 0 | Q9: Ⅳ | R9: ='様式B (1)'!$R$9 -> 0
V10: ✕ | X10: ='様式B (1)'!$X$10 -> 0
J11: 外力 | K11: Ⅱ | L11: ='様式B (1)'!$L$11 -> 0 | N11: Ⅲ | O11: ='様式B (1)'!$O$11 -> 0 | Q11: Ⅳ | R11: ='様式B (1)'!$R$11 -> 0
B12: トンネル変状・異常箇所写真位置図
J29: 注１：本位置図は、見下げた状態で記載すること。 注２：覆工スパン番号は横断目地毎(矢板工法の場合は上半アーチの 横断目地毎)に設定すること。 | Q29: 注３：写真番号に付する変状番号は、各覆工スパンの変状に対して新たに確認された場合 は順次追加していくこと。 注４：横断目地の変状は前の覆工スパン番号で計上すること。 注５：１枚に収まらない場合は、複数枚に分けて作成すること。
C30: ※1 トンネル本体工の変状数は、材質劣化、漏水に起因するものは変状単位で、外力に起因するものはスパン単位で計上すること。
C31: ※2 トンネル本体工の変状に対しては、措置の必要性（Ⅱ～Ⅳ）について表記すること。また、点検前に実施された措置によりⅠと判定された箇所についても記載すること。
C32: ※3 附属物等の取付状態の○欄については、応急措置前に判定区分×とした箇所のうち応急措置により○判定とした箇所の数を記入すること。
C33: ※4 附属物等の異常番号は、本体工と番号が重複しないよう101番以降とする等の配慮を行い、分かりやすく記録すること。

Sheet 様式B (4)
B2: ■定期点検記録様式 トンネル変状・異常箇所写真位置図 【様式B】 | N2: 定期点検年月日 | P2: =+'様式B (1)'!$P$2 -> 45860 | S2: 施設ID | V2: =+'様式A-1'!$W$2 -> 34.19214,132.18053
B3: フリガナ | C3: =+'様式A-1'!$D$3 -> ワキトンネル | G3: 路線名 | H3: =+'様式A-1'!$J$3 -> 一般県道北中山岩国線 | K3: 管理者名 | L3: =+'様式A-1'!$R$3 -> 山口県岩国土木建築事務所 | Q3: 定期点検実施者 | S3: ='様式B (1)'!$S$3 -> 復建調査設計株式会社 | V3: 起点 | W3: 緯度 | X3: =+'様式A-1'!$E$7 -> 34.2044
B4: 名 称 | C4: =+'様式A-1'!$D$4 -> 和木トンネル | S4: ='様式B (1)'!$S$4 -> 小笠原洋 | W4: 経度 | X4: =+'様式A-1'!$E$8 -> 132.1977
B5: 所在地 | C5: 自 | D5: =+'様式A-1'!$E$5 -> 山口県和木町 | G5: トンネル工法 | I5: ='様式B (1)'!$I$5 -> 山岳トンネル工法（NATM） | L5: トンネル延長 | N5: L= | O5: =+'様式A-1'!$Z$5 -> 242 | P5: ｍ | Q5: 自専道 or 一般道 | R5: ='様式B (1)'!$R$5 -> 一般道 | S5: 代替路の有無 | U5: ='様式B (1)'!$U$5 -> 無 | V5: 終点 | W5: 緯度 | X5: =+'様式A-1'!$E$9 -> 34.205728
C6: 至 | D6: =+'様式A-1'!$E$6 -> 山口県和木町 | G6: 建設年度 | I6: ='様式B (1)'!$I$6 -> 2008年 | L6: 幅員 | N6: L= | O6: =+'様式A-1'!$E$15 -> 10.25 | P6: ｍ | S6: 緊急輸送道路 | U6: ='様式B (1)'!$U$6 -> 指定なし | W6: 経度 | X6: =+'様式A-1'!$E$10 -> 132.19965
B7: トンネル毎 の健全性の 診断の区分 | D7: ='様式B (1)'!$D$7 -> Ⅱ
G8: 変状・異常 箇所数合計 | I8: トンネル本体工 | J8: 材質劣化 | K8: Ⅱ | L8: ='様式B (1)'!$L$8 -> 7 | N8: Ⅲ | O8: ='様式B (1)'!$O$8 -> 0 | Q8: Ⅳ | R8: ='様式B (1)'!$R$8 -> 0 | T8: 附属物等 の取付状態 | V8: ◯ （応急措置後) | X8: ='様式B (1)'!$X$8 -> 0
J9: 漏水 | K9: Ⅱ | L9: ='様式B (1)'!$L$9 -> 0 | N9: Ⅲ | O9: ='様式B (1)'!$O$9 -> 0 | Q9: Ⅳ | R9: ='様式B (1)'!$R$9 -> 0
V10: ✕ | X10: ='様式B (1)'!$X$10 -> 0
J11: 外力 | K11: Ⅱ | L11: ='様式B (1)'!$L$11 -> 0 | N11: Ⅲ | O11: ='様式B (1)'!$O$11 -> 0 | Q11: Ⅳ | R11: ='様式B (1)'!$R$11 -> 0
B12: トンネル変状・異常箇所写真位置図
J29: 注１：本位置図は、見下げた状態で記載すること。 注２：覆工スパン番号は横断目地毎(矢板工法の場合は上半アーチの 横断目地毎)に設定すること。 | Q29: 注３：写真番号に付する変状番号は、各覆工スパンの変状に対して新たに確認された場合 は順次追加していくこと。 注４：横断目地の変状は前の覆工スパン番号で計上すること。 注５：１枚に収まらない場合は、複数枚に分けて作成すること。
C30: ※1 トンネル本体工の変状数は、材質劣化、漏水に起因するものは変状単位で、外力に起因するものはスパン単位で計上すること。
C31: ※2 トンネル本体工の変状に対しては、措置の必要性（Ⅱ～Ⅳ）について表記すること。また、点検前に実施された措置によりⅠと判定された箇所についても記載すること。
C32: ※3 附属物等の取付状態の○欄については、応急措置前に判定区分×とした箇所のうち応急措置により○判定とした箇所の数を記入すること。
C33: ※4 附属物等の異常番号は、本体工と番号が重複しないよう101番以降とする等の配慮を行い、分かりやすく記録すること。

Sheet 様式C-1-1
B2: ■定期点検記録様式 全スパン定期点検結果総括表（トンネル本体工） 【様式C-1-1】
B3: フリガナ | F3: =+'様式A-1'!$D$3 -> ワキトンネル | I3: 路線名 | K3: =+'様式A-1'!$J$3 -> 一般県道北中山岩国線 | O3: 定期点検実施者 | P3: =+'様式B (1)'!$S$3 -> 復建調査設計株式会社 | T3: 定期点検年月日 | X3: =+'様式B (1)'!$P$2 -> 45860
B4: 名 称 | F4: =+'様式A-1'!$D$4 -> 和木トンネル | I4: 管理者名 | K4: =+'様式A-1'!$R$3 -> 山口県岩国土木建築事務所 | P4: =+'様式B (1)'!$S$4 -> 小笠原洋
B5: 定期点検結果 | C5: 覆工 スパン 番号 | E5: 変状 番号 | F5: 距離 （m） | G5: 変状部位 | I5: 変 状 の 内 容 | O5: 前回定期点検時の状態 | P5: 今回定期点検結果 | T5: 措置履歴 | Y5: 対応方針 ・ 特記事項
G7: 対象箇所 | H7: 部位区分 | I7: 変状区分 | J7: 変状種類 | M7: 変状の発生範囲の規模 | N7: 前回定期点検時の変状の発生範囲及び規模 | O7: 対策区分 | P7: 対策区分 | R7: 調査の 要否 | S7: 措置の 要否 | T7: 実施 | U7: 措置の実施状況
P8: 応急措置前 | Q8: 応急措置後
C9: PS | E9: 1 | F9: 1 | G9: 覆工 | H9: アーチ（右側） | I9: 材質劣化 | J9: うき・はく離 | M9: 0.6m×0.75m | N9: － | O9: － | Q9: Ⅱb | R9: 否 | S9: 否 | T9: 継続 | U9: 監視(日常巡視) | Y9: 閉合ひび割れ
C10: PS | E10: 2 | F10: 2 | G10: 覆工 | H10: アーチ（右側） | I10: 材質劣化 | J10: うき・はく離 | M10: 0.1m×0.15m | N10: － | O10: － | Q10: Ⅱb | R10: 否 | S10: 否 | T10: 継続 | U10: 監視(日常巡視) | Y10: 閉合ひび割れ
C11: S1 | E11: 1 | F11: 19.1 | G11: 覆工 | H11: 横断目地（右側） | I11: 材質劣化 | J11: うき・はく離 | M11: － | N11: 0.3m×0.08m | O11: Ⅱb | Q11: Ⅰ | R11: 否 | S11: 否 | Y11: 損傷は確認できない
C12: S3 | E12: 1 | F12: 35 | G12: 覆工 | H12: アーチ（右側） | J12: その他 | M12: － | N12: － | O12: Ⅱb | R12: 否 | S12: 否 | Y12: 損傷は確認できない
C13: S4 | E13: 1 | F13: 40.5 | G13: 覆工 | H13: アーチ（右側） | J13: その他 | M13: － | N13: － | O13: Ⅱb | R13: 否 | S13: 否 | Y13: 損傷は確認できない
C14: S5 | E14: 1 | F14: 52 | G14: 覆工 | H14: アーチ（左側） | I14: 材質劣化 | J14: 鋼材腐食 | M14: 0.1m×0.1m | N14: － | O14: Ⅰ | Q14: Ⅱb | R14: 否 | S14: 否 | T14: 継続 | U14: 監視(日常巡視)
C15: S8 | E15: 1 | F15: 79.5 | G15: 覆工 | H15: アーチ（左側） | J15: その他 | M15: － | N15: － | O15: Ⅱb | R15: 否 | S15: 否 | Y15: 損傷は確認できない
C16: S9 | E16: 1 | F16: 87.5 | G16: 覆工 | H16: アーチ（左側） | J16: その他 | M16: － | N16: － | O16: Ⅱb | R16: 否 | S16: 否 | Y16: 損傷は確認できない
C17: S9 | E17: 2 | F17: 83.5 | G17: 覆工 | H17: アーチ（右側） | J17: その他 | M17: － | N17: － | O17: Ⅱb | R17: 否 | S17: 否 | Y17: 損傷は確認できない
C18: S10 | E18: 1 | F18: 98 | G18: 覆工 | H18: 側壁（右側） | J18: その他 | M18: － | N18: － | O18: Ⅱb | R18: 否 | S18: 否 | Y18: 損傷は確認できない
C19: S11 | E19: 1 | F19: 104 | G19: 覆工 | H19: アーチ（右側） | I19: 材質劣化 | J19: 鋼材腐食 | M19: 0.05m×0.05m | N19: － | O19: － | Q19: Ⅱb | R19: 否 | S19: 否 | T19: 継続 | U19: 監視(日常巡視)
C20: S11 | E20: 2 | F20: 104.5 | G20: 覆工 | H20: 側壁（右側） | J20: その他 | M20: － | N20: － | O20: Ⅱb | R20: 否 | S20: 否 | Y20: 損傷は確認できない
C21: S12 | E21: 1 | F21: 118.1 | G21: 覆工 | H21: 横断目地（右側） | I21: 材質劣化 | J21: うき・はく離 | M21: 0.4m×0.1m | N21: 0.4m×0.1m | O21: Ⅱb | Q21: Ⅱb | R21: 否 | S21: 否 | T21: 継続 | U21: 監視(日常巡視)
C22: S12 | E22: 2 | F22: 109.1 | G22: 覆工 | H22: 横断目地（右側） | J22: その他 | M22: － | N22: － | O22: Ⅱb | R22: 否 | S22: 否 | Y22: 損傷は確認できない
C23: S13 | E23: 1 | F23: 125 | G23: 覆工 | H23: アーチ（左側） | J23: その他 | M23: － | N23: － | O23: Ⅱb | R23: 否 | S23: 否 | Y23: 損傷は確認できない
C24: S18 | E24: 1 | F24: 166 | G24: 覆工 | H24: アーチ（右側） | J24: その他 | M24: － | N24: － | O24: Ⅱb | R24: 否 | S24: 否 | Y24: 損傷は確認できない
C25: S20 | E25: 1 | F25: 188 | G25: 覆工 | H25: アーチ（左側） | I25: 材質劣化 | J25: 鋼材腐食 | M25: 0.05m×0.05m | N25: － | O25: Ⅰ | Q25: Ⅱb | R25: 否 | S25: 否 | T25: 継続 | U25: 監視(日常巡視)
C26: S20 | E26: 2 | F26: 183 | G26: 覆工 | H26: アーチ（右側） | I26: 材質劣化 | J26: 鋼材腐食 | M26: 0.05m×0.05m | N26: － | O26: － | Q26: Ⅱb | R26: 否 | S26: 否 | T26: 継続 | U26: 監視(日常巡視)
C27: S20 | E27: 3 | F27: 189 | G27: 覆工 | H27: 側壁（右側） | J27: その他 | M27: － | N27: － | O27: Ⅱb | R27: 否 | S27: 否 | Y27: 損傷は確認できない
C28: S21 | E28: 1 | F28: 195 | G28: 覆工 | H28: 側壁（左側） | J28: その他 | M28: － | N28: － | O28: Ⅱb | R28: 否 | S28: 否 | Y28: 損傷は確認できない
C29: S21 | E29: 2 | F29: 194 | G29: 覆工 | H29: アーチ（右側） | J29: その他 | M29: － | N29: － | O29: Ⅱb | R29: 否 | S29: 否 | Y29: 損傷は確認できない
C30: S22 | E30: 1 | F30: 204 | G30: 覆工 | H30: アーチ（左側） | J30: その他 | M30: － | N30: － | O30: Ⅱb | R30: 否 | S30: 否 | Y30: 損傷は確認できない
C31: S22 | E31: 2 | F31: 202 | G31: 覆工 | H31: アーチ（右側） | J31: その他 | M31: － | N31: － | O31: Ⅱb | R31: 否 | S31: 否 | Y31: 損傷は確認できない
C32: S23 | E32: 1 | F32: 217.1 | G32: 覆工 | H32: 横断目地（左側） | I32: 材質劣化 | J32: うき・はく離 | M32: 1.2m×0.04m | N32: 1.2m×0.04m | O32: Ⅱb | Q32: Ⅰ | R32: 否 | S32: 否 | Y32: はく落
C33: S23 | E33: 2 | F33: 212 | G33: 覆工 | H33: 側壁（右側） | J33: その他 | M33: － | N33: － | O33: Ⅱb | R33: 否 | S33: 否 | Y33: 損傷は確認できない
C34: S24 | E34: 1 | F34: 220.5 | G34: 覆工 | H34: 側壁（右側） | J34: その他 | M34: － | N34: － | O34: Ⅱb | R34: 否 | S34: 否 | Y34: 損傷は確認できない
C43: ※ 対策区分（応急措置後）のⅡb～Ⅳについて記入すること。また、点検前に実施された措置によりⅠと判定された変状も記入すること。
C44: ※ 応急措置を実施しないで判定した変状の対策区分は、対策区分の応急措置後の欄に記入すること。
C45: ※ 変状の除去が不完全で、緊急対応が必要な場合は対応方針欄に記入すること。
C46: ※ １区間の覆工に複数の変状がある場合は、変状箇所毎に記入すること。
C47: ※ 措置・監視点検を行った場合には、措置履歴、特記事項に記録を残すこと。（実施年度も記載）
C48: ※ 行が不足する場合は、適時、表の行を増やすこと。

Sheet 様式C-1-2
B2: ■定期点検記録様式 定期点検結果総括表（トンネル内附属物等の取付状態） 【様式C-1-2】
B3: フリガナ | F3: =+'様式A-1'!$D$3 -> ワキトンネル | J3: 路線名 | K3: =+'様式A-1'!$J$3 -> 一般県道北中山岩国線 | M3: 定期点検実施者 | O3: =+'様式B (1)'!$S$3 -> 復建調査設計株式会社 | S3: 定期点検年月日 | W3: =+'様式B (1)'!$P$2 -> 45860
B4: 名 称 | F4: =+'様式A-1'!$D$4 -> 和木トンネル | J4: 管理者名 | K4: =+'様式A-1'!$R$3 -> 山口県岩国土木建築事務所 | O4: =+'様式B (1)'!$S$4 -> 小笠原洋
B5: 定期点検結果 | C5: 覆工 スパン 番号 | E5: 異常 番号 | F5: 距離 （m） | G5: 異常部位 | J5: 異 常 の 内 容 | N5: 定期点検結果 | P5: 応急措置の 実施状況 | V5: 対応方針 ・ 特記事項
G6: 対象箇所 | I6: 部位区分 | J6: 異常種類 | L6: 異常の発生範囲の規模 | N6: 異常判定区分 | P6: 実施 | Q6: 応急措置の内容
N7: 応急措置前 | O7: 応急措置後
C42: ※ 異常判定区分×について記入すること。また、応急措置により○と判定された箇所も記入すること。
C43: ※ 応急措置を実施しないで判定した箇所の異常判定区分は、異常判定区分の応急措置後の欄に記入すること。
C44: ※ 異常の除去が不完全で、緊急対応が必要な場合は対応方針欄に記入すること。
C45: ※ １スパンの覆工に複数の異常がある場合は、異常箇所毎に記入すること。
C46: ※ 行が不足する場合は、適時、表の行を増やすこと。

Sheet 様式C-2
B2: ■定期点検記録様式 状態の把握の内容 【様式C-2】
B3: フリガナ | E3: =+'様式A-1'!$D$3 -> ワキトンネル | H3: 路線名 | J3: =+'様式A-1'!$J$3 -> 一般県道北中山岩国線 | M3: 定期点検実施者 | Q3: =+'様式B (1)'!$S$3 -> 復建調査設計株式会社 | U3: 定期点検年月日 | X3: =+'様式B (1)'!$P$2 -> 45860
B4: 名 称 | E4: =+'様式A-1'!$D$4 -> 和木トンネル | H4: 管理者名 | J4: =+'様式A-1'!$R$3 -> 山口県岩国土木建築事務所 | Q4: =+'様式B (1)'!$S$4 -> 小笠原洋
B5: 状態の把握の内容 | C5: 覆工スパン 番号 | E5: 変状 番号 | F5: 状態の把握の内容
F6: 年月日 | H6: 内容 | O6: 結果 | Y6: 対策区分の 判定
B22: 注）状態の把握において、微破壊・非破壊検査や各種試験等を実施した場合について記載する。
B23: ※ 行が不足する場合は、適時、表の行を増やすこと。

Sheet 様式D-1-1 (1)
B2: ■定期点検記録様式 変状写真台帳【様式D-1-1】 | R2: 施設ID | T2: =+'様式A-1'!$W$2 -> 34.19214,132.18053
B3: フリガナ | E3: =+'様式A-1'!$D$3 -> ワキトンネル | H3: 路 線 名 | J3: =+'様式A-1'!$J$3 -> 一般県道北中山岩国線 | M3: 定期点検実施者 | P3: =+'様式B (1)'!$S$3 -> 復建調査設計株式会社 | S3: 定期点検年月日 | U3: =+'様式B (1)'!$P$2 -> 45860
B4: 名 称 | E4: =+'様式A-1'!$D$4 -> 和木トンネル | H4: 管理者名 | J4: =+'様式A-1'!$R$3 -> 山口県岩国土木建築事務所 | P4: =+'様式B (1)'!$S$4 -> 小笠原洋
B5: 写真 番号 | C5: 覆工スパン 番号 | E5: PS | M5: 写真 番号 | N5: 覆工スパン 番号 | P5: PS
C6: 変状番号 | E6: 1 | N6: 変状番号 | P6: 2
B7: 変状 部位 | C7: 対象箇所 | E7: 覆工 | M7: 変状 部位 | N7: 対象箇所 | P7: 覆工
C8: 部位区分 | E8: アーチ（右側） | N8: 部位区分 | P8: アーチ（右側）
B9: 変状種類 | E9: うき・はく離 | M9: 変状種類 | P9: うき・はく離
B10: 対策 区分 | C10: 変状区分 | E10: 材質劣化 | M10: 対策 区分 | N10: 変状区分 | P10: 材質劣化
C11: 応急措置前 | N11: 応急措置前
C12: 応急措置後 | E12: Ⅱb | N12: 応急措置後 | P12: Ⅱb
B13: 変状の発生範囲及び規模 | E13: 0.6m×0.75m | H13: 前回変状の発生範囲及び規模 | J13: － | M13: 変状の発生範囲及び規模 | P13: 0.1m×0.15m | S13: 前回変状の発生範囲及び規模 | U13: －
B14: 対策履歴 | E14: 監視(日常巡視) | H14: 実施状況（実施日） | M14: 対策履歴 | P14: 監視(日常巡視) | S14: 実施状況（実施日）
B15: メモ | E15: 0.6m×0.75mの閉合してブロック化したひび割れ、打音異常なし | M15: メモ | P15: 0.1m×0.15mの閉合してブロック化したひび割れ、打音異常なし
B16: 写真 番号 | C16: 覆工スパン 番号 | E16: S1 | M16: 写真 番号 | N16: 覆工スパン 番号 | P16: S3
C17: 変状番号 | E17: 1 | N17: 変状番号 | P17: 1
B18: 変状 部位 | C18: 対象箇所 | E18: 覆工 | M18: 変状 部位 | N18: 対象箇所 | P18: 覆工
C19: 部位区分 | E19: 横断目地（右側） | N19: 部位区分 | P19: アーチ（右側）
B20: 変状種類 | E20: うき・はく離 | M20: 変状種類 | P20: その他
B21: 対策 区分 | C21: 変状区分 | E21: 材質劣化 | M21: 対策 区分 | N21: 変状区分
C22: 応急措置前 | N22: 応急措置前
C23: 応急措置後 | E23: Ⅰ | N23: 応急措置後
B24: 変状の発生範囲及び規模 | E24: － | H24: 前回変状の発生範囲及び規模 | J24: 0.3m×0.08m | M24: 変状の発生範囲及び規模 | P24: － | S24: 前回変状の発生範囲及び規模 | U24: －
B25: 対策履歴 | H25: 実施状況（実施日） | M25: 対策履歴 | S25: 実施状況（実施日）
B26: メモ | E26: 打音異常は確認できない （写真番号S1-1・前回Ⅱb判定） | M26: メモ | P26: 漏水は確認できない （写真番号S3-2・前回Ⅱb判定）
C27: ※ 応急措置後の対策区分について添付すること。また、点検前に 実施された措置によりⅠと判定された箇所も添付すること。 | N27: ※ 変状の発生範囲の規模とは、対策を行う際に参考となる変状の長さや面積をいう。
N28: ※ 応急措置を実施しないで決定した変状の対策区分は、対策区分の応急措置後の欄に記入すること。
C29: ※ たたき落としを実施した場合は、実施後の写真を添付すること。 | N29: ※ 変状の発生範囲の規模は、面積・寸法を記載すること。(ひび割れ幅のみmmとし、その他をm表記とする)
C30: ※ 附属物の取付状態に関する異常写真は別途、任意の書式でとりまとめること。 | N30: ※ 構造用鋼材以外の異物に伴ううき・はく離については、メモ欄に異物の概要を記入すること。

Sheet 様式D-1-1 (2)
B2: ■定期点検記録様式 変状写真台帳【様式D-1-1】 | R2: 施設ID | T2: =+'様式A-1'!$W$2 -> 34.19214,132.18053
B3: フリガナ | E3: =+'様式A-1'!$D$3 -> ワキトンネル | H3: 路 線 名 | J3: =+'様式A-1'!$J$3 -> 一般県道北中山岩国線 | M3: 定期点検実施者 | P3: =+'様式B (1)'!$S$3 -> 復建調査設計株式会社 | S3: 定期点検年月日 | U3: =+'様式B (1)'!$P$2 -> 45860
B4: 名 称 | E4: =+'様式A-1'!$D$4 -> 和木トンネル | H4: 管理者名 | J4: =+'様式A-1'!$R$3 -> 山口県岩国土木建築事務所 | P4: =+'様式B (1)'!$S$4 -> 小笠原洋
B5: 写真 番号 | C5: 覆工スパン 番号 | E5: S4 | M5: 写真 番号 | N5: 覆工スパン 番号 | P5: S5
C6: 変状番号 | E6: 1 | N6: 変状番号 | P6: 1
B7: 変状 部位 | C7: 対象箇所 | E7: 覆工 | M7: 変状 部位 | N7: 対象箇所 | P7: 覆工
C8: 部位区分 | E8: アーチ（右側） | N8: 部位区分 | P8: アーチ（左側）
B9: 変状種類 | E9: その他 | M9: 変状種類 | P9: 鋼材腐食
B10: 対策 区分 | C10: 変状区分 | M10: 対策 区分 | N10: 変状区分 | P10: 材質劣化
C11: 応急措置前 | N11: 応急措置前
C12: 応急措置後 | N12: 応急措置後 | P12: Ⅱb
B13: 変状の発生範囲及び規模 | E13: － | H13: 前回変状の発生範囲及び規模 | J13: － | M13: 変状の発生範囲及び規模 | P13: 0.1m×0.1m | S13: 前回変状の発生範囲及び規模 | U13: －
B14: 対策履歴 | H14: 実施状況（実施日） | M14: 対策履歴 | P14: 監視(日常巡視) | S14: 実施状況（実施日）
B15: メモ | E15: 漏水は確認できない （写真番号S4-1・前回Ⅱb判定） | M15: メモ | P15: 0.1m×0.1mの鋼材腐食、鋼材の表面的な錆び、構造鉄筋の可能性は低い （写真番号S5-1・前回Ⅰ判定）
B16: 写真 番号 | C16: 覆工スパン 番号 | E16: S8 | M16: 写真 番号 | N16: 覆工スパン 番号 | P16: S9
C17: 変状番号 | E17: 1 | N17: 変状番号 | P17: 1
B18: 変状 部位 | C18: 対象箇所 | E18: 覆工 | M18: 変状 部位 | N18: 対象箇所 | P18: 覆工
C19: 部位区分 | E19: アーチ（左側） | N19: 部位区分 | P19: アーチ（左側）
B20: 変状種類 | E20: その他 | M20: 変状種類 | P20: その他
B21: 対策 区分 | C21: 変状区分 | M21: 対策 区分 | N21: 変状区分
C22: 応急措置前 | N22: 応急措置前
C23: 応急措置後 | N23: 応急措置後
B24: 変状の発生範囲及び規模 | E24: － | H24: 前回変状の発生範囲及び規模 | J24: － | M24: 変状の発生範囲及び規模 | P24: － | S24: 前回変状の発生範囲及び規模 | U24: －
B25: 対策履歴 | H25: 実施状況（実施日） | M25: 対策履歴 | S25: 実施状況（実施日）
B26: メモ | E26: 漏水は確認できない （写真番号S8-1・前回Ⅱb判定） | M26: メモ | P26: 漏水は確認できない （写真番号S9-2・前回Ⅱb判定）
C27: ※ 応急措置後の対策区分について添付すること。また、点検前に 実施された措置によりⅠと判定された箇所も添付すること。 | N27: ※ 変状の発生範囲の規模とは、対策を行う際に参考となる変状の長さや面積をいう。
N28: ※ 応急措置を実施しないで決定した変状の対策区分は、対策区分の応急措置後の欄に記入すること。
C29: ※ たたき落としを実施した場合は、実施後の写真を添付すること。 | N29: ※ 変状の発生範囲の規模は、面積・寸法を記載すること。(ひび割れ幅のみmmとし、その他をm表記とする)
C30: ※ 附属物の取付状態に関する異常写真は別途、任意の書式でとりまとめること。 | N30: ※ 構造用鋼材以外の異物に伴ううき・はく離については、メモ欄に異物の概要を記入すること。

Sheet 様式D-1-1 (3)
B2: ■定期点検記録様式 変状写真台帳【様式D-1-1】 | R2: 施設ID | T2: =+'様式A-1'!$W$2 -> 34.19214,132.18053
B3: フリガナ | E3: =+'様式A-1'!$D$3 -> ワキトンネル | H3: 路 線 名 | J3: =+'様式A-1'!$J$3 -> 一般県道北中山岩国線 | M3: 定期点検実施者 | P3: =+'様式B (1)'!$S$3 -> 復建調査設計株式会社 | S3: 定期点検年月日 | U3: =+'様式B (1)'!$P$2 -> 45860
B4: 名 称 | E4: =+'様式A-1'!$D$4 -> 和木トンネル | H4: 管理者名 | J4: =+'様式A-1'!$R$3 -> 山口県岩国土木建築事務所 | P4: =+'様式B (1)'!$S$4 -> 小笠原洋
B5: 写真 番号 | C5: 覆工スパン 番号 | E5: S9 | M5: 写真 番号 | N5: 覆工スパン 番号 | P5: S10
C6: 変状番号 | E6: 2 | N6: 変状番号 | P6: 1
B7: 変状 部位 | C7: 対象箇所 | E7: 覆工 | M7: 変状 部位 | N7: 対象箇所 | P7: 覆工
C8: 部位区分 | E8: アーチ（右側） | N8: 部位区分 | P8: 側壁（右側）
B9: 変状種類 | E9: その他 | M9: 変状種類 | P9: その他
B10: 対策 区分 | C10: 変状区分 | M10: 対策 区分 | N10: 変状区分
C11: 応急措置前 | N11: 応急措置前
C12: 応急措置後 | N12: 応急措置後
B13: 変状の発生範囲及び規模 | E13: － | H13: 前回変状の発生範囲及び規模 | J13: － | M13: 変状の発生範囲及び規模 | P13: － | S13: 前回変状の発生範囲及び規模 | U13: －
B14: 対策履歴 | H14: 実施状況（実施日） | M14: 対策履歴 | S14: 実施状況（実施日）
B15: メモ | E15: 漏水は確認できない （写真番号S9-1・前回Ⅱb判定） | M15: メモ | P15: 漏水は確認できない （写真番号S10-1・前回Ⅱb判定）
B16: 写真 番号 | C16: 覆工スパン 番号 | E16: S11 | M16: 写真 番号 | N16: 覆工スパン 番号 | P16: S11
C17: 変状番号 | E17: 1 | N17: 変状番号 | P17: 2
B18: 変状 部位 | C18: 対象箇所 | E18: 覆工 | M18: 変状 部位 | N18: 対象箇所 | P18: 覆工
C19: 部位区分 | E19: アーチ（右側） | N19: 部位区分 | P19: 側壁（右側）
B20: 変状種類 | E20: 鋼材腐食 | M20: 変状種類 | P20: その他
B21: 対策 区分 | C21: 変状区分 | E21: 材質劣化 | M21: 対策 区分 | N21: 変状区分
C22: 応急措置前 | N22: 応急措置前
C23: 応急措置後 | E23: Ⅱb | N23: 応急措置後
B24: 変状の発生範囲及び規模 | E24: 0.05m×0.05m | H24: 前回変状の発生範囲及び規模 | J24: － | M24: 変状の発生範囲及び規模 | P24: － | S24: 前回変状の発生範囲及び規模 | U24: －
B25: 対策履歴 | E25: 監視(日常巡視) | H25: 実施状況（実施日） | M25: 対策履歴 | S25: 実施状況（実施日）
B26: メモ | E26: 0.05m×0.05mの鋼材腐食、鋼材の表面的な錆び、構造鉄筋の可能性は低い | M26: メモ | P26: 漏水は確認できない （写真番号S11-1・前回Ⅱb判定）
C27: ※ 応急措置後の対策区分について添付すること。また、点検前に 実施された措置によりⅠと判定された箇所も添付すること。 | N27: ※ 変状の発生範囲の規模とは、対策を行う際に参考となる変状の長さや面積をいう。
N28: ※ 応急措置を実施しないで決定した変状の対策区分は、対策区分の応急措置後の欄に記入すること。
C29: ※ たたき落としを実施した場合は、実施後の写真を添付すること。 | N29: ※ 変状の発生範囲の規模は、面積・寸法を記載すること。(ひび割れ幅のみmmとし、その他をm表記とする)
C30: ※ 附属物の取付状態に関する異常写真は別途、任意の書式でとりまとめること。 | N30: ※ 構造用鋼材以外の異物に伴ううき・はく離については、メモ欄に異物の概要を記入すること。

Sheet 様式D-1-1 (4)
B2: ■定期点検記録様式 変状写真台帳【様式D-1-1】 | R2: 施設ID | T2: =+'様式A-1'!$W$2 -> 34.19214,132.18053
B3: フリガナ | E3: =+'様式A-1'!$D$3 -> ワキトンネル | H3: 路 線 名 | J3: =+'様式A-1'!$J$3 -> 一般県道北中山岩国線 | M3: 定期点検実施者 | P3: =+'様式B (1)'!$S$3 -> 復建調査設計株式会社 | S3: 定期点検年月日 | U3: =+'様式B (1)'!$P$2 -> 45860
B4: 名 称 | E4: =+'様式A-1'!$D$4 -> 和木トンネル | H4: 管理者名 | J4: =+'様式A-1'!$R$3 -> 山口県岩国土木建築事務所 | P4: =+'様式B (1)'!$S$4 -> 小笠原洋
B5: 写真 番号 | C5: 覆工スパン 番号 | E5: S12 | M5: 写真 番号 | N5: 覆工スパン 番号 | P5: S12
C6: 変状番号 | E6: 1 | N6: 変状番号 | P6: 2
B7: 変状 部位 | C7: 対象箇所 | E7: 覆工 | M7: 変状 部位 | N7: 対象箇所 | P7: 覆工
C8: 部位区分 | E8: 横断目地（右側） | N8: 部位区分 | P8: 横断目地（右側）
B9: 変状種類 | E9: うき・はく離 | M9: 変状種類 | P9: その他
B10: 対策 区分 | C10: 変状区分 | E10: 材質劣化 | M10: 対策 区分 | N10: 変状区分
C11: 応急措置前 | N11: 応急措置前
C12: 応急措置後 | E12: Ⅱb | N12: 応急措置後
B13: 変状の発生範囲及び規模 | E13: 0.4m×0.1m | H13: 前回変状の発生範囲及び規模 | J13: 0.4m×0.1m | M13: 変状の発生範囲及び規模 | P13: － | S13: 前回変状の発生範囲及び規模 | U13: －
B14: 対策履歴 | E14: 監視(日常巡視) | H14: 実施状況（実施日） | M14: 対策履歴 | S14: 実施状況（実施日）
B15: メモ | E15: 0.4m×0.1mの横断方向目地周辺の打音異常部、ひび割れなし、進行は確認されない （写真番号S12-3・前回Ⅱb判定） | M15: メモ | P15: 漏水は確認できない （写真番号S12-1・前回Ⅱb判定）
B16: 写真 番号 | C16: 覆工スパン 番号 | E16: S13 | M16: 写真 番号 | N16: 覆工スパン 番号 | P16: S18
C17: 変状番号 | E17: 1 | N17: 変状番号 | P17: 1
B18: 変状 部位 | C18: 対象箇所 | E18: 覆工 | M18: 変状 部位 | N18: 対象箇所 | P18: 覆工
C19: 部位区分 | E19: アーチ（左側） | N19: 部位区分 | P19: アーチ（右側）
B20: 変状種類 | E20: その他 | M20: 変状種類 | P20: その他
B21: 対策 区分 | C21: 変状区分 | M21: 対策 区分 | N21: 変状区分
C22: 応急措置前 | N22: 応急措置前
C23: 応急措置後 | N23: 応急措置後
B24: 変状の発生範囲及び規模 | E24: － | H24: 前回変状の発生範囲及び規模 | J24: － | M24: 変状の発生範囲及び規模 | P24: － | S24: 前回変状の発生範囲及び規模 | U24: －
B25: 対策履歴 | H25: 実施状況（実施日） | M25: 対策履歴 | S25: 実施状況（実施日）
B26: メモ | E26: 漏水は確認できない （写真番号S13-1・前回Ⅱb判定） | M26: メモ | P26: 漏水は確認できない （写真番号S18-1・前回Ⅱb判定）
C27: ※ 応急措置後の対策区分について添付すること。また、点検前に 実施された措置によりⅠと判定された箇所も添付すること。 | N27: ※ 変状の発生範囲の規模とは、対策を行う際に参考となる変状の長さや面積をいう。
N28: ※ 応急措置を実施しないで決定した変状の対策区分は、対策区分の応急措置後の欄に記入すること。
C29: ※ たたき落としを実施した場合は、実施後の写真を添付すること。 | N29: ※ 変状の発生範囲の規模は、面積・寸法を記載すること。(ひび割れ幅のみmmとし、その他をm表記とする)
C30: ※ 附属物の取付状態に関する異常写真は別途、任意の書式でとりまとめること。 | N30: ※ 構造用鋼材以外の異物に伴ううき・はく離については、メモ欄に異物の概要を記入すること。

Sheet 様式D-1-1 (5)
B2: ■定期点検記録様式 変状写真台帳【様式D-1-1】 | R2: 施設ID | T2: =+'様式A-1'!$W$2 -> 34.19214,132.18053
B3: フリガナ | E3: =+'様式A-1'!$D$3 -> ワキトンネル | H3: 路 線 名 | J3: =+'様式A-1'!$J$3 -> 一般県道北中山岩国線 | M3: 定期点検実施者 | P3: =+'様式B (1)'!$S$3 -> 復建調査設計株式会社 | S3: 定期点検年月日 | U3: =+'様式B (1)'!$P$2 -> 45860
B4: 名 称 | E4: =+'様式A-1'!$D$4 -> 和木トンネル | H4: 管理者名 | J4: =+'様式A-1'!$R$3 -> 山口県岩国土木建築事務所 | P4: =+'様式B (1)'!$S$4 -> 小笠原洋
B5: 写真 番号 | C5: 覆工スパン 番号 | E5: S20 | M5: 写真 番号 | N5: 覆工スパン 番号 | P5: S20
C6: 変状番号 | E6: 1 | N6: 変状番号 | P6: 2
B7: 変状 部位 | C7: 対象箇所 | E7: 覆工 | M7: 変状 部位 | N7: 対象箇所 | P7: 覆工
C8: 部位区分 | E8: アーチ（左側） | N8: 部位区分 | P8: アーチ（右側）
B9: 変状種類 | E9: 鋼材腐食 | M9: 変状種類 | P9: 鋼材腐食
B10: 対策 区分 | C10: 変状区分 | E10: 材質劣化 | M10: 対策 区分 | N10: 変状区分 | P10: 材質劣化
C11: 応急措置前 | N11: 応急措置前
C12: 応急措置後 | E12: Ⅱb | N12: 応急措置後 | P12: Ⅱb
B13: 変状の発生範囲及び規模 | E13: 0.05m×0.05m | H13: 前回変状の発生範囲及び規模 | J13: － | M13: 変状の発生範囲及び規模 | P13: 0.05m×0.05m | S13: 前回変状の発生範囲及び規模 | U13: －
B14: 対策履歴 | E14: 監視(日常巡視) | H14: 実施状況（実施日） | M14: 対策履歴 | P14: 監視(日常巡視) | S14: 実施状況（実施日）
B15: メモ | E15: 0.05m×0.05mの鋼材腐食、鋼材の表面的な錆び、構造鉄筋の可能性は低い （写真番号S20-1・前回Ⅰ判定） | M15: メモ | P15: 0.05m×0.05mの鋼材腐食、鋼材の表面的な錆び、構造鉄筋の可能性は低い
B16: 写真 番号 | C16: 覆工スパン 番号 | E16: S20 | M16: 写真 番号 | N16: 覆工スパン 番号 | P16: S21
C17: 変状番号 | E17: 3 | N17: 変状番号 | P17: 1
B18: 変状 部位 | C18: 対象箇所 | E18: 覆工 | M18: 変状 部位 | N18: 対象箇所 | P18: 覆工
C19: 部位区分 | E19: 側壁（右側） | N19: 部位区分 | P19: 側壁（左側）
B20: 変状種類 | E20: その他 | M20: 変状種類 | P20: その他
B21: 対策 区分 | C21: 変状区分 | M21: 対策 区分 | N21: 変状区分
C22: 応急措置前 | N22: 応急措置前
C23: 応急措置後 | N23: 応急措置後
B24: 変状の発生範囲及び規模 | E24: － | H24: 前回変状の発生範囲及び規模 | J24: － | M24: 変状の発生範囲及び規模 | P24: － | S24: 前回変状の発生範囲及び規模 | U24: －
B25: 対策履歴 | H25: 実施状況（実施日） | M25: 対策履歴 | S25: 実施状況（実施日）
B26: メモ | E26: 漏水は確認できない （写真番号S20-2・前回Ⅱb判定） | M26: メモ | P26: 漏水は確認できない （写真番号S21-2・前回Ⅱb判定）
C27: ※ 応急措置後の対策区分について添付すること。また、点検前に 実施された措置によりⅠと判定された箇所も添付すること。 | N27: ※ 変状の発生範囲の規模とは、対策を行う際に参考となる変状の長さや面積をいう。
N28: ※ 応急措置を実施しないで決定した変状の対策区分は、対策区分の応急措置後の欄に記入すること。
C29: ※ たたき落としを実施した場合は、実施後の写真を添付すること。 | N29: ※ 変状の発生範囲の規模は、面積・寸法を記載すること。(ひび割れ幅のみmmとし、その他をm表記とする)
C30: ※ 附属物の取付状態に関する異常写真は別途、任意の書式でとりまとめること。 | N30: ※ 構造用鋼材以外の異物に伴ううき・はく離については、メモ欄に異物の概要を記入すること。

Sheet 様式D-1-1 (6)
B2: ■定期点検記録様式 変状写真台帳【様式D-1-1】 | R2: 施設ID | T2: =+'様式A-1'!$W$2 -> 34.19214,132.18053
B3: フリガナ | E3: =+'様式A-1'!$D$3 -> ワキトンネル | H3: 路 線 名 | J3: =+'様式A-1'!$J$3 -> 一般県道北中山岩国線 | M3: 定期点検実施者 | P3: =+'様式B (1)'!$S$3 -> 復建調査設計株式会社 | S3: 定期点検年月日 | U3: =+'様式B (1)'!$P$2 -> 45860
B4: 名 称 | E4: =+'様式A-1'!$D$4 -> 和木トンネル | H4: 管理者名 | J4: =+'様式A-1'!$R$3 -> 山口県岩国土木建築事務所 | P4: =+'様式B (1)'!$S$4 -> 小笠原洋
B5: 写真 番号 | C5: 覆工スパン 番号 | E5: S21 | M5: 写真 番号 | N5: 覆工スパン 番号 | P5: S22
C6: 変状番号 | E6: 2 | N6: 変状番号 | P6: 1
B7: 変状 部位 | C7: 対象箇所 | E7: 覆工 | M7: 変状 部位 | N7: 対象箇所 | P7: 覆工
C8: 部位区分 | E8: アーチ（右側） | N8: 部位区分 | P8: アーチ（左側）
B9: 変状種類 | E9: その他 | M9: 変状種類 | P9: その他
B10: 対策 区分 | C10: 変状区分 | M10: 対策 区分 | N10: 変状区分
C11: 応急措置前 | N11: 応急措置前
C12: 応急措置後 | N12: 応急措置後
B13: 変状の発生範囲及び規模 | E13: － | H13: 前回変状の発生範囲及び規模 | J13: － | M13: 変状の発生範囲及び規模 | P13: － | S13: 前回変状の発生範囲及び規模 | U13: －
B14: 対策履歴 | H14: 実施状況（実施日） | M14: 対策履歴 | S14: 実施状況（実施日）
B15: メモ | E15: 漏水は確認できない （写真番号S21-1・前回Ⅱb判定） | M15: メモ | P15: 漏水は確認できない （写真番号S22-2・前回Ⅱb判定）
B16: 写真 番号 | C16: 覆工スパン 番号 | E16: S22 | M16: 写真 番号 | N16: 覆工スパン 番号 | P16: S23
C17: 変状番号 | E17: 2 | N17: 変状番号 | P17: 1
B18: 変状 部位 | C18: 対象箇所 | E18: 覆工 | M18: 変状 部位 | N18: 対象箇所 | P18: 覆工
C19: 部位区分 | E19: アーチ（右側） | N19: 部位区分 | P19: 横断目地（左側）
B20: 変状種類 | E20: その他 | M20: 変状種類 | P20: うき・はく離
B21: 対策 区分 | C21: 変状区分 | M21: 対策 区分 | N21: 変状区分 | P21: 材質劣化
C22: 応急措置前 | N22: 応急措置前
C23: 応急措置後 | N23: 応急措置後 | P23: Ⅰ
B24: 変状の発生範囲及び規模 | E24: － | H24: 前回変状の発生範囲及び規模 | J24: － | M24: 変状の発生範囲及び規模 | P24: 1.2m×0.04m | S24: 前回変状の発生範囲及び規模 | U24: 1.2m×0.04m
B25: 対策履歴 | H25: 実施状況（実施日） | M25: 対策履歴 | S25: 実施状況（実施日）
B26: メモ | E26: 漏水は確認できない （写真番号S22-1・前回Ⅱb判定） | M26: メモ | P26: 1.2m×0.04mの横断方向目地周辺のはく落、深さ30mm （写真番号S23-2・前回Ⅱb判定）
C27: ※ 応急措置後の対策区分について添付すること。また、点検前に 実施された措置によりⅠと判定された箇所も添付すること。 | N27: ※ 変状の発生範囲の規模とは、対策を行う際に参考となる変状の長さや面積をいう。
N28: ※ 応急措置を実施しないで決定した変状の対策区分は、対策区分の応急措置後の欄に記入すること。
C29: ※ たたき落としを実施した場合は、実施後の写真を添付すること。 | N29: ※ 変状の発生範囲の規模は、面積・寸法を記載すること。(ひび割れ幅のみmmとし、その他をm表記とする)
C30: ※ 附属物の取付状態に関する異常写真は別途、任意の書式でとりまとめること。 | N30: ※ 構造用鋼材以外の異物に伴ううき・はく離については、メモ欄に異物の概要を記入すること。

Sheet 様式D-1-1 (7)
B2: ■定期点検記録様式 変状写真台帳【様式D-1-1】 | R2: 施設ID | T2: =+'様式A-1'!$W$2 -> 34.19214,132.18053
B3: フリガナ | E3: =+'様式A-1'!$D$3 -> ワキトンネル | H3: 路 線 名 | J3: =+'様式A-1'!$J$3 -> 一般県道北中山岩国線 | M3: 定期点検実施者 | P3: =+'様式B (1)'!$S$3 -> 復建調査設計株式会社 | S3: 定期点検年月日 | U3: =+'様式B (1)'!$P$2 -> 45860
B4: 名 称 | E4: =+'様式A-1'!$D$4 -> 和木トンネル | H4: 管理者名 | J4: =+'様式A-1'!$R$3 -> 山口県岩国土木建築事務所 | P4: =+'様式B (1)'!$S$4 -> 小笠原洋
B5: 写真 番号 | C5: 覆工スパン 番号 | E5: S23 | M5: 写真 番号 | N5: 覆工スパン 番号 | P5: S24
C6: 変状番号 | E6: 2 | N6: 変状番号 | P6: 1
B7: 変状 部位 | C7: 対象箇所 | E7: 覆工 | M7: 変状 部位 | N7: 対象箇所 | P7: 覆工
C8: 部位区分 | E8: 側壁（右側） | N8: 部位区分 | P8: 側壁（右側）
B9: 変状種類 | E9: その他 | M9: 変状種類 | P9: その他
B10: 対策 区分 | C10: 変状区分 | M10: 対策 区分 | N10: 変状区分
C11: 応急措置前 | N11: 応急措置前
C12: 応急措置後 | N12: 応急措置後
B13: 変状の発生範囲及び規模 | E13: － | H13: 前回変状の発生範囲及び規模 | J13: － | M13: 変状の発生範囲及び規模 | P13: － | S13: 前回変状の発生範囲及び規模 | U13: －
B14: 対策履歴 | H14: 実施状況（実施日） | M14: 対策履歴 | S14: 実施状況（実施日）
B15: メモ | E15: 漏水は確認できない （写真番号S23-1・前回Ⅱb判定） | M15: メモ | P15: 漏水は確認できない （写真番号S24-1・前回Ⅱb判定）
B16: 写真 番号 | C16: 覆工スパン 番号 | M16: 写真 番号 | N16: 覆工スパン 番号
C17: 変状番号 | N17: 変状番号
B18: 変状 部位 | C18: 対象箇所 | M18: 変状 部位 | N18: 対象箇所
C19: 部位区分 | N19: 部位区分
B20: 変状種類 | M20: 変状種類
B21: 対策 区分 | C21: 変状区分 | M21: 対策 区分 | N21: 変状区分
C22: 応急措置前 | N22: 応急措置前
C23: 応急措置後 | N23: 応急措置後
B24: 変状の発生範囲及び規模 | H24: 前回変状の発生範囲及び規模 | M24: 変状の発生範囲及び規模 | S24: 前回変状の発生範囲及び規模
B25: 対策履歴 | H25: 実施状況（実施日） | M25: 対策履歴 | S25: 実施状況（実施日）
B26: メモ | M26: メモ
C27: ※ 応急措置後の対策区分について添付すること。また、点検前に 実施された措置によりⅠと判定された箇所も添付すること。 | N27: ※ 変状の発生範囲の規模とは、対策を行う際に参考となる変状の長さや面積をいう。
N28: ※ 応急措置を実施しないで決定した変状の対策区分は、対策区分の応急措置後の欄に記入すること。
C29: ※ たたき落としを実施した場合は、実施後の写真を添付すること。 | N29: ※ 変状の発生範囲の規模は、面積・寸法を記載すること。(ひび割れ幅のみmmとし、その他をm表記とする)
C30: ※ 附属物の取付状態に関する異常写真は別途、任意の書式でとりまとめること。 | N30: ※ 構造用鋼材以外の異物に伴ううき・はく離については、メモ欄に異物の概要を記入すること。

Sheet 様式D-1-2 (1)
B2: ■定期点検記録様式 異常写真台帳（トンネル内附属物等の取付状態） 【様式D-1-2】
B3: フリガナ | E3: =+'様式A-1'!$D$3 -> ワキトンネル | I3: 路 線 名 | L3: =+'様式A-1'!$J$3 -> 一般県道北中山岩国線 | O3: 定期点検実施者 | R3: =+'様式B (1)'!$S$3 -> 復建調査設計株式会社 | U3: 定期点検年月日 | W3: =+'様式B (1)'!$P$2 -> 45860
B4: 名 称 | E4: =+'様式A-1'!$D$4 -> 和木トンネル | I4: 管理者名 | L4: =+'様式A-1'!$R$3 -> 山口県岩国土木建築事務所 | R4: =+'様式B (1)'!$S$4 -> 小笠原洋
B5: 覆工スパン番号 | F5: 異常番号 | J5: 覆工スパン番号 | N5: 異常番号 | R5: 覆工スパン番号 | V5: 異常番号
B6: 対象箇所 | J6: 対象箇所 | R6: 対象箇所
B7: 部位区分 | F7: 異常の種類 | J7: 部位区分 | N7: 異常の種類 | R7: 部位区分 | V7: 異常の種類
B8: 異常判定区分 | E8: メモ | J8: 異常判定区分 | M8: メモ | R8: 異常判定区分 | U8: メモ
B22: 覆工スパン番号 | F22: 異常番号 | J22: 覆工スパン番号 | N22: 異常番号 | R22: 覆工スパン番号 | V22: 異常番号
B23: 対象箇所 | J23: 対象箇所 | R23: 対象箇所
B24: 部位区分 | F24: 異常の種類 | J24: 部位区分 | N24: 異常の種類 | R24: 部位区分 | V24: 異常の種類
B25: 異常判定区分 | E25: メモ | J25: 異常判定区分 | M25: メモ | R25: 異常判定区分 | U25: メモ
C39: ※ 異常判定区分×について記入すること。また、応急措置前に異常判定区分×とした箇所のうち応急措置により○と判定した箇所も記入すること。
C40: ※ 応急措置を実施した場合は、その実施状況が分かる写真を添付すること。
C41: ※ 変状数に準じてシートを追加すること。

Sheet 様式D-2-1 (1)
B3: ■定期点検記録様式 トンネル全体変状展開図 【様式D-2-1】
B4: フリガナ | E4: =+'様式A-1'!$D$3 -> ワキトンネル | J4: 路線名 | M4: =+'様式A-1'!$J$3 -> 一般県道北中山岩国線 | S4: 定期点検実施者 | W4: =+'様式B (1)'!$S$3 -> 復建調査設計株式会社 | AC4: 定期点検年月日 | AF4: =+'様式B (1)'!$P$2 -> 45860
B5: 名 称 | E5: =+'様式A-1'!$D$4 -> 和木トンネル | J5: 管理者名 | M5: =+'様式A-1'!$R$3 -> 山口県岩国土木建築事務所 | W5: =+'様式B (1)'!$S$4 -> 小笠原洋
B6: トンネル変状展開図 | C6: トンネル全体変状展開図
V18: 注１：本展開図は、見下げた状態で記載すること。 注２：覆工スパン番号は横断目地毎（矢板工法の場合は上半アーチ の横断目地毎)に設定すること。 注３：横断目地の変状は前の覆工スパン番号で計上すること。 注４：１枚に収まらない場合は、複数枚に分けて作成すること。

Sheet 様式D-2-1 (2)
B3: ■定期点検記録様式 トンネル全体変状展開図 【様式D-2-1】
B4: フリガナ | E4: =+'様式A-1'!$D$3 -> ワキトンネル | J4: 路線名 | M4: =+'様式A-1'!$J$3 -> 一般県道北中山岩国線 | S4: 定期点検実施者 | W4: =+'様式B (1)'!$S$3 -> 復建調査設計株式会社 | AC4: 定期点検年月日 | AF4: =+'様式B (1)'!$P$2 -> 45860
B5: 名 称 | E5: =+'様式A-1'!$D$4 -> 和木トンネル | J5: 管理者名 | M5: =+'様式A-1'!$R$3 -> 山口県岩国土木建築事務所 | W5: =+'様式B (1)'!$S$4 -> 小笠原洋
B6: トンネル変状展開図 | C6: トンネル全体変状展開図
V18: 注１：本展開図は、見下げた状態で記載すること。 注２：覆工スパン番号は横断目地毎（矢板工法の場合は上半アーチ の横断目地毎)に設定すること。 注３：横断目地の変状は前の覆工スパン番号で計上すること。 注４：１枚に収まらない場合は、複数枚に分けて作成すること。

Sheet 様式D-2-1 (3)
B3: ■定期点検記録様式 トンネル全体変状展開図 【様式D-2-1】
B4: フリガナ | E4: =+'様式A-1'!$D$3 -> ワキトンネル | J4: 路線名 | M4: =+'様式A-1'!$J$3 -> 一般県道北中山岩国線 | S4: 定期点検実施者 | W4: =+'様式B (1)'!$S$3 -> 復建調査設計株式会社 | AC4: 定期点検年月日 | AF4: =+'様式B (1)'!$P$2 -> 45860
B5: 名 称 | E5: =+'様式A-1'!$D$4 -> 和木トンネル | J5: 管理者名 | M5: =+'様式A-1'!$R$3 -> 山口県岩国土木建築事務所 | W5: =+'様式B (1)'!$S$4 -> 小笠原洋
B6: トンネル変状展開図 | C6: トンネル全体変状展開図
V18: 注１：本展開図は、見下げた状態で記載すること。 注２：覆工スパン番号は横断目地毎（矢板工法の場合は上半アーチ の横断目地毎)に設定すること。 注３：横断目地の変状は前の覆工スパン番号で計上すること。 注４：１枚に収まらない場合は、複数枚に分けて作成すること。

Sheet 様式D-2-1 (4)
B3: ■定期点検記録様式 トンネル全体変状展開図 【様式D-2-1】
B4: フリガナ | E4: =+'様式A-1'!$D$3 -> ワキトンネル | J4: 路線名 | M4: =+'様式A-1'!$J$3 -> 一般県道北中山岩国線 | S4: 定期点検実施者 | W4: =+'様式B (1)'!$S$3 -> 復建調査設計株式会社 | AC4: 定期点検年月日 | AF4: =+'様式B (1)'!$P$2 -> 45860
B5: 名 称 | E5: =+'様式A-1'!$D$4 -> 和木トンネル | J5: 管理者名 | M5: =+'様式A-1'!$R$3 -> 山口県岩国土木建築事務所 | W5: =+'様式B (1)'!$S$4 -> 小笠原洋
B6: トンネル変状展開図 | C6: トンネル全体変状展開図
V18: 注１：本展開図は、見下げた状態で記載すること。 注２：覆工スパン番号は横断目地毎（矢板工法の場合は上半アーチ の横断目地毎)に設定すること。 注３：横断目地の変状は前の覆工スパン番号で計上すること。 注４：１枚に収まらない場合は、複数枚に分けて作成すること。

Sheet 様式D-2-1´
B3: ■定期点検記録様式 トンネル全体変状展開図（機器の活用時） 【様式D-2-1’】
B4: フリガナ | E4: =+'様式A-1'!$D$3 -> ワキトンネル | J4: 路線名 | M4: =+'様式A-1'!$J$3 -> 一般県道北中山岩国線 | S4: 定期点検実施者 | W4: =+'様式B (1)'!$S$3 -> 復建調査設計株式会社 | AC4: 定期点検年月日 | AF4: =+'様式B (1)'!$P$2 -> 45860
B5: 名 称 | E5: =+'様式A-1'!$D$4 -> 和木トンネル | J5: 管理者名 | M5: =+'様式A-1'!$R$3 -> 山口県岩国土木建築事務所 | W5: =+'様式B (1)'!$S$4 -> 小笠原洋
B6: トンネル変状展開図 | C6: トンネル全体変状展開図
V18: 注１：本展開図は、見下げた状態で記載すること。 注２：覆工スパン番号は横断目地毎（矢板工法の場合は上半アーチ の横断目地毎)に設定すること。 注３：横断目地の変状は前の覆工スパン番号で計上すること。 注４：１枚に収まらない場合は、複数枚に分けて作成すること。

Sheet 様式D-3_PS
AU1: 様式F用→ | AV1: 覆工スパン | AY1: 変 状 数 | BK1: 変 状 規 模
AV2: 番号 | AW2: 延長 （ｍ） | AX2: 健全性の診断の 区分 | AY2: 対策区分の判定 | BK2: 覆工スパン長（ｍ） | BO2: 変状の発生範囲の規模（㎡）
B3: ■定期点検記録様式 覆工スパン別変状詳細展開図 【様式D-3】 | AY3: 外力 | BC3: 材質劣化 | BG3: 漏水 | BK3: 外力 注2 | BO3: 材質劣化 | BS3: 漏水
B4: フリガナ | E4: ='様式A-1'!$D$3 -> ワキトンネル | K4: 路線名 | N4: ='様式A-1'!$J$3 -> 一般県道北中山岩国線 | T4: 定期点検実施者 | Y4: =+'様式B (1)'!$S$3 -> 復建調査設計株式会社 | AG4: 定期点検年月日 | AK4: =+'様式B (1)'!$P$2 -> 45860 | AY4: Ⅳ | AZ4: Ⅲ | BA4: Ⅱa | BB4: Ⅱb | BC4: Ⅳ | BD4: Ⅲ | BE4: Ⅱa | BF4: Ⅱb | BG4: Ⅳ | BH4: Ⅲ | BI4: Ⅱa | BJ4: Ⅱb | BK4: Ⅳ | BL4: Ⅲ | BM4: Ⅱa | BN4: Ⅱb | BO4: Ⅳ | BP4: Ⅲ | BQ4: Ⅱa | BR4: Ⅱb | BS4: Ⅳ | BT4: Ⅲ | BU4: Ⅱa | BV4: Ⅱb
B5: 名 称 | E5: ='様式A-1'!$D$4 -> 和木トンネル | K5: 管理者名 | N5: ='様式A-1'!$R$3 -> 山口県岩国土木建築事務所 | Y5: =+'様式B (1)'!$S$4 -> 小笠原洋 | AV5: =N7 -> PS | AW5: =R7 -> 11.8 | AX5: =AM35 -> Ⅱ | AY5: =Y37 -> 0 | AZ5: =Z37 -> 0 | BA5: =AA37 -> 0 | BB5: =AB37 -> 0 | BC5: =AC37 -> 0 | BD5: =AD37 -> 0 | BE5: =AE37 -> 0 | BF5: =AF37 -> 2 | ... BJ5: =AJ37 -> 0 | BK5: =IF(Y37>0,R7,"") | BL5: =IF(Y37>0,"",IF(Z37>0,R7,"")) | BM5: =IF(Y37+Z37>0,"",IF(AA37>0,R7,"")) | BN5: =IF(Y37+Z37+AA37>0,"",IF(AB37>0,R7,"")) | BO5: =AC35 -> 0 | BP5: =AD35 -> 0 | BQ5: =AE35 -> 0 | BR5: =AF35 -> 0.465 | BS5: =AG35 -> 0 | BT5: =AH35 -> 0 | BU5: =AI35 -> 0 | BV5: =AJ35 -> 0
B6: スパン別変状展開図 | K6: 【健全性判定集計表】
K7: スパン番号 | N7: PS | P7: スパン長 | R7: 11.8 | U7: 前回定期点検時の判定 | W7: 応急措置前の判定 | Y7: 対策区分毎の 変状の有無 | AC7: 対策区分毎の変状の発生範囲の規模(㎡) | AK7: 備考注2
K8: 変状番号 | L8: 対象箇所 | N8: 部位区分 | P8: 変状区分 | R8: 変状種類
Y9: 外力注1 | AC9: 材質劣化注1 | AG9: 漏水注1
Y10: Ⅳ | Z10: Ⅲ | AA10: Ⅱa | AB10: Ⅱb | AC10: Ⅳ | AD10: Ⅲ | AE10: Ⅱa | AF10: Ⅱb | AG10: Ⅳ | AH10: Ⅲ | AI10: Ⅱa | AJ10: Ⅱb
K11: 1 | L11: 覆工 | N11: アーチ（右側） | P11: 材質劣化 | R11: うき・はく離 | U11: － | W11: Ⅱb | AF11: 0.45 | AK11: 閉合ひび割れ | AQ11: =IF(P11="材質劣化",2,IF(P11="漏水",3,1)) -> 2 | AS11: =IF(Y11<>"",1,"")
K12: 2 | L12: 覆工 | N12: アーチ（右側） | P12: 材質劣化 | R12: うき・はく離 | U12: － | W12: Ⅱb | AF12: 0.015 | AK12: 閉合ひび割れ | AQ12: =IF(P12="材質劣化",2,IF(P12="漏水",3,1)) -> 2
AQ13: =IF(P13="材質劣化",2,IF(P13="漏水",3,1)) -> 1
AQ14: =IF(P14="材質劣化",2,IF(P14="漏水",3,1)) -> 1
AQ15: =IF(P15="材質劣化",2,IF(P15="漏水",3,1)) -> 1
AQ16: =IF(P16="材質劣化",2,IF(P16="漏水",3,1)) -> 1
AQ17: =IF(P17="材質劣化",2,IF(P17="漏水",3,1)) -> 1
AQ18: =IF(P18="材質劣化",2,IF(P18="漏水",3,1)) -> 1
AQ19: =IF(P19="材質劣化",2,IF(P19="漏水",3,1)) -> 1
AQ20: =IF(P20="材質劣化",2,IF(P20="漏水",3,1)) -> 1
AQ21: =IF(P21="材質劣化",2,IF(P21="漏水",3,1)) -> 1
AQ22: =IF(P22="材質劣化",2,IF(P22="漏水",3,1)) -> 1
AQ23: =IF(P23="材質劣化",2,IF(P23="漏水",3,1)) -> 1
AQ24: =IF(P24="材質劣化",2,IF(P24="漏水",3,1)) -> 1
... AQ27: =IF(P27="材質劣化",2,IF(P27="漏水",3,1)) -> 1
AQ28: =IF(P30="材質劣化",2,IF(P30="漏水",3,1)) -> 1
AQ29: =IF(P34="材質劣化",2,IF(P34="漏水",3,1)) -> 1
AQ30: =IF(P30="材質劣化",2,IF(P30="漏水",3,1)) -> 1
AQ31: =IF(P33="材質劣化",2,IF(P33="漏水",3,1)) -> 1
AQ32: =IF(P37="材質劣化",2,IF(P37="漏水",3,1)) -> 1
AQ33: =IF(P33="材質劣化",2,IF(P33="漏水",3,1)) -> 1
AQ34: =IF(P36="材質劣化",2,IF(P36="漏水",3,1)) -> 1
K35: 集計 判定 診断 | L35: 変状の発生規模合計(㎡) | Y35: － | AC35: =SUM(AC11:AC34) -> 0 | AD35: =SUM(AD11:AD34) -> 0 | AE35: =SUM(AE11:AE34) -> 0 | AF35: =SUM(AF11:AF34) -> 0.465 | AG35: =SUM(AG11:AG34) -> 0 | AH35: =SUM(AH11:AH34) -> 0 | AI35: =SUM(AI11:AI34) -> 0 | AJ35: =SUM(AJ11:AJ34) -> 0 | AK35: 覆工スパン単位の 健全性の 診断の区分 | AM35: Ⅱ
L36: 対策区分の 判定結果 | O36: 対策区分毎の変状数注3 | Y36: Ⅳ | Z36: Ⅲ | AA36: Ⅱa | AB36: Ⅱb | AC36: Ⅳ | AD36: Ⅲ | AE36: Ⅱa | AF36: Ⅱb | AG36: Ⅳ | AH36: Ⅲ | AI36: Ⅱa | AJ36: Ⅱb
Y37: =IF(COUNTIF(Y11:Y34,"〇")>0,"1",0) -> 0 | Z37: =IF(COUNTIF(Z11:Z34,"〇")>0,"1",0) -> 0 | AA37: =IF(COUNTIF(AA11:AA34,"〇")>0,"1",0) -> 0 | AB37: =IF(COUNTIF(AB11:AB34,"〇")>0,"1",0) -> 0 | AC37: =COUNTA(AC11:AC34) -> 0 | AD37: =COUNTA(AD11:AD34) -> 0 | AE37: =COUNTA(AE11:AE34) -> 0 | AF37: =COUNTA(AF11:AF34) -> 2 | AG37: =COUNTA(AG11:AG34) -> 0 | AH37: =COUNTA(AH11:AH34) -> 0 | AI37: =COUNTA(AI11:AI34) -> 0 | AJ37: =COUNTA(AJ11:AJ34) -> 0
K39: 所見
K43: 注1：誤記入防止のため、当該変状区分以外のセルは灰色表示とすること。
K44: 注2：応急措置を実施した場合は、その詳細を備考に記載すること。
K45: 注3：外力は覆工スパン単位、材質劣化、漏水は変状単位とすること。
B46: （以下、印刷不要）
B47: ※1：本シートは作成洩れのないよう、変状が無くても全スパン分を作成すること．また変状展開図は、様式D-2-1、様式D-2-1'と同じものを覆工スパン単位で拡大し掲載すること。
B48: ※2：変状番号は、様式D-1-1で記入した番号と整合させること。
B49: ※3：対策区分毎の変状発生規模は、様式D-1-1に記載した面積を記入すること（ただし外力はスパン単位で評価するため変状の有無の欄には面積でなく○を記入し、備考欄に状況を記入）。
B50: ※4：本様式は覆工スパン毎に作成すること。
B51: ※5：変状数が多い場合は、適時、表の行を増やして覆工スパン毎に1枚のシートに収めること。また、1スパン１シートとし、スパンに合わせてシートを追加すること。
B52: ※6：対策区分毎の変状の発生範囲の規模とは，対策を行う際に参考となる変状の長さや面積であり，変状を包含する長さや面積とする。
B53: ※7：対策範囲を示す発生範囲の規模を面積で記入することが妥当ではない変状は、発生範囲の規模の欄に○を記入するとともに、備考に内容を記入すること。

Sheet 様式D-3_S001
AU1: 様式F用→ | AV1: 覆工スパン | AY1: 変 状 数 | BK1: 変 状 規 模
AV2: 番号 | AW2: 延長 （ｍ） | AX2: 健全性の診断の 区分 | AY2: 対策区分の判定 | BK2: 覆工スパン長（ｍ） | BO2: 変状の発生範囲の規模（㎡）
B3: ■定期点検記録様式 覆工スパン別変状詳細展開図 【様式D-3】 | AY3: 外力 | BC3: 材質劣化 | BG3: 漏水 | BK3: 外力 注2 | BO3: 材質劣化 | BS3: 漏水
B4: フリガナ | E4: ='様式A-1'!$D$3 -> ワキトンネル | K4: 路線名 | N4: ='様式A-1'!$J$3 -> 一般県道北中山岩国線 | T4: 定期点検実施者 | Y4: =+'様式B (1)'!$S$3 -> 復建調査設計株式会社 | AG4: 定期点検年月日 | AK4: =+'様式B (1)'!$P$2 -> 45860 | AY4: Ⅳ | AZ4: Ⅲ | BA4: Ⅱa | BB4: Ⅱb | BC4: Ⅳ | BD4: Ⅲ | BE4: Ⅱa | BF4: Ⅱb | BG4: Ⅳ | BH4: Ⅲ | BI4: Ⅱa | BJ4: Ⅱb | BK4: Ⅳ | BL4: Ⅲ | BM4: Ⅱa | BN4: Ⅱb | BO4: Ⅳ | BP4: Ⅲ | BQ4: Ⅱa | BR4: Ⅱb | BS4: Ⅳ | BT4: Ⅲ | BU4: Ⅱa | BV4: Ⅱb
B5: 名 称 | E5: ='様式A-1'!$D$4 -> 和木トンネル | K5: 管理者名 | N5: ='様式A-1'!$R$3 -> 山口県岩国土木建築事務所 | Y5: =+'様式B (1)'!$S$4 -> 小笠原洋 | AV5: =N7 -> S001 | AW5: =R7 -> 7.3 | AX5: =AM35 -> Ⅰ | AY5: =Y37 -> 0 | AZ5: =Z37 -> 0 | BA5: =AA37 -> 0 | BB5: =AB37 -> 0 | BC5: =AC37 -> 0 | BD5: =AD37 -> 0 | BE5: =AE37 -> 0 | BF5: =AF37 -> 0 | ... BJ5: =AJ37 -> 0 | BK5: =IF(Y37>0,R7,"") | BL5: =IF(Y37>0,"",IF(Z37>0,R7,"")) | BM5: =IF(Y37+Z37>0,"",IF(AA37>0,R7,"")) | BN5: =IF(Y37+Z37+AA37>0,"",IF(AB37>0,R7,"")) | BO5: =AC35 -> 0 | BP5: =AD35 -> 0 | BQ5: =AE35 -> 0 | BR5: =AF35 -> 0 | BS5: =AG35 -> 0 | BT5: =AH35 -> 0 | BU5: =AI35 -> 0 | BV5: =AJ35 -> 0
B6: スパン別変状展開図 | K6: 【健全性判定集計表】
K7: スパン番号 | N7: S001 | P7: スパン長 | R7: 7.3 | U7: 前回定期点検時の判定 | W7: 応急措置前の判定 | Y7: 対策区分毎の 変状の有無 | AC7: 対策区分毎の変状の発生範囲の規模(㎡) | AK7: 備考注2
K8: 変状番号 | L8: 対象箇所 | N8: 部位区分 | P8: 変状区分 | R8: 変状種類
Y9: 外力注1 | AC9: 材質劣化注1 | AG9: 漏水注1
Y10: Ⅳ | Z10: Ⅲ | AA10: Ⅱa | AB10: Ⅱb | AC10: Ⅳ | AD10: Ⅲ | AE10: Ⅱa | AF10: Ⅱb | AG10: Ⅳ | AH10: Ⅲ | AI10: Ⅱa | AJ10: Ⅱb
K11: 1 | L11: 覆工 | N11: 横断目地（右側） | P11: 材質劣化 | R11: うき・はく離 | U11: Ⅱb | W11: Ⅰ | AK11: 損傷は確認できない | AQ11: =IF(P11="材質劣化",2,IF(P11="漏水",3,1)) -> 2 | AS11: =IF(Y11<>"",1,"")
AQ12: =IF(P12="材質劣化",2,IF(P12="漏水",3,1)) -> 1
AQ13: =IF(P13="材質劣化",2,IF(P13="漏水",3,1)) -> 1
AQ14: =IF(P14="材質劣化",2,IF(P14="漏水",3,1)) -> 1
AQ15: =IF(P15="材質劣化",2,IF(P15="漏水",3,1)) -> 1
AQ16: =IF(P16="材質劣化",2,IF(P16="漏水",3,1)) -> 1
AQ17: =IF(P17="材質劣化",2,IF(P17="漏水",3,1)) -> 1
AQ18: =IF(P18="材質劣化",2,IF(P18="漏水",3,1)) -> 1
AQ19: =IF(P19="材質劣化",2,IF(P19="漏水",3,1)) -> 1
AQ20: =IF(P20="材質劣化",2,IF(P20="漏水",3,1)) -> 1
AQ21: =IF(P21="材質劣化",2,IF(P21="漏水",3,1)) -> 1
AQ22: =IF(P22="材質劣化",2,IF(P22="漏水",3,1)) -> 1
AQ23: =IF(P23="材質劣化",2,IF(P23="漏水",3,1)) -> 1
... AQ27: =IF(P27="材質劣化",2,IF(P27="漏水",3,1)) -> 1
AQ28: =IF(P30="材質劣化",2,IF(P30="漏水",3,1)) -> 1
AQ29: =IF(P34="材質劣化",2,IF(P34="漏水",3,1)) -> 1
AQ30: =IF(P30="材質劣化",2,IF(P30="漏水",3,1)) -> 1
AQ31: =IF(P33="材質劣化",2,IF(P33="漏水",3,1)) -> 1
AQ32: =IF(P37="材質劣化",2,IF(P37="漏水",3,1)) -> 1
AQ33: =IF(P33="材質劣化",2,IF(P33="漏水",3,1)) -> 1
AQ34: =IF(P36="材質劣化",2,IF(P36="漏水",3,1)) -> 1
K35: 集計 判定 診断 | L35: 変状の発生規模合計(㎡) | Y35: － | AC35: =SUM(AC11:AC34) -> 0 | AD35: =SUM(AD11:AD34) -> 0 | AE35: =SUM(AE11:AE34) -> 0 | AF35: =SUM(AF11:AF34) -> 0 | AG35: =SUM(AG11:AG34) -> 0 | AH35: =SUM(AH11:AH34) -> 0 | AI35: =SUM(AI11:AI34) -> 0 | AJ35: =SUM(AJ11:AJ34) -> 0 | AK35: 覆工スパン単位の 健全性の 診断の区分 | AM35: Ⅰ
L36: 対策区分の 判定結果 | O36: 対策区分毎の変状数注3 | Y36: Ⅳ | Z36: Ⅲ | AA36: Ⅱa | AB36: Ⅱb | AC36: Ⅳ | AD36: Ⅲ | AE36: Ⅱa | AF36: Ⅱb | AG36: Ⅳ | AH36: Ⅲ | AI36: Ⅱa | AJ36: Ⅱb
Y37: =IF(COUNTIF(Y11:Y34,"〇")>0,"1",0) -> 0 | Z37: =IF(COUNTIF(Z11:Z34,"〇")>0,"1",0) -> 0 | AA37: =IF(COUNTIF(AA11:AA34,"〇")>0,"1",0) -> 0 | AB37: =IF(COUNTIF(AB11:AB34,"〇")>0,"1",0) -> 0 | AC37: =COUNTA(AC11:AC34) -> 0 | AD37: =COUNTA(AD11:AD34) -> 0 | AE37: =COUNTA(AE11:AE34) -> 0 | AF37: =COUNTA(AF11:AF34) -> 0 | AG37: =COUNTA(AG11:AG34) -> 0 | AH37: =COUNTA(AH11:AH34) -> 0 | AI37: =COUNTA(AI11:AI34) -> 0 | AJ37: =COUNTA(AJ11:AJ34) -> 0
K39: 所見
K43: 注1：誤記入防止のため、当該変状区分以外のセルは灰色表示とすること。
K44: 注2：応急措置を実施した場合は、その詳細を備考に記載すること。
K45: 注3：外力は覆工スパン単位、材質劣化、漏水は変状単位とすること。
B46: （以下、印刷不要）
B47: ※1：本シートは作成洩れのないよう、変状が無くても全スパン分を作成すること．また変状展開図は、様式D-2-1、様式D-2-1'と同じものを覆工スパン単位で拡大し掲載すること。
B48: ※2：変状番号は、様式D-1-1で記入した番号と整合させること。
B49: ※3：対策区分毎の変状発生規模は、様式D-1-1に記載した面積を記入すること（ただし外力はスパン単位で評価するため変状の有無の欄には面積でなく○を記入し、備考欄に状況を記入）。
B50: ※4：本様式は覆工スパン毎に作成すること。
B51: ※5：変状数が多い場合は、適時、表の行を増やして覆工スパン毎に1枚のシートに収めること。また、1スパン１シートとし、スパンに合わせてシートを追加すること。
B52: ※6：対策区分毎の変状の発生範囲の規模とは，対策を行う際に参考となる変状の長さや面積であり，変状を包含する長さや面積とする。
B53: ※7：対策範囲を示す発生範囲の規模を面積で記入することが妥当ではない変状は、発生範囲の規模の欄に○を記入するとともに、備考に内容を記入すること。

Sheet 様式D-3_S002
AU1: 様式F用→ | AV1: 覆工スパン | AY1: 変 状 数 | BK1: 変 状 規 模
AV2: 番号 | AW2: 延長 （ｍ） | AX2: 健全性の診断の 区分 | AY2: 対策区分の判定 | BK2: 覆工スパン長（ｍ） | BO2: 変状の発生範囲の規模（㎡）
B3: ■定期点検記録様式 覆工スパン別変状詳細展開図 【様式D-3】 | AY3: 外力 | BC3: 材質劣化 | BG3: 漏水 | BK3: 外力 注2 | BO3: 材質劣化 | BS3: 漏水
B4: フリガナ | E4: ='様式A-1'!$D$3 -> ワキトンネル | K4: 路線名 | N4: ='様式A-1'!$J$3 -> 一般県道北中山岩国線 | T4: 定期点検実施者 | Y4: =+'様式B (1)'!$S$3 -> 復建調査設計株式会社 | AG4: 定期点検年月日 | AK4: =+'様式B (1)'!$P$2 -> 45860 | AY4: Ⅳ | AZ4: Ⅲ | BA4: Ⅱa | BB4: Ⅱb | BC4: Ⅳ | BD4: Ⅲ | BE4: Ⅱa | BF4: Ⅱb | BG4: Ⅳ | BH4: Ⅲ | BI4: Ⅱa | BJ4: Ⅱb | BK4: Ⅳ | BL4: Ⅲ | BM4: Ⅱa | BN4: Ⅱb | BO4: Ⅳ | BP4: Ⅲ | BQ4: Ⅱa | BR4: Ⅱb | BS4: Ⅳ | BT4: Ⅲ | BU4: Ⅱa | BV4: Ⅱb
B5: 名 称 | E5: ='様式A-1'!$D$4 -> 和木トンネル | K5: 管理者名 | N5: ='様式A-1'!$R$3 -> 山口県岩国土木建築事務所 | Y5: =+'様式B (1)'!$S$4 -> 小笠原洋 | AV5: =N7 -> S002 | AW5: =R7 -> 9 | AX5: =AM35 -> Ⅰ | AY5: =Y37 -> 0 | AZ5: =Z37 -> 0 | BA5: =AA37 -> 0 | BB5: =AB37 -> 0 | BC5: =AC37 -> 0 | BD5: =AD37 -> 0 | BE5: =AE37 -> 0 | BF5: =AF37 -> 0 | ... BJ5: =AJ37 -> 0 | BK5: =IF(Y37>0,R7,"") | BL5: =IF(Y37>0,"",IF(Z37>0,R7,"")) | BM5: =IF(Y37+Z37>0,"",IF(AA37>0,R7,"")) | BN5: =IF(Y37+Z37+AA37>0,"",IF(AB37>0,R7,"")) | BO5: =AC35 -> 0 | BP5: =AD35 -> 0 | BQ5: =AE35 -> 0 | BR5: =AF35 -> 0 | BS5: =AG35 -> 0 | BT5: =AH35 -> 0 | BU5: =AI35 -> 0 | BV5: =AJ35 -> 0
B6: スパン別変状展開図 | K6: 【健全性判定集計表】
K7: スパン番号 | N7: S002 | P7: スパン長 | R7: 9 | U7: 前回定期点検時の判定 | W7: 応急措置前の判定 | Y7: 対策区分毎の 変状の有無 | AC7: 対策区分毎の変状の発生範囲の規模(㎡) | AK7: 備考注2
K8: 変状番号 | L8: 対象箇所 | N8: 部位区分 | P8: 変状区分 | R8: 変状種類
Y9: 外力注1 | AC9: 材質劣化注1 | AG9: 漏水注1
Y10: Ⅳ | Z10: Ⅲ | AA10: Ⅱa | AB10: Ⅱb | AC10: Ⅳ | AD10: Ⅲ | AE10: Ⅱa | AF10: Ⅱb | AG10: Ⅳ | AH10: Ⅲ | AI10: Ⅱa | AJ10: Ⅱb
AQ11: =IF(P11="材質劣化",2,IF(P11="漏水",3,1)) -> 1 | AS11: =IF(Y11<>"",1,"")
AQ12: =IF(P12="材質劣化",2,IF(P12="漏水",3,1)) -> 1
AQ13: =IF(P13="材質劣化",2,IF(P13="漏水",3,1)) -> 1
AQ14: =IF(P14="材質劣化",2,IF(P14="漏水",3,1)) -> 1
AQ15: =IF(P15="材質劣化",2,IF(P15="漏水",3,1)) -> 1
AQ16: =IF(P16="材質劣化",2,IF(P16="漏水",3,1)) -> 1
AQ17: =IF(P17="材質劣化",2,IF(P17="漏水",3,1)) -> 1
AQ18: =IF(P18="材質劣化",2,IF(P18="漏水",3,1)) -> 1
AQ19: =IF(P19="材質劣化",2,IF(P19="漏水",3,1)) -> 1
AQ20: =IF(P20="材質劣化",2,IF(P20="漏水",3,1)) -> 1
AQ21: =IF(P21="材質劣化",2,IF(P21="漏水",3,1)) -> 1
AQ22: =IF(P22="材質劣化",2,IF(P22="漏水",3,1)) -> 1
AQ23: =IF(P23="材質劣化",2,IF(P23="漏水",3,1)) -> 1
... AQ27: =IF(P27="材質劣化",2,IF(P27="漏水",3,1)) -> 1
AQ28: =IF(P30="材質劣化",2,IF(P30="漏水",3,1)) -> 1
AQ29: =IF(P34="材質劣化",2,IF(P34="漏水",3,1)) -> 1
AQ30: =IF(P30="材質劣化",2,IF(P30="漏水",3,1)) -> 1
AQ31: =IF(P33="材質劣化",2,IF(P33="漏水",3,1)) -> 1
AQ32: =IF(P37="材質劣化",2,IF(P37="漏水",3,1)) -> 1
AQ33: =IF(P33="材質劣化",2,IF(P33="漏水",3,1)) -> 1
AQ34: =IF(P36="材質劣化",2,IF(P36="漏水",3,1)) -> 1
K35: 集計 判定 診断 | L35: 変状の発生規模合計(㎡) | Y35: － | AC35: =SUM(AC11:AC34) -> 0 | AD35: =SUM(AD11:AD34) -> 0 | AE35: =SUM(AE11:AE34) -> 0 | AF35: =SUM(AF11:AF34) -> 0 | AG35: =SUM(AG11:AG34) -> 0 | AH35: =SUM(AH11:AH34) -> 0 | AI35: =SUM(AI11:AI34) -> 0 | AJ35: =SUM(AJ11:AJ34) -> 0 | AK35: 覆工スパン単位の 健全性の 診断の区分 | AM35: Ⅰ
L36: 対策区分の 判定結果 | O36: 対策区分毎の変状数注3 | Y36: Ⅳ | Z36: Ⅲ | AA36: Ⅱa | AB36: Ⅱb | AC36: Ⅳ | AD36: Ⅲ | AE36: Ⅱa | AF36: Ⅱb | AG36: Ⅳ | AH36: Ⅲ | AI36: Ⅱa | AJ36: Ⅱb
Y37: =IF(COUNTIF(Y11:Y34,"〇")>0,"1",0) -> 0 | Z37: =IF(COUNTIF(Z11:Z34,"〇")>0,"1",0) -> 0 | AA37: =IF(COUNTIF(AA11:AA34,"〇")>0,"1",0) -> 0 | AB37: =IF(COUNTIF(AB11:AB34,"〇")>0,"1",0) -> 0 | AC37: =COUNTA(AC11:AC34) -> 0 | AD37: =COUNTA(AD11:AD34) -> 0 | AE37: =COUNTA(AE11:AE34) -> 0 | AF37: =COUNTA(AF11:AF34) -> 0 | AG37: =COUNTA(AG11:AG34) -> 0 | AH37: =COUNTA(AH11:AH34) -> 0 | AI37: =COUNTA(AI11:AI34) -> 0 | AJ37: =COUNTA(AJ11:AJ34) -> 0
K39: 所見
K43: 注1：誤記入防止のため、当該変状区分以外のセルは灰色表示とすること。
K44: 注2：応急措置を実施した場合は、その詳細を備考に記載すること。
K45: 注3：外力は覆工スパン単位、材質劣化、漏水は変状単位とすること。
B46: （以下、印刷不要）
B47: ※1：本シートは作成洩れのないよう、変状が無くても全スパン分を作成すること．また変状展開図は、様式D-2-1、様式D-2-1'と同じものを覆工スパン単位で拡大し掲載すること。
B48: ※2：変状番号は、様式D-1-1で記入した番号と整合させること。
B49: ※3：対策区分毎の変状発生規模は、様式D-1-1に記載した面積を記入すること（ただし外力はスパン単位で評価するため変状の有無の欄には面積でなく○を記入し、備考欄に状況を記入）。
B50: ※4：本様式は覆工スパン毎に作成すること。
B51: ※5：変状数が多い場合は、適時、表の行を増やして覆工スパン毎に1枚のシートに収めること。また、1スパン１シートとし、スパンに合わせてシートを追加すること。
B52: ※6：対策区分毎の変状の発生範囲の規模とは，対策を行う際に参考となる変状の長さや面積であり，変状を包含する長さや面積とする。
B53: ※7：対策範囲を示す発生範囲の規模を面積で記入することが妥当ではない変状は、発生範囲の規模の欄に○を記入するとともに、備考に内容を記入すること。

Sheet 様式D-3_S003
AU1: 様式F用→ | AV1: 覆工スパン | AY1: 変 状 数 | BK1: 変 状 規 模
AV2: 番号 | AW2: 延長 （ｍ） | AX2: 健全性の診断の 区分 | AY2: 対策区分の判定 | BK2: 覆工スパン長（ｍ） | BO2: 変状の発生範囲の規模（㎡）
B3: ■定期点検記録様式 覆工スパン別変状詳細展開図 【様式D-3】 | AY3: 外力 | BC3: 材質劣化 | BG3: 漏水 | BK3: 外力 注2 | BO3: 材質劣化 | BS3: 漏水
B4: フリガナ | E4: ='様式A-1'!$D$3 -> ワキトンネル | K4: 路線名 | N4: ='様式A-1'!$J$3 -> 一般県道北中山岩国線 | T4: 定期点検実施者 | Y4: =+'様式B (1)'!$S$3 -> 復建調査設計株式会社 | AG4: 定期点検年月日 | AK4: =+'様式B (1)'!$P$2 -> 45860 | AY4: Ⅳ | AZ4: Ⅲ | BA4: Ⅱa | BB4: Ⅱb | BC4: Ⅳ | BD4: Ⅲ | BE4: Ⅱa | BF4: Ⅱb | BG4: Ⅳ | BH4: Ⅲ | BI4: Ⅱa | BJ4: Ⅱb | BK4: Ⅳ | BL4: Ⅲ | BM4: Ⅱa | BN4: Ⅱb | BO4: Ⅳ | BP4: Ⅲ | BQ4: Ⅱa | BR4: Ⅱb | BS4: Ⅳ | BT4: Ⅲ | BU4: Ⅱa | BV4: Ⅱb
B5: 名 称 | E5: ='様式A-1'!$D$4 -> 和木トンネル | K5: 管理者名 | N5: ='様式A-1'!$R$3 -> 山口県岩国土木建築事務所 | Y5: =+'様式B (1)'!$S$4 -> 小笠原洋 | AV5: =N7 -> S003 | AW5: =R7 -> 9 | AX5: =AM35 -> Ⅰ | AY5: =Y37 -> 0 | AZ5: =Z37 -> 0 | BA5: =AA37 -> 0 | BB5: =AB37 -> 0 | BC5: =AC37 -> 0 | BD5: =AD37 -> 0 | BE5: =AE37 -> 0 | BF5: =AF37 -> 0 | ... BJ5: =AJ37 -> 0 | BK5: =IF(Y37>0,R7,"") | BL5: =IF(Y37>0,"",IF(Z37>0,R7,"")) | BM5: =IF(Y37+Z37>0,"",IF(AA37>0,R7,"")) | BN5: =IF(Y37+Z37+AA37>0,"",IF(AB37>0,R7,"")) | BO5: =AC35 -> 0 | BP5: =AD35 -> 0 | BQ5: =AE35 -> 0 | BR5: =AF35 -> 0 | BS5: =AG35 -> 0 | BT5: =AH35 -> 0 | BU5: =AI35 -> 0 | BV5: =AJ35 -> 0
B6: スパン別変状展開図 | K6: 【健全性判定集計表】
K7: スパン番号 | N7: S003 | P7: スパン長 | R7: 9 | U7: 前回定期点検時の判定 | W7: 応急措置前の判定 | Y7: 対策区分毎の 変状の有無 | AC7: 対策区分毎の変状の発生範囲の規模(㎡) | AK7: 備考注2
K8: 変状番号 | L8: 対象箇所 | N8: 部位区分 | P8: 変状区分 | R8: 変状種類
Y9: 外力注1 | AC9: 材質劣化注1 | AG9: 漏水注1
Y10: Ⅳ | Z10: Ⅲ | AA10: Ⅱa | AB10: Ⅱb | AC10: Ⅳ | AD10: Ⅲ | AE10: Ⅱa | AF10: Ⅱb | AG10: Ⅳ | AH10: Ⅲ | AI10: Ⅱa | AJ10: Ⅱb
K11: 1 | L11: 覆工 | N11: アーチ（右側） | R11: その他 | U11: Ⅱb | AK11: 損傷は確認できない | AQ11: =IF(P11="材質劣化",2,IF(P11="漏水",3,1)) -> 1 | AS11: =IF(Y11<>"",1,"")
AQ12: =IF(P12="材質劣化",2,IF(P12="漏水",3,1)) -> 1
AQ13: =IF(P13="材質劣化",2,IF(P13="漏水",3,1)) -> 1
AQ14: =IF(P14="材質劣化",2,IF(P14="漏水",3,1)) -> 1
AQ15: =IF(P15="材質劣化",2,IF(P15="漏水",3,1)) -> 1
AQ16: =IF(P16="材質劣化",2,IF(P16="漏水",3,1)) -> 1
AQ17: =IF(P17="材質劣化",2,IF(P17="漏水",3,1)) -> 1
AQ18: =IF(P18="材質劣化",2,IF(P18="漏水",3,1)) -> 1
AQ19: =IF(P19="材質劣化",2,IF(P19="漏水",3,1)) -> 1
AQ20: =IF(P20="材質劣化",2,IF(P20="漏水",3,1)) -> 1
AQ21: =IF(P21="材質劣化",2,IF(P21="漏水",3,1)) -> 1
AQ22: =IF(P22="材質劣化",2,IF(P22="漏水",3,1)) -> 1
AQ23: =IF(P23="材質劣化",2,IF(P23="漏水",3,1)) -> 1
... AQ27: =IF(P27="材質劣化",2,IF(P27="漏水",3,1)) -> 1
AQ28: =IF(P30="材質劣化",2,IF(P30="漏水",3,1)) -> 1
AQ29: =IF(P34="材質劣化",2,IF(P34="漏水",3,1)) -> 1
AQ30: =IF(P30="材質劣化",2,IF(P30="漏水",3,1)) -> 1
AQ31: =IF(P33="材質劣化",2,IF(P33="漏水",3,1)) -> 1
AQ32: =IF(P37="材質劣化",2,IF(P37="漏水",3,1)) -> 1
AQ33: =IF(P33="材質劣化",2,IF(P33="漏水",3,1)) -> 1
AQ34: =IF(P36="材質劣化",2,IF(P36="漏水",3,1)) -> 1
K35: 集計 判定 診断 | L35: 変状の発生規模合計(㎡) | Y35: － | AC35: =SUM(AC11:AC34) -> 0 | AD35: =SUM(AD11:AD34) -> 0 | AE35: =SUM(AE11:AE34) -> 0 | AF35: =SUM(AF11:AF34) -> 0 | AG35: =SUM(AG11:AG34) -> 0 | AH35: =SUM(AH11:AH34) -> 0 | AI35: =SUM(AI11:AI34) -> 0 | AJ35: =SUM(AJ11:AJ34) -> 0 | AK35: 覆工スパン単位の 健全性の 診断の区分 | AM35: Ⅰ
L36: 対策区分の 判定結果 | O36: 対策区分毎の変状数注3 | Y36: Ⅳ | Z36: Ⅲ | AA36: Ⅱa | AB36: Ⅱb | AC36: Ⅳ | AD36: Ⅲ | AE36: Ⅱa | AF36: Ⅱb | AG36: Ⅳ | AH36: Ⅲ | AI36: Ⅱa | AJ36: Ⅱb
Y37: =IF(COUNTIF(Y11:Y34,"〇")>0,"1",0) -> 0 | Z37: =IF(COUNTIF(Z11:Z34,"〇")>0,"1",0) -> 0 | AA37: =IF(COUNTIF(AA11:AA34,"〇")>0,"1",0) -> 0 | AB37: =IF(COUNTIF(AB11:AB34,"〇")>0,"1",0) -> 0 | AC37: =COUNTA(AC11:AC34) -> 0 | AD37: =COUNTA(AD11:AD34) -> 0 | AE37: =COUNTA(AE11:AE34) -> 0 | AF37: =COUNTA(AF11:AF34) -> 0 | AG37: =COUNTA(AG11:AG34) -> 0 | AH37: =COUNTA(AH11:AH34) -> 0 | AI37: =COUNTA(AI11:AI34) -> 0 | AJ37: =COUNTA(AJ11:AJ34) -> 0
K39: 所見
K43: 注1：誤記入防止のため、当該変状区分以外のセルは灰色表示とすること。
K44: 注2：応急措置を実施した場合は、その詳細を備考に記載すること。
K45: 注3：外力は覆工スパン単位、材質劣化、漏水は変状単位とすること。
B46: （以下、印刷不要）
B47: ※1：本シートは作成洩れのないよう、変状が無くても全スパン分を作成すること．また変状展開図は、様式D-2-1、様式D-2-1'と同じものを覆工スパン単位で拡大し掲載すること。
B48: ※2：変状番号は、様式D-1-1で記入した番号と整合させること。
B49: ※3：対策区分毎の変状発生規模は、様式D-1-1に記載した面積を記入すること（ただし外力はスパン単位で評価するため変状の有無の欄には面積でなく○を記入し、備考欄に状況を記入）。
B50: ※4：本様式は覆工スパン毎に作成すること。
B51: ※5：変状数が多い場合は、適時、表の行を増やして覆工スパン毎に1枚のシートに収めること。また、1スパン１シートとし、スパンに合わせてシートを追加すること。
B52: ※6：対策区分毎の変状の発生範囲の規模とは，対策を行う際に参考となる変状の長さや面積であり，変状を包含する長さや面積とする。
B53: ※7：対策範囲を示す発生範囲の規模を面積で記入することが妥当ではない変状は、発生範囲の規模の欄に○を記入するとともに、備考に内容を記入すること。

Sheet 様式D-3_S004
AU1: 様式F用→ | AV1: 覆工スパン | AY1: 変 状 数 | BK1: 変 状 規 模
AV2: 番号 | AW2: 延長 （ｍ） | AX2: 健全性の診断の 区分 | AY2: 対策区分の判定 | BK2: 覆工スパン長（ｍ） | BO2: 変状の発生範囲の規模（㎡）
B3: ■定期点検記録様式 覆工スパン別変状詳細展開図 【様式D-3】 | AY3: 外力 | BC3: 材質劣化 | BG3: 漏水 | BK3: 外力 注2 | BO3: 材質劣化 | BS3: 漏水
B4: フリガナ | E4: ='様式A-1'!$D$3 -> ワキトンネル | K4: 路線名 | N4: ='様式A-1'!$J$3 -> 一般県道北中山岩国線 | T4: 定期点検実施者 | Y4: =+'様式B (1)'!$S$3 -> 復建調査設計株式会社 | AG4: 定期点検年月日 | AK4: =+'様式B (1)'!$P$2 -> 45860 | AY4: Ⅳ | AZ4: Ⅲ | BA4: Ⅱa | BB4: Ⅱb | BC4: Ⅳ | BD4: Ⅲ | BE4: Ⅱa | BF4: Ⅱb | BG4: Ⅳ | BH4: Ⅲ | BI4: Ⅱa | BJ4: Ⅱb | BK4: Ⅳ | BL4: Ⅲ | BM4: Ⅱa | BN4: Ⅱb | BO4: Ⅳ | BP4: Ⅲ | BQ4: Ⅱa | BR4: Ⅱb | BS4: Ⅳ | BT4: Ⅲ | BU4: Ⅱa | BV4: Ⅱb
B5: 名 称 | E5: ='様式A-1'!$D$4 -> 和木トンネル | K5: 管理者名 | N5: ='様式A-1'!$R$3 -> 山口県岩国土木建築事務所 | Y5: =+'様式B (1)'!$S$4 -> 小笠原洋 | AV5: =N7 -> S004 | AW5: =R7 -> 9 | AX5: =AM35 -> Ⅰ | AY5: =Y37 -> 0 | AZ5: =Z37 -> 0 | BA5: =AA37 -> 0 | BB5: =AB37 -> 0 | BC5: =AC37 -> 0 | BD5: =AD37 -> 0 | BE5: =AE37 -> 0 | BF5: =AF37 -> 0 | ... BJ5: =AJ37 -> 0 | BK5: =IF(Y37>0,R7,"") | BL5: =IF(Y37>0,"",IF(Z37>0,R7,"")) | BM5: =IF(Y37+Z37>0,"",IF(AA37>0,R7,"")) | BN5: =IF(Y37+Z37+AA37>0,"",IF(AB37>0,R7,"")) | BO5: =AC35 -> 0 | BP5: =AD35 -> 0 | BQ5: =AE35 -> 0 | BR5: =AF35 -> 0 | BS5: =AG35 -> 0 | BT5: =AH35 -> 0 | BU5: =AI35 -> 0 | BV5: =AJ35 -> 0
B6: スパン別変状展開図 | K6: 【健全性判定集計表】
K7: スパン番号 | N7: S004 | P7: スパン長 | R7: 9 | U7: 前回定期点検時の判定 | W7: 応急措置前の判定 | Y7: 対策区分毎の 変状の有無 | AC7: 対策区分毎の変状の発生範囲の規模(㎡) | AK7: 備考注2
K8: 変状番号 | L8: 対象箇所 | N8: 部位区分 | P8: 変状区分 | R8: 変状種類
Y9: 外力注1 | AC9: 材質劣化注1 | AG9: 漏水注1
Y10: Ⅳ | Z10: Ⅲ | AA10: Ⅱa | AB10: Ⅱb | AC10: Ⅳ | AD10: Ⅲ | AE10: Ⅱa | AF10: Ⅱb | AG10: Ⅳ | AH10: Ⅲ | AI10: Ⅱa | AJ10: Ⅱb
K11: 1 | L11: 覆工 | N11: アーチ（右側） | R11: その他 | U11: Ⅱb | AK11: 損傷は確認できない | AQ11: =IF(P11="材質劣化",2,IF(P11="漏水",3,1)) -> 1 | AS11: =IF(Y11<>"",1,"")
AQ12: =IF(P12="材質劣化",2,IF(P12="漏水",3,1)) -> 1
AQ13: =IF(P13="材質劣化",2,IF(P13="漏水",3,1)) -> 1
AQ14: =IF(P14="材質劣化",2,IF(P14="漏水",3,1)) -> 1
AQ15: =IF(P15="材質劣化",2,IF(P15="漏水",3,1)) -> 1
AQ16: =IF(P16="材質劣化",2,IF(P16="漏水",3,1)) -> 1
AQ17: =IF(P17="材質劣化",2,IF(P17="漏水",3,1)) -> 1
AQ18: =IF(P18="材質劣化",2,IF(P18="漏水",3,1)) -> 1
AQ19: =IF(P19="材質劣化",2,IF(P19="漏水",3,1)) -> 1
AQ20: =IF(P20="材質劣化",2,IF(P20="漏水",3,1)) -> 1
AQ21: =IF(P21="材質劣化",2,IF(P21="漏水",3,1)) -> 1
AQ22: =IF(P22="材質劣化",2,IF(P22="漏水",3,1)) -> 1
AQ23: =IF(P23="材質劣化",2,IF(P23="漏水",3,1)) -> 1
... AQ27: =IF(P27="材質劣化",2,IF(P27="漏水",3,1)) -> 1
AQ28: =IF(P30="材質劣化",2,IF(P30="漏水",3,1)) -> 1
AQ29: =IF(P34="材質劣化",2,IF(P34="漏水",3,1)) -> 1
AQ30: =IF(P30="材質劣化",2,IF(P30="漏水",3,1)) -> 1
AQ31: =IF(P33="材質劣化",2,IF(P33="漏水",3,1)) -> 1
AQ32: =IF(P37="材質劣化",2,IF(P37="漏水",3,1)) -> 1
AQ33: =IF(P33="材質劣化",2,IF(P33="漏水",3,1)) -> 1
AQ34: =IF(P36="材質劣化",2,IF(P36="漏水",3,1)) -> 1
K35: 集計 判定 診断 | L35: 変状の発生規模合計(㎡) | Y35: － | AC35: =SUM(AC11:AC34) -> 0 | AD35: =SUM(AD11:AD34) -> 0 | AE35: =SUM(AE11:AE34) -> 0 | AF35: =SUM(AF11:AF34) -> 0 | AG35: =SUM(AG11:AG34) -> 0 | AH35: =SUM(AH11:AH34) -> 0 | AI35: =SUM(AI11:AI34) -> 0 | AJ35: =SUM(AJ11:AJ34) -> 0 | AK35: 覆工スパン単位の 健全性の 診断の区分 | AM35: Ⅰ
L36: 対策区分の 判定結果 | O36: 対策区分毎の変状数注3 | Y36: Ⅳ | Z36: Ⅲ | AA36: Ⅱa | AB36: Ⅱb | AC36: Ⅳ | AD36: Ⅲ | AE36: Ⅱa | AF36: Ⅱb | AG36: Ⅳ | AH36: Ⅲ | AI36: Ⅱa | AJ36: Ⅱb
Y37: =IF(COUNTIF(Y11:Y34,"〇")>0,"1",0) -> 0 | Z37: =IF(COUNTIF(Z11:Z34,"〇")>0,"1",0) -> 0 | AA37: =IF(COUNTIF(AA11:AA34,"〇")>0,"1",0) -> 0 | AB37: =IF(COUNTIF(AB11:AB34,"〇")>0,"1",0) -> 0 | AC37: =COUNTA(AC11:AC34) -> 0 | AD37: =COUNTA(AD11:AD34) -> 0 | AE37: =COUNTA(AE11:AE34) -> 0 | AF37: =COUNTA(AF11:AF34) -> 0 | AG37: =COUNTA(AG11:AG34) -> 0 | AH37: =COUNTA(AH11:AH34) -> 0 | AI37: =COUNTA(AI11:AI34) -> 0 | AJ37: =COUNTA(AJ11:AJ34) -> 0
K39: 所見
K43: 注1：誤記入防止のため、当該変状区分以外のセルは灰色表示とすること。
K44: 注2：応急措置を実施した場合は、その詳細を備考に記載すること。
K45: 注3：外力は覆工スパン単位、材質劣化、漏水は変状単位とすること。
B46: （以下、印刷不要）
B47: ※1：本シートは作成洩れのないよう、変状が無くても全スパン分を作成すること．また変状展開図は、様式D-2-1、様式D-2-1'と同じものを覆工スパン単位で拡大し掲載すること。
B48: ※2：変状番号は、様式D-1-1で記入した番号と整合させること。
B49: ※3：対策区分毎の変状発生規模は、様式D-1-1に記載した面積を記入すること（ただし外力はスパン単位で評価するため変状の有無の欄には面積でなく○を記入し、備考欄に状況を記入）。
B50: ※4：本様式は覆工スパン毎に作成すること。
B51: ※5：変状数が多い場合は、適時、表の行を増やして覆工スパン毎に1枚のシートに収めること。また、1スパン１シートとし、スパンに合わせてシートを追加すること。
B52: ※6：対策区分毎の変状の発生範囲の規模とは，対策を行う際に参考となる変状の長さや面積であり，変状を包含する長さや面積とする。
B53: ※7：対策範囲を示す発生範囲の規模を面積で記入することが妥当ではない変状は、発生範囲の規模の欄に○を記入するとともに、備考に内容を記入すること。

Sheet 様式D-3_S005
AU1: 様式F用→ | AV1: 覆工スパン | AY1: 変 状 数 | BK1: 変 状 規 模
AV2: 番号 | AW2: 延長 （ｍ） | AX2: 健全性の診断の 区分 | AY2: 対策区分の判定 | BK2: 覆工スパン長（ｍ） | BO2: 変状の発生範囲の規模（㎡）
B3: ■定期点検記録様式 覆工スパン別変状詳細展開図 【様式D-3】 | AY3: 外力 | BC3: 材質劣化 | BG3: 漏水 | BK3: 外力 注2 | BO3: 材質劣化 | BS3: 漏水
B4: フリガナ | E4: ='様式A-1'!$D$3 -> ワキトンネル | K4: 路線名 | N4: ='様式A-1'!$J$3 -> 一般県道北中山岩国線 | T4: 定期点検実施者 | Y4: =+'様式B (1)'!$S$3 -> 復建調査設計株式会社 | AG4: 定期点検年月日 | AK4: =+'様式B (1)'!$P$2 -> 45860 | AY4: Ⅳ | AZ4: Ⅲ | BA4: Ⅱa | BB4: Ⅱb | BC4: Ⅳ | BD4: Ⅲ | BE4: Ⅱa | BF4: Ⅱb | BG4: Ⅳ | BH4: Ⅲ | BI4: Ⅱa | BJ4: Ⅱb | BK4: Ⅳ | BL4: Ⅲ | BM4: Ⅱa | BN4: Ⅱb | BO4: Ⅳ | BP4: Ⅲ | BQ4: Ⅱa | BR4: Ⅱb | BS4: Ⅳ | BT4: Ⅲ | BU4: Ⅱa | BV4: Ⅱb
B5: 名 称 | E5: ='様式A-1'!$D$4 -> 和木トンネル | K5: 管理者名 | N5: ='様式A-1'!$R$3 -> 山口県岩国土木建築事務所 | Y5: =+'様式B (1)'!$S$4 -> 小笠原洋 | AV5: =N7 -> S005 | AW5: =R7 -> 9 | AX5: =AM35 -> Ⅱ | AY5: =Y37 -> 0 | AZ5: =Z37 -> 0 | BA5: =AA37 -> 0 | BB5: =AB37 -> 0 | BC5: =AC37 -> 0 | BD5: =AD37 -> 0 | BE5: =AE37 -> 0 | BF5: =AF37 -> 1 | ... BJ5: =AJ37 -> 0 | BK5: =IF(Y37>0,R7,"") | BL5: =IF(Y37>0,"",IF(Z37>0,R7,"")) | BM5: =IF(Y37+Z37>0,"",IF(AA37>0,R7,"")) | BN5: =IF(Y37+Z37+AA37>0,"",IF(AB37>0,R7,"")) | BO5: =AC35 -> 0 | BP5: =AD35 -> 0 | BQ5: =AE35 -> 0 | BR5: =AF35 -> 0.01 | BS5: =AG35 -> 0 | BT5: =AH35 -> 0 | BU5: =AI35 -> 0 | BV5: =AJ35 -> 0
B6: スパン別変状展開図 | K6: 【健全性判定集計表】
K7: スパン番号 | N7: S005 | P7: スパン長 | R7: 9 | U7: 前回定期点検時の判定 | W7: 応急措置前の判定 | Y7: 対策区分毎の 変状の有無 | AC7: 対策区分毎の変状の発生範囲の規模(㎡) | AK7: 備考注2
K8: 変状番号 | L8: 対象箇所 | N8: 部位区分 | P8: 変状区分 | R8: 変状種類
Y9: 外力注1 | AC9: 材質劣化注1 | AG9: 漏水注1
Y10: Ⅳ | Z10: Ⅲ | AA10: Ⅱa | AB10: Ⅱb | AC10: Ⅳ | AD10: Ⅲ | AE10: Ⅱa | AF10: Ⅱb | AG10: Ⅳ | AH10: Ⅲ | AI10: Ⅱa | AJ10: Ⅱb
K11: 1 | L11: 覆工 | N11: アーチ（左側） | P11: 材質劣化 | R11: 鋼材腐食 | U11: Ⅰ | W11: Ⅱb | AF11: 0.01 | AQ11: =IF(P11="材質劣化",2,IF(P11="漏水",3,1)) -> 2 | AS11: =IF(Y11<>"",1,"")
AQ12: =IF(P12="材質劣化",2,IF(P12="漏水",3,1)) -> 1
AQ13: =IF(P13="材質劣化",2,IF(P13="漏水",3,1)) -> 1
AQ14: =IF(P14="材質劣化",2,IF(P14="漏水",3,1)) -> 1
AQ15: =IF(P15="材質劣化",2,IF(P15="漏水",3,1)) -> 1
AQ16: =IF(P16="材質劣化",2,IF(P16="漏水",3,1)) -> 1
AQ17: =IF(P17="材質劣化",2,IF(P17="漏水",3,1)) -> 1
AQ18: =IF(P18="材質劣化",2,IF(P18="漏水",3,1)) -> 1
AQ19: =IF(P19="材質劣化",2,IF(P19="漏水",3,1)) -> 1
AQ20: =IF(P20="材質劣化",2,IF(P20="漏水",3,1)) -> 1
AQ21: =IF(P21="材質劣化",2,IF(P21="漏水",3,1)) -> 1
AQ22: =IF(P22="材質劣化",2,IF(P22="漏水",3,1)) -> 1
AQ23: =IF(P23="材質劣化",2,IF(P23="漏水",3,1)) -> 1
... AQ27: =IF(P27="材質劣化",2,IF(P27="漏水",3,1)) -> 1
AQ28: =IF(P30="材質劣化",2,IF(P30="漏水",3,1)) -> 1
AQ29: =IF(P34="材質劣化",2,IF(P34="漏水",3,1)) -> 1
AQ30: =IF(P30="材質劣化",2,IF(P30="漏水",3,1)) -> 1
AQ31: =IF(P33="材質劣化",2,IF(P33="漏水",3,1)) -> 1
AQ32: =IF(P37="材質劣化",2,IF(P37="漏水",3,1)) -> 1
AQ33: =IF(P33="材質劣化",2,IF(P33="漏水",3,1)) -> 1
AQ34: =IF(P36="材質劣化",2,IF(P36="漏水",3,1)) -> 1
K35: 集計 判定 診断 | L35: 変状の発生規模合計(㎡) | Y35: － | AC35: =SUM(AC11:AC34) -> 0 | AD35: =SUM(AD11:AD34) -> 0 | AE35: =SUM(AE11:AE34) -> 0 | AF35: =SUM(AF11:AF34) -> 0.01 | AG35: =SUM(AG11:AG34) -> 0 | AH35: =SUM(AH11:AH34) -> 0 | AI35: =SUM(AI11:AI34) -> 0 | AJ35: =SUM(AJ11:AJ34) -> 0 | AK35: 覆工スパン単位の 健全性の 診断の区分 | AM35: Ⅱ
L36: 対策区分の 判定結果 | O36: 対策区分毎の変状数注3 | Y36: Ⅳ | Z36: Ⅲ | AA36: Ⅱa | AB36: Ⅱb | AC36: Ⅳ | AD36: Ⅲ | AE36: Ⅱa | AF36: Ⅱb | AG36: Ⅳ | AH36: Ⅲ | AI36: Ⅱa | AJ36: Ⅱb
Y37: =IF(COUNTIF(Y11:Y34,"〇")>0,"1",0) -> 0 | Z37: =IF(COUNTIF(Z11:Z34,"〇")>0,"1",0) -> 0 | AA37: =IF(COUNTIF(AA11:AA34,"〇")>0,"1",0) -> 0 | AB37: =IF(COUNTIF(AB11:AB34,"〇")>0,"1",0) -> 0 | AC37: =COUNTA(AC11:AC34) -> 0 | AD37: =COUNTA(AD11:AD34) -> 0 | AE37: =COUNTA(AE11:AE34) -> 0 | AF37: =COUNTA(AF11:AF34) -> 1 | AG37: =COUNTA(AG11:AG34) -> 0 | AH37: =COUNTA(AH11:AH34) -> 0 | AI37: =COUNTA(AI11:AI34) -> 0 | AJ37: =COUNTA(AJ11:AJ34) -> 0
K39: 所見
K43: 注1：誤記入防止のため、当該変状区分以外のセルは灰色表示とすること。
K44: 注2：応急措置を実施した場合は、その詳細を備考に記載すること。
K45: 注3：外力は覆工スパン単位、材質劣化、漏水は変状単位とすること。
B46: （以下、印刷不要）
B47: ※1：本シートは作成洩れのないよう、変状が無くても全スパン分を作成すること．また変状展開図は、様式D-2-1、様式D-2-1'と同じものを覆工スパン単位で拡大し掲載すること。
B48: ※2：変状番号は、様式D-1-1で記入した番号と整合させること。
B49: ※3：対策区分毎の変状発生規模は、様式D-1-1に記載した面積を記入すること（ただし外力はスパン単位で評価するため変状の有無の欄には面積でなく○を記入し、備考欄に状況を記入）。
B50: ※4：本様式は覆工スパン毎に作成すること。
B51: ※5：変状数が多い場合は、適時、表の行を増やして覆工スパン毎に1枚のシートに収めること。また、1スパン１シートとし、スパンに合わせてシートを追加すること。
B52: ※6：対策区分毎の変状の発生範囲の規模とは，対策を行う際に参考となる変状の長さや面積であり，変状を包含する長さや面積とする。
B53: ※7：対策範囲を示す発生範囲の規模を面積で記入することが妥当ではない変状は、発生範囲の規模の欄に○を記入するとともに、備考に内容を記入すること。

Sheet 様式D-3_S006
AU1: 様式F用→ | AV1: 覆工スパン | AY1: 変 状 数 | BK1: 変 状 規 模
AV2: 番号 | AW2: 延長 （ｍ） | AX2: 健全性の診断の 区分 | AY2: 対策区分の判定 | BK2: 覆工スパン長（ｍ） | BO2: 変状の発生範囲の規模（㎡）
B3: ■定期点検記録様式 覆工スパン別変状詳細展開図 【様式D-3】 | AY3: 外力 | BC3: 材質劣化 | BG3: 漏水 | BK3: 外力 注2 | BO3: 材質劣化 | BS3: 漏水
B4: フリガナ | E4: ='様式A-1'!$D$3 -> ワキトンネル | K4: 路線名 | N4: ='様式A-1'!$J$3 -> 一般県道北中山岩国線 | T4: 定期点検実施者 | Y4: =+'様式B (1)'!$S$3 -> 復建調査設計株式会社 | AG4: 定期点検年月日 | AK4: =+'様式B (1)'!$P$2 -> 45860 | AY4: Ⅳ | AZ4: Ⅲ | BA4: Ⅱa | BB4: Ⅱb | BC4: Ⅳ | BD4: Ⅲ | BE4: Ⅱa | BF4: Ⅱb | BG4: Ⅳ | BH4: Ⅲ | BI4: Ⅱa | BJ4: Ⅱb | BK4: Ⅳ | BL4: Ⅲ | BM4: Ⅱa | BN4: Ⅱb | BO4: Ⅳ | BP4: Ⅲ | BQ4: Ⅱa | BR4: Ⅱb | BS4: Ⅳ | BT4: Ⅲ | BU4: Ⅱa | BV4: Ⅱb
B5: 名 称 | E5: ='様式A-1'!$D$4 -> 和木トンネル | K5: 管理者名 | N5: ='様式A-1'!$R$3 -> 山口県岩国土木建築事務所 | Y5: =+'様式B (1)'!$S$4 -> 小笠原洋 | AV5: =N7 -> S006 | AW5: =R7 -> 9 | AX5: =AM35 -> Ⅰ | AY5: =Y37 -> 0 | AZ5: =Z37 -> 0 | BA5: =AA37 -> 0 | BB5: =AB37 -> 0 | BC5: =AC37 -> 0 | BD5: =AD37 -> 0 | BE5: =AE37 -> 0 | BF5: =AF37 -> 0 | ... BJ5: =AJ37 -> 0 | BK5: =IF(Y37>0,R7,"") | BL5: =IF(Y37>0,"",IF(Z37>0,R7,"")) | BM5: =IF(Y37+Z37>0,"",IF(AA37>0,R7,"")) | BN5: =IF(Y37+Z37+AA37>0,"",IF(AB37>0,R7,"")) | BO5: =AC35 -> 0 | BP5: =AD35 -> 0 | BQ5: =AE35 -> 0 | BR5: =AF35 -> 0 | BS5: =AG35 -> 0 | BT5: =AH35 -> 0 | BU5: =AI35 -> 0 | BV5: =AJ35 -> 0
B6: スパン別変状展開図 | K6: 【健全性判定集計表】
K7: スパン番号 | N7: S006 | P7: スパン長 | R7: 9 | U7: 前回定期点検時の判定 | W7: 応急措置前の判定 | Y7: 対策区分毎の 変状の有無 | AC7: 対策区分毎の変状の発生範囲の規模(㎡) | AK7: 備考注2
K8: 変状番号 | L8: 対象箇所 | N8: 部位区分 | P8: 変状区分 | R8: 変状種類
Y9: 外力注1 | AC9: 材質劣化注1 | AG9: 漏水注1
Y10: Ⅳ | Z10: Ⅲ | AA10: Ⅱa | AB10: Ⅱb | AC10: Ⅳ | AD10: Ⅲ | AE10: Ⅱa | AF10: Ⅱb | AG10: Ⅳ | AH10: Ⅲ | AI10: Ⅱa | AJ10: Ⅱb
AQ11: =IF(P11="材質劣化",2,IF(P11="漏水",3,1)) -> 1 | AS11: =IF(Y11<>"",1,"")
AQ12: =IF(P12="材質劣化",2,IF(P12="漏水",3,1)) -> 1
AQ13: =IF(P13="材質劣化",2,IF(P13="漏水",3,1)) -> 1
AQ14: =IF(P14="材質劣化",2,IF(P14="漏水",3,1)) -> 1
AQ15: =IF(P15="材質劣化",2,IF(P15="漏水",3,1)) -> 1
AQ16: =IF(P16="材質劣化",2,IF(P16="漏水",3,1)) -> 1
AQ17: =IF(P17="材質劣化",2,IF(P17="漏水",3,1)) -> 1
AQ18: =IF(P18="材質劣化",2,IF(P18="漏水",3,1)) -> 1
AQ19: =IF(P19="材質劣化",2,IF(P19="漏水",3,1)) -> 1
AQ20: =IF(P20="材質劣化",2,IF(P20="漏水",3,1)) -> 1
AQ21: =IF(P21="材質劣化",2,IF(P21="漏水",3,1)) -> 1
AQ22: =IF(P22="材質劣化",2,IF(P22="漏水",3,1)) -> 1
AQ23: =IF(P23="材質劣化",2,IF(P23="漏水",3,1)) -> 1
... AQ27: =IF(P27="材質劣化",2,IF(P27="漏水",3,1)) -> 1
AQ28: =IF(P30="材質劣化",2,IF(P30="漏水",3,1)) -> 1
AQ29: =IF(P34="材質劣化",2,IF(P34="漏水",3,1)) -> 1
AQ30: =IF(P30="材質劣化",2,IF(P30="漏水",3,1)) -> 1
AQ31: =IF(P33="材質劣化",2,IF(P33="漏水",3,1)) -> 1
AQ32: =IF(P37="材質劣化",2,IF(P37="漏水",3,1)) -> 1
AQ33: =IF(P33="材質劣化",2,IF(P33="漏水",3,1)) -> 1
AQ34: =IF(P36="材質劣化",2,IF(P36="漏水",3,1)) -> 1
K35: 集計 判定 診断 | L35: 変状の発生規模合計(㎡) | Y35: － | AC35: =SUM(AC11:AC34) -> 0 | AD35: =SUM(AD11:AD34) -> 0 | AE35: =SUM(AE11:AE34) -> 0 | AF35: =SUM(AF11:AF34) -> 0 | AG35: =SUM(AG11:AG34) -> 0 | AH35: =SUM(AH11:AH34) -> 0 | AI35: =SUM(AI11:AI34) -> 0 | AJ35: =SUM(AJ11:AJ34) -> 0 | AK35: 覆工スパン単位の 健全性の 診断の区分 | AM35: Ⅰ
L36: 対策区分の 判定結果 | O36: 対策区分毎の変状数注3 | Y36: Ⅳ | Z36: Ⅲ | AA36: Ⅱa | AB36: Ⅱb | AC36: Ⅳ | AD36: Ⅲ | AE36: Ⅱa | AF36: Ⅱb | AG36: Ⅳ | AH36: Ⅲ | AI36: Ⅱa | AJ36: Ⅱb
Y37: =IF(COUNTIF(Y11:Y34,"〇")>0,"1",0) -> 0 | Z37: =IF(COUNTIF(Z11:Z34,"〇")>0,"1",0) -> 0 | AA37: =IF(COUNTIF(AA11:AA34,"〇")>0,"1",0) -> 0 | AB37: =IF(COUNTIF(AB11:AB34,"〇")>0,"1",0) -> 0 | AC37: =COUNTA(AC11:AC34) -> 0 | AD37: =COUNTA(AD11:AD34) -> 0 | AE37: =COUNTA(AE11:AE34) -> 0 | AF37: =COUNTA(AF11:AF34) -> 0 | AG37: =COUNTA(AG11:AG34) -> 0 | AH37: =COUNTA(AH11:AH34) -> 0 | AI37: =COUNTA(AI11:AI34) -> 0 | AJ37: =COUNTA(AJ11:AJ34) -> 0
K39: 所見
K43: 注1：誤記入防止のため、当該変状区分以外のセルは灰色表示とすること。
K44: 注2：応急措置を実施した場合は、その詳細を備考に記載すること。
K45: 注3：外力は覆工スパン単位、材質劣化、漏水は変状単位とすること。
B46: （以下、印刷不要）
B47: ※1：本シートは作成洩れのないよう、変状が無くても全スパン分を作成すること．また変状展開図は、様式D-2-1、様式D-2-1'と同じものを覆工スパン単位で拡大し掲載すること。
B48: ※2：変状番号は、様式D-1-1で記入した番号と整合させること。
B49: ※3：対策区分毎の変状発生規模は、様式D-1-1に記載した面積を記入すること（ただし外力はスパン単位で評価するため変状の有無の欄には面積でなく○を記入し、備考欄に状況を記入）。
B50: ※4：本様式は覆工スパン毎に作成すること。
B51: ※5：変状数が多い場合は、適時、表の行を増やして覆工スパン毎に1枚のシートに収めること。また、1スパン１シートとし、スパンに合わせてシートを追加すること。
B52: ※6：対策区分毎の変状の発生範囲の規模とは，対策を行う際に参考となる変状の長さや面積であり，変状を包含する長さや面積とする。
B53: ※7：対策範囲を示す発生範囲の規模を面積で記入することが妥当ではない変状は、発生範囲の規模の欄に○を記入するとともに、備考に内容を記入すること。

Sheet 様式D-3_S007
AU1: 様式F用→ | AV1: 覆工スパン | AY1: 変 状 数 | BK1: 変 状 規 模
AV2: 番号 | AW2: 延長 （ｍ） | AX2: 健全性の診断の 区分 | AY2: 対策区分の判定 | BK2: 覆工スパン長（ｍ） | BO2: 変状の発生範囲の規模（㎡）
B3: ■定期点検記録様式 覆工スパン別変状詳細展開図 【様式D-3】 | AY3: 外力 | BC3: 材質劣化 | BG3: 漏水 | BK3: 外力 注2 | BO3: 材質劣化 | BS3: 漏水
B4: フリガナ | E4: ='様式A-1'!$D$3 -> ワキトンネル | K4: 路線名 | N4: ='様式A-1'!$J$3 -> 一般県道北中山岩国線 | T4: 定期点検実施者 | Y4: =+'様式B (1)'!$S$3 -> 復建調査設計株式会社 | AG4: 定期点検年月日 | AK4: =+'様式B (1)'!$P$2 -> 45860 | AY4: Ⅳ | AZ4: Ⅲ | BA4: Ⅱa | BB4: Ⅱb | BC4: Ⅳ | BD4: Ⅲ | BE4: Ⅱa | BF4: Ⅱb | BG4: Ⅳ | BH4: Ⅲ | BI4: Ⅱa | BJ4: Ⅱb | BK4: Ⅳ | BL4: Ⅲ | BM4: Ⅱa | BN4: Ⅱb | BO4: Ⅳ | BP4: Ⅲ | BQ4: Ⅱa | BR4: Ⅱb | BS4: Ⅳ | BT4: Ⅲ | BU4: Ⅱa | BV4: Ⅱb
B5: 名 称 | E5: ='様式A-1'!$D$4 -> 和木トンネル | K5: 管理者名 | N5: ='様式A-1'!$R$3 -> 山口県岩国土木建築事務所 | Y5: =+'様式B (1)'!$S$4 -> 小笠原洋 | AV5: =N7 -> S007 | AW5: =R7 -> 9 | AX5: =AM35 -> Ⅰ | AY5: =Y37 -> 0 | AZ5: =Z37 -> 0 | BA5: =AA37 -> 0 | BB5: =AB37 -> 0 | BC5: =AC37 -> 0 | BD5: =AD37 -> 0 | BE5: =AE37 -> 0 | BF5: =AF37 -> 0 | ... BJ5: =AJ37 -> 0 | BK5: =IF(Y37>0,R7,"") | BL5: =IF(Y37>0,"",IF(Z37>0,R7,"")) | BM5: =IF(Y37+Z37>0,"",IF(AA37>0,R7,"")) | BN5: =IF(Y37+Z37+AA37>0,"",IF(AB37>0,R7,"")) | BO5: =AC35 -> 0 | BP5: =AD35 -> 0 | BQ5: =AE35 -> 0 | BR5: =AF35 -> 0 | BS5: =AG35 -> 0 | BT5: =AH35 -> 0 | BU5: =AI35 -> 0 | BV5: =AJ35 -> 0
B6: スパン別変状展開図 | K6: 【健全性判定集計表】
K7: スパン番号 | N7: S007 | P7: スパン長 | R7: 9 | U7: 前回定期点検時の判定 | W7: 応急措置前の判定 | Y7: 対策区分毎の 変状の有無 | AC7: 対策区分毎の変状の発生範囲の規模(㎡) | AK7: 備考注2
K8: 変状番号 | L8: 対象箇所 | N8: 部位区分 | P8: 変状区分 | R8: 変状種類
Y9: 外力注1 | AC9: 材質劣化注1 | AG9: 漏水注1
Y10: Ⅳ | Z10: Ⅲ | AA10: Ⅱa | AB10: Ⅱb | AC10: Ⅳ | AD10: Ⅲ | AE10: Ⅱa | AF10: Ⅱb | AG10: Ⅳ | AH10: Ⅲ | AI10: Ⅱa | AJ10: Ⅱb
AQ11: =IF(P11="材質劣化",2,IF(P11="漏水",3,1)) -> 1 | AS11: =IF(Y11<>"",1,"")
AQ12: =IF(P12="材質劣化",2,IF(P12="漏水",3,1)) -> 1
AQ13: =IF(P13="材質劣化",2,IF(P13="漏水",3,1)) -> 1
AQ14: =IF(P14="材質劣化",2,IF(P14="漏水",3,1)) -> 1
AQ15: =IF(P15="材質劣化",2,IF(P15="漏水",3,1)) -> 1
AQ16: =IF(P16="材質劣化",2,IF(P16="漏水",3,1)) -> 1
AQ17: =IF(P17="材質劣化",2,IF(P17="漏水",3,1)) -> 1
AQ18: =IF(P18="材質劣化",2,IF(P18="漏水",3,1)) -> 1
AQ19: =IF(P19="材質劣化",2,IF(P19="漏水",3,1)) -> 1
AQ20: =IF(P20="材質劣化",2,IF(P20="漏水",3,1)) -> 1
AQ21: =IF(P21="材質劣化",2,IF(P21="漏水",3,1)) -> 1
AQ22: =IF(P22="材質劣化",2,IF(P22="漏水",3,1)) -> 1
AQ23: =IF(P23="材質劣化",2,IF(P23="漏水",3,1)) -> 1
... AQ27: =IF(P27="材質劣化",2,IF(P27="漏水",3,1)) -> 1
AQ28: =IF(P30="材質劣化",2,IF(P30="漏水",3,1)) -> 1
AQ29: =IF(P34="材質劣化",2,IF(P34="漏水",3,1)) -> 1
AQ30: =IF(P30="材質劣化",2,IF(P30="漏水",3,1)) -> 1
AQ31: =IF(P33="材質劣化",2,IF(P33="漏水",3,1)) -> 1
AQ32: =IF(P37="材質劣化",2,IF(P37="漏水",3,1)) -> 1
AQ33: =IF(P33="材質劣化",2,IF(P33="漏水",3,1)) -> 1
AQ34: =IF(P36="材質劣化",2,IF(P36="漏水",3,1)) -> 1
K35: 集計 判定 診断 | L35: 変状の発生規模合計(㎡) | Y35: － | AC35: =SUM(AC11:AC34) -> 0 | AD35: =SUM(AD11:AD34) -> 0 | AE35: =SUM(AE11:AE34) -> 0 | AF35: =SUM(AF11:AF34) -> 0 | AG35: =SUM(AG11:AG34) -> 0 | AH35: =SUM(AH11:AH34) -> 0 | AI35: =SUM(AI11:AI34) -> 0 | AJ35: =SUM(AJ11:AJ34) -> 0 | AK35: 覆工スパン単位の 健全性の 診断の区分 | AM35: Ⅰ
L36: 対策区分の 判定結果 | O36: 対策区分毎の変状数注3 | Y36: Ⅳ | Z36: Ⅲ | AA36: Ⅱa | AB36: Ⅱb | AC36: Ⅳ | AD36: Ⅲ | AE36: Ⅱa | AF36: Ⅱb | AG36: Ⅳ | AH36: Ⅲ | AI36: Ⅱa | AJ36: Ⅱb
Y37: =IF(COUNTIF(Y11:Y34,"〇")>0,"1",0) -> 0 | Z37: =IF(COUNTIF(Z11:Z34,"〇")>0,"1",0) -> 0 | AA37: =IF(COUNTIF(AA11:AA34,"〇")>0,"1",0) -> 0 | AB37: =IF(COUNTIF(AB11:AB34,"〇")>0,"1",0) -> 0 | AC37: =COUNTA(AC11:AC34) -> 0 | AD37: =COUNTA(AD11:AD34) -> 0 | AE37: =COUNTA(AE11:AE34) -> 0 | AF37: =COUNTA(AF11:AF34) -> 0 | AG37: =COUNTA(AG11:AG34) -> 0 | AH37: =COUNTA(AH11:AH34) -> 0 | AI37: =COUNTA(AI11:AI34) -> 0 | AJ37: =COUNTA(AJ11:AJ34) -> 0
K39: 所見
K43: 注1：誤記入防止のため、当該変状区分以外のセルは灰色表示とすること。
K44: 注2：応急措置を実施した場合は、その詳細を備考に記載すること。
K45: 注3：外力は覆工スパン単位、材質劣化、漏水は変状単位とすること。
B46: （以下、印刷不要）
B47: ※1：本シートは作成洩れのないよう、変状が無くても全スパン分を作成すること．また変状展開図は、様式D-2-1、様式D-2-1'と同じものを覆工スパン単位で拡大し掲載すること。
B48: ※2：変状番号は、様式D-1-1で記入した番号と整合させること。
B49: ※3：対策区分毎の変状発生規模は、様式D-1-1に記載した面積を記入すること（ただし外力はスパン単位で評価するため変状の有無の欄には面積でなく○を記入し、備考欄に状況を記入）。
B50: ※4：本様式は覆工スパン毎に作成すること。
B51: ※5：変状数が多い場合は、適時、表の行を増やして覆工スパン毎に1枚のシートに収めること。また、1スパン１シートとし、スパンに合わせてシートを追加すること。
B52: ※6：対策区分毎の変状の発生範囲の規模とは，対策を行う際に参考となる変状の長さや面積であり，変状を包含する長さや面積とする。
B53: ※7：対策範囲を示す発生範囲の規模を面積で記入することが妥当ではない変状は、発生範囲の規模の欄に○を記入するとともに、備考に内容を記入すること。

Sheet 様式D-3_S008
AU1: 様式F用→ | AV1: 覆工スパン | AY1: 変 状 数 | BK1: 変 状 規 模
AV2: 番号 | AW2: 延長 （ｍ） | AX2: 健全性の診断の 区分 | AY2: 対策区分の判定 | BK2: 覆工スパン長（ｍ） | BO2: 変状の発生範囲の規模（㎡）
B3: ■定期点検記録様式 覆工スパン別変状詳細展開図 【様式D-3】 | AY3: 外力 | BC3: 材質劣化 | BG3: 漏水 | BK3: 外力 注2 | BO3: 材質劣化 | BS3: 漏水
B4: フリガナ | E4: ='様式A-1'!$D$3 -> ワキトンネル | K4: 路線名 | N4: ='様式A-1'!$J$3 -> 一般県道北中山岩国線 | T4: 定期点検実施者 | Y4: =+'様式B (1)'!$S$3 -> 復建調査設計株式会社 | AG4: 定期点検年月日 | AK4: =+'様式B (1)'!$P$2 -> 45860 | AY4: Ⅳ | AZ4: Ⅲ | BA4: Ⅱa | BB4: Ⅱb | BC4: Ⅳ | BD4: Ⅲ | BE4: Ⅱa | BF4: Ⅱb | BG4: Ⅳ | BH4: Ⅲ | BI4: Ⅱa | BJ4: Ⅱb | BK4: Ⅳ | BL4: Ⅲ | BM4: Ⅱa | BN4: Ⅱb | BO4: Ⅳ | BP4: Ⅲ | BQ4: Ⅱa | BR4: Ⅱb | BS4: Ⅳ | BT4: Ⅲ | BU4: Ⅱa | BV4: Ⅱb
B5: 名 称 | E5: ='様式A-1'!$D$4 -> 和木トンネル | K5: 管理者名 | N5: ='様式A-1'!$R$3 -> 山口県岩国土木建築事務所 | Y5: =+'様式B (1)'!$S$4 -> 小笠原洋 | AV5: =N7 -> S008 | AW5: =R7 -> 9 | AX5: =AM35 -> Ⅰ | AY5: =Y37 -> 0 | AZ5: =Z37 -> 0 | BA5: =AA37 -> 0 | BB5: =AB37 -> 0 | BC5: =AC37 -> 0 | BD5: =AD37 -> 0 | BE5: =AE37 -> 0 | BF5: =AF37 -> 0 | ... BJ5: =AJ37 -> 0 | BK5: =IF(Y37>0,R7,"") | BL5: =IF(Y37>0,"",IF(Z37>0,R7,"")) | BM5: =IF(Y37+Z37>0,"",IF(AA37>0,R7,"")) | BN5: =IF(Y37+Z37+AA37>0,"",IF(AB37>0,R7,"")) | BO5: =AC35 -> 0 | BP5: =AD35 -> 0 | BQ5: =AE35 -> 0 | BR5: =AF35 -> 0 | BS5: =AG35 -> 0 | BT5: =AH35 -> 0 | BU5: =AI35 -> 0 | BV5: =AJ35 -> 0
B6: スパン別変状展開図 | K6: 【健全性判定集計表】
K7: スパン番号 | N7: S008 | P7: スパン長 | R7: 9 | U7: 前回定期点検時の判定 | W7: 応急措置前の判定 | Y7: 対策区分毎の 変状の有無 | AC7: 対策区分毎の変状の発生範囲の規模(㎡) | AK7: 備考注2
K8: 変状番号 | L8: 対象箇所 | N8: 部位区分 | P8: 変状区分 | R8: 変状種類
Y9: 外力注1 | AC9: 材質劣化注1 | AG9: 漏水注1
Y10: Ⅳ | Z10: Ⅲ | AA10: Ⅱa | AB10: Ⅱb | AC10: Ⅳ | AD10: Ⅲ | AE10: Ⅱa | AF10: Ⅱb | AG10: Ⅳ | AH10: Ⅲ | AI10: Ⅱa | AJ10: Ⅱb
K11: 1 | L11: 覆工 | N11: アーチ（左側） | R11: その他 | U11: Ⅱb | AK11: 損傷は確認できない | AQ11: =IF(P11="材質劣化",2,IF(P11="漏水",3,1)) -> 1 | AS11: =IF(Y11<>"",1,"")
AQ12: =IF(P12="材質劣化",2,IF(P12="漏水",3,1)) -> 1
AQ13: =IF(P13="材質劣化",2,IF(P13="漏水",3,1)) -> 1
AQ14: =IF(P14="材質劣化",2,IF(P14="漏水",3,1)) -> 1
AQ15: =IF(P15="材質劣化",2,IF(P15="漏水",3,1)) -> 1
AQ16: =IF(P16="材質劣化",2,IF(P16="漏水",3,1)) -> 1
AQ17: =IF(P17="材質劣化",2,IF(P17="漏水",3,1)) -> 1
AQ18: =IF(P18="材質劣化",2,IF(P18="漏水",3,1)) -> 1
AQ19: =IF(P19="材質劣化",2,IF(P19="漏水",3,1)) -> 1
AQ20: =IF(P20="材質劣化",2,IF(P20="漏水",3,1)) -> 1
AQ21: =IF(P21="材質劣化",2,IF(P21="漏水",3,1)) -> 1
AQ22: =IF(P22="材質劣化",2,IF(P22="漏水",3,1)) -> 1
AQ23: =IF(P23="材質劣化",2,IF(P23="漏水",3,1)) -> 1
... AQ27: =IF(P27="材質劣化",2,IF(P27="漏水",3,1)) -> 1
AQ28: =IF(P30="材質劣化",2,IF(P30="漏水",3,1)) -> 1
AQ29: =IF(P34="材質劣化",2,IF(P34="漏水",3,1)) -> 1
AQ30: =IF(P30="材質劣化",2,IF(P30="漏水",3,1)) -> 1
AQ31: =IF(P33="材質劣化",2,IF(P33="漏水",3,1)) -> 1
AQ32: =IF(P37="材質劣化",2,IF(P37="漏水",3,1)) -> 1
AQ33: =IF(P33="材質劣化",2,IF(P33="漏水",3,1)) -> 1
AQ34: =IF(P36="材質劣化",2,IF(P36="漏水",3,1)) -> 1
K35: 集計 判定 診断 | L35: 変状の発生規模合計(㎡) | Y35: － | AC35: =SUM(AC11:AC34) -> 0 | AD35: =SUM(AD11:AD34) -> 0 | AE35: =SUM(AE11:AE34) -> 0 | AF35: =SUM(AF11:AF34) -> 0 | AG35: =SUM(AG11:AG34) -> 0 | AH35: =SUM(AH11:AH34) -> 0 | AI35: =SUM(AI11:AI34) -> 0 | AJ35: =SUM(AJ11:AJ34) -> 0 | AK35: 覆工スパン単位の 健全性の 診断の区分 | AM35: Ⅰ
L36: 対策区分の 判定結果 | O36: 対策区分毎の変状数注3 | Y36: Ⅳ | Z36: Ⅲ | AA36: Ⅱa | AB36: Ⅱb | AC36: Ⅳ | AD36: Ⅲ | AE36: Ⅱa | AF36: Ⅱb | AG36: Ⅳ | AH36: Ⅲ | AI36: Ⅱa | AJ36: Ⅱb
Y37: =IF(COUNTIF(Y11:Y34,"〇")>0,"1",0) -> 0 | Z37: =IF(COUNTIF(Z11:Z34,"〇")>0,"1",0) -> 0 | AA37: =IF(COUNTIF(AA11:AA34,"〇")>0,"1",0) -> 0 | AB37: =IF(COUNTIF(AB11:AB34,"〇")>0,"1",0) -> 0 | AC37: =COUNTA(AC11:AC34) -> 0 | AD37: =COUNTA(AD11:AD34) -> 0 | AE37: =COUNTA(AE11:AE34) -> 0 | AF37: =COUNTA(AF11:AF34) -> 0 | AG37: =COUNTA(AG11:AG34) -> 0 | AH37: =COUNTA(AH11:AH34) -> 0 | AI37: =COUNTA(AI11:AI34) -> 0 | AJ37: =COUNTA(AJ11:AJ34) -> 0
K39: 所見
K43: 注1：誤記入防止のため、当該変状区分以外のセルは灰色表示とすること。
K44: 注2：応急措置を実施した場合は、その詳細を備考に記載すること。
K45: 注3：外力は覆工スパン単位、材質劣化、漏水は変状単位とすること。
B46: （以下、印刷不要）
B47: ※1：本シートは作成洩れのないよう、変状が無くても全スパン分を作成すること．また変状展開図は、様式D-2-1、様式D-2-1'と同じものを覆工スパン単位で拡大し掲載すること。
B48: ※2：変状番号は、様式D-1-1で記入した番号と整合させること。
B49: ※3：対策区分毎の変状発生規模は、様式D-1-1に記載した面積を記入すること（ただし外力はスパン単位で評価するため変状の有無の欄には面積でなく○を記入し、備考欄に状況を記入）。
B50: ※4：本様式は覆工スパン毎に作成すること。
B51: ※5：変状数が多い場合は、適時、表の行を増やして覆工スパン毎に1枚のシートに収めること。また、1スパン１シートとし、スパンに合わせてシートを追加すること。
B52: ※6：対策区分毎の変状の発生範囲の規模とは，対策を行う際に参考となる変状の長さや面積であり，変状を包含する長さや面積とする。
B53: ※7：対策範囲を示す発生範囲の規模を面積で記入することが妥当ではない変状は、発生範囲の規模の欄に○を記入するとともに、備考に内容を記入すること。

Sheet 様式D-3_S009
AU1: 様式F用→ | AV1: 覆工スパン | AY1: 変 状 数 | BK1: 変 状 規 模
AV2: 番号 | AW2: 延長 （ｍ） | AX2: 健全性の診断の 区分 | AY2: 対策区分の判定 | BK2: 覆工スパン長（ｍ） | BO2: 変状の発生範囲の規模（㎡）
B3: ■定期点検記録様式 覆工スパン別変状詳細展開図 【様式D-3】 | AY3: 外力 | BC3: 材質劣化 | BG3: 漏水 | BK3: 外力 注2 | BO3: 材質劣化 | BS3: 漏水
B4: フリガナ | E4: ='様式A-1'!$D$3 -> ワキトンネル | K4: 路線名 | N4: ='様式A-1'!$J$3 -> 一般県道北中山岩国線 | T4: 定期点検実施者 | Y4: =+'様式B (1)'!$S$3 -> 復建調査設計株式会社 | AG4: 定期点検年月日 | AK4: =+'様式B (1)'!$P$2 -> 45860 | AY4: Ⅳ | AZ4: Ⅲ | BA4: Ⅱa | BB4: Ⅱb | BC4: Ⅳ | BD4: Ⅲ | BE4: Ⅱa | BF4: Ⅱb | BG4: Ⅳ | BH4: Ⅲ | BI4: Ⅱa | BJ4: Ⅱb | BK4: Ⅳ | BL4: Ⅲ | BM4: Ⅱa | BN4: Ⅱb | BO4: Ⅳ | BP4: Ⅲ | BQ4: Ⅱa | BR4: Ⅱb | BS4: Ⅳ | BT4: Ⅲ | BU4: Ⅱa | BV4: Ⅱb
B5: 名 称 | E5: ='様式A-1'!$D$4 -> 和木トンネル | K5: 管理者名 | N5: ='様式A-1'!$R$3 -> 山口県岩国土木建築事務所 | Y5: =+'様式B (1)'!$S$4 -> 小笠原洋 | AV5: =N7 -> S009 | AW5: =R7 -> 9 | AX5: =AM35 -> Ⅰ | AY5: =Y37 -> 0 | AZ5: =Z37 -> 0 | BA5: =AA37 -> 0 | BB5: =AB37 -> 0 | BC5: =AC37 -> 0 | BD5: =AD37 -> 0 | BE5: =AE37 -> 0 | BF5: =AF37 -> 0 | ... BJ5: =AJ37 -> 0 | BK5: =IF(Y37>0,R7,"") | BL5: =IF(Y37>0,"",IF(Z37>0,R7,"")) | BM5: =IF(Y37+Z37>0,"",IF(AA37>0,R7,"")) | BN5: =IF(Y37+Z37+AA37>0,"",IF(AB37>0,R7,"")) | BO5: =AC35 -> 0 | BP5: =AD35 -> 0 | BQ5: =AE35 -> 0 | BR5: =AF35 -> 0 | BS5: =AG35 -> 0 | BT5: =AH35 -> 0 | BU5: =AI35 -> 0 | BV5: =AJ35 -> 0
B6: スパン別変状展開図 | K6: 【健全性判定集計表】
K7: スパン番号 | N7: S009 | P7: スパン長 | R7: 9 | U7: 前回定期点検時の判定 | W7: 応急措置前の判定 | Y7: 対策区分毎の 変状の有無 | AC7: 対策区分毎の変状の発生範囲の規模(㎡) | AK7: 備考注2
K8: 変状番号 | L8: 対象箇所 | N8: 部位区分 | P8: 変状区分 | R8: 変状種類
Y9: 外力注1 | AC9: 材質劣化注1 | AG9: 漏水注1
Y10: Ⅳ | Z10: Ⅲ | AA10: Ⅱa | AB10: Ⅱb | AC10: Ⅳ | AD10: Ⅲ | AE10: Ⅱa | AF10: Ⅱb | AG10: Ⅳ | AH10: Ⅲ | AI10: Ⅱa | AJ10: Ⅱb
K11: 1 | L11: 覆工 | N11: アーチ（左側） | R11: その他 | U11: Ⅱb | AK11: 損傷は確認できない | AQ11: =IF(P11="材質劣化",2,IF(P11="漏水",3,1)) -> 1 | AS11: =IF(Y11<>"",1,"")
K12: 2 | L12: 覆工 | N12: アーチ（右側） | R12: その他 | U12: Ⅱb | AK12: 損傷は確認できない | AQ12: =IF(P12="材質劣化",2,IF(P12="漏水",3,1)) -> 1
AQ13: =IF(P13="材質劣化",2,IF(P13="漏水",3,1)) -> 1
AQ14: =IF(P14="材質劣化",2,IF(P14="漏水",3,1)) -> 1
AQ15: =IF(P15="材質劣化",2,IF(P15="漏水",3,1)) -> 1
AQ16: =IF(P16="材質劣化",2,IF(P16="漏水",3,1)) -> 1
AQ17: =IF(P17="材質劣化",2,IF(P17="漏水",3,1)) -> 1
AQ18: =IF(P18="材質劣化",2,IF(P18="漏水",3,1)) -> 1
AQ19: =IF(P19="材質劣化",2,IF(P19="漏水",3,1)) -> 1
AQ20: =IF(P20="材質劣化",2,IF(P20="漏水",3,1)) -> 1
AQ21: =IF(P21="材質劣化",2,IF(P21="漏水",3,1)) -> 1
AQ22: =IF(P22="材質劣化",2,IF(P22="漏水",3,1)) -> 1
AQ23: =IF(P23="材質劣化",2,IF(P23="漏水",3,1)) -> 1
AQ24: =IF(P24="材質劣化",2,IF(P24="漏水",3,1)) -> 1
... AQ27: =IF(P27="材質劣化",2,IF(P27="漏水",3,1)) -> 1
AQ28: =IF(P30="材質劣化",2,IF(P30="漏水",3,1)) -> 1
AQ29: =IF(P34="材質劣化",2,IF(P34="漏水",3,1)) -> 1
AQ30: =IF(P30="材質劣化",2,IF(P30="漏水",3,1)) -> 1
AQ31: =IF(P33="材質劣化",2,IF(P33="漏水",3,1)) -> 1
AQ32: =IF(P37="材質劣化",2,IF(P37="漏水",3,1)) -> 1
AQ33: =IF(P33="材質劣化",2,IF(P33="漏水",3,1)) -> 1
AQ34: =IF(P36="材質劣化",2,IF(P36="漏水",3,1)) -> 1
K35: 集計 判定 診断 | L35: 変状の発生規模合計(㎡) | Y35: － | AC35: =SUM(AC11:AC34) -> 0 | AD35: =SUM(AD11:AD34) -> 0 | AE35: =SUM(AE11:AE34) -> 0 | AF35: =SUM(AF11:AF34) -> 0 | AG35: =SUM(AG11:AG34) -> 0 | AH35: =SUM(AH11:AH34) -> 0 | AI35: =SUM(AI11:AI34) -> 0 | AJ35: =SUM(AJ11:AJ34) -> 0 | AK35: 覆工スパン単位の 健全性の 診断の区分 | AM35: Ⅰ
L36: 対策区分の 判定結果 | O36: 対策区分毎の変状数注3 | Y36: Ⅳ | Z36: Ⅲ | AA36: Ⅱa | AB36: Ⅱb | AC36: Ⅳ | AD36: Ⅲ | AE36: Ⅱa | AF36: Ⅱb | AG36: Ⅳ | AH36: Ⅲ | AI36: Ⅱa | AJ36: Ⅱb
Y37: =IF(COUNTIF(Y11:Y34,"〇")>0,"1",0) -> 0 | Z37: =IF(COUNTIF(Z11:Z34,"〇")>0,"1",0) -> 0 | AA37: =IF(COUNTIF(AA11:AA34,"〇")>0,"1",0) -> 0 | AB37: =IF(COUNTIF(AB11:AB34,"〇")>0,"1",0) -> 0 | AC37: =COUNTA(AC11:AC34) -> 0 | AD37: =COUNTA(AD11:AD34) -> 0 | AE37: =COUNTA(AE11:AE34) -> 0 | AF37: =COUNTA(AF11:AF34) -> 0 | AG37: =COUNTA(AG11:AG34) -> 0 | AH37: =COUNTA(AH11:AH34) -> 0 | AI37: =COUNTA(AI11:AI34) -> 0 | AJ37: =COUNTA(AJ11:AJ34) -> 0
K39: 所見
K43: 注1：誤記入防止のため、当該変状区分以外のセルは灰色表示とすること。
K44: 注2：応急措置を実施した場合は、その詳細を備考に記載すること。
K45: 注3：外力は覆工スパン単位、材質劣化、漏水は変状単位とすること。
B46: （以下、印刷不要）
B47: ※1：本シートは作成洩れのないよう、変状が無くても全スパン分を作成すること．また変状展開図は、様式D-2-1、様式D-2-1'と同じものを覆工スパン単位で拡大し掲載すること。
B48: ※2：変状番号は、様式D-1-1で記入した番号と整合させること。
B49: ※3：対策区分毎の変状発生規模は、様式D-1-1に記載した面積を記入すること（ただし外力はスパン単位で評価するため変状の有無の欄には面積でなく○を記入し、備考欄に状況を記入）。
B50: ※4：本様式は覆工スパン毎に作成すること。
B51: ※5：変状数が多い場合は、適時、表の行を増やして覆工スパン毎に1枚のシートに収めること。また、1スパン１シートとし、スパンに合わせてシートを追加すること。
B52: ※6：対策区分毎の変状の発生範囲の規模とは，対策を行う際に参考となる変状の長さや面積であり，変状を包含する長さや面積とする。
B53: ※7：対策範囲を示す発生範囲の規模を面積で記入することが妥当ではない変状は、発生範囲の規模の欄に○を記入するとともに、備考に内容を記入すること。

Sheet 様式D-3_S010
AU1: 様式F用→ | AV1: 覆工スパン | AY1: 変 状 数 | BK1: 変 状 規 模
AV2: 番号 | AW2: 延長 （ｍ） | AX2: 健全性の診断の 区分 | AY2: 対策区分の判定 | BK2: 覆工スパン長（ｍ） | BO2: 変状の発生範囲の規模（㎡）
B3: ■定期点検記録様式 覆工スパン別変状詳細展開図 【様式D-3】 | AY3: 外力 | BC3: 材質劣化 | BG3: 漏水 | BK3: 外力 注2 | BO3: 材質劣化 | BS3: 漏水
B4: フリガナ | E4: ='様式A-1'!$D$3 -> ワキトンネル | K4: 路線名 | N4: ='様式A-1'!$J$3 -> 一般県道北中山岩国線 | T4: 定期点検実施者 | Y4: =+'様式B (1)'!$S$3 -> 復建調査設計株式会社 | AG4: 定期点検年月日 | AK4: =+'様式B (1)'!$P$2 -> 45860 | AY4: Ⅳ | AZ4: Ⅲ | BA4: Ⅱa | BB4: Ⅱb | BC4: Ⅳ | BD4: Ⅲ | BE4: Ⅱa | BF4: Ⅱb | BG4: Ⅳ | BH4: Ⅲ | BI4: Ⅱa | BJ4: Ⅱb | BK4: Ⅳ | BL4: Ⅲ | BM4: Ⅱa | BN4: Ⅱb | BO4: Ⅳ | BP4: Ⅲ | BQ4: Ⅱa | BR4: Ⅱb | BS4: Ⅳ | BT4: Ⅲ | BU4: Ⅱa | BV4: Ⅱb
B5: 名 称 | E5: ='様式A-1'!$D$4 -> 和木トンネル | K5: 管理者名 | N5: ='様式A-1'!$R$3 -> 山口県岩国土木建築事務所 | Y5: =+'様式B (1)'!$S$4 -> 小笠原洋 | AV5: =N7 -> S010 | AW5: =R7 -> 9 | AX5: =AM35 -> Ⅰ | AY5: =Y37 -> 0 | AZ5: =Z37 -> 0 | BA5: =AA37 -> 0 | BB5: =AB37 -> 0 | BC5: =AC37 -> 0 | BD5: =AD37 -> 0 | BE5: =AE37 -> 0 | BF5: =AF37 -> 0 | ... BJ5: =AJ37 -> 0 | BK5: =IF(Y37>0,R7,"") | BL5: =IF(Y37>0,"",IF(Z37>0,R7,"")) | BM5: =IF(Y37+Z37>0,"",IF(AA37>0,R7,"")) | BN5: =IF(Y37+Z37+AA37>0,"",IF(AB37>0,R7,"")) | BO5: =AC35 -> 0 | BP5: =AD35 -> 0 | BQ5: =AE35 -> 0 | BR5: =AF35 -> 0 | BS5: =AG35 -> 0 | BT5: =AH35 -> 0 | BU5: =AI35 -> 0 | BV5: =AJ35 -> 0
B6: スパン別変状展開図 | K6: 【健全性判定集計表】
K7: スパン番号 | N7: S010 | P7: スパン長 | R7: 9 | U7: 前回定期点検時の判定 | W7: 応急措置前の判定 | Y7: 対策区分毎の 変状の有無 | AC7: 対策区分毎の変状の発生範囲の規模(㎡) | AK7: 備考注2
K8: 変状番号 | L8: 対象箇所 | N8: 部位区分 | P8: 変状区分 | R8: 変状種類
Y9: 外力注1 | AC9: 材質劣化注1 | AG9: 漏水注1
Y10: Ⅳ | Z10: Ⅲ | AA10: Ⅱa | AB10: Ⅱb | AC10: Ⅳ | AD10: Ⅲ | AE10: Ⅱa | AF10: Ⅱb | AG10: Ⅳ | AH10: Ⅲ | AI10: Ⅱa | AJ10: Ⅱb
K11: 1 | L11: 覆工 | N11: 側壁（右側） | R11: その他 | U11: Ⅱb | AK11: 損傷は確認できない | AQ11: =IF(P11="材質劣化",2,IF(P11="漏水",3,1)) -> 1 | AS11: =IF(Y11<>"",1,"")
AQ12: =IF(P12="材質劣化",2,IF(P12="漏水",3,1)) -> 1
AQ13: =IF(P13="材質劣化",2,IF(P13="漏水",3,1)) -> 1
AQ14: =IF(P14="材質劣化",2,IF(P14="漏水",3,1)) -> 1
AQ15: =IF(P15="材質劣化",2,IF(P15="漏水",3,1)) -> 1
AQ16: =IF(P16="材質劣化",2,IF(P16="漏水",3,1)) -> 1
AQ17: =IF(P17="材質劣化",2,IF(P17="漏水",3,1)) -> 1
AQ18: =IF(P18="材質劣化",2,IF(P18="漏水",3,1)) -> 1
AQ19: =IF(P19="材質劣化",2,IF(P19="漏水",3,1)) -> 1
AQ20: =IF(P20="材質劣化",2,IF(P20="漏水",3,1)) -> 1
AQ21: =IF(P21="材質劣化",2,IF(P21="漏水",3,1)) -> 1
AQ22: =IF(P22="材質劣化",2,IF(P22="漏水",3,1)) -> 1
AQ23: =IF(P23="材質劣化",2,IF(P23="漏水",3,1)) -> 1
... AQ27: =IF(P27="材質劣化",2,IF(P27="漏水",3,1)) -> 1
AQ28: =IF(P30="材質劣化",2,IF(P30="漏水",3,1)) -> 1
AQ29: =IF(P34="材質劣化",2,IF(P34="漏水",3,1)) -> 1
AQ30: =IF(P30="材質劣化",2,IF(P30="漏水",3,1)) -> 1
AQ31: =IF(P33="材質劣化",2,IF(P33="漏水",3,1)) -> 1
AQ32: =IF(P37="材質劣化",2,IF(P37="漏水",3,1)) -> 1
AQ33: =IF(P33="材質劣化",2,IF(P33="漏水",3,1)) -> 1
AQ34: =IF(P36="材質劣化",2,IF(P36="漏水",3,1)) -> 1
K35: 集計 判定 診断 | L35: 変状の発生規模合計(㎡) | Y35: － | AC35: =SUM(AC11:AC34) -> 0 | AD35: =SUM(AD11:AD34) -> 0 | AE35: =SUM(AE11:AE34) -> 0 | AF35: =SUM(AF11:AF34) -> 0 | AG35: =SUM(AG11:AG34) -> 0 | AH35: =SUM(AH11:AH34) -> 0 | AI35: =SUM(AI11:AI34) -> 0 | AJ35: =SUM(AJ11:AJ34) -> 0 | AK35: 覆工スパン単位の 健全性の 診断の区分 | AM35: Ⅰ
L36: 対策区分の 判定結果 | O36: 対策区分毎の変状数注3 | Y36: Ⅳ | Z36: Ⅲ | AA36: Ⅱa | AB36: Ⅱb | AC36: Ⅳ | AD36: Ⅲ | AE36: Ⅱa | AF36: Ⅱb | AG36: Ⅳ | AH36: Ⅲ | AI36: Ⅱa | AJ36: Ⅱb
Y37: =IF(COUNTIF(Y11:Y34,"〇")>0,"1",0) -> 0 | Z37: =IF(COUNTIF(Z11:Z34,"〇")>0,"1",0) -> 0 | AA37: =IF(COUNTIF(AA11:AA34,"〇")>0,"1",0) -> 0 | AB37: =IF(COUNTIF(AB11:AB34,"〇")>0,"1",0) -> 0 | AC37: =COUNTA(AC11:AC34) -> 0 | AD37: =COUNTA(AD11:AD34) -> 0 | AE37: =COUNTA(AE11:AE34) -> 0 | AF37: =COUNTA(AF11:AF34) -> 0 | AG37: =COUNTA(AG11:AG34) -> 0 | AH37: =COUNTA(AH11:AH34) -> 0 | AI37: =COUNTA(AI11:AI34) -> 0 | AJ37: =COUNTA(AJ11:AJ34) -> 0
K39: 所見
K43: 注1：誤記入防止のため、当該変状区分以外のセルは灰色表示とすること。
K44: 注2：応急措置を実施した場合は、その詳細を備考に記載すること。
K45: 注3：外力は覆工スパン単位、材質劣化、漏水は変状単位とすること。
B46: （以下、印刷不要）
B47: ※1：本シートは作成洩れのないよう、変状が無くても全スパン分を作成すること．また変状展開図は、様式D-2-1、様式D-2-1'と同じものを覆工スパン単位で拡大し掲載すること。
B48: ※2：変状番号は、様式D-1-1で記入した番号と整合させること。
B49: ※3：対策区分毎の変状発生規模は、様式D-1-1に記載した面積を記入すること（ただし外力はスパン単位で評価するため変状の有無の欄には面積でなく○を記入し、備考欄に状況を記入）。
B50: ※4：本様式は覆工スパン毎に作成すること。
B51: ※5：変状数が多い場合は、適時、表の行を増やして覆工スパン毎に1枚のシートに収めること。また、1スパン１シートとし、スパンに合わせてシートを追加すること。
B52: ※6：対策区分毎の変状の発生範囲の規模とは，対策を行う際に参考となる変状の長さや面積であり，変状を包含する長さや面積とする。
B53: ※7：対策範囲を示す発生範囲の規模を面積で記入することが妥当ではない変状は、発生範囲の規模の欄に○を記入するとともに、備考に内容を記入すること。

Sheet 様式D-3_S011
AU1: 様式F用→ | AV1: 覆工スパン | AY1: 変 状 数 | BK1: 変 状 規 模
AV2: 番号 | AW2: 延長 （ｍ） | AX2: 健全性の診断の 区分 | AY2: 対策区分の判定 | BK2: 覆工スパン長（ｍ） | BO2: 変状の発生範囲の規模（㎡）
B3: ■定期点検記録様式 覆工スパン別変状詳細展開図 【様式D-3】 | AY3: 外力 | BC3: 材質劣化 | BG3: 漏水 | BK3: 外力 注2 | BO3: 材質劣化 | BS3: 漏水
B4: フリガナ | E4: ='様式A-1'!$D$3 -> ワキトンネル | K4: 路線名 | N4: ='様式A-1'!$J$3 -> 一般県道北中山岩国線 | T4: 定期点検実施者 | Y4: =+'様式B (1)'!$S$3 -> 復建調査設計株式会社 | AG4: 定期点検年月日 | AK4: =+'様式B (1)'!$P$2 -> 45860 | AY4: Ⅳ | AZ4: Ⅲ | BA4: Ⅱa | BB4: Ⅱb | BC4: Ⅳ | BD4: Ⅲ | BE4: Ⅱa | BF4: Ⅱb | BG4: Ⅳ | BH4: Ⅲ | BI4: Ⅱa | BJ4: Ⅱb | BK4: Ⅳ | BL4: Ⅲ | BM4: Ⅱa | BN4: Ⅱb | BO4: Ⅳ | BP4: Ⅲ | BQ4: Ⅱa | BR4: Ⅱb | BS4: Ⅳ | BT4: Ⅲ | BU4: Ⅱa | BV4: Ⅱb
B5: 名 称 | E5: ='様式A-1'!$D$4 -> 和木トンネル | K5: 管理者名 | N5: ='様式A-1'!$R$3 -> 山口県岩国土木建築事務所 | Y5: =+'様式B (1)'!$S$4 -> 小笠原洋 | AV5: =N7 -> S011 | AW5: =R7 -> 9 | AX5: =AM35 -> Ⅱ | AY5: =Y37 -> 0 | AZ5: =Z37 -> 0 | BA5: =AA37 -> 0 | BB5: =AB37 -> 0 | BC5: =AC37 -> 0 | BD5: =AD37 -> 0 | BE5: =AE37 -> 0 | BF5: =AF37 -> 1 | ... BJ5: =AJ37 -> 0 | BK5: =IF(Y37>0,R7,"") | BL5: =IF(Y37>0,"",IF(Z37>0,R7,"")) | BM5: =IF(Y37+Z37>0,"",IF(AA37>0,R7,"")) | BN5: =IF(Y37+Z37+AA37>0,"",IF(AB37>0,R7,"")) | BO5: =AC35 -> 0 | BP5: =AD35 -> 0 | BQ5: =AE35 -> 0 | BR5: =AF35 -> 0.0025 | BS5: =AG35 -> 0 | BT5: =AH35 -> 0 | BU5: =AI35 -> 0 | BV5: =AJ35 -> 0
B6: スパン別変状展開図 | K6: 【健全性判定集計表】
K7: スパン番号 | N7: S011 | P7: スパン長 | R7: 9 | U7: 前回定期点検時の判定 | W7: 応急措置前の判定 | Y7: 対策区分毎の 変状の有無 | AC7: 対策区分毎の変状の発生範囲の規模(㎡) | AK7: 備考注2
K8: 変状番号 | L8: 対象箇所 | N8: 部位区分 | P8: 変状区分 | R8: 変状種類
Y9: 外力注1 | AC9: 材質劣化注1 | AG9: 漏水注1
Y10: Ⅳ | Z10: Ⅲ | AA10: Ⅱa | AB10: Ⅱb | AC10: Ⅳ | AD10: Ⅲ | AE10: Ⅱa | AF10: Ⅱb | AG10: Ⅳ | AH10: Ⅲ | AI10: Ⅱa | AJ10: Ⅱb
K11: 1 | L11: 覆工 | N11: アーチ（右側） | P11: 材質劣化 | R11: 鋼材腐食 | U11: － | W11: Ⅱb | AF11: 0.0025 | AQ11: =IF(P11="材質劣化",2,IF(P11="漏水",3,1)) -> 2 | AS11: =IF(Y11<>"",1,"")
K12: 2 | L12: 覆工 | N12: 側壁（右側） | R12: その他 | U12: Ⅱb | AK12: 損傷は確認できない | AQ12: =IF(P12="材質劣化",2,IF(P12="漏水",3,1)) -> 1
AQ13: =IF(P13="材質劣化",2,IF(P13="漏水",3,1)) -> 1
AQ14: =IF(P14="材質劣化",2,IF(P14="漏水",3,1)) -> 1
AQ15: =IF(P15="材質劣化",2,IF(P15="漏水",3,1)) -> 1
AQ16: =IF(P16="材質劣化",2,IF(P16="漏水",3,1)) -> 1
AQ17: =IF(P17="材質劣化",2,IF(P17="漏水",3,1)) -> 1
AQ18: =IF(P18="材質劣化",2,IF(P18="漏水",3,1)) -> 1
AQ19: =IF(P19="材質劣化",2,IF(P19="漏水",3,1)) -> 1
AQ20: =IF(P20="材質劣化",2,IF(P20="漏水",3,1)) -> 1
AQ21: =IF(P21="材質劣化",2,IF(P21="漏水",3,1)) -> 1
AQ22: =IF(P22="材質劣化",2,IF(P22="漏水",3,1)) -> 1
AQ23: =IF(P23="材質劣化",2,IF(P23="漏水",3,1)) -> 1
AQ24: =IF(P24="材質劣化",2,IF(P24="漏水",3,1)) -> 1
... AQ27: =IF(P27="材質劣化",2,IF(P27="漏水",3,1)) -> 1
AQ28: =IF(P30="材質劣化",2,IF(P30="漏水",3,1)) -> 1
AQ29: =IF(P34="材質劣化",2,IF(P34="漏水",3,1)) -> 1
AQ30: =IF(P30="材質劣化",2,IF(P30="漏水",3,1)) -> 1
AQ31: =IF(P33="材質劣化",2,IF(P33="漏水",3,1)) -> 1
AQ32: =IF(P37="材質劣化",2,IF(P37="漏水",3,1)) -> 1
AQ33: =IF(P33="材質劣化",2,IF(P33="漏水",3,1)) -> 1
AQ34: =IF(P36="材質劣化",2,IF(P36="漏水",3,1)) -> 1
K35: 集計 判定 診断 | L35: 変状の発生規模合計(㎡) | Y35: － | AC35: =SUM(AC11:AC34) -> 0 | AD35: =SUM(AD11:AD34) -> 0 | AE35: =SUM(AE11:AE34) -> 0 | AF35: =SUM(AF11:AF34) -> 0.0025 | AG35: =SUM(AG11:AG34) -> 0 | AH35: =SUM(AH11:AH34) -> 0 | AI35: =SUM(AI11:AI34) -> 0 | AJ35: =SUM(AJ11:AJ34) -> 0 | AK35: 覆工スパン単位の 健全性の 診断の区分 | AM35: Ⅱ
L36: 対策区分の 判定結果 | O36: 対策区分毎の変状数注3 | Y36: Ⅳ | Z36: Ⅲ | AA36: Ⅱa | AB36: Ⅱb | AC36: Ⅳ | AD36: Ⅲ | AE36: Ⅱa | AF36: Ⅱb | AG36: Ⅳ | AH36: Ⅲ | AI36: Ⅱa | AJ36: Ⅱb
Y37: =IF(COUNTIF(Y11:Y34,"〇")>0,"1",0) -> 0 | Z37: =IF(COUNTIF(Z11:Z34,"〇")>0,"1",0) -> 0 | AA37: =IF(COUNTIF(AA11:AA34,"〇")>0,"1",0) -> 0 | AB37: =IF(COUNTIF(AB11:AB34,"〇")>0,"1",0) -> 0 | AC37: =COUNTA(AC11:AC34) -> 0 | AD37: =COUNTA(AD11:AD34) -> 0 | AE37: =COUNTA(AE11:AE34) -> 0 | AF37: =COUNTA(AF11:AF34) -> 1 | AG37: =COUNTA(AG11:AG34) -> 0 | AH37: =COUNTA(AH11:AH34) -> 0 | AI37: =COUNTA(AI11:AI34) -> 0 | AJ37: =COUNTA(AJ11:AJ34) -> 0
K39: 所見
K43: 注1：誤記入防止のため、当該変状区分以外のセルは灰色表示とすること。
K44: 注2：応急措置を実施した場合は、その詳細を備考に記載すること。
K45: 注3：外力は覆工スパン単位、材質劣化、漏水は変状単位とすること。
B46: （以下、印刷不要）
B47: ※1：本シートは作成洩れのないよう、変状が無くても全スパン分を作成すること．また変状展開図は、様式D-2-1、様式D-2-1'と同じものを覆工スパン単位で拡大し掲載すること。
B48: ※2：変状番号は、様式D-1-1で記入した番号と整合させること。
B49: ※3：対策区分毎の変状発生規模は、様式D-1-1に記載した面積を記入すること（ただし外力はスパン単位で評価するため変状の有無の欄には面積でなく○を記入し、備考欄に状況を記入）。
B50: ※4：本様式は覆工スパン毎に作成すること。
B51: ※5：変状数が多い場合は、適時、表の行を増やして覆工スパン毎に1枚のシートに収めること。また、1スパン１シートとし、スパンに合わせてシートを追加すること。
B52: ※6：対策区分毎の変状の発生範囲の規模とは，対策を行う際に参考となる変状の長さや面積であり，変状を包含する長さや面積とする。
B53: ※7：対策範囲を示す発生範囲の規模を面積で記入することが妥当ではない変状は、発生範囲の規模の欄に○を記入するとともに、備考に内容を記入すること。

Sheet 様式D-3_S012
AU1: 様式F用→ | AV1: 覆工スパン | AY1: 変 状 数 | BK1: 変 状 規 模
AV2: 番号 | AW2: 延長 （ｍ） | AX2: 健全性の診断の 区分 | AY2: 対策区分の判定 | BK2: 覆工スパン長（ｍ） | BO2: 変状の発生範囲の規模（㎡）
B3: ■定期点検記録様式 覆工スパン別変状詳細展開図 【様式D-3】 | AY3: 外力 | BC3: 材質劣化 | BG3: 漏水 | BK3: 外力 注2 | BO3: 材質劣化 | BS3: 漏水
B4: フリガナ | E4: ='様式A-1'!$D$3 -> ワキトンネル | K4: 路線名 | N4: ='様式A-1'!$J$3 -> 一般県道北中山岩国線 | T4: 定期点検実施者 | Y4: =+'様式B (1)'!$S$3 -> 復建調査設計株式会社 | AG4: 定期点検年月日 | AK4: =+'様式B (1)'!$P$2 -> 45860 | AY4: Ⅳ | AZ4: Ⅲ | BA4: Ⅱa | BB4: Ⅱb | BC4: Ⅳ | BD4: Ⅲ | BE4: Ⅱa | BF4: Ⅱb | BG4: Ⅳ | BH4: Ⅲ | BI4: Ⅱa | BJ4: Ⅱb | BK4: Ⅳ | BL4: Ⅲ | BM4: Ⅱa | BN4: Ⅱb | BO4: Ⅳ | BP4: Ⅲ | BQ4: Ⅱa | BR4: Ⅱb | BS4: Ⅳ | BT4: Ⅲ | BU4: Ⅱa | BV4: Ⅱb
B5: 名 称 | E5: ='様式A-1'!$D$4 -> 和木トンネル | K5: 管理者名 | N5: ='様式A-1'!$R$3 -> 山口県岩国土木建築事務所 | Y5: =+'様式B (1)'!$S$4 -> 小笠原洋 | AV5: =N7 -> S012 | AW5: =R7 -> 9 | AX5: =AM35 -> Ⅱ | AY5: =Y37 -> 0 | AZ5: =Z37 -> 0 | BA5: =AA37 -> 0 | BB5: =AB37 -> 0 | BC5: =AC37 -> 0 | BD5: =AD37 -> 0 | BE5: =AE37 -> 0 | BF5: =AF37 -> 1 | ... BJ5: =AJ37 -> 0 | BK5: =IF(Y37>0,R7,"") | BL5: =IF(Y37>0,"",IF(Z37>0,R7,"")) | BM5: =IF(Y37+Z37>0,"",IF(AA37>0,R7,"")) | BN5: =IF(Y37+Z37+AA37>0,"",IF(AB37>0,R7,"")) | BO5: =AC35 -> 0 | BP5: =AD35 -> 0 | BQ5: =AE35 -> 0 | BR5: =AF35 -> 0.04 | BS5: =AG35 -> 0 | BT5: =AH35 -> 0 | BU5: =AI35 -> 0 | BV5: =AJ35 -> 0
B6: スパン別変状展開図 | K6: 【健全性判定集計表】
K7: スパン番号 | N7: S012 | P7: スパン長 | R7: 9 | U7: 前回定期点検時の判定 | W7: 応急措置前の判定 | Y7: 対策区分毎の 変状の有無 | AC7: 対策区分毎の変状の発生範囲の規模(㎡) | AK7: 備考注2
K8: 変状番号 | L8: 対象箇所 | N8: 部位区分 | P8: 変状区分 | R8: 変状種類
Y9: 外力注1 | AC9: 材質劣化注1 | AG9: 漏水注1
Y10: Ⅳ | Z10: Ⅲ | AA10: Ⅱa | AB10: Ⅱb | AC10: Ⅳ | AD10: Ⅲ | AE10: Ⅱa | AF10: Ⅱb | AG10: Ⅳ | AH10: Ⅲ | AI10: Ⅱa | AJ10: Ⅱb
K11: 1 | L11: 覆工 | N11: 横断目地（右側） | P11: 材質劣化 | R11: うき・はく離 | U11: Ⅱb | W11: Ⅱb | AF11: 0.04 | AQ11: =IF(P11="材質劣化",2,IF(P11="漏水",3,1)) -> 2 | AS11: =IF(Y11<>"",1,"")
K12: 2 | L12: 覆工 | N12: 横断目地（右側） | R12: その他 | U12: Ⅱb | AK12: 損傷は確認できない | AQ12: =IF(P12="材質劣化",2,IF(P12="漏水",3,1)) -> 1
AQ13: =IF(P13="材質劣化",2,IF(P13="漏水",3,1)) -> 1
AQ14: =IF(P14="材質劣化",2,IF(P14="漏水",3,1)) -> 1
AQ15: =IF(P15="材質劣化",2,IF(P15="漏水",3,1)) -> 1
AQ16: =IF(P16="材質劣化",2,IF(P16="漏水",3,1)) -> 1
AQ17: =IF(P17="材質劣化",2,IF(P17="漏水",3,1)) -> 1
AQ18: =IF(P18="材質劣化",2,IF(P18="漏水",3,1)) -> 1
AQ19: =IF(P19="材質劣化",2,IF(P19="漏水",3,1)) -> 1
AQ20: =IF(P20="材質劣化",2,IF(P20="漏水",3,1)) -> 1
AQ21: =IF(P21="材質劣化",2,IF(P21="漏水",3,1)) -> 1
AQ22: =IF(P22="材質劣化",2,IF(P22="漏水",3,1)) -> 1
AQ23: =IF(P23="材質劣化",2,IF(P23="漏水",3,1)) -> 1
AQ24: =IF(P24="材質劣化",2,IF(P24="漏水",3,1)) -> 1
... AQ27: =IF(P27="材質劣化",2,IF(P27="漏水",3,1)) -> 1
AQ28: =IF(P30="材質劣化",2,IF(P30="漏水",3,1)) -> 1
AQ29: =IF(P34="材質劣化",2,IF(P34="漏水",3,1)) -> 1
AQ30: =IF(P30="材質劣化",2,IF(P30="漏水",3,1)) -> 1
AQ31: =IF(P33="材質劣化",2,IF(P33="漏水",3,1)) -> 1
AQ32: =IF(P37="材質劣化",2,IF(P37="漏水",3,1)) -> 1
AQ33: =IF(P33="材質劣化",2,IF(P33="漏水",3,1)) -> 1
AQ34: =IF(P36="材質劣化",2,IF(P36="漏水",3,1)) -> 1
K35: 集計 判定 診断 | L35: 変状の発生規模合計(㎡) | Y35: － | AC35: =SUM(AC11:AC34) -> 0 | AD35: =SUM(AD11:AD34) -> 0 | AE35: =SUM(AE11:AE34) -> 0 | AF35: =SUM(AF11:AF34) -> 0.04 | AG35: =SUM(AG11:AG34) -> 0 | AH35: =SUM(AH11:AH34) -> 0 | AI35: =SUM(AI11:AI34) -> 0 | AJ35: =SUM(AJ11:AJ34) -> 0 | AK35: 覆工スパン単位の 健全性の 診断の区分 | AM35: Ⅱ
L36: 対策区分の 判定結果 | O36: 対策区分毎の変状数注3 | Y36: Ⅳ | Z36: Ⅲ | AA36: Ⅱa | AB36: Ⅱb | AC36: Ⅳ | AD36: Ⅲ | AE36: Ⅱa | AF36: Ⅱb | AG36: Ⅳ | AH36: Ⅲ | AI36: Ⅱa | AJ36: Ⅱb
Y37: =IF(COUNTIF(Y11:Y34,"〇")>0,"1",0) -> 0 | Z37: =IF(COUNTIF(Z11:Z34,"〇")>0,"1",0) -> 0 | AA37: =IF(COUNTIF(AA11:AA34,"〇")>0,"1",0) -> 0 | AB37: =IF(COUNTIF(AB11:AB34,"〇")>0,"1",0) -> 0 | AC37: =COUNTA(AC11:AC34) -> 0 | AD37: =COUNTA(AD11:AD34) -> 0 | AE37: =COUNTA(AE11:AE34) -> 0 | AF37: =COUNTA(AF11:AF34) -> 1 | AG37: =COUNTA(AG11:AG34) -> 0 | AH37: =COUNTA(AH11:AH34) -> 0 | AI37: =COUNTA(AI11:AI34) -> 0 | AJ37: =COUNTA(AJ11:AJ34) -> 0
K39: 所見
K43: 注1：誤記入防止のため、当該変状区分以外のセルは灰色表示とすること。
K44: 注2：応急措置を実施した場合は、その詳細を備考に記載すること。
K45: 注3：外力は覆工スパン単位、材質劣化、漏水は変状単位とすること。
B46: （以下、印刷不要）
B47: ※1：本シートは作成洩れのないよう、変状が無くても全スパン分を作成すること．また変状展開図は、様式D-2-1、様式D-2-1'と同じものを覆工スパン単位で拡大し掲載すること。
B48: ※2：変状番号は、様式D-1-1で記入した番号と整合させること。
B49: ※3：対策区分毎の変状発生規模は、様式D-1-1に記載した面積を記入すること（ただし外力はスパン単位で評価するため変状の有無の欄には面積でなく○を記入し、備考欄に状況を記入）。
B50: ※4：本様式は覆工スパン毎に作成すること。
B51: ※5：変状数が多い場合は、適時、表の行を増やして覆工スパン毎に1枚のシートに収めること。また、1スパン１シートとし、スパンに合わせてシートを追加すること。
B52: ※6：対策区分毎の変状の発生範囲の規模とは，対策を行う際に参考となる変状の長さや面積であり，変状を包含する長さや面積とする。
B53: ※7：対策範囲を示す発生範囲の規模を面積で記入することが妥当ではない変状は、発生範囲の規模の欄に○を記入するとともに、備考に内容を記入すること。

Sheet 様式D-3_S013
AU1: 様式F用→ | AV1: 覆工スパン | AY1: 変 状 数 | BK1: 変 状 規 模
AV2: 番号 | AW2: 延長 （ｍ） | AX2: 健全性の診断の 区分 | AY2: 対策区分の判定 | BK2: 覆工スパン長（ｍ） | BO2: 変状の発生範囲の規模（㎡）
B3: ■定期点検記録様式 覆工スパン別変状詳細展開図 【様式D-3】 | AY3: 外力 | BC3: 材質劣化 | BG3: 漏水 | BK3: 外力 注2 | BO3: 材質劣化 | BS3: 漏水
B4: フリガナ | E4: ='様式A-1'!$D$3 -> ワキトンネル | K4: 路線名 | N4: ='様式A-1'!$J$3 -> 一般県道北中山岩国線 | T4: 定期点検実施者 | Y4: =+'様式B (1)'!$S$3 -> 復建調査設計株式会社 | AG4: 定期点検年月日 | AK4: =+'様式B (1)'!$P$2 -> 45860 | AY4: Ⅳ | AZ4: Ⅲ | BA4: Ⅱa | BB4: Ⅱb | BC4: Ⅳ | BD4: Ⅲ | BE4: Ⅱa | BF4: Ⅱb | BG4: Ⅳ | BH4: Ⅲ | BI4: Ⅱa | BJ4: Ⅱb | BK4: Ⅳ | BL4: Ⅲ | BM4: Ⅱa | BN4: Ⅱb | BO4: Ⅳ | BP4: Ⅲ | BQ4: Ⅱa | BR4: Ⅱb | BS4: Ⅳ | BT4: Ⅲ | BU4: Ⅱa | BV4: Ⅱb
B5: 名 称 | E5: ='様式A-1'!$D$4 -> 和木トンネル | K5: 管理者名 | N5: ='様式A-1'!$R$3 -> 山口県岩国土木建築事務所 | Y5: =+'様式B (1)'!$S$4 -> 小笠原洋 | AV5: =N7 -> S013 | AW5: =R7 -> 9 | AX5: =AM35 -> Ⅰ | AY5: =Y37 -> 0 | AZ5: =Z37 -> 0 | BA5: =AA37 -> 0 | BB5: =AB37 -> 0 | BC5: =AC37 -> 0 | BD5: =AD37 -> 0 | BE5: =AE37 -> 0 | BF5: =AF37 -> 0 | ... BJ5: =AJ37 -> 0 | BK5: =IF(Y37>0,R7,"") | BL5: =IF(Y37>0,"",IF(Z37>0,R7,"")) | BM5: =IF(Y37+Z37>0,"",IF(AA37>0,R7,"")) | BN5: =IF(Y37+Z37+AA37>0,"",IF(AB37>0,R7,"")) | BO5: =AC35 -> 0 | BP5: =AD35 -> 0 | BQ5: =AE35 -> 0 | BR5: =AF35 -> 0 | BS5: =AG35 -> 0 | BT5: =AH35 -> 0 | BU5: =AI35 -> 0 | BV5: =AJ35 -> 0
B6: スパン別変状展開図 | K6: 【健全性判定集計表】
K7: スパン番号 | N7: S013 | P7: スパン長 | R7: 9 | U7: 前回定期点検時の判定 | W7: 応急措置前の判定 | Y7: 対策区分毎の 変状の有無 | AC7: 対策区分毎の変状の発生範囲の規模(㎡) | AK7: 備考注2
K8: 変状番号 | L8: 対象箇所 | N8: 部位区分 | P8: 変状区分 | R8: 変状種類
Y9: 外力注1 | AC9: 材質劣化注1 | AG9: 漏水注1
Y10: Ⅳ | Z10: Ⅲ | AA10: Ⅱa | AB10: Ⅱb | AC10: Ⅳ | AD10: Ⅲ | AE10: Ⅱa | AF10: Ⅱb | AG10: Ⅳ | AH10: Ⅲ | AI10: Ⅱa | AJ10: Ⅱb
K11: 1 | L11: 覆工 | N11: アーチ（左側） | R11: その他 | U11: Ⅱb | AK11: 損傷は確認できない | AQ11: =IF(P11="材質劣化",2,IF(P11="漏水",3,1)) -> 1 | AS11: =IF(Y11<>"",1,"")
AQ12: =IF(P12="材質劣化",2,IF(P12="漏水",3,1)) -> 1
AQ13: =IF(P13="材質劣化",2,IF(P13="漏水",3,1)) -> 1
AQ14: =IF(P14="材質劣化",2,IF(P14="漏水",3,1)) -> 1
AQ15: =IF(P15="材質劣化",2,IF(P15="漏水",3,1)) -> 1
AQ16: =IF(P16="材質劣化",2,IF(P16="漏水",3,1)) -> 1
AQ17: =IF(P17="材質劣化",2,IF(P17="漏水",3,1)) -> 1
AQ18: =IF(P18="材質劣化",2,IF(P18="漏水",3,1)) -> 1
AQ19: =IF(P19="材質劣化",2,IF(P19="漏水",3,1)) -> 1
AQ20: =IF(P20="材質劣化",2,IF(P20="漏水",3,1)) -> 1
AQ21: =IF(P21="材質劣化",2,IF(P21="漏水",3,1)) -> 1
AQ22: =IF(P22="材質劣化",2,IF(P22="漏水",3,1)) -> 1
AQ23: =IF(P23="材質劣化",2,IF(P23="漏水",3,1)) -> 1
... AQ27: =IF(P27="材質劣化",2,IF(P27="漏水",3,1)) -> 1
AQ28: =IF(P30="材質劣化",2,IF(P30="漏水",3,1)) -> 1
AQ29: =IF(P34="材質劣化",2,IF(P34="漏水",3,1)) -> 1
AQ30: =IF(P30="材質劣化",2,IF(P30="漏水",3,1)) -> 1
AQ31: =IF(P33="材質劣化",2,IF(P33="漏水",3,1)) -> 1
AQ32: =IF(P37="材質劣化",2,IF(P37="漏水",3,1)) -> 1
AQ33: =IF(P33="材質劣化",2,IF(P33="漏水",3,1)) -> 1
AQ34: =IF(P36="材質劣化",2,IF(P36="漏水",3,1)) -> 1
K35: 集計 判定 診断 | L35: 変状の発生規模合計(㎡) | Y35: － | AC35: =SUM(AC11:AC34) -> 0 | AD35: =SUM(AD11:AD34) -> 0 | AE35: =SUM(AE11:AE34) -> 0 | AF35: =SUM(AF11:AF34) -> 0 | AG35: =SUM(AG11:AG34) -> 0 | AH35: =SUM(AH11:AH34) -> 0 | AI35: =SUM(AI11:AI34) -> 0 | AJ35: =SUM(AJ11:AJ34) -> 0 | AK35: 覆工スパン単位の 健全性の 診断の区分 | AM35: Ⅰ
L36: 対策区分の 判定結果 | O36: 対策区分毎の変状数注3 | Y36: Ⅳ | Z36: Ⅲ | AA36: Ⅱa | AB36: Ⅱb | AC36: Ⅳ | AD36: Ⅲ | AE36: Ⅱa | AF36: Ⅱb | AG36: Ⅳ | AH36: Ⅲ | AI36: Ⅱa | AJ36: Ⅱb
Y37: =IF(COUNTIF(Y11:Y34,"〇")>0,"1",0) -> 0 | Z37: =IF(COUNTIF(Z11:Z34,"〇")>0,"1",0) -> 0 | AA37: =IF(COUNTIF(AA11:AA34,"〇")>0,"1",0) -> 0 | AB37: =IF(COUNTIF(AB11:AB34,"〇")>0,"1",0) -> 0 | AC37: =COUNTA(AC11:AC34) -> 0 | AD37: =COUNTA(AD11:AD34) -> 0 | AE37: =COUNTA(AE11:AE34) -> 0 | AF37: =COUNTA(AF11:AF34) -> 0 | AG37: =COUNTA(AG11:AG34) -> 0 | AH37: =COUNTA(AH11:AH34) -> 0 | AI37: =COUNTA(AI11:AI34) -> 0 | AJ37: =COUNTA(AJ11:AJ34) -> 0
K39: 所見
K43: 注1：誤記入防止のため、当該変状区分以外のセルは灰色表示とすること。
K44: 注2：応急措置を実施した場合は、その詳細を備考に記載すること。
K45: 注3：外力は覆工スパン単位、材質劣化、漏水は変状単位とすること。
B46: （以下、印刷不要）
B47: ※1：本シートは作成洩れのないよう、変状が無くても全スパン分を作成すること．また変状展開図は、様式D-2-1、様式D-2-1'と同じものを覆工スパン単位で拡大し掲載すること。
B48: ※2：変状番号は、様式D-1-1で記入した番号と整合させること。
B49: ※3：対策区分毎の変状発生規模は、様式D-1-1に記載した面積を記入すること（ただし外力はスパン単位で評価するため変状の有無の欄には面積でなく○を記入し、備考欄に状況を記入）。
B50: ※4：本様式は覆工スパン毎に作成すること。
B51: ※5：変状数が多い場合は、適時、表の行を増やして覆工スパン毎に1枚のシートに収めること。また、1スパン１シートとし、スパンに合わせてシートを追加すること。
B52: ※6：対策区分毎の変状の発生範囲の規模とは，対策を行う際に参考となる変状の長さや面積であり，変状を包含する長さや面積とする。
B53: ※7：対策範囲を示す発生範囲の規模を面積で記入することが妥当ではない変状は、発生範囲の規模の欄に○を記入するとともに、備考に内容を記入すること。

Sheet 様式D-3_S014
AU1: 様式F用→ | AV1: 覆工スパン | AY1: 変 状 数 | BK1: 変 状 規 模
AV2: 番号 | AW2: 延長 （ｍ） | AX2: 健全性の診断の 区分 | AY2: 対策区分の判定 | BK2: 覆工スパン長（ｍ） | BO2: 変状の発生範囲の規模（㎡）
B3: ■定期点検記録様式 覆工スパン別変状詳細展開図 【様式D-3】 | AY3: 外力 | BC3: 材質劣化 | BG3: 漏水 | BK3: 外力 注2 | BO3: 材質劣化 | BS3: 漏水
B4: フリガナ | E4: ='様式A-1'!$D$3 -> ワキトンネル | K4: 路線名 | N4: ='様式A-1'!$J$3 -> 一般県道北中山岩国線 | T4: 定期点検実施者 | Y4: =+'様式B (1)'!$S$3 -> 復建調査設計株式会社 | AG4: 定期点検年月日 | AK4: =+'様式B (1)'!$P$2 -> 45860 | AY4: Ⅳ | AZ4: Ⅲ | BA4: Ⅱa | BB4: Ⅱb | BC4: Ⅳ | BD4: Ⅲ | BE4: Ⅱa | BF4: Ⅱb | BG4: Ⅳ | BH4: Ⅲ | BI4: Ⅱa | BJ4: Ⅱb | BK4: Ⅳ | BL4: Ⅲ | BM4: Ⅱa | BN4: Ⅱb | BO4: Ⅳ | BP4: Ⅲ | BQ4: Ⅱa | BR4: Ⅱb | BS4: Ⅳ | BT4: Ⅲ | BU4: Ⅱa | BV4: Ⅱb
B5: 名 称 | E5: ='様式A-1'!$D$4 -> 和木トンネル | K5: 管理者名 | N5: ='様式A-1'!$R$3 -> 山口県岩国土木建築事務所 | Y5: =+'様式B (1)'!$S$4 -> 小笠原洋 | AV5: =N7 -> S014 | AW5: =R7 -> 9 | AX5: =AM35 -> Ⅰ | AY5: =Y37 -> 0 | AZ5: =Z37 -> 0 | BA5: =AA37 -> 0 | BB5: =AB37 -> 0 | BC5: =AC37 -> 0 | BD5: =AD37 -> 0 | BE5: =AE37 -> 0 | BF5: =AF37 -> 0 | ... BJ5: =AJ37 -> 0 | BK5: =IF(Y37>0,R7,"") | BL5: =IF(Y37>0,"",IF(Z37>0,R7,"")) | BM5: =IF(Y37+Z37>0,"",IF(AA37>0,R7,"")) | BN5: =IF(Y37+Z37+AA37>0,"",IF(AB37>0,R7,"")) | BO5: =AC35 -> 0 | BP5: =AD35 -> 0 | BQ5: =AE35 -> 0 | BR5: =AF35 -> 0 | BS5: =AG35 -> 0 | BT5: =AH35 -> 0 | BU5: =AI35 -> 0 | BV5: =AJ35 -> 0
B6: スパン別変状展開図 | K6: 【健全性判定集計表】
K7: スパン番号 | N7: S014 | P7: スパン長 | R7: 9 | U7: 前回定期点検時の判定 | W7: 応急措置前の判定 | Y7: 対策区分毎の 変状の有無 | AC7: 対策区分毎の変状の発生範囲の規模(㎡) | AK7: 備考注2
K8: 変状番号 | L8: 対象箇所 | N8: 部位区分 | P8: 変状区分 | R8: 変状種類
Y9: 外力注1 | AC9: 材質劣化注1 | AG9: 漏水注1
Y10: Ⅳ | Z10: Ⅲ | AA10: Ⅱa | AB10: Ⅱb | AC10: Ⅳ | AD10: Ⅲ | AE10: Ⅱa | AF10: Ⅱb | AG10: Ⅳ | AH10: Ⅲ | AI10: Ⅱa | AJ10: Ⅱb
AQ11: =IF(P11="材質劣化",2,IF(P11="漏水",3,1)) -> 1 | AS11: =IF(Y11<>"",1,"")
AQ12: =IF(P12="材質劣化",2,IF(P12="漏水",3,1)) -> 1
AQ13: =IF(P13="材質劣化",2,IF(P13="漏水",3,1)) -> 1
AQ14: =IF(P14="材質劣化",2,IF(P14="漏水",3,1)) -> 1
AQ15: =IF(P15="材質劣化",2,IF(P15="漏水",3,1)) -> 1
AQ16: =IF(P16="材質劣化",2,IF(P16="漏水",3,1)) -> 1
AQ17: =IF(P17="材質劣化",2,IF(P17="漏水",3,1)) -> 1
AQ18: =IF(P18="材質劣化",2,IF(P18="漏水",3,1)) -> 1
AQ19: =IF(P19="材質劣化",2,IF(P19="漏水",3,1)) -> 1
AQ20: =IF(P20="材質劣化",2,IF(P20="漏水",3,1)) -> 1
AQ21: =IF(P21="材質劣化",2,IF(P21="漏水",3,1)) -> 1
AQ22: =IF(P22="材質劣化",2,IF(P22="漏水",3,1)) -> 1
AQ23: =IF(P23="材質劣化",2,IF(P23="漏水",3,1)) -> 1
... AQ27: =IF(P27="材質劣化",2,IF(P27="漏水",3,1)) -> 1
AQ28: =IF(P30="材質劣化",2,IF(P30="漏水",3,1)) -> 1
AQ29: =IF(P34="材質劣化",2,IF(P34="漏水",3,1)) -> 1
AQ30: =IF(P30="材質劣化",2,IF(P30="漏水",3,1)) -> 1
AQ31: =IF(P33="材質劣化",2,IF(P33="漏水",3,1)) -> 1
AQ32: =IF(P37="材質劣化",2,IF(P37="漏水",3,1)) -> 1
AQ33: =IF(P33="材質劣化",2,IF(P33="漏水",3,1)) -> 1
AQ34: =IF(P36="材質劣化",2,IF(P36="漏水",3,1)) -> 1
K35: 集計 判定 診断 | L35: 変状の発生規模合計(㎡) | Y35: － | AC35: =SUM(AC11:AC34) -> 0 | AD35: =SUM(AD11:AD34) -> 0 | AE35: =SUM(AE11:AE34) -> 0 | AF35: =SUM(AF11:AF34) -> 0 | AG35: =SUM(AG11:AG34) -> 0 | AH35: =SUM(AH11:AH34) -> 0 | AI35: =SUM(AI11:AI34) -> 0 | AJ35: =SUM(AJ11:AJ34) -> 0 | AK35: 覆工スパン単位の 健全性の 診断の区分 | AM35: Ⅰ
L36: 対策区分の 判定結果 | O36: 対策区分毎の変状数注3 | Y36: Ⅳ | Z36: Ⅲ | AA36: Ⅱa | AB36: Ⅱb | AC36: Ⅳ | AD36: Ⅲ | AE36: Ⅱa | AF36: Ⅱb | AG36: Ⅳ | AH36: Ⅲ | AI36: Ⅱa | AJ36: Ⅱb
Y37: =IF(COUNTIF(Y11:Y34,"〇")>0,"1",0) -> 0 | Z37: =IF(COUNTIF(Z11:Z34,"〇")>0,"1",0) -> 0 | AA37: =IF(COUNTIF(AA11:AA34,"〇")>0,"1",0) -> 0 | AB37: =IF(COUNTIF(AB11:AB34,"〇")>0,"1",0) -> 0 | AC37: =COUNTA(AC11:AC34) -> 0 | AD37: =COUNTA(AD11:AD34) -> 0 | AE37: =COUNTA(AE11:AE34) -> 0 | AF37: =COUNTA(AF11:AF34) -> 0 | AG37: =COUNTA(AG11:AG34) -> 0 | AH37: =COUNTA(AH11:AH34) -> 0 | AI37: =COUNTA(AI11:AI34) -> 0 | AJ37: =COUNTA(AJ11:AJ34) -> 0
K39: 所見
K43: 注1：誤記入防止のため、当該変状区分以外のセルは灰色表示とすること。
K44: 注2：応急措置を実施した場合は、その詳細を備考に記載すること。
K45: 注3：外力は覆工スパン単位、材質劣化、漏水は変状単位とすること。
B46: （以下、印刷不要）
B47: ※1：本シートは作成洩れのないよう、変状が無くても全スパン分を作成すること．また変状展開図は、様式D-2-1、様式D-2-1'と同じものを覆工スパン単位で拡大し掲載すること。
B48: ※2：変状番号は、様式D-1-1で記入した番号と整合させること。
B49: ※3：対策区分毎の変状発生規模は、様式D-1-1に記載した面積を記入すること（ただし外力はスパン単位で評価するため変状の有無の欄には面積でなく○を記入し、備考欄に状況を記入）。
B50: ※4：本様式は覆工スパン毎に作成すること。
B51: ※5：変状数が多い場合は、適時、表の行を増やして覆工スパン毎に1枚のシートに収めること。また、1スパン１シートとし、スパンに合わせてシートを追加すること。
B52: ※6：対策区分毎の変状の発生範囲の規模とは，対策を行う際に参考となる変状の長さや面積であり，変状を包含する長さや面積とする。
B53: ※7：対策範囲を示す発生範囲の規模を面積で記入することが妥当ではない変状は、発生範囲の規模の欄に○を記入するとともに、備考に内容を記入すること。

Sheet 様式D-3_S015
AU1: 様式F用→ | AV1: 覆工スパン | AY1: 変 状 数 | BK1: 変 状 規 模
AV2: 番号 | AW2: 延長 （ｍ） | AX2: 健全性の診断の 区分 | AY2: 対策区分の判定 | BK2: 覆工スパン長（ｍ） | BO2: 変状の発生範囲の規模（㎡）
B3: ■定期点検記録様式 覆工スパン別変状詳細展開図 【様式D-3】 | AY3: 外力 | BC3: 材質劣化 | BG3: 漏水 | BK3: 外力 注2 | BO3: 材質劣化 | BS3: 漏水
B4: フリガナ | E4: ='様式A-1'!$D$3 -> ワキトンネル | K4: 路線名 | N4: ='様式A-1'!$J$3 -> 一般県道北中山岩国線 | T4: 定期点検実施者 | Y4: =+'様式B (1)'!$S$3 -> 復建調査設計株式会社 | AG4: 定期点検年月日 | AK4: =+'様式B (1)'!$P$2 -> 45860 | AY4: Ⅳ | AZ4: Ⅲ | BA4: Ⅱa | BB4: Ⅱb | BC4: Ⅳ | BD4: Ⅲ | BE4: Ⅱa | BF4: Ⅱb | BG4: Ⅳ | BH4: Ⅲ | BI4: Ⅱa | BJ4: Ⅱb | BK4: Ⅳ | BL4: Ⅲ | BM4: Ⅱa | BN4: Ⅱb | BO4: Ⅳ | BP4: Ⅲ | BQ4: Ⅱa | BR4: Ⅱb | BS4: Ⅳ | BT4: Ⅲ | BU4: Ⅱa | BV4: Ⅱb
B5: 名 称 | E5: ='様式A-1'!$D$4 -> 和木トンネル | K5: 管理者名 | N5: ='様式A-1'!$R$3 -> 山口県岩国土木建築事務所 | Y5: =+'様式B (1)'!$S$4 -> 小笠原洋 | AV5: =N7 -> S015 | AW5: =R7 -> 9 | AX5: =AM35 -> Ⅰ | AY5: =Y37 -> 0 | AZ5: =Z37 -> 0 | BA5: =AA37 -> 0 | BB5: =AB37 -> 0 | BC5: =AC37 -> 0 | BD5: =AD37 -> 0 | BE5: =AE37 -> 0 | BF5: =AF37 -> 0 | ... BJ5: =AJ37 -> 0 | BK5: =IF(Y37>0,R7,"") | BL5: =IF(Y37>0,"",IF(Z37>0,R7,"")) | BM5: =IF(Y37+Z37>0,"",IF(AA37>0,R7,"")) | BN5: =IF(Y37+Z37+AA37>0,"",IF(AB37>0,R7,"")) | BO5: =AC35 -> 0 | BP5: =AD35 -> 0 | BQ5: =AE35 -> 0 | BR5: =AF35 -> 0 | BS5: =AG35 -> 0 | BT5: =AH35 -> 0 | BU5: =AI35 -> 0 | BV5: =AJ35 -> 0
B6: スパン別変状展開図 | K6: 【健全性判定集計表】
K7: スパン番号 | N7: S015 | P7: スパン長 | R7: 9 | U7: 前回定期点検時の判定 | W7: 応急措置前の判定 | Y7: 対策区分毎の 変状の有無 | AC7: 対策区分毎の変状の発生範囲の規模(㎡) | AK7: 備考注2
K8: 変状番号 | L8: 対象箇所 | N8: 部位区分 | P8: 変状区分 | R8: 変状種類
Y9: 外力注1 | AC9: 材質劣化注1 | AG9: 漏水注1
Y10: Ⅳ | Z10: Ⅲ | AA10: Ⅱa | AB10: Ⅱb | AC10: Ⅳ | AD10: Ⅲ | AE10: Ⅱa | AF10: Ⅱb | AG10: Ⅳ | AH10: Ⅲ | AI10: Ⅱa | AJ10: Ⅱb
AQ11: =IF(P11="材質劣化",2,IF(P11="漏水",3,1)) -> 1 | AS11: =IF(Y11<>"",1,"")
AQ12: =IF(P12="材質劣化",2,IF(P12="漏水",3,1)) -> 1
AQ13: =IF(P13="材質劣化",2,IF(P13="漏水",3,1)) -> 1
AQ14: =IF(P14="材質劣化",2,IF(P14="漏水",3,1)) -> 1
AQ15: =IF(P15="材質劣化",2,IF(P15="漏水",3,1)) -> 1
AQ16: =IF(P16="材質劣化",2,IF(P16="漏水",3,1)) -> 1
AQ17: =IF(P17="材質劣化",2,IF(P17="漏水",3,1)) -> 1
AQ18: =IF(P18="材質劣化",2,IF(P18="漏水",3,1)) -> 1
AQ19: =IF(P19="材質劣化",2,IF(P19="漏水",3,1)) -> 1
AQ20: =IF(P20="材質劣化",2,IF(P20="漏水",3,1)) -> 1
AQ21: =IF(P21="材質劣化",2,IF(P21="漏水",3,1)) -> 1
AQ22: =IF(P22="材質劣化",2,IF(P22="漏水",3,1)) -> 1
AQ23: =IF(P23="材質劣化",2,IF(P23="漏水",3,1)) -> 1
... AQ27: =IF(P27="材質劣化",2,IF(P27="漏水",3,1)) -> 1
AQ28: =IF(P30="材質劣化",2,IF(P30="漏水",3,1)) -> 1
AQ29: =IF(P34="材質劣化",2,IF(P34="漏水",3,1)) -> 1
AQ30: =IF(P30="材質劣化",2,IF(P30="漏水",3,1)) -> 1
AQ31: =IF(P33="材質劣化",2,IF(P33="漏水",3,1)) -> 1
AQ32: =IF(P37="材質劣化",2,IF(P37="漏水",3,1)) -> 1
AQ33: =IF(P33="材質劣化",2,IF(P33="漏水",3,1)) -> 1
AQ34: =IF(P36="材質劣化",2,IF(P36="漏水",3,1)) -> 1
K35: 集計 判定 診断 | L35: 変状の発生規模合計(㎡) | Y35: － | AC35: =SUM(AC11:AC34) -> 0 | AD35: =SUM(AD11:AD34) -> 0 | AE35: =SUM(AE11:AE34) -> 0 | AF35: =SUM(AF11:AF34) -> 0 | AG35: =SUM(AG11:AG34) -> 0 | AH35: =SUM(AH11:AH34) -> 0 | AI35: =SUM(AI11:AI34) -> 0 | AJ35: =SUM(AJ11:AJ34) -> 0 | AK35: 覆工スパン単位の 健全性の 診断の区分 | AM35: Ⅰ
L36: 対策区分の 判定結果 | O36: 対策区分毎の変状数注3 | Y36: Ⅳ | Z36: Ⅲ | AA36: Ⅱa | AB36: Ⅱb | AC36: Ⅳ | AD36: Ⅲ | AE36: Ⅱa | AF36: Ⅱb | AG36: Ⅳ | AH36: Ⅲ | AI36: Ⅱa | AJ36: Ⅱb
Y37: =IF(COUNTIF(Y11:Y34,"〇")>0,"1",0) -> 0 | Z37: =IF(COUNTIF(Z11:Z34,"〇")>0,"1",0) -> 0 | AA37: =IF(COUNTIF(AA11:AA34,"〇")>0,"1",0) -> 0 | AB37: =IF(COUNTIF(AB11:AB34,"〇")>0,"1",0) -> 0 | AC37: =COUNTA(AC11:AC34) -> 0 | AD37: =COUNTA(AD11:AD34) -> 0 | AE37: =COUNTA(AE11:AE34) -> 0 | AF37: =COUNTA(AF11:AF34) -> 0 | AG37: =COUNTA(AG11:AG34) -> 0 | AH37: =COUNTA(AH11:AH34) -> 0 | AI37: =COUNTA(AI11:AI34) -> 0 | AJ37: =COUNTA(AJ11:AJ34) -> 0
K39: 所見
K43: 注1：誤記入防止のため、当該変状区分以外のセルは灰色表示とすること。
K44: 注2：応急措置を実施した場合は、その詳細を備考に記載すること。
K45: 注3：外力は覆工スパン単位、材質劣化、漏水は変状単位とすること。
B46: （以下、印刷不要）
B47: ※1：本シートは作成洩れのないよう、変状が無くても全スパン分を作成すること．また変状展開図は、様式D-2-1、様式D-2-1'と同じものを覆工スパン単位で拡大し掲載すること。
B48: ※2：変状番号は、様式D-1-1で記入した番号と整合させること。
B49: ※3：対策区分毎の変状発生規模は、様式D-1-1に記載した面積を記入すること（ただし外力はスパン単位で評価するため変状の有無の欄には面積でなく○を記入し、備考欄に状況を記入）。
B50: ※4：本様式は覆工スパン毎に作成すること。
B51: ※5：変状数が多い場合は、適時、表の行を増やして覆工スパン毎に1枚のシートに収めること。また、1スパン１シートとし、スパンに合わせてシートを追加すること。
B52: ※6：対策区分毎の変状の発生範囲の規模とは，対策を行う際に参考となる変状の長さや面積であり，変状を包含する長さや面積とする。
B53: ※7：対策範囲を示す発生範囲の規模を面積で記入することが妥当ではない変状は、発生範囲の規模の欄に○を記入するとともに、備考に内容を記入すること。

Sheet 様式D-3_S016
AU1: 様式F用→ | AV1: 覆工スパン | AY1: 変 状 数 | BK1: 変 状 規 模
AV2: 番号 | AW2: 延長 （ｍ） | AX2: 健全性の診断の 区分 | AY2: 対策区分の判定 | BK2: 覆工スパン長（ｍ） | BO2: 変状の発生範囲の規模（㎡）
B3: ■定期点検記録様式 覆工スパン別変状詳細展開図 【様式D-3】 | AY3: 外力 | BC3: 材質劣化 | BG3: 漏水 | BK3: 外力 注2 | BO3: 材質劣化 | BS3: 漏水
B4: フリガナ | E4: ='様式A-1'!$D$3 -> ワキトンネル | K4: 路線名 | N4: ='様式A-1'!$J$3 -> 一般県道北中山岩国線 | T4: 定期点検実施者 | Y4: =+'様式B (1)'!$S$3 -> 復建調査設計株式会社 | AG4: 定期点検年月日 | AK4: =+'様式B (1)'!$P$2 -> 45860 | AY4: Ⅳ | AZ4: Ⅲ | BA4: Ⅱa | BB4: Ⅱb | BC4: Ⅳ | BD4: Ⅲ | BE4: Ⅱa | BF4: Ⅱb | BG4: Ⅳ | BH4: Ⅲ | BI4: Ⅱa | BJ4: Ⅱb | BK4: Ⅳ | BL4: Ⅲ | BM4: Ⅱa | BN4: Ⅱb | BO4: Ⅳ | BP4: Ⅲ | BQ4: Ⅱa | BR4: Ⅱb | BS4: Ⅳ | BT4: Ⅲ | BU4: Ⅱa | BV4: Ⅱb
B5: 名 称 | E5: ='様式A-1'!$D$4 -> 和木トンネル | K5: 管理者名 | N5: ='様式A-1'!$R$3 -> 山口県岩国土木建築事務所 | Y5: =+'様式B (1)'!$S$4 -> 小笠原洋 | AV5: =N7 -> S016 | AW5: =R7 -> 9 | AX5: =AM35 -> Ⅰ | AY5: =Y37 -> 0 | AZ5: =Z37 -> 0 | BA5: =AA37 -> 0 | BB5: =AB37 -> 0 | BC5: =AC37 -> 0 | BD5: =AD37 -> 0 | BE5: =AE37 -> 0 | BF5: =AF37 -> 0 | ... BJ5: =AJ37 -> 0 | BK5: =IF(Y37>0,R7,"") | BL5: =IF(Y37>0,"",IF(Z37>0,R7,"")) | BM5: =IF(Y37+Z37>0,"",IF(AA37>0,R7,"")) | BN5: =IF(Y37+Z37+AA37>0,"",IF(AB37>0,R7,"")) | BO5: =AC35 -> 0 | BP5: =AD35 -> 0 | BQ5: =AE35 -> 0 | BR5: =AF35 -> 0 | BS5: =AG35 -> 0 | BT5: =AH35 -> 0 | BU5: =AI35 -> 0 | BV5: =AJ35 -> 0
B6: スパン別変状展開図 | K6: 【健全性判定集計表】
K7: スパン番号 | N7: S016 | P7: スパン長 | R7: 9 | U7: 前回定期点検時の判定 | W7: 応急措置前の判定 | Y7: 対策区分毎の 変状の有無 | AC7: 対策区分毎の変状の発生範囲の規模(㎡) | AK7: 備考注2
K8: 変状番号 | L8: 対象箇所 | N8: 部位区分 | P8: 変状区分 | R8: 変状種類
Y9: 外力注1 | AC9: 材質劣化注1 | AG9: 漏水注1
Y10: Ⅳ | Z10: Ⅲ | AA10: Ⅱa | AB10: Ⅱb | AC10: Ⅳ | AD10: Ⅲ | AE10: Ⅱa | AF10: Ⅱb | AG10: Ⅳ | AH10: Ⅲ | AI10: Ⅱa | AJ10: Ⅱb
AQ11: =IF(P11="材質劣化",2,IF(P11="漏水",3,1)) -> 1 | AS11: =IF(Y11<>"",1,"")
AQ12: =IF(P12="材質劣化",2,IF(P12="漏水",3,1)) -> 1
AQ13: =IF(P13="材質劣化",2,IF(P13="漏水",3,1)) -> 1
AQ14: =IF(P14="材質劣化",2,IF(P14="漏水",3,1)) -> 1
AQ15: =IF(P15="材質劣化",2,IF(P15="漏水",3,1)) -> 1
AQ16: =IF(P16="材質劣化",2,IF(P16="漏水",3,1)) -> 1
AQ17: =IF(P17="材質劣化",2,IF(P17="漏水",3,1)) -> 1
AQ18: =IF(P18="材質劣化",2,IF(P18="漏水",3,1)) -> 1
AQ19: =IF(P19="材質劣化",2,IF(P19="漏水",3,1)) -> 1
AQ20: =IF(P20="材質劣化",2,IF(P20="漏水",3,1)) -> 1
AQ21: =IF(P21="材質劣化",2,IF(P21="漏水",3,1)) -> 1
AQ22: =IF(P22="材質劣化",2,IF(P22="漏水",3,1)) -> 1
AQ23: =IF(P23="材質劣化",2,IF(P23="漏水",3,1)) -> 1
... AQ27: =IF(P27="材質劣化",2,IF(P27="漏水",3,1)) -> 1
AQ28: =IF(P30="材質劣化",2,IF(P30="漏水",3,1)) -> 1
AQ29: =IF(P34="材質劣化",2,IF(P34="漏水",3,1)) -> 1
AQ30: =IF(P30="材質劣化",2,IF(P30="漏水",3,1)) -> 1
AQ31: =IF(P33="材質劣化",2,IF(P33="漏水",3,1)) -> 1
AQ32: =IF(P37="材質劣化",2,IF(P37="漏水",3,1)) -> 1
AQ33: =IF(P33="材質劣化",2,IF(P33="漏水",3,1)) -> 1
AQ34: =IF(P36="材質劣化",2,IF(P36="漏水",3,1)) -> 1
K35: 集計 判定 診断 | L35: 変状の発生規模合計(㎡) | Y35: － | AC35: =SUM(AC11:AC34) -> 0 | AD35: =SUM(AD11:AD34) -> 0 | AE35: =SUM(AE11:AE34) -> 0 | AF35: =SUM(AF11:AF34) -> 0 | AG35: =SUM(AG11:AG34) -> 0 | AH35: =SUM(AH11:AH34) -> 0 | AI35: =SUM(AI11:AI34) -> 0 | AJ35: =SUM(AJ11:AJ34) -> 0 | AK35: 覆工スパン単位の 健全性の 診断の区分 | AM35: Ⅰ
L36: 対策区分の 判定結果 | O36: 対策区分毎の変状数注3 | Y36: Ⅳ | Z36: Ⅲ | AA36: Ⅱa | AB36: Ⅱb | AC36: Ⅳ | AD36: Ⅲ | AE36: Ⅱa | AF36: Ⅱb | AG36: Ⅳ | AH36: Ⅲ | AI36: Ⅱa | AJ36: Ⅱb
Y37: =IF(COUNTIF(Y11:Y34,"〇")>0,"1",0) -> 0 | Z37: =IF(COUNTIF(Z11:Z34,"〇")>0,"1",0) -> 0 | AA37: =IF(COUNTIF(AA11:AA34,"〇")>0,"1",0) -> 0 | AB37: =IF(COUNTIF(AB11:AB34,"〇")>0,"1",0) -> 0 | AC37: =COUNTA(AC11:AC34) -> 0 | AD37: =COUNTA(AD11:AD34) -> 0 | AE37: =COUNTA(AE11:AE34) -> 0 | AF37: =COUNTA(AF11:AF34) -> 0 | AG37: =COUNTA(AG11:AG34) -> 0 | AH37: =COUNTA(AH11:AH34) -> 0 | AI37: =COUNTA(AI11:AI34) -> 0 | AJ37: =COUNTA(AJ11:AJ34) -> 0
K39: 所見
K43: 注1：誤記入防止のため、当該変状区分以外のセルは灰色表示とすること。
K44: 注2：応急措置を実施した場合は、その詳細を備考に記載すること。
K45: 注3：外力は覆工スパン単位、材質劣化、漏水は変状単位とすること。
B46: （以下、印刷不要）
B47: ※1：本シートは作成洩れのないよう、変状が無くても全スパン分を作成すること．また変状展開図は、様式D-2-1、様式D-2-1'と同じものを覆工スパン単位で拡大し掲載すること。
B48: ※2：変状番号は、様式D-1-1で記入した番号と整合させること。
B49: ※3：対策区分毎の変状発生規模は、様式D-1-1に記載した面積を記入すること（ただし外力はスパン単位で評価するため変状の有無の欄には面積でなく○を記入し、備考欄に状況を記入）。
B50: ※4：本様式は覆工スパン毎に作成すること。
B51: ※5：変状数が多い場合は、適時、表の行を増やして覆工スパン毎に1枚のシートに収めること。また、1スパン１シートとし、スパンに合わせてシートを追加すること。
B52: ※6：対策区分毎の変状の発生範囲の規模とは，対策を行う際に参考となる変状の長さや面積であり，変状を包含する長さや面積とする。
B53: ※7：対策範囲を示す発生範囲の規模を面積で記入することが妥当ではない変状は、発生範囲の規模の欄に○を記入するとともに、備考に内容を記入すること。

Sheet 様式D-3_S017
AU1: 様式F用→ | AV1: 覆工スパン | AY1: 変 状 数 | BK1: 変 状 規 模
AV2: 番号 | AW2: 延長 （ｍ） | AX2: 健全性の診断の 区分 | AY2: 対策区分の判定 | BK2: 覆工スパン長（ｍ） | BO2: 変状の発生範囲の規模（㎡）
B3: ■定期点検記録様式 覆工スパン別変状詳細展開図 【様式D-3】 | AY3: 外力 | BC3: 材質劣化 | BG3: 漏水 | BK3: 外力 注2 | BO3: 材質劣化 | BS3: 漏水
B4: フリガナ | E4: ='様式A-1'!$D$3 -> ワキトンネル | K4: 路線名 | N4: ='様式A-1'!$J$3 -> 一般県道北中山岩国線 | T4: 定期点検実施者 | Y4: =+'様式B (1)'!$S$3 -> 復建調査設計株式会社 | AG4: 定期点検年月日 | AK4: =+'様式B (1)'!$P$2 -> 45860 | AY4: Ⅳ | AZ4: Ⅲ | BA4: Ⅱa | BB4: Ⅱb | BC4: Ⅳ | BD4: Ⅲ | BE4: Ⅱa | BF4: Ⅱb | BG4: Ⅳ | BH4: Ⅲ | BI4: Ⅱa | BJ4: Ⅱb | BK4: Ⅳ | BL4: Ⅲ | BM4: Ⅱa | BN4: Ⅱb | BO4: Ⅳ | BP4: Ⅲ | BQ4: Ⅱa | BR4: Ⅱb | BS4: Ⅳ | BT4: Ⅲ | BU4: Ⅱa | BV4: Ⅱb
B5: 名 称 | E5: ='様式A-1'!$D$4 -> 和木トンネル | K5: 管理者名 | N5: ='様式A-1'!$R$3 -> 山口県岩国土木建築事務所 | Y5: =+'様式B (1)'!$S$4 -> 小笠原洋 | AV5: =N7 -> S017 | AW5: =R7 -> 9 | AX5: =AM35 -> Ⅰ | AY5: =Y37 -> 0 | AZ5: =Z37 -> 0 | BA5: =AA37 -> 0 | BB5: =AB37 -> 0 | BC5: =AC37 -> 0 | BD5: =AD37 -> 0 | BE5: =AE37 -> 0 | BF5: =AF37 -> 0 | ... BJ5: =AJ37 -> 0 | BK5: =IF(Y37>0,R7,"") | BL5: =IF(Y37>0,"",IF(Z37>0,R7,"")) | BM5: =IF(Y37+Z37>0,"",IF(AA37>0,R7,"")) | BN5: =IF(Y37+Z37+AA37>0,"",IF(AB37>0,R7,"")) | BO5: =AC35 -> 0 | BP5: =AD35 -> 0 | BQ5: =AE35 -> 0 | BR5: =AF35 -> 0 | BS5: =AG35 -> 0 | BT5: =AH35 -> 0 | BU5: =AI35 -> 0 | BV5: =AJ35 -> 0
B6: スパン別変状展開図 | K6: 【健全性判定集計表】
K7: スパン番号 | N7: S017 | P7: スパン長 | R7: 9 | U7: 前回定期点検時の判定 | W7: 応急措置前の判定 | Y7: 対策区分毎の 変状の有無 | AC7: 対策区分毎の変状の発生範囲の規模(㎡) | AK7: 備考注2
K8: 変状番号 | L8: 対象箇所 | N8: 部位区分 | P8: 変状区分 | R8: 変状種類
Y9: 外力注1 | AC9: 材質劣化注1 | AG9: 漏水注1
Y10: Ⅳ | Z10: Ⅲ | AA10: Ⅱa | AB10: Ⅱb | AC10: Ⅳ | AD10: Ⅲ | AE10: Ⅱa | AF10: Ⅱb | AG10: Ⅳ | AH10: Ⅲ | AI10: Ⅱa | AJ10: Ⅱb
AQ11: =IF(P11="材質劣化",2,IF(P11="漏水",3,1)) -> 1 | AS11: =IF(Y11<>"",1,"")
AQ12: =IF(P12="材質劣化",2,IF(P12="漏水",3,1)) -> 1
AQ13: =IF(P13="材質劣化",2,IF(P13="漏水",3,1)) -> 1
AQ14: =IF(P14="材質劣化",2,IF(P14="漏水",3,1)) -> 1
AQ15: =IF(P15="材質劣化",2,IF(P15="漏水",3,1)) -> 1
AQ16: =IF(P16="材質劣化",2,IF(P16="漏水",3,1)) -> 1
AQ17: =IF(P17="材質劣化",2,IF(P17="漏水",3,1)) -> 1
AQ18: =IF(P18="材質劣化",2,IF(P18="漏水",3,1)) -> 1
AQ19: =IF(P19="材質劣化",2,IF(P19="漏水",3,1)) -> 1
AQ20: =IF(P20="材質劣化",2,IF(P20="漏水",3,1)) -> 1
AQ21: =IF(P21="材質劣化",2,IF(P21="漏水",3,1)) -> 1
AQ22: =IF(P22="材質劣化",2,IF(P22="漏水",3,1)) -> 1
AQ23: =IF(P23="材質劣化",2,IF(P23="漏水",3,1)) -> 1
... AQ27: =IF(P27="材質劣化",2,IF(P27="漏水",3,1)) -> 1
AQ28: =IF(P30="材質劣化",2,IF(P30="漏水",3,1)) -> 1
AQ29: =IF(P34="材質劣化",2,IF(P34="漏水",3,1)) -> 1
AQ30: =IF(P30="材質劣化",2,IF(P30="漏水",3,1)) -> 1
AQ31: =IF(P33="材質劣化",2,IF(P33="漏水",3,1)) -> 1
AQ32: =IF(P37="材質劣化",2,IF(P37="漏水",3,1)) -> 1
AQ33: =IF(P33="材質劣化",2,IF(P33="漏水",3,1)) -> 1
AQ34: =IF(P36="材質劣化",2,IF(P36="漏水",3,1)) -> 1
K35: 集計 判定 診断 | L35: 変状の発生規模合計(㎡) | Y35: － | AC35: =SUM(AC11:AC34) -> 0 | AD35: =SUM(AD11:AD34) -> 0 | AE35: =SUM(AE11:AE34) -> 0 | AF35: =SUM(AF11:AF34) -> 0 | AG35: =SUM(AG11:AG34) -> 0 | AH35: =SUM(AH11:AH34) -> 0 | AI35: =SUM(AI11:AI34) -> 0 | AJ35: =SUM(AJ11:AJ34) -> 0 | AK35: 覆工スパン単位の 健全性の 診断の区分 | AM35: Ⅰ
L36: 対策区分の 判定結果 | O36: 対策区分毎の変状数注3 | Y36: Ⅳ | Z36: Ⅲ | AA36: Ⅱa | AB36: Ⅱb | AC36: Ⅳ | AD36: Ⅲ | AE36: Ⅱa | AF36: Ⅱb | AG36: Ⅳ | AH36: Ⅲ | AI36: Ⅱa | AJ36: Ⅱb
Y37: =IF(COUNTIF(Y11:Y34,"〇")>0,"1",0) -> 0 | Z37: =IF(COUNTIF(Z11:Z34,"〇")>0,"1",0) -> 0 | AA37: =IF(COUNTIF(AA11:AA34,"〇")>0,"1",0) -> 0 | AB37: =IF(COUNTIF(AB11:AB34,"〇")>0,"1",0) -> 0 | AC37: =COUNTA(AC11:AC34) -> 0 | AD37: =COUNTA(AD11:AD34) -> 0 | AE37: =COUNTA(AE11:AE34) -> 0 | AF37: =COUNTA(AF11:AF34) -> 0 | AG37: =COUNTA(AG11:AG34) -> 0 | AH37: =COUNTA(AH11:AH34) -> 0 | AI37: =COUNTA(AI11:AI34) -> 0 | AJ37: =COUNTA(AJ11:AJ34) -> 0
K39: 所見
K43: 注1：誤記入防止のため、当該変状区分以外のセルは灰色表示とすること。
K44: 注2：応急措置を実施した場合は、その詳細を備考に記載すること。
K45: 注3：外力は覆工スパン単位、材質劣化、漏水は変状単位とすること。
B46: （以下、印刷不要）
B47: ※1：本シートは作成洩れのないよう、変状が無くても全スパン分を作成すること．また変状展開図は、様式D-2-1、様式D-2-1'と同じものを覆工スパン単位で拡大し掲載すること。
B48: ※2：変状番号は、様式D-1-1で記入した番号と整合させること。
B49: ※3：対策区分毎の変状発生規模は、様式D-1-1に記載した面積を記入すること（ただし外力はスパン単位で評価するため変状の有無の欄には面積でなく○を記入し、備考欄に状況を記入）。
B50: ※4：本様式は覆工スパン毎に作成すること。
B51: ※5：変状数が多い場合は、適時、表の行を増やして覆工スパン毎に1枚のシートに収めること。また、1スパン１シートとし、スパンに合わせてシートを追加すること。
B52: ※6：対策区分毎の変状の発生範囲の規模とは，対策を行う際に参考となる変状の長さや面積であり，変状を包含する長さや面積とする。
B53: ※7：対策範囲を示す発生範囲の規模を面積で記入することが妥当ではない変状は、発生範囲の規模の欄に○を記入するとともに、備考に内容を記入すること。

Sheet 様式D-3_S018
AU1: 様式F用→ | AV1: 覆工スパン | AY1: 変 状 数 | BK1: 変 状 規 模
AV2: 番号 | AW2: 延長 （ｍ） | AX2: 健全性の診断の 区分 | AY2: 対策区分の判定 | BK2: 覆工スパン長（ｍ） | BO2: 変状の発生範囲の規模（㎡）
B3: ■定期点検記録様式 覆工スパン別変状詳細展開図 【様式D-3】 | AY3: 外力 | BC3: 材質劣化 | BG3: 漏水 | BK3: 外力 注2 | BO3: 材質劣化 | BS3: 漏水
B4: フリガナ | E4: ='様式A-1'!$D$3 -> ワキトンネル | K4: 路線名 | N4: ='様式A-1'!$J$3 -> 一般県道北中山岩国線 | T4: 定期点検実施者 | Y4: =+'様式B (1)'!$S$3 -> 復建調査設計株式会社 | AG4: 定期点検年月日 | AK4: =+'様式B (1)'!$P$2 -> 45860 | AY4: Ⅳ | AZ4: Ⅲ | BA4: Ⅱa | BB4: Ⅱb | BC4: Ⅳ | BD4: Ⅲ | BE4: Ⅱa | BF4: Ⅱb | BG4: Ⅳ | BH4: Ⅲ | BI4: Ⅱa | BJ4: Ⅱb | BK4: Ⅳ | BL4: Ⅲ | BM4: Ⅱa | BN4: Ⅱb | BO4: Ⅳ | BP4: Ⅲ | BQ4: Ⅱa | BR4: Ⅱb | BS4: Ⅳ | BT4: Ⅲ | BU4: Ⅱa | BV4: Ⅱb
B5: 名 称 | E5: ='様式A-1'!$D$4 -> 和木トンネル | K5: 管理者名 | N5: ='様式A-1'!$R$3 -> 山口県岩国土木建築事務所 | Y5: =+'様式B (1)'!$S$4 -> 小笠原洋 | AV5: =N7 -> S018 | AW5: =R7 -> 9 | AX5: =AM35 -> Ⅰ | AY5: =Y37 -> 0 | AZ5: =Z37 -> 0 | BA5: =AA37 -> 0 | BB5: =AB37 -> 0 | BC5: =AC37 -> 0 | BD5: =AD37 -> 0 | BE5: =AE37 -> 0 | BF5: =AF37 -> 0 | ... BJ5: =AJ37 -> 0 | BK5: =IF(Y37>0,R7,"") | BL5: =IF(Y37>0,"",IF(Z37>0,R7,"")) | BM5: =IF(Y37+Z37>0,"",IF(AA37>0,R7,"")) | BN5: =IF(Y37+Z37+AA37>0,"",IF(AB37>0,R7,"")) | BO5: =AC35 -> 0 | BP5: =AD35 -> 0 | BQ5: =AE35 -> 0 | BR5: =AF35 -> 0 | BS5: =AG35 -> 0 | BT5: =AH35 -> 0 | BU5: =AI35 -> 0 | BV5: =AJ35 -> 0
B6: スパン別変状展開図 | K6: 【健全性判定集計表】
K7: スパン番号 | N7: S018 | P7: スパン長 | R7: 9 | U7: 前回定期点検時の判定 | W7: 応急措置前の判定 | Y7: 対策区分毎の 変状の有無 | AC7: 対策区分毎の変状の発生範囲の規模(㎡) | AK7: 備考注2
K8: 変状番号 | L8: 対象箇所 | N8: 部位区分 | P8: 変状区分 | R8: 変状種類
Y9: 外力注1 | AC9: 材質劣化注1 | AG9: 漏水注1
Y10: Ⅳ | Z10: Ⅲ | AA10: Ⅱa | AB10: Ⅱb | AC10: Ⅳ | AD10: Ⅲ | AE10: Ⅱa | AF10: Ⅱb | AG10: Ⅳ | AH10: Ⅲ | AI10: Ⅱa | AJ10: Ⅱb
K11: 1 | L11: 覆工 | N11: アーチ（右側） | R11: その他 | U11: Ⅱb | AK11: 損傷は確認できない | AQ11: =IF(P11="材質劣化",2,IF(P11="漏水",3,1)) -> 1 | AS11: =IF(Y11<>"",1,"")
AQ12: =IF(P12="材質劣化",2,IF(P12="漏水",3,1)) -> 1
AQ13: =IF(P13="材質劣化",2,IF(P13="漏水",3,1)) -> 1
AQ14: =IF(P14="材質劣化",2,IF(P14="漏水",3,1)) -> 1
AQ15: =IF(P15="材質劣化",2,IF(P15="漏水",3,1)) -> 1
AQ16: =IF(P16="材質劣化",2,IF(P16="漏水",3,1)) -> 1
AQ17: =IF(P17="材質劣化",2,IF(P17="漏水",3,1)) -> 1
AQ18: =IF(P18="材質劣化",2,IF(P18="漏水",3,1)) -> 1
AQ19: =IF(P19="材質劣化",2,IF(P19="漏水",3,1)) -> 1
AQ20: =IF(P20="材質劣化",2,IF(P20="漏水",3,1)) -> 1
AQ21: =IF(P21="材質劣化",2,IF(P21="漏水",3,1)) -> 1
AQ22: =IF(P22="材質劣化",2,IF(P22="漏水",3,1)) -> 1
AQ23: =IF(P23="材質劣化",2,IF(P23="漏水",3,1)) -> 1
... AQ27: =IF(P27="材質劣化",2,IF(P27="漏水",3,1)) -> 1
AQ28: =IF(P30="材質劣化",2,IF(P30="漏水",3,1)) -> 1
AQ29: =IF(P34="材質劣化",2,IF(P34="漏水",3,1)) -> 1
AQ30: =IF(P30="材質劣化",2,IF(P30="漏水",3,1)) -> 1
AQ31: =IF(P33="材質劣化",2,IF(P33="漏水",3,1)) -> 1
AQ32: =IF(P37="材質劣化",2,IF(P37="漏水",3,1)) -> 1
AQ33: =IF(P33="材質劣化",2,IF(P33="漏水",3,1)) -> 1
AQ34: =IF(P36="材質劣化",2,IF(P36="漏水",3,1)) -> 1
K35: 集計 判定 診断 | L35: 変状の発生規模合計(㎡) | Y35: － | AC35: =SUM(AC11:AC34) -> 0 | AD35: =SUM(AD11:AD34) -> 0 | AE35: =SUM(AE11:AE34) -> 0 | AF35: =SUM(AF11:AF34) -> 0 | AG35: =SUM(AG11:AG34) -> 0 | AH35: =SUM(AH11:AH34) -> 0 | AI35: =SUM(AI11:AI34) -> 0 | AJ35: =SUM(AJ11:AJ34) -> 0 | AK35: 覆工スパン単位の 健全性の 診断の区分 | AM35: Ⅰ
L36: 対策区分の 判定結果 | O36: 対策区分毎の変状数注3 | Y36: Ⅳ | Z36: Ⅲ | AA36: Ⅱa | AB36: Ⅱb | AC36: Ⅳ | AD36: Ⅲ | AE36: Ⅱa | AF36: Ⅱb | AG36: Ⅳ | AH36: Ⅲ | AI36: Ⅱa | AJ36: Ⅱb
Y37: =IF(COUNTIF(Y11:Y34,"〇")>0,"1",0) -> 0 | Z37: =IF(COUNTIF(Z11:Z34,"〇")>0,"1",0) -> 0 | AA37: =IF(COUNTIF(AA11:AA34,"〇")>0,"1",0) -> 0 | AB37: =IF(COUNTIF(AB11:AB34,"〇")>0,"1",0) -> 0 | AC37: =COUNTA(AC11:AC34) -> 0 | AD37: =COUNTA(AD11:AD34) -> 0 | AE37: =COUNTA(AE11:AE34) -> 0 | AF37: =COUNTA(AF11:AF34) -> 0 | AG37: =COUNTA(AG11:AG34) -> 0 | AH37: =COUNTA(AH11:AH34) -> 0 | AI37: =COUNTA(AI11:AI34) -> 0 | AJ37: =COUNTA(AJ11:AJ34) -> 0
K39: 所見
K43: 注1：誤記入防止のため、当該変状区分以外のセルは灰色表示とすること。
K44: 注2：応急措置を実施した場合は、その詳細を備考に記載すること。
K45: 注3：外力は覆工スパン単位、材質劣化、漏水は変状単位とすること。
B46: （以下、印刷不要）
B47: ※1：本シートは作成洩れのないよう、変状が無くても全スパン分を作成すること．また変状展開図は、様式D-2-1、様式D-2-1'と同じものを覆工スパン単位で拡大し掲載すること。
B48: ※2：変状番号は、様式D-1-1で記入した番号と整合させること。
B49: ※3：対策区分毎の変状発生規模は、様式D-1-1に記載した面積を記入すること（ただし外力はスパン単位で評価するため変状の有無の欄には面積でなく○を記入し、備考欄に状況を記入）。
B50: ※4：本様式は覆工スパン毎に作成すること。
B51: ※5：変状数が多い場合は、適時、表の行を増やして覆工スパン毎に1枚のシートに収めること。また、1スパン１シートとし、スパンに合わせてシートを追加すること。
B52: ※6：対策区分毎の変状の発生範囲の規模とは，対策を行う際に参考となる変状の長さや面積であり，変状を包含する長さや面積とする。
B53: ※7：対策範囲を示す発生範囲の規模を面積で記入することが妥当ではない変状は、発生範囲の規模の欄に○を記入するとともに、備考に内容を記入すること。

Sheet 様式D-3_S019
AU1: 様式F用→ | AV1: 覆工スパン | AY1: 変 状 数 | BK1: 変 状 規 模
AV2: 番号 | AW2: 延長 （ｍ） | AX2: 健全性の診断の 区分 | AY2: 対策区分の判定 | BK2: 覆工スパン長（ｍ） | BO2: 変状の発生範囲の規模（㎡）
B3: ■定期点検記録様式 覆工スパン別変状詳細展開図 【様式D-3】 | AY3: 外力 | BC3: 材質劣化 | BG3: 漏水 | BK3: 外力 注2 | BO3: 材質劣化 | BS3: 漏水
B4: フリガナ | E4: ='様式A-1'!$D$3 -> ワキトンネル | K4: 路線名 | N4: ='様式A-1'!$J$3 -> 一般県道北中山岩国線 | T4: 定期点検実施者 | Y4: =+'様式B (1)'!$S$3 -> 復建調査設計株式会社 | AG4: 定期点検年月日 | AK4: =+'様式B (1)'!$P$2 -> 45860 | AY4: Ⅳ | AZ4: Ⅲ | BA4: Ⅱa | BB4: Ⅱb | BC4: Ⅳ | BD4: Ⅲ | BE4: Ⅱa | BF4: Ⅱb | BG4: Ⅳ | BH4: Ⅲ | BI4: Ⅱa | BJ4: Ⅱb | BK4: Ⅳ | BL4: Ⅲ | BM4: Ⅱa | BN4: Ⅱb | BO4: Ⅳ | BP4: Ⅲ | BQ4: Ⅱa | BR4: Ⅱb | BS4: Ⅳ | BT4: Ⅲ | BU4: Ⅱa | BV4: Ⅱb
B5: 名 称 | E5: ='様式A-1'!$D$4 -> 和木トンネル | K5: 管理者名 | N5: ='様式A-1'!$R$3 -> 山口県岩国土木建築事務所 | Y5: =+'様式B (1)'!$S$4 -> 小笠原洋 | AV5: =N7 -> S019 | AW5: =R7 -> 9 | AX5: =AM35 -> Ⅰ | AY5: =Y37 -> 0 | AZ5: =Z37 -> 0 | BA5: =AA37 -> 0 | BB5: =AB37 -> 0 | BC5: =AC37 -> 0 | BD5: =AD37 -> 0 | BE5: =AE37 -> 0 | BF5: =AF37 -> 0 | ... BJ5: =AJ37 -> 0 | BK5: =IF(Y37>0,R7,"") | BL5: =IF(Y37>0,"",IF(Z37>0,R7,"")) | BM5: =IF(Y37+Z37>0,"",IF(AA37>0,R7,"")) | BN5: =IF(Y37+Z37+AA37>0,"",IF(AB37>0,R7,"")) | BO5: =AC35 -> 0 | BP5: =AD35 -> 0 | BQ5: =AE35 -> 0 | BR5: =AF35 -> 0 | BS5: =AG35 -> 0 | BT5: =AH35 -> 0 | BU5: =AI35 -> 0 | BV5: =AJ35 -> 0
B6: スパン別変状展開図 | K6: 【健全性判定集計表】
K7: スパン番号 | N7: S019 | P7: スパン長 | R7: 9 | U7: 前回定期点検時の判定 | W7: 応急措置前の判定 | Y7: 対策区分毎の 変状の有無 | AC7: 対策区分毎の変状の発生範囲の規模(㎡) | AK7: 備考注2
K8: 変状番号 | L8: 対象箇所 | N8: 部位区分 | P8: 変状区分 | R8: 変状種類
Y9: 外力注1 | AC9: 材質劣化注1 | AG9: 漏水注1
Y10: Ⅳ | Z10: Ⅲ | AA10: Ⅱa | AB10: Ⅱb | AC10: Ⅳ | AD10: Ⅲ | AE10: Ⅱa | AF10: Ⅱb | AG10: Ⅳ | AH10: Ⅲ | AI10: Ⅱa | AJ10: Ⅱb
AQ11: =IF(P11="材質劣化",2,IF(P11="漏水",3,1)) -> 1 | AS11: =IF(Y11<>"",1,"")
AQ12: =IF(P12="材質劣化",2,IF(P12="漏水",3,1)) -> 1
AQ13: =IF(P13="材質劣化",2,IF(P13="漏水",3,1)) -> 1
AQ14: =IF(P14="材質劣化",2,IF(P14="漏水",3,1)) -> 1
AQ15: =IF(P15="材質劣化",2,IF(P15="漏水",3,1)) -> 1
AQ16: =IF(P16="材質劣化",2,IF(P16="漏水",3,1)) -> 1
AQ17: =IF(P17="材質劣化",2,IF(P17="漏水",3,1)) -> 1
AQ18: =IF(P18="材質劣化",2,IF(P18="漏水",3,1)) -> 1
AQ19: =IF(P19="材質劣化",2,IF(P19="漏水",3,1)) -> 1
AQ20: =IF(P20="材質劣化",2,IF(P20="漏水",3,1)) -> 1
AQ21: =IF(P21="材質劣化",2,IF(P21="漏水",3,1)) -> 1
AQ22: =IF(P22="材質劣化",2,IF(P22="漏水",3,1)) -> 1
AQ23: =IF(P23="材質劣化",2,IF(P23="漏水",3,1)) -> 1
... AQ27: =IF(P27="材質劣化",2,IF(P27="漏水",3,1)) -> 1
AQ28: =IF(P30="材質劣化",2,IF(P30="漏水",3,1)) -> 1
AQ29: =IF(P34="材質劣化",2,IF(P34="漏水",3,1)) -> 1
AQ30: =IF(P30="材質劣化",2,IF(P30="漏水",3,1)) -> 1
AQ31: =IF(P33="材質劣化",2,IF(P33="漏水",3,1)) -> 1
AQ32: =IF(P37="材質劣化",2,IF(P37="漏水",3,1)) -> 1
AQ33: =IF(P33="材質劣化",2,IF(P33="漏水",3,1)) -> 1
AQ34: =IF(P36="材質劣化",2,IF(P36="漏水",3,1)) -> 1
K35: 集計 判定 診断 | L35: 変状の発生規模合計(㎡) | Y35: － | AC35: =SUM(AC11:AC34) -> 0 | AD35: =SUM(AD11:AD34) -> 0 | AE35: =SUM(AE11:AE34) -> 0 | AF35: =SUM(AF11:AF34) -> 0 | AG35: =SUM(AG11:AG34) -> 0 | AH35: =SUM(AH11:AH34) -> 0 | AI35: =SUM(AI11:AI34) -> 0 | AJ35: =SUM(AJ11:AJ34) -> 0 | AK35: 覆工スパン単位の 健全性の 診断の区分 | AM35: Ⅰ
L36: 対策区分の 判定結果 | O36: 対策区分毎の変状数注3 | Y36: Ⅳ | Z36: Ⅲ | AA36: Ⅱa | AB36: Ⅱb | AC36: Ⅳ | AD36: Ⅲ | AE36: Ⅱa | AF36: Ⅱb | AG36: Ⅳ | AH36: Ⅲ | AI36: Ⅱa | AJ36: Ⅱb
Y37: =IF(COUNTIF(Y11:Y34,"〇")>0,"1",0) -> 0 | Z37: =IF(COUNTIF(Z11:Z34,"〇")>0,"1",0) -> 0 | AA37: =IF(COUNTIF(AA11:AA34,"〇")>0,"1",0) -> 0 | AB37: =IF(COUNTIF(AB11:AB34,"〇")>0,"1",0) -> 0 | AC37: =COUNTA(AC11:AC34) -> 0 | AD37: =COUNTA(AD11:AD34) -> 0 | AE37: =COUNTA(AE11:AE34) -> 0 | AF37: =COUNTA(AF11:AF34) -> 0 | AG37: =COUNTA(AG11:AG34) -> 0 | AH37: =COUNTA(AH11:AH34) -> 0 | AI37: =COUNTA(AI11:AI34) -> 0 | AJ37: =COUNTA(AJ11:AJ34) -> 0
K39: 所見
K43: 注1：誤記入防止のため、当該変状区分以外のセルは灰色表示とすること。
K44: 注2：応急措置を実施した場合は、その詳細を備考に記載すること。
K45: 注3：外力は覆工スパン単位、材質劣化、漏水は変状単位とすること。
B46: （以下、印刷不要）
B47: ※1：本シートは作成洩れのないよう、変状が無くても全スパン分を作成すること．また変状展開図は、様式D-2-1、様式D-2-1'と同じものを覆工スパン単位で拡大し掲載すること。
B48: ※2：変状番号は、様式D-1-1で記入した番号と整合させること。
B49: ※3：対策区分毎の変状発生規模は、様式D-1-1に記載した面積を記入すること（ただし外力はスパン単位で評価するため変状の有無の欄には面積でなく○を記入し、備考欄に状況を記入）。
B50: ※4：本様式は覆工スパン毎に作成すること。
B51: ※5：変状数が多い場合は、適時、表の行を増やして覆工スパン毎に1枚のシートに収めること。また、1スパン１シートとし、スパンに合わせてシートを追加すること。
B52: ※6：対策区分毎の変状の発生範囲の規模とは，対策を行う際に参考となる変状の長さや面積であり，変状を包含する長さや面積とする。
B53: ※7：対策範囲を示す発生範囲の規模を面積で記入することが妥当ではない変状は、発生範囲の規模の欄に○を記入するとともに、備考に内容を記入すること。

Sheet 様式D-3_S020
AU1: 様式F用→ | AV1: 覆工スパン | AY1: 変 状 数 | BK1: 変 状 規 模
AV2: 番号 | AW2: 延長 （ｍ） | AX2: 健全性の診断の 区分 | AY2: 対策区分の判定 | BK2: 覆工スパン長（ｍ） | BO2: 変状の発生範囲の規模（㎡）
B3: ■定期点検記録様式 覆工スパン別変状詳細展開図 【様式D-3】 | AY3: 外力 | BC3: 材質劣化 | BG3: 漏水 | BK3: 外力 注2 | BO3: 材質劣化 | BS3: 漏水
B4: フリガナ | E4: ='様式A-1'!$D$3 -> ワキトンネル | K4: 路線名 | N4: ='様式A-1'!$J$3 -> 一般県道北中山岩国線 | T4: 定期点検実施者 | Y4: =+'様式B (1)'!$S$3 -> 復建調査設計株式会社 | AG4: 定期点検年月日 | AK4: =+'様式B (1)'!$P$2 -> 45860 | AY4: Ⅳ | AZ4: Ⅲ | BA4: Ⅱa | BB4: Ⅱb | BC4: Ⅳ | BD4: Ⅲ | BE4: Ⅱa | BF4: Ⅱb | BG4: Ⅳ | BH4: Ⅲ | BI4: Ⅱa | BJ4: Ⅱb | BK4: Ⅳ | BL4: Ⅲ | BM4: Ⅱa | BN4: Ⅱb | BO4: Ⅳ | BP4: Ⅲ | BQ4: Ⅱa | BR4: Ⅱb | BS4: Ⅳ | BT4: Ⅲ | BU4: Ⅱa | BV4: Ⅱb
B5: 名 称 | E5: ='様式A-1'!$D$4 -> 和木トンネル | K5: 管理者名 | N5: ='様式A-1'!$R$3 -> 山口県岩国土木建築事務所 | Y5: =+'様式B (1)'!$S$4 -> 小笠原洋 | AV5: =N7 -> S020 | AW5: =R7 -> 9 | AX5: =AM35 -> Ⅱ | AY5: =Y37 -> 0 | AZ5: =Z37 -> 0 | BA5: =AA37 -> 0 | BB5: =AB37 -> 0 | BC5: =AC37 -> 0 | BD5: =AD37 -> 0 | BE5: =AE37 -> 0 | BF5: =AF37 -> 2 | ... BJ5: =AJ37 -> 0 | BK5: =IF(Y37>0,R7,"") | BL5: =IF(Y37>0,"",IF(Z37>0,R7,"")) | BM5: =IF(Y37+Z37>0,"",IF(AA37>0,R7,"")) | BN5: =IF(Y37+Z37+AA37>0,"",IF(AB37>0,R7,"")) | BO5: =AC35 -> 0 | BP5: =AD35 -> 0 | BQ5: =AE35 -> 0 | BR5: =AF35 -> 0.005 | BS5: =AG35 -> 0 | BT5: =AH35 -> 0 | BU5: =AI35 -> 0 | BV5: =AJ35 -> 0
B6: スパン別変状展開図 | K6: 【健全性判定集計表】
K7: スパン番号 | N7: S020 | P7: スパン長 | R7: 9 | U7: 前回定期点検時の判定 | W7: 応急措置前の判定 | Y7: 対策区分毎の 変状の有無 | AC7: 対策区分毎の変状の発生範囲の規模(㎡) | AK7: 備考注2
K8: 変状番号 | L8: 対象箇所 | N8: 部位区分 | P8: 変状区分 | R8: 変状種類
Y9: 外力注1 | AC9: 材質劣化注1 | AG9: 漏水注1
Y10: Ⅳ | Z10: Ⅲ | AA10: Ⅱa | AB10: Ⅱb | AC10: Ⅳ | AD10: Ⅲ | AE10: Ⅱa | AF10: Ⅱb | AG10: Ⅳ | AH10: Ⅲ | AI10: Ⅱa | AJ10: Ⅱb
K11: 1 | L11: 覆工 | N11: アーチ（左側） | P11: 材質劣化 | R11: 鋼材腐食 | U11: Ⅰ | W11: Ⅱb | AF11: 0.0025 | AQ11: =IF(P11="材質劣化",2,IF(P11="漏水",3,1)) -> 2 | AS11: =IF(Y11<>"",1,"")
K12: 2 | L12: 覆工 | N12: アーチ（右側） | P12: 材質劣化 | R12: 鋼材腐食 | U12: － | W12: Ⅱb | AF12: 0.0025 | AQ12: =IF(P12="材質劣化",2,IF(P12="漏水",3,1)) -> 2
K13: 3 | L13: 覆工 | N13: 側壁（右側） | R13: その他 | U13: Ⅱb | AK13: 損傷は確認できない | AQ13: =IF(P13="材質劣化",2,IF(P13="漏水",3,1)) -> 1
AQ14: =IF(P14="材質劣化",2,IF(P14="漏水",3,1)) -> 1
AQ15: =IF(P15="材質劣化",2,IF(P15="漏水",3,1)) -> 1
AQ16: =IF(P16="材質劣化",2,IF(P16="漏水",3,1)) -> 1
AQ17: =IF(P17="材質劣化",2,IF(P17="漏水",3,1)) -> 1
AQ18: =IF(P18="材質劣化",2,IF(P18="漏水",3,1)) -> 1
AQ19: =IF(P19="材質劣化",2,IF(P19="漏水",3,1)) -> 1
AQ20: =IF(P20="材質劣化",2,IF(P20="漏水",3,1)) -> 1
AQ21: =IF(P21="材質劣化",2,IF(P21="漏水",3,1)) -> 1
AQ22: =IF(P22="材質劣化",2,IF(P22="漏水",3,1)) -> 1
AQ23: =IF(P23="材質劣化",2,IF(P23="漏水",3,1)) -> 1
AQ24: =IF(P24="材質劣化",2,IF(P24="漏水",3,1)) -> 1
AQ25: =IF(P25="材質劣化",2,IF(P25="漏水",3,1)) -> 1
... AQ27: =IF(P27="材質劣化",2,IF(P27="漏水",3,1)) -> 1
AQ28: =IF(P30="材質劣化",2,IF(P30="漏水",3,1)) -> 1
AQ29: =IF(P34="材質劣化",2,IF(P34="漏水",3,1)) -> 1
AQ30: =IF(P30="材質劣化",2,IF(P30="漏水",3,1)) -> 1
AQ31: =IF(P33="材質劣化",2,IF(P33="漏水",3,1)) -> 1
AQ32: =IF(P37="材質劣化",2,IF(P37="漏水",3,1)) -> 1
AQ33: =IF(P33="材質劣化",2,IF(P33="漏水",3,1)) -> 1
AQ34: =IF(P36="材質劣化",2,IF(P36="漏水",3,1)) -> 1
K35: 集計 判定 診断 | L35: 変状の発生規模合計(㎡) | Y35: － | AC35: =SUM(AC11:AC34) -> 0 | AD35: =SUM(AD11:AD34) -> 0 | AE35: =SUM(AE11:AE34) -> 0 | AF35: =SUM(AF11:AF34) -> 0.005 | AG35: =SUM(AG11:AG34) -> 0 | AH35: =SUM(AH11:AH34) -> 0 | AI35: =SUM(AI11:AI34) -> 0 | AJ35: =SUM(AJ11:AJ34) -> 0 | AK35: 覆工スパン単位の 健全性の 診断の区分 | AM35: Ⅱ
L36: 対策区分の 判定結果 | O36: 対策区分毎の変状数注3 | Y36: Ⅳ | Z36: Ⅲ | AA36: Ⅱa | AB36: Ⅱb | AC36: Ⅳ | AD36: Ⅲ | AE36: Ⅱa | AF36: Ⅱb | AG36: Ⅳ | AH36: Ⅲ | AI36: Ⅱa | AJ36: Ⅱb
Y37: =IF(COUNTIF(Y11:Y34,"〇")>0,"1",0) -> 0 | Z37: =IF(COUNTIF(Z11:Z34,"〇")>0,"1",0) -> 0 | AA37: =IF(COUNTIF(AA11:AA34,"〇")>0,"1",0) -> 0 | AB37: =IF(COUNTIF(AB11:AB34,"〇")>0,"1",0) -> 0 | AC37: =COUNTA(AC11:AC34) -> 0 | AD37: =COUNTA(AD11:AD34) -> 0 | AE37: =COUNTA(AE11:AE34) -> 0 | AF37: =COUNTA(AF11:AF34) -> 2 | AG37: =COUNTA(AG11:AG34) -> 0 | AH37: =COUNTA(AH11:AH34) -> 0 | AI37: =COUNTA(AI11:AI34) -> 0 | AJ37: =COUNTA(AJ11:AJ34) -> 0
K39: 所見
K43: 注1：誤記入防止のため、当該変状区分以外のセルは灰色表示とすること。
K44: 注2：応急措置を実施した場合は、その詳細を備考に記載すること。
K45: 注3：外力は覆工スパン単位、材質劣化、漏水は変状単位とすること。
B46: （以下、印刷不要）
B47: ※1：本シートは作成洩れのないよう、変状が無くても全スパン分を作成すること．また変状展開図は、様式D-2-1、様式D-2-1'と同じものを覆工スパン単位で拡大し掲載すること。
B48: ※2：変状番号は、様式D-1-1で記入した番号と整合させること。
B49: ※3：対策区分毎の変状発生規模は、様式D-1-1に記載した面積を記入すること（ただし外力はスパン単位で評価するため変状の有無の欄には面積でなく○を記入し、備考欄に状況を記入）。
B50: ※4：本様式は覆工スパン毎に作成すること。
B51: ※5：変状数が多い場合は、適時、表の行を増やして覆工スパン毎に1枚のシートに収めること。また、1スパン１シートとし、スパンに合わせてシートを追加すること。
B52: ※6：対策区分毎の変状の発生範囲の規模とは，対策を行う際に参考となる変状の長さや面積であり，変状を包含する長さや面積とする。
B53: ※7：対策範囲を示す発生範囲の規模を面積で記入することが妥当ではない変状は、発生範囲の規模の欄に○を記入するとともに、備考に内容を記入すること。

Sheet 様式D-3_S021
AU1: 様式F用→ | AV1: 覆工スパン | AY1: 変 状 数 | BK1: 変 状 規 模
AV2: 番号 | AW2: 延長 （ｍ） | AX2: 健全性の診断の 区分 | AY2: 対策区分の判定 | BK2: 覆工スパン長（ｍ） | BO2: 変状の発生範囲の規模（㎡）
B3: ■定期点検記録様式 覆工スパン別変状詳細展開図 【様式D-3】 | AY3: 外力 | BC3: 材質劣化 | BG3: 漏水 | BK3: 外力 注2 | BO3: 材質劣化 | BS3: 漏水
B4: フリガナ | E4: ='様式A-1'!$D$3 -> ワキトンネル | K4: 路線名 | N4: ='様式A-1'!$J$3 -> 一般県道北中山岩国線 | T4: 定期点検実施者 | Y4: =+'様式B (1)'!$S$3 -> 復建調査設計株式会社 | AG4: 定期点検年月日 | AK4: =+'様式B (1)'!$P$2 -> 45860 | AY4: Ⅳ | AZ4: Ⅲ | BA4: Ⅱa | BB4: Ⅱb | BC4: Ⅳ | BD4: Ⅲ | BE4: Ⅱa | BF4: Ⅱb | BG4: Ⅳ | BH4: Ⅲ | BI4: Ⅱa | BJ4: Ⅱb | BK4: Ⅳ | BL4: Ⅲ | BM4: Ⅱa | BN4: Ⅱb | BO4: Ⅳ | BP4: Ⅲ | BQ4: Ⅱa | BR4: Ⅱb | BS4: Ⅳ | BT4: Ⅲ | BU4: Ⅱa | BV4: Ⅱb
B5: 名 称 | E5: ='様式A-1'!$D$4 -> 和木トンネル | K5: 管理者名 | N5: ='様式A-1'!$R$3 -> 山口県岩国土木建築事務所 | Y5: =+'様式B (1)'!$S$4 -> 小笠原洋 | AV5: =N7 -> S021 | AW5: =R7 -> 9 | AX5: =AM35 -> Ⅰ | AY5: =Y37 -> 0 | AZ5: =Z37 -> 0 | BA5: =AA37 -> 0 | BB5: =AB37 -> 0 | BC5: =AC37 -> 0 | BD5: =AD37 -> 0 | BE5: =AE37 -> 0 | BF5: =AF37 -> 0 | ... BJ5: =AJ37 -> 0 | BK5: =IF(Y37>0,R7,"") | BL5: =IF(Y37>0,"",IF(Z37>0,R7,"")) | BM5: =IF(Y37+Z37>0,"",IF(AA37>0,R7,"")) | BN5: =IF(Y37+Z37+AA37>0,"",IF(AB37>0,R7,"")) | BO5: =AC35 -> 0 | BP5: =AD35 -> 0 | BQ5: =AE35 -> 0 | BR5: =AF35 -> 0 | BS5: =AG35 -> 0 | BT5: =AH35 -> 0 | BU5: =AI35 -> 0 | BV5: =AJ35 -> 0
B6: スパン別変状展開図 | K6: 【健全性判定集計表】
K7: スパン番号 | N7: S021 | P7: スパン長 | R7: 9 | U7: 前回定期点検時の判定 | W7: 応急措置前の判定 | Y7: 対策区分毎の 変状の有無 | AC7: 対策区分毎の変状の発生範囲の規模(㎡) | AK7: 備考注2
K8: 変状番号 | L8: 対象箇所 | N8: 部位区分 | P8: 変状区分 | R8: 変状種類
Y9: 外力注1 | AC9: 材質劣化注1 | AG9: 漏水注1
Y10: Ⅳ | Z10: Ⅲ | AA10: Ⅱa | AB10: Ⅱb | AC10: Ⅳ | AD10: Ⅲ | AE10: Ⅱa | AF10: Ⅱb | AG10: Ⅳ | AH10: Ⅲ | AI10: Ⅱa | AJ10: Ⅱb
K11: 1 | L11: 覆工 | N11: 側壁（左側） | R11: その他 | U11: Ⅱb | AK11: 損傷は確認できない | AQ11: =IF(P11="材質劣化",2,IF(P11="漏水",3,1)) -> 1 | AS11: =IF(Y11<>"",1,"")
K12: 2 | L12: 覆工 | N12: アーチ（右側） | R12: その他 | U12: Ⅱb | AK12: 損傷は確認できない | AQ12: =IF(P12="材質劣化",2,IF(P12="漏水",3,1)) -> 1
AQ13: =IF(P13="材質劣化",2,IF(P13="漏水",3,1)) -> 1
AQ14: =IF(P14="材質劣化",2,IF(P14="漏水",3,1)) -> 1
AQ15: =IF(P15="材質劣化",2,IF(P15="漏水",3,1)) -> 1
AQ16: =IF(P16="材質劣化",2,IF(P16="漏水",3,1)) -> 1
AQ17: =IF(P17="材質劣化",2,IF(P17="漏水",3,1)) -> 1
AQ18: =IF(P18="材質劣化",2,IF(P18="漏水",3,1)) -> 1
AQ19: =IF(P19="材質劣化",2,IF(P19="漏水",3,1)) -> 1
AQ20: =IF(P20="材質劣化",2,IF(P20="漏水",3,1)) -> 1
AQ21: =IF(P21="材質劣化",2,IF(P21="漏水",3,1)) -> 1
AQ22: =IF(P22="材質劣化",2,IF(P22="漏水",3,1)) -> 1
AQ23: =IF(P23="材質劣化",2,IF(P23="漏水",3,1)) -> 1
AQ24: =IF(P24="材質劣化",2,IF(P24="漏水",3,1)) -> 1
... AQ27: =IF(P27="材質劣化",2,IF(P27="漏水",3,1)) -> 1
AQ28: =IF(P30="材質劣化",2,IF(P30="漏水",3,1)) -> 1
AQ29: =IF(P34="材質劣化",2,IF(P34="漏水",3,1)) -> 1
AQ30: =IF(P30="材質劣化",2,IF(P30="漏水",3,1)) -> 1
AQ31: =IF(P33="材質劣化",2,IF(P33="漏水",3,1)) -> 1
AQ32: =IF(P37="材質劣化",2,IF(P37="漏水",3,1)) -> 1
AQ33: =IF(P33="材質劣化",2,IF(P33="漏水",3,1)) -> 1
AQ34: =IF(P36="材質劣化",2,IF(P36="漏水",3,1)) -> 1
K35: 集計 判定 診断 | L35: 変状の発生規模合計(㎡) | Y35: － | AC35: =SUM(AC11:AC34) -> 0 | AD35: =SUM(AD11:AD34) -> 0 | AE35: =SUM(AE11:AE34) -> 0 | AF35: =SUM(AF11:AF34) -> 0 | AG35: =SUM(AG11:AG34) -> 0 | AH35: =SUM(AH11:AH34) -> 0 | AI35: =SUM(AI11:AI34) -> 0 | AJ35: =SUM(AJ11:AJ34) -> 0 | AK35: 覆工スパン単位の 健全性の 診断の区分 | AM35: Ⅰ
L36: 対策区分の 判定結果 | O36: 対策区分毎の変状数注3 | Y36: Ⅳ | Z36: Ⅲ | AA36: Ⅱa | AB36: Ⅱb | AC36: Ⅳ | AD36: Ⅲ | AE36: Ⅱa | AF36: Ⅱb | AG36: Ⅳ | AH36: Ⅲ | AI36: Ⅱa | AJ36: Ⅱb
Y37: =IF(COUNTIF(Y11:Y34,"〇")>0,"1",0) -> 0 | Z37: =IF(COUNTIF(Z11:Z34,"〇")>0,"1",0) -> 0 | AA37: =IF(COUNTIF(AA11:AA34,"〇")>0,"1",0) -> 0 | AB37: =IF(COUNTIF(AB11:AB34,"〇")>0,"1",0) -> 0 | AC37: =COUNTA(AC11:AC34) -> 0 | AD37: =COUNTA(AD11:AD34) -> 0 | AE37: =COUNTA(AE11:AE34) -> 0 | AF37: =COUNTA(AF11:AF34) -> 0 | AG37: =COUNTA(AG11:AG34) -> 0 | AH37: =COUNTA(AH11:AH34) -> 0 | AI37: =COUNTA(AI11:AI34) -> 0 | AJ37: =COUNTA(AJ11:AJ34) -> 0
K39: 所見
K43: 注1：誤記入防止のため、当該変状区分以外のセルは灰色表示とすること。
K44: 注2：応急措置を実施した場合は、その詳細を備考に記載すること。
K45: 注3：外力は覆工スパン単位、材質劣化、漏水は変状単位とすること。
B46: （以下、印刷不要）
B47: ※1：本シートは作成洩れのないよう、変状が無くても全スパン分を作成すること．また変状展開図は、様式D-2-1、様式D-2-1'と同じものを覆工スパン単位で拡大し掲載すること。
B48: ※2：変状番号は、様式D-1-1で記入した番号と整合させること。
B49: ※3：対策区分毎の変状発生規模は、様式D-1-1に記載した面積を記入すること（ただし外力はスパン単位で評価するため変状の有無の欄には面積でなく○を記入し、備考欄に状況を記入）。
B50: ※4：本様式は覆工スパン毎に作成すること。
B51: ※5：変状数が多い場合は、適時、表の行を増やして覆工スパン毎に1枚のシートに収めること。また、1スパン１シートとし、スパンに合わせてシートを追加すること。
B52: ※6：対策区分毎の変状の発生範囲の規模とは，対策を行う際に参考となる変状の長さや面積であり，変状を包含する長さや面積とする。
B53: ※7：対策範囲を示す発生範囲の規模を面積で記入することが妥当ではない変状は、発生範囲の規模の欄に○を記入するとともに、備考に内容を記入すること。

Sheet 様式D-3_S022
AU1: 様式F用→ | AV1: 覆工スパン | AY1: 変 状 数 | BK1: 変 状 規 模
AV2: 番号 | AW2: 延長 （ｍ） | AX2: 健全性の診断の 区分 | AY2: 対策区分の判定 | BK2: 覆工スパン長（ｍ） | BO2: 変状の発生範囲の規模（㎡）
B3: ■定期点検記録様式 覆工スパン別変状詳細展開図 【様式D-3】 | AY3: 外力 | BC3: 材質劣化 | BG3: 漏水 | BK3: 外力 注2 | BO3: 材質劣化 | BS3: 漏水
B4: フリガナ | E4: ='様式A-1'!$D$3 -> ワキトンネル | K4: 路線名 | N4: ='様式A-1'!$J$3 -> 一般県道北中山岩国線 | T4: 定期点検実施者 | Y4: =+'様式B (1)'!$S$3 -> 復建調査設計株式会社 | AG4: 定期点検年月日 | AK4: =+'様式B (1)'!$P$2 -> 45860 | AY4: Ⅳ | AZ4: Ⅲ | BA4: Ⅱa | BB4: Ⅱb | BC4: Ⅳ | BD4: Ⅲ | BE4: Ⅱa | BF4: Ⅱb | BG4: Ⅳ | BH4: Ⅲ | BI4: Ⅱa | BJ4: Ⅱb | BK4: Ⅳ | BL4: Ⅲ | BM4: Ⅱa | BN4: Ⅱb | BO4: Ⅳ | BP4: Ⅲ | BQ4: Ⅱa | BR4: Ⅱb | BS4: Ⅳ | BT4: Ⅲ | BU4: Ⅱa | BV4: Ⅱb
B5: 名 称 | E5: ='様式A-1'!$D$4 -> 和木トンネル | K5: 管理者名 | N5: ='様式A-1'!$R$3 -> 山口県岩国土木建築事務所 | Y5: =+'様式B (1)'!$S$4 -> 小笠原洋 | AV5: =N7 -> S022 | AW5: =R7 -> 9 | AX5: =AM35 -> Ⅰ | AY5: =Y37 -> 0 | AZ5: =Z37 -> 0 | BA5: =AA37 -> 0 | BB5: =AB37 -> 0 | BC5: =AC37 -> 0 | BD5: =AD37 -> 0 | BE5: =AE37 -> 0 | BF5: =AF37 -> 0 | ... BJ5: =AJ37 -> 0 | BK5: =IF(Y37>0,R7,"") | BL5: =IF(Y37>0,"",IF(Z37>0,R7,"")) | BM5: =IF(Y37+Z37>0,"",IF(AA37>0,R7,"")) | BN5: =IF(Y37+Z37+AA37>0,"",IF(AB37>0,R7,"")) | BO5: =AC35 -> 0 | BP5: =AD35 -> 0 | BQ5: =AE35 -> 0 | BR5: =AF35 -> 0 | BS5: =AG35 -> 0 | BT5: =AH35 -> 0 | BU5: =AI35 -> 0 | BV5: =AJ35 -> 0
B6: スパン別変状展開図 | K6: 【健全性判定集計表】
K7: スパン番号 | N7: S022 | P7: スパン長 | R7: 9 | U7: 前回定期点検時の判定 | W7: 応急措置前の判定 | Y7: 対策区分毎の 変状の有無 | AC7: 対策区分毎の変状の発生範囲の規模(㎡) | AK7: 備考注2
K8: 変状番号 | L8: 対象箇所 | N8: 部位区分 | P8: 変状区分 | R8: 変状種類
Y9: 外力注1 | AC9: 材質劣化注1 | AG9: 漏水注1
Y10: Ⅳ | Z10: Ⅲ | AA10: Ⅱa | AB10: Ⅱb | AC10: Ⅳ | AD10: Ⅲ | AE10: Ⅱa | AF10: Ⅱb | AG10: Ⅳ | AH10: Ⅲ | AI10: Ⅱa | AJ10: Ⅱb
K11: 1 | L11: 覆工 | N11: アーチ（左側） | R11: その他 | U11: Ⅱb | AK11: 損傷は確認できない | AQ11: =IF(P11="材質劣化",2,IF(P11="漏水",3,1)) -> 1 | AS11: =IF(Y11<>"",1,"")
K12: 2 | L12: 覆工 | N12: アーチ（右側） | R12: その他 | U12: Ⅱb | AK12: 損傷は確認できない | AQ12: =IF(P12="材質劣化",2,IF(P12="漏水",3,1)) -> 1
AQ13: =IF(P13="材質劣化",2,IF(P13="漏水",3,1)) -> 1
AQ14: =IF(P14="材質劣化",2,IF(P14="漏水",3,1)) -> 1
AQ15: =IF(P15="材質劣化",2,IF(P15="漏水",3,1)) -> 1
AQ16: =IF(P16="材質劣化",2,IF(P16="漏水",3,1)) -> 1
AQ17: =IF(P17="材質劣化",2,IF(P17="漏水",3,1)) -> 1
AQ18: =IF(P18="材質劣化",2,IF(P18="漏水",3,1)) -> 1
AQ19: =IF(P19="材質劣化",2,IF(P19="漏水",3,1)) -> 1
AQ20: =IF(P20="材質劣化",2,IF(P20="漏水",3,1)) -> 1
AQ21: =IF(P21="材質劣化",2,IF(P21="漏水",3,1)) -> 1
AQ22: =IF(P22="材質劣化",2,IF(P22="漏水",3,1)) -> 1
AQ23: =IF(P23="材質劣化",2,IF(P23="漏水",3,1)) -> 1
AQ24: =IF(P24="材質劣化",2,IF(P24="漏水",3,1)) -> 1
... AQ27: =IF(P27="材質劣化",2,IF(P27="漏水",3,1)) -> 1
AQ28: =IF(P30="材質劣化",2,IF(P30="漏水",3,1)) -> 1
AQ29: =IF(P34="材質劣化",2,IF(P34="漏水",3,1)) -> 1
AQ30: =IF(P30="材質劣化",2,IF(P30="漏水",3,1)) -> 1
AQ31: =IF(P33="材質劣化",2,IF(P33="漏水",3,1)) -> 1
AQ32: =IF(P37="材質劣化",2,IF(P37="漏水",3,1)) -> 1
AQ33: =IF(P33="材質劣化",2,IF(P33="漏水",3,1)) -> 1
AQ34: =IF(P36="材質劣化",2,IF(P36="漏水",3,1)) -> 1
K35: 集計 判定 診断 | L35: 変状の発生規模合計(㎡) | Y35: － | AC35: =SUM(AC11:AC34) -> 0 | AD35: =SUM(AD11:AD34) -> 0 | AE35: =SUM(AE11:AE34) -> 0 | AF35: =SUM(AF11:AF34) -> 0 | AG35: =SUM(AG11:AG34) -> 0 | AH35: =SUM(AH11:AH34) -> 0 | AI35: =SUM(AI11:AI34) -> 0 | AJ35: =SUM(AJ11:AJ34) -> 0 | AK35: 覆工スパン単位の 健全性の 診断の区分 | AM35: Ⅰ
L36: 対策区分の 判定結果 | O36: 対策区分毎の変状数注3 | Y36: Ⅳ | Z36: Ⅲ | AA36: Ⅱa | AB36: Ⅱb | AC36: Ⅳ | AD36: Ⅲ | AE36: Ⅱa | AF36: Ⅱb | AG36: Ⅳ | AH36: Ⅲ | AI36: Ⅱa | AJ36: Ⅱb
Y37: =IF(COUNTIF(Y11:Y34,"〇")>0,"1",0) -> 0 | Z37: =IF(COUNTIF(Z11:Z34,"〇")>0,"1",0) -> 0 | AA37: =IF(COUNTIF(AA11:AA34,"〇")>0,"1",0) -> 0 | AB37: =IF(COUNTIF(AB11:AB34,"〇")>0,"1",0) -> 0 | AC37: =COUNTA(AC11:AC34) -> 0 | AD37: =COUNTA(AD11:AD34) -> 0 | AE37: =COUNTA(AE11:AE34) -> 0 | AF37: =COUNTA(AF11:AF34) -> 0 | AG37: =COUNTA(AG11:AG34) -> 0 | AH37: =COUNTA(AH11:AH34) -> 0 | AI37: =COUNTA(AI11:AI34) -> 0 | AJ37: =COUNTA(AJ11:AJ34) -> 0
K39: 所見
K43: 注1：誤記入防止のため、当該変状区分以外のセルは灰色表示とすること。
K44: 注2：応急措置を実施した場合は、その詳細を備考に記載すること。
K45: 注3：外力は覆工スパン単位、材質劣化、漏水は変状単位とすること。
B46: （以下、印刷不要）
B47: ※1：本シートは作成洩れのないよう、変状が無くても全スパン分を作成すること．また変状展開図は、様式D-2-1、様式D-2-1'と同じものを覆工スパン単位で拡大し掲載すること。
B48: ※2：変状番号は、様式D-1-1で記入した番号と整合させること。
B49: ※3：対策区分毎の変状発生規模は、様式D-1-1に記載した面積を記入すること（ただし外力はスパン単位で評価するため変状の有無の欄には面積でなく○を記入し、備考欄に状況を記入）。
B50: ※4：本様式は覆工スパン毎に作成すること。
B51: ※5：変状数が多い場合は、適時、表の行を増やして覆工スパン毎に1枚のシートに収めること。また、1スパン１シートとし、スパンに合わせてシートを追加すること。
B52: ※6：対策区分毎の変状の発生範囲の規模とは，対策を行う際に参考となる変状の長さや面積であり，変状を包含する長さや面積とする。
B53: ※7：対策範囲を示す発生範囲の規模を面積で記入することが妥当ではない変状は、発生範囲の規模の欄に○を記入するとともに、備考に内容を記入すること。

Sheet 様式D-3_S023
AU1: 様式F用→ | AV1: 覆工スパン | AY1: 変 状 数 | BK1: 変 状 規 模
AV2: 番号 | AW2: 延長 （ｍ） | AX2: 健全性の診断の 区分 | AY2: 対策区分の判定 | BK2: 覆工スパン長（ｍ） | BO2: 変状の発生範囲の規模（㎡）
B3: ■定期点検記録様式 覆工スパン別変状詳細展開図 【様式D-3】 | AY3: 外力 | BC3: 材質劣化 | BG3: 漏水 | BK3: 外力 注2 | BO3: 材質劣化 | BS3: 漏水
B4: フリガナ | E4: ='様式A-1'!$D$3 -> ワキトンネル | K4: 路線名 | N4: ='様式A-1'!$J$3 -> 一般県道北中山岩国線 | T4: 定期点検実施者 | Y4: =+'様式B (1)'!$S$3 -> 復建調査設計株式会社 | AG4: 定期点検年月日 | AK4: =+'様式B (1)'!$P$2 -> 45860 | AY4: Ⅳ | AZ4: Ⅲ | BA4: Ⅱa | BB4: Ⅱb | BC4: Ⅳ | BD4: Ⅲ | BE4: Ⅱa | BF4: Ⅱb | BG4: Ⅳ | BH4: Ⅲ | BI4: Ⅱa | BJ4: Ⅱb | BK4: Ⅳ | BL4: Ⅲ | BM4: Ⅱa | BN4: Ⅱb | BO4: Ⅳ | BP4: Ⅲ | BQ4: Ⅱa | BR4: Ⅱb | BS4: Ⅳ | BT4: Ⅲ | BU4: Ⅱa | BV4: Ⅱb
B5: 名 称 | E5: ='様式A-1'!$D$4 -> 和木トンネル | K5: 管理者名 | N5: ='様式A-1'!$R$3 -> 山口県岩国土木建築事務所 | Y5: =+'様式B (1)'!$S$4 -> 小笠原洋 | AV5: =N7 -> S023 | AW5: =R7 -> 9 | AX5: =AM35 -> Ⅰ | AY5: =Y37 -> 0 | AZ5: =Z37 -> 0 | BA5: =AA37 -> 0 | BB5: =AB37 -> 0 | BC5: =AC37 -> 0 | BD5: =AD37 -> 0 | BE5: =AE37 -> 0 | BF5: =AF37 -> 0 | ... BJ5: =AJ37 -> 0 | BK5: =IF(Y37>0,R7,"") | BL5: =IF(Y37>0,"",IF(Z37>0,R7,"")) | BM5: =IF(Y37+Z37>0,"",IF(AA37>0,R7,"")) | BN5: =IF(Y37+Z37+AA37>0,"",IF(AB37>0,R7,"")) | BO5: =AC35 -> 0 | BP5: =AD35 -> 0 | BQ5: =AE35 -> 0 | BR5: =AF35 -> 0 | BS5: =AG35 -> 0 | BT5: =AH35 -> 0 | BU5: =AI35 -> 0 | BV5: =AJ35 -> 0
B6: スパン別変状展開図 | K6: 【健全性判定集計表】
K7: スパン番号 | N7: S023 | P7: スパン長 | R7: 9 | U7: 前回定期点検時の判定 | W7: 応急措置前の判定 | Y7: 対策区分毎の 変状の有無 | AC7: 対策区分毎の変状の発生範囲の規模(㎡) | AK7: 備考注2
K8: 変状番号 | L8: 対象箇所 | N8: 部位区分 | P8: 変状区分 | R8: 変状種類
Y9: 外力注1 | AC9: 材質劣化注1 | AG9: 漏水注1
Y10: Ⅳ | Z10: Ⅲ | AA10: Ⅱa | AB10: Ⅱb | AC10: Ⅳ | AD10: Ⅲ | AE10: Ⅱa | AF10: Ⅱb | AG10: Ⅳ | AH10: Ⅲ | AI10: Ⅱa | AJ10: Ⅱb
K11: 1 | L11: 覆工 | N11: 横断目地（左側） | P11: 材質劣化 | R11: うき・はく離 | U11: Ⅱb | W11: Ⅰ | AK11: はく落 | AQ11: =IF(P11="材質劣化",2,IF(P11="漏水",3,1)) -> 2 | AS11: =IF(Y11<>"",1,"")
K12: 2 | L12: 覆工 | N12: 側壁（右側） | R12: その他 | U12: Ⅱb | AK12: 損傷は確認できない | AQ12: =IF(P12="材質劣化",2,IF(P12="漏水",3,1)) -> 1
AQ13: =IF(P13="材質劣化",2,IF(P13="漏水",3,1)) -> 1
AQ14: =IF(P14="材質劣化",2,IF(P14="漏水",3,1)) -> 1
AQ15: =IF(P15="材質劣化",2,IF(P15="漏水",3,1)) -> 1
AQ16: =IF(P16="材質劣化",2,IF(P16="漏水",3,1)) -> 1
AQ17: =IF(P17="材質劣化",2,IF(P17="漏水",3,1)) -> 1
AQ18: =IF(P18="材質劣化",2,IF(P18="漏水",3,1)) -> 1
AQ19: =IF(P19="材質劣化",2,IF(P19="漏水",3,1)) -> 1
AQ20: =IF(P20="材質劣化",2,IF(P20="漏水",3,1)) -> 1
AQ21: =IF(P21="材質劣化",2,IF(P21="漏水",3,1)) -> 1
AQ22: =IF(P22="材質劣化",2,IF(P22="漏水",3,1)) -> 1
AQ23: =IF(P23="材質劣化",2,IF(P23="漏水",3,1)) -> 1
AQ24: =IF(P24="材質劣化",2,IF(P24="漏水",3,1)) -> 1
... AQ27: =IF(P27="材質劣化",2,IF(P27="漏水",3,1)) -> 1
AQ28: =IF(P30="材質劣化",2,IF(P30="漏水",3,1)) -> 1
AQ29: =IF(P34="材質劣化",2,IF(P34="漏水",3,1)) -> 1
AQ30: =IF(P30="材質劣化",2,IF(P30="漏水",3,1)) -> 1
AQ31: =IF(P33="材質劣化",2,IF(P33="漏水",3,1)) -> 1
AQ32: =IF(P37="材質劣化",2,IF(P37="漏水",3,1)) -> 1
AQ33: =IF(P33="材質劣化",2,IF(P33="漏水",3,1)) -> 1
AQ34: =IF(P36="材質劣化",2,IF(P36="漏水",3,1)) -> 1
K35: 集計 判定 診断 | L35: 変状の発生規模合計(㎡) | Y35: － | AC35: =SUM(AC11:AC34) -> 0 | AD35: =SUM(AD11:AD34) -> 0 | AE35: =SUM(AE11:AE34) -> 0 | AF35: =SUM(AF11:AF34) -> 0 | AG35: =SUM(AG11:AG34) -> 0 | AH35: =SUM(AH11:AH34) -> 0 | AI35: =SUM(AI11:AI34) -> 0 | AJ35: =SUM(AJ11:AJ34) -> 0 | AK35: 覆工スパン単位の 健全性の 診断の区分 | AM35: Ⅰ
L36: 対策区分の 判定結果 | O36: 対策区分毎の変状数注3 | Y36: Ⅳ | Z36: Ⅲ | AA36: Ⅱa | AB36: Ⅱb | AC36: Ⅳ | AD36: Ⅲ | AE36: Ⅱa | AF36: Ⅱb | AG36: Ⅳ | AH36: Ⅲ | AI36: Ⅱa | AJ36: Ⅱb
Y37: =IF(COUNTIF(Y11:Y34,"〇")>0,"1",0) -> 0 | Z37: =IF(COUNTIF(Z11:Z34,"〇")>0,"1",0) -> 0 | AA37: =IF(COUNTIF(AA11:AA34,"〇")>0,"1",0) -> 0 | AB37: =IF(COUNTIF(AB11:AB34,"〇")>0,"1",0) -> 0 | AC37: =COUNTA(AC11:AC34) -> 0 | AD37: =COUNTA(AD11:AD34) -> 0 | AE37: =COUNTA(AE11:AE34) -> 0 | AF37: =COUNTA(AF11:AF34) -> 0 | AG37: =COUNTA(AG11:AG34) -> 0 | AH37: =COUNTA(AH11:AH34) -> 0 | AI37: =COUNTA(AI11:AI34) -> 0 | AJ37: =COUNTA(AJ11:AJ34) -> 0
K39: 所見
K43: 注1：誤記入防止のため、当該変状区分以外のセルは灰色表示とすること。
K44: 注2：応急措置を実施した場合は、その詳細を備考に記載すること。
K45: 注3：外力は覆工スパン単位、材質劣化、漏水は変状単位とすること。
B46: （以下、印刷不要）
B47: ※1：本シートは作成洩れのないよう、変状が無くても全スパン分を作成すること．また変状展開図は、様式D-2-1、様式D-2-1'と同じものを覆工スパン単位で拡大し掲載すること。
B48: ※2：変状番号は、様式D-1-1で記入した番号と整合させること。
B49: ※3：対策区分毎の変状発生規模は、様式D-1-1に記載した面積を記入すること（ただし外力はスパン単位で評価するため変状の有無の欄には面積でなく○を記入し、備考欄に状況を記入）。
B50: ※4：本様式は覆工スパン毎に作成すること。
B51: ※5：変状数が多い場合は、適時、表の行を増やして覆工スパン毎に1枚のシートに収めること。また、1スパン１シートとし、スパンに合わせてシートを追加すること。
B52: ※6：対策区分毎の変状の発生範囲の規模とは，対策を行う際に参考となる変状の長さや面積であり，変状を包含する長さや面積とする。
B53: ※7：対策範囲を示す発生範囲の規模を面積で記入することが妥当ではない変状は、発生範囲の規模の欄に○を記入するとともに、備考に内容を記入すること。

Sheet 様式D-3_S024
AU1: 様式F用→ | AV1: 覆工スパン | AY1: 変 状 数 | BK1: 変 状 規 模
AV2: 番号 | AW2: 延長 （ｍ） | AX2: 健全性の診断の 区分 | AY2: 対策区分の判定 | BK2: 覆工スパン長（ｍ） | BO2: 変状の発生範囲の規模（㎡）
B3: ■定期点検記録様式 覆工スパン別変状詳細展開図 【様式D-3】 | AY3: 外力 | BC3: 材質劣化 | BG3: 漏水 | BK3: 外力 注2 | BO3: 材質劣化 | BS3: 漏水
B4: フリガナ | E4: ='様式A-1'!$D$3 -> ワキトンネル | K4: 路線名 | N4: ='様式A-1'!$J$3 -> 一般県道北中山岩国線 | T4: 定期点検実施者 | Y4: =+'様式B (1)'!$S$3 -> 復建調査設計株式会社 | AG4: 定期点検年月日 | AK4: =+'様式B (1)'!$P$2 -> 45860 | AY4: Ⅳ | AZ4: Ⅲ | BA4: Ⅱa | BB4: Ⅱb | BC4: Ⅳ | BD4: Ⅲ | BE4: Ⅱa | BF4: Ⅱb | BG4: Ⅳ | BH4: Ⅲ | BI4: Ⅱa | BJ4: Ⅱb | BK4: Ⅳ | BL4: Ⅲ | BM4: Ⅱa | BN4: Ⅱb | BO4: Ⅳ | BP4: Ⅲ | BQ4: Ⅱa | BR4: Ⅱb | BS4: Ⅳ | BT4: Ⅲ | BU4: Ⅱa | BV4: Ⅱb
B5: 名 称 | E5: ='様式A-1'!$D$4 -> 和木トンネル | K5: 管理者名 | N5: ='様式A-1'!$R$3 -> 山口県岩国土木建築事務所 | Y5: =+'様式B (1)'!$S$4 -> 小笠原洋 | AV5: =N7 -> S024 | AW5: =R7 -> 9 | AX5: =AM35 -> Ⅰ | AY5: =Y37 -> 0 | AZ5: =Z37 -> 0 | BA5: =AA37 -> 0 | BB5: =AB37 -> 0 | BC5: =AC37 -> 0 | BD5: =AD37 -> 0 | BE5: =AE37 -> 0 | BF5: =AF37 -> 0 | ... BJ5: =AJ37 -> 0 | BK5: =IF(Y37>0,R7,"") | BL5: =IF(Y37>0,"",IF(Z37>0,R7,"")) | BM5: =IF(Y37+Z37>0,"",IF(AA37>0,R7,"")) | BN5: =IF(Y37+Z37+AA37>0,"",IF(AB37>0,R7,"")) | BO5: =AC35 -> 0 | BP5: =AD35 -> 0 | BQ5: =AE35 -> 0 | BR5: =AF35 -> 0 | BS5: =AG35 -> 0 | BT5: =AH35 -> 0 | BU5: =AI35 -> 0 | BV5: =AJ35 -> 0
B6: スパン別変状展開図 | K6: 【健全性判定集計表】
K7: スパン番号 | N7: S024 | P7: スパン長 | R7: 9 | U7: 前回定期点検時の判定 | W7: 応急措置前の判定 | Y7: 対策区分毎の 変状の有無 | AC7: 対策区分毎の変状の発生範囲の規模(㎡) | AK7: 備考注2
K8: 変状番号 | L8: 対象箇所 | N8: 部位区分 | P8: 変状区分 | R8: 変状種類
Y9: 外力注1 | AC9: 材質劣化注1 | AG9: 漏水注1
Y10: Ⅳ | Z10: Ⅲ | AA10: Ⅱa | AB10: Ⅱb | AC10: Ⅳ | AD10: Ⅲ | AE10: Ⅱa | AF10: Ⅱb | AG10: Ⅳ | AH10: Ⅲ | AI10: Ⅱa | AJ10: Ⅱb
K11: 1 | L11: 覆工 | N11: 側壁（右側） | R11: その他 | U11: Ⅱb | AK11: 損傷は確認できない | AQ11: =IF(P11="材質劣化",2,IF(P11="漏水",3,1)) -> 1 | AS11: =IF(Y11<>"",1,"")
AQ12: =IF(P12="材質劣化",2,IF(P12="漏水",3,1)) -> 1
AQ13: =IF(P13="材質劣化",2,IF(P13="漏水",3,1)) -> 1
AQ14: =IF(P14="材質劣化",2,IF(P14="漏水",3,1)) -> 1
AQ15: =IF(P15="材質劣化",2,IF(P15="漏水",3,1)) -> 1
AQ16: =IF(P16="材質劣化",2,IF(P16="漏水",3,1)) -> 1
AQ17: =IF(P17="材質劣化",2,IF(P17="漏水",3,1)) -> 1
AQ18: =IF(P18="材質劣化",2,IF(P18="漏水",3,1)) -> 1
AQ19: =IF(P19="材質劣化",2,IF(P19="漏水",3,1)) -> 1
AQ20: =IF(P20="材質劣化",2,IF(P20="漏水",3,1)) -> 1
AQ21: =IF(P21="材質劣化",2,IF(P21="漏水",3,1)) -> 1
AQ22: =IF(P22="材質劣化",2,IF(P22="漏水",3,1)) -> 1
AQ23: =IF(P23="材質劣化",2,IF(P23="漏水",3,1)) -> 1
... AQ27: =IF(P27="材質劣化",2,IF(P27="漏水",3,1)) -> 1
AQ28: =IF(P30="材質劣化",2,IF(P30="漏水",3,1)) -> 1
AQ29: =IF(P34="材質劣化",2,IF(P34="漏水",3,1)) -> 1
AQ30: =IF(P30="材質劣化",2,IF(P30="漏水",3,1)) -> 1
AQ31: =IF(P33="材質劣化",2,IF(P33="漏水",3,1)) -> 1
AQ32: =IF(P37="材質劣化",2,IF(P37="漏水",3,1)) -> 1
AQ33: =IF(P33="材質劣化",2,IF(P33="漏水",3,1)) -> 1
AQ34: =IF(P36="材質劣化",2,IF(P36="漏水",3,1)) -> 1
K35: 集計 判定 診断 | L35: 変状の発生規模合計(㎡) | Y35: － | AC35: =SUM(AC11:AC34) -> 0 | AD35: =SUM(AD11:AD34) -> 0 | AE35: =SUM(AE11:AE34) -> 0 | AF35: =SUM(AF11:AF34) -> 0 | AG35: =SUM(AG11:AG34) -> 0 | AH35: =SUM(AH11:AH34) -> 0 | AI35: =SUM(AI11:AI34) -> 0 | AJ35: =SUM(AJ11:AJ34) -> 0 | AK35: 覆工スパン単位の 健全性の 診断の区分 | AM35: Ⅰ
L36: 対策区分の 判定結果 | O36: 対策区分毎の変状数注3 | Y36: Ⅳ | Z36: Ⅲ | AA36: Ⅱa | AB36: Ⅱb | AC36: Ⅳ | AD36: Ⅲ | AE36: Ⅱa | AF36: Ⅱb | AG36: Ⅳ | AH36: Ⅲ | AI36: Ⅱa | AJ36: Ⅱb
Y37: =IF(COUNTIF(Y11:Y34,"〇")>0,"1",0) -> 0 | Z37: =IF(COUNTIF(Z11:Z34,"〇")>0,"1",0) -> 0 | AA37: =IF(COUNTIF(AA11:AA34,"〇")>0,"1",0) -> 0 | AB37: =IF(COUNTIF(AB11:AB34,"〇")>0,"1",0) -> 0 | AC37: =COUNTA(AC11:AC34) -> 0 | AD37: =COUNTA(AD11:AD34) -> 0 | AE37: =COUNTA(AE11:AE34) -> 0 | AF37: =COUNTA(AF11:AF34) -> 0 | AG37: =COUNTA(AG11:AG34) -> 0 | AH37: =COUNTA(AH11:AH34) -> 0 | AI37: =COUNTA(AI11:AI34) -> 0 | AJ37: =COUNTA(AJ11:AJ34) -> 0
K39: 所見
K43: 注1：誤記入防止のため、当該変状区分以外のセルは灰色表示とすること。
K44: 注2：応急措置を実施した場合は、その詳細を備考に記載すること。
K45: 注3：外力は覆工スパン単位、材質劣化、漏水は変状単位とすること。
B46: （以下、印刷不要）
B47: ※1：本シートは作成洩れのないよう、変状が無くても全スパン分を作成すること．また変状展開図は、様式D-2-1、様式D-2-1'と同じものを覆工スパン単位で拡大し掲載すること。
B48: ※2：変状番号は、様式D-1-1で記入した番号と整合させること。
B49: ※3：対策区分毎の変状発生規模は、様式D-1-1に記載した面積を記入すること（ただし外力はスパン単位で評価するため変状の有無の欄には面積でなく○を記入し、備考欄に状況を記入）。
B50: ※4：本様式は覆工スパン毎に作成すること。
B51: ※5：変状数が多い場合は、適時、表の行を増やして覆工スパン毎に1枚のシートに収めること。また、1スパン１シートとし、スパンに合わせてシートを追加すること。
B52: ※6：対策区分毎の変状の発生範囲の規模とは，対策を行う際に参考となる変状の長さや面積であり，変状を包含する長さや面積とする。
B53: ※7：対策範囲を示す発生範囲の規模を面積で記入することが妥当ではない変状は、発生範囲の規模の欄に○を記入するとともに、備考に内容を記入すること。

Sheet 様式D-3_S025
AU1: 様式F用→ | AV1: 覆工スパン | AY1: 変 状 数 | BK1: 変 状 規 模
AV2: 番号 | AW2: 延長 （ｍ） | AX2: 健全性の診断の 区分 | AY2: 対策区分の判定 | BK2: 覆工スパン長（ｍ） | BO2: 変状の発生範囲の規模（㎡）
B3: ■定期点検記録様式 覆工スパン別変状詳細展開図 【様式D-3】 | AY3: 外力 | BC3: 材質劣化 | BG3: 漏水 | BK3: 外力 注2 | BO3: 材質劣化 | BS3: 漏水
B4: フリガナ | E4: ='様式A-1'!$D$3 -> ワキトンネル | K4: 路線名 | N4: ='様式A-1'!$J$3 -> 一般県道北中山岩国線 | T4: 定期点検実施者 | Y4: =+'様式B (1)'!$S$3 -> 復建調査設計株式会社 | AG4: 定期点検年月日 | AK4: =+'様式B (1)'!$P$2 -> 45860 | AY4: Ⅳ | AZ4: Ⅲ | BA4: Ⅱa | BB4: Ⅱb | BC4: Ⅳ | BD4: Ⅲ | BE4: Ⅱa | BF4: Ⅱb | BG4: Ⅳ | BH4: Ⅲ | BI4: Ⅱa | BJ4: Ⅱb | BK4: Ⅳ | BL4: Ⅲ | BM4: Ⅱa | BN4: Ⅱb | BO4: Ⅳ | BP4: Ⅲ | BQ4: Ⅱa | BR4: Ⅱb | BS4: Ⅳ | BT4: Ⅲ | BU4: Ⅱa | BV4: Ⅱb
B5: 名 称 | E5: ='様式A-1'!$D$4 -> 和木トンネル | K5: 管理者名 | N5: ='様式A-1'!$R$3 -> 山口県岩国土木建築事務所 | Y5: =+'様式B (1)'!$S$4 -> 小笠原洋 | AV5: =N7 -> S025 | AW5: =R7 -> 9 | AX5: =AM35 -> Ⅰ | AY5: =Y37 -> 0 | AZ5: =Z37 -> 0 | BA5: =AA37 -> 0 | BB5: =AB37 -> 0 | BC5: =AC37 -> 0 | BD5: =AD37 -> 0 | BE5: =AE37 -> 0 | BF5: =AF37 -> 0 | ... BJ5: =AJ37 -> 0 | BK5: =IF(Y37>0,R7,"") | BL5: =IF(Y37>0,"",IF(Z37>0,R7,"")) | BM5: =IF(Y37+Z37>0,"",IF(AA37>0,R7,"")) | BN5: =IF(Y37+Z37+AA37>0,"",IF(AB37>0,R7,"")) | BO5: =AC35 -> 0 | BP5: =AD35 -> 0 | BQ5: =AE35 -> 0 | BR5: =AF35 -> 0 | BS5: =AG35 -> 0 | BT5: =AH35 -> 0 | BU5: =AI35 -> 0 | BV5: =AJ35 -> 0
B6: スパン別変状展開図 | K6: 【健全性判定集計表】
K7: スパン番号 | N7: S025 | P7: スパン長 | R7: 9 | U7: 前回定期点検時の判定 | W7: 応急措置前の判定 | Y7: 対策区分毎の 変状の有無 | AC7: 対策区分毎の変状の発生範囲の規模(㎡) | AK7: 備考注2
K8: 変状番号 | L8: 対象箇所 | N8: 部位区分 | P8: 変状区分 | R8: 変状種類
Y9: 外力注1 | AC9: 材質劣化注1 | AG9: 漏水注1
Y10: Ⅳ | Z10: Ⅲ | AA10: Ⅱa | AB10: Ⅱb | AC10: Ⅳ | AD10: Ⅲ | AE10: Ⅱa | AF10: Ⅱb | AG10: Ⅳ | AH10: Ⅲ | AI10: Ⅱa | AJ10: Ⅱb
AQ11: =IF(P11="材質劣化",2,IF(P11="漏水",3,1)) -> 1 | AS11: =IF(Y11<>"",1,"")
AQ12: =IF(P12="材質劣化",2,IF(P12="漏水",3,1)) -> 1
AQ13: =IF(P13="材質劣化",2,IF(P13="漏水",3,1)) -> 1
AQ14: =IF(P14="材質劣化",2,IF(P14="漏水",3,1)) -> 1
AQ15: =IF(P15="材質劣化",2,IF(P15="漏水",3,1)) -> 1
AQ16: =IF(P16="材質劣化",2,IF(P16="漏水",3,1)) -> 1
AQ17: =IF(P17="材質劣化",2,IF(P17="漏水",3,1)) -> 1
AQ18: =IF(P18="材質劣化",2,IF(P18="漏水",3,1)) -> 1
AQ19: =IF(P19="材質劣化",2,IF(P19="漏水",3,1)) -> 1
AQ20: =IF(P20="材質劣化",2,IF(P20="漏水",3,1)) -> 1
AQ21: =IF(P21="材質劣化",2,IF(P21="漏水",3,1)) -> 1
AQ22: =IF(P22="材質劣化",2,IF(P22="漏水",3,1)) -> 1
AQ23: =IF(P23="材質劣化",2,IF(P23="漏水",3,1)) -> 1
... AQ27: =IF(P27="材質劣化",2,IF(P27="漏水",3,1)) -> 1
AQ28: =IF(P30="材質劣化",2,IF(P30="漏水",3,1)) -> 1
AQ29: =IF(P34="材質劣化",2,IF(P34="漏水",3,1)) -> 1
AQ30: =IF(P30="材質劣化",2,IF(P30="漏水",3,1)) -> 1
AQ31: =IF(P33="材質劣化",2,IF(P33="漏水",3,1)) -> 1
AQ32: =IF(P37="材質劣化",2,IF(P37="漏水",3,1)) -> 1
AQ33: =IF(P33="材質劣化",2,IF(P33="漏水",3,1)) -> 1
AQ34: =IF(P36="材質劣化",2,IF(P36="漏水",3,1)) -> 1
K35: 集計 判定 診断 | L35: 変状の発生規模合計(㎡) | Y35: － | AC35: =SUM(AC11:AC34) -> 0 | AD35: =SUM(AD11:AD34) -> 0 | AE35: =SUM(AE11:AE34) -> 0 | AF35: =SUM(AF11:AF34) -> 0 | AG35: =SUM(AG11:AG34) -> 0 | AH35: =SUM(AH11:AH34) -> 0 | AI35: =SUM(AI11:AI34) -> 0 | AJ35: =SUM(AJ11:AJ34) -> 0 | AK35: 覆工スパン単位の 健全性の 診断の区分 | AM35: Ⅰ
L36: 対策区分の 判定結果 | O36: 対策区分毎の変状数注3 | Y36: Ⅳ | Z36: Ⅲ | AA36: Ⅱa | AB36: Ⅱb | AC36: Ⅳ | AD36: Ⅲ | AE36: Ⅱa | AF36: Ⅱb | AG36: Ⅳ | AH36: Ⅲ | AI36: Ⅱa | AJ36: Ⅱb
Y37: =IF(COUNTIF(Y11:Y34,"〇")>0,"1",0) -> 0 | Z37: =IF(COUNTIF(Z11:Z34,"〇")>0,"1",0) -> 0 | AA37: =IF(COUNTIF(AA11:AA34,"〇")>0,"1",0) -> 0 | AB37: =IF(COUNTIF(AB11:AB34,"〇")>0,"1",0) -> 0 | AC37: =COUNTA(AC11:AC34) -> 0 | AD37: =COUNTA(AD11:AD34) -> 0 | AE37: =COUNTA(AE11:AE34) -> 0 | AF37: =COUNTA(AF11:AF34) -> 0 | AG37: =COUNTA(AG11:AG34) -> 0 | AH37: =COUNTA(AH11:AH34) -> 0 | AI37: =COUNTA(AI11:AI34) -> 0 | AJ37: =COUNTA(AJ11:AJ34) -> 0
K39: 所見
K43: 注1：誤記入防止のため、当該変状区分以外のセルは灰色表示とすること。
K44: 注2：応急措置を実施した場合は、その詳細を備考に記載すること。
K45: 注3：外力は覆工スパン単位、材質劣化、漏水は変状単位とすること。
B46: （以下、印刷不要）
B47: ※1：本シートは作成洩れのないよう、変状が無くても全スパン分を作成すること．また変状展開図は、様式D-2-1、様式D-2-1'と同じものを覆工スパン単位で拡大し掲載すること。
B48: ※2：変状番号は、様式D-1-1で記入した番号と整合させること。
B49: ※3：対策区分毎の変状発生規模は、様式D-1-1に記載した面積を記入すること（ただし外力はスパン単位で評価するため変状の有無の欄には面積でなく○を記入し、備考欄に状況を記入）。
B50: ※4：本様式は覆工スパン毎に作成すること。
B51: ※5：変状数が多い場合は、適時、表の行を増やして覆工スパン毎に1枚のシートに収めること。また、1スパン１シートとし、スパンに合わせてシートを追加すること。
B52: ※6：対策区分毎の変状の発生範囲の規模とは，対策を行う際に参考となる変状の長さや面積であり，変状を包含する長さや面積とする。
B53: ※7：対策範囲を示す発生範囲の規模を面積で記入することが妥当ではない変状は、発生範囲の規模の欄に○を記入するとともに、備考に内容を記入すること。

Sheet 様式D-3_S026
AU1: 様式F用→ | AV1: 覆工スパン | AY1: 変 状 数 | BK1: 変 状 規 模
AV2: 番号 | AW2: 延長 （ｍ） | AX2: 健全性の診断の 区分 | AY2: 対策区分の判定 | BK2: 覆工スパン長（ｍ） | BO2: 変状の発生範囲の規模（㎡）
B3: ■定期点検記録様式 覆工スパン別変状詳細展開図 【様式D-3】 | AY3: 外力 | BC3: 材質劣化 | BG3: 漏水 | BK3: 外力 注2 | BO3: 材質劣化 | BS3: 漏水
B4: フリガナ | E4: ='様式A-1'!$D$3 -> ワキトンネル | K4: 路線名 | N4: ='様式A-1'!$J$3 -> 一般県道北中山岩国線 | T4: 定期点検実施者 | Y4: =+'様式B (1)'!$S$3 -> 復建調査設計株式会社 | AG4: 定期点検年月日 | AK4: =+'様式B (1)'!$P$2 -> 45860 | AY4: Ⅳ | AZ4: Ⅲ | BA4: Ⅱa | BB4: Ⅱb | BC4: Ⅳ | BD4: Ⅲ | BE4: Ⅱa | BF4: Ⅱb | BG4: Ⅳ | BH4: Ⅲ | BI4: Ⅱa | BJ4: Ⅱb | BK4: Ⅳ | BL4: Ⅲ | BM4: Ⅱa | BN4: Ⅱb | BO4: Ⅳ | BP4: Ⅲ | BQ4: Ⅱa | BR4: Ⅱb | BS4: Ⅳ | BT4: Ⅲ | BU4: Ⅱa | BV4: Ⅱb
B5: 名 称 | E5: ='様式A-1'!$D$4 -> 和木トンネル | K5: 管理者名 | N5: ='様式A-1'!$R$3 -> 山口県岩国土木建築事務所 | Y5: =+'様式B (1)'!$S$4 -> 小笠原洋 | AV5: =N7 -> S026 | AW5: =R7 -> 9 | AX5: =AM35 -> Ⅰ | AY5: =Y37 -> 0 | AZ5: =Z37 -> 0 | BA5: =AA37 -> 0 | BB5: =AB37 -> 0 | BC5: =AC37 -> 0 | BD5: =AD37 -> 0 | BE5: =AE37 -> 0 | BF5: =AF37 -> 0 | ... BJ5: =AJ37 -> 0 | BK5: =IF(Y37>0,R7,"") | BL5: =IF(Y37>0,"",IF(Z37>0,R7,"")) | BM5: =IF(Y37+Z37>0,"",IF(AA37>0,R7,"")) | BN5: =IF(Y37+Z37+AA37>0,"",IF(AB37>0,R7,"")) | BO5: =AC35 -> 0 | BP5: =AD35 -> 0 | BQ5: =AE35 -> 0 | BR5: =AF35 -> 0 | BS5: =AG35 -> 0 | BT5: =AH35 -> 0 | BU5: =AI35 -> 0 | BV5: =AJ35 -> 0
B6: スパン別変状展開図 | K6: 【健全性判定集計表】
K7: スパン番号 | N7: S026 | P7: スパン長 | R7: 9 | U7: 前回定期点検時の判定 | W7: 応急措置前の判定 | Y7: 対策区分毎の 変状の有無 | AC7: 対策区分毎の変状の発生範囲の規模(㎡) | AK7: 備考注2
K8: 変状番号 | L8: 対象箇所 | N8: 部位区分 | P8: 変状区分 | R8: 変状種類
Y9: 外力注1 | AC9: 材質劣化注1 | AG9: 漏水注1
Y10: Ⅳ | Z10: Ⅲ | AA10: Ⅱa | AB10: Ⅱb | AC10: Ⅳ | AD10: Ⅲ | AE10: Ⅱa | AF10: Ⅱb | AG10: Ⅳ | AH10: Ⅲ | AI10: Ⅱa | AJ10: Ⅱb
AQ11: =IF(P11="材質劣化",2,IF(P11="漏水",3,1)) -> 1 | AS11: =IF(Y11<>"",1,"")
AQ12: =IF(P12="材質劣化",2,IF(P12="漏水",3,1)) -> 1
AQ13: =IF(P13="材質劣化",2,IF(P13="漏水",3,1)) -> 1
AQ14: =IF(P14="材質劣化",2,IF(P14="漏水",3,1)) -> 1
AQ15: =IF(P15="材質劣化",2,IF(P15="漏水",3,1)) -> 1
AQ16: =IF(P16="材質劣化",2,IF(P16="漏水",3,1)) -> 1
AQ17: =IF(P17="材質劣化",2,IF(P17="漏水",3,1)) -> 1
AQ18: =IF(P18="材質劣化",2,IF(P18="漏水",3,1)) -> 1
AQ19: =IF(P19="材質劣化",2,IF(P19="漏水",3,1)) -> 1
AQ20: =IF(P20="材質劣化",2,IF(P20="漏水",3,1)) -> 1
AQ21: =IF(P21="材質劣化",2,IF(P21="漏水",3,1)) -> 1
AQ22: =IF(P22="材質劣化",2,IF(P22="漏水",3,1)) -> 1
AQ23: =IF(P23="材質劣化",2,IF(P23="漏水",3,1)) -> 1
... AQ27: =IF(P27="材質劣化",2,IF(P27="漏水",3,1)) -> 1
AQ28: =IF(P30="材質劣化",2,IF(P30="漏水",3,1)) -> 1
AQ29: =IF(P34="材質劣化",2,IF(P34="漏水",3,1)) -> 1
AQ30: =IF(P30="材質劣化",2,IF(P30="漏水",3,1)) -> 1
AQ31: =IF(P33="材質劣化",2,IF(P33="漏水",3,1)) -> 1
AQ32: =IF(P37="材質劣化",2,IF(P37="漏水",3,1)) -> 1
AQ33: =IF(P33="材質劣化",2,IF(P33="漏水",3,1)) -> 1
AQ34: =IF(P36="材質劣化",2,IF(P36="漏水",3,1)) -> 1
K35: 集計 判定 診断 | L35: 変状の発生規模合計(㎡) | Y35: － | AC35: =SUM(AC11:AC34) -> 0 | AD35: =SUM(AD11:AD34) -> 0 | AE35: =SUM(AE11:AE34) -> 0 | AF35: =SUM(AF11:AF34) -> 0 | AG35: =SUM(AG11:AG34) -> 0 | AH35: =SUM(AH11:AH34) -> 0 | AI35: =SUM(AI11:AI34) -> 0 | AJ35: =SUM(AJ11:AJ34) -> 0 | AK35: 覆工スパン単位の 健全性の 診断の区分 | AM35: Ⅰ
L36: 対策区分の 判定結果 | O36: 対策区分毎の変状数注3 | Y36: Ⅳ | Z36: Ⅲ | AA36: Ⅱa | AB36: Ⅱb | AC36: Ⅳ | AD36: Ⅲ | AE36: Ⅱa | AF36: Ⅱb | AG36: Ⅳ | AH36: Ⅲ | AI36: Ⅱa | AJ36: Ⅱb
Y37: =IF(COUNTIF(Y11:Y34,"〇")>0,"1",0) -> 0 | Z37: =IF(COUNTIF(Z11:Z34,"〇")>0,"1",0) -> 0 | AA37: =IF(COUNTIF(AA11:AA34,"〇")>0,"1",0) -> 0 | AB37: =IF(COUNTIF(AB11:AB34,"〇")>0,"1",0) -> 0 | AC37: =COUNTA(AC11:AC34) -> 0 | AD37: =COUNTA(AD11:AD34) -> 0 | AE37: =COUNTA(AE11:AE34) -> 0 | AF37: =COUNTA(AF11:AF34) -> 0 | AG37: =COUNTA(AG11:AG34) -> 0 | AH37: =COUNTA(AH11:AH34) -> 0 | AI37: =COUNTA(AI11:AI34) -> 0 | AJ37: =COUNTA(AJ11:AJ34) -> 0
K39: 所見
K43: 注1：誤記入防止のため、当該変状区分以外のセルは灰色表示とすること。
K44: 注2：応急措置を実施した場合は、その詳細を備考に記載すること。
K45: 注3：外力は覆工スパン単位、材質劣化、漏水は変状単位とすること。
B46: （以下、印刷不要）
B47: ※1：本シートは作成洩れのないよう、変状が無くても全スパン分を作成すること．また変状展開図は、様式D-2-1、様式D-2-1'と同じものを覆工スパン単位で拡大し掲載すること。
B48: ※2：変状番号は、様式D-1-1で記入した番号と整合させること。
B49: ※3：対策区分毎の変状発生規模は、様式D-1-1に記載した面積を記入すること（ただし外力はスパン単位で評価するため変状の有無の欄には面積でなく○を記入し、備考欄に状況を記入）。
B50: ※4：本様式は覆工スパン毎に作成すること。
B51: ※5：変状数が多い場合は、適時、表の行を増やして覆工スパン毎に1枚のシートに収めること。また、1スパン１シートとし、スパンに合わせてシートを追加すること。
B52: ※6：対策区分毎の変状の発生範囲の規模とは，対策を行う際に参考となる変状の長さや面積であり，変状を包含する長さや面積とする。
B53: ※7：対策範囲を示す発生範囲の規模を面積で記入することが妥当ではない変状は、発生範囲の規模の欄に○を記入するとともに、備考に内容を記入すること。

Sheet 様式D-3_PE
AU1: 様式F用→ | AV1: 覆工スパン | AY1: 変 状 数 | BK1: 変 状 規 模
AV2: 番号 | AW2: 延長 （ｍ） | AX2: 健全性の診断の 区分 | AY2: 対策区分の判定 | BK2: 覆工スパン長（ｍ） | BO2: 変状の発生範囲の規模（㎡）
B3: ■定期点検記録様式 覆工スパン別変状詳細展開図 【様式D-3】 | AY3: 外力 | BC3: 材質劣化 | BG3: 漏水 | BK3: 外力 注2 | BO3: 材質劣化 | BS3: 漏水
B4: フリガナ | E4: ='様式A-1'!$D$3 -> ワキトンネル | K4: 路線名 | N4: ='様式A-1'!$J$3 -> 一般県道北中山岩国線 | T4: 定期点検実施者 | Y4: =+'様式B (1)'!$S$3 -> 復建調査設計株式会社 | AG4: 定期点検年月日 | AK4: =+'様式B (1)'!$P$2 -> 45860 | AY4: Ⅳ | AZ4: Ⅲ | BA4: Ⅱa | BB4: Ⅱb | BC4: Ⅳ | BD4: Ⅲ | BE4: Ⅱa | BF4: Ⅱb | BG4: Ⅳ | BH4: Ⅲ | BI4: Ⅱa | BJ4: Ⅱb | BK4: Ⅳ | BL4: Ⅲ | BM4: Ⅱa | BN4: Ⅱb | BO4: Ⅳ | BP4: Ⅲ | BQ4: Ⅱa | BR4: Ⅱb | BS4: Ⅳ | BT4: Ⅲ | BU4: Ⅱa | BV4: Ⅱb
B5: 名 称 | E5: ='様式A-1'!$D$4 -> 和木トンネル | K5: 管理者名 | N5: ='様式A-1'!$R$3 -> 山口県岩国土木建築事務所 | Y5: =+'様式B (1)'!$S$4 -> 小笠原洋 | AV5: =N7 -> PE | AW5: =R7 -> 9.35 | AX5: =AM35 -> Ⅰ | AY5: =Y37 -> 0 | AZ5: =Z37 -> 0 | BA5: =AA37 -> 0 | BB5: =AB37 -> 0 | BC5: =AC37 -> 0 | BD5: =AD37 -> 0 | BE5: =AE37 -> 0 | BF5: =AF37 -> 0 | ... BJ5: =AJ37 -> 0 | BK5: =IF(Y37>0,R7,"") | BL5: =IF(Y37>0,"",IF(Z37>0,R7,"")) | BM5: =IF(Y37+Z37>0,"",IF(AA37>0,R7,"")) | BN5: =IF(Y37+Z37+AA37>0,"",IF(AB37>0,R7,"")) | BO5: =AC35 -> 0 | BP5: =AD35 -> 0 | BQ5: =AE35 -> 0 | BR5: =AF35 -> 0 | BS5: =AG35 -> 0 | BT5: =AH35 -> 0 | BU5: =AI35 -> 0 | BV5: =AJ35 -> 0
B6: スパン別変状展開図 | K6: 【健全性判定集計表】
K7: スパン番号 | N7: PE | P7: スパン長 | R7: 9.35 | U7: 前回定期点検時の判定 | W7: 応急措置前の判定 | Y7: 対策区分毎の 変状の有無 | AC7: 対策区分毎の変状の発生範囲の規模(㎡) | AK7: 備考注2
K8: 変状番号 | L8: 対象箇所 | N8: 部位区分 | P8: 変状区分 | R8: 変状種類
Y9: 外力注1 | AC9: 材質劣化注1 | AG9: 漏水注1
Y10: Ⅳ | Z10: Ⅲ | AA10: Ⅱa | AB10: Ⅱb | AC10: Ⅳ | AD10: Ⅲ | AE10: Ⅱa | AF10: Ⅱb | AG10: Ⅳ | AH10: Ⅲ | AI10: Ⅱa | AJ10: Ⅱb
AQ11: =IF(P11="材質劣化",2,IF(P11="漏水",3,1)) -> 1 | AS11: =IF(Y11<>"",1,"")
AQ12: =IF(P12="材質劣化",2,IF(P12="漏水",3,1)) -> 1
AQ13: =IF(P13="材質劣化",2,IF(P13="漏水",3,1)) -> 1
AQ14: =IF(P14="材質劣化",2,IF(P14="漏水",3,1)) -> 1
AQ15: =IF(P15="材質劣化",2,IF(P15="漏水",3,1)) -> 1
AQ16: =IF(P16="材質劣化",2,IF(P16="漏水",3,1)) -> 1
AQ17: =IF(P17="材質劣化",2,IF(P17="漏水",3,1)) -> 1
AQ18: =IF(P18="材質劣化",2,IF(P18="漏水",3,1)) -> 1
AQ19: =IF(P19="材質劣化",2,IF(P19="漏水",3,1)) -> 1
AQ20: =IF(P20="材質劣化",2,IF(P20="漏水",3,1)) -> 1
AQ21: =IF(P21="材質劣化",2,IF(P21="漏水",3,1)) -> 1
AQ22: =IF(P22="材質劣化",2,IF(P22="漏水",3,1)) -> 1
AQ23: =IF(P23="材質劣化",2,IF(P23="漏水",3,1)) -> 1
... AQ27: =IF(P27="材質劣化",2,IF(P27="漏水",3,1)) -> 1
AQ28: =IF(P30="材質劣化",2,IF(P30="漏水",3,1)) -> 1
AQ29: =IF(P34="材質劣化",2,IF(P34="漏水",3,1)) -> 1
AQ30: =IF(P30="材質劣化",2,IF(P30="漏水",3,1)) -> 1
AQ31: =IF(P33="材質劣化",2,IF(P33="漏水",3,1)) -> 1
AQ32: =IF(P37="材質劣化",2,IF(P37="漏水",3,1)) -> 1
AQ33: =IF(P33="材質劣化",2,IF(P33="漏水",3,1)) -> 1
AQ34: =IF(P36="材質劣化",2,IF(P36="漏水",3,1)) -> 1
K35: 集計 判定 診断 | L35: 変状の発生規模合計(㎡) | Y35: － | AC35: =SUM(AC11:AC34) -> 0 | AD35: =SUM(AD11:AD34) -> 0 | AE35: =SUM(AE11:AE34) -> 0 | AF35: =SUM(AF11:AF34) -> 0 | AG35: =SUM(AG11:AG34) -> 0 | AH35: =SUM(AH11:AH34) -> 0 | AI35: =SUM(AI11:AI34) -> 0 | AJ35: =SUM(AJ11:AJ34) -> 0 | AK35: 覆工スパン単位の 健全性の 診断の区分 | AM35: Ⅰ
L36: 対策区分の 判定結果 | O36: 対策区分毎の変状数注3 | Y36: Ⅳ | Z36: Ⅲ | AA36: Ⅱa | AB36: Ⅱb | AC36: Ⅳ | AD36: Ⅲ | AE36: Ⅱa | AF36: Ⅱb | AG36: Ⅳ | AH36: Ⅲ | AI36: Ⅱa | AJ36: Ⅱb
Y37: =IF(COUNTIF(Y11:Y34,"〇")>0,"1",0) -> 0 | Z37: =IF(COUNTIF(Z11:Z34,"〇")>0,"1",0) -> 0 | AA37: =IF(COUNTIF(AA11:AA34,"〇")>0,"1",0) -> 0 | AB37: =IF(COUNTIF(AB11:AB34,"〇")>0,"1",0) -> 0 | AC37: =COUNTA(AC11:AC34) -> 0 | AD37: =COUNTA(AD11:AD34) -> 0 | AE37: =COUNTA(AE11:AE34) -> 0 | AF37: =COUNTA(AF11:AF34) -> 0 | AG37: =COUNTA(AG11:AG34) -> 0 | AH37: =COUNTA(AH11:AH34) -> 0 | AI37: =COUNTA(AI11:AI34) -> 0 | AJ37: =COUNTA(AJ11:AJ34) -> 0
K39: 所見
K43: 注1：誤記入防止のため、当該変状区分以外のセルは灰色表示とすること。
K44: 注2：応急措置を実施した場合は、その詳細を備考に記載すること。
K45: 注3：外力は覆工スパン単位、材質劣化、漏水は変状単位とすること。
B46: （以下、印刷不要）
B47: ※1：本シートは作成洩れのないよう、変状が無くても全スパン分を作成すること．また変状展開図は、様式D-2-1、様式D-2-1'と同じものを覆工スパン単位で拡大し掲載すること。
B48: ※2：変状番号は、様式D-1-1で記入した番号と整合させること。
B49: ※3：対策区分毎の変状発生規模は、様式D-1-1に記載した面積を記入すること（ただし外力はスパン単位で評価するため変状の有無の欄には面積でなく○を記入し、備考欄に状況を記入）。
B50: ※4：本様式は覆工スパン毎に作成すること。
B51: ※5：変状数が多い場合は、適時、表の行を増やして覆工スパン毎に1枚のシートに収めること。また、1スパン１シートとし、スパンに合わせてシートを追加すること。
B52: ※6：対策区分毎の変状の発生範囲の規模とは，対策を行う際に参考となる変状の長さや面積であり，変状を包含する長さや面積とする。
B53: ※7：対策範囲を示す発生範囲の規模を面積で記入することが妥当ではない変状は、発生範囲の規模の欄に○を記入するとともに、備考に内容を記入すること。

Sheet 様式E
B2: ■定期点検記録様式 近接目視による状態の把握が不可能な箇所 【様式E】
B3: フリガナ | F3: =+'様式A-1'!$D$3 -> ワキトンネル | U3: 路 線 名 | Z3: =+'様式A-1'!$J$3 -> 一般県道北中山岩国線 | AI3: 定期点検実施者 | AO3: =+'様式B (1)'!$S$3 -> 復建調査設計株式会社 | AW3: 定期点検年月日 | BC3: =+'様式B (1)'!$P$2 -> 45860
B4: 名 称 | F4: =+'様式A-1'!$D$4 -> 和木トンネル | U4: 管理者名 | Z4: =+'様式A-1'!$R$3 -> 山口県岩国土木建築事務所 | AO4: =+'様式B (1)'!$S$4 -> 小笠原洋
B5: 覆工スパン 番号 | H5: 対象箇所 | P5: 不可能な理由 | AN5: 対応策
D20: 注）近接目視又は打音、触診ができない箇所を記載する。現状の評価、日常の維持管理での注意点を記載する。
D21: ※ 数が多い場合は、適時、表の行を増やすこと。

Sheet 様式F
B1: ■定期点検記録様式 覆工スパン毎の変状数・変状規模の集計 【様式F】
B2: フリガナ | F2: =+'様式A-1'!$D$3 -> ワキトンネル | L2: 路線名 | O2: =+'様式A-1'!$J$3 -> 一般県道北中山岩国線 | T2: 定期点検実施者 | V2: =+'様式B (1)'!$S$3 -> 復建調査設計株式会社 | Y2: 定期点検 年月日 | Z2: =+'様式B (1)'!$P$2 -> 45860
B3: 名 称 | F3: =+'様式A-1'!$D$4 -> 和木トンネル | L3: 管理者名 | O3: =+'様式A-1'!$R$3 -> 山口県岩国土木建築事務所 | V3: =+'様式B (1)'!$S$4 -> 小笠原洋
B5: 【覆工スパン毎の変状数, 変状規模】
B6: 覆工スパン | E6: 変 状 数 | Q6: 変 状 規 模
B7: 番号 | C7: 延長 （ｍ） | D7: 健全性の診断の 区分 | E7: 対策区分の判定注1 | Q7: 覆工スパン長（ｍ） | U7: 変状の発生範囲の規模（㎡）
E8: 外力 | I8: 材質劣化 | M8: 漏水 | Q8: 外力 注2 | U8: 材質劣化 | Y8: 漏水
E9: Ⅳ | F9: Ⅲ | G9: Ⅱa | H9: Ⅱb | I9: Ⅳ | J9: Ⅲ | K9: Ⅱa | L9: Ⅱb | M9: Ⅳ | N9: Ⅲ | O9: Ⅱa | P9: Ⅱb | Q9: Ⅳ | R9: Ⅲ | S9: Ⅱa | T9: Ⅱb | U9: Ⅳ | V9: Ⅲ | W9: Ⅱa | X9: Ⅱb | Y9: Ⅳ | Z9: Ⅲ | AA9: Ⅱa | AB9: Ⅱb
B10: =+'様式D-3_PS'!AV5 -> PS | C10: =+'様式D-3_PS'!AW5 -> 11.8 | D10: =+'様式D-3_PS'!AX5 -> Ⅱ | E10: =+'様式D-3_PS'!AY5 -> 0 | F10: =+'様式D-3_PS'!AZ5 -> 0 | G10: =+'様式D-3_PS'!BA5 -> 0 | H10: =+'様式D-3_PS'!BB5 -> 0 | I10: =+'様式D-3_PS'!BC5 -> 0 | ... AB10: =+'様式D-3_PS'!BV5 -> 0
B11: =+'様式D-3_S001'!AV5 -> S001 | C11: =+'様式D-3_S001'!AW5 -> 7.3 | D11: =+'様式D-3_S001'!AX5 -> Ⅰ | E11: =+'様式D-3_S001'!AY5 -> 0 | F11: =+'様式D-3_S001'!AZ5 -> 0 | G11: =+'様式D-3_S001'!BA5 -> 0 | H11: =+'様式D-3_S001'!BB5 -> 0 | I11: =+'様式D-3_S001'!BC5 -> 0 | ... AB11: =+'様式D-3_S001'!BV5 -> 0
B12: =+'様式D-3_S002'!AV5 -> S002 | C12: =+'様式D-3_S002'!AW5 -> 9 | D12: =+'様式D-3_S002'!AX5 -> Ⅰ | E12: =+'様式D-3_S002'!AY5 -> 0 | F12: =+'様式D-3_S002'!AZ5 -> 0 | G12: =+'様式D-3_S002'!BA5 -> 0 | H12: =+'様式D-3_S002'!BB5 -> 0 | I12: =+'様式D-3_S002'!BC5 -> 0 | ... AB12: =+'様式D-3_S002'!BV5 -> 0
B13: =+'様式D-3_S003'!AV5 -> S003 | C13: =+'様式D-3_S003'!AW5 -> 9 | D13: =+'様式D-3_S003'!AX5 -> Ⅰ | E13: =+'様式D-3_S003'!AY5 -> 0 | F13: =+'様式D-3_S003'!AZ5 -> 0 | G13: =+'様式D-3_S003'!BA5 -> 0 | H13: =+'様式D-3_S003'!BB5 -> 0 | I13: =+'様式D-3_S003'!BC5 -> 0 | ... AB13: =+'様式D-3_S003'!BV5 -> 0
B14: =+'様式D-3_S004'!AV5 -> S004 | C14: =+'様式D-3_S004'!AW5 -> 9 | D14: =+'様式D-3_S004'!AX5 -> Ⅰ | E14: =+'様式D-3_S004'!AY5 -> 0 | F14: =+'様式D-3_S004'!AZ5 -> 0 | G14: =+'様式D-3_S004'!BA5 -> 0 | H14: =+'様式D-3_S004'!BB5 -> 0 | I14: =+'様式D-3_S004'!BC5 -> 0 | ... AB14: =+'様式D-3_S004'!BV5 -> 0
B15: =+'様式D-3_S005'!AV5 -> S005 | C15: =+'様式D-3_S005'!AW5 -> 9 | D15: =+'様式D-3_S005'!AX5 -> Ⅱ | E15: =+'様式D-3_S005'!AY5 -> 0 | F15: =+'様式D-3_S005'!AZ5 -> 0 | G15: =+'様式D-3_S005'!BA5 -> 0 | H15: =+'様式D-3_S005'!BB5 -> 0 | I15: =+'様式D-3_S005'!BC5 -> 0 | ... AB15: =+'様式D-3_S005'!BV5 -> 0
B16: =+'様式D-3_S006'!AV5 -> S006 | C16: =+'様式D-3_S006'!AW5 -> 9 | D16: =+'様式D-3_S006'!AX5 -> Ⅰ | E16: =+'様式D-3_S006'!AY5 -> 0 | F16: =+'様式D-3_S006'!AZ5 -> 0 | G16: =+'様式D-3_S006'!BA5 -> 0 | H16: =+'様式D-3_S006'!BB5 -> 0 | I16: =+'様式D-3_S006'!BC5 -> 0 | ... AB16: =+'様式D-3_S006'!BV5 -> 0
B17: =+'様式D-3_S007'!AV5 -> S007 | C17: =+'様式D-3_S007'!AW5 -> 9 | D17: =+'様式D-3_S007'!AX5 -> Ⅰ | E17: =+'様式D-3_S007'!AY5 -> 0 | F17: =+'様式D-3_S007'!AZ5 -> 0 | G17: =+'様式D-3_S007'!BA5 -> 0 | H17: =+'様式D-3_S007'!BB5 -> 0 | I17: =+'様式D-3_S007'!BC5 -> 0 | ... AB17: =+'様式D-3_S007'!BV5 -> 0
B18: =+'様式D-3_S008'!AV5 -> S008 | C18: =+'様式D-3_S008'!AW5 -> 9 | D18: =+'様式D-3_S008'!AX5 -> Ⅰ | E18: =+'様式D-3_S008'!AY5 -> 0 | F18: =+'様式D-3_S008'!AZ5 -> 0 | G18: =+'様式D-3_S008'!BA5 -> 0 | H18: =+'様式D-3_S008'!BB5 -> 0 | I18: =+'様式D-3_S008'!BC5 -> 0 | ... AB18: =+'様式D-3_S008'!BV5 -> 0
B19: =+'様式D-3_S009'!AV5 -> S009 | C19: =+'様式D-3_S009'!AW5 -> 9 | D19: =+'様式D-3_S009'!AX5 -> Ⅰ | E19: =+'様式D-3_S009'!AY5 -> 0 | F19: =+'様式D-3_S009'!AZ5 -> 0 | G19: =+'様式D-3_S009'!BA5 -> 0 | H19: =+'様式D-3_S009'!BB5 -> 0 | I19: =+'様式D-3_S009'!BC5 -> 0 | ... AB19: =+'様式D-3_S009'!BV5 -> 0
B20: =+'様式D-3_S010'!AV5 -> S010 | C20: =+'様式D-3_S010'!AW5 -> 9 | D20: =+'様式D-3_S010'!AX5 -> Ⅰ | E20: =+'様式D-3_S010'!AY5 -> 0 | F20: =+'様式D-3_S010'!AZ5 -> 0 | G20: =+'様式D-3_S010'!BA5 -> 0 | H20: =+'様式D-3_S010'!BB5 -> 0 | I20: =+'様式D-3_S010'!BC5 -> 0 | ... AB20: =+'様式D-3_S010'!BV5 -> 0
B21: =+'様式D-3_S011'!AV5 -> S011 | C21: =+'様式D-3_S011'!AW5 -> 9 | D21: =+'様式D-3_S011'!AX5 -> Ⅱ | E21: =+'様式D-3_S011'!AY5 -> 0 | F21: =+'様式D-3_S011'!AZ5 -> 0 | G21: =+'様式D-3_S011'!BA5 -> 0 | H21: =+'様式D-3_S011'!BB5 -> 0 | I21: =+'様式D-3_S011'!BC5 -> 0 | ... AB21: =+'様式D-3_S011'!BV5 -> 0
B22: =+'様式D-3_S012'!AV5 -> S012 | C22: =+'様式D-3_S012'!AW5 -> 9 | D22: =+'様式D-3_S012'!AX5 -> Ⅱ | E22: =+'様式D-3_S012'!AY5 -> 0 | F22: =+'様式D-3_S012'!AZ5 -> 0 | G22: =+'様式D-3_S012'!BA5 -> 0 | H22: =+'様式D-3_S012'!BB5 -> 0 | I22: =+'様式D-3_S012'!BC5 -> 0 | ... AB22: =+'様式D-3_S012'!BV5 -> 0
B23: =+'様式D-3_S013'!AV5 -> S013 | C23: =+'様式D-3_S013'!AW5 -> 9 | D23: =+'様式D-3_S013'!AX5 -> Ⅰ | E23: =+'様式D-3_S013'!AY5 -> 0 | F23: =+'様式D-3_S013'!AZ5 -> 0 | G23: =+'様式D-3_S013'!BA5 -> 0 | H23: =+'様式D-3_S013'!BB5 -> 0 | I23: =+'様式D-3_S013'!BC5 -> 0 | ... AB23: =+'様式D-3_S013'!BV5 -> 0
B24: =+'様式D-3_S014'!AV5 -> S014 | C24: =+'様式D-3_S014'!AW5 -> 9 | D24: =+'様式D-3_S014'!AX5 -> Ⅰ | E24: =+'様式D-3_S014'!AY5 -> 0 | F24: =+'様式D-3_S014'!AZ5 -> 0 | G24: =+'様式D-3_S014'!BA5 -> 0 | H24: =+'様式D-3_S014'!BB5 -> 0 | I24: =+'様式D-3_S014'!BC5 -> 0 | ... AB24: =+'様式D-3_S014'!BV5 -> 0
B25: =+'様式D-3_S015'!AV5 -> S015 | C25: =+'様式D-3_S015'!AW5 -> 9 | D25: =+'様式D-3_S015'!AX5 -> Ⅰ | E25: =+'様式D-3_S015'!AY5 -> 0 | F25: =+'様式D-3_S015'!AZ5 -> 0 | G25: =+'様式D-3_S015'!BA5 -> 0 | H25: =+'様式D-3_S015'!BB5 -> 0 | I25: =+'様式D-3_S015'!BC5 -> 0 | ... AB25: =+'様式D-3_S015'!BV5 -> 0
B26: =+'様式D-3_S016'!AV5 -> S016 | C26: =+'様式D-3_S016'!AW5 -> 9 | D26: =+'様式D-3_S016'!AX5 -> Ⅰ | E26: =+'様式D-3_S016'!AY5 -> 0 | F26: =+'様式D-3_S016'!AZ5 -> 0 | G26: =+'様式D-3_S016'!BA5 -> 0 | H26: =+'様式D-3_S016'!BB5 -> 0 | I26: =+'様式D-3_S016'!BC5 -> 0 | ... AB26: =+'様式D-3_S016'!BV5 -> 0
B27: =+'様式D-3_S017'!AV5 -> S017 | C27: =+'様式D-3_S017'!AW5 -> 9 | D27: =+'様式D-3_S017'!AX5 -> Ⅰ | E27: =+'様式D-3_S017'!AY5 -> 0 | F27: =+'様式D-3_S017'!AZ5 -> 0 | G27: =+'様式D-3_S017'!BA5 -> 0 | H27: =+'様式D-3_S017'!BB5 -> 0 | I27: =+'様式D-3_S017'!BC5 -> 0 | ... AB27: =+'様式D-3_S017'!BV5 -> 0
B28: =+'様式D-3_S018'!AV5 -> S018 | C28: =+'様式D-3_S018'!AW5 -> 9 | D28: =+'様式D-3_S018'!AX5 -> Ⅰ | E28: =+'様式D-3_S018'!AY5 -> 0 | F28: =+'様式D-3_S018'!AZ5 -> 0 | G28: =+'様式D-3_S018'!BA5 -> 0 | H28: =+'様式D-3_S018'!BB5 -> 0 | I28: =+'様式D-3_S018'!BC5 -> 0 | ... AB28: =+'様式D-3_S018'!BV5 -> 0
B29: =+'様式D-3_S019'!AV5 -> S019 | C29: =+'様式D-3_S019'!AW5 -> 9 | D29: =+'様式D-3_S019'!AX5 -> Ⅰ | E29: =+'様式D-3_S019'!AY5 -> 0 | F29: =+'様式D-3_S019'!AZ5 -> 0 | G29: =+'様式D-3_S019'!BA5 -> 0 | H29: =+'様式D-3_S019'!BB5 -> 0 | I29: =+'様式D-3_S019'!BC5 -> 0 | ... AB29: =+'様式D-3_S019'!BV5 -> 0
B30: =+'様式D-3_S020'!AV5 -> S020 | C30: =+'様式D-3_S020'!AW5 -> 9 | D30: =+'様式D-3_S020'!AX5 -> Ⅱ | E30: =+'様式D-3_S020'!AY5 -> 0 | F30: =+'様式D-3_S020'!AZ5 -> 0 | G30: =+'様式D-3_S020'!BA5 -> 0 | H30: =+'様式D-3_S020'!BB5 -> 0 | I30: =+'様式D-3_S020'!BC5 -> 0 | ... AB30: =+'様式D-3_S020'!BV5 -> 0
B31: =+'様式D-3_S021'!AV5 -> S021 | C31: =+'様式D-3_S021'!AW5 -> 9 | D31: =+'様式D-3_S021'!AX5 -> Ⅰ | E31: =+'様式D-3_S021'!AY5 -> 0 | F31: =+'様式D-3_S021'!AZ5 -> 0 | G31: =+'様式D-3_S021'!BA5 -> 0 | H31: =+'様式D-3_S021'!BB5 -> 0 | I31: =+'様式D-3_S021'!BC5 -> 0 | ... AB31: =+'様式D-3_S021'!BV5 -> 0
B32: =+'様式D-3_S022'!AV5 -> S022 | C32: =+'様式D-3_S022'!AW5 -> 9 | D32: =+'様式D-3_S022'!AX5 -> Ⅰ | E32: =+'様式D-3_S022'!AY5 -> 0 | F32: =+'様式D-3_S022'!AZ5 -> 0 | G32: =+'様式D-3_S022'!BA5 -> 0 | H32: =+'様式D-3_S022'!BB5 -> 0 | I32: =+'様式D-3_S022'!BC5 -> 0 | ... AB32: =+'様式D-3_S022'!BV5 -> 0
B33: =+'様式D-3_S023'!AV5 -> S023 | C33: =+'様式D-3_S023'!AW5 -> 9 | D33: =+'様式D-3_S023'!AX5 -> Ⅰ | E33: =+'様式D-3_S023'!AY5 -> 0 | F33: =+'様式D-3_S023'!AZ5 -> 0 | G33: =+'様式D-3_S023'!BA5 -> 0 | H33: =+'様式D-3_S023'!BB5 -> 0 | I33: =+'様式D-3_S023'!BC5 -> 0 | ... AB33: =+'様式D-3_S023'!BV5 -> 0
B34: =+'様式D-3_S024'!AV5 -> S024 | C34: =+'様式D-3_S024'!AW5 -> 9 | D34: =+'様式D-3_S024'!AX5 -> Ⅰ | E34: =+'様式D-3_S024'!AY5 -> 0 | F34: =+'様式D-3_S024'!AZ5 -> 0 | G34: =+'様式D-3_S024'!BA5 -> 0 | H34: =+'様式D-3_S024'!BB5 -> 0 | I34: =+'様式D-3_S024'!BC5 -> 0 | ... AB34: =+'様式D-3_S024'!BV5 -> 0
B35: =+'様式D-3_S025'!AV5 -> S025 | C35: =+'様式D-3_S025'!AW5 -> 9 | D35: =+'様式D-3_S025'!AX5 -> Ⅰ | E35: =+'様式D-3_S025'!AY5 -> 0 | F35: =+'様式D-3_S025'!AZ5 -> 0 | G35: =+'様式D-3_S025'!BA5 -> 0 | H35: =+'様式D-3_S025'!BB5 -> 0 | I35: =+'様式D-3_S025'!BC5 -> 0 | ... AB35: =+'様式D-3_S025'!BV5 -> 0
B36: =+'様式D-3_S026'!AV5 -> S026 | C36: =+'様式D-3_S026'!AW5 -> 9 | D36: =+'様式D-3_S026'!AX5 -> Ⅰ | E36: =+'様式D-3_S026'!AY5 -> 0 | F36: =+'様式D-3_S026'!AZ5 -> 0 | G36: =+'様式D-3_S026'!BA5 -> 0 | H36: =+'様式D-3_S026'!BB5 -> 0 | I36: =+'様式D-3_S026'!BC5 -> 0 | ... AB36: =+'様式D-3_S026'!BV5 -> 0
B37: =+'様式D-3_PE'!AV5 -> PE | C37: =+'様式D-3_PE'!AW5 -> 9.35 | D37: =+'様式D-3_PE'!AX5 -> Ⅰ | E37: =+'様式D-3_PE'!AY5 -> 0 | F37: =+'様式D-3_PE'!AZ5 -> 0 | G37: =+'様式D-3_PE'!BA5 -> 0 | H37: =+'様式D-3_PE'!BB5 -> 0 | I37: =+'様式D-3_PE'!BC5 -> 0 | ... AB37: =+'様式D-3_PE'!BV5 -> 0
B42: 計 | E42: =SUM(E10:E41) -> 0 | F42: =SUM(F10:F41) -> 0 | G42: =SUM(G10:G41) -> 0 | H42: =SUM(H10:H41) -> 0 | I42: =SUM(I10:I41) -> 0 | J42: =SUM(J10:J41) -> 0 | K42: =SUM(K10:K41) -> 0 | L42: =SUM(L10:L41) -> 7 | ... AB42: =SUM(AB10:AB41) -> 0
G43: =G42+H42 -> 0 | K43: =K42+L42 -> 7 | O43: =O42+P42 -> 0
B44: 注１：外力は覆工スパン単位で診断するため、覆工スパンの中で最も評価の厳しい対策区分の判定の区分欄にのみスパン数1を、材質劣化、漏水はそれぞれの対策区分に変状数を記入すること。
B45: 注２：外力は覆工スパン単位で診断するため、覆工スパンの中で最も評価の厳しい対策区分の判定の区分欄にのみスパン長を記入すること。
B46: ※１：本様式は様式D‐3の集計結果を掲載すること。
B47: ※２：覆工スパン数が多い場合は、適時、表の行を増やしてトンネル毎に1枚のシートに収めること。
B48: ※３：本様式の集計結果に基づいて、様式Bのトンネル本体工における変状区分毎の対策区分の箇所を記載する。
E58: 0 | F58: 0 | G58: 0 | H58: 0 | I58: 0 | S58: 0 | T58: 0 | U58: 0 | V58: 0 | W58: 0
G59: 0

Sheet 様式G
B2: ■定期点検記録様式 健全性の診断の区分に関する所見【様式G】 | U2: 施設ID | X2: =+'様式A-1'!$W$2 -> 34.19214,132.18053
B3: フリガナ | E3: =+'様式A-1'!$D$3 -> ワキトンネル | I3: 路線名 | L3: =+'様式A-1'!$J$3 -> 一般県道北中山岩国線 | O3: 定期点検実施者 | R3: =+'様式B (1)'!$S$3 -> 復建調査設計株式会社 | U3: 定期点検年月日 | X3: =+'様式B (1)'!$P$2 -> 45860
B4: 名 称 | E4: =+'様式A-1'!$D$4 -> 和木トンネル | I4: 管理者名 | L4: =+'様式A-1'!$R$3 -> 山口県岩国土木建築事務所 | R4: =+'様式B (1)'!$S$4 -> 小笠原洋
B5: 道路トンネルの健全性の診断の区分の所見
B6: (A)トンネルの健全性の診断の区分の判定結果 ・本トンネルの健全性の診断の区分はⅡである（材質劣化：Ⅱ） (B)トンネル毎の健全性の診断の区分に関係する変状に関する所見 １）変状・異常の内容とそれが確認された部材・部位（客観的事実） ・変状番号PS-1，PS-2のブロック化して閉合したひび割れは打音異常がなく（Ⅱb判定）、将来的に落下する可能性が低いため監視を継続する。 ・変状番号S12-1の横断方向目地周辺の打音異常部は進行は確認されず（Ⅱb判定）、将来的に落下する可能性が低いため監視を継続する。 ・変状番号S5-1などに鋼材の表面的な錆びが確認されたが構造鉄筋の可能性は低く（Ⅱb判定）、監視を継続する。 ２）変状等の原因（推定） ・施工起因（豆板等）が原因と想定されるうき、はく離箇所が点在するが、進行性は認められず、次回定期点検で状態の把握を行う。 ３）施設の現状と次回定期点検まで及び将来における構造物の状態（推定） ・道路トンネルの構造物としての安全性や安定に関わる変状はない。 ・とくに利用者に影響が及ぶ恐れがない。 ４）措置の必要性の判断に関わる事項 ・監視により安全性の確認を行う。監視の方法は県点検マニュアルに準じる。 ５）その他、次回定期点検へ引き継ぐ事項等 ・点検時の応急措置（叩き落としや防錆処理）により当面の利用者被害は防止できており、5年ごとの定期点検で打音検査を中心とした監視が必要である。

Sheet (参考)リスト
B4: 様式A～B
B5: トンネルの分類 | C5: トンネル工法 | D5: 自専道or一般道 | E5: 緊急輸送路 | F5: 代替路
B6: 陸上トンネル（掘進工法） | C6: 山岳トンネル工法（NATM） | D6: 自専道 | E6: 一次 | F6: 有
B7: 陸上トンネル（開削工法） | C7: 矢板工法 | D7: 一般道 | E7: 二次 | F7: 無
B8: 陸上トンネル（その他） | C8: 開削工法 | E8: 三次
B9: 水底トンネル（掘進工法） | C9: シールド工法 | E9: 市町村指定
B10: 水底トンネル（沈埋工法） | C10: その他 | E10: 指定なし
B11: 水底トンネル（開削工法） | C11: 不明
B12: 水底トンネル（その他）
B14: 様式C-1-1(本体工)、C-2、D-1-1、D-3
B15: 対象箇所 | C15: 部位区分 | D15: 変状区分 | E15: 変状種類 | F15: 対策区分 | G15: 健全性 | H15: 調査の要否 | I15: 措置の要否 | J15: 実施有無
B16: 覆工 | C16: アーチ（右側） | D16: 外力 | E16: 圧ざ、ひび割れ | F16: Ⅰ | G16: Ⅰ | H16: 要 | I16: 要監視 | J16: 未
B17: 坑門 | C17: アーチ（左側） | D17: 材質劣化 | E17: うき・はく離 | F17: Ⅱa | G17: Ⅱ | H17: 否 | I17: 要対策 | J17: 済
B18: 内装板 | C18: アーチ（天端） | D18: 漏水 | E18: 鋼材腐食 | F18: Ⅱb | G18: Ⅲ | I18: 否 | J18: 継続
B19: 天井板 | C19: アーチ（全周） | E19: 変形・移動 | F19: Ⅲ | G19: Ⅳ
B20: 路面 | C20: 側壁（右側） | E20: 沈下 | F20: Ⅳ | G20: －
B21: その他 | C21: 側壁（左側） | E21: 隆起 | F21: －
C22: 横断目地（右側） | E22: 巻厚の不足または減少、背面空洞
C23: 横断目地（左側） | E23: 補修・補強材の破損
C24: 横断目地（天端） | E24: 漏水
C25: 横断目地（全周） | E25: 滞水
C26: 水平打ち継ぎ目（右側） | E26: 土砂流出
C27: 水平打ち継ぎ目（左側） | E27: その他
C28: 面壁・妻壁等
C29: その他
C31: 面壁・妻壁等
C32: その他
C34: 側壁
C35: その他
C37: 車道側
C38: ダクト側
C39: その他
C41: 車道
C42: 歩道
C43: 監査歩路
... C47: その他
B50: 様式C-1-2（附属物）、D-1-2
B51: 施設の内訳 | C51: 対象箇所 | D51: 部位区分 | E51: 異常の種類 | F51: 異常判定区分 | G51: 実施有無
B52: 照明施設 | C52: 灯具 | D52: 附属物本体 | E52: 破断 | F52: ○ | G52: 未
B53: 換気施設 | C53: ケーブル本体 | D53: 取付部材 | E53: 緩み、脱落 | F53: × | G53: 済
B54: 非常用施設 | C54: ケーブル本体以外 | D54: ボルト・ナット，アンカー類 | E54: 亀裂 | G54: 継続
B55: その他施設 | E55: 腐食
C56: ジェットファン | E56: 変形，欠損
C57: VI計 | E57: がたつき
C58: CO計 | E58: その他
C59: 風向風速計
C60: その他
C62: 通話型通報設備
C63: 操作型通報設備
C64: 自動通報設備
C65: 非常警報設備
C66: 点 滅 灯
C67: 音信号発生器
C68: 消 火 器
C69: 消火栓設備
C70: 誘導表示施設
C71: 避難情報提供設備
... C83: その他
