Workbook
Name その他: '(参考)リスト'!$C$45
Name その他施設: '(参考)リスト'!$C$76:$C$80
Name 外力: '(参考)リスト'!$E$16:$E$23
Name 換気施設: '(参考)リスト'!$C$55:$C$59
Name 坑門: '(参考)リスト'!$C$16:$C$29
Name 材質劣化: '(参考)リスト'!$E$25:$E$30
Name 照明施設: '(参考)リスト'!$C$51:$C$53
Name 対象箇所: テーブル1[対象箇所]
Name 対象箇所: テーブル1[対象箇所]
Name 対象箇所: テーブル1[対象箇所]
Name 天井板: '(参考)リスト'!$C$34:$C$36
Name 内装板: '(参考)リスト'!$C$31:$C$32
Name 非常用施設: '(参考)リスト'!$C$61:$C$74
Name 覆工: '(参考)リスト'!$C$16:$C$29
Name 覆工・坑門: '(参考)リスト'!$C$16:$C$29
Name 路面: '(参考)リスト'!$C$38:$C$43
Name 漏水: '(参考)リスト'!$E$32:$E$38

Sheet 点検様式作成フロー
A1: 点検様式作成フロ-
A3: 作成フロー図 | H3: 点検調書作成手順
H4: ①様式A-1～A-3（トンネル台帳）
H5: トンネル点検の実施にあたっては，現場点検作業に先行してトンネル情報を収集する。トンネル台帳（様式Ａ－1～様式Ａ－3）はトンネル完成後に作成され，維持管理の段階で引き継がれるが，関連資料等を確認したうえで，追加情報があれば必要に応じて追記することが望ましい。
H9: ②様式D-2-1、様式D-2-1´
H10: 現場点検作業を実施し，近接目視点検で確認した変状状況や補修履歴を忠実に変状展開図に転記する
H12: ③様式D-1-1、様式D-1-2
H13: 変状展開図や撮影した写真等をもとに，対象トンネルの対策区分を判定し，対策区分の判定区分がⅡ～Ⅳの変状および異常判定区分「×」を抽出し，写真台帳を作成する
H16: ④様式B
H17: 写真台帳の作成と同時に，トンネルの構造を展開した位置図に変状写真位置を記録する
H19: ⑤様式D-3
H20: 変状展開図ならびに写真台帳をもとに覆工スパンごとの変状展開図を作成し，変状発生状況をとりまとめる
H22: ⑥様式E-1、様式E-2
H23: 様式Ｄ－1～様式Ｄ－3をもとに，健全性の診断結果を集計する
... H31: ファイルは以下の分割規則に従う。 ※各ファイルとも （参考）リスト のシートを付けて保存すること。 ・様式A-1～A-3は同一ファイルとする。 ・様式B、D-1-1、D-1-2、D-2-1（もしくはD-2-1'）、Eは別ファイルとする。 ・様式C-1-1,C-1-2、C-2は同一ファイルとする。 ・様式D-3、E、Fは同一ファイルとする。

Sheet 変状面積算出方法
A1: 変状面積算出方法
A26: 注1）外力による変状：ひび割れや圧ざの場合は変状の寸法を記録する。
A27: 例）ひび割れ：長さ（L）×最大ひび割れ幅（t）を記録する。 変形，移動，沈下：数値的な記載が可能な場合のみ記載する。
A28: 注2）材料劣化による：打音異常
A29: 例）うき，はく離（閉合ひび割れ）：変状範囲を包括する寸法（L×W） うき，はく離（ひび割れ沿い）：打音異常箇所を包括する寸法（L×W） 鋼材腐食（鉄筋腐食）：一括した対策が適当と考えられる範囲を包括する寸法（L×W）
A30: 注3）漏水による変状：漏水発生範囲を包括し，垂れ下がりの可能性がある側壁下端まで含めた寸法を，L×Wで記録する。打継ぎ目地沿いの 漏水については目地を跨いだ50cm幅を横幅とする。

Sheet 様式A-1
B2: ■トンネル台帳 トンネル諸元、非常用施設諸元 【様式A-1】 | S2: トンネルID
B3: フリガナ | D3: サレアワサンゴトンネル | H3: 路線名 | J3: 橘東和線 | P3: 管理者名 | R3: 柳井土木建築事務所 | W3: 緊急輸送道路 | Z3: 有
B4: 名 称 | D4: 佐連アワサンゴトンネル | W4: 代替路の有無 | Z4: 有
B5: 所在地 | D5: 自 | E5: 大島郡周防大島町大字地家室字地蔵東 | H5: 作成者 | K5: 応用地質株式会社 | P5: 作成年月日 | R5: 44681 | U5: トンネル延長 | X5: L= | Z5: 228 | AB5: ｍ
D6: 至 | E6: 大島郡周防大島町大字字小佐連西までの間 | U6: ﾄﾝﾈﾙの分類 | X6: 陸上トンネル（掘進工法）
B7: 起点 | C7: 緯度 | E7: 335205 | H7: 完成年月日 | K7: 44012 | M7: 舗装 | O7: 種 別 | Q7: コンクリート版 | S7: トンネル非常用施設 | T7: 施設の内訳 | X7: 種別・方式 | Y7: 型式 | Z7: 個数 | AA7: 更新年度 | AE7: =INT(E7/10000) -> 33 | AF7: =INT(E7/100)-AE7*100 -> 52 | AG7: =E7-AE7*10000-AF7*100 -> 5 | AH7: =ROUND(AE7+AF7/60+AG7/60/60,5) -> 33.86806 | AI7: =TEXT(AH7,"0.00000") -> 33.86806
C8: 経度 | E8: 1322108 | H8: 供用年月日 | K8: 44347 | O8: 厚 さ | Q8: 15ｃm | T8: 通報設備 | U8: 通話型通報設備 | AE8: =INT(E8/10000) -> 132 | AF8: =INT(E8/100)-AE8*100 -> 21 | AG8: =E8-AE8*10000-AF8*100 -> 8 | AH8: =ROUND(AE8+AF8/60+AG8/60/60,5) -> 132.35222 | AI8: =TEXT(AH8,"0.00000") -> 132.35222
B9: 終点 | C9: 緯度 | E9: 335203 | H9: トンネル区分 | O9: 面 積 | Q9: 1390 | U9: 操作型通報設備
C10: 経度 | E10: 1322116 | H10: 内装種類 | K10: 内装板無し | O10: 更新年次 | U10: 自動通報設備
B11: 一般有料区分 | E11: 無料 | H11: 天井板種類 | K11: ー | M11: 排水 | O11: 種 別 | Q11: 薄型円形水路 | T11: 警報設備 | U11: 非常警報設備
B12: 土かぶり | E12: 15 | G12: m | H12: 坑門 | I12: 起点 | J12: 形式 | K12: 面壁型 | O12: 更新年次 | T12: 消火設備 | U12: 消 火 器
B13: 内空断面積 | E13: 42.908ｍ2 | G13: ㎡ | J13: 延長 | K13: 0.65 | L13: m | M13: 施設 | P13: 種別・方式 | Q13: 個数 | R13: 更新年次 | U13: 消火栓設備
B14: 交 通 量 | E14: 547 | G14: 台/日 | I14: 終点 | J14: 形式 | K14: 面壁型 | M14: 道路附属物等 | N14: 照明 | P14: LED | Q14: 39 | T14: 避難誘導設備 | U14: 誘導表示設備
C15: 道 路 幅 | E15: 7 | G15: m | J15: 延長 | K15: 0.7 | L15: m | N15: 換気 | P15: 自然 | U15: 避難情報提供設備
B16: 幅 員 | C16: 車 道 幅 | E16: 2.75 | G16: m | H16: 竣工巻厚 | I16: アーチ | K16: 30 | L16: cm | N16: 標識
E17: 2.75 | G17: m | I17: 側 壁 | K17: 30 | L17: cm | N17: 警報表示板 | U17: 避難通路
C18: 歩道等幅 | E18: 0.75 | G18: m | K18: 30 | L18: cm | N18: 吸音板 | U18: 排煙設備
B19: 高さ | C19: 建築限界高 | E19: 4.7 | G19: m | I19: インバート | K19: 30 | L19: cm | T19: その他の設備 | U19: 給水栓設備
C20: 中央高 | E20: 5.661 | G20: m | H20: 半径 | I20: アーチ | L20: cm | U20: 無線通信補助設備
C21: 有効高 | E21: 6.361 | G21: m | I21: 側 壁 | L21: cm | U21: 水噴霧設備
C22: 縦断勾配 | E22: 2 | I22: インバート | L22: cm | U22: 監視設備
B23: 線 形 | C23: 直線区間長 | H23: 占用物件 | I23: 種 類 | K23: 寸 法 | M23: 管理者名 | Q23: 更新年次 | S23: 非常用施設 関連設備 | U23: 予備発電設備
C24: 曲線区間 | D24: 区間長
D25: 起点側ｸﾛｿｲﾄﾞ
D26: 曲線半径
D27: 終点側ｸﾛｿｲﾄﾞ | S27: その他 | U27: 非常駐車帯
B28: トンネル工法 | E28: 山岳トンネル工法（NATM） | U28: 方向転換所
C29: ※緯度・経度については、秒の少数第二位の単位まで記入すること。（例；36度20分35.56秒の場合、362035.36と入力）

Sheet 様式A-2
B3: ■トンネル台帳 トンネル情報一覧表 【様式A-2】
B4: フリガナ | E4: サレアワサンゴトンネル | J4: 路線名 | M4: 橘東和線 | S4: 作成者 | Y4: 応用地質株式会社 | AE4: 作成年月日 | AI4: 44681
B5: 名 称 | E5: 佐連アワサンゴトンネル | J5: 管理者名 | M5: 柳井土木建築事務所
B6: 覆工 ｽﾊﾟﾝ 番号 | C6: ｽﾊﾟﾝ長 | D6: 追加距離 | F6: トンネル本体工 | K6: 照明施設 | O6: 非常用施設 | AE6: 換気施設 | AK6: その他附属物等
O7: ='様式A-1'!T8 -> 通報設備 | R7: ='様式A-1'!T11 -> 警報設備 | S7: ='様式A-1'!T12 -> 消火設備 | U7: ='様式A-1'!T14 -> 避難誘導設備 | Y7: ='様式A-1'!T19 -> その他の設備 | AC7: 特記事項
D8: 起点側 | E8: 終点側 | F8: 特記事項 | I8: 内装板 | J8: 天井板 | K8: 基本照明 | L8: 入口出口照明 | M8: 特記事項 | O8: ='様式A-1'!U8 -> 通話型通報設備 | P8: ='様式A-1'!U9 -> 操作型通報設備 | Q8: ='様式A-1'!U10 -> 自動通報設備 | R8: ='様式A-1'!U11 -> 非常警報設備 | S8: ='様式A-1'!U12 -> 消 火 器 | T8: ='様式A-1'!U13 -> 消火栓設備 | U8: ='様式A-1'!U14 -> 誘導表示設備 | V8: ='様式A-1'!U15 -> 避難情報提供設備 | W8: ='様式A-1'!U17 -> 避難通路 | X8: ='様式A-1'!U18 -> 排煙設備 | Y8: ='様式A-1'!U19 -> 給水栓設備 | Z8: ='様式A-1'!U20 -> 無線通信補助設備 | AA8: ='様式A-1'!U21 -> 水噴霧設備 | AB8: ='様式A-1'!U22 -> 監視設備 | AE8: JF | AF8: VI計 | AG8: CO計 | AH8: 風向 風速計 | AI8: 特記事項
C9: (m) | D9: (m) | E9: (m)
B10: PS | C10: 0 | E10: 0 | F10: 面壁型
B11: 1 | C11: 9 | D11: 0 | E11: 9 | K11: ○
B12: 2 | C12: 10.5 | D12: 9 | E12: 19.5 | K12: ○
B13: 3 | C13: 10.5 | D13: 19.5 | E13: 30 | K13: ○
B14: 4 | C14: 10.5 | D14: 30 | E14: 40.5 | K14: ○
B15: 5 | C15: 10.5 | D15: 40.5 | E15: 51 | K15: ○
B16: 6 | C16: 10.5 | D16: 51 | E16: 61.5 | K16: ○
B17: 7 | C17: 10.5 | D17: 61.5 | E17: 72 | K17: ○
B18: 8 | C18: 10.5 | D18: 72 | E18: 82.5 | K18: ○
B19: 9 | C19: 10.5 | D19: 82.5 | E19: 93 | K19: ○
B20: 10 | C20: 10.5 | D20: 93 | E20: 103.5 | K20: ○
B21: 11 | C21: 10.5 | D21: 103.5 | E21: 114 | K21: ○
B22: 12 | C22: 10.5 | D22: 114 | E22: 124.5 | K22: ○
... B32: 22 | C32: 9 | D32: 219 | E32: 228 | K32: ○
B33: PE | E33: 228 | F33: 面壁型
B50: ※ 行が不足する場合は、適時、表の行を増やすこと。

Sheet 様式A-3
B3: ■トンネル台帳 トンネル記録（位置図、断面図、施工実績他）【様式A-3】
B4: フリガナ | E4: サレアワサンゴトンネル | J4: 路線名 | M4: 橘東和線 | S4: 作成者 | W4: 応用地質株式会社 | AC4: 作成年月日 | AF4: 44681
B5: 名 称 | E5: 佐連アワサンゴトンネル | J5: 管理者名 | M5: 柳井土木建築事務所
B6: 位置図・現況写真・標準断面図・地質縦断図・施工実績
B20: ■トンネル台帳 トンネル記録（位置図、断面図、施工実績他）【様式A-3】
B21: フリガナ | E21: サレアワサンゴトンネル | J21: 路線名 | M21: 橘東和線 | S21: 作成者 | W21: 応用地質株式会社 | AC21: 作成年月日 | AF21: 44681
B22: 名 称 | E22: 佐連アワサンゴトンネル | J22: 管理者名 | M22: 柳井土木建築事務所
B23: 位置図・現況写真・標準断面図・地質縦断図・施工実績
B37: ■トンネル台帳 トンネル記録（位置図、断面図、施工実績他）【様式A-3】
B38: フリガナ | E38: サレアワサンゴトンネル | J38: 路線名 | M38: 橘東和線 | S38: 作成者 | W38: 応用地質株式会社 | AC38: 作成年月日 | AF38: 44681
B39: 名 称 | E39: 佐連アワサンゴトンネル | J39: 管理者名 | M39: 柳井土木建築事務所
B40: 位置図・現況写真・標準断面図・地質縦断図・施工実績
B54: ■トンネル台帳 トンネル記録（位置図、断面図、施工実績他）【様式A-3】
B55: フリガナ | E55: サレアワサンゴトンネル | J55: 路線名 | M55: 橘東和線 | S55: 作成者 | W55: 応用地質株式会社 | AC55: 作成年月日 | AF55: 44681
B56: 名 称 | E56: 佐連アワサンゴトンネル | J56: 管理者名 | M56: 柳井土木建築事務所
B57: 位置図・現況写真・標準断面図・地質縦断図・施工実績
B71: ■トンネル台帳 トンネル記録（位置図、断面図、施工実績他）【様式A-3】
B72: フリガナ | E72: サレアワサンゴトンネル | J72: 路線名 | M72: 橘東和線 | S72: 作成者 | W72: 応用地質株式会社 | AC72: 作成年月日 | AF72: 44681
B73: 名 称 | E73: 佐連アワサンゴトンネル | J73: 管理者名 | M73: 柳井土木建築事務所
B74: 位置図・現況写真・標準断面図・地質縦断図・施工実績
B88: ■トンネル台帳 トンネル記録（位置図、断面図、施工実績他）【様式A-3】
B89: フリガナ | E89: サレアワサンゴトンネル | J89: 路線名 | M89: 橘東和線 | S89: 作成者 | W89: 応用地質株式会社 | AC89: 作成年月日 | AF89: 44681
B90: 名 称 | E90: 佐連アワサンゴトンネル | J90: 管理者名 | M90: 柳井土木建築事務所
B91: 位置図・現況写真・標準断面図・地質縦断図・施工実績
B105: ■トンネル台帳 トンネル記録（位置図、断面図、施工実績他）【様式A-3】
B106: フリガナ | E106: サレアワサンゴトンネル | J106: 路線名 | M106: 橘東和線 | S106: 作成者 | W106: 応用地質株式会社 | AC106: 作成年月日 | AF106: 44681
B107: 名 称 | E107: 佐連アワサンゴトンネル | J107: 管理者名 | M107: 柳井土木建築事務所
B108: 位置図・現況写真・標準断面図・地質縦断図・施工実績

Sheet 様式B(トンネル様式1P001)
B2: ■定期点検記録様式 トンネル変状・異常箇所写真位置図 【様式B】 | T2: トンネルID | AA2: Ⅰ | AB2: あり | AC2: 陸上トンネル 掘進工法
B3: フリガナ | D3: サレアワサンゴトンネル | H3: 路線名 | J3: 橘東和線 | N3: 管理者名 | P3: 柳井土木建築事務所 | T3: 緊急輸送道路 | V3: あり | AA3: Ⅱ | AB3: なし | AC3: 陸上トンネル 開削工法
B4: 名 称 | D4: 佐連アワサンゴトンネル | T4: 代替路の有無 | V4: あり | AA4: Ⅲ | AC4: 陸上トンネル その他
B5: 所在地 | D5: 自 | E5: 大島郡周防大島町大字地家室字地蔵東 | H5: 定期点検業者 | K5: 応用地質株式会社 | O5: 定期点検年月日 | Q5: 44650 | T5: トンネル延長 | V5: L= | W5: 228 | Y5: ｍ | AA5: Ⅳ | AC5: 水底トンネル 掘進工法
D6: 至 | E6: 大島郡周防大島町大字字小佐連西までの間 | H6: 定期点検者名 | K6: 宮前 清 | T6: ﾄﾝﾈﾙの分類 | V6: 陸上トンネル（掘進工法） | AC6: 水底トンネル 沈埋工法
B7: 起点 | C7: 緯度 | D7: 33°52′05.00″ | F7: 変状・異常 箇所数合計 | H7: トンネル 本体工 | J7: 材質劣化 | L7: Ⅱ | M7: 0 | N7: Ⅲ | O7: 0 | P7: Ⅳ | Q7: 0 | R7: トンネル毎 の健全性 | T7: Ⅰ | V7: 附属物の 取付状態 | W7: ◯ （応急措置後） | Y7: 0 | AC7: 水底トンネル 開削工法
AC8: 水底トンネル その他
C10: 経度 | D10: 132°21′08.00″
J11: 漏水 | L11: Ⅱ | M11: 0 | N11: Ⅲ | O11: 0 | P11: Ⅳ | Q11: 0
B13: 終点 | C13: 緯度 | D13: 33°52′03.00″ | W13: ✕ | Y13: 0
J15: 外力 | L15: Ⅱ | M15: 0 | N15: Ⅲ | O15: 0 | P15: Ⅳ | Q15: 0 | AC15: 0
C16: 経度 | D16: 132°22′11.60″
B19: トンネル変状・異常箇所写真位置図
P26: 注１：本位置図は、見下げた状態で記載すること。 注２：覆工スパン番号は横断目地毎(矢板工法の場合は上半アーチ の横断目地毎)に設定すること。 注３：写真番号に付する変状番号は、各覆工スパンの変状に対して新た に確認された場合は順次追加していくこと。 注４：横断目地の変状は前の覆工スパン番号で計上すること。 注５：１枚に収まらない場合は、複数枚に分けて作成すること。
C28: ※1 トンネル本体工の変状数は、材質劣化、漏水に起因するものは変状単位で、外力に起因するものはスパン単位で計上すること。
C29: ※2 本体工の変状に対しては、健全性の判定区分Ⅱ～Ⅳについて添付すること。また、点検前に実施された措置によりⅠと判定された箇所も添付すること。
C30: ※3 附属物の取付状態の○欄については、応急措置前に判定区分×とした箇所のうち応急措置により○判定とした箇所の数を記入すること。
C31: ※4 附属物の異常番号は、本体工と番号が重複しないよう101番以降とする等の配慮を行い、分かりやすく記録すること。
B33: ■定期点検記録様式 トンネル変状・異常箇所写真位置図 【様式B】 | T33: トンネルID | AA33: Ⅰ | AB33: あり | AC33: 陸上トンネル 掘進工法
B34: フリガナ | D34: サレアワサンゴトンネル | H34: 路線名 | J34: 橘東和線 | N34: 管理者名 | P34: 柳井土木建築事務所 | T34: 緊急輸送道路 | V34: あり | AA34: Ⅱ | AB34: なし | AC34: 陸上トンネル 開削工法
B35: 名 称 | D35: 佐連アワサンゴトンネル | T35: 代替路の有無 | V35: あり | AA35: Ⅲ | AC35: 陸上トンネル その他
B36: 所在地 | D36: 自 | E36: 大島郡周防大島町大字地家室字地蔵東 | H36: 定期点検業者 | K36: 応用地質株式会社 | O36: 定期点検年月日 | Q36: 44650 | T36: トンネル延長 | V36: L= | W36: 228 | Y36: ｍ | AA36: Ⅳ | AC36: 水底トンネル 掘進工法
D37: 至 | E37: 大島郡周防大島町大字字小佐連西までの間 | H37: 定期点検者名 | K37: 宮前 清 | T37: ﾄﾝﾈﾙの分類 | V37: 陸上トンネル（掘進工法） | AC37: 水底トンネル 沈埋工法
B38: 起点 | C38: 緯度 | D38: 33°52′05.00″ | F38: 変状・異常 箇所数合計 | H38: トンネル 本体工 | J38: 材質劣化 | L38: Ⅱ | M38: 0 | N38: Ⅲ | O38: 0 | P38: Ⅳ | Q38: 0 | R38: トンネル毎 の健全性 | T38: Ⅰ | V38: 附属物の 取付状態 | W38: ◯ （応急措置後） | Y38: 0 | AC38: 水底トンネル 開削工法
AC39: 水底トンネル その他
C41: 経度 | D41: 132°21′08.00″
J42: 漏水 | L42: Ⅱ | M42: 0 | N42: Ⅲ | O42: 0 | P42: Ⅳ | Q42: 0
B44: 終点 | C44: 緯度 | D44: 33°52′03.00″ | W44: ✕ | Y44: 0
J46: 外力 | L46: Ⅱ | M46: 0 | N46: Ⅲ | O46: 0 | P46: Ⅳ | Q46: 0 | AC46: 0
C47: 経度 | D47: 132°22′11.60″
B50: トンネル変状・異常箇所写真位置図
P57: 注１：本位置図は、見下げた状態で記載すること。 注２：覆工スパン番号は横断目地毎(矢板工法の場合は上半アーチ の横断目地毎)に設定すること。 注３：写真番号に付する変状番号は、各覆工スパンの変状に対して新た に確認された場合は順次追加していくこと。 注４：横断目地の変状は前の覆工スパン番号で計上すること。 注５：１枚に収まらない場合は、複数枚に分けて作成すること。
C59: ※1 トンネル本体工の変状数は、材質劣化、漏水に起因するものは変状単位で、外力に起因するものはスパン単位で計上すること。
C60: ※2 本体工の変状に対しては、健全性の判定区分Ⅱ～Ⅳについて添付すること。また、点検前に実施された措置によりⅠと判定された箇所も添付すること。
C61: ※3 附属物の取付状態の○欄については、応急措置前に判定区分×とした箇所のうち応急措置により○判定とした箇所の数を記入すること。
C62: ※4 附属物の異常番号は、本体工と番号が重複しないよう101番以降とする等の配慮を行い、分かりやすく記録すること。
B64: ■定期点検記録様式 トンネル変状・異常箇所写真位置図 【様式B】 | T64: トンネルID | AA64: Ⅰ | AB64: あり | AC64: 陸上トンネル 掘進工法
B65: フリガナ | D65: サレアワサンゴトンネル | H65: 路線名 | J65: 橘東和線 | N65: 管理者名 | P65: 柳井土木建築事務所 | T65: 緊急輸送道路 | V65: あり | AA65: Ⅱ | AB65: なし | AC65: 陸上トンネル 開削工法
B66: 名 称 | D66: 佐連アワサンゴトンネル | T66: 代替路の有無 | V66: あり | AA66: Ⅲ | AC66: 陸上トンネル その他
B67: 所在地 | D67: 自 | E67: 大島郡周防大島町大字地家室字地蔵東 | H67: 定期点検業者 | K67: 応用地質株式会社 | O67: 定期点検年月日 | Q67: 44650 | T67: トンネル延長 | V67: L= | W67: 228 | Y67: ｍ | AA67: Ⅳ | AC67: 水底トンネル 掘進工法
D68: 至 | E68: 大島郡周防大島町大字字小佐連西までの間 | H68: 定期点検者名 | K68: 宮前 清 | T68: ﾄﾝﾈﾙの分類 | V68: 陸上トンネル（掘進工法） | AC68: 水底トンネル 沈埋工法
B69: 起点 | C69: 緯度 | D69: 33°52′05.00″ | F69: 変状・異常 箇所数合計 | H69: トンネル 本体工 | J69: 材質劣化 | L69: Ⅱ | M69: 0 | N69: Ⅲ | O69: 0 | P69: Ⅳ | Q69: 0 | R69: トンネル毎 の健全性 | T69: Ⅰ | V69: 附属物の 取付状態 | W69: ◯ （応急措置後） | Y69: 0 | AC69: 水底トンネル 開削工法
AC70: 水底トンネル その他
C72: 経度 | D72: 132°21′08.00″
J73: 漏水 | L73: Ⅱ | M73: 0 | N73: Ⅲ | O73: 0 | P73: Ⅳ | Q73: 0
B75: 終点 | C75: 緯度 | D75: 33°52′03.00″ | W75: ✕ | Y75: 0
J77: 外力 | L77: Ⅱ | M77: 0 | N77: Ⅲ | O77: 0 | P77: Ⅳ | Q77: 0 | AC77: 0
C78: 経度 | D78: 132°22′11.60″
B81: トンネル変状・異常箇所写真位置図
P88: 注１：本位置図は、見下げた状態で記載すること。 注２：覆工スパン番号は横断目地毎(矢板工法の場合は上半アーチ の横断目地毎)に設定すること。 注３：写真番号に付する変状番号は、各覆工スパンの変状に対して新た に確認された場合は順次追加していくこと。 注４：横断目地の変状は前の覆工スパン番号で計上すること。 注５：１枚に収まらない場合は、複数枚に分けて作成すること。
C90: ※1 トンネル本体工の変状数は、材質劣化、漏水に起因するものは変状単位で、外力に起因するものはスパン単位で計上すること。
C91: ※2 本体工の変状に対しては、健全性の判定区分Ⅱ～Ⅳについて添付すること。また、点検前に実施された措置によりⅠと判定された箇所も添付すること。
C92: ※3 附属物の取付状態の○欄については、応急措置前に判定区分×とした箇所のうち応急措置により○判定とした箇所の数を記入すること。
C93: ※4 附属物の異常番号は、本体工と番号が重複しないよう101番以降とする等の配慮を行い、分かりやすく記録すること。
B95: ■定期点検記録様式 トンネル変状・異常箇所写真位置図 【様式B】 | T95: トンネルID | AA95: Ⅰ | AB95: あり | AC95: 陸上トンネル 掘進工法
B96: フリガナ | D96: サレアワサンゴトンネル | H96: 路線名 | J96: 橘東和線 | N96: 管理者名 | P96: 柳井土木建築事務所 | T96: 緊急輸送道路 | V96: あり | AA96: Ⅱ | AB96: なし | AC96: 陸上トンネル 開削工法
B97: 名 称 | D97: 佐連アワサンゴトンネル | T97: 代替路の有無 | V97: あり | AA97: Ⅲ | AC97: 陸上トンネル その他
B98: 所在地 | D98: 自 | E98: 大島郡周防大島町大字地家室字地蔵東 | H98: 定期点検業者 | K98: 応用地質株式会社 | O98: 定期点検年月日 | Q98: 44650 | T98: トンネル延長 | V98: L= | W98: 228 | Y98: ｍ | AA98: Ⅳ | AC98: 水底トンネル 掘進工法
D99: 至 | E99: 大島郡周防大島町大字字小佐連西までの間 | H99: 定期点検者名 | K99: 宮前 清 | T99: ﾄﾝﾈﾙの分類 | V99: 陸上トンネル（掘進工法） | AC99: 水底トンネル 沈埋工法
B100: 起点 | C100: 緯度 | D100: 33°52′05.00″ | F100: 変状・異常 箇所数合計 | H100: トンネル 本体工 | J100: 材質劣化 | L100: Ⅱ | M100: 0 | N100: Ⅲ | O100: 0 | P100: Ⅳ | Q100: 0 | R100: トンネル毎 の健全性 | T100: Ⅰ | V100: 附属物の 取付状態 | W100: ◯ （応急措置後） | Y100: 0 | AC100: 水底トンネル 開削工法
AC101: 水底トンネル その他
C103: 経度 | D103: 132°21′08.00″
J104: 漏水 | L104: Ⅱ | M104: 0 | N104: Ⅲ | O104: 0 | P104: Ⅳ | Q104: 0
B106: 終点 | C106: 緯度 | D106: 33°52′03.00″ | W106: ✕ | Y106: 0
J108: 外力 | L108: Ⅱ | M108: 0 | N108: Ⅲ | O108: 0 | P108: Ⅳ | Q108: 0 | AC108: 0
C109: 経度 | D109: 132°22′11.60″
B112: トンネル変状・異常箇所写真位置図
P119: 注１：本位置図は、見下げた状態で記載すること。 注２：覆工スパン番号は横断目地毎(矢板工法の場合は上半アーチ の横断目地毎)に設定すること。 注３：写真番号に付する変状番号は、各覆工スパンの変状に対して新た に確認された場合は順次追加していくこと。 注４：横断目地の変状は前の覆工スパン番号で計上すること。 注５：１枚に収まらない場合は、複数枚に分けて作成すること。
C121: ※1 トンネル本体工の変状数は、材質劣化、漏水に起因するものは変状単位で、外力に起因するものはスパン単位で計上すること。
C122: ※2 本体工の変状に対しては、健全性の判定区分Ⅱ～Ⅳについて添付すること。また、点検前に実施された措置によりⅠと判定された箇所も添付すること。
C123: ※3 附属物の取付状態の○欄については、応急措置前に判定区分×とした箇所のうち応急措置により○判定とした箇所の数を記入すること。
C124: ※4 附属物の異常番号は、本体工と番号が重複しないよう101番以降とする等の配慮を行い、分かりやすく記録すること。

Sheet 様式C-1-1
B2: ■定期点検記録様式 全スパン定期点検結果総括表（トンネル本体工） 【様式C-1-1】
B3: フリガナ | F3: サレアワサンゴトンネル | I3: 路線名 | K3: 橘東和線 | O3: 定期点検業者 | Q3: 応用地質株式会社 | U3: 定期点検年月日 | Y3: 44650
B4: 名 称 | F4: 佐連アワサンゴトンネル | I4: 管理者名 | K4: 柳井土木建築事務所 | O4: 定期点検者名 | Q4: 宮前 清
B5: 定期点検結果 | C5: 覆工 スパン 番号 | E5: 変状 番号 | F5: 距離 （m） | G5: 変状部位 | I5: 変 状 の 内 容 | O5: 前回定期点検時の状態 | Q5: 今回定期点検結果 | U5: 措置履歴 | Z5: 対応方針 ・ 特記事項
G7: 対象箇所 | H7: 部位区分 | I7: 変状区分 | J7: 変状種類 | M7: 変状の発生範囲の規模 | N7: 前回定期点検時 との比較 | O7: 状態 | P7: 健全性 | Q7: 対策区分 | S7: 調査の 要否 | T7: 措置の 要否 | U7: 実施 | V7: 措置の実施状況
Q8: 応急措置前 | R8: 応急措置後
C42: ※ 対策区分（応急措置後）の判定区分Ⅱ～Ⅳについて記入すること。また、点検前に実施された措置によりⅠと判定された変状も記入すること。
C43: ※ 応急措置を実施しないで判定した変状の対策区分は、対策区分の応急措置後の欄に記入すること。
C44: ※ 変状の除去が不完全で、緊急対応が必要な場合は対応方針欄に記入すること。
C45: ※ １区間の覆工に複数の変状がある場合は、変状箇所毎に記入すること。
C46: ※ 措置・監視点検を行った場合には、措置履歴、特記事項に記録を残すこと。（実施年度も記載）
C47: ※ 行が不足する場合は、適時、表の行を増やすこと。

Sheet 様式C-1-2
B2: ■定期点検記録様式 定期点検結果総括表（トンネル内附属物等の取付状態） 【様式C-1-2】
B3: フリガナ | F3: サレアワサンゴトンネル | J3: 路線名 | L3: 橘東和線 | O3: 定期点検業者 | Q3: 応用地質株式会社 | U3: 定期点検年月日 | Y3: 44650
B4: 名 称 | F4: 佐連アワサンゴトンネル | J4: 管理者名 | L4: 柳井土木建築事務所 | O4: 定期点検者名 | Q4: 宮前 清
B5: 定期点検結果 | C5: 覆工 スパン 番号 | E5: 異常 番号 | F5: 距離 （m） | G5: 異常部位 | J5: 異 常 の 内 容 | P5: 定期点検結果 | R5: 応急措置の 実施状況 | X5: 対応方針 ・ 特記事項
G6: 対象箇所 | I6: 部位区分 | J6: 異常種類 | N6: 異常の発生範囲の規模 | P6: 異常判定区分 | R6: 実施 | S6: 応急措置の内容
P7: 応急措置前 | Q7: 応急措置後
C39: ※ 異常判定区分×について記入すること。また、応急措置により○と判定された箇所も記入すること。
C40: ※ 応急措置を実施しないで判定した箇所の異常判定区分は、異常判定区分の応急措置後の欄に記入すること。
C41: ※ 異常の除去が不完全で、緊急対応が必要な場合は対応方針欄に記入すること。
C42: ※ １スパンの覆工に複数の異常がある場合は、異常箇所毎に記入すること。
C43: ※ 行が不足する場合は、適時、表の行を増やすこと。

Sheet 様式C-2
B2: ■定期点検記録様式 状態の把握の内容 【様式C-2】
B3: フリガナ | E3: サレアワサンゴトンネル | H3: 路線名 | J3: 橘東和線 | M3: 定期点検業者 | R3: 応用地質株式会社 | U3: 定期点検年月日 | X3: 44650
B4: 名 称 | E4: 佐連アワサンゴトンネル | H4: 管理者名 | J4: 柳井土木建築事務所 | M4: 定期点検者名 | R4: 宮前 清
B5: 状態の把握の内容 | C5: 覆工スパン 番号 | E5: 変状 番号 | F5: 状態の把握の内容
F6: 年月日 | H6: 内容 | O6: 結果 | W6: 対策区分の 判定 | Y6: 健全性
B22: 注）状態の把握において、微破壊・非破壊検査や各種試験等を実施した場合について記載する。
B23: ※ 行が不足する場合は、適時、表の行を増やすこと。

Sheet 様式D-1-1(トンネル様式2P001)
B2: ■定期点検記録様式 変状写真台帳 | Y2: Ⅰ
B3: フリガナ | D3: サレアワサンゴトンネル | H3: 路線名 | J3: 橘東和線 | M3: 定期点検業者 | P3: 応用地質株式会社 | S3: 定期点検年月日 | U3: 44650 | Y3: Ⅱ
B4: 名 称 | D4: 佐連アワサンゴトンネル | H4: 管理者名 | J4: 柳井土木建築事務所 | M4: 定期点検者名 | P4: 宮前 清 | Y4: Ⅲ
B5: 写真 番号 | C5: 覆工 スパン 番号 | M5: 写真 番号 | N5: 覆工 スパン 番号 | Y5: Ⅳ
Y6: －
C7: 変状 番号 | N7: 変状 番号
B9: 変状 部位 | C9: 対象 箇所 | M9: 変状 部位 | N9: 対象 箇所
C11: 部位 区分 | N11: 部位 区分
B13: 変状区分 | M13: 変状区分
B14: 変状種類 | M14: 変状種類
B15: 健全性 | C15: 応急措置前 | M15: 健全性 | N15: 応急措置前
C16: 応急措置後 | N16: 応急措置後
B17: 変状の発生範囲の規模 | M17: 変状の発生範囲の規模
B18: 前回定期点検時の状態 | M18: 前回定期点検時の状態
B19: 調査方針 | M19: 調査方針
B20: 対策履歴 | H20: 実施状況（実施日） | M20: 対策履歴 | S20: 実施状況（実施日）
B21: メモ | M21: メモ
B22: 写真 番号 | C22: 覆工 スパン 番号 | M22: 写真 番号 | N22: 覆工 スパン 番号
C24: 変状 番号 | N24: 変状 番号
B26: 変状 部位 | C26: 対象 箇所 | M26: 変状 部位 | N26: 対象 箇所
C28: 部位 区分 | N28: 部位 区分
B30: 変状区分 | M30: 変状区分
B31: 変状種類 | M31: 変状種類
B32: 健全性 | C32: 応急措置前 | M32: 健全性 | N32: 応急措置前
C33: 応急措置後 | N33: 応急措置後
B34: 変状の発生範囲の規模 | M34: 変状の発生範囲の規模
B35: 前回定期点検時の状態 | M35: 前回定期点検時の状態
B36: 調査方針 | M36: 調査方針
B37: 対策履歴 | H37: 実施状況（実施日） | M37: 対策履歴 | S37: 実施状況（実施日）
B38: メモ | M38: メモ
C39: ※ 健全性（応急措置後）の判定区分Ⅱ～Ⅳについて添付すること。また、点検前に 実施された措置によりⅠと判定された箇所も添付すること。 | N39: ※ 変状の発生範囲の規模とは、対策を行う際に参考となる変状の長さや面積をいう。
N40: ※ 応急措置を実施しないで判定した変状の健全性は、健全性の応急措置後の欄に記入すること。
C41: ※ たたき落としを実施した場合は、実施後の写真を添付すること。 | N41: ※ 変状の発生範囲の規模は、面積・寸法を記載すること。
C42: ※ 附属物の取付状態に関する異常写真は別途、様式D-1-2でとりまとめること。 | N42: (ひび割れ幅のみmmとし、その他をm表記とする)
C43: ※ 変状数に準じてシートを追加すること。（１シートに１ページとすること。） | N43: ※ 構造用鋼材以外の異物に伴ううき・はく離については、メモ欄に異物の概要を記入すること。

Sheet 様式D-1-2
B2: ■定期点検記録様式 異常写真台帳（トンネル内附属物等の取付状態） 【様式D-1-2】
B3: フリガナ | E3: サレアワサンゴトンネル | I3: 路 線 名 | L3: 橘東和線 | O3: 定期点検業者 | R3: 応用地質株式会社 | U3: 定期点検年月日 | W3: 44650
B4: 名 称 | E4: 佐連アワサンゴトンネル | I4: 管理者名 | L4: 柳井土木建築事務所 | O4: 定期点検者名 | R4: 宮前 清
B5: 覆工スパン番号 | F5: 異常番号 | J5: 覆工スパン番号 | N5: 異常番号 | R5: 覆工スパン番号 | V5: 異常番号
B6: 対象箇所 | G6: 部位区分 | J6: 対象箇所 | O6: 部位区分 | R6: 対象箇所 | W6: 部位区分
B7: 異常の種類 | J7: 異常の種類 | R7: 異常の種類
B8: 異常判定区分 | E8: メモ | J8: 異常判定区分 | M8: メモ | R8: 異常判定区分 | U8: メモ
B22: 覆工スパン番号 | F22: 異常番号 | J22: 覆工スパン番号 | N22: 異常番号 | R22: 覆工スパン番号 | V22: 異常番号
B23: 対象箇所 | G23: 部位区分 | J23: 対象箇所 | O23: 部位区分 | R23: 対象箇所 | W23: 部位区分
B24: 異常の種類 | J24: 異常の種類 | R24: 異常の種類
B25: 異常判定区分 | E25: メモ | J25: 異常判定区分 | M25: メモ | R25: 異常判定区分 | U25: メモ
B39: 覆工スパン番号 | F39: 異常番号 | J39: 覆工スパン番号 | N39: 異常番号 | R39: 覆工スパン番号 | V39: 異常番号
B40: 対象箇所 | G40: 部位区分 | J40: 対象箇所 | O40: 部位区分 | R40: 対象箇所 | W40: 部位区分
B41: 異常の種類 | J41: 異常の種類 | R41: 異常の種類
B42: 異常判定区分 | E42: メモ | J42: 異常判定区分 | M42: メモ | R42: 異常判定区分 | U42: メモ
D56: ※ 異常判定区分×について記入すること。また、応急措置前に異常判定区分×とした箇所のうち応急措置により○と判定した箇所も記入すること。
D57: ※ 応急措置を実施した場合は、その実施状況が分かる写真を添付すること。
D58: ※ 画像データは100kb程度とする。 | L58: ※ 変状数に準じてシートを追加すること。（１シートに１ページとすること。）

Sheet 様式D-2-1
B3: ■定期点検記録様式 トンネル全体変状展開図 【様式D-2-1】
B4: フリガナ | E4: サレアワサンゴトンネル | J4: 路線名 | M4: 橘東和線 | S4: 定期点検業者 | W4: 応用地質株式会社 | AC4: 定期点検年月日 | AF4: 44650
B5: 名 称 | E5: 佐連アワサンゴトンネル | J5: 管理者名 | M5: 柳井土木建築事務所 | S5: 定期点検者名 | W5: 宮前 清
B6: トンネル変状展開図 | C6: トンネル全体変状展開図
V18: 注１：本展開図は、見下げた状態で記載すること。 注２：覆工スパン番号は横断目地毎（矢板工法の場合は上半アーチ の横断目地毎)に設定すること。 注３：横断目地の変状は前の覆工スパン番号で計上すること。 注４：１枚に収まらない場合は、複数枚に分けて作成すること。
B20: ■定期点検記録様式 トンネル全体変状展開図 【様式D-2-1】
B21: フリガナ | E21: サレアワサンゴトンネル | J21: 路線名 | M21: 橘東和線 | S21: 定期点検業者 | W21: 応用地質株式会社 | AC21: 定期点検年月日 | AF21: 44650
B22: 名 称 | E22: 佐連アワサンゴトンネル | J22: 管理者名 | M22: 柳井土木建築事務所 | S22: 定期点検者名 | W22: 宮前 清
B23: トンネル変状展開図 | C23: トンネル全体変状展開図
V35: 注１：本展開図は、見下げた状態で記載すること。 注２：覆工スパン番号は横断目地毎（矢板工法の場合は上半アーチ の横断目地毎)に設定すること。 注３：横断目地の変状は前の覆工スパン番号で計上すること。 注４：１枚に収まらない場合は、複数枚に分けて作成すること。
B37: ■定期点検記録様式 トンネル全体変状展開図 【様式D-2-1】
B38: フリガナ | E38: サレアワサンゴトンネル | J38: 路線名 | M38: 橘東和線 | S38: 定期点検業者 | W38: 応用地質株式会社 | AC38: 定期点検年月日 | AF38: 44650
B39: 名 称 | E39: 佐連アワサンゴトンネル | J39: 管理者名 | M39: 柳井土木建築事務所 | S39: 定期点検者名 | W39: 宮前 清
B40: トンネル変状展開図 | C40: トンネル全体変状展開図
V52: 注１：本展開図は、見下げた状態で記載すること。 注２：覆工スパン番号は横断目地毎（矢板工法の場合は上半アーチ の横断目地毎)に設定すること。 注３：横断目地の変状は前の覆工スパン番号で計上すること。 注４：１枚に収まらない場合は、複数枚に分けて作成すること。
B54: ■定期点検記録様式 トンネル全体変状展開図 【様式D-2-1】
B55: フリガナ | E55: サレアワサンゴトンネル | J55: 路線名 | M55: 橘東和線 | S55: 定期点検業者 | W55: 応用地質株式会社 | AC55: 定期点検年月日 | AF55: 44650
B56: 名 称 | E56: 佐連アワサンゴトンネル | J56: 管理者名 | M56: 柳井土木建築事務所 | S56: 定期点検者名 | W56: 宮前 清
B57: トンネル変状展開図 | C57: トンネル全体変状展開図
V69: 注１：本展開図は、見下げた状態で記載すること。 注２：覆工スパン番号は横断目地毎（矢板工法の場合は上半アーチ の横断目地毎)に設定すること。 注３：横断目地の変状は前の覆工スパン番号で計上すること。 注４：１枚に収まらない場合は、複数枚に分けて作成すること。

Sheet 様式D-2-1´
B3: ■定期点検記録様式 トンネル全体変状展開図（機器の活用時） 【様式D-2-1’】
B4: フリガナ | E4: サレアワサンゴトンネル | J4: 路線名 | M4: 橘東和線 | S4: 定期点検業者 | W4: 応用地質株式会社 | AC4: 定期点検年月日 | AF4: 44650
B5: 名 称 | E5: 佐連アワサンゴトンネル | J5: 管理者名 | M5: 柳井土木建築事務所 | S5: 定期点検者名 | W5: 宮前 清
B6: トンネル変状展開図 | C6: トンネル全体変状展開図
S18: 注１：本展開図は、見下げた状態で記載すること。 注２：覆工スパン番号は横断目地毎（矢板工法の場合は上半アーチの横断目地毎)に 設定すること。 注３：横断目地の変状は前の覆工スパン番号で計上すること。 注４：１枚に収まらない場合は、複数枚に分けて作成すること。 注５：覆工写真の画像サイズは500kb程度とすること。

Sheet 様式D-3_S00
AU1: 様式Fリンク用→ | AV1: 覆工ｽﾊﾟﾝ 番号 | AW1: ｽﾊﾟﾝ 長 (m) | AX1: 変状数集計 | BS1: 覆工スパン毎の 健全性の診断 | BW1: 変状規模集計
AX2: 対策区分毎の変状数 | BJ2: 健全性の判定区分毎の変状数 | BW2: 覆工スパン長(m) | CA2: 対策区分毎の変状の発生範囲の規模(㎡）
B3: ■定期点検記録様式 覆工スパン別変状詳細展開図 【様式D-3】 | AX3: 外力 | BB3: 材質劣化 | BF3: 漏水 | BJ3: 外力 | BM3: 材質劣化 | BP3: 漏水 | BS3: 外力 | BT3: 材質劣化 | BU3: 漏水 | BV3: 健全性 | BW3: 外力※１ | CA3: 材質劣化 | CE3: 漏水
B4: フリガナ | E4: サレアワサンゴトンネル | K4: 路線名 | N4: 橘東和線 | T4: 定期点検業者 | Y4: 応用地質株式会社 | AG4: 定期点検年月日 | AK4: 44650 | AX4: Ⅳ | AY4: Ⅲ | AZ4: Ⅱa | BA4: Ⅱb | BB4: Ⅳ | BC4: Ⅲ | BD4: Ⅱa | BE4: Ⅱb | BF4: Ⅳ | BG4: Ⅲ | BH4: Ⅱa | BI4: Ⅱb | BJ4: Ⅳ | BK4: Ⅲ | BL4: Ⅱ | BM4: Ⅳ | BN4: Ⅲ | BO4: Ⅱ | BP4: Ⅳ | BQ4: Ⅲ | BR4: Ⅱ | BW4: Ⅳ | BX4: Ⅲ | BY4: Ⅱa | BZ4: Ⅱb | CA4: Ⅳ | CB4: Ⅲ | CC4: Ⅱa | CD4: Ⅱb | CE4: Ⅳ | CF4: Ⅲ | CG4: Ⅱa | CH4: Ⅱb
B5: 名 称 | E5: 佐連アワサンゴトンネル | K5: 管理者名 | N5: 柳井土木建築事務所 | T5: 定期点検者名 | Y5: 宮前 清 | AQ5: 〇 | AV5: =N7 -> PS | AW5: =R7 -> 0 | AX5: =+Y32 -> 0 | AY5: =+Z32 -> 0 | AZ5: =+AA32 -> 0 | BA5: =+AB32 -> 0 | BB5: =+AC32 -> 0 | BC5: =+AD32 -> 0 | BD5: =+AE32 -> 0 | BE5: =+AF32 -> 0 | ... BI5: =+AJ32 -> 0 | BJ5: =+Y35 -> 0 | BK5: =+Z35 -> 0 | BL5: =+AA35 -> 0 | BM5: =+AC35 -> 0 | BN5: =+AD35 -> 0 | BO5: =+AE35 -> 0 | BP5: =+AG35 -> 0 | BQ5: =+AH35 -> 0 | BR5: =+AI35 -> 0 | BS5: =+Y36 -> Ⅰ | BT5: =+AC36 -> Ⅰ | BU5: =+AG36 -> Ⅰ | BV5: =+Y37 -> Ⅰ | BW5: =IF(Y32>0,R7,"") | BX5: =IF(Z32>0,"",IF(AA32>0,R7,"")) | BY5: =IF(Y32+Z32>0,"",IF(AA32>0,R7,"")) | BZ5: =IF(Y32+Z32+AA32>0,"",IF(AB32>0,R7,"")) | CA5: =+AC31 -> 0 | CB5: =+AD31 -> 0 | CC5: =+AE31 -> 0 | CD5: =+AF31 -> 0 | CE5: =+AG31 -> 0 | CF5: =+AH31 -> 0 | CG5: =+AI31 -> 0 | CH5: =+AJ31 -> 0
B6: スパン別変状展開図 | K6: 【健全性判定集計表】
K7: スパン番号 | N7: PS | P7: スパン長 | R7: 0 | U7: 前回定期点検時の健全性 | W7: 応急措置前の判定 | Y7: 対策区分毎の 変状の有無 | AC7: 対策区分毎の変状の発生範囲の規模(㎡) | AK7: 備考注2
K8: 変状番号 | L8: 対象箇所 | N8: 部位区分 | P8: 変状区分 | R8: 変状種類
Y9: 外力注1 | AC9: 材質劣化注1 | AG9: 漏水注1
Y10: Ⅳ | Z10: Ⅲ | AA10: Ⅱa | AB10: Ⅱb | AC10: Ⅳ | AD10: Ⅲ | AE10: Ⅱa | AF10: Ⅱb | AG10: Ⅳ | AH10: Ⅲ | AI10: Ⅱa | AJ10: Ⅱb
AQ11: =IF(P11="外力",1,IF(P11="材質劣化",2,IF(P11="漏水",3,4))) -> 4
AQ12: =IF(P12="外力",1,IF(P12="材質劣化",2,IF(P12="漏水",3,4))) -> 4
AQ13: =IF(P13="外力",1,IF(P13="材質劣化",2,IF(P13="漏水",3,4))) -> 4
AQ14: =IF(P14="外力",1,IF(P14="材質劣化",2,IF(P14="漏水",3,4))) -> 4
AQ15: =IF(P15="外力",1,IF(P15="材質劣化",2,IF(P15="漏水",3,4))) -> 4
AQ16: =IF(P16="外力",1,IF(P16="材質劣化",2,IF(P16="漏水",3,4))) -> 4
AQ17: =IF(P17="外力",1,IF(P17="材質劣化",2,IF(P17="漏水",3,4))) -> 4
AQ18: =IF(P18="外力",1,IF(P18="材質劣化",2,IF(P18="漏水",3,4))) -> 4
AQ19: =IF(P19="外力",1,IF(P19="材質劣化",2,IF(P19="漏水",3,4))) -> 4
AQ20: =IF(P20="外力",1,IF(P20="材質劣化",2,IF(P20="漏水",3,4))) -> 4
AQ21: =IF(P21="外力",1,IF(P21="材質劣化",2,IF(P21="漏水",3,4))) -> 4
AQ22: =IF(P22="外力",1,IF(P22="材質劣化",2,IF(P22="漏水",3,4))) -> 4
... AQ30: =IF(P30="外力",1,IF(P30="材質劣化",2,IF(P30="漏水",3,4))) -> 4
K31: 集計 ・ 判定 ・ 診断 | L31: 変状の発生規模合計(㎡) | Y31: － | AC31: =SUM(AC11:AC30) -> 0 | AD31: =SUM(AD11:AD30) -> 0 | AE31: =SUM(AE11:AE30) -> 0 | AF31: =SUM(AF11:AF30) -> 0 | AG31: =SUM(AG11:AG30) -> 0 | AH31: =SUM(AH11:AH30) -> 0 | AI31: =SUM(AI11:AI30) -> 0 | AJ31: =SUM(AJ11:AJ30) -> 0 | AK31: 計
L32: 対策区分の 判定結果 | O32: 判定区分毎の変状数 | Y32: =COUNTIF(Y11:Y30,"〇") -> 0 | Z32: =COUNTIF(Z11:Z30,"〇") -> 0 | AA32: =COUNTIF(AA11:AA30,"〇") -> 0 | AB32: =COUNTIF(AB11:AB30,"〇") -> 0 | AC32: =COUNT(AC11:AC30) -> 0 | AD32: =COUNT(AD11:AD30) -> 0 | AE32: =COUNT(AE11:AE30) -> 0 | AF32: =COUNT(AF11:AF30) -> 0 | AG32: =COUNT(AG11:AG30) -> 0 | AH32: =COUNT(AH11:AH30) -> 0 | AI32: =COUNT(AI11:AI30) -> 0 | AJ32: =COUNT(AJ11:AJ30) -> 0
O33: 変状区分毎の判定区分注3 | Y33: =IF(Y32>0,"Ⅳ",IF(Z32>0,"Ⅲ",IF(AA32>0,"Ⅱa",IF(AB32>0,"Ⅱb","Ⅰ")))) -> Ⅰ | AC33: =IF(AC32>0,"Ⅳ",IF(AD32>0,"Ⅲ",IF(AE32>0,"Ⅱa",IF(AF32>0,"Ⅱb","Ⅰ")))) -> Ⅰ | AG33: =IF(AG32>0,"Ⅳ",IF(AH32>0,"Ⅲ",IF(AI32>0,"Ⅱa",IF(AJ32>0,"Ⅱb","Ⅰ")))) -> Ⅰ | AQ33: Ⅳ | AR33: Ⅲ | AS33: Ⅱ
L34: 健全性の 診断結果 | O34: 判定区分 | Y34: Ⅳ | Z34: Ⅲ | AA34: Ⅱ | AC34: Ⅳ | AD34: Ⅲ | AE34: Ⅱ | AG34: Ⅳ | AH34: Ⅲ | AI34: Ⅱ | AQ34: =+Y32+Z32 -> 0 | AS34: =+AA32+AB32 -> 0
O35: 判定区分毎の変状数注4 | Y35: =Y32 -> 0 | Z35: =Z32 -> 0 | AA35: =AA32+AB32 -> 0 | AC35: =+AC32 -> 0 | AD35: =AD32 -> 0 | AE35: =AE32+AF32 -> 0 | AG35: =AG32 -> 0 | AH35: =AH32 -> 0 | AI35: =AI32+AJ32 -> 0 | AQ35: =+Y32+AC35+AG35 -> 0 | AR35: =+Z32+AD35+AH35 -> 0 | AS35: =+AS34+AE35+AI35 -> 0
O36: 変状区分毎の判定区分注4 | Y36: =IF(Y35>=1,"Ⅳ",IF(Z35>=1,"Ⅲ",IF(AA35>=1,"Ⅱ","Ⅰ"))) -> Ⅰ | AC36: =IF(AC35>=1,"Ⅳ",IF(AD35>=1,"Ⅲ",IF(AE35>=1,"Ⅱ","Ⅰ"))) -> Ⅰ | AG36: =IF(AG35>=1,"Ⅳ",IF(AH35>=1,"Ⅲ",IF(AI35>=1,"Ⅱ","Ⅰ"))) -> Ⅰ | AQ36: =IF(AQ35>0,"Ⅳ",IF(AR35>0,"Ⅲ",IF(AS35>0,"Ⅱ","Ⅰ"))) -> Ⅰ
O37: 覆工スパン単位の判定区分注5 | Y37: =IF(COUNTIF(Y36:AJ36,"Ⅳ")>0,"Ⅳ",IF(COUNTIF(Y36:AJ36,"Ⅲ")>0,"Ⅲ",IF(COUNTIF(Y36:AJ36,"Ⅱ")>0,"Ⅱ","Ⅰ"))) -> Ⅰ
K38: 特記事項
K40: 注1：誤記入防止のため、当該変状区分以外のセルは灰色表示とすること。
K41: 注2：応急対策を実施した場合は、その詳細を備考に記載すること。
K42: 注3：変状区分毎での最も評価の厳しい判定区分。
K43: 注4：変状区分毎での最も評価の厳しい判定区分．外力は覆工スパン単位、材質劣化、漏水は変状単位で行う。
K44: 注5：覆工スパンの中で最も評価の厳しい健全性を採用し、その覆工スパン毎の健全性とする。
B46: ※1：本シートは作成洩れのないよう、変状が無くても全スパン分を作成すること．また変状展開図は、様式D-2-1、様式D-2-1'と同じものを覆工スパン単位で拡大し掲載すること。
B47: ※2：変状番号は、様式D-1-1で記入した番号と整合させること。
B48: ※3：対策区分毎の変状発生規模は、様式D-1-1に記載した面積を記入すること（ただし外力はスパン単位で評価するため対象外とし、備考欄に状況を記入）。
B49: ※4：本様式は覆工スパン毎に作成すること。
B50: ※5：変状数が多い場合は、適時、表の行を増やして覆工スパン毎に1枚のシートに収めること。また、1スパン１シートとし、スパンに合わせてシートを追加すること。
B51: ※6：対策区分毎の変状の発生範囲の規模とは，対策を行う際に参考となる変状の長さや面積であり，変状を包含する長さや面積とする。
B52: ※7：路面滞水は、変状面積に1を記載するとともに、備考にも内容を記載すること。
AU53: 様式Fリンク用→ | AV53: 覆工ｽﾊﾟﾝ 番号 | AW53: ｽﾊﾟﾝ 長 (m) | AX53: 変状数集計 | BS53: 覆工スパン毎の 健全性の診断 | BW53: 変状規模集計
AX54: 対策区分毎の変状数 | BJ54: 健全性の判定区分毎の変状数 | BW54: 覆工スパン長(m) | CA54: 対策区分毎の変状の発生範囲の規模(㎡）
B55: ■定期点検記録様式 覆工スパン別変状詳細展開図 【様式D-3】 | AX55: 外力 | BB55: 材質劣化 | BF55: 漏水 | BJ55: 外力 | BM55: 材質劣化 | BP55: 漏水 | BS55: 外力 | BT55: 材質劣化 | BU55: 漏水 | BV55: 健全性 | BW55: 外力※１ | CA55: 材質劣化 | CE55: 漏水
B56: フリガナ | E56: サレアワサンゴトンネル | K56: 路線名 | N56: 橘東和線 | T56: 定期点検業者 | Y56: 応用地質株式会社 | AG56: 定期点検年月日 | AK56: 44650 | AX56: Ⅳ | AY56: Ⅲ | AZ56: Ⅱa | BA56: Ⅱb | BB56: Ⅳ | BC56: Ⅲ | BD56: Ⅱa | BE56: Ⅱb | BF56: Ⅳ | BG56: Ⅲ | BH56: Ⅱa | BI56: Ⅱb | BJ56: Ⅳ | BK56: Ⅲ | BL56: Ⅱ | BM56: Ⅳ | BN56: Ⅲ | BO56: Ⅱ | BP56: Ⅳ | BQ56: Ⅲ | BR56: Ⅱ | BW56: Ⅳ | BX56: Ⅲ | BY56: Ⅱa | BZ56: Ⅱb | CA56: Ⅳ | CB56: Ⅲ | CC56: Ⅱa | CD56: Ⅱb | CE56: Ⅳ | CF56: Ⅲ | CG56: Ⅱa | CH56: Ⅱb
B57: 名 称 | E57: 佐連アワサンゴトンネル | K57: 管理者名 | N57: 柳井土木建築事務所 | T57: 定期点検者名 | Y57: 宮前 清 | AQ57: 〇 | AV57: =N59 -> 1 | AW57: =R59 -> 9 | AX57: =+Y84 -> 0 | AY57: =+Z84 -> 0 | AZ57: =+AA84 -> 0 | BA57: =+AB84 -> 0 | BB57: =+AC84 -> 0 | BC57: =+AD84 -> 0 | BD57: =+AE84 -> 0 | BE57: =+AF84 -> 0 | ... BI57: =+AJ84 -> 0 | BJ57: =+Y87 -> 0 | BK57: =+Z87 -> 0 | BL57: =+AA87 -> 0 | BM57: =+AC87 -> 0 | BN57: =+AD87 -> 0 | BO57: =+AE87 -> 0 | BP57: =+AG87 -> 0 | BQ57: =+AH87 -> 0 | BR57: =+AI87 -> 0 | BS57: =+Y88 -> Ⅰ | BT57: =+AC88 -> Ⅰ | BU57: =+AG88 -> Ⅰ | BV57: =+Y89 -> Ⅰ | BW57: =IF(Y84>0,R59,"") | BX57: =IF(Z84>0,"",IF(AA84>0,R59,"")) | BY57: =IF(Y84+Z84>0,"",IF(AA84>0,R59,"")) | BZ57: =IF(Y84+Z84+AA84>0,"",IF(AB84>0,R59,"")) | CA57: =+AC83 -> 0 | CB57: =+AD83 -> 0 | CC57: =+AE83 -> 0 | CD57: =+AF83 -> 0 | CE57: =+AG83 -> 0 | CF57: =+AH83 -> 0 | CG57: =+AI83 -> 0 | CH57: =+AJ83 -> 0
B58: スパン別変状展開図 | K58: 【健全性判定集計表】
K59: スパン番号 | N59: 1 | P59: スパン長 | R59: 9 | U59: 前回定期点検時の健全性 | W59: 応急措置前の判定 | Y59: 対策区分毎の 変状の有無 | AC59: 対策区分毎の変状の発生範囲の規模(㎡) | AK59: 備考注2
K60: 変状番号 | L60: 対象箇所 | N60: 部位区分 | P60: 変状区分 | R60: 変状種類
Y61: 外力注1 | AC61: 材質劣化注1 | AG61: 漏水注1
Y62: Ⅳ | Z62: Ⅲ | AA62: Ⅱa | AB62: Ⅱb | AC62: Ⅳ | AD62: Ⅲ | AE62: Ⅱa | AF62: Ⅱb | AG62: Ⅳ | AH62: Ⅲ | AI62: Ⅱa | AJ62: Ⅱb
AQ63: =IF(P63="外力",1,IF(P63="材質劣化",2,IF(P63="漏水",3,4))) -> 4
AQ64: =IF(P64="外力",1,IF(P64="材質劣化",2,IF(P64="漏水",3,4))) -> 4
AQ65: =IF(P65="外力",1,IF(P65="材質劣化",2,IF(P65="漏水",3,4))) -> 4
AQ66: =IF(P66="外力",1,IF(P66="材質劣化",2,IF(P66="漏水",3,4))) -> 4
AQ67: =IF(P67="外力",1,IF(P67="材質劣化",2,IF(P67="漏水",3,4))) -> 4
AQ68: =IF(P68="外力",1,IF(P68="材質劣化",2,IF(P68="漏水",3,4))) -> 4
AQ69: =IF(P69="外力",1,IF(P69="材質劣化",2,IF(P69="漏水",3,4))) -> 4
AQ70: =IF(P70="外力",1,IF(P70="材質劣化",2,IF(P70="漏水",3,4))) -> 4
AQ71: =IF(P71="外力",1,IF(P71="材質劣化",2,IF(P71="漏水",3,4))) -> 4
AQ72: =IF(P72="外力",1,IF(P72="材質劣化",2,IF(P72="漏水",3,4))) -> 4
AQ73: =IF(P73="外力",1,IF(P73="材質劣化",2,IF(P73="漏水",3,4))) -> 4
AQ74: =IF(P74="外力",1,IF(P74="材質劣化",2,IF(P74="漏水",3,4))) -> 4
... AQ82: =IF(P82="外力",1,IF(P82="材質劣化",2,IF(P82="漏水",3,4))) -> 4
K83: 集計 ・ 判定 ・ 診断 | L83: 変状の発生規模合計(㎡) | Y83: － | AC83: =SUM(AC63:AC82) -> 0 | AD83: =SUM(AD63:AD82) -> 0 | AE83: =SUM(AE63:AE82) -> 0 | AF83: =SUM(AF63:AF82) -> 0 | AG83: =SUM(AG63:AG82) -> 0 | AH83: =SUM(AH63:AH82) -> 0 | AI83: =SUM(AI63:AI82) -> 0 | AJ83: =SUM(AJ63:AJ82) -> 0 | AK83: 計
L84: 対策区分の 判定結果 | O84: 判定区分毎の変状数 | Y84: =COUNTIF(Y63:Y82,"〇") -> 0 | Z84: =COUNTIF(Z63:Z82,"〇") -> 0 | AA84: =COUNTIF(AA63:AA82,"〇") -> 0 | AB84: =COUNTIF(AB63:AB82,"〇") -> 0 | AC84: =COUNT(AC63:AC82) -> 0 | AD84: =COUNT(AD63:AD82) -> 0 | AE84: =COUNT(AE63:AE82) -> 0 | AF84: =COUNT(AF63:AF82) -> 0 | AG84: =COUNT(AG63:AG82) -> 0 | AH84: =COUNT(AH63:AH82) -> 0 | AI84: =COUNT(AI63:AI82) -> 0 | AJ84: =COUNT(AJ63:AJ82) -> 0
O85: 変状区分毎の判定区分注3 | Y85: =IF(Y84>0,"Ⅳ",IF(Z84>0,"Ⅲ",IF(AA84>0,"Ⅱa",IF(AB84>0,"Ⅱb","Ⅰ")))) -> Ⅰ | AC85: =IF(AC84>0,"Ⅳ",IF(AD84>0,"Ⅲ",IF(AE84>0,"Ⅱa",IF(AF84>0,"Ⅱb","Ⅰ")))) -> Ⅰ | AG85: =IF(AG84>0,"Ⅳ",IF(AH84>0,"Ⅲ",IF(AI84>0,"Ⅱa",IF(AJ84>0,"Ⅱb","Ⅰ")))) -> Ⅰ | AQ85: Ⅳ | AR85: Ⅲ | AS85: Ⅱ
L86: 健全性の 診断結果 | O86: 判定区分 | Y86: Ⅳ | Z86: Ⅲ | AA86: Ⅱ | AC86: Ⅳ | AD86: Ⅲ | AE86: Ⅱ | AG86: Ⅳ | AH86: Ⅲ | AI86: Ⅱ | AQ86: =+Y84+Z84 -> 0 | AS86: =+AA84+AB84 -> 0
O87: 判定区分毎の変状数注4 | Y87: =Y84 -> 0 | Z87: =Z84 -> 0 | AA87: =AA84+AB84 -> 0 | AC87: =+AC84 -> 0 | AD87: =AD84 -> 0 | AE87: =AE84+AF84 -> 0 | AG87: =AG84 -> 0 | AH87: =AH84 -> 0 | AI87: =AI84+AJ84 -> 0 | AQ87: =+Y84+AC87+AG87 -> 0 | AR87: =+Z84+AD87+AH87 -> 0 | AS87: =+AS86+AE87+AI87 -> 0
O88: 変状区分毎の判定区分注4 | Y88: =IF(Y87>=1,"Ⅳ",IF(Z87>=1,"Ⅲ",IF(AA87>=1,"Ⅱ","Ⅰ"))) -> Ⅰ | AC88: =IF(AC87>=1,"Ⅳ",IF(AD87>=1,"Ⅲ",IF(AE87>=1,"Ⅱ","Ⅰ"))) -> Ⅰ | AG88: =IF(AG87>=1,"Ⅳ",IF(AH87>=1,"Ⅲ",IF(AI87>=1,"Ⅱ","Ⅰ"))) -> Ⅰ | AQ88: =IF(AQ87>0,"Ⅳ",IF(AR87>0,"Ⅲ",IF(AS87>0,"Ⅱ","Ⅰ"))) -> Ⅰ
O89: 覆工スパン単位の判定区分注5 | Y89: =IF(COUNTIF(Y88:AJ88,"Ⅳ")>0,"Ⅳ",IF(COUNTIF(Y88:AJ88,"Ⅲ")>0,"Ⅲ",IF(COUNTIF(Y88:AJ88,"Ⅱ")>0,"Ⅱ","Ⅰ"))) -> Ⅰ
K90: 特記事項
K92: 注1：誤記入防止のため、当該変状区分以外のセルは灰色表示とすること。
K93: 注2：応急対策を実施した場合は、その詳細を備考に記載すること。
K94: 注3：変状区分毎での最も評価の厳しい判定区分。
K95: 注4：変状区分毎での最も評価の厳しい判定区分．外力は覆工スパン単位、材質劣化、漏水は変状単位で行う。
K96: 注5：覆工スパンの中で最も評価の厳しい健全性を採用し、その覆工スパン毎の健全性とする。
B98: ※1：本シートは作成洩れのないよう、変状が無くても全スパン分を作成すること．また変状展開図は、様式D-2-1、様式D-2-1'と同じものを覆工スパン単位で拡大し掲載すること。
B99: ※2：変状番号は、様式D-1-1で記入した番号と整合させること。
B100: ※3：対策区分毎の変状発生規模は、様式D-1-1に記載した面積を記入すること（ただし外力はスパン単位で評価するため対象外とし、備考欄に状況を記入）。
B101: ※4：本様式は覆工スパン毎に作成すること。
B102: ※5：変状数が多い場合は、適時、表の行を増やして覆工スパン毎に1枚のシートに収めること。また、1スパン１シートとし、スパンに合わせてシートを追加すること。
B103: ※6：対策区分毎の変状の発生範囲の規模とは，対策を行う際に参考となる変状の長さや面積であり，変状を包含する長さや面積とする。
B104: ※7：路面滞水は、変状面積に1を記載するとともに、備考にも内容を記載すること。
AU105: 様式Fリンク用→ | AV105: 覆工ｽﾊﾟﾝ 番号 | AW105: ｽﾊﾟﾝ 長 (m) | AX105: 変状数集計 | BS105: 覆工スパン毎の 健全性の診断 | BW105: 変状規模集計
AX106: 対策区分毎の変状数 | BJ106: 健全性の判定区分毎の変状数 | BW106: 覆工スパン長(m) | CA106: 対策区分毎の変状の発生範囲の規模(㎡）
B107: ■定期点検記録様式 覆工スパン別変状詳細展開図 【様式D-3】 | AX107: 外力 | BB107: 材質劣化 | BF107: 漏水 | BJ107: 外力 | BM107: 材質劣化 | BP107: 漏水 | BS107: 外力 | BT107: 材質劣化 | BU107: 漏水 | BV107: 健全性 | BW107: 外力※１ | CA107: 材質劣化 | CE107: 漏水
B108: フリガナ | E108: サレアワサンゴトンネル | K108: 路線名 | N108: 橘東和線 | T108: 定期点検業者 | Y108: 応用地質株式会社 | AG108: 定期点検年月日 | AK108: 44650 | AX108: Ⅳ | AY108: Ⅲ | AZ108: Ⅱa | BA108: Ⅱb | BB108: Ⅳ | BC108: Ⅲ | BD108: Ⅱa | BE108: Ⅱb | BF108: Ⅳ | BG108: Ⅲ | BH108: Ⅱa | BI108: Ⅱb | BJ108: Ⅳ | BK108: Ⅲ | BL108: Ⅱ | BM108: Ⅳ | BN108: Ⅲ | BO108: Ⅱ | BP108: Ⅳ | BQ108: Ⅲ | BR108: Ⅱ | BW108: Ⅳ | BX108: Ⅲ | BY108: Ⅱa | BZ108: Ⅱb | CA108: Ⅳ | CB108: Ⅲ | CC108: Ⅱa | CD108: Ⅱb | CE108: Ⅳ | CF108: Ⅲ | CG108: Ⅱa | CH108: Ⅱb
B109: 名 称 | E109: 佐連アワサンゴトンネル | K109: 管理者名 | N109: 柳井土木建築事務所 | T109: 定期点検者名 | Y109: 宮前 清 | AQ109: 〇 | AV109: =N111 -> 2 | AW109: =R111 -> 10.5 | AX109: =+Y136 -> 0 | AY109: =+Z136 -> 0 | AZ109: =+AA136 -> 0 | BA109: =+AB136 -> 0 | BB109: =+AC136 -> 0 | BC109: =+AD136 -> 0 | BD109: =+AE136 -> 0 | BE109: =+AF136 -> 0 | ... BI109: =+AJ136 -> 0 | BJ109: =+Y139 -> 0 | BK109: =+Z139 -> 0 | BL109: =+AA139 -> 0 | BM109: =+AC139 -> 0 | BN109: =+AD139 -> 0 | BO109: =+AE139 -> 0 | BP109: =+AG139 -> 0 | BQ109: =+AH139 -> 0 | BR109: =+AI139 -> 0 | BS109: =+Y140 -> Ⅰ | BT109: =+AC140 -> Ⅰ | BU109: =+AG140 -> Ⅰ | BV109: =+Y141 -> Ⅰ | BW109: =IF(Y136>0,R111,"") | BX109: =IF(Z136>0,"",IF(AA136>0,R111,"")) | BY109: =IF(Y136+Z136>0,"",IF(AA136>0,R111,"")) | BZ109: =IF(Y136+Z136+AA136>0,"",IF(AB136>0,R111,"")) | CA109: =+AC135 -> 0 | CB109: =+AD135 -> 0 | CC109: =+AE135 -> 0 | CD109: =+AF135 -> 0 | CE109: =+AG135 -> 0 | CF109: =+AH135 -> 0 | CG109: =+AI135 -> 0 | CH109: =+AJ135 -> 0
B110: スパン別変状展開図 | K110: 【健全性判定集計表】
K111: スパン番号 | N111: 2 | P111: スパン長 | R111: 10.5 | U111: 前回定期点検時の健全性 | W111: 応急措置前の判定 | Y111: 対策区分毎の 変状の有無 | AC111: 対策区分毎の変状の発生範囲の規模(㎡) | AK111: 備考注2
K112: 変状番号 | L112: 対象箇所 | N112: 部位区分 | P112: 変状区分 | R112: 変状種類
Y113: 外力注1 | AC113: 材質劣化注1 | AG113: 漏水注1
Y114: Ⅳ | Z114: Ⅲ | AA114: Ⅱa | AB114: Ⅱb | AC114: Ⅳ | AD114: Ⅲ | AE114: Ⅱa | AF114: Ⅱb | AG114: Ⅳ | AH114: Ⅲ | AI114: Ⅱa | AJ114: Ⅱb
AQ115: =IF(P115="外力",1,IF(P115="材質劣化",2,IF(P115="漏水",3,4))) -> 4
AQ116: =IF(P116="外力",1,IF(P116="材質劣化",2,IF(P116="漏水",3,4))) -> 4
AQ117: =IF(P117="外力",1,IF(P117="材質劣化",2,IF(P117="漏水",3,4))) -> 4
AQ118: =IF(P118="外力",1,IF(P118="材質劣化",2,IF(P118="漏水",3,4))) -> 4
...

Sheet 様式E
B2: ■定期点検記録様式 近接目視による状態の把握が不可能な箇所 【様式E】
B3: フリガナ | F3: サレアワサンゴトンネル | U3: 路 線 名 | Z3: 橘東和線 | AI3: 定期点検業者 | AO3: 応用地質株式会社 | AW3: 定期点検年月日 | BC3: 44650
B4: 名 称 | F4: 佐連アワサンゴトンネル | U4: 管理者名 | Z4: 柳井土木建築事務所 | AI4: 定期点検者名 | AO4: 宮前 清
B5: 覆工スパン 番号 | H5: 対象箇所 | P5: 不可能な理由 | AN5: 対応策
D20: 注）近接目視又は打音、触診ができない個所を記載する。現状の評価、日常の維持管理での注意点を記載する。
D21: ※ 数が多い場合は、適時、表の行を増やすこと。

Sheet 様式F
B1: ■診断調書 診断結果（変状単位・覆工スパン毎・トンネル毎） 【様式F】
B2: フリガナ | E2: サレアワサンゴトンネル | K2: 路線名 | N2: 橘東和線 | U2: 定期点検業者 | Y2: 応用地質株式会社 | AG2: 定期点検年月日 | AJ2: 44650
B3: 名 称 | E3: 佐連アワサンゴトンネル | K3: 管理者名 | N3: 柳井土木建築事務所 | U3: 定期点検者名 | Y3: 宮前 清
AG4: トンネル毎の 健全性 | AJ4: =IF(AT44=4,"Ⅳ",IF(AT44=3,"Ⅲ",IF(AT44=2,"Ⅱ","Ⅰ"))) -> Ⅰ
B5: 【覆工スパン毎の変状数, 健全性の診断, 変状規模】
B6: 覆工ｽﾊﾟﾝ番号 | C6: ｽﾊﾟﾝ長（ｍ） | D6: 変 状 数 | Y6: 覆工スパン毎の 健全性の診断 | AC6: 変 状 規 模 | AT6: 判定区分変換
D7: 対策区分の判定 | P7: 変状等の健全性の判断（変状単位） 注1 | AC7: 覆工スパン長（ｍ） | AG7: 変状の発生範囲の規模（㎡）
D8: 外力 | H8: 材質劣化 | L8: 漏水 | P8: 外力 | S8: 材質劣化 | V8: 漏水 | Y8: 外力 | Z8: 材質劣化 | AA8: 漏水 | AB8: 健全性 | AC8: 外力 注2 | AG8: 材質劣化 | AK8: 漏水
D9: Ⅳ | E9: Ⅲ | F9: Ⅱa | G9: Ⅱb | H9: Ⅳ | I9: Ⅲ | J9: Ⅱa | K9: Ⅱb | L9: Ⅳ | M9: Ⅲ | N9: Ⅱa | O9: Ⅱb | P9: Ⅳ | Q9: Ⅲ | R9: Ⅱ | S9: Ⅳ | T9: Ⅲ | U9: Ⅱ | V9: Ⅳ | W9: Ⅲ | X9: Ⅱ | AC9: Ⅳ | AD9: Ⅲ | AE9: Ⅱa | AF9: Ⅱb | AG9: Ⅳ | AH9: Ⅲ | AI9: Ⅱa | AJ9: Ⅱb | AK9: Ⅳ | AL9: Ⅲ | AM9: Ⅱa | AN9: Ⅱb | AO9: ｃ
B10: ='様式D-3_S00'!AV5 -> PS | C10: ='様式D-3_S00'!AW5 -> 0 | D10: ='様式D-3_S00'!AX5 -> 0 | E10: ='様式D-3_S00'!AY5 -> 0 | F10: ='様式D-3_S00'!AZ5 -> 0 | G10: ='様式D-3_S00'!BA5 -> 0 | H10: ='様式D-3_S00'!BB5 -> 0 | I10: ='様式D-3_S00'!BC5 -> 0 | ... AN10: ='様式D-3_S00'!CH5 -> 0 | AT10: =IF(AB10="Ⅳ",4,IF(AB10="Ⅲ",3,IF(AB10="Ⅱ",2,1))) -> 1
B11: ='様式D-3_S00'!AV57 -> 1 | C11: ='様式D-3_S00'!AW57 -> 9 | D11: ='様式D-3_S00'!AX57 -> 0 | E11: ='様式D-3_S00'!AY57 -> 0 | F11: ='様式D-3_S00'!AZ57 -> 0 | G11: ='様式D-3_S00'!BA57 -> 0 | H11: ='様式D-3_S00'!BB57 -> 0 | I11: ='様式D-3_S00'!BC57 -> 0 | ... AN11: ='様式D-3_S00'!CH57 -> 0 | AT11: =IF(AB11="Ⅳ",4,IF(AB11="Ⅲ",3,IF(AB11="Ⅱ",2,1))) -> 1
B12: ='様式D-3_S00'!AV109 -> 2 | C12: ='様式D-3_S00'!AW109 -> 10.5 | D12: ='様式D-3_S00'!AX109 -> 0 | E12: ='様式D-3_S00'!AY109 -> 0 | F12: ='様式D-3_S00'!AZ109 -> 0 | G12: ='様式D-3_S00'!BA109 -> 0 | H12: ='様式D-3_S00'!BB109 -> 0 | I12: ='様式D-3_S00'!BC109 -> 0 | ... AN12: ='様式D-3_S00'!CH109 -> 0 | AT12: =IF(AB12="Ⅳ",4,IF(AB12="Ⅲ",3,IF(AB12="Ⅱ",2,1))) -> 1
B13: ='様式D-3_S00'!AV161 -> 3 | C13: ='様式D-3_S00'!AW161 -> 10.5 | D13: ='様式D-3_S00'!AX161 -> 0 | E13: ='様式D-3_S00'!AY161 -> 0 | F13: ='様式D-3_S00'!AZ161 -> 0 | G13: ='様式D-3_S00'!BA161 -> 0 | H13: ='様式D-3_S00'!BB161 -> 0 | I13: ='様式D-3_S00'!BC161 -> 0 | ... AN13: ='様式D-3_S00'!CH161 -> 0 | AT13: =IF(AB13="Ⅳ",4,IF(AB13="Ⅲ",3,IF(AB13="Ⅱ",2,1))) -> 1
B14: ='様式D-3_S00'!AV213 -> 4 | C14: ='様式D-3_S00'!AW213 -> 10.5 | D14: ='様式D-3_S00'!AX213 -> 0 | E14: ='様式D-3_S00'!AY213 -> 0 | F14: ='様式D-3_S00'!AZ213 -> 0 | G14: ='様式D-3_S00'!BA213 -> 0 | H14: ='様式D-3_S00'!BB213 -> 0 | I14: ='様式D-3_S00'!BC213 -> 0 | ... AN14: ='様式D-3_S00'!CH213 -> 0 | AT14: =IF(AB14="Ⅳ",4,IF(AB14="Ⅲ",3,IF(AB14="Ⅱ",2,1))) -> 1
B15: ='様式D-3_S00'!AV265 -> 5 | C15: ='様式D-3_S00'!AW265 -> 10.5 | D15: ='様式D-3_S00'!AX265 -> 0 | E15: ='様式D-3_S00'!AY265 -> 0 | F15: ='様式D-3_S00'!AZ265 -> 0 | G15: ='様式D-3_S00'!BA265 -> 0 | H15: ='様式D-3_S00'!BB265 -> 0 | I15: ='様式D-3_S00'!BC265 -> 0 | ... AN15: ='様式D-3_S00'!CH265 -> 0 | AT15: =IF(AB15="Ⅳ",4,IF(AB15="Ⅲ",3,IF(AB15="Ⅱ",2,1))) -> 1
B16: ='様式D-3_S00'!AV317 -> 6 | C16: ='様式D-3_S00'!AW317 -> 10.5 | D16: ='様式D-3_S00'!AX317 -> 0 | E16: ='様式D-3_S00'!AY317 -> 0 | F16: ='様式D-3_S00'!AZ317 -> 0 | G16: ='様式D-3_S00'!BA317 -> 0 | H16: ='様式D-3_S00'!BB317 -> 0 | I16: ='様式D-3_S00'!BC317 -> 0 | ... AN16: ='様式D-3_S00'!CH317 -> 0 | AT16: =IF(AB16="Ⅳ",4,IF(AB16="Ⅲ",3,IF(AB16="Ⅱ",2,1))) -> 1
B17: ='様式D-3_S00'!AV369 -> 7 | C17: ='様式D-3_S00'!AW369 -> 10.5 | D17: ='様式D-3_S00'!AX369 -> 0 | E17: ='様式D-3_S00'!AY369 -> 0 | F17: ='様式D-3_S00'!AZ369 -> 0 | G17: ='様式D-3_S00'!BA369 -> 0 | H17: ='様式D-3_S00'!BB369 -> 0 | I17: ='様式D-3_S00'!BC369 -> 0 | ... AN17: ='様式D-3_S00'!CH369 -> 0 | AT17: =IF(AB17="Ⅳ",4,IF(AB17="Ⅲ",3,IF(AB17="Ⅱ",2,1))) -> 1
B18: ='様式D-3_S00'!AV421 -> 8 | C18: ='様式D-3_S00'!AW421 -> 10.5 | D18: ='様式D-3_S00'!AX421 -> 0 | E18: ='様式D-3_S00'!AY421 -> 0 | F18: ='様式D-3_S00'!AZ421 -> 0 | G18: ='様式D-3_S00'!BA421 -> 0 | H18: ='様式D-3_S00'!BB421 -> 0 | I18: ='様式D-3_S00'!BC421 -> 0 | ... AN18: ='様式D-3_S00'!CH421 -> 0 | AT18: =IF(AB18="Ⅳ",4,IF(AB18="Ⅲ",3,IF(AB18="Ⅱ",2,1))) -> 1
B19: ='様式D-3_S00'!AV473 -> 9 | C19: ='様式D-3_S00'!AW473 -> 10.5 | D19: ='様式D-3_S00'!AX473 -> 0 | E19: ='様式D-3_S00'!AY473 -> 0 | F19: ='様式D-3_S00'!AZ473 -> 0 | G19: ='様式D-3_S00'!BA473 -> 0 | H19: ='様式D-3_S00'!BB473 -> 0 | I19: ='様式D-3_S00'!BC473 -> 0 | ... AN19: ='様式D-3_S00'!CH473 -> 0 | AT19: =IF(AB19="Ⅳ",4,IF(AB19="Ⅲ",3,IF(AB19="Ⅱ",2,1))) -> 1
B20: ='様式D-3_S00'!AV525 -> 10 | C20: ='様式D-3_S00'!AW525 -> 10.5 | D20: ='様式D-3_S00'!AX525 -> 0 | E20: ='様式D-3_S00'!AY525 -> 0 | F20: ='様式D-3_S00'!AZ525 -> 0 | G20: ='様式D-3_S00'!BA525 -> 0 | H20: ='様式D-3_S00'!BB525 -> 0 | I20: ='様式D-3_S00'!BC525 -> 0 | ... AN20: ='様式D-3_S00'!CH525 -> 0 | AT20: =IF(AB20="Ⅳ",4,IF(AB20="Ⅲ",3,IF(AB20="Ⅱ",2,1))) -> 1
B21: ='様式D-3_S00'!AV577 -> 11 | C21: ='様式D-3_S00'!AW577 -> 10.5 | D21: ='様式D-3_S00'!AX577 -> 0 | E21: ='様式D-3_S00'!AY577 -> 0 | F21: ='様式D-3_S00'!AZ577 -> 0 | G21: ='様式D-3_S00'!BA577 -> 0 | H21: ='様式D-3_S00'!BB577 -> 0 | I21: ='様式D-3_S00'!BC577 -> 0 | ... AN21: ='様式D-3_S00'!CH577 -> 0 | AT21: =IF(AB21="Ⅳ",4,IF(AB21="Ⅲ",3,IF(AB21="Ⅱ",2,1))) -> 1
B22: ='様式D-3_S00'!AV629 -> 12 | C22: ='様式D-3_S00'!AW629 -> 10.5 | D22: ='様式D-3_S00'!AX629 -> 0 | E22: ='様式D-3_S00'!AY629 -> 0 | F22: ='様式D-3_S00'!AZ629 -> 0 | G22: ='様式D-3_S00'!BA629 -> 0 | H22: ='様式D-3_S00'!BB629 -> 0 | I22: ='様式D-3_S00'!BC629 -> 0 | ... AN22: ='様式D-3_S00'!CH629 -> 0 | AT22: =IF(AB22="Ⅳ",4,IF(AB22="Ⅲ",3,IF(AB22="Ⅱ",2,1))) -> 1
B23: ='様式D-3_S00'!AV681 -> 13 | C23: ='様式D-3_S00'!AW681 -> 10.5 | D23: ='様式D-3_S00'!AX681 -> 0 | E23: ='様式D-3_S00'!AY681 -> 0 | F23: ='様式D-3_S00'!AZ681 -> 0 | G23: ='様式D-3_S00'!BA681 -> 0 | H23: ='様式D-3_S00'!BB681 -> 0 | I23: ='様式D-3_S00'!BC681 -> 0 | ... AN23: ='様式D-3_S00'!CH681 -> 0 | AT23: =IF(AB23="Ⅳ",4,IF(AB23="Ⅲ",3,IF(AB23="Ⅱ",2,1))) -> 1
B24: ='様式D-3_S00'!AV733 -> 14 | C24: ='様式D-3_S00'!AW733 -> 10.5 | D24: ='様式D-3_S00'!AX733 -> 0 | E24: ='様式D-3_S00'!AY733 -> 0 | F24: ='様式D-3_S00'!AZ733 -> 0 | G24: ='様式D-3_S00'!BA733 -> 0 | H24: ='様式D-3_S00'!BB733 -> 0 | I24: ='様式D-3_S00'!BC733 -> 0 | ... AN24: ='様式D-3_S00'!CH733 -> 0 | AT24: =IF(AB24="Ⅳ",4,IF(AB24="Ⅲ",3,IF(AB24="Ⅱ",2,1))) -> 1
B25: ='様式D-3_S00'!AV785 -> 15 | C25: ='様式D-3_S00'!AW785 -> 10.5 | D25: ='様式D-3_S00'!AX785 -> 0 | E25: ='様式D-3_S00'!AY785 -> 0 | F25: ='様式D-3_S00'!AZ785 -> 0 | G25: ='様式D-3_S00'!BA785 -> 0 | H25: ='様式D-3_S00'!BB785 -> 0 | I25: ='様式D-3_S00'!BC785 -> 0 | ... AN25: ='様式D-3_S00'!CH785 -> 0 | AT25: =IF(AB25="Ⅳ",4,IF(AB25="Ⅲ",3,IF(AB25="Ⅱ",2,1))) -> 1
B26: ='様式D-3_S00'!AV837 -> 16 | C26: ='様式D-3_S00'!AW837 -> 10.5 | D26: ='様式D-3_S00'!AX837 -> 0 | E26: ='様式D-3_S00'!AY837 -> 0 | F26: ='様式D-3_S00'!AZ837 -> 0 | G26: ='様式D-3_S00'!BA837 -> 0 | H26: ='様式D-3_S00'!BB837 -> 0 | I26: ='様式D-3_S00'!BC837 -> 0 | ... AN26: ='様式D-3_S00'!CH837 -> 0 | AT26: =IF(AB26="Ⅳ",4,IF(AB26="Ⅲ",3,IF(AB26="Ⅱ",2,1))) -> 1
B27: ='様式D-3_S00'!AV889 -> 17 | C27: ='様式D-3_S00'!AW889 -> 10.5 | D27: ='様式D-3_S00'!AX889 -> 0 | E27: ='様式D-3_S00'!AY889 -> 0 | F27: ='様式D-3_S00'!AZ889 -> 0 | G27: ='様式D-3_S00'!BA889 -> 0 | H27: ='様式D-3_S00'!BB889 -> 0 | I27: ='様式D-3_S00'!BC889 -> 0 | ... AN27: ='様式D-3_S00'!CH889 -> 0 | AT27: =IF(AB27="Ⅳ",4,IF(AB27="Ⅲ",3,IF(AB27="Ⅱ",2,1))) -> 1
B28: ='様式D-3_S00'!AV941 -> 18 | C28: ='様式D-3_S00'!AW941 -> 10.5 | D28: ='様式D-3_S00'!AX941 -> 0 | E28: ='様式D-3_S00'!AY941 -> 0 | F28: ='様式D-3_S00'!AZ941 -> 0 | G28: ='様式D-3_S00'!BA941 -> 0 | H28: ='様式D-3_S00'!BB941 -> 0 | I28: ='様式D-3_S00'!BC941 -> 0 | ... AN28: ='様式D-3_S00'!CH941 -> 0 | AT28: =IF(AB28="Ⅳ",4,IF(AB28="Ⅲ",3,IF(AB28="Ⅱ",2,1))) -> 1
B29: ='様式D-3_S00'!AV993 -> 19 | C29: ='様式D-3_S00'!AW993 -> 10.5 | D29: ='様式D-3_S00'!AX993 -> 0 | E29: ='様式D-3_S00'!AY993 -> 0 | F29: ='様式D-3_S00'!AZ993 -> 0 | G29: ='様式D-3_S00'!BA993 -> 0 | H29: ='様式D-3_S00'!BB993 -> 0 | I29: ='様式D-3_S00'!BC993 -> 0 | ... AN29: ='様式D-3_S00'!CH993 -> 0 | AT29: =IF(AB29="Ⅳ",4,IF(AB29="Ⅲ",3,IF(AB29="Ⅱ",2,1))) -> 1
B30: ='様式D-3_S00'!AV1045 -> 20 | C30: ='様式D-3_S00'!AW1045 -> 10.5 | D30: ='様式D-3_S00'!AX1045 -> 0 | E30: ='様式D-3_S00'!AY1045 -> 0 | F30: ='様式D-3_S00'!AZ1045 -> 0 | G30: ='様式D-3_S00'!BA1045 -> 0 | H30: ='様式D-3_S00'!BB1045 -> 0 | I30: ='様式D-3_S00'!BC1045 -> 0 | ... AN30: ='様式D-3_S00'!CH1045 -> 0 | AT30: =IF(AB30="Ⅳ",4,IF(AB30="Ⅲ",3,IF(AB30="Ⅱ",2,1))) -> 1
B31: ='様式D-3_S00'!AV1097 -> 21 | C31: ='様式D-3_S00'!AW1097 -> 10.5 | D31: ='様式D-3_S00'!AX1097 -> 0 | E31: ='様式D-3_S00'!AY1097 -> 0 | F31: ='様式D-3_S00'!AZ1097 -> 0 | G31: ='様式D-3_S00'!BA1097 -> 0 | H31: ='様式D-3_S00'!BB1097 -> 0 | I31: ='様式D-3_S00'!BC1097 -> 0 | ... AN31: ='様式D-3_S00'!CH1097 -> 0 | AT31: =IF(AB31="Ⅳ",4,IF(AB31="Ⅲ",3,IF(AB31="Ⅱ",2,1))) -> 1
B32: ='様式D-3_S00'!AV1149 -> 22 | C32: ='様式D-3_S00'!AW1149 -> 9 | D32: ='様式D-3_S00'!AX1149 -> 0 | E32: ='様式D-3_S00'!AY1149 -> 0 | F32: ='様式D-3_S00'!AZ1149 -> 0 | G32: ='様式D-3_S00'!BA1149 -> 0 | H32: ='様式D-3_S00'!BB1149 -> 0 | I32: ='様式D-3_S00'!BC1149 -> 0 | ... AN32: ='様式D-3_S00'!CH1149 -> 0 | AT32: =IF(AB32="Ⅳ",4,IF(AB32="Ⅲ",3,IF(AB32="Ⅱ",2,1))) -> 1
B33: ='様式D-3_S00'!AV1201 -> PE | C33: ='様式D-3_S00'!AW1201 -> 0 | D33: ='様式D-3_S00'!AX1201 -> 0 | E33: ='様式D-3_S00'!AY1201 -> 0 | F33: ='様式D-3_S00'!AZ1201 -> 0 | G33: ='様式D-3_S00'!BA1201 -> 0 | H33: ='様式D-3_S00'!BB1201 -> 0 | I33: ='様式D-3_S00'!BC1201 -> 0 | ... AN33: ='様式D-3_S00'!CH1201 -> 0 | AT33: =IF(AB33="Ⅳ",4,IF(AB33="Ⅲ",3,IF(AB33="Ⅱ",2,1))) -> 1
AT34: =IF(AB34="Ⅳ",4,IF(AB34="Ⅲ",3,IF(AB34="Ⅱ",2,1))) -> 1
AT35: =IF(AB35="Ⅳ",4,IF(AB35="Ⅲ",3,IF(AB35="Ⅱ",2,1))) -> 1
AT36: =IF(AB36="Ⅳ",4,IF(AB36="Ⅲ",3,IF(AB36="Ⅱ",2,1))) -> 1
AT37: =IF(AB37="Ⅳ",4,IF(AB37="Ⅲ",3,IF(AB37="Ⅱ",2,1))) -> 1
AT38: =IF(AB38="Ⅳ",4,IF(AB38="Ⅲ",3,IF(AB38="Ⅱ",2,1))) -> 1
AT39: =IF(AB39="Ⅳ",4,IF(AB39="Ⅲ",3,IF(AB39="Ⅱ",2,1))) -> 1
AT40: =IF(AB40="Ⅳ",4,IF(AB40="Ⅲ",3,IF(AB40="Ⅱ",2,1))) -> 1
AT41: =IF(AB41="Ⅳ",4,IF(AB41="Ⅲ",3,IF(AB41="Ⅱ",2,1))) -> 1
AT42: =IF(AB42="Ⅳ",4,IF(AB42="Ⅲ",3,IF(AB42="Ⅱ",2,1))) -> 1
AT43: =IF(AB43="Ⅳ",4,IF(AB43="Ⅲ",3,IF(AB43="Ⅱ",2,1))) -> 1
B44: 計 | D44: =SUM(D10:D43) -> 0 | E44: =SUM(E10:E43) -> 0 | F44: =SUM(F10:F43) -> 0 | G44: =SUM(G10:G43) -> 0 | H44: =SUM(H10:H43) -> 0 | I44: =SUM(I10:I43) -> 0 | J44: =SUM(J10:J43) -> 0 | K44: =SUM(K10:K43) -> 0 | ... X44: =SUM(X10:X43) -> 0 | AC44: =SUM(AC10:AC43) -> 0 | AD44: =SUM(AD10:AD43) -> 0 | AE44: =SUM(AE10:AE43) -> 0 | AF44: =SUM(AF10:AF43) -> 0 | AG44: =SUM(AG10:AG43) -> 0 | AH44: =SUM(AH10:AH43) -> 0 | AI44: =SUM(AI10:AI43) -> 0 | AJ44: =SUM(AJ10:AJ43) -> 0 | ... AN44: =SUM(AN10:AN43) -> 0 | AT44: =MAX(AT10:AT43) -> 1 | AU44: ←最大値
D45: 注１：外力は覆工スパン単位で診断するため、覆工スパンの中で最も評価の厳しい健全性の判定区分欄にのみスパン数1を、
D46: 材質劣化、漏水はそれぞれの判定区分に変状数を記入すること。
D47: 注２：外力は覆工スパン単位で診断するため、覆工スパンの中で最も評価の厳しい健全性の判定区分欄にのみスパン長を記入すること。
D48: ※１：本シートは様式D‐3の集計結果を掲載すること。
D49: ※２：覆工スパン数が多い場合は、適時、表の行を増やしてトンネル毎に1枚のシートに収めること。
D50: ※３：本シートの集計結果に基づいて、様式Bの健全性の判定区分の箇所を記載する。

Sheet (参考)リスト
B4: 様式A～B
B5: トンネルの分類 | C5: トンネル工法 | D5: 緊急輸送路 | E5: 代替路
B6: 陸上トンネル（掘進工法） | C6: 山岳トンネル工法（NATM） | D6: 有 | E6: 有
B7: 陸上トンネル（開削工法） | C7: 矢板工法 | D7: 無 | E7: 無
B8: 陸上トンネル（その他） | C8: 開削工法
B9: 水底トンネル（掘進工法） | C9: シールド工法
B10: 水底トンネル（沈埋工法） | C10: その他
B11: 水底トンネル（開削工法）
B12: 水底トンネル（その他）
B14: 様式C-1-1(本体工)、C-2、D-1-1、D-3 | L14: 様式C-2
B15: 対象箇所 | C15: 部位区分 | D15: 変状区分 | E15: 変状種類 | F15: 対策区分 | G15: 健全性 | H15: 調査の要否 | I15: 措置の要否 | J15: 実施有無 | L15: 対策区分の判定 | M15: 健全性 | N15: 対策区分の判定
B16: 覆工・坑門 | C16: アーチ（右側） | D16: 外力 | E16: 圧ざ | F16: Ⅰ | G16: Ⅰ | H16: 要 | I16: 要監視 | J16: 未 | L16: Ⅰ | M16: Ⅰ | N16: 対策区分判定Ⅰ
B17: 内装板 | C17: アーチ（左側） | D17: 材質劣化 | E17: ひび割れ | F17: Ⅱa | G17: Ⅱ | H17: 否 | I17: 要対策 | J17: 済 | L17: Ⅱa | M17: Ⅱ | N17: 対策区分判定Ⅱa
B18: 天井板 | C18: アーチ（天端） | D18: 漏水 | E18: うき・はく離 | F18: Ⅱb | G18: Ⅲ | I18: 否 | J18: 継続 | L18: Ⅱb | M18: Ⅲ | N18: 対策区分判定Ⅱb
B19: 路面 | C19: アーチ（全周） | E19: 変形、移動 | F19: Ⅲ | G19: Ⅳ | L19: Ⅲ | M19: Ⅳ | N19: 対策区分判定Ⅲ
B20: その他 | C20: 側壁（右側） | E20: 沈下 | F20: Ⅳ | G20: － | L20: Ⅳ | N20: 対策区分判定Ⅳ
C21: 側壁（左側） | E21: 補強・補修材の破損 | F21: － | N21: －
C22: 横断目地（右側） | E22: その他 | L22: 様式D-3
C23: 横断目地（左側）
C24: 横断目地（天端）
C25: 横断目地（全周） | E25: ひび割れ
C26: 水平打ち継ぎ目（右側） | E26: うき・はく離
C27: 水平打ち継ぎ目（左側） | E27: 鋼材腐食
C28: 面壁・妻壁等 | E28: 巻厚の不足または減少，背面空洞
C29: その他 | E29: 補強・補修材の破損
E30: その他
C31: 側壁
C32: その他 | E32: 漏水
E33: 氷盤
C34: 車道側 | E34: つらら,側氷
C35: ダクト側 | E35: 滞水
C36: その他 | E36: 土砂流出
E37: 補強・補修材の破損
C38: 車道 | E38: その他
C39: 歩道
C40: 監査歩路
C41: 監視員通路
C42: 側溝
C43: その他
C45: その他
B49: 様式C-1-2（附属物）、D-1-2
B50: 施設の内訳 | C50: 対象箇所 | D50: 部位区分 | E50: 異常の種類 | F50: 異常判定区分 | G50: 実施有無
B51: 照明施設 | C51: 灯具 | D51: 附属物本体 | E51: 破断 | F51: ○ | G51: 未
B52: 換気施設 | C52: ケーブル類 | D52: 取付部材 | E52: 緩み，脱落 | F52: × | G52: 済
B53: 非常用施設 | C53: その他 | D53: ボルト・ﾅｯﾄ・アンカー類 | E53: 腐食 | G53: 継続
B54: その他施設 | E54: 変形，欠損
C55: ジェットファン | E55: 亀裂
C56: VI計 | E56: がたつき
C57: CO計
C58: 風向風速計
C59: その他
C61: 通話型通報設備
C62: 操作型通報設備
C63: 自動通報設備
C64: 警報表示版
C65: 点滅灯
C66: 音信号発生器
C67: 消火器
C68: 消火栓設備
C69: 誘導表示施設
... C80: その他
