Workbook
Name その他: #REF!
Name その他施設: #REF!
Name トンネル工法: #REF!
Name トンネル工法: #REF!
Name 換気施設: #REF!
Name 坑門: #REF!
Name 照明施設: #REF!
Name 措置後判定: #REF!
Name 天井板: #REF!
Name 内装板: #REF!
Name 非常用施設: #REF!
Name 附属物応急措置後: #REF!
Name 附属物応急措置後: #REF!
Name 附属物応急措置後〇: #REF!
Name 附属物応急措置後〇: #REF!
Name 部位本体: #REF!
Name 覆工: #REF!
Name 変状区分: #REF!
Name 路面: #REF!

Sheet 様式A-1
B2: ■トンネル台帳 トンネル諸元、非常用施設諸元 【様式A-1】 | S2: 施設ID | W2: 34.09797,131.54189
B3: フリガナ | D3: (ｻﾊﾞﾔﾏｽﾞｲﾄﾞｳ(ﾉﾎﾞﾘ)) | H3: 路線名 | J3: 国道262号 | P3: 管理者名 | R3: 山口県防府土木建築事務所 山口支所 | W3: 緊急輸送道路 | Z3: 一次
B4: 名 称 | D4: 佐波山隧道（上り） | W4: 代替路の有無 | Z4: 有
B5: 所在地 | D5: 自 | E5: 山口市下古鯖 | H5: 作成者 | K5: 大日本ダイヤコンサルタント株式会社 斉藤 寿英 | P5: 作成年月日 | R5: 43805 | U5: トンネル延長 | X5: L= | Z5: 600 | AB5: ｍ
D6: 至 | E6: 防府市高井 | U6: ﾄﾝﾈﾙの分類 | X6: 陸上トンネル（掘進工法）
B7: 起点 | C7: 緯度 | E7: 340552.5 | H7: 完成年月日 | K7: 26846 | M7: 舗装 | O7: 種 別 | Q7: コンクリート系 | S7: トンネル非常用施設 | T7: 施設の内訳 | X7: 種別・方式 | Y7: 型式 | Z7: 個数 | AA7: 更新年度 | AE7: =INT(E7/10000) -> 34 | AF7: =INT(E7/100)-AE7*100 -> 5 | AG7: =E7-AE7*10000-AF7*100 -> 52.5 | AH7: =ROUND(AE7+AF7/60+AG7/60/60,5) -> 34.09792 | AI7: =TEXT(AH7,"0.00000") -> 34.09792
C8: 経度 | E8: 1313231.2 | H8: 供用年月日 | O8: 厚 さ | T8: 通報設備 | U8: 通話型通報設備 | X8: 3 | AE8: =INT(E8/10000) -> 131 | AF8: =INT(E8/100)-AE8*100 -> 32 | AG8: =E8-AE8*10000-AF8*100 -> 31.2 | AH8: =ROUND(AE8+AF8/60+AG8/60/60,5) -> 131.542 | AI8: =TEXT(AH8,"0.00000") -> 131.54200
B9: 終点 | C9: 緯度 | E9: 340534.5 | H9: トンネル区分 | K9: B | O9: 面 積 | Q9: 4740 | U9: 操作型通報設備 | X9: 12
C10: 経度 | E10: 1313240.2 | H10: 内装種類 | K10: 覆工 | O10: 更新年次 | U10: 自動通報設備
B11: 一般有料区分 | E11: 一般（無料） | H11: 天井板種類 | K11: 覆工（内装なし） | M11: 排水 | O11: 種 別 | Q11: 自然排水 | T11: 警報設備 | U11: 非常警報設備 | X11: 2
B12: 土かぶり | G12: m | H12: 坑門 | I12: 起点 | J12: 形式 | K12: 面壁+突出壁 | O12: 更新年次 | T12: 消火設備 | U12: 消 火 器 | X12: 12
B13: 内空断面積 | E13: 45.4 | G13: ㎡ | J13: 延長 | L13: m | M13: 施設 | P13: 種別・方式 | Q13: 個数 | R13: 更新年次 | U13: 消火栓設備
B14: 交 通 量 | E14: 31671 | G14: 台/日 | I14: 終点 | J14: 形式 | K14: 面壁+突出壁 | M14: 道路附属物等 | N14: 照明 | P14: LED | Q14: 102 | T14: 避難誘導設備 | U14: 誘導表示設備 | X14: 5
C15: 道 路 幅 | E15: 8.65 | G15: m | J15: 延長 | L15: m | N15: 換気 | U15: 避難情報提供設備 | X15: ラジ再AM
B16: 幅 員 | C16: 車 道 幅 | E16: 3 | G16: m | H16: 竣工巻厚 | I16: アーチ | K16: 50 | L16: cm | N16: 標識 | Q16: 3
E17: 3 | G17: m | I17: 側 壁 | L17: cm | N17: 警報表示板 | U17: 避難通路
C18: 歩道等幅 | E18: 2.15 | G18: m | L18: cm | N18: 吸音板 | U18: 排煙設備
B19: 高さ | C19: 建築限界高 | E19: 4.5 | G19: m | I19: インバート | L19: cm | T19: その他の設備 | U19: 給水栓設備
C20: 中央高 | E20: 6 | G20: m | H20: 半径 | I20: アーチ | K20: 460 | L20: cm | U20: 無線通信補助設備
C21: 有効高 | E21: 4.5 | G21: m | I21: 側 壁 | L21: cm | U21: 水噴霧設備
C22: 縦断勾配 | I22: インバート | L22: cm | U22: 監視設備
B23: 線 形 | C23: 直線区間長 | E23: 600 | H23: 占用物件 | I23: 種 類 | K23: 寸 法 | M23: 管理者名 | Q23: 更新年次 | S23: 非常用施設 関連設備 | U23: 予備発電設備
C24: 曲線区間 | D24: 区間長
D25: 起点側ｸﾛｿｲﾄﾞ
D26: 曲線半径
D27: 終点側ｸﾛｿｲﾄﾞ | S27: その他 | U27: 非常駐車帯
B28: トンネル工法 | E28: 矢板工法 | U28: 方向転換所
C29: ※緯度・経度については、秒の少数第二位の単位まで記入すること。（例；36度20分35.56秒の場合、362035.36と入力）

Sheet 様式A-2
B3: ■トンネル台帳 トンネル情報一覧表 【様式A-2】
B4: フリガナ | E4: ='様式A-1'!D3 -> (ｻﾊﾞﾔﾏｽﾞｲﾄﾞｳ(ﾉﾎﾞﾘ)) | J4: 路線名 | M4: ='様式A-1'!J3 -> 国道262号 | S4: 作成者 | Y4: ='様式A-1'!K5 -> 大日本ダイヤコンサルタント株式会社 斉藤 寿英 | AE4: 作成年月日 | AI4: ='様式A-1'!R5 -> 43805
B5: 名 称 | E5: ='様式A-1'!D4 -> 佐波山隧道（上り） | J5: 管理者名 | M5: ='様式A-1'!R3 -> 山口県防府土木建築事務所 山口支所
B6: 覆工 ｽﾊﾟﾝ 番号 | C6: ｽﾊﾟﾝ長 | D6: 追加距離 | F6: トンネル本体工 | K6: 照明施設 | O6: 非常用施設 | AE6: 換気施設 | AK6: その他附属物等
O7: 通報設備 | R7: 警報設備 | S7: 消火設備 | U7: 避難誘導設備 | Y7: その他の設備 | AC7: 特記事項
D8: 起点側 | E8: 終点側 | F8: 特記事項 | I8: 内装板 | J8: 天井板 | K8: 基本照明 | L8: 入口出口照明 | M8: 特記事項 | O8: 通話型通報設備 | P8: 操作型通報設備 | Q8: 自動通報設備 | R8: 非常警報設備 | S8: 消 火 器 | T8: 消火栓設備 | U8: 誘導表示設備 | V8: 避難情報提供設備 | W8: 避難通路 | X8: 排煙設備 | Y8: 給水栓設備 | Z8: 無線通信補助設備 | AA8: 水噴霧設備 | AB8: 監視設備 | AE8: JF | AF8: VI計 | AG8: CO計 | AH8: 風向 風速計 | AI8: 特記事項
C9: (m) | D9: (m) | E9: (m)
B10: PS | C10: 0 | D10: 0 | E10: 0 | F10: 坑門工(面壁型)
B11: S001 | C11: 8.5 | D11: 0 | E11: 8.5 | I11: ○ | K11: ○
B12: S002 | C12: 9.2 | D12: 8.5 | E12: 17.7 | I12: ○ | K12: ○
B13: S003 | C13: 9.1 | D13: 17.7 | E13: 26.8 | I13: ○ | P13: ① | S13: ① | AK13: 非常電話案内板
B14: S004 | C14: 9.1 | D14: 26.8 | E14: 35.9 | I14: ○ | K14: ○
B15: S005 | C15: 9.1 | D15: 35.9 | E15: 45 | I15: ○ | K15: ○
B16: S006 | C16: 9.1 | D16: 45 | E16: 54.1 | I16: ○ | V16: ○ | AC16: ラジ再AM | AK16: 非常電話案内板
B17: S007 | C17: 9.1 | D17: 54.1 | E17: 63.2 | I17: ○ | K17: ○ | V17: ○ | AC17: ラジ再AM
B18: S008 | C18: 9.1 | D18: 63.2 | E18: 72.3 | I18: ○ | K18: ○ | V18: ○ | AC18: ラジ再AM
B19: S009 | C19: 9.1 | D19: 72.3 | E19: 81.4 | I19: ○ | K19: ○ | P19: ② | S19: ② | V19: ○ | AC19: ラジ再AM | AK19: 非常電話案内板
B20: S010 | C20: 9.1 | D20: 81.4 | E20: 90.5 | I20: ○ | V20: ○ | AC20: ラジ再AM
B21: S011 | C21: 9.1 | D21: 90.5 | E21: 99.6 | I21: ○ | K21: ○ | U21: 〇 | V21: ○ | AC21: ラジ再AM | AK21: 非常電話案内板
B22: S012 | C22: 9.1 | D22: 99.6 | E22: 108.7 | I22: ○ | K22: ○ | V22: ○ | AC22: ラジ再AM
B23: S013 | C23: 9.1 | D23: 108.7 | E23: 117.8 | I23: ○ | V23: ○ | AC23: ラジ再AM
B24: S014 | C24: 9 | D24: 117.8 | E24: 126.8 | I24: ○ | K24: ○ | O24: ① | P24: ③ | S24: ③ | V24: ○ | AC24: ラジ再AM
B25: S015 | C25: 9 | D25: 126.8 | E25: 135.8 | I25: ○ | K25: ○ | V25: ○ | AC25: ラジ再AM
B26: S016 | C26: 9 | D26: 135.8 | E26: 144.8 | I26: ○ | K26: ○ | V26: ○ | AC26: ラジ再AM
B27: S017 | C27: 9 | D27: 144.8 | E27: 153.8 | I27: ○ | V27: ○ | AC27: ラジ再AM | AK27: 非常電話案内板
B28: S018 | C28: 9 | D28: 153.8 | E28: 162.8 | I28: ○ | K28: ○ | V28: ○ | AC28: ラジ再AM
B29: S019 | C29: 9 | D29: 162.8 | E29: 171.8 | I29: ○ | K29: ○ | V29: ○ | AC29: ラジ再AM
B30: S020 | C30: 9 | D30: 171.8 | E30: 180.8 | I30: ○ | P30: ④ | S30: ④ | V30: ○ | AC30: ラジ再AM | AK30: 非常電話案内板
B31: S021 | C31: 9 | D31: 180.8 | E31: 189.8 | I31: ○ | K31: ○ | V31: ○ | AC31: ラジ再AM
B32: S022 | C32: 9 | D32: 189.8 | E32: 198.8 | I32: ○ | K32: ○ | V32: ○ | AC32: ラジ再AM
B33: S023 | C33: 9 | D33: 198.8 | E33: 207.8 | I33: ○ | K33: ○ | U33: ○ | V33: ○ | AC33: ラジ再AM | AK33: 非常電話案内板
B34: S024 | C34: 9 | D34: 207.8 | E34: 216.8 | I34: ○ | V34: ○ | AC34: ラジ再AM
B35: S025 | C35: 9 | D35: 216.8 | E35: 225.8 | I35: ○ | K35: ○ | P35: ⑤ | S35: ⑤ | V35: ○ | AC35: ラジ再AM | AK35: 非常電話案内板
B36: S026 | C36: 9 | D36: 225.8 | E36: 234.8 | I36: ○ | K36: ○ | V36: ○ | AC36: ラジ再AM
B37: S027 | C37: 9 | D37: 234.8 | E37: 243.8 | I37: ○ | K37: ○ | V37: ○ | AC37: ラジ再AM
B38: S028 | C38: 9 | D38: 243.8 | E38: 252.8 | I38: ○ | K38: ○ | V38: ○ | AC38: ラジ再AM | AK38: 非常電話案内板
B39: S029 | C39: 9 | D39: 252.8 | E39: 261.8 | I39: ○ | K39: ○ | V39: ○ | AC39: ラジ再AM
B40: S030 | C40: 9 | D40: 261.8 | E40: 270.8 | I40: ○ | K40: ○ | V40: ○ | AC40: ラジ再AM
B41: S031 | C41: 8.2 | D41: 270.8 | E41: 279 | I41: ○ | P41: ⑥ | S41: ⑥ | V41: ○ | AC41: ラジ再AM | AK41: 非常電話案内板
B42: S032 | C42: 9 | D42: 279 | E42: 288 | I42: ○ | K42: ○ | V42: ○ | AC42: ラジ再AM
...

Sheet 様式A-3
B3: ■トンネル台帳 トンネル記録（位置図、断面図、施工実績他）【様式A-3】
B4: フリガナ | E4: ='様式A-1'!D3 -> (ｻﾊﾞﾔﾏｽﾞｲﾄﾞｳ(ﾉﾎﾞﾘ)) | J4: 路線名 | M4: ='様式A-1'!J3 -> 国道262号 | S4: 作成者 | W4: ='様式A-1'!K5 -> 大日本ダイヤコンサルタント株式会社 斉藤 寿英 | AC4: 作成年月日 | AF4: ='様式A-1'!R5 -> 43805
B5: 名 称 | E5: ='様式A-1'!D4 -> 佐波山隧道（上り） | J5: 管理者名 | M5: ='様式A-1'!R3 -> 山口県防府土木建築事務所 山口支所
B6: 位置図・現況写真・標準断面図・地質縦断図・施工実績
B19: 位置図・現況写真・標準断面図・地質縦断図・施工実績

Sheet 様式B_001
B2: ■定期点検記録様式 トンネル変状・異常箇所写真位置図 【様式B】 | N2: 定期点検年月日 | P2: 45635 | S2: 施設ID | V2: 34.09797,131.54189
B3: フリガナ | C3: (ｻﾊﾞﾔﾏｽﾞｲﾄﾞｳ(ﾉﾎﾞﾘ)) | G3: 路線名 | H3: 国道262号 | K3: 管理者名 | L3: 山口県防府土木建築事務所 | Q3: 定期点検実施者 | S3: 大日本ダイヤコンサルタント株式会社 | V3: 起点 | W3: 緯度 | X3: 34.09792
B4: 名 称 | C4: 佐波山隧道(上り) | S4: 斉藤 寿英 | W4: 経度 | X4: 131.542
B5: 所在地 | C5: 自 | D5: 山口市下古鯖地先 | G5: トンネル工法 | I5: 矢板工法 | L5: トンネル延長 | N5: L= | O5: 600 | P5: ｍ | Q5: 自専道 or 一般道 | R5: 一般道 | S5: 代替路の有無 | U5: 有 | V5: 終点 | W5: 緯度 | X5: 34.09292
C6: 至 | D6: 防府市高井地先 | G6: 建設年度 | I6: 1973 | L6: 幅員 | N6: L= | O6: 8.65 | P6: ｍ | S6: 緊急輸送道路 | U6: 一次 | W6: 経度 | X6: 131.5445
B7: トンネル毎 の健全性の 診断の区分 | D7: Ⅱ
G8: 変状・異常 箇所数合計 | I8: トンネル本体工 | J8: 材質劣化 | K8: Ⅱ | L8: 56 | N8: Ⅲ | O8: 0 | Q8: Ⅳ | R8: 0 | T8: 附属物等 の取付状態 | V8: ◯ （応急措置後) | X8: 0
J9: 漏水 | K9: Ⅱ | L9: 51 | N9: Ⅲ | O9: 0 | Q9: Ⅳ | R9: 0
V10: ✕ | X10: 7
J11: 外力 | K11: Ⅱ | L11: 0 | N11: Ⅲ | O11: 0 | Q11: Ⅳ | R11: 0
B12: トンネル変状・異常箇所写真位置図
J29: 注１：本位置図は、見下げた状態で記載すること。 注２：覆工スパン番号は横断目地毎(矢板工法の場合は上半アーチの 横断目地毎)に設定すること。 | Q29: 注３：写真番号に付する変状番号は、各覆工スパンの変状に対して新たに確認された場合 は順次追加していくこと。 注４：横断目地の変状は前の覆工スパン番号で計上すること。 注５：１枚に収まらない場合は、複数枚に分けて作成すること。
C30: ※1 トンネル本体工の変状数は、材質劣化、漏水に起因するものは変状単位で、外力に起因するものはスパン単位で計上すること。
C31: ※2 トンネル本体工の変状に対しては、措置の必要性（Ⅱ～Ⅳ）について表記すること。また、点検前に実施された措置によりⅠと判定された箇所についても記載すること。
C32: ※3 附属物等の取付状態の○欄については、応急措置前に判定区分×とした箇所のうち応急措置により○判定とした箇所の数を記入すること。
C33: ※4 附属物等の異常番号は、本体工と番号が重複しないよう101番以降とする等の配慮を行い、分かりやすく記録すること。

Sheet 様式B_002
B2: ■定期点検記録様式 トンネル変状・異常箇所写真位置図 【様式B】 | N2: 定期点検年月日 | P2: 45635 | S2: 施設ID | V2: 34.09797,131.54189
B3: フリガナ | C3: (ｻﾊﾞﾔﾏｽﾞｲﾄﾞｳ(ﾉﾎﾞﾘ)) | G3: 路線名 | H3: 国道262号 | K3: 管理者名 | L3: 山口県防府土木建築事務所 | Q3: 定期点検実施者 | S3: 大日本ダイヤコンサルタント株式会社 | V3: 起点 | W3: 緯度 | X3: 34.09792
B4: 名 称 | C4: 佐波山隧道(上り) | S4: 斉藤 寿英 | W4: 経度 | X4: 131.542
B5: 所在地 | C5: 自 | D5: 山口市下古鯖地先 | G5: トンネル工法 | I5: 矢板工法 | L5: トンネル延長 | N5: L= | O5: 600 | P5: ｍ | Q5: 自専道 or 一般道 | R5: 一般道 | S5: 代替路の有無 | U5: 有 | V5: 終点 | W5: 緯度 | X5: 34.09292
C6: 至 | D6: 防府市高井地先 | G6: 建設年度 | I6: 1973 | L6: 幅員 | N6: L= | O6: 8.65 | P6: ｍ | S6: 緊急輸送道路 | U6: 一次 | W6: 経度 | X6: 131.5445
B7: トンネル毎 の健全性の 診断の区分 | D7: Ⅱ
G8: 変状・異常 箇所数合計 | I8: トンネル本体工 | J8: 材質劣化 | K8: Ⅱ | L8: 56 | N8: Ⅲ | O8: 0 | Q8: Ⅳ | R8: 0 | T8: 附属物等 の取付状態 | V8: ◯ （応急措置後) | X8: 0
J9: 漏水 | K9: Ⅱ | L9: 51 | N9: Ⅲ | O9: 0 | Q9: Ⅳ | R9: 0
V10: ✕ | X10: 7
J11: 外力 | K11: Ⅱ | L11: 0 | N11: Ⅲ | O11: 0 | Q11: Ⅳ | R11: 0
B12: トンネル変状・異常箇所写真位置図
J29: 注１：本位置図は、見下げた状態で記載すること。 注２：覆工スパン番号は横断目地毎(矢板工法の場合は上半アーチの 横断目地毎)に設定すること。 | Q29: 注３：写真番号に付する変状番号は、各覆工スパンの変状に対して新たに確認された場合 は順次追加していくこと。 注４：横断目地の変状は前の覆工スパン番号で計上すること。 注５：１枚に収まらない場合は、複数枚に分けて作成すること。
C30: ※1 トンネル本体工の変状数は、材質劣化、漏水に起因するものは変状単位で、外力に起因するものはスパン単位で計上すること。
C31: ※2 トンネル本体工の変状に対しては、措置の必要性（Ⅱ～Ⅳ）について表記すること。また、点検前に実施された措置によりⅠと判定された箇所についても記載すること。
C32: ※3 附属物等の取付状態の○欄については、応急措置前に判定区分×とした箇所のうち応急措置により○判定とした箇所の数を記入すること。
C33: ※4 附属物等の異常番号は、本体工と番号が重複しないよう101番以降とする等の配慮を行い、分かりやすく記録すること。

Sheet 様式B_003
B2: ■定期点検記録様式 トンネル変状・異常箇所写真位置図 【様式B】 | N2: 定期点検年月日 | P2: 45635 | S2: 施設ID | V2: 34.09797,131.54189
B3: フリガナ | C3: (ｻﾊﾞﾔﾏｽﾞｲﾄﾞｳ(ﾉﾎﾞﾘ)) | G3: 路線名 | H3: 国道262号 | K3: 管理者名 | L3: 山口県防府土木建築事務所 | Q3: 定期点検実施者 | S3: 大日本ダイヤコンサルタント株式会社 | V3: 起点 | W3: 緯度 | X3: 34.09792
B4: 名 称 | C4: 佐波山隧道(上り) | S4: 斉藤 寿英 | W4: 経度 | X4: 131.542
B5: 所在地 | C5: 自 | D5: 山口市下古鯖地先 | G5: トンネル工法 | I5: 矢板工法 | L5: トンネル延長 | N5: L= | O5: 600 | P5: ｍ | Q5: 自専道 or 一般道 | R5: 一般道 | S5: 代替路の有無 | U5: 有 | V5: 終点 | W5: 緯度 | X5: 34.09292
C6: 至 | D6: 防府市高井地先 | G6: 建設年度 | I6: 1973 | L6: 幅員 | N6: L= | O6: 8.65 | P6: ｍ | S6: 緊急輸送道路 | U6: 一次 | W6: 経度 | X6: 131.5445
B7: トンネル毎 の健全性の 診断の区分 | D7: Ⅱ
G8: 変状・異常 箇所数合計 | I8: トンネル本体工 | J8: 材質劣化 | K8: Ⅱ | L8: 56 | N8: Ⅲ | O8: 0 | Q8: Ⅳ | R8: 0 | T8: 附属物等 の取付状態 | V8: ◯ （応急措置後) | X8: 0
J9: 漏水 | K9: Ⅱ | L9: 51 | N9: Ⅲ | O9: 0 | Q9: Ⅳ | R9: 0
V10: ✕ | X10: 7
J11: 外力 | K11: Ⅱ | L11: 0 | N11: Ⅲ | O11: 0 | Q11: Ⅳ | R11: 0
B12: トンネル変状・異常箇所写真位置図
J29: 注１：本位置図は、見下げた状態で記載すること。 注２：覆工スパン番号は横断目地毎(矢板工法の場合は上半アーチの 横断目地毎)に設定すること。 | Q29: 注３：写真番号に付する変状番号は、各覆工スパンの変状に対して新たに確認された場合 は順次追加していくこと。 注４：横断目地の変状は前の覆工スパン番号で計上すること。 注５：１枚に収まらない場合は、複数枚に分けて作成すること。
C30: ※1 トンネル本体工の変状数は、材質劣化、漏水に起因するものは変状単位で、外力に起因するものはスパン単位で計上すること。
C31: ※2 トンネル本体工の変状に対しては、措置の必要性（Ⅱ～Ⅳ）について表記すること。また、点検前に実施された措置によりⅠと判定された箇所についても記載すること。
C32: ※3 附属物等の取付状態の○欄については、応急措置前に判定区分×とした箇所のうち応急措置により○判定とした箇所の数を記入すること。
C33: ※4 附属物等の異常番号は、本体工と番号が重複しないよう101番以降とする等の配慮を行い、分かりやすく記録すること。

Sheet 様式B_004
B2: ■定期点検記録様式 トンネル変状・異常箇所写真位置図 【様式B】 | N2: 定期点検年月日 | P2: 45635 | S2: 施設ID | V2: 34.09797,131.54189
B3: フリガナ | C3: (ｻﾊﾞﾔﾏｽﾞｲﾄﾞｳ(ﾉﾎﾞﾘ)) | G3: 路線名 | H3: 国道262号 | K3: 管理者名 | L3: 山口県防府土木建築事務所 | Q3: 定期点検実施者 | S3: 大日本ダイヤコンサルタント株式会社 | V3: 起点 | W3: 緯度 | X3: 34.09792
B4: 名 称 | C4: 佐波山隧道(上り) | S4: 斉藤 寿英 | W4: 経度 | X4: 131.542
B5: 所在地 | C5: 自 | D5: 山口市下古鯖地先 | G5: トンネル工法 | I5: 矢板工法 | L5: トンネル延長 | N5: L= | O5: 600 | P5: ｍ | Q5: 自専道 or 一般道 | R5: 一般道 | S5: 代替路の有無 | U5: 有 | V5: 終点 | W5: 緯度 | X5: 34.09292
C6: 至 | D6: 防府市高井地先 | G6: 建設年度 | I6: 1973 | L6: 幅員 | N6: L= | O6: 8.65 | P6: ｍ | S6: 緊急輸送道路 | U6: 一次 | W6: 経度 | X6: 131.5445
B7: トンネル毎 の健全性の 診断の区分 | D7: Ⅱ
G8: 変状・異常 箇所数合計 | I8: トンネル本体工 | J8: 材質劣化 | K8: Ⅱ | L8: 56 | N8: Ⅲ | O8: 0 | Q8: Ⅳ | R8: 0 | T8: 附属物等 の取付状態 | V8: ◯ （応急措置後) | X8: 0
J9: 漏水 | K9: Ⅱ | L9: 51 | N9: Ⅲ | O9: 0 | Q9: Ⅳ | R9: 0
V10: ✕ | X10: 7
J11: 外力 | K11: Ⅱ | L11: 0 | N11: Ⅲ | O11: 0 | Q11: Ⅳ | R11: 0
B12: トンネル変状・異常箇所写真位置図
J29: 注１：本位置図は、見下げた状態で記載すること。 注２：覆工スパン番号は横断目地毎(矢板工法の場合は上半アーチの 横断目地毎)に設定すること。 | Q29: 注３：写真番号に付する変状番号は、各覆工スパンの変状に対して新たに確認された場合 は順次追加していくこと。 注４：横断目地の変状は前の覆工スパン番号で計上すること。 注５：１枚に収まらない場合は、複数枚に分けて作成すること。
C30: ※1 トンネル本体工の変状数は、材質劣化、漏水に起因するものは変状単位で、外力に起因するものはスパン単位で計上すること。
C31: ※2 トンネル本体工の変状に対しては、措置の必要性（Ⅱ～Ⅳ）について表記すること。また、点検前に実施された措置によりⅠと判定された箇所についても記載すること。
C32: ※3 附属物等の取付状態の○欄については、応急措置前に判定区分×とした箇所のうち応急措置により○判定とした箇所の数を記入すること。
C33: ※4 附属物等の異常番号は、本体工と番号が重複しないよう101番以降とする等の配慮を行い、分かりやすく記録すること。

Sheet 様式B_005
B2: ■定期点検記録様式 トンネル変状・異常箇所写真位置図 【様式B】 | N2: 定期点検年月日 | P2: 45635 | S2: 施設ID | V2: 34.09797,131.54189
B3: フリガナ | C3: (ｻﾊﾞﾔﾏｽﾞｲﾄﾞｳ(ﾉﾎﾞﾘ)) | G3: 路線名 | H3: 国道262号 | K3: 管理者名 | L3: 山口県防府土木建築事務所 | Q3: 定期点検実施者 | S3: 大日本ダイヤコンサルタント株式会社 | V3: 起点 | W3: 緯度 | X3: 34.09792
B4: 名 称 | C4: 佐波山隧道(上り) | S4: 斉藤 寿英 | W4: 経度 | X4: 131.542
B5: 所在地 | C5: 自 | D5: 山口市下古鯖地先 | G5: トンネル工法 | I5: 矢板工法 | L5: トンネル延長 | N5: L= | O5: 600 | P5: ｍ | Q5: 自専道 or 一般道 | R5: 一般道 | S5: 代替路の有無 | U5: 有 | V5: 終点 | W5: 緯度 | X5: 34.09292
C6: 至 | D6: 防府市高井地先 | G6: 建設年度 | I6: 1973 | L6: 幅員 | N6: L= | O6: 8.65 | P6: ｍ | S6: 緊急輸送道路 | U6: 一次 | W6: 経度 | X6: 131.5445
B7: トンネル毎 の健全性の 診断の区分 | D7: Ⅱ
G8: 変状・異常 箇所数合計 | I8: トンネル本体工 | J8: 材質劣化 | K8: Ⅱ | L8: 56 | N8: Ⅲ | O8: 0 | Q8: Ⅳ | R8: 0 | T8: 附属物等 の取付状態 | V8: ◯ （応急措置後) | X8: 0
J9: 漏水 | K9: Ⅱ | L9: 51 | N9: Ⅲ | O9: 0 | Q9: Ⅳ | R9: 0
V10: ✕ | X10: 7
J11: 外力 | K11: Ⅱ | L11: 0 | N11: Ⅲ | O11: 0 | Q11: Ⅳ | R11: 0
B12: トンネル変状・異常箇所写真位置図
J29: 注１：本位置図は、見下げた状態で記載すること。 注２：覆工スパン番号は横断目地毎(矢板工法の場合は上半アーチの 横断目地毎)に設定すること。 | Q29: 注３：写真番号に付する変状番号は、各覆工スパンの変状に対して新たに確認された場合 は順次追加していくこと。 注４：横断目地の変状は前の覆工スパン番号で計上すること。 注５：１枚に収まらない場合は、複数枚に分けて作成すること。
C30: ※1 トンネル本体工の変状数は、材質劣化、漏水に起因するものは変状単位で、外力に起因するものはスパン単位で計上すること。
C31: ※2 トンネル本体工の変状に対しては、措置の必要性（Ⅱ～Ⅳ）について表記すること。また、点検前に実施された措置によりⅠと判定された箇所についても記載すること。
C32: ※3 附属物等の取付状態の○欄については、応急措置前に判定区分×とした箇所のうち応急措置により○判定とした箇所の数を記入すること。
C33: ※4 附属物等の異常番号は、本体工と番号が重複しないよう101番以降とする等の配慮を行い、分かりやすく記録すること。

Sheet 様式B_006
B2: ■定期点検記録様式 トンネル変状・異常箇所写真位置図 【様式B】 | N2: 定期点検年月日 | P2: 45635 | S2: 施設ID | V2: 34.09797,131.54189
B3: フリガナ | C3: (ｻﾊﾞﾔﾏｽﾞｲﾄﾞｳ(ﾉﾎﾞﾘ)) | G3: 路線名 | H3: 国道262号 | K3: 管理者名 | L3: 山口県防府土木建築事務所 | Q3: 定期点検実施者 | S3: 大日本ダイヤコンサルタント株式会社 | V3: 起点 | W3: 緯度 | X3: 34.09792
B4: 名 称 | C4: 佐波山隧道(上り) | S4: 斉藤 寿英 | W4: 経度 | X4: 131.542
B5: 所在地 | C5: 自 | D5: 山口市下古鯖地先 | G5: トンネル工法 | I5: 矢板工法 | L5: トンネル延長 | N5: L= | O5: 600 | P5: ｍ | Q5: 自専道 or 一般道 | R5: 一般道 | S5: 代替路の有無 | U5: 有 | V5: 終点 | W5: 緯度 | X5: 34.09292
C6: 至 | D6: 防府市高井地先 | G6: 建設年度 | I6: 1973 | L6: 幅員 | N6: L= | O6: 8.65 | P6: ｍ | S6: 緊急輸送道路 | U6: 一次 | W6: 経度 | X6: 131.5445
B7: トンネル毎 の健全性の 診断の区分 | D7: Ⅱ
G8: 変状・異常 箇所数合計 | I8: トンネル本体工 | J8: 材質劣化 | K8: Ⅱ | L8: 56 | N8: Ⅲ | O8: 0 | Q8: Ⅳ | R8: 0 | T8: 附属物等 の取付状態 | V8: ◯ （応急措置後) | X8: 0
J9: 漏水 | K9: Ⅱ | L9: 51 | N9: Ⅲ | O9: 0 | Q9: Ⅳ | R9: 0
V10: ✕ | X10: 7
J11: 外力 | K11: Ⅱ | L11: 0 | N11: Ⅲ | O11: 0 | Q11: Ⅳ | R11: 0
B12: トンネル変状・異常箇所写真位置図
J29: 注１：本位置図は、見下げた状態で記載すること。 注２：覆工スパン番号は横断目地毎(矢板工法の場合は上半アーチの 横断目地毎)に設定すること。 | Q29: 注３：写真番号に付する変状番号は、各覆工スパンの変状に対して新たに確認された場合 は順次追加していくこと。 注４：横断目地の変状は前の覆工スパン番号で計上すること。 注５：１枚に収まらない場合は、複数枚に分けて作成すること。
C30: ※1 トンネル本体工の変状数は、材質劣化、漏水に起因するものは変状単位で、外力に起因するものはスパン単位で計上すること。
C31: ※2 トンネル本体工の変状に対しては、措置の必要性（Ⅱ～Ⅳ）について表記すること。また、点検前に実施された措置によりⅠと判定された箇所についても記載すること。
C32: ※3 附属物等の取付状態の○欄については、応急措置前に判定区分×とした箇所のうち応急措置により○判定とした箇所の数を記入すること。
C33: ※4 附属物等の異常番号は、本体工と番号が重複しないよう101番以降とする等の配慮を行い、分かりやすく記録すること。

Sheet 様式B_007
B2: ■定期点検記録様式 トンネル変状・異常箇所写真位置図 【様式B】 | N2: 定期点検年月日 | P2: 45635 | S2: 施設ID | V2: 34.09797,131.54189
B3: フリガナ | C3: (ｻﾊﾞﾔﾏｽﾞｲﾄﾞｳ(ﾉﾎﾞﾘ)) | G3: 路線名 | H3: 国道262号 | K3: 管理者名 | L3: 山口県防府土木建築事務所 | Q3: 定期点検実施者 | S3: 大日本ダイヤコンサルタント株式会社 | V3: 起点 | W3: 緯度 | X3: 34.09792
B4: 名 称 | C4: 佐波山隧道(上り) | S4: 斉藤 寿英 | W4: 経度 | X4: 131.542
B5: 所在地 | C5: 自 | D5: 山口市下古鯖地先 | G5: トンネル工法 | I5: 矢板工法 | L5: トンネル延長 | N5: L= | O5: 600 | P5: ｍ | Q5: 自専道 or 一般道 | R5: 一般道 | S5: 代替路の有無 | U5: 有 | V5: 終点 | W5: 緯度 | X5: 34.09292
C6: 至 | D6: 防府市高井地先 | G6: 建設年度 | I6: 1973 | L6: 幅員 | N6: L= | O6: 8.65 | P6: ｍ | S6: 緊急輸送道路 | U6: 一次 | W6: 経度 | X6: 131.5445
B7: トンネル毎 の健全性の 診断の区分 | D7: Ⅱ
G8: 変状・異常 箇所数合計 | I8: トンネル本体工 | J8: 材質劣化 | K8: Ⅱ | L8: 56 | N8: Ⅲ | O8: 0 | Q8: Ⅳ | R8: 0 | T8: 附属物等 の取付状態 | V8: ◯ （応急措置後) | X8: 0
J9: 漏水 | K9: Ⅱ | L9: 51 | N9: Ⅲ | O9: 0 | Q9: Ⅳ | R9: 0
V10: ✕ | X10: 7
J11: 外力 | K11: Ⅱ | L11: 0 | N11: Ⅲ | O11: 0 | Q11: Ⅳ | R11: 0
B12: トンネル変状・異常箇所写真位置図
J29: 注１：本位置図は、見下げた状態で記載すること。 注２：覆工スパン番号は横断目地毎(矢板工法の場合は上半アーチの 横断目地毎)に設定すること。 | Q29: 注３：写真番号に付する変状番号は、各覆工スパンの変状に対して新たに確認された場合 は順次追加していくこと。 注４：横断目地の変状は前の覆工スパン番号で計上すること。 注５：１枚に収まらない場合は、複数枚に分けて作成すること。
C30: ※1 トンネル本体工の変状数は、材質劣化、漏水に起因するものは変状単位で、外力に起因するものはスパン単位で計上すること。
C31: ※2 トンネル本体工の変状に対しては、措置の必要性（Ⅱ～Ⅳ）について表記すること。また、点検前に実施された措置によりⅠと判定された箇所についても記載すること。
C32: ※3 附属物等の取付状態の○欄については、応急措置前に判定区分×とした箇所のうち応急措置により○判定とした箇所の数を記入すること。
C33: ※4 附属物等の異常番号は、本体工と番号が重複しないよう101番以降とする等の配慮を行い、分かりやすく記録すること。

Sheet 様式B_008
B2: ■定期点検記録様式 トンネル変状・異常箇所写真位置図 【様式B】 | N2: 定期点検年月日 | P2: 45635 | S2: 施設ID | V2: 34.09797,131.54189
B3: フリガナ | C3: (ｻﾊﾞﾔﾏｽﾞｲﾄﾞｳ(ﾉﾎﾞﾘ)) | G3: 路線名 | H3: 国道262号 | K3: 管理者名 | L3: 山口県防府土木建築事務所 | Q3: 定期点検実施者 | S3: 大日本ダイヤコンサルタント株式会社 | V3: 起点 | W3: 緯度 | X3: 34.09792
B4: 名 称 | C4: 佐波山隧道(上り) | S4: 斉藤 寿英 | W4: 経度 | X4: 131.542
B5: 所在地 | C5: 自 | D5: 山口市下古鯖地先 | G5: トンネル工法 | I5: 矢板工法 | L5: トンネル延長 | N5: L= | O5: 600 | P5: ｍ | Q5: 自専道 or 一般道 | R5: 一般道 | S5: 代替路の有無 | U5: 有 | V5: 終点 | W5: 緯度 | X5: 34.09292
C6: 至 | D6: 防府市高井地先 | G6: 建設年度 | I6: 1973 | L6: 幅員 | N6: L= | O6: 8.65 | P6: ｍ | S6: 緊急輸送道路 | U6: 一次 | W6: 経度 | X6: 131.5445
B7: トンネル毎 の健全性の 診断の区分 | D7: Ⅱ
G8: 変状・異常 箇所数合計 | I8: トンネル本体工 | J8: 材質劣化 | K8: Ⅱ | L8: 56 | N8: Ⅲ | O8: 0 | Q8: Ⅳ | R8: 0 | T8: 附属物等 の取付状態 | V8: ◯ （応急措置後) | X8: 0
J9: 漏水 | K9: Ⅱ | L9: 51 | N9: Ⅲ | O9: 0 | Q9: Ⅳ | R9: 0
V10: ✕ | X10: 7
J11: 外力 | K11: Ⅱ | L11: 0 | N11: Ⅲ | O11: 0 | Q11: Ⅳ | R11: 0
B12: トンネル変状・異常箇所写真位置図
J29: 注１：本位置図は、見下げた状態で記載すること。 注２：覆工スパン番号は横断目地毎(矢板工法の場合は上半アーチの 横断目地毎)に設定すること。 | Q29: 注３：写真番号に付する変状番号は、各覆工スパンの変状に対して新たに確認された場合 は順次追加していくこと。 注４：横断目地の変状は前の覆工スパン番号で計上すること。 注５：１枚に収まらない場合は、複数枚に分けて作成すること。
C30: ※1 トンネル本体工の変状数は、材質劣化、漏水に起因するものは変状単位で、外力に起因するものはスパン単位で計上すること。
C31: ※2 トンネル本体工の変状に対しては、措置の必要性（Ⅱ～Ⅳ）について表記すること。また、点検前に実施された措置によりⅠと判定された箇所についても記載すること。
C32: ※3 附属物等の取付状態の○欄については、応急措置前に判定区分×とした箇所のうち応急措置により○判定とした箇所の数を記入すること。
C33: ※4 附属物等の異常番号は、本体工と番号が重複しないよう101番以降とする等の配慮を行い、分かりやすく記録すること。

Sheet 様式C-1-1
B2: ■定期点検記録様式 全スパン定期点検結果総括表（トンネル本体工） 【様式C-1-1】
B3: フリガナ | F3: (ｻﾊﾞﾔﾏｽﾞｲﾄﾞｳ(ﾉﾎﾞﾘ)) | I3: 路線名 | K3: 国道262号 | O3: 定期点検実施者 | P3: 大日本ダイヤコンサルタント株式会社 | T3: 定期点検年月日 | X3: 45635
B4: 名 称 | F4: 佐波山隧道(上り) | I4: 管理者名 | K4: 山口県防府土木建築事務所 | P4: 斉藤 寿英
B5: 定期点検結果 | C5: 覆工 スパン 番号 | E5: 変状 番号 | F5: 距離 （m） | G5: 変状部位 | I5: 変 状 の 内 容 | O5: 前回定期点検時の状態 | P5: 今回定期点検結果 | T5: 措置履歴 | Y5: 対応方針 ・ 特記事項
O6: 43770
G7: 対象箇所 | H7: 部位区分 | I7: 変状区分 | J7: 変状種類 | M7: 変状の発生範囲の規模 | N7: 前回定期点検時の変状の発生範囲及び規模 | O7: 対策区分 | P7: 対策区分 | R7: 調査の 要否 | S7: 措置の 要否 | T7: 実施 | U7: 措置の実施状況
P8: 応急措置前 | Q8: 応急措置後
C9: PS | E9: 1 | F9: 0 | G9: 坑門 | H9: 面壁・妻壁等 | I9: 漏水 | J9: 漏水 | M9: 3.93m2 | N9: にじみ | O9: Ⅱb | Q9: Ⅱb | R9: 否 | S9: 要監視 | T9: 継続 | U9: 監視（日常巡視） | Y9: 監視
C10: S001 | E10: 1 | F10: 1 | G10: 覆工 | H10: アーチ（天端） | I10: 材質劣化 | J10: その他 | M10: 0.01m2 | N10: 0.01m2 | O10: Ⅱb | Q10: Ⅱb | R10: 否 | S10: 要監視 | T10: 継続 | U10: 監視（日常巡視） | Y10: 監視
C11: S001 | E11: 2 | F11: 2.7 | G11: 覆工 | H11: アーチ（右側） | I11: 材質劣化 | J11: うき・はく離 | M11: 2.86m2 | N11: 2.31m2 | O11: Ⅱa | Q11: Ⅱa | R11: 否 | S11: 要対策 | T11: 未 | U11: はく落防止対策工を実施 | Y11: はく落防止対策工
C12: S001 | E12: 3 | F12: 1.4 | G12: 覆工 | H12: 側壁（右側） | I12: 漏水 | J12: 漏水 | M12: 2.61m2 | N12: にじみ | O12: Ⅱb | Q12: Ⅱb | R12: 否 | S12: 要監視 | T12: 継続 | U12: 監視（日常巡視） | Y12: 監視・定期的清掃
C13: S001 | E13: 4 | F13: 2.4000001 | G13: 内装板 | H13: 側壁 | I13: 材質劣化 | J13: その他 | M13: 0.10m2 | N13: － | O13: － | Q13: Ⅱb | R13: 否 | S13: 要監視 | T13: ― | U13: ― | Y13: 監視
C14: S001 | E14: 5 | F14: 3.5 | G14: 内装板 | H14: 側壁 | I14: 材質劣化 | J14: その他 | M14: 0.04m2 | N14: － | O14: － | Q14: Ⅱb | R14: 否 | S14: 要監視 | T14: ― | U14: ― | Y14: 監視
C15: S001 | E15: 6 | F15: 0.5 | G15: 路面 | H15: 側溝 | I15: － | J15: その他 | M15: 0.03m2 | N15: － | O15: － | R15: 否 | S15: 否 | T15: ― | U15: ―
C16: S001 | E16: 7 | F16: 1.3 | G16: 路面 | H16: 歩道 | I16: 漏水 | J16: その他 | M16: 1.00m2 | N16: － | O16: － | Q16: Ⅱb | R16: 否 | S16: 要監視 | T16: ― | U16: ― | Y16: 監視・定期的清掃
C17: S003 | E17: 1 | F17: 25.6 | G17: 路面 | H17: 監査歩路 | I17: － | J17: その他 | M17: 1.46m2 | N17: 1.46m2 | O17: Ⅱb | R17: 否 | S17: 否 | T17: 継続 | U17: 監視（日常巡視）
C18: S003 | E18: 2 | F18: 25.200001 | G18: 路面 | H18: 側溝 | I18: － | J18: その他 | M18: 0.02m2 | N18: － | O18: － | R18: 否 | S18: 否 | T18: ― | U18: ―
C19: S004 | E19: 1 | F19: 35.900002 | G19: 覆工 | H19: 横断目地（天端） | I19: 材質劣化 | J19: うき・はく離 | M19: 0.42m2 | N19: － | O19: － | Q19: Ⅱa | R19: 否 | S19: 要対策 | T19: ― | U19: ― | Y19: はく落防止対策工
C20: S004 | E20: 2 | F20: 31.799999 | G20: 路面 | H20: 側溝 | I20: － | J20: その他 | M20: 0.04m2 | N20: － | O20: － | R20: 否 | S20: 否 | T20: ― | U20: ―
C21: S005 | E21: 1 | F21: 37.400002 | G21: 路面 | H21: 監査歩路 | I21: － | J21: その他 | M21: 1.20m2 | N21: 1.20m2 | O21: Ⅱb | R21: 否 | S21: 否 | T21: 継続 | U21: 監視（日常巡視）
C22: S006 | E22: 1 | F22: 37.400002 | G22: 覆工 | H22: アーチ（左側） | I22: 漏水 | J22: 漏水 | M22: 2.96m2 | N22: にじみ | O22: Ⅱb | Q22: Ⅱb | R22: 否 | S22: 要監視 | T22: 継続 | U22: 監視（日常巡視） | Y22: 監視
C23: S006 | E23: 2 | F23: 54.099998 | G23: 覆工 | H23: 横断目地（天端） | I23: 材質劣化 | J23: その他 | M23: 0.02m2 | N23: 0.02m2 | O23: Ⅱb | Q23: Ⅱb | R23: 否 | S23: 要監視 | T23: 継続 | U23: 監視（日常巡視） | Y23: 監視
C24: S006 | E24: 3 | F24: 46.5 | G24: 路面 | H24: 監査歩路 | I24: － | J24: その他 | M24: 1.50m2 | N24: 1.50m2 | O24: Ⅱb | R24: 否 | S24: 否 | T24: 継続 | U24: 監視（日常巡視）
C25: S006 | E25: 4 | F25: 47.599998 | G25: 覆工 | H25: アーチ（左側） | I25: 漏水 | J25: 漏水 | M25: 4.59m2 | N25: － | O25: － | Q25: Ⅱb | R25: 否 | S25: 要監視 | T25: ― | U25: ― | Y25: 監視
C26: S006 | E26: 5 | F26: 49.700001 | G26: 覆工 | H26: アーチ（天端） | I26: 漏水 | J26: 漏水 | M26: 4.15m2 | N26: － | O26: － | Q26: Ⅱb | R26: 否 | S26: 要監視 | T26: ― | U26: ― | Y26: 監視
C27: S006 | E27: 6 | F27: 49.400002 | G27: 覆工 | H27: アーチ（天端） | I27: 漏水 | J27: 漏水 | M27: 4.03m2 | N27: － | O27: － | Q27: Ⅱa | R27: 否 | S27: 要対策 | T27: ― | U27: ― | Y27: 漏水対策工
C28: S006 | E28: 7 | F28: 48.200001 | G28: 路面 | H28: 側溝 | I28: － | J28: その他 | M28: 0.02m2 | N28: － | O28: － | R28: 否 | S28: 否 | T28: ― | U28: ―
C29: S007 | E29: 1 | F29: 54.099998 | G29: 覆工 | H29: アーチ（左側） | I29: 漏水 | J29: 漏水 | M29: 5.13m2 | N29: にじみ | O29: Ⅱb | Q29: Ⅱb | R29: 否 | S29: 要監視 | T29: 継続 | U29: 監視（日常巡視） | Y29: 監視
C30: S007 | E30: 2 | F30: 60.900002 | G30: 覆工 | H30: アーチ（左側） | I30: 漏水 | J30: 漏水 | M30: 2.40m2 | N30: にじみ | O30: Ⅱb | Q30: Ⅱb | R30: 否 | S30: 要監視 | T30: 継続 | U30: 監視（日常巡視） | Y30: 監視
C31: S007 | E31: 3 | F31: 63.200001 | G31: 覆工 | H31: 横断目地（天端） | I31: 材質劣化 | J31: その他 | M31: 0.02m2 | N31: 0.02m2 | O31: Ⅱb | Q31: Ⅱb | R31: 否 | S31: 要監視 | T31: 継続 | U31: 監視（日常巡視） | Y31: 監視
C32: S007 | E32: 4 | F32: 60.900002 | G32: 路面 | H32: 監査歩路 | I32: 漏水 | J32: 滞水 | M32: 1.00m2 | N32: 滞水 | O32: Ⅱb | Q32: Ⅱb | R32: 否 | S32: 要監視 | T32: 継続 | U32: 監視（日常巡視） | Y32: 監視
C33: S007 | E33: 5 | F33: 54.299999 | G33: 覆工 | H33: アーチ（天端） | I33: 漏水 | J33: 漏水 | M33: 4.00m2 | N33: － | O33: － | Q33: Ⅱb | R33: 否 | S33: 要監視 | T33: ― | U33: ― | Y33: 監視
C34: S008 | E34: 1 | F34: 67.199997 | G34: 覆工 | H34: アーチ（左側） | I34: 漏水 | J34: 漏水 | M34: 1.63m2 | N34: にじみ | O34: Ⅱb | Q34: Ⅱb | R34: 否 | S34: 要監視 | T34: 継続 | U34: 監視（日常巡視） | Y34: 監視
C35: S008 | E35: 2 | F35: 72.300003 | G35: 覆工 | H35: 横断目地（天端） | I35: 材質劣化 | J35: その他 | M35: 0.02m2 | N35: 0.02m2 | O35: Ⅱb | Q35: Ⅱb | R35: 否 | S35: 要監視 | T35: 継続 | U35: 監視（日常巡視） | Y35: 監視
C36: S008 | E36: 3 | F36: 70 | G36: 路面 | H36: 側溝 | I36: － | J36: その他 | M36: 0.03m2 | N36: － | O36: － | R36: 否 | S36: 否 | T36: ― | U36: ―
C37: S009 | E37: 1 | F37: 77.900002 | G37: 路面 | H37: 監査歩路 | I37: － | J37: その他 | M37: 0.14m2 | N37: 0.10m2 | O37: Ⅱb | R37: 否 | S37: 否 | T37: 継続 | U37: 監視（日常巡視）
C38: S009 | E38: 2 | F38: 81.199997 | G38: 覆工 | H38: 水平打ち継ぎ目（右側） | I38: 材質劣化 | J38: うき・はく離 | M38: 0.05m2 | N38: － | O38: － | Q38: Ⅱb | R38: 否 | S38: 要監視 | T38: ― | U38: ― | Y38: 監視
C39: S009 | E39: 3 | F39: 79.099998 | G39: 路面 | H39: 側溝 | I39: － | J39: その他 | M39: 0.04m2 | N39: － | O39: － | R39: 否 | S39: 否 | T39: ― | U39: ―
C40: S009 | E40: 4 | F40: 79.300003 | G40: 路面 | H40: 歩道 | I40: 漏水 | J40: 滞水 | M40: 1.00m2 | N40: － | O40: － | Q40: Ⅱb | R40: 否 | S40: 要監視 | T40: ― | U40: ― | Y40: 監視
C41: S010 | E41: 1 | F41: 85.300003 | G41: 覆工 | H41: アーチ（右側） | I41: 漏水 | J41: 漏水 | M41: 6.31m2 | N41: にじみ | O41: Ⅱb | Q41: Ⅱb | R41: 否 | S41: 要監視 | T41: 継続 | U41: 監視（日常巡視） | Y41: 監視
...

Sheet 様式C-1-2
B2: ■定期点検記録様式 定期点検結果総括表（トンネル内附属物等の取付状態） 【様式C-1-2】
B3: フリガナ | F3: (ｻﾊﾞﾔﾏｽﾞｲﾄﾞｳ(ﾉﾎﾞﾘ)) | J3: 路線名 | K3: 一般国道262号 | M3: 定期点検実施者 | O3: 大日本ダイヤコンサルタント株式会社 | S3: 定期点検年月日 | W3: 45635
B4: 名 称 | F4: 佐波山隧道(上り) | J4: 管理者名 | K4: 山口県防府土木建築事務所 | O4: 斉藤 寿英
B5: 定期点検結果 | C5: 覆工 スパン 番号 | E5: 異常 番号 | F5: 距離 （m） | G5: 異常部位 | J5: 異 常 の 内 容 | N5: 定期点検結果 | P5: 応急措置の 実施状況 | V5: 対応方針 ・ 特記事項
G6: 対象箇所 | I6: 部位区分 | J6: 異常種類 | L6: 異常の発生範囲の規模 | N6: 異常判定区分 | P6: 実施 | Q6: 応急措置の内容
N7: 応急措置前 | O7: 応急措置後
C8: S023 | E8: 1 | F8: 200 | G8: 非常用施設 | H8: 消火器 | I8: 附属物本体 | J8: 緩み，脱落 | L8: 1箇所 | O8: × | V8: さや管再設置
C9: S024 | E9: 1 | F9: 215 | G9: 非常用施設 | H9: 消火器 | I9: 附属物本体 | J9: 緩み，脱落 | L9: 1箇所 | O9: × | V9: さや管再設置
C10: S025 | E10: 1 | F10: 221 | G10: 非常用施設 | H10: 消火器 | I10: 附属物本体 | J10: 緩み，脱落 | L10: 1箇所 | O10: × | V10: さや管再設置
C11: S038 | E11: 1 | F11: 335 | G11: 非常用施設 | H11: 消火器 | I11: 附属物本体 | J11: 緩み，脱落 | L11: 1箇所 | O11: × | V11: さや管再設置
C12: S039 | E12: 1 | F12: 349 | G12: 非常用施設 | H12: 消火器 | I12: 附属物本体 | J12: 緩み，脱落 | L12: 1箇所 | O12: × | V12: さや管再設置
C13: S064 | E13: 1 | F13: 571 | G13: 非常用施設 | H13: 避難情報提供設備 | I13: 取付部材 | J13: 緩み，脱落 | L13: 1箇所 | O13: × | V13: ラジ再ケーブル金具交換
C14: S067 | E14: 1 | F14: 596.70001 | G14: 照明施設 | H14: ケーブル類 | I14: ボルト・ﾅｯﾄ・アンカー類 | J14: 異常なし | L14: ― | O14: ○ | V14: 金具撤去済み(前回破損)
C15: S067 | E15: 2 | F15: 597.40002 | G15: 照明施設 | H15: ケーブル類 | I15: 附属物本体 | J15: 異常なし | L15: ― | O15: ○ | V15: ボックス撤去済み(前回腐食)
C16: S067 | E16: 3 | F16: 599 | G16: その他施設 | H16: その他 | I16: 附属物本体 | J16: 破損 | L16: 1箇所 | O16: × | V16: デリネーター交換
C42: ※ 異常判定区分×について記入すること。また、応急措置により○と判定された箇所も記入すること。
C43: ※ 応急措置を実施しないで判定した箇所の異常判定区分は、異常判定区分の応急措置後の欄に記入すること。
C44: ※ 異常の除去が不完全で、緊急対応が必要な場合は対応方針欄に記入すること。
C45: ※ １スパンの覆工に複数の異常がある場合は、異常箇所毎に記入すること。
C46: ※ 行が不足する場合は、適時、表の行を増やすこと。

Sheet 様式C-2
B2: ■定期点検記録様式 状態の把握の内容 【様式C-2】
B3: フリガナ | E3: (ｻﾊﾞﾔﾏｽﾞｲﾄﾞｳ(ﾉﾎﾞﾘ)) | H3: 路線名 | J3: 一般国道262号 | M3: 定期点検実施者 | Q3: 大日本ダイヤコンサルタント株式会社 | U3: 定期点検年月日 | X3: 45635
B4: 名 称 | E4: 佐波山隧道(上り) | H4: 管理者名 | J4: 山口県防府土木建築事務所 | Q4: 斉藤 寿英
B5: 状態の把握の内容 | C5: 覆工スパン 番号 | E5: 変状 番号 | F5: 状態の把握の内容
F6: 年月日 | H6: 内容 | O6: 結果 | Y6: 対策区分の 判定
B22: 注）状態の把握において、微破壊・非破壊検査や各種試験等を実施した場合について記載する。
B23: ※ 行が不足する場合は、適時、表の行を増やすこと。

Sheet 様式D-1-1_001
B2: ■定期点検記録様式 変状写真台帳【様式D-1-1】 | R2: 施設ID | T2: 34.09797,131.54189
B3: フリガナ | E3: (ｻﾊﾞﾔﾏｽﾞｲﾄﾞｳ(ﾉﾎﾞﾘ)) | H3: 路 線 名 | J3: 国道262号 | M3: 定期点検実施者 | P3: 大日本ダイヤコンサルタント株式会社 | S3: 定期点検年月日 | U3: 45635
B4: 名 称 | E4: 佐波山隧道(上り) | H4: 管理者名 | J4: 山口県防府土木建築事務所 | P4: 斉藤 寿英
B5: 写真 番号 | C5: 覆工スパン 番号 | E5: PS | M5: 写真 番号 | N5: 覆工スパン 番号 | P5: S001
C6: 変状番号 | E6: 1 | N6: 変状番号 | P6: 1
B7: 変状 部位 | C7: 対象箇所 | E7: 坑門 | M7: 変状 部位 | N7: 対象箇所 | P7: 覆工
C8: 部位区分 | E8: 面壁・妻壁等 | N8: 部位区分 | P8: アーチ（天端）
B9: 変状種類 | E9: 漏水 | M9: 変状種類 | P9: その他
B10: 対策 区分 | C10: 変状区分 | E10: 漏水 | M10: 対策 区分 | N10: 変状区分 | P10: 材質劣化
C11: 応急措置前 | N11: 応急措置前
C12: 応急措置後 | E12: Ⅱb | N12: 応急措置後 | P12: Ⅱb
B13: 変状の発生範囲及び規模 | E13: 6.55m×0.60m | H13: 前回変状の発生範囲及び規模 | J13: にじみ (判定Ⅱb) | M13: 変状の発生範囲及び規模 | P13: 0.05m×0.20m | S13: 前回変状の発生範囲及び規模 | U13: 0.05m×0.2m (判定Ⅱb)
B14: 対策履歴 | E14: 監視（日常巡視） | H14: 実施状況（実施日） | J14: 継続 | M14: 対策履歴 | P14: 監視（日常巡視） | S14: 実施状況（実施日） | U14: 継続
B15: メモ | E15: 面壁に漏水跡。 | M15: メモ | P15: アーチ部(天端)に木片混入。
B16: 写真 番号 | C16: 覆工スパン 番号 | E16: S001 | M16: 写真 番号 | N16: 覆工スパン 番号 | P16: S001
C17: 変状番号 | E17: 2 | N17: 変状番号 | P17: 3
B18: 変状 部位 | C18: 対象箇所 | E18: 覆工 | M18: 変状 部位 | N18: 対象箇所 | P18: 覆工
C19: 部位区分 | E19: アーチ（右側） | N19: 部位区分 | P19: 側壁（右側）
B20: 変状種類 | E20: うき・はく離 | M20: 変状種類 | P20: 漏水
B21: 対策 区分 | C21: 変状区分 | E21: 材質劣化 | M21: 対策 区分 | N21: 変状区分 | P21: 漏水
C22: 応急措置前 | N22: 応急措置前
C23: 応急措置後 | E23: Ⅱa | N23: 応急措置後 | P23: Ⅱb
B24: 変状の発生範囲及び規模 | E24: 1.30m×2.20m、0.20m×0.90m、0.20m×0.70m | H24: 前回変状の発生範囲及び規模 | J24: 1.1m×2.1m (判定Ⅱa) | M24: 変状の発生範囲及び規模 | P24: 2.75m×0.95m | S24: 前回変状の発生範囲及び規模 | U24: にじみ (判定Ⅱb)
B25: 対策履歴 | E25: はく落防止対策工を実施 | H25: 実施状況（実施日） | J25: 未 | M25: 対策履歴 | P25: 監視（日常巡視） | S25: 実施状況（実施日） | U25: 継続
B26: メモ | E26: アーチ部(右側)に豆板。利用者被害有り。打音異常無し。材質劣化無し。 | M26: メモ | P26: 側壁部(右側)にひび割れ沿いのにじみ(滞水により土砂堆積有り)。
C27: ※ 応急措置後の対策区分の判定区分Ⅱb～Ⅳについて添付すること。また、点検前に 実施された措置によりⅠと判定された箇所も添付すること。 | N27: ※ 変状の発生範囲の規模とは、対策を行う際に参考となる変状の長さや面積をいう。
N28: ※ 応急措置を実施しないで判定した変状の判定区分は、判定区分の応急措置後の欄に記入すること。
C29: ※ たたき落としを実施した場合は、実施後の写真を添付すること。 | N29: ※ 変状の発生範囲の規模は、面積・寸法を記載すること。(ひび割れ幅のみmmとし、その他をm表記とする)
C30: ※ 附属物の取付状態に関する異常写真は別途、任意の書式でとりまとめること。 | N30: ※ 構造用鋼材以外の異物に伴ううき・はく離については、メモ欄に異物の概要を記入すること。

Sheet 様式D-1-1_002
B2: ■定期点検記録様式 変状写真台帳【様式D-1-1】 | R2: 施設ID | T2: 34.09797,131.54189
B3: フリガナ | E3: (ｻﾊﾞﾔﾏｽﾞｲﾄﾞｳ(ﾉﾎﾞﾘ)) | H3: 路 線 名 | J3: 国道262号 | M3: 定期点検実施者 | P3: 大日本ダイヤコンサルタント株式会社 | S3: 定期点検年月日 | U3: 45635
B4: 名 称 | E4: 佐波山隧道(上り) | H4: 管理者名 | J4: 山口県防府土木建築事務所 | P4: 斉藤 寿英
B5: 写真 番号 | C5: 覆工スパン 番号 | E5: S001 | M5: 写真 番号 | N5: 覆工スパン 番号 | P5: S001
C6: 変状番号 | E6: 4 | N6: 変状番号 | P6: 5
B7: 変状 部位 | C7: 対象箇所 | E7: 内装板 | M7: 変状 部位 | N7: 対象箇所 | P7: 内装板
C8: 部位区分 | E8: 側壁 | N8: 部位区分 | P8: 側壁
B9: 変状種類 | E9: その他 | M9: 変状種類 | P9: その他
B10: 対策 区分 | C10: 変状区分 | E10: 材質劣化 | M10: 対策 区分 | N10: 変状区分 | P10: 材質劣化
C11: 応急措置前 | N11: 応急措置前
C12: 応急措置後 | E12: Ⅱb | N12: 応急措置後 | P12: Ⅱb
B13: 変状の発生範囲及び規模 | E13: 0.20m×0.50m | H13: 前回変状の発生範囲及び規模 | J13: 今回新規変状 | M13: 変状の発生範囲及び規模 | P13: 0.20m×0.20m | S13: 前回変状の発生範囲及び規模 | U13: 今回新規変状
B14: 対策履歴 | E14: ― | H14: 実施状況（実施日） | J14: ― | M14: 対策履歴 | P14: ― | S14: 実施状況（実施日） | U14: ―
B15: メモ | E15: 内装板に内装板破損。 | M15: メモ | P15: 内装板に内装板破損。
B16: 写真 番号 | C16: 覆工スパン 番号 | E16: S001 | M16: 写真 番号 | N16: 覆工スパン 番号 | P16: S001
C17: 変状番号 | E17: 6 | N17: 変状番号 | P17: 7
B18: 変状 部位 | C18: 対象箇所 | E18: 路面 | M18: 変状 部位 | N18: 対象箇所 | P18: 路面
C19: 部位区分 | E19: 側溝 | N19: 部位区分 | P19: 歩道
B20: 変状種類 | E20: その他 | M20: 変状種類 | P20: その他
B21: 対策 区分 | C21: 変状区分 | M21: 対策 区分 | N21: 変状区分 | P21: 漏水
C22: 応急措置前 | N22: 応急措置前
C23: 応急措置後 | N23: 応急措置後 | P23: Ⅱb
B24: 変状の発生範囲及び規模 | E24: 0.25m×0.10m | H24: 前回変状の発生範囲及び規模 | J24: 今回新規変状 | M24: 変状の発生範囲及び規模 | P24: 0.25m×1.80m | S24: 前回変状の発生範囲及び規模 | U24: 今回新規変状
B25: 対策履歴 | E25: ― | H25: 実施状況（実施日） | J25: ― | M25: 対策履歴 | P25: ― | S25: 実施状況（実施日） | U25: ―
B26: メモ | E26: 側溝に蓋欠損(鋼材露出)。 | M26: メモ | P26: 歩道に土砂堆積。
C27: ※ 応急措置後の対策区分の判定区分Ⅱb～Ⅳについて添付すること。また、点検前に 実施された措置によりⅠと判定された箇所も添付すること。 | N27: ※ 変状の発生範囲の規模とは、対策を行う際に参考となる変状の長さや面積をいう。
N28: ※ 応急措置を実施しないで判定した変状の判定区分は、判定区分の応急措置後の欄に記入すること。
C29: ※ たたき落としを実施した場合は、実施後の写真を添付すること。 | N29: ※ 変状の発生範囲の規模は、面積・寸法を記載すること。(ひび割れ幅のみmmとし、その他をm表記とする)
C30: ※ 附属物の取付状態に関する異常写真は別途、任意の書式でとりまとめること。 | N30: ※ 構造用鋼材以外の異物に伴ううき・はく離については、メモ欄に異物の概要を記入すること。

Sheet 様式D-1-1_003
B2: ■定期点検記録様式 変状写真台帳【様式D-1-1】 | R2: 施設ID | T2: 34.09797,131.54189
B3: フリガナ | E3: (ｻﾊﾞﾔﾏｽﾞｲﾄﾞｳ(ﾉﾎﾞﾘ)) | H3: 路 線 名 | J3: 国道262号 | M3: 定期点検実施者 | P3: 大日本ダイヤコンサルタント株式会社 | S3: 定期点検年月日 | U3: 45635
B4: 名 称 | E4: 佐波山隧道(上り) | H4: 管理者名 | J4: 山口県防府土木建築事務所 | P4: 斉藤 寿英
B5: 写真 番号 | C5: 覆工スパン 番号 | E5: S003 | M5: 写真 番号 | N5: 覆工スパン 番号 | P5: S003
C6: 変状番号 | E6: 1 | N6: 変状番号 | P6: 2
B7: 変状 部位 | C7: 対象箇所 | E7: 路面 | M7: 変状 部位 | N7: 対象箇所 | P7: 路面
C8: 部位区分 | E8: 監査歩路 | N8: 部位区分 | P8: 側溝
B9: 変状種類 | E9: その他 | M9: 変状種類 | P9: その他
B10: 対策 区分 | C10: 変状区分 | M10: 対策 区分 | N10: 変状区分
C11: 応急措置前 | N11: 応急措置前
C12: 応急措置後 | N12: 応急措置後
B13: 変状の発生範囲及び規模 | E13: 0.20m×7.30m | H13: 前回変状の発生範囲及び規模 | J13: 0.2m×7.3m (判定Ⅱb) | M13: 変状の発生範囲及び規模 | P13: 0.20m×0.10m | S13: 前回変状の発生範囲及び規模 | U13: 今回新規変状
B14: 対策履歴 | E14: 監視（日常巡視） | H14: 実施状況（実施日） | J14: 継続 | M14: 対策履歴 | P14: ― | S14: 実施状況（実施日） | U14: ―
B15: メモ | E15: 監査歩路に縁石劣化。 | M15: メモ | P15: 側溝に蓋欠損(鋼材露出)。
B16: 写真 番号 | C16: 覆工スパン 番号 | E16: S004 | M16: 写真 番号 | N16: 覆工スパン 番号 | P16: S004
C17: 変状番号 | E17: 1 | N17: 変状番号 | P17: 2
B18: 変状 部位 | C18: 対象箇所 | E18: 覆工 | M18: 変状 部位 | N18: 対象箇所 | P18: 路面
C19: 部位区分 | E19: 横断目地（天端） | N19: 部位区分 | P19: 側溝
B20: 変状種類 | E20: うき・はく離 | M20: 変状種類 | P20: その他
B21: 対策 区分 | C21: 変状区分 | E21: 材質劣化 | M21: 対策 区分 | N21: 変状区分
C22: 応急措置前 | N22: 応急措置前
C23: 応急措置後 | E23: Ⅱa | N23: 応急措置後
B24: 変状の発生範囲及び規模 | E24: 1.40m×0.30m | H24: 前回変状の発生範囲及び規模 | J24: 今回新規変状 | M24: 変状の発生範囲及び規模 | P24: 0.20m×0.20m | S24: 前回変状の発生範囲及び規模 | U24: 今回新規変状
B25: 対策履歴 | E25: ― | H25: 実施状況（実施日） | J25: ― | M25: 対策履歴 | P25: ― | S25: 実施状況（実施日） | U25: ―
B26: メモ | E26: 横断目地部(天端)にうき。閉合ひび割れ無し。利用者被害有り。打音異常有り。 | M26: メモ | P26: 側溝に蓋欠損。
C27: ※ 応急措置後の対策区分の判定区分Ⅱb～Ⅳについて添付すること。また、点検前に 実施された措置によりⅠと判定された箇所も添付すること。 | N27: ※ 変状の発生範囲の規模とは、対策を行う際に参考となる変状の長さや面積をいう。
N28: ※ 応急措置を実施しないで判定した変状の判定区分は、判定区分の応急措置後の欄に記入すること。
C29: ※ たたき落としを実施した場合は、実施後の写真を添付すること。 | N29: ※ 変状の発生範囲の規模は、面積・寸法を記載すること。(ひび割れ幅のみmmとし、その他をm表記とする)
C30: ※ 附属物の取付状態に関する異常写真は別途、任意の書式でとりまとめること。 | N30: ※ 構造用鋼材以外の異物に伴ううき・はく離については、メモ欄に異物の概要を記入すること。

Sheet 様式D-1-1_004
B2: ■定期点検記録様式 変状写真台帳【様式D-1-1】 | R2: 施設ID | T2: 34.09797,131.54189
B3: フリガナ | E3: (ｻﾊﾞﾔﾏｽﾞｲﾄﾞｳ(ﾉﾎﾞﾘ)) | H3: 路 線 名 | J3: 国道262号 | M3: 定期点検実施者 | P3: 大日本ダイヤコンサルタント株式会社 | S3: 定期点検年月日 | U3: 45635
B4: 名 称 | E4: 佐波山隧道(上り) | H4: 管理者名 | J4: 山口県防府土木建築事務所 | P4: 斉藤 寿英
B5: 写真 番号 | C5: 覆工スパン 番号 | E5: S005 | M5: 写真 番号 | N5: 覆工スパン 番号 | P5: S006
C6: 変状番号 | E6: 1 | N6: 変状番号 | P6: 1
B7: 変状 部位 | C7: 対象箇所 | E7: 路面 | M7: 変状 部位 | N7: 対象箇所 | P7: 覆工
C8: 部位区分 | E8: 監査歩路 | N8: 部位区分 | P8: アーチ（左側）
B9: 変状種類 | E9: その他 | M9: 変状種類 | P9: 漏水
B10: 対策 区分 | C10: 変状区分 | M10: 対策 区分 | N10: 変状区分 | P10: 漏水
C11: 応急措置前 | N11: 応急措置前
C12: 応急措置後 | N12: 応急措置後 | P12: Ⅱb
B13: 変状の発生範囲及び規模 | E13: 0.20m×6.00m | H13: 前回変状の発生範囲及び規模 | J13: 0.2m×6.0m (判定Ⅱb) | M13: 変状の発生範囲及び規模 | P13: 3.95m×0.75m | S13: 前回変状の発生範囲及び規模 | U13: にじみ (判定Ⅱb)
B14: 対策履歴 | E14: 監視（日常巡視） | H14: 実施状況（実施日） | J14: 継続 | M14: 対策履歴 | P14: 監視（日常巡視） | S14: 実施状況（実施日） | U14: 継続
B15: メモ | E15: 監査歩路に縁石劣化。 | M15: メモ | P15: アーチ部(左側)にひび割れ沿いのにじみ(滞水無し)。
B16: 写真 番号 | C16: 覆工スパン 番号 | E16: S006 | M16: 写真 番号 | N16: 覆工スパン 番号 | P16: S006
C17: 変状番号 | E17: 2 | N17: 変状番号 | P17: 3
B18: 変状 部位 | C18: 対象箇所 | E18: 覆工 | M18: 変状 部位 | N18: 対象箇所 | P18: 路面
C19: 部位区分 | E19: 横断目地（天端） | N19: 部位区分 | P19: 監査歩路
B20: 変状種類 | E20: その他 | M20: 変状種類 | P20: その他
B21: 対策 区分 | C21: 変状区分 | E21: 材質劣化 | M21: 対策 区分 | N21: 変状区分
C22: 応急措置前 | N22: 応急措置前
C23: 応急措置後 | E23: Ⅱb | N23: 応急措置後
B24: 変状の発生範囲及び規模 | E24: 0.40m×0.05m | H24: 前回変状の発生範囲及び規模 | J24: 0.4m×0.05m (判定Ⅱb) | M24: 変状の発生範囲及び規模 | P24: 0.20m×7.50m | S24: 前回変状の発生範囲及び規模 | U24: 0.2m×7.5m (判定Ⅱb)
B25: 対策履歴 | E25: 監視（日常巡視） | H25: 実施状況（実施日） | J25: 継続 | M25: 対策履歴 | P25: 監視（日常巡視） | S25: 実施状況（実施日） | U25: 継続
B26: メモ | E26: 横断目地部(天端)に木片混入。 | M26: メモ | P26: 監査歩路に縁石劣化。
C27: ※ 応急措置後の対策区分の判定区分Ⅱb～Ⅳについて添付すること。また、点検前に 実施された措置によりⅠと判定された箇所も添付すること。 | N27: ※ 変状の発生範囲の規模とは、対策を行う際に参考となる変状の長さや面積をいう。
N28: ※ 応急措置を実施しないで判定した変状の判定区分は、判定区分の応急措置後の欄に記入すること。
C29: ※ たたき落としを実施した場合は、実施後の写真を添付すること。 | N29: ※ 変状の発生範囲の規模は、面積・寸法を記載すること。(ひび割れ幅のみmmとし、その他をm表記とする)
C30: ※ 附属物の取付状態に関する異常写真は別途、任意の書式でとりまとめること。 | N30: ※ 構造用鋼材以外の異物に伴ううき・はく離については、メモ欄に異物の概要を記入すること。

Sheet 様式D-1-1_005
B2: ■定期点検記録様式 変状写真台帳【様式D-1-1】 | R2: 施設ID | T2: 34.09797,131.54189
B3: フリガナ | E3: (ｻﾊﾞﾔﾏｽﾞｲﾄﾞｳ(ﾉﾎﾞﾘ)) | H3: 路 線 名 | J3: 国道262号 | M3: 定期点検実施者 | P3: 大日本ダイヤコンサルタント株式会社 | S3: 定期点検年月日 | U3: 45635
B4: 名 称 | E4: 佐波山隧道(上り) | H4: 管理者名 | J4: 山口県防府土木建築事務所 | P4: 斉藤 寿英
B5: 写真 番号 | C5: 覆工スパン 番号 | E5: S006 | M5: 写真 番号 | N5: 覆工スパン 番号 | P5: S006
C6: 変状番号 | E6: 4 | N6: 変状番号 | P6: 5
B7: 変状 部位 | C7: 対象箇所 | E7: 覆工 | M7: 変状 部位 | N7: 対象箇所 | P7: 覆工
C8: 部位区分 | E8: アーチ（左側） | N8: 部位区分 | P8: アーチ（天端）
B9: 変状種類 | E9: 漏水 | M9: 変状種類 | P9: 漏水
B10: 対策 区分 | C10: 変状区分 | E10: 漏水 | M10: 対策 区分 | N10: 変状区分 | P10: 漏水
C11: 応急措置前 | N11: 応急措置前
C12: 応急措置後 | E12: Ⅱb | N12: 応急措置後 | P12: Ⅱb
B13: 変状の発生範囲及び規模 | E13: 5.40m×0.85m | H13: 前回変状の発生範囲及び規模 | J13: 今回新規変状 | M13: 変状の発生範囲及び規模 | P13: 8.30m×0.50m | S13: 前回変状の発生範囲及び規模 | U13: 今回新規変状
B14: 対策履歴 | E14: ― | H14: 実施状況（実施日） | J14: ― | M14: 対策履歴 | P14: ― | S14: 実施状況（実施日） | U14: ―
B15: メモ | E15: アーチ部(左側)にひび割れ沿いのにじみ(路面遊離石灰有り)。 | M15: メモ | P15: アーチ部(天端)にひび割れ沿いのにじみ(路面遊離石灰有り)。
B16: 写真 番号 | C16: 覆工スパン 番号 | E16: S006 | M16: 写真 番号 | N16: 覆工スパン 番号 | P16: S006
C17: 変状番号 | E17: 6 | N17: 変状番号 | P17: 7
B18: 変状 部位 | C18: 対象箇所 | E18: 覆工 | M18: 変状 部位 | N18: 対象箇所 | P18: 路面
C19: 部位区分 | E19: アーチ（天端） | N19: 部位区分 | P19: 側溝
B20: 変状種類 | E20: 漏水 | M20: 変状種類 | P20: その他
B21: 対策 区分 | C21: 変状区分 | E21: 漏水 | M21: 対策 区分 | N21: 変状区分
C22: 応急措置前 | N22: 応急措置前
C23: 応急措置後 | E23: Ⅱa | N23: 応急措置後
B24: 変状の発生範囲及び規模 | E24: 8.05m×0.50m | H24: 前回変状の発生範囲及び規模 | J24: 今回新規変状 | M24: 変状の発生範囲及び規模 | P24: 0.20m×0.10m | S24: 前回変状の発生範囲及び規模 | U24: 今回新規変状
B25: 対策履歴 | E25: ― | H25: 実施状況（実施日） | J25: ― | M25: 対策履歴 | P25: ― | S25: 実施状況（実施日） | U25: ―
B26: メモ | E26: アーチ部(天端)にひび割れ沿いの滴水(滞水有り)。 | M26: メモ | P26: 側溝に蓋欠損。
C27: ※ 応急措置後の対策区分の判定区分Ⅱb～Ⅳについて添付すること。また、点検前に 実施された措置によりⅠと判定された箇所も添付すること。 | N27: ※ 変状の発生範囲の規模とは、対策を行う際に参考となる変状の長さや面積をいう。
N28: ※ 応急措置を実施しないで判定した変状の判定区分は、判定区分の応急措置後の欄に記入すること。
C29: ※ たたき落としを実施した場合は、実施後の写真を添付すること。 | N29: ※ 変状の発生範囲の規模は、面積・寸法を記載すること。(ひび割れ幅のみmmとし、その他をm表記とする)
C30: ※ 附属物の取付状態に関する異常写真は別途、任意の書式でとりまとめること。 | N30: ※ 構造用鋼材以外の異物に伴ううき・はく離については、メモ欄に異物の概要を記入すること。

Sheet 様式D-1-1_006
B2: ■定期点検記録様式 変状写真台帳【様式D-1-1】 | R2: 施設ID | T2: 34.09797,131.54189
B3: フリガナ | E3: (ｻﾊﾞﾔﾏｽﾞｲﾄﾞｳ(ﾉﾎﾞﾘ)) | H3: 路 線 名 | J3: 国道262号 | M3: 定期点検実施者 | P3: 大日本ダイヤコンサルタント株式会社 | S3: 定期点検年月日 | U3: 45635
B4: 名 称 | E4: 佐波山隧道(上り) | H4: 管理者名 | J4: 山口県防府土木建築事務所 | P4: 斉藤 寿英
B5: 写真 番号 | C5: 覆工スパン 番号 | E5: S007 | M5: 写真 番号 | N5: 覆工スパン 番号 | P5: S007
C6: 変状番号 | E6: 1 | N6: 変状番号 | P6: 2
B7: 変状 部位 | C7: 対象箇所 | E7: 覆工 | M7: 変状 部位 | N7: 対象箇所 | P7: 覆工
C8: 部位区分 | E8: アーチ（左側） | N8: 部位区分 | P8: アーチ（左側）
B9: 変状種類 | E9: 漏水 | M9: 変状種類 | P9: 漏水
B10: 対策 区分 | C10: 変状区分 | E10: 漏水 | M10: 対策 区分 | N10: 変状区分 | P10: 漏水
C11: 応急措置前 | N11: 応急措置前
C12: 応急措置後 | E12: Ⅱb | N12: 応急措置後 | P12: Ⅱb
B13: 変状の発生範囲及び規模 | E13: 1.25m×4.10m | H13: 前回変状の発生範囲及び規模 | J13: にじみ (判定Ⅱb) | M13: 変状の発生範囲及び規模 | P13: 3.00m×0.80m | S13: 前回変状の発生範囲及び規模 | U13: にじみ (判定Ⅱb)
B14: 対策履歴 | E14: 監視（日常巡視） | H14: 実施状況（実施日） | J14: 継続 | M14: 対策履歴 | P14: 監視（日常巡視） | S14: 実施状況（実施日） | U14: 継続
B15: メモ | E15: アーチ部(左側)にひび割れ沿いのにじみ(路面遊離石灰有り)。 | M15: メモ | P15: アーチ部(左側)にひび割れ沿いのにじみ(滞水有り)。
B16: 写真 番号 | C16: 覆工スパン 番号 | E16: S007 | M16: 写真 番号 | N16: 覆工スパン 番号 | P16: S007
C17: 変状番号 | E17: 3 | N17: 変状番号 | P17: 4
B18: 変状 部位 | C18: 対象箇所 | E18: 覆工 | M18: 変状 部位 | N18: 対象箇所 | P18: 路面
C19: 部位区分 | E19: 横断目地（天端） | N19: 部位区分 | P19: 監査歩路
B20: 変状種類 | E20: その他 | M20: 変状種類 | P20: 滞水
B21: 対策 区分 | C21: 変状区分 | E21: 材質劣化 | M21: 対策 区分 | N21: 変状区分 | P21: 漏水
C22: 応急措置前 | N22: 応急措置前
C23: 応急措置後 | E23: Ⅱb | N23: 応急措置後 | P23: Ⅱb
B24: 変状の発生範囲及び規模 | E24: 0.30m×0.05m | H24: 前回変状の発生範囲及び規模 | J24: 0.3m×0.05m (判定Ⅱb) | M24: 変状の発生範囲及び規模 | P24: 1.15m×3.95m | S24: 前回変状の発生範囲及び規模 | U24: 滞水 (判定Ⅱb)
B25: 対策履歴 | E25: 監視（日常巡視） | H25: 実施状況（実施日） | J25: 継続 | M25: 対策履歴 | P25: 監視（日常巡視） | S25: 実施状況（実施日） | U25: 継続
B26: メモ | E26: 横断目地部(天端)に木片混入。 | M26: メモ | P26: 監査歩路に滞水。拡大。
C27: ※ 応急措置後の対策区分の判定区分Ⅱb～Ⅳについて添付すること。また、点検前に 実施された措置によりⅠと判定された箇所も添付すること。 | N27: ※ 変状の発生範囲の規模とは、対策を行う際に参考となる変状の長さや面積をいう。
N28: ※ 応急措置を実施しないで判定した変状の判定区分は、判定区分の応急措置後の欄に記入すること。
C29: ※ たたき落としを実施した場合は、実施後の写真を添付すること。 | N29: ※ 変状の発生範囲の規模は、面積・寸法を記載すること。(ひび割れ幅のみmmとし、その他をm表記とする)
C30: ※ 附属物の取付状態に関する異常写真は別途、任意の書式でとりまとめること。 | N30: ※ 構造用鋼材以外の異物に伴ううき・はく離については、メモ欄に異物の概要を記入すること。

Sheet 様式D-1-1_007
B2: ■定期点検記録様式 変状写真台帳【様式D-1-1】 | R2: 施設ID | T2: 34.09797,131.54189
B3: フリガナ | E3: (ｻﾊﾞﾔﾏｽﾞｲﾄﾞｳ(ﾉﾎﾞﾘ)) | H3: 路 線 名 | J3: 国道262号 | M3: 定期点検実施者 | P3: 大日本ダイヤコンサルタント株式会社 | S3: 定期点検年月日 | U3: 45635
B4: 名 称 | E4: 佐波山隧道(上り) | H4: 管理者名 | J4: 山口県防府土木建築事務所 | P4: 斉藤 寿英
B5: 写真 番号 | C5: 覆工スパン 番号 | E5: S007 | M5: 写真 番号 | N5: 覆工スパン 番号 | P5: S008
C6: 変状番号 | E6: 5 | N6: 変状番号 | P6: 1
B7: 変状 部位 | C7: 対象箇所 | E7: 覆工 | M7: 変状 部位 | N7: 対象箇所 | P7: 覆工
C8: 部位区分 | E8: アーチ（天端） | N8: 部位区分 | P8: アーチ（左側）
B9: 変状種類 | E9: 漏水 | M9: 変状種類 | P9: 漏水
B10: 対策 区分 | C10: 変状区分 | E10: 漏水 | M10: 対策 区分 | N10: 変状区分 | P10: 漏水
C11: 応急措置前 | N11: 応急措置前
C12: 応急措置後 | E12: Ⅱb | N12: 応急措置後 | P12: Ⅱb
B13: 変状の発生範囲及び規模 | E13: 8.00m×0.50m | H13: 前回変状の発生範囲及び規模 | J13: 今回新規変状 | M13: 変状の発生範囲及び規模 | P13: 3.25m×0.50m | S13: 前回変状の発生範囲及び規模 | U13: にじみ (判定Ⅱb)
B14: 対策履歴 | E14: ― | H14: 実施状況（実施日） | J14: ― | M14: 対策履歴 | P14: 監視（日常巡視） | S14: 実施状況（実施日） | U14: 継続
B15: メモ | E15: アーチ部(天端)にひび割れ沿いの滴水(滞水無し)。 | M15: メモ | P15: アーチ部(左側)にひび割れ沿いのにじみ(滞水無し)。
B16: 写真 番号 | C16: 覆工スパン 番号 | E16: S008 | M16: 写真 番号 | N16: 覆工スパン 番号 | P16: S008
C17: 変状番号 | E17: 2 | N17: 変状番号 | P17: 3
B18: 変状 部位 | C18: 対象箇所 | E18: 覆工 | M18: 変状 部位 | N18: 対象箇所 | P18: 路面
C19: 部位区分 | E19: 横断目地（天端） | N19: 部位区分 | P19: 側溝
B20: 変状種類 | E20: その他 | M20: 変状種類 | P20: その他
B21: 対策 区分 | C21: 変状区分 | E21: 材質劣化 | M21: 対策 区分 | N21: 変状区分
C22: 応急措置前 | N22: 応急措置前
C23: 応急措置後 | E23: Ⅱb | N23: 応急措置後
B24: 変状の発生範囲及び規模 | E24: 0.40m×0.05m | H24: 前回変状の発生範囲及び規模 | J24: 0.4m×0.05m (判定Ⅱb) | M24: 変状の発生範囲及び規模 | P24: 0.30m×0.10m、(うき)0.10m×0.05m | S24: 前回変状の発生範囲及び規模 | U24: 今回新規変状
B25: 対策履歴 | E25: 監視（日常巡視） | H25: 実施状況（実施日） | J25: 継続 | M25: 対策履歴 | P25: ― | S25: 実施状況（実施日） | U25: ―
B26: メモ | E26: 横断目地部(天端)に木片混入。 | M26: メモ | P26: 側溝に蓋欠損・うき。
C27: ※ 応急措置後の対策区分の判定区分Ⅱb～Ⅳについて添付すること。また、点検前に 実施された措置によりⅠと判定された箇所も添付すること。 | N27: ※ 変状の発生範囲の規模とは、対策を行う際に参考となる変状の長さや面積をいう。
N28: ※ 応急措置を実施しないで判定した変状の判定区分は、判定区分の応急措置後の欄に記入すること。
C29: ※ たたき落としを実施した場合は、実施後の写真を添付すること。 | N29: ※ 変状の発生範囲の規模は、面積・寸法を記載すること。(ひび割れ幅のみmmとし、その他をm表記とする)
C30: ※ 附属物の取付状態に関する異常写真は別途、任意の書式でとりまとめること。 | N30: ※ 構造用鋼材以外の異物に伴ううき・はく離については、メモ欄に異物の概要を記入すること。

Sheet 様式D-1-1_008
B2: ■定期点検記録様式 変状写真台帳【様式D-1-1】 | R2: 施設ID | T2: 34.09797,131.54189
B3: フリガナ | E3: (ｻﾊﾞﾔﾏｽﾞｲﾄﾞｳ(ﾉﾎﾞﾘ)) | H3: 路 線 名 | J3: 国道262号 | M3: 定期点検実施者 | P3: 大日本ダイヤコンサルタント株式会社 | S3: 定期点検年月日 | U3: 45635
B4: 名 称 | E4: 佐波山隧道(上り) | H4: 管理者名 | J4: 山口県防府土木建築事務所 | P4: 斉藤 寿英
B5: 写真 番号 | C5: 覆工スパン 番号 | E5: S009 | M5: 写真 番号 | N5: 覆工スパン 番号 | P5: S009
C6: 変状番号 | E6: 1 | N6: 変状番号 | P6: 2
B7: 変状 部位 | C7: 対象箇所 | E7: 路面 | M7: 変状 部位 | N7: 対象箇所 | P7: 覆工
C8: 部位区分 | E8: 監査歩路 | N8: 部位区分 | P8: 水平打ち継ぎ目（右側）
B9: 変状種類 | E9: その他 | M9: 変状種類 | P9: うき・はく離
B10: 対策 区分 | C10: 変状区分 | M10: 対策 区分 | N10: 変状区分 | P10: 材質劣化
C11: 応急措置前 | N11: 応急措置前
C12: 応急措置後 | N12: 応急措置後 | P12: Ⅱb
B13: 変状の発生範囲及び規模 | E13: 0.20m×0.70m | H13: 前回変状の発生範囲及び規模 | J13: 0.2m×0.5m (判定Ⅱb) | M13: 変状の発生範囲及び規模 | P13: 0.20m×0.25m | S13: 前回変状の発生範囲及び規模 | U13: 今回新規変状
B14: 対策履歴 | E14: 監視（日常巡視） | H14: 実施状況（実施日） | J14: 継続 | M14: 対策履歴 | P14: ― | S14: 実施状況（実施日） | U14: ―
B15: メモ | E15: 監査歩路に縁石劣化。拡大。 | M15: メモ | P15: 水平打ち継ぎ目(右側)沿いにうき。閉合ひび割れ無し。利用者被害無し。打音異常有り。
B16: 写真 番号 | C16: 覆工スパン 番号 | E16: S009 | M16: 写真 番号 | N16: 覆工スパン 番号 | P16: S009
C17: 変状番号 | E17: 3 | N17: 変状番号 | P17: 4
B18: 変状 部位 | C18: 対象箇所 | E18: 路面 | M18: 変状 部位 | N18: 対象箇所 | P18: 路面
C19: 部位区分 | E19: 側溝 | N19: 部位区分 | P19: 歩道
B20: 変状種類 | E20: その他 | M20: 変状種類 | P20: 滞水
B21: 対策 区分 | C21: 変状区分 | M21: 対策 区分 | N21: 変状区分 | P21: 漏水
C22: 応急措置前 | N22: 応急措置前
C23: 応急措置後 | N23: 応急措置後 | P23: Ⅱb
B24: 変状の発生範囲及び規模 | E24: 0.40m×0.10m | H24: 前回変状の発生範囲及び規模 | J24: 今回新規変状 | M24: 変状の発生範囲及び規模 | P24: 0.80m×3.65m | S24: 前回変状の発生範囲及び規模 | U24: 今回新規変状
B25: 対策履歴 | E25: ― | H25: 実施状況（実施日） | J25: ― | M25: 対策履歴 | P25: ― | S25: 実施状況（実施日） | U25: ―
B26: メモ | E26: 側溝に蓋欠損(鋼材露出)。 | M26: メモ | P26: 歩道に滞水。
C27: ※ 応急措置後の対策区分の判定区分Ⅱb～Ⅳについて添付すること。また、点検前に 実施された措置によりⅠと判定された箇所も添付すること。 | N27: ※ 変状の発生範囲の規模とは、対策を行う際に参考となる変状の長さや面積をいう。
N28: ※ 応急措置を実施しないで判定した変状の判定区分は、判定区分の応急措置後の欄に記入すること。
C29: ※ たたき落としを実施した場合は、実施後の写真を添付すること。 | N29: ※ 変状の発生範囲の規模は、面積・寸法を記載すること。(ひび割れ幅のみmmとし、その他をm表記とする)
C30: ※ 附属物の取付状態に関する異常写真は別途、任意の書式でとりまとめること。 | N30: ※ 構造用鋼材以外の異物に伴ううき・はく離については、メモ欄に異物の概要を記入すること。

Sheet 様式D-1-1_009
B2: ■定期点検記録様式 変状写真台帳【様式D-1-1】 | R2: 施設ID | T2: 34.09797,131.54189
B3: フリガナ | E3: (ｻﾊﾞﾔﾏｽﾞｲﾄﾞｳ(ﾉﾎﾞﾘ)) | H3: 路 線 名 | J3: 国道262号 | M3: 定期点検実施者 | P3: 大日本ダイヤコンサルタント株式会社 | S3: 定期点検年月日 | U3: 45635
B4: 名 称 | E4: 佐波山隧道(上り) | H4: 管理者名 | J4: 山口県防府土木建築事務所 | P4: 斉藤 寿英
B5: 写真 番号 | C5: 覆工スパン 番号 | E5: S010 | M5: 写真 番号 | N5: 覆工スパン 番号 | P5: S010
C6: 変状番号 | E6: 1 | N6: 変状番号 | P6: 2
B7: 変状 部位 | C7: 対象箇所 | E7: 覆工 | M7: 変状 部位 | N7: 対象箇所 | P7: 内装板
C8: 部位区分 | E8: アーチ（右側） | N8: 部位区分 | P8: 側壁
B9: 変状種類 | E9: 漏水 | M9: 変状種類 | P9: その他
B10: 対策 区分 | C10: 変状区分 | E10: 漏水 | M10: 対策 区分 | N10: 変状区分 | P10: 材質劣化
C11: 応急措置前 | N11: 応急措置前
C12: 応急措置後 | E12: Ⅱb | N12: 応急措置後 | P12: Ⅱb
B13: 変状の発生範囲及び規模 | E13: 5.05m×1.25m | H13: 前回変状の発生範囲及び規模 | J13: にじみ (判定Ⅱb) | M13: 変状の発生範囲及び規模 | P13: 0.25m×0.10m | S13: 前回変状の発生範囲及び規模 | U13: 今回新規変状
B14: 対策履歴 | E14: 監視（日常巡視） | H14: 実施状況（実施日） | J14: 継続 | M14: 対策履歴 | P14: ― | S14: 実施状況（実施日） | U14: ―
B15: メモ | E15: アーチ部(右側)にひび割れ沿いの漏水跡(滞水無し)。 | M15: メモ | P15: 内装板に内装板破損。
B16: 写真 番号 | C16: 覆工スパン 番号 | E16: S011 | M16: 写真 番号 | N16: 覆工スパン 番号 | P16: S011
C17: 変状番号 | E17: 1 | N17: 変状番号 | P17: 2
B18: 変状 部位 | C18: 対象箇所 | E18: 覆工 | M18: 変状 部位 | N18: 対象箇所 | P18: 覆工
C19: 部位区分 | E19: アーチ（左側） | N19: 部位区分 | P19: 水平打ち継ぎ目（左側）
B20: 変状種類 | E20: 漏水 | M20: 変状種類 | P20: その他
B21: 対策 区分 | C21: 変状区分 | E21: 漏水 | M21: 対策 区分 | N21: 変状区分 | P21: 材質劣化
C22: 応急措置前 | N22: 応急措置前
C23: 応急措置後 | E23: Ⅱb | N23: 応急措置後 | P23: Ⅰ
B24: 変状の発生範囲及び規模 | E24: 3.65m×0.50m | H24: 前回変状の発生範囲及び規模 | J24: にじみ (判定Ⅱb) | M24: 変状の発生範囲及び規模 | P24: ― | S24: 前回変状の発生範囲及び規模 | U24: うき 0.2m×0.4m Ⅱb
B25: 対策履歴 | E25: 監視（日常巡視） | H25: 実施状況（実施日） | J25: 継続 | M25: 対策履歴 | P25: はく落防止対策工を実施 | S25: 実施状況（実施日） | U25: 済
B26: メモ | E26: アーチ部(左側)にひび割れ沿いのにじみ(滞水無し)。 | M26: メモ | P26: 水平打ち継ぎ目(左側)沿いにはく落防止対策工(はつり工)を実施。
C27: ※ 応急措置後の対策区分の判定区分Ⅱb～Ⅳについて添付すること。また、点検前に 実施された措置によりⅠと判定された箇所も添付すること。 | N27: ※ 変状の発生範囲の規模とは、対策を行う際に参考となる変状の長さや面積をいう。
N28: ※ 応急措置を実施しないで判定した変状の判定区分は、判定区分の応急措置後の欄に記入すること。
C29: ※ たたき落としを実施した場合は、実施後の写真を添付すること。 | N29: ※ 変状の発生範囲の規模は、面積・寸法を記載すること。(ひび割れ幅のみmmとし、その他をm表記とする)
C30: ※ 附属物の取付状態に関する異常写真は別途、任意の書式でとりまとめること。 | N30: ※ 構造用鋼材以外の異物に伴ううき・はく離については、メモ欄に異物の概要を記入すること。

Sheet 様式D-1-1_010
B2: ■定期点検記録様式 変状写真台帳【様式D-1-1】 | R2: 施設ID | T2: 34.09797,131.54189
B3: フリガナ | E3: (ｻﾊﾞﾔﾏｽﾞｲﾄﾞｳ(ﾉﾎﾞﾘ)) | H3: 路 線 名 | J3: 国道262号 | M3: 定期点検実施者 | P3: 大日本ダイヤコンサルタント株式会社 | S3: 定期点検年月日 | U3: 45635
B4: 名 称 | E4: 佐波山隧道(上り) | H4: 管理者名 | J4: 山口県防府土木建築事務所 | P4: 斉藤 寿英
B5: 写真 番号 | C5: 覆工スパン 番号 | E5: S011 | M5: 写真 番号 | N5: 覆工スパン 番号 | P5: S011
C6: 変状番号 | E6: 3 | N6: 変状番号 | P6: 4
B7: 変状 部位 | C7: 対象箇所 | E7: 覆工 | M7: 変状 部位 | N7: 対象箇所 | P7: 覆工
C8: 部位区分 | E8: アーチ（左側） | N8: 部位区分 | P8: アーチ（右側）
B9: 変状種類 | E9: 鋼材腐食 | M9: 変状種類 | P9: 漏水
B10: 対策 区分 | C10: 変状区分 | E10: 材質劣化 | M10: 対策 区分 | N10: 変状区分 | P10: 漏水
C11: 応急措置前 | N11: 応急措置前
C12: 応急措置後 | E12: Ⅱa | N12: 応急措置後 | P12: Ⅱb
B13: 変状の発生範囲及び規模 | E13: 0.25m×0.25m | H13: 前回変状の発生範囲及び規模 | J13: 0.25m×0.25m (判定Ⅱa) | M13: 変状の発生範囲及び規模 | P13: 3.40m×0.80m | S13: 前回変状の発生範囲及び規模 | U13: にじみ (判定Ⅱb)
B14: 対策履歴 | E14: はく落防止対策工を実施 | H14: 実施状況（実施日） | J14: 未 | M14: 対策履歴 | P14: 監視（日常巡視） | S14: 実施状況（実施日） | U14: 継続
B15: メモ | E15: アーチ部(左側)に鋼材露出(はく落)。 | M15: メモ | P15: アーチ部(右側)にひび割れ沿いのにじみ(滞水有り)。
B16: 写真 番号 | C16: 覆工スパン 番号 | E16: S011 | M16: 写真 番号 | N16: 覆工スパン 番号 | P16: S012
C17: 変状番号 | E17: 5 | N17: 変状番号 | P17: 1
B18: 変状 部位 | C18: 対象箇所 | E18: 路面 | M18: 変状 部位 | N18: 対象箇所 | P18: 路面
C19: 部位区分 | E19: 歩道 | N19: 部位区分 | P19: 監査歩路
B20: 変状種類 | E20: 滞水 | M20: 変状種類 | P20: その他
B21: 対策 区分 | C21: 変状区分 | E21: 漏水 | M21: 対策 区分 | N21: 変状区分
C22: 応急措置前 | N22: 応急措置前
C23: 応急措置後 | E23: Ⅱb | N23: 応急措置後
B24: 変状の発生範囲及び規模 | E24: 0.60m×5.00m | H24: 前回変状の発生範囲及び規模 | J24: 滞水 (判定Ⅱb) | M24: 変状の発生範囲及び規模 | P24: 0.20m×1.10m | S24: 前回変状の発生範囲及び規模 | U24: 0.2m×1.1m (判定Ⅱb)
B25: 対策履歴 | E25: 監視（日常巡視） | H25: 実施状況（実施日） | J25: 継続 | M25: 対策履歴 | P25: 監視（日常巡視） | S25: 実施状況（実施日） | U25: 継続
B26: メモ | E26: 歩道に滞水。 | M26: メモ | P26: 監査歩路に縁石劣化。
C27: ※ 応急措置後の対策区分の判定区分Ⅱb～Ⅳについて添付すること。また、点検前に 実施された措置によりⅠと判定された箇所も添付すること。 | N27: ※ 変状の発生範囲の規模とは、対策を行う際に参考となる変状の長さや面積をいう。
N28: ※ 応急措置を実施しないで判定した変状の判定区分は、判定区分の応急措置後の欄に記入すること。
C29: ※ たたき落としを実施した場合は、実施後の写真を添付すること。 | N29: ※ 変状の発生範囲の規模は、面積・寸法を記載すること。(ひび割れ幅のみmmとし、その他をm表記とする)
C30: ※ 附属物の取付状態に関する異常写真は別途、任意の書式でとりまとめること。 | N30: ※ 構造用鋼材以外の異物に伴ううき・はく離については、メモ欄に異物の概要を記入すること。

Sheet 様式D-1-1_011
B2: ■定期点検記録様式 変状写真台帳【様式D-1-1】 | R2: 施設ID | T2: 34.09797,131.54189
B3: フリガナ | E3: (ｻﾊﾞﾔﾏｽﾞｲﾄﾞｳ(ﾉﾎﾞﾘ)) | H3: 路 線 名 | J3: 国道262号 | M3: 定期点検実施者 | P3: 大日本ダイヤコンサルタント株式会社 | S3: 定期点検年月日 | U3: 45635
B4: 名 称 | E4: 佐波山隧道(上り) | H4: 管理者名 | J4: 山口県防府土木建築事務所 | P4: 斉藤 寿英
B5: 写真 番号 | C5: 覆工スパン 番号 | E5: S013 | M5: 写真 番号 | N5: 覆工スパン 番号 | P5: S013
C6: 変状番号 | E6: 1 | N6: 変状番号 | P6: 2
B7: 変状 部位 | C7: 対象箇所 | E7: 覆工 | M7: 変状 部位 | N7: 対象箇所 | P7: 覆工
C8: 部位区分 | E8: 水平打ち継ぎ目（左側） | N8: 部位区分 | P8: アーチ（天端）
B9: 変状種類 | E9: うき・はく離 | M9: 変状種類 | P9: 漏水
B10: 対策 区分 | C10: 変状区分 | E10: 材質劣化 | M10: 対策 区分 | N10: 変状区分 | P10: 漏水
C11: 応急措置前 | N11: 応急措置前
C12: 応急措置後 | E12: Ⅱb | N12: 応急措置後 | P12: Ⅱa
B13: 変状の発生範囲及び規模 | E13: 0.20m×0.70m | H13: 前回変状の発生範囲及び規模 | J13: 0.2m×0.7m (判定Ⅱb) | M13: 変状の発生範囲及び規模 | P13: 8.00m×0.85m | S13: 前回変状の発生範囲及び規模 | U13: 今回新規変状
B14: 対策履歴 | E14: 監視（日常巡視） | H14: 実施状況（実施日） | J14: 継続 | M14: 対策履歴 | P14: ― | S14: 実施状況（実施日） | U14: ―
B15: メモ | E15: 水平打ち継ぎ目(左側)沿いにうき。閉合ひび割れ無し。利用者被害無し。打音異常有り。 | M15: メモ | P15: アーチ部(天端)にひび割れ沿いの滴水(滞水有り)。
B16: 写真 番号 | C16: 覆工スパン 番号 | E16: S014 | M16: 写真 番号 | N16: 覆工スパン 番号 | P16: S014
C17: 変状番号 | E17: 1 | N17: 変状番号 | P17: 2
B18: 変状 部位 | C18: 対象箇所 | E18: 覆工 | M18: 変状 部位 | N18: 対象箇所 | P18: 覆工
C19: 部位区分 | E19: アーチ（右側） | N19: 部位区分 | P19: 横断目地（右側）
B20: 変状種類 | E20: 鋼材腐食 | M20: 変状種類 | P20: 漏水
B21: 対策 区分 | C21: 変状区分 | E21: 材質劣化 | M21: 対策 区分 | N21: 変状区分 | P21: 漏水
C22: 応急措置前 | N22: 応急措置前
C23: 応急措置後 | E23: Ⅱa | N23: 応急措置後 | P23: Ⅱb
B24: 変状の発生範囲及び規模 | E24: 0.05m×0.20m | H24: 前回変状の発生範囲及び規模 | J24: 0.05m×0.2m (判定Ⅱa) | M24: 変状の発生範囲及び規模 | P24: 4.65m×0.75m | S24: 前回変状の発生範囲及び規模 | U24: にじみ (判定Ⅱb)
B25: 対策履歴 | E25: はく落防止対策工を実施 | H25: 実施状況（実施日） | J25: 未 | M25: 対策履歴 | P25: 監視（日常巡視） | S25: 実施状況（実施日） | U25: 継続
B26: メモ | E26: アーチ部(右側)に鋼材露出。 | M26: メモ | P26: 横断目地部(アーチ右側)ににじみ(滞水無し)。
C27: ※ 応急措置後の対策区分の判定区分Ⅱb～Ⅳについて添付すること。また、点検前に 実施された措置によりⅠと判定された箇所も添付すること。 | N27: ※ 変状の発生範囲の規模とは、対策を行う際に参考となる変状の長さや面積をいう。
N28: ※ 応急措置を実施しないで判定した変状の判定区分は、判定区分の応急措置後の欄に記入すること。
C29: ※ たたき落としを実施した場合は、実施後の写真を添付すること。 | N29: ※ 変状の発生範囲の規模は、面積・寸法を記載すること。(ひび割れ幅のみmmとし、その他をm表記とする)
C30: ※ 附属物の取付状態に関する異常写真は別途、任意の書式でとりまとめること。 | N30: ※ 構造用鋼材以外の異物に伴ううき・はく離については、メモ欄に異物の概要を記入すること。

Sheet 様式D-1-1_012
B2: ■定期点検記録様式 変状写真台帳【様式D-1-1】 | R2: 施設ID | T2: 34.09797,131.54189
B3: フリガナ | E3: (ｻﾊﾞﾔﾏｽﾞｲﾄﾞｳ(ﾉﾎﾞﾘ)) | H3: 路 線 名 | J3: 国道262号 | M3: 定期点検実施者 | P3: 大日本ダイヤコンサルタント株式会社 | S3: 定期点検年月日 | U3: 45635
B4: 名 称 | E4: 佐波山隧道(上り) | H4: 管理者名 | J4: 山口県防府土木建築事務所 | P4: 斉藤 寿英
B5: 写真 番号 | C5: 覆工スパン 番号 | E5: S014 | M5: 写真 番号 | N5: 覆工スパン 番号 | P5: S014
C6: 変状番号 | E6: 3 | N6: 変状番号 | P6: 4
B7: 変状 部位 | C7: 対象箇所 | E7: 内装板 | M7: 変状 部位 | N7: 対象箇所 | P7: 路面
C8: 部位区分 | E8: 側壁 | N8: 部位区分 | P8: 監査歩路
B9: 変状種類 | E9: その他 | M9: 変状種類 | P9: その他
B10: 対策 区分 | C10: 変状区分 | E10: 材質劣化 | M10: 対策 区分 | N10: 変状区分
C11: 応急措置前 | N11: 応急措置前
C12: 応急措置後 | E12: Ⅱb | N12: 応急措置後
B13: 変状の発生範囲及び規模 | E13: 0.20m×0.20m | H13: 前回変状の発生範囲及び規模 | J13: 0.2m×0.2m (判定Ⅱb) | M13: 変状の発生範囲及び規模 | P13: 0.20m×20.00m | S13: 前回変状の発生範囲及び規模 | U13: 0.2m×20.0m (判定Ⅱb)
B14: 対策履歴 | E14: 監視（日常巡視） | H14: 実施状況（実施日） | J14: 継続 | M14: 対策履歴 | P14: 監視（日常巡視） | S14: 実施状況（実施日） | U14: 継続
B15: メモ | E15: 内装板に内装板破損。 | M15: メモ | P15: 監査歩路に縁石劣化。
B16: 写真 番号 | C16: 覆工スパン 番号 | E16: S014 | M16: 写真 番号 | N16: 覆工スパン 番号 | P16: S015
C17: 変状番号 | E17: 5 | N17: 変状番号 | P17: 1
B18: 変状 部位 | C18: 対象箇所 | E18: 覆工 | M18: 変状 部位 | N18: 対象箇所 | P18: 覆工
C19: 部位区分 | E19: アーチ（天端） | N19: 部位区分 | P19: 横断目地（天端）
B20: 変状種類 | E20: 漏水 | M20: 変状種類 | P20: 漏水
B21: 対策 区分 | C21: 変状区分 | E21: 漏水 | M21: 対策 区分 | N21: 変状区分 | P21: 漏水
C22: 応急措置前 | N22: 応急措置前
C23: 応急措置後 | E23: Ⅱa | N23: 応急措置後 | P23: Ⅱb
B24: 変状の発生範囲及び規模 | E24: 8.50m×3.60m | H24: 前回変状の発生範囲及び規模 | J24: 今回新規変状 | M24: 変状の発生範囲及び規模 | P24: 8.70m×0.50m | S24: 前回変状の発生範囲及び規模 | U24: にじみ (判定Ⅱb)
B25: 対策履歴 | E25: ― | H25: 実施状況（実施日） | J25: ― | M25: 対策履歴 | P25: 監視（日常巡視） | S25: 実施状況（実施日） | U25: 継続
B26: メモ | E26: アーチ部(天端)に線導水からの滴水(滞水有り)。 | M26: メモ | P26: 横断目地部(天端)に漏水跡(滞水無し)。
C27: ※ 応急措置後の対策区分の判定区分Ⅱb～Ⅳについて添付すること。また、点検前に 実施された措置によりⅠと判定された箇所も添付すること。 | N27: ※ 変状の発生範囲の規模とは、対策を行う際に参考となる変状の長さや面積をいう。
N28: ※ 応急措置を実施しないで判定した変状の判定区分は、判定区分の応急措置後の欄に記入すること。
C29: ※ たたき落としを実施した場合は、実施後の写真を添付すること。 | N29: ※ 変状の発生範囲の規模は、面積・寸法を記載すること。(ひび割れ幅のみmmとし、その他をm表記とする)
C30: ※ 附属物の取付状態に関する異常写真は別途、任意の書式でとりまとめること。 | N30: ※ 構造用鋼材以外の異物に伴ううき・はく離については、メモ欄に異物の概要を記入すること。

Sheet 様式D-1-1_013
B2: ■定期点検記録様式 変状写真台帳【様式D-1-1】 | R2: 施設ID | T2: 34.09797,131.54189
B3: フリガナ | E3: (ｻﾊﾞﾔﾏｽﾞｲﾄﾞｳ(ﾉﾎﾞﾘ)) | H3: 路 線 名 | J3: 国道262号 | M3: 定期点検実施者 | P3: 大日本ダイヤコンサルタント株式会社 | S3: 定期点検年月日 | U3: 45635
B4: 名 称 | E4: 佐波山隧道(上り) | H4: 管理者名 | J4: 山口県防府土木建築事務所 | P4: 斉藤 寿英
B5: 写真 番号 | C5: 覆工スパン 番号 | E5: S015 | M5: 写真 番号 | N5: 覆工スパン 番号 | P5: S015
C6: 変状番号 | E6: 2 | N6: 変状番号 | P6: 3
B7: 変状 部位 | C7: 対象箇所 | E7: 路面 | M7: 変状 部位 | N7: 対象箇所 | P7: 路面
C8: 部位区分 | E8: 側溝 | N8: 部位区分 | P8: 側溝
B9: 変状種類 | E9: その他 | M9: 変状種類 | P9: その他
B10: 対策 区分 | C10: 変状区分 | M10: 対策 区分 | N10: 変状区分
C11: 応急措置前 | N11: 応急措置前
C12: 応急措置後 | N12: 応急措置後
B13: 変状の発生範囲及び規模 | E13: 0.40m×0.15m | H13: 前回変状の発生範囲及び規模 | J13: 今回新規変状 | M13: 変状の発生範囲及び規模 | P13: 0.30m×0.15m | S13: 前回変状の発生範囲及び規模 | U13: 今回新規変状
B14: 対策履歴 | E14: ― | H14: 実施状況（実施日） | J14: ― | M14: 対策履歴 | P14: ― | S14: 実施状況（実施日） | U14: ―
B15: メモ | E15: 側溝に蓋欠損(鋼材露出)。 | M15: メモ | P15: 側溝に蓋欠損(鋼材露出)。
B16: 写真 番号 | C16: 覆工スパン 番号 | E16: S016 | M16: 写真 番号 | N16: 覆工スパン 番号 | P16: S017
C17: 変状番号 | E17: 1 | N17: 変状番号 | P17: 1
B18: 変状 部位 | C18: 対象箇所 | E18: 内装板 | M18: 変状 部位 | N18: 対象箇所 | P18: 覆工
C19: 部位区分 | E19: 側壁 | N19: 部位区分 | P19: アーチ（右側）
B20: 変状種類 | E20: その他 | M20: 変状種類 | P20: 漏水
B21: 対策 区分 | C21: 変状区分 | E21: 材質劣化 | M21: 対策 区分 | N21: 変状区分 | P21: 漏水
C22: 応急措置前 | N22: 応急措置前
C23: 応急措置後 | E23: Ⅱb | N23: 応急措置後 | P23: Ⅱb
B24: 変状の発生範囲及び規模 | E24: 0.10m×0.15m | H24: 前回変状の発生範囲及び規模 | J24: 今回新規変状 | M24: 変状の発生範囲及び規模 | P24: 3.45m×1.25m | S24: 前回変状の発生範囲及び規模 | U24: 今回新規変状
B25: 対策履歴 | E25: ― | H25: 実施状況（実施日） | J25: ― | M25: 対策履歴 | P25: ― | S25: 実施状況（実施日） | U25: ―
B26: メモ | E26: 内装板に内装板破損。 | M26: メモ | P26: アーチ部(右側)にひび割れ沿いのにじみ(滞水有り)。
C27: ※ 応急措置後の対策区分の判定区分Ⅱb～Ⅳについて添付すること。また、点検前に 実施された措置によりⅠと判定された箇所も添付すること。 | N27: ※ 変状の発生範囲の規模とは、対策を行う際に参考となる変状の長さや面積をいう。
N28: ※ 応急措置を実施しないで判定した変状の判定区分は、判定区分の応急措置後の欄に記入すること。
C29: ※ たたき落としを実施した場合は、実施後の写真を添付すること。 | N29: ※ 変状の発生範囲の規模は、面積・寸法を記載すること。(ひび割れ幅のみmmとし、その他をm表記とする)
C30: ※ 附属物の取付状態に関する異常写真は別途、任意の書式でとりまとめること。 | N30: ※ 構造用鋼材以外の異物に伴ううき・はく離については、メモ欄に異物の概要を記入すること。

Sheet 様式D-1-1_014
B2: ■定期点検記録様式 変状写真台帳【様式D-1-1】 | R2: 施設ID | T2: 34.09797,131.54189
B3: フリガナ | E3: (ｻﾊﾞﾔﾏｽﾞｲﾄﾞｳ(ﾉﾎﾞﾘ)) | H3: 路 線 名 | J3: 国道262号 | M3: 定期点検実施者 | P3: 大日本ダイヤコンサルタント株式会社 | S3: 定期点検年月日 | U3: 45635
B4: 名 称 | E4: 佐波山隧道(上り) | H4: 管理者名 | J4: 山口県防府土木建築事務所 | P4: 斉藤 寿英
B5: 写真 番号 | C5: 覆工スパン 番号 | E5: S017 | M5: 写真 番号 | N5: 覆工スパン 番号 | P5: S017
C6: 変状番号 | E6: 2 | N6: 変状番号 | P6: 4
B7: 変状 部位 | C7: 対象箇所 | E7: 路面 | M7: 変状 部位 | N7: 対象箇所 | P7: 路面
C8: 部位区分 | E8: 側溝 | N8: 部位区分 | P8: 歩道
B9: 変状種類 | E9: その他 | M9: 変状種類 | P9: 滞水
B10: 対策 区分 | C10: 変状区分 | M10: 対策 区分 | N10: 変状区分 | P10: 漏水
C11: 応急措置前 | N11: 応急措置前
C12: 応急措置後 | N12: 応急措置後 | P12: Ⅱb
B13: 変状の発生範囲及び規模 | E13: 0.20m×0.10m | H13: 前回変状の発生範囲及び規模 | J13: 今回新規変状 | M13: 変状の発生範囲及び規模 | P13: 0.50m×2.35m | S13: 前回変状の発生範囲及び規模 | U13: 今回新規変状
B14: 対策履歴 | E14: ― | H14: 実施状況（実施日） | J14: ― | M14: 対策履歴 | P14: ― | S14: 実施状況（実施日） | U14: ―
B15: メモ | E15: 側溝に蓋欠損(鋼材露出)。 | M15: メモ | P15: 歩道に滞水。
B16: 写真 番号 | C16: 覆工スパン 番号 | E16: S018 | M16: 写真 番号 | N16: 覆工スパン 番号 | P16: S018
C17: 変状番号 | E17: 1 | N17: 変状番号 | P17: 2
B18: 変状 部位 | C18: 対象箇所 | E18: 路面 | M18: 変状 部位 | N18: 対象箇所 | P18: 路面
C19: 部位区分 | E19: 監査歩路 | N19: 部位区分 | P19: 監査歩路
B20: 変状種類 | E20: その他 | M20: 変状種類 | P20: その他
B21: 対策 区分 | C21: 変状区分 | M21: 対策 区分 | N21: 変状区分
C22: 応急措置前 | N22: 応急措置前
C23: 応急措置後 | N23: 応急措置後
B24: 変状の発生範囲及び規模 | E24: 0.20m×1.70m | H24: 前回変状の発生範囲及び規模 | J24: 0.2m×1.7m (判定Ⅱb) | M24: 変状の発生範囲及び規模 | P24: 0.20m×0.80m | S24: 前回変状の発生範囲及び規模 | U24: 0.2m×0.8m (判定Ⅱb)
B25: 対策履歴 | E25: 監視（日常巡視） | H25: 実施状況（実施日） | J25: 継続 | M25: 対策履歴 | P25: 監視（日常巡視） | S25: 実施状況（実施日） | U25: 継続
B26: メモ | E26: 監査歩路に縁石劣化。 | M26: メモ | P26: 監査歩路に縁石劣化。
C27: ※ 応急措置後の対策区分の判定区分Ⅱb～Ⅳについて添付すること。また、点検前に 実施された措置によりⅠと判定された箇所も添付すること。 | N27: ※ 変状の発生範囲の規模とは、対策を行う際に参考となる変状の長さや面積をいう。
N28: ※ 応急措置を実施しないで判定した変状の判定区分は、判定区分の応急措置後の欄に記入すること。
C29: ※ たたき落としを実施した場合は、実施後の写真を添付すること。 | N29: ※ 変状の発生範囲の規模は、面積・寸法を記載すること。(ひび割れ幅のみmmとし、その他をm表記とする)
C30: ※ 附属物の取付状態に関する異常写真は別途、任意の書式でとりまとめること。 | N30: ※ 構造用鋼材以外の異物に伴ううき・はく離については、メモ欄に異物の概要を記入すること。

Sheet 様式D-1-1_015
B2: ■定期点検記録様式 変状写真台帳【様式D-1-1】 | R2: 施設ID | T2: 34.09797,131.54189
B3: フリガナ | E3: (ｻﾊﾞﾔﾏｽﾞｲﾄﾞｳ(ﾉﾎﾞﾘ)) | H3: 路 線 名 | J3: 国道262号 | M3: 定期点検実施者 | P3: 大日本ダイヤコンサルタント株式会社 | S3: 定期点検年月日 | U3: 45635
B4: 名 称 | E4: 佐波山隧道(上り) | H4: 管理者名 | J4: 山口県防府土木建築事務所 | P4: 斉藤 寿英
B5: 写真 番号 | C5: 覆工スパン 番号 | E5: S018 | M5: 写真 番号 | N5: 覆工スパン 番号 | P5: S019
C6: 変状番号 | E6: 3 | N6: 変状番号 | P6: 1
B7: 変状 部位 | C7: 対象箇所 | E7: 覆工 | M7: 変状 部位 | N7: 対象箇所 | P7: 覆工
C8: 部位区分 | E8: 水平打ち継ぎ目（右側） | N8: 部位区分 | P8: 水平打ち継ぎ目（左側）
B9: 変状種類 | E9: うき・はく離 | M9: 変状種類 | P9: その他
B10: 対策 区分 | C10: 変状区分 | E10: 材質劣化 | M10: 対策 区分 | N10: 変状区分 | P10: 材質劣化
C11: 応急措置前 | N11: 応急措置前
C12: 応急措置後 | E12: Ⅱb | N12: 応急措置後 | P12: Ⅰ
B13: 変状の発生範囲及び規模 | E13: 0.20m×0.25m | H13: 前回変状の発生範囲及び規模 | J13: 今回新規変状 | M13: 変状の発生範囲及び規模 | P13: ― | S13: 前回変状の発生範囲及び規模 | U13: うき 0.2m×7.5m Ⅱb
B14: 対策履歴 | E14: ― | H14: 実施状況（実施日） | J14: ― | M14: 対策履歴 | P14: はく落防止対策工を実施 | S14: 実施状況（実施日） | U14: 済
B15: メモ | E15: 水平打ち継ぎ目(右側)沿いにうき。閉合ひび割れ無し。利用者被害無し。打音異常有り。 | M15: メモ | P15: 水平打ち継ぎ目(左側)沿いにはく落防止対策工(はつり工)を実施。
B16: 写真 番号 | C16: 覆工スパン 番号 | E16: S019 | M16: 写真 番号 | N16: 覆工スパン 番号 | P16: S019
C17: 変状番号 | E17: 2 | N17: 変状番号 | P17: 3
B18: 変状 部位 | C18: 対象箇所 | E18: 覆工 | M18: 変状 部位 | N18: 対象箇所 | P18: 路面
C19: 部位区分 | E19: 水平打ち継ぎ目（右側） | N19: 部位区分 | P19: 監査歩路
B20: 変状種類 | E20: その他 | M20: 変状種類 | P20: その他
B21: 対策 区分 | C21: 変状区分 | E21: 材質劣化 | M21: 対策 区分 | N21: 変状区分
C22: 応急措置前 | N22: 応急措置前
C23: 応急措置後 | E23: Ⅰ | N23: 応急措置後
B24: 変状の発生範囲及び規模 | E24: ― | H24: 前回変状の発生範囲及び規模 | J24: うき 0.2m×8.1m Ⅱb | M24: 変状の発生範囲及び規模 | P24: 0.20m×19.50m | S24: 前回変状の発生範囲及び規模 | U24: 0.2m×19.5m (判定Ⅱb)
B25: 対策履歴 | E25: はく落防止対策工を実施 | H25: 実施状況（実施日） | J25: 済 | M25: 対策履歴 | P25: 監視（日常巡視） | S25: 実施状況（実施日） | U25: 継続
B26: メモ | E26: 水平打ち継ぎ目(右側)沿いにはく落防止対策工(はつり工)を実施。 | M26: メモ | P26: 監査歩路に縁石劣化。
C27: ※ 応急措置後の対策区分の判定区分Ⅱb～Ⅳについて添付すること。また、点検前に 実施された措置によりⅠと判定された箇所も添付すること。 | N27: ※ 変状の発生範囲の規模とは、対策を行う際に参考となる変状の長さや面積をいう。
N28: ※ 応急措置を実施しないで判定した変状の判定区分は、判定区分の応急措置後の欄に記入すること。
C29: ※ たたき落としを実施した場合は、実施後の写真を添付すること。 | N29: ※ 変状の発生範囲の規模は、面積・寸法を記載すること。(ひび割れ幅のみmmとし、その他をm表記とする)
C30: ※ 附属物の取付状態に関する異常写真は別途、任意の書式でとりまとめること。 | N30: ※ 構造用鋼材以外の異物に伴ううき・はく離については、メモ欄に異物の概要を記入すること。

Sheet 様式D-1-1_016
B2: ■定期点検記録様式 変状写真台帳【様式D-1-1】 | R2: 施設ID | T2: 34.09797,131.54189
B3: フリガナ | E3: (ｻﾊﾞﾔﾏｽﾞｲﾄﾞｳ(ﾉﾎﾞﾘ)) | H3: 路 線 名 | J3: 国道262号 | M3: 定期点検実施者 | P3: 大日本ダイヤコンサルタント株式会社 | S3: 定期点検年月日 | U3: 45635
B4: 名 称 | E4: 佐波山隧道(上り) | H4: 管理者名 | J4: 山口県防府土木建築事務所 | P4: 斉藤 寿英
B5: 写真 番号 | C5: 覆工スパン 番号 | E5: S020 | M5: 写真 番号 | N5: 覆工スパン 番号 | P5: S021
C6: 変状番号 | E6: 1 | N6: 変状番号 | P6: 1
B7: 変状 部位 | C7: 対象箇所 | E7: 覆工 | M7: 変状 部位 | N7: 対象箇所 | P7: 路面
C8: 部位区分 | E8: 水平打ち継ぎ目（右側） | N8: 部位区分 | P8: 監査歩路
B9: 変状種類 | E9: うき・はく離 | M9: 変状種類 | P9: その他
B10: 対策 区分 | C10: 変状区分 | E10: 材質劣化 | M10: 対策 区分 | N10: 変状区分
C11: 応急措置前 | N11: 応急措置前
C12: 応急措置後 | E12: Ⅱb | N12: 応急措置後
B13: 変状の発生範囲及び規模 | E13: 0.20m×1.00m | H13: 前回変状の発生範囲及び規模 | J13: 今回新規変状 | M13: 変状の発生範囲及び規模 | P13: 0.20m×2.00m | S13: 前回変状の発生範囲及び規模 | U13: 今回新規変状
B14: 対策履歴 | E14: ― | H14: 実施状況（実施日） | J14: ― | M14: 対策履歴 | P14: ― | S14: 実施状況（実施日） | U14: ―
B15: メモ | E15: 水平打ち継ぎ目(右側)沿いにうき。閉合ひび割れ無し。利用者被害無し。打音異常有り。 | M15: メモ | P15: 監査歩路に縁石劣化。
B16: 写真 番号 | C16: 覆工スパン 番号 | E16: S022 | M16: 写真 番号 | N16: 覆工スパン 番号 | P16: S022
C17: 変状番号 | E17: 1 | N17: 変状番号 | P17: 2
B18: 変状 部位 | C18: 対象箇所 | E18: 覆工 | M18: 変状 部位 | N18: 対象箇所 | P18: 覆工
C19: 部位区分 | E19: 水平打ち継ぎ目（左側） | N19: 部位区分 | P19: 水平打ち継ぎ目（左側）
B20: 変状種類 | E20: その他 | M20: 変状種類 | P20: その他
B21: 対策 区分 | C21: 変状区分 | E21: 材質劣化 | M21: 対策 区分 | N21: 変状区分 | P21: 材質劣化
C22: 応急措置前 | N22: 応急措置前
C23: 応急措置後 | E23: Ⅰ | N23: 応急措置後 | P23: Ⅰ
B24: 変状の発生範囲及び規模 | E24: ― | H24: 前回変状の発生範囲及び規模 | J24: うき 0.2m×0.3m Ⅱb | M24: 変状の発生範囲及び規模 | P24: ― | S24: 前回変状の発生範囲及び規模 | U24: うき 0.2m×0.5m Ⅱb
B25: 対策履歴 | E25: はく落防止対策工を実施 | H25: 実施状況（実施日） | J25: 済 | M25: 対策履歴 | P25: はく落防止対策工を実施 | S25: 実施状況（実施日） | U25: 済
B26: メモ | E26: 水平打ち継ぎ目(左側)沿いにはく落防止対策工(はつり工)を実施。 | M26: メモ | P26: 水平打ち継ぎ目(左側)沿いにはく落防止対策工(はつり工)を実施。
C27: ※ 応急措置後の対策区分の判定区分Ⅱb～Ⅳについて添付すること。また、点検前に 実施された措置によりⅠと判定された箇所も添付すること。 | N27: ※ 変状の発生範囲の規模とは、対策を行う際に参考となる変状の長さや面積をいう。
N28: ※ 応急措置を実施しないで判定した変状の判定区分は、判定区分の応急措置後の欄に記入すること。
