Workbook
Name その他: #REF!
Name その他施設: #REF!
Name トンネル工法: #REF!
Name トンネル工法: #REF!
Name 換気施設: #REF!
Name 坑門: #REF!
Name 照明施設: #REF!
Name 措置後判定: #REF!
Name 天井板: #REF!
Name 内装板: #REF!
Name 非常用施設: #REF!
Name 附属物応急措置後: #REF!
Name 附属物応急措置後: #REF!
Name 附属物応急措置後〇: #REF!
Name 附属物応急措置後〇: #REF!
Name 部位本体: #REF!
Name 覆工: #REF!
Name 変状区分: #REF!
Name 路面: #REF!

Sheet 様式A-1
B2: ■トンネル台帳 トンネル諸元、非常用施設諸元 【様式A-1】 | S2: 施設ID | W2: 34.09797,131.54189
B3: フリガナ | D3: (ｻﾊﾞﾔﾏｽﾞｲﾄﾞｳ(ﾉﾎﾞﾘ)) | H3: 路線名 | J3: 国道262号 | P3: 管理者名 | R3: 山口県防府土木建築事務所 山口支所 | W3: 緊急輸送道路 | Z3: 一次
B4: 名 称 | D4: 佐波山隧道（上り） | W4: 代替路の有無 | Z4: 有
B5: 所在地 | D5: 自 | E5: 山口市下古鯖 | H5: 作成者 | K5: 大日本ダイヤコンサルタント株式会社 斉藤 寿英 | P5: 作成年月日 | R5: 43805 | U5: トンネル延長 | X5: L= | Z5: 600 | AB5: ｍ
D6: 至 | E6: 防府市高井 | U6: ﾄﾝﾈﾙの分類 | X6: 陸上トンネル（掘進工法）
B7: 起点 | C7: 緯度 | E7: 340552.5 | H7: 完成年月日 | K7: 26846 | M7: 舗装 | O7: 種 別 | Q7: コンクリート系 | S7: トンネル非常用施設 | T7: 施設の内訳 | X7: 種別・方式 | Y7: 型式 | Z7: 個数 | AA7: 更新年度 | AE7: =INT(E7/10000) -> 34 | AF7: =INT(E7/100)-AE7*100 -> 5 | AG7: =E7-AE7*10000-AF7*100 -> 52.5 | AH7: =ROUND(AE7+AF7/60+AG7/60/60,5) -> 34.09792 | AI7: =TEXT(AH7,"0.00000") -> 34.09792
C8: 経度 | E8: 1313231.2 | H8: 供用年月日 | O8: 厚 さ | T8: 通報設備 | U8: 通話型通報設備 | X8: 3 | AE8: =INT(E8/10000) -> 131 | AF8: =INT(E8/100)-AE8*100 -> 32 | AG8: =E8-AE8*10000-AF8*100 -> 31.2 | AH8: =ROUND(AE8+AF8/60+AG8/60/60,5) -> 131.542 | AI8: =TEXT(AH8,"0.00000") -> 131.54200
B9: 終点 | C9: 緯度 | E9: 340534.5 | H9: トンネル区分 | K9: B | O9: 面 積 | Q9: 4740 | U9: 操作型通報設備 | X9: 12
C10: 経度 | E10: 1313240.2 | H10: 内装種類 | K10: 覆工 | O10: 更新年次 | U10: 自動通報設備
B11: 一般有料区分 | E11: 一般（無料） | H11: 天井板種類 | K11: 覆工（内装なし） | M11: 排水 | O11: 種 別 | Q11: 自然排水 | T11: 警報設備 | U11: 非常警報設備 | X11: 2
B12: 土かぶり | G12: m | H12: 坑門 | I12: 起点 | J12: 形式 | K12: 面壁+突出壁 | O12: 更新年次 | T12: 消火設備 | U12: 消 火 器 | X12: 12
B13: 内空断面積 | E13: 45.4 | G13: ㎡ | J13: 延長 | L13: m | M13: 施設 | P13: 種別・方式 | Q13: 個数 | R13: 更新年次 | U13: 消火栓設備
B14: 交 通 量 | E14: 31671 | G14: 台/日 | I14: 終点 | J14: 形式 | K14: 面壁+突出壁 | M14: 道路附属物等 | N14: 照明 | P14: LED | Q14: 102 | T14: 避難誘導設備 | U14: 誘導表示設備 | X14: 5
C15: 道 路 幅 | E15: 8.65 | G15: m | J15: 延長 | L15: m | N15: 換気 | U15: 避難情報提供設備 | X15: ラジ再AM
B16: 幅 員 | C16: 車 道 幅 | E16: 3 | G16: m | H16: 竣工巻厚 | I16: アーチ | K16: 50 | L16: cm | N16: 標識 | Q16: 3
E17: 3 | G17: m | I17: 側 壁 | L17: cm | N17: 警報表示板 | U17: 避難通路
C18: 歩道等幅 | E18: 2.15 | G18: m | L18: cm | N18: 吸音板 | U18: 排煙設備
B19: 高さ | C19: 建築限界高 | E19: 4.5 | G19: m | I19: インバート | L19: cm | T19: その他の設備 | U19: 給水栓設備
C20: 中央高 | E20: 6 | G20: m | H20: 半径 | I20: アーチ | K20: 460 | L20: cm | U20: 無線通信補助設備
C21: 有効高 | E21: 4.5 | G21: m | I21: 側 壁 | L21: cm | U21: 水噴霧設備
C22: 縦断勾配 | I22: インバート | L22: cm | U22: 監視設備
B23: 線 形 | C23: 直線区間長 | E23: 600 | H23: 占用物件 | I23: 種 類 | K23: 寸 法 | M23: 管理者名 | Q23: 更新年次 | S23: 非常用施設 関連設備 | U23: 予備発電設備
C24: 曲線区間 | D24: 区間長
D25: 起点側ｸﾛｿｲﾄﾞ
D26: 曲線半径
D27: 終点側ｸﾛｿｲﾄﾞ | S27: その他 | U27: 非常駐車帯
B28: トンネル工法 | E28: 矢板工法 | U28: 方向転換所
C29: ※緯度・経度については、秒の少数第二位の単位まで記入すること。（例；36度20分35.56秒の場合、362035.36と入力）

Sheet 様式A-2
B3: ■トンネル台帳 トンネル情報一覧表 【様式A-2】
B4: フリガナ | E4: ='様式A-1'!D3 -> (ｻﾊﾞﾔﾏｽﾞｲﾄﾞｳ(ﾉﾎﾞﾘ)) | J4: 路線名 | M4: ='様式A-1'!J3 -> 国道262号 | S4: 作成者 | Y4: ='様式A-1'!K5 -> 大日本ダイヤコンサルタント株式会社 斉藤 寿英 | AE4: 作成年月日 | AI4: ='様式A-1'!R5 -> 43805
B5: 名 称 | E5: ='様式A-1'!D4 -> 佐波山隧道（上り） | J5: 管理者名 | M5: ='様式A-1'!R3 -> 山口県防府土木建築事務所 山口支所
B6: 覆工 ｽﾊﾟﾝ 番号 | C6: ｽﾊﾟﾝ長 | D6: 追加距離 | F6: トンネル本体工 | K6: 照明施設 | O6: 非常用施設 | AE6: 換気施設 | AK6: その他附属物等
O7: 通報設備 | R7: 警報設備 | S7: 消火設備 | U7: 避難誘導設備 | Y7: その他の設備 | AC7: 特記事項
D8: 起点側 | E8: 終点側 | F8: 特記事項 | I8: 内装板 | J8: 天井板 | K8: 基本照明 | L8: 入口出口照明 | M8: 特記事項 | O8: 通話型通報設備 | P8: 操作型通報設備 | Q8: 自動通報設備 | R8: 非常警報設備 | S8: 消 火 器 | T8: 消火栓設備 | U8: 誘導表示設備 | V8: 避難情報提供設備 | W8: 避難通路 | X8: 排煙設備 | Y8: 給水栓設備 | Z8: 無線通信補助設備 | AA8: 水噴霧設備 | AB8: 監視設備 | AE8: JF | AF8: VI計 | AG8: CO計 | AH8: 風向 風速計 | AI8: 特記事項
C9: (m) | D9: (m) | E9: (m)
B10: PS | C10: 0 | D10: 0 | E10: 0 | F10: 坑門工(面壁型)
B11: S001 | C11: 8.5 | D11: 0 | E11: 8.5 | I11: ○ | K11: ○
B12: S002 | C12: 9.2 | D12: 8.5 | E12: 17.7 | I12: ○ | K12: ○
B13: S003 | C13: 9.1 | D13: 17.7 | E13: 26.8 | I13: ○ | P13: ① | S13: ① | AK13: 非常電話案内板
B14: S004 | C14: 9.1 | D14: 26.8 | E14: 35.9 | I14: ○ | K14: ○
B15: S005 | C15: 9.1 | D15: 35.9 | E15: 45 | I15: ○ | K15: ○
B16: S006 | C16: 9.1 | D16: 45 | E16: 54.1 | I16: ○ | V16: ○ | AC16: ラジ再AM | AK16: 非常電話案内板
B17: S007 | C17: 9.1 | D17: 54.1 | E17: 63.2 | I17: ○ | K17: ○ | V17: ○ | AC17: ラジ再AM
B18: S008 | C18: 9.1 | D18: 63.2 | E18: 72.3 | I18: ○ | K18: ○ | V18: ○ | AC18: ラジ再AM
B19: S009 | C19: 9.1 | D19: 72.3 | E19: 81.4 | I19: ○ | K19: ○ | P19: ② | S19: ② | V19: ○ | AC19: ラジ再AM | AK19: 非常電話案内板
B20: S010 | C20: 9.1 | D20: 81.4 | E20: 90.5 | I20: ○ | V20: ○ | AC20: ラジ再AM
B21: S011 | C21: 9.1 | D21: 90.5 | E21: 99.6 | I21: ○ | K21: ○ | U21: 〇 | V21: ○ | AC21: ラジ再AM | AK21: 非常電話案内板
B22: S012 | C22: 9.1 | D22: 99.6 | E22: 108.7 | I22: ○ | K22: ○ | V22: ○ | AC22: ラジ再AM
B23: S013 | C23: 9.1 | D23: 108.7 | E23: 117.8 | I23: ○ | V23: ○ | AC23: ラジ再AM
B24: S014 | C24: 9 | D24: 117.8 | E24: 126.8 | I24: ○ | K24: ○ | O24: ① | P24: ③ | S24: ③ | V24: ○ | AC24: ラジ再AM
B25: S015 | C25: 9 | D25: 126.8 | E25: 135.8 | I25: ○ | K25: ○ | V25: ○ | AC25: ラジ再AM
B26: S016 | C26: 9 | D26: 135.8 | E26: 144.8 | I26: ○ | K26: ○ | V26: ○ | AC26: ラジ再AM
B27: S017 | C27: 9 | D27: 144.8 | E27: 153.8 | I27: ○ | V27: ○ | AC27: ラジ再AM | AK27: 非常電話案内板
B28: S018 | C28: 9 | D28: 153.8 | E28: 162.8 | I28: ○ | K28: ○ | V28: ○ | AC28: ラジ再AM
B29: S019 | C29: 9 | D29: 162.8 | E29: 171.8 | I29: ○ | K29: ○ | V29: ○ | AC29: ラジ再AM
B30: S020 | C30: 9 | D30: 171.8 | E30: 180.8 | I30: ○ | P30: ④ | S30: ④ | V30: ○ | AC30: ラジ再AM | AK30: 非常電話案内板
B31: S021 | C31: 9 | D31: 180.8 | E31: 189.8 | I31: ○ | K31: ○ | V31: ○ | AC31: ラジ再AM
B32: S022 | C32: 9 | D32: 189.8 | E32: 198.8 | I32: ○ | K32: ○ | V32: ○ | AC32: ラジ再AM
B33: S023 | C33: 9 | D33: 198.8 | E33: 207.8 | I33: ○ | K33: ○ | U33: ○ | V33: ○ | AC33: ラジ再AM | AK33: 非常電話案内板
B34: S024 | C34: 9 | D34: 207.8 | E34: 216.8 | I34: ○ | V34: ○ | AC34: ラジ再AM
B35: S025 | C35: 9 | D35: 216.8 | E35: 225.8 | I35: ○ | K35: ○ | P35: ⑤ | S35: ⑤ | V35: ○ | AC35: ラジ再AM | AK35: 非常電話案内板
B36: S026 | C36: 9 | D36: 225.8 | E36: 234.8 | I36: ○ | K36: ○ | V36: ○ | AC36: ラジ再AM
B37: S027 | C37: 9 | D37: 234.8 | E37: 243.8 | I37: ○ | K37: ○ | V37: ○ | AC37: ラジ再AM
B38: S028 | C38: 9 | D38: 243.8 | E38: 252.8 | I38: ○ | K38: ○ | V38: ○ | AC38: ラジ再AM | AK38: 非常電話案内板
B39: S029 | C39: 9 | D39: 252.8 | E39: 261.8 | I39: ○ | K39: ○ | V39: ○ | AC39: ラジ再AM
B40: S030 | C40: 9 | D40: 261.8 | E40: 270.8 | I40: ○ | K40: ○ | V40: ○ | AC40: ラジ再AM
B41: S031 | C41: 8.2 | D41: 270.8 | E41: 279 | I41: ○ | P41: ⑥ | S41: ⑥ | V41: ○ | AC41: ラジ再AM | AK41: 非常電話案内板
B42: S032 | C42: 9 | D42: 279 | E42: 288 | I42: ○ | K42: ○ | V42: ○ | AC42: ラジ再AM
B43: S033 | C43: 9 | D43: 288 | E43: 297 | I43: ○ | K43: ○ | V43: ○ | AC43: ラジ再AM
B44: S034 | C44: 9 | D44: 297 | E44: 306 | I44: ○ | U44: 〇 | V44: ○ | AC44: ラジ再AM | AK44: 非常電話案内板
B45: S035 | C45: 9 | D45: 306 | E45: 315 | I45: ○ | K45: ○ | V45: ○ | AC45: ラジ再AM
B46: S036 | C46: 9 | D46: 315 | E46: 324 | I46: ○ | K46: ○ | V46: ○ | AC46: ラジ再AM | AK46: 行政境界標識
B47: S037 | C47: 9 | D47: 324 | E47: 333 | I47: ○ | K47: ○ | O47: ② | P47: ⑦ | S47: ⑦ | V47: ○ | AC47: ラジ再AM
B48: S038 | C48: 9 | D48: 333 | E48: 342 | I48: ○ | V48: ○ | AC48: ラジ再AM
B49: S039 | C49: 9 | D49: 342 | E49: 351 | I49: ○ | K49: ○ | V49: ○ | AC49: ラジ再AM | AK49: 非常電話案内板
B50: S040 | C50: 9 | D50: 351 | E50: 360 | I50: ○ | K50: ○ | V50: ○ | AC50: ラジ再AM
B51: S041 | C51: 9 | D51: 360 | E51: 369 | I51: ○ | K51: ○ | V51: ○ | AC51: ラジ再AM
B52: S042 | C52: 9 | D52: 369 | E52: 378 | I52: ○ | K52: ○ | P52: ⑧ | S52: ⑧ | V52: ○ | AC52: ラジ再AM | AK52: 非常電話案内板
B53: S043 | C53: 9 | D53: 378 | E53: 387 | I53: ○ | K53: ○ | V53: ○ | AC53: ラジ再AM
B54: S044 | C54: 9 | D54: 387 | E54: 396 | I54: ○ | K54: ○ | V54: ○ | AC54: ラジ再AM
B55: S045 | C55: 9 | D55: 396 | E55: 405 | I55: ○ | K55: ○ | U55: ○ | V55: ○ | AC55: ラジ再AM | AK55: 非常電話案内板
B56: S046 | C56: 9 | D56: 405 | E56: 414 | I56: ○ | K56: ○ | V56: ○ | AC56: ラジ再AM
B57: S047 | C57: 9 | D57: 414 | E57: 423 | I57: ○ | K57: ○ | V57: ○ | AC57: ラジ再AM
B58: S048 | C58: 9 | D58: 423 | E58: 432 | I58: ○ | K58: ○ | P58: ⑨ | S58: ⑨ | V58: ○ | AC58: ラジ再AM | AK58: 非常電話案内板
B59: S049 | C59: 9 | D59: 432 | E59: 441 | I59: ○ | K59: ○ | V59: ○ | AC59: ラジ再AM
B60: S050 | C60: 9 | D60: 441 | E60: 450 | I60: ○ | K60: ○ | V60: ○ | AC60: ラジ再AM | AK60: 非常電話案内板
B61: S051 | C61: 9 | D61: 450 | E61: 459 | I61: ○ | K61: ○ | V61: ○ | AC61: ラジ再AM
B62: S052 | C62: 9 | D62: 459 | E62: 468 | I62: ○ | K62: ○ | V62: ○ | AC62: ラジ再AM
B63: S053 | C63: 9 | D63: 468 | E63: 477 | I63: ○ | K63: ○ | P63: ⑩ | S63: ⑩ | V63: ○ | AC63: ラジ再AM | AK63: 非常電話案内板
B64: S054 | C64: 9 | D64: 477 | E64: 486 | I64: ○ | K64: ○ | V64: ○ | AC64: ラジ再AM
B65: S055 | C65: 9 | D65: 486 | E65: 495 | I65: ○ | K65: ○ | V65: ○ | AC65: ラジ再AM
B66: S056 | C66: 9 | D66: 495 | E66: 504 | I66: ○ | K66: ○ | U66: 〇 | V66: ○ | AC66: ラジ再AM | AK66: 非常電話案内板
B67: S057 | C67: 9 | D67: 504 | E67: 513 | I67: ○ | K67: ○ | V67: ○ | AC67: ラジ再AM
B68: S058 | C68: 9 | D68: 513 | E68: 522 | I68: ○ | K68: ○ | V68: ○ | AC68: ラジ再AM
B69: S059 | C69: 9 | D69: 522 | E69: 531 | I69: ○ | K69: ○ | O69: ③ | P69: ⑪ | S69: ⑪ | V69: ○ | AC69: ラジ再AM
B70: S060 | C70: 9 | D70: 531 | E70: 540 | I70: ○ | K70: ○ | V70: ○ | AC70: ラジ再AM
B71: S061 | C71: 9 | D71: 540 | E71: 549 | I71: ○ | K71: ○ | V71: ○ | AC71: ラジ再AM | AK71: 非常電話案内板
B72: S062 | C72: 9 | D72: 549 | E72: 558 | I72: ○ | K72: ○ | V72: ○ | AC72: ラジ再AM
B73: S063 | C73: 9 | D73: 558 | E73: 567 | I73: ○ | K73: ○ | V73: ○ | AC73: ラジ再AM
B74: S064 | C74: 9 | D74: 567 | E74: 576 | I74: ○ | K74: ○ | P74: ⑫ | S74: ⑫ | V74: ○ | AC74: ラジ再AM | AK74: 非常電話案内板
B75: S065 | C75: 9 | D75: 576 | E75: 585 | I75: ○ | K75: ○ | V75: ○ | AC75: ラジ再AM
B76: S066 | C76: 9 | D76: 585 | E76: 594 | I76: ○ | K76: ○ | V76: ○ | AC76: ラジ再AM
B77: S067 | C77: 6 | D77: 594 | E77: 600 | I77: ○ | K77: ○ | V77: ○ | AC77: ラジ再AM
B78: PE | C78: 0 | D78: 600 | E78: 600 | F78: 坑門工(面壁型) | AK78: 交通表示板
B83: ※ 行が不足する場合は、適時、表の行を増やすこと。

Sheet 様式A-3
B3: ■トンネル台帳 トンネル記録（位置図、断面図、施工実績他）【様式A-3】
B4: フリガナ | E4: ='様式A-1'!D3 -> (ｻﾊﾞﾔﾏｽﾞｲﾄﾞｳ(ﾉﾎﾞﾘ)) | J4: 路線名 | M4: ='様式A-1'!J3 -> 国道262号 | S4: 作成者 | W4: ='様式A-1'!K5 -> 大日本ダイヤコンサルタント株式会社 斉藤 寿英 | AC4: 作成年月日 | AF4: ='様式A-1'!R5 -> 43805
B5: 名 称 | E5: ='様式A-1'!D4 -> 佐波山隧道（上り） | J5: 管理者名 | M5: ='様式A-1'!R3 -> 山口県防府土木建築事務所 山口支所
B6: 位置図・現況写真・標準断面図・地質縦断図・施工実績
B19: 位置図・現況写真・標準断面図・地質縦断図・施工実績

Sheet 様式B_001
B2: ■定期点検記録様式 トンネル変状・異常箇所写真位置図 【様式B】 | N2: 定期点検年月日 | P2: 45635 | S2: 施設ID | V2: 34.09797,131.54189
B3: フリガナ | C3: (ｻﾊﾞﾔﾏｽﾞｲﾄﾞｳ(ﾉﾎﾞﾘ)) | G3: 路線名 | H3: 国道262号 | K3: 管理者名 | L3: 山口県防府土木建築事務所 | Q3: 定期点検実施者 | S3: 大日本ダイヤコンサルタント株式会社 | V3: 起点 | W3: 緯度 | X3: 34.09792
B4: 名 称 | C4: 佐波山隧道(上り) | S4: 斉藤 寿英 | W4: 経度 | X4: 131.542
B5: 所在地 | C5: 自 | D5: 山口市下古鯖地先 | G5: トンネル工法 | I5: 矢板工法 | L5: トンネル延長 | N5: L= | O5: 600 | P5: ｍ | Q5: 自専道 or 一般道 | R5: 一般道 | S5: 代替路の有無 | U5: 有 | V5: 終点 | W5: 緯度 | X5: 34.09292
C6: 至 | D6: 防府市高井地先 | G6: 建設年度 | I6: 1973 | L6: 幅員 | N6: L= | O6: 8.65 | P6: ｍ | S6: 緊急輸送道路 | U6: 一次 | W6: 経度 | X6: 131.5445
B7: トンネル毎 の健全性の 診断の区分 | D7: Ⅱ
G8: 変状・異常 箇所数合計 | I8: トンネル本体工 | J8: 材質劣化 | K8: Ⅱ | L8: 56 | N8: Ⅲ | O8: 0 | Q8: Ⅳ | R8: 0 | T8: 附属物等 の取付状態 | V8: ◯ （応急措置後) | X8: 0
J9: 漏水 | K9: Ⅱ | L9: 51 | N9: Ⅲ | O9: 0 | Q9: Ⅳ | R9: 0
V10: ✕ | X10: 7
J11: 外力 | K11: Ⅱ | L11: 0 | N11: Ⅲ | O11: 0 | Q11: Ⅳ | R11: 0
B12: トンネル変状・異常箇所写真位置図
J29: 注１：本位置図は、見下げた状態で記載すること。 注２：覆工スパン番号は横断目地毎(矢板工法の場合は上半アーチの 横断目地毎)に設定すること。 | Q29: 注３：写真番号に付する変状番号は、各覆工スパンの変状に対して新たに確認された場合 は順次追加していくこと。 注４：横断目地の変状は前の覆工スパン番号で計上すること。 注５：１枚に収まらない場合は、複数枚に分けて作成すること。
C30: ※1 トンネル本体工の変状数は、材質劣化、漏水に起因するものは変状単位で、外力に起因するものはスパン単位で計上すること。
C31: ※2 トンネル本体工の変状に対しては、措置の必要性（Ⅱ～Ⅳ）について表記すること。また、点検前に実施された措置によりⅠと判定された箇所についても記載すること。
C32: ※3 附属物等の取付状態の○欄については、応急措置前に判定区分×とした箇所のうち応急措置により○判定とした箇所の数を記入すること。
C33: ※4 附属物等の異常番号は、本体工と番号が重複しないよう101番以降とする等の配慮を行い、分かりやすく記録すること。

Sheet 様式B_002
B2: ■定期点検記録様式 トンネル変状・異常箇所写真位置図 【様式B】 | N2: 定期点検年月日 | P2: 45635 | S2: 施設ID | V2: 34.09797,131.54189
B3: フリガナ | C3: (ｻﾊﾞﾔﾏｽﾞｲﾄﾞｳ(ﾉﾎﾞﾘ)) | G3: 路線名 | H3: 国道262号 | K3: 管理者名 | L3: 山口県防府土木建築事務所 | Q3: 定期点検実施者 | S3: 大日本ダイヤコンサルタント株式会社 | V3: 起点 | W3: 緯度 | X3: 34.09792
B4: 名 称 | C4: 佐波山隧道(上り) | S4: 斉藤 寿英 | W4: 経度 | X4: 131.542
B5: 所在地 | C5: 自 | D5: 山口市下古鯖地先 | G5: トンネル工法 | I5: 矢板工法 | L5: トンネル延長 | N5: L= | O5: 600 | P5: ｍ | Q5: 自専道 or 一般道 | R5: 一般道 | S5: 代替路の有無 | U5: 有 | V5: 終点 | W5: 緯度 | X5: 34.09292
C6: 至 | D6: 防府市高井地先 | G6: 建設年度 | I6: 1973 | L6: 幅員 | N6: L= | O6: 8.65 | P6: ｍ | S6: 緊急輸送道路 | U6: 一次 | W6: 経度 | X6: 131.5445
B7: トンネル毎 の健全性の 診断の区分 | D7: Ⅱ
G8: 変状・異常 箇所数合計 | I8: トンネル本体工 | J8: 材質劣化 | K8: Ⅱ | L8: 56 | N8: Ⅲ | O8: 0 | Q8: Ⅳ | R8: 0 | T8: 附属物等 の取付状態 | V8: ◯ （応急措置後) | X8: 0
J9: 漏水 | K9: Ⅱ | L9: 51 | N9: Ⅲ | O9: 0 | Q9: Ⅳ | R9: 0
V10: ✕ | X10: 7
J11: 外力 | K11: Ⅱ | L11: 0 | N11: Ⅲ | O11: 0 | Q11: Ⅳ | R11: 0
B12: トンネル変状・異常箇所写真位置図
J29: 注１：本位置図は、見下げた状態で記載すること。 注２：覆工スパン番号は横断目地毎(矢板工法の場合は上半アーチの 横断目地毎)に設定すること。 | Q29: 注３：写真番号に付する変状番号は、各覆工スパンの変状に対して新たに確認された場合 は順次追加していくこと。 注４：横断目地の変状は前の覆工スパン番号で計上すること。 注５：１枚に収まらない場合は、複数枚に分けて作成すること。
C30: ※1 トンネル本体工の変状数は、材質劣化、漏水に起因するものは変状単位で、外力に起因するものはスパン単位で計上すること。
C31: ※2 トンネル本体工の変状に対しては、措置の必要性（Ⅱ～Ⅳ）について表記すること。また、点検前に実施された措置によりⅠと判定された箇所についても記載すること。
C32: ※3 附属物等の取付状態の○欄については、応急措置前に判定区分×とした箇所のうち応急措置により○判定とした箇所の数を記入すること。
C33: ※4 附属物等の異常番号は、本体工と番号が重複しないよう101番以降とする等の配慮を行い、分かりやすく記録すること。

Sheet 様式B_003
B2: ■定期点検記録様式 トンネル変状・異常箇所写真位置図 【様式B】 | N2: 定期点検年月日 | P2: 45635 | S2: 施設ID | V2: 34.09797,131.54189
B3: フリガナ | C3: (ｻﾊﾞﾔﾏｽﾞｲﾄﾞｳ(ﾉﾎﾞﾘ)) | G3: 路線名 | H3: 国道262号 | K3: 管理者名 | L3: 山口県防府土木建築事務所 | Q3: 定期点検実施者 | S3: 大日本ダイヤコンサルタント株式会社 | V3: 起点 | W3: 緯度 | X3: 34.09792
B4: 名 称 | C4: 佐波山隧道(上り) | S4: 斉藤 寿英 | W4: 経度 | X4: 131.542
B5: 所在地 | C5: 自 | D5: 山口市下古鯖地先 | G5: トンネル工法 | I5: 矢板工法 | L5: トンネル延長 | N5: L= | O5: 600 | P5: ｍ | Q5: 自専道 or 一般道 | R5: 一般道 | S5: 代替路の有無 | U5: 有 | V5: 終点 | W5: 緯度 | X5: 34.09292
C6: 至 | D6: 防府市高井地先 | G6: 建設年度 | I6: 1973 | L6: 幅員 | N6: L= | O6: 8.65 | P6: ｍ | S6: 緊急輸送道路 | U6: 一次 | W6: 経度 | X6: 131.5445
B7: トンネル毎 の健全性の 診断の区分 | D7: Ⅱ
G8: 変状・異常 箇所数合計 | I8: トンネル本体工 | J8: 材質劣化 | K8: Ⅱ | L8: 56 | N8: Ⅲ | O8: 0 | Q8: Ⅳ | R8: 0 | T8: 附属物等 の取付状態 | V8: ◯ （応急措置後) | X8: 0
J9: 漏水 | K9: Ⅱ | L9: 51 | N9: Ⅲ | O9: 0 | Q9: Ⅳ | R9: 0
V10: ✕ | X10: 7
J11: 外力 | K11: Ⅱ | L11: 0 | N11: Ⅲ | O11: 0 | Q11: Ⅳ | R11: 0
B12: トンネル変状・異常箇所写真位置図
J29: 注１：本位置図は、見下げた状態で記載すること。 注２：覆工スパン番号は横断目地毎(矢板工法の場合は上半アーチの 横断目地毎)に設定すること。 | Q29: 注３：写真番号に付する変状番号は、各覆工スパンの変状に対して新たに確認された場合 は順次追加していくこと。 注４：横断目地の変状は前の覆工スパン番号で計上すること。 注５：１枚に収まらない場合は、複数枚に分けて作成すること。
C30: ※1 トンネル本体工の変状数は、材質劣化、漏水に起因するものは変状単位で、外力に起因するものはスパン単位で計上すること。
C31: ※2 トンネル本体工の変状に対しては、措置の必要性（Ⅱ～Ⅳ）について表記すること。また、点検前に実施された措置によりⅠと判定された箇所についても記載すること。
C32: ※3 附属物等の取付状態の○欄については、応急措置前に判定区分×とした箇所のうち応急措置により○判定とした箇所の数を記入すること。
C33: ※4 附属物等の異常番号は、本体工と番号が重複しないよう101番以降とする等の配慮を行い、分かりやすく記録すること。

Sheet 様式B_004
B2: ■定期点検記録様式 トンネル変状・異常箇所写真位置図 【様式B】 | N2: 定期点検年月日 | P2: 45635 | S2: 施設ID | V2: 34.09797,131.54189
B3: フリガナ | C3: (ｻﾊﾞﾔﾏｽﾞｲﾄﾞｳ(ﾉﾎﾞﾘ)) | G3: 路線名 | H3: 国道262号 | K3: 管理者名 | L3: 山口県防府土木建築事務所 | Q3: 定期点検実施者 | S3: 大日本ダイヤコンサルタント株式会社 | V3: 起点 | W3: 緯度 | X3: 34.09792
B4: 名 称 | C4: 佐波山隧道(上り) | S4: 斉藤 寿英 | W4: 経度 | X4: 131.542
B5: 所在地 | C5: 自 | D5: 山口市下古鯖地先 | G5: トンネル工法 | I5: 矢板工法 | L5: トンネル延長 | N5: L= | O5: 600 | P5: ｍ | Q5: 自専道 or 一般道 | R5: 一般道 | S5: 代替路の有無 | U5: 有 | V5: 終点 | W5: 緯度 | X5: 34.09292
C6: 至 | D6: 防府市高井地先 | G6: 建設年度 | I6: 1973 | L6: 幅員 | N6: L= | O6: 8.65 | P6: ｍ | S6: 緊急輸送道路 | U6: 一次 | W6: 経度 | X6: 131.5445
B7: トンネル毎 の健全性の 診断の区分 | D7: Ⅱ
G8: 変状・異常 箇所数合計 | I8: トンネル本体工 | J8: 材質劣化 | K8: Ⅱ | L8: 56 | N8: Ⅲ | O8: 0 | Q8: Ⅳ | R8: 0 | T8: 附属物等 の取付状態 | V8: ◯ （応急措置後) | X8: 0
J9: 漏水 | K9: Ⅱ | L9: 51 | N9: Ⅲ | O9: 0 | Q9: Ⅳ | R9: 0
V10: ✕ | X10: 7
J11: 外力 | K11: Ⅱ | L11: 0 | N11: Ⅲ | O11: 0 | Q11: Ⅳ | R11: 0
B12: トンネル変状・異常箇所写真位置図
J29: 注１：本位置図は、見下げた状態で記載すること。 注２：覆工スパン番号は横断目地毎(矢板工法の場合は上半アーチの 横断目地毎)に設定すること。 | Q29: 注３：写真番号に付する変状番号は、各覆工スパンの変状に対して新たに確認された場合 は順次追加していくこと。 注４：横断目地の変状は前の覆工スパン番号で計上すること。 注５：１枚に収まらない場合は、複数枚に分けて作成すること。
C30: ※1 トンネル本体工の変状数は、材質劣化、漏水に起因するものは変状単位で、外力に起因するものはスパン単位で計上すること。
C31: ※2 トンネル本体工の変状に対しては、措置の必要性（Ⅱ～Ⅳ）について表記すること。また、点検前に実施された措置によりⅠと判定された箇所についても記載すること。
C32: ※3 附属物等の取付状態の○欄については、応急措置前に判定区分×とした箇所のうち応急措置により○判定とした箇所の数を記入すること。
C33: ※4 附属物等の異常番号は、本体工と番号が重複しないよう101番以降とする等の配慮を行い、分かりやすく記録すること。

Sheet 様式B_005
B2: ■定期点検記録様式 トンネル変状・異常箇所写真位置図 【様式B】 | N2: 定期点検年月日 | P2: 45635 | S2: 施設ID | V2: 34.09797,131.54189
B3: フリガナ | C3: (ｻﾊﾞﾔﾏｽﾞｲﾄﾞｳ(ﾉﾎﾞﾘ)) | G3: 路線名 | H3: 国道262号 | K3: 管理者名 | L3: 山口県防府土木建築事務所 | Q3: 定期点検実施者 | S3: 大日本ダイヤコンサルタント株式会社 | V3: 起点 | W3: 緯度 | X3: 34.09792
B4: 名 称 | C4: 佐波山隧道(上り) | S4: 斉藤 寿英 | W4: 経度 | X4: 131.542
B5: 所在地 | C5: 自 | D5: 山口市下古鯖地先 | G5: トンネル工法 | I5: 矢板工法 | L5: トンネル延長 | N5: L= | O5: 600 | P5: ｍ | Q5: 自専道 or 一般道 | R5: 一般道 | S5: 代替路の有無 | U5: 有 | V5: 終点 | W5: 緯度 | X5: 34.09292
C6: 至 | D6: 防府市高井地先 | G6: 建設年度 | I6: 1973 | L6: 幅員 | N6: L= | O6: 8.65 | P6: ｍ | S6: 緊急輸送道路 | U6: 一次 | W6: 経度 | X6: 131.5445
B7: トンネル毎 の健全性の 診断の区分 | D7: Ⅱ
G8: 変状・異常 箇所数合計 | I8: トンネル本体工 | J8: 材質劣化 | K8: Ⅱ | L8: 56 | N8: Ⅲ | O8: 0 | Q8: Ⅳ | R8: 0 | T8: 附属物等 の取付状態 | V8: ◯ （応急措置後) | X8: 0
J9: 漏水 | K9: Ⅱ | L9: 51 | N9: Ⅲ | O9: 0 | Q9: Ⅳ | R9: 0
V10: ✕ | X10: 7
J11: 外力 | K11: Ⅱ | L11: 0 | N11: Ⅲ | O11: 0 | Q11: Ⅳ | R11: 0
B12: トンネル変状・異常箇所写真位置図
J29: 注１：本位置図は、見下げた状態で記載すること。 注２：覆工スパン番号は横断目地毎(矢板工法の場合は上半アーチの 横断目地毎)に設定すること。 | Q29: 注３：写真番号に付する変状番号は、各覆工スパンの変状に対して新たに確認された場合 は順次追加していくこと。 注４：横断目地の変状は前の覆工スパン番号で計上すること。 注５：１枚に収まらない場合は、複数枚に分けて作成すること。
C30: ※1 トンネル本体工の変状数は、材質劣化、漏水に起因するものは変状単位で、外力に起因するものはスパン単位で計上すること。
C31: ※2 トンネル本体工の変状に対しては、措置の必要性（Ⅱ～Ⅳ）について表記すること。また、点検前に実施された措置によりⅠと判定された箇所についても記載すること。
C32: ※3 附属物等の取付状態の○欄については、応急措置前に判定区分×とした箇所のうち応急措置により○判定とした箇所の数を記入すること。
C33: ※4 附属物等の異常番号は、本体工と番号が重複しないよう101番以降とする等の配慮を行い、分かりやすく記録すること。

Sheet 様式B_006
B2: ■定期点検記録様式 トンネル変状・異常箇所写真位置図 【様式B】 | N2: 定期点検年月日 | P2: 45635 | S2: 施設ID | V2: 34.09797,131.54189
B3: フリガナ | C3: (ｻﾊﾞﾔﾏｽﾞｲﾄﾞｳ(ﾉﾎﾞﾘ)) | G3: 路線名 | H3: 国道262号 | K3: 管理者名 | L3: 山口県防府土木建築事務所 | Q3: 定期点検実施者 | S3: 大日本ダイヤコンサルタント株式会社 | V3: 起点 | W3: 緯度 | X3: 34.09792
B4: 名 称 | C4: 佐波山隧道(上り) | S4: 斉藤 寿英 | W4: 経度 | X4: 131.542
B5: 所在地 | C5: 自 | D5: 山口市下古鯖地先 | G5: トンネル工法 | I5: 矢板工法 | L5: トンネル延長 | N5: L= | O5: 600 | P5: ｍ | Q5: 自専道 or 一般道 | R5: 一般道 | S5: 代替路の有無 | U5: 有 | V5: 終点 | W5: 緯度 | X5: 34.09292
C6: 至 | D6: 防府市高井地先 | G6: 建設年度 | I6: 1973 | L6: 幅員 | N6: L= | O6: 8.65 | P6: ｍ | S6: 緊急輸送道路 | U6: 一次 | W6: 経度 | X6: 131.5445
B7: トンネル毎 の健全性の 診断の区分 | D7: Ⅱ
G8: 変状・異常 箇所数合計 | I8: トンネル本体工 | J8: 材質劣化 | K8: Ⅱ | L8: 56 | N8: Ⅲ | O8: 0 | Q8: Ⅳ | R8: 0 | T8: 附属物等 の取付状態 | V8: ◯ （応急措置後) | X8: 0
J9: 漏水 | K9: Ⅱ | L9: 51 | N9: Ⅲ | O9: 0 | Q9: Ⅳ | R9: 0
V10: ✕ | X10: 7
J11: 外力 | K11: Ⅱ | L11: 0 | N11: Ⅲ | O11: 0 | Q11: Ⅳ | R11: 0
B12: トンネル変状・異常箇所写真位置図
J29: 注１：本位置図は、見下げた状態で記載すること。 注２：覆工スパン番号は横断目地毎(矢板工法の場合は上半アーチの 横断目地毎)に設定すること。 | Q29: 注３：写真番号に付する変状番号は、各覆工スパンの変状に対して新たに確認された場合 は順次追加していくこと。 注４：横断目地の変状は前の覆工スパン番号で計上すること。 注５：１枚に収まらない場合は、複数枚に分けて作成すること。
C30: ※1 トンネル本体工の変状数は、材質劣化、漏水に起因するものは変状単位で、外力に起因するものはスパン単位で計上すること。
C31: ※2 トンネル本体工の変状に対しては、措置の必要性（Ⅱ～Ⅳ）について表記すること。また、点検前に実施された措置によりⅠと判定された箇所についても記載すること。
C32: ※3 附属物等の取付状態の○欄については、応急措置前に判定区分×とした箇所のうち応急措置により○判定とした箇所の数を記入すること。
C33: ※4 附属物等の異常番号は、本体工と番号が重複しないよう101番以降とする等の配慮を行い、分かりやすく記録すること。

Sheet 様式B_007
B2: ■定期点検記録様式 トンネル変状・異常箇所写真位置図 【様式B】 | N2: 定期点検年月日 | P2: 45635 | S2: 施設ID | V2: 34.09797,131.54189
B3: フリガナ | C3: (ｻﾊﾞﾔﾏｽﾞｲﾄﾞｳ(ﾉﾎﾞﾘ)) | G3: 路線名 | H3: 国道262号 | K3: 管理者名 | L3: 山口県防府土木建築事務所 | Q3: 定期点検実施者 | S3: 大日本ダイヤコンサルタント株式会社 | V3: 起点 | W3: 緯度 | X3: 34.09792
B4: 名 称 | C4: 佐波山隧道(上り) | S4: 斉藤 寿英 | W4: 経度 | X4: 131.542
B5: 所在地 | C5: 自 | D5: 山口市下古鯖地先 | G5: トンネル工法 | I5: 矢板工法 | L5: トンネル延長 | N5: L= | O5: 600 | P5: ｍ | Q5: 自専道 or 一般道 | R5: 一般道 | S5: 代替路の有無 | U5: 有 | V5: 終点 | W5: 緯度 | X5: 34.09292
C6: 至 | D6: 防府市高井地先 | G6: 建設年度 | I6: 1973 | L6: 幅員 | N6: L= | O6: 8.65 | P6: ｍ | S6: 緊急輸送道路 | U6: 一次 | W6: 経度 | X6: 131.5445
B7: トンネル毎 の健全性の 診断の区分 | D7: Ⅱ
G8: 変状・異常 箇所数合計 | I8: トンネル本体工 | J8: 材質劣化 | K8: Ⅱ | L8: 56 | N8: Ⅲ | O8: 0 | Q8: Ⅳ | R8: 0 | T8: 附属物等 の取付状態 | V8: ◯ （応急措置後) | X8: 0
J9: 漏水 | K9: Ⅱ | L9: 51 | N9: Ⅲ | O9: 0 | Q9: Ⅳ | R9: 0
V10: ✕ | X10: 7
J11: 外力 | K11: Ⅱ | L11: 0 | N11: Ⅲ | O11: 0 | Q11: Ⅳ | R11: 0
B12: トンネル変状・異常箇所写真位置図
J29: 注１：本位置図は、見下げた状態で記載すること。 注２：覆工スパン番号は横断目地毎(矢板工法の場合は上半アーチの 横断目地毎)に設定すること。 | Q29: 注３：写真番号に付する変状番号は、各覆工スパンの変状に対して新たに確認された場合 は順次追加していくこと。 注４：横断目地の変状は前の覆工スパン番号で計上すること。 注５：１枚に収まらない場合は、複数枚に分けて作成すること。
C30: ※1 トンネル本体工の変状数は、材質劣化、漏水に起因するものは変状単位で、外力に起因するものはスパン単位で計上すること。
C31: ※2 トンネル本体工の変状に対しては、措置の必要性（Ⅱ～Ⅳ）について表記すること。また、点検前に実施された措置によりⅠと判定された箇所についても記載すること。
C32: ※3 附属物等の取付状態の○欄については、応急措置前に判定区分×とした箇所のうち応急措置により○判定とした箇所の数を記入すること。
C33: ※4 附属物等の異常番号は、本体工と番号が重複しないよう101番以降とする等の配慮を行い、分かりやすく記録すること。

Sheet 様式B_008
B2: ■定期点検記録様式 トンネル変状・異常箇所写真位置図 【様式B】 | N2: 定期点検年月日 | P2: 45635 | S2: 施設ID | V2: 34.09797,131.54189
B3: フリガナ | C3: (ｻﾊﾞﾔﾏｽﾞｲﾄﾞｳ(ﾉﾎﾞﾘ)) | G3: 路線名 | H3: 国道262号 | K3: 管理者名 | L3: 山口県防府土木建築事務所 | Q3: 定期点検実施者 | S3: 大日本ダイヤコンサルタント株式会社 | V3: 起点 | W3: 緯度 | X3: 34.09792
B4: 名 称 | C4: 佐波山隧道(上り) | S4: 斉藤 寿英 | W4: 経度 | X4: 131.542
B5: 所在地 | C5: 自 | D5: 山口市下古鯖地先 | G5: トンネル工法 | I5: 矢板工法 | L5: トンネル延長 | N5: L= | O5: 600 | P5: ｍ | Q5: 自専道 or 一般道 | R5: 一般道 | S5: 代替路の有無 | U5: 有 | V5: 終点 | W5: 緯度 | X5: 34.09292
C6: 至 | D6: 防府市高井地先 | G6: 建設年度 | I6: 1973 | L6: 幅員 | N6: L= | O6: 8.65 | P6: ｍ | S6: 緊急輸送道路 | U6: 一次 | W6: 経度 | X6: 131.5445
B7: トンネル毎 の健全性の 診断の区分 | D7: Ⅱ
G8: 変状・異常 箇所数合計 | I8: トンネル本体工 | J8: 材質劣化 | K8: Ⅱ | L8: 56 | N8: Ⅲ | O8: 0 | Q8: Ⅳ | R8: 0 | T8: 附属物等 の取付状態 | V8: ◯ （応急措置後) | X8: 0
J9: 漏水 | K9: Ⅱ | L9: 51 | N9: Ⅲ | O9: 0 | Q9: Ⅳ | R9: 0
V10: ✕ | X10: 7
J11: 外力 | K11: Ⅱ | L11: 0 | N11: Ⅲ | O11: 0 | Q11: Ⅳ | R11: 0
B12: トンネル変状・異常箇所写真位置図
J29: 注１：本位置図は、見下げた状態で記載すること。 注２：覆工スパン番号は横断目地毎(矢板工法の場合は上半アーチの 横断目地毎)に設定すること。 | Q29: 注３：写真番号に付する変状番号は、各覆工スパンの変状に対して新たに確認された場合 は順次追加していくこと。 注４：横断目地の変状は前の覆工スパン番号で計上すること。 注５：１枚に収まらない場合は、複数枚に分けて作成すること。
C30: ※1 トンネル本体工の変状数は、材質劣化、漏水に起因するものは変状単位で、外力に起因するものはスパン単位で計上すること。
C31: ※2 トンネル本体工の変状に対しては、措置の必要性（Ⅱ～Ⅳ）について表記すること。また、点検前に実施された措置によりⅠと判定された箇所についても記載すること。
C32: ※3 附属物等の取付状態の○欄については、応急措置前に判定区分×とした箇所のうち応急措置により○判定とした箇所の数を記入すること。
C33: ※4 附属物等の異常番号は、本体工と番号が重複しないよう101番以降とする等の配慮を行い、分かりやすく記録すること。

Sheet 様式C-1-1
B2: ■定期点検記録様式 全スパン定期点検結果総括表（トンネル本体工） 【様式C-1-1】
B3: フリガナ | F3: (ｻﾊﾞﾔﾏｽﾞｲﾄﾞｳ(ﾉﾎﾞﾘ)) | I3: 路線名 | K3: 国道262号 | O3: 定期点検実施者 | P3: 大日本ダイヤコンサルタント株式会社 | T3: 定期点検年月日 | X3: 45635
B4: 名 称 | F4: 佐波山隧道(上り) | I4: 管理者名 | K4: 山口県防府土木建築事務所 | P4: 斉藤 寿英
B5: 定期点検結果 | C5: 覆工 スパン 番号 | E5: 変状 番号 | F5: 距離 （m） | G5: 変状部位 | I5: 変 状 の 内 容 | O5: 前回定期点検時の状態 | P5: 今回定期点検結果 | T5: 措置履歴 | Y5: 対応方針 ・ 特記事項
O6: 43770
G7: 対象箇所 | H7: 部位区分 | I7: 変状区分 | J7: 変状種類 | M7: 変状の発生範囲の規模 | N7: 前回定期点検時の変状の発生範囲及び規模 | O7: 対策区分 | P7: 対策区分 | R7: 調査の 要否 | S7: 措置の 要否 | T7: 実施 | U7: 措置の実施状況
P8: 応急措置前 | Q8: 応急措置後
C9: PS | E9: 1 | F9: 0 | G9: 坑門 | H9: 面壁・妻壁等 | I9: 漏水 | J9: 漏水 | M9: 3.93m2 | N9: にじみ | O9: Ⅱb | Q9: Ⅱb | R9: 否 | S9: 要監視 | T9: 継続 | U9: 監視（日常巡視） | Y9: 監視
C10: S001 | E10: 1 | F10: 1 | G10: 覆工 | H10: アーチ（天端） | I10: 材質劣化 | J10: その他 | M10: 0.01m2 | N10: 0.01m2 | O10: Ⅱb | Q10: Ⅱb | R10: 否 | S10: 要監視 | T10: 継続 | U10: 監視（日常巡視） | Y10: 監視
C11: S001 | E11: 2 | F11: 2.7 | G11: 覆工 | H11: アーチ（右側） | I11: 材質劣化 | J11: うき・はく離 | M11: 2.86m2 | N11: 2.31m2 | O11: Ⅱa | Q11: Ⅱa | R11: 否 | S11: 要対策 | T11: 未 | U11: はく落防止対策工を実施 | Y11: はく落防止対策工
C12: S001 | E12: 3 | F12: 1.4 | G12: 覆工 | H12: 側壁（右側） | I12: 漏水 | J12: 漏水 | M12: 2.61m2 | N12: にじみ | O12: Ⅱb | Q12: Ⅱb | R12: 否 | S12: 要監視 | T12: 継続 | U12: 監視（日常巡視） | Y12: 監視・定期的清掃
C13: S001 | E13: 4 | F13: 2.4000001 | G13: 内装板 | H13: 側壁 | I13: 材質劣化 | J13: その他 | M13: 0.10m2 | N13: － | O13: － | Q13: Ⅱb | R13: 否 | S13: 要監視 | T13: ― | U13: ― | Y13: 監視
C14: S001 | E14: 5 | F14: 3.5 | G14: 内装板 | H14: 側壁 | I14: 材質劣化 | J14: その他 | M14: 0.04m2 | N14: － | O14: － | Q14: Ⅱb | R14: 否 | S14: 要監視 | T14: ― | U14: ― | Y14: 監視
C15: S001 | E15: 6 | F15: 0.5 | G15: 路面 | H15: 側溝 | I15: － | J15: その他 | M15: 0.03m2 | N15: － | O15: － | R15: 否 | S15: 否 | T15: ― | U15: ―
C16: S001 | E16: 7 | F16: 1.3 | G16: 路面 | H16: 歩道 | I16: 漏水 | J16: その他 | M16: 1.00m2 | N16: － | O16: － | Q16: Ⅱb | R16: 否 | S16: 要監視 | T16: ― | U16: ― | Y16: 監視・定期的清掃
C17: S003 | E17: 1 | F17: 25.6 | G17: 路面 | H17: 監査歩路 | I17: － | J17: その他 | M17: 1.46m2 | N17: 1.46m2 | O17: Ⅱb | R17: 否 | S17: 否 | T17: 継続 | U17: 監視（日常巡視）
C18: S003 | E18: 2 | F18: 25.200001 | G18: 路面 | H18: 側溝 | I18: － | J18: その他 | M18: 0.02m2 | N18: － | O18: － | R18: 否 | S18: 否 | T18: ― | U18: ―
C19: S004 | E19: 1 | F19: 35.900002 | G19: 覆工 | H19: 横断目地（天端） | I19: 材質劣化 | J19: うき・はく離 | M19: 0.42m2 | N19: － | O19: － | Q19: Ⅱa | R19: 否 | S19: 要対策 | T19: ― | U19: ― | Y19: はく落防止対策工
C20: S004 | E20: 2 | F20: 31.799999 | G20: 路面 | H20: 側溝 | I20: － | J20: その他 | M20: 0.04m2 | N20: － | O20: － | R20: 否 | S20: 否 | T20: ― | U20: ―
C21: S005 | E21: 1 | F21: 37.400002 | G21: 路面 | H21: 監査歩路 | I21: － | J21: その他 | M21: 1.20m2 | N21: 1.20m2 | O21: Ⅱb | R21: 否 | S21: 否 | T21: 継続 | U21: 監視（日常巡視）
C22: S006 | E22: 1 | F22: 37.400002 | G22: 覆工 | H22: アーチ（左側） | I22: 漏水 | J22: 漏水 | M22: 2.96m2 | N22: にじみ | O22: Ⅱb | Q22: Ⅱb | R22: 否 | S22: 要監視 | T22: 継続 | U22: 監視（日常巡視） | Y22: 監視
C23: S006 | E23: 2 | F23: 54.099998 | G23: 覆工 | H23: 横断目地（天端） | I23: 材質劣化 | J23: その他 | M23: 0.02m2 | N23: 0.02m2 | O23: Ⅱb | Q23: Ⅱb | R23: 否 | S23: 要監視 | T23: 継続 | U23: 監視（日常巡視） | Y23: 監視
C24: S006 | E24: 3 | F24: 46.5 | G24: 路面 | H24: 監査歩路 | I24: － | J24: その他 | M24: 1.50m2 | N24: 1.50m2 | O24: Ⅱb | R24: 否 | S24: 否 | T24: 継続 | U24: 監視（日常巡視）
C25: S006 | E25: 4 | F25: 47.599998 | G25: 覆工 | H25: アーチ（左側） | I25: 漏水 | J25: 漏水 | M25: 4.59m2 | N25: － | O25: － | Q25: Ⅱb | R25: 否 | S25: 要監視 | T25: ― | U25: ― | Y25: 監視
C26: S006 | E26: 5 | F26: 49.700001 | G26: 覆工 | H26: アーチ（天端） | I26: 漏水 | J26: 漏水 | M26: 4.15m2 | N26: － | O26: － | Q26: Ⅱb | R26: 否 | S26: 要監視 | T26: ― | U26: ― | Y26: 監視
C27: S006 | E27: 6 | F27: 49.400002 | G27: 覆工 | H27: アーチ（天端） | I27: 漏水 | J27: 漏水 | M27: 4.03m2 | N27: － | O27: － | Q27: Ⅱa | R27: 否 | S27: 要対策 | T27: ― | U27: ― | Y27: 漏水対策工
C28: S006 | E28: 7 | F28: 48.200001 | G28: 路面 | H28: 側溝 | I28: － | J28: その他 | M28: 0.02m2 | N28: － | O28: － | R28: 否 | S28: 否 | T28: ― | U28: ―
C29: S007 | E29: 1 | F29: 54.099998 | G29: 覆工 | H29: アーチ（左側） | I29: 漏水 | J29: 漏水 | M29: 5.13m2 | N29: にじみ | O29: Ⅱb | Q29: Ⅱb | R29: 否 | S29: 要監視 | T29: 継続 | U29: 監視（日常巡視） | Y29: 監視
C30: S007 | E30: 2 | F30: 60.900002 | G30: 覆工 | H30: アーチ（左側） | I30: 漏水 | J30: 漏水 | M30: 2.40m2 | N30: にじみ | O30: Ⅱb | Q30: Ⅱb | R30: 否 | S30: 要監視 | T30: 継続 | U30: 監視（日常巡視） | Y30: 監視
C31: S007 | E31: 3 | F31: 63.200001 | G31: 覆工 | H31: 横断目地（天端） | I31: 材質劣化 | J31: その他 | M31: 0.02m2 | N31: 0.02m2 | O31: Ⅱb | Q31: Ⅱb | R31: 否 | S31: 要監視 | T31: 継続 | U31: 監視（日常巡視） | Y31: 監視
C32: S007 | E32: 4 | F32: 60.900002 | G32: 路面 | H32: 監査歩路 | I32: 漏水 | J32: 滞水 | M32: 1.00m2 | N32: 滞水 | O32: Ⅱb | Q32: Ⅱb | R32: 否 | S32: 要監視 | T32: 継続 | U32: 監視（日常巡視） | Y32: 監視
C33: S007 | E33: 5 | F33: 54.299999 | G33: 覆工 | H33: アーチ（天端） | I33: 漏水 | J33: 漏水 | M33: 4.00m2 | N33: － | O33: － | Q33: Ⅱb | R33: 否 | S33: 要監視 | T33: ― | U33: ― | Y33: 監視
C34: S008 | E34: 1 | F34: 67.199997 | G34: 覆工 | H34: アーチ（左側） | I34: 漏水 | J34: 漏水 | M34: 1.63m2 | N34: にじみ | O34: Ⅱb | Q34: Ⅱb | R34: 否 | S34: 要監視 | T34: 継続 | U34: 監視（日常巡視） | Y34: 監視
C35: S008 | E35: 2 | F35: 72.300003 | G35: 覆工 | H35: 横断目地（天端） | I35: 材質劣化 | J35: その他 | M35: 0.02m2 | N35: 0.02m2 | O35: Ⅱb | Q35: Ⅱb | R35: 否 | S35: 要監視 | T35: 継続 | U35: 監視（日常巡視） | Y35: 監視
C36: S008 | E36: 3 | F36: 70 | G36: 路面 | H36: 側溝 | I36: － | J36: その他 | M36: 0.03m2 | N36: － | O36: － | R36: 否 | S36: 否 | T36: ― | U36: ―
C37: S009 | E37: 1 | F37: 77.900002 | G37: 路面 | H37: 監査歩路 | I37: － | J37: その他 | M37: 0.14m2 | N37: 0.10m2 | O37: Ⅱb | R37: 否 | S37: 否 | T37: 継続 | U37: 監視（日常巡視）
C38: S009 | E38: 2 | F38: 81.199997 | G38: 覆工 | H38: 水平打ち継ぎ目（右側） | I38: 材質劣化 | J38: うき・はく離 | M38: 0.05m2 | N38: － | O38: － | Q38: Ⅱb | R38: 否 | S38: 要監視 | T38: ― | U38: ― | Y38: 監視
C39: S009 | E39: 3 | F39: 79.099998 | G39: 路面 | H39: 側溝 | I39: － | J39: その他 | M39: 0.04m2 | N39: － | O39: － | R39: 否 | S39: 否 | T39: ― | U39: ―
C40: S009 | E40: 4 | F40: 79.300003 | G40: 路面 | H40: 歩道 | I40: 漏水 | J40: 滞水 | M40: 1.00m2 | N40: － | O40: － | Q40: Ⅱb | R40: 否 | S40: 要監視 | T40: ― | U40: ― | Y40: 監視
C41: S010 | E41: 1 | F41: 85.300003 | G41: 覆工 | H41: アーチ（右側） | I41: 漏水 | J41: 漏水 | M41: 6.31m2 | N41: にじみ | O41: Ⅱb | Q41: Ⅱb | R41: 否 | S41: 要監視 | T41: 継続 | U41: 監視（日常巡視） | Y41: 監視
C42: S010 | E42: 2 | F42: 88.900002 | G42: 内装板 | H42: 側壁 | I42: 材質劣化 | J42: その他 | M42: 0.03m2 | N42: － | O42: － | Q42: Ⅱb | R42: 否 | S42: 要監視 | T42: ― | U42: ― | Y42: 監視
C43: S011 | E43: 1 | F43: 91 | G43: 覆工 | H43: アーチ（左側） | I43: 漏水 | J43: 漏水 | M43: 1.83m2 | N43: にじみ | O43: Ⅱb | Q43: Ⅱb | R43: 否 | S43: 要監視 | T43: 継続 | U43: 監視（日常巡視） | Y43: 監視
C44: S011 | E44: 2 | F44: 96.300003 | G44: 覆工 | H44: 水平打ち継ぎ目（左側） | I44: 材質劣化 | J44: その他 | M44: ― | N44: 対策実施 | O44: Ⅱb | Q44: Ⅰ | R44: 否 | S44: 否 | T44: 済 | U44: はく落防止対策工を実施
C45: S011 | E45: 3 | F45: 91.400002 | G45: 覆工 | H45: アーチ（左側） | I45: 材質劣化 | J45: 鋼材腐食 | M45: 0.06m2 | N45: 0.06m2 | O45: Ⅱa | Q45: Ⅱa | R45: 否 | S45: 要対策 | T45: 未 | U45: はく落防止対策工を実施 | Y45: はく落防止対策工
C46: S011 | E46: 4 | F46: 99.599998 | G46: 覆工 | H46: アーチ（右側） | I46: 漏水 | J46: 漏水 | M46: 2.72m2 | N46: にじみ | O46: Ⅱb | Q46: Ⅱb | R46: 否 | S46: 要監視 | T46: 継続 | U46: 監視（日常巡視） | Y46: 監視
C47: S011 | E47: 5 | F47: 99.599998 | G47: 路面 | H47: 歩道 | I47: 漏水 | J47: 滞水 | M47: 1.00m2 | N47: 滞水 | O47: Ⅱb | Q47: Ⅱb | R47: 否 | S47: 要監視 | T47: 継続 | U47: 監視（日常巡視） | Y47: 監視
C48: S012 | E48: 1 | F48: 101.1 | G48: 路面 | H48: 監査歩路 | I48: － | J48: その他 | M48: 0.22m2 | N48: 0.22m2 | O48: Ⅱb | R48: 否 | S48: 否 | T48: 継続 | U48: 監視（日常巡視）
B49: 定期点検結果 | C49: S013 | E49: 1 | F49: 109.5 | G49: 覆工 | H49: 水平打ち継ぎ目（左側） | I49: 材質劣化 | J49: うき・はく離 | M49: 0.14m2 | N49: 0.14m2 | O49: Ⅱb | Q49: Ⅱb | R49: 否 | S49: 要監視 | T49: 継続 | U49: 監視（日常巡視） | Y49: 監視
C50: S013 | E50: 2 | F50: 116.6 | G50: 覆工 | H50: アーチ（天端） | I50: 漏水 | J50: 漏水 | M50: 6.80m2 | N50: － | O50: － | Q50: Ⅱa | R50: 否 | S50: 要対策 | T50: ― | U50: ― | Y50: 漏水対策工
C51: S014 | E51: 1 | F51: 118.2 | G51: 覆工 | H51: アーチ（右側） | I51: 材質劣化 | J51: 鋼材腐食 | M51: 0.01m2 | N51: 0.01m2 | O51: Ⅱa | Q51: Ⅱa | R51: 否 | S51: 要対策 | T51: 未 | U51: はく落防止対策工を実施 | Y51: はく落防止対策工
C52: S014 | E52: 2 | F52: 126.8 | G52: 覆工 | H52: 横断目地（右側） | I52: 漏水 | J52: 漏水 | M52: 3.49m2 | N52: にじみ | O52: Ⅱb | Q52: Ⅱb | R52: 否 | S52: 要監視 | T52: 継続 | U52: 監視（日常巡視） | Y52: 監視
C53: S014 | E53: 3 | F53: 121.9 | G53: 内装板 | H53: 側壁 | I53: 材質劣化 | J53: その他 | M53: 0.04m2 | N53: 0.04m2 | O53: Ⅱb | Q53: Ⅱb | R53: 否 | S53: 要監視 | T53: 継続 | U53: 監視（日常巡視） | Y53: 監視
C54: S014 | E54: 4 | F54: 119.2 | G54: 路面 | H54: 監査歩路 | I54: － | J54: その他 | M54: 4.00m2 | N54: 4.00m2 | O54: Ⅱb | R54: 否 | S54: 否 | T54: 継続 | U54: 監視（日常巡視）
C55: S014 | E55: 5 | F55: 120.9 | G55: 覆工 | H55: アーチ（天端） | I55: 漏水 | J55: 漏水 | M55: 30.60m2 | N55: － | O55: － | Q55: Ⅱa | R55: 否 | S55: 要対策 | T55: ― | U55: ― | Y55: 漏水対策工
C56: S015 | E56: 1 | F56: 135.8 | G56: 覆工 | H56: 横断目地（天端） | I56: 漏水 | J56: 漏水 | M56: 4.35m2 | N56: にじみ | O56: Ⅱb | Q56: Ⅱb | R56: 否 | S56: 要監視 | T56: 継続 | U56: 監視（日常巡視） | Y56: 監視
C57: S015 | E57: 2 | F57: 132.3 | G57: 路面 | H57: 側溝 | I57: － | J57: その他 | M57: 0.06m2 | N57: － | O57: － | R57: 否 | S57: 否 | T57: ― | U57: ―
C58: S015 | E58: 3 | F58: 132.7 | G58: 路面 | H58: 側溝 | I58: － | J58: その他 | M58: 0.05m2 | N58: － | O58: － | R58: 否 | S58: 否 | T58: ― | U58: ―
C59: S016 | E59: 1 | F59: 136.7 | G59: 内装板 | H59: 側壁 | I59: 材質劣化 | J59: その他 | M59: 0.02m2 | N59: － | O59: － | Q59: Ⅱb | R59: 否 | S59: 要監視 | T59: ― | U59: ― | Y59: 監視
C60: S017 | E60: 1 | F60: 147.39999 | G60: 覆工 | H60: アーチ（右側） | I60: 漏水 | J60: 漏水 | M60: 4.31m2 | N60: － | O60: － | Q60: Ⅱb | R60: 否 | S60: 要監視 | T60: ― | U60: ― | Y60: 監視
C61: S017 | E61: 2 | F61: 151.7 | G61: 路面 | H61: 側溝 | I61: － | J61: その他 | M61: 0.02m2 | N61: － | O61: － | R61: 否 | S61: 否 | T61: ― | U61: ―
C62: S017 | E62: 4 | F62: 147.5 | G62: 路面 | H62: 歩道 | I62: 漏水 | J62: 滞水 | M62: 1.00m2 | N62: － | O62: － | Q62: Ⅱb | R62: 否 | S62: 要監視 | T62: ― | U62: ― | Y62: 監視
C63: S018 | E63: 1 | F63: 155.10001 | G63: 路面 | H63: 監査歩路 | I63: － | J63: その他 | M63: 0.34m2 | N63: 0.34m2 | O63: Ⅱb | R63: 否 | S63: 否 | T63: 継続 | U63: 監視（日常巡視）
C64: S018 | E64: 2 | F64: 160.89999 | G64: 路面 | H64: 監査歩路 | I64: － | J64: その他 | M64: 0.16m2 | N64: 0.16m2 | O64: Ⅱb | R64: 否 | S64: 否 | T64: 継続 | U64: 監視（日常巡視）
C65: S018 | E65: 3 | F65: 154.7 | G65: 覆工 | H65: 水平打ち継ぎ目（右側） | I65: 材質劣化 | J65: うき・はく離 | M65: 0.05m2 | N65: － | O65: － | Q65: Ⅱb | R65: 否 | S65: 要監視 | T65: ― | U65: ― | Y65: 監視
C66: S019 | E66: 1 | F66: 162.8 | G66: 覆工 | H66: 水平打ち継ぎ目（左側） | I66: 材質劣化 | J66: その他 | M66: ― | N66: 対策実施 | O66: Ⅱb | Q66: Ⅰ | R66: 否 | S66: 否 | T66: 済 | U66: はく落防止対策工を実施
C67: S019 | E67: 2 | F67: 162.8 | G67: 覆工 | H67: 水平打ち継ぎ目（右側） | I67: 材質劣化 | J67: その他 | M67: ― | N67: 対策実施 | O67: Ⅱb | Q67: Ⅰ | R67: 否 | S67: 否 | T67: 済 | U67: はく落防止対策工を実施
C68: S019 | E68: 3 | F68: 163.89999 | G68: 路面 | H68: 監査歩路 | I68: － | J68: その他 | M68: 3.90m2 | N68: 3.90m2 | O68: Ⅱb | R68: 否 | S68: 否 | T68: 継続 | U68: 監視（日常巡視）
C69: S020 | E69: 1 | F69: 173.60001 | G69: 覆工 | H69: 水平打ち継ぎ目（右側） | I69: 材質劣化 | J69: うき・はく離 | M69: 0.20m2 | N69: － | O69: － | Q69: Ⅱb | R69: 否 | S69: 要監視 | T69: ― | U69: ― | Y69: 監視
C70: S021 | E70: 1 | F70: 184.39999 | G70: 路面 | H70: 監査歩路 | I70: － | J70: その他 | M70: 0.40m2 | N70: － | O70: － | R70: 否 | S70: 否 | T70: ― | U70: ―
C71: S022 | E71: 1 | F71: 191.3 | G71: 覆工 | H71: 水平打ち継ぎ目（左側） | I71: 材質劣化 | J71: その他 | M71: ― | N71: 対策実施 | O71: Ⅱb | Q71: Ⅰ | R71: 否 | S71: 否 | T71: 済 | U71: はく落防止対策工を実施
C72: S022 | E72: 2 | F72: 194 | G72: 覆工 | H72: 水平打ち継ぎ目（左側） | I72: 材質劣化 | J72: その他 | M72: ― | N72: 対策実施 | O72: Ⅱb | Q72: Ⅰ | R72: 否 | S72: 否 | T72: 済 | U72: はく落防止対策工を実施
C73: S022 | E73: 3 | F73: 196.39999 | G73: 覆工 | H73: 水平打ち継ぎ目（左側） | I73: 材質劣化 | J73: その他 | M73: ― | N73: 対策実施 | O73: Ⅱb | Q73: Ⅰ | R73: 否 | S73: 否 | T73: 済 | U73: はく落防止対策工を実施
C74: S022 | E74: 4 | F74: 198.8 | G74: 覆工 | H74: アーチ（右側） | I74: 漏水 | J74: 漏水 | M74: 2.03m2 | N74: にじみ | O74: Ⅱb | Q74: Ⅱb | R74: 否 | S74: 要監視 | T74: 継続 | U74: 監視（日常巡視） | Y74: 監視
C75: S022 | E75: 5 | F75: 191.7 | G75: 路面 | H75: 側溝 | I75: － | J75: その他 | M75: 0.02m2 | N75: － | O75: － | R75: 否 | S75: 否 | T75: ― | U75: ―
C76: S023 | E76: 1 | F76: 206.39999 | G76: 覆工 | H76: 水平打ち継ぎ目（左側） | I76: 材質劣化 | J76: うき・はく離 | M76: 0.08m2 | N76: 0.08m2 | O76: Ⅱb | Q76: Ⅱb | R76: 否 | S76: 要監視 | T76: 継続 | U76: 監視（日常巡視） | Y76: 監視
C77: S023 | E77: 2 | F77: 205.5 | G77: 路面 | H77: 監査歩路 | I77: － | J77: その他 | M77: 4.50m2 | N77: 4.50m2 | O77: Ⅱb | R77: 否 | S77: 否 | T77: 継続 | U77: 監視（日常巡視）
C78: S023 | E78: 3 | F78: 199.10001 | G78: 覆工 | H78: 水平打ち継ぎ目（右側） | I78: 材質劣化 | J78: うき・はく離 | M78: 0.02m2 | N78: － | O78: － | Q78: Ⅱb | R78: 否 | S78: 要監視 | T78: ― | U78: ― | Y78: 監視
C79: S024 | E79: 1 | F79: 209.60001 | G79: 覆工 | H79: 水平打ち継ぎ目（左側） | I79: 材質劣化 | J79: その他 | M79: ― | N79: 対策実施 | O79: Ⅱb | Q79: Ⅰ | R79: 否 | S79: 否 | T79: 済 | U79: はく落防止対策工を実施
C80: S025 | E80: 1 | F80: 225.3 | G80: 覆工 | H80: 水平打ち継ぎ目（右側） | I80: 材質劣化 | J80: うき・はく離 | M80: 0.40m2 | N80: 0.40m2 | O80: Ⅱb | Q80: Ⅱb | R80: 否 | S80: 要監視 | T80: 継続 | U80: 監視（日常巡視） | Y80: 監視
C81: S025 | E81: 2 | F81: 221.39999 | G81: 路面 | H81: 側溝 | I81: － | J81: その他 | M81: 0.04m2 | N81: － | O81: － | R81: 否 | S81: 否 | T81: ― | U81: ―
C82: S026 | E82: 1 | F82: 233.2 | G82: 覆工 | H82: 水平打ち継ぎ目（右側） | I82: 材質劣化 | J82: その他 | M82: ― | N82: 対策実施 | O82: Ⅱb | Q82: Ⅰ | R82: 否 | S82: 否 | T82: 済 | U82: はく落防止対策工を実施
C83: S026 | E83: 2 | F83: 229.7 | G83: 路面 | H83: 側溝 | I83: － | J83: その他 | M83: 0.02m2 | N83: － | O83: － | R83: 否 | S83: 否 | T83: ― | U83: ―
C84: S029 | E84: 1 | F84: 254 | G84: 覆工 | H84: 水平打ち継ぎ目（左側） | I84: 材質劣化 | J84: その他 | M84: ― | N84: 対策実施 | O84: Ⅱb | Q84: Ⅰ | R84: 否 | S84: 否 | T84: 済 | U84: はく落防止対策工を実施
C85: S029 | E85: 2 | F85: 260 | G85: 覆工 | H85: 水平打ち継ぎ目（左側） | I85: 材質劣化 | J85: その他 | M85: ― | N85: 対策実施 | O85: Ⅱb | Q85: Ⅰ | R85: 否 | S85: 否 | T85: 済 | U85: はく落防止対策工を実施
C86: S029 | E86: 3 | F86: 258.5 | G86: 覆工 | H86: アーチ（天端） | I86: 漏水 | J86: 漏水 | M86: 3.60m2 | N86: にじみ | O86: Ⅱb | Q86: Ⅱb | R86: 否 | S86: 要監視 | T86: 継続 | U86: 監視（日常巡視） | Y86: 監視
C87: S029 | E87: 4 | F87: 258.29999 | G87: 覆工 | H87: アーチ（天端） | I87: 漏水 | J87: 漏水 | M87: 4.43m2 | N87: － | O87: － | Q87: Ⅱa | R87: 否 | S87: 要対策 | T87: ― | U87: ― | Y87: 漏水対策工
C88: S030 | E88: 1 | F88: 262.5 | G88: 路面 | H88: 監査歩路 | I88: － | J88: その他 | M88: 7.50m2 | N88: 7.50m2 | O88: Ⅱb | R88: 否 | S88: 否 | T88: 継続 | U88: 監視（日常巡視）
B89: 定期点検結果 | C89: S030 | E89: 2 | F89: 263.39999 | G89: 覆工 | H89: 水平打ち継ぎ目（右側） | I89: 材質劣化 | J89: うき・はく離 | M89: 0.03m2 | N89: － | O89: － | Q89: Ⅱb | R89: 否 | S89: 要監視 | T89: ― | U89: ― | Y89: 監視
C90: S032 | E90: 1 | F90: 281.89999 | G90: 覆工 | H90: アーチ（天端） | I90: 漏水 | J90: 漏水 | M90: 6.10m2 | N90: にじみ | O90: Ⅱb | Q90: Ⅱb | R90: 否 | S90: 要監視 | T90: 継続 | U90: 監視（日常巡視） | Y90: 監視
C91: S033 | E91: 1 | F91: 289.60001 | G91: 覆工 | H91: 水平打ち継ぎ目（左側） | I91: 材質劣化 | J91: その他 | M91: ― | N91: 対策実施 | O91: Ⅱb | Q91: Ⅰ | R91: 否 | S91: 否 | T91: 済 | U91: はく落防止対策工を実施
C92: S033 | E92: 2 | F92: 297 | G92: 覆工 | H92: 横断目地（天端） | I92: 材質劣化 | J92: その他 | M92: 0.02m2 | N92: 0.02m2 | O92: Ⅱb | Q92: Ⅱb | R92: 否 | S92: 要監視 | T92: 継続 | U92: 監視（日常巡視） | Y92: 監視
C93: S033 | E93: 3 | F93: 288 | G93: 覆工 | H93: 横断目地（天端） | I93: 漏水 | J93: 漏水 | M93: 4.23m2 | N93: にじみ | O93: Ⅱb | Q93: Ⅱa | R93: 否 | S93: 要対策 | T93: 継続 | U93: 監視（日常巡視） | Y93: 漏水対策工
C94: S033 | E94: 4 | F94: 288 | G94: 覆工 | H94: アーチ（右側） | I94: 材質劣化 | J94: その他 | M94: 0.96m2 | N94: 0.96m2 | O94: Ⅱb | Q94: Ⅱb | R94: 否 | S94: 要監視 | T94: 継続 | U94: 監視（日常巡視） | Y94: 監視
C95: S034 | E95: 1 | F95: 298 | G95: 覆工 | H95: 水平打ち継ぎ目（左側） | I95: 材質劣化 | J95: その他 | M95: ― | N95: 対策実施 | O95: Ⅱb | Q95: Ⅰ | R95: 否 | S95: 否 | T95: 済 | U95: はく落防止対策工を実施
C96: S034 | E96: 2 | F96: 304.10001 | G96: 覆工 | H96: 水平打ち継ぎ目（左側） | I96: 材質劣化 | J96: その他 | M96: ― | N96: 対策実施 | O96: Ⅱb | Q96: Ⅰ | R96: 否 | S96: 否 | T96: 済 | U96: はく落防止対策工を実施
C97: S034 | E97: 3 | F97: 303.89999 | G97: 路面 | H97: 側溝 | I97: － | J97: その他 | M97: 40mm | N97: － | O97: － | R97: 否 | S97: 否 | T97: ― | U97: ―
C98: S035 | E98: 1 | F98: 307.5 | G98: 覆工 | H98: 水平打ち継ぎ目（左側） | I98: 材質劣化 | J98: その他 | M98: ― | N98: 対策実施 | O98: Ⅱb | Q98: Ⅰ | R98: 否 | S98: 否 | T98: 済 | U98: はく落防止対策工を実施
C99: S035 | E99: 2 | F99: 308.79999 | G99: 路面 | H99: 側溝 | I99: － | J99: その他 | M99: 50mm | N99: － | O99: － | R99: 否 | S99: 否 | T99: ― | U99: ―
C100: S035 | E100: 3 | F100: 313.79999 | G100: 路面 | H100: 側溝 | I100: － | J100: その他 | M100: 35mm | N100: － | O100: － | R100: 否 | S100: 否 | T100: ― | U100: ―
C101: S036 | E101: 1 | F101: 324 | G101: 覆工 | H101: 横断目地（天端） | I101: 材質劣化 | J101: その他 | M101: 0.04m2 | N101: 0.04m2 | O101: Ⅱb | Q101: Ⅱb | R101: 否 | S101: 要監視 | T101: 継続 | U101: 監視（日常巡視） | Y101: 監視
...

Sheet 様式C-1-2
B2: ■定期点検記録様式 定期点検結果総括表（トンネル内附属物等の取付状態） 【様式C-1-2】
B3: フリガナ | F3: (ｻﾊﾞﾔﾏｽﾞｲﾄﾞｳ(ﾉﾎﾞﾘ)) | J3: 路線名 | K3: 一般国道262号 | M3: 定期点検実施者 | O3: 大日本ダイヤコンサルタント株式会社 | S3: 定期点検年月日 | W3: 45635
B4: 名 称 | F4: 佐波山隧道(上り) | J4: 管理者名 | K4: 山口県防府土木建築事務所 | O4: 斉藤 寿英
B5: 定期点検結果 | C5: 覆工 スパン 番号 | E5: 異常 番号 | F5: 距離 （m） | G5: 異常部位 | J5: 異 常 の 内 容 | N5: 定期点検結果 | P5: 応急措置の 実施状況 | V5: 対応方針 ・ 特記事項
G6: 対象箇所 | I6: 部位区分 | J6: 異常種類 | L6: 異常の発生範囲の規模 | N6: 異常判定区分 | P6: 実施 | Q6: 応急措置の内容
N7: 応急措置前 | O7: 応急措置後
C8: S023 | E8: 1 | F8: 200 | G8: 非常用施設 | H8: 消火器 | I8: 附属物本体 | J8: 緩み，脱落 | L8: 1箇所 | O8: × | V8: さや管再設置
C9: S024 | E9: 1 | F9: 215 | G9: 非常用施設 | H9: 消火器 | I9: 附属物本体 | J9: 緩み，脱落 | L9: 1箇所 | O9: × | V9: さや管再設置
C10: S025 | E10: 1 | F10: 221 | G10: 非常用施設 | H10: 消火器 | I10: 附属物本体 | J10: 緩み，脱落 | L10: 1箇所 | O10: × | V10: さや管再設置
C11: S038 | E11: 1 | F11: 335 | G11: 非常用施設 | H11: 消火器 | I11: 附属物本体 | J11: 緩み，脱落 | L11: 1箇所 | O11: × | V11: さや管再設置
C12: S039 | E12: 1 | F12: 349 | G12: 非常用施設 | H12: 消火器 | I12: 附属物本体 | J12: 緩み，脱落 | L12: 1箇所 | O12: × | V12: さや管再設置
C13: S064 | E13: 1 | F13: 571 | G13: 非常用施設 | H13: 避難情報提供設備 | I13: 取付部材 | J13: 緩み，脱落 | L13: 1箇所 | O13: × | V13: ラジ再ケーブル金具交換
C14: S067 | E14: 1 | F14: 596.70001 | G14: 照明施設 | H14: ケーブル類 | I14: ボルト・ﾅｯﾄ・アンカー類 | J14: 異常なし | L14: ― | O14: ○ | V14: 金具撤去済み(前回破損)
C15: S067 | E15: 2 | F15: 597.40002 | G15: 照明施設 | H15: ケーブル類 | I15: 附属物本体 | J15: 異常なし | L15: ― | O15: ○ | V15: ボックス撤去済み(前回腐食)
C16: S067 | E16: 3 | F16: 599 | G16: その他施設 | H16: その他 | I16: 附属物本体 | J16: 破損 | L16: 1箇所 | O16: × | V16: デリネーター交換
C42: ※ 異常判定区分×について記入すること。また、応急措置により○と判定された箇所も記入すること。
C43: ※ 応急措置を実施しないで判定した箇所の異常判定区分は、異常判定区分の応急措置後の欄に記入すること。
C44: ※ 異常の除去が不完全で、緊急対応が必要な場合は対応方針欄に記入すること。
C45: ※ １スパンの覆工に複数の異常がある場合は、異常箇所毎に記入すること。
C46: ※ 行が不足する場合は、適時、表の行を増やすこと。

Sheet 様式C-2
B2: ■定期点検記録様式 状態の把握の内容 【様式C-2】
B3: フリガナ | E3: (ｻﾊﾞﾔﾏｽﾞｲﾄﾞｳ(ﾉﾎﾞﾘ)) | H3: 路線名 | J3: 一般国道262号 | M3: 定期点検実施者 | Q3: 大日本ダイヤコンサルタント株式会社 | U3: 定期点検年月日 | X3: 45635
B4: 名 称 | E4: 佐波山隧道(上り) | H4: 管理者名 | J4: 山口県防府土木建築事務所 | Q4: 斉藤 寿英
B5: 状態の把握の内容 | C5: 覆工スパン 番号 | E5: 変状 番号 | F5: 状態の把握の内容
F6: 年月日 | H6: 内容 | O6: 結果 | Y6: 対策区分の 判定
B22: 注）状態の把握において、微破壊・非破壊検査や各種試験等を実施した場合について記載する。
B23: ※ 行が不足する場合は、適時、表の行を増やすこと。

Sheet 様式D-1-1_001
B2: ■定期点検記録様式 変状写真台帳【様式D-1-1】 | R2: 施設ID | T2: 34.09797,131.54189
B3: フリガナ | E3: (ｻﾊﾞﾔﾏｽﾞｲﾄﾞｳ(ﾉﾎﾞﾘ)) | H3: 路 線 名 | J3: 国道262号 | M3: 定期点検実施者 | P3: 大日本ダイヤコンサルタント株式会社 | S3: 定期点検年月日 | U3: 45635
B4: 名 称 | E4: 佐波山隧道(上り) | H4: 管理者名 | J4: 山口県防府土木建築事務所 | P4: 斉藤 寿英
B5: 写真 番号 | C5: 覆工スパン 番号 | E5: PS | M5: 写真 番号 | N5: 覆工スパン 番号 | P5: S001
C6: 変状番号 | E6: 1 | N6: 変状番号 | P6: 1
B7: 変状 部位 | C7: 対象箇所 | E7: 坑門 | M7: 変状 部位 | N7: 対象箇所 | P7: 覆工
C8: 部位区分 | E8: 面壁・妻壁等 | N8: 部位区分 | P8: アーチ（天端）
B9: 変状種類 | E9: 漏水 | M9: 変状種類 | P9: その他
B10: 対策 区分 | C10: 変状区分 | E10: 漏水 | M10: 対策 区分 | N10: 変状区分 | P10: 材質劣化
C11: 応急措置前 | N11: 応急措置前
C12: 応急措置後 | E12: Ⅱb | N12: 応急措置後 | P12: Ⅱb
B13: 変状の発生範囲及び規模 | E13: 6.55m×0.60m | H13: 前回変状の発生範囲及び規模 | J13: にじみ (判定Ⅱb) | M13: 変状の発生範囲及び規模 | P13: 0.05m×0.20m | S13: 前回変状の発生範囲及び規模 | U13: 0.05m×0.2m (判定Ⅱb)
B14: 対策履歴 | E14: 監視（日常巡視） | H14: 実施状況（実施日） | J14: 継続 | M14: 対策履歴 | P14: 監視（日常巡視） | S14: 実施状況（実施日） | U14: 継続
B15: メモ | E15: 面壁に漏水跡。 | M15: メモ | P15: アーチ部(天端)に木片混入。
B16: 写真 番号 | C16: 覆工スパン 番号 | E16: S001 | M16: 写真 番号 | N16: 覆工スパン 番号 | P16: S001
C17: 変状番号 | E17: 2 | N17: 変状番号 | P17: 3
B18: 変状 部位 | C18: 対象箇所 | E18: 覆工 | M18: 変状 部位 | N18: 対象箇所 | P18: 覆工
C19: 部位区分 | E19: アーチ（右側） | N19: 部位区分 | P19: 側壁（右側）
B20: 変状種類 | E20: うき・はく離 | M20: 変状種類 | P20: 漏水
B21: 対策 区分 | C21: 変状区分 | E21: 材質劣化 | M21: 対策 区分 | N21: 変状区分 | P21: 漏水
C22: 応急措置前 | N22: 応急措置前
C23: 応急措置後 | E23: Ⅱa | N23: 応急措置後 | P23: Ⅱb
B24: 変状の発生範囲及び規模 | E24: 1.30m×2.20m、0.20m×0.90m、0.20m×0.70m | H24: 前回変状の発生範囲及び規模 | J24: 1.1m×2.1m (判定Ⅱa) | M24: 変状の発生範囲及び規模 | P24: 2.75m×0.95m | S24: 前回変状の発生範囲及び規模 | U24: にじみ (判定Ⅱb)
B25: 対策履歴 | E25: はく落防止対策工を実施 | H25: 実施状況（実施日） | J25: 未 | M25: 対策履歴 | P25: 監視（日常巡視） | S25: 実施状況（実施日） | U25: 継続
B26: メモ | E26: アーチ部(右側)に豆板。利用者被害有り。打音異常無し。材質劣化無し。 | M26: メモ | P26: 側壁部(右側)にひび割れ沿いのにじみ(滞水により土砂堆積有り)。
C27: ※ 応急措置後の対策区分の判定区分Ⅱb～Ⅳについて添付すること。また、点検前に 実施された措置によりⅠと判定された箇所も添付すること。 | N27: ※ 変状の発生範囲の規模とは、対策を行う際に参考となる変状の長さや面積をいう。
N28: ※ 応急措置を実施しないで判定した変状の判定区分は、判定区分の応急措置後の欄に記入すること。
C29: ※ たたき落としを実施した場合は、実施後の写真を添付すること。 | N29: ※ 変状の発生範囲の規模は、面積・寸法を記載すること。(ひび割れ幅のみmmとし、その他をm表記とする)
C30: ※ 附属物の取付状態に関する異常写真は別途、任意の書式でとりまとめること。 | N30: ※ 構造用鋼材以外の異物に伴ううき・はく離については、メモ欄に異物の概要を記入すること。

Sheet 様式D-1-1_002
B2: ■定期点検記録様式 変状写真台帳【様式D-1-1】 | R2: 施設ID | T2: 34.09797,131.54189
B3: フリガナ | E3: (ｻﾊﾞﾔﾏｽﾞｲﾄﾞｳ(ﾉﾎﾞﾘ)) | H3: 路 線 名 | J3: 国道262号 | M3: 定期点検実施者 | P3: 大日本ダイヤコンサルタント株式会社 | S3: 定期点検年月日 | U3: 45635
B4: 名 称 | E4: 佐波山隧道(上り) | H4: 管理者名 | J4: 山口県防府土木建築事務所 | P4: 斉藤 寿英
B5: 写真 番号 | C5: 覆工スパン 番号 | E5: S001 | M5: 写真 番号 | N5: 覆工スパン 番号 | P5: S001
C6: 変状番号 | E6: 4 | N6: 変状番号 | P6: 5
B7: 変状 部位 | C7: 対象箇所 | E7: 内装板 | M7: 変状 部位 | N7: 対象箇所 | P7: 内装板
C8: 部位区分 | E8: 側壁 | N8: 部位区分 | P8: 側壁
B9: 変状種類 | E9: その他 | M9: 変状種類 | P9: その他
B10: 対策 区分 | C10: 変状区分 | E10: 材質劣化 | M10: 対策 区分 | N10: 変状区分 | P10: 材質劣化
C11: 応急措置前 | N11: 応急措置前
C12: 応急措置後 | E12: Ⅱb | N12: 応急措置後 | P12: Ⅱb
B13: 変状の発生範囲及び規模 | E13: 0.20m×0.50m | H13: 前回変状の発生範囲及び規模 | J13: 今回新規変状 | M13: 変状の発生範囲及び規模 | P13: 0.20m×0.20m | S13: 前回変状の発生範囲及び規模 | U13: 今回新規変状
B14: 対策履歴 | E14: ― | H14: 実施状況（実施日） | J14: ― | M14: 対策履歴 | P14: ― | S14: 実施状況（実施日） | U14: ―
B15: メモ | E15: 内装板に内装板破損。 | M15: メモ | P15: 内装板に内装板破損。
B16: 写真 番号 | C16: 覆工スパン 番号 | E16: S001 | M16: 写真 番号 | N16: 覆工スパン 番号 | P16: S001
C17: 変状番号 | E17: 6 | N17: 変状番号 | P17: 7
B18: 変状 部位 | C18: 対象箇所 | E18: 路面 | M18: 変状 部位 | N18: 対象箇所 | P18: 路面
C19: 部位区分 | E19: 側溝 | N19: 部位区分 | P19: 歩道
B20: 変状種類 | E20: その他 | M20: 変状種類 | P20: その他
B21: 対策 区分 | C21: 変状区分 | M21: 対策 区分 | N21: 変状区分 | P21: 漏水
C22: 応急措置前 | N22: 応急措置前
C23: 応急措置後 | N23: 応急措置後 | P23: Ⅱb
B24: 変状の発生範囲及び規模 | E24: 0.25m×0.10m | H24: 前回変状の発生範囲及び規模 | J24: 今回新規変状 | M24: 変状の発生範囲及び規模 | P24: 0.25m×1.80m | S24: 前回変状の発生範囲及び規模 | U24: 今回新規変状
B25: 対策履歴 | E25: ― | H25: 実施状況（実施日） | J25: ― | M25: 対策履歴 | P25: ― | S25: 実施状況（実施日） | U25: ―
B26: メモ | E26: 側溝に蓋欠損(鋼材露出)。 | M26: メモ | P26: 歩道に土砂堆積。
C27: ※ 応急措置後の対策区分の判定区分Ⅱb～Ⅳについて添付すること。また、点検前に 実施された措置によりⅠと判定された箇所も添付すること。 | N27: ※ 変状の発生範囲の規模とは、対策を行う際に参考となる変状の長さや面積をいう。
N28: ※ 応急措置を実施しないで判定した変状の判定区分は、判定区分の応急措置後の欄に記入すること。
C29: ※ たたき落としを実施した場合は、実施後の写真を添付すること。 | N29: ※ 変状の発生範囲の規模は、面積・寸法を記載すること。(ひび割れ幅のみmmとし、その他をm表記とする)
C30: ※ 附属物の取付状態に関する異常写真は別途、任意の書式でとりまとめること。 | N30: ※ 構造用鋼材以外の異物に伴ううき・はく離については、メモ欄に異物の概要を記入すること。

Sheet 様式D-1-1_003
B2: ■定期点検記録様式 変状写真台帳【様式D-1-1】 | R2: 施設ID | T2: 34.09797,131.54189
B3: フリガナ | E3: (ｻﾊﾞﾔﾏｽﾞｲﾄﾞｳ(ﾉﾎﾞﾘ)) | H3: 路 線 名 | J3: 国道262号 | M3: 定期点検実施者 | P3: 大日本ダイヤコンサルタント株式会社 | S3: 定期点検年月日 | U3: 45635
B4: 名 称 | E4: 佐波山隧道(上り) | H4: 管理者名 | J4: 山口県防府土木建築事務所 | P4: 斉藤 寿英
B5: 写真 番号 | C5: 覆工スパン 番号 | E5: S003 | M5: 写真 番号 | N5: 覆工スパン 番号 | P5: S003
C6: 変状番号 | E6: 1 | N6: 変状番号 | P6: 2
B7: 変状 部位 | C7: 対象箇所 | E7: 路面 | M7: 変状 部位 | N7: 対象箇所 | P7: 路面
C8: 部位区分 | E8: 監査歩路 | N8: 部位区分 | P8: 側溝
B9: 変状種類 | E9: その他 | M9: 変状種類 | P9: その他
B10: 対策 区分 | C10: 変状区分 | M10: 対策 区分 | N10: 変状区分
C11: 応急措置前 | N11: 応急措置前
C12: 応急措置後 | N12: 応急措置後
B13: 変状の発生範囲及び規模 | E13: 0.20m×7.30m | H13: 前回変状の発生範囲及び規模 | J13: 0.2m×7.3m (判定Ⅱb) | M13: 変状の発生範囲及び規模 | P13: 0.20m×0.10m | S13: 前回変状の発生範囲及び規模 | U13: 今回新規変状
B14: 対策履歴 | E14: 監視（日常巡視） | H14: 実施状況（実施日） | J14: 継続 | M14: 対策履歴 | P14: ― | S14: 実施状況（実施日） | U14: ―
B15: メモ | E15: 監査歩路に縁石劣化。 | M15: メモ | P15: 側溝に蓋欠損(鋼材露出)。
B16: 写真 番号 | C16: 覆工スパン 番号 | E16: S004 | M16: 写真 番号 | N16: 覆工スパン 番号 | P16: S004
C17: 変状番号 | E17: 1 | N17: 変状番号 | P17: 2
B18: 変状 部位 | C18: 対象箇所 | E18: 覆工 | M18: 変状 部位 | N18: 対象箇所 | P18: 路面
C19: 部位区分 | E19: 横断目地（天端） | N19: 部位区分 | P19: 側溝
B20: 変状種類 | E20: うき・はく離 | M20: 変状種類 | P20: その他
B21: 対策 区分 | C21: 変状区分 | E21: 材質劣化 | M21: 対策 区分 | N21: 変状区分
C22: 応急措置前 | N22: 応急措置前
C23: 応急措置後 | E23: Ⅱa | N23: 応急措置後
B24: 変状の発生範囲及び規模 | E24: 1.40m×0.30m | H24: 前回変状の発生範囲及び規模 | J24: 今回新規変状 | M24: 変状の発生範囲及び規模 | P24: 0.20m×0.20m | S24: 前回変状の発生範囲及び規模 | U24: 今回新規変状
B25: 対策履歴 | E25: ― | H25: 実施状況（実施日） | J25: ― | M25: 対策履歴 | P25: ― | S25: 実施状況（実施日） | U25: ―
B26: メモ | E26: 横断目地部(天端)にうき。閉合ひび割れ無し。利用者被害有り。打音異常有り。 | M26: メモ | P26: 側溝に蓋欠損。
C27: ※ 応急措置後の対策区分の判定区分Ⅱb～Ⅳについて添付すること。また、点検前に 実施された措置によりⅠと判定された箇所も添付すること。 | N27: ※ 変状の発生範囲の規模とは、対策を行う際に参考となる変状の長さや面積をいう。
N28: ※ 応急措置を実施しないで判定した変状の判定区分は、判定区分の応急措置後の欄に記入すること。
C29: ※ たたき落としを実施した場合は、実施後の写真を添付すること。 | N29: ※ 変状の発生範囲の規模は、面積・寸法を記載すること。(ひび割れ幅のみmmとし、その他をm表記とする)
C30: ※ 附属物の取付状態に関する異常写真は別途、任意の書式でとりまとめること。 | N30: ※ 構造用鋼材以外の異物に伴ううき・はく離については、メモ欄に異物の概要を記入すること。

Sheet 様式D-1-1_004
B2: ■定期点検記録様式 変状写真台帳【様式D-1-1】 | R2: 施設ID | T2: 34.09797,131.54189
B3: フリガナ | E3: (ｻﾊﾞﾔﾏｽﾞｲﾄﾞｳ(ﾉﾎﾞﾘ)) | H3: 路 線 名 | J3: 国道262号 | M3: 定期点検実施者 | P3: 大日本ダイヤコンサルタント株式会社 | S3: 定期点検年月日 | U3: 45635
B4: 名 称 | E4: 佐波山隧道(上り) | H4: 管理者名 | J4: 山口県防府土木建築事務所 | P4: 斉藤 寿英
B5: 写真 番号 | C5: 覆工スパン 番号 | E5: S005 | M5: 写真 番号 | N5: 覆工スパン 番号 | P5: S006
C6: 変状番号 | E6: 1 | N6: 変状番号 | P6: 1
B7: 変状 部位 | C7: 対象箇所 | E7: 路面 | M7: 変状 部位 | N7: 対象箇所 | P7: 覆工
C8: 部位区分 | E8: 監査歩路 | N8: 部位区分 | P8: アーチ（左側）
B9: 変状種類 | E9: その他 | M9: 変状種類 | P9: 漏水
B10: 対策 区分 | C10: 変状区分 | M10: 対策 区分 | N10: 変状区分 | P10: 漏水
C11: 応急措置前 | N11: 応急措置前
C12: 応急措置後 | N12: 応急措置後 | P12: Ⅱb
B13: 変状の発生範囲及び規模 | E13: 0.20m×6.00m | H13: 前回変状の発生範囲及び規模 | J13: 0.2m×6.0m (判定Ⅱb) | M13: 変状の発生範囲及び規模 | P13: 3.95m×0.75m | S13: 前回変状の発生範囲及び規模 | U13: にじみ (判定Ⅱb)
B14: 対策履歴 | E14: 監視（日常巡視） | H14: 実施状況（実施日） | J14: 継続 | M14: 対策履歴 | P14: 監視（日常巡視） | S14: 実施状況（実施日） | U14: 継続
B15: メモ | E15: 監査歩路に縁石劣化。 | M15: メモ | P15: アーチ部(左側)にひび割れ沿いのにじみ(滞水無し)。
B16: 写真 番号 | C16: 覆工スパン 番号 | E16: S006 | M16: 写真 番号 | N16: 覆工スパン 番号 | P16: S006
C17: 変状番号 | E17: 2 | N17: 変状番号 | P17: 3
B18: 変状 部位 | C18: 対象箇所 | E18: 覆工 | M18: 変状 部位 | N18: 対象箇所 | P18: 路面
C19: 部位区分 | E19: 横断目地（天端） | N19: 部位区分 | P19: 監査歩路
B20: 変状種類 | E20: その他 | M20: 変状種類 | P20: その他
B21: 対策 区分 | C21: 変状区分 | E21: 材質劣化 | M21: 対策 区分 | N21: 変状区分
C22: 応急措置前 | N22: 応急措置前
C23: 応急措置後 | E23: Ⅱb | N23: 応急措置後
B24: 変状の発生範囲及び規模 | E24: 0.40m×0.05m | H24: 前回変状の発生範囲及び規模 | J24: 0.4m×0.05m (判定Ⅱb) | M24: 変状の発生範囲及び規模 | P24: 0.20m×7.50m | S24: 前回変状の発生範囲及び規模 | U24: 0.2m×7.5m (判定Ⅱb)
B25: 対策履歴 | E25: 監視（日常巡視） | H25: 実施状況（実施日） | J25: 継続 | M25: 対策履歴 | P25: 監視（日常巡視） | S25: 実施状況（実施日） | U25: 継続
B26: メモ | E26: 横断目地部(天端)に木片混入。 | M26: メモ | P26: 監査歩路に縁石劣化。
C27: ※ 応急措置後の対策区分の判定区分Ⅱb～Ⅳについて添付すること。また、点検前に 実施された措置によりⅠと判定された箇所も添付すること。 | N27: ※ 変状の発生範囲の規模とは、対策を行う際に参考となる変状の長さや面積をいう。
N28: ※ 応急措置を実施しないで判定した変状の判定区分は、判定区分の応急措置後の欄に記入すること。
C29: ※ たたき落としを実施した場合は、実施後の写真を添付すること。 | N29: ※ 変状の発生範囲の規模は、面積・寸法を記載すること。(ひび割れ幅のみmmとし、その他をm表記とする)
C30: ※ 附属物の取付状態に関する異常写真は別途、任意の書式でとりまとめること。 | N30: ※ 構造用鋼材以外の異物に伴ううき・はく離については、メモ欄に異物の概要を記入すること。

Sheet 様式D-1-1_005
B2: ■定期点検記録様式 変状写真台帳【様式D-1-1】 | R2: 施設ID | T2: 34.09797,131.54189
B3: フリガナ | E3: (ｻﾊﾞﾔﾏｽﾞｲﾄﾞｳ(ﾉﾎﾞﾘ)) | H3: 路 線 名 | J3: 国道262号 | M3: 定期点検実施者 | P3: 大日本ダイヤコンサルタント株式会社 | S3: 定期点検年月日 | U3: 45635
B4: 名 称 | E4: 佐波山隧道(上り) | H4: 管理者名 | J4: 山口県防府土木建築事務所 | P4: 斉藤 寿英
B5: 写真 番号 | C5: 覆工スパン 番号 | E5: S006 | M5: 写真 番号 | N5: 覆工スパン 番号 | P5: S006
C6: 変状番号 | E6: 4 | N6: 変状番号 | P6: 5
B7: 変状 部位 | C7: 対象箇所 | E7: 覆工 | M7: 変状 部位 | N7: 対象箇所 | P7: 覆工
C8: 部位区分 | E8: アーチ（左側） | N8: 部位区分 | P8: アーチ（天端）
B9: 変状種類 | E9: 漏水 | M9: 変状種類 | P9: 漏水
B10: 対策 区分 | C10: 変状区分 | E10: 漏水 | M10: 対策 区分 | N10: 変状区分 | P10: 漏水
C11: 応急措置前 | N11: 応急措置前
C12: 応急措置後 | E12: Ⅱb | N12: 応急措置後 | P12: Ⅱb
B13: 変状の発生範囲及び規模 | E13: 5.40m×0.85m | H13: 前回変状の発生範囲及び規模 | J13: 今回新規変状 | M13: 変状の発生範囲及び規模 | P13: 8.30m×0.50m | S13: 前回変状の発生範囲及び規模 | U13: 今回新規変状
B14: 対策履歴 | E14: ― | H14: 実施状況（実施日） | J14: ― | M14: 対策履歴 | P14: ― | S14: 実施状況（実施日） | U14: ―
B15: メモ | E15: アーチ部(左側)にひび割れ沿いのにじみ(路面遊離石灰有り)。 | M15: メモ | P15: アーチ部(天端)にひび割れ沿いのにじみ(路面遊離石灰有り)。
B16: 写真 番号 | C16: 覆工スパン 番号 | E16: S006 | M16: 写真 番号 | N16: 覆工スパン 番号 | P16: S006
C17: 変状番号 | E17: 6 | N17: 変状番号 | P17: 7
B18: 変状 部位 | C18: 対象箇所 | E18: 覆工 | M18: 変状 部位 | N18: 対象箇所 | P18: 路面
C19: 部位区分 | E19: アーチ（天端） | N19: 部位区分 | P19: 側溝
B20: 変状種類 | E20: 漏水 | M20: 変状種類 | P20: その他
B21: 対策 区分 | C21: 変状区分 | E21: 漏水 | M21: 対策 区分 | N21: 変状区分
C22: 応急措置前 | N22: 応急措置前
C23: 応急措置後 | E23: Ⅱa | N23: 応急措置後
B24: 変状の発生範囲及び規模 | E24: 8.05m×0.50m | H24: 前回変状の発生範囲及び規模 | J24: 今回新規変状 | M24: 変状の発生範囲及び規模 | P24: 0.20m×0.10m | S24: 前回変状の発生範囲及び規模 | U24: 今回新規変状
B25: 対策履歴 | E25: ― | H25: 実施状況（実施日） | J25: ― | M25: 対策履歴 | P25: ― | S25: 実施状況（実施日） | U25: ―
B26: メモ | E26: アーチ部(天端)にひび割れ沿いの滴水(滞水有り)。 | M26: メモ | P26: 側溝に蓋欠損。
C27: ※ 応急措置後の対策区分の判定区分Ⅱb～Ⅳについて添付すること。また、点検前に 実施された措置によりⅠと判定された箇所も添付すること。 | N27: ※ 変状の発生範囲の規模とは、対策を行う際に参考となる変状の長さや面積をいう。
N28: ※ 応急措置を実施しないで判定した変状の判定区分は、判定区分の応急措置後の欄に記入すること。
C29: ※ たたき落としを実施した場合は、実施後の写真を添付すること。 | N29: ※ 変状の発生範囲の規模は、面積・寸法を記載すること。(ひび割れ幅のみmmとし、その他をm表記とする)
C30: ※ 附属物の取付状態に関する異常写真は別途、任意の書式でとりまとめること。 | N30: ※ 構造用鋼材以外の異物に伴ううき・はく離については、メモ欄に異物の概要を記入すること。

Sheet 様式D-1-1_006
B2: ■定期点検記録様式 変状写真台帳【様式D-1-1】 | R2: 施設ID | T2: 34.09797,131.54189
B3: フリガナ | E3: (ｻﾊﾞﾔﾏｽﾞｲﾄﾞｳ(ﾉﾎﾞﾘ)) | H3: 路 線 名 | J3: 国道262号 | M3: 定期点検実施者 | P3: 大日本ダイヤコンサルタント株式会社 | S3: 定期点検年月日 | U3: 45635
B4: 名 称 | E4: 佐波山隧道(上り) | H4: 管理者名 | J4: 山口県防府土木建築事務所 | P4: 斉藤 寿英
B5: 写真 番号 | C5: 覆工スパン 番号 | E5: S007 | M5: 写真 番号 | N5: 覆工スパン 番号 | P5: S007
C6: 変状番号 | E6: 1 | N6: 変状番号 | P6: 2
B7: 変状 部位 | C7: 対象箇所 | E7: 覆工 | M7: 変状 部位 | N7: 対象箇所 | P7: 覆工
C8: 部位区分 | E8: アーチ（左側） | N8: 部位区分 | P8: アーチ（左側）
B9: 変状種類 | E9: 漏水 | M9: 変状種類 | P9: 漏水
B10: 対策 区分 | C10: 変状区分 | E10: 漏水 | M10: 対策 区分 | N10: 変状区分 | P10: 漏水
C11: 応急措置前 | N11: 応急措置前
C12: 応急措置後 | E12: Ⅱb | N12: 応急措置後 | P12: Ⅱb
B13: 変状の発生範囲及び規模 | E13: 1.25m×4.10m | H13: 前回変状の発生範囲及び規模 | J13: にじみ (判定Ⅱb) | M13: 変状の発生範囲及び規模 | P13: 3.00m×0.80m | S13: 前回変状の発生範囲及び規模 | U13: にじみ (判定Ⅱb)
B14: 対策履歴 | E14: 監視（日常巡視） | H14: 実施状況（実施日） | J14: 継続 | M14: 対策履歴 | P14: 監視（日常巡視） | S14: 実施状況（実施日） | U14: 継続
B15: メモ | E15: アーチ部(左側)にひび割れ沿いのにじみ(路面遊離石灰有り)。 | M15: メモ | P15: アーチ部(左側)にひび割れ沿いのにじみ(滞水有り)。
B16: 写真 番号 | C16: 覆工スパン 番号 | E16: S007 | M16: 写真 番号 | N16: 覆工スパン 番号 | P16: S007
C17: 変状番号 | E17: 3 | N17: 変状番号 | P17: 4
B18: 変状 部位 | C18: 対象箇所 | E18: 覆工 | M18: 変状 部位 | N18: 対象箇所 | P18: 路面
C19: 部位区分 | E19: 横断目地（天端） | N19: 部位区分 | P19: 監査歩路
B20: 変状種類 | E20: その他 | M20: 変状種類 | P20: 滞水
B21: 対策 区分 | C21: 変状区分 | E21: 材質劣化 | M21: 対策 区分 | N21: 変状区分 | P21: 漏水
C22: 応急措置前 | N22: 応急措置前
C23: 応急措置後 | E23: Ⅱb | N23: 応急措置後 | P23: Ⅱb
B24: 変状の発生範囲及び規模 | E24: 0.30m×0.05m | H24: 前回変状の発生範囲及び規模 | J24: 0.3m×0.05m (判定Ⅱb) | M24: 変状の発生範囲及び規模 | P24: 1.15m×3.95m | S24: 前回変状の発生範囲及び規模 | U24: 滞水 (判定Ⅱb)
B25: 対策履歴 | E25: 監視（日常巡視） | H25: 実施状況（実施日） | J25: 継続 | M25: 対策履歴 | P25: 監視（日常巡視） | S25: 実施状況（実施日） | U25: 継続
B26: メモ | E26: 横断目地部(天端)に木片混入。 | M26: メモ | P26: 監査歩路に滞水。拡大。
C27: ※ 応急措置後の対策区分の判定区分Ⅱb～Ⅳについて添付すること。また、点検前に 実施された措置によりⅠと判定された箇所も添付すること。 | N27: ※ 変状の発生範囲の規模とは、対策を行う際に参考となる変状の長さや面積をいう。
N28: ※ 応急措置を実施しないで判定した変状の判定区分は、判定区分の応急措置後の欄に記入すること。
C29: ※ たたき落としを実施した場合は、実施後の写真を添付すること。 | N29: ※ 変状の発生範囲の規模は、面積・寸法を記載すること。(ひび割れ幅のみmmとし、その他をm表記とする)
C30: ※ 附属物の取付状態に関する異常写真は別途、任意の書式でとりまとめること。 | N30: ※ 構造用鋼材以外の異物に伴ううき・はく離については、メモ欄に異物の概要を記入すること。

Sheet 様式D-1-1_007
B2: ■定期点検記録様式 変状写真台帳【様式D-1-1】 | R2: 施設ID | T2: 34.09797,131.54189
B3: フリガナ | E3: (ｻﾊﾞﾔﾏｽﾞｲﾄﾞｳ(ﾉﾎﾞﾘ)) | H3: 路 線 名 | J3: 国道262号 | M3: 定期点検実施者 | P3: 大日本ダイヤコンサルタント株式会社 | S3: 定期点検年月日 | U3: 45635
B4: 名 称 | E4: 佐波山隧道(上り) | H4: 管理者名 | J4: 山口県防府土木建築事務所 | P4: 斉藤 寿英
B5: 写真 番号 | C5: 覆工スパン 番号 | E5: S007 | M5: 写真 番号 | N5: 覆工スパン 番号 | P5: S008
C6: 変状番号 | E6: 5 | N6: 変状番号 | P6: 1
B7: 変状 部位 | C7: 対象箇所 | E7: 覆工 | M7: 変状 部位 | N7: 対象箇所 | P7: 覆工
C8: 部位区分 | E8: アーチ（天端） | N8: 部位区分 | P8: アーチ（左側）
B9: 変状種類 | E9: 漏水 | M9: 変状種類 | P9: 漏水
B10: 対策 区分 | C10: 変状区分 | E10: 漏水 | M10: 対策 区分 | N10: 変状区分 | P10: 漏水
C11: 応急措置前 | N11: 応急措置前
C12: 応急措置後 | E12: Ⅱb | N12: 応急措置後 | P12: Ⅱb
B13: 変状の発生範囲及び規模 | E13: 8.00m×0.50m | H13: 前回変状の発生範囲及び規模 | J13: 今回新規変状 | M13: 変状の発生範囲及び規模 | P13: 3.25m×0.50m | S13: 前回変状の発生範囲及び規模 | U13: にじみ (判定Ⅱb)
B14: 対策履歴 | E14: ― | H14: 実施状況（実施日） | J14: ― | M14: 対策履歴 | P14: 監視（日常巡視） | S14: 実施状況（実施日） | U14: 継続
B15: メモ | E15: アーチ部(天端)にひび割れ沿いの滴水(滞水無し)。 | M15: メモ | P15: アーチ部(左側)にひび割れ沿いのにじみ(滞水無し)。
B16: 写真 番号 | C16: 覆工スパン 番号 | E16: S008 | M16: 写真 番号 | N16: 覆工スパン 番号 | P16: S008
C17: 変状番号 | E17: 2 | N17: 変状番号 | P17: 3
B18: 変状 部位 | C18: 対象箇所 | E18: 覆工 | M18: 変状 部位 | N18: 対象箇所 | P18: 路面
C19: 部位区分 | E19: 横断目地（天端） | N19: 部位区分 | P19: 側溝
B20: 変状種類 | E20: その他 | M20: 変状種類 | P20: その他
B21: 対策 区分 | C21: 変状区分 | E21: 材質劣化 | M21: 対策 区分 | N21: 変状区分
C22: 応急措置前 | N22: 応急措置前
C23: 応急措置後 | E23: Ⅱb | N23: 応急措置後
B24: 変状の発生範囲及び規模 | E24: 0.40m×0.05m | H24: 前回変状の発生範囲及び規模 | J24: 0.4m×0.05m (判定Ⅱb) | M24: 変状の発生範囲及び規模 | P24: 0.30m×0.10m、(うき)0.10m×0.05m | S24: 前回変状の発生範囲及び規模 | U24: 今回新規変状
B25: 対策履歴 | E25: 監視（日常巡視） | H25: 実施状況（実施日） | J25: 継続 | M25: 対策履歴 | P25: ― | S25: 実施状況（実施日） | U25: ―
B26: メモ | E26: 横断目地部(天端)に木片混入。 | M26: メモ | P26: 側溝に蓋欠損・うき。
C27: ※ 応急措置後の対策区分の判定区分Ⅱb～Ⅳについて添付すること。また、点検前に 実施された措置によりⅠと判定された箇所も添付すること。 | N27: ※ 変状の発生範囲の規模とは、対策を行う際に参考となる変状の長さや面積をいう。
N28: ※ 応急措置を実施しないで判定した変状の判定区分は、判定区分の応急措置後の欄に記入すること。
C29: ※ たたき落としを実施した場合は、実施後の写真を添付すること。 | N29: ※ 変状の発生範囲の規模は、面積・寸法を記載すること。(ひび割れ幅のみmmとし、その他をm表記とする)
C30: ※ 附属物の取付状態に関する異常写真は別途、任意の書式でとりまとめること。 | N30: ※ 構造用鋼材以外の異物に伴ううき・はく離については、メモ欄に異物の概要を記入すること。

Sheet 様式D-1-1_008
B2: ■定期点検記録様式 変状写真台帳【様式D-1-1】 | R2: 施設ID | T2: 34.09797,131.54189
B3: フリガナ | E3: (ｻﾊﾞﾔﾏｽﾞｲﾄﾞｳ(ﾉﾎﾞﾘ)) | H3: 路 線 名 | J3: 国道262号 | M3: 定期点検実施者 | P3: 大日本ダイヤコンサルタント株式会社 | S3: 定期点検年月日 | U3: 45635
B4: 名 称 | E4: 佐波山隧道(上り) | H4: 管理者名 | J4: 山口県防府土木建築事務所 | P4: 斉藤 寿英
B5: 写真 番号 | C5: 覆工スパン 番号 | E5: S009 | M5: 写真 番号 | N5: 覆工スパン 番号 | P5: S009
C6: 変状番号 | E6: 1 | N6: 変状番号 | P6: 2
B7: 変状 部位 | C7: 対象箇所 | E7: 路面 | M7: 変状 部位 | N7: 対象箇所 | P7: 覆工
C8: 部位区分 | E8: 監査歩路 | N8: 部位区分 | P8: 水平打ち継ぎ目（右側）
B9: 変状種類 | E9: その他 | M9: 変状種類 | P9: うき・はく離
B10: 対策 区分 | C10: 変状区分 | M10: 対策 区分 | N10: 変状区分 | P10: 材質劣化
C11: 応急措置前 | N11: 応急措置前
C12: 応急措置後 | N12: 応急措置後 | P12: Ⅱb
B13: 変状の発生範囲及び規模 | E13: 0.20m×0.70m | H13: 前回変状の発生範囲及び規模 | J13: 0.2m×0.5m (判定Ⅱb) | M13: 変状の発生範囲及び規模 | P13: 0.20m×0.25m | S13: 前回変状の発生範囲及び規模 | U13: 今回新規変状
B14: 対策履歴 | E14: 監視（日常巡視） | H14: 実施状況（実施日） | J14: 継続 | M14: 対策履歴 | P14: ― | S14: 実施状況（実施日） | U14: ―
B15: メモ | E15: 監査歩路に縁石劣化。拡大。 | M15: メモ | P15: 水平打ち継ぎ目(右側)沿いにうき。閉合ひび割れ無し。利用者被害無し。打音異常有り。
B16: 写真 番号 | C16: 覆工スパン 番号 | E16: S009 | M16: 写真 番号 | N16: 覆工スパン 番号 | P16: S009
C17: 変状番号 | E17: 3 | N17: 変状番号 | P17: 4
B18: 変状 部位 | C18: 対象箇所 | E18: 路面 | M18: 変状 部位 | N18: 対象箇所 | P18: 路面
C19: 部位区分 | E19: 側溝 | N19: 部位区分 | P19: 歩道
B20: 変状種類 | E20: その他 | M20: 変状種類 | P20: 滞水
B21: 対策 区分 | C21: 変状区分 | M21: 対策 区分 | N21: 変状区分 | P21: 漏水
C22: 応急措置前 | N22: 応急措置前
C23: 応急措置後 | N23: 応急措置後 | P23: Ⅱb
B24: 変状の発生範囲及び規模 | E24: 0.40m×0.10m | H24: 前回変状の発生範囲及び規模 | J24: 今回新規変状 | M24: 変状の発生範囲及び規模 | P24: 0.80m×3.65m | S24: 前回変状の発生範囲及び規模 | U24: 今回新規変状
B25: 対策履歴 | E25: ― | H25: 実施状況（実施日） | J25: ― | M25: 対策履歴 | P25: ― | S25: 実施状況（実施日） | U25: ―
B26: メモ | E26: 側溝に蓋欠損(鋼材露出)。 | M26: メモ | P26: 歩道に滞水。
C27: ※ 応急措置後の対策区分の判定区分Ⅱb～Ⅳについて添付すること。また、点検前に 実施された措置によりⅠと判定された箇所も添付すること。 | N27: ※ 変状の発生範囲の規模とは、対策を行う際に参考となる変状の長さや面積をいう。
N28: ※ 応急措置を実施しないで判定した変状の判定区分は、判定区分の応急措置後の欄に記入すること。
C29: ※ たたき落としを実施した場合は、実施後の写真を添付すること。 | N29: ※ 変状の発生範囲の規模は、面積・寸法を記載すること。(ひび割れ幅のみmmとし、その他をm表記とする)
C30: ※ 附属物の取付状態に関する異常写真は別途、任意の書式でとりまとめること。 | N30: ※ 構造用鋼材以外の異物に伴ううき・はく離については、メモ欄に異物の概要を記入すること。

Sheet 様式D-1-1_009
B2: ■定期点検記録様式 変状写真台帳【様式D-1-1】 | R2: 施設ID | T2: 34.09797,131.54189
B3: フリガナ | E3: (ｻﾊﾞﾔﾏｽﾞｲﾄﾞｳ(ﾉﾎﾞﾘ)) | H3: 路 線 名 | J3: 国道262号 | M3: 定期点検実施者 | P3: 大日本ダイヤコンサルタント株式会社 | S3: 定期点検年月日 | U3: 45635
B4: 名 称 | E4: 佐波山隧道(上り) | H4: 管理者名 | J4: 山口県防府土木建築事務所 | P4: 斉藤 寿英
B5: 写真 番号 | C5: 覆工スパン 番号 | E5: S010 | M5: 写真 番号 | N5: 覆工スパン 番号 | P5: S010
C6: 変状番号 | E6: 1 | N6: 変状番号 | P6: 2
B7: 変状 部位 | C7: 対象箇所 | E7: 覆工 | M7: 変状 部位 | N7: 対象箇所 | P7: 内装板
C8: 部位区分 | E8: アーチ（右側） | N8: 部位区分 | P8: 側壁
B9: 変状種類 | E9: 漏水 | M9: 変状種類 | P9: その他
B10: 対策 区分 | C10: 変状区分 | E10: 漏水 | M10: 対策 区分 | N10: 変状区分 | P10: 材質劣化
C11: 応急措置前 | N11: 応急措置前
C12: 応急措置後 | E12: Ⅱb | N12: 応急措置後 | P12: Ⅱb
B13: 変状の発生範囲及び規模 | E13: 5.05m×1.25m | H13: 前回変状の発生範囲及び規模 | J13: にじみ (判定Ⅱb) | M13: 変状の発生範囲及び規模 | P13: 0.25m×0.10m | S13: 前回変状の発生範囲及び規模 | U13: 今回新規変状
B14: 対策履歴 | E14: 監視（日常巡視） | H14: 実施状況（実施日） | J14: 継続 | M14: 対策履歴 | P14: ― | S14: 実施状況（実施日） | U14: ―
B15: メモ | E15: アーチ部(右側)にひび割れ沿いの漏水跡(滞水無し)。 | M15: メモ | P15: 内装板に内装板破損。
B16: 写真 番号 | C16: 覆工スパン 番号 | E16: S011 | M16: 写真 番号 | N16: 覆工スパン 番号 | P16: S011
C17: 変状番号 | E17: 1 | N17: 変状番号 | P17: 2
B18: 変状 部位 | C18: 対象箇所 | E18: 覆工 | M18: 変状 部位 | N18: 対象箇所 | P18: 覆工
C19: 部位区分 | E19: アーチ（左側） | N19: 部位区分 | P19: 水平打ち継ぎ目（左側）
B20: 変状種類 | E20: 漏水 | M20: 変状種類 | P20: その他
B21: 対策 区分 | C21: 変状区分 | E21: 漏水 | M21: 対策 区分 | N21: 変状区分 | P21: 材質劣化
C22: 応急措置前 | N22: 応急措置前
C23: 応急措置後 | E23: Ⅱb | N23: 応急措置後 | P23: Ⅰ
B24: 変状の発生範囲及び規模 | E24: 3.65m×0.50m | H24: 前回変状の発生範囲及び規模 | J24: にじみ (判定Ⅱb) | M24: 変状の発生範囲及び規模 | P24: ― | S24: 前回変状の発生範囲及び規模 | U24: うき 0.2m×0.4m Ⅱb
B25: 対策履歴 | E25: 監視（日常巡視） | H25: 実施状況（実施日） | J25: 継続 | M25: 対策履歴 | P25: はく落防止対策工を実施 | S25: 実施状況（実施日） | U25: 済
B26: メモ | E26: アーチ部(左側)にひび割れ沿いのにじみ(滞水無し)。 | M26: メモ | P26: 水平打ち継ぎ目(左側)沿いにはく落防止対策工(はつり工)を実施。
C27: ※ 応急措置後の対策区分の判定区分Ⅱb～Ⅳについて添付すること。また、点検前に 実施された措置によりⅠと判定された箇所も添付すること。 | N27: ※ 変状の発生範囲の規模とは、対策を行う際に参考となる変状の長さや面積をいう。
N28: ※ 応急措置を実施しないで判定した変状の判定区分は、判定区分の応急措置後の欄に記入すること。
C29: ※ たたき落としを実施した場合は、実施後の写真を添付すること。 | N29: ※ 変状の発生範囲の規模は、面積・寸法を記載すること。(ひび割れ幅のみmmとし、その他をm表記とする)
C30: ※ 附属物の取付状態に関する異常写真は別途、任意の書式でとりまとめること。 | N30: ※ 構造用鋼材以外の異物に伴ううき・はく離については、メモ欄に異物の概要を記入すること。

Sheet 様式D-1-1_010
B2: ■定期点検記録様式 変状写真台帳【様式D-1-1】 | R2: 施設ID | T2: 34.09797,131.54189
B3: フリガナ | E3: (ｻﾊﾞﾔﾏｽﾞｲﾄﾞｳ(ﾉﾎﾞﾘ)) | H3: 路 線 名 | J3: 国道262号 | M3: 定期点検実施者 | P3: 大日本ダイヤコンサルタント株式会社 | S3: 定期点検年月日 | U3: 45635
B4: 名 称 | E4: 佐波山隧道(上り) | H4: 管理者名 | J4: 山口県防府土木建築事務所 | P4: 斉藤 寿英
B5: 写真 番号 | C5: 覆工スパン 番号 | E5: S011 | M5: 写真 番号 | N5: 覆工スパン 番号 | P5: S011
C6: 変状番号 | E6: 3 | N6: 変状番号 | P6: 4
B7: 変状 部位 | C7: 対象箇所 | E7: 覆工 | M7: 変状 部位 | N7: 対象箇所 | P7: 覆工
C8: 部位区分 | E8: アーチ（左側） | N8: 部位区分 | P8: アーチ（右側）
B9: 変状種類 | E9: 鋼材腐食 | M9: 変状種類 | P9: 漏水
B10: 対策 区分 | C10: 変状区分 | E10: 材質劣化 | M10: 対策 区分 | N10: 変状区分 | P10: 漏水
C11: 応急措置前 | N11: 応急措置前
C12: 応急措置後 | E12: Ⅱa | N12: 応急措置後 | P12: Ⅱb
B13: 変状の発生範囲及び規模 | E13: 0.25m×0.25m | H13: 前回変状の発生範囲及び規模 | J13: 0.25m×0.25m (判定Ⅱa) | M13: 変状の発生範囲及び規模 | P13: 3.40m×0.80m | S13: 前回変状の発生範囲及び規模 | U13: にじみ (判定Ⅱb)
B14: 対策履歴 | E14: はく落防止対策工を実施 | H14: 実施状況（実施日） | J14: 未 | M14: 対策履歴 | P14: 監視（日常巡視） | S14: 実施状況（実施日） | U14: 継続
B15: メモ | E15: アーチ部(左側)に鋼材露出(はく落)。 | M15: メモ | P15: アーチ部(右側)にひび割れ沿いのにじみ(滞水有り)。
B16: 写真 番号 | C16: 覆工スパン 番号 | E16: S011 | M16: 写真 番号 | N16: 覆工スパン 番号 | P16: S012
C17: 変状番号 | E17: 5 | N17: 変状番号 | P17: 1
B18: 変状 部位 | C18: 対象箇所 | E18: 路面 | M18: 変状 部位 | N18: 対象箇所 | P18: 路面
C19: 部位区分 | E19: 歩道 | N19: 部位区分 | P19: 監査歩路
B20: 変状種類 | E20: 滞水 | M20: 変状種類 | P20: その他
B21: 対策 区分 | C21: 変状区分 | E21: 漏水 | M21: 対策 区分 | N21: 変状区分
C22: 応急措置前 | N22: 応急措置前
C23: 応急措置後 | E23: Ⅱb | N23: 応急措置後
B24: 変状の発生範囲及び規模 | E24: 0.60m×5.00m | H24: 前回変状の発生範囲及び規模 | J24: 滞水 (判定Ⅱb) | M24: 変状の発生範囲及び規模 | P24: 0.20m×1.10m | S24: 前回変状の発生範囲及び規模 | U24: 0.2m×1.1m (判定Ⅱb)
B25: 対策履歴 | E25: 監視（日常巡視） | H25: 実施状況（実施日） | J25: 継続 | M25: 対策履歴 | P25: 監視（日常巡視） | S25: 実施状況（実施日） | U25: 継続
B26: メモ | E26: 歩道に滞水。 | M26: メモ | P26: 監査歩路に縁石劣化。
C27: ※ 応急措置後の対策区分の判定区分Ⅱb～Ⅳについて添付すること。また、点検前に 実施された措置によりⅠと判定された箇所も添付すること。 | N27: ※ 変状の発生範囲の規模とは、対策を行う際に参考となる変状の長さや面積をいう。
N28: ※ 応急措置を実施しないで判定した変状の判定区分は、判定区分の応急措置後の欄に記入すること。
C29: ※ たたき落としを実施した場合は、実施後の写真を添付すること。 | N29: ※ 変状の発生範囲の規模は、面積・寸法を記載すること。(ひび割れ幅のみmmとし、その他をm表記とする)
C30: ※ 附属物の取付状態に関する異常写真は別途、任意の書式でとりまとめること。 | N30: ※ 構造用鋼材以外の異物に伴ううき・はく離については、メモ欄に異物の概要を記入すること。

Sheet 様式D-1-1_011
B2: ■定期点検記録様式 変状写真台帳【様式D-1-1】 | R2: 施設ID | T2: 34.09797,131.54189
B3: フリガナ | E3: (ｻﾊﾞﾔﾏｽﾞｲﾄﾞｳ(ﾉﾎﾞﾘ)) | H3: 路 線 名 | J3: 国道262号 | M3: 定期点検実施者 | P3: 大日本ダイヤコンサルタント株式会社 | S3: 定期点検年月日 | U3: 45635
B4: 名 称 | E4: 佐波山隧道(上り) | H4: 管理者名 | J4: 山口県防府土木建築事務所 | P4: 斉藤 寿英
B5: 写真 番号 | C5: 覆工スパン 番号 | E5: S013 | M5: 写真 番号 | N5: 覆工スパン 番号 | P5: S013
C6: 変状番号 | E6: 1 | N6: 変状番号 | P6: 2
B7: 変状 部位 | C7: 対象箇所 | E7: 覆工 | M7: 変状 部位 | N7: 対象箇所 | P7: 覆工
C8: 部位区分 | E8: 水平打ち継ぎ目（左側） | N8: 部位区分 | P8: アーチ（天端）
B9: 変状種類 | E9: うき・はく離 | M9: 変状種類 | P9: 漏水
B10: 対策 区分 | C10: 変状区分 | E10: 材質劣化 | M10: 対策 区分 | N10: 変状区分 | P10: 漏水
C11: 応急措置前 | N11: 応急措置前
C12: 応急措置後 | E12: Ⅱb | N12: 応急措置後 | P12: Ⅱa
B13: 変状の発生範囲及び規模 | E13: 0.20m×0.70m | H13: 前回変状の発生範囲及び規模 | J13: 0.2m×0.7m (判定Ⅱb) | M13: 変状の発生範囲及び規模 | P13: 8.00m×0.85m | S13: 前回変状の発生範囲及び規模 | U13: 今回新規変状
B14: 対策履歴 | E14: 監視（日常巡視） | H14: 実施状況（実施日） | J14: 継続 | M14: 対策履歴 | P14: ― | S14: 実施状況（実施日） | U14: ―
B15: メモ | E15: 水平打ち継ぎ目(左側)沿いにうき。閉合ひび割れ無し。利用者被害無し。打音異常有り。 | M15: メモ | P15: アーチ部(天端)にひび割れ沿いの滴水(滞水有り)。
B16: 写真 番号 | C16: 覆工スパン 番号 | E16: S014 | M16: 写真 番号 | N16: 覆工スパン 番号 | P16: S014
C17: 変状番号 | E17: 1 | N17: 変状番号 | P17: 2
B18: 変状 部位 | C18: 対象箇所 | E18: 覆工 | M18: 変状 部位 | N18: 対象箇所 | P18: 覆工
C19: 部位区分 | E19: アーチ（右側） | N19: 部位区分 | P19: 横断目地（右側）
B20: 変状種類 | E20: 鋼材腐食 | M20: 変状種類 | P20: 漏水
B21: 対策 区分 | C21: 変状区分 | E21: 材質劣化 | M21: 対策 区分 | N21: 変状区分 | P21: 漏水
C22: 応急措置前 | N22: 応急措置前
C23: 応急措置後 | E23: Ⅱa | N23: 応急措置後 | P23: Ⅱb
B24: 変状の発生範囲及び規模 | E24: 0.05m×0.20m | H24: 前回変状の発生範囲及び規模 | J24: 0.05m×0.2m (判定Ⅱa) | M24: 変状の発生範囲及び規模 | P24: 4.65m×0.75m | S24: 前回変状の発生範囲及び規模 | U24: にじみ (判定Ⅱb)
B25: 対策履歴 | E25: はく落防止対策工を実施 | H25: 実施状況（実施日） | J25: 未 | M25: 対策履歴 | P25: 監視（日常巡視） | S25: 実施状況（実施日） | U25: 継続
B26: メモ | E26: アーチ部(右側)に鋼材露出。 | M26: メモ | P26: 横断目地部(アーチ右側)ににじみ(滞水無し)。
C27: ※ 応急措置後の対策区分の判定区分Ⅱb～Ⅳについて添付すること。また、点検前に 実施された措置によりⅠと判定された箇所も添付すること。 | N27: ※ 変状の発生範囲の規模とは、対策を行う際に参考となる変状の長さや面積をいう。
N28: ※ 応急措置を実施しないで判定した変状の判定区分は、判定区分の応急措置後の欄に記入すること。
C29: ※ たたき落としを実施した場合は、実施後の写真を添付すること。 | N29: ※ 変状の発生範囲の規模は、面積・寸法を記載すること。(ひび割れ幅のみmmとし、その他をm表記とする)
C30: ※ 附属物の取付状態に関する異常写真は別途、任意の書式でとりまとめること。 | N30: ※ 構造用鋼材以外の異物に伴ううき・はく離については、メモ欄に異物の概要を記入すること。

Sheet 様式D-1-1_012
B2: ■定期点検記録様式 変状写真台帳【様式D-1-1】 | R2: 施設ID | T2: 34.09797,131.54189
B3: フリガナ | E3: (ｻﾊﾞﾔﾏｽﾞｲﾄﾞｳ(ﾉﾎﾞﾘ)) | H3: 路 線 名 | J3: 国道262号 | M3: 定期点検実施者 | P3: 大日本ダイヤコンサルタント株式会社 | S3: 定期点検年月日 | U3: 45635
B4: 名 称 | E4: 佐波山隧道(上り) | H4: 管理者名 | J4: 山口県防府土木建築事務所 | P4: 斉藤 寿英
B5: 写真 番号 | C5: 覆工スパン 番号 | E5: S014 | M5: 写真 番号 | N5: 覆工スパン 番号 | P5: S014
C6: 変状番号 | E6: 3 | N6: 変状番号 | P6: 4
B7: 変状 部位 | C7: 対象箇所 | E7: 内装板 | M7: 変状 部位 | N7: 対象箇所 | P7: 路面
C8: 部位区分 | E8: 側壁 | N8: 部位区分 | P8: 監査歩路
B9: 変状種類 | E9: その他 | M9: 変状種類 | P9: その他
B10: 対策 区分 | C10: 変状区分 | E10: 材質劣化 | M10: 対策 区分 | N10: 変状区分
C11: 応急措置前 | N11: 応急措置前
C12: 応急措置後 | E12: Ⅱb | N12: 応急措置後
B13: 変状の発生範囲及び規模 | E13: 0.20m×0.20m | H13: 前回変状の発生範囲及び規模 | J13: 0.2m×0.2m (判定Ⅱb) | M13: 変状の発生範囲及び規模 | P13: 0.20m×20.00m | S13: 前回変状の発生範囲及び規模 | U13: 0.2m×20.0m (判定Ⅱb)
B14: 対策履歴 | E14: 監視（日常巡視） | H14: 実施状況（実施日） | J14: 継続 | M14: 対策履歴 | P14: 監視（日常巡視） | S14: 実施状況（実施日） | U14: 継続
B15: メモ | E15: 内装板に内装板破損。 | M15: メモ | P15: 監査歩路に縁石劣化。
B16: 写真 番号 | C16: 覆工スパン 番号 | E16: S014 | M16: 写真 番号 | N16: 覆工スパン 番号 | P16: S015
C17: 変状番号 | E17: 5 | N17: 変状番号 | P17: 1
B18: 変状 部位 | C18: 対象箇所 | E18: 覆工 | M18: 変状 部位 | N18: 対象箇所 | P18: 覆工
C19: 部位区分 | E19: アーチ（天端） | N19: 部位区分 | P19: 横断目地（天端）
B20: 変状種類 | E20: 漏水 | M20: 変状種類 | P20: 漏水
B21: 対策 区分 | C21: 変状区分 | E21: 漏水 | M21: 対策 区分 | N21: 変状区分 | P21: 漏水
C22: 応急措置前 | N22: 応急措置前
C23: 応急措置後 | E23: Ⅱa | N23: 応急措置後 | P23: Ⅱb
B24: 変状の発生範囲及び規模 | E24: 8.50m×3.60m | H24: 前回変状の発生範囲及び規模 | J24: 今回新規変状 | M24: 変状の発生範囲及び規模 | P24: 8.70m×0.50m | S24: 前回変状の発生範囲及び規模 | U24: にじみ (判定Ⅱb)
B25: 対策履歴 | E25: ― | H25: 実施状況（実施日） | J25: ― | M25: 対策履歴 | P25: 監視（日常巡視） | S25: 実施状況（実施日） | U25: 継続
B26: メモ | E26: アーチ部(天端)に線導水からの滴水(滞水有り)。 | M26: メモ | P26: 横断目地部(天端)に漏水跡(滞水無し)。
C27: ※ 応急措置後の対策区分の判定区分Ⅱb～Ⅳについて添付すること。また、点検前に 実施された措置によりⅠと判定された箇所も添付すること。 | N27: ※ 変状の発生範囲の規模とは、対策を行う際に参考となる変状の長さや面積をいう。
N28: ※ 応急措置を実施しないで判定した変状の判定区分は、判定区分の応急措置後の欄に記入すること。
C29: ※ たたき落としを実施した場合は、実施後の写真を添付すること。 | N29: ※ 変状の発生範囲の規模は、面積・寸法を記載すること。(ひび割れ幅のみmmとし、その他をm表記とする)
C30: ※ 附属物の取付状態に関する異常写真は別途、任意の書式でとりまとめること。 | N30: ※ 構造用鋼材以外の異物に伴ううき・はく離については、メモ欄に異物の概要を記入すること。

Sheet 様式D-1-1_013
B2: ■定期点検記録様式 変状写真台帳【様式D-1-1】 | R2: 施設ID | T2: 34.09797,131.54189
B3: フリガナ | E3: (ｻﾊﾞﾔﾏｽﾞｲﾄﾞｳ(ﾉﾎﾞﾘ)) | H3: 路 線 名 | J3: 国道262号 | M3: 定期点検実施者 | P3: 大日本ダイヤコンサルタント株式会社 | S3: 定期点検年月日 | U3: 45635
B4: 名 称 | E4: 佐波山隧道(上り) | H4: 管理者名 | J4: 山口県防府土木建築事務所 | P4: 斉藤 寿英
B5: 写真 番号 | C5: 覆工スパン 番号 | E5: S015 | M5: 写真 番号 | N5: 覆工スパン 番号 | P5: S015
C6: 変状番号 | E6: 2 | N6: 変状番号 | P6: 3
B7: 変状 部位 | C7: 対象箇所 | E7: 路面 | M7: 変状 部位 | N7: 対象箇所 | P7: 路面
C8: 部位区分 | E8: 側溝 | N8: 部位区分 | P8: 側溝
B9: 変状種類 | E9: その他 | M9: 変状種類 | P9: その他
B10: 対策 区分 | C10: 変状区分 | M10: 対策 区分 | N10: 変状区分
C11: 応急措置前 | N11: 応急措置前
C12: 応急措置後 | N12: 応急措置後
B13: 変状の発生範囲及び規模 | E13: 0.40m×0.15m | H13: 前回変状の発生範囲及び規模 | J13: 今回新規変状 | M13: 変状の発生範囲及び規模 | P13: 0.30m×0.15m | S13: 前回変状の発生範囲及び規模 | U13: 今回新規変状
B14: 対策履歴 | E14: ― | H14: 実施状況（実施日） | J14: ― | M14: 対策履歴 | P14: ― | S14: 実施状況（実施日） | U14: ―
B15: メモ | E15: 側溝に蓋欠損(鋼材露出)。 | M15: メモ | P15: 側溝に蓋欠損(鋼材露出)。
B16: 写真 番号 | C16: 覆工スパン 番号 | E16: S016 | M16: 写真 番号 | N16: 覆工スパン 番号 | P16: S017
C17: 変状番号 | E17: 1 | N17: 変状番号 | P17: 1
B18: 変状 部位 | C18: 対象箇所 | E18: 内装板 | M18: 変状 部位 | N18: 対象箇所 | P18: 覆工
C19: 部位区分 | E19: 側壁 | N19: 部位区分 | P19: アーチ（右側）
B20: 変状種類 | E20: その他 | M20: 変状種類 | P20: 漏水
B21: 対策 区分 | C21: 変状区分 | E21: 材質劣化 | M21: 対策 区分 | N21: 変状区分 | P21: 漏水
C22: 応急措置前 | N22: 応急措置前
C23: 応急措置後 | E23: Ⅱb | N23: 応急措置後 | P23: Ⅱb
B24: 変状の発生範囲及び規模 | E24: 0.10m×0.15m | H24: 前回変状の発生範囲及び規模 | J24: 今回新規変状 | M24: 変状の発生範囲及び規模 | P24: 3.45m×1.25m | S24: 前回変状の発生範囲及び規模 | U24: 今回新規変状
B25: 対策履歴 | E25: ― | H25: 実施状況（実施日） | J25: ― | M25: 対策履歴 | P25: ― | S25: 実施状況（実施日） | U25: ―
B26: メモ | E26: 内装板に内装板破損。 | M26: メモ | P26: アーチ部(右側)にひび割れ沿いのにじみ(滞水有り)。
C27: ※ 応急措置後の対策区分の判定区分Ⅱb～Ⅳについて添付すること。また、点検前に 実施された措置によりⅠと判定された箇所も添付すること。 | N27: ※ 変状の発生範囲の規模とは、対策を行う際に参考となる変状の長さや面積をいう。
N28: ※ 応急措置を実施しないで判定した変状の判定区分は、判定区分の応急措置後の欄に記入すること。
C29: ※ たたき落としを実施した場合は、実施後の写真を添付すること。 | N29: ※ 変状の発生範囲の規模は、面積・寸法を記載すること。(ひび割れ幅のみmmとし、その他をm表記とする)
C30: ※ 附属物の取付状態に関する異常写真は別途、任意の書式でとりまとめること。 | N30: ※ 構造用鋼材以外の異物に伴ううき・はく離については、メモ欄に異物の概要を記入すること。

Sheet 様式D-1-1_014
B2: ■定期点検記録様式 変状写真台帳【様式D-1-1】 | R2: 施設ID | T2: 34.09797,131.54189
B3: フリガナ | E3: (ｻﾊﾞﾔﾏｽﾞｲﾄﾞｳ(ﾉﾎﾞﾘ)) | H3: 路 線 名 | J3: 国道262号 | M3: 定期点検実施者 | P3: 大日本ダイヤコンサルタント株式会社 | S3: 定期点検年月日 | U3: 45635
B4: 名 称 | E4: 佐波山隧道(上り) | H4: 管理者名 | J4: 山口県防府土木建築事務所 | P4: 斉藤 寿英
B5: 写真 番号 | C5: 覆工スパン 番号 | E5: S017 | M5: 写真 番号 | N5: 覆工スパン 番号 | P5: S017
C6: 変状番号 | E6: 2 | N6: 変状番号 | P6: 4
B7: 変状 部位 | C7: 対象箇所 | E7: 路面 | M7: 変状 部位 | N7: 対象箇所 | P7: 路面
C8: 部位区分 | E8: 側溝 | N8: 部位区分 | P8: 歩道
B9: 変状種類 | E9: その他 | M9: 変状種類 | P9: 滞水
B10: 対策 区分 | C10: 変状区分 | M10: 対策 区分 | N10: 変状区分 | P10: 漏水
C11: 応急措置前 | N11: 応急措置前
C12: 応急措置後 | N12: 応急措置後 | P12: Ⅱb
B13: 変状の発生範囲及び規模 | E13: 0.20m×0.10m | H13: 前回変状の発生範囲及び規模 | J13: 今回新規変状 | M13: 変状の発生範囲及び規模 | P13: 0.50m×2.35m | S13: 前回変状の発生範囲及び規模 | U13: 今回新規変状
B14: 対策履歴 | E14: ― | H14: 実施状況（実施日） | J14: ― | M14: 対策履歴 | P14: ― | S14: 実施状況（実施日） | U14: ―
B15: メモ | E15: 側溝に蓋欠損(鋼材露出)。 | M15: メモ | P15: 歩道に滞水。
B16: 写真 番号 | C16: 覆工スパン 番号 | E16: S018 | M16: 写真 番号 | N16: 覆工スパン 番号 | P16: S018
C17: 変状番号 | E17: 1 | N17: 変状番号 | P17: 2
B18: 変状 部位 | C18: 対象箇所 | E18: 路面 | M18: 変状 部位 | N18: 対象箇所 | P18: 路面
C19: 部位区分 | E19: 監査歩路 | N19: 部位区分 | P19: 監査歩路
B20: 変状種類 | E20: その他 | M20: 変状種類 | P20: その他
B21: 対策 区分 | C21: 変状区分 | M21: 対策 区分 | N21: 変状区分
C22: 応急措置前 | N22: 応急措置前
C23: 応急措置後 | N23: 応急措置後
B24: 変状の発生範囲及び規模 | E24: 0.20m×1.70m | H24: 前回変状の発生範囲及び規模 | J24: 0.2m×1.7m (判定Ⅱb) | M24: 変状の発生範囲及び規模 | P24: 0.20m×0.80m | S24: 前回変状の発生範囲及び規模 | U24: 0.2m×0.8m (判定Ⅱb)
B25: 対策履歴 | E25: 監視（日常巡視） | H25: 実施状況（実施日） | J25: 継続 | M25: 対策履歴 | P25: 監視（日常巡視） | S25: 実施状況（実施日） | U25: 継続
B26: メモ | E26: 監査歩路に縁石劣化。 | M26: メモ | P26: 監査歩路に縁石劣化。
C27: ※ 応急措置後の対策区分の判定区分Ⅱb～Ⅳについて添付すること。また、点検前に 実施された措置によりⅠと判定された箇所も添付すること。 | N27: ※ 変状の発生範囲の規模とは、対策を行う際に参考となる変状の長さや面積をいう。
N28: ※ 応急措置を実施しないで判定した変状の判定区分は、判定区分の応急措置後の欄に記入すること。
C29: ※ たたき落としを実施した場合は、実施後の写真を添付すること。 | N29: ※ 変状の発生範囲の規模は、面積・寸法を記載すること。(ひび割れ幅のみmmとし、その他をm表記とする)
C30: ※ 附属物の取付状態に関する異常写真は別途、任意の書式でとりまとめること。 | N30: ※ 構造用鋼材以外の異物に伴ううき・はく離については、メモ欄に異物の概要を記入すること。

Sheet 様式D-1-1_015
B2: ■定期点検記録様式 変状写真台帳【様式D-1-1】 | R2: 施設ID | T2: 34.09797,131.54189
B3: フリガナ | E3: (ｻﾊﾞﾔﾏｽﾞｲﾄﾞｳ(ﾉﾎﾞﾘ)) | H3: 路 線 名 | J3: 国道262号 | M3: 定期点検実施者 | P3: 大日本ダイヤコンサルタント株式会社 | S3: 定期点検年月日 | U3: 45635
B4: 名 称 | E4: 佐波山隧道(上り) | H4: 管理者名 | J4: 山口県防府土木建築事務所 | P4: 斉藤 寿英
B5: 写真 番号 | C5: 覆工スパン 番号 | E5: S018 | M5: 写真 番号 | N5: 覆工スパン 番号 | P5: S019
C6: 変状番号 | E6: 3 | N6: 変状番号 | P6: 1
B7: 変状 部位 | C7: 対象箇所 | E7: 覆工 | M7: 変状 部位 | N7: 対象箇所 | P7: 覆工
C8: 部位区分 | E8: 水平打ち継ぎ目（右側） | N8: 部位区分 | P8: 水平打ち継ぎ目（左側）
B9: 変状種類 | E9: うき・はく離 | M9: 変状種類 | P9: その他
B10: 対策 区分 | C10: 変状区分 | E10: 材質劣化 | M10: 対策 区分 | N10: 変状区分 | P10: 材質劣化
C11: 応急措置前 | N11: 応急措置前
C12: 応急措置後 | E12: Ⅱb | N12: 応急措置後 | P12: Ⅰ
B13: 変状の発生範囲及び規模 | E13: 0.20m×0.25m | H13: 前回変状の発生範囲及び規模 | J13: 今回新規変状 | M13: 変状の発生範囲及び規模 | P13: ― | S13: 前回変状の発生範囲及び規模 | U13: うき 0.2m×7.5m Ⅱb
B14: 対策履歴 | E14: ― | H14: 実施状況（実施日） | J14: ― | M14: 対策履歴 | P14: はく落防止対策工を実施 | S14: 実施状況（実施日） | U14: 済
B15: メモ | E15: 水平打ち継ぎ目(右側)沿いにうき。閉合ひび割れ無し。利用者被害無し。打音異常有り。 | M15: メモ | P15: 水平打ち継ぎ目(左側)沿いにはく落防止対策工(はつり工)を実施。
B16: 写真 番号 | C16: 覆工スパン 番号 | E16: S019 | M16: 写真 番号 | N16: 覆工スパン 番号 | P16: S019
C17: 変状番号 | E17: 2 | N17: 変状番号 | P17: 3
B18: 変状 部位 | C18: 対象箇所 | E18: 覆工 | M18: 変状 部位 | N18: 対象箇所 | P18: 路面
C19: 部位区分 | E19: 水平打ち継ぎ目（右側） | N19: 部位区分 | P19: 監査歩路
B20: 変状種類 | E20: その他 | M20: 変状種類 | P20: その他
B21: 対策 区分 | C21: 変状区分 | E21: 材質劣化 | M21: 対策 区分 | N21: 変状区分
C22: 応急措置前 | N22: 応急措置前
C23: 応急措置後 | E23: Ⅰ | N23: 応急措置後
B24: 変状の発生範囲及び規模 | E24: ― | H24: 前回変状の発生範囲及び規模 | J24: うき 0.2m×8.1m Ⅱb | M24: 変状の発生範囲及び規模 | P24: 0.20m×19.50m | S24: 前回変状の発生範囲及び規模 | U24: 0.2m×19.5m (判定Ⅱb)
B25: 対策履歴 | E25: はく落防止対策工を実施 | H25: 実施状況（実施日） | J25: 済 | M25: 対策履歴 | P25: 監視（日常巡視） | S25: 実施状況（実施日） | U25: 継続
B26: メモ | E26: 水平打ち継ぎ目(右側)沿いにはく落防止対策工(はつり工)を実施。 | M26: メモ | P26: 監査歩路に縁石劣化。
C27: ※ 応急措置後の対策区分の判定区分Ⅱb～Ⅳについて添付すること。また、点検前に 実施された措置によりⅠと判定された箇所も添付すること。 | N27: ※ 変状の発生範囲の規模とは、対策を行う際に参考となる変状の長さや面積をいう。
N28: ※ 応急措置を実施しないで判定した変状の判定区分は、判定区分の応急措置後の欄に記入すること。
C29: ※ たたき落としを実施した場合は、実施後の写真を添付すること。 | N29: ※ 変状の発生範囲の規模は、面積・寸法を記載すること。(ひび割れ幅のみmmとし、その他をm表記とする)
C30: ※ 附属物の取付状態に関する異常写真は別途、任意の書式でとりまとめること。 | N30: ※ 構造用鋼材以外の異物に伴ううき・はく離については、メモ欄に異物の概要を記入すること。

Sheet 様式D-1-1_016
B2: ■定期点検記録様式 変状写真台帳【様式D-1-1】 | R2: 施設ID | T2: 34.09797,131.54189
B3: フリガナ | E3: (ｻﾊﾞﾔﾏｽﾞｲﾄﾞｳ(ﾉﾎﾞﾘ)) | H3: 路 線 名 | J3: 国道262号 | M3: 定期点検実施者 | P3: 大日本ダイヤコンサルタント株式会社 | S3: 定期点検年月日 | U3: 45635
B4: 名 称 | E4: 佐波山隧道(上り) | H4: 管理者名 | J4: 山口県防府土木建築事務所 | P4: 斉藤 寿英
B5: 写真 番号 | C5: 覆工スパン 番号 | E5: S020 | M5: 写真 番号 | N5: 覆工スパン 番号 | P5: S021
C6: 変状番号 | E6: 1 | N6: 変状番号 | P6: 1
B7: 変状 部位 | C7: 対象箇所 | E7: 覆工 | M7: 変状 部位 | N7: 対象箇所 | P7: 路面
C8: 部位区分 | E8: 水平打ち継ぎ目（右側） | N8: 部位区分 | P8: 監査歩路
B9: 変状種類 | E9: うき・はく離 | M9: 変状種類 | P9: その他
B10: 対策 区分 | C10: 変状区分 | E10: 材質劣化 | M10: 対策 区分 | N10: 変状区分
C11: 応急措置前 | N11: 応急措置前
C12: 応急措置後 | E12: Ⅱb | N12: 応急措置後
B13: 変状の発生範囲及び規模 | E13: 0.20m×1.00m | H13: 前回変状の発生範囲及び規模 | J13: 今回新規変状 | M13: 変状の発生範囲及び規模 | P13: 0.20m×2.00m | S13: 前回変状の発生範囲及び規模 | U13: 今回新規変状
B14: 対策履歴 | E14: ― | H14: 実施状況（実施日） | J14: ― | M14: 対策履歴 | P14: ― | S14: 実施状況（実施日） | U14: ―
B15: メモ | E15: 水平打ち継ぎ目(右側)沿いにうき。閉合ひび割れ無し。利用者被害無し。打音異常有り。 | M15: メモ | P15: 監査歩路に縁石劣化。
B16: 写真 番号 | C16: 覆工スパン 番号 | E16: S022 | M16: 写真 番号 | N16: 覆工スパン 番号 | P16: S022
C17: 変状番号 | E17: 1 | N17: 変状番号 | P17: 2
B18: 変状 部位 | C18: 対象箇所 | E18: 覆工 | M18: 変状 部位 | N18: 対象箇所 | P18: 覆工
C19: 部位区分 | E19: 水平打ち継ぎ目（左側） | N19: 部位区分 | P19: 水平打ち継ぎ目（左側）
B20: 変状種類 | E20: その他 | M20: 変状種類 | P20: その他
B21: 対策 区分 | C21: 変状区分 | E21: 材質劣化 | M21: 対策 区分 | N21: 変状区分 | P21: 材質劣化
C22: 応急措置前 | N22: 応急措置前
C23: 応急措置後 | E23: Ⅰ | N23: 応急措置後 | P23: Ⅰ
B24: 変状の発生範囲及び規模 | E24: ― | H24: 前回変状の発生範囲及び規模 | J24: うき 0.2m×0.3m Ⅱb | M24: 変状の発生範囲及び規模 | P24: ― | S24: 前回変状の発生範囲及び規模 | U24: うき 0.2m×0.5m Ⅱb
B25: 対策履歴 | E25: はく落防止対策工を実施 | H25: 実施状況（実施日） | J25: 済 | M25: 対策履歴 | P25: はく落防止対策工を実施 | S25: 実施状況（実施日） | U25: 済
B26: メモ | E26: 水平打ち継ぎ目(左側)沿いにはく落防止対策工(はつり工)を実施。 | M26: メモ | P26: 水平打ち継ぎ目(左側)沿いにはく落防止対策工(はつり工)を実施。
C27: ※ 応急措置後の対策区分の判定区分Ⅱb～Ⅳについて添付すること。また、点検前に 実施された措置によりⅠと判定された箇所も添付すること。 | N27: ※ 変状の発生範囲の規模とは、対策を行う際に参考となる変状の長さや面積をいう。
N28: ※ 応急措置を実施しないで判定した変状の判定区分は、判定区分の応急措置後の欄に記入すること。
C29: ※ たたき落としを実施した場合は、実施後の写真を添付すること。 | N29: ※ 変状の発生範囲の規模は、面積・寸法を記載すること。(ひび割れ幅のみmmとし、その他をm表記とする)
C30: ※ 附属物の取付状態に関する異常写真は別途、任意の書式でとりまとめること。 | N30: ※ 構造用鋼材以外の異物に伴ううき・はく離については、メモ欄に異物の概要を記入すること。

Sheet 様式D-1-1_017
B2: ■定期点検記録様式 変状写真台帳【様式D-1-1】 | R2: 施設ID | T2: 34.09797,131.54189
B3: フリガナ | E3: (ｻﾊﾞﾔﾏｽﾞｲﾄﾞｳ(ﾉﾎﾞﾘ)) | H3: 路 線 名 | J3: 国道262号 | M3: 定期点検実施者 | P3: 大日本ダイヤコンサルタント株式会社 | S3: 定期点検年月日 | U3: 45635
B4: 名 称 | E4: 佐波山隧道(上り) | H4: 管理者名 | J4: 山口県防府土木建築事務所 | P4: 斉藤 寿英
B5: 写真 番号 | C5: 覆工スパン 番号 | E5: S022 | M5: 写真 番号 | N5: 覆工スパン 番号 | P5: S022
C6: 変状番号 | E6: 3 | N6: 変状番号 | P6: 4
B7: 変状 部位 | C7: 対象箇所 | E7: 覆工 | M7: 変状 部位 | N7: 対象箇所 | P7: 覆工
C8: 部位区分 | E8: 水平打ち継ぎ目（左側） | N8: 部位区分 | P8: アーチ（右側）
B9: 変状種類 | E9: その他 | M9: 変状種類 | P9: 漏水
B10: 対策 区分 | C10: 変状区分 | E10: 材質劣化 | M10: 対策 区分 | N10: 変状区分 | P10: 漏水
C11: 応急措置前 | N11: 応急措置前
C12: 応急措置後 | E12: Ⅰ | N12: 応急措置後 | P12: Ⅱb
B13: 変状の発生範囲及び規模 | E13: ― | H13: 前回変状の発生範囲及び規模 | J13: うき 0.2m×0.8m Ⅱb | M13: 変状の発生範囲及び規模 | P13: 2.70m×0.75m | S13: 前回変状の発生範囲及び規模 | U13: にじみ (判定Ⅱb)
B14: 対策履歴 | E14: はく落防止対策工を実施 | H14: 実施状況（実施日） | J14: 済 | M14: 対策履歴 | P14: 監視（日常巡視） | S14: 実施状況（実施日） | U14: 継続
B15: メモ | E15: 水平打ち継ぎ目(左側)沿いにはく落防止対策工(はつり工)を実施。 | M15: メモ | P15: アーチ部(右側)ににじみ(滞水無し)。
B16: 写真 番号 | C16: 覆工スパン 番号 | E16: S022 | M16: 写真 番号 | N16: 覆工スパン 番号 | P16: S023
C17: 変状番号 | E17: 5 | N17: 変状番号 | P17: 1
B18: 変状 部位 | C18: 対象箇所 | E18: 路面 | M18: 変状 部位 | N18: 対象箇所 | P18: 覆工
C19: 部位区分 | E19: 側溝 | N19: 部位区分 | P19: 水平打ち継ぎ目（左側）
B20: 変状種類 | E20: その他 | M20: 変状種類 | P20: うき・はく離
B21: 対策 区分 | C21: 変状区分 | M21: 対策 区分 | N21: 変状区分 | P21: 材質劣化
C22: 応急措置前 | N22: 応急措置前
C23: 応急措置後 | N23: 応急措置後 | P23: Ⅱb
B24: 変状の発生範囲及び規模 | E24: 0.30m×0.05m | H24: 前回変状の発生範囲及び規模 | J24: 今回新規変状 | M24: 変状の発生範囲及び規模 | P24: 0.20m×0.40m | S24: 前回変状の発生範囲及び規模 | U24: 0.2m×0.4m (判定Ⅱb)
B25: 対策履歴 | E25: ― | H25: 実施状況（実施日） | J25: ― | M25: 対策履歴 | P25: 監視（日常巡視） | S25: 実施状況（実施日） | U25: 継続
B26: メモ | E26: 側溝に蓋欠損(鋼材露出)。 | M26: メモ | P26: 水平打ち継ぎ目(左側)沿いにうき。閉合ひび割れ無し。利用者被害無し。打音異常有り。
C27: ※ 応急措置後の対策区分の判定区分Ⅱb～Ⅳについて添付すること。また、点検前に 実施された措置によりⅠと判定された箇所も添付すること。 | N27: ※ 変状の発生範囲の規模とは、対策を行う際に参考となる変状の長さや面積をいう。
N28: ※ 応急措置を実施しないで判定した変状の判定区分は、判定区分の応急措置後の欄に記入すること。
C29: ※ たたき落としを実施した場合は、実施後の写真を添付すること。 | N29: ※ 変状の発生範囲の規模は、面積・寸法を記載すること。(ひび割れ幅のみmmとし、その他をm表記とする)
C30: ※ 附属物の取付状態に関する異常写真は別途、任意の書式でとりまとめること。 | N30: ※ 構造用鋼材以外の異物に伴ううき・はく離については、メモ欄に異物の概要を記入すること。

Sheet 様式D-1-1_018
B2: ■定期点検記録様式 変状写真台帳【様式D-1-1】 | R2: 施設ID | T2: 34.09797,131.54189
B3: フリガナ | E3: (ｻﾊﾞﾔﾏｽﾞｲﾄﾞｳ(ﾉﾎﾞﾘ)) | H3: 路 線 名 | J3: 国道262号 | M3: 定期点検実施者 | P3: 大日本ダイヤコンサルタント株式会社 | S3: 定期点検年月日 | U3: 45635
B4: 名 称 | E4: 佐波山隧道(上り) | H4: 管理者名 | J4: 山口県防府土木建築事務所 | P4: 斉藤 寿英
B5: 写真 番号 | C5: 覆工スパン 番号 | E5: S023 | M5: 写真 番号 | N5: 覆工スパン 番号 | P5: S023
C6: 変状番号 | E6: 2 | N6: 変状番号 | P6: 3
B7: 変状 部位 | C7: 対象箇所 | E7: 路面 | M7: 変状 部位 | N7: 対象箇所 | P7: 覆工
C8: 部位区分 | E8: 監査歩路 | N8: 部位区分 | P8: 水平打ち継ぎ目（右側）
B9: 変状種類 | E9: その他 | M9: 変状種類 | P9: うき・はく離
B10: 対策 区分 | C10: 変状区分 | M10: 対策 区分 | N10: 変状区分 | P10: 材質劣化
C11: 応急措置前 | N11: 応急措置前
C12: 応急措置後 | N12: 応急措置後 | P12: Ⅱb
B13: 変状の発生範囲及び規模 | E13: 0.20m×22.50m | H13: 前回変状の発生範囲及び規模 | J13: 0.2m×22.5m (判定Ⅱb) | M13: 変状の発生範囲及び規模 | P13: 0.05m×0.40m | S13: 前回変状の発生範囲及び規模 | U13: 今回新規変状
B14: 対策履歴 | E14: 監視（日常巡視） | H14: 実施状況（実施日） | J14: 継続 | M14: 対策履歴 | P14: ― | S14: 実施状況（実施日） | U14: ―
B15: メモ | E15: 監査歩路に縁石劣化。 | M15: メモ | P15: 水平打ち継ぎ目(右側)沿いにうき。閉合ひび割れ無し。利用者被害無し。打音異常有り。
B16: 写真 番号 | C16: 覆工スパン 番号 | E16: S024 | M16: 写真 番号 | N16: 覆工スパン 番号 | P16: S025
C17: 変状番号 | E17: 1 | N17: 変状番号 | P17: 1
B18: 変状 部位 | C18: 対象箇所 | E18: 覆工 | M18: 変状 部位 | N18: 対象箇所 | P18: 覆工
C19: 部位区分 | E19: 水平打ち継ぎ目（左側） | N19: 部位区分 | P19: 水平打ち継ぎ目（右側）
B20: 変状種類 | E20: その他 | M20: 変状種類 | P20: うき・はく離
B21: 対策 区分 | C21: 変状区分 | E21: 材質劣化 | M21: 対策 区分 | N21: 変状区分 | P21: 材質劣化
C22: 応急措置前 | N22: 応急措置前
C23: 応急措置後 | E23: Ⅰ | N23: 応急措置後 | P23: Ⅱb
B24: 変状の発生範囲及び規模 | E24: ― | H24: 前回変状の発生範囲及び規模 | J24: うき 0.2m×0.4m Ⅱb | M24: 変状の発生範囲及び規模 | P24: 0.20m×2.00m | S24: 前回変状の発生範囲及び規模 | U24: 0.2m×2.0m (判定Ⅱb)
B25: 対策履歴 | E25: はく落防止対策工を実施 | H25: 実施状況（実施日） | J25: 済 | M25: 対策履歴 | P25: 監視（日常巡視） | S25: 実施状況（実施日） | U25: 継続
B26: メモ | E26: 水平打ち継ぎ目(左側)沿いにはく落防止対策工(はつり工)を実施。 | M26: メモ | P26: 水平打ち継ぎ目(右側)沿いにうき。閉合ひび割れ無し。利用者被害無し。打音異常有り。
C27: ※ 応急措置後の対策区分の判定区分Ⅱb～Ⅳについて添付すること。また、点検前に 実施された措置によりⅠと判定された箇所も添付すること。 | N27: ※ 変状の発生範囲の規模とは、対策を行う際に参考となる変状の長さや面積をいう。
N28: ※ 応急措置を実施しないで判定した変状の判定区分は、判定区分の応急措置後の欄に記入すること。
C29: ※ たたき落としを実施した場合は、実施後の写真を添付すること。 | N29: ※ 変状の発生範囲の規模は、面積・寸法を記載すること。(ひび割れ幅のみmmとし、その他をm表記とする)
C30: ※ 附属物の取付状態に関する異常写真は別途、任意の書式でとりまとめること。 | N30: ※ 構造用鋼材以外の異物に伴ううき・はく離については、メモ欄に異物の概要を記入すること。

Sheet 様式D-1-1_019
B2: ■定期点検記録様式 変状写真台帳【様式D-1-1】 | R2: 施設ID | T2: 34.09797,131.54189
B3: フリガナ | E3: (ｻﾊﾞﾔﾏｽﾞｲﾄﾞｳ(ﾉﾎﾞﾘ)) | H3: 路 線 名 | J3: 国道262号 | M3: 定期点検実施者 | P3: 大日本ダイヤコンサルタント株式会社 | S3: 定期点検年月日 | U3: 45635
B4: 名 称 | E4: 佐波山隧道(上り) | H4: 管理者名 | J4: 山口県防府土木建築事務所 | P4: 斉藤 寿英
B5: 写真 番号 | C5: 覆工スパン 番号 | E5: S025 | M5: 写真 番号 | N5: 覆工スパン 番号 | P5: S026
C6: 変状番号 | E6: 2 | N6: 変状番号 | P6: 1
B7: 変状 部位 | C7: 対象箇所 | E7: 路面 | M7: 変状 部位 | N7: 対象箇所 | P7: 覆工
C8: 部位区分 | E8: 側溝 | N8: 部位区分 | P8: 水平打ち継ぎ目（右側）
B9: 変状種類 | E9: その他 | M9: 変状種類 | P9: その他
B10: 対策 区分 | C10: 変状区分 | M10: 対策 区分 | N10: 変状区分 | P10: 材質劣化
C11: 応急措置前 | N11: 応急措置前
C12: 応急措置後 | N12: 応急措置後 | P12: Ⅰ
B13: 変状の発生範囲及び規模 | E13: 0.40m×0.10m | H13: 前回変状の発生範囲及び規模 | J13: 今回新規変状 | M13: 変状の発生範囲及び規模 | P13: ― | S13: 前回変状の発生範囲及び規模 | U13: うき 0.2m×1.5m Ⅱb
B14: 対策履歴 | E14: ― | H14: 実施状況（実施日） | J14: ― | M14: 対策履歴 | P14: はく落防止対策工を実施 | S14: 実施状況（実施日） | U14: 済
B15: メモ | E15: 側溝に蓋欠損(鋼材露出)。 | M15: メモ | P15: 水平打ち継ぎ目(右側)沿いにはく落防止対策工(はつり工)を実施。
B16: 写真 番号 | C16: 覆工スパン 番号 | E16: S026 | M16: 写真 番号 | N16: 覆工スパン 番号 | P16: S029
C17: 変状番号 | E17: 2 | N17: 変状番号 | P17: 1
B18: 変状 部位 | C18: 対象箇所 | E18: 路面 | M18: 変状 部位 | N18: 対象箇所 | P18: 覆工
C19: 部位区分 | E19: 側溝 | N19: 部位区分 | P19: 水平打ち継ぎ目（左側）
B20: 変状種類 | E20: その他 | M20: 変状種類 | P20: その他
B21: 対策 区分 | C21: 変状区分 | M21: 対策 区分 | N21: 変状区分 | P21: 材質劣化
C22: 応急措置前 | N22: 応急措置前
C23: 応急措置後 | N23: 応急措置後 | P23: Ⅰ
B24: 変状の発生範囲及び規模 | E24: 0.40m×0.05m、(うき)0.20m×0.05m | H24: 前回変状の発生範囲及び規模 | J24: 今回新規変状 | M24: 変状の発生範囲及び規模 | P24: ― | S24: 前回変状の発生範囲及び規模 | U24: うき 0.2m×0.5m Ⅱb
B25: 対策履歴 | E25: ― | H25: 実施状況（実施日） | J25: ― | M25: 対策履歴 | P25: はく落防止対策工を実施 | S25: 実施状況（実施日） | U25: 済
B26: メモ | E26: 側溝に蓋欠損・蓋うき(鋼材露出)。 | M26: メモ | P26: 水平打ち継ぎ目(左側)沿いにはく落防止対策工(はつり工)を実施。
C27: ※ 応急措置後の対策区分の判定区分Ⅱb～Ⅳについて添付すること。また、点検前に 実施された措置によりⅠと判定された箇所も添付すること。 | N27: ※ 変状の発生範囲の規模とは、対策を行う際に参考となる変状の長さや面積をいう。
N28: ※ 応急措置を実施しないで判定した変状の判定区分は、判定区分の応急措置後の欄に記入すること。
C29: ※ たたき落としを実施した場合は、実施後の写真を添付すること。 | N29: ※ 変状の発生範囲の規模は、面積・寸法を記載すること。(ひび割れ幅のみmmとし、その他をm表記とする)
C30: ※ 附属物の取付状態に関する異常写真は別途、任意の書式でとりまとめること。 | N30: ※ 構造用鋼材以外の異物に伴ううき・はく離については、メモ欄に異物の概要を記入すること。

Sheet 様式D-1-1_020
B2: ■定期点検記録様式 変状写真台帳【様式D-1-1】 | R2: 施設ID | T2: 34.09797,131.54189
B3: フリガナ | E3: (ｻﾊﾞﾔﾏｽﾞｲﾄﾞｳ(ﾉﾎﾞﾘ)) | H3: 路 線 名 | J3: 国道262号 | M3: 定期点検実施者 | P3: 大日本ダイヤコンサルタント株式会社 | S3: 定期点検年月日 | U3: 45635
B4: 名 称 | E4: 佐波山隧道(上り) | H4: 管理者名 | J4: 山口県防府土木建築事務所 | P4: 斉藤 寿英
B5: 写真 番号 | C5: 覆工スパン 番号 | E5: S029 | M5: 写真 番号 | N5: 覆工スパン 番号 | P5: S029
C6: 変状番号 | E6: 2 | N6: 変状番号 | P6: 3
B7: 変状 部位 | C7: 対象箇所 | E7: 覆工 | M7: 変状 部位 | N7: 対象箇所 | P7: 覆工
C8: 部位区分 | E8: 水平打ち継ぎ目（左側） | N8: 部位区分 | P8: アーチ（天端）
B9: 変状種類 | E9: その他 | M9: 変状種類 | P9: 漏水
B10: 対策 区分 | C10: 変状区分 | E10: 材質劣化 | M10: 対策 区分 | N10: 変状区分 | P10: 漏水
C11: 応急措置前 | N11: 応急措置前
C12: 応急措置後 | E12: Ⅰ | N12: 応急措置後 | P12: Ⅱb
B13: 変状の発生範囲及び規模 | E13: ― | H13: 前回変状の発生範囲及び規模 | J13: うき 0.2m×0.6m Ⅱb | M13: 変状の発生範囲及び規模 | P13: 7.20m×0.50m | S13: 前回変状の発生範囲及び規模 | U13: にじみ (判定Ⅱb)
B14: 対策履歴 | E14: はく落防止対策工を実施 | H14: 実施状況（実施日） | J14: 済 | M14: 対策履歴 | P14: 監視（日常巡視） | S14: 実施状況（実施日） | U14: 継続
B15: メモ | E15: 水平打ち継ぎ目(左側)沿いにはく落防止対策工(はつり工)を実施。 | M15: メモ | P15: アーチ部(天端)に線導水からのにじみ(滞水無し)。
B16: 写真 番号 | C16: 覆工スパン 番号 | E16: S029 | M16: 写真 番号 | N16: 覆工スパン 番号 | P16: S030
C17: 変状番号 | E17: 4 | N17: 変状番号 | P17: 1
B18: 変状 部位 | C18: 対象箇所 | E18: 覆工 | M18: 変状 部位 | N18: 対象箇所 | P18: 路面
C19: 部位区分 | E19: アーチ（天端） | N19: 部位区分 | P19: 監査歩路
B20: 変状種類 | E20: 漏水 | M20: 変状種類 | P20: その他
B21: 対策 区分 | C21: 変状区分 | E21: 漏水 | M21: 対策 区分 | N21: 変状区分
C22: 応急措置前 | N22: 応急措置前
C23: 応急措置後 | E23: Ⅱa | N23: 応急措置後
B24: 変状の発生範囲及び規模 | E24: 8.85m×0.50m | H24: 前回変状の発生範囲及び規模 | J24: 今回新規変状 | M24: 変状の発生範囲及び規模 | P24: 0.20m×37.50m | S24: 前回変状の発生範囲及び規模 | U24: 0.2m×37.5m (判定Ⅱb)
B25: 対策履歴 | E25: ― | H25: 実施状況（実施日） | J25: ― | M25: 対策履歴 | P25: 監視（日常巡視） | S25: 実施状況（実施日） | U25: 継続
B26: メモ | E26: アーチ部(天端)に線導水からの滴水(滞水無し)。 | M26: メモ | P26: 監査歩路に縁石劣化。
C27: ※ 応急措置後の対策区分の判定区分Ⅱb～Ⅳについて添付すること。また、点検前に 実施された措置によりⅠと判定された箇所も添付すること。 | N27: ※ 変状の発生範囲の規模とは、対策を行う際に参考となる変状の長さや面積をいう。
N28: ※ 応急措置を実施しないで判定した変状の判定区分は、判定区分の応急措置後の欄に記入すること。
C29: ※ たたき落としを実施した場合は、実施後の写真を添付すること。 | N29: ※ 変状の発生範囲の規模は、面積・寸法を記載すること。(ひび割れ幅のみmmとし、その他をm表記とする)
C30: ※ 附属物の取付状態に関する異常写真は別途、任意の書式でとりまとめること。 | N30: ※ 構造用鋼材以外の異物に伴ううき・はく離については、メモ欄に異物の概要を記入すること。

Sheet 様式D-1-1_021
B2: ■定期点検記録様式 変状写真台帳【様式D-1-1】 | R2: 施設ID | T2: 34.09797,131.54189
B3: フリガナ | E3: (ｻﾊﾞﾔﾏｽﾞｲﾄﾞｳ(ﾉﾎﾞﾘ)) | H3: 路 線 名 | J3: 国道262号 | M3: 定期点検実施者 | P3: 大日本ダイヤコンサルタント株式会社 | S3: 定期点検年月日 | U3: 45635
B4: 名 称 | E4: 佐波山隧道(上り) | H4: 管理者名 | J4: 山口県防府土木建築事務所 | P4: 斉藤 寿英
B5: 写真 番号 | C5: 覆工スパン 番号 | E5: S030 | M5: 写真 番号 | N5: 覆工スパン 番号 | P5: S032
C6: 変状番号 | E6: 2 | N6: 変状番号 | P6: 1
B7: 変状 部位 | C7: 対象箇所 | E7: 覆工 | M7: 変状 部位 | N7: 対象箇所 | P7: 覆工
C8: 部位区分 | E8: 水平打ち継ぎ目（右側） | N8: 部位区分 | P8: アーチ（天端）
B9: 変状種類 | E9: うき・はく離 | M9: 変状種類 | P9: 漏水
B10: 対策 区分 | C10: 変状区分 | E10: 材質劣化 | M10: 対策 区分 | N10: 変状区分 | P10: 漏水
C11: 応急措置前 | N11: 応急措置前
C12: 応急措置後 | E12: Ⅱb | N12: 応急措置後 | P12: Ⅱb
B13: 変状の発生範囲及び規模 | E13: 0.30m×0.10m | H13: 前回変状の発生範囲及び規模 | J13: 今回新規変状 | M13: 変状の発生範囲及び規模 | P13: 12.20m×0.50m | S13: 前回変状の発生範囲及び規模 | U13: にじみ (判定Ⅱb)
B14: 対策履歴 | E14: ― | H14: 実施状況（実施日） | J14: ― | M14: 対策履歴 | P14: 監視（日常巡視） | S14: 実施状況（実施日） | U14: 継続
B15: メモ | E15: 水平打ち継ぎ目(右側)沿いにうき。閉合ひび割れ無し。利用者被害無し。打音異常有り。 | M15: メモ | P15: アーチ部(天端)にひび割れ沿いの漏水跡(滞水無し)。
B16: 写真 番号 | C16: 覆工スパン 番号 | E16: S033 | M16: 写真 番号 | N16: 覆工スパン 番号 | P16: S033
C17: 変状番号 | E17: 1 | N17: 変状番号 | P17: 2
B18: 変状 部位 | C18: 対象箇所 | E18: 覆工 | M18: 変状 部位 | N18: 対象箇所 | P18: 覆工
C19: 部位区分 | E19: 水平打ち継ぎ目（左側） | N19: 部位区分 | P19: 横断目地（天端）
B20: 変状種類 | E20: その他 | M20: 変状種類 | P20: その他
B21: 対策 区分 | C21: 変状区分 | E21: 材質劣化 | M21: 対策 区分 | N21: 変状区分 | P21: 材質劣化
C22: 応急措置前 | N22: 応急措置前
C23: 応急措置後 | E23: Ⅰ | N23: 応急措置後 | P23: Ⅱb
B24: 変状の発生範囲及び規模 | E24: ― | H24: 前回変状の発生範囲及び規模 | J24: うき 0.2m×0.6m Ⅱb | M24: 変状の発生範囲及び規模 | P24: 0.30m×0.05m | S24: 前回変状の発生範囲及び規模 | U24: 0.3m×0.05m (判定Ⅱb)
B25: 対策履歴 | E25: はく落防止対策工を実施 | H25: 実施状況（実施日） | J25: 済 | M25: 対策履歴 | P25: 監視（日常巡視） | S25: 実施状況（実施日） | U25: 継続
B26: メモ | E26: 水平打ち継ぎ目(左側)沿いにはく落防止対策工(はつり工)を実施。 | M26: メモ | P26: 横断目地部(天端)に木片混入。
C27: ※ 応急措置後の対策区分の判定区分Ⅱb～Ⅳについて添付すること。また、点検前に 実施された措置によりⅠと判定された箇所も添付すること。 | N27: ※ 変状の発生範囲の規模とは、対策を行う際に参考となる変状の長さや面積をいう。
N28: ※ 応急措置を実施しないで判定した変状の判定区分は、判定区分の応急措置後の欄に記入すること。
C29: ※ たたき落としを実施した場合は、実施後の写真を添付すること。 | N29: ※ 変状の発生範囲の規模は、面積・寸法を記載すること。(ひび割れ幅のみmmとし、その他をm表記とする)
C30: ※ 附属物の取付状態に関する異常写真は別途、任意の書式でとりまとめること。 | N30: ※ 構造用鋼材以外の異物に伴ううき・はく離については、メモ欄に異物の概要を記入すること。

Sheet 様式D-1-1_022
B2: ■定期点検記録様式 変状写真台帳【様式D-1-1】 | R2: 施設ID | T2: 34.09797,131.54189
B3: フリガナ | E3: (ｻﾊﾞﾔﾏｽﾞｲﾄﾞｳ(ﾉﾎﾞﾘ)) | H3: 路 線 名 | J3: 国道262号 | M3: 定期点検実施者 | P3: 大日本ダイヤコンサルタント株式会社 | S3: 定期点検年月日 | U3: 45635
B4: 名 称 | E4: 佐波山隧道(上り) | H4: 管理者名 | J4: 山口県防府土木建築事務所 | P4: 斉藤 寿英
B5: 写真 番号 | C5: 覆工スパン 番号 | E5: S033 | M5: 写真 番号 | N5: 覆工スパン 番号 | P5: S033
C6: 変状番号 | E6: 3 | N6: 変状番号 | P6: 4
B7: 変状 部位 | C7: 対象箇所 | E7: 覆工 | M7: 変状 部位 | N7: 対象箇所 | P7: 覆工
C8: 部位区分 | E8: 横断目地（天端） | N8: 部位区分 | P8: アーチ（右側）
B9: 変状種類 | E9: 漏水 | M9: 変状種類 | P9: その他
B10: 対策 区分 | C10: 変状区分 | E10: 漏水 | M10: 対策 区分 | N10: 変状区分 | P10: 材質劣化
C11: 応急措置前 | N11: 応急措置前
C12: 応急措置後 | E12: Ⅱa | N12: 応急措置後 | P12: Ⅱb
B13: 変状の発生範囲及び規模 | E13: 8.45m×0.50m | H13: 前回変状の発生範囲及び規模 | J13: にじみ (判定Ⅱb) | M13: 変状の発生範囲及び規模 | P13: 1.20m×0.80m | S13: 前回変状の発生範囲及び規模 | U13: 1.2m×0.8m (判定Ⅱb)
B14: 対策履歴 | E14: 監視（日常巡視） | H14: 実施状況（実施日） | J14: 継続 | M14: 対策履歴 | P14: 監視（日常巡視） | S14: 実施状況（実施日） | U14: 継続
B15: メモ | E15: 横断目地部(天端)に滴水(滞水無し)。 | M15: メモ | P15: アーチ部(右側)に表面劣化。
B16: 写真 番号 | C16: 覆工スパン 番号 | E16: S034 | M16: 写真 番号 | N16: 覆工スパン 番号 | P16: S034
C17: 変状番号 | E17: 1 | N17: 変状番号 | P17: 2
B18: 変状 部位 | C18: 対象箇所 | E18: 覆工 | M18: 変状 部位 | N18: 対象箇所 | P18: 覆工
C19: 部位区分 | E19: 水平打ち継ぎ目（左側） | N19: 部位区分 | P19: 水平打ち継ぎ目（左側）
B20: 変状種類 | E20: その他 | M20: 変状種類 | P20: その他
B21: 対策 区分 | C21: 変状区分 | E21: 材質劣化 | M21: 対策 区分 | N21: 変状区分 | P21: 材質劣化
C22: 応急措置前 | N22: 応急措置前
C23: 応急措置後 | E23: Ⅰ | N23: 応急措置後 | P23: Ⅰ
B24: 変状の発生範囲及び規模 | E24: ― | H24: 前回変状の発生範囲及び規模 | J24: うき 0.2m×0.4m Ⅱb | M24: 変状の発生範囲及び規模 | P24: ― | S24: 前回変状の発生範囲及び規模 | U24: うき 0.2m×0.3m Ⅱb
B25: 対策履歴 | E25: はく落防止対策工を実施 | H25: 実施状況（実施日） | J25: 済 | M25: 対策履歴 | P25: はく落防止対策工を実施 | S25: 実施状況（実施日） | U25: 済
B26: メモ | E26: 水平打ち継ぎ目(左側)沿いにはく落防止対策工(はつり工)を実施。 | M26: メモ | P26: 水平打ち継ぎ目(左側)沿いにはく落防止対策工(はつり工)を実施。
C27: ※ 応急措置後の対策区分の判定区分Ⅱb～Ⅳについて添付すること。また、点検前に 実施された措置によりⅠと判定された箇所も添付すること。 | N27: ※ 変状の発生範囲の規模とは、対策を行う際に参考となる変状の長さや面積をいう。
N28: ※ 応急措置を実施しないで判定した変状の判定区分は、判定区分の応急措置後の欄に記入すること。
C29: ※ たたき落としを実施した場合は、実施後の写真を添付すること。 | N29: ※ 変状の発生範囲の規模は、面積・寸法を記載すること。(ひび割れ幅のみmmとし、その他をm表記とする)
C30: ※ 附属物の取付状態に関する異常写真は別途、任意の書式でとりまとめること。 | N30: ※ 構造用鋼材以外の異物に伴ううき・はく離については、メモ欄に異物の概要を記入すること。

Sheet 様式D-1-1_023
B2: ■定期点検記録様式 変状写真台帳【様式D-1-1】 | R2: 施設ID | T2: 34.09797,131.54189
B3: フリガナ | E3: (ｻﾊﾞﾔﾏｽﾞｲﾄﾞｳ(ﾉﾎﾞﾘ)) | H3: 路 線 名 | J3: 国道262号 | M3: 定期点検実施者 | P3: 大日本ダイヤコンサルタント株式会社 | S3: 定期点検年月日 | U3: 45635
B4: 名 称 | E4: 佐波山隧道(上り) | H4: 管理者名 | J4: 山口県防府土木建築事務所 | P4: 斉藤 寿英
B5: 写真 番号 | C5: 覆工スパン 番号 | E5: S034 | M5: 写真 番号 | N5: 覆工スパン 番号 | P5: S035
C6: 変状番号 | E6: 3 | N6: 変状番号 | P6: 1
B7: 変状 部位 | C7: 対象箇所 | E7: 路面 | M7: 変状 部位 | N7: 対象箇所 | P7: 覆工
C8: 部位区分 | E8: 側溝 | N8: 部位区分 | P8: 水平打ち継ぎ目（左側）
B9: 変状種類 | E9: その他 | M9: 変状種類 | P9: その他
B10: 対策 区分 | C10: 変状区分 | M10: 対策 区分 | N10: 変状区分 | P10: 材質劣化
C11: 応急措置前 | N11: 応急措置前
C12: 応急措置後 | N12: 応急措置後 | P12: Ⅰ
B13: 変状の発生範囲及び規模 | E13: 40mm | H13: 前回変状の発生範囲及び規模 | J13: 今回新規変状 | M13: 変状の発生範囲及び規模 | P13: ― | S13: 前回変状の発生範囲及び規模 | U13: うき 0.2m×0.5m Ⅱb
B14: 対策履歴 | E14: ― | H14: 実施状況（実施日） | J14: ― | M14: 対策履歴 | P14: はく落防止対策工を実施 | S14: 実施状況（実施日） | U14: 済
B15: メモ | E15: 側溝に蓋浮き上がりによる段差。 | M15: メモ | P15: 水平打ち継ぎ目(左側)沿いにはく落防止対策工(はつり工)を実施。
B16: 写真 番号 | C16: 覆工スパン 番号 | E16: S035 | M16: 写真 番号 | N16: 覆工スパン 番号 | P16: S035
C17: 変状番号 | E17: 2 | N17: 変状番号 | P17: 3
B18: 変状 部位 | C18: 対象箇所 | E18: 路面 | M18: 変状 部位 | N18: 対象箇所 | P18: 路面
C19: 部位区分 | E19: 側溝 | N19: 部位区分 | P19: 側溝
B20: 変状種類 | E20: その他 | M20: 変状種類 | P20: その他
B21: 対策 区分 | C21: 変状区分 | M21: 対策 区分 | N21: 変状区分
C22: 応急措置前 | N22: 応急措置前
C23: 応急措置後 | N23: 応急措置後
B24: 変状の発生範囲及び規模 | E24: 50mm | H24: 前回変状の発生範囲及び規模 | J24: 今回新規変状 | M24: 変状の発生範囲及び規模 | P24: 35mm | S24: 前回変状の発生範囲及び規模 | U24: 今回新規変状
B25: 対策履歴 | E25: ― | H25: 実施状況（実施日） | J25: ― | M25: 対策履歴 | P25: ― | S25: 実施状況（実施日） | U25: ―
B26: メモ | E26: 側溝に蓋浮き上がりによる段差。 | M26: メモ | P26: 側溝に蓋浮き上がりによる段差。
C27: ※ 応急措置後の対策区分の判定区分Ⅱb～Ⅳについて添付すること。また、点検前に 実施された措置によりⅠと判定された箇所も添付すること。 | N27: ※ 変状の発生範囲の規模とは、対策を行う際に参考となる変状の長さや面積をいう。
N28: ※ 応急措置を実施しないで判定した変状の判定区分は、判定区分の応急措置後の欄に記入すること。
C29: ※ たたき落としを実施した場合は、実施後の写真を添付すること。 | N29: ※ 変状の発生範囲の規模は、面積・寸法を記載すること。(ひび割れ幅のみmmとし、その他をm表記とする)
C30: ※ 附属物の取付状態に関する異常写真は別途、任意の書式でとりまとめること。 | N30: ※ 構造用鋼材以外の異物に伴ううき・はく離については、メモ欄に異物の概要を記入すること。

Sheet 様式D-1-1_024
B2: ■定期点検記録様式 変状写真台帳【様式D-1-1】 | R2: 施設ID | T2: 34.09797,131.54189
B3: フリガナ | E3: (ｻﾊﾞﾔﾏｽﾞｲﾄﾞｳ(ﾉﾎﾞﾘ)) | H3: 路 線 名 | J3: 国道262号 | M3: 定期点検実施者 | P3: 大日本ダイヤコンサルタント株式会社 | S3: 定期点検年月日 | U3: 45635
B4: 名 称 | E4: 佐波山隧道(上り) | H4: 管理者名 | J4: 山口県防府土木建築事務所 | P4: 斉藤 寿英
B5: 写真 番号 | C5: 覆工スパン 番号 | E5: S036 | M5: 写真 番号 | N5: 覆工スパン 番号 | P5: S036
C6: 変状番号 | E6: 1 | N6: 変状番号 | P6: 2
B7: 変状 部位 | C7: 対象箇所 | E7: 覆工 | M7: 変状 部位 | N7: 対象箇所 | P7: 覆工
C8: 部位区分 | E8: 横断目地（天端） | N8: 部位区分 | P8: 水平打ち継ぎ目（右側）
B9: 変状種類 | E9: その他 | M9: 変状種類 | P9: うき・はく離
B10: 対策 区分 | C10: 変状区分 | E10: 材質劣化 | M10: 対策 区分 | N10: 変状区分 | P10: 材質劣化
C11: 応急措置前 | N11: 応急措置前
C12: 応急措置後 | E12: Ⅱb | N12: 応急措置後 | P12: Ⅱb
B13: 変状の発生範囲及び規模 | E13: 0.70m×0.05m | H13: 前回変状の発生範囲及び規模 | J13: 0.7m×0.05m (判定Ⅱb) | M13: 変状の発生範囲及び規模 | P13: 0.20m×0.25m | S13: 前回変状の発生範囲及び規模 | U13: 今回新規変状
B14: 対策履歴 | E14: 監視（日常巡視） | H14: 実施状況（実施日） | J14: 継続 | M14: 対策履歴 | P14: ― | S14: 実施状況（実施日） | U14: ―
B15: メモ | E15: 横断目地部(天端)に木片混入。 | M15: メモ | P15: 水平打ち継ぎ目(右側)沿いにうき。閉合ひび割れ無し。利用者被害無し。打音異常有り。
B16: 写真 番号 | C16: 覆工スパン 番号 | E16: S037 | M16: 写真 番号 | N16: 覆工スパン 番号 | P16: S037
C17: 変状番号 | E17: 1 | N17: 変状番号 | P17: 2
B18: 変状 部位 | C18: 対象箇所 | E18: 覆工 | M18: 変状 部位 | N18: 対象箇所 | P18: 路面
C19: 部位区分 | E19: 水平打ち継ぎ目（左側） | N19: 部位区分 | P19: 監査歩路
B20: 変状種類 | E20: その他 | M20: 変状種類 | P20: その他
B21: 対策 区分 | C21: 変状区分 | E21: 材質劣化 | M21: 対策 区分 | N21: 変状区分
C22: 応急措置前 | N22: 応急措置前
C23: 応急措置後 | E23: Ⅰ | N23: 応急措置後
B24: 変状の発生範囲及び規模 | E24: ― | H24: 前回変状の発生範囲及び規模 | J24: うき 0.2m×0.4m Ⅱb | M24: 変状の発生範囲及び規模 | P24: 0.40m×0.70m | S24: 前回変状の発生範囲及び規模 | U24: 0.3m×0.6m (判定Ⅱb)
B25: 対策履歴 | E25: はく落防止対策工を実施 | H25: 実施状況（実施日） | J25: 済 | M25: 対策履歴 | P25: 監視（日常巡視） | S25: 実施状況（実施日） | U25: 継続
B26: メモ | E26: 水平打ち継ぎ目(左側)沿いにはく落防止対策工(はつり工)を実施。 | M26: メモ | P26: 監査歩路に縁石うき・蓋うき。
C27: ※ 応急措置後の対策区分の判定区分Ⅱb～Ⅳについて添付すること。また、点検前に 実施された措置によりⅠと判定された箇所も添付すること。 | N27: ※ 変状の発生範囲の規模とは、対策を行う際に参考となる変状の長さや面積をいう。
N28: ※ 応急措置を実施しないで判定した変状の判定区分は、判定区分の応急措置後の欄に記入すること。
C29: ※ たたき落としを実施した場合は、実施後の写真を添付すること。 | N29: ※ 変状の発生範囲の規模は、面積・寸法を記載すること。(ひび割れ幅のみmmとし、その他をm表記とする)
C30: ※ 附属物の取付状態に関する異常写真は別途、任意の書式でとりまとめること。 | N30: ※ 構造用鋼材以外の異物に伴ううき・はく離については、メモ欄に異物の概要を記入すること。

Sheet 様式D-1-1_025
B2: ■定期点検記録様式 変状写真台帳【様式D-1-1】 | R2: 施設ID | T2: 34.09797,131.54189
B3: フリガナ | E3: (ｻﾊﾞﾔﾏｽﾞｲﾄﾞｳ(ﾉﾎﾞﾘ)) | H3: 路 線 名 | J3: 国道262号 | M3: 定期点検実施者 | P3: 大日本ダイヤコンサルタント株式会社 | S3: 定期点検年月日 | U3: 45635
B4: 名 称 | E4: 佐波山隧道(上り) | H4: 管理者名 | J4: 山口県防府土木建築事務所 | P4: 斉藤 寿英
B5: 写真 番号 | C5: 覆工スパン 番号 | E5: S038 | M5: 写真 番号 | N5: 覆工スパン 番号 | P5: S038
C6: 変状番号 | E6: 1 | N6: 変状番号 | P6: 2
B7: 変状 部位 | C7: 対象箇所 | E7: 路面 | M7: 変状 部位 | N7: 対象箇所 | P7: 路面
C8: 部位区分 | E8: 監査歩路 | N8: 部位区分 | P8: 側溝
B9: 変状種類 | E9: その他 | M9: 変状種類 | P9: その他
B10: 対策 区分 | C10: 変状区分 | M10: 対策 区分 | N10: 変状区分
C11: 応急措置前 | N11: 応急措置前
C12: 応急措置後 | N12: 応急措置後
B13: 変状の発生範囲及び規模 | E13: 0.20m×16.50m | H13: 前回変状の発生範囲及び規模 | J13: 0.2m×16.5m (判定Ⅱb) | M13: 変状の発生範囲及び規模 | P13: 0.20m×0.10m | S13: 前回変状の発生範囲及び規模 | U13: 今回新規変状
B14: 対策履歴 | E14: 監視（日常巡視） | H14: 実施状況（実施日） | J14: 継続 | M14: 対策履歴 | P14: ― | S14: 実施状況（実施日） | U14: ―
B15: メモ | E15: 監査歩路に縁石劣化。 | M15: メモ | P15: 側溝に蓋欠損(鋼材露出)。
B16: 写真 番号 | C16: 覆工スパン 番号 | E16: S038 | M16: 写真 番号 | N16: 覆工スパン 番号 | P16: S040
C17: 変状番号 | E17: 3 | N17: 変状番号 | P17: 1
B18: 変状 部位 | C18: 対象箇所 | E18: 路面 | M18: 変状 部位 | N18: 対象箇所 | P18: 覆工
C19: 部位区分 | E19: 側溝 | N19: 部位区分 | P19: 水平打ち継ぎ目（左側）
B20: 変状種類 | E20: その他 | M20: 変状種類 | P20: その他
B21: 対策 区分 | C21: 変状区分 | M21: 対策 区分 | N21: 変状区分 | P21: 材質劣化
C22: 応急措置前 | N22: 応急措置前
C23: 応急措置後 | N23: 応急措置後 | P23: Ⅰ
B24: 変状の発生範囲及び規模 | E24: 40mm | H24: 前回変状の発生範囲及び規模 | J24: 今回新規変状 | M24: 変状の発生範囲及び規模 | P24: ― | S24: 前回変状の発生範囲及び規模 | U24: うき 0.2m×0.4m Ⅱb
B25: 対策履歴 | E25: ― | H25: 実施状況（実施日） | J25: ― | M25: 対策履歴 | P25: はく落防止対策工を実施 | S25: 実施状況（実施日） | U25: 済
B26: メモ | E26: 側溝に蓋浮き上がりによる段差。 | M26: メモ | P26: 水平打ち継ぎ目(左側)沿いにはく落防止対策工(はつり工)を実施。
C27: ※ 応急措置後の対策区分の判定区分Ⅱb～Ⅳについて添付すること。また、点検前に 実施された措置によりⅠと判定された箇所も添付すること。 | N27: ※ 変状の発生範囲の規模とは、対策を行う際に参考となる変状の長さや面積をいう。
N28: ※ 応急措置を実施しないで判定した変状の判定区分は、判定区分の応急措置後の欄に記入すること。
C29: ※ たたき落としを実施した場合は、実施後の写真を添付すること。 | N29: ※ 変状の発生範囲の規模は、面積・寸法を記載すること。(ひび割れ幅のみmmとし、その他をm表記とする)
C30: ※ 附属物の取付状態に関する異常写真は別途、任意の書式でとりまとめること。 | N30: ※ 構造用鋼材以外の異物に伴ううき・はく離については、メモ欄に異物の概要を記入すること。

Sheet 様式D-1-1_026
B2: ■定期点検記録様式 変状写真台帳【様式D-1-1】 | R2: 施設ID | T2: 34.09797,131.54189
B3: フリガナ | E3: (ｻﾊﾞﾔﾏｽﾞｲﾄﾞｳ(ﾉﾎﾞﾘ)) | H3: 路 線 名 | J3: 国道262号 | M3: 定期点検実施者 | P3: 大日本ダイヤコンサルタント株式会社 | S3: 定期点検年月日 | U3: 45635
B4: 名 称 | E4: 佐波山隧道(上り) | H4: 管理者名 | J4: 山口県防府土木建築事務所 | P4: 斉藤 寿英
B5: 写真 番号 | C5: 覆工スパン 番号 | E5: S041 | M5: 写真 番号 | N5: 覆工スパン 番号 | P5: S041
C6: 変状番号 | E6: 1 | N6: 変状番号 | P6: 2
B7: 変状 部位 | C7: 対象箇所 | E7: 覆工 | M7: 変状 部位 | N7: 対象箇所 | P7: 路面
C8: 部位区分 | E8: 水平打ち継ぎ目（左側） | N8: 部位区分 | P8: 監査歩路
B9: 変状種類 | E9: その他 | M9: 変状種類 | P9: その他
B10: 対策 区分 | C10: 変状区分 | E10: 材質劣化 | M10: 対策 区分 | N10: 変状区分
C11: 応急措置前 | N11: 応急措置前
C12: 応急措置後 | E12: Ⅰ | N12: 応急措置後
B13: 変状の発生範囲及び規模 | E13: ― | H13: 前回変状の発生範囲及び規模 | J13: うき 0.2m×0.6m Ⅱb | M13: 変状の発生範囲及び規模 | P13: 0.20m×3.00m | S13: 前回変状の発生範囲及び規模 | U13: 0.2m×3.0m (判定Ⅱb)
B14: 対策履歴 | E14: はく落防止対策工を実施 | H14: 実施状況（実施日） | J14: 済 | M14: 対策履歴 | P14: 監視（日常巡視） | S14: 実施状況（実施日） | U14: 継続
B15: メモ | E15: 水平打ち継ぎ目(左側)沿いにはく落防止対策工(はつり工)を実施。 | M15: メモ | P15: 監査歩路に縁石劣化。
B16: 写真 番号 | C16: 覆工スパン 番号 | E16: S042 | M16: 写真 番号 | N16: 覆工スパン 番号 | P16: S042
C17: 変状番号 | E17: 1 | N17: 変状番号 | P17: 2
B18: 変状 部位 | C18: 対象箇所 | E18: 路面 | M18: 変状 部位 | N18: 対象箇所 | P18: 覆工
C19: 部位区分 | E19: 監査歩路 | N19: 部位区分 | P19: アーチ（天端）
B20: 変状種類 | E20: その他 | M20: 変状種類 | P20: 漏水
B21: 対策 区分 | C21: 変状区分 | M21: 対策 区分 | N21: 変状区分 | P21: 漏水
C22: 応急措置前 | N22: 応急措置前
C23: 応急措置後 | N23: 応急措置後 | P23: Ⅱa
B24: 変状の発生範囲及び規模 | E24: 0.20m×22.50m | H24: 前回変状の発生範囲及び規模 | J24: 0.2m×22.5m (判定Ⅱb) | M24: 変状の発生範囲及び規模 | P24: 8.50m×0.50m | S24: 前回変状の発生範囲及び規模 | U24: 今回新規変状
B25: 対策履歴 | E25: 監視（日常巡視） | H25: 実施状況（実施日） | J25: 継続 | M25: 対策履歴 | P25: ― | S25: 実施状況（実施日） | U25: ―
B26: メモ | E26: 監査歩路に縁石劣化。 | M26: メモ | P26: アーチ部(天端)に線導水からの滴水(滞水無し)。
C27: ※ 応急措置後の対策区分の判定区分Ⅱb～Ⅳについて添付すること。また、点検前に 実施された措置によりⅠと判定された箇所も添付すること。 | N27: ※ 変状の発生範囲の規模とは、対策を行う際に参考となる変状の長さや面積をいう。
N28: ※ 応急措置を実施しないで判定した変状の判定区分は、判定区分の応急措置後の欄に記入すること。
C29: ※ たたき落としを実施した場合は、実施後の写真を添付すること。 | N29: ※ 変状の発生範囲の規模は、面積・寸法を記載すること。(ひび割れ幅のみmmとし、その他をm表記とする)
C30: ※ 附属物の取付状態に関する異常写真は別途、任意の書式でとりまとめること。 | N30: ※ 構造用鋼材以外の異物に伴ううき・はく離については、メモ欄に異物の概要を記入すること。

Sheet 様式D-1-1_027
B2: ■定期点検記録様式 変状写真台帳【様式D-1-1】 | R2: 施設ID | T2: 34.09797,131.54189
B3: フリガナ | E3: (ｻﾊﾞﾔﾏｽﾞｲﾄﾞｳ(ﾉﾎﾞﾘ)) | H3: 路 線 名 | J3: 国道262号 | M3: 定期点検実施者 | P3: 大日本ダイヤコンサルタント株式会社 | S3: 定期点検年月日 | U3: 45635
B4: 名 称 | E4: 佐波山隧道(上り) | H4: 管理者名 | J4: 山口県防府土木建築事務所 | P4: 斉藤 寿英
B5: 写真 番号 | C5: 覆工スパン 番号 | E5: S042 | M5: 写真 番号 | N5: 覆工スパン 番号 | P5: S043
C6: 変状番号 | E6: 3 | N6: 変状番号 | P6: 1
B7: 変状 部位 | C7: 対象箇所 | E7: 覆工 | M7: 変状 部位 | N7: 対象箇所 | P7: 覆工
C8: 部位区分 | E8: 水平打ち継ぎ目（右側） | N8: 部位区分 | P8: 横断目地（天端）
B9: 変状種類 | E9: うき・はく離 | M9: 変状種類 | P9: その他
B10: 対策 区分 | C10: 変状区分 | E10: 材質劣化 | M10: 対策 区分 | N10: 変状区分 | P10: 材質劣化
C11: 応急措置前 | N11: 応急措置前
C12: 応急措置後 | E12: Ⅱb | N12: 応急措置後 | P12: Ⅱb
B13: 変状の発生範囲及び規模 | E13: 0.20m×0.20m | H13: 前回変状の発生範囲及び規模 | J13: 今回新規変状 | M13: 変状の発生範囲及び規模 | P13: 1.20m×0.05m | S13: 前回変状の発生範囲及び規模 | U13: 1.2m×0.05m (判定Ⅱb)
B14: 対策履歴 | E14: ― | H14: 実施状況（実施日） | J14: ― | M14: 対策履歴 | P14: 監視（日常巡視） | S14: 実施状況（実施日） | U14: 継続
B15: メモ | E15: 水平打ち継ぎ目(右側)沿いにうき。閉合ひび割れ無し。利用者被害無し。打音異常有り。 | M15: メモ | P15: 横断目地部(天端)に木片混入。
B16: 写真 番号 | C16: 覆工スパン 番号 | E16: S044 | M16: 写真 番号 | N16: 覆工スパン 番号 | P16: S045
C17: 変状番号 | E17: 1 | N17: 変状番号 | P17: 1
B18: 変状 部位 | C18: 対象箇所 | E18: 覆工 | M18: 変状 部位 | N18: 対象箇所 | P18: 覆工
C19: 部位区分 | E19: 水平打ち継ぎ目（左側） | N19: 部位区分 | P19: 水平打ち継ぎ目（右側）
B20: 変状種類 | E20: その他 | M20: 変状種類 | P20: うき・はく離
B21: 対策 区分 | C21: 変状区分 | E21: 材質劣化 | M21: 対策 区分 | N21: 変状区分 | P21: 材質劣化
C22: 応急措置前 | N22: 応急措置前
C23: 応急措置後 | E23: Ⅰ | N23: 応急措置後 | P23: Ⅱb
B24: 変状の発生範囲及び規模 | E24: ― | H24: 前回変状の発生範囲及び規模 | J24: うき 0.2m×0.7m Ⅱb | M24: 変状の発生範囲及び規模 | P24: 0.10m×1.50m | S24: 前回変状の発生範囲及び規模 | U24: 今回新規変状
B25: 対策履歴 | E25: はく落防止対策工を実施 | H25: 実施状況（実施日） | J25: 済 | M25: 対策履歴 | P25: ― | S25: 実施状況（実施日） | U25: ―
B26: メモ | E26: 水平打ち継ぎ目(左側)沿いにはく落防止対策工(はつり工)を実施。 | M26: メモ | P26: 水平打ち継ぎ目(右側)沿いにうき。閉合ひび割れ無し。利用者被害無し。打音異常有り。
C27: ※ 応急措置後の対策区分の判定区分Ⅱb～Ⅳについて添付すること。また、点検前に 実施された措置によりⅠと判定された箇所も添付すること。 | N27: ※ 変状の発生範囲の規模とは、対策を行う際に参考となる変状の長さや面積をいう。
N28: ※ 応急措置を実施しないで判定した変状の判定区分は、判定区分の応急措置後の欄に記入すること。
C29: ※ たたき落としを実施した場合は、実施後の写真を添付すること。 | N29: ※ 変状の発生範囲の規模は、面積・寸法を記載すること。(ひび割れ幅のみmmとし、その他をm表記とする)
C30: ※ 附属物の取付状態に関する異常写真は別途、任意の書式でとりまとめること。 | N30: ※ 構造用鋼材以外の異物に伴ううき・はく離については、メモ欄に異物の概要を記入すること。

Sheet 様式D-1-1_028
B2: ■定期点検記録様式 変状写真台帳【様式D-1-1】 | R2: 施設ID | T2: 34.09797,131.54189
B3: フリガナ | E3: (ｻﾊﾞﾔﾏｽﾞｲﾄﾞｳ(ﾉﾎﾞﾘ)) | H3: 路 線 名 | J3: 国道262号 | M3: 定期点検実施者 | P3: 大日本ダイヤコンサルタント株式会社 | S3: 定期点検年月日 | U3: 45635
B4: 名 称 | E4: 佐波山隧道(上り) | H4: 管理者名 | J4: 山口県防府土木建築事務所 | P4: 斉藤 寿英
B5: 写真 番号 | C5: 覆工スパン 番号 | E5: S045 | M5: 写真 番号 | N5: 覆工スパン 番号 | P5: S047
C6: 変状番号 | E6: 2 | N6: 変状番号 | P6: 1
B7: 変状 部位 | C7: 対象箇所 | E7: 路面 | M7: 変状 部位 | N7: 対象箇所 | P7: 内装板
C8: 部位区分 | E8: 側溝 | N8: 部位区分 | P8: 側壁
B9: 変状種類 | E9: その他 | M9: 変状種類 | P9: その他
B10: 対策 区分 | C10: 変状区分 | M10: 対策 区分 | N10: 変状区分 | P10: 材質劣化
C11: 応急措置前 | N11: 応急措置前
C12: 応急措置後 | N12: 応急措置後 | P12: Ⅱb
B13: 変状の発生範囲及び規模 | E13: 0.20m×0.10m | H13: 前回変状の発生範囲及び規模 | J13: 今回新規変状 | M13: 変状の発生範囲及び規模 | P13: 0.10m×0.70m | S13: 前回変状の発生範囲及び規模 | U13: 0.1m×0.7m (判定Ⅱb)
B14: 対策履歴 | E14: ― | H14: 実施状況（実施日） | J14: ― | M14: 対策履歴 | P14: 監視（日常巡視） | S14: 実施状況（実施日） | U14: 継続
B15: メモ | E15: 側溝に蓋欠損(鋼材露出)。 | M15: メモ | P15: 内装板に内装板破損。
B16: 写真 番号 | C16: 覆工スパン 番号 | E16: S047 | M16: 写真 番号 | N16: 覆工スパン 番号 | P16: S047
C17: 変状番号 | E17: 2 | N17: 変状番号 | P17: 3
B18: 変状 部位 | C18: 対象箇所 | E18: 路面 | M18: 変状 部位 | N18: 対象箇所 | P18: 路面
C19: 部位区分 | E19: 監査歩路 | N19: 部位区分 | P19: 監査歩路
B20: 変状種類 | E20: その他 | M20: 変状種類 | P20: その他
B21: 対策 区分 | C21: 変状区分 | M21: 対策 区分 | N21: 変状区分
C22: 応急措置前 | N22: 応急措置前
C23: 応急措置後 | N23: 応急措置後
B24: 変状の発生範囲及び規模 | E24: 0.20m×0.70m | H24: 前回変状の発生範囲及び規模 | J24: 0.2m×0.7m (判定Ⅱb) | M24: 変状の発生範囲及び規模 | P24: 0.20m×0.80m | S24: 前回変状の発生範囲及び規模 | U24: 0.2m×0.8m (判定Ⅱb)
B25: 対策履歴 | E25: 監視（日常巡視） | H25: 実施状況（実施日） | J25: 継続 | M25: 対策履歴 | P25: 監視（日常巡視） | S25: 実施状況（実施日） | U25: 継続
B26: メモ | E26: 監査歩路に縁石劣化。 | M26: メモ | P26: 監査歩路に縁石劣化。
C27: ※ 応急措置後の対策区分の判定区分Ⅱb～Ⅳについて添付すること。また、点検前に 実施された措置によりⅠと判定された箇所も添付すること。 | N27: ※ 変状の発生範囲の規模とは、対策を行う際に参考となる変状の長さや面積をいう。
N28: ※ 応急措置を実施しないで判定した変状の判定区分は、判定区分の応急措置後の欄に記入すること。
C29: ※ たたき落としを実施した場合は、実施後の写真を添付すること。 | N29: ※ 変状の発生範囲の規模は、面積・寸法を記載すること。(ひび割れ幅のみmmとし、その他をm表記とする)
C30: ※ 附属物の取付状態に関する異常写真は別途、任意の書式でとりまとめること。 | N30: ※ 構造用鋼材以外の異物に伴ううき・はく離については、メモ欄に異物の概要を記入すること。

Sheet 様式D-1-1_029
B2: ■定期点検記録様式 変状写真台帳【様式D-1-1】 | R2: 施設ID | T2: 34.09797,131.54189
B3: フリガナ | E3: (ｻﾊﾞﾔﾏｽﾞｲﾄﾞｳ(ﾉﾎﾞﾘ)) | H3: 路 線 名 | J3: 国道262号 | M3: 定期点検実施者 | P3: 大日本ダイヤコンサルタント株式会社 | S3: 定期点検年月日 | U3: 45635
B4: 名 称 | E4: 佐波山隧道(上り) | H4: 管理者名 | J4: 山口県防府土木建築事務所 | P4: 斉藤 寿英
B5: 写真 番号 | C5: 覆工スパン 番号 | E5: S048 | M5: 写真 番号 | N5: 覆工スパン 番号 | P5: S048
C6: 変状番号 | E6: 1 | N6: 変状番号 | P6: 2
B7: 変状 部位 | C7: 対象箇所 | E7: 覆工 | M7: 変状 部位 | N7: 対象箇所 | P7: 覆工
C8: 部位区分 | E8: アーチ（天端） | N8: 部位区分 | P8: 水平打ち継ぎ目（右側）
B9: 変状種類 | E9: 補修・補強材の破損 | M9: 変状種類 | P9: うき・はく離
B10: 対策 区分 | C10: 変状区分 | E10: 漏水 | M10: 対策 区分 | N10: 変状区分 | P10: 材質劣化
C11: 応急措置前 | N11: 応急措置前
C12: 応急措置後 | E12: Ⅱb | N12: 応急措置後 | P12: Ⅱb
B13: 変状の発生範囲及び規模 | E13: 0.80m×0.10m | H13: 前回変状の発生範囲及び規模 | J13: 0.8m×0.1m (判定Ⅱb) | M13: 変状の発生範囲及び規模 | P13: 0.20m×0.30m | S13: 前回変状の発生範囲及び規模 | U13: 今回新規変状
B14: 対策履歴 | E14: 監視（日常巡視） | H14: 実施状況（実施日） | J14: 継続 | M14: 対策履歴 | P14: ― | S14: 実施状況（実施日） | U14: ―
B15: メモ | E15: アーチ部(天端)に線導水破損(漏水無し)。 | M15: メモ | P15: 水平打ち継ぎ目(右側)沿いにうき。閉合ひび割れ無し。利用者被害無し。打音異常有り。
B16: 写真 番号 | C16: 覆工スパン 番号 | E16: S049 | M16: 写真 番号 | N16: 覆工スパン 番号 | P16: S049
C17: 変状番号 | E17: 1 | N17: 変状番号 | P17: 2
B18: 変状 部位 | C18: 対象箇所 | E18: 覆工 | M18: 変状 部位 | N18: 対象箇所 | P18: 覆工
C19: 部位区分 | E19: 水平打ち継ぎ目（左側） | N19: 部位区分 | P19: 横断目地（左側）
B20: 変状種類 | E20: うき・はく離 | M20: 変状種類 | P20: 漏水
B21: 対策 区分 | C21: 変状区分 | E21: 材質劣化 | M21: 対策 区分 | N21: 変状区分 | P21: 漏水
C22: 応急措置前 | N22: 応急措置前
C23: 応急措置後 | E23: Ⅱb | N23: 応急措置後 | P23: Ⅱb
B24: 変状の発生範囲及び規模 | E24: 0.20m×0.50m | H24: 前回変状の発生範囲及び規模 | J24: 0.2m×0.5m (判定Ⅱb) | M24: 変状の発生範囲及び規模 | P24: 2.55m×0.50m | S24: 前回変状の発生範囲及び規模 | U24: 今回新規変状
B25: 対策履歴 | E25: 監視（日常巡視） | H25: 実施状況（実施日） | J25: 継続 | M25: 対策履歴 | P25: ― | S25: 実施状況（実施日） | U25: ―
B26: メモ | E26: 水平打ち継ぎ目(左側)沿いにうき。閉合ひび割れ無し。利用者被害無し。打音異常有り。 | M26: メモ | P26: 横断目地部(側壁左側)に線導水からのにじみ(滞水有り)。
C27: ※ 応急措置後の対策区分の判定区分Ⅱb～Ⅳについて添付すること。また、点検前に 実施された措置によりⅠと判定された箇所も添付すること。 | N27: ※ 変状の発生範囲の規模とは、対策を行う際に参考となる変状の長さや面積をいう。
N28: ※ 応急措置を実施しないで判定した変状の判定区分は、判定区分の応急措置後の欄に記入すること。
C29: ※ たたき落としを実施した場合は、実施後の写真を添付すること。 | N29: ※ 変状の発生範囲の規模は、面積・寸法を記載すること。(ひび割れ幅のみmmとし、その他をm表記とする)
C30: ※ 附属物の取付状態に関する異常写真は別途、任意の書式でとりまとめること。 | N30: ※ 構造用鋼材以外の異物に伴ううき・はく離については、メモ欄に異物の概要を記入すること。

Sheet 様式D-1-1_030
B2: ■定期点検記録様式 変状写真台帳【様式D-1-1】 | R2: 施設ID | T2: 34.09797,131.54189
B3: フリガナ | E3: (ｻﾊﾞﾔﾏｽﾞｲﾄﾞｳ(ﾉﾎﾞﾘ)) | H3: 路 線 名 | J3: 国道262号 | M3: 定期点検実施者 | P3: 大日本ダイヤコンサルタント株式会社 | S3: 定期点検年月日 | U3: 45635
B4: 名 称 | E4: 佐波山隧道(上り) | H4: 管理者名 | J4: 山口県防府土木建築事務所 | P4: 斉藤 寿英
B5: 写真 番号 | C5: 覆工スパン 番号 | E5: S049 | M5: 写真 番号 | N5: 覆工スパン 番号 | P5: S049
C6: 変状番号 | E6: 3 | N6: 変状番号 | P6: 4
B7: 変状 部位 | C7: 対象箇所 | E7: 覆工 | M7: 変状 部位 | N7: 対象箇所 | P7: 覆工
C8: 部位区分 | E8: 横断目地（天端） | N8: 部位区分 | P8: 水平打ち継ぎ目（右側）
B9: 変状種類 | E9: その他 | M9: 変状種類 | P9: うき・はく離
B10: 対策 区分 | C10: 変状区分 | E10: 材質劣化 | M10: 対策 区分 | N10: 変状区分 | P10: 材質劣化
C11: 応急措置前 | N11: 応急措置前
C12: 応急措置後 | E12: Ⅱb | N12: 応急措置後 | P12: Ⅱb
B13: 変状の発生範囲及び規模 | E13: 0.30m×0.05m | H13: 前回変状の発生範囲及び規模 | J13: 今回新規変状 | M13: 変状の発生範囲及び規模 | P13: 0.20m×0.25m | S13: 前回変状の発生範囲及び規模 | U13: 今回新規変状
B14: 対策履歴 | E14: ― | H14: 実施状況（実施日） | J14: ― | M14: 対策履歴 | P14: ― | S14: 実施状況（実施日） | U14: ―
B15: メモ | E15: 横断目地部(天端)に木片混入。 | M15: メモ | P15: 水平打ち継ぎ目(右側)沿いにうき。閉合ひび割れ無し。利用者被害無し。打音異常有り。
B16: 写真 番号 | C16: 覆工スパン 番号 | E16: S050 | M16: 写真 番号 | N16: 覆工スパン 番号 | P16: S050
C17: 変状番号 | E17: 1 | N17: 変状番号 | P17: 2
B18: 変状 部位 | C18: 対象箇所 | E18: 内装板 | M18: 変状 部位 | N18: 対象箇所 | P18: 路面
C19: 部位区分 | E19: 側壁 | N19: 部位区分 | P19: 監査歩路
B20: 変状種類 | E20: その他 | M20: 変状種類 | P20: その他
B21: 対策 区分 | C21: 変状区分 | E21: 材質劣化 | M21: 対策 区分 | N21: 変状区分
C22: 応急措置前 | N22: 応急措置前
C23: 応急措置後 | E23: Ⅱb | N23: 応急措置後
B24: 変状の発生範囲及び規模 | E24: 0.10m×0.10m | H24: 前回変状の発生範囲及び規模 | J24: 0.1m×0.1m (判定Ⅱb) | M24: 変状の発生範囲及び規模 | P24: 0.20m×1.20m | S24: 前回変状の発生範囲及び規模 | U24: 0.2m×1.2m (判定Ⅱb)
B25: 対策履歴 | E25: 監視（日常巡視） | H25: 実施状況（実施日） | J25: 継続 | M25: 対策履歴 | P25: 監視（日常巡視） | S25: 実施状況（実施日） | U25: 継続
B26: メモ | E26: 内装板に内装板破損。 | M26: メモ | P26: 監査歩路に縁石劣化。
C27: ※ 応急措置後の対策区分の判定区分Ⅱb～Ⅳについて添付すること。また、点検前に 実施された措置によりⅠと判定された箇所も添付すること。 | N27: ※ 変状の発生範囲の規模とは、対策を行う際に参考となる変状の長さや面積をいう。
N28: ※ 応急措置を実施しないで判定した変状の判定区分は、判定区分の応急措置後の欄に記入すること。
C29: ※ たたき落としを実施した場合は、実施後の写真を添付すること。 | N29: ※ 変状の発生範囲の規模は、面積・寸法を記載すること。(ひび割れ幅のみmmとし、その他をm表記とする)
C30: ※ 附属物の取付状態に関する異常写真は別途、任意の書式でとりまとめること。 | N30: ※ 構造用鋼材以外の異物に伴ううき・はく離については、メモ欄に異物の概要を記入すること。

Sheet 様式D-1-1_031
B2: ■定期点検記録様式 変状写真台帳【様式D-1-1】 | R2: 施設ID | T2: 34.09797,131.54189
B3: フリガナ | E3: (ｻﾊﾞﾔﾏｽﾞｲﾄﾞｳ(ﾉﾎﾞﾘ)) | H3: 路 線 名 | J3: 国道262号 | M3: 定期点検実施者 | P3: 大日本ダイヤコンサルタント株式会社 | S3: 定期点検年月日 | U3: 45635
B4: 名 称 | E4: 佐波山隧道(上り) | H4: 管理者名 | J4: 山口県防府土木建築事務所 | P4: 斉藤 寿英
B5: 写真 番号 | C5: 覆工スパン 番号 | E5: S050 | M5: 写真 番号 | N5: 覆工スパン 番号 | P5: S050
C6: 変状番号 | E6: 3 | N6: 変状番号 | P6: 4
B7: 変状 部位 | C7: 対象箇所 | E7: 覆工 | M7: 変状 部位 | N7: 対象箇所 | P7: 覆工
C8: 部位区分 | E8: アーチ（左側） | N8: 部位区分 | P8: アーチ（左側）
B9: 変状種類 | E9: 漏水 | M9: 変状種類 | P9: 漏水
B10: 対策 区分 | C10: 変状区分 | E10: 漏水 | M10: 対策 区分 | N10: 変状区分 | P10: 漏水
C11: 応急措置前 | N11: 応急措置前
C12: 応急措置後 | E12: Ⅱa | N12: 応急措置後 | P12: Ⅱa
B13: 変状の発生範囲及び規模 | E13: 6.25m×0.50m | H13: 前回変状の発生範囲及び規模 | J13: 今回新規変状 | M13: 変状の発生範囲及び規模 | P13: 6.15m×0.50m | S13: 前回変状の発生範囲及び規模 | U13: 今回新規変状
B14: 対策履歴 | E14: ― | H14: 実施状況（実施日） | J14: ― | M14: 対策履歴 | P14: ― | S14: 実施状況（実施日） | U14: ―
B15: メモ | E15: アーチ部(左側)に線導水からの滴水(滞水無し)。 | M15: メモ | P15: アーチ部(左側)にひび割れ沿いの滴水(滞水無し)。
B16: 写真 番号 | C16: 覆工スパン 番号 | E16: S051 | M16: 写真 番号 | N16: 覆工スパン 番号 | P16: S052
C17: 変状番号 | E17: 1 | N17: 変状番号 | P17: 1
B18: 変状 部位 | C18: 対象箇所 | E18: 路面 | M18: 変状 部位 | N18: 対象箇所 | P18: 覆工
C19: 部位区分 | E19: 監査歩路 | N19: 部位区分 | P19: 横断目地（右側）
B20: 変状種類 | E20: その他 | M20: 変状種類 | P20: うき・はく離
B21: 対策 区分 | C21: 変状区分 | M21: 対策 区分 | N21: 変状区分 | P21: 材質劣化
C22: 応急措置前 | N22: 応急措置前
C23: 応急措置後 | N23: 応急措置後 | P23: Ⅱa
B24: 変状の発生範囲及び規模 | E24: 0.20m×0.60m | H24: 前回変状の発生範囲及び規模 | J24: 今回新規変状 | M24: 変状の発生範囲及び規模 | P24: 1.15m×0.10m(はく落)1.10m×0.10m | S24: 前回変状の発生範囲及び規模 | U24: 1.3m×0.1m (判定Ⅱa)
B25: 対策履歴 | E25: ― | H25: 実施状況（実施日） | J25: ― | M25: 対策履歴 | P25: はく落防止対策工を実施 | S25: 実施状況（実施日） | U25: 未
B26: メモ | E26: 監査歩路に縁石劣化。 | M26: メモ | P26: 横断目地部(アーチ右側)にうき・はく落。緩みの進行。閉合ひび割れ無し。利用者被害有り。打音異常有り。
C27: ※ 応急措置後の対策区分の判定区分Ⅱb～Ⅳについて添付すること。また、点検前に 実施された措置によりⅠと判定された箇所も添付すること。 | N27: ※ 変状の発生範囲の規模とは、対策を行う際に参考となる変状の長さや面積をいう。
N28: ※ 応急措置を実施しないで判定した変状の判定区分は、判定区分の応急措置後の欄に記入すること。
C29: ※ たたき落としを実施した場合は、実施後の写真を添付すること。 | N29: ※ 変状の発生範囲の規模は、面積・寸法を記載すること。(ひび割れ幅のみmmとし、その他をm表記とする)
C30: ※ 附属物の取付状態に関する異常写真は別途、任意の書式でとりまとめること。 | N30: ※ 構造用鋼材以外の異物に伴ううき・はく離については、メモ欄に異物の概要を記入すること。

Sheet 様式D-1-1_032
B2: ■定期点検記録様式 変状写真台帳【様式D-1-1】 | R2: 施設ID | T2: 34.09797,131.54189
B3: フリガナ | E3: (ｻﾊﾞﾔﾏｽﾞｲﾄﾞｳ(ﾉﾎﾞﾘ)) | H3: 路 線 名 | J3: 国道262号 | M3: 定期点検実施者 | P3: 大日本ダイヤコンサルタント株式会社 | S3: 定期点検年月日 | U3: 45635
B4: 名 称 | E4: 佐波山隧道(上り) | H4: 管理者名 | J4: 山口県防府土木建築事務所 | P4: 斉藤 寿英
B5: 写真 番号 | C5: 覆工スパン 番号 | E5: S052 | M5: 写真 番号 | N5: 覆工スパン 番号 | P5: S052
C6: 変状番号 | E6: 2 | N6: 変状番号 | P6: 3
B7: 変状 部位 | C7: 対象箇所 | E7: 覆工 | M7: 変状 部位 | N7: 対象箇所 | P7: 覆工
C8: 部位区分 | E8: アーチ（天端） | N8: 部位区分 | P8: 水平打ち継ぎ目（右側）
B9: 変状種類 | E9: 漏水 | M9: 変状種類 | P9: うき・はく離
B10: 対策 区分 | C10: 変状区分 | E10: 漏水 | M10: 対策 区分 | N10: 変状区分 | P10: 材質劣化
C11: 応急措置前 | N11: 応急措置前
C12: 応急措置後 | E12: Ⅱa | N12: 応急措置後 | P12: Ⅱb
B13: 変状の発生範囲及び規模 | E13: 8.70m×0.50m | H13: 前回変状の発生範囲及び規模 | J13: 今回新規変状 | M13: 変状の発生範囲及び規模 | P13: 0.05m×0.35m | S13: 前回変状の発生範囲及び規模 | U13: 今回新規変状
B14: 対策履歴 | E14: ― | H14: 実施状況（実施日） | J14: ― | M14: 対策履歴 | P14: ― | S14: 実施状況（実施日） | U14: ―
B15: メモ | E15: アーチ部(天端)にひび割れ沿いの滴水(滞水無し)。 | M15: メモ | P15: 水平打ち継ぎ目(右側)沿いにうき。閉合ひび割れ無し。利用者被害無し。打音異常有り。
B16: 写真 番号 | C16: 覆工スパン 番号 | E16: S052 | M16: 写真 番号 | N16: 覆工スパン 番号 | P16: S053
C17: 変状番号 | E17: 4 | N17: 変状番号 | P17: 1
B18: 変状 部位 | C18: 対象箇所 | E18: 路面 | M18: 変状 部位 | N18: 対象箇所 | P18: 路面
C19: 部位区分 | E19: 歩道 | N19: 部位区分 | P19: 監査歩路
B20: 変状種類 | E20: 滞水 | M20: 変状種類 | P20: その他
B21: 対策 区分 | C21: 変状区分 | E21: 漏水 | M21: 対策 区分 | N21: 変状区分
C22: 応急措置前 | N22: 応急措置前
C23: 応急措置後 | E23: Ⅱb | N23: 応急措置後
B24: 変状の発生範囲及び規模 | E24: 0.40m×1.55m | H24: 前回変状の発生範囲及び規模 | J24: 今回新規変状 | M24: 変状の発生範囲及び規模 | P24: 0.20m×1.10m | S24: 前回変状の発生範囲及び規模 | U24: 0.2m×0.8m (判定Ⅱb)
B25: 対策履歴 | E25: ― | H25: 実施状況（実施日） | J25: ― | M25: 対策履歴 | P25: 監視（日常巡視） | S25: 実施状況（実施日） | U25: 継続
B26: メモ | E26: 歩道に滞水。 | M26: メモ | P26: 監査歩路に縁石劣化。拡大。
C27: ※ 応急措置後の対策区分の判定区分Ⅱb～Ⅳについて添付すること。また、点検前に 実施された措置によりⅠと判定された箇所も添付すること。 | N27: ※ 変状の発生範囲の規模とは、対策を行う際に参考となる変状の長さや面積をいう。
N28: ※ 応急措置を実施しないで判定した変状の判定区分は、判定区分の応急措置後の欄に記入すること。
C29: ※ たたき落としを実施した場合は、実施後の写真を添付すること。 | N29: ※ 変状の発生範囲の規模は、面積・寸法を記載すること。(ひび割れ幅のみmmとし、その他をm表記とする)
C30: ※ 附属物の取付状態に関する異常写真は別途、任意の書式でとりまとめること。 | N30: ※ 構造用鋼材以外の異物に伴ううき・はく離については、メモ欄に異物の概要を記入すること。

Sheet 様式D-1-1_033
B2: ■定期点検記録様式 変状写真台帳【様式D-1-1】 | R2: 施設ID | T2: 34.09797,131.54189
B3: フリガナ | E3: (ｻﾊﾞﾔﾏｽﾞｲﾄﾞｳ(ﾉﾎﾞﾘ)) | H3: 路 線 名 | J3: 国道262号 | M3: 定期点検実施者 | P3: 大日本ダイヤコンサルタント株式会社 | S3: 定期点検年月日 | U3: 45635
B4: 名 称 | E4: 佐波山隧道(上り) | H4: 管理者名 | J4: 山口県防府土木建築事務所 | P4: 斉藤 寿英
B5: 写真 番号 | C5: 覆工スパン 番号 | E5: S053 | M5: 写真 番号 | N5: 覆工スパン 番号 | P5: S053
C6: 変状番号 | E6: 2 | N6: 変状番号 | P6: 3
B7: 変状 部位 | C7: 対象箇所 | E7: 覆工 | M7: 変状 部位 | N7: 対象箇所 | P7: 内装板
C8: 部位区分 | E8: 水平打ち継ぎ目（右側） | N8: 部位区分 | P8: 側壁
B9: 変状種類 | E9: うき・はく離 | M9: 変状種類 | P9: その他
B10: 対策 区分 | C10: 変状区分 | E10: 材質劣化 | M10: 対策 区分 | N10: 変状区分 | P10: 材質劣化
C11: 応急措置前 | N11: 応急措置前
C12: 応急措置後 | E12: Ⅱb | N12: 応急措置後 | P12: Ⅱb
B13: 変状の発生範囲及び規模 | E13: 0.20m×0.35m | H13: 前回変状の発生範囲及び規模 | J13: 今回新規変状 | M13: 変状の発生範囲及び規模 | P13: 0.60m×1.20m | S13: 前回変状の発生範囲及び規模 | U13: 今回新規変状
B14: 対策履歴 | E14: ― | H14: 実施状況（実施日） | J14: ― | M14: 対策履歴 | P14: ― | S14: 実施状況（実施日） | U14: ―
B15: メモ | E15: 水平打ち継ぎ目(右側)沿いにうき。閉合ひび割れ無し。利用者被害無し。打音異常有り。 | M15: メモ | P15: 内装板に内装板破損。
B16: 写真 番号 | C16: 覆工スパン 番号 | E16: S054 | M16: 写真 番号 | N16: 覆工スパン 番号 | P16: S055
C17: 変状番号 | E17: 1 | N17: 変状番号 | P17: 1
B18: 変状 部位 | C18: 対象箇所 | E18: 内装板 | M18: 変状 部位 | N18: 対象箇所 | P18: 覆工
C19: 部位区分 | E19: 側壁 | N19: 部位区分 | P19: 水平打ち継ぎ目（左側）
B20: 変状種類 | E20: その他 | M20: 変状種類 | P20: その他
B21: 対策 区分 | C21: 変状区分 | E21: 材質劣化 | M21: 対策 区分 | N21: 変状区分 | P21: 材質劣化
C22: 応急措置前 | N22: 応急措置前
C23: 応急措置後 | E23: Ⅱb | N23: 応急措置後 | P23: Ⅰ
B24: 変状の発生範囲及び規模 | E24: 0.35m×1.20m | H24: 前回変状の発生範囲及び規模 | J24: 今回新規変状 | M24: 変状の発生範囲及び規模 | P24: ― | S24: 前回変状の発生範囲及び規模 | U24: うき 0.2m×4.3m Ⅱb
B25: 対策履歴 | E25: ― | H25: 実施状況（実施日） | J25: ― | M25: 対策履歴 | P25: はく落防止対策工を実施 | S25: 実施状況（実施日） | U25: 済
B26: メモ | E26: 内装板に内装板破損。 | M26: メモ | P26: 水平打ち継ぎ目(左側)沿いにはく落防止対策工(はつり工)を実施。
C27: ※ 応急措置後の対策区分の判定区分Ⅱb～Ⅳについて添付すること。また、点検前に 実施された措置によりⅠと判定された箇所も添付すること。 | N27: ※ 変状の発生範囲の規模とは、対策を行う際に参考となる変状の長さや面積をいう。
N28: ※ 応急措置を実施しないで判定した変状の判定区分は、判定区分の応急措置後の欄に記入すること。
C29: ※ たたき落としを実施した場合は、実施後の写真を添付すること。 | N29: ※ 変状の発生範囲の規模は、面積・寸法を記載すること。(ひび割れ幅のみmmとし、その他をm表記とする)
C30: ※ 附属物の取付状態に関する異常写真は別途、任意の書式でとりまとめること。 | N30: ※ 構造用鋼材以外の異物に伴ううき・はく離については、メモ欄に異物の概要を記入すること。

Sheet 様式D-1-1_034
B2: ■定期点検記録様式 変状写真台帳【様式D-1-1】 | R2: 施設ID | T2: 34.09797,131.54189
B3: フリガナ | E3: (ｻﾊﾞﾔﾏｽﾞｲﾄﾞｳ(ﾉﾎﾞﾘ)) | H3: 路 線 名 | J3: 国道262号 | M3: 定期点検実施者 | P3: 大日本ダイヤコンサルタント株式会社 | S3: 定期点検年月日 | U3: 45635
B4: 名 称 | E4: 佐波山隧道(上り) | H4: 管理者名 | J4: 山口県防府土木建築事務所 | P4: 斉藤 寿英
B5: 写真 番号 | C5: 覆工スパン 番号 | E5: S055 | M5: 写真 番号 | N5: 覆工スパン 番号 | P5: S055
C6: 変状番号 | E6: 2 | N6: 変状番号 | P6: 3
B7: 変状 部位 | C7: 対象箇所 | E7: 覆工 | M7: 変状 部位 | N7: 対象箇所 | P7: 覆工
C8: 部位区分 | E8: アーチ（左側） | N8: 部位区分 | P8: 横断目地（天端）
B9: 変状種類 | E9: うき・はく離 | M9: 変状種類 | P9: 漏水
B10: 対策 区分 | C10: 変状区分 | E10: 材質劣化 | M10: 対策 区分 | N10: 変状区分 | P10: 漏水
C11: 応急措置前 | N11: 応急措置前
C12: 応急措置後 | E12: Ⅱa | N12: 応急措置後 | P12: Ⅱb
B13: 変状の発生範囲及び規模 | E13: 0.25m×0.15m | H13: 前回変状の発生範囲及び規模 | J13: 0.25m×0.15m (判定Ⅱa) | M13: 変状の発生範囲及び規模 | P13: 10.55m×0.50m | S13: 前回変状の発生範囲及び規模 | U13: にじみ (判定Ⅱb)
B14: 対策履歴 | E14: はく落防止対策工を実施 | H14: 実施状況（実施日） | J14: 未 | M14: 対策履歴 | P14: 監視（日常巡視） | S14: 実施状況（実施日） | U14: 継続
B15: メモ | E15: アーチ部(左側)にうき。閉合ひび割れ無し。利用者被害有り。打音異常有り。 | M15: メモ | P15: 横断目地部(天端)に漏水跡(滞水無し)。
B16: 写真 番号 | C16: 覆工スパン 番号 | E16: S055 | M16: 写真 番号 | N16: 覆工スパン 番号 | P16: S055
C17: 変状番号 | E17: 4 | N17: 変状番号 | P17: 5
B18: 変状 部位 | C18: 対象箇所 | E18: 覆工 | M18: 変状 部位 | N18: 対象箇所 | P18: 路面
C19: 部位区分 | E19: アーチ（天端） | N19: 部位区分 | P19: 監査歩路
B20: 変状種類 | E20: うき・はく離 | M20: 変状種類 | P20: その他
B21: 対策 区分 | C21: 変状区分 | E21: 材質劣化 | M21: 対策 区分 | N21: 変状区分
C22: 応急措置前 | N22: 応急措置前
C23: 応急措置後 | E23: Ⅱa | N23: 応急措置後
B24: 変状の発生範囲及び規模 | E24: 0.10m×0.10m | H24: 前回変状の発生範囲及び規模 | J24: 0.1m×0.1m (判定Ⅱa) | M24: 変状の発生範囲及び規模 | P24: 0.20m×1.50m | S24: 前回変状の発生範囲及び規模 | U24: 今回新規変状
B25: 対策履歴 | E25: はく落防止対策工を実施 | H25: 実施状況（実施日） | J25: 未 | M25: 対策履歴 | P25: ― | S25: 実施状況（実施日） | U25: ―
B26: メモ | E26: アーチ部(天端)にうき。閉合ひび割れ無し。利用者被害有り。打音異常有り。 | M26: メモ | P26: 監査歩路に縁石劣化。
C27: ※ 応急措置後の対策区分の判定区分Ⅱb～Ⅳについて添付すること。また、点検前に 実施された措置によりⅠと判定された箇所も添付すること。 | N27: ※ 変状の発生範囲の規模とは、対策を行う際に参考となる変状の長さや面積をいう。
N28: ※ 応急措置を実施しないで判定した変状の判定区分は、判定区分の応急措置後の欄に記入すること。
C29: ※ たたき落としを実施した場合は、実施後の写真を添付すること。 | N29: ※ 変状の発生範囲の規模は、面積・寸法を記載すること。(ひび割れ幅のみmmとし、その他をm表記とする)
C30: ※ 附属物の取付状態に関する異常写真は別途、任意の書式でとりまとめること。 | N30: ※ 構造用鋼材以外の異物に伴ううき・はく離については、メモ欄に異物の概要を記入すること。

Sheet 様式D-1-1_035
B2: ■定期点検記録様式 変状写真台帳【様式D-1-1】 | R2: 施設ID | T2: 34.09797,131.54189
B3: フリガナ | E3: (ｻﾊﾞﾔﾏｽﾞｲﾄﾞｳ(ﾉﾎﾞﾘ)) | H3: 路 線 名 | J3: 国道262号 | M3: 定期点検実施者 | P3: 大日本ダイヤコンサルタント株式会社 | S3: 定期点検年月日 | U3: 45635
B4: 名 称 | E4: 佐波山隧道(上り) | H4: 管理者名 | J4: 山口県防府土木建築事務所 | P4: 斉藤 寿英
B5: 写真 番号 | C5: 覆工スパン 番号 | E5: S056 | M5: 写真 番号 | N5: 覆工スパン 番号 | P5: S056
C6: 変状番号 | E6: 1 | N6: 変状番号 | P6: 2
B7: 変状 部位 | C7: 対象箇所 | E7: 路面 | M7: 変状 部位 | N7: 対象箇所 | P7: 覆工
C8: 部位区分 | E8: 監査歩路 | N8: 部位区分 | P8: 水平打ち継ぎ目（右側）
B9: 変状種類 | E9: その他 | M9: 変状種類 | P9: 漏水
B10: 対策 区分 | C10: 変状区分 | M10: 対策 区分 | N10: 変状区分 | P10: 漏水
C11: 応急措置前 | N11: 応急措置前
C12: 応急措置後 | N12: 応急措置後 | P12: Ⅱb
B13: 変状の発生範囲及び規模 | E13: 0.20m×22.50m | H13: 前回変状の発生範囲及び規模 | J13: 0.2m×22.5m (判定Ⅱb) | M13: 変状の発生範囲及び規模 | P13: 2.50m×5.45m | S13: 前回変状の発生範囲及び規模 | U13: 今回新規変状
B14: 対策履歴 | E14: 監視（日常巡視） | H14: 実施状況（実施日） | J14: 継続 | M14: 対策履歴 | P14: ― | S14: 実施状況（実施日） | U14: ―
B15: メモ | E15: 監査歩路に縁石劣化。 | M15: メモ | P15: 水平打ち継ぎ目(右側)沿いににじみ(滞水有り)。
B16: 写真 番号 | C16: 覆工スパン 番号 | E16: S056 | M16: 写真 番号 | N16: 覆工スパン 番号 | P16: S056
C17: 変状番号 | E17: 3 | N17: 変状番号 | P17: 4
B18: 変状 部位 | C18: 対象箇所 | E18: 路面 | M18: 変状 部位 | N18: 対象箇所 | P18: 路面
C19: 部位区分 | E19: 監査歩路 | N19: 部位区分 | P19: 歩道
B20: 変状種類 | E20: その他 | M20: 変状種類 | P20: 滞水
B21: 対策 区分 | C21: 変状区分 | M21: 対策 区分 | N21: 変状区分 | P21: 漏水
C22: 応急措置前 | N22: 応急措置前
C23: 応急措置後 | N23: 応急措置後 | P23: Ⅱb
B24: 変状の発生範囲及び規模 | E24: 0.20m×0.60m | H24: 前回変状の発生範囲及び規模 | J24: 今回新規変状 | M24: 変状の発生範囲及び規模 | P24: 0.45m×3.05m | S24: 前回変状の発生範囲及び規模 | U24: 今回新規変状
B25: 対策履歴 | E25: ― | H25: 実施状況（実施日） | J25: ― | M25: 対策履歴 | P25: ― | S25: 実施状況（実施日） | U25: ―
B26: メモ | E26: 監査歩路に縁石劣化。 | M26: メモ | P26: 歩道に滞水。
C27: ※ 応急措置後の対策区分の判定区分Ⅱb～Ⅳについて添付すること。また、点検前に 実施された措置によりⅠと判定された箇所も添付すること。 | N27: ※ 変状の発生範囲の規模とは、対策を行う際に参考となる変状の長さや面積をいう。
N28: ※ 応急措置を実施しないで判定した変状の判定区分は、判定区分の応急措置後の欄に記入すること。
C29: ※ たたき落としを実施した場合は、実施後の写真を添付すること。 | N29: ※ 変状の発生範囲の規模は、面積・寸法を記載すること。(ひび割れ幅のみmmとし、その他をm表記とする)
C30: ※ 附属物の取付状態に関する異常写真は別途、任意の書式でとりまとめること。 | N30: ※ 構造用鋼材以外の異物に伴ううき・はく離については、メモ欄に異物の概要を記入すること。

Sheet 様式D-1-1_036
B2: ■定期点検記録様式 変状写真台帳【様式D-1-1】 | R2: 施設ID | T2: 34.09797,131.54189
B3: フリガナ | E3: (ｻﾊﾞﾔﾏｽﾞｲﾄﾞｳ(ﾉﾎﾞﾘ)) | H3: 路 線 名 | J3: 国道262号 | M3: 定期点検実施者 | P3: 大日本ダイヤコンサルタント株式会社 | S3: 定期点検年月日 | U3: 45635
B4: 名 称 | E4: 佐波山隧道(上り) | H4: 管理者名 | J4: 山口県防府土木建築事務所 | P4: 斉藤 寿英
B5: 写真 番号 | C5: 覆工スパン 番号 | E5: S057 | M5: 写真 番号 | N5: 覆工スパン 番号 | P5: S057
C6: 変状番号 | E6: 1 | N6: 変状番号 | P6: 2
B7: 変状 部位 | C7: 対象箇所 | E7: 覆工 | M7: 変状 部位 | N7: 対象箇所 | P7: 覆工
C8: 部位区分 | E8: 水平打ち継ぎ目（左側） | N8: 部位区分 | P8: アーチ（右側）
B9: 変状種類 | E9: その他 | M9: 変状種類 | P9: 漏水
B10: 対策 区分 | C10: 変状区分 | E10: 材質劣化 | M10: 対策 区分 | N10: 変状区分 | P10: 漏水
C11: 応急措置前 | N11: 応急措置前
C12: 応急措置後 | E12: Ⅰ | N12: 応急措置後 | P12: Ⅱb
B13: 変状の発生範囲及び規模 | E13: ― | H13: 前回変状の発生範囲及び規模 | J13: うき 0.2m×6.0m Ⅱb | M13: 変状の発生範囲及び規模 | P13: 4.00m×8.55m | S13: 前回変状の発生範囲及び規模 | U13: 今回新規変状
B14: 対策履歴 | E14: はく落防止対策工を実施 | H14: 実施状況（実施日） | J14: 済 | M14: 対策履歴 | P14: ― | S14: 実施状況（実施日） | U14: ―
B15: メモ | E15: 水平打ち継ぎ目(左側)沿いにはく落防止対策工(はつり工)を実施。 | M15: メモ | P15: アーチ部(右側)ににじみ(滞水有り)。
B16: 写真 番号 | C16: 覆工スパン 番号 | E16: S057 | M16: 写真 番号 | N16: 覆工スパン 番号 | P16: S058
C17: 変状番号 | E17: 3 | N17: 変状番号 | P17: 1
B18: 変状 部位 | C18: 対象箇所 | E18: 路面 | M18: 変状 部位 | N18: 対象箇所 | P18: 覆工
C19: 部位区分 | E19: 歩道 | N19: 部位区分 | P19: アーチ（天端）
B20: 変状種類 | E20: 滞水 | M20: 変状種類 | P20: その他
B21: 対策 区分 | C21: 変状区分 | E21: 漏水 | M21: 対策 区分 | N21: 変状区分 | P21: 材質劣化
C22: 応急措置前 | N22: 応急措置前
C23: 応急措置後 | E23: Ⅱb | N23: 応急措置後 | P23: Ⅱb
B24: 変状の発生範囲及び規模 | E24: 0.45m×6.75m | H24: 前回変状の発生範囲及び規模 | J24: 今回新規変状 | M24: 変状の発生範囲及び規模 | P24: 0.80m×1.00m | S24: 前回変状の発生範囲及び規模 | U24: 0.8m×1.0m (判定Ⅱb)
B25: 対策履歴 | E25: ― | H25: 実施状況（実施日） | J25: ― | M25: 対策履歴 | P25: 監視（日常巡視） | S25: 実施状況（実施日） | U25: 継続
B26: メモ | E26: 歩道に滞水。 | M26: メモ | P26: アーチ部(天端)に凸部(打音異常なし)。
C27: ※ 応急措置後の対策区分の判定区分Ⅱb～Ⅳについて添付すること。また、点検前に 実施された措置によりⅠと判定された箇所も添付すること。 | N27: ※ 変状の発生範囲の規模とは、対策を行う際に参考となる変状の長さや面積をいう。
N28: ※ 応急措置を実施しないで判定した変状の判定区分は、判定区分の応急措置後の欄に記入すること。
C29: ※ たたき落としを実施した場合は、実施後の写真を添付すること。 | N29: ※ 変状の発生範囲の規模は、面積・寸法を記載すること。(ひび割れ幅のみmmとし、その他をm表記とする)
C30: ※ 附属物の取付状態に関する異常写真は別途、任意の書式でとりまとめること。 | N30: ※ 構造用鋼材以外の異物に伴ううき・はく離については、メモ欄に異物の概要を記入すること。

Sheet 様式D-1-1_037
B2: ■定期点検記録様式 変状写真台帳【様式D-1-1】 | R2: 施設ID | T2: 34.09797,131.54189
B3: フリガナ | E3: (ｻﾊﾞﾔﾏｽﾞｲﾄﾞｳ(ﾉﾎﾞﾘ)) | H3: 路 線 名 | J3: 国道262号 | M3: 定期点検実施者 | P3: 大日本ダイヤコンサルタント株式会社 | S3: 定期点検年月日 | U3: 45635
B4: 名 称 | E4: 佐波山隧道(上り) | H4: 管理者名 | J4: 山口県防府土木建築事務所 | P4: 斉藤 寿英
B5: 写真 番号 | C5: 覆工スパン 番号 | E5: S058 | M5: 写真 番号 | N5: 覆工スパン 番号 | P5: S058
C6: 変状番号 | E6: 2 | N6: 変状番号 | P6: 3
B7: 変状 部位 | C7: 対象箇所 | E7: 覆工 | M7: 変状 部位 | N7: 対象箇所 | P7: 覆工
C8: 部位区分 | E8: 水平打ち継ぎ目（右側） | N8: 部位区分 | P8: 水平打ち継ぎ目（右側）
B9: 変状種類 | E9: 漏水 | M9: 変状種類 | P9: 漏水
B10: 対策 区分 | C10: 変状区分 | E10: 漏水 | M10: 対策 区分 | N10: 変状区分 | P10: 漏水
C11: 応急措置前 | N11: 応急措置前
C12: 応急措置後 | E12: Ⅱb | N12: 応急措置後 | P12: Ⅱb
B13: 変状の発生範囲及び規模 | E13: 2.60m×1.85m | H13: 前回変状の発生範囲及び規模 | J13: にじみ (判定Ⅱb) | M13: 変状の発生範囲及び規模 | P13: 3.15m×4.65m | S13: 前回変状の発生範囲及び規模 | U13: 今回新規変状
B14: 対策履歴 | E14: 監視（日常巡視） | H14: 実施状況（実施日） | J14: 継続 | M14: 対策履歴 | P14: ― | S14: 実施状況（実施日） | U14: ―
B15: メモ | E15: 水平打ち継ぎ目(右側)沿いに線導水からのにじみ(滞水有り)。 | M15: メモ | P15: 水平打ち継ぎ目(右側)沿いに線導水からのにじみ(滞水有り)。
B16: 写真 番号 | C16: 覆工スパン 番号 | E16: S058 | M16: 写真 番号 | N16: 覆工スパン 番号 | P16: S060
C17: 変状番号 | E17: 4 | N17: 変状番号 | P17: 1
B18: 変状 部位 | C18: 対象箇所 | E18: 路面 | M18: 変状 部位 | N18: 対象箇所 | P18: 覆工
C19: 部位区分 | E19: 歩道 | N19: 部位区分 | P19: アーチ（左側）
B20: 変状種類 | E20: 滞水 | M20: 変状種類 | P20: 鋼材腐食
B21: 対策 区分 | C21: 変状区分 | E21: 漏水 | M21: 対策 区分 | N21: 変状区分 | P21: 材質劣化
C22: 応急措置前 | N22: 応急措置前
C23: 応急措置後 | E23: Ⅱb | N23: 応急措置後 | P23: Ⅱa
B24: 変状の発生範囲及び規模 | E24: 0.80m×9.80m | H24: 前回変状の発生範囲及び規模 | J24: 今回新規変状 | M24: 変状の発生範囲及び規模 | P24: 0.40m×0.15m | S24: 前回変状の発生範囲及び規模 | U24: 0.4m×0.15m (判定Ⅱa)
B25: 対策履歴 | E25: ― | H25: 実施状況（実施日） | J25: ― | M25: 対策履歴 | P25: はく落防止対策工を実施 | S25: 実施状況（実施日） | U25: 未
B26: メモ | E26: 歩道に滞水。 | M26: メモ | P26: アーチ部(左側)に鋼材露出。
C27: ※ 応急措置後の対策区分の判定区分Ⅱb～Ⅳについて添付すること。また、点検前に 実施された措置によりⅠと判定された箇所も添付すること。 | N27: ※ 変状の発生範囲の規模とは、対策を行う際に参考となる変状の長さや面積をいう。
N28: ※ 応急措置を実施しないで判定した変状の判定区分は、判定区分の応急措置後の欄に記入すること。
C29: ※ たたき落としを実施した場合は、実施後の写真を添付すること。 | N29: ※ 変状の発生範囲の規模は、面積・寸法を記載すること。(ひび割れ幅のみmmとし、その他をm表記とする)
C30: ※ 附属物の取付状態に関する異常写真は別途、任意の書式でとりまとめること。 | N30: ※ 構造用鋼材以外の異物に伴ううき・はく離については、メモ欄に異物の概要を記入すること。

Sheet 様式D-1-1_038
B2: ■定期点検記録様式 変状写真台帳【様式D-1-1】 | R2: 施設ID | T2: 34.09797,131.54189
B3: フリガナ | E3: (ｻﾊﾞﾔﾏｽﾞｲﾄﾞｳ(ﾉﾎﾞﾘ)) | H3: 路 線 名 | J3: 国道262号 | M3: 定期点検実施者 | P3: 大日本ダイヤコンサルタント株式会社 | S3: 定期点検年月日 | U3: 45635
B4: 名 称 | E4: 佐波山隧道(上り) | H4: 管理者名 | J4: 山口県防府土木建築事務所 | P4: 斉藤 寿英
B5: 写真 番号 | C5: 覆工スパン 番号 | E5: S060 | M5: 写真 番号 | N5: 覆工スパン 番号 | P5: S060
C6: 変状番号 | E6: 2 | N6: 変状番号 | P6: 3
B7: 変状 部位 | C7: 対象箇所 | E7: 路面 | M7: 変状 部位 | N7: 対象箇所 | P7: 覆工
C8: 部位区分 | E8: 車道 | N8: 部位区分 | P8: アーチ（右側）
B9: 変状種類 | E9: その他 | M9: 変状種類 | P9: うき・はく離
B10: 対策 区分 | C10: 変状区分 | M10: 対策 区分 | N10: 変状区分 | P10: 材質劣化
C11: 応急措置前 | N11: 応急措置前
C12: 応急措置後 | N12: 応急措置後 | P12: Ⅱb
B13: 変状の発生範囲及び規模 | E13: 0.15m×0.45m | H13: 前回変状の発生範囲及び規模 | J13: 0.15m×0.3m (判定Ⅱb) | M13: 変状の発生範囲及び規模 | P13: 0.10m×0.20m | S13: 前回変状の発生範囲及び規模 | U13: 前回変状記録無し
B14: 対策履歴 | E14: 監視（日常巡視） | H14: 実施状況（実施日） | J14: 継続 | M14: 対策履歴 | P14: ― | S14: 実施状況（実施日） | U14: ―
B15: メモ | E15: 車道にうき。拡大。 | M15: メモ | P15: アーチ部(右側)に豆板。利用者被害有り。打音異常無し。材質劣化無し。
B16: 写真 番号 | C16: 覆工スパン 番号 | E16: S060 | M16: 写真 番号 | N16: 覆工スパン 番号 | P16: S061
C17: 変状番号 | E17: 4 | N17: 変状番号 | P17: 1
B18: 変状 部位 | C18: 対象箇所 | E18: 覆工 | M18: 変状 部位 | N18: 対象箇所 | P18: 覆工
C19: 部位区分 | E19: アーチ（右側） | N19: 部位区分 | P19: 水平打ち継ぎ目（左側）
B20: 変状種類 | E20: うき・はく離 | M20: 変状種類 | P20: その他
B21: 対策 区分 | C21: 変状区分 | E21: 材質劣化 | M21: 対策 区分 | N21: 変状区分 | P21: 材質劣化
C22: 応急措置前 | N22: 応急措置前
C23: 応急措置後 | E23: Ⅱb | N23: 応急措置後 | P23: Ⅰ
B24: 変状の発生範囲及び規模 | E24: 0.15m×0.30m | H24: 前回変状の発生範囲及び規模 | J24: 前回変状記録無し | M24: 変状の発生範囲及び規模 | P24: ― | S24: 前回変状の発生範囲及び規模 | U24: うき 0.2m×2.5m Ⅱb
B25: 対策履歴 | E25: ― | H25: 実施状況（実施日） | J25: ― | M25: 対策履歴 | P25: はく落防止対策工を実施 | S25: 実施状況（実施日） | U25: 済
B26: メモ | E26: アーチ部(右側)に豆板。利用者被害有り。打音異常無し。材質劣化無し。 | M26: メモ | P26: 水平打ち継ぎ目(左側)沿いにはく落防止対策工(はつり工)を実施。
C27: ※ 応急措置後の対策区分の判定区分Ⅱb～Ⅳについて添付すること。また、点検前に 実施された措置によりⅠと判定された箇所も添付すること。 | N27: ※ 変状の発生範囲の規模とは、対策を行う際に参考となる変状の長さや面積をいう。
N28: ※ 応急措置を実施しないで判定した変状の判定区分は、判定区分の応急措置後の欄に記入すること。
C29: ※ たたき落としを実施した場合は、実施後の写真を添付すること。 | N29: ※ 変状の発生範囲の規模は、面積・寸法を記載すること。(ひび割れ幅のみmmとし、その他をm表記とする)
C30: ※ 附属物の取付状態に関する異常写真は別途、任意の書式でとりまとめること。 | N30: ※ 構造用鋼材以外の異物に伴ううき・はく離については、メモ欄に異物の概要を記入すること。

Sheet 様式D-1-1_039
B2: ■定期点検記録様式 変状写真台帳【様式D-1-1】 | R2: 施設ID | T2: 34.09797,131.54189
B3: フリガナ | E3: (ｻﾊﾞﾔﾏｽﾞｲﾄﾞｳ(ﾉﾎﾞﾘ)) | H3: 路 線 名 | J3: 国道262号 | M3: 定期点検実施者 | P3: 大日本ダイヤコンサルタント株式会社 | S3: 定期点検年月日 | U3: 45635
B4: 名 称 | E4: 佐波山隧道(上り) | H4: 管理者名 | J4: 山口県防府土木建築事務所 | P4: 斉藤 寿英
B5: 写真 番号 | C5: 覆工スパン 番号 | E5: S061 | M5: 写真 番号 | N5: 覆工スパン 番号 | P5: S061
C6: 変状番号 | E6: 2 | N6: 変状番号 | P6: 3
B7: 変状 部位 | C7: 対象箇所 | E7: 覆工 | M7: 変状 部位 | N7: 対象箇所 | P7: 覆工
C8: 部位区分 | E8: 水平打ち継ぎ目（左側） | N8: 部位区分 | P8: 側壁（左側）
B9: 変状種類 | E9: うき・はく離 | M9: 変状種類 | P9: 漏水
B10: 対策 区分 | C10: 変状区分 | E10: 材質劣化 | M10: 対策 区分 | N10: 変状区分 | P10: 漏水
C11: 応急措置前 | N11: 応急措置前
C12: 応急措置後 | E12: Ⅱb | N12: 応急措置後 | P12: Ⅱb
B13: 変状の発生範囲及び規模 | E13: 0.20m×0.40m | H13: 前回変状の発生範囲及び規模 | J13: 0.2m×0.4m (判定Ⅱb) | M13: 変状の発生範囲及び規模 | P13: 2.15m×0.75m | S13: 前回変状の発生範囲及び規模 | U13: にじみ (判定Ⅱb)
B14: 対策履歴 | E14: 監視（日常巡視） | H14: 実施状況（実施日） | J14: 継続 | M14: 対策履歴 | P14: 監視（日常巡視） | S14: 実施状況（実施日） | U14: 継続
B15: メモ | E15: 水平打ち継ぎ目(左側)沿いにうき。閉合ひび割れ無し。利用者被害無し。打音異常有り。 | M15: メモ | P15: 側壁部(左側)ににじみ(滞水有り)。
B16: 写真 番号 | C16: 覆工スパン 番号 | E16: S061 | M16: 写真 番号 | N16: 覆工スパン 番号 | P16: S061
C17: 変状番号 | E17: 4 | N17: 変状番号 | P17: 5
B18: 変状 部位 | C18: 対象箇所 | E18: 覆工 | M18: 変状 部位 | N18: 対象箇所 | P18: 路面
C19: 部位区分 | E19: 横断目地（右側） | N19: 部位区分 | P19: 監査歩路
B20: 変状種類 | E20: 漏水 | M20: 変状種類 | P20: 滞水
B21: 対策 区分 | C21: 変状区分 | E21: 漏水 | M21: 対策 区分 | N21: 変状区分 | P21: 漏水
C22: 応急措置前 | N22: 応急措置前
C23: 応急措置後 | E23: Ⅱb | N23: 応急措置後 | P23: Ⅱb
B24: 変状の発生範囲及び規模 | E24: 5.80m×0.50m | H24: 前回変状の発生範囲及び規模 | J24: にじみ (判定Ⅱb) | M24: 変状の発生範囲及び規模 | P24: 0.65m×3.60m | S24: 前回変状の発生範囲及び規模 | U24: 滞水 (判定Ⅱb)
B25: 対策履歴 | E25: 監視（日常巡視） | H25: 実施状況（実施日） | J25: 継続 | M25: 対策履歴 | P25: 監視（日常巡視） | S25: 実施状況（実施日） | U25: 継続
B26: メモ | E26: 横断目地部(アーチ右側)ににじみ(滞水無し)。 | M26: メモ | P26: 監査歩路に滞水・土砂堆積。
C27: ※ 応急措置後の対策区分の判定区分Ⅱb～Ⅳについて添付すること。また、点検前に 実施された措置によりⅠと判定された箇所も添付すること。 | N27: ※ 変状の発生範囲の規模とは、対策を行う際に参考となる変状の長さや面積をいう。
N28: ※ 応急措置を実施しないで判定した変状の判定区分は、判定区分の応急措置後の欄に記入すること。
C29: ※ たたき落としを実施した場合は、実施後の写真を添付すること。 | N29: ※ 変状の発生範囲の規模は、面積・寸法を記載すること。(ひび割れ幅のみmmとし、その他をm表記とする)
C30: ※ 附属物の取付状態に関する異常写真は別途、任意の書式でとりまとめること。 | N30: ※ 構造用鋼材以外の異物に伴ううき・はく離については、メモ欄に異物の概要を記入すること。

Sheet 様式D-1-1_040
B2: ■定期点検記録様式 変状写真台帳【様式D-1-1】 | R2: 施設ID | T2: 34.09797,131.54189
B3: フリガナ | E3: (ｻﾊﾞﾔﾏｽﾞｲﾄﾞｳ(ﾉﾎﾞﾘ)) | H3: 路 線 名 | J3: 国道262号 | M3: 定期点検実施者 | P3: 大日本ダイヤコンサルタント株式会社 | S3: 定期点検年月日 | U3: 45635
B4: 名 称 | E4: 佐波山隧道(上り) | H4: 管理者名 | J4: 山口県防府土木建築事務所 | P4: 斉藤 寿英
B5: 写真 番号 | C5: 覆工スパン 番号 | E5: S061 | M5: 写真 番号 | N5: 覆工スパン 番号 | P5: S061
C6: 変状番号 | E6: 6 | N6: 変状番号 | P6: 7
B7: 変状 部位 | C7: 対象箇所 | E7: 覆工 | M7: 変状 部位 | N7: 対象箇所 | P7: 覆工
C8: 部位区分 | E8: アーチ（天端） | N8: 部位区分 | P8: アーチ（天端）
B9: 変状種類 | E9: 鋼材腐食 | M9: 変状種類 | P9: 漏水
B10: 対策 区分 | C10: 変状区分 | E10: 材質劣化 | M10: 対策 区分 | N10: 変状区分 | P10: 漏水
C11: 応急措置前 | N11: 応急措置前
C12: 応急措置後 | E12: Ⅱa | N12: 応急措置後 | P12: Ⅱa
B13: 変状の発生範囲及び規模 | E13: 0.05m×0.05m | H13: 前回変状の発生範囲及び規模 | J13: 今回新規変状 | M13: 変状の発生範囲及び規模 | P13: 7.75m×0.50m | S13: 前回変状の発生範囲及び規模 | U13: 今回新規変状
B14: 対策履歴 | E14: ― | H14: 実施状況（実施日） | J14: ― | M14: 対策履歴 | P14: ― | S14: 実施状況（実施日） | U14: ―
B15: メモ | E15: アーチ部(天端)に鋼材露出。 | M15: メモ | P15: アーチ部(天端)に滴水(滞水無し)。
B16: 写真 番号 | C16: 覆工スパン 番号 | E16: S061 | M16: 写真 番号 | N16: 覆工スパン 番号 | P16: S061
C17: 変状番号 | E17: 8 | N17: 変状番号 | P17: 9
B18: 変状 部位 | C18: 対象箇所 | E18: 覆工 | M18: 変状 部位 | N18: 対象箇所 | P18: 路面
C19: 部位区分 | E19: アーチ（右側） | N19: 部位区分 | P19: 歩道
B20: 変状種類 | E20: 漏水 | M20: 変状種類 | P20: 滞水
B21: 対策 区分 | C21: 変状区分 | E21: 漏水 | M21: 対策 区分 | N21: 変状区分 | P21: 漏水
C22: 応急措置前 | N22: 応急措置前
C23: 応急措置後 | E23: Ⅱb | N23: 応急措置後 | P23: Ⅱb
B24: 変状の発生範囲及び規模 | E24: 3.00m×1.85m | H24: 前回変状の発生範囲及び規模 | J24: 今回新規変状 | M24: 変状の発生範囲及び規模 | P24: 0.40m×4.95m | S24: 前回変状の発生範囲及び規模 | U24: 今回新規変状
B25: 対策履歴 | E25: ― | H25: 実施状況（実施日） | J25: ― | M25: 対策履歴 | P25: ― | S25: 実施状況（実施日） | U25: ―
B26: メモ | E26: アーチ部(右側)ににじみ(滞水有り)。 | M26: メモ | P26: 歩道に滞水。
C27: ※ 応急措置後の対策区分の判定区分Ⅱb～Ⅳについて添付すること。また、点検前に 実施された措置によりⅠと判定された箇所も添付すること。 | N27: ※ 変状の発生範囲の規模とは、対策を行う際に参考となる変状の長さや面積をいう。
N28: ※ 応急措置を実施しないで判定した変状の判定区分は、判定区分の応急措置後の欄に記入すること。
C29: ※ たたき落としを実施した場合は、実施後の写真を添付すること。 | N29: ※ 変状の発生範囲の規模は、面積・寸法を記載すること。(ひび割れ幅のみmmとし、その他をm表記とする)
C30: ※ 附属物の取付状態に関する異常写真は別途、任意の書式でとりまとめること。 | N30: ※ 構造用鋼材以外の異物に伴ううき・はく離については、メモ欄に異物の概要を記入すること。

Sheet 様式D-1-1_041
B2: ■定期点検記録様式 変状写真台帳【様式D-1-1】 | R2: 施設ID | T2: 34.09797,131.54189
B3: フリガナ | E3: (ｻﾊﾞﾔﾏｽﾞｲﾄﾞｳ(ﾉﾎﾞﾘ)) | H3: 路 線 名 | J3: 国道262号 | M3: 定期点検実施者 | P3: 大日本ダイヤコンサルタント株式会社 | S3: 定期点検年月日 | U3: 45635
B4: 名 称 | E4: 佐波山隧道(上り) | H4: 管理者名 | J4: 山口県防府土木建築事務所 | P4: 斉藤 寿英
B5: 写真 番号 | C5: 覆工スパン 番号 | E5: S063 | M5: 写真 番号 | N5: 覆工スパン 番号 | P5: S064
C6: 変状番号 | E6: 1 | N6: 変状番号 | P6: 1
B7: 変状 部位 | C7: 対象箇所 | E7: 覆工 | M7: 変状 部位 | N7: 対象箇所 | P7: 内装板
C8: 部位区分 | E8: 横断目地（左側） | N8: 部位区分 | P8: 側壁
B9: 変状種類 | E9: 漏水 | M9: 変状種類 | P9: その他
B10: 対策 区分 | C10: 変状区分 | E10: 漏水 | M10: 対策 区分 | N10: 変状区分 | P10: 材質劣化
C11: 応急措置前 | N11: 応急措置前
C12: 応急措置後 | E12: Ⅱb | N12: 応急措置後 | P12: Ⅱb
B13: 変状の発生範囲及び規模 | E13: 6.15m×0.50m | H13: 前回変状の発生範囲及び規模 | J13: にじみ (判定Ⅱb) | M13: 変状の発生範囲及び規模 | P13: 0.05m×0.20m | S13: 前回変状の発生範囲及び規模 | U13: 0.05m×0.2m (判定Ⅱb)
B14: 対策履歴 | E14: 監視（日常巡視） | H14: 実施状況（実施日） | J14: 継続 | M14: 対策履歴 | P14: 監視（日常巡視） | S14: 実施状況（実施日） | U14: 継続
B15: メモ | E15: 横断目地部(アーチ左側)に漏水跡(滞水無し)。 | M15: メモ | P15: 内装板に内装板破損。
B16: 写真 番号 | C16: 覆工スパン 番号 | E16: S064 | M16: 写真 番号 | N16: 覆工スパン 番号 | P16: S064
C17: 変状番号 | E17: 2 | N17: 変状番号 | P17: 3
B18: 変状 部位 | C18: 対象箇所 | E18: 路面 | M18: 変状 部位 | N18: 対象箇所 | P18: 覆工
C19: 部位区分 | E19: 車道 | N19: 部位区分 | P19: アーチ（天端）
B20: 変状種類 | E20: その他 | M20: 変状種類 | P20: 鋼材腐食
B21: 対策 区分 | C21: 変状区分 | M21: 対策 区分 | N21: 変状区分 | P21: 材質劣化
C22: 応急措置前 | N22: 応急措置前
C23: 応急措置後 | N23: 応急措置後 | P23: Ⅱa
B24: 変状の発生範囲及び規模 | E24: 開口幅30mm | H24: 前回変状の発生範囲及び規模 | J24: 幅30mm (判定Ⅱb) | M24: 変状の発生範囲及び規模 | P24: 0.20m×0.30m | S24: 前回変状の発生範囲及び規模 | U24: 今回新規変状
B25: 対策履歴 | E25: 監視（日常巡視） | H25: 実施状況（実施日） | J25: 継続 | M25: 対策履歴 | P25: ― | S25: 実施状況（実施日） | U25: ―
B26: メモ | E26: 車道に目地部の開き。 | M26: メモ | P26: アーチ部(天端)に鋼材露出(はく落)。
C27: ※ 応急措置後の対策区分の判定区分Ⅱb～Ⅳについて添付すること。また、点検前に 実施された措置によりⅠと判定された箇所も添付すること。 | N27: ※ 変状の発生範囲の規模とは、対策を行う際に参考となる変状の長さや面積をいう。
N28: ※ 応急措置を実施しないで判定した変状の判定区分は、判定区分の応急措置後の欄に記入すること。
C29: ※ たたき落としを実施した場合は、実施後の写真を添付すること。 | N29: ※ 変状の発生範囲の規模は、面積・寸法を記載すること。(ひび割れ幅のみmmとし、その他をm表記とする)
C30: ※ 附属物の取付状態に関する異常写真は別途、任意の書式でとりまとめること。 | N30: ※ 構造用鋼材以外の異物に伴ううき・はく離については、メモ欄に異物の概要を記入すること。

Sheet 様式D-1-1_042
B2: ■定期点検記録様式 変状写真台帳【様式D-1-1】 | R2: 施設ID | T2: 34.09797,131.54189
B3: フリガナ | E3: (ｻﾊﾞﾔﾏｽﾞｲﾄﾞｳ(ﾉﾎﾞﾘ)) | H3: 路 線 名 | J3: 国道262号 | M3: 定期点検実施者 | P3: 大日本ダイヤコンサルタント株式会社 | S3: 定期点検年月日 | U3: 45635
B4: 名 称 | E4: 佐波山隧道(上り) | H4: 管理者名 | J4: 山口県防府土木建築事務所 | P4: 斉藤 寿英
B5: 写真 番号 | C5: 覆工スパン 番号 | E5: S064 | M5: 写真 番号 | N5: 覆工スパン 番号 | P5: S064
C6: 変状番号 | E6: 4 | N6: 変状番号 | P6: 5
B7: 変状 部位 | C7: 対象箇所 | E7: 路面 | M7: 変状 部位 | N7: 対象箇所 | P7: 路面
C8: 部位区分 | E8: 側溝 | N8: 部位区分 | P8: 側溝
B9: 変状種類 | E9: その他 | M9: 変状種類 | P9: その他
B10: 対策 区分 | C10: 変状区分 | M10: 対策 区分 | N10: 変状区分
C11: 応急措置前 | N11: 応急措置前
C12: 応急措置後 | N12: 応急措置後
B13: 変状の発生範囲及び規模 | E13: 0.50m×0.10m | H13: 前回変状の発生範囲及び規模 | J13: 今回新規変状 | M13: 変状の発生範囲及び規模 | P13: 0.50m×1.55m、0.05m×0.20m、0.05m×0.10m、0.05m×0.10m | S13: 前回変状の発生範囲及び規模 | U13: 今回新規変状
B14: 対策履歴 | E14: ― | H14: 実施状況（実施日） | J14: ― | M14: 対策履歴 | P14: ― | S14: 実施状況（実施日） | U14: ―
B15: メモ | E15: 側溝に蓋破損(ひび割れ)。 | M15: メモ | P15: 側溝に蓋破損(ひび割れ)。
B16: 写真 番号 | C16: 覆工スパン 番号 | E16: S065 | M16: 写真 番号 | N16: 覆工スパン 番号 | P16: S065
C17: 変状番号 | E17: 1 | N17: 変状番号 | P17: 2
B18: 変状 部位 | C18: 対象箇所 | E18: 覆工 | M18: 変状 部位 | N18: 対象箇所 | P18: 路面
C19: 部位区分 | E19: アーチ（天端） | N19: 部位区分 | P19: 側溝
B20: 変状種類 | E20: 鋼材腐食 | M20: 変状種類 | P20: その他
B21: 対策 区分 | C21: 変状区分 | E21: 材質劣化 | M21: 対策 区分 | N21: 変状区分
C22: 応急措置前 | N22: 応急措置前
C23: 応急措置後 | E23: Ⅱa | N23: 応急措置後
B24: 変状の発生範囲及び規模 | E24: 0.20m×0.15m | H24: 前回変状の発生範囲及び規模 | J24: 今回新規変状 | M24: 変状の発生範囲及び規模 | P24: 30mm | S24: 前回変状の発生範囲及び規模 | U24: 今回新規変状
B25: 対策履歴 | E25: ― | H25: 実施状況（実施日） | J25: ― | M25: 対策履歴 | P25: ― | S25: 実施状況（実施日） | U25: ―
B26: メモ | E26: アーチ部(天端)に鋼材露出(はく落)。 | M26: メモ | P26: 側溝に蓋浮き上がりによる段差。
C27: ※ 応急措置後の対策区分の判定区分Ⅱb～Ⅳについて添付すること。また、点検前に 実施された措置によりⅠと判定された箇所も添付すること。 | N27: ※ 変状の発生範囲の規模とは、対策を行う際に参考となる変状の長さや面積をいう。
N28: ※ 応急措置を実施しないで判定した変状の判定区分は、判定区分の応急措置後の欄に記入すること。
C29: ※ たたき落としを実施した場合は、実施後の写真を添付すること。 | N29: ※ 変状の発生範囲の規模は、面積・寸法を記載すること。(ひび割れ幅のみmmとし、その他をm表記とする)
C30: ※ 附属物の取付状態に関する異常写真は別途、任意の書式でとりまとめること。 | N30: ※ 構造用鋼材以外の異物に伴ううき・はく離については、メモ欄に異物の概要を記入すること。

Sheet 様式D-1-1_043
B2: ■定期点検記録様式 変状写真台帳【様式D-1-1】 | R2: 施設ID | T2: 34.09797,131.54189
B3: フリガナ | E3: (ｻﾊﾞﾔﾏｽﾞｲﾄﾞｳ(ﾉﾎﾞﾘ)) | H3: 路 線 名 | J3: 国道262号 | M3: 定期点検実施者 | P3: 大日本ダイヤコンサルタント株式会社 | S3: 定期点検年月日 | U3: 45635
B4: 名 称 | E4: 佐波山隧道(上り) | H4: 管理者名 | J4: 山口県防府土木建築事務所 | P4: 斉藤 寿英
B5: 写真 番号 | C5: 覆工スパン 番号 | E5: S067 | M5: 写真 番号 | N5: 覆工スパン 番号 | P5: S067
C6: 変状番号 | E6: 1 | N6: 変状番号 | P6: 2
B7: 変状 部位 | C7: 対象箇所 | E7: 覆工 | M7: 変状 部位 | N7: 対象箇所 | P7: 覆工
C8: 部位区分 | E8: 側壁（左側） | N8: 部位区分 | P8: アーチ（左側）
B9: 変状種類 | E9: うき・はく離 | M9: 変状種類 | P9: 漏水
B10: 対策 区分 | C10: 変状区分 | E10: 材質劣化 | M10: 対策 区分 | N10: 変状区分 | P10: 漏水
C11: 応急措置前 | N11: 応急措置前
C12: 応急措置後 | E12: Ⅱb | N12: 応急措置後 | P12: Ⅱb
B13: 変状の発生範囲及び規模 | E13: 0.55m×0.25m | H13: 前回変状の発生範囲及び規模 | J13: 0.35m×0.25m (判定Ⅱb) | M13: 変状の発生範囲及び規模 | P13: 4.55m×0.50m | S13: 前回変状の発生範囲及び規模 | U13: にじみ (判定Ⅱb)
B14: 対策履歴 | E14: 監視（日常巡視） | H14: 実施状況（実施日） | J14: 継続 | M14: 対策履歴 | P14: 監視（日常巡視） | S14: 実施状況（実施日） | U14: 継続
B15: メモ | E15: 側壁部(左側)にうき。拡大。閉合ひび割れ無し。利用者被害無し。打音異常有り。 | M15: メモ | P15: アーチ部(左側)にひび割れ沿いのにじみ(滞水無し)。
B16: 写真 番号 | C16: 覆工スパン 番号 | E16: S067 | M16: 写真 番号 | N16: 覆工スパン 番号 | P16: S067
C17: 変状番号 | E17: 3 | N17: 変状番号 | P17: 4
B18: 変状 部位 | C18: 対象箇所 | E18: 覆工 | M18: 変状 部位 | N18: 対象箇所 | P18: 路面
C19: 部位区分 | E19: アーチ（全周） | N19: 部位区分 | P19: 監査歩路
B20: 変状種類 | E20: 圧ざ、ひび割れ | M20: 変状種類 | P20: その他
B21: 対策 区分 | C21: 変状区分 | E21: 材質劣化 | M21: 対策 区分 | N21: 変状区分
C22: 応急措置前 | N22: 応急措置前
C23: 応急措置後 | E23: Ⅱb | N23: 応急措置後
B24: 変状の発生範囲及び規模 | E24: 長さ2.3m×幅1.5mm、他 | H24: 前回変状の発生範囲及び規模 | J24: ひび割れ密度0.65m/㎡(幅0.3mm以上) (判定Ⅱb) | M24: 変状の発生範囲及び規模 | P24: 0.20m×0.15m | S24: 前回変状の発生範囲及び規模 | U24: 0.2m×0.15m (判定Ⅱb)
B25: 対策履歴 | E25: 監視（日常巡視） | H25: 実施状況（実施日） | J25: 継続 | M25: 対策履歴 | P25: 監視（日常巡視） | S25: 実施状況（実施日） | U25: 継続
B26: メモ | E26: アーチ部(全周)に複数のひび割れ。ひび割れ増加。 | M26: メモ | P26: 監査歩路に縁石うき。
C27: ※ 応急措置後の対策区分の判定区分Ⅱb～Ⅳについて添付すること。また、点検前に 実施された措置によりⅠと判定された箇所も添付すること。 | N27: ※ 変状の発生範囲の規模とは、対策を行う際に参考となる変状の長さや面積をいう。
N28: ※ 応急措置を実施しないで判定した変状の判定区分は、判定区分の応急措置後の欄に記入すること。
C29: ※ たたき落としを実施した場合は、実施後の写真を添付すること。 | N29: ※ 変状の発生範囲の規模は、面積・寸法を記載すること。(ひび割れ幅のみmmとし、その他をm表記とする)
C30: ※ 附属物の取付状態に関する異常写真は別途、任意の書式でとりまとめること。 | N30: ※ 構造用鋼材以外の異物に伴ううき・はく離については、メモ欄に異物の概要を記入すること。

Sheet 様式D-1-1_044
B2: ■定期点検記録様式 変状写真台帳【様式D-1-1】 | R2: 施設ID | T2: 34.09797,131.54189
B3: フリガナ | E3: (ｻﾊﾞﾔﾏｽﾞｲﾄﾞｳ(ﾉﾎﾞﾘ)) | H3: 路 線 名 | J3: 国道262号 | M3: 定期点検実施者 | P3: 大日本ダイヤコンサルタント株式会社 | S3: 定期点検年月日 | U3: 45635
B4: 名 称 | E4: 佐波山隧道(上り) | H4: 管理者名 | J4: 山口県防府土木建築事務所 | P4: 斉藤 寿英
B5: 写真 番号 | C5: 覆工スパン 番号 | E5: S067 | M5: 写真 番号 | N5: 覆工スパン 番号 | P5: S067
C6: 変状番号 | E6: 5 | N6: 変状番号 | P6: 6
B7: 変状 部位 | C7: 対象箇所 | E7: 覆工 | M7: 変状 部位 | N7: 対象箇所 | P7: 内装板
C8: 部位区分 | E8: 水平打ち継ぎ目（左側） | N8: 部位区分 | P8: 側壁
B9: 変状種類 | E9: うき・はく離 | M9: 変状種類 | P9: その他
B10: 対策 区分 | C10: 変状区分 | E10: 材質劣化 | M10: 対策 区分 | N10: 変状区分 | P10: 材質劣化
C11: 応急措置前 | N11: 応急措置前
C12: 応急措置後 | E12: Ⅱb | N12: 応急措置後 | P12: Ⅱb
B13: 変状の発生範囲及び規模 | E13: 0.20m×0.40m | H13: 前回変状の発生範囲及び規模 | J13: 今回新規変状 | M13: 変状の発生範囲及び規模 | P13: L=0.4m | S13: 前回変状の発生範囲及び規模 | U13: 今回新規変状
B14: 対策履歴 | E14: ― | H14: 実施状況（実施日） | J14: ― | M14: 対策履歴 | P14: ― | S14: 実施状況（実施日） | U14: ―
B15: メモ | E15: 水平打ち継ぎ目(左側)沿いにうき。閉合ひび割れ無し。利用者被害無し。打音異常有り。 | M15: メモ | P15: 内装板に内装板ひび割れ。
B16: 写真 番号 | C16: 覆工スパン 番号 | E16: PE | M16: 写真 番号 | N16: 覆工スパン 番号 | P16: PE
C17: 変状番号 | E17: 1 | N17: 変状番号 | P17: 2
B18: 変状 部位 | C18: 対象箇所 | E18: 坑門 | M18: 変状 部位 | N18: 対象箇所 | P18: 坑門
C19: 部位区分 | E19: 面壁・妻壁等 | N19: 部位区分 | P19: 面壁・妻壁等
B20: 変状種類 | E20: うき・はく離 | M20: 変状種類 | P20: その他
B21: 対策 区分 | C21: 変状区分 | E21: 材質劣化 | M21: 対策 区分 | N21: 変状区分 | P21: 材質劣化
C22: 応急措置前 | N22: 応急措置前
C23: 応急措置後 | E23: Ⅱa | N23: 応急措置後 | P23: Ⅰ
B24: 変状の発生範囲及び規模 | E24: 0.10m×1.50m | H24: 前回変状の発生範囲及び規模 | J24: 1.5m×0.1m (判定Ⅱa) | M24: 変状の発生範囲及び規模 | P24: ― | S24: 前回変状の発生範囲及び規模 | U24: ひび割れ 面壁全面 (判定不明)
B25: 対策履歴 | E25: はく落防止対策工を実施 | H25: 実施状況（実施日） | J25: 未 | M25: 対策履歴 | P25: ひび割れ補修工を実施 | S25: 実施状況（実施日） | U25: 済
B26: メモ | E26: 面壁に補修跡うき。閉合ひび割れ無し。利用者被害有り。打音異常有り。材質劣化無し。 | M26: メモ | P26: 面壁に補修跡(ひび割れ補修工)。
C27: ※ 応急措置後の対策区分の判定区分Ⅱb～Ⅳについて添付すること。また、点検前に 実施された措置によりⅠと判定された箇所も添付すること。 | N27: ※ 変状の発生範囲の規模とは、対策を行う際に参考となる変状の長さや面積をいう。
N28: ※ 応急措置を実施しないで判定した変状の判定区分は、判定区分の応急措置後の欄に記入すること。
C29: ※ たたき落としを実施した場合は、実施後の写真を添付すること。 | N29: ※ 変状の発生範囲の規模は、面積・寸法を記載すること。(ひび割れ幅のみmmとし、その他をm表記とする)
C30: ※ 附属物の取付状態に関する異常写真は別途、任意の書式でとりまとめること。 | N30: ※ 構造用鋼材以外の異物に伴ううき・はく離については、メモ欄に異物の概要を記入すること。

Sheet 様式D-1-1_045
B2: ■定期点検記録様式 変状写真台帳【様式D-1-1】 | R2: 施設ID | T2: 34.09797,131.54189
B3: フリガナ | E3: (ｻﾊﾞﾔﾏｽﾞｲﾄﾞｳ(ﾉﾎﾞﾘ)) | H3: 路 線 名 | J3: 国道262号 | M3: 定期点検実施者 | P3: 大日本ダイヤコンサルタント株式会社 | S3: 定期点検年月日 | U3: 45635
B4: 名 称 | E4: 佐波山隧道(上り) | H4: 管理者名 | J4: 山口県防府土木建築事務所 | P4: 斉藤 寿英
B5: 写真 番号 | C5: 覆工スパン 番号 | E5: PE | M5: 写真 番号 | N5: 覆工スパン 番号 | P5: PE
C6: 変状番号 | E6: 3 | N6: 変状番号 | P6: 4
B7: 変状 部位 | C7: 対象箇所 | E7: 坑門 | M7: 変状 部位 | N7: 対象箇所 | P7: 路面
C8: 部位区分 | E8: 面壁・妻壁等 | N8: 部位区分 | P8: 歩道
B9: 変状種類 | E9: うき・はく離 | M9: 変状種類 | P9: その他
B10: 対策 区分 | C10: 変状区分 | E10: 材質劣化 | M10: 対策 区分 | N10: 変状区分
C11: 応急措置前 | N11: 応急措置前
C12: 応急措置後 | E12: Ⅱa | N12: 応急措置後
B13: 変状の発生範囲及び規模 | E13: 1.30m×0.90m、0.90m×0.10m | H13: 前回変状の発生範囲及び規模 | J13: 今回新規変状 | M13: 変状の発生範囲及び規模 | P13: 0.20m×0.90m | S13: 前回変状の発生範囲及び規模 | U13: 今回新規変状
B14: 対策履歴 | E14: ― | H14: 実施状況（実施日） | J14: ― | M14: 対策履歴 | P14: ― | S14: 実施状況（実施日） | U14: ―
B15: メモ | E15: 面壁に銘板周りの補修跡うき。閉合ひび割れ無し。利用者被害有り。打音異常有り。材質劣化無し。 | M15: メモ | P15: 歩道に縁石欠損・鋼材露出。
B16: 写真 番号 | C16: 覆工スパン 番号 | M16: 写真 番号 | N16: 覆工スパン 番号
C17: 変状番号 | N17: 変状番号
B18: 変状 部位 | C18: 対象箇所 | M18: 変状 部位 | N18: 対象箇所
C19: 部位区分 | N19: 部位区分
B20: 変状種類 | M20: 変状種類
B21: 対策 区分 | C21: 変状区分 | M21: 対策 区分 | N21: 変状区分
C22: 応急措置前 | N22: 応急措置前
C23: 応急措置後 | N23: 応急措置後
B24: 変状の発生範囲及び規模 | H24: 前回変状の発生範囲及び規模 | M24: 変状の発生範囲及び規模 | S24: 前回変状の発生範囲及び規模
B25: 対策履歴 | H25: 実施状況（実施日） | M25: 対策履歴 | S25: 実施状況（実施日）
B26: メモ | M26: メモ
C27: ※ 応急措置後の対策区分の判定区分Ⅱb～Ⅳについて添付すること。また、点検前に 実施された措置によりⅠと判定された箇所も添付すること。 | N27: ※ 変状の発生範囲の規模とは、対策を行う際に参考となる変状の長さや面積をいう。
N28: ※ 応急措置を実施しないで判定した変状の判定区分は、判定区分の応急措置後の欄に記入すること。
C29: ※ たたき落としを実施した場合は、実施後の写真を添付すること。 | N29: ※ 変状の発生範囲の規模は、面積・寸法を記載すること。(ひび割れ幅のみmmとし、その他をm表記とする)
C30: ※ 附属物の取付状態に関する異常写真は別途、任意の書式でとりまとめること。 | N30: ※ 構造用鋼材以外の異物に伴ううき・はく離については、メモ欄に異物の概要を記入すること。

Sheet 様式D-1-2_001
B2: ■定期点検記録様式 異常写真台帳（トンネル内附属物等の取付状態） 【様式D-1-2】
B3: フリガナ | E3: (ｻﾊﾞﾔﾏｽﾞｲﾄﾞｳ(ﾉﾎﾞﾘ)) | I3: 路 線 名 | L3: 一般国道262号 | O3: 定期点検実施者 | R3: 大日本ダイヤコンサルタント株式会社 | U3: 定期点検年月日 | W3: 45635
B4: 名 称 | E4: 佐波山隧道(上り) | I4: 管理者名 | L4: 山口県防府土木建築事務所 | R4: 斉藤 寿英
B5: 覆工スパン番号 | E5: S023 | F5: 異常番号 | I5: 1 | J5: 覆工スパン番号 | M5: S024 | N5: 異常番号 | Q5: 1 | R5: 覆工スパン番号 | U5: S025 | V5: 異常番号 | Y5: 1
B6: 対象箇所 | D6: 非常用施設 | E6: 消火器 | J6: 対象箇所 | L6: 非常用施設 | M6: 消火器 | R6: 対象箇所 | T6: 非常用施設 | U6: 消火器
B7: 部位区分 | D7: 附属物本体 | F7: 異常の種類 | H7: 緩み，脱落 | J7: 部位区分 | L7: 附属物本体 | N7: 異常の種類 | P7: 緩み，脱落 | R7: 部位区分 | T7: 附属物本体 | V7: 異常の種類 | X7: 緩み，脱落
B8: 異常判定区分 | D8: × | E8: メモ | F8: さや管脱落 | J8: 異常判定区分 | L8: × | M8: メモ | N8: さや管脱落 | R8: 異常判定区分 | T8: × | U8: メモ | V8: さや管脱落
B22: 覆工スパン番号 | E22: S038 | F22: 異常番号 | I22: 1 | J22: 覆工スパン番号 | M22: S039 | N22: 異常番号 | Q22: 1 | R22: 覆工スパン番号 | U22: S064 | V22: 異常番号 | Y22: 1
B23: 対象箇所 | D23: 非常用施設 | E23: 消火器 | J23: 対象箇所 | L23: 非常用施設 | M23: 消火器 | R23: 対象箇所 | T23: 非常用施設 | U23: 避難情報提供設備
B24: 部位区分 | D24: 附属物本体 | F24: 異常の種類 | H24: 緩み，脱落 | J24: 部位区分 | L24: 附属物本体 | N24: 異常の種類 | P24: 緩み，脱落 | R24: 部位区分 | T24: 取付部材 | V24: 異常の種類 | X24: 緩み，脱落
B25: 異常判定区分 | D25: × | E25: メモ | F25: さや管脱落 | J25: 異常判定区分 | L25: × | M25: メモ | N25: さや管脱落 | R25: 異常判定区分 | T25: × | U25: メモ | V25: ラジ再ケーブル金具破損
C39: ※ 異常判定区分×について記入すること。また、応急措置前に異常判定区分×とした箇所のうち応急措置により○と判定した箇所も記入すること。
C40: ※ 応急措置を実施した場合は、その実施状況が分かる写真を添付すること。
C41: ※ 変状数に準じてシートを追加すること。

Sheet 様式D-1-2_002
B2: ■定期点検記録様式 異常写真台帳（トンネル内附属物等の取付状態） 【様式D-1-2】
B3: フリガナ | E3: (ｻﾊﾞﾔﾏｽﾞｲﾄﾞｳ(ﾉﾎﾞﾘ)) | I3: 路 線 名 | L3: 一般国道262号 | O3: 定期点検実施者 | R3: 大日本ダイヤコンサルタント株式会社 | U3: 定期点検年月日 | W3: 45635
B4: 名 称 | E4: 佐波山隧道(上り) | I4: 管理者名 | L4: 山口県防府土木建築事務所 | R4: 斉藤 寿英
B5: 覆工スパン番号 | E5: S067 | F5: 異常番号 | I5: 1 | J5: 覆工スパン番号 | M5: S067 | N5: 異常番号 | Q5: 2 | R5: 覆工スパン番号 | U5: S067 | V5: 異常番号 | Y5: 3
B6: 対象箇所 | D6: 照明施設 | E6: ケーブル類 | J6: 対象箇所 | L6: 照明施設 | M6: ケーブル類 | R6: 対象箇所 | T6: その他施設 | U6: その他
B7: 部位区分 | D7: ボルト・ﾅｯﾄ・アンカー類 | F7: 異常の種類 | H7: 異常なし | J7: 部位区分 | L7: 附属物本体 | N7: 異常の種類 | P7: 異常なし | R7: 部位区分 | T7: 附属物本体 | V7: 異常の種類 | X7: 変形，欠損
B8: 異常判定区分 | D8: ○ | E8: メモ | F8: 金具撤去済み(前回破損) | J8: 異常判定区分 | L8: ○ | M8: メモ | N8: ボックス撤去済み(前回腐食) | R8: 異常判定区分 | T8: × | U8: メモ | V8: デリネーター破損
B22: 覆工スパン番号 | F22: 異常番号 | J22: 覆工スパン番号 | N22: 異常番号 | R22: 覆工スパン番号 | V22: 異常番号
B23: 対象箇所 | J23: 対象箇所 | R23: 対象箇所
B24: 部位区分 | F24: 異常の種類 | J24: 部位区分 | N24: 異常の種類 | R24: 部位区分 | V24: 異常の種類
B25: 異常判定区分 | E25: メモ | J25: 異常判定区分 | M25: メモ | R25: 異常判定区分 | U25: メモ
C39: ※ 異常判定区分×について記入すること。また、応急措置前に異常判定区分×とした箇所のうち応急措置により○と判定した箇所も記入すること。
C40: ※ 応急措置を実施した場合は、その実施状況が分かる写真を添付すること。
C41: ※ 変状数に準じてシートを追加すること。

Sheet 様式D-2-1_001
B3: ■定期点検記録様式 トンネル全体変状展開図 【様式D-2-1】
B4: フリガナ | E4: (ｻﾊﾞﾔﾏｽﾞｲﾄﾞｳ(ﾉﾎﾞﾘ)) | J4: 路線名 | M4: 一般国道262号 | S4: 定期点検実施者 | W4: 大日本ダイヤコンサルタント株式会社 | AC4: 定期点検年月日 | AF4: 45635
B5: 名 称 | E5: 佐波山隧道(上り) | J5: 管理者名 | M5: 山口県防府土木建築事務所 | W5: 斉藤 寿英
B6: トンネル変状展開図 | C6: トンネル全体変状展開図
V18: 注１：本展開図は、見下げた状態で記載すること。 注２：覆工スパン番号は横断目地毎（矢板工法の場合は上半アーチ の横断目地毎)に設定すること。 注３：横断目地の変状は前の覆工スパン番号で計上すること。 注４：１枚に収まらない場合は、複数枚に分けて作成すること。

Sheet 様式D-2-1_002
B3: ■定期点検記録様式 トンネル全体変状展開図 【様式D-2-1】
B4: フリガナ | E4: (ｻﾊﾞﾔﾏｽﾞｲﾄﾞｳ(ﾉﾎﾞﾘ)) | J4: 路線名 | M4: 一般国道262号 | S4: 定期点検実施者 | W4: 大日本ダイヤコンサルタント株式会社 | AC4: 定期点検年月日 | AF4: 45635
B5: 名 称 | E5: 佐波山隧道(上り) | J5: 管理者名 | M5: 山口県防府土木建築事務所 | W5: 斉藤 寿英
B6: トンネル変状展開図 | C6: トンネル全体変状展開図
V18: 注１：本展開図は、見下げた状態で記載すること。 注２：覆工スパン番号は横断目地毎（矢板工法の場合は上半アーチ の横断目地毎)に設定すること。 注３：横断目地の変状は前の覆工スパン番号で計上すること。 注４：１枚に収まらない場合は、複数枚に分けて作成すること。

Sheet 様式D-2-1_003
B3: ■定期点検記録様式 トンネル全体変状展開図 【様式D-2-1】
B4: フリガナ | E4: (ｻﾊﾞﾔﾏｽﾞｲﾄﾞｳ(ﾉﾎﾞﾘ)) | J4: 路線名 | M4: 一般国道262号 | S4: 定期点検実施者 | W4: 大日本ダイヤコンサルタント株式会社 | AC4: 定期点検年月日 | AF4: 45635
B5: 名 称 | E5: 佐波山隧道(上り) | J5: 管理者名 | M5: 山口県防府土木建築事務所 | W5: 斉藤 寿英
B6: トンネル変状展開図 | C6: トンネル全体変状展開図
V18: 注１：本展開図は、見下げた状態で記載すること。 注２：覆工スパン番号は横断目地毎（矢板工法の場合は上半アーチ の横断目地毎)に設定すること。 注３：横断目地の変状は前の覆工スパン番号で計上すること。 注４：１枚に収まらない場合は、複数枚に分けて作成すること。

Sheet 様式D-2-1_004
B3: ■定期点検記録様式 トンネル全体変状展開図 【様式D-2-1】
B4: フリガナ | E4: (ｻﾊﾞﾔﾏｽﾞｲﾄﾞｳ(ﾉﾎﾞﾘ)) | J4: 路線名 | M4: 一般国道262号 | S4: 定期点検実施者 | W4: 大日本ダイヤコンサルタント株式会社 | AC4: 定期点検年月日 | AF4: 45635
B5: 名 称 | E5: 佐波山隧道(上り) | J5: 管理者名 | M5: 山口県防府土木建築事務所 | W5: 斉藤 寿英
B6: トンネル変状展開図 | C6: トンネル全体変状展開図
V18: 注１：本展開図は、見下げた状態で記載すること。 注２：覆工スパン番号は横断目地毎（矢板工法の場合は上半アーチ の横断目地毎)に設定すること。 注３：横断目地の変状は前の覆工スパン番号で計上すること。 注４：１枚に収まらない場合は、複数枚に分けて作成すること。

Sheet 様式D-2-1_005
B3: ■定期点検記録様式 トンネル全体変状展開図 【様式D-2-1】
B4: フリガナ | E4: (ｻﾊﾞﾔﾏｽﾞｲﾄﾞｳ(ﾉﾎﾞﾘ)) | J4: 路線名 | M4: 一般国道262号 | S4: 定期点検実施者 | W4: 大日本ダイヤコンサルタント株式会社 | AC4: 定期点検年月日 | AF4: 45635
B5: 名 称 | E5: 佐波山隧道(上り) | J5: 管理者名 | M5: 山口県防府土木建築事務所 | W5: 斉藤 寿英
B6: トンネル変状展開図 | C6: トンネル全体変状展開図
V18: 注１：本展開図は、見下げた状態で記載すること。 注２：覆工スパン番号は横断目地毎（矢板工法の場合は上半アーチ の横断目地毎)に設定すること。 注３：横断目地の変状は前の覆工スパン番号で計上すること。 注４：１枚に収まらない場合は、複数枚に分けて作成すること。

Sheet 様式D-2-1_006
B3: ■定期点検記録様式 トンネル全体変状展開図 【様式D-2-1】
B4: フリガナ | E4: (ｻﾊﾞﾔﾏｽﾞｲﾄﾞｳ(ﾉﾎﾞﾘ)) | J4: 路線名 | M4: 一般国道262号 | S4: 定期点検実施者 | W4: 大日本ダイヤコンサルタント株式会社 | AC4: 定期点検年月日 | AF4: 45635
B5: 名 称 | E5: 佐波山隧道(上り) | J5: 管理者名 | M5: 山口県防府土木建築事務所 | W5: 斉藤 寿英
B6: トンネル変状展開図 | C6: トンネル全体変状展開図
V18: 注１：本展開図は、見下げた状態で記載すること。 注２：覆工スパン番号は横断目地毎（矢板工法の場合は上半アーチ の横断目地毎)に設定すること。 注３：横断目地の変状は前の覆工スパン番号で計上すること。 注４：１枚に収まらない場合は、複数枚に分けて作成すること。

Sheet 様式D-2-1_007
B3: ■定期点検記録様式 トンネル全体変状展開図 【様式D-2-1】
B4: フリガナ | E4: (ｻﾊﾞﾔﾏｽﾞｲﾄﾞｳ(ﾉﾎﾞﾘ)) | J4: 路線名 | M4: 一般国道262号 | S4: 定期点検実施者 | W4: 大日本ダイヤコンサルタント株式会社 | AC4: 定期点検年月日 | AF4: 45635
B5: 名 称 | E5: 佐波山隧道(上り) | J5: 管理者名 | M5: 山口県防府土木建築事務所 | W5: 斉藤 寿英
B6: トンネル変状展開図 | C6: トンネル全体変状展開図
V18: 注１：本展開図は、見下げた状態で記載すること。 注２：覆工スパン番号は横断目地毎（矢板工法の場合は上半アーチ の横断目地毎)に設定すること。 注３：横断目地の変状は前の覆工スパン番号で計上すること。 注４：１枚に収まらない場合は、複数枚に分けて作成すること。

Sheet 様式D-2-1_008
B3: ■定期点検記録様式 トンネル全体変状展開図 【様式D-2-1】
B4: フリガナ | E4: (ｻﾊﾞﾔﾏｽﾞｲﾄﾞｳ(ﾉﾎﾞﾘ)) | J4: 路線名 | M4: 一般国道262号 | S4: 定期点検実施者 | W4: 大日本ダイヤコンサルタント株式会社 | AC4: 定期点検年月日 | AF4: 45635
B5: 名 称 | E5: 佐波山隧道(上り) | J5: 管理者名 | M5: 山口県防府土木建築事務所 | W5: 斉藤 寿英
B6: トンネル変状展開図 | C6: トンネル全体変状展開図
V18: 注１：本展開図は、見下げた状態で記載すること。 注２：覆工スパン番号は横断目地毎（矢板工法の場合は上半アーチ の横断目地毎)に設定すること。 注３：横断目地の変状は前の覆工スパン番号で計上すること。 注４：１枚に収まらない場合は、複数枚に分けて作成すること。

Sheet 様式D-2-1_009
B3: ■定期点検記録様式 トンネル全体変状展開図 【様式D-2-1】
B4: フリガナ | E4: (ｻﾊﾞﾔﾏｽﾞｲﾄﾞｳ(ﾉﾎﾞﾘ)) | J4: 路線名 | M4: 一般国道262号 | S4: 定期点検実施者 | W4: 大日本ダイヤコンサルタント株式会社 | AC4: 定期点検年月日 | AF4: 45635
B5: 名 称 | E5: 佐波山隧道(上り) | J5: 管理者名 | M5: 山口県防府土木建築事務所 | W5: 斉藤 寿英
B6: トンネル変状展開図 | C6: トンネル全体変状展開図
V18: 注１：本展開図は、見下げた状態で記載すること。 注２：覆工スパン番号は横断目地毎（矢板工法の場合は上半アーチ の横断目地毎)に設定すること。 注３：横断目地の変状は前の覆工スパン番号で計上すること。 注４：１枚に収まらない場合は、複数枚に分けて作成すること。

Sheet 様式D-2-1´_001
B3: ■定期点検記録様式 トンネル全体変状展開図（機器の活用時） 【様式D-2-1’】
B4: フリガナ | E4: (ｻﾊﾞﾔﾏｽﾞｲﾄﾞｳ(ﾉﾎﾞﾘ)) | J4: 路線名 | M4: 一般国道262号 | S4: 定期点検実施者 | W4: 大日本ダイヤコンサルタント株式会社 | AC4: 定期点検年月日 | AF4: 45635
B5: 名 称 | E5: 佐波山隧道(上り) | J5: 管理者名 | M5: 山口県防府土木建築事務所 | W5: 斉藤 寿英
B6: トンネル変状展開図 | C6: トンネル全体変状展開図
V18: 注１：本展開図は、見下げた状態で記載すること。 注２：覆工スパン番号は横断目地毎（矢板工法の場合は上半アーチ の横断目地毎)に設定すること。 注３：横断目地の変状は前の覆工スパン番号で計上すること。 注４：１枚に収まらない場合は、複数枚に分けて作成すること。

Sheet 様式D-2-1´_002
B3: ■定期点検記録様式 トンネル全体変状展開図（機器の活用時） 【様式D-2-1’】
B4: フリガナ | E4: (ｻﾊﾞﾔﾏｽﾞｲﾄﾞｳ(ﾉﾎﾞﾘ)) | J4: 路線名 | M4: 一般国道262号 | S4: 定期点検実施者 | W4: 大日本ダイヤコンサルタント株式会社 | AC4: 定期点検年月日 | AF4: 45635
B5: 名 称 | E5: 佐波山隧道(上り) | J5: 管理者名 | M5: 山口県防府土木建築事務所 | W5: 斉藤 寿英
B6: トンネル変状展開図 | C6: トンネル全体変状展開図
V18: 注１：本展開図は、見下げた状態で記載すること。 注２：覆工スパン番号は横断目地毎（矢板工法の場合は上半アーチ の横断目地毎)に設定すること。 注３：横断目地の変状は前の覆工スパン番号で計上すること。 注４：１枚に収まらない場合は、複数枚に分けて作成すること。

Sheet 様式D-2-1´_003
B3: ■定期点検記録様式 トンネル全体変状展開図（機器の活用時） 【様式D-2-1’】
B4: フリガナ | E4: (ｻﾊﾞﾔﾏｽﾞｲﾄﾞｳ(ﾉﾎﾞﾘ)) | J4: 路線名 | M4: 一般国道262号 | S4: 定期点検実施者 | W4: 大日本ダイヤコンサルタント株式会社 | AC4: 定期点検年月日 | AF4: 45635
B5: 名 称 | E5: 佐波山隧道(上り) | J5: 管理者名 | M5: 山口県防府土木建築事務所 | W5: 斉藤 寿英
B6: トンネル変状展開図 | C6: トンネル全体変状展開図
V18: 注１：本展開図は、見下げた状態で記載すること。 注２：覆工スパン番号は横断目地毎（矢板工法の場合は上半アーチ の横断目地毎)に設定すること。 注３：横断目地の変状は前の覆工スパン番号で計上すること。 注４：１枚に収まらない場合は、複数枚に分けて作成すること。

Sheet 様式D-2-1´_004
B3: ■定期点検記録様式 トンネル全体変状展開図（機器の活用時） 【様式D-2-1’】
B4: フリガナ | E4: (ｻﾊﾞﾔﾏｽﾞｲﾄﾞｳ(ﾉﾎﾞﾘ)) | J4: 路線名 | M4: 一般国道262号 | S4: 定期点検実施者 | W4: 大日本ダイヤコンサルタント株式会社 | AC4: 定期点検年月日 | AF4: 45635
B5: 名 称 | E5: 佐波山隧道(上り) | J5: 管理者名 | M5: 山口県防府土木建築事務所 | W5: 斉藤 寿英
B6: トンネル変状展開図 | C6: トンネル全体変状展開図
V18: 注１：本展開図は、見下げた状態で記載すること。 注２：覆工スパン番号は横断目地毎（矢板工法の場合は上半アーチ の横断目地毎)に設定すること。 注３：横断目地の変状は前の覆工スパン番号で計上すること。 注４：１枚に収まらない場合は、複数枚に分けて作成すること。

Sheet 様式D-2-1´_005
B3: ■定期点検記録様式 トンネル全体変状展開図（機器の活用時） 【様式D-2-1’】
B4: フリガナ | E4: (ｻﾊﾞﾔﾏｽﾞｲﾄﾞｳ(ﾉﾎﾞﾘ)) | J4: 路線名 | M4: 一般国道262号 | S4: 定期点検実施者 | W4: 大日本ダイヤコンサルタント株式会社 | AC4: 定期点検年月日 | AF4: 45635
B5: 名 称 | E5: 佐波山隧道(上り) | J5: 管理者名 | M5: 山口県防府土木建築事務所 | W5: 斉藤 寿英
B6: トンネル変状展開図 | C6: トンネル全体変状展開図
V18: 注１：本展開図は、見下げた状態で記載すること。 注２：覆工スパン番号は横断目地毎（矢板工法の場合は上半アーチ の横断目地毎)に設定すること。 注３：横断目地の変状は前の覆工スパン番号で計上すること。 注４：１枚に収まらない場合は、複数枚に分けて作成すること。

Sheet 様式D-2-1´_006
B3: ■定期点検記録様式 トンネル全体変状展開図（機器の活用時） 【様式D-2-1’】
B4: フリガナ | E4: (ｻﾊﾞﾔﾏｽﾞｲﾄﾞｳ(ﾉﾎﾞﾘ)) | J4: 路線名 | M4: 一般国道262号 | S4: 定期点検実施者 | W4: 大日本ダイヤコンサルタント株式会社 | AC4: 定期点検年月日 | AF4: 45635
B5: 名 称 | E5: 佐波山隧道(上り) | J5: 管理者名 | M5: 山口県防府土木建築事務所 | W5: 斉藤 寿英
B6: トンネル変状展開図 | C6: トンネル全体変状展開図
V18: 注１：本展開図は、見下げた状態で記載すること。 注２：覆工スパン番号は横断目地毎（矢板工法の場合は上半アーチ の横断目地毎)に設定すること。 注３：横断目地の変状は前の覆工スパン番号で計上すること。 注４：１枚に収まらない場合は、複数枚に分けて作成すること。

Sheet 様式D-2-1´_007
B3: ■定期点検記録様式 トンネル全体変状展開図（機器の活用時） 【様式D-2-1’】
B4: フリガナ | E4: (ｻﾊﾞﾔﾏｽﾞｲﾄﾞｳ(ﾉﾎﾞﾘ)) | J4: 路線名 | M4: 一般国道262号 | S4: 定期点検実施者 | W4: 大日本ダイヤコンサルタント株式会社 | AC4: 定期点検年月日 | AF4: 45635
B5: 名 称 | E5: 佐波山隧道(上り) | J5: 管理者名 | M5: 山口県防府土木建築事務所 | W5: 斉藤 寿英
B6: トンネル変状展開図 | C6: トンネル全体変状展開図
V18: 注１：本展開図は、見下げた状態で記載すること。 注２：覆工スパン番号は横断目地毎（矢板工法の場合は上半アーチ の横断目地毎)に設定すること。 注３：横断目地の変状は前の覆工スパン番号で計上すること。 注４：１枚に収まらない場合は、複数枚に分けて作成すること。

Sheet 様式D-2-1´_008
B3: ■定期点検記録様式 トンネル全体変状展開図（機器の活用時） 【様式D-2-1’】
B4: フリガナ | E4: (ｻﾊﾞﾔﾏｽﾞｲﾄﾞｳ(ﾉﾎﾞﾘ)) | J4: 路線名 | M4: 一般国道262号 | S4: 定期点検実施者 | W4: 大日本ダイヤコンサルタント株式会社 | AC4: 定期点検年月日 | AF4: 45635
B5: 名 称 | E5: 佐波山隧道(上り) | J5: 管理者名 | M5: 山口県防府土木建築事務所 | W5: 斉藤 寿英
B6: トンネル変状展開図 | C6: トンネル全体変状展開図
V18: 注１：本展開図は、見下げた状態で記載すること。 注２：覆工スパン番号は横断目地毎（矢板工法の場合は上半アーチ の横断目地毎)に設定すること。 注３：横断目地の変状は前の覆工スパン番号で計上すること。 注４：１枚に収まらない場合は、複数枚に分けて作成すること。

Sheet 様式D-2-1´_009
B3: ■定期点検記録様式 トンネル全体変状展開図（機器の活用時） 【様式D-2-1’】
B4: フリガナ | E4: (ｻﾊﾞﾔﾏｽﾞｲﾄﾞｳ(ﾉﾎﾞﾘ)) | J4: 路線名 | M4: 一般国道262号 | S4: 定期点検実施者 | W4: 大日本ダイヤコンサルタント株式会社 | AC4: 定期点検年月日 | AF4: 45635
B5: 名 称 | E5: 佐波山隧道(上り) | J5: 管理者名 | M5: 山口県防府土木建築事務所 | W5: 斉藤 寿英
B6: トンネル変状展開図 | C6: トンネル全体変状展開図
V18: 注１：本展開図は、見下げた状態で記載すること。 注２：覆工スパン番号は横断目地毎（矢板工法の場合は上半アーチ の横断目地毎)に設定すること。 注３：横断目地の変状は前の覆工スパン番号で計上すること。 注４：１枚に収まらない場合は、複数枚に分けて作成すること。

Sheet 様式D-2-1´_010
B3: ■定期点検記録様式 トンネル全体変状展開図（機器の活用時） 【様式D-2-1’】
B4: フリガナ | E4: (ｻﾊﾞﾔﾏｽﾞｲﾄﾞｳ(ﾉﾎﾞﾘ)) | J4: 路線名 | M4: 一般国道262号 | S4: 定期点検実施者 | W4: 大日本ダイヤコンサルタント株式会社 | AC4: 定期点検年月日 | AF4: 45635
B5: 名 称 | E5: 佐波山隧道(上り) | J5: 管理者名 | M5: 山口県防府土木建築事務所 | W5: 斉藤 寿英
B6: トンネル変状展開図 | C6: トンネル全体変状展開図
V18: 注１：本展開図は、見下げた状態で記載すること。 注２：覆工スパン番号は横断目地毎（矢板工法の場合は上半アーチ の横断目地毎)に設定すること。 注３：横断目地の変状は前の覆工スパン番号で計上すること。 注４：１枚に収まらない場合は、複数枚に分けて作成すること。

Sheet 様式D-2-1´_011
B3: ■定期点検記録様式 トンネル全体変状展開図（機器の活用時） 【様式D-2-1’】
B4: フリガナ | E4: (ｻﾊﾞﾔﾏｽﾞｲﾄﾞｳ(ﾉﾎﾞﾘ)) | J4: 路線名 | M4: 一般国道262号 | S4: 定期点検実施者 | W4: 大日本ダイヤコンサルタント株式会社 | AC4: 定期点検年月日 | AF4: 45635
B5: 名 称 | E5: 佐波山隧道(上り) | J5: 管理者名 | M5: 山口県防府土木建築事務所 | W5: 斉藤 寿英
B6: トンネル変状展開図 | C6: トンネル全体変状展開図
V18: 注１：本展開図は、見下げた状態で記載すること。 注２：覆工スパン番号は横断目地毎（矢板工法の場合は上半アーチ の横断目地毎)に設定すること。 注３：横断目地の変状は前の覆工スパン番号で計上すること。 注４：１枚に収まらない場合は、複数枚に分けて作成すること。

Sheet 様式D-2-1´_012
B3: ■定期点検記録様式 トンネル全体変状展開図（機器の活用時） 【様式D-2-1’】
B4: フリガナ | E4: (ｻﾊﾞﾔﾏｽﾞｲﾄﾞｳ(ﾉﾎﾞﾘ)) | J4: 路線名 | M4: 一般国道262号 | S4: 定期点検実施者 | W4: 大日本ダイヤコンサルタント株式会社 | AC4: 定期点検年月日 | AF4: 45635
B5: 名 称 | E5: 佐波山隧道(上り) | J5: 管理者名 | M5: 山口県防府土木建築事務所 | W5: 斉藤 寿英
B6: トンネル変状展開図 | C6: トンネル全体変状展開図
V18: 注１：本展開図は、見下げた状態で記載すること。 注２：覆工スパン番号は横断目地毎（矢板工法の場合は上半アーチ の横断目地毎)に設定すること。 注３：横断目地の変状は前の覆工スパン番号で計上すること。 注４：１枚に収まらない場合は、複数枚に分けて作成すること。

Sheet 様式D-3_PS
AU1: 様式F用→ | AV1: 覆工スパン | AY1: 変 状 数 | BK1: 変 状 規 模
AV2: 番号 | AW2: 延長 （ｍ） | AX2: 健全性の診断の 区分 | AY2: 対策区分の判定 | BK2: 覆工スパン長（ｍ） | BO2: 変状の発生範囲の規模（㎡）
B3: ■定期点検記録様式 覆工スパン別変状詳細展開図 【様式D-3】 | AY3: 外力 | BC3: 材質劣化 | BG3: 漏水 | BK3: 外力 注2 | BO3: 材質劣化 | BS3: 漏水
B4: フリガナ | E4: (ｻﾊﾞﾔﾏｽﾞｲﾄﾞｳ(ﾉﾎﾞﾘ)) | K4: 路線名 | N4: 国道262号 | T4: 定期点検業者 | Y4: 大日本ダイヤコンサルタント株式会社 | AG4: 定期点検年月日 | AK4: 45635 | AY4: Ⅳ | AZ4: Ⅲ | BA4: Ⅱa | BB4: Ⅱb | BC4: Ⅳ | BD4: Ⅲ | BE4: Ⅱa | BF4: Ⅱb | BG4: Ⅳ | BH4: Ⅲ | BI4: Ⅱa | BJ4: Ⅱb | BK4: Ⅳ | BL4: Ⅲ | BM4: Ⅱa | BN4: Ⅱb | BO4: Ⅳ | BP4: Ⅲ | BQ4: Ⅱa | BR4: Ⅱb | BS4: Ⅳ | BT4: Ⅲ | BU4: Ⅱa | BV4: Ⅱb
B5: 名 称 | E5: 佐波山隧道(上り) | K5: 管理者名 | N5: 山口県防府土木建築事務所 | Y5: 斉藤 寿英 | AV5: =N7 -> PS | AW5: =R7 -> 0 | AX5: =AM35 -> Ⅱ | AY5: =Y37 -> 0 | AZ5: =Z37 -> 0 | BA5: =AA37 -> 0 | BB5: =AB37 -> 0 | BC5: =AC37 -> 0 | BD5: =AD37 -> 0 | BE5: =AE37 -> 0 | BF5: =AF37 -> 0 | ... BJ5: =AJ37 -> 1 | BK5: =IF(Y37>0,R7,"") | BL5: =IF(Y37>0,"",IF(Z37>0,R7,"")) | BM5: =IF(Y37+Z37>0,"",IF(AA37>0,R7,"")) | BN5: =IF(Y37+Z37+AA37>0,"",IF(AB37>0,R7,"")) | BO5: =AC35 -> 0 | BP5: =AD35 -> 0 | BQ5: =AE35 -> 0 | BR5: =AF35 -> 0 | BS5: =AG35 -> 0 | BT5: =AH35 -> 0 | BU5: =AI35 -> 0 | BV5: =AJ35 -> 3.93
B6: スパン別変状展開図 | K6: 【健全性判定集計表】
K7: スパン番号 | N7: PS | P7: スパン長 | R7: 0 | U7: 前回定期点検時の判定 | W7: 応急措置前の判定 | Y7: 対策区分毎の 変状の有無 | AC7: 対策区分毎の変状の発生範囲の規模(㎡) | AK7: 備考注2
K8: 変状番号 | L8: 対象箇所 | N8: 部位区分 | P8: 変状区分 | R8: 変状種類
Y9: 外力注1 | AC9: 材質劣化注1 | AG9: 漏水注1
Y10: Ⅳ | Z10: Ⅲ | AA10: Ⅱa | AB10: Ⅱb | AC10: Ⅳ | AD10: Ⅲ | AE10: Ⅱa | AF10: Ⅱb | AG10: Ⅳ | AH10: Ⅲ | AI10: Ⅱa | AJ10: Ⅱb
K11: 1 | L11: 坑門 | N11: 面壁・妻壁等 | P11: 漏水 | R11: 漏水 | U11: Ⅱb | AJ11: 3.93 | AQ11: =IF(P11="材質劣化",2,IF(P11="漏水",3,1)) -> 3
AQ12: =IF(P12="材質劣化",2,IF(P12="漏水",3,1)) -> 1
AQ13: =IF(P13="材質劣化",2,IF(P13="漏水",3,1)) -> 1
AQ14: =IF(P14="材質劣化",2,IF(P14="漏水",3,1)) -> 1
AQ15: =IF(P15="材質劣化",2,IF(P15="漏水",3,1)) -> 1
AQ16: =IF(P16="材質劣化",2,IF(P16="漏水",3,1)) -> 1
AQ17: =IF(P17="材質劣化",2,IF(P17="漏水",3,1)) -> 1
AQ18: =IF(P18="材質劣化",2,IF(P18="漏水",3,1)) -> 1
AQ19: =IF(P19="材質劣化",2,IF(P19="漏水",3,1)) -> 1
AQ20: =IF(P20="材質劣化",2,IF(P20="漏水",3,1)) -> 1
AQ21: =IF(P21="材質劣化",2,IF(P21="漏水",3,1)) -> 1
AQ22: =IF(P22="材質劣化",2,IF(P22="漏水",3,1)) -> 1
AQ23: =IF(P23="材質劣化",2,IF(P23="漏水",3,1)) -> 1
... AQ34: =IF(P34="材質劣化",2,IF(P34="漏水",3,1)) -> 1
K35: 集計 判定 診断 | L35: 変状の発生規模合計(㎡) | Y35: － | AC35: =SUM(AC11:AC34) -> 0 | AD35: =SUM(AD11:AD34) -> 0 | AE35: =SUM(AE11:AE34) -> 0 | AF35: =SUM(AF11:AF34) -> 0 | AG35: =SUM(AG11:AG34) -> 0 | AH35: =SUM(AH11:AH34) -> 0 | AI35: =SUM(AI11:AI34) -> 0 | AJ35: =SUM(AJ11:AJ34) -> 3.93 | AK35: 覆工スパン単位の 健全性の 診断の区分 | AM35: Ⅱ
L36: 対策区分の 判定結果 | O36: 対策区分毎の変状数 | Y36: Ⅳ | Z36: Ⅲ | AA36: Ⅱa | AB36: Ⅱb | AC36: Ⅳ | AD36: Ⅲ | AE36: Ⅱa | AF36: Ⅱb | AG36: Ⅳ | AH36: Ⅲ | AI36: Ⅱa | AJ36: Ⅱb
Y37: =COUNTIF(Y11:Y34,"〇") -> 0 | Z37: =COUNTIF(Z11:Z34,"〇") -> 0 | AA37: =COUNTIF(AA11:AA34,"〇") -> 0 | AB37: =COUNTIF(AB11:AB34,"〇") -> 0 | AC37: =COUNTA(AC11:AC34) -> 0 | AD37: =COUNTA(AD11:AD34) -> 0 | AE37: =COUNTA(AE11:AE34) -> 0 | AF37: =COUNTA(AF11:AF34) -> 0 | AG37: =COUNTA(AG11:AG34) -> 0 | AH37: =COUNTA(AH11:AH34) -> 0 | AI37: =COUNTA(AI11:AI34) -> 0 | AJ37: =COUNTA(AJ11:AJ34) -> 1
K39: 所見
K43: 注1：誤記入防止のため、当該変状区分以外のセルは灰色表示とすること。
K44: 注2：応急措置を実施した場合は、その詳細を備考に記載すること。
K45: 注3：外力は覆工スパン単位、材質劣化、漏水は変状単位とすること。
B46: （以下、印刷不要）
B47: ※1：本シートは作成洩れのないよう、変状が無くても全スパン分を作成すること．また変状展開図は、様式D-2-1、様式D-2-1'と同じものを覆工スパン単位で拡大し掲載すること。
B48: ※2：変状番号は、様式D-1-1で記入した番号と整合させること。
B49: ※3：対策区分毎の変状発生規模は、様式D-1-1に記載した面積を記入すること（ただし外力はスパン単位で評価するため変状の有無の欄には面積でなく○を記入し、備考欄に状況を記入）。
B50: ※4：本様式は覆工スパン毎に作成すること。
B51: ※5：変状数が多い場合は、適時、表の行を増やして覆工スパン毎に1枚のシートに収めること。また、1スパン１シートとし、スパンに合わせてシートを追加すること。
B52: ※6：対策区分毎の変状の発生範囲の規模とは，対策を行う際に参考となる変状の長さや面積であり，変状を包含する長さや面積とする。
B53: ※7：対策範囲を示す発生範囲の規模を面積で記入することが妥当ではない変状は、発生範囲の規模の欄に○を記入するとともに、備考に内容を記入すること。

Sheet 様式D-3_S001
AU1: 様式F用→ | AV1: 覆工スパン | AY1: 変 状 数 | BK1: 変 状 規 模
AV2: 番号 | AW2: 延長 （ｍ） | AX2: 健全性の診断の 区分 | AY2: 対策区分の判定 | BK2: 覆工スパン長（ｍ） | BO2: 変状の発生範囲の規模（㎡）
B3: ■定期点検記録様式 覆工スパン別変状詳細展開図 【様式D-3】 | AY3: 外力 | BC3: 材質劣化 | BG3: 漏水 | BK3: 外力 注2 | BO3: 材質劣化 | BS3: 漏水
B4: フリガナ | E4: (ｻﾊﾞﾔﾏｽﾞｲﾄﾞｳ(ﾉﾎﾞﾘ)) | K4: 路線名 | N4: 国道262号 | T4: 定期点検業者 | Y4: 大日本ダイヤコンサルタント株式会社 | AG4: 定期点検年月日 | AK4: 45635 | AY4: Ⅳ | AZ4: Ⅲ | BA4: Ⅱa | BB4: Ⅱb | BC4: Ⅳ | BD4: Ⅲ | BE4: Ⅱa | BF4: Ⅱb | BG4: Ⅳ | BH4: Ⅲ | BI4: Ⅱa | BJ4: Ⅱb | BK4: Ⅳ | BL4: Ⅲ | BM4: Ⅱa | BN4: Ⅱb | BO4: Ⅳ | BP4: Ⅲ | BQ4: Ⅱa | BR4: Ⅱb | BS4: Ⅳ | BT4: Ⅲ | BU4: Ⅱa | BV4: Ⅱb
B5: 名 称 | E5: 佐波山隧道(上り) | K5: 管理者名 | N5: 山口県防府土木建築事務所 | Y5: 斉藤 寿英 | AV5: =N7 -> S001 | AW5: =R7 -> 8.5 | AX5: =AM35 -> Ⅱ | AY5: =Y37 -> 0 | AZ5: =Z37 -> 0 | BA5: =AA37 -> 0 | BB5: =AB37 -> 0 | BC5: =AC37 -> 0 | BD5: =AD37 -> 0 | BE5: =AE37 -> 1 | BF5: =AF37 -> 3 | ... BJ5: =AJ37 -> 2 | BK5: =IF(Y37>0,R7,"") | BL5: =IF(Y37>0,"",IF(Z37>0,R7,"")) | BM5: =IF(Y37+Z37>0,"",IF(AA37>0,R7,"")) | BN5: =IF(Y37+Z37+AA37>0,"",IF(AB37>0,R7,"")) | BO5: =AC35 -> 0 | BP5: =AD35 -> 0 | BQ5: =AE35 -> 2.86 | BR5: =AF35 -> 0.15 | BS5: =AG35 -> 0 | BT5: =AH35 -> 0 | BU5: =AI35 -> 0 | BV5: =AJ35 -> 3.61
B6: スパン別変状展開図 | K6: 【健全性判定集計表】
K7: スパン番号 | N7: S001 | P7: スパン長 | R7: 8.5 | U7: 前回定期点検時の判定 | W7: 応急措置前の判定 | Y7: 対策区分毎の 変状の有無 | AC7: 対策区分毎の変状の発生範囲の規模(㎡) | AK7: 備考注2
K8: 変状番号 | L8: 対象箇所 | N8: 部位区分 | P8: 変状区分 | R8: 変状種類
Y9: 外力注1 | AC9: 材質劣化注1 | AG9: 漏水注1
Y10: Ⅳ | Z10: Ⅲ | AA10: Ⅱa | AB10: Ⅱb | AC10: Ⅳ | AD10: Ⅲ | AE10: Ⅱa | AF10: Ⅱb | AG10: Ⅳ | AH10: Ⅲ | AI10: Ⅱa | AJ10: Ⅱb
K11: 1 | L11: 覆工 | N11: アーチ（天端） | P11: 材質劣化 | R11: その他 | U11: Ⅱb | AF11: 0.01 | AQ11: =IF(P11="材質劣化",2,IF(P11="漏水",3,1)) -> 2
K12: 2 | L12: 覆工 | N12: アーチ（右側） | P12: 材質劣化 | R12: うき・はく離 | U12: Ⅱa | AE12: 2.86 | AQ12: =IF(P12="材質劣化",2,IF(P12="漏水",3,1)) -> 2
K13: 3 | L13: 覆工 | N13: 側壁（右側） | P13: 漏水 | R13: 漏水 | U13: Ⅱb | AJ13: 2.61 | AQ13: =IF(P13="材質劣化",2,IF(P13="漏水",3,1)) -> 3
K14: 4 | L14: 内装板 | N14: 側壁 | P14: 材質劣化 | R14: その他 | U14: － | AF14: 0.1 | AQ14: =IF(P14="材質劣化",2,IF(P14="漏水",3,1)) -> 2
K15: 5 | L15: 内装板 | N15: 側壁 | P15: 材質劣化 | R15: その他 | U15: － | AF15: 0.04 | AQ15: =IF(P15="材質劣化",2,IF(P15="漏水",3,1)) -> 2
K16: 6 | L16: 路面 | N16: 側溝 | P16: － | R16: その他 | U16: － | AK16: 0.25m×0.10m | AQ16: =IF(P16="材質劣化",2,IF(P16="漏水",3,1)) -> 1
K17: 7 | L17: 路面 | N17: 歩道 | P17: 漏水 | R17: その他 | U17: － | AJ17: 1 | AK17: 0.25m×1.80m | AQ17: =IF(P17="材質劣化",2,IF(P17="漏水",3,1)) -> 3
AQ18: =IF(P18="材質劣化",2,IF(P18="漏水",3,1)) -> 1
AQ19: =IF(P19="材質劣化",2,IF(P19="漏水",3,1)) -> 1
AQ20: =IF(P20="材質劣化",2,IF(P20="漏水",3,1)) -> 1
AQ21: =IF(P21="材質劣化",2,IF(P21="漏水",3,1)) -> 1
AQ22: =IF(P22="材質劣化",2,IF(P22="漏水",3,1)) -> 1
AQ23: =IF(P23="材質劣化",2,IF(P23="漏水",3,1)) -> 1
AQ24: =IF(P24="材質劣化",2,IF(P24="漏水",3,1)) -> 1
AQ25: =IF(P25="材質劣化",2,IF(P25="漏水",3,1)) -> 1
AQ26: =IF(P26="材質劣化",2,IF(P26="漏水",3,1)) -> 1
AQ27: =IF(P27="材質劣化",2,IF(P27="漏水",3,1)) -> 1
AQ28: =IF(P28="材質劣化",2,IF(P28="漏水",3,1)) -> 1
AQ29: =IF(P29="材質劣化",2,IF(P29="漏水",3,1)) -> 1
... AQ34: =IF(P34="材質劣化",2,IF(P34="漏水",3,1)) -> 1
K35: 集計 判定 診断 | L35: 変状の発生規模合計(㎡) | Y35: － | AC35: =SUM(AC11:AC34) -> 0 | AD35: =SUM(AD11:AD34) -> 0 | AE35: =SUM(AE11:AE34) -> 2.86 | AF35: =SUM(AF11:AF34) -> 0.15 | AG35: =SUM(AG11:AG34) -> 0 | AH35: =SUM(AH11:AH34) -> 0 | AI35: =SUM(AI11:AI34) -> 0 | AJ35: =SUM(AJ11:AJ34) -> 3.61 | AK35: 覆工スパン単位の 健全性の 診断の区分 | AM35: Ⅱ
L36: 対策区分の 判定結果 | O36: 対策区分毎の変状数 | Y36: Ⅳ | Z36: Ⅲ | AA36: Ⅱa | AB36: Ⅱb | AC36: Ⅳ | AD36: Ⅲ | AE36: Ⅱa | AF36: Ⅱb | AG36: Ⅳ | AH36: Ⅲ | AI36: Ⅱa | AJ36: Ⅱb
Y37: =COUNTIF(Y11:Y34,"〇") -> 0 | Z37: =COUNTIF(Z11:Z34,"〇") -> 0 | AA37: =COUNTIF(AA11:AA34,"〇") -> 0 | AB37: =COUNTIF(AB11:AB34,"〇") -> 0 | AC37: =COUNTA(AC11:AC34) -> 0 | AD37: =COUNTA(AD11:AD34) -> 0 | AE37: =COUNTA(AE11:AE34) -> 1 | AF37: =COUNTA(AF11:AF34) -> 3 | AG37: =COUNTA(AG11:AG34) -> 0 | AH37: =COUNTA(AH11:AH34) -> 0 | AI37: =COUNTA(AI11:AI34) -> 0 | AJ37: =COUNTA(AJ11:AJ34) -> 2
K39: 所見
K43: 注1：誤記入防止のため、当該変状区分以外のセルは灰色表示とすること。
K44: 注2：応急措置を実施した場合は、その詳細を備考に記載すること。
K45: 注3：外力は覆工スパン単位、材質劣化、漏水は変状単位とすること。
B46: （以下、印刷不要）
B47: ※1：本シートは作成洩れのないよう、変状が無くても全スパン分を作成すること．また変状展開図は、様式D-2-1、様式D-2-1'と同じものを覆工スパン単位で拡大し掲載すること。
B48: ※2：変状番号は、様式D-1-1で記入した番号と整合させること。
B49: ※3：対策区分毎の変状発生規模は、様式D-1-1に記載した面積を記入すること（ただし外力はスパン単位で評価するため変状の有無の欄には面積でなく○を記入し、備考欄に状況を記入）。
B50: ※4：本様式は覆工スパン毎に作成すること。
B51: ※5：変状数が多い場合は、適時、表の行を増やして覆工スパン毎に1枚のシートに収めること。また、1スパン１シートとし、スパンに合わせてシートを追加すること。
B52: ※6：対策区分毎の変状の発生範囲の規模とは，対策を行う際に参考となる変状の長さや面積であり，変状を包含する長さや面積とする。
B53: ※7：対策範囲を示す発生範囲の規模を面積で記入することが妥当ではない変状は、発生範囲の規模の欄に○を記入するとともに、備考に内容を記入すること。

Sheet 様式D-3_S002
AU1: 様式F用→ | AV1: 覆工スパン | AY1: 変 状 数 | BK1: 変 状 規 模
AV2: 番号 | AW2: 延長 （ｍ） | AX2: 健全性の診断の 区分 | AY2: 対策区分の判定 | BK2: 覆工スパン長（ｍ） | BO2: 変状の発生範囲の規模（㎡）
B3: ■定期点検記録様式 覆工スパン別変状詳細展開図 【様式D-3】 | AY3: 外力 | BC3: 材質劣化 | BG3: 漏水 | BK3: 外力 注2 | BO3: 材質劣化 | BS3: 漏水
B4: フリガナ | E4: (ｻﾊﾞﾔﾏｽﾞｲﾄﾞｳ(ﾉﾎﾞﾘ)) | K4: 路線名 | N4: 国道262号 | T4: 定期点検業者 | Y4: 大日本ダイヤコンサルタント株式会社 | AG4: 定期点検年月日 | AK4: 45635 | AY4: Ⅳ | AZ4: Ⅲ | BA4: Ⅱa | BB4: Ⅱb | BC4: Ⅳ | BD4: Ⅲ | BE4: Ⅱa | BF4: Ⅱb | BG4: Ⅳ | BH4: Ⅲ | BI4: Ⅱa | BJ4: Ⅱb | BK4: Ⅳ | BL4: Ⅲ | BM4: Ⅱa | BN4: Ⅱb | BO4: Ⅳ | BP4: Ⅲ | BQ4: Ⅱa | BR4: Ⅱb | BS4: Ⅳ | BT4: Ⅲ | BU4: Ⅱa | BV4: Ⅱb
B5: 名 称 | E5: 佐波山隧道(上り) | K5: 管理者名 | N5: 山口県防府土木建築事務所 | Y5: 斉藤 寿英 | AV5: =N7 -> S002 | AW5: =R7 -> 9.2 | AX5: =AM35 -> Ⅰ | AY5: =Y37 -> 0 | AZ5: =Z37 -> 0 | BA5: =AA37 -> 0 | BB5: =AB37 -> 0 | BC5: =AC37 -> 0 | BD5: =AD37 -> 0 | BE5: =AE37 -> 0 | BF5: =AF37 -> 0 | ... BJ5: =AJ37 -> 0 | BK5: =IF(Y37>0,R7,"") | BL5: =IF(Y37>0,"",IF(Z37>0,R7,"")) | BM5: =IF(Y37+Z37>0,"",IF(AA37>0,R7,"")) | BN5: =IF(Y37+Z37+AA37>0,"",IF(AB37>0,R7,"")) | BO5: =AC35 -> 0 | BP5: =AD35 -> 0 | BQ5: =AE35 -> 0 | BR5: =AF35 -> 0 | BS5: =AG35 -> 0 | BT5: =AH35 -> 0 | BU5: =AI35 -> 0 | BV5: =AJ35 -> 0
B6: スパン別変状展開図 | K6: 【健全性判定集計表】
K7: スパン番号 | N7: S002 | P7: スパン長 | R7: 9.2 | U7: 前回定期点検時の判定 | W7: 応急措置前の判定 | Y7: 対策区分毎の 変状の有無 | AC7: 対策区分毎の変状の発生範囲の規模(㎡) | AK7: 備考注2
K8: 変状番号 | L8: 対象箇所 | N8: 部位区分 | P8: 変状区分 | R8: 変状種類
Y9: 外力注1 | AC9: 材質劣化注1 | AG9: 漏水注1
Y10: Ⅳ | Z10: Ⅲ | AA10: Ⅱa | AB10: Ⅱb | AC10: Ⅳ | AD10: Ⅲ | AE10: Ⅱa | AF10: Ⅱb | AG10: Ⅳ | AH10: Ⅲ | AI10: Ⅱa | AJ10: Ⅱb
AQ11: =IF(P11="材質劣化",2,IF(P11="漏水",3,1)) -> 1
AQ12: =IF(P12="材質劣化",2,IF(P12="漏水",3,1)) -> 1
AQ13: =IF(P13="材質劣化",2,IF(P13="漏水",3,1)) -> 1
AQ14: =IF(P14="材質劣化",2,IF(P14="漏水",3,1)) -> 1
AQ15: =IF(P15="材質劣化",2,IF(P15="漏水",3,1)) -> 1
AQ16: =IF(P16="材質劣化",2,IF(P16="漏水",3,1)) -> 1
AQ17: =IF(P17="材質劣化",2,IF(P17="漏水",3,1)) -> 1
AQ18: =IF(P18="材質劣化",2,IF(P18="漏水",3,1)) -> 1
AQ19: =IF(P19="材質劣化",2,IF(P19="漏水",3,1)) -> 1
AQ20: =IF(P20="材質劣化",2,IF(P20="漏水",3,1)) -> 1
AQ21: =IF(P21="材質劣化",2,IF(P21="漏水",3,1)) -> 1
AQ22: =IF(P22="材質劣化",2,IF(P22="漏水",3,1)) -> 1
... AQ34: =IF(P34="材質劣化",2,IF(P34="漏水",3,1)) -> 1
K35: 集計 判定 診断 | L35: 変状の発生規模合計(㎡) | Y35: － | AC35: =SUM(AC11:AC34) -> 0 | AD35: =SUM(AD11:AD34) -> 0 | AE35: =SUM(AE11:AE34) -> 0 | AF35: =SUM(AF11:AF34) -> 0 | AG35: =SUM(AG11:AG34) -> 0 | AH35: =SUM(AH11:AH34) -> 0 | AI35: =SUM(AI11:AI34) -> 0 | AJ35: =SUM(AJ11:AJ34) -> 0 | AK35: 覆工スパン単位の 健全性の 診断の区分 | AM35: Ⅰ
L36: 対策区分の 判定結果 | O36: 対策区分毎の変状数 | Y36: Ⅳ | Z36: Ⅲ | AA36: Ⅱa | AB36: Ⅱb | AC36: Ⅳ | AD36: Ⅲ | AE36: Ⅱa | AF36: Ⅱb | AG36: Ⅳ | AH36: Ⅲ | AI36: Ⅱa | AJ36: Ⅱb
Y37: =COUNTIF(Y11:Y34,"〇") -> 0 | Z37: =COUNTIF(Z11:Z34,"〇") -> 0 | AA37: =COUNTIF(AA11:AA34,"〇") -> 0 | AB37: =COUNTIF(AB11:AB34,"〇") -> 0 | AC37: =COUNTA(AC11:AC34) -> 0 | AD37: =COUNTA(AD11:AD34) -> 0 | AE37: =COUNTA(AE11:AE34) -> 0 | AF37: =COUNTA(AF11:AF34) -> 0 | AG37: =COUNTA(AG11:AG34) -> 0 | AH37: =COUNTA(AH11:AH34) -> 0 | AI37: =COUNTA(AI11:AI34) -> 0 | AJ37: =COUNTA(AJ11:AJ34) -> 0
K39: 所見
K43: 注1：誤記入防止のため、当該変状区分以外のセルは灰色表示とすること。
K44: 注2：応急措置を実施した場合は、その詳細を備考に記載すること。
K45: 注3：外力は覆工スパン単位、材質劣化、漏水は変状単位とすること。
B46: （以下、印刷不要）
B47: ※1：本シートは作成洩れのないよう、変状が無くても全スパン分を作成すること．また変状展開図は、様式D-2-1、様式D-2-1'と同じものを覆工スパン単位で拡大し掲載すること。
B48: ※2：変状番号は、様式D-1-1で記入した番号と整合させること。
B49: ※3：対策区分毎の変状発生規模は、様式D-1-1に記載した面積を記入すること（ただし外力はスパン単位で評価するため変状の有無の欄には面積でなく○を記入し、備考欄に状況を記入）。
B50: ※4：本様式は覆工スパン毎に作成すること。
B51: ※5：変状数が多い場合は、適時、表の行を増やして覆工スパン毎に1枚のシートに収めること。また、1スパン１シートとし、スパンに合わせてシートを追加すること。
B52: ※6：対策区分毎の変状の発生範囲の規模とは，対策を行う際に参考となる変状の長さや面積であり，変状を包含する長さや面積とする。
B53: ※7：対策範囲を示す発生範囲の規模を面積で記入することが妥当ではない変状は、発生範囲の規模の欄に○を記入するとともに、備考に内容を記入すること。

Sheet 様式D-3_S003
AU1: 様式F用→ | AV1: 覆工スパン | AY1: 変 状 数 | BK1: 変 状 規 模
AV2: 番号 | AW2: 延長 （ｍ） | AX2: 健全性の診断の 区分 | AY2: 対策区分の判定 | BK2: 覆工スパン長（ｍ） | BO2: 変状の発生範囲の規模（㎡）
B3: ■定期点検記録様式 覆工スパン別変状詳細展開図 【様式D-3】 | AY3: 外力 | BC3: 材質劣化 | BG3: 漏水 | BK3: 外力 注2 | BO3: 材質劣化 | BS3: 漏水
B4: フリガナ | E4: (ｻﾊﾞﾔﾏｽﾞｲﾄﾞｳ(ﾉﾎﾞﾘ)) | K4: 路線名 | N4: 国道262号 | T4: 定期点検業者 | Y4: 大日本ダイヤコンサルタント株式会社 | AG4: 定期点検年月日 | AK4: 45635 | AY4: Ⅳ | AZ4: Ⅲ | BA4: Ⅱa | BB4: Ⅱb | BC4: Ⅳ | BD4: Ⅲ | BE4: Ⅱa | BF4: Ⅱb | BG4: Ⅳ | BH4: Ⅲ | BI4: Ⅱa | BJ4: Ⅱb | BK4: Ⅳ | BL4: Ⅲ | BM4: Ⅱa | BN4: Ⅱb | BO4: Ⅳ | BP4: Ⅲ | BQ4: Ⅱa | BR4: Ⅱb | BS4: Ⅳ | BT4: Ⅲ | BU4: Ⅱa | BV4: Ⅱb
B5: 名 称 | E5: 佐波山隧道(上り) | K5: 管理者名 | N5: 山口県防府土木建築事務所 | Y5: 斉藤 寿英 | AV5: =N7 -> S003 | AW5: =R7 -> 9.1 | AX5: =AM35 -> Ⅱ | AY5: =Y37 -> 0 | AZ5: =Z37 -> 0 | BA5: =AA37 -> 0 | BB5: =AB37 -> 0 | BC5: =AC37 -> 0 | BD5: =AD37 -> 0 | BE5: =AE37 -> 0 | BF5: =AF37 -> 0 | ... BJ5: =AJ37 -> 0 | BK5: =IF(Y37>0,R7,"") | BL5: =IF(Y37>0,"",IF(Z37>0,R7,"")) | BM5: =IF(Y37+Z37>0,"",IF(AA37>0,R7,"")) | BN5: =IF(Y37+Z37+AA37>0,"",IF(AB37>0,R7,"")) | BO5: =AC35 -> 0 | BP5: =AD35 -> 0 | BQ5: =AE35 -> 0 | BR5: =AF35 -> 0 | BS5: =AG35 -> 0 | BT5: =AH35 -> 0 | BU5: =AI35 -> 0 | BV5: =AJ35 -> 0
B6: スパン別変状展開図 | K6: 【健全性判定集計表】
K7: スパン番号 | N7: S003 | P7: スパン長 | R7: 9.1 | U7: 前回定期点検時の判定 | W7: 応急措置前の判定 | Y7: 対策区分毎の 変状の有無 | AC7: 対策区分毎の変状の発生範囲の規模(㎡) | AK7: 備考注2
K8: 変状番号 | L8: 対象箇所 | N8: 部位区分 | P8: 変状区分 | R8: 変状種類
Y9: 外力注1 | AC9: 材質劣化注1 | AG9: 漏水注1
Y10: Ⅳ | Z10: Ⅲ | AA10: Ⅱa | AB10: Ⅱb | AC10: Ⅳ | AD10: Ⅲ | AE10: Ⅱa | AF10: Ⅱb | AG10: Ⅳ | AH10: Ⅲ | AI10: Ⅱa | AJ10: Ⅱb
K11: 1 | L11: 路面 | N11: 監査歩路 | P11: － | R11: その他 | U11: Ⅱb | AK11: 0.20m×7.30m | AQ11: =IF(P11="材質劣化",2,IF(P11="漏水",3,1)) -> 1
K12: 2 | L12: 路面 | N12: 側溝 | P12: － | R12: その他 | U12: － | AK12: 0.20m×0.10m | AQ12: =IF(P12="材質劣化",2,IF(P12="漏水",3,1)) -> 1
AQ13: =IF(P13="材質劣化",2,IF(P13="漏水",3,1)) -> 1
AQ14: =IF(P14="材質劣化",2,IF(P14="漏水",3,1)) -> 1
AQ15: =IF(P15="材質劣化",2,IF(P15="漏水",3,1)) -> 1
AQ16: =IF(P16="材質劣化",2,IF(P16="漏水",3,1)) -> 1
AQ17: =IF(P17="材質劣化",2,IF(P17="漏水",3,1)) -> 1
AQ18: =IF(P18="材質劣化",2,IF(P18="漏水",3,1)) -> 1
AQ19: =IF(P19="材質劣化",2,IF(P19="漏水",3,1)) -> 1
AQ20: =IF(P20="材質劣化",2,IF(P20="漏水",3,1)) -> 1
AQ21: =IF(P21="材質劣化",2,IF(P21="漏水",3,1)) -> 1
AQ22: =IF(P22="材質劣化",2,IF(P22="漏水",3,1)) -> 1
AQ23: =IF(P23="材質劣化",2,IF(P23="漏水",3,1)) -> 1
AQ24: =IF(P24="材質劣化",2,IF(P24="漏水",3,1)) -> 1
... AQ34: =IF(P34="材質劣化",2,IF(P34="漏水",3,1)) -> 1
K35: 集計 判定 診断 | L35: 変状の発生規模合計(㎡) | Y35: － | AC35: =SUM(AC11:AC34) -> 0 | AD35: =SUM(AD11:AD34) -> 0 | AE35: =SUM(AE11:AE34) -> 0 | AF35: =SUM(AF11:AF34) -> 0 | AG35: =SUM(AG11:AG34) -> 0 | AH35: =SUM(AH11:AH34) -> 0 | AI35: =SUM(AI11:AI34) -> 0 | AJ35: =SUM(AJ11:AJ34) -> 0 | AK35: 覆工スパン単位の 健全性の 診断の区分 | AM35: Ⅱ
L36: 対策区分の 判定結果 | O36: 対策区分毎の変状数 | Y36: Ⅳ | Z36: Ⅲ | AA36: Ⅱa | AB36: Ⅱb | AC36: Ⅳ | AD36: Ⅲ | AE36: Ⅱa | AF36: Ⅱb | AG36: Ⅳ | AH36: Ⅲ | AI36: Ⅱa | AJ36: Ⅱb
Y37: =COUNTIF(Y11:Y34,"〇") -> 0 | Z37: =COUNTIF(Z11:Z34,"〇") -> 0 | AA37: =COUNTIF(AA11:AA34,"〇") -> 0 | AB37: =COUNTIF(AB11:AB34,"〇") -> 0 | AC37: =COUNTA(AC11:AC34) -> 0 | AD37: =COUNTA(AD11:AD34) -> 0 | AE37: =COUNTA(AE11:AE34) -> 0 | AF37: =COUNTA(AF11:AF34) -> 0 | AG37: =COUNTA(AG11:AG34) -> 0 | AH37: =COUNTA(AH11:AH34) -> 0 | AI37: =COUNTA(AI11:AI34) -> 0 | AJ37: =COUNTA(AJ11:AJ34) -> 0
K39: 所見
K43: 注1：誤記入防止のため、当該変状区分以外のセルは灰色表示とすること。
K44: 注2：応急措置を実施した場合は、その詳細を備考に記載すること。
K45: 注3：外力は覆工スパン単位、材質劣化、漏水は変状単位とすること。
B46: （以下、印刷不要）
B47: ※1：本シートは作成洩れのないよう、変状が無くても全スパン分を作成すること．また変状展開図は、様式D-2-1、様式D-2-1'と同じものを覆工スパン単位で拡大し掲載すること。
B48: ※2：変状番号は、様式D-1-1で記入した番号と整合させること。
B49: ※3：対策区分毎の変状発生規模は、様式D-1-1に記載した面積を記入すること（ただし外力はスパン単位で評価するため変状の有無の欄には面積でなく○を記入し、備考欄に状況を記入）。
B50: ※4：本様式は覆工スパン毎に作成すること。
B51: ※5：変状数が多い場合は、適時、表の行を増やして覆工スパン毎に1枚のシートに収めること。また、1スパン１シートとし、スパンに合わせてシートを追加すること。
B52: ※6：対策区分毎の変状の発生範囲の規模とは，対策を行う際に参考となる変状の長さや面積であり，変状を包含する長さや面積とする。
B53: ※7：対策範囲を示す発生範囲の規模を面積で記入することが妥当ではない変状は、発生範囲の規模の欄に○を記入するとともに、備考に内容を記入すること。

Sheet 様式D-3_S004
AU1: 様式F用→ | AV1: 覆工スパン | AY1: 変 状 数 | BK1: 変 状 規 模
AV2: 番号 | AW2: 延長 （ｍ） | AX2: 健全性の診断の 区分 | AY2: 対策区分の判定 | BK2: 覆工スパン長（ｍ） | BO2: 変状の発生範囲の規模（㎡）
B3: ■定期点検記録様式 覆工スパン別変状詳細展開図 【様式D-3】 | AY3: 外力 | BC3: 材質劣化 | BG3: 漏水 | BK3: 外力 注2 | BO3: 材質劣化 | BS3: 漏水
B4: フリガナ | E4: (ｻﾊﾞﾔﾏｽﾞｲﾄﾞｳ(ﾉﾎﾞﾘ)) | K4: 路線名 | N4: 国道262号 | T4: 定期点検業者 | Y4: 大日本ダイヤコンサルタント株式会社 | AG4: 定期点検年月日 | AK4: 45635 | AY4: Ⅳ | AZ4: Ⅲ | BA4: Ⅱa | BB4: Ⅱb | BC4: Ⅳ | BD4: Ⅲ | BE4: Ⅱa | BF4: Ⅱb | BG4: Ⅳ | BH4: Ⅲ | BI4: Ⅱa | BJ4: Ⅱb | BK4: Ⅳ | BL4: Ⅲ | BM4: Ⅱa | BN4: Ⅱb | BO4: Ⅳ | BP4: Ⅲ | BQ4: Ⅱa | BR4: Ⅱb | BS4: Ⅳ | BT4: Ⅲ | BU4: Ⅱa | BV4: Ⅱb
B5: 名 称 | E5: 佐波山隧道(上り) | K5: 管理者名 | N5: 山口県防府土木建築事務所 | Y5: 斉藤 寿英 | AV5: =N7 -> S004 | AW5: =R7 -> 9.1 | AX5: =AM35 -> Ⅱ | AY5: =Y37 -> 0 | AZ5: =Z37 -> 0 | BA5: =AA37 -> 0 | BB5: =AB37 -> 0 | BC5: =AC37 -> 0 | BD5: =AD37 -> 0 | BE5: =AE37 -> 1 | BF5: =AF37 -> 0 | ... BJ5: =AJ37 -> 0 | BK5: =IF(Y37>0,R7,"") | BL5: =IF(Y37>0,"",IF(Z37>0,R7,"")) | BM5: =IF(Y37+Z37>0,"",IF(AA37>0,R7,"")) | BN5: =IF(Y37+Z37+AA37>0,"",IF(AB37>0,R7,"")) | BO5: =AC35 -> 0 | BP5: =AD35 -> 0 | BQ5: =AE35 -> 0.42 | BR5: =AF35 -> 0 | BS5: =AG35 -> 0 | BT5: =AH35 -> 0 | BU5: =AI35 -> 0 | BV5: =AJ35 -> 0
B6: スパン別変状展開図 | K6: 【健全性判定集計表】
K7: スパン番号 | N7: S004 | P7: スパン長 | R7: 9.1 | U7: 前回定期点検時の判定 | W7: 応急措置前の判定 | Y7: 対策区分毎の 変状の有無 | AC7: 対策区分毎の変状の発生範囲の規模(㎡) | AK7: 備考注2
K8: 変状番号 | L8: 対象箇所 | N8: 部位区分 | P8: 変状区分 | R8: 変状種類
Y9: 外力注1 | AC9: 材質劣化注1 | AG9: 漏水注1
Y10: Ⅳ | Z10: Ⅲ | AA10: Ⅱa | AB10: Ⅱb | AC10: Ⅳ | AD10: Ⅲ | AE10: Ⅱa | AF10: Ⅱb | AG10: Ⅳ | AH10: Ⅲ | AI10: Ⅱa | AJ10: Ⅱb
K11: 1 | L11: 覆工 | N11: 横断目地（天端） | P11: 材質劣化 | R11: うき・はく離 | U11: － | AE11: 0.42 | AQ11: =IF(P11="材質劣化",2,IF(P11="漏水",3,1)) -> 2
K12: 2 | L12: 路面 | N12: 側溝 | P12: － | R12: その他 | U12: － | AK12: 0.20m×0.20m | AQ12: =IF(P12="材質劣化",2,IF(P12="漏水",3,1)) -> 1
AQ13: =IF(P13="材質劣化",2,IF(P13="漏水",3,1)) -> 1
AQ14: =IF(P14="材質劣化",2,IF(P14="漏水",3,1)) -> 1
AQ15: =IF(P15="材質劣化",2,IF(P15="漏水",3,1)) -> 1
AQ16: =IF(P16="材質劣化",2,IF(P16="漏水",3,1)) -> 1
AQ17: =IF(P17="材質劣化",2,IF(P17="漏水",3,1)) -> 1
AQ18: =IF(P18="材質劣化",2,IF(P18="漏水",3,1)) -> 1
AQ19: =IF(P19="材質劣化",2,IF(P19="漏水",3,1)) -> 1
AQ20: =IF(P20="材質劣化",2,IF(P20="漏水",3,1)) -> 1
AQ21: =IF(P21="材質劣化",2,IF(P21="漏水",3,1)) -> 1
AQ22: =IF(P22="材質劣化",2,IF(P22="漏水",3,1)) -> 1
AQ23: =IF(P23="材質劣化",2,IF(P23="漏水",3,1)) -> 1
AQ24: =IF(P24="材質劣化",2,IF(P24="漏水",3,1)) -> 1
... AQ34: =IF(P34="材質劣化",2,IF(P34="漏水",3,1)) -> 1
K35: 集計 判定 診断 | L35: 変状の発生規模合計(㎡) | Y35: － | AC35: =SUM(AC11:AC34) -> 0 | AD35: =SUM(AD11:AD34) -> 0 | AE35: =SUM(AE11:AE34) -> 0.42 | AF35: =SUM(AF11:AF34) -> 0 | AG35: =SUM(AG11:AG34) -> 0 | AH35: =SUM(AH11:AH34) -> 0 | AI35: =SUM(AI11:AI34) -> 0 | AJ35: =SUM(AJ11:AJ34) -> 0 | AK35: 覆工スパン単位の 健全性の 診断の区分 | AM35: Ⅱ
L36: 対策区分の 判定結果 | O36: 対策区分毎の変状数 | Y36: Ⅳ | Z36: Ⅲ | AA36: Ⅱa | AB36: Ⅱb | AC36: Ⅳ | AD36: Ⅲ | AE36: Ⅱa | AF36: Ⅱb | AG36: Ⅳ | AH36: Ⅲ | AI36: Ⅱa | AJ36: Ⅱb
Y37: =COUNTIF(Y11:Y34,"〇") -> 0 | Z37: =COUNTIF(Z11:Z34,"〇") -> 0 | AA37: =COUNTIF(AA11:AA34,"〇") -> 0 | AB37: =COUNTIF(AB11:AB34,"〇") -> 0 | AC37: =COUNTA(AC11:AC34) -> 0 | AD37: =COUNTA(AD11:AD34) -> 0 | AE37: =COUNTA(AE11:AE34) -> 1 | AF37: =COUNTA(AF11:AF34) -> 0 | AG37: =COUNTA(AG11:AG34) -> 0 | AH37: =COUNTA(AH11:AH34) -> 0 | AI37: =COUNTA(AI11:AI34) -> 0 | AJ37: =COUNTA(AJ11:AJ34) -> 0
K39: 所見
K43: 注1：誤記入防止のため、当該変状区分以外のセルは灰色表示とすること。
K44: 注2：応急措置を実施した場合は、その詳細を備考に記載すること。
K45: 注3：外力は覆工スパン単位、材質劣化、漏水は変状単位とすること。
B46: （以下、印刷不要）
B47: ※1：本シートは作成洩れのないよう、変状が無くても全スパン分を作成すること．また変状展開図は、様式D-2-1、様式D-2-1'と同じものを覆工スパン単位で拡大し掲載すること。
B48: ※2：変状番号は、様式D-1-1で記入した番号と整合させること。
B49: ※3：対策区分毎の変状発生規模は、様式D-1-1に記載した面積を記入すること（ただし外力はスパン単位で評価するため変状の有無の欄には面積でなく○を記入し、備考欄に状況を記入）。
B50: ※4：本様式は覆工スパン毎に作成すること。
B51: ※5：変状数が多い場合は、適時、表の行を増やして覆工スパン毎に1枚のシートに収めること。また、1スパン１シートとし、スパンに合わせてシートを追加すること。
B52: ※6：対策区分毎の変状の発生範囲の規模とは，対策を行う際に参考となる変状の長さや面積であり，変状を包含する長さや面積とする。
B53: ※7：対策範囲を示す発生範囲の規模を面積で記入することが妥当ではない変状は、発生範囲の規模の欄に○を記入するとともに、備考に内容を記入すること。

Sheet 様式D-3_S005
AU1: 様式F用→ | AV1: 覆工スパン | AY1: 変 状 数 | BK1: 変 状 規 模
AV2: 番号 | AW2: 延長 （ｍ） | AX2: 健全性の診断の 区分 | AY2: 対策区分の判定 | BK2: 覆工スパン長（ｍ） | BO2: 変状の発生範囲の規模（㎡）
B3: ■定期点検記録様式 覆工スパン別変状詳細展開図 【様式D-3】 | AY3: 外力 | BC3: 材質劣化 | BG3: 漏水 | BK3: 外力 注2 | BO3: 材質劣化 | BS3: 漏水
B4: フリガナ | E4: (ｻﾊﾞﾔﾏｽﾞｲﾄﾞｳ(ﾉﾎﾞﾘ)) | K4: 路線名 | N4: 国道262号 | T4: 定期点検業者 | Y4: 大日本ダイヤコンサルタント株式会社 | AG4: 定期点検年月日 | AK4: 45635 | AY4: Ⅳ | AZ4: Ⅲ | BA4: Ⅱa | BB4: Ⅱb | BC4: Ⅳ | BD4: Ⅲ | BE4: Ⅱa | BF4: Ⅱb | BG4: Ⅳ | BH4: Ⅲ | BI4: Ⅱa | BJ4: Ⅱb | BK4: Ⅳ | BL4: Ⅲ | BM4: Ⅱa | BN4: Ⅱb | BO4: Ⅳ | BP4: Ⅲ | BQ4: Ⅱa | BR4: Ⅱb | BS4: Ⅳ | BT4: Ⅲ | BU4: Ⅱa | BV4: Ⅱb
B5: 名 称 | E5: 佐波山隧道(上り) | K5: 管理者名 | N5: 山口県防府土木建築事務所 | Y5: 斉藤 寿英 | AV5: =N7 -> S005 | AW5: =R7 -> 9.1 | AX5: =AM35 -> Ⅱ | AY5: =Y37 -> 0 | AZ5: =Z37 -> 0 | BA5: =AA37 -> 0 | BB5: =AB37 -> 0 | BC5: =AC37 -> 0 | BD5: =AD37 -> 0 | BE5: =AE37 -> 0 | BF5: =AF37 -> 0 | ... BJ5: =AJ37 -> 0 | BK5: =IF(Y37>0,R7,"") | BL5: =IF(Y37>0,"",IF(Z37>0,R7,"")) | BM5: =IF(Y37+Z37>0,"",IF(AA37>0,R7,"")) | BN5: =IF(Y37+Z37+AA37>0,"",IF(AB37>0,R7,"")) | BO5: =AC35 -> 0 | BP5: =AD35 -> 0 | BQ5: =AE35 -> 0 | BR5: =AF35 -> 0 | BS5: =AG35 -> 0 | BT5: =AH35 -> 0 | BU5: =AI35 -> 0 | BV5: =AJ35 -> 0
B6: スパン別変状展開図 | K6: 【健全性判定集計表】
K7: スパン番号 | N7: S005 | P7: スパン長 | R7: 9.1 | U7: 前回定期点検時の判定 | W7: 応急措置前の判定 | Y7: 対策区分毎の 変状の有無 | AC7: 対策区分毎の変状の発生範囲の規模(㎡) | AK7: 備考注2
K8: 変状番号 | L8: 対象箇所 | N8: 部位区分 | P8: 変状区分 | R8: 変状種類
Y9: 外力注1 | AC9: 材質劣化注1 | AG9: 漏水注1
Y10: Ⅳ | Z10: Ⅲ | AA10: Ⅱa | AB10: Ⅱb | AC10: Ⅳ | AD10: Ⅲ | AE10: Ⅱa | AF10: Ⅱb | AG10: Ⅳ | AH10: Ⅲ | AI10: Ⅱa | AJ10: Ⅱb
K11: 1 | L11: 路面 | N11: 監査歩路 | P11: － | R11: その他 | U11: Ⅱb | AK11: 0.20m×6.00m | AQ11: =IF(P11="材質劣化",2,IF(P11="漏水",3,1)) -> 1
AQ12: =IF(P12="材質劣化",2,IF(P12="漏水",3,1)) -> 1
AQ13: =IF(P13="材質劣化",2,IF(P13="漏水",3,1)) -> 1
AQ14: =IF(P14="材質劣化",2,IF(P14="漏水",3,1)) -> 1
AQ15: =IF(P15="材質劣化",2,IF(P15="漏水",3,1)) -> 1
AQ16: =IF(P16="材質劣化",2,IF(P16="漏水",3,1)) -> 1
AQ17: =IF(P17="材質劣化",2,IF(P17="漏水",3,1)) -> 1
AQ18: =IF(P18="材質劣化",2,IF(P18="漏水",3,1)) -> 1
AQ19: =IF(P19="材質劣化",2,IF(P19="漏水",3,1)) -> 1
AQ20: =IF(P20="材質劣化",2,IF(P20="漏水",3,1)) -> 1
AQ21: =IF(P21="材質劣化",2,IF(P21="漏水",3,1)) -> 1
AQ22: =IF(P22="材質劣化",2,IF(P22="漏水",3,1)) -> 1
AQ23: =IF(P23="材質劣化",2,IF(P23="漏水",3,1)) -> 1
... AQ34: =IF(P34="材質劣化",2,IF(P34="漏水",3,1)) -> 1
K35: 集計 判定 診断 | L35: 変状の発生規模合計(㎡) | Y35: － | AC35: =SUM(AC11:AC34) -> 0 | AD35: =SUM(AD11:AD34) -> 0 | AE35: =SUM(AE11:AE34) -> 0 | AF35: =SUM(AF11:AF34) -> 0 | AG35: =SUM(AG11:AG34) -> 0 | AH35: =SUM(AH11:AH34) -> 0 | AI35: =SUM(AI11:AI34) -> 0 | AJ35: =SUM(AJ11:AJ34) -> 0 | AK35: 覆工スパン単位の 健全性の 診断の区分 | AM35: Ⅱ
L36: 対策区分の 判定結果 | O36: 対策区分毎の変状数 | Y36: Ⅳ | Z36: Ⅲ | AA36: Ⅱa | AB36: Ⅱb | AC36: Ⅳ | AD36: Ⅲ | AE36: Ⅱa | AF36: Ⅱb | AG36: Ⅳ | AH36: Ⅲ | AI36: Ⅱa | AJ36: Ⅱb
Y37: =COUNTIF(Y11:Y34,"〇") -> 0 | Z37: =COUNTIF(Z11:Z34,"〇") -> 0 | AA37: =COUNTIF(AA11:AA34,"〇") -> 0 | AB37: =COUNTIF(AB11:AB34,"〇") -> 0 | AC37: =COUNTA(AC11:AC34) -> 0 | AD37: =COUNTA(AD11:AD34) -> 0 | AE37: =COUNTA(AE11:AE34) -> 0 | AF37: =COUNTA(AF11:AF34) -> 0 | AG37: =COUNTA(AG11:AG34) -> 0 | AH37: =COUNTA(AH11:AH34) -> 0 | AI37: =COUNTA(AI11:AI34) -> 0 | AJ37: =COUNTA(AJ11:AJ34) -> 0
K39: 所見
K43: 注1：誤記入防止のため、当該変状区分以外のセルは灰色表示とすること。
K44: 注2：応急措置を実施した場合は、その詳細を備考に記載すること。
K45: 注3：外力は覆工スパン単位、材質劣化、漏水は変状単位とすること。
B46: （以下、印刷不要）
B47: ※1：本シートは作成洩れのないよう、変状が無くても全スパン分を作成すること．また変状展開図は、様式D-2-1、様式D-2-1'と同じものを覆工スパン単位で拡大し掲載すること。
B48: ※2：変状番号は、様式D-1-1で記入した番号と整合させること。
B49: ※3：対策区分毎の変状発生規模は、様式D-1-1に記載した面積を記入すること（ただし外力はスパン単位で評価するため変状の有無の欄には面積でなく○を記入し、備考欄に状況を記入）。
B50: ※4：本様式は覆工スパン毎に作成すること。
B51: ※5：変状数が多い場合は、適時、表の行を増やして覆工スパン毎に1枚のシートに収めること。また、1スパン１シートとし、スパンに合わせてシートを追加すること。
B52: ※6：対策区分毎の変状の発生範囲の規模とは，対策を行う際に参考となる変状の長さや面積であり，変状を包含する長さや面積とする。
B53: ※7：対策範囲を示す発生範囲の規模を面積で記入することが妥当ではない変状は、発生範囲の規模の欄に○を記入するとともに、備考に内容を記入すること。

Sheet 様式D-3_S006
AU1: 様式F用→ | AV1: 覆工スパン | AY1: 変 状 数 | BK1: 変 状 規 模
AV2: 番号 | AW2: 延長 （ｍ） | AX2: 健全性の診断の 区分 | AY2: 対策区分の判定 | BK2: 覆工スパン長（ｍ） | BO2: 変状の発生範囲の規模（㎡）
B3: ■定期点検記録様式 覆工スパン別変状詳細展開図 【様式D-3】 | AY3: 外力 | BC3: 材質劣化 | BG3: 漏水 | BK3: 外力 注2 | BO3: 材質劣化 | BS3: 漏水
B4: フリガナ | E4: (ｻﾊﾞﾔﾏｽﾞｲﾄﾞｳ(ﾉﾎﾞﾘ)) | K4: 路線名 | N4: 国道262号 | T4: 定期点検業者 | Y4: 大日本ダイヤコンサルタント株式会社 | AG4: 定期点検年月日 | AK4: 45635 | AY4: Ⅳ | AZ4: Ⅲ | BA4: Ⅱa | BB4: Ⅱb | BC4: Ⅳ | BD4: Ⅲ | BE4: Ⅱa | BF4: Ⅱb | BG4: Ⅳ | BH4: Ⅲ | BI4: Ⅱa | BJ4: Ⅱb | BK4: Ⅳ | BL4: Ⅲ | BM4: Ⅱa | BN4: Ⅱb | BO4: Ⅳ | BP4: Ⅲ | BQ4: Ⅱa | BR4: Ⅱb | BS4: Ⅳ | BT4: Ⅲ | BU4: Ⅱa | BV4: Ⅱb
B5: 名 称 | E5: 佐波山隧道(上り) | K5: 管理者名 | N5: 山口県防府土木建築事務所 | Y5: 斉藤 寿英 | AV5: =N7 -> S006 | AW5: =R7 -> 9.1 | AX5: =AM35 -> Ⅱ | AY5: =Y37 -> 0 | AZ5: =Z37 -> 0 | BA5: =AA37 -> 0 | BB5: =AB37 -> 0 | BC5: =AC37 -> 0 | BD5: =AD37 -> 0 | BE5: =AE37 -> 0 | BF5: =AF37 -> 1 | ... BJ5: =AJ37 -> 3 | BK5: =IF(Y37>0,R7,"") | BL5: =IF(Y37>0,"",IF(Z37>0,R7,"")) | BM5: =IF(Y37+Z37>0,"",IF(AA37>0,R7,"")) | BN5: =IF(Y37+Z37+AA37>0,"",IF(AB37>0,R7,"")) | BO5: =AC35 -> 0 | BP5: =AD35 -> 0 | BQ5: =AE35 -> 0 | BR5: =AF35 -> 0.02 | BS5: =AG35 -> 0 | BT5: =AH35 -> 0 | BU5: =AI35 -> 4.03 | BV5: =AJ35 -> 11.7
B6: スパン別変状展開図 | K6: 【健全性判定集計表】
K7: スパン番号 | N7: S006 | P7: スパン長 | R7: 9.1 | U7: 前回定期点検時の判定 | W7: 応急措置前の判定 | Y7: 対策区分毎の 変状の有無 | AC7: 対策区分毎の変状の発生範囲の規模(㎡) | AK7: 備考注2
K8: 変状番号 | L8: 対象箇所 | N8: 部位区分 | P8: 変状区分 | R8: 変状種類
Y9: 外力注1 | AC9: 材質劣化注1 | AG9: 漏水注1
Y10: Ⅳ | Z10: Ⅲ | AA10: Ⅱa | AB10: Ⅱb | AC10: Ⅳ | AD10: Ⅲ | AE10: Ⅱa | AF10: Ⅱb | AG10: Ⅳ | AH10: Ⅲ | AI10: Ⅱa | AJ10: Ⅱb
K11: 1 | L11: 覆工 | N11: アーチ（左側） | P11: 漏水 | R11: 漏水 | U11: Ⅱb | AJ11: 2.96 | AQ11: =IF(P11="材質劣化",2,IF(P11="漏水",3,1)) -> 3
K12: 2 | L12: 覆工 | N12: 横断目地（天端） | P12: 材質劣化 | R12: その他 | U12: Ⅱb | AF12: 0.02 | AQ12: =IF(P12="材質劣化",2,IF(P12="漏水",3,1)) -> 2
K13: 3 | L13: 路面 | N13: 監査歩路 | P13: － | R13: その他 | U13: Ⅱb | AK13: 0.20m×7.50m | AQ13: =IF(P13="材質劣化",2,IF(P13="漏水",3,1)) -> 1
K14: 4 | L14: 覆工 | N14: アーチ（左側） | P14: 漏水 | R14: 漏水 | U14: － | AJ14: 4.59 | AQ14: =IF(P14="材質劣化",2,IF(P14="漏水",3,1)) -> 3
K15: 5 | L15: 覆工 | N15: アーチ（天端） | P15: 漏水 | R15: 漏水 | U15: － | AJ15: 4.15 | AQ15: =IF(P15="材質劣化",2,IF(P15="漏水",3,1)) -> 3
K16: 6 | L16: 覆工 | N16: アーチ（天端） | P16: 漏水 | R16: 漏水 | U16: － | AI16: 4.03 | AQ16: =IF(P16="材質劣化",2,IF(P16="漏水",3,1)) -> 3
K17: 7 | L17: 路面 | N17: 側溝 | P17: － | R17: その他 | U17: － | AK17: 0.20m×0.10m | AQ17: =IF(P17="材質劣化",2,IF(P17="漏水",3,1)) -> 1
AQ18: =IF(P18="材質劣化",2,IF(P18="漏水",3,1)) -> 1
AQ19: =IF(P19="材質劣化",2,IF(P19="漏水",3,1)) -> 1
AQ20: =IF(P20="材質劣化",2,IF(P20="漏水",3,1)) -> 1
AQ21: =IF(P21="材質劣化",2,IF(P21="漏水",3,1)) -> 1
AQ22: =IF(P22="材質劣化",2,IF(P22="漏水",3,1)) -> 1
AQ23: =IF(P23="材質劣化",2,IF(P23="漏水",3,1)) -> 1
AQ24: =IF(P24="材質劣化",2,IF(P24="漏水",3,1)) -> 1
AQ25: =IF(P25="材質劣化",2,IF(P25="漏水",3,1)) -> 1
AQ26: =IF(P26="材質劣化",2,IF(P26="漏水",3,1)) -> 1
AQ27: =IF(P27="材質劣化",2,IF(P27="漏水",3,1)) -> 1
AQ28: =IF(P28="材質劣化",2,IF(P28="漏水",3,1)) -> 1
AQ29: =IF(P29="材質劣化",2,IF(P29="漏水",3,1)) -> 1
... AQ34: =IF(P34="材質劣化",2,IF(P34="漏水",3,1)) -> 1
K35: 集計 判定 診断 | L35: 変状の発生規模合計(㎡) | Y35: － | AC35: =SUM(AC11:AC34) -> 0 | AD35: =SUM(AD11:AD34) -> 0 | AE35: =SUM(AE11:AE34) -> 0 | AF35: =SUM(AF11:AF34) -> 0.02 | AG35: =SUM(AG11:AG34) -> 0 | AH35: =SUM(AH11:AH34) -> 0 | AI35: =SUM(AI11:AI34) -> 4.03 | AJ35: =SUM(AJ11:AJ34) -> 11.7 | AK35: 覆工スパン単位の 健全性の 診断の区分 | AM35: Ⅱ
L36: 対策区分の 判定結果 | O36: 対策区分毎の変状数 | Y36: Ⅳ | Z36: Ⅲ | AA36: Ⅱa | AB36: Ⅱb | AC36: Ⅳ | AD36: Ⅲ | AE36: Ⅱa | AF36: Ⅱb | AG36: Ⅳ | AH36: Ⅲ | AI36: Ⅱa | AJ36: Ⅱb
Y37: =COUNTIF(Y11:Y34,"〇") -> 0 | Z37: =COUNTIF(Z11:Z34,"〇") -> 0 | AA37: =COUNTIF(AA11:AA34,"〇") -> 0 | AB37: =COUNTIF(AB11:AB34,"〇") -> 0 | AC37: =COUNTA(AC11:AC34) -> 0 | AD37: =COUNTA(AD11:AD34) -> 0 | AE37: =COUNTA(AE11:AE34) -> 0 | AF37: =COUNTA(AF11:AF34) -> 1 | AG37: =COUNTA(AG11:AG34) -> 0 | AH37: =COUNTA(AH11:AH34) -> 0 | AI37: =COUNTA(AI11:AI34) -> 1 | AJ37: =COUNTA(AJ11:AJ34) -> 3
K39: 所見
K43: 注1：誤記入防止のため、当該変状区分以外のセルは灰色表示とすること。
K44: 注2：応急措置を実施した場合は、その詳細を備考に記載すること。
K45: 注3：外力は覆工スパン単位、材質劣化、漏水は変状単位とすること。
B46: （以下、印刷不要）
B47: ※1：本シートは作成洩れのないよう、変状が無くても全スパン分を作成すること．また変状展開図は、様式D-2-1、様式D-2-1'と同じものを覆工スパン単位で拡大し掲載すること。
B48: ※2：変状番号は、様式D-1-1で記入した番号と整合させること。
B49: ※3：対策区分毎の変状発生規模は、様式D-1-1に記載した面積を記入すること（ただし外力はスパン単位で評価するため変状の有無の欄には面積でなく○を記入し、備考欄に状況を記入）。
B50: ※4：本様式は覆工スパン毎に作成すること。
B51: ※5：変状数が多い場合は、適時、表の行を増やして覆工スパン毎に1枚のシートに収めること。また、1スパン１シートとし、スパンに合わせてシートを追加すること。
B52: ※6：対策区分毎の変状の発生範囲の規模とは，対策を行う際に参考となる変状の長さや面積であり，変状を包含する長さや面積とする。
B53: ※7：対策範囲を示す発生範囲の規模を面積で記入することが妥当ではない変状は、発生範囲の規模の欄に○を記入するとともに、備考に内容を記入すること。

Sheet 様式D-3_S007
AU1: 様式F用→ | AV1: 覆工スパン | AY1: 変 状 数 | BK1: 変 状 規 模
AV2: 番号 | AW2: 延長 （ｍ） | AX2: 健全性の診断の 区分 | AY2: 対策区分の判定 | BK2: 覆工スパン長（ｍ） | BO2: 変状の発生範囲の規模（㎡）
B3: ■定期点検記録様式 覆工スパン別変状詳細展開図 【様式D-3】 | AY3: 外力 | BC3: 材質劣化 | BG3: 漏水 | BK3: 外力 注2 | BO3: 材質劣化 | BS3: 漏水
B4: フリガナ | E4: (ｻﾊﾞﾔﾏｽﾞｲﾄﾞｳ(ﾉﾎﾞﾘ)) | K4: 路線名 | N4: 国道262号 | T4: 定期点検業者 | Y4: 大日本ダイヤコンサルタント株式会社 | AG4: 定期点検年月日 | AK4: 45635 | AY4: Ⅳ | AZ4: Ⅲ | BA4: Ⅱa | BB4: Ⅱb | BC4: Ⅳ | BD4: Ⅲ | BE4: Ⅱa | BF4: Ⅱb | BG4: Ⅳ | BH4: Ⅲ | BI4: Ⅱa | BJ4: Ⅱb | BK4: Ⅳ | BL4: Ⅲ | BM4: Ⅱa | BN4: Ⅱb | BO4: Ⅳ | BP4: Ⅲ | BQ4: Ⅱa | BR4: Ⅱb | BS4: Ⅳ | BT4: Ⅲ | BU4: Ⅱa | BV4: Ⅱb
B5: 名 称 | E5: 佐波山隧道(上り) | K5: 管理者名 | N5: 山口県防府土木建築事務所 | Y5: 斉藤 寿英 | AV5: =N7 -> S007 | AW5: =R7 -> 9.1 | AX5: =AM35 -> Ⅱ | AY5: =Y37 -> 0 | AZ5: =Z37 -> 0 | BA5: =AA37 -> 0 | BB5: =AB37 -> 0 | BC5: =AC37 -> 0 | BD5: =AD37 -> 0 | BE5: =AE37 -> 0 | BF5: =AF37 -> 1 | ... BJ5: =AJ37 -> 4 | BK5: =IF(Y37>0,R7,"") | BL5: =IF(Y37>0,"",IF(Z37>0,R7,"")) | BM5: =IF(Y37+Z37>0,"",IF(AA37>0,R7,"")) | BN5: =IF(Y37+Z37+AA37>0,"",IF(AB37>0,R7,"")) | BO5: =AC35 -> 0 | BP5: =AD35 -> 0 | BQ5: =AE35 -> 0 | BR5: =AF35 -> 0.02 | BS5: =AG35 -> 0 | BT5: =AH35 -> 0 | BU5: =AI35 -> 0 | BV5: =AJ35 -> 12.53
B6: スパン別変状展開図 | K6: 【健全性判定集計表】
K7: スパン番号 | N7: S007 | P7: スパン長 | R7: 9.1 | U7: 前回定期点検時の判定 | W7: 応急措置前の判定 | Y7: 対策区分毎の 変状の有無 | AC7: 対策区分毎の変状の発生範囲の規模(㎡) | AK7: 備考注2
K8: 変状番号 | L8: 対象箇所 | N8: 部位区分 | P8: 変状区分 | R8: 変状種類
Y9: 外力注1 | AC9: 材質劣化注1 | AG9: 漏水注1
Y10: Ⅳ | Z10: Ⅲ | AA10: Ⅱa | AB10: Ⅱb | AC10: Ⅳ | AD10: Ⅲ | AE10: Ⅱa | AF10: Ⅱb | AG10: Ⅳ | AH10: Ⅲ | AI10: Ⅱa | AJ10: Ⅱb
K11: 1 | L11: 覆工 | N11: アーチ（左側） | P11: 漏水 | R11: 漏水 | U11: Ⅱb | AJ11: 5.13 | AQ11: =IF(P11="材質劣化",2,IF(P11="漏水",3,1)) -> 3
K12: 2 | L12: 覆工 | N12: アーチ（左側） | P12: 漏水 | R12: 漏水 | U12: Ⅱb | AJ12: 2.4 | AQ12: =IF(P12="材質劣化",2,IF(P12="漏水",3,1)) -> 3
K13: 3 | L13: 覆工 | N13: 横断目地（天端） | P13: 材質劣化 | R13: その他 | U13: Ⅱb | AF13: 0.02 | AQ13: =IF(P13="材質劣化",2,IF(P13="漏水",3,1)) -> 2
K14: 4 | L14: 路面 | N14: 監査歩路 | P14: 漏水 | R14: 滞水 | U14: Ⅱb | AJ14: 1 | AK14: 1.15m×3.95m | AQ14: =IF(P14="材質劣化",2,IF(P14="漏水",3,1)) -> 3
K15: 5 | L15: 覆工 | N15: アーチ（天端） | P15: 漏水 | R15: 漏水 | U15: － | AJ15: 4 | AQ15: =IF(P15="材質劣化",2,IF(P15="漏水",3,1)) -> 3
AQ16: =IF(P16="材質劣化",2,IF(P16="漏水",3,1)) -> 1
AQ17: =IF(P17="材質劣化",2,IF(P17="漏水",3,1)) -> 1
AQ18: =IF(P18="材質劣化",2,IF(P18="漏水",3,1)) -> 1
AQ19: =IF(P19="材質劣化",2,IF(P19="漏水",3,1)) -> 1
AQ20: =IF(P20="材質劣化",2,IF(P20="漏水",3,1)) -> 1
AQ21: =IF(P21="材質劣化",2,IF(P21="漏水",3,1)) -> 1
AQ22: =IF(P22="材質劣化",2,IF(P22="漏水",3,1)) -> 1
AQ23: =IF(P23="材質劣化",2,IF(P23="漏水",3,1)) -> 1
AQ24: =IF(P24="材質劣化",2,IF(P24="漏水",3,1)) -> 1
AQ25: =IF(P25="材質劣化",2,IF(P25="漏水",3,1)) -> 1
AQ26: =IF(P26="材質劣化",2,IF(P26="漏水",3,1)) -> 1
AQ27: =IF(P27="材質劣化",2,IF(P27="漏水",3,1)) -> 1
... AQ34: =IF(P34="材質劣化",2,IF(P34="漏水",3,1)) -> 1
K35: 集計 判定 診断 | L35: 変状の発生規模合計(㎡) | Y35: － | AC35: =SUM(AC11:AC34) -> 0 | AD35: =SUM(AD11:AD34) -> 0 | AE35: =SUM(AE11:AE34) -> 0 | AF35: =SUM(AF11:AF34) -> 0.02 | AG35: =SUM(AG11:AG34) -> 0 | AH35: =SUM(AH11:AH34) -> 0 | AI35: =SUM(AI11:AI34) -> 0 | AJ35: =SUM(AJ11:AJ34) -> 12.53 | AK35: 覆工スパン単位の 健全性の 診断の区分 | AM35: Ⅱ
L36: 対策区分の 判定結果 | O36: 対策区分毎の変状数 | Y36: Ⅳ | Z36: Ⅲ | AA36: Ⅱa | AB36: Ⅱb | AC36: Ⅳ | AD36: Ⅲ | AE36: Ⅱa | AF36: Ⅱb | AG36: Ⅳ | AH36: Ⅲ | AI36: Ⅱa | AJ36: Ⅱb
Y37: =COUNTIF(Y11:Y34,"〇") -> 0 | Z37: =COUNTIF(Z11:Z34,"〇") -> 0 | AA37: =COUNTIF(AA11:AA34,"〇") -> 0 | AB37: =COUNTIF(AB11:AB34,"〇") -> 0 | AC37: =COUNTA(AC11:AC34) -> 0 | AD37: =COUNTA(AD11:AD34) -> 0 | AE37: =COUNTA(AE11:AE34) -> 0 | AF37: =COUNTA(AF11:AF34) -> 1 | AG37: =COUNTA(AG11:AG34) -> 0 | AH37: =COUNTA(AH11:AH34) -> 0 | AI37: =COUNTA(AI11:AI34) -> 0 | AJ37: =COUNTA(AJ11:AJ34) -> 4
K39: 所見
K43: 注1：誤記入防止のため、当該変状区分以外のセルは灰色表示とすること。
K44: 注2：応急措置を実施した場合は、その詳細を備考に記載すること。
K45: 注3：外力は覆工スパン単位、材質劣化、漏水は変状単位とすること。
B46: （以下、印刷不要）
B47: ※1：本シートは作成洩れのないよう、変状が無くても全スパン分を作成すること．また変状展開図は、様式D-2-1、様式D-2-1'と同じものを覆工スパン単位で拡大し掲載すること。
B48: ※2：変状番号は、様式D-1-1で記入した番号と整合させること。
B49: ※3：対策区分毎の変状発生規模は、様式D-1-1に記載した面積を記入すること（ただし外力はスパン単位で評価するため変状の有無の欄には面積でなく○を記入し、備考欄に状況を記入）。
B50: ※4：本様式は覆工スパン毎に作成すること。
B51: ※5：変状数が多い場合は、適時、表の行を増やして覆工スパン毎に1枚のシートに収めること。また、1スパン１シートとし、スパンに合わせてシートを追加すること。
B52: ※6：対策区分毎の変状の発生範囲の規模とは，対策を行う際に参考となる変状の長さや面積であり，変状を包含する長さや面積とする。
B53: ※7：対策範囲を示す発生範囲の規模を面積で記入することが妥当ではない変状は、発生範囲の規模の欄に○を記入するとともに、備考に内容を記入すること。

Sheet 様式D-3_S008
AU1: 様式F用→ | AV1: 覆工スパン | AY1: 変 状 数 | BK1: 変 状 規 模
AV2: 番号 | AW2: 延長 （ｍ） | AX2: 健全性の診断の 区分 | AY2: 対策区分の判定 | BK2: 覆工スパン長（ｍ） | BO2: 変状の発生範囲の規模（㎡）
B3: ■定期点検記録様式 覆工スパン別変状詳細展開図 【様式D-3】 | AY3: 外力 | BC3: 材質劣化 | BG3: 漏水 | BK3: 外力 注2 | BO3: 材質劣化 | BS3: 漏水
B4: フリガナ | E4: (ｻﾊﾞﾔﾏｽﾞｲﾄﾞｳ(ﾉﾎﾞﾘ)) | K4: 路線名 | N4: 国道262号 | T4: 定期点検業者 | Y4: 大日本ダイヤコンサルタント株式会社 | AG4: 定期点検年月日 | AK4: 45635 | AY4: Ⅳ | AZ4: Ⅲ | BA4: Ⅱa | BB4: Ⅱb | BC4: Ⅳ | BD4: Ⅲ | BE4: Ⅱa | BF4: Ⅱb | BG4: Ⅳ | BH4: Ⅲ | BI4: Ⅱa | BJ4: Ⅱb | BK4: Ⅳ | BL4: Ⅲ | BM4: Ⅱa | BN4: Ⅱb | BO4: Ⅳ | BP4: Ⅲ | BQ4: Ⅱa | BR4: Ⅱb | BS4: Ⅳ | BT4: Ⅲ | BU4: Ⅱa | BV4: Ⅱb
B5: 名 称 | E5: 佐波山隧道(上り) | K5: 管理者名 | N5: 山口県防府土木建築事務所 | Y5: 斉藤 寿英 | AV5: =N7 -> S008 | AW5: =R7 -> 9.1 | AX5: =AM35 -> Ⅱ | AY5: =Y37 -> 0 | AZ5: =Z37 -> 0 | BA5: =AA37 -> 0 | BB5: =AB37 -> 0 | BC5: =AC37 -> 0 | BD5: =AD37 -> 0 | BE5: =AE37 -> 0 | BF5: =AF37 -> 1 | ... BJ5: =AJ37 -> 1 | BK5: =IF(Y37>0,R7,"") | BL5: =IF(Y37>0,"",IF(Z37>0,R7,"")) | BM5: =IF(Y37+Z37>0,"",IF(AA37>0,R7,"")) | BN5: =IF(Y37+Z37+AA37>0,"",IF(AB37>0,R7,"")) | BO5: =AC35 -> 0 | BP5: =AD35 -> 0 | BQ5: =AE35 -> 0 | BR5: =AF35 -> 0.02 | BS5: =AG35 -> 0 | BT5: =AH35 -> 0 | BU5: =AI35 -> 0 | BV5: =AJ35 -> 1.63
B6: スパン別変状展開図 | K6: 【健全性判定集計表】
K7: スパン番号 | N7: S008 | P7: スパン長 | R7: 9.1 | U7: 前回定期点検時の判定 | W7: 応急措置前の判定 | Y7: 対策区分毎の 変状の有無 | AC7: 対策区分毎の変状の発生範囲の規模(㎡) | AK7: 備考注2
K8: 変状番号 | L8: 対象箇所 | N8: 部位区分 | P8: 変状区分 | R8: 変状種類
Y9: 外力注1 | AC9: 材質劣化注1 | AG9: 漏水注1
Y10: Ⅳ | Z10: Ⅲ | AA10: Ⅱa | AB10: Ⅱb | AC10: Ⅳ | AD10: Ⅲ | AE10: Ⅱa | AF10: Ⅱb | AG10: Ⅳ | AH10: Ⅲ | AI10: Ⅱa | AJ10: Ⅱb
K11: 1 | L11: 覆工 | N11: アーチ（左側） | P11: 漏水 | R11: 漏水 | U11: Ⅱb | AJ11: 1.63 | AQ11: =IF(P11="材質劣化",2,IF(P11="漏水",3,1)) -> 3
K12: 2 | L12: 覆工 | N12: 横断目地（天端） | P12: 材質劣化 | R12: その他 | U12: Ⅱb | AF12: 0.02 | AQ12: =IF(P12="材質劣化",2,IF(P12="漏水",3,1)) -> 2
K13: 3 | L13: 路面 | N13: 側溝 | P13: － | R13: その他 | U13: － | AK13: (欠損)0.20m×0.05m、(うき)0.10m×0.05m | AQ13: =IF(P13="材質劣化",2,IF(P13="漏水",3,1)) -> 1
AQ14: =IF(P14="材質劣化",2,IF(P14="漏水",3,1)) -> 1
AQ15: =IF(P15="材質劣化",2,IF(P15="漏水",3,1)) -> 1
AQ16: =IF(P16="材質劣化",2,IF(P16="漏水",3,1)) -> 1
AQ17: =IF(P17="材質劣化",2,IF(P17="漏水",3,1)) -> 1
AQ18: =IF(P18="材質劣化",2,IF(P18="漏水",3,1)) -> 1
AQ19: =IF(P19="材質劣化",2,IF(P19="漏水",3,1)) -> 1
AQ20: =IF(P20="材質劣化",2,IF(P20="漏水",3,1)) -> 1
AQ21: =IF(P21="材質劣化",2,IF(P21="漏水",3,1)) -> 1
AQ22: =IF(P22="材質劣化",2,IF(P22="漏水",3,1)) -> 1
AQ23: =IF(P23="材質劣化",2,IF(P23="漏水",3,1)) -> 1
AQ24: =IF(P24="材質劣化",2,IF(P24="漏水",3,1)) -> 1
AQ25: =IF(P25="材質劣化",2,IF(P25="漏水",3,1)) -> 1
... AQ34: =IF(P34="材質劣化",2,IF(P34="漏水",3,1)) -> 1
K35: 集計 判定 診断 | L35: 変状の発生規模合計(㎡) | Y35: － | AC35: =SUM(AC11:AC34) -> 0 | AD35: =SUM(AD11:AD34) -> 0 | AE35: =SUM(AE11:AE34) -> 0 | AF35: =SUM(AF11:AF34) -> 0.02 | AG35: =SUM(AG11:AG34) -> 0 | AH35: =SUM(AH11:AH34) -> 0 | AI35: =SUM(AI11:AI34) -> 0 | AJ35: =SUM(AJ11:AJ34) -> 1.63 | AK35: 覆工スパン単位の 健全性の 診断の区分 | AM35: Ⅱ
L36: 対策区分の 判定結果 | O36: 対策区分毎の変状数 | Y36: Ⅳ | Z36: Ⅲ | AA36: Ⅱa | AB36: Ⅱb | AC36: Ⅳ | AD36: Ⅲ | AE36: Ⅱa | AF36: Ⅱb | AG36: Ⅳ | AH36: Ⅲ | AI36: Ⅱa | AJ36: Ⅱb
Y37: =COUNTIF(Y11:Y34,"〇") -> 0 | Z37: =COUNTIF(Z11:Z34,"〇") -> 0 | AA37: =COUNTIF(AA11:AA34,"〇") -> 0 | AB37: =COUNTIF(AB11:AB34,"〇") -> 0 | AC37: =COUNTA(AC11:AC34) -> 0 | AD37: =COUNTA(AD11:AD34) -> 0 | AE37: =COUNTA(AE11:AE34) -> 0 | AF37: =COUNTA(AF11:AF34) -> 1 | AG37: =COUNTA(AG11:AG34) -> 0 | AH37: =COUNTA(AH11:AH34) -> 0 | AI37: =COUNTA(AI11:AI34) -> 0 | AJ37: =COUNTA(AJ11:AJ34) -> 1
K39: 所見
K43: 注1：誤記入防止のため、当該変状区分以外のセルは灰色表示とすること。
K44: 注2：応急措置を実施した場合は、その詳細を備考に記載すること。
K45: 注3：外力は覆工スパン単位、材質劣化、漏水は変状単位とすること。
B46: （以下、印刷不要）
B47: ※1：本シートは作成洩れのないよう、変状が無くても全スパン分を作成すること．また変状展開図は、様式D-2-1、様式D-2-1'と同じものを覆工スパン単位で拡大し掲載すること。
B48: ※2：変状番号は、様式D-1-1で記入した番号と整合させること。
B49: ※3：対策区分毎の変状発生規模は、様式D-1-1に記載した面積を記入すること（ただし外力はスパン単位で評価するため変状の有無の欄には面積でなく○を記入し、備考欄に状況を記入）。
B50: ※4：本様式は覆工スパン毎に作成すること。
B51: ※5：変状数が多い場合は、適時、表の行を増やして覆工スパン毎に1枚のシートに収めること。また、1スパン１シートとし、スパンに合わせてシートを追加すること。
B52: ※6：対策区分毎の変状の発生範囲の規模とは，対策を行う際に参考となる変状の長さや面積であり，変状を包含する長さや面積とする。
B53: ※7：対策範囲を示す発生範囲の規模を面積で記入することが妥当ではない変状は、発生範囲の規模の欄に○を記入するとともに、備考に内容を記入すること。

Sheet 様式D-3_S009
AU1: 様式F用→ | AV1: 覆工スパン | AY1: 変 状 数 | BK1: 変 状 規 模
AV2: 番号 | AW2: 延長 （ｍ） | AX2: 健全性の診断の 区分 | AY2: 対策区分の判定 | BK2: 覆工スパン長（ｍ） | BO2: 変状の発生範囲の規模（㎡）
B3: ■定期点検記録様式 覆工スパン別変状詳細展開図 【様式D-3】 | AY3: 外力 | BC3: 材質劣化 | BG3: 漏水 | BK3: 外力 注2 | BO3: 材質劣化 | BS3: 漏水
B4: フリガナ | E4: (ｻﾊﾞﾔﾏｽﾞｲﾄﾞｳ(ﾉﾎﾞﾘ)) | K4: 路線名 | N4: 国道262号 | T4: 定期点検業者 | Y4: 大日本ダイヤコンサルタント株式会社 | AG4: 定期点検年月日 | AK4: 45635 | AY4: Ⅳ | AZ4: Ⅲ | BA4: Ⅱa | BB4: Ⅱb | BC4: Ⅳ | BD4: Ⅲ | BE4: Ⅱa | BF4: Ⅱb | BG4: Ⅳ | BH4: Ⅲ | BI4: Ⅱa | BJ4: Ⅱb | BK4: Ⅳ | BL4: Ⅲ | BM4: Ⅱa | BN4: Ⅱb | BO4: Ⅳ | BP4: Ⅲ | BQ4: Ⅱa | BR4: Ⅱb | BS4: Ⅳ | BT4: Ⅲ | BU4: Ⅱa | BV4: Ⅱb
B5: 名 称 | E5: 佐波山隧道(上り) | K5: 管理者名 | N5: 山口県防府土木建築事務所 | Y5: 斉藤 寿英 | AV5: =N7 -> S009 | AW5: =R7 -> 9.1 | AX5: =AM35 -> Ⅱ | AY5: =Y37 -> 0 | AZ5: =Z37 -> 0 | BA5: =AA37 -> 0 | BB5: =AB37 -> 0 | BC5: =AC37 -> 0 | BD5: =AD37 -> 0 | BE5: =AE37 -> 0 | BF5: =AF37 -> 1 | ... BJ5: =AJ37 -> 1 | BK5: =IF(Y37>0,R7,"") | BL5: =IF(Y37>0,"",IF(Z37>0,R7,"")) | BM5: =IF(Y37+Z37>0,"",IF(AA37>0,R7,"")) | BN5: =IF(Y37+Z37+AA37>0,"",IF(AB37>0,R7,"")) | BO5: =AC35 -> 0 | BP5: =AD35 -> 0 | BQ5: =AE35 -> 0 | BR5: =AF35 -> 0.05 | BS5: =AG35 -> 0 | BT5: =AH35 -> 0 | BU5: =AI35 -> 0 | BV5: =AJ35 -> 1
B6: スパン別変状展開図 | K6: 【健全性判定集計表】
K7: スパン番号 | N7: S009 | P7: スパン長 | R7: 9.1 | U7: 前回定期点検時の判定 | W7: 応急措置前の判定 | Y7: 対策区分毎の 変状の有無 | AC7: 対策区分毎の変状の発生範囲の規模(㎡) | AK7: 備考注2
K8: 変状番号 | L8: 対象箇所 | N8: 部位区分 | P8: 変状区分 | R8: 変状種類
Y9: 外力注1 | AC9: 材質劣化注1 | AG9: 漏水注1
Y10: Ⅳ | Z10: Ⅲ | AA10: Ⅱa | AB10: Ⅱb | AC10: Ⅳ | AD10: Ⅲ | AE10: Ⅱa | AF10: Ⅱb | AG10: Ⅳ | AH10: Ⅲ | AI10: Ⅱa | AJ10: Ⅱb
K11: 1 | L11: 路面 | N11: 監査歩路 | P11: － | R11: その他 | U11: Ⅱb | AK11: 0.20m×0.70m | AQ11: =IF(P11="材質劣化",2,IF(P11="漏水",3,1)) -> 1
K12: 2 | L12: 覆工 | N12: 水平打ち継ぎ目（右側） | P12: 材質劣化 | R12: うき・はく離 | U12: － | AF12: 0.05 | AQ12: =IF(P12="材質劣化",2,IF(P12="漏水",3,1)) -> 2
K13: 3 | L13: 路面 | N13: 側溝 | P13: － | R13: その他 | U13: － | AK13: 0.40m×0.10m | AQ13: =IF(P13="材質劣化",2,IF(P13="漏水",3,1)) -> 1
K14: 4 | L14: 路面 | N14: 歩道 | P14: 漏水 | R14: 滞水 | U14: － | AJ14: 1 | AK14: 0.80m×3.65m | AQ14: =IF(P14="材質劣化",2,IF(P14="漏水",3,1)) -> 3
AQ15: =IF(P15="材質劣化",2,IF(P15="漏水",3,1)) -> 1
AQ16: =IF(P16="材質劣化",2,IF(P16="漏水",3,1)) -> 1
AQ17: =IF(P17="材質劣化",2,IF(P17="漏水",3,1)) -> 1
AQ18: =IF(P18="材質劣化",2,IF(P18="漏水",3,1)) -> 1
AQ19: =IF(P19="材質劣化",2,IF(P19="漏水",3,1)) -> 1
AQ20: =IF(P20="材質劣化",2,IF(P20="漏水",3,1)) -> 1
AQ21: =IF(P21="材質劣化",2,IF(P21="漏水",3,1)) -> 1
AQ22: =IF(P22="材質劣化",2,IF(P22="漏水",3,1)) -> 1
AQ23: =IF(P23="材質劣化",2,IF(P23="漏水",3,1)) -> 1
AQ24: =IF(P24="材質劣化",2,IF(P24="漏水",3,1)) -> 1
AQ25: =IF(P25="材質劣化",2,IF(P25="漏水",3,1)) -> 1
AQ26: =IF(P26="材質劣化",2,IF(P26="漏水",3,1)) -> 1
... AQ34: =IF(P34="材質劣化",2,IF(P34="漏水",3,1)) -> 1
K35: 集計 判定 診断 | L35: 変状の発生規模合計(㎡) | Y35: － | AC35: =SUM(AC11:AC34) -> 0 | AD35: =SUM(AD11:AD34) -> 0 | AE35: =SUM(AE11:AE34) -> 0 | AF35: =SUM(AF11:AF34) -> 0.05 | AG35: =SUM(AG11:AG34) -> 0 | AH35: =SUM(AH11:AH34) -> 0 | AI35: =SUM(AI11:AI34) -> 0 | AJ35: =SUM(AJ11:AJ34) -> 1 | AK35: 覆工スパン単位の 健全性の 診断の区分 | AM35: Ⅱ
L36: 対策区分の 判定結果 | O36: 対策区分毎の変状数 | Y36: Ⅳ | Z36: Ⅲ | AA36: Ⅱa | AB36: Ⅱb | AC36: Ⅳ | AD36: Ⅲ | AE36: Ⅱa | AF36: Ⅱb | AG36: Ⅳ | AH36: Ⅲ | AI36: Ⅱa | AJ36: Ⅱb
Y37: =COUNTIF(Y11:Y34,"〇") -> 0 | Z37: =COUNTIF(Z11:Z34,"〇") -> 0 | AA37: =COUNTIF(AA11:AA34,"〇") -> 0 | AB37: =COUNTIF(AB11:AB34,"〇") -> 0 | AC37: =COUNTA(AC11:AC34) -> 0 | AD37: =COUNTA(AD11:AD34) -> 0 | AE37: =COUNTA(AE11:AE34) -> 0 | AF37: =COUNTA(AF11:AF34) -> 1 | AG37: =COUNTA(AG11:AG34) -> 0 | AH37: =COUNTA(AH11:AH34) -> 0 | AI37: =COUNTA(AI11:AI34) -> 0 | AJ37: =COUNTA(AJ11:AJ34) -> 1
K39: 所見
K43: 注1：誤記入防止のため、当該変状区分以外のセルは灰色表示とすること。
K44: 注2：応急措置を実施した場合は、その詳細を備考に記載すること。
K45: 注3：外力は覆工スパン単位、材質劣化、漏水は変状単位とすること。
B46: （以下、印刷不要）
B47: ※1：本シートは作成洩れのないよう、変状が無くても全スパン分を作成すること．また変状展開図は、様式D-2-1、様式D-2-1'と同じものを覆工スパン単位で拡大し掲載すること。
B48: ※2：変状番号は、様式D-1-1で記入した番号と整合させること。
B49: ※3：対策区分毎の変状発生規模は、様式D-1-1に記載した面積を記入すること（ただし外力はスパン単位で評価するため変状の有無の欄には面積でなく○を記入し、備考欄に状況を記入）。
B50: ※4：本様式は覆工スパン毎に作成すること。
B51: ※5：変状数が多い場合は、適時、表の行を増やして覆工スパン毎に1枚のシートに収めること。また、1スパン１シートとし、スパンに合わせてシートを追加すること。
B52: ※6：対策区分毎の変状の発生範囲の規模とは，対策を行う際に参考となる変状の長さや面積であり，変状を包含する長さや面積とする。
B53: ※7：対策範囲を示す発生範囲の規模を面積で記入することが妥当ではない変状は、発生範囲の規模の欄に○を記入するとともに、備考に内容を記入すること。

Sheet 様式D-3_S010
AU1: 様式F用→ | AV1: 覆工スパン | AY1: 変 状 数 | BK1: 変 状 規 模
AV2: 番号 | AW2: 延長 （ｍ） | AX2: 健全性の診断の 区分 | AY2: 対策区分の判定 | BK2: 覆工スパン長（ｍ） | BO2: 変状の発生範囲の規模（㎡）
B3: ■定期点検記録様式 覆工スパン別変状詳細展開図 【様式D-3】 | AY3: 外力 | BC3: 材質劣化 | BG3: 漏水 | BK3: 外力 注2 | BO3: 材質劣化 | BS3: 漏水
B4: フリガナ | E4: (ｻﾊﾞﾔﾏｽﾞｲﾄﾞｳ(ﾉﾎﾞﾘ)) | K4: 路線名 | N4: 国道262号 | T4: 定期点検業者 | Y4: 大日本ダイヤコンサルタント株式会社 | AG4: 定期点検年月日 | AK4: 45635 | AY4: Ⅳ | AZ4: Ⅲ | BA4: Ⅱa | BB4: Ⅱb | BC4: Ⅳ | BD4: Ⅲ | BE4: Ⅱa | BF4: Ⅱb | BG4: Ⅳ | BH4: Ⅲ | BI4: Ⅱa | BJ4: Ⅱb | BK4: Ⅳ | BL4: Ⅲ | BM4: Ⅱa | BN4: Ⅱb | BO4: Ⅳ | BP4: Ⅲ | BQ4: Ⅱa | BR4: Ⅱb | BS4: Ⅳ | BT4: Ⅲ | BU4: Ⅱa | BV4: Ⅱb
B5: 名 称 | E5: 佐波山隧道(上り) | K5: 管理者名 | N5: 山口県防府土木建築事務所 | Y5: 斉藤 寿英 | AV5: =N7 -> S010 | AW5: =R7 -> 9.1 | AX5: =AM35 -> Ⅱ | AY5: =Y37 -> 0 | AZ5: =Z37 -> 0 | BA5: =AA37 -> 0 | BB5: =AB37 -> 0 | BC5: =AC37 -> 0 | BD5: =AD37 -> 0 | BE5: =AE37 -> 0 | BF5: =AF37 -> 1 | ... BJ5: =AJ37 -> 1 | BK5: =IF(Y37>0,R7,"") | BL5: =IF(Y37>0,"",IF(Z37>0,R7,"")) | BM5: =IF(Y37+Z37>0,"",IF(AA37>0,R7,"")) | BN5: =IF(Y37+Z37+AA37>0,"",IF(AB37>0,R7,"")) | BO5: =AC35 -> 0 | BP5: =AD35 -> 0 | BQ5: =AE35 -> 0 | BR5: =AF35 -> 0.03 | BS5: =AG35 -> 0 | BT5: =AH35 -> 0 | BU5: =AI35 -> 0 | BV5: =AJ35 -> 6.31
B6: スパン別変状展開図 | K6: 【健全性判定集計表】
K7: スパン番号 | N7: S010 | P7: スパン長 | R7: 9.1 | U7: 前回定期点検時の判定 | W7: 応急措置前の判定 | Y7: 対策区分毎の 変状の有無 | AC7: 対策区分毎の変状の発生範囲の規模(㎡) | AK7: 備考注2
K8: 変状番号 | L8: 対象箇所 | N8: 部位区分 | P8: 変状区分 | R8: 変状種類
Y9: 外力注1 | AC9: 材質劣化注1 | AG9: 漏水注1
Y10: Ⅳ | Z10: Ⅲ | AA10: Ⅱa | AB10: Ⅱb | AC10: Ⅳ | AD10: Ⅲ | AE10: Ⅱa | AF10: Ⅱb | AG10: Ⅳ | AH10: Ⅲ | AI10: Ⅱa | AJ10: Ⅱb
K11: 1 | L11: 覆工 | N11: アーチ（右側） | P11: 漏水 | R11: 漏水 | U11: Ⅱb | AJ11: 6.31 | AQ11: =IF(P11="材質劣化",2,IF(P11="漏水",3,1)) -> 3
K12: 2 | L12: 内装板 | N12: 側壁 | P12: 材質劣化 | R12: その他 | U12: － | AF12: 0.03 | AQ12: =IF(P12="材質劣化",2,IF(P12="漏水",3,1)) -> 2
AQ13: =IF(P13="材質劣化",2,IF(P13="漏水",3,1)) -> 1
AQ14: =IF(P14="材質劣化",2,IF(P14="漏水",3,1)) -> 1
AQ15: =IF(P15="材質劣化",2,IF(P15="漏水",3,1)) -> 1
AQ16: =IF(P16="材質劣化",2,IF(P16="漏水",3,1)) -> 1
AQ17: =IF(P17="材質劣化",2,IF(P17="漏水",3,1)) -> 1
AQ18: =IF(P18="材質劣化",2,IF(P18="漏水",3,1)) -> 1
AQ19: =IF(P19="材質劣化",2,IF(P19="漏水",3,1)) -> 1
AQ20: =IF(P20="材質劣化",2,IF(P20="漏水",3,1)) -> 1
AQ21: =IF(P21="材質劣化",2,IF(P21="漏水",3,1)) -> 1
AQ22: =IF(P22="材質劣化",2,IF(P22="漏水",3,1)) -> 1
AQ23: =IF(P23="材質劣化",2,IF(P23="漏水",3,1)) -> 1
AQ24: =IF(P24="材質劣化",2,IF(P24="漏水",3,1)) -> 1
... AQ34: =IF(P34="材質劣化",2,IF(P34="漏水",3,1)) -> 1
K35: 集計 判定 診断 | L35: 変状の発生規模合計(㎡) | Y35: － | AC35: =SUM(AC11:AC34) -> 0 | AD35: =SUM(AD11:AD34) -> 0 | AE35: =SUM(AE11:AE34) -> 0 | AF35: =SUM(AF11:AF34) -> 0.03 | AG35: =SUM(AG11:AG34) -> 0 | AH35: =SUM(AH11:AH34) -> 0 | AI35: =SUM(AI11:AI34) -> 0 | AJ35: =SUM(AJ11:AJ34) -> 6.31 | AK35: 覆工スパン単位の 健全性の 診断の区分 | AM35: Ⅱ
L36: 対策区分の 判定結果 | O36: 対策区分毎の変状数 | Y36: Ⅳ | Z36: Ⅲ | AA36: Ⅱa | AB36: Ⅱb | AC36: Ⅳ | AD36: Ⅲ | AE36: Ⅱa | AF36: Ⅱb | AG36: Ⅳ | AH36: Ⅲ | AI36: Ⅱa | AJ36: Ⅱb
Y37: =COUNTIF(Y11:Y34,"〇") -> 0 | Z37: =COUNTIF(Z11:Z34,"〇") -> 0 | AA37: =COUNTIF(AA11:AA34,"〇") -> 0 | AB37: =COUNTIF(AB11:AB34,"〇") -> 0 | AC37: =COUNTA(AC11:AC34) -> 0 | AD37: =COUNTA(AD11:AD34) -> 0 | AE37: =COUNTA(AE11:AE34) -> 0 | AF37: =COUNTA(AF11:AF34) -> 1 | AG37: =COUNTA(AG11:AG34) -> 0 | AH37: =COUNTA(AH11:AH34) -> 0 | AI37: =COUNTA(AI11:AI34) -> 0 | AJ37: =COUNTA(AJ11:AJ34) -> 1
K39: 所見
K43: 注1：誤記入防止のため、当該変状区分以外のセルは灰色表示とすること。
K44: 注2：応急措置を実施した場合は、その詳細を備考に記載すること。
K45: 注3：外力は覆工スパン単位、材質劣化、漏水は変状単位とすること。
B46: （以下、印刷不要）
B47: ※1：本シートは作成洩れのないよう、変状が無くても全スパン分を作成すること．また変状展開図は、様式D-2-1、様式D-2-1'と同じものを覆工スパン単位で拡大し掲載すること。
B48: ※2：変状番号は、様式D-1-1で記入した番号と整合させること。
B49: ※3：対策区分毎の変状発生規模は、様式D-1-1に記載した面積を記入すること（ただし外力はスパン単位で評価するため変状の有無の欄には面積でなく○を記入し、備考欄に状況を記入）。
B50: ※4：本様式は覆工スパン毎に作成すること。
B51: ※5：変状数が多い場合は、適時、表の行を増やして覆工スパン毎に1枚のシートに収めること。また、1スパン１シートとし、スパンに合わせてシートを追加すること。
B52: ※6：対策区分毎の変状の発生範囲の規模とは，対策を行う際に参考となる変状の長さや面積であり，変状を包含する長さや面積とする。
B53: ※7：対策範囲を示す発生範囲の規模を面積で記入することが妥当ではない変状は、発生範囲の規模の欄に○を記入するとともに、備考に内容を記入すること。

Sheet 様式D-3_S011
AU1: 様式F用→ | AV1: 覆工スパン | AY1: 変 状 数 | BK1: 変 状 規 模
AV2: 番号 | AW2: 延長 （ｍ） | AX2: 健全性の診断の 区分 | AY2: 対策区分の判定 | BK2: 覆工スパン長（ｍ） | BO2: 変状の発生範囲の規模（㎡）
B3: ■定期点検記録様式 覆工スパン別変状詳細展開図 【様式D-3】 | AY3: 外力 | BC3: 材質劣化 | BG3: 漏水 | BK3: 外力 注2 | BO3: 材質劣化 | BS3: 漏水
B4: フリガナ | E4: (ｻﾊﾞﾔﾏｽﾞｲﾄﾞｳ(ﾉﾎﾞﾘ)) | K4: 路線名 | N4: 国道262号 | T4: 定期点検業者 | Y4: 大日本ダイヤコンサルタント株式会社 | AG4: 定期点検年月日 | AK4: 45635 | AY4: Ⅳ | AZ4: Ⅲ | BA4: Ⅱa | BB4: Ⅱb | BC4: Ⅳ | BD4: Ⅲ | BE4: Ⅱa | BF4: Ⅱb | BG4: Ⅳ | BH4: Ⅲ | BI4: Ⅱa | BJ4: Ⅱb | BK4: Ⅳ | BL4: Ⅲ | BM4: Ⅱa | BN4: Ⅱb | BO4: Ⅳ | BP4: Ⅲ | BQ4: Ⅱa | BR4: Ⅱb | BS4: Ⅳ | BT4: Ⅲ | BU4: Ⅱa | BV4: Ⅱb
B5: 名 称 | E5: 佐波山隧道(上り) | K5: 管理者名 | N5: 山口県防府土木建築事務所 | Y5: 斉藤 寿英 | AV5: =N7 -> S011 | AW5: =R7 -> 9.1 | AX5: =AM35 -> Ⅱ | AY5: =Y37 -> 0 | AZ5: =Z37 -> 0 | BA5: =AA37 -> 0 | BB5: =AB37 -> 0 | BC5: =AC37 -> 0 | BD5: =AD37 -> 0 | BE5: =AE37 -> 1 | BF5: =AF37 -> 0 | ... BJ5: =AJ37 -> 3 | BK5: =IF(Y37>0,R7,"") | BL5: =IF(Y37>0,"",IF(Z37>0,R7,"")) | BM5: =IF(Y37+Z37>0,"",IF(AA37>0,R7,"")) | BN5: =IF(Y37+Z37+AA37>0,"",IF(AB37>0,R7,"")) | BO5: =AC35 -> 0 | BP5: =AD35 -> 0 | BQ5: =AE35 -> 0.06 | BR5: =AF35 -> 0 | BS5: =AG35 -> 0 | BT5: =AH35 -> 0 | BU5: =AI35 -> 0 | BV5: =AJ35 -> 5.55
B6: スパン別変状展開図 | K6: 【健全性判定集計表】
K7: スパン番号 | N7: S011 | P7: スパン長 | R7: 9.1 | U7: 前回定期点検時の判定 | W7: 応急措置前の判定 | Y7: 対策区分毎の 変状の有無 | AC7: 対策区分毎の変状の発生範囲の規模(㎡) | AK7: 備考注2
K8: 変状番号 | L8: 対象箇所 | N8: 部位区分 | P8: 変状区分 | R8: 変状種類
Y9: 外力注1 | AC9: 材質劣化注1 | AG9: 漏水注1
Y10: Ⅳ | Z10: Ⅲ | AA10: Ⅱa | AB10: Ⅱb | AC10: Ⅳ | AD10: Ⅲ | AE10: Ⅱa | AF10: Ⅱb | AG10: Ⅳ | AH10: Ⅲ | AI10: Ⅱa | AJ10: Ⅱb
K11: 1 | L11: 覆工 | N11: アーチ（左側） | P11: 漏水 | R11: 漏水 | U11: Ⅱb | AJ11: 1.83 | AQ11: =IF(P11="材質劣化",2,IF(P11="漏水",3,1)) -> 3
K12: 2 | L12: 覆工 | N12: 水平打ち継ぎ目（左側） | P12: 材質劣化 | R12: その他 | U12: Ⅱb | AQ12: =IF(P12="材質劣化",2,IF(P12="漏水",3,1)) -> 2
K13: 3 | L13: 覆工 | N13: アーチ（左側） | P13: 材質劣化 | R13: 鋼材腐食 | U13: Ⅱa | AE13: 0.06 | AQ13: =IF(P13="材質劣化",2,IF(P13="漏水",3,1)) -> 2
K14: 4 | L14: 覆工 | N14: アーチ（右側） | P14: 漏水 | R14: 漏水 | U14: Ⅱb | AJ14: 2.72 | AQ14: =IF(P14="材質劣化",2,IF(P14="漏水",3,1)) -> 3
K15: 5 | L15: 路面 | N15: 歩道 | P15: 漏水 | R15: 滞水 | U15: Ⅱb | AJ15: 1 | AK15: 0.60m×5.00m | AQ15: =IF(P15="材質劣化",2,IF(P15="漏水",3,1)) -> 3
AQ16: =IF(P16="材質劣化",2,IF(P16="漏水",3,1)) -> 1
AQ17: =IF(P17="材質劣化",2,IF(P17="漏水",3,1)) -> 1
AQ18: =IF(P18="材質劣化",2,IF(P18="漏水",3,1)) -> 1
AQ19: =IF(P19="材質劣化",2,IF(P19="漏水",3,1)) -> 1
AQ20: =IF(P20="材質劣化",2,IF(P20="漏水",3,1)) -> 1
AQ21: =IF(P21="材質劣化",2,IF(P21="漏水",3,1)) -> 1
AQ22: =IF(P22="材質劣化",2,IF(P22="漏水",3,1)) -> 1
AQ23: =IF(P23="材質劣化",2,IF(P23="漏水",3,1)) -> 1
AQ24: =IF(P24="材質劣化",2,IF(P24="漏水",3,1)) -> 1
AQ25: =IF(P25="材質劣化",2,IF(P25="漏水",3,1)) -> 1
AQ26: =IF(P26="材質劣化",2,IF(P26="漏水",3,1)) -> 1
AQ27: =IF(P27="材質劣化",2,IF(P27="漏水",3,1)) -> 1
... AQ34: =IF(P34="材質劣化",2,IF(P34="漏水",3,1)) -> 1
K35: 集計 判定 診断 | L35: 変状の発生規模合計(㎡) | Y35: － | AC35: =SUM(AC11:AC34) -> 0 | AD35: =SUM(AD11:AD34) -> 0 | AE35: =SUM(AE11:AE34) -> 0.06 | AF35: =SUM(AF11:AF34) -> 0 | AG35: =SUM(AG11:AG34) -> 0 | AH35: =SUM(AH11:AH34) -> 0 | AI35: =SUM(AI11:AI34) -> 0 | AJ35: =SUM(AJ11:AJ34) -> 5.55 | AK35: 覆工スパン単位の 健全性の 診断の区分 | AM35: Ⅱ
L36: 対策区分の 判定結果 | O36: 対策区分毎の変状数 | Y36: Ⅳ | Z36: Ⅲ | AA36: Ⅱa | AB36: Ⅱb | AC36: Ⅳ | AD36: Ⅲ | AE36: Ⅱa | AF36: Ⅱb | AG36: Ⅳ | AH36: Ⅲ | AI36: Ⅱa | AJ36: Ⅱb
Y37: =COUNTIF(Y11:Y34,"〇") -> 0 | Z37: =COUNTIF(Z11:Z34,"〇") -> 0 | AA37: =COUNTIF(AA11:AA34,"〇") -> 0 | AB37: =COUNTIF(AB11:AB34,"〇") -> 0 | AC37: =COUNTA(AC11:AC34) -> 0 | AD37: =COUNTA(AD11:AD34) -> 0 | AE37: =COUNTA(AE11:AE34) -> 1 | AF37: =COUNTA(AF11:AF34) -> 0 | AG37: =COUNTA(AG11:AG34) -> 0 | AH37: =COUNTA(AH11:AH34) -> 0 | AI37: =COUNTA(AI11:AI34) -> 0 | AJ37: =COUNTA(AJ11:AJ34) -> 3
K39: 所見
K43: 注1：誤記入防止のため、当該変状区分以外のセルは灰色表示とすること。
K44: 注2：応急措置を実施した場合は、その詳細を備考に記載すること。
K45: 注3：外力は覆工スパン単位、材質劣化、漏水は変状単位とすること。
B46: （以下、印刷不要）
B47: ※1：本シートは作成洩れのないよう、変状が無くても全スパン分を作成すること．また変状展開図は、様式D-2-1、様式D-2-1'と同じものを覆工スパン単位で拡大し掲載すること。
B48: ※2：変状番号は、様式D-1-1で記入した番号と整合させること。
B49: ※3：対策区分毎の変状発生規模は、様式D-1-1に記載した面積を記入すること（ただし外力はスパン単位で評価するため変状の有無の欄には面積でなく○を記入し、備考欄に状況を記入）。
B50: ※4：本様式は覆工スパン毎に作成すること。
B51: ※5：変状数が多い場合は、適時、表の行を増やして覆工スパン毎に1枚のシートに収めること。また、1スパン１シートとし、スパンに合わせてシートを追加すること。
B52: ※6：対策区分毎の変状の発生範囲の規模とは，対策を行う際に参考となる変状の長さや面積であり，変状を包含する長さや面積とする。
B53: ※7：対策範囲を示す発生範囲の規模を面積で記入することが妥当ではない変状は、発生範囲の規模の欄に○を記入するとともに、備考に内容を記入すること。

Sheet 様式D-3_S012
AU1: 様式F用→ | AV1: 覆工スパン | AY1: 変 状 数 | BK1: 変 状 規 模
AV2: 番号 | AW2: 延長 （ｍ） | AX2: 健全性の診断の 区分 | AY2: 対策区分の判定 | BK2: 覆工スパン長（ｍ） | BO2: 変状の発生範囲の規模（㎡）
B3: ■定期点検記録様式 覆工スパン別変状詳細展開図 【様式D-3】 | AY3: 外力 | BC3: 材質劣化 | BG3: 漏水 | BK3: 外力 注2 | BO3: 材質劣化 | BS3: 漏水
B4: フリガナ | E4: (ｻﾊﾞﾔﾏｽﾞｲﾄﾞｳ(ﾉﾎﾞﾘ)) | K4: 路線名 | N4: 国道262号 | T4: 定期点検業者 | Y4: 大日本ダイヤコンサルタント株式会社 | AG4: 定期点検年月日 | AK4: 45635 | AY4: Ⅳ | AZ4: Ⅲ | BA4: Ⅱa | BB4: Ⅱb | BC4: Ⅳ | BD4: Ⅲ | BE4: Ⅱa | BF4: Ⅱb | BG4: Ⅳ | BH4: Ⅲ | BI4: Ⅱa | BJ4: Ⅱb | BK4: Ⅳ | BL4: Ⅲ | BM4: Ⅱa | BN4: Ⅱb | BO4: Ⅳ | BP4: Ⅲ | BQ4: Ⅱa | BR4: Ⅱb | BS4: Ⅳ | BT4: Ⅲ | BU4: Ⅱa | BV4: Ⅱb
B5: 名 称 | E5: 佐波山隧道(上り) | K5: 管理者名 | N5: 山口県防府土木建築事務所 | Y5: 斉藤 寿英 | AV5: =N7 -> S012 | AW5: =R7 -> 9.1 | AX5: =AM35 -> Ⅱ | AY5: =Y37 -> 0 | AZ5: =Z37 -> 0 | BA5: =AA37 -> 0 | BB5: =AB37 -> 0 | BC5: =AC37 -> 0 | BD5: =AD37 -> 0 | BE5: =AE37 -> 0 | BF5: =AF37 -> 0 | ... BJ5: =AJ37 -> 0 | BK5: =IF(Y37>0,R7,"") | BL5: =IF(Y37>0,"",IF(Z37>0,R7,"")) | BM5: =IF(Y37+Z37>0,"",IF(AA37>0,R7,"")) | BN5: =IF(Y37+Z37+AA37>0,"",IF(AB37>0,R7,"")) | BO5: =AC35 -> 0 | BP5: =AD35 -> 0 | BQ5: =AE35 -> 0 | BR5: =AF35 -> 0 | BS5: =AG35 -> 0 | BT5: =AH35 -> 0 | BU5: =AI35 -> 0 | BV5: =AJ35 -> 0
B6: スパン別変状展開図 | K6: 【健全性判定集計表】
K7: スパン番号 | N7: S012 | P7: スパン長 | R7: 9.1 | U7: 前回定期点検時の判定 | W7: 応急措置前の判定 | Y7: 対策区分毎の 変状の有無 | AC7: 対策区分毎の変状の発生範囲の規模(㎡) | AK7: 備考注2
K8: 変状番号 | L8: 対象箇所 | N8: 部位区分 | P8: 変状区分 | R8: 変状種類
Y9: 外力注1 | AC9: 材質劣化注1 | AG9: 漏水注1
Y10: Ⅳ | Z10: Ⅲ | AA10: Ⅱa | AB10: Ⅱb | AC10: Ⅳ | AD10: Ⅲ | AE10: Ⅱa | AF10: Ⅱb | AG10: Ⅳ | AH10: Ⅲ | AI10: Ⅱa | AJ10: Ⅱb
K11: 1 | L11: 路面 | N11: 監査歩路 | P11: － | R11: その他 | U11: Ⅱb | AK11: 0.20m×1.10m | AQ11: =IF(P11="材質劣化",2,IF(P11="漏水",3,1)) -> 1
AQ12: =IF(P12="材質劣化",2,IF(P12="漏水",3,1)) -> 1
AQ13: =IF(P13="材質劣化",2,IF(P13="漏水",3,1)) -> 1
AQ14: =IF(P14="材質劣化",2,IF(P14="漏水",3,1)) -> 1
AQ15: =IF(P15="材質劣化",2,IF(P15="漏水",3,1)) -> 1
AQ16: =IF(P16="材質劣化",2,IF(P16="漏水",3,1)) -> 1
AQ17: =IF(P17="材質劣化",2,IF(P17="漏水",3,1)) -> 1
AQ18: =IF(P18="材質劣化",2,IF(P18="漏水",3,1)) -> 1
AQ19: =IF(P19="材質劣化",2,IF(P19="漏水",3,1)) -> 1
AQ20: =IF(P20="材質劣化",2,IF(P20="漏水",3,1)) -> 1
AQ21: =IF(P21="材質劣化",2,IF(P21="漏水",3,1)) -> 1
AQ22: =IF(P22="材質劣化",2,IF(P22="漏水",3,1)) -> 1
AQ23: =IF(P23="材質劣化",2,IF(P23="漏水",3,1)) -> 1
... AQ34: =IF(P34="材質劣化",2,IF(P34="漏水",3,1)) -> 1
K35: 集計 判定 診断 | L35: 変状の発生規模合計(㎡) | Y35: － | AC35: =SUM(AC11:AC34) -> 0 | AD35: =SUM(AD11:AD34) -> 0 | AE35: =SUM(AE11:AE34) -> 0 | AF35: =SUM(AF11:AF34) -> 0 | AG35: =SUM(AG11:AG34) -> 0 | AH35: =SUM(AH11:AH34) -> 0 | AI35: =SUM(AI11:AI34) -> 0 | AJ35: =SUM(AJ11:AJ34) -> 0 | AK35: 覆工スパン単位の 健全性の 診断の区分 | AM35: Ⅱ
L36: 対策区分の 判定結果 | O36: 対策区分毎の変状数 | Y36: Ⅳ | Z36: Ⅲ | AA36: Ⅱa | AB36: Ⅱb | AC36: Ⅳ | AD36: Ⅲ | AE36: Ⅱa | AF36: Ⅱb | AG36: Ⅳ | AH36: Ⅲ | AI36: Ⅱa | AJ36: Ⅱb
Y37: =COUNTIF(Y11:Y34,"〇") -> 0 | Z37: =COUNTIF(Z11:Z34,"〇") -> 0 | AA37: =COUNTIF(AA11:AA34,"〇") -> 0 | AB37: =COUNTIF(AB11:AB34,"〇") -> 0 | AC37: =COUNTA(AC11:AC34) -> 0 | AD37: =COUNTA(AD11:AD34) -> 0 | AE37: =COUNTA(AE11:AE34) -> 0 | AF37: =COUNTA(AF11:AF34) -> 0 | AG37: =COUNTA(AG11:AG34) -> 0 | AH37: =COUNTA(AH11:AH34) -> 0 | AI37: =COUNTA(AI11:AI34) -> 0 | AJ37: =COUNTA(AJ11:AJ34) -> 0
K39: 所見
K43: 注1：誤記入防止のため、当該変状区分以外のセルは灰色表示とすること。
K44: 注2：応急措置を実施した場合は、その詳細を備考に記載すること。
K45: 注3：外力は覆工スパン単位、材質劣化、漏水は変状単位とすること。
B46: （以下、印刷不要）
B47: ※1：本シートは作成洩れのないよう、変状が無くても全スパン分を作成すること．また変状展開図は、様式D-2-1、様式D-2-1'と同じものを覆工スパン単位で拡大し掲載すること。
B48: ※2：変状番号は、様式D-1-1で記入した番号と整合させること。
B49: ※3：対策区分毎の変状発生規模は、様式D-1-1に記載した面積を記入すること（ただし外力はスパン単位で評価するため変状の有無の欄には面積でなく○を記入し、備考欄に状況を記入）。
B50: ※4：本様式は覆工スパン毎に作成すること。
B51: ※5：変状数が多い場合は、適時、表の行を増やして覆工スパン毎に1枚のシートに収めること。また、1スパン１シートとし、スパンに合わせてシートを追加すること。
B52: ※6：対策区分毎の変状の発生範囲の規模とは，対策を行う際に参考となる変状の長さや面積であり，変状を包含する長さや面積とする。
B53: ※7：対策範囲を示す発生範囲の規模を面積で記入することが妥当ではない変状は、発生範囲の規模の欄に○を記入するとともに、備考に内容を記入すること。

Sheet 様式D-3_S013
AU1: 様式F用→ | AV1: 覆工スパン | AY1: 変 状 数 | BK1: 変 状 規 模
AV2: 番号 | AW2: 延長 （ｍ） | AX2: 健全性の診断の 区分 | AY2: 対策区分の判定 | BK2: 覆工スパン長（ｍ） | BO2: 変状の発生範囲の規模（㎡）
B3: ■定期点検記録様式 覆工スパン別変状詳細展開図 【様式D-3】 | AY3: 外力 | BC3: 材質劣化 | BG3: 漏水 | BK3: 外力 注2 | BO3: 材質劣化 | BS3: 漏水
B4: フリガナ | E4: (ｻﾊﾞﾔﾏｽﾞｲﾄﾞｳ(ﾉﾎﾞﾘ)) | K4: 路線名 | N4: 国道262号 | T4: 定期点検業者 | Y4: 大日本ダイヤコンサルタント株式会社 | AG4: 定期点検年月日 | AK4: 45635 | AY4: Ⅳ | AZ4: Ⅲ | BA4: Ⅱa | BB4: Ⅱb | BC4: Ⅳ | BD4: Ⅲ | BE4: Ⅱa | BF4: Ⅱb | BG4: Ⅳ | BH4: Ⅲ | BI4: Ⅱa | BJ4: Ⅱb | BK4: Ⅳ | BL4: Ⅲ | BM4: Ⅱa | BN4: Ⅱb | BO4: Ⅳ | BP4: Ⅲ | BQ4: Ⅱa | BR4: Ⅱb | BS4: Ⅳ | BT4: Ⅲ | BU4: Ⅱa | BV4: Ⅱb
B5: 名 称 | E5: 佐波山隧道(上り) | K5: 管理者名 | N5: 山口県防府土木建築事務所 | Y5: 斉藤 寿英 | AV5: =N7 -> S013 | AW5: =R7 -> 9.1 | AX5: =AM35 -> Ⅱ | AY5: =Y37 -> 0 | AZ5: =Z37 -> 0 | BA5: =AA37 -> 0 | BB5: =AB37 -> 0 | BC5: =AC37 -> 0 | BD5: =AD37 -> 0 | BE5: =AE37 -> 0 | BF5: =AF37 -> 1 | ... BJ5: =AJ37 -> 0 | BK5: =IF(Y37>0,R7,"") | BL5: =IF(Y37>0,"",IF(Z37>0,R7,"")) | BM5: =IF(Y37+Z37>0,"",IF(AA37>0,R7,"")) | BN5: =IF(Y37+Z37+AA37>0,"",IF(AB37>0,R7,"")) | BO5: =AC35 -> 0 | BP5: =AD35 -> 0 | BQ5: =AE35 -> 0 | BR5: =AF35 -> 0.14 | BS5: =AG35 -> 0 | BT5: =AH35 -> 0 | BU5: =AI35 -> 6.8 | BV5: =AJ35 -> 0
B6: スパン別変状展開図 | K6: 【健全性判定集計表】
K7: スパン番号 | N7: S013 | P7: スパン長 | R7: 9.1 | U7: 前回定期点検時の判定 | W7: 応急措置前の判定 | Y7: 対策区分毎の 変状の有無 | AC7: 対策区分毎の変状の発生範囲の規模(㎡) | AK7: 備考注2
K8: 変状番号 | L8: 対象箇所 | N8: 部位区分 | P8: 変状区分 | R8: 変状種類
Y9: 外力注1 | AC9: 材質劣化注1 | AG9: 漏水注1
Y10: Ⅳ | Z10: Ⅲ | AA10: Ⅱa | AB10: Ⅱb | AC10: Ⅳ | AD10: Ⅲ | AE10: Ⅱa | AF10: Ⅱb | AG10: Ⅳ | AH10: Ⅲ | AI10: Ⅱa | AJ10: Ⅱb
