Workbook
Name その他: '(参考)リスト'!$C$47
Name その他施設: '[1](参考)リスト'!#REF!
Name その他施設: '(参考)リスト'!$C$79:$C$83
Name 換気施設: '[1](参考)リスト'!#REF!
Name 換気施設: '(参考)リスト'!$C$56:$C$60
Name 坑門: '(参考)リスト'!$C$31:$C$32
Name 照明施設: '[1](参考)リスト'!#REF!
Name 照明施設: '(参考)リスト'!$C$52:$C$54
Name 対象箇所: [2]!テーブル1[対象箇所]
Name 天井板: '(参考)リスト'!$C$37:$C$39
Name 内装板: '(参考)リスト'!$C$34:$C$35
Name 非常用施設: '[1](参考)リスト'!#REF!
Name 非常用施設: '(参考)リスト'!$C$62:$C$77
Name 覆工: '(参考)リスト'!$C$16:$C$29
Name 路面: '(参考)リスト'!$C$41:$C$45

Sheet 点検様式作成フロー
A1: 点検様式作成フロ-
A3: 作成フロー図 | H3: 点検調書作成手順
H4: ①様式A-1～A-3（トンネル台帳）
H5: トンネル点検の実施にあたっては，現場点検作業に先行してトンネル情報を収集する。トンネル台帳（様式Ａ－1～様式Ａ－3）はトンネル完成後に作成され，維持管理の段階で引き継がれるが，関連資料等を確認したうえで，追加情報があれば必要に応じて追記することが望ましい。
H9: ②様式D-2-1、様式D-2-1´
H10: 現場点検作業を実施し，近接目視点検で確認した変状状況や補修履歴を忠実に変状展開図に転記する。
H12: ③様式D-1-1、様式D-1-2
H13: 変状展開図や撮影した写真等をもとに，対象トンネルの対策区分を決定し，対策区分がⅡ～Ⅳの変状および異常判定区分「×」を抽出し，写真台帳を作成する。
H16: ④様式B
H17: 写真台帳の作成と同時に，トンネルの構造を展開した位置図に変状写真位置を記録する。
H19: ⑤様式D-3
H20: 変状展開図ならびに写真台帳をもとに覆工スパンごとの変状展開図を作成し，変状発生状況をとりまとめる。
H22: ⑥様式E
H23: 近接目視または打音検査，触診ができていない箇所および近接目視によらない方法を講じた場所に対する調査結果を記録する。
... H33: すること。 ※各ファイルとも （参考）リスト のシートを付けて保存すること。

Sheet 変状面積算出方法
A1: 変状面積算出方法
A26: 注1）外力による変状：ひび割れや圧ざの場合は変状の寸法を記録する。
A27: 例）ひび割れ：長さ（L）×最大ひび割れ幅（t）を記録する。 変形，移動，沈下：数値的な記載が可能な場合のみ記載する。
A28: 注2）材料劣化による：打音異常
A29: 例）うき，はく離（閉合ひび割れ）：変状範囲を包括する寸法（L×W） うき，はく離（ひび割れ沿い）：打音異常箇所を包括する寸法（L×W） 鋼材腐食（鉄筋腐食）：一括した対策が適当と考えられる範囲を包括する寸法（L×W）
A30: 注3）漏水による変状：漏水発生範囲を包括し，垂れ下がりの可能性がある側壁下端まで含めた寸法を，L×Wで記録する。打継ぎ目地沿いの 漏水については目地を跨いだ50cm幅を横幅とする。

Sheet 記入の留意点
B2: トンネルDBでは、Excelに記載された文字や数値・配置された画像を自動的に読込みデータベースへ登録します。
B3: 記録様式へ記入の留意点を下記に示します。
B5: １．記録様式への記入
C6: ➤各セルに表示されるコメントに従って、様式A-1～様式Gのシートに、点検結果（テキスト入力、選択項目）を入力してください。
C7: ➤位置図(様式B)、変状写真(様式D-1-1)、異常写真(様式D-1-2)は記入した変状写真番号等に対応した画像を間違いないように貼り付けてください。
C8: ➤列や行の挿入削除は行わず、セルの位置がずれないようにしてください。データベースへ読み取り時にずれて取り込まれてしまいます。
B11: ２．画像ファイルの配置の注意点
C12: 登録に使用可能な画像ファイルの拡張子は「jpg」「jpeg」「png」の3種類のみです。
C13: 必ず、１か所に画像１枚のみを張り付けてください。エクセルの図形などのオブジェクトは使用しないでください。
C14: 張り付けた画像はエクセルのトリミング機能を使用しないでください。あらかじめ切り抜いた画像を利用してください。
C15: ※１ 画像の左上を必ずセルの内部に含め、はみ出ないようにしてください。
C16: ※２ 図の書式設定で「セルに合わせて移動やサイズを変更しない」のモードを使用しないでください。
C32: ※３ 「挿入」→「画像」→「セルの上に配置」してください。
B41: ３．シート名の連番について
C42: １ページに記載しきれない場合は、１シート内にページを増やすのではなくシート自体をコピーしシート名の末尾を連番にしてください。
C43: 対象様式
C44: 様式B
C45: 様式D-1-1
C46: 様式D-1-2
C47: 様式D-2-1
C48: 様式D-2-1´
C49: 様式D-3_S00 ※スパン名を記載
C50: 様式G
C52: 末尾の連番の形式例
C53: 様式B(1) 様式B(2) 様式B(3)
C54: 様式B_001 様式B_002 様式B_003
... C61: で示される要領を制限するものではありません。

Sheet 様式A-1
B2: ■トンネル台帳 トンネル諸元、非常用施設諸元 【様式A-1】 | S2: 施設ID | W2: 34.25039,130.91453
B3: フリガナ | D3: フタミトンネル | H3: 路線名 | J3: 栗野二見線 | P3: 管理者名 | R3: 山口県下関土木建築事務所 | W3: 緊急輸送道路 | Z3: 二次
B4: 名 称 | D4: 二見トンネル | W4: 代替路の有無 | Z4: 有
B5: 所在地 | D5: 自 | E5: 山口県下関市豊北町大字北宇賀 | H5: 作成者 | K5: アジア航測株式会社 飯田 琢巳 | P5: 作成年月日 | R5: 46080 | U5: トンネル延長 | X5: L= | Z5: 448 | AB5: ｍ
D6: 至 | E6: 山口県下関市豊北町大字北宇賀 | U6: ﾄﾝﾈﾙの分類 | X6: 陸上トンネル（掘進工法）
B7: 起点 | C7: 緯度 | E7: 34.25039 | H7: 完成年月日 | K7: 37681 | M7: 舗装 | O7: 種 別 | Q7: コンクリート系 | S7: トンネル非常用施設 | T7: 施設の内訳 | X7: 種別・方式 | Y7: 型式 | Z7: 個数 | AA7: 更新年度
C8: 経度 | E8: 130.91453 | H8: 供用年月日 | K8: - | O8: 厚 さ | Q8: - | T8: 通報設備 | U8: 通話型通報設備 | Z8: 6
B9: 終点 | C9: 緯度 | E9: 34.2465 | H9: トンネル区分 | K9: D | O9: 面 積 | Q9: 4928.0㎡ | U9: 操作型通報設備 | Z9: 10
C10: 経度 | E10: 130.91313 | H10: 内装種類 | K10: 覆工（内装なし） | O10: 更新年次 | Q10: - | U10: 自動通報設備
B11: 一般有料区分 | E11: 一般(無料) | H11: 天井板種類 | K11: 覆工（内装なし） | M11: 排水 | O11: 種 別 | Q11: 円型排水 | T11: 警報設備 | U11: 非常警報設備
B12: 土かぶり | E12: - | G12: m | H12: 坑門 | I12: 起点 | J12: 形式 | K12: 面壁型 | O12: 更新年次 | Q12: - | T12: 消火設備 | U12: 消 火 器
B13: 内空断面積 | E13: 58.1 | G13: ㎡ | J13: 延長 | K13: 0 | L13: m | M13: 施設 | P13: 種別・方式 | Q13: 個数 | R13: 更新年次 | U13: 消火栓設備
B14: 交 通 量 | E14: - | G14: 台/日 | I14: 終点 | J14: 形式 | K14: 面壁型 | M14: 道路附属物等 | N14: 照明 | P14: LED | Q14: 82 | R14: - | T14: 避難誘導設備 | U14: 誘導表示設備 | Z14: 32
C15: 道 路 幅 | E15: 11.15 | G15: m | J15: 延長 | K15: 0 | L15: m | N15: 換気 | P15: 自然換気 | Q15: - | R15: - | U15: 避難情報提供設備
B16: 幅 員 | C16: 車 道 幅 | E16: 3.5 | G16: m | H16: 竣工巻厚 | I16: アーチ | K16: 30～35 | L16: cm | N16: 標識 | P16: - | Q16: - | R16: -
E17: 3.5 | G17: m | I17: 側 壁 | K17: 30～35 | L17: cm | N17: 警報表示板 | P17: - | Q17: - | R17: - | U17: 避難通路
C18: 歩道等幅 | E18: 4.15 | G18: m | K18: 30～35 | L18: cm | N18: 吸音板 | P18: - | Q18: - | R18: - | U18: 排煙設備
B19: 高さ | C19: 建築限界高 | E19: 4.5 | G19: m | I19: インバート | K19: - | L19: cm | T19: その他の設備 | U19: 給水栓設備
C20: 中央高 | E20: 6.5 | G20: m | H20: 半径 | I20: アーチ | K20: 560 | L20: cm | U20: 無線通信補助設備
C21: 有効高 | E21: 4.7 | G21: m | I21: 側 壁 | K21: 1120 | L21: cm | U21: 水噴霧設備
C22: 縦断勾配 | E22: - | I22: インバート | K22: - | L22: cm | U22: 監視設備
B23: 線 形 | C23: 直線区間長 | E23: - | H23: 占用物件 | I23: 種 類 | K23: 寸 法 | M23: 管理者名 | Q23: 更新年次 | S23: 非常用施設 関連設備 | U23: 予備発電設備
C24: 曲線区間 | D24: 区間長 | F24: -
D25: 起点側ｸﾛｿｲﾄﾞ | F25: -
D26: 曲線半径 | F26: -
D27: 終点側ｸﾛｿｲﾄﾞ | F27: - | S27: その他 | U27: 非常駐車帯
B28: トンネル工法 | E28: 山岳トンネル工法（NATM） | U28: 方向転換所
C29: ※緯度・経度については、秒の小数第二位の単位まで記入すること。

Sheet 様式A-2
B3: ■トンネル台帳 トンネル情報一覧表 【様式A-2】
B4: フリガナ | E4: フタミトンネル | J4: 路線名 | M4: 栗野二見線 | S4: 作成者 | Y4: アジア航測株式会社 飯田 琢巳 | AE4: 作成年月日 | AI4: 46080
B5: 名 称 | E5: 二見トンネル | J5: 管理者名 | M5: 山口県下関土木建築事務所
B6: 覆工 ｽﾊﾟﾝ 番号 | C6: ｽﾊﾟﾝ長 | D6: 追加距離 | F6: トンネル本体工 | K6: 照明施設 | O6: 非常用施設 | AE6: 換気施設 | AK6: その他附属物等
O7: 通報設備 | R7: 警報設備 | S7: 消火設備 | U7: 避難誘導設備 | Y7: その他の設備 | AC7: 特記事項
D8: 起点側 | E8: 終点側 | F8: 特記事項 | I8: 内装板 | J8: 天井板 | K8: 基本照明 | L8: 入口出口照明 | M8: 特記事項 | O8: 通話型通報設備 | P8: 操作型通報設備 | Q8: 自動通報設備 | R8: 非常警報設備 | S8: 消 火 器 | T8: 消火栓設備 | U8: 誘導表示設備 | V8: 避難情報提供設備 | W8: 避難通路 | X8: 排煙設備 | Y8: 給水栓設備 | Z8: 6 | AA8: 水噴霧設備 | AB8: 監視設備 | AE8: JF | AF8: VI計 | AG8: CO計 | AH8: 風向 風速計 | AI8: 特記事項
C9: (m) | D9: (m) | E9: (m)
B10: PS | C10: 0 | D10: 0 | E10: 0 | F10: 坑門（面壁型）
B11: S1 | C11: 1.3 | D11: 0 | E11: =C11+D11 -> 1.3
B12: 2 | C12: 10.5 | D12: =E11 -> 1.3 | E12: =C12+D12 -> 11.8 | K12: ○ | L12: ○ | O12: ① | P12: ① | U12: ○
B13: 3 | C13: 10.2 | D13: =E12 -> 11.8 | E13: =C13+D13 -> 22 | K13: ○
B14: 4 | C14: 10.3 | D14: =E13 -> 22 | E14: =C14+D14 -> 32.3 | L14: ○ | U14: ○
B15: 5 | C15: 10.4 | D15: =E14 -> 32.3 | E15: =C15+D15 -> 42.7 | K15: ○
B16: 6 | C16: 10 | D16: =E15 -> 42.7 | E16: =C16+D16 -> 52.7 | K16: ○ | L16: ○ | O16: ② | P16: ②
B17: 7 | C17: 10.2 | D17: =E16 -> 52.7 | E17: =C17+D17 -> 62.9 | K17: ○ | U17: ○
B18: 8 | C18: 10.3 | D18: =E17 -> 62.9 | E18: =C18+D18 -> 73.2 | K18: ○
B19: 9 | C19: 10.3 | D19: =E18 -> 73.2 | E19: =C19+D19 -> 83.5 | K19: ○ | L19: ○ | U19: ○
B20: 10 | C20: 10.4 | D20: =E19 -> 83.5 | E20: =C20+D20 -> 93.9 | K20: ○
B21: 11 | C21: 10.3 | D21: =E20 -> 93.9 | E21: =C21+D21 -> 104.2 | K21: ○ | L21: ○ | P21: ③ | U21: ○
B22: 12 | C22: 10.3 | D22: =E21 -> 104.2 | E22: =C22+D22 -> 114.5 | K22: ○
B23: 13 | C23: 10.3 | D23: =E22 -> 114.5 | E23: =C23+D23 -> 124.8 | K23: ○ | L23: ○ | U23: ○
B24: 14 | C24: 10.1 | D24: =E23 -> 124.8 | E24: =C24+D24 -> 134.9 | K24: ○
B25: 15 | C25: 10.2 | D25: =E24 -> 134.9 | E25: =C25+D25 -> 145.1 | K25: ○ | L25: ○
B26: 16 | C26: 10.2 | D26: =E25 -> 145.1 | E26: =C26+D26 -> 155.3 | K26: ○ | P26: ④ | U26: ○
B27: 17 | C27: 10.2 | D27: =E26 -> 155.3 | E27: =C27+D27 -> 165.5 | K27: ○
B28: 18 | C28: 10.2 | D28: =E27 -> 165.5 | E28: =C28+D28 -> 175.7 | L28: ○ | U28: ○
B29: 19 | C29: 10.2 | D29: =E28 -> 175.7 | E29: =C29+D29 -> 185.9 | K29: ○
B30: 20 | C30: 10.2 | D30: =E29 -> 185.9 | E30: =C30+D30 -> 196.1 | L30: ○
B31: 21 | C31: 10.2 | D31: =E30 -> 196.1 | E31: =C31+D31 -> 206.3 | L31: ○ | O31: ③ | P31: ⑤ | U31: ○
B32: 22 | C32: 10.3 | D32: =E31 -> 206.3 | E32: =C32+D32 -> 216.6 | L32: ○
B33: 23 | C33: 10.2 | D33: =E32 -> 216.6 | E33: =C33+D33 -> 226.8 | U33: ○
B34: 24 | C34: 10.2 | D34: =E33 -> 226.8 | E34: =C34+D34 -> 237 | L34: ○
B35: 25 | C35: 10.1 | D35: =E34 -> 237 | E35: =C35+D35 -> 247.1 | L35: ○
B36: 26 | C36: 10.2 | D36: =E35 -> 247.1 | E36: =C36+D36 -> 257.3 | O36: ④ | P36: ⑥ | U36: ○
B37: 27 | C37: 10.3 | D37: =E36 -> 257.3 | E37: =C37+D37 -> 267.6 | L37: ○
B38: 28 | C38: 10.3 | D38: =E37 -> 267.6 | E38: =C38+D38 -> 277.9 | K38: ○ | U38: ○
B39: 29 | C39: 10.3 | D39: =E38 -> 277.9 | E39: =C39+D39 -> 288.2 | K39: ○ | L39: ○
B40: 30 | C40: 10.1 | D40: =E39 -> 288.2 | E40: =C40+D40 -> 298.3
B41: 31 | C41: 10.4 | D41: =E40 -> 298.3 | E41: =C41+D41 -> 308.7 | K41: ○ | L41: ○ | P41: ⑦ | U41: ○
B42: S32 | C42: 10.3 | D42: =E41 -> 308.7 | E42: =C42+D42 -> 319 | K42: ○
B43: 33 | C43: 10.1 | D43: =E42 -> 319 | E43: =C43+D43 -> 329.1 | K43: ○ | L43: ○ | U43: ○
B44: 34 | C44: 10.3 | D44: =E43 -> 329.1 | E44: =C44+D44 -> 339.4 | K44: ○
B45: 35 | C45: 10.2 | D45: =E44 -> 339.4 | E45: =C45+D45 -> 349.6 | K45: ○ | P45: ⑧ | U45: ○

Sheet 様式A-2 (2)
B3: ■トンネル台帳 トンネル情報一覧表 【様式A-2】
B4: フリガナ | E4: ='様式A-1'!D3 -> フタミトンネル | J4: 路線名 | M4: ='様式A-1'!J3 -> 栗野二見線 | S4: 作成者 | Y4: ='様式A-1'!K5 -> アジア航測株式会社 飯田 琢巳 | AE4: 作成年月日 | AI4: ='様式A-1'!R5 -> 46080
B5: 名 称 | E5: ='様式A-1'!D4 -> 二見トンネル | J5: 管理者名 | M5: ='様式A-1'!R3 -> 山口県下関土木建築事務所
B6: 覆工 ｽﾊﾟﾝ 番号 | C6: ｽﾊﾟﾝ長 | D6: 追加距離 | F6: トンネル本体工 | K6: 照明施設 | O6: 非常用施設 | AE6: 換気施設 | AK6: その他附属物等
O7: 通報設備 | R7: 警報設備 | S7: 消火設備 | U7: 避難誘導設備 | Y7: その他の設備 | AC7: 特記事項
D8: 起点側 | E8: 終点側 | F8: 特記事項 | I8: 内装板 | J8: 天井板 | K8: 基本照明 | L8: 入口出口照明 | M8: 特記事項 | O8: 通話型通報設備 | P8: 操作型通報設備 | Q8: 自動通報設備 | R8: 非常警報設備 | S8: 消 火 器 | T8: 消火栓設備 | U8: 誘導表示設備 | V8: 避難情報提供設備 | W8: 避難通路 | X8: 排煙設備 | Y8: 給水栓設備 | Z8: 6 | AA8: 水噴霧設備 | AB8: 監視設備 | AE8: JF | AF8: VI計 | AG8: CO計 | AH8: 風向 風速計 | AI8: 特記事項
C9: (m) | D9: (m) | E9: (m)
B10: 36 | C10: 10.1 | D10: 349.6 | E10: 359.7 | K10: ○ | L10: ○
B11: 37 | C11: 10.1 | D11: 359.7 | E11: 369.8 | K11: ○ | U11: ○
B12: 38 | C12: 10.1 | D12: 369.8 | E12: 379.9 | K12: ○ | L12: ○ | U12: ○
B13: 39 | C13: 10.2 | D13: 379.9 | E13: 390.1
B14: 40 | C14: 10.1 | D14: 390.1 | E14: 400.2 | K14: ○ | L14: ○ | O14: ⑤ | P14: ⑨ | U14: ○
B15: 41 | C15: 10.1 | D15: 400.2 | E15: 410.3 | K15: ○
B16: 42 | C16: 4.5 | D16: 410.3 | E16: 414.8 | K16: ○
B17: 43 | C17: 10.1 | D17: 414.8 | E17: 424.9 | L17: ○ | U17: ○
B18: 44 | C18: 10.4 | D18: 424.9 | E18: 435.3 | K18: ○
B19: 45 | C19: 10.4 | D19: 435.3 | E19: 445.7 | K19: ○ | L19: ○ | O19: ⑥ | P19: ⑩ | U19: ○
B20: 46 | C20: 2.3 | D20: 445.7 | E20: 448
B21: PE | C21: 0 | D21: 0 | E21: 0 | F21: 坑門（面壁型）
B45: ※ 行が不足する場合は、適時、表の行を増やすこと。

Sheet 様式A-3
B3: ■トンネル台帳 トンネル記録（位置図、断面図、施工実績他）【様式A-3】
B4: フリガナ | E4: フタミトンネル | J4: 路線名 | M4: 栗野二見線 | S4: 作成者 | W4: アジア航測株式会社 飯田 琢巳 | AC4: 作成年月日 | AF4: 46080
B5: 名 称 | E5: 二見トンネル | J5: 管理者名 | M5: 山口県下関土木建築事務所
B6: 位置図・現況写真・標準断面図・地質縦断図・施工実績

Sheet 様式A-3 (2)
B3: ■トンネル台帳 トンネル記録（位置図、断面図、施工実績他）【様式A-3】
B4: フリガナ | E4: ='様式A-1'!D3 -> フタミトンネル | J4: 路線名 | M4: ='様式A-1'!J3 -> 栗野二見線 | S4: 作成者 | W4: ='様式A-1'!K5 -> アジア航測株式会社 飯田 琢巳 | AC4: 作成年月日 | AF4: ='様式A-1'!R5 -> 46080
B5: 名 称 | E5: ='様式A-1'!D4 -> 二見トンネル | J5: 管理者名 | M5: ='様式A-1'!R3 -> 山口県下関土木建築事務所
B6: 位置図・現況写真・標準断面図・地質縦断図・施工実績

Sheet 様式A-3 (3)
B3: ■トンネル台帳 トンネル記録（位置図、断面図、施工実績他）【様式A-3】
B4: フリガナ | E4: ='様式A-1'!D3 -> フタミトンネル | J4: 路線名 | M4: ='様式A-1'!J3 -> 栗野二見線 | S4: 作成者 | W4: ='様式A-1'!K5 -> アジア航測株式会社 飯田 琢巳 | AC4: 作成年月日 | AF4: ='様式A-1'!R5 -> 46080
B5: 名 称 | E5: ='様式A-1'!D4 -> 二見トンネル | J5: 管理者名 | M5: ='様式A-1'!R3 -> 山口県下関土木建築事務所
B6: 位置図・現況写真・標準断面図・地質縦断図・施工実績

Sheet 様式A-3 (4)
B3: ■トンネル台帳 トンネル記録（位置図、断面図、施工実績他）【様式A-3】
B4: フリガナ | E4: ='様式A-1'!D3 -> フタミトンネル | J4: 路線名 | M4: ='様式A-1'!J3 -> 栗野二見線 | S4: 作成者 | W4: ='様式A-1'!K5 -> アジア航測株式会社 飯田 琢巳 | AC4: 作成年月日 | AF4: ='様式A-1'!R5 -> 46080
B5: 名 称 | E5: ='様式A-1'!D4 -> 二見トンネル | J5: 管理者名 | M5: ='様式A-1'!R3 -> 山口県下関土木建築事務所
B6: 位置図・現況写真・標準断面図・地質縦断図・施工実績

Sheet 様式B (1)
B2: ■定期点検記録様式 トンネル変状・異常箇所写真位置図 【様式B】 | N2: 定期点検年月日 | P2: 45917 | S2: 施設ID | V2: 34.25039,130.91453
B3: フリガナ | C3: フタミトンネル | G3: 路線名 | H3: 栗野二見線 | K3: 管理者名 | L3: 山口県下関土木建築事務所 | Q3: 定期点検実施者 | S3: アジア航測株式会社 | V3: 起点 | W3: 緯度 | X3: 34.25039
B4: 名 称 | C4: 二見トンネル | S4: 飯田 琢巳 | W4: 経度 | X4: 130.91453
B5: 所在地 | C5: 自 | D5: 山口県下関市豊北町大字北宇賀 | G5: トンネル工法 | I5: 山岳トンネル工法（NATM） | L5: トンネル延長 | N5: L= | O5: 448 | P5: ｍ | Q5: 自専道 or 一般道 | R5: 一般道 | S5: 代替路の有無 | U5: 有 | V5: 終点 | W5: 緯度 | X5: 34.2465
C6: 至 | D6: 山口県下関市豊北町大字北宇賀 | G6: 建設年度 | I6: 37681 | L6: 幅員 | N6: L= | O6: 11.2 | P6: ｍ | S6: 緊急輸送道路 | U6: 二次 | W6: 経度 | X6: 130.91313
B7: トンネル毎 の健全性の 診断の区分 | D7: Ⅱ
G8: 変状・異常 箇所数合計 | I8: トンネル本体工 | J8: 材質劣化 | K8: Ⅱ | L8: 95 | N8: Ⅲ | O8: 0 | Q8: Ⅳ | R8: 0 | T8: 附属物等 の取付状態 | V8: ◯ （応急措置後) | X8: 87
J9: 漏水 | K9: Ⅱ | L9: 0 | N9: Ⅲ | O9: 0 | Q9: Ⅳ | R9: 0 | Z9: 10
V10: ✕ | X10: 25
J11: 外力 | K11: Ⅱ | L11: 0 | N11: Ⅲ | O11: 0 | Q11: Ⅳ | R11: 0
B12: トンネル変状・異常箇所写真位置図
J29: 注１：本位置図は、見下げた状態で記載すること。 注２：覆工スパン番号は横断目地毎(矢板工法の場合は上半アーチの 横断目地毎)に設定すること。 | Q29: 注３：写真番号に付する変状番号は、各覆工スパンの変状に対して新たに確認された場合 は順次追加していくこと。 注４：横断目地の変状は前の覆工スパン番号で計上すること。 注５：１枚に収まらない場合は、複数枚に分けて作成すること。
C30: ※1 トンネル本体工の変状数は、材質劣化、漏水に起因するものは変状単位で、外力に起因するものはスパン単位で計上すること。
C31: ※2 トンネル本体工の変状に対しては、措置の必要性（Ⅱ～Ⅳ）について表記すること。また、点検前に実施された措置によりⅠと判定された箇所についても記載すること。
C32: ※3 附属物等の取付状態の○欄については、応急措置前に判定区分×とした箇所のうち応急措置により○判定とした箇所の数を記入すること。
C33: ※4 附属物等の異常番号は、本体工と番号が重複しないよう101番以降とする等の配慮を行い、分かりやすく記録すること。

Sheet 様式B (2)
B2: ■定期点検記録様式 トンネル変状・異常箇所写真位置図 【様式B】 | N2: 定期点検年月日 | P2: 45917 | S2: 施設ID | V2: 34.25039,130.91453
B3: フリガナ | C3: フタミトンネル | G3: 路線名 | H3: 栗野二見線 | K3: 管理者名 | L3: 山口県下関土木建築事務所 | Q3: 定期点検実施者 | S3: アジア航測株式会社 | V3: 起点 | W3: 緯度 | X3: 34.25039
B4: 名 称 | C4: 二見トンネル | S4: 飯田 琢巳 | W4: 経度 | X4: 130.91453
B5: 所在地 | C5: 自 | D5: 山口県下関市豊北町大字北宇賀 | G5: トンネル工法 | I5: 山岳トンネル工法（NATM） | L5: トンネル延長 | N5: L= | O5: 448 | P5: ｍ | Q5: 自専道 or 一般道 | R5: 一般道 | S5: 代替路の有無 | U5: 有 | V5: 終点 | W5: 緯度 | X5: 34.2465
C6: 至 | D6: 山口県下関市豊北町大字北宇賀 | G6: 建設年度 | I6: 37681 | L6: 幅員 | N6: L= | O6: 11.2 | P6: ｍ | S6: 緊急輸送道路 | U6: 二次 | W6: 経度 | X6: 130.91313
B7: トンネル毎 の健全性の 診断の区分 | D7: Ⅱ
G8: 変状・異常 箇所数合計 | I8: トンネル本体工 | J8: 材質劣化 | K8: Ⅱ | L8: 95 | N8: Ⅲ | O8: 0 | Q8: Ⅳ | R8: 0 | T8: 附属物等 の取付状態 | V8: ◯ （応急措置後) | X8: 87
J9: 漏水 | K9: Ⅱ | L9: 0 | N9: Ⅲ | O9: 0 | Q9: Ⅳ | R9: 0 | Z9: 10
V10: ✕ | X10: 25
J11: 外力 | K11: Ⅱ | L11: 0 | N11: Ⅲ | O11: 0 | Q11: Ⅳ | R11: 0
B12: トンネル変状・異常箇所写真位置図
J29: 注１：本位置図は、見下げた状態で記載すること。 注２：覆工スパン番号は横断目地毎(矢板工法の場合は上半アーチの 横断目地毎)に設定すること。 | Q29: 注３：写真番号に付する変状番号は、各覆工スパンの変状に対して新たに確認された場合 は順次追加していくこと。 注４：横断目地の変状は前の覆工スパン番号で計上すること。 注５：１枚に収まらない場合は、複数枚に分けて作成すること。
C30: ※1 トンネル本体工の変状数は、材質劣化、漏水に起因するものは変状単位で、外力に起因するものはスパン単位で計上すること。
C31: ※2 トンネル本体工の変状に対しては、措置の必要性（Ⅱ～Ⅳ）について表記すること。また、点検前に実施された措置によりⅠと判定された箇所についても記載すること。
C32: ※3 附属物等の取付状態の○欄については、応急措置前に判定区分×とした箇所のうち応急措置により○判定とした箇所の数を記入すること。
C33: ※4 附属物等の異常番号は、本体工と番号が重複しないよう101番以降とする等の配慮を行い、分かりやすく記録すること。

Sheet 様式B (3)
B2: ■定期点検記録様式 トンネル変状・異常箇所写真位置図 【様式B】 | N2: 定期点検年月日 | P2: 45917 | S2: 施設ID | V2: 34.25039,130.91453
B3: フリガナ | C3: フタミトンネル | G3: 路線名 | H3: 栗野二見線 | K3: 管理者名 | L3: 山口県下関土木建築事務所 | Q3: 定期点検実施者 | S3: アジア航測株式会社 | V3: 起点 | W3: 緯度 | X3: 34.25039
B4: 名 称 | C4: 二見トンネル | S4: 飯田 琢巳 | W4: 経度 | X4: 130.91453
B5: 所在地 | C5: 自 | D5: 山口県下関市豊北町大字北宇賀 | G5: トンネル工法 | I5: 山岳トンネル工法（NATM） | L5: トンネル延長 | N5: L= | O5: 448 | P5: ｍ | Q5: 自専道 or 一般道 | R5: 一般道 | S5: 代替路の有無 | U5: 有 | V5: 終点 | W5: 緯度 | X5: 34.2465
C6: 至 | D6: 山口県下関市豊北町大字北宇賀 | G6: 建設年度 | I6: 37681 | L6: 幅員 | N6: L= | O6: 11.2 | P6: ｍ | S6: 緊急輸送道路 | U6: 二次 | W6: 経度 | X6: 130.91313
B7: トンネル毎 の健全性の 診断の区分 | D7: Ⅱ
G8: 変状・異常 箇所数合計 | I8: トンネル本体工 | J8: 材質劣化 | K8: Ⅱ | L8: 95 | N8: Ⅲ | O8: 0 | Q8: Ⅳ | R8: 0 | T8: 附属物等 の取付状態 | V8: ◯ （応急措置後) | X8: 87
J9: 漏水 | K9: Ⅱ | L9: 0 | N9: Ⅲ | O9: 0 | Q9: Ⅳ | R9: 0 | Z9: 10
V10: ✕ | X10: 25
J11: 外力 | K11: Ⅱ | L11: 0 | N11: Ⅲ | O11: 0 | Q11: Ⅳ | R11: 0
B12: トンネル変状・異常箇所写真位置図
J29: 注１：本位置図は、見下げた状態で記載すること。 注２：覆工スパン番号は横断目地毎(矢板工法の場合は上半アーチの 横断目地毎)に設定すること。 | Q29: 注３：写真番号に付する変状番号は、各覆工スパンの変状に対して新たに確認された場合 は順次追加していくこと。 注４：横断目地の変状は前の覆工スパン番号で計上すること。 注５：１枚に収まらない場合は、複数枚に分けて作成すること。
C30: ※1 トンネル本体工の変状数は、材質劣化、漏水に起因するものは変状単位で、外力に起因するものはスパン単位で計上すること。
C31: ※2 トンネル本体工の変状に対しては、措置の必要性（Ⅱ～Ⅳ）について表記すること。また、点検前に実施された措置によりⅠと判定された箇所についても記載すること。
C32: ※3 附属物等の取付状態の○欄については、応急措置前に判定区分×とした箇所のうち応急措置により○判定とした箇所の数を記入すること。
C33: ※4 附属物等の異常番号は、本体工と番号が重複しないよう101番以降とする等の配慮を行い、分かりやすく記録すること。

Sheet 様式B (4)
B2: ■定期点検記録様式 トンネル変状・異常箇所写真位置図 【様式B】 | N2: 定期点検年月日 | P2: 45917 | S2: 施設ID | V2: 34.25039,130.91453
B3: フリガナ | C3: フタミトンネル | G3: 路線名 | H3: 栗野二見線 | K3: 管理者名 | L3: 山口県下関土木建築事務所 | Q3: 定期点検実施者 | S3: アジア航測株式会社 | V3: 起点 | W3: 緯度 | X3: 34.25039
B4: 名 称 | C4: 二見トンネル | S4: 飯田 琢巳 | W4: 経度 | X4: 130.91453
B5: 所在地 | C5: 自 | D5: 山口県下関市豊北町大字北宇賀 | G5: トンネル工法 | I5: 山岳トンネル工法（NATM） | L5: トンネル延長 | N5: L= | O5: 448 | P5: ｍ | Q5: 自専道 or 一般道 | R5: 一般道 | S5: 代替路の有無 | U5: 有 | V5: 終点 | W5: 緯度 | X5: 34.2465
C6: 至 | D6: 山口県下関市豊北町大字北宇賀 | G6: 建設年度 | I6: 37681 | L6: 幅員 | N6: L= | O6: 11.2 | P6: ｍ | S6: 緊急輸送道路 | U6: 二次 | W6: 経度 | X6: 130.91313
B7: トンネル毎 の健全性の 診断の区分 | D7: Ⅱ
G8: 変状・異常 箇所数合計 | I8: トンネル本体工 | J8: 材質劣化 | K8: Ⅱ | L8: 95 | N8: Ⅲ | O8: 0 | Q8: Ⅳ | R8: 0 | T8: 附属物等 の取付状態 | V8: ◯ （応急措置後) | X8: 87
J9: 漏水 | K9: Ⅱ | L9: 0 | N9: Ⅲ | O9: 0 | Q9: Ⅳ | R9: 0 | Z9: 10
V10: ✕ | X10: 25
J11: 外力 | K11: Ⅱ | L11: 0 | N11: Ⅲ | O11: 0 | Q11: Ⅳ | R11: 0
B12: トンネル変状・異常箇所写真位置図
J29: 注１：本位置図は、見下げた状態で記載すること。 注２：覆工スパン番号は横断目地毎(矢板工法の場合は上半アーチの 横断目地毎)に設定すること。 | Q29: 注３：写真番号に付する変状番号は、各覆工スパンの変状に対して新たに確認された場合 は順次追加していくこと。 注４：横断目地の変状は前の覆工スパン番号で計上すること。 注５：１枚に収まらない場合は、複数枚に分けて作成すること。
C30: ※1 トンネル本体工の変状数は、材質劣化、漏水に起因するものは変状単位で、外力に起因するものはスパン単位で計上すること。
C31: ※2 トンネル本体工の変状に対しては、措置の必要性（Ⅱ～Ⅳ）について表記すること。また、点検前に実施された措置によりⅠと判定された箇所についても記載すること。
C32: ※3 附属物等の取付状態の○欄については、応急措置前に判定区分×とした箇所のうち応急措置により○判定とした箇所の数を記入すること。
C33: ※4 附属物等の異常番号は、本体工と番号が重複しないよう101番以降とする等の配慮を行い、分かりやすく記録すること。

Sheet 様式B (5)
B2: ■定期点検記録様式 トンネル変状・異常箇所写真位置図 【様式B】 | N2: 定期点検年月日 | P2: 45917 | S2: 施設ID | V2: 34.25039,130.91453
B3: フリガナ | C3: フタミトンネル | G3: 路線名 | H3: 栗野二見線 | K3: 管理者名 | L3: 山口県下関土木建築事務所 | Q3: 定期点検実施者 | S3: アジア航測株式会社 | V3: 起点 | W3: 緯度 | X3: 34.25039
B4: 名 称 | C4: 二見トンネル | S4: 飯田 琢巳 | W4: 経度 | X4: 130.91453
B5: 所在地 | C5: 自 | D5: 山口県下関市豊北町大字北宇賀 | G5: トンネル工法 | I5: 山岳トンネル工法（NATM） | L5: トンネル延長 | N5: L= | O5: 448 | P5: ｍ | Q5: 自専道 or 一般道 | R5: 一般道 | S5: 代替路の有無 | U5: 有 | V5: 終点 | W5: 緯度 | X5: 34.2465
C6: 至 | D6: 山口県下関市豊北町大字北宇賀 | G6: 建設年度 | I6: 37681 | L6: 幅員 | N6: L= | O6: 11.2 | P6: ｍ | S6: 緊急輸送道路 | U6: 二次 | W6: 経度 | X6: 130.91313
B7: トンネル毎 の健全性の 診断の区分 | D7: Ⅱ
G8: 変状・異常 箇所数合計 | I8: トンネル本体工 | J8: 材質劣化 | K8: Ⅱ | L8: 95 | N8: Ⅲ | O8: 0 | Q8: Ⅳ | R8: 0 | T8: 附属物等 の取付状態 | V8: ◯ （応急措置後) | X8: 87
J9: 漏水 | K9: Ⅱ | L9: 0 | N9: Ⅲ | O9: 0 | Q9: Ⅳ | R9: 0 | Z9: 10
V10: ✕ | X10: 25
J11: 外力 | K11: Ⅱ | L11: 0 | N11: Ⅲ | O11: 0 | Q11: Ⅳ | R11: 0
B12: トンネル変状・異常箇所写真位置図
J29: 注１：本位置図は、見下げた状態で記載すること。 注２：覆工スパン番号は横断目地毎(矢板工法の場合は上半アーチの 横断目地毎)に設定すること。 | Q29: 注３：写真番号に付する変状番号は、各覆工スパンの変状に対して新たに確認された場合 は順次追加していくこと。 注４：横断目地の変状は前の覆工スパン番号で計上すること。 注５：１枚に収まらない場合は、複数枚に分けて作成すること。
C30: ※1 トンネル本体工の変状数は、材質劣化、漏水に起因するものは変状単位で、外力に起因するものはスパン単位で計上すること。
C31: ※2 トンネル本体工の変状に対しては、措置の必要性（Ⅱ～Ⅳ）について表記すること。また、点検前に実施された措置によりⅠと判定された箇所についても記載すること。
C32: ※3 附属物等の取付状態の○欄については、応急措置前に判定区分×とした箇所のうち応急措置により○判定とした箇所の数を記入すること。
C33: ※4 附属物等の異常番号は、本体工と番号が重複しないよう101番以降とする等の配慮を行い、分かりやすく記録すること。

Sheet 様式B (6)
B2: ■定期点検記録様式 トンネル変状・異常箇所写真位置図 【様式B】 | N2: 定期点検年月日 | P2: 45917 | S2: 施設ID | V2: 34.25039,130.91453
B3: フリガナ | C3: フタミトンネル | G3: 路線名 | H3: 栗野二見線 | K3: 管理者名 | L3: 山口県下関土木建築事務所 | Q3: 定期点検実施者 | S3: アジア航測株式会社 | V3: 起点 | W3: 緯度 | X3: 34.25039
B4: 名 称 | C4: 二見トンネル | S4: 飯田 琢巳 | W4: 経度 | X4: 130.91453
B5: 所在地 | C5: 自 | D5: 山口県下関市豊北町大字北宇賀 | G5: トンネル工法 | I5: 山岳トンネル工法（NATM） | L5: トンネル延長 | N5: L= | O5: 448 | P5: ｍ | Q5: 自専道 or 一般道 | R5: 一般道 | S5: 代替路の有無 | U5: 有 | V5: 終点 | W5: 緯度 | X5: 34.2465
C6: 至 | D6: 山口県下関市豊北町大字北宇賀 | G6: 建設年度 | I6: 37681 | L6: 幅員 | N6: L= | O6: 11.2 | P6: ｍ | S6: 緊急輸送道路 | U6: 二次 | W6: 経度 | X6: 130.91313
B7: トンネル毎 の健全性の 診断の区分 | D7: Ⅱ
G8: 変状・異常 箇所数合計 | I8: トンネル本体工 | J8: 材質劣化 | K8: Ⅱ | L8: 95 | N8: Ⅲ | O8: 0 | Q8: Ⅳ | R8: 0 | T8: 附属物等 の取付状態 | V8: ◯ （応急措置後) | X8: 87
J9: 漏水 | K9: Ⅱ | L9: 0 | N9: Ⅲ | O9: 0 | Q9: Ⅳ | R9: 0 | Z9: 10
V10: ✕ | X10: 25
J11: 外力 | K11: Ⅱ | L11: 0 | N11: Ⅲ | O11: 0 | Q11: Ⅳ | R11: 0
B12: トンネル変状・異常箇所写真位置図
J29: 注１：本位置図は、見下げた状態で記載すること。 注２：覆工スパン番号は横断目地毎(矢板工法の場合は上半アーチの 横断目地毎)に設定すること。 | Q29: 注３：写真番号に付する変状番号は、各覆工スパンの変状に対して新たに確認された場合 は順次追加していくこと。 注４：横断目地の変状は前の覆工スパン番号で計上すること。 注５：１枚に収まらない場合は、複数枚に分けて作成すること。
C30: ※1 トンネル本体工の変状数は、材質劣化、漏水に起因するものは変状単位で、外力に起因するものはスパン単位で計上すること。
C31: ※2 トンネル本体工の変状に対しては、措置の必要性（Ⅱ～Ⅳ）について表記すること。また、点検前に実施された措置によりⅠと判定された箇所についても記載すること。
C32: ※3 附属物等の取付状態の○欄については、応急措置前に判定区分×とした箇所のうち応急措置により○判定とした箇所の数を記入すること。
C33: ※4 附属物等の異常番号は、本体工と番号が重複しないよう101番以降とする等の配慮を行い、分かりやすく記録すること。

Sheet 様式B (7)
B2: ■定期点検記録様式 トンネル変状・異常箇所写真位置図 【様式B】 | N2: 定期点検年月日 | P2: 45917 | S2: 施設ID | V2: 34.25039,130.91453
B3: フリガナ | C3: フタミトンネル | G3: 路線名 | H3: 栗野二見線 | K3: 管理者名 | L3: 山口県下関土木建築事務所 | Q3: 定期点検実施者 | S3: アジア航測株式会社 | V3: 起点 | W3: 緯度 | X3: 34.25039
B4: 名 称 | C4: 二見トンネル | S4: 飯田 琢巳 | W4: 経度 | X4: 130.91453
B5: 所在地 | C5: 自 | D5: 山口県下関市豊北町大字北宇賀 | G5: トンネル工法 | I5: 山岳トンネル工法（NATM） | L5: トンネル延長 | N5: L= | O5: 448 | P5: ｍ | Q5: 自専道 or 一般道 | R5: 一般道 | S5: 代替路の有無 | U5: 有 | V5: 終点 | W5: 緯度 | X5: 34.2465
C6: 至 | D6: 山口県下関市豊北町大字北宇賀 | G6: 建設年度 | I6: 37681 | L6: 幅員 | N6: L= | O6: 11.2 | P6: ｍ | S6: 緊急輸送道路 | U6: 二次 | W6: 経度 | X6: 130.91313
B7: トンネル毎 の健全性の 診断の区分 | D7: Ⅱ
G8: 変状・異常 箇所数合計 | I8: トンネル本体工 | J8: 材質劣化 | K8: Ⅱ | L8: 95 | N8: Ⅲ | O8: 0 | Q8: Ⅳ | R8: 0 | T8: 附属物等 の取付状態 | V8: ◯ （応急措置後) | X8: 87
J9: 漏水 | K9: Ⅱ | L9: 0 | N9: Ⅲ | O9: 0 | Q9: Ⅳ | R9: 0 | Z9: 10
V10: ✕ | X10: 25
J11: 外力 | K11: Ⅱ | L11: 0 | N11: Ⅲ | O11: 0 | Q11: Ⅳ | R11: 0
B12: トンネル変状・異常箇所写真位置図
J29: 注１：本位置図は、見下げた状態で記載すること。 注２：覆工スパン番号は横断目地毎(矢板工法の場合は上半アーチの 横断目地毎)に設定すること。 | Q29: 注３：写真番号に付する変状番号は、各覆工スパンの変状に対して新たに確認された場合 は順次追加していくこと。 注４：横断目地の変状は前の覆工スパン番号で計上すること。 注５：１枚に収まらない場合は、複数枚に分けて作成すること。
C30: ※1 トンネル本体工の変状数は、材質劣化、漏水に起因するものは変状単位で、外力に起因するものはスパン単位で計上すること。
C31: ※2 トンネル本体工の変状に対しては、措置の必要性（Ⅱ～Ⅳ）について表記すること。また、点検前に実施された措置によりⅠと判定された箇所についても記載すること。
C32: ※3 附属物等の取付状態の○欄については、応急措置前に判定区分×とした箇所のうち応急措置により○判定とした箇所の数を記入すること。
C33: ※4 附属物等の異常番号は、本体工と番号が重複しないよう101番以降とする等の配慮を行い、分かりやすく記録すること。

Sheet 様式C-1-1 (1)
B2: ■定期点検記録様式 全スパン定期点検結果総括表（トンネル本体工） 【様式C-1-1】
B3: フリガナ | F3: フタミトンネル | I3: 路線名 | K3: 栗野二見線 | O3: 定期点検実施者 | P3: アジア航測株式会社 | T3: 定期点検年月日 | X3: 45917
B4: 名 称 | F4: 二見トンネル | I4: 管理者名 | K4: 山口県下関土木建築事務所 | P4: 飯田 琢巳
B5: 定期点検結果 | C5: 覆工 スパン 番号 | E5: 変状 番号 | F5: 距離 （m） | G5: 変状部位 | I5: 変 状 の 内 容 | O5: 前回定期点検時の状態 | P5: 今回定期点検結果 | T5: 措置履歴 | Y5: 対応方針 ・ 特記事項
O6: 44272
G7: 対象箇所 | H7: 部位区分 | I7: 変状区分 | J7: 変状種類 | M7: 変状の発生範囲の規模 | N7: 前回定期点検時の変状の発生範囲及び規模 | O7: 対策区分 | P7: 対策区分 | R7: 調査の 要否 | S7: 措置の 要否 | T7: 実施 | U7: 措置の実施状況
P8: 応急措置前 | Q8: 応急措置後
C9: PS | E9: 1 | F9: 0 | G9: 覆工 | H9: 面壁・妻壁等 | I9: 材質劣化 | J9: 圧ざ、ひび割れ | M9: W=0.3mm×L=0.9m | N9: W=0.3mm×L=0.9m | O9: Ⅱb | P9: - | Q9: Ⅱb | R9: 否 | S9: 要監視 | T9: 継続 | U9: 監視(日常)
C10: 1 | E10: 1 | F10: 0 | G10: 覆工 | H10: アーチ（左側） | I10: 材質劣化 | J10: 圧ざ、ひび割れ | M10: W=0.5mm×L=1.3m | N10: W=0.5mm×L=1.4m | O10: Ⅱb | P10: - | Q10: Ⅱb | R10: 否 | S10: 要監視 | T10: 継続 | U10: 監視(日常) | Y10: 寸法変更
C11: 2 | E11: 1 | F11: 1.45 | G11: 覆工 | H11: アーチ（左側） | I11: 材質劣化 | J11: 圧ざ、ひび割れ | M11: W=0.6mm×L=1.8m | N11: W=0.6mm×L=2.1m | O11: Ⅱb | P11: - | Q11: Ⅱb | R11: 否 | S11: 要監視 | T11: 継続 | U11: 監視(日常) | Y11: 寸法変更
C12: 2 | E12: 2 | F12: 1.33 | G12: 覆工 | H12: アーチ（左側） | I12: 材質劣化 | J12: 圧ざ、ひび割れ | M12: W=0.5mm×L=4.6m | N12: W=0.5mm×L=5.6m | O12: Ⅱb | P12: - | Q12: Ⅱb | R12: 否 | S12: 要監視 | T12: 継続 | U12: 監視(日常) | Y12: 寸法変更
C13: 2 | E13: 3 | F13: 4.69 | G13: 覆工 | H13: アーチ（右側） | I13: 材質劣化 | J13: 圧ざ、ひび割れ | M13: W=0.75mm×L=4.6m | N13: W=0.75mm×L=5.0m | O13: Ⅱb | P13: - | Q13: Ⅱb | R13: 否 | S13: 要監視 | T13: 継続 | U13: 監視(日常) | Y13: 寸法変更
C14: 3 | E14: 1 | F14: 18.36 | G14: 覆工 | H14: アーチ（左側） | I14: 材質劣化 | J14: 圧ざ、ひび割れ | M14: W=0.3mm×L=3.2m | N14: W=0.2mm×L=2.0m | O14: Ⅱb | P14: - | Q14: Ⅱb | R14: 否 | S14: 要監視 | T14: 継続 | U14: 監視(日常) | Y14: 寸法変更
C15: 3 | E15: 2 | F15: 21.94 | G15: 覆工 | H15: アーチ（左側） | I15: 材質劣化 | J15: うき・はく離 | M15: 0.65m×0.05m・D=0.1m | N15: 0.65m×0.05m | O15: Ⅱb | P15: - | Q15: Ⅱa | R15: 否 | S15: 要監視 | T15: 継続 | U15: 監視(重点) | Y15: 判定見直し
C16: 3 | E16: 3 | F16: 21.94 | G16: 覆工 | H16: アーチ（右側） | I16: 材質劣化 | J16: うき・はく離 | M16: 0.25m×0.05m・D=0.05m | N16: 0.25m×0.05m | O16: Ⅰ | P16: - | Q16: Ⅱa | R16: 否 | S16: 要監視 | T16: 継続 | U16: 監視(重点) | Y16: 判定見直し
C17: 3 | E17: 4 | F17: 15.52 | G17: 覆工 | H17: アーチ（右側） | I17: 材質劣化 | J17: 圧ざ、ひび割れ | M17: W=0.3mm×L=3.0m | N17: W=0.3mm×L=3.2m | O17: Ⅱb | P17: - | Q17: Ⅱb | R17: 否 | S17: 要監視 | T17: 継続 | U17: 監視(日常) | Y17: 寸法変更
C18: 4 | E18: 1 | F18: 28.06 | G18: 覆工 | H18: アーチ（左側） | I18: 材質劣化 | J18: 圧ざ、ひび割れ | M18: W=0.35mm×L=3.5m | N18: W=0.35mm×L=3.8m | O18: Ⅱb | P18: - | Q18: Ⅱb | R18: 否 | S18: 要監視 | T18: 継続 | U18: 監視(日常) | Y18: 寸法変更
C19: 4 | E19: 2 | F19: 24.61 | G19: 覆工 | H19: アーチ（右側） | I19: 材質劣化 | J19: 圧ざ、ひび割れ | M19: W=0.4mm×L=2.6m | N19: W=0.4mm×L=3.8m | O19: Ⅱb | P19: - | Q19: Ⅱb | R19: 否 | S19: 要監視 | T19: 継続 | U19: 監視(日常) | Y19: 寸法変更
C20: 5 | E20: 1 | F20: 32.43 | G20: 覆工 | H20: アーチ（左側） | I20: 材質劣化 | J20: 圧ざ、ひび割れ | M20: W=0.3mm×L=3.6m | N20: W=0.3mm×L=3.8m | O20: Ⅱb | P20: - | Q20: Ⅱb | R20: 否 | S20: 要監視 | T20: 継続 | U20: 監視(日常) | Y20: 寸法変更
C21: 5 | E21: 2 | F21: 42.64 | G21: 覆工 | H21: アーチ（左側） | I21: 材質劣化 | J21: うき・はく離 | M21: 0.1m×0.05m | N21: 0.1m×0.05m | O21: Ⅱb | P21: - | Q21: Ⅱa | R21: 否 | S21: 要監視 | T21: 継続 | U21: 監視(重点) | Y21: 判定見直し
... C24: 6 | E24: 1 | F24: 52.64 | G24: 覆工 | H24: アーチ（左側） | I24: 材質劣化 | J24: 圧ざ、ひび割れ | M24: W=0.5mm×L=3.8m | N24: W=0.5mm×L=3.9m | O24: Ⅱb | P24: - | Q24: Ⅱb | R24: 否 | S24: 要監視 | T24: 継続 | U24: 監視(日常) | Y24: 寸法変更
C25: 6 | E25: 2 | F25: 52.65 | G25: 覆工 | H25: アーチ（左側） | I25: 材質劣化 | J25: うき・はく離 | M25: 0.4m×0.05m・D=0.03m、0.3m×0.05m・D=0.05m | N25: 0.4m×0.05m、0.3m×0.05m | O25: Ⅰ | P25: - | Q25: Ⅰ | R25: 否 | S25: 否 | T25: 未
C26: 6 | E26: 3 | F26: 52.67 | G26: 覆工 | H26: アーチ（右側） | I26: 材質劣化 | J26: うき・はく離 | M26: 0.6m×0.05m | N26: 0.6m×0.05m | O26: Ⅱb | P26: - | Q26: Ⅱa | R26: 否 | S26: 要監視 | T26: 継続 | U26: 監視(重点) | Y26: 判定見直し
C27: 6 | E27: 4 | F27: 52.67 | G27: 覆工 | H27: アーチ（右側） | I27: 材質劣化 | J27: うき・はく離 | M27: 0.2m×0.05m | N27: 0.2m×0.05m | O27: Ⅱb | P27: - | Q27: Ⅱa | R27: 否 | S27: 要監視 | T27: 継続 | U27: 監視(重点) | Y27: 判定見直し
C28: 6 | E28: 5 | F28: 52.64 | G28: 覆工 | H28: アーチ（右側） | I28: 材質劣化 | J28: うき・はく離 | M28: 0.1m×0.05m・D=0.03m | N28: 0.1m×0.05m | O28: Ⅱb | P28: - | Q28: Ⅱb | R28: 否 | S28: 要監視 | T28: 継続 | U28: 監視(日常)
C29: 6 | E29: 6 | F29: 52.67 | G29: 覆工 | H29: アーチ（右側） | I29: 材質劣化 | J29: うき・はく離 | M29: 0.35m×0.05m・D=0.1m | N29: 0.35m×0.05m | O29: Ⅱb | P29: - | Q29: Ⅱa | R29: 否 | S29: 要監視 | T29: 継続 | U29: 監視(重点) | Y29: 判定見直し
C30: 7 | E30: 1 | F30: 56.15 | G30: 覆工 | H30: アーチ（左側） | I30: 材質劣化 | J30: 圧ざ、ひび割れ | M30: W=0.3mm×L=3.3m | N30: W=0.3mm×L=3.9m | O30: Ⅱb | P30: - | Q30: Ⅱb | R30: 否 | S30: 要監視 | T30: 継続 | U30: 監視(日常) | Y30: 寸法変更
C31: 7 | E31: 2 | F31: 62.87 | G31: 覆工 | H31: アーチ（右側） | I31: 材質劣化 | J31: うき・はく離 | M31: 0.45m×0.05m・D=0.05m | N31: 0.45m×0.05m | O31: Ⅰ | P31: - | Q31: Ⅰ | R31: 否 | S31: 否 | T31: 未
C32: 7 | E32: 3 | F32: 62.87 | G32: 覆工 | H32: アーチ（右側） | I32: 材質劣化 | J32: うき・はく離 | M32: 0.35m×0.05m・D=0.05m、0.1m×0.05m・D=0.05m | N32: 0.35m×0.05m、0.1m×0.05m | O32: Ⅰ | P32: - | Q32: Ⅰ | R32: 否 | S32: 否 | T32: 未
C33: 7 | E33: 4 | F33: 54.09 | G33: 覆工 | H33: アーチ（右側） | I33: 材質劣化 | J33: 圧ざ、ひび割れ | M33: W=0.35mm×L=3.4m | N33: W=0.35mm×L=3.7m | O33: Ⅱb | P33: - | Q33: Ⅱb | R33: 否 | S33: 要監視 | T33: 継続 | U33: 監視(日常) | Y33: 寸法変更
C34: 7 | E34: 5 | F34: 62.87 | G34: 覆工 | H34: アーチ（右側） | I34: 材質劣化 | J34: うき・はく離 | M34: 0.2m×0.05m・D=0.05m | N34: 0.2m×0.05m | O34: Ⅱb | P34: - | Q34: Ⅱa | R34: 否 | S34: 要監視 | T34: 継続 | U34: 監視(重点) | Y34: 判定見直し
C35: 8 | E35: 1 | F35: 64.8 | G35: 覆工 | H35: アーチ（左側） | I35: 材質劣化 | J35: 圧ざ、ひび割れ | M35: W=0.4mm×L=3.6m | N35: W=0.4mm×L=3.8m | O35: Ⅱb | P35: - | Q35: Ⅱb | R35: 否 | S35: 要監視 | T35: 継続 | U35: 監視(日常) | Y35: 寸法変更
C36: 8 | E36: 2 | F36: 62.85 | G36: 覆工 | H36: アーチ（左側） | I36: 材質劣化 | J36: うき・はく離 | M36: 0.4m×0.05m・D=0.2m | N36: 0.4m×0.05m | O36: Ⅱb | P36: - | Q36: Ⅱa | R36: 否 | S36: 要監視 | T36: 継続 | U36: 監視(重点) | Y36: 判定見直し
C37: 8 | E37: 3 | F37: 65.21 | G37: 覆工 | H37: アーチ（右側） | I37: 材質劣化 | J37: 圧ざ、ひび割れ | M37: W=0.3mm×L=3.0m | N37: W=0.3mm×L=3.9m | O37: Ⅱb | P37: - | Q37: Ⅱb | R37: 否 | S37: 要監視 | T37: 継続 | U37: 監視(日常) | Y37: 寸法変更
C38: 9 | E38: 1 | F38: 73.81 | G38: 覆工 | H38: アーチ（左側） | I38: 材質劣化 | J38: 圧ざ、ひび割れ | M38: W=0.4mm×L=3.8m | N38: W=0.4mm×L=4.1m | O38: Ⅱb | P38: - | Q38: Ⅱb | R38: 否 | S38: 要監視 | T38: 継続 | U38: 監視(日常) | Y38: 寸法変更
C39: 9 | E39: 2 | F39: 80.53 | G39: 覆工 | H39: アーチ（左側） | I39: 材質劣化 | J39: 圧ざ、ひび割れ | M39: W=0.3mm×L=2.6m | N39: W=0.3mm×L=3.2m | O39: Ⅱb | P39: - | Q39: Ⅱb | R39: 否 | S39: 要監視 | T39: 継続 | U39: 監視(日常) | Y39: 寸法変更
C40: 9 | E40: 3 | F40: 73.24 | G40: 覆工 | H40: アーチ（左側） | I40: 材質劣化 | J40: 圧ざ、ひび割れ | M40: W=0.3mm×L=2.9m | N40: W=0.3mm×L=2.4m | O40: Ⅱb | P40: - | Q40: Ⅱb | R40: 否 | S40: 要監視 | T40: 継続 | U40: 監視(日常) | Y40: 寸法変更
C41: 9 | E41: 4 | F41: 83.47 | G41: 覆工 | H41: アーチ（右側） | I41: 材質劣化 | J41: うき・はく離 | M41: 0.25m×0.05m | N41: 0.25m×0.05m | O41: Ⅱb | P41: - | Q41: Ⅱa | R41: 否 | S41: 要監視 | T41: 継続 | U41: 監視(重点) | Y41: 判定見直し
C42: 9 | E42: 5 | F42: 77.36 | G42: 覆工 | H42: アーチ（右側） | I42: 材質劣化 | J42: 圧ざ、ひび割れ | M42: W=0.3mm×L=3.0m | N42: W=0.3mm×L=3.3m | O42: Ⅱb | P42: - | Q42: Ⅱb | R42: 否 | S42: 要監視 | T42: 継続 | U42: 監視(日常) | Y42: 寸法変更
C43: ※ 対策区分（応急措置後）のⅡb～Ⅳについて記入すること。また、点検前に実施された措置によりⅠと判定された変状も記入すること。
C44: ※ 応急措置を実施しないで判定した変状の対策区分は、対策区分の応急措置後の欄に記入すること。
C45: ※ 変状の除去が不完全で、緊急対応が必要な場合は対応方針欄に記入すること。
C46: ※ １区間の覆工に複数の変状がある場合は、変状箇所毎に記入すること。
C47: ※ 措置・監視点検を行った場合には、措置履歴、特記事項に記録を残すこと。（実施年度も記載）
C48: ※ 行が不足する場合は、適時、表の行を増やすこと。

Sheet 様式C-1-1 (2)
B2: ■定期点検記録様式 全スパン定期点検結果総括表（トンネル本体工） 【様式C-1-1】
B3: フリガナ | F3: フタミトンネル | I3: 路線名 | K3: 栗野二見線 | O3: 定期点検実施者 | P3: アジア航測株式会社 | T3: 定期点検年月日 | X3: 45917
B4: 名 称 | F4: 二見トンネル | I4: 管理者名 | K4: 山口県下関土木建築事務所 | P4: 飯田 琢巳
B5: 定期点検結果 | C5: 覆工 スパン 番号 | E5: 変状 番号 | F5: 距離 （m） | G5: 変状部位 | I5: 変 状 の 内 容 | O5: 前回定期点検時の状態 | P5: 今回定期点検結果 | T5: 措置履歴 | Y5: 対応方針 ・ 特記事項
O6: 44272
G7: 対象箇所 | H7: 部位区分 | I7: 変状区分 | J7: 変状種類 | M7: 変状の発生範囲の規模 | N7: 前回定期点検時の変状の発生範囲及び規模 | O7: 対策区分 | P7: 対策区分 | R7: 調査の 要否 | S7: 措置の 要否 | T7: 実施 | U7: 措置の実施状況
P8: 応急措置前 | Q8: 応急措置後
C9: 10 | E9: 1 | F9: 85.64 | G9: 覆工 | H9: アーチ（左側） | I9: 材質劣化 | J9: 圧ざ、ひび割れ | M9: W=0.35mm×L=3.5m | N9: W=0.35mm×L=3.7m | O9: Ⅱb | P9: - | Q9: Ⅱb | R9: 否 | S9: 要監視 | T9: 継続 | U9: 監視(日常) | Y9: 寸法変更
C10: 10 | E10: 2 | F10: 86.45 | G10: 覆工 | H10: アーチ（右側） | I10: 材質劣化 | J10: 圧ざ、ひび割れ | M10: W=0.3mm×L=3.1m | N10: W=0.3mm×L=4.3m | O10: Ⅱb | P10: - | Q10: Ⅱb | R10: 否 | S10: 要監視 | T10: 継続 | U10: 監視(日常) | Y10: 寸法変更
C11: 11 | E11: 1 | F11: 93.94 | G11: 覆工 | H11: アーチ（左側） | I11: 材質劣化 | J11: 圧ざ、ひび割れ | M11: W=0.55mm×L=4.4m | N11: W=0.55mm×L=4.9m | O11: Ⅱb | P11: - | Q11: Ⅱb | R11: 否 | S11: 要監視 | T11: 継続 | U11: 監視(日常) | Y11: 寸法変更
C12: 11 | E12: 2 | F12: 104.13 | G12: 覆工 | H12: アーチ（左側） | I12: 材質劣化 | J12: うき・はく離 | M12: 0.6m×0.1m | N12: 0.6m×0.1m | O12: Ⅲ | P12: - | Q12: Ⅱa | R12: 否 | S12: 要監視 | T12: 継続 | U12: 監視(重点) | Y12: 判定見直し
C13: 11 | E13: 3 | F13: 95.76 | G13: 覆工 | H13: アーチ（左側） | I13: 材質劣化 | J13: うき・はく離 | M13: 0.1m×0.2m | N13: 0.1m×0.05m | O13: Ⅱb | P13: - | Q13: Ⅱa | R13: 否 | S13: 要監視 | T13: 継続 | U13: 監視(重点) | Y13: 寸法変更、判定見直し
C14: 11 | E14: 4 | F14: 96.58 | G14: 覆工 | H14: アーチ（右側） | I14: 材質劣化 | J14: 圧ざ、ひび割れ | M14: W=0.3mm×L=3.2m | N14: W=0.4mm×L=3.9m | O14: Ⅱb | P14: - | Q14: Ⅱb | R14: 否 | S14: 要監視 | T14: 継続 | U14: 監視(日常) | Y14: 寸法変更
C15: 11 | E15: 5 | F15: 104.16 | G15: 覆工 | H15: アーチ（左側） | I15: 材質劣化 | J15: うき・はく離 | M15: 0.1m×0.05m・D=0.12m | N15: - | O15: - | P15: - | Q15: Ⅱb | R15: 否 | S15: 要監視 | T15: 未 | U15: -
C16: 12 | E16: 1 | F16: 105.52 | G16: 覆工 | H16: アーチ（左側） | I16: 材質劣化 | J16: 圧ざ、ひび割れ | M16: W=0.35mm×L=2.9m | N16: W=0.35mm×L=2.9m | O16: Ⅱb | P16: - | Q16: Ⅱb | R16: 否 | S16: 要監視 | T16: 継続 | U16: 監視(日常)
C17: 12 | E17: 2 | F17: 114.45 | G17: 覆工 | H17: アーチ（左側） | I17: 材質劣化 | J17: うき・はく離 | M17: 0.4m×0.05m・D=0.2m | N17: 0.4m×0.05m | O17: Ⅱb | P17: - | Q17: Ⅱb | R17: 否 | S17: 要監視 | T17: 継続 | U17: 監視(日常)
C18: 12 | E18: 3 | F18: 106.14 | G18: 覆工 | H18: アーチ（右側） | I18: 材質劣化 | J18: 圧ざ、ひび割れ | M18: W=0.4mm×L=3.2m | N18: W=0.4mm×L=2.9m | O18: Ⅱb | P18: - | Q18: Ⅱb | R18: 否 | S18: 要監視 | T18: 継続 | U18: 監視(日常) | Y18: 寸法変更
C19: 13 | E19: 1 | F19: 114.49 | G19: 覆工 | H19: アーチ（左側） | I19: 材質劣化 | J19: うき・はく離 | M19: 0.4m×0.1m・D=0.18m | N19: 0.4m×0.1m | O19: Ⅱb | P19: - | Q19: Ⅱa | R19: 否 | S19: 要監視 | T19: 継続 | U19: 監視(重点) | Y19: 判定見直し
C20: 13 | E20: 2 | F20: 118.15 | G20: 覆工 | H20: アーチ（左側） | I20: 材質劣化 | J20: 圧ざ、ひび割れ | M20: W=0.3mm×L=2.7m | N20: W=0.3mm×L=2.8m | O20: Ⅱb | P20: - | Q20: Ⅱb | R20: 否 | S20: 要監視 | T20: 継続 | U20: 監視(日常) | Y20: 寸法変更
C21: 13 | E21: 3 | F21: 116.4 | G21: 覆工 | H21: アーチ（左側） | I21: 材質劣化 | J21: 鋼材腐食 | M21: 0.05m×0.05m | N21: 0.05m×0.05m | O21: Ⅱb | P21: - | Q21: Ⅱb | R21: 否 | S21: 要監視 | T21: 継続 | U21: 監視(日常)
C22: 13 | E22: 4 | F22: 124.76 | G22: 覆工 | H22: アーチ（右側） | I22: 材質劣化 | J22: うき・はく離 | M22: 0.4m×0.05m・D=0.1m | N22: 0.4m×0.05m | O22: Ⅱb | P22: - | Q22: Ⅱb | R22: 否 | S22: 要監視 | T22: 継続 | U22: 監視(日常)
C23: 13 | E23: 5 | F23: 120.88 | G23: 覆工 | H23: アーチ（右側） | I23: 材質劣化 | J23: 圧ざ、ひび割れ | M23: W=0.35mm×L=3.5m | N23: W=0.35mm×L=3.6m | O23: Ⅱb | P23: - | Q23: Ⅱb | R23: 否 | S23: 要監視 | T23: 継続 | U23: 監視(日常) | Y23: 寸法変更
C24: 14 | E24: 1 | F24: 126.05 | G24: 覆工 | H24: アーチ（左側） | I24: 材質劣化 | J24: 圧ざ、ひび割れ | M24: W=0.35mm×L=2.5m | N24: W=0.35mm×L=1.7m | O24: Ⅱb | P24: - | Q24: Ⅱb | R24: 否 | S24: 要監視 | T24: 継続 | U24: 監視(日常) | Y24: 寸法変更
C25: 14 | E25: 2 | F25: 127.7 | G25: 覆工 | H25: アーチ（右側） | I25: 材質劣化 | J25: 圧ざ、ひび割れ | M25: W=0.35mm×L=2.1m | N25: W=0.35mm×L=2.2m | O25: Ⅱb | P25: - | Q25: Ⅱb | R25: 否 | S25: 要監視 | T25: 継続 | U25: 監視(日常) | Y25: 寸法変更
C26: 15 | E26: 1 | F26: 134.9 | G26: 覆工 | H26: アーチ（左側） | I26: 材質劣化 | J26: うき・はく離 | M26: 0.4m×0.1m | N26: 0.4m×0.1m | O26: Ⅱb | P26: - | Q26: Ⅱa | R26: 否 | S26: 要監視 | T26: 継続 | U26: 監視(重点) | Y26: 判定見直し
C27: 15 | E27: 2 | F27: 144.25 | G27: 覆工 | H27: アーチ（左側） | I27: 材質劣化 | J27: 圧ざ、ひび割れ | M27: W=0.3mm×L=0.8m | N27: W=0.3mm×L=0.7m | O27: Ⅱb | P27: - | Q27: Ⅱb | R27: 否 | S27: 要監視 | T27: 継続 | U27: 監視(日常) | Y27: 寸法変更
C28: 15 | E28: 3 | F28: 134.86 | G28: 覆工 | H28: アーチ（右側） | I28: 材質劣化 | J28: うき・はく離 | M28: 0.6m×0.05m・D=0.15m | N28: 0.6m×0.05m | O28: Ⅱb | P28: - | Q28: Ⅱb | R28: 否 | S28: 要監視 | T28: 継続 | U28: 監視(日常)
C29: 15 | E29: 4 | F29: 138.09 | G29: 覆工 | H29: アーチ（右側） | I29: 材質劣化 | J29: 圧ざ、ひび割れ | M29: W=0.4mm×L=3.2m | N29: W=0.4mm×L=3.3m | O29: Ⅱb | P29: - | Q29: Ⅱb | R29: 否 | S29: 要監視 | T29: 継続 | U29: 監視(日常) | Y29: 寸法変更
C30: 15 | E30: 5 | F30: 134.9 | G30: 覆工 | H30: 側壁（左側） | I30: 材質劣化 | J30: うき・はく離 | M30: 0.3m×0.1m | N30: - | O30: - | P30: - | Q30: Ⅱb | R30: 否 | S30: 要監視 | T30: 未 | U30: -
C31: 16 | E31: 1 | F31: 145.91 | G31: 覆工 | H31: アーチ（右側） | I31: 材質劣化 | J31: 圧ざ、ひび割れ | M31: W=0.3mm×L=3.2m | N31: W=0.3mm×L=3.5m | O31: Ⅱb | P31: - | Q31: Ⅱb | R31: 否 | S31: 要監視 | T31: 継続 | U31: 監視(日常) | Y31: 寸法変更
C32: 17 | E32: 1 | F32: 155.31 | G32: 覆工 | H32: アーチ（天端） | I32: 材質劣化 | J32: 圧ざ、ひび割れ | M32: W=0.6mm×L=4.1m | N32: W=0.6mm×L=9.5m | O32: Ⅱb | P32: - | Q32: Ⅱb | R32: 否 | S32: 要監視 | T32: 継続 | U32: 監視(日常) | Y32: 寸法変更
C33: 19 | E33: 1 | F33: 175.74 | G33: 覆工 | H33: アーチ（天端） | I33: 材質劣化 | J33: 圧ざ、ひび割れ | M33: W=0.55mm×L=6.4m | N33: W=0.55mm×L=7.7m | O33: Ⅱb | P33: - | Q33: Ⅱb | R33: 否 | S33: 要監視 | T33: 継続 | U33: 監視(日常) | Y33: 寸法変更
C34: 20 | E34: 1 | F34: 192.47 | G34: 覆工 | H34: アーチ（左側） | I34: 材質劣化 | J34: 圧ざ、ひび割れ | M34: W=0.4mm×L=2.8m | N34: W=0.4mm×L=2.9m | O34: Ⅱb | P34: - | Q34: Ⅱb | R34: 否 | S34: 要監視 | T34: 継続 | U34: 監視(日常) | Y34: 寸法変更
C35: 21 | E35: 1 | F35: 200.3 | G35: 覆工 | H35: アーチ（左側） | I35: 材質劣化 | J35: 圧ざ、ひび割れ | M35: W=0.3mm×L=2.5m | N35: W=0.3mm×L=2.4m | O35: Ⅱb | P35: - | Q35: Ⅱb | R35: 否 | S35: 要監視 | T35: 継続 | U35: 監視(日常) | Y35: 寸法変更
C36: 23 | E36: 1 | F36: 216.65 | G36: 覆工 | H36: アーチ（天端） | I36: 材質劣化 | J36: 圧ざ、ひび割れ | M36: W=0.8mm×L=6.0m | N36: W=0.8mm×L=8.3m | O36: Ⅱb | P36: - | Q36: Ⅱb | R36: 否 | S36: 要監視 | T36: 継続 | U36: 監視(日常) | Y36: 寸法変更
C37: 24 | E37: 1 | F37: 226.85 | G37: 覆工 | H37: アーチ（天端） | I37: 材質劣化 | J37: 圧ざ、ひび割れ | M37: W=1.1mm×L=10.8m | N37: W=1.1mm×L=10.5m | O37: Ⅱb | P37: - | Q37: Ⅱb | R37: 否 | S37: 要監視 | T37: 継続 | U37: 監視(日常) | Y37: 寸法変更
C38: 26 | E38: 1 | F38: 257.26 | G38: 覆工 | H38: アーチ（右側） | I38: 材質劣化 | J38: うき・はく離 | M38: 0.4m×0.05m | N38: 0.15m×0.05m | O38: Ⅱb | P38: - | Q38: Ⅱa | R38: 否 | S38: 要監視 | T38: 継続 | U38: 監視(重点) | Y38: 寸法変更、判定見直し
C39: 26 | E39: 2 | F39: 253.477 | G39: 覆工 | H39: アーチ（右側） | I39: 材質劣化 | J39: 圧ざ、ひび割れ | M39: W=0.35mm×L=2.7m | N39: W=0.35mm×L=3.0m | O39: Ⅱb | P39: - | Q39: Ⅱb | R39: 否 | S39: 要監視 | T39: 継続 | U39: 監視(日常) | Y39: 寸法変更
C40: 27 | E40: 1 | F40: 257.28 | G40: 覆工 | H40: アーチ（左側） | I40: 材質劣化 | J40: うき・はく離 | M40: 0.35m×0.05m・D=0.03m | N40: 0.35m×0.05m | O40: Ⅲ | P40: - | Q40: Ⅱa | R40: 否 | S40: 要監視 | T40: 継続 | U40: 監視(重点) | Y40: 判定見直し
C41: 27 | E41: 2 | F41: 267.56 | G41: 覆工 | H41: アーチ（左側） | I41: 材質劣化 | J41: うき・はく離 | M41: 0.25m×0.05m・D=0.1m | N41: 0.25m×0.05m | O41: Ⅰ | P41: - | Q41: Ⅰ | R41: 否 | S41: 否 | T41: 未
C42: 27 | E42: 3 | F42: 258.05 | G42: 覆工 | H42: アーチ（左側） | I42: 材質劣化 | J42: 圧ざ、ひび割れ | M42: W=0.3mm×L=1.7m | N42: W=0.3mm×L=1.9m | O42: Ⅱb | P42: - | Q42: Ⅱb | R42: 否 | S42: 要監視 | T42: 継続 | U42: 監視(日常) | Y42: 寸法変更
C43: ※ 対策区分（応急措置後）のⅡb～Ⅳについて記入すること。また、点検前に実施された措置によりⅠと判定された変状も記入すること。
C44: ※ 応急措置を実施しないで判定した変状の対策区分は、対策区分の応急措置後の欄に記入すること。
C45: ※ 変状の除去が不完全で、緊急対応が必要な場合は対応方針欄に記入すること。
C46: ※ １区間の覆工に複数の変状がある場合は、変状箇所毎に記入すること。
C47: ※ 措置・監視点検を行った場合には、措置履歴、特記事項に記録を残すこと。（実施年度も記載）
C48: ※ 行が不足する場合は、適時、表の行を増やすこと。

Sheet 様式C-1-1 (3)
B2: ■定期点検記録様式 全スパン定期点検結果総括表（トンネル本体工） 【様式C-1-1】
B3: フリガナ | F3: フタミトンネル | I3: 路線名 | K3: 栗野二見線 | O3: 定期点検実施者 | P3: アジア航測株式会社 | T3: 定期点検年月日 | X3: 45917
B4: 名 称 | F4: 二見トンネル | I4: 管理者名 | K4: 山口県下関土木建築事務所 | P4: 飯田 琢巳
B5: 定期点検結果 | C5: 覆工 スパン 番号 | E5: 変状 番号 | F5: 距離 （m） | G5: 変状部位 | I5: 変 状 の 内 容 | O5: 前回定期点検時の状態 | P5: 今回定期点検結果 | T5: 措置履歴 | Y5: 対応方針 ・ 特記事項
O6: 44272
G7: 対象箇所 | H7: 部位区分 | I7: 変状区分 | J7: 変状種類 | M7: 変状の発生範囲の規模 | N7: 前回定期点検時の変状の発生範囲及び規模 | O7: 対策区分 | P7: 対策区分 | R7: 調査の 要否 | S7: 措置の 要否 | T7: 実施 | U7: 措置の実施状況
P8: 応急措置前 | Q8: 応急措置後
C9: 30 | E9: 1 | F9: 288.23 | G9: 覆工 | H9: アーチ（天端） | I9: 材質劣化 | J9: 圧ざ、ひび割れ | M9: W=0.8mm×L=6.0m | N9: W=0.8mm×L=6.4m | O9: Ⅱb | P9: - | Q9: Ⅱb | R9: 否 | S9: 要監視 | T9: 継続 | U9: 監視(日常) | Y9: 寸法変更
C10: 31 | E10: 1 | F10: 303.61 | G10: 覆工 | H10: アーチ（右側） | I10: 材質劣化 | J10: 圧ざ、ひび割れ | M10: W=0.3mm×L=2.3m | N10: W=0.3mm×L=2.4m | O10: Ⅱb | P10: - | Q10: Ⅱb | R10: 否 | S10: 要監視 | T10: 継続 | U10: 監視(日常) | Y10: 寸法変更
C11: 33 | E11: 1 | F11: 319.88 | G11: 覆工 | H11: アーチ（天端） | I11: 材質劣化 | J11: 圧ざ、ひび割れ | M11: W=0.5mm×L=2.9m | N11: W=0.5mm×L=2.9m | O11: Ⅱb | P11: - | Q11: Ⅱb | R11: 否 | S11: 要監視 | T11: 継続 | U11: 監視(日常) | Y11: 寸法変更
C12: 33 | E12: 2 | F12: 329.07 | G12: 覆工 | H12: アーチ（左側） | I12: 材質劣化 | J12: うき・はく離 | M12: 0.5m×0.05m・D=0.02m | N12: - | O12: - | P12: - | Q12: Ⅱa | R12: 否 | S12: 要監視 | T12: 未 | U12: -
C13: 33 | E13: 3 | F13: 329.08 | G13: 覆工 | H13: アーチ（左側） | I13: 材質劣化 | J13: うき・はく離 | M13: 0.2m×0.05m・D=0.05m | N13: 0.1m×0.05m | O13: Ⅰ | P13: - | Q13: Ⅱa | R13: 否 | S13: 要監視 | T13: 継続 | U13: 監視(重点) | Y13: 寸法変更、判定見直し
C14: 34 | E14: 1 | F14: 329.07 | G14: 覆工 | H14: アーチ（右側） | I14: 材質劣化 | J14: うき・はく離 | M14: 0.2m×0.05m | N14: 0.2m×0.05m | O14: Ⅱb | P14: - | Q14: Ⅱa | R14: 否 | S14: 要監視 | T14: 継続 | U14: 監視(重点) | Y14: 判定見直し
C15: 35 | E15: 1 | F15: 339.44 | G15: 覆工 | H15: アーチ（天端） | I15: 材質劣化 | J15: 圧ざ、ひび割れ | M15: W=1.0mm×L=9.1m | N15: W=1.0mm×L=9.5m | O15: Ⅱb | P15: - | Q15: Ⅱb | R15: 否 | S15: 要監視 | T15: 継続 | U15: 監視(日常) | Y15: 寸法変更
C16: 36 | E16: 1 | F16: 350.78 | G16: 覆工 | H16: アーチ（左側） | I16: 材質劣化 | J16: 圧ざ、ひび割れ | M16: W=0.3mm×L=2.6m | N16: W=0.3mm×L=2.6m | O16: Ⅱb | P16: - | Q16: Ⅱb | R16: 否 | S16: 要監視 | T16: 継続 | U16: 監視(日常)
C17: 37 | E17: 1 | F17: 360.86 | G17: 覆工 | H17: アーチ（天端） | I17: 材質劣化 | J17: 圧ざ、ひび割れ | M17: W=0.3mm×L=3.3m | N17: W=0.3mm×L=3.8m | O17: Ⅱb | P17: - | Q17: Ⅱb | R17: 否 | S17: 要監視 | T17: 継続 | U17: 監視(日常) | Y17: 寸法変更
C18: 38 | E18: 1 | F18: 369.78 | G18: 覆工 | H18: アーチ（左側） | I18: 材質劣化 | J18: うき・はく離 | M18: 0.4m×0.05m・D=0.1m | N18: 0.3m×0.05m | O18: Ⅰ | P18: - | Q18: Ⅱa | R18: 否 | S18: 要監視 | T18: 継続 | U18: 監視(重点) | Y18: 寸法変更、判定見直し
C19: 38 | E19: 2 | F19: 370.13 | G19: 覆工 | H19: アーチ（天端） | I19: 材質劣化 | J19: 圧ざ、ひび割れ | M19: W=1.0mm×L=4.2m | N19: W=1.0mm×L=4.0m | O19: Ⅱb | P19: - | Q19: Ⅱb | R19: 否 | S19: 要監視 | T19: 継続 | U19: 監視(日常) | Y19: 寸法変更
C20: 39 | E20: 1 | F20: 380.64 | G20: 覆工 | H20: アーチ（天端） | I20: 材質劣化 | J20: 圧ざ、ひび割れ | M20: W=0.4mm×L=3.2m | N20: W=0.4mm×L=2.6m | O20: Ⅱb | P20: - | Q20: Ⅱb | R20: 否 | S20: 要監視 | T20: 継続 | U20: 監視(日常) | Y20: 寸法変更
C21: 40 | E21: 1 | F21: 393.77 | G21: 覆工 | H21: アーチ（左側） | I21: 材質劣化 | J21: 圧ざ、ひび割れ | M21: W=0.4mm×L=3.5m | N21: W=0.4mm×L=3.5m | O21: Ⅱb | P21: - | Q21: Ⅱb | R21: 否 | S21: 要監視 | T21: 継続 | U21: 監視(日常)
C22: 40 | E22: 2 | F22: 390.59 | G22: 覆工 | H22: アーチ（天端） | I22: 材質劣化 | J22: 圧ざ、ひび割れ | M22: W=0.6mm×L=5.5m | N22: W=0.6mm×L=5.6m | O22: Ⅱb | P22: - | Q22: Ⅱb | R22: 否 | S22: 要監視 | T22: 継続 | U22: 監視(日常) | Y22: 寸法変更
C23: 40 | E23: 3 | F23: 400.17 | G23: 覆工 | H23: アーチ（右側） | I23: 材質劣化 | J23: うき・はく離 | M23: 0.1m×0.05m・D=0.05m | N23: 0.1m×0.05m | O23: Ⅱb | P23: - | Q23: Ⅱa | R23: 否 | S23: 要監視 | T23: 継続 | U23: 監視(重点) | Y23: 判定見直し
C24: 40 | E24: 4 | F24: 394.8 | G24: 覆工 | H24: アーチ（右側） | I24: 材質劣化 | J24: 圧ざ、ひび割れ | M24: W=0.3mm×L=2.7m | N24: W=0.3mm×L=2.8m | O24: Ⅱb | P24: - | Q24: Ⅱb | R24: 否 | S24: 要監視 | T24: 継続 | U24: 監視(日常) | Y24: 寸法変更
C25: 41 | E25: 1 | F25: 410.26 | G25: 覆工 | H25: アーチ（左側） | I25: 材質劣化 | J25: うき・はく離 | M25: 0.3m×0.05m | N25: 0.3m×0.05m | O25: Ⅱb | P25: - | Q25: Ⅱa | R25: 否 | S25: 要監視 | T25: 継続 | U25: 監視(重点) | Y25: 判定見直し
C26: 41 | E26: 2 | F26: 400.22 | G26: 覆工 | H26: アーチ（天端） | I26: 材質劣化 | J26: 圧ざ、ひび割れ | M26: W=1.0mm×L=10.1m | N26: W=1.0mm×L=10.4m | O26: Ⅱb | P26: - | Q26: Ⅱb | R26: 否 | S26: 要監視 | T26: 継続 | U26: 監視(日常) | Y26: 寸法変更
C27: 43 | E27: 1 | F27: 417.06 | G27: 覆工 | H27: アーチ（左側） | I27: 材質劣化 | J27: 圧ざ、ひび割れ | M27: W=0.3mm×L=2.3m | N27: W=0.3mm×L=2.3m | O27: Ⅱb | P27: - | Q27: Ⅱb | R27: 否 | S27: 要監視 | T27: 継続 | U27: 監視(日常)
C28: 43 | E28: 2 | F28: 417.55 | G28: 覆工 | H28: アーチ（右側） | I28: 材質劣化 | J28: 圧ざ、ひび割れ | M28: W=0.4mm×L=3.0m | N28: W=0.4mm×L=3.4m | O28: Ⅱb | P28: - | Q28: Ⅱb | R28: 否 | S28: 要監視 | T28: 継続 | U28: 監視(日常) | Y28: 寸法変更
C29: 44 | E29: 1 | F29: 427.48 | G29: 覆工 | H29: アーチ（左側） | I29: 材質劣化 | J29: 圧ざ、ひび割れ | M29: W=0.4mm×L=1.7m | N29: W=0.4mm×L=2.1m | O29: Ⅱb | P29: - | Q29: Ⅱb | R29: 否 | S29: 要監視 | T29: 継続 | U29: 監視(日常) | Y29: 寸法変更
C30: 44 | E30: 2 | F30: 431.28 | G30: 覆工 | H30: アーチ（右側） | I30: 材質劣化 | J30: 圧ざ、ひび割れ | M30: W=0.5mm×L=2.8m | N30: W=0.5mm×L=2.8m | O30: Ⅱb | P30: - | Q30: Ⅱb | R30: 否 | S30: 要監視 | T30: 継続 | U30: 監視(日常)
C31: 44 | E31: 3 | F31: 435.21 | G31: 覆工 | H31: アーチ（左側） | I31: 材質劣化 | J31: うき・はく離 | M31: 0.4m×0.1m・D=0.18m | N31: - | O31: - | P31: - | Q31: Ⅱa | R31: 否 | S31: 要監視 | T31: 未 | U31: -
C32: 45 | E32: 1 | F32: 437.5 | G32: 覆工 | H32: アーチ（左側） | I32: 材質劣化 | J32: 圧ざ、ひび割れ | M32: W=0.55mm×L=3.6m | N32: W=0.55mm×L=3.6m | O32: Ⅱb | P32: - | Q32: Ⅱb | R32: 否 | S32: 要監視 | T32: 継続 | U32: 監視(日常)
C33: 45 | E33: 2 | F33: 439.77 | G33: 覆工 | H33: アーチ（左側） | I33: 材質劣化 | J33: 圧ざ、ひび割れ | M33: W=0.3mm×L=5.9m | N33: W=0.3mm×L=6.3m | O33: Ⅱb | P33: - | Q33: Ⅱb | R33: 否 | S33: 要監視 | T33: 継続 | U33: 監視(日常) | Y33: 寸法変更
C34: 45 | E34: 3 | F34: 435.36 | G34: 覆工 | H34: アーチ（右側） | I34: 材質劣化 | J34: 圧ざ、ひび割れ | M34: W=0.8mm×L=3.6m | N34: W=0.8mm×L=4.0m | O34: Ⅱb | P34: - | Q34: Ⅱb | R34: 否 | S34: 要監視 | T34: 継続 | U34: 監視(日常) | Y34: 寸法変更
C35: 46 | E35: 1 | F35: 446.07 | G35: 覆工 | H35: アーチ（右側） | I35: 材質劣化 | J35: 鋼材腐食 | M35: 0.05m×0.1m | N35: 0.05m×0.1m | O35: Ⅱb | P35: - | Q35: Ⅱb | R35: 否 | S35: 要監視 | T35: 継続 | U35: 監視(日常)
C36: 46 | E36: 2 | F36: 445.76 | G36: 覆工 | H36: アーチ（右側） | I36: 材質劣化 | J36: 圧ざ、ひび割れ | M36: W=0.5mm×L=1.7m | N36: W=0.5mm×L=1.8m | O36: Ⅱb | P36: - | Q36: Ⅱb | R36: 否 | S36: 要監視 | T36: 継続 | U36: 監視(日常) | Y36: 寸法変更
C37: PE | E37: 1 | F37: 455.95 | G37: 覆工 | H37: 面壁・妻壁等 | I37: 材質劣化 | J37: 圧ざ、ひび割れ | M37: W=0.3mm×L=2.3m | N37: W=0.5mm×L=1.3m | O37: Ⅱb | P37: - | Q37: Ⅱb | R37: 否 | S37: 要監視 | T37: 継続 | U37: 監視(日常) | Y37: 寸法変更
C38: PE | E38: 2 | F38: 457.26 | G38: 覆工 | H38: 面壁・妻壁等 | I38: 材質劣化 | J38: 圧ざ、ひび割れ | M38: W=0.3mm×L=0.9m | N38: W=0.3mm×L=0.9m | O38: Ⅱb | P38: - | Q38: Ⅱb | R38: 否 | S38: 要監視 | T38: 継続 | U38: 監視(日常)
C39: PE | E39: 3 | F39: 455.95 | G39: 覆工 | H39: 面壁・妻壁等 | I39: 材質劣化 | J39: 圧ざ、ひび割れ | M39: W=0.5mm×L=1.6m | N39: W=0.5mm×L=1.6m | O39: Ⅱb | P39: - | Q39: Ⅱb | R39: 否 | S39: 要監視 | T39: 継続 | U39: 監視(日常)
C43: ※ 対策区分（応急措置後）のⅡb～Ⅳについて記入すること。また、点検前に実施された措置によりⅠと判定された変状も記入すること。
C44: ※ 応急措置を実施しないで判定した変状の対策区分は、対策区分の応急措置後の欄に記入すること。
C45: ※ 変状の除去が不完全で、緊急対応が必要な場合は対応方針欄に記入すること。
C46: ※ １区間の覆工に複数の変状がある場合は、変状箇所毎に記入すること。
C47: ※ 措置・監視点検を行った場合には、措置履歴、特記事項に記録を残すこと。（実施年度も記載）
C48: ※ 行が不足する場合は、適時、表の行を増やすこと。

Sheet 様式C-1-2 (1)
B2: ■定期点検記録様式 定期点検結果総括表（トンネル内附属物等の取付状態） 【様式C-1-2】
B3: フリガナ | F3: フタミトンネル | J3: 路線名 | K3: 栗野二見線 | M3: 定期点検実施者 | O3: アジア航測株式会社 | S3: 定期点検年月日 | W3: 45917
B4: 名 称 | F4: 二見トンネル | J4: 管理者名 | K4: 山口県下関土木建築事務所 | O4: 飯田 琢巳
B5: 定期点検結果 | C5: 覆工 スパン 番号 | E5: 異常 番号 | F5: 距離 （m） | G5: 異常部位 | J5: 異 常 の 内 容 | N5: 定期点検結果 | P5: 応急措置の 実施状況 | V5: 対応方針 ・ 特記事項
G6: 対象箇所 | I6: 部位区分 | J6: 異常種類 | L6: 異常の発生範囲の規模 | N6: 異常判定区分 | P6: 実施 | Q6: 応急措置の内容
N7: 応急措置前 | O7: 応急措置後
C8: 2 | E8: 101 | F8: 5.13 | G8: その他施設 | H8: 通話型通報設備 | I8: 附属物本体 | J8: - | L8: 1 | N8: - | O8: ○ | P8: 済
C9: 2 | E9: 102 | F9: 4.04 | G9: 照明施設 | H9: 灯具 | I9: 附属物本体 | J9: - | L9: 1 | N9: - | O9: ○ | P9: 済
C10: 2 | E10: 103 | F10: 9.24 | G10: 照明施設 | H10: 灯具 | I10: 附属物本体 | J10: - | L10: 1 | N10: - | O10: ○ | P10: 済
C11: 2 | E11: 104 | F11: 9.24 | G11: 照明施設 | H11: 灯具 | I11: 附属物本体 | J11: - | L11: 1 | N11: - | O11: ○ | P11: 済
C12: 3 | E12: 101 | F12: 21.51 | G12: 照明施設 | H12: 灯具 | I12: 附属物本体 | J12: - | L12: 1 | N12: - | O12: ○ | P12: 済
C13: 3 | E13: 102 | F13: 20.89 | G13: 照明施設 | H13: 灯具 | I13: 附属物本体 | J13: - | L13: 1 | N13: - | O13: ○ | P13: 済
C14: 4 | E14: 101 | F14: 26.84 | G14: 照明施設 | H14: 灯具 | I14: 附属物本体 | J14: - | L14: 1 | N14: - | O14: ○ | P14: 済
C15: 5 | E15: 101 | F15: 33.41 | G15: 照明施設 | H15: 灯具 | I15: 附属物本体 | J15: - | L15: 1 | N15: - | O15: ○ | P15: 済
C16: 5 | E16: 102 | F16: 32.91 | G16: 照明施設 | H16: 灯具 | I16: 附属物本体 | J16: - | L16: 1 | N16: - | O16: ○ | P16: 済
C17: 5 | E17: 103 | F17: 33 | G17: その他施設 | H17: その他 | I17: 取付部材 | J17: 腐食 | L17: 1 | N17: - | O17: × | P17: 未
C18: 5 | E18: 104 | F18: 33 | G18: その他施設 | H18: その他 | I18: 取付部材 | J18: 腐食 | L18: 1 | N18: - | O18: × | P18: 未
C19: 6 | E19: 101 | F19: 45.32 | G19: 照明施設 | H19: 灯具 | I19: 附属物本体 | J19: - | L19: 1 | N19: - | O19: ○ | P19: 済
... C41: 14 | E41: 101 | F41: 126.06 | G41: 照明施設 | H41: 灯具 | I41: 附属物本体 | J41: - | L41: 1 | N41: - | O41: ○ | P41: 済
C42: ※ 異常判定区分×について記入すること。また、応急措置により○と判定された箇所も記入すること。
C43: ※ 応急措置を実施しないで判定した箇所の異常判定区分は、異常判定区分の応急措置後の欄に記入すること。
C44: ※ 異常の除去が不完全で、緊急対応が必要な場合は対応方針欄に記入すること。
C45: ※ １スパンの覆工に複数の異常がある場合は、異常箇所毎に記入すること。
C46: ※ 行が不足する場合は、適時、表の行を増やすこと。

Sheet 様式C-1-2 (2)
B2: ■定期点検記録様式 定期点検結果総括表（トンネル内附属物等の取付状態） 【様式C-1-2】
B3: フリガナ | F3: フタミトンネル | J3: 路線名 | K3: 栗野二見線 | M3: 定期点検実施者 | O3: アジア航測株式会社 | S3: 定期点検年月日 | W3: 45917
B4: 名 称 | F4: 二見トンネル | J4: 管理者名 | K4: 山口県下関土木建築事務所 | O4: 飯田 琢巳
B5: 定期点検結果 | C5: 覆工 スパン 番号 | E5: 異常 番号 | F5: 距離 （m） | G5: 異常部位 | J5: 異 常 の 内 容 | N5: 定期点検結果 | P5: 応急措置の 実施状況 | V5: 対応方針 ・ 特記事項
G6: 対象箇所 | I6: 部位区分 | J6: 異常種類 | L6: 異常の発生範囲の規模 | N6: 異常判定区分 | P6: 実施 | Q6: 応急措置の内容
N7: 応急措置前 | O7: 応急措置後
C8: 14 | E8: 102 | F8: 125.56 | G8: 照明施設 | H8: 灯具 | I8: 附属物本体 | J8: - | L8: 1 | N8: - | O8: ○ | P8: 済
C9: 15 | E9: 101 | F9: 137.69 | G9: 照明施設 | H9: 灯具 | I9: 附属物本体 | J9: - | L9: 1 | N9: - | O9: ○ | P9: 済
C10: 15 | E10: 102 | F10: 142.66 | G10: 照明施設 | H10: 灯具 | I10: 附属物本体 | J10: - | L10: 1 | N10: - | O10: ○ | P10: 済
C11: 15 | E11: 103 | F11: 137.14 | G11: 照明施設 | H11: 灯具 | I11: 附属物本体 | J11: - | L11: 1 | N11: - | O11: ○ | P11: 済
C12: 15 | E12: 104 | F12: 137.64 | G12: その他施設 | H12: その他 | I12: 取付部材 | J12: 腐食 | L12: 1 | N12: - | O12: × | P12: 未
C13: 15 | E13: 105 | F13: 137.64 | G13: その他施設 | H13: その他 | I13: 取付部材 | J13: 腐食 | L13: 1 | N13: - | O13: × | P13: 未
C14: 16 | E14: 101 | F14: 148.38 | G14: 照明施設 | H14: 灯具 | I14: 附属物本体 | J14: - | L14: 1 | N14: - | O14: ○ | P14: 済
C15: 16 | E15: 102 | F15: 147.83 | G15: 照明施設 | H15: 灯具 | I15: 附属物本体 | J15: - | L15: 1 | N15: - | O15: ○ | P15: 済
C16: 17 | E16: 101 | F16: 160.01 | G16: 照明施設 | H16: 灯具 | I16: 附属物本体 | J16: - | L16: 1 | N16: - | O16: ○ | P16: 済
C17: 17 | E17: 102 | F17: 159.41 | G17: 照明施設 | H17: 灯具 | I17: 附属物本体 | J17: - | L17: 1 | N17: - | O17: ○ | P17: 済
C18: 18 | E18: 101 | F18: 165.5 | G18: 照明施設 | H18: 灯具 | I18: 附属物本体 | J18: - | L18: 1 | N18: - | O18: ○ | P18: 済
C19: 18 | E19: 102 | F19: 172.14 | G19: その他施設 | H19: その他 | I19: 取付部材 | J19: 腐食 | L19: 1 | N19: - | O19: × | P19: 未
... C41: 29 | E41: 103 | F41: 287.17 | G41: 照明施設 | H41: 灯具 | I41: 附属物本体 | J41: - | L41: 1 | N41: - | O41: ○ | P41: 済
C42: ※ 異常判定区分×について記入すること。また、応急措置により○と判定された箇所も記入すること。
C43: ※ 応急措置を実施しないで判定した箇所の異常判定区分は、異常判定区分の応急措置後の欄に記入すること。
C44: ※ 異常の除去が不完全で、緊急対応が必要な場合は対応方針欄に記入すること。
C45: ※ １スパンの覆工に複数の異常がある場合は、異常箇所毎に記入すること。
C46: ※ 行が不足する場合は、適時、表の行を増やすこと。

Sheet 様式C-1-2 (3)
B2: ■定期点検記録様式 定期点検結果総括表（トンネル内附属物等の取付状態） 【様式C-1-2】
B3: フリガナ | F3: フタミトンネル | J3: 路線名 | K3: 栗野二見線 | M3: 定期点検実施者 | O3: アジア航測株式会社 | S3: 定期点検年月日 | W3: 45917
B4: 名 称 | F4: 二見トンネル | J4: 管理者名 | K4: 山口県下関土木建築事務所 | O4: 飯田 琢巳
B5: 定期点検結果 | C5: 覆工 スパン 番号 | E5: 異常 番号 | F5: 距離 （m） | G5: 異常部位 | J5: 異 常 の 内 容 | N5: 定期点検結果 | P5: 応急措置の 実施状況 | V5: 対応方針 ・ 特記事項
G6: 対象箇所 | I6: 部位区分 | J6: 異常種類 | L6: 異常の発生範囲の規模 | N6: 異常判定区分 | P6: 実施 | Q6: 応急措置の内容
N7: 応急措置前 | O7: 応急措置後
C8: 31 | E8: 101 | F8: 298.75 | G8: 照明施設 | H8: 灯具 | I8: 附属物本体 | J8: - | L8: 1 | N8: - | O8: ○ | P8: 済
C9: 31 | E9: 102 | F9: 298.75 | G9: 照明施設 | H9: 灯具 | I9: 附属物本体 | J9: - | L9: 1 | N9: - | O9: ○ | P9: 済
C10: 31 | E10: 103 | F10: 304.47 | G10: 照明施設 | H10: 灯具 | I10: 附属物本体 | J10: - | L10: 1 | N10: - | O10: ○ | P10: 済
C11: 32 | E11: 101 | F11: 310.25 | G11: 照明施設 | H11: 灯具 | I11: 附属物本体 | J11: - | L11: 1 | N11: - | O11: ○ | P11: 済
C12: 32 | E12: 102 | F12: 310.3 | G12: 照明施設 | H12: 灯具 | I12: 附属物本体 | J12: - | L12: 1 | N12: - | O12: ○ | P12: 済
C13: 32 | E13: 103 | F13: 310.86 | G13: その他施設 | H13: その他 | I13: 取付部材 | J13: 腐食 | L13: 1 | N13: - | O13: × | P13: 未
C14: 32 | E14: 104 | F14: 310.86 | G14: その他施設 | H14: その他 | I14: 取付部材 | J14: 腐食 | L14: 1 | N14: - | O14: × | P14: 未
C15: 33 | E15: 101 | F15: 321.7 | G15: 照明施設 | H15: 灯具 | I15: 附属物本体 | J15: - | L15: 1 | N15: - | O15: ○ | P15: 済
C16: 33 | E16: 102 | F16: 327.26 | G16: 照明施設 | H16: 灯具 | I16: 附属物本体 | J16: - | L16: 1 | N16: - | O16: ○ | P16: 済
C17: 33 | E17: 103 | F17: 321.72 | G17: 照明施設 | H17: 灯具 | I17: 附属物本体 | J17: - | L17: 1 | N17: - | O17: ○ | P17: 済
C18: 34 | E18: 101 | F18: 332.27 | G18: 照明施設 | H18: 灯具 | I18: 附属物本体 | J18: - | L18: 1 | N18: - | O18: ○ | P18: 済
C19: 34 | E19: 102 | F19: 332.3 | G19: 照明施設 | H19: 灯具 | I19: 附属物本体 | J19: - | L19: 1 | N19: - | O19: ○ | P19: 済
... C41: 42 | E41: 102 | F41: 412.94 | G41: 照明施設 | H41: 灯具 | I41: 附属物本体 | J41: - | L41: 1 | N41: - | O41: ○ | P41: 済
C42: ※ 異常判定区分×について記入すること。また、応急措置により○と判定された箇所も記入すること。
C43: ※ 応急措置を実施しないで判定した箇所の異常判定区分は、異常判定区分の応急措置後の欄に記入すること。
C44: ※ 異常の除去が不完全で、緊急対応が必要な場合は対応方針欄に記入すること。
C45: ※ １スパンの覆工に複数の異常がある場合は、異常箇所毎に記入すること。
C46: ※ 行が不足する場合は、適時、表の行を増やすこと。

Sheet 様式C-1-2 (4)
B2: ■定期点検記録様式 定期点検結果総括表（トンネル内附属物等の取付状態） 【様式C-1-2】
B3: フリガナ | F3: フタミトンネル | J3: 路線名 | K3: 栗野二見線 | M3: 定期点検実施者 | O3: アジア航測株式会社 | S3: 定期点検年月日 | W3: 45917
B4: 名 称 | F4: 二見トンネル | J4: 管理者名 | K4: 山口県下関土木建築事務所 | O4: 飯田 琢巳
B5: 定期点検結果 | C5: 覆工 スパン 番号 | E5: 異常 番号 | F5: 距離 （m） | G5: 異常部位 | J5: 異 常 の 内 容 | N5: 定期点検結果 | P5: 応急措置の 実施状況 | V5: 対応方針 ・ 特記事項
G6: 対象箇所 | I6: 部位区分 | J6: 異常種類 | L6: 異常の発生範囲の規模 | N6: 異常判定区分 | P6: 実施 | Q6: 応急措置の内容
N7: 応急措置前 | O7: 応急措置後
C8: 42 | E8: 103 | F8: 414.17 | G8: その他施設 | H8: その他 | I8: 取付部材 | J8: 腐食 | L8: 1 | N8: - | O8: × | P8: 未
C9: 42 | E9: 104 | F9: 414.17 | G9: その他施設 | H9: その他 | I9: 取付部材 | J9: 腐食 | L9: 1 | N9: - | O9: × | P9: 未
C10: 43 | E10: 101 | F10: 419.18 | G10: 照明施設 | H10: 灯具 | I10: 附属物本体 | J10: - | L10: 1 | N10: - | O10: ○ | P10: 済
C11: 44 | E11: 101 | F11: 425.15 | G11: 照明施設 | H11: 灯具 | I11: 附属物本体 | J11: - | L11: 1 | N11: - | O11: ○ | P11: 済
C12: 44 | E12: 102 | F12: 425.15 | G12: 照明施設 | H12: 灯具 | I12: 附属物本体 | J12: - | L12: 1 | N12: - | O12: ○ | P12: 済
C13: 45 | E13: 101 | F13: 436.97 | G13: 照明施設 | H13: 灯具 | I13: 附属物本体 | J13: - | L13: 1 | N13: - | O13: ○ | P13: 済
C14: 45 | E14: 102 | F14: 436.72 | G14: 照明施設 | H14: 灯具 | I14: 附属物本体 | J14: - | L14: 1 | N14: - | O14: ○ | P14: 済
C15: 45 | E15: 103 | F15: 442.5 | G15: 照明施設 | H15: 灯具 | I15: 附属物本体 | J15: - | L15: 1 | N15: - | O15: ○ | P15: 済
C16: 45 | E16: 104 | F16: 442.22 | G16: その他施設 | H16: 操作型通報設備 | I16: 附属物本体 | J16: 腐食 | L16: 1 | N16: - | O16: × | P16: 未
C17: 45 | E17: 105 | F17: 442.67 | G17: その他施設 | H17: 通話型通報設備 | I17: 附属物本体 | J17: - | L17: 1 | N17: - | O17: ○ | P17: 済
C42: ※ 異常判定区分×について記入すること。また、応急措置により○と判定された箇所も記入すること。
C43: ※ 応急措置を実施しないで判定した箇所の異常判定区分は、異常判定区分の応急措置後の欄に記入すること。
C44: ※ 異常の除去が不完全で、緊急対応が必要な場合は対応方針欄に記入すること。
C45: ※ １スパンの覆工に複数の異常がある場合は、異常箇所毎に記入すること。
C46: ※ 行が不足する場合は、適時、表の行を増やすこと。

Sheet 様式C-2
B2: ■定期点検記録様式 状態の把握の内容 【様式C-2】
B3: フリガナ | E3: フタミトンネル | H3: 路線名 | J3: 栗野二見線 | M3: 定期点検実施者 | Q3: アジア航測株式会社 | U3: 定期点検年月日 | X3: 45917
B4: 名 称 | E4: 二見トンネル | H4: 管理者名 | J4: 山口県下関土木建築事務所 | Q4: 飯田 琢巳
B5: 状態の把握の内容 | C5: 覆工スパン 番号 | E5: 変状 番号 | F5: 状態の把握の内容
F6: 年月日 | H6: 内容 | O6: 結果 | Y6: 対策区分の 判定
B22: 注）状態の把握において、微破壊・非破壊検査や各種試験等を実施した場合について記載する。
B23: ※ 行が不足する場合は、適時、表の行を増やすこと。

Sheet 様式D-1-1 P001
B2: ■定期点検記録様式 変状写真台帳【様式D-1-1】 | R2: 施設ID | T2: ='様式A-1'!W2 -> 34.25039,130.91453
B3: フリガナ | E3: フタミトンネル | H3: 路 線 名 | J3: 栗野二見線 | M3: 定期点検実施者 | P3: アジア航測株式会社 | S3: 定期点検年月日 | U3: 45917
B4: 名 称 | E4: 二見トンネル | H4: 管理者名 | J4: 山口県下関土木建築事務所 | P4: 飯田 琢巳
B5: 写真 番号 | C5: 覆工スパン 番号 | E5: PS | M5: 写真 番号 | N5: 覆工スパン 番号 | P5: 1
C6: 変状番号 | E6: 1 | N6: 変状番号 | P6: 1
B7: 変状 部位 | C7: 対象箇所 | E7: 覆工 | M7: 変状 部位 | N7: 対象箇所 | P7: 覆工
C8: 部位区分 | E8: 面壁・妻壁等 | N8: 部位区分 | P8: アーチ（左側）
B9: 変状種類 | E9: 圧ざ、ひび割れ | M9: 変状種類 | P9: 圧ざ、ひび割れ
B10: 対策 区分 | C10: 変状区分 | E10: 材質劣化 | M10: 対策 区分 | N10: 変状区分 | P10: 材質劣化
C11: 応急措置前 | E11: - | N11: 応急措置前 | P11: -
C12: 応急措置後 | E12: Ⅱb | N12: 応急措置後 | P12: Ⅱb
B13: 変状の発生範囲及び規模 | E13: W=0.3mm×L=0.9m | H13: 前回変状の発生範囲及び規模 | J13: 材質劣化・ひび割れ W=0.3mm×L=0.9m | M13: 変状の発生範囲及び規模 | P13: W=0.5mm×L=1.3m | S13: 前回変状の発生範囲及び規模 | U13: 材質劣化・ひび割れ W=0.5mm×L=1.4m
B14: 対策履歴 | E14: - | H14: 実施状況（実施日） | J14: - | M14: 対策履歴 | P14: - | S14: 実施状況（実施日） | U14: -
B15: メモ | E15: 面壁のひび割れ 経過観察が望まれる | M15: メモ | P15: アーチのひび割れ 経過観察が望まれる
B16: 写真 番号 | C16: 覆工スパン 番号 | E16: 2 | M16: 写真 番号 | N16: 覆工スパン 番号 | P16: 2
C17: 変状番号 | E17: 1 | N17: 変状番号 | P17: 2
B18: 変状 部位 | C18: 対象箇所 | E18: 覆工 | M18: 変状 部位 | N18: 対象箇所 | P18: 覆工
C19: 部位区分 | E19: アーチ（左側） | N19: 部位区分 | P19: アーチ（左側）
B20: 変状種類 | E20: 圧ざ、ひび割れ | M20: 変状種類 | P20: 圧ざ、ひび割れ
B21: 対策 区分 | C21: 変状区分 | E21: 材質劣化 | M21: 対策 区分 | N21: 変状区分 | P21: 材質劣化
C22: 応急措置前 | E22: - | N22: 応急措置前 | P22: -
C23: 応急措置後 | E23: Ⅱb | N23: 応急措置後 | P23: Ⅱb
B24: 変状の発生範囲及び規模 | E24: W=0.6mm×L=1.8m | H24: 前回変状の発生範囲及び規模 | J24: 材質劣化・ひび割れ W=0.6mm×L=2.1m | M24: 変状の発生範囲及び規模 | P24: W=0.5mm×L=4.6m | S24: 前回変状の発生範囲及び規模 | U24: 材質劣化・ひび割れ W=0.5mm×L=5.6m
B25: 対策履歴 | E25: - | H25: 実施状況（実施日） | J25: - | M25: 対策履歴 | P25: - | S25: 実施状況（実施日） | U25: -
B26: メモ | E26: アーチのひび割れ 経過観察が望まれる | M26: メモ | P26: アーチのひび割れ 経過観察が望まれる
C27: ※ 応急措置後の対策区分について添付すること。また、点検前に 実施された措置によりⅠと判定された箇所も添付すること。 | N27: ※ 変状の発生範囲の規模とは、対策を行う際に参考となる変状の長さや面積をいう。
N28: ※ 応急措置を実施しないで決定した変状の対策区分は、対策区分の応急措置後の欄に記入すること。
C29: ※ たたき落としを実施した場合は、実施後の写真を添付すること。 | N29: ※ 変状の発生範囲の規模は、面積・寸法を記載すること。(ひび割れ幅のみmmとし、その他をm表記とする)
C30: ※ 附属物の取付状態に関する異常写真は別途、任意の書式でとりまとめること。 | N30: ※ 構造用鋼材以外の異物に伴ううき・はく離については、メモ欄に異物の概要を記入すること。

Sheet 様式D-1-1 P002
B2: ■定期点検記録様式 変状写真台帳【様式D-1-1】 | R2: 施設ID | T2: ='様式A-1'!W2 -> 34.25039,130.91453
B3: フリガナ | E3: フタミトンネル | H3: 路 線 名 | J3: 栗野二見線 | M3: 定期点検実施者 | P3: アジア航測株式会社 | S3: 定期点検年月日 | U3: 45917
B4: 名 称 | E4: 二見トンネル | H4: 管理者名 | J4: 山口県下関土木建築事務所 | P4: 飯田 琢巳
B5: 写真 番号 | C5: 覆工スパン 番号 | E5: 2 | M5: 写真 番号 | N5: 覆工スパン 番号 | P5: 3
C6: 変状番号 | E6: 3 | N6: 変状番号 | P6: 1
B7: 変状 部位 | C7: 対象箇所 | E7: 覆工 | M7: 変状 部位 | N7: 対象箇所 | P7: 覆工
C8: 部位区分 | E8: アーチ（右側） | N8: 部位区分 | P8: アーチ（左側）
B9: 変状種類 | E9: 圧ざ、ひび割れ | M9: 変状種類 | P9: 圧ざ、ひび割れ
B10: 対策 区分 | C10: 変状区分 | E10: 材質劣化 | M10: 対策 区分 | N10: 変状区分 | P10: 材質劣化
C11: 応急措置前 | E11: - | N11: 応急措置前 | P11: -
C12: 応急措置後 | E12: Ⅱb | N12: 応急措置後 | P12: Ⅱb
B13: 変状の発生範囲及び規模 | E13: W=0.75mm×L=4.6m | H13: 前回変状の発生範囲及び規模 | J13: 材質劣化・ひび割れ W=0.75mm×L=5.0m | M13: 変状の発生範囲及び規模 | P13: W=0.3mm×L=3.2m | S13: 前回変状の発生範囲及び規模 | U13: 材質劣化・ひび割れ W=0.2mm×L=2.0m
B14: 対策履歴 | E14: - | H14: 実施状況（実施日） | J14: - | M14: 対策履歴 | P14: - | S14: 実施状況（実施日） | U14: -
B15: メモ | E15: アーチのひび割れ 経過観察が望まれる | M15: メモ | P15: アーチのひび割れ 経過観察が望まれる
B16: 写真 番号 | C16: 覆工スパン 番号 | E16: 3 | M16: 写真 番号 | N16: 覆工スパン 番号 | P16: 3
C17: 変状番号 | E17: 2 | N17: 変状番号 | P17: 3
B18: 変状 部位 | C18: 対象箇所 | E18: 覆工 | M18: 変状 部位 | N18: 対象箇所 | P18: 覆工
C19: 部位区分 | E19: アーチ（左側） | N19: 部位区分 | P19: アーチ（右側）
B20: 変状種類 | E20: うき・はく離 | M20: 変状種類 | P20: うき・はく離
B21: 対策 区分 | C21: 変状区分 | E21: 材質劣化 | M21: 対策 区分 | N21: 変状区分 | P21: 材質劣化
C22: 応急措置前 | E22: - | N22: 応急措置前 | P22: -
C23: 応急措置後 | E23: Ⅱa | N23: 応急措置後 | P23: Ⅱa
B24: 変状の発生範囲及び規模 | E24: 0.65m×0.05m・D=0.1m | H24: 前回変状の発生範囲及び規模 | J24: 鋼材腐食 0.65m×0.05m | M24: 変状の発生範囲及び規模 | P24: 0.25m×0.05m・D=0.05m | S24: 前回変状の発生範囲及び規模 | U24: うき・はく離 0.25m×0.05m
B25: 対策履歴 | E25: - | H25: 実施状況（実施日） | J25: - | M25: 対策履歴 | P25: - | S25: 実施状況（実施日） | U25: -
B26: メモ | E26: アーチのうき(鋼材腐食を含む) 浸透性硬化剤、防錆剤塗布済 計画的な対策が望まれる | M26: メモ | P26: アーチのうき(鋼材腐食を含む) 浸透性硬化剤、防錆剤塗布済 計画的な対策が望まれる
C27: ※ 応急措置後の対策区分について添付すること。また、点検前に 実施された措置によりⅠと判定された箇所も添付すること。 | N27: ※ 変状の発生範囲の規模とは、対策を行う際に参考となる変状の長さや面積をいう。
N28: ※ 応急措置を実施しないで決定した変状の対策区分は、対策区分の応急措置後の欄に記入すること。
C29: ※ たたき落としを実施した場合は、実施後の写真を添付すること。 | N29: ※ 変状の発生範囲の規模は、面積・寸法を記載すること。(ひび割れ幅のみmmとし、その他をm表記とする)
C30: ※ 附属物の取付状態に関する異常写真は別途、任意の書式でとりまとめること。 | N30: ※ 構造用鋼材以外の異物に伴ううき・はく離については、メモ欄に異物の概要を記入すること。

Sheet 様式D-1-1 P003
B2: ■定期点検記録様式 変状写真台帳【様式D-1-1】 | R2: 施設ID | T2: ='様式A-1'!W2 -> 34.25039,130.91453
B3: フリガナ | E3: フタミトンネル | H3: 路 線 名 | J3: 栗野二見線 | M3: 定期点検実施者 | P3: アジア航測株式会社 | S3: 定期点検年月日 | U3: 45917
B4: 名 称 | E4: 二見トンネル | H4: 管理者名 | J4: 山口県下関土木建築事務所 | P4: 飯田 琢巳
B5: 写真 番号 | C5: 覆工スパン 番号 | E5: 3 | M5: 写真 番号 | N5: 覆工スパン 番号 | P5: 4
C6: 変状番号 | E6: 4 | N6: 変状番号 | P6: 1
B7: 変状 部位 | C7: 対象箇所 | E7: 覆工 | M7: 変状 部位 | N7: 対象箇所 | P7: 覆工
C8: 部位区分 | E8: アーチ（右側） | N8: 部位区分 | P8: アーチ（左側）
B9: 変状種類 | E9: 圧ざ、ひび割れ | M9: 変状種類 | P9: 圧ざ、ひび割れ
B10: 対策 区分 | C10: 変状区分 | E10: 材質劣化 | M10: 対策 区分 | N10: 変状区分 | P10: 材質劣化
C11: 応急措置前 | E11: - | N11: 応急措置前 | P11: -
C12: 応急措置後 | E12: Ⅱb | N12: 応急措置後 | P12: Ⅱb
B13: 変状の発生範囲及び規模 | E13: W=0.3mm×L=3.0m | H13: 前回変状の発生範囲及び規模 | J13: 材質劣化・ひび割れ W=0.3mm×L=3.2m | M13: 変状の発生範囲及び規模 | P13: W=0.35mm×L=3.5m | S13: 前回変状の発生範囲及び規模 | U13: 材質劣化・ひび割れ W=0.35mm×L=3.8m
B14: 対策履歴 | E14: - | H14: 実施状況（実施日） | J14: - | M14: 対策履歴 | P14: - | S14: 実施状況（実施日） | U14: -
B15: メモ | E15: アーチのひび割れ 経過観察が望まれる | M15: メモ | P15: アーチのひび割れ 経過観察が望まれる
B16: 写真 番号 | C16: 覆工スパン 番号 | E16: 4 | M16: 写真 番号 | N16: 覆工スパン 番号 | P16: 5
C17: 変状番号 | E17: 2 | N17: 変状番号 | P17: 1
B18: 変状 部位 | C18: 対象箇所 | E18: 覆工 | M18: 変状 部位 | N18: 対象箇所 | P18: 覆工
C19: 部位区分 | E19: アーチ（右側） | N19: 部位区分 | P19: アーチ（左側）
B20: 変状種類 | E20: 圧ざ、ひび割れ | M20: 変状種類 | P20: 圧ざ、ひび割れ
B21: 対策 区分 | C21: 変状区分 | E21: 材質劣化 | M21: 対策 区分 | N21: 変状区分 | P21: 材質劣化
C22: 応急措置前 | E22: - | N22: 応急措置前 | P22: -
C23: 応急措置後 | E23: Ⅱb | N23: 応急措置後 | P23: Ⅱb
B24: 変状の発生範囲及び規模 | E24: W=0.4mm×L=2.6m | H24: 前回変状の発生範囲及び規模 | J24: 材質劣化・ひび割れ W=0.4mm×L=3.8m | M24: 変状の発生範囲及び規模 | P24: W=0.3mm×L=3.6m | S24: 前回変状の発生範囲及び規模 | U24: 材質劣化・ひび割れ W=0.3mm×L=3.8m
B25: 対策履歴 | E25: - | H25: 実施状況（実施日） | J25: - | M25: 対策履歴 | P25: - | S25: 実施状況（実施日） | U25: -
B26: メモ | E26: アーチのひび割れ 経過観察が望まれる | M26: メモ | P26: アーチのひび割れ 経過観察が望まれる
C27: ※ 応急措置後の対策区分について添付すること。また、点検前に 実施された措置によりⅠと判定された箇所も添付すること。 | N27: ※ 変状の発生範囲の規模とは、対策を行う際に参考となる変状の長さや面積をいう。
N28: ※ 応急措置を実施しないで決定した変状の対策区分は、対策区分の応急措置後の欄に記入すること。
C29: ※ たたき落としを実施した場合は、実施後の写真を添付すること。 | N29: ※ 変状の発生範囲の規模は、面積・寸法を記載すること。(ひび割れ幅のみmmとし、その他をm表記とする)
C30: ※ 附属物の取付状態に関する異常写真は別途、任意の書式でとりまとめること。 | N30: ※ 構造用鋼材以外の異物に伴ううき・はく離については、メモ欄に異物の概要を記入すること。

Sheet 様式D-1-1 P004
B2: ■定期点検記録様式 変状写真台帳【様式D-1-1】 | R2: 施設ID | T2: ='様式A-1'!W2 -> 34.25039,130.91453
B3: フリガナ | E3: フタミトンネル | H3: 路 線 名 | J3: 栗野二見線 | M3: 定期点検実施者 | P3: アジア航測株式会社 | S3: 定期点検年月日 | U3: 45917
B4: 名 称 | E4: 二見トンネル | H4: 管理者名 | J4: 山口県下関土木建築事務所 | P4: 飯田 琢巳
B5: 写真 番号 | C5: 覆工スパン 番号 | E5: 5 | M5: 写真 番号 | N5: 覆工スパン 番号 | P5: 5
C6: 変状番号 | E6: 2 | N6: 変状番号 | P6: 3
B7: 変状 部位 | C7: 対象箇所 | E7: 覆工 | M7: 変状 部位 | N7: 対象箇所 | P7: 覆工
C8: 部位区分 | E8: アーチ（左側） | N8: 部位区分 | P8: アーチ（左側）
B9: 変状種類 | E9: うき・はく離 | M9: 変状種類 | P9: 圧ざ、ひび割れ
B10: 対策 区分 | C10: 変状区分 | E10: 材質劣化 | M10: 対策 区分 | N10: 変状区分 | P10: 材質劣化
C11: 応急措置前 | E11: - | N11: 応急措置前 | P11: -
C12: 応急措置後 | E12: Ⅱa | N12: 応急措置後 | P12: Ⅱb
B13: 変状の発生範囲及び規模 | E13: 0.1m×0.05m | H13: 前回変状の発生範囲及び規模 | J13: うき・はく離 0.1m×0.05m | M13: 変状の発生範囲及び規模 | P13: W=0.3mm×L=5.1m | S13: 前回変状の発生範囲及び規模 | U13: 材質劣化・ひび割れ W=0.3mm×L=4.3m
B14: 対策履歴 | E14: - | H14: 実施状況（実施日） | J14: - | M14: 対策履歴 | P14: - | S14: 実施状況（実施日） | U14: -
B15: メモ | E15: アーチのうき 浸透性硬化剤塗布済 計画的な対策が望まれる | M15: メモ | P15: アーチのひび割れ 経過観察が望まれる
B16: 写真 番号 | C16: 覆工スパン 番号 | E16: 5 | M16: 写真 番号 | N16: 覆工スパン 番号 | P16: 6
C17: 変状番号 | E17: 4 | N17: 変状番号 | P17: 1
B18: 変状 部位 | C18: 対象箇所 | E18: 覆工 | M18: 変状 部位 | N18: 対象箇所 | P18: 覆工
C19: 部位区分 | E19: アーチ（右側） | N19: 部位区分 | P19: アーチ（左側）
B20: 変状種類 | E20: 圧ざ、ひび割れ | M20: 変状種類 | P20: 圧ざ、ひび割れ
B21: 対策 区分 | C21: 変状区分 | E21: 材質劣化 | M21: 対策 区分 | N21: 変状区分 | P21: 材質劣化
C22: 応急措置前 | E22: - | N22: 応急措置前 | P22: -
C23: 応急措置後 | E23: Ⅱb | N23: 応急措置後 | P23: Ⅱb
B24: 変状の発生範囲及び規模 | E24: W=0.35mm×L=3.3m | H24: 前回変状の発生範囲及び規模 | J24: 材質劣化・ひび割れ W=0.35mm×L=4.0m | M24: 変状の発生範囲及び規模 | P24: W=0.5mm×L=3.8m | S24: 前回変状の発生範囲及び規模 | U24: 材質劣化・ひび割れ W=0.5mm×L=3.9m
B25: 対策履歴 | E25: - | H25: 実施状況（実施日） | J25: - | M25: 対策履歴 | P25: - | S25: 実施状況（実施日） | U25: -
B26: メモ | E26: アーチのひび割れ 経過観察が望まれる | M26: メモ | P26: アーチのひび割れ 経過観察が望まれる
C27: ※ 応急措置後の対策区分について添付すること。また、点検前に 実施された措置によりⅠと判定された箇所も添付すること。 | N27: ※ 変状の発生範囲の規模とは、対策を行う際に参考となる変状の長さや面積をいう。
N28: ※ 応急措置を実施しないで決定した変状の対策区分は、対策区分の応急措置後の欄に記入すること。
C29: ※ たたき落としを実施した場合は、実施後の写真を添付すること。 | N29: ※ 変状の発生範囲の規模は、面積・寸法を記載すること。(ひび割れ幅のみmmとし、その他をm表記とする)
C30: ※ 附属物の取付状態に関する異常写真は別途、任意の書式でとりまとめること。 | N30: ※ 構造用鋼材以外の異物に伴ううき・はく離については、メモ欄に異物の概要を記入すること。

Sheet 様式D-1-1 P005
B2: ■定期点検記録様式 変状写真台帳【様式D-1-1】 | R2: 施設ID | T2: ='様式A-1'!W2 -> 34.25039,130.91453
B3: フリガナ | E3: フタミトンネル | H3: 路 線 名 | J3: 栗野二見線 | M3: 定期点検実施者 | P3: アジア航測株式会社 | S3: 定期点検年月日 | U3: 45917
B4: 名 称 | E4: 二見トンネル | H4: 管理者名 | J4: 山口県下関土木建築事務所 | P4: 飯田 琢巳
B5: 写真 番号 | C5: 覆工スパン 番号 | E5: 6 | M5: 写真 番号 | N5: 覆工スパン 番号 | P5: 6
C6: 変状番号 | E6: 2 | N6: 変状番号 | P6: 3
B7: 変状 部位 | C7: 対象箇所 | E7: 覆工 | M7: 変状 部位 | N7: 対象箇所 | P7: 覆工
C8: 部位区分 | E8: アーチ（左側） | N8: 部位区分 | P8: アーチ（右側）
B9: 変状種類 | E9: うき・はく離 | M9: 変状種類 | P9: うき・はく離
B10: 対策 区分 | C10: 変状区分 | E10: 材質劣化 | M10: 対策 区分 | N10: 変状区分 | P10: 材質劣化
C11: 応急措置前 | E11: - | N11: 応急措置前 | P11: -
C12: 応急措置後 | E12: Ⅰ | N12: 応急措置後 | P12: Ⅱa
B13: 変状の発生範囲及び規模 | E13: 0.4m×0.05m・D=0.03m、0.3m×0.05m・D=0.05m | H13: 前回変状の発生範囲及び規模 | J13: うき・はく離 0.4m×0.05m、0.3m×0.05m | M13: 変状の発生範囲及び規模 | P13: 0.6m×0.05m | S13: 前回変状の発生範囲及び規模 | U13: 鋼材腐食 0.6m×0.05m
B14: 対策履歴 | E14: - | H14: 実施状況（実施日） | J14: - | M14: 対策履歴 | P14: - | S14: 実施状況（実施日） | U14: -
B15: メモ | E15: アーチのはく落跡 前回叩き落し済 | M15: メモ | P15: アーチのうき(鋼材腐食を含む) 浸透性硬化剤、防錆剤塗布済 計画的な対策が望まれる
B16: 写真 番号 | C16: 覆工スパン 番号 | E16: 6 | M16: 写真 番号 | N16: 覆工スパン 番号 | P16: 6
C17: 変状番号 | E17: 4 | N17: 変状番号 | P17: 5
B18: 変状 部位 | C18: 対象箇所 | E18: 覆工 | M18: 変状 部位 | N18: 対象箇所 | P18: 覆工
C19: 部位区分 | E19: アーチ（右側） | N19: 部位区分 | P19: アーチ（右側）
B20: 変状種類 | E20: うき・はく離 | M20: 変状種類 | P20: うき・はく離
B21: 対策 区分 | C21: 変状区分 | E21: 材質劣化 | M21: 対策 区分 | N21: 変状区分 | P21: 材質劣化
C22: 応急措置前 | E22: - | N22: 応急措置前 | P22: -
C23: 応急措置後 | E23: Ⅱa | N23: 応急措置後 | P23: Ⅱb
B24: 変状の発生範囲及び規模 | E24: 0.2m×0.05m | H24: 前回変状の発生範囲及び規模 | J24: 鋼材腐食 0.2m×0.05m | M24: 変状の発生範囲及び規模 | P24: 0.1m×0.05m・D=0.03m | S24: 前回変状の発生範囲及び規模 | U24: 鋼材腐食 0.1m×0.05m
B25: 対策履歴 | E25: - | H25: 実施状況（実施日） | J25: - | M25: 対策履歴 | P25: - | S25: 実施状況（実施日） | U25: -
B26: メモ | E26: アーチのうき(鋼材腐食を含む) 浸透性硬化剤、防錆剤塗布済 計画的な対策が望まれる | M26: メモ | P26: アーチのはく落跡(鋼材腐食を含む) 防錆剤塗布済 経過観察が望まれる
C27: ※ 応急措置後の対策区分について添付すること。また、点検前に 実施された措置によりⅠと判定された箇所も添付すること。 | N27: ※ 変状の発生範囲の規模とは、対策を行う際に参考となる変状の長さや面積をいう。
N28: ※ 応急措置を実施しないで決定した変状の対策区分は、対策区分の応急措置後の欄に記入すること。
C29: ※ たたき落としを実施した場合は、実施後の写真を添付すること。 | N29: ※ 変状の発生範囲の規模は、面積・寸法を記載すること。(ひび割れ幅のみmmとし、その他をm表記とする)
C30: ※ 附属物の取付状態に関する異常写真は別途、任意の書式でとりまとめること。 | N30: ※ 構造用鋼材以外の異物に伴ううき・はく離については、メモ欄に異物の概要を記入すること。

Sheet 様式D-1-1 P006
B2: ■定期点検記録様式 変状写真台帳【様式D-1-1】 | R2: 施設ID | T2: ='様式A-1'!W2 -> 34.25039,130.91453
B3: フリガナ | E3: フタミトンネル | H3: 路 線 名 | J3: 栗野二見線 | M3: 定期点検実施者 | P3: アジア航測株式会社 | S3: 定期点検年月日 | U3: 45917
B4: 名 称 | E4: 二見トンネル | H4: 管理者名 | J4: 山口県下関土木建築事務所 | P4: 飯田 琢巳
B5: 写真 番号 | C5: 覆工スパン 番号 | E5: 6 | M5: 写真 番号 | N5: 覆工スパン 番号 | P5: 7
C6: 変状番号 | E6: 6 | N6: 変状番号 | P6: 1
B7: 変状 部位 | C7: 対象箇所 | E7: 覆工 | M7: 変状 部位 | N7: 対象箇所 | P7: 覆工
C8: 部位区分 | E8: アーチ（右側） | N8: 部位区分 | P8: アーチ（左側）
B9: 変状種類 | E9: うき・はく離 | M9: 変状種類 | P9: 圧ざ、ひび割れ
B10: 対策 区分 | C10: 変状区分 | E10: 材質劣化 | M10: 対策 区分 | N10: 変状区分 | P10: 材質劣化
C11: 応急措置前 | E11: - | N11: 応急措置前 | P11: -
C12: 応急措置後 | E12: Ⅱa | N12: 応急措置後 | P12: Ⅱb
B13: 変状の発生範囲及び規模 | E13: 0.35m×0.05m・D=0.1m | H13: 前回変状の発生範囲及び規模 | J13: うき・はく離 0.35m×0.05m | M13: 変状の発生範囲及び規模 | P13: W=0.3mm×L=3.3m | S13: 前回変状の発生範囲及び規模 | U13: 材質劣化・ひび割れ W=0.3mm×L=3.9m
B14: 対策履歴 | E14: - | H14: 実施状況（実施日） | J14: - | M14: 対策履歴 | P14: - | S14: 実施状況（実施日） | U14: -
B15: メモ | E15: アーチのうき(鋼材腐食を含む) 浸透性硬化剤、防錆剤塗布済 計画的な対策が望まれる | M15: メモ | P15: アーチのひび割れ 経過観察が望まれる
B16: 写真 番号 | C16: 覆工スパン 番号 | E16: 7 | M16: 写真 番号 | N16: 覆工スパン 番号 | P16: 7
C17: 変状番号 | E17: 2 | N17: 変状番号 | P17: 3
B18: 変状 部位 | C18: 対象箇所 | E18: 覆工 | M18: 変状 部位 | N18: 対象箇所 | P18: 覆工
C19: 部位区分 | E19: アーチ（右側） | N19: 部位区分 | P19: アーチ（右側）
B20: 変状種類 | E20: うき・はく離 | M20: 変状種類 | P20: うき・はく離
B21: 対策 区分 | C21: 変状区分 | E21: 材質劣化 | M21: 対策 区分 | N21: 変状区分 | P21: 材質劣化
C22: 応急措置前 | E22: - | N22: 応急措置前 | P22: -
C23: 応急措置後 | E23: Ⅰ | N23: 応急措置後 | P23: Ⅰ
B24: 変状の発生範囲及び規模 | E24: 0.45m×0.05m・D=0.05m | H24: 前回変状の発生範囲及び規模 | J24: うき・はく離 0.45m×0.05m | M24: 変状の発生範囲及び規模 | P24: 0.35m×0.05m・D=0.05m、0.1m×0.05m・D=0.05m | S24: 前回変状の発生範囲及び規模 | U24: うき・はく離 0.35m×0.05m、0.1m×0.05m
B25: 対策履歴 | E25: - | H25: 実施状況（実施日） | J25: - | M25: 対策履歴 | P25: - | S25: 実施状況（実施日） | U25: -
B26: メモ | E26: アーチのはく落跡 前回叩き落し済 | M26: メモ | P26: アーチのはく落跡 前回叩き落し済
C27: ※ 応急措置後の対策区分について添付すること。また、点検前に 実施された措置によりⅠと判定された箇所も添付すること。 | N27: ※ 変状の発生範囲の規模とは、対策を行う際に参考となる変状の長さや面積をいう。
N28: ※ 応急措置を実施しないで決定した変状の対策区分は、対策区分の応急措置後の欄に記入すること。
C29: ※ たたき落としを実施した場合は、実施後の写真を添付すること。 | N29: ※ 変状の発生範囲の規模は、面積・寸法を記載すること。(ひび割れ幅のみmmとし、その他をm表記とする)
C30: ※ 附属物の取付状態に関する異常写真は別途、任意の書式でとりまとめること。 | N30: ※ 構造用鋼材以外の異物に伴ううき・はく離については、メモ欄に異物の概要を記入すること。

Sheet 様式D-1-1 P007
B2: ■定期点検記録様式 変状写真台帳【様式D-1-1】 | R2: 施設ID | T2: ='様式A-1'!W2 -> 34.25039,130.91453
B3: フリガナ | E3: フタミトンネル | H3: 路 線 名 | J3: 栗野二見線 | M3: 定期点検実施者 | P3: アジア航測株式会社 | S3: 定期点検年月日 | U3: 45917
B4: 名 称 | E4: 二見トンネル | H4: 管理者名 | J4: 山口県下関土木建築事務所 | P4: 飯田 琢巳
B5: 写真 番号 | C5: 覆工スパン 番号 | E5: 7 | M5: 写真 番号 | N5: 覆工スパン 番号 | P5: 7
C6: 変状番号 | E6: 4 | N6: 変状番号 | P6: 5
B7: 変状 部位 | C7: 対象箇所 | E7: 覆工 | M7: 変状 部位 | N7: 対象箇所 | P7: 覆工
C8: 部位区分 | E8: アーチ（右側） | N8: 部位区分 | P8: アーチ（右側）
B9: 変状種類 | E9: 圧ざ、ひび割れ | M9: 変状種類 | P9: うき・はく離
B10: 対策 区分 | C10: 変状区分 | E10: 材質劣化 | M10: 対策 区分 | N10: 変状区分 | P10: 材質劣化
C11: 応急措置前 | E11: - | N11: 応急措置前 | P11: -
C12: 応急措置後 | E12: Ⅱb | N12: 応急措置後 | P12: Ⅱa
B13: 変状の発生範囲及び規模 | E13: W=0.35mm×L=3.4m | H13: 前回変状の発生範囲及び規模 | J13: 材質劣化・ひび割れ W=0.35mm×L=3.7m | M13: 変状の発生範囲及び規模 | P13: 0.2m×0.05m・D=0.05m | S13: 前回変状の発生範囲及び規模 | U13: うき・はく離 0.2m×0.05m
B14: 対策履歴 | E14: - | H14: 実施状況（実施日） | J14: - | M14: 対策履歴 | P14: - | S14: 実施状況（実施日） | U14: -
B15: メモ | E15: アーチのひび割れ 経過観察が望まれる | M15: メモ | P15: アーチのうき 浸透性硬化剤塗布済 計画的な対策が望まれる
B16: 写真 番号 | C16: 覆工スパン 番号 | E16: 8 | M16: 写真 番号 | N16: 覆工スパン 番号 | P16: 8
C17: 変状番号 | E17: 1 | N17: 変状番号 | P17: 2
B18: 変状 部位 | C18: 対象箇所 | E18: 覆工 | M18: 変状 部位 | N18: 対象箇所 | P18: 覆工
C19: 部位区分 | E19: アーチ（左側） | N19: 部位区分 | P19: アーチ（左側）
B20: 変状種類 | E20: 圧ざ、ひび割れ | M20: 変状種類 | P20: うき・はく離
B21: 対策 区分 | C21: 変状区分 | E21: 材質劣化 | M21: 対策 区分 | N21: 変状区分 | P21: 材質劣化
C22: 応急措置前 | E22: - | N22: 応急措置前 | P22: -
C23: 応急措置後 | E23: Ⅱb | N23: 応急措置後 | P23: Ⅱa
B24: 変状の発生範囲及び規模 | E24: W=0.4mm×L=3.6m | H24: 前回変状の発生範囲及び規模 | J24: 材質劣化・ひび割れ W=0.4mm×L=3.8m | M24: 変状の発生範囲及び規模 | P24: 0.4m×0.05m・D=0.2m | S24: 前回変状の発生範囲及び規模 | U24: 鋼材腐食 0.4m×0.05m
B25: 対策履歴 | E25: - | H25: 実施状況（実施日） | J25: - | M25: 対策履歴 | P25: - | S25: 実施状況（実施日） | U25: -
B26: メモ | E26: アーチのひび割れ 経過観察が望まれる | M26: メモ | P26: アーチのうき(鋼材腐食を含む) 浸透性硬化剤、防錆剤塗布済 計画的な対策が望まれる
C27: ※ 応急措置後の対策区分について添付すること。また、点検前に 実施された措置によりⅠと判定された箇所も添付すること。 | N27: ※ 変状の発生範囲の規模とは、対策を行う際に参考となる変状の長さや面積をいう。
N28: ※ 応急措置を実施しないで決定した変状の対策区分は、対策区分の応急措置後の欄に記入すること。
C29: ※ たたき落としを実施した場合は、実施後の写真を添付すること。 | N29: ※ 変状の発生範囲の規模は、面積・寸法を記載すること。(ひび割れ幅のみmmとし、その他をm表記とする)
C30: ※ 附属物の取付状態に関する異常写真は別途、任意の書式でとりまとめること。 | N30: ※ 構造用鋼材以外の異物に伴ううき・はく離については、メモ欄に異物の概要を記入すること。

Sheet 様式D-1-1 P008
B2: ■定期点検記録様式 変状写真台帳【様式D-1-1】 | R2: 施設ID | T2: ='様式A-1'!W2 -> 34.25039,130.91453
B3: フリガナ | E3: フタミトンネル | H3: 路 線 名 | J3: 栗野二見線 | M3: 定期点検実施者 | P3: アジア航測株式会社 | S3: 定期点検年月日 | U3: 45917
B4: 名 称 | E4: 二見トンネル | H4: 管理者名 | J4: 山口県下関土木建築事務所 | P4: 飯田 琢巳
B5: 写真 番号 | C5: 覆工スパン 番号 | E5: 8 | M5: 写真 番号 | N5: 覆工スパン 番号 | P5: 9
C6: 変状番号 | E6: 3 | N6: 変状番号 | P6: 1
B7: 変状 部位 | C7: 対象箇所 | E7: 覆工 | M7: 変状 部位 | N7: 対象箇所 | P7: 覆工
C8: 部位区分 | E8: アーチ（右側） | N8: 部位区分 | P8: アーチ（左側）
B9: 変状種類 | E9: 圧ざ、ひび割れ | M9: 変状種類 | P9: 圧ざ、ひび割れ
B10: 対策 区分 | C10: 変状区分 | E10: 材質劣化 | M10: 対策 区分 | N10: 変状区分 | P10: 材質劣化
C11: 応急措置前 | E11: - | N11: 応急措置前 | P11: -
C12: 応急措置後 | E12: Ⅱb | N12: 応急措置後 | P12: Ⅱb
B13: 変状の発生範囲及び規模 | E13: W=0.3mm×L=3.0m | H13: 前回変状の発生範囲及び規模 | J13: 材質劣化・ひび割れ W=0.3mm×L=3.9m | M13: 変状の発生範囲及び規模 | P13: W=0.4mm×L=3.8m | S13: 前回変状の発生範囲及び規模 | U13: 材質劣化・ひび割れ W=0.4mm×L=4.1m
B14: 対策履歴 | E14: - | H14: 実施状況（実施日） | J14: - | M14: 対策履歴 | P14: - | S14: 実施状況（実施日） | U14: -
B15: メモ | E15: アーチのひび割れ 経過観察が望まれる | M15: メモ | P15: アーチのひび割れ 経過観察が望まれる
B16: 写真 番号 | C16: 覆工スパン 番号 | E16: 9 | M16: 写真 番号 | N16: 覆工スパン 番号 | P16: 9
C17: 変状番号 | E17: 2 | N17: 変状番号 | P17: 3
B18: 変状 部位 | C18: 対象箇所 | E18: 覆工 | M18: 変状 部位 | N18: 対象箇所 | P18: 覆工
C19: 部位区分 | E19: アーチ（左側） | N19: 部位区分 | P19: アーチ（左側）
B20: 変状種類 | E20: 圧ざ、ひび割れ | M20: 変状種類 | P20: 圧ざ、ひび割れ
B21: 対策 区分 | C21: 変状区分 | E21: 材質劣化 | M21: 対策 区分 | N21: 変状区分 | P21: 材質劣化
C22: 応急措置前 | E22: - | N22: 応急措置前 | P22: -
C23: 応急措置後 | E23: Ⅱb | N23: 応急措置後 | P23: Ⅱb
B24: 変状の発生範囲及び規模 | E24: W=0.3mm×L=2.6m | H24: 前回変状の発生範囲及び規模 | J24: 材質劣化・ひび割れ W=0.3mm×L=3.2m | M24: 変状の発生範囲及び規模 | P24: W=0.3mm×L=2.9m | S24: 前回変状の発生範囲及び規模 | U24: 材質劣化・ひび割れ W=0.3mm×L=2.4m
B25: 対策履歴 | E25: - | H25: 実施状況（実施日） | J25: - | M25: 対策履歴 | P25: - | S25: 実施状況（実施日） | U25: -
B26: メモ | E26: アーチのひび割れ 経過観察が望まれる | M26: メモ | P26: アーチのひび割れ 経過観察が望まれる
C27: ※ 応急措置後の対策区分について添付すること。また、点検前に 実施された措置によりⅠと判定された箇所も添付すること。 | N27: ※ 変状の発生範囲の規模とは、対策を行う際に参考となる変状の長さや面積をいう。
N28: ※ 応急措置を実施しないで決定した変状の対策区分は、対策区分の応急措置後の欄に記入すること。
C29: ※ たたき落としを実施した場合は、実施後の写真を添付すること。 | N29: ※ 変状の発生範囲の規模は、面積・寸法を記載すること。(ひび割れ幅のみmmとし、その他をm表記とする)
C30: ※ 附属物の取付状態に関する異常写真は別途、任意の書式でとりまとめること。 | N30: ※ 構造用鋼材以外の異物に伴ううき・はく離については、メモ欄に異物の概要を記入すること。

Sheet 様式D-1-1 P009
B2: ■定期点検記録様式 変状写真台帳【様式D-1-1】 | R2: 施設ID | T2: ='様式A-1'!W2 -> 34.25039,130.91453
B3: フリガナ | E3: フタミトンネル | H3: 路 線 名 | J3: 栗野二見線 | M3: 定期点検実施者 | P3: アジア航測株式会社 | S3: 定期点検年月日 | U3: 45917
B4: 名 称 | E4: 二見トンネル | H4: 管理者名 | J4: 山口県下関土木建築事務所 | P4: 飯田 琢巳
B5: 写真 番号 | C5: 覆工スパン 番号 | E5: 9 | M5: 写真 番号 | N5: 覆工スパン 番号 | P5: 9
C6: 変状番号 | E6: 4 | N6: 変状番号 | P6: 5
B7: 変状 部位 | C7: 対象箇所 | E7: 覆工 | M7: 変状 部位 | N7: 対象箇所 | P7: 覆工
C8: 部位区分 | E8: アーチ（右側） | N8: 部位区分 | P8: アーチ（右側）
B9: 変状種類 | E9: うき・はく離 | M9: 変状種類 | P9: 圧ざ、ひび割れ
B10: 対策 区分 | C10: 変状区分 | E10: 材質劣化 | M10: 対策 区分 | N10: 変状区分 | P10: 材質劣化
C11: 応急措置前 | E11: - | N11: 応急措置前 | P11: -
C12: 応急措置後 | E12: Ⅱa | N12: 応急措置後 | P12: Ⅱb
B13: 変状の発生範囲及び規模 | E13: 0.25m×0.05m | H13: 前回変状の発生範囲及び規模 | J13: うき・はく離 0.25m×0.05m | M13: 変状の発生範囲及び規模 | P13: W=0.3mm×L=3.0m | S13: 前回変状の発生範囲及び規模 | U13: 材質劣化・ひび割れ W=0.3mm×L=3.3m
B14: 対策履歴 | E14: - | H14: 実施状況（実施日） | J14: - | M14: 対策履歴 | P14: - | S14: 実施状況（実施日） | U14: -
B15: メモ | E15: アーチのうき 浸透性硬化剤塗布済 計画的な対策が望まれる | M15: メモ | P15: アーチのひび割れ 経過観察が望まれる
B16: 写真 番号 | C16: 覆工スパン 番号 | E16: 10 | M16: 写真 番号 | N16: 覆工スパン 番号 | P16: 10
C17: 変状番号 | E17: 1 | N17: 変状番号 | P17: 2
B18: 変状 部位 | C18: 対象箇所 | E18: 覆工 | M18: 変状 部位 | N18: 対象箇所 | P18: 覆工
C19: 部位区分 | E19: アーチ（左側） | N19: 部位区分 | P19: アーチ（右側）
B20: 変状種類 | E20: 圧ざ、ひび割れ | M20: 変状種類 | P20: 圧ざ、ひび割れ
B21: 対策 区分 | C21: 変状区分 | E21: 材質劣化 | M21: 対策 区分 | N21: 変状区分 | P21: 材質劣化
C22: 応急措置前 | E22: - | N22: 応急措置前 | P22: -
C23: 応急措置後 | E23: Ⅱb | N23: 応急措置後 | P23: Ⅱb
B24: 変状の発生範囲及び規模 | E24: W=0.35mm×L=3.5m | H24: 前回変状の発生範囲及び規模 | J24: 材質劣化・ひび割れ W=0.35mm×L=3.7m | M24: 変状の発生範囲及び規模 | P24: W=0.3mm×L=3.1m | S24: 前回変状の発生範囲及び規模 | U24: 材質劣化・ひび割れ W=0.3mm×L=4.3m
B25: 対策履歴 | E25: - | H25: 実施状況（実施日） | J25: - | M25: 対策履歴 | P25: - | S25: 実施状況（実施日） | U25: -
B26: メモ | E26: アーチのひび割れ 経過観察が望まれる | M26: メモ | P26: アーチのひび割れ 経過観察が望まれる
C27: ※ 応急措置後の対策区分について添付すること。また、点検前に 実施された措置によりⅠと判定された箇所も添付すること。 | N27: ※ 変状の発生範囲の規模とは、対策を行う際に参考となる変状の長さや面積をいう。
N28: ※ 応急措置を実施しないで決定した変状の対策区分は、対策区分の応急措置後の欄に記入すること。
C29: ※ たたき落としを実施した場合は、実施後の写真を添付すること。 | N29: ※ 変状の発生範囲の規模は、面積・寸法を記載すること。(ひび割れ幅のみmmとし、その他をm表記とする)
C30: ※ 附属物の取付状態に関する異常写真は別途、任意の書式でとりまとめること。 | N30: ※ 構造用鋼材以外の異物に伴ううき・はく離については、メモ欄に異物の概要を記入すること。

Sheet 様式D-1-1 P010
B2: ■定期点検記録様式 変状写真台帳【様式D-1-1】 | R2: 施設ID | T2: ='様式A-1'!W2 -> 34.25039,130.91453
B3: フリガナ | E3: フタミトンネル | H3: 路 線 名 | J3: 栗野二見線 | M3: 定期点検実施者 | P3: アジア航測株式会社 | S3: 定期点検年月日 | U3: 45917
B4: 名 称 | E4: 二見トンネル | H4: 管理者名 | J4: 山口県下関土木建築事務所 | P4: 飯田 琢巳
B5: 写真 番号 | C5: 覆工スパン 番号 | E5: 11 | M5: 写真 番号 | N5: 覆工スパン 番号 | P5: 11
C6: 変状番号 | E6: 1 | N6: 変状番号 | P6: 2
B7: 変状 部位 | C7: 対象箇所 | E7: 覆工 | M7: 変状 部位 | N7: 対象箇所 | P7: 覆工
C8: 部位区分 | E8: アーチ（左側） | N8: 部位区分 | P8: アーチ（左側）
B9: 変状種類 | E9: 圧ざ、ひび割れ | M9: 変状種類 | P9: うき・はく離
B10: 対策 区分 | C10: 変状区分 | E10: 材質劣化 | M10: 対策 区分 | N10: 変状区分 | P10: 材質劣化
C11: 応急措置前 | E11: - | N11: 応急措置前 | P11: -
C12: 応急措置後 | E12: Ⅱb | N12: 応急措置後 | P12: Ⅱa
B13: 変状の発生範囲及び規模 | E13: W=0.55mm×L=4.4m | H13: 前回変状の発生範囲及び規模 | J13: 材質劣化・ひび割れ W=0.55mm×L=4.9m | M13: 変状の発生範囲及び規模 | P13: 0.6m×0.1m | S13: 前回変状の発生範囲及び規模 | U13: うき・はく離 0.6m×0.1m
B14: 対策履歴 | E14: - | H14: 実施状況（実施日） | J14: - | M14: 対策履歴 | P14: - | S14: 実施状況（実施日） | U14: -
B15: メモ | E15: アーチのひび割れ 経過観察が望まれる | M15: メモ | P15: アーチのうき 浸透性硬化剤塗布済 計画的な対策が望まれる
B16: 写真 番号 | C16: 覆工スパン 番号 | E16: 11 | M16: 写真 番号 | N16: 覆工スパン 番号 | P16: 11
C17: 変状番号 | E17: 3 | N17: 変状番号 | P17: 4
B18: 変状 部位 | C18: 対象箇所 | E18: 覆工 | M18: 変状 部位 | N18: 対象箇所 | P18: 覆工
C19: 部位区分 | E19: アーチ（左側） | N19: 部位区分 | P19: アーチ（右側）
B20: 変状種類 | E20: うき・はく離 | M20: 変状種類 | P20: 圧ざ、ひび割れ
B21: 対策 区分 | C21: 変状区分 | E21: 材質劣化 | M21: 対策 区分 | N21: 変状区分 | P21: 材質劣化
C22: 応急措置前 | E22: - | N22: 応急措置前 | P22: -
C23: 応急措置後 | E23: Ⅱa | N23: 応急措置後 | P23: Ⅱb
B24: 変状の発生範囲及び規模 | E24: 0.1m×0.2m | H24: 前回変状の発生範囲及び規模 | J24: うき・はく離 0.1m×0.05m | M24: 変状の発生範囲及び規模 | P24: W=0.3mm×L=3.2m | S24: 前回変状の発生範囲及び規模 | U24: 材質劣化・ひび割れ W=0.4mm×L=3.9m
B25: 対策履歴 | E25: - | H25: 実施状況（実施日） | J25: - | M25: 対策履歴 | P25: - | S25: 実施状況（実施日） | U25: -
B26: メモ | E26: アーチのうき 浸透性硬化剤塗布済 計画的な対策が望まれる | M26: メモ | P26: アーチのひび割れ 経過観察が望まれる
C27: ※ 応急措置後の対策区分について添付すること。また、点検前に 実施された措置によりⅠと判定された箇所も添付すること。 | N27: ※ 変状の発生範囲の規模とは、対策を行う際に参考となる変状の長さや面積をいう。
N28: ※ 応急措置を実施しないで決定した変状の対策区分は、対策区分の応急措置後の欄に記入すること。
C29: ※ たたき落としを実施した場合は、実施後の写真を添付すること。 | N29: ※ 変状の発生範囲の規模は、面積・寸法を記載すること。(ひび割れ幅のみmmとし、その他をm表記とする)
C30: ※ 附属物の取付状態に関する異常写真は別途、任意の書式でとりまとめること。 | N30: ※ 構造用鋼材以外の異物に伴ううき・はく離については、メモ欄に異物の概要を記入すること。

Sheet 様式D-1-1 P011
B2: ■定期点検記録様式 変状写真台帳【様式D-1-1】 | R2: 施設ID | T2: ='様式A-1'!W2 -> 34.25039,130.91453
B3: フリガナ | E3: フタミトンネル | H3: 路 線 名 | J3: 栗野二見線 | M3: 定期点検実施者 | P3: アジア航測株式会社 | S3: 定期点検年月日 | U3: 45917
B4: 名 称 | E4: 二見トンネル | H4: 管理者名 | J4: 山口県下関土木建築事務所 | P4: 飯田 琢巳
B5: 写真 番号 | C5: 覆工スパン 番号 | E5: 11 | M5: 写真 番号 | N5: 覆工スパン 番号 | P5: 12
C6: 変状番号 | E6: 5 | N6: 変状番号 | P6: 1
B7: 変状 部位 | C7: 対象箇所 | E7: 覆工 | M7: 変状 部位 | N7: 対象箇所 | P7: 覆工
C8: 部位区分 | E8: アーチ（左側） | N8: 部位区分 | P8: アーチ（左側）
B9: 変状種類 | E9: うき・はく離 | M9: 変状種類 | P9: 圧ざ、ひび割れ
B10: 対策 区分 | C10: 変状区分 | E10: 材質劣化 | M10: 対策 区分 | N10: 変状区分 | P10: 材質劣化
C11: 応急措置前 | E11: - | N11: 応急措置前 | P11: -
C12: 応急措置後 | E12: Ⅱb | N12: 応急措置後 | P12: Ⅱb
B13: 変状の発生範囲及び規模 | E13: 0.1m×0.05m・D=0.12m | H13: 前回変状の発生範囲及び規模 | J13: 新規 | M13: 変状の発生範囲及び規模 | P13: W=0.35mm×L=2.9m | S13: 前回変状の発生範囲及び規模 | U13: 材質劣化・ひび割れ W=0.35mm×L=2.9m
B14: 対策履歴 | E14: - | H14: 実施状況（実施日） | J14: - | M14: 対策履歴 | P14: - | S14: 実施状況（実施日） | U14: -
B15: メモ | E15: アーチのはく落跡(鋼材腐食を含む) 防錆剤塗布済 経過観察が望まれる | M15: メモ | P15: アーチのひび割れ 経過観察が望まれる
B16: 写真 番号 | C16: 覆工スパン 番号 | E16: 12 | M16: 写真 番号 | N16: 覆工スパン 番号 | P16: 12
C17: 変状番号 | E17: 2 | N17: 変状番号 | P17: 3
B18: 変状 部位 | C18: 対象箇所 | E18: 覆工 | M18: 変状 部位 | N18: 対象箇所 | P18: 覆工
C19: 部位区分 | E19: アーチ（左側） | N19: 部位区分 | P19: アーチ（右側）
B20: 変状種類 | E20: うき・はく離 | M20: 変状種類 | P20: 圧ざ、ひび割れ
B21: 対策 区分 | C21: 変状区分 | E21: 材質劣化 | M21: 対策 区分 | N21: 変状区分 | P21: 材質劣化
C22: 応急措置前 | E22: - | N22: 応急措置前 | P22: -
C23: 応急措置後 | E23: Ⅱb | N23: 応急措置後 | P23: Ⅱb
B24: 変状の発生範囲及び規模 | E24: 0.4m×0.05m・D=0.2m | H24: 前回変状の発生範囲及び規模 | J24: 鋼材腐食 0.4m×0.05m | M24: 変状の発生範囲及び規模 | P24: W=0.4mm×L=3.2m | S24: 前回変状の発生範囲及び規模 | U24: 材質劣化・ひび割れ W=0.4mm×L=2.9m
B25: 対策履歴 | E25: - | H25: 実施状況（実施日） | J25: - | M25: 対策履歴 | P25: - | S25: 実施状況（実施日） | U25: -
B26: メモ | E26: アーチのはく落跡(鋼材腐食を含む) 防錆剤塗布済 経過観察が望まれる | M26: メモ | P26: アーチのひび割れ 経過観察が望まれる
C27: ※ 応急措置後の対策区分について添付すること。また、点検前に 実施された措置によりⅠと判定された箇所も添付すること。 | N27: ※ 変状の発生範囲の規模とは、対策を行う際に参考となる変状の長さや面積をいう。
N28: ※ 応急措置を実施しないで決定した変状の対策区分は、対策区分の応急措置後の欄に記入すること。
C29: ※ たたき落としを実施した場合は、実施後の写真を添付すること。 | N29: ※ 変状の発生範囲の規模は、面積・寸法を記載すること。(ひび割れ幅のみmmとし、その他をm表記とする)
C30: ※ 附属物の取付状態に関する異常写真は別途、任意の書式でとりまとめること。 | N30: ※ 構造用鋼材以外の異物に伴ううき・はく離については、メモ欄に異物の概要を記入すること。

Sheet 様式D-1-1 P012
B2: ■定期点検記録様式 変状写真台帳【様式D-1-1】 | R2: 施設ID | T2: ='様式A-1'!W2 -> 34.25039,130.91453
B3: フリガナ | E3: フタミトンネル | H3: 路 線 名 | J3: 栗野二見線 | M3: 定期点検実施者 | P3: アジア航測株式会社 | S3: 定期点検年月日 | U3: 45917
B4: 名 称 | E4: 二見トンネル | H4: 管理者名 | J4: 山口県下関土木建築事務所 | P4: 飯田 琢巳
B5: 写真 番号 | C5: 覆工スパン 番号 | E5: 13 | M5: 写真 番号 | N5: 覆工スパン 番号 | P5: 13
C6: 変状番号 | E6: 1 | N6: 変状番号 | P6: 2
B7: 変状 部位 | C7: 対象箇所 | E7: 覆工 | M7: 変状 部位 | N7: 対象箇所 | P7: 覆工
C8: 部位区分 | E8: アーチ（左側） | N8: 部位区分 | P8: アーチ（左側）
B9: 変状種類 | E9: うき・はく離 | M9: 変状種類 | P9: 圧ざ、ひび割れ
B10: 対策 区分 | C10: 変状区分 | E10: 材質劣化 | M10: 対策 区分 | N10: 変状区分 | P10: 材質劣化
C11: 応急措置前 | E11: - | N11: 応急措置前 | P11: -
C12: 応急措置後 | E12: Ⅱa | N12: 応急措置後 | P12: Ⅱb
B13: 変状の発生範囲及び規模 | E13: 0.4m×0.1m・D=0.18m | H13: 前回変状の発生範囲及び規模 | J13: 鋼材腐食 0.4m×0.1m | M13: 変状の発生範囲及び規模 | P13: W=0.3mm×L=2.7m | S13: 前回変状の発生範囲及び規模 | U13: 材質劣化・ひび割れ W=0.3mm×L=2.8m
B14: 対策履歴 | E14: - | H14: 実施状況（実施日） | J14: - | M14: 対策履歴 | P14: - | S14: 実施状況（実施日） | U14: -
B15: メモ | E15: アーチのうき(鋼材腐食を含む) 浸透性硬化剤、防錆剤塗布済 計画的な対策が望まれる | M15: メモ | P15: アーチのひび割れ 経過観察が望まれる
B16: 写真 番号 | C16: 覆工スパン 番号 | E16: 13 | M16: 写真 番号 | N16: 覆工スパン 番号 | P16: 13
C17: 変状番号 | E17: 3 | N17: 変状番号 | P17: 4
B18: 変状 部位 | C18: 対象箇所 | E18: 覆工 | M18: 変状 部位 | N18: 対象箇所 | P18: 覆工
C19: 部位区分 | E19: アーチ（左側） | N19: 部位区分 | P19: アーチ（右側）
B20: 変状種類 | E20: 鋼材腐食 | M20: 変状種類 | P20: うき・はく離
B21: 対策 区分 | C21: 変状区分 | E21: 材質劣化 | M21: 対策 区分 | N21: 変状区分 | P21: 材質劣化
C22: 応急措置前 | E22: - | N22: 応急措置前 | P22: -
C23: 応急措置後 | E23: Ⅱb | N23: 応急措置後 | P23: Ⅱb
B24: 変状の発生範囲及び規模 | E24: 0.05m×0.05m | H24: 前回変状の発生範囲及び規模 | J24: 鋼材腐食 0.05m×0.05m | M24: 変状の発生範囲及び規模 | P24: 0.4m×0.05m・D=0.1m | S24: 前回変状の発生範囲及び規模 | U24: 鋼材腐食 0.4m×0.05m
B25: 対策履歴 | E25: - | H25: 実施状況（実施日） | J25: - | M25: 対策履歴 | P25: - | S25: 実施状況（実施日） | U25: -
B26: メモ | E26: アーチの鋼材腐食 防錆剤塗布済 経過観察が望まれる | M26: メモ | P26: アーチのはく落跡(鋼材腐食を含む) 防錆剤塗布済 経過観察が望まれる
C27: ※ 応急措置後の対策区分について添付すること。また、点検前に 実施された措置によりⅠと判定された箇所も添付すること。 | N27: ※ 変状の発生範囲の規模とは、対策を行う際に参考となる変状の長さや面積をいう。
N28: ※ 応急措置を実施しないで決定した変状の対策区分は、対策区分の応急措置後の欄に記入すること。
C29: ※ たたき落としを実施した場合は、実施後の写真を添付すること。 | N29: ※ 変状の発生範囲の規模は、面積・寸法を記載すること。(ひび割れ幅のみmmとし、その他をm表記とする)
C30: ※ 附属物の取付状態に関する異常写真は別途、任意の書式でとりまとめること。 | N30: ※ 構造用鋼材以外の異物に伴ううき・はく離については、メモ欄に異物の概要を記入すること。

Sheet 様式D-1-1 P013
B2: ■定期点検記録様式 変状写真台帳【様式D-1-1】 | R2: 施設ID | T2: ='様式A-1'!W2 -> 34.25039,130.91453
B3: フリガナ | E3: フタミトンネル | H3: 路 線 名 | J3: 栗野二見線 | M3: 定期点検実施者 | P3: アジア航測株式会社 | S3: 定期点検年月日 | U3: 45917
B4: 名 称 | E4: 二見トンネル | H4: 管理者名 | J4: 山口県下関土木建築事務所 | P4: 飯田 琢巳
B5: 写真 番号 | C5: 覆工スパン 番号 | E5: 13 | M5: 写真 番号 | N5: 覆工スパン 番号 | P5: 14
C6: 変状番号 | E6: 5 | N6: 変状番号 | P6: 1
B7: 変状 部位 | C7: 対象箇所 | E7: 覆工 | M7: 変状 部位 | N7: 対象箇所 | P7: 覆工
C8: 部位区分 | E8: アーチ（右側） | N8: 部位区分 | P8: アーチ（左側）
B9: 変状種類 | E9: 圧ざ、ひび割れ | M9: 変状種類 | P9: 圧ざ、ひび割れ
B10: 対策 区分 | C10: 変状区分 | E10: 材質劣化 | M10: 対策 区分 | N10: 変状区分 | P10: 材質劣化
C11: 応急措置前 | E11: - | N11: 応急措置前 | P11: -
C12: 応急措置後 | E12: Ⅱb | N12: 応急措置後 | P12: Ⅱb
B13: 変状の発生範囲及び規模 | E13: W=0.35mm×L=3.5m | H13: 前回変状の発生範囲及び規模 | J13: 材質劣化・ひび割れ W=0.35mm×L=3.6m | M13: 変状の発生範囲及び規模 | P13: W=0.35mm×L=2.5m | S13: 前回変状の発生範囲及び規模 | U13: 材質劣化・ひび割れ W=0.35mm×L=1.7m
B14: 対策履歴 | E14: - | H14: 実施状況（実施日） | J14: - | M14: 対策履歴 | P14: - | S14: 実施状況（実施日） | U14: -
B15: メモ | E15: アーチのひび割れ 経過観察が望まれる | M15: メモ | P15: アーチのひび割れ 経過観察が望まれる
B16: 写真 番号 | C16: 覆工スパン 番号 | E16: 14 | M16: 写真 番号 | N16: 覆工スパン 番号 | P16: 15
C17: 変状番号 | E17: 2 | N17: 変状番号 | P17: 1
B18: 変状 部位 | C18: 対象箇所 | E18: 覆工 | M18: 変状 部位 | N18: 対象箇所 | P18: 覆工
C19: 部位区分 | E19: アーチ（右側） | N19: 部位区分 | P19: アーチ（左側）
B20: 変状種類 | E20: 圧ざ、ひび割れ | M20: 変状種類 | P20: うき・はく離
B21: 対策 区分 | C21: 変状区分 | E21: 材質劣化 | M21: 対策 区分 | N21: 変状区分 | P21: 材質劣化
C22: 応急措置前 | E22: - | N22: 応急措置前 | P22: -
C23: 応急措置後 | E23: Ⅱb | N23: 応急措置後 | P23: Ⅱa
B24: 変状の発生範囲及び規模 | E24: W=0.35mm×L=2.1m | H24: 前回変状の発生範囲及び規模 | J24: 材質劣化・ひび割れ W=0.35mm×L=2.2m | M24: 変状の発生範囲及び規模 | P24: 0.4m×0.1m | S24: 前回変状の発生範囲及び規模 | U24: うき・はく離 0.4m×0.1m
B25: 対策履歴 | E25: - | H25: 実施状況（実施日） | J25: - | M25: 対策履歴 | P25: - | S25: 実施状況（実施日） | U25: -
B26: メモ | E26: アーチのひび割れ 経過観察が望まれる | M26: メモ | P26: アーチのうき 浸透性硬化剤塗布済 計画的な対策が望まれる
C27: ※ 応急措置後の対策区分について添付すること。また、点検前に 実施された措置によりⅠと判定された箇所も添付すること。 | N27: ※ 変状の発生範囲の規模とは、対策を行う際に参考となる変状の長さや面積をいう。
N28: ※ 応急措置を実施しないで決定した変状の対策区分は、対策区分の応急措置後の欄に記入すること。
C29: ※ たたき落としを実施した場合は、実施後の写真を添付すること。 | N29: ※ 変状の発生範囲の規模は、面積・寸法を記載すること。(ひび割れ幅のみmmとし、その他をm表記とする)
C30: ※ 附属物の取付状態に関する異常写真は別途、任意の書式でとりまとめること。 | N30: ※ 構造用鋼材以外の異物に伴ううき・はく離については、メモ欄に異物の概要を記入すること。

Sheet 様式D-1-1 P014
B2: ■定期点検記録様式 変状写真台帳【様式D-1-1】 | R2: 施設ID | T2: ='様式A-1'!W2 -> 34.25039,130.91453
B3: フリガナ | E3: フタミトンネル | H3: 路 線 名 | J3: 栗野二見線 | M3: 定期点検実施者 | P3: アジア航測株式会社 | S3: 定期点検年月日 | U3: 45917
B4: 名 称 | E4: 二見トンネル | H4: 管理者名 | J4: 山口県下関土木建築事務所 | P4: 飯田 琢巳
B5: 写真 番号 | C5: 覆工スパン 番号 | E5: 15 | M5: 写真 番号 | N5: 覆工スパン 番号 | P5: 15
C6: 変状番号 | E6: 2 | N6: 変状番号 | P6: 3
B7: 変状 部位 | C7: 対象箇所 | E7: 覆工 | M7: 変状 部位 | N7: 対象箇所 | P7: 覆工
C8: 部位区分 | E8: アーチ（左側） | N8: 部位区分 | P8: アーチ（右側）
B9: 変状種類 | E9: 圧ざ、ひび割れ | M9: 変状種類 | P9: うき・はく離
B10: 対策 区分 | C10: 変状区分 | E10: 材質劣化 | M10: 対策 区分 | N10: 変状区分 | P10: 材質劣化
C11: 応急措置前 | E11: - | N11: 応急措置前 | P11: -
C12: 応急措置後 | E12: Ⅱb | N12: 応急措置後 | P12: Ⅱb
B13: 変状の発生範囲及び規模 | E13: W=0.3mm×L=0.8m | H13: 前回変状の発生範囲及び規模 | J13: 材質劣化・ひび割れ W=0.3mm×L=0.7m | M13: 変状の発生範囲及び規模 | P13: 0.6m×0.05m・D=0.15m | S13: 前回変状の発生範囲及び規模 | U13: 鋼材腐食 0.6m×0.05m
B14: 対策履歴 | E14: - | H14: 実施状況（実施日） | J14: - | M14: 対策履歴 | P14: - | S14: 実施状況（実施日） | U14: -
B15: メモ | E15: アーチのひび割れ 経過観察が望まれる | M15: メモ | P15: アーチのはく落跡(鋼材腐食を含む) 防錆剤塗布済 経過観察が望まれる
B16: 写真 番号 | C16: 覆工スパン 番号 | E16: 15 | M16: 写真 番号 | N16: 覆工スパン 番号 | P16: 15
C17: 変状番号 | E17: 4 | N17: 変状番号 | P17: 5
B18: 変状 部位 | C18: 対象箇所 | E18: 覆工 | M18: 変状 部位 | N18: 対象箇所 | P18: 覆工
C19: 部位区分 | E19: アーチ（右側） | N19: 部位区分 | P19: 側壁（左側）
B20: 変状種類 | E20: 圧ざ、ひび割れ | M20: 変状種類 | P20: うき・はく離
B21: 対策 区分 | C21: 変状区分 | E21: 材質劣化 | M21: 対策 区分 | N21: 変状区分 | P21: 材質劣化
C22: 応急措置前 | E22: - | N22: 応急措置前 | P22: -
C23: 応急措置後 | E23: Ⅱb | N23: 応急措置後 | P23: Ⅱb
B24: 変状の発生範囲及び規模 | E24: W=0.4mm×L=3.2m | H24: 前回変状の発生範囲及び規模 | J24: 材質劣化・ひび割れ W=0.4mm×L=3.3m | M24: 変状の発生範囲及び規模 | P24: 0.3m×0.1m | S24: 前回変状の発生範囲及び規模 | U24: 新規
B25: 対策履歴 | E25: - | H25: 実施状況（実施日） | J25: - | M25: 対策履歴 | P25: - | S25: 実施状況（実施日） | U25: -
B26: メモ | E26: アーチのひび割れ 経過観察が望まれる | M26: メモ | P26: 側壁のうき 浸透性硬化剤塗布済 経過観察が望まれる
C27: ※ 応急措置後の対策区分について添付すること。また、点検前に 実施された措置によりⅠと判定された箇所も添付すること。 | N27: ※ 変状の発生範囲の規模とは、対策を行う際に参考となる変状の長さや面積をいう。
N28: ※ 応急措置を実施しないで決定した変状の対策区分は、対策区分の応急措置後の欄に記入すること。
C29: ※ たたき落としを実施した場合は、実施後の写真を添付すること。 | N29: ※ 変状の発生範囲の規模は、面積・寸法を記載すること。(ひび割れ幅のみmmとし、その他をm表記とする)
C30: ※ 附属物の取付状態に関する異常写真は別途、任意の書式でとりまとめること。 | N30: ※ 構造用鋼材以外の異物に伴ううき・はく離については、メモ欄に異物の概要を記入すること。

Sheet 様式D-1-1 P015
B2: ■定期点検記録様式 変状写真台帳【様式D-1-1】 | R2: 施設ID | T2: ='様式A-1'!W2 -> 34.25039,130.91453
B3: フリガナ | E3: フタミトンネル | H3: 路 線 名 | J3: 栗野二見線 | M3: 定期点検実施者 | P3: アジア航測株式会社 | S3: 定期点検年月日 | U3: 45917
B4: 名 称 | E4: 二見トンネル | H4: 管理者名 | J4: 山口県下関土木建築事務所 | P4: 飯田 琢巳
B5: 写真 番号 | C5: 覆工スパン 番号 | E5: 16 | M5: 写真 番号 | N5: 覆工スパン 番号 | P5: 17
C6: 変状番号 | E6: 1 | N6: 変状番号 | P6: 1
B7: 変状 部位 | C7: 対象箇所 | E7: 覆工 | M7: 変状 部位 | N7: 対象箇所 | P7: 覆工
C8: 部位区分 | E8: アーチ（右側） | N8: 部位区分 | P8: アーチ（天端）
B9: 変状種類 | E9: 圧ざ、ひび割れ | M9: 変状種類 | P9: 圧ざ、ひび割れ
B10: 対策 区分 | C10: 変状区分 | E10: 材質劣化 | M10: 対策 区分 | N10: 変状区分 | P10: 材質劣化
C11: 応急措置前 | E11: - | N11: 応急措置前 | P11: -
C12: 応急措置後 | E12: Ⅱb | N12: 応急措置後 | P12: Ⅱb
B13: 変状の発生範囲及び規模 | E13: W=0.3mm×L=3.2m | H13: 前回変状の発生範囲及び規模 | J13: 材質劣化・ひび割れ W=0.3mm×L=3.5m | M13: 変状の発生範囲及び規模 | P13: W=0.6mm×L=4.1m | S13: 前回変状の発生範囲及び規模 | U13: 材質劣化・ひび割れ W=0.6mm×L=9.5m
B14: 対策履歴 | E14: - | H14: 実施状況（実施日） | J14: - | M14: 対策履歴 | P14: - | S14: 実施状況（実施日） | U14: -
B15: メモ | E15: アーチのひび割れ 経過観察が望まれる | M15: メモ | P15: アーチのひび割れ 経過観察が望まれる
B16: 写真 番号 | C16: 覆工スパン 番号 | E16: 19 | M16: 写真 番号 | N16: 覆工スパン 番号 | P16: 20
C17: 変状番号 | E17: 1 | N17: 変状番号 | P17: 1
B18: 変状 部位 | C18: 対象箇所 | E18: 覆工 | M18: 変状 部位 | N18: 対象箇所 | P18: 覆工
C19: 部位区分 | E19: アーチ（天端） | N19: 部位区分 | P19: アーチ（左側）
B20: 変状種類 | E20: 圧ざ、ひび割れ | M20: 変状種類 | P20: 圧ざ、ひび割れ
B21: 対策 区分 | C21: 変状区分 | E21: 材質劣化 | M21: 対策 区分 | N21: 変状区分 | P21: 材質劣化
C22: 応急措置前 | E22: - | N22: 応急措置前 | P22: -
C23: 応急措置後 | E23: Ⅱb | N23: 応急措置後 | P23: Ⅱb
B24: 変状の発生範囲及び規模 | E24: W=0.55mm×L=6.4m | H24: 前回変状の発生範囲及び規模 | J24: 材質劣化・ひび割れ W=0.55mm×L=7.7m | M24: 変状の発生範囲及び規模 | P24: W=0.4mm×L=2.8m | S24: 前回変状の発生範囲及び規模 | U24: 材質劣化・ひび割れ W=0.4mm×L=2.9m
B25: 対策履歴 | E25: - | H25: 実施状況（実施日） | J25: - | M25: 対策履歴 | P25: - | S25: 実施状況（実施日） | U25: -
B26: メモ | E26: アーチのひび割れ 経過観察が望まれる | M26: メモ | P26: アーチのひび割れ 経過観察が望まれる
C27: ※ 応急措置後の対策区分について添付すること。また、点検前に 実施された措置によりⅠと判定された箇所も添付すること。 | N27: ※ 変状の発生範囲の規模とは、対策を行う際に参考となる変状の長さや面積をいう。
N28: ※ 応急措置を実施しないで決定した変状の対策区分は、対策区分の応急措置後の欄に記入すること。
C29: ※ たたき落としを実施した場合は、実施後の写真を添付すること。 | N29: ※ 変状の発生範囲の規模は、面積・寸法を記載すること。(ひび割れ幅のみmmとし、その他をm表記とする)
C30: ※ 附属物の取付状態に関する異常写真は別途、任意の書式でとりまとめること。 | N30: ※ 構造用鋼材以外の異物に伴ううき・はく離については、メモ欄に異物の概要を記入すること。

Sheet 様式D-1-1 P016
B2: ■定期点検記録様式 変状写真台帳【様式D-1-1】 | R2: 施設ID | T2: ='様式A-1'!W2 -> 34.25039,130.91453
B3: フリガナ | E3: フタミトンネル | H3: 路 線 名 | J3: 栗野二見線 | M3: 定期点検実施者 | P3: アジア航測株式会社 | S3: 定期点検年月日 | U3: 45917
B4: 名 称 | E4: 二見トンネル | H4: 管理者名 | J4: 山口県下関土木建築事務所 | P4: 飯田 琢巳
B5: 写真 番号 | C5: 覆工スパン 番号 | E5: 21 | M5: 写真 番号 | N5: 覆工スパン 番号 | P5: 23
C6: 変状番号 | E6: 1 | N6: 変状番号 | P6: 1
B7: 変状 部位 | C7: 対象箇所 | E7: 覆工 | M7: 変状 部位 | N7: 対象箇所 | P7: 覆工
C8: 部位区分 | E8: アーチ（左側） | N8: 部位区分 | P8: アーチ（天端）
B9: 変状種類 | E9: 圧ざ、ひび割れ | M9: 変状種類 | P9: 圧ざ、ひび割れ
B10: 対策 区分 | C10: 変状区分 | E10: 材質劣化 | M10: 対策 区分 | N10: 変状区分 | P10: 材質劣化
C11: 応急措置前 | E11: - | N11: 応急措置前 | P11: -
C12: 応急措置後 | E12: Ⅱb | N12: 応急措置後 | P12: Ⅱb
B13: 変状の発生範囲及び規模 | E13: W=0.3mm×L=2.5m | H13: 前回変状の発生範囲及び規模 | J13: 材質劣化・ひび割れ W=0.3mm×L=2.4m | M13: 変状の発生範囲及び規模 | P13: W=0.8mm×L=6.0m | S13: 前回変状の発生範囲及び規模 | U13: 材質劣化・ひび割れ W=0.8mm×L=8.3m
B14: 対策履歴 | E14: - | H14: 実施状況（実施日） | J14: - | M14: 対策履歴 | P14: - | S14: 実施状況（実施日） | U14: -
B15: メモ | E15: アーチのひび割れ 経過観察が望まれる | M15: メモ | P15: アーチのひび割れ 経過観察が望まれる
B16: 写真 番号 | C16: 覆工スパン 番号 | E16: 24 | M16: 写真 番号 | N16: 覆工スパン 番号 | P16: 26
C17: 変状番号 | E17: 1 | N17: 変状番号 | P17: 1
B18: 変状 部位 | C18: 対象箇所 | E18: 覆工 | M18: 変状 部位 | N18: 対象箇所 | P18: 覆工
C19: 部位区分 | E19: アーチ（天端） | N19: 部位区分 | P19: アーチ（右側）
B20: 変状種類 | E20: 圧ざ、ひび割れ | M20: 変状種類 | P20: うき・はく離
B21: 対策 区分 | C21: 変状区分 | E21: 材質劣化 | M21: 対策 区分 | N21: 変状区分 | P21: 材質劣化
C22: 応急措置前 | E22: - | N22: 応急措置前 | P22: -
C23: 応急措置後 | E23: Ⅱb | N23: 応急措置後 | P23: Ⅱa
B24: 変状の発生範囲及び規模 | E24: W=1.1mm×L=10.8m | H24: 前回変状の発生範囲及び規模 | J24: 材質劣化・ひび割れ W=1.1mm×L=10.5m | M24: 変状の発生範囲及び規模 | P24: 0.4m×0.05m | S24: 前回変状の発生範囲及び規模 | U24: うき・はく離 0.15m×0.05m
B25: 対策履歴 | E25: - | H25: 実施状況（実施日） | J25: - | M25: 対策履歴 | P25: - | S25: 実施状況（実施日） | U25: -
B26: メモ | E26: アーチのひび割れ 経過観察が望まれる | M26: メモ | P26: アーチのうき 浸透性硬化剤塗布済 計画的な対策が望まれる
C27: ※ 応急措置後の対策区分について添付すること。また、点検前に 実施された措置によりⅠと判定された箇所も添付すること。 | N27: ※ 変状の発生範囲の規模とは、対策を行う際に参考となる変状の長さや面積をいう。
N28: ※ 応急措置を実施しないで決定した変状の対策区分は、対策区分の応急措置後の欄に記入すること。
C29: ※ たたき落としを実施した場合は、実施後の写真を添付すること。 | N29: ※ 変状の発生範囲の規模は、面積・寸法を記載すること。(ひび割れ幅のみmmとし、その他をm表記とする)
C30: ※ 附属物の取付状態に関する異常写真は別途、任意の書式でとりまとめること。 | N30: ※ 構造用鋼材以外の異物に伴ううき・はく離については、メモ欄に異物の概要を記入すること。

Sheet 様式D-1-1 P017
B2: ■定期点検記録様式 変状写真台帳【様式D-1-1】 | R2: 施設ID | T2: ='様式A-1'!W2 -> 34.25039,130.91453
B3: フリガナ | E3: フタミトンネル | H3: 路 線 名 | J3: 栗野二見線 | M3: 定期点検実施者 | P3: アジア航測株式会社 | S3: 定期点検年月日 | U3: 45917
B4: 名 称 | E4: 二見トンネル | H4: 管理者名 | J4: 山口県下関土木建築事務所 | P4: 飯田 琢巳
B5: 写真 番号 | C5: 覆工スパン 番号 | E5: 26 | M5: 写真 番号 | N5: 覆工スパン 番号 | P5: 27
C6: 変状番号 | E6: 2 | N6: 変状番号 | P6: 1
B7: 変状 部位 | C7: 対象箇所 | E7: 覆工 | M7: 変状 部位 | N7: 対象箇所 | P7: 覆工
C8: 部位区分 | E8: アーチ（右側） | N8: 部位区分 | P8: アーチ（左側）
B9: 変状種類 | E9: 圧ざ、ひび割れ | M9: 変状種類 | P9: うき・はく離
B10: 対策 区分 | C10: 変状区分 | E10: 材質劣化 | M10: 対策 区分 | N10: 変状区分 | P10: 材質劣化
C11: 応急措置前 | E11: - | N11: 応急措置前 | P11: -
C12: 応急措置後 | E12: Ⅱb | N12: 応急措置後 | P12: Ⅱa
B13: 変状の発生範囲及び規模 | E13: W=0.35mm×L=2.7m | H13: 前回変状の発生範囲及び規模 | J13: 材質劣化・ひび割れ W=0.35mm×L=3.0m | M13: 変状の発生範囲及び規模 | P13: 0.35m×0.05m・D=0.03m | S13: 前回変状の発生範囲及び規模 | U13: うき・はく離 0.35m×0.05m
B14: 対策履歴 | E14: - | H14: 実施状況（実施日） | J14: - | M14: 対策履歴 | P14: - | S14: 実施状況（実施日） | U14: -
B15: メモ | E15: アーチのひび割れ 経過観察が望まれる | M15: メモ | P15: アーチのうき 浸透性硬化剤塗布済 計画的な対策が望まれる
B16: 写真 番号 | C16: 覆工スパン 番号 | E16: 27 | M16: 写真 番号 | N16: 覆工スパン 番号 | P16: 27
C17: 変状番号 | E17: 2 | N17: 変状番号 | P17: 3
B18: 変状 部位 | C18: 対象箇所 | E18: 覆工 | M18: 変状 部位 | N18: 対象箇所 | P18: 覆工
C19: 部位区分 | E19: アーチ（左側） | N19: 部位区分 | P19: アーチ（左側）
B20: 変状種類 | E20: うき・はく離 | M20: 変状種類 | P20: 圧ざ、ひび割れ
B21: 対策 区分 | C21: 変状区分 | E21: 材質劣化 | M21: 対策 区分 | N21: 変状区分 | P21: 材質劣化
C22: 応急措置前 | E22: - | N22: 応急措置前 | P22: -
C23: 応急措置後 | E23: Ⅰ | N23: 応急措置後 | P23: Ⅱb
B24: 変状の発生範囲及び規模 | E24: 0.25m×0.05m・D=0.1m | H24: 前回変状の発生範囲及び規模 | J24: うき・はく離 0.25m×0.05m | M24: 変状の発生範囲及び規模 | P24: W=0.3mm×L=1.7m | S24: 前回変状の発生範囲及び規模 | U24: 材質劣化・ひび割れ W=0.3mm×L=1.9m
B25: 対策履歴 | E25: - | H25: 実施状況（実施日） | J25: - | M25: 対策履歴 | P25: - | S25: 実施状況（実施日） | U25: -
B26: メモ | E26: アーチのはく落跡 前回叩き落し済 | M26: メモ | P26: アーチのひび割れ 経過観察が望まれる
C27: ※ 応急措置後の対策区分について添付すること。また、点検前に 実施された措置によりⅠと判定された箇所も添付すること。 | N27: ※ 変状の発生範囲の規模とは、対策を行う際に参考となる変状の長さや面積をいう。
N28: ※ 応急措置を実施しないで決定した変状の対策区分は、対策区分の応急措置後の欄に記入すること。
C29: ※ たたき落としを実施した場合は、実施後の写真を添付すること。 | N29: ※ 変状の発生範囲の規模は、面積・寸法を記載すること。(ひび割れ幅のみmmとし、その他をm表記とする)
C30: ※ 附属物の取付状態に関する異常写真は別途、任意の書式でとりまとめること。 | N30: ※ 構造用鋼材以外の異物に伴ううき・はく離については、メモ欄に異物の概要を記入すること。

Sheet 様式D-1-1 P018
B2: ■定期点検記録様式 変状写真台帳【様式D-1-1】 | R2: 施設ID | T2: ='様式A-1'!W2 -> 34.25039,130.91453
B3: フリガナ | E3: フタミトンネル | H3: 路 線 名 | J3: 栗野二見線 | M3: 定期点検実施者 | P3: アジア航測株式会社 | S3: 定期点検年月日 | U3: 45917
B4: 名 称 | E4: 二見トンネル | H4: 管理者名 | J4: 山口県下関土木建築事務所 | P4: 飯田 琢巳
B5: 写真 番号 | C5: 覆工スパン 番号 | E5: 30 | M5: 写真 番号 | N5: 覆工スパン 番号 | P5: 31
C6: 変状番号 | E6: 1 | N6: 変状番号 | P6: 1
B7: 変状 部位 | C7: 対象箇所 | E7: 覆工 | M7: 変状 部位 | N7: 対象箇所 | P7: 覆工
C8: 部位区分 | E8: アーチ（天端） | N8: 部位区分 | P8: アーチ（右側）
B9: 変状種類 | E9: 圧ざ、ひび割れ | M9: 変状種類 | P9: 圧ざ、ひび割れ
B10: 対策 区分 | C10: 変状区分 | E10: 材質劣化 | M10: 対策 区分 | N10: 変状区分 | P10: 材質劣化
C11: 応急措置前 | E11: - | N11: 応急措置前 | P11: -
C12: 応急措置後 | E12: Ⅱb | N12: 応急措置後 | P12: Ⅱb
B13: 変状の発生範囲及び規模 | E13: W=0.8mm×L=6.0m | H13: 前回変状の発生範囲及び規模 | J13: 材質劣化・ひび割れ W=0.8mm×L=6.4m | M13: 変状の発生範囲及び規模 | P13: W=0.3mm×L=2.3m | S13: 前回変状の発生範囲及び規模 | U13: 材質劣化・ひび割れ W=0.3mm×L=2.4m
B14: 対策履歴 | E14: - | H14: 実施状況（実施日） | J14: - | M14: 対策履歴 | P14: - | S14: 実施状況（実施日） | U14: -
B15: メモ | E15: アーチのひび割れ 経過観察が望まれる | M15: メモ | P15: アーチのひび割れ 経過観察が望まれる
B16: 写真 番号 | C16: 覆工スパン 番号 | E16: 33 | M16: 写真 番号 | N16: 覆工スパン 番号 | P16: 33
C17: 変状番号 | E17: 1 | N17: 変状番号 | P17: 2
B18: 変状 部位 | C18: 対象箇所 | E18: 覆工 | M18: 変状 部位 | N18: 対象箇所 | P18: 覆工
C19: 部位区分 | E19: アーチ（天端） | N19: 部位区分 | P19: アーチ（左側）
B20: 変状種類 | E20: 圧ざ、ひび割れ | M20: 変状種類 | P20: うき・はく離
B21: 対策 区分 | C21: 変状区分 | E21: 材質劣化 | M21: 対策 区分 | N21: 変状区分 | P21: 材質劣化
C22: 応急措置前 | E22: - | N22: 応急措置前 | P22: -
C23: 応急措置後 | E23: Ⅱb | N23: 応急措置後 | P23: Ⅱa
B24: 変状の発生範囲及び規模 | E24: W=0.5mm×L=2.9m | H24: 前回変状の発生範囲及び規模 | J24: 材質劣化・ひび割れ W=0.5mm×L=2.9m | M24: 変状の発生範囲及び規模 | P24: 0.5m×0.05m・D=0.02m | S24: 前回変状の発生範囲及び規模 | U24: 新規
B25: 対策履歴 | E25: - | H25: 実施状況（実施日） | J25: - | M25: 対策履歴 | P25: - | S25: 実施状況（実施日） | U25: -
B26: メモ | E26: アーチのひび割れ 経過観察が望まれる | M26: メモ | P26: アーチのうき 浸透性硬化剤塗布済 計画的な対策が望まれる
C27: ※ 応急措置後の対策区分について添付すること。また、点検前に 実施された措置によりⅠと判定された箇所も添付すること。 | N27: ※ 変状の発生範囲の規模とは、対策を行う際に参考となる変状の長さや面積をいう。
N28: ※ 応急措置を実施しないで決定した変状の対策区分は、対策区分の応急措置後の欄に記入すること。
C29: ※ たたき落としを実施した場合は、実施後の写真を添付すること。 | N29: ※ 変状の発生範囲の規模は、面積・寸法を記載すること。(ひび割れ幅のみmmとし、その他をm表記とする)
C30: ※ 附属物の取付状態に関する異常写真は別途、任意の書式でとりまとめること。 | N30: ※ 構造用鋼材以外の異物に伴ううき・はく離については、メモ欄に異物の概要を記入すること。

Sheet 様式D-1-1 P019
B2: ■定期点検記録様式 変状写真台帳【様式D-1-1】 | R2: 施設ID | T2: ='様式A-1'!W2 -> 34.25039,130.91453
B3: フリガナ | E3: フタミトンネル | H3: 路 線 名 | J3: 栗野二見線 | M3: 定期点検実施者 | P3: アジア航測株式会社 | S3: 定期点検年月日 | U3: 45917
B4: 名 称 | E4: 二見トンネル | H4: 管理者名 | J4: 山口県下関土木建築事務所 | P4: 飯田 琢巳
B5: 写真 番号 | C5: 覆工スパン 番号 | E5: 33 | M5: 写真 番号 | N5: 覆工スパン 番号 | P5: 34
C6: 変状番号 | E6: 3 | N6: 変状番号 | P6: 1
B7: 変状 部位 | C7: 対象箇所 | E7: 覆工 | M7: 変状 部位 | N7: 対象箇所 | P7: 覆工
C8: 部位区分 | E8: アーチ（左側） | N8: 部位区分 | P8: アーチ（右側）
B9: 変状種類 | E9: うき・はく離 | M9: 変状種類 | P9: うき・はく離
B10: 対策 区分 | C10: 変状区分 | E10: 材質劣化 | M10: 対策 区分 | N10: 変状区分 | P10: 材質劣化
C11: 応急措置前 | E11: - | N11: 応急措置前 | P11: -
C12: 応急措置後 | E12: Ⅱa | N12: 応急措置後 | P12: Ⅱa
B13: 変状の発生範囲及び規模 | E13: 0.2m×0.05m・D=0.05m | H13: 前回変状の発生範囲及び規模 | J13: うき・はく離 0.1m×0.05m | M13: 変状の発生範囲及び規模 | P13: 0.2m×0.05m | S13: 前回変状の発生範囲及び規模 | U13: うき・はく離 0.2m×0.05m
B14: 対策履歴 | E14: - | H14: 実施状況（実施日） | J14: - | M14: 対策履歴 | P14: - | S14: 実施状況（実施日） | U14: -
B15: メモ | E15: アーチのうき 浸透性硬化剤塗布済 計画的な対策が望まれる | M15: メモ | P15: アーチのうき 浸透性硬化剤塗布済 計画的な対策が望まれる
B16: 写真 番号 | C16: 覆工スパン 番号 | E16: 35 | M16: 写真 番号 | N16: 覆工スパン 番号 | P16: 36
C17: 変状番号 | E17: 1 | N17: 変状番号 | P17: 1
B18: 変状 部位 | C18: 対象箇所 | E18: 覆工 | M18: 変状 部位 | N18: 対象箇所 | P18: 覆工
C19: 部位区分 | E19: アーチ（天端） | N19: 部位区分 | P19: アーチ（左側）
B20: 変状種類 | E20: 圧ざ、ひび割れ | M20: 変状種類 | P20: 圧ざ、ひび割れ
B21: 対策 区分 | C21: 変状区分 | E21: 材質劣化 | M21: 対策 区分 | N21: 変状区分 | P21: 材質劣化
C22: 応急措置前 | E22: - | N22: 応急措置前 | P22: -
C23: 応急措置後 | E23: Ⅱb | N23: 応急措置後 | P23: Ⅱb
B24: 変状の発生範囲及び規模 | E24: W=1.0mm×L=9.1m | H24: 前回変状の発生範囲及び規模 | J24: 材質劣化・ひび割れ W=1.0mm×L=9.5m | M24: 変状の発生範囲及び規模 | P24: W=0.3mm×L=2.6m | S24: 前回変状の発生範囲及び規模 | U24: 材質劣化・ひび割れ W=0.3mm×L=2.6m
B25: 対策履歴 | E25: - | H25: 実施状況（実施日） | J25: - | M25: 対策履歴 | P25: - | S25: 実施状況（実施日） | U25: -
B26: メモ | E26: アーチのひび割れ 経過観察が望まれる | M26: メモ | P26: アーチのひび割れ 経過観察が望まれる
C27: ※ 応急措置後の対策区分について添付すること。また、点検前に 実施された措置によりⅠと判定された箇所も添付すること。 | N27: ※ 変状の発生範囲の規模とは、対策を行う際に参考となる変状の長さや面積をいう。
N28: ※ 応急措置を実施しないで決定した変状の対策区分は、対策区分の応急措置後の欄に記入すること。
C29: ※ たたき落としを実施した場合は、実施後の写真を添付すること。 | N29: ※ 変状の発生範囲の規模は、面積・寸法を記載すること。(ひび割れ幅のみmmとし、その他をm表記とする)
C30: ※ 附属物の取付状態に関する異常写真は別途、任意の書式でとりまとめること。 | N30: ※ 構造用鋼材以外の異物に伴ううき・はく離については、メモ欄に異物の概要を記入すること。

Sheet 様式D-1-1 P020
B2: ■定期点検記録様式 変状写真台帳【様式D-1-1】 | R2: 施設ID | T2: ='様式A-1'!W2 -> 34.25039,130.91453
B3: フリガナ | E3: フタミトンネル | H3: 路 線 名 | J3: 栗野二見線 | M3: 定期点検実施者 | P3: アジア航測株式会社 | S3: 定期点検年月日 | U3: 45917
B4: 名 称 | E4: 二見トンネル | H4: 管理者名 | J4: 山口県下関土木建築事務所 | P4: 飯田 琢巳
B5: 写真 番号 | C5: 覆工スパン 番号 | E5: 37 | M5: 写真 番号 | N5: 覆工スパン 番号 | P5: 38
C6: 変状番号 | E6: 1 | N6: 変状番号 | P6: 1
B7: 変状 部位 | C7: 対象箇所 | E7: 覆工 | M7: 変状 部位 | N7: 対象箇所 | P7: 覆工
C8: 部位区分 | E8: アーチ（天端） | N8: 部位区分 | P8: アーチ（左側）
B9: 変状種類 | E9: 圧ざ、ひび割れ | M9: 変状種類 | P9: うき・はく離
B10: 対策 区分 | C10: 変状区分 | E10: 材質劣化 | M10: 対策 区分 | N10: 変状区分 | P10: 材質劣化
C11: 応急措置前 | E11: - | N11: 応急措置前 | P11: -
C12: 応急措置後 | E12: Ⅱb | N12: 応急措置後 | P12: Ⅱa
B13: 変状の発生範囲及び規模 | E13: W=0.3mm×L=3.3m | H13: 前回変状の発生範囲及び規模 | J13: 材質劣化・ひび割れ W=0.3mm×L=3.8m | M13: 変状の発生範囲及び規模 | P13: 0.4m×0.05m・D=0.1m | S13: 前回変状の発生範囲及び規模 | U13: うき・はく離 0.3m×0.05m
B14: 対策履歴 | E14: - | H14: 実施状況（実施日） | J14: - | M14: 対策履歴 | P14: - | S14: 実施状況（実施日） | U14: -
B15: メモ | E15: アーチのひび割れ 経過観察が望まれる | M15: メモ | P15: アーチのうき 浸透性硬化剤塗布済 計画的な対策が望まれる
B16: 写真 番号 | C16: 覆工スパン 番号 | E16: 38 | M16: 写真 番号 | N16: 覆工スパン 番号 | P16: 39
C17: 変状番号 | E17: 2 | N17: 変状番号 | P17: 1
B18: 変状 部位 | C18: 対象箇所 | E18: 覆工 | M18: 変状 部位 | N18: 対象箇所 | P18: 覆工
C19: 部位区分 | E19: アーチ（天端） | N19: 部位区分 | P19: アーチ（天端）
B20: 変状種類 | E20: 圧ざ、ひび割れ | M20: 変状種類 | P20: 圧ざ、ひび割れ
B21: 対策 区分 | C21: 変状区分 | E21: 材質劣化 | M21: 対策 区分 | N21: 変状区分 | P21: 材質劣化
C22: 応急措置前 | E22: - | N22: 応急措置前 | P22: -
C23: 応急措置後 | E23: Ⅱb | N23: 応急措置後 | P23: Ⅱb
B24: 変状の発生範囲及び規模 | E24: W=1.0mm×L=4.2m | H24: 前回変状の発生範囲及び規模 | J24: 材質劣化・ひび割れ W=1.0mm×L=4.0m | M24: 変状の発生範囲及び規模 | P24: W=0.4mm×L=3.2m | S24: 前回変状の発生範囲及び規模 | U24: 材質劣化・ひび割れ W=0.4mm×L=2.6m
B25: 対策履歴 | E25: - | H25: 実施状況（実施日） | J25: - | M25: 対策履歴 | P25: - | S25: 実施状況（実施日） | U25: -
B26: メモ | E26: アーチのひび割れ 経過観察が望まれる | M26: メモ | P26: アーチのひび割れ 経過観察が望まれる
C27: ※ 応急措置後の対策区分について添付すること。また、点検前に 実施された措置によりⅠと判定された箇所も添付すること。 | N27: ※ 変状の発生範囲の規模とは、対策を行う際に参考となる変状の長さや面積をいう。
N28: ※ 応急措置を実施しないで決定した変状の対策区分は、対策区分の応急措置後の欄に記入すること。
C29: ※ たたき落としを実施した場合は、実施後の写真を添付すること。 | N29: ※ 変状の発生範囲の規模は、面積・寸法を記載すること。(ひび割れ幅のみmmとし、その他をm表記とする)
C30: ※ 附属物の取付状態に関する異常写真は別途、任意の書式でとりまとめること。 | N30: ※ 構造用鋼材以外の異物に伴ううき・はく離については、メモ欄に異物の概要を記入すること。

Sheet 様式D-1-1 P021
B2: ■定期点検記録様式 変状写真台帳【様式D-1-1】 | R2: 施設ID | T2: ='様式A-1'!W2 -> 34.25039,130.91453
B3: フリガナ | E3: フタミトンネル | H3: 路 線 名 | J3: 栗野二見線 | M3: 定期点検実施者 | P3: アジア航測株式会社 | S3: 定期点検年月日 | U3: 45917
B4: 名 称 | E4: 二見トンネル | H4: 管理者名 | J4: 山口県下関土木建築事務所 | P4: 飯田 琢巳
B5: 写真 番号 | C5: 覆工スパン 番号 | E5: 40 | M5: 写真 番号 | N5: 覆工スパン 番号 | P5: 40
C6: 変状番号 | E6: 1 | N6: 変状番号 | P6: 2
B7: 変状 部位 | C7: 対象箇所 | E7: 覆工 | M7: 変状 部位 | N7: 対象箇所 | P7: 覆工
C8: 部位区分 | E8: アーチ（左側） | N8: 部位区分 | P8: アーチ（天端）
B9: 変状種類 | E9: 圧ざ、ひび割れ | M9: 変状種類 | P9: 圧ざ、ひび割れ
B10: 対策 区分 | C10: 変状区分 | E10: 材質劣化 | M10: 対策 区分 | N10: 変状区分 | P10: 材質劣化
C11: 応急措置前 | E11: - | N11: 応急措置前 | P11: -
C12: 応急措置後 | E12: Ⅱb | N12: 応急措置後 | P12: Ⅱb
B13: 変状の発生範囲及び規模 | E13: W=0.4mm×L=3.5m | H13: 前回変状の発生範囲及び規模 | J13: 材質劣化・ひび割れ W=0.4mm×L=3.5m | M13: 変状の発生範囲及び規模 | P13: W=0.6mm×L=5.5m | S13: 前回変状の発生範囲及び規模 | U13: 材質劣化・ひび割れ W=0.6mm×L=5.6m
B14: 対策履歴 | E14: - | H14: 実施状況（実施日） | J14: - | M14: 対策履歴 | P14: - | S14: 実施状況（実施日） | U14: -
B15: メモ | E15: アーチのひび割れ 経過観察が望まれる | M15: メモ | P15: アーチのひび割れ 経過観察が望まれる
B16: 写真 番号 | C16: 覆工スパン 番号 | E16: 40 | M16: 写真 番号 | N16: 覆工スパン 番号 | P16: 40
C17: 変状番号 | E17: 3 | N17: 変状番号 | P17: 4
B18: 変状 部位 | C18: 対象箇所 | E18: 覆工 | M18: 変状 部位 | N18: 対象箇所 | P18: 覆工
C19: 部位区分 | E19: アーチ（右側） | N19: 部位区分 | P19: アーチ（右側）
B20: 変状種類 | E20: うき・はく離 | M20: 変状種類 | P20: 圧ざ、ひび割れ
B21: 対策 区分 | C21: 変状区分 | E21: 材質劣化 | M21: 対策 区分 | N21: 変状区分 | P21: 材質劣化
C22: 応急措置前 | E22: - | N22: 応急措置前 | P22: -
C23: 応急措置後 | E23: Ⅱa | N23: 応急措置後 | P23: Ⅱb
B24: 変状の発生範囲及び規模 | E24: 0.1m×0.05m・D=0.05m | H24: 前回変状の発生範囲及び規模 | J24: うき・はく離 0.1m×0.05m | M24: 変状の発生範囲及び規模 | P24: W=0.3mm×L=2.7m | S24: 前回変状の発生範囲及び規模 | U24: 材質劣化・ひび割れ W=0.3mm×L=2.8m
B25: 対策履歴 | E25: - | H25: 実施状況（実施日） | J25: - | M25: 対策履歴 | P25: - | S25: 実施状況（実施日） | U25: -
B26: メモ | E26: アーチのうき 浸透性硬化剤塗布済 計画的な対策が望まれる | M26: メモ | P26: アーチのひび割れ 経過観察が望まれる
C27: ※ 応急措置後の対策区分について添付すること。また、点検前に 実施された措置によりⅠと判定された箇所も添付すること。 | N27: ※ 変状の発生範囲の規模とは、対策を行う際に参考となる変状の長さや面積をいう。
N28: ※ 応急措置を実施しないで決定した変状の対策区分は、対策区分の応急措置後の欄に記入すること。
C29: ※ たたき落としを実施した場合は、実施後の写真を添付すること。 | N29: ※ 変状の発生範囲の規模は、面積・寸法を記載すること。(ひび割れ幅のみmmとし、その他をm表記とする)
C30: ※ 附属物の取付状態に関する異常写真は別途、任意の書式でとりまとめること。 | N30: ※ 構造用鋼材以外の異物に伴ううき・はく離については、メモ欄に異物の概要を記入すること。

Sheet 様式D-1-1 P022
B2: ■定期点検記録様式 変状写真台帳【様式D-1-1】 | R2: 施設ID | T2: ='様式A-1'!W2 -> 34.25039,130.91453
B3: フリガナ | E3: フタミトンネル | H3: 路 線 名 | J3: 栗野二見線 | M3: 定期点検実施者 | P3: アジア航測株式会社 | S3: 定期点検年月日 | U3: 45917
B4: 名 称 | E4: 二見トンネル | H4: 管理者名 | J4: 山口県下関土木建築事務所 | P4: 飯田 琢巳
B5: 写真 番号 | C5: 覆工スパン 番号 | E5: 41 | M5: 写真 番号 | N5: 覆工スパン 番号 | P5: 41
C6: 変状番号 | E6: 1 | N6: 変状番号 | P6: 2
B7: 変状 部位 | C7: 対象箇所 | E7: 覆工 | M7: 変状 部位 | N7: 対象箇所 | P7: 覆工
C8: 部位区分 | E8: アーチ（左側） | N8: 部位区分 | P8: アーチ（天端）
B9: 変状種類 | E9: うき・はく離 | M9: 変状種類 | P9: 圧ざ、ひび割れ
B10: 対策 区分 | C10: 変状区分 | E10: 材質劣化 | M10: 対策 区分 | N10: 変状区分 | P10: 材質劣化
C11: 応急措置前 | E11: - | N11: 応急措置前 | P11: -
C12: 応急措置後 | E12: Ⅱa | N12: 応急措置後 | P12: Ⅱb
B13: 変状の発生範囲及び規模 | E13: 0.3m×0.05m | H13: 前回変状の発生範囲及び規模 | J13: うき・はく離 0.3m×0.05m | M13: 変状の発生範囲及び規模 | P13: W=1.0mm×L=10.1m | S13: 前回変状の発生範囲及び規模 | U13: 材質劣化・ひび割れ W=1.0mm×L=10.4m
B14: 対策履歴 | E14: - | H14: 実施状況（実施日） | J14: - | M14: 対策履歴 | P14: - | S14: 実施状況（実施日） | U14: -
B15: メモ | E15: アーチのうき 浸透性硬化剤塗布済 計画的な対策が望まれる | M15: メモ | P15: アーチのひび割れ 経過観察が望まれる
B16: 写真 番号 | C16: 覆工スパン 番号 | E16: 43 | M16: 写真 番号 | N16: 覆工スパン 番号 | P16: 43
C17: 変状番号 | E17: 1 | N17: 変状番号 | P17: 2
B18: 変状 部位 | C18: 対象箇所 | E18: 覆工 | M18: 変状 部位 | N18: 対象箇所 | P18: 覆工
C19: 部位区分 | E19: アーチ（左側） | N19: 部位区分 | P19: アーチ（右側）
B20: 変状種類 | E20: 圧ざ、ひび割れ | M20: 変状種類 | P20: 圧ざ、ひび割れ
B21: 対策 区分 | C21: 変状区分 | E21: 材質劣化 | M21: 対策 区分 | N21: 変状区分 | P21: 材質劣化
C22: 応急措置前 | E22: - | N22: 応急措置前 | P22: -
C23: 応急措置後 | E23: Ⅱb | N23: 応急措置後 | P23: Ⅱb
B24: 変状の発生範囲及び規模 | E24: W=0.3mm×L=2.3m | H24: 前回変状の発生範囲及び規模 | J24: 材質劣化・ひび割れ W=0.3mm×L=2.3m | M24: 変状の発生範囲及び規模 | P24: W=0.4mm×L=3.0m | S24: 前回変状の発生範囲及び規模 | U24: 材質劣化・ひび割れ W=0.4mm×L=3.4m
B25: 対策履歴 | E25: - | H25: 実施状況（実施日） | J25: - | M25: 対策履歴 | P25: - | S25: 実施状況（実施日） | U25: -
B26: メモ | E26: アーチのひび割れ 経過観察が望まれる | M26: メモ | P26: アーチのひび割れ 経過観察が望まれる
C27: ※ 応急措置後の対策区分について添付すること。また、点検前に 実施された措置によりⅠと判定された箇所も添付すること。 | N27: ※ 変状の発生範囲の規模とは、対策を行う際に参考となる変状の長さや面積をいう。
N28: ※ 応急措置を実施しないで決定した変状の対策区分は、対策区分の応急措置後の欄に記入すること。
C29: ※ たたき落としを実施した場合は、実施後の写真を添付すること。 | N29: ※ 変状の発生範囲の規模は、面積・寸法を記載すること。(ひび割れ幅のみmmとし、その他をm表記とする)
C30: ※ 附属物の取付状態に関する異常写真は別途、任意の書式でとりまとめること。 | N30: ※ 構造用鋼材以外の異物に伴ううき・はく離については、メモ欄に異物の概要を記入すること。

Sheet 様式D-1-1 P023
B2: ■定期点検記録様式 変状写真台帳【様式D-1-1】 | R2: 施設ID | T2: ='様式A-1'!W2 -> 34.25039,130.91453
B3: フリガナ | E3: フタミトンネル | H3: 路 線 名 | J3: 栗野二見線 | M3: 定期点検実施者 | P3: アジア航測株式会社 | S3: 定期点検年月日 | U3: 45917
B4: 名 称 | E4: 二見トンネル | H4: 管理者名 | J4: 山口県下関土木建築事務所 | P4: 飯田 琢巳
B5: 写真 番号 | C5: 覆工スパン 番号 | E5: 44 | M5: 写真 番号 | N5: 覆工スパン 番号 | P5: 44
C6: 変状番号 | E6: 1 | N6: 変状番号 | P6: 2
B7: 変状 部位 | C7: 対象箇所 | E7: 覆工 | M7: 変状 部位 | N7: 対象箇所 | P7: 覆工
C8: 部位区分 | E8: アーチ（左側） | N8: 部位区分 | P8: アーチ（右側）
B9: 変状種類 | E9: 圧ざ、ひび割れ | M9: 変状種類 | P9: 圧ざ、ひび割れ
B10: 対策 区分 | C10: 変状区分 | E10: 材質劣化 | M10: 対策 区分 | N10: 変状区分 | P10: 材質劣化
C11: 応急措置前 | E11: - | N11: 応急措置前 | P11: -
C12: 応急措置後 | E12: Ⅱb | N12: 応急措置後 | P12: Ⅱb
B13: 変状の発生範囲及び規模 | E13: W=0.4mm×L=1.7m | H13: 前回変状の発生範囲及び規模 | J13: 材質劣化・ひび割れ W=0.4mm×L=2.1m | M13: 変状の発生範囲及び規模 | P13: W=0.5mm×L=2.8m | S13: 前回変状の発生範囲及び規模 | U13: 材質劣化・ひび割れ W=0.5mm×L=2.8m
B14: 対策履歴 | E14: - | H14: 実施状況（実施日） | J14: - | M14: 対策履歴 | P14: - | S14: 実施状況（実施日） | U14: -
B15: メモ | E15: アーチのひび割れ 経過観察が望まれる | M15: メモ | P15: アーチのひび割れ 経過観察が望まれる
B16: 写真 番号 | C16: 覆工スパン 番号 | E16: 44 | M16: 写真 番号 | N16: 覆工スパン 番号 | P16: 45
C17: 変状番号 | E17: 3 | N17: 変状番号 | P17: 1
B18: 変状 部位 | C18: 対象箇所 | E18: 覆工 | M18: 変状 部位 | N18: 対象箇所 | P18: 覆工
C19: 部位区分 | E19: アーチ（左側） | N19: 部位区分 | P19: アーチ（左側）
B20: 変状種類 | E20: うき・はく離 | M20: 変状種類 | P20: 圧ざ、ひび割れ
B21: 対策 区分 | C21: 変状区分 | E21: 材質劣化 | M21: 対策 区分 | N21: 変状区分 | P21: 材質劣化
C22: 応急措置前 | E22: - | N22: 応急措置前 | P22: -
C23: 応急措置後 | E23: Ⅱa | N23: 応急措置後 | P23: Ⅱb
B24: 変状の発生範囲及び規模 | E24: 0.4m×0.1m・D=0.18m | H24: 前回変状の発生範囲及び規模 | J24: 新規 | M24: 変状の発生範囲及び規模 | P24: W=0.55mm×L=3.6m | S24: 前回変状の発生範囲及び規模 | U24: 材質劣化・ひび割れ W=0.55mm×L=3.6m
B25: 対策履歴 | E25: - | H25: 実施状況（実施日） | J25: - | M25: 対策履歴 | P25: - | S25: 実施状況（実施日） | U25: -
B26: メモ | E26: アーチのうき(鋼材腐食を含む) 浸透性硬化剤、防錆剤塗布済 計画的な対策が望まれる | M26: メモ | P26: アーチのひび割れ 経過観察が望まれる
C27: ※ 応急措置後の対策区分について添付すること。また、点検前に 実施された措置によりⅠと判定された箇所も添付すること。 | N27: ※ 変状の発生範囲の規模とは、対策を行う際に参考となる変状の長さや面積をいう。
N28: ※ 応急措置を実施しないで決定した変状の対策区分は、対策区分の応急措置後の欄に記入すること。
C29: ※ たたき落としを実施した場合は、実施後の写真を添付すること。 | N29: ※ 変状の発生範囲の規模は、面積・寸法を記載すること。(ひび割れ幅のみmmとし、その他をm表記とする)
C30: ※ 附属物の取付状態に関する異常写真は別途、任意の書式でとりまとめること。 | N30: ※ 構造用鋼材以外の異物に伴ううき・はく離については、メモ欄に異物の概要を記入すること。

Sheet 様式D-1-1 P024
B2: ■定期点検記録様式 変状写真台帳【様式D-1-1】 | R2: 施設ID | T2: ='様式A-1'!W2 -> 34.25039,130.91453
B3: フリガナ | E3: フタミトンネル | H3: 路 線 名 | J3: 栗野二見線 | M3: 定期点検実施者 | P3: アジア航測株式会社 | S3: 定期点検年月日 | U3: 45917
B4: 名 称 | E4: 二見トンネル | H4: 管理者名 | J4: 山口県下関土木建築事務所 | P4: 飯田 琢巳
B5: 写真 番号 | C5: 覆工スパン 番号 | E5: 45 | M5: 写真 番号 | N5: 覆工スパン 番号 | P5: 45
C6: 変状番号 | E6: 2 | N6: 変状番号 | P6: 3
B7: 変状 部位 | C7: 対象箇所 | E7: 覆工 | M7: 変状 部位 | N7: 対象箇所 | P7: 覆工
C8: 部位区分 | E8: アーチ（左側） | N8: 部位区分 | P8: アーチ（右側）
B9: 変状種類 | E9: 圧ざ、ひび割れ | M9: 変状種類 | P9: 圧ざ、ひび割れ
B10: 対策 区分 | C10: 変状区分 | E10: 材質劣化 | M10: 対策 区分 | N10: 変状区分 | P10: 材質劣化
C11: 応急措置前 | E11: - | N11: 応急措置前 | P11: -
C12: 応急措置後 | E12: Ⅱb | N12: 応急措置後 | P12: Ⅱb
B13: 変状の発生範囲及び規模 | E13: W=0.3mm×L=5.9m | H13: 前回変状の発生範囲及び規模 | J13: 材質劣化・ひび割れ W=0.3mm×L=6.3m | M13: 変状の発生範囲及び規模 | P13: W=0.8mm×L=3.6m | S13: 前回変状の発生範囲及び規模 | U13: 材質劣化・ひび割れ W=0.8mm×L=4.0m
B14: 対策履歴 | E14: - | H14: 実施状況（実施日） | J14: - | M14: 対策履歴 | P14: - | S14: 実施状況（実施日） | U14: -
B15: メモ | E15: アーチのひび割れ 経過観察が望まれる | M15: メモ | P15: アーチのひび割れ 経過観察が望まれる
B16: 写真 番号 | C16: 覆工スパン 番号 | E16: 46 | M16: 写真 番号 | N16: 覆工スパン 番号 | P16: 46
C17: 変状番号 | E17: 1 | N17: 変状番号 | P17: 2
B18: 変状 部位 | C18: 対象箇所 | E18: 覆工 | M18: 変状 部位 | N18: 対象箇所 | P18: 覆工
C19: 部位区分 | E19: アーチ（右側） | N19: 部位区分 | P19: アーチ（右側）
B20: 変状種類 | E20: 鋼材腐食 | M20: 変状種類 | P20: 圧ざ、ひび割れ
B21: 対策 区分 | C21: 変状区分 | E21: 材質劣化 | M21: 対策 区分 | N21: 変状区分 | P21: 材質劣化
C22: 応急措置前 | E22: - | N22: 応急措置前 | P22: -
C23: 応急措置後 | E23: Ⅱb | N23: 応急措置後 | P23: Ⅱb
B24: 変状の発生範囲及び規模 | E24: 0.05m×0.1m | H24: 前回変状の発生範囲及び規模 | J24: 鋼材腐食 0.05m×0.1m | M24: 変状の発生範囲及び規模 | P24: W=0.5mm×L=1.7m | S24: 前回変状の発生範囲及び規模 | U24: 材質劣化・ひび割れ W=0.5mm×L=1.8m
B25: 対策履歴 | E25: - | H25: 実施状況（実施日） | J25: - | M25: 対策履歴 | P25: - | S25: 実施状況（実施日） | U25: -
B26: メモ | E26: アーチの鋼材腐食 防錆剤塗布済 経過観察が望まれる | M26: メモ | P26: アーチのひび割れ 経過観察が望まれる
C27: ※ 応急措置後の対策区分について添付すること。また、点検前に 実施された措置によりⅠと判定された箇所も添付すること。 | N27: ※ 変状の発生範囲の規模とは、対策を行う際に参考となる変状の長さや面積をいう。
N28: ※ 応急措置を実施しないで決定した変状の対策区分は、対策区分の応急措置後の欄に記入すること。
C29: ※ たたき落としを実施した場合は、実施後の写真を添付すること。 | N29: ※ 変状の発生範囲の規模は、面積・寸法を記載すること。(ひび割れ幅のみmmとし、その他をm表記とする)
C30: ※ 附属物の取付状態に関する異常写真は別途、任意の書式でとりまとめること。 | N30: ※ 構造用鋼材以外の異物に伴ううき・はく離については、メモ欄に異物の概要を記入すること。

Sheet 様式D-1-1 P025
B2: ■定期点検記録様式 変状写真台帳【様式D-1-1】 | R2: 施設ID | T2: ='様式A-1'!W2 -> 34.25039,130.91453
B3: フリガナ | E3: フタミトンネル | H3: 路 線 名 | J3: 栗野二見線 | M3: 定期点検実施者 | P3: アジア航測株式会社 | S3: 定期点検年月日 | U3: 45917
B4: 名 称 | E4: 二見トンネル | H4: 管理者名 | J4: 山口県下関土木建築事務所 | P4: 飯田 琢巳
B5: 写真 番号 | C5: 覆工スパン 番号 | E5: PE | M5: 写真 番号 | N5: 覆工スパン 番号 | P5: PE
C6: 変状番号 | E6: 1 | N6: 変状番号 | P6: 2
B7: 変状 部位 | C7: 対象箇所 | E7: 覆工 | M7: 変状 部位 | N7: 対象箇所 | P7: 覆工
C8: 部位区分 | E8: 面壁・妻壁等 | N8: 部位区分 | P8: 面壁・妻壁等
B9: 変状種類 | E9: 圧ざ、ひび割れ | M9: 変状種類 | P9: 圧ざ、ひび割れ
B10: 対策 区分 | C10: 変状区分 | E10: 材質劣化 | M10: 対策 区分 | N10: 変状区分 | P10: 材質劣化
C11: 応急措置前 | E11: - | N11: 応急措置前 | P11: -
C12: 応急措置後 | E12: Ⅱb | N12: 応急措置後 | P12: Ⅱb
B13: 変状の発生範囲及び規模 | E13: W=0.3mm×L=2.3m | H13: 前回変状の発生範囲及び規模 | J13: 材質劣化・ひび割れ W=0.5mm×L=1.3m | M13: 変状の発生範囲及び規模 | P13: W=0.3mm×L=0.9m | S13: 前回変状の発生範囲及び規模 | U13: 材質劣化・ひび割れ W=0.3mm×L=0.9m
B14: 対策履歴 | E14: - | H14: 実施状況（実施日） | J14: - | M14: 対策履歴 | P14: - | S14: 実施状況（実施日） | U14: -
B15: メモ | E15: 面壁のひび割れ 経過観察が望まれる | M15: メモ | P15: 面壁のひび割れ 経過観察が望まれる
B16: 写真 番号 | C16: 覆工スパン 番号 | E16: PE | M16: 写真 番号 | N16: 覆工スパン 番号
C17: 変状番号 | E17: 3 | N17: 変状番号
B18: 変状 部位 | C18: 対象箇所 | E18: 覆工 | M18: 変状 部位 | N18: 対象箇所
C19: 部位区分 | E19: 面壁・妻壁等 | N19: 部位区分
B20: 変状種類 | E20: 圧ざ、ひび割れ | M20: 変状種類
B21: 対策 区分 | C21: 変状区分 | E21: 材質劣化 | M21: 対策 区分 | N21: 変状区分
C22: 応急措置前 | E22: - | N22: 応急措置前
C23: 応急措置後 | E23: Ⅱb | N23: 応急措置後
B24: 変状の発生範囲及び規模 | E24: W=0.5mm×L=1.6m | H24: 前回変状の発生範囲及び規模 | J24: 材質劣化・ひび割れ W=0.5mm×L=1.6m | M24: 変状の発生範囲及び規模 | S24: 前回変状の発生範囲及び規模
B25: 対策履歴 | E25: - | H25: 実施状況（実施日） | J25: - | M25: 対策履歴 | S25: 実施状況（実施日）
B26: メモ | E26: 面壁のひび割れ 経過観察が望まれる | M26: メモ
C27: ※ 応急措置後の対策区分について添付すること。また、点検前に 実施された措置によりⅠと判定された箇所も添付すること。 | N27: ※ 変状の発生範囲の規模とは、対策を行う際に参考となる変状の長さや面積をいう。
N28: ※ 応急措置を実施しないで決定した変状の対策区分は、対策区分の応急措置後の欄に記入すること。
C29: ※ たたき落としを実施した場合は、実施後の写真を添付すること。 | N29: ※ 変状の発生範囲の規模は、面積・寸法を記載すること。(ひび割れ幅のみmmとし、その他をm表記とする)
C30: ※ 附属物の取付状態に関する異常写真は別途、任意の書式でとりまとめること。 | N30: ※ 構造用鋼材以外の異物に伴ううき・はく離については、メモ欄に異物の概要を記入すること。

Sheet 様式D-1-2 P001
B2: ■定期点検記録様式 異常写真台帳（トンネル内附属物等の取付状態） 【様式D-1-2】
B3: フリガナ | E3: フタミトンネル | I3: 路 線 名 | L3: 栗野二見線 | O3: 定期点検実施者 | R3: アジア航測株式会社 | U3: 定期点検年月日 | W3: 45917
B4: 名 称 | E4: 二見トンネル | I4: 管理者名 | L4: 山口県下関土木建築事務所 | R4: 飯田 琢巳
B5: 覆工スパン番号 | E5: 2 | F5: 異常番号 | I5: 101 | J5: 覆工スパン番号 | M5: 2 | N5: 異常番号 | Q5: 102 | R5: 覆工スパン番号 | U5: 2 | V5: 異常番号 | Y5: 103
B6: 対象箇所 | D6: その他施設 | E6: 通話型通報設備 | J6: 対象箇所 | L6: 照明施設 | M6: 灯具 | R6: 対象箇所 | T6: 照明施設 | U6: 灯具
B7: 部位区分 | D7: 附属物本体 | F7: 異常の種類 | H7: - | J7: 部位区分 | L7: 附属物本体 | N7: 異常の種類 | P7: - | R7: 部位区分 | T7: 附属物本体 | V7: 異常の種類 | X7: -
B8: 異常判定区分 | D8: ○ | E8: メモ | F8: 非常電話更新済み | J8: 異常判定区分 | L8: ○ | M8: メモ | N8: 照明(L-01)更新済み | R8: 異常判定区分 | T8: ○ | U8: メモ | V8: 照明(L-02)更新済み
B22: 覆工スパン番号 | E22: 2 | F22: 異常番号 | I22: 104 | J22: 覆工スパン番号 | M22: 3 | N22: 異常番号 | Q22: 101 | R22: 覆工スパン番号 | U22: 3 | V22: 異常番号 | Y22: 102
B23: 対象箇所 | D23: 照明施設 | E23: 灯具 | J23: 対象箇所 | L23: 照明施設 | M23: 灯具 | R23: 対象箇所 | T23: 照明施設 | U23: 灯具
B24: 部位区分 | D24: 附属物本体 | F24: 異常の種類 | H24: - | J24: 部位区分 | L24: 附属物本体 | N24: 異常の種類 | P24: - | R24: 部位区分 | T24: 附属物本体 | V24: 異常の種類 | X24: -
B25: 異常判定区分 | D25: ○ | E25: メモ | F25: 照明(R-01)更新済み | J25: 異常判定区分 | L25: ○ | M25: メモ | N25: 照明(L-03)更新済み | R25: 異常判定区分 | T25: ○ | U25: メモ | V25: 照明(R-02)更新済み
C39: ※ 異常判定区分×について記入すること。また、応急措置前に異常判定区分×とした箇所のうち応急措置により○と判定した箇所も記入すること。
C40: ※ 応急措置を実施した場合は、その実施状況が分かる写真を添付すること。
C41: ※ 変状数に準じてシートを追加すること。

Sheet 様式D-1-2 P002
B2: ■定期点検記録様式 異常写真台帳（トンネル内附属物等の取付状態） 【様式D-1-2】
B3: フリガナ | E3: フタミトンネル | I3: 路 線 名 | L3: 栗野二見線 | O3: 定期点検実施者 | R3: アジア航測株式会社 | U3: 定期点検年月日 | W3: 45917
B4: 名 称 | E4: 二見トンネル | I4: 管理者名 | L4: 山口県下関土木建築事務所 | R4: 飯田 琢巳
B5: 覆工スパン番号 | E5: 4 | F5: 異常番号 | I5: 101 | J5: 覆工スパン番号 | M5: 5 | N5: 異常番号 | Q5: 101 | R5: 覆工スパン番号 | U5: 5 | V5: 異常番号 | Y5: 102
B6: 対象箇所 | D6: 照明施設 | E6: 灯具 | J6: 対象箇所 | L6: 照明施設 | M6: 灯具 | R6: 対象箇所 | T6: 照明施設 | U6: 灯具
B7: 部位区分 | D7: 附属物本体 | F7: 異常の種類 | H7: - | J7: 部位区分 | L7: 附属物本体 | N7: 異常の種類 | P7: - | R7: 部位区分 | T7: 附属物本体 | V7: 異常の種類 | X7: -
B8: 異常判定区分 | D8: ○ | E8: メモ | F8: 照明(R-03)更新済み | J8: 異常判定区分 | L8: ○ | M8: メモ | N8: 照明(L-04)更新済み | R8: 異常判定区分 | T8: ○ | U8: メモ | V8: 照明(R-04)更新済み
B22: 覆工スパン番号 | E22: 5 | F22: 異常番号 | I22: 103 | J22: 覆工スパン番号 | M22: 5 | N22: 異常番号 | Q22: 104 | R22: 覆工スパン番号 | U22: 6 | V22: 異常番号 | Y22: 101
B23: 対象箇所 | D23: その他施設 | E23: その他 | J23: 対象箇所 | L23: その他施設 | M23: その他 | R23: 対象箇所 | T23: 照明施設 | U23: 灯具
B24: 部位区分 | D24: 取付部材 | F24: 異常の種類 | H24: 腐食 | J24: 部位区分 | L24: 取付部材 | N24: 異常の種類 | P24: 腐食 | R24: 部位区分 | T24: 附属物本体 | V24: 異常の種類 | X24: -
B25: 異常判定区分 | D25: × | E25: メモ | F25: ﾃﾞﾘﾈｰﾀｰ取付部腐食 | J25: 異常判定区分 | L25: × | M25: メモ | N25: ﾃﾞﾘﾈｰﾀｰ取付部腐食 反射部更新済 | R25: 異常判定区分 | T25: ○ | U25: メモ | V25: 照明(L-05)更新済み
C39: ※ 異常判定区分×について記入すること。また、応急措置前に異常判定区分×とした箇所のうち応急措置により○と判定した箇所も記入すること。
C40: ※ 応急措置を実施した場合は、その実施状況が分かる写真を添付すること。
C41: ※ 変状数に準じてシートを追加すること。

Sheet 様式D-1-2 P003
B2: ■定期点検記録様式 異常写真台帳（トンネル内附属物等の取付状態） 【様式D-1-2】
B3: フリガナ | E3: フタミトンネル | I3: 路 線 名 | L3: 栗野二見線 | O3: 定期点検実施者 | R3: アジア航測株式会社 | U3: 定期点検年月日 | W3: 45917
B4: 名 称 | E4: 二見トンネル | I4: 管理者名 | L4: 山口県下関土木建築事務所 | R4: 飯田 琢巳
B5: 覆工スパン番号 | E5: 6 | F5: 異常番号 | I5: 102 | J5: 覆工スパン番号 | M5: 6 | N5: 異常番号 | Q5: 103 | R5: 覆工スパン番号 | U5: 7 | V5: 異常番号 | Y5: 101
B6: 対象箇所 | D6: 照明施設 | E6: 灯具 | J6: 対象箇所 | L6: 照明施設 | M6: 灯具 | R6: 対象箇所 | T6: 照明施設 | U6: 灯具
B7: 部位区分 | D7: 附属物本体 | F7: 異常の種類 | H7: - | J7: 部位区分 | L7: 附属物本体 | N7: 異常の種類 | P7: - | R7: 部位区分 | T7: 附属物本体 | V7: 異常の種類 | X7: -
B8: 異常判定区分 | D8: ○ | E8: メモ | F8: 照明(L-06)更新済み | J8: 異常判定区分 | L8: ○ | M8: メモ | N8: 照明(R-05)更新済み | R8: 異常判定区分 | T8: ○ | U8: メモ | V8: 照明(L-07)更新済み
B22: 覆工スパン番号 | E22: 7 | F22: 異常番号 | I22: 102 | J22: 覆工スパン番号 | M22: 8 | N22: 異常番号 | Q22: 101 | R22: 覆工スパン番号 | U22: 8 | V22: 異常番号 | Y22: 102
B23: 対象箇所 | D23: 照明施設 | E23: 灯具 | J23: 対象箇所 | L23: 照明施設 | M23: 灯具 | R23: 対象箇所 | T23: 照明施設 | U23: 灯具
B24: 部位区分 | D24: 附属物本体 | F24: 異常の種類 | H24: - | J24: 部位区分 | L24: 附属物本体 | N24: 異常の種類 | P24: - | R24: 部位区分 | T24: 附属物本体 | V24: 異常の種類 | X24: -
B25: 異常判定区分 | D25: ○ | E25: メモ | F25: 照明(R-06)更新済み | J25: 異常判定区分 | L25: ○ | M25: メモ | N25: 照明(L-08)更新済み | R25: 異常判定区分 | T25: ○ | U25: メモ | V25: 照明(R-07)更新済み
C39: ※ 異常判定区分×について記入すること。また、応急措置前に異常判定区分×とした箇所のうち応急措置により○と判定した箇所も記入すること。
C40: ※ 応急措置を実施した場合は、その実施状況が分かる写真を添付すること。
C41: ※ 変状数に準じてシートを追加すること。

Sheet 様式D-1-2 P004
B2: ■定期点検記録様式 異常写真台帳（トンネル内附属物等の取付状態） 【様式D-1-2】
B3: フリガナ | E3: フタミトンネル | I3: 路 線 名 | L3: 栗野二見線 | O3: 定期点検実施者 | R3: アジア航測株式会社 | U3: 定期点検年月日 | W3: 45917
B4: 名 称 | E4: 二見トンネル | I4: 管理者名 | L4: 山口県下関土木建築事務所 | R4: 飯田 琢巳
B5: 覆工スパン番号 | E5: 8 | F5: 異常番号 | I5: 103 | J5: 覆工スパン番号 | M5: 8 | N5: 異常番号 | Q5: 104 | R5: 覆工スパン番号 | U5: 9 | V5: 異常番号 | Y5: 101
B6: 対象箇所 | D6: その他施設 | E6: その他 | J6: 対象箇所 | L6: その他施設 | M6: その他 | R6: 対象箇所 | T6: 照明施設 | U6: 灯具
B7: 部位区分 | D7: 取付部材 | F7: 異常の種類 | H7: 腐食 | J7: 部位区分 | L7: 取付部材 | N7: 異常の種類 | P7: 腐食 | R7: 部位区分 | T7: 附属物本体 | V7: 異常の種類 | X7: -
B8: 異常判定区分 | D8: × | E8: メモ | F8: ﾃﾞﾘﾈｰﾀｰ取付部腐食 | J8: 異常判定区分 | L8: × | M8: メモ | N8: ﾃﾞﾘﾈｰﾀｰ取付部腐食 | R8: 異常判定区分 | T8: ○ | U8: メモ | V8: 照明(L-09)更新済み
B22: 覆工スパン番号 | E22: 9 | F22: 異常番号 | I22: 102 | J22: 覆工スパン番号 | M22: 9 | N22: 異常番号 | Q22: 103 | R22: 覆工スパン番号 | U22: 10 | V22: 異常番号 | Y22: 101
B23: 対象箇所 | D23: 照明施設 | E23: 灯具 | J23: 対象箇所 | L23: 照明施設 | M23: 灯具 | R23: 対象箇所 | T23: 照明施設 | U23: 灯具
B24: 部位区分 | D24: 附属物本体 | F24: 異常の種類 | H24: - | J24: 部位区分 | L24: 附属物本体 | N24: 異常の種類 | P24: - | R24: 部位区分 | T24: 附属物本体 | V24: 異常の種類 | X24: -
B25: 異常判定区分 | D25: ○ | E25: メモ | F25: 照明(R-08)更新済み | J25: 異常判定区分 | L25: ○ | M25: メモ | N25: 照明(R-09)更新済み | R25: 異常判定区分 | T25: ○ | U25: メモ | V25: 照明(L-10)更新済み
C39: ※ 異常判定区分×について記入すること。また、応急措置前に異常判定区分×とした箇所のうち応急措置により○と判定した箇所も記入すること。
C40: ※ 応急措置を実施した場合は、その実施状況が分かる写真を添付すること。
C41: ※ 変状数に準じてシートを追加すること。

Sheet 様式D-1-2 P005
B2: ■定期点検記録様式 異常写真台帳（トンネル内附属物等の取付状態） 【様式D-1-2】
B3: フリガナ | E3: フタミトンネル | I3: 路 線 名 | L3: 栗野二見線 | O3: 定期点検実施者 | R3: アジア航測株式会社 | U3: 定期点検年月日 | W3: 45917
B4: 名 称 | E4: 二見トンネル | I4: 管理者名 | L4: 山口県下関土木建築事務所 | R4: 飯田 琢巳
B5: 覆工スパン番号 | E5: 10 | F5: 異常番号 | I5: 102 | J5: 覆工スパン番号 | M5: 11 | N5: 異常番号 | Q5: 101 | R5: 覆工スパン番号 | U5: 11 | V5: 異常番号 | Y5: 102
B6: 対象箇所 | D6: 照明施設 | E6: 灯具 | J6: 対象箇所 | L6: 照明施設 | M6: 灯具 | R6: 対象箇所 | T6: 照明施設 | U6: 灯具
B7: 部位区分 | D7: 附属物本体 | F7: 異常の種類 | H7: - | J7: 部位区分 | L7: 附属物本体 | N7: 異常の種類 | P7: - | R7: 部位区分 | T7: 附属物本体 | V7: 異常の種類 | X7: -
B8: 異常判定区分 | D8: ○ | E8: メモ | F8: 照明(R-10)更新済み | J8: 異常判定区分 | L8: ○ | M8: メモ | N8: 照明(L-11)更新済み | R8: 異常判定区分 | T8: ○ | U8: メモ | V8: 照明(L-12)更新済み
B22: 覆工スパン番号 | E22: 11 | F22: 異常番号 | I22: 103 | J22: 覆工スパン番号 | M22: 11 | N22: 異常番号 | Q22: 104 | R22: 覆工スパン番号 | U22: 11 | V22: 異常番号 | Y22: 105
B23: 対象箇所 | D23: 照明施設 | E23: 灯具 | J23: 対象箇所 | L23: その他施設 | M23: その他 | R23: 対象箇所 | T23: その他施設 | U23: その他
B24: 部位区分 | D24: 附属物本体 | F24: 異常の種類 | H24: - | J24: 部位区分 | L24: 取付部材 | N24: 異常の種類 | P24: 腐食 | R24: 部位区分 | T24: 取付部材 | V24: 異常の種類 | X24: 腐食
B25: 異常判定区分 | D25: ○ | E25: メモ | F25: 照明(R-11)更新済み | J25: 異常判定区分 | L25: × | M25: メモ | N25: ﾃﾞﾘﾈｰﾀｰ取付部腐食 | R25: 異常判定区分 | T25: × | U25: メモ | V25: ﾃﾞﾘﾈｰﾀｰ取付部腐食 反射部更新済
C39: ※ 異常判定区分×について記入すること。また、応急措置前に異常判定区分×とした箇所のうち応急措置により○と判定した箇所も記入すること。
C40: ※ 応急措置を実施した場合は、その実施状況が分かる写真を添付すること。
C41: ※ 変状数に準じてシートを追加すること。

Sheet 様式D-1-2 P006
B2: ■定期点検記録様式 異常写真台帳（トンネル内附属物等の取付状態） 【様式D-1-2】
B3: フリガナ | E3: フタミトンネル | I3: 路 線 名 | L3: 栗野二見線 | O3: 定期点検実施者 | R3: アジア航測株式会社 | U3: 定期点検年月日 | W3: 45917
B4: 名 称 | E4: 二見トンネル | I4: 管理者名 | L4: 山口県下関土木建築事務所 | R4: 飯田 琢巳
B5: 覆工スパン番号 | E5: 12 | F5: 異常番号 | I5: 101 | J5: 覆工スパン番号 | M5: 13 | N5: 異常番号 | Q5: 101 | R5: 覆工スパン番号 | U5: 13 | V5: 異常番号 | Y5: 102
B6: 対象箇所 | D6: 照明施設 | E6: 灯具 | J6: 対象箇所 | L6: 照明施設 | M6: 灯具 | R6: 対象箇所 | T6: 照明施設 | U6: 灯具
B7: 部位区分 | D7: 附属物本体 | F7: 異常の種類 | H7: - | J7: 部位区分 | L7: 附属物本体 | N7: 異常の種類 | P7: - | R7: 部位区分 | T7: 附属物本体 | V7: 異常の種類 | X7: -
B8: 異常判定区分 | D8: ○ | E8: メモ | F8: 照明(R-12)更新済み | J8: 異常判定区分 | L8: ○ | M8: メモ | N8: 照明(L-13)更新済み | R8: 異常判定区分 | T8: ○ | U8: メモ | V8: 照明(R-13)更新済み
B22: 覆工スパン番号 | E22: 14 | F22: 異常番号 | I22: 101 | J22: 覆工スパン番号 | M22: 14 | N22: 異常番号 | Q22: 102 | R22: 覆工スパン番号 | U22: 15 | V22: 異常番号 | Y22: 101
B23: 対象箇所 | D23: 照明施設 | E23: 灯具 | J23: 対象箇所 | L23: 照明施設 | M23: 灯具 | R23: 対象箇所 | T23: 照明施設 | U23: 灯具
B24: 部位区分 | D24: 附属物本体 | F24: 異常の種類 | H24: - | J24: 部位区分 | L24: 附属物本体 | N24: 異常の種類 | P24: - | R24: 部位区分 | T24: 附属物本体 | V24: 異常の種類 | X24: -
B25: 異常判定区分 | D25: ○ | E25: メモ | F25: 照明(L-14)更新済み | J25: 異常判定区分 | L25: ○ | M25: メモ | N25: 照明(R-14)更新済み | R25: 異常判定区分 | T25: ○ | U25: メモ | V25: 照明(L-15)更新済み
C39: ※ 異常判定区分×について記入すること。また、応急措置前に異常判定区分×とした箇所のうち応急措置により○と判定した箇所も記入すること。
C40: ※ 応急措置を実施した場合は、その実施状況が分かる写真を添付すること。
C41: ※ 変状数に準じてシートを追加すること。

Sheet 様式D-1-2 P007
B2: ■定期点検記録様式 異常写真台帳（トンネル内附属物等の取付状態） 【様式D-1-2】
B3: フリガナ | E3: フタミトンネル | I3: 路 線 名 | L3: 栗野二見線 | O3: 定期点検実施者 | R3: アジア航測株式会社 | U3: 定期点検年月日 | W3: 45917
B4: 名 称 | E4: 二見トンネル | I4: 管理者名 | L4: 山口県下関土木建築事務所 | R4: 飯田 琢巳
B5: 覆工スパン番号 | E5: 15 | F5: 異常番号 | I5: 102 | J5: 覆工スパン番号 | M5: 15 | N5: 異常番号 | Q5: 103 | R5: 覆工スパン番号 | U5: 15 | V5: 異常番号 | Y5: 104
B6: 対象箇所 | D6: 照明施設 | E6: 灯具 | J6: 対象箇所 | L6: 照明施設 | M6: 灯具 | R6: 対象箇所 | T6: その他施設 | U6: その他
B7: 部位区分 | D7: 附属物本体 | F7: 異常の種類 | H7: - | J7: 部位区分 | L7: 附属物本体 | N7: 異常の種類 | P7: - | R7: 部位区分 | T7: 取付部材 | V7: 異常の種類 | X7: 腐食
B8: 異常判定区分 | D8: ○ | E8: メモ | F8: 照明(L-16)更新済み | J8: 異常判定区分 | L8: ○ | M8: メモ | N8: 照明(R-15)更新済み | R8: 異常判定区分 | T8: × | U8: メモ | V8: ﾃﾞﾘﾈｰﾀｰ取付部腐食 反射部更新済
B22: 覆工スパン番号 | E22: 15 | F22: 異常番号 | I22: 105 | J22: 覆工スパン番号 | M22: 16 | N22: 異常番号 | Q22: 101 | R22: 覆工スパン番号 | U22: 16 | V22: 異常番号 | Y22: 102
B23: 対象箇所 | D23: その他施設 | E23: その他 | J23: 対象箇所 | L23: 照明施設 | M23: 灯具 | R23: 対象箇所 | T23: 照明施設 | U23: 灯具
B24: 部位区分 | D24: 取付部材 | F24: 異常の種類 | H24: 腐食 | J24: 部位区分 | L24: 附属物本体 | N24: 異常の種類 | P24: - | R24: 部位区分 | T24: 附属物本体 | V24: 異常の種類 | X24: -
B25: 異常判定区分 | D25: × | E25: メモ | F25: ﾃﾞﾘﾈｰﾀｰ取付部腐食 反射部更新済 | J25: 異常判定区分 | L25: ○ | M25: メモ | N25: 照明(L-17)更新済み | R25: 異常判定区分 | T25: ○ | U25: メモ | V25: 照明(R-16)更新済み
C39: ※ 異常判定区分×について記入すること。また、応急措置前に異常判定区分×とした箇所のうち応急措置により○と判定した箇所も記入すること。
C40: ※ 応急措置を実施した場合は、その実施状況が分かる写真を添付すること。
C41: ※ 変状数に準じてシートを追加すること。

Sheet 様式D-1-2 P008
B2: ■定期点検記録様式 異常写真台帳（トンネル内附属物等の取付状態） 【様式D-1-2】
B3: フリガナ | E3: フタミトンネル | I3: 路 線 名 | L3: 栗野二見線 | O3: 定期点検実施者 | R3: アジア航測株式会社 | U3: 定期点検年月日 | W3: 45917
B4: 名 称 | E4: 二見トンネル | I4: 管理者名 | L4: 山口県下関土木建築事務所 | R4: 飯田 琢巳
B5: 覆工スパン番号 | E5: 17 | F5: 異常番号 | I5: 101 | J5: 覆工スパン番号 | M5: 17 | N5: 異常番号 | Q5: 102 | R5: 覆工スパン番号 | U5: 18 | V5: 異常番号 | Y5: 101
B6: 対象箇所 | D6: 照明施設 | E6: 灯具 | J6: 対象箇所 | L6: 照明施設 | M6: 灯具 | R6: 対象箇所 | T6: 照明施設 | U6: 灯具
B7: 部位区分 | D7: 附属物本体 | F7: 異常の種類 | H7: - | J7: 部位区分 | L7: 附属物本体 | N7: 異常の種類 | P7: - | R7: 部位区分 | T7: 附属物本体 | V7: 異常の種類 | X7: -
B8: 異常判定区分 | D8: ○ | E8: メモ | F8: 照明(L-18)更新済み | J8: 異常判定区分 | L8: ○ | M8: メモ | N8: 照明(R-17)更新済み | R8: 異常判定区分 | T8: ○ | U8: メモ | V8: 照明(R-18)更新済み
B22: 覆工スパン番号 | E22: 18 | F22: 異常番号 | I22: 102 | J22: 覆工スパン番号 | M22: 18 | N22: 異常番号 | Q22: 103 | R22: 覆工スパン番号 | U22: 19 | V22: 異常番号 | Y22: 101
B23: 対象箇所 | D23: その他施設 | E23: その他 | J23: 対象箇所 | L23: その他施設 | M23: その他 | R23: 対象箇所 | T23: 照明施設 | U23: 灯具
B24: 部位区分 | D24: 取付部材 | F24: 異常の種類 | H24: 腐食 | J24: 部位区分 | L24: 取付部材 | N24: 異常の種類 | P24: 腐食 | R24: 部位区分 | T24: 附属物本体 | V24: 異常の種類 | X24: -
B25: 異常判定区分 | D25: × | E25: メモ | F25: ﾃﾞﾘﾈｰﾀｰ取付部腐食 反射部更新済 | J25: 異常判定区分 | L25: × | M25: メモ | N25: ﾃﾞﾘﾈｰﾀｰ取付部腐食 反射部更新済 | R25: 異常判定区分 | T25: ○ | U25: メモ | V25: 照明(L-19)更新済み
C39: ※ 異常判定区分×について記入すること。また、応急措置前に異常判定区分×とした箇所のうち応急措置により○と判定した箇所も記入すること。
C40: ※ 応急措置を実施した場合は、その実施状況が分かる写真を添付すること。
C41: ※ 変状数に準じてシートを追加すること。

Sheet 様式D-1-2 P009
B2: ■定期点検記録様式 異常写真台帳（トンネル内附属物等の取付状態） 【様式D-1-2】
B3: フリガナ | E3: フタミトンネル | I3: 路 線 名 | L3: 栗野二見線 | O3: 定期点検実施者 | R3: アジア航測株式会社 | U3: 定期点検年月日 | W3: 45917
B4: 名 称 | E4: 二見トンネル | I4: 管理者名 | L4: 山口県下関土木建築事務所 | R4: 飯田 琢巳
B5: 覆工スパン番号 | E5: 19 | F5: 異常番号 | I5: 102 | J5: 覆工スパン番号 | M5: 20 | N5: 異常番号 | Q5: 101 | R5: 覆工スパン番号 | U5: 21 | V5: 異常番号 | Y5: 101
B6: 対象箇所 | D6: 照明施設 | E6: 灯具 | J6: 対象箇所 | L6: 照明施設 | M6: 灯具 | R6: 対象箇所 | T6: その他施設 | U6: 通話型通報設備
B7: 部位区分 | D7: 附属物本体 | F7: 異常の種類 | H7: - | J7: 部位区分 | L7: 附属物本体 | N7: 異常の種類 | P7: - | R7: 部位区分 | T7: 附属物本体 | V7: 異常の種類 | X7: -
B8: 異常判定区分 | D8: ○ | E8: メモ | F8: 照明(R-19)更新済み | J8: 異常判定区分 | L8: ○ | M8: メモ | N8: 照明(L-20)更新済み | R8: 異常判定区分 | T8: ○ | U8: メモ | V8: 非常電話更新済み
B22: 覆工スパン番号 | E22: 21 | F22: 異常番号 | I22: 102 | J22: 覆工スパン番号 | M22: 22 | N22: 異常番号 | Q22: 101 | R22: 覆工スパン番号 | U22: 22 | V22: 異常番号 | Y22: 102
B23: 対象箇所 | D23: 照明施設 | E23: 灯具 | J23: 対象箇所 | L23: 照明施設 | M23: 灯具 | R23: 対象箇所 | T23: その他施設 | U23: その他
B24: 部位区分 | D24: 附属物本体 | F24: 異常の種類 | H24: - | J24: 部位区分 | L24: 附属物本体 | N24: 異常の種類 | P24: - | R24: 部位区分 | T24: 取付部材 | V24: 異常の種類 | X24: 腐食
B25: 異常判定区分 | D25: ○ | E25: メモ | F25: 照明(L-21)更新済み | J25: 異常判定区分 | L25: ○ | M25: メモ | N25: 照明(R-20)更新済み | R25: 異常判定区分 | T25: × | U25: メモ | V25: ﾃﾞﾘﾈｰﾀｰ取付部腐食 反射部更新済
C39: ※ 異常判定区分×について記入すること。また、応急措置前に異常判定区分×とした箇所のうち応急措置により○と判定した箇所も記入すること。
C40: ※ 応急措置を実施した場合は、その実施状況が分かる写真を添付すること。
C41: ※ 変状数に準じてシートを追加すること。

Sheet 様式D-1-2 P010
B2: ■定期点検記録様式 異常写真台帳（トンネル内附属物等の取付状態） 【様式D-1-2】
B3: フリガナ | E3: フタミトンネル | I3: 路 線 名 | L3: 栗野二見線 | O3: 定期点検実施者 | R3: アジア航測株式会社 | U3: 定期点検年月日 | W3: 45917
B4: 名 称 | E4: 二見トンネル | I4: 管理者名 | L4: 山口県下関土木建築事務所 | R4: 飯田 琢巳
B5: 覆工スパン番号 | E5: 22 | F5: 異常番号 | I5: 103 | J5: 覆工スパン番号 | M5: 24 | N5: 異常番号 | Q5: 102 | R5: 覆工スパン番号 | U5: 25 | V5: 異常番号 | Y5: 101
B6: 対象箇所 | D6: その他施設 | E6: その他 | J6: 対象箇所 | L6: 照明施設 | M6: 灯具 | R6: 対象箇所 | T6: 照明施設 | U6: 灯具
B7: 部位区分 | D7: 取付部材 | F7: 異常の種類 | H7: 腐食 | J7: 部位区分 | L7: 附属物本体 | N7: 異常の種類 | P7: - | R7: 部位区分 | T7: 附属物本体 | V7: 異常の種類 | X7: -
B8: 異常判定区分 | D8: × | E8: メモ | F8: ﾃﾞﾘﾈｰﾀｰ取付部腐食 反射部更新済 | J8: 異常判定区分 | L8: ○ | M8: メモ | N8: 照明(L-22)更新済み | R8: 異常判定区分 | T8: ○ | U8: メモ | V8: 照明(R-21)更新済み
B22: 覆工スパン番号 | E22: 25 | F22: 異常番号 | I22: 102 | J22: 覆工スパン番号 | M22: 25 | N22: 異常番号 | Q22: 103 | R22: 覆工スパン番号 | U22: 26 | V22: 異常番号 | Y22: 101
B23: 対象箇所 | D23: その他施設 | E23: その他 | J23: 対象箇所 | L23: その他施設 | M23: その他 | R23: 対象箇所 | T23: その他施設 | U23: 通話型通報設備
B24: 部位区分 | D24: 取付部材 | F24: 異常の種類 | H24: 腐食 | J24: 部位区分 | L24: 取付部材 | N24: 異常の種類 | P24: 腐食 | R24: 部位区分 | T24: 附属物本体 | V24: 異常の種類 | X24: -
B25: 異常判定区分 | D25: × | E25: メモ | F25: ﾃﾞﾘﾈｰﾀｰ取付部腐食 | J25: 異常判定区分 | L25: × | M25: メモ | N25: ﾃﾞﾘﾈｰﾀｰ取付部腐食 反射部更新済 | R25: 異常判定区分 | T25: ○ | U25: メモ | V25: 非常電話更新済み
C39: ※ 異常判定区分×について記入すること。また、応急措置前に異常判定区分×とした箇所のうち応急措置により○と判定した箇所も記入すること。
C40: ※ 応急措置を実施した場合は、その実施状況が分かる写真を添付すること。
C41: ※ 変状数に準じてシートを追加すること。

Sheet 様式D-1-2 P011
B2: ■定期点検記録様式 異常写真台帳（トンネル内附属物等の取付状態） 【様式D-1-2】
B3: フリガナ | E3: フタミトンネル | I3: 路 線 名 | L3: 栗野二見線 | O3: 定期点検実施者 | R3: アジア航測株式会社 | U3: 定期点検年月日 | W3: 45917
B4: 名 称 | E4: 二見トンネル | I4: 管理者名 | L4: 山口県下関土木建築事務所 | R4: 飯田 琢巳
B5: 覆工スパン番号 | E5: 27 | F5: 異常番号 | I5: 101 | J5: 覆工スパン番号 | M5: 28 | N5: 異常番号 | Q5: 101 | R5: 覆工スパン番号 | U5: 28 | V5: 異常番号 | Y5: 102
B6: 対象箇所 | D6: 照明施設 | E6: 灯具 | J6: 対象箇所 | L6: 照明施設 | M6: 灯具 | R6: 対象箇所 | T6: 照明施設 | U6: 灯具
B7: 部位区分 | D7: 附属物本体 | F7: 異常の種類 | H7: - | J7: 部位区分 | L7: 附属物本体 | N7: 異常の種類 | P7: - | R7: 部位区分 | T7: 附属物本体 | V7: 異常の種類 | X7: -
B8: 異常判定区分 | D8: ○ | E8: メモ | F8: 照明(R-22)更新済み | J8: 異常判定区分 | L8: ○ | M8: メモ | N8: 照明(L-23)更新済み | R8: 異常判定区分 | T8: ○ | U8: メモ | V8: 照明(R-23)更新済み
B22: 覆工スパン番号 | E22: 28 | F22: 異常番号 | I22: 103 | J22: 覆工スパン番号 | M22: 28 | N22: 異常番号 | Q22: 104 | R22: 覆工スパン番号 | U22: 29 | V22: 異常番号 | Y22: 101
B23: 対象箇所 | D23: その他施設 | E23: その他 | J23: 対象箇所 | L23: その他施設 | M23: その他 | R23: 対象箇所 | T23: 照明施設 | U23: 灯具
B24: 部位区分 | D24: 取付部材 | F24: 異常の種類 | H24: 腐食 | J24: 部位区分 | L24: 取付部材 | N24: 異常の種類 | P24: 腐食 | R24: 部位区分 | T24: 附属物本体 | V24: 異常の種類 | X24: -
B25: 異常判定区分 | D25: × | E25: メモ | F25: ﾃﾞﾘﾈｰﾀｰ取付部腐食 反射部更新済 | J25: 異常判定区分 | L25: × | M25: メモ | N25: ﾃﾞﾘﾈｰﾀｰ取付部腐食、反射部破損 | R25: 異常判定区分 | T25: ○ | U25: メモ | V25: 照明(L-24)更新済み
C39: ※ 異常判定区分×について記入すること。また、応急措置前に異常判定区分×とした箇所のうち応急措置により○と判定した箇所も記入すること。
C40: ※ 応急措置を実施した場合は、その実施状況が分かる写真を添付すること。
C41: ※ 変状数に準じてシートを追加すること。

Sheet 様式D-1-2 P012
B2: ■定期点検記録様式 異常写真台帳（トンネル内附属物等の取付状態） 【様式D-1-2】
B3: フリガナ | E3: フタミトンネル | I3: 路 線 名 | L3: 栗野二見線 | O3: 定期点検実施者 | R3: アジア航測株式会社 | U3: 定期点検年月日 | W3: 45917
B4: 名 称 | E4: 二見トンネル | I4: 管理者名 | L4: 山口県下関土木建築事務所 | R4: 飯田 琢巳
B5: 覆工スパン番号 | E5: 29 | F5: 異常番号 | I5: 102 | J5: 覆工スパン番号 | M5: 29 | N5: 異常番号 | Q5: 103 | R5: 覆工スパン番号 | U5: 31 | V5: 異常番号 | Y5: 101
B6: 対象箇所 | D6: 照明施設 | E6: 灯具 | J6: 対象箇所 | L6: 照明施設 | M6: 灯具 | R6: 対象箇所 | T6: 照明施設 | U6: 灯具
B7: 部位区分 | D7: 附属物本体 | F7: 異常の種類 | H7: - | J7: 部位区分 | L7: 附属物本体 | N7: 異常の種類 | P7: - | R7: 部位区分 | T7: 附属物本体 | V7: 異常の種類 | X7: -
B8: 異常判定区分 | D8: ○ | E8: メモ | F8: 照明(L-25)更新済み | J8: 異常判定区分 | L8: ○ | M8: メモ | N8: 照明(R-24)更新済み | R8: 異常判定区分 | T8: ○ | U8: メモ | V8: 照明(L-26)更新済み
B22: 覆工スパン番号 | E22: 31 | F22: 異常番号 | I22: 102 | J22: 覆工スパン番号 | M22: 31 | N22: 異常番号 | Q22: 103 | R22: 覆工スパン番号 | U22: 32 | V22: 異常番号 | Y22: 101
B23: 対象箇所 | D23: 照明施設 | E23: 灯具 | J23: 対象箇所 | L23: 照明施設 | M23: 灯具 | R23: 対象箇所 | T23: 照明施設 | U23: 灯具
B24: 部位区分 | D24: 附属物本体 | F24: 異常の種類 | H24: - | J24: 部位区分 | L24: 附属物本体 | N24: 異常の種類 | P24: - | R24: 部位区分 | T24: 附属物本体 | V24: 異常の種類 | X24: -
B25: 異常判定区分 | D25: ○ | E25: メモ | F25: 照明(R-25)更新済み | J25: 異常判定区分 | L25: ○ | M25: メモ | N25: 照明(R-26)更新済み | R25: 異常判定区分 | T25: ○ | U25: メモ | V25: 照明(L-27)更新済み
C39: ※ 異常判定区分×について記入すること。また、応急措置前に異常判定区分×とした箇所のうち応急措置により○と判定した箇所も記入すること。
C40: ※ 応急措置を実施した場合は、その実施状況が分かる写真を添付すること。
C41: ※ 変状数に準じてシートを追加すること。

Sheet 様式D-1-2 P013
B2: ■定期点検記録様式 異常写真台帳（トンネル内附属物等の取付状態） 【様式D-1-2】
B3: フリガナ | E3: フタミトンネル | I3: 路 線 名 | L3: 栗野二見線 | O3: 定期点検実施者 | R3: アジア航測株式会社 | U3: 定期点検年月日 | W3: 45917
B4: 名 称 | E4: 二見トンネル | I4: 管理者名 | L4: 山口県下関土木建築事務所 | R4: 飯田 琢巳
B5: 覆工スパン番号 | E5: 32 | F5: 異常番号 | I5: 102 | J5: 覆工スパン番号 | M5: 32 | N5: 異常番号 | Q5: 103 | R5: 覆工スパン番号 | U5: 32 | V5: 異常番号 | Y5: 104
B6: 対象箇所 | D6: 照明施設 | E6: 灯具 | J6: 対象箇所 | L6: その他施設 | M6: その他 | R6: 対象箇所 | T6: その他施設 | U6: その他
B7: 部位区分 | D7: 附属物本体 | F7: 異常の種類 | H7: - | J7: 部位区分 | L7: 取付部材 | N7: 異常の種類 | P7: 腐食 | R7: 部位区分 | T7: 取付部材 | V7: 異常の種類 | X7: 腐食
B8: 異常判定区分 | D8: ○ | E8: メモ | F8: 照明(R-27)更新済み | J8: 異常判定区分 | L8: × | M8: メモ | N8: ﾃﾞﾘﾈｰﾀｰ取付部腐食 | R8: 異常判定区分 | T8: × | U8: メモ | V8: ﾃﾞﾘﾈｰﾀｰ取付部腐食、反射部破損
B22: 覆工スパン番号 | E22: 33 | F22: 異常番号 | I22: 101 | J22: 覆工スパン番号 | M22: 33 | N22: 異常番号 | Q22: 102 | R22: 覆工スパン番号 | U22: 33 | V22: 異常番号 | Y22: 103
B23: 対象箇所 | D23: 照明施設 | E23: 灯具 | J23: 対象箇所 | L23: 照明施設 | M23: 灯具 | R23: 対象箇所 | T23: 照明施設 | U23: 灯具
B24: 部位区分 | D24: 附属物本体 | F24: 異常の種類 | H24: - | J24: 部位区分 | L24: 附属物本体 | N24: 異常の種類 | P24: - | R24: 部位区分 | T24: 附属物本体 | V24: 異常の種類 | X24: -
B25: 異常判定区分 | D25: ○ | E25: メモ | F25: 照明(L-28)更新済み | J25: 異常判定区分 | L25: ○ | M25: メモ | N25: 照明(L-29)更新済み | R25: 異常判定区分 | T25: ○ | U25: メモ | V25: 照明(R-28)更新済み
C39: ※ 異常判定区分×について記入すること。また、応急措置前に異常判定区分×とした箇所のうち応急措置により○と判定した箇所も記入すること。
C40: ※ 応急措置を実施した場合は、その実施状況が分かる写真を添付すること。
C41: ※ 変状数に準じてシートを追加すること。

Sheet 様式D-1-2 P014
B2: ■定期点検記録様式 異常写真台帳（トンネル内附属物等の取付状態） 【様式D-1-2】
B3: フリガナ | E3: フタミトンネル | I3: 路 線 名 | L3: 栗野二見線 | O3: 定期点検実施者 | R3: アジア航測株式会社 | U3: 定期点検年月日 | W3: 45917
B4: 名 称 | E4: 二見トンネル | I4: 管理者名 | L4: 山口県下関土木建築事務所 | R4: 飯田 琢巳
B5: 覆工スパン番号 | E5: 34 | F5: 異常番号 | I5: 101 | J5: 覆工スパン番号 | M5: 34 | N5: 異常番号 | Q5: 102 | R5: 覆工スパン番号 | U5: 35 | V5: 異常番号 | Y5: 101
B6: 対象箇所 | D6: 照明施設 | E6: 灯具 | J6: 対象箇所 | L6: 照明施設 | M6: 灯具 | R6: 対象箇所 | T6: 照明施設 | U6: 灯具
B7: 部位区分 | D7: 附属物本体 | F7: 異常の種類 | H7: - | J7: 部位区分 | L7: 附属物本体 | N7: 異常の種類 | P7: - | R7: 部位区分 | T7: 附属物本体 | V7: 異常の種類 | X7: -
B8: 異常判定区分 | D8: ○ | E8: メモ | F8: 照明(L-30)更新済み | J8: 異常判定区分 | L8: ○ | M8: メモ | N8: 照明(R-29)更新済み | R8: 異常判定区分 | T8: ○ | U8: メモ | V8: 照明(L-31)更新済み
B22: 覆工スパン番号 | E22: 35 | F22: 異常番号 | I22: 102 | J22: 覆工スパン番号 | M22: 35 | N22: 異常番号 | Q22: 103 | R22: 覆工スパン番号 | U22: 35 | V22: 異常番号 | Y22: 104
B23: 対象箇所 | D23: 照明施設 | E23: 灯具 | J23: 対象箇所 | L23: その他施設 | M23: その他 | R23: 対象箇所 | T23: その他施設 | U23: その他
B24: 部位区分 | D24: 附属物本体 | F24: 異常の種類 | H24: - | J24: 部位区分 | L24: 取付部材 | N24: 異常の種類 | P24: 腐食 | R24: 部位区分 | T24: 取付部材 | V24: 異常の種類 | X24: 腐食
B25: 異常判定区分 | D25: ○ | E25: メモ | F25: 照明(R-30)更新済み | J25: 異常判定区分 | L25: × | M25: メモ | N25: ﾃﾞﾘﾈｰﾀｰ取付部腐食 | R25: 異常判定区分 | T25: × | U25: メモ | V25: ﾃﾞﾘﾈｰﾀｰ取付部腐食、反射部破損
C39: ※ 異常判定区分×について記入すること。また、応急措置前に異常判定区分×とした箇所のうち応急措置により○と判定した箇所も記入すること。
C40: ※ 応急措置を実施した場合は、その実施状況が分かる写真を添付すること。
C41: ※ 変状数に準じてシートを追加すること。

Sheet 様式D-1-2 P015
B2: ■定期点検記録様式 異常写真台帳（トンネル内附属物等の取付状態） 【様式D-1-2】
B3: フリガナ | E3: フタミトンネル | I3: 路 線 名 | L3: 栗野二見線 | O3: 定期点検実施者 | R3: アジア航測株式会社 | U3: 定期点検年月日 | W3: 45917
B4: 名 称 | E4: 二見トンネル | I4: 管理者名 | L4: 山口県下関土木建築事務所 | R4: 飯田 琢巳
B5: 覆工スパン番号 | E5: 36 | F5: 異常番号 | I5: 101 | J5: 覆工スパン番号 | M5: 36 | N5: 異常番号 | Q5: 102 | R5: 覆工スパン番号 | U5: 36 | V5: 異常番号 | Y5: 103
B6: 対象箇所 | D6: 照明施設 | E6: 灯具 | J6: 対象箇所 | L6: 照明施設 | M6: 灯具 | R6: 対象箇所 | T6: 照明施設 | U6: 灯具
B7: 部位区分 | D7: 附属物本体 | F7: 異常の種類 | H7: - | J7: 部位区分 | L7: 附属物本体 | N7: 異常の種類 | P7: - | R7: 部位区分 | T7: 附属物本体 | V7: 異常の種類 | X7: -
B8: 異常判定区分 | D8: ○ | E8: メモ | F8: 照明(L-32)更新済み | J8: 異常判定区分 | L8: ○ | M8: メモ | N8: 照明(R-31)更新済み | R8: 異常判定区分 | T8: ○ | U8: メモ | V8: 照明(R-32)更新済み
B22: 覆工スパン番号 | E22: 37 | F22: 異常番号 | I22: 101 | J22: 覆工スパン番号 | M22: 37 | N22: 異常番号 | Q22: 102 | R22: 覆工スパン番号 | U22: 38 | V22: 異常番号 | Y22: 101
B23: 対象箇所 | D23: 照明施設 | E23: 灯具 | J23: 対象箇所 | L23: 照明施設 | M23: 灯具 | R23: 対象箇所 | T23: 照明施設 | U23: 灯具
B24: 部位区分 | D24: 附属物本体 | F24: 異常の種類 | H24: - | J24: 部位区分 | L24: 附属物本体 | N24: 異常の種類 | P24: - | R24: 部位区分 | T24: 附属物本体 | V24: 異常の種類 | X24: -
B25: 異常判定区分 | D25: ○ | E25: メモ | F25: 照明(L-33)更新済み | J25: 異常判定区分 | L25: ○ | M25: メモ | N25: 照明(R-33)更新済み | R25: 異常判定区分 | T25: ○ | U25: メモ | V25: 照明(L-34)更新済み
C39: ※ 異常判定区分×について記入すること。また、応急措置前に異常判定区分×とした箇所のうち応急措置により○と判定した箇所も記入すること。
C40: ※ 応急措置を実施した場合は、その実施状況が分かる写真を添付すること。
C41: ※ 変状数に準じてシートを追加すること。

Sheet 様式D-1-2 P016
B2: ■定期点検記録様式 異常写真台帳（トンネル内附属物等の取付状態） 【様式D-1-2】
B3: フリガナ | E3: フタミトンネル | I3: 路 線 名 | L3: 栗野二見線 | O3: 定期点検実施者 | R3: アジア航測株式会社 | U3: 定期点検年月日 | W3: 45917
B4: 名 称 | E4: 二見トンネル | I4: 管理者名 | L4: 山口県下関土木建築事務所 | R4: 飯田 琢巳
B5: 覆工スパン番号 | E5: 38 | F5: 異常番号 | I5: 102 | J5: 覆工スパン番号 | M5: 38 | N5: 異常番号 | Q5: 103 | R5: 覆工スパン番号 | U5: 38 | V5: 異常番号 | Y5: 104
B6: 対象箇所 | D6: 照明施設 | E6: 灯具 | J6: 対象箇所 | L6: 照明施設 | M6: 灯具 | R6: 対象箇所 | T6: その他施設 | U6: その他
B7: 部位区分 | D7: 附属物本体 | F7: 異常の種類 | H7: - | J7: 部位区分 | L7: 附属物本体 | N7: 異常の種類 | P7: - | R7: 部位区分 | T7: 取付部材 | V7: 異常の種類 | X7: 腐食
B8: 異常判定区分 | D8: ○ | E8: メモ | F8: 照明(L-35)更新済み | J8: 異常判定区分 | L8: ○ | M8: メモ | N8: 照明(R-34)更新済み | R8: 異常判定区分 | T8: × | U8: メモ | V8: ﾃﾞﾘﾈｰﾀｰ取付部腐食 反射部更新済
B22: 覆工スパン番号 | E22: 38 | F22: 異常番号 | I22: 105 | J22: 覆工スパン番号 | M22: 40 | N22: 異常番号 | Q22: 101 | R22: 覆工スパン番号 | U22: 40 | V22: 異常番号 | Y22: 102
B23: 対象箇所 | D23: その他施設 | E23: その他 | J23: 対象箇所 | L23: その他施設 | M23: 通話型通報設備 | R23: 対象箇所 | T23: 照明施設 | U23: 灯具
B24: 部位区分 | D24: 取付部材 | F24: 異常の種類 | H24: 腐食 | J24: 部位区分 | L24: 附属物本体 | N24: 異常の種類 | P24: - | R24: 部位区分 | T24: 附属物本体 | V24: 異常の種類 | X24: -
B25: 異常判定区分 | D25: × | E25: メモ | F25: ﾃﾞﾘﾈｰﾀｰ取付部腐食 | J25: 異常判定区分 | L25: ○ | M25: メモ | N25: 非常電話更新済み | R25: 異常判定区分 | T25: ○ | U25: メモ | V25: 照明(L-36)更新済み
C39: ※ 異常判定区分×について記入すること。また、応急措置前に異常判定区分×とした箇所のうち応急措置により○と判定した箇所も記入すること。
C40: ※ 応急措置を実施した場合は、その実施状況が分かる写真を添付すること。
C41: ※ 変状数に準じてシートを追加すること。

Sheet 様式D-1-2 P017
B2: ■定期点検記録様式 異常写真台帳（トンネル内附属物等の取付状態） 【様式D-1-2】
B3: フリガナ | E3: フタミトンネル | I3: 路 線 名 | L3: 栗野二見線 | O3: 定期点検実施者 | R3: アジア航測株式会社 | U3: 定期点検年月日 | W3: 45917
B4: 名 称 | E4: 二見トンネル | I4: 管理者名 | L4: 山口県下関土木建築事務所 | R4: 飯田 琢巳
B5: 覆工スパン番号 | E5: 40 | F5: 異常番号 | I5: 103 | J5: 覆工スパン番号 | M5: 40 | N5: 異常番号 | Q5: 104 | R5: 覆工スパン番号 | U5: 41 | V5: 異常番号 | Y5: 101
B6: 対象箇所 | D6: 照明施設 | E6: 灯具 | J6: 対象箇所 | L6: 照明施設 | M6: 灯具 | R6: 対象箇所 | T6: 照明施設 | U6: 灯具
B7: 部位区分 | D7: 附属物本体 | F7: 異常の種類 | H7: - | J7: 部位区分 | L7: 附属物本体 | N7: 異常の種類 | P7: - | R7: 部位区分 | T7: 附属物本体 | V7: 異常の種類 | X7: -
B8: 異常判定区分 | D8: ○ | E8: メモ | F8: 照明(R-35)更新済み | J8: 異常判定区分 | L8: ○ | M8: メモ | N8: 照明(R-36)更新済み | R8: 異常判定区分 | T8: ○ | U8: メモ | V8: 照明(L-37)更新済み
B22: 覆工スパン番号 | E22: 41 | F22: 異常番号 | I22: 102 | J22: 覆工スパン番号 | M22: 42 | N22: 異常番号 | Q22: 101 | R22: 覆工スパン番号 | U22: 42 | V22: 異常番号 | Y22: 102
B23: 対象箇所 | D23: 照明施設 | E23: 灯具 | J23: 対象箇所 | L23: 照明施設 | M23: 灯具 | R23: 対象箇所 | T23: 照明施設 | U23: 灯具
B24: 部位区分 | D24: 附属物本体 | F24: 異常の種類 | H24: - | J24: 部位区分 | L24: 附属物本体 | N24: 異常の種類 | P24: - | R24: 部位区分 | T24: 附属物本体 | V24: 異常の種類 | X24: -
B25: 異常判定区分 | D25: ○ | E25: メモ | F25: 照明(R-37)更新済み | J25: 異常判定区分 | L25: ○ | M25: メモ | N25: 照明(L-38)更新済み | R25: 異常判定区分 | T25: ○ | U25: メモ | V25: 照明(R-38)更新済み
C39: ※ 異常判定区分×について記入すること。また、応急措置前に異常判定区分×とした箇所のうち応急措置により○と判定した箇所も記入すること。
C40: ※ 応急措置を実施した場合は、その実施状況が分かる写真を添付すること。
C41: ※ 変状数に準じてシートを追加すること。

Sheet 様式D-1-2 P018
B2: ■定期点検記録様式 異常写真台帳（トンネル内附属物等の取付状態） 【様式D-1-2】
B3: フリガナ | E3: フタミトンネル | I3: 路 線 名 | L3: 栗野二見線 | O3: 定期点検実施者 | R3: アジア航測株式会社 | U3: 定期点検年月日 | W3: 45917
B4: 名 称 | E4: 二見トンネル | I4: 管理者名 | L4: 山口県下関土木建築事務所 | R4: 飯田 琢巳
B5: 覆工スパン番号 | E5: 42 | F5: 異常番号 | I5: 103 | J5: 覆工スパン番号 | M5: 42 | N5: 異常番号 | Q5: 104 | R5: 覆工スパン番号 | U5: 43 | V5: 異常番号 | Y5: 101
B6: 対象箇所 | D6: その他施設 | E6: その他 | J6: 対象箇所 | L6: その他施設 | M6: その他 | R6: 対象箇所 | T6: 照明施設 | U6: 灯具
B7: 部位区分 | D7: 取付部材 | F7: 異常の種類 | H7: 腐食 | J7: 部位区分 | L7: 取付部材 | N7: 異常の種類 | P7: 腐食 | R7: 部位区分 | T7: 附属物本体 | V7: 異常の種類 | X7: -
B8: 異常判定区分 | D8: × | E8: メモ | F8: ﾃﾞﾘﾈｰﾀｰ取付部腐食、反射部破損 | J8: 異常判定区分 | L8: × | M8: メモ | N8: ﾃﾞﾘﾈｰﾀｰ取付部腐食 反射部更新済 | R8: 異常判定区分 | T8: ○ | U8: メモ | V8: 照明(L-39)更新済み
B22: 覆工スパン番号 | E22: 44 | F22: 異常番号 | I22: 101 | J22: 覆工スパン番号 | M22: 44 | N22: 異常番号 | Q22: 102 | R22: 覆工スパン番号 | U22: 45 | V22: 異常番号 | Y22: 101
B23: 対象箇所 | D23: 照明施設 | E23: 灯具 | J23: 対象箇所 | L23: 照明施設 | M23: 灯具 | R23: 対象箇所 | T23: 照明施設 | U23: 灯具
B24: 部位区分 | D24: 附属物本体 | F24: 異常の種類 | H24: - | J24: 部位区分 | L24: 附属物本体 | N24: 異常の種類 | P24: - | R24: 部位区分 | T24: 附属物本体 | V24: 異常の種類 | X24: -
B25: 異常判定区分 | D25: ○ | E25: メモ | F25: 照明(L-40)更新済み | J25: 異常判定区分 | L25: ○ | M25: メモ | N25: 照明(R-39)更新済み | R25: 異常判定区分 | T25: ○ | U25: メモ | V25: 照明(L-41)更新済み
C39: ※ 異常判定区分×について記入すること。また、応急措置前に異常判定区分×とした箇所のうち応急措置により○と判定した箇所も記入すること。
C40: ※ 応急措置を実施した場合は、その実施状況が分かる写真を添付すること。
C41: ※ 変状数に準じてシートを追加すること。

Sheet 様式D-1-2 P019
B2: ■定期点検記録様式 異常写真台帳（トンネル内附属物等の取付状態） 【様式D-1-2】
B3: フリガナ | E3: フタミトンネル | I3: 路 線 名 | L3: 栗野二見線 | O3: 定期点検実施者 | R3: アジア航測株式会社 | U3: 定期点検年月日 | W3: 45917
B4: 名 称 | E4: 二見トンネル | I4: 管理者名 | L4: 山口県下関土木建築事務所 | R4: 飯田 琢巳
B5: 覆工スパン番号 | E5: 45 | F5: 異常番号 | I5: 102 | J5: 覆工スパン番号 | M5: 45 | N5: 異常番号 | Q5: 103 | R5: 覆工スパン番号 | U5: 45 | V5: 異常番号 | Y5: 104
B6: 対象箇所 | D6: 照明施設 | E6: 灯具 | J6: 対象箇所 | L6: 照明施設 | M6: 灯具 | R6: 対象箇所 | T6: その他施設 | U6: 操作型通報設備
B7: 部位区分 | D7: 附属物本体 | F7: 異常の種類 | H7: - | J7: 部位区分 | L7: 附属物本体 | N7: 異常の種類 | P7: - | R7: 部位区分 | T7: 附属物本体 | V7: 異常の種類 | X7: 腐食
B8: 異常判定区分 | D8: ○ | E8: メモ | F8: 照明(R-40)更新済み | J8: 異常判定区分 | L8: ○ | M8: メモ | N8: 照明(R-41)更新済み | R8: 異常判定区分 | T8: × | U8: メモ | V8: 非常通報装置の腐食
B22: 覆工スパン番号 | E22: 45 | F22: 異常番号 | I22: 105 | J22: 覆工スパン番号 | N22: 異常番号 | R22: 覆工スパン番号 | V22: 異常番号
B23: 対象箇所 | D23: その他施設 | E23: 通話型通報設備 | J23: 対象箇所 | R23: 対象箇所
B24: 部位区分 | D24: 附属物本体 | F24: 異常の種類 | H24: - | J24: 部位区分 | N24: 異常の種類 | R24: 部位区分 | V24: 異常の種類
B25: 異常判定区分 | D25: ○ | E25: メモ | F25: 非常電話更新済み | J25: 異常判定区分 | M25: メモ | R25: 異常判定区分 | U25: メモ
C39: ※ 異常判定区分×について記入すること。また、応急措置前に異常判定区分×とした箇所のうち応急措置により○と判定した箇所も記入すること。
C40: ※ 応急措置を実施した場合は、その実施状況が分かる写真を添付すること。
C41: ※ 変状数に準じてシートを追加すること。

Sheet 様式D-2-1 (1)
B3: ■定期点検記録様式 トンネル全体変状展開図 【様式D-2-1】
B4: フリガナ | E4: フタミトンネル | J4: 路線名 | M4: 栗野二見線 | S4: 定期点検実施者 | W4: アジア航測株式会社 | AC4: 定期点検年月日 | AF4: 45917
B5: 名 称 | E5: 二見トンネル | J5: 管理者名 | M5: 山口県下関土木建築事務所 | W5: 飯田 琢巳
B6: トンネル変状展開図 | C6: トンネル全体変状展開図
V18: 注１：本展開図は、見下げた状態で記載すること。 注２：覆工スパン番号は横断目地毎（矢板工法の場合は上半アーチ の横断目地毎)に設定すること。 注３：横断目地の変状は前の覆工スパン番号で計上すること。 注４：１枚に収まらない場合は、複数枚に分けて作成すること。

Sheet 様式D-2-1 (2)
B3: ■定期点検記録様式 トンネル全体変状展開図 【様式D-2-1】
B4: フリガナ | E4: フタミトンネル | J4: 路線名 | M4: 栗野二見線 | S4: 定期点検実施者 | W4: アジア航測株式会社 | AC4: 定期点検年月日 | AF4: 45917
B5: 名 称 | E5: 二見トンネル | J5: 管理者名 | M5: 山口県下関土木建築事務所 | W5: 飯田 琢巳
B6: トンネル変状展開図 | C6: トンネル全体変状展開図
V18: 注１：本展開図は、見下げた状態で記載すること。 注２：覆工スパン番号は横断目地毎（矢板工法の場合は上半アーチ の横断目地毎)に設定すること。 注３：横断目地の変状は前の覆工スパン番号で計上すること。 注４：１枚に収まらない場合は、複数枚に分けて作成すること。

Sheet 様式D-2-1 (3)
B3: ■定期点検記録様式 トンネル全体変状展開図 【様式D-2-1】
B4: フリガナ | E4: フタミトンネル | J4: 路線名 | M4: 栗野二見線 | S4: 定期点検実施者 | W4: アジア航測株式会社 | AC4: 定期点検年月日 | AF4: 45917
B5: 名 称 | E5: 二見トンネル | J5: 管理者名 | M5: 山口県下関土木建築事務所 | W5: 飯田 琢巳
B6: トンネル変状展開図 | C6: トンネル全体変状展開図
V18: 注１：本展開図は、見下げた状態で記載すること。 注２：覆工スパン番号は横断目地毎（矢板工法の場合は上半アーチ の横断目地毎)に設定すること。 注３：横断目地の変状は前の覆工スパン番号で計上すること。 注４：１枚に収まらない場合は、複数枚に分けて作成すること。

Sheet 様式D-2-1 (4)
B3: ■定期点検記録様式 トンネル全体変状展開図 【様式D-2-1】
B4: フリガナ | E4: フタミトンネル | J4: 路線名 | M4: 栗野二見線 | S4: 定期点検実施者 | W4: アジア航測株式会社 | AC4: 定期点検年月日 | AF4: 45917
B5: 名 称 | E5: 二見トンネル | J5: 管理者名 | M5: 山口県下関土木建築事務所 | W5: 飯田 琢巳
B6: トンネル変状展開図 | C6: トンネル全体変状展開図
V18: 注１：本展開図は、見下げた状態で記載すること。 注２：覆工スパン番号は横断目地毎（矢板工法の場合は上半アーチ の横断目地毎)に設定すること。 注３：横断目地の変状は前の覆工スパン番号で計上すること。 注４：１枚に収まらない場合は、複数枚に分けて作成すること。

Sheet 様式D-2-1 (5)
B3: ■定期点検記録様式 トンネル全体変状展開図 【様式D-2-1】
B4: フリガナ | E4: フタミトンネル | J4: 路線名 | M4: 栗野二見線 | S4: 定期点検実施者 | W4: アジア航測株式会社 | AC4: 定期点検年月日 | AF4: 45917
B5: 名 称 | E5: 二見トンネル | J5: 管理者名 | M5: 山口県下関土木建築事務所 | W5: 飯田 琢巳
B6: トンネル変状展開図 | C6: トンネル全体変状展開図
V18: 注１：本展開図は、見下げた状態で記載すること。 注２：覆工スパン番号は横断目地毎（矢板工法の場合は上半アーチ の横断目地毎)に設定すること。 注３：横断目地の変状は前の覆工スパン番号で計上すること。 注４：１枚に収まらない場合は、複数枚に分けて作成すること。

Sheet 様式D-2-1 (6)
B3: ■定期点検記録様式 トンネル全体変状展開図 【様式D-2-1】
B4: フリガナ | E4: フタミトンネル | J4: 路線名 | M4: 栗野二見線 | S4: 定期点検実施者 | W4: アジア航測株式会社 | AC4: 定期点検年月日 | AF4: 45917
B5: 名 称 | E5: 二見トンネル | J5: 管理者名 | M5: 山口県下関土木建築事務所 | W5: 飯田 琢巳
B6: トンネル変状展開図 | C6: トンネル全体変状展開図
V18: 注１：本展開図は、見下げた状態で記載すること。 注２：覆工スパン番号は横断目地毎（矢板工法の場合は上半アーチ の横断目地毎)に設定すること。 注３：横断目地の変状は前の覆工スパン番号で計上すること。 注４：１枚に収まらない場合は、複数枚に分けて作成すること。

Sheet 様式D-2-1 (7)
B3: ■定期点検記録様式 トンネル全体変状展開図 【様式D-2-1】
B4: フリガナ | E4: フタミトンネル | J4: 路線名 | M4: 栗野二見線 | S4: 定期点検実施者 | W4: アジア航測株式会社 | AC4: 定期点検年月日 | AF4: 45917
B5: 名 称 | E5: 二見トンネル | J5: 管理者名 | M5: 山口県下関土木建築事務所 | W5: 飯田 琢巳
B6: トンネル変状展開図 | C6: トンネル全体変状展開図
V18: 注１：本展開図は、見下げた状態で記載すること。 注２：覆工スパン番号は横断目地毎（矢板工法の場合は上半アーチ の横断目地毎)に設定すること。 注３：横断目地の変状は前の覆工スパン番号で計上すること。 注４：１枚に収まらない場合は、複数枚に分けて作成すること。

Sheet 様式D-2-1´(1)
B3: ■定期点検記録様式 トンネル全体変状展開図（機器の活用時） 【様式D-2-1’】
B4: フリガナ | E4: フタミトンネル | J4: 路線名 | M4: 栗野二見線 | S4: 定期点検実施者 | W4: アジア航測株式会社 | AC4: 定期点検年月日 | AF4: 45917
B5: 名 称 | E5: 二見トンネル | J5: 管理者名 | M5: 山口県下関土木建築事務所 | W5: 飯田 琢巳
B6: トンネル変状展開図 | C6: トンネル全体変状展開図
V18: 注１：本展開図は、見下げた状態で記載すること。 注２：覆工スパン番号は横断目地毎（矢板工法の場合は上半アーチ の横断目地毎)に設定すること。 注３：横断目地の変状は前の覆工スパン番号で計上すること。 注４：１枚に収まらない場合は、複数枚に分けて作成すること。

Sheet 様式D-2-1´ (2)
B3: ■定期点検記録様式 トンネル全体変状展開図（機器の活用時） 【様式D-2-1’】
B4: フリガナ | E4: フタミトンネル | J4: 路線名 | M4: 栗野二見線 | S4: 定期点検実施者 | W4: アジア航測株式会社 | AC4: 定期点検年月日 | AF4: 45917
B5: 名 称 | E5: 二見トンネル | J5: 管理者名 | M5: 山口県下関土木建築事務所 | W5: 飯田 琢巳
B6: トンネル変状展開図 | C6: トンネル全体変状展開図
V18: 注１：本展開図は、見下げた状態で記載すること。 注２：覆工スパン番号は横断目地毎（矢板工法の場合は上半アーチ の横断目地毎)に設定すること。 注３：横断目地の変状は前の覆工スパン番号で計上すること。 注４：１枚に収まらない場合は、複数枚に分けて作成すること。

Sheet 様式D-2-1´ (3)
B3: ■定期点検記録様式 トンネル全体変状展開図（機器の活用時） 【様式D-2-1’】
B4: フリガナ | E4: フタミトンネル | J4: 路線名 | M4: 栗野二見線 | S4: 定期点検実施者 | W4: アジア航測株式会社 | AC4: 定期点検年月日 | AF4: 45917
B5: 名 称 | E5: 二見トンネル | J5: 管理者名 | M5: 山口県下関土木建築事務所 | W5: 飯田 琢巳
B6: トンネル変状展開図 | C6: トンネル全体変状展開図
V18: 注１：本展開図は、見下げた状態で記載すること。 注２：覆工スパン番号は横断目地毎（矢板工法の場合は上半アーチ の横断目地毎)に設定すること。 注３：横断目地の変状は前の覆工スパン番号で計上すること。 注４：１枚に収まらない場合は、複数枚に分けて作成すること。

Sheet 様式D-2-1´ (4)
B3: ■定期点検記録様式 トンネル全体変状展開図（機器の活用時） 【様式D-2-1’】
B4: フリガナ | E4: フタミトンネル | J4: 路線名 | M4: 栗野二見線 | S4: 定期点検実施者 | W4: アジア航測株式会社 | AC4: 定期点検年月日 | AF4: 45917
B5: 名 称 | E5: 二見トンネル | J5: 管理者名 | M5: 山口県下関土木建築事務所 | W5: 飯田 琢巳
B6: トンネル変状展開図 | C6: トンネル全体変状展開図
V18: 注１：本展開図は、見下げた状態で記載すること。 注２：覆工スパン番号は横断目地毎（矢板工法の場合は上半アーチ の横断目地毎)に設定すること。 注３：横断目地の変状は前の覆工スパン番号で計上すること。 注４：１枚に収まらない場合は、複数枚に分けて作成すること。

Sheet 様式D-2-1´ (5)
B3: ■定期点検記録様式 トンネル全体変状展開図（機器の活用時） 【様式D-2-1’】
B4: フリガナ | E4: フタミトンネル | J4: 路線名 | M4: 栗野二見線 | S4: 定期点検実施者 | W4: アジア航測株式会社 | AC4: 定期点検年月日 | AF4: 45917
B5: 名 称 | E5: 二見トンネル | J5: 管理者名 | M5: 山口県下関土木建築事務所 | W5: 飯田 琢巳
B6: トンネル変状展開図 | C6: トンネル全体変状展開図
V18: 注１：本展開図は、見下げた状態で記載すること。 注２：覆工スパン番号は横断目地毎（矢板工法の場合は上半アーチ の横断目地毎)に設定すること。 注３：横断目地の変状は前の覆工スパン番号で計上すること。 注４：１枚に収まらない場合は、複数枚に分けて作成すること。

Sheet 様式D-3_PS
AU1: 様式F用→ | AV1: 覆工スパン | AY1: 変 状 数 | BK1: 変 状 規 模
AV2: 番号 | AW2: 延長 （ｍ） | AX2: 健全性の診断の 区分 | AY2: 対策区分の判定 | BK2: 覆工スパン長（ｍ） | BO2: 変状の発生範囲の規模（㎡）
B3: ■定期点検記録様式 覆工スパン別変状詳細展開図 【様式D-3】 | AY3: 外力 | BC3: 材質劣化 | BG3: 漏水 | BK3: 外力 注2 | BO3: 材質劣化 | BS3: 漏水
B4: フリガナ | E4: フタミトンネル | K4: 路線名 | N4: 栗野二見線 | T4: 定期点検実施者 | Y4: アジア航測株式会社 | AG4: 定期点検年月日 | AK4: 45917 | AY4: Ⅳ | AZ4: Ⅲ | BA4: Ⅱa | BB4: Ⅱb | BC4: Ⅳ | BD4: Ⅲ | BE4: Ⅱa | BF4: Ⅱb | BG4: Ⅳ | BH4: Ⅲ | BI4: Ⅱa | BJ4: Ⅱb | BK4: Ⅳ | BL4: Ⅲ | BM4: Ⅱa | BN4: Ⅱb | BO4: Ⅳ | BP4: Ⅲ | BQ4: Ⅱa | BR4: Ⅱb | BS4: Ⅳ | BT4: Ⅲ | BU4: Ⅱa | BV4: Ⅱb
B5: 名 称 | E5: 二見トンネル | K5: 管理者名 | N5: 山口県下関土木建築事務所 | Y5: 飯田 琢巳 | AV5: =N7 -> PS | AW5: =R7 -> 0 | AX5: =AM35 -> Ⅱ | AY5: =Y37 -> 0 | AZ5: =Z37 -> 0 | BA5: =AA37 -> 0 | BB5: =AB37 -> 0 | BC5: =AC37 -> 0 | BD5: =AD37 -> 0 | BE5: =AE37 -> 0 | BF5: =AF37 -> 1 | ... BJ5: =AJ37 -> 0 | BK5: =IF(Y37>0,R7,0) -> 0 | BL5: =IF(Y37>0,0,IF(Z37>0,R7,0)) -> 0 | BM5: =IF(Y37+Z37>0,0,IF(AA37>0,R7,0)) -> 0 | BN5: =IF(Y37+Z37+AA37>0,0,IF(AB37>0,R7,0)) -> 0 | BO5: =AC35 -> 0 | BP5: =AD35 -> 0 | BQ5: =AE35 -> 0 | BR5: =AF35 -> 0.09 | BS5: =AG35 -> 0 | BT5: =AH35 -> 0 | BU5: =AI35 -> 0 | BV5: =AJ35 -> 0
B6: スパン別変状展開図 | K6: 【健全性判定集計表】
K7: スパン番号 | N7: PS | P7: スパン長 | R7: 0 | U7: 前回定期点検時の判定 | W7: 応急措置前の判定 | Y7: 対策区分毎の 変状の有無 | AC7: 対策区分毎の変状の発生範囲の規模(㎡) | AK7: 備考注2
K8: 変状番号 | L8: 対象箇所 | N8: 部位区分 | P8: 変状区分 | R8: 変状種類
Y9: 外力注1 | AC9: 材質劣化注1 | AG9: 漏水注1
Y10: Ⅳ | Z10: Ⅲ | AA10: Ⅱa | AB10: Ⅱb | AC10: Ⅳ | AD10: Ⅲ | AE10: Ⅱa | AF10: Ⅱb | AG10: Ⅳ | AH10: Ⅲ | AI10: Ⅱa | AJ10: Ⅱb
K11: 1 | L11: 覆工 | N11: 面壁・妻壁等 | P11: 材質劣化 | R11: 圧ざ、ひび割れ | U11: Ⅱb | W11: - | AF11: 0.09 | AQ11: =IF(P11="材質劣化",2,IF(P11="漏水",3,1)) -> 2 | AS11: =IF(Y11<>"",1,"")
K12: 2 | AQ12: =IF(P12="材質劣化",2,IF(P12="漏水",3,1)) -> 1
K13: 3 | AQ13: =IF(P13="材質劣化",2,IF(P13="漏水",3,1)) -> 1
K14: 4 | AQ14: =IF(P14="材質劣化",2,IF(P14="漏水",3,1)) -> 1
K15: 5 | AQ15: =IF(P15="材質劣化",2,IF(P15="漏水",3,1)) -> 1
K16: 6 | AQ16: =IF(P16="材質劣化",2,IF(P16="漏水",3,1)) -> 1
K17: 7 | AQ17: =IF(P17="材質劣化",2,IF(P17="漏水",3,1)) -> 1
K18: 8 | AQ18: =IF(P18="材質劣化",2,IF(P18="漏水",3,1)) -> 1
K19: 9 | AQ19: =IF(P19="材質劣化",2,IF(P19="漏水",3,1)) -> 1
K20: 10 | AQ20: =IF(P20="材質劣化",2,IF(P20="漏水",3,1)) -> 1
K21: 11 | AQ21: =IF(P21="材質劣化",2,IF(P21="漏水",3,1)) -> 1
K22: 12 | AQ22: =IF(P22="材質劣化",2,IF(P22="漏水",3,1)) -> 1
K23: 13 | AQ23: =IF(P23="材質劣化",2,IF(P23="漏水",3,1)) -> 1
... K27: 17 | AQ27: =IF(P27="材質劣化",2,IF(P27="漏水",3,1)) -> 1
K28: 18 | AQ28: =IF(P30="材質劣化",2,IF(P30="漏水",3,1)) -> 1
K29: 19 | AQ29: =IF(P34="材質劣化",2,IF(P34="漏水",3,1)) -> 1
K30: 20 | AQ30: =IF(P30="材質劣化",2,IF(P30="漏水",3,1)) -> 1
K31: 21 | AQ31: =IF(P33="材質劣化",2,IF(P33="漏水",3,1)) -> 1
K32: 22 | AQ32: =IF(P37="材質劣化",2,IF(P37="漏水",3,1)) -> 1
K33: 23 | AQ33: =IF(P33="材質劣化",2,IF(P33="漏水",3,1)) -> 1
K34: 24 | AQ34: =IF(P36="材質劣化",2,IF(P36="漏水",3,1)) -> 1
K35: 集計 判定 診断 | L35: 変状の発生規模合計(㎡) | Y35: － | AC35: =SUM(AC11:AC34) -> 0 | AD35: =SUM(AD11:AD34) -> 0 | AE35: =SUM(AE11:AE34) -> 0 | AF35: =SUM(AF11:AF34) -> 0.09 | AG35: =SUM(AG11:AG34) -> 0 | AH35: =SUM(AH11:AH34) -> 0 | AI35: =SUM(AI11:AI34) -> 0 | AJ35: =SUM(AJ11:AJ34) -> 0 | AK35: 覆工スパン単位の 健全性の 診断の区分 | AM35: =IF(Y37+AC37+AG37>0,"Ⅳ",IF(Z37+AD37+AH37>0,"Ⅲ",IF(AA37+AB37+AE37+AF37+AI37+AJ37>0,"Ⅱ","Ⅰ"))) -> Ⅱ
L36: 対策区分の 判定結果 | O36: 対策区分毎の変状数注3 | Y36: Ⅳ | Z36: Ⅲ | AA36: Ⅱa | AB36: Ⅱb | AC36: Ⅳ | AD36: Ⅲ | AE36: Ⅱa | AF36: Ⅱb | AG36: Ⅳ | AH36: Ⅲ | AI36: Ⅱa | AJ36: Ⅱb
Y37: =IF(COUNTIF(Y11:Y34,"〇")>0,1,0) -> 0 | Z37: =IF(COUNTIF(Z11:Z34,"〇")>0,1,0) -> 0 | AA37: =IF(COUNTIF(AA11:AA34,"〇")>0,1,0) -> 0 | AB37: =IF(COUNTIF(AB11:AB34,"〇")>0,1,0) -> 0 | AC37: =COUNTA(AC11:AC34) -> 0 | AD37: =COUNTA(AD11:AD34) -> 0 | AE37: =COUNTA(AE11:AE34) -> 0 | AF37: =COUNTA(AF11:AF34) -> 1 | AG37: =COUNTA(AG11:AG34) -> 0 | AH37: =COUNTA(AH11:AH34) -> 0 | AI37: =COUNTA(AI11:AI34) -> 0 | AJ37: =COUNTA(AJ11:AJ34) -> 0
K39: 所見
K43: 注1：誤記入防止のため、当該変状区分以外のセルは灰色表示とすること。
K44: 注2：応急措置を実施した場合は、その詳細を備考に記載すること。
K45: 注3：外力は覆工スパン単位、材質劣化、漏水は変状単位とすること。
B46: （以下、印刷不要）
B47: ※1：本シートは作成洩れのないよう、変状が無くても全スパン分を作成すること．また変状展開図は、様式D-2-1、様式D-2-1'と同じものを覆工スパン単位で拡大し掲載すること。
B48: ※2：変状番号は、様式D-1-1で記入した番号と整合させること。
B49: ※3：対策区分毎の変状発生規模は、様式D-1-1に記載した面積を記入すること（ただし外力はスパン単位で評価するため変状の有無の欄には面積でなく○を記入し、備考欄に状況を記入）。
B50: ※4：本様式は覆工スパン毎に作成すること。
B51: ※5：変状数が多い場合は、適時、表の行を増やして覆工スパン毎に1枚のシートに収めること。また、1スパン１シートとし、スパンに合わせてシートを追加すること。
B52: ※6：対策区分毎の変状の発生範囲の規模とは，対策を行う際に参考となる変状の長さや面積であり，変状を包含する長さや面積とする。
B53: ※7：対策範囲を示す発生範囲の規模を面積で記入することが妥当ではない変状は、発生範囲の規模の欄に○を記入するとともに、備考に内容を記入すること。

Sheet 様式D-3_001
AU1: 様式F用→ | AV1: 覆工スパン | AY1: 変 状 数 | BK1: 変 状 規 模
AV2: 番号 | AW2: 延長 （ｍ） | AX2: 健全性の診断の 区分 | AY2: 対策区分の判定 | BK2: 覆工スパン長（ｍ） | BO2: 変状の発生範囲の規模（㎡）
B3: ■定期点検記録様式 覆工スパン別変状詳細展開図 【様式D-3】 | AY3: 外力 | BC3: 材質劣化 | BG3: 漏水 | BK3: 外力 注2 | BO3: 材質劣化 | BS3: 漏水
B4: フリガナ | E4: フタミトンネル | K4: 路線名 | N4: 栗野二見線 | T4: 定期点検実施者 | Y4: アジア航測株式会社 | AG4: 定期点検年月日 | AK4: 45917 | AY4: Ⅳ | AZ4: Ⅲ | BA4: Ⅱa | BB4: Ⅱb | BC4: Ⅳ | BD4: Ⅲ | BE4: Ⅱa | BF4: Ⅱb | BG4: Ⅳ | BH4: Ⅲ | BI4: Ⅱa | BJ4: Ⅱb | BK4: Ⅳ | BL4: Ⅲ | BM4: Ⅱa | BN4: Ⅱb | BO4: Ⅳ | BP4: Ⅲ | BQ4: Ⅱa | BR4: Ⅱb | BS4: Ⅳ | BT4: Ⅲ | BU4: Ⅱa | BV4: Ⅱb
B5: 名 称 | E5: 二見トンネル | K5: 管理者名 | N5: 山口県下関土木建築事務所 | Y5: 飯田 琢巳 | AV5: =N7 -> 1 | AW5: =R7 -> 1.3 | AX5: =AM35 -> Ⅱ | AY5: =Y37 -> 0 | AZ5: =Z37 -> 0 | BA5: =AA37 -> 0 | BB5: =AB37 -> 0 | BC5: =AC37 -> 0 | BD5: =AD37 -> 0 | BE5: =AE37 -> 0 | BF5: =AF37 -> 1 | ... BJ5: =AJ37 -> 0 | BK5: =IF(Y37>0,R7,0) -> 0 | BL5: =IF(Y37>0,0,IF(Z37>0,R7,0)) -> 0 | BM5: =IF(Y37+Z37>0,0,IF(AA37>0,R7,0)) -> 0 | BN5: =IF(Y37+Z37+AA37>0,0,IF(AB37>0,R7,0)) -> 0 | BO5: =AC35 -> 0 | BP5: =AD35 -> 0 | BQ5: =AE35 -> 0 | BR5: =AF35 -> 0.13 | BS5: =AG35 -> 0 | BT5: =AH35 -> 0 | BU5: =AI35 -> 0 | BV5: =AJ35 -> 0
B6: スパン別変状展開図 | K6: 【健全性判定集計表】
K7: スパン番号 | N7: 1 | P7: スパン長 | R7: 1.3 | U7: 前回定期点検時の判定 | W7: 応急措置前の判定 | Y7: 対策区分毎の 変状の有無 | AC7: 対策区分毎の変状の発生範囲の規模(㎡) | AK7: 備考注2
K8: 変状番号 | L8: 対象箇所 | N8: 部位区分 | P8: 変状区分 | R8: 変状種類
Y9: 外力注1 | AC9: 材質劣化注1 | AG9: 漏水注1
Y10: Ⅳ | Z10: Ⅲ | AA10: Ⅱa | AB10: Ⅱb | AC10: Ⅳ | AD10: Ⅲ | AE10: Ⅱa | AF10: Ⅱb | AG10: Ⅳ | AH10: Ⅲ | AI10: Ⅱa | AJ10: Ⅱb
K11: 1 | L11: 覆工 | N11: アーチ（左側） | P11: 材質劣化 | R11: 圧ざ、ひび割れ | U11: Ⅱb | W11: - | AF11: 0.13 | AQ11: =IF(P11="材質劣化",2,IF(P11="漏水",3,1)) -> 2 | AS11: =IF(Y11<>"",1,"")
K12: 2 | AQ12: =IF(P12="材質劣化",2,IF(P12="漏水",3,1)) -> 1
K13: 3 | AQ13: =IF(P13="材質劣化",2,IF(P13="漏水",3,1)) -> 1
K14: 4 | AQ14: =IF(P14="材質劣化",2,IF(P14="漏水",3,1)) -> 1
K15: 5 | AQ15: =IF(P15="材質劣化",2,IF(P15="漏水",3,1)) -> 1
K16: 6 | AQ16: =IF(P16="材質劣化",2,IF(P16="漏水",3,1)) -> 1
K17: 7 | AQ17: =IF(P17="材質劣化",2,IF(P17="漏水",3,1)) -> 1
K18: 8 | AQ18: =IF(P18="材質劣化",2,IF(P18="漏水",3,1)) -> 1
K19: 9 | AQ19: =IF(P19="材質劣化",2,IF(P19="漏水",3,1)) -> 1
K20: 10 | AQ20: =IF(P20="材質劣化",2,IF(P20="漏水",3,1)) -> 1
K21: 11 | AQ21: =IF(P21="材質劣化",2,IF(P21="漏水",3,1)) -> 1
K22: 12 | AQ22: =IF(P22="材質劣化",2,IF(P22="漏水",3,1)) -> 1
K23: 13 | AQ23: =IF(P23="材質劣化",2,IF(P23="漏水",3,1)) -> 1
... K27: 17 | AQ27: =IF(P27="材質劣化",2,IF(P27="漏水",3,1)) -> 1
K28: 18 | AQ28: =IF(P30="材質劣化",2,IF(P30="漏水",3,1)) -> 1
K29: 19 | AQ29: =IF(P34="材質劣化",2,IF(P34="漏水",3,1)) -> 1
K30: 20 | AQ30: =IF(P30="材質劣化",2,IF(P30="漏水",3,1)) -> 1
K31: 21 | AQ31: =IF(P33="材質劣化",2,IF(P33="漏水",3,1)) -> 1
K32: 22 | AQ32: =IF(P37="材質劣化",2,IF(P37="漏水",3,1)) -> 1
K33: 23 | AQ33: =IF(P33="材質劣化",2,IF(P33="漏水",3,1)) -> 1
K34: 24 | AQ34: =IF(P36="材質劣化",2,IF(P36="漏水",3,1)) -> 1
K35: 集計 判定 診断 | L35: 変状の発生規模合計(㎡) | Y35: － | AC35: =SUM(AC11:AC34) -> 0 | AD35: =SUM(AD11:AD34) -> 0 | AE35: =SUM(AE11:AE34) -> 0 | AF35: =SUM(AF11:AF34) -> 0.13 | AG35: =SUM(AG11:AG34) -> 0 | AH35: =SUM(AH11:AH34) -> 0 | AI35: =SUM(AI11:AI34) -> 0 | AJ35: =SUM(AJ11:AJ34) -> 0 | AK35: 覆工スパン単位の 健全性の 診断の区分 | AM35: =IF(Y37+AC37+AG37>0,"Ⅳ",IF(Z37+AD37+AH37>0,"Ⅲ",IF(AA37+AB37+AE37+AF37+AI37+AJ37>0,"Ⅱ","Ⅰ"))) -> Ⅱ
L36: 対策区分の 判定結果 | O36: 対策区分毎の変状数注3 | Y36: Ⅳ | Z36: Ⅲ | AA36: Ⅱa | AB36: Ⅱb | AC36: Ⅳ | AD36: Ⅲ | AE36: Ⅱa | AF36: Ⅱb | AG36: Ⅳ | AH36: Ⅲ | AI36: Ⅱa | AJ36: Ⅱb
Y37: =IF(COUNTIF(Y11:Y34,"〇")>0,1,0) -> 0 | Z37: =IF(COUNTIF(Z11:Z34,"〇")>0,1,0) -> 0 | AA37: =IF(COUNTIF(AA11:AA34,"〇")>0,1,0) -> 0 | AB37: =IF(COUNTIF(AB11:AB34,"〇")>0,1,0) -> 0 | AC37: =COUNTA(AC11:AC34) -> 0 | AD37: =COUNTA(AD11:AD34) -> 0 | AE37: =COUNTA(AE11:AE34) -> 0 | AF37: =COUNTA(AF11:AF34) -> 1 | AG37: =COUNTA(AG11:AG34) -> 0 | AH37: =COUNTA(AH11:AH34) -> 0 | AI37: =COUNTA(AI11:AI34) -> 0 | AJ37: =COUNTA(AJ11:AJ34) -> 0
K39: 所見
K43: 注1：誤記入防止のため、当該変状区分以外のセルは灰色表示とすること。
K44: 注2：応急措置を実施した場合は、その詳細を備考に記載すること。
K45: 注3：外力は覆工スパン単位、材質劣化、漏水は変状単位とすること。
B46: （以下、印刷不要）
B47: ※1：本シートは作成洩れのないよう、変状が無くても全スパン分を作成すること．また変状展開図は、様式D-2-1、様式D-2-1'と同じものを覆工スパン単位で拡大し掲載すること。
B48: ※2：変状番号は、様式D-1-1で記入した番号と整合させること。
B49: ※3：対策区分毎の変状発生規模は、様式D-1-1に記載した面積を記入すること（ただし外力はスパン単位で評価するため変状の有無の欄には面積でなく○を記入し、備考欄に状況を記入）。
B50: ※4：本様式は覆工スパン毎に作成すること。
B51: ※5：変状数が多い場合は、適時、表の行を増やして覆工スパン毎に1枚のシートに収めること。また、1スパン１シートとし、スパンに合わせてシートを追加すること。
B52: ※6：対策区分毎の変状の発生範囲の規模とは，対策を行う際に参考となる変状の長さや面積であり，変状を包含する長さや面積とする。
B53: ※7：対策範囲を示す発生範囲の規模を面積で記入することが妥当ではない変状は、発生範囲の規模の欄に○を記入するとともに、備考に内容を記入すること。

Sheet 様式D-3_002
AU1: 様式F用→ | AV1: 覆工スパン | AY1: 変 状 数 | BK1: 変 状 規 模
AV2: 番号 | AW2: 延長 （ｍ） | AX2: 健全性の診断の 区分 | AY2: 対策区分の判定 | BK2: 覆工スパン長（ｍ） | BO2: 変状の発生範囲の規模（㎡）
B3: ■定期点検記録様式 覆工スパン別変状詳細展開図 【様式D-3】 | AY3: 外力 | BC3: 材質劣化 | BG3: 漏水 | BK3: 外力 注2 | BO3: 材質劣化 | BS3: 漏水
B4: フリガナ | E4: フタミトンネル | K4: 路線名 | N4: 栗野二見線 | T4: 定期点検実施者 | Y4: アジア航測株式会社 | AG4: 定期点検年月日 | AK4: 45917 | AY4: Ⅳ | AZ4: Ⅲ | BA4: Ⅱa | BB4: Ⅱb | BC4: Ⅳ | BD4: Ⅲ | BE4: Ⅱa | BF4: Ⅱb | BG4: Ⅳ | BH4: Ⅲ | BI4: Ⅱa | BJ4: Ⅱb | BK4: Ⅳ | BL4: Ⅲ | BM4: Ⅱa | BN4: Ⅱb | BO4: Ⅳ | BP4: Ⅲ | BQ4: Ⅱa | BR4: Ⅱb | BS4: Ⅳ | BT4: Ⅲ | BU4: Ⅱa | BV4: Ⅱb
B5: 名 称 | E5: 二見トンネル | K5: 管理者名 | N5: 山口県下関土木建築事務所 | Y5: 飯田 琢巳 | AV5: =N7 -> 2 | AW5: =R7 -> 10.5 | AX5: =AM35 -> Ⅱ | AY5: =Y37 -> 0 | AZ5: =Z37 -> 0 | BA5: =AA37 -> 0 | BB5: =AB37 -> 0 | BC5: =AC37 -> 0 | BD5: =AD37 -> 0 | BE5: =AE37 -> 0 | BF5: =AF37 -> 3 | ... BJ5: =AJ37 -> 0 | BK5: =IF(Y37>0,R7,0) -> 0 | BL5: =IF(Y37>0,0,IF(Z37>0,R7,0)) -> 0 | BM5: =IF(Y37+Z37>0,0,IF(AA37>0,R7,0)) -> 0 | BN5: =IF(Y37+Z37+AA37>0,0,IF(AB37>0,R7,0)) -> 0 | BO5: =AC35 -> 0 | BP5: =AD35 -> 0 | BQ5: =AE35 -> 0 | BR5: =AF35 -> 1.1 | BS5: =AG35 -> 0 | BT5: =AH35 -> 0 | BU5: =AI35 -> 0 | BV5: =AJ35 -> 0
B6: スパン別変状展開図 | K6: 【健全性判定集計表】
K7: スパン番号 | N7: 2 | P7: スパン長 | R7: 10.5 | U7: 前回定期点検時の判定 | W7: 応急措置前の判定 | Y7: 対策区分毎の 変状の有無 | AC7: 対策区分毎の変状の発生範囲の規模(㎡) | AK7: 備考注2
K8: 変状番号 | L8: 対象箇所 | N8: 部位区分 | P8: 変状区分 | R8: 変状種類
Y9: 外力注1 | AC9: 材質劣化注1 | AG9: 漏水注1
Y10: Ⅳ | Z10: Ⅲ | AA10: Ⅱa | AB10: Ⅱb | AC10: Ⅳ | AD10: Ⅲ | AE10: Ⅱa | AF10: Ⅱb | AG10: Ⅳ | AH10: Ⅲ | AI10: Ⅱa | AJ10: Ⅱb
K11: 1 | L11: 覆工 | N11: アーチ（左側） | P11: 材質劣化 | R11: 圧ざ、ひび割れ | U11: Ⅱb | W11: - | AF11: 0.18 | AQ11: =IF(P11="材質劣化",2,IF(P11="漏水",3,1)) -> 2 | AS11: =IF(Y11<>"",1,"")
K12: 2 | L12: 覆工 | N12: アーチ（左側） | P12: 材質劣化 | R12: 圧ざ、ひび割れ | U12: Ⅱb | W12: - | AF12: 0.46 | AQ12: =IF(P12="材質劣化",2,IF(P12="漏水",3,1)) -> 2
K13: 3 | L13: 覆工 | N13: アーチ（右側） | P13: 材質劣化 | R13: 圧ざ、ひび割れ | U13: Ⅱb | W13: - | AF13: 0.46 | AQ13: =IF(P13="材質劣化",2,IF(P13="漏水",3,1)) -> 2
K14: 4 | AQ14: =IF(P14="材質劣化",2,IF(P14="漏水",3,1)) -> 1
K15: 5 | AQ15: =IF(P15="材質劣化",2,IF(P15="漏水",3,1)) -> 1
K16: 6 | AQ16: =IF(P16="材質劣化",2,IF(P16="漏水",3,1)) -> 1
K17: 7 | AQ17: =IF(P17="材質劣化",2,IF(P17="漏水",3,1)) -> 1
K18: 8 | AQ18: =IF(P18="材質劣化",2,IF(P18="漏水",3,1)) -> 1
K19: 9 | AQ19: =IF(P19="材質劣化",2,IF(P19="漏水",3,1)) -> 1
K20: 10 | AQ20: =IF(P20="材質劣化",2,IF(P20="漏水",3,1)) -> 1
K21: 11 | AQ21: =IF(P21="材質劣化",2,IF(P21="漏水",3,1)) -> 1
K22: 12 | AQ22: =IF(P22="材質劣化",2,IF(P22="漏水",3,1)) -> 1
K23: 13 | AQ23: =IF(P23="材質劣化",2,IF(P23="漏水",3,1)) -> 1
K24: 14 | AQ24: =IF(P24="材質劣化",2,IF(P24="漏水",3,1)) -> 1
K25: 15 | AQ25: =IF(P25="材質劣化",2,IF(P25="漏水",3,1)) -> 1
... K27: 17 | AQ27: =IF(P27="材質劣化",2,IF(P27="漏水",3,1)) -> 1
K28: 18 | AQ28: =IF(P30="材質劣化",2,IF(P30="漏水",3,1)) -> 1
K29: 19 | AQ29: =IF(P34="材質劣化",2,IF(P34="漏水",3,1)) -> 1
K30: 20 | AQ30: =IF(P30="材質劣化",2,IF(P30="漏水",3,1)) -> 1
K31: 21 | AQ31: =IF(P33="材質劣化",2,IF(P33="漏水",3,1)) -> 1
K32: 22 | AQ32: =IF(P37="材質劣化",2,IF(P37="漏水",3,1)) -> 1
K33: 23 | AQ33: =IF(P33="材質劣化",2,IF(P33="漏水",3,1)) -> 1
K34: 24 | AQ34: =IF(P36="材質劣化",2,IF(P36="漏水",3,1)) -> 1
K35: 集計 判定 診断 | L35: 変状の発生規模合計(㎡) | Y35: － | AC35: =SUM(AC11:AC34) -> 0 | AD35: =SUM(AD11:AD34) -> 0 | AE35: =SUM(AE11:AE34) -> 0 | AF35: =SUM(AF11:AF34) -> 1.1 | AG35: =SUM(AG11:AG34) -> 0 | AH35: =SUM(AH11:AH34) -> 0 | AI35: =SUM(AI11:AI34) -> 0 | AJ35: =SUM(AJ11:AJ34) -> 0 | AK35: 覆工スパン単位の 健全性の 診断の区分 | AM35: =IF(Y37+AC37+AG37>0,"Ⅳ",IF(Z37+AD37+AH37>0,"Ⅲ",IF(AA37+AB37+AE37+AF37+AI37+AJ37>0,"Ⅱ","Ⅰ"))) -> Ⅱ
L36: 対策区分の 判定結果 | O36: 対策区分毎の変状数注3 | Y36: Ⅳ | Z36: Ⅲ | AA36: Ⅱa | AB36: Ⅱb | AC36: Ⅳ | AD36: Ⅲ | AE36: Ⅱa | AF36: Ⅱb | AG36: Ⅳ | AH36: Ⅲ | AI36: Ⅱa | AJ36: Ⅱb
Y37: =IF(COUNTIF(Y11:Y34,"〇")>0,1,0) -> 0 | Z37: =IF(COUNTIF(Z11:Z34,"〇")>0,1,0) -> 0 | AA37: =IF(COUNTIF(AA11:AA34,"〇")>0,1,0) -> 0 | AB37: =IF(COUNTIF(AB11:AB34,"〇")>0,1,0) -> 0 | AC37: =COUNTA(AC11:AC34) -> 0 | AD37: =COUNTA(AD11:AD34) -> 0 | AE37: =COUNTA(AE11:AE34) -> 0 | AF37: =COUNTA(AF11:AF34) -> 3 | AG37: =COUNTA(AG11:AG34) -> 0 | AH37: =COUNTA(AH11:AH34) -> 0 | AI37: =COUNTA(AI11:AI34) -> 0 | AJ37: =COUNTA(AJ11:AJ34) -> 0
K39: 所見
K43: 注1：誤記入防止のため、当該変状区分以外のセルは灰色表示とすること。
K44: 注2：応急措置を実施した場合は、その詳細を備考に記載すること。
K45: 注3：外力は覆工スパン単位、材質劣化、漏水は変状単位とすること。
B46: （以下、印刷不要）
B47: ※1：本シートは作成洩れのないよう、変状が無くても全スパン分を作成すること．また変状展開図は、様式D-2-1、様式D-2-1'と同じものを覆工スパン単位で拡大し掲載すること。
B48: ※2：変状番号は、様式D-1-1で記入した番号と整合させること。
B49: ※3：対策区分毎の変状発生規模は、様式D-1-1に記載した面積を記入すること（ただし外力はスパン単位で評価するため変状の有無の欄には面積でなく○を記入し、備考欄に状況を記入）。
B50: ※4：本様式は覆工スパン毎に作成すること。
B51: ※5：変状数が多い場合は、適時、表の行を増やして覆工スパン毎に1枚のシートに収めること。また、1スパン１シートとし、スパンに合わせてシートを追加すること。
B52: ※6：対策区分毎の変状の発生範囲の規模とは，対策を行う際に参考となる変状の長さや面積であり，変状を包含する長さや面積とする。
B53: ※7：対策範囲を示す発生範囲の規模を面積で記入することが妥当ではない変状は、発生範囲の規模の欄に○を記入するとともに、備考に内容を記入すること。

Sheet 様式D-3_003
AU1: 様式F用→ | AV1: 覆工スパン | AY1: 変 状 数 | BK1: 変 状 規 模
AV2: 番号 | AW2: 延長 （ｍ） | AX2: 健全性の診断の 区分 | AY2: 対策区分の判定 | BK2: 覆工スパン長（ｍ） | BO2: 変状の発生範囲の規模（㎡）
B3: ■定期点検記録様式 覆工スパン別変状詳細展開図 【様式D-3】 | AY3: 外力 | BC3: 材質劣化 | BG3: 漏水 | BK3: 外力 注2 | BO3: 材質劣化 | BS3: 漏水
B4: フリガナ | E4: フタミトンネル | K4: 路線名 | N4: 栗野二見線 | T4: 定期点検実施者 | Y4: アジア航測株式会社 | AG4: 定期点検年月日 | AK4: 45917 | AY4: Ⅳ | AZ4: Ⅲ | BA4: Ⅱa | BB4: Ⅱb | BC4: Ⅳ | BD4: Ⅲ | BE4: Ⅱa | BF4: Ⅱb | BG4: Ⅳ | BH4: Ⅲ | BI4: Ⅱa | BJ4: Ⅱb | BK4: Ⅳ | BL4: Ⅲ | BM4: Ⅱa | BN4: Ⅱb | BO4: Ⅳ | BP4: Ⅲ | BQ4: Ⅱa | BR4: Ⅱb | BS4: Ⅳ | BT4: Ⅲ | BU4: Ⅱa | BV4: Ⅱb
B5: 名 称 | E5: 二見トンネル | K5: 管理者名 | N5: 山口県下関土木建築事務所 | Y5: 飯田 琢巳 | AV5: =N7 -> 3 | AW5: =R7 -> 10.2 | AX5: =AM35 -> Ⅱ | AY5: =Y37 -> 0 | AZ5: =Z37 -> 0 | BA5: =AA37 -> 0 | BB5: =AB37 -> 0 | BC5: =AC37 -> 0 | BD5: =AD37 -> 0 | BE5: =AE37 -> 2 | BF5: =AF37 -> 2 | ... BJ5: =AJ37 -> 0 | BK5: =IF(Y37>0,R7,0) -> 0 | BL5: =IF(Y37>0,0,IF(Z37>0,R7,0)) -> 0 | BM5: =IF(Y37+Z37>0,0,IF(AA37>0,R7,0)) -> 0 | BN5: =IF(Y37+Z37+AA37>0,0,IF(AB37>0,R7,0)) -> 0 | BO5: =AC35 -> 0 | BP5: =AD35 -> 0 | BQ5: =AE35 -> 0.045 | BR5: =AF35 -> 0.62 | BS5: =AG35 -> 0 | BT5: =AH35 -> 0 | BU5: =AI35 -> 0 | BV5: =AJ35 -> 0
B6: スパン別変状展開図 | K6: 【健全性判定集計表】
K7: スパン番号 | N7: 3 | P7: スパン長 | R7: 10.2 | U7: 前回定期点検時の判定 | W7: 応急措置前の判定 | Y7: 対策区分毎の 変状の有無 | AC7: 対策区分毎の変状の発生範囲の規模(㎡) | AK7: 備考注2
K8: 変状番号 | L8: 対象箇所 | N8: 部位区分 | P8: 変状区分 | R8: 変状種類
Y9: 外力注1 | AC9: 材質劣化注1 | AG9: 漏水注1
Y10: Ⅳ | Z10: Ⅲ | AA10: Ⅱa | AB10: Ⅱb | AC10: Ⅳ | AD10: Ⅲ | AE10: Ⅱa | AF10: Ⅱb | AG10: Ⅳ | AH10: Ⅲ | AI10: Ⅱa | AJ10: Ⅱb
K11: 1 | L11: 覆工 | N11: アーチ（左側） | P11: 材質劣化 | R11: 圧ざ、ひび割れ | U11: Ⅱb | W11: - | AF11: 0.32 | AQ11: =IF(P11="材質劣化",2,IF(P11="漏水",3,1)) -> 2 | AS11: =IF(Y11<>"",1,"")
K12: 2 | L12: 覆工 | N12: アーチ（左側） | P12: 材質劣化 | R12: うき・はく離 | U12: Ⅱb | W12: - | AE12: 0.0325 | AQ12: =IF(P12="材質劣化",2,IF(P12="漏水",3,1)) -> 2
K13: 3 | L13: 覆工 | N13: アーチ（右側） | P13: 材質劣化 | R13: うき・はく離 | U13: Ⅰ | W13: - | AE13: 0.0125 | AQ13: =IF(P13="材質劣化",2,IF(P13="漏水",3,1)) -> 2
K14: 4 | L14: 覆工 | N14: アーチ（右側） | P14: 材質劣化 | R14: 圧ざ、ひび割れ | U14: Ⅱb | W14: - | AF14: 0.3 | AQ14: =IF(P14="材質劣化",2,IF(P14="漏水",3,1)) -> 2
K15: 5 | AQ15: =IF(P15="材質劣化",2,IF(P15="漏水",3,1)) -> 1
K16: 6 | AQ16: =IF(P16="材質劣化",2,IF(P16="漏水",3,1)) -> 1
K17: 7 | AQ17: =IF(P17="材質劣化",2,IF(P17="漏水",3,1)) -> 1
K18: 8 | AQ18: =IF(P18="材質劣化",2,IF(P18="漏水",3,1)) -> 1
K19: 9 | AQ19: =IF(P19="材質劣化",2,IF(P19="漏水",3,1)) -> 1
K20: 10 | AQ20: =IF(P20="材質劣化",2,IF(P20="漏水",3,1)) -> 1
K21: 11 | AQ21: =IF(P21="材質劣化",2,IF(P21="漏水",3,1)) -> 1
K22: 12 | AQ22: =IF(P22="材質劣化",2,IF(P22="漏水",3,1)) -> 1
K23: 13 | AQ23: =IF(P23="材質劣化",2,IF(P23="漏水",3,1)) -> 1
K24: 14 | AQ24: =IF(P24="材質劣化",2,IF(P24="漏水",3,1)) -> 1
K25: 15 | AQ25: =IF(P25="材質劣化",2,IF(P25="漏水",3,1)) -> 1
K26: 16 | AQ26: =IF(P26="材質劣化",2,IF(P26="漏水",3,1)) -> 1
K27: 17 | AQ27: =IF(P27="材質劣化",2,IF(P27="漏水",3,1)) -> 1
K28: 18 | AQ28: =IF(P30="材質劣化",2,IF(P30="漏水",3,1)) -> 1
K29: 19 | AQ29: =IF(P34="材質劣化",2,IF(P34="漏水",3,1)) -> 1
K30: 20 | AQ30: =IF(P30="材質劣化",2,IF(P30="漏水",3,1)) -> 1
K31: 21 | AQ31: =IF(P33="材質劣化",2,IF(P33="漏水",3,1)) -> 1
K32: 22 | AQ32: =IF(P37="材質劣化",2,IF(P37="漏水",3,1)) -> 1
K33: 23 | AQ33: =IF(P33="材質劣化",2,IF(P33="漏水",3,1)) -> 1
K34: 24 | AQ34: =IF(P36="材質劣化",2,IF(P36="漏水",3,1)) -> 1
K35: 集計 判定 診断 | L35: 変状の発生規模合計(㎡) | Y35: － | AC35: =SUM(AC11:AC34) -> 0 | AD35: =SUM(AD11:AD34) -> 0 | AE35: =SUM(AE11:AE34) -> 0.045 | AF35: =SUM(AF11:AF34) -> 0.62 | AG35: =SUM(AG11:AG34) -> 0 | AH35: =SUM(AH11:AH34) -> 0 | AI35: =SUM(AI11:AI34) -> 0 | AJ35: =SUM(AJ11:AJ34) -> 0 | AK35: 覆工スパン単位の 健全性の 診断の区分 | AM35: =IF(Y37+AC37+AG37>0,"Ⅳ",IF(Z37+AD37+AH37>0,"Ⅲ",IF(AA37+AB37+AE37+AF37+AI37+AJ37>0,"Ⅱ","Ⅰ"))) -> Ⅱ
L36: 対策区分の 判定結果 | O36: 対策区分毎の変状数注3 | Y36: Ⅳ | Z36: Ⅲ | AA36: Ⅱa | AB36: Ⅱb | AC36: Ⅳ | AD36: Ⅲ | AE36: Ⅱa | AF36: Ⅱb | AG36: Ⅳ | AH36: Ⅲ | AI36: Ⅱa | AJ36: Ⅱb
Y37: =IF(COUNTIF(Y11:Y34,"〇")>0,1,0) -> 0 | Z37: =IF(COUNTIF(Z11:Z34,"〇")>0,1,0) -> 0 | AA37: =IF(COUNTIF(AA11:AA34,"〇")>0,1,0) -> 0 | AB37: =IF(COUNTIF(AB11:AB34,"〇")>0,1,0) -> 0 | AC37: =COUNTA(AC11:AC34) -> 0 | AD37: =COUNTA(AD11:AD34) -> 0 | AE37: =COUNTA(AE11:AE34) -> 2 | AF37: =COUNTA(AF11:AF34) -> 2 | AG37: =COUNTA(AG11:AG34) -> 0 | AH37: =COUNTA(AH11:AH34) -> 0 | AI37: =COUNTA(AI11:AI34) -> 0 | AJ37: =COUNTA(AJ11:AJ34) -> 0
K39: 所見
K43: 注1：誤記入防止のため、当該変状区分以外のセルは灰色表示とすること。
K44: 注2：応急措置を実施した場合は、その詳細を備考に記載すること。
K45: 注3：外力は覆工スパン単位、材質劣化、漏水は変状単位とすること。
B46: （以下、印刷不要）
B47: ※1：本シートは作成洩れのないよう、変状が無くても全スパン分を作成すること．また変状展開図は、様式D-2-1、様式D-2-1'と同じものを覆工スパン単位で拡大し掲載すること。
B48: ※2：変状番号は、様式D-1-1で記入した番号と整合させること。
B49: ※3：対策区分毎の変状発生規模は、様式D-1-1に記載した面積を記入すること（ただし外力はスパン単位で評価するため変状の有無の欄には面積でなく○を記入し、備考欄に状況を記入）。
B50: ※4：本様式は覆工スパン毎に作成すること。
B51: ※5：変状数が多い場合は、適時、表の行を増やして覆工スパン毎に1枚のシートに収めること。また、1スパン１シートとし、スパンに合わせてシートを追加すること。
B52: ※6：対策区分毎の変状の発生範囲の規模とは，対策を行う際に参考となる変状の長さや面積であり，変状を包含する長さや面積とする。
B53: ※7：対策範囲を示す発生範囲の規模を面積で記入することが妥当ではない変状は、発生範囲の規模の欄に○を記入するとともに、備考に内容を記入すること。

Sheet 様式D-3_004
AU1: 様式F用→ | AV1: 覆工スパン | AY1: 変 状 数 | BK1: 変 状 規 模
AV2: 番号 | AW2: 延長 （ｍ） | AX2: 健全性の診断の 区分 | AY2: 対策区分の判定 | BK2: 覆工スパン長（ｍ） | BO2: 変状の発生範囲の規模（㎡）
B3: ■定期点検記録様式 覆工スパン別変状詳細展開図 【様式D-3】 | AY3: 外力 | BC3: 材質劣化 | BG3: 漏水 | BK3: 外力 注2 | BO3: 材質劣化 | BS3: 漏水
B4: フリガナ | E4: フタミトンネル | K4: 路線名 | N4: 栗野二見線 | T4: 定期点検実施者 | Y4: アジア航測株式会社 | AG4: 定期点検年月日 | AK4: 45917 | AY4: Ⅳ | AZ4: Ⅲ | BA4: Ⅱa | BB4: Ⅱb | BC4: Ⅳ | BD4: Ⅲ | BE4: Ⅱa | BF4: Ⅱb | BG4: Ⅳ | BH4: Ⅲ | BI4: Ⅱa | BJ4: Ⅱb | BK4: Ⅳ | BL4: Ⅲ | BM4: Ⅱa | BN4: Ⅱb | BO4: Ⅳ | BP4: Ⅲ | BQ4: Ⅱa | BR4: Ⅱb | BS4: Ⅳ | BT4: Ⅲ | BU4: Ⅱa | BV4: Ⅱb
B5: 名 称 | E5: 二見トンネル | K5: 管理者名 | N5: 山口県下関土木建築事務所 | Y5: 飯田 琢巳 | AV5: =N7 -> 4 | AW5: =R7 -> 10.3 | AX5: =AM35 -> Ⅱ | AY5: =Y37 -> 0 | AZ5: =Z37 -> 0 | BA5: =AA37 -> 0 | BB5: =AB37 -> 0 | BC5: =AC37 -> 0 | BD5: =AD37 -> 0 | BE5: =AE37 -> 0 | BF5: =AF37 -> 2 | ... BJ5: =AJ37 -> 0 | BK5: =IF(Y37>0,R7,0) -> 0 | BL5: =IF(Y37>0,0,IF(Z37>0,R7,0)) -> 0 | BM5: =IF(Y37+Z37>0,0,IF(AA37>0,R7,0)) -> 0 | BN5: =IF(Y37+Z37+AA37>0,0,IF(AB37>0,R7,0)) -> 0 | BO5: =AC35 -> 0 | BP5: =AD35 -> 0 | BQ5: =AE35 -> 0 | BR5: =AF35 -> 0.61 | BS5: =AG35 -> 0 | BT5: =AH35 -> 0 | BU5: =AI35 -> 0 | BV5: =AJ35 -> 0
B6: スパン別変状展開図 | K6: 【健全性判定集計表】
K7: スパン番号 | N7: 4 | P7: スパン長 | R7: 10.3 | U7: 前回定期点検時の判定 | W7: 応急措置前の判定 | Y7: 対策区分毎の 変状の有無 | AC7: 対策区分毎の変状の発生範囲の規模(㎡) | AK7: 備考注2
K8: 変状番号 | L8: 対象箇所 | N8: 部位区分 | P8: 変状区分 | R8: 変状種類
Y9: 外力注1 | AC9: 材質劣化注1 | AG9: 漏水注1
Y10: Ⅳ | Z10: Ⅲ | AA10: Ⅱa | AB10: Ⅱb | AC10: Ⅳ | AD10: Ⅲ | AE10: Ⅱa | AF10: Ⅱb | AG10: Ⅳ | AH10: Ⅲ | AI10: Ⅱa | AJ10: Ⅱb
K11: 1 | L11: 覆工 | N11: アーチ（左側） | P11: 材質劣化 | R11: 圧ざ、ひび割れ | U11: Ⅱb | W11: - | AF11: 0.35 | AQ11: =IF(P11="材質劣化",2,IF(P11="漏水",3,1)) -> 2 | AS11: =IF(Y11<>"",1,"")
K12: 2 | L12: 覆工 | N12: アーチ（右側） | P12: 材質劣化 | R12: 圧ざ、ひび割れ | U12: Ⅱb | W12: - | AF12: 0.26 | AQ12: =IF(P12="材質劣化",2,IF(P12="漏水",3,1)) -> 2
K13: 3 | AQ13: =IF(P13="材質劣化",2,IF(P13="漏水",3,1)) -> 1
K14: 4 | AQ14: =IF(P14="材質劣化",2,IF(P14="漏水",3,1)) -> 1
K15: 5 | AQ15: =IF(P15="材質劣化",2,IF(P15="漏水",3,1)) -> 1
K16: 6 | AQ16: =IF(P16="材質劣化",2,IF(P16="漏水",3,1)) -> 1
K17: 7 | AQ17: =IF(P17="材質劣化",2,IF(P17="漏水",3,1)) -> 1
K18: 8 | AQ18: =IF(P18="材質劣化",2,IF(P18="漏水",3,1)) -> 1
K19: 9 | AQ19: =IF(P19="材質劣化",2,IF(P19="漏水",3,1)) -> 1
K20: 10 | AQ20: =IF(P20="材質劣化",2,IF(P20="漏水",3,1)) -> 1
K21: 11 | AQ21: =IF(P21="材質劣化",2,IF(P21="漏水",3,1)) -> 1
K22: 12 | AQ22: =IF(P22="材質劣化",2,IF(P22="漏水",3,1)) -> 1
K23: 13 | AQ23: =IF(P23="材質劣化",2,IF(P23="漏水",3,1)) -> 1
K24: 14 | AQ24: =IF(P24="材質劣化",2,IF(P24="漏水",3,1)) -> 1
... K27: 17 | AQ27: =IF(P27="材質劣化",2,IF(P27="漏水",3,1)) -> 1
K28: 18 | AQ28: =IF(P30="材質劣化",2,IF(P30="漏水",3,1)) -> 1
K29: 19 | AQ29: =IF(P34="材質劣化",2,IF(P34="漏水",3,1)) -> 1
K30: 20 | AQ30: =IF(P30="材質劣化",2,IF(P30="漏水",3,1)) -> 1
K31: 21 | AQ31: =IF(P33="材質劣化",2,IF(P33="漏水",3,1)) -> 1
K32: 22 | AQ32: =IF(P37="材質劣化",2,IF(P37="漏水",3,1)) -> 1
K33: 23 | AQ33: =IF(P33="材質劣化",2,IF(P33="漏水",3,1)) -> 1
K34: 24 | AQ34: =IF(P36="材質劣化",2,IF(P36="漏水",3,1)) -> 1
K35: 集計 判定 診断 | L35: 変状の発生規模合計(㎡) | Y35: － | AC35: =SUM(AC11:AC34) -> 0 | AD35: =SUM(AD11:AD34) -> 0 | AE35: =SUM(AE11:AE34) -> 0 | AF35: =SUM(AF11:AF34) -> 0.61 | AG35: =SUM(AG11:AG34) -> 0 | AH35: =SUM(AH11:AH34) -> 0 | AI35: =SUM(AI11:AI34) -> 0 | AJ35: =SUM(AJ11:AJ34) -> 0 | AK35: 覆工スパン単位の 健全性の 診断の区分 | AM35: =IF(Y37+AC37+AG37>0,"Ⅳ",IF(Z37+AD37+AH37>0,"Ⅲ",IF(AA37+AB37+AE37+AF37+AI37+AJ37>0,"Ⅱ","Ⅰ"))) -> Ⅱ
L36: 対策区分の 判定結果 | O36: 対策区分毎の変状数注3 | Y36: Ⅳ | Z36: Ⅲ | AA36: Ⅱa | AB36: Ⅱb | AC36: Ⅳ | AD36: Ⅲ | AE36: Ⅱa | AF36: Ⅱb | AG36: Ⅳ | AH36: Ⅲ | AI36: Ⅱa | AJ36: Ⅱb
Y37: =IF(COUNTIF(Y11:Y34,"〇")>0,1,0) -> 0 | Z37: =IF(COUNTIF(Z11:Z34,"〇")>0,1,0) -> 0 | AA37: =IF(COUNTIF(AA11:AA34,"〇")>0,1,0) -> 0 | AB37: =IF(COUNTIF(AB11:AB34,"〇")>0,1,0) -> 0 | AC37: =COUNTA(AC11:AC34) -> 0 | AD37: =COUNTA(AD11:AD34) -> 0 | AE37: =COUNTA(AE11:AE34) -> 0 | AF37: =COUNTA(AF11:AF34) -> 2 | AG37: =COUNTA(AG11:AG34) -> 0 | AH37: =COUNTA(AH11:AH34) -> 0 | AI37: =COUNTA(AI11:AI34) -> 0 | AJ37: =COUNTA(AJ11:AJ34) -> 0
K39: 所見
K43: 注1：誤記入防止のため、当該変状区分以外のセルは灰色表示とすること。
K44: 注2：応急措置を実施した場合は、その詳細を備考に記載すること。
K45: 注3：外力は覆工スパン単位、材質劣化、漏水は変状単位とすること。
B46: （以下、印刷不要）
B47: ※1：本シートは作成洩れのないよう、変状が無くても全スパン分を作成すること．また変状展開図は、様式D-2-1、様式D-2-1'と同じものを覆工スパン単位で拡大し掲載すること。
B48: ※2：変状番号は、様式D-1-1で記入した番号と整合させること。
B49: ※3：対策区分毎の変状発生規模は、様式D-1-1に記載した面積を記入すること（ただし外力はスパン単位で評価するため変状の有無の欄には面積でなく○を記入し、備考欄に状況を記入）。
B50: ※4：本様式は覆工スパン毎に作成すること。
B51: ※5：変状数が多い場合は、適時、表の行を増やして覆工スパン毎に1枚のシートに収めること。また、1スパン１シートとし、スパンに合わせてシートを追加すること。
B52: ※6：対策区分毎の変状の発生範囲の規模とは，対策を行う際に参考となる変状の長さや面積であり，変状を包含する長さや面積とする。
B53: ※7：対策範囲を示す発生範囲の規模を面積で記入することが妥当ではない変状は、発生範囲の規模の欄に○を記入するとともに、備考に内容を記入すること。

Sheet 様式D-3_005
AU1: 様式F用→ | AV1: 覆工スパン | AY1: 変 状 数 | BK1: 変 状 規 模
AV2: 番号 | AW2: 延長 （ｍ） | AX2: 健全性の診断の 区分 | AY2: 対策区分の判定 | BK2: 覆工スパン長（ｍ） | BO2: 変状の発生範囲の規模（㎡）
B3: ■定期点検記録様式 覆工スパン別変状詳細展開図 【様式D-3】 | AY3: 外力 | BC3: 材質劣化 | BG3: 漏水 | BK3: 外力 注2 | BO3: 材質劣化 | BS3: 漏水
B4: フリガナ | E4: フタミトンネル | K4: 路線名 | N4: 栗野二見線 | T4: 定期点検実施者 | Y4: アジア航測株式会社 | AG4: 定期点検年月日 | AK4: 45917 | AY4: Ⅳ | AZ4: Ⅲ | BA4: Ⅱa | BB4: Ⅱb | BC4: Ⅳ | BD4: Ⅲ | BE4: Ⅱa | BF4: Ⅱb | BG4: Ⅳ | BH4: Ⅲ | BI4: Ⅱa | BJ4: Ⅱb | BK4: Ⅳ | BL4: Ⅲ | BM4: Ⅱa | BN4: Ⅱb | BO4: Ⅳ | BP4: Ⅲ | BQ4: Ⅱa | BR4: Ⅱb | BS4: Ⅳ | BT4: Ⅲ | BU4: Ⅱa | BV4: Ⅱb
B5: 名 称 | E5: 二見トンネル | K5: 管理者名 | N5: 山口県下関土木建築事務所 | Y5: 飯田 琢巳 | AV5: =N7 -> 5 | AW5: =R7 -> 10.4 | AX5: =AM35 -> Ⅱ | AY5: =Y37 -> 0 | AZ5: =Z37 -> 0 | BA5: =AA37 -> 0 | BB5: =AB37 -> 0 | BC5: =AC37 -> 0 | BD5: =AD37 -> 0 | BE5: =AE37 -> 1 | BF5: =AF37 -> 3 | ... BJ5: =AJ37 -> 0 | BK5: =IF(Y37>0,R7,0) -> 0 | BL5: =IF(Y37>0,0,IF(Z37>0,R7,0)) -> 0 | BM5: =IF(Y37+Z37>0,0,IF(AA37>0,R7,0)) -> 0 | BN5: =IF(Y37+Z37+AA37>0,0,IF(AB37>0,R7,0)) -> 0 | BO5: =AC35 -> 0 | BP5: =AD35 -> 0 | BQ5: =AE35 -> 0.005 | BR5: =AF35 -> 1.2 | BS5: =AG35 -> 0 | BT5: =AH35 -> 0 | BU5: =AI35 -> 0 | BV5: =AJ35 -> 0
B6: スパン別変状展開図 | K6: 【健全性判定集計表】
K7: スパン番号 | N7: 5 | P7: スパン長 | R7: 10.4 | U7: 前回定期点検時の判定 | W7: 応急措置前の判定 | Y7: 対策区分毎の 変状の有無 | AC7: 対策区分毎の変状の発生範囲の規模(㎡) | AK7: 備考注2
K8: 変状番号 | L8: 対象箇所 | N8: 部位区分 | P8: 変状区分 | R8: 変状種類
Y9: 外力注1 | AC9: 材質劣化注1 | AG9: 漏水注1
Y10: Ⅳ | Z10: Ⅲ | AA10: Ⅱa | AB10: Ⅱb | AC10: Ⅳ | AD10: Ⅲ | AE10: Ⅱa | AF10: Ⅱb | AG10: Ⅳ | AH10: Ⅲ | AI10: Ⅱa | AJ10: Ⅱb
K11: 1 | L11: 覆工 | N11: アーチ（左側） | P11: 材質劣化 | R11: 圧ざ、ひび割れ | U11: Ⅱb | W11: - | AF11: 0.36 | AQ11: =IF(P11="材質劣化",2,IF(P11="漏水",3,1)) -> 2 | AS11: =IF(Y11<>"",1,"")
K12: 2 | L12: 覆工 | N12: アーチ（左側） | P12: 材質劣化 | R12: うき・はく離 | U12: Ⅱb | W12: - | AE12: 0.005 | AQ12: =IF(P12="材質劣化",2,IF(P12="漏水",3,1)) -> 2
K13: 3 | L13: 覆工 | N13: アーチ（左側） | P13: 材質劣化 | R13: 圧ざ、ひび割れ | U13: Ⅱb | W13: - | AF13: 0.51 | AQ13: =IF(P13="材質劣化",2,IF(P13="漏水",3,1)) -> 2
K14: 4 | L14: 覆工 | N14: アーチ（右側） | P14: 材質劣化 | R14: 圧ざ、ひび割れ | U14: Ⅱb | W14: - | AF14: 0.33 | AQ14: =IF(P14="材質劣化",2,IF(P14="漏水",3,1)) -> 2
K15: 5 | AQ15: =IF(P15="材質劣化",2,IF(P15="漏水",3,1)) -> 1
K16: 6 | AQ16: =IF(P16="材質劣化",2,IF(P16="漏水",3,1)) -> 1
K17: 7 | AQ17: =IF(P17="材質劣化",2,IF(P17="漏水",3,1)) -> 1
K18: 8 | AQ18: =IF(P18="材質劣化",2,IF(P18="漏水",3,1)) -> 1
K19: 9 | AQ19: =IF(P19="材質劣化",2,IF(P19="漏水",3,1)) -> 1
K20: 10 | AQ20: =IF(P20="材質劣化",2,IF(P20="漏水",3,1)) -> 1
K21: 11 | AQ21: =IF(P21="材質劣化",2,IF(P21="漏水",3,1)) -> 1
K22: 12 | AQ22: =IF(P22="材質劣化",2,IF(P22="漏水",3,1)) -> 1
K23: 13 | AQ23: =IF(P23="材質劣化",2,IF(P23="漏水",3,1)) -> 1
K24: 14 | AQ24: =IF(P24="材質劣化",2,IF(P24="漏水",3,1)) -> 1
K25: 15 | AQ25: =IF(P25="材質劣化",2,IF(P25="漏水",3,1)) -> 1
K26: 16 | AQ26: =IF(P26="材質劣化",2,IF(P26="漏水",3,1)) -> 1
K27: 17 | AQ27: =IF(P27="材質劣化",2,IF(P27="漏水",3,1)) -> 1
K28: 18 | AQ28: =IF(P30="材質劣化",2,IF(P30="漏水",3,1)) -> 1
K29: 19 | AQ29: =IF(P34="材質劣化",2,IF(P34="漏水",3,1)) -> 1
K30: 20 | AQ30: =IF(P30="材質劣化",2,IF(P30="漏水",3,1)) -> 1
K31: 21 | AQ31: =IF(P33="材質劣化",2,IF(P33="漏水",3,1)) -> 1
K32: 22 | AQ32: =IF(P37="材質劣化",2,IF(P37="漏水",3,1)) -> 1
K33: 23 | AQ33: =IF(P33="材質劣化",2,IF(P33="漏水",3,1)) -> 1
K34: 24 | AQ34: =IF(P36="材質劣化",2,IF(P36="漏水",3,1)) -> 1
K35: 集計 判定 診断 | L35: 変状の発生規模合計(㎡) | Y35: － | AC35: =SUM(AC11:AC34) -> 0 | AD35: =SUM(AD11:AD34) -> 0 | AE35: =SUM(AE11:AE34) -> 0.005 | AF35: =SUM(AF11:AF34) -> 1.2 | AG35: =SUM(AG11:AG34) -> 0 | AH35: =SUM(AH11:AH34) -> 0 | AI35: =SUM(AI11:AI34) -> 0 | AJ35: =SUM(AJ11:AJ34) -> 0 | AK35: 覆工スパン単位の 健全性の 診断の区分 | AM35: =IF(Y37+AC37+AG37>0,"Ⅳ",IF(Z37+AD37+AH37>0,"Ⅲ",IF(AA37+AB37+AE37+AF37+AI37+AJ37>0,"Ⅱ","Ⅰ"))) -> Ⅱ
L36: 対策区分の 判定結果 | O36: 対策区分毎の変状数注3 | Y36: Ⅳ | Z36: Ⅲ | AA36: Ⅱa | AB36: Ⅱb | AC36: Ⅳ | AD36: Ⅲ | AE36: Ⅱa | AF36: Ⅱb | AG36: Ⅳ | AH36: Ⅲ | AI36: Ⅱa | AJ36: Ⅱb
Y37: =IF(COUNTIF(Y11:Y34,"〇")>0,1,0) -> 0 | Z37: =IF(COUNTIF(Z11:Z34,"〇")>0,1,0) -> 0 | AA37: =IF(COUNTIF(AA11:AA34,"〇")>0,1,0) -> 0 | AB37: =IF(COUNTIF(AB11:AB34,"〇")>0,1,0) -> 0 | AC37: =COUNTA(AC11:AC34) -> 0 | AD37: =COUNTA(AD11:AD34) -> 0 | AE37: =COUNTA(AE11:AE34) -> 1 | AF37: =COUNTA(AF11:AF34) -> 3 | AG37: =COUNTA(AG11:AG34) -> 0 | AH37: =COUNTA(AH11:AH34) -> 0 | AI37: =COUNTA(AI11:AI34) -> 0 | AJ37: =COUNTA(AJ11:AJ34) -> 0
K39: 所見
K43: 注1：誤記入防止のため、当該変状区分以外のセルは灰色表示とすること。
K44: 注2：応急措置を実施した場合は、その詳細を備考に記載すること。
K45: 注3：外力は覆工スパン単位、材質劣化、漏水は変状単位とすること。
B46: （以下、印刷不要）
B47: ※1：本シートは作成洩れのないよう、変状が無くても全スパン分を作成すること．また変状展開図は、様式D-2-1、様式D-2-1'と同じものを覆工スパン単位で拡大し掲載すること。
B48: ※2：変状番号は、様式D-1-1で記入した番号と整合させること。
B49: ※3：対策区分毎の変状発生規模は、様式D-1-1に記載した面積を記入すること（ただし外力はスパン単位で評価するため変状の有無の欄には面積でなく○を記入し、備考欄に状況を記入）。
B50: ※4：本様式は覆工スパン毎に作成すること。
B51: ※5：変状数が多い場合は、適時、表の行を増やして覆工スパン毎に1枚のシートに収めること。また、1スパン１シートとし、スパンに合わせてシートを追加すること。
B52: ※6：対策区分毎の変状の発生範囲の規模とは，対策を行う際に参考となる変状の長さや面積であり，変状を包含する長さや面積とする。
B53: ※7：対策範囲を示す発生範囲の規模を面積で記入することが妥当ではない変状は、発生範囲の規模の欄に○を記入するとともに、備考に内容を記入すること。

Sheet 様式D-3_006
AU1: 様式F用→ | AV1: 覆工スパン | AY1: 変 状 数 | BK1: 変 状 規 模
AV2: 番号 | AW2: 延長 （ｍ） | AX2: 健全性の診断の 区分 | AY2: 対策区分の判定 | BK2: 覆工スパン長（ｍ） | BO2: 変状の発生範囲の規模（㎡）
B3: ■定期点検記録様式 覆工スパン別変状詳細展開図 【様式D-3】 | AY3: 外力 | BC3: 材質劣化 | BG3: 漏水 | BK3: 外力 注2 | BO3: 材質劣化 | BS3: 漏水
B4: フリガナ | E4: フタミトンネル | K4: 路線名 | N4: 栗野二見線 | T4: 定期点検実施者 | Y4: アジア航測株式会社 | AG4: 定期点検年月日 | AK4: 45917 | AY4: Ⅳ | AZ4: Ⅲ | BA4: Ⅱa | BB4: Ⅱb | BC4: Ⅳ | BD4: Ⅲ | BE4: Ⅱa | BF4: Ⅱb | BG4: Ⅳ | BH4: Ⅲ | BI4: Ⅱa | BJ4: Ⅱb | BK4: Ⅳ | BL4: Ⅲ | BM4: Ⅱa | BN4: Ⅱb | BO4: Ⅳ | BP4: Ⅲ | BQ4: Ⅱa | BR4: Ⅱb | BS4: Ⅳ | BT4: Ⅲ | BU4: Ⅱa | BV4: Ⅱb
B5: 名 称 | E5: 二見トンネル | K5: 管理者名 | N5: 山口県下関土木建築事務所 | Y5: 飯田 琢巳 | AV5: =N7 -> 6 | AW5: =R7 -> 10 | AX5: =AM35 -> Ⅱ | AY5: =Y37 -> 0 | AZ5: =Z37 -> 0 | BA5: =AA37 -> 0 | BB5: =AB37 -> 0 | BC5: =AC37 -> 0 | BD5: =AD37 -> 0 | BE5: =AE37 -> 3 | BF5: =AF37 -> 2 | ... BJ5: =AJ37 -> 0 | BK5: =IF(Y37>0,R7,0) -> 0 | BL5: =IF(Y37>0,0,IF(Z37>0,R7,0)) -> 0 | BM5: =IF(Y37+Z37>0,0,IF(AA37>0,R7,0)) -> 0 | BN5: =IF(Y37+Z37+AA37>0,0,IF(AB37>0,R7,0)) -> 0 | BO5: =AC35 -> 0 | BP5: =AD35 -> 0 | BQ5: =AE35 -> 0.0575 | BR5: =AF35 -> 0.385 | BS5: =AG35 -> 0 | BT5: =AH35 -> 0 | BU5: =AI35 -> 0 | BV5: =AJ35 -> 0
B6: スパン別変状展開図 | K6: 【健全性判定集計表】
K7: スパン番号 | N7: 6 | P7: スパン長 | R7: 10 | U7: 前回定期点検時の判定 | W7: 応急措置前の判定 | Y7: 対策区分毎の 変状の有無 | AC7: 対策区分毎の変状の発生範囲の規模(㎡) | AK7: 備考注2
K8: 変状番号 | L8: 対象箇所 | N8: 部位区分 | P8: 変状区分 | R8: 変状種類
Y9: 外力注1 | AC9: 材質劣化注1 | AG9: 漏水注1
Y10: Ⅳ | Z10: Ⅲ | AA10: Ⅱa | AB10: Ⅱb | AC10: Ⅳ | AD10: Ⅲ | AE10: Ⅱa | AF10: Ⅱb | AG10: Ⅳ | AH10: Ⅲ | AI10: Ⅱa | AJ10: Ⅱb
K11: 1 | L11: 覆工 | N11: アーチ（左側） | P11: 材質劣化 | R11: 圧ざ、ひび割れ | U11: Ⅱb | W11: - | AF11: 0.38 | AQ11: =IF(P11="材質劣化",2,IF(P11="漏水",3,1)) -> 2 | AS11: =IF(Y11<>"",1,"")
K12: 2 | L12: 覆工 | N12: アーチ（左側） | P12: 材質劣化 | R12: うき・はく離 | U12: Ⅰ | W12: - | AQ12: =IF(P12="材質劣化",2,IF(P12="漏水",3,1)) -> 2
K13: 3 | L13: 覆工 | N13: アーチ（右側） | P13: 材質劣化 | R13: うき・はく離 | U13: Ⅱb | W13: - | AE13: 0.03 | AQ13: =IF(P13="材質劣化",2,IF(P13="漏水",3,1)) -> 2
K14: 4 | L14: 覆工 | N14: アーチ（右側） | P14: 材質劣化 | R14: うき・はく離 | U14: Ⅱb | W14: - | AE14: 0.01 | AQ14: =IF(P14="材質劣化",2,IF(P14="漏水",3,1)) -> 2
K15: 5 | L15: 覆工 | N15: アーチ（右側） | P15: 材質劣化 | R15: うき・はく離 | U15: Ⅱb | W15: - | AF15: 0.005 | AQ15: =IF(P15="材質劣化",2,IF(P15="漏水",3,1)) -> 2
K16: 6 | L16: 覆工 | N16: アーチ（右側） | P16: 材質劣化 | R16: うき・はく離 | U16: Ⅱb | W16: - | AE16: 0.0175 | AQ16: =IF(P16="材質劣化",2,IF(P16="漏水",3,1)) -> 2
K17: 7 | AQ17: =IF(P17="材質劣化",2,IF(P17="漏水",3,1)) -> 1
K18: 8 | AQ18: =IF(P18="材質劣化",2,IF(P18="漏水",3,1)) -> 1
K19: 9 | AQ19: =IF(P19="材質劣化",2,IF(P19="漏水",3,1)) -> 1
K20: 10 | AQ20: =IF(P20="材質劣化",2,IF(P20="漏水",3,1)) -> 1
K21: 11 | AQ21: =IF(P21="材質劣化",2,IF(P21="漏水",3,1)) -> 1
K22: 12 | AQ22: =IF(P22="材質劣化",2,IF(P22="漏水",3,1)) -> 1
K23: 13 | AQ23: =IF(P23="材質劣化",2,IF(P23="漏水",3,1)) -> 1
K24: 14 | AQ24: =IF(P24="材質劣化",2,IF(P24="漏水",3,1)) -> 1
K25: 15 | AQ25: =IF(P25="材質劣化",2,IF(P25="漏水",3,1)) -> 1
K26: 16 | AQ26: =IF(P26="材質劣化",2,IF(P26="漏水",3,1)) -> 1
K27: 17 | AQ27: =IF(P27="材質劣化",2,IF(P27="漏水",3,1)) -> 1
K28: 18 | AQ28: =IF(P30="材質劣化",2,IF(P30="漏水",3,1)) -> 1
K29: 19 | AQ29: =IF(P34="材質劣化",2,IF(P34="漏水",3,1)) -> 1
K30: 20 | AQ30: =IF(P30="材質劣化",2,IF(P30="漏水",3,1)) -> 1
K31: 21 | AQ31: =IF(P33="材質劣化",2,IF(P33="漏水",3,1)) -> 1
K32: 22 | AQ32: =IF(P37="材質劣化",2,IF(P37="漏水",3,1)) -> 1
K33: 23 | AQ33: =IF(P33="材質劣化",2,IF(P33="漏水",3,1)) -> 1
K34: 24 | AQ34: =IF(P36="材質劣化",2,IF(P36="漏水",3,1)) -> 1
K35: 集計 判定 診断 | L35: 変状の発生規模合計(㎡) | Y35: － | AC35: =SUM(AC11:AC34) -> 0 | AD35: =SUM(AD11:AD34) -> 0 | AE35: =SUM(AE11:AE34) -> 0.0575 | AF35: =SUM(AF11:AF34) -> 0.385 | AG35: =SUM(AG11:AG34) -> 0 | AH35: =SUM(AH11:AH34) -> 0 | AI35: =SUM(AI11:AI34) -> 0 | AJ35: =SUM(AJ11:AJ34) -> 0 | AK35: 覆工スパン単位の 健全性の 診断の区分 | AM35: =IF(Y37+AC37+AG37>0,"Ⅳ",IF(Z37+AD37+AH37>0,"Ⅲ",IF(AA37+AB37+AE37+AF37+AI37+AJ37>0,"Ⅱ","Ⅰ"))) -> Ⅱ
L36: 対策区分の 判定結果 | O36: 対策区分毎の変状数注3 | Y36: Ⅳ | Z36: Ⅲ | AA36: Ⅱa | AB36: Ⅱb | AC36: Ⅳ | AD36: Ⅲ | AE36: Ⅱa | AF36: Ⅱb | AG36: Ⅳ | AH36: Ⅲ | AI36: Ⅱa | AJ36: Ⅱb
Y37: =IF(COUNTIF(Y11:Y34,"〇")>0,1,0) -> 0 | Z37: =IF(COUNTIF(Z11:Z34,"〇")>0,1,0) -> 0 | AA37: =IF(COUNTIF(AA11:AA34,"〇")>0,1,0) -> 0 | AB37: =IF(COUNTIF(AB11:AB34,"〇")>0,1,0) -> 0 | AC37: =COUNTA(AC11:AC34) -> 0 | AD37: =COUNTA(AD11:AD34) -> 0 | AE37: =COUNTA(AE11:AE34) -> 3 | AF37: =COUNTA(AF11:AF34) -> 2 | AG37: =COUNTA(AG11:AG34) -> 0 | AH37: =COUNTA(AH11:AH34) -> 0 | AI37: =COUNTA(AI11:AI34) -> 0 | AJ37: =COUNTA(AJ11:AJ34) -> 0
K39: 所見
K43: 注1：誤記入防止のため、当該変状区分以外のセルは灰色表示とすること。
K44: 注2：応急措置を実施した場合は、その詳細を備考に記載すること。
K45: 注3：外力は覆工スパン単位、材質劣化、漏水は変状単位とすること。
B46: （以下、印刷不要）
B47: ※1：本シートは作成洩れのないよう、変状が無くても全スパン分を作成すること．また変状展開図は、様式D-2-1、様式D-2-1'と同じものを覆工スパン単位で拡大し掲載すること。
B48: ※2：変状番号は、様式D-1-1で記入した番号と整合させること。
B49: ※3：対策区分毎の変状発生規模は、様式D-1-1に記載した面積を記入すること（ただし外力はスパン単位で評価するため変状の有無の欄には面積でなく○を記入し、備考欄に状況を記入）。
B50: ※4：本様式は覆工スパン毎に作成すること。
B51: ※5：変状数が多い場合は、適時、表の行を増やして覆工スパン毎に1枚のシートに収めること。また、1スパン１シートとし、スパンに合わせてシートを追加すること。
B52: ※6：対策区分毎の変状の発生範囲の規模とは，対策を行う際に参考となる変状の長さや面積であり，変状を包含する長さや面積とする。
B53: ※7：対策範囲を示す発生範囲の規模を面積で記入することが妥当ではない変状は、発生範囲の規模の欄に○を記入するとともに、備考に内容を記入すること。

Sheet 様式D-3_007
AU1: 様式F用→ | AV1: 覆工スパン | AY1: 変 状 数 | BK1: 変 状 規 模
AV2: 番号 | AW2: 延長 （ｍ） | AX2: 健全性の診断の 区分 | AY2: 対策区分の判定 | BK2: 覆工スパン長（ｍ） | BO2: 変状の発生範囲の規模（㎡）
B3: ■定期点検記録様式 覆工スパン別変状詳細展開図 【様式D-3】 | AY3: 外力 | BC3: 材質劣化 | BG3: 漏水 | BK3: 外力 注2 | BO3: 材質劣化 | BS3: 漏水
B4: フリガナ | E4: フタミトンネル | K4: 路線名 | N4: 栗野二見線 | T4: 定期点検実施者 | Y4: アジア航測株式会社 | AG4: 定期点検年月日 | AK4: 45917 | AY4: Ⅳ | AZ4: Ⅲ | BA4: Ⅱa | BB4: Ⅱb | BC4: Ⅳ | BD4: Ⅲ | BE4: Ⅱa | BF4: Ⅱb | BG4: Ⅳ | BH4: Ⅲ | BI4: Ⅱa | BJ4: Ⅱb | BK4: Ⅳ | BL4: Ⅲ | BM4: Ⅱa | BN4: Ⅱb | BO4: Ⅳ | BP4: Ⅲ | BQ4: Ⅱa | BR4: Ⅱb | BS4: Ⅳ | BT4: Ⅲ | BU4: Ⅱa | BV4: Ⅱb
B5: 名 称 | E5: 二見トンネル | K5: 管理者名 | N5: 山口県下関土木建築事務所 | Y5: 飯田 琢巳 | AV5: =N7 -> 7 | AW5: =R7 -> 10.2 | AX5: =AM35 -> Ⅱ | AY5: =Y37 -> 0 | AZ5: =Z37 -> 0 | BA5: =AA37 -> 0 | BB5: =AB37 -> 0 | BC5: =AC37 -> 0 | BD5: =AD37 -> 0 | BE5: =AE37 -> 1 | BF5: =AF37 -> 2 | ... BJ5: =AJ37 -> 0 | BK5: =IF(Y37>0,R7,0) -> 0 | BL5: =IF(Y37>0,0,IF(Z37>0,R7,0)) -> 0 | BM5: =IF(Y37+Z37>0,0,IF(AA37>0,R7,0)) -> 0 | BN5: =IF(Y37+Z37+AA37>0,0,IF(AB37>0,R7,0)) -> 0 | BO5: =AC35 -> 0 | BP5: =AD35 -> 0 | BQ5: =AE35 -> 0.01 | BR5: =AF35 -> 0.67 | BS5: =AG35 -> 0 | BT5: =AH35 -> 0 | BU5: =AI35 -> 0 | BV5: =AJ35 -> 0
B6: スパン別変状展開図 | K6: 【健全性判定集計表】
K7: スパン番号 | N7: 7 | P7: スパン長 | R7: 10.2 | U7: 前回定期点検時の判定 | W7: 応急措置前の判定 | Y7: 対策区分毎の 変状の有無 | AC7: 対策区分毎の変状の発生範囲の規模(㎡) | AK7: 備考注2
K8: 変状番号 | L8: 対象箇所 | N8: 部位区分 | P8: 変状区分 | R8: 変状種類
Y9: 外力注1 | AC9: 材質劣化注1 | AG9: 漏水注1
Y10: Ⅳ | Z10: Ⅲ | AA10: Ⅱa | AB10: Ⅱb | AC10: Ⅳ | AD10: Ⅲ | AE10: Ⅱa | AF10: Ⅱb | AG10: Ⅳ | AH10: Ⅲ | AI10: Ⅱa | AJ10: Ⅱb
K11: 1 | L11: 覆工 | N11: アーチ（左側） | P11: 材質劣化 | R11: 圧ざ、ひび割れ | U11: Ⅱb | W11: - | AF11: 0.33 | AQ11: =IF(P11="材質劣化",2,IF(P11="漏水",3,1)) -> 2 | AS11: =IF(Y11<>"",1,"")
K12: 2 | L12: 覆工 | N12: アーチ（右側） | P12: 材質劣化 | R12: うき・はく離 | U12: Ⅰ | W12: - | AQ12: =IF(P12="材質劣化",2,IF(P12="漏水",3,1)) -> 2
K13: 3 | L13: 覆工 | N13: アーチ（右側） | P13: 材質劣化 | R13: うき・はく離 | U13: Ⅰ | W13: - | AQ13: =IF(P13="材質劣化",2,IF(P13="漏水",3,1)) -> 2
K14: 4 | L14: 覆工 | N14: アーチ（右側） | P14: 材質劣化 | R14: 圧ざ、ひび割れ | U14: Ⅱb | W14: - | AF14: 0.34 | AQ14: =IF(P14="材質劣化",2,IF(P14="漏水",3,1)) -> 2
K15: 5 | L15: 覆工 | N15: アーチ（右側） | P15: 材質劣化 | R15: うき・はく離 | U15: Ⅱb | W15: - | AE15: 0.01 | AQ15: =IF(P15="材質劣化",2,IF(P15="漏水",3,1)) -> 2
K16: 6 | AQ16: =IF(P16="材質劣化",2,IF(P16="漏水",3,1)) -> 1
K17: 7 | AQ17: =IF(P17="材質劣化",2,IF(P17="漏水",3,1)) -> 1
K18: 8 | AQ18: =IF(P18="材質劣化",2,IF(P18="漏水",3,1)) -> 1
K19: 9 | AQ19: =IF(P19="材質劣化",2,IF(P19="漏水",3,1)) -> 1
K20: 10 | AQ20: =IF(P20="材質劣化",2,IF(P20="漏水",3,1)) -> 1
K21: 11 | AQ21: =IF(P21="材質劣化",2,IF(P21="漏水",3,1)) -> 1
K22: 12 | AQ22: =IF(P22="材質劣化",2,IF(P22="漏水",3,1)) -> 1
K23: 13 | AQ23: =IF(P23="材質劣化",2,IF(P23="漏水",3,1)) -> 1
K24: 14 | AQ24: =IF(P24="材質劣化",2,IF(P24="漏水",3,1)) -> 1
K25: 15 | AQ25: =IF(P25="材質劣化",2,IF(P25="漏水",3,1)) -> 1
K26: 16 | AQ26: =IF(P26="材質劣化",2,IF(P26="漏水",3,1)) -> 1
K27: 17 | AQ27: =IF(P27="材質劣化",2,IF(P27="漏水",3,1)) -> 1
K28: 18 | AQ28: =IF(P30="材質劣化",2,IF(P30="漏水",3,1)) -> 1
K29: 19 | AQ29: =IF(P34="材質劣化",2,IF(P34="漏水",3,1)) -> 1
K30: 20 | AQ30: =IF(P30="材質劣化",2,IF(P30="漏水",3,1)) -> 1
K31: 21 | AQ31: =IF(P33="材質劣化",2,IF(P33="漏水",3,1)) -> 1
K32: 22 | AQ32: =IF(P37="材質劣化",2,IF(P37="漏水",3,1)) -> 1
K33: 23 | AQ33: =IF(P33="材質劣化",2,IF(P33="漏水",3,1)) -> 1
K34: 24 | AQ34: =IF(P36="材質劣化",2,IF(P36="漏水",3,1)) -> 1
K35: 集計 判定 診断 | L35: 変状の発生規模合計(㎡) | Y35: － | AC35: =SUM(AC11:AC34) -> 0 | AD35: =SUM(AD11:AD34) -> 0 | AE35: =SUM(AE11:AE34) -> 0.01 | AF35: =SUM(AF11:AF34) -> 0.67 | AG35: =SUM(AG11:AG34) -> 0 | AH35: =SUM(AH11:AH34) -> 0 | AI35: =SUM(AI11:AI34) -> 0 | AJ35: =SUM(AJ11:AJ34) -> 0 | AK35: 覆工スパン単位の 健全性の 診断の区分 | AM35: =IF(Y37+AC37+AG37>0,"Ⅳ",IF(Z37+AD37+AH37>0,"Ⅲ",IF(AA37+AB37+AE37+AF37+AI37+AJ37>0,"Ⅱ","Ⅰ"))) -> Ⅱ
L36: 対策区分の 判定結果 | O36: 対策区分毎の変状数注3 | Y36: Ⅳ | Z36: Ⅲ | AA36: Ⅱa | AB36: Ⅱb | AC36: Ⅳ | AD36: Ⅲ | AE36: Ⅱa | AF36: Ⅱb | AG36: Ⅳ | AH36: Ⅲ | AI36: Ⅱa | AJ36: Ⅱb
Y37: =IF(COUNTIF(Y11:Y34,"〇")>0,1,0) -> 0 | Z37: =IF(COUNTIF(Z11:Z34,"〇")>0,1,0) -> 0 | AA37: =IF(COUNTIF(AA11:AA34,"〇")>0,1,0) -> 0 | AB37: =IF(COUNTIF(AB11:AB34,"〇")>0,1,0) -> 0 | AC37: =COUNTA(AC11:AC34) -> 0 | AD37: =COUNTA(AD11:AD34) -> 0 | AE37: =COUNTA(AE11:AE34) -> 1 | AF37: =COUNTA(AF11:AF34) -> 2 | AG37: =COUNTA(AG11:AG34) -> 0 | AH37: =COUNTA(AH11:AH34) -> 0 | AI37: =COUNTA(AI11:AI34) -> 0 | AJ37: =COUNTA(AJ11:AJ34) -> 0
K39: 所見
K43: 注1：誤記入防止のため、当該変状区分以外のセルは灰色表示とすること。
K44: 注2：応急措置を実施した場合は、その詳細を備考に記載すること。
K45: 注3：外力は覆工スパン単位、材質劣化、漏水は変状単位とすること。
B46: （以下、印刷不要）
B47: ※1：本シートは作成洩れのないよう、変状が無くても全スパン分を作成すること．また変状展開図は、様式D-2-1、様式D-2-1'と同じものを覆工スパン単位で拡大し掲載すること。
B48: ※2：変状番号は、様式D-1-1で記入した番号と整合させること。
B49: ※3：対策区分毎の変状発生規模は、様式D-1-1に記載した面積を記入すること（ただし外力はスパン単位で評価するため変状の有無の欄には面積でなく○を記入し、備考欄に状況を記入）。
B50: ※4：本様式は覆工スパン毎に作成すること。
B51: ※5：変状数が多い場合は、適時、表の行を増やして覆工スパン毎に1枚のシートに収めること。また、1スパン１シートとし、スパンに合わせてシートを追加すること。
B52: ※6：対策区分毎の変状の発生範囲の規模とは，対策を行う際に参考となる変状の長さや面積であり，変状を包含する長さや面積とする。
B53: ※7：対策範囲を示す発生範囲の規模を面積で記入することが妥当ではない変状は、発生範囲の規模の欄に○を記入するとともに、備考に内容を記入すること。

Sheet 様式D-3_008
AU1: 様式F用→ | AV1: 覆工スパン | AY1: 変 状 数 | BK1: 変 状 規 模
AV2: 番号 | AW2: 延長 （ｍ） | AX2: 健全性の診断の 区分 | AY2: 対策区分の判定 | BK2: 覆工スパン長（ｍ） | BO2: 変状の発生範囲の規模（㎡）
B3: ■定期点検記録様式 覆工スパン別変状詳細展開図 【様式D-3】 | AY3: 外力 | BC3: 材質劣化 | BG3: 漏水 | BK3: 外力 注2 | BO3: 材質劣化 | BS3: 漏水
B4: フリガナ | E4: フタミトンネル | K4: 路線名 | N4: 栗野二見線 | T4: 定期点検実施者 | Y4: アジア航測株式会社 | AG4: 定期点検年月日 | AK4: 45917 | AY4: Ⅳ | AZ4: Ⅲ | BA4: Ⅱa | BB4: Ⅱb | BC4: Ⅳ | BD4: Ⅲ | BE4: Ⅱa | BF4: Ⅱb | BG4: Ⅳ | BH4: Ⅲ | BI4: Ⅱa | BJ4: Ⅱb | BK4: Ⅳ | BL4: Ⅲ | BM4: Ⅱa | BN4: Ⅱb | BO4: Ⅳ | BP4: Ⅲ | BQ4: Ⅱa | BR4: Ⅱb | BS4: Ⅳ | BT4: Ⅲ | BU4: Ⅱa | BV4: Ⅱb
B5: 名 称 | E5: 二見トンネル | K5: 管理者名 | N5: 山口県下関土木建築事務所 | Y5: 飯田 琢巳 | AV5: =N7 -> 8 | AW5: =R7 -> 10.3 | AX5: =AM35 -> Ⅱ | AY5: =Y37 -> 0 | AZ5: =Z37 -> 0 | BA5: =AA37 -> 0 | BB5: =AB37 -> 0 | BC5: =AC37 -> 0 | BD5: =AD37 -> 0 | BE5: =AE37 -> 1 | BF5: =AF37 -> 2 | ... BJ5: =AJ37 -> 0 | BK5: =IF(Y37>0,R7,0) -> 0 | BL5: =IF(Y37>0,0,IF(Z37>0,R7,0)) -> 0 | BM5: =IF(Y37+Z37>0,0,IF(AA37>0,R7,0)) -> 0 | BN5: =IF(Y37+Z37+AA37>0,0,IF(AB37>0,R7,0)) -> 0 | BO5: =AC35 -> 0 | BP5: =AD35 -> 0 | BQ5: =AE35 -> 0.02 | BR5: =AF35 -> 0.66 | BS5: =AG35 -> 0 | BT5: =AH35 -> 0 | BU5: =AI35 -> 0 | BV5: =AJ35 -> 0
B6: スパン別変状展開図 | K6: 【健全性判定集計表】
K7: スパン番号 | N7: 8 | P7: スパン長 | R7: 10.3 | U7: 前回定期点検時の判定 | W7: 応急措置前の判定 | Y7: 対策区分毎の 変状の有無 | AC7: 対策区分毎の変状の発生範囲の規模(㎡) | AK7: 備考注2
K8: 変状番号 | L8: 対象箇所 | N8: 部位区分 | P8: 変状区分 | R8: 変状種類
Y9: 外力注1 | AC9: 材質劣化注1 | AG9: 漏水注1
Y10: Ⅳ | Z10: Ⅲ | AA10: Ⅱa | AB10: Ⅱb | AC10: Ⅳ | AD10: Ⅲ | AE10: Ⅱa | AF10: Ⅱb | AG10: Ⅳ | AH10: Ⅲ | AI10: Ⅱa | AJ10: Ⅱb
K11: 1 | L11: 覆工 | N11: アーチ（左側） | P11: 材質劣化 | R11: 圧ざ、ひび割れ | U11: Ⅱb | W11: - | AF11: 0.36 | AQ11: =IF(P11="材質劣化",2,IF(P11="漏水",3,1)) -> 2 | AS11: =IF(Y11<>"",1,"")
K12: 2 | L12: 覆工 | N12: アーチ（左側） | P12: 材質劣化 | R12: うき・はく離 | U12: Ⅱb | W12: - | AE12: 0.02 | AQ12: =IF(P12="材質劣化",2,IF(P12="漏水",3,1)) -> 2
K13: 3 | L13: 覆工 | N13: アーチ（右側） | P13: 材質劣化 | R13: 圧ざ、ひび割れ | U13: Ⅱb | W13: - | AF13: 0.3 | AQ13: =IF(P13="材質劣化",2,IF(P13="漏水",3,1)) -> 2
K14: 4 | AQ14: =IF(P14="材質劣化",2,IF(P14="漏水",3,1)) -> 1
K15: 5 | AQ15: =IF(P15="材質劣化",2,IF(P15="漏水",3,1)) -> 1
K16: 6 | AQ16: =IF(P16="材質劣化",2,IF(P16="漏水",3,1)) -> 1
K17: 7 | AQ17: =IF(P17="材質劣化",2,IF(P17="漏水",3,1)) -> 1
K18: 8 | AQ18: =IF(P18="材質劣化",2,IF(P18="漏水",3,1)) -> 1
K19: 9 | AQ19: =IF(P19="材質劣化",2,IF(P19="漏水",3,1)) -> 1
K20: 10 | AQ20: =IF(P20="材質劣化",2,IF(P20="漏水",3,1)) -> 1
K21: 11 | AQ21: =IF(P21="材質劣化",2,IF(P21="漏水",3,1)) -> 1
K22: 12 | AQ22: =IF(P22="材質劣化",2,IF(P22="漏水",3,1)) -> 1
K23: 13 | AQ23: =IF(P23="材質劣化",2,IF(P23="漏水",3,1)) -> 1
K24: 14 | AQ24: =IF(P24="材質劣化",2,IF(P24="漏水",3,1)) -> 1
K25: 15 | AQ25: =IF(P25="材質劣化",2,IF(P25="漏水",3,1)) -> 1
... K27: 17 | AQ27: =IF(P27="材質劣化",2,IF(P27="漏水",3,1)) -> 1
K28: 18 | AQ28: =IF(P30="材質劣化",2,IF(P30="漏水",3,1)) -> 1
K29: 19 | AQ29: =IF(P34="材質劣化",2,IF(P34="漏水",3,1)) -> 1
K30: 20 | AQ30: =IF(P30="材質劣化",2,IF(P30="漏水",3,1)) -> 1
K31: 21 | AQ31: =IF(P33="材質劣化",2,IF(P33="漏水",3,1)) -> 1
K32: 22 | AQ32: =IF(P37="材質劣化",2,IF(P37="漏水",3,1)) -> 1
K33: 23 | AQ33: =IF(P33="材質劣化",2,IF(P33="漏水",3,1)) -> 1
K34: 24 | AQ34: =IF(P36="材質劣化",2,IF(P36="漏水",3,1)) -> 1
K35: 集計 判定 診断 | L35: 変状の発生規模合計(㎡) | Y35: － | AC35: =SUM(AC11:AC34) -> 0 | AD35: =SUM(AD11:AD34) -> 0 | AE35: =SUM(AE11:AE34) -> 0.02 | AF35: =SUM(AF11:AF34) -> 0.66 | AG35: =SUM(AG11:AG34) -> 0 | AH35: =SUM(AH11:AH34) -> 0 | AI35: =SUM(AI11:AI34) -> 0 | AJ35: =SUM(AJ11:AJ34) -> 0 | AK35: 覆工スパン単位の 健全性の 診断の区分 | AM35: =IF(Y37+AC37+AG37>0,"Ⅳ",IF(Z37+AD37+AH37>0,"Ⅲ",IF(AA37+AB37+AE37+AF37+AI37+AJ37>0,"Ⅱ","Ⅰ"))) -> Ⅱ
L36: 対策区分の 判定結果 | O36: 対策区分毎の変状数注3 | Y36: Ⅳ | Z36: Ⅲ | AA36: Ⅱa | AB36: Ⅱb | AC36: Ⅳ | AD36: Ⅲ | AE36: Ⅱa | AF36: Ⅱb | AG36: Ⅳ | AH36: Ⅲ | AI36: Ⅱa | AJ36: Ⅱb
Y37: =IF(COUNTIF(Y11:Y34,"〇")>0,1,0) -> 0 | Z37: =IF(COUNTIF(Z11:Z34,"〇")>0,1,0) -> 0 | AA37: =IF(COUNTIF(AA11:AA34,"〇")>0,1,0) -> 0 | AB37: =IF(COUNTIF(AB11:AB34,"〇")>0,1,0) -> 0 | AC37: =COUNTA(AC11:AC34) -> 0 | AD37: =COUNTA(AD11:AD34) -> 0 | AE37: =COUNTA(AE11:AE34) -> 1 | AF37: =COUNTA(AF11:AF34) -> 2 | AG37: =COUNTA(AG11:AG34) -> 0 | AH37: =COUNTA(AH11:AH34) -> 0 | AI37: =COUNTA(AI11:AI34) -> 0 | AJ37: =COUNTA(AJ11:AJ34) -> 0
K39: 所見
K43: 注1：誤記入防止のため、当該変状区分以外のセルは灰色表示とすること。
K44: 注2：応急措置を実施した場合は、その詳細を備考に記載すること。
K45: 注3：外力は覆工スパン単位、材質劣化、漏水は変状単位とすること。
B46: （以下、印刷不要）
B47: ※1：本シートは作成洩れのないよう、変状が無くても全スパン分を作成すること．また変状展開図は、様式D-2-1、様式D-2-1'と同じものを覆工スパン単位で拡大し掲載すること。
B48: ※2：変状番号は、様式D-1-1で記入した番号と整合させること。
B49: ※3：対策区分毎の変状発生規模は、様式D-1-1に記載した面積を記入すること（ただし外力はスパン単位で評価するため変状の有無の欄には面積でなく○を記入し、備考欄に状況を記入）。
B50: ※4：本様式は覆工スパン毎に作成すること。
B51: ※5：変状数が多い場合は、適時、表の行を増やして覆工スパン毎に1枚のシートに収めること。また、1スパン１シートとし、スパンに合わせてシートを追加すること。
B52: ※6：対策区分毎の変状の発生範囲の規模とは，対策を行う際に参考となる変状の長さや面積であり，変状を包含する長さや面積とする。
B53: ※7：対策範囲を示す発生範囲の規模を面積で記入することが妥当ではない変状は、発生範囲の規模の欄に○を記入するとともに、備考に内容を記入すること。

Sheet 様式D-3_009
AU1: 様式F用→ | AV1: 覆工スパン | AY1: 変 状 数 | BK1: 変 状 規 模
AV2: 番号 | AW2: 延長 （ｍ） | AX2: 健全性の診断の 区分 | AY2: 対策区分の判定 | BK2: 覆工スパン長（ｍ） | BO2: 変状の発生範囲の規模（㎡）
B3: ■定期点検記録様式 覆工スパン別変状詳細展開図 【様式D-3】 | AY3: 外力 | BC3: 材質劣化 | BG3: 漏水 | BK3: 外力 注2 | BO3: 材質劣化 | BS3: 漏水
B4: フリガナ | E4: フタミトンネル | K4: 路線名 | N4: 栗野二見線 | T4: 定期点検実施者 | Y4: アジア航測株式会社 | AG4: 定期点検年月日 | AK4: 45917 | AY4: Ⅳ | AZ4: Ⅲ | BA4: Ⅱa | BB4: Ⅱb | BC4: Ⅳ | BD4: Ⅲ | BE4: Ⅱa | BF4: Ⅱb | BG4: Ⅳ | BH4: Ⅲ | BI4: Ⅱa | BJ4: Ⅱb | BK4: Ⅳ | BL4: Ⅲ | BM4: Ⅱa | BN4: Ⅱb | BO4: Ⅳ | BP4: Ⅲ | BQ4: Ⅱa | BR4: Ⅱb | BS4: Ⅳ | BT4: Ⅲ | BU4: Ⅱa | BV4: Ⅱb
B5: 名 称 | E5: 二見トンネル | K5: 管理者名 | N5: 山口県下関土木建築事務所 | Y5: 飯田 琢巳 | AV5: =N7 -> 9 | AW5: =R7 -> 10.3 | AX5: =AM35 -> Ⅱ | AY5: =Y37 -> 0 | AZ5: =Z37 -> 0 | BA5: =AA37 -> 0 | BB5: =AB37 -> 0 | BC5: =AC37 -> 0 | BD5: =AD37 -> 0 | BE5: =AE37 -> 1 | BF5: =AF37 -> 4 | ... BJ5: =AJ37 -> 0 | BK5: =IF(Y37>0,R7,0) -> 0 | BL5: =IF(Y37>0,0,IF(Z37>0,R7,0)) -> 0 | BM5: =IF(Y37+Z37>0,0,IF(AA37>0,R7,0)) -> 0 | BN5: =IF(Y37+Z37+AA37>0,0,IF(AB37>0,R7,0)) -> 0 | BO5: =AC35 -> 0 | BP5: =AD35 -> 0 | BQ5: =AE35 -> 0.0125 | BR5: =AF35 -> 1.23 | BS5: =AG35 -> 0 | BT5: =AH35 -> 0 | BU5: =AI35 -> 0 | BV5: =AJ35 -> 0
B6: スパン別変状展開図 | K6: 【健全性判定集計表】
K7: スパン番号 | N7: 9 | P7: スパン長 | R7: 10.3 | U7: 前回定期点検時の判定 | W7: 応急措置前の判定 | Y7: 対策区分毎の 変状の有無 | AC7: 対策区分毎の変状の発生範囲の規模(㎡) | AK7: 備考注2
K8: 変状番号 | L8: 対象箇所 | N8: 部位区分 | P8: 変状区分 | R8: 変状種類
Y9: 外力注1 | AC9: 材質劣化注1 | AG9: 漏水注1
Y10: Ⅳ | Z10: Ⅲ | AA10: Ⅱa | AB10: Ⅱb | AC10: Ⅳ | AD10: Ⅲ | AE10: Ⅱa | AF10: Ⅱb | AG10: Ⅳ | AH10: Ⅲ | AI10: Ⅱa | AJ10: Ⅱb
K11: 1 | L11: 覆工 | N11: アーチ（左側） | P11: 材質劣化 | R11: 圧ざ、ひび割れ | U11: Ⅱb | W11: - | AF11: 0.38 | AQ11: =IF(P11="材質劣化",2,IF(P11="漏水",3,1)) -> 2 | AS11: =IF(Y11<>"",1,"")
K12: 2 | L12: 覆工 | N12: アーチ（左側） | P12: 材質劣化 | R12: 圧ざ、ひび割れ | U12: Ⅱb | W12: - | AF12: 0.26 | AQ12: =IF(P12="材質劣化",2,IF(P12="漏水",3,1)) -> 2
K13: 3 | L13: 覆工 | N13: アーチ（左側） | P13: 材質劣化 | R13: 圧ざ、ひび割れ | U13: Ⅱb | W13: - | AF13: 0.29 | AQ13: =IF(P13="材質劣化",2,IF(P13="漏水",3,1)) -> 2
K14: 4 | L14: 覆工 | N14: アーチ（右側） | P14: 材質劣化 | R14: うき・はく離 | U14: Ⅱb | W14: - | AE14: 0.0125 | AQ14: =IF(P14="材質劣化",2,IF(P14="漏水",3,1)) -> 2
K15: 5 | L15: 覆工 | N15: アーチ（右側） | P15: 材質劣化 | R15: 圧ざ、ひび割れ | U15: Ⅱb | W15: - | AF15: 0.3 | AQ15: =IF(P15="材質劣化",2,IF(P15="漏水",3,1)) -> 2
K16: 6 | AQ16: =IF(P16="材質劣化",2,IF(P16="漏水",3,1)) -> 1
K17: 7 | AQ17: =IF(P17="材質劣化",2,IF(P17="漏水",3,1)) -> 1
K18: 8 | AQ18: =IF(P18="材質劣化",2,IF(P18="漏水",3,1)) -> 1
K19: 9 | AQ19: =IF(P19="材質劣化",2,IF(P19="漏水",3,1)) -> 1
K20: 10 | AQ20: =IF(P20="材質劣化",2,IF(P20="漏水",3,1)) -> 1
K21: 11 | AQ21: =IF(P21="材質劣化",2,IF(P21="漏水",3,1)) -> 1
K22: 12 | AQ22: =IF(P22="材質劣化",2,IF(P22="漏水",3,1)) -> 1
K23: 13 | AQ23: =IF(P23="材質劣化",2,IF(P23="漏水",3,1)) -> 1
K24: 14 | AQ24: =IF(P24="材質劣化",2,IF(P24="漏水",3,1)) -> 1
K25: 15 | AQ25: =IF(P25="材質劣化",2,IF(P25="漏水",3,1)) -> 1
K26: 16 | AQ26: =IF(P26="材質劣化",2,IF(P26="漏水",3,1)) -> 1
K27: 17 | AQ27: =IF(P27="材質劣化",2,IF(P27="漏水",3,1)) -> 1
K28: 18 | AQ28: =IF(P30="材質劣化",2,IF(P30="漏水",3,1)) -> 1
K29: 19 | AQ29: =IF(P34="材質劣化",2,IF(P34="漏水",3,1)) -> 1
K30: 20 | AQ30: =IF(P30="材質劣化",2,IF(P30="漏水",3,1)) -> 1
K31: 21 | AQ31: =IF(P33="材質劣化",2,IF(P33="漏水",3,1)) -> 1
K32: 22 | AQ32: =IF(P37="材質劣化",2,IF(P37="漏水",3,1)) -> 1
K33: 23 | AQ33: =IF(P33="材質劣化",2,IF(P33="漏水",3,1)) -> 1
K34: 24 | AQ34: =IF(P36="材質劣化",2,IF(P36="漏水",3,1)) -> 1
K35: 集計 判定 診断 | L35: 変状の発生規模合計(㎡) | Y35: － | AC35: =SUM(AC11:AC34) -> 0 | AD35: =SUM(AD11:AD34) -> 0 | AE35: =SUM(AE11:AE34) -> 0.0125 | AF35: =SUM(AF11:AF34) -> 1.23 | AG35: =SUM(AG11:AG34) -> 0 | AH35: =SUM(AH11:AH34) -> 0 | AI35: =SUM(AI11:AI34) -> 0 | AJ35: =SUM(AJ11:AJ34) -> 0 | AK35: 覆工スパン単位の 健全性の 診断の区分 | AM35: =IF(Y37+AC37+AG37>0,"Ⅳ",IF(Z37+AD37+AH37>0,"Ⅲ",IF(AA37+AB37+AE37+AF37+AI37+AJ37>0,"Ⅱ","Ⅰ"))) -> Ⅱ
L36: 対策区分の 判定結果 | O36: 対策区分毎の変状数注3 | Y36: Ⅳ | Z36: Ⅲ | AA36: Ⅱa | AB36: Ⅱb | AC36: Ⅳ | AD36: Ⅲ | AE36: Ⅱa | AF36: Ⅱb | AG36: Ⅳ | AH36: Ⅲ | AI36: Ⅱa | AJ36: Ⅱb
Y37: =IF(COUNTIF(Y11:Y34,"〇")>0,1,0) -> 0 | Z37: =IF(COUNTIF(Z11:Z34,"〇")>0,1,0) -> 0 | AA37: =IF(COUNTIF(AA11:AA34,"〇")>0,1,0) -> 0 | AB37: =IF(COUNTIF(AB11:AB34,"〇")>0,1,0) -> 0 | AC37: =COUNTA(AC11:AC34) -> 0 | AD37: =COUNTA(AD11:AD34) -> 0 | AE37: =COUNTA(AE11:AE34) -> 1 | AF37: =COUNTA(AF11:AF34) -> 4 | AG37: =COUNTA(AG11:AG34) -> 0 | AH37: =COUNTA(AH11:AH34) -> 0 | AI37: =COUNTA(AI11:AI34) -> 0 | AJ37: =COUNTA(AJ11:AJ34) -> 0
K39: 所見
K43: 注1：誤記入防止のため、当該変状区分以外のセルは灰色表示とすること。
K44: 注2：応急措置を実施した場合は、その詳細を備考に記載すること。
K45: 注3：外力は覆工スパン単位、材質劣化、漏水は変状単位とすること。
B46: （以下、印刷不要）
B47: ※1：本シートは作成洩れのないよう、変状が無くても全スパン分を作成すること．また変状展開図は、様式D-2-1、様式D-2-1'と同じものを覆工スパン単位で拡大し掲載すること。
B48: ※2：変状番号は、様式D-1-1で記入した番号と整合させること。
B49: ※3：対策区分毎の変状発生規模は、様式D-1-1に記載した面積を記入すること（ただし外力はスパン単位で評価するため変状の有無の欄には面積でなく○を記入し、備考欄に状況を記入）。
B50: ※4：本様式は覆工スパン毎に作成すること。
B51: ※5：変状数が多い場合は、適時、表の行を増やして覆工スパン毎に1枚のシートに収めること。また、1スパン１シートとし、スパンに合わせてシートを追加すること。
B52: ※6：対策区分毎の変状の発生範囲の規模とは，対策を行う際に参考となる変状の長さや面積であり，変状を包含する長さや面積とする。
B53: ※7：対策範囲を示す発生範囲の規模を面積で記入することが妥当ではない変状は、発生範囲の規模の欄に○を記入するとともに、備考に内容を記入すること。

Sheet 様式D-3_010
AU1: 様式F用→ | AV1: 覆工スパン | AY1: 変 状 数 | BK1: 変 状 規 模
AV2: 番号 | AW2: 延長 （ｍ） | AX2: 健全性の診断の 区分 | AY2: 対策区分の判定 | BK2: 覆工スパン長（ｍ） | BO2: 変状の発生範囲の規模（㎡）
B3: ■定期点検記録様式 覆工スパン別変状詳細展開図 【様式D-3】 | AY3: 外力 | BC3: 材質劣化 | BG3: 漏水 | BK3: 外力 注2 | BO3: 材質劣化 | BS3: 漏水
B4: フリガナ | E4: フタミトンネル | K4: 路線名 | N4: 栗野二見線 | T4: 定期点検実施者 | Y4: アジア航測株式会社 | AG4: 定期点検年月日 | AK4: 45917 | AY4: Ⅳ | AZ4: Ⅲ | BA4: Ⅱa | BB4: Ⅱb | BC4: Ⅳ | BD4: Ⅲ | BE4: Ⅱa | BF4: Ⅱb | BG4: Ⅳ | BH4: Ⅲ | BI4: Ⅱa | BJ4: Ⅱb | BK4: Ⅳ | BL4: Ⅲ | BM4: Ⅱa | BN4: Ⅱb | BO4: Ⅳ | BP4: Ⅲ | BQ4: Ⅱa | BR4: Ⅱb | BS4: Ⅳ | BT4: Ⅲ | BU4: Ⅱa | BV4: Ⅱb
B5: 名 称 | E5: 二見トンネル | K5: 管理者名 | N5: 山口県下関土木建築事務所 | Y5: 飯田 琢巳 | AV5: =N7 -> 10 | AW5: =R7 -> 10.4 | AX5: =AM35 -> Ⅱ | AY5: =Y37 -> 0 | AZ5: =Z37 -> 0 | BA5: =AA37 -> 0 | BB5: =AB37 -> 0 | BC5: =AC37 -> 0 | BD5: =AD37 -> 0 | BE5: =AE37 -> 0 | BF5: =AF37 -> 2 | ... BJ5: =AJ37 -> 0 | BK5: =IF(Y37>0,R7,0) -> 0 | BL5: =IF(Y37>0,0,IF(Z37>0,R7,0)) -> 0 | BM5: =IF(Y37+Z37>0,0,IF(AA37>0,R7,0)) -> 0 | BN5: =IF(Y37+Z37+AA37>0,0,IF(AB37>0,R7,0)) -> 0 | BO5: =AC35 -> 0 | BP5: =AD35 -> 0 | BQ5: =AE35 -> 0 | BR5: =AF35 -> 0.66 | BS5: =AG35 -> 0 | BT5: =AH35 -> 0 | BU5: =AI35 -> 0 | BV5: =AJ35 -> 0
B6: スパン別変状展開図 | K6: 【健全性判定集計表】
K7: スパン番号 | N7: 10 | P7: スパン長 | R7: 10.4 | U7: 前回定期点検時の判定 | W7: 応急措置前の判定 | Y7: 対策区分毎の 変状の有無 | AC7: 対策区分毎の変状の発生範囲の規模(㎡) | AK7: 備考注2
K8: 変状番号 | L8: 対象箇所 | N8: 部位区分 | P8: 変状区分 | R8: 変状種類
Y9: 外力注1 | AC9: 材質劣化注1 | AG9: 漏水注1
Y10: Ⅳ | Z10: Ⅲ | AA10: Ⅱa | AB10: Ⅱb | AC10: Ⅳ | AD10: Ⅲ | AE10: Ⅱa | AF10: Ⅱb | AG10: Ⅳ | AH10: Ⅲ | AI10: Ⅱa | AJ10: Ⅱb
K11: 1 | L11: 覆工 | N11: アーチ（左側） | P11: 材質劣化 | R11: 圧ざ、ひび割れ | U11: Ⅱb | W11: - | AF11: 0.35 | AQ11: =IF(P11="材質劣化",2,IF(P11="漏水",3,1)) -> 2 | AS11: =IF(Y11<>"",1,"")
K12: 2 | L12: 覆工 | N12: アーチ（右側） | P12: 材質劣化 | R12: 圧ざ、ひび割れ | U12: Ⅱb | W12: - | AF12: 0.31 | AQ12: =IF(P12="材質劣化",2,IF(P12="漏水",3,1)) -> 2
K13: 3 | AQ13: =IF(P13="材質劣化",2,IF(P13="漏水",3,1)) -> 1
K14: 4 | AQ14: =IF(P14="材質劣化",2,IF(P14="漏水",3,1)) -> 1
K15: 5 | AQ15: =IF(P15="材質劣化",2,IF(P15="漏水",3,1)) -> 1
K16: 6 | AQ16: =IF(P16="材質劣化",2,IF(P16="漏水",3,1)) -> 1
K17: 7 | AQ17: =IF(P17="材質劣化",2,IF(P17="漏水",3,1)) -> 1
K18: 8 | AQ18: =IF(P18="材質劣化",2,IF(P18="漏水",3,1)) -> 1
K19: 9 | AQ19: =IF(P19="材質劣化",2,IF(P19="漏水",3,1)) -> 1
K20: 10 | AQ20: =IF(P20="材質劣化",2,IF(P20="漏水",3,1)) -> 1
K21: 11 | AQ21: =IF(P21="材質劣化",2,IF(P21="漏水",3,1)) -> 1
K22: 12 | AQ22: =IF(P22="材質劣化",2,IF(P22="漏水",3,1)) -> 1
K23: 13 | AQ23: =IF(P23="材質劣化",2,IF(P23="漏水",3,1)) -> 1
K24: 14 | AQ24: =IF(P24="材質劣化",2,IF(P24="漏水",3,1)) -> 1
... K27: 17 | AQ27: =IF(P27="材質劣化",2,IF(P27="漏水",3,1)) -> 1
K28: 18 | AQ28: =IF(P30="材質劣化",2,IF(P30="漏水",3,1)) -> 1
K29: 19 | AQ29: =IF(P34="材質劣化",2,IF(P34="漏水",3,1)) -> 1
K30: 20 | AQ30: =IF(P30="材質劣化",2,IF(P30="漏水",3,1)) -> 1
K31: 21 | AQ31: =IF(P33="材質劣化",2,IF(P33="漏水",3,1)) -> 1
K32: 22 | AQ32: =IF(P37="材質劣化",2,IF(P37="漏水",3,1)) -> 1
K33: 23 | AQ33: =IF(P33="材質劣化",2,IF(P33="漏水",3,1)) -> 1
K34: 24 | AQ34: =IF(P36="材質劣化",2,IF(P36="漏水",3,1)) -> 1
K35: 集計 判定 診断 | L35: 変状の発生規模合計(㎡) | Y35: － | AC35: =SUM(AC11:AC34) -> 0 | AD35: =SUM(AD11:AD34) -> 0 | AE35: =SUM(AE11:AE34) -> 0 | AF35: =SUM(AF11:AF34) -> 0.66 | AG35: =SUM(AG11:AG34) -> 0 | AH35: =SUM(AH11:AH34) -> 0 | AI35: =SUM(AI11:AI34) -> 0 | AJ35: =SUM(AJ11:AJ34) -> 0 | AK35: 覆工スパン単位の 健全性の 診断の区分 | AM35: =IF(Y37+AC37+AG37>0,"Ⅳ",IF(Z37+AD37+AH37>0,"Ⅲ",IF(AA37+AB37+AE37+AF37+AI37+AJ37>0,"Ⅱ","Ⅰ"))) -> Ⅱ
L36: 対策区分の 判定結果 | O36: 対策区分毎の変状数注3 | Y36: Ⅳ | Z36: Ⅲ | AA36: Ⅱa | AB36: Ⅱb | AC36: Ⅳ | AD36: Ⅲ | AE36: Ⅱa | AF36: Ⅱb | AG36: Ⅳ | AH36: Ⅲ | AI36: Ⅱa | AJ36: Ⅱb
Y37: =IF(COUNTIF(Y11:Y34,"〇")>0,1,0) -> 0 | Z37: =IF(COUNTIF(Z11:Z34,"〇")>0,1,0) -> 0 | AA37: =IF(COUNTIF(AA11:AA34,"〇")>0,1,0) -> 0 | AB37: =IF(COUNTIF(AB11:AB34,"〇")>0,1,0) -> 0 | AC37: =COUNTA(AC11:AC34) -> 0 | AD37: =COUNTA(AD11:AD34) -> 0 | AE37: =COUNTA(AE11:AE34) -> 0 | AF37: =COUNTA(AF11:AF34) -> 2 | AG37: =COUNTA(AG11:AG34) -> 0 | AH37: =COUNTA(AH11:AH34) -> 0 | AI37: =COUNTA(AI11:AI34) -> 0 | AJ37: =COUNTA(AJ11:AJ34) -> 0
K39: 所見
K43: 注1：誤記入防止のため、当該変状区分以外のセルは灰色表示とすること。
K44: 注2：応急措置を実施した場合は、その詳細を備考に記載すること。
K45: 注3：外力は覆工スパン単位、材質劣化、漏水は変状単位とすること。
B46: （以下、印刷不要）
B47: ※1：本シートは作成洩れのないよう、変状が無くても全スパン分を作成すること．また変状展開図は、様式D-2-1、様式D-2-1'と同じものを覆工スパン単位で拡大し掲載すること。
B48: ※2：変状番号は、様式D-1-1で記入した番号と整合させること。
B49: ※3：対策区分毎の変状発生規模は、様式D-1-1に記載した面積を記入すること（ただし外力はスパン単位で評価するため変状の有無の欄には面積でなく○を記入し、備考欄に状況を記入）。
B50: ※4：本様式は覆工スパン毎に作成すること。
B51: ※5：変状数が多い場合は、適時、表の行を増やして覆工スパン毎に1枚のシートに収めること。また、1スパン１シートとし、スパンに合わせてシートを追加すること。
B52: ※6：対策区分毎の変状の発生範囲の規模とは，対策を行う際に参考となる変状の長さや面積であり，変状を包含する長さや面積とする。
B53: ※7：対策範囲を示す発生範囲の規模を面積で記入することが妥当ではない変状は、発生範囲の規模の欄に○を記入するとともに、備考に内容を記入すること。

Sheet 様式D-3_011
AU1: 様式F用→ | AV1: 覆工スパン | AY1: 変 状 数 | BK1: 変 状 規 模
AV2: 番号 | AW2: 延長 （ｍ） | AX2: 健全性の診断の 区分 | AY2: 対策区分の判定 | BK2: 覆工スパン長（ｍ） | BO2: 変状の発生範囲の規模（㎡）
B3: ■定期点検記録様式 覆工スパン別変状詳細展開図 【様式D-3】 | AY3: 外力 | BC3: 材質劣化 | BG3: 漏水 | BK3: 外力 注2 | BO3: 材質劣化 | BS3: 漏水
B4: フリガナ | E4: フタミトンネル | K4: 路線名 | N4: 栗野二見線 | T4: 定期点検実施者 | Y4: アジア航測株式会社 | AG4: 定期点検年月日 | AK4: 45917 | AY4: Ⅳ | AZ4: Ⅲ | BA4: Ⅱa | BB4: Ⅱb | BC4: Ⅳ | BD4: Ⅲ | BE4: Ⅱa | BF4: Ⅱb | BG4: Ⅳ | BH4: Ⅲ | BI4: Ⅱa | BJ4: Ⅱb | BK4: Ⅳ | BL4: Ⅲ | BM4: Ⅱa | BN4: Ⅱb | BO4: Ⅳ | BP4: Ⅲ | BQ4: Ⅱa | BR4: Ⅱb | BS4: Ⅳ | BT4: Ⅲ | BU4: Ⅱa | BV4: Ⅱb
B5: 名 称 | E5: 二見トンネル | K5: 管理者名 | N5: 山口県下関土木建築事務所 | Y5: 飯田 琢巳 | AV5: =N7 -> 11 | AW5: =R7 -> 10.3 | AX5: =AM35 -> Ⅱ | AY5: =Y37 -> 0 | AZ5: =Z37 -> 0 | BA5: =AA37 -> 0 | BB5: =AB37 -> 0 | BC5: =AC37 -> 0 | BD5: =AD37 -> 0 | BE5: =AE37 -> 2 | BF5: =AF37 -> 3 | ... BJ5: =AJ37 -> 0 | BK5: =IF(Y37>0,R7,0) -> 0 | BL5: =IF(Y37>0,0,IF(Z37>0,R7,0)) -> 0 | BM5: =IF(Y37+Z37>0,0,IF(AA37>0,R7,0)) -> 0 | BN5: =IF(Y37+Z37+AA37>0,0,IF(AB37>0,R7,0)) -> 0 | BO5: =AC35 -> 0 | BP5: =AD35 -> 0 | BQ5: =AE35 -> 0.08 | BR5: =AF35 -> 0.765 | BS5: =AG35 -> 0 | BT5: =AH35 -> 0 | BU5: =AI35 -> 0 | BV5: =AJ35 -> 0
B6: スパン別変状展開図 | K6: 【健全性判定集計表】
K7: スパン番号 | N7: 11 | P7: スパン長 | R7: 10.3 | U7: 前回定期点検時の判定 | W7: 応急措置前の判定 | Y7: 対策区分毎の 変状の有無 | AC7: 対策区分毎の変状の発生範囲の規模(㎡) | AK7: 備考注2
K8: 変状番号 | L8: 対象箇所 | N8: 部位区分 | P8: 変状区分 | R8: 変状種類
Y9: 外力注1 | AC9: 材質劣化注1 | AG9: 漏水注1
Y10: Ⅳ | Z10: Ⅲ | AA10: Ⅱa | AB10: Ⅱb | AC10: Ⅳ | AD10: Ⅲ | AE10: Ⅱa | AF10: Ⅱb | AG10: Ⅳ | AH10: Ⅲ | AI10: Ⅱa | AJ10: Ⅱb
K11: 1 | L11: 覆工 | N11: アーチ（左側） | P11: 材質劣化 | R11: 圧ざ、ひび割れ | U11: Ⅱb | W11: - | AF11: 0.44 | AQ11: =IF(P11="材質劣化",2,IF(P11="漏水",3,1)) -> 2 | AS11: =IF(Y11<>"",1,"")
K12: 2 | L12: 覆工 | N12: アーチ（左側） | P12: 材質劣化 | R12: うき・はく離 | U12: Ⅲ | W12: - | AE12: 0.06 | AQ12: =IF(P12="材質劣化",2,IF(P12="漏水",3,1)) -> 2
K13: 3 | L13: 覆工 | N13: アーチ（左側） | P13: 材質劣化 | R13: うき・はく離 | U13: Ⅱb | W13: - | AE13: 0.02 | AQ13: =IF(P13="材質劣化",2,IF(P13="漏水",3,1)) -> 2
K14: 4 | L14: 覆工 | N14: アーチ（右側） | P14: 材質劣化 | R14: 圧ざ、ひび割れ | U14: Ⅱb | W14: - | AF14: 0.32 | AQ14: =IF(P14="材質劣化",2,IF(P14="漏水",3,1)) -> 2
K15: 5 | L15: 覆工 | N15: アーチ（左側） | P15: 材質劣化 | R15: うき・はく離 | U15: - | W15: - | AF15: 0.005 | AQ15: =IF(P15="材質劣化",2,IF(P15="漏水",3,1)) -> 2
K16: 6 | AQ16: =IF(P16="材質劣化",2,IF(P16="漏水",3,1)) -> 1
K17: 7 | AQ17: =IF(P17="材質劣化",2,IF(P17="漏水",3,1)) -> 1
K18: 8 | AQ18: =IF(P18="材質劣化",2,IF(P18="漏水",3,1)) -> 1
K19: 9 | AQ19: =IF(P19="材質劣化",2,IF(P19="漏水",3,1)) -> 1
K20: 10 | AQ20: =IF(P20="材質劣化",2,IF(P20="漏水",3,1)) -> 1
K21: 11 | AQ21: =IF(P21="材質劣化",2,IF(P21="漏水",3,1)) -> 1
K22: 12 | AQ22: =IF(P22="材質劣化",2,IF(P22="漏水",3,1)) -> 1
K23: 13 | AQ23: =IF(P23="材質劣化",2,IF(P23="漏水",3,1)) -> 1
K24: 14 | AQ24: =IF(P24="材質劣化",2,IF(P24="漏水",3,1)) -> 1
K25: 15 | AQ25: =IF(P25="材質劣化",2,IF(P25="漏水",3,1)) -> 1
K26: 16 | AQ26: =IF(P26="材質劣化",2,IF(P26="漏水",3,1)) -> 1
K27: 17 | AQ27: =IF(P27="材質劣化",2,IF(P27="漏水",3,1)) -> 1
K28: 18 | AQ28: =IF(P30="材質劣化",2,IF(P30="漏水",3,1)) -> 1
K29: 19 | AQ29: =IF(P34="材質劣化",2,IF(P34="漏水",3,1)) -> 1
K30: 20 | AQ30: =IF(P30="材質劣化",2,IF(P30="漏水",3,1)) -> 1
K31: 21 | AQ31: =IF(P33="材質劣化",2,IF(P33="漏水",3,1)) -> 1
K32: 22 | AQ32: =IF(P37="材質劣化",2,IF(P37="漏水",3,1)) -> 1
K33: 23 | AQ33: =IF(P33="材質劣化",2,IF(P33="漏水",3,1)) -> 1
K34: 24 | AQ34: =IF(P36="材質劣化",2,IF(P36="漏水",3,1)) -> 1
K35: 集計 判定 診断 | L35: 変状の発生規模合計(㎡) | Y35: － | AC35: =SUM(AC11:AC34) -> 0 | AD35: =SUM(AD11:AD34) -> 0 | AE35: =SUM(AE11:AE34) -> 0.08 | AF35: =SUM(AF11:AF34) -> 0.765 | AG35: =SUM(AG11:AG34) -> 0 | AH35: =SUM(AH11:AH34) -> 0 | AI35: =SUM(AI11:AI34) -> 0 | AJ35: =SUM(AJ11:AJ34) -> 0 | AK35: 覆工スパン単位の 健全性の 診断の区分 | AM35: =IF(Y37+AC37+AG37>0,"Ⅳ",IF(Z37+AD37+AH37>0,"Ⅲ",IF(AA37+AB37+AE37+AF37+AI37+AJ37>0,"Ⅱ","Ⅰ"))) -> Ⅱ
L36: 対策区分の 判定結果 | O36: 対策区分毎の変状数注3 | Y36: Ⅳ | Z36: Ⅲ | AA36: Ⅱa | AB36: Ⅱb | AC36: Ⅳ | AD36: Ⅲ | AE36: Ⅱa | AF36: Ⅱb | AG36: Ⅳ | AH36: Ⅲ | AI36: Ⅱa | AJ36: Ⅱb
Y37: =IF(COUNTIF(Y11:Y34,"〇")>0,1,0) -> 0 | Z37: =IF(COUNTIF(Z11:Z34,"〇")>0,1,0) -> 0 | AA37: =IF(COUNTIF(AA11:AA34,"〇")>0,1,0) -> 0 | AB37: =IF(COUNTIF(AB11:AB34,"〇")>0,1,0) -> 0 | AC37: =COUNTA(AC11:AC34) -> 0 | AD37: =COUNTA(AD11:AD34) -> 0 | AE37: =COUNTA(AE11:AE34) -> 2 | AF37: =COUNTA(AF11:AF34) -> 3 | AG37: =COUNTA(AG11:AG34) -> 0 | AH37: =COUNTA(AH11:AH34) -> 0 | AI37: =COUNTA(AI11:AI34) -> 0 | AJ37: =COUNTA(AJ11:AJ34) -> 0
K39: 所見
K43: 注1：誤記入防止のため、当該変状区分以外のセルは灰色表示とすること。
K44: 注2：応急措置を実施した場合は、その詳細を備考に記載すること。
K45: 注3：外力は覆工スパン単位、材質劣化、漏水は変状単位とすること。
B46: （以下、印刷不要）
B47: ※1：本シートは作成洩れのないよう、変状が無くても全スパン分を作成すること．また変状展開図は、様式D-2-1、様式D-2-1'と同じものを覆工スパン単位で拡大し掲載すること。
B48: ※2：変状番号は、様式D-1-1で記入した番号と整合させること。
B49: ※3：対策区分毎の変状発生規模は、様式D-1-1に記載した面積を記入すること（ただし外力はスパン単位で評価するため変状の有無の欄には面積でなく○を記入し、備考欄に状況を記入）。
B50: ※4：本様式は覆工スパン毎に作成すること。
B51: ※5：変状数が多い場合は、適時、表の行を増やして覆工スパン毎に1枚のシートに収めること。また、1スパン１シートとし、スパンに合わせてシートを追加すること。
B52: ※6：対策区分毎の変状の発生範囲の規模とは，対策を行う際に参考となる変状の長さや面積であり，変状を包含する長さや面積とする。
B53: ※7：対策範囲を示す発生範囲の規模を面積で記入することが妥当ではない変状は、発生範囲の規模の欄に○を記入するとともに、備考に内容を記入すること。

Sheet 様式D-3_012
AU1: 様式F用→ | AV1: 覆工スパン | AY1: 変 状 数 | BK1: 変 状 規 模
AV2: 番号 | AW2: 延長 （ｍ） | AX2: 健全性の診断の 区分 | AY2: 対策区分の判定 | BK2: 覆工スパン長（ｍ） | BO2: 変状の発生範囲の規模（㎡）
B3: ■定期点検記録様式 覆工スパン別変状詳細展開図 【様式D-3】 | AY3: 外力 | BC3: 材質劣化 | BG3: 漏水 | BK3: 外力 注2 | BO3: 材質劣化 | BS3: 漏水
B4: フリガナ | E4: フタミトンネル | K4: 路線名 | N4: 栗野二見線 | T4: 定期点検実施者 | Y4: アジア航測株式会社 | AG4: 定期点検年月日 | AK4: 45917 | AY4: Ⅳ | AZ4: Ⅲ | BA4: Ⅱa | BB4: Ⅱb | BC4: Ⅳ | BD4: Ⅲ | BE4: Ⅱa | BF4: Ⅱb | BG4: Ⅳ | BH4: Ⅲ | BI4: Ⅱa | BJ4: Ⅱb | BK4: Ⅳ | BL4: Ⅲ | BM4: Ⅱa | BN4: Ⅱb | BO4: Ⅳ | BP4: Ⅲ | BQ4: Ⅱa | BR4: Ⅱb | BS4: Ⅳ | BT4: Ⅲ | BU4: Ⅱa | BV4: Ⅱb
B5: 名 称 | E5: 二見トンネル | K5: 管理者名 | N5: 山口県下関土木建築事務所 | Y5: 飯田 琢巳 | AV5: =N7 -> 12 | AW5: =R7 -> 10.3 | AX5: =AM35 -> Ⅱ | AY5: =Y37 -> 0 | AZ5: =Z37 -> 0 | BA5: =AA37 -> 0 | BB5: =AB37 -> 0 | BC5: =AC37 -> 0 | BD5: =AD37 -> 0 | BE5: =AE37 -> 0 | BF5: =AF37 -> 3 | ... BJ5: =AJ37 -> 0 | BK5: =IF(Y37>0,R7,0) -> 0 | BL5: =IF(Y37>0,0,IF(Z37>0,R7,0)) -> 0 | BM5: =IF(Y37+Z37>0,0,IF(AA37>0,R7,0)) -> 0 | BN5: =IF(Y37+Z37+AA37>0,0,IF(AB37>0,R7,0)) -> 0 | BO5: =AC35 -> 0 | BP5: =AD35 -> 0 | BQ5: =AE35 -> 0 | BR5: =AF35 -> 0.63 | BS5: =AG35 -> 0 | BT5: =AH35 -> 0 | BU5: =AI35 -> 0 | BV5: =AJ35 -> 0
B6: スパン別変状展開図 | K6: 【健全性判定集計表】
K7: スパン番号 | N7: 12 | P7: スパン長 | R7: 10.3 | U7: 前回定期点検時の判定 | W7: 応急措置前の判定 | Y7: 対策区分毎の 変状の有無 | AC7: 対策区分毎の変状の発生範囲の規模(㎡) | AK7: 備考注2
K8: 変状番号 | L8: 対象箇所 | N8: 部位区分 | P8: 変状区分 | R8: 変状種類
Y9: 外力注1 | AC9: 材質劣化注1 | AG9: 漏水注1
Y10: Ⅳ | Z10: Ⅲ | AA10: Ⅱa | AB10: Ⅱb | AC10: Ⅳ | AD10: Ⅲ | AE10: Ⅱa | AF10: Ⅱb | AG10: Ⅳ | AH10: Ⅲ | AI10: Ⅱa | AJ10: Ⅱb
K11: 1 | L11: 覆工 | N11: アーチ（左側） | P11: 材質劣化 | R11: 圧ざ、ひび割れ | U11: Ⅱb | W11: - | AF11: 0.29 | AQ11: =IF(P11="材質劣化",2,IF(P11="漏水",3,1)) -> 2 | AS11: =IF(Y11<>"",1,"")
K12: 2 | L12: 覆工 | N12: アーチ（左側） | P12: 材質劣化 | R12: うき・はく離 | U12: Ⅱb | W12: - | AF12: 0.02 | AQ12: =IF(P12="材質劣化",2,IF(P12="漏水",3,1)) -> 2
K13: 3 | L13: 覆工 | N13: アーチ（右側） | P13: 材質劣化 | R13: 圧ざ、ひび割れ | U13: Ⅱb | W13: - | AF13: 0.32 | AQ13: =IF(P13="材質劣化",2,IF(P13="漏水",3,1)) -> 2
K14: 4 | AQ14: =IF(P14="材質劣化",2,IF(P14="漏水",3,1)) -> 1
K15: 5 | AQ15: =IF(P15="材質劣化",2,IF(P15="漏水",3,1)) -> 1
K16: 6 | AQ16: =IF(P16="材質劣化",2,IF(P16="漏水",3,1)) -> 1
K17: 7 | AQ17: =IF(P17="材質劣化",2,IF(P17="漏水",3,1)) -> 1
K18: 8 | AQ18: =IF(P18="材質劣化",2,IF(P18="漏水",3,1)) -> 1
K19: 9 | AQ19: =IF(P19="材質劣化",2,IF(P19="漏水",3,1)) -> 1
K20: 10 | AQ20: =IF(P20="材質劣化",2,IF(P20="漏水",3,1)) -> 1
K21: 11 | AQ21: =IF(P21="材質劣化",2,IF(P21="漏水",3,1)) -> 1
K22: 12 | AQ22: =IF(P22="材質劣化",2,IF(P22="漏水",3,1)) -> 1
K23: 13 | AQ23: =IF(P23="材質劣化",2,IF(P23="漏水",3,1)) -> 1
K24: 14 | AQ24: =IF(P24="材質劣化",2,IF(P24="漏水",3,1)) -> 1
K25: 15 | AQ25: =IF(P25="材質劣化",2,IF(P25="漏水",3,1)) -> 1
... K27: 17 | AQ27: =IF(P27="材質劣化",2,IF(P27="漏水",3,1)) -> 1
K28: 18 | AQ28: =IF(P30="材質劣化",2,IF(P30="漏水",3,1)) -> 1
K29: 19 | AQ29: =IF(P34="材質劣化",2,IF(P34="漏水",3,1)) -> 1
K30: 20 | AQ30: =IF(P30="材質劣化",2,IF(P30="漏水",3,1)) -> 1
K31: 21 | AQ31: =IF(P33="材質劣化",2,IF(P33="漏水",3,1)) -> 1
K32: 22 | AQ32: =IF(P37="材質劣化",2,IF(P37="漏水",3,1)) -> 1
K33: 23 | AQ33: =IF(P33="材質劣化",2,IF(P33="漏水",3,1)) -> 1
K34: 24 | AQ34: =IF(P36="材質劣化",2,IF(P36="漏水",3,1)) -> 1
K35: 集計 判定 診断 | L35: 変状の発生規模合計(㎡) | Y35: － | AC35: =SUM(AC11:AC34) -> 0 | AD35: =SUM(AD11:AD34) -> 0 | AE35: =SUM(AE11:AE34) -> 0 | AF35: =SUM(AF11:AF34) -> 0.63 | AG35: =SUM(AG11:AG34) -> 0 | AH35: =SUM(AH11:AH34) -> 0 | AI35: =SUM(AI11:AI34) -> 0 | AJ35: =SUM(AJ11:AJ34) -> 0 | AK35: 覆工スパン単位の 健全性の 診断の区分 | AM35: =IF(Y37+AC37+AG37>0,"Ⅳ",IF(Z37+AD37+AH37>0,"Ⅲ",IF(AA37+AB37+AE37+AF37+AI37+AJ37>0,"Ⅱ","Ⅰ"))) -> Ⅱ
L36: 対策区分の 判定結果 | O36: 対策区分毎の変状数注3 | Y36: Ⅳ | Z36: Ⅲ | AA36: Ⅱa | AB36: Ⅱb | AC36: Ⅳ | AD36: Ⅲ | AE36: Ⅱa | AF36: Ⅱb | AG36: Ⅳ | AH36: Ⅲ | AI36: Ⅱa | AJ36: Ⅱb
Y37: =IF(COUNTIF(Y11:Y34,"〇")>0,1,0) -> 0 | Z37: =IF(COUNTIF(Z11:Z34,"〇")>0,1,0) -> 0 | AA37: =IF(COUNTIF(AA11:AA34,"〇")>0,1,0) -> 0 | AB37: =IF(COUNTIF(AB11:AB34,"〇")>0,1,0) -> 0 | AC37: =COUNTA(AC11:AC34) -> 0 | AD37: =COUNTA(AD11:AD34) -> 0 | AE37: =COUNTA(AE11:AE34) -> 0 | AF37: =COUNTA(AF11:AF34) -> 3 | AG37: =COUNTA(AG11:AG34) -> 0 | AH37: =COUNTA(AH11:AH34) -> 0 | AI37: =COUNTA(AI11:AI34) -> 0 | AJ37: =COUNTA(AJ11:AJ34) -> 0
K39: 所見
K43: 注1：誤記入防止のため、当該変状区分以外のセルは灰色表示とすること。
K44: 注2：応急措置を実施した場合は、その詳細を備考に記載すること。
