Workbook
Name その他: '(参考)リスト'!$C$47
Name その他施設: '[1](参考)リスト'!#REF!
Name その他施設: '(参考)リスト'!$C$79:$C$83
Name 換気施設: '[1](参考)リスト'!#REF!
Name 換気施設: '(参考)リスト'!$C$56:$C$60
Name 坑門: '(参考)リスト'!$C$31:$C$32
Name 照明施設: '[1](参考)リスト'!#REF!
Name 照明施設: '(参考)リスト'!$C$52:$C$54
Name 対象箇所: [2]!テーブル1[対象箇所]
Name 天井板: '(参考)リスト'!$C$37:$C$39
Name 内装板: '(参考)リスト'!$C$34:$C$35
Name 非常用施設: '[1](参考)リスト'!#REF!
Name 非常用施設: '(参考)リスト'!$C$62:$C$77
Name 覆工: '(参考)リスト'!$C$16:$C$29
Name 路面: '(参考)リスト'!$C$41:$C$45

Sheet 点検様式作成フロー
A1: 点検様式作成フロ-
A3: 作成フロー図 | H3: 点検調書作成手順
H4: ①様式A-1～A-3（トンネル台帳）
H5: トンネル点検の実施にあたっては，現場点検作業に先行してトンネル情報を収集する。トンネル台帳（様式Ａ－1～様式Ａ－3）はトンネル完成後に作成され，維持管理の段階で引き継がれるが，関連資料等を確認したうえで，追加情報があれば必要に応じて追記することが望ましい。
H9: ②様式D-2-1、様式D-2-1´
H10: 現場点検作業を実施し，近接目視点検で確認した変状状況や補修履歴を忠実に変状展開図に転記する。
H12: ③様式D-1-1、様式D-1-2
H13: 変状展開図や撮影した写真等をもとに，対象トンネルの対策区分を決定し，対策区分がⅡ～Ⅳの変状および異常判定区分「×」を抽出し，写真台帳を作成する。
H16: ④様式B
H17: 写真台帳の作成と同時に，トンネルの構造を展開した位置図に変状写真位置を記録する。
H19: ⑤様式D-3
H20: 変状展開図ならびに写真台帳をもとに覆工スパンごとの変状展開図を作成し，変状発生状況をとりまとめる。
H22: ⑥様式E
H23: 近接目視または打音検査，触診ができていない箇所および近接目視によらない方法を講じた場所に対する調査結果を記録する。
... H33: すること。 ※各ファイルとも （参考）リスト のシートを付けて保存すること。

Sheet 変状面積算出方法
A1: 変状面積算出方法
A26: 注1）外力による変状：ひび割れや圧ざの場合は変状の寸法を記録する。
A27: 例）ひび割れ：長さ（L）×最大ひび割れ幅（t）を記録する。 変形，移動，沈下：数値的な記載が可能な場合のみ記載する。
A28: 注2）材料劣化による：打音異常
A29: 例）うき，はく離（閉合ひび割れ）：変状範囲を包括する寸法（L×W） うき，はく離（ひび割れ沿い）：打音異常箇所を包括する寸法（L×W） 鋼材腐食（鉄筋腐食）：一括した対策が適当と考えられる範囲を包括する寸法（L×W）
A30: 注3）漏水による変状：漏水発生範囲を包括し，垂れ下がりの可能性がある側壁下端まで含めた寸法を，L×Wで記録する。打継ぎ目地沿いの 漏水については目地を跨いだ50cm幅を横幅とする。

Sheet 記入の留意点
B2: トンネルDBでは、Excelに記載された文字や数値・配置された画像を自動的に読込みデータベースへ登録します。
B3: 記録様式へ記入の留意点を下記に示します。
B5: １．記録様式への記入
C6: ➤各セルに表示されるコメントに従って、様式A-1～様式Gのシートに、点検結果（テキスト入力、選択項目）を入力してください。
C7: ➤位置図(様式B)、変状写真(様式D-1-1)、異常写真(様式D-1-2)は記入した変状写真番号等に対応した画像を間違いないように貼り付けてください。
C8: ➤列や行の挿入削除は行わず、セルの位置がずれないようにしてください。データベースへ読み取り時にずれて取り込まれてしまいます。
B11: ２．画像ファイルの配置の注意点
C12: 登録に使用可能な画像ファイルの拡張子は「jpg」「jpeg」「png」の3種類のみです。
C13: 必ず、１か所に画像１枚のみを張り付けてください。エクセルの図形などのオブジェクトは使用しないでください。
C14: 張り付けた画像はエクセルのトリミング機能を使用しないでください。あらかじめ切り抜いた画像を利用してください。
C15: ※１ 画像の左上を必ずセルの内部に含め、はみ出ないようにしてください。
C16: ※２ 図の書式設定で「セルに合わせて移動やサイズを変更しない」のモードを使用しないでください。
C32: ※３ 「挿入」→「画像」→「セルの上に配置」してください。
B41: ３．シート名の連番について
C42: １ページに記載しきれない場合は、１シート内にページを増やすのではなくシート自体をコピーしシート名の末尾を連番にしてください。
C43: 対象様式
C44: 様式B
C45: 様式D-1-1
C46: 様式D-1-2
C47: 様式D-2-1
C48: 様式D-2-1´
C49: 様式D-3_S00 ※スパン名を記載
C50: 様式G
C52: 末尾の連番の形式例
C53: 様式B(1) 様式B(2) 様式B(3)
C54: 様式B_001 様式B_002 様式B_003
... C61: で示される要領を制限するものではありません。

Sheet 様式A-1
B2: ■トンネル台帳 トンネル諸元、非常用施設諸元 【様式A-1】 | S2: 施設ID | W2: 34.25039,130.91453
B3: フリガナ | D3: フタミトンネル | H3: 路線名 | J3: 栗野二見線 | P3: 管理者名 | R3: 山口県下関土木建築事務所 | W3: 緊急輸送道路 | Z3: 二次
B4: 名 称 | D4: 二見トンネル | W4: 代替路の有無 | Z4: 有
B5: 所在地 | D5: 自 | E5: 山口県下関市豊北町大字北宇賀 | H5: 作成者 | K5: アジア航測株式会社 飯田 琢巳 | P5: 作成年月日 | R5: 46080 | U5: トンネル延長 | X5: L= | Z5: 448 | AB5: ｍ
D6: 至 | E6: 山口県下関市豊北町大字北宇賀 | U6: ﾄﾝﾈﾙの分類 | X6: 陸上トンネル（掘進工法）
B7: 起点 | C7: 緯度 | E7: 34.25039 | H7: 完成年月日 | K7: 37681 | M7: 舗装 | O7: 種 別 | Q7: コンクリート系 | S7: トンネル非常用施設 | T7: 施設の内訳 | X7: 種別・方式 | Y7: 型式 | Z7: 個数 | AA7: 更新年度
C8: 経度 | E8: 130.91453 | H8: 供用年月日 | K8: - | O8: 厚 さ | Q8: - | T8: 通報設備 | U8: 通話型通報設備 | Z8: 6
B9: 終点 | C9: 緯度 | E9: 34.2465 | H9: トンネル区分 | K9: D | O9: 面 積 | Q9: 4928.0㎡ | U9: 操作型通報設備 | Z9: 10
C10: 経度 | E10: 130.91313 | H10: 内装種類 | K10: 覆工（内装なし） | O10: 更新年次 | Q10: - | U10: 自動通報設備
B11: 一般有料区分 | E11: 一般(無料) | H11: 天井板種類 | K11: 覆工（内装なし） | M11: 排水 | O11: 種 別 | Q11: 円型排水 | T11: 警報設備 | U11: 非常警報設備
B12: 土かぶり | E12: - | G12: m | H12: 坑門 | I12: 起点 | J12: 形式 | K12: 面壁型 | O12: 更新年次 | Q12: - | T12: 消火設備 | U12: 消 火 器
B13: 内空断面積 | E13: 58.1 | G13: ㎡ | J13: 延長 | K13: 0 | L13: m | M13: 施設 | P13: 種別・方式 | Q13: 個数 | R13: 更新年次 | U13: 消火栓設備
B14: 交 通 量 | E14: - | G14: 台/日 | I14: 終点 | J14: 形式 | K14: 面壁型 | M14: 道路附属物等 | N14: 照明 | P14: LED | Q14: 82 | R14: - | T14: 避難誘導設備 | U14: 誘導表示設備 | Z14: 32
C15: 道 路 幅 | E15: 11.15 | G15: m | J15: 延長 | K15: 0 | L15: m | N15: 換気 | P15: 自然換気 | Q15: - | R15: - | U15: 避難情報提供設備
B16: 幅 員 | C16: 車 道 幅 | E16: 3.5 | G16: m | H16: 竣工巻厚 | I16: アーチ | K16: 30～35 | L16: cm | N16: 標識 | P16: - | Q16: - | R16: -
E17: 3.5 | G17: m | I17: 側 壁 | K17: 30～35 | L17: cm | N17: 警報表示板 | P17: - | Q17: - | R17: - | U17: 避難通路
C18: 歩道等幅 | E18: 4.15 | G18: m | K18: 30～35 | L18: cm | N18: 吸音板 | P18: - | Q18: - | R18: - | U18: 排煙設備
B19: 高さ | C19: 建築限界高 | E19: 4.5 | G19: m | I19: インバート | K19: - | L19: cm | T19: その他の設備 | U19: 給水栓設備
C20: 中央高 | E20: 6.5 | G20: m | H20: 半径 | I20: アーチ | K20: 560 | L20: cm | U20: 無線通信補助設備
C21: 有効高 | E21: 4.7 | G21: m | I21: 側 壁 | K21: 1120 | L21: cm | U21: 水噴霧設備
C22: 縦断勾配 | E22: - | I22: インバート | K22: - | L22: cm | U22: 監視設備
B23: 線 形 | C23: 直線区間長 | E23: - | H23: 占用物件 | I23: 種 類 | K23: 寸 法 | M23: 管理者名 | Q23: 更新年次 | S23: 非常用施設 関連設備 | U23: 予備発電設備
C24: 曲線区間 | D24: 区間長 | F24: -
D25: 起点側ｸﾛｿｲﾄﾞ | F25: -
D26: 曲線半径 | F26: -
D27: 終点側ｸﾛｿｲﾄﾞ | F27: - | S27: その他 | U27: 非常駐車帯
B28: トンネル工法 | E28: 山岳トンネル工法（NATM） | U28: 方向転換所
C29: ※緯度・経度については、秒の小数第二位の単位まで記入すること。

Sheet 様式A-2
B3: ■トンネル台帳 トンネル情報一覧表 【様式A-2】
B4: フリガナ | E4: フタミトンネル | J4: 路線名 | M4: 栗野二見線 | S4: 作成者 | Y4: アジア航測株式会社 飯田 琢巳 | AE4: 作成年月日 | AI4: 46080
B5: 名 称 | E5: 二見トンネル | J5: 管理者名 | M5: 山口県下関土木建築事務所
B6: 覆工 ｽﾊﾟﾝ 番号 | C6: ｽﾊﾟﾝ長 | D6: 追加距離 | F6: トンネル本体工 | K6: 照明施設 | O6: 非常用施設 | AE6: 換気施設 | AK6: その他附属物等
O7: 通報設備 | R7: 警報設備 | S7: 消火設備 | U7: 避難誘導設備 | Y7: その他の設備 | AC7: 特記事項
D8: 起点側 | E8: 終点側 | F8: 特記事項 | I8: 内装板 | J8: 天井板 | K8: 基本照明 | L8: 入口出口照明 | M8: 特記事項 | O8: 通話型通報設備 | P8: 操作型通報設備 | Q8: 自動通報設備 | R8: 非常警報設備 | S8: 消 火 器 | T8: 消火栓設備 | U8: 誘導表示設備 | V8: 避難情報提供設備 | W8: 避難通路 | X8: 排煙設備 | Y8: 給水栓設備 | Z8: 6 | AA8: 水噴霧設備 | AB8: 監視設備 | AE8: JF | AF8: VI計 | AG8: CO計 | AH8: 風向 風速計 | AI8: 特記事項
C9: (m) | D9: (m) | E9: (m)
B10: PS | C10: 0 | D10: 0 | E10: 0 | F10: 坑門（面壁型）
B11: S1 | C11: 1.3 | D11: 0 | E11: =C11+D11 -> 1.3
B12: 2 | C12: 10.5 | D12: =E11 -> 1.3 | E12: =C12+D12 -> 11.8 | K12: ○ | L12: ○ | O12: ① | P12: ① | U12: ○
B13: 3 | C13: 10.2 | D13: =E12 -> 11.8 | E13: =C13+D13 -> 22 | K13: ○
B14: 4 | C14: 10.3 | D14: =E13 -> 22 | E14: =C14+D14 -> 32.3 | L14: ○ | U14: ○
B15: 5 | C15: 10.4 | D15: =E14 -> 32.3 | E15: =C15+D15 -> 42.7 | K15: ○
B16: 6 | C16: 10 | D16: =E15 -> 42.7 | E16: =C16+D16 -> 52.7 | K16: ○ | L16: ○ | O16: ② | P16: ②
B17: 7 | C17: 10.2 | D17: =E16 -> 52.7 | E17: =C17+D17 -> 62.9 | K17: ○ | U17: ○
B18: 8 | C18: 10.3 | D18: =E17 -> 62.9 | E18: =C18+D18 -> 73.2 | K18: ○
B19: 9 | C19: 10.3 | D19: =E18 -> 73.2 | E19: =C19+D19 -> 83.5 | K19: ○ | L19: ○ | U19: ○
B20: 10 | C20: 10.4 | D20: =E19 -> 83.5 | E20: =C20+D20 -> 93.9 | K20: ○
B21: 11 | C21: 10.3 | D21: =E20 -> 93.9 | E21: =C21+D21 -> 104.2 | K21: ○ | L21: ○ | P21: ③ | U21: ○
B22: 12 | C22: 10.3 | D22: =E21 -> 104.2 | E22: =C22+D22 -> 114.5 | K22: ○
B23: 13 | C23: 10.3 | D23: =E22 -> 114.5 | E23: =C23+D23 -> 124.8 | K23: ○ | L23: ○ | U23: ○
B24: 14 | C24: 10.1 | D24: =E23 -> 124.8 | E24: =C24+D24 -> 134.9 | K24: ○
B25: 15 | C25: 10.2 | D25: =E24 -> 134.9 | E25: =C25+D25 -> 145.1 | K25: ○ | L25: ○
B26: 16 | C26: 10.2 | D26: =E25 -> 145.1 | E26: =C26+D26 -> 155.3 | K26: ○ | P26: ④ | U26: ○
B27: 17 | C27: 10.2 | D27: =E26 -> 155.3 | E27: =C27+D27 -> 165.5 | K27: ○
B28: 18 | C28: 10.2 | D28: =E27 -> 165.5 | E28: =C28+D28 -> 175.7 | L28: ○ | U28: ○
B29: 19 | C29: 10.2 | D29: =E28 -> 175.7 | E29: =C29+D29 -> 185.9 | K29: ○
B30: 20 | C30: 10.2 | D30: =E29 -> 185.9 | E30: =C30+D30 -> 196.1 | L30: ○
B31: 21 | C31: 10.2 | D31: =E30 -> 196.1 | E31: =C31+D31 -> 206.3 | L31: ○ | O31: ③ | P31: ⑤ | U31: ○
B32: 22 | C32: 10.3 | D32: =E31 -> 206.3 | E32: =C32+D32 -> 216.6 | L32: ○
B33: 23 | C33: 10.2 | D33: =E32 -> 216.6 | E33: =C33+D33 -> 226.8 | U33: ○
B34: 24 | C34: 10.2 | D34: =E33 -> 226.8 | E34: =C34+D34 -> 237 | L34: ○
B35: 25 | C35: 10.1 | D35: =E34 -> 237 | E35: =C35+D35 -> 247.1 | L35: ○
B36: 26 | C36: 10.2 | D36: =E35 -> 247.1 | E36: =C36+D36 -> 257.3 | O36: ④ | P36: ⑥ | U36: ○
B37: 27 | C37: 10.3 | D37: =E36 -> 257.3 | E37: =C37+D37 -> 267.6 | L37: ○
B38: 28 | C38: 10.3 | D38: =E37 -> 267.6 | E38: =C38+D38 -> 277.9 | K38: ○ | U38: ○
B39: 29 | C39: 10.3 | D39: =E38 -> 277.9 | E39: =C39+D39 -> 288.2 | K39: ○ | L39: ○
B40: 30 | C40: 10.1 | D40: =E39 -> 288.2 | E40: =C40+D40 -> 298.3
B41: 31 | C41: 10.4 | D41: =E40 -> 298.3 | E41: =C41+D41 -> 308.7 | K41: ○ | L41: ○ | P41: ⑦ | U41: ○
B42: S32 | C42: 10.3 | D42: =E41 -> 308.7 | E42: =C42+D42 -> 319 | K42: ○
...

Sheet 様式A-2 (2)
B3: ■トンネル台帳 トンネル情報一覧表 【様式A-2】
B4: フリガナ | E4: ='様式A-1'!D3 -> フタミトンネル | J4: 路線名 | M4: ='様式A-1'!J3 -> 栗野二見線 | S4: 作成者 | Y4: ='様式A-1'!K5 -> アジア航測株式会社 飯田 琢巳 | AE4: 作成年月日 | AI4: ='様式A-1'!R5 -> 46080
B5: 名 称 | E5: ='様式A-1'!D4 -> 二見トンネル | J5: 管理者名 | M5: ='様式A-1'!R3 -> 山口県下関土木建築事務所
B6: 覆工 ｽﾊﾟﾝ 番号 | C6: ｽﾊﾟﾝ長 | D6: 追加距離 | F6: トンネル本体工 | K6: 照明施設 | O6: 非常用施設 | AE6: 換気施設 | AK6: その他附属物等
O7: 通報設備 | R7: 警報設備 | S7: 消火設備 | U7: 避難誘導設備 | Y7: その他の設備 | AC7: 特記事項
D8: 起点側 | E8: 終点側 | F8: 特記事項 | I8: 内装板 | J8: 天井板 | K8: 基本照明 | L8: 入口出口照明 | M8: 特記事項 | O8: 通話型通報設備 | P8: 操作型通報設備 | Q8: 自動通報設備 | R8: 非常警報設備 | S8: 消 火 器 | T8: 消火栓設備 | U8: 誘導表示設備 | V8: 避難情報提供設備 | W8: 避難通路 | X8: 排煙設備 | Y8: 給水栓設備 | Z8: 6 | AA8: 水噴霧設備 | AB8: 監視設備 | AE8: JF | AF8: VI計 | AG8: CO計 | AH8: 風向 風速計 | AI8: 特記事項
C9: (m) | D9: (m) | E9: (m)
B10: 36 | C10: 10.1 | D10: 349.6 | E10: 359.7 | K10: ○ | L10: ○
B11: 37 | C11: 10.1 | D11: 359.7 | E11: 369.8 | K11: ○ | U11: ○
B12: 38 | C12: 10.1 | D12: 369.8 | E12: 379.9 | K12: ○ | L12: ○ | U12: ○
B13: 39 | C13: 10.2 | D13: 379.9 | E13: 390.1
B14: 40 | C14: 10.1 | D14: 390.1 | E14: 400.2 | K14: ○ | L14: ○ | O14: ⑤ | P14: ⑨ | U14: ○
B15: 41 | C15: 10.1 | D15: 400.2 | E15: 410.3 | K15: ○
B16: 42 | C16: 4.5 | D16: 410.3 | E16: 414.8 | K16: ○
B17: 43 | C17: 10.1 | D17: 414.8 | E17: 424.9 | L17: ○ | U17: ○
B18: 44 | C18: 10.4 | D18: 424.9 | E18: 435.3 | K18: ○
B19: 45 | C19: 10.4 | D19: 435.3 | E19: 445.7 | K19: ○ | L19: ○ | O19: ⑥ | P19: ⑩ | U19: ○
B20: 46 | C20: 2.3 | D20: 445.7 | E20: 448
B21: PE | C21: 0 | D21: 0 | E21: 0 | F21: 坑門（面壁型）
B45: ※ 行が不足する場合は、適時、表の行を増やすこと。

Sheet 様式A-3
B3: ■トンネル台帳 トンネル記録（位置図、断面図、施工実績他）【様式A-3】
B4: フリガナ | E4: フタミトンネル | J4: 路線名 | M4: 栗野二見線 | S4: 作成者 | W4: アジア航測株式会社 飯田 琢巳 | AC4: 作成年月日 | AF4: 46080
B5: 名 称 | E5: 二見トンネル | J5: 管理者名 | M5: 山口県下関土木建築事務所
B6: 位置図・現況写真・標準断面図・地質縦断図・施工実績

Sheet 様式A-3 (2)
B3: ■トンネル台帳 トンネル記録（位置図、断面図、施工実績他）【様式A-3】
B4: フリガナ | E4: ='様式A-1'!D3 -> フタミトンネル | J4: 路線名 | M4: ='様式A-1'!J3 -> 栗野二見線 | S4: 作成者 | W4: ='様式A-1'!K5 -> アジア航測株式会社 飯田 琢巳 | AC4: 作成年月日 | AF4: ='様式A-1'!R5 -> 46080
B5: 名 称 | E5: ='様式A-1'!D4 -> 二見トンネル | J5: 管理者名 | M5: ='様式A-1'!R3 -> 山口県下関土木建築事務所
B6: 位置図・現況写真・標準断面図・地質縦断図・施工実績

Sheet 様式A-3 (3)
B3: ■トンネル台帳 トンネル記録（位置図、断面図、施工実績他）【様式A-3】
B4: フリガナ | E4: ='様式A-1'!D3 -> フタミトンネル | J4: 路線名 | M4: ='様式A-1'!J3 -> 栗野二見線 | S4: 作成者 | W4: ='様式A-1'!K5 -> アジア航測株式会社 飯田 琢巳 | AC4: 作成年月日 | AF4: ='様式A-1'!R5 -> 46080
B5: 名 称 | E5: ='様式A-1'!D4 -> 二見トンネル | J5: 管理者名 | M5: ='様式A-1'!R3 -> 山口県下関土木建築事務所
B6: 位置図・現況写真・標準断面図・地質縦断図・施工実績

Sheet 様式A-3 (4)
B3: ■トンネル台帳 トンネル記録（位置図、断面図、施工実績他）【様式A-3】
B4: フリガナ | E4: ='様式A-1'!D3 -> フタミトンネル | J4: 路線名 | M4: ='様式A-1'!J3 -> 栗野二見線 | S4: 作成者 | W4: ='様式A-1'!K5 -> アジア航測株式会社 飯田 琢巳 | AC4: 作成年月日 | AF4: ='様式A-1'!R5 -> 46080
B5: 名 称 | E5: ='様式A-1'!D4 -> 二見トンネル | J5: 管理者名 | M5: ='様式A-1'!R3 -> 山口県下関土木建築事務所
B6: 位置図・現況写真・標準断面図・地質縦断図・施工実績

Sheet 様式B (1)
B2: ■定期点検記録様式 トンネル変状・異常箇所写真位置図 【様式B】 | N2: 定期点検年月日 | P2: 45917 | S2: 施設ID | V2: 34.25039,130.91453
B3: フリガナ | C3: フタミトンネル | G3: 路線名 | H3: 栗野二見線 | K3: 管理者名 | L3: 山口県下関土木建築事務所 | Q3: 定期点検実施者 | S3: アジア航測株式会社 | V3: 起点 | W3: 緯度 | X3: 34.25039
B4: 名 称 | C4: 二見トンネル | S4: 飯田 琢巳 | W4: 経度 | X4: 130.91453
B5: 所在地 | C5: 自 | D5: 山口県下関市豊北町大字北宇賀 | G5: トンネル工法 | I5: 山岳トンネル工法（NATM） | L5: トンネル延長 | N5: L= | O5: 448 | P5: ｍ | Q5: 自専道 or 一般道 | R5: 一般道 | S5: 代替路の有無 | U5: 有 | V5: 終点 | W5: 緯度 | X5: 34.2465
C6: 至 | D6: 山口県下関市豊北町大字北宇賀 | G6: 建設年度 | I6: 37681 | L6: 幅員 | N6: L= | O6: 11.2 | P6: ｍ | S6: 緊急輸送道路 | U6: 二次 | W6: 経度 | X6: 130.91313
B7: トンネル毎 の健全性の 診断の区分 | D7: Ⅱ
G8: 変状・異常 箇所数合計 | I8: トンネル本体工 | J8: 材質劣化 | K8: Ⅱ | L8: 95 | N8: Ⅲ | O8: 0 | Q8: Ⅳ | R8: 0 | T8: 附属物等 の取付状態 | V8: ◯ （応急措置後) | X8: 87
J9: 漏水 | K9: Ⅱ | L9: 0 | N9: Ⅲ | O9: 0 | Q9: Ⅳ | R9: 0 | Z9: 10
V10: ✕ | X10: 25
J11: 外力 | K11: Ⅱ | L11: 0 | N11: Ⅲ | O11: 0 | Q11: Ⅳ | R11: 0
B12: トンネル変状・異常箇所写真位置図
J29: 注１：本位置図は、見下げた状態で記載すること。 注２：覆工スパン番号は横断目地毎(矢板工法の場合は上半アーチの 横断目地毎)に設定すること。 | Q29: 注３：写真番号に付する変状番号は、各覆工スパンの変状に対して新たに確認された場合 は順次追加していくこと。 注４：横断目地の変状は前の覆工スパン番号で計上すること。 注５：１枚に収まらない場合は、複数枚に分けて作成すること。
C30: ※1 トンネル本体工の変状数は、材質劣化、漏水に起因するものは変状単位で、外力に起因するものはスパン単位で計上すること。
C31: ※2 トンネル本体工の変状に対しては、措置の必要性（Ⅱ～Ⅳ）について表記すること。また、点検前に実施された措置によりⅠと判定された箇所についても記載すること。
C32: ※3 附属物等の取付状態の○欄については、応急措置前に判定区分×とした箇所のうち応急措置により○判定とした箇所の数を記入すること。
C33: ※4 附属物等の異常番号は、本体工と番号が重複しないよう101番以降とする等の配慮を行い、分かりやすく記録すること。

Sheet 様式B (2)
B2: ■定期点検記録様式 トンネル変状・異常箇所写真位置図 【様式B】 | N2: 定期点検年月日 | P2: 45917 | S2: 施設ID | V2: 34.25039,130.91453
B3: フリガナ | C3: フタミトンネル | G3: 路線名 | H3: 栗野二見線 | K3: 管理者名 | L3: 山口県下関土木建築事務所 | Q3: 定期点検実施者 | S3: アジア航測株式会社 | V3: 起点 | W3: 緯度 | X3: 34.25039
B4: 名 称 | C4: 二見トンネル | S4: 飯田 琢巳 | W4: 経度 | X4: 130.91453
B5: 所在地 | C5: 自 | D5: 山口県下関市豊北町大字北宇賀 | G5: トンネル工法 | I5: 山岳トンネル工法（NATM） | L5: トンネル延長 | N5: L= | O5: 448 | P5: ｍ | Q5: 自専道 or 一般道 | R5: 一般道 | S5: 代替路の有無 | U5: 有 | V5: 終点 | W5: 緯度 | X5: 34.2465
C6: 至 | D6: 山口県下関市豊北町大字北宇賀 | G6: 建設年度 | I6: 37681 | L6: 幅員 | N6: L= | O6: 11.2 | P6: ｍ | S6: 緊急輸送道路 | U6: 二次 | W6: 経度 | X6: 130.91313
B7: トンネル毎 の健全性の 診断の区分 | D7: Ⅱ
G8: 変状・異常 箇所数合計 | I8: トンネル本体工 | J8: 材質劣化 | K8: Ⅱ | L8: 95 | N8: Ⅲ | O8: 0 | Q8: Ⅳ | R8: 0 | T8: 附属物等 の取付状態 | V8: ◯ （応急措置後) | X8: 87
J9: 漏水 | K9: Ⅱ | L9: 0 | N9: Ⅲ | O9: 0 | Q9: Ⅳ | R9: 0 | Z9: 10
V10: ✕ | X10: 25
J11: 外力 | K11: Ⅱ | L11: 0 | N11: Ⅲ | O11: 0 | Q11: Ⅳ | R11: 0
B12: トンネル変状・異常箇所写真位置図
J29: 注１：本位置図は、見下げた状態で記載すること。 注２：覆工スパン番号は横断目地毎(矢板工法の場合は上半アーチの 横断目地毎)に設定すること。 | Q29: 注３：写真番号に付する変状番号は、各覆工スパンの変状に対して新たに確認された場合 は順次追加していくこと。 注４：横断目地の変状は前の覆工スパン番号で計上すること。 注５：１枚に収まらない場合は、複数枚に分けて作成すること。
C30: ※1 トンネル本体工の変状数は、材質劣化、漏水に起因するものは変状単位で、外力に起因するものはスパン単位で計上すること。
C31: ※2 トンネル本体工の変状に対しては、措置の必要性（Ⅱ～Ⅳ）について表記すること。また、点検前に実施された措置によりⅠと判定された箇所についても記載すること。
C32: ※3 附属物等の取付状態の○欄については、応急措置前に判定区分×とした箇所のうち応急措置により○判定とした箇所の数を記入すること。
C33: ※4 附属物等の異常番号は、本体工と番号が重複しないよう101番以降とする等の配慮を行い、分かりやすく記録すること。

Sheet 様式B (3)
B2: ■定期点検記録様式 トンネル変状・異常箇所写真位置図 【様式B】 | N2: 定期点検年月日 | P2: 45917 | S2: 施設ID | V2: 34.25039,130.91453
B3: フリガナ | C3: フタミトンネル | G3: 路線名 | H3: 栗野二見線 | K3: 管理者名 | L3: 山口県下関土木建築事務所 | Q3: 定期点検実施者 | S3: アジア航測株式会社 | V3: 起点 | W3: 緯度 | X3: 34.25039
B4: 名 称 | C4: 二見トンネル | S4: 飯田 琢巳 | W4: 経度 | X4: 130.91453
B5: 所在地 | C5: 自 | D5: 山口県下関市豊北町大字北宇賀 | G5: トンネル工法 | I5: 山岳トンネル工法（NATM） | L5: トンネル延長 | N5: L= | O5: 448 | P5: ｍ | Q5: 自専道 or 一般道 | R5: 一般道 | S5: 代替路の有無 | U5: 有 | V5: 終点 | W5: 緯度 | X5: 34.2465
C6: 至 | D6: 山口県下関市豊北町大字北宇賀 | G6: 建設年度 | I6: 37681 | L6: 幅員 | N6: L= | O6: 11.2 | P6: ｍ | S6: 緊急輸送道路 | U6: 二次 | W6: 経度 | X6: 130.91313
B7: トンネル毎 の健全性の 診断の区分 | D7: Ⅱ
G8: 変状・異常 箇所数合計 | I8: トンネル本体工 | J8: 材質劣化 | K8: Ⅱ | L8: 95 | N8: Ⅲ | O8: 0 | Q8: Ⅳ | R8: 0 | T8: 附属物等 の取付状態 | V8: ◯ （応急措置後) | X8: 87
J9: 漏水 | K9: Ⅱ | L9: 0 | N9: Ⅲ | O9: 0 | Q9: Ⅳ | R9: 0 | Z9: 10
V10: ✕ | X10: 25
J11: 外力 | K11: Ⅱ | L11: 0 | N11: Ⅲ | O11: 0 | Q11: Ⅳ | R11: 0
B12: トンネル変状・異常箇所写真位置図
J29: 注１：本位置図は、見下げた状態で記載すること。 注２：覆工スパン番号は横断目地毎(矢板工法の場合は上半アーチの 横断目地毎)に設定すること。 | Q29: 注３：写真番号に付する変状番号は、各覆工スパンの変状に対して新たに確認された場合 は順次追加していくこと。 注４：横断目地の変状は前の覆工スパン番号で計上すること。 注５：１枚に収まらない場合は、複数枚に分けて作成すること。
C30: ※1 トンネル本体工の変状数は、材質劣化、漏水に起因するものは変状単位で、外力に起因するものはスパン単位で計上すること。
C31: ※2 トンネル本体工の変状に対しては、措置の必要性（Ⅱ～Ⅳ）について表記すること。また、点検前に実施された措置によりⅠと判定された箇所についても記載すること。
C32: ※3 附属物等の取付状態の○欄については、応急措置前に判定区分×とした箇所のうち応急措置により○判定とした箇所の数を記入すること。
C33: ※4 附属物等の異常番号は、本体工と番号が重複しないよう101番以降とする等の配慮を行い、分かりやすく記録すること。

Sheet 様式B (4)
B2: ■定期点検記録様式 トンネル変状・異常箇所写真位置図 【様式B】 | N2: 定期点検年月日 | P2: 45917 | S2: 施設ID | V2: 34.25039,130.91453
B3: フリガナ | C3: フタミトンネル | G3: 路線名 | H3: 栗野二見線 | K3: 管理者名 | L3: 山口県下関土木建築事務所 | Q3: 定期点検実施者 | S3: アジア航測株式会社 | V3: 起点 | W3: 緯度 | X3: 34.25039
B4: 名 称 | C4: 二見トンネル | S4: 飯田 琢巳 | W4: 経度 | X4: 130.91453
B5: 所在地 | C5: 自 | D5: 山口県下関市豊北町大字北宇賀 | G5: トンネル工法 | I5: 山岳トンネル工法（NATM） | L5: トンネル延長 | N5: L= | O5: 448 | P5: ｍ | Q5: 自専道 or 一般道 | R5: 一般道 | S5: 代替路の有無 | U5: 有 | V5: 終点 | W5: 緯度 | X5: 34.2465
C6: 至 | D6: 山口県下関市豊北町大字北宇賀 | G6: 建設年度 | I6: 37681 | L6: 幅員 | N6: L= | O6: 11.2 | P6: ｍ | S6: 緊急輸送道路 | U6: 二次 | W6: 経度 | X6: 130.91313
B7: トンネル毎 の健全性の 診断の区分 | D7: Ⅱ
G8: 変状・異常 箇所数合計 | I8: トンネル本体工 | J8: 材質劣化 | K8: Ⅱ | L8: 95 | N8: Ⅲ | O8: 0 | Q8: Ⅳ | R8: 0 | T8: 附属物等 の取付状態 | V8: ◯ （応急措置後) | X8: 87
J9: 漏水 | K9: Ⅱ | L9: 0 | N9: Ⅲ | O9: 0 | Q9: Ⅳ | R9: 0 | Z9: 10
V10: ✕ | X10: 25
J11: 外力 | K11: Ⅱ | L11: 0 | N11: Ⅲ | O11: 0 | Q11: Ⅳ | R11: 0
B12: トンネル変状・異常箇所写真位置図
J29: 注１：本位置図は、見下げた状態で記載すること。 注２：覆工スパン番号は横断目地毎(矢板工法の場合は上半アーチの 横断目地毎)に設定すること。 | Q29: 注３：写真番号に付する変状番号は、各覆工スパンの変状に対して新たに確認された場合 は順次追加していくこと。 注４：横断目地の変状は前の覆工スパン番号で計上すること。 注５：１枚に収まらない場合は、複数枚に分けて作成すること。
C30: ※1 トンネル本体工の変状数は、材質劣化、漏水に起因するものは変状単位で、外力に起因するものはスパン単位で計上すること。
C31: ※2 トンネル本体工の変状に対しては、措置の必要性（Ⅱ～Ⅳ）について表記すること。また、点検前に実施された措置によりⅠと判定された箇所についても記載すること。
C32: ※3 附属物等の取付状態の○欄については、応急措置前に判定区分×とした箇所のうち応急措置により○判定とした箇所の数を記入すること。
C33: ※4 附属物等の異常番号は、本体工と番号が重複しないよう101番以降とする等の配慮を行い、分かりやすく記録すること。

Sheet 様式B (5)
B2: ■定期点検記録様式 トンネル変状・異常箇所写真位置図 【様式B】 | N2: 定期点検年月日 | P2: 45917 | S2: 施設ID | V2: 34.25039,130.91453
B3: フリガナ | C3: フタミトンネル | G3: 路線名 | H3: 栗野二見線 | K3: 管理者名 | L3: 山口県下関土木建築事務所 | Q3: 定期点検実施者 | S3: アジア航測株式会社 | V3: 起点 | W3: 緯度 | X3: 34.25039
B4: 名 称 | C4: 二見トンネル | S4: 飯田 琢巳 | W4: 経度 | X4: 130.91453
B5: 所在地 | C5: 自 | D5: 山口県下関市豊北町大字北宇賀 | G5: トンネル工法 | I5: 山岳トンネル工法（NATM） | L5: トンネル延長 | N5: L= | O5: 448 | P5: ｍ | Q5: 自専道 or 一般道 | R5: 一般道 | S5: 代替路の有無 | U5: 有 | V5: 終点 | W5: 緯度 | X5: 34.2465
C6: 至 | D6: 山口県下関市豊北町大字北宇賀 | G6: 建設年度 | I6: 37681 | L6: 幅員 | N6: L= | O6: 11.2 | P6: ｍ | S6: 緊急輸送道路 | U6: 二次 | W6: 経度 | X6: 130.91313
B7: トンネル毎 の健全性の 診断の区分 | D7: Ⅱ
G8: 変状・異常 箇所数合計 | I8: トンネル本体工 | J8: 材質劣化 | K8: Ⅱ | L8: 95 | N8: Ⅲ | O8: 0 | Q8: Ⅳ | R8: 0 | T8: 附属物等 の取付状態 | V8: ◯ （応急措置後) | X8: 87
J9: 漏水 | K9: Ⅱ | L9: 0 | N9: Ⅲ | O9: 0 | Q9: Ⅳ | R9: 0 | Z9: 10
V10: ✕ | X10: 25
J11: 外力 | K11: Ⅱ | L11: 0 | N11: Ⅲ | O11: 0 | Q11: Ⅳ | R11: 0
B12: トンネル変状・異常箇所写真位置図
J29: 注１：本位置図は、見下げた状態で記載すること。 注２：覆工スパン番号は横断目地毎(矢板工法の場合は上半アーチの 横断目地毎)に設定すること。 | Q29: 注３：写真番号に付する変状番号は、各覆工スパンの変状に対して新たに確認された場合 は順次追加していくこと。 注４：横断目地の変状は前の覆工スパン番号で計上すること。 注５：１枚に収まらない場合は、複数枚に分けて作成すること。
C30: ※1 トンネル本体工の変状数は、材質劣化、漏水に起因するものは変状単位で、外力に起因するものはスパン単位で計上すること。
C31: ※2 トンネル本体工の変状に対しては、措置の必要性（Ⅱ～Ⅳ）について表記すること。また、点検前に実施された措置によりⅠと判定された箇所についても記載すること。
C32: ※3 附属物等の取付状態の○欄については、応急措置前に判定区分×とした箇所のうち応急措置により○判定とした箇所の数を記入すること。
C33: ※4 附属物等の異常番号は、本体工と番号が重複しないよう101番以降とする等の配慮を行い、分かりやすく記録すること。

Sheet 様式B (6)
B2: ■定期点検記録様式 トンネル変状・異常箇所写真位置図 【様式B】 | N2: 定期点検年月日 | P2: 45917 | S2: 施設ID | V2: 34.25039,130.91453
B3: フリガナ | C3: フタミトンネル | G3: 路線名 | H3: 栗野二見線 | K3: 管理者名 | L3: 山口県下関土木建築事務所 | Q3: 定期点検実施者 | S3: アジア航測株式会社 | V3: 起点 | W3: 緯度 | X3: 34.25039
B4: 名 称 | C4: 二見トンネル | S4: 飯田 琢巳 | W4: 経度 | X4: 130.91453
B5: 所在地 | C5: 自 | D5: 山口県下関市豊北町大字北宇賀 | G5: トンネル工法 | I5: 山岳トンネル工法（NATM） | L5: トンネル延長 | N5: L= | O5: 448 | P5: ｍ | Q5: 自専道 or 一般道 | R5: 一般道 | S5: 代替路の有無 | U5: 有 | V5: 終点 | W5: 緯度 | X5: 34.2465
C6: 至 | D6: 山口県下関市豊北町大字北宇賀 | G6: 建設年度 | I6: 37681 | L6: 幅員 | N6: L= | O6: 11.2 | P6: ｍ | S6: 緊急輸送道路 | U6: 二次 | W6: 経度 | X6: 130.91313
B7: トンネル毎 の健全性の 診断の区分 | D7: Ⅱ
G8: 変状・異常 箇所数合計 | I8: トンネル本体工 | J8: 材質劣化 | K8: Ⅱ | L8: 95 | N8: Ⅲ | O8: 0 | Q8: Ⅳ | R8: 0 | T8: 附属物等 の取付状態 | V8: ◯ （応急措置後) | X8: 87
J9: 漏水 | K9: Ⅱ | L9: 0 | N9: Ⅲ | O9: 0 | Q9: Ⅳ | R9: 0 | Z9: 10
V10: ✕ | X10: 25
J11: 外力 | K11: Ⅱ | L11: 0 | N11: Ⅲ | O11: 0 | Q11: Ⅳ | R11: 0
B12: トンネル変状・異常箇所写真位置図
J29: 注１：本位置図は、見下げた状態で記載すること。 注２：覆工スパン番号は横断目地毎(矢板工法の場合は上半アーチの 横断目地毎)に設定すること。 | Q29: 注３：写真番号に付する変状番号は、各覆工スパンの変状に対して新たに確認された場合 は順次追加していくこと。 注４：横断目地の変状は前の覆工スパン番号で計上すること。 注５：１枚に収まらない場合は、複数枚に分けて作成すること。
C30: ※1 トンネル本体工の変状数は、材質劣化、漏水に起因するものは変状単位で、外力に起因するものはスパン単位で計上すること。
C31: ※2 トンネル本体工の変状に対しては、措置の必要性（Ⅱ～Ⅳ）について表記すること。また、点検前に実施された措置によりⅠと判定された箇所についても記載すること。
C32: ※3 附属物等の取付状態の○欄については、応急措置前に判定区分×とした箇所のうち応急措置により○判定とした箇所の数を記入すること。
C33: ※4 附属物等の異常番号は、本体工と番号が重複しないよう101番以降とする等の配慮を行い、分かりやすく記録すること。

Sheet 様式B (7)
B2: ■定期点検記録様式 トンネル変状・異常箇所写真位置図 【様式B】 | N2: 定期点検年月日 | P2: 45917 | S2: 施設ID | V2: 34.25039,130.91453
B3: フリガナ | C3: フタミトンネル | G3: 路線名 | H3: 栗野二見線 | K3: 管理者名 | L3: 山口県下関土木建築事務所 | Q3: 定期点検実施者 | S3: アジア航測株式会社 | V3: 起点 | W3: 緯度 | X3: 34.25039
B4: 名 称 | C4: 二見トンネル | S4: 飯田 琢巳 | W4: 経度 | X4: 130.91453
B5: 所在地 | C5: 自 | D5: 山口県下関市豊北町大字北宇賀 | G5: トンネル工法 | I5: 山岳トンネル工法（NATM） | L5: トンネル延長 | N5: L= | O5: 448 | P5: ｍ | Q5: 自専道 or 一般道 | R5: 一般道 | S5: 代替路の有無 | U5: 有 | V5: 終点 | W5: 緯度 | X5: 34.2465
C6: 至 | D6: 山口県下関市豊北町大字北宇賀 | G6: 建設年度 | I6: 37681 | L6: 幅員 | N6: L= | O6: 11.2 | P6: ｍ | S6: 緊急輸送道路 | U6: 二次 | W6: 経度 | X6: 130.91313
B7: トンネル毎 の健全性の 診断の区分 | D7: Ⅱ
G8: 変状・異常 箇所数合計 | I8: トンネル本体工 | J8: 材質劣化 | K8: Ⅱ | L8: 95 | N8: Ⅲ | O8: 0 | Q8: Ⅳ | R8: 0 | T8: 附属物等 の取付状態 | V8: ◯ （応急措置後) | X8: 87
J9: 漏水 | K9: Ⅱ | L9: 0 | N9: Ⅲ | O9: 0 | Q9: Ⅳ | R9: 0 | Z9: 10
V10: ✕ | X10: 25
J11: 外力 | K11: Ⅱ | L11: 0 | N11: Ⅲ | O11: 0 | Q11: Ⅳ | R11: 0
B12: トンネル変状・異常箇所写真位置図
J29: 注１：本位置図は、見下げた状態で記載すること。 注２：覆工スパン番号は横断目地毎(矢板工法の場合は上半アーチの 横断目地毎)に設定すること。 | Q29: 注３：写真番号に付する変状番号は、各覆工スパンの変状に対して新たに確認された場合 は順次追加していくこと。 注４：横断目地の変状は前の覆工スパン番号で計上すること。 注５：１枚に収まらない場合は、複数枚に分けて作成すること。
C30: ※1 トンネル本体工の変状数は、材質劣化、漏水に起因するものは変状単位で、外力に起因するものはスパン単位で計上すること。
C31: ※2 トンネル本体工の変状に対しては、措置の必要性（Ⅱ～Ⅳ）について表記すること。また、点検前に実施された措置によりⅠと判定された箇所についても記載すること。
C32: ※3 附属物等の取付状態の○欄については、応急措置前に判定区分×とした箇所のうち応急措置により○判定とした箇所の数を記入すること。
C33: ※4 附属物等の異常番号は、本体工と番号が重複しないよう101番以降とする等の配慮を行い、分かりやすく記録すること。

Sheet 様式C-1-1 (1)
B2: ■定期点検記録様式 全スパン定期点検結果総括表（トンネル本体工） 【様式C-1-1】
B3: フリガナ | F3: フタミトンネル | I3: 路線名 | K3: 栗野二見線 | O3: 定期点検実施者 | P3: アジア航測株式会社 | T3: 定期点検年月日 | X3: 45917
B4: 名 称 | F4: 二見トンネル | I4: 管理者名 | K4: 山口県下関土木建築事務所 | P4: 飯田 琢巳
B5: 定期点検結果 | C5: 覆工 スパン 番号 | E5: 変状 番号 | F5: 距離 （m） | G5: 変状部位 | I5: 変 状 の 内 容 | O5: 前回定期点検時の状態 | P5: 今回定期点検結果 | T5: 措置履歴 | Y5: 対応方針 ・ 特記事項
O6: 44272
G7: 対象箇所 | H7: 部位区分 | I7: 変状区分 | J7: 変状種類 | M7: 変状の発生範囲の規模 | N7: 前回定期点検時の変状の発生範囲及び規模 | O7: 対策区分 | P7: 対策区分 | R7: 調査の 要否 | S7: 措置の 要否 | T7: 実施 | U7: 措置の実施状況
P8: 応急措置前 | Q8: 応急措置後
C9: PS | E9: 1 | F9: 0 | G9: 覆工 | H9: 面壁・妻壁等 | I9: 材質劣化 | J9: 圧ざ、ひび割れ | M9: W=0.3mm×L=0.9m | N9: W=0.3mm×L=0.9m | O9: Ⅱb | P9: - | Q9: Ⅱb | R9: 否 | S9: 要監視 | T9: 継続 | U9: 監視(日常)
C10: 1 | E10: 1 | F10: 0 | G10: 覆工 | H10: アーチ（左側） | I10: 材質劣化 | J10: 圧ざ、ひび割れ | M10: W=0.5mm×L=1.3m | N10: W=0.5mm×L=1.4m | O10: Ⅱb | P10: - | Q10: Ⅱb | R10: 否 | S10: 要監視 | T10: 継続 | U10: 監視(日常) | Y10: 寸法変更
C11: 2 | E11: 1 | F11: 1.45 | G11: 覆工 | H11: アーチ（左側） | I11: 材質劣化 | J11: 圧ざ、ひび割れ | M11: W=0.6mm×L=1.8m | N11: W=0.6mm×L=2.1m | O11: Ⅱb | P11: - | Q11: Ⅱb | R11: 否 | S11: 要監視 | T11: 継続 | U11: 監視(日常) | Y11: 寸法変更
C12: 2 | E12: 2 | F12: 1.33 | G12: 覆工 | H12: アーチ（左側） | I12: 材質劣化 | J12: 圧ざ、ひび割れ | M12: W=0.5mm×L=4.6m | N12: W=0.5mm×L=5.6m | O12: Ⅱb | P12: - | Q12: Ⅱb | R12: 否 | S12: 要監視 | T12: 継続 | U12: 監視(日常) | Y12: 寸法変更
C13: 2 | E13: 3 | F13: 4.69 | G13: 覆工 | H13: アーチ（右側） | I13: 材質劣化 | J13: 圧ざ、ひび割れ | M13: W=0.75mm×L=4.6m | N13: W=0.75mm×L=5.0m | O13: Ⅱb | P13: - | Q13: Ⅱb | R13: 否 | S13: 要監視 | T13: 継続 | U13: 監視(日常) | Y13: 寸法変更
C14: 3 | E14: 1 | F14: 18.36 | G14: 覆工 | H14: アーチ（左側） | I14: 材質劣化 | J14: 圧ざ、ひび割れ | M14: W=0.3mm×L=3.2m | N14: W=0.2mm×L=2.0m | O14: Ⅱb | P14: - | Q14: Ⅱb | R14: 否 | S14: 要監視 | T14: 継続 | U14: 監視(日常) | Y14: 寸法変更
C15: 3 | E15: 2 | F15: 21.94 | G15: 覆工 | H15: アーチ（左側） | I15: 材質劣化 | J15: うき・はく離 | M15: 0.65m×0.05m・D=0.1m | N15: 0.65m×0.05m | O15: Ⅱb | P15: - | Q15: Ⅱa | R15: 否 | S15: 要監視 | T15: 継続 | U15: 監視(重点) | Y15: 判定見直し
C16: 3 | E16: 3 | F16: 21.94 | G16: 覆工 | H16: アーチ（右側） | I16: 材質劣化 | J16: うき・はく離 | M16: 0.25m×0.05m・D=0.05m | N16: 0.25m×0.05m | O16: Ⅰ | P16: - | Q16: Ⅱa | R16: 否 | S16: 要監視 | T16: 継続 | U16: 監視(重点) | Y16: 判定見直し
C17: 3 | E17: 4 | F17: 15.52 | G17: 覆工 | H17: アーチ（右側） | I17: 材質劣化 | J17: 圧ざ、ひび割れ | M17: W=0.3mm×L=3.0m | N17: W=0.3mm×L=3.2m | O17: Ⅱb | P17: - | Q17: Ⅱb | R17: 否 | S17: 要監視 | T17: 継続 | U17: 監視(日常) | Y17: 寸法変更
C18: 4 | E18: 1 | F18: 28.06 | G18: 覆工 | H18: アーチ（左側） | I18: 材質劣化 | J18: 圧ざ、ひび割れ | M18: W=0.35mm×L=3.5m | N18: W=0.35mm×L=3.8m | O18: Ⅱb | P18: - | Q18: Ⅱb | R18: 否 | S18: 要監視 | T18: 継続 | U18: 監視(日常) | Y18: 寸法変更
C19: 4 | E19: 2 | F19: 24.61 | G19: 覆工 | H19: アーチ（右側） | I19: 材質劣化 | J19: 圧ざ、ひび割れ | M19: W=0.4mm×L=2.6m | N19: W=0.4mm×L=3.8m | O19: Ⅱb | P19: - | Q19: Ⅱb | R19: 否 | S19: 要監視 | T19: 継続 | U19: 監視(日常) | Y19: 寸法変更
C20: 5 | E20: 1 | F20: 32.43 | G20: 覆工 | H20: アーチ（左側） | I20: 材質劣化 | J20: 圧ざ、ひび割れ | M20: W=0.3mm×L=3.6m | N20: W=0.3mm×L=3.8m | O20: Ⅱb | P20: - | Q20: Ⅱb | R20: 否 | S20: 要監視 | T20: 継続 | U20: 監視(日常) | Y20: 寸法変更
C21: 5 | E21: 2 | F21: 42.64 | G21: 覆工 | H21: アーチ（左側） | I21: 材質劣化 | J21: うき・はく離 | M21: 0.1m×0.05m | N21: 0.1m×0.05m | O21: Ⅱb | P21: - | Q21: Ⅱa | R21: 否 | S21: 要監視 | T21: 継続 | U21: 監視(重点) | Y21: 判定見直し
... C24: 6 | E24: 1 | F24: 52.64 | G24: 覆工 | H24: アーチ（左側） | I24: 材質劣化 | J24: 圧ざ、ひび割れ | M24: W=0.5mm×L=3.8m | N24: W=0.5mm×L=3.9m | O24: Ⅱb | P24: - | Q24: Ⅱb | R24: 否 | S24: 要監視 | T24: 継続 | U24: 監視(日常) | Y24: 寸法変更
C25: 6 | E25: 2 | F25: 52.65 | G25: 覆工 | H25: アーチ（左側） | I25: 材質劣化 | J25: うき・はく離 | M25: 0.4m×0.05m・D=0.03m、0.3m×0.05m・D=0.05m | N25: 0.4m×0.05m、0.3m×0.05m | O25: Ⅰ | P25: - | Q25: Ⅰ | R25: 否 | S25: 否 | T25: 未
C26: 6 | E26: 3 | F26: 52.67 | G26: 覆工 | H26: アーチ（右側） | I26: 材質劣化 | J26: うき・はく離 | M26: 0.6m×0.05m | N26: 0.6m×0.05m | O26: Ⅱb | P26: - | Q26: Ⅱa | R26: 否 | S26: 要監視 | T26: 継続 | U26: 監視(重点) | Y26: 判定見直し
C27: 6 | E27: 4 | F27: 52.67 | G27: 覆工 | H27: アーチ（右側） | I27: 材質劣化 | J27: うき・はく離 | M27: 0.2m×0.05m | N27: 0.2m×0.05m | O27: Ⅱb | P27: - | Q27: Ⅱa | R27: 否 | S27: 要監視 | T27: 継続 | U27: 監視(重点) | Y27: 判定見直し
C28: 6 | E28: 5 | F28: 52.64 | G28: 覆工 | H28: アーチ（右側） | I28: 材質劣化 | J28: うき・はく離 | M28: 0.1m×0.05m・D=0.03m | N28: 0.1m×0.05m | O28: Ⅱb | P28: - | Q28: Ⅱb | R28: 否 | S28: 要監視 | T28: 継続 | U28: 監視(日常)
C29: 6 | E29: 6 | F29: 52.67 | G29: 覆工 | H29: アーチ（右側） | I29: 材質劣化 | J29: うき・はく離 | M29: 0.35m×0.05m・D=0.1m | N29: 0.35m×0.05m | O29: Ⅱb | P29: - | Q29: Ⅱa | R29: 否 | S29: 要監視 | T29: 継続 | U29: 監視(重点) | Y29: 判定見直し
C30: 7 | E30: 1 | F30: 56.15 | G30: 覆工 | H30: アーチ（左側） | I30: 材質劣化 | J30: 圧ざ、ひび割れ | M30: W=0.3mm×L=3.3m | N30: W=0.3mm×L=3.9m | O30: Ⅱb | P30: - | Q30: Ⅱb | R30: 否 | S30: 要監視 | T30: 継続 | U30: 監視(日常) | Y30: 寸法変更
C31: 7 | E31: 2 | F31: 62.87 | G31: 覆工 | H31: アーチ（右側） | I31: 材質劣化 | J31: うき・はく離 | M31: 0.45m×0.05m・D=0.05m | N31: 0.45m×0.05m | O31: Ⅰ | P31: - | Q31: Ⅰ | R31: 否 | S31: 否 | T31: 未
C32: 7 | E32: 3 | F32: 62.87 | G32: 覆工 | H32: アーチ（右側） | I32: 材質劣化 | J32: うき・はく離 | M32: 0.35m×0.05m・D=0.05m、0.1m×0.05m・D=0.05m | N32: 0.35m×0.05m、0.1m×0.05m | O32: Ⅰ | P32: - | Q32: Ⅰ | R32: 否 | S32: 否 | T32: 未
C33: 7 | E33: 4 | F33: 54.09 | G33: 覆工 | H33: アーチ（右側） | I33: 材質劣化 | J33: 圧ざ、ひび割れ | M33: W=0.35mm×L=3.4m | N33: W=0.35mm×L=3.7m | O33: Ⅱb | P33: - | Q33: Ⅱb | R33: 否 | S33: 要監視 | T33: 継続 | U33: 監視(日常) | Y33: 寸法変更
C34: 7 | E34: 5 | F34: 62.87 | G34: 覆工 | H34: アーチ（右側） | I34: 材質劣化 | J34: うき・はく離 | M34: 0.2m×0.05m・D=0.05m | N34: 0.2m×0.05m | O34: Ⅱb | P34: - | Q34: Ⅱa | R34: 否 | S34: 要監視 | T34: 継続 | U34: 監視(重点) | Y34: 判定見直し
C35: 8 | E35: 1 | F35: 64.8 | G35: 覆工 | H35: アーチ（左側） | I35: 材質劣化 | J35: 圧ざ、ひび割れ | M35: W=0.4mm×L=3.6m | N35: W=0.4mm×L=3.8m | O35: Ⅱb | P35: - | Q35: Ⅱb | R35: 否 | S35: 要監視 | T35: 継続 | U35: 監視(日常) | Y35: 寸法変更
C36: 8 | E36: 2 | F36: 62.85 | G36: 覆工 | H36: アーチ（左側） | I36: 材質劣化 | J36: うき・はく離 | M36: 0.4m×0.05m・D=0.2m | N36: 0.4m×0.05m | O36: Ⅱb | P36: - | Q36: Ⅱa | R36: 否 | S36: 要監視 | T36: 継続 | U36: 監視(重点) | Y36: 判定見直し
C37: 8 | E37: 3 | F37: 65.21 | G37: 覆工 | H37: アーチ（右側） | I37: 材質劣化 | J37: 圧ざ、ひび割れ | M37: W=0.3mm×L=3.0m | N37: W=0.3mm×L=3.9m | O37: Ⅱb | P37: - | Q37: Ⅱb | R37: 否 | S37: 要監視 | T37: 継続 | U37: 監視(日常) | Y37: 寸法変更
C38: 9 | E38: 1 | F38: 73.81 | G38: 覆工 | H38: アーチ（左側） | I38: 材質劣化 | J38: 圧ざ、ひび割れ | M38: W=0.4mm×L=3.8m | N38: W=0.4mm×L=4.1m | O38: Ⅱb | P38: - | Q38: Ⅱb | R38: 否 | S38: 要監視 | T38: 継続 | U38: 監視(日常) | Y38: 寸法変更
C39: 9 | E39: 2 | F39: 80.53 | G39: 覆工 | H39: アーチ（左側） | I39: 材質劣化 | J39: 圧ざ、ひび割れ | M39: W=0.3mm×L=2.6m | N39: W=0.3mm×L=3.2m | O39: Ⅱb | P39: - | Q39: Ⅱb | R39: 否 | S39: 要監視 | T39: 継続 | U39: 監視(日常) | Y39: 寸法変更
C40: 9 | E40: 3 | F40: 73.24 | G40: 覆工 | H40: アーチ（左側） | I40: 材質劣化 | J40: 圧ざ、ひび割れ | M40: W=0.3mm×L=2.9m | N40: W=0.3mm×L=2.4m | O40: Ⅱb | P40: - | Q40: Ⅱb | R40: 否 | S40: 要監視 | T40: 継続 | U40: 監視(日常) | Y40: 寸法変更
C41: 9 | E41: 4 | F41: 83.47 | G41: 覆工 | H41: アーチ（右側） | I41: 材質劣化 | J41: うき・はく離 | M41: 0.25m×0.05m | N41: 0.25m×0.05m | O41: Ⅱb | P41: - | Q41: Ⅱa | R41: 否 | S41: 要監視 | T41: 継続 | U41: 監視(重点) | Y41: 判定見直し
C42: 9 | E42: 5 | F42: 77.36 | G42: 覆工 | H42: アーチ（右側） | I42: 材質劣化 | J42: 圧ざ、ひび割れ | M42: W=0.3mm×L=3.0m | N42: W=0.3mm×L=3.3m | O42: Ⅱb | P42: - | Q42: Ⅱb | R42: 否 | S42: 要監視 | T42: 継続 | U42: 監視(日常) | Y42: 寸法変更
C43: ※ 対策区分（応急措置後）のⅡb～Ⅳについて記入すること。また、点検前に実施された措置によりⅠと判定された変状も記入すること。
...

Sheet 様式C-1-1 (2)
B2: ■定期点検記録様式 全スパン定期点検結果総括表（トンネル本体工） 【様式C-1-1】
B3: フリガナ | F3: フタミトンネル | I3: 路線名 | K3: 栗野二見線 | O3: 定期点検実施者 | P3: アジア航測株式会社 | T3: 定期点検年月日 | X3: 45917
B4: 名 称 | F4: 二見トンネル | I4: 管理者名 | K4: 山口県下関土木建築事務所 | P4: 飯田 琢巳
B5: 定期点検結果 | C5: 覆工 スパン 番号 | E5: 変状 番号 | F5: 距離 （m） | G5: 変状部位 | I5: 変 状 の 内 容 | O5: 前回定期点検時の状態 | P5: 今回定期点検結果 | T5: 措置履歴 | Y5: 対応方針 ・ 特記事項
O6: 44272
G7: 対象箇所 | H7: 部位区分 | I7: 変状区分 | J7: 変状種類 | M7: 変状の発生範囲の規模 | N7: 前回定期点検時の変状の発生範囲及び規模 | O7: 対策区分 | P7: 対策区分 | R7: 調査の 要否 | S7: 措置の 要否 | T7: 実施 | U7: 措置の実施状況
P8: 応急措置前 | Q8: 応急措置後
C9: 10 | E9: 1 | F9: 85.64 | G9: 覆工 | H9: アーチ（左側） | I9: 材質劣化 | J9: 圧ざ、ひび割れ | M9: W=0.35mm×L=3.5m | N9: W=0.35mm×L=3.7m | O9: Ⅱb | P9: - | Q9: Ⅱb | R9: 否 | S9: 要監視 | T9: 継続 | U9: 監視(日常) | Y9: 寸法変更
C10: 10 | E10: 2 | F10: 86.45 | G10: 覆工 | H10: アーチ（右側） | I10: 材質劣化 | J10: 圧ざ、ひび割れ | M10: W=0.3mm×L=3.1m | N10: W=0.3mm×L=4.3m | O10: Ⅱb | P10: - | Q10: Ⅱb | R10: 否 | S10: 要監視 | T10: 継続 | U10: 監視(日常) | Y10: 寸法変更
C11: 11 | E11: 1 | F11: 93.94 | G11: 覆工 | H11: アーチ（左側） | I11: 材質劣化 | J11: 圧ざ、ひび割れ | M11: W=0.55mm×L=4.4m | N11: W=0.55mm×L=4.9m | O11: Ⅱb | P11: - | Q11: Ⅱb | R11: 否 | S11: 要監視 | T11: 継続 | U11: 監視(日常) | Y11: 寸法変更
C12: 11 | E12: 2 | F12: 104.13 | G12: 覆工 | H12: アーチ（左側） | I12: 材質劣化 | J12: うき・はく離 | M12: 0.6m×0.1m | N12: 0.6m×0.1m | O12: Ⅲ | P12: - | Q12: Ⅱa | R12: 否 | S12: 要監視 | T12: 継続 | U12: 監視(重点) | Y12: 判定見直し
C13: 11 | E13: 3 | F13: 95.76 | G13: 覆工 | H13: アーチ（左側） | I13: 材質劣化 | J13: うき・はく離 | M13: 0.1m×0.2m | N13: 0.1m×0.05m | O13: Ⅱb | P13: - | Q13: Ⅱa | R13: 否 | S13: 要監視 | T13: 継続 | U13: 監視(重点) | Y13: 寸法変更、判定見直し
C14: 11 | E14: 4 | F14: 96.58 | G14: 覆工 | H14: アーチ（右側） | I14: 材質劣化 | J14: 圧ざ、ひび割れ | M14: W=0.3mm×L=3.2m | N14: W=0.4mm×L=3.9m | O14: Ⅱb | P14: - | Q14: Ⅱb | R14: 否 | S14: 要監視 | T14: 継続 | U14: 監視(日常) | Y14: 寸法変更
C15: 11 | E15: 5 | F15: 104.16 | G15: 覆工 | H15: アーチ（左側） | I15: 材質劣化 | J15: うき・はく離 | M15: 0.1m×0.05m・D=0.12m | N15: - | O15: - | P15: - | Q15: Ⅱb | R15: 否 | S15: 要監視 | T15: 未 | U15: -
C16: 12 | E16: 1 | F16: 105.52 | G16: 覆工 | H16: アーチ（左側） | I16: 材質劣化 | J16: 圧ざ、ひび割れ | M16: W=0.35mm×L=2.9m | N16: W=0.35mm×L=2.9m | O16: Ⅱb | P16: - | Q16: Ⅱb | R16: 否 | S16: 要監視 | T16: 継続 | U16: 監視(日常)
C17: 12 | E17: 2 | F17: 114.45 | G17: 覆工 | H17: アーチ（左側） | I17: 材質劣化 | J17: うき・はく離 | M17: 0.4m×0.05m・D=0.2m | N17: 0.4m×0.05m | O17: Ⅱb | P17: - | Q17: Ⅱb | R17: 否 | S17: 要監視 | T17: 継続 | U17: 監視(日常)
C18: 12 | E18: 3 | F18: 106.14 | G18: 覆工 | H18: アーチ（右側） | I18: 材質劣化 | J18: 圧ざ、ひび割れ | M18: W=0.4mm×L=3.2m | N18: W=0.4mm×L=2.9m | O18: Ⅱb | P18: - | Q18: Ⅱb | R18: 否 | S18: 要監視 | T18: 継続 | U18: 監視(日常) | Y18: 寸法変更
C19: 13 | E19: 1 | F19: 114.49 | G19: 覆工 | H19: アーチ（左側） | I19: 材質劣化 | J19: うき・はく離 | M19: 0.4m×0.1m・D=0.18m | N19: 0.4m×0.1m | O19: Ⅱb | P19: - | Q19: Ⅱa | R19: 否 | S19: 要監視 | T19: 継続 | U19: 監視(重点) | Y19: 判定見直し
C20: 13 | E20: 2 | F20: 118.15 | G20: 覆工 | H20: アーチ（左側） | I20: 材質劣化 | J20: 圧ざ、ひび割れ | M20: W=0.3mm×L=2.7m | N20: W=0.3mm×L=2.8m | O20: Ⅱb | P20: - | Q20: Ⅱb | R20: 否 | S20: 要監視 | T20: 継続 | U20: 監視(日常) | Y20: 寸法変更
C21: 13 | E21: 3 | F21: 116.4 | G21: 覆工 | H21: アーチ（左側） | I21: 材質劣化 | J21: 鋼材腐食 | M21: 0.05m×0.05m | N21: 0.05m×0.05m | O21: Ⅱb | P21: - | Q21: Ⅱb | R21: 否 | S21: 要監視 | T21: 継続 | U21: 監視(日常)
C22: 13 | E22: 4 | F22: 124.76 | G22: 覆工 | H22: アーチ（右側） | I22: 材質劣化 | J22: うき・はく離 | M22: 0.4m×0.05m・D=0.1m | N22: 0.4m×0.05m | O22: Ⅱb | P22: - | Q22: Ⅱb | R22: 否 | S22: 要監視 | T22: 継続 | U22: 監視(日常)
C23: 13 | E23: 5 | F23: 120.88 | G23: 覆工 | H23: アーチ（右側） | I23: 材質劣化 | J23: 圧ざ、ひび割れ | M23: W=0.35mm×L=3.5m | N23: W=0.35mm×L=3.6m | O23: Ⅱb | P23: - | Q23: Ⅱb | R23: 否 | S23: 要監視 | T23: 継続 | U23: 監視(日常) | Y23: 寸法変更
C24: 14 | E24: 1 | F24: 126.05 | G24: 覆工 | H24: アーチ（左側） | I24: 材質劣化 | J24: 圧ざ、ひび割れ | M24: W=0.35mm×L=2.5m | N24: W=0.35mm×L=1.7m | O24: Ⅱb | P24: - | Q24: Ⅱb | R24: 否 | S24: 要監視 | T24: 継続 | U24: 監視(日常) | Y24: 寸法変更
C25: 14 | E25: 2 | F25: 127.7 | G25: 覆工 | H25: アーチ（右側） | I25: 材質劣化 | J25: 圧ざ、ひび割れ | M25: W=0.35mm×L=2.1m | N25: W=0.35mm×L=2.2m | O25: Ⅱb | P25: - | Q25: Ⅱb | R25: 否 | S25: 要監視 | T25: 継続 | U25: 監視(日常) | Y25: 寸法変更
C26: 15 | E26: 1 | F26: 134.9 | G26: 覆工 | H26: アーチ（左側） | I26: 材質劣化 | J26: うき・はく離 | M26: 0.4m×0.1m | N26: 0.4m×0.1m | O26: Ⅱb | P26: - | Q26: Ⅱa | R26: 否 | S26: 要監視 | T26: 継続 | U26: 監視(重点) | Y26: 判定見直し
C27: 15 | E27: 2 | F27: 144.25 | G27: 覆工 | H27: アーチ（左側） | I27: 材質劣化 | J27: 圧ざ、ひび割れ | M27: W=0.3mm×L=0.8m | N27: W=0.3mm×L=0.7m | O27: Ⅱb | P27: - | Q27: Ⅱb | R27: 否 | S27: 要監視 | T27: 継続 | U27: 監視(日常) | Y27: 寸法変更
C28: 15 | E28: 3 | F28: 134.86 | G28: 覆工 | H28: アーチ（右側） | I28: 材質劣化 | J28: うき・はく離 | M28: 0.6m×0.05m・D=0.15m | N28: 0.6m×0.05m | O28: Ⅱb | P28: - | Q28: Ⅱb | R28: 否 | S28: 要監視 | T28: 継続 | U28: 監視(日常)
C29: 15 | E29: 4 | F29: 138.09 | G29: 覆工 | H29: アーチ（右側） | I29: 材質劣化 | J29: 圧ざ、ひび割れ | M29: W=0.4mm×L=3.2m | N29: W=0.4mm×L=3.3m | O29: Ⅱb | P29: - | Q29: Ⅱb | R29: 否 | S29: 要監視 | T29: 継続 | U29: 監視(日常) | Y29: 寸法変更
C30: 15 | E30: 5 | F30: 134.9 | G30: 覆工 | H30: 側壁（左側） | I30: 材質劣化 | J30: うき・はく離 | M30: 0.3m×0.1m | N30: - | O30: - | P30: - | Q30: Ⅱb | R30: 否 | S30: 要監視 | T30: 未 | U30: -
C31: 16 | E31: 1 | F31: 145.91 | G31: 覆工 | H31: アーチ（右側） | I31: 材質劣化 | J31: 圧ざ、ひび割れ | M31: W=0.3mm×L=3.2m | N31: W=0.3mm×L=3.5m | O31: Ⅱb | P31: - | Q31: Ⅱb | R31: 否 | S31: 要監視 | T31: 継続 | U31: 監視(日常) | Y31: 寸法変更
C32: 17 | E32: 1 | F32: 155.31 | G32: 覆工 | H32: アーチ（天端） | I32: 材質劣化 | J32: 圧ざ、ひび割れ | M32: W=0.6mm×L=4.1m | N32: W=0.6mm×L=9.5m | O32: Ⅱb | P32: - | Q32: Ⅱb | R32: 否 | S32: 要監視 | T32: 継続 | U32: 監視(日常) | Y32: 寸法変更
C33: 19 | E33: 1 | F33: 175.74 | G33: 覆工 | H33: アーチ（天端） | I33: 材質劣化 | J33: 圧ざ、ひび割れ | M33: W=0.55mm×L=6.4m | N33: W=0.55mm×L=7.7m | O33: Ⅱb | P33: - | Q33: Ⅱb | R33: 否 | S33: 要監視 | T33: 継続 | U33: 監視(日常) | Y33: 寸法変更
C34: 20 | E34: 1 | F34: 192.47 | G34: 覆工 | H34: アーチ（左側） | I34: 材質劣化 | J34: 圧ざ、ひび割れ | M34: W=0.4mm×L=2.8m | N34: W=0.4mm×L=2.9m | O34: Ⅱb | P34: - | Q34: Ⅱb | R34: 否 | S34: 要監視 | T34: 継続 | U34: 監視(日常) | Y34: 寸法変更
C35: 21 | E35: 1 | F35: 200.3 | G35: 覆工 | H35: アーチ（左側） | I35: 材質劣化 | J35: 圧ざ、ひび割れ | M35: W=0.3mm×L=2.5m | N35: W=0.3mm×L=2.4m | O35: Ⅱb | P35: - | Q35: Ⅱb | R35: 否 | S35: 要監視 | T35: 継続 | U35: 監視(日常) | Y35: 寸法変更
C36: 23 | E36: 1 | F36: 216.65 | G36: 覆工 | H36: アーチ（天端） | I36: 材質劣化 | J36: 圧ざ、ひび割れ | M36: W=0.8mm×L=6.0m | N36: W=0.8mm×L=8.3m | O36: Ⅱb | P36: - | Q36: Ⅱb | R36: 否 | S36: 要監視 | T36: 継続 | U36: 監視(日常) | Y36: 寸法変更
C37: 24 | E37: 1 | F37: 226.85 | G37: 覆工 | H37: アーチ（天端） | I37: 材質劣化 | J37: 圧ざ、ひび割れ | M37: W=1.1mm×L=10.8m | N37: W=1.1mm×L=10.5m | O37: Ⅱb | P37: - | Q37: Ⅱb | R37: 否 | S37: 要監視 | T37: 継続 | U37: 監視(日常) | Y37: 寸法変更
C38: 26 | E38: 1 | F38: 257.26 | G38: 覆工 | H38: アーチ（右側） | I38: 材質劣化 | J38: うき・はく離 | M38: 0.4m×0.05m | N38: 0.15m×0.05m | O38: Ⅱb | P38: - | Q38: Ⅱa | R38: 否 | S38: 要監視 | T38: 継続 | U38: 監視(重点) | Y38: 寸法変更、判定見直し
C39: 26 | E39: 2 | F39: 253.477 | G39: 覆工 | H39: アーチ（右側） | I39: 材質劣化 | J39: 圧ざ、ひび割れ | M39: W=0.35mm×L=2.7m | N39: W=0.35mm×L=3.0m | O39: Ⅱb | P39: - | Q39: Ⅱb | R39: 否 | S39: 要監視 | T39: 継続 | U39: 監視(日常) | Y39: 寸法変更
C40: 27 | E40: 1 | F40: 257.28 | G40: 覆工 | H40: アーチ（左側） | I40: 材質劣化 | J40: うき・はく離 | M40: 0.35m×0.05m・D=0.03m | N40: 0.35m×0.05m | O40: Ⅲ | P40: - | Q40: Ⅱa | R40: 否 | S40: 要監視 | T40: 継続 | U40: 監視(重点) | Y40: 判定見直し
C41: 27 | E41: 2 | F41: 267.56 | G41: 覆工 | H41: アーチ（左側） | I41: 材質劣化 | J41: うき・はく離 | M41: 0.25m×0.05m・D=0.1m | N41: 0.25m×0.05m | O41: Ⅰ | P41: - | Q41: Ⅰ | R41: 否 | S41: 否 | T41: 未
...

Sheet 様式C-1-1 (3)
B2: ■定期点検記録様式 全スパン定期点検結果総括表（トンネル本体工） 【様式C-1-1】
B3: フリガナ | F3: フタミトンネル | I3: 路線名 | K3: 栗野二見線 | O3: 定期点検実施者 | P3: アジア航測株式会社 | T3: 定期点検年月日 | X3: 45917
B4: 名 称 | F4: 二見トンネル | I4: 管理者名 | K4: 山口県下関土木建築事務所 | P4: 飯田 琢巳
B5: 定期点検結果 | C5: 覆工 スパン 番号 | E5: 変状 番号 | F5: 距離 （m） | G5: 変状部位 | I5: 変 状 の 内 容 | O5: 前回定期点検時の状態 | P5: 今回定期点検結果 | T5: 措置履歴 | Y5: 対応方針 ・ 特記事項
O6: 44272
G7: 対象箇所 | H7: 部位区分 | I7: 変状区分 | J7: 変状種類 | M7: 変状の発生範囲の規模 | N7: 前回定期点検時の変状の発生範囲及び規模 | O7: 対策区分 | P7: 対策区分 | R7: 調査の 要否 | S7: 措置の 要否 | T7: 実施 | U7: 措置の実施状況
P8: 応急措置前 | Q8: 応急措置後
C9: 30 | E9: 1 | F9: 288.23 | G9: 覆工 | H9: アーチ（天端） | I9: 材質劣化 | J9: 圧ざ、ひび割れ | M9: W=0.8mm×L=6.0m | N9: W=0.8mm×L=6.4m | O9: Ⅱb | P9: - | Q9: Ⅱb | R9: 否 | S9: 要監視 | T9: 継続 | U9: 監視(日常) | Y9: 寸法変更
C10: 31 | E10: 1 | F10: 303.61 | G10: 覆工 | H10: アーチ（右側） | I10: 材質劣化 | J10: 圧ざ、ひび割れ | M10: W=0.3mm×L=2.3m | N10: W=0.3mm×L=2.4m | O10: Ⅱb | P10: - | Q10: Ⅱb | R10: 否 | S10: 要監視 | T10: 継続 | U10: 監視(日常) | Y10: 寸法変更
C11: 33 | E11: 1 | F11: 319.88 | G11: 覆工 | H11: アーチ（天端） | I11: 材質劣化 | J11: 圧ざ、ひび割れ | M11: W=0.5mm×L=2.9m | N11: W=0.5mm×L=2.9m | O11: Ⅱb | P11: - | Q11: Ⅱb | R11: 否 | S11: 要監視 | T11: 継続 | U11: 監視(日常) | Y11: 寸法変更
C12: 33 | E12: 2 | F12: 329.07 | G12: 覆工 | H12: アーチ（左側） | I12: 材質劣化 | J12: うき・はく離 | M12: 0.5m×0.05m・D=0.02m | N12: - | O12: - | P12: - | Q12: Ⅱa | R12: 否 | S12: 要監視 | T12: 未 | U12: -
C13: 33 | E13: 3 | F13: 329.08 | G13: 覆工 | H13: アーチ（左側） | I13: 材質劣化 | J13: うき・はく離 | M13: 0.2m×0.05m・D=0.05m | N13: 0.1m×0.05m | O13: Ⅰ | P13: - | Q13: Ⅱa | R13: 否 | S13: 要監視 | T13: 継続 | U13: 監視(重点) | Y13: 寸法変更、判定見直し
C14: 34 | E14: 1 | F14: 329.07 | G14: 覆工 | H14: アーチ（右側） | I14: 材質劣化 | J14: うき・はく離 | M14: 0.2m×0.05m | N14: 0.2m×0.05m | O14: Ⅱb | P14: - | Q14: Ⅱa | R14: 否 | S14: 要監視 | T14: 継続 | U14: 監視(重点) | Y14: 判定見直し
C15: 35 | E15: 1 | F15: 339.44 | G15: 覆工 | H15: アーチ（天端） | I15: 材質劣化 | J15: 圧ざ、ひび割れ | M15: W=1.0mm×L=9.1m | N15: W=1.0mm×L=9.5m | O15: Ⅱb | P15: - | Q15: Ⅱb | R15: 否 | S15: 要監視 | T15: 継続 | U15: 監視(日常) | Y15: 寸法変更
C16: 36 | E16: 1 | F16: 350.78 | G16: 覆工 | H16: アーチ（左側） | I16: 材質劣化 | J16: 圧ざ、ひび割れ | M16: W=0.3mm×L=2.6m | N16: W=0.3mm×L=2.6m | O16: Ⅱb | P16: - | Q16: Ⅱb | R16: 否 | S16: 要監視 | T16: 継続 | U16: 監視(日常)
C17: 37 | E17: 1 | F17: 360.86 | G17: 覆工 | H17: アーチ（天端） | I17: 材質劣化 | J17: 圧ざ、ひび割れ | M17: W=0.3mm×L=3.3m | N17: W=0.3mm×L=3.8m | O17: Ⅱb | P17: - | Q17: Ⅱb | R17: 否 | S17: 要監視 | T17: 継続 | U17: 監視(日常) | Y17: 寸法変更
C18: 38 | E18: 1 | F18: 369.78 | G18: 覆工 | H18: アーチ（左側） | I18: 材質劣化 | J18: うき・はく離 | M18: 0.4m×0.05m・D=0.1m | N18: 0.3m×0.05m | O18: Ⅰ | P18: - | Q18: Ⅱa | R18: 否 | S18: 要監視 | T18: 継続 | U18: 監視(重点) | Y18: 寸法変更、判定見直し
C19: 38 | E19: 2 | F19: 370.13 | G19: 覆工 | H19: アーチ（天端） | I19: 材質劣化 | J19: 圧ざ、ひび割れ | M19: W=1.0mm×L=4.2m | N19: W=1.0mm×L=4.0m | O19: Ⅱb | P19: - | Q19: Ⅱb | R19: 否 | S19: 要監視 | T19: 継続 | U19: 監視(日常) | Y19: 寸法変更
C20: 39 | E20: 1 | F20: 380.64 | G20: 覆工 | H20: アーチ（天端） | I20: 材質劣化 | J20: 圧ざ、ひび割れ | M20: W=0.4mm×L=3.2m | N20: W=0.4mm×L=2.6m | O20: Ⅱb | P20: - | Q20: Ⅱb | R20: 否 | S20: 要監視 | T20: 継続 | U20: 監視(日常) | Y20: 寸法変更
C21: 40 | E21: 1 | F21: 393.77 | G21: 覆工 | H21: アーチ（左側） | I21: 材質劣化 | J21: 圧ざ、ひび割れ | M21: W=0.4mm×L=3.5m | N21: W=0.4mm×L=3.5m | O21: Ⅱb | P21: - | Q21: Ⅱb | R21: 否 | S21: 要監視 | T21: 継続 | U21: 監視(日常)
C22: 40 | E22: 2 | F22: 390.59 | G22: 覆工 | H22: アーチ（天端） | I22: 材質劣化 | J22: 圧ざ、ひび割れ | M22: W=0.6mm×L=5.5m | N22: W=0.6mm×L=5.6m | O22: Ⅱb | P22: - | Q22: Ⅱb | R22: 否 | S22: 要監視 | T22: 継続 | U22: 監視(日常) | Y22: 寸法変更
C23: 40 | E23: 3 | F23: 400.17 | G23: 覆工 | H23: アーチ（右側） | I23: 材質劣化 | J23: うき・はく離 | M23: 0.1m×0.05m・D=0.05m | N23: 0.1m×0.05m | O23: Ⅱb | P23: - | Q23: Ⅱa | R23: 否 | S23: 要監視 | T23: 継続 | U23: 監視(重点) | Y23: 判定見直し
C24: 40 | E24: 4 | F24: 394.8 | G24: 覆工 | H24: アーチ（右側） | I24: 材質劣化 | J24: 圧ざ、ひび割れ | M24: W=0.3mm×L=2.7m | N24: W=0.3mm×L=2.8m | O24: Ⅱb | P24: - | Q24: Ⅱb | R24: 否 | S24: 要監視 | T24: 継続 | U24: 監視(日常) | Y24: 寸法変更
C25: 41 | E25: 1 | F25: 410.26 | G25: 覆工 | H25: アーチ（左側） | I25: 材質劣化 | J25: うき・はく離 | M25: 0.3m×0.05m | N25: 0.3m×0.05m | O25: Ⅱb | P25: - | Q25: Ⅱa | R25: 否 | S25: 要監視 | T25: 継続 | U25: 監視(重点) | Y25: 判定見直し
C26: 41 | E26: 2 | F26: 400.22 | G26: 覆工 | H26: アーチ（天端） | I26: 材質劣化 | J26: 圧ざ、ひび割れ | M26: W=1.0mm×L=10.1m | N26: W=1.0mm×L=10.4m | O26: Ⅱb | P26: - | Q26: Ⅱb | R26: 否 | S26: 要監視 | T26: 継続 | U26: 監視(日常) | Y26: 寸法変更
C27: 43 | E27: 1 | F27: 417.06 | G27: 覆工 | H27: アーチ（左側） | I27: 材質劣化 | J27: 圧ざ、ひび割れ | M27: W=0.3mm×L=2.3m | N27: W=0.3mm×L=2.3m | O27: Ⅱb | P27: - | Q27: Ⅱb | R27: 否 | S27: 要監視 | T27: 継続 | U27: 監視(日常)
C28: 43 | E28: 2 | F28: 417.55 | G28: 覆工 | H28: アーチ（右側） | I28: 材質劣化 | J28: 圧ざ、ひび割れ | M28: W=0.4mm×L=3.0m | N28: W=0.4mm×L=3.4m | O28: Ⅱb | P28: - | Q28: Ⅱb | R28: 否 | S28: 要監視 | T28: 継続 | U28: 監視(日常) | Y28: 寸法変更
C29: 44 | E29: 1 | F29: 427.48 | G29: 覆工 | H29: アーチ（左側） | I29: 材質劣化 | J29: 圧ざ、ひび割れ | M29: W=0.4mm×L=1.7m | N29: W=0.4mm×L=2.1m | O29: Ⅱb | P29: - | Q29: Ⅱb | R29: 否 | S29: 要監視 | T29: 継続 | U29: 監視(日常) | Y29: 寸法変更
C30: 44 | E30: 2 | F30: 431.28 | G30: 覆工 | H30: アーチ（右側） | I30: 材質劣化 | J30: 圧ざ、ひび割れ | M30: W=0.5mm×L=2.8m | N30: W=0.5mm×L=2.8m | O30: Ⅱb | P30: - | Q30: Ⅱb | R30: 否 | S30: 要監視 | T30: 継続 | U30: 監視(日常)
C31: 44 | E31: 3 | F31: 435.21 | G31: 覆工 | H31: アーチ（左側） | I31: 材質劣化 | J31: うき・はく離 | M31: 0.4m×0.1m・D=0.18m | N31: - | O31: - | P31: - | Q31: Ⅱa | R31: 否 | S31: 要監視 | T31: 未 | U31: -
C32: 45 | E32: 1 | F32: 437.5 | G32: 覆工 | H32: アーチ（左側） | I32: 材質劣化 | J32: 圧ざ、ひび割れ | M32: W=0.55mm×L=3.6m | N32: W=0.55mm×L=3.6m | O32: Ⅱb | P32: - | Q32: Ⅱb | R32: 否 | S32: 要監視 | T32: 継続 | U32: 監視(日常)
C33: 45 | E33: 2 | F33: 439.77 | G33: 覆工 | H33: アーチ（左側） | I33: 材質劣化 | J33: 圧ざ、ひび割れ | M33: W=0.3mm×L=5.9m | N33: W=0.3mm×L=6.3m | O33: Ⅱb | P33: - | Q33: Ⅱb | R33: 否 | S33: 要監視 | T33: 継続 | U33: 監視(日常) | Y33: 寸法変更
C34: 45 | E34: 3 | F34: 435.36 | G34: 覆工 | H34: アーチ（右側） | I34: 材質劣化 | J34: 圧ざ、ひび割れ | M34: W=0.8mm×L=3.6m | N34: W=0.8mm×L=4.0m | O34: Ⅱb | P34: - | Q34: Ⅱb | R34: 否 | S34: 要監視 | T34: 継続 | U34: 監視(日常) | Y34: 寸法変更
C35: 46 | E35: 1 | F35: 446.07 | G35: 覆工 | H35: アーチ（右側） | I35: 材質劣化 | J35: 鋼材腐食 | M35: 0.05m×0.1m | N35: 0.05m×0.1m | O35: Ⅱb | P35: - | Q35: Ⅱb | R35: 否 | S35: 要監視 | T35: 継続 | U35: 監視(日常)
C36: 46 | E36: 2 | F36: 445.76 | G36: 覆工 | H36: アーチ（右側） | I36: 材質劣化 | J36: 圧ざ、ひび割れ | M36: W=0.5mm×L=1.7m | N36: W=0.5mm×L=1.8m | O36: Ⅱb | P36: - | Q36: Ⅱb | R36: 否 | S36: 要監視 | T36: 継続 | U36: 監視(日常) | Y36: 寸法変更
C37: PE | E37: 1 | F37: 455.95 | G37: 覆工 | H37: 面壁・妻壁等 | I37: 材質劣化 | J37: 圧ざ、ひび割れ | M37: W=0.3mm×L=2.3m | N37: W=0.5mm×L=1.3m | O37: Ⅱb | P37: - | Q37: Ⅱb | R37: 否 | S37: 要監視 | T37: 継続 | U37: 監視(日常) | Y37: 寸法変更
C38: PE | E38: 2 | F38: 457.26 | G38: 覆工 | H38: 面壁・妻壁等 | I38: 材質劣化 | J38: 圧ざ、ひび割れ | M38: W=0.3mm×L=0.9m | N38: W=0.3mm×L=0.9m | O38: Ⅱb | P38: - | Q38: Ⅱb | R38: 否 | S38: 要監視 | T38: 継続 | U38: 監視(日常)
C39: PE | E39: 3 | F39: 455.95 | G39: 覆工 | H39: 面壁・妻壁等 | I39: 材質劣化 | J39: 圧ざ、ひび割れ | M39: W=0.5mm×L=1.6m | N39: W=0.5mm×L=1.6m | O39: Ⅱb | P39: - | Q39: Ⅱb | R39: 否 | S39: 要監視 | T39: 継続 | U39: 監視(日常)
C43: ※ 対策区分（応急措置後）のⅡb～Ⅳについて記入すること。また、点検前に実施された措置によりⅠと判定された変状も記入すること。
C44: ※ 応急措置を実施しないで判定した変状の対策区分は、対策区分の応急措置後の欄に記入すること。
...

Sheet 様式C-1-2 (1)
B2: ■定期点検記録様式 定期点検結果総括表（トンネル内附属物等の取付状態） 【様式C-1-2】
B3: フリガナ | F3: フタミトンネル | J3: 路線名 | K3: 栗野二見線 | M3: 定期点検実施者 | O3: アジア航測株式会社 | S3: 定期点検年月日 | W3: 45917
B4: 名 称 | F4: 二見トンネル | J4: 管理者名 | K4: 山口県下関土木建築事務所 | O4: 飯田 琢巳
B5: 定期点検結果 | C5: 覆工 スパン 番号 | E5: 異常 番号 | F5: 距離 （m） | G5: 異常部位 | J5: 異 常 の 内 容 | N5: 定期点検結果 | P5: 応急措置の 実施状況 | V5: 対応方針 ・ 特記事項
G6: 対象箇所 | I6: 部位区分 | J6: 異常種類 | L6: 異常の発生範囲の規模 | N6: 異常判定区分 | P6: 実施 | Q6: 応急措置の内容
N7: 応急措置前 | O7: 応急措置後
C8: 2 | E8: 101 | F8: 5.13 | G8: その他施設 | H8: 通話型通報設備 | I8: 附属物本体 | J8: - | L8: 1 | N8: - | O8: ○ | P8: 済
C9: 2 | E9: 102 | F9: 4.04 | G9: 照明施設 | H9: 灯具 | I9: 附属物本体 | J9: - | L9: 1 | N9: - | O9: ○ | P9: 済
C10: 2 | E10: 103 | F10: 9.24 | G10: 照明施設 | H10: 灯具 | I10: 附属物本体 | J10: - | L10: 1 | N10: - | O10: ○ | P10: 済
C11: 2 | E11: 104 | F11: 9.24 | G11: 照明施設 | H11: 灯具 | I11: 附属物本体 | J11: - | L11: 1 | N11: - | O11: ○ | P11: 済
C12: 3 | E12: 101 | F12: 21.51 | G12: 照明施設 | H12: 灯具 | I12: 附属物本体 | J12: - | L12: 1 | N12: - | O12: ○ | P12: 済
C13: 3 | E13: 102 | F13: 20.89 | G13: 照明施設 | H13: 灯具 | I13: 附属物本体 | J13: - | L13: 1 | N13: - | O13: ○ | P13: 済
C14: 4 | E14: 101 | F14: 26.84 | G14: 照明施設 | H14: 灯具 | I14: 附属物本体 | J14: - | L14: 1 | N14: - | O14: ○ | P14: 済
C15: 5 | E15: 101 | F15: 33.41 | G15: 照明施設 | H15: 灯具 | I15: 附属物本体 | J15: - | L15: 1 | N15: - | O15: ○ | P15: 済
C16: 5 | E16: 102 | F16: 32.91 | G16: 照明施設 | H16: 灯具 | I16: 附属物本体 | J16: - | L16: 1 | N16: - | O16: ○ | P16: 済
C17: 5 | E17: 103 | F17: 33 | G17: その他施設 | H17: その他 | I17: 取付部材 | J17: 腐食 | L17: 1 | N17: - | O17: × | P17: 未
C18: 5 | E18: 104 | F18: 33 | G18: その他施設 | H18: その他 | I18: 取付部材 | J18: 腐食 | L18: 1 | N18: - | O18: × | P18: 未
C19: 6 | E19: 101 | F19: 45.32 | G19: 照明施設 | H19: 灯具 | I19: 附属物本体 | J19: - | L19: 1 | N19: - | O19: ○ | P19: 済
... C41: 14 | E41: 101 | F41: 126.06 | G41: 照明施設 | H41: 灯具 | I41: 附属物本体 | J41: - | L41: 1 | N41: - | O41: ○ | P41: 済
C42: ※ 異常判定区分×について記入すること。また、応急措置により○と判定された箇所も記入すること。
C43: ※ 応急措置を実施しないで判定した箇所の異常判定区分は、異常判定区分の応急措置後の欄に記入すること。
C44: ※ 異常の除去が不完全で、緊急対応が必要な場合は対応方針欄に記入すること。
C45: ※ １スパンの覆工に複数の異常がある場合は、異常箇所毎に記入すること。
C46: ※ 行が不足する場合は、適時、表の行を増やすこと。

Sheet 様式C-1-2 (2)
B2: ■定期点検記録様式 定期点検結果総括表（トンネル内附属物等の取付状態） 【様式C-1-2】
B3: フリガナ | F3: フタミトンネル | J3: 路線名 | K3: 栗野二見線 | M3: 定期点検実施者 | O3: アジア航測株式会社 | S3: 定期点検年月日 | W3: 45917
B4: 名 称 | F4: 二見トンネル | J4: 管理者名 | K4: 山口県下関土木建築事務所 | O4: 飯田 琢巳
B5: 定期点検結果 | C5: 覆工 スパン 番号 | E5: 異常 番号 | F5: 距離 （m） | G5: 異常部位 | J5: 異 常 の 内 容 | N5: 定期点検結果 | P5: 応急措置の 実施状況 | V5: 対応方針 ・ 特記事項
G6: 対象箇所 | I6: 部位区分 | J6: 異常種類 | L6: 異常の発生範囲の規模 | N6: 異常判定区分 | P6: 実施 | Q6: 応急措置の内容
N7: 応急措置前 | O7: 応急措置後
C8: 14 | E8: 102 | F8: 125.56 | G8: 照明施設 | H8: 灯具 | I8: 附属物本体 | J8: - | L8: 1 | N8: - | O8: ○ | P8: 済
C9: 15 | E9: 101 | F9: 137.69 | G9: 照明施設 | H9: 灯具 | I9: 附属物本体 | J9: - | L9: 1 | N9: - | O9: ○ | P9: 済
C10: 15 | E10: 102 | F10: 142.66 | G10: 照明施設 | H10: 灯具 | I10: 附属物本体 | J10: - | L10: 1 | N10: - | O10: ○ | P10: 済
C11: 15 | E11: 103 | F11: 137.14 | G11: 照明施設 | H11: 灯具 | I11: 附属物本体 | J11: - | L11: 1 | N11: - | O11: ○ | P11: 済
C12: 15 | E12: 104 | F12: 137.64 | G12: その他施設 | H12: その他 | I12: 取付部材 | J12: 腐食 | L12: 1 | N12: - | O12: × | P12: 未
C13: 15 | E13: 105 | F13: 137.64 | G13: その他施設 | H13: その他 | I13: 取付部材 | J13: 腐食 | L13: 1 | N13: - | O13: × | P13: 未
C14: 16 | E14: 101 | F14: 148.38 | G14: 照明施設 | H14: 灯具 | I14: 附属物本体 | J14: - | L14: 1 | N14: - | O14: ○ | P14: 済
C15: 16 | E15: 102 | F15: 147.83 | G15: 照明施設 | H15: 灯具 | I15: 附属物本体 | J15: - | L15: 1 | N15: - | O15: ○ | P15: 済
C16: 17 | E16: 101 | F16: 160.01 | G16: 照明施設 | H16: 灯具 | I16: 附属物本体 | J16: - | L16: 1 | N16: - | O16: ○ | P16: 済
C17: 17 | E17: 102 | F17: 159.41 | G17: 照明施設 | H17: 灯具 | I17: 附属物本体 | J17: - | L17: 1 | N17: - | O17: ○ | P17: 済
C18: 18 | E18: 101 | F18: 165.5 | G18: 照明施設 | H18: 灯具 | I18: 附属物本体 | J18: - | L18: 1 | N18: - | O18: ○ | P18: 済
C19: 18 | E19: 102 | F19: 172.14 | G19: その他施設 | H19: その他 | I19: 取付部材 | J19: 腐食 | L19: 1 | N19: - | O19: × | P19: 未
... C41: 29 | E41: 103 | F41: 287.17 | G41: 照明施設 | H41: 灯具 | I41: 附属物本体 | J41: - | L41: 1 | N41: - | O41: ○ | P41: 済
C42: ※ 異常判定区分×について記入すること。また、応急措置により○と判定された箇所も記入すること。
C43: ※ 応急措置を実施しないで判定した箇所の異常判定区分は、異常判定区分の応急措置後の欄に記入すること。
C44: ※ 異常の除去が不完全で、緊急対応が必要な場合は対応方針欄に記入すること。
C45: ※ １スパンの覆工に複数の異常がある場合は、異常箇所毎に記入すること。
C46: ※ 行が不足する場合は、適時、表の行を増やすこと。

Sheet 様式C-1-2 (3)
B2: ■定期点検記録様式 定期点検結果総括表（トンネル内附属物等の取付状態） 【様式C-1-2】
B3: フリガナ | F3: フタミトンネル | J3: 路線名 | K3: 栗野二見線 | M3: 定期点検実施者 | O3: アジア航測株式会社 | S3: 定期点検年月日 | W3: 45917
B4: 名 称 | F4: 二見トンネル | J4: 管理者名 | K4: 山口県下関土木建築事務所 | O4: 飯田 琢巳
B5: 定期点検結果 | C5: 覆工 スパン 番号 | E5: 異常 番号 | F5: 距離 （m） | G5: 異常部位 | J5: 異 常 の 内 容 | N5: 定期点検結果 | P5: 応急措置の 実施状況 | V5: 対応方針 ・ 特記事項
G6: 対象箇所 | I6: 部位区分 | J6: 異常種類 | L6: 異常の発生範囲の規模 | N6: 異常判定区分 | P6: 実施 | Q6: 応急措置の内容
N7: 応急措置前 | O7: 応急措置後
C8: 31 | E8: 101 | F8: 298.75 | G8: 照明施設 | H8: 灯具 | I8: 附属物本体 | J8: - | L8: 1 | N8: - | O8: ○ | P8: 済
C9: 31 | E9: 102 | F9: 298.75 | G9: 照明施設 | H9: 灯具 | I9: 附属物本体 | J9: - | L9: 1 | N9: - | O9: ○ | P9: 済
C10: 31 | E10: 103 | F10: 304.47 | G10: 照明施設 | H10: 灯具 | I10: 附属物本体 | J10: - | L10: 1 | N10: - | O10: ○ | P10: 済
C11: 32 | E11: 101 | F11: 310.25 | G11: 照明施設 | H11: 灯具 | I11: 附属物本体 | J11: - | L11: 1 | N11: - | O11: ○ | P11: 済
C12: 32 | E12: 102 | F12: 310.3 | G12: 照明施設 | H12: 灯具 | I12: 附属物本体 | J12: - | L12: 1 | N12: - | O12: ○ | P12: 済
C13: 32 | E13: 103 | F13: 310.86 | G13: その他施設 | H13: その他 | I13: 取付部材 | J13: 腐食 | L13: 1 | N13: - | O13: × | P13: 未
C14: 32 | E14: 104 | F14: 310.86 | G14: その他施設 | H14: その他 | I14: 取付部材 | J14: 腐食 | L14: 1 | N14: - | O14: × | P14: 未
C15: 33 | E15: 101 | F15: 321.7 | G15: 照明施設 | H15: 灯具 | I15: 附属物本体 | J15: - | L15: 1 | N15: - | O15: ○ | P15: 済
C16: 33 | E16: 102 | F16: 327.26 | G16: 照明施設 | H16: 灯具 | I16: 附属物本体 | J16: - | L16: 1 | N16: - | O16: ○ | P16: 済
C17: 33 | E17: 103 | F17: 321.72 | G17: 照明施設 | H17: 灯具 | I17: 附属物本体 | J17: - | L17: 1 | N17: - | O17: ○ | P17: 済
C18: 34 | E18: 101 | F18: 332.27 | G18: 照明施設 | H18: 灯具 | I18: 附属物本体 | J18: - | L18: 1 | N18: - | O18: ○ | P18: 済
C19: 34 | E19: 102 | F19: 332.3 | G19: 照明施設 | H19: 灯具 | I19: 附属物本体 | J19: - | L19: 1 | N19: - | O19: ○ | P19: 済
... C41: 42 | E41: 102 | F41: 412.94 | G41: 照明施設 | H41: 灯具 | I41: 附属物本体 | J41: - | L41: 1 | N41: - | O41: ○ | P41: 済
C42: ※ 異常判定区分×について記入すること。また、応急措置により○と判定された箇所も記入すること。
C43: ※ 応急措置を実施しないで判定した箇所の異常判定区分は、異常判定区分の応急措置後の欄に記入すること。
C44: ※ 異常の除去が不完全で、緊急対応が必要な場合は対応方針欄に記入すること。
C45: ※ １スパンの覆工に複数の異常がある場合は、異常箇所毎に記入すること。
C46: ※ 行が不足する場合は、適時、表の行を増やすこと。

Sheet 様式C-1-2 (4)
B2: ■定期点検記録様式 定期点検結果総括表（トンネル内附属物等の取付状態） 【様式C-1-2】
B3: フリガナ | F3: フタミトンネル | J3: 路線名 | K3: 栗野二見線 | M3: 定期点検実施者 | O3: アジア航測株式会社 | S3: 定期点検年月日 | W3: 45917
B4: 名 称 | F4: 二見トンネル | J4: 管理者名 | K4: 山口県下関土木建築事務所 | O4: 飯田 琢巳
B5: 定期点検結果 | C5: 覆工 スパン 番号 | E5: 異常 番号 | F5: 距離 （m） | G5: 異常部位 | J5: 異 常 の 内 容 | N5: 定期点検結果 | P5: 応急措置の 実施状況 | V5: 対応方針 ・ 特記事項
G6: 対象箇所 | I6: 部位区分 | J6: 異常種類 | L6: 異常の発生範囲の規模 | N6: 異常判定区分 | P6: 実施 | Q6: 応急措置の内容
N7: 応急措置前 | O7: 応急措置後
C8: 42 | E8: 103 | F8: 414.17 | G8: その他施設 | H8: その他 | I8: 取付部材 | J8: 腐食 | L8: 1 | N8: - | O8: × | P8: 未
C9: 42 | E9: 104 | F9: 414.17 | G9: その他施設 | H9: その他 | I9: 取付部材 | J9: 腐食 | L9: 1 | N9: - | O9: × | P9: 未
C10: 43 | E10: 101 | F10: 419.18 | G10: 照明施設 | H10: 灯具 | I10: 附属物本体 | J10: - | L10: 1 | N10: - | O10: ○ | P10: 済
C11: 44 | E11: 101 | F11: 425.15 | G11: 照明施設 | H11: 灯具 | I11: 附属物本体 | J11: - | L11: 1 | N11: - | O11: ○ | P11: 済
C12: 44 | E12: 102 | F12: 425.15 | G12: 照明施設 | H12: 灯具 | I12: 附属物本体 | J12: - | L12: 1 | N12: - | O12: ○ | P12: 済
C13: 45 | E13: 101 | F13: 436.97 | G13: 照明施設 | H13: 灯具 | I13: 附属物本体 | J13: - | L13: 1 | N13: - | O13: ○ | P13: 済
C14: 45 | E14: 102 | F14: 436.72 | G14: 照明施設 | H14: 灯具 | I14: 附属物本体 | J14: - | L14: 1 | N14: - | O14: ○ | P14: 済
C15: 45 | E15: 103 | F15: 442.5 | G15: 照明施設 | H15: 灯具 | I15: 附属物本体 | J15: - | L15: 1 | N15: - | O15: ○ | P15: 済
C16: 45 | E16: 104 | F16: 442.22 | G16: その他施設 | H16: 操作型通報設備 | I16: 附属物本体 | J16: 腐食 | L16: 1 | N16: - | O16: × | P16: 未
C17: 45 | E17: 105 | F17: 442.67 | G17: その他施設 | H17: 通話型通報設備 | I17: 附属物本体 | J17: - | L17: 1 | N17: - | O17: ○ | P17: 済
C42: ※ 異常判定区分×について記入すること。また、応急措置により○と判定された箇所も記入すること。
C43: ※ 応急措置を実施しないで判定した箇所の異常判定区分は、異常判定区分の応急措置後の欄に記入すること。
C44: ※ 異常の除去が不完全で、緊急対応が必要な場合は対応方針欄に記入すること。
C45: ※ １スパンの覆工に複数の異常がある場合は、異常箇所毎に記入すること。
C46: ※ 行が不足する場合は、適時、表の行を増やすこと。

Sheet 様式C-2
B2: ■定期点検記録様式 状態の把握の内容 【様式C-2】
B3: フリガナ | E3: フタミトンネル | H3: 路線名 | J3: 栗野二見線 | M3: 定期点検実施者 | Q3: アジア航測株式会社 | U3: 定期点検年月日 | X3: 45917
B4: 名 称 | E4: 二見トンネル | H4: 管理者名 | J4: 山口県下関土木建築事務所 | Q4: 飯田 琢巳
B5: 状態の把握の内容 | C5: 覆工スパン 番号 | E5: 変状 番号 | F5: 状態の把握の内容
F6: 年月日 | H6: 内容 | O6: 結果 | Y6: 対策区分の 判定
B22: 注）状態の把握において、微破壊・非破壊検査や各種試験等を実施した場合について記載する。
B23: ※ 行が不足する場合は、適時、表の行を増やすこと。

Sheet 様式D-1-1 P001
B2: ■定期点検記録様式 変状写真台帳【様式D-1-1】 | R2: 施設ID | T2: ='様式A-1'!W2 -> 34.25039,130.91453
B3: フリガナ | E3: フタミトンネル | H3: 路 線 名 | J3: 栗野二見線 | M3: 定期点検実施者 | P3: アジア航測株式会社 | S3: 定期点検年月日 | U3: 45917
B4: 名 称 | E4: 二見トンネル | H4: 管理者名 | J4: 山口県下関土木建築事務所 | P4: 飯田 琢巳
B5: 写真 番号 | C5: 覆工スパン 番号 | E5: PS | M5: 写真 番号 | N5: 覆工スパン 番号 | P5: 1
C6: 変状番号 | E6: 1 | N6: 変状番号 | P6: 1
B7: 変状 部位 | C7: 対象箇所 | E7: 覆工 | M7: 変状 部位 | N7: 対象箇所 | P7: 覆工
C8: 部位区分 | E8: 面壁・妻壁等 | N8: 部位区分 | P8: アーチ（左側）
B9: 変状種類 | E9: 圧ざ、ひび割れ | M9: 変状種類 | P9: 圧ざ、ひび割れ
B10: 対策 区分 | C10: 変状区分 | E10: 材質劣化 | M10: 対策 区分 | N10: 変状区分 | P10: 材質劣化
C11: 応急措置前 | E11: - | N11: 応急措置前 | P11: -
C12: 応急措置後 | E12: Ⅱb | N12: 応急措置後 | P12: Ⅱb
B13: 変状の発生範囲及び規模 | E13: W=0.3mm×L=0.9m | H13: 前回変状の発生範囲及び規模 | J13: 材質劣化・ひび割れ W=0.3mm×L=0.9m | M13: 変状の発生範囲及び規模 | P13: W=0.5mm×L=1.3m | S13: 前回変状の発生範囲及び規模 | U13: 材質劣化・ひび割れ W=0.5mm×L=1.4m
B14: 対策履歴 | E14: - | H14: 実施状況（実施日） | J14: - | M14: 対策履歴 | P14: - | S14: 実施状況（実施日） | U14: -
B15: メモ | E15: 面壁のひび割れ 経過観察が望まれる | M15: メモ | P15: アーチのひび割れ 経過観察が望まれる
B16: 写真 番号 | C16: 覆工スパン 番号 | E16: 2 | M16: 写真 番号 | N16: 覆工スパン 番号 | P16: 2
C17: 変状番号 | E17: 1 | N17: 変状番号 | P17: 2
B18: 変状 部位 | C18: 対象箇所 | E18: 覆工 | M18: 変状 部位 | N18: 対象箇所 | P18: 覆工
C19: 部位区分 | E19: アーチ（左側） | N19: 部位区分 | P19: アーチ（左側）
B20: 変状種類 | E20: 圧ざ、ひび割れ | M20: 変状種類 | P20: 圧ざ、ひび割れ
B21: 対策 区分 | C21: 変状区分 | E21: 材質劣化 | M21: 対策 区分 | N21: 変状区分 | P21: 材質劣化
C22: 応急措置前 | E22: - | N22: 応急措置前 | P22: -
C23: 応急措置後 | E23: Ⅱb | N23: 応急措置後 | P23: Ⅱb
B24: 変状の発生範囲及び規模 | E24: W=0.6mm×L=1.8m | H24: 前回変状の発生範囲及び規模 | J24: 材質劣化・ひび割れ W=0.6mm×L=2.1m | M24: 変状の発生範囲及び規模 | P24: W=0.5mm×L=4.6m | S24: 前回変状の発生範囲及び規模 | U24: 材質劣化・ひび割れ W=0.5mm×L=5.6m
B25: 対策履歴 | E25: - | H25: 実施状況（実施日） | J25: - | M25: 対策履歴 | P25: - | S25: 実施状況（実施日） | U25: -
B26: メモ | E26: アーチのひび割れ 経過観察が望まれる | M26: メモ | P26: アーチのひび割れ 経過観察が望まれる
C27: ※ 応急措置後の対策区分について添付すること。また、点検前に 実施された措置によりⅠと判定された箇所も添付すること。 | N27: ※ 変状の発生範囲の規模とは、対策を行う際に参考となる変状の長さや面積をいう。
N28: ※ 応急措置を実施しないで決定した変状の対策区分は、対策区分の応急措置後の欄に記入すること。
C29: ※ たたき落としを実施した場合は、実施後の写真を添付すること。 | N29: ※ 変状の発生範囲の規模は、面積・寸法を記載すること。(ひび割れ幅のみmmとし、その他をm表記とする)
C30: ※ 附属物の取付状態に関する異常写真は別途、任意の書式でとりまとめること。 | N30: ※ 構造用鋼材以外の異物に伴ううき・はく離については、メモ欄に異物の概要を記入すること。

Sheet 様式D-1-1 P002
B2: ■定期点検記録様式 変状写真台帳【様式D-1-1】 | R2: 施設ID | T2: ='様式A-1'!W2 -> 34.25039,130.91453
B3: フリガナ | E3: フタミトンネル | H3: 路 線 名 | J3: 栗野二見線 | M3: 定期点検実施者 | P3: アジア航測株式会社 | S3: 定期点検年月日 | U3: 45917
B4: 名 称 | E4: 二見トンネル | H4: 管理者名 | J4: 山口県下関土木建築事務所 | P4: 飯田 琢巳
B5: 写真 番号 | C5: 覆工スパン 番号 | E5: 2 | M5: 写真 番号 | N5: 覆工スパン 番号 | P5: 3
C6: 変状番号 | E6: 3 | N6: 変状番号 | P6: 1
B7: 変状 部位 | C7: 対象箇所 | E7: 覆工 | M7: 変状 部位 | N7: 対象箇所 | P7: 覆工
C8: 部位区分 | E8: アーチ（右側） | N8: 部位区分 | P8: アーチ（左側）
B9: 変状種類 | E9: 圧ざ、ひび割れ | M9: 変状種類 | P9: 圧ざ、ひび割れ
B10: 対策 区分 | C10: 変状区分 | E10: 材質劣化 | M10: 対策 区分 | N10: 変状区分 | P10: 材質劣化
C11: 応急措置前 | E11: - | N11: 応急措置前 | P11: -
C12: 応急措置後 | E12: Ⅱb | N12: 応急措置後 | P12: Ⅱb
B13: 変状の発生範囲及び規模 | E13: W=0.75mm×L=4.6m | H13: 前回変状の発生範囲及び規模 | J13: 材質劣化・ひび割れ W=0.75mm×L=5.0m | M13: 変状の発生範囲及び規模 | P13: W=0.3mm×L=3.2m | S13: 前回変状の発生範囲及び規模 | U13: 材質劣化・ひび割れ W=0.2mm×L=2.0m
B14: 対策履歴 | E14: - | H14: 実施状況（実施日） | J14: - | M14: 対策履歴 | P14: - | S14: 実施状況（実施日） | U14: -
B15: メモ | E15: アーチのひび割れ 経過観察が望まれる | M15: メモ | P15: アーチのひび割れ 経過観察が望まれる
B16: 写真 番号 | C16: 覆工スパン 番号 | E16: 3 | M16: 写真 番号 | N16: 覆工スパン 番号 | P16: 3
C17: 変状番号 | E17: 2 | N17: 変状番号 | P17: 3
B18: 変状 部位 | C18: 対象箇所 | E18: 覆工 | M18: 変状 部位 | N18: 対象箇所 | P18: 覆工
C19: 部位区分 | E19: アーチ（左側） | N19: 部位区分 | P19: アーチ（右側）
B20: 変状種類 | E20: うき・はく離 | M20: 変状種類 | P20: うき・はく離
B21: 対策 区分 | C21: 変状区分 | E21: 材質劣化 | M21: 対策 区分 | N21: 変状区分 | P21: 材質劣化
C22: 応急措置前 | E22: - | N22: 応急措置前 | P22: -
C23: 応急措置後 | E23: Ⅱa | N23: 応急措置後 | P23: Ⅱa
B24: 変状の発生範囲及び規模 | E24: 0.65m×0.05m・D=0.1m | H24: 前回変状の発生範囲及び規模 | J24: 鋼材腐食 0.65m×0.05m | M24: 変状の発生範囲及び規模 | P24: 0.25m×0.05m・D=0.05m | S24: 前回変状の発生範囲及び規模 | U24: うき・はく離 0.25m×0.05m
B25: 対策履歴 | E25: - | H25: 実施状況（実施日） | J25: - | M25: 対策履歴 | P25: - | S25: 実施状況（実施日） | U25: -
B26: メモ | E26: アーチのうき(鋼材腐食を含む) 浸透性硬化剤、防錆剤塗布済 計画的な対策が望まれる | M26: メモ | P26: アーチのうき(鋼材腐食を含む) 浸透性硬化剤、防錆剤塗布済 計画的な対策が望まれる
C27: ※ 応急措置後の対策区分について添付すること。また、点検前に 実施された措置によりⅠと判定された箇所も添付すること。 | N27: ※ 変状の発生範囲の規模とは、対策を行う際に参考となる変状の長さや面積をいう。
N28: ※ 応急措置を実施しないで決定した変状の対策区分は、対策区分の応急措置後の欄に記入すること。
C29: ※ たたき落としを実施した場合は、実施後の写真を添付すること。 | N29: ※ 変状の発生範囲の規模は、面積・寸法を記載すること。(ひび割れ幅のみmmとし、その他をm表記とする)
C30: ※ 附属物の取付状態に関する異常写真は別途、任意の書式でとりまとめること。 | N30: ※ 構造用鋼材以外の異物に伴ううき・はく離については、メモ欄に異物の概要を記入すること。

Sheet 様式D-1-1 P003
B2: ■定期点検記録様式 変状写真台帳【様式D-1-1】 | R2: 施設ID | T2: ='様式A-1'!W2 -> 34.25039,130.91453
B3: フリガナ | E3: フタミトンネル | H3: 路 線 名 | J3: 栗野二見線 | M3: 定期点検実施者 | P3: アジア航測株式会社 | S3: 定期点検年月日 | U3: 45917
B4: 名 称 | E4: 二見トンネル | H4: 管理者名 | J4: 山口県下関土木建築事務所 | P4: 飯田 琢巳
B5: 写真 番号 | C5: 覆工スパン 番号 | E5: 3 | M5: 写真 番号 | N5: 覆工スパン 番号 | P5: 4
C6: 変状番号 | E6: 4 | N6: 変状番号 | P6: 1
B7: 変状 部位 | C7: 対象箇所 | E7: 覆工 | M7: 変状 部位 | N7: 対象箇所 | P7: 覆工
C8: 部位区分 | E8: アーチ（右側） | N8: 部位区分 | P8: アーチ（左側）
B9: 変状種類 | E9: 圧ざ、ひび割れ | M9: 変状種類 | P9: 圧ざ、ひび割れ
B10: 対策 区分 | C10: 変状区分 | E10: 材質劣化 | M10: 対策 区分 | N10: 変状区分 | P10: 材質劣化
C11: 応急措置前 | E11: - | N11: 応急措置前 | P11: -
C12: 応急措置後 | E12: Ⅱb | N12: 応急措置後 | P12: Ⅱb
B13: 変状の発生範囲及び規模 | E13: W=0.3mm×L=3.0m | H13: 前回変状の発生範囲及び規模 | J13: 材質劣化・ひび割れ W=0.3mm×L=3.2m | M13: 変状の発生範囲及び規模 | P13: W=0.35mm×L=3.5m | S13: 前回変状の発生範囲及び規模 | U13: 材質劣化・ひび割れ W=0.35mm×L=3.8m
B14: 対策履歴 | E14: - | H14: 実施状況（実施日） | J14: - | M14: 対策履歴 | P14: - | S14: 実施状況（実施日） | U14: -
B15: メモ | E15: アーチのひび割れ 経過観察が望まれる | M15: メモ | P15: アーチのひび割れ 経過観察が望まれる
B16: 写真 番号 | C16: 覆工スパン 番号 | E16: 4 | M16: 写真 番号 | N16: 覆工スパン 番号 | P16: 5
C17: 変状番号 | E17: 2 | N17: 変状番号 | P17: 1
B18: 変状 部位 | C18: 対象箇所 | E18: 覆工 | M18: 変状 部位 | N18: 対象箇所 | P18: 覆工
C19: 部位区分 | E19: アーチ（右側） | N19: 部位区分 | P19: アーチ（左側）
B20: 変状種類 | E20: 圧ざ、ひび割れ | M20: 変状種類 | P20: 圧ざ、ひび割れ
B21: 対策 区分 | C21: 変状区分 | E21: 材質劣化 | M21: 対策 区分 | N21: 変状区分 | P21: 材質劣化
C22: 応急措置前 | E22: - | N22: 応急措置前 | P22: -
C23: 応急措置後 | E23: Ⅱb | N23: 応急措置後 | P23: Ⅱb
B24: 変状の発生範囲及び規模 | E24: W=0.4mm×L=2.6m | H24: 前回変状の発生範囲及び規模 | J24: 材質劣化・ひび割れ W=0.4mm×L=3.8m | M24: 変状の発生範囲及び規模 | P24: W=0.3mm×L=3.6m | S24: 前回変状の発生範囲及び規模 | U24: 材質劣化・ひび割れ W=0.3mm×L=3.8m
B25: 対策履歴 | E25: - | H25: 実施状況（実施日） | J25: - | M25: 対策履歴 | P25: - | S25: 実施状況（実施日） | U25: -
B26: メモ | E26: アーチのひび割れ 経過観察が望まれる | M26: メモ | P26: アーチのひび割れ 経過観察が望まれる
C27: ※ 応急措置後の対策区分について添付すること。また、点検前に 実施された措置によりⅠと判定された箇所も添付すること。 | N27: ※ 変状の発生範囲の規模とは、対策を行う際に参考となる変状の長さや面積をいう。
N28: ※ 応急措置を実施しないで決定した変状の対策区分は、対策区分の応急措置後の欄に記入すること。
C29: ※ たたき落としを実施した場合は、実施後の写真を添付すること。 | N29: ※ 変状の発生範囲の規模は、面積・寸法を記載すること。(ひび割れ幅のみmmとし、その他をm表記とする)
C30: ※ 附属物の取付状態に関する異常写真は別途、任意の書式でとりまとめること。 | N30: ※ 構造用鋼材以外の異物に伴ううき・はく離については、メモ欄に異物の概要を記入すること。

Sheet 様式D-1-1 P004
B2: ■定期点検記録様式 変状写真台帳【様式D-1-1】 | R2: 施設ID | T2: ='様式A-1'!W2 -> 34.25039,130.91453
B3: フリガナ | E3: フタミトンネル | H3: 路 線 名 | J3: 栗野二見線 | M3: 定期点検実施者 | P3: アジア航測株式会社 | S3: 定期点検年月日 | U3: 45917
B4: 名 称 | E4: 二見トンネル | H4: 管理者名 | J4: 山口県下関土木建築事務所 | P4: 飯田 琢巳
B5: 写真 番号 | C5: 覆工スパン 番号 | E5: 5 | M5: 写真 番号 | N5: 覆工スパン 番号 | P5: 5
C6: 変状番号 | E6: 2 | N6: 変状番号 | P6: 3
B7: 変状 部位 | C7: 対象箇所 | E7: 覆工 | M7: 変状 部位 | N7: 対象箇所 | P7: 覆工
C8: 部位区分 | E8: アーチ（左側） | N8: 部位区分 | P8: アーチ（左側）
B9: 変状種類 | E9: うき・はく離 | M9: 変状種類 | P9: 圧ざ、ひび割れ
B10: 対策 区分 | C10: 変状区分 | E10: 材質劣化 | M10: 対策 区分 | N10: 変状区分 | P10: 材質劣化
C11: 応急措置前 | E11: - | N11: 応急措置前 | P11: -
C12: 応急措置後 | E12: Ⅱa | N12: 応急措置後 | P12: Ⅱb
B13: 変状の発生範囲及び規模 | E13: 0.1m×0.05m | H13: 前回変状の発生範囲及び規模 | J13: うき・はく離 0.1m×0.05m | M13: 変状の発生範囲及び規模 | P13: W=0.3mm×L=5.1m | S13: 前回変状の発生範囲及び規模 | U13: 材質劣化・ひび割れ W=0.3mm×L=4.3m
B14: 対策履歴 | E14: - | H14: 実施状況（実施日） | J14: - | M14: 対策履歴 | P14: - | S14: 実施状況（実施日） | U14: -
B15: メモ | E15: アーチのうき 浸透性硬化剤塗布済 計画的な対策が望まれる | M15: メモ | P15: アーチのひび割れ 経過観察が望まれる
B16: 写真 番号 | C16: 覆工スパン 番号 | E16: 5 | M16: 写真 番号 | N16: 覆工スパン 番号 | P16: 6
C17: 変状番号 | E17: 4 | N17: 変状番号 | P17: 1
B18: 変状 部位 | C18: 対象箇所 | E18: 覆工 | M18: 変状 部位 | N18: 対象箇所 | P18: 覆工
C19: 部位区分 | E19: アーチ（右側） | N19: 部位区分 | P19: アーチ（左側）
B20: 変状種類 | E20: 圧ざ、ひび割れ | M20: 変状種類 | P20: 圧ざ、ひび割れ
B21: 対策 区分 | C21: 変状区分 | E21: 材質劣化 | M21: 対策 区分 | N21: 変状区分 | P21: 材質劣化
C22: 応急措置前 | E22: - | N22: 応急措置前 | P22: -
C23: 応急措置後 | E23: Ⅱb | N23: 応急措置後 | P23: Ⅱb
B24: 変状の発生範囲及び規模 | E24: W=0.35mm×L=3.3m | H24: 前回変状の発生範囲及び規模 | J24: 材質劣化・ひび割れ W=0.35mm×L=4.0m | M24: 変状の発生範囲及び規模 | P24: W=0.5mm×L=3.8m | S24: 前回変状の発生範囲及び規模 | U24: 材質劣化・ひび割れ W=0.5mm×L=3.9m
B25: 対策履歴 | E25: - | H25: 実施状況（実施日） | J25: - | M25: 対策履歴 | P25: - | S25: 実施状況（実施日） | U25: -
B26: メモ | E26: アーチのひび割れ 経過観察が望まれる | M26: メモ | P26: アーチのひび割れ 経過観察が望まれる
C27: ※ 応急措置後の対策区分について添付すること。また、点検前に 実施された措置によりⅠと判定された箇所も添付すること。 | N27: ※ 変状の発生範囲の規模とは、対策を行う際に参考となる変状の長さや面積をいう。
N28: ※ 応急措置を実施しないで決定した変状の対策区分は、対策区分の応急措置後の欄に記入すること。
