Workbook
Name その他: '(参考)リスト'!$C$47
Name その他施設: '[1](参考)リスト'!#REF!
Name その他施設: '(参考)リスト'!$C$79:$C$83
Name 換気施設: '[1](参考)リスト'!#REF!
Name 換気施設: '(参考)リスト'!$C$56:$C$60
Name 坑門: '(参考)リスト'!$C$31:$C$32
Name 照明施設: '[1](参考)リスト'!#REF!
Name 照明施設: '(参考)リスト'!$C$52:$C$54
Name 対象箇所: [2]!テーブル1[対象箇所]
Name 天井板: '(参考)リスト'!$C$37:$C$39
Name 内装板: '(参考)リスト'!$C$34:$C$35
Name 非常用施設: '[1](参考)リスト'!#REF!
Name 非常用施設: '(参考)リスト'!$C$62:$C$77
Name 覆工: '(参考)リスト'!$C$16:$C$29
Name 路面: '(参考)リスト'!$C$41:$C$45

Sheet 点検様式作成フロー
A1: 点検様式作成フロ-
A3: 作成フロー図 | H3: 点検調書作成手順
H4: ①様式A-1～A-3（トンネル台帳）
H5: トンネル点検の実施にあたっては，現場点検作業に先行してトンネル情報を収集する。トンネル台帳（様式Ａ－1～様式Ａ－3）はトンネル完成後に作成され，維持管理の段階で引き継がれるが，関連資料等を確認したうえで，追加情報があれば必要に応じて追記することが望ましい。
H9: ②様式D-2-1、様式D-2-1´
H10: 現場点検作業を実施し，近接目視点検で確認した変状状況や補修履歴を忠実に変状展開図に転記する。
H12: ③様式D-1-1、様式D-1-2
H13: 変状展開図や撮影した写真等をもとに，対象トンネルの対策区分を決定し，対策区分がⅡ～Ⅳの変状および異常判定区分「×」を抽出し，写真台帳を作成する。
H16: ④様式B
H17: 写真台帳の作成と同時に，トンネルの構造を展開した位置図に変状写真位置を記録する。
H19: ⑤様式D-3
H20: 変状展開図ならびに写真台帳をもとに覆工スパンごとの変状展開図を作成し，変状発生状況をとりまとめる。
H22: ⑥様式E
H23: 近接目視または打音検査，触診ができていない箇所および近接目視によらない方法を講じた場所に対する調査結果を記録する。
... H33: すること。 ※各ファイルとも（参考）リストのシートを付けて保存すること。

Sheet 変状面積算出方法
A1: 変状面積算出方法
A26: 注1）外力による変状：ひび割れや圧ざの場合は変状の寸法を記録する。
A27: 例）ひび割れ：長さ（L）×最大ひび割れ幅（t）を記録する。 変形，移動，沈下：数値的な記載が可能な場合のみ記載する。
A28: 注2）材料劣化による：打音異常
A29: 例）うき，はく離（閉合ひび割れ）：変状範囲を包括する寸法（L×W） うき，はく離（ひび割れ沿い）：打音異常箇所を包括する寸法（L×W） 鋼材腐食（鉄筋腐食）：一括した対策が適当と考えられる範囲を包括する寸法（L×W）
A30: 注3）漏水による変状：漏水発生範囲を包括し，垂れ下がりの可能性がある側壁下端まで含めた寸法を，L×Wで記録する。打継ぎ目地沿いの 漏水については目地を跨いだ50cm幅を横幅とする。

Sheet 記入の留意点
B2: トンネルDBでは、Excelに記載された文字や数値・配置された画像を自動的に読込みデータベースへ登録します。
B3: 記録様式へ記入の留意点を下記に示します。
B5: １．記録様式への記入
C6: ➤各セルに表示されるコメントに従って、様式A-1～様式Gのシートに、点検結果（テキスト入力、選択項目）を入力してください。
C7: ➤位置図(様式B)、変状写真(様式D-1-1)、異常写真(様式D-1-2)は記入した変状写真番号等に対応した画像を間違いないように貼り付けてください。
C8: ➤列や行の挿入削除は行わず、セルの位置がずれないようにしてください。データベースへ読み取り時にずれて取り込まれてしまいます。
B11: ２．画像ファイルの配置の注意点
C12: 登録に使用可能な画像ファイルの拡張子は「jpg」「jpeg」「png」の3種類のみです。
C13: 必ず、１か所に画像１枚のみを張り付けてください。エクセルの図形などのオブジェクトは使用しないでください。
C14: 張り付けた画像はエクセルのトリミング機能を使用しないでください。あらかじめ切り抜いた画像を利用してください。
C15: ※１ 画像の左上を必ずセルの内部に含め、はみ出ないようにしてください。
C16: ※２ 図の書式設定で「セルに合わせて移動やサイズを変更しない」のモードを使用しないでください。
C32: ※３ 「挿入」→「画像」→「セルの上に配置」してください。
B41: ３．シート名の連番について
C42: １ページに記載しきれない場合は、１シート内にページを増やすのではなくシート自体をコピーしシート名の末尾を連番にしてください。
C43: 対象様式
C44: 様式B
C45: 様式D-1-1
C46: 様式D-1-2
C47: 様式D-2-1
C48: 様式D-2-1´
C49: 様式D-3_S00 ※スパン名を記載
C50: 様式G
C52: 末尾の連番の形式例
C53: 様式B(1) 様式B(2) 様式B(3)
C54: 様式B_001 様式B_002 様式B_003
... C61: で示される要領を制限するものではありません。

Sheet 様式A-1
B2: ■トンネル台帳 トンネル諸元、非常用施設諸元 【様式A-1】 | S2: 施設ID | W2: 34.31903,131.99436
B3: フリガナ | D3: (ｵﾄﾒｷｮｳﾄﾝﾈﾙ) | H3: 路線名 | J3: 一般国道434号 | P3: 管理者名 | R3: 山口県 岩国土木建築事務所 | W3: 緊急輸送道路 | Z3: 二次
B4: 名 称 | D4: 乙女峡トンネル | W4: 代替路の有無 | Z4: 有
B5: 所在地 | D5: 自 | E5: 山口県岩国市錦町深川地先 | H5: 作成者 | K5: 応用地質（株）・太田 裕之 | P5: 作成年月日 | R5: 45876 | U5: トンネル延長 | X5: L= | Z5: 328 | AB5: ｍ
D6: 至 | E6: 山口県岩国市錦町須川地先 | U6: ﾄﾝﾈﾙの分類 | X6: 陸上トンネル（掘進工法）
B7: 起点 | C7: 緯度 | E7: 34.31903 | H7: 完成年月日 | K7: 1994年 | M7: 舗装 | O7: 種 別 | Q7: コンクリート系 | S7: トンネル非常用施設 | T7: 施設の内訳 | X7: 種別・方式 | Y7: 型式 | Z7: 個数 | AA7: 更新年度 | AE7: =INT(E7/10000) -> 0 | AF7: =INT(E7/100)-AE7*100 -> 0 | AG7: =E7-AE7*10000-AF7*100 -> 34.31903 | AH7: =ROUND(AE7+AF7/60+AG7/60/60,5) -> 0.00953 | AI7: =TEXT(AH7,"0.00000") -> 0.00953
C8: 経度 | E8: 131.99436 | H8: 供用年月日 | O8: 厚 さ | Q8: 20cm | T8: 通報設備 | U8: 通話型通報設備 | AE8: =INT(E8/10000) -> 0 | AF8: =INT(E8/100)-AE8*100 -> 1 | AG8: =E8-AE8*10000-AF8*100 -> 31.99436 | AH8: =ROUND(AE8+AF8/60+AG8/60/60,5) -> 0.02555 | AI8: =TEXT(AH8,"0.00000") -> 0.02555
B9: 終点 | C9: 緯度 | E9: 34.32523 | H9: トンネル等級 | K9: D | O9: 面 積 | U9: 操作型通報設備
C10: 経度 | E10: 131.99226 | H10: 内装種類 | K10: 覆工（コンクリート） | O10: 更新年次 | U10: 自動通報設備
B11: 一般有料区分 | E11: 一般（無料） | H11: 天井板種類 | K11: 覆工（コンクリート） | M11: 排水 | O11: 種 別 | Q11: 円形水路 | T11: 警報設備 | U11: 非常警報設備
B12: 土かぶり | G12: m | H12: 坑門 | I12: 起点 | J12: 形式 | K12: 面壁型 | O12: 更新年次 | T12: 消火設備 | U12: 消 火 器
B13: 内空断面積 | G13: m2 | J13: 延長 | K13: 0 | L13: m | M13: 施設 | P13: 種別・方式 | Q13: 個数 | R13: 更新年次 | U13: 消火栓設備
B14: 交 通 量 | G14: 台/日 | I14: 終点 | J14: 形式 | K14: 面壁型 | M14: 道路附属物等 | N14: 照明 | P14: ナトリウム灯 | Q14: 95 | T14: 避難誘導設備 | U14: 誘導表示設備
C15: 道 路 幅 | E15: 9.3 | G15: m | J15: 延長 | K15: 0 | L15: m | N15: 換気 | P15: 自然換気 | U15: 避難情報提供設備
B16: 幅 員 | C16: 車 道 幅 | E16: 3 | G16: m | H16: 竣工巻厚 | I16: アーチ | K16: 30 | L16: cm | N16: 標識
E17: 3 | G17: m | I17: 側 壁 | K17: 30 | L17: cm | N17: 警報表示板 | U17: 避難通路
C18: 歩道等幅 | E18: 3.3 | G18: m | K18: 30 | L18: cm | N18: 吸音板 | U18: 排煙設備
B19: 高さ | C19: 建築限界高 | E19: 4.7 | G19: m | I19: インバート | K19: 45 | L19: cm | T19: その他の設備 | U19: 給水栓設備
C20: 中央高 | G20: m | H20: 半径 | I20: アーチ | K20: 490 | L20: cm | U20: 無線通信補助設備
C21: 有効高 | E21: 4.5 | G21: m | I21: 側 壁 | K21: 490 | L21: cm | U21: 水噴霧設備
C22: 縦断勾配 | I22: インバート | K22: 1225 | L22: cm | U22: 監視設備
B23: 線 形 | C23: 直線区間長 | H23: 占用物件 | I23: 種 類 | K23: 寸 法 | M23: 管理者名 | Q23: 更新年次 | S23: 非常用施設 関連設備 | U23: 予備発電設備
C24: 曲線区間 | D24: 区間長
D25: 起点側ｸﾛｿｲﾄﾞ
D26: 曲線半径
D27: 終点側ｸﾛｿｲﾄﾞ | S27: その他 | U27: 非常駐車帯
B28: トンネル工法 | E28: 山岳トンネル工法（NATM） | U28: 方向転換所
C29: ※緯度・経度については、十進緯度経度小数第５位で記入すること。

Sheet 様式A-2
B3: ■トンネル台帳 トンネル情報一覧表 【様式A-2】
B4: フリガナ | E4: (ｵﾄﾒｷｮｳﾄﾝﾈﾙ) | J4: 路線名 | M4: 一般国道434号 | S4: 作成者 | Y4: 応用地質（株）・太田 裕之 | AE4: 作成年月日 | AI4: 45876
B5: 名 称 | E5: 乙女峡トンネル | J5: 管理者名 | M5: 山口県岩国土木建築事務所
B6: 覆工 ｽﾊﾟﾝ 番号 | C6: ｽﾊﾟﾝ長 | D6: 追加距離 | F6: トンネル本体工 | K6: 照明施設 | O6: 非常用施設 | AE6: 換気施設 | AK6: その他附属物等
O7: 通報設備 | R7: 警報設備 | S7: 消火設備 | U7: 避難誘導設備 | Y7: その他の設備 | AC7: 特記事項
D8: 起点側 | E8: 終点側 | F8: 特記事項 | I8: 内装板 | J8: 天井板 | K8: 基本照明 | L8: 入口出口照明 | M8: 特記事項 | O8: 通話型通報設備 | P8: 操作型通報設備 | Q8: 自動通報設備 | R8: 非常警報設備 | S8: 消 火 器 | T8: 消火栓設備 | U8: 誘導表示設備 | V8: 避難情報提供設備 | W8: 避難通路 | X8: 排煙設備 | Y8: 給水栓設備 | Z8: 無線通信補助設備 | AA8: 水噴霧設備 | AB8: 監視設備 | AE8: JF | AF8: VI計 | AG8: CO計 | AH8: 風向 風速計 | AI8: 特記事項
C9: (m) | D9: (m) | E9: (m)
B10: PS | C10: 0 | D10: 0 | E10: 0 | F10: 坑門（面壁型）
B11: 1 | C11: 8.5 | D11: 0 | E11: 8.5 | K11: ○
B12: 2 | C12: 10.5 | D12: 8.5 | E12: 19 | K12: ○
B13: 3 | C13: 10.5 | D13: 19 | E13: 29.5 | K13: ○
B14: 4 | C14: 10.5 | D14: 29.5 | E14: 40 | K14: ○
B15: 5 | C15: 10.5 | D15: 40 | E15: 50.5 | K15: ○
B16: 6 | C16: 10.5 | D16: 50.5 | E16: 61 | K16: ○
B17: 7 | C17: 10.5 | D17: 61 | E17: 71.5 | K17: ○
B18: 8 | C18: 10.5 | D18: 71.5 | E18: 82 | K18: ○
B19: 9 | C19: 10.5 | D19: 82 | E19: 92.5 | K19: ○
B20: 10 | C20: 10.5 | D20: 92.5 | E20: 103 | K20: ○
B21: 11 | C21: 10.5 | D21: 103 | E21: 113.5 | K21: ○
B22: 12 | C22: 10.5 | D22: 113.5 | E22: 124 | K22: ○
... B42: 32 | C42: 4.3 | D42: 323.7 | E42: 328 | K42: ○
B43: PE | C43: 0 | D43: 328 | E43: 328 | F43: 坑門（面壁型）
B50: ※ 行が不足する場合は、適時、表の行を増やすこと。

Sheet 様式A-3
B3: ■トンネル台帳 トンネル記録（位置図、断面図、施工実績他）【様式A-3】
B4: フリガナ | E4: (ｵﾄﾒｷｮｳﾄﾝﾈﾙ) | J4: 路線名 | M4: 一般国道434号 | S4: 作成者 | W4: 応用地質（株）・太田 裕之 | AC4: 作成年月日 | AF4: 45876
B5: 名 称 | E5: 乙女峡トンネル | J5: 管理者名 | M5: 山口県岩国土木建築事務所
B6: 位置図・現況写真・標準断面図・地質縦断図・施工実績
B20: ■トンネル台帳 トンネル記録（位置図、断面図、施工実績他）【様式A-3】
B21: フリガナ | E21: (ｵﾄﾒｷｮｳﾄﾝﾈﾙ) | J21: 路線名 | M21: 一般国道434号 | S21: 作成者 | W21: 応用地質（株）・太田 裕之 | AC21: 作成年月日 | AF21: 45876
B22: 名 称 | E22: 乙女峡トンネル | J22: 管理者名 | M22: 山口県岩国土木建築事務所
B23: 位置図・現況写真・標準断面図・地質縦断図・施工実績

Sheet 様式B_001
B2: ■定期点検記録様式 トンネル変状・異常箇所写真位置図 【様式B】 | N2: 定期点検年月日 | P2: 45845 | S2: 施設ID | V2: 34.31903,131.99436
B3: フリガナ | C3: (ｵﾄﾒｷｮｳﾄﾝﾈﾙ) | G3: 路線名 | H3: 一般国道434号 | K3: 管理者名 | L3: 山口県 岩国土木建築事務所 | Q3: 定期点検実施者 | S3: 応用地質（株） | V3: 起点 | W3: 緯度 | X3: 34.31903
B4: 名 称 | C4: 乙女峡トンネル | S4: 太田 裕之 | W4: 経度 | X4: 131.99436
B5: 所在地 | C5: 自 | D5: 山口県岩国市錦町深川地先 | G5: トンネル工法 | I5: 山岳トンネル工法（NATM） | L5: トンネル延長 | N5: L= | O5: 328 | P5: ｍ | Q5: 自専道 or 一般道 | R5: 一般道 | S5: 代替路の有無 | U5: 有 | V5: 終点 | W5: 緯度 | X5: 34.32523
C6: 至 | D6: 山口県岩国市錦町須川地先 | G6: 建設年度 | I6: 1994 | L6: 幅員 | N6: L= | O6: 9.3 | P6: ｍ | S6: 緊急輸送道路 | U6: 二次 | W6: 経度 | X6: 131.99226
B7: トンネル毎 の健全性の 診断の区分 | D7: Ⅱ
G8: 変状・異常 箇所数合計 | I8: トンネル本体工 | J8: 材質劣化 | K8: Ⅱ | L8: 6 | N8: Ⅲ | O8: 0 | Q8: Ⅳ | R8: 0 | T8: 附属物等 の取付状態 | V8: ◯ （応急措置後) | X8: 0
J9: 漏水 | K9: Ⅱ | L9: 1 | N9: Ⅲ | O9: 0 | Q9: Ⅳ | R9: 0
V10: ✕ | X10: 3
J11: 外力 | K11: Ⅱ | L11: 1 | N11: Ⅲ | O11: 0 | Q11: Ⅳ | R11: 0
B12: トンネル変状・異常箇所写真位置図
J29: 注１：本位置図は、見下げた状態で記載すること。 注２：覆工スパン番号は横断目地毎(矢板工法の場合は上半アーチの 横断目地毎)に設定すること。 | Q29: 注３：写真番号に付する変状番号は、各覆工スパンの変状に対して新たに確認された場合 は順次追加していくこと。 注４：横断目地の変状は前の覆工スパン番号で計上すること。 注５：１枚に収まらない場合は、複数枚に分けて作成すること。
C30: ※1 トンネル本体工の変状数は、材質劣化、漏水に起因するものは変状単位で、外力に起因するものはスパン単位で計上すること。
C31: ※2 トンネル本体工の変状に対しては、措置の必要性（Ⅱ～Ⅳ）について表記すること。また、点検前に実施された措置によりⅠと判定された箇所についても記載すること。
C32: ※3 附属物等の取付状態の○欄については、応急措置前に判定区分×とした箇所のうち応急措置により○判定とした箇所の数を記入すること。
C33: ※4 附属物等の異常番号は、本体工と番号が重複しないよう101番以降とする等の配慮を行い、分かりやすく記録すること。

Sheet 様式B_002
B2: ■定期点検記録様式 トンネル変状・異常箇所写真位置図 【様式B】 | N2: 定期点検年月日 | P2: 45845 | S2: 施設ID | V2: 34.31903,131.99436
B3: フリガナ | C3: (ｵﾄﾒｷｮｳﾄﾝﾈﾙ) | G3: 路線名 | H3: 一般国道434号 | K3: 管理者名 | L3: 山口県 岩国土木建築事務所 | Q3: 定期点検実施者 | S3: 応用地質（株） | V3: 起点 | W3: 緯度 | X3: 34.31903
B4: 名 称 | C4: 乙女峡トンネル | S4: 太田 裕之 | W4: 経度 | X4: 131.99436
B5: 所在地 | C5: 自 | D5: 山口県岩国市錦町深川地先 | G5: トンネル工法 | I5: 山岳トンネル工法（NATM） | L5: トンネル延長 | N5: L= | O5: 328 | P5: ｍ | Q5: 自専道 or 一般道 | R5: 一般道 | S5: 代替路の有無 | U5: 有 | V5: 終点 | W5: 緯度 | X5: 34.32523
C6: 至 | D6: 山口県岩国市錦町須川地先 | G6: 建設年度 | I6: 1994 | L6: 幅員 | N6: L= | O6: 9.3 | P6: ｍ | S6: 緊急輸送道路 | U6: 二次 | W6: 経度 | X6: 131.99226
B7: トンネル毎 の健全性の 診断の区分 | D7: Ⅱ
G8: 変状・異常 箇所数合計 | I8: トンネル本体工 | J8: 材質劣化 | K8: Ⅱ | L8: 6 | N8: Ⅲ | O8: 0 | Q8: Ⅳ | R8: 0 | T8: 附属物等 の取付状態 | V8: ◯ （応急措置後) | X8: 0
J9: 漏水 | K9: Ⅱ | L9: 1 | N9: Ⅲ | O9: 0 | Q9: Ⅳ | R9: 0
V10: ✕ | X10: 3
J11: 外力 | K11: Ⅱ | L11: 1 | N11: Ⅲ | O11: 0 | Q11: Ⅳ | R11: 0
B12: トンネル変状・異常箇所写真位置図
J29: 注１：本位置図は、見下げた状態で記載すること。 注２：覆工スパン番号は横断目地毎(矢板工法の場合は上半アーチの 横断目地毎)に設定すること。 | Q29: 注３：写真番号に付する変状番号は、各覆工スパンの変状に対して新たに確認された場合 は順次追加していくこと。 注４：横断目地の変状は前の覆工スパン番号で計上すること。 注５：１枚に収まらない場合は、複数枚に分けて作成すること。
C30: ※1 トンネル本体工の変状数は、材質劣化、漏水に起因するものは変状単位で、外力に起因するものはスパン単位で計上すること。
C31: ※2 トンネル本体工の変状に対しては、措置の必要性（Ⅱ～Ⅳ）について表記すること。また、点検前に実施された措置によりⅠと判定された箇所についても記載すること。
C32: ※3 附属物等の取付状態の○欄については、応急措置前に判定区分×とした箇所のうち応急措置により○判定とした箇所の数を記入すること。
C33: ※4 附属物等の異常番号は、本体工と番号が重複しないよう101番以降とする等の配慮を行い、分かりやすく記録すること。

Sheet 様式B_003
B2: ■定期点検記録様式 トンネル変状・異常箇所写真位置図 【様式B】 | N2: 定期点検年月日 | P2: 45845 | S2: 施設ID | V2: 34.31903,131.99436
B3: フリガナ | C3: (ｵﾄﾒｷｮｳﾄﾝﾈﾙ) | G3: 路線名 | H3: 一般国道434号 | K3: 管理者名 | L3: 山口県 岩国土木建築事務所 | Q3: 定期点検実施者 | S3: 応用地質（株） | V3: 起点 | W3: 緯度 | X3: 34.31903
B4: 名 称 | C4: 乙女峡トンネル | S4: 太田 裕之 | W4: 経度 | X4: 131.99436
B5: 所在地 | C5: 自 | D5: 山口県岩国市錦町深川地先 | G5: トンネル工法 | I5: 山岳トンネル工法（NATM） | L5: トンネル延長 | N5: L= | O5: 328 | P5: ｍ | Q5: 自専道 or 一般道 | R5: 一般道 | S5: 代替路の有無 | U5: 有 | V5: 終点 | W5: 緯度 | X5: 34.32523
C6: 至 | D6: 山口県岩国市錦町須川地先 | G6: 建設年度 | I6: 1994 | L6: 幅員 | N6: L= | O6: 9.3 | P6: ｍ | S6: 緊急輸送道路 | U6: 二次 | W6: 経度 | X6: 131.99226
B7: トンネル毎 の健全性の 診断の区分 | D7: Ⅱ
G8: 変状・異常 箇所数合計 | I8: トンネル本体工 | J8: 材質劣化 | K8: Ⅱ | L8: 6 | N8: Ⅲ | O8: 0 | Q8: Ⅳ | R8: 0 | T8: 附属物等 の取付状態 | V8: ◯ （応急措置後) | X8: 0
J9: 漏水 | K9: Ⅱ | L9: 1 | N9: Ⅲ | O9: 0 | Q9: Ⅳ | R9: 0
V10: ✕ | X10: 3
J11: 外力 | K11: Ⅱ | L11: 1 | N11: Ⅲ | O11: 0 | Q11: Ⅳ | R11: 0
B12: トンネル変状・異常箇所写真位置図
J29: 注１：本位置図は、見下げた状態で記載すること。 注２：覆工スパン番号は横断目地毎(矢板工法の場合は上半アーチの 横断目地毎)に設定すること。 | Q29: 注３：写真番号に付する変状番号は、各覆工スパンの変状に対して新たに確認された場合 は順次追加していくこと。 注４：横断目地の変状は前の覆工スパン番号で計上すること。 注５：１枚に収まらない場合は、複数枚に分けて作成すること。
C30: ※1 トンネル本体工の変状数は、材質劣化、漏水に起因するものは変状単位で、外力に起因するものはスパン単位で計上すること。
C31: ※2 トンネル本体工の変状に対しては、措置の必要性（Ⅱ～Ⅳ）について表記すること。また、点検前に実施された措置によりⅠと判定された箇所についても記載すること。
C32: ※3 附属物等の取付状態の○欄については、応急措置前に判定区分×とした箇所のうち応急措置により○判定とした箇所の数を記入すること。
C33: ※4 附属物等の異常番号は、本体工と番号が重複しないよう101番以降とする等の配慮を行い、分かりやすく記録すること。

Sheet 様式B_004
B2: ■定期点検記録様式 トンネル変状・異常箇所写真位置図 【様式B】 | N2: 定期点検年月日 | P2: 45845 | S2: 施設ID | V2: 34.31903,131.99436
B3: フリガナ | C3: (ｵﾄﾒｷｮｳﾄﾝﾈﾙ) | G3: 路線名 | H3: 一般国道434号 | K3: 管理者名 | L3: 山口県 岩国土木建築事務所 | Q3: 定期点検実施者 | S3: 応用地質（株） | V3: 起点 | W3: 緯度 | X3: 34.31903
B4: 名 称 | C4: 乙女峡トンネル | S4: 太田 裕之 | W4: 経度 | X4: 131.99436
B5: 所在地 | C5: 自 | D5: 山口県岩国市錦町深川地先 | G5: トンネル工法 | I5: 山岳トンネル工法（NATM） | L5: トンネル延長 | N5: L= | O5: 328 | P5: ｍ | Q5: 自専道 or 一般道 | R5: 一般道 | S5: 代替路の有無 | U5: 有 | V5: 終点 | W5: 緯度 | X5: 34.32523
C6: 至 | D6: 山口県岩国市錦町須川地先 | G6: 建設年度 | I6: 1994 | L6: 幅員 | N6: L= | O6: 9.3 | P6: ｍ | S6: 緊急輸送道路 | U6: 二次 | W6: 経度 | X6: 131.99226
B7: トンネル毎 の健全性の 診断の区分 | D7: Ⅱ
G8: 変状・異常 箇所数合計 | I8: トンネル本体工 | J8: 材質劣化 | K8: Ⅱ | L8: 6 | N8: Ⅲ | O8: 0 | Q8: Ⅳ | R8: 0 | T8: 附属物等 の取付状態 | V8: ◯ （応急措置後) | X8: 0
J9: 漏水 | K9: Ⅱ | L9: 1 | N9: Ⅲ | O9: 0 | Q9: Ⅳ | R9: 0
V10: ✕ | X10: 3
J11: 外力 | K11: Ⅱ | L11: 1 | N11: Ⅲ | O11: 0 | Q11: Ⅳ | R11: 0
B12: トンネル変状・異常箇所写真位置図
J29: 注１：本位置図は、見下げた状態で記載すること。 注２：覆工スパン番号は横断目地毎(矢板工法の場合は上半アーチの 横断目地毎)に設定すること。 | Q29: 注３：写真番号に付する変状番号は、各覆工スパンの変状に対して新たに確認された場合 は順次追加していくこと。 注４：横断目地の変状は前の覆工スパン番号で計上すること。 注５：１枚に収まらない場合は、複数枚に分けて作成すること。
C30: ※1 トンネル本体工の変状数は、材質劣化、漏水に起因するものは変状単位で、外力に起因するものはスパン単位で計上すること。
C31: ※2 トンネル本体工の変状に対しては、措置の必要性（Ⅱ～Ⅳ）について表記すること。また、点検前に実施された措置によりⅠと判定された箇所についても記載すること。
C32: ※3 附属物等の取付状態の○欄については、応急措置前に判定区分×とした箇所のうち応急措置により○判定とした箇所の数を記入すること。
C33: ※4 附属物等の異常番号は、本体工と番号が重複しないよう101番以降とする等の配慮を行い、分かりやすく記録すること。

Sheet 様式B_005
B2: ■定期点検記録様式 トンネル変状・異常箇所写真位置図 【様式B】 | N2: 定期点検年月日 | P2: 45845 | S2: 施設ID | V2: 34.31903,131.99436
B3: フリガナ | C3: (ｵﾄﾒｷｮｳﾄﾝﾈﾙ) | G3: 路線名 | H3: 一般国道434号 | K3: 管理者名 | L3: 山口県 岩国土木建築事務所 | Q3: 定期点検実施者 | S3: 応用地質（株） | V3: 起点 | W3: 緯度 | X3: 34.31903
B4: 名 称 | C4: 乙女峡トンネル | S4: 太田 裕之 | W4: 経度 | X4: 131.99436
B5: 所在地 | C5: 自 | D5: 山口県岩国市錦町深川地先 | G5: トンネル工法 | I5: 山岳トンネル工法（NATM） | L5: トンネル延長 | N5: L= | O5: 328 | P5: ｍ | Q5: 自専道 or 一般道 | R5: 一般道 | S5: 代替路の有無 | U5: 有 | V5: 終点 | W5: 緯度 | X5: 34.32523
C6: 至 | D6: 山口県岩国市錦町須川地先 | G6: 建設年度 | I6: 1994 | L6: 幅員 | N6: L= | O6: 9.3 | P6: ｍ | S6: 緊急輸送道路 | U6: 二次 | W6: 経度 | X6: 131.99226
B7: トンネル毎 の健全性の 診断の区分 | D7: Ⅱ
G8: 変状・異常 箇所数合計 | I8: トンネル本体工 | J8: 材質劣化 | K8: Ⅱ | L8: 6 | N8: Ⅲ | O8: 0 | Q8: Ⅳ | R8: 0 | T8: 附属物等 の取付状態 | V8: ◯ （応急措置後) | X8: 0
J9: 漏水 | K9: Ⅱ | L9: 1 | N9: Ⅲ | O9: 0 | Q9: Ⅳ | R9: 0
V10: ✕ | X10: 3
J11: 外力 | K11: Ⅱ | L11: 1 | N11: Ⅲ | O11: 0 | Q11: Ⅳ | R11: 0
B12: トンネル変状・異常箇所写真位置図
J29: 注１：本位置図は、見下げた状態で記載すること。 注２：覆工スパン番号は横断目地毎(矢板工法の場合は上半アーチの 横断目地毎)に設定すること。 | Q29: 注３：写真番号に付する変状番号は、各覆工スパンの変状に対して新たに確認された場合 は順次追加していくこと。 注４：横断目地の変状は前の覆工スパン番号で計上すること。 注５：１枚に収まらない場合は、複数枚に分けて作成すること。
C30: ※1 トンネル本体工の変状数は、材質劣化、漏水に起因するものは変状単位で、外力に起因するものはスパン単位で計上すること。
C31: ※2 トンネル本体工の変状に対しては、措置の必要性（Ⅱ～Ⅳ）について表記すること。また、点検前に実施された措置によりⅠと判定された箇所についても記載すること。
C32: ※3 附属物等の取付状態の○欄については、応急措置前に判定区分×とした箇所のうち応急措置により○判定とした箇所の数を記入すること。
C33: ※4 附属物等の異常番号は、本体工と番号が重複しないよう101番以降とする等の配慮を行い、分かりやすく記録すること。

Sheet 様式C-1-1
B2: ■定期点検記録様式 全スパン定期点検結果総括表（トンネル本体工） 【様式C-1-1】
B3: フリガナ | F3: (ｵﾄﾒｷｮｳﾄﾝﾈﾙ) | I3: 路線名 | K3: 一般国道434号 | O3: 定期点検実施者 | P3: 応用地質（株） | T3: 定期点検年月日 | X3: 45845
B4: 名 称 | F4: 乙女峡トンネル | I4: 管理者名 | K4: 山口県岩国土木建築事務所 | P4: 太田 裕之
B5: 定期点検結果 | C5: 覆工 スパン 番号 | E5: 変状 番号 | F5: 距離 （m） | G5: 変状部位 | I5: 変 状 の 内 容 | O5: 前回定期点検時の状態 | P5: 今回定期点検結果 | T5: 措置履歴 | Y5: 対応方針 ・ 特記事項
O6: 44050
G7: 対象箇所 | H7: 部位区分 | I7: 変状区分 | J7: 変状種類 | M7: 変状の発生範囲の規模 | N7: 前回定期点検時の変状の発生範囲及び規模 | O7: 対策区分 | P7: 対策区分 | R7: 調査の 要否 | S7: 措置の 要否 | T7: 実施 | U7: 措置の実施状況
P8: 応急措置前 | Q8: 応急措置後
C9: 1 | E9: 1 | F9: 1.7 | G9: 覆工 | H9: アーチ（天端） | I9: 材質劣化 | J9: うき・はく離 | M9: 3.24 | N9: 0.12 | O9: Ⅱa | P9: － | Q9: Ⅱa | R9: 否 | S9: 要監視 | T9: 継続 | U9: 監視（重点） | Y9: －
C10: 3 | E10: 1 | F10: 22.6 | G10: 覆工 | H10: アーチ（右側） | I10: 漏水 | J10: 漏水 | M10: 0.07 | N10: 0.07 | O10: Ⅱb | P10: － | Q10: Ⅱb | R10: 否 | S10: 要監視 | T10: 継続 | U10: 監視（日常巡視） | Y10: －
C11: 8 | E11: 1 | F11: 76.5 | G11: 覆工 | H11: アーチ（左側） | I11: 材質劣化 | J11: 鋼材腐食 | M11: 0.01 | N11: 0.01 | O11: Ⅱa | P11: Ⅱa | Q11: Ⅰ | R11: 否 | S11: 否 | T11: 済 | U11: － | Y11: 今回点検時に叩き落とし実施
C12: 8 | E12: 2 | F12: 0 | G12: 覆工 | H12: 横断目地（天端） | I12: 材質劣化 | J12: うき・はく離 | M12: 0.05 | N12: － | O12: － | P12: Ⅳ | Q12: Ⅰ | R12: 否 | S12: 否 | T12: 済 | U12: － | Y12: 今回点検時に叩き落とし実施
C13: 17 | E13: 1 | F13: 176.5 | G13: 覆工 | H13: 横断目地（右側） | I13: 材質劣化 | J13: うき・はく離 | M13: 0.01 | N13: 0.01 | O13: Ⅰ | P13: － | Q13: Ⅰ | R13: 否 | S13: 否 | T13: 済 | U13: － | Y13: R02定期点検時に叩き落とし実施
C14: 17 | E14: 2 | F14: 176.3 | G14: 覆工 | H14: 側壁（右側） | I14: 材質劣化 | J14: うき・はく離 | M14: 0.35 | N14: 0.44 | O14: Ⅱb | P14: － | Q14: Ⅱb | R14: 否 | S14: 要監視 | T14: 継続 | U14: 監視（日常巡視） | Y14: －
C15: 19 | E15: 1 | F15: 187.2 | G15: 覆工 | H15: アーチ（天端） | I15: 材質劣化 | J15: 鋼材腐食 | M15: 0.01 | N15: 0.01 | O15: Ⅱa | P15: － | Q15: Ⅱb | R15: 否 | S15: 要監視 | T15: 継続 | U15: 監視（日常巡視） | Y15: －
C16: 20 | E16: 1 | F16: 203.4 | G16: 覆工 | H16: アーチ（天端） | I16: 材質劣化 | J16: うき・はく離 | M16: 0.01 | N16: 0.01 | O16: Ⅱa | P16: － | Q16: Ⅰ | R16: 否 | S16: 否 | T16: 済 | U16: － | Y16: R02定期点検時に叩き落とし実施
C17: 20 | E17: 2 | F17: 207.9 | G17: 覆工 | H17: 横断目地（左側） | I17: 材質劣化 | J17: うき・はく離 | M17: 0.06 | N17: 0.06 | O17: Ⅱa | P17: － | Q17: Ⅱa | R17: 否 | S17: 要監視 | T17: 継続 | U17: 監視（重点） | Y17: －
C18: 20 | E18: 3 | F18: 203.4 | G18: 覆工 | H18: アーチ（天端） | I18: 材質劣化 | J18: うき・はく離 | M18: 0.27 | N18: 0.27 | O18: Ⅱa | P18: － | Q18: Ⅰ | R18: 否 | S18: 否 | T18: 済 | U18: － | Y18: R02定期点検時に叩き落とし実施
C19: 23 | E19: 1 | F19: 238.4 | G19: 覆工 | H19: 横断目地（右側） | I19: 材質劣化 | J19: うき・はく離 | M19: 2.08 | N19: － | O19: － | P19: － | Q19: Ⅱb | R19: 否 | S19: 要監視 | T19: 継続 | U19: 監視（日常巡視） | Y19: －
C20: 30 | E20: 1 | F20: 313.1 | G20: 覆工 | H20: 横断目地（天端） | I20: 材質劣化 | J20: うき・はく離 | M20: 0.02 | N20: 0.01 | O20: Ⅱa | P20: － | Q20: Ⅱa | R20: 否 | S20: 要監視 | T20: 継続 | U20: 監視（重点） | Y20: －
C21: 31 | E21: 1 | F21: 318.5 | G21: 覆工 | H21: アーチ（左側） | I21: 外力 | J21: 圧ざ、ひび割れ | M21: 長さ7.7m×幅1mm | N21: 7.7 | O21: Ⅱb | P21: － | Q21: Ⅱb | R21: 否 | S21: 要監視 | T21: 継続 | U21: 監視（日常巡視） | Y21: －
C43: ※ 対策区分（応急措置後）の判定区分Ⅱb～Ⅳについて記入すること。また、点検前に実施された措置によりⅠと判定された変状も記入すること。
C44: ※ 応急措置を実施しないで判定した変状の対策区分は、対策区分の応急措置後の欄に記入すること。
C45: ※ 変状の除去が不完全で、緊急対応が必要な場合は対応方針欄に記入すること。
C46: ※ １区間の覆工に複数の変状がある場合は、変状箇所毎に記入すること。
C47: ※ 措置・監視点検を行った場合には、措置履歴、特記事項に記録を残すこと。（実施年度も記載）
C48: ※ 行が不足する場合は、適時、表の行を増やすこと。

Sheet 様式C-1-2
B2: ■定期点検記録様式 定期点検結果総括表（トンネル内附属物等の取付状態） 【様式C-1-2】
B3: フリガナ | F3: (ｵﾄﾒｷｮｳﾄﾝﾈﾙ) | J3: 路線名 | K3: 一般国道434号 | M3: 定期点検実施者 | O3: 応用地質（株） | S3: 定期点検年月日 | W3: 45845
B4: 名 称 | F4: 乙女峡トンネル | J4: 管理者名 | K4: 山口県岩国土木建築事務所 | O4: 太田 裕之
B5: 定期点検結果 | C5: 覆工 スパン 番号 | E5: 異常 番号 | F5: 距離 （m） | G5: 異常部位 | J5: 異 常 の 内 容 | N5: 定期点検結果 | P5: 応急措置の 実施状況 | V5: 対応方針 ・ 特記事項
G6: 対象箇所 | I6: 部位区分 | J6: 異常種類 | L6: 異常の発生範囲の規模 | N6: 異常判定区分 | P6: 実施 | Q6: 応急措置の内容
N7: 応急措置前 | O7: 応急措置後
C8: 19 | E8: 1 | F8: 192.7 | G8: その他施設 | H8: その他 | I8: 取付部材 | J8: 緩み、脱落 | L8: デリネーター取付金具L側2箇所 | N8: × | O8: × | P8: 未 | Q8: 仮固定実施 | V8: 早期交換
C9: 24 | E9: 1 | F9: 224 | G9: 照明施設 | H9: 灯具 | I9: 附属物本体 | J9: 腐食 | L9: 照明1基(R側) | N9: × | O9: × | P9: 未 | Q9: 防錆剤塗布 | V9: 早期交換
C10: 27 | E10: 1 | F10: 279 | G10: 照明施設 | H10: 灯具 | I10: ボルト・ナット，アンカー類 | J10: がたつき | L10: 固定アンカー1本 | N10: － | O10: × | P10: 未 | Q10: － | V10: 早期交換
C42: ※ 異常判定区分×について記入すること。また、応急措置により○と判定された箇所も記入すること。
C43: ※ 応急措置を実施しないで判定した箇所の異常判定区分は、異常判定区分の応急措置後の欄に記入すること。
C44: ※ 異常の除去が不完全で、緊急対応が必要な場合は対応方針欄に記入すること。
C45: ※ １スパンの覆工に複数の異常がある場合は、異常箇所毎に記入すること。
C46: ※ 行が不足する場合は、適時、表の行を増やすこと。

Sheet 様式C-2
B2: ■定期点検記録様式 状態の把握の内容 【様式C-2】
B3: フリガナ | E3: (ｵﾄﾒｷｮｳﾄﾝﾈﾙ) | H3: 路線名 | J3: 一般国道434号 | M3: 定期点検実施者 | Q3: 応用地質（株） | U3: 定期点検年月日 | X3: 45845
B4: 名 称 | E4: 乙女峡トンネル | H4: 管理者名 | J4: 山口県岩国土木建築事務所 | Q4: 太田 裕之
B5: 状態の把握の内容 | C5: 覆工スパン 番号 | E5: 変状 番号 | F5: 状態の把握の内容
F6: 年月日 | H6: 内容 | O6: 結果 | Y6: 対策区分の 判定
B22: 注）状態の把握において、微破壊・非破壊検査や各種試験等を実施した場合について記載する。
B23: ※ 行が不足する場合は、適時、表の行を増やすこと。

Sheet 様式D-1-1_001
B2: ■定期点検記録様式 変状写真台帳【様式D-1-1】 | R2: 施設ID | T2: 34.31903,131.99436
B3: フリガナ | E3: (ｵﾄﾒｷｮｳﾄﾝﾈﾙ) | H3: 路 線 名 | J3: 一般国道434号 | M3: 定期点検実施者 | P3: 応用地質（株） | S3: 定期点検年月日 | U3: 45845
B4: 名 称 | E4: 乙女峡トンネル | H4: 管理者名 | J4: 山口県岩国土木建築事務所 | P4: 太田 裕之
B5: 写真 番号 | C5: 覆工スパン 番号 | E5: 1 | F5: 余 白 | M5: 写真 番号 | N5: 覆工スパン 番号 | Q5: 余 白
C6: 変状番号 | E6: 1 | N6: 変状番号
B7: 変状 部位 | C7: 対象箇所 | E7: 覆工 | M7: 変状 部位 | N7: 対象箇所
C8: 部位区分 | E8: アーチ（天端） | N8: 部位区分
B9: 変状種類 | E9: うき・はく離 | M9: 変状種類
B10: 対策 区分 | C10: 変状区分 | E10: 材質劣化 | M10: 対策 区分 | N10: 変状区分
C11: 応急措置前 | E11: － | N11: 応急措置前
C12: 応急措置後 | E12: Ⅱa | N12: 応急措置後
B13: 変状の発生範囲及び規模 | E13: 3.24㎡（1.8m×1.8m） | H13: 前回変状の発生範囲及び規模 | J13: 0.12㎡（0.3m×0.4m） | M13: 変状の発生範囲及び規模 | S13: 前回変状の発生範囲及び規模
B14: 対策履歴 | E14: なし | H14: 実施状況（実施日） | J14: － | M14: 対策履歴 | S14: 実施状況（実施日）
B15: メモ | E15: 打音異常、ひび割れを伴う、打音異常あり、進行性あり、浸透固化材塗布 【前回定期点検 Ⅱa判定】 | M15: メモ
B16: 写真 番号 | C16: 覆工スパン 番号 | F16: 余 白 | M16: 写真 番号 | N16: 覆工スパン 番号 | Q16: 余 白
C17: 変状番号 | N17: 変状番号
B18: 変状 部位 | C18: 対象箇所 | M18: 変状 部位 | N18: 対象箇所
C19: 部位区分 | N19: 部位区分
B20: 変状種類 | M20: 変状種類
B21: 対策 区分 | C21: 変状区分 | M21: 対策 区分 | N21: 変状区分
C22: 応急措置前 | N22: 応急措置前
C23: 応急措置後 | N23: 応急措置後
B24: 変状の発生範囲及び規模 | H24: 前回変状の発生範囲及び規模 | M24: 変状の発生範囲及び規模 | S24: 前回変状の発生範囲及び規模
B25: 対策履歴 | H25: 実施状況（実施日） | M25: 対策履歴 | S25: 実施状況（実施日）
B26: メモ | M26: メモ
C27: ※ 応急措置後の対策区分について添付すること。また、点検前に 実施された措置によりⅠと判定された箇所も添付すること。 | N27: ※ 変状の発生範囲の規模とは、対策を行う際に参考となる変状の長さや面積をいう。
N28: ※ 応急措置を実施しないで決定した変状の対策区分は、対策区分の応急措置後の欄に記入すること。
C29: ※ たたき落としを実施した場合は、実施後の写真を添付すること。 | N29: ※ 変状の発生範囲の規模は、面積・寸法を記載すること。(ひび割れ幅のみmmとし、その他をm表記とする)
C30: ※ 変状数に準じてシートを追加すること。（１シートに１ページとすること。） | N30: ※ 構造用鋼材以外の異物に伴ううき・はく離については、メモ欄に異物の概要を記入すること。

Sheet 様式D-1-1_002
B2: ■定期点検記録様式 変状写真台帳【様式D-1-1】 | R2: 施設ID | T2: 34.31903,131.99436
B3: フリガナ | E3: (ｵﾄﾒｷｮｳﾄﾝﾈﾙ) | H3: 路 線 名 | J3: 一般国道434号 | M3: 定期点検実施者 | P3: 応用地質（株） | S3: 定期点検年月日 | U3: 45845
B4: 名 称 | E4: 乙女峡トンネル | H4: 管理者名 | J4: 山口県岩国土木建築事務所 | P4: 太田 裕之
B5: 写真 番号 | C5: 覆工スパン 番号 | E5: 3 | F5: 余 白 | M5: 写真 番号 | N5: 覆工スパン 番号 | Q5: 余 白
C6: 変状番号 | E6: 1 | N6: 変状番号
B7: 変状 部位 | C7: 対象箇所 | E7: 覆工 | M7: 変状 部位 | N7: 対象箇所
C8: 部位区分 | E8: アーチ（右側） | N8: 部位区分
B9: 変状種類 | E9: 漏水 | M9: 変状種類
B10: 対策 区分 | C10: 変状区分 | E10: 漏水 | M10: 対策 区分 | N10: 変状区分
C11: 応急措置前 | E11: － | N11: 応急措置前
C12: 応急措置後 | E12: Ⅱb | N12: 応急措置後
B13: 変状の発生範囲及び規模 | E13: 0.07㎡（0.7m×0.1m） | H13: 前回変状の発生範囲及び規模 | J13: 0.07㎡（0.7m×0.1m） | M13: 変状の発生範囲及び規模 | S13: 前回変状の発生範囲及び規模
B14: 対策履歴 | E14: なし | H14: 実施状況（実施日） | J14: － | M14: 対策履歴 | S14: 実施状況（実施日）
B15: メモ | E15: 漏水・サビ汁跡(継続監視) 【前回定期点検 Ⅱb判定】 | M15: メモ
B16: 写真 番号 | C16: 覆工スパン 番号 | F16: 余 白 | M16: 写真 番号 | N16: 覆工スパン 番号 | Q16: 余 白
C17: 変状番号 | N17: 変状番号
B18: 変状 部位 | C18: 対象箇所 | M18: 変状 部位 | N18: 対象箇所
C19: 部位区分 | N19: 部位区分
B20: 変状種類 | M20: 変状種類
B21: 対策 区分 | C21: 変状区分 | M21: 対策 区分 | N21: 変状区分
C22: 応急措置前 | N22: 応急措置前
C23: 応急措置後 | N23: 応急措置後
B24: 変状の発生範囲及び規模 | H24: 前回変状の発生範囲及び規模 | M24: 変状の発生範囲及び規模 | S24: 前回変状の発生範囲及び規模
B25: 対策履歴 | H25: 実施状況（実施日） | M25: 対策履歴 | S25: 実施状況（実施日）
B26: メモ | M26: メモ
C27: ※ 応急措置後の対策区分について添付すること。また、点検前に 実施された措置によりⅠと判定された箇所も添付すること。 | N27: ※ 変状の発生範囲の規模とは、対策を行う際に参考となる変状の長さや面積をいう。
N28: ※ 応急措置を実施しないで決定した変状の対策区分は、対策区分の応急措置後の欄に記入すること。
C29: ※ たたき落としを実施した場合は、実施後の写真を添付すること。 | N29: ※ 変状の発生範囲の規模は、面積・寸法を記載すること。(ひび割れ幅のみmmとし、その他をm表記とする)
C30: ※ 変状数に準じてシートを追加すること。（１シートに１ページとすること。） | N30: ※ 構造用鋼材以外の異物に伴ううき・はく離については、メモ欄に異物の概要を記入すること。

Sheet 様式D-1-1_003
B2: ■定期点検記録様式 変状写真台帳【様式D-1-1】 | R2: 施設ID | T2: 34.31903,131.99436
B3: フリガナ | E3: (ｵﾄﾒｷｮｳﾄﾝﾈﾙ) | H3: 路 線 名 | J3: 一般国道434号 | M3: 定期点検実施者 | P3: 応用地質（株） | S3: 定期点検年月日 | U3: 45845
B4: 名 称 | E4: 乙女峡トンネル | H4: 管理者名 | J4: 山口県岩国土木建築事務所 | P4: 太田 裕之
B5: 写真 番号 | C5: 覆工スパン 番号 | E5: 8 | F5: 余 白 | M5: 写真 番号 | N5: 覆工スパン 番号 | P5: 8 | Q5: 余 白
C6: 変状番号 | E6: 1 | N6: 変状番号 | P6: 2
B7: 変状 部位 | C7: 対象箇所 | E7: 覆工 | M7: 変状 部位 | N7: 対象箇所 | P7: 覆工
C8: 部位区分 | E8: アーチ（左側） | N8: 部位区分 | P8: 横断目地（天端）
B9: 変状種類 | E9: 鋼材腐食 | M9: 変状種類 | P9: うき・はく離
B10: 対策 区分 | C10: 変状区分 | E10: 材質劣化 | M10: 対策 区分 | N10: 変状区分 | P10: 材質劣化
C11: 応急措置前 | E11: Ⅱa | N11: 応急措置前 | P11: Ⅳ
C12: 応急措置後 | E12: Ⅰ | N12: 応急措置後 | P12: Ⅰ
B13: 変状の発生範囲及び規模 | E13: 0.01㎡（0.05m×0.05m） | H13: 前回変状の発生範囲及び規模 | J13: 0.01㎡（0.05m×0.05m） | M13: 変状の発生範囲及び規模 | P13: 0.05㎡（0.5m×0.1m） | S13: 前回変状の発生範囲及び規模 | U13: なし
B14: 対策履歴 | E14: なし | H14: 実施状況（実施日） | J14: － | M14: 対策履歴 | P14: なし | S14: 実施状況（実施日） | U14: －
B15: メモ | E15: 鋼材露出、部分的に鋼材の露出あり(表面的な腐食)、周辺にうきなし、今回点検時に叩き落とし実施(深さ10mm)、浸透固化材塗布 【前回定期点検 Ⅱa判定】 | M15: メモ | P15: うき、ブロック化、打音異常あり、今回点検時に叩き落とし実施(深さ65mm)、浸透固化材塗布 【今回新たに確認】
B16: 写真 番号 | C16: 覆工スパン 番号 | F16: 余 白 | M16: 写真 番号 | N16: 覆工スパン 番号 | Q16: 余 白
C17: 変状番号 | N17: 変状番号
B18: 変状 部位 | C18: 対象箇所 | M18: 変状 部位 | N18: 対象箇所
C19: 部位区分 | N19: 部位区分
B20: 変状種類 | M20: 変状種類
B21: 対策 区分 | C21: 変状区分 | M21: 対策 区分 | N21: 変状区分
C22: 応急措置前 | N22: 応急措置前
C23: 応急措置後 | N23: 応急措置後
B24: 変状の発生範囲及び規模 | H24: 前回変状の発生範囲及び規模 | M24: 変状の発生範囲及び規模 | S24: 前回変状の発生範囲及び規模
B25: 対策履歴 | H25: 実施状況（実施日） | M25: 対策履歴 | S25: 実施状況（実施日）
B26: メモ | M26: メモ
C27: ※ 応急措置後の対策区分について添付すること。また、点検前に 実施された措置によりⅠと判定された箇所も添付すること。 | N27: ※ 変状の発生範囲の規模とは、対策を行う際に参考となる変状の長さや面積をいう。
N28: ※ 応急措置を実施しないで決定した変状の対策区分は、対策区分の応急措置後の欄に記入すること。
C29: ※ たたき落としを実施した場合は、実施後の写真を添付すること。 | N29: ※ 変状の発生範囲の規模は、面積・寸法を記載すること。(ひび割れ幅のみmmとし、その他をm表記とする)
C30: ※ 変状数に準じてシートを追加すること。（１シートに１ページとすること。） | N30: ※ 構造用鋼材以外の異物に伴ううき・はく離については、メモ欄に異物の概要を記入すること。

Sheet 様式D-1-1_004
B2: ■定期点検記録様式 変状写真台帳【様式D-1-1】 | R2: 施設ID | T2: 34.31903,131.99436
B3: フリガナ | E3: (ｵﾄﾒｷｮｳﾄﾝﾈﾙ) | H3: 路 線 名 | J3: 一般国道434号 | M3: 定期点検実施者 | P3: 応用地質（株） | S3: 定期点検年月日 | U3: 45845
B4: 名 称 | E4: 乙女峡トンネル | H4: 管理者名 | J4: 山口県岩国土木建築事務所 | P4: 太田 裕之
B5: 写真 番号 | C5: 覆工スパン 番号 | E5: 17 | F5: 余 白 | M5: 写真 番号 | N5: 覆工スパン 番号 | P5: 17 | Q5: 余 白
C6: 変状番号 | E6: 1 | N6: 変状番号 | P6: 2
B7: 変状 部位 | C7: 対象箇所 | E7: 覆工 | M7: 変状 部位 | N7: 対象箇所 | P7: 覆工
C8: 部位区分 | E8: 横断目地（右側） | N8: 部位区分 | P8: 側壁（右側）
B9: 変状種類 | E9: うき・はく離 | M9: 変状種類 | P9: うき・はく離
B10: 対策 区分 | C10: 変状区分 | E10: 材質劣化 | M10: 対策 区分 | N10: 変状区分 | P10: 材質劣化
C11: 応急措置前 | E11: － | N11: 応急措置前 | P11: －
C12: 応急措置後 | E12: Ⅰ | N12: 応急措置後 | P12: Ⅱb
B13: 変状の発生範囲及び規模 | E13: 0.01㎡（0.2m×0.05m） | H13: 前回変状の発生範囲及び規模 | J13: 0.01㎡（0.2m×0.05m） | M13: 変状の発生範囲及び規模 | P13: 0.35㎡（1m×0.35m） | S13: 前回変状の発生範囲及び規模 | U13: 0.44㎡（1.25m×0.35m）
B14: 対策履歴 | E14: なし | H14: 実施状況（実施日） | J14: － | M14: 対策履歴 | P14: なし | S14: 実施状況（実施日） | U14: －
B15: メモ | E15: はく落(深さ70mm)、打音異常なし、R02定期点検時に叩き落とし実施(深さ70mm)、浸透固化材塗布 【前回定期点検 Ⅰ判定】 | M15: メモ | P15: うき、ブロック化、打音異常あり、浸透固化材塗布、第三者被害が小さいが為再判定 【前回定期点検 Ⅱb判定】
B16: 写真 番号 | C16: 覆工スパン 番号 | F16: 余 白 | M16: 写真 番号 | N16: 覆工スパン 番号 | Q16: 余 白
C17: 変状番号 | N17: 変状番号
B18: 変状 部位 | C18: 対象箇所 | M18: 変状 部位 | N18: 対象箇所
C19: 部位区分 | N19: 部位区分
B20: 変状種類 | M20: 変状種類
B21: 対策 区分 | C21: 変状区分 | M21: 対策 区分 | N21: 変状区分
C22: 応急措置前 | N22: 応急措置前
C23: 応急措置後 | N23: 応急措置後
B24: 変状の発生範囲及び規模 | H24: 前回変状の発生範囲及び規模 | M24: 変状の発生範囲及び規模 | S24: 前回変状の発生範囲及び規模
B25: 対策履歴 | H25: 実施状況（実施日） | M25: 対策履歴 | S25: 実施状況（実施日）
B26: メモ | M26: メモ
C27: ※ 応急措置後の対策区分について添付すること。また、点検前に 実施された措置によりⅠと判定された箇所も添付すること。 | N27: ※ 変状の発生範囲の規模とは、対策を行う際に参考となる変状の長さや面積をいう。
N28: ※ 応急措置を実施しないで決定した変状の対策区分は、対策区分の応急措置後の欄に記入すること。
C29: ※ たたき落としを実施した場合は、実施後の写真を添付すること。 | N29: ※ 変状の発生範囲の規模は、面積・寸法を記載すること。(ひび割れ幅のみmmとし、その他をm表記とする)
C30: ※ 変状数に準じてシートを追加すること。（１シートに１ページとすること。） | N30: ※ 構造用鋼材以外の異物に伴ううき・はく離については、メモ欄に異物の概要を記入すること。

Sheet 様式D-1-1_005
B2: ■定期点検記録様式 変状写真台帳【様式D-1-1】 | R2: 施設ID | T2: 34.31903,131.99436
B3: フリガナ | E3: (ｵﾄﾒｷｮｳﾄﾝﾈﾙ) | H3: 路 線 名 | J3: 一般国道434号 | M3: 定期点検実施者 | P3: 応用地質（株） | S3: 定期点検年月日 | U3: 45845
B4: 名 称 | E4: 乙女峡トンネル | H4: 管理者名 | J4: 山口県岩国土木建築事務所 | P4: 太田 裕之
B5: 写真 番号 | C5: 覆工スパン 番号 | E5: 19 | F5: 余 白 | M5: 写真 番号 | N5: 覆工スパン 番号 | Q5: 余 白
C6: 変状番号 | E6: 1 | N6: 変状番号
B7: 変状 部位 | C7: 対象箇所 | E7: 覆工 | M7: 変状 部位 | N7: 対象箇所
C8: 部位区分 | E8: アーチ（天端） | N8: 部位区分
B9: 変状種類 | E9: 鋼材腐食 | M9: 変状種類
B10: 対策 区分 | C10: 変状区分 | E10: 材質劣化 | M10: 対策 区分 | N10: 変状区分
C11: 応急措置前 | E11: － | N11: 応急措置前
C12: 応急措置後 | E12: Ⅱb | N12: 応急措置後
B13: 変状の発生範囲及び規模 | E13: 0.01㎡（0.05m×0.05m） | H13: 前回変状の発生範囲及び規模 | J13: 0.01㎡（0.05m×0.05m） | M13: 変状の発生範囲及び規模 | S13: 前回変状の発生範囲及び規模
B14: 対策履歴 | E14: なし | H14: 実施状況（実施日） | J14: － | M14: 対策履歴 | S14: 実施状況（実施日）
B15: メモ | E15: 鋼材露出、周辺にうきなし、防錆剤塗布、軽微な為再判定 【前回定期点検 Ⅱa判定】 | M15: メモ
B16: 写真 番号 | C16: 覆工スパン 番号 | F16: 余 白 | M16: 写真 番号 | N16: 覆工スパン 番号 | Q16: 余 白
C17: 変状番号 | N17: 変状番号
B18: 変状 部位 | C18: 対象箇所 | M18: 変状 部位 | N18: 対象箇所
C19: 部位区分 | N19: 部位区分
B20: 変状種類 | M20: 変状種類
B21: 対策 区分 | C21: 変状区分 | M21: 対策 区分 | N21: 変状区分
C22: 応急措置前 | N22: 応急措置前
C23: 応急措置後 | N23: 応急措置後
B24: 変状の発生範囲及び規模 | H24: 前回変状の発生範囲及び規模 | M24: 変状の発生範囲及び規模 | S24: 前回変状の発生範囲及び規模
B25: 対策履歴 | H25: 実施状況（実施日） | M25: 対策履歴 | S25: 実施状況（実施日）
B26: メモ | M26: メモ
C27: ※ 応急措置後の対策区分について添付すること。また、点検前に 実施された措置によりⅠと判定された箇所も添付すること。 | N27: ※ 変状の発生範囲の規模とは、対策を行う際に参考となる変状の長さや面積をいう。
N28: ※ 応急措置を実施しないで決定した変状の対策区分は、対策区分の応急措置後の欄に記入すること。
C29: ※ たたき落としを実施した場合は、実施後の写真を添付すること。 | N29: ※ 変状の発生範囲の規模は、面積・寸法を記載すること。(ひび割れ幅のみmmとし、その他をm表記とする)
C30: ※ 変状数に準じてシートを追加すること。（１シートに１ページとすること。） | N30: ※ 構造用鋼材以外の異物に伴ううき・はく離については、メモ欄に異物の概要を記入すること。

Sheet 様式D-1-1_006
B2: ■定期点検記録様式 変状写真台帳【様式D-1-1】 | R2: 施設ID | T2: 34.31903,131.99436
B3: フリガナ | E3: (ｵﾄﾒｷｮｳﾄﾝﾈﾙ) | H3: 路 線 名 | J3: 一般国道434号 | M3: 定期点検実施者 | P3: 応用地質（株） | S3: 定期点検年月日 | U3: 45845
B4: 名 称 | E4: 乙女峡トンネル | H4: 管理者名 | J4: 山口県岩国土木建築事務所 | P4: 太田 裕之
B5: 写真 番号 | C5: 覆工スパン 番号 | E5: 20 | F5: 余 白 | M5: 写真 番号 | N5: 覆工スパン 番号 | P5: 20 | Q5: 余 白
C6: 変状番号 | E6: 1 | N6: 変状番号 | P6: 2
B7: 変状 部位 | C7: 対象箇所 | E7: 覆工 | M7: 変状 部位 | N7: 対象箇所 | P7: 覆工
C8: 部位区分 | E8: アーチ（天端） | N8: 部位区分 | P8: 横断目地（左側）
B9: 変状種類 | E9: うき・はく離 | M9: 変状種類 | P9: うき・はく離
B10: 対策 区分 | C10: 変状区分 | E10: 材質劣化 | M10: 対策 区分 | N10: 変状区分 | P10: 材質劣化
C11: 応急措置前 | E11: － | N11: 応急措置前 | P11: －
C12: 応急措置後 | E12: Ⅰ | N12: 応急措置後 | P12: Ⅱa
B13: 変状の発生範囲及び規模 | E13: 0.01㎡（0.35m×0.03m） | H13: 前回変状の発生範囲及び規模 | J13: 0.01㎡（0.35m×0.03m） | M13: 変状の発生範囲及び規模 | P13: 0.06㎡（0.55m×0.1m） | S13: 前回変状の発生範囲及び規模 | U13: 0.06㎡（0.55m×0.1m）
B14: 対策履歴 | E14: なし | H14: 実施状況（実施日） | J14: － | M14: 対策履歴 | P14: なし | S14: 実施状況（実施日） | U14: －
B15: メモ | E15: はく落(深さ35mm)、打音異常なし、R02定期点検時に叩き落とし実施(深さ35mm)、浸透固化材塗布 【前回定期点検 Ⅱa判定】 | M15: メモ | P15: うき、ひび割れを伴う、打音異常あり、浸透固化材塗布 【前回定期点検 Ⅱa判定】
B16: 写真 番号 | C16: 覆工スパン 番号 | E16: 20 | F16: 余 白 | M16: 写真 番号 | N16: 覆工スパン 番号 | Q16: 余 白
C17: 変状番号 | E17: 3 | N17: 変状番号
B18: 変状 部位 | C18: 対象箇所 | E18: 覆工 | M18: 変状 部位 | N18: 対象箇所
C19: 部位区分 | E19: アーチ（天端） | N19: 部位区分
B20: 変状種類 | E20: うき・はく離 | M20: 変状種類
B21: 対策 区分 | C21: 変状区分 | E21: 材質劣化 | M21: 対策 区分 | N21: 変状区分
C22: 応急措置前 | E22: － | N22: 応急措置前
C23: 応急措置後 | E23: Ⅰ | N23: 応急措置後
B24: 変状の発生範囲及び規模 | E24: 0.27㎡（0.9m×0.3m） | H24: 前回変状の発生範囲及び規模 | J24: 0.27㎡（0.9m×0.3m） | M24: 変状の発生範囲及び規模 | S24: 前回変状の発生範囲及び規模
B25: 対策履歴 | E25: なし | H25: 実施状況（実施日） | J25: － | M25: 対策履歴 | S25: 実施状況（実施日）
B26: メモ | E26: はく落(深さ25mm)、打音異常なし、R02定期点検時に叩き落とし実施(深さ25mm)、浸透固化材塗布、軽微な為再判定 【前回定期点検 Ⅱa判定】 | M26: メモ
C27: ※ 応急措置後の対策区分について添付すること。また、点検前に 実施された措置によりⅠと判定された箇所も添付すること。 | N27: ※ 変状の発生範囲の規模とは、対策を行う際に参考となる変状の長さや面積をいう。
N28: ※ 応急措置を実施しないで決定した変状の対策区分は、対策区分の応急措置後の欄に記入すること。
C29: ※ たたき落としを実施した場合は、実施後の写真を添付すること。 | N29: ※ 変状の発生範囲の規模は、面積・寸法を記載すること。(ひび割れ幅のみmmとし、その他をm表記とする)
C30: ※ 変状数に準じてシートを追加すること。（１シートに１ページとすること。） | N30: ※ 構造用鋼材以外の異物に伴ううき・はく離については、メモ欄に異物の概要を記入すること。

Sheet 様式D-1-1_007
B2: ■定期点検記録様式 変状写真台帳【様式D-1-1】 | R2: 施設ID | T2: 34.31903,131.99436
B3: フリガナ | E3: (ｵﾄﾒｷｮｳﾄﾝﾈﾙ) | H3: 路 線 名 | J3: 一般国道434号 | M3: 定期点検実施者 | P3: 応用地質（株） | S3: 定期点検年月日 | U3: 45845
B4: 名 称 | E4: 乙女峡トンネル | H4: 管理者名 | J4: 山口県岩国土木建築事務所 | P4: 太田 裕之
B5: 写真 番号 | C5: 覆工スパン 番号 | E5: 23 | F5: 余 白 | M5: 写真 番号 | N5: 覆工スパン 番号 | Q5: 余 白
C6: 変状番号 | E6: 1 | N6: 変状番号
B7: 変状 部位 | C7: 対象箇所 | E7: 覆工 | M7: 変状 部位 | N7: 対象箇所
C8: 部位区分 | E8: 横断目地（右側） | N8: 部位区分
B9: 変状種類 | E9: うき・はく離 | M9: 変状種類
B10: 対策 区分 | C10: 変状区分 | E10: 材質劣化 | M10: 対策 区分 | N10: 変状区分
C11: 応急措置前 | E11: － | N11: 応急措置前
C12: 応急措置後 | E12: Ⅱb | N12: 応急措置後
B13: 変状の発生範囲及び規模 | E13: 2.08㎡（2.6m×0.8m） | H13: 前回変状の発生範囲及び規模 | J13: なし | M13: 変状の発生範囲及び規模 | S13: 前回変状の発生範囲及び規模
B14: 対策履歴 | E14: なし | H14: 実施状況（実施日） | J14: － | M14: 対策履歴 | S14: 実施状況（実施日）
B15: メモ | E15: 半月状のひび割れ(幅0.1mm)、打音異常なし 【今回新たに確認】 | M15: メモ
B16: 写真 番号 | C16: 覆工スパン 番号 | F16: 余 白 | M16: 写真 番号 | N16: 覆工スパン 番号 | Q16: 余 白
C17: 変状番号 | N17: 変状番号
B18: 変状 部位 | C18: 対象箇所 | M18: 変状 部位 | N18: 対象箇所
C19: 部位区分 | N19: 部位区分
B20: 変状種類 | M20: 変状種類
B21: 対策 区分 | C21: 変状区分 | M21: 対策 区分 | N21: 変状区分
C22: 応急措置前 | N22: 応急措置前
C23: 応急措置後 | N23: 応急措置後
B24: 変状の発生範囲及び規模 | H24: 前回変状の発生範囲及び規模 | M24: 変状の発生範囲及び規模 | S24: 前回変状の発生範囲及び規模
B25: 対策履歴 | H25: 実施状況（実施日） | M25: 対策履歴 | S25: 実施状況（実施日）
B26: メモ | M26: メモ
C27: ※ 応急措置後の対策区分について添付すること。また、点検前に 実施された措置によりⅠと判定された箇所も添付すること。 | N27: ※ 変状の発生範囲の規模とは、対策を行う際に参考となる変状の長さや面積をいう。
N28: ※ 応急措置を実施しないで決定した変状の対策区分は、対策区分の応急措置後の欄に記入すること。
C29: ※ たたき落としを実施した場合は、実施後の写真を添付すること。 | N29: ※ 変状の発生範囲の規模は、面積・寸法を記載すること。(ひび割れ幅のみmmとし、その他をm表記とする)
C30: ※ 変状数に準じてシートを追加すること。（１シートに１ページとすること。） | N30: ※ 構造用鋼材以外の異物に伴ううき・はく離については、メモ欄に異物の概要を記入すること。

Sheet 様式D-1-1_008
B2: ■定期点検記録様式 変状写真台帳【様式D-1-1】 | R2: 施設ID | T2: 34.31903,131.99436
B3: フリガナ | E3: (ｵﾄﾒｷｮｳﾄﾝﾈﾙ) | H3: 路 線 名 | J3: 一般国道434号 | M3: 定期点検実施者 | P3: 応用地質（株） | S3: 定期点検年月日 | U3: 45845
B4: 名 称 | E4: 乙女峡トンネル | H4: 管理者名 | J4: 山口県岩国土木建築事務所 | P4: 太田 裕之
B5: 写真 番号 | C5: 覆工スパン 番号 | E5: 30 | F5: 余 白 | M5: 写真 番号 | N5: 覆工スパン 番号 | Q5: 余 白
C6: 変状番号 | E6: 1 | N6: 変状番号
B7: 変状 部位 | C7: 対象箇所 | E7: 覆工 | M7: 変状 部位 | N7: 対象箇所
C8: 部位区分 | E8: 横断目地（天端） | N8: 部位区分
B9: 変状種類 | E9: うき・はく離 | M9: 変状種類
B10: 対策 区分 | C10: 変状区分 | E10: 材質劣化 | M10: 対策 区分 | N10: 変状区分
C11: 応急措置前 | E11: － | N11: 応急措置前
C12: 応急措置後 | E12: Ⅱa | N12: 応急措置後
B13: 変状の発生範囲及び規模 | E13: 0.02㎡（0.3m×0.05m） | H13: 前回変状の発生範囲及び規模 | J13: 0.01㎡（0.25m×0.05m） | M13: 変状の発生範囲及び規模 | S13: 前回変状の発生範囲及び規模
B14: 対策履歴 | E14: なし | H14: 実施状況（実施日） | J14: － | M14: 対策履歴 | S14: 実施状況（実施日）
B15: メモ | E15: うき、ひび割れを伴う、打音異常あり、進行性あり、浸透固化材塗布 【前回定期点検 Ⅱa判定】 | M15: メモ
B16: 写真 番号 | C16: 覆工スパン 番号 | F16: 余 白 | M16: 写真 番号 | N16: 覆工スパン 番号 | Q16: 余 白
C17: 変状番号 | N17: 変状番号
B18: 変状 部位 | C18: 対象箇所 | M18: 変状 部位 | N18: 対象箇所
C19: 部位区分 | N19: 部位区分
B20: 変状種類 | M20: 変状種類
B21: 対策 区分 | C21: 変状区分 | M21: 対策 区分 | N21: 変状区分
C22: 応急措置前 | N22: 応急措置前
C23: 応急措置後 | N23: 応急措置後
B24: 変状の発生範囲及び規模 | H24: 前回変状の発生範囲及び規模 | M24: 変状の発生範囲及び規模 | S24: 前回変状の発生範囲及び規模
B25: 対策履歴 | H25: 実施状況（実施日） | M25: 対策履歴 | S25: 実施状況（実施日）
B26: メモ | M26: メモ
C27: ※ 応急措置後の対策区分について添付すること。また、点検前に 実施された措置によりⅠと判定された箇所も添付すること。 | N27: ※ 変状の発生範囲の規模とは、対策を行う際に参考となる変状の長さや面積をいう。
N28: ※ 応急措置を実施しないで決定した変状の対策区分は、対策区分の応急措置後の欄に記入すること。
C29: ※ たたき落としを実施した場合は、実施後の写真を添付すること。 | N29: ※ 変状の発生範囲の規模は、面積・寸法を記載すること。(ひび割れ幅のみmmとし、その他をm表記とする)
C30: ※ 変状数に準じてシートを追加すること。（１シートに１ページとすること。） | N30: ※ 構造用鋼材以外の異物に伴ううき・はく離については、メモ欄に異物の概要を記入すること。

Sheet 様式D-1-1_009
B2: ■定期点検記録様式 変状写真台帳【様式D-1-1】 | R2: 施設ID | T2: 34.31903,131.99436
B3: フリガナ | E3: (ｵﾄﾒｷｮｳﾄﾝﾈﾙ) | H3: 路 線 名 | J3: 一般国道434号 | M3: 定期点検実施者 | P3: 応用地質（株） | S3: 定期点検年月日 | U3: 45845
B4: 名 称 | E4: 乙女峡トンネル | H4: 管理者名 | J4: 山口県岩国土木建築事務所 | P4: 太田 裕之
B5: 写真 番号 | C5: 覆工スパン 番号 | E5: 31 | F5: 余 白 | M5: 写真 番号 | N5: 覆工スパン 番号 | Q5: 余 白
C6: 変状番号 | E6: 1 | N6: 変状番号
B7: 変状 部位 | C7: 対象箇所 | E7: 覆工 | M7: 変状 部位 | N7: 対象箇所
C8: 部位区分 | E8: アーチ（左側） | N8: 部位区分
B9: 変状種類 | E9: 圧ざ、ひび割れ | M9: 変状種類
B10: 対策 区分 | C10: 変状区分 | E10: 外力 | M10: 対策 区分 | N10: 変状区分
C11: 応急措置前 | E11: － | N11: 応急措置前
C12: 応急措置後 | E12: Ⅱb | N12: 応急措置後
B13: 変状の発生範囲及び規模 | E13: 長さ7.7m×幅1mm | H13: 前回変状の発生範囲及び規模 | J13: 長さ7.7m×幅1mm | M13: 変状の発生範囲及び規模 | S13: 前回変状の発生範囲及び規模
B14: 対策履歴 | E14: なし | H14: 実施状況（実施日） | J14: － | M14: 対策履歴 | S14: 実施状況（実施日）
B15: メモ | E15: 横断方向のひび割れ(幅0.4mm～1.5mm) 【前回定期点検 Ⅱb判定】 | M15: メモ
B16: 写真 番号 | C16: 覆工スパン 番号 | F16: 余 白 | M16: 写真 番号 | N16: 覆工スパン 番号 | Q16: 余 白
C17: 変状番号 | N17: 変状番号
B18: 変状 部位 | C18: 対象箇所 | M18: 変状 部位 | N18: 対象箇所
C19: 部位区分 | N19: 部位区分
B20: 変状種類 | M20: 変状種類
B21: 対策 区分 | C21: 変状区分 | M21: 対策 区分 | N21: 変状区分
C22: 応急措置前 | N22: 応急措置前
C23: 応急措置後 | N23: 応急措置後
B24: 変状の発生範囲及び規模 | H24: 前回変状の発生範囲及び規模 | M24: 変状の発生範囲及び規模 | S24: 前回変状の発生範囲及び規模
B25: 対策履歴 | H25: 実施状況（実施日） | M25: 対策履歴 | S25: 実施状況（実施日）
B26: メモ | M26: メモ
C27: ※ 応急措置後の対策区分について添付すること。また、点検前に 実施された措置によりⅠと判定された箇所も添付すること。 | N27: ※ 変状の発生範囲の規模とは、対策を行う際に参考となる変状の長さや面積をいう。
N28: ※ 応急措置を実施しないで決定した変状の対策区分は、対策区分の応急措置後の欄に記入すること。
C29: ※ たたき落としを実施した場合は、実施後の写真を添付すること。 | N29: ※ 変状の発生範囲の規模は、面積・寸法を記載すること。(ひび割れ幅のみmmとし、その他をm表記とする)
C30: ※ 変状数に準じてシートを追加すること。（１シートに１ページとすること。） | N30: ※ 構造用鋼材以外の異物に伴ううき・はく離については、メモ欄に異物の概要を記入すること。

Sheet 様式D-1-2
B2: ■定期点検記録様式 異常写真台帳（トンネル内附属物等の取付状態） 【様式D-1-2】
B3: フリガナ | E3: (ｵﾄﾒｷｮｳﾄﾝﾈﾙ) | I3: 路 線 名 | L3: 一般国道434号 | O3: 定期点検実施者 | R3: 応用地質（株） | U3: 定期点検年月日 | W3: 45845
B4: 名 称 | E4: 乙女峡トンネル | I4: 管理者名 | L4: 山口県岩国土木建築事務所 | R4: 太田 裕之
B5: 覆工スパン番号 | E5: 19 | F5: 異常番号 | I5: 1 | J5: 覆工スパン番号 | M5: 24 | N5: 異常番号 | Q5: 1 | R5: 覆工スパン番号 | U5: 27 | V5: 異常番号 | Y5: 1
B6: 対象箇所 | D6: その他施設 | E6: その他 | J6: 対象箇所 | L6: 照明施設 | M6: 灯具 | R6: 対象箇所 | T6: 照明施設 | U6: 灯具
B7: 部位区分 | D7: 取付部材 | F7: 異常の種類 | H7: 緩み、脱落 | J7: 部位区分 | L7: 附属物本体 | N7: 異常の種類 | P7: 腐食 | R7: 部位区分 | T7: ボルト・ナット，アンカー類 | V7: 異常の種類 | X7: がたつき
B8: 異常判定区分 | D8: × | E8: メモ | F8: デリネーター傾倒、ぐらつきあり、仮固定実施 | J8: 異常判定区分 | L8: × | M8: メモ | N8: 照明腐食、孔食あり、防錆剤塗布 | R8: 異常判定区分 | T8: × | U8: メモ | V8: ケーブル取付金具ゆるみ、増し締め不可
B9: 余 白 | J9: 余 白 | R9: 余 白
B22: 覆工スパン番号 | F22: 異常番号 | J22: 覆工スパン番号 | N22: 異常番号 | R22: 覆工スパン番号 | V22: 異常番号
B23: 対象箇所 | J23: 対象箇所 | R23: 対象箇所
B24: 部位区分 | F24: 異常の種類 | J24: 部位区分 | N24: 異常の種類 | R24: 部位区分 | V24: 異常の種類
B25: 異常判定区分 | E25: メモ | J25: 異常判定区分 | M25: メモ | R25: 異常判定区分 | U25: メモ
B26: 余 白 | J26: 余 白 | R26: 余 白
C39: ※ 異常判定区分×について記入すること。また、応急措置前に異常判定区分×とした箇所のうち応急措置により○と判定した箇所も記入すること。
C40: ※ 応急措置を実施した場合は、その実施状況が分かる写真を添付すること。
C41: ※ 変状数に準じてシートを追加すること。（１シートに１ページとすること。）

Sheet 様式D-2-1
B3: ■定期点検記録様式 トンネル全体変状展開図 【様式D-2-1】
B4: フリガナ | E4: (ｵﾄﾒｷｮｳﾄﾝﾈﾙ) | J4: 路線名 | M4: 一般国道434号 | S4: 定期点検実施者 | W4: 応用地質（株） | AC4: 定期点検年月日 | AF4: 45845
B5: 名 称 | E5: 乙女峡トンネル | J5: 管理者名 | M5: 山口県岩国土木建築事務所 | W5: 太田 裕之
B6: トンネル変状展開図 | C6: トンネル全体変状展開図
V18: 注１：本展開図は、見下げた状態で記載すること。 注２：覆工スパン番号は横断目地毎（矢板工法の場合は上半アーチ の横断目地毎)に設定すること。 注３：横断目地の変状は前の覆工スパン番号で計上すること。 注４：１枚に収まらない場合は、複数枚に分けて作成すること。

Sheet 様式D-2-1´_001
B3: ■定期点検記録様式 トンネル全体変状展開図（機器の活用時） 【様式D-2-1’】
B4: フリガナ | E4: (ｵﾄﾒｷｮｳﾄﾝﾈﾙ) | J4: 路線名 | M4: 一般国道434号 | S4: 定期点検実施者 | W4: 応用地質（株） | AC4: 定期点検年月日 | AF4: 45845
B5: 名 称 | E5: 乙女峡トンネル | J5: 管理者名 | M5: 山口県岩国土木建築事務所 | W5: 太田 裕之
B6: トンネル変状展開図 | C6: トンネル全体変状展開図
V18: 注１：本展開図は、見下げた状態で記載すること。 注２：覆工スパン番号は横断目地毎（矢板工法の場合は上半アーチ の横断目地毎)に設定すること。 注３：横断目地の変状は前の覆工スパン番号で計上すること。 注４：１枚に収まらない場合は、複数枚に分けて作成すること。 注５：覆工写真の画像サイズは500kb程度とすること。

Sheet 様式D-2-1´_002
B3: ■定期点検記録様式 トンネル全体変状展開図（機器の活用時） 【様式D-2-1’】
B4: フリガナ | E4: (ｵﾄﾒｷｮｳﾄﾝﾈﾙ) | J4: 路線名 | M4: 一般国道434号 | S4: 定期点検実施者 | W4: 応用地質（株） | AC4: 定期点検年月日 | AF4: 45845
B5: 名 称 | E5: 乙女峡トンネル | J5: 管理者名 | M5: 山口県岩国土木建築事務所 | W5: 太田 裕之
B6: トンネル変状展開図 | C6: トンネル全体変状展開図
V18: 注１：本展開図は、見下げた状態で記載すること。 注２：覆工スパン番号は横断目地毎（矢板工法の場合は上半アーチ の横断目地毎)に設定すること。 注３：横断目地の変状は前の覆工スパン番号で計上すること。 注４：１枚に収まらない場合は、複数枚に分けて作成すること。 注５：覆工写真の画像サイズは500kb程度とすること。

Sheet 様式D-2-1´_003
B3: ■定期点検記録様式 トンネル全体変状展開図（機器の活用時） 【様式D-2-1’】
B4: フリガナ | E4: (ｵﾄﾒｷｮｳﾄﾝﾈﾙ) | J4: 路線名 | M4: 一般国道434号 | S4: 定期点検実施者 | W4: 応用地質（株） | AC4: 定期点検年月日 | AF4: 45845
B5: 名 称 | E5: 乙女峡トンネル | J5: 管理者名 | M5: 山口県岩国土木建築事務所 | W5: 太田 裕之
B6: トンネル変状展開図 | C6: トンネル全体変状展開図
V18: 注１：本展開図は、見下げた状態で記載すること。 注２：覆工スパン番号は横断目地毎（矢板工法の場合は上半アーチ の横断目地毎)に設定すること。 注３：横断目地の変状は前の覆工スパン番号で計上すること。 注４：１枚に収まらない場合は、複数枚に分けて作成すること。 注５：覆工写真の画像サイズは500kb程度とすること。

Sheet 様式D-2-1´_004
B3: ■定期点検記録様式 トンネル全体変状展開図（機器の活用時） 【様式D-2-1’】
B4: フリガナ | E4: (ｵﾄﾒｷｮｳﾄﾝﾈﾙ) | J4: 路線名 | M4: 一般国道434号 | S4: 定期点検実施者 | W4: 応用地質（株） | AC4: 定期点検年月日 | AF4: 45845
B5: 名 称 | E5: 乙女峡トンネル | J5: 管理者名 | M5: 山口県岩国土木建築事務所 | W5: 太田 裕之
B6: トンネル変状展開図 | C6: トンネル全体変状展開図
V18: 注１：本展開図は、見下げた状態で記載すること。 注２：覆工スパン番号は横断目地毎（矢板工法の場合は上半アーチ の横断目地毎)に設定すること。 注３：横断目地の変状は前の覆工スパン番号で計上すること。 注４：１枚に収まらない場合は、複数枚に分けて作成すること。 注５：覆工写真の画像サイズは500kb程度とすること。

Sheet 様式D-3_PS
AU1: 様式F用→ | AV1: 覆工スパン | AY1: 変 状 数 | BK1: 変 状 規 模
AV2: 番号 | AW2: 延長 （ｍ） | AX2: 健全性の診断の 区分 | AY2: 対策区分の判定 | BK2: 覆工スパン長（ｍ） | BO2: 変状の発生範囲の規模（㎡）
B3: ■定期点検記録様式 覆工スパン別変状詳細展開図 【様式D-3】 | AY3: 外力 | BC3: 材質劣化 | BG3: 漏水 | BK3: 外力 注2 | BO3: 材質劣化 | BS3: 漏水
B4: フリガナ | E4: (ｵﾄﾒｷｮｳﾄﾝﾈﾙ) | K4: 路線名 | N4: 一般国道434号 | T4: 定期点検業者 | Y4: 応用地質（株） | AG4: 定期点検年月日 | AK4: 45845 | AY4: Ⅳ | AZ4: Ⅲ | BA4: Ⅱa | BB4: Ⅱb | BC4: Ⅳ | BD4: Ⅲ | BE4: Ⅱa | BF4: Ⅱb | BG4: Ⅳ | BH4: Ⅲ | BI4: Ⅱa | BJ4: Ⅱb | BK4: Ⅳ | BL4: Ⅲ | BM4: Ⅱa | BN4: Ⅱb | BO4: Ⅳ | BP4: Ⅲ | BQ4: Ⅱa | BR4: Ⅱb | BS4: Ⅳ | BT4: Ⅲ | BU4: Ⅱa | BV4: Ⅱb
B5: 名 称 | E5: 乙女峡トンネル | K5: 管理者名 | N5: 山口県岩国土木建築事務所 | Y5: 太田 裕之 | AV5: =N7 -> PS | AW5: =R7 -> 0 | AX5: =AM35 -> Ⅰ | AY5: =IF(Y37>0,Y37,"") | AZ5: =IF(Y37>0,"",IF(Z37>0,Z37,"")) | BA5: =IF(Y37+Z37>0,"",IF(AA37>0,AA37,"")) | BB5: =IF(Y37+Z37+AA37>0,"",IF(AB37>0,AB37,"")) | BC5: =AC37 -> 0 | BD5: =AD37 -> 0 | BE5: =AE37 -> 0 | BF5: =AF37 -> 0 | BG5: =AG37 -> 0 | BH5: =AH37 -> 0 | BI5: =AI37 -> 0 | BJ5: =AJ37 -> 0 | BK5: =IF(Y37>0,R7,"") | BL5: =IF(Y37>0,"",IF(Z37>0,R7,"")) | BM5: =IF(Y37+Z37>0,"",IF(AA37>0,R7,"")) | BN5: =IF(Y37+Z37+AA37>0,"",IF(AB37>0,R7,"")) | BO5: =AC35 -> 0 | BP5: =AD35 -> 0 | BQ5: =AE35 -> 0 | BR5: =AF35 -> 0 | BS5: =AG35 -> 0 | BT5: =AH35 -> 0 | BU5: =AI35 -> 0 | BV5: =AJ35 -> 0
B6: スパン別変状展開図 | K6: 【健全性判定集計表】
K7: スパン番号 | N7: PS | P7: スパン長 | R7: 0 | U7: 前回定期点検時の判定 | W7: 応急措置前の判定 | Y7: 対策区分毎の 変状の有無 | AC7: 対策区分毎の変状の発生範囲の規模(㎡) | AK7: 備考注2
K8: 変状番号 | L8: 対象箇所 | N8: 部位区分 | P8: 変状区分 | R8: 変状種類
Y9: 外力注1 | AC9: 材質劣化注1 | AG9: 漏水注1
Y10: Ⅳ | Z10: Ⅲ | AA10: Ⅱa | AB10: Ⅱb | AC10: Ⅳ | AD10: Ⅲ | AE10: Ⅱa | AF10: Ⅱb | AG10: Ⅳ | AH10: Ⅲ | AI10: Ⅱa | AJ10: Ⅱb
K11: 1 | AQ11: =IF(P11="材質劣化",2,IF(P11="漏水",3,1)) -> 1
K12: 2 | AQ12: =IF(P12="材質劣化",2,IF(P12="漏水",3,1)) -> 1
K13: 3 | AQ13: =IF(P13="材質劣化",2,IF(P13="漏水",3,1)) -> 1
K14: 4 | AQ14: =IF(P14="材質劣化",2,IF(P14="漏水",3,1)) -> 1
K15: 5 | AQ15: =IF(P15="材質劣化",2,IF(P15="漏水",3,1)) -> 1
K16: 6 | AQ16: =IF(P16="材質劣化",2,IF(P16="漏水",3,1)) -> 1
K17: 7 | AQ17: =IF(P17="材質劣化",2,IF(P17="漏水",3,1)) -> 1
K18: 8 | AQ18: =IF(P18="材質劣化",2,IF(P18="漏水",3,1)) -> 1
K19: 9 | AQ19: =IF(P19="材質劣化",2,IF(P19="漏水",3,1)) -> 1
K20: 10 | AQ20: =IF(P20="材質劣化",2,IF(P20="漏水",3,1)) -> 1
K21: 11 | AQ21: =IF(P21="材質劣化",2,IF(P21="漏水",3,1)) -> 1
K22: 12 | AQ22: =IF(P22="材質劣化",2,IF(P22="漏水",3,1)) -> 1
... K27: 17 | AQ27: =IF(P27="材質劣化",2,IF(P27="漏水",3,1)) -> 1
K28: 18 | AQ28: =IF(P30="材質劣化",2,IF(P30="漏水",3,1)) -> 1
K29: 19 | AQ29: =IF(P34="材質劣化",2,IF(P34="漏水",3,1)) -> 1
K30: 20 | AQ30: =IF(P30="材質劣化",2,IF(P30="漏水",3,1)) -> 1
K31: 21 | AQ31: =IF(P33="材質劣化",2,IF(P33="漏水",3,1)) -> 1
K32: 22 | AQ32: =IF(P37="材質劣化",2,IF(P37="漏水",3,1)) -> 1
K33: 23 | AQ33: =IF(P33="材質劣化",2,IF(P33="漏水",3,1)) -> 1
K34: 24 | AQ34: =IF(P36="材質劣化",2,IF(P36="漏水",3,1)) -> 1
K35: 集計 判定 診断 | L35: 変状の発生規模合計(㎡) | Y35: － | AC35: =SUM(AC11:AC34) -> 0 | AD35: =SUM(AD11:AD34) -> 0 | AE35: =SUM(AE11:AE34) -> 0 | AF35: =SUM(AF11:AF34) -> 0 | AG35: =SUM(AG11:AG34) -> 0 | AH35: =SUM(AH11:AH34) -> 0 | AI35: =SUM(AI11:AI34) -> 0 | AJ35: =SUM(AJ11:AJ34) -> 0 | AK35: 覆工スパン単位の 健全性の 診断の区分 | AM35: Ⅰ
L36: 対策区分の 判定結果 | O36: 対策区分毎の変状数注3 | Y36: Ⅳ | Z36: Ⅲ | AA36: Ⅱa | AB36: Ⅱb | AC36: Ⅳ | AD36: Ⅲ | AE36: Ⅱa | AF36: Ⅱb | AG36: Ⅳ | AH36: Ⅲ | AI36: Ⅱa | AJ36: Ⅱb
Y37: =IF(COUNTIF(Y11:Y34,"〇")>0,1,0) -> 0 | Z37: =IF(COUNTIF(Z11:Z34,"〇")>0,1,0) -> 0 | AA37: =IF(COUNTIF(AA11:AA34,"〇")>0,1,0) -> 0 | AB37: =IF(COUNTIF(AB11:AB34,"〇")>0,1,0) -> 0 | AC37: =COUNTA(AC11:AC34) -> 0 | AD37: =COUNTA(AD11:AD34) -> 0 | AE37: =COUNTA(AE11:AE34) -> 0 | AF37: =COUNTA(AF11:AF34) -> 0 | AG37: =COUNTA(AG11:AG34) -> 0 | AH37: =COUNTA(AH11:AH34) -> 0 | AI37: =COUNTA(AI11:AI34) -> 0 | AJ37: =COUNTA(AJ11:AJ34) -> 0
K39: 所見 | L39: 【 外 力 】監視を必要としない。 【材質劣化】監視を必要としない。 【 漏 水 】監視を必要としない。 以上により本スパンの判定はⅠ判定となる。
K43: 注1：誤記入防止のため、当該変状区分以外のセルは灰色表示とすること。
K44: 注2：応急措置を実施した場合は、その詳細を備考に記載すること。
K45: 注3：外力は覆工スパン単位、材質劣化、漏水は変状単位とすること。
B46: （以下、印刷不要）
B47: ※1：本シートは作成洩れのないよう、変状が無くても全スパン分を作成すること．また変状展開図は、様式D-2-1、様式D-2-1'と同じものを覆工スパン単位で拡大し掲載すること。
B48: ※2：変状番号は、様式D-1-1で記入した番号と整合させること。
B49: ※3：対策区分毎の変状発生規模は、様式D-1-1に記載した面積を記入すること（ただし外力はスパン単位で評価するため変状の有無の欄には面積でなく○を記入し、備考欄に状況を記入）。
B50: ※4：本様式は覆工スパン毎に作成すること。
B51: ※5：変状数が多い場合は、適時、表の行を増やして覆工スパン毎に1枚のシートに収めること。また、1スパン１シートとし、スパンに合わせてシートを追加すること。
B52: ※6：対策区分毎の変状の発生範囲の規模とは，対策を行う際に参考となる変状の長さや面積であり，変状を包含する長さや面積とする。
B53: ※7：対策範囲を示す発生範囲の規模を面積で記入することが妥当ではない変状は、発生範囲の規模の欄に○を記入するとともに、備考に内容を記入すること。

Sheet 様式D-3_S001
AU1: 様式F用→ | AV1: 覆工スパン | AY1: 変 状 数 | BK1: 変 状 規 模
AV2: 番号 | AW2: 延長 （ｍ） | AX2: 健全性の診断の 区分 | AY2: 対策区分の判定 | BK2: 覆工スパン長（ｍ） | BO2: 変状の発生範囲の規模（㎡）
B3: ■定期点検記録様式 覆工スパン別変状詳細展開図 【様式D-3】 | AY3: 外力 | BC3: 材質劣化 | BG3: 漏水 | BK3: 外力 注2 | BO3: 材質劣化 | BS3: 漏水
B4: フリガナ | E4: (ｵﾄﾒｷｮｳﾄﾝﾈﾙ) | K4: 路線名 | N4: 一般国道434号 | T4: 定期点検業者 | Y4: 応用地質（株） | AG4: 定期点検年月日 | AK4: 45845 | AY4: Ⅳ | AZ4: Ⅲ | BA4: Ⅱa | BB4: Ⅱb | BC4: Ⅳ | BD4: Ⅲ | BE4: Ⅱa | BF4: Ⅱb | BG4: Ⅳ | BH4: Ⅲ | BI4: Ⅱa | BJ4: Ⅱb | BK4: Ⅳ | BL4: Ⅲ | BM4: Ⅱa | BN4: Ⅱb | BO4: Ⅳ | BP4: Ⅲ | BQ4: Ⅱa | BR4: Ⅱb | BS4: Ⅳ | BT4: Ⅲ | BU4: Ⅱa | BV4: Ⅱb
B5: 名 称 | E5: 乙女峡トンネル | K5: 管理者名 | N5: 山口県岩国土木建築事務所 | Y5: 太田 裕之 | AV5: =N7 -> 1 | AW5: =R7 -> 8.5 | AX5: =AM35 -> Ⅱ | AY5: =IF(Y37>0,Y37,"") | AZ5: =IF(Y37>0,"",IF(Z37>0,Z37,"")) | BA5: =IF(Y37+Z37>0,"",IF(AA37>0,AA37,"")) | BB5: =IF(Y37+Z37+AA37>0,"",IF(AB37>0,AB37,"")) | BC5: =AC37 -> 0 | BD5: =AD37 -> 0 | BE5: =AE37 -> 1 | BF5: =AF37 -> 0 | BG5: =AG37 -> 0 | BH5: =AH37 -> 0 | BI5: =AI37 -> 0 | BJ5: =AJ37 -> 0 | BK5: =IF(Y37>0,R7,"") | BL5: =IF(Y37>0,"",IF(Z37>0,R7,"")) | BM5: =IF(Y37+Z37>0,"",IF(AA37>0,R7,"")) | BN5: =IF(Y37+Z37+AA37>0,"",IF(AB37>0,R7,"")) | BO5: =AC35 -> 0 | BP5: =AD35 -> 0 | BQ5: =AE35 -> 3.24 | BR5: =AF35 -> 0 | BS5: =AG35 -> 0 | BT5: =AH35 -> 0 | BU5: =AI35 -> 0 | BV5: =AJ35 -> 0
B6: スパン別変状展開図 | K6: 【健全性判定集計表】
K7: スパン番号 | N7: 1 | P7: スパン長 | R7: 8.5 | U7: 前回定期点検時の判定 | W7: 応急措置前の判定 | Y7: 対策区分毎の 変状の有無 | AC7: 対策区分毎の変状の発生範囲の規模(㎡) | AK7: 備考注2
K8: 変状番号 | L8: 対象箇所 | N8: 部位区分 | P8: 変状区分 | R8: 変状種類
Y9: 外力注1 | AC9: 材質劣化注1 | AG9: 漏水注1
Y10: Ⅳ | Z10: Ⅲ | AA10: Ⅱa | AB10: Ⅱb | AC10: Ⅳ | AD10: Ⅲ | AE10: Ⅱa | AF10: Ⅱb | AG10: Ⅳ | AH10: Ⅲ | AI10: Ⅱa | AJ10: Ⅱb
K11: 1 | L11: 覆工 | N11: アーチ（天端） | P11: 材質劣化 | R11: うき・はく離 | U11: Ⅱa | W11: － | AE11: 3.24 | AQ11: =IF(P11="材質劣化",2,IF(P11="漏水",3,1)) -> 2
K12: 2 | AQ12: =IF(P12="材質劣化",2,IF(P12="漏水",3,1)) -> 1
K13: 3 | AQ13: =IF(P13="材質劣化",2,IF(P13="漏水",3,1)) -> 1
K14: 4 | AQ14: =IF(P14="材質劣化",2,IF(P14="漏水",3,1)) -> 1
K15: 5 | AQ15: =IF(P15="材質劣化",2,IF(P15="漏水",3,1)) -> 1
K16: 6 | AQ16: =IF(P16="材質劣化",2,IF(P16="漏水",3,1)) -> 1
K17: 7 | AQ17: =IF(P17="材質劣化",2,IF(P17="漏水",3,1)) -> 1
K18: 8 | AQ18: =IF(P18="材質劣化",2,IF(P18="漏水",3,1)) -> 1
K19: 9 | AQ19: =IF(P19="材質劣化",2,IF(P19="漏水",3,1)) -> 1
K20: 10 | AQ20: =IF(P20="材質劣化",2,IF(P20="漏水",3,1)) -> 1
K21: 11 | AQ21: =IF(P21="材質劣化",2,IF(P21="漏水",3,1)) -> 1
K22: 12 | AQ22: =IF(P22="材質劣化",2,IF(P22="漏水",3,1)) -> 1
K23: 13 | AQ23: =IF(P23="材質劣化",2,IF(P23="漏水",3,1)) -> 1
... K27: 17 | AQ27: =IF(P27="材質劣化",2,IF(P27="漏水",3,1)) -> 1
K28: 18 | AQ28: =IF(P30="材質劣化",2,IF(P30="漏水",3,1)) -> 1
K29: 19 | AQ29: =IF(P34="材質劣化",2,IF(P34="漏水",3,1)) -> 1
K30: 20 | AQ30: =IF(P30="材質劣化",2,IF(P30="漏水",3,1)) -> 1
K31: 21 | AQ31: =IF(P33="材質劣化",2,IF(P33="漏水",3,1)) -> 1
K32: 22 | AQ32: =IF(P37="材質劣化",2,IF(P37="漏水",3,1)) -> 1
K33: 23 | AQ33: =IF(P33="材質劣化",2,IF(P33="漏水",3,1)) -> 1
K34: 24 | AQ34: =IF(P36="材質劣化",2,IF(P36="漏水",3,1)) -> 1
K35: 集計 判定 診断 | L35: 変状の発生規模合計(㎡) | Y35: － | AC35: =SUM(AC11:AC34) -> 0 | AD35: =SUM(AD11:AD34) -> 0 | AE35: =SUM(AE11:AE34) -> 3.24 | AF35: =SUM(AF11:AF34) -> 0 | AG35: =SUM(AG11:AG34) -> 0 | AH35: =SUM(AH11:AH34) -> 0 | AI35: =SUM(AI11:AI34) -> 0 | AJ35: =SUM(AJ11:AJ34) -> 0 | AK35: 覆工スパン単位の 健全性の 診断の区分 | AM35: Ⅱ
L36: 対策区分の 判定結果 | O36: 対策区分毎の変状数注3 | Y36: Ⅳ | Z36: Ⅲ | AA36: Ⅱa | AB36: Ⅱb | AC36: Ⅳ | AD36: Ⅲ | AE36: Ⅱa | AF36: Ⅱb | AG36: Ⅳ | AH36: Ⅲ | AI36: Ⅱa | AJ36: Ⅱb
Y37: =IF(COUNTIF(Y11:Y34,"〇")>0,1,0) -> 0 | Z37: =IF(COUNTIF(Z11:Z34,"〇")>0,1,0) -> 0 | AA37: =IF(COUNTIF(AA11:AA34,"〇")>0,1,0) -> 0 | AB37: =IF(COUNTIF(AB11:AB34,"〇")>0,1,0) -> 0 | AC37: =COUNTA(AC11:AC34) -> 0 | AD37: =COUNTA(AD11:AD34) -> 0 | AE37: =COUNTA(AE11:AE34) -> 1 | AF37: =COUNTA(AF11:AF34) -> 0 | AG37: =COUNTA(AG11:AG34) -> 0 | AH37: =COUNTA(AH11:AH34) -> 0 | AI37: =COUNTA(AI11:AI34) -> 0 | AJ37: =COUNTA(AJ11:AJ34) -> 0
K39: 所見 | L39: 【 外 力 】監視を必要としない。 【材質劣化】次回点検まで重点的な監視、または計画的な対策を必要とする。 【 漏 水 】監視を必要としない。 以上により本スパンの判定はⅡa判定となる。
K43: 注1：誤記入防止のため、当該変状区分以外のセルは灰色表示とすること。
K44: 注2：応急措置を実施した場合は、その詳細を備考に記載すること。
K45: 注3：外力は覆工スパン単位、材質劣化、漏水は変状単位とすること。
B46: （以下、印刷不要）
B47: ※1：本シートは作成洩れのないよう、変状が無くても全スパン分を作成すること．また変状展開図は、様式D-2-1、様式D-2-1'と同じものを覆工スパン単位で拡大し掲載すること。
B48: ※2：変状番号は、様式D-1-1で記入した番号と整合させること。
B49: ※3：対策区分毎の変状発生規模は、様式D-1-1に記載した面積を記入すること（ただし外力はスパン単位で評価するため変状の有無の欄には面積でなく○を記入し、備考欄に状況を記入）。
B50: ※4：本様式は覆工スパン毎に作成すること。
B51: ※5：変状数が多い場合は、適時、表の行を増やして覆工スパン毎に1枚のシートに収めること。また、1スパン１シートとし、スパンに合わせてシートを追加すること。
B52: ※6：対策区分毎の変状の発生範囲の規模とは，対策を行う際に参考となる変状の長さや面積であり，変状を包含する長さや面積とする。
B53: ※7：対策範囲を示す発生範囲の規模を面積で記入することが妥当ではない変状は、発生範囲の規模の欄に○を記入するとともに、備考に内容を記入すること。

Sheet 様式D-3_S002
AU1: 様式F用→ | AV1: 覆工スパン | AY1: 変 状 数 | BK1: 変 状 規 模
AV2: 番号 | AW2: 延長 （ｍ） | AX2: 健全性の診断の 区分 | AY2: 対策区分の判定 | BK2: 覆工スパン長（ｍ） | BO2: 変状の発生範囲の規模（㎡）
B3: ■定期点検記録様式 覆工スパン別変状詳細展開図 【様式D-3】 | AY3: 外力 | BC3: 材質劣化 | BG3: 漏水 | BK3: 外力 注2 | BO3: 材質劣化 | BS3: 漏水
B4: フリガナ | E4: (ｵﾄﾒｷｮｳﾄﾝﾈﾙ) | K4: 路線名 | N4: 一般国道434号 | T4: 定期点検業者 | Y4: 応用地質（株） | AG4: 定期点検年月日 | AK4: 45845 | AY4: Ⅳ | AZ4: Ⅲ | BA4: Ⅱa | BB4: Ⅱb | BC4: Ⅳ | BD4: Ⅲ | BE4: Ⅱa | BF4: Ⅱb | BG4: Ⅳ | BH4: Ⅲ | BI4: Ⅱa | BJ4: Ⅱb | BK4: Ⅳ | BL4: Ⅲ | BM4: Ⅱa | BN4: Ⅱb | BO4: Ⅳ | BP4: Ⅲ | BQ4: Ⅱa | BR4: Ⅱb | BS4: Ⅳ | BT4: Ⅲ | BU4: Ⅱa | BV4: Ⅱb
B5: 名 称 | E5: 乙女峡トンネル | K5: 管理者名 | N5: 山口県岩国土木建築事務所 | Y5: 太田 裕之 | AV5: =N7 -> 2 | AW5: =R7 -> 10.5 | AX5: =AM35 -> Ⅰ | AY5: =IF(Y37>0,Y37,"") | AZ5: =IF(Y37>0,"",IF(Z37>0,Z37,"")) | BA5: =IF(Y37+Z37>0,"",IF(AA37>0,AA37,"")) | BB5: =IF(Y37+Z37+AA37>0,"",IF(AB37>0,AB37,"")) | BC5: =AC37 -> 0 | BD5: =AD37 -> 0 | BE5: =AE37 -> 0 | BF5: =AF37 -> 0 | BG5: =AG37 -> 0 | BH5: =AH37 -> 0 | BI5: =AI37 -> 0 | BJ5: =AJ37 -> 0 | BK5: =IF(Y37>0,R7,"") | BL5: =IF(Y37>0,"",IF(Z37>0,R7,"")) | BM5: =IF(Y37+Z37>0,"",IF(AA37>0,R7,"")) | BN5: =IF(Y37+Z37+AA37>0,"",IF(AB37>0,R7,"")) | BO5: =AC35 -> 0 | BP5: =AD35 -> 0 | BQ5: =AE35 -> 0 | BR5: =AF35 -> 0 | BS5: =AG35 -> 0 | BT5: =AH35 -> 0 | BU5: =AI35 -> 0 | BV5: =AJ35 -> 0
B6: スパン別変状展開図 | K6: 【健全性判定集計表】
K7: スパン番号 | N7: 2 | P7: スパン長 | R7: 10.5 | U7: 前回定期点検時の判定 | W7: 応急措置前の判定 | Y7: 対策区分毎の 変状の有無 | AC7: 対策区分毎の変状の発生範囲の規模(㎡) | AK7: 備考注2
K8: 変状番号 | L8: 対象箇所 | N8: 部位区分 | P8: 変状区分 | R8: 変状種類
Y9: 外力注1 | AC9: 材質劣化注1 | AG9: 漏水注1
Y10: Ⅳ | Z10: Ⅲ | AA10: Ⅱa | AB10: Ⅱb | AC10: Ⅳ | AD10: Ⅲ | AE10: Ⅱa | AF10: Ⅱb | AG10: Ⅳ | AH10: Ⅲ | AI10: Ⅱa | AJ10: Ⅱb
K11: 1 | AQ11: =IF(P11="材質劣化",2,IF(P11="漏水",3,1)) -> 1
K12: 2 | AQ12: =IF(P12="材質劣化",2,IF(P12="漏水",3,1)) -> 1
K13: 3 | AQ13: =IF(P13="材質劣化",2,IF(P13="漏水",3,1)) -> 1
K14: 4 | AQ14: =IF(P14="材質劣化",2,IF(P14="漏水",3,1)) -> 1
K15: 5 | AQ15: =IF(P15="材質劣化",2,IF(P15="漏水",3,1)) -> 1
K16: 6 | AQ16: =IF(P16="材質劣化",2,IF(P16="漏水",3,1)) -> 1
K17: 7 | AQ17: =IF(P17="材質劣化",2,IF(P17="漏水",3,1)) -> 1
K18: 8 | AQ18: =IF(P18="材質劣化",2,IF(P18="漏水",3,1)) -> 1
K19: 9 | AQ19: =IF(P19="材質劣化",2,IF(P19="漏水",3,1)) -> 1
K20: 10 | AQ20: =IF(P20="材質劣化",2,IF(P20="漏水",3,1)) -> 1
K21: 11 | AQ21: =IF(P21="材質劣化",2,IF(P21="漏水",3,1)) -> 1
K22: 12 | AQ22: =IF(P22="材質劣化",2,IF(P22="漏水",3,1)) -> 1
... K27: 17 | AQ27: =IF(P27="材質劣化",2,IF(P27="漏水",3,1)) -> 1
K28: 18 | AQ28: =IF(P30="材質劣化",2,IF(P30="漏水",3,1)) -> 1
K29: 19 | AQ29: =IF(P34="材質劣化",2,IF(P34="漏水",3,1)) -> 1
K30: 20 | AQ30: =IF(P30="材質劣化",2,IF(P30="漏水",3,1)) -> 1
K31: 21 | AQ31: =IF(P33="材質劣化",2,IF(P33="漏水",3,1)) -> 1
K32: 22 | AQ32: =IF(P37="材質劣化",2,IF(P37="漏水",3,1)) -> 1
K33: 23 | AQ33: =IF(P33="材質劣化",2,IF(P33="漏水",3,1)) -> 1
K34: 24 | AQ34: =IF(P36="材質劣化",2,IF(P36="漏水",3,1)) -> 1
K35: 集計 判定 診断 | L35: 変状の発生規模合計(㎡) | Y35: － | AC35: =SUM(AC11:AC34) -> 0 | AD35: =SUM(AD11:AD34) -> 0 | AE35: =SUM(AE11:AE34) -> 0 | AF35: =SUM(AF11:AF34) -> 0 | AG35: =SUM(AG11:AG34) -> 0 | AH35: =SUM(AH11:AH34) -> 0 | AI35: =SUM(AI11:AI34) -> 0 | AJ35: =SUM(AJ11:AJ34) -> 0 | AK35: 覆工スパン単位の 健全性の 診断の区分 | AM35: Ⅰ
L36: 対策区分の 判定結果 | O36: 対策区分毎の変状数注3 | Y36: Ⅳ | Z36: Ⅲ | AA36: Ⅱa | AB36: Ⅱb | AC36: Ⅳ | AD36: Ⅲ | AE36: Ⅱa | AF36: Ⅱb | AG36: Ⅳ | AH36: Ⅲ | AI36: Ⅱa | AJ36: Ⅱb
Y37: =IF(COUNTIF(Y11:Y34,"〇")>0,1,0) -> 0 | Z37: =IF(COUNTIF(Z11:Z34,"〇")>0,1,0) -> 0 | AA37: =IF(COUNTIF(AA11:AA34,"〇")>0,1,0) -> 0 | AB37: =IF(COUNTIF(AB11:AB34,"〇")>0,1,0) -> 0 | AC37: =COUNTA(AC11:AC34) -> 0 | AD37: =COUNTA(AD11:AD34) -> 0 | AE37: =COUNTA(AE11:AE34) -> 0 | AF37: =COUNTA(AF11:AF34) -> 0 | AG37: =COUNTA(AG11:AG34) -> 0 | AH37: =COUNTA(AH11:AH34) -> 0 | AI37: =COUNTA(AI11:AI34) -> 0 | AJ37: =COUNTA(AJ11:AJ34) -> 0
K39: 所見 | L39: 【 外 力 】監視を必要としない。 【材質劣化】監視を必要としない。 【 漏 水 】監視を必要としない。 以上により本スパンの判定はⅠ判定となる。
K43: 注1：誤記入防止のため、当該変状区分以外のセルは灰色表示とすること。
K44: 注2：応急措置を実施した場合は、その詳細を備考に記載すること。
K45: 注3：外力は覆工スパン単位、材質劣化、漏水は変状単位とすること。
B46: （以下、印刷不要）
B47: ※1：本シートは作成洩れのないよう、変状が無くても全スパン分を作成すること．また変状展開図は、様式D-2-1、様式D-2-1'と同じものを覆工スパン単位で拡大し掲載すること。
B48: ※2：変状番号は、様式D-1-1で記入した番号と整合させること。
B49: ※3：対策区分毎の変状発生規模は、様式D-1-1に記載した面積を記入すること（ただし外力はスパン単位で評価するため変状の有無の欄には面積でなく○を記入し、備考欄に状況を記入）。
B50: ※4：本様式は覆工スパン毎に作成すること。
B51: ※5：変状数が多い場合は、適時、表の行を増やして覆工スパン毎に1枚のシートに収めること。また、1スパン１シートとし、スパンに合わせてシートを追加すること。
B52: ※6：対策区分毎の変状の発生範囲の規模とは，対策を行う際に参考となる変状の長さや面積であり，変状を包含する長さや面積とする。
B53: ※7：対策範囲を示す発生範囲の規模を面積で記入することが妥当ではない変状は、発生範囲の規模の欄に○を記入するとともに、備考に内容を記入すること。

Sheet 様式D-3_S003
AU1: 様式F用→ | AV1: 覆工スパン | AY1: 変 状 数 | BK1: 変 状 規 模
AV2: 番号 | AW2: 延長 （ｍ） | AX2: 健全性の診断の 区分 | AY2: 対策区分の判定 | BK2: 覆工スパン長（ｍ） | BO2: 変状の発生範囲の規模（㎡）
B3: ■定期点検記録様式 覆工スパン別変状詳細展開図 【様式D-3】 | AY3: 外力 | BC3: 材質劣化 | BG3: 漏水 | BK3: 外力 注2 | BO3: 材質劣化 | BS3: 漏水
B4: フリガナ | E4: (ｵﾄﾒｷｮｳﾄﾝﾈﾙ) | K4: 路線名 | N4: 一般国道434号 | T4: 定期点検業者 | Y4: 応用地質（株） | AG4: 定期点検年月日 | AK4: 45845 | AY4: Ⅳ | AZ4: Ⅲ | BA4: Ⅱa | BB4: Ⅱb | BC4: Ⅳ | BD4: Ⅲ | BE4: Ⅱa | BF4: Ⅱb | BG4: Ⅳ | BH4: Ⅲ | BI4: Ⅱa | BJ4: Ⅱb | BK4: Ⅳ | BL4: Ⅲ | BM4: Ⅱa | BN4: Ⅱb | BO4: Ⅳ | BP4: Ⅲ | BQ4: Ⅱa | BR4: Ⅱb | BS4: Ⅳ | BT4: Ⅲ | BU4: Ⅱa | BV4: Ⅱb
B5: 名 称 | E5: 乙女峡トンネル | K5: 管理者名 | N5: 山口県岩国土木建築事務所 | Y5: 太田 裕之 | AV5: =N7 -> 3 | AW5: =R7 -> 10.5 | AX5: =AM35 -> Ⅱ | AY5: =IF(Y37>0,Y37,"") | AZ5: =IF(Y37>0,"",IF(Z37>0,Z37,"")) | BA5: =IF(Y37+Z37>0,"",IF(AA37>0,AA37,"")) | BB5: =IF(Y37+Z37+AA37>0,"",IF(AB37>0,AB37,"")) | BC5: =AC37 -> 0 | BD5: =AD37 -> 0 | BE5: =AE37 -> 0 | BF5: =AF37 -> 0 | BG5: =AG37 -> 0 | BH5: =AH37 -> 0 | BI5: =AI37 -> 0 | BJ5: =AJ37 -> 1 | BK5: =IF(Y37>0,R7,"") | BL5: =IF(Y37>0,"",IF(Z37>0,R7,"")) | BM5: =IF(Y37+Z37>0,"",IF(AA37>0,R7,"")) | BN5: =IF(Y37+Z37+AA37>0,"",IF(AB37>0,R7,"")) | BO5: =AC35 -> 0 | BP5: =AD35 -> 0 | BQ5: =AE35 -> 0 | BR5: =AF35 -> 0 | BS5: =AG35 -> 0 | BT5: =AH35 -> 0 | BU5: =AI35 -> 0 | BV5: =AJ35 -> 0.07
B6: スパン別変状展開図 | K6: 【健全性判定集計表】
K7: スパン番号 | N7: 3 | P7: スパン長 | R7: 10.5 | U7: 前回定期点検時の判定 | W7: 応急措置前の判定 | Y7: 対策区分毎の 変状の有無 | AC7: 対策区分毎の変状の発生範囲の規模(㎡) | AK7: 備考注2
K8: 変状番号 | L8: 対象箇所 | N8: 部位区分 | P8: 変状区分 | R8: 変状種類
Y9: 外力注1 | AC9: 材質劣化注1 | AG9: 漏水注1
Y10: Ⅳ | Z10: Ⅲ | AA10: Ⅱa | AB10: Ⅱb | AC10: Ⅳ | AD10: Ⅲ | AE10: Ⅱa | AF10: Ⅱb | AG10: Ⅳ | AH10: Ⅲ | AI10: Ⅱa | AJ10: Ⅱb
K11: 1 | L11: 覆工 | N11: アーチ（右側） | P11: 漏水 | R11: 漏水 | U11: Ⅱb | W11: － | AJ11: 0.07 | AQ11: =IF(P11="材質劣化",2,IF(P11="漏水",3,1)) -> 3
K12: 2 | AQ12: =IF(P12="材質劣化",2,IF(P12="漏水",3,1)) -> 1
K13: 3 | AQ13: =IF(P13="材質劣化",2,IF(P13="漏水",3,1)) -> 1
K14: 4 | AQ14: =IF(P14="材質劣化",2,IF(P14="漏水",3,1)) -> 1
K15: 5 | AQ15: =IF(P15="材質劣化",2,IF(P15="漏水",3,1)) -> 1
K16: 6 | AQ16: =IF(P16="材質劣化",2,IF(P16="漏水",3,1)) -> 1
K17: 7 | AQ17: =IF(P17="材質劣化",2,IF(P17="漏水",3,1)) -> 1
K18: 8 | AQ18: =IF(P18="材質劣化",2,IF(P18="漏水",3,1)) -> 1
K19: 9 | AQ19: =IF(P19="材質劣化",2,IF(P19="漏水",3,1)) -> 1
K20: 10 | AQ20: =IF(P20="材質劣化",2,IF(P20="漏水",3,1)) -> 1
K21: 11 | AQ21: =IF(P21="材質劣化",2,IF(P21="漏水",3,1)) -> 1
K22: 12 | AQ22: =IF(P22="材質劣化",2,IF(P22="漏水",3,1)) -> 1
K23: 13 | AQ23: =IF(P23="材質劣化",2,IF(P23="漏水",3,1)) -> 1
... K27: 17 | AQ27: =IF(P27="材質劣化",2,IF(P27="漏水",3,1)) -> 1
K28: 18 | AQ28: =IF(P30="材質劣化",2,IF(P30="漏水",3,1)) -> 1
K29: 19 | AQ29: =IF(P34="材質劣化",2,IF(P34="漏水",3,1)) -> 1
K30: 20 | AQ30: =IF(P30="材質劣化",2,IF(P30="漏水",3,1)) -> 1
K31: 21 | AQ31: =IF(P33="材質劣化",2,IF(P33="漏水",3,1)) -> 1
K32: 22 | AQ32: =IF(P37="材質劣化",2,IF(P37="漏水",3,1)) -> 1
K33: 23 | AQ33: =IF(P33="材質劣化",2,IF(P33="漏水",3,1)) -> 1
K34: 24 | AQ34: =IF(P36="材質劣化",2,IF(P36="漏水",3,1)) -> 1
K35: 集計 判定 診断 | L35: 変状の発生規模合計(㎡) | Y35: － | AC35: =SUM(AC11:AC34) -> 0 | AD35: =SUM(AD11:AD34) -> 0 | AE35: =SUM(AE11:AE34) -> 0 | AF35: =SUM(AF11:AF34) -> 0 | AG35: =SUM(AG11:AG34) -> 0 | AH35: =SUM(AH11:AH34) -> 0 | AI35: =SUM(AI11:AI34) -> 0 | AJ35: =SUM(AJ11:AJ34) -> 0.07 | AK35: 覆工スパン単位の 健全性の 診断の区分 | AM35: Ⅱ
L36: 対策区分の 判定結果 | O36: 対策区分毎の変状数注3 | Y36: Ⅳ | Z36: Ⅲ | AA36: Ⅱa | AB36: Ⅱb | AC36: Ⅳ | AD36: Ⅲ | AE36: Ⅱa | AF36: Ⅱb | AG36: Ⅳ | AH36: Ⅲ | AI36: Ⅱa | AJ36: Ⅱb
Y37: =IF(COUNTIF(Y11:Y34,"〇")>0,1,0) -> 0 | Z37: =IF(COUNTIF(Z11:Z34,"〇")>0,1,0) -> 0 | AA37: =IF(COUNTIF(AA11:AA34,"〇")>0,1,0) -> 0 | AB37: =IF(COUNTIF(AB11:AB34,"〇")>0,1,0) -> 0 | AC37: =COUNTA(AC11:AC34) -> 0 | AD37: =COUNTA(AD11:AD34) -> 0 | AE37: =COUNTA(AE11:AE34) -> 0 | AF37: =COUNTA(AF11:AF34) -> 0 | AG37: =COUNTA(AG11:AG34) -> 0 | AH37: =COUNTA(AH11:AH34) -> 0 | AI37: =COUNTA(AI11:AI34) -> 0 | AJ37: =COUNTA(AJ11:AJ34) -> 1
K39: 所見 | L39: 【 外 力 】監視を必要としない。 【材質劣化】監視を必要としない。 【 漏 水 】次回点検まで継続的な監視を必要とする。 以上により本スパンの判定はⅡb判定となる。
K43: 注1：誤記入防止のため、当該変状区分以外のセルは灰色表示とすること。
K44: 注2：応急措置を実施した場合は、その詳細を備考に記載すること。
K45: 注3：外力は覆工スパン単位、材質劣化、漏水は変状単位とすること。
B46: （以下、印刷不要）
B47: ※1：本シートは作成洩れのないよう、変状が無くても全スパン分を作成すること．また変状展開図は、様式D-2-1、様式D-2-1'と同じものを覆工スパン単位で拡大し掲載すること。
B48: ※2：変状番号は、様式D-1-1で記入した番号と整合させること。
B49: ※3：対策区分毎の変状発生規模は、様式D-1-1に記載した面積を記入すること（ただし外力はスパン単位で評価するため変状の有無の欄には面積でなく○を記入し、備考欄に状況を記入）。
B50: ※4：本様式は覆工スパン毎に作成すること。
B51: ※5：変状数が多い場合は、適時、表の行を増やして覆工スパン毎に1枚のシートに収めること。また、1スパン１シートとし、スパンに合わせてシートを追加すること。
B52: ※6：対策区分毎の変状の発生範囲の規模とは，対策を行う際に参考となる変状の長さや面積であり，変状を包含する長さや面積とする。
B53: ※7：対策範囲を示す発生範囲の規模を面積で記入することが妥当ではない変状は、発生範囲の規模の欄に○を記入するとともに、備考に内容を記入すること。

Sheet 様式D-3_S004
AU1: 様式F用→ | AV1: 覆工スパン | AY1: 変 状 数 | BK1: 変 状 規 模
AV2: 番号 | AW2: 延長 （ｍ） | AX2: 健全性の診断の 区分 | AY2: 対策区分の判定 | BK2: 覆工スパン長（ｍ） | BO2: 変状の発生範囲の規模（㎡）
B3: ■定期点検記録様式 覆工スパン別変状詳細展開図 【様式D-3】 | AY3: 外力 | BC3: 材質劣化 | BG3: 漏水 | BK3: 外力 注2 | BO3: 材質劣化 | BS3: 漏水
B4: フリガナ | E4: (ｵﾄﾒｷｮｳﾄﾝﾈﾙ) | K4: 路線名 | N4: 一般国道434号 | T4: 定期点検業者 | Y4: 応用地質（株） | AG4: 定期点検年月日 | AK4: 45845 | AY4: Ⅳ | AZ4: Ⅲ | BA4: Ⅱa | BB4: Ⅱb | BC4: Ⅳ | BD4: Ⅲ | BE4: Ⅱa | BF4: Ⅱb | BG4: Ⅳ | BH4: Ⅲ | BI4: Ⅱa | BJ4: Ⅱb | BK4: Ⅳ | BL4: Ⅲ | BM4: Ⅱa | BN4: Ⅱb | BO4: Ⅳ | BP4: Ⅲ | BQ4: Ⅱa | BR4: Ⅱb | BS4: Ⅳ | BT4: Ⅲ | BU4: Ⅱa | BV4: Ⅱb
B5: 名 称 | E5: 乙女峡トンネル | K5: 管理者名 | N5: 山口県岩国土木建築事務所 | Y5: 太田 裕之 | AV5: =N7 -> 4 | AW5: =R7 -> 10.5 | AX5: =AM35 -> Ⅰ | AY5: =IF(Y37>0,Y37,"") | AZ5: =IF(Y37>0,"",IF(Z37>0,Z37,"")) | BA5: =IF(Y37+Z37>0,"",IF(AA37>0,AA37,"")) | BB5: =IF(Y37+Z37+AA37>0,"",IF(AB37>0,AB37,"")) | BC5: =AC37 -> 0 | BD5: =AD37 -> 0 | BE5: =AE37 -> 0 | BF5: =AF37 -> 0 | BG5: =AG37 -> 0 | BH5: =AH37 -> 0 | BI5: =AI37 -> 0 | BJ5: =AJ37 -> 0 | BK5: =IF(Y37>0,R7,"") | BL5: =IF(Y37>0,"",IF(Z37>0,R7,"")) | BM5: =IF(Y37+Z37>0,"",IF(AA37>0,R7,"")) | BN5: =IF(Y37+Z37+AA37>0,"",IF(AB37>0,R7,"")) | BO5: =AC35 -> 0 | BP5: =AD35 -> 0 | BQ5: =AE35 -> 0 | BR5: =AF35 -> 0 | BS5: =AG35 -> 0 | BT5: =AH35 -> 0 | BU5: =AI35 -> 0 | BV5: =AJ35 -> 0
B6: スパン別変状展開図 | K6: 【健全性判定集計表】
K7: スパン番号 | N7: 4 | P7: スパン長 | R7: 10.5 | U7: 前回定期点検時の判定 | W7: 応急措置前の判定 | Y7: 対策区分毎の 変状の有無 | AC7: 対策区分毎の変状の発生範囲の規模(㎡) | AK7: 備考注2
K8: 変状番号 | L8: 対象箇所 | N8: 部位区分 | P8: 変状区分 | R8: 変状種類
Y9: 外力注1 | AC9: 材質劣化注1 | AG9: 漏水注1
Y10: Ⅳ | Z10: Ⅲ | AA10: Ⅱa | AB10: Ⅱb | AC10: Ⅳ | AD10: Ⅲ | AE10: Ⅱa | AF10: Ⅱb | AG10: Ⅳ | AH10: Ⅲ | AI10: Ⅱa | AJ10: Ⅱb
K11: 1 | AQ11: =IF(P11="材質劣化",2,IF(P11="漏水",3,1)) -> 1
K12: 2 | AQ12: =IF(P12="材質劣化",2,IF(P12="漏水",3,1)) -> 1
K13: 3 | AQ13: =IF(P13="材質劣化",2,IF(P13="漏水",3,1)) -> 1
K14: 4 | AQ14: =IF(P14="材質劣化",2,IF(P14="漏水",3,1)) -> 1
K15: 5 | AQ15: =IF(P15="材質劣化",2,IF(P15="漏水",3,1)) -> 1
K16: 6 | AQ16: =IF(P16="材質劣化",2,IF(P16="漏水",3,1)) -> 1
K17: 7 | AQ17: =IF(P17="材質劣化",2,IF(P17="漏水",3,1)) -> 1
K18: 8 | AQ18: =IF(P18="材質劣化",2,IF(P18="漏水",3,1)) -> 1
K19: 9 | AQ19: =IF(P19="材質劣化",2,IF(P19="漏水",3,1)) -> 1
K20: 10 | AQ20: =IF(P20="材質劣化",2,IF(P20="漏水",3,1)) -> 1
K21: 11 | AQ21: =IF(P21="材質劣化",2,IF(P21="漏水",3,1)) -> 1
K22: 12 | AQ22: =IF(P22="材質劣化",2,IF(P22="漏水",3,1)) -> 1
... K27: 17 | AQ27: =IF(P27="材質劣化",2,IF(P27="漏水",3,1)) -> 1
K28: 18 | AQ28: =IF(P30="材質劣化",2,IF(P30="漏水",3,1)) -> 1
K29: 19 | AQ29: =IF(P34="材質劣化",2,IF(P34="漏水",3,1)) -> 1
K30: 20 | AQ30: =IF(P30="材質劣化",2,IF(P30="漏水",3,1)) -> 1
K31: 21 | AQ31: =IF(P33="材質劣化",2,IF(P33="漏水",3,1)) -> 1
K32: 22 | AQ32: =IF(P37="材質劣化",2,IF(P37="漏水",3,1)) -> 1
K33: 23 | AQ33: =IF(P33="材質劣化",2,IF(P33="漏水",3,1)) -> 1
K34: 24 | AQ34: =IF(P36="材質劣化",2,IF(P36="漏水",3,1)) -> 1
K35: 集計 判定 診断 | L35: 変状の発生規模合計(㎡) | Y35: － | AC35: =SUM(AC11:AC34) -> 0 | AD35: =SUM(AD11:AD34) -> 0 | AE35: =SUM(AE11:AE34) -> 0 | AF35: =SUM(AF11:AF34) -> 0 | AG35: =SUM(AG11:AG34) -> 0 | AH35: =SUM(AH11:AH34) -> 0 | AI35: =SUM(AI11:AI34) -> 0 | AJ35: =SUM(AJ11:AJ34) -> 0 | AK35: 覆工スパン単位の 健全性の 診断の区分 | AM35: Ⅰ
L36: 対策区分の 判定結果 | O36: 対策区分毎の変状数注3 | Y36: Ⅳ | Z36: Ⅲ | AA36: Ⅱa | AB36: Ⅱb | AC36: Ⅳ | AD36: Ⅲ | AE36: Ⅱa | AF36: Ⅱb | AG36: Ⅳ | AH36: Ⅲ | AI36: Ⅱa | AJ36: Ⅱb
Y37: =IF(COUNTIF(Y11:Y34,"〇")>0,1,0) -> 0 | Z37: =IF(COUNTIF(Z11:Z34,"〇")>0,1,0) -> 0 | AA37: =IF(COUNTIF(AA11:AA34,"〇")>0,1,0) -> 0 | AB37: =IF(COUNTIF(AB11:AB34,"〇")>0,1,0) -> 0 | AC37: =COUNTA(AC11:AC34) -> 0 | AD37: =COUNTA(AD11:AD34) -> 0 | AE37: =COUNTA(AE11:AE34) -> 0 | AF37: =COUNTA(AF11:AF34) -> 0 | AG37: =COUNTA(AG11:AG34) -> 0 | AH37: =COUNTA(AH11:AH34) -> 0 | AI37: =COUNTA(AI11:AI34) -> 0 | AJ37: =COUNTA(AJ11:AJ34) -> 0
K39: 所見 | L39: 【 外 力 】監視を必要としない。 【材質劣化】監視を必要としない。 【 漏 水 】監視を必要としない。 以上により本スパンの判定はⅠ判定となる。
K43: 注1：誤記入防止のため、当該変状区分以外のセルは灰色表示とすること。
K44: 注2：応急措置を実施した場合は、その詳細を備考に記載すること。
K45: 注3：外力は覆工スパン単位、材質劣化、漏水は変状単位とすること。
B46: （以下、印刷不要）
B47: ※1：本シートは作成洩れのないよう、変状が無くても全スパン分を作成すること．また変状展開図は、様式D-2-1、様式D-2-1'と同じものを覆工スパン単位で拡大し掲載すること。
B48: ※2：変状番号は、様式D-1-1で記入した番号と整合させること。
B49: ※3：対策区分毎の変状発生規模は、様式D-1-1に記載した面積を記入すること（ただし外力はスパン単位で評価するため変状の有無の欄には面積でなく○を記入し、備考欄に状況を記入）。
B50: ※4：本様式は覆工スパン毎に作成すること。
B51: ※5：変状数が多い場合は、適時、表の行を増やして覆工スパン毎に1枚のシートに収めること。また、1スパン１シートとし、スパンに合わせてシートを追加すること。
B52: ※6：対策区分毎の変状の発生範囲の規模とは，対策を行う際に参考となる変状の長さや面積であり，変状を包含する長さや面積とする。
B53: ※7：対策範囲を示す発生範囲の規模を面積で記入することが妥当ではない変状は、発生範囲の規模の欄に○を記入するとともに、備考に内容を記入すること。

Sheet 様式D-3_S005
AU1: 様式F用→ | AV1: 覆工スパン | AY1: 変 状 数 | BK1: 変 状 規 模
AV2: 番号 | AW2: 延長 （ｍ） | AX2: 健全性の診断の 区分 | AY2: 対策区分の判定 | BK2: 覆工スパン長（ｍ） | BO2: 変状の発生範囲の規模（㎡）
B3: ■定期点検記録様式 覆工スパン別変状詳細展開図 【様式D-3】 | AY3: 外力 | BC3: 材質劣化 | BG3: 漏水 | BK3: 外力 注2 | BO3: 材質劣化 | BS3: 漏水
B4: フリガナ | E4: (ｵﾄﾒｷｮｳﾄﾝﾈﾙ) | K4: 路線名 | N4: 一般国道434号 | T4: 定期点検業者 | Y4: 応用地質（株） | AG4: 定期点検年月日 | AK4: 45845 | AY4: Ⅳ | AZ4: Ⅲ | BA4: Ⅱa | BB4: Ⅱb | BC4: Ⅳ | BD4: Ⅲ | BE4: Ⅱa | BF4: Ⅱb | BG4: Ⅳ | BH4: Ⅲ | BI4: Ⅱa | BJ4: Ⅱb | BK4: Ⅳ | BL4: Ⅲ | BM4: Ⅱa | BN4: Ⅱb | BO4: Ⅳ | BP4: Ⅲ | BQ4: Ⅱa | BR4: Ⅱb | BS4: Ⅳ | BT4: Ⅲ | BU4: Ⅱa | BV4: Ⅱb
B5: 名 称 | E5: 乙女峡トンネル | K5: 管理者名 | N5: 山口県岩国土木建築事務所 | Y5: 太田 裕之 | AV5: =N7 -> 5 | AW5: =R7 -> 10.5 | AX5: =AM35 -> Ⅰ | AY5: =IF(Y37>0,Y37,"") | AZ5: =IF(Y37>0,"",IF(Z37>0,Z37,"")) | BA5: =IF(Y37+Z37>0,"",IF(AA37>0,AA37,"")) | BB5: =IF(Y37+Z37+AA37>0,"",IF(AB37>0,AB37,"")) | BC5: =AC37 -> 0 | BD5: =AD37 -> 0 | BE5: =AE37 -> 0 | BF5: =AF37 -> 0 | BG5: =AG37 -> 0 | BH5: =AH37 -> 0 | BI5: =AI37 -> 0 | BJ5: =AJ37 -> 0 | BK5: =IF(Y37>0,R7,"") | BL5: =IF(Y37>0,"",IF(Z37>0,R7,"")) | BM5: =IF(Y37+Z37>0,"",IF(AA37>0,R7,"")) | BN5: =IF(Y37+Z37+AA37>0,"",IF(AB37>0,R7,"")) | BO5: =AC35 -> 0 | BP5: =AD35 -> 0 | BQ5: =AE35 -> 0 | BR5: =AF35 -> 0 | BS5: =AG35 -> 0 | BT5: =AH35 -> 0 | BU5: =AI35 -> 0 | BV5: =AJ35 -> 0
B6: スパン別変状展開図 | K6: 【健全性判定集計表】
K7: スパン番号 | N7: 5 | P7: スパン長 | R7: 10.5 | U7: 前回定期点検時の判定 | W7: 応急措置前の判定 | Y7: 対策区分毎の 変状の有無 | AC7: 対策区分毎の変状の発生範囲の規模(㎡) | AK7: 備考注2
K8: 変状番号 | L8: 対象箇所 | N8: 部位区分 | P8: 変状区分 | R8: 変状種類
Y9: 外力注1 | AC9: 材質劣化注1 | AG9: 漏水注1
Y10: Ⅳ | Z10: Ⅲ | AA10: Ⅱa | AB10: Ⅱb | AC10: Ⅳ | AD10: Ⅲ | AE10: Ⅱa | AF10: Ⅱb | AG10: Ⅳ | AH10: Ⅲ | AI10: Ⅱa | AJ10: Ⅱb
K11: 1 | AQ11: =IF(P11="材質劣化",2,IF(P11="漏水",3,1)) -> 1
K12: 2 | AQ12: =IF(P12="材質劣化",2,IF(P12="漏水",3,1)) -> 1
K13: 3 | AQ13: =IF(P13="材質劣化",2,IF(P13="漏水",3,1)) -> 1
K14: 4 | AQ14: =IF(P14="材質劣化",2,IF(P14="漏水",3,1)) -> 1
K15: 5 | AQ15: =IF(P15="材質劣化",2,IF(P15="漏水",3,1)) -> 1
K16: 6 | AQ16: =IF(P16="材質劣化",2,IF(P16="漏水",3,1)) -> 1
K17: 7 | AQ17: =IF(P17="材質劣化",2,IF(P17="漏水",3,1)) -> 1
K18: 8 | AQ18: =IF(P18="材質劣化",2,IF(P18="漏水",3,1)) -> 1
K19: 9 | AQ19: =IF(P19="材質劣化",2,IF(P19="漏水",3,1)) -> 1
K20: 10 | AQ20: =IF(P20="材質劣化",2,IF(P20="漏水",3,1)) -> 1
K21: 11 | AQ21: =IF(P21="材質劣化",2,IF(P21="漏水",3,1)) -> 1
K22: 12 | AQ22: =IF(P22="材質劣化",2,IF(P22="漏水",3,1)) -> 1
... K27: 17 | AQ27: =IF(P27="材質劣化",2,IF(P27="漏水",3,1)) -> 1
K28: 18 | AQ28: =IF(P30="材質劣化",2,IF(P30="漏水",3,1)) -> 1
K29: 19 | AQ29: =IF(P34="材質劣化",2,IF(P34="漏水",3,1)) -> 1
K30: 20 | AQ30: =IF(P30="材質劣化",2,IF(P30="漏水",3,1)) -> 1
K31: 21 | AQ31: =IF(P33="材質劣化",2,IF(P33="漏水",3,1)) -> 1
K32: 22 | AQ32: =IF(P37="材質劣化",2,IF(P37="漏水",3,1)) -> 1
K33: 23 | AQ33: =IF(P33="材質劣化",2,IF(P33="漏水",3,1)) -> 1
K34: 24 | AQ34: =IF(P36="材質劣化",2,IF(P36="漏水",3,1)) -> 1
K35: 集計 判定 診断 | L35: 変状の発生規模合計(㎡) | Y35: － | AC35: =SUM(AC11:AC34) -> 0 | AD35: =SUM(AD11:AD34) -> 0 | AE35: =SUM(AE11:AE34) -> 0 | AF35: =SUM(AF11:AF34) -> 0 | AG35: =SUM(AG11:AG34) -> 0 | AH35: =SUM(AH11:AH34) -> 0 | AI35: =SUM(AI11:AI34) -> 0 | AJ35: =SUM(AJ11:AJ34) -> 0 | AK35: 覆工スパン単位の 健全性の 診断の区分 | AM35: Ⅰ
L36: 対策区分の 判定結果 | O36: 対策区分毎の変状数注3 | Y36: Ⅳ | Z36: Ⅲ | AA36: Ⅱa | AB36: Ⅱb | AC36: Ⅳ | AD36: Ⅲ | AE36: Ⅱa | AF36: Ⅱb | AG36: Ⅳ | AH36: Ⅲ | AI36: Ⅱa | AJ36: Ⅱb
Y37: =IF(COUNTIF(Y11:Y34,"〇")>0,1,0) -> 0 | Z37: =IF(COUNTIF(Z11:Z34,"〇")>0,1,0) -> 0 | AA37: =IF(COUNTIF(AA11:AA34,"〇")>0,1,0) -> 0 | AB37: =IF(COUNTIF(AB11:AB34,"〇")>0,1,0) -> 0 | AC37: =COUNTA(AC11:AC34) -> 0 | AD37: =COUNTA(AD11:AD34) -> 0 | AE37: =COUNTA(AE11:AE34) -> 0 | AF37: =COUNTA(AF11:AF34) -> 0 | AG37: =COUNTA(AG11:AG34) -> 0 | AH37: =COUNTA(AH11:AH34) -> 0 | AI37: =COUNTA(AI11:AI34) -> 0 | AJ37: =COUNTA(AJ11:AJ34) -> 0
K39: 所見 | L39: 【 外 力 】監視を必要としない。 【材質劣化】監視を必要としない。 【 漏 水 】監視を必要としない。 以上により本スパンの判定はⅠ判定となる。
K43: 注1：誤記入防止のため、当該変状区分以外のセルは灰色表示とすること。
K44: 注2：応急措置を実施した場合は、その詳細を備考に記載すること。
K45: 注3：外力は覆工スパン単位、材質劣化、漏水は変状単位とすること。
B46: （以下、印刷不要）
B47: ※1：本シートは作成洩れのないよう、変状が無くても全スパン分を作成すること．また変状展開図は、様式D-2-1、様式D-2-1'と同じものを覆工スパン単位で拡大し掲載すること。
B48: ※2：変状番号は、様式D-1-1で記入した番号と整合させること。
B49: ※3：対策区分毎の変状発生規模は、様式D-1-1に記載した面積を記入すること（ただし外力はスパン単位で評価するため変状の有無の欄には面積でなく○を記入し、備考欄に状況を記入）。
B50: ※4：本様式は覆工スパン毎に作成すること。
B51: ※5：変状数が多い場合は、適時、表の行を増やして覆工スパン毎に1枚のシートに収めること。また、1スパン１シートとし、スパンに合わせてシートを追加すること。
B52: ※6：対策区分毎の変状の発生範囲の規模とは，対策を行う際に参考となる変状の長さや面積であり，変状を包含する長さや面積とする。
B53: ※7：対策範囲を示す発生範囲の規模を面積で記入することが妥当ではない変状は、発生範囲の規模の欄に○を記入するとともに、備考に内容を記入すること。

Sheet 様式D-3_S006
AU1: 様式F用→ | AV1: 覆工スパン | AY1: 変 状 数 | BK1: 変 状 規 模
AV2: 番号 | AW2: 延長 （ｍ） | AX2: 健全性の診断の 区分 | AY2: 対策区分の判定 | BK2: 覆工スパン長（ｍ） | BO2: 変状の発生範囲の規模（㎡）
B3: ■定期点検記録様式 覆工スパン別変状詳細展開図 【様式D-3】 | AY3: 外力 | BC3: 材質劣化 | BG3: 漏水 | BK3: 外力 注2 | BO3: 材質劣化 | BS3: 漏水
B4: フリガナ | E4: (ｵﾄﾒｷｮｳﾄﾝﾈﾙ) | K4: 路線名 | N4: 一般国道434号 | T4: 定期点検業者 | Y4: 応用地質（株） | AG4: 定期点検年月日 | AK4: 45845 | AY4: Ⅳ | AZ4: Ⅲ | BA4: Ⅱa | BB4: Ⅱb | BC4: Ⅳ | BD4: Ⅲ | BE4: Ⅱa | BF4: Ⅱb | BG4: Ⅳ | BH4: Ⅲ | BI4: Ⅱa | BJ4: Ⅱb | BK4: Ⅳ | BL4: Ⅲ | BM4: Ⅱa | BN4: Ⅱb | BO4: Ⅳ | BP4: Ⅲ | BQ4: Ⅱa | BR4: Ⅱb | BS4: Ⅳ | BT4: Ⅲ | BU4: Ⅱa | BV4: Ⅱb
B5: 名 称 | E5: 乙女峡トンネル | K5: 管理者名 | N5: 山口県岩国土木建築事務所 | Y5: 太田 裕之 | AV5: =N7 -> 6 | AW5: =R7 -> 10.5 | AX5: =AM35 -> Ⅰ | AY5: =IF(Y37>0,Y37,"") | AZ5: =IF(Y37>0,"",IF(Z37>0,Z37,"")) | BA5: =IF(Y37+Z37>0,"",IF(AA37>0,AA37,"")) | BB5: =IF(Y37+Z37+AA37>0,"",IF(AB37>0,AB37,"")) | BC5: =AC37 -> 0 | BD5: =AD37 -> 0 | BE5: =AE37 -> 0 | BF5: =AF37 -> 0 | BG5: =AG37 -> 0 | BH5: =AH37 -> 0 | BI5: =AI37 -> 0 | BJ5: =AJ37 -> 0 | BK5: =IF(Y37>0,R7,"") | BL5: =IF(Y37>0,"",IF(Z37>0,R7,"")) | BM5: =IF(Y37+Z37>0,"",IF(AA37>0,R7,"")) | BN5: =IF(Y37+Z37+AA37>0,"",IF(AB37>0,R7,"")) | BO5: =AC35 -> 0 | BP5: =AD35 -> 0 | BQ5: =AE35 -> 0 | BR5: =AF35 -> 0 | BS5: =AG35 -> 0 | BT5: =AH35 -> 0 | BU5: =AI35 -> 0 | BV5: =AJ35 -> 0
B6: スパン別変状展開図 | K6: 【健全性判定集計表】
K7: スパン番号 | N7: 6 | P7: スパン長 | R7: 10.5 | U7: 前回定期点検時の判定 | W7: 応急措置前の判定 | Y7: 対策区分毎の 変状の有無 | AC7: 対策区分毎の変状の発生範囲の規模(㎡) | AK7: 備考注2
K8: 変状番号 | L8: 対象箇所 | N8: 部位区分 | P8: 変状区分 | R8: 変状種類
Y9: 外力注1 | AC9: 材質劣化注1 | AG9: 漏水注1
Y10: Ⅳ | Z10: Ⅲ | AA10: Ⅱa | AB10: Ⅱb | AC10: Ⅳ | AD10: Ⅲ | AE10: Ⅱa | AF10: Ⅱb | AG10: Ⅳ | AH10: Ⅲ | AI10: Ⅱa | AJ10: Ⅱb
K11: 1 | AQ11: =IF(P11="材質劣化",2,IF(P11="漏水",3,1)) -> 1
K12: 2 | AQ12: =IF(P12="材質劣化",2,IF(P12="漏水",3,1)) -> 1
K13: 3 | AQ13: =IF(P13="材質劣化",2,IF(P13="漏水",3,1)) -> 1
K14: 4 | AQ14: =IF(P14="材質劣化",2,IF(P14="漏水",3,1)) -> 1
K15: 5 | AQ15: =IF(P15="材質劣化",2,IF(P15="漏水",3,1)) -> 1
K16: 6 | AQ16: =IF(P16="材質劣化",2,IF(P16="漏水",3,1)) -> 1
K17: 7 | AQ17: =IF(P17="材質劣化",2,IF(P17="漏水",3,1)) -> 1
K18: 8 | AQ18: =IF(P18="材質劣化",2,IF(P18="漏水",3,1)) -> 1
K19: 9 | AQ19: =IF(P19="材質劣化",2,IF(P19="漏水",3,1)) -> 1
K20: 10 | AQ20: =IF(P20="材質劣化",2,IF(P20="漏水",3,1)) -> 1
K21: 11 | AQ21: =IF(P21="材質劣化",2,IF(P21="漏水",3,1)) -> 1
K22: 12 | AQ22: =IF(P22="材質劣化",2,IF(P22="漏水",3,1)) -> 1
... K27: 17 | AQ27: =IF(P27="材質劣化",2,IF(P27="漏水",3,1)) -> 1
K28: 18 | AQ28: =IF(P30="材質劣化",2,IF(P30="漏水",3,1)) -> 1
K29: 19 | AQ29: =IF(P34="材質劣化",2,IF(P34="漏水",3,1)) -> 1
K30: 20 | AQ30: =IF(P30="材質劣化",2,IF(P30="漏水",3,1)) -> 1
K31: 21 | AQ31: =IF(P33="材質劣化",2,IF(P33="漏水",3,1)) -> 1
K32: 22 | AQ32: =IF(P37="材質劣化",2,IF(P37="漏水",3,1)) -> 1
K33: 23 | AQ33: =IF(P33="材質劣化",2,IF(P33="漏水",3,1)) -> 1
K34: 24 | AQ34: =IF(P36="材質劣化",2,IF(P36="漏水",3,1)) -> 1
K35: 集計 判定 診断 | L35: 変状の発生規模合計(㎡) | Y35: － | AC35: =SUM(AC11:AC34) -> 0 | AD35: =SUM(AD11:AD34) -> 0 | AE35: =SUM(AE11:AE34) -> 0 | AF35: =SUM(AF11:AF34) -> 0 | AG35: =SUM(AG11:AG34) -> 0 | AH35: =SUM(AH11:AH34) -> 0 | AI35: =SUM(AI11:AI34) -> 0 | AJ35: =SUM(AJ11:AJ34) -> 0 | AK35: 覆工スパン単位の 健全性の 診断の区分 | AM35: Ⅰ
L36: 対策区分の 判定結果 | O36: 対策区分毎の変状数注3 | Y36: Ⅳ | Z36: Ⅲ | AA36: Ⅱa | AB36: Ⅱb | AC36: Ⅳ | AD36: Ⅲ | AE36: Ⅱa | AF36: Ⅱb | AG36: Ⅳ | AH36: Ⅲ | AI36: Ⅱa | AJ36: Ⅱb
Y37: =IF(COUNTIF(Y11:Y34,"〇")>0,1,0) -> 0 | Z37: =IF(COUNTIF(Z11:Z34,"〇")>0,1,0) -> 0 | AA37: =IF(COUNTIF(AA11:AA34,"〇")>0,1,0) -> 0 | AB37: =IF(COUNTIF(AB11:AB34,"〇")>0,1,0) -> 0 | AC37: =COUNTA(AC11:AC34) -> 0 | AD37: =COUNTA(AD11:AD34) -> 0 | AE37: =COUNTA(AE11:AE34) -> 0 | AF37: =COUNTA(AF11:AF34) -> 0 | AG37: =COUNTA(AG11:AG34) -> 0 | AH37: =COUNTA(AH11:AH34) -> 0 | AI37: =COUNTA(AI11:AI34) -> 0 | AJ37: =COUNTA(AJ11:AJ34) -> 0
K39: 所見 | L39: 【 外 力 】監視を必要としない。 【材質劣化】監視を必要としない。 【 漏 水 】監視を必要としない。 以上により本スパンの判定はⅠ判定となる。
K43: 注1：誤記入防止のため、当該変状区分以外のセルは灰色表示とすること。
K44: 注2：応急措置を実施した場合は、その詳細を備考に記載すること。
K45: 注3：外力は覆工スパン単位、材質劣化、漏水は変状単位とすること。
B46: （以下、印刷不要）
B47: ※1：本シートは作成洩れのないよう、変状が無くても全スパン分を作成すること．また変状展開図は、様式D-2-1、様式D-2-1'と同じものを覆工スパン単位で拡大し掲載すること。
B48: ※2：変状番号は、様式D-1-1で記入した番号と整合させること。
B49: ※3：対策区分毎の変状発生規模は、様式D-1-1に記載した面積を記入すること（ただし外力はスパン単位で評価するため変状の有無の欄には面積でなく○を記入し、備考欄に状況を記入）。
B50: ※4：本様式は覆工スパン毎に作成すること。
B51: ※5：変状数が多い場合は、適時、表の行を増やして覆工スパン毎に1枚のシートに収めること。また、1スパン１シートとし、スパンに合わせてシートを追加すること。
B52: ※6：対策区分毎の変状の発生範囲の規模とは，対策を行う際に参考となる変状の長さや面積であり，変状を包含する長さや面積とする。
B53: ※7：対策範囲を示す発生範囲の規模を面積で記入することが妥当ではない変状は、発生範囲の規模の欄に○を記入するとともに、備考に内容を記入すること。

Sheet 様式D-3_S007
AU1: 様式F用→ | AV1: 覆工スパン | AY1: 変 状 数 | BK1: 変 状 規 模
AV2: 番号 | AW2: 延長 （ｍ） | AX2: 健全性の診断の 区分 | AY2: 対策区分の判定 | BK2: 覆工スパン長（ｍ） | BO2: 変状の発生範囲の規模（㎡）
B3: ■定期点検記録様式 覆工スパン別変状詳細展開図 【様式D-3】 | AY3: 外力 | BC3: 材質劣化 | BG3: 漏水 | BK3: 外力 注2 | BO3: 材質劣化 | BS3: 漏水
B4: フリガナ | E4: (ｵﾄﾒｷｮｳﾄﾝﾈﾙ) | K4: 路線名 | N4: 一般国道434号 | T4: 定期点検業者 | Y4: 応用地質（株） | AG4: 定期点検年月日 | AK4: 45845 | AY4: Ⅳ | AZ4: Ⅲ | BA4: Ⅱa | BB4: Ⅱb | BC4: Ⅳ | BD4: Ⅲ | BE4: Ⅱa | BF4: Ⅱb | BG4: Ⅳ | BH4: Ⅲ | BI4: Ⅱa | BJ4: Ⅱb | BK4: Ⅳ | BL4: Ⅲ | BM4: Ⅱa | BN4: Ⅱb | BO4: Ⅳ | BP4: Ⅲ | BQ4: Ⅱa | BR4: Ⅱb | BS4: Ⅳ | BT4: Ⅲ | BU4: Ⅱa | BV4: Ⅱb
B5: 名 称 | E5: 乙女峡トンネル | K5: 管理者名 | N5: 山口県岩国土木建築事務所 | Y5: 太田 裕之 | AV5: =N7 -> 7 | AW5: =R7 -> 10.5 | AX5: =AM35 -> Ⅰ | AY5: =IF(Y37>0,Y37,"") | AZ5: =IF(Y37>0,"",IF(Z37>0,Z37,"")) | BA5: =IF(Y37+Z37>0,"",IF(AA37>0,AA37,"")) | BB5: =IF(Y37+Z37+AA37>0,"",IF(AB37>0,AB37,"")) | BC5: =AC37 -> 0 | BD5: =AD37 -> 0 | BE5: =AE37 -> 0 | BF5: =AF37 -> 0 | BG5: =AG37 -> 0 | BH5: =AH37 -> 0 | BI5: =AI37 -> 0 | BJ5: =AJ37 -> 0 | BK5: =IF(Y37>0,R7,"") | BL5: =IF(Y37>0,"",IF(Z37>0,R7,"")) | BM5: =IF(Y37+Z37>0,"",IF(AA37>0,R7,"")) | BN5: =IF(Y37+Z37+AA37>0,"",IF(AB37>0,R7,"")) | BO5: =AC35 -> 0 | BP5: =AD35 -> 0 | BQ5: =AE35 -> 0 | BR5: =AF35 -> 0 | BS5: =AG35 -> 0 | BT5: =AH35 -> 0 | BU5: =AI35 -> 0 | BV5: =AJ35 -> 0
B6: スパン別変状展開図 | K6: 【健全性判定集計表】
K7: スパン番号 | N7: 7 | P7: スパン長 | R7: 10.5 | U7: 前回定期点検時の判定 | W7: 応急措置前の判定 | Y7: 対策区分毎の 変状の有無 | AC7: 対策区分毎の変状の発生範囲の規模(㎡) | AK7: 備考注2
K8: 変状番号 | L8: 対象箇所 | N8: 部位区分 | P8: 変状区分 | R8: 変状種類
Y9: 外力注1 | AC9: 材質劣化注1 | AG9: 漏水注1
Y10: Ⅳ | Z10: Ⅲ | AA10: Ⅱa | AB10: Ⅱb | AC10: Ⅳ | AD10: Ⅲ | AE10: Ⅱa | AF10: Ⅱb | AG10: Ⅳ | AH10: Ⅲ | AI10: Ⅱa | AJ10: Ⅱb
K11: 1 | AQ11: =IF(P11="材質劣化",2,IF(P11="漏水",3,1)) -> 1
K12: 2 | AQ12: =IF(P12="材質劣化",2,IF(P12="漏水",3,1)) -> 1
K13: 3 | AQ13: =IF(P13="材質劣化",2,IF(P13="漏水",3,1)) -> 1
K14: 4 | AQ14: =IF(P14="材質劣化",2,IF(P14="漏水",3,1)) -> 1
K15: 5 | AQ15: =IF(P15="材質劣化",2,IF(P15="漏水",3,1)) -> 1
K16: 6 | AQ16: =IF(P16="材質劣化",2,IF(P16="漏水",3,1)) -> 1
K17: 7 | AQ17: =IF(P17="材質劣化",2,IF(P17="漏水",3,1)) -> 1
K18: 8 | AQ18: =IF(P18="材質劣化",2,IF(P18="漏水",3,1)) -> 1
K19: 9 | AQ19: =IF(P19="材質劣化",2,IF(P19="漏水",3,1)) -> 1
K20: 10 | AQ20: =IF(P20="材質劣化",2,IF(P20="漏水",3,1)) -> 1
K21: 11 | AQ21: =IF(P21="材質劣化",2,IF(P21="漏水",3,1)) -> 1
K22: 12 | AQ22: =IF(P22="材質劣化",2,IF(P22="漏水",3,1)) -> 1
... K27: 17 | AQ27: =IF(P27="材質劣化",2,IF(P27="漏水",3,1)) -> 1
K28: 18 | AQ28: =IF(P30="材質劣化",2,IF(P30="漏水",3,1)) -> 1
K29: 19 | AQ29: =IF(P34="材質劣化",2,IF(P34="漏水",3,1)) -> 1
K30: 20 | AQ30: =IF(P30="材質劣化",2,IF(P30="漏水",3,1)) -> 1
K31: 21 | AQ31: =IF(P33="材質劣化",2,IF(P33="漏水",3,1)) -> 1
K32: 22 | AQ32: =IF(P37="材質劣化",2,IF(P37="漏水",3,1)) -> 1
K33: 23 | AQ33: =IF(P33="材質劣化",2,IF(P33="漏水",3,1)) -> 1
K34: 24 | AQ34: =IF(P36="材質劣化",2,IF(P36="漏水",3,1)) -> 1
K35: 集計 判定 診断 | L35: 変状の発生規模合計(㎡) | Y35: － | AC35: =SUM(AC11:AC34) -> 0 | AD35: =SUM(AD11:AD34) -> 0 | AE35: =SUM(AE11:AE34) -> 0 | AF35: =SUM(AF11:AF34) -> 0 | AG35: =SUM(AG11:AG34) -> 0 | AH35: =SUM(AH11:AH34) -> 0 | AI35: =SUM(AI11:AI34) -> 0 | AJ35: =SUM(AJ11:AJ34) -> 0 | AK35: 覆工スパン単位の 健全性の 診断の区分 | AM35: Ⅰ
L36: 対策区分の 判定結果 | O36: 対策区分毎の変状数注3 | Y36: Ⅳ | Z36: Ⅲ | AA36: Ⅱa | AB36: Ⅱb | AC36: Ⅳ | AD36: Ⅲ | AE36: Ⅱa | AF36: Ⅱb | AG36: Ⅳ | AH36: Ⅲ | AI36: Ⅱa | AJ36: Ⅱb
Y37: =IF(COUNTIF(Y11:Y34,"〇")>0,1,0) -> 0 | Z37: =IF(COUNTIF(Z11:Z34,"〇")>0,1,0) -> 0 | AA37: =IF(COUNTIF(AA11:AA34,"〇")>0,1,0) -> 0 | AB37: =IF(COUNTIF(AB11:AB34,"〇")>0,1,0) -> 0 | AC37: =COUNTA(AC11:AC34) -> 0 | AD37: =COUNTA(AD11:AD34) -> 0 | AE37: =COUNTA(AE11:AE34) -> 0 | AF37: =COUNTA(AF11:AF34) -> 0 | AG37: =COUNTA(AG11:AG34) -> 0 | AH37: =COUNTA(AH11:AH34) -> 0 | AI37: =COUNTA(AI11:AI34) -> 0 | AJ37: =COUNTA(AJ11:AJ34) -> 0
K39: 所見 | L39: 【 外 力 】監視を必要としない。 【材質劣化】監視を必要としない。 【 漏 水 】監視を必要としない。 以上により本スパンの判定はⅠ判定となる。
K43: 注1：誤記入防止のため、当該変状区分以外のセルは灰色表示とすること。
K44: 注2：応急措置を実施した場合は、その詳細を備考に記載すること。
K45: 注3：外力は覆工スパン単位、材質劣化、漏水は変状単位とすること。
B46: （以下、印刷不要）
B47: ※1：本シートは作成洩れのないよう、変状が無くても全スパン分を作成すること．また変状展開図は、様式D-2-1、様式D-2-1'と同じものを覆工スパン単位で拡大し掲載すること。
B48: ※2：変状番号は、様式D-1-1で記入した番号と整合させること。
B49: ※3：対策区分毎の変状発生規模は、様式D-1-1に記載した面積を記入すること（ただし外力はスパン単位で評価するため変状の有無の欄には面積でなく○を記入し、備考欄に状況を記入）。
B50: ※4：本様式は覆工スパン毎に作成すること。
B51: ※5：変状数が多い場合は、適時、表の行を増やして覆工スパン毎に1枚のシートに収めること。また、1スパン１シートとし、スパンに合わせてシートを追加すること。
B52: ※6：対策区分毎の変状の発生範囲の規模とは，対策を行う際に参考となる変状の長さや面積であり，変状を包含する長さや面積とする。
B53: ※7：対策範囲を示す発生範囲の規模を面積で記入することが妥当ではない変状は、発生範囲の規模の欄に○を記入するとともに、備考に内容を記入すること。

Sheet 様式D-3_S008
AU1: 様式F用→ | AV1: 覆工スパン | AY1: 変 状 数 | BK1: 変 状 規 模
AV2: 番号 | AW2: 延長 （ｍ） | AX2: 健全性の診断の 区分 | AY2: 対策区分の判定 | BK2: 覆工スパン長（ｍ） | BO2: 変状の発生範囲の規模（㎡）
B3: ■定期点検記録様式 覆工スパン別変状詳細展開図 【様式D-3】 | AY3: 外力 | BC3: 材質劣化 | BG3: 漏水 | BK3: 外力 注2 | BO3: 材質劣化 | BS3: 漏水
B4: フリガナ | E4: (ｵﾄﾒｷｮｳﾄﾝﾈﾙ) | K4: 路線名 | N4: 一般国道434号 | T4: 定期点検業者 | Y4: 応用地質（株） | AG4: 定期点検年月日 | AK4: 45845 | AY4: Ⅳ | AZ4: Ⅲ | BA4: Ⅱa | BB4: Ⅱb | BC4: Ⅳ | BD4: Ⅲ | BE4: Ⅱa | BF4: Ⅱb | BG4: Ⅳ | BH4: Ⅲ | BI4: Ⅱa | BJ4: Ⅱb | BK4: Ⅳ | BL4: Ⅲ | BM4: Ⅱa | BN4: Ⅱb | BO4: Ⅳ | BP4: Ⅲ | BQ4: Ⅱa | BR4: Ⅱb | BS4: Ⅳ | BT4: Ⅲ | BU4: Ⅱa | BV4: Ⅱb
B5: 名 称 | E5: 乙女峡トンネル | K5: 管理者名 | N5: 山口県岩国土木建築事務所 | Y5: 太田 裕之 | AV5: =N7 -> 8 | AW5: =R7 -> 10.5 | AX5: =AM35 -> Ⅰ | AY5: =IF(Y37>0,Y37,"") | AZ5: =IF(Y37>0,"",IF(Z37>0,Z37,"")) | BA5: =IF(Y37+Z37>0,"",IF(AA37>0,AA37,"")) | BB5: =IF(Y37+Z37+AA37>0,"",IF(AB37>0,AB37,"")) | BC5: =AC37 -> 0 | BD5: =AD37 -> 0 | BE5: =AE37 -> 0 | BF5: =AF37 -> 0 | BG5: =AG37 -> 0 | BH5: =AH37 -> 0 | BI5: =AI37 -> 0 | BJ5: =AJ37 -> 0 | BK5: =IF(Y37>0,R7,"") | BL5: =IF(Y37>0,"",IF(Z37>0,R7,"")) | BM5: =IF(Y37+Z37>0,"",IF(AA37>0,R7,"")) | BN5: =IF(Y37+Z37+AA37>0,"",IF(AB37>0,R7,"")) | BO5: =AC35 -> 0 | BP5: =AD35 -> 0 | BQ5: =AE35 -> 0 | BR5: =AF35 -> 0 | BS5: =AG35 -> 0 | BT5: =AH35 -> 0 | BU5: =AI35 -> 0 | BV5: =AJ35 -> 0
B6: スパン別変状展開図 | K6: 【健全性判定集計表】
K7: スパン番号 | N7: 8 | P7: スパン長 | R7: 10.5 | U7: 前回定期点検時の判定 | W7: 応急措置前の判定 | Y7: 対策区分毎の 変状の有無 | AC7: 対策区分毎の変状の発生範囲の規模(㎡) | AK7: 備考注2
K8: 変状番号 | L8: 対象箇所 | N8: 部位区分 | P8: 変状区分 | R8: 変状種類
Y9: 外力注1 | AC9: 材質劣化注1 | AG9: 漏水注1
Y10: Ⅳ | Z10: Ⅲ | AA10: Ⅱa | AB10: Ⅱb | AC10: Ⅳ | AD10: Ⅲ | AE10: Ⅱa | AF10: Ⅱb | AG10: Ⅳ | AH10: Ⅲ | AI10: Ⅱa | AJ10: Ⅱb
K11: 1 | L11: 覆工 | N11: アーチ（左側） | P11: 材質劣化 | R11: 鋼材腐食 | U11: Ⅱa | W11: Ⅱa | AK11: 今回点検時に叩き落とし実施 | AQ11: =IF(P11="材質劣化",2,IF(P11="漏水",3,1)) -> 2
K12: 2 | L12: 覆工 | N12: 横断目地（天端） | P12: 材質劣化 | R12: うき・はく離 | U12: － | W12: Ⅳ | AK12: 今回点検時に叩き落とし実施 | AQ12: =IF(P12="材質劣化",2,IF(P12="漏水",3,1)) -> 2
K13: 3 | AQ13: =IF(P13="材質劣化",2,IF(P13="漏水",3,1)) -> 1
K14: 4 | AQ14: =IF(P14="材質劣化",2,IF(P14="漏水",3,1)) -> 1
K15: 5 | AQ15: =IF(P15="材質劣化",2,IF(P15="漏水",3,1)) -> 1
K16: 6 | AQ16: =IF(P16="材質劣化",2,IF(P16="漏水",3,1)) -> 1
K17: 7 | AQ17: =IF(P17="材質劣化",2,IF(P17="漏水",3,1)) -> 1
K18: 8 | AQ18: =IF(P18="材質劣化",2,IF(P18="漏水",3,1)) -> 1
K19: 9 | AQ19: =IF(P19="材質劣化",2,IF(P19="漏水",3,1)) -> 1
K20: 10 | AQ20: =IF(P20="材質劣化",2,IF(P20="漏水",3,1)) -> 1
K21: 11 | AQ21: =IF(P21="材質劣化",2,IF(P21="漏水",3,1)) -> 1
K22: 12 | AQ22: =IF(P22="材質劣化",2,IF(P22="漏水",3,1)) -> 1
K23: 13 | AQ23: =IF(P23="材質劣化",2,IF(P23="漏水",3,1)) -> 1
K24: 14 | AQ24: =IF(P24="材質劣化",2,IF(P24="漏水",3,1)) -> 1
... K27: 17 | AQ27: =IF(P27="材質劣化",2,IF(P27="漏水",3,1)) -> 1
K28: 18 | AQ28: =IF(P30="材質劣化",2,IF(P30="漏水",3,1)) -> 1
K29: 19 | AQ29: =IF(P34="材質劣化",2,IF(P34="漏水",3,1)) -> 1
K30: 20 | AQ30: =IF(P30="材質劣化",2,IF(P30="漏水",3,1)) -> 1
K31: 21 | AQ31: =IF(P33="材質劣化",2,IF(P33="漏水",3,1)) -> 1
K32: 22 | AQ32: =IF(P37="材質劣化",2,IF(P37="漏水",3,1)) -> 1
K33: 23 | AQ33: =IF(P33="材質劣化",2,IF(P33="漏水",3,1)) -> 1
K34: 24 | AQ34: =IF(P36="材質劣化",2,IF(P36="漏水",3,1)) -> 1
K35: 集計 判定 診断 | L35: 変状の発生規模合計(㎡) | Y35: － | AC35: =SUM(AC11:AC34) -> 0 | AD35: =SUM(AD11:AD34) -> 0 | AE35: =SUM(AE11:AE34) -> 0 | AF35: =SUM(AF11:AF34) -> 0 | AG35: =SUM(AG11:AG34) -> 0 | AH35: =SUM(AH11:AH34) -> 0 | AI35: =SUM(AI11:AI34) -> 0 | AJ35: =SUM(AJ11:AJ34) -> 0 | AK35: 覆工スパン単位の 健全性の 診断の区分 | AM35: Ⅰ
L36: 対策区分の 判定結果 | O36: 対策区分毎の変状数注3 | Y36: Ⅳ | Z36: Ⅲ | AA36: Ⅱa | AB36: Ⅱb | AC36: Ⅳ | AD36: Ⅲ | AE36: Ⅱa | AF36: Ⅱb | AG36: Ⅳ | AH36: Ⅲ | AI36: Ⅱa | AJ36: Ⅱb
Y37: =IF(COUNTIF(Y11:Y34,"〇")>0,1,0) -> 0 | Z37: =IF(COUNTIF(Z11:Z34,"〇")>0,1,0) -> 0 | AA37: =IF(COUNTIF(AA11:AA34,"〇")>0,1,0) -> 0 | AB37: =IF(COUNTIF(AB11:AB34,"〇")>0,1,0) -> 0 | AC37: =COUNTA(AC11:AC34) -> 0 | AD37: =COUNTA(AD11:AD34) -> 0 | AE37: =COUNTA(AE11:AE34) -> 0 | AF37: =COUNTA(AF11:AF34) -> 0 | AG37: =COUNTA(AG11:AG34) -> 0 | AH37: =COUNTA(AH11:AH34) -> 0 | AI37: =COUNTA(AI11:AI34) -> 0 | AJ37: =COUNTA(AJ11:AJ34) -> 0
K39: 所見 | L39: 【 外 力 】監視を必要としない。 【材質劣化】監視を必要としない。 【 漏 水 】監視を必要としない。 以上により本スパンの判定はⅠ判定となる。
K43: 注1：誤記入防止のため、当該変状区分以外のセルは灰色表示とすること。
K44: 注2：応急措置を実施した場合は、その詳細を備考に記載すること。
K45: 注3：外力は覆工スパン単位、材質劣化、漏水は変状単位とすること。
B46: （以下、印刷不要）
B47: ※1：本シートは作成洩れのないよう、変状が無くても全スパン分を作成すること．また変状展開図は、様式D-2-1、様式D-2-1'と同じものを覆工スパン単位で拡大し掲載すること。
B48: ※2：変状番号は、様式D-1-1で記入した番号と整合させること。
B49: ※3：対策区分毎の変状発生規模は、様式D-1-1に記載した面積を記入すること（ただし外力はスパン単位で評価するため変状の有無の欄には面積でなく○を記入し、備考欄に状況を記入）。
B50: ※4：本様式は覆工スパン毎に作成すること。
B51: ※5：変状数が多い場合は、適時、表の行を増やして覆工スパン毎に1枚のシートに収めること。また、1スパン１シートとし、スパンに合わせてシートを追加すること。
B52: ※6：対策区分毎の変状の発生範囲の規模とは，対策を行う際に参考となる変状の長さや面積であり，変状を包含する長さや面積とする。
B53: ※7：対策範囲を示す発生範囲の規模を面積で記入することが妥当ではない変状は、発生範囲の規模の欄に○を記入するとともに、備考に内容を記入すること。

Sheet 様式D-3_S009
AU1: 様式F用→ | AV1: 覆工スパン | AY1: 変 状 数 | BK1: 変 状 規 模
AV2: 番号 | AW2: 延長 （ｍ） | AX2: 健全性の診断の 区分 | AY2: 対策区分の判定 | BK2: 覆工スパン長（ｍ） | BO2: 変状の発生範囲の規模（㎡）
B3: ■定期点検記録様式 覆工スパン別変状詳細展開図 【様式D-3】 | AY3: 外力 | BC3: 材質劣化 | BG3: 漏水 | BK3: 外力 注2 | BO3: 材質劣化 | BS3: 漏水
B4: フリガナ | E4: (ｵﾄﾒｷｮｳﾄﾝﾈﾙ) | K4: 路線名 | N4: 一般国道434号 | T4: 定期点検業者 | Y4: 応用地質（株） | AG4: 定期点検年月日 | AK4: 45845 | AY4: Ⅳ | AZ4: Ⅲ | BA4: Ⅱa | BB4: Ⅱb | BC4: Ⅳ | BD4: Ⅲ | BE4: Ⅱa | BF4: Ⅱb | BG4: Ⅳ | BH4: Ⅲ | BI4: Ⅱa | BJ4: Ⅱb | BK4: Ⅳ | BL4: Ⅲ | BM4: Ⅱa | BN4: Ⅱb | BO4: Ⅳ | BP4: Ⅲ | BQ4: Ⅱa | BR4: Ⅱb | BS4: Ⅳ | BT4: Ⅲ | BU4: Ⅱa | BV4: Ⅱb
B5: 名 称 | E5: 乙女峡トンネル | K5: 管理者名 | N5: 山口県岩国土木建築事務所 | Y5: 太田 裕之 | AV5: =N7 -> 9 | AW5: =R7 -> 10.5 | AX5: =AM35 -> Ⅰ | AY5: =IF(Y37>0,Y37,"") | AZ5: =IF(Y37>0,"",IF(Z37>0,Z37,"")) | BA5: =IF(Y37+Z37>0,"",IF(AA37>0,AA37,"")) | BB5: =IF(Y37+Z37+AA37>0,"",IF(AB37>0,AB37,"")) | BC5: =AC37 -> 0 | BD5: =AD37 -> 0 | BE5: =AE37 -> 0 | BF5: =AF37 -> 0 | BG5: =AG37 -> 0 | BH5: =AH37 -> 0 | BI5: =AI37 -> 0 | BJ5: =AJ37 -> 0 | BK5: =IF(Y37>0,R7,"") | BL5: =IF(Y37>0,"",IF(Z37>0,R7,"")) | BM5: =IF(Y37+Z37>0,"",IF(AA37>0,R7,"")) | BN5: =IF(Y37+Z37+AA37>0,"",IF(AB37>0,R7,"")) | BO5: =AC35 -> 0 | BP5: =AD35 -> 0 | BQ5: =AE35 -> 0 | BR5: =AF35 -> 0 | BS5: =AG35 -> 0 | BT5: =AH35 -> 0 | BU5: =AI35 -> 0 | BV5: =AJ35 -> 0
B6: スパン別変状展開図 | K6: 【健全性判定集計表】
K7: スパン番号 | N7: 9 | P7: スパン長 | R7: 10.5 | U7: 前回定期点検時の判定 | W7: 応急措置前の判定 | Y7: 対策区分毎の 変状の有無 | AC7: 対策区分毎の変状の発生範囲の規模(㎡) | AK7: 備考注2
K8: 変状番号 | L8: 対象箇所 | N8: 部位区分 | P8: 変状区分 | R8: 変状種類
Y9: 外力注1 | AC9: 材質劣化注1 | AG9: 漏水注1
Y10: Ⅳ | Z10: Ⅲ | AA10: Ⅱa | AB10: Ⅱb | AC10: Ⅳ | AD10: Ⅲ | AE10: Ⅱa | AF10: Ⅱb | AG10: Ⅳ | AH10: Ⅲ | AI10: Ⅱa | AJ10: Ⅱb
K11: 1 | AQ11: =IF(P11="材質劣化",2,IF(P11="漏水",3,1)) -> 1
K12: 2 | AQ12: =IF(P12="材質劣化",2,IF(P12="漏水",3,1)) -> 1
K13: 3 | AQ13: =IF(P13="材質劣化",2,IF(P13="漏水",3,1)) -> 1
K14: 4 | AQ14: =IF(P14="材質劣化",2,IF(P14="漏水",3,1)) -> 1
K15: 5 | AQ15: =IF(P15="材質劣化",2,IF(P15="漏水",3,1)) -> 1
K16: 6 | AQ16: =IF(P16="材質劣化",2,IF(P16="漏水",3,1)) -> 1
K17: 7 | AQ17: =IF(P17="材質劣化",2,IF(P17="漏水",3,1)) -> 1
K18: 8 | AQ18: =IF(P18="材質劣化",2,IF(P18="漏水",3,1)) -> 1
K19: 9 | AQ19: =IF(P19="材質劣化",2,IF(P19="漏水",3,1)) -> 1
K20: 10 | AQ20: =IF(P20="材質劣化",2,IF(P20="漏水",3,1)) -> 1
K21: 11 | AQ21: =IF(P21="材質劣化",2,IF(P21="漏水",3,1)) -> 1
K22: 12 | AQ22: =IF(P22="材質劣化",2,IF(P22="漏水",3,1)) -> 1
... K27: 17 | AQ27: =IF(P27="材質劣化",2,IF(P27="漏水",3,1)) -> 1
K28: 18 | AQ28: =IF(P30="材質劣化",2,IF(P30="漏水",3,1)) -> 1
K29: 19 | AQ29: =IF(P34="材質劣化",2,IF(P34="漏水",3,1)) -> 1
K30: 20 | AQ30: =IF(P30="材質劣化",2,IF(P30="漏水",3,1)) -> 1
K31: 21 | AQ31: =IF(P33="材質劣化",2,IF(P33="漏水",3,1)) -> 1
K32: 22 | AQ32: =IF(P37="材質劣化",2,IF(P37="漏水",3,1)) -> 1
K33: 23 | AQ33: =IF(P33="材質劣化",2,IF(P33="漏水",3,1)) -> 1
K34: 24 | AQ34: =IF(P36="材質劣化",2,IF(P36="漏水",3,1)) -> 1
K35: 集計 判定 診断 | L35: 変状の発生規模合計(㎡) | Y35: － | AC35: =SUM(AC11:AC34) -> 0 | AD35: =SUM(AD11:AD34) -> 0 | AE35: =SUM(AE11:AE34) -> 0 | AF35: =SUM(AF11:AF34) -> 0 | AG35: =SUM(AG11:AG34) -> 0 | AH35: =SUM(AH11:AH34) -> 0 | AI35: =SUM(AI11:AI34) -> 0 | AJ35: =SUM(AJ11:AJ34) -> 0 | AK35: 覆工スパン単位の 健全性の 診断の区分 | AM35: Ⅰ
L36: 対策区分の 判定結果 | O36: 対策区分毎の変状数注3 | Y36: Ⅳ | Z36: Ⅲ | AA36: Ⅱa | AB36: Ⅱb | AC36: Ⅳ | AD36: Ⅲ | AE36: Ⅱa | AF36: Ⅱb | AG36: Ⅳ | AH36: Ⅲ | AI36: Ⅱa | AJ36: Ⅱb
Y37: =IF(COUNTIF(Y11:Y34,"〇")>0,1,0) -> 0 | Z37: =IF(COUNTIF(Z11:Z34,"〇")>0,1,0) -> 0 | AA37: =IF(COUNTIF(AA11:AA34,"〇")>0,1,0) -> 0 | AB37: =IF(COUNTIF(AB11:AB34,"〇")>0,1,0) -> 0 | AC37: =COUNTA(AC11:AC34) -> 0 | AD37: =COUNTA(AD11:AD34) -> 0 | AE37: =COUNTA(AE11:AE34) -> 0 | AF37: =COUNTA(AF11:AF34) -> 0 | AG37: =COUNTA(AG11:AG34) -> 0 | AH37: =COUNTA(AH11:AH34) -> 0 | AI37: =COUNTA(AI11:AI34) -> 0 | AJ37: =COUNTA(AJ11:AJ34) -> 0
K39: 所見 | L39: 【 外 力 】監視を必要としない。 【材質劣化】監視を必要としない。 【 漏 水 】監視を必要としない。 以上により本スパンの判定はⅠ判定となる。
K43: 注1：誤記入防止のため、当該変状区分以外のセルは灰色表示とすること。
K44: 注2：応急措置を実施した場合は、その詳細を備考に記載すること。
K45: 注3：外力は覆工スパン単位、材質劣化、漏水は変状単位とすること。
B46: （以下、印刷不要）
B47: ※1：本シートは作成洩れのないよう、変状が無くても全スパン分を作成すること．また変状展開図は、様式D-2-1、様式D-2-1'と同じものを覆工スパン単位で拡大し掲載すること。
B48: ※2：変状番号は、様式D-1-1で記入した番号と整合させること。
B49: ※3：対策区分毎の変状発生規模は、様式D-1-1に記載した面積を記入すること（ただし外力はスパン単位で評価するため変状の有無の欄には面積でなく○を記入し、備考欄に状況を記入）。
B50: ※4：本様式は覆工スパン毎に作成すること。
B51: ※5：変状数が多い場合は、適時、表の行を増やして覆工スパン毎に1枚のシートに収めること。また、1スパン１シートとし、スパンに合わせてシートを追加すること。
B52: ※6：対策区分毎の変状の発生範囲の規模とは，対策を行う際に参考となる変状の長さや面積であり，変状を包含する長さや面積とする。
B53: ※7：対策範囲を示す発生範囲の規模を面積で記入することが妥当ではない変状は、発生範囲の規模の欄に○を記入するとともに、備考に内容を記入すること。

Sheet 様式D-3_S010
AU1: 様式F用→ | AV1: 覆工スパン | AY1: 変 状 数 | BK1: 変 状 規 模
AV2: 番号 | AW2: 延長 （ｍ） | AX2: 健全性の診断の 区分 | AY2: 対策区分の判定 | BK2: 覆工スパン長（ｍ） | BO2: 変状の発生範囲の規模（㎡）
B3: ■定期点検記録様式 覆工スパン別変状詳細展開図 【様式D-3】 | AY3: 外力 | BC3: 材質劣化 | BG3: 漏水 | BK3: 外力 注2 | BO3: 材質劣化 | BS3: 漏水
B4: フリガナ | E4: (ｵﾄﾒｷｮｳﾄﾝﾈﾙ) | K4: 路線名 | N4: 一般国道434号 | T4: 定期点検業者 | Y4: 応用地質（株） | AG4: 定期点検年月日 | AK4: 45845 | AY4: Ⅳ | AZ4: Ⅲ | BA4: Ⅱa | BB4: Ⅱb | BC4: Ⅳ | BD4: Ⅲ | BE4: Ⅱa | BF4: Ⅱb | BG4: Ⅳ | BH4: Ⅲ | BI4: Ⅱa | BJ4: Ⅱb | BK4: Ⅳ | BL4: Ⅲ | BM4: Ⅱa | BN4: Ⅱb | BO4: Ⅳ | BP4: Ⅲ | BQ4: Ⅱa | BR4: Ⅱb | BS4: Ⅳ | BT4: Ⅲ | BU4: Ⅱa | BV4: Ⅱb
B5: 名 称 | E5: 乙女峡トンネル | K5: 管理者名 | N5: 山口県岩国土木建築事務所 | Y5: 太田 裕之 | AV5: =N7 -> 10 | AW5: =R7 -> 10.5 | AX5: =AM35 -> Ⅰ | AY5: =IF(Y37>0,Y37,"") | AZ5: =IF(Y37>0,"",IF(Z37>0,Z37,"")) | BA5: =IF(Y37+Z37>0,"",IF(AA37>0,AA37,"")) | BB5: =IF(Y37+Z37+AA37>0,"",IF(AB37>0,AB37,"")) | BC5: =AC37 -> 0 | BD5: =AD37 -> 0 | BE5: =AE37 -> 0 | BF5: =AF37 -> 0 | BG5: =AG37 -> 0 | BH5: =AH37 -> 0 | BI5: =AI37 -> 0 | BJ5: =AJ37 -> 0 | BK5: =IF(Y37>0,R7,"") | BL5: =IF(Y37>0,"",IF(Z37>0,R7,"")) | BM5: =IF(Y37+Z37>0,"",IF(AA37>0,R7,"")) | BN5: =IF(Y37+Z37+AA37>0,"",IF(AB37>0,R7,"")) | BO5: =AC35 -> 0 | BP5: =AD35 -> 0 | BQ5: =AE35 -> 0 | BR5: =AF35 -> 0 | BS5: =AG35 -> 0 | BT5: =AH35 -> 0 | BU5: =AI35 -> 0 | BV5: =AJ35 -> 0
B6: スパン別変状展開図 | K6: 【健全性判定集計表】
K7: スパン番号 | N7: 10 | P7: スパン長 | R7: 10.5 | U7: 前回定期点検時の判定 | W7: 応急措置前の判定 | Y7: 対策区分毎の 変状の有無 | AC7: 対策区分毎の変状の発生範囲の規模(㎡) | AK7: 備考注2
K8: 変状番号 | L8: 対象箇所 | N8: 部位区分 | P8: 変状区分 | R8: 変状種類
Y9: 外力注1 | AC9: 材質劣化注1 | AG9: 漏水注1
Y10: Ⅳ | Z10: Ⅲ | AA10: Ⅱa | AB10: Ⅱb | AC10: Ⅳ | AD10: Ⅲ | AE10: Ⅱa | AF10: Ⅱb | AG10: Ⅳ | AH10: Ⅲ | AI10: Ⅱa | AJ10: Ⅱb
K11: 1 | AQ11: =IF(P11="材質劣化",2,IF(P11="漏水",3,1)) -> 1
K12: 2 | AQ12: =IF(P12="材質劣化",2,IF(P12="漏水",3,1)) -> 1
K13: 3 | AQ13: =IF(P13="材質劣化",2,IF(P13="漏水",3,1)) -> 1
K14: 4 | AQ14: =IF(P14="材質劣化",2,IF(P14="漏水",3,1)) -> 1
K15: 5 | AQ15: =IF(P15="材質劣化",2,IF(P15="漏水",3,1)) -> 1
K16: 6 | AQ16: =IF(P16="材質劣化",2,IF(P16="漏水",3,1)) -> 1
K17: 7 | AQ17: =IF(P17="材質劣化",2,IF(P17="漏水",3,1)) -> 1
K18: 8 | AQ18: =IF(P18="材質劣化",2,IF(P18="漏水",3,1)) -> 1
K19: 9 | AQ19: =IF(P19="材質劣化",2,IF(P19="漏水",3,1)) -> 1
K20: 10 | AQ20: =IF(P20="材質劣化",2,IF(P20="漏水",3,1)) -> 1
K21: 11 | AQ21: =IF(P21="材質劣化",2,IF(P21="漏水",3,1)) -> 1
K22: 12 | AQ22: =IF(P22="材質劣化",2,IF(P22="漏水",3,1)) -> 1
... K27: 17 | AQ27: =IF(P27="材質劣化",2,IF(P27="漏水",3,1)) -> 1
K28: 18 | AQ28: =IF(P30="材質劣化",2,IF(P30="漏水",3,1)) -> 1
K29: 19 | AQ29: =IF(P34="材質劣化",2,IF(P34="漏水",3,1)) -> 1
K30: 20 | AQ30: =IF(P30="材質劣化",2,IF(P30="漏水",3,1)) -> 1
K31: 21 | AQ31: =IF(P33="材質劣化",2,IF(P33="漏水",3,1)) -> 1
K32: 22 | AQ32: =IF(P37="材質劣化",2,IF(P37="漏水",3,1)) -> 1
K33: 23 | AQ33: =IF(P33="材質劣化",2,IF(P33="漏水",3,1)) -> 1
K34: 24 | AQ34: =IF(P36="材質劣化",2,IF(P36="漏水",3,1)) -> 1
K35: 集計 判定 診断 | L35: 変状の発生規模合計(㎡) | Y35: － | AC35: =SUM(AC11:AC34) -> 0 | AD35: =SUM(AD11:AD34) -> 0 | AE35: =SUM(AE11:AE34) -> 0 | AF35: =SUM(AF11:AF34) -> 0 | AG35: =SUM(AG11:AG34) -> 0 | AH35: =SUM(AH11:AH34) -> 0 | AI35: =SUM(AI11:AI34) -> 0 | AJ35: =SUM(AJ11:AJ34) -> 0 | AK35: 覆工スパン単位の 健全性の 診断の区分 | AM35: Ⅰ
L36: 対策区分の 判定結果 | O36: 対策区分毎の変状数注3 | Y36: Ⅳ | Z36: Ⅲ | AA36: Ⅱa | AB36: Ⅱb | AC36: Ⅳ | AD36: Ⅲ | AE36: Ⅱa | AF36: Ⅱb | AG36: Ⅳ | AH36: Ⅲ | AI36: Ⅱa | AJ36: Ⅱb
Y37: =IF(COUNTIF(Y11:Y34,"〇")>0,1,0) -> 0 | Z37: =IF(COUNTIF(Z11:Z34,"〇")>0,1,0) -> 0 | AA37: =IF(COUNTIF(AA11:AA34,"〇")>0,1,0) -> 0 | AB37: =IF(COUNTIF(AB11:AB34,"〇")>0,1,0) -> 0 | AC37: =COUNTA(AC11:AC34) -> 0 | AD37: =COUNTA(AD11:AD34) -> 0 | AE37: =COUNTA(AE11:AE34) -> 0 | AF37: =COUNTA(AF11:AF34) -> 0 | AG37: =COUNTA(AG11:AG34) -> 0 | AH37: =COUNTA(AH11:AH34) -> 0 | AI37: =COUNTA(AI11:AI34) -> 0 | AJ37: =COUNTA(AJ11:AJ34) -> 0
K39: 所見 | L39: 【 外 力 】監視を必要としない。 【材質劣化】監視を必要としない。 【 漏 水 】監視を必要としない。 以上により本スパンの判定はⅠ判定となる。
K43: 注1：誤記入防止のため、当該変状区分以外のセルは灰色表示とすること。
K44: 注2：応急措置を実施した場合は、その詳細を備考に記載すること。
K45: 注3：外力は覆工スパン単位、材質劣化、漏水は変状単位とすること。
B46: （以下、印刷不要）
B47: ※1：本シートは作成洩れのないよう、変状が無くても全スパン分を作成すること．また変状展開図は、様式D-2-1、様式D-2-1'と同じものを覆工スパン単位で拡大し掲載すること。
B48: ※2：変状番号は、様式D-1-1で記入した番号と整合させること。
B49: ※3：対策区分毎の変状発生規模は、様式D-1-1に記載した面積を記入すること（ただし外力はスパン単位で評価するため変状の有無の欄には面積でなく○を記入し、備考欄に状況を記入）。
B50: ※4：本様式は覆工スパン毎に作成すること。
B51: ※5：変状数が多い場合は、適時、表の行を増やして覆工スパン毎に1枚のシートに収めること。また、1スパン１シートとし、スパンに合わせてシートを追加すること。
B52: ※6：対策区分毎の変状の発生範囲の規模とは，対策を行う際に参考となる変状の長さや面積であり，変状を包含する長さや面積とする。
B53: ※7：対策範囲を示す発生範囲の規模を面積で記入することが妥当ではない変状は、発生範囲の規模の欄に○を記入するとともに、備考に内容を記入すること。

Sheet 様式D-3_S011
AU1: 様式F用→ | AV1: 覆工スパン | AY1: 変 状 数 | BK1: 変 状 規 模
AV2: 番号 | AW2: 延長 （ｍ） | AX2: 健全性の診断の 区分 | AY2: 対策区分の判定 | BK2: 覆工スパン長（ｍ） | BO2: 変状の発生範囲の規模（㎡）
B3: ■定期点検記録様式 覆工スパン別変状詳細展開図 【様式D-3】 | AY3: 外力 | BC3: 材質劣化 | BG3: 漏水 | BK3: 外力 注2 | BO3: 材質劣化 | BS3: 漏水
B4: フリガナ | E4: (ｵﾄﾒｷｮｳﾄﾝﾈﾙ) | K4: 路線名 | N4: 一般国道434号 | T4: 定期点検業者 | Y4: 応用地質（株） | AG4: 定期点検年月日 | AK4: 45845 | AY4: Ⅳ | AZ4: Ⅲ | BA4: Ⅱa | BB4: Ⅱb | BC4: Ⅳ | BD4: Ⅲ | BE4: Ⅱa | BF4: Ⅱb | BG4: Ⅳ | BH4: Ⅲ | BI4: Ⅱa | BJ4: Ⅱb | BK4: Ⅳ | BL4: Ⅲ | BM4: Ⅱa | BN4: Ⅱb | BO4: Ⅳ | BP4: Ⅲ | BQ4: Ⅱa | BR4: Ⅱb | BS4: Ⅳ | BT4: Ⅲ | BU4: Ⅱa | BV4: Ⅱb
B5: 名 称 | E5: 乙女峡トンネル | K5: 管理者名 | N5: 山口県岩国土木建築事務所 | Y5: 太田 裕之 | AV5: =N7 -> 11 | AW5: =R7 -> 10.5 | AX5: =AM35 -> Ⅰ | AY5: =IF(Y37>0,Y37,"") | AZ5: =IF(Y37>0,"",IF(Z37>0,Z37,"")) | BA5: =IF(Y37+Z37>0,"",IF(AA37>0,AA37,"")) | BB5: =IF(Y37+Z37+AA37>0,"",IF(AB37>0,AB37,"")) | BC5: =AC37 -> 0 | BD5: =AD37 -> 0 | BE5: =AE37 -> 0 | BF5: =AF37 -> 0 | BG5: =AG37 -> 0 | BH5: =AH37 -> 0 | BI5: =AI37 -> 0 | BJ5: =AJ37 -> 0 | BK5: =IF(Y37>0,R7,"") | BL5: =IF(Y37>0,"",IF(Z37>0,R7,"")) | BM5: =IF(Y37+Z37>0,"",IF(AA37>0,R7,"")) | BN5: =IF(Y37+Z37+AA37>0,"",IF(AB37>0,R7,"")) | BO5: =AC35 -> 0 | BP5: =AD35 -> 0 | BQ5: =AE35 -> 0 | BR5: =AF35 -> 0 | BS5: =AG35 -> 0 | BT5: =AH35 -> 0 | BU5: =AI35 -> 0 | BV5: =AJ35 -> 0
B6: スパン別変状展開図 | K6: 【健全性判定集計表】
K7: スパン番号 | N7: 11 | P7: スパン長 | R7: 10.5 | U7: 前回定期点検時の判定 | W7: 応急措置前の判定 | Y7: 対策区分毎の 変状の有無 | AC7: 対策区分毎の変状の発生範囲の規模(㎡) | AK7: 備考注2
K8: 変状番号 | L8: 対象箇所 | N8: 部位区分 | P8: 変状区分 | R8: 変状種類
Y9: 外力注1 | AC9: 材質劣化注1 | AG9: 漏水注1
Y10: Ⅳ | Z10: Ⅲ | AA10: Ⅱa | AB10: Ⅱb | AC10: Ⅳ | AD10: Ⅲ | AE10: Ⅱa | AF10: Ⅱb | AG10: Ⅳ | AH10: Ⅲ | AI10: Ⅱa | AJ10: Ⅱb
K11: 1 | AQ11: =IF(P11="材質劣化",2,IF(P11="漏水",3,1)) -> 1
K12: 2 | AQ12: =IF(P12="材質劣化",2,IF(P12="漏水",3,1)) -> 1
K13: 3 | AQ13: =IF(P13="材質劣化",2,IF(P13="漏水",3,1)) -> 1
K14: 4 | AQ14: =IF(P14="材質劣化",2,IF(P14="漏水",3,1)) -> 1
K15: 5 | AQ15: =IF(P15="材質劣化",2,IF(P15="漏水",3,1)) -> 1
K16: 6 | AQ16: =IF(P16="材質劣化",2,IF(P16="漏水",3,1)) -> 1
K17: 7 | AQ17: =IF(P17="材質劣化",2,IF(P17="漏水",3,1)) -> 1
K18: 8 | AQ18: =IF(P18="材質劣化",2,IF(P18="漏水",3,1)) -> 1
K19: 9 | AQ19: =IF(P19="材質劣化",2,IF(P19="漏水",3,1)) -> 1
K20: 10 | AQ20: =IF(P20="材質劣化",2,IF(P20="漏水",3,1)) -> 1
K21: 11 | AQ21: =IF(P21="材質劣化",2,IF(P21="漏水",3,1)) -> 1
K22: 12 | AQ22: =IF(P22="材質劣化",2,IF(P22="漏水",3,1)) -> 1
... K27: 17 | AQ27: =IF(P27="材質劣化",2,IF(P27="漏水",3,1)) -> 1
K28: 18 | AQ28: =IF(P30="材質劣化",2,IF(P30="漏水",3,1)) -> 1
K29: 19 | AQ29: =IF(P34="材質劣化",2,IF(P34="漏水",3,1)) -> 1
K30: 20 | AQ30: =IF(P30="材質劣化",2,IF(P30="漏水",3,1)) -> 1
K31: 21 | AQ31: =IF(P33="材質劣化",2,IF(P33="漏水",3,1)) -> 1
K32: 22 | AQ32: =IF(P37="材質劣化",2,IF(P37="漏水",3,1)) -> 1
K33: 23 | AQ33: =IF(P33="材質劣化",2,IF(P33="漏水",3,1)) -> 1
K34: 24 | AQ34: =IF(P36="材質劣化",2,IF(P36="漏水",3,1)) -> 1
K35: 集計 判定 診断 | L35: 変状の発生規模合計(㎡) | Y35: － | AC35: =SUM(AC11:AC34) -> 0 | AD35: =SUM(AD11:AD34) -> 0 | AE35: =SUM(AE11:AE34) -> 0 | AF35: =SUM(AF11:AF34) -> 0 | AG35: =SUM(AG11:AG34) -> 0 | AH35: =SUM(AH11:AH34) -> 0 | AI35: =SUM(AI11:AI34) -> 0 | AJ35: =SUM(AJ11:AJ34) -> 0 | AK35: 覆工スパン単位の 健全性の 診断の区分 | AM35: Ⅰ
L36: 対策区分の 判定結果 | O36: 対策区分毎の変状数注3 | Y36: Ⅳ | Z36: Ⅲ | AA36: Ⅱa | AB36: Ⅱb | AC36: Ⅳ | AD36: Ⅲ | AE36: Ⅱa | AF36: Ⅱb | AG36: Ⅳ | AH36: Ⅲ | AI36: Ⅱa | AJ36: Ⅱb
Y37: =IF(COUNTIF(Y11:Y34,"〇")>0,1,0) -> 0 | Z37: =IF(COUNTIF(Z11:Z34,"〇")>0,1,0) -> 0 | AA37: =IF(COUNTIF(AA11:AA34,"〇")>0,1,0) -> 0 | AB37: =IF(COUNTIF(AB11:AB34,"〇")>0,1,0) -> 0 | AC37: =COUNTA(AC11:AC34) -> 0 | AD37: =COUNTA(AD11:AD34) -> 0 | AE37: =COUNTA(AE11:AE34) -> 0 | AF37: =COUNTA(AF11:AF34) -> 0 | AG37: =COUNTA(AG11:AG34) -> 0 | AH37: =COUNTA(AH11:AH34) -> 0 | AI37: =COUNTA(AI11:AI34) -> 0 | AJ37: =COUNTA(AJ11:AJ34) -> 0
K39: 所見 | L39: 【 外 力 】監視を必要としない。 【材質劣化】監視を必要としない。 【 漏 水 】監視を必要としない。 以上により本スパンの判定はⅠ判定となる。
K43: 注1：誤記入防止のため、当該変状区分以外のセルは灰色表示とすること。
K44: 注2：応急措置を実施した場合は、その詳細を備考に記載すること。
K45: 注3：外力は覆工スパン単位、材質劣化、漏水は変状単位とすること。
B46: （以下、印刷不要）
B47: ※1：本シートは作成洩れのないよう、変状が無くても全スパン分を作成すること．また変状展開図は、様式D-2-1、様式D-2-1'と同じものを覆工スパン単位で拡大し掲載すること。
B48: ※2：変状番号は、様式D-1-1で記入した番号と整合させること。
B49: ※3：対策区分毎の変状発生規模は、様式D-1-1に記載した面積を記入すること（ただし外力はスパン単位で評価するため変状の有無の欄には面積でなく○を記入し、備考欄に状況を記入）。
B50: ※4：本様式は覆工スパン毎に作成すること。
B51: ※5：変状数が多い場合は、適時、表の行を増やして覆工スパン毎に1枚のシートに収めること。また、1スパン１シートとし、スパンに合わせてシートを追加すること。
B52: ※6：対策区分毎の変状の発生範囲の規模とは，対策を行う際に参考となる変状の長さや面積であり，変状を包含する長さや面積とする。
B53: ※7：対策範囲を示す発生範囲の規模を面積で記入することが妥当ではない変状は、発生範囲の規模の欄に○を記入するとともに、備考に内容を記入すること。

Sheet 様式D-3_S012
AU1: 様式F用→ | AV1: 覆工スパン | AY1: 変 状 数 | BK1: 変 状 規 模
AV2: 番号 | AW2: 延長 （ｍ） | AX2: 健全性の診断の 区分 | AY2: 対策区分の判定 | BK2: 覆工スパン長（ｍ） | BO2: 変状の発生範囲の規模（㎡）
B3: ■定期点検記録様式 覆工スパン別変状詳細展開図 【様式D-3】 | AY3: 外力 | BC3: 材質劣化 | BG3: 漏水 | BK3: 外力 注2 | BO3: 材質劣化 | BS3: 漏水
B4: フリガナ | E4: (ｵﾄﾒｷｮｳﾄﾝﾈﾙ) | K4: 路線名 | N4: 一般国道434号 | T4: 定期点検業者 | Y4: 応用地質（株） | AG4: 定期点検年月日 | AK4: 45845 | AY4: Ⅳ | AZ4: Ⅲ | BA4: Ⅱa | BB4: Ⅱb | BC4: Ⅳ | BD4: Ⅲ | BE4: Ⅱa | BF4: Ⅱb | BG4: Ⅳ | BH4: Ⅲ | BI4: Ⅱa | BJ4: Ⅱb | BK4: Ⅳ | BL4: Ⅲ | BM4: Ⅱa | BN4: Ⅱb | BO4: Ⅳ | BP4: Ⅲ | BQ4: Ⅱa | BR4: Ⅱb | BS4: Ⅳ | BT4: Ⅲ | BU4: Ⅱa | BV4: Ⅱb
B5: 名 称 | E5: 乙女峡トンネル | K5: 管理者名 | N5: 山口県岩国土木建築事務所 | Y5: 太田 裕之 | AV5: =N7 -> 12 | AW5: =R7 -> 10.5 | AX5: =AM35 -> Ⅰ | AY5: =IF(Y37>0,Y37,"") | AZ5: =IF(Y37>0,"",IF(Z37>0,Z37,"")) | BA5: =IF(Y37+Z37>0,"",IF(AA37>0,AA37,"")) | BB5: =IF(Y37+Z37+AA37>0,"",IF(AB37>0,AB37,"")) | BC5: =AC37 -> 0 | BD5: =AD37 -> 0 | BE5: =AE37 -> 0 | BF5: =AF37 -> 0 | BG5: =AG37 -> 0 | BH5: =AH37 -> 0 | BI5: =AI37 -> 0 | BJ5: =AJ37 -> 0 | BK5: =IF(Y37>0,R7,"") | BL5: =IF(Y37>0,"",IF(Z37>0,R7,"")) | BM5: =IF(Y37+Z37>0,"",IF(AA37>0,R7,"")) | BN5: =IF(Y37+Z37+AA37>0,"",IF(AB37>0,R7,"")) | BO5: =AC35 -> 0 | BP5: =AD35 -> 0 | BQ5: =AE35 -> 0 | BR5: =AF35 -> 0 | BS5: =AG35 -> 0 | BT5: =AH35 -> 0 | BU5: =AI35 -> 0 | BV5: =AJ35 -> 0
B6: スパン別変状展開図 | K6: 【健全性判定集計表】
K7: スパン番号 | N7: 12 | P7: スパン長 | R7: 10.5 | U7: 前回定期点検時の判定 | W7: 応急措置前の判定 | Y7: 対策区分毎の 変状の有無 | AC7: 対策区分毎の変状の発生範囲の規模(㎡) | AK7: 備考注2
K8: 変状番号 | L8: 対象箇所 | N8: 部位区分 | P8: 変状区分 | R8: 変状種類
Y9: 外力注1 | AC9: 材質劣化注1 | AG9: 漏水注1
Y10: Ⅳ | Z10: Ⅲ | AA10: Ⅱa | AB10: Ⅱb | AC10: Ⅳ | AD10: Ⅲ | AE10: Ⅱa | AF10: Ⅱb | AG10: Ⅳ | AH10: Ⅲ | AI10: Ⅱa | AJ10: Ⅱb
K11: 1 | AQ11: =IF(P11="材質劣化",2,IF(P11="漏水",3,1)) -> 1
K12: 2 | AQ12: =IF(P12="材質劣化",2,IF(P12="漏水",3,1)) -> 1
K13: 3 | AQ13: =IF(P13="材質劣化",2,IF(P13="漏水",3,1)) -> 1
K14: 4 | AQ14: =IF(P14="材質劣化",2,IF(P14="漏水",3,1)) -> 1
K15: 5 | AQ15: =IF(P15="材質劣化",2,IF(P15="漏水",3,1)) -> 1
K16: 6 | AQ16: =IF(P16="材質劣化",2,IF(P16="漏水",3,1)) -> 1
K17: 7 | AQ17: =IF(P17="材質劣化",2,IF(P17="漏水",3,1)) -> 1
K18: 8 | AQ18: =IF(P18="材質劣化",2,IF(P18="漏水",3,1)) -> 1
K19: 9 | AQ19: =IF(P19="材質劣化",2,IF(P19="漏水",3,1)) -> 1
K20: 10 | AQ20: =IF(P20="材質劣化",2,IF(P20="漏水",3,1)) -> 1
K21: 11 | AQ21: =IF(P21="材質劣化",2,IF(P21="漏水",3,1)) -> 1
K22: 12 | AQ22: =IF(P22="材質劣化",2,IF(P22="漏水",3,1)) -> 1
... K27: 17 | AQ27: =IF(P27="材質劣化",2,IF(P27="漏水",3,1)) -> 1
K28: 18 | AQ28: =IF(P30="材質劣化",2,IF(P30="漏水",3,1)) -> 1
K29: 19 | AQ29: =IF(P34="材質劣化",2,IF(P34="漏水",3,1)) -> 1
K30: 20 | AQ30: =IF(P30="材質劣化",2,IF(P30="漏水",3,1)) -> 1
K31: 21 | AQ31: =IF(P33="材質劣化",2,IF(P33="漏水",3,1)) -> 1
K32: 22 | AQ32: =IF(P37="材質劣化",2,IF(P37="漏水",3,1)) -> 1
K33: 23 | AQ33: =IF(P33="材質劣化",2,IF(P33="漏水",3,1)) -> 1
K34: 24 | AQ34: =IF(P36="材質劣化",2,IF(P36="漏水",3,1)) -> 1
K35: 集計 判定 診断 | L35: 変状の発生規模合計(㎡) | Y35: － | AC35: =SUM(AC11:AC34) -> 0 | AD35: =SUM(AD11:AD34) -> 0 | AE35: =SUM(AE11:AE34) -> 0 | AF35: =SUM(AF11:AF34) -> 0 | AG35: =SUM(AG11:AG34) -> 0 | AH35: =SUM(AH11:AH34) -> 0 | AI35: =SUM(AI11:AI34) -> 0 | AJ35: =SUM(AJ11:AJ34) -> 0 | AK35: 覆工スパン単位の 健全性の 診断の区分 | AM35: Ⅰ
L36: 対策区分の 判定結果 | O36: 対策区分毎の変状数注3 | Y36: Ⅳ | Z36: Ⅲ | AA36: Ⅱa | AB36: Ⅱb | AC36: Ⅳ | AD36: Ⅲ | AE36: Ⅱa | AF36: Ⅱb | AG36: Ⅳ | AH36: Ⅲ | AI36: Ⅱa | AJ36: Ⅱb
Y37: =IF(COUNTIF(Y11:Y34,"〇")>0,1,0) -> 0 | Z37: =IF(COUNTIF(Z11:Z34,"〇")>0,1,0) -> 0 | AA37: =IF(COUNTIF(AA11:AA34,"〇")>0,1,0) -> 0 | AB37: =IF(COUNTIF(AB11:AB34,"〇")>0,1,0) -> 0 | AC37: =COUNTA(AC11:AC34) -> 0 | AD37: =COUNTA(AD11:AD34) -> 0 | AE37: =COUNTA(AE11:AE34) -> 0 | AF37: =COUNTA(AF11:AF34) -> 0 | AG37: =COUNTA(AG11:AG34) -> 0 | AH37: =COUNTA(AH11:AH34) -> 0 | AI37: =COUNTA(AI11:AI34) -> 0 | AJ37: =COUNTA(AJ11:AJ34) -> 0
K39: 所見 | L39: 【 外 力 】監視を必要としない。 【材質劣化】監視を必要としない。 【 漏 水 】監視を必要としない。 以上により本スパンの判定はⅠ判定となる。
K43: 注1：誤記入防止のため、当該変状区分以外のセルは灰色表示とすること。
K44: 注2：応急措置を実施した場合は、その詳細を備考に記載すること。
K45: 注3：外力は覆工スパン単位、材質劣化、漏水は変状単位とすること。
B46: （以下、印刷不要）
B47: ※1：本シートは作成洩れのないよう、変状が無くても全スパン分を作成すること．また変状展開図は、様式D-2-1、様式D-2-1'と同じものを覆工スパン単位で拡大し掲載すること。
B48: ※2：変状番号は、様式D-1-1で記入した番号と整合させること。
B49: ※3：対策区分毎の変状発生規模は、様式D-1-1に記載した面積を記入すること（ただし外力はスパン単位で評価するため変状の有無の欄には面積でなく○を記入し、備考欄に状況を記入）。
B50: ※4：本様式は覆工スパン毎に作成すること。
B51: ※5：変状数が多い場合は、適時、表の行を増やして覆工スパン毎に1枚のシートに収めること。また、1スパン１シートとし、スパンに合わせてシートを追加すること。
B52: ※6：対策区分毎の変状の発生範囲の規模とは，対策を行う際に参考となる変状の長さや面積であり，変状を包含する長さや面積とする。
B53: ※7：対策範囲を示す発生範囲の規模を面積で記入することが妥当ではない変状は、発生範囲の規模の欄に○を記入するとともに、備考に内容を記入すること。

Sheet 様式D-3_S013
AU1: 様式F用→ | AV1: 覆工スパン | AY1: 変 状 数 | BK1: 変 状 規 模
AV2: 番号 | AW2: 延長 （ｍ） | AX2: 健全性の診断の 区分 | AY2: 対策区分の判定 | BK2: 覆工スパン長（ｍ） | BO2: 変状の発生範囲の規模（㎡）
B3: ■定期点検記録様式 覆工スパン別変状詳細展開図 【様式D-3】 | AY3: 外力 | BC3: 材質劣化 | BG3: 漏水 | BK3: 外力 注2 | BO3: 材質劣化 | BS3: 漏水
B4: フリガナ | E4: (ｵﾄﾒｷｮｳﾄﾝﾈﾙ) | K4: 路線名 | N4: 一般国道434号 | T4: 定期点検業者 | Y4: 応用地質（株） | AG4: 定期点検年月日 | AK4: 45845 | AY4: Ⅳ | AZ4: Ⅲ | BA4: Ⅱa | BB4: Ⅱb | BC4: Ⅳ | BD4: Ⅲ | BE4: Ⅱa | BF4: Ⅱb | BG4: Ⅳ | BH4: Ⅲ | BI4: Ⅱa | BJ4: Ⅱb | BK4: Ⅳ | BL4: Ⅲ | BM4: Ⅱa | BN4: Ⅱb | BO4: Ⅳ | BP4: Ⅲ | BQ4: Ⅱa | BR4: Ⅱb | BS4: Ⅳ | BT4: Ⅲ | BU4: Ⅱa | BV4: Ⅱb
B5: 名 称 | E5: 乙女峡トンネル | K5: 管理者名 | N5: 山口県岩国土木建築事務所 | Y5: 太田 裕之 | AV5: =N7 -> 13 | AW5: =R7 -> 10.5 | AX5: =AM35 -> Ⅰ | AY5: =IF(Y37>0,Y37,"") | AZ5: =IF(Y37>0,"",IF(Z37>0,Z37,"")) | BA5: =IF(Y37+Z37>0,"",IF(AA37>0,AA37,"")) | BB5: =IF(Y37+Z37+AA37>0,"",IF(AB37>0,AB37,"")) | BC5: =AC37 -> 0 | BD5: =AD37 -> 0 | BE5: =AE37 -> 0 | BF5: =AF37 -> 0 | BG5: =AG37 -> 0 | BH5: =AH37 -> 0 | BI5: =AI37 -> 0 | BJ5: =AJ37 -> 0 | BK5: =IF(Y37>0,R7,"") | BL5: =IF(Y37>0,"",IF(Z37>0,R7,"")) | BM5: =IF(Y37+Z37>0,"",IF(AA37>0,R7,"")) | BN5: =IF(Y37+Z37+AA37>0,"",IF(AB37>0,R7,"")) | BO5: =AC35 -> 0 | BP5: =AD35 -> 0 | BQ5: =AE35 -> 0 | BR5: =AF35 -> 0 | BS5: =AG35 -> 0 | BT5: =AH35 -> 0 | BU5: =AI35 -> 0 | BV5: =AJ35 -> 0
B6: スパン別変状展開図 | K6: 【健全性判定集計表】
K7: スパン番号 | N7: 13 | P7: スパン長 | R7: 10.5 | U7: 前回定期点検時の判定 | W7: 応急措置前の判定 | Y7: 対策区分毎の 変状の有無 | AC7: 対策区分毎の変状の発生範囲の規模(㎡) | AK7: 備考注2
K8: 変状番号 | L8: 対象箇所 | N8: 部位区分 | P8: 変状区分 | R8: 変状種類
Y9: 外力注1 | AC9: 材質劣化注1 | AG9: 漏水注1
Y10: Ⅳ | Z10: Ⅲ | AA10: Ⅱa | AB10: Ⅱb | AC10: Ⅳ | AD10: Ⅲ | AE10: Ⅱa | AF10: Ⅱb | AG10: Ⅳ | AH10: Ⅲ | AI10: Ⅱa | AJ10: Ⅱb
K11: 1 | AQ11: =IF(P11="材質劣化",2,IF(P11="漏水",3,1)) -> 1
K12: 2 | AQ12: =IF(P12="材質劣化",2,IF(P12="漏水",3,1)) -> 1
K13: 3 | AQ13: =IF(P13="材質劣化",2,IF(P13="漏水",3,1)) -> 1
K14: 4 | AQ14: =IF(P14="材質劣化",2,IF(P14="漏水",3,1)) -> 1
K15: 5 | AQ15: =IF(P15="材質劣化",2,IF(P15="漏水",3,1)) -> 1
K16: 6 | AQ16: =IF(P16="材質劣化",2,IF(P16="漏水",3,1)) -> 1
K17: 7 | AQ17: =IF(P17="材質劣化",2,IF(P17="漏水",3,1)) -> 1
K18: 8 | AQ18: =IF(P18="材質劣化",2,IF(P18="漏水",3,1)) -> 1
K19: 9 | AQ19: =IF(P19="材質劣化",2,IF(P19="漏水",3,1)) -> 1
K20: 10 | AQ20: =IF(P20="材質劣化",2,IF(P20="漏水",3,1)) -> 1
K21: 11 | AQ21: =IF(P21="材質劣化",2,IF(P21="漏水",3,1)) -> 1
K22: 12 | AQ22: =IF(P22="材質劣化",2,IF(P22="漏水",3,1)) -> 1
... K27: 17 | AQ27: =IF(P27="材質劣化",2,IF(P27="漏水",3,1)) -> 1
K28: 18 | AQ28: =IF(P30="材質劣化",2,IF(P30="漏水",3,1)) -> 1
K29: 19 | AQ29: =IF(P34="材質劣化",2,IF(P34="漏水",3,1)) -> 1
K30: 20 | AQ30: =IF(P30="材質劣化",2,IF(P30="漏水",3,1)) -> 1
K31: 21 | AQ31: =IF(P33="材質劣化",2,IF(P33="漏水",3,1)) -> 1
K32: 22 | AQ32: =IF(P37="材質劣化",2,IF(P37="漏水",3,1)) -> 1
K33: 23 | AQ33: =IF(P33="材質劣化",2,IF(P33="漏水",3,1)) -> 1
K34: 24 | AQ34: =IF(P36="材質劣化",2,IF(P36="漏水",3,1)) -> 1
K35: 集計 判定 診断 | L35: 変状の発生規模合計(㎡) | Y35: － | AC35: =SUM(AC11:AC34) -> 0 | AD35: =SUM(AD11:AD34) -> 0 | AE35: =SUM(AE11:AE34) -> 0 | AF35: =SUM(AF11:AF34) -> 0 | AG35: =SUM(AG11:AG34) -> 0 | AH35: =SUM(AH11:AH34) -> 0 | AI35: =SUM(AI11:AI34) -> 0 | AJ35: =SUM(AJ11:AJ34) -> 0 | AK35: 覆工スパン単位の 健全性の 診断の区分 | AM35: Ⅰ
L36: 対策区分の 判定結果 | O36: 対策区分毎の変状数注3 | Y36: Ⅳ | Z36: Ⅲ | AA36: Ⅱa | AB36: Ⅱb | AC36: Ⅳ | AD36: Ⅲ | AE36: Ⅱa | AF36: Ⅱb | AG36: Ⅳ | AH36: Ⅲ | AI36: Ⅱa | AJ36: Ⅱb
Y37: =IF(COUNTIF(Y11:Y34,"〇")>0,1,0) -> 0 | Z37: =IF(COUNTIF(Z11:Z34,"〇")>0,1,0) -> 0 | AA37: =IF(COUNTIF(AA11:AA34,"〇")>0,1,0) -> 0 | AB37: =IF(COUNTIF(AB11:AB34,"〇")>0,1,0) -> 0 | AC37: =COUNTA(AC11:AC34) -> 0 | AD37: =COUNTA(AD11:AD34) -> 0 | AE37: =COUNTA(AE11:AE34) -> 0 | AF37: =COUNTA(AF11:AF34) -> 0 | AG37: =COUNTA(AG11:AG34) -> 0 | AH37: =COUNTA(AH11:AH34) -> 0 | AI37: =COUNTA(AI11:AI34) -> 0 | AJ37: =COUNTA(AJ11:AJ34) -> 0
K39: 所見 | L39: 【 外 力 】監視を必要としない。 【材質劣化】監視を必要としない。 【 漏 水 】監視を必要としない。 以上により本スパンの判定はⅠ判定となる。
K43: 注1：誤記入防止のため、当該変状区分以外のセルは灰色表示とすること。
K44: 注2：応急措置を実施した場合は、その詳細を備考に記載すること。
K45: 注3：外力は覆工スパン単位、材質劣化、漏水は変状単位とすること。
B46: （以下、印刷不要）
B47: ※1：本シートは作成洩れのないよう、変状が無くても全スパン分を作成すること．また変状展開図は、様式D-2-1、様式D-2-1'と同じものを覆工スパン単位で拡大し掲載すること。
B48: ※2：変状番号は、様式D-1-1で記入した番号と整合させること。
B49: ※3：対策区分毎の変状発生規模は、様式D-1-1に記載した面積を記入すること（ただし外力はスパン単位で評価するため変状の有無の欄には面積でなく○を記入し、備考欄に状況を記入）。
B50: ※4：本様式は覆工スパン毎に作成すること。
B51: ※5：変状数が多い場合は、適時、表の行を増やして覆工スパン毎に1枚のシートに収めること。また、1スパン１シートとし、スパンに合わせてシートを追加すること。
B52: ※6：対策区分毎の変状の発生範囲の規模とは，対策を行う際に参考となる変状の長さや面積であり，変状を包含する長さや面積とする。
B53: ※7：対策範囲を示す発生範囲の規模を面積で記入することが妥当ではない変状は、発生範囲の規模の欄に○を記入するとともに、備考に内容を記入すること。

Sheet 様式D-3_S014
AU1: 様式F用→ | AV1: 覆工スパン | AY1: 変 状 数 | BK1: 変 状 規 模
AV2: 番号 | AW2: 延長 （ｍ） | AX2: 健全性の診断の 区分 | AY2: 対策区分の判定 | BK2: 覆工スパン長（ｍ） | BO2: 変状の発生範囲の規模（㎡）
B3: ■定期点検記録様式 覆工スパン別変状詳細展開図 【様式D-3】 | AY3: 外力 | BC3: 材質劣化 | BG3: 漏水 | BK3: 外力 注2 | BO3: 材質劣化 | BS3: 漏水
B4: フリガナ | E4: (ｵﾄﾒｷｮｳﾄﾝﾈﾙ) | K4: 路線名 | N4: 一般国道434号 | T4: 定期点検業者 | Y4: 応用地質（株） | AG4: 定期点検年月日 | AK4: 45845 | AY4: Ⅳ | AZ4: Ⅲ | BA4: Ⅱa | BB4: Ⅱb | BC4: Ⅳ | BD4: Ⅲ | BE4: Ⅱa | BF4: Ⅱb | BG4: Ⅳ | BH4: Ⅲ | BI4: Ⅱa | BJ4: Ⅱb | BK4: Ⅳ | BL4: Ⅲ | BM4: Ⅱa | BN4: Ⅱb | BO4: Ⅳ | BP4: Ⅲ | BQ4: Ⅱa | BR4: Ⅱb | BS4: Ⅳ | BT4: Ⅲ | BU4: Ⅱa | BV4: Ⅱb
B5: 名 称 | E5: 乙女峡トンネル | K5: 管理者名 | N5: 山口県岩国土木建築事務所 | Y5: 太田 裕之 | AV5: =N7 -> 14 | AW5: =R7 -> 10.5 | AX5: =AM35 -> Ⅰ | AY5: =IF(Y37>0,Y37,"") | AZ5: =IF(Y37>0,"",IF(Z37>0,Z37,"")) | BA5: =IF(Y37+Z37>0,"",IF(AA37>0,AA37,"")) | BB5: =IF(Y37+Z37+AA37>0,"",IF(AB37>0,AB37,"")) | BC5: =AC37 -> 0 | BD5: =AD37 -> 0 | BE5: =AE37 -> 0 | BF5: =AF37 -> 0 | BG5: =AG37 -> 0 | BH5: =AH37 -> 0 | BI5: =AI37 -> 0 | BJ5: =AJ37 -> 0 | BK5: =IF(Y37>0,R7,"") | BL5: =IF(Y37>0,"",IF(Z37>0,R7,"")) | BM5: =IF(Y37+Z37>0,"",IF(AA37>0,R7,"")) | BN5: =IF(Y37+Z37+AA37>0,"",IF(AB37>0,R7,"")) | BO5: =AC35 -> 0 | BP5: =AD35 -> 0 | BQ5: =AE35 -> 0 | BR5: =AF35 -> 0 | BS5: =AG35 -> 0 | BT5: =AH35 -> 0 | BU5: =AI35 -> 0 | BV5: =AJ35 -> 0
B6: スパン別変状展開図 | K6: 【健全性判定集計表】
K7: スパン番号 | N7: 14 | P7: スパン長 | R7: 10.5 | U7: 前回定期点検時の判定 | W7: 応急措置前の判定 | Y7: 対策区分毎の 変状の有無 | AC7: 対策区分毎の変状の発生範囲の規模(㎡) | AK7: 備考注2
K8: 変状番号 | L8: 対象箇所 | N8: 部位区分 | P8: 変状区分 | R8: 変状種類
Y9: 外力注1 | AC9: 材質劣化注1 | AG9: 漏水注1
Y10: Ⅳ | Z10: Ⅲ | AA10: Ⅱa | AB10: Ⅱb | AC10: Ⅳ | AD10: Ⅲ | AE10: Ⅱa | AF10: Ⅱb | AG10: Ⅳ | AH10: Ⅲ | AI10: Ⅱa | AJ10: Ⅱb
K11: 1 | AQ11: =IF(P11="材質劣化",2,IF(P11="漏水",3,1)) -> 1
K12: 2 | AQ12: =IF(P12="材質劣化",2,IF(P12="漏水",3,1)) -> 1
K13: 3 | AQ13: =IF(P13="材質劣化",2,IF(P13="漏水",3,1)) -> 1
K14: 4 | AQ14: =IF(P14="材質劣化",2,IF(P14="漏水",3,1)) -> 1
K15: 5 | AQ15: =IF(P15="材質劣化",2,IF(P15="漏水",3,1)) -> 1
K16: 6 | AQ16: =IF(P16="材質劣化",2,IF(P16="漏水",3,1)) -> 1
K17: 7 | AQ17: =IF(P17="材質劣化",2,IF(P17="漏水",3,1)) -> 1
K18: 8 | AQ18: =IF(P18="材質劣化",2,IF(P18="漏水",3,1)) -> 1
K19: 9 | AQ19: =IF(P19="材質劣化",2,IF(P19="漏水",3,1)) -> 1
K20: 10 | AQ20: =IF(P20="材質劣化",2,IF(P20="漏水",3,1)) -> 1
K21: 11 | AQ21: =IF(P21="材質劣化",2,IF(P21="漏水",3,1)) -> 1
K22: 12 | AQ22: =IF(P22="材質劣化",2,IF(P22="漏水",3,1)) -> 1
... K27: 17 | AQ27: =IF(P27="材質劣化",2,IF(P27="漏水",3,1)) -> 1
K28: 18 | AQ28: =IF(P30="材質劣化",2,IF(P30="漏水",3,1)) -> 1
K29: 19 | AQ29: =IF(P34="材質劣化",2,IF(P34="漏水",3,1)) -> 1
K30: 20 | AQ30: =IF(P30="材質劣化",2,IF(P30="漏水",3,1)) -> 1
K31: 21 | AQ31: =IF(P33="材質劣化",2,IF(P33="漏水",3,1)) -> 1
K32: 22 | AQ32: =IF(P37="材質劣化",2,IF(P37="漏水",3,1)) -> 1
K33: 23 | AQ33: =IF(P33="材質劣化",2,IF(P33="漏水",3,1)) -> 1
K34: 24 | AQ34: =IF(P36="材質劣化",2,IF(P36="漏水",3,1)) -> 1
K35: 集計 判定 診断 | L35: 変状の発生規模合計(㎡) | Y35: － | AC35: =SUM(AC11:AC34) -> 0 | AD35: =SUM(AD11:AD34) -> 0 | AE35: =SUM(AE11:AE34) -> 0 | AF35: =SUM(AF11:AF34) -> 0 | AG35: =SUM(AG11:AG34) -> 0 | AH35: =SUM(AH11:AH34) -> 0 | AI35: =SUM(AI11:AI34) -> 0 | AJ35: =SUM(AJ11:AJ34) -> 0 | AK35: 覆工スパン単位の 健全性の 診断の区分 | AM35: Ⅰ
L36: 対策区分の 判定結果 | O36: 対策区分毎の変状数注3 | Y36: Ⅳ | Z36: Ⅲ | AA36: Ⅱa | AB36: Ⅱb | AC36: Ⅳ | AD36: Ⅲ | AE36: Ⅱa | AF36: Ⅱb | AG36: Ⅳ | AH36: Ⅲ | AI36: Ⅱa | AJ36: Ⅱb
Y37: =IF(COUNTIF(Y11:Y34,"〇")>0,1,0) -> 0 | Z37: =IF(COUNTIF(Z11:Z34,"〇")>0,1,0) -> 0 | AA37: =IF(COUNTIF(AA11:AA34,"〇")>0,1,0) -> 0 | AB37: =IF(COUNTIF(AB11:AB34,"〇")>0,1,0) -> 0 | AC37: =COUNTA(AC11:AC34) -> 0 | AD37: =COUNTA(AD11:AD34) -> 0 | AE37: =COUNTA(AE11:AE34) -> 0 | AF37: =COUNTA(AF11:AF34) -> 0 | AG37: =COUNTA(AG11:AG34) -> 0 | AH37: =COUNTA(AH11:AH34) -> 0 | AI37: =COUNTA(AI11:AI34) -> 0 | AJ37: =COUNTA(AJ11:AJ34) -> 0
K39: 所見 | L39: 【 外 力 】監視を必要としない。 【材質劣化】監視を必要としない。 【 漏 水 】監視を必要としない。 以上により本スパンの判定はⅠ判定となる。
K43: 注1：誤記入防止のため、当該変状区分以外のセルは灰色表示とすること。
K44: 注2：応急措置を実施した場合は、その詳細を備考に記載すること。
K45: 注3：外力は覆工スパン単位、材質劣化、漏水は変状単位とすること。
B46: （以下、印刷不要）
B47: ※1：本シートは作成洩れのないよう、変状が無くても全スパン分を作成すること．また変状展開図は、様式D-2-1、様式D-2-1'と同じものを覆工スパン単位で拡大し掲載すること。
B48: ※2：変状番号は、様式D-1-1で記入した番号と整合させること。
B49: ※3：対策区分毎の変状発生規模は、様式D-1-1に記載した面積を記入すること（ただし外力はスパン単位で評価するため変状の有無の欄には面積でなく○を記入し、備考欄に状況を記入）。
B50: ※4：本様式は覆工スパン毎に作成すること。
B51: ※5：変状数が多い場合は、適時、表の行を増やして覆工スパン毎に1枚のシートに収めること。また、1スパン１シートとし、スパンに合わせてシートを追加すること。
B52: ※6：対策区分毎の変状の発生範囲の規模とは，対策を行う際に参考となる変状の長さや面積であり，変状を包含する長さや面積とする。
B53: ※7：対策範囲を示す発生範囲の規模を面積で記入することが妥当ではない変状は、発生範囲の規模の欄に○を記入するとともに、備考に内容を記入すること。

Sheet 様式D-3_S015
AU1: 様式F用→ | AV1: 覆工スパン | AY1: 変 状 数 | BK1: 変 状 規 模
AV2: 番号 | AW2: 延長 （ｍ） | AX2: 健全性の診断の 区分 | AY2: 対策区分の判定 | BK2: 覆工スパン長（ｍ） | BO2: 変状の発生範囲の規模（㎡）
B3: ■定期点検記録様式 覆工スパン別変状詳細展開図 【様式D-3】 | AY3: 外力 | BC3: 材質劣化 | BG3: 漏水 | BK3: 外力 注2 | BO3: 材質劣化 | BS3: 漏水
B4: フリガナ | E4: (ｵﾄﾒｷｮｳﾄﾝﾈﾙ) | K4: 路線名 | N4: 一般国道434号 | T4: 定期点検業者 | Y4: 応用地質（株） | AG4: 定期点検年月日 | AK4: 45845 | AY4: Ⅳ | AZ4: Ⅲ | BA4: Ⅱa | BB4: Ⅱb | BC4: Ⅳ | BD4: Ⅲ | BE4: Ⅱa | BF4: Ⅱb | BG4: Ⅳ | BH4: Ⅲ | BI4: Ⅱa | BJ4: Ⅱb | BK4: Ⅳ | BL4: Ⅲ | BM4: Ⅱa | BN4: Ⅱb | BO4: Ⅳ | BP4: Ⅲ | BQ4: Ⅱa | BR4: Ⅱb | BS4: Ⅳ | BT4: Ⅲ | BU4: Ⅱa | BV4: Ⅱb
B5: 名 称 | E5: 乙女峡トンネル | K5: 管理者名 | N5: 山口県岩国土木建築事務所 | Y5: 太田 裕之 | AV5: =N7 -> 15 | AW5: =R7 -> 10.5 | AX5: =AM35 -> Ⅰ | AY5: =IF(Y37>0,Y37,"") | AZ5: =IF(Y37>0,"",IF(Z37>0,Z37,"")) | BA5: =IF(Y37+Z37>0,"",IF(AA37>0,AA37,"")) | BB5: =IF(Y37+Z37+AA37>0,"",IF(AB37>0,AB37,"")) | BC5: =AC37 -> 0 | BD5: =AD37 -> 0 | BE5: =AE37 -> 0 | BF5: =AF37 -> 0 | BG5: =AG37 -> 0 | BH5: =AH37 -> 0 | BI5: =AI37 -> 0 | BJ5: =AJ37 -> 0 | BK5: =IF(Y37>0,R7,"") | BL5: =IF(Y37>0,"",IF(Z37>0,R7,"")) | BM5: =IF(Y37+Z37>0,"",IF(AA37>0,R7,"")) | BN5: =IF(Y37+Z37+AA37>0,"",IF(AB37>0,R7,"")) | BO5: =AC35 -> 0 | BP5: =AD35 -> 0 | BQ5: =AE35 -> 0 | BR5: =AF35 -> 0 | BS5: =AG35 -> 0 | BT5: =AH35 -> 0 | BU5: =AI35 -> 0 | BV5: =AJ35 -> 0
B6: スパン別変状展開図 | K6: 【健全性判定集計表】
K7: スパン番号 | N7: 15 | P7: スパン長 | R7: 10.5 | U7: 前回定期点検時の判定 | W7: 応急措置前の判定 | Y7: 対策区分毎の 変状の有無 | AC7: 対策区分毎の変状の発生範囲の規模(㎡) | AK7: 備考注2
K8: 変状番号 | L8: 対象箇所 | N8: 部位区分 | P8: 変状区分 | R8: 変状種類
Y9: 外力注1 | AC9: 材質劣化注1 | AG9: 漏水注1
Y10: Ⅳ | Z10: Ⅲ | AA10: Ⅱa | AB10: Ⅱb | AC10: Ⅳ | AD10: Ⅲ | AE10: Ⅱa | AF10: Ⅱb | AG10: Ⅳ | AH10: Ⅲ | AI10: Ⅱa | AJ10: Ⅱb
K11: 1 | AQ11: =IF(P11="材質劣化",2,IF(P11="漏水",3,1)) -> 1
K12: 2 | AQ12: =IF(P12="材質劣化",2,IF(P12="漏水",3,1)) -> 1
K13: 3 | AQ13: =IF(P13="材質劣化",2,IF(P13="漏水",3,1)) -> 1
K14: 4 | AQ14: =IF(P14="材質劣化",2,IF(P14="漏水",3,1)) -> 1
K15: 5 | AQ15: =IF(P15="材質劣化",2,IF(P15="漏水",3,1)) -> 1
K16: 6 | AQ16: =IF(P16="材質劣化",2,IF(P16="漏水",3,1)) -> 1
K17: 7 | AQ17: =IF(P17="材質劣化",2,IF(P17="漏水",3,1)) -> 1
K18: 8 | AQ18: =IF(P18="材質劣化",2,IF(P18="漏水",3,1)) -> 1
K19: 9 | AQ19: =IF(P19="材質劣化",2,IF(P19="漏水",3,1)) -> 1
K20: 10 | AQ20: =IF(P20="材質劣化",2,IF(P20="漏水",3,1)) -> 1
K21: 11 | AQ21: =IF(P21="材質劣化",2,IF(P21="漏水",3,1)) -> 1
K22: 12 | AQ22: =IF(P22="材質劣化",2,IF(P22="漏水",3,1)) -> 1
... K27: 17 | AQ27: =IF(P27="材質劣化",2,IF(P27="漏水",3,1)) -> 1
K28: 18 | AQ28: =IF(P30="材質劣化",2,IF(P30="漏水",3,1)) -> 1
K29: 19 | AQ29: =IF(P34="材質劣化",2,IF(P34="漏水",3,1)) -> 1
K30: 20 | AQ30: =IF(P30="材質劣化",2,IF(P30="漏水",3,1)) -> 1
K31: 21 | AQ31: =IF(P33="材質劣化",2,IF(P33="漏水",3,1)) -> 1
K32: 22 | AQ32: =IF(P37="材質劣化",2,IF(P37="漏水",3,1)) -> 1
K33: 23 | AQ33: =IF(P33="材質劣化",2,IF(P33="漏水",3,1)) -> 1
K34: 24 | AQ34: =IF(P36="材質劣化",2,IF(P36="漏水",3,1)) -> 1
K35: 集計 判定 診断 | L35: 変状の発生規模合計(㎡) | Y35: － | AC35: =SUM(AC11:AC34) -> 0 | AD35: =SUM(AD11:AD34) -> 0 | AE35: =SUM(AE11:AE34) -> 0 | AF35: =SUM(AF11:AF34) -> 0 | AG35: =SUM(AG11:AG34) -> 0 | AH35: =SUM(AH11:AH34) -> 0 | AI35: =SUM(AI11:AI34) -> 0 | AJ35: =SUM(AJ11:AJ34) -> 0 | AK35: 覆工スパン単位の 健全性の 診断の区分 | AM35: Ⅰ
L36: 対策区分の 判定結果 | O36: 対策区分毎の変状数注3 | Y36: Ⅳ | Z36: Ⅲ | AA36: Ⅱa | AB36: Ⅱb | AC36: Ⅳ | AD36: Ⅲ | AE36: Ⅱa | AF36: Ⅱb | AG36: Ⅳ | AH36: Ⅲ | AI36: Ⅱa | AJ36: Ⅱb
Y37: =IF(COUNTIF(Y11:Y34,"〇")>0,1,0) -> 0 | Z37: =IF(COUNTIF(Z11:Z34,"〇")>0,1,0) -> 0 | AA37: =IF(COUNTIF(AA11:AA34,"〇")>0,1,0) -> 0 | AB37: =IF(COUNTIF(AB11:AB34,"〇")>0,1,0) -> 0 | AC37: =COUNTA(AC11:AC34) -> 0 | AD37: =COUNTA(AD11:AD34) -> 0 | AE37: =COUNTA(AE11:AE34) -> 0 | AF37: =COUNTA(AF11:AF34) -> 0 | AG37: =COUNTA(AG11:AG34) -> 0 | AH37: =COUNTA(AH11:AH34) -> 0 | AI37: =COUNTA(AI11:AI34) -> 0 | AJ37: =COUNTA(AJ11:AJ34) -> 0
K39: 所見 | L39: 【 外 力 】監視を必要としない。 【材質劣化】監視を必要としない。 【 漏 水 】監視を必要としない。 以上により本スパンの判定はⅠ判定となる。
K43: 注1：誤記入防止のため、当該変状区分以外のセルは灰色表示とすること。
K44: 注2：応急措置を実施した場合は、その詳細を備考に記載すること。
K45: 注3：外力は覆工スパン単位、材質劣化、漏水は変状単位とすること。
B46: （以下、印刷不要）
B47: ※1：本シートは作成洩れのないよう、変状が無くても全スパン分を作成すること．また変状展開図は、様式D-2-1、様式D-2-1'と同じものを覆工スパン単位で拡大し掲載すること。
B48: ※2：変状番号は、様式D-1-1で記入した番号と整合させること。
B49: ※3：対策区分毎の変状発生規模は、様式D-1-1に記載した面積を記入すること（ただし外力はスパン単位で評価するため変状の有無の欄には面積でなく○を記入し、備考欄に状況を記入）。
B50: ※4：本様式は覆工スパン毎に作成すること。
B51: ※5：変状数が多い場合は、適時、表の行を増やして覆工スパン毎に1枚のシートに収めること。また、1スパン１シートとし、スパンに合わせてシートを追加すること。
B52: ※6：対策区分毎の変状の発生範囲の規模とは，対策を行う際に参考となる変状の長さや面積であり，変状を包含する長さや面積とする。
B53: ※7：対策範囲を示す発生範囲の規模を面積で記入することが妥当ではない変状は、発生範囲の規模の欄に○を記入するとともに、備考に内容を記入すること。

Sheet 様式D-3_S016
AU1: 様式F用→ | AV1: 覆工スパン | AY1: 変 状 数 | BK1: 変 状 規 模
AV2: 番号 | AW2: 延長 （ｍ） | AX2: 健全性の診断の 区分 | AY2: 対策区分の判定 | BK2: 覆工スパン長（ｍ） | BO2: 変状の発生範囲の規模（㎡）
B3: ■定期点検記録様式 覆工スパン別変状詳細展開図 【様式D-3】 | AY3: 外力 | BC3: 材質劣化 | BG3: 漏水 | BK3: 外力 注2 | BO3: 材質劣化 | BS3: 漏水
B4: フリガナ | E4: (ｵﾄﾒｷｮｳﾄﾝﾈﾙ) | K4: 路線名 | N4: 一般国道434号 | T4: 定期点検業者 | Y4: 応用地質（株） | AG4: 定期点検年月日 | AK4: 45845 | AY4: Ⅳ | AZ4: Ⅲ | BA4: Ⅱa | BB4: Ⅱb | BC4: Ⅳ | BD4: Ⅲ | BE4: Ⅱa | BF4: Ⅱb | BG4: Ⅳ | BH4: Ⅲ | BI4: Ⅱa | BJ4: Ⅱb | BK4: Ⅳ | BL4: Ⅲ | BM4: Ⅱa | BN4: Ⅱb | BO4: Ⅳ | BP4: Ⅲ | BQ4: Ⅱa | BR4: Ⅱb | BS4: Ⅳ | BT4: Ⅲ | BU4: Ⅱa | BV4: Ⅱb
B5: 名 称 | E5: 乙女峡トンネル | K5: 管理者名 | N5: 山口県岩国土木建築事務所 | Y5: 太田 裕之 | AV5: =N7 -> 16 | AW5: =R7 -> 10.5 | AX5: =AM35 -> Ⅰ | AY5: =IF(Y37>0,Y37,"") | AZ5: =IF(Y37>0,"",IF(Z37>0,Z37,"")) | BA5: =IF(Y37+Z37>0,"",IF(AA37>0,AA37,"")) | BB5: =IF(Y37+Z37+AA37>0,"",IF(AB37>0,AB37,"")) | BC5: =AC37 -> 0 | BD5: =AD37 -> 0 | BE5: =AE37 -> 0 | BF5: =AF37 -> 0 | BG5: =AG37 -> 0 | BH5: =AH37 -> 0 | BI5: =AI37 -> 0 | BJ5: =AJ37 -> 0 | BK5: =IF(Y37>0,R7,"") | BL5: =IF(Y37>0,"",IF(Z37>0,R7,"")) | BM5: =IF(Y37+Z37>0,"",IF(AA37>0,R7,"")) | BN5: =IF(Y37+Z37+AA37>0,"",IF(AB37>0,R7,"")) | BO5: =AC35 -> 0 | BP5: =AD35 -> 0 | BQ5: =AE35 -> 0 | BR5: =AF35 -> 0 | BS5: =AG35 -> 0 | BT5: =AH35 -> 0 | BU5: =AI35 -> 0 | BV5: =AJ35 -> 0
B6: スパン別変状展開図 | K6: 【健全性判定集計表】
K7: スパン番号 | N7: 16 | P7: スパン長 | R7: 10.5 | U7: 前回定期点検時の判定 | W7: 応急措置前の判定 | Y7: 対策区分毎の 変状の有無 | AC7: 対策区分毎の変状の発生範囲の規模(㎡) | AK7: 備考注2
K8: 変状番号 | L8: 対象箇所 | N8: 部位区分 | P8: 変状区分 | R8: 変状種類
Y9: 外力注1 | AC9: 材質劣化注1 | AG9: 漏水注1
Y10: Ⅳ | Z10: Ⅲ | AA10: Ⅱa | AB10: Ⅱb | AC10: Ⅳ | AD10: Ⅲ | AE10: Ⅱa | AF10: Ⅱb | AG10: Ⅳ | AH10: Ⅲ | AI10: Ⅱa | AJ10: Ⅱb
K11: 1 | AQ11: =IF(P11="材質劣化",2,IF(P11="漏水",3,1)) -> 1
K12: 2 | AQ12: =IF(P12="材質劣化",2,IF(P12="漏水",3,1)) -> 1
K13: 3 | AQ13: =IF(P13="材質劣化",2,IF(P13="漏水",3,1)) -> 1
K14: 4 | AQ14: =IF(P14="材質劣化",2,IF(P14="漏水",3,1)) -> 1
K15: 5 | AQ15: =IF(P15="材質劣化",2,IF(P15="漏水",3,1)) -> 1
K16: 6 | AQ16: =IF(P16="材質劣化",2,IF(P16="漏水",3,1)) -> 1
K17: 7 | AQ17: =IF(P17="材質劣化",2,IF(P17="漏水",3,1)) -> 1
K18: 8 | AQ18: =IF(P18="材質劣化",2,IF(P18="漏水",3,1)) -> 1
K19: 9 | AQ19: =IF(P19="材質劣化",2,IF(P19="漏水",3,1)) -> 1
K20: 10 | AQ20: =IF(P20="材質劣化",2,IF(P20="漏水",3,1)) -> 1
K21: 11 | AQ21: =IF(P21="材質劣化",2,IF(P21="漏水",3,1)) -> 1
K22: 12 | AQ22: =IF(P22="材質劣化",2,IF(P22="漏水",3,1)) -> 1
... K27: 17 | AQ27: =IF(P27="材質劣化",2,IF(P27="漏水",3,1)) -> 1
K28: 18 | AQ28: =IF(P30="材質劣化",2,IF(P30="漏水",3,1)) -> 1
K29: 19 | AQ29: =IF(P34="材質劣化",2,IF(P34="漏水",3,1)) -> 1
K30: 20 | AQ30: =IF(P30="材質劣化",2,IF(P30="漏水",3,1)) -> 1
K31: 21 | AQ31: =IF(P33="材質劣化",2,IF(P33="漏水",3,1)) -> 1
K32: 22 | AQ32: =IF(P37="材質劣化",2,IF(P37="漏水",3,1)) -> 1
K33: 23 | AQ33: =IF(P33="材質劣化",2,IF(P33="漏水",3,1)) -> 1
K34: 24 | AQ34: =IF(P36="材質劣化",2,IF(P36="漏水",3,1)) -> 1
K35: 集計 判定 診断 | L35: 変状の発生規模合計(㎡) | Y35: － | AC35: =SUM(AC11:AC34) -> 0 | AD35: =SUM(AD11:AD34) -> 0 | AE35: =SUM(AE11:AE34) -> 0 | AF35: =SUM(AF11:AF34) -> 0 | AG35: =SUM(AG11:AG34) -> 0 | AH35: =SUM(AH11:AH34) -> 0 | AI35: =SUM(AI11:AI34) -> 0 | AJ35: =SUM(AJ11:AJ34) -> 0 | AK35: 覆工スパン単位の 健全性の 診断の区分 | AM35: Ⅰ
L36: 対策区分の 判定結果 | O36: 対策区分毎の変状数注3 | Y36: Ⅳ | Z36: Ⅲ | AA36: Ⅱa | AB36: Ⅱb | AC36: Ⅳ | AD36: Ⅲ | AE36: Ⅱa | AF36: Ⅱb | AG36: Ⅳ | AH36: Ⅲ | AI36: Ⅱa | AJ36: Ⅱb
Y37: =IF(COUNTIF(Y11:Y34,"〇")>0,1,0) -> 0 | Z37: =IF(COUNTIF(Z11:Z34,"〇")>0,1,0) -> 0 | AA37: =IF(COUNTIF(AA11:AA34,"〇")>0,1,0) -> 0 | AB37: =IF(COUNTIF(AB11:AB34,"〇")>0,1,0) -> 0 | AC37: =COUNTA(AC11:AC34) -> 0 | AD37: =COUNTA(AD11:AD34) -> 0 | AE37: =COUNTA(AE11:AE34) -> 0 | AF37: =COUNTA(AF11:AF34) -> 0 | AG37: =COUNTA(AG11:AG34) -> 0 | AH37: =COUNTA(AH11:AH34) -> 0 | AI37: =COUNTA(AI11:AI34) -> 0 | AJ37: =COUNTA(AJ11:AJ34) -> 0
K39: 所見 | L39: 【 外 力 】監視を必要としない。 【材質劣化】監視を必要としない。 【 漏 水 】監視を必要としない。 以上により本スパンの判定はⅠ判定となる。
K43: 注1：誤記入防止のため、当該変状区分以外のセルは灰色表示とすること。
K44: 注2：応急措置を実施した場合は、その詳細を備考に記載すること。
K45: 注3：外力は覆工スパン単位、材質劣化、漏水は変状単位とすること。
B46: （以下、印刷不要）
B47: ※1：本シートは作成洩れのないよう、変状が無くても全スパン分を作成すること．また変状展開図は、様式D-2-1、様式D-2-1'と同じものを覆工スパン単位で拡大し掲載すること。
B48: ※2：変状番号は、様式D-1-1で記入した番号と整合させること。
B49: ※3：対策区分毎の変状発生規模は、様式D-1-1に記載した面積を記入すること（ただし外力はスパン単位で評価するため変状の有無の欄には面積でなく○を記入し、備考欄に状況を記入）。
B50: ※4：本様式は覆工スパン毎に作成すること。
B51: ※5：変状数が多い場合は、適時、表の行を増やして覆工スパン毎に1枚のシートに収めること。また、1スパン１シートとし、スパンに合わせてシートを追加すること。
B52: ※6：対策区分毎の変状の発生範囲の規模とは，対策を行う際に参考となる変状の長さや面積であり，変状を包含する長さや面積とする。
B53: ※7：対策範囲を示す発生範囲の規模を面積で記入することが妥当ではない変状は、発生範囲の規模の欄に○を記入するとともに、備考に内容を記入すること。

Sheet 様式D-3_S017
AU1: 様式F用→ | AV1: 覆工スパン | AY1: 変 状 数 | BK1: 変 状 規 模
AV2: 番号 | AW2: 延長 （ｍ） | AX2: 健全性の診断の 区分 | AY2: 対策区分の判定 | BK2: 覆工スパン長（ｍ） | BO2: 変状の発生範囲の規模（㎡）
B3: ■定期点検記録様式 覆工スパン別変状詳細展開図 【様式D-3】 | AY3: 外力 | BC3: 材質劣化 | BG3: 漏水 | BK3: 外力 注2 | BO3: 材質劣化 | BS3: 漏水
B4: フリガナ | E4: (ｵﾄﾒｷｮｳﾄﾝﾈﾙ) | K4: 路線名 | N4: 一般国道434号 | T4: 定期点検業者 | Y4: 応用地質（株） | AG4: 定期点検年月日 | AK4: 45845 | AY4: Ⅳ | AZ4: Ⅲ | BA4: Ⅱa | BB4: Ⅱb | BC4: Ⅳ | BD4: Ⅲ | BE4: Ⅱa | BF4: Ⅱb | BG4: Ⅳ | BH4: Ⅲ | BI4: Ⅱa | BJ4: Ⅱb | BK4: Ⅳ | BL4: Ⅲ | BM4: Ⅱa | BN4: Ⅱb | BO4: Ⅳ | BP4: Ⅲ | BQ4: Ⅱa | BR4: Ⅱb | BS4: Ⅳ | BT4: Ⅲ | BU4: Ⅱa | BV4: Ⅱb
B5: 名 称 | E5: 乙女峡トンネル | K5: 管理者名 | N5: 山口県岩国土木建築事務所 | Y5: 太田 裕之 | AV5: =N7 -> 17 | AW5: =R7 -> 10.5 | AX5: =AM35 -> Ⅱ | AY5: =IF(Y37>0,Y37,"") | AZ5: =IF(Y37>0,"",IF(Z37>0,Z37,"")) | BA5: =IF(Y37+Z37>0,"",IF(AA37>0,AA37,"")) | BB5: =IF(Y37+Z37+AA37>0,"",IF(AB37>0,AB37,"")) | BC5: =AC37 -> 0 | BD5: =AD37 -> 0 | BE5: =AE37 -> 0 | BF5: =AF37 -> 1 | BG5: =AG37 -> 0 | BH5: =AH37 -> 0 | BI5: =AI37 -> 0 | BJ5: =AJ37 -> 0 | BK5: =IF(Y37>0,R7,"") | BL5: =IF(Y37>0,"",IF(Z37>0,R7,"")) | BM5: =IF(Y37+Z37>0,"",IF(AA37>0,R7,"")) | BN5: =IF(Y37+Z37+AA37>0,"",IF(AB37>0,R7,"")) | BO5: =AC35 -> 0 | BP5: =AD35 -> 0 | BQ5: =AE35 -> 0 | BR5: =AF35 -> 0.35 | BS5: =AG35 -> 0 | BT5: =AH35 -> 0 | BU5: =AI35 -> 0 | BV5: =AJ35 -> 0
B6: スパン別変状展開図 | K6: 【健全性判定集計表】
K7: スパン番号 | N7: 17 | P7: スパン長 | R7: 10.5 | U7: 前回定期点検時の判定 | W7: 応急措置前の判定 | Y7: 対策区分毎の 変状の有無 | AC7: 対策区分毎の変状の発生範囲の規模(㎡) | AK7: 備考注2
K8: 変状番号 | L8: 対象箇所 | N8: 部位区分 | P8: 変状区分 | R8: 変状種類
Y9: 外力注1 | AC9: 材質劣化注1 | AG9: 漏水注1
Y10: Ⅳ | Z10: Ⅲ | AA10: Ⅱa | AB10: Ⅱb | AC10: Ⅳ | AD10: Ⅲ | AE10: Ⅱa | AF10: Ⅱb | AG10: Ⅳ | AH10: Ⅲ | AI10: Ⅱa | AJ10: Ⅱb
K11: 1 | L11: 覆工 | N11: 横断目地（右側） | P11: 材質劣化 | R11: うき・はく離 | U11: Ⅰ | W11: － | AK11: R02定期点検時に叩き落とし実施 | AQ11: =IF(P11="材質劣化",2,IF(P11="漏水",3,1)) -> 2
K12: 2 | L12: 覆工 | N12: 側壁（右側） | P12: 材質劣化 | R12: うき・はく離 | U12: Ⅱb | W12: － | AF12: 0.35 | AK12: 再判定 | AQ12: =IF(P12="材質劣化",2,IF(P12="漏水",3,1)) -> 2
K13: 3 | AQ13: =IF(P13="材質劣化",2,IF(P13="漏水",3,1)) -> 1
K14: 4 | AQ14: =IF(P14="材質劣化",2,IF(P14="漏水",3,1)) -> 1
K15: 5 | AQ15: =IF(P15="材質劣化",2,IF(P15="漏水",3,1)) -> 1
K16: 6 | AQ16: =IF(P16="材質劣化",2,IF(P16="漏水",3,1)) -> 1
K17: 7 | AQ17: =IF(P17="材質劣化",2,IF(P17="漏水",3,1)) -> 1
K18: 8 | AQ18: =IF(P18="材質劣化",2,IF(P18="漏水",3,1)) -> 1
K19: 9 | AQ19: =IF(P19="材質劣化",2,IF(P19="漏水",3,1)) -> 1
K20: 10 | AQ20: =IF(P20="材質劣化",2,IF(P20="漏水",3,1)) -> 1
K21: 11 | AQ21: =IF(P21="材質劣化",2,IF(P21="漏水",3,1)) -> 1
K22: 12 | AQ22: =IF(P22="材質劣化",2,IF(P22="漏水",3,1)) -> 1
K23: 13 | AQ23: =IF(P23="材質劣化",2,IF(P23="漏水",3,1)) -> 1
K24: 14 | AQ24: =IF(P24="材質劣化",2,IF(P24="漏水",3,1)) -> 1
... K27: 17 | AQ27: =IF(P27="材質劣化",2,IF(P27="漏水",3,1)) -> 1
K28: 18 | AQ28: =IF(P30="材質劣化",2,IF(P30="漏水",3,1)) -> 1
K29: 19 | AQ29: =IF(P34="材質劣化",2,IF(P34="漏水",3,1)) -> 1
K30: 20 | AQ30: =IF(P30="材質劣化",2,IF(P30="漏水",3,1)) -> 1
K31: 21 | AQ31: =IF(P33="材質劣化",2,IF(P33="漏水",3,1)) -> 1
K32: 22 | AQ32: =IF(P37="材質劣化",2,IF(P37="漏水",3,1)) -> 1
K33: 23 | AQ33: =IF(P33="材質劣化",2,IF(P33="漏水",3,1)) -> 1
K34: 24 | AQ34: =IF(P36="材質劣化",2,IF(P36="漏水",3,1)) -> 1
K35: 集計 判定 診断 | L35: 変状の発生規模合計(㎡) | Y35: － | AC35: =SUM(AC11:AC34) -> 0 | AD35: =SUM(AD11:AD34) -> 0 | AE35: =SUM(AE11:AE34) -> 0 | AF35: =SUM(AF11:AF34) -> 0.35 | AG35: =SUM(AG11:AG34) -> 0 | AH35: =SUM(AH11:AH34) -> 0 | AI35: =SUM(AI11:AI34) -> 0 | AJ35: =SUM(AJ11:AJ34) -> 0 | AK35: 覆工スパン単位の 健全性の 診断の区分 | AM35: Ⅱ
L36: 対策区分の 判定結果 | O36: 対策区分毎の変状数注3 | Y36: Ⅳ | Z36: Ⅲ | AA36: Ⅱa | AB36: Ⅱb | AC36: Ⅳ | AD36: Ⅲ | AE36: Ⅱa | AF36: Ⅱb | AG36: Ⅳ | AH36: Ⅲ | AI36: Ⅱa | AJ36: Ⅱb
Y37: =IF(COUNTIF(Y11:Y34,"〇")>0,1,0) -> 0 | Z37: =IF(COUNTIF(Z11:Z34,"〇")>0,1,0) -> 0 | AA37: =IF(COUNTIF(AA11:AA34,"〇")>0,1,0) -> 0 | AB37: =IF(COUNTIF(AB11:AB34,"〇")>0,1,0) -> 0 | AC37: =COUNTA(AC11:AC34) -> 0 | AD37: =COUNTA(AD11:AD34) -> 0 | AE37: =COUNTA(AE11:AE34) -> 0 | AF37: =COUNTA(AF11:AF34) -> 1 | AG37: =COUNTA(AG11:AG34) -> 0 | AH37: =COUNTA(AH11:AH34) -> 0 | AI37: =COUNTA(AI11:AI34) -> 0 | AJ37: =COUNTA(AJ11:AJ34) -> 0
K39: 所見 | L39: 【 外 力 】監視を必要としない。 【材質劣化】次回点検まで継続的な監視を必要とする。 【 漏 水 】監視を必要としない。 以上により本スパンの判定はⅡb判定となる。
K43: 注1：誤記入防止のため、当該変状区分以外のセルは灰色表示とすること。
K44: 注2：応急措置を実施した場合は、その詳細を備考に記載すること。
K45: 注3：外力は覆工スパン単位、材質劣化、漏水は変状単位とすること。
B46: （以下、印刷不要）
B47: ※1：本シートは作成洩れのないよう、変状が無くても全スパン分を作成すること．また変状展開図は、様式D-2-1、様式D-2-1'と同じものを覆工スパン単位で拡大し掲載すること。
B48: ※2：変状番号は、様式D-1-1で記入した番号と整合させること。
B49: ※3：対策区分毎の変状発生規模は、様式D-1-1に記載した面積を記入すること（ただし外力はスパン単位で評価するため変状の有無の欄には面積でなく○を記入し、備考欄に状況を記入）。
B50: ※4：本様式は覆工スパン毎に作成すること。
B51: ※5：変状数が多い場合は、適時、表の行を増やして覆工スパン毎に1枚のシートに収めること。また、1スパン１シートとし、スパンに合わせてシートを追加すること。
B52: ※6：対策区分毎の変状の発生範囲の規模とは，対策を行う際に参考となる変状の長さや面積であり，変状を包含する長さや面積とする。
B53: ※7：対策範囲を示す発生範囲の規模を面積で記入することが妥当ではない変状は、発生範囲の規模の欄に○を記入するとともに、備考に内容を記入すること。

Sheet 様式D-3_S018
AU1: 様式F用→ | AV1: 覆工スパン | AY1: 変 状 数 | BK1: 変 状 規 模
AV2: 番号 | AW2: 延長 （ｍ） | AX2: 健全性の診断の 区分 | AY2: 対策区分の判定 | BK2: 覆工スパン長（ｍ） | BO2: 変状の発生範囲の規模（㎡）
B3: ■定期点検記録様式 覆工スパン別変状詳細展開図 【様式D-3】 | AY3: 外力 | BC3: 材質劣化 | BG3: 漏水 | BK3: 外力 注2 | BO3: 材質劣化 | BS3: 漏水
B4: フリガナ | E4: (ｵﾄﾒｷｮｳﾄﾝﾈﾙ) | K4: 路線名 | N4: 一般国道434号 | T4: 定期点検業者 | Y4: 応用地質（株） | AG4: 定期点検年月日 | AK4: 45845 | AY4: Ⅳ | AZ4: Ⅲ | BA4: Ⅱa | BB4: Ⅱb | BC4: Ⅳ | BD4: Ⅲ | BE4: Ⅱa | BF4: Ⅱb | BG4: Ⅳ | BH4: Ⅲ | BI4: Ⅱa | BJ4: Ⅱb | BK4: Ⅳ | BL4: Ⅲ | BM4: Ⅱa | BN4: Ⅱb | BO4: Ⅳ | BP4: Ⅲ | BQ4: Ⅱa | BR4: Ⅱb | BS4: Ⅳ | BT4: Ⅲ | BU4: Ⅱa | BV4: Ⅱb
B5: 名 称 | E5: 乙女峡トンネル | K5: 管理者名 | N5: 山口県岩国土木建築事務所 | Y5: 太田 裕之 | AV5: =N7 -> 18 | AW5: =R7 -> 10.5 | AX5: =AM35 -> Ⅰ | AY5: =IF(Y37>0,Y37,"") | AZ5: =IF(Y37>0,"",IF(Z37>0,Z37,"")) | BA5: =IF(Y37+Z37>0,"",IF(AA37>0,AA37,"")) | BB5: =IF(Y37+Z37+AA37>0,"",IF(AB37>0,AB37,"")) | BC5: =AC37 -> 0 | BD5: =AD37 -> 0 | BE5: =AE37 -> 0 | BF5: =AF37 -> 0 | BG5: =AG37 -> 0 | BH5: =AH37 -> 0 | BI5: =AI37 -> 0 | BJ5: =AJ37 -> 0 | BK5: =IF(Y37>0,R7,"") | BL5: =IF(Y37>0,"",IF(Z37>0,R7,"")) | BM5: =IF(Y37+Z37>0,"",IF(AA37>0,R7,"")) | BN5: =IF(Y37+Z37+AA37>0,"",IF(AB37>0,R7,"")) | BO5: =AC35 -> 0 | BP5: =AD35 -> 0 | BQ5: =AE35 -> 0 | BR5: =AF35 -> 0 | BS5: =AG35 -> 0 | BT5: =AH35 -> 0 | BU5: =AI35 -> 0 | BV5: =AJ35 -> 0
B6: スパン別変状展開図 | K6: 【健全性判定集計表】
K7: スパン番号 | N7: 18 | P7: スパン長 | R7: 10.5 | U7: 前回定期点検時の判定 | W7: 応急措置前の判定 | Y7: 対策区分毎の 変状の有無 | AC7: 対策区分毎の変状の発生範囲の規模(㎡) | AK7: 備考注2
K8: 変状番号 | L8: 対象箇所 | N8: 部位区分 | P8: 変状区分 | R8: 変状種類
Y9: 外力注1 | AC9: 材質劣化注1 | AG9: 漏水注1
Y10: Ⅳ | Z10: Ⅲ | AA10: Ⅱa | AB10: Ⅱb | AC10: Ⅳ | AD10: Ⅲ | AE10: Ⅱa | AF10: Ⅱb | AG10: Ⅳ | AH10: Ⅲ | AI10: Ⅱa | AJ10: Ⅱb
K11: 1 | AQ11: =IF(P11="材質劣化",2,IF(P11="漏水",3,1)) -> 1
K12: 2 | AQ12: =IF(P12="材質劣化",2,IF(P12="漏水",3,1)) -> 1
K13: 3 | AQ13: =IF(P13="材質劣化",2,IF(P13="漏水",3,1)) -> 1
K14: 4 | AQ14: =IF(P14="材質劣化",2,IF(P14="漏水",3,1)) -> 1
K15: 5 | AQ15: =IF(P15="材質劣化",2,IF(P15="漏水",3,1)) -> 1
K16: 6 | AQ16: =IF(P16="材質劣化",2,IF(P16="漏水",3,1)) -> 1
K17: 7 | AQ17: =IF(P17="材質劣化",2,IF(P17="漏水",3,1)) -> 1
K18: 8 | AQ18: =IF(P18="材質劣化",2,IF(P18="漏水",3,1)) -> 1
K19: 9 | AQ19: =IF(P19="材質劣化",2,IF(P19="漏水",3,1)) -> 1
K20: 10 | AQ20: =IF(P20="材質劣化",2,IF(P20="漏水",3,1)) -> 1
K21: 11 | AQ21: =IF(P21="材質劣化",2,IF(P21="漏水",3,1)) -> 1
K22: 12 | AQ22: =IF(P22="材質劣化",2,IF(P22="漏水",3,1)) -> 1
... K27: 17 | AQ27: =IF(P27="材質劣化",2,IF(P27="漏水",3,1)) -> 1
K28: 18 | AQ28: =IF(P30="材質劣化",2,IF(P30="漏水",3,1)) -> 1
K29: 19 | AQ29: =IF(P34="材質劣化",2,IF(P34="漏水",3,1)) -> 1
K30: 20 | AQ30: =IF(P30="材質劣化",2,IF(P30="漏水",3,1)) -> 1
K31: 21 | AQ31: =IF(P33="材質劣化",2,IF(P33="漏水",3,1)) -> 1
K32: 22 | AQ32: =IF(P37="材質劣化",2,IF(P37="漏水",3,1)) -> 1
K33: 23 | AQ33: =IF(P33="材質劣化",2,IF(P33="漏水",3,1)) -> 1
K34: 24 | AQ34: =IF(P36="材質劣化",2,IF(P36="漏水",3,1)) -> 1
K35: 集計 判定 診断 | L35: 変状の発生規模合計(㎡) | Y35: － | AC35: =SUM(AC11:AC34) -> 0 | AD35: =SUM(AD11:AD34) -> 0 | AE35: =SUM(AE11:AE34) -> 0 | AF35: =SUM(AF11:AF34) -> 0 | AG35: =SUM(AG11:AG34) -> 0 | AH35: =SUM(AH11:AH34) -> 0 | AI35: =SUM(AI11:AI34) -> 0 | AJ35: =SUM(AJ11:AJ34) -> 0 | AK35: 覆工スパン単位の 健全性の 診断の区分 | AM35: Ⅰ
L36: 対策区分の 判定結果 | O36: 対策区分毎の変状数注3 | Y36: Ⅳ | Z36: Ⅲ | AA36: Ⅱa | AB36: Ⅱb | AC36: Ⅳ | AD36: Ⅲ | AE36: Ⅱa | AF36: Ⅱb | AG36: Ⅳ | AH36: Ⅲ | AI36: Ⅱa | AJ36: Ⅱb
Y37: =IF(COUNTIF(Y11:Y34,"〇")>0,1,0) -> 0 | Z37: =IF(COUNTIF(Z11:Z34,"〇")>0,1,0) -> 0 | AA37: =IF(COUNTIF(AA11:AA34,"〇")>0,1,0) -> 0 | AB37: =IF(COUNTIF(AB11:AB34,"〇")>0,1,0) -> 0 | AC37: =COUNTA(AC11:AC34) -> 0 | AD37: =COUNTA(AD11:AD34) -> 0 | AE37: =COUNTA(AE11:AE34) -> 0 | AF37: =COUNTA(AF11:AF34) -> 0 | AG37: =COUNTA(AG11:AG34) -> 0 | AH37: =COUNTA(AH11:AH34) -> 0 | AI37: =COUNTA(AI11:AI34) -> 0 | AJ37: =COUNTA(AJ11:AJ34) -> 0
K39: 所見 | L39: 【 外 力 】監視を必要としない。 【材質劣化】監視を必要としない。 【 漏 水 】監視を必要としない。 以上により本スパンの判定はⅠ判定となる。
K43: 注1：誤記入防止のため、当該変状区分以外のセルは灰色表示とすること。
K44: 注2：応急措置を実施した場合は、その詳細を備考に記載すること。
K45: 注3：外力は覆工スパン単位、材質劣化、漏水は変状単位とすること。
B46: （以下、印刷不要）
B47: ※1：本シートは作成洩れのないよう、変状が無くても全スパン分を作成すること．また変状展開図は、様式D-2-1、様式D-2-1'と同じものを覆工スパン単位で拡大し掲載すること。
B48: ※2：変状番号は、様式D-1-1で記入した番号と整合させること。
B49: ※3：対策区分毎の変状発生規模は、様式D-1-1に記載した面積を記入すること（ただし外力はスパン単位で評価するため変状の有無の欄には面積でなく○を記入し、備考欄に状況を記入）。
B50: ※4：本様式は覆工スパン毎に作成すること。
B51: ※5：変状数が多い場合は、適時、表の行を増やして覆工スパン毎に1枚のシートに収めること。また、1スパン１シートとし、スパンに合わせてシートを追加すること。
B52: ※6：対策区分毎の変状の発生範囲の規模とは，対策を行う際に参考となる変状の長さや面積であり，変状を包含する長さや面積とする。
B53: ※7：対策範囲を示す発生範囲の規模を面積で記入することが妥当ではない変状は、発生範囲の規模の欄に○を記入するとともに、備考に内容を記入すること。

Sheet 様式D-3_S019
AU1: 様式F用→ | AV1: 覆工スパン | AY1: 変 状 数 | BK1: 変 状 規 模
AV2: 番号 | AW2: 延長 （ｍ） | AX2: 健全性の診断の 区分 | AY2: 対策区分の判定 | BK2: 覆工スパン長（ｍ） | BO2: 変状の発生範囲の規模（㎡）
B3: ■定期点検記録様式 覆工スパン別変状詳細展開図 【様式D-3】 | AY3: 外力 | BC3: 材質劣化 | BG3: 漏水 | BK3: 外力 注2 | BO3: 材質劣化 | BS3: 漏水
B4: フリガナ | E4: (ｵﾄﾒｷｮｳﾄﾝﾈﾙ) | K4: 路線名 | N4: 一般国道434号 | T4: 定期点検業者 | Y4: 応用地質（株） | AG4: 定期点検年月日 | AK4: 45845 | AY4: Ⅳ | AZ4: Ⅲ | BA4: Ⅱa | BB4: Ⅱb | BC4: Ⅳ | BD4: Ⅲ | BE4: Ⅱa | BF4: Ⅱb | BG4: Ⅳ | BH4: Ⅲ | BI4: Ⅱa | BJ4: Ⅱb | BK4: Ⅳ | BL4: Ⅲ | BM4: Ⅱa | BN4: Ⅱb | BO4: Ⅳ | BP4: Ⅲ | BQ4: Ⅱa | BR4: Ⅱb | BS4: Ⅳ | BT4: Ⅲ | BU4: Ⅱa | BV4: Ⅱb
B5: 名 称 | E5: 乙女峡トンネル | K5: 管理者名 | N5: 山口県岩国土木建築事務所 | Y5: 太田 裕之 | AV5: =N7 -> 19 | AW5: =R7 -> 10.5 | AX5: =AM35 -> Ⅱ | AY5: =IF(Y37>0,Y37,"") | AZ5: =IF(Y37>0,"",IF(Z37>0,Z37,"")) | BA5: =IF(Y37+Z37>0,"",IF(AA37>0,AA37,"")) | BB5: =IF(Y37+Z37+AA37>0,"",IF(AB37>0,AB37,"")) | BC5: =AC37 -> 0 | BD5: =AD37 -> 0 | BE5: =AE37 -> 0 | BF5: =AF37 -> 1 | BG5: =AG37 -> 0 | BH5: =AH37 -> 0 | BI5: =AI37 -> 0 | BJ5: =AJ37 -> 0 | BK5: =IF(Y37>0,R7,"") | BL5: =IF(Y37>0,"",IF(Z37>0,R7,"")) | BM5: =IF(Y37+Z37>0,"",IF(AA37>0,R7,"")) | BN5: =IF(Y37+Z37+AA37>0,"",IF(AB37>0,R7,"")) | BO5: =AC35 -> 0 | BP5: =AD35 -> 0 | BQ5: =AE35 -> 0 | BR5: =AF35 -> 0.01 | BS5: =AG35 -> 0 | BT5: =AH35 -> 0 | BU5: =AI35 -> 0 | BV5: =AJ35 -> 0
B6: スパン別変状展開図 | K6: 【健全性判定集計表】
K7: スパン番号 | N7: 19 | P7: スパン長 | R7: 10.5 | U7: 前回定期点検時の判定 | W7: 応急措置前の判定 | Y7: 対策区分毎の 変状の有無 | AC7: 対策区分毎の変状の発生範囲の規模(㎡) | AK7: 備考注2
K8: 変状番号 | L8: 対象箇所 | N8: 部位区分 | P8: 変状区分 | R8: 変状種類
Y9: 外力注1 | AC9: 材質劣化注1 | AG9: 漏水注1
Y10: Ⅳ | Z10: Ⅲ | AA10: Ⅱa | AB10: Ⅱb | AC10: Ⅳ | AD10: Ⅲ | AE10: Ⅱa | AF10: Ⅱb | AG10: Ⅳ | AH10: Ⅲ | AI10: Ⅱa | AJ10: Ⅱb
K11: 1 | L11: 覆工 | N11: アーチ（天端） | P11: 材質劣化 | R11: 鋼材腐食 | U11: Ⅱa | W11: － | AF11: 0.01 | AK11: 再判定 | AQ11: =IF(P11="材質劣化",2,IF(P11="漏水",3,1)) -> 2
K12: 2 | AQ12: =IF(P12="材質劣化",2,IF(P12="漏水",3,1)) -> 1
K13: 3 | AQ13: =IF(P13="材質劣化",2,IF(P13="漏水",3,1)) -> 1
K14: 4 | AQ14: =IF(P14="材質劣化",2,IF(P14="漏水",3,1)) -> 1
K15: 5 | AQ15: =IF(P15="材質劣化",2,IF(P15="漏水",3,1)) -> 1
K16: 6 | AQ16: =IF(P16="材質劣化",2,IF(P16="漏水",3,1)) -> 1
K17: 7 | AQ17: =IF(P17="材質劣化",2,IF(P17="漏水",3,1)) -> 1
K18: 8 | AQ18: =IF(P18="材質劣化",2,IF(P18="漏水",3,1)) -> 1
K19: 9 | AQ19: =IF(P19="材質劣化",2,IF(P19="漏水",3,1)) -> 1
K20: 10 | AQ20: =IF(P20="材質劣化",2,IF(P20="漏水",3,1)) -> 1
K21: 11 | AQ21: =IF(P21="材質劣化",2,IF(P21="漏水",3,1)) -> 1
K22: 12 | AQ22: =IF(P22="材質劣化",2,IF(P22="漏水",3,1)) -> 1
K23: 13 | AQ23: =IF(P23="材質劣化",2,IF(P23="漏水",3,1)) -> 1
... K27: 17 | AQ27: =IF(P27="材質劣化",2,IF(P27="漏水",3,1)) -> 1
K28: 18 | AQ28: =IF(P30="材質劣化",2,IF(P30="漏水",3,1)) -> 1
K29: 19 | AQ29: =IF(P34="材質劣化",2,IF(P34="漏水",3,1)) -> 1
K30: 20 | AQ30: =IF(P30="材質劣化",2,IF(P30="漏水",3,1)) -> 1
K31: 21 | AQ31: =IF(P33="材質劣化",2,IF(P33="漏水",3,1)) -> 1
K32: 22 | AQ32: =IF(P37="材質劣化",2,IF(P37="漏水",3,1)) -> 1
K33: 23 | AQ33: =IF(P33="材質劣化",2,IF(P33="漏水",3,1)) -> 1
K34: 24 | AQ34: =IF(P36="材質劣化",2,IF(P36="漏水",3,1)) -> 1
K35: 集計 判定 診断 | L35: 変状の発生規模合計(㎡) | Y35: － | AC35: =SUM(AC11:AC34) -> 0 | AD35: =SUM(AD11:AD34) -> 0 | AE35: =SUM(AE11:AE34) -> 0 | AF35: =SUM(AF11:AF34) -> 0.01 | AG35: =SUM(AG11:AG34) -> 0 | AH35: =SUM(AH11:AH34) -> 0 | AI35: =SUM(AI11:AI34) -> 0 | AJ35: =SUM(AJ11:AJ34) -> 0 | AK35: 覆工スパン単位の 健全性の 診断の区分 | AM35: Ⅱ
L36: 対策区分の 判定結果 | O36: 対策区分毎の変状数注3 | Y36: Ⅳ | Z36: Ⅲ | AA36: Ⅱa | AB36: Ⅱb | AC36: Ⅳ | AD36: Ⅲ | AE36: Ⅱa | AF36: Ⅱb | AG36: Ⅳ | AH36: Ⅲ | AI36: Ⅱa | AJ36: Ⅱb
Y37: =IF(COUNTIF(Y11:Y34,"〇")>0,1,0) -> 0 | Z37: =IF(COUNTIF(Z11:Z34,"〇")>0,1,0) -> 0 | AA37: =IF(COUNTIF(AA11:AA34,"〇")>0,1,0) -> 0 | AB37: =IF(COUNTIF(AB11:AB34,"〇")>0,1,0) -> 0 | AC37: =COUNTA(AC11:AC34) -> 0 | AD37: =COUNTA(AD11:AD34) -> 0 | AE37: =COUNTA(AE11:AE34) -> 0 | AF37: =COUNTA(AF11:AF34) -> 1 | AG37: =COUNTA(AG11:AG34) -> 0 | AH37: =COUNTA(AH11:AH34) -> 0 | AI37: =COUNTA(AI11:AI34) -> 0 | AJ37: =COUNTA(AJ11:AJ34) -> 0
K39: 所見 | L39: 【 外 力 】監視を必要としない。 【材質劣化】次回点検まで継続的な監視を必要とする。 【 漏 水 】監視を必要としない。 以上により本スパンの判定はⅡb判定となる。
K43: 注1：誤記入防止のため、当該変状区分以外のセルは灰色表示とすること。
K44: 注2：応急措置を実施した場合は、その詳細を備考に記載すること。
K45: 注3：外力は覆工スパン単位、材質劣化、漏水は変状単位とすること。
B46: （以下、印刷不要）
B47: ※1：本シートは作成洩れのないよう、変状が無くても全スパン分を作成すること．また変状展開図は、様式D-2-1、様式D-2-1'と同じものを覆工スパン単位で拡大し掲載すること。
B48: ※2：変状番号は、様式D-1-1で記入した番号と整合させること。
B49: ※3：対策区分毎の変状発生規模は、様式D-1-1に記載した面積を記入すること（ただし外力はスパン単位で評価するため変状の有無の欄には面積でなく○を記入し、備考欄に状況を記入）。
B50: ※4：本様式は覆工スパン毎に作成すること。
B51: ※5：変状数が多い場合は、適時、表の行を増やして覆工スパン毎に1枚のシートに収めること。また、1スパン１シートとし、スパンに合わせてシートを追加すること。
B52: ※6：対策区分毎の変状の発生範囲の規模とは，対策を行う際に参考となる変状の長さや面積であり，変状を包含する長さや面積とする。
B53: ※7：対策範囲を示す発生範囲の規模を面積で記入することが妥当ではない変状は、発生範囲の規模の欄に○を記入するとともに、備考に内容を記入すること。

Sheet 様式D-3_S020
AU1: 様式F用→ | AV1: 覆工スパン | AY1: 変 状 数 | BK1: 変 状 規 模
AV2: 番号 | AW2: 延長 （ｍ） | AX2: 健全性の診断の 区分 | AY2: 対策区分の判定 | BK2: 覆工スパン長（ｍ） | BO2: 変状の発生範囲の規模（㎡）
B3: ■定期点検記録様式 覆工スパン別変状詳細展開図 【様式D-3】 | AY3: 外力 | BC3: 材質劣化 | BG3: 漏水 | BK3: 外力 注2 | BO3: 材質劣化 | BS3: 漏水
B4: フリガナ | E4: (ｵﾄﾒｷｮｳﾄﾝﾈﾙ) | K4: 路線名 | N4: 一般国道434号 | T4: 定期点検業者 | Y4: 応用地質（株） | AG4: 定期点検年月日 | AK4: 45845 | AY4: Ⅳ | AZ4: Ⅲ | BA4: Ⅱa | BB4: Ⅱb | BC4: Ⅳ | BD4: Ⅲ | BE4: Ⅱa | BF4: Ⅱb | BG4: Ⅳ | BH4: Ⅲ | BI4: Ⅱa | BJ4: Ⅱb | BK4: Ⅳ | BL4: Ⅲ | BM4: Ⅱa | BN4: Ⅱb | BO4: Ⅳ | BP4: Ⅲ | BQ4: Ⅱa | BR4: Ⅱb | BS4: Ⅳ | BT4: Ⅲ | BU4: Ⅱa | BV4: Ⅱb
B5: 名 称 | E5: 乙女峡トンネル | K5: 管理者名 | N5: 山口県岩国土木建築事務所 | Y5: 太田 裕之 | AV5: =N7 -> 20 | AW5: =R7 -> 10.5 | AX5: =AM35 -> Ⅱ | AY5: =IF(Y37>0,Y37,"") | AZ5: =IF(Y37>0,"",IF(Z37>0,Z37,"")) | BA5: =IF(Y37+Z37>0,"",IF(AA37>0,AA37,"")) | BB5: =IF(Y37+Z37+AA37>0,"",IF(AB37>0,AB37,"")) | BC5: =AC37 -> 0 | BD5: =AD37 -> 0 | BE5: =AE37 -> 1 | BF5: =AF37 -> 0 | BG5: =AG37 -> 0 | BH5: =AH37 -> 0 | BI5: =AI37 -> 0 | BJ5: =AJ37 -> 0 | BK5: =IF(Y37>0,R7,"") | BL5: =IF(Y37>0,"",IF(Z37>0,R7,"")) | BM5: =IF(Y37+Z37>0,"",IF(AA37>0,R7,"")) | BN5: =IF(Y37+Z37+AA37>0,"",IF(AB37>0,R7,"")) | BO5: =AC35 -> 0 | BP5: =AD35 -> 0 | BQ5: =AE35 -> 0.06 | BR5: =AF35 -> 0 | BS5: =AG35 -> 0 | BT5: =AH35 -> 0 | BU5: =AI35 -> 0 | BV5: =AJ35 -> 0
B6: スパン別変状展開図 | K6: 【健全性判定集計表】
K7: スパン番号 | N7: 20 | P7: スパン長 | R7: 10.5 | U7: 前回定期点検時の判定 | W7: 応急措置前の判定 | Y7: 対策区分毎の 変状の有無 | AC7: 対策区分毎の変状の発生範囲の規模(㎡) | AK7: 備考注2
K8: 変状番号 | L8: 対象箇所 | N8: 部位区分 | P8: 変状区分 | R8: 変状種類
Y9: 外力注1 | AC9: 材質劣化注1 | AG9: 漏水注1
Y10: Ⅳ | Z10: Ⅲ | AA10: Ⅱa | AB10: Ⅱb | AC10: Ⅳ | AD10: Ⅲ | AE10: Ⅱa | AF10: Ⅱb | AG10: Ⅳ | AH10: Ⅲ | AI10: Ⅱa | AJ10: Ⅱb
K11: 1 | L11: 覆工 | N11: アーチ（天端） | P11: 材質劣化 | R11: うき・はく離 | U11: Ⅱa | W11: － | AK11: R02定期点検時に叩き落とし実施 | AQ11: =IF(P11="材質劣化",2,IF(P11="漏水",3,1)) -> 2
K12: 2 | L12: 覆工 | N12: 横断目地（左側） | P12: 材質劣化 | R12: うき・はく離 | U12: Ⅱa | W12: － | AE12: 0.06 | AQ12: =IF(P12="材質劣化",2,IF(P12="漏水",3,1)) -> 2
K13: 3 | L13: 覆工 | N13: アーチ（天端） | P13: 材質劣化 | R13: うき・はく離 | U13: Ⅱa | W13: － | AK13: R02定期点検時に叩き落とし実施、再判定 | AQ13: =IF(P13="材質劣化",2,IF(P13="漏水",3,1)) -> 2
K14: 4 | AQ14: =IF(P14="材質劣化",2,IF(P14="漏水",3,1)) -> 1
K15: 5 | AQ15: =IF(P15="材質劣化",2,IF(P15="漏水",3,1)) -> 1
K16: 6 | AQ16: =IF(P16="材質劣化",2,IF(P16="漏水",3,1)) -> 1
K17: 7 | AQ17: =IF(P17="材質劣化",2,IF(P17="漏水",3,1)) -> 1
K18: 8 | AQ18: =IF(P18="材質劣化",2,IF(P18="漏水",3,1)) -> 1
K19: 9 | AQ19: =IF(P19="材質劣化",2,IF(P19="漏水",3,1)) -> 1
K20: 10 | AQ20: =IF(P20="材質劣化",2,IF(P20="漏水",3,1)) -> 1
K21: 11 | AQ21: =IF(P21="材質劣化",2,IF(P21="漏水",3,1)) -> 1
K22: 12 | AQ22: =IF(P22="材質劣化",2,IF(P22="漏水",3,1)) -> 1
K23: 13 | AQ23: =IF(P23="材質劣化",2,IF(P23="漏水",3,1)) -> 1
K24: 14 | AQ24: =IF(P24="材質劣化",2,IF(P24="漏水",3,1)) -> 1
K25: 15 | AQ25: =IF(P25="材質劣化",2,IF(P25="漏水",3,1)) -> 1
... K27: 17 | AQ27: =IF(P27="材質劣化",2,IF(P27="漏水",3,1)) -> 1
K28: 18 | AQ28: =IF(P30="材質劣化",2,IF(P30="漏水",3,1)) -> 1
K29: 19 | AQ29: =IF(P34="材質劣化",2,IF(P34="漏水",3,1)) -> 1
K30: 20 | AQ30: =IF(P30="材質劣化",2,IF(P30="漏水",3,1)) -> 1
K31: 21 | AQ31: =IF(P33="材質劣化",2,IF(P33="漏水",3,1)) -> 1
K32: 22 | AQ32: =IF(P37="材質劣化",2,IF(P37="漏水",3,1)) -> 1
K33: 23 | AQ33: =IF(P33="材質劣化",2,IF(P33="漏水",3,1)) -> 1
K34: 24 | AQ34: =IF(P36="材質劣化",2,IF(P36="漏水",3,1)) -> 1
K35: 集計 判定 診断 | L35: 変状の発生規模合計(㎡) | Y35: － | AC35: =SUM(AC11:AC34) -> 0 | AD35: =SUM(AD11:AD34) -> 0 | AE35: =SUM(AE11:AE34) -> 0.06 | AF35: =SUM(AF11:AF34) -> 0 | AG35: =SUM(AG11:AG34) -> 0 | AH35: =SUM(AH11:AH34) -> 0 | AI35: =SUM(AI11:AI34) -> 0 | AJ35: =SUM(AJ11:AJ34) -> 0 | AK35: 覆工スパン単位の 健全性の 診断の区分 | AM35: Ⅱ
L36: 対策区分の 判定結果 | O36: 対策区分毎の変状数注3 | Y36: Ⅳ | Z36: Ⅲ | AA36: Ⅱa | AB36: Ⅱb | AC36: Ⅳ | AD36: Ⅲ | AE36: Ⅱa | AF36: Ⅱb | AG36: Ⅳ | AH36: Ⅲ | AI36: Ⅱa | AJ36: Ⅱb
Y37: =IF(COUNTIF(Y11:Y34,"〇")>0,1,0) -> 0 | Z37: =IF(COUNTIF(Z11:Z34,"〇")>0,1,0) -> 0 | AA37: =IF(COUNTIF(AA11:AA34,"〇")>0,1,0) -> 0 | AB37: =IF(COUNTIF(AB11:AB34,"〇")>0,1,0) -> 0 | AC37: =COUNTA(AC11:AC34) -> 0 | AD37: =COUNTA(AD11:AD34) -> 0 | AE37: =COUNTA(AE11:AE34) -> 1 | AF37: =COUNTA(AF11:AF34) -> 0 | AG37: =COUNTA(AG11:AG34) -> 0 | AH37: =COUNTA(AH11:AH34) -> 0 | AI37: =COUNTA(AI11:AI34) -> 0 | AJ37: =COUNTA(AJ11:AJ34) -> 0
K39: 所見 | L39: 【 外 力 】監視を必要としない。 【材質劣化】次回点検まで重点的な監視、または計画的な対策を必要とする。 【 漏 水 】監視を必要としない。 以上により本スパンの判定はⅡa判定となる。
K43: 注1：誤記入防止のため、当該変状区分以外のセルは灰色表示とすること。
K44: 注2：応急措置を実施した場合は、その詳細を備考に記載すること。
K45: 注3：外力は覆工スパン単位、材質劣化、漏水は変状単位とすること。
B46: （以下、印刷不要）
B47: ※1：本シートは作成洩れのないよう、変状が無くても全スパン分を作成すること．また変状展開図は、様式D-2-1、様式D-2-1'と同じものを覆工スパン単位で拡大し掲載すること。
B48: ※2：変状番号は、様式D-1-1で記入した番号と整合させること。
B49: ※3：対策区分毎の変状発生規模は、様式D-1-1に記載した面積を記入すること（ただし外力はスパン単位で評価するため変状の有無の欄には面積でなく○を記入し、備考欄に状況を記入）。
B50: ※4：本様式は覆工スパン毎に作成すること。
B51: ※5：変状数が多い場合は、適時、表の行を増やして覆工スパン毎に1枚のシートに収めること。また、1スパン１シートとし、スパンに合わせてシートを追加すること。
B52: ※6：対策区分毎の変状の発生範囲の規模とは，対策を行う際に参考となる変状の長さや面積であり，変状を包含する長さや面積とする。
B53: ※7：対策範囲を示す発生範囲の規模を面積で記入することが妥当ではない変状は、発生範囲の規模の欄に○を記入するとともに、備考に内容を記入すること。

Sheet 様式D-3_S021
AU1: 様式F用→ | AV1: 覆工スパン | AY1: 変 状 数 | BK1: 変 状 規 模
AV2: 番号 | AW2: 延長 （ｍ） | AX2: 健全性の診断の 区分 | AY2: 対策区分の判定 | BK2: 覆工スパン長（ｍ） | BO2: 変状の発生範囲の規模（㎡）
B3: ■定期点検記録様式 覆工スパン別変状詳細展開図 【様式D-3】 | AY3: 外力 | BC3: 材質劣化 | BG3: 漏水 | BK3: 外力 注2 | BO3: 材質劣化 | BS3: 漏水
B4: フリガナ | E4: (ｵﾄﾒｷｮｳﾄﾝﾈﾙ) | K4: 路線名 | N4: 一般国道434号 | T4: 定期点検業者 | Y4: 応用地質（株） | AG4: 定期点検年月日 | AK4: 45845 | AY4: Ⅳ | AZ4: Ⅲ | BA4: Ⅱa | BB4: Ⅱb | BC4: Ⅳ | BD4: Ⅲ | BE4: Ⅱa | BF4: Ⅱb | BG4: Ⅳ | BH4: Ⅲ | BI4: Ⅱa | BJ4: Ⅱb | BK4: Ⅳ | BL4: Ⅲ | BM4: Ⅱa | BN4: Ⅱb | BO4: Ⅳ | BP4: Ⅲ | BQ4: Ⅱa | BR4: Ⅱb | BS4: Ⅳ | BT4: Ⅲ | BU4: Ⅱa | BV4: Ⅱb
B5: 名 称 | E5: 乙女峡トンネル | K5: 管理者名 | N5: 山口県岩国土木建築事務所 | Y5: 太田 裕之 | AV5: =N7 -> 21 | AW5: =R7 -> 10.5 | AX5: =AM35 -> Ⅰ | AY5: =IF(Y37>0,Y37,"") | AZ5: =IF(Y37>0,"",IF(Z37>0,Z37,"")) | BA5: =IF(Y37+Z37>0,"",IF(AA37>0,AA37,"")) | BB5: =IF(Y37+Z37+AA37>0,"",IF(AB37>0,AB37,"")) | BC5: =AC37 -> 0 | BD5: =AD37 -> 0 | BE5: =AE37 -> 0 | BF5: =AF37 -> 0 | BG5: =AG37 -> 0 | BH5: =AH37 -> 0 | BI5: =AI37 -> 0 | BJ5: =AJ37 -> 0 | BK5: =IF(Y37>0,R7,"") | BL5: =IF(Y37>0,"",IF(Z37>0,R7,"")) | BM5: =IF(Y37+Z37>0,"",IF(AA37>0,R7,"")) | BN5: =IF(Y37+Z37+AA37>0,"",IF(AB37>0,R7,"")) | BO5: =AC35 -> 0 | BP5: =AD35 -> 0 | BQ5: =AE35 -> 0 | BR5: =AF35 -> 0 | BS5: =AG35 -> 0 | BT5: =AH35 -> 0 | BU5: =AI35 -> 0 | BV5: =AJ35 -> 0
B6: スパン別変状展開図 | K6: 【健全性判定集計表】
K7: スパン番号 | N7: 21 | P7: スパン長 | R7: 10.5 | U7: 前回定期点検時の判定 | W7: 応急措置前の判定 | Y7: 対策区分毎の 変状の有無 | AC7: 対策区分毎の変状の発生範囲の規模(㎡) | AK7: 備考注2
K8: 変状番号 | L8: 対象箇所 | N8: 部位区分 | P8: 変状区分 | R8: 変状種類
Y9: 外力注1 | AC9: 材質劣化注1 | AG9: 漏水注1
Y10: Ⅳ | Z10: Ⅲ | AA10: Ⅱa | AB10: Ⅱb | AC10: Ⅳ | AD10: Ⅲ | AE10: Ⅱa | AF10: Ⅱb | AG10: Ⅳ | AH10: Ⅲ | AI10: Ⅱa | AJ10: Ⅱb
K11: 1 | AQ11: =IF(P11="材質劣化",2,IF(P11="漏水",3,1)) -> 1
K12: 2 | AQ12: =IF(P12="材質劣化",2,IF(P12="漏水",3,1)) -> 1
K13: 3 | AQ13: =IF(P13="材質劣化",2,IF(P13="漏水",3,1)) -> 1
K14: 4 | AQ14: =IF(P14="材質劣化",2,IF(P14="漏水",3,1)) -> 1
K15: 5 | AQ15: =IF(P15="材質劣化",2,IF(P15="漏水",3,1)) -> 1
K16: 6 | AQ16: =IF(P16="材質劣化",2,IF(P16="漏水",3,1)) -> 1
K17: 7 | AQ17: =IF(P17="材質劣化",2,IF(P17="漏水",3,1)) -> 1
K18: 8 | AQ18: =IF(P18="材質劣化",2,IF(P18="漏水",3,1)) -> 1
K19: 9 | AQ19: =IF(P19="材質劣化",2,IF(P19="漏水",3,1)) -> 1
K20: 10 | AQ20: =IF(P20="材質劣化",2,IF(P20="漏水",3,1)) -> 1
K21: 11 | AQ21: =IF(P21="材質劣化",2,IF(P21="漏水",3,1)) -> 1
K22: 12 | AQ22: =IF(P22="材質劣化",2,IF(P22="漏水",3,1)) -> 1
... K27: 17 | AQ27: =IF(P27="材質劣化",2,IF(P27="漏水",3,1)) -> 1
K28: 18 | AQ28: =IF(P30="材質劣化",2,IF(P30="漏水",3,1)) -> 1
K29: 19 | AQ29: =IF(P34="材質劣化",2,IF(P34="漏水",3,1)) -> 1
K30: 20 | AQ30: =IF(P30="材質劣化",2,IF(P30="漏水",3,1)) -> 1
K31: 21 | AQ31: =IF(P33="材質劣化",2,IF(P33="漏水",3,1)) -> 1
K32: 22 | AQ32: =IF(P37="材質劣化",2,IF(P37="漏水",3,1)) -> 1
K33: 23 | AQ33: =IF(P33="材質劣化",2,IF(P33="漏水",3,1)) -> 1
K34: 24 | AQ34: =IF(P36="材質劣化",2,IF(P36="漏水",3,1)) -> 1
K35: 集計 判定 診断 | L35: 変状の発生規模合計(㎡) | Y35: － | AC35: =SUM(AC11:AC34) -> 0 | AD35: =SUM(AD11:AD34) -> 0 | AE35: =SUM(AE11:AE34) -> 0 | AF35: =SUM(AF11:AF34) -> 0 | AG35: =SUM(AG11:AG34) -> 0 | AH35: =SUM(AH11:AH34) -> 0 | AI35: =SUM(AI11:AI34) -> 0 | AJ35: =SUM(AJ11:AJ34) -> 0 | AK35: 覆工スパン単位の 健全性の 診断の区分 | AM35: Ⅰ
L36: 対策区分の 判定結果 | O36: 対策区分毎の変状数注3 | Y36: Ⅳ | Z36: Ⅲ | AA36: Ⅱa | AB36: Ⅱb | AC36: Ⅳ | AD36: Ⅲ | AE36: Ⅱa | AF36: Ⅱb | AG36: Ⅳ | AH36: Ⅲ | AI36: Ⅱa | AJ36: Ⅱb
Y37: =IF(COUNTIF(Y11:Y34,"〇")>0,1,0) -> 0 | Z37: =IF(COUNTIF(Z11:Z34,"〇")>0,1,0) -> 0 | AA37: =IF(COUNTIF(AA11:AA34,"〇")>0,1,0) -> 0 | AB37: =IF(COUNTIF(AB11:AB34,"〇")>0,1,0) -> 0 | AC37: =COUNTA(AC11:AC34) -> 0 | AD37: =COUNTA(AD11:AD34) -> 0 | AE37: =COUNTA(AE11:AE34) -> 0 | AF37: =COUNTA(AF11:AF34) -> 0 | AG37: =COUNTA(AG11:AG34) -> 0 | AH37: =COUNTA(AH11:AH34) -> 0 | AI37: =COUNTA(AI11:AI34) -> 0 | AJ37: =COUNTA(AJ11:AJ34) -> 0
K39: 所見 | L39: 【 外 力 】監視を必要としない。 【材質劣化】監視を必要としない。 【 漏 水 】監視を必要としない。 以上により本スパンの判定はⅠ判定となる。
K43: 注1：誤記入防止のため、当該変状区分以外のセルは灰色表示とすること。
K44: 注2：応急措置を実施した場合は、その詳細を備考に記載すること。
K45: 注3：外力は覆工スパン単位、材質劣化、漏水は変状単位とすること。
B46: （以下、印刷不要）
B47: ※1：本シートは作成洩れのないよう、変状が無くても全スパン分を作成すること．また変状展開図は、様式D-2-1、様式D-2-1'と同じものを覆工スパン単位で拡大し掲載すること。
B48: ※2：変状番号は、様式D-1-1で記入した番号と整合させること。
B49: ※3：対策区分毎の変状発生規模は、様式D-1-1に記載した面積を記入すること（ただし外力はスパン単位で評価するため変状の有無の欄には面積でなく○を記入し、備考欄に状況を記入）。
B50: ※4：本様式は覆工スパン毎に作成すること。
B51: ※5：変状数が多い場合は、適時、表の行を増やして覆工スパン毎に1枚のシートに収めること。また、1スパン１シートとし、スパンに合わせてシートを追加すること。
B52: ※6：対策区分毎の変状の発生範囲の規模とは，対策を行う際に参考となる変状の長さや面積であり，変状を包含する長さや面積とする。
B53: ※7：対策範囲を示す発生範囲の規模を面積で記入することが妥当ではない変状は、発生範囲の規模の欄に○を記入するとともに、備考に内容を記入すること。

Sheet 様式D-3_S022
AU1: 様式F用→ | AV1: 覆工スパン | AY1: 変 状 数 | BK1: 変 状 規 模
AV2: 番号 | AW2: 延長 （ｍ） | AX2: 健全性の診断の 区分 | AY2: 対策区分の判定 | BK2: 覆工スパン長（ｍ） | BO2: 変状の発生範囲の規模（㎡）
B3: ■定期点検記録様式 覆工スパン別変状詳細展開図 【様式D-3】 | AY3: 外力 | BC3: 材質劣化 | BG3: 漏水 | BK3: 外力 注2 | BO3: 材質劣化 | BS3: 漏水
B4: フリガナ | E4: (ｵﾄﾒｷｮｳﾄﾝﾈﾙ) | K4: 路線名 | N4: 一般国道434号 | T4: 定期点検業者 | Y4: 応用地質（株） | AG4: 定期点検年月日 | AK4: 45845 | AY4: Ⅳ | AZ4: Ⅲ | BA4: Ⅱa | BB4: Ⅱb | BC4: Ⅳ | BD4: Ⅲ | BE4: Ⅱa | BF4: Ⅱb | BG4: Ⅳ | BH4: Ⅲ | BI4: Ⅱa | BJ4: Ⅱb | BK4: Ⅳ | BL4: Ⅲ | BM4: Ⅱa | BN4: Ⅱb | BO4: Ⅳ | BP4: Ⅲ | BQ4: Ⅱa | BR4: Ⅱb | BS4: Ⅳ | BT4: Ⅲ | BU4: Ⅱa | BV4: Ⅱb
B5: 名 称 | E5: 乙女峡トンネル | K5: 管理者名 | N5: 山口県岩国土木建築事務所 | Y5: 太田 裕之 | AV5: =N7 -> 22 | AW5: =R7 -> 10.5 | AX5: =AM35 -> Ⅰ | AY5: =IF(Y37>0,Y37,"") | AZ5: =IF(Y37>0,"",IF(Z37>0,Z37,"")) | BA5: =IF(Y37+Z37>0,"",IF(AA37>0,AA37,"")) | BB5: =IF(Y37+Z37+AA37>0,"",IF(AB37>0,AB37,"")) | BC5: =AC37 -> 0 | BD5: =AD37 -> 0 | BE5: =AE37 -> 0 | BF5: =AF37 -> 0 | BG5: =AG37 -> 0 | BH5: =AH37 -> 0 | BI5: =AI37 -> 0 | BJ5: =AJ37 -> 0 | BK5: =IF(Y37>0,R7,"") | BL5: =IF(Y37>0,"",IF(Z37>0,R7,"")) | BM5: =IF(Y37+Z37>0,"",IF(AA37>0,R7,"")) | BN5: =IF(Y37+Z37+AA37>0,"",IF(AB37>0,R7,"")) | BO5: =AC35 -> 0 | BP5: =AD35 -> 0 | BQ5: =AE35 -> 0 | BR5: =AF35 -> 0 | BS5: =AG35 -> 0 | BT5: =AH35 -> 0 | BU5: =AI35 -> 0 | BV5: =AJ35 -> 0
B6: スパン別変状展開図 | K6: 【健全性判定集計表】
K7: スパン番号 | N7: 22 | P7: スパン長 | R7: 10.5 | U7: 前回定期点検時の判定 | W7: 応急措置前の判定 | Y7: 対策区分毎の 変状の有無 | AC7: 対策区分毎の変状の発生範囲の規模(㎡) | AK7: 備考注2
K8: 変状番号 | L8: 対象箇所 | N8: 部位区分 | P8: 変状区分 | R8: 変状種類
Y9: 外力注1 | AC9: 材質劣化注1 | AG9: 漏水注1
Y10: Ⅳ | Z10: Ⅲ | AA10: Ⅱa | AB10: Ⅱb | AC10: Ⅳ | AD10: Ⅲ | AE10: Ⅱa | AF10: Ⅱb | AG10: Ⅳ | AH10: Ⅲ | AI10: Ⅱa | AJ10: Ⅱb
K11: 1 | AQ11: =IF(P11="材質劣化",2,IF(P11="漏水",3,1)) -> 1
K12: 2 | AQ12: =IF(P12="材質劣化",2,IF(P12="漏水",3,1)) -> 1
K13: 3 | AQ13: =IF(P13="材質劣化",2,IF(P13="漏水",3,1)) -> 1
K14: 4 | AQ14: =IF(P14="材質劣化",2,IF(P14="漏水",3,1)) -> 1
K15: 5 | AQ15: =IF(P15="材質劣化",2,IF(P15="漏水",3,1)) -> 1
K16: 6 | AQ16: =IF(P16="材質劣化",2,IF(P16="漏水",3,1)) -> 1
K17: 7 | AQ17: =IF(P17="材質劣化",2,IF(P17="漏水",3,1)) -> 1
K18: 8 | AQ18: =IF(P18="材質劣化",2,IF(P18="漏水",3,1)) -> 1
K19: 9 | AQ19: =IF(P19="材質劣化",2,IF(P19="漏水",3,1)) -> 1
K20: 10 | AQ20: =IF(P20="材質劣化",2,IF(P20="漏水",3,1)) -> 1
K21: 11 | AQ21: =IF(P21="材質劣化",2,IF(P21="漏水",3,1)) -> 1
K22: 12 | AQ22: =IF(P22="材質劣化",2,IF(P22="漏水",3,1)) -> 1
... K27: 17 | AQ27: =IF(P27="材質劣化",2,IF(P27="漏水",3,1)) -> 1
K28: 18 | AQ28: =IF(P30="材質劣化",2,IF(P30="漏水",3,1)) -> 1
K29: 19 | AQ29: =IF(P34="材質劣化",2,IF(P34="漏水",3,1)) -> 1
K30: 20 | AQ30: =IF(P30="材質劣化",2,IF(P30="漏水",3,1)) -> 1
K31: 21 | AQ31: =IF(P33="材質劣化",2,IF(P33="漏水",3,1)) -> 1
K32: 22 | AQ32: =IF(P37="材質劣化",2,IF(P37="漏水",3,1)) -> 1
K33: 23 | AQ33: =IF(P33="材質劣化",2,IF(P33="漏水",3,1)) -> 1
K34: 24 | AQ34: =IF(P36="材質劣化",2,IF(P36="漏水",3,1)) -> 1
K35: 集計 判定 診断 | L35: 変状の発生規模合計(㎡) | Y35: － | AC35: =SUM(AC11:AC34) -> 0 | AD35: =SUM(AD11:AD34) -> 0 | AE35: =SUM(AE11:AE34) -> 0 | AF35: =SUM(AF11:AF34) -> 0 | AG35: =SUM(AG11:AG34) -> 0 | AH35: =SUM(AH11:AH34) -> 0 | AI35: =SUM(AI11:AI34) -> 0 | AJ35: =SUM(AJ11:AJ34) -> 0 | AK35: 覆工スパン単位の 健全性の 診断の区分 | AM35: Ⅰ
L36: 対策区分の 判定結果 | O36: 対策区分毎の変状数注3 | Y36: Ⅳ | Z36: Ⅲ | AA36: Ⅱa | AB36: Ⅱb | AC36: Ⅳ | AD36: Ⅲ | AE36: Ⅱa | AF36: Ⅱb | AG36: Ⅳ | AH36: Ⅲ | AI36: Ⅱa | AJ36: Ⅱb
Y37: =IF(COUNTIF(Y11:Y34,"〇")>0,1,0) -> 0 | Z37: =IF(COUNTIF(Z11:Z34,"〇")>0,1,0) -> 0 | AA37: =IF(COUNTIF(AA11:AA34,"〇")>0,1,0) -> 0 | AB37: =IF(COUNTIF(AB11:AB34,"〇")>0,1,0) -> 0 | AC37: =COUNTA(AC11:AC34) -> 0 | AD37: =COUNTA(AD11:AD34) -> 0 | AE37: =COUNTA(AE11:AE34) -> 0 | AF37: =COUNTA(AF11:AF34) -> 0 | AG37: =COUNTA(AG11:AG34) -> 0 | AH37: =COUNTA(AH11:AH34) -> 0 | AI37: =COUNTA(AI11:AI34) -> 0 | AJ37: =COUNTA(AJ11:AJ34) -> 0
K39: 所見 | L39: 【 外 力 】監視を必要としない。 【材質劣化】監視を必要としない。 【 漏 水 】監視を必要としない。 以上により本スパンの判定はⅠ判定となる。
K43: 注1：誤記入防止のため、当該変状区分以外のセルは灰色表示とすること。
K44: 注2：応急措置を実施した場合は、その詳細を備考に記載すること。
K45: 注3：外力は覆工スパン単位、材質劣化、漏水は変状単位とすること。
B46: （以下、印刷不要）
B47: ※1：本シートは作成洩れのないよう、変状が無くても全スパン分を作成すること．また変状展開図は、様式D-2-1、様式D-2-1'と同じものを覆工スパン単位で拡大し掲載すること。
B48: ※2：変状番号は、様式D-1-1で記入した番号と整合させること。
B49: ※3：対策区分毎の変状発生規模は、様式D-1-1に記載した面積を記入すること（ただし外力はスパン単位で評価するため変状の有無の欄には面積でなく○を記入し、備考欄に状況を記入）。
B50: ※4：本様式は覆工スパン毎に作成すること。
B51: ※5：変状数が多い場合は、適時、表の行を増やして覆工スパン毎に1枚のシートに収めること。また、1スパン１シートとし、スパンに合わせてシートを追加すること。
B52: ※6：対策区分毎の変状の発生範囲の規模とは，対策を行う際に参考となる変状の長さや面積であり，変状を包含する長さや面積とする。
B53: ※7：対策範囲を示す発生範囲の規模を面積で記入することが妥当ではない変状は、発生範囲の規模の欄に○を記入するとともに、備考に内容を記入すること。

Sheet 様式D-3_S023
AU1: 様式F用→ | AV1: 覆工スパン | AY1: 変 状 数 | BK1: 変 状 規 模
AV2: 番号 | AW2: 延長 （ｍ） | AX2: 健全性の診断の 区分 | AY2: 対策区分の判定 | BK2: 覆工スパン長（ｍ） | BO2: 変状の発生範囲の規模（㎡）
B3: ■定期点検記録様式 覆工スパン別変状詳細展開図 【様式D-3】 | AY3: 外力 | BC3: 材質劣化 | BG3: 漏水 | BK3: 外力 注2 | BO3: 材質劣化 | BS3: 漏水
B4: フリガナ | E4: (ｵﾄﾒｷｮｳﾄﾝﾈﾙ) | K4: 路線名 | N4: 一般国道434号 | T4: 定期点検業者 | Y4: 応用地質（株） | AG4: 定期点検年月日 | AK4: 45845 | AY4: Ⅳ | AZ4: Ⅲ | BA4: Ⅱa | BB4: Ⅱb | BC4: Ⅳ | BD4: Ⅲ | BE4: Ⅱa | BF4: Ⅱb | BG4: Ⅳ | BH4: Ⅲ | BI4: Ⅱa | BJ4: Ⅱb | BK4: Ⅳ | BL4: Ⅲ | BM4: Ⅱa | BN4: Ⅱb | BO4: Ⅳ | BP4: Ⅲ | BQ4: Ⅱa | BR4: Ⅱb | BS4: Ⅳ | BT4: Ⅲ | BU4: Ⅱa | BV4: Ⅱb
B5: 名 称 | E5: 乙女峡トンネル | K5: 管理者名 | N5: 山口県岩国土木建築事務所 | Y5: 太田 裕之 | AV5: =N7 -> 23 | AW5: =R7 -> 10.5 | AX5: =AM35 -> Ⅱ | AY5: =IF(Y37>0,Y37,"") | AZ5: =IF(Y37>0,"",IF(Z37>0,Z37,"")) | BA5: =IF(Y37+Z37>0,"",IF(AA37>0,AA37,"")) | BB5: =IF(Y37+Z37+AA37>0,"",IF(AB37>0,AB37,"")) | BC5: =AC37 -> 0 | BD5: =AD37 -> 0 | BE5: =AE37 -> 0 | BF5: =AF37 -> 1 | BG5: =AG37 -> 0 | BH5: =AH37 -> 0 | BI5: =AI37 -> 0 | BJ5: =AJ37 -> 0 | BK5: =IF(Y37>0,R7,"") | BL5: =IF(Y37>0,"",IF(Z37>0,R7,"")) | BM5: =IF(Y37+Z37>0,"",IF(AA37>0,R7,"")) | BN5: =IF(Y37+Z37+AA37>0,"",IF(AB37>0,R7,"")) | BO5: =AC35 -> 0 | BP5: =AD35 -> 0 | BQ5: =AE35 -> 0 | BR5: =AF35 -> 2.08 | BS5: =AG35 -> 0 | BT5: =AH35 -> 0 | BU5: =AI35 -> 0 | BV5: =AJ35 -> 0
B6: スパン別変状展開図 | K6: 【健全性判定集計表】
K7: スパン番号 | N7: 23 | P7: スパン長 | R7: 10.5 | U7: 前回定期点検時の判定 | W7: 応急措置前の判定 | Y7: 対策区分毎の 変状の有無 | AC7: 対策区分毎の変状の発生範囲の規模(㎡) | AK7: 備考注2
K8: 変状番号 | L8: 対象箇所 | N8: 部位区分 | P8: 変状区分 | R8: 変状種類
Y9: 外力注1 | AC9: 材質劣化注1 | AG9: 漏水注1
Y10: Ⅳ | Z10: Ⅲ | AA10: Ⅱa | AB10: Ⅱb | AC10: Ⅳ | AD10: Ⅲ | AE10: Ⅱa | AF10: Ⅱb | AG10: Ⅳ | AH10: Ⅲ | AI10: Ⅱa | AJ10: Ⅱb
K11: 1 | L11: 覆工 | N11: 横断目地（右側） | P11: 材質劣化 | R11: うき・はく離 | U11: － | W11: － | AF11: 2.08 | AQ11: =IF(P11="材質劣化",2,IF(P11="漏水",3,1)) -> 2
K12: 2 | AQ12: =IF(P12="材質劣化",2,IF(P12="漏水",3,1)) -> 1
K13: 3 | AQ13: =IF(P13="材質劣化",2,IF(P13="漏水",3,1)) -> 1
K14: 4 | AQ14: =IF(P14="材質劣化",2,IF(P14="漏水",3,1)) -> 1
K15: 5 | AQ15: =IF(P15="材質劣化",2,IF(P15="漏水",3,1)) -> 1
K16: 6 | AQ16: =IF(P16="材質劣化",2,IF(P16="漏水",3,1)) -> 1
K17: 7 | AQ17: =IF(P17="材質劣化",2,IF(P17="漏水",3,1)) -> 1
K18: 8 | AQ18: =IF(P18="材質劣化",2,IF(P18="漏水",3,1)) -> 1
K19: 9 | AQ19: =IF(P19="材質劣化",2,IF(P19="漏水",3,1)) -> 1
K20: 10 | AQ20: =IF(P20="材質劣化",2,IF(P20="漏水",3,1)) -> 1
K21: 11 | AQ21: =IF(P21="材質劣化",2,IF(P21="漏水",3,1)) -> 1
K22: 12 | AQ22: =IF(P22="材質劣化",2,IF(P22="漏水",3,1)) -> 1
K23: 13 | AQ23: =IF(P23="材質劣化",2,IF(P23="漏水",3,1)) -> 1
... K27: 17 | AQ27: =IF(P27="材質劣化",2,IF(P27="漏水",3,1)) -> 1
K28: 18 | AQ28: =IF(P30="材質劣化",2,IF(P30="漏水",3,1)) -> 1
K29: 19 | AQ29: =IF(P34="材質劣化",2,IF(P34="漏水",3,1)) -> 1
K30: 20 | AQ30: =IF(P30="材質劣化",2,IF(P30="漏水",3,1)) -> 1
K31: 21 | AQ31: =IF(P33="材質劣化",2,IF(P33="漏水",3,1)) -> 1
K32: 22 | AQ32: =IF(P37="材質劣化",2,IF(P37="漏水",3,1)) -> 1
K33: 23 | AQ33: =IF(P33="材質劣化",2,IF(P33="漏水",3,1)) -> 1
K34: 24 | AQ34: =IF(P36="材質劣化",2,IF(P36="漏水",3,1)) -> 1
K35: 集計 判定 診断 | L35: 変状の発生規模合計(㎡) | Y35: － | AC35: =SUM(AC11:AC34) -> 0 | AD35: =SUM(AD11:AD34) -> 0 | AE35: =SUM(AE11:AE34) -> 0 | AF35: =SUM(AF11:AF34) -> 2.08 | AG35: =SUM(AG11:AG34) -> 0 | AH35: =SUM(AH11:AH34) -> 0 | AI35: =SUM(AI11:AI34) -> 0 | AJ35: =SUM(AJ11:AJ34) -> 0 | AK35: 覆工スパン単位の 健全性の 診断の区分 | AM35: Ⅱ
L36: 対策区分の 判定結果 | O36: 対策区分毎の変状数注3 | Y36: Ⅳ | Z36: Ⅲ | AA36: Ⅱa | AB36: Ⅱb | AC36: Ⅳ | AD36: Ⅲ | AE36: Ⅱa | AF36: Ⅱb | AG36: Ⅳ | AH36: Ⅲ | AI36: Ⅱa | AJ36: Ⅱb
Y37: =IF(COUNTIF(Y11:Y34,"〇")>0,1,0) -> 0 | Z37: =IF(COUNTIF(Z11:Z34,"〇")>0,1,0) -> 0 | AA37: =IF(COUNTIF(AA11:AA34,"〇")>0,1,0) -> 0 | AB37: =IF(COUNTIF(AB11:AB34,"〇")>0,1,0) -> 0 | AC37: =COUNTA(AC11:AC34) -> 0 | AD37: =COUNTA(AD11:AD34) -> 0 | AE37: =COUNTA(AE11:AE34) -> 0 | AF37: =COUNTA(AF11:AF34) -> 1 | AG37: =COUNTA(AG11:AG34) -> 0 | AH37: =COUNTA(AH11:AH34) -> 0 | AI37: =COUNTA(AI11:AI34) -> 0 | AJ37: =COUNTA(AJ11:AJ34) -> 0
K39: 所見 | L39: 【 外 力 】監視を必要としない。 【材質劣化】次回点検まで継続的な監視を必要とする。 【 漏 水 】監視を必要としない。 以上により本スパンの判定はⅡb判定となる。
K43: 注1：誤記入防止のため、当該変状区分以外のセルは灰色表示とすること。
K44: 注2：応急措置を実施した場合は、その詳細を備考に記載すること。
K45: 注3：外力は覆工スパン単位、材質劣化、漏水は変状単位とすること。
B46: （以下、印刷不要）
B47: ※1：本シートは作成洩れのないよう、変状が無くても全スパン分を作成すること．また変状展開図は、様式D-2-1、様式D-2-1'と同じものを覆工スパン単位で拡大し掲載すること。
B48: ※2：変状番号は、様式D-1-1で記入した番号と整合させること。
B49: ※3：対策区分毎の変状発生規模は、様式D-1-1に記載した面積を記入すること（ただし外力はスパン単位で評価するため変状の有無の欄には面積でなく○を記入し、備考欄に状況を記入）。
B50: ※4：本様式は覆工スパン毎に作成すること。
B51: ※5：変状数が多い場合は、適時、表の行を増やして覆工スパン毎に1枚のシートに収めること。また、1スパン１シートとし、スパンに合わせてシートを追加すること。
B52: ※6：対策区分毎の変状の発生範囲の規模とは，対策を行う際に参考となる変状の長さや面積であり，変状を包含する長さや面積とする。
B53: ※7：対策範囲を示す発生範囲の規模を面積で記入することが妥当ではない変状は、発生範囲の規模の欄に○を記入するとともに、備考に内容を記入すること。

Sheet 様式D-3_S024
AU1: 様式F用→ | AV1: 覆工スパン | AY1: 変 状 数 | BK1: 変 状 規 模
AV2: 番号 | AW2: 延長 （ｍ） | AX2: 健全性の診断の 区分 | AY2: 対策区分の判定 | BK2: 覆工スパン長（ｍ） | BO2: 変状の発生範囲の規模（㎡）
B3: ■定期点検記録様式 覆工スパン別変状詳細展開図 【様式D-3】 | AY3: 外力 | BC3: 材質劣化 | BG3: 漏水 | BK3: 外力 注2 | BO3: 材質劣化 | BS3: 漏水
B4: フリガナ | E4: (ｵﾄﾒｷｮｳﾄﾝﾈﾙ) | K4: 路線名 | N4: 一般国道434号 | T4: 定期点検業者 | Y4: 応用地質（株） | AG4: 定期点検年月日 | AK4: 45845 | AY4: Ⅳ | AZ4: Ⅲ | BA4: Ⅱa | BB4: Ⅱb | BC4: Ⅳ | BD4: Ⅲ | BE4: Ⅱa | BF4: Ⅱb | BG4: Ⅳ | BH4: Ⅲ | BI4: Ⅱa | BJ4: Ⅱb | BK4: Ⅳ | BL4: Ⅲ | BM4: Ⅱa | BN4: Ⅱb | BO4: Ⅳ | BP4: Ⅲ | BQ4: Ⅱa | BR4: Ⅱb | BS4: Ⅳ | BT4: Ⅲ | BU4: Ⅱa | BV4: Ⅱb
B5: 名 称 | E5: 乙女峡トンネル | K5: 管理者名 | N5: 山口県岩国土木建築事務所 | Y5: 太田 裕之 | AV5: =N7 -> 24 | AW5: =R7 -> 10.5 | AX5: =AM35 -> Ⅰ | AY5: =IF(Y37>0,Y37,"") | AZ5: =IF(Y37>0,"",IF(Z37>0,Z37,"")) | BA5: =IF(Y37+Z37>0,"",IF(AA37>0,AA37,"")) | BB5: =IF(Y37+Z37+AA37>0,"",IF(AB37>0,AB37,"")) | BC5: =AC37 -> 0 | BD5: =AD37 -> 0 | BE5: =AE37 -> 0 | BF5: =AF37 -> 0 | BG5: =AG37 -> 0 | BH5: =AH37 -> 0 | BI5: =AI37 -> 0 | BJ5: =AJ37 -> 0 | BK5: =IF(Y37>0,R7,"") | BL5: =IF(Y37>0,"",IF(Z37>0,R7,"")) | BM5: =IF(Y37+Z37>0,"",IF(AA37>0,R7,"")) | BN5: =IF(Y37+Z37+AA37>0,"",IF(AB37>0,R7,"")) | BO5: =AC35 -> 0 | BP5: =AD35 -> 0 | BQ5: =AE35 -> 0 | BR5: =AF35 -> 0 | BS5: =AG35 -> 0 | BT5: =AH35 -> 0 | BU5: =AI35 -> 0 | BV5: =AJ35 -> 0
B6: スパン別変状展開図 | K6: 【健全性判定集計表】
K7: スパン番号 | N7: 24 | P7: スパン長 | R7: 10.5 | U7: 前回定期点検時の判定 | W7: 応急措置前の判定 | Y7: 対策区分毎の 変状の有無 | AC7: 対策区分毎の変状の発生範囲の規模(㎡) | AK7: 備考注2
K8: 変状番号 | L8: 対象箇所 | N8: 部位区分 | P8: 変状区分 | R8: 変状種類
Y9: 外力注1 | AC9: 材質劣化注1 | AG9: 漏水注1
Y10: Ⅳ | Z10: Ⅲ | AA10: Ⅱa | AB10: Ⅱb | AC10: Ⅳ | AD10: Ⅲ | AE10: Ⅱa | AF10: Ⅱb | AG10: Ⅳ | AH10: Ⅲ | AI10: Ⅱa | AJ10: Ⅱb
K11: 1 | AQ11: =IF(P11="材質劣化",2,IF(P11="漏水",3,1)) -> 1
K12: 2 | AQ12: =IF(P12="材質劣化",2,IF(P12="漏水",3,1)) -> 1
K13: 3 | AQ13: =IF(P13="材質劣化",2,IF(P13="漏水",3,1)) -> 1
K14: 4 | AQ14: =IF(P14="材質劣化",2,IF(P14="漏水",3,1)) -> 1
K15: 5 | AQ15: =IF(P15="材質劣化",2,IF(P15="漏水",3,1)) -> 1
K16: 6 | AQ16: =IF(P16="材質劣化",2,IF(P16="漏水",3,1)) -> 1
K17: 7 | AQ17: =IF(P17="材質劣化",2,IF(P17="漏水",3,1)) -> 1
K18: 8 | AQ18: =IF(P18="材質劣化",2,IF(P18="漏水",3,1)) -> 1
K19: 9 | AQ19: =IF(P19="材質劣化",2,IF(P19="漏水",3,1)) -> 1
K20: 10 | AQ20: =IF(P20="材質劣化",2,IF(P20="漏水",3,1)) -> 1
K21: 11 | AQ21: =IF(P21="材質劣化",2,IF(P21="漏水",3,1)) -> 1
K22: 12 | AQ22: =IF(P22="材質劣化",2,IF(P22="漏水",3,1)) -> 1
... K27: 17 | AQ27: =IF(P27="材質劣化",2,IF(P27="漏水",3,1)) -> 1
K28: 18 | AQ28: =IF(P30="材質劣化",2,IF(P30="漏水",3,1)) -> 1
K29: 19 | AQ29: =IF(P34="材質劣化",2,IF(P34="漏水",3,1)) -> 1
K30: 20 | AQ30: =IF(P30="材質劣化",2,IF(P30="漏水",3,1)) -> 1
K31: 21 | AQ31: =IF(P33="材質劣化",2,IF(P33="漏水",3,1)) -> 1
K32: 22 | AQ32: =IF(P37="材質劣化",2,IF(P37="漏水",3,1)) -> 1
K33: 23 | AQ33: =IF(P33="材質劣化",2,IF(P33="漏水",3,1)) -> 1
K34: 24 | AQ34: =IF(P36="材質劣化",2,IF(P36="漏水",3,1)) -> 1
K35: 集計 判定 診断 | L35: 変状の発生規模合計(㎡) | Y35: － | AC35: =SUM(AC11:AC34) -> 0 | AD35: =SUM(AD11:AD34) -> 0 | AE35: =SUM(AE11:AE34) -> 0 | AF35: =SUM(AF11:AF34) -> 0 | AG35: =SUM(AG11:AG34) -> 0 | AH35: =SUM(AH11:AH34) -> 0 | AI35: =SUM(AI11:AI34) -> 0 | AJ35: =SUM(AJ11:AJ34) -> 0 | AK35: 覆工スパン単位の 健全性の 診断の区分 | AM35: Ⅰ
L36: 対策区分の 判定結果 | O36: 対策区分毎の変状数注3 | Y36: Ⅳ | Z36: Ⅲ | AA36: Ⅱa | AB36: Ⅱb | AC36: Ⅳ | AD36: Ⅲ | AE36: Ⅱa | AF36: Ⅱb | AG36: Ⅳ | AH36: Ⅲ | AI36: Ⅱa | AJ36: Ⅱb
Y37: =IF(COUNTIF(Y11:Y34,"〇")>0,1,0) -> 0 | Z37: =IF(COUNTIF(Z11:Z34,"〇")>0,1,0) -> 0 | AA37: =IF(COUNTIF(AA11:AA34,"〇")>0,1,0) -> 0 | AB37: =IF(COUNTIF(AB11:AB34,"〇")>0,1,0) -> 0 | AC37: =COUNTA(AC11:AC34) -> 0 | AD37: =COUNTA(AD11:AD34) -> 0 | AE37: =COUNTA(AE11:AE34) -> 0 | AF37: =COUNTA(AF11:AF34) -> 0 | AG37: =COUNTA(AG11:AG34) -> 0 | AH37: =COUNTA(AH11:AH34) -> 0 | AI37: =COUNTA(AI11:AI34) -> 0 | AJ37: =COUNTA(AJ11:AJ34) -> 0
K39: 所見 | L39: 【 外 力 】監視を必要としない。 【材質劣化】監視を必要としない。 【 漏 水 】監視を必要としない。 以上により本スパンの判定はⅠ判定となる。
K43: 注1：誤記入防止のため、当該変状区分以外のセルは灰色表示とすること。
K44: 注2：応急措置を実施した場合は、その詳細を備考に記載すること。
K45: 注3：外力は覆工スパン単位、材質劣化、漏水は変状単位とすること。
B46: （以下、印刷不要）
B47: ※1：本シートは作成洩れのないよう、変状が無くても全スパン分を作成すること．また変状展開図は、様式D-2-1、様式D-2-1'と同じものを覆工スパン単位で拡大し掲載すること。
B48: ※2：変状番号は、様式D-1-1で記入した番号と整合させること。
B49: ※3：対策区分毎の変状発生規模は、様式D-1-1に記載した面積を記入すること（ただし外力はスパン単位で評価するため変状の有無の欄には面積でなく○を記入し、備考欄に状況を記入）。
B50: ※4：本様式は覆工スパン毎に作成すること。
B51: ※5：変状数が多い場合は、適時、表の行を増やして覆工スパン毎に1枚のシートに収めること。また、1スパン１シートとし、スパンに合わせてシートを追加すること。
B52: ※6：対策区分毎の変状の発生範囲の規模とは，対策を行う際に参考となる変状の長さや面積であり，変状を包含する長さや面積とする。
B53: ※7：対策範囲を示す発生範囲の規模を面積で記入することが妥当ではない変状は、発生範囲の規模の欄に○を記入するとともに、備考に内容を記入すること。

Sheet 様式D-3_S025
AU1: 様式F用→ | AV1: 覆工スパン | AY1: 変 状 数 | BK1: 変 状 規 模
AV2: 番号 | AW2: 延長 （ｍ） | AX2: 健全性の診断の 区分 | AY2: 対策区分の判定 | BK2: 覆工スパン長（ｍ） | BO2: 変状の発生範囲の規模（㎡）
B3: ■定期点検記録様式 覆工スパン別変状詳細展開図 【様式D-3】 | AY3: 外力 | BC3: 材質劣化 | BG3: 漏水 | BK3: 外力 注2 | BO3: 材質劣化 | BS3: 漏水
B4: フリガナ | E4: (ｵﾄﾒｷｮｳﾄﾝﾈﾙ) | K4: 路線名 | N4: 一般国道434号 | T4: 定期点検業者 | Y4: 応用地質（株） | AG4: 定期点検年月日 | AK4: 45845 | AY4: Ⅳ | AZ4: Ⅲ | BA4: Ⅱa | BB4: Ⅱb | BC4: Ⅳ | BD4: Ⅲ | BE4: Ⅱa | BF4: Ⅱb | BG4: Ⅳ | BH4: Ⅲ | BI4: Ⅱa | BJ4: Ⅱb | BK4: Ⅳ | BL4: Ⅲ | BM4: Ⅱa | BN4: Ⅱb | BO4: Ⅳ | BP4: Ⅲ | BQ4: Ⅱa | BR4: Ⅱb | BS4: Ⅳ | BT4: Ⅲ | BU4: Ⅱa | BV4: Ⅱb
B5: 名 称 | E5: 乙女峡トンネル | K5: 管理者名 | N5: 山口県岩国土木建築事務所 | Y5: 太田 裕之 | AV5: =N7 -> 25 | AW5: =R7 -> 10.5 | AX5: =AM35 -> Ⅰ | AY5: =IF(Y37>0,Y37,"") | AZ5: =IF(Y37>0,"",IF(Z37>0,Z37,"")) | BA5: =IF(Y37+Z37>0,"",IF(AA37>0,AA37,"")) | BB5: =IF(Y37+Z37+AA37>0,"",IF(AB37>0,AB37,"")) | BC5: =AC37 -> 0 | BD5: =AD37 -> 0 | BE5: =AE37 -> 0 | BF5: =AF37 -> 0 | BG5: =AG37 -> 0 | BH5: =AH37 -> 0 | BI5: =AI37 -> 0 | BJ5: =AJ37 -> 0 | BK5: =IF(Y37>0,R7,"") | BL5: =IF(Y37>0,"",IF(Z37>0,R7,"")) | BM5: =IF(Y37+Z37>0,"",IF(AA37>0,R7,"")) | BN5: =IF(Y37+Z37+AA37>0,"",IF(AB37>0,R7,"")) | BO5: =AC35 -> 0 | BP5: =AD35 -> 0 | BQ5: =AE35 -> 0 | BR5: =AF35 -> 0 | BS5: =AG35 -> 0 | BT5: =AH35 -> 0 | BU5: =AI35 -> 0 | BV5: =AJ35 -> 0
B6: スパン別変状展開図 | K6: 【健全性判定集計表】
K7: スパン番号 | N7: 25 | P7: スパン長 | R7: 10.5 | U7: 前回定期点検時の判定 | W7: 応急措置前の判定 | Y7: 対策区分毎の 変状の有無 | AC7: 対策区分毎の変状の発生範囲の規模(㎡) | AK7: 備考注2
K8: 変状番号 | L8: 対象箇所 | N8: 部位区分 | P8: 変状区分 | R8: 変状種類
Y9: 外力注1 | AC9: 材質劣化注1 | AG9: 漏水注1
Y10: Ⅳ | Z10: Ⅲ | AA10: Ⅱa | AB10: Ⅱb | AC10: Ⅳ | AD10: Ⅲ | AE10: Ⅱa | AF10: Ⅱb | AG10: Ⅳ | AH10: Ⅲ | AI10: Ⅱa | AJ10: Ⅱb
K11: 1 | AQ11: =IF(P11="材質劣化",2,IF(P11="漏水",3,1)) -> 1
K12: 2 | AQ12: =IF(P12="材質劣化",2,IF(P12="漏水",3,1)) -> 1
K13: 3 | AQ13: =IF(P13="材質劣化",2,IF(P13="漏水",3,1)) -> 1
K14: 4 | AQ14: =IF(P14="材質劣化",2,IF(P14="漏水",3,1)) -> 1
K15: 5 | AQ15: =IF(P15="材質劣化",2,IF(P15="漏水",3,1)) -> 1
K16: 6 | AQ16: =IF(P16="材質劣化",2,IF(P16="漏水",3,1)) -> 1
K17: 7 | AQ17: =IF(P17="材質劣化",2,IF(P17="漏水",3,1)) -> 1
K18: 8 | AQ18: =IF(P18="材質劣化",2,IF(P18="漏水",3,1)) -> 1
K19: 9 | AQ19: =IF(P19="材質劣化",2,IF(P19="漏水",3,1)) -> 1
K20: 10 | AQ20: =IF(P20="材質劣化",2,IF(P20="漏水",3,1)) -> 1
K21: 11 | AQ21: =IF(P21="材質劣化",2,IF(P21="漏水",3,1)) -> 1
K22: 12 | AQ22: =IF(P22="材質劣化",2,IF(P22="漏水",3,1)) -> 1
... K27: 17 | AQ27: =IF(P27="材質劣化",2,IF(P27="漏水",3,1)) -> 1
K28: 18 | AQ28: =IF(P30="材質劣化",2,IF(P30="漏水",3,1)) -> 1
K29: 19 | AQ29: =IF(P34="材質劣化",2,IF(P34="漏水",3,1)) -> 1
K30: 20 | AQ30: =IF(P30="材質劣化",2,IF(P30="漏水",3,1)) -> 1
K31: 21 | AQ31: =IF(P33="材質劣化",2,IF(P33="漏水",3,1)) -> 1
K32: 22 | AQ32: =IF(P37="材質劣化",2,IF(P37="漏水",3,1)) -> 1
K33: 23 | AQ33: =IF(P33="材質劣化",2,IF(P33="漏水",3,1)) -> 1
K34: 24 | AQ34: =IF(P36="材質劣化",2,IF(P36="漏水",3,1)) -> 1
K35: 集計 判定 診断 | L35: 変状の発生規模合計(㎡) | Y35: － | AC35: =SUM(AC11:AC34) -> 0 | AD35: =SUM(AD11:AD34) -> 0 | AE35: =SUM(AE11:AE34) -> 0 | AF35: =SUM(AF11:AF34) -> 0 | AG35: =SUM(AG11:AG34) -> 0 | AH35: =SUM(AH11:AH34) -> 0 | AI35: =SUM(AI11:AI34) -> 0 | AJ35: =SUM(AJ11:AJ34) -> 0 | AK35: 覆工スパン単位の 健全性の 診断の区分 | AM35: Ⅰ
L36: 対策区分の 判定結果 | O36: 対策区分毎の変状数注3 | Y36: Ⅳ | Z36: Ⅲ | AA36: Ⅱa | AB36: Ⅱb | AC36: Ⅳ | AD36: Ⅲ | AE36: Ⅱa | AF36: Ⅱb | AG36: Ⅳ | AH36: Ⅲ | AI36: Ⅱa | AJ36: Ⅱb
Y37: =IF(COUNTIF(Y11:Y34,"〇")>0,1,0) -> 0 | Z37: =IF(COUNTIF(Z11:Z34,"〇")>0,1,0) -> 0 | AA37: =IF(COUNTIF(AA11:AA34,"〇")>0,1,0) -> 0 | AB37: =IF(COUNTIF(AB11:AB34,"〇")>0,1,0) -> 0 | AC37: =COUNTA(AC11:AC34) -> 0 | AD37: =COUNTA(AD11:AD34) -> 0 | AE37: =COUNTA(AE11:AE34) -> 0 | AF37: =COUNTA(AF11:AF34) -> 0 | AG37: =COUNTA(AG11:AG34) -> 0 | AH37: =COUNTA(AH11:AH34) -> 0 | AI37: =COUNTA(AI11:AI34) -> 0 | AJ37: =COUNTA(AJ11:AJ34) -> 0
K39: 所見 | L39: 【 外 力 】監視を必要としない。 【材質劣化】監視を必要としない。 【 漏 水 】監視を必要としない。 以上により本スパンの判定はⅠ判定となる。
K43: 注1：誤記入防止のため、当該変状区分以外のセルは灰色表示とすること。
K44: 注2：応急措置を実施した場合は、その詳細を備考に記載すること。
K45: 注3：外力は覆工スパン単位、材質劣化、漏水は変状単位とすること。
B46: （以下、印刷不要）
B47: ※1：本シートは作成洩れのないよう、変状が無くても全スパン分を作成すること．また変状展開図は、様式D-2-1、様式D-2-1'と同じものを覆工スパン単位で拡大し掲載すること。
B48: ※2：変状番号は、様式D-1-1で記入した番号と整合させること。
B49: ※3：対策区分毎の変状発生規模は、様式D-1-1に記載した面積を記入すること（ただし外力はスパン単位で評価するため変状の有無の欄には面積でなく○を記入し、備考欄に状況を記入）。
B50: ※4：本様式は覆工スパン毎に作成すること。
B51: ※5：変状数が多い場合は、適時、表の行を増やして覆工スパン毎に1枚のシートに収めること。また、1スパン１シートとし、スパンに合わせてシートを追加すること。
B52: ※6：対策区分毎の変状の発生範囲の規模とは，対策を行う際に参考となる変状の長さや面積であり，変状を包含する長さや面積とする。
B53: ※7：対策範囲を示す発生範囲の規模を面積で記入することが妥当ではない変状は、発生範囲の規模の欄に○を記入するとともに、備考に内容を記入すること。

Sheet 様式D-3_S026
AU1: 様式F用→ | AV1: 覆工スパン | AY1: 変 状 数 | BK1: 変 状 規 模
AV2: 番号 | AW2: 延長 （ｍ） | AX2: 健全性の診断の 区分 | AY2: 対策区分の判定 | BK2: 覆工スパン長（ｍ） | BO2: 変状の発生範囲の規模（㎡）
B3: ■定期点検記録様式 覆工スパン別変状詳細展開図 【様式D-3】 | AY3: 外力 | BC3: 材質劣化 | BG3: 漏水 | BK3: 外力 注2 | BO3: 材質劣化 | BS3: 漏水
B4: フリガナ | E4: (ｵﾄﾒｷｮｳﾄﾝﾈﾙ) | K4: 路線名 | N4: 一般国道434号 | T4: 定期点検業者 | Y4: 応用地質（株） | AG4: 定期点検年月日 | AK4: 45845 | AY4: Ⅳ | AZ4: Ⅲ | BA4: Ⅱa | BB4: Ⅱb | BC4: Ⅳ | BD4: Ⅲ | BE4: Ⅱa | BF4: Ⅱb | BG4: Ⅳ | BH4: Ⅲ | BI4: Ⅱa | BJ4: Ⅱb | BK4: Ⅳ | BL4: Ⅲ | BM4: Ⅱa | BN4: Ⅱb | BO4: Ⅳ | BP4: Ⅲ | BQ4: Ⅱa | BR4: Ⅱb | BS4: Ⅳ | BT4: Ⅲ | BU4: Ⅱa | BV4: Ⅱb
B5: 名 称 | E5: 乙女峡トンネル | K5: 管理者名 | N5: 山口県岩国土木建築事務所 | Y5: 太田 裕之 | AV5: =N7 -> 26 | AW5: =R7 -> 10.5 | AX5: =AM35 -> Ⅰ | AY5: =IF(Y37>0,Y37,"") | AZ5: =IF(Y37>0,"",IF(Z37>0,Z37,"")) | BA5: =IF(Y37+Z37>0,"",IF(AA37>0,AA37,"")) | BB5: =IF(Y37+Z37+AA37>0,"",IF(AB37>0,AB37,"")) | BC5: =AC37 -> 0 | BD5: =AD37 -> 0 | BE5: =AE37 -> 0 | BF5: =AF37 -> 0 | BG5: =AG37 -> 0 | BH5: =AH37 -> 0 | BI5: =AI37 -> 0 | BJ5: =AJ37 -> 0 | BK5: =IF(Y37>0,R7,"") | BL5: =IF(Y37>0,"",IF(Z37>0,R7,"")) | BM5: =IF(Y37+Z37>0,"",IF(AA37>0,R7,"")) | BN5: =IF(Y37+Z37+AA37>0,"",IF(AB37>0,R7,"")) | BO5: =AC35 -> 0 | BP5: =AD35 -> 0 | BQ5: =AE35 -> 0 | BR5: =AF35 -> 0 | BS5: =AG35 -> 0 | BT5: =AH35 -> 0 | BU5: =AI35 -> 0 | BV5: =AJ35 -> 0
B6: スパン別変状展開図 | K6: 【健全性判定集計表】
K7: スパン番号 | N7: 26 | P7: スパン長 | R7: 10.5 | U7: 前回定期点検時の判定 | W7: 応急措置前の判定 | Y7: 対策区分毎の 変状の有無 | AC7: 対策区分毎の変状の発生範囲の規模(㎡) | AK7: 備考注2
K8: 変状番号 | L8: 対象箇所 | N8: 部位区分 | P8: 変状区分 | R8: 変状種類
Y9: 外力注1 | AC9: 材質劣化注1 | AG9: 漏水注1
Y10: Ⅳ | Z10: Ⅲ | AA10: Ⅱa | AB10: Ⅱb | AC10: Ⅳ | AD10: Ⅲ | AE10: Ⅱa | AF10: Ⅱb | AG10: Ⅳ | AH10: Ⅲ | AI10: Ⅱa | AJ10: Ⅱb
K11: 1 | AQ11: =IF(P11="材質劣化",2,IF(P11="漏水",3,1)) -> 1
K12: 2 | AQ12: =IF(P12="材質劣化",2,IF(P12="漏水",3,1)) -> 1
K13: 3 | AQ13: =IF(P13="材質劣化",2,IF(P13="漏水",3,1)) -> 1
K14: 4 | AQ14: =IF(P14="材質劣化",2,IF(P14="漏水",3,1)) -> 1
K15: 5 | AQ15: =IF(P15="材質劣化",2,IF(P15="漏水",3,1)) -> 1
K16: 6 | AQ16: =IF(P16="材質劣化",2,IF(P16="漏水",3,1)) -> 1
K17: 7 | AQ17: =IF(P17="材質劣化",2,IF(P17="漏水",3,1)) -> 1
K18: 8 | AQ18: =IF(P18="材質劣化",2,IF(P18="漏水",3,1)) -> 1
K19: 9 | AQ19: =IF(P19="材質劣化",2,IF(P19="漏水",3,1)) -> 1
K20: 10 | AQ20: =IF(P20="材質劣化",2,IF(P20="漏水",3,1)) -> 1
K21: 11 | AQ21: =IF(P21="材質劣化",2,IF(P21="漏水",3,1)) -> 1
K22: 12 | AQ22: =IF(P22="材質劣化",2,IF(P22="漏水",3,1)) -> 1
... K27: 17 | AQ27: =IF(P27="材質劣化",2,IF(P27="漏水",3,1)) -> 1
K28: 18 | AQ28: =IF(P30="材質劣化",2,IF(P30="漏水",3,1)) -> 1
K29: 19 | AQ29: =IF(P34="材質劣化",2,IF(P34="漏水",3,1)) -> 1
K30: 20 | AQ30: =IF(P30="材質劣化",2,IF(P30="漏水",3,1)) -> 1
K31: 21 | AQ31: =IF(P33="材質劣化",2,IF(P33="漏水",3,1)) -> 1
K32: 22 | AQ32: =IF(P37="材質劣化",2,IF(P37="漏水",3,1)) -> 1
K33: 23 | AQ33: =IF(P33="材質劣化",2,IF(P33="漏水",3,1)) -> 1
K34: 24 | AQ34: =IF(P36="材質劣化",2,IF(P36="漏水",3,1)) -> 1
K35: 集計 判定 診断 | L35: 変状の発生規模合計(㎡) | Y35: － | AC35: =SUM(AC11:AC34) -> 0 | AD35: =SUM(AD11:AD34) -> 0 | AE35: =SUM(AE11:AE34) -> 0 | AF35: =SUM(AF11:AF34) -> 0 | AG35: =SUM(AG11:AG34) -> 0 | AH35: =SUM(AH11:AH34) -> 0 | AI35: =SUM(AI11:AI34) -> 0 | AJ35: =SUM(AJ11:AJ34) -> 0 | AK35: 覆工スパン単位の 健全性の 診断の区分 | AM35: Ⅰ
L36: 対策区分の 判定結果 | O36: 対策区分毎の変状数注3 | Y36: Ⅳ | Z36: Ⅲ | AA36: Ⅱa | AB36: Ⅱb | AC36: Ⅳ | AD36: Ⅲ | AE36: Ⅱa | AF36: Ⅱb | AG36: Ⅳ | AH36: Ⅲ | AI36: Ⅱa | AJ36: Ⅱb
Y37: =IF(COUNTIF(Y11:Y34,"〇")>0,1,0) -> 0 | Z37: =IF(COUNTIF(Z11:Z34,"〇")>0,1,0) -> 0 | AA37: =IF(COUNTIF(AA11:AA34,"〇")>0,1,0) -> 0 | AB37: =IF(COUNTIF(AB11:AB34,"〇")>0,1,0) -> 0 | AC37: =COUNTA(AC11:AC34) -> 0 | AD37: =COUNTA(AD11:AD34) -> 0 | AE37: =COUNTA(AE11:AE34) -> 0 | AF37: =COUNTA(AF11:AF34) -> 0 | AG37: =COUNTA(AG11:AG34) -> 0 | AH37: =COUNTA(AH11:AH34) -> 0 | AI37: =COUNTA(AI11:AI34) -> 0 | AJ37: =COUNTA(AJ11:AJ34) -> 0
K39: 所見 | L39: 【 外 力 】監視を必要としない。 【材質劣化】監視を必要としない。 【 漏 水 】監視を必要としない。 以上により本スパンの判定はⅠ判定となる。
K43: 注1：誤記入防止のため、当該変状区分以外のセルは灰色表示とすること。
K44: 注2：応急措置を実施した場合は、その詳細を備考に記載すること。
K45: 注3：外力は覆工スパン単位、材質劣化、漏水は変状単位とすること。
B46: （以下、印刷不要）
B47: ※1：本シートは作成洩れのないよう、変状が無くても全スパン分を作成すること．また変状展開図は、様式D-2-1、様式D-2-1'と同じものを覆工スパン単位で拡大し掲載すること。
B48: ※2：変状番号は、様式D-1-1で記入した番号と整合させること。
B49: ※3：対策区分毎の変状発生規模は、様式D-1-1に記載した面積を記入すること（ただし外力はスパン単位で評価するため変状の有無の欄には面積でなく○を記入し、備考欄に状況を記入）。
B50: ※4：本様式は覆工スパン毎に作成すること。
B51: ※5：変状数が多い場合は、適時、表の行を増やして覆工スパン毎に1枚のシートに収めること。また、1スパン１シートとし、スパンに合わせてシートを追加すること。
B52: ※6：対策区分毎の変状の発生範囲の規模とは，対策を行う際に参考となる変状の長さや面積であり，変状を包含する長さや面積とする。
B53: ※7：対策範囲を示す発生範囲の規模を面積で記入することが妥当ではない変状は、発生範囲の規模の欄に○を記入するとともに、備考に内容を記入すること。

Sheet 様式D-3_S027
AU1: 様式F用→ | AV1: 覆工スパン | AY1: 変 状 数 | BK1: 変 状 規 模
AV2: 番号 | AW2: 延長 （ｍ） | AX2: 健全性の診断の 区分 | AY2: 対策区分の判定 | BK2: 覆工スパン長（ｍ） | BO2: 変状の発生範囲の規模（㎡）
B3: ■定期点検記録様式 覆工スパン別変状詳細展開図 【様式D-3】 | AY3: 外力 | BC3: 材質劣化 | BG3: 漏水 | BK3: 外力 注2 | BO3: 材質劣化 | BS3: 漏水
B4: フリガナ | E4: (ｵﾄﾒｷｮｳﾄﾝﾈﾙ) | K4: 路線名 | N4: 一般国道434号 | T4: 定期点検業者 | Y4: 応用地質（株） | AG4: 定期点検年月日 | AK4: 45845 | AY4: Ⅳ | AZ4: Ⅲ | BA4: Ⅱa | BB4: Ⅱb | BC4: Ⅳ | BD4: Ⅲ | BE4: Ⅱa | BF4: Ⅱb | BG4: Ⅳ | BH4: Ⅲ | BI4: Ⅱa | BJ4: Ⅱb | BK4: Ⅳ | BL4: Ⅲ | BM4: Ⅱa | BN4: Ⅱb | BO4: Ⅳ | BP4: Ⅲ | BQ4: Ⅱa | BR4: Ⅱb | BS4: Ⅳ | BT4: Ⅲ | BU4: Ⅱa | BV4: Ⅱb
B5: 名 称 | E5: 乙女峡トンネル | K5: 管理者名 | N5: 山口県岩国土木建築事務所 | Y5: 太田 裕之 | AV5: =N7 -> 27 | AW5: =R7 -> 10.5 | AX5: =AM35 -> Ⅰ | AY5: =IF(Y37>0,Y37,"") | AZ5: =IF(Y37>0,"",IF(Z37>0,Z37,"")) | BA5: =IF(Y37+Z37>0,"",IF(AA37>0,AA37,"")) | BB5: =IF(Y37+Z37+AA37>0,"",IF(AB37>0,AB37,"")) | BC5: =AC37 -> 0 | BD5: =AD37 -> 0 | BE5: =AE37 -> 0 | BF5: =AF37 -> 0 | BG5: =AG37 -> 0 | BH5: =AH37 -> 0 | BI5: =AI37 -> 0 | BJ5: =AJ37 -> 0 | BK5: =IF(Y37>0,R7,"") | BL5: =IF(Y37>0,"",IF(Z37>0,R7,"")) | BM5: =IF(Y37+Z37>0,"",IF(AA37>0,R7,"")) | BN5: =IF(Y37+Z37+AA37>0,"",IF(AB37>0,R7,"")) | BO5: =AC35 -> 0 | BP5: =AD35 -> 0 | BQ5: =AE35 -> 0 | BR5: =AF35 -> 0 | BS5: =AG35 -> 0 | BT5: =AH35 -> 0 | BU5: =AI35 -> 0 | BV5: =AJ35 -> 0
B6: スパン別変状展開図 | K6: 【健全性判定集計表】
K7: スパン番号 | N7: 27 | P7: スパン長 | R7: 10.5 | U7: 前回定期点検時の判定 | W7: 応急措置前の判定 | Y7: 対策区分毎の 変状の有無 | AC7: 対策区分毎の変状の発生範囲の規模(㎡) | AK7: 備考注2
K8: 変状番号 | L8: 対象箇所 | N8: 部位区分 | P8: 変状区分 | R8: 変状種類
Y9: 外力注1 | AC9: 材質劣化注1 | AG9: 漏水注1
Y10: Ⅳ | Z10: Ⅲ | AA10: Ⅱa | AB10: Ⅱb | AC10: Ⅳ | AD10: Ⅲ | AE10: Ⅱa | AF10: Ⅱb | AG10: Ⅳ | AH10: Ⅲ | AI10: Ⅱa | AJ10: Ⅱb
K11: 1 | AQ11: =IF(P11="材質劣化",2,IF(P11="漏水",3,1)) -> 1
K12: 2 | AQ12: =IF(P12="材質劣化",2,IF(P12="漏水",3,1)) -> 1
K13: 3 | AQ13: =IF(P13="材質劣化",2,IF(P13="漏水",3,1)) -> 1
K14: 4 | AQ14: =IF(P14="材質劣化",2,IF(P14="漏水",3,1)) -> 1
K15: 5 | AQ15: =IF(P15="材質劣化",2,IF(P15="漏水",3,1)) -> 1
K16: 6 | AQ16: =IF(P16="材質劣化",2,IF(P16="漏水",3,1)) -> 1
K17: 7 | AQ17: =IF(P17="材質劣化",2,IF(P17="漏水",3,1)) -> 1
K18: 8 | AQ18: =IF(P18="材質劣化",2,IF(P18="漏水",3,1)) -> 1
K19: 9 | AQ19: =IF(P19="材質劣化",2,IF(P19="漏水",3,1)) -> 1
K20: 10 | AQ20: =IF(P20="材質劣化",2,IF(P20="漏水",3,1)) -> 1
K21: 11 | AQ21: =IF(P21="材質劣化",2,IF(P21="漏水",3,1)) -> 1
K22: 12 | AQ22: =IF(P22="材質劣化",2,IF(P22="漏水",3,1)) -> 1
... K27: 17 | AQ27: =IF(P27="材質劣化",2,IF(P27="漏水",3,1)) -> 1
K28: 18 | AQ28: =IF(P30="材質劣化",2,IF(P30="漏水",3,1)) -> 1
K29: 19 | AQ29: =IF(P34="材質劣化",2,IF(P34="漏水",3,1)) -> 1
K30: 20 | AQ30: =IF(P30="材質劣化",2,IF(P30="漏水",3,1)) -> 1
K31: 21 | AQ31: =IF(P33="材質劣化",2,IF(P33="漏水",3,1)) -> 1
K32: 22 | AQ32: =IF(P37="材質劣化",2,IF(P37="漏水",3,1)) -> 1
K33: 23 | AQ33: =IF(P33="材質劣化",2,IF(P33="漏水",3,1)) -> 1
K34: 24 | AQ34: =IF(P36="材質劣化",2,IF(P36="漏水",3,1)) -> 1
K35: 集計 判定 診断 | L35: 変状の発生規模合計(㎡) | Y35: － | AC35: =SUM(AC11:AC34) -> 0 | AD35: =SUM(AD11:AD34) -> 0 | AE35: =SUM(AE11:AE34) -> 0 | AF35: =SUM(AF11:AF34) -> 0 | AG35: =SUM(AG11:AG34) -> 0 | AH35: =SUM(AH11:AH34) -> 0 | AI35: =SUM(AI11:AI34) -> 0 | AJ35: =SUM(AJ11:AJ34) -> 0 | AK35: 覆工スパン単位の 健全性の 診断の区分 | AM35: Ⅰ
L36: 対策区分の 判定結果 | O36: 対策区分毎の変状数注3 | Y36: Ⅳ | Z36: Ⅲ | AA36: Ⅱa | AB36: Ⅱb | AC36: Ⅳ | AD36: Ⅲ | AE36: Ⅱa | AF36: Ⅱb | AG36: Ⅳ | AH36: Ⅲ | AI36: Ⅱa | AJ36: Ⅱb
Y37: =IF(COUNTIF(Y11:Y34,"〇")>0,1,0) -> 0 | Z37: =IF(COUNTIF(Z11:Z34,"〇")>0,1,0) -> 0 | AA37: =IF(COUNTIF(AA11:AA34,"〇")>0,1,0) -> 0 | AB37: =IF(COUNTIF(AB11:AB34,"〇")>0,1,0) -> 0 | AC37: =COUNTA(AC11:AC34) -> 0 | AD37: =COUNTA(AD11:AD34) -> 0 | AE37: =COUNTA(AE11:AE34) -> 0 | AF37: =COUNTA(AF11:AF34) -> 0 | AG37: =COUNTA(AG11:AG34) -> 0 | AH37: =COUNTA(AH11:AH34) -> 0 | AI37: =COUNTA(AI11:AI34) -> 0 | AJ37: =COUNTA(AJ11:AJ34) -> 0
K39: 所見 | L39: 【 外 力 】監視を必要としない。 【材質劣化】監視を必要としない。 【 漏 水 】監視を必要としない。 以上により本スパンの判定はⅠ判定となる。
K43: 注1：誤記入防止のため、当該変状区分以外のセルは灰色表示とすること。
K44: 注2：応急措置を実施した場合は、その詳細を備考に記載すること。
K45: 注3：外力は覆工スパン単位、材質劣化、漏水は変状単位とすること。
B46: （以下、印刷不要）
B47: ※1：本シートは作成洩れのないよう、変状が無くても全スパン分を作成すること．また変状展開図は、様式D-2-1、様式D-2-1'と同じものを覆工スパン単位で拡大し掲載すること。
B48: ※2：変状番号は、様式D-1-1で記入した番号と整合させること。
B49: ※3：対策区分毎の変状発生規模は、様式D-1-1に記載した面積を記入すること（ただし外力はスパン単位で評価するため変状の有無の欄には面積でなく○を記入し、備考欄に状況を記入）。
B50: ※4：本様式は覆工スパン毎に作成すること。
B51: ※5：変状数が多い場合は、適時、表の行を増やして覆工スパン毎に1枚のシートに収めること。また、1スパン１シートとし、スパンに合わせてシートを追加すること。
B52: ※6：対策区分毎の変状の発生範囲の規模とは，対策を行う際に参考となる変状の長さや面積であり，変状を包含する長さや面積とする。
B53: ※7：対策範囲を示す発生範囲の規模を面積で記入することが妥当ではない変状は、発生範囲の規模の欄に○を記入するとともに、備考に内容を記入すること。

Sheet 様式D-3_S028
AU1: 様式F用→ | AV1: 覆工スパン | AY1: 変 状 数 | BK1: 変 状 規 模
AV2: 番号 | AW2: 延長 （ｍ） | AX2: 健全性の診断の 区分 | AY2: 対策区分の判定 | BK2: 覆工スパン長（ｍ） | BO2: 変状の発生範囲の規模（㎡）
B3: ■定期点検記録様式 覆工スパン別変状詳細展開図 【様式D-3】 | AY3: 外力 | BC3: 材質劣化 | BG3: 漏水 | BK3: 外力 注2 | BO3: 材質劣化 | BS3: 漏水
B4: フリガナ | E4: (ｵﾄﾒｷｮｳﾄﾝﾈﾙ) | K4: 路線名 | N4: 一般国道434号 | T4: 定期点検業者 | Y4: 応用地質（株） | AG4: 定期点検年月日 | AK4: 45845 | AY4: Ⅳ | AZ4: Ⅲ | BA4: Ⅱa | BB4: Ⅱb | BC4: Ⅳ | BD4: Ⅲ | BE4: Ⅱa | BF4: Ⅱb | BG4: Ⅳ | BH4: Ⅲ | BI4: Ⅱa | BJ4: Ⅱb | BK4: Ⅳ | BL4: Ⅲ | BM4: Ⅱa | BN4: Ⅱb | BO4: Ⅳ | BP4: Ⅲ | BQ4: Ⅱa | BR4: Ⅱb | BS4: Ⅳ | BT4: Ⅲ | BU4: Ⅱa | BV4: Ⅱb
B5: 名 称 | E5: 乙女峡トンネル | K5: 管理者名 | N5: 山口県岩国土木建築事務所 | Y5: 太田 裕之 | AV5: =N7 -> 28 | AW5: =R7 -> 10.6 | AX5: =AM35 -> Ⅰ | AY5: =IF(Y37>0,Y37,"") | AZ5: =IF(Y37>0,"",IF(Z37>0,Z37,"")) | BA5: =IF(Y37+Z37>0,"",IF(AA37>0,AA37,"")) | BB5: =IF(Y37+Z37+AA37>0,"",IF(AB37>0,AB37,"")) | BC5: =AC37 -> 0 | BD5: =AD37 -> 0 | BE5: =AE37 -> 0 | BF5: =AF37 -> 0 | BG5: =AG37 -> 0 | BH5: =AH37 -> 0 | BI5: =AI37 -> 0 | BJ5: =AJ37 -> 0 | BK5: =IF(Y37>0,R7,"") | BL5: =IF(Y37>0,"",IF(Z37>0,R7,"")) | BM5: =IF(Y37+Z37>0,"",IF(AA37>0,R7,"")) | BN5: =IF(Y37+Z37+AA37>0,"",IF(AB37>0,R7,"")) | BO5: =AC35 -> 0 | BP5: =AD35 -> 0 | BQ5: =AE35 -> 0 | BR5: =AF35 -> 0 | BS5: =AG35 -> 0 | BT5: =AH35 -> 0 | BU5: =AI35 -> 0 | BV5: =AJ35 -> 0
B6: スパン別変状展開図 | K6: 【健全性判定集計表】
K7: スパン番号 | N7: 28 | P7: スパン長 | R7: 10.6 | U7: 前回定期点検時の判定 | W7: 応急措置前の判定 | Y7: 対策区分毎の 変状の有無 | AC7: 対策区分毎の変状の発生範囲の規模(㎡) | AK7: 備考注2
K8: 変状番号 | L8: 対象箇所 | N8: 部位区分 | P8: 変状区分 | R8: 変状種類
Y9: 外力注1 | AC9: 材質劣化注1 | AG9: 漏水注1
Y10: Ⅳ | Z10: Ⅲ | AA10: Ⅱa | AB10: Ⅱb | AC10: Ⅳ | AD10: Ⅲ | AE10: Ⅱa | AF10: Ⅱb | AG10: Ⅳ | AH10: Ⅲ | AI10: Ⅱa | AJ10: Ⅱb
K11: 1 | AQ11: =IF(P11="材質劣化",2,IF(P11="漏水",3,1)) -> 1
K12: 2 | AQ12: =IF(P12="材質劣化",2,IF(P12="漏水",3,1)) -> 1
K13: 3 | AQ13: =IF(P13="材質劣化",2,IF(P13="漏水",3,1)) -> 1
K14: 4 | AQ14: =IF(P14="材質劣化",2,IF(P14="漏水",3,1)) -> 1
K15: 5 | AQ15: =IF(P15="材質劣化",2,IF(P15="漏水",3,1)) -> 1
K16: 6 | AQ16: =IF(P16="材質劣化",2,IF(P16="漏水",3,1)) -> 1
K17: 7 | AQ17: =IF(P17="材質劣化",2,IF(P17="漏水",3,1)) -> 1
K18: 8 | AQ18: =IF(P18="材質劣化",2,IF(P18="漏水",3,1)) -> 1
K19: 9 | AQ19: =IF(P19="材質劣化",2,IF(P19="漏水",3,1)) -> 1
K20: 10 | AQ20: =IF(P20="材質劣化",2,IF(P20="漏水",3,1)) -> 1
K21: 11 | AQ21: =IF(P21="材質劣化",2,IF(P21="漏水",3,1)) -> 1
K22: 12 | AQ22: =IF(P22="材質劣化",2,IF(P22="漏水",3,1)) -> 1
... K27: 17 | AQ27: =IF(P27="材質劣化",2,IF(P27="漏水",3,1)) -> 1
K28: 18 | AQ28: =IF(P30="材質劣化",2,IF(P30="漏水",3,1)) -> 1
K29: 19 | AQ29: =IF(P34="材質劣化",2,IF(P34="漏水",3,1)) -> 1
K30: 20 | AQ30: =IF(P30="材質劣化",2,IF(P30="漏水",3,1)) -> 1
K31: 21 | AQ31: =IF(P33="材質劣化",2,IF(P33="漏水",3,1)) -> 1
K32: 22 | AQ32: =IF(P37="材質劣化",2,IF(P37="漏水",3,1)) -> 1
K33: 23 | AQ33: =IF(P33="材質劣化",2,IF(P33="漏水",3,1)) -> 1
K34: 24 | AQ34: =IF(P36="材質劣化",2,IF(P36="漏水",3,1)) -> 1
K35: 集計 判定 診断 | L35: 変状の発生規模合計(㎡) | Y35: － | AC35: =SUM(AC11:AC34) -> 0 | AD35: =SUM(AD11:AD34) -> 0 | AE35: =SUM(AE11:AE34) -> 0 | AF35: =SUM(AF11:AF34) -> 0 | AG35: =SUM(AG11:AG34) -> 0 | AH35: =SUM(AH11:AH34) -> 0 | AI35: =SUM(AI11:AI34) -> 0 | AJ35: =SUM(AJ11:AJ34) -> 0 | AK35: 覆工スパン単位の 健全性の 診断の区分 | AM35: Ⅰ
L36: 対策区分の 判定結果 | O36: 対策区分毎の変状数注3 | Y36: Ⅳ | Z36: Ⅲ | AA36: Ⅱa | AB36: Ⅱb | AC36: Ⅳ | AD36: Ⅲ | AE36: Ⅱa | AF36: Ⅱb | AG36: Ⅳ | AH36: Ⅲ | AI36: Ⅱa | AJ36: Ⅱb
Y37: =IF(COUNTIF(Y11:Y34,"〇")>0,1,0) -> 0 | Z37: =IF(COUNTIF(Z11:Z34,"〇")>0,1,0) -> 0 | AA37: =IF(COUNTIF(AA11:AA34,"〇")>0,1,0) -> 0 | AB37: =IF(COUNTIF(AB11:AB34,"〇")>0,1,0) -> 0 | AC37: =COUNTA(AC11:AC34) -> 0 | AD37: =COUNTA(AD11:AD34) -> 0 | AE37: =COUNTA(AE11:AE34) -> 0 | AF37: =COUNTA(AF11:AF34) -> 0 | AG37: =COUNTA(AG11:AG34) -> 0 | AH37: =COUNTA(AH11:AH34) -> 0 | AI37: =COUNTA(AI11:AI34) -> 0 | AJ37: =COUNTA(AJ11:AJ34) -> 0
K39: 所見 | L39: 【 外 力 】監視を必要としない。 【材質劣化】監視を必要としない。 【 漏 水 】監視を必要としない。 以上により本スパンの判定はⅠ判定となる。
K43: 注1：誤記入防止のため、当該変状区分以外のセルは灰色表示とすること。
K44: 注2：応急措置を実施した場合は、その詳細を備考に記載すること。
K45: 注3：外力は覆工スパン単位、材質劣化、漏水は変状単位とすること。
B46: （以下、印刷不要）
B47: ※1：本シートは作成洩れのないよう、変状が無くても全スパン分を作成すること．また変状展開図は、様式D-2-1、様式D-2-1'と同じものを覆工スパン単位で拡大し掲載すること。
B48: ※2：変状番号は、様式D-1-1で記入した番号と整合させること。
B49: ※3：対策区分毎の変状発生規模は、様式D-1-1に記載した面積を記入すること（ただし外力はスパン単位で評価するため変状の有無の欄には面積でなく○を記入し、備考欄に状況を記入）。
B50: ※4：本様式は覆工スパン毎に作成すること。
B51: ※5：変状数が多い場合は、適時、表の行を増やして覆工スパン毎に1枚のシートに収めること。また、1スパン１シートとし、スパンに合わせてシートを追加すること。
B52: ※6：対策区分毎の変状の発生範囲の規模とは，対策を行う際に参考となる変状の長さや面積であり，変状を包含する長さや面積とする。
B53: ※7：対策範囲を示す発生範囲の規模を面積で記入することが妥当ではない変状は、発生範囲の規模の欄に○を記入するとともに、備考に内容を記入すること。

Sheet 様式D-3_S029
AU1: 様式F用→ | AV1: 覆工スパン | AY1: 変 状 数 | BK1: 変 状 規 模
AV2: 番号 | AW2: 延長 （ｍ） | AX2: 健全性の診断の 区分 | AY2: 対策区分の判定 | BK2: 覆工スパン長（ｍ） | BO2: 変状の発生範囲の規模（㎡）
B3: ■定期点検記録様式 覆工スパン別変状詳細展開図 【様式D-3】 | AY3: 外力 | BC3: 材質劣化 | BG3: 漏水 | BK3: 外力 注2 | BO3: 材質劣化 | BS3: 漏水
B4: フリガナ | E4: (ｵﾄﾒｷｮｳﾄﾝﾈﾙ) | K4: 路線名 | N4: 一般国道434号 | T4: 定期点検業者 | Y4: 応用地質（株） | AG4: 定期点検年月日 | AK4: 45845 | AY4: Ⅳ | AZ4: Ⅲ | BA4: Ⅱa | BB4: Ⅱb | BC4: Ⅳ | BD4: Ⅲ | BE4: Ⅱa | BF4: Ⅱb | BG4: Ⅳ | BH4: Ⅲ | BI4: Ⅱa | BJ4: Ⅱb | BK4: Ⅳ | BL4: Ⅲ | BM4: Ⅱa | BN4: Ⅱb | BO4: Ⅳ | BP4: Ⅲ | BQ4: Ⅱa | BR4: Ⅱb | BS4: Ⅳ | BT4: Ⅲ | BU4: Ⅱa | BV4: Ⅱb
B5: 名 称 | E5: 乙女峡トンネル | K5: 管理者名 | N5: 山口県岩国土木建築事務所 | Y5: 太田 裕之 | AV5: =N7 -> 29 | AW5: =R7 -> 10.5 | AX5: =AM35 -> Ⅰ | AY5: =IF(Y37>0,Y37,"") | AZ5: =IF(Y37>0,"",IF(Z37>0,Z37,"")) | BA5: =IF(Y37+Z37>0,"",IF(AA37>0,AA37,"")) | BB5: =IF(Y37+Z37+AA37>0,"",IF(AB37>0,AB37,"")) | BC5: =AC37 -> 0 | BD5: =AD37 -> 0 | BE5: =AE37 -> 0 | BF5: =AF37 -> 0 | BG5: =AG37 -> 0 | BH5: =AH37 -> 0 | BI5: =AI37 -> 0 | BJ5: =AJ37 -> 0 | BK5: =IF(Y37>0,R7,"") | BL5: =IF(Y37>0,"",IF(Z37>0,R7,"")) | BM5: =IF(Y37+Z37>0,"",IF(AA37>0,R7,"")) | BN5: =IF(Y37+Z37+AA37>0,"",IF(AB37>0,R7,"")) | BO5: =AC35 -> 0 | BP5: =AD35 -> 0 | BQ5: =AE35 -> 0 | BR5: =AF35 -> 0 | BS5: =AG35 -> 0 | BT5: =AH35 -> 0 | BU5: =AI35 -> 0 | BV5: =AJ35 -> 0
B6: スパン別変状展開図 | K6: 【健全性判定集計表】
K7: スパン番号 | N7: 29 | P7: スパン長 | R7: 10.5 | U7: 前回定期点検時の判定 | W7: 応急措置前の判定 | Y7: 対策区分毎の 変状の有無 | AC7: 対策区分毎の変状の発生範囲の規模(㎡) | AK7: 備考注2
K8: 変状番号 | L8: 対象箇所 | N8: 部位区分 | P8: 変状区分 | R8: 変状種類
Y9: 外力注1 | AC9: 材質劣化注1 | AG9: 漏水注1
Y10: Ⅳ | Z10: Ⅲ | AA10: Ⅱa | AB10: Ⅱb | AC10: Ⅳ | AD10: Ⅲ | AE10: Ⅱa | AF10: Ⅱb | AG10: Ⅳ | AH10: Ⅲ | AI10: Ⅱa | AJ10: Ⅱb
K11: 1 | AQ11: =IF(P11="材質劣化",2,IF(P11="漏水",3,1)) -> 1
K12: 2 | AQ12: =IF(P12="材質劣化",2,IF(P12="漏水",3,1)) -> 1
K13: 3 | AQ13: =IF(P13="材質劣化",2,IF(P13="漏水",3,1)) -> 1
K14: 4 | AQ14: =IF(P14="材質劣化",2,IF(P14="漏水",3,1)) -> 1
K15: 5 | AQ15: =IF(P15="材質劣化",2,IF(P15="漏水",3,1)) -> 1
K16: 6 | AQ16: =IF(P16="材質劣化",2,IF(P16="漏水",3,1)) -> 1
K17: 7 | AQ17: =IF(P17="材質劣化",2,IF(P17="漏水",3,1)) -> 1
K18: 8 | AQ18: =IF(P18="材質劣化",2,IF(P18="漏水",3,1)) -> 1
K19: 9 | AQ19: =IF(P19="材質劣化",2,IF(P19="漏水",3,1)) -> 1
K20: 10 | AQ20: =IF(P20="材質劣化",2,IF(P20="漏水",3,1)) -> 1
K21: 11 | AQ21: =IF(P21="材質劣化",2,IF(P21="漏水",3,1)) -> 1
K22: 12 | AQ22: =IF(P22="材質劣化",2,IF(P22="漏水",3,1)) -> 1
... K27: 17 | AQ27: =IF(P27="材質劣化",2,IF(P27="漏水",3,1)) -> 1
K28: 18 | AQ28: =IF(P30="材質劣化",2,IF(P30="漏水",3,1)) -> 1
K29: 19 | AQ29: =IF(P34="材質劣化",2,IF(P34="漏水",3,1)) -> 1
K30: 20 | AQ30: =IF(P30="材質劣化",2,IF(P30="漏水",3,1)) -> 1
K31: 21 | AQ31: =IF(P33="材質劣化",2,IF(P33="漏水",3,1)) -> 1
K32: 22 | AQ32: =IF(P37="材質劣化",2,IF(P37="漏水",3,1)) -> 1
K33: 23 | AQ33: =IF(P33="材質劣化",2,IF(P33="漏水",3,1)) -> 1
K34: 24 | AQ34: =IF(P36="材質劣化",2,IF(P36="漏水",3,1)) -> 1
K35: 集計 判定 診断 | L35: 変状の発生規模合計(㎡) | Y35: － | AC35: =SUM(AC11:AC34) -> 0 | AD35: =SUM(AD11:AD34) -> 0 | AE35: =SUM(AE11:AE34) -> 0 | AF35: =SUM(AF11:AF34) -> 0 | AG35: =SUM(AG11:AG34) -> 0 | AH35: =SUM(AH11:AH34) -> 0 | AI35: =SUM(AI11:AI34) -> 0 | AJ35: =SUM(AJ11:AJ34) -> 0 | AK35: 覆工スパン単位の 健全性の 診断の区分 | AM35: Ⅰ
L36: 対策区分の 判定結果 | O36: 対策区分毎の変状数注3 | Y36: Ⅳ | Z36: Ⅲ | AA36: Ⅱa | AB36: Ⅱb | AC36: Ⅳ | AD36: Ⅲ | AE36: Ⅱa | AF36: Ⅱb | AG36: Ⅳ | AH36: Ⅲ | AI36: Ⅱa | AJ36: Ⅱb
Y37: =IF(COUNTIF(Y11:Y34,"〇")>0,1,0) -> 0 | Z37: =IF(COUNTIF(Z11:Z34,"〇")>0,1,0) -> 0 | AA37: =IF(COUNTIF(AA11:AA34,"〇")>0,1,0) -> 0 | AB37: =IF(COUNTIF(AB11:AB34,"〇")>0,1,0) -> 0 | AC37: =COUNTA(AC11:AC34) -> 0 | AD37: =COUNTA(AD11:AD34) -> 0 | AE37: =COUNTA(AE11:AE34) -> 0 | AF37: =COUNTA(AF11:AF34) -> 0 | AG37: =COUNTA(AG11:AG34) -> 0 | AH37: =COUNTA(AH11:AH34) -> 0 | AI37: =COUNTA(AI11:AI34) -> 0 | AJ37: =COUNTA(AJ11:AJ34) -> 0
K39: 所見 | L39: 【 外 力 】監視を必要としない。 【材質劣化】監視を必要としない。 【 漏 水 】監視を必要としない。 以上により本スパンの判定はⅠ判定となる。
K43: 注1：誤記入防止のため、当該変状区分以外のセルは灰色表示とすること。
K44: 注2：応急措置を実施した場合は、その詳細を備考に記載すること。
K45: 注3：外力は覆工スパン単位、材質劣化、漏水は変状単位とすること。
B46: （以下、印刷不要）
B47: ※1：本シートは作成洩れのないよう、変状が無くても全スパン分を作成すること．また変状展開図は、様式D-2-1、様式D-2-1'と同じものを覆工スパン単位で拡大し掲載すること。
B48: ※2：変状番号は、様式D-1-1で記入した番号と整合させること。
B49: ※3：対策区分毎の変状発生規模は、様式D-1-1に記載した面積を記入すること（ただし外力はスパン単位で評価するため変状の有無の欄には面積でなく○を記入し、備考欄に状況を記入）。
B50: ※4：本様式は覆工スパン毎に作成すること。
B51: ※5：変状数が多い場合は、適時、表の行を増やして覆工スパン毎に1枚のシートに収めること。また、1スパン１シートとし、スパンに合わせてシートを追加すること。
B52: ※6：対策区分毎の変状の発生範囲の規模とは，対策を行う際に参考となる変状の長さや面積であり，変状を包含する長さや面積とする。
B53: ※7：対策範囲を示す発生範囲の規模を面積で記入することが妥当ではない変状は、発生範囲の規模の欄に○を記入するとともに、備考に内容を記入すること。

Sheet 様式D-3_S030
AU1: 様式F用→ | AV1: 覆工スパン | AY1: 変 状 数 | BK1: 変 状 規 模
AV2: 番号 | AW2: 延長 （ｍ） | AX2: 健全性の診断の 区分 | AY2: 対策区分の判定 | BK2: 覆工スパン長（ｍ） | BO2: 変状の発生範囲の規模（㎡）
B3: ■定期点検記録様式 覆工スパン別変状詳細展開図 【様式D-3】 | AY3: 外力 | BC3: 材質劣化 | BG3: 漏水 | BK3: 外力 注2 | BO3: 材質劣化 | BS3: 漏水
B4: フリガナ | E4: (ｵﾄﾒｷｮｳﾄﾝﾈﾙ) | K4: 路線名 | N4: 一般国道434号 | T4: 定期点検業者 | Y4: 応用地質（株） | AG4: 定期点検年月日 | AK4: 45845 | AY4: Ⅳ | AZ4: Ⅲ | BA4: Ⅱa | BB4: Ⅱb | BC4: Ⅳ | BD4: Ⅲ | BE4: Ⅱa | BF4: Ⅱb | BG4: Ⅳ | BH4: Ⅲ | BI4: Ⅱa | BJ4: Ⅱb | BK4: Ⅳ | BL4: Ⅲ | BM4: Ⅱa | BN4: Ⅱb | BO4: Ⅳ | BP4: Ⅲ | BQ4: Ⅱa | BR4: Ⅱb | BS4: Ⅳ | BT4: Ⅲ | BU4: Ⅱa | BV4: Ⅱb
B5: 名 称 | E5: 乙女峡トンネル | K5: 管理者名 | N5: 山口県岩国土木建築事務所 | Y5: 太田 裕之 | AV5: =N7 -> 30 | AW5: =R7 -> 10.5 | AX5: =AM35 -> Ⅱ | AY5: =IF(Y37>0,Y37,"") | AZ5: =IF(Y37>0,"",IF(Z37>0,Z37,"")) | BA5: =IF(Y37+Z37>0,"",IF(AA37>0,AA37,"")) | BB5: =IF(Y37+Z37+AA37>0,"",IF(AB37>0,AB37,"")) | BC5: =AC37 -> 0 | BD5: =AD37 -> 0 | BE5: =AE37 -> 1 | BF5: =AF37 -> 0 | BG5: =AG37 -> 0 | BH5: =AH37 -> 0 | BI5: =AI37 -> 0 | BJ5: =AJ37 -> 0 | BK5: =IF(Y37>0,R7,"") | BL5: =IF(Y37>0,"",IF(Z37>0,R7,"")) | BM5: =IF(Y37+Z37>0,"",IF(AA37>0,R7,"")) | BN5: =IF(Y37+Z37+AA37>0,"",IF(AB37>0,R7,"")) | BO5: =AC35 -> 0 | BP5: =AD35 -> 0 | BQ5: =AE35 -> 0.02 | BR5: =AF35 -> 0 | BS5: =AG35 -> 0 | BT5: =AH35 -> 0 | BU5: =AI35 -> 0 | BV5: =AJ35 -> 0
B6: スパン別変状展開図 | K6: 【健全性判定集計表】
K7: スパン番号 | N7: 30 | P7: スパン長 | R7: 10.5 | U7: 前回定期点検時の判定 | W7: 応急措置前の判定 | Y7: 対策区分毎の 変状の有無 | AC7: 対策区分毎の変状の発生範囲の規模(㎡) | AK7: 備考注2
K8: 変状番号 | L8: 対象箇所 | N8: 部位区分 | P8: 変状区分 | R8: 変状種類
Y9: 外力注1 | AC9: 材質劣化注1 | AG9: 漏水注1
Y10: Ⅳ | Z10: Ⅲ | AA10: Ⅱa | AB10: Ⅱb | AC10: Ⅳ | AD10: Ⅲ | AE10: Ⅱa | AF10: Ⅱb | AG10: Ⅳ | AH10: Ⅲ | AI10: Ⅱa | AJ10: Ⅱb
K11: 1 | L11: 覆工 | N11: 横断目地（天端） | P11: 材質劣化 | R11: うき・はく離 | U11: Ⅱa | W11: － | AE11: 0.02 | AQ11: =IF(P11="材質劣化",2,IF(P11="漏水",3,1)) -> 2
K12: 2 | AQ12: =IF(P12="材質劣化",2,IF(P12="漏水",3,1)) -> 1
K13: 3 | AQ13: =IF(P13="材質劣化",2,IF(P13="漏水",3,1)) -> 1
K14: 4 | AQ14: =IF(P14="材質劣化",2,IF(P14="漏水",3,1)) -> 1
K15: 5 | AQ15: =IF(P15="材質劣化",2,IF(P15="漏水",3,1)) -> 1
K16: 6 | AQ16: =IF(P16="材質劣化",2,IF(P16="漏水",3,1)) -> 1
K17: 7 | AQ17: =IF(P17="材質劣化",2,IF(P17="漏水",3,1)) -> 1
K18: 8 | AQ18: =IF(P18="材質劣化",2,IF(P18="漏水",3,1)) -> 1
K19: 9 | AQ19: =IF(P19="材質劣化",2,IF(P19="漏水",3,1)) -> 1
K20: 10 | AQ20: =IF(P20="材質劣化",2,IF(P20="漏水",3,1)) -> 1
K21: 11 | AQ21: =IF(P21="材質劣化",2,IF(P21="漏水",3,1)) -> 1
K22: 12 | AQ22: =IF(P22="材質劣化",2,IF(P22="漏水",3,1)) -> 1
K23: 13 | AQ23: =IF(P23="材質劣化",2,IF(P23="漏水",3,1)) -> 1
... K27: 17 | AQ27: =IF(P27="材質劣化",2,IF(P27="漏水",3,1)) -> 1
K28: 18 | AQ28: =IF(P30="材質劣化",2,IF(P30="漏水",3,1)) -> 1
K29: 19 | AQ29: =IF(P34="材質劣化",2,IF(P34="漏水",3,1)) -> 1
K30: 20 | AQ30: =IF(P30="材質劣化",2,IF(P30="漏水",3,1)) -> 1
K31: 21 | AQ31: =IF(P33="材質劣化",2,IF(P33="漏水",3,1)) -> 1
K32: 22 | AQ32: =IF(P37="材質劣化",2,IF(P37="漏水",3,1)) -> 1
K33: 23 | AQ33: =IF(P33="材質劣化",2,IF(P33="漏水",3,1)) -> 1
K34: 24 | AQ34: =IF(P36="材質劣化",2,IF(P36="漏水",3,1)) -> 1
K35: 集計 判定 診断 | L35: 変状の発生規模合計(㎡) | Y35: － | AC35: =SUM(AC11:AC34) -> 0 | AD35: =SUM(AD11:AD34) -> 0 | AE35: =SUM(AE11:AE34) -> 0.02 | AF35: =SUM(AF11:AF34) -> 0 | AG35: =SUM(AG11:AG34) -> 0 | AH35: =SUM(AH11:AH34) -> 0 | AI35: =SUM(AI11:AI34) -> 0 | AJ35: =SUM(AJ11:AJ34) -> 0 | AK35: 覆工スパン単位の 健全性の 診断の区分 | AM35: Ⅱ
L36: 対策区分の 判定結果 | O36: 対策区分毎の変状数注3 | Y36: Ⅳ | Z36: Ⅲ | AA36: Ⅱa | AB36: Ⅱb | AC36: Ⅳ | AD36: Ⅲ | AE36: Ⅱa | AF36: Ⅱb | AG36: Ⅳ | AH36: Ⅲ | AI36: Ⅱa | AJ36: Ⅱb
Y37: =IF(COUNTIF(Y11:Y34,"〇")>0,1,0) -> 0 | Z37: =IF(COUNTIF(Z11:Z34,"〇")>0,1,0) -> 0 | AA37: =IF(COUNTIF(AA11:AA34,"〇")>0,1,0) -> 0 | AB37: =IF(COUNTIF(AB11:AB34,"〇")>0,1,0) -> 0 | AC37: =COUNTA(AC11:AC34) -> 0 | AD37: =COUNTA(AD11:AD34) -> 0 | AE37: =COUNTA(AE11:AE34) -> 1 | AF37: =COUNTA(AF11:AF34) -> 0 | AG37: =COUNTA(AG11:AG34) -> 0 | AH37: =COUNTA(AH11:AH34) -> 0 | AI37: =COUNTA(AI11:AI34) -> 0 | AJ37: =COUNTA(AJ11:AJ34) -> 0
K39: 所見 | L39: 【 外 力 】監視を必要としない。 【材質劣化】次回点検まで重点的な監視、または計画的な対策を必要とする。 【 漏 水 】監視を必要としない。 以上により本スパンの判定はⅡa判定となる。
K43: 注1：誤記入防止のため、当該変状区分以外のセルは灰色表示とすること。
K44: 注2：応急措置を実施した場合は、その詳細を備考に記載すること。
K45: 注3：外力は覆工スパン単位、材質劣化、漏水は変状単位とすること。
B46: （以下、印刷不要）
B47: ※1：本シートは作成洩れのないよう、変状が無くても全スパン分を作成すること．また変状展開図は、様式D-2-1、様式D-2-1'と同じものを覆工スパン単位で拡大し掲載すること。
B48: ※2：変状番号は、様式D-1-1で記入した番号と整合させること。
B49: ※3：対策区分毎の変状発生規模は、様式D-1-1に記載した面積を記入すること（ただし外力はスパン単位で評価するため変状の有無の欄には面積でなく○を記入し、備考欄に状況を記入）。
B50: ※4：本様式は覆工スパン毎に作成すること。
B51: ※5：変状数が多い場合は、適時、表の行を増やして覆工スパン毎に1枚のシートに収めること。また、1スパン１シートとし、スパンに合わせてシートを追加すること。
B52: ※6：対策区分毎の変状の発生範囲の規模とは，対策を行う際に参考となる変状の長さや面積であり，変状を包含する長さや面積とする。
B53: ※7：対策範囲を示す発生範囲の規模を面積で記入することが妥当ではない変状は、発生範囲の規模の欄に○を記入するとともに、備考に内容を記入すること。

Sheet 様式D-3_S031
AU1: 様式F用→ | AV1: 覆工スパン | AY1: 変 状 数 | BK1: 変 状 規 模
AV2: 番号 | AW2: 延長 （ｍ） | AX2: 健全性の診断の 区分 | AY2: 対策区分の判定 | BK2: 覆工スパン長（ｍ） | BO2: 変状の発生範囲の規模（㎡）
B3: ■定期点検記録様式 覆工スパン別変状詳細展開図 【様式D-3】 | AY3: 外力 | BC3: 材質劣化 | BG3: 漏水 | BK3: 外力 注2 | BO3: 材質劣化 | BS3: 漏水
B4: フリガナ | E4: (ｵﾄﾒｷｮｳﾄﾝﾈﾙ) | K4: 路線名 | N4: 一般国道434号 | T4: 定期点検業者 | Y4: 応用地質（株） | AG4: 定期点検年月日 | AK4: 45845 | AY4: Ⅳ | AZ4: Ⅲ | BA4: Ⅱa | BB4: Ⅱb | BC4: Ⅳ | BD4: Ⅲ | BE4: Ⅱa | BF4: Ⅱb | BG4: Ⅳ | BH4: Ⅲ | BI4: Ⅱa | BJ4: Ⅱb | BK4: Ⅳ | BL4: Ⅲ | BM4: Ⅱa | BN4: Ⅱb | BO4: Ⅳ | BP4: Ⅲ | BQ4: Ⅱa | BR4: Ⅱb | BS4: Ⅳ | BT4: Ⅲ | BU4: Ⅱa | BV4: Ⅱb
B5: 名 称 | E5: 乙女峡トンネル | K5: 管理者名 | N5: 山口県岩国土木建築事務所 | Y5: 太田 裕之 | AV5: =N7 -> 31 | AW5: =R7 -> 10.6 | AX5: =AM35 -> Ⅱ | AY5: =IF(Y37>0,Y37,"") | AZ5: =IF(Y37>0,"",IF(Z37>0,Z37,"")) | BA5: =IF(Y37+Z37>0,"",IF(AA37>0,AA37,"")) | BB5: =IF(Y37+Z37+AA37>0,"",IF(AB37>0,AB37,"")) -> 1 | BC5: =AC37 -> 0 | BD5: =AD37 -> 0 | BE5: =AE37 -> 0 | BF5: =AF37 -> 0 | BG5: =AG37 -> 0 | BH5: =AH37 -> 0 | BI5: =AI37 -> 0 | BJ5: =AJ37 -> 0 | BK5: =IF(Y37>0,R7,"") | BL5: =IF(Y37>0,"",IF(Z37>0,R7,"")) | BM5: =IF(Y37+Z37>0,"",IF(AA37>0,R7,"")) | BN5: =IF(Y37+Z37+AA37>0,"",IF(AB37>0,R7,"")) -> 10.6 | BO5: =AC35 -> 0 | BP5: =AD35 -> 0 | BQ5: =AE35 -> 0 | BR5: =AF35 -> 0 | BS5: =AG35 -> 0 | BT5: =AH35 -> 0 | BU5: =AI35 -> 0 | BV5: =AJ35 -> 0
B6: スパン別変状展開図 | K6: 【健全性判定集計表】
K7: スパン番号 | N7: 31 | P7: スパン長 | R7: 10.6 | U7: 前回定期点検時の判定 | W7: 応急措置前の判定 | Y7: 対策区分毎の 変状の有無 | AC7: 対策区分毎の変状の発生範囲の規模(㎡) | AK7: 備考注2
K8: 変状番号 | L8: 対象箇所 | N8: 部位区分 | P8: 変状区分 | R8: 変状種類
Y9: 外力注1 | AC9: 材質劣化注1 | AG9: 漏水注1
Y10: Ⅳ | Z10: Ⅲ | AA10: Ⅱa | AB10: Ⅱb | AC10: Ⅳ | AD10: Ⅲ | AE10: Ⅱa | AF10: Ⅱb | AG10: Ⅳ | AH10: Ⅲ | AI10: Ⅱa | AJ10: Ⅱb
K11: 1 | L11: 覆工 | N11: アーチ（左側） | P11: 外力 | R11: 圧ざ、ひび割れ | U11: Ⅱb | W11: － | AB11: 〇 | AQ11: =IF(P11="材質劣化",2,IF(P11="漏水",3,1)) -> 1
K12: 2 | AQ12: =IF(P12="材質劣化",2,IF(P12="漏水",3,1)) -> 1
K13: 3 | AQ13: =IF(P13="材質劣化",2,IF(P13="漏水",3,1)) -> 1
K14: 4 | AQ14: =IF(P14="材質劣化",2,IF(P14="漏水",3,1)) -> 1
K15: 5 | AQ15: =IF(P15="材質劣化",2,IF(P15="漏水",3,1)) -> 1
K16: 6 | AQ16: =IF(P16="材質劣化",2,IF(P16="漏水",3,1)) -> 1
K17: 7 | AQ17: =IF(P17="材質劣化",2,IF(P17="漏水",3,1)) -> 1
K18: 8 | AQ18: =IF(P18="材質劣化",2,IF(P18="漏水",3,1)) -> 1
K19: 9 | AQ19: =IF(P19="材質劣化",2,IF(P19="漏水",3,1)) -> 1
K20: 10 | AQ20: =IF(P20="材質劣化",2,IF(P20="漏水",3,1)) -> 1
K21: 11 | AQ21: =IF(P21="材質劣化",2,IF(P21="漏水",3,1)) -> 1
K22: 12 | AQ22: =IF(P22="材質劣化",2,IF(P22="漏水",3,1)) -> 1
K23: 13 | AQ23: =IF(P23="材質劣化",2,IF(P23="漏水",3,1)) -> 1
... K27: 17 | AQ27: =IF(P27="材質劣化",2,IF(P27="漏水",3,1)) -> 1
K28: 18 | AQ28: =IF(P30="材質劣化",2,IF(P30="漏水",3,1)) -> 1
K29: 19 | AQ29: =IF(P34="材質劣化",2,IF(P34="漏水",3,1)) -> 1
K30: 20 | AQ30: =IF(P30="材質劣化",2,IF(P30="漏水",3,1)) -> 1
K31: 21 | AQ31: =IF(P33="材質劣化",2,IF(P33="漏水",3,1)) -> 1
K32: 22 | AQ32: =IF(P37="材質劣化",2,IF(P37="漏水",3,1)) -> 1
K33: 23 | AQ33: =IF(P33="材質劣化",2,IF(P33="漏水",3,1)) -> 1
K34: 24 | AQ34: =IF(P36="材質劣化",2,IF(P36="漏水",3,1)) -> 1
K35: 集計 判定 診断 | L35: 変状の発生規模合計(㎡) | Y35: － | AC35: =SUM(AC11:AC34) -> 0 | AD35: =SUM(AD11:AD34) -> 0 | AE35: =SUM(AE11:AE34) -> 0 | AF35: =SUM(AF11:AF34) -> 0 | AG35: =SUM(AG11:AG34) -> 0 | AH35: =SUM(AH11:AH34) -> 0 | AI35: =SUM(AI11:AI34) -> 0 | AJ35: =SUM(AJ11:AJ34) -> 0 | AK35: 覆工スパン単位の 健全性の 診断の区分 | AM35: Ⅱ
L36: 対策区分の 判定結果 | O36: 対策区分毎の変状数注3 | Y36: Ⅳ | Z36: Ⅲ | AA36: Ⅱa | AB36: Ⅱb | AC36: Ⅳ | AD36: Ⅲ | AE36: Ⅱa | AF36: Ⅱb | AG36: Ⅳ | AH36: Ⅲ | AI36: Ⅱa | AJ36: Ⅱb
Y37: =IF(COUNTIF(Y11:Y34,"〇")>0,1,0) -> 0 | Z37: =IF(COUNTIF(Z11:Z34,"〇")>0,1,0) -> 0 | AA37: =IF(COUNTIF(AA11:AA34,"〇")>0,1,0) -> 0 | AB37: =IF(COUNTIF(AB11:AB34,"〇")>0,1,0) -> 1 | AC37: =COUNTA(AC11:AC34) -> 0 | AD37: =COUNTA(AD11:AD34) -> 0 | AE37: =COUNTA(AE11:AE34) -> 0 | AF37: =COUNTA(AF11:AF34) -> 0 | AG37: =COUNTA(AG11:AG34) -> 0 | AH37: =COUNTA(AH11:AH34) -> 0 | AI37: =COUNTA(AI11:AI34) -> 0 | AJ37: =COUNTA(AJ11:AJ34) -> 0
K39: 所見 | L39: 【 外 力 】次回点検まで継続的な監視を必要とする。 【材質劣化】監視を必要としない。 【 漏 水 】監視を必要としない。 以上により本スパンの判定はⅡb判定となる。
K43: 注1：誤記入防止のため、当該変状区分以外のセルは灰色表示とすること。
K44: 注2：応急措置を実施した場合は、その詳細を備考に記載すること。
K45: 注3：外力は覆工スパン単位、材質劣化、漏水は変状単位とすること。
B46: （以下、印刷不要）
B47: ※1：本シートは作成洩れのないよう、変状が無くても全スパン分を作成すること．また変状展開図は、様式D-2-1、様式D-2-1'と同じものを覆工スパン単位で拡大し掲載すること。
B48: ※2：変状番号は、様式D-1-1で記入した番号と整合させること。
B49: ※3：対策区分毎の変状発生規模は、様式D-1-1に記載した面積を記入すること（ただし外力はスパン単位で評価するため変状の有無の欄には面積でなく○を記入し、備考欄に状況を記入）。
B50: ※4：本様式は覆工スパン毎に作成すること。
B51: ※5：変状数が多い場合は、適時、表の行を増やして覆工スパン毎に1枚のシートに収めること。また、1スパン１シートとし、スパンに合わせてシートを追加すること。
B52: ※6：対策区分毎の変状の発生範囲の規模とは，対策を行う際に参考となる変状の長さや面積であり，変状を包含する長さや面積とする。
B53: ※7：対策範囲を示す発生範囲の規模を面積で記入することが妥当ではない変状は、発生範囲の規模の欄に○を記入するとともに、備考に内容を記入すること。

Sheet 様式D-3_S032
AU1: 様式F用→ | AV1: 覆工スパン | AY1: 変 状 数 | BK1: 変 状 規 模
AV2: 番号 | AW2: 延長 （ｍ） | AX2: 健全性の診断の 区分 | AY2: 対策区分の判定 | BK2: 覆工スパン長（ｍ） | BO2: 変状の発生範囲の規模（㎡）
B3: ■定期点検記録様式 覆工スパン別変状詳細展開図 【様式D-3】 | AY3: 外力 | BC3: 材質劣化 | BG3: 漏水 | BK3: 外力 注2 | BO3: 材質劣化 | BS3: 漏水
B4: フリガナ | E4: (ｵﾄﾒｷｮｳﾄﾝﾈﾙ) | K4: 路線名 | N4: 一般国道434号 | T4: 定期点検業者 | Y4: 応用地質（株） | AG4: 定期点検年月日 | AK4: 45845 | AY4: Ⅳ | AZ4: Ⅲ | BA4: Ⅱa | BB4: Ⅱb | BC4: Ⅳ | BD4: Ⅲ | BE4: Ⅱa | BF4: Ⅱb | BG4: Ⅳ | BH4: Ⅲ | BI4: Ⅱa | BJ4: Ⅱb | BK4: Ⅳ | BL4: Ⅲ | BM4: Ⅱa | BN4: Ⅱb | BO4: Ⅳ | BP4: Ⅲ | BQ4: Ⅱa | BR4: Ⅱb | BS4: Ⅳ | BT4: Ⅲ | BU4: Ⅱa | BV4: Ⅱb
B5: 名 称 | E5: 乙女峡トンネル | K5: 管理者名 | N5: 山口県岩国土木建築事務所 | Y5: 太田 裕之 | AV5: =N7 -> 32 | AW5: =R7 -> 4.3 | AX5: =AM35 -> Ⅰ | AY5: =IF(Y37>0,Y37,"") | AZ5: =IF(Y37>0,"",IF(Z37>0,Z37,"")) | BA5: =IF(Y37+Z37>0,"",IF(AA37>0,AA37,"")) | BB5: =IF(Y37+Z37+AA37>0,"",IF(AB37>0,AB37,"")) | BC5: =AC37 -> 0 | BD5: =AD37 -> 0 | BE5: =AE37 -> 0 | BF5: =AF37 -> 0 | BG5: =AG37 -> 0 | BH5: =AH37 -> 0 | BI5: =AI37 -> 0 | BJ5: =AJ37 -> 0 | BK5: =IF(Y37>0,R7,"") | BL5: =IF(Y37>0,"",IF(Z37>0,R7,"")) | BM5: =IF(Y37+Z37>0,"",IF(AA37>0,R7,"")) | BN5: =IF(Y37+Z37+AA37>0,"",IF(AB37>0,R7,"")) | BO5: =AC35 -> 0 | BP5: =AD35 -> 0 | BQ5: =AE35 -> 0 | BR5: =AF35 -> 0 | BS5: =AG35 -> 0 | BT5: =AH35 -> 0 | BU5: =AI35 -> 0 | BV5: =AJ35 -> 0
B6: スパン別変状展開図 | K6: 【健全性判定集計表】
K7: スパン番号 | N7: 32 | P7: スパン長 | R7: 4.3 | U7: 前回定期点検時の判定 | W7: 応急措置前の判定 | Y7: 対策区分毎の 変状の有無 | AC7: 対策区分毎の変状の発生範囲の規模(㎡) | AK7: 備考注2
K8: 変状番号 | L8: 対象箇所 | N8: 部位区分 | P8: 変状区分 | R8: 変状種類
Y9: 外力注1 | AC9: 材質劣化注1 | AG9: 漏水注1
Y10: Ⅳ | Z10: Ⅲ | AA10: Ⅱa | AB10: Ⅱb | AC10: Ⅳ | AD10: Ⅲ | AE10: Ⅱa | AF10: Ⅱb | AG10: Ⅳ | AH10: Ⅲ | AI10: Ⅱa | AJ10: Ⅱb
K11: 1 | AQ11: =IF(P11="材質劣化",2,IF(P11="漏水",3,1)) -> 1
K12: 2 | AQ12: =IF(P12="材質劣化",2,IF(P12="漏水",3,1)) -> 1
K13: 3 | AQ13: =IF(P13="材質劣化",2,IF(P13="漏水",3,1)) -> 1
K14: 4 | AQ14: =IF(P14="材質劣化",2,IF(P14="漏水",3,1)) -> 1
K15: 5 | AQ15: =IF(P15="材質劣化",2,IF(P15="漏水",3,1)) -> 1
K16: 6 | AQ16: =IF(P16="材質劣化",2,IF(P16="漏水",3,1)) -> 1
K17: 7 | AQ17: =IF(P17="材質劣化",2,IF(P17="漏水",3,1)) -> 1
K18: 8 | AQ18: =IF(P18="材質劣化",2,IF(P18="漏水",3,1)) -> 1
K19: 9 | AQ19: =IF(P19="材質劣化",2,IF(P19="漏水",3,1)) -> 1
K20: 10 | AQ20: =IF(P20="材質劣化",2,IF(P20="漏水",3,1)) -> 1
K21: 11 | AQ21: =IF(P21="材質劣化",2,IF(P21="漏水",3,1)) -> 1
K22: 12 | AQ22: =IF(P22="材質劣化",2,IF(P22="漏水",3,1)) -> 1
... K27: 17 | AQ27: =IF(P27="材質劣化",2,IF(P27="漏水",3,1)) -> 1
K28: 18 | AQ28: =IF(P30="材質劣化",2,IF(P30="漏水",3,1)) -> 1
K29: 19 | AQ29: =IF(P34="材質劣化",2,IF(P34="漏水",3,1)) -> 1
K30: 20 | AQ30: =IF(P30="材質劣化",2,IF(P30="漏水",3,1)) -> 1
K31: 21 | AQ31: =IF(P33="材質劣化",2,IF(P33="漏水",3,1)) -> 1
K32: 22 | AQ32: =IF(P37="材質劣化",2,IF(P37="漏水",3,1)) -> 1
K33: 23 | AQ33: =IF(P33="材質劣化",2,IF(P33="漏水",3,1)) -> 1
K34: 24 | AQ34: =IF(P36="材質劣化",2,IF(P36="漏水",3,1)) -> 1
K35: 集計 判定 診断 | L35: 変状の発生規模合計(㎡) | Y35: － | AC35: =SUM(AC11:AC34) -> 0 | AD35: =SUM(AD11:AD34) -> 0 | AE35: =SUM(AE11:AE34) -> 0 | AF35: =SUM(AF11:AF34) -> 0 | AG35: =SUM(AG11:AG34) -> 0 | AH35: =SUM(AH11:AH34) -> 0 | AI35: =SUM(AI11:AI34) -> 0 | AJ35: =SUM(AJ11:AJ34) -> 0 | AK35: 覆工スパン単位の 健全性の 診断の区分 | AM35: Ⅰ
L36: 対策区分の 判定結果 | O36: 対策区分毎の変状数注3 | Y36: Ⅳ | Z36: Ⅲ | AA36: Ⅱa | AB36: Ⅱb | AC36: Ⅳ | AD36: Ⅲ | AE36: Ⅱa | AF36: Ⅱb | AG36: Ⅳ | AH36: Ⅲ | AI36: Ⅱa | AJ36: Ⅱb
Y37: =IF(COUNTIF(Y11:Y34,"〇")>0,1,0) -> 0 | Z37: =IF(COUNTIF(Z11:Z34,"〇")>0,1,0) -> 0 | AA37: =IF(COUNTIF(AA11:AA34,"〇")>0,1,0) -> 0 | AB37: =IF(COUNTIF(AB11:AB34,"〇")>0,1,0) -> 0 | AC37: =COUNTA(AC11:AC34) -> 0 | AD37: =COUNTA(AD11:AD34) -> 0 | AE37: =COUNTA(AE11:AE34) -> 0 | AF37: =COUNTA(AF11:AF34) -> 0 | AG37: =COUNTA(AG11:AG34) -> 0 | AH37: =COUNTA(AH11:AH34) -> 0 | AI37: =COUNTA(AI11:AI34) -> 0 | AJ37: =COUNTA(AJ11:AJ34) -> 0
K39: 所見 | L39: 【 外 力 】監視を必要としない。 【材質劣化】監視を必要としない。 【 漏 水 】監視を必要としない。 以上により本スパンの判定はⅠ判定となる。
K43: 注1：誤記入防止のため、当該変状区分以外のセルは灰色表示とすること。
K44: 注2：応急措置を実施した場合は、その詳細を備考に記載すること。
K45: 注3：外力は覆工スパン単位、材質劣化、漏水は変状単位とすること。
B46: （以下、印刷不要）
B47: ※1：本シートは作成洩れのないよう、変状が無くても全スパン分を作成すること．また変状展開図は、様式D-2-1、様式D-2-1'と同じものを覆工スパン単位で拡大し掲載すること。
B48: ※2：変状番号は、様式D-1-1で記入した番号と整合させること。
B49: ※3：対策区分毎の変状発生規模は、様式D-1-1に記載した面積を記入すること（ただし外力はスパン単位で評価するため変状の有無の欄には面積でなく○を記入し、備考欄に状況を記入）。
B50: ※4：本様式は覆工スパン毎に作成すること。
B51: ※5：変状数が多い場合は、適時、表の行を増やして覆工スパン毎に1枚のシートに収めること。また、1スパン１シートとし、スパンに合わせてシートを追加すること。
B52: ※6：対策区分毎の変状の発生範囲の規模とは，対策を行う際に参考となる変状の長さや面積であり，変状を包含する長さや面積とする。
B53: ※7：対策範囲を示す発生範囲の規模を面積で記入することが妥当ではない変状は、発生範囲の規模の欄に○を記入するとともに、備考に内容を記入すること。

Sheet 様式D-3_PE
AU1: 様式F用→ | AV1: 覆工スパン | AY1: 変 状 数 | BK1: 変 状 規 模
AV2: 番号 | AW2: 延長 （ｍ） | AX2: 健全性の診断の 区分 | AY2: 対策区分の判定 | BK2: 覆工スパン長（ｍ） | BO2: 変状の発生範囲の規模（㎡）
B3: ■定期点検記録様式 覆工スパン別変状詳細展開図 【様式D-3】 | AY3: 外力 | BC3: 材質劣化 | BG3: 漏水 | BK3: 外力 注2 | BO3: 材質劣化 | BS3: 漏水
B4: フリガナ | E4: (ｵﾄﾒｷｮｳﾄﾝﾈﾙ) | K4: 路線名 | N4: 一般国道434号 | T4: 定期点検業者 | Y4: 応用地質（株） | AG4: 定期点検年月日 | AK4: 45845 | AY4: Ⅳ | AZ4: Ⅲ | BA4: Ⅱa | BB4: Ⅱb | BC4: Ⅳ | BD4: Ⅲ | BE4: Ⅱa | BF4: Ⅱb | BG4: Ⅳ | BH4: Ⅲ | BI4: Ⅱa | BJ4: Ⅱb | BK4: Ⅳ | BL4: Ⅲ | BM4: Ⅱa | BN4: Ⅱb | BO4: Ⅳ | BP4: Ⅲ | BQ4: Ⅱa | BR4: Ⅱb | BS4: Ⅳ | BT4: Ⅲ | BU4: Ⅱa | BV4: Ⅱb
B5: 名 称 | E5: 乙女峡トンネル | K5: 管理者名 | N5: 山口県岩国土木建築事務所 | Y5: 太田 裕之 | AV5: =N7 -> PE | AW5: =R7 -> 0 | AX5: =AM35 -> Ⅰ | AY5: =IF(Y37>0,Y37,"") | AZ5: =IF(Y37>0,"",IF(Z37>0,Z37,"")) | BA5: =IF(Y37+Z37>0,"",IF(AA37>0,AA37,"")) | BB5: =IF(Y37+Z37+AA37>0,"",IF(AB37>0,AB37,"")) | BC5: =AC37 -> 0 | BD5: =AD37 -> 0 | BE5: =AE37 -> 0 | BF5: =AF37 -> 0 | BG5: =AG37 -> 0 | BH5: =AH37 -> 0 | BI5: =AI37 -> 0 | BJ5: =AJ37 -> 0 | BK5: =IF(Y37>0,R7,"") | BL5: =IF(Y37>0,"",IF(Z37>0,R7,"")) | BM5: =IF(Y37+Z37>0,"",IF(AA37>0,R7,"")) | BN5: =IF(Y37+Z37+AA37>0,"",IF(AB37>0,R7,"")) | BO5: =AC35 -> 0 | BP5: =AD35 -> 0 | BQ5: =AE35 -> 0 | BR5: =AF35 -> 0 | BS5: =AG35 -> 0 | BT5: =AH35 -> 0 | BU5: =AI35 -> 0 | BV5: =AJ35 -> 0
B6: スパン別変状展開図 | K6: 【健全性判定集計表】
K7: スパン番号 | N7: PE | P7: スパン長 | R7: 0 | U7: 前回定期点検時の判定 | W7: 応急措置前の判定 | Y7: 対策区分毎の 変状の有無 | AC7: 対策区分毎の変状の発生範囲の規模(㎡) | AK7: 備考注2
K8: 変状番号 | L8: 対象箇所 | N8: 部位区分 | P8: 変状区分 | R8: 変状種類
Y9: 外力注1 | AC9: 材質劣化注1 | AG9: 漏水注1
Y10: Ⅳ | Z10: Ⅲ | AA10: Ⅱa | AB10: Ⅱb | AC10: Ⅳ | AD10: Ⅲ | AE10: Ⅱa | AF10: Ⅱb | AG10: Ⅳ | AH10: Ⅲ | AI10: Ⅱa | AJ10: Ⅱb
K11: 1 | AQ11: =IF(P11="材質劣化",2,IF(P11="漏水",3,1)) -> 1
K12: 2 | AQ12: =IF(P12="材質劣化",2,IF(P12="漏水",3,1)) -> 1
K13: 3 | AQ13: =IF(P13="材質劣化",2,IF(P13="漏水",3,1)) -> 1
K14: 4 | AQ14: =IF(P14="材質劣化",2,IF(P14="漏水",3,1)) -> 1
K15: 5 | AQ15: =IF(P15="材質劣化",2,IF(P15="漏水",3,1)) -> 1
K16: 6 | AQ16: =IF(P16="材質劣化",2,IF(P16="漏水",3,1)) -> 1
K17: 7 | AQ17: =IF(P17="材質劣化",2,IF(P17="漏水",3,1)) -> 1
K18: 8 | AQ18: =IF(P18="材質劣化",2,IF(P18="漏水",3,1)) -> 1
K19: 9 | AQ19: =IF(P19="材質劣化",2,IF(P19="漏水",3,1)) -> 1
K20: 10 | AQ20: =IF(P20="材質劣化",2,IF(P20="漏水",3,1)) -> 1
K21: 11 | AQ21: =IF(P21="材質劣化",2,IF(P21="漏水",3,1)) -> 1
K22: 12 | AQ22: =IF(P22="材質劣化",2,IF(P22="漏水",3,1)) -> 1
... K27: 17 | AQ27: =IF(P27="材質劣化",2,IF(P27="漏水",3,1)) -> 1
K28: 18 | AQ28: =IF(P30="材質劣化",2,IF(P30="漏水",3,1)) -> 1
K29: 19 | AQ29: =IF(P34="材質劣化",2,IF(P34="漏水",3,1)) -> 1
K30: 20 | AQ30: =IF(P30="材質劣化",2,IF(P30="漏水",3,1)) -> 1
K31: 21 | AQ31: =IF(P33="材質劣化",2,IF(P33="漏水",3,1)) -> 1
K32: 22 | AQ32: =IF(P37="材質劣化",2,IF(P37="漏水",3,1)) -> 1
K33: 23 | AQ33: =IF(P33="材質劣化",2,IF(P33="漏水",3,1)) -> 1
K34: 24 | AQ34: =IF(P36="材質劣化",2,IF(P36="漏水",3,1)) -> 1
K35: 集計 判定 診断 | L35: 変状の発生規模合計(㎡) | Y35: － | AC35: =SUM(AC11:AC34) -> 0 | AD35: =SUM(AD11:AD34) -> 0 | AE35: =SUM(AE11:AE34) -> 0 | AF35: =SUM(AF11:AF34) -> 0 | AG35: =SUM(AG11:AG34) -> 0 | AH35: =SUM(AH11:AH34) -> 0 | AI35: =SUM(AI11:AI34) -> 0 | AJ35: =SUM(AJ11:AJ34) -> 0 | AK35: 覆工スパン単位の 健全性の 診断の区分 | AM35: Ⅰ
L36: 対策区分の 判定結果 | O36: 対策区分毎の変状数注3 | Y36: Ⅳ | Z36: Ⅲ | AA36: Ⅱa | AB36: Ⅱb | AC36: Ⅳ | AD36: Ⅲ | AE36: Ⅱa | AF36: Ⅱb | AG36: Ⅳ | AH36: Ⅲ | AI36: Ⅱa | AJ36: Ⅱb
Y37: =IF(COUNTIF(Y11:Y34,"〇")>0,1,0) -> 0 | Z37: =IF(COUNTIF(Z11:Z34,"〇")>0,1,0) -> 0 | AA37: =IF(COUNTIF(AA11:AA34,"〇")>0,1,0) -> 0 | AB37: =IF(COUNTIF(AB11:AB34,"〇")>0,1,0) -> 0 | AC37: =COUNTA(AC11:AC34) -> 0 | AD37: =COUNTA(AD11:AD34) -> 0 | AE37: =COUNTA(AE11:AE34) -> 0 | AF37: =COUNTA(AF11:AF34) -> 0 | AG37: =COUNTA(AG11:AG34) -> 0 | AH37: =COUNTA(AH11:AH34) -> 0 | AI37: =COUNTA(AI11:AI34) -> 0 | AJ37: =COUNTA(AJ11:AJ34) -> 0
K39: 所見 | L39: 【 外 力 】監視を必要としない。 【材質劣化】監視を必要としない。 【 漏 水 】監視を必要としない。 以上により本スパンの判定はⅠ判定となる。
K43: 注1：誤記入防止のため、当該変状区分以外のセルは灰色表示とすること。
K44: 注2：応急措置を実施した場合は、その詳細を備考に記載すること。
K45: 注3：外力は覆工スパン単位、材質劣化、漏水は変状単位とすること。
B46: （以下、印刷不要）
B47: ※1：本シートは作成洩れのないよう、変状が無くても全スパン分を作成すること．また変状展開図は、様式D-2-1、様式D-2-1'と同じものを覆工スパン単位で拡大し掲載すること。
B48: ※2：変状番号は、様式D-1-1で記入した番号と整合させること。
B49: ※3：対策区分毎の変状発生規模は、様式D-1-1に記載した面積を記入すること（ただし外力はスパン単位で評価するため変状の有無の欄には面積でなく○を記入し、備考欄に状況を記入）。
B50: ※4：本様式は覆工スパン毎に作成すること。
B51: ※5：変状数が多い場合は、適時、表の行を増やして覆工スパン毎に1枚のシートに収めること。また、1スパン１シートとし、スパンに合わせてシートを追加すること。
B52: ※6：対策区分毎の変状の発生範囲の規模とは，対策を行う際に参考となる変状の長さや面積であり，変状を包含する長さや面積とする。
B53: ※7：対策範囲を示す発生範囲の規模を面積で記入することが妥当ではない変状は、発生範囲の規模の欄に○を記入するとともに、備考に内容を記入すること。

Sheet 様式E
B2: ■定期点検記録様式 近接目視による状態の把握が不可能な箇所 【様式E】
B3: フリガナ | F3: (ｵﾄﾒｷｮｳﾄﾝﾈﾙ) | U3: 路 線 名 | Z3: 一般国道434号 | AI3: 定期点検実施者 | AO3: 応用地質（株） | AW3: 定期点検年月日 | BC3: 45845
B4: 名 称 | F4: 乙女峡トンネル | U4: 管理者名 | Z4: 山口県岩国土木建築事務所 | AO4: 太田 裕之
B5: 覆工スパン 番号 | H5: 対象箇所 | P5: 不可能な理由 | AN5: 対応策
D20: 注）近接目視又は打音、触診ができない箇所を記載する。現状の評価、日常の維持管理での注意点を記載する。
D21: ※ 数が多い場合は、適時、表の行を増やすこと。

Sheet 様式F
B1: ■定期点検記録様式 覆工スパン毎の変状数・変状規模の集計 【様式F】
B2: フリガナ | F2: (ｵﾄﾒｷｮｳﾄﾝﾈﾙ) | L2: 路線名 | O2: 一般国道434号 | T2: 定期点検実施者 | V2: 応用地質（株） | Y2: 定期点検 年月日 | Z2: 45845
B3: 名 称 | F3: 乙女峡トンネル | L3: 管理者名 | O3: 山口県岩国土木建築事務所 | V3: 太田 裕之
B5: 【覆工スパン毎の変状数, 変状規模】
B6: 覆工スパン | E6: 変 状 数 | Q6: 変 状 規 模
B7: 番号 | C7: 延長 （ｍ） | D7: 健全性の診断の 区分 | E7: 対策区分の判定※1 | Q7: 覆工スパン長（ｍ） | U7: 変状の発生範囲の規模（㎡）
E8: 外力 | I8: 材質劣化 | M8: 漏水 | Q8: 外力 注2 | U8: 材質劣化 | Y8: 漏水
E9: Ⅳ | F9: Ⅲ | G9: Ⅱa | H9: Ⅱb | I9: Ⅳ | J9: Ⅲ | K9: Ⅱa | L9: Ⅱb | M9: Ⅳ | N9: Ⅲ | O9: Ⅱa | P9: Ⅱb | Q9: Ⅳ | R9: Ⅲ | S9: Ⅱa | T9: Ⅱb | U9: Ⅳ | V9: Ⅲ | W9: Ⅱa | X9: Ⅱb | Y9: Ⅳ | Z9: Ⅲ | AA9: Ⅱa | AB9: Ⅱb
B10: ='様式D-3_PS'!$AV$5 -> PS | C10: ='様式D-3_PS'!$AW$5 -> 0 | D10: ='様式D-3_PS'!$AX$5 -> Ⅰ | E10: ='様式D-3_PS'!$AY$5 | F10: ='様式D-3_PS'!$AZ$5 | G10: ='様式D-3_PS'!$BA$5 | H10: ='様式D-3_PS'!$BB$5 | I10: ='様式D-3_PS'!$BC$5 -> 0 | J10: ='様式D-3_PS'!$BD$5 -> 0 | K10: ='様式D-3_PS'!$BE$5 -> 0 | L10: ='様式D-3_PS'!$BF$5 -> 0 | M10: ='様式D-3_PS'!$BG$5 -> 0 | N10: ='様式D-3_PS'!$BH$5 -> 0 | O10: ='様式D-3_PS'!$BI$5 -> 0 | P10: ='様式D-3_PS'!$BJ$5 -> 0 | Q10: ='様式D-3_PS'!$BK$5 | R10: ='様式D-3_PS'!$BL$5 | S10: ='様式D-3_PS'!$BM$5 | T10: ='様式D-3_PS'!$BN$5 | U10: ='様式D-3_PS'!$BO$5 -> 0 | V10: ='様式D-3_PS'!$BP$5 -> 0 | W10: ='様式D-3_PS'!$BQ$5 -> 0 | X10: ='様式D-3_PS'!$BR$5 -> 0 | Y10: ='様式D-3_PS'!$BS$5 -> 0 | Z10: ='様式D-3_PS'!$BT$5 -> 0 | AA10: ='様式D-3_PS'!$BU$5 -> 0 | AB10: ='様式D-3_PS'!$BV$5 -> 0
B11: ='様式D-3_S001'!$AV$5 -> 1 | C11: ='様式D-3_S001'!$AW$5 -> 8.5 | D11: ='様式D-3_S001'!$AX$5 -> Ⅱ | E11: ='様式D-3_S001'!$AY$5 | F11: ='様式D-3_S001'!$AZ$5 | G11: ='様式D-3_S001'!$BA$5 | H11: ='様式D-3_S001'!$BB$5 | I11: ='様式D-3_S001'!$BC$5 -> 0 | J11: ='様式D-3_S001'!$BD$5 -> 0 | K11: ='様式D-3_S001'!$BE$5 -> 1 | L11: ='様式D-3_S001'!$BF$5 -> 0 | M11: ='様式D-3_S001'!$BG$5 -> 0 | N11: ='様式D-3_S001'!$BH$5 -> 0 | O11: ='様式D-3_S001'!$BI$5 -> 0 | P11: ='様式D-3_S001'!$BJ$5 -> 0 | Q11: ='様式D-3_S001'!$BK$5 | R11: ='様式D-3_S001'!$BL$5 | S11: ='様式D-3_S001'!$BM$5 | T11: ='様式D-3_S001'!$BN$5 | U11: ='様式D-3_S001'!$BO$5 -> 0 | V11: ='様式D-3_S001'!$BP$5 -> 0 | W11: ='様式D-3_S001'!$BQ$5 -> 3.24 | X11: ='様式D-3_S001'!$BR$5 -> 0 | Y11: ='様式D-3_S001'!$BS$5 -> 0 | Z11: ='様式D-3_S001'!$BT$5 -> 0 | AA11: ='様式D-3_S001'!$BU$5 -> 0 | AB11: ='様式D-3_S001'!$BV$5 -> 0
B12: ='様式D-3_S002'!$AV$5 -> 2 | C12: ='様式D-3_S002'!$AW$5 -> 10.5 | D12: ='様式D-3_S002'!$AX$5 -> Ⅰ | E12: ='様式D-3_S002'!$AY$5 | F12: ='様式D-3_S002'!$AZ$5 | G12: ='様式D-3_S002'!$BA$5 | H12: ='様式D-3_S002'!$BB$5 | I12: ='様式D-3_S002'!$BC$5 -> 0 | J12: ='様式D-3_S002'!$BD$5 -> 0 | K12: ='様式D-3_S002'!$BE$5 -> 0 | L12: ='様式D-3_S002'!$BF$5 -> 0 | M12: ='様式D-3_S002'!$BG$5 -> 0 | N12: ='様式D-3_S002'!$BH$5 -> 0 | O12: ='様式D-3_S002'!$BI$5 -> 0 | P12: ='様式D-3_S002'!$BJ$5 -> 0 | Q12: ='様式D-3_S002'!$BK$5 | R12: ='様式D-3_S002'!$BL$5 | S12: ='様式D-3_S002'!$BM$5 | T12: ='様式D-3_S002'!$BN$5 | U12: ='様式D-3_S002'!$BO$5 -> 0 | V12: ='様式D-3_S002'!$BP$5 -> 0 | W12: ='様式D-3_S002'!$BQ$5 -> 0 | X12: ='様式D-3_S002'!$BR$5 -> 0 | Y12: ='様式D-3_S002'!$BS$5 -> 0 | Z12: ='様式D-3_S002'!$BT$5 -> 0 | AA12: ='様式D-3_S002'!$BU$5 -> 0 | AB12: ='様式D-3_S002'!$BV$5 -> 0
B13: ='様式D-3_S003'!$AV$5 -> 3 | C13: ='様式D-3_S003'!$AW$5 -> 10.5 | D13: ='様式D-3_S003'!$AX$5 -> Ⅱ | E13: ='様式D-3_S003'!$AY$5 | F13: ='様式D-3_S003'!$AZ$5 | G13: ='様式D-3_S003'!$BA$5 | H13: ='様式D-3_S003'!$BB$5 | I13: ='様式D-3_S003'!$BC$5 -> 0 | J13: ='様式D-3_S003'!$BD$5 -> 0 | K13: ='様式D-3_S003'!$BE$5 -> 0 | L13: ='様式D-3_S003'!$BF$5 -> 0 | M13: ='様式D-3_S003'!$BG$5 -> 0 | N13: ='様式D-3_S003'!$BH$5 -> 0 | O13: ='様式D-3_S003'!$BI$5 -> 0 | P13: ='様式D-3_S003'!$BJ$5 -> 1 | Q13: ='様式D-3_S003'!$BK$5 | R13: ='様式D-3_S003'!$BL$5 | S13: ='様式D-3_S003'!$BM$5 | T13: ='様式D-3_S003'!$BN$5 | U13: ='様式D-3_S003'!$BO$5 -> 0 | V13: ='様式D-3_S003'!$BP$5 -> 0 | W13: ='様式D-3_S003'!$BQ$5 -> 0 | X13: ='様式D-3_S003'!$BR$5 -> 0 | Y13: ='様式D-3_S003'!$BS$5 -> 0 | Z13: ='様式D-3_S003'!$BT$5 -> 0 | AA13: ='様式D-3_S003'!$BU$5 -> 0 | AB13: ='様式D-3_S003'!$BV$5 -> 0.07
B14: ='様式D-3_S004'!$AV$5 -> 4 | C14: ='様式D-3_S004'!$AW$5 -> 10.5 | D14: ='様式D-3_S004'!$AX$5 -> Ⅰ | E14: ='様式D-3_S004'!$AY$5 | F14: ='様式D-3_S004'!$AZ$5 | G14: ='様式D-3_S004'!$BA$5 | H14: ='様式D-3_S004'!$BB$5 | I14: ='様式D-3_S004'!$BC$5 -> 0 | J14: ='様式D-3_S004'!$BD$5 -> 0 | K14: ='様式D-3_S004'!$BE$5 -> 0 | L14: ='様式D-3_S004'!$BF$5 -> 0 | M14: ='様式D-3_S004'!$BG$5 -> 0 | N14: ='様式D-3_S004'!$BH$5 -> 0 | O14: ='様式D-3_S004'!$BI$5 -> 0 | P14: ='様式D-3_S004'!$BJ$5 -> 0 | Q14: ='様式D-3_S004'!$BK$5 | R14: ='様式D-3_S004'!$BL$5 | S14: ='様式D-3_S004'!$BM$5 | T14: ='様式D-3_S004'!$BN$5 | U14: ='様式D-3_S004'!$BO$5 -> 0 | V14: ='様式D-3_S004'!$BP$5 -> 0 | W14: ='様式D-3_S004'!$BQ$5 -> 0 | X14: ='様式D-3_S004'!$BR$5 -> 0 | Y14: ='様式D-3_S004'!$BS$5 -> 0 | Z14: ='様式D-3_S004'!$BT$5 -> 0 | AA14: ='様式D-3_S004'!$BU$5 -> 0 | AB14: ='様式D-3_S004'!$BV$5 -> 0
B15: ='様式D-3_S005'!$AV$5 -> 5 | C15: ='様式D-3_S005'!$AW$5 -> 10.5 | D15: ='様式D-3_S005'!$AX$5 -> Ⅰ | E15: ='様式D-3_S005'!$AY$5 | F15: ='様式D-3_S005'!$AZ$5 | G15: ='様式D-3_S005'!$BA$5 | H15: ='様式D-3_S005'!$BB$5 | I15: ='様式D-3_S005'!$BC$5 -> 0 | J15: ='様式D-3_S005'!$BD$5 -> 0 | K15: ='様式D-3_S005'!$BE$5 -> 0 | L15: ='様式D-3_S005'!$BF$5 -> 0 | M15: ='様式D-3_S005'!$BG$5 -> 0 | N15: ='様式D-3_S005'!$BH$5 -> 0 | O15: ='様式D-3_S005'!$BI$5 -> 0 | P15: ='様式D-3_S005'!$BJ$5 -> 0 | Q15: ='様式D-3_S005'!$BK$5 | R15: ='様式D-3_S005'!$BL$5 | S15: ='様式D-3_S005'!$BM$5 | T15: ='様式D-3_S005'!$BN$5 | U15: ='様式D-3_S005'!$BO$5 -> 0 | V15: ='様式D-3_S005'!$BP$5 -> 0 | W15: ='様式D-3_S005'!$BQ$5 -> 0 | X15: ='様式D-3_S005'!$BR$5 -> 0 | Y15: ='様式D-3_S005'!$BS$5 -> 0 | Z15: ='様式D-3_S005'!$BT$5 -> 0 | AA15: ='様式D-3_S005'!$BU$5 -> 0 | AB15: ='様式D-3_S005'!$BV$5 -> 0
B16: ='様式D-3_S006'!$AV$5 -> 6 | C16: ='様式D-3_S006'!$AW$5 -> 10.5 | D16: ='様式D-3_S006'!$AX$5 -> Ⅰ | E16: ='様式D-3_S006'!$AY$5 | F16: ='様式D-3_S006'!$AZ$5 | G16: ='様式D-3_S006'!$BA$5 | H16: ='様式D-3_S006'!$BB$5 | I16: ='様式D-3_S006'!$BC$5 -> 0 | J16: ='様式D-3_S006'!$BD$5 -> 0 | K16: ='様式D-3_S006'!$BE$5 -> 0 | L16: ='様式D-3_S006'!$BF$5 -> 0 | M16: ='様式D-3_S006'!$BG$5 -> 0 | N16: ='様式D-3_S006'!$BH$5 -> 0 | O16: ='様式D-3_S006'!$BI$5 -> 0 | P16: ='様式D-3_S006'!$BJ$5 -> 0 | Q16: ='様式D-3_S006'!$BK$5 | R16: ='様式D-3_S006'!$BL$5 | S16: ='様式D-3_S006'!$BM$5 | T16: ='様式D-3_S006'!$BN$5 | U16: ='様式D-3_S006'!$BO$5 -> 0 | V16: ='様式D-3_S006'!$BP$5 -> 0 | W16: ='様式D-3_S006'!$BQ$5 -> 0 | X16: ='様式D-3_S006'!$BR$5 -> 0 | Y16: ='様式D-3_S006'!$BS$5 -> 0 | Z16: ='様式D-3_S006'!$BT$5 -> 0 | AA16: ='様式D-3_S006'!$BU$5 -> 0 | AB16: ='様式D-3_S006'!$BV$5 -> 0
B17: ='様式D-3_S007'!$AV$5 -> 7 | C17: ='様式D-3_S007'!$AW$5 -> 10.5 | D17: ='様式D-3_S007'!$AX$5 -> Ⅰ | E17: ='様式D-3_S007'!$AY$5 | F17: ='様式D-3_S007'!$AZ$5 | G17: ='様式D-3_S007'!$BA$5 | H17: ='様式D-3_S007'!$BB$5 | I17: ='様式D-3_S007'!$BC$5 -> 0 | J17: ='様式D-3_S007'!$BD$5 -> 0 | K17: ='様式D-3_S007'!$BE$5 -> 0 | L17: ='様式D-3_S007'!$BF$5 -> 0 | M17: ='様式D-3_S007'!$BG$5 -> 0 | N17: ='様式D-3_S007'!$BH$5 -> 0 | O17: ='様式D-3_S007'!$BI$5 -> 0 | P17: ='様式D-3_S007'!$BJ$5 -> 0 | Q17: ='様式D-3_S007'!$BK$5 | R17: ='様式D-3_S007'!$BL$5 | S17: ='様式D-3_S007'!$BM$5 | T17: ='様式D-3_S007'!$BN$5 | U17: ='様式D-3_S007'!$BO$5 -> 0 | V17: ='様式D-3_S007'!$BP$5 -> 0 | W17: ='様式D-3_S007'!$BQ$5 -> 0 | X17: ='様式D-3_S007'!$BR$5 -> 0 | Y17: ='様式D-3_S007'!$BS$5 -> 0 | Z17: ='様式D-3_S007'!$BT$5 -> 0 | AA17: ='様式D-3_S007'!$BU$5 -> 0 | AB17: ='様式D-3_S007'!$BV$5 -> 0
B18: ='様式D-3_S008'!$AV$5 -> 8 | C18: ='様式D-3_S008'!$AW$5 -> 10.5 | D18: ='様式D-3_S008'!$AX$5 -> Ⅰ | E18: ='様式D-3_S008'!$AY$5 | F18: ='様式D-3_S008'!$AZ$5 | G18: ='様式D-3_S008'!$BA$5 | H18: ='様式D-3_S008'!$BB$5 | I18: ='様式D-3_S008'!$BC$5 -> 0 | J18: ='様式D-3_S008'!$BD$5 -> 0 | K18: ='様式D-3_S008'!$BE$5 -> 0 | L18: ='様式D-3_S008'!$BF$5 -> 0 | M18: ='様式D-3_S008'!$BG$5 -> 0 | N18: ='様式D-3_S008'!$BH$5 -> 0 | O18: ='様式D-3_S008'!$BI$5 -> 0 | P18: ='様式D-3_S008'!$BJ$5 -> 0 | Q18: ='様式D-3_S008'!$BK$5 | R18: ='様式D-3_S008'!$BL$5 | S18: ='様式D-3_S008'!$BM$5 | T18: ='様式D-3_S008'!$BN$5 | U18: ='様式D-3_S008'!$BO$5 -> 0 | V18: ='様式D-3_S008'!$BP$5 -> 0 | W18: ='様式D-3_S008'!$BQ$5 -> 0 | X18: ='様式D-3_S008'!$BR$5 -> 0 | Y18: ='様式D-3_S008'!$BS$5 -> 0 | Z18: ='様式D-3_S008'!$BT$5 -> 0 | AA18: ='様式D-3_S008'!$BU$5 -> 0 | AB18: ='様式D-3_S008'!$BV$5 -> 0
B19: ='様式D-3_S009'!$AV$5 -> 9 | C19: ='様式D-3_S009'!$AW$5 -> 10.5 | D19: ='様式D-3_S009'!$AX$5 -> Ⅰ | E19: ='様式D-3_S009'!$AY$5 | F19: ='様式D-3_S009'!$AZ$5 | G19: ='様式D-3_S009'!$BA$5 | H19: ='様式D-3_S009'!$BB$5 | I19: ='様式D-3_S009'!$BC$5 -> 0 | J19: ='様式D-3_S009'!$BD$5 -> 0 | K19: ='様式D-3_S009'!$BE$5 -> 0 | L19: ='様式D-3_S009'!$BF$5 -> 0 | M19: ='様式D-3_S009'!$BG$5 -> 0 | N19: ='様式D-3_S009'!$BH$5 -> 0 | O19: ='様式D-3_S009'!$BI$5 -> 0 | P19: ='様式D-3_S009'!$BJ$5 -> 0 | Q19: ='様式D-3_S009'!$BK$5 | R19: ='様式D-3_S009'!$BL$5 | S19: ='様式D-3_S009'!$BM$5 | T19: ='様式D-3_S009'!$BN$5 | U19: ='様式D-3_S009'!$BO$5 -> 0 | V19: ='様式D-3_S009'!$BP$5 -> 0 | W19: ='様式D-3_S009'!$BQ$5 -> 0 | X19: ='様式D-3_S009'!$BR$5 -> 0 | Y19: ='様式D-3_S009'!$BS$5 -> 0 | Z19: ='様式D-3_S009'!$BT$5 -> 0 | AA19: ='様式D-3_S009'!$BU$5 -> 0 | AB19: ='様式D-3_S009'!$BV$5 -> 0
