Workbook
Name その他: '(参考)リスト'!$C$47
Name その他施設: '[1](参考)リスト'!#REF!
Name その他施設: '(参考)リスト'!$C$79:$C$83
Name 換気施設: '[1](参考)リスト'!#REF!
Name 換気施設: '(参考)リスト'!$C$56:$C$60
Name 坑門: '(参考)リスト'!$C$31:$C$32
Name 照明施設: '[1](参考)リスト'!#REF!
Name 照明施設: '(参考)リスト'!$C$52:$C$54
Name 対象箇所: [2]!テーブル1[対象箇所]
Name 天井板: '(参考)リスト'!$C$37:$C$39
Name 内装板: '(参考)リスト'!$C$34:$C$35
Name 非常用施設: '[1](参考)リスト'!#REF!
Name 非常用施設: '(参考)リスト'!$C$62:$C$77
Name 覆工: '(参考)リスト'!$C$16:$C$29
Name 路面: '(参考)リスト'!$C$41:$C$45

Sheet 点検様式作成フロー
A1: 点検様式作成フロ-
A3: 作成フロー図 | H3: 点検調書作成手順
H4: ①様式A-1～A-3（トンネル台帳）
H5: トンネル点検の実施にあたっては，現場点検作業に先行してトンネル情報を収集する。トンネル台帳（様式Ａ－1～様式Ａ－3）はトンネル完成後に作成され，維持管理の段階で引き継がれるが，関連資料等を確認したうえで，追加情報があれば必要に応じて追記することが望ましい。
H9: ②様式D-2-1、様式D-2-1´
H10: 現場点検作業を実施し，近接目視点検で確認した変状状況や補修履歴を忠実に変状展開図に転記する。
H12: ③様式D-1-1、様式D-1-2
H13: 変状展開図や撮影した写真等をもとに，対象トンネルの対策区分を決定し，対策区分がⅡ～Ⅳの変状および異常判定区分「×」を抽出し，写真台帳を作成する。
H16: ④様式B
H17: 写真台帳の作成と同時に，トンネルの構造を展開した位置図に変状写真位置を記録する。
H19: ⑤様式D-3
H20: 変状展開図ならびに写真台帳をもとに覆工スパンごとの変状展開図を作成し，変状発生状況をとりまとめる。
H22: ⑥様式E
H23: 近接目視または打音検査，触診ができていない箇所および近接目視によらない方法を講じた場所に対する調査結果を記録する。
... H33: ファイルは以下の分割規則に従う。 ※各ファイルとも （参考）リスト のシートを付けて保存すること。 ・様式A-1～A-3は同一ファイルとする。 ・様式B、D-1-1、D-1-2、D-2-1（もしくはD-2-1'）は別ファイルとする。 ・様式C-1-1、C-1-2、C-2は同一ファイルとする。 ・様式D-3、E、F、Gは同一ファイルとする。

Sheet 変状面積算出方法
A1: 変状面積算出方法
A26: 注1）外力による変状：ひび割れや圧ざの場合は変状の寸法を記録する。
A27: 例）ひび割れ：長さ（L）×最大ひび割れ幅（t）を記録する。 変形，移動，沈下：数値的な記載が可能な場合のみ記載する。
A28: 注2）材料劣化による変状：材質劣化による変状を包括する面積を記録する。
A29: 例）うき，はく離（閉合ひび割れ）：変状範囲を包括する寸法（L×W） うき，はく離（ひび割れ沿い）：打音異常箇所を包括する寸法（L×W） ひび割れ：長さ（L）×幅 * (W=0.1m：一律）を面積として記録する。 *ここでいう幅は実測幅ではなく便宜上一律に0.1mとする。 ※ただし，密集したひび割れの場合は，密集した範囲を面積として記載する。 鋼材腐食（鉄筋腐食）：一括した対策が適当と考えられる範囲を包括する寸法（L×W）
A30: 注3）漏水による変状：漏水発生範囲を包括し，垂れ下がりの可能性がある側壁下端まで含めた寸法を，L×Wで記録する。打継ぎ目地沿いの 漏水については目地を跨いだ50cm幅を横幅とする。

Sheet 記入の留意点
B2: トンネルDBでは、Excelに記載された文字や数値・配置された画像を自動的に読込みデータベースへ登録します。
B3: 記録様式へ記入の留意点を下記に示します。
B5: １．記録様式への記入
C6: ➤各セルに表示されるコメントに従って、様式A-1～様式Gのシートに、点検結果（テキスト入力、選択項目）を入力してください。
C7: ➤位置図(様式B)、変状写真(様式D-1-1)、異常写真(様式D-1-2)は記入した変状写真番号等に対応した画像を間違いないように貼り付けてください。
C8: ➤列や行の挿入削除は行わず、セルの位置がずれないようにしてください。データベースへ読み取り時にずれて取り込まれてしまいます。
B11: ２．画像ファイルの配置の注意点
C12: 登録に使用可能な画像ファイルの拡張子は「jpg」「jpeg」「png」の3種類のみです。
C13: 必ず、１か所に画像１枚のみを張り付けてください。エクセルの図形などのオブジェクトは使用しないでください。
C14: 張り付けた画像はエクセルのトリミング機能を使用しないでください。あらかじめ切り抜いた画像を利用してください。
C15: ※１ 画像の左上を必ずセルの内部に含め、はみ出ないようにしてください。
C16: ※２ 図の書式設定で「セルに合わせて移動やサイズを変更しない」のモードを使用しないでください。
C32: ※３ 「挿入」→「画像」→「セルの上に配置」してください。
B41: ３．シート名の連番について
C42: １ページに記載しきれない場合は、１シート内にページを増やすのではなくシート自体をコピーしシート名の末尾を連番にしてください。
C43: 対象様式
C44: 様式B
C45: 様式D-1-1
C46: 様式D-1-2
C47: 様式D-2-1
C48: 様式D-2-1´
C49: 様式D-3_S00 ※スパン名を記載
C50: 様式G
C52: 末尾の連番の形式例
C53: 様式B(1) 様式B(2) 様式B(3)
C54: 様式B_001 様式B_002 様式B_003
... C61: で示される要領を制限するものではありません。

Sheet 様式A-1
B2: ■トンネル台帳 トンネル諸元、非常用施設諸元 【様式A-1】 | S2: 施設ID | W2: 34.03558,132.05172
B3: フリガナ | D3: ナカヤマトンネル | H3: 路線名 | J3: 主要地方道柳井周東線 | P3: 管理者名 | R3: 山口県 岩国土木建築事務所 | W3: 緊急輸送道路 | Z3: 指定なし
B4: 名 称 | D4: 中山トンネル | W4: 代替路の有無 | Z4: 無
B5: 所在地 | D5: 自 | E5: 山口県岩国市周東町中山 | H5: 作成者 | K5: 株式会社 長大 鷲尾 寛 | P5: 作成年月日 | R5: 46080 | U5: トンネル延長 | X5: L= | Z5: 122 | AB5: ｍ
D6: 至 | E6: 山口県岩国市周東町中山 | U6: ﾄﾝﾈﾙの分類 | X6: 陸上トンネル（掘進工法）
B7: 起点 | C7: 緯度 | E7: 34.05178 | H7: 完成年月日 | K7: 平成2年 | M7: 舗装 | O7: 種 別 | Q7: コンクリート系 | S7: トンネル非常用施設 | T7: 施設の内訳 | X7: 種別・方式 | Y7: 型式 | Z7: 個数 | AA7: 更新年度 | AE7: =INT(E7/10000) -> 0 | AF7: =INT(E7/100)-AE7*100 -> 0 | AG7: =E7-AE7*10000-AF7*100 -> 34.05178 | AH7: =ROUND(AE7+AF7/60+AG7/60/60,5) -> 0.00946 | AI7: =TEXT(AH7,"0.00000") -> 0.00946
C8: 経度 | E8: 132.06775 | H8: 供用年月日 | O8: 厚 さ | T8: 通報設備 | U8: 通話型通報設備 | Y8: - | Z8: * | AE8: =INT(E8/10000) -> 0 | AF8: =INT(E8/100)-AE8*100 -> 1 | AG8: =E8-AE8*10000-AF8*100 -> 32.06775 | AH8: =ROUND(AE8+AF8/60+AG8/60/60,5) -> 0.02557 | AI8: =TEXT(AH8,"0.00000") -> 0.02557
B9: 終点 | C9: 緯度 | E9: 34.05132 | H9: トンネル等級 | O9: 面 積 | U9: 操作型通報設備 | Y9: - | Z9: *
C10: 経度 | E10: 132.06744 | H10: 内装種類 | K10: 内装なし | O10: 更新年次 | U10: 自動通報設備 | Y10: - | Z10: *
B11: 一般有料区分 | E11: 無料 | H11: 天井板種類 | K11: 内装なし | M11: 排水 | O11: 種 別 | Q11: 円形水路 | T11: 警報設備 | U11: 非常警報設備 | Y11: - | Z11: *
B12: 土かぶり | E12: 0 | G12: m | H12: 坑門 | I12: 起点 | J12: 形式 | K12: 面壁型 | O12: 更新年次 | T12: 消火設備 | U12: 消 火 器 | Y12: - | Z12: *
B13: 内空断面積 | G13: m2 | J13: 延長 | K13: 0 | L13: m | M13: 施設 | P13: 種別・方式 | Q13: 個数 | R13: 更新年次 | U13: 消火栓設備 | Y13: - | Z13: *
B14: 交 通 量 | E14: 2872 | G14: 台/日 | I14: 終点 | J14: 形式 | K14: 面壁型 | M14: 道路附属物等 | N14: 照明 | P14: 低圧ﾅﾄﾘｳﾑﾗﾝﾌﾟ | Q14: 64 | T14: 避難誘導設備 | U14: 誘導表示設備 | Y14: - | Z14: *
C15: 道 路 幅 | E15: 9.25 | G15: m | J15: 延長 | K15: 0 | L15: m | N15: 換気 | P15: 自然換気 | U15: 避難情報提供設備 | Y15: - | Z15: *
B16: 幅 員 | C16: 車 道 幅 | E16: 3 | G16: m | H16: 竣工巻厚 | I16: アーチ | K16: 30 | L16: cm | N16: 標識 | P16: ＊ | Y16: - | Z16: *
E17: 3 | G17: m | I17: 側 壁 | L17: cm | N17: 警報表示板 | P17: ＊ | U17: 避難通路 | Y17: - | Z17: *
C18: 歩道等幅 | E18: 2.25 | G18: m | L18: cm | N18: 吸音板 | P18: ＊ | U18: 排煙設備 | Y18: - | Z18: *
B19: 高さ | C19: 建築限界高 | E19: 4.5 | G19: m | I19: インバート | K19: 50 | L19: cm | T19: その他の設備 | U19: 給水栓設備 | Y19: - | Z19: *
C20: 中央高 | E20: 6.1 | G20: m | H20: 半径 | I20: アーチ | L20: cm | U20: 無線通信補助設備 | Y20: - | Z20: *
C21: 有効高 | E21: 4.5 | G21: m | I21: 側 壁 | L21: cm | U21: 水噴霧設備 | Y21: - | Z21: *
C22: 縦断勾配 | E22: 0 | I22: インバート | L22: cm | U22: 監視設備 | Y22: - | Z22: *
B23: 線 形 | C23: 直線区間長 | E23: 0 | H23: 占用物件 | I23: 種 類 | K23: 寸 法 | M23: 管理者名 | Q23: 更新年次 | S23: 非常用施設 関連設備 | U23: 予備発電設備 | Y23: - | Z23: *
C24: 曲線区間 | D24: 区間長
D25: 起点側ｸﾛｿｲﾄﾞ
D26: 曲線半径
D27: 終点側ｸﾛｿｲﾄﾞ | S27: その他 | U27: 非常駐車帯 | Y27: - | Z27: *
B28: トンネル工法 | E28: 山岳トンネル工法（NATM） | U28: 方向転換所 | Y28: - | Z28: *
C29: ※緯度・経度については、十進緯度経度小数第５位で記入すること。

Sheet 様式A-2
B3: ■トンネル台帳 トンネル情報一覧表 【様式A-2】
B4: フリガナ | E4: ='様式A-1'!D3 -> ナカヤマトンネル | J4: 路線名 | M4: ='様式A-1'!J3 -> 主要地方道柳井周東線 | S4: 作成者 | Y4: ='様式A-1'!K5 -> 株式会社 長大 鷲尾 寛 | AE4: 作成年月日 | AI4: ='様式A-1'!R5 -> 46080
B5: 名 称 | E5: ='様式A-1'!D4 -> 中山トンネル | J5: 管理者名 | M5: ='様式A-1'!R3 -> 山口県 岩国土木建築事務所
B6: 覆工 ｽﾊﾟﾝ 番号 | C6: ｽﾊﾟﾝ長 | D6: 追加距離 | F6: トンネル本体工 | K6: 照明施設 | O6: 非常用施設 | AE6: 換気施設 | AK6: その他附属物等
O7: 通報設備 | R7: 警報設備 | S7: 消火設備 | U7: 避難誘導設備 | Y7: その他の設備 | AC7: 特記事項
D8: 起点側 | E8: 終点側 | F8: 特記事項 | I8: 内装板 | J8: 天井板 | K8: 基本照明 | L8: 入口出口照明 | M8: 特記事項 | O8: 通話型通報設備 | P8: 操作型通報設備 | Q8: 自動通報設備 | R8: 非常警報設備 | S8: 消 火 器 | T8: 消火栓設備 | U8: 誘導表示設備 | V8: 避難情報提供設備 | W8: 避難通路 | X8: 排煙設備 | Y8: 給水栓設備 | Z8: 無線通信補助設備 | AA8: 水噴霧設備 | AB8: 監視設備 | AE8: JF | AF8: VI計 | AG8: CO計 | AH8: 風向 風速計 | AI8: 特記事項
C9: (m) | D9: (m) | E9: (m)
B10: PS | C10: 8.7 | D10: 0 | E10: 8.7 | K10: ○ | AK10: 坑口表示板
B11: S001 | C11: 10.5 | D11: 8.7 | E11: 19.2 | K11: ○
B12: S002 | C12: 10.5 | D12: 19.2 | E12: 29.7 | K12: ○
B13: S003 | C13: 10.5 | D13: 29.7 | E13: 40.2 | K13: ○
B14: S004 | C14: 10.5 | D14: 40.2 | E14: 50.7 | K14: ○
B15: S005 | C15: 10.5 | D15: 50.7 | E15: 61.2 | K15: ○
B16: S006 | C16: 10.5 | D16: 61.2 | E16: 71.7 | K16: ○
B17: S007 | C17: 10.45 | D17: 71.7 | E17: 82.15 | K17: ○
B18: S008 | C18: 10.5 | D18: 82.15 | E18: 92.65 | K18: ○
B19: S009 | C19: 10.5 | D19: 92.65 | E19: 103.15 | K19: ○
B20: S010 | C20: 10.5 | D20: 103.15 | E20: 113.65 | K20: ○
B21: PE | C21: 10.8 | D21: 113.65 | E21: 124.45 | K21: ○ | AK21: 坑口表示板
B42: ※ 行が不足する場合は、適時、表の行を増やすこと。

Sheet 様式A-3
B3: ■トンネル台帳 トンネル記録（位置図、断面図、施工実績他）【様式A-3】
B4: フリガナ | E4: ='様式A-1'!D3 -> ナカヤマトンネル | J4: 路線名 | M4: ='様式A-1'!J3 -> 主要地方道柳井周東線 | S4: 作成者 | W4: ='様式A-1'!K5 -> 株式会社 長大 鷲尾 寛 | AC4: 作成年月日 | AF4: ='様式A-1'!R5 -> 46080
B5: 名 称 | E5: ='様式A-1'!D4 -> 中山トンネル | J5: 管理者名 | M5: ='様式A-1'!R3 -> 山口県 岩国土木建築事務所
B6: 位置図・現況写真・標準断面図・地質縦断図・施工実績

Sheet 様式B (1)
B2: ■定期点検記録様式 トンネル変状・異常箇所写真位置図 【様式B】 | N2: 定期点検年月日 | P2: 45917 | S2: 施設ID | V2: 34.03558,132.05172
B3: フリガナ | C3: ナカヤマトンネル | G3: 路線名 | H3: 主要地方道柳井周東線 | K3: 管理者名 | L3: 岩国土木建築事務所 | Q3: 定期点検実施者 | S3: 株式会社長大 | V3: 起点 | W3: 緯度 | X3: 34.05178
B4: 名 称 | C4: 中山トンネル | S4: 鷲尾 寛 | W4: 経度 | X4: 132.06775
B5: 所在地 | C5: 自 | D5: 山口県岩国市周東町中山地先 | G5: トンネル工法 | I5: 矢板工法 | L5: トンネル延長 | N5: L= | O5: 122 | P5: ｍ | Q5: 自専道 or 一般道 | R5: 一般 | S5: 代替路の有無 | U5: 無 | V5: 終点 | W5: 緯度 | X5: 34.05132
C6: 至 | D6: 山口県岩国市周東町中山地先 | G6: 建設年度 | I6: 1990年 | L6: 幅員 | N6: L= | O6: 9.25 | P6: ｍ | S6: 緊急輸送道路 | U6: 指定なし | W6: 経度 | X6: 132.06744
B7: トンネル毎 の健全性の 診断の区分 | D7: Ⅱ
G8: 変状・異常 箇所数合計 | I8: トンネル本体工 | J8: 材質劣化 | K8: Ⅱ | L8: 143 | N8: Ⅲ | O8: 0 | Q8: Ⅳ | R8: 0 | T8: 附属物等 の取付状態 | V8: ◯ （応急措置後) | X8: 0
J9: 漏水 | K9: Ⅱ | L9: 4 | N9: Ⅲ | O9: 0 | Q9: Ⅳ | R9: 0
V10: ✕ | X10: 15
J11: 外力 | K11: Ⅱ | L11: 0 | N11: Ⅲ | O11: 0 | Q11: Ⅳ | R11: 0
B12: トンネル変状・異常箇所写真位置図
J29: 注１：本位置図は、見下げた状態で記載すること。 注２：覆工スパン番号は横断目地毎(矢板工法の場合は上半アーチの 横断目地毎)に設定すること。 | Q29: 注３：写真番号に付する変状番号は、各覆工スパンの変状に対して新たに確認された場合 は順次追加していくこと。 注４：横断目地の変状は前の覆工スパン番号で計上すること。 注５：１枚に収まらない場合は、複数枚に分けて作成すること。
C30: ※1 トンネル本体工の変状数は、材質劣化、漏水に起因するものは変状単位で、外力に起因するものはスパン単位で計上すること。
C31: ※2 トンネル本体工の変状に対しては、措置の必要性（Ⅱ～Ⅳ）について表記すること。また、点検前に実施された措置によりⅠと判定された箇所についても記載すること。
C32: ※3 附属物等の取付状態の○欄については、応急措置前に判定区分×とした箇所のうち応急措置により○判定とした箇所の数を記入すること。
C33: ※4 附属物等の異常番号は、本体工と番号が重複しないよう101番以降とする等の配慮を行い、分かりやすく記録すること。

Sheet 様式B (2)
B2: ■定期点検記録様式 トンネル変状・異常箇所写真位置図 【様式B】 | N2: 定期点検年月日 | P2: 45917 | S2: 施設ID | V2: 34.03558,132.05172
B3: フリガナ | C3: ナカヤマトンネル | G3: 路線名 | H3: 主要地方道柳井周東線 | K3: 管理者名 | L3: 岩国土木建築事務所 | Q3: 定期点検実施者 | S3: 株式会社長大 | V3: 起点 | W3: 緯度 | X3: 34.05178
B4: 名 称 | C4: 中山トンネル | S4: 鷲尾 寛 | W4: 経度 | X4: 132.06775
B5: 所在地 | C5: 自 | D5: 山口県岩国市周東町中山地先 | G5: トンネル工法 | I5: 矢板工法 | L5: トンネル延長 | N5: L= | O5: 122 | P5: ｍ | Q5: 自専道 or 一般道 | R5: 一般 | S5: 代替路の有無 | U5: 無 | V5: 終点 | W5: 緯度 | X5: 34.05132
C6: 至 | D6: 山口県岩国市周東町中山地先 | G6: 建設年度 | I6: 1990年 | L6: 幅員 | N6: L= | O6: 9.25 | P6: ｍ | S6: 緊急輸送道路 | U6: 指定なし | W6: 経度 | X6: 132.06744
B7: トンネル毎 の健全性の 診断の区分 | D7: Ⅱ
G8: 変状・異常 箇所数合計 | I8: トンネル本体工 | J8: 材質劣化 | K8: Ⅱ | L8: 143 | N8: Ⅲ | O8: 0 | Q8: Ⅳ | R8: 0 | T8: 附属物等 の取付状態 | V8: ◯ （応急措置後) | X8: 0
J9: 漏水 | K9: Ⅱ | L9: 4 | N9: Ⅲ | O9: 0 | Q9: Ⅳ | R9: 0
V10: ✕ | X10: 15
J11: 外力 | K11: Ⅱ | L11: 0 | N11: Ⅲ | O11: 0 | Q11: Ⅳ | R11: 0
B12: トンネル変状・異常箇所写真位置図
J29: 注１：本位置図は、見下げた状態で記載すること。 注２：覆工スパン番号は横断目地毎(矢板工法の場合は上半アーチの 横断目地毎)に設定すること。 | Q29: 注３：写真番号に付する変状番号は、各覆工スパンの変状に対して新たに確認された場合 は順次追加していくこと。 注４：横断目地の変状は前の覆工スパン番号で計上すること。 注５：１枚に収まらない場合は、複数枚に分けて作成すること。
C30: ※1 トンネル本体工の変状数は、材質劣化、漏水に起因するものは変状単位で、外力に起因するものはスパン単位で計上すること。
C31: ※2 トンネル本体工の変状に対しては、措置の必要性（Ⅱ～Ⅳ）について表記すること。また、点検前に実施された措置によりⅠと判定された箇所についても記載すること。
C32: ※3 附属物等の取付状態の○欄については、応急措置前に判定区分×とした箇所のうち応急措置により○判定とした箇所の数を記入すること。
C33: ※4 附属物等の異常番号は、本体工と番号が重複しないよう101番以降とする等の配慮を行い、分かりやすく記録すること。

Sheet 様式C-1-1
B2: ■定期点検記録様式 全スパン定期点検結果総括表（トンネル本体工） 【様式C-1-1】
B3: フリガナ | F3: ナカヤマトンネル | I3: 路線名 | K3: 主要地方道柳井周東線 | O3: 定期点検実施者 | P3: 株式会社長大 | T3: 定期点検年月日 | X3: 45917
B4: 名 称 | F4: 中山トンネル | I4: 管理者名 | K4: 岩国土木建築事務所 | P4: 鷲尾 寛
C5: 覆工 スパン 番号 | E5: 変状 番号 | F5: 距離 （m） | G5: 変状部位 | I5: 変 状 の 内 容 | O5: 前回定期点検時の状態 | P5: 今回定期点検結果 | T5: 措置履歴 | Y5: 対応方針 ・ 特記事項
O6: 44029
G7: 対象箇所 | H7: 部位区分 | I7: 変状区分 | J7: 変状種類 | M7: 変状の発生範囲の規模 | N7: 前回定期点検時の変状の発生範囲及び規模 | O7: 対策区分 | P7: 対策区分 | R7: 調査の 要否 | S7: 措置の 要否 | T7: 実施 | U7: 措置の実施状況
P8: 応急措置前 | Q8: 応急措置後
B9: 定期点検結果 | C9: PS | E9: 2 | F9: 8.7 | G9: 覆工 | H9: 横断目地（左側） | I9: 材質劣化 | J9: 補修・補強材の破損 | M9: 0.16m2 | N9: 0.16m2 | O9: Ⅱb | Q9: Ⅱb | R9: 否 | S9: 要監視 | T9: 継続 | U9: 監視(日常巡視) | Y9: 監視
C10: PS | E10: 9 | F10: 8.7 | G10: 覆工 | H10: 横断目地（天端） | I10: 材質劣化 | J10: 補修・補強材の破損 | M10: 0.01m2 | N10: 0.01m2 | O10: Ⅱa | Q10: Ⅱb | R10: 否 | S10: 要監視 | T10: － | U10: － | Y10: 監視
C11: PS | E11: 17 | F11: 4.8 | G11: 覆工 | H11: アーチ（左側） | I11: 材質劣化 | J11: 圧ざ、ひび割れ | M11: 長さ6.70m×幅0.30mm | N11: 0.3mm,L=6.3m | O11: Ⅱb | Q11: Ⅱb | R11: 否 | S11: 要監視 | T11: 継続 | U11: 監視(日常巡視) | Y11: 監視
C12: PS | E12: 26 | F12: 0.4 | G12: 覆工 | H12: アーチ（左側） | I12: 材質劣化 | J12: 鋼材腐食 | M12: 0.01m2 | N12: 0.01m2 | O12: Ⅱb | Q12: Ⅱb | R12: 否 | S12: 要監視 | T12: 継続 | U12: 監視(日常巡視) | Y12: 監視
C13: PS | E13: 51 | F13: 0.6 | G13: 覆工 | H13: 水平打ち継ぎ目（左側） | I13: 材質劣化 | J13: うき・はく離 | M13: 0.08m2 | N13: 0.08m2 | O13: Ⅱa | Q13: Ⅱb | R13: 否 | S13: 要監視 | T13: － | U13: － | Y13: 監視
C14: PS | E14: 52 | F14: 5 | G14: 覆工 | H14: 水平打ち継ぎ目（左側） | I14: 材質劣化 | J14: うき・はく離 | M14: 0.75m2 | N14: 0.75m2 | O14: Ⅱa | Q14: Ⅱb | R14: 否 | S14: 要監視 | T14: － | U14: － | Y14: 監視
C15: PS | E15: 53 | F15: 5.3 | G15: 覆工 | H15: 水平打ち継ぎ目（右側） | I15: 材質劣化 | J15: うき・はく離 | M15: 0.50m2 | N15: 0.51m2 | O15: Ⅱa | Q15: Ⅱb | R15: 否 | S15: 要監視 | T15: － | U15: － | Y15: 監視
C16: PS | E16: 56 | F16: 0 | G16: 坑門 | H16: 面壁・妻壁等 | I16: 材質劣化 | J16: うき・はく離 | M16: 0.01m2 | N16: － | O16: － | Q16: Ⅱb | R16: 否 | S16: 要監視 | T16: － | U16: － | Y16: 監視
C17: PS | E17: 57 | F17: 8.7 | G17: 覆工 | H17: 横断目地（右側） | I17: 材質劣化 | J17: 補修・補強材の破損 | M17: 0.01m2 | N17: － | O17: － | Q17: Ⅱb | R17: 否 | S17: 要監視 | T17: － | U17: － | Y17: 監視
C18: PS | E18: 58 | F18: 1.9 | G18: 路面 | H18: 側溝 | J18: その他 | M18: 5箇所 | N18: － | O18: － | R18: 否 | S18: 否 | T18: － | U18: －
C19: S001 | E19: 36 | F19: 9.4 | G19: 覆工 | H19: アーチ（右側） | I19: 材質劣化 | J19: 鋼材腐食 | M19: 0.02m2 | N19: 0.02m2 | O19: Ⅱb | Q19: Ⅱb | R19: 否 | S19: 要監視 | T19: 継続 | U19: 監視(日常巡視) | Y19: 監視
C20: S001 | E20: 37 | F20: 19.1 | G20: 覆工 | H20: 横断目地（天端） | I20: 材質劣化 | J20: うき・はく離 | M20: 0.06m2 | N20: 0.6mm,L=0.8m | O20: Ⅱa | Q20: Ⅱa | R20: 否 | S20: 要対策 | T20: － | U20: － | Y20: はく落防止対策工
C21: S001 | E21: 38 | F21: 14.4 | G21: 覆工 | H21: 水平打ち継ぎ目（左側） | I21: 材質劣化 | J21: うき・はく離 | M21: 1.05m2 | N21: 1.05m2 | O21: Ⅱa | Q21: Ⅱb | R21: 否 | S21: 要監視 | T21: － | U21: － | Y21: 監視
C22: S001 | E22: 39 | F22: 9.5 | G22: 覆工 | H22: 側壁（左側） | I22: 材質劣化 | J22: うき・はく離 | M22: 0.06m2 | N22: 0.06m2 | O22: Ⅱb | Q22: Ⅱb | R22: 否 | S22: 要監視 | T22: 継続 | U22: 監視(日常巡視) | Y22: 監視
C23: S001 | E23: 40 | F23: 10.3 | G23: 覆工 | H23: 側壁（左側） | I23: 材質劣化 | J23: うき・はく離 | M23: 0.10m2 | N23: 0.03m2 | O23: Ⅱb | Q23: Ⅱb | R23: 否 | S23: 要監視 | T23: 継続 | U23: 監視(日常巡視) | Y23: 監視
C24: S001 | E24: 43 | F24: 17.6 | G24: 覆工 | H24: 側壁（左側） | I24: 材質劣化 | J24: うき・はく離 | M24: 0.03m2 | N24: 0.03m2 | O24: Ⅱb | Q24: Ⅱb | R24: 否 | S24: 要監視 | T24: 継続 | U24: 監視(日常巡視) | Y24: 監視
C25: S001 | E25: 44 | F25: 13.7 | G25: 覆工 | H25: 水平打ち継ぎ目（右側） | I25: 材質劣化 | J25: うき・はく離 | M25: 0.66m2 | N25: 0.66m2 | O25: Ⅱb | Q25: Ⅱb | R25: 否 | S25: 要監視 | T25: 継続 | U25: 監視(日常巡視) | Y25: 監視
C26: S001 | E26: 45 | F26: 13.5 | G26: 路面 | H26: 側溝 | J26: その他 | M26: 14箇所 | N26: － | O26: Ⅱb | R26: 否 | S26: 否 | T26: － | U26: －
C27: S001 | E27: 47 | F27: 10.2 | G27: 覆工 | H27: 側壁（右側） | I27: 材質劣化 | J27: 補修・補強材の破損 | M27: 0.02m2 | N27: － | O27: － | Q27: Ⅱb | R27: 否 | S27: 要監視 | T27: － | U27: － | Y27: 監視
C28: S001 | E28: 48 | F28: 18.1 | G28: 覆工 | H28: 水平打ち継ぎ目（右側） | I28: 材質劣化 | J28: うき・はく離 | M28: 0.22m2 | N28: 0.50m2 | O28: Ⅱa | Q28: Ⅱb | R28: 否 | S28: 要監視 | T28: － | U28: － | Y28: 監視
C29: S002 | E29: 1 | F29: 19.9 | G29: 覆工 | H29: アーチ（左側） | I29: 材質劣化 | J29: 圧ざ、ひび割れ | M29: 長さ10.80m×幅0.40mm | N29: 0.4mm,L=10.5m | O29: Ⅱb | Q29: Ⅱb | R29: 否 | S29: 要監視 | T29: 継続 | U29: 監視(日常巡視) | Y29: 監視
C30: S002 | E30: 8 | F30: 20 | G30: 覆工 | H30: アーチ（天端） | I30: 材質劣化 | J30: うき・はく離 | M30: 0.02m2 | N30: 0.02m2 | O30: Ⅱb | Q30: Ⅱb | R30: 否 | S30: 要監視 | T30: 継続 | U30: 監視(日常巡視) | Y30: 監視
C31: S002 | E31: 13 | F31: 25.4 | G31: 覆工 | H31: アーチ（天端） | I31: 材質劣化 | J31: うき・はく離 | M31: 0.03m2 | N31: 0.01m2 | O31: Ⅱb | Q31: Ⅱa | R31: 否 | S31: 要対策 | T31: 継続 | U31: 監視(日常巡視) | Y31: はく落防止対策工
C32: S002 | E32: 28 | F32: 24.5 | G32: 覆工 | H32: 水平打ち継ぎ目（左側） | I32: 材質劣化 | J32: うき・はく離 | M32: 1.05m2 | N32: 1.05m2 | O32: Ⅱa | Q32: Ⅱb | R32: 否 | S32: 要監視 | T32: － | U32: － | Y32: 監視
C33: S002 | E33: 32 | F33: 20.6 | G33: 覆工 | H33: 水平打ち継ぎ目（右側） | I33: 材質劣化 | J33: うき・はく離 | M33: 0.28m2 | N33: 0.50m2 | O33: Ⅱa | Q33: Ⅱb | R33: 否 | S33: 要監視 | T33: － | U33: － | Y33: 監視
C34: S002 | E34: 33 | F34: 26 | G34: 覆工 | H34: 水平打ち継ぎ目（右側） | I34: 材質劣化 | J34: うき・はく離 | M34: 0.48m2 | N34: 0.49m2 | O34: Ⅱa | Q34: Ⅱb | R34: 否 | S34: 要監視 | T34: － | U34: － | Y34: 監視
C35: S002 | E35: 36 | F35: 29.7 | G35: 覆工 | H35: 横断目地（右側） | I35: 材質劣化 | J35: 補修・補強材の破損 | M35: 0.03m2 | N35: － | O35: － | Q35: Ⅱb | R35: 否 | S35: 要監視 | T35: － | U35: － | Y35: 監視
C36: S002 | E36: 37 | F36: 21.2 | G36: 路面 | H36: 側溝 | J36: その他 | M36: 3箇所 | N36: － | O36: － | R36: 否 | S36: 否 | T36: － | U36: －
C37: S003 | E37: 8 | F37: 37.1 | G37: 覆工 | H37: アーチ（左側） | I37: 材質劣化 | J37: うき・はく離 | M37: 0.01m2 | N37: 0.01m2 | O37: Ⅱa | Q37: Ⅱa | R37: 否 | S37: 要対策 | T37: － | U37: － | Y37: はく落防止対策工
C38: S003 | E38: 10 | F38: 40.2 | G38: 覆工 | H38: 横断目地（天端） | I38: 材質劣化 | J38: うき・はく離 | M38: 0.15m2 | N38: 0.15m2 | O38: Ⅱb | Q38: Ⅱb | R38: 否 | S38: 要監視 | T38: 継続 | U38: 監視(日常巡視) | Y38: 監視
C39: S003 | E39: 29 | F39: 34.7 | G39: 覆工 | H39: 水平打ち継ぎ目（左側） | I39: 材質劣化 | J39: うき・はく離 | M39: 0.20m2 | N39: 0.15m2 | O39: Ⅱb | Q39: Ⅱb | R39: 否 | S39: 要監視 | T39: 継続 | U39: 監視(日常巡視) | Y39: 監視
C40: S003 | E40: 30 | F40: 38.6 | G40: 覆工 | H40: 側壁（左側） | I40: 材質劣化 | J40: うき・はく離 | M40: 0.10m2 | N40: 0.10m2 | O40: Ⅱb | Q40: Ⅱb | R40: 否 | S40: 要監視 | T40: 継続 | U40: 監視(日常巡視) | Y40: 監視
C41: S003 | E41: 31 | F41: 35.8 | G41: 覆工 | H41: 側壁（左側） | I41: 材質劣化 | J41: うき・はく離 | M41: 0.15m2 | N41: 0.09m2 | O41: Ⅱb | Q41: Ⅱb | R41: 否 | S41: 要監視 | T41: 継続 | U41: 監視(日常巡視) | Y41: 監視
...

Sheet 様式C-1-2
B2: ■定期点検記録様式 定期点検結果総括表（トンネル内附属物等の取付状態） 【様式C-1-2】
B3: フリガナ | F3: ナカヤマトンネル | J3: 路線名 | K3: 主要地方道柳井周東線 | M3: 定期点検実施者 | O3: 株式会社長大 | S3: 定期点検年月日 | W3: 45917
B4: 名 称 | F4: 中山トンネル | J4: 管理者名 | K4: 岩国土木建築事務所 | O4: 鷲尾 寛
B5: 定期点検結果 | C5: 覆工 スパン 番号 | E5: 異常 番号 | F5: 距離 （m） | G5: 異常部位 | J5: 異 常 の 内 容 | N5: 定期点検結果 | P5: 応急措置の 実施状況 | V5: 対応方針 ・ 特記事項
G6: 対象箇所 | I6: 部位区分 | J6: 異常種類 | L6: 異常の発生範囲の規模 | N6: 異常判定区分 | P6: 実施 | Q6: 応急措置の内容
N7: 応急措置前 | O7: 応急措置後
C8: PS | E8: 1 | F8: 0.8 | G8: その他施設 | H8: その他 | I8: 附属物本体 | J8: 変形，欠損 | L8: 1箇所 | O8: × | V8: 交換
C9: PS | E9: 2 | F9: 6.5 | G9: 照明施設 | H9: 灯具 | I9: 附属物本体 | J9: 腐食 | L9: 1箇所 | O9: × | V9: 交換
C10: PS | E10: 3 | F10: 8.5 | G10: 照明施設 | H10: 灯具 | I10: 附属物本体 | J10: 腐食 | L10: 1箇所 | O10: × | V10: 交換
C11: PS | E11: 4 | F11: 8.5 | G11: 照明施設 | H11: 灯具 | I11: 附属物本体 | J11: 腐食 | L11: 1箇所 | O11: × | V11: 交換
C12: S001 | E12: 1 | F12: 17.5 | G12: その他施設 | H12: その他 | I12: 附属物本体 | J12: 変形，欠損 | L12: 1箇所 | O12: × | V12: 交換
C13: S001 | E13: 2 | F13: 12.7 | G13: 照明施設 | H13: 灯具 | I13: 附属物本体 | J13: 腐食 | L13: 1箇所 | O13: × | V13: 交換
C14: S001 | E14: 3 | F14: 16.8 | G14: 照明施設 | H14: 灯具 | I14: 附属物本体 | J14: 腐食 | L14: 1箇所 | O14: × | V14: 交換
C15: S001 | E15: 4 | F15: 12.6 | G15: 照明施設 | H15: 灯具 | I15: 附属物本体 | J15: 腐食 | L15: 1箇所 | O15: × | V15: 交換
C16: S002 | E16: 1 | F16: 21 | G16: 照明施設 | H16: 灯具 | I16: 附属物本体 | J16: 腐食 | L16: 1箇所 | O16: × | V16: 交換
C17: S003 | E17: 1 | F17: 35.2 | G17: その他施設 | H17: その他 | I17: 附属物本体 | J17: 変形，欠損 | L17: 1箇所 | O17: × | V17: 交換
C18: S004 | E18: 1 | F18: 50 | G18: 照明施設 | H18: 灯具 | I18: 附属物本体 | J18: 腐食 | L18: 1箇所 | O18: × | V18: 交換
C19: S005 | E19: 1 | F19: 52.9 | G19: その他施設 | H19: その他 | I19: 附属物本体 | J19: 変形，欠損 | L19: 1箇所 | O19: × | V19: 交換
... C22: PE | E22: 1 | F22: 123.9 | G22: その他施設 | H22: その他 | I22: 附属物本体 | J22: 変形，欠損 | L22: 1箇所 | O22: × | V22: 交換
C42: ※ 異常判定区分×について記入すること。また、応急措置により○と判定された箇所も記入すること。
C43: ※ 応急措置を実施しないで判定した箇所の異常判定区分は、異常判定区分の応急措置後の欄に記入すること。
C44: ※ 異常の除去が不完全で、緊急対応が必要な場合は対応方針欄に記入すること。
C45: ※ １スパンの覆工に複数の異常がある場合は、異常箇所毎に記入すること。
C46: ※ 行が不足する場合は、適時、表の行を増やすこと。

Sheet 様式C-2
B2: ■定期点検記録様式 状態の把握の内容 【様式C-2】
B3: フリガナ | E3: ナカヤマトンネル | H3: 路線名 | J3: 主要地方道柳井周東線 | M3: 定期点検実施者 | Q3: 株式会社長大 | U3: 定期点検年月日 | X3: 45917
B4: 名 称 | E4: 中山トンネル | H4: 管理者名 | J4: 岩国土木建築事務所 | Q4: 鷲尾 寛
B5: 状態の把握の内容 | C5: 覆工スパン 番号 | E5: 変状 番号 | F5: 状態の把握の内容
F6: 年月日 | H6: 内容 | O6: 結果 | Y6: 対策区分の 判定
B22: 注）状態の把握において、微破壊・非破壊検査や各種試験等を実施した場合について記載する。
B23: ※ 行が不足する場合は、適時、表の行を増やすこと。

Sheet 様式D-1-1 (1)
B2: ■定期点検記録様式 変状写真台帳【様式D-1-1】 | R2: 施設ID | T2: 34.03558,132.05172
B3: フリガナ | E3: ナカヤマトンネル | H3: 路 線 名 | J3: 主要地方道柳井周東線 | M3: 定期点検実施者 | P3: 株式会社長大 | S3: 定期点検年月日 | U3: 45917
B4: 名 称 | E4: 中山トンネル | H4: 管理者名 | J4: 岩国土木建築事務所 | P4: 鷲尾 寛
B5: 写真 番号 | C5: 覆工スパン 番号 | E5: PS | M5: 写真 番号 | N5: 覆工スパン 番号 | P5: PS
C6: 変状番号 | E6: 2 | N6: 変状番号 | P6: 9
B7: 変状 部位 | C7: 対象箇所 | E7: 覆工 | M7: 変状 部位 | N7: 対象箇所 | P7: 覆工
C8: 部位区分 | E8: 横断目地（左側） | N8: 部位区分 | P8: 横断目地（天端）
B9: 変状種類 | E9: 補修・補強材の破損 | M9: 変状種類 | P9: 補修・補強材の破損
B10: 対策 区分 | C10: 変状区分 | E10: 材質劣化 | M10: 対策 区分 | N10: 変状区分 | P10: 材質劣化
C11: 応急措置前 | N11: 応急措置前
C12: 応急措置後 | E12: Ⅱb | N12: 応急措置後 | P12: Ⅱb
B13: 変状の発生範囲及び規模 | E13: 0.16m2(3.20m×0.05m) | H13: 前回変状の発生範囲及び規模 | J13: 0.05m×3.20m (判定Ⅱb) | M13: 変状の発生範囲及び規模 | P13: 0.01m2(0.20m×0.05m) | S13: 前回変状の発生範囲及び規模 | U13: 0.05m×0.20m (判定Ⅱa)
B14: 対策履歴 | E14: 監視(日常巡視) | H14: 実施状況（実施日） | J14: 継続 | M14: 対策履歴 | P14: － | S14: 実施状況（実施日） | U14: －
B15: メモ | E15: 横断目地部(アーチ左側)に線導水破損(漏水なし)。現状で利用者被害の可能性は低いため、監視にとどめる。 | M15: メモ | P15: 横断目地部(天端)に線導水破損(漏水なし)。現状で利用者被害の可能性は低いため、監視にとどめる。
B16: 写真 番号 | C16: 覆工スパン 番号 | E16: PS | M16: 写真 番号 | N16: 覆工スパン 番号 | P16: PS
C17: 変状番号 | E17: 17 | N17: 変状番号 | P17: 26
B18: 変状 部位 | C18: 対象箇所 | E18: 覆工 | M18: 変状 部位 | N18: 対象箇所 | P18: 覆工
C19: 部位区分 | E19: アーチ（左側） | N19: 部位区分 | P19: アーチ（左側）
B20: 変状種類 | E20: 圧ざ、ひび割れ | M20: 変状種類 | P20: 鋼材腐食
B21: 対策 区分 | C21: 変状区分 | E21: 材質劣化 | M21: 対策 区分 | N21: 変状区分 | P21: 材質劣化
C22: 応急措置前 | N22: 応急措置前
C23: 応急措置後 | E23: Ⅱb | N23: 応急措置後 | P23: Ⅱb
B24: 変状の発生範囲及び規模 | E24: 6.70m2(長さ6.70m×幅0.30mm) | H24: 前回変状の発生範囲及び規模 | J24: 0.3mm,L=6.3m (判定Ⅱb) | M24: 変状の発生範囲及び規模 | P24: 0.01m2(0.10m×0.05m) | S24: 前回変状の発生範囲及び規模 | U24: 0.10m×0.05m (判定Ⅱb)
B25: 対策履歴 | E25: 監視(日常巡視) | H25: 実施状況（実施日） | J25: 継続 | M25: 対策履歴 | P25: 監視(日常巡視) | S25: 実施状況（実施日） | U25: 継続
B26: メモ | E26: アーチ部(左側)に縦断方向のひび割れ。現状で利用者被害の可能性は低いため、監視にとどめる。 | M26: メモ | P26: アーチ部(左側)に鋼材露出。現状で利用者被害の可能性は低いため、監視にとどめる。
C27: ※ 応急措置後の対策区分について添付すること。また、点検前に 実施された措置によりⅠと判定された箇所も添付すること。 | N27: ※ 変状の発生範囲の規模とは、対策を行う際に参考となる変状の長さや面積をいう。
N28: ※ 応急措置を実施しないで決定した変状の対策区分は、対策区分の応急措置後の欄に記入すること。
C29: ※ たたき落としを実施した場合は、実施後の写真を添付すること。 | N29: ※ 変状の発生範囲の規模は、面積・寸法を記載すること。(ひび割れ幅のみmmとし、その他をm表記とする)
N30: ※ 構造用鋼材以外の異物に伴ううき・はく離については、メモ欄に異物の概要を記入すること。

Sheet 様式D-1-1 (2)
B2: ■定期点検記録様式 変状写真台帳【様式D-1-1】 | R2: 施設ID | T2: 34.03558,132.05172
B3: フリガナ | E3: ナカヤマトンネル | H3: 路 線 名 | J3: 主要地方道柳井周東線 | M3: 定期点検実施者 | P3: 株式会社長大 | S3: 定期点検年月日 | U3: 45917
B4: 名 称 | E4: 中山トンネル | H4: 管理者名 | J4: 岩国土木建築事務所 | P4: 鷲尾 寛
B5: 写真 番号 | C5: 覆工スパン 番号 | E5: PS | M5: 写真 番号 | N5: 覆工スパン 番号 | P5: PS
C6: 変状番号 | E6: 51 | N6: 変状番号 | P6: 52
B7: 変状 部位 | C7: 対象箇所 | E7: 覆工 | M7: 変状 部位 | N7: 対象箇所 | P7: 覆工
C8: 部位区分 | E8: 水平打ち継ぎ目（左側） | N8: 部位区分 | P8: 水平打ち継ぎ目（左側）
B9: 変状種類 | E9: うき・はく離 | M9: 変状種類 | P9: うき・はく離
B10: 対策 区分 | C10: 変状区分 | E10: 材質劣化 | M10: 対策 区分 | N10: 変状区分 | P10: 材質劣化
C11: 応急措置前 | N11: 応急措置前
C12: 応急措置後 | E12: Ⅱb | N12: 応急措置後 | P12: Ⅱb
B13: 変状の発生範囲及び規模 | E13: 0.08m2(0.10m×0.80m) | H13: 前回変状の発生範囲及び規模 | J13: 0.80m×0.10m (判定Ⅱa) | M13: 変状の発生範囲及び規模 | P13: 0.75m2(0.10m×7.50m) | S13: 前回変状の発生範囲及び規模 | U13: 7.50m×0.10m (判定Ⅱa)
B14: 対策履歴 | E14: － | H14: 実施状況（実施日） | J14: － | M14: 対策履歴 | P14: － | S14: 実施状況（実施日） | U14: －
B15: メモ | E15: 水平打ち継ぎ目(左側)沿いにうき。現状で利用者被害の可能性は低いため、監視にとどめる。※打音異常無し | M15: メモ | P15: 水平打ち継ぎ目(左側)沿いにうき。現状で利用者被害の可能性は低いため、監視にとどめる。 ※打音異常無し
B16: 写真 番号 | C16: 覆工スパン 番号 | E16: PS | M16: 写真 番号 | N16: 覆工スパン 番号 | P16: PS
C17: 変状番号 | E17: 53 | N17: 変状番号 | P17: 56
B18: 変状 部位 | C18: 対象箇所 | E18: 覆工 | M18: 変状 部位 | N18: 対象箇所 | P18: 坑門
C19: 部位区分 | E19: 水平打ち継ぎ目（右側） | N19: 部位区分 | P19: 面壁・妻壁等
B20: 変状種類 | E20: うき・はく離 | M20: 変状種類 | P20: うき・はく離
B21: 対策 区分 | C21: 変状区分 | E21: 材質劣化 | M21: 対策 区分 | N21: 変状区分 | P21: 材質劣化
C22: 応急措置前 | N22: 応急措置前
C23: 応急措置後 | E23: Ⅱb | N23: 応急措置後 | P23: Ⅱb
B24: 変状の発生範囲及び規模 | E24: 0.50m2(0.10m×5.00m) | H24: 前回変状の発生範囲及び規模 | J24: 5.10m×0.10m (判定Ⅱa) | M24: 変状の発生範囲及び規模 | P24: 0.01m2(0.10m×0.10m) | S24: 前回変状の発生範囲及び規模 | U24: 今回新規変状
B25: 対策履歴 | E25: － | H25: 実施状況（実施日） | J25: － | M25: 対策履歴 | P25: － | S25: 実施状況（実施日） | U25: －
B26: メモ | E26: 水平打ち継ぎ目(右側)沿いにうき。現状で利用者被害の可能性は低いため、監視にとどめる。 ※打音異常無し | M26: メモ | P26: 面壁にうき。新たに発生。現状で利用者被害の可能性は低いため、監視にとどめる。 ※打音異常無し
C27: ※ 応急措置後の対策区分について添付すること。また、点検前に 実施された措置によりⅠと判定された箇所も添付すること。 | N27: ※ 変状の発生範囲の規模とは、対策を行う際に参考となる変状の長さや面積をいう。
N28: ※ 応急措置を実施しないで決定した変状の対策区分は、対策区分の応急措置後の欄に記入すること。
C29: ※ たたき落としを実施した場合は、実施後の写真を添付すること。 | N29: ※ 変状の発生範囲の規模は、面積・寸法を記載すること。(ひび割れ幅のみmmとし、その他をm表記とする)
N30: ※ 構造用鋼材以外の異物に伴ううき・はく離については、メモ欄に異物の概要を記入すること。

Sheet 様式D-1-1 (3)
B2: ■定期点検記録様式 変状写真台帳【様式D-1-1】 | R2: 施設ID | T2: 34.03558,132.05172
B3: フリガナ | E3: ナカヤマトンネル | H3: 路 線 名 | J3: 主要地方道柳井周東線 | M3: 定期点検実施者 | P3: 株式会社長大 | S3: 定期点検年月日 | U3: 45917
B4: 名 称 | E4: 中山トンネル | H4: 管理者名 | J4: 岩国土木建築事務所 | P4: 鷲尾 寛
B5: 写真 番号 | C5: 覆工スパン 番号 | E5: PS | M5: 写真 番号 | N5: 覆工スパン 番号 | P5: PS
C6: 変状番号 | E6: 57 | N6: 変状番号 | P6: 58
B7: 変状 部位 | C7: 対象箇所 | E7: 覆工 | M7: 変状 部位 | N7: 対象箇所 | P7: 路面
C8: 部位区分 | E8: 横断目地（右側） | N8: 部位区分 | P8: 側溝
B9: 変状種類 | E9: 補修・補強材の破損 | M9: 変状種類 | P9: その他
B10: 対策 区分 | C10: 変状区分 | E10: 材質劣化 | M10: 対策 区分 | N10: 変状区分
C11: 応急措置前 | N11: 応急措置前
C12: 応急措置後 | E12: Ⅱb | N12: 応急措置後
B13: 変状の発生範囲及び規模 | E13: 0.01m2(0.05m×0.05m) | H13: 前回変状の発生範囲及び規模 | J13: 今回新規変状 | M13: 変状の発生範囲及び規模 | P13: 5箇所 | S13: 前回変状の発生範囲及び規模 | U13: 今回新規変状
B14: 対策履歴 | E14: － | H14: 実施状況（実施日） | J14: － | M14: 対策履歴 | P14: － | S14: 実施状況（実施日） | U14: －
B15: メモ | E15: 横断目地部(アーチ右側)に線導水破損(漏水なし)。新たに発生。現状で利用者被害の可能性は低いため、監視にとどめる。 | M15: メモ | P15: 側溝蓋破損。新たに発生。現状で利用者被害の可能性は低い。
B16: 写真 番号 | C16: 覆工スパン 番号 | E16: S001 | M16: 写真 番号 | N16: 覆工スパン 番号 | P16: S001
C17: 変状番号 | E17: 36 | N17: 変状番号 | P17: 37
B18: 変状 部位 | C18: 対象箇所 | E18: 覆工 | M18: 変状 部位 | N18: 対象箇所 | P18: 覆工
C19: 部位区分 | E19: アーチ（右側） | N19: 部位区分 | P19: 横断目地（天端）
B20: 変状種類 | E20: 鋼材腐食 | M20: 変状種類 | P20: うき・はく離
B21: 対策 区分 | C21: 変状区分 | E21: 材質劣化 | M21: 対策 区分 | N21: 変状区分 | P21: 材質劣化
C22: 応急措置前 | N22: 応急措置前
C23: 応急措置後 | E23: Ⅱb | N23: 応急措置後 | P23: Ⅱa
B24: 変状の発生範囲及び規模 | E24: 0.02m2(0.40m×0.05m) | H24: 前回変状の発生範囲及び規模 | J24: 0.40m×0.05m (判定Ⅱb) | M24: 変状の発生範囲及び規模 | P24: 0.06m2(0.60m×0.10m) | S24: 前回変状の発生範囲及び規模 | U24: 0.6mm,L=0.8m (判定Ⅱa)
B25: 対策履歴 | E25: 監視(日常巡視) | H25: 実施状況（実施日） | J25: 継続 | M25: 対策履歴 | P25: － | S25: 実施状況（実施日） | U25: －
B26: メモ | E26: アーチ部(右側)に鋼材露出。現状で利用者被害の可能性は低いため、監視にとどめる。 | M26: メモ | P26: 横断目地部(天端)にうき。将来的に利用者に影響が及ぶ可能性があるため、重点的な監視及び計画的な対策を必要とする。 ※打音異常無し
C27: ※ 応急措置後の対策区分について添付すること。また、点検前に 実施された措置によりⅠと判定された箇所も添付すること。 | N27: ※ 変状の発生範囲の規模とは、対策を行う際に参考となる変状の長さや面積をいう。
N28: ※ 応急措置を実施しないで決定した変状の対策区分は、対策区分の応急措置後の欄に記入すること。
C29: ※ たたき落としを実施した場合は、実施後の写真を添付すること。 | N29: ※ 変状の発生範囲の規模は、面積・寸法を記載すること。(ひび割れ幅のみmmとし、その他をm表記とする)
N30: ※ 構造用鋼材以外の異物に伴ううき・はく離については、メモ欄に異物の概要を記入すること。

Sheet 様式D-1-1 (4)
B2: ■定期点検記録様式 変状写真台帳【様式D-1-1】 | R2: 施設ID | T2: 34.03558,132.05172
B3: フリガナ | E3: ナカヤマトンネル | H3: 路 線 名 | J3: 主要地方道柳井周東線 | M3: 定期点検実施者 | P3: 株式会社長大 | S3: 定期点検年月日 | U3: 45917
B4: 名 称 | E4: 中山トンネル | H4: 管理者名 | J4: 岩国土木建築事務所 | P4: 鷲尾 寛
B5: 写真 番号 | C5: 覆工スパン 番号 | E5: S001 | M5: 写真 番号 | N5: 覆工スパン 番号 | P5: S001
C6: 変状番号 | E6: 38 | N6: 変状番号 | P6: 39
B7: 変状 部位 | C7: 対象箇所 | E7: 覆工 | M7: 変状 部位 | N7: 対象箇所 | P7: 覆工
C8: 部位区分 | E8: 水平打ち継ぎ目（左側） | N8: 部位区分 | P8: 側壁（左側）
B9: 変状種類 | E9: うき・はく離 | M9: 変状種類 | P9: うき・はく離
B10: 対策 区分 | C10: 変状区分 | E10: 材質劣化 | M10: 対策 区分 | N10: 変状区分 | P10: 材質劣化
C11: 応急措置前 | N11: 応急措置前
C12: 応急措置後 | E12: Ⅱb | N12: 応急措置後 | P12: Ⅱb
B13: 変状の発生範囲及び規模 | E13: 1.05m2(0.10m×10.50m) | H13: 前回変状の発生範囲及び規模 | J13: 10.50m×0.10m (判定Ⅱa) | M13: 変状の発生範囲及び規模 | P13: 0.06m2(0.05m×1.10m) | S13: 前回変状の発生範囲及び規模 | U13: 1.10m×0.05m (判定Ⅱb)
B14: 対策履歴 | E14: － | H14: 実施状況（実施日） | J14: － | M14: 対策履歴 | P14: 監視(日常巡視) | S14: 実施状況（実施日） | U14: 継続
B15: メモ | E15: 水平打ち継ぎ目(左側)沿いにうき。現状で利用者被害の可能性は低いため、監視にとどめる。 ※打音異常無し | M15: メモ | P15: 側壁部(左側)に豆板。現状で利用者被害の可能性は低いため、監視にとどめる。 ※打音異常無し
B16: 写真 番号 | C16: 覆工スパン 番号 | E16: S001 | M16: 写真 番号 | N16: 覆工スパン 番号 | P16: S001
C17: 変状番号 | E17: 40 | N17: 変状番号 | P17: 43
B18: 変状 部位 | C18: 対象箇所 | E18: 覆工 | M18: 変状 部位 | N18: 対象箇所 | P18: 覆工
C19: 部位区分 | E19: 側壁（左側） | N19: 部位区分 | P19: 側壁（左側）
B20: 変状種類 | E20: うき・はく離 | M20: 変状種類 | P20: うき・はく離
B21: 対策 区分 | C21: 変状区分 | E21: 材質劣化 | M21: 対策 区分 | N21: 変状区分 | P21: 材質劣化
C22: 応急措置前 | N22: 応急措置前
C23: 応急措置後 | E23: Ⅱb | N23: 応急措置後 | P23: Ⅱb
B24: 変状の発生範囲及び規模 | E24: 0.10m2(2.00m×0.05m) | H24: 前回変状の発生範囲及び規模 | J24: 0.05m×0.50m (判定Ⅱb) | M24: 変状の発生範囲及び規模 | P24: 0.03m2(0.50m×0.05m) | S24: 前回変状の発生範囲及び規模 | U24: 0.05m×0.50m (判定Ⅱb)
B25: 対策履歴 | E25: 監視(日常巡視) | H25: 実施状況（実施日） | J25: 継続 | M25: 対策履歴 | P25: 監視(日常巡視) | S25: 実施状況（実施日） | U25: 継続
B26: メモ | E26: 側壁部(左側)にうき。拡大。現状で利用者被害の可能性は低いため、監視にとどめる。 ※打音異常無し | M26: メモ | P26: 側壁部(左側)にうき。現状で利用者被害の可能性は低いため、監視にとどめる。 ※打音異常無し
C27: ※ 応急措置後の対策区分について添付すること。また、点検前に 実施された措置によりⅠと判定された箇所も添付すること。 | N27: ※ 変状の発生範囲の規模とは、対策を行う際に参考となる変状の長さや面積をいう。
N28: ※ 応急措置を実施しないで決定した変状の対策区分は、対策区分の応急措置後の欄に記入すること。
C29: ※ たたき落としを実施した場合は、実施後の写真を添付すること。 | N29: ※ 変状の発生範囲の規模は、面積・寸法を記載すること。(ひび割れ幅のみmmとし、その他をm表記とする)
N30: ※ 構造用鋼材以外の異物に伴ううき・はく離については、メモ欄に異物の概要を記入すること。

Sheet 様式D-1-1 (5)
B2: ■定期点検記録様式 変状写真台帳【様式D-1-1】 | R2: 施設ID | T2: 34.03558,132.05172
B3: フリガナ | E3: ナカヤマトンネル | H3: 路 線 名 | J3: 主要地方道柳井周東線 | M3: 定期点検実施者 | P3: 株式会社長大 | S3: 定期点検年月日 | U3: 45917
B4: 名 称 | E4: 中山トンネル | H4: 管理者名 | J4: 岩国土木建築事務所 | P4: 鷲尾 寛
B5: 写真 番号 | C5: 覆工スパン 番号 | E5: S001 | M5: 写真 番号 | N5: 覆工スパン 番号 | P5: S001
C6: 変状番号 | E6: 44 | N6: 変状番号 | P6: 45
B7: 変状 部位 | C7: 対象箇所 | E7: 覆工 | M7: 変状 部位 | N7: 対象箇所 | P7: 路面
C8: 部位区分 | E8: 水平打ち継ぎ目（右側） | N8: 部位区分 | P8: 側溝
B9: 変状種類 | E9: うき・はく離 | M9: 変状種類 | P9: その他
B10: 対策 区分 | C10: 変状区分 | E10: 材質劣化 | M10: 対策 区分 | N10: 変状区分
C11: 応急措置前 | N11: 応急措置前
C12: 応急措置後 | E12: Ⅱb | N12: 応急措置後
B13: 変状の発生範囲及び規模 | E13: 0.66m2(0.10m×6.60m) | H13: 前回変状の発生範囲及び規模 | J13: 6.60m×0.10m (判定Ⅱb) | M13: 変状の発生範囲及び規模 | P13: 14箇所 | S13: 前回変状の発生範囲及び規模 | U13: 規模記載なし (判定Ⅱb)
B14: 対策履歴 | E14: 監視(日常巡視) | H14: 実施状況（実施日） | J14: 継続 | M14: 対策履歴 | P14: － | S14: 実施状況（実施日） | U14: －
B15: メモ | E15: 水平打ち継ぎ目(右側)沿いにうき。現状で利用者被害の可能性は低いため、監視にとどめる。 ※打音異常無し | M15: メモ | P15: 側溝蓋破損。現状で利用者被害の可能性は低い。
B16: 写真 番号 | C16: 覆工スパン 番号 | E16: S001 | M16: 写真 番号 | N16: 覆工スパン 番号 | P16: S001
C17: 変状番号 | E17: 47 | N17: 変状番号 | P17: 48
B18: 変状 部位 | C18: 対象箇所 | E18: 覆工 | M18: 変状 部位 | N18: 対象箇所 | P18: 覆工
C19: 部位区分 | E19: 側壁（右側） | N19: 部位区分 | P19: 水平打ち継ぎ目（右側）
B20: 変状種類 | E20: 補修・補強材の破損 | M20: 変状種類 | P20: うき・はく離
B21: 対策 区分 | C21: 変状区分 | E21: 材質劣化 | M21: 対策 区分 | N21: 変状区分 | P21: 材質劣化
C22: 応急措置前 | N22: 応急措置前
C23: 応急措置後 | E23: Ⅱb | N23: 応急措置後 | P23: Ⅱb
B24: 変状の発生範囲及び規模 | E24: 0.02m2(0.15m×0.10m) | H24: 前回変状の発生範囲及び規模 | J24: 今回新規変状 | M24: 変状の発生範囲及び規模 | P24: 0.22m2(0.10m×2.20m) | S24: 前回変状の発生範囲及び規模 | U24: 5.00m×0.10m (判定Ⅱa)
B25: 対策履歴 | E25: － | H25: 実施状況（実施日） | J25: － | M25: 対策履歴 | P25: － | S25: 実施状況（実施日） | U25: －
B26: メモ | E26: 側壁部(右側)に線導水破損(漏水なし)。新たに発生。現状で利用者被害の可能性は低いため、監視にとどめる。 | M26: メモ | P26: 水平打ち継ぎ目(右側)沿いにうき。現状で利用者被害の可能性は低いため、監視にとどめる。(前回S2-32で評価)※打音異常無し
C27: ※ 応急措置後の対策区分について添付すること。また、点検前に 実施された措置によりⅠと判定された箇所も添付すること。 | N27: ※ 変状の発生範囲の規模とは、対策を行う際に参考となる変状の長さや面積をいう。
N28: ※ 応急措置を実施しないで決定した変状の対策区分は、対策区分の応急措置後の欄に記入すること。
C29: ※ たたき落としを実施した場合は、実施後の写真を添付すること。 | N29: ※ 変状の発生範囲の規模は、面積・寸法を記載すること。(ひび割れ幅のみmmとし、その他をm表記とする)
N30: ※ 構造用鋼材以外の異物に伴ううき・はく離については、メモ欄に異物の概要を記入すること。

Sheet 様式D-1-1 (6)
B2: ■定期点検記録様式 変状写真台帳【様式D-1-1】 | R2: 施設ID | T2: 34.03558,132.05172
B3: フリガナ | E3: ナカヤマトンネル | H3: 路 線 名 | J3: 主要地方道柳井周東線 | M3: 定期点検実施者 | P3: 株式会社長大 | S3: 定期点検年月日 | U3: 45917
B4: 名 称 | E4: 中山トンネル | H4: 管理者名 | J4: 岩国土木建築事務所 | P4: 鷲尾 寛
B5: 写真 番号 | C5: 覆工スパン 番号 | E5: S002 | M5: 写真 番号 | N5: 覆工スパン 番号 | P5: S002
C6: 変状番号 | E6: 1 | N6: 変状番号 | P6: 8
B7: 変状 部位 | C7: 対象箇所 | E7: 覆工 | M7: 変状 部位 | N7: 対象箇所 | P7: 覆工
C8: 部位区分 | E8: アーチ（左側） | N8: 部位区分 | P8: アーチ（天端）
B9: 変状種類 | E9: 圧ざ、ひび割れ | M9: 変状種類 | P9: うき・はく離
B10: 対策 区分 | C10: 変状区分 | E10: 材質劣化 | M10: 対策 区分 | N10: 変状区分 | P10: 材質劣化
C11: 応急措置前 | N11: 応急措置前
C12: 応急措置後 | E12: Ⅱb | N12: 応急措置後 | P12: Ⅱb
B13: 変状の発生範囲及び規模 | E13: 10.80m2(長さ10.80m×幅0.40mm) | H13: 前回変状の発生範囲及び規模 | J13: 0.4mm,L=10.5m (判定Ⅱb) | M13: 変状の発生範囲及び規模 | P13: 0.02m2(0.15m×0.10m) | S13: 前回変状の発生範囲及び規模 | U13: 0.10m×0.15m (判定Ⅱb)
B14: 対策履歴 | E14: 監視(日常巡視) | H14: 実施状況（実施日） | J14: 継続 | M14: 対策履歴 | P14: 監視(日常巡視) | S14: 実施状況（実施日） | U14: 継続
B15: メモ | E15: アーチ部(左側)に縦断方向のひび割れ(遊離石灰)。現状で利用者被害の可能性は低いため、監視にとどめる。 | M15: メモ | P15: アーチ部(天端)に豆板。現状で利用者被害の可能性は低いため、監視にとどめる。 ※打音異常無し
B16: 写真 番号 | C16: 覆工スパン 番号 | E16: S002 | M16: 写真 番号 | N16: 覆工スパン 番号 | P16: S002
C17: 変状番号 | E17: 13 | N17: 変状番号 | P17: 28
B18: 変状 部位 | C18: 対象箇所 | E18: 覆工 | M18: 変状 部位 | N18: 対象箇所 | P18: 覆工
C19: 部位区分 | E19: アーチ（天端） | N19: 部位区分 | P19: 水平打ち継ぎ目（左側）
B20: 変状種類 | E20: うき・はく離 | M20: 変状種類 | P20: うき・はく離
B21: 対策 区分 | C21: 変状区分 | E21: 材質劣化 | M21: 対策 区分 | N21: 変状区分 | P21: 材質劣化
C22: 応急措置前 | N22: 応急措置前
C23: 応急措置後 | E23: Ⅱa | N23: 応急措置後 | P23: Ⅱb
B24: 変状の発生範囲及び規模 | E24: 0.03m2(0.30m×0.10m) | H24: 前回変状の発生範囲及び規模 | J24: 0.05m×0.25m (判定Ⅱb) | M24: 変状の発生範囲及び規模 | P24: 1.05m2(0.10m×10.50m) | S24: 前回変状の発生範囲及び規模 | U24: 10.50m×0.10m (判定Ⅱa)
B25: 対策履歴 | E25: 監視(日常巡視) | H25: 実施状況（実施日） | J25: 継続 | M25: 対策履歴 | P25: － | S25: 実施状況（実施日） | U25: －
B26: メモ | E26: アーチ部(天端)にひび割れ沿いのうき。将来的に利用者に影響が及ぶ可能性があるため、重点的な監視及び計画的な対策を必要とする。 ※打音異常無し | M26: メモ | P26: 水平打ち継ぎ目(左側)沿いにうき。現状で利用者被害の可能性は低いため、監視にとどめる。 ※打音異常無し
C27: ※ 応急措置後の対策区分について添付すること。また、点検前に 実施された措置によりⅠと判定された箇所も添付すること。 | N27: ※ 変状の発生範囲の規模とは、対策を行う際に参考となる変状の長さや面積をいう。
N28: ※ 応急措置を実施しないで決定した変状の対策区分は、対策区分の応急措置後の欄に記入すること。
C29: ※ たたき落としを実施した場合は、実施後の写真を添付すること。 | N29: ※ 変状の発生範囲の規模は、面積・寸法を記載すること。(ひび割れ幅のみmmとし、その他をm表記とする)
N30: ※ 構造用鋼材以外の異物に伴ううき・はく離については、メモ欄に異物の概要を記入すること。

Sheet 様式D-1-1 (7)
B2: ■定期点検記録様式 変状写真台帳【様式D-1-1】 | R2: 施設ID | T2: 34.03558,132.05172
B3: フリガナ | E3: ナカヤマトンネル | H3: 路 線 名 | J3: 主要地方道柳井周東線 | M3: 定期点検実施者 | P3: 株式会社長大 | S3: 定期点検年月日 | U3: 45917
B4: 名 称 | E4: 中山トンネル | H4: 管理者名 | J4: 岩国土木建築事務所 | P4: 鷲尾 寛
B5: 写真 番号 | C5: 覆工スパン 番号 | E5: S002 | M5: 写真 番号 | N5: 覆工スパン 番号 | P5: S002
C6: 変状番号 | E6: 32 | N6: 変状番号 | P6: 33
B7: 変状 部位 | C7: 対象箇所 | E7: 覆工 | M7: 変状 部位 | N7: 対象箇所 | P7: 覆工
C8: 部位区分 | E8: 水平打ち継ぎ目（右側） | N8: 部位区分 | P8: 水平打ち継ぎ目（右側）
B9: 変状種類 | E9: うき・はく離 | M9: 変状種類 | P9: うき・はく離
B10: 対策 区分 | C10: 変状区分 | E10: 材質劣化 | M10: 対策 区分 | N10: 変状区分 | P10: 材質劣化
C11: 応急措置前 | N11: 応急措置前
C12: 応急措置後 | E12: Ⅱb | N12: 応急措置後 | P12: Ⅱb
B13: 変状の発生範囲及び規模 | E13: 0.28m2(0.10m×2.80m) | H13: 前回変状の発生範囲及び規模 | J13: 5.00m×0.10m (判定Ⅱa) | M13: 変状の発生範囲及び規模 | P13: 0.48m2(0.10m×4.80m) | S13: 前回変状の発生範囲及び規模 | U13: 4.90m×0.10m (判定Ⅱa)
B14: 対策履歴 | E14: － | H14: 実施状況（実施日） | J14: － | M14: 対策履歴 | P14: － | S14: 実施状況（実施日） | U14: －
B15: メモ | E15: 水平打ち継ぎ目(右側)沿いにうき。現状で利用者被害の可能性は低いため、監視にとどめる。(S1の範囲はS1-48で評価する) ※打音異常無し | M15: メモ | P15: 水平打ち継ぎ目(右側)沿いにうき。現状で利用者被害の可能性は低いため、監視にとどめる。 ※打音異常無し
B16: 写真 番号 | C16: 覆工スパン 番号 | E16: S002 | M16: 写真 番号 | N16: 覆工スパン 番号 | P16: S002
C17: 変状番号 | E17: 36 | N17: 変状番号 | P17: 37
B18: 変状 部位 | C18: 対象箇所 | E18: 覆工 | M18: 変状 部位 | N18: 対象箇所 | P18: 路面
C19: 部位区分 | E19: 横断目地（右側） | N19: 部位区分 | P19: 側溝
B20: 変状種類 | E20: 補修・補強材の破損 | M20: 変状種類 | P20: その他
B21: 対策 区分 | C21: 変状区分 | E21: 材質劣化 | M21: 対策 区分 | N21: 変状区分
C22: 応急措置前 | N22: 応急措置前
C23: 応急措置後 | E23: Ⅱb | N23: 応急措置後
B24: 変状の発生範囲及び規模 | E24: 0.03m2(0.25m×0.10m) | H24: 前回変状の発生範囲及び規模 | J24: 今回新規変状 | M24: 変状の発生範囲及び規模 | P24: 3箇所 | S24: 前回変状の発生範囲及び規模 | U24: 今回新規変状
B25: 対策履歴 | E25: － | H25: 実施状況（実施日） | J25: － | M25: 対策履歴 | P25: － | S25: 実施状況（実施日） | U25: －
B26: メモ | E26: 横断目地部(アーチ右側)に線導水破損(漏水なし)。新たに発生。現状で利用者被害の可能性は低いため、監視にとどめる。 | M26: メモ | P26: 側溝蓋破損。新たに発生。現状で利用者被害の可能性は低い。
C27: ※ 応急措置後の対策区分について添付すること。また、点検前に 実施された措置によりⅠと判定された箇所も添付すること。 | N27: ※ 変状の発生範囲の規模とは、対策を行う際に参考となる変状の長さや面積をいう。
N28: ※ 応急措置を実施しないで決定した変状の対策区分は、対策区分の応急措置後の欄に記入すること。
C29: ※ たたき落としを実施した場合は、実施後の写真を添付すること。 | N29: ※ 変状の発生範囲の規模は、面積・寸法を記載すること。(ひび割れ幅のみmmとし、その他をm表記とする)
N30: ※ 構造用鋼材以外の異物に伴ううき・はく離については、メモ欄に異物の概要を記入すること。

Sheet 様式D-1-1 (8)
B2: ■定期点検記録様式 変状写真台帳【様式D-1-1】 | R2: 施設ID | T2: 34.03558,132.05172
B3: フリガナ | E3: ナカヤマトンネル | H3: 路 線 名 | J3: 主要地方道柳井周東線 | M3: 定期点検実施者 | P3: 株式会社長大 | S3: 定期点検年月日 | U3: 45917
B4: 名 称 | E4: 中山トンネル | H4: 管理者名 | J4: 岩国土木建築事務所 | P4: 鷲尾 寛
B5: 写真 番号 | C5: 覆工スパン 番号 | E5: S003 | M5: 写真 番号 | N5: 覆工スパン 番号 | P5: S003
C6: 変状番号 | E6: 8 | N6: 変状番号 | P6: 10
B7: 変状 部位 | C7: 対象箇所 | E7: 覆工 | M7: 変状 部位 | N7: 対象箇所 | P7: 覆工
C8: 部位区分 | E8: アーチ（左側） | N8: 部位区分 | P8: 横断目地（天端）
B9: 変状種類 | E9: うき・はく離 | M9: 変状種類 | P9: うき・はく離
B10: 対策 区分 | C10: 変状区分 | E10: 材質劣化 | M10: 対策 区分 | N10: 変状区分 | P10: 材質劣化
C11: 応急措置前 | N11: 応急措置前
C12: 応急措置後 | E12: Ⅱa | N12: 応急措置後 | P12: Ⅱb
B13: 変状の発生範囲及び規模 | E13: 0.01m2(0.05m×0.15m) | H13: 前回変状の発生範囲及び規模 | J13: 0.05m×0.20m (判定Ⅱa) | M13: 変状の発生範囲及び規模 | P13: 0.15m2(2.90m×0.05m) | S13: 前回変状の発生範囲及び規模 | U13: 0.05m×2.90m (判定Ⅱb)
B14: 対策履歴 | E14: － | H14: 実施状況（実施日） | J14: － | M14: 対策履歴 | P14: 監視(日常巡視) | S14: 実施状況（実施日） | U14: 継続
B15: メモ | E15: アーチ部(左側)にひび割れ沿いのうき。将来的に利用者に影響が及ぶ可能性があるため、重点的な監視及び計画的な対策を必要とする。 ※打音異常無し | M15: メモ | P15: 横断目地部(天端)に豆板。現状で利用者被害の可能性は低いため、監視にとどめる。 ※打音異常無し
B16: 写真 番号 | C16: 覆工スパン 番号 | E16: S003 | M16: 写真 番号 | N16: 覆工スパン 番号 | P16: S003
C17: 変状番号 | E17: 29 | N17: 変状番号 | P17: 30
B18: 変状 部位 | C18: 対象箇所 | E18: 覆工 | M18: 変状 部位 | N18: 対象箇所 | P18: 覆工
C19: 部位区分 | E19: 水平打ち継ぎ目（左側） | N19: 部位区分 | P19: 側壁（左側）
B20: 変状種類 | E20: うき・はく離 | M20: 変状種類 | P20: うき・はく離
B21: 対策 区分 | C21: 変状区分 | E21: 材質劣化 | M21: 対策 区分 | N21: 変状区分 | P21: 材質劣化
C22: 応急措置前 | N22: 応急措置前
C23: 応急措置後 | E23: Ⅱb | N23: 応急措置後 | P23: Ⅱb
B24: 変状の発生範囲及び規模 | E24: 0.20m2(0.10m×2.00m) | H24: 前回変状の発生範囲及び規模 | J24: 1.50m×0.10m (判定Ⅱb) | M24: 変状の発生範囲及び規模 | P24: 0.10m2(0.25m×0.40m) | S24: 前回変状の発生範囲及び規模 | U24: 0.40m×0.25m (判定Ⅱb)
B25: 対策履歴 | E25: 監視(日常巡視) | H25: 実施状況（実施日） | J25: 継続 | M25: 対策履歴 | P25: 監視(日常巡視) | S25: 実施状況（実施日） | U25: 継続
B26: メモ | E26: 水平打ち継ぎ目(左側)沿いにうき。拡大。現状で利用者被害の可能性は低いため、監視にとどめる。 ※打音異常無し | M26: メモ | P26: 側壁部(左側)にうき。現状で利用者被害の可能性は低いため、監視にとどめる。 ※打音異常無し
C27: ※ 応急措置後の対策区分について添付すること。また、点検前に 実施された措置によりⅠと判定された箇所も添付すること。 | N27: ※ 変状の発生範囲の規模とは、対策を行う際に参考となる変状の長さや面積をいう。
N28: ※ 応急措置を実施しないで決定した変状の対策区分は、対策区分の応急措置後の欄に記入すること。
C29: ※ たたき落としを実施した場合は、実施後の写真を添付すること。 | N29: ※ 変状の発生範囲の規模は、面積・寸法を記載すること。(ひび割れ幅のみmmとし、その他をm表記とする)
N30: ※ 構造用鋼材以外の異物に伴ううき・はく離については、メモ欄に異物の概要を記入すること。

Sheet 様式D-1-1 (9)
B2: ■定期点検記録様式 変状写真台帳【様式D-1-1】 | R2: 施設ID | T2: 34.03558,132.05172
B3: フリガナ | E3: ナカヤマトンネル | H3: 路 線 名 | J3: 主要地方道柳井周東線 | M3: 定期点検実施者 | P3: 株式会社長大 | S3: 定期点検年月日 | U3: 45917
B4: 名 称 | E4: 中山トンネル | H4: 管理者名 | J4: 岩国土木建築事務所 | P4: 鷲尾 寛
B5: 写真 番号 | C5: 覆工スパン 番号 | E5: S003 | M5: 写真 番号 | N5: 覆工スパン 番号 | P5: S003
C6: 変状番号 | E6: 31 | N6: 変状番号 | P6: 33
B7: 変状 部位 | C7: 対象箇所 | E7: 覆工 | M7: 変状 部位 | N7: 対象箇所 | P7: 覆工
C8: 部位区分 | E8: 側壁（左側） | N8: 部位区分 | P8: 水平打ち継ぎ目（右側）
B9: 変状種類 | E9: うき・はく離 | M9: 変状種類 | P9: うき・はく離
B10: 対策 区分 | C10: 変状区分 | E10: 材質劣化 | M10: 対策 区分 | N10: 変状区分 | P10: 材質劣化
C11: 応急措置前 | N11: 応急措置前
C12: 応急措置後 | E12: Ⅱb | N12: 応急措置後 | P12: Ⅱb
B13: 変状の発生範囲及び規模 | E13: 0.15m2(0.05m×3.00m) | H13: 前回変状の発生範囲及び規模 | J13: 3.00m×0.03m (判定Ⅱb) | M13: 変状の発生範囲及び規模 | P13: 0.04m2(0.10m×0.40m) | S13: 前回変状の発生範囲及び規模 | U13: 0.40m×0.10m (判定Ⅱa)
B14: 対策履歴 | E14: 監視(日常巡視) | H14: 実施状況（実施日） | J14: 継続 | M14: 対策履歴 | P14: － | S14: 実施状況（実施日） | U14: －
B15: メモ | E15: 側壁部(左側)に豆板。現状で利用者被害の可能性は低いため、監視にとどめる。 ※打音異常無し | M15: メモ | P15: 水平打ち継ぎ目(右側)沿いにうき。現状で利用者被害の可能性は低いため、監視にとどめる。 ※打音異常無し
B16: 写真 番号 | C16: 覆工スパン 番号 | E16: S003 | M16: 写真 番号 | N16: 覆工スパン 番号 | P16: S003
C17: 変状番号 | E17: 34 | N17: 変状番号 | P17: 35
B18: 変状 部位 | C18: 対象箇所 | E18: 覆工 | M18: 変状 部位 | N18: 対象箇所 | P18: 覆工
C19: 部位区分 | E19: 水平打ち継ぎ目（右側） | N19: 部位区分 | P19: 水平打ち継ぎ目（右側）
B20: 変状種類 | E20: うき・はく離 | M20: 変状種類 | P20: うき・はく離
B21: 対策 区分 | C21: 変状区分 | E21: 材質劣化 | M21: 対策 区分 | N21: 変状区分 | P21: 材質劣化
C22: 応急措置前 | N22: 応急措置前
C23: 応急措置後 | E23: Ⅱb | N23: 応急措置後 | P23: Ⅱb
B24: 変状の発生範囲及び規模 | E24: 0.55m2(0.10m×5.50m) | H24: 前回変状の発生範囲及び規模 | J24: 5.50m×0.10m (判定Ⅱa) | M24: 変状の発生範囲及び規模 | P24: 0.02m2(0.10m×0.20m) | S24: 前回変状の発生範囲及び規模 | U24: 0.60m×0.10m (判定Ⅱa)
B25: 対策履歴 | E25: － | H25: 実施状況（実施日） | J25: － | M25: 対策履歴 | P25: － | S25: 実施状況（実施日） | U25: －
B26: メモ | E26: 水平打ち継ぎ目(右側)沿いにうき。現状で利用者被害の可能性は低いため、監視にとどめる。 ※打音異常無し | M26: メモ | P26: 水平打ち継ぎ目(右側)沿いにうき。現状で利用者被害の可能性は低いため、監視にとどめる。(S4範囲はS4-39で評価) ※打音異常無し
C27: ※ 応急措置後の対策区分について添付すること。また、点検前に 実施された措置によりⅠと判定された箇所も添付すること。 | N27: ※ 変状の発生範囲の規模とは、対策を行う際に参考となる変状の長さや面積をいう。
N28: ※ 応急措置を実施しないで決定した変状の対策区分は、対策区分の応急措置後の欄に記入すること。
C29: ※ たたき落としを実施した場合は、実施後の写真を添付すること。 | N29: ※ 変状の発生範囲の規模は、面積・寸法を記載すること。(ひび割れ幅のみmmとし、その他をm表記とする)
N30: ※ 構造用鋼材以外の異物に伴ううき・はく離については、メモ欄に異物の概要を記入すること。

Sheet 様式D-1-1 (10)
B2: ■定期点検記録様式 変状写真台帳【様式D-1-1】 | R2: 施設ID | T2: 34.03558,132.05172
B3: フリガナ | E3: ナカヤマトンネル | H3: 路 線 名 | J3: 主要地方道柳井周東線 | M3: 定期点検実施者 | P3: 株式会社長大 | S3: 定期点検年月日 | U3: 45917
B4: 名 称 | E4: 中山トンネル | H4: 管理者名 | J4: 岩国土木建築事務所 | P4: 鷲尾 寛
B5: 写真 番号 | C5: 覆工スパン 番号 | E5: S003 | M5: 写真 番号 | N5: 覆工スパン 番号 | P5: S003
C6: 変状番号 | E6: 40 | N6: 変状番号 | P6: 41
B7: 変状 部位 | C7: 対象箇所 | E7: 覆工 | M7: 変状 部位 | N7: 対象箇所 | P7: 覆工
C8: 部位区分 | E8: 水平打ち継ぎ目（左側） | N8: 部位区分 | P8: 水平打ち継ぎ目（左側）
B9: 変状種類 | E9: うき・はく離 | M9: 変状種類 | P9: うき・はく離
B10: 対策 区分 | C10: 変状区分 | E10: 材質劣化 | M10: 対策 区分 | N10: 変状区分 | P10: 材質劣化
C11: 応急措置前 | N11: 応急措置前
C12: 応急措置後 | E12: Ⅱb | N12: 応急措置後 | P12: Ⅱb
B13: 変状の発生範囲及び規模 | E13: 0.10m2(0.10m×1.00m) | H13: 前回変状の発生範囲及び規模 | J13: 前回調書記載なし | M13: 変状の発生範囲及び規模 | P13: 0.31m2(0.10m×3.10m) | S13: 前回変状の発生範囲及び規模 | U13: 15.80m×0.10m (判定Ⅱa)
B14: 対策履歴 | E14: － | H14: 実施状況（実施日） | J14: － | M14: 対策履歴 | P14: － | S14: 実施状況（実施日） | U14: －
B15: メモ | E15: 水平打ち継ぎ目(左側)沿いにうき。前回調書記載なし。現状で利用者被害の可能性は低いため、監視にとどめる。 ※打音異常無し | M15: メモ | P15: 水平打ち継ぎ目(左側)沿いにうき。現状で利用者被害の可能性は低いため、監視にとどめる。(前回S4-26で評価)※打音異常無し
B16: 写真 番号 | C16: 覆工スパン 番号 | E16: S003 | M16: 写真 番号 | N16: 覆工スパン 番号 | P16: S003
C17: 変状番号 | E17: 42 | N17: 変状番号 | P17: 43
B18: 変状 部位 | C18: 対象箇所 | E18: 覆工 | M18: 変状 部位 | N18: 対象箇所 | P18: 路面
C19: 部位区分 | E19: 水平打ち継ぎ目（右側） | N19: 部位区分 | P19: 側溝
B20: 変状種類 | E20: うき・はく離 | M20: 変状種類 | P20: その他
B21: 対策 区分 | C21: 変状区分 | E21: 材質劣化 | M21: 対策 区分 | N21: 変状区分
C22: 応急措置前 | N22: 応急措置前
C23: 応急措置後 | E23: Ⅱb | N23: 応急措置後
B24: 変状の発生範囲及び規模 | E24: 0.15m2(0.10m×1.50m) | H24: 前回変状の発生範囲及び規模 | J24: 前回調書記載なし | M24: 変状の発生範囲及び規模 | P24: 2箇所 | S24: 前回変状の発生範囲及び規模 | U24: 今回新規変状
B25: 対策履歴 | E25: － | H25: 実施状況（実施日） | J25: － | M25: 対策履歴 | P25: － | S25: 実施状況（実施日） | U25: －
B26: メモ | E26: 水平打ち継ぎ目(右側)沿いにうき。現状で利用者被害の可能性は低いため、監視にとどめる。 ※打音異常無し | M26: メモ | P26: 側溝蓋破損。新たに発生。現状で利用者被害の可能性は低い。
C27: ※ 応急措置後の対策区分について添付すること。また、点検前に 実施された措置によりⅠと判定された箇所も添付すること。 | N27: ※ 変状の発生範囲の規模とは、対策を行う際に参考となる変状の長さや面積をいう。
N28: ※ 応急措置を実施しないで決定した変状の対策区分は、対策区分の応急措置後の欄に記入すること。
C29: ※ たたき落としを実施した場合は、実施後の写真を添付すること。 | N29: ※ 変状の発生範囲の規模は、面積・寸法を記載すること。(ひび割れ幅のみmmとし、その他をm表記とする)
N30: ※ 構造用鋼材以外の異物に伴ううき・はく離については、メモ欄に異物の概要を記入すること。

Sheet 様式D-1-1 (11)
B2: ■定期点検記録様式 変状写真台帳【様式D-1-1】 | R2: 施設ID | T2: 34.03558,132.05172
B3: フリガナ | E3: ナカヤマトンネル | H3: 路 線 名 | J3: 主要地方道柳井周東線 | M3: 定期点検実施者 | P3: 株式会社長大 | S3: 定期点検年月日 | U3: 45917
B4: 名 称 | E4: 中山トンネル | H4: 管理者名 | J4: 岩国土木建築事務所 | P4: 鷲尾 寛
B5: 写真 番号 | C5: 覆工スパン 番号 | E5: S004 | M5: 写真 番号 | N5: 覆工スパン 番号 | P5: S004
C6: 変状番号 | E6: 1 | N6: 変状番号 | P6: 2
B7: 変状 部位 | C7: 対象箇所 | E7: 覆工 | M7: 変状 部位 | N7: 対象箇所 | P7: 覆工
C8: 部位区分 | E8: 横断目地（天端） | N8: 部位区分 | P8: 横断目地（天端）
B9: 変状種類 | E9: うき・はく離 | M9: 変状種類 | P9: うき・はく離
B10: 対策 区分 | C10: 変状区分 | E10: 材質劣化 | M10: 対策 区分 | N10: 変状区分 | P10: 材質劣化
C11: 応急措置前 | N11: 応急措置前
C12: 応急措置後 | E12: Ⅱb | N12: 応急措置後 | P12: Ⅱb
B13: 変状の発生範囲及び規模 | E13: 0.07m2(0.70m×0.10m) | H13: 前回変状の発生範囲及び規模 | J13: 0.10m×0.60m (判定Ⅱb) | M13: 変状の発生範囲及び規模 | P13: 0.03m2(0.30m×0.10m) | S13: 前回変状の発生範囲及び規模 | U13: 0.10m×0.40m (判定Ⅱb)
B14: 対策履歴 | E14: 監視(日常巡視) | H14: 実施状況（実施日） | J14: 継続 | M14: 対策履歴 | P14: 監視(日常巡視) | S14: 実施状況（実施日） | U14: 継続
B15: メモ | E15: 横断目地部(天端)に豆板。現状で利用者被害の可能性は低いため、監視にとどめる。 ※打音異常無し | M15: メモ | P15: 横断目地部(天端)に豆板。現状で利用者被害の可能性は低いため、監視にとどめる。 ※打音異常無し
B16: 写真 番号 | C16: 覆工スパン 番号 | E16: S004 | M16: 写真 番号 | N16: 覆工スパン 番号 | P16: S004
C17: 変状番号 | E17: 12 | N17: 変状番号 | P17: 15
B18: 変状 部位 | C18: 対象箇所 | E18: 覆工 | M18: 変状 部位 | N18: 対象箇所 | P18: 覆工
C19: 部位区分 | E19: アーチ（左側） | N19: 部位区分 | P19: 横断目地（右側）
B20: 変状種類 | E20: うき・はく離 | M20: 変状種類 | P20: うき・はく離
B21: 対策 区分 | C21: 変状区分 | E21: 材質劣化 | M21: 対策 区分 | N21: 変状区分 | P21: 材質劣化
C22: 応急措置前 | N22: 応急措置前
C23: 応急措置後 | E23: Ⅱb | N23: 応急措置後 | P23: Ⅱb
B24: 変状の発生範囲及び規模 | E24: 0.36m2(0.05m×7.20m) | H24: 前回変状の発生範囲及び規模 | J24: 7.20m×0.05m (判定Ⅱb) | M24: 変状の発生範囲及び規模 | P24: 0.02m2(0.35m×0.05m) | S24: 前回変状の発生範囲及び規模 | U24: 0.05m×0.35m (判定Ⅱb)
B25: 対策履歴 | E25: 監視(日常巡視) | H25: 実施状況（実施日） | J25: 継続 | M25: 対策履歴 | P25: 監視(日常巡視) | S25: 実施状況（実施日） | U25: 継続
B26: メモ | E26: アーチ部(左側)に豆板。現状で利用者被害の可能性は低いため、監視にとどめる。 ※打音異常無し | M26: メモ | P26: 横断目地部(アーチ右側)にはく落(異物(新聞紙)混入)。現状で利用者被害の可能性は低いため、監視にとどめる。※打音異常無し
C27: ※ 応急措置後の対策区分について添付すること。また、点検前に 実施された措置によりⅠと判定された箇所も添付すること。 | N27: ※ 変状の発生範囲の規模とは、対策を行う際に参考となる変状の長さや面積をいう。
N28: ※ 応急措置を実施しないで決定した変状の対策区分は、対策区分の応急措置後の欄に記入すること。
C29: ※ たたき落としを実施した場合は、実施後の写真を添付すること。 | N29: ※ 変状の発生範囲の規模は、面積・寸法を記載すること。(ひび割れ幅のみmmとし、その他をm表記とする)
N30: ※ 構造用鋼材以外の異物に伴ううき・はく離については、メモ欄に異物の概要を記入すること。

Sheet 様式D-1-1 (12)
B2: ■定期点検記録様式 変状写真台帳【様式D-1-1】 | R2: 施設ID | T2: 34.03558,132.05172
B3: フリガナ | E3: ナカヤマトンネル | H3: 路 線 名 | J3: 主要地方道柳井周東線 | M3: 定期点検実施者 | P3: 株式会社長大 | S3: 定期点検年月日 | U3: 45917
B4: 名 称 | E4: 中山トンネル | H4: 管理者名 | J4: 岩国土木建築事務所 | P4: 鷲尾 寛
B5: 写真 番号 | C5: 覆工スパン 番号 | E5: S004 | M5: 写真 番号 | N5: 覆工スパン 番号 | P5: S004
C6: 変状番号 | E6: 19 | N6: 変状番号 | P6: 25
B7: 変状 部位 | C7: 対象箇所 | E7: 覆工 | M7: 変状 部位 | N7: 対象箇所 | P7: 覆工
C8: 部位区分 | E8: アーチ（天端） | N8: 部位区分 | P8: アーチ（右側）
B9: 変状種類 | E9: 漏水 | M9: 変状種類 | P9: うき・はく離
B10: 対策 区分 | C10: 変状区分 | E10: 漏水 | M10: 対策 区分 | N10: 変状区分 | P10: 材質劣化
C11: 応急措置前 | N11: 応急措置前
C12: 応急措置後 | E12: Ⅱb | N12: 応急措置後 | P12: Ⅱb
B13: 変状の発生範囲及び規模 | E13: 13.56m2(7.75m×1.75m) | H13: 前回変状の発生範囲及び規模 | J13: 規模記載なし (判定Ⅱb) | M13: 変状の発生範囲及び規模 | P13: 0.08m2(0.05m×1.60m) | S13: 前回変状の発生範囲及び規模 | U13: 1.60m×0.05m (判定Ⅱb)
B14: 対策履歴 | E14: 監視(日常巡視) | H14: 実施状況（実施日） | J14: 継続 | M14: 対策履歴 | P14: 監視(日常巡視) | S14: 実施状況（実施日） | U14: 継続
B15: メモ | E15: アーチ部(天端)にひび割れ沿いの遊離石灰。現状で利用者被害の可能性は低いため、監視にとどめる。 | M15: メモ | P15: アーチ部(右側)に豆板。現状で利用者被害の可能性は低いため、監視にとどめる。 ※打音異常無し
B16: 写真 番号 | C16: 覆工スパン 番号 | E16: S004 | M16: 写真 番号 | N16: 覆工スパン 番号 | P16: S004
C17: 変状番号 | E17: 26 | N17: 変状番号 | P17: 27
B18: 変状 部位 | C18: 対象箇所 | E18: 覆工 | M18: 変状 部位 | N18: 対象箇所 | P18: 覆工
C19: 部位区分 | E19: 水平打ち継ぎ目（左側） | N19: 部位区分 | P19: 水平打ち継ぎ目（右側）
B20: 変状種類 | E20: うき・はく離 | M20: 変状種類 | P20: うき・はく離
B21: 対策 区分 | C21: 変状区分 | E21: 材質劣化 | M21: 対策 区分 | N21: 変状区分 | P21: 材質劣化
C22: 応急措置前 | N22: 応急措置前
C23: 応急措置後 | E23: Ⅱb | N23: 応急措置後 | P23: Ⅱb
B24: 変状の発生範囲及び規模 | E24: 1.05m2(0.10m×10.50m) | H24: 前回変状の発生範囲及び規模 | J24: 15.80m×0.10m (判定Ⅱa) | M24: 変状の発生範囲及び規模 | P24: 0.11m2(0.10m×1.10m) | S24: 前回変状の発生範囲及び規模 | U24: 1.10m×0.10m (判定Ⅱa)
B25: 対策履歴 | E25: － | H25: 実施状況（実施日） | J25: － | M25: 対策履歴 | P25: － | S25: 実施状況（実施日） | U25: －
B26: メモ | E26: 水平打ち継ぎ目(左側)沿いにうき。現状で利用者被害の可能性は低いため、監視にとどめる。(S3範囲はS3-41、S5範囲はS5-50で評価) ※打音異常無し | M26: メモ | P26: 水平打ち継ぎ目(右側)沿いにうき。現状で利用者被害の可能性は低いため、監視にとどめる。 ※打音異常無し
C27: ※ 応急措置後の対策区分について添付すること。また、点検前に 実施された措置によりⅠと判定された箇所も添付すること。 | N27: ※ 変状の発生範囲の規模とは、対策を行う際に参考となる変状の長さや面積をいう。
N28: ※ 応急措置を実施しないで決定した変状の対策区分は、対策区分の応急措置後の欄に記入すること。
C29: ※ たたき落としを実施した場合は、実施後の写真を添付すること。 | N29: ※ 変状の発生範囲の規模は、面積・寸法を記載すること。(ひび割れ幅のみmmとし、その他をm表記とする)
N30: ※ 構造用鋼材以外の異物に伴ううき・はく離については、メモ欄に異物の概要を記入すること。

Sheet 様式D-1-1 (13)
B2: ■定期点検記録様式 変状写真台帳【様式D-1-1】 | R2: 施設ID | T2: 34.03558,132.05172
B3: フリガナ | E3: ナカヤマトンネル | H3: 路 線 名 | J3: 主要地方道柳井周東線 | M3: 定期点検実施者 | P3: 株式会社長大 | S3: 定期点検年月日 | U3: 45917
B4: 名 称 | E4: 中山トンネル | H4: 管理者名 | J4: 岩国土木建築事務所 | P4: 鷲尾 寛
B5: 写真 番号 | C5: 覆工スパン 番号 | E5: S004 | M5: 写真 番号 | N5: 覆工スパン 番号 | P5: S004
C6: 変状番号 | E6: 28 | N6: 変状番号 | P6: 30
B7: 変状 部位 | C7: 対象箇所 | E7: 覆工 | M7: 変状 部位 | N7: 対象箇所 | P7: 覆工
C8: 部位区分 | E8: 水平打ち継ぎ目（右側） | N8: 部位区分 | P8: 水平打ち継ぎ目（右側）
B9: 変状種類 | E9: うき・はく離 | M9: 変状種類 | P9: うき・はく離
B10: 対策 区分 | C10: 変状区分 | E10: 材質劣化 | M10: 対策 区分 | N10: 変状区分 | P10: 材質劣化
C11: 応急措置前 | N11: 応急措置前
C12: 応急措置後 | E12: Ⅱb | N12: 応急措置後 | P12: Ⅱb
B13: 変状の発生範囲及び規模 | E13: 0.02m2(0.05m×0.40m) | H13: 前回変状の発生範囲及び規模 | J13: 0.40m×0.05m (判定Ⅱa) | M13: 変状の発生範囲及び規模 | P13: 0.15m2(0.10m×1.50m) | S13: 前回変状の発生範囲及び規模 | U13: 1.50m×0.10m (判定Ⅱa)
B14: 対策履歴 | E14: － | H14: 実施状況（実施日） | J14: － | M14: 対策履歴 | P14: － | S14: 実施状況（実施日） | U14: －
B15: メモ | E15: 水平打ち継ぎ目(右側)沿いにうき。現状で利用者被害の可能性は低いため、監視にとどめる。 ※打音異常無し | M15: メモ | P15: 水平打ち継ぎ目(右側)沿いにうき。現状で利用者被害の可能性は低いため、監視にとどめる。 ※打音異常無し
B16: 写真 番号 | C16: 覆工スパン 番号 | E16: S004 | M16: 写真 番号 | N16: 覆工スパン 番号 | P16: S004
C17: 変状番号 | E17: 31 | N17: 変状番号 | P17: 36
B18: 変状 部位 | C18: 対象箇所 | E18: 覆工 | M18: 変状 部位 | N18: 対象箇所 | P18: 覆工
C19: 部位区分 | E19: 水平打ち継ぎ目（右側） | N19: 部位区分 | P19: 側壁（左側）
B20: 変状種類 | E20: うき・はく離 | M20: 変状種類 | P20: うき・はく離
B21: 対策 区分 | C21: 変状区分 | E21: 材質劣化 | M21: 対策 区分 | N21: 変状区分 | P21: 材質劣化
C22: 応急措置前 | N22: 応急措置前
C23: 応急措置後 | E23: Ⅱb | N23: 応急措置後 | P23: Ⅱb
B24: 変状の発生範囲及び規模 | E24: 0.28m2(0.10m×2.80m) | H24: 前回変状の発生範囲及び規模 | J24: 1.90m×0.10m (判定Ⅱa) | M24: 変状の発生範囲及び規模 | P24: 0.08m2(0.05m×1.50m) | S24: 前回変状の発生範囲及び規模 | U24: 今回新規変状
B25: 対策履歴 | E25: － | H25: 実施状況（実施日） | J25: － | M25: 対策履歴 | P25: － | S25: 実施状況（実施日） | U25: －
B26: メモ | E26: 水平打ち継ぎ目(右側)沿いにうき。拡大。現状で利用者被害の可能性は低いため、監視にとどめる。 ※打音異常無し | M26: メモ | P26: 側壁部(左側)に豆板。新たに発生。現状で利用者被害の可能性は低いため、監視にとどめる。 ※打音異常無し
C27: ※ 応急措置後の対策区分について添付すること。また、点検前に 実施された措置によりⅠと判定された箇所も添付すること。 | N27: ※ 変状の発生範囲の規模とは、対策を行う際に参考となる変状の長さや面積をいう。
N28: ※ 応急措置を実施しないで決定した変状の対策区分は、対策区分の応急措置後の欄に記入すること。
C29: ※ たたき落としを実施した場合は、実施後の写真を添付すること。 | N29: ※ 変状の発生範囲の規模は、面積・寸法を記載すること。(ひび割れ幅のみmmとし、その他をm表記とする)
N30: ※ 構造用鋼材以外の異物に伴ううき・はく離については、メモ欄に異物の概要を記入すること。

Sheet 様式D-1-1 (14)
B2: ■定期点検記録様式 変状写真台帳【様式D-1-1】 | R2: 施設ID | T2: 34.03558,132.05172
B3: フリガナ | E3: ナカヤマトンネル | H3: 路 線 名 | J3: 主要地方道柳井周東線 | M3: 定期点検実施者 | P3: 株式会社長大 | S3: 定期点検年月日 | U3: 45917
B4: 名 称 | E4: 中山トンネル | H4: 管理者名 | J4: 岩国土木建築事務所 | P4: 鷲尾 寛
B5: 写真 番号 | C5: 覆工スパン 番号 | E5: S004 | M5: 写真 番号 | N5: 覆工スパン 番号 | P5: S004
C6: 変状番号 | E6: 37 | N6: 変状番号 | P6: 38
B7: 変状 部位 | C7: 対象箇所 | E7: 覆工 | M7: 変状 部位 | N7: 対象箇所 | P7: 覆工
C8: 部位区分 | E8: アーチ（左側） | N8: 部位区分 | P8: アーチ（右側）
B9: 変状種類 | E9: 圧ざ、ひび割れ | M9: 変状種類 | P9: うき・はく離
B10: 対策 区分 | C10: 変状区分 | E10: 材質劣化 | M10: 対策 区分 | N10: 変状区分 | P10: 材質劣化
C11: 応急措置前 | N11: 応急措置前
C12: 応急措置後 | E12: Ⅱb | N12: 応急措置後 | P12: Ⅱa
B13: 変状の発生範囲及び規模 | E13: 0.29m2(長さ2.90m×幅1.00mm) | H13: 前回変状の発生範囲及び規模 | J13: 前回調書記載なし | M13: 変状の発生範囲及び規模 | P13: 0.01m2(0.15m×0.05m) | S13: 前回変状の発生範囲及び規模 | U13: 今回新規変状
B14: 対策履歴 | E14: － | H14: 実施状況（実施日） | J14: － | M14: 対策履歴 | P14: － | S14: 実施状況（実施日） | U14: －
B15: メモ | E15: アーチ部(左側)に横断ひび割れ。前回調書記載なし。進行なし。現状で利用者被害の可能性は低いため、監視にとどめる。 ※打音異常無し | M15: メモ | P15: アーチ部(右側)にひび割れ沿いのうき。新たに発生。将来的に利用者に影響が及ぶ可能性があるため、重点的な監視及び計画的な対策を必要とする。 ※打音異常無し
B16: 写真 番号 | C16: 覆工スパン 番号 | E16: S004 | M16: 写真 番号 | N16: 覆工スパン 番号 | P16: S004
C17: 変状番号 | E17: 39 | N17: 変状番号 | P17: 40
B18: 変状 部位 | C18: 対象箇所 | E18: 覆工 | M18: 変状 部位 | N18: 対象箇所 | P18: 路面
C19: 部位区分 | E19: 水平打ち継ぎ目（右側） | N19: 部位区分 | P19: 側溝
B20: 変状種類 | E20: うき・はく離 | M20: 変状種類 | P20: その他
B21: 対策 区分 | C21: 変状区分 | E21: 材質劣化 | M21: 対策 区分 | N21: 変状区分
C22: 応急措置前 | N22: 応急措置前
C23: 応急措置後 | E23: Ⅱb | N23: 応急措置後
B24: 変状の発生範囲及び規模 | E24: 0.04m2(0.10m×0.40m) | H24: 前回変状の発生範囲及び規模 | J24: 0.60m×0.10m (判定Ⅱa) | M24: 変状の発生範囲及び規模 | P24: 1箇所 | S24: 前回変状の発生範囲及び規模 | U24: 今回新規変状
B25: 対策履歴 | E25: － | H25: 実施状況（実施日） | J25: － | M25: 対策履歴 | P25: － | S25: 実施状況（実施日） | U25: －
B26: メモ | E26: 水平打ち継ぎ目(右側)沿いにうき。現状で利用者被害の可能性は低いため、監視にとどめる。(前回S3-35で評価) ※打音異常無し | M26: メモ | P26: 側溝蓋破損。新たに発生。現状で利用者被害の可能性は低い。
C27: ※ 応急措置後の対策区分について添付すること。また、点検前に 実施された措置によりⅠと判定された箇所も添付すること。 | N27: ※ 変状の発生範囲の規模とは、対策を行う際に参考となる変状の長さや面積をいう。
N28: ※ 応急措置を実施しないで決定した変状の対策区分は、対策区分の応急措置後の欄に記入すること。
C29: ※ たたき落としを実施した場合は、実施後の写真を添付すること。 | N29: ※ 変状の発生範囲の規模は、面積・寸法を記載すること。(ひび割れ幅のみmmとし、その他をm表記とする)
N30: ※ 構造用鋼材以外の異物に伴ううき・はく離については、メモ欄に異物の概要を記入すること。

Sheet 様式D-1-1 (15)
B2: ■定期点検記録様式 変状写真台帳【様式D-1-1】 | R2: 施設ID | T2: 34.03558,132.05172
B3: フリガナ | E3: ナカヤマトンネル | H3: 路 線 名 | J3: 主要地方道柳井周東線 | M3: 定期点検実施者 | P3: 株式会社長大 | S3: 定期点検年月日 | U3: 45917
B4: 名 称 | E4: 中山トンネル | H4: 管理者名 | J4: 岩国土木建築事務所 | P4: 鷲尾 寛
B5: 写真 番号 | C5: 覆工スパン 番号 | E5: S005 | M5: 写真 番号 | N5: 覆工スパン 番号 | P5: S005
C6: 変状番号 | E6: 5 | N6: 変状番号 | P6: 33
B7: 変状 部位 | C7: 対象箇所 | E7: 覆工 | M7: 変状 部位 | N7: 対象箇所 | P7: 覆工
C8: 部位区分 | E8: アーチ（天端） | N8: 部位区分 | P8: 横断目地（右側）
B9: 変状種類 | E9: うき・はく離 | M9: 変状種類 | P9: うき・はく離
B10: 対策 区分 | C10: 変状区分 | E10: 材質劣化 | M10: 対策 区分 | N10: 変状区分 | P10: 材質劣化
C11: 応急措置前 | N11: 応急措置前
C12: 応急措置後 | E12: Ⅱa | N12: 応急措置後 | P12: Ⅱb
B13: 変状の発生範囲及び規模 | E13: 0.03m2(0.20m×0.15m) | H13: 前回変状の発生範囲及び規模 | J13: 0.10m×0.10m (判定Ⅱb) | M13: 変状の発生範囲及び規模 | P13: 0.01m2(0.10m×0.05m) | S13: 前回変状の発生範囲及び規模 | U13: 0.05m×0.10m (判定Ⅱb)
B14: 対策履歴 | E14: 監視(日常巡視) | H14: 実施状況（実施日） | J14: 継続 | M14: 対策履歴 | P14: 監視(日常巡視) | S14: 実施状況（実施日） | U14: 継続
B15: メモ | E15: アーチ部(天端)に補修跡うき(前回はく落)。将来的に利用者に影響が及ぶ可能性があるため、重点的な監視及び計画的な対策を必要とする。 ※打音異常無し | M15: メモ | P15: 横断目地部(アーチ右側)にはく落(異物(紙)混入)。現状で利用者被害の可能性は低いため、監視にとどめる。※打音異常無し
B16: 写真 番号 | C16: 覆工スパン 番号 | E16: S005 | M16: 写真 番号 | N16: 覆工スパン 番号 | P16: S005
C17: 変状番号 | E17: 35 | N17: 変状番号 | P17: 37
B18: 変状 部位 | C18: 対象箇所 | E18: 覆工 | M18: 変状 部位 | N18: 対象箇所 | P18: 覆工
C19: 部位区分 | E19: 横断目地（右側） | N19: 部位区分 | P19: 水平打ち継ぎ目（左側）
B20: 変状種類 | E20: うき・はく離 | M20: 変状種類 | P20: うき・はく離
B21: 対策 区分 | C21: 変状区分 | E21: 材質劣化 | M21: 対策 区分 | N21: 変状区分 | P21: 材質劣化
C22: 応急措置前 | N22: 応急措置前
C23: 応急措置後 | E23: Ⅱa | N23: 応急措置後 | P23: Ⅱb
B24: 変状の発生範囲及び規模 | E24: 0.03m2(0.60m×0.05m) | H24: 前回変状の発生範囲及び規模 | J24: 0.05m×0.50m (判定Ⅱa) | M24: 変状の発生範囲及び規模 | P24: 0.35m2(0.10m×3.50m) | S24: 前回変状の発生範囲及び規模 | U24: 3.50m×0.10m (判定Ⅱa)
B25: 対策履歴 | E25: － | H25: 実施状況（実施日） | J25: － | M25: 対策履歴 | P25: － | S25: 実施状況（実施日） | U25: －
B26: メモ | E26: 横断目地部(アーチ右側)にうき。将来的に利用者に影響が及ぶ可能性があるため、重点的な監視及び計画的な対策を必要とする。 ※打音異常無し | M26: メモ | P26: 水平打ち継ぎ目(左側)沿いにうき。現状で利用者被害の可能性は低いため、監視にとどめる。 ※打音異常無し
C27: ※ 応急措置後の対策区分について添付すること。また、点検前に 実施された措置によりⅠと判定された箇所も添付すること。 | N27: ※ 変状の発生範囲の規模とは、対策を行う際に参考となる変状の長さや面積をいう。
N28: ※ 応急措置を実施しないで決定した変状の対策区分は、対策区分の応急措置後の欄に記入すること。
C29: ※ たたき落としを実施した場合は、実施後の写真を添付すること。 | N29: ※ 変状の発生範囲の規模は、面積・寸法を記載すること。(ひび割れ幅のみmmとし、その他をm表記とする)
N30: ※ 構造用鋼材以外の異物に伴ううき・はく離については、メモ欄に異物の概要を記入すること。

Sheet 様式D-1-1 (16)
B2: ■定期点検記録様式 変状写真台帳【様式D-1-1】 | R2: 施設ID | T2: 34.03558,132.05172
B3: フリガナ | E3: ナカヤマトンネル | H3: 路 線 名 | J3: 主要地方道柳井周東線 | M3: 定期点検実施者 | P3: 株式会社長大 | S3: 定期点検年月日 | U3: 45917
B4: 名 称 | E4: 中山トンネル | H4: 管理者名 | J4: 岩国土木建築事務所 | P4: 鷲尾 寛
B5: 写真 番号 | C5: 覆工スパン 番号 | E5: S005 | M5: 写真 番号 | N5: 覆工スパン 番号 | P5: S005
C6: 変状番号 | E6: 38 | N6: 変状番号 | P6: 40
B7: 変状 部位 | C7: 対象箇所 | E7: 覆工 | M7: 変状 部位 | N7: 対象箇所 | P7: 覆工
C8: 部位区分 | E8: 水平打ち継ぎ目（左側） | N8: 部位区分 | P8: 水平打ち継ぎ目（右側）
B9: 変状種類 | E9: うき・はく離 | M9: 変状種類 | P9: うき・はく離
B10: 対策 区分 | C10: 変状区分 | E10: 材質劣化 | M10: 対策 区分 | N10: 変状区分 | P10: 材質劣化
C11: 応急措置前 | N11: 応急措置前
C12: 応急措置後 | E12: Ⅱb | N12: 応急措置後 | P12: Ⅱb
B13: 変状の発生範囲及び規模 | E13: 0.03m2(0.10m×0.30m) | H13: 前回変状の発生範囲及び規模 | J13: 0.30m×0.10m (判定Ⅱa) | M13: 変状の発生範囲及び規模 | P13: 0.22m2(0.10m×2.20m) | S13: 前回変状の発生範囲及び規模 | U13: 2.50m×0.10m (判定Ⅱa)
B14: 対策履歴 | E14: － | H14: 実施状況（実施日） | J14: － | M14: 対策履歴 | P14: － | S14: 実施状況（実施日） | U14: －
B15: メモ | E15: 水平打ち継ぎ目(左側)沿いにうき。現状で利用者被害の可能性は低いため、監視にとどめる。 ※打音異常無し | M15: メモ | P15: 水平打ち継ぎ目(右側)沿いにうき。現状で利用者被害の可能性は低いため、監視にとどめる。 ※打音異常無し
B16: 写真 番号 | C16: 覆工スパン 番号 | E16: S005 | M16: 写真 番号 | N16: 覆工スパン 番号 | P16: S005
C17: 変状番号 | E17: 41 | N17: 変状番号 | P17: 42
B18: 変状 部位 | C18: 対象箇所 | E18: 覆工 | M18: 変状 部位 | N18: 対象箇所 | P18: 覆工
C19: 部位区分 | E19: 水平打ち継ぎ目（右側） | N19: 部位区分 | P19: 水平打ち継ぎ目（右側）
B20: 変状種類 | E20: うき・はく離 | M20: 変状種類 | P20: うき・はく離
B21: 対策 区分 | C21: 変状区分 | E21: 材質劣化 | M21: 対策 区分 | N21: 変状区分 | P21: 材質劣化
C22: 応急措置前 | N22: 応急措置前
C23: 応急措置後 | E23: Ⅱb | N23: 応急措置後 | P23: Ⅱb
B24: 変状の発生範囲及び規模 | E24: 0.09m2(0.10m×0.90m) | H24: 前回変状の発生範囲及び規模 | J24: 0.90m×0.10m (判定Ⅱa) | M24: 変状の発生範囲及び規模 | P24: 0.09m2(0.10m×0.90m) | S24: 前回変状の発生範囲及び規模 | U24: 0.90m×0.10m (判定Ⅱa)
B25: 対策履歴 | E25: － | H25: 実施状況（実施日） | J25: － | M25: 対策履歴 | P25: － | S25: 実施状況（実施日） | U25: －
B26: メモ | E26: 水平打ち継ぎ目(右側)沿いにうき。現状で利用者被害の可能性は低いため、監視にとどめる。 ※打音異常無し | M26: メモ | P26: 水平打ち継ぎ目(右側)沿いにうき。現状で利用者被害の可能性は低いため、監視にとどめる。 ※打音異常無し
C27: ※ 応急措置後の対策区分について添付すること。また、点検前に 実施された措置によりⅠと判定された箇所も添付すること。 | N27: ※ 変状の発生範囲の規模とは、対策を行う際に参考となる変状の長さや面積をいう。
N28: ※ 応急措置を実施しないで決定した変状の対策区分は、対策区分の応急措置後の欄に記入すること。
C29: ※ たたき落としを実施した場合は、実施後の写真を添付すること。 | N29: ※ 変状の発生範囲の規模は、面積・寸法を記載すること。(ひび割れ幅のみmmとし、その他をm表記とする)
N30: ※ 構造用鋼材以外の異物に伴ううき・はく離については、メモ欄に異物の概要を記入すること。

Sheet 様式D-1-1 (17)
B2: ■定期点検記録様式 変状写真台帳【様式D-1-1】 | R2: 施設ID | T2: 34.03558,132.05172
B3: フリガナ | E3: ナカヤマトンネル | H3: 路 線 名 | J3: 主要地方道柳井周東線 | M3: 定期点検実施者 | P3: 株式会社長大 | S3: 定期点検年月日 | U3: 45917
B4: 名 称 | E4: 中山トンネル | H4: 管理者名 | J4: 岩国土木建築事務所 | P4: 鷲尾 寛
B5: 写真 番号 | C5: 覆工スパン 番号 | E5: S005 | M5: 写真 番号 | N5: 覆工スパン 番号 | P5: S005
C6: 変状番号 | E6: 43 | N6: 変状番号 | P6: 49
B7: 変状 部位 | C7: 対象箇所 | E7: 覆工 | M7: 変状 部位 | N7: 対象箇所 | P7: 覆工
C8: 部位区分 | E8: 側壁（右側） | N8: 部位区分 | P8: アーチ（左側）
B9: 変状種類 | E9: 補修・補強材の破損 | M9: 変状種類 | P9: 圧ざ、ひび割れ
B10: 対策 区分 | C10: 変状区分 | E10: 材質劣化 | M10: 対策 区分 | N10: 変状区分 | P10: 材質劣化
C11: 応急措置前 | N11: 応急措置前
C12: 応急措置後 | E12: Ⅱb | N12: 応急措置後 | P12: Ⅱb
B13: 変状の発生範囲及び規模 | E13: 0.04m2(0.40m×0.10m) | H13: 前回変状の発生範囲及び規模 | J13: 0.10m×0.40m (判定Ⅱb) | M13: 変状の発生範囲及び規模 | P13: 0.04m2(長さ0.40m×幅1.00mm) | S13: 前回変状の発生範囲及び規模 | U13: 今回新規変状
B14: 対策履歴 | E14: 監視(日常巡視) | H14: 実施状況（実施日） | J14: 継続 | M14: 対策履歴 | P14: － | S14: 実施状況（実施日） | U14: －
B15: メモ | E15: 側壁部(右側)に線導水破損。現状で利用者被害の可能性は低いため、監視にとどめる。 | M15: メモ | P15: アーチ部(左側)に斜めひび割れ。新たに発生。現状で利用者被害の可能性は低いため、監視にとどめる。
B16: 写真 番号 | C16: 覆工スパン 番号 | E16: S005 | M16: 写真 番号 | N16: 覆工スパン 番号 | P16: S005
C17: 変状番号 | E17: 50 | N17: 変状番号 | P17: 51
B18: 変状 部位 | C18: 対象箇所 | E18: 覆工 | M18: 変状 部位 | N18: 対象箇所 | P18: 覆工
C19: 部位区分 | E19: 水平打ち継ぎ目（左側） | N19: 部位区分 | P19: 水平打ち継ぎ目（左側）
B20: 変状種類 | E20: うき・はく離 | M20: 変状種類 | P20: うき・はく離
B21: 対策 区分 | C21: 変状区分 | E21: 材質劣化 | M21: 対策 区分 | N21: 変状区分 | P21: 材質劣化
C22: 応急措置前 | N22: 応急措置前
C23: 応急措置後 | E23: Ⅱb | N23: 応急措置後 | P23: Ⅱb
B24: 変状の発生範囲及び規模 | E24: 0.19m2(0.10m×1.90m) | H24: 前回変状の発生範囲及び規模 | J24: 15.80m×0.10m (判定Ⅱa) | M24: 変状の発生範囲及び規模 | P24: 0.16m2(0.10m×1.60m) | S24: 前回変状の発生範囲及び規模 | U24: 8.20m×0.10m (判定Ⅱa)
B25: 対策履歴 | E25: － | H25: 実施状況（実施日） | J25: － | M25: 対策履歴 | P25: － | S25: 実施状況（実施日） | U25: －
B26: メモ | E26: 水平打ち継ぎ目(左側)沿いにうき。現状で利用者被害の可能性は低いため、監視にとどめる。(前回S4-26で評価) ※打音異常無し | M26: メモ | P26: 水平打ち継ぎ目(左側)沿いにうき。現状で利用者被害の可能性は低いため、監視にとどめる。(前回S6-32で評価)※打音異常無し
C27: ※ 応急措置後の対策区分について添付すること。また、点検前に 実施された措置によりⅠと判定された箇所も添付すること。 | N27: ※ 変状の発生範囲の規模とは、対策を行う際に参考となる変状の長さや面積をいう。
N28: ※ 応急措置を実施しないで決定した変状の対策区分は、対策区分の応急措置後の欄に記入すること。
C29: ※ たたき落としを実施した場合は、実施後の写真を添付すること。 | N29: ※ 変状の発生範囲の規模は、面積・寸法を記載すること。(ひび割れ幅のみmmとし、その他をm表記とする)
N30: ※ 構造用鋼材以外の異物に伴ううき・はく離については、メモ欄に異物の概要を記入すること。

Sheet 様式D-1-1 (18)
B2: ■定期点検記録様式 変状写真台帳【様式D-1-1】 | R2: 施設ID | T2: 34.03558,132.05172
B3: フリガナ | E3: ナカヤマトンネル | H3: 路 線 名 | J3: 主要地方道柳井周東線 | M3: 定期点検実施者 | P3: 株式会社長大 | S3: 定期点検年月日 | U3: 45917
B4: 名 称 | E4: 中山トンネル | H4: 管理者名 | J4: 岩国土木建築事務所 | P4: 鷲尾 寛
B5: 写真 番号 | C5: 覆工スパン 番号 | E5: S005 | M5: 写真 番号 | N5: 覆工スパン 番号 | P5: S005
C6: 変状番号 | E6: 52 | N6: 変状番号 | P6: 53
B7: 変状 部位 | C7: 対象箇所 | E7: 路面 | M7: 変状 部位 | N7: 対象箇所 | P7: 路面
C8: 部位区分 | E8: 側溝 | N8: 部位区分 | P8: 側溝
B9: 変状種類 | E9: その他 | M9: 変状種類 | P9: その他
B10: 対策 区分 | C10: 変状区分 | M10: 対策 区分 | N10: 変状区分
C11: 応急措置前 | N11: 応急措置前
C12: 応急措置後 | N12: 応急措置後
B13: 変状の発生範囲及び規模 | E13: 4箇所 | H13: 前回変状の発生範囲及び規模 | J13: 今回新規変状 | M13: 変状の発生範囲及び規模 | P13: 1箇所 | S13: 前回変状の発生範囲及び規模 | U13: 今回新規変状
B14: 対策履歴 | E14: － | H14: 実施状況（実施日） | J14: － | M14: 対策履歴 | P14: － | S14: 実施状況（実施日） | U14: －
B15: メモ | E15: 側溝蓋破損。新たに発生。現状で利用者被害の可能性は低い。 | M15: メモ | P15: 側溝蓋破損。新たに発生。現状で利用者被害の可能性は低い。
B16: 写真 番号 | C16: 覆工スパン 番号 | E16: S006 | M16: 写真 番号 | N16: 覆工スパン 番号 | P16: S006
C17: 変状番号 | E17: 1 | N17: 変状番号 | P17: 5
B18: 変状 部位 | C18: 対象箇所 | E18: 覆工 | M18: 変状 部位 | N18: 対象箇所 | P18: 覆工
C19: 部位区分 | E19: アーチ（左側） | N19: 部位区分 | P19: 横断目地（天端）
B20: 変状種類 | E20: 漏水 | M20: 変状種類 | P20: うき・はく離
B21: 対策 区分 | C21: 変状区分 | E21: 漏水 | M21: 対策 区分 | N21: 変状区分 | P21: 材質劣化
C22: 応急措置前 | N22: 応急措置前
C23: 応急措置後 | E23: Ⅱb | N23: 応急措置後 | P23: Ⅱb
B24: 変状の発生範囲及び規模 | E24: 2.55m2(5.10m×0.50m) | H24: 前回変状の発生範囲及び規模 | J24: 規模記載なし (判定Ⅱb) | M24: 変状の発生範囲及び規模 | P24: 0.02m2(0.40m×0.05m) | S24: 前回変状の発生範囲及び規模 | U24: 0.05m×0.40m (判定Ⅱb)
B25: 対策履歴 | E25: 監視(日常巡視) | H25: 実施状況（実施日） | J25: 継続 | M25: 対策履歴 | P25: 監視(日常巡視) | S25: 実施状況（実施日） | U25: 継続
B26: メモ | E26: アーチ部(左側)にひび割れ沿いのにじみ。現状で利用者被害の可能性は低いため、監視にとどめる。 | M26: メモ | P26: 横断目地部(天端)に豆板。現状で利用者被害の可能性は低いため、監視にとどめる。 ※打音異常無し
C27: ※ 応急措置後の対策区分について添付すること。また、点検前に 実施された措置によりⅠと判定された箇所も添付すること。 | N27: ※ 変状の発生範囲の規模とは、対策を行う際に参考となる変状の長さや面積をいう。
N28: ※ 応急措置を実施しないで決定した変状の対策区分は、対策区分の応急措置後の欄に記入すること。
C29: ※ たたき落としを実施した場合は、実施後の写真を添付すること。 | N29: ※ 変状の発生範囲の規模は、面積・寸法を記載すること。(ひび割れ幅のみmmとし、その他をm表記とする)
N30: ※ 構造用鋼材以外の異物に伴ううき・はく離については、メモ欄に異物の概要を記入すること。

Sheet 様式D-1-1 (19)
B2: ■定期点検記録様式 変状写真台帳【様式D-1-1】 | R2: 施設ID | T2: 34.03558,132.05172
B3: フリガナ | E3: ナカヤマトンネル | H3: 路 線 名 | J3: 主要地方道柳井周東線 | M3: 定期点検実施者 | P3: 株式会社長大 | S3: 定期点検年月日 | U3: 45917
B4: 名 称 | E4: 中山トンネル | H4: 管理者名 | J4: 岩国土木建築事務所 | P4: 鷲尾 寛
B5: 写真 番号 | C5: 覆工スパン 番号 | E5: S006 | M5: 写真 番号 | N5: 覆工スパン 番号 | P5: S006
C6: 変状番号 | E6: 6 | N6: 変状番号 | P6: 7
B7: 変状 部位 | C7: 対象箇所 | E7: 覆工 | M7: 変状 部位 | N7: 対象箇所 | P7: 覆工
C8: 部位区分 | E8: 横断目地（天端） | N8: 部位区分 | P8: 横断目地（天端）
B9: 変状種類 | E9: うき・はく離 | M9: 変状種類 | P9: うき・はく離
B10: 対策 区分 | C10: 変状区分 | E10: 材質劣化 | M10: 対策 区分 | N10: 変状区分 | P10: 材質劣化
C11: 応急措置前 | N11: 応急措置前
C12: 応急措置後 | E12: Ⅱb | N12: 応急措置後 | P12: Ⅱa
B13: 変状の発生範囲及び規模 | E13: 0.08m2(0.80m×0.10m) | H13: 前回変状の発生範囲及び規模 | J13: 0.05m×0.80m (判定Ⅱb) | M13: 変状の発生範囲及び規模 | P13: 0.08m2(0.80m×0.10m) | S13: 前回変状の発生範囲及び規模 | U13: 0.05m×0.80m (判定Ⅱb)
B14: 対策履歴 | E14: 監視(日常巡視) | H14: 実施状況（実施日） | J14: 継続 | M14: 対策履歴 | P14: 監視(日常巡視) | S14: 実施状況（実施日） | U14: 継続
