Workbook
Name その他: '(参考)リスト'!$C$47
Name その他施設: '[1](参考)リスト'!#REF!
Name その他施設: '(参考)リスト'!$C$79:$C$83
Name 換気施設: '[1](参考)リスト'!#REF!
Name 換気施設: '(参考)リスト'!$C$56:$C$60
Name 坑門: '(参考)リスト'!$C$31:$C$32
Name 照明施設: '[1](参考)リスト'!#REF!
Name 照明施設: '(参考)リスト'!$C$52:$C$54
Name 対象箇所: [2]!テーブル1[対象箇所]
Name 天井板: '(参考)リスト'!$C$37:$C$39
Name 内装板: '(参考)リスト'!$C$34:$C$35
Name 非常用施設: '[1](参考)リスト'!#REF!
Name 非常用施設: '(参考)リスト'!$C$62:$C$77
Name 覆工: '(参考)リスト'!$C$16:$C$29
Name 路面: '(参考)リスト'!$C$41:$C$45

Sheet 点検様式作成フロー
A1: 点検様式作成フロ-
A3: 作成フロー図 | H3: 点検調書作成手順
H4: ①様式A-1～A-3（トンネル台帳）
H5: トンネル点検の実施にあたっては，現場点検作業に先行してトンネル情報を収集する。トンネル台帳（様式Ａ－1～様式Ａ－3）はトンネル完成後に作成され，維持管理の段階で引き継がれるが，関連資料等を確認したうえで，追加情報があれば必要に応じて追記することが望ましい。
H9: ②様式D-2-1、様式D-2-1´
H10: 現場点検作業を実施し，近接目視点検で確認した変状状況や補修履歴を忠実に変状展開図に転記する。
H12: ③様式D-1-1、様式D-1-2
H13: 変状展開図や撮影した写真等をもとに，対象トンネルの対策区分を決定し，対策区分がⅡ～Ⅳの変状および異常判定区分「×」を抽出し，写真台帳を作成する。
H16: ④様式B
H17: 写真台帳の作成と同時に，トンネルの構造を展開した位置図に変状写真位置を記録する。
H19: ⑤様式D-3
H20: 変状展開図ならびに写真台帳をもとに覆工スパンごとの変状展開図を作成し，変状発生状況をとりまとめる。
H22: ⑥様式E
H23: 近接目視または打音検査，触診ができていない箇所および近接目視によらない方法を講じた場所に対する調査結果を記録する。
... H33: ファイルは以下の分割規則に従う。 ※各ファイルとも （参考）リスト のシートを付けて保存すること。 ・様式A-1～A-3は同一ファイルとする。 ・様式B、D-1-1、D-1-2、D-2-1（もしくはD-2-1'）は別ファイルとする。 ・様式C-1-1、C-1-2、C-2は同一ファイルとする。 ・様式D-3、E、F、Gは同一ファイルとする。

Sheet 変状面積算出方法
A1: 変状面積算出方法
A26: 注1）外力による変状：ひび割れや圧ざの場合は変状の寸法を記録する。
A27: 例）ひび割れ：長さ（L）×最大ひび割れ幅（t）を記録する。 変形，移動，沈下：数値的な記載が可能な場合のみ記載する。
A28: 注2）材料劣化による変状：材質劣化による変状を包括する面積を記録する。
A29: 例）うき，はく離（閉合ひび割れ）：変状範囲を包括する寸法（L×W） うき，はく離（ひび割れ沿い）：打音異常箇所を包括する寸法（L×W） ひび割れ：長さ（L）×幅 * (W=0.1m：一律）を面積として記録する。 *ここでいう幅は実測幅ではなく便宜上一律に0.1mとする。 ※ただし，密集したひび割れの場合は，密集した範囲を面積として記載する。 鋼材腐食（鉄筋腐食）：一括した対策が適当と考えられる範囲を包括する寸法（L×W）
A30: 注3）漏水による変状：漏水発生範囲を包括し，垂れ下がりの可能性がある側壁下端まで含めた寸法を，L×Wで記録する。打継ぎ目地沿いの 漏水については目地を跨いだ50cm幅を横幅とする。

Sheet 記入の留意点
B2: トンネルDBでは、Excelに記載された文字や数値・配置された画像を自動的に読込みデータベースへ登録します。
B3: 記録様式へ記入の留意点を下記に示します。
B5: １．記録様式への記入
C6: ➤各セルに表示されるコメントに従って、様式A-1～様式Gのシートに、点検結果（テキスト入力、選択項目）を入力してください。
C7: ➤位置図(様式B)、変状写真(様式D-1-1)、異常写真(様式D-1-2)は記入した変状写真番号等に対応した画像を間違いないように貼り付けてください。
C8: ➤列や行の挿入削除は行わず、セルの位置がずれないようにしてください。データベースへ読み取り時にずれて取り込まれてしまいます。
B11: ２．画像ファイルの配置の注意点
C12: 登録に使用可能な画像ファイルの拡張子は「jpg」「jpeg」「png」の3種類のみです。
C13: 必ず、１か所に画像１枚のみを張り付けてください。エクセルの図形などのオブジェクトは使用しないでください。
C14: 張り付けた画像はエクセルのトリミング機能を使用しないでください。あらかじめ切り抜いた画像を利用してください。
C15: ※１ 画像の左上を必ずセルの内部に含め、はみ出ないようにしてください。
C16: ※２ 図の書式設定で「セルに合わせて移動やサイズを変更しない」のモードを使用しないでください。
C32: ※３ 「挿入」→「画像」→「セルの上に配置」してください。
B41: ３．シート名の連番について
C42: １ページに記載しきれない場合は、１シート内にページを増やすのではなくシート自体をコピーしシート名の末尾を連番にしてください。
C43: 対象様式
C44: 様式B
C45: 様式D-1-1
C46: 様式D-1-2
C47: 様式D-2-1
C48: 様式D-2-1´
C49: 様式D-3_S00 ※スパン名を記載
C50: 様式G
C52: 末尾の連番の形式例
C53: 様式B(1) 様式B(2) 様式B(3)
C54: 様式B_001 様式B_002 様式B_003
... C61: で示される要領を制限するものではありません。

Sheet 様式A-1
B2: ■トンネル台帳 トンネル諸元、非常用施設諸元 【様式A-1】 | S2: 施設ID | W2: 34.03558,132.05172
B3: フリガナ | D3: ナカヤマトンネル | H3: 路線名 | J3: 主要地方道柳井周東線 | P3: 管理者名 | R3: 山口県 岩国土木建築事務所 | W3: 緊急輸送道路 | Z3: 指定なし
B4: 名 称 | D4: 中山トンネル | W4: 代替路の有無 | Z4: 無
B5: 所在地 | D5: 自 | E5: 山口県岩国市周東町中山 | H5: 作成者 | K5: 株式会社 長大 鷲尾 寛 | P5: 作成年月日 | R5: 46080 | U5: トンネル延長 | X5: L= | Z5: 122 | AB5: ｍ
D6: 至 | E6: 山口県岩国市周東町中山 | U6: ﾄﾝﾈﾙの分類 | X6: 陸上トンネル（掘進工法）
B7: 起点 | C7: 緯度 | E7: 34.05178 | H7: 完成年月日 | K7: 平成2年 | M7: 舗装 | O7: 種 別 | Q7: コンクリート系 | S7: トンネル非常用施設 | T7: 施設の内訳 | X7: 種別・方式 | Y7: 型式 | Z7: 個数 | AA7: 更新年度 | AE7: =INT(E7/10000) -> 0 | AF7: =INT(E7/100)-AE7*100 -> 0 | AG7: =E7-AE7*10000-AF7*100 -> 34.05178 | AH7: =ROUND(AE7+AF7/60+AG7/60/60,5) -> 0.00946 | AI7: =TEXT(AH7,"0.00000") -> 0.00946
C8: 経度 | E8: 132.06775 | H8: 供用年月日 | O8: 厚 さ | T8: 通報設備 | U8: 通話型通報設備 | Y8: - | Z8: * | AE8: =INT(E8/10000) -> 0 | AF8: =INT(E8/100)-AE8*100 -> 1 | AG8: =E8-AE8*10000-AF8*100 -> 32.06775 | AH8: =ROUND(AE8+AF8/60+AG8/60/60,5) -> 0.02557 | AI8: =TEXT(AH8,"0.00000") -> 0.02557
B9: 終点 | C9: 緯度 | E9: 34.05132 | H9: トンネル等級 | O9: 面 積 | U9: 操作型通報設備 | Y9: - | Z9: *
C10: 経度 | E10: 132.06744 | H10: 内装種類 | K10: 内装なし | O10: 更新年次 | U10: 自動通報設備 | Y10: - | Z10: *
B11: 一般有料区分 | E11: 無料 | H11: 天井板種類 | K11: 内装なし | M11: 排水 | O11: 種 別 | Q11: 円形水路 | T11: 警報設備 | U11: 非常警報設備 | Y11: - | Z11: *
B12: 土かぶり | E12: 0 | G12: m | H12: 坑門 | I12: 起点 | J12: 形式 | K12: 面壁型 | O12: 更新年次 | T12: 消火設備 | U12: 消 火 器 | Y12: - | Z12: *
B13: 内空断面積 | G13: m2 | J13: 延長 | K13: 0 | L13: m | M13: 施設 | P13: 種別・方式 | Q13: 個数 | R13: 更新年次 | U13: 消火栓設備 | Y13: - | Z13: *
B14: 交 通 量 | E14: 2872 | G14: 台/日 | I14: 終点 | J14: 形式 | K14: 面壁型 | M14: 道路附属物等 | N14: 照明 | P14: 低圧ﾅﾄﾘｳﾑﾗﾝﾌﾟ | Q14: 64 | T14: 避難誘導設備 | U14: 誘導表示設備 | Y14: - | Z14: *
C15: 道 路 幅 | E15: 9.25 | G15: m | J15: 延長 | K15: 0 | L15: m | N15: 換気 | P15: 自然換気 | U15: 避難情報提供設備 | Y15: - | Z15: *
B16: 幅 員 | C16: 車 道 幅 | E16: 3 | G16: m | H16: 竣工巻厚 | I16: アーチ | K16: 30 | L16: cm | N16: 標識 | P16: ＊ | Y16: - | Z16: *
E17: 3 | G17: m | I17: 側 壁 | L17: cm | N17: 警報表示板 | P17: ＊ | U17: 避難通路 | Y17: - | Z17: *
C18: 歩道等幅 | E18: 2.25 | G18: m | L18: cm | N18: 吸音板 | P18: ＊ | U18: 排煙設備 | Y18: - | Z18: *
B19: 高さ | C19: 建築限界高 | E19: 4.5 | G19: m | I19: インバート | K19: 50 | L19: cm | T19: その他の設備 | U19: 給水栓設備 | Y19: - | Z19: *
C20: 中央高 | E20: 6.1 | G20: m | H20: 半径 | I20: アーチ | L20: cm | U20: 無線通信補助設備 | Y20: - | Z20: *
C21: 有効高 | E21: 4.5 | G21: m | I21: 側 壁 | L21: cm | U21: 水噴霧設備 | Y21: - | Z21: *
C22: 縦断勾配 | E22: 0 | I22: インバート | L22: cm | U22: 監視設備 | Y22: - | Z22: *
B23: 線 形 | C23: 直線区間長 | E23: 0 | H23: 占用物件 | I23: 種 類 | K23: 寸 法 | M23: 管理者名 | Q23: 更新年次 | S23: 非常用施設 関連設備 | U23: 予備発電設備 | Y23: - | Z23: *
C24: 曲線区間 | D24: 区間長
D25: 起点側ｸﾛｿｲﾄﾞ
D26: 曲線半径
D27: 終点側ｸﾛｿｲﾄﾞ | S27: その他 | U27: 非常駐車帯 | Y27: - | Z27: *
B28: トンネル工法 | E28: 山岳トンネル工法（NATM） | U28: 方向転換所 | Y28: - | Z28: *
C29: ※緯度・経度については、十進緯度経度小数第５位で記入すること。

Sheet 様式A-2
B3: ■トンネル台帳 トンネル情報一覧表 【様式A-2】
B4: フリガナ | E4: ='様式A-1'!D3 -> ナカヤマトンネル | J4: 路線名 | M4: ='様式A-1'!J3 -> 主要地方道柳井周東線 | S4: 作成者 | Y4: ='様式A-1'!K5 -> 株式会社 長大 鷲尾 寛 | AE4: 作成年月日 | AI4: ='様式A-1'!R5 -> 46080
B5: 名 称 | E5: ='様式A-1'!D4 -> 中山トンネル | J5: 管理者名 | M5: ='様式A-1'!R3 -> 山口県 岩国土木建築事務所
B6: 覆工 ｽﾊﾟﾝ 番号 | C6: ｽﾊﾟﾝ長 | D6: 追加距離 | F6: トンネル本体工 | K6: 照明施設 | O6: 非常用施設 | AE6: 換気施設 | AK6: その他附属物等
O7: 通報設備 | R7: 警報設備 | S7: 消火設備 | U7: 避難誘導設備 | Y7: その他の設備 | AC7: 特記事項
D8: 起点側 | E8: 終点側 | F8: 特記事項 | I8: 内装板 | J8: 天井板 | K8: 基本照明 | L8: 入口出口照明 | M8: 特記事項 | O8: 通話型通報設備 | P8: 操作型通報設備 | Q8: 自動通報設備 | R8: 非常警報設備 | S8: 消 火 器 | T8: 消火栓設備 | U8: 誘導表示設備 | V8: 避難情報提供設備 | W8: 避難通路 | X8: 排煙設備 | Y8: 給水栓設備 | Z8: 無線通信補助設備 | AA8: 水噴霧設備 | AB8: 監視設備 | AE8: JF | AF8: VI計 | AG8: CO計 | AH8: 風向 風速計 | AI8: 特記事項
C9: (m) | D9: (m) | E9: (m)
B10: PS | C10: 8.7 | D10: 0 | E10: 8.7 | K10: ○ | AK10: 坑口表示板
B11: S001 | C11: 10.5 | D11: 8.7 | E11: 19.2 | K11: ○
B12: S002 | C12: 10.5 | D12: 19.2 | E12: 29.7 | K12: ○
B13: S003 | C13: 10.5 | D13: 29.7 | E13: 40.2 | K13: ○
B14: S004 | C14: 10.5 | D14: 40.2 | E14: 50.7 | K14: ○
B15: S005 | C15: 10.5 | D15: 50.7 | E15: 61.2 | K15: ○
B16: S006 | C16: 10.5 | D16: 61.2 | E16: 71.7 | K16: ○
B17: S007 | C17: 10.45 | D17: 71.7 | E17: 82.15 | K17: ○
B18: S008 | C18: 10.5 | D18: 82.15 | E18: 92.65 | K18: ○
B19: S009 | C19: 10.5 | D19: 92.65 | E19: 103.15 | K19: ○
B20: S010 | C20: 10.5 | D20: 103.15 | E20: 113.65 | K20: ○
B21: PE | C21: 10.8 | D21: 113.65 | E21: 124.45 | K21: ○ | AK21: 坑口表示板
B42: ※ 行が不足する場合は、適時、表の行を増やすこと。

Sheet 様式A-3
B3: ■トンネル台帳 トンネル記録（位置図、断面図、施工実績他）【様式A-3】
B4: フリガナ | E4: ='様式A-1'!D3 -> ナカヤマトンネル | J4: 路線名 | M4: ='様式A-1'!J3 -> 主要地方道柳井周東線 | S4: 作成者 | W4: ='様式A-1'!K5 -> 株式会社 長大 鷲尾 寛 | AC4: 作成年月日 | AF4: ='様式A-1'!R5 -> 46080
B5: 名 称 | E5: ='様式A-1'!D4 -> 中山トンネル | J5: 管理者名 | M5: ='様式A-1'!R3 -> 山口県 岩国土木建築事務所
B6: 位置図・現況写真・標準断面図・地質縦断図・施工実績

Sheet 様式B (1)
B2: ■定期点検記録様式 トンネル変状・異常箇所写真位置図 【様式B】 | N2: 定期点検年月日 | P2: 45917 | S2: 施設ID | V2: 34.03558,132.05172
B3: フリガナ | C3: ナカヤマトンネル | G3: 路線名 | H3: 主要地方道柳井周東線 | K3: 管理者名 | L3: 岩国土木建築事務所 | Q3: 定期点検実施者 | S3: 株式会社長大 | V3: 起点 | W3: 緯度 | X3: 34.05178
B4: 名 称 | C4: 中山トンネル | S4: 鷲尾 寛 | W4: 経度 | X4: 132.06775
B5: 所在地 | C5: 自 | D5: 山口県岩国市周東町中山地先 | G5: トンネル工法 | I5: 矢板工法 | L5: トンネル延長 | N5: L= | O5: 122 | P5: ｍ | Q5: 自専道 or 一般道 | R5: 一般 | S5: 代替路の有無 | U5: 無 | V5: 終点 | W5: 緯度 | X5: 34.05132
C6: 至 | D6: 山口県岩国市周東町中山地先 | G6: 建設年度 | I6: 1990年 | L6: 幅員 | N6: L= | O6: 9.25 | P6: ｍ | S6: 緊急輸送道路 | U6: 指定なし | W6: 経度 | X6: 132.06744
B7: トンネル毎 の健全性の 診断の区分 | D7: Ⅱ
G8: 変状・異常 箇所数合計 | I8: トンネル本体工 | J8: 材質劣化 | K8: Ⅱ | L8: 143 | N8: Ⅲ | O8: 0 | Q8: Ⅳ | R8: 0 | T8: 附属物等 の取付状態 | V8: ◯ （応急措置後) | X8: 0
J9: 漏水 | K9: Ⅱ | L9: 4 | N9: Ⅲ | O9: 0 | Q9: Ⅳ | R9: 0
V10: ✕ | X10: 15
J11: 外力 | K11: Ⅱ | L11: 0 | N11: Ⅲ | O11: 0 | Q11: Ⅳ | R11: 0
B12: トンネル変状・異常箇所写真位置図
J29: 注１：本位置図は、見下げた状態で記載すること。 注２：覆工スパン番号は横断目地毎(矢板工法の場合は上半アーチの 横断目地毎)に設定すること。 | Q29: 注３：写真番号に付する変状番号は、各覆工スパンの変状に対して新たに確認された場合 は順次追加していくこと。 注４：横断目地の変状は前の覆工スパン番号で計上すること。 注５：１枚に収まらない場合は、複数枚に分けて作成すること。
C30: ※1 トンネル本体工の変状数は、材質劣化、漏水に起因するものは変状単位で、外力に起因するものはスパン単位で計上すること。
C31: ※2 トンネル本体工の変状に対しては、措置の必要性（Ⅱ～Ⅳ）について表記すること。また、点検前に実施された措置によりⅠと判定された箇所についても記載すること。
C32: ※3 附属物等の取付状態の○欄については、応急措置前に判定区分×とした箇所のうち応急措置により○判定とした箇所の数を記入すること。
C33: ※4 附属物等の異常番号は、本体工と番号が重複しないよう101番以降とする等の配慮を行い、分かりやすく記録すること。

Sheet 様式B (2)
B2: ■定期点検記録様式 トンネル変状・異常箇所写真位置図 【様式B】 | N2: 定期点検年月日 | P2: 45917 | S2: 施設ID | V2: 34.03558,132.05172
B3: フリガナ | C3: ナカヤマトンネル | G3: 路線名 | H3: 主要地方道柳井周東線 | K3: 管理者名 | L3: 岩国土木建築事務所 | Q3: 定期点検実施者 | S3: 株式会社長大 | V3: 起点 | W3: 緯度 | X3: 34.05178
B4: 名 称 | C4: 中山トンネル | S4: 鷲尾 寛 | W4: 経度 | X4: 132.06775
B5: 所在地 | C5: 自 | D5: 山口県岩国市周東町中山地先 | G5: トンネル工法 | I5: 矢板工法 | L5: トンネル延長 | N5: L= | O5: 122 | P5: ｍ | Q5: 自専道 or 一般道 | R5: 一般 | S5: 代替路の有無 | U5: 無 | V5: 終点 | W5: 緯度 | X5: 34.05132
C6: 至 | D6: 山口県岩国市周東町中山地先 | G6: 建設年度 | I6: 1990年 | L6: 幅員 | N6: L= | O6: 9.25 | P6: ｍ | S6: 緊急輸送道路 | U6: 指定なし | W6: 経度 | X6: 132.06744
B7: トンネル毎 の健全性の 診断の区分 | D7: Ⅱ
G8: 変状・異常 箇所数合計 | I8: トンネル本体工 | J8: 材質劣化 | K8: Ⅱ | L8: 143 | N8: Ⅲ | O8: 0 | Q8: Ⅳ | R8: 0 | T8: 附属物等 の取付状態 | V8: ◯ （応急措置後) | X8: 0
J9: 漏水 | K9: Ⅱ | L9: 4 | N9: Ⅲ | O9: 0 | Q9: Ⅳ | R9: 0
V10: ✕ | X10: 15
J11: 外力 | K11: Ⅱ | L11: 0 | N11: Ⅲ | O11: 0 | Q11: Ⅳ | R11: 0
B12: トンネル変状・異常箇所写真位置図
J29: 注１：本位置図は、見下げた状態で記載すること。 注２：覆工スパン番号は横断目地毎(矢板工法の場合は上半アーチの 横断目地毎)に設定すること。 | Q29: 注３：写真番号に付する変状番号は、各覆工スパンの変状に対して新たに確認された場合 は順次追加していくこと。 注４：横断目地の変状は前の覆工スパン番号で計上すること。 注５：１枚に収まらない場合は、複数枚に分けて作成すること。
C30: ※1 トンネル本体工の変状数は、材質劣化、漏水に起因するものは変状単位で、外力に起因するものはスパン単位で計上すること。
C31: ※2 トンネル本体工の変状に対しては、措置の必要性（Ⅱ～Ⅳ）について表記すること。また、点検前に実施された措置によりⅠと判定された箇所についても記載すること。
C32: ※3 附属物等の取付状態の○欄については、応急措置前に判定区分×とした箇所のうち応急措置により○判定とした箇所の数を記入すること。
C33: ※4 附属物等の異常番号は、本体工と番号が重複しないよう101番以降とする等の配慮を行い、分かりやすく記録すること。

Sheet 様式C-1-1
B2: ■定期点検記録様式 全スパン定期点検結果総括表（トンネル本体工） 【様式C-1-1】
B3: フリガナ | F3: ナカヤマトンネル | I3: 路線名 | K3: 主要地方道柳井周東線 | O3: 定期点検実施者 | P3: 株式会社長大 | T3: 定期点検年月日 | X3: 45917
B4: 名 称 | F4: 中山トンネル | I4: 管理者名 | K4: 岩国土木建築事務所 | P4: 鷲尾 寛
C5: 覆工 スパン 番号 | E5: 変状 番号 | F5: 距離 （m） | G5: 変状部位 | I5: 変 状 の 内 容 | O5: 前回定期点検時の状態 | P5: 今回定期点検結果 | T5: 措置履歴 | Y5: 対応方針 ・ 特記事項
O6: 44029
G7: 対象箇所 | H7: 部位区分 | I7: 変状区分 | J7: 変状種類 | M7: 変状の発生範囲の規模 | N7: 前回定期点検時の変状の発生範囲及び規模 | O7: 対策区分 | P7: 対策区分 | R7: 調査の 要否 | S7: 措置の 要否 | T7: 実施 | U7: 措置の実施状況
P8: 応急措置前 | Q8: 応急措置後
B9: 定期点検結果 | C9: PS | E9: 2 | F9: 8.7 | G9: 覆工 | H9: 横断目地（左側） | I9: 材質劣化 | J9: 補修・補強材の破損 | M9: 0.16m2 | N9: 0.16m2 | O9: Ⅱb | Q9: Ⅱb | R9: 否 | S9: 要監視 | T9: 継続 | U9: 監視(日常巡視) | Y9: 監視
C10: PS | E10: 9 | F10: 8.7 | G10: 覆工 | H10: 横断目地（天端） | I10: 材質劣化 | J10: 補修・補強材の破損 | M10: 0.01m2 | N10: 0.01m2 | O10: Ⅱa | Q10: Ⅱb | R10: 否 | S10: 要監視 | T10: － | U10: － | Y10: 監視
C11: PS | E11: 17 | F11: 4.8 | G11: 覆工 | H11: アーチ（左側） | I11: 材質劣化 | J11: 圧ざ、ひび割れ | M11: 長さ6.70m×幅0.30mm | N11: 0.3mm,L=6.3m | O11: Ⅱb | Q11: Ⅱb | R11: 否 | S11: 要監視 | T11: 継続 | U11: 監視(日常巡視) | Y11: 監視
C12: PS | E12: 26 | F12: 0.4 | G12: 覆工 | H12: アーチ（左側） | I12: 材質劣化 | J12: 鋼材腐食 | M12: 0.01m2 | N12: 0.01m2 | O12: Ⅱb | Q12: Ⅱb | R12: 否 | S12: 要監視 | T12: 継続 | U12: 監視(日常巡視) | Y12: 監視
C13: PS | E13: 51 | F13: 0.6 | G13: 覆工 | H13: 水平打ち継ぎ目（左側） | I13: 材質劣化 | J13: うき・はく離 | M13: 0.08m2 | N13: 0.08m2 | O13: Ⅱa | Q13: Ⅱb | R13: 否 | S13: 要監視 | T13: － | U13: － | Y13: 監視
C14: PS | E14: 52 | F14: 5 | G14: 覆工 | H14: 水平打ち継ぎ目（左側） | I14: 材質劣化 | J14: うき・はく離 | M14: 0.75m2 | N14: 0.75m2 | O14: Ⅱa | Q14: Ⅱb | R14: 否 | S14: 要監視 | T14: － | U14: － | Y14: 監視
C15: PS | E15: 53 | F15: 5.3 | G15: 覆工 | H15: 水平打ち継ぎ目（右側） | I15: 材質劣化 | J15: うき・はく離 | M15: 0.50m2 | N15: 0.51m2 | O15: Ⅱa | Q15: Ⅱb | R15: 否 | S15: 要監視 | T15: － | U15: － | Y15: 監視
C16: PS | E16: 56 | F16: 0 | G16: 坑門 | H16: 面壁・妻壁等 | I16: 材質劣化 | J16: うき・はく離 | M16: 0.01m2 | N16: － | O16: － | Q16: Ⅱb | R16: 否 | S16: 要監視 | T16: － | U16: － | Y16: 監視
C17: PS | E17: 57 | F17: 8.7 | G17: 覆工 | H17: 横断目地（右側） | I17: 材質劣化 | J17: 補修・補強材の破損 | M17: 0.01m2 | N17: － | O17: － | Q17: Ⅱb | R17: 否 | S17: 要監視 | T17: － | U17: － | Y17: 監視
C18: PS | E18: 58 | F18: 1.9 | G18: 路面 | H18: 側溝 | J18: その他 | M18: 5箇所 | N18: － | O18: － | R18: 否 | S18: 否 | T18: － | U18: －
C19: S001 | E19: 36 | F19: 9.4 | G19: 覆工 | H19: アーチ（右側） | I19: 材質劣化 | J19: 鋼材腐食 | M19: 0.02m2 | N19: 0.02m2 | O19: Ⅱb | Q19: Ⅱb | R19: 否 | S19: 要監視 | T19: 継続 | U19: 監視(日常巡視) | Y19: 監視
C20: S001 | E20: 37 | F20: 19.1 | G20: 覆工 | H20: 横断目地（天端） | I20: 材質劣化 | J20: うき・はく離 | M20: 0.06m2 | N20: 0.6mm,L=0.8m | O20: Ⅱa | Q20: Ⅱa | R20: 否 | S20: 要対策 | T20: － | U20: － | Y20: はく落防止対策工
C21: S001 | E21: 38 | F21: 14.4 | G21: 覆工 | H21: 水平打ち継ぎ目（左側） | I21: 材質劣化 | J21: うき・はく離 | M21: 1.05m2 | N21: 1.05m2 | O21: Ⅱa | Q21: Ⅱb | R21: 否 | S21: 要監視 | T21: － | U21: － | Y21: 監視
C22: S001 | E22: 39 | F22: 9.5 | G22: 覆工 | H22: 側壁（左側） | I22: 材質劣化 | J22: うき・はく離 | M22: 0.06m2 | N22: 0.06m2 | O22: Ⅱb | Q22: Ⅱb | R22: 否 | S22: 要監視 | T22: 継続 | U22: 監視(日常巡視) | Y22: 監視
C23: S001 | E23: 40 | F23: 10.3 | G23: 覆工 | H23: 側壁（左側） | I23: 材質劣化 | J23: うき・はく離 | M23: 0.10m2 | N23: 0.03m2 | O23: Ⅱb | Q23: Ⅱb | R23: 否 | S23: 要監視 | T23: 継続 | U23: 監視(日常巡視) | Y23: 監視
C24: S001 | E24: 43 | F24: 17.6 | G24: 覆工 | H24: 側壁（左側） | I24: 材質劣化 | J24: うき・はく離 | M24: 0.03m2 | N24: 0.03m2 | O24: Ⅱb | Q24: Ⅱb | R24: 否 | S24: 要監視 | T24: 継続 | U24: 監視(日常巡視) | Y24: 監視
C25: S001 | E25: 44 | F25: 13.7 | G25: 覆工 | H25: 水平打ち継ぎ目（右側） | I25: 材質劣化 | J25: うき・はく離 | M25: 0.66m2 | N25: 0.66m2 | O25: Ⅱb | Q25: Ⅱb | R25: 否 | S25: 要監視 | T25: 継続 | U25: 監視(日常巡視) | Y25: 監視
C26: S001 | E26: 45 | F26: 13.5 | G26: 路面 | H26: 側溝 | J26: その他 | M26: 14箇所 | N26: － | O26: Ⅱb | R26: 否 | S26: 否 | T26: － | U26: －
C27: S001 | E27: 47 | F27: 10.2 | G27: 覆工 | H27: 側壁（右側） | I27: 材質劣化 | J27: 補修・補強材の破損 | M27: 0.02m2 | N27: － | O27: － | Q27: Ⅱb | R27: 否 | S27: 要監視 | T27: － | U27: － | Y27: 監視
C28: S001 | E28: 48 | F28: 18.1 | G28: 覆工 | H28: 水平打ち継ぎ目（右側） | I28: 材質劣化 | J28: うき・はく離 | M28: 0.22m2 | N28: 0.50m2 | O28: Ⅱa | Q28: Ⅱb | R28: 否 | S28: 要監視 | T28: － | U28: － | Y28: 監視
C29: S002 | E29: 1 | F29: 19.9 | G29: 覆工 | H29: アーチ（左側） | I29: 材質劣化 | J29: 圧ざ、ひび割れ | M29: 長さ10.80m×幅0.40mm | N29: 0.4mm,L=10.5m | O29: Ⅱb | Q29: Ⅱb | R29: 否 | S29: 要監視 | T29: 継続 | U29: 監視(日常巡視) | Y29: 監視
C30: S002 | E30: 8 | F30: 20 | G30: 覆工 | H30: アーチ（天端） | I30: 材質劣化 | J30: うき・はく離 | M30: 0.02m2 | N30: 0.02m2 | O30: Ⅱb | Q30: Ⅱb | R30: 否 | S30: 要監視 | T30: 継続 | U30: 監視(日常巡視) | Y30: 監視
C31: S002 | E31: 13 | F31: 25.4 | G31: 覆工 | H31: アーチ（天端） | I31: 材質劣化 | J31: うき・はく離 | M31: 0.03m2 | N31: 0.01m2 | O31: Ⅱb | Q31: Ⅱa | R31: 否 | S31: 要対策 | T31: 継続 | U31: 監視(日常巡視) | Y31: はく落防止対策工
C32: S002 | E32: 28 | F32: 24.5 | G32: 覆工 | H32: 水平打ち継ぎ目（左側） | I32: 材質劣化 | J32: うき・はく離 | M32: 1.05m2 | N32: 1.05m2 | O32: Ⅱa | Q32: Ⅱb | R32: 否 | S32: 要監視 | T32: － | U32: － | Y32: 監視
C33: S002 | E33: 32 | F33: 20.6 | G33: 覆工 | H33: 水平打ち継ぎ目（右側） | I33: 材質劣化 | J33: うき・はく離 | M33: 0.28m2 | N33: 0.50m2 | O33: Ⅱa | Q33: Ⅱb | R33: 否 | S33: 要監視 | T33: － | U33: － | Y33: 監視
C34: S002 | E34: 33 | F34: 26 | G34: 覆工 | H34: 水平打ち継ぎ目（右側） | I34: 材質劣化 | J34: うき・はく離 | M34: 0.48m2 | N34: 0.49m2 | O34: Ⅱa | Q34: Ⅱb | R34: 否 | S34: 要監視 | T34: － | U34: － | Y34: 監視
C35: S002 | E35: 36 | F35: 29.7 | G35: 覆工 | H35: 横断目地（右側） | I35: 材質劣化 | J35: 補修・補強材の破損 | M35: 0.03m2 | N35: － | O35: － | Q35: Ⅱb | R35: 否 | S35: 要監視 | T35: － | U35: － | Y35: 監視
C36: S002 | E36: 37 | F36: 21.2 | G36: 路面 | H36: 側溝 | J36: その他 | M36: 3箇所 | N36: － | O36: － | R36: 否 | S36: 否 | T36: － | U36: －
C37: S003 | E37: 8 | F37: 37.1 | G37: 覆工 | H37: アーチ（左側） | I37: 材質劣化 | J37: うき・はく離 | M37: 0.01m2 | N37: 0.01m2 | O37: Ⅱa | Q37: Ⅱa | R37: 否 | S37: 要対策 | T37: － | U37: － | Y37: はく落防止対策工
C38: S003 | E38: 10 | F38: 40.2 | G38: 覆工 | H38: 横断目地（天端） | I38: 材質劣化 | J38: うき・はく離 | M38: 0.15m2 | N38: 0.15m2 | O38: Ⅱb | Q38: Ⅱb | R38: 否 | S38: 要監視 | T38: 継続 | U38: 監視(日常巡視) | Y38: 監視
C39: S003 | E39: 29 | F39: 34.7 | G39: 覆工 | H39: 水平打ち継ぎ目（左側） | I39: 材質劣化 | J39: うき・はく離 | M39: 0.20m2 | N39: 0.15m2 | O39: Ⅱb | Q39: Ⅱb | R39: 否 | S39: 要監視 | T39: 継続 | U39: 監視(日常巡視) | Y39: 監視
C40: S003 | E40: 30 | F40: 38.6 | G40: 覆工 | H40: 側壁（左側） | I40: 材質劣化 | J40: うき・はく離 | M40: 0.10m2 | N40: 0.10m2 | O40: Ⅱb | Q40: Ⅱb | R40: 否 | S40: 要監視 | T40: 継続 | U40: 監視(日常巡視) | Y40: 監視
C41: S003 | E41: 31 | F41: 35.8 | G41: 覆工 | H41: 側壁（左側） | I41: 材質劣化 | J41: うき・はく離 | M41: 0.15m2 | N41: 0.09m2 | O41: Ⅱb | Q41: Ⅱb | R41: 否 | S41: 要監視 | T41: 継続 | U41: 監視(日常巡視) | Y41: 監視
C42: S003 | E42: 33 | F42: 31.6 | G42: 覆工 | H42: 水平打ち継ぎ目（右側） | I42: 材質劣化 | J42: うき・はく離 | M42: 0.04m2 | N42: 0.04m2 | O42: Ⅱa | Q42: Ⅱb | R42: 否 | S42: 要監視 | T42: － | U42: － | Y42: 監視
B43: 定期点検結果 | C43: S003 | E43: 34 | F43: 36.1 | G43: 覆工 | H43: 水平打ち継ぎ目（右側） | I43: 材質劣化 | J43: うき・はく離 | M43: 0.55m2 | N43: 0.55m2 | O43: Ⅱa | Q43: Ⅱb | R43: 否 | S43: 要監視 | T43: － | U43: － | Y43: 監視
C44: S003 | E44: 35 | F44: 40 | G44: 覆工 | H44: 水平打ち継ぎ目（右側） | I44: 材質劣化 | J44: うき・はく離 | M44: 0.02m2 | N44: 0.06m2 | O44: Ⅱa | Q44: Ⅱb | R44: 否 | S44: 要監視 | T44: － | U44: － | Y44: 監視
C45: S003 | E45: 40 | F45: 30.2 | G45: 覆工 | H45: 水平打ち継ぎ目（左側） | I45: 材質劣化 | J45: うき・はく離 | M45: 0.10m2 | N45: － | O45: － | Q45: Ⅱb | R45: 否 | S45: 要監視 | T45: － | U45: － | Y45: 監視
C46: S003 | E46: 41 | F46: 38.7 | G46: 覆工 | H46: 水平打ち継ぎ目（左側） | I46: 材質劣化 | J46: うき・はく離 | M46: 0.31m2 | N46: 1.58m2 | O46: Ⅱa | Q46: Ⅱb | R46: 否 | S46: 要監視 | T46: － | U46: － | Y46: 監視
C47: S003 | E47: 42 | F47: 30.5 | G47: 覆工 | H47: 水平打ち継ぎ目（右側） | I47: 材質劣化 | J47: うき・はく離 | M47: 0.15m2 | N47: － | O47: － | Q47: Ⅱb | R47: 否 | S47: 要監視 | T47: － | U47: － | Y47: 監視
C48: S003 | E48: 43 | F48: 32.5 | G48: 路面 | H48: 側溝 | J48: その他 | M48: 2箇所 | N48: － | O48: － | R48: 否 | S48: 否 | T48: － | U48: －
C49: S004 | E49: 1 | F49: 40.3 | G49: 覆工 | H49: 横断目地（天端） | I49: 材質劣化 | J49: うき・はく離 | M49: 0.07m2 | N49: 0.06m2 | O49: Ⅱb | Q49: Ⅱb | R49: 否 | S49: 要監視 | T49: 継続 | U49: 監視(日常巡視) | Y49: 監視
C50: S004 | E50: 2 | F50: 40.3 | G50: 覆工 | H50: 横断目地（天端） | I50: 材質劣化 | J50: うき・はく離 | M50: 0.03m2 | N50: 0.04m2 | O50: Ⅱb | Q50: Ⅱb | R50: 否 | S50: 要監視 | T50: 継続 | U50: 監視(日常巡視) | Y50: 監視
C51: S004 | E51: 12 | F51: 44.3 | G51: 覆工 | H51: アーチ（左側） | I51: 材質劣化 | J51: うき・はく離 | M51: 0.36m2 | N51: 0.36m2 | O51: Ⅱb | Q51: Ⅱb | R51: 否 | S51: 要監視 | T51: 継続 | U51: 監視(日常巡視) | Y51: 監視
C52: S004 | E52: 15 | F52: 50.7 | G52: 覆工 | H52: 横断目地（右側） | I52: 材質劣化 | J52: うき・はく離 | M52: 0.02m2 | N52: 0.02m2 | O52: Ⅱb | Q52: Ⅱb | R52: 否 | S52: 要監視 | T52: 継続 | U52: 監視(日常巡視) | Y52: 監視
C53: S004 | E53: 19 | F53: 49.8 | G53: 覆工 | H53: アーチ（天端） | I53: 漏水 | J53: 漏水 | M53: 13.56m2 | N53: － | O53: Ⅱb | Q53: Ⅱb | R53: 否 | S53: 要監視 | T53: 継続 | U53: 監視(日常巡視) | Y53: 監視
C54: S004 | E54: 25 | F54: 41 | G54: 覆工 | H54: アーチ（右側） | I54: 材質劣化 | J54: うき・はく離 | M54: 0.08m2 | N54: 0.08m2 | O54: Ⅱb | Q54: Ⅱb | R54: 否 | S54: 要監視 | T54: 継続 | U54: 監視(日常巡視) | Y54: 監視
C55: S004 | E55: 26 | F55: 42 | G55: 覆工 | H55: 水平打ち継ぎ目（左側） | I55: 材質劣化 | J55: うき・はく離 | M55: 1.05m2 | N55: 1.58m2 | O55: Ⅱa | Q55: Ⅱb | R55: 否 | S55: 要監視 | T55: － | U55: － | Y55: 監視
C56: S004 | E56: 27 | F56: 42 | G56: 覆工 | H56: 水平打ち継ぎ目（右側） | I56: 材質劣化 | J56: うき・はく離 | M56: 0.11m2 | N56: 0.11m2 | O56: Ⅱa | Q56: Ⅱb | R56: 否 | S56: 要監視 | T56: － | U56: － | Y56: 監視
C57: S004 | E57: 28 | F57: 44.4 | G57: 覆工 | H57: 水平打ち継ぎ目（右側） | I57: 材質劣化 | J57: うき・はく離 | M57: 0.02m2 | N57: 0.02m2 | O57: Ⅱa | Q57: Ⅱb | R57: 否 | S57: 要監視 | T57: － | U57: － | Y57: 監視
C58: S004 | E58: 30 | F58: 45.8 | G58: 覆工 | H58: 水平打ち継ぎ目（右側） | I58: 材質劣化 | J58: うき・はく離 | M58: 0.15m2 | N58: 0.15m2 | O58: Ⅱa | Q58: Ⅱb | R58: 否 | S58: 要監視 | T58: － | U58: － | Y58: 監視
C59: S004 | E59: 31 | F59: 49 | G59: 覆工 | H59: 水平打ち継ぎ目（右側） | I59: 材質劣化 | J59: うき・はく離 | M59: 0.28m2 | N59: 0.19m2 | O59: Ⅱa | Q59: Ⅱb | R59: 否 | S59: 要監視 | T59: － | U59: － | Y59: 監視
C60: S004 | E60: 36 | F60: 47.1 | G60: 覆工 | H60: 側壁（左側） | I60: 材質劣化 | J60: うき・はく離 | M60: 0.08m2 | N60: － | O60: － | Q60: Ⅱb | R60: 否 | S60: 要監視 | T60: － | U60: － | Y60: 監視
... C63: S004 | E63: 39 | F63: 40.4 | G63: 覆工 | H63: 水平打ち継ぎ目（右側） | I63: 材質劣化 | J63: うき・はく離 | M63: 0.04m2 | N63: 0.06m2 | O63: Ⅱa | Q63: Ⅱb | R63: 否 | S63: 要監視 | T63: － | U63: － | Y63: 監視
C64: S004 | E64: 40 | F64: 41.5 | G64: 路面 | H64: 側溝 | J64: その他 | M64: 1箇所 | N64: － | O64: － | R64: 否 | S64: 否 | T64: － | U64: －
C65: S005 | E65: 5 | F65: 59.5 | G65: 覆工 | H65: アーチ（天端） | I65: 材質劣化 | J65: うき・はく離 | M65: 0.03m2 | N65: 0.01m2 | O65: Ⅱb | Q65: Ⅱa | R65: 否 | S65: 要対策 | T65: 継続 | U65: 監視(日常巡視) | Y65: はく落防止対策工
C66: S005 | E66: 33 | F66: 61.2 | G66: 覆工 | H66: 横断目地（右側） | I66: 材質劣化 | J66: うき・はく離 | M66: 0.01m2 | N66: 0.01m2 | O66: Ⅱb | Q66: Ⅱb | R66: 否 | S66: 要監視 | T66: 継続 | U66: 監視(日常巡視) | Y66: 監視
C67: S005 | E67: 35 | F67: 61.2 | G67: 覆工 | H67: 横断目地（右側） | I67: 材質劣化 | J67: うき・はく離 | M67: 0.03m2 | N67: 0.03m2 | O67: Ⅱa | Q67: Ⅱa | R67: 否 | S67: 要対策 | T67: － | U67: － | Y67: はく落防止対策工
C68: S005 | E68: 37 | F68: 55.1 | G68: 覆工 | H68: 水平打ち継ぎ目（左側） | I68: 材質劣化 | J68: うき・はく離 | M68: 0.35m2 | N68: 0.35m2 | O68: Ⅱa | Q68: Ⅱb | R68: 否 | S68: 要監視 | T68: － | U68: － | Y68: 監視
C69: S005 | E69: 38 | F69: 58.5 | G69: 覆工 | H69: 水平打ち継ぎ目（左側） | I69: 材質劣化 | J69: うき・はく離 | M69: 0.03m2 | N69: 0.03m2 | O69: Ⅱa | Q69: Ⅱb | R69: 否 | S69: 要監視 | T69: － | U69: － | Y69: 監視
C70: S005 | E70: 40 | F70: 52 | G70: 覆工 | H70: 水平打ち継ぎ目（右側） | I70: 材質劣化 | J70: うき・はく離 | M70: 0.22m2 | N70: 0.25m2 | O70: Ⅱa | Q70: Ⅱb | R70: 否 | S70: 要監視 | T70: － | U70: － | Y70: 監視
C71: S005 | E71: 41 | F71: 57.9 | G71: 覆工 | H71: 水平打ち継ぎ目（右側） | I71: 材質劣化 | J71: うき・はく離 | M71: 0.09m2 | N71: 0.09m2 | O71: Ⅱa | Q71: Ⅱb | R71: 否 | S71: 要監視 | T71: － | U71: － | Y71: 監視
C72: S005 | E72: 42 | F72: 59.8 | G72: 覆工 | H72: 水平打ち継ぎ目（右側） | I72: 材質劣化 | J72: うき・はく離 | M72: 0.09m2 | N72: 0.09m2 | O72: Ⅱa | Q72: Ⅱb | R72: 否 | S72: 要監視 | T72: － | U72: － | Y72: 監視
C73: S005 | E73: 43 | F73: 52.2 | G73: 覆工 | H73: 側壁（右側） | I73: 材質劣化 | J73: 補修・補強材の破損 | M73: 0.04m2 | N73: 0.04m2 | O73: Ⅱb | Q73: Ⅱb | R73: 否 | S73: 要監視 | T73: 継続 | U73: 監視(日常巡視) | Y73: 監視
C74: S005 | E74: 49 | F74: 50.8 | G74: 覆工 | H74: アーチ（左側） | I74: 材質劣化 | J74: 圧ざ、ひび割れ | M74: 長さ0.40m×幅1.00mm | N74: － | O74: － | Q74: Ⅱb | R74: 否 | S74: 要監視 | T74: － | U74: － | Y74: 監視
C75: S005 | E75: 50 | F75: 51.7 | G75: 覆工 | H75: 水平打ち継ぎ目（左側） | I75: 材質劣化 | J75: うき・はく離 | M75: 0.19m2 | N75: 1.58m2 | O75: Ⅱa | Q75: Ⅱb | R75: 否 | S75: 要監視 | T75: － | U75: － | Y75: 監視
C76: S005 | E76: 51 | F76: 60.4 | G76: 覆工 | H76: 水平打ち継ぎ目（左側） | I76: 材質劣化 | J76: うき・はく離 | M76: 0.16m2 | N76: 0.82m2 | O76: Ⅱa | Q76: Ⅱb | R76: 否 | S76: 要監視 | T76: － | U76: － | Y76: 監視
B77: 定期点検結果 | C77: S005 | E77: 52 | F77: 54.7 | G77: 路面 | H77: 側溝 | J77: その他 | M77: 4箇所 | N77: － | O77: － | R77: 否 | S77: 否 | T77: － | U77: －
C78: S005 | E78: 53 | F78: 53.6 | G78: 路面 | H78: 側溝 | J78: その他 | M78: 1箇所 | N78: － | O78: － | R78: 否 | S78: 否 | T78: － | U78: －
C79: S006 | E79: 1 | F79: 66.5 | G79: 覆工 | H79: アーチ（左側） | I79: 漏水 | J79: 漏水 | M79: 2.55m2 | N79: － | O79: Ⅱb | Q79: Ⅱb | R79: 否 | S79: 要監視 | T79: 継続 | U79: 監視(日常巡視) | Y79: 監視
C80: S006 | E80: 5 | F80: 71.7 | G80: 覆工 | H80: 横断目地（天端） | I80: 材質劣化 | J80: うき・はく離 | M80: 0.02m2 | N80: 0.02m2 | O80: Ⅱb | Q80: Ⅱb | R80: 否 | S80: 要監視 | T80: 継続 | U80: 監視(日常巡視) | Y80: 監視
C81: S006 | E81: 6 | F81: 71.7 | G81: 覆工 | H81: 横断目地（天端） | I81: 材質劣化 | J81: うき・はく離 | M81: 0.08m2 | N81: 0.04m2 | O81: Ⅱb | Q81: Ⅱb | R81: 否 | S81: 要監視 | T81: 継続 | U81: 監視(日常巡視) | Y81: 監視
C82: S006 | E82: 7 | F82: 71.6 | G82: 覆工 | H82: 横断目地（天端） | I82: 材質劣化 | J82: うき・はく離 | M82: 0.08m2 | N82: 0.04m2 | O82: Ⅱb | Q82: Ⅱa | R82: 否 | S82: 要対策 | T82: 継続 | U82: 監視(日常巡視) | Y82: はく落防止対策工
C83: S006 | E83: 18 | F83: 65.3 | G83: 覆工 | H83: アーチ（天端） | I83: 漏水 | J83: 漏水 | M83: 4.28m2 | N83: － | O83: Ⅱb | Q83: Ⅱb | R83: 否 | S83: 要監視 | T83: 継続 | U83: 監視(日常巡視) | Y83: 監視
C84: S006 | E84: 23 | F84: 63.7 | G84: 覆工 | H84: アーチ（左側） | I84: 材質劣化 | J84: うき・はく離 | M84: 0.03m2 | N84: 0.03m2 | O84: Ⅱb | Q84: Ⅱb | R84: 否 | S84: 要監視 | T84: 継続 | U84: 監視(日常巡視) | Y84: 監視
C85: S006 | E85: 25 | F85: 64.3 | G85: 覆工 | H85: アーチ（右側） | I85: 材質劣化 | J85: うき・はく離 | M85: 0.23m2 | N85: 0.23m2 | O85: Ⅱb | Q85: Ⅱb | R85: 否 | S85: 要監視 | T85: 継続 | U85: 監視(日常巡視) | Y85: 監視
C86: S006 | E86: 32 | F86: 63.8 | G86: 覆工 | H86: 水平打ち継ぎ目（左側） | I86: 材質劣化 | J86: うき・はく離 | M86: 0.67m2 | N86: 0.82m2 | O86: Ⅱa | Q86: Ⅱb | R86: 否 | S86: 要監視 | T86: － | U86: － | Y86: 監視
C87: S006 | E87: 33 | F87: 70.1 | G87: 覆工 | H87: 水平打ち継ぎ目（左側） | I87: 材質劣化 | J87: うき・はく離 | M87: 0.26m2 | N87: 0.41m2 | O87: Ⅱa | Q87: Ⅱb | R87: 否 | S87: 要監視 | T87: － | U87: － | Y87: 監視
C88: S006 | E88: 34 | F88: 66.1 | G88: 覆工 | H88: 水平打ち継ぎ目（右側） | I88: 材質劣化 | J88: うき・はく離 | M88: 1.05m2 | N88: 1.11m2 | O88: Ⅱa | Q88: Ⅱb | R88: 否 | S88: 要監視 | T88: － | U88: － | Y88: 監視
C89: S006 | E89: 36 | F89: 62.7 | G89: 覆工 | H89: 側壁（右側） | I89: 材質劣化 | J89: 補修・補強材の破損 | M89: 0.06m2 | N89: 0.06m2 | O89: Ⅱa | Q89: Ⅱb | R89: 否 | S89: 要監視 | T89: － | U89: － | Y89: 監視
C90: S006 | E90: 39 | F90: 68.1 | G90: 覆工 | H90: アーチ（天端） | I90: 材質劣化 | J90: うき・はく離 | M90: 0.01m2 | N90: － | O90: － | Q90: Ⅱa | R90: 否 | S90: 要対策 | T90: － | U90: － | Y90: はく落防止対策工
... C92: S006 | E92: 41 | F92: 67.8 | G92: 覆工 | H92: アーチ（右側） | I92: 材質劣化 | J92: 圧ざ、ひび割れ | M92: 長さ4.70m×幅1.00mm | N92: － | O92: － | Q92: Ⅱb | R92: 否 | S92: 要監視 | T92: － | U92: － | Y92: 監視
C93: S006 | E93: 42 | F93: 62.6 | G93: 路面 | H93: 側溝 | J93: その他 | M93: 1箇所 | N93: － | O93: － | R93: 否 | S93: 否 | T93: － | U93: －
C94: S007 | E94: 1 | F94: 82.2 | G94: 覆工 | H94: 横断目地（天端） | I94: 材質劣化 | J94: うき・はく離 | M94: 0.06m2 | N94: 0.06m2 | O94: Ⅱb | Q94: Ⅱb | R94: 否 | S94: 要監視 | T94: 継続 | U94: 監視(日常巡視) | Y94: 監視
C95: S007 | E95: 16 | F95: 82.2 | G95: 覆工 | H95: 横断目地（右側） | I95: 材質劣化 | J95: うき・はく離 | M95: 0.02m2 | N95: 0.02m2 | O95: Ⅱb | Q95: Ⅱb | R95: 否 | S95: 要監視 | T95: 継続 | U95: 監視(日常巡視) | Y95: 監視
C96: S007 | E96: 21 | F96: 76.6 | G96: 覆工 | H96: アーチ（右側） | I96: 材質劣化 | J96: うき・はく離 | M96: 0.01m2 | N96: 0.01m2 | O96: Ⅱa | Q96: Ⅱa | R96: 否 | S96: 要対策 | T96: － | U96: － | Y96: はく落防止対策工
C97: S007 | E97: 23 | F97: 71.8 | G97: 覆工 | H97: 横断目地（右側） | I97: 材質劣化 | J97: うき・はく離 | M97: 0.01m2 | N97: 0.01m2 | O97: Ⅱb | Q97: Ⅱb | R97: 否 | S97: 要監視 | T97: 継続 | U97: 監視(日常巡視) | Y97: 監視
C98: S007 | E98: 31 | F98: 74.5 | G98: 覆工 | H98: 水平打ち継ぎ目（左側） | I98: 材質劣化 | J98: うき・はく離 | M98: 0.55m2 | N98: 0.10m2 | O98: Ⅱa | Q98: Ⅱb | R98: 否 | S98: 要監視 | T98: － | U98: － | Y98: 監視
C99: S007 | E99: 33 | F99: 80.4 | G99: 覆工 | H99: 水平打ち継ぎ目（左側） | I99: 材質劣化 | J99: うき・はく離 | M99: 0.06m2 | N99: 0.06m2 | O99: Ⅱa | Q99: Ⅱb | R99: 否 | S99: 要監視 | T99: － | U99: － | Y99: 監視
C100: S007 | E100: 34 | F100: 81.9 | G100: 覆工 | H100: 水平打ち継ぎ目（左側） | I100: 材質劣化 | J100: うき・はく離 | M100: 0.06m2 | N100: 0.05m2 | O100: Ⅱa | Q100: Ⅱb | R100: 否 | S100: 要監視 | T100: － | U100: － | Y100: 監視
C101: S007 | E101: 36 | F101: 73.5 | G101: 覆工 | H101: 水平打ち継ぎ目（右側） | I101: 材質劣化 | J101: うき・はく離 | M101: 0.07m2 | N101: 0.07m2 | O101: Ⅱa | Q101: Ⅱb | R101: 否 | S101: 要監視 | T101: － | U101: － | Y101: 監視
C102: S007 | E102: 37 | F102: 75 | G102: 覆工 | H102: 水平打ち継ぎ目（右側） | I102: 材質劣化 | J102: うき・はく離 | M102: 0.02m2 | N102: 0.02m2 | O102: Ⅱa | Q102: Ⅱb | R102: 否 | S102: 要監視 | T102: － | U102: － | Y102: 監視
C103: S007 | E103: 38 | F103: 77.3 | G103: 覆工 | H103: 水平打ち継ぎ目（右側） | I103: 材質劣化 | J103: うき・はく離 | M103: 0.15m2 | N103: 0.15m2 | O103: Ⅱa | Q103: Ⅱb | R103: 否 | S103: 要監視 | T103: － | U103: － | Y103: 監視
C104: S007 | E104: 39 | F104: 80.1 | G104: 覆工 | H104: 水平打ち継ぎ目（右側） | I104: 材質劣化 | J104: うき・はく離 | M104: 0.05m2 | N104: 0.05m2 | O104: Ⅱa | Q104: Ⅱb | R104: 否 | S104: 要監視 | T104: － | U104: － | Y104: 監視
...

Sheet 様式C-1-2
B2: ■定期点検記録様式 定期点検結果総括表（トンネル内附属物等の取付状態） 【様式C-1-2】
B3: フリガナ | F3: ナカヤマトンネル | J3: 路線名 | K3: 主要地方道柳井周東線 | M3: 定期点検実施者 | O3: 株式会社長大 | S3: 定期点検年月日 | W3: 45917
B4: 名 称 | F4: 中山トンネル | J4: 管理者名 | K4: 岩国土木建築事務所 | O4: 鷲尾 寛
B5: 定期点検結果 | C5: 覆工 スパン 番号 | E5: 異常 番号 | F5: 距離 （m） | G5: 異常部位 | J5: 異 常 の 内 容 | N5: 定期点検結果 | P5: 応急措置の 実施状況 | V5: 対応方針 ・ 特記事項
G6: 対象箇所 | I6: 部位区分 | J6: 異常種類 | L6: 異常の発生範囲の規模 | N6: 異常判定区分 | P6: 実施 | Q6: 応急措置の内容
N7: 応急措置前 | O7: 応急措置後
C8: PS | E8: 1 | F8: 0.8 | G8: その他施設 | H8: その他 | I8: 附属物本体 | J8: 変形，欠損 | L8: 1箇所 | O8: × | V8: 交換
C9: PS | E9: 2 | F9: 6.5 | G9: 照明施設 | H9: 灯具 | I9: 附属物本体 | J9: 腐食 | L9: 1箇所 | O9: × | V9: 交換
C10: PS | E10: 3 | F10: 8.5 | G10: 照明施設 | H10: 灯具 | I10: 附属物本体 | J10: 腐食 | L10: 1箇所 | O10: × | V10: 交換
C11: PS | E11: 4 | F11: 8.5 | G11: 照明施設 | H11: 灯具 | I11: 附属物本体 | J11: 腐食 | L11: 1箇所 | O11: × | V11: 交換
C12: S001 | E12: 1 | F12: 17.5 | G12: その他施設 | H12: その他 | I12: 附属物本体 | J12: 変形，欠損 | L12: 1箇所 | O12: × | V12: 交換
C13: S001 | E13: 2 | F13: 12.7 | G13: 照明施設 | H13: 灯具 | I13: 附属物本体 | J13: 腐食 | L13: 1箇所 | O13: × | V13: 交換
C14: S001 | E14: 3 | F14: 16.8 | G14: 照明施設 | H14: 灯具 | I14: 附属物本体 | J14: 腐食 | L14: 1箇所 | O14: × | V14: 交換
C15: S001 | E15: 4 | F15: 12.6 | G15: 照明施設 | H15: 灯具 | I15: 附属物本体 | J15: 腐食 | L15: 1箇所 | O15: × | V15: 交換
C16: S002 | E16: 1 | F16: 21 | G16: 照明施設 | H16: 灯具 | I16: 附属物本体 | J16: 腐食 | L16: 1箇所 | O16: × | V16: 交換
C17: S003 | E17: 1 | F17: 35.2 | G17: その他施設 | H17: その他 | I17: 附属物本体 | J17: 変形，欠損 | L17: 1箇所 | O17: × | V17: 交換
C18: S004 | E18: 1 | F18: 50 | G18: 照明施設 | H18: 灯具 | I18: 附属物本体 | J18: 腐食 | L18: 1箇所 | O18: × | V18: 交換
C19: S005 | E19: 1 | F19: 52.9 | G19: その他施設 | H19: その他 | I19: 附属物本体 | J19: 変形，欠損 | L19: 1箇所 | O19: × | V19: 交換
... C22: PE | E22: 1 | F22: 123.9 | G22: その他施設 | H22: その他 | I22: 附属物本体 | J22: 変形，欠損 | L22: 1箇所 | O22: × | V22: 交換
C42: ※ 異常判定区分×について記入すること。また、応急措置により○と判定された箇所も記入すること。
C43: ※ 応急措置を実施しないで判定した箇所の異常判定区分は、異常判定区分の応急措置後の欄に記入すること。
C44: ※ 異常の除去が不完全で、緊急対応が必要な場合は対応方針欄に記入すること。
C45: ※ １スパンの覆工に複数の異常がある場合は、異常箇所毎に記入すること。
C46: ※ 行が不足する場合は、適時、表の行を増やすこと。

Sheet 様式C-2
B2: ■定期点検記録様式 状態の把握の内容 【様式C-2】
B3: フリガナ | E3: ナカヤマトンネル | H3: 路線名 | J3: 主要地方道柳井周東線 | M3: 定期点検実施者 | Q3: 株式会社長大 | U3: 定期点検年月日 | X3: 45917
B4: 名 称 | E4: 中山トンネル | H4: 管理者名 | J4: 岩国土木建築事務所 | Q4: 鷲尾 寛
B5: 状態の把握の内容 | C5: 覆工スパン 番号 | E5: 変状 番号 | F5: 状態の把握の内容
F6: 年月日 | H6: 内容 | O6: 結果 | Y6: 対策区分の 判定
B22: 注）状態の把握において、微破壊・非破壊検査や各種試験等を実施した場合について記載する。
B23: ※ 行が不足する場合は、適時、表の行を増やすこと。

Sheet 様式D-1-1 (1)
B2: ■定期点検記録様式 変状写真台帳【様式D-1-1】 | R2: 施設ID | T2: 34.03558,132.05172
B3: フリガナ | E3: ナカヤマトンネル | H3: 路 線 名 | J3: 主要地方道柳井周東線 | M3: 定期点検実施者 | P3: 株式会社長大 | S3: 定期点検年月日 | U3: 45917
B4: 名 称 | E4: 中山トンネル | H4: 管理者名 | J4: 岩国土木建築事務所 | P4: 鷲尾 寛
B5: 写真 番号 | C5: 覆工スパン 番号 | E5: PS | M5: 写真 番号 | N5: 覆工スパン 番号 | P5: PS
C6: 変状番号 | E6: 2 | N6: 変状番号 | P6: 9
B7: 変状 部位 | C7: 対象箇所 | E7: 覆工 | M7: 変状 部位 | N7: 対象箇所 | P7: 覆工
C8: 部位区分 | E8: 横断目地（左側） | N8: 部位区分 | P8: 横断目地（天端）
B9: 変状種類 | E9: 補修・補強材の破損 | M9: 変状種類 | P9: 補修・補強材の破損
B10: 対策 区分 | C10: 変状区分 | E10: 材質劣化 | M10: 対策 区分 | N10: 変状区分 | P10: 材質劣化
C11: 応急措置前 | N11: 応急措置前
C12: 応急措置後 | E12: Ⅱb | N12: 応急措置後 | P12: Ⅱb
B13: 変状の発生範囲及び規模 | E13: 0.16m2(3.20m×0.05m) | H13: 前回変状の発生範囲及び規模 | J13: 0.05m×3.20m (判定Ⅱb) | M13: 変状の発生範囲及び規模 | P13: 0.01m2(0.20m×0.05m) | S13: 前回変状の発生範囲及び規模 | U13: 0.05m×0.20m (判定Ⅱa)
B14: 対策履歴 | E14: 監視(日常巡視) | H14: 実施状況（実施日） | J14: 継続 | M14: 対策履歴 | P14: － | S14: 実施状況（実施日） | U14: －
B15: メモ | E15: 横断目地部(アーチ左側)に線導水破損(漏水なし)。現状で利用者被害の可能性は低いため、監視にとどめる。 | M15: メモ | P15: 横断目地部(天端)に線導水破損(漏水なし)。現状で利用者被害の可能性は低いため、監視にとどめる。
B16: 写真 番号 | C16: 覆工スパン 番号 | E16: PS | M16: 写真 番号 | N16: 覆工スパン 番号 | P16: PS
C17: 変状番号 | E17: 17 | N17: 変状番号 | P17: 26
B18: 変状 部位 | C18: 対象箇所 | E18: 覆工 | M18: 変状 部位 | N18: 対象箇所 | P18: 覆工
C19: 部位区分 | E19: アーチ（左側） | N19: 部位区分 | P19: アーチ（左側）
B20: 変状種類 | E20: 圧ざ、ひび割れ | M20: 変状種類 | P20: 鋼材腐食
B21: 対策 区分 | C21: 変状区分 | E21: 材質劣化 | M21: 対策 区分 | N21: 変状区分 | P21: 材質劣化
C22: 応急措置前 | N22: 応急措置前
C23: 応急措置後 | E23: Ⅱb | N23: 応急措置後 | P23: Ⅱb
B24: 変状の発生範囲及び規模 | E24: 6.70m2(長さ6.70m×幅0.30mm) | H24: 前回変状の発生範囲及び規模 | J24: 0.3mm,L=6.3m (判定Ⅱb) | M24: 変状の発生範囲及び規模 | P24: 0.01m2(0.10m×0.05m) | S24: 前回変状の発生範囲及び規模 | U24: 0.10m×0.05m (判定Ⅱb)
B25: 対策履歴 | E25: 監視(日常巡視) | H25: 実施状況（実施日） | J25: 継続 | M25: 対策履歴 | P25: 監視(日常巡視) | S25: 実施状況（実施日） | U25: 継続
B26: メモ | E26: アーチ部(左側)に縦断方向のひび割れ。現状で利用者被害の可能性は低いため、監視にとどめる。 | M26: メモ | P26: アーチ部(左側)に鋼材露出。現状で利用者被害の可能性は低いため、監視にとどめる。
C27: ※ 応急措置後の対策区分について添付すること。また、点検前に 実施された措置によりⅠと判定された箇所も添付すること。 | N27: ※ 変状の発生範囲の規模とは、対策を行う際に参考となる変状の長さや面積をいう。
N28: ※ 応急措置を実施しないで決定した変状の対策区分は、対策区分の応急措置後の欄に記入すること。
C29: ※ たたき落としを実施した場合は、実施後の写真を添付すること。 | N29: ※ 変状の発生範囲の規模は、面積・寸法を記載すること。(ひび割れ幅のみmmとし、その他をm表記とする)
N30: ※ 構造用鋼材以外の異物に伴ううき・はく離については、メモ欄に異物の概要を記入すること。

Sheet 様式D-1-1 (2)
B2: ■定期点検記録様式 変状写真台帳【様式D-1-1】 | R2: 施設ID | T2: 34.03558,132.05172
B3: フリガナ | E3: ナカヤマトンネル | H3: 路 線 名 | J3: 主要地方道柳井周東線 | M3: 定期点検実施者 | P3: 株式会社長大 | S3: 定期点検年月日 | U3: 45917
B4: 名 称 | E4: 中山トンネル | H4: 管理者名 | J4: 岩国土木建築事務所 | P4: 鷲尾 寛
B5: 写真 番号 | C5: 覆工スパン 番号 | E5: PS | M5: 写真 番号 | N5: 覆工スパン 番号 | P5: PS
C6: 変状番号 | E6: 51 | N6: 変状番号 | P6: 52
B7: 変状 部位 | C7: 対象箇所 | E7: 覆工 | M7: 変状 部位 | N7: 対象箇所 | P7: 覆工
C8: 部位区分 | E8: 水平打ち継ぎ目（左側） | N8: 部位区分 | P8: 水平打ち継ぎ目（左側）
B9: 変状種類 | E9: うき・はく離 | M9: 変状種類 | P9: うき・はく離
B10: 対策 区分 | C10: 変状区分 | E10: 材質劣化 | M10: 対策 区分 | N10: 変状区分 | P10: 材質劣化
C11: 応急措置前 | N11: 応急措置前
C12: 応急措置後 | E12: Ⅱb | N12: 応急措置後 | P12: Ⅱb
B13: 変状の発生範囲及び規模 | E13: 0.08m2(0.10m×0.80m) | H13: 前回変状の発生範囲及び規模 | J13: 0.80m×0.10m (判定Ⅱa) | M13: 変状の発生範囲及び規模 | P13: 0.75m2(0.10m×7.50m) | S13: 前回変状の発生範囲及び規模 | U13: 7.50m×0.10m (判定Ⅱa)
B14: 対策履歴 | E14: － | H14: 実施状況（実施日） | J14: － | M14: 対策履歴 | P14: － | S14: 実施状況（実施日） | U14: －
B15: メモ | E15: 水平打ち継ぎ目(左側)沿いにうき。現状で利用者被害の可能性は低いため、監視にとどめる。※打音異常無し | M15: メモ | P15: 水平打ち継ぎ目(左側)沿いにうき。現状で利用者被害の可能性は低いため、監視にとどめる。 ※打音異常無し
B16: 写真 番号 | C16: 覆工スパン 番号 | E16: PS | M16: 写真 番号 | N16: 覆工スパン 番号 | P16: PS
C17: 変状番号 | E17: 53 | N17: 変状番号 | P17: 56
B18: 変状 部位 | C18: 対象箇所 | E18: 覆工 | M18: 変状 部位 | N18: 対象箇所 | P18: 坑門
C19: 部位区分 | E19: 水平打ち継ぎ目（右側） | N19: 部位区分 | P19: 面壁・妻壁等
B20: 変状種類 | E20: うき・はく離 | M20: 変状種類 | P20: うき・はく離
B21: 対策 区分 | C21: 変状区分 | E21: 材質劣化 | M21: 対策 区分 | N21: 変状区分 | P21: 材質劣化
C22: 応急措置前 | N22: 応急措置前
C23: 応急措置後 | E23: Ⅱb | N23: 応急措置後 | P23: Ⅱb
B24: 変状の発生範囲及び規模 | E24: 0.50m2(0.10m×5.00m) | H24: 前回変状の発生範囲及び規模 | J24: 5.10m×0.10m (判定Ⅱa) | M24: 変状の発生範囲及び規模 | P24: 0.01m2(0.10m×0.10m) | S24: 前回変状の発生範囲及び規模 | U24: 今回新規変状
B25: 対策履歴 | E25: － | H25: 実施状況（実施日） | J25: － | M25: 対策履歴 | P25: － | S25: 実施状況（実施日） | U25: －
B26: メモ | E26: 水平打ち継ぎ目(右側)沿いにうき。現状で利用者被害の可能性は低いため、監視にとどめる。 ※打音異常無し | M26: メモ | P26: 面壁にうき。新たに発生。現状で利用者被害の可能性は低いため、監視にとどめる。 ※打音異常無し
C27: ※ 応急措置後の対策区分について添付すること。また、点検前に 実施された措置によりⅠと判定された箇所も添付すること。 | N27: ※ 変状の発生範囲の規模とは、対策を行う際に参考となる変状の長さや面積をいう。
N28: ※ 応急措置を実施しないで決定した変状の対策区分は、対策区分の応急措置後の欄に記入すること。
C29: ※ たたき落としを実施した場合は、実施後の写真を添付すること。 | N29: ※ 変状の発生範囲の規模は、面積・寸法を記載すること。(ひび割れ幅のみmmとし、その他をm表記とする)
N30: ※ 構造用鋼材以外の異物に伴ううき・はく離については、メモ欄に異物の概要を記入すること。

Sheet 様式D-1-1 (3)
B2: ■定期点検記録様式 変状写真台帳【様式D-1-1】 | R2: 施設ID | T2: 34.03558,132.05172
B3: フリガナ | E3: ナカヤマトンネル | H3: 路 線 名 | J3: 主要地方道柳井周東線 | M3: 定期点検実施者 | P3: 株式会社長大 | S3: 定期点検年月日 | U3: 45917
B4: 名 称 | E4: 中山トンネル | H4: 管理者名 | J4: 岩国土木建築事務所 | P4: 鷲尾 寛
B5: 写真 番号 | C5: 覆工スパン 番号 | E5: PS | M5: 写真 番号 | N5: 覆工スパン 番号 | P5: PS
C6: 変状番号 | E6: 57 | N6: 変状番号 | P6: 58
B7: 変状 部位 | C7: 対象箇所 | E7: 覆工 | M7: 変状 部位 | N7: 対象箇所 | P7: 路面
C8: 部位区分 | E8: 横断目地（右側） | N8: 部位区分 | P8: 側溝
B9: 変状種類 | E9: 補修・補強材の破損 | M9: 変状種類 | P9: その他
B10: 対策 区分 | C10: 変状区分 | E10: 材質劣化 | M10: 対策 区分 | N10: 変状区分
C11: 応急措置前 | N11: 応急措置前
C12: 応急措置後 | E12: Ⅱb | N12: 応急措置後
B13: 変状の発生範囲及び規模 | E13: 0.01m2(0.05m×0.05m) | H13: 前回変状の発生範囲及び規模 | J13: 今回新規変状 | M13: 変状の発生範囲及び規模 | P13: 5箇所 | S13: 前回変状の発生範囲及び規模 | U13: 今回新規変状
B14: 対策履歴 | E14: － | H14: 実施状況（実施日） | J14: － | M14: 対策履歴 | P14: － | S14: 実施状況（実施日） | U14: －
B15: メモ | E15: 横断目地部(アーチ右側)に線導水破損(漏水なし)。新たに発生。現状で利用者被害の可能性は低いため、監視にとどめる。 | M15: メモ | P15: 側溝蓋破損。新たに発生。現状で利用者被害の可能性は低い。
B16: 写真 番号 | C16: 覆工スパン 番号 | E16: S001 | M16: 写真 番号 | N16: 覆工スパン 番号 | P16: S001
C17: 変状番号 | E17: 36 | N17: 変状番号 | P17: 37
B18: 変状 部位 | C18: 対象箇所 | E18: 覆工 | M18: 変状 部位 | N18: 対象箇所 | P18: 覆工
C19: 部位区分 | E19: アーチ（右側） | N19: 部位区分 | P19: 横断目地（天端）
B20: 変状種類 | E20: 鋼材腐食 | M20: 変状種類 | P20: うき・はく離
B21: 対策 区分 | C21: 変状区分 | E21: 材質劣化 | M21: 対策 区分 | N21: 変状区分 | P21: 材質劣化
C22: 応急措置前 | N22: 応急措置前
C23: 応急措置後 | E23: Ⅱb | N23: 応急措置後 | P23: Ⅱa
B24: 変状の発生範囲及び規模 | E24: 0.02m2(0.40m×0.05m) | H24: 前回変状の発生範囲及び規模 | J24: 0.40m×0.05m (判定Ⅱb) | M24: 変状の発生範囲及び規模 | P24: 0.06m2(0.60m×0.10m) | S24: 前回変状の発生範囲及び規模 | U24: 0.6mm,L=0.8m (判定Ⅱa)
B25: 対策履歴 | E25: 監視(日常巡視) | H25: 実施状況（実施日） | J25: 継続 | M25: 対策履歴 | P25: － | S25: 実施状況（実施日） | U25: －
B26: メモ | E26: アーチ部(右側)に鋼材露出。現状で利用者被害の可能性は低いため、監視にとどめる。 | M26: メモ | P26: 横断目地部(天端)にうき。将来的に利用者に影響が及ぶ可能性があるため、重点的な監視及び計画的な対策を必要とする。 ※打音異常無し
C27: ※ 応急措置後の対策区分について添付すること。また、点検前に 実施された措置によりⅠと判定された箇所も添付すること。 | N27: ※ 変状の発生範囲の規模とは、対策を行う際に参考となる変状の長さや面積をいう。
N28: ※ 応急措置を実施しないで決定した変状の対策区分は、対策区分の応急措置後の欄に記入すること。
C29: ※ たたき落としを実施した場合は、実施後の写真を添付すること。 | N29: ※ 変状の発生範囲の規模は、面積・寸法を記載すること。(ひび割れ幅のみmmとし、その他をm表記とする)
N30: ※ 構造用鋼材以外の異物に伴ううき・はく離については、メモ欄に異物の概要を記入すること。

Sheet 様式D-1-1 (4)
B2: ■定期点検記録様式 変状写真台帳【様式D-1-1】 | R2: 施設ID | T2: 34.03558,132.05172
B3: フリガナ | E3: ナカヤマトンネル | H3: 路 線 名 | J3: 主要地方道柳井周東線 | M3: 定期点検実施者 | P3: 株式会社長大 | S3: 定期点検年月日 | U3: 45917
B4: 名 称 | E4: 中山トンネル | H4: 管理者名 | J4: 岩国土木建築事務所 | P4: 鷲尾 寛
B5: 写真 番号 | C5: 覆工スパン 番号 | E5: S001 | M5: 写真 番号 | N5: 覆工スパン 番号 | P5: S001
C6: 変状番号 | E6: 38 | N6: 変状番号 | P6: 39
B7: 変状 部位 | C7: 対象箇所 | E7: 覆工 | M7: 変状 部位 | N7: 対象箇所 | P7: 覆工
C8: 部位区分 | E8: 水平打ち継ぎ目（左側） | N8: 部位区分 | P8: 側壁（左側）
B9: 変状種類 | E9: うき・はく離 | M9: 変状種類 | P9: うき・はく離
B10: 対策 区分 | C10: 変状区分 | E10: 材質劣化 | M10: 対策 区分 | N10: 変状区分 | P10: 材質劣化
C11: 応急措置前 | N11: 応急措置前
C12: 応急措置後 | E12: Ⅱb | N12: 応急措置後 | P12: Ⅱb
B13: 変状の発生範囲及び規模 | E13: 1.05m2(0.10m×10.50m) | H13: 前回変状の発生範囲及び規模 | J13: 10.50m×0.10m (判定Ⅱa) | M13: 変状の発生範囲及び規模 | P13: 0.06m2(0.05m×1.10m) | S13: 前回変状の発生範囲及び規模 | U13: 1.10m×0.05m (判定Ⅱb)
B14: 対策履歴 | E14: － | H14: 実施状況（実施日） | J14: － | M14: 対策履歴 | P14: 監視(日常巡視) | S14: 実施状況（実施日） | U14: 継続
B15: メモ | E15: 水平打ち継ぎ目(左側)沿いにうき。現状で利用者被害の可能性は低いため、監視にとどめる。 ※打音異常無し | M15: メモ | P15: 側壁部(左側)に豆板。現状で利用者被害の可能性は低いため、監視にとどめる。 ※打音異常無し
B16: 写真 番号 | C16: 覆工スパン 番号 | E16: S001 | M16: 写真 番号 | N16: 覆工スパン 番号 | P16: S001
C17: 変状番号 | E17: 40 | N17: 変状番号 | P17: 43
B18: 変状 部位 | C18: 対象箇所 | E18: 覆工 | M18: 変状 部位 | N18: 対象箇所 | P18: 覆工
C19: 部位区分 | E19: 側壁（左側） | N19: 部位区分 | P19: 側壁（左側）
B20: 変状種類 | E20: うき・はく離 | M20: 変状種類 | P20: うき・はく離
B21: 対策 区分 | C21: 変状区分 | E21: 材質劣化 | M21: 対策 区分 | N21: 変状区分 | P21: 材質劣化
C22: 応急措置前 | N22: 応急措置前
C23: 応急措置後 | E23: Ⅱb | N23: 応急措置後 | P23: Ⅱb
B24: 変状の発生範囲及び規模 | E24: 0.10m2(2.00m×0.05m) | H24: 前回変状の発生範囲及び規模 | J24: 0.05m×0.50m (判定Ⅱb) | M24: 変状の発生範囲及び規模 | P24: 0.03m2(0.50m×0.05m) | S24: 前回変状の発生範囲及び規模 | U24: 0.05m×0.50m (判定Ⅱb)
B25: 対策履歴 | E25: 監視(日常巡視) | H25: 実施状況（実施日） | J25: 継続 | M25: 対策履歴 | P25: 監視(日常巡視) | S25: 実施状況（実施日） | U25: 継続
B26: メモ | E26: 側壁部(左側)にうき。拡大。現状で利用者被害の可能性は低いため、監視にとどめる。 ※打音異常無し | M26: メモ | P26: 側壁部(左側)にうき。現状で利用者被害の可能性は低いため、監視にとどめる。 ※打音異常無し
C27: ※ 応急措置後の対策区分について添付すること。また、点検前に 実施された措置によりⅠと判定された箇所も添付すること。 | N27: ※ 変状の発生範囲の規模とは、対策を行う際に参考となる変状の長さや面積をいう。
N28: ※ 応急措置を実施しないで決定した変状の対策区分は、対策区分の応急措置後の欄に記入すること。
C29: ※ たたき落としを実施した場合は、実施後の写真を添付すること。 | N29: ※ 変状の発生範囲の規模は、面積・寸法を記載すること。(ひび割れ幅のみmmとし、その他をm表記とする)
N30: ※ 構造用鋼材以外の異物に伴ううき・はく離については、メモ欄に異物の概要を記入すること。

Sheet 様式D-1-1 (5)
B2: ■定期点検記録様式 変状写真台帳【様式D-1-1】 | R2: 施設ID | T2: 34.03558,132.05172
B3: フリガナ | E3: ナカヤマトンネル | H3: 路 線 名 | J3: 主要地方道柳井周東線 | M3: 定期点検実施者 | P3: 株式会社長大 | S3: 定期点検年月日 | U3: 45917
B4: 名 称 | E4: 中山トンネル | H4: 管理者名 | J4: 岩国土木建築事務所 | P4: 鷲尾 寛
B5: 写真 番号 | C5: 覆工スパン 番号 | E5: S001 | M5: 写真 番号 | N5: 覆工スパン 番号 | P5: S001
C6: 変状番号 | E6: 44 | N6: 変状番号 | P6: 45
B7: 変状 部位 | C7: 対象箇所 | E7: 覆工 | M7: 変状 部位 | N7: 対象箇所 | P7: 路面
C8: 部位区分 | E8: 水平打ち継ぎ目（右側） | N8: 部位区分 | P8: 側溝
B9: 変状種類 | E9: うき・はく離 | M9: 変状種類 | P9: その他
B10: 対策 区分 | C10: 変状区分 | E10: 材質劣化 | M10: 対策 区分 | N10: 変状区分
C11: 応急措置前 | N11: 応急措置前
C12: 応急措置後 | E12: Ⅱb | N12: 応急措置後
B13: 変状の発生範囲及び規模 | E13: 0.66m2(0.10m×6.60m) | H13: 前回変状の発生範囲及び規模 | J13: 6.60m×0.10m (判定Ⅱb) | M13: 変状の発生範囲及び規模 | P13: 14箇所 | S13: 前回変状の発生範囲及び規模 | U13: 規模記載なし (判定Ⅱb)
B14: 対策履歴 | E14: 監視(日常巡視) | H14: 実施状況（実施日） | J14: 継続 | M14: 対策履歴 | P14: － | S14: 実施状況（実施日） | U14: －
B15: メモ | E15: 水平打ち継ぎ目(右側)沿いにうき。現状で利用者被害の可能性は低いため、監視にとどめる。 ※打音異常無し | M15: メモ | P15: 側溝蓋破損。現状で利用者被害の可能性は低い。
B16: 写真 番号 | C16: 覆工スパン 番号 | E16: S001 | M16: 写真 番号 | N16: 覆工スパン 番号 | P16: S001
C17: 変状番号 | E17: 47 | N17: 変状番号 | P17: 48
B18: 変状 部位 | C18: 対象箇所 | E18: 覆工 | M18: 変状 部位 | N18: 対象箇所 | P18: 覆工
C19: 部位区分 | E19: 側壁（右側） | N19: 部位区分 | P19: 水平打ち継ぎ目（右側）
B20: 変状種類 | E20: 補修・補強材の破損 | M20: 変状種類 | P20: うき・はく離
B21: 対策 区分 | C21: 変状区分 | E21: 材質劣化 | M21: 対策 区分 | N21: 変状区分 | P21: 材質劣化
C22: 応急措置前 | N22: 応急措置前
C23: 応急措置後 | E23: Ⅱb | N23: 応急措置後 | P23: Ⅱb
B24: 変状の発生範囲及び規模 | E24: 0.02m2(0.15m×0.10m) | H24: 前回変状の発生範囲及び規模 | J24: 今回新規変状 | M24: 変状の発生範囲及び規模 | P24: 0.22m2(0.10m×2.20m) | S24: 前回変状の発生範囲及び規模 | U24: 5.00m×0.10m (判定Ⅱa)
B25: 対策履歴 | E25: － | H25: 実施状況（実施日） | J25: － | M25: 対策履歴 | P25: － | S25: 実施状況（実施日） | U25: －
B26: メモ | E26: 側壁部(右側)に線導水破損(漏水なし)。新たに発生。現状で利用者被害の可能性は低いため、監視にとどめる。 | M26: メモ | P26: 水平打ち継ぎ目(右側)沿いにうき。現状で利用者被害の可能性は低いため、監視にとどめる。(前回S2-32で評価)※打音異常無し
C27: ※ 応急措置後の対策区分について添付すること。また、点検前に 実施された措置によりⅠと判定された箇所も添付すること。 | N27: ※ 変状の発生範囲の規模とは、対策を行う際に参考となる変状の長さや面積をいう。
N28: ※ 応急措置を実施しないで決定した変状の対策区分は、対策区分の応急措置後の欄に記入すること。
C29: ※ たたき落としを実施した場合は、実施後の写真を添付すること。 | N29: ※ 変状の発生範囲の規模は、面積・寸法を記載すること。(ひび割れ幅のみmmとし、その他をm表記とする)
N30: ※ 構造用鋼材以外の異物に伴ううき・はく離については、メモ欄に異物の概要を記入すること。

Sheet 様式D-1-1 (6)
B2: ■定期点検記録様式 変状写真台帳【様式D-1-1】 | R2: 施設ID | T2: 34.03558,132.05172
B3: フリガナ | E3: ナカヤマトンネル | H3: 路 線 名 | J3: 主要地方道柳井周東線 | M3: 定期点検実施者 | P3: 株式会社長大 | S3: 定期点検年月日 | U3: 45917
B4: 名 称 | E4: 中山トンネル | H4: 管理者名 | J4: 岩国土木建築事務所 | P4: 鷲尾 寛
B5: 写真 番号 | C5: 覆工スパン 番号 | E5: S002 | M5: 写真 番号 | N5: 覆工スパン 番号 | P5: S002
C6: 変状番号 | E6: 1 | N6: 変状番号 | P6: 8
B7: 変状 部位 | C7: 対象箇所 | E7: 覆工 | M7: 変状 部位 | N7: 対象箇所 | P7: 覆工
C8: 部位区分 | E8: アーチ（左側） | N8: 部位区分 | P8: アーチ（天端）
B9: 変状種類 | E9: 圧ざ、ひび割れ | M9: 変状種類 | P9: うき・はく離
B10: 対策 区分 | C10: 変状区分 | E10: 材質劣化 | M10: 対策 区分 | N10: 変状区分 | P10: 材質劣化
C11: 応急措置前 | N11: 応急措置前
C12: 応急措置後 | E12: Ⅱb | N12: 応急措置後 | P12: Ⅱb
B13: 変状の発生範囲及び規模 | E13: 10.80m2(長さ10.80m×幅0.40mm) | H13: 前回変状の発生範囲及び規模 | J13: 0.4mm,L=10.5m (判定Ⅱb) | M13: 変状の発生範囲及び規模 | P13: 0.02m2(0.15m×0.10m) | S13: 前回変状の発生範囲及び規模 | U13: 0.10m×0.15m (判定Ⅱb)
B14: 対策履歴 | E14: 監視(日常巡視) | H14: 実施状況（実施日） | J14: 継続 | M14: 対策履歴 | P14: 監視(日常巡視) | S14: 実施状況（実施日） | U14: 継続
B15: メモ | E15: アーチ部(左側)に縦断方向のひび割れ(遊離石灰)。現状で利用者被害の可能性は低いため、監視にとどめる。 | M15: メモ | P15: アーチ部(天端)に豆板。現状で利用者被害の可能性は低いため、監視にとどめる。 ※打音異常無し
B16: 写真 番号 | C16: 覆工スパン 番号 | E16: S002 | M16: 写真 番号 | N16: 覆工スパン 番号 | P16: S002
C17: 変状番号 | E17: 13 | N17: 変状番号 | P17: 28
B18: 変状 部位 | C18: 対象箇所 | E18: 覆工 | M18: 変状 部位 | N18: 対象箇所 | P18: 覆工
C19: 部位区分 | E19: アーチ（天端） | N19: 部位区分 | P19: 水平打ち継ぎ目（左側）
B20: 変状種類 | E20: うき・はく離 | M20: 変状種類 | P20: うき・はく離
B21: 対策 区分 | C21: 変状区分 | E21: 材質劣化 | M21: 対策 区分 | N21: 変状区分 | P21: 材質劣化
C22: 応急措置前 | N22: 応急措置前
C23: 応急措置後 | E23: Ⅱa | N23: 応急措置後 | P23: Ⅱb
B24: 変状の発生範囲及び規模 | E24: 0.03m2(0.30m×0.10m) | H24: 前回変状の発生範囲及び規模 | J24: 0.05m×0.25m (判定Ⅱb) | M24: 変状の発生範囲及び規模 | P24: 1.05m2(0.10m×10.50m) | S24: 前回変状の発生範囲及び規模 | U24: 10.50m×0.10m (判定Ⅱa)
B25: 対策履歴 | E25: 監視(日常巡視) | H25: 実施状況（実施日） | J25: 継続 | M25: 対策履歴 | P25: － | S25: 実施状況（実施日） | U25: －
B26: メモ | E26: アーチ部(天端)にひび割れ沿いのうき。将来的に利用者に影響が及ぶ可能性があるため、重点的な監視及び計画的な対策を必要とする。 ※打音異常無し | M26: メモ | P26: 水平打ち継ぎ目(左側)沿いにうき。現状で利用者被害の可能性は低いため、監視にとどめる。 ※打音異常無し
C27: ※ 応急措置後の対策区分について添付すること。また、点検前に 実施された措置によりⅠと判定された箇所も添付すること。 | N27: ※ 変状の発生範囲の規模とは、対策を行う際に参考となる変状の長さや面積をいう。
N28: ※ 応急措置を実施しないで決定した変状の対策区分は、対策区分の応急措置後の欄に記入すること。
C29: ※ たたき落としを実施した場合は、実施後の写真を添付すること。 | N29: ※ 変状の発生範囲の規模は、面積・寸法を記載すること。(ひび割れ幅のみmmとし、その他をm表記とする)
N30: ※ 構造用鋼材以外の異物に伴ううき・はく離については、メモ欄に異物の概要を記入すること。

Sheet 様式D-1-1 (7)
B2: ■定期点検記録様式 変状写真台帳【様式D-1-1】 | R2: 施設ID | T2: 34.03558,132.05172
B3: フリガナ | E3: ナカヤマトンネル | H3: 路 線 名 | J3: 主要地方道柳井周東線 | M3: 定期点検実施者 | P3: 株式会社長大 | S3: 定期点検年月日 | U3: 45917
B4: 名 称 | E4: 中山トンネル | H4: 管理者名 | J4: 岩国土木建築事務所 | P4: 鷲尾 寛
B5: 写真 番号 | C5: 覆工スパン 番号 | E5: S002 | M5: 写真 番号 | N5: 覆工スパン 番号 | P5: S002
C6: 変状番号 | E6: 32 | N6: 変状番号 | P6: 33
B7: 変状 部位 | C7: 対象箇所 | E7: 覆工 | M7: 変状 部位 | N7: 対象箇所 | P7: 覆工
C8: 部位区分 | E8: 水平打ち継ぎ目（右側） | N8: 部位区分 | P8: 水平打ち継ぎ目（右側）
B9: 変状種類 | E9: うき・はく離 | M9: 変状種類 | P9: うき・はく離
B10: 対策 区分 | C10: 変状区分 | E10: 材質劣化 | M10: 対策 区分 | N10: 変状区分 | P10: 材質劣化
C11: 応急措置前 | N11: 応急措置前
C12: 応急措置後 | E12: Ⅱb | N12: 応急措置後 | P12: Ⅱb
B13: 変状の発生範囲及び規模 | E13: 0.28m2(0.10m×2.80m) | H13: 前回変状の発生範囲及び規模 | J13: 5.00m×0.10m (判定Ⅱa) | M13: 変状の発生範囲及び規模 | P13: 0.48m2(0.10m×4.80m) | S13: 前回変状の発生範囲及び規模 | U13: 4.90m×0.10m (判定Ⅱa)
B14: 対策履歴 | E14: － | H14: 実施状況（実施日） | J14: － | M14: 対策履歴 | P14: － | S14: 実施状況（実施日） | U14: －
B15: メモ | E15: 水平打ち継ぎ目(右側)沿いにうき。現状で利用者被害の可能性は低いため、監視にとどめる。(S1の範囲はS1-48で評価する) ※打音異常無し | M15: メモ | P15: 水平打ち継ぎ目(右側)沿いにうき。現状で利用者被害の可能性は低いため、監視にとどめる。 ※打音異常無し
B16: 写真 番号 | C16: 覆工スパン 番号 | E16: S002 | M16: 写真 番号 | N16: 覆工スパン 番号 | P16: S002
C17: 変状番号 | E17: 36 | N17: 変状番号 | P17: 37
B18: 変状 部位 | C18: 対象箇所 | E18: 覆工 | M18: 変状 部位 | N18: 対象箇所 | P18: 路面
C19: 部位区分 | E19: 横断目地（右側） | N19: 部位区分 | P19: 側溝
B20: 変状種類 | E20: 補修・補強材の破損 | M20: 変状種類 | P20: その他
B21: 対策 区分 | C21: 変状区分 | E21: 材質劣化 | M21: 対策 区分 | N21: 変状区分
C22: 応急措置前 | N22: 応急措置前
C23: 応急措置後 | E23: Ⅱb | N23: 応急措置後
B24: 変状の発生範囲及び規模 | E24: 0.03m2(0.25m×0.10m) | H24: 前回変状の発生範囲及び規模 | J24: 今回新規変状 | M24: 変状の発生範囲及び規模 | P24: 3箇所 | S24: 前回変状の発生範囲及び規模 | U24: 今回新規変状
B25: 対策履歴 | E25: － | H25: 実施状況（実施日） | J25: － | M25: 対策履歴 | P25: － | S25: 実施状況（実施日） | U25: －
B26: メモ | E26: 横断目地部(アーチ右側)に線導水破損(漏水なし)。新たに発生。現状で利用者被害の可能性は低いため、監視にとどめる。 | M26: メモ | P26: 側溝蓋破損。新たに発生。現状で利用者被害の可能性は低い。
C27: ※ 応急措置後の対策区分について添付すること。また、点検前に 実施された措置によりⅠと判定された箇所も添付すること。 | N27: ※ 変状の発生範囲の規模とは、対策を行う際に参考となる変状の長さや面積をいう。
N28: ※ 応急措置を実施しないで決定した変状の対策区分は、対策区分の応急措置後の欄に記入すること。
C29: ※ たたき落としを実施した場合は、実施後の写真を添付すること。 | N29: ※ 変状の発生範囲の規模は、面積・寸法を記載すること。(ひび割れ幅のみmmとし、その他をm表記とする)
N30: ※ 構造用鋼材以外の異物に伴ううき・はく離については、メモ欄に異物の概要を記入すること。

Sheet 様式D-1-1 (8)
B2: ■定期点検記録様式 変状写真台帳【様式D-1-1】 | R2: 施設ID | T2: 34.03558,132.05172
B3: フリガナ | E3: ナカヤマトンネル | H3: 路 線 名 | J3: 主要地方道柳井周東線 | M3: 定期点検実施者 | P3: 株式会社長大 | S3: 定期点検年月日 | U3: 45917
B4: 名 称 | E4: 中山トンネル | H4: 管理者名 | J4: 岩国土木建築事務所 | P4: 鷲尾 寛
B5: 写真 番号 | C5: 覆工スパン 番号 | E5: S003 | M5: 写真 番号 | N5: 覆工スパン 番号 | P5: S003
C6: 変状番号 | E6: 8 | N6: 変状番号 | P6: 10
B7: 変状 部位 | C7: 対象箇所 | E7: 覆工 | M7: 変状 部位 | N7: 対象箇所 | P7: 覆工
C8: 部位区分 | E8: アーチ（左側） | N8: 部位区分 | P8: 横断目地（天端）
B9: 変状種類 | E9: うき・はく離 | M9: 変状種類 | P9: うき・はく離
B10: 対策 区分 | C10: 変状区分 | E10: 材質劣化 | M10: 対策 区分 | N10: 変状区分 | P10: 材質劣化
C11: 応急措置前 | N11: 応急措置前
C12: 応急措置後 | E12: Ⅱa | N12: 応急措置後 | P12: Ⅱb
B13: 変状の発生範囲及び規模 | E13: 0.01m2(0.05m×0.15m) | H13: 前回変状の発生範囲及び規模 | J13: 0.05m×0.20m (判定Ⅱa) | M13: 変状の発生範囲及び規模 | P13: 0.15m2(2.90m×0.05m) | S13: 前回変状の発生範囲及び規模 | U13: 0.05m×2.90m (判定Ⅱb)
B14: 対策履歴 | E14: － | H14: 実施状況（実施日） | J14: － | M14: 対策履歴 | P14: 監視(日常巡視) | S14: 実施状況（実施日） | U14: 継続
B15: メモ | E15: アーチ部(左側)にひび割れ沿いのうき。将来的に利用者に影響が及ぶ可能性があるため、重点的な監視及び計画的な対策を必要とする。 ※打音異常無し | M15: メモ | P15: 横断目地部(天端)に豆板。現状で利用者被害の可能性は低いため、監視にとどめる。 ※打音異常無し
B16: 写真 番号 | C16: 覆工スパン 番号 | E16: S003 | M16: 写真 番号 | N16: 覆工スパン 番号 | P16: S003
C17: 変状番号 | E17: 29 | N17: 変状番号 | P17: 30
B18: 変状 部位 | C18: 対象箇所 | E18: 覆工 | M18: 変状 部位 | N18: 対象箇所 | P18: 覆工
C19: 部位区分 | E19: 水平打ち継ぎ目（左側） | N19: 部位区分 | P19: 側壁（左側）
B20: 変状種類 | E20: うき・はく離 | M20: 変状種類 | P20: うき・はく離
B21: 対策 区分 | C21: 変状区分 | E21: 材質劣化 | M21: 対策 区分 | N21: 変状区分 | P21: 材質劣化
C22: 応急措置前 | N22: 応急措置前
C23: 応急措置後 | E23: Ⅱb | N23: 応急措置後 | P23: Ⅱb
B24: 変状の発生範囲及び規模 | E24: 0.20m2(0.10m×2.00m) | H24: 前回変状の発生範囲及び規模 | J24: 1.50m×0.10m (判定Ⅱb) | M24: 変状の発生範囲及び規模 | P24: 0.10m2(0.25m×0.40m) | S24: 前回変状の発生範囲及び規模 | U24: 0.40m×0.25m (判定Ⅱb)
B25: 対策履歴 | E25: 監視(日常巡視) | H25: 実施状況（実施日） | J25: 継続 | M25: 対策履歴 | P25: 監視(日常巡視) | S25: 実施状況（実施日） | U25: 継続
B26: メモ | E26: 水平打ち継ぎ目(左側)沿いにうき。拡大。現状で利用者被害の可能性は低いため、監視にとどめる。 ※打音異常無し | M26: メモ | P26: 側壁部(左側)にうき。現状で利用者被害の可能性は低いため、監視にとどめる。 ※打音異常無し
C27: ※ 応急措置後の対策区分について添付すること。また、点検前に 実施された措置によりⅠと判定された箇所も添付すること。 | N27: ※ 変状の発生範囲の規模とは、対策を行う際に参考となる変状の長さや面積をいう。
N28: ※ 応急措置を実施しないで決定した変状の対策区分は、対策区分の応急措置後の欄に記入すること。
C29: ※ たたき落としを実施した場合は、実施後の写真を添付すること。 | N29: ※ 変状の発生範囲の規模は、面積・寸法を記載すること。(ひび割れ幅のみmmとし、その他をm表記とする)
N30: ※ 構造用鋼材以外の異物に伴ううき・はく離については、メモ欄に異物の概要を記入すること。

Sheet 様式D-1-1 (9)
B2: ■定期点検記録様式 変状写真台帳【様式D-1-1】 | R2: 施設ID | T2: 34.03558,132.05172
B3: フリガナ | E3: ナカヤマトンネル | H3: 路 線 名 | J3: 主要地方道柳井周東線 | M3: 定期点検実施者 | P3: 株式会社長大 | S3: 定期点検年月日 | U3: 45917
B4: 名 称 | E4: 中山トンネル | H4: 管理者名 | J4: 岩国土木建築事務所 | P4: 鷲尾 寛
B5: 写真 番号 | C5: 覆工スパン 番号 | E5: S003 | M5: 写真 番号 | N5: 覆工スパン 番号 | P5: S003
C6: 変状番号 | E6: 31 | N6: 変状番号 | P6: 33
B7: 変状 部位 | C7: 対象箇所 | E7: 覆工 | M7: 変状 部位 | N7: 対象箇所 | P7: 覆工
C8: 部位区分 | E8: 側壁（左側） | N8: 部位区分 | P8: 水平打ち継ぎ目（右側）
B9: 変状種類 | E9: うき・はく離 | M9: 変状種類 | P9: うき・はく離
B10: 対策 区分 | C10: 変状区分 | E10: 材質劣化 | M10: 対策 区分 | N10: 変状区分 | P10: 材質劣化
C11: 応急措置前 | N11: 応急措置前
C12: 応急措置後 | E12: Ⅱb | N12: 応急措置後 | P12: Ⅱb
B13: 変状の発生範囲及び規模 | E13: 0.15m2(0.05m×3.00m) | H13: 前回変状の発生範囲及び規模 | J13: 3.00m×0.03m (判定Ⅱb) | M13: 変状の発生範囲及び規模 | P13: 0.04m2(0.10m×0.40m) | S13: 前回変状の発生範囲及び規模 | U13: 0.40m×0.10m (判定Ⅱa)
B14: 対策履歴 | E14: 監視(日常巡視) | H14: 実施状況（実施日） | J14: 継続 | M14: 対策履歴 | P14: － | S14: 実施状況（実施日） | U14: －
B15: メモ | E15: 側壁部(左側)に豆板。現状で利用者被害の可能性は低いため、監視にとどめる。 ※打音異常無し | M15: メモ | P15: 水平打ち継ぎ目(右側)沿いにうき。現状で利用者被害の可能性は低いため、監視にとどめる。 ※打音異常無し
B16: 写真 番号 | C16: 覆工スパン 番号 | E16: S003 | M16: 写真 番号 | N16: 覆工スパン 番号 | P16: S003
C17: 変状番号 | E17: 34 | N17: 変状番号 | P17: 35
B18: 変状 部位 | C18: 対象箇所 | E18: 覆工 | M18: 変状 部位 | N18: 対象箇所 | P18: 覆工
C19: 部位区分 | E19: 水平打ち継ぎ目（右側） | N19: 部位区分 | P19: 水平打ち継ぎ目（右側）
B20: 変状種類 | E20: うき・はく離 | M20: 変状種類 | P20: うき・はく離
B21: 対策 区分 | C21: 変状区分 | E21: 材質劣化 | M21: 対策 区分 | N21: 変状区分 | P21: 材質劣化
C22: 応急措置前 | N22: 応急措置前
C23: 応急措置後 | E23: Ⅱb | N23: 応急措置後 | P23: Ⅱb
B24: 変状の発生範囲及び規模 | E24: 0.55m2(0.10m×5.50m) | H24: 前回変状の発生範囲及び規模 | J24: 5.50m×0.10m (判定Ⅱa) | M24: 変状の発生範囲及び規模 | P24: 0.02m2(0.10m×0.20m) | S24: 前回変状の発生範囲及び規模 | U24: 0.60m×0.10m (判定Ⅱa)
B25: 対策履歴 | E25: － | H25: 実施状況（実施日） | J25: － | M25: 対策履歴 | P25: － | S25: 実施状況（実施日） | U25: －
B26: メモ | E26: 水平打ち継ぎ目(右側)沿いにうき。現状で利用者被害の可能性は低いため、監視にとどめる。 ※打音異常無し | M26: メモ | P26: 水平打ち継ぎ目(右側)沿いにうき。現状で利用者被害の可能性は低いため、監視にとどめる。(S4範囲はS4-39で評価) ※打音異常無し
C27: ※ 応急措置後の対策区分について添付すること。また、点検前に 実施された措置によりⅠと判定された箇所も添付すること。 | N27: ※ 変状の発生範囲の規模とは、対策を行う際に参考となる変状の長さや面積をいう。
N28: ※ 応急措置を実施しないで決定した変状の対策区分は、対策区分の応急措置後の欄に記入すること。
C29: ※ たたき落としを実施した場合は、実施後の写真を添付すること。 | N29: ※ 変状の発生範囲の規模は、面積・寸法を記載すること。(ひび割れ幅のみmmとし、その他をm表記とする)
N30: ※ 構造用鋼材以外の異物に伴ううき・はく離については、メモ欄に異物の概要を記入すること。

Sheet 様式D-1-1 (10)
B2: ■定期点検記録様式 変状写真台帳【様式D-1-1】 | R2: 施設ID | T2: 34.03558,132.05172
B3: フリガナ | E3: ナカヤマトンネル | H3: 路 線 名 | J3: 主要地方道柳井周東線 | M3: 定期点検実施者 | P3: 株式会社長大 | S3: 定期点検年月日 | U3: 45917
B4: 名 称 | E4: 中山トンネル | H4: 管理者名 | J4: 岩国土木建築事務所 | P4: 鷲尾 寛
B5: 写真 番号 | C5: 覆工スパン 番号 | E5: S003 | M5: 写真 番号 | N5: 覆工スパン 番号 | P5: S003
C6: 変状番号 | E6: 40 | N6: 変状番号 | P6: 41
B7: 変状 部位 | C7: 対象箇所 | E7: 覆工 | M7: 変状 部位 | N7: 対象箇所 | P7: 覆工
C8: 部位区分 | E8: 水平打ち継ぎ目（左側） | N8: 部位区分 | P8: 水平打ち継ぎ目（左側）
B9: 変状種類 | E9: うき・はく離 | M9: 変状種類 | P9: うき・はく離
B10: 対策 区分 | C10: 変状区分 | E10: 材質劣化 | M10: 対策 区分 | N10: 変状区分 | P10: 材質劣化
C11: 応急措置前 | N11: 応急措置前
C12: 応急措置後 | E12: Ⅱb | N12: 応急措置後 | P12: Ⅱb
B13: 変状の発生範囲及び規模 | E13: 0.10m2(0.10m×1.00m) | H13: 前回変状の発生範囲及び規模 | J13: 前回調書記載なし | M13: 変状の発生範囲及び規模 | P13: 0.31m2(0.10m×3.10m) | S13: 前回変状の発生範囲及び規模 | U13: 15.80m×0.10m (判定Ⅱa)
B14: 対策履歴 | E14: － | H14: 実施状況（実施日） | J14: － | M14: 対策履歴 | P14: － | S14: 実施状況（実施日） | U14: －
B15: メモ | E15: 水平打ち継ぎ目(左側)沿いにうき。前回調書記載なし。現状で利用者被害の可能性は低いため、監視にとどめる。 ※打音異常無し | M15: メモ | P15: 水平打ち継ぎ目(左側)沿いにうき。現状で利用者被害の可能性は低いため、監視にとどめる。(前回S4-26で評価)※打音異常無し
B16: 写真 番号 | C16: 覆工スパン 番号 | E16: S003 | M16: 写真 番号 | N16: 覆工スパン 番号 | P16: S003
C17: 変状番号 | E17: 42 | N17: 変状番号 | P17: 43
B18: 変状 部位 | C18: 対象箇所 | E18: 覆工 | M18: 変状 部位 | N18: 対象箇所 | P18: 路面
C19: 部位区分 | E19: 水平打ち継ぎ目（右側） | N19: 部位区分 | P19: 側溝
B20: 変状種類 | E20: うき・はく離 | M20: 変状種類 | P20: その他
B21: 対策 区分 | C21: 変状区分 | E21: 材質劣化 | M21: 対策 区分 | N21: 変状区分
C22: 応急措置前 | N22: 応急措置前
C23: 応急措置後 | E23: Ⅱb | N23: 応急措置後
B24: 変状の発生範囲及び規模 | E24: 0.15m2(0.10m×1.50m) | H24: 前回変状の発生範囲及び規模 | J24: 前回調書記載なし | M24: 変状の発生範囲及び規模 | P24: 2箇所 | S24: 前回変状の発生範囲及び規模 | U24: 今回新規変状
B25: 対策履歴 | E25: － | H25: 実施状況（実施日） | J25: － | M25: 対策履歴 | P25: － | S25: 実施状況（実施日） | U25: －
B26: メモ | E26: 水平打ち継ぎ目(右側)沿いにうき。現状で利用者被害の可能性は低いため、監視にとどめる。 ※打音異常無し | M26: メモ | P26: 側溝蓋破損。新たに発生。現状で利用者被害の可能性は低い。
C27: ※ 応急措置後の対策区分について添付すること。また、点検前に 実施された措置によりⅠと判定された箇所も添付すること。 | N27: ※ 変状の発生範囲の規模とは、対策を行う際に参考となる変状の長さや面積をいう。
N28: ※ 応急措置を実施しないで決定した変状の対策区分は、対策区分の応急措置後の欄に記入すること。
C29: ※ たたき落としを実施した場合は、実施後の写真を添付すること。 | N29: ※ 変状の発生範囲の規模は、面積・寸法を記載すること。(ひび割れ幅のみmmとし、その他をm表記とする)
N30: ※ 構造用鋼材以外の異物に伴ううき・はく離については、メモ欄に異物の概要を記入すること。

Sheet 様式D-1-1 (11)
B2: ■定期点検記録様式 変状写真台帳【様式D-1-1】 | R2: 施設ID | T2: 34.03558,132.05172
B3: フリガナ | E3: ナカヤマトンネル | H3: 路 線 名 | J3: 主要地方道柳井周東線 | M3: 定期点検実施者 | P3: 株式会社長大 | S3: 定期点検年月日 | U3: 45917
B4: 名 称 | E4: 中山トンネル | H4: 管理者名 | J4: 岩国土木建築事務所 | P4: 鷲尾 寛
B5: 写真 番号 | C5: 覆工スパン 番号 | E5: S004 | M5: 写真 番号 | N5: 覆工スパン 番号 | P5: S004
C6: 変状番号 | E6: 1 | N6: 変状番号 | P6: 2
B7: 変状 部位 | C7: 対象箇所 | E7: 覆工 | M7: 変状 部位 | N7: 対象箇所 | P7: 覆工
C8: 部位区分 | E8: 横断目地（天端） | N8: 部位区分 | P8: 横断目地（天端）
B9: 変状種類 | E9: うき・はく離 | M9: 変状種類 | P9: うき・はく離
B10: 対策 区分 | C10: 変状区分 | E10: 材質劣化 | M10: 対策 区分 | N10: 変状区分 | P10: 材質劣化
C11: 応急措置前 | N11: 応急措置前
C12: 応急措置後 | E12: Ⅱb | N12: 応急措置後 | P12: Ⅱb
B13: 変状の発生範囲及び規模 | E13: 0.07m2(0.70m×0.10m) | H13: 前回変状の発生範囲及び規模 | J13: 0.10m×0.60m (判定Ⅱb) | M13: 変状の発生範囲及び規模 | P13: 0.03m2(0.30m×0.10m) | S13: 前回変状の発生範囲及び規模 | U13: 0.10m×0.40m (判定Ⅱb)
B14: 対策履歴 | E14: 監視(日常巡視) | H14: 実施状況（実施日） | J14: 継続 | M14: 対策履歴 | P14: 監視(日常巡視) | S14: 実施状況（実施日） | U14: 継続
B15: メモ | E15: 横断目地部(天端)に豆板。現状で利用者被害の可能性は低いため、監視にとどめる。 ※打音異常無し | M15: メモ | P15: 横断目地部(天端)に豆板。現状で利用者被害の可能性は低いため、監視にとどめる。 ※打音異常無し
B16: 写真 番号 | C16: 覆工スパン 番号 | E16: S004 | M16: 写真 番号 | N16: 覆工スパン 番号 | P16: S004
C17: 変状番号 | E17: 12 | N17: 変状番号 | P17: 15
B18: 変状 部位 | C18: 対象箇所 | E18: 覆工 | M18: 変状 部位 | N18: 対象箇所 | P18: 覆工
C19: 部位区分 | E19: アーチ（左側） | N19: 部位区分 | P19: 横断目地（右側）
B20: 変状種類 | E20: うき・はく離 | M20: 変状種類 | P20: うき・はく離
B21: 対策 区分 | C21: 変状区分 | E21: 材質劣化 | M21: 対策 区分 | N21: 変状区分 | P21: 材質劣化
C22: 応急措置前 | N22: 応急措置前
C23: 応急措置後 | E23: Ⅱb | N23: 応急措置後 | P23: Ⅱb
B24: 変状の発生範囲及び規模 | E24: 0.36m2(0.05m×7.20m) | H24: 前回変状の発生範囲及び規模 | J24: 7.20m×0.05m (判定Ⅱb) | M24: 変状の発生範囲及び規模 | P24: 0.02m2(0.35m×0.05m) | S24: 前回変状の発生範囲及び規模 | U24: 0.05m×0.35m (判定Ⅱb)
B25: 対策履歴 | E25: 監視(日常巡視) | H25: 実施状況（実施日） | J25: 継続 | M25: 対策履歴 | P25: 監視(日常巡視) | S25: 実施状況（実施日） | U25: 継続
B26: メモ | E26: アーチ部(左側)に豆板。現状で利用者被害の可能性は低いため、監視にとどめる。 ※打音異常無し | M26: メモ | P26: 横断目地部(アーチ右側)にはく落(異物(新聞紙)混入)。現状で利用者被害の可能性は低いため、監視にとどめる。※打音異常無し
C27: ※ 応急措置後の対策区分について添付すること。また、点検前に 実施された措置によりⅠと判定された箇所も添付すること。 | N27: ※ 変状の発生範囲の規模とは、対策を行う際に参考となる変状の長さや面積をいう。
N28: ※ 応急措置を実施しないで決定した変状の対策区分は、対策区分の応急措置後の欄に記入すること。
C29: ※ たたき落としを実施した場合は、実施後の写真を添付すること。 | N29: ※ 変状の発生範囲の規模は、面積・寸法を記載すること。(ひび割れ幅のみmmとし、その他をm表記とする)
N30: ※ 構造用鋼材以外の異物に伴ううき・はく離については、メモ欄に異物の概要を記入すること。

Sheet 様式D-1-1 (12)
B2: ■定期点検記録様式 変状写真台帳【様式D-1-1】 | R2: 施設ID | T2: 34.03558,132.05172
B3: フリガナ | E3: ナカヤマトンネル | H3: 路 線 名 | J3: 主要地方道柳井周東線 | M3: 定期点検実施者 | P3: 株式会社長大 | S3: 定期点検年月日 | U3: 45917
B4: 名 称 | E4: 中山トンネル | H4: 管理者名 | J4: 岩国土木建築事務所 | P4: 鷲尾 寛
B5: 写真 番号 | C5: 覆工スパン 番号 | E5: S004 | M5: 写真 番号 | N5: 覆工スパン 番号 | P5: S004
C6: 変状番号 | E6: 19 | N6: 変状番号 | P6: 25
B7: 変状 部位 | C7: 対象箇所 | E7: 覆工 | M7: 変状 部位 | N7: 対象箇所 | P7: 覆工
C8: 部位区分 | E8: アーチ（天端） | N8: 部位区分 | P8: アーチ（右側）
B9: 変状種類 | E9: 漏水 | M9: 変状種類 | P9: うき・はく離
B10: 対策 区分 | C10: 変状区分 | E10: 漏水 | M10: 対策 区分 | N10: 変状区分 | P10: 材質劣化
C11: 応急措置前 | N11: 応急措置前
C12: 応急措置後 | E12: Ⅱb | N12: 応急措置後 | P12: Ⅱb
B13: 変状の発生範囲及び規模 | E13: 13.56m2(7.75m×1.75m) | H13: 前回変状の発生範囲及び規模 | J13: 規模記載なし (判定Ⅱb) | M13: 変状の発生範囲及び規模 | P13: 0.08m2(0.05m×1.60m) | S13: 前回変状の発生範囲及び規模 | U13: 1.60m×0.05m (判定Ⅱb)
B14: 対策履歴 | E14: 監視(日常巡視) | H14: 実施状況（実施日） | J14: 継続 | M14: 対策履歴 | P14: 監視(日常巡視) | S14: 実施状況（実施日） | U14: 継続
B15: メモ | E15: アーチ部(天端)にひび割れ沿いの遊離石灰。現状で利用者被害の可能性は低いため、監視にとどめる。 | M15: メモ | P15: アーチ部(右側)に豆板。現状で利用者被害の可能性は低いため、監視にとどめる。 ※打音異常無し
B16: 写真 番号 | C16: 覆工スパン 番号 | E16: S004 | M16: 写真 番号 | N16: 覆工スパン 番号 | P16: S004
C17: 変状番号 | E17: 26 | N17: 変状番号 | P17: 27
B18: 変状 部位 | C18: 対象箇所 | E18: 覆工 | M18: 変状 部位 | N18: 対象箇所 | P18: 覆工
C19: 部位区分 | E19: 水平打ち継ぎ目（左側） | N19: 部位区分 | P19: 水平打ち継ぎ目（右側）
B20: 変状種類 | E20: うき・はく離 | M20: 変状種類 | P20: うき・はく離
B21: 対策 区分 | C21: 変状区分 | E21: 材質劣化 | M21: 対策 区分 | N21: 変状区分 | P21: 材質劣化
C22: 応急措置前 | N22: 応急措置前
C23: 応急措置後 | E23: Ⅱb | N23: 応急措置後 | P23: Ⅱb
B24: 変状の発生範囲及び規模 | E24: 1.05m2(0.10m×10.50m) | H24: 前回変状の発生範囲及び規模 | J24: 15.80m×0.10m (判定Ⅱa) | M24: 変状の発生範囲及び規模 | P24: 0.11m2(0.10m×1.10m) | S24: 前回変状の発生範囲及び規模 | U24: 1.10m×0.10m (判定Ⅱa)
B25: 対策履歴 | E25: － | H25: 実施状況（実施日） | J25: － | M25: 対策履歴 | P25: － | S25: 実施状況（実施日） | U25: －
B26: メモ | E26: 水平打ち継ぎ目(左側)沿いにうき。現状で利用者被害の可能性は低いため、監視にとどめる。(S3範囲はS3-41、S5範囲はS5-50で評価) ※打音異常無し | M26: メモ | P26: 水平打ち継ぎ目(右側)沿いにうき。現状で利用者被害の可能性は低いため、監視にとどめる。 ※打音異常無し
C27: ※ 応急措置後の対策区分について添付すること。また、点検前に 実施された措置によりⅠと判定された箇所も添付すること。 | N27: ※ 変状の発生範囲の規模とは、対策を行う際に参考となる変状の長さや面積をいう。
N28: ※ 応急措置を実施しないで決定した変状の対策区分は、対策区分の応急措置後の欄に記入すること。
C29: ※ たたき落としを実施した場合は、実施後の写真を添付すること。 | N29: ※ 変状の発生範囲の規模は、面積・寸法を記載すること。(ひび割れ幅のみmmとし、その他をm表記とする)
N30: ※ 構造用鋼材以外の異物に伴ううき・はく離については、メモ欄に異物の概要を記入すること。

Sheet 様式D-1-1 (13)
B2: ■定期点検記録様式 変状写真台帳【様式D-1-1】 | R2: 施設ID | T2: 34.03558,132.05172
B3: フリガナ | E3: ナカヤマトンネル | H3: 路 線 名 | J3: 主要地方道柳井周東線 | M3: 定期点検実施者 | P3: 株式会社長大 | S3: 定期点検年月日 | U3: 45917
B4: 名 称 | E4: 中山トンネル | H4: 管理者名 | J4: 岩国土木建築事務所 | P4: 鷲尾 寛
B5: 写真 番号 | C5: 覆工スパン 番号 | E5: S004 | M5: 写真 番号 | N5: 覆工スパン 番号 | P5: S004
C6: 変状番号 | E6: 28 | N6: 変状番号 | P6: 30
B7: 変状 部位 | C7: 対象箇所 | E7: 覆工 | M7: 変状 部位 | N7: 対象箇所 | P7: 覆工
C8: 部位区分 | E8: 水平打ち継ぎ目（右側） | N8: 部位区分 | P8: 水平打ち継ぎ目（右側）
B9: 変状種類 | E9: うき・はく離 | M9: 変状種類 | P9: うき・はく離
B10: 対策 区分 | C10: 変状区分 | E10: 材質劣化 | M10: 対策 区分 | N10: 変状区分 | P10: 材質劣化
C11: 応急措置前 | N11: 応急措置前
C12: 応急措置後 | E12: Ⅱb | N12: 応急措置後 | P12: Ⅱb
B13: 変状の発生範囲及び規模 | E13: 0.02m2(0.05m×0.40m) | H13: 前回変状の発生範囲及び規模 | J13: 0.40m×0.05m (判定Ⅱa) | M13: 変状の発生範囲及び規模 | P13: 0.15m2(0.10m×1.50m) | S13: 前回変状の発生範囲及び規模 | U13: 1.50m×0.10m (判定Ⅱa)
B14: 対策履歴 | E14: － | H14: 実施状況（実施日） | J14: － | M14: 対策履歴 | P14: － | S14: 実施状況（実施日） | U14: －
B15: メモ | E15: 水平打ち継ぎ目(右側)沿いにうき。現状で利用者被害の可能性は低いため、監視にとどめる。 ※打音異常無し | M15: メモ | P15: 水平打ち継ぎ目(右側)沿いにうき。現状で利用者被害の可能性は低いため、監視にとどめる。 ※打音異常無し
B16: 写真 番号 | C16: 覆工スパン 番号 | E16: S004 | M16: 写真 番号 | N16: 覆工スパン 番号 | P16: S004
C17: 変状番号 | E17: 31 | N17: 変状番号 | P17: 36
B18: 変状 部位 | C18: 対象箇所 | E18: 覆工 | M18: 変状 部位 | N18: 対象箇所 | P18: 覆工
C19: 部位区分 | E19: 水平打ち継ぎ目（右側） | N19: 部位区分 | P19: 側壁（左側）
B20: 変状種類 | E20: うき・はく離 | M20: 変状種類 | P20: うき・はく離
B21: 対策 区分 | C21: 変状区分 | E21: 材質劣化 | M21: 対策 区分 | N21: 変状区分 | P21: 材質劣化
C22: 応急措置前 | N22: 応急措置前
C23: 応急措置後 | E23: Ⅱb | N23: 応急措置後 | P23: Ⅱb
B24: 変状の発生範囲及び規模 | E24: 0.28m2(0.10m×2.80m) | H24: 前回変状の発生範囲及び規模 | J24: 1.90m×0.10m (判定Ⅱa) | M24: 変状の発生範囲及び規模 | P24: 0.08m2(0.05m×1.50m) | S24: 前回変状の発生範囲及び規模 | U24: 今回新規変状
B25: 対策履歴 | E25: － | H25: 実施状況（実施日） | J25: － | M25: 対策履歴 | P25: － | S25: 実施状況（実施日） | U25: －
B26: メモ | E26: 水平打ち継ぎ目(右側)沿いにうき。拡大。現状で利用者被害の可能性は低いため、監視にとどめる。 ※打音異常無し | M26: メモ | P26: 側壁部(左側)に豆板。新たに発生。現状で利用者被害の可能性は低いため、監視にとどめる。 ※打音異常無し
C27: ※ 応急措置後の対策区分について添付すること。また、点検前に 実施された措置によりⅠと判定された箇所も添付すること。 | N27: ※ 変状の発生範囲の規模とは、対策を行う際に参考となる変状の長さや面積をいう。
N28: ※ 応急措置を実施しないで決定した変状の対策区分は、対策区分の応急措置後の欄に記入すること。
C29: ※ たたき落としを実施した場合は、実施後の写真を添付すること。 | N29: ※ 変状の発生範囲の規模は、面積・寸法を記載すること。(ひび割れ幅のみmmとし、その他をm表記とする)
N30: ※ 構造用鋼材以外の異物に伴ううき・はく離については、メモ欄に異物の概要を記入すること。

Sheet 様式D-1-1 (14)
B2: ■定期点検記録様式 変状写真台帳【様式D-1-1】 | R2: 施設ID | T2: 34.03558,132.05172
B3: フリガナ | E3: ナカヤマトンネル | H3: 路 線 名 | J3: 主要地方道柳井周東線 | M3: 定期点検実施者 | P3: 株式会社長大 | S3: 定期点検年月日 | U3: 45917
B4: 名 称 | E4: 中山トンネル | H4: 管理者名 | J4: 岩国土木建築事務所 | P4: 鷲尾 寛
B5: 写真 番号 | C5: 覆工スパン 番号 | E5: S004 | M5: 写真 番号 | N5: 覆工スパン 番号 | P5: S004
C6: 変状番号 | E6: 37 | N6: 変状番号 | P6: 38
B7: 変状 部位 | C7: 対象箇所 | E7: 覆工 | M7: 変状 部位 | N7: 対象箇所 | P7: 覆工
C8: 部位区分 | E8: アーチ（左側） | N8: 部位区分 | P8: アーチ（右側）
B9: 変状種類 | E9: 圧ざ、ひび割れ | M9: 変状種類 | P9: うき・はく離
B10: 対策 区分 | C10: 変状区分 | E10: 材質劣化 | M10: 対策 区分 | N10: 変状区分 | P10: 材質劣化
C11: 応急措置前 | N11: 応急措置前
C12: 応急措置後 | E12: Ⅱb | N12: 応急措置後 | P12: Ⅱa
B13: 変状の発生範囲及び規模 | E13: 0.29m2(長さ2.90m×幅1.00mm) | H13: 前回変状の発生範囲及び規模 | J13: 前回調書記載なし | M13: 変状の発生範囲及び規模 | P13: 0.01m2(0.15m×0.05m) | S13: 前回変状の発生範囲及び規模 | U13: 今回新規変状
B14: 対策履歴 | E14: － | H14: 実施状況（実施日） | J14: － | M14: 対策履歴 | P14: － | S14: 実施状況（実施日） | U14: －
B15: メモ | E15: アーチ部(左側)に横断ひび割れ。前回調書記載なし。進行なし。現状で利用者被害の可能性は低いため、監視にとどめる。 ※打音異常無し | M15: メモ | P15: アーチ部(右側)にひび割れ沿いのうき。新たに発生。将来的に利用者に影響が及ぶ可能性があるため、重点的な監視及び計画的な対策を必要とする。 ※打音異常無し
B16: 写真 番号 | C16: 覆工スパン 番号 | E16: S004 | M16: 写真 番号 | N16: 覆工スパン 番号 | P16: S004
C17: 変状番号 | E17: 39 | N17: 変状番号 | P17: 40
B18: 変状 部位 | C18: 対象箇所 | E18: 覆工 | M18: 変状 部位 | N18: 対象箇所 | P18: 路面
C19: 部位区分 | E19: 水平打ち継ぎ目（右側） | N19: 部位区分 | P19: 側溝
B20: 変状種類 | E20: うき・はく離 | M20: 変状種類 | P20: その他
B21: 対策 区分 | C21: 変状区分 | E21: 材質劣化 | M21: 対策 区分 | N21: 変状区分
C22: 応急措置前 | N22: 応急措置前
C23: 応急措置後 | E23: Ⅱb | N23: 応急措置後
B24: 変状の発生範囲及び規模 | E24: 0.04m2(0.10m×0.40m) | H24: 前回変状の発生範囲及び規模 | J24: 0.60m×0.10m (判定Ⅱa) | M24: 変状の発生範囲及び規模 | P24: 1箇所 | S24: 前回変状の発生範囲及び規模 | U24: 今回新規変状
B25: 対策履歴 | E25: － | H25: 実施状況（実施日） | J25: － | M25: 対策履歴 | P25: － | S25: 実施状況（実施日） | U25: －
B26: メモ | E26: 水平打ち継ぎ目(右側)沿いにうき。現状で利用者被害の可能性は低いため、監視にとどめる。(前回S3-35で評価) ※打音異常無し | M26: メモ | P26: 側溝蓋破損。新たに発生。現状で利用者被害の可能性は低い。
C27: ※ 応急措置後の対策区分について添付すること。また、点検前に 実施された措置によりⅠと判定された箇所も添付すること。 | N27: ※ 変状の発生範囲の規模とは、対策を行う際に参考となる変状の長さや面積をいう。
N28: ※ 応急措置を実施しないで決定した変状の対策区分は、対策区分の応急措置後の欄に記入すること。
C29: ※ たたき落としを実施した場合は、実施後の写真を添付すること。 | N29: ※ 変状の発生範囲の規模は、面積・寸法を記載すること。(ひび割れ幅のみmmとし、その他をm表記とする)
N30: ※ 構造用鋼材以外の異物に伴ううき・はく離については、メモ欄に異物の概要を記入すること。

Sheet 様式D-1-1 (15)
B2: ■定期点検記録様式 変状写真台帳【様式D-1-1】 | R2: 施設ID | T2: 34.03558,132.05172
B3: フリガナ | E3: ナカヤマトンネル | H3: 路 線 名 | J3: 主要地方道柳井周東線 | M3: 定期点検実施者 | P3: 株式会社長大 | S3: 定期点検年月日 | U3: 45917
B4: 名 称 | E4: 中山トンネル | H4: 管理者名 | J4: 岩国土木建築事務所 | P4: 鷲尾 寛
B5: 写真 番号 | C5: 覆工スパン 番号 | E5: S005 | M5: 写真 番号 | N5: 覆工スパン 番号 | P5: S005
C6: 変状番号 | E6: 5 | N6: 変状番号 | P6: 33
B7: 変状 部位 | C7: 対象箇所 | E7: 覆工 | M7: 変状 部位 | N7: 対象箇所 | P7: 覆工
C8: 部位区分 | E8: アーチ（天端） | N8: 部位区分 | P8: 横断目地（右側）
B9: 変状種類 | E9: うき・はく離 | M9: 変状種類 | P9: うき・はく離
B10: 対策 区分 | C10: 変状区分 | E10: 材質劣化 | M10: 対策 区分 | N10: 変状区分 | P10: 材質劣化
C11: 応急措置前 | N11: 応急措置前
C12: 応急措置後 | E12: Ⅱa | N12: 応急措置後 | P12: Ⅱb
B13: 変状の発生範囲及び規模 | E13: 0.03m2(0.20m×0.15m) | H13: 前回変状の発生範囲及び規模 | J13: 0.10m×0.10m (判定Ⅱb) | M13: 変状の発生範囲及び規模 | P13: 0.01m2(0.10m×0.05m) | S13: 前回変状の発生範囲及び規模 | U13: 0.05m×0.10m (判定Ⅱb)
B14: 対策履歴 | E14: 監視(日常巡視) | H14: 実施状況（実施日） | J14: 継続 | M14: 対策履歴 | P14: 監視(日常巡視) | S14: 実施状況（実施日） | U14: 継続
B15: メモ | E15: アーチ部(天端)に補修跡うき(前回はく落)。将来的に利用者に影響が及ぶ可能性があるため、重点的な監視及び計画的な対策を必要とする。 ※打音異常無し | M15: メモ | P15: 横断目地部(アーチ右側)にはく落(異物(紙)混入)。現状で利用者被害の可能性は低いため、監視にとどめる。※打音異常無し
B16: 写真 番号 | C16: 覆工スパン 番号 | E16: S005 | M16: 写真 番号 | N16: 覆工スパン 番号 | P16: S005
C17: 変状番号 | E17: 35 | N17: 変状番号 | P17: 37
B18: 変状 部位 | C18: 対象箇所 | E18: 覆工 | M18: 変状 部位 | N18: 対象箇所 | P18: 覆工
C19: 部位区分 | E19: 横断目地（右側） | N19: 部位区分 | P19: 水平打ち継ぎ目（左側）
B20: 変状種類 | E20: うき・はく離 | M20: 変状種類 | P20: うき・はく離
B21: 対策 区分 | C21: 変状区分 | E21: 材質劣化 | M21: 対策 区分 | N21: 変状区分 | P21: 材質劣化
C22: 応急措置前 | N22: 応急措置前
C23: 応急措置後 | E23: Ⅱa | N23: 応急措置後 | P23: Ⅱb
B24: 変状の発生範囲及び規模 | E24: 0.03m2(0.60m×0.05m) | H24: 前回変状の発生範囲及び規模 | J24: 0.05m×0.50m (判定Ⅱa) | M24: 変状の発生範囲及び規模 | P24: 0.35m2(0.10m×3.50m) | S24: 前回変状の発生範囲及び規模 | U24: 3.50m×0.10m (判定Ⅱa)
B25: 対策履歴 | E25: － | H25: 実施状況（実施日） | J25: － | M25: 対策履歴 | P25: － | S25: 実施状況（実施日） | U25: －
B26: メモ | E26: 横断目地部(アーチ右側)にうき。将来的に利用者に影響が及ぶ可能性があるため、重点的な監視及び計画的な対策を必要とする。 ※打音異常無し | M26: メモ | P26: 水平打ち継ぎ目(左側)沿いにうき。現状で利用者被害の可能性は低いため、監視にとどめる。 ※打音異常無し
C27: ※ 応急措置後の対策区分について添付すること。また、点検前に 実施された措置によりⅠと判定された箇所も添付すること。 | N27: ※ 変状の発生範囲の規模とは、対策を行う際に参考となる変状の長さや面積をいう。
N28: ※ 応急措置を実施しないで決定した変状の対策区分は、対策区分の応急措置後の欄に記入すること。
C29: ※ たたき落としを実施した場合は、実施後の写真を添付すること。 | N29: ※ 変状の発生範囲の規模は、面積・寸法を記載すること。(ひび割れ幅のみmmとし、その他をm表記とする)
N30: ※ 構造用鋼材以外の異物に伴ううき・はく離については、メモ欄に異物の概要を記入すること。

Sheet 様式D-1-1 (16)
B2: ■定期点検記録様式 変状写真台帳【様式D-1-1】 | R2: 施設ID | T2: 34.03558,132.05172
B3: フリガナ | E3: ナカヤマトンネル | H3: 路 線 名 | J3: 主要地方道柳井周東線 | M3: 定期点検実施者 | P3: 株式会社長大 | S3: 定期点検年月日 | U3: 45917
B4: 名 称 | E4: 中山トンネル | H4: 管理者名 | J4: 岩国土木建築事務所 | P4: 鷲尾 寛
B5: 写真 番号 | C5: 覆工スパン 番号 | E5: S005 | M5: 写真 番号 | N5: 覆工スパン 番号 | P5: S005
C6: 変状番号 | E6: 38 | N6: 変状番号 | P6: 40
B7: 変状 部位 | C7: 対象箇所 | E7: 覆工 | M7: 変状 部位 | N7: 対象箇所 | P7: 覆工
C8: 部位区分 | E8: 水平打ち継ぎ目（左側） | N8: 部位区分 | P8: 水平打ち継ぎ目（右側）
B9: 変状種類 | E9: うき・はく離 | M9: 変状種類 | P9: うき・はく離
B10: 対策 区分 | C10: 変状区分 | E10: 材質劣化 | M10: 対策 区分 | N10: 変状区分 | P10: 材質劣化
C11: 応急措置前 | N11: 応急措置前
C12: 応急措置後 | E12: Ⅱb | N12: 応急措置後 | P12: Ⅱb
B13: 変状の発生範囲及び規模 | E13: 0.03m2(0.10m×0.30m) | H13: 前回変状の発生範囲及び規模 | J13: 0.30m×0.10m (判定Ⅱa) | M13: 変状の発生範囲及び規模 | P13: 0.22m2(0.10m×2.20m) | S13: 前回変状の発生範囲及び規模 | U13: 2.50m×0.10m (判定Ⅱa)
B14: 対策履歴 | E14: － | H14: 実施状況（実施日） | J14: － | M14: 対策履歴 | P14: － | S14: 実施状況（実施日） | U14: －
B15: メモ | E15: 水平打ち継ぎ目(左側)沿いにうき。現状で利用者被害の可能性は低いため、監視にとどめる。 ※打音異常無し | M15: メモ | P15: 水平打ち継ぎ目(右側)沿いにうき。現状で利用者被害の可能性は低いため、監視にとどめる。 ※打音異常無し
B16: 写真 番号 | C16: 覆工スパン 番号 | E16: S005 | M16: 写真 番号 | N16: 覆工スパン 番号 | P16: S005
C17: 変状番号 | E17: 41 | N17: 変状番号 | P17: 42
B18: 変状 部位 | C18: 対象箇所 | E18: 覆工 | M18: 変状 部位 | N18: 対象箇所 | P18: 覆工
C19: 部位区分 | E19: 水平打ち継ぎ目（右側） | N19: 部位区分 | P19: 水平打ち継ぎ目（右側）
B20: 変状種類 | E20: うき・はく離 | M20: 変状種類 | P20: うき・はく離
B21: 対策 区分 | C21: 変状区分 | E21: 材質劣化 | M21: 対策 区分 | N21: 変状区分 | P21: 材質劣化
C22: 応急措置前 | N22: 応急措置前
C23: 応急措置後 | E23: Ⅱb | N23: 応急措置後 | P23: Ⅱb
B24: 変状の発生範囲及び規模 | E24: 0.09m2(0.10m×0.90m) | H24: 前回変状の発生範囲及び規模 | J24: 0.90m×0.10m (判定Ⅱa) | M24: 変状の発生範囲及び規模 | P24: 0.09m2(0.10m×0.90m) | S24: 前回変状の発生範囲及び規模 | U24: 0.90m×0.10m (判定Ⅱa)
B25: 対策履歴 | E25: － | H25: 実施状況（実施日） | J25: － | M25: 対策履歴 | P25: － | S25: 実施状況（実施日） | U25: －
B26: メモ | E26: 水平打ち継ぎ目(右側)沿いにうき。現状で利用者被害の可能性は低いため、監視にとどめる。 ※打音異常無し | M26: メモ | P26: 水平打ち継ぎ目(右側)沿いにうき。現状で利用者被害の可能性は低いため、監視にとどめる。 ※打音異常無し
C27: ※ 応急措置後の対策区分について添付すること。また、点検前に 実施された措置によりⅠと判定された箇所も添付すること。 | N27: ※ 変状の発生範囲の規模とは、対策を行う際に参考となる変状の長さや面積をいう。
N28: ※ 応急措置を実施しないで決定した変状の対策区分は、対策区分の応急措置後の欄に記入すること。
C29: ※ たたき落としを実施した場合は、実施後の写真を添付すること。 | N29: ※ 変状の発生範囲の規模は、面積・寸法を記載すること。(ひび割れ幅のみmmとし、その他をm表記とする)
N30: ※ 構造用鋼材以外の異物に伴ううき・はく離については、メモ欄に異物の概要を記入すること。

Sheet 様式D-1-1 (17)
B2: ■定期点検記録様式 変状写真台帳【様式D-1-1】 | R2: 施設ID | T2: 34.03558,132.05172
B3: フリガナ | E3: ナカヤマトンネル | H3: 路 線 名 | J3: 主要地方道柳井周東線 | M3: 定期点検実施者 | P3: 株式会社長大 | S3: 定期点検年月日 | U3: 45917
B4: 名 称 | E4: 中山トンネル | H4: 管理者名 | J4: 岩国土木建築事務所 | P4: 鷲尾 寛
B5: 写真 番号 | C5: 覆工スパン 番号 | E5: S005 | M5: 写真 番号 | N5: 覆工スパン 番号 | P5: S005
C6: 変状番号 | E6: 43 | N6: 変状番号 | P6: 49
B7: 変状 部位 | C7: 対象箇所 | E7: 覆工 | M7: 変状 部位 | N7: 対象箇所 | P7: 覆工
C8: 部位区分 | E8: 側壁（右側） | N8: 部位区分 | P8: アーチ（左側）
B9: 変状種類 | E9: 補修・補強材の破損 | M9: 変状種類 | P9: 圧ざ、ひび割れ
B10: 対策 区分 | C10: 変状区分 | E10: 材質劣化 | M10: 対策 区分 | N10: 変状区分 | P10: 材質劣化
C11: 応急措置前 | N11: 応急措置前
C12: 応急措置後 | E12: Ⅱb | N12: 応急措置後 | P12: Ⅱb
B13: 変状の発生範囲及び規模 | E13: 0.04m2(0.40m×0.10m) | H13: 前回変状の発生範囲及び規模 | J13: 0.10m×0.40m (判定Ⅱb) | M13: 変状の発生範囲及び規模 | P13: 0.04m2(長さ0.40m×幅1.00mm) | S13: 前回変状の発生範囲及び規模 | U13: 今回新規変状
B14: 対策履歴 | E14: 監視(日常巡視) | H14: 実施状況（実施日） | J14: 継続 | M14: 対策履歴 | P14: － | S14: 実施状況（実施日） | U14: －
B15: メモ | E15: 側壁部(右側)に線導水破損。現状で利用者被害の可能性は低いため、監視にとどめる。 | M15: メモ | P15: アーチ部(左側)に斜めひび割れ。新たに発生。現状で利用者被害の可能性は低いため、監視にとどめる。
B16: 写真 番号 | C16: 覆工スパン 番号 | E16: S005 | M16: 写真 番号 | N16: 覆工スパン 番号 | P16: S005
C17: 変状番号 | E17: 50 | N17: 変状番号 | P17: 51
B18: 変状 部位 | C18: 対象箇所 | E18: 覆工 | M18: 変状 部位 | N18: 対象箇所 | P18: 覆工
C19: 部位区分 | E19: 水平打ち継ぎ目（左側） | N19: 部位区分 | P19: 水平打ち継ぎ目（左側）
B20: 変状種類 | E20: うき・はく離 | M20: 変状種類 | P20: うき・はく離
B21: 対策 区分 | C21: 変状区分 | E21: 材質劣化 | M21: 対策 区分 | N21: 変状区分 | P21: 材質劣化
C22: 応急措置前 | N22: 応急措置前
C23: 応急措置後 | E23: Ⅱb | N23: 応急措置後 | P23: Ⅱb
B24: 変状の発生範囲及び規模 | E24: 0.19m2(0.10m×1.90m) | H24: 前回変状の発生範囲及び規模 | J24: 15.80m×0.10m (判定Ⅱa) | M24: 変状の発生範囲及び規模 | P24: 0.16m2(0.10m×1.60m) | S24: 前回変状の発生範囲及び規模 | U24: 8.20m×0.10m (判定Ⅱa)
B25: 対策履歴 | E25: － | H25: 実施状況（実施日） | J25: － | M25: 対策履歴 | P25: － | S25: 実施状況（実施日） | U25: －
B26: メモ | E26: 水平打ち継ぎ目(左側)沿いにうき。現状で利用者被害の可能性は低いため、監視にとどめる。(前回S4-26で評価) ※打音異常無し | M26: メモ | P26: 水平打ち継ぎ目(左側)沿いにうき。現状で利用者被害の可能性は低いため、監視にとどめる。(前回S6-32で評価)※打音異常無し
C27: ※ 応急措置後の対策区分について添付すること。また、点検前に 実施された措置によりⅠと判定された箇所も添付すること。 | N27: ※ 変状の発生範囲の規模とは、対策を行う際に参考となる変状の長さや面積をいう。
N28: ※ 応急措置を実施しないで決定した変状の対策区分は、対策区分の応急措置後の欄に記入すること。
C29: ※ たたき落としを実施した場合は、実施後の写真を添付すること。 | N29: ※ 変状の発生範囲の規模は、面積・寸法を記載すること。(ひび割れ幅のみmmとし、その他をm表記とする)
N30: ※ 構造用鋼材以外の異物に伴ううき・はく離については、メモ欄に異物の概要を記入すること。

Sheet 様式D-1-1 (18)
B2: ■定期点検記録様式 変状写真台帳【様式D-1-1】 | R2: 施設ID | T2: 34.03558,132.05172
B3: フリガナ | E3: ナカヤマトンネル | H3: 路 線 名 | J3: 主要地方道柳井周東線 | M3: 定期点検実施者 | P3: 株式会社長大 | S3: 定期点検年月日 | U3: 45917
B4: 名 称 | E4: 中山トンネル | H4: 管理者名 | J4: 岩国土木建築事務所 | P4: 鷲尾 寛
B5: 写真 番号 | C5: 覆工スパン 番号 | E5: S005 | M5: 写真 番号 | N5: 覆工スパン 番号 | P5: S005
C6: 変状番号 | E6: 52 | N6: 変状番号 | P6: 53
B7: 変状 部位 | C7: 対象箇所 | E7: 路面 | M7: 変状 部位 | N7: 対象箇所 | P7: 路面
C8: 部位区分 | E8: 側溝 | N8: 部位区分 | P8: 側溝
B9: 変状種類 | E9: その他 | M9: 変状種類 | P9: その他
B10: 対策 区分 | C10: 変状区分 | M10: 対策 区分 | N10: 変状区分
C11: 応急措置前 | N11: 応急措置前
C12: 応急措置後 | N12: 応急措置後
B13: 変状の発生範囲及び規模 | E13: 4箇所 | H13: 前回変状の発生範囲及び規模 | J13: 今回新規変状 | M13: 変状の発生範囲及び規模 | P13: 1箇所 | S13: 前回変状の発生範囲及び規模 | U13: 今回新規変状
B14: 対策履歴 | E14: － | H14: 実施状況（実施日） | J14: － | M14: 対策履歴 | P14: － | S14: 実施状況（実施日） | U14: －
B15: メモ | E15: 側溝蓋破損。新たに発生。現状で利用者被害の可能性は低い。 | M15: メモ | P15: 側溝蓋破損。新たに発生。現状で利用者被害の可能性は低い。
B16: 写真 番号 | C16: 覆工スパン 番号 | E16: S006 | M16: 写真 番号 | N16: 覆工スパン 番号 | P16: S006
C17: 変状番号 | E17: 1 | N17: 変状番号 | P17: 5
B18: 変状 部位 | C18: 対象箇所 | E18: 覆工 | M18: 変状 部位 | N18: 対象箇所 | P18: 覆工
C19: 部位区分 | E19: アーチ（左側） | N19: 部位区分 | P19: 横断目地（天端）
B20: 変状種類 | E20: 漏水 | M20: 変状種類 | P20: うき・はく離
B21: 対策 区分 | C21: 変状区分 | E21: 漏水 | M21: 対策 区分 | N21: 変状区分 | P21: 材質劣化
C22: 応急措置前 | N22: 応急措置前
C23: 応急措置後 | E23: Ⅱb | N23: 応急措置後 | P23: Ⅱb
B24: 変状の発生範囲及び規模 | E24: 2.55m2(5.10m×0.50m) | H24: 前回変状の発生範囲及び規模 | J24: 規模記載なし (判定Ⅱb) | M24: 変状の発生範囲及び規模 | P24: 0.02m2(0.40m×0.05m) | S24: 前回変状の発生範囲及び規模 | U24: 0.05m×0.40m (判定Ⅱb)
B25: 対策履歴 | E25: 監視(日常巡視) | H25: 実施状況（実施日） | J25: 継続 | M25: 対策履歴 | P25: 監視(日常巡視) | S25: 実施状況（実施日） | U25: 継続
B26: メモ | E26: アーチ部(左側)にひび割れ沿いのにじみ。現状で利用者被害の可能性は低いため、監視にとどめる。 | M26: メモ | P26: 横断目地部(天端)に豆板。現状で利用者被害の可能性は低いため、監視にとどめる。 ※打音異常無し
C27: ※ 応急措置後の対策区分について添付すること。また、点検前に 実施された措置によりⅠと判定された箇所も添付すること。 | N27: ※ 変状の発生範囲の規模とは、対策を行う際に参考となる変状の長さや面積をいう。
N28: ※ 応急措置を実施しないで決定した変状の対策区分は、対策区分の応急措置後の欄に記入すること。
C29: ※ たたき落としを実施した場合は、実施後の写真を添付すること。 | N29: ※ 変状の発生範囲の規模は、面積・寸法を記載すること。(ひび割れ幅のみmmとし、その他をm表記とする)
N30: ※ 構造用鋼材以外の異物に伴ううき・はく離については、メモ欄に異物の概要を記入すること。

Sheet 様式D-1-1 (19)
B2: ■定期点検記録様式 変状写真台帳【様式D-1-1】 | R2: 施設ID | T2: 34.03558,132.05172
B3: フリガナ | E3: ナカヤマトンネル | H3: 路 線 名 | J3: 主要地方道柳井周東線 | M3: 定期点検実施者 | P3: 株式会社長大 | S3: 定期点検年月日 | U3: 45917
B4: 名 称 | E4: 中山トンネル | H4: 管理者名 | J4: 岩国土木建築事務所 | P4: 鷲尾 寛
B5: 写真 番号 | C5: 覆工スパン 番号 | E5: S006 | M5: 写真 番号 | N5: 覆工スパン 番号 | P5: S006
C6: 変状番号 | E6: 6 | N6: 変状番号 | P6: 7
B7: 変状 部位 | C7: 対象箇所 | E7: 覆工 | M7: 変状 部位 | N7: 対象箇所 | P7: 覆工
C8: 部位区分 | E8: 横断目地（天端） | N8: 部位区分 | P8: 横断目地（天端）
B9: 変状種類 | E9: うき・はく離 | M9: 変状種類 | P9: うき・はく離
B10: 対策 区分 | C10: 変状区分 | E10: 材質劣化 | M10: 対策 区分 | N10: 変状区分 | P10: 材質劣化
C11: 応急措置前 | N11: 応急措置前
C12: 応急措置後 | E12: Ⅱb | N12: 応急措置後 | P12: Ⅱa
B13: 変状の発生範囲及び規模 | E13: 0.08m2(0.80m×0.10m) | H13: 前回変状の発生範囲及び規模 | J13: 0.05m×0.80m (判定Ⅱb) | M13: 変状の発生範囲及び規模 | P13: 0.08m2(0.80m×0.10m) | S13: 前回変状の発生範囲及び規模 | U13: 0.05m×0.80m (判定Ⅱb)
B14: 対策履歴 | E14: 監視(日常巡視) | H14: 実施状況（実施日） | J14: 継続 | M14: 対策履歴 | P14: 監視(日常巡視) | S14: 実施状況（実施日） | U14: 継続
B15: メモ | E15: 横断目地部(天端)に豆板。現状で利用者被害の可能性は低いため、監視にとどめる。 ※打音異常無し | M15: メモ | P15: 横断目地部(天端)に豆板。将来的に利用者に影響が及ぶ可能性があるため、重点的な監視及び計画的な対策を必要とする。 ※打音異常無し
B16: 写真 番号 | C16: 覆工スパン 番号 | E16: S006 | M16: 写真 番号 | N16: 覆工スパン 番号 | P16: S006
C17: 変状番号 | E17: 18 | N17: 変状番号 | P17: 23
B18: 変状 部位 | C18: 対象箇所 | E18: 覆工 | M18: 変状 部位 | N18: 対象箇所 | P18: 覆工
C19: 部位区分 | E19: アーチ（天端） | N19: 部位区分 | P19: アーチ（左側）
B20: 変状種類 | E20: 漏水 | M20: 変状種類 | P20: うき・はく離
B21: 対策 区分 | C21: 変状区分 | E21: 漏水 | M21: 対策 区分 | N21: 変状区分 | P21: 材質劣化
C22: 応急措置前 | N22: 応急措置前
C23: 応急措置後 | E23: Ⅱb | N23: 応急措置後 | P23: Ⅱb
B24: 変状の発生範囲及び規模 | E24: 4.28m2(8.55m×0.50m) | H24: 前回変状の発生範囲及び規模 | J24: 規模記載なし (判定Ⅱb) | M24: 変状の発生範囲及び規模 | P24: 0.03m2(0.05m×0.50m) | S24: 前回変状の発生範囲及び規模 | U24: 0.50m×0.05m (判定Ⅱb)
B25: 対策履歴 | E25: 監視(日常巡視) | H25: 実施状況（実施日） | J25: 継続 | M25: 対策履歴 | P25: 監視(日常巡視) | S25: 実施状況（実施日） | U25: 継続
B26: メモ | E26: アーチ部(天端)にひび割れ沿いのにじみ(遊離石灰)。現状で利用者被害の可能性は低いため、監視にとどめる。 | M26: メモ | P26: アーチ部(左側)に豆板。現状で利用者被害の可能性は低いため、監視にとどめる。 ※打音異常無し
C27: ※ 応急措置後の対策区分について添付すること。また、点検前に 実施された措置によりⅠと判定された箇所も添付すること。 | N27: ※ 変状の発生範囲の規模とは、対策を行う際に参考となる変状の長さや面積をいう。
N28: ※ 応急措置を実施しないで決定した変状の対策区分は、対策区分の応急措置後の欄に記入すること。
C29: ※ たたき落としを実施した場合は、実施後の写真を添付すること。 | N29: ※ 変状の発生範囲の規模は、面積・寸法を記載すること。(ひび割れ幅のみmmとし、その他をm表記とする)
N30: ※ 構造用鋼材以外の異物に伴ううき・はく離については、メモ欄に異物の概要を記入すること。

Sheet 様式D-1-1 (20)
B2: ■定期点検記録様式 変状写真台帳【様式D-1-1】 | R2: 施設ID | T2: 34.03558,132.05172
B3: フリガナ | E3: ナカヤマトンネル | H3: 路 線 名 | J3: 主要地方道柳井周東線 | M3: 定期点検実施者 | P3: 株式会社長大 | S3: 定期点検年月日 | U3: 45917
B4: 名 称 | E4: 中山トンネル | H4: 管理者名 | J4: 岩国土木建築事務所 | P4: 鷲尾 寛
B5: 写真 番号 | C5: 覆工スパン 番号 | E5: S006 | M5: 写真 番号 | N5: 覆工スパン 番号 | P5: S006
C6: 変状番号 | E6: 25 | N6: 変状番号 | P6: 32
B7: 変状 部位 | C7: 対象箇所 | E7: 覆工 | M7: 変状 部位 | N7: 対象箇所 | P7: 覆工
C8: 部位区分 | E8: アーチ（右側） | N8: 部位区分 | P8: 水平打ち継ぎ目（左側）
B9: 変状種類 | E9: うき・はく離 | M9: 変状種類 | P9: うき・はく離
B10: 対策 区分 | C10: 変状区分 | E10: 材質劣化 | M10: 対策 区分 | N10: 変状区分 | P10: 材質劣化
C11: 応急措置前 | N11: 応急措置前
C12: 応急措置後 | E12: Ⅱb | N12: 応急措置後 | P12: Ⅱb
B13: 変状の発生範囲及び規模 | E13: 0.23m2(0.05m×4.50m) | H13: 前回変状の発生範囲及び規模 | J13: 0.05m×4.50m (判定Ⅱb) | M13: 変状の発生範囲及び規模 | P13: 0.67m2(0.10m×6.70m) | S13: 前回変状の発生範囲及び規模 | U13: 8.20m×0.10m (判定Ⅱa)
B14: 対策履歴 | E14: 監視(日常巡視) | H14: 実施状況（実施日） | J14: 継続 | M14: 対策履歴 | P14: － | S14: 実施状況（実施日） | U14: －
B15: メモ | E15: アーチ部(右側)に豆板。現状で利用者被害の可能性は低いため、監視にとどめる。 ※打音異常無し | M15: メモ | P15: 水平打ち継ぎ目(左側)沿いにうき。現状で利用者被害の可能性は低いため、監視にとどめる。(S5範囲はS5-51で評価) ※打音異常無し
B16: 写真 番号 | C16: 覆工スパン 番号 | E16: S006 | M16: 写真 番号 | N16: 覆工スパン 番号 | P16: S006
C17: 変状番号 | E17: 33 | N17: 変状番号 | P17: 34
B18: 変状 部位 | C18: 対象箇所 | E18: 覆工 | M18: 変状 部位 | N18: 対象箇所 | P18: 覆工
C19: 部位区分 | E19: 水平打ち継ぎ目（左側） | N19: 部位区分 | P19: 水平打ち継ぎ目（右側）
B20: 変状種類 | E20: うき・はく離 | M20: 変状種類 | P20: うき・はく離
B21: 対策 区分 | C21: 変状区分 | E21: 材質劣化 | M21: 対策 区分 | N21: 変状区分 | P21: 材質劣化
C22: 応急措置前 | N22: 応急措置前
C23: 応急措置後 | E23: Ⅱb | N23: 応急措置後 | P23: Ⅱb
B24: 変状の発生範囲及び規模 | E24: 0.26m2(0.10m×2.60m) | H24: 前回変状の発生範囲及び規模 | J24: 4.10m×0.10m (判定Ⅱa) | M24: 変状の発生範囲及び規模 | P24: 1.05m2(0.10m×10.50m) | S24: 前回変状の発生範囲及び規模 | U24: 11.10m×0.10m (判定Ⅱa)
B25: 対策履歴 | E25: － | H25: 実施状況（実施日） | J25: － | M25: 対策履歴 | P25: － | S25: 実施状況（実施日） | U25: －
B26: メモ | E26: 水平打ち継ぎ目(左側)沿いにうき。現状で利用者被害の可能性は低いため、監視にとどめる。(S7範囲はS7-31で評価) ※打音異常無し | M26: メモ | P26: 水平打ち継ぎ目(右側)沿いにうき。現状で利用者被害の可能性は低いため、監視にとどめる。(S7の範囲はS7-45で評価) ※打音異常無し
C27: ※ 応急措置後の対策区分について添付すること。また、点検前に 実施された措置によりⅠと判定された箇所も添付すること。 | N27: ※ 変状の発生範囲の規模とは、対策を行う際に参考となる変状の長さや面積をいう。
N28: ※ 応急措置を実施しないで決定した変状の対策区分は、対策区分の応急措置後の欄に記入すること。
C29: ※ たたき落としを実施した場合は、実施後の写真を添付すること。 | N29: ※ 変状の発生範囲の規模は、面積・寸法を記載すること。(ひび割れ幅のみmmとし、その他をm表記とする)
N30: ※ 構造用鋼材以外の異物に伴ううき・はく離については、メモ欄に異物の概要を記入すること。

Sheet 様式D-1-1 (21)
B2: ■定期点検記録様式 変状写真台帳【様式D-1-1】 | R2: 施設ID | T2: 34.03558,132.05172
B3: フリガナ | E3: ナカヤマトンネル | H3: 路 線 名 | J3: 主要地方道柳井周東線 | M3: 定期点検実施者 | P3: 株式会社長大 | S3: 定期点検年月日 | U3: 45917
B4: 名 称 | E4: 中山トンネル | H4: 管理者名 | J4: 岩国土木建築事務所 | P4: 鷲尾 寛
B5: 写真 番号 | C5: 覆工スパン 番号 | E5: S006 | M5: 写真 番号 | N5: 覆工スパン 番号 | P5: S006
C6: 変状番号 | E6: 36 | N6: 変状番号 | P6: 39
B7: 変状 部位 | C7: 対象箇所 | E7: 覆工 | M7: 変状 部位 | N7: 対象箇所 | P7: 覆工
C8: 部位区分 | E8: 側壁（右側） | N8: 部位区分 | P8: アーチ（天端）
B9: 変状種類 | E9: 補修・補強材の破損 | M9: 変状種類 | P9: うき・はく離
B10: 対策 区分 | C10: 変状区分 | E10: 材質劣化 | M10: 対策 区分 | N10: 変状区分 | P10: 材質劣化
C11: 応急措置前 | N11: 応急措置前
C12: 応急措置後 | E12: Ⅱb | N12: 応急措置後 | P12: Ⅱa
B13: 変状の発生範囲及び規模 | E13: 0.06m2(0.60m×0.10m) | H13: 前回変状の発生範囲及び規模 | J13: 0.10m×0.60m (判定Ⅱa) | M13: 変状の発生範囲及び規模 | P13: 0.01m2(0.15m×0.05m) | S13: 前回変状の発生範囲及び規模 | U13: 今回新規変状
B14: 対策履歴 | E14: － | H14: 実施状況（実施日） | J14: － | M14: 対策履歴 | P14: － | S14: 実施状況（実施日） | U14: －
B15: メモ | E15: 側壁部(右側)に線導水破損(漏水なし)。現状で利用者被害の可能性は低いため、監視にとどめる。 ※打音異常無し | M15: メモ | P15: アーチ部(天端)にひび割れ沿いのうき。新たに発生。将来的に利用者に影響が及ぶ可能性があるため、重点的な監視及び計画的な対策を必要とする。 ※打音異常無し
B16: 写真 番号 | C16: 覆工スパン 番号 | E16: S006 | M16: 写真 番号 | N16: 覆工スパン 番号 | P16: S006
C17: 変状番号 | E17: 40 | N17: 変状番号 | P17: 41
B18: 変状 部位 | C18: 対象箇所 | E18: 覆工 | M18: 変状 部位 | N18: 対象箇所 | P18: 覆工
C19: 部位区分 | E19: アーチ（右側） | N19: 部位区分 | P19: アーチ（右側）
B20: 変状種類 | E20: うき・はく離 | M20: 変状種類 | P20: 圧ざ、ひび割れ
B21: 対策 区分 | C21: 変状区分 | E21: 材質劣化 | M21: 対策 区分 | N21: 変状区分 | P21: 材質劣化
C22: 応急措置前 | N22: 応急措置前
C23: 応急措置後 | E23: Ⅱa | N23: 応急措置後 | P23: Ⅱb
B24: 変状の発生範囲及び規模 | E24: 0.01m2(0.10m×0.05m) | H24: 前回変状の発生範囲及び規模 | J24: 今回新規変状 | M24: 変状の発生範囲及び規模 | P24: 0.47m2(長さ4.70m×幅1.00mm) | S24: 前回変状の発生範囲及び規模 | U24: 前回調書記載なし
B25: 対策履歴 | E25: － | H25: 実施状況（実施日） | J25: － | M25: 対策履歴 | P25: － | S25: 実施状況（実施日） | U25: －
B26: メモ | E26: アーチ部(右側)にひび割れ沿いのうき。新たに発生。将来的に利用者に影響が及ぶ可能性があるため、重点的な監視及び計画的な対策を必要とする。 ※打音異常無し | M26: メモ | P26: アーチ部(右側)に横断ひび割れ。前回調書記載なし。進行なし。現状で利用者被害の可能性は低いため、監視にとどめる。
C27: ※ 応急措置後の対策区分について添付すること。また、点検前に 実施された措置によりⅠと判定された箇所も添付すること。 | N27: ※ 変状の発生範囲の規模とは、対策を行う際に参考となる変状の長さや面積をいう。
N28: ※ 応急措置を実施しないで決定した変状の対策区分は、対策区分の応急措置後の欄に記入すること。
C29: ※ たたき落としを実施した場合は、実施後の写真を添付すること。 | N29: ※ 変状の発生範囲の規模は、面積・寸法を記載すること。(ひび割れ幅のみmmとし、その他をm表記とする)
N30: ※ 構造用鋼材以外の異物に伴ううき・はく離については、メモ欄に異物の概要を記入すること。

Sheet 様式D-1-1 (22)
B2: ■定期点検記録様式 変状写真台帳【様式D-1-1】 | R2: 施設ID | T2: 34.03558,132.05172
B3: フリガナ | E3: ナカヤマトンネル | H3: 路 線 名 | J3: 主要地方道柳井周東線 | M3: 定期点検実施者 | P3: 株式会社長大 | S3: 定期点検年月日 | U3: 45917
B4: 名 称 | E4: 中山トンネル | H4: 管理者名 | J4: 岩国土木建築事務所 | P4: 鷲尾 寛
B5: 写真 番号 | C5: 覆工スパン 番号 | E5: S006 | M5: 写真 番号 | N5: 覆工スパン 番号 | P5: S007
C6: 変状番号 | E6: 42 | N6: 変状番号 | P6: 1
B7: 変状 部位 | C7: 対象箇所 | E7: 路面 | M7: 変状 部位 | N7: 対象箇所 | P7: 覆工
C8: 部位区分 | E8: 側溝 | N8: 部位区分 | P8: 横断目地（天端）
B9: 変状種類 | E9: その他 | M9: 変状種類 | P9: うき・はく離
B10: 対策 区分 | C10: 変状区分 | M10: 対策 区分 | N10: 変状区分 | P10: 材質劣化
C11: 応急措置前 | N11: 応急措置前
C12: 応急措置後 | N12: 応急措置後 | P12: Ⅱb
B13: 変状の発生範囲及び規模 | E13: 1箇所 | H13: 前回変状の発生範囲及び規模 | J13: 今回新規変状 | M13: 変状の発生範囲及び規模 | P13: 0.06m2(0.60m×0.10m) | S13: 前回変状の発生範囲及び規模 | U13: 0.10m×0.60m (判定Ⅱb)
B14: 対策履歴 | E14: － | H14: 実施状況（実施日） | J14: － | M14: 対策履歴 | P14: 監視(日常巡視) | S14: 実施状況（実施日） | U14: 継続
B15: メモ | E15: 側溝蓋破損。新たに発生。現状で利用者被害の可能性は低い。 | M15: メモ | P15: 横断目地部(天端)に豆板。現状で利用者被害の可能性は低いため、監視にとどめる。 ※打音異常無し
B16: 写真 番号 | C16: 覆工スパン 番号 | E16: S007 | M16: 写真 番号 | N16: 覆工スパン 番号 | P16: S007
C17: 変状番号 | E17: 16 | N17: 変状番号 | P17: 21
B18: 変状 部位 | C18: 対象箇所 | E18: 覆工 | M18: 変状 部位 | N18: 対象箇所 | P18: 覆工
C19: 部位区分 | E19: 横断目地（右側） | N19: 部位区分 | P19: アーチ（右側）
B20: 変状種類 | E20: うき・はく離 | M20: 変状種類 | P20: うき・はく離
B21: 対策 区分 | C21: 変状区分 | E21: 材質劣化 | M21: 対策 区分 | N21: 変状区分 | P21: 材質劣化
C22: 応急措置前 | N22: 応急措置前
C23: 応急措置後 | E23: Ⅱb | N23: 応急措置後 | P23: Ⅱa
B24: 変状の発生範囲及び規模 | E24: 0.02m2(0.45m×0.05m) | H24: 前回変状の発生範囲及び規模 | J24: 0.05m×0.45m (判定Ⅱb) | M24: 変状の発生範囲及び規模 | P24: 0.01m2(0.15m×0.05m) | S24: 前回変状の発生範囲及び規模 | U24: 0.05m×0.15m (判定Ⅱa)
B25: 対策履歴 | E25: 監視(日常巡視) | H25: 実施状況（実施日） | J25: 継続 | M25: 対策履歴 | P25: － | S25: 実施状況（実施日） | U25: －
B26: メモ | E26: 横断目地部(アーチ右側)にはく落。現状で利用者被害の可能性は低いため、監視にとどめる。 ※打音異常無し | M26: メモ | P26: アーチ部(右側)にひび割れ沿いのうき。将来的に利用者に影響が及ぶ可能性があるため、重点的な監視及び計画的な対策を必要とする。 ※打音異常無し
C27: ※ 応急措置後の対策区分について添付すること。また、点検前に 実施された措置によりⅠと判定された箇所も添付すること。 | N27: ※ 変状の発生範囲の規模とは、対策を行う際に参考となる変状の長さや面積をいう。
N28: ※ 応急措置を実施しないで決定した変状の対策区分は、対策区分の応急措置後の欄に記入すること。
C29: ※ たたき落としを実施した場合は、実施後の写真を添付すること。 | N29: ※ 変状の発生範囲の規模は、面積・寸法を記載すること。(ひび割れ幅のみmmとし、その他をm表記とする)
N30: ※ 構造用鋼材以外の異物に伴ううき・はく離については、メモ欄に異物の概要を記入すること。

Sheet 様式D-1-1 (23)
B2: ■定期点検記録様式 変状写真台帳【様式D-1-1】 | R2: 施設ID | T2: 34.03558,132.05172
B3: フリガナ | E3: ナカヤマトンネル | H3: 路 線 名 | J3: 主要地方道柳井周東線 | M3: 定期点検実施者 | P3: 株式会社長大 | S3: 定期点検年月日 | U3: 45917
B4: 名 称 | E4: 中山トンネル | H4: 管理者名 | J4: 岩国土木建築事務所 | P4: 鷲尾 寛
B5: 写真 番号 | C5: 覆工スパン 番号 | E5: S007 | M5: 写真 番号 | N5: 覆工スパン 番号 | P5: S007
C6: 変状番号 | E6: 23 | N6: 変状番号 | P6: 31
B7: 変状 部位 | C7: 対象箇所 | E7: 覆工 | M7: 変状 部位 | N7: 対象箇所 | P7: 覆工
C8: 部位区分 | E8: 横断目地（右側） | N8: 部位区分 | P8: 水平打ち継ぎ目（左側）
B9: 変状種類 | E9: うき・はく離 | M9: 変状種類 | P9: うき・はく離
B10: 対策 区分 | C10: 変状区分 | E10: 材質劣化 | M10: 対策 区分 | N10: 変状区分 | P10: 材質劣化
C11: 応急措置前 | N11: 応急措置前
C12: 応急措置後 | E12: Ⅱb | N12: 応急措置後 | P12: Ⅱb
B13: 変状の発生範囲及び規模 | E13: 0.01m2(0.15m×0.05m) | H13: 前回変状の発生範囲及び規模 | J13: 0.05m×0.15m (判定Ⅱb) | M13: 変状の発生範囲及び規模 | P13: 0.55m2(0.10m×5.50m) | S13: 前回変状の発生範囲及び規模 | U13: 1.00m×0.10m (判定Ⅱa)
B14: 対策履歴 | E14: 監視(日常巡視) | H14: 実施状況（実施日） | J14: 継続 | M14: 対策履歴 | P14: － | S14: 実施状況（実施日） | U14: －
B15: メモ | E15: 横断目地部(アーチ右側)にはく落。現状で利用者被害の可能性は低いため、監視にとどめる。 ※打音異常無し | M15: メモ | P15: 水平打ち継ぎ目(左側)沿いにうき。拡大。現状で利用者被害の可能性は低いため、監視にとどめる。(前回S6-33のS7範囲を含む) ※打音異常無し
B16: 写真 番号 | C16: 覆工スパン 番号 | E16: S007 | M16: 写真 番号 | N16: 覆工スパン 番号 | P16: S007
C17: 変状番号 | E17: 33 | N17: 変状番号 | P17: 34
B18: 変状 部位 | C18: 対象箇所 | E18: 覆工 | M18: 変状 部位 | N18: 対象箇所 | P18: 覆工
C19: 部位区分 | E19: 水平打ち継ぎ目（左側） | N19: 部位区分 | P19: 水平打ち継ぎ目（左側）
B20: 変状種類 | E20: うき・はく離 | M20: 変状種類 | P20: うき・はく離
B21: 対策 区分 | C21: 変状区分 | E21: 材質劣化 | M21: 対策 区分 | N21: 変状区分 | P21: 材質劣化
C22: 応急措置前 | N22: 応急措置前
C23: 応急措置後 | E23: Ⅱb | N23: 応急措置後 | P23: Ⅱb
B24: 変状の発生範囲及び規模 | E24: 0.06m2(0.10m×0.60m) | H24: 前回変状の発生範囲及び規模 | J24: 0.60m×0.10m (判定Ⅱa) | M24: 変状の発生範囲及び規模 | P24: 0.06m2(0.10m×0.60m) | S24: 前回変状の発生範囲及び規模 | U24: 0.50m×0.10m (判定Ⅱa)
B25: 対策履歴 | E25: － | H25: 実施状況（実施日） | J25: － | M25: 対策履歴 | P25: － | S25: 実施状況（実施日） | U25: －
B26: メモ | E26: 水平打ち継ぎ目(左側)沿いにうき。現状で利用者被害の可能性は低いため、監視にとどめる。 ※打音異常無し | M26: メモ | P26: 水平打ち継ぎ目(左側)沿いにうき。現状で利用者被害の可能性は低いため、監視にとどめる。 ※打音異常無し
C27: ※ 応急措置後の対策区分について添付すること。また、点検前に 実施された措置によりⅠと判定された箇所も添付すること。 | N27: ※ 変状の発生範囲の規模とは、対策を行う際に参考となる変状の長さや面積をいう。
N28: ※ 応急措置を実施しないで決定した変状の対策区分は、対策区分の応急措置後の欄に記入すること。
C29: ※ たたき落としを実施した場合は、実施後の写真を添付すること。 | N29: ※ 変状の発生範囲の規模は、面積・寸法を記載すること。(ひび割れ幅のみmmとし、その他をm表記とする)
N30: ※ 構造用鋼材以外の異物に伴ううき・はく離については、メモ欄に異物の概要を記入すること。

Sheet 様式D-1-1 (24)
B2: ■定期点検記録様式 変状写真台帳【様式D-1-1】 | R2: 施設ID | T2: 34.03558,132.05172
B3: フリガナ | E3: ナカヤマトンネル | H3: 路 線 名 | J3: 主要地方道柳井周東線 | M3: 定期点検実施者 | P3: 株式会社長大 | S3: 定期点検年月日 | U3: 45917
B4: 名 称 | E4: 中山トンネル | H4: 管理者名 | J4: 岩国土木建築事務所 | P4: 鷲尾 寛
B5: 写真 番号 | C5: 覆工スパン 番号 | E5: S007 | M5: 写真 番号 | N5: 覆工スパン 番号 | P5: S007
C6: 変状番号 | E6: 36 | N6: 変状番号 | P6: 37
B7: 変状 部位 | C7: 対象箇所 | E7: 覆工 | M7: 変状 部位 | N7: 対象箇所 | P7: 覆工
C8: 部位区分 | E8: 水平打ち継ぎ目（右側） | N8: 部位区分 | P8: 水平打ち継ぎ目（右側）
B9: 変状種類 | E9: うき・はく離 | M9: 変状種類 | P9: うき・はく離
B10: 対策 区分 | C10: 変状区分 | E10: 材質劣化 | M10: 対策 区分 | N10: 変状区分 | P10: 材質劣化
C11: 応急措置前 | N11: 応急措置前
C12: 応急措置後 | E12: Ⅱb | N12: 応急措置後 | P12: Ⅱb
B13: 変状の発生範囲及び規模 | E13: 0.07m2(0.10m×0.70m) | H13: 前回変状の発生範囲及び規模 | J13: 0.70m×0.10m (判定Ⅱa) | M13: 変状の発生範囲及び規模 | P13: 0.02m2(0.05m×0.30m) | S13: 前回変状の発生範囲及び規模 | U13: 0.30m×0.05m (判定Ⅱa)
B14: 対策履歴 | E14: － | H14: 実施状況（実施日） | J14: － | M14: 対策履歴 | P14: － | S14: 実施状況（実施日） | U14: －
B15: メモ | E15: 水平打ち継ぎ目(右側)沿いにうき。現状で利用者被害の可能性は低いため、監視にとどめる。 ※打音異常無し | M15: メモ | P15: 水平打ち継ぎ目(右側)沿いにうき。現状で利用者被害の可能性は低いため、監視にとどめる。 ※打音異常無し
B16: 写真 番号 | C16: 覆工スパン 番号 | E16: S007 | M16: 写真 番号 | N16: 覆工スパン 番号 | P16: S007
C17: 変状番号 | E17: 38 | N17: 変状番号 | P17: 39
B18: 変状 部位 | C18: 対象箇所 | E18: 覆工 | M18: 変状 部位 | N18: 対象箇所 | P18: 覆工
C19: 部位区分 | E19: 水平打ち継ぎ目（右側） | N19: 部位区分 | P19: 水平打ち継ぎ目（右側）
B20: 変状種類 | E20: うき・はく離 | M20: 変状種類 | P20: うき・はく離
B21: 対策 区分 | C21: 変状区分 | E21: 材質劣化 | M21: 対策 区分 | N21: 変状区分 | P21: 材質劣化
C22: 応急措置前 | N22: 応急措置前
C23: 応急措置後 | E23: Ⅱb | N23: 応急措置後 | P23: Ⅱb
B24: 変状の発生範囲及び規模 | E24: 0.15m2(0.10m×1.50m) | H24: 前回変状の発生範囲及び規模 | J24: 1.50m×0.10m (判定Ⅱa) | M24: 変状の発生範囲及び規模 | P24: 0.05m2(0.10m×0.50m) | S24: 前回変状の発生範囲及び規模 | U24: 0.50m×0.10m (判定Ⅱa)
B25: 対策履歴 | E25: － | H25: 実施状況（実施日） | J25: － | M25: 対策履歴 | P25: － | S25: 実施状況（実施日） | U25: －
B26: メモ | E26: 水平打ち継ぎ目(右側)沿いにうき。現状で利用者被害の可能性は低いため、監視にとどめる。 ※打音異常無し | M26: メモ | P26: 水平打ち継ぎ目(右側)沿いにうき。現状で利用者被害の可能性は低いため、監視にとどめる。 ※打音異常無し
C27: ※ 応急措置後の対策区分について添付すること。また、点検前に 実施された措置によりⅠと判定された箇所も添付すること。 | N27: ※ 変状の発生範囲の規模とは、対策を行う際に参考となる変状の長さや面積をいう。
N28: ※ 応急措置を実施しないで決定した変状の対策区分は、対策区分の応急措置後の欄に記入すること。
C29: ※ たたき落としを実施した場合は、実施後の写真を添付すること。 | N29: ※ 変状の発生範囲の規模は、面積・寸法を記載すること。(ひび割れ幅のみmmとし、その他をm表記とする)
N30: ※ 構造用鋼材以外の異物に伴ううき・はく離については、メモ欄に異物の概要を記入すること。

Sheet 様式D-1-1 (25)
B2: ■定期点検記録様式 変状写真台帳【様式D-1-1】 | R2: 施設ID | T2: 34.03558,132.05172
B3: フリガナ | E3: ナカヤマトンネル | H3: 路 線 名 | J3: 主要地方道柳井周東線 | M3: 定期点検実施者 | P3: 株式会社長大 | S3: 定期点検年月日 | U3: 45917
B4: 名 称 | E4: 中山トンネル | H4: 管理者名 | J4: 岩国土木建築事務所 | P4: 鷲尾 寛
B5: 写真 番号 | C5: 覆工スパン 番号 | E5: S007 | M5: 写真 番号 | N5: 覆工スパン 番号 | P5: S007
C6: 変状番号 | E6: 44 | N6: 変状番号 | P6: 45
B7: 変状 部位 | C7: 対象箇所 | E7: 覆工 | M7: 変状 部位 | N7: 対象箇所 | P7: 覆工
C8: 部位区分 | E8: 水平打ち継ぎ目（右側） | N8: 部位区分 | P8: 水平打ち継ぎ目（右側）
B9: 変状種類 | E9: うき・はく離 | M9: 変状種類 | P9: うき・はく離
B10: 対策 区分 | C10: 変状区分 | E10: 材質劣化 | M10: 対策 区分 | N10: 変状区分 | P10: 材質劣化
C11: 応急措置前 | N11: 応急措置前
C12: 応急措置後 | E12: Ⅱb | N12: 応急措置後 | P12: Ⅱb
B13: 変状の発生範囲及び規模 | E13: 0.10m2(0.10m×1.00m) | H13: 前回変状の発生範囲及び規模 | J13: 11.10m×0.10m (判定Ⅱa) | M13: 変状の発生範囲及び規模 | P13: 0.10m2(0.10m×1.00m) | S13: 前回変状の発生範囲及び規模 | U13: 前回調書記載なし
B14: 対策履歴 | E14: － | H14: 実施状況（実施日） | J14: － | M14: 対策履歴 | P14: － | S14: 実施状況（実施日） | U14: －
B15: メモ | E15: 水平打ち継ぎ目(右側)沿いにうき。現状で利用者被害の可能性は低いため、監視にとどめる。(前回はS6-34で評価) ※打音異常無し | M15: メモ | P15: 水平打ち継ぎ目(右側)沿いにうき。現状で利用者被害の可能性は低いため、監視にとどめる。 ※打音異常無し
B16: 写真 番号 | C16: 覆工スパン 番号 | E16: S008 | M16: 写真 番号 | N16: 覆工スパン 番号 | P16: S008
C17: 変状番号 | E17: 8 | N17: 変状番号 | P17: 9
B18: 変状 部位 | C18: 対象箇所 | E18: 覆工 | M18: 変状 部位 | N18: 対象箇所 | P18: 覆工
C19: 部位区分 | E19: 横断目地（左側） | N19: 部位区分 | P19: 横断目地（天端）
B20: 変状種類 | E20: うき・はく離 | M20: 変状種類 | P20: うき・はく離
B21: 対策 区分 | C21: 変状区分 | E21: 材質劣化 | M21: 対策 区分 | N21: 変状区分 | P21: 材質劣化
C22: 応急措置前 | N22: 応急措置前
C23: 応急措置後 | E23: Ⅱb | N23: 応急措置後 | P23: Ⅱb
B24: 変状の発生範囲及び規模 | E24: 0.02m2(0.40m×0.05m) | H24: 前回変状の発生範囲及び規模 | J24: 0.05m×0.40m (判定Ⅱb) | M24: 変状の発生範囲及び規模 | P24: 0.16m2(1.60m×0.10m) | S24: 前回変状の発生範囲及び規模 | U24: 0.10m×1.60m (判定Ⅱb)
B25: 対策履歴 | E25: 監視(日常巡視) | H25: 実施状況（実施日） | J25: 継続 | M25: 対策履歴 | P25: 監視(日常巡視) | S25: 実施状況（実施日） | U25: 継続
B26: メモ | E26: 横断目地部(アーチ左側)にはく落。現状で利用者被害の可能性は低いため、監視にとどめる。 ※打音異常無し | M26: メモ | P26: 横断目地部(天端)に豆板。現状で利用者被害の可能性は低いため、監視にとどめる。 ※打音異常無し
C27: ※ 応急措置後の対策区分について添付すること。また、点検前に 実施された措置によりⅠと判定された箇所も添付すること。 | N27: ※ 変状の発生範囲の規模とは、対策を行う際に参考となる変状の長さや面積をいう。
N28: ※ 応急措置を実施しないで決定した変状の対策区分は、対策区分の応急措置後の欄に記入すること。
C29: ※ たたき落としを実施した場合は、実施後の写真を添付すること。 | N29: ※ 変状の発生範囲の規模は、面積・寸法を記載すること。(ひび割れ幅のみmmとし、その他をm表記とする)
N30: ※ 構造用鋼材以外の異物に伴ううき・はく離については、メモ欄に異物の概要を記入すること。

Sheet 様式D-1-1 (26)
B2: ■定期点検記録様式 変状写真台帳【様式D-1-1】 | R2: 施設ID | T2: 34.03558,132.05172
B3: フリガナ | E3: ナカヤマトンネル | H3: 路 線 名 | J3: 主要地方道柳井周東線 | M3: 定期点検実施者 | P3: 株式会社長大 | S3: 定期点検年月日 | U3: 45917
B4: 名 称 | E4: 中山トンネル | H4: 管理者名 | J4: 岩国土木建築事務所 | P4: 鷲尾 寛
B5: 写真 番号 | C5: 覆工スパン 番号 | E5: S008 | M5: 写真 番号 | N5: 覆工スパン 番号 | P5: S008
C6: 変状番号 | E6: 10 | N6: 変状番号 | P6: 16
B7: 変状 部位 | C7: 対象箇所 | E7: 覆工 | M7: 変状 部位 | N7: 対象箇所 | P7: 覆工
C8: 部位区分 | E8: 横断目地（天端） | N8: 部位区分 | P8: アーチ（天端）
B9: 変状種類 | E9: うき・はく離 | M9: 変状種類 | P9: うき・はく離
B10: 対策 区分 | C10: 変状区分 | E10: 材質劣化 | M10: 対策 区分 | N10: 変状区分 | P10: 材質劣化
C11: 応急措置前 | N11: 応急措置前
C12: 応急措置後 | E12: Ⅱb | N12: 応急措置後 | P12: Ⅱb
B13: 変状の発生範囲及び規模 | E13: 0.05m2(0.30m×0.15m) | H13: 前回変状の発生範囲及び規模 | J13: 0.10m×0.30m (判定Ⅱb) | M13: 変状の発生範囲及び規模 | P13: 0.02m2(0.10m×0.20m) | S13: 前回変状の発生範囲及び規模 | U13: 0.20m×0.10m (判定Ⅱb)
B14: 対策履歴 | E14: 監視(日常巡視) | H14: 実施状況（実施日） | J14: 継続 | M14: 対策履歴 | P14: 監視(日常巡視) | S14: 実施状況（実施日） | U14: 継続
B15: メモ | E15: 横断目地部(天端)に豆板。現状で利用者被害の可能性は低いため、監視にとどめる。 ※打音異常無し | M15: メモ | P15: アーチ部(天端)に豆板。現状で利用者被害の可能性は低いため、監視にとどめる。 ※打音異常無し
B16: 写真 番号 | C16: 覆工スパン 番号 | E16: S008 | M16: 写真 番号 | N16: 覆工スパン 番号 | P16: S008
C17: 変状番号 | E17: 24 | N17: 変状番号 | P17: 25
B18: 変状 部位 | C18: 対象箇所 | E18: 覆工 | M18: 変状 部位 | N18: 対象箇所 | P18: 覆工
C19: 部位区分 | E19: 水平打ち継ぎ目（左側） | N19: 部位区分 | P19: 水平打ち継ぎ目（左側）
B20: 変状種類 | E20: うき・はく離 | M20: 変状種類 | P20: うき・はく離
B21: 対策 区分 | C21: 変状区分 | E21: 材質劣化 | M21: 対策 区分 | N21: 変状区分 | P21: 材質劣化
C22: 応急措置前 | N22: 応急措置前
C23: 応急措置後 | E23: Ⅱb | N23: 応急措置後 | P23: Ⅱb
B24: 変状の発生範囲及び規模 | E24: 0.08m2(0.10m×0.80m) | H24: 前回変状の発生範囲及び規模 | J24: 0.80m×0.10m (判定Ⅱa) | M24: 変状の発生範囲及び規模 | P24: 0.14m2(0.10m×1.40m) | S24: 前回変状の発生範囲及び規模 | U24: 1.40m×0.10m (判定Ⅱa)
B25: 対策履歴 | E25: － | H25: 実施状況（実施日） | J25: － | M25: 対策履歴 | P25: － | S25: 実施状況（実施日） | U25: －
B26: メモ | E26: 水平打ち継ぎ目(左側)沿いにうき。現状で利用者被害の可能性は低いため、監視にとどめる。 ※打音異常無し | M26: メモ | P26: 水平打ち継ぎ目(左側)沿いにうき。現状で利用者被害の可能性は低いため、監視にとどめる。 ※打音異常無し
C27: ※ 応急措置後の対策区分について添付すること。また、点検前に 実施された措置によりⅠと判定された箇所も添付すること。 | N27: ※ 変状の発生範囲の規模とは、対策を行う際に参考となる変状の長さや面積をいう。
N28: ※ 応急措置を実施しないで決定した変状の対策区分は、対策区分の応急措置後の欄に記入すること。
C29: ※ たたき落としを実施した場合は、実施後の写真を添付すること。 | N29: ※ 変状の発生範囲の規模は、面積・寸法を記載すること。(ひび割れ幅のみmmとし、その他をm表記とする)
N30: ※ 構造用鋼材以外の異物に伴ううき・はく離については、メモ欄に異物の概要を記入すること。

Sheet 様式D-1-1 (27)
B2: ■定期点検記録様式 変状写真台帳【様式D-1-1】 | R2: 施設ID | T2: 34.03558,132.05172
B3: フリガナ | E3: ナカヤマトンネル | H3: 路 線 名 | J3: 主要地方道柳井周東線 | M3: 定期点検実施者 | P3: 株式会社長大 | S3: 定期点検年月日 | U3: 45917
B4: 名 称 | E4: 中山トンネル | H4: 管理者名 | J4: 岩国土木建築事務所 | P4: 鷲尾 寛
B5: 写真 番号 | C5: 覆工スパン 番号 | E5: S008 | M5: 写真 番号 | N5: 覆工スパン 番号 | P5: S008
C6: 変状番号 | E6: 26 | N6: 変状番号 | P6: 27
B7: 変状 部位 | C7: 対象箇所 | E7: 覆工 | M7: 変状 部位 | N7: 対象箇所 | P7: 覆工
C8: 部位区分 | E8: 水平打ち継ぎ目（左側） | N8: 部位区分 | P8: 水平打ち継ぎ目（左側）
B9: 変状種類 | E9: うき・はく離 | M9: 変状種類 | P9: うき・はく離
B10: 対策 区分 | C10: 変状区分 | E10: 材質劣化 | M10: 対策 区分 | N10: 変状区分 | P10: 材質劣化
C11: 応急措置前 | N11: 応急措置前
C12: 応急措置後 | E12: Ⅱb | N12: 応急措置後 | P12: Ⅱb
B13: 変状の発生範囲及び規模 | E13: 0.05m2(0.10m×0.50m) | H13: 前回変状の発生範囲及び規模 | J13: 0.50m×0.10m (判定Ⅱa) | M13: 変状の発生範囲及び規模 | P13: 0.02m2(0.10m×0.20m) | S13: 前回変状の発生範囲及び規模 | U13: 0.20m×0.10m (判定Ⅱa)
B14: 対策履歴 | E14: － | H14: 実施状況（実施日） | J14: － | M14: 対策履歴 | P14: － | S14: 実施状況（実施日） | U14: －
B15: メモ | E15: 水平打ち継ぎ目(左側)沿いにうき。現状で利用者被害の可能性は低いため、監視にとどめる。 ※打音異常無し | M15: メモ | P15: 水平打ち継ぎ目(左側)沿いにうき。現状で利用者被害の可能性は低いため、監視にとどめる。 ※打音異常無し
B16: 写真 番号 | C16: 覆工スパン 番号 | E16: S008 | M16: 写真 番号 | N16: 覆工スパン 番号 | P16: S008
C17: 変状番号 | E17: 28 | N17: 変状番号 | P17: 29
B18: 変状 部位 | C18: 対象箇所 | E18: 覆工 | M18: 変状 部位 | N18: 対象箇所 | P18: 覆工
C19: 部位区分 | E19: 水平打ち継ぎ目（左側） | N19: 部位区分 | P19: 側壁（左側）
B20: 変状種類 | E20: うき・はく離 | M20: 変状種類 | P20: うき・はく離
B21: 対策 区分 | C21: 変状区分 | E21: 材質劣化 | M21: 対策 区分 | N21: 変状区分 | P21: 材質劣化
C22: 応急措置前 | N22: 応急措置前
C23: 応急措置後 | E23: Ⅱb | N23: 応急措置後 | P23: Ⅱb
B24: 変状の発生範囲及び規模 | E24: 0.12m2(0.10m×1.20m) | H24: 前回変状の発生範囲及び規模 | J24: 2.70m×0.10m (判定Ⅱa) | M24: 変状の発生範囲及び規模 | P24: 0.08m2(0.05m×1.50m) | S24: 前回変状の発生範囲及び規模 | U24: 1.50m×0.02m (判定Ⅱb)
B25: 対策履歴 | E25: － | H25: 実施状況（実施日） | J25: － | M25: 対策履歴 | P25: 監視(日常巡視) | S25: 実施状況（実施日） | U25: 継続
B26: メモ | E26: 水平打ち継ぎ目(左側)沿いにうき。現状で利用者被害の可能性は低いため、監視にとどめる。(S9範囲はS9-51で評価) ※打音異常無し | M26: メモ | P26: 側壁部(左側)に豆板。現状で利用者被害の可能性は低いため、監視にとどめる。 ※打音異常無し
C27: ※ 応急措置後の対策区分について添付すること。また、点検前に 実施された措置によりⅠと判定された箇所も添付すること。 | N27: ※ 変状の発生範囲の規模とは、対策を行う際に参考となる変状の長さや面積をいう。
N28: ※ 応急措置を実施しないで決定した変状の対策区分は、対策区分の応急措置後の欄に記入すること。
C29: ※ たたき落としを実施した場合は、実施後の写真を添付すること。 | N29: ※ 変状の発生範囲の規模は、面積・寸法を記載すること。(ひび割れ幅のみmmとし、その他をm表記とする)
N30: ※ 構造用鋼材以外の異物に伴ううき・はく離については、メモ欄に異物の概要を記入すること。

Sheet 様式D-1-1 (28)
B2: ■定期点検記録様式 変状写真台帳【様式D-1-1】 | R2: 施設ID | T2: 34.03558,132.05172
B3: フリガナ | E3: ナカヤマトンネル | H3: 路 線 名 | J3: 主要地方道柳井周東線 | M3: 定期点検実施者 | P3: 株式会社長大 | S3: 定期点検年月日 | U3: 45917
B4: 名 称 | E4: 中山トンネル | H4: 管理者名 | J4: 岩国土木建築事務所 | P4: 鷲尾 寛
B5: 写真 番号 | C5: 覆工スパン 番号 | E5: S008 | M5: 写真 番号 | N5: 覆工スパン 番号 | P5: S008
C6: 変状番号 | E6: 31 | N6: 変状番号 | P6: 32
B7: 変状 部位 | C7: 対象箇所 | E7: 覆工 | M7: 変状 部位 | N7: 対象箇所 | P7: 覆工
C8: 部位区分 | E8: 側壁（左側） | N8: 部位区分 | P8: 水平打ち継ぎ目（右側）
B9: 変状種類 | E9: 補修・補強材の破損 | M9: 変状種類 | P9: うき・はく離
B10: 対策 区分 | C10: 変状区分 | E10: 材質劣化 | M10: 対策 区分 | N10: 変状区分 | P10: 材質劣化
C11: 応急措置前 | N11: 応急措置前
C12: 応急措置後 | E12: Ⅱb | N12: 応急措置後 | P12: Ⅱb
B13: 変状の発生範囲及び規模 | E13: 0.01m2(0.20m×0.05m) | H13: 前回変状の発生範囲及び規模 | J13: 0.05m×0.20m (判定Ⅱb) | M13: 変状の発生範囲及び規模 | P13: 0.15m2(0.10m×1.50m) | S13: 前回変状の発生範囲及び規模 | U13: 2.50m×0.10m (判定Ⅱa)
B14: 対策履歴 | E14: 監視(日常巡視) | H14: 実施状況（実施日） | J14: 継続 | M14: 対策履歴 | P14: － | S14: 実施状況（実施日） | U14: －
B15: メモ | E15: 側壁部(左側)に線導水破損。現状で利用者被害の可能性は低いため、監視にとどめる。 | M15: メモ | P15: 水平打ち継ぎ目(右側)沿いにうき。現状で利用者被害の可能性は低いため、監視にとどめる。 ※打音異常無し
B16: 写真 番号 | C16: 覆工スパン 番号 | E16: S008 | M16: 写真 番号 | N16: 覆工スパン 番号 | P16: S008
C17: 変状番号 | E17: 33 | N17: 変状番号 | P17: 34
B18: 変状 部位 | C18: 対象箇所 | E18: 覆工 | M18: 変状 部位 | N18: 対象箇所 | P18: 覆工
C19: 部位区分 | E19: 水平打ち継ぎ目（右側） | N19: 部位区分 | P19: 水平打ち継ぎ目（右側）
B20: 変状種類 | E20: うき・はく離 | M20: 変状種類 | P20: うき・はく離
B21: 対策 区分 | C21: 変状区分 | E21: 材質劣化 | M21: 対策 区分 | N21: 変状区分 | P21: 材質劣化
C22: 応急措置前 | N22: 応急措置前
C23: 応急措置後 | E23: Ⅱb | N23: 応急措置後 | P23: Ⅱb
B24: 変状の発生範囲及び規模 | E24: 0.25m2(0.10m×2.50m) | H24: 前回変状の発生範囲及び規模 | J24: 2.50m×0.10m (判定Ⅱa) | M24: 変状の発生範囲及び規模 | P24: 0.03m2(0.10m×0.25m) | S24: 前回変状の発生範囲及び規模 | U24: 0.25m×0.10m (判定Ⅱa)
B25: 対策履歴 | E25: － | H25: 実施状況（実施日） | J25: － | M25: 対策履歴 | P25: － | S25: 実施状況（実施日） | U25: －
B26: メモ | E26: 水平打ち継ぎ目(右側)沿いにうき。現状で利用者被害の可能性は低いため、監視にとどめる。 ※打音異常無し | M26: メモ | P26: 水平打ち継ぎ目(右側)沿いにうき。現状で利用者被害の可能性は低いため、監視にとどめる。 ※打音異常無し
C27: ※ 応急措置後の対策区分について添付すること。また、点検前に 実施された措置によりⅠと判定された箇所も添付すること。 | N27: ※ 変状の発生範囲の規模とは、対策を行う際に参考となる変状の長さや面積をいう。
N28: ※ 応急措置を実施しないで決定した変状の対策区分は、対策区分の応急措置後の欄に記入すること。
C29: ※ たたき落としを実施した場合は、実施後の写真を添付すること。 | N29: ※ 変状の発生範囲の規模は、面積・寸法を記載すること。(ひび割れ幅のみmmとし、その他をm表記とする)
N30: ※ 構造用鋼材以外の異物に伴ううき・はく離については、メモ欄に異物の概要を記入すること。

Sheet 様式D-1-1 (29)
B2: ■定期点検記録様式 変状写真台帳【様式D-1-1】 | R2: 施設ID | T2: 34.03558,132.05172
B3: フリガナ | E3: ナカヤマトンネル | H3: 路 線 名 | J3: 主要地方道柳井周東線 | M3: 定期点検実施者 | P3: 株式会社長大 | S3: 定期点検年月日 | U3: 45917
B4: 名 称 | E4: 中山トンネル | H4: 管理者名 | J4: 岩国土木建築事務所 | P4: 鷲尾 寛
B5: 写真 番号 | C5: 覆工スパン 番号 | E5: S008 | M5: 写真 番号 | N5: 覆工スパン 番号 | P5: S008
C6: 変状番号 | E6: 35 | N6: 変状番号 | P6: 46
B7: 変状 部位 | C7: 対象箇所 | E7: 覆工 | M7: 変状 部位 | N7: 対象箇所 | P7: 路面
C8: 部位区分 | E8: 水平打ち継ぎ目（右側） | N8: 部位区分 | P8: 側溝
B9: 変状種類 | E9: うき・はく離 | M9: 変状種類 | P9: その他
B10: 対策 区分 | C10: 変状区分 | E10: 材質劣化 | M10: 対策 区分 | N10: 変状区分
C11: 応急措置前 | N11: 応急措置前
C12: 応急措置後 | E12: Ⅱb | N12: 応急措置後
B13: 変状の発生範囲及び規模 | E13: 0.04m2(0.20m×0.20m) | H13: 前回変状の発生範囲及び規模 | J13: 0.20m×0.20m (判定Ⅱa) | M13: 変状の発生範囲及び規模 | P13: 1箇所 | S13: 前回変状の発生範囲及び規模 | U13: 今回新規変状
B14: 対策履歴 | E14: － | H14: 実施状況（実施日） | J14: － | M14: 対策履歴 | P14: － | S14: 実施状況（実施日） | U14: －
B15: メモ | E15: 水平打ち継ぎ目(右側)沿いにうき。現状で利用者被害の可能性は低いため、監視にとどめる。 ※打音異常無し | M15: メモ | P15: 側溝蓋破損。新たに発生。現状で利用者被害の可能性は低い。
B16: 写真 番号 | C16: 覆工スパン 番号 | E16: S009 | M16: 写真 番号 | N16: 覆工スパン 番号 | P16: S009
C17: 変状番号 | E17: 6 | N17: 変状番号 | P17: 11
B18: 変状 部位 | C18: 対象箇所 | E18: 覆工 | M18: 変状 部位 | N18: 対象箇所 | P18: 覆工
C19: 部位区分 | E19: アーチ（天端） | N19: 部位区分 | P19: 横断目地（天端）
B20: 変状種類 | E20: 漏水 | M20: 変状種類 | P20: うき・はく離
B21: 対策 区分 | C21: 変状区分 | E21: 漏水 | M21: 対策 区分 | N21: 変状区分 | P21: 材質劣化
C22: 応急措置前 | N22: 応急措置前
C23: 応急措置後 | E23: Ⅱb | N23: 応急措置後 | P23: Ⅱb
B24: 変状の発生範囲及び規模 | E24: 4.18m2(8.35m×0.50m) | H24: 前回変状の発生範囲及び規模 | J24: 規模記載なし (判定Ⅱb) | M24: 変状の発生範囲及び規模 | P24: 0.05m2(0.50m×0.10m) | S24: 前回変状の発生範囲及び規模 | U24: 0.10m×0.50m (判定Ⅱb)
B25: 対策履歴 | E25: 監視(日常巡視) | H25: 実施状況（実施日） | J25: 継続 | M25: 対策履歴 | P25: 監視(日常巡視) | S25: 実施状況（実施日） | U25: 継続
B26: メモ | E26: アーチ部(天端)にひび割れ沿いの遊離石灰。現状で利用者被害の可能性は低いため、監視にとどめる。 | M26: メモ | P26: 横断目地部(天端)に豆板。現状で利用者被害の可能性は低いため、監視にとどめる。 ※打音異常無し
C27: ※ 応急措置後の対策区分について添付すること。また、点検前に 実施された措置によりⅠと判定された箇所も添付すること。 | N27: ※ 変状の発生範囲の規模とは、対策を行う際に参考となる変状の長さや面積をいう。
N28: ※ 応急措置を実施しないで決定した変状の対策区分は、対策区分の応急措置後の欄に記入すること。
C29: ※ たたき落としを実施した場合は、実施後の写真を添付すること。 | N29: ※ 変状の発生範囲の規模は、面積・寸法を記載すること。(ひび割れ幅のみmmとし、その他をm表記とする)
N30: ※ 構造用鋼材以外の異物に伴ううき・はく離については、メモ欄に異物の概要を記入すること。

Sheet 様式D-1-1 (30)
B2: ■定期点検記録様式 変状写真台帳【様式D-1-1】 | R2: 施設ID | T2: 34.03558,132.05172
B3: フリガナ | E3: ナカヤマトンネル | H3: 路 線 名 | J3: 主要地方道柳井周東線 | M3: 定期点検実施者 | P3: 株式会社長大 | S3: 定期点検年月日 | U3: 45917
B4: 名 称 | E4: 中山トンネル | H4: 管理者名 | J4: 岩国土木建築事務所 | P4: 鷲尾 寛
B5: 写真 番号 | C5: 覆工スパン 番号 | E5: S009 | M5: 写真 番号 | N5: 覆工スパン 番号 | P5: S009
C6: 変状番号 | E6: 13 | N6: 変状番号 | P6: 14
B7: 変状 部位 | C7: 対象箇所 | E7: 覆工 | M7: 変状 部位 | N7: 対象箇所 | P7: 覆工
C8: 部位区分 | E8: アーチ（左側） | N8: 部位区分 | P8: アーチ（右側）
B9: 変状種類 | E9: うき・はく離 | M9: 変状種類 | P9: うき・はく離
B10: 対策 区分 | C10: 変状区分 | E10: 材質劣化 | M10: 対策 区分 | N10: 変状区分 | P10: 材質劣化
C11: 応急措置前 | N11: 応急措置前
C12: 応急措置後 | E12: Ⅱa | N12: 応急措置後 | P12: Ⅱa
B13: 変状の発生範囲及び規模 | E13: 0.06m2(0.25m×0.25m) | H13: 前回変状の発生範囲及び規模 | J13: 0.25m×0.25m (判定Ⅱa) | M13: 変状の発生範囲及び規模 | P13: 0.02m2(0.05m×0.40m) | S13: 前回変状の発生範囲及び規模 | U13: 0.40m×0.03m (判定Ⅱa)
B14: 対策履歴 | E14: － | H14: 実施状況（実施日） | J14: － | M14: 対策履歴 | P14: － | S14: 実施状況（実施日） | U14: －
B15: メモ | E15: アーチ部(左側)にうき。将来的に利用者に影響が及ぶ可能性があるため、重点的な監視及び計画的な対策を必要とする。 ※打音異常無し | M15: メモ | P15: アーチ部(右側)に豆板。将来的に利用者に影響が及ぶ可能性があるため、重点的な監視及び計画的な対策を必要とする。 ※打音異常無し
B16: 写真 番号 | C16: 覆工スパン 番号 | E16: S009 | M16: 写真 番号 | N16: 覆工スパン 番号 | P16: S009
C17: 変状番号 | E17: 15 | N17: 変状番号 | P17: 16
B18: 変状 部位 | C18: 対象箇所 | E18: 覆工 | M18: 変状 部位 | N18: 対象箇所 | P18: 覆工
C19: 部位区分 | E19: アーチ（右側） | N19: 部位区分 | P19: 横断目地（右側）
B20: 変状種類 | E20: うき・はく離 | M20: 変状種類 | P20: うき・はく離
B21: 対策 区分 | C21: 変状区分 | E21: 材質劣化 | M21: 対策 区分 | N21: 変状区分 | P21: 材質劣化
C22: 応急措置前 | N22: 応急措置前
C23: 応急措置後 | E23: Ⅱb | N23: 応急措置後 | P23: Ⅱb
B24: 変状の発生範囲及び規模 | E24: 0.07m2(0.05m×1.30m) | H24: 前回変状の発生範囲及び規模 | J24: 1.30m×0.05m (判定Ⅱb) | M24: 変状の発生範囲及び規模 | P24: 0.01m2(0.10m×0.05m) | S24: 前回変状の発生範囲及び規模 | U24: 0.05m×0.10m (判定Ⅱb)
B25: 対策履歴 | E25: 監視(日常巡視) | H25: 実施状況（実施日） | J25: 継続 | M25: 対策履歴 | P25: 監視(日常巡視) | S25: 実施状況（実施日） | U25: 継続
B26: メモ | E26: アーチ部(右側)に豆板。現状で利用者被害の可能性は低いため、監視にとどめる。 ※打音異常無し | M26: メモ | P26: 横断目地部(アーチ右側)にはく落。現状で利用者被害の可能性は低いため、監視にとどめる。 ※打音異常無し
C27: ※ 応急措置後の対策区分について添付すること。また、点検前に 実施された措置によりⅠと判定された箇所も添付すること。 | N27: ※ 変状の発生範囲の規模とは、対策を行う際に参考となる変状の長さや面積をいう。
N28: ※ 応急措置を実施しないで決定した変状の対策区分は、対策区分の応急措置後の欄に記入すること。
C29: ※ たたき落としを実施した場合は、実施後の写真を添付すること。 | N29: ※ 変状の発生範囲の規模は、面積・寸法を記載すること。(ひび割れ幅のみmmとし、その他をm表記とする)
N30: ※ 構造用鋼材以外の異物に伴ううき・はく離については、メモ欄に異物の概要を記入すること。

Sheet 様式D-1-1 (31)
B2: ■定期点検記録様式 変状写真台帳【様式D-1-1】 | R2: 施設ID | T2: 34.03558,132.05172
B3: フリガナ | E3: ナカヤマトンネル | H3: 路 線 名 | J3: 主要地方道柳井周東線 | M3: 定期点検実施者 | P3: 株式会社長大 | S3: 定期点検年月日 | U3: 45917
B4: 名 称 | E4: 中山トンネル | H4: 管理者名 | J4: 岩国土木建築事務所 | P4: 鷲尾 寛
B5: 写真 番号 | C5: 覆工スパン 番号 | E5: S009 | M5: 写真 番号 | N5: 覆工スパン 番号 | P5: S009
C6: 変状番号 | E6: 30 | N6: 変状番号 | P6: 31
B7: 変状 部位 | C7: 対象箇所 | E7: 覆工 | M7: 変状 部位 | N7: 対象箇所 | P7: 覆工
C8: 部位区分 | E8: 水平打ち継ぎ目（左側） | N8: 部位区分 | P8: 水平打ち継ぎ目（左側）
B9: 変状種類 | E9: うき・はく離 | M9: 変状種類 | P9: うき・はく離
B10: 対策 区分 | C10: 変状区分 | E10: 材質劣化 | M10: 対策 区分 | N10: 変状区分 | P10: 材質劣化
C11: 応急措置前 | N11: 応急措置前
C12: 応急措置後 | E12: Ⅱb | N12: 応急措置後 | P12: Ⅱb
B13: 変状の発生範囲及び規模 | E13: 0.08m2(0.10m×0.80m) | H13: 前回変状の発生範囲及び規模 | J13: 0.80m×0.10m (判定Ⅱa) | M13: 変状の発生範囲及び規模 | P13: 0.05m2(0.10m×0.50m) | S13: 前回変状の発生範囲及び規模 | U13: 0.50m×0.10m (判定Ⅱa)
B14: 対策履歴 | E14: － | H14: 実施状況（実施日） | J14: － | M14: 対策履歴 | P14: － | S14: 実施状況（実施日） | U14: －
B15: メモ | E15: 水平打ち継ぎ目(左側)沿いにうき。現状で利用者被害の可能性は低いため、監視にとどめる。 ※打音異常無し | M15: メモ | P15: 水平打ち継ぎ目(左側)沿いにうき。現状で利用者被害の可能性は低いため、監視にとどめる。 ※打音異常無し
B16: 写真 番号 | C16: 覆工スパン 番号 | E16: S009 | M16: 写真 番号 | N16: 覆工スパン 番号 | P16: S009
C17: 変状番号 | E17: 32 | N17: 変状番号 | P17: 33
B18: 変状 部位 | C18: 対象箇所 | E18: 覆工 | M18: 変状 部位 | N18: 対象箇所 | P18: 覆工
C19: 部位区分 | E19: 水平打ち継ぎ目（左側） | N19: 部位区分 | P19: 側壁（左側）
B20: 変状種類 | E20: うき・はく離 | M20: 変状種類 | P20: うき・はく離
B21: 対策 区分 | C21: 変状区分 | E21: 材質劣化 | M21: 対策 区分 | N21: 変状区分 | P21: 材質劣化
C22: 応急措置前 | N22: 応急措置前
C23: 応急措置後 | E23: Ⅱb | N23: 応急措置後 | P23: Ⅱb
B24: 変状の発生範囲及び規模 | E24: 0.05m2(0.10m×0.50m) | H24: 前回変状の発生範囲及び規模 | J24: 0.50m×0.10m (判定Ⅱa) | M24: 変状の発生範囲及び規模 | P24: 0.08m2(0.05m×1.50m) | S24: 前回変状の発生範囲及び規模 | U24: 1.50m×0.03m (判定Ⅱb)
B25: 対策履歴 | E25: － | H25: 実施状況（実施日） | J25: － | M25: 対策履歴 | P25: 監視(日常巡視) | S25: 実施状況（実施日） | U25: 継続
B26: メモ | E26: 水平打ち継ぎ目(左側)沿いにうき。現状で利用者被害の可能性は低いため、監視にとどめる。 ※打音異常無し | M26: メモ | P26: 側壁部(左側)に豆板。現状で利用者被害の可能性は低いため、監視にとどめる。 ※打音異常無し
C27: ※ 応急措置後の対策区分について添付すること。また、点検前に 実施された措置によりⅠと判定された箇所も添付すること。 | N27: ※ 変状の発生範囲の規模とは、対策を行う際に参考となる変状の長さや面積をいう。
N28: ※ 応急措置を実施しないで決定した変状の対策区分は、対策区分の応急措置後の欄に記入すること。
C29: ※ たたき落としを実施した場合は、実施後の写真を添付すること。 | N29: ※ 変状の発生範囲の規模は、面積・寸法を記載すること。(ひび割れ幅のみmmとし、その他をm表記とする)
N30: ※ 構造用鋼材以外の異物に伴ううき・はく離については、メモ欄に異物の概要を記入すること。

Sheet 様式D-1-1 (32)
B2: ■定期点検記録様式 変状写真台帳【様式D-1-1】 | R2: 施設ID | T2: 34.03558,132.05172
B3: フリガナ | E3: ナカヤマトンネル | H3: 路 線 名 | J3: 主要地方道柳井周東線 | M3: 定期点検実施者 | P3: 株式会社長大 | S3: 定期点検年月日 | U3: 45917
B4: 名 称 | E4: 中山トンネル | H4: 管理者名 | J4: 岩国土木建築事務所 | P4: 鷲尾 寛
B5: 写真 番号 | C5: 覆工スパン 番号 | E5: S009 | M5: 写真 番号 | N5: 覆工スパン 番号 | P5: S009
C6: 変状番号 | E6: 34 | N6: 変状番号 | P6: 37
B7: 変状 部位 | C7: 対象箇所 | E7: 覆工 | M7: 変状 部位 | N7: 対象箇所 | P7: 覆工
C8: 部位区分 | E8: 側壁（左側） | N8: 部位区分 | P8: 水平打ち継ぎ目（左側）
B9: 変状種類 | E9: うき・はく離 | M9: 変状種類 | P9: うき・はく離
B10: 対策 区分 | C10: 変状区分 | E10: 材質劣化 | M10: 対策 区分 | N10: 変状区分 | P10: 材質劣化
C11: 応急措置前 | N11: 応急措置前
C12: 応急措置後 | E12: Ⅱb | N12: 応急措置後 | P12: Ⅱb
B13: 変状の発生範囲及び規模 | E13: 0.04m2(0.05m×0.80m) | H13: 前回変状の発生範囲及び規模 | J13: 0.80m×0.02m (判定Ⅱb) | M13: 変状の発生範囲及び規模 | P13: 0.05m2(0.10m×0.50m) | S13: 前回変状の発生範囲及び規模 | U13: 0.40m×0.10m (判定Ⅱa)
B14: 対策履歴 | E14: 監視(日常巡視) | H14: 実施状況（実施日） | J14: 継続 | M14: 対策履歴 | P14: － | S14: 実施状況（実施日） | U14: －
B15: メモ | E15: 側壁部(左側)に豆板。現状で利用者被害の可能性は低いため、監視にとどめる。 ※打音異常無し | M15: メモ | P15: 水平打ち継ぎ目(左側)沿いにうき。現状で利用者被害の可能性は低いため、監視にとどめる。 ※打音異常無し
B16: 写真 番号 | C16: 覆工スパン 番号 | E16: S009 | M16: 写真 番号 | N16: 覆工スパン 番号 | P16: S009
C17: 変状番号 | E17: 38 | N17: 変状番号 | P17: 40
B18: 変状 部位 | C18: 対象箇所 | E18: 覆工 | M18: 変状 部位 | N18: 対象箇所 | P18: 覆工
C19: 部位区分 | E19: 水平打ち継ぎ目（右側） | N19: 部位区分 | P19: 水平打ち継ぎ目（右側）
B20: 変状種類 | E20: うき・はく離 | M20: 変状種類 | P20: うき・はく離
B21: 対策 区分 | C21: 変状区分 | E21: 材質劣化 | M21: 対策 区分 | N21: 変状区分 | P21: 材質劣化
C22: 応急措置前 | N22: 応急措置前
C23: 応急措置後 | E23: Ⅱb | N23: 応急措置後 | P23: Ⅱb
B24: 変状の発生範囲及び規模 | E24: 0.15m2(0.10m×1.50m) | H24: 前回変状の発生範囲及び規模 | J24: 1.50m×0.10m (判定Ⅱa) | M24: 変状の発生範囲及び規模 | P24: 0.03m2(0.10m×0.25m) | S24: 前回変状の発生範囲及び規模 | U24: 0.25m×0.10m (判定Ⅱa)
B25: 対策履歴 | E25: － | H25: 実施状況（実施日） | J25: － | M25: 対策履歴 | P25: － | S25: 実施状況（実施日） | U25: －
B26: メモ | E26: 水平打ち継ぎ目(右側)沿いにうき。現状で利用者被害の可能性は低いため、監視にとどめる。 ※打音異常無し | M26: メモ | P26: 水平打ち継ぎ目(右側)沿いにうき。現状で利用者被害の可能性は低いため、監視にとどめる。 ※打音異常無し
C27: ※ 応急措置後の対策区分について添付すること。また、点検前に 実施された措置によりⅠと判定された箇所も添付すること。 | N27: ※ 変状の発生範囲の規模とは、対策を行う際に参考となる変状の長さや面積をいう。
N28: ※ 応急措置を実施しないで決定した変状の対策区分は、対策区分の応急措置後の欄に記入すること。
C29: ※ たたき落としを実施した場合は、実施後の写真を添付すること。 | N29: ※ 変状の発生範囲の規模は、面積・寸法を記載すること。(ひび割れ幅のみmmとし、その他をm表記とする)
N30: ※ 構造用鋼材以外の異物に伴ううき・はく離については、メモ欄に異物の概要を記入すること。

Sheet 様式D-1-1 (33)
B2: ■定期点検記録様式 変状写真台帳【様式D-1-1】 | R2: 施設ID | T2: 34.03558,132.05172
B3: フリガナ | E3: ナカヤマトンネル | H3: 路 線 名 | J3: 主要地方道柳井周東線 | M3: 定期点検実施者 | P3: 株式会社長大 | S3: 定期点検年月日 | U3: 45917
B4: 名 称 | E4: 中山トンネル | H4: 管理者名 | J4: 岩国土木建築事務所 | P4: 鷲尾 寛
B5: 写真 番号 | C5: 覆工スパン 番号 | E5: S009 | M5: 写真 番号 | N5: 覆工スパン 番号 | P5: S009
C6: 変状番号 | E6: 41 | N6: 変状番号 | P6: 42
B7: 変状 部位 | C7: 対象箇所 | E7: 覆工 | M7: 変状 部位 | N7: 対象箇所 | P7: 覆工
C8: 部位区分 | E8: 水平打ち継ぎ目（右側） | N8: 部位区分 | P8: 水平打ち継ぎ目（右側）
B9: 変状種類 | E9: うき・はく離 | M9: 変状種類 | P9: うき・はく離
B10: 対策 区分 | C10: 変状区分 | E10: 材質劣化 | M10: 対策 区分 | N10: 変状区分 | P10: 材質劣化
C11: 応急措置前 | N11: 応急措置前
C12: 応急措置後 | E12: Ⅱb | N12: 応急措置後 | P12: Ⅱb
B13: 変状の発生範囲及び規模 | E13: 0.03m2(0.10m×0.30m) | H13: 前回変状の発生範囲及び規模 | J13: 0.30m×0.15m (判定Ⅱa) | M13: 変状の発生範囲及び規模 | P13: 0.15m2(0.10m×1.50m) | S13: 前回変状の発生範囲及び規模 | U13: 1.60m×0.10m (判定Ⅱa)
B14: 対策履歴 | E14: － | H14: 実施状況（実施日） | J14: － | M14: 対策履歴 | P14: － | S14: 実施状況（実施日） | U14: －
B15: メモ | E15: 水平打ち継ぎ目(右側)沿いにうき。現状で利用者被害の可能性は低いため、監視にとどめる。 ※打音異常無し | M15: メモ | P15: 水平打ち継ぎ目(右側)沿いにうき。現状で利用者被害の可能性は低いため、監視にとどめる。 ※打音異常無し
B16: 写真 番号 | C16: 覆工スパン 番号 | E16: S009 | M16: 写真 番号 | N16: 覆工スパン 番号 | P16: S009
C17: 変状番号 | E17: 43 | N17: 変状番号 | P17: 44
B18: 変状 部位 | C18: 対象箇所 | E18: 覆工 | M18: 変状 部位 | N18: 対象箇所 | P18: 覆工
C19: 部位区分 | E19: 側壁（右側） | N19: 部位区分 | P19: 側壁（右側）
B20: 変状種類 | E20: うき・はく離 | M20: 変状種類 | P20: うき・はく離
B21: 対策 区分 | C21: 変状区分 | E21: 材質劣化 | M21: 対策 区分 | N21: 変状区分 | P21: 材質劣化
C22: 応急措置前 | N22: 応急措置前
C23: 応急措置後 | E23: Ⅱb | N23: 応急措置後 | P23: Ⅱb
B24: 変状の発生範囲及び規模 | E24: 0.08m2(0.05m×1.50m) | H24: 前回変状の発生範囲及び規模 | J24: 1.50m×0.05m (判定Ⅱb) | M24: 変状の発生範囲及び規模 | P24: 0.07m2(0.05m×1.30m) | S24: 前回変状の発生範囲及び規模 | U24: 1.30m×0.05m (判定Ⅱb)
B25: 対策履歴 | E25: 監視(日常巡視) | H25: 実施状況（実施日） | J25: 継続 | M25: 対策履歴 | P25: 監視(日常巡視) | S25: 実施状況（実施日） | U25: 継続
B26: メモ | E26: 側壁部(右側)に豆板。現状で利用者被害の可能性は低いため、監視にとどめる。 ※打音異常無し | M26: メモ | P26: 側壁部(右側)に豆板。現状で利用者被害の可能性は低いため、監視にとどめる。 ※打音異常無し
C27: ※ 応急措置後の対策区分について添付すること。また、点検前に 実施された措置によりⅠと判定された箇所も添付すること。 | N27: ※ 変状の発生範囲の規模とは、対策を行う際に参考となる変状の長さや面積をいう。
N28: ※ 応急措置を実施しないで決定した変状の対策区分は、対策区分の応急措置後の欄に記入すること。
C29: ※ たたき落としを実施した場合は、実施後の写真を添付すること。 | N29: ※ 変状の発生範囲の規模は、面積・寸法を記載すること。(ひび割れ幅のみmmとし、その他をm表記とする)
N30: ※ 構造用鋼材以外の異物に伴ううき・はく離については、メモ欄に異物の概要を記入すること。

Sheet 様式D-1-1 (34)
B2: ■定期点検記録様式 変状写真台帳【様式D-1-1】 | R2: 施設ID | T2: 34.03558,132.05172
B3: フリガナ | E3: ナカヤマトンネル | H3: 路 線 名 | J3: 主要地方道柳井周東線 | M3: 定期点検実施者 | P3: 株式会社長大 | S3: 定期点検年月日 | U3: 45917
B4: 名 称 | E4: 中山トンネル | H4: 管理者名 | J4: 岩国土木建築事務所 | P4: 鷲尾 寛
B5: 写真 番号 | C5: 覆工スパン 番号 | E5: S009 | M5: 写真 番号 | N5: 覆工スパン 番号 | P5: S009
C6: 変状番号 | E6: 51 | N6: 変状番号 | P6: 52
B7: 変状 部位 | C7: 対象箇所 | E7: 覆工 | M7: 変状 部位 | N7: 対象箇所 | P7: 覆工
C8: 部位区分 | E8: 水平打ち継ぎ目（左側） | N8: 部位区分 | P8: アーチ（天端）
B9: 変状種類 | E9: うき・はく離 | M9: 変状種類 | P9: 圧ざ、ひび割れ
B10: 対策 区分 | C10: 変状区分 | E10: 材質劣化 | M10: 対策 区分 | N10: 変状区分 | P10: 材質劣化
C11: 応急措置前 | N11: 応急措置前
C12: 応急措置後 | E12: Ⅱb | N12: 応急措置後 | P12: Ⅱb
B13: 変状の発生範囲及び規模 | E13: 0.15m2(0.10m×1.50m) | H13: 前回変状の発生範囲及び規模 | J13: 2.70m×0.10m (判定Ⅱa) | M13: 変状の発生範囲及び規模 | P13: 0.05m2(長さ0.50m×幅1.00mm) | S13: 前回変状の発生範囲及び規模 | U13: 前回調書記載なし
B14: 対策履歴 | E14: － | H14: 実施状況（実施日） | J14: － | M14: 対策履歴 | P14: － | S14: 実施状況（実施日） | U14: －
B15: メモ | E15: 水平打ち継ぎ目(左側)沿いにうき。現状で利用者被害の可能性は低いため、監視にとどめる。(前回S8-28で評価)※打音異常無し | M15: メモ | P15: アーチ部(天端)に縦断ひび割れ。前回調書記載なし。進行なし。現状で利用者被害の可能性は低いため、監視にとどめる。
B16: 写真 番号 | C16: 覆工スパン 番号 | E16: S009 | M16: 写真 番号 | N16: 覆工スパン 番号 | P16: S009
C17: 変状番号 | E17: 53 | N17: 変状番号 | P17: 54
B18: 変状 部位 | C18: 対象箇所 | E18: 覆工 | M18: 変状 部位 | N18: 対象箇所 | P18: 路面
C19: 部位区分 | E19: アーチ（天端） | N19: 部位区分 | P19: 側溝
B20: 変状種類 | E20: うき・はく離 | M20: 変状種類 | P20: その他
B21: 対策 区分 | C21: 変状区分 | E21: 材質劣化 | M21: 対策 区分 | N21: 変状区分
C22: 応急措置前 | N22: 応急措置前
C23: 応急措置後 | E23: Ⅱa | N23: 応急措置後
B24: 変状の発生範囲及び規模 | E24: 0.01m2(0.05m×0.10m) | H24: 前回変状の発生範囲及び規模 | J24: 今回新規変状 | M24: 変状の発生範囲及び規模 | P24: 5箇所 | S24: 前回変状の発生範囲及び規模 | U24: 今回新規変状
B25: 対策履歴 | E25: － | H25: 実施状況（実施日） | J25: － | M25: 対策履歴 | P25: － | S25: 実施状況（実施日） | U25: －
B26: メモ | E26: アーチ部(天端)にひび割れ沿いのうき。新たに発生。将来的に利用者に影響が及ぶ可能性があるため、重点的な監視及び計画的な対策を必要とする。 ※打音異常無し | M26: メモ | P26: 側溝蓋破損。新たに発生。現状で利用者被害の可能性は低い。
C27: ※ 応急措置後の対策区分について添付すること。また、点検前に 実施された措置によりⅠと判定された箇所も添付すること。 | N27: ※ 変状の発生範囲の規模とは、対策を行う際に参考となる変状の長さや面積をいう。
N28: ※ 応急措置を実施しないで決定した変状の対策区分は、対策区分の応急措置後の欄に記入すること。
C29: ※ たたき落としを実施した場合は、実施後の写真を添付すること。 | N29: ※ 変状の発生範囲の規模は、面積・寸法を記載すること。(ひび割れ幅のみmmとし、その他をm表記とする)
N30: ※ 構造用鋼材以外の異物に伴ううき・はく離については、メモ欄に異物の概要を記入すること。

Sheet 様式D-1-1 (35)
B2: ■定期点検記録様式 変状写真台帳【様式D-1-1】 | R2: 施設ID | T2: 34.03558,132.05172
B3: フリガナ | E3: ナカヤマトンネル | H3: 路 線 名 | J3: 主要地方道柳井周東線 | M3: 定期点検実施者 | P3: 株式会社長大 | S3: 定期点検年月日 | U3: 45917
B4: 名 称 | E4: 中山トンネル | H4: 管理者名 | J4: 岩国土木建築事務所 | P4: 鷲尾 寛
B5: 写真 番号 | C5: 覆工スパン 番号 | E5: S010 | M5: 写真 番号 | N5: 覆工スパン 番号 | P5: S010
C6: 変状番号 | E6: 11 | N6: 変状番号 | P6: 18
B7: 変状 部位 | C7: 対象箇所 | E7: 覆工 | M7: 変状 部位 | N7: 対象箇所 | P7: 覆工
C8: 部位区分 | E8: 横断目地（天端） | N8: 部位区分 | P8: アーチ（右側）
B9: 変状種類 | E9: うき・はく離 | M9: 変状種類 | P9: うき・はく離
B10: 対策 区分 | C10: 変状区分 | E10: 材質劣化 | M10: 対策 区分 | N10: 変状区分 | P10: 材質劣化
C11: 応急措置前 | N11: 応急措置前
C12: 応急措置後 | E12: Ⅱb | N12: 応急措置後 | P12: Ⅱb
B13: 変状の発生範囲及び規模 | E13: 0.13m2(2.60m×0.05m) | H13: 前回変状の発生範囲及び規模 | J13: 0.05m×2.50m (判定Ⅱb) | M13: 変状の発生範囲及び規模 | P13: 0.13m2(0.05m×2.50m) | S13: 前回変状の発生範囲及び規模 | U13: 2.50m×0.05m (判定Ⅱb)
B14: 対策履歴 | E14: 監視(日常巡視) | H14: 実施状況（実施日） | J14: 継続 | M14: 対策履歴 | P14: 監視(日常巡視) | S14: 実施状況（実施日） | U14: 継続
B15: メモ | E15: 横断目地部(天端)に豆板。現状で利用者被害の可能性は低いため、監視にとどめる。 ※打音異常無し | M15: メモ | P15: アーチ部(右側)に豆板。現状で利用者被害の可能性は低いため、監視にとどめる。 ※打音異常無し
B16: 写真 番号 | C16: 覆工スパン 番号 | E16: S010 | M16: 写真 番号 | N16: 覆工スパン 番号 | P16: S010
C17: 変状番号 | E17: 20 | N17: 変状番号 | P17: 21
B18: 変状 部位 | C18: 対象箇所 | E18: 覆工 | M18: 変状 部位 | N18: 対象箇所 | P18: 覆工
C19: 部位区分 | E19: 水平打ち継ぎ目（左側） | N19: 部位区分 | P19: 水平打ち継ぎ目（左側）
B20: 変状種類 | E20: うき・はく離 | M20: 変状種類 | P20: うき・はく離
B21: 対策 区分 | C21: 変状区分 | E21: 材質劣化 | M21: 対策 区分 | N21: 変状区分 | P21: 材質劣化
C22: 応急措置前 | N22: 応急措置前
C23: 応急措置後 | E23: Ⅱb | N23: 応急措置後 | P23: Ⅱb
B24: 変状の発生範囲及び規模 | E24: 0.30m2(0.10m×3.00m) | H24: 前回変状の発生範囲及び規模 | J24: 3.00m×0.10m (判定Ⅱa) | M24: 変状の発生範囲及び規模 | P24: 0.16m2(0.10m×1.60m) | S24: 前回変状の発生範囲及び規模 | U24: 1.60m×0.10m (判定Ⅱa)
B25: 対策履歴 | E25: － | H25: 実施状況（実施日） | J25: － | M25: 対策履歴 | P25: － | S25: 実施状況（実施日） | U25: －
B26: メモ | E26: 水平打ち継ぎ目(左側)沿いにうき。現状で利用者被害の可能性は低いため、監視にとどめる。 ※打音異常無し | M26: メモ | P26: 水平打ち継ぎ目(左側)沿いにうき。現状で利用者被害の可能性は低いため、監視にとどめる。 ※打音異常無し
C27: ※ 応急措置後の対策区分について添付すること。また、点検前に 実施された措置によりⅠと判定された箇所も添付すること。 | N27: ※ 変状の発生範囲の規模とは、対策を行う際に参考となる変状の長さや面積をいう。
N28: ※ 応急措置を実施しないで決定した変状の対策区分は、対策区分の応急措置後の欄に記入すること。
C29: ※ たたき落としを実施した場合は、実施後の写真を添付すること。 | N29: ※ 変状の発生範囲の規模は、面積・寸法を記載すること。(ひび割れ幅のみmmとし、その他をm表記とする)
N30: ※ 構造用鋼材以外の異物に伴ううき・はく離については、メモ欄に異物の概要を記入すること。

Sheet 様式D-1-1 (36)
B2: ■定期点検記録様式 変状写真台帳【様式D-1-1】 | R2: 施設ID | T2: 34.03558,132.05172
B3: フリガナ | E3: ナカヤマトンネル | H3: 路 線 名 | J3: 主要地方道柳井周東線 | M3: 定期点検実施者 | P3: 株式会社長大 | S3: 定期点検年月日 | U3: 45917
B4: 名 称 | E4: 中山トンネル | H4: 管理者名 | J4: 岩国土木建築事務所 | P4: 鷲尾 寛
B5: 写真 番号 | C5: 覆工スパン 番号 | E5: S010 | M5: 写真 番号 | N5: 覆工スパン 番号 | P5: S010
C6: 変状番号 | E6: 24 | N6: 変状番号 | P6: 27
B7: 変状 部位 | C7: 対象箇所 | E7: 覆工 | M7: 変状 部位 | N7: 対象箇所 | P7: 覆工
C8: 部位区分 | E8: 側壁（左側） | N8: 部位区分 | P8: 水平打ち継ぎ目（右側）
B9: 変状種類 | E9: うき・はく離 | M9: 変状種類 | P9: うき・はく離
B10: 対策 区分 | C10: 変状区分 | E10: 材質劣化 | M10: 対策 区分 | N10: 変状区分 | P10: 材質劣化
C11: 応急措置前 | N11: 応急措置前
C12: 応急措置後 | E12: Ⅱb | N12: 応急措置後 | P12: Ⅱb
B13: 変状の発生範囲及び規模 | E13: 0.01m2(0.10m×0.05m) | H13: 前回変状の発生範囲及び規模 | J13: 0.05m×0.10m (判定Ⅱa) | M13: 変状の発生範囲及び規模 | P13: 0.02m2(0.10m×0.20m) | S13: 前回変状の発生範囲及び規模 | U13: 0.20m×0.05m (判定Ⅱa)
B14: 対策履歴 | E14: － | H14: 実施状況（実施日） | J14: － | M14: 対策履歴 | P14: － | S14: 実施状況（実施日） | U14: －
B15: メモ | E15: 側壁部(左側)にうき。現状で利用者被害の可能性は低いため、監視にとどめる。 ※打音異常無し | M15: メモ | P15: 水平打ち継ぎ目(右側)沿いにうき。現状で利用者被害の可能性は低いため、監視にとどめる。 ※打音異常無し
B16: 写真 番号 | C16: 覆工スパン 番号 | E16: S010 | M16: 写真 番号 | N16: 覆工スパン 番号 | P16: S010
C17: 変状番号 | E17: 29 | N17: 変状番号 | P17: 31
B18: 変状 部位 | C18: 対象箇所 | E18: 覆工 | M18: 変状 部位 | N18: 対象箇所 | P18: 覆工
C19: 部位区分 | E19: 水平打ち継ぎ目（右側） | N19: 部位区分 | P19: 水平打ち継ぎ目（右側）
B20: 変状種類 | E20: うき・はく離 | M20: 変状種類 | P20: うき・はく離
B21: 対策 区分 | C21: 変状区分 | E21: 材質劣化 | M21: 対策 区分 | N21: 変状区分 | P21: 材質劣化
C22: 応急措置前 | N22: 応急措置前
C23: 応急措置後 | E23: Ⅱb | N23: 応急措置後 | P23: Ⅱb
B24: 変状の発生範囲及び規模 | E24: 0.53m2(0.15m×3.50m) | H24: 前回変状の発生範囲及び規模 | J24: 1.30m×0.15m (判定Ⅱa) | M24: 変状の発生範囲及び規模 | P24: 0.08m2(0.15m×0.50m) | S24: 前回変状の発生範囲及び規模 | U24: 0.50m×0.15m (判定Ⅱa)
B25: 対策履歴 | E25: － | H25: 実施状況（実施日） | J25: － | M25: 対策履歴 | P25: － | S25: 実施状況（実施日） | U25: －
B26: メモ | E26: 水平打ち継ぎ目(右側)沿いにうき。拡大。現状で利用者被害の可能性は低いため、監視にとどめる。 ※打音異常無し | M26: メモ | P26: 水平打ち継ぎ目(右側)沿いにうき。現状で利用者被害の可能性は低いため、監視にとどめる。 ※打音異常無し
C27: ※ 応急措置後の対策区分について添付すること。また、点検前に 実施された措置によりⅠと判定された箇所も添付すること。 | N27: ※ 変状の発生範囲の規模とは、対策を行う際に参考となる変状の長さや面積をいう。
N28: ※ 応急措置を実施しないで決定した変状の対策区分は、対策区分の応急措置後の欄に記入すること。
C29: ※ たたき落としを実施した場合は、実施後の写真を添付すること。 | N29: ※ 変状の発生範囲の規模は、面積・寸法を記載すること。(ひび割れ幅のみmmとし、その他をm表記とする)
N30: ※ 構造用鋼材以外の異物に伴ううき・はく離については、メモ欄に異物の概要を記入すること。

Sheet 様式D-1-1 (37)
B2: ■定期点検記録様式 変状写真台帳【様式D-1-1】 | R2: 施設ID | T2: 34.03558,132.05172
B3: フリガナ | E3: ナカヤマトンネル | H3: 路 線 名 | J3: 主要地方道柳井周東線 | M3: 定期点検実施者 | P3: 株式会社長大 | S3: 定期点検年月日 | U3: 45917
B4: 名 称 | E4: 中山トンネル | H4: 管理者名 | J4: 岩国土木建築事務所 | P4: 鷲尾 寛
B5: 写真 番号 | C5: 覆工スパン 番号 | E5: S010 | M5: 写真 番号 | N5: 覆工スパン 番号 | P5: S010
C6: 変状番号 | E6: 36 | N6: 変状番号 | P6: 37
B7: 変状 部位 | C7: 対象箇所 | E7: 覆工 | M7: 変状 部位 | N7: 対象箇所 | P7: 路面
C8: 部位区分 | E8: 側壁（右側） | N8: 部位区分 | P8: 側溝
B9: 変状種類 | E9: うき・はく離 | M9: 変状種類 | P9: その他
B10: 対策 区分 | C10: 変状区分 | E10: 材質劣化 | M10: 対策 区分 | N10: 変状区分
C11: 応急措置前 | N11: 応急措置前
C12: 応急措置後 | E12: Ⅱb | N12: 応急措置後
B13: 変状の発生範囲及び規模 | E13: 0.02m2(0.20m×0.10m) | H13: 前回変状の発生範囲及び規模 | J13: 今回新規変状 | M13: 変状の発生範囲及び規模 | P13: 1箇所 | S13: 前回変状の発生範囲及び規模 | U13: 今回新規変状
B14: 対策履歴 | E14: － | H14: 実施状況（実施日） | J14: － | M14: 対策履歴 | P14: － | S14: 実施状況（実施日） | U14: －
B15: メモ | E15: 側壁部(右側)にうき。新たに発生。現状で利用者被害の可能性は低いため、監視にとどめる。 ※打音異常無し | M15: メモ | P15: 側溝蓋破損。新たに発生。現状で利用者被害の可能性は低い。
B16: 写真 番号 | C16: 覆工スパン 番号 | E16: PE | M16: 写真 番号 | N16: 覆工スパン 番号 | P16: PE
C17: 変状番号 | E17: 22 | N17: 変状番号 | P17: 23
B18: 変状 部位 | C18: 対象箇所 | E18: 覆工 | M18: 変状 部位 | N18: 対象箇所 | P18: 覆工
C19: 部位区分 | E19: アーチ（天端） | N19: 部位区分 | P19: アーチ（天端）
B20: 変状種類 | E20: うき・はく離 | M20: 変状種類 | P20: その他
B21: 対策 区分 | C21: 変状区分 | E21: 材質劣化 | M21: 対策 区分 | N21: 変状区分 | P21: 材質劣化
C22: 応急措置前 | N22: 応急措置前
C23: 応急措置後 | E23: Ⅱb | N23: 応急措置後 | P23: Ⅰ
B24: 変状の発生範囲及び規模 | E24: 0.04m2(0.20m×0.20m) | H24: 前回変状の発生範囲及び規模 | J24: 0.20m×0.20m (判定Ⅱb) | M24: 変状の発生範囲及び規模 | P24: － | S24: 前回変状の発生範囲及び規模 | U24: 0.15m×0.70m (判定Ⅱb)
B25: 対策履歴 | E25: 監視(日常巡視) | H25: 実施状況（実施日） | J25: 継続 | M25: 対策履歴 | P25: はく落防止対策工を実施 | S25: 実施状況（実施日） | U25: 不明
B26: メモ | E26: アーチ部(天端)に豆板。現状で利用者被害の可能性は低いため、監視にとどめる。 ※打音異常無し | M26: メモ | P26: アーチ部(天端)に対策実施(炭素繊維シート)。前回点検時に確認された異音箇所に補修工事が実施されたことにより状態は改善され、現状で利用者被害がないと判断しⅠ判定とした。
C27: ※ 応急措置後の対策区分について添付すること。また、点検前に 実施された措置によりⅠと判定された箇所も添付すること。 | N27: ※ 変状の発生範囲の規模とは、対策を行う際に参考となる変状の長さや面積をいう。
N28: ※ 応急措置を実施しないで決定した変状の対策区分は、対策区分の応急措置後の欄に記入すること。
C29: ※ たたき落としを実施した場合は、実施後の写真を添付すること。 | N29: ※ 変状の発生範囲の規模は、面積・寸法を記載すること。(ひび割れ幅のみmmとし、その他をm表記とする)
N30: ※ 構造用鋼材以外の異物に伴ううき・はく離については、メモ欄に異物の概要を記入すること。

Sheet 様式D-1-1 (38)
B2: ■定期点検記録様式 変状写真台帳【様式D-1-1】 | R2: 施設ID | T2: 34.03558,132.05172
B3: フリガナ | E3: ナカヤマトンネル | H3: 路 線 名 | J3: 主要地方道柳井周東線 | M3: 定期点検実施者 | P3: 株式会社長大 | S3: 定期点検年月日 | U3: 45917
B4: 名 称 | E4: 中山トンネル | H4: 管理者名 | J4: 岩国土木建築事務所 | P4: 鷲尾 寛
B5: 写真 番号 | C5: 覆工スパン 番号 | E5: PE | M5: 写真 番号 | N5: 覆工スパン 番号 | P5: PE
C6: 変状番号 | E6: 24 | N6: 変状番号 | P6: 43
B7: 変状 部位 | C7: 対象箇所 | E7: 覆工 | M7: 変状 部位 | N7: 対象箇所 | P7: 覆工
C8: 部位区分 | E8: アーチ（天端） | N8: 部位区分 | P8: アーチ（右側）
B9: 変状種類 | E9: その他 | M9: 変状種類 | P9: うき・はく離
B10: 対策 区分 | C10: 変状区分 | E10: 材質劣化 | M10: 対策 区分 | N10: 変状区分 | P10: 材質劣化
C11: 応急措置前 | N11: 応急措置前
C12: 応急措置後 | E12: Ⅰ | N12: 応急措置後 | P12: Ⅱb
B13: 変状の発生範囲及び規模 | E13: － | H13: 前回変状の発生範囲及び規模 | J13: 0.50m×1.50m (判定Ⅲ) | M13: 変状の発生範囲及び規模 | P13: 0.01m2(0.10m×0.10m) | S13: 前回変状の発生範囲及び規模 | U13: 0.10m×0.10m (判定Ⅱb)
B14: 対策履歴 | E14: はく落防止対策工を実施 | H14: 実施状況（実施日） | J14: 不明 | M14: 対策履歴 | P14: 監視(日常巡視) | S14: 実施状況（実施日） | U14: 継続
B15: メモ | E15: アーチ部(天端)に対策実施(炭素繊維シート)。前回点検時に確認されたうきに補修工事が実施されたことにより状態は改善され、現状で利用者被害がないと判断しⅠ判定とした。 | M15: メモ | P15: アーチ部(右側)にはく落。現状で利用者被害の可能性は低いため、監視にとどめる。 ※打音異常無し
B16: 写真 番号 | C16: 覆工スパン 番号 | E16: PE | M16: 写真 番号 | N16: 覆工スパン 番号 | P16: PE
C17: 変状番号 | E17: 44 | N17: 変状番号 | P17: 45
B18: 変状 部位 | C18: 対象箇所 | E18: 覆工 | M18: 変状 部位 | N18: 対象箇所 | P18: 覆工
C19: 部位区分 | E19: 水平打ち継ぎ目（左側） | N19: 部位区分 | P19: 水平打ち継ぎ目（左側）
B20: 変状種類 | E20: うき・はく離 | M20: 変状種類 | P20: うき・はく離
B21: 対策 区分 | C21: 変状区分 | E21: 材質劣化 | M21: 対策 区分 | N21: 変状区分 | P21: 材質劣化
C22: 応急措置前 | N22: 応急措置前
C23: 応急措置後 | E23: Ⅱb | N23: 応急措置後 | P23: Ⅱb
B24: 変状の発生範囲及び規模 | E24: 0.33m2(0.10m×3.30m) | H24: 前回変状の発生範囲及び規模 | J24: 3.30m×0.10m (判定Ⅱa) | M24: 変状の発生範囲及び規模 | P24: 0.02m2(0.10m×0.20m) | S24: 前回変状の発生範囲及び規模 | U24: 0.20m×0.10m (判定Ⅱa)
B25: 対策履歴 | E25: － | H25: 実施状況（実施日） | J25: － | M25: 対策履歴 | P25: － | S25: 実施状況（実施日） | U25: －
B26: メモ | E26: 水平打ち継ぎ目(左側)沿いにうき。現状で利用者被害の可能性は低いため、監視にとどめる。 ※打音異常無し | M26: メモ | P26: 水平打ち継ぎ目(左側)沿いにうき。現状で利用者被害の可能性は低いため、監視にとどめる。 ※打音異常無し
C27: ※ 応急措置後の対策区分について添付すること。また、点検前に 実施された措置によりⅠと判定された箇所も添付すること。 | N27: ※ 変状の発生範囲の規模とは、対策を行う際に参考となる変状の長さや面積をいう。
N28: ※ 応急措置を実施しないで決定した変状の対策区分は、対策区分の応急措置後の欄に記入すること。
C29: ※ たたき落としを実施した場合は、実施後の写真を添付すること。 | N29: ※ 変状の発生範囲の規模は、面積・寸法を記載すること。(ひび割れ幅のみmmとし、その他をm表記とする)
N30: ※ 構造用鋼材以外の異物に伴ううき・はく離については、メモ欄に異物の概要を記入すること。

Sheet 様式D-1-1 (39)
B2: ■定期点検記録様式 変状写真台帳【様式D-1-1】 | R2: 施設ID | T2: 34.03558,132.05172
B3: フリガナ | E3: ナカヤマトンネル | H3: 路 線 名 | J3: 主要地方道柳井周東線 | M3: 定期点検実施者 | P3: 株式会社長大 | S3: 定期点検年月日 | U3: 45917
B4: 名 称 | E4: 中山トンネル | H4: 管理者名 | J4: 岩国土木建築事務所 | P4: 鷲尾 寛
B5: 写真 番号 | C5: 覆工スパン 番号 | E5: PE | M5: 写真 番号 | N5: 覆工スパン 番号 | P5: PE
C6: 変状番号 | E6: 46 | N6: 変状番号 | P6: 47
B7: 変状 部位 | C7: 対象箇所 | E7: 覆工 | M7: 変状 部位 | N7: 対象箇所 | P7: 覆工
C8: 部位区分 | E8: 水平打ち継ぎ目（左側） | N8: 部位区分 | P8: 水平打ち継ぎ目（左側）
B9: 変状種類 | E9: うき・はく離 | M9: 変状種類 | P9: うき・はく離
B10: 対策 区分 | C10: 変状区分 | E10: 材質劣化 | M10: 対策 区分 | N10: 変状区分 | P10: 材質劣化
C11: 応急措置前 | N11: 応急措置前
C12: 応急措置後 | E12: Ⅱb | N12: 応急措置後 | P12: Ⅱb
B13: 変状の発生範囲及び規模 | E13: 0.05m2(0.10m×0.50m) | H13: 前回変状の発生範囲及び規模 | J13: 0.50m×0.05m (判定Ⅱa) | M13: 変状の発生範囲及び規模 | P13: 0.02m2(0.10m×0.15m) | S13: 前回変状の発生範囲及び規模 | U13: 0.15m×0.10m (判定Ⅱa)
B14: 対策履歴 | E14: － | H14: 実施状況（実施日） | J14: － | M14: 対策履歴 | P14: － | S14: 実施状況（実施日） | U14: －
B15: メモ | E15: 水平打ち継ぎ目(左側)沿いにうき。現状で利用者被害の可能性は低いため、監視にとどめる。 ※打音異常無し | M15: メモ | P15: 水平打ち継ぎ目(左側)沿いにうき。現状で利用者被害の可能性は低いため、監視にとどめる。 ※打音異常無し
B16: 写真 番号 | C16: 覆工スパン 番号 | E16: PE | M16: 写真 番号 | N16: 覆工スパン 番号 | P16: PE
C17: 変状番号 | E17: 48 | N17: 変状番号 | P17: 52
B18: 変状 部位 | C18: 対象箇所 | E18: 覆工 | M18: 変状 部位 | N18: 対象箇所 | P18: 覆工
C19: 部位区分 | E19: 水平打ち継ぎ目（左側） | N19: 部位区分 | P19: 水平打ち継ぎ目（右側）
B20: 変状種類 | E20: うき・はく離 | M20: 変状種類 | P20: うき・はく離
B21: 対策 区分 | C21: 変状区分 | E21: 材質劣化 | M21: 対策 区分 | N21: 変状区分 | P21: 材質劣化
C22: 応急措置前 | N22: 応急措置前
C23: 応急措置後 | E23: Ⅱb | N23: 応急措置後 | P23: Ⅱb
B24: 変状の発生範囲及び規模 | E24: 0.11m2(0.10m×1.10m) | H24: 前回変状の発生範囲及び規模 | J24: 1.10m×0.10m (判定Ⅱa) | M24: 変状の発生範囲及び規模 | P24: 1.08m2(0.10m×10.80m) | S24: 前回変状の発生範囲及び規模 | U24: 10.80m×0.10m (判定Ⅱa)
B25: 対策履歴 | E25: － | H25: 実施状況（実施日） | J25: － | M25: 対策履歴 | P25: － | S25: 実施状況（実施日） | U25: －
B26: メモ | E26: 水平打ち継ぎ目(左側)沿いにうき。現状で利用者被害の可能性は低いため、監視にとどめる。 ※打音異常無し | M26: メモ | P26: 水平打ち継ぎ目(右側)沿いにうき。現状で利用者被害の可能性は低いため、監視にとどめる。 ※打音異常無し
C27: ※ 応急措置後の対策区分について添付すること。また、点検前に 実施された措置によりⅠと判定された箇所も添付すること。 | N27: ※ 変状の発生範囲の規模とは、対策を行う際に参考となる変状の長さや面積をいう。
N28: ※ 応急措置を実施しないで決定した変状の対策区分は、対策区分の応急措置後の欄に記入すること。
C29: ※ たたき落としを実施した場合は、実施後の写真を添付すること。 | N29: ※ 変状の発生範囲の規模は、面積・寸法を記載すること。(ひび割れ幅のみmmとし、その他をm表記とする)
N30: ※ 構造用鋼材以外の異物に伴ううき・はく離については、メモ欄に異物の概要を記入すること。

Sheet 様式D-1-1 (40)
B2: ■定期点検記録様式 変状写真台帳【様式D-1-1】 | R2: 施設ID | T2: 34.03558,132.05172
B3: フリガナ | E3: ナカヤマトンネル | H3: 路 線 名 | J3: 主要地方道柳井周東線 | M3: 定期点検実施者 | P3: 株式会社長大 | S3: 定期点検年月日 | U3: 45917
B4: 名 称 | E4: 中山トンネル | H4: 管理者名 | J4: 岩国土木建築事務所 | P4: 鷲尾 寛
B5: 写真 番号 | C5: 覆工スパン 番号 | E5: PE | M5: 写真 番号 | N5: 覆工スパン 番号 | P5: PE
C6: 変状番号 | E6: 55 | N6: 変状番号 | P6: 56
B7: 変状 部位 | C7: 対象箇所 | E7: 覆工 | M7: 変状 部位 | N7: 対象箇所 | P7: 覆工
C8: 部位区分 | E8: 側壁（右側） | N8: 部位区分 | P8: 側壁（右側）
B9: 変状種類 | E9: 補修・補強材の破損 | M9: 変状種類 | P9: 補修・補強材の破損
B10: 対策 区分 | C10: 変状区分 | E10: 材質劣化 | M10: 対策 区分 | N10: 変状区分 | P10: 材質劣化
C11: 応急措置前 | N11: 応急措置前
C12: 応急措置後 | E12: Ⅱb | N12: 応急措置後 | P12: Ⅱb
B13: 変状の発生範囲及び規模 | E13: 0.01m2(0.10m×0.05m) | H13: 前回変状の発生範囲及び規模 | J13: 0.05m×0.10m (判定Ⅱa) | M13: 変状の発生範囲及び規模 | P13: 0.04m2(0.40m×0.10m) | S13: 前回変状の発生範囲及び規模 | U13: 0.05m×0.40m (判定Ⅱa)
B14: 対策履歴 | E14: － | H14: 実施状況（実施日） | J14: － | M14: 対策履歴 | P14: － | S14: 実施状況（実施日） | U14: －
B15: メモ | E15: 側壁部(右側)に線導水破損(漏水なし)。現状で利用者被害の可能性は低いため、監視にとどめる。 | M15: メモ | P15: 側壁部(右側)に線導水破損(漏水なし)。現状で利用者被害の可能性は低いため、監視にとどめる。
B16: 写真 番号 | C16: 覆工スパン 番号 | E16: PE | M16: 写真 番号 | N16: 覆工スパン 番号 | P16: PE
C17: 変状番号 | E17: 59 | N17: 変状番号 | P17: 65
B18: 変状 部位 | C18: 対象箇所 | E18: 路面 | M18: 変状 部位 | N18: 対象箇所 | P18: 覆工
C19: 部位区分 | E19: 歩道 | N19: 部位区分 | P19: 側壁（左側）
B20: 変状種類 | E20: 滞水 | M20: 変状種類 | P20: 補修・補強材の破損
B21: 対策 区分 | C21: 変状区分 | E21: 漏水 | M21: 対策 区分 | N21: 変状区分 | P21: 材質劣化
C22: 応急措置前 | N22: 応急措置前
C23: 応急措置後 | E23: Ⅰ | N23: 応急措置後 | P23: Ⅱb
B24: 変状の発生範囲及び規模 | E24: 16.92m2(1.80m×9.40m) | H24: 前回変状の発生範囲及び規模 | J24: 規模記載なし (判定Ⅲ) | M24: 変状の発生範囲及び規模 | P24: 0.02m2(0.20m×0.10m) | S24: 前回変状の発生範囲及び規模 | U24: 今回新規変状
B25: 対策履歴 | E25: 清掃 | H25: 実施状況（実施日） | J25: － | M25: 対策履歴 | P25: － | S25: 実施状況（実施日） | U25: －
B26: メモ | E26: 前回排水溝の植生による排水不良が確認された滞水箇所は清掃されているためⅠ判定とする。 | M26: メモ | P26: 側壁部(左側)に線導水破損。新たに発生。現状で利用者被害の可能性は低いため、監視にとどめる。
C27: ※ 応急措置後の対策区分について添付すること。また、点検前に 実施された措置によりⅠと判定された箇所も添付すること。 | N27: ※ 変状の発生範囲の規模とは、対策を行う際に参考となる変状の長さや面積をいう。
N28: ※ 応急措置を実施しないで決定した変状の対策区分は、対策区分の応急措置後の欄に記入すること。
C29: ※ たたき落としを実施した場合は、実施後の写真を添付すること。 | N29: ※ 変状の発生範囲の規模は、面積・寸法を記載すること。(ひび割れ幅のみmmとし、その他をm表記とする)
N30: ※ 構造用鋼材以外の異物に伴ううき・はく離については、メモ欄に異物の概要を記入すること。

Sheet 様式D-1-1 (41)
B2: ■定期点検記録様式 変状写真台帳【様式D-1-1】 | R2: 施設ID | T2: 34.03558,132.05172
B3: フリガナ | E3: ナカヤマトンネル | H3: 路 線 名 | J3: 主要地方道柳井周東線 | M3: 定期点検実施者 | P3: 株式会社長大 | S3: 定期点検年月日 | U3: 45917
B4: 名 称 | E4: 中山トンネル | H4: 管理者名 | J4: 岩国土木建築事務所 | P4: 鷲尾 寛
B5: 写真 番号 | C5: 覆工スパン 番号 | E5: PE | M5: 写真 番号 | N5: 覆工スパン 番号
C6: 変状番号 | E6: 66 | N6: 変状番号
B7: 変状 部位 | C7: 対象箇所 | E7: 覆工 | M7: 変状 部位 | N7: 対象箇所
C8: 部位区分 | E8: アーチ（左側） | N8: 部位区分
B9: 変状種類 | E9: うき・はく離 | M9: 変状種類
B10: 対策 区分 | C10: 変状区分 | E10: 材質劣化 | M10: 対策 区分 | N10: 変状区分
C11: 応急措置前 | N11: 応急措置前
C12: 応急措置後 | E12: Ⅱa | N12: 応急措置後
B13: 変状の発生範囲及び規模 | E13: 0.01m2(0.05m×0.10m) | H13: 前回変状の発生範囲及び規模 | J13: 今回新規変状 | M13: 変状の発生範囲及び規模 | S13: 前回変状の発生範囲及び規模
B14: 対策履歴 | E14: － | H14: 実施状況（実施日） | J14: － | M14: 対策履歴 | S14: 実施状況（実施日）
B15: メモ | E15: アーチ部(左側)にひび割れ沿いのうき。新たに発生。将来的に利用者に影響が及ぶ可能性があるため、重点的な監視及び計画的な対策を必要とする。 ※打音異常無し | M15: メモ
B16: 写真 番号 | C16: 覆工スパン 番号 | M16: 写真 番号 | N16: 覆工スパン 番号
C17: 変状番号 | N17: 変状番号
B18: 変状 部位 | C18: 対象箇所 | M18: 変状 部位 | N18: 対象箇所
C19: 部位区分 | N19: 部位区分
B20: 変状種類 | M20: 変状種類
B21: 対策 区分 | C21: 変状区分 | M21: 対策 区分 | N21: 変状区分
C22: 応急措置前 | N22: 応急措置前
C23: 応急措置後 | N23: 応急措置後
B24: 変状の発生範囲及び規模 | H24: 前回変状の発生範囲及び規模 | M24: 変状の発生範囲及び規模 | S24: 前回変状の発生範囲及び規模
B25: 対策履歴 | H25: 実施状況（実施日） | M25: 対策履歴 | S25: 実施状況（実施日）
B26: メモ | M26: メモ
C27: ※ 応急措置後の対策区分について添付すること。また、点検前に 実施された措置によりⅠと判定された箇所も添付すること。 | N27: ※ 変状の発生範囲の規模とは、対策を行う際に参考となる変状の長さや面積をいう。
N28: ※ 応急措置を実施しないで決定した変状の対策区分は、対策区分の応急措置後の欄に記入すること。
C29: ※ たたき落としを実施した場合は、実施後の写真を添付すること。 | N29: ※ 変状の発生範囲の規模は、面積・寸法を記載すること。(ひび割れ幅のみmmとし、その他をm表記とする)
N30: ※ 構造用鋼材以外の異物に伴ううき・はく離については、メモ欄に異物の概要を記入すること。

Sheet 様式D-1-2 (1)
B2: ■定期点検記録様式 異常写真台帳（トンネル内附属物等の取付状態） 【様式D-1-2】
B3: フリガナ | E3: ナカヤマトンネル | I3: 路 線 名 | L3: 主要地方道柳井周東線 | O3: 定期点検実施者 | R3: 株式会社長大 | U3: 定期点検年月日 | W3: 45917
B4: 名 称 | E4: 中山トンネル | I4: 管理者名 | L4: 岩国土木建築事務所 | R4: 鷲尾 寛
B5: 覆工スパン番号 | E5: PS | F5: 異常番号 | I5: 1 | J5: 覆工スパン番号 | M5: PS | N5: 異常番号 | Q5: 2 | R5: 覆工スパン番号 | U5: PS | V5: 異常番号 | Y5: 3
B6: 対象箇所 | D6: その他施設 | E6: その他 | J6: 対象箇所 | L6: 照明施設 | M6: 灯具 | R6: 対象箇所 | T6: 照明施設 | U6: 灯具
B7: 部位区分 | D7: 附属物本体 | F7: 異常の種類 | H7: 変形，欠損 | J7: 部位区分 | L7: 附属物本体 | N7: 異常の種類 | P7: 腐食 | R7: 部位区分 | T7: 附属物本体 | V7: 異常の種類 | X7: 腐食
B8: 異常判定区分 | D8: × | E8: メモ | F8: デリネーターの破損 | J8: 異常判定区分 | L8: × | M8: メモ | N8: 照明の腐食 | R8: 異常判定区分 | T8: × | U8: メモ | V8: 照明の腐食
B22: 覆工スパン番号 | E22: PS | F22: 異常番号 | I22: 4 | J22: 覆工スパン番号 | M22: S001 | N22: 異常番号 | Q22: 1 | R22: 覆工スパン番号 | U22: S001 | V22: 異常番号 | Y22: 2
B23: 対象箇所 | D23: 照明施設 | E23: 灯具 | J23: 対象箇所 | L23: その他施設 | M23: その他 | R23: 対象箇所 | T23: 照明施設 | U23: 灯具
B24: 部位区分 | D24: 附属物本体 | F24: 異常の種類 | H24: 腐食 | J24: 部位区分 | L24: 附属物本体 | N24: 異常の種類 | P24: 変形，欠損 | R24: 部位区分 | T24: 附属物本体 | V24: 異常の種類 | X24: 腐食
B25: 異常判定区分 | D25: × | E25: メモ | F25: 照明の腐食 | J25: 異常判定区分 | L25: × | M25: メモ | N25: デリネーターの破損 | R25: 異常判定区分 | T25: × | U25: メモ | V25: 照明の腐食
C39: ※ 異常判定区分×について記入すること。また、応急措置前に異常判定区分×とした箇所のうち応急措置により○と判定した箇所も記入すること。
C40: ※ 応急措置を実施した場合は、その実施状況が分かる写真を添付すること。
C41: ※ 変状数に準じてシートを追加すること。

Sheet 様式D-1-2 (2)
B2: ■定期点検記録様式 異常写真台帳（トンネル内附属物等の取付状態） 【様式D-1-2】
B3: フリガナ | E3: ナカヤマトンネル | I3: 路 線 名 | L3: 主要地方道柳井周東線 | O3: 定期点検実施者 | R3: 株式会社長大 | U3: 定期点検年月日 | W3: 45917
B4: 名 称 | E4: 中山トンネル | I4: 管理者名 | L4: 岩国土木建築事務所 | R4: 鷲尾 寛
B5: 覆工スパン番号 | E5: S001 | F5: 異常番号 | I5: 3 | J5: 覆工スパン番号 | M5: S001 | N5: 異常番号 | Q5: 4 | R5: 覆工スパン番号 | U5: S002 | V5: 異常番号 | Y5: 1
B6: 対象箇所 | D6: 照明施設 | E6: 灯具 | J6: 対象箇所 | L6: 照明施設 | M6: 灯具 | R6: 対象箇所 | T6: 照明施設 | U6: 灯具
B7: 部位区分 | D7: 附属物本体 | F7: 異常の種類 | H7: 腐食 | J7: 部位区分 | L7: 附属物本体 | N7: 異常の種類 | P7: 腐食 | R7: 部位区分 | T7: 附属物本体 | V7: 異常の種類 | X7: 腐食
B8: 異常判定区分 | D8: × | E8: メモ | F8: 照明の腐食 | J8: 異常判定区分 | L8: × | M8: メモ | N8: 照明の腐食 | R8: 異常判定区分 | T8: × | U8: メモ | V8: 照明の腐食
B22: 覆工スパン番号 | E22: S003 | F22: 異常番号 | I22: 1 | J22: 覆工スパン番号 | M22: S004 | N22: 異常番号 | Q22: 1 | R22: 覆工スパン番号 | U22: S005 | V22: 異常番号 | Y22: 1
B23: 対象箇所 | D23: その他施設 | E23: その他 | J23: 対象箇所 | L23: 照明施設 | M23: 灯具 | R23: 対象箇所 | T23: その他施設 | U23: その他
B24: 部位区分 | D24: 附属物本体 | F24: 異常の種類 | H24: 変形，欠損 | J24: 部位区分 | L24: 附属物本体 | N24: 異常の種類 | P24: 腐食 | R24: 部位区分 | T24: 附属物本体 | V24: 異常の種類 | X24: 変形，欠損
B25: 異常判定区分 | D25: × | E25: メモ | F25: デリネーターの破損 | J25: 異常判定区分 | L25: × | M25: メモ | N25: 照明の腐食 | R25: 異常判定区分 | T25: × | U25: メモ | V25: デリネーターの破損
C39: ※ 異常判定区分×について記入すること。また、応急措置前に異常判定区分×とした箇所のうち応急措置により○と判定した箇所も記入すること。
C40: ※ 応急措置を実施した場合は、その実施状況が分かる写真を添付すること。
C41: ※ 変状数に準じてシートを追加すること。

Sheet 様式D-1-2 (3)
B2: ■定期点検記録様式 異常写真台帳（トンネル内附属物等の取付状態） 【様式D-1-2】
B3: フリガナ | E3: ナカヤマトンネル | I3: 路 線 名 | L3: 主要地方道柳井周東線 | O3: 定期点検実施者 | R3: 株式会社長大 | U3: 定期点検年月日 | W3: 45917
B4: 名 称 | E4: 中山トンネル | I4: 管理者名 | L4: 岩国土木建築事務所 | R4: 鷲尾 寛
B5: 覆工スパン番号 | E5: S006 | F5: 異常番号 | I5: 1 | J5: 覆工スパン番号 | M5: S010 | N5: 異常番号 | Q5: 1 | R5: 覆工スパン番号 | U5: PE | V5: 異常番号 | Y5: 1
B6: 対象箇所 | D6: その他施設 | E6: その他 | J6: 対象箇所 | L6: 照明施設 | M6: 灯具 | R6: 対象箇所 | T6: その他施設 | U6: その他
B7: 部位区分 | D7: 附属物本体 | F7: 異常の種類 | H7: 変形，欠損 | J7: 部位区分 | L7: 附属物本体 | N7: 異常の種類 | P7: 腐食 | R7: 部位区分 | T7: 附属物本体 | V7: 異常の種類 | X7: 変形，欠損
B8: 異常判定区分 | D8: × | E8: メモ | F8: デリネーターの破損 | J8: 異常判定区分 | L8: × | M8: メモ | N8: 照明の腐食 | R8: 異常判定区分 | T8: × | U8: メモ | V8: デリネーターの破損
B22: 覆工スパン番号 | F22: 異常番号 | J22: 覆工スパン番号 | N22: 異常番号 | R22: 覆工スパン番号 | V22: 異常番号
B23: 対象箇所 | J23: 対象箇所 | R23: 対象箇所
B24: 部位区分 | F24: 異常の種類 | J24: 部位区分 | N24: 異常の種類 | R24: 部位区分 | V24: 異常の種類
B25: 異常判定区分 | E25: メモ | J25: 異常判定区分 | M25: メモ | R25: 異常判定区分 | U25: メモ
C39: ※ 異常判定区分×について記入すること。また、応急措置前に異常判定区分×とした箇所のうち応急措置により○と判定した箇所も記入すること。
C40: ※ 応急措置を実施した場合は、その実施状況が分かる写真を添付すること。
C41: ※ 変状数に準じてシートを追加すること。

Sheet 様式D-2-1 (1)
B3: ■定期点検記録様式 トンネル全体変状展開図 【様式D-2-1】
B4: フリガナ | E4: ナカヤマトンネル | J4: 路線名 | M4: 主要地方道柳井周東線 | S4: 定期点検実施者 | W4: 株式会社長大 | AC4: 定期点検年月日 | AF4: 45917
B5: 名 称 | E5: 中山トンネル | J5: 管理者名 | M5: 岩国土木建築事務所 | W5: 鷲尾 寛
B6: トンネル変状展開図 | C6: トンネル全体変状展開図
V18: 注１：本展開図は、見下げた状態で記載すること。 注２：覆工スパン番号は横断目地毎（矢板工法の場合は上半アーチ の横断目地毎)に設定すること。 注３：横断目地の変状は前の覆工スパン番号で計上すること。 注４：１枚に収まらない場合は、複数枚に分けて作成すること。

Sheet 様式D-2-1 (2)
B3: ■定期点検記録様式 トンネル全体変状展開図 【様式D-2-1】
B4: フリガナ | E4: ナカヤマトンネル | J4: 路線名 | M4: 主要地方道柳井周東線 | S4: 定期点検実施者 | W4: 株式会社長大 | AC4: 定期点検年月日 | AF4: 45917
B5: 名 称 | E5: 中山トンネル | J5: 管理者名 | M5: 岩国土木建築事務所 | W5: 鷲尾 寛
B6: トンネル変状展開図 | C6: トンネル全体変状展開図
V18: 注１：本展開図は、見下げた状態で記載すること。 注２：覆工スパン番号は横断目地毎（矢板工法の場合は上半アーチ の横断目地毎)に設定すること。 注３：横断目地の変状は前の覆工スパン番号で計上すること。 注４：１枚に収まらない場合は、複数枚に分けて作成すること。

Sheet 様式D-2-1 (3)
B3: ■定期点検記録様式 トンネル全体変状展開図 【様式D-2-1】
B4: フリガナ | E4: ナカヤマトンネル | J4: 路線名 | M4: 主要地方道柳井周東線 | S4: 定期点検実施者 | W4: 株式会社長大 | AC4: 定期点検年月日 | AF4: 45917
B5: 名 称 | E5: 中山トンネル | J5: 管理者名 | M5: 岩国土木建築事務所 | W5: 鷲尾 寛
B6: トンネル変状展開図 | C6: トンネル全体変状展開図
V18: 注１：本展開図は、見下げた状態で記載すること。 注２：覆工スパン番号は横断目地毎（矢板工法の場合は上半アーチ の横断目地毎)に設定すること。 注３：横断目地の変状は前の覆工スパン番号で計上すること。 注４：１枚に収まらない場合は、複数枚に分けて作成すること。

Sheet 様式D-2-1´ (1)
B3: ■定期点検記録様式 トンネル全体変状展開図（機器の活用時） 【様式D-2-1’】
B4: フリガナ | E4: ナカヤマトンネル | J4: 路線名 | M4: 主要地方道柳井周東線 | S4: 定期点検実施者 | W4: 株式会社長大 | AC4: 定期点検年月日 | AF4: 45917
B5: 名 称 | E5: 中山トンネル | J5: 管理者名 | M5: 岩国土木建築事務所 | W5: 鷲尾 寛
B6: トンネル変状展開図 | C6: トンネル全体変状展開図
V18: 注１：本展開図は、見下げた状態で記載すること。 注２：覆工スパン番号は横断目地毎（矢板工法の場合は上半アーチ の横断目地毎)に設定すること。 注３：横断目地の変状は前の覆工スパン番号で計上すること。 注４：１枚に収まらない場合は、複数枚に分けて作成すること。

Sheet 様式D-2-1´ (2)
B3: ■定期点検記録様式 トンネル全体変状展開図（機器の活用時） 【様式D-2-1’】
B4: フリガナ | E4: ナカヤマトンネル | J4: 路線名 | M4: 主要地方道柳井周東線 | S4: 定期点検実施者 | W4: 株式会社長大 | AC4: 定期点検年月日 | AF4: 45917
B5: 名 称 | E5: 中山トンネル | J5: 管理者名 | M5: 岩国土木建築事務所 | W5: 鷲尾 寛
B6: トンネル変状展開図 | C6: トンネル全体変状展開図
V18: 注１：本展開図は、見下げた状態で記載すること。 注２：覆工スパン番号は横断目地毎（矢板工法の場合は上半アーチ の横断目地毎)に設定すること。 注３：横断目地の変状は前の覆工スパン番号で計上すること。 注４：１枚に収まらない場合は、複数枚に分けて作成すること。

Sheet 様式D-2-1´ (3)
B3: ■定期点検記録様式 トンネル全体変状展開図（機器の活用時） 【様式D-2-1’】
B4: フリガナ | E4: ナカヤマトンネル | J4: 路線名 | M4: 主要地方道柳井周東線 | S4: 定期点検実施者 | W4: 株式会社長大 | AC4: 定期点検年月日 | AF4: 45917
B5: 名 称 | E5: 中山トンネル | J5: 管理者名 | M5: 岩国土木建築事務所 | W5: 鷲尾 寛
B6: トンネル変状展開図 | C6: トンネル全体変状展開図
V18: 注１：本展開図は、見下げた状態で記載すること。 注２：覆工スパン番号は横断目地毎（矢板工法の場合は上半アーチ の横断目地毎)に設定すること。 注３：横断目地の変状は前の覆工スパン番号で計上すること。 注４：１枚に収まらない場合は、複数枚に分けて作成すること。

Sheet 様式D-3_PS
AU1: 様式F用→ | AV1: 覆工スパン | AY1: 変 状 数 | BK1: 変 状 規 模
AV2: 番号 | AW2: 延長 （ｍ） | AX2: 健全性の診断の 区分 | AY2: 対策区分の判定 | BK2: 覆工スパン長（ｍ） | BO2: 変状の発生範囲の規模（㎡）
B3: ■定期点検記録様式 覆工スパン別変状詳細展開図 【様式D-3】 | AY3: 外力 | BC3: 材質劣化 | BG3: 漏水 | BK3: 外力 注2 | BO3: 材質劣化 | BS3: 漏水
B4: フリガナ | E4: ナカヤマトンネル | K4: 路線名 | N4: 主要地方道柳井周東線 | T4: 定期点検実施者 | Y4: 株式会社長大 | AG4: 定期点検年月日 | AK4: 45917 | AY4: Ⅳ | AZ4: Ⅲ | BA4: Ⅱa | BB4: Ⅱb | BC4: Ⅳ | BD4: Ⅲ | BE4: Ⅱa | BF4: Ⅱb | BG4: Ⅳ | BH4: Ⅲ | BI4: Ⅱa | BJ4: Ⅱb | BK4: Ⅳ | BL4: Ⅲ | BM4: Ⅱa | BN4: Ⅱb | BO4: Ⅳ | BP4: Ⅲ | BQ4: Ⅱa | BR4: Ⅱb | BS4: Ⅳ | BT4: Ⅲ | BU4: Ⅱa | BV4: Ⅱb
B5: 名 称 | E5: 中山トンネル | K5: 管理者名 | N5: 岩国土木建築事務所 | Y5: 鷲尾 寛 | AV5: =N7 -> PS | AW5: =R7 -> 8.7 | AX5: =AM35 -> Ⅱ | AY5: =IF(Y37>0,Y37,"") | AZ5: =IF(Y37>0,"",IF(Z37>0,Z37,"")) | BA5: =IF(Y37+Z37>0,"",IF(AA37>0,AA37,"")) | BB5: =IF(Y37+Z37+AA37>0,"",IF(AB37>0,AB37,"")) | BC5: =AC37 -> 0 | BD5: =AD37 -> 0 | BE5: =AE37 -> 0 | BF5: =AF37 -> 9 | BG5: =AG37 -> 0 | BH5: =AH37 -> 0 | BI5: =AI37 -> 0 | BJ5: =AJ37 -> 0 | BK5: =IF(Y37>0,R7,"") | BL5: =IF(Y37>0,"",IF(Z37>0,R7,"")) | BM5: =IF(Y37+Z37>0,"",IF(AA37>0,R7,"")) | BN5: =IF(Y37+Z37+AA37>0,"",IF(AB37>0,R7,"")) | BO5: =AC35 -> 0 | BP5: =AD35 -> 0 | BQ5: =AE35 -> 0 | BR5: =AF35 -> 8.23 | BS5: =AG35 -> 0 | BT5: =AH35 -> 0 | BU5: =AI35 -> 0 | BV5: =AJ35 -> 0
B6: スパン別変状展開図 | K6: 【健全性判定集計表】
K7: スパン番号 | N7: PS | P7: スパン長 | R7: 8.7 | U7: 前回定期点検時の判定 | W7: 応急措置前の判定 | Y7: 対策区分毎の 変状の有無 | AC7: 対策区分毎の変状の発生範囲の規模(㎡) | AK7: 備考注2
K8: 変状番号 | L8: 対象箇所 | N8: 部位区分 | P8: 変状区分 | R8: 変状種類
Y9: 外力注1 | AC9: 材質劣化注1 | AG9: 漏水注1
Y10: Ⅳ | Z10: Ⅲ | AA10: Ⅱa | AB10: Ⅱb | AC10: Ⅳ | AD10: Ⅲ | AE10: Ⅱa | AF10: Ⅱb | AG10: Ⅳ | AH10: Ⅲ | AI10: Ⅱa | AJ10: Ⅱb
K11: 2 | L11: 覆工 | N11: 横断目地（左側） | P11: 材質劣化 | R11: 補修・補強材の破損 | U11: Ⅱb | AF11: 0.16 | AQ11: =IF(P11="材質劣化",2,IF(P11="漏水",3,1)) -> 2 | AS11: =IF(Y11<>"",1,"")
K12: 9 | L12: 覆工 | N12: 横断目地（天端） | P12: 材質劣化 | R12: 補修・補強材の破損 | U12: Ⅱa | AF12: 0.01 | AQ12: =IF(P12="材質劣化",2,IF(P12="漏水",3,1)) -> 2
K13: 17 | L13: 覆工 | N13: アーチ（左側） | P13: 材質劣化 | R13: 圧ざ、ひび割れ | U13: Ⅱb | AF13: 6.7 | AQ13: =IF(P13="材質劣化",2,IF(P13="漏水",3,1)) -> 2
K14: 26 | L14: 覆工 | N14: アーチ（左側） | P14: 材質劣化 | R14: 鋼材腐食 | U14: Ⅱb | AF14: 0.01 | AQ14: =IF(P14="材質劣化",2,IF(P14="漏水",3,1)) -> 2
K15: 51 | L15: 覆工 | N15: 水平打ち継ぎ目（左側） | P15: 材質劣化 | R15: うき・はく離 | U15: Ⅱa | AF15: 0.08 | AQ15: =IF(P15="材質劣化",2,IF(P15="漏水",3,1)) -> 2
K16: 52 | L16: 覆工 | N16: 水平打ち継ぎ目（左側） | P16: 材質劣化 | R16: うき・はく離 | U16: Ⅱa | AF16: 0.75 | AQ16: =IF(P16="材質劣化",2,IF(P16="漏水",3,1)) -> 2
K17: 53 | L17: 覆工 | N17: 水平打ち継ぎ目（右側） | P17: 材質劣化 | R17: うき・はく離 | U17: Ⅱa | AF17: 0.5 | AQ17: =IF(P17="材質劣化",2,IF(P17="漏水",3,1)) -> 2
K18: 56 | L18: 坑門 | N18: 面壁・妻壁等 | P18: 材質劣化 | R18: うき・はく離 | U18: － | AF18: 0.01 | AQ18: =IF(P18="材質劣化",2,IF(P18="漏水",3,1)) -> 2
K19: 57 | L19: 覆工 | N19: 横断目地（右側） | P19: 材質劣化 | R19: 補修・補強材の破損 | U19: － | AF19: 0.01 | AQ19: =IF(P19="材質劣化",2,IF(P19="漏水",3,1)) -> 2
K20: 58 | L20: 路面 | N20: 側溝 | R20: その他 | U20: － | AK20: 5箇所 | AQ20: =IF(P20="材質劣化",2,IF(P20="漏水",3,1)) -> 1
K21: 11 | AQ21: =IF(P21="材質劣化",2,IF(P21="漏水",3,1)) -> 1
K22: 12 | AQ22: =IF(P22="材質劣化",2,IF(P22="漏水",3,1)) -> 1
K23: 13 | AQ23: =IF(P23="材質劣化",2,IF(P23="漏水",3,1)) -> 1
K24: 14 | AQ24: =IF(P24="材質劣化",2,IF(P24="漏水",3,1)) -> 1
K25: 15 | AQ25: =IF(P25="材質劣化",2,IF(P25="漏水",3,1)) -> 1
K26: 16 | AQ26: =IF(P26="材質劣化",2,IF(P26="漏水",3,1)) -> 1
K27: 17 | AQ27: =IF(P27="材質劣化",2,IF(P27="漏水",3,1)) -> 1
K28: 18 | AQ28: =IF(P30="材質劣化",2,IF(P30="漏水",3,1)) -> 1
K29: 19 | AQ29: =IF(P34="材質劣化",2,IF(P34="漏水",3,1)) -> 1
K30: 20 | AQ30: =IF(P30="材質劣化",2,IF(P30="漏水",3,1)) -> 1
K31: 21 | AQ31: =IF(P33="材質劣化",2,IF(P33="漏水",3,1)) -> 1
K32: 22 | AQ32: =IF(P37="材質劣化",2,IF(P37="漏水",3,1)) -> 1
K33: 23 | AQ33: =IF(P33="材質劣化",2,IF(P33="漏水",3,1)) -> 1
K34: 24 | AQ34: =IF(P36="材質劣化",2,IF(P36="漏水",3,1)) -> 1
K35: 集計 判定 診断 | L35: 変状の発生規模合計(㎡) | Y35: － | AC35: =SUM(AC11:AC34) -> 0 | AD35: =SUM(AD11:AD34) -> 0 | AE35: =SUM(AE11:AE34) -> 0 | AF35: =SUM(AF11:AF34) -> 8.23 | AG35: =SUM(AG11:AG34) -> 0 | AH35: =SUM(AH11:AH34) -> 0 | AI35: =SUM(AI11:AI34) -> 0 | AJ35: =SUM(AJ11:AJ34) -> 0 | AK35: 覆工スパン単位の 健全性の 診断の区分 | AM35: Ⅱ
L36: 対策区分の 判定結果 | O36: 対策区分毎の変状数注3 | Y36: Ⅳ | Z36: Ⅲ | AA36: Ⅱa | AB36: Ⅱb | AC36: Ⅳ | AD36: Ⅲ | AE36: Ⅱa | AF36: Ⅱb | AG36: Ⅳ | AH36: Ⅲ | AI36: Ⅱa | AJ36: Ⅱb
Y37: =IF(COUNTIF(Y11:Y34,"〇")>0,1,0) -> 0 | Z37: =IF(COUNTIF(Z11:Z34,"〇")>0,1,0) -> 0 | AA37: =IF(COUNTIF(AA11:AA34,"〇")>0,1,0) -> 0 | AB37: =IF(COUNTIF(AB11:AB34,"〇")>0,1,0) -> 0 | AC37: =COUNTA(AC11:AC34) -> 0 | AD37: =COUNTA(AD11:AD34) -> 0 | AE37: =COUNTA(AE11:AE34) -> 0 | AF37: =COUNTA(AF11:AF34) -> 9 | AG37: =COUNTA(AG11:AG34) -> 0 | AH37: =COUNTA(AH11:AH34) -> 0 | AI37: =COUNTA(AI11:AI34) -> 0 | AJ37: =COUNTA(AJ11:AJ34) -> 0 | AU37: =+Y37 -> 0
K39: 所見
K43: 注1：誤記入防止のため、当該変状区分以外のセルは灰色表示とすること。
K44: 注2：応急措置を実施した場合は、その詳細を備考に記載すること。
K45: 注3：外力は覆工スパン単位、材質劣化、漏水は変状単位とすること。
B46: （以下、印刷不要）
B47: ※1：本シートは作成洩れのないよう、変状が無くても全スパン分を作成すること．また変状展開図は、様式D-2-1、様式D-2-1'と同じものを覆工スパン単位で拡大し掲載すること。
B48: ※2：変状番号は、様式D-1-1で記入した番号と整合させること。
B49: ※3：対策区分毎の変状発生規模は、様式D-1-1に記載した面積を記入すること（ただし外力はスパン単位で評価するため変状の有無の欄には面積でなく○を記入し、備考欄に状況を記入）。
B50: ※4：本様式は覆工スパン毎に作成すること。
B51: ※5：変状数が多い場合は、適時、表の行を増やして覆工スパン毎に1枚のシートに収めること。また、1スパン１シートとし、スパンに合わせてシートを追加すること。
B52: ※6：対策区分毎の変状の発生範囲の規模とは，対策を行う際に参考となる変状の長さや面積であり，変状を包含する長さや面積とする。
B53: ※7：対策範囲を示す発生範囲の規模を面積で記入することが妥当ではない変状は、発生範囲の規模の欄に○を記入するとともに、備考に内容を記入すること。

Sheet 様式D-3_S001
AU1: 様式F用→ | AV1: 覆工スパン | AY1: 変 状 数 | BK1: 変 状 規 模
AV2: 番号 | AW2: 延長 （ｍ） | AX2: 健全性の診断の 区分 | AY2: 対策区分の判定 | BK2: 覆工スパン長（ｍ） | BO2: 変状の発生範囲の規模（㎡）
B3: ■定期点検記録様式 覆工スパン別変状詳細展開図 【様式D-3】 | AY3: 外力 | BC3: 材質劣化 | BG3: 漏水 | BK3: 外力 注2 | BO3: 材質劣化 | BS3: 漏水
B4: フリガナ | E4: ナカヤマトンネル | K4: 路線名 | N4: 主要地方道柳井周東線 | T4: 定期点検実施者 | Y4: 株式会社長大 | AG4: 定期点検年月日 | AK4: 45917 | AY4: Ⅳ | AZ4: Ⅲ | BA4: Ⅱa | BB4: Ⅱb | BC4: Ⅳ | BD4: Ⅲ | BE4: Ⅱa | BF4: Ⅱb | BG4: Ⅳ | BH4: Ⅲ | BI4: Ⅱa | BJ4: Ⅱb | BK4: Ⅳ | BL4: Ⅲ | BM4: Ⅱa | BN4: Ⅱb | BO4: Ⅳ | BP4: Ⅲ | BQ4: Ⅱa | BR4: Ⅱb | BS4: Ⅳ | BT4: Ⅲ | BU4: Ⅱa | BV4: Ⅱb
B5: 名 称 | E5: 中山トンネル | K5: 管理者名 | N5: 岩国土木建築事務所 | Y5: 鷲尾 寛 | AV5: =N7 -> S001 | AW5: =R7 -> 10.5 | AX5: =AM35 -> Ⅱ | AY5: =IF(Y37>0,Y37,"") | AZ5: =IF(Y37>0,"",IF(Z37>0,Z37,"")) | BA5: =IF(Y37+Z37>0,"",IF(AA37>0,AA37,"")) | BB5: =IF(Y37+Z37+AA37>0,"",IF(AB37>0,AB37,"")) | BC5: =AC37 -> 0 | BD5: =AD37 -> 0 | BE5: =AE37 -> 1 | BF5: =AF37 -> 8 | BG5: =AG37 -> 0 | BH5: =AH37 -> 0 | BI5: =AI37 -> 0 | BJ5: =AJ37 -> 0 | BK5: =IF(Y37>0,R7,"") | BL5: =IF(Y37>0,"",IF(Z37>0,R7,"")) | BM5: =IF(Y37+Z37>0,"",IF(AA37>0,R7,"")) | BN5: =IF(Y37+Z37+AA37>0,"",IF(AB37>0,R7,"")) | BO5: =AC35 -> 0 | BP5: =AD35 -> 0 | BQ5: =AE35 -> 0.06 | BR5: =AF35 -> 2.16 | BS5: =AG35 -> 0 | BT5: =AH35 -> 0 | BU5: =AI35 -> 0 | BV5: =AJ35 -> 0
B6: スパン別変状展開図 | K6: 【健全性判定集計表】
K7: スパン番号 | N7: S001 | P7: スパン長 | R7: 10.5 | U7: 前回定期点検時の判定 | W7: 応急措置前の判定 | Y7: 対策区分毎の 変状の有無 | AC7: 対策区分毎の変状の発生範囲の規模(㎡) | AK7: 備考注2
K8: 変状番号 | L8: 対象箇所 | N8: 部位区分 | P8: 変状区分 | R8: 変状種類
Y9: 外力注1 | AC9: 材質劣化注1 | AG9: 漏水注1
Y10: Ⅳ | Z10: Ⅲ | AA10: Ⅱa | AB10: Ⅱb | AC10: Ⅳ | AD10: Ⅲ | AE10: Ⅱa | AF10: Ⅱb | AG10: Ⅳ | AH10: Ⅲ | AI10: Ⅱa | AJ10: Ⅱb
K11: 36 | L11: 覆工 | N11: アーチ（右側） | P11: 材質劣化 | R11: 鋼材腐食 | U11: Ⅱb | AF11: 0.02 | AQ11: =IF(P11="材質劣化",2,IF(P11="漏水",3,1)) -> 2 | AS11: =IF(Y11<>"",1,"")
K12: 37 | L12: 覆工 | N12: 横断目地（天端） | P12: 材質劣化 | R12: うき・はく離 | U12: Ⅱa | AE12: 0.06 | AQ12: =IF(P12="材質劣化",2,IF(P12="漏水",3,1)) -> 2
K13: 38 | L13: 覆工 | N13: 水平打ち継ぎ目（左側） | P13: 材質劣化 | R13: うき・はく離 | U13: Ⅱa | AF13: 1.05 | AQ13: =IF(P13="材質劣化",2,IF(P13="漏水",3,1)) -> 2
K14: 39 | L14: 覆工 | N14: 側壁（左側） | P14: 材質劣化 | R14: うき・はく離 | U14: Ⅱb | AF14: 0.06 | AQ14: =IF(P14="材質劣化",2,IF(P14="漏水",3,1)) -> 2
K15: 40 | L15: 覆工 | N15: 側壁（左側） | P15: 材質劣化 | R15: うき・はく離 | U15: Ⅱb | AF15: 0.1 | AQ15: =IF(P15="材質劣化",2,IF(P15="漏水",3,1)) -> 2
K16: 43 | L16: 覆工 | N16: 側壁（左側） | P16: 材質劣化 | R16: うき・はく離 | U16: Ⅱb | AF16: 0.03 | AQ16: =IF(P16="材質劣化",2,IF(P16="漏水",3,1)) -> 2
K17: 44 | L17: 覆工 | N17: 水平打ち継ぎ目（右側） | P17: 材質劣化 | R17: うき・はく離 | U17: Ⅱb | AF17: 0.66 | AQ17: =IF(P17="材質劣化",2,IF(P17="漏水",3,1)) -> 2
K18: 45 | L18: 路面 | N18: 側溝 | R18: その他 | U18: Ⅱb | AK18: 14箇所 | AQ18: =IF(P18="材質劣化",2,IF(P18="漏水",3,1)) -> 1
K19: 47 | L19: 覆工 | N19: 側壁（右側） | P19: 材質劣化 | R19: 補修・補強材の破損 | U19: － | AF19: 0.02 | AQ19: =IF(P19="材質劣化",2,IF(P19="漏水",3,1)) -> 2
K20: 48 | L20: 覆工 | N20: 水平打ち継ぎ目（右側） | P20: 材質劣化 | R20: うき・はく離 | U20: Ⅱa | AF20: 0.22 | AQ20: =IF(P20="材質劣化",2,IF(P20="漏水",3,1)) -> 2
K21: 11 | AQ21: =IF(P21="材質劣化",2,IF(P21="漏水",3,1)) -> 1
K22: 12 | AQ22: =IF(P22="材質劣化",2,IF(P22="漏水",3,1)) -> 1
K23: 13 | AQ23: =IF(P23="材質劣化",2,IF(P23="漏水",3,1)) -> 1
K24: 14 | AQ24: =IF(P24="材質劣化",2,IF(P24="漏水",3,1)) -> 1
K25: 15 | AQ25: =IF(P25="材質劣化",2,IF(P25="漏水",3,1)) -> 1
K26: 16 | AQ26: =IF(P26="材質劣化",2,IF(P26="漏水",3,1)) -> 1
K27: 17 | AQ27: =IF(P27="材質劣化",2,IF(P27="漏水",3,1)) -> 1
K28: 18 | AQ28: =IF(P30="材質劣化",2,IF(P30="漏水",3,1)) -> 1
K29: 19 | AQ29: =IF(P34="材質劣化",2,IF(P34="漏水",3,1)) -> 1
K30: 20 | AQ30: =IF(P30="材質劣化",2,IF(P30="漏水",3,1)) -> 1
K31: 21 | AQ31: =IF(P33="材質劣化",2,IF(P33="漏水",3,1)) -> 1
K32: 22 | AQ32: =IF(P37="材質劣化",2,IF(P37="漏水",3,1)) -> 1
K33: 23 | AQ33: =IF(P33="材質劣化",2,IF(P33="漏水",3,1)) -> 1
K34: 24 | AQ34: =IF(P36="材質劣化",2,IF(P36="漏水",3,1)) -> 1
K35: 集計 判定 診断 | L35: 変状の発生規模合計(㎡) | Y35: － | AC35: =SUM(AC11:AC34) -> 0 | AD35: =SUM(AD11:AD34) -> 0 | AE35: =SUM(AE11:AE34) -> 0.06 | AF35: =SUM(AF11:AF34) -> 2.16 | AG35: =SUM(AG11:AG34) -> 0 | AH35: =SUM(AH11:AH34) -> 0 | AI35: =SUM(AI11:AI34) -> 0 | AJ35: =SUM(AJ11:AJ34) -> 0 | AK35: 覆工スパン単位の 健全性の 診断の区分 | AM35: Ⅱ
L36: 対策区分の 判定結果 | O36: 対策区分毎の変状数注3 | Y36: Ⅳ | Z36: Ⅲ | AA36: Ⅱa | AB36: Ⅱb | AC36: Ⅳ | AD36: Ⅲ | AE36: Ⅱa | AF36: Ⅱb | AG36: Ⅳ | AH36: Ⅲ | AI36: Ⅱa | AJ36: Ⅱb
Y37: =IF(COUNTIF(Y11:Y34,"〇")>0,1,0) -> 0 | Z37: =IF(COUNTIF(Z11:Z34,"〇")>0,1,0) -> 0 | AA37: =IF(COUNTIF(AA11:AA34,"〇")>0,1,0) -> 0 | AB37: =IF(COUNTIF(AB11:AB34,"〇")>0,1,0) -> 0 | AC37: =COUNTA(AC11:AC34) -> 0 | AD37: =COUNTA(AD11:AD34) -> 0 | AE37: =COUNTA(AE11:AE34) -> 1 | AF37: =COUNTA(AF11:AF34) -> 8 | AG37: =COUNTA(AG11:AG34) -> 0 | AH37: =COUNTA(AH11:AH34) -> 0 | AI37: =COUNTA(AI11:AI34) -> 0 | AJ37: =COUNTA(AJ11:AJ34) -> 0 | AU37: =+Y37 -> 0
K39: 所見
K43: 注1：誤記入防止のため、当該変状区分以外のセルは灰色表示とすること。
K44: 注2：応急措置を実施した場合は、その詳細を備考に記載すること。
K45: 注3：外力は覆工スパン単位、材質劣化、漏水は変状単位とすること。
B46: （以下、印刷不要）
B47: ※1：本シートは作成洩れのないよう、変状が無くても全スパン分を作成すること．また変状展開図は、様式D-2-1、様式D-2-1'と同じものを覆工スパン単位で拡大し掲載すること。
B48: ※2：変状番号は、様式D-1-1で記入した番号と整合させること。
B49: ※3：対策区分毎の変状発生規模は、様式D-1-1に記載した面積を記入すること（ただし外力はスパン単位で評価するため変状の有無の欄には面積でなく○を記入し、備考欄に状況を記入）。
B50: ※4：本様式は覆工スパン毎に作成すること。
B51: ※5：変状数が多い場合は、適時、表の行を増やして覆工スパン毎に1枚のシートに収めること。また、1スパン１シートとし、スパンに合わせてシートを追加すること。
B52: ※6：対策区分毎の変状の発生範囲の規模とは，対策を行う際に参考となる変状の長さや面積であり，変状を包含する長さや面積とする。
B53: ※7：対策範囲を示す発生範囲の規模を面積で記入することが妥当ではない変状は、発生範囲の規模の欄に○を記入するとともに、備考に内容を記入すること。

Sheet 様式D-3_S002
AU1: 様式F用→ | AV1: 覆工スパン | AY1: 変 状 数 | BK1: 変 状 規 模
AV2: 番号 | AW2: 延長 （ｍ） | AX2: 健全性の診断の 区分 | AY2: 対策区分の判定 | BK2: 覆工スパン長（ｍ） | BO2: 変状の発生範囲の規模（㎡）
B3: ■定期点検記録様式 覆工スパン別変状詳細展開図 【様式D-3】 | AY3: 外力 | BC3: 材質劣化 | BG3: 漏水 | BK3: 外力 注2 | BO3: 材質劣化 | BS3: 漏水
B4: フリガナ | E4: ナカヤマトンネル | K4: 路線名 | N4: 主要地方道柳井周東線 | T4: 定期点検実施者 | Y4: 株式会社長大 | AG4: 定期点検年月日 | AK4: 45917 | AY4: Ⅳ | AZ4: Ⅲ | BA4: Ⅱa | BB4: Ⅱb | BC4: Ⅳ | BD4: Ⅲ | BE4: Ⅱa | BF4: Ⅱb | BG4: Ⅳ | BH4: Ⅲ | BI4: Ⅱa | BJ4: Ⅱb | BK4: Ⅳ | BL4: Ⅲ | BM4: Ⅱa | BN4: Ⅱb | BO4: Ⅳ | BP4: Ⅲ | BQ4: Ⅱa | BR4: Ⅱb | BS4: Ⅳ | BT4: Ⅲ | BU4: Ⅱa | BV4: Ⅱb
B5: 名 称 | E5: 中山トンネル | K5: 管理者名 | N5: 岩国土木建築事務所 | Y5: 鷲尾 寛 | AV5: =N7 -> S002 | AW5: =R7 -> 10.5 | AX5: =AM35 -> Ⅱ | AY5: =IF(Y37>0,Y37,"") | AZ5: =IF(Y37>0,"",IF(Z37>0,Z37,"")) | BA5: =IF(Y37+Z37>0,"",IF(AA37>0,AA37,"")) | BB5: =IF(Y37+Z37+AA37>0,"",IF(AB37>0,AB37,"")) | BC5: =AC37 -> 0 | BD5: =AD37 -> 0 | BE5: =AE37 -> 1 | BF5: =AF37 -> 6 | BG5: =AG37 -> 0 | BH5: =AH37 -> 0 | BI5: =AI37 -> 0 | BJ5: =AJ37 -> 0 | BK5: =IF(Y37>0,R7,"") | BL5: =IF(Y37>0,"",IF(Z37>0,R7,"")) | BM5: =IF(Y37+Z37>0,"",IF(AA37>0,R7,"")) | BN5: =IF(Y37+Z37+AA37>0,"",IF(AB37>0,R7,"")) | BO5: =AC35 -> 0 | BP5: =AD35 -> 0 | BQ5: =AE35 -> 0.03 | BR5: =AF35 -> 12.66 | BS5: =AG35 -> 0 | BT5: =AH35 -> 0 | BU5: =AI35 -> 0 | BV5: =AJ35 -> 0
B6: スパン別変状展開図 | K6: 【健全性判定集計表】
K7: スパン番号 | N7: S002 | P7: スパン長 | R7: 10.5 | U7: 前回定期点検時の判定 | W7: 応急措置前の判定 | Y7: 対策区分毎の 変状の有無 | AC7: 対策区分毎の変状の発生範囲の規模(㎡) | AK7: 備考注2
K8: 変状番号 | L8: 対象箇所 | N8: 部位区分 | P8: 変状区分 | R8: 変状種類
Y9: 外力注1 | AC9: 材質劣化注1 | AG9: 漏水注1
Y10: Ⅳ | Z10: Ⅲ | AA10: Ⅱa | AB10: Ⅱb | AC10: Ⅳ | AD10: Ⅲ | AE10: Ⅱa | AF10: Ⅱb | AG10: Ⅳ | AH10: Ⅲ | AI10: Ⅱa | AJ10: Ⅱb
K11: 1 | L11: 覆工 | N11: アーチ（左側） | P11: 材質劣化 | R11: 圧ざ、ひび割れ | U11: Ⅱb | AF11: 10.8 | AQ11: =IF(P11="材質劣化",2,IF(P11="漏水",3,1)) -> 2 | AS11: =IF(Y11<>"",1,"")
K12: 8 | L12: 覆工 | N12: アーチ（天端） | P12: 材質劣化 | R12: うき・はく離 | U12: Ⅱb | AF12: 0.02 | AQ12: =IF(P12="材質劣化",2,IF(P12="漏水",3,1)) -> 2
K13: 13 | L13: 覆工 | N13: アーチ（天端） | P13: 材質劣化 | R13: うき・はく離 | U13: Ⅱb | AE13: 0.03 | AQ13: =IF(P13="材質劣化",2,IF(P13="漏水",3,1)) -> 2
K14: 28 | L14: 覆工 | N14: 水平打ち継ぎ目（左側） | P14: 材質劣化 | R14: うき・はく離 | U14: Ⅱa | AF14: 1.05 | AQ14: =IF(P14="材質劣化",2,IF(P14="漏水",3,1)) -> 2
K15: 32 | L15: 覆工 | N15: 水平打ち継ぎ目（右側） | P15: 材質劣化 | R15: うき・はく離 | U15: Ⅱa | AF15: 0.28 | AQ15: =IF(P15="材質劣化",2,IF(P15="漏水",3,1)) -> 2
K16: 33 | L16: 覆工 | N16: 水平打ち継ぎ目（右側） | P16: 材質劣化 | R16: うき・はく離 | U16: Ⅱa | AF16: 0.48 | AQ16: =IF(P16="材質劣化",2,IF(P16="漏水",3,1)) -> 2
K17: 36 | L17: 覆工 | N17: 横断目地（右側） | P17: 材質劣化 | R17: 補修・補強材の破損 | U17: － | AF17: 0.03 | AQ17: =IF(P17="材質劣化",2,IF(P17="漏水",3,1)) -> 2
K18: 37 | L18: 路面 | N18: 側溝 | R18: その他 | U18: － | AK18: 3箇所 | AQ18: =IF(P18="材質劣化",2,IF(P18="漏水",3,1)) -> 1
K19: 9 | AQ19: =IF(P19="材質劣化",2,IF(P19="漏水",3,1)) -> 1
K20: 10 | AQ20: =IF(P20="材質劣化",2,IF(P20="漏水",3,1)) -> 1
K21: 11 | AQ21: =IF(P21="材質劣化",2,IF(P21="漏水",3,1)) -> 1
K22: 12 | AQ22: =IF(P22="材質劣化",2,IF(P22="漏水",3,1)) -> 1
K23: 13 | AQ23: =IF(P23="材質劣化",2,IF(P23="漏水",3,1)) -> 1
K24: 14 | AQ24: =IF(P24="材質劣化",2,IF(P24="漏水",3,1)) -> 1
K25: 15 | AQ25: =IF(P25="材質劣化",2,IF(P25="漏水",3,1)) -> 1
K26: 16 | AQ26: =IF(P26="材質劣化",2,IF(P26="漏水",3,1)) -> 1
K27: 17 | AQ27: =IF(P27="材質劣化",2,IF(P27="漏水",3,1)) -> 1
K28: 18 | AQ28: =IF(P30="材質劣化",2,IF(P30="漏水",3,1)) -> 1
K29: 19 | AQ29: =IF(P34="材質劣化",2,IF(P34="漏水",3,1)) -> 1
K30: 20 | AQ30: =IF(P30="材質劣化",2,IF(P30="漏水",3,1)) -> 1
K31: 21 | AQ31: =IF(P33="材質劣化",2,IF(P33="漏水",3,1)) -> 1
K32: 22 | AQ32: =IF(P37="材質劣化",2,IF(P37="漏水",3,1)) -> 1
K33: 23 | AQ33: =IF(P33="材質劣化",2,IF(P33="漏水",3,1)) -> 1
K34: 24 | AQ34: =IF(P36="材質劣化",2,IF(P36="漏水",3,1)) -> 1
K35: 集計 判定 診断 | L35: 変状の発生規模合計(㎡) | Y35: － | AC35: =SUM(AC11:AC34) -> 0 | AD35: =SUM(AD11:AD34) -> 0 | AE35: =SUM(AE11:AE34) -> 0.03 | AF35: =SUM(AF11:AF34) -> 12.66 | AG35: =SUM(AG11:AG34) -> 0 | AH35: =SUM(AH11:AH34) -> 0 | AI35: =SUM(AI11:AI34) -> 0 | AJ35: =SUM(AJ11:AJ34) -> 0 | AK35: 覆工スパン単位の 健全性の 診断の区分 | AM35: Ⅱ
L36: 対策区分の 判定結果 | O36: 対策区分毎の変状数注3 | Y36: Ⅳ | Z36: Ⅲ | AA36: Ⅱa | AB36: Ⅱb | AC36: Ⅳ | AD36: Ⅲ | AE36: Ⅱa | AF36: Ⅱb | AG36: Ⅳ | AH36: Ⅲ | AI36: Ⅱa | AJ36: Ⅱb
Y37: =IF(COUNTIF(Y11:Y34,"〇")>0,1,0) -> 0 | Z37: =IF(COUNTIF(Z11:Z34,"〇")>0,1,0) -> 0 | AA37: =IF(COUNTIF(AA11:AA34,"〇")>0,1,0) -> 0 | AB37: =IF(COUNTIF(AB11:AB34,"〇")>0,1,0) -> 0 | AC37: =COUNTA(AC11:AC34) -> 0 | AD37: =COUNTA(AD11:AD34) -> 0 | AE37: =COUNTA(AE11:AE34) -> 1 | AF37: =COUNTA(AF11:AF34) -> 6 | AG37: =COUNTA(AG11:AG34) -> 0 | AH37: =COUNTA(AH11:AH34) -> 0 | AI37: =COUNTA(AI11:AI34) -> 0 | AJ37: =COUNTA(AJ11:AJ34) -> 0 | AU37: =+Y37 -> 0
K39: 所見
K43: 注1：誤記入防止のため、当該変状区分以外のセルは灰色表示とすること。
K44: 注2：応急措置を実施した場合は、その詳細を備考に記載すること。
K45: 注3：外力は覆工スパン単位、材質劣化、漏水は変状単位とすること。
B46: （以下、印刷不要）
B47: ※1：本シートは作成洩れのないよう、変状が無くても全スパン分を作成すること．また変状展開図は、様式D-2-1、様式D-2-1'と同じものを覆工スパン単位で拡大し掲載すること。
B48: ※2：変状番号は、様式D-1-1で記入した番号と整合させること。
B49: ※3：対策区分毎の変状発生規模は、様式D-1-1に記載した面積を記入すること（ただし外力はスパン単位で評価するため変状の有無の欄には面積でなく○を記入し、備考欄に状況を記入）。
B50: ※4：本様式は覆工スパン毎に作成すること。
B51: ※5：変状数が多い場合は、適時、表の行を増やして覆工スパン毎に1枚のシートに収めること。また、1スパン１シートとし、スパンに合わせてシートを追加すること。
B52: ※6：対策区分毎の変状の発生範囲の規模とは，対策を行う際に参考となる変状の長さや面積であり，変状を包含する長さや面積とする。
B53: ※7：対策範囲を示す発生範囲の規模を面積で記入することが妥当ではない変状は、発生範囲の規模の欄に○を記入するとともに、備考に内容を記入すること。

Sheet 様式D-3_S003
AU1: 様式F用→ | AV1: 覆工スパン | AY1: 変 状 数 | BK1: 変 状 規 模
AV2: 番号 | AW2: 延長 （ｍ） | AX2: 健全性の診断の 区分 | AY2: 対策区分の判定 | BK2: 覆工スパン長（ｍ） | BO2: 変状の発生範囲の規模（㎡）
B3: ■定期点検記録様式 覆工スパン別変状詳細展開図 【様式D-3】 | AY3: 外力 | BC3: 材質劣化 | BG3: 漏水 | BK3: 外力 注2 | BO3: 材質劣化 | BS3: 漏水
B4: フリガナ | E4: ナカヤマトンネル | K4: 路線名 | N4: 主要地方道柳井周東線 | T4: 定期点検実施者 | Y4: 株式会社長大 | AG4: 定期点検年月日 | AK4: 45917 | AY4: Ⅳ | AZ4: Ⅲ | BA4: Ⅱa | BB4: Ⅱb | BC4: Ⅳ | BD4: Ⅲ | BE4: Ⅱa | BF4: Ⅱb | BG4: Ⅳ | BH4: Ⅲ | BI4: Ⅱa | BJ4: Ⅱb | BK4: Ⅳ | BL4: Ⅲ | BM4: Ⅱa | BN4: Ⅱb | BO4: Ⅳ | BP4: Ⅲ | BQ4: Ⅱa | BR4: Ⅱb | BS4: Ⅳ | BT4: Ⅲ | BU4: Ⅱa | BV4: Ⅱb
B5: 名 称 | E5: 中山トンネル | K5: 管理者名 | N5: 岩国土木建築事務所 | Y5: 鷲尾 寛 | AV5: =N7 -> S003 | AW5: =R7 -> 10.5 | AX5: =AM35 -> Ⅱ | AY5: =IF(Y37>0,Y37,"") | AZ5: =IF(Y37>0,"",IF(Z37>0,Z37,"")) | BA5: =IF(Y37+Z37>0,"",IF(AA37>0,AA37,"")) | BB5: =IF(Y37+Z37+AA37>0,"",IF(AB37>0,AB37,"")) | BC5: =AC37 -> 0 | BD5: =AD37 -> 0 | BE5: =AE37 -> 1 | BF5: =AF37 -> 10 | BG5: =AG37 -> 0 | BH5: =AH37 -> 0 | BI5: =AI37 -> 0 | BJ5: =AJ37 -> 0 | BK5: =IF(Y37>0,R7,"") | BL5: =IF(Y37>0,"",IF(Z37>0,R7,"")) | BM5: =IF(Y37+Z37>0,"",IF(AA37>0,R7,"")) | BN5: =IF(Y37+Z37+AA37>0,"",IF(AB37>0,R7,"")) | BO5: =AC35 -> 0 | BP5: =AD35 -> 0 | BQ5: =AE35 -> 0.01 | BR5: =AF35 -> 1.77 | BS5: =AG35 -> 0 | BT5: =AH35 -> 0 | BU5: =AI35 -> 0 | BV5: =AJ35 -> 0
B6: スパン別変状展開図 | K6: 【健全性判定集計表】
K7: スパン番号 | N7: S003 | P7: スパン長 | R7: 10.5 | U7: 前回定期点検時の判定 | W7: 応急措置前の判定 | Y7: 対策区分毎の 変状の有無 | AC7: 対策区分毎の変状の発生範囲の規模(㎡) | AK7: 備考注2
K8: 変状番号 | L8: 対象箇所 | N8: 部位区分 | P8: 変状区分 | R8: 変状種類
Y9: 外力注1 | AC9: 材質劣化注1 | AG9: 漏水注1
Y10: Ⅳ | Z10: Ⅲ | AA10: Ⅱa | AB10: Ⅱb | AC10: Ⅳ | AD10: Ⅲ | AE10: Ⅱa | AF10: Ⅱb | AG10: Ⅳ | AH10: Ⅲ | AI10: Ⅱa | AJ10: Ⅱb
K11: 8 | L11: 覆工 | N11: アーチ（左側） | P11: 材質劣化 | R11: うき・はく離 | U11: Ⅱa | AE11: 0.01 | AQ11: =IF(P11="材質劣化",2,IF(P11="漏水",3,1)) -> 2 | AS11: =IF(Y11<>"",1,"")
K12: 10 | L12: 覆工 | N12: 横断目地（天端） | P12: 材質劣化 | R12: うき・はく離 | U12: Ⅱb | AF12: 0.15 | AQ12: =IF(P12="材質劣化",2,IF(P12="漏水",3,1)) -> 2
K13: 29 | L13: 覆工 | N13: 水平打ち継ぎ目（左側） | P13: 材質劣化 | R13: うき・はく離 | U13: Ⅱb | AF13: 0.2 | AQ13: =IF(P13="材質劣化",2,IF(P13="漏水",3,1)) -> 2
K14: 30 | L14: 覆工 | N14: 側壁（左側） | P14: 材質劣化 | R14: うき・はく離 | U14: Ⅱb | AF14: 0.1 | AQ14: =IF(P14="材質劣化",2,IF(P14="漏水",3,1)) -> 2
K15: 31 | L15: 覆工 | N15: 側壁（左側） | P15: 材質劣化 | R15: うき・はく離 | U15: Ⅱb | AF15: 0.15 | AQ15: =IF(P15="材質劣化",2,IF(P15="漏水",3,1)) -> 2
K16: 33 | L16: 覆工 | N16: 水平打ち継ぎ目（右側） | P16: 材質劣化 | R16: うき・はく離 | U16: Ⅱa | AF16: 0.04 | AQ16: =IF(P16="材質劣化",2,IF(P16="漏水",3,1)) -> 2
K17: 34 | L17: 覆工 | N17: 水平打ち継ぎ目（右側） | P17: 材質劣化 | R17: うき・はく離 | U17: Ⅱa | AF17: 0.55 | AQ17: =IF(P17="材質劣化",2,IF(P17="漏水",3,1)) -> 2
K18: 35 | L18: 覆工 | N18: 水平打ち継ぎ目（右側） | P18: 材質劣化 | R18: うき・はく離 | U18: Ⅱa | AF18: 0.02 | AQ18: =IF(P18="材質劣化",2,IF(P18="漏水",3,1)) -> 2
K19: 40 | L19: 覆工 | N19: 水平打ち継ぎ目（左側） | P19: 材質劣化 | R19: うき・はく離 | U19: － | AF19: 0.1 | AQ19: =IF(P19="材質劣化",2,IF(P19="漏水",3,1)) -> 2
K20: 41 | L20: 覆工 | N20: 水平打ち継ぎ目（左側） | P20: 材質劣化 | R20: うき・はく離 | U20: Ⅱa | AF20: 0.31 | AQ20: =IF(P20="材質劣化",2,IF(P20="漏水",3,1)) -> 2
K21: 42 | L21: 覆工 | N21: 水平打ち継ぎ目（右側） | P21: 材質劣化 | R21: うき・はく離 | U21: － | AF21: 0.15 | AQ21: =IF(P21="材質劣化",2,IF(P21="漏水",3,1)) -> 2
K22: 43 | L22: 路面 | N22: 側溝 | R22: その他 | U22: － | AK22: 2箇所 | AQ22: =IF(P22="材質劣化",2,IF(P22="漏水",3,1)) -> 1
K23: 13 | AQ23: =IF(P23="材質劣化",2,IF(P23="漏水",3,1)) -> 1
K24: 14 | AQ24: =IF(P24="材質劣化",2,IF(P24="漏水",3,1)) -> 1
K25: 15 | AQ25: =IF(P25="材質劣化",2,IF(P25="漏水",3,1)) -> 1
K26: 16 | AQ26: =IF(P26="材質劣化",2,IF(P26="漏水",3,1)) -> 1
K27: 17 | AQ27: =IF(P27="材質劣化",2,IF(P27="漏水",3,1)) -> 1
K28: 18 | AQ28: =IF(P30="材質劣化",2,IF(P30="漏水",3,1)) -> 1
K29: 19 | AQ29: =IF(P34="材質劣化",2,IF(P34="漏水",3,1)) -> 1
K30: 20 | AQ30: =IF(P30="材質劣化",2,IF(P30="漏水",3,1)) -> 1
K31: 21 | AQ31: =IF(P33="材質劣化",2,IF(P33="漏水",3,1)) -> 1
K32: 22 | AQ32: =IF(P37="材質劣化",2,IF(P37="漏水",3,1)) -> 1
K33: 23 | AQ33: =IF(P33="材質劣化",2,IF(P33="漏水",3,1)) -> 1
K34: 24 | AQ34: =IF(P36="材質劣化",2,IF(P36="漏水",3,1)) -> 1
K35: 集計 判定 診断 | L35: 変状の発生規模合計(㎡) | Y35: － | AC35: =SUM(AC11:AC34) -> 0 | AD35: =SUM(AD11:AD34) -> 0 | AE35: =SUM(AE11:AE34) -> 0.01 | AF35: =SUM(AF11:AF34) -> 1.77 | AG35: =SUM(AG11:AG34) -> 0 | AH35: =SUM(AH11:AH34) -> 0 | AI35: =SUM(AI11:AI34) -> 0 | AJ35: =SUM(AJ11:AJ34) -> 0 | AK35: 覆工スパン単位の 健全性の 診断の区分 | AM35: Ⅱ
L36: 対策区分の 判定結果 | O36: 対策区分毎の変状数注3 | Y36: Ⅳ | Z36: Ⅲ | AA36: Ⅱa | AB36: Ⅱb | AC36: Ⅳ | AD36: Ⅲ | AE36: Ⅱa | AF36: Ⅱb | AG36: Ⅳ | AH36: Ⅲ | AI36: Ⅱa | AJ36: Ⅱb
Y37: =IF(COUNTIF(Y11:Y34,"〇")>0,1,0) -> 0 | Z37: =IF(COUNTIF(Z11:Z34,"〇")>0,1,0) -> 0 | AA37: =IF(COUNTIF(AA11:AA34,"〇")>0,1,0) -> 0 | AB37: =IF(COUNTIF(AB11:AB34,"〇")>0,1,0) -> 0 | AC37: =COUNTA(AC11:AC34) -> 0 | AD37: =COUNTA(AD11:AD34) -> 0 | AE37: =COUNTA(AE11:AE34) -> 1 | AF37: =COUNTA(AF11:AF34) -> 10 | AG37: =COUNTA(AG11:AG34) -> 0 | AH37: =COUNTA(AH11:AH34) -> 0 | AI37: =COUNTA(AI11:AI34) -> 0 | AJ37: =COUNTA(AJ11:AJ34) -> 0 | AU37: =+Y37 -> 0
K39: 所見
K43: 注1：誤記入防止のため、当該変状区分以外のセルは灰色表示とすること。
K44: 注2：応急措置を実施した場合は、その詳細を備考に記載すること。
K45: 注3：外力は覆工スパン単位、材質劣化、漏水は変状単位とすること。
B46: （以下、印刷不要）
B47: ※1：本シートは作成洩れのないよう、変状が無くても全スパン分を作成すること．また変状展開図は、様式D-2-1、様式D-2-1'と同じものを覆工スパン単位で拡大し掲載すること。
B48: ※2：変状番号は、様式D-1-1で記入した番号と整合させること。
B49: ※3：対策区分毎の変状発生規模は、様式D-1-1に記載した面積を記入すること（ただし外力はスパン単位で評価するため変状の有無の欄には面積でなく○を記入し、備考欄に状況を記入）。
B50: ※4：本様式は覆工スパン毎に作成すること。
B51: ※5：変状数が多い場合は、適時、表の行を増やして覆工スパン毎に1枚のシートに収めること。また、1スパン１シートとし、スパンに合わせてシートを追加すること。
B52: ※6：対策区分毎の変状の発生範囲の規模とは，対策を行う際に参考となる変状の長さや面積であり，変状を包含する長さや面積とする。
B53: ※7：対策範囲を示す発生範囲の規模を面積で記入することが妥当ではない変状は、発生範囲の規模の欄に○を記入するとともに、備考に内容を記入すること。

Sheet 様式D-3_S004
AU1: 様式F用→ | AV1: 覆工スパン | AY1: 変 状 数 | BK1: 変 状 規 模
AV2: 番号 | AW2: 延長 （ｍ） | AX2: 健全性の診断の 区分 | AY2: 対策区分の判定 | BK2: 覆工スパン長（ｍ） | BO2: 変状の発生範囲の規模（㎡）
B3: ■定期点検記録様式 覆工スパン別変状詳細展開図 【様式D-3】 | AY3: 外力 | BC3: 材質劣化 | BG3: 漏水 | BK3: 外力 注2 | BO3: 材質劣化 | BS3: 漏水
B4: フリガナ | E4: ナカヤマトンネル | K4: 路線名 | N4: 主要地方道柳井周東線 | T4: 定期点検実施者 | Y4: 株式会社長大 | AG4: 定期点検年月日 | AK4: 45917 | AY4: Ⅳ | AZ4: Ⅲ | BA4: Ⅱa | BB4: Ⅱb | BC4: Ⅳ | BD4: Ⅲ | BE4: Ⅱa | BF4: Ⅱb | BG4: Ⅳ | BH4: Ⅲ | BI4: Ⅱa | BJ4: Ⅱb | BK4: Ⅳ | BL4: Ⅲ | BM4: Ⅱa | BN4: Ⅱb | BO4: Ⅳ | BP4: Ⅲ | BQ4: Ⅱa | BR4: Ⅱb | BS4: Ⅳ | BT4: Ⅲ | BU4: Ⅱa | BV4: Ⅱb
B5: 名 称 | E5: 中山トンネル | K5: 管理者名 | N5: 岩国土木建築事務所 | Y5: 鷲尾 寛 | AV5: =N7 -> S004 | AW5: =R7 -> 10.5 | AX5: =AM35 -> Ⅱ | AY5: =IF(Y37>0,Y37,"") | AZ5: =IF(Y37>0,"",IF(Z37>0,Z37,"")) | BA5: =IF(Y37+Z37>0,"",IF(AA37>0,AA37,"")) | BB5: =IF(Y37+Z37+AA37>0,"",IF(AB37>0,AB37,"")) | BC5: =AC37 -> 0 | BD5: =AD37 -> 0 | BE5: =AE37 -> 1 | BF5: =AF37 -> 13 | BG5: =AG37 -> 0 | BH5: =AH37 -> 0 | BI5: =AI37 -> 0 | BJ5: =AJ37 -> 1 | BK5: =IF(Y37>0,R7,"") | BL5: =IF(Y37>0,"",IF(Z37>0,R7,"")) | BM5: =IF(Y37+Z37>0,"",IF(AA37>0,R7,"")) | BN5: =IF(Y37+Z37+AA37>0,"",IF(AB37>0,R7,"")) | BO5: =AC35 -> 0 | BP5: =AD35 -> 0 | BQ5: =AE35 -> 0.01 | BR5: =AF35 -> 2.58 | BS5: =AG35 -> 0 | BT5: =AH35 -> 0 | BU5: =AI35 -> 0 | BV5: =AJ35 -> 13.56
B6: スパン別変状展開図 | K6: 【健全性判定集計表】
K7: スパン番号 | N7: S004 | P7: スパン長 | R7: 10.5 | U7: 前回定期点検時の判定 | W7: 応急措置前の判定 | Y7: 対策区分毎の 変状の有無 | AC7: 対策区分毎の変状の発生範囲の規模(㎡) | AK7: 備考注2
K8: 変状番号 | L8: 対象箇所 | N8: 部位区分 | P8: 変状区分 | R8: 変状種類
Y9: 外力注1 | AC9: 材質劣化注1 | AG9: 漏水注1
Y10: Ⅳ | Z10: Ⅲ | AA10: Ⅱa | AB10: Ⅱb | AC10: Ⅳ | AD10: Ⅲ | AE10: Ⅱa | AF10: Ⅱb | AG10: Ⅳ | AH10: Ⅲ | AI10: Ⅱa | AJ10: Ⅱb
K11: 1 | L11: 覆工 | N11: 横断目地（天端） | P11: 材質劣化 | R11: うき・はく離 | U11: Ⅱb | AF11: 0.07 | AQ11: =IF(P11="材質劣化",2,IF(P11="漏水",3,1)) -> 2 | AS11: =IF(Y11<>"",1,"")
K12: 2 | L12: 覆工 | N12: 横断目地（天端） | P12: 材質劣化 | R12: うき・はく離 | U12: Ⅱb | AF12: 0.03 | AQ12: =IF(P12="材質劣化",2,IF(P12="漏水",3,1)) -> 2
K13: 12 | L13: 覆工 | N13: アーチ（左側） | P13: 材質劣化 | R13: うき・はく離 | U13: Ⅱb | AF13: 0.36 | AQ13: =IF(P13="材質劣化",2,IF(P13="漏水",3,1)) -> 2
K14: 15 | L14: 覆工 | N14: 横断目地（右側） | P14: 材質劣化 | R14: うき・はく離 | U14: Ⅱb | AF14: 0.02 | AQ14: =IF(P14="材質劣化",2,IF(P14="漏水",3,1)) -> 2
K15: 19 | L15: 覆工 | N15: アーチ（天端） | P15: 漏水 | R15: 漏水 | U15: Ⅱb | AJ15: 13.56 | AQ15: =IF(P15="材質劣化",2,IF(P15="漏水",3,1)) -> 3
K16: 25 | L16: 覆工 | N16: アーチ（右側） | P16: 材質劣化 | R16: うき・はく離 | U16: Ⅱb | AF16: 0.08 | AQ16: =IF(P16="材質劣化",2,IF(P16="漏水",3,1)) -> 2
K17: 26 | L17: 覆工 | N17: 水平打ち継ぎ目（左側） | P17: 材質劣化 | R17: うき・はく離 | U17: Ⅱa | AF17: 1.05 | AQ17: =IF(P17="材質劣化",2,IF(P17="漏水",3,1)) -> 2
K18: 27 | L18: 覆工 | N18: 水平打ち継ぎ目（右側） | P18: 材質劣化 | R18: うき・はく離 | U18: Ⅱa | AF18: 0.11 | AQ18: =IF(P18="材質劣化",2,IF(P18="漏水",3,1)) -> 2
K19: 28 | L19: 覆工 | N19: 水平打ち継ぎ目（右側） | P19: 材質劣化 | R19: うき・はく離 | U19: Ⅱa | AF19: 0.02 | AQ19: =IF(P19="材質劣化",2,IF(P19="漏水",3,1)) -> 2
K20: 30 | L20: 覆工 | N20: 水平打ち継ぎ目（右側） | P20: 材質劣化 | R20: うき・はく離 | U20: Ⅱa | AF20: 0.15 | AQ20: =IF(P20="材質劣化",2,IF(P20="漏水",3,1)) -> 2
K21: 31 | L21: 覆工 | N21: 水平打ち継ぎ目（右側） | P21: 材質劣化 | R21: うき・はく離 | U21: Ⅱa | AF21: 0.28 | AQ21: =IF(P21="材質劣化",2,IF(P21="漏水",3,1)) -> 2
K22: 36 | L22: 覆工 | N22: 側壁（左側） | P22: 材質劣化 | R22: うき・はく離 | U22: － | AF22: 0.08 | AQ22: =IF(P22="材質劣化",2,IF(P22="漏水",3,1)) -> 2
K23: 37 | L23: 覆工 | N23: アーチ（左側） | P23: 材質劣化 | R23: 圧ざ、ひび割れ | U23: － | AF23: 0.29 | AQ23: =IF(P23="材質劣化",2,IF(P23="漏水",3,1)) -> 2
K24: 38 | L24: 覆工 | N24: アーチ（右側） | P24: 材質劣化 | R24: うき・はく離 | U24: － | AE24: 0.01 | AQ24: =IF(P24="材質劣化",2,IF(P24="漏水",3,1)) -> 2
K25: 39 | L25: 覆工 | N25: 水平打ち継ぎ目（右側） | P25: 材質劣化 | R25: うき・はく離 | U25: Ⅱa | AF25: 0.04 | AQ25: =IF(P25="材質劣化",2,IF(P25="漏水",3,1)) -> 2
K26: 40 | L26: 路面 | N26: 側溝 | R26: その他 | U26: － | AK26: 1箇所 | AQ26: =IF(P26="材質劣化",2,IF(P26="漏水",3,1)) -> 1
K27: 17 | AQ27: =IF(P27="材質劣化",2,IF(P27="漏水",3,1)) -> 1
K28: 18 | AQ28: =IF(P30="材質劣化",2,IF(P30="漏水",3,1)) -> 1
K29: 19 | AQ29: =IF(P34="材質劣化",2,IF(P34="漏水",3,1)) -> 1
K30: 20 | AQ30: =IF(P30="材質劣化",2,IF(P30="漏水",3,1)) -> 1
K31: 21 | AQ31: =IF(P33="材質劣化",2,IF(P33="漏水",3,1)) -> 1
K32: 22 | AQ32: =IF(P37="材質劣化",2,IF(P37="漏水",3,1)) -> 1
K33: 23 | AQ33: =IF(P33="材質劣化",2,IF(P33="漏水",3,1)) -> 1
K34: 24 | AQ34: =IF(P36="材質劣化",2,IF(P36="漏水",3,1)) -> 1
K35: 集計 判定 診断 | L35: 変状の発生規模合計(㎡) | Y35: － | AC35: =SUM(AC11:AC34) -> 0 | AD35: =SUM(AD11:AD34) -> 0 | AE35: =SUM(AE11:AE34) -> 0.01 | AF35: =SUM(AF11:AF34) -> 2.58 | AG35: =SUM(AG11:AG34) -> 0 | AH35: =SUM(AH11:AH34) -> 0 | AI35: =SUM(AI11:AI34) -> 0 | AJ35: =SUM(AJ11:AJ34) -> 13.56 | AK35: 覆工スパン単位の 健全性の 診断の区分 | AM35: Ⅱ
L36: 対策区分の 判定結果 | O36: 対策区分毎の変状数注3 | Y36: Ⅳ | Z36: Ⅲ | AA36: Ⅱa | AB36: Ⅱb | AC36: Ⅳ | AD36: Ⅲ | AE36: Ⅱa | AF36: Ⅱb | AG36: Ⅳ | AH36: Ⅲ | AI36: Ⅱa | AJ36: Ⅱb
Y37: =IF(COUNTIF(Y11:Y34,"〇")>0,1,0) -> 0 | Z37: =IF(COUNTIF(Z11:Z34,"〇")>0,1,0) -> 0 | AA37: =IF(COUNTIF(AA11:AA34,"〇")>0,1,0) -> 0 | AB37: =IF(COUNTIF(AB11:AB34,"〇")>0,1,0) -> 0 | AC37: =COUNTA(AC11:AC34) -> 0 | AD37: =COUNTA(AD11:AD34) -> 0 | AE37: =COUNTA(AE11:AE34) -> 1 | AF37: =COUNTA(AF11:AF34) -> 13 | AG37: =COUNTA(AG11:AG34) -> 0 | AH37: =COUNTA(AH11:AH34) -> 0 | AI37: =COUNTA(AI11:AI34) -> 0 | AJ37: =COUNTA(AJ11:AJ34) -> 1 | AU37: =+Y37 -> 0
K39: 所見
K43: 注1：誤記入防止のため、当該変状区分以外のセルは灰色表示とすること。
K44: 注2：応急措置を実施した場合は、その詳細を備考に記載すること。
K45: 注3：外力は覆工スパン単位、材質劣化、漏水は変状単位とすること。
B46: （以下、印刷不要）
B47: ※1：本シートは作成洩れのないよう、変状が無くても全スパン分を作成すること．また変状展開図は、様式D-2-1、様式D-2-1'と同じものを覆工スパン単位で拡大し掲載すること。
B48: ※2：変状番号は、様式D-1-1で記入した番号と整合させること。
B49: ※3：対策区分毎の変状発生規模は、様式D-1-1に記載した面積を記入すること（ただし外力はスパン単位で評価するため変状の有無の欄には面積でなく○を記入し、備考欄に状況を記入）。
B50: ※4：本様式は覆工スパン毎に作成すること。
B51: ※5：変状数が多い場合は、適時、表の行を増やして覆工スパン毎に1枚のシートに収めること。また、1スパン１シートとし、スパンに合わせてシートを追加すること。
B52: ※6：対策区分毎の変状の発生範囲の規模とは，対策を行う際に参考となる変状の長さや面積であり，変状を包含する長さや面積とする。
B53: ※7：対策範囲を示す発生範囲の規模を面積で記入することが妥当ではない変状は、発生範囲の規模の欄に○を記入するとともに、備考に内容を記入すること。

Sheet 様式D-3_S005
AU1: 様式F用→ | AV1: 覆工スパン | AY1: 変 状 数 | BK1: 変 状 規 模
AV2: 番号 | AW2: 延長 （ｍ） | AX2: 健全性の診断の 区分 | AY2: 対策区分の判定 | BK2: 覆工スパン長（ｍ） | BO2: 変状の発生範囲の規模（㎡）
B3: ■定期点検記録様式 覆工スパン別変状詳細展開図 【様式D-3】 | AY3: 外力 | BC3: 材質劣化 | BG3: 漏水 | BK3: 外力 注2 | BO3: 材質劣化 | BS3: 漏水
B4: フリガナ | E4: ナカヤマトンネル | K4: 路線名 | N4: 主要地方道柳井周東線 | T4: 定期点検実施者 | Y4: 株式会社長大 | AG4: 定期点検年月日 | AK4: 45917 | AY4: Ⅳ | AZ4: Ⅲ | BA4: Ⅱa | BB4: Ⅱb | BC4: Ⅳ | BD4: Ⅲ | BE4: Ⅱa | BF4: Ⅱb | BG4: Ⅳ | BH4: Ⅲ | BI4: Ⅱa | BJ4: Ⅱb | BK4: Ⅳ | BL4: Ⅲ | BM4: Ⅱa | BN4: Ⅱb | BO4: Ⅳ | BP4: Ⅲ | BQ4: Ⅱa | BR4: Ⅱb | BS4: Ⅳ | BT4: Ⅲ | BU4: Ⅱa | BV4: Ⅱb
B5: 名 称 | E5: 中山トンネル | K5: 管理者名 | N5: 岩国土木建築事務所 | Y5: 鷲尾 寛 | AV5: =N7 -> S005 | AW5: =R7 -> 10.5 | AX5: =AM35 -> Ⅱ | AY5: =IF(Y37>0,Y37,"") | AZ5: =IF(Y37>0,"",IF(Z37>0,Z37,"")) | BA5: =IF(Y37+Z37>0,"",IF(AA37>0,AA37,"")) | BB5: =IF(Y37+Z37+AA37>0,"",IF(AB37>0,AB37,"")) | BC5: =AC37 -> 0 | BD5: =AD37 -> 0 | BE5: =AE37 -> 2 | BF5: =AF37 -> 10 | BG5: =AG37 -> 0 | BH5: =AH37 -> 0 | BI5: =AI37 -> 0 | BJ5: =AJ37 -> 0 | BK5: =IF(Y37>0,R7,"") | BL5: =IF(Y37>0,"",IF(Z37>0,R7,"")) | BM5: =IF(Y37+Z37>0,"",IF(AA37>0,R7,"")) | BN5: =IF(Y37+Z37+AA37>0,"",IF(AB37>0,R7,"")) | BO5: =AC35 -> 0 | BP5: =AD35 -> 0 | BQ5: =AE35 -> 0.06 | BR5: =AF35 -> 1.22 | BS5: =AG35 -> 0 | BT5: =AH35 -> 0 | BU5: =AI35 -> 0 | BV5: =AJ35 -> 0
B6: スパン別変状展開図 | K6: 【健全性判定集計表】
K7: スパン番号 | N7: S005 | P7: スパン長 | R7: 10.5 | U7: 前回定期点検時の判定 | W7: 応急措置前の判定 | Y7: 対策区分毎の 変状の有無 | AC7: 対策区分毎の変状の発生範囲の規模(㎡) | AK7: 備考注2
K8: 変状番号 | L8: 対象箇所 | N8: 部位区分 | P8: 変状区分 | R8: 変状種類
Y9: 外力注1 | AC9: 材質劣化注1 | AG9: 漏水注1
Y10: Ⅳ | Z10: Ⅲ | AA10: Ⅱa | AB10: Ⅱb | AC10: Ⅳ | AD10: Ⅲ | AE10: Ⅱa | AF10: Ⅱb | AG10: Ⅳ | AH10: Ⅲ | AI10: Ⅱa | AJ10: Ⅱb
K11: 5 | L11: 覆工 | N11: アーチ（天端） | P11: 材質劣化 | R11: うき・はく離 | U11: Ⅱb | AE11: 0.03 | AQ11: =IF(P11="材質劣化",2,IF(P11="漏水",3,1)) -> 2 | AS11: =IF(Y11<>"",1,"")
K12: 33 | L12: 覆工 | N12: 横断目地（右側） | P12: 材質劣化 | R12: うき・はく離 | U12: Ⅱb | AF12: 0.01 | AQ12: =IF(P12="材質劣化",2,IF(P12="漏水",3,1)) -> 2
K13: 35 | L13: 覆工 | N13: 横断目地（右側） | P13: 材質劣化 | R13: うき・はく離 | U13: Ⅱa | AE13: 0.03 | AQ13: =IF(P13="材質劣化",2,IF(P13="漏水",3,1)) -> 2
K14: 37 | L14: 覆工 | N14: 水平打ち継ぎ目（左側） | P14: 材質劣化 | R14: うき・はく離 | U14: Ⅱa | AF14: 0.35 | AQ14: =IF(P14="材質劣化",2,IF(P14="漏水",3,1)) -> 2
K15: 38 | L15: 覆工 | N15: 水平打ち継ぎ目（左側） | P15: 材質劣化 | R15: うき・はく離 | U15: Ⅱa | AF15: 0.03 | AQ15: =IF(P15="材質劣化",2,IF(P15="漏水",3,1)) -> 2
K16: 40 | L16: 覆工 | N16: 水平打ち継ぎ目（右側） | P16: 材質劣化 | R16: うき・はく離 | U16: Ⅱa | AF16: 0.22 | AQ16: =IF(P16="材質劣化",2,IF(P16="漏水",3,1)) -> 2
K17: 41 | L17: 覆工 | N17: 水平打ち継ぎ目（右側） | P17: 材質劣化 | R17: うき・はく離 | U17: Ⅱa | AF17: 0.09 | AQ17: =IF(P17="材質劣化",2,IF(P17="漏水",3,1)) -> 2
K18: 42 | L18: 覆工 | N18: 水平打ち継ぎ目（右側） | P18: 材質劣化 | R18: うき・はく離 | U18: Ⅱa | AF18: 0.09 | AQ18: =IF(P18="材質劣化",2,IF(P18="漏水",3,1)) -> 2
K19: 43 | L19: 覆工 | N19: 側壁（右側） | P19: 材質劣化 | R19: 補修・補強材の破損 | U19: Ⅱb | AF19: 0.04 | AQ19: =IF(P19="材質劣化",2,IF(P19="漏水",3,1)) -> 2
K20: 49 | L20: 覆工 | N20: アーチ（左側） | P20: 材質劣化 | R20: 圧ざ、ひび割れ | U20: － | AF20: 0.04 | AQ20: =IF(P20="材質劣化",2,IF(P20="漏水",3,1)) -> 2
K21: 50 | L21: 覆工 | N21: 水平打ち継ぎ目（左側） | P21: 材質劣化 | R21: うき・はく離 | U21: Ⅱa | AF21: 0.19 | AQ21: =IF(P21="材質劣化",2,IF(P21="漏水",3,1)) -> 2
K22: 51 | L22: 覆工 | N22: 水平打ち継ぎ目（左側） | P22: 材質劣化 | R22: うき・はく離 | U22: Ⅱa | AF22: 0.16 | AQ22: =IF(P22="材質劣化",2,IF(P22="漏水",3,1)) -> 2
K23: 52 | L23: 路面 | N23: 側溝 | R23: その他 | U23: － | AK23: 4箇所 | AQ23: =IF(P23="材質劣化",2,IF(P23="漏水",3,1)) -> 1
K24: 53 | L24: 路面 | N24: 側溝 | R24: その他 | U24: － | AK24: 1箇所 | AQ24: =IF(P24="材質劣化",2,IF(P24="漏水",3,1)) -> 1
K25: 15 | AQ25: =IF(P25="材質劣化",2,IF(P25="漏水",3,1)) -> 1
K26: 16 | AQ26: =IF(P26="材質劣化",2,IF(P26="漏水",3,1)) -> 1
K27: 17 | AQ27: =IF(P27="材質劣化",2,IF(P27="漏水",3,1)) -> 1
K28: 18 | AQ28: =IF(P30="材質劣化",2,IF(P30="漏水",3,1)) -> 1
K29: 19 | AQ29: =IF(P34="材質劣化",2,IF(P34="漏水",3,1)) -> 1
K30: 20 | AQ30: =IF(P30="材質劣化",2,IF(P30="漏水",3,1)) -> 1
K31: 21 | AQ31: =IF(P33="材質劣化",2,IF(P33="漏水",3,1)) -> 1
K32: 22 | AQ32: =IF(P37="材質劣化",2,IF(P37="漏水",3,1)) -> 1
K33: 23 | AQ33: =IF(P33="材質劣化",2,IF(P33="漏水",3,1)) -> 1
K34: 24 | AQ34: =IF(P36="材質劣化",2,IF(P36="漏水",3,1)) -> 1
K35: 集計 判定 診断 | L35: 変状の発生規模合計(㎡) | Y35: － | AC35: =SUM(AC11:AC34) -> 0 | AD35: =SUM(AD11:AD34) -> 0 | AE35: =SUM(AE11:AE34) -> 0.06 | AF35: =SUM(AF11:AF34) -> 1.22 | AG35: =SUM(AG11:AG34) -> 0 | AH35: =SUM(AH11:AH34) -> 0 | AI35: =SUM(AI11:AI34) -> 0 | AJ35: =SUM(AJ11:AJ34) -> 0 | AK35: 覆工スパン単位の 健全性の 診断の区分 | AM35: Ⅱ
L36: 対策区分の 判定結果 | O36: 対策区分毎の変状数注3 | Y36: Ⅳ | Z36: Ⅲ | AA36: Ⅱa | AB36: Ⅱb | AC36: Ⅳ | AD36: Ⅲ | AE36: Ⅱa | AF36: Ⅱb | AG36: Ⅳ | AH36: Ⅲ | AI36: Ⅱa | AJ36: Ⅱb
Y37: =IF(COUNTIF(Y11:Y34,"〇")>0,1,0) -> 0 | Z37: =IF(COUNTIF(Z11:Z34,"〇")>0,1,0) -> 0 | AA37: =IF(COUNTIF(AA11:AA34,"〇")>0,1,0) -> 0 | AB37: =IF(COUNTIF(AB11:AB34,"〇")>0,1,0) -> 0 | AC37: =COUNTA(AC11:AC34) -> 0 | AD37: =COUNTA(AD11:AD34) -> 0 | AE37: =COUNTA(AE11:AE34) -> 2 | AF37: =COUNTA(AF11:AF34) -> 10 | AG37: =COUNTA(AG11:AG34) -> 0 | AH37: =COUNTA(AH11:AH34) -> 0 | AI37: =COUNTA(AI11:AI34) -> 0 | AJ37: =COUNTA(AJ11:AJ34) -> 0 | AU37: =+Y37 -> 0
K39: 所見
K43: 注1：誤記入防止のため、当該変状区分以外のセルは灰色表示とすること。
K44: 注2：応急措置を実施した場合は、その詳細を備考に記載すること。
K45: 注3：外力は覆工スパン単位、材質劣化、漏水は変状単位とすること。
B46: （以下、印刷不要）
B47: ※1：本シートは作成洩れのないよう、変状が無くても全スパン分を作成すること．また変状展開図は、様式D-2-1、様式D-2-1'と同じものを覆工スパン単位で拡大し掲載すること。
B48: ※2：変状番号は、様式D-1-1で記入した番号と整合させること。
B49: ※3：対策区分毎の変状発生規模は、様式D-1-1に記載した面積を記入すること（ただし外力はスパン単位で評価するため変状の有無の欄には面積でなく○を記入し、備考欄に状況を記入）。
B50: ※4：本様式は覆工スパン毎に作成すること。
B51: ※5：変状数が多い場合は、適時、表の行を増やして覆工スパン毎に1枚のシートに収めること。また、1スパン１シートとし、スパンに合わせてシートを追加すること。
B52: ※6：対策区分毎の変状の発生範囲の規模とは，対策を行う際に参考となる変状の長さや面積であり，変状を包含する長さや面積とする。
B53: ※7：対策範囲を示す発生範囲の規模を面積で記入することが妥当ではない変状は、発生範囲の規模の欄に○を記入するとともに、備考に内容を記入すること。

Sheet 様式D-3_S006
AU1: 様式F用→ | AV1: 覆工スパン | AY1: 変 状 数 | BK1: 変 状 規 模
AV2: 番号 | AW2: 延長 （ｍ） | AX2: 健全性の診断の 区分 | AY2: 対策区分の判定 | BK2: 覆工スパン長（ｍ） | BO2: 変状の発生範囲の規模（㎡）
B3: ■定期点検記録様式 覆工スパン別変状詳細展開図 【様式D-3】 | AY3: 外力 | BC3: 材質劣化 | BG3: 漏水 | BK3: 外力 注2 | BO3: 材質劣化 | BS3: 漏水
B4: フリガナ | E4: ナカヤマトンネル | K4: 路線名 | N4: 主要地方道柳井周東線 | T4: 定期点検実施者 | Y4: 株式会社長大 | AG4: 定期点検年月日 | AK4: 45917 | AY4: Ⅳ | AZ4: Ⅲ | BA4: Ⅱa | BB4: Ⅱb | BC4: Ⅳ | BD4: Ⅲ | BE4: Ⅱa | BF4: Ⅱb | BG4: Ⅳ | BH4: Ⅲ | BI4: Ⅱa | BJ4: Ⅱb | BK4: Ⅳ | BL4: Ⅲ | BM4: Ⅱa | BN4: Ⅱb | BO4: Ⅳ | BP4: Ⅲ | BQ4: Ⅱa | BR4: Ⅱb | BS4: Ⅳ | BT4: Ⅲ | BU4: Ⅱa | BV4: Ⅱb
B5: 名 称 | E5: 中山トンネル | K5: 管理者名 | N5: 岩国土木建築事務所 | Y5: 鷲尾 寛 | AV5: =N7 -> S006 | AW5: =R7 -> 10.5 | AX5: =AM35 -> Ⅱ | AY5: =IF(Y37>0,Y37,"") | AZ5: =IF(Y37>0,"",IF(Z37>0,Z37,"")) | BA5: =IF(Y37+Z37>0,"",IF(AA37>0,AA37,"")) | BB5: =IF(Y37+Z37+AA37>0,"",IF(AB37>0,AB37,"")) | BC5: =AC37 -> 0 | BD5: =AD37 -> 0 | BE5: =AE37 -> 3 | BF5: =AF37 -> 9 | BG5: =AG37 -> 0 | BH5: =AH37 -> 0 | BI5: =AI37 -> 0 | BJ5: =AJ37 -> 2 | BK5: =IF(Y37>0,R7,"") | BL5: =IF(Y37>0,"",IF(Z37>0,R7,"")) | BM5: =IF(Y37+Z37>0,"",IF(AA37>0,R7,"")) | BN5: =IF(Y37+Z37+AA37>0,"",IF(AB37>0,R7,"")) | BO5: =AC35 -> 0 | BP5: =AD35 -> 0 | BQ5: =AE35 -> 0.1 | BR5: =AF35 -> 2.87 | BS5: =AG35 -> 0 | BT5: =AH35 -> 0 | BU5: =AI35 -> 0 | BV5: =AJ35 -> 6.83
B6: スパン別変状展開図 | K6: 【健全性判定集計表】
K7: スパン番号 | N7: S006 | P7: スパン長 | R7: 10.5 | U7: 前回定期点検時の判定 | W7: 応急措置前の判定 | Y7: 対策区分毎の 変状の有無 | AC7: 対策区分毎の変状の発生範囲の規模(㎡) | AK7: 備考注2
K8: 変状番号 | L8: 対象箇所 | N8: 部位区分 | P8: 変状区分 | R8: 変状種類
Y9: 外力注1 | AC9: 材質劣化注1 | AG9: 漏水注1
Y10: Ⅳ | Z10: Ⅲ | AA10: Ⅱa | AB10: Ⅱb | AC10: Ⅳ | AD10: Ⅲ | AE10: Ⅱa | AF10: Ⅱb | AG10: Ⅳ | AH10: Ⅲ | AI10: Ⅱa | AJ10: Ⅱb
K11: 1 | L11: 覆工 | N11: アーチ（左側） | P11: 漏水 | R11: 漏水 | U11: Ⅱb | AJ11: 2.55 | AQ11: =IF(P11="材質劣化",2,IF(P11="漏水",3,1)) -> 3 | AS11: =IF(Y11<>"",1,"")
K12: 5 | L12: 覆工 | N12: 横断目地（天端） | P12: 材質劣化 | R12: うき・はく離 | U12: Ⅱb | AF12: 0.02 | AQ12: =IF(P12="材質劣化",2,IF(P12="漏水",3,1)) -> 2
K13: 6 | L13: 覆工 | N13: 横断目地（天端） | P13: 材質劣化 | R13: うき・はく離 | U13: Ⅱb | AF13: 0.08 | AQ13: =IF(P13="材質劣化",2,IF(P13="漏水",3,1)) -> 2
K14: 7 | L14: 覆工 | N14: 横断目地（天端） | P14: 材質劣化 | R14: うき・はく離 | U14: Ⅱb | AE14: 0.08 | AQ14: =IF(P14="材質劣化",2,IF(P14="漏水",3,1)) -> 2
K15: 18 | L15: 覆工 | N15: アーチ（天端） | P15: 漏水 | R15: 漏水 | U15: Ⅱb | AJ15: 4.28 | AQ15: =IF(P15="材質劣化",2,IF(P15="漏水",3,1)) -> 3
K16: 23 | L16: 覆工 | N16: アーチ（左側） | P16: 材質劣化 | R16: うき・はく離 | U16: Ⅱb | AF16: 0.03 | AQ16: =IF(P16="材質劣化",2,IF(P16="漏水",3,1)) -> 2
K17: 25 | L17: 覆工 | N17: アーチ（右側） | P17: 材質劣化 | R17: うき・はく離 | U17: Ⅱb | AF17: 0.23 | AQ17: =IF(P17="材質劣化",2,IF(P17="漏水",3,1)) -> 2
K18: 32 | L18: 覆工 | N18: 水平打ち継ぎ目（左側） | P18: 材質劣化 | R18: うき・はく離 | U18: Ⅱa | AF18: 0.67 | AQ18: =IF(P18="材質劣化",2,IF(P18="漏水",3,1)) -> 2
K19: 33 | L19: 覆工 | N19: 水平打ち継ぎ目（左側） | P19: 材質劣化 | R19: うき・はく離 | U19: Ⅱa | AF19: 0.26 | AQ19: =IF(P19="材質劣化",2,IF(P19="漏水",3,1)) -> 2
K20: 34 | L20: 覆工 | N20: 水平打ち継ぎ目（右側） | P20: 材質劣化 | R20: うき・はく離 | U20: Ⅱa | AF20: 1.05 | AQ20: =IF(P20="材質劣化",2,IF(P20="漏水",3,1)) -> 2
K21: 36 | L21: 覆工 | N21: 側壁（右側） | P21: 材質劣化 | R21: 補修・補強材の破損 | U21: Ⅱa | AF21: 0.06 | AQ21: =IF(P21="材質劣化",2,IF(P21="漏水",3,1)) -> 2
K22: 39 | L22: 覆工 | N22: アーチ（天端） | P22: 材質劣化 | R22: うき・はく離 | U22: － | AE22: 0.01 | AQ22: =IF(P22="材質劣化",2,IF(P22="漏水",3,1)) -> 2
K23: 40 | L23: 覆工 | N23: アーチ（右側） | P23: 材質劣化 | R23: うき・はく離 | U23: － | AE23: 0.01 | AQ23: =IF(P23="材質劣化",2,IF(P23="漏水",3,1)) -> 2
K24: 41 | L24: 覆工 | N24: アーチ（右側） | P24: 材質劣化 | R24: 圧ざ、ひび割れ | U24: － | AF24: 0.47 | AQ24: =IF(P24="材質劣化",2,IF(P24="漏水",3,1)) -> 2
K25: 42 | L25: 路面 | N25: 側溝 | R25: その他 | U25: － | AK25: 1箇所 | AQ25: =IF(P25="材質劣化",2,IF(P25="漏水",3,1)) -> 1
K26: 16 | AQ26: =IF(P26="材質劣化",2,IF(P26="漏水",3,1)) -> 1
K27: 17 | AQ27: =IF(P27="材質劣化",2,IF(P27="漏水",3,1)) -> 1
K28: 18 | AQ28: =IF(P30="材質劣化",2,IF(P30="漏水",3,1)) -> 1
K29: 19 | AQ29: =IF(P34="材質劣化",2,IF(P34="漏水",3,1)) -> 1
K30: 20 | AQ30: =IF(P30="材質劣化",2,IF(P30="漏水",3,1)) -> 1
K31: 21 | AQ31: =IF(P33="材質劣化",2,IF(P33="漏水",3,1)) -> 1
K32: 22 | AQ32: =IF(P37="材質劣化",2,IF(P37="漏水",3,1)) -> 1
K33: 23 | AQ33: =IF(P33="材質劣化",2,IF(P33="漏水",3,1)) -> 1
K34: 24 | AQ34: =IF(P36="材質劣化",2,IF(P36="漏水",3,1)) -> 1
K35: 集計 判定 診断 | L35: 変状の発生規模合計(㎡) | Y35: － | AC35: =SUM(AC11:AC34) -> 0 | AD35: =SUM(AD11:AD34) -> 0 | AE35: =SUM(AE11:AE34) -> 0.1 | AF35: =SUM(AF11:AF34) -> 2.87 | AG35: =SUM(AG11:AG34) -> 0 | AH35: =SUM(AH11:AH34) -> 0 | AI35: =SUM(AI11:AI34) -> 0 | AJ35: =SUM(AJ11:AJ34) -> 6.83 | AK35: 覆工スパン単位の 健全性の 診断の区分 | AM35: Ⅱ
L36: 対策区分の 判定結果 | O36: 対策区分毎の変状数注3 | Y36: Ⅳ | Z36: Ⅲ | AA36: Ⅱa | AB36: Ⅱb | AC36: Ⅳ | AD36: Ⅲ | AE36: Ⅱa | AF36: Ⅱb | AG36: Ⅳ | AH36: Ⅲ | AI36: Ⅱa | AJ36: Ⅱb
Y37: =IF(COUNTIF(Y11:Y34,"〇")>0,1,0) -> 0 | Z37: =IF(COUNTIF(Z11:Z34,"〇")>0,1,0) -> 0 | AA37: =IF(COUNTIF(AA11:AA34,"〇")>0,1,0) -> 0 | AB37: =IF(COUNTIF(AB11:AB34,"〇")>0,1,0) -> 0 | AC37: =COUNTA(AC11:AC34) -> 0 | AD37: =COUNTA(AD11:AD34) -> 0 | AE37: =COUNTA(AE11:AE34) -> 3 | AF37: =COUNTA(AF11:AF34) -> 9 | AG37: =COUNTA(AG11:AG34) -> 0 | AH37: =COUNTA(AH11:AH34) -> 0 | AI37: =COUNTA(AI11:AI34) -> 0 | AJ37: =COUNTA(AJ11:AJ34) -> 2 | AU37: =+Y37 -> 0
K39: 所見
K43: 注1：誤記入防止のため、当該変状区分以外のセルは灰色表示とすること。
K44: 注2：応急措置を実施した場合は、その詳細を備考に記載すること。
K45: 注3：外力は覆工スパン単位、材質劣化、漏水は変状単位とすること。
B46: （以下、印刷不要）
B47: ※1：本シートは作成洩れのないよう、変状が無くても全スパン分を作成すること．また変状展開図は、様式D-2-1、様式D-2-1'と同じものを覆工スパン単位で拡大し掲載すること。
B48: ※2：変状番号は、様式D-1-1で記入した番号と整合させること。
B49: ※3：対策区分毎の変状発生規模は、様式D-1-1に記載した面積を記入すること（ただし外力はスパン単位で評価するため変状の有無の欄には面積でなく○を記入し、備考欄に状況を記入）。
B50: ※4：本様式は覆工スパン毎に作成すること。
B51: ※5：変状数が多い場合は、適時、表の行を増やして覆工スパン毎に1枚のシートに収めること。また、1スパン１シートとし、スパンに合わせてシートを追加すること。
B52: ※6：対策区分毎の変状の発生範囲の規模とは，対策を行う際に参考となる変状の長さや面積であり，変状を包含する長さや面積とする。
B53: ※7：対策範囲を示す発生範囲の規模を面積で記入することが妥当ではない変状は、発生範囲の規模の欄に○を記入するとともに、備考に内容を記入すること。

Sheet 様式D-3_S007
AU1: 様式F用→ | AV1: 覆工スパン | AY1: 変 状 数 | BK1: 変 状 規 模
AV2: 番号 | AW2: 延長 （ｍ） | AX2: 健全性の診断の 区分 | AY2: 対策区分の判定 | BK2: 覆工スパン長（ｍ） | BO2: 変状の発生範囲の規模（㎡）
B3: ■定期点検記録様式 覆工スパン別変状詳細展開図 【様式D-3】 | AY3: 外力 | BC3: 材質劣化 | BG3: 漏水 | BK3: 外力 注2 | BO3: 材質劣化 | BS3: 漏水
B4: フリガナ | E4: ナカヤマトンネル | K4: 路線名 | N4: 主要地方道柳井周東線 | T4: 定期点検実施者 | Y4: 株式会社長大 | AG4: 定期点検年月日 | AK4: 45917 | AY4: Ⅳ | AZ4: Ⅲ | BA4: Ⅱa | BB4: Ⅱb | BC4: Ⅳ | BD4: Ⅲ | BE4: Ⅱa | BF4: Ⅱb | BG4: Ⅳ | BH4: Ⅲ | BI4: Ⅱa | BJ4: Ⅱb | BK4: Ⅳ | BL4: Ⅲ | BM4: Ⅱa | BN4: Ⅱb | BO4: Ⅳ | BP4: Ⅲ | BQ4: Ⅱa | BR4: Ⅱb | BS4: Ⅳ | BT4: Ⅲ | BU4: Ⅱa | BV4: Ⅱb
B5: 名 称 | E5: 中山トンネル | K5: 管理者名 | N5: 岩国土木建築事務所 | Y5: 鷲尾 寛 | AV5: =N7 -> S007 | AW5: =R7 -> 10.45 | AX5: =AM35 -> Ⅱ | AY5: =IF(Y37>0,Y37,"") | AZ5: =IF(Y37>0,"",IF(Z37>0,Z37,"")) | BA5: =IF(Y37+Z37>0,"",IF(AA37>0,AA37,"")) | BB5: =IF(Y37+Z37+AA37>0,"",IF(AB37>0,AB37,"")) | BC5: =AC37 -> 0 | BD5: =AD37 -> 0 | BE5: =AE37 -> 1 | BF5: =AF37 -> 12 | BG5: =AG37 -> 0 | BH5: =AH37 -> 0 | BI5: =AI37 -> 0 | BJ5: =AJ37 -> 0 | BK5: =IF(Y37>0,R7,"") | BL5: =IF(Y37>0,"",IF(Z37>0,R7,"")) | BM5: =IF(Y37+Z37>0,"",IF(AA37>0,R7,"")) | BN5: =IF(Y37+Z37+AA37>0,"",IF(AB37>0,R7,"")) | BO5: =AC35 -> 0 | BP5: =AD35 -> 0 | BQ5: =AE35 -> 0.01 | BR5: =AF35 -> 1.25 | BS5: =AG35 -> 0 | BT5: =AH35 -> 0 | BU5: =AI35 -> 0 | BV5: =AJ35 -> 0
B6: スパン別変状展開図 | K6: 【健全性判定集計表】
K7: スパン番号 | N7: S007 | P7: スパン長 | R7: 10.45 | U7: 前回定期点検時の判定 | W7: 応急措置前の判定 | Y7: 対策区分毎の 変状の有無 | AC7: 対策区分毎の変状の発生範囲の規模(㎡) | AK7: 備考注2
K8: 変状番号 | L8: 対象箇所 | N8: 部位区分 | P8: 変状区分 | R8: 変状種類
Y9: 外力注1 | AC9: 材質劣化注1 | AG9: 漏水注1
Y10: Ⅳ | Z10: Ⅲ | AA10: Ⅱa | AB10: Ⅱb | AC10: Ⅳ | AD10: Ⅲ | AE10: Ⅱa | AF10: Ⅱb | AG10: Ⅳ | AH10: Ⅲ | AI10: Ⅱa | AJ10: Ⅱb
K11: 1 | L11: 覆工 | N11: 横断目地（天端） | P11: 材質劣化 | R11: うき・はく離 | U11: Ⅱb | AF11: 0.06 | AQ11: =IF(P11="材質劣化",2,IF(P11="漏水",3,1)) -> 2 | AS11: =IF(Y11<>"",1,"")
K12: 16 | L12: 覆工 | N12: 横断目地（右側） | P12: 材質劣化 | R12: うき・はく離 | U12: Ⅱb | AF12: 0.02 | AQ12: =IF(P12="材質劣化",2,IF(P12="漏水",3,1)) -> 2
K13: 21 | L13: 覆工 | N13: アーチ（右側） | P13: 材質劣化 | R13: うき・はく離 | U13: Ⅱa | AE13: 0.01 | AQ13: =IF(P13="材質劣化",2,IF(P13="漏水",3,1)) -> 2
K14: 23 | L14: 覆工 | N14: 横断目地（右側） | P14: 材質劣化 | R14: うき・はく離 | U14: Ⅱb | AF14: 0.01 | AQ14: =IF(P14="材質劣化",2,IF(P14="漏水",3,1)) -> 2
K15: 31 | L15: 覆工 | N15: 水平打ち継ぎ目（左側） | P15: 材質劣化 | R15: うき・はく離 | U15: Ⅱa | AF15: 0.55 | AQ15: =IF(P15="材質劣化",2,IF(P15="漏水",3,1)) -> 2
K16: 33 | L16: 覆工 | N16: 水平打ち継ぎ目（左側） | P16: 材質劣化 | R16: うき・はく離 | U16: Ⅱa | AF16: 0.06 | AQ16: =IF(P16="材質劣化",2,IF(P16="漏水",3,1)) -> 2
K17: 34 | L17: 覆工 | N17: 水平打ち継ぎ目（左側） | P17: 材質劣化 | R17: うき・はく離 | U17: Ⅱa | AF17: 0.06 | AQ17: =IF(P17="材質劣化",2,IF(P17="漏水",3,1)) -> 2
K18: 36 | L18: 覆工 | N18: 水平打ち継ぎ目（右側） | P18: 材質劣化 | R18: うき・はく離 | U18: Ⅱa | AF18: 0.07 | AQ18: =IF(P18="材質劣化",2,IF(P18="漏水",3,1)) -> 2
K19: 37 | L19: 覆工 | N19: 水平打ち継ぎ目（右側） | P19: 材質劣化 | R19: うき・はく離 | U19: Ⅱa | AF19: 0.02 | AQ19: =IF(P19="材質劣化",2,IF(P19="漏水",3,1)) -> 2
K20: 38 | L20: 覆工 | N20: 水平打ち継ぎ目（右側） | P20: 材質劣化 | R20: うき・はく離 | U20: Ⅱa | AF20: 0.15 | AQ20: =IF(P20="材質劣化",2,IF(P20="漏水",3,1)) -> 2
K21: 39 | L21: 覆工 | N21: 水平打ち継ぎ目（右側） | P21: 材質劣化 | R21: うき・はく離 | U21: Ⅱa | AF21: 0.05 | AQ21: =IF(P21="材質劣化",2,IF(P21="漏水",3,1)) -> 2
K22: 44 | L22: 覆工 | N22: 水平打ち継ぎ目（右側） | P22: 材質劣化 | R22: うき・はく離 | U22: Ⅱa | AF22: 0.1 | AQ22: =IF(P22="材質劣化",2,IF(P22="漏水",3,1)) -> 2
K23: 45 | L23: 覆工 | N23: 水平打ち継ぎ目（右側） | P23: 材質劣化 | R23: うき・はく離 | U23: － | AF23: 0.1 | AQ23: =IF(P23="材質劣化",2,IF(P23="漏水",3,1)) -> 2
K24: 14 | AQ24: =IF(P24="材質劣化",2,IF(P24="漏水",3,1)) -> 1
K25: 15 | AQ25: =IF(P25="材質劣化",2,IF(P25="漏水",3,1)) -> 1
K26: 16 | AQ26: =IF(P26="材質劣化",2,IF(P26="漏水",3,1)) -> 1
K27: 17 | AQ27: =IF(P27="材質劣化",2,IF(P27="漏水",3,1)) -> 1
K28: 18 | AQ28: =IF(P30="材質劣化",2,IF(P30="漏水",3,1)) -> 1
K29: 19 | AQ29: =IF(P34="材質劣化",2,IF(P34="漏水",3,1)) -> 1
K30: 20 | AQ30: =IF(P30="材質劣化",2,IF(P30="漏水",3,1)) -> 1
K31: 21 | AQ31: =IF(P33="材質劣化",2,IF(P33="漏水",3,1)) -> 1
K32: 22 | AQ32: =IF(P37="材質劣化",2,IF(P37="漏水",3,1)) -> 1
K33: 23 | AQ33: =IF(P33="材質劣化",2,IF(P33="漏水",3,1)) -> 1
K34: 24 | AQ34: =IF(P36="材質劣化",2,IF(P36="漏水",3,1)) -> 1
K35: 集計 判定 診断 | L35: 変状の発生規模合計(㎡) | Y35: － | AC35: =SUM(AC11:AC34) -> 0 | AD35: =SUM(AD11:AD34) -> 0 | AE35: =SUM(AE11:AE34) -> 0.01 | AF35: =SUM(AF11:AF34) -> 1.25 | AG35: =SUM(AG11:AG34) -> 0 | AH35: =SUM(AH11:AH34) -> 0 | AI35: =SUM(AI11:AI34) -> 0 | AJ35: =SUM(AJ11:AJ34) -> 0 | AK35: 覆工スパン単位の 健全性の 診断の区分 | AM35: Ⅱ
L36: 対策区分の 判定結果 | O36: 対策区分毎の変状数注3 | Y36: Ⅳ | Z36: Ⅲ | AA36: Ⅱa | AB36: Ⅱb | AC36: Ⅳ | AD36: Ⅲ | AE36: Ⅱa | AF36: Ⅱb | AG36: Ⅳ | AH36: Ⅲ | AI36: Ⅱa | AJ36: Ⅱb
Y37: =IF(COUNTIF(Y11:Y34,"〇")>0,1,0) -> 0 | Z37: =IF(COUNTIF(Z11:Z34,"〇")>0,1,0) -> 0 | AA37: =IF(COUNTIF(AA11:AA34,"〇")>0,1,0) -> 0 | AB37: =IF(COUNTIF(AB11:AB34,"〇")>0,1,0) -> 0 | AC37: =COUNTA(AC11:AC34) -> 0 | AD37: =COUNTA(AD11:AD34) -> 0 | AE37: =COUNTA(AE11:AE34) -> 1 | AF37: =COUNTA(AF11:AF34) -> 12 | AG37: =COUNTA(AG11:AG34) -> 0 | AH37: =COUNTA(AH11:AH34) -> 0 | AI37: =COUNTA(AI11:AI34) -> 0 | AJ37: =COUNTA(AJ11:AJ34) -> 0 | AU37: =+Y37 -> 0
K39: 所見
K43: 注1：誤記入防止のため、当該変状区分以外のセルは灰色表示とすること。
K44: 注2：応急措置を実施した場合は、その詳細を備考に記載すること。
K45: 注3：外力は覆工スパン単位、材質劣化、漏水は変状単位とすること。
B46: （以下、印刷不要）
B47: ※1：本シートは作成洩れのないよう、変状が無くても全スパン分を作成すること．また変状展開図は、様式D-2-1、様式D-2-1'と同じものを覆工スパン単位で拡大し掲載すること。
B48: ※2：変状番号は、様式D-1-1で記入した番号と整合させること。
B49: ※3：対策区分毎の変状発生規模は、様式D-1-1に記載した面積を記入すること（ただし外力はスパン単位で評価するため変状の有無の欄には面積でなく○を記入し、備考欄に状況を記入）。
B50: ※4：本様式は覆工スパン毎に作成すること。
B51: ※5：変状数が多い場合は、適時、表の行を増やして覆工スパン毎に1枚のシートに収めること。また、1スパン１シートとし、スパンに合わせてシートを追加すること。
B52: ※6：対策区分毎の変状の発生範囲の規模とは，対策を行う際に参考となる変状の長さや面積であり，変状を包含する長さや面積とする。
B53: ※7：対策範囲を示す発生範囲の規模を面積で記入することが妥当ではない変状は、発生範囲の規模の欄に○を記入するとともに、備考に内容を記入すること。

Sheet 様式D-3_S008
AU1: 様式F用→ | AV1: 覆工スパン | AY1: 変 状 数 | BK1: 変 状 規 模
AV2: 番号 | AW2: 延長 （ｍ） | AX2: 健全性の診断の 区分 | AY2: 対策区分の判定 | BK2: 覆工スパン長（ｍ） | BO2: 変状の発生範囲の規模（㎡）
B3: ■定期点検記録様式 覆工スパン別変状詳細展開図 【様式D-3】 | AY3: 外力 | BC3: 材質劣化 | BG3: 漏水 | BK3: 外力 注2 | BO3: 材質劣化 | BS3: 漏水
B4: フリガナ | E4: ナカヤマトンネル | K4: 路線名 | N4: 主要地方道柳井周東線 | T4: 定期点検実施者 | Y4: 株式会社長大 | AG4: 定期点検年月日 | AK4: 45917 | AY4: Ⅳ | AZ4: Ⅲ | BA4: Ⅱa | BB4: Ⅱb | BC4: Ⅳ | BD4: Ⅲ | BE4: Ⅱa | BF4: Ⅱb | BG4: Ⅳ | BH4: Ⅲ | BI4: Ⅱa | BJ4: Ⅱb | BK4: Ⅳ | BL4: Ⅲ | BM4: Ⅱa | BN4: Ⅱb | BO4: Ⅳ | BP4: Ⅲ | BQ4: Ⅱa | BR4: Ⅱb | BS4: Ⅳ | BT4: Ⅲ | BU4: Ⅱa | BV4: Ⅱb
B5: 名 称 | E5: 中山トンネル | K5: 管理者名 | N5: 岩国土木建築事務所 | Y5: 鷲尾 寛 | AV5: =N7 -> S008 | AW5: =R7 -> 10.5 | AX5: =AM35 -> Ⅱ | AY5: =IF(Y37>0,Y37,"") | AZ5: =IF(Y37>0,"",IF(Z37>0,Z37,"")) | BA5: =IF(Y37+Z37>0,"",IF(AA37>0,AA37,"")) | BB5: =IF(Y37+Z37+AA37>0,"",IF(AB37>0,AB37,"")) | BC5: =AC37 -> 0 | BD5: =AD37 -> 0 | BE5: =AE37 -> 0 | BF5: =AF37 -> 15 | BG5: =AG37 -> 0 | BH5: =AH37 -> 0 | BI5: =AI37 -> 0 | BJ5: =AJ37 -> 0 | BK5: =IF(Y37>0,R7,"") | BL5: =IF(Y37>0,"",IF(Z37>0,R7,"")) | BM5: =IF(Y37+Z37>0,"",IF(AA37>0,R7,"")) | BN5: =IF(Y37+Z37+AA37>0,"",IF(AB37>0,R7,"")) | BO5: =AC35 -> 0 | BP5: =AD35 -> 0 | BQ5: =AE35 -> 0 | BR5: =AF35 -> 1.22 | BS5: =AG35 -> 0 | BT5: =AH35 -> 0 | BU5: =AI35 -> 0 | BV5: =AJ35 -> 0
B6: スパン別変状展開図 | K6: 【健全性判定集計表】
K7: スパン番号 | N7: S008 | P7: スパン長 | R7: 10.5 | U7: 前回定期点検時の判定 | W7: 応急措置前の判定 | Y7: 対策区分毎の 変状の有無 | AC7: 対策区分毎の変状の発生範囲の規模(㎡) | AK7: 備考注2
K8: 変状番号 | L8: 対象箇所 | N8: 部位区分 | P8: 変状区分 | R8: 変状種類
Y9: 外力注1 | AC9: 材質劣化注1 | AG9: 漏水注1
Y10: Ⅳ | Z10: Ⅲ | AA10: Ⅱa | AB10: Ⅱb | AC10: Ⅳ | AD10: Ⅲ | AE10: Ⅱa | AF10: Ⅱb | AG10: Ⅳ | AH10: Ⅲ | AI10: Ⅱa | AJ10: Ⅱb
K11: 8 | L11: 覆工 | N11: 横断目地（左側） | P11: 材質劣化 | R11: うき・はく離 | U11: Ⅱb | AF11: 0.02 | AQ11: =IF(P11="材質劣化",2,IF(P11="漏水",3,1)) -> 2 | AS11: =IF(Y11<>"",1,"")
K12: 9 | L12: 覆工 | N12: 横断目地（天端） | P12: 材質劣化 | R12: うき・はく離 | U12: Ⅱb | AF12: 0.16 | AQ12: =IF(P12="材質劣化",2,IF(P12="漏水",3,1)) -> 2
K13: 10 | L13: 覆工 | N13: 横断目地（天端） | P13: 材質劣化 | R13: うき・はく離 | U13: Ⅱb | AF13: 0.05 | AQ13: =IF(P13="材質劣化",2,IF(P13="漏水",3,1)) -> 2
K14: 16 | L14: 覆工 | N14: アーチ（天端） | P14: 材質劣化 | R14: うき・はく離 | U14: Ⅱb | AF14: 0.02 | AQ14: =IF(P14="材質劣化",2,IF(P14="漏水",3,1)) -> 2
K15: 24 | L15: 覆工 | N15: 水平打ち継ぎ目（左側） | P15: 材質劣化 | R15: うき・はく離 | U15: Ⅱa | AF15: 0.08 | AQ15: =IF(P15="材質劣化",2,IF(P15="漏水",3,1)) -> 2
K16: 25 | L16: 覆工 | N16: 水平打ち継ぎ目（左側） | P16: 材質劣化 | R16: うき・はく離 | U16: Ⅱa | AF16: 0.14 | AQ16: =IF(P16="材質劣化",2,IF(P16="漏水",3,1)) -> 2
K17: 26 | L17: 覆工 | N17: 水平打ち継ぎ目（左側） | P17: 材質劣化 | R17: うき・はく離 | U17: Ⅱa | AF17: 0.05 | AQ17: =IF(P17="材質劣化",2,IF(P17="漏水",3,1)) -> 2
K18: 27 | L18: 覆工 | N18: 水平打ち継ぎ目（左側） | P18: 材質劣化 | R18: うき・はく離 | U18: Ⅱa | AF18: 0.02 | AQ18: =IF(P18="材質劣化",2,IF(P18="漏水",3,1)) -> 2
K19: 28 | L19: 覆工 | N19: 水平打ち継ぎ目（左側） | P19: 材質劣化 | R19: うき・はく離 | U19: Ⅱa | AF19: 0.12 | AQ19: =IF(P19="材質劣化",2,IF(P19="漏水",3,1)) -> 2
K20: 29 | L20: 覆工 | N20: 側壁（左側） | P20: 材質劣化 | R20: うき・はく離 | U20: Ⅱb | AF20: 0.08 | AQ20: =IF(P20="材質劣化",2,IF(P20="漏水",3,1)) -> 2
K21: 31 | L21: 覆工 | N21: 側壁（左側） | P21: 材質劣化 | R21: 補修・補強材の破損 | U21: Ⅱb | AF21: 0.01 | AQ21: =IF(P21="材質劣化",2,IF(P21="漏水",3,1)) -> 2
K22: 32 | L22: 覆工 | N22: 水平打ち継ぎ目（右側） | P22: 材質劣化 | R22: うき・はく離 | U22: Ⅱa | AF22: 0.15 | AQ22: =IF(P22="材質劣化",2,IF(P22="漏水",3,1)) -> 2
K23: 33 | L23: 覆工 | N23: 水平打ち継ぎ目（右側） | P23: 材質劣化 | R23: うき・はく離 | U23: Ⅱa | AF23: 0.25 | AQ23: =IF(P23="材質劣化",2,IF(P23="漏水",3,1)) -> 2
... K25: 35 | L25: 覆工 | N25: 水平打ち継ぎ目（右側） | P25: 材質劣化 | R25: うき・はく離 | U25: Ⅱa | AF25: 0.04 | AQ25: =IF(P25="材質劣化",2,IF(P25="漏水",3,1)) -> 2
K26: 46 | L26: 路面 | N26: 側溝 | R26: その他 | U26: － | AK26: 1箇所 | AQ26: =IF(P26="材質劣化",2,IF(P26="漏水",3,1)) -> 1
K27: 17 | AQ27: =IF(P27="材質劣化",2,IF(P27="漏水",3,1)) -> 1
K28: 18 | AQ28: =IF(P30="材質劣化",2,IF(P30="漏水",3,1)) -> 1
K29: 19 | AQ29: =IF(P34="材質劣化",2,IF(P34="漏水",3,1)) -> 1
K30: 20 | AQ30: =IF(P30="材質劣化",2,IF(P30="漏水",3,1)) -> 1
K31: 21 | AQ31: =IF(P33="材質劣化",2,IF(P33="漏水",3,1)) -> 1
K32: 22 | AQ32: =IF(P37="材質劣化",2,IF(P37="漏水",3,1)) -> 1
K33: 23 | AQ33: =IF(P33="材質劣化",2,IF(P33="漏水",3,1)) -> 1
K34: 24 | AQ34: =IF(P36="材質劣化",2,IF(P36="漏水",3,1)) -> 1
K35: 集計 判定 診断 | L35: 変状の発生規模合計(㎡) | Y35: － | AC35: =SUM(AC11:AC34) -> 0 | AD35: =SUM(AD11:AD34) -> 0 | AE35: =SUM(AE11:AE34) -> 0 | AF35: =SUM(AF11:AF34) -> 1.22 | AG35: =SUM(AG11:AG34) -> 0 | AH35: =SUM(AH11:AH34) -> 0 | AI35: =SUM(AI11:AI34) -> 0 | AJ35: =SUM(AJ11:AJ34) -> 0 | AK35: 覆工スパン単位の 健全性の 診断の区分 | AM35: Ⅱ
L36: 対策区分の 判定結果 | O36: 対策区分毎の変状数注3 | Y36: Ⅳ | Z36: Ⅲ | AA36: Ⅱa | AB36: Ⅱb | AC36: Ⅳ | AD36: Ⅲ | AE36: Ⅱa | AF36: Ⅱb | AG36: Ⅳ | AH36: Ⅲ | AI36: Ⅱa | AJ36: Ⅱb
Y37: =IF(COUNTIF(Y11:Y34,"〇")>0,1,0) -> 0 | Z37: =IF(COUNTIF(Z11:Z34,"〇")>0,1,0) -> 0 | AA37: =IF(COUNTIF(AA11:AA34,"〇")>0,1,0) -> 0 | AB37: =IF(COUNTIF(AB11:AB34,"〇")>0,1,0) -> 0 | AC37: =COUNTA(AC11:AC34) -> 0 | AD37: =COUNTA(AD11:AD34) -> 0 | AE37: =COUNTA(AE11:AE34) -> 0 | AF37: =COUNTA(AF11:AF34) -> 15 | AG37: =COUNTA(AG11:AG34) -> 0 | AH37: =COUNTA(AH11:AH34) -> 0 | AI37: =COUNTA(AI11:AI34) -> 0 | AJ37: =COUNTA(AJ11:AJ34) -> 0 | AU37: =+Y37 -> 0
K39: 所見
K43: 注1：誤記入防止のため、当該変状区分以外のセルは灰色表示とすること。
K44: 注2：応急措置を実施した場合は、その詳細を備考に記載すること。
K45: 注3：外力は覆工スパン単位、材質劣化、漏水は変状単位とすること。
B46: （以下、印刷不要）
B47: ※1：本シートは作成洩れのないよう、変状が無くても全スパン分を作成すること．また変状展開図は、様式D-2-1、様式D-2-1'と同じものを覆工スパン単位で拡大し掲載すること。
B48: ※2：変状番号は、様式D-1-1で記入した番号と整合させること。
B49: ※3：対策区分毎の変状発生規模は、様式D-1-1に記載した面積を記入すること（ただし外力はスパン単位で評価するため変状の有無の欄には面積でなく○を記入し、備考欄に状況を記入）。
B50: ※4：本様式は覆工スパン毎に作成すること。
B51: ※5：変状数が多い場合は、適時、表の行を増やして覆工スパン毎に1枚のシートに収めること。また、1スパン１シートとし、スパンに合わせてシートを追加すること。
B52: ※6：対策区分毎の変状の発生範囲の規模とは，対策を行う際に参考となる変状の長さや面積であり，変状を包含する長さや面積とする。
B53: ※7：対策範囲を示す発生範囲の規模を面積で記入することが妥当ではない変状は、発生範囲の規模の欄に○を記入するとともに、備考に内容を記入すること。

Sheet 様式D-3_S009
AU1: 様式F用→ | AV1: 覆工スパン | AY1: 変 状 数 | BK1: 変 状 規 模
AV2: 番号 | AW2: 延長 （ｍ） | AX2: 健全性の診断の 区分 | AY2: 対策区分の判定 | BK2: 覆工スパン長（ｍ） | BO2: 変状の発生範囲の規模（㎡）
B3: ■定期点検記録様式 覆工スパン別変状詳細展開図 【様式D-3】 | AY3: 外力 | BC3: 材質劣化 | BG3: 漏水 | BK3: 外力 注2 | BO3: 材質劣化 | BS3: 漏水
B4: フリガナ | E4: ナカヤマトンネル | K4: 路線名 | N4: 主要地方道柳井周東線 | T4: 定期点検実施者 | Y4: 株式会社長大 | AG4: 定期点検年月日 | AK4: 45917 | AY4: Ⅳ | AZ4: Ⅲ | BA4: Ⅱa | BB4: Ⅱb | BC4: Ⅳ | BD4: Ⅲ | BE4: Ⅱa | BF4: Ⅱb | BG4: Ⅳ | BH4: Ⅲ | BI4: Ⅱa | BJ4: Ⅱb | BK4: Ⅳ | BL4: Ⅲ | BM4: Ⅱa | BN4: Ⅱb | BO4: Ⅳ | BP4: Ⅲ | BQ4: Ⅱa | BR4: Ⅱb | BS4: Ⅳ | BT4: Ⅲ | BU4: Ⅱa | BV4: Ⅱb
B5: 名 称 | E5: 中山トンネル | K5: 管理者名 | N5: 岩国土木建築事務所 | Y5: 鷲尾 寛 | AV5: =N7 -> S009 | AW5: =R7 -> 10.5 | AX5: =AM35 -> Ⅱ | AY5: =IF(Y37>0,Y37,"") | AZ5: =IF(Y37>0,"",IF(Z37>0,Z37,"")) | BA5: =IF(Y37+Z37>0,"",IF(AA37>0,AA37,"")) | BB5: =IF(Y37+Z37+AA37>0,"",IF(AB37>0,AB37,"")) | BC5: =AC37 -> 0 | BD5: =AD37 -> 0 | BE5: =AE37 -> 3 | BF5: =AF37 -> 17 | BG5: =AG37 -> 0 | BH5: =AH37 -> 0 | BI5: =AI37 -> 0 | BJ5: =AJ37 -> 1 | BK5: =IF(Y37>0,R7,"") | BL5: =IF(Y37>0,"",IF(Z37>0,R7,"")) | BM5: =IF(Y37+Z37>0,"",IF(AA37>0,R7,"")) | BN5: =IF(Y37+Z37+AA37>0,"",IF(AB37>0,R7,"")) | BO5: =AC35 -> 0 | BP5: =AD35 -> 0 | BQ5: =AE35 -> 0.09 | BR5: =AF35 -> 1.19 | BS5: =AG35 -> 0 | BT5: =AH35 -> 0 | BU5: =AI35 -> 0 | BV5: =AJ35 -> 4.18
B6: スパン別変状展開図 | K6: 【健全性判定集計表】
K7: スパン番号 | N7: S009 | P7: スパン長 | R7: 10.5 | U7: 前回定期点検時の判定 | W7: 応急措置前の判定 | Y7: 対策区分毎の 変状の有無 | AC7: 対策区分毎の変状の発生範囲の規模(㎡) | AK7: 備考注2
K8: 変状番号 | L8: 対象箇所 | N8: 部位区分 | P8: 変状区分 | R8: 変状種類
Y9: 外力注1 | AC9: 材質劣化注1 | AG9: 漏水注1
Y10: Ⅳ | Z10: Ⅲ | AA10: Ⅱa | AB10: Ⅱb | AC10: Ⅳ | AD10: Ⅲ | AE10: Ⅱa | AF10: Ⅱb | AG10: Ⅳ | AH10: Ⅲ | AI10: Ⅱa | AJ10: Ⅱb
K11: 6 | L11: 覆工 | N11: アーチ（天端） | P11: 漏水 | R11: 漏水 | U11: Ⅱb | AJ11: 4.18 | AQ11: =IF(P11="材質劣化",2,IF(P11="漏水",3,1)) -> 3 | AS11: =IF(Y11<>"",1,"")
K12: 11 | L12: 覆工 | N12: 横断目地（天端） | P12: 材質劣化 | R12: うき・はく離 | U12: Ⅱb | AF12: 0.05 | AQ12: =IF(P12="材質劣化",2,IF(P12="漏水",3,1)) -> 2
K13: 13 | L13: 覆工 | N13: アーチ（左側） | P13: 材質劣化 | R13: うき・はく離 | U13: Ⅱa | AE13: 0.06 | AQ13: =IF(P13="材質劣化",2,IF(P13="漏水",3,1)) -> 2
K14: 14 | L14: 覆工 | N14: アーチ（右側） | P14: 材質劣化 | R14: うき・はく離 | U14: Ⅱa | AE14: 0.02 | AQ14: =IF(P14="材質劣化",2,IF(P14="漏水",3,1)) -> 2
K15: 15 | L15: 覆工 | N15: アーチ（右側） | P15: 材質劣化 | R15: うき・はく離 | U15: Ⅱb | AF15: 0.07 | AQ15: =IF(P15="材質劣化",2,IF(P15="漏水",3,1)) -> 2
K16: 16 | L16: 覆工 | N16: 横断目地（右側） | P16: 材質劣化 | R16: うき・はく離 | U16: Ⅱb | AF16: 0.01 | AQ16: =IF(P16="材質劣化",2,IF(P16="漏水",3,1)) -> 2
K17: 30 | L17: 覆工 | N17: 水平打ち継ぎ目（左側） | P17: 材質劣化 | R17: うき・はく離 | U17: Ⅱa | AF17: 0.08 | AQ17: =IF(P17="材質劣化",2,IF(P17="漏水",3,1)) -> 2
K18: 31 | L18: 覆工 | N18: 水平打ち継ぎ目（左側） | P18: 材質劣化 | R18: うき・はく離 | U18: Ⅱa | AF18: 0.05 | AQ18: =IF(P18="材質劣化",2,IF(P18="漏水",3,1)) -> 2
K19: 32 | L19: 覆工 | N19: 水平打ち継ぎ目（左側） | P19: 材質劣化 | R19: うき・はく離 | U19: Ⅱa | AF19: 0.05 | AQ19: =IF(P19="材質劣化",2,IF(P19="漏水",3,1)) -> 2
K20: 33 | L20: 覆工 | N20: 側壁（左側） | P20: 材質劣化 | R20: うき・はく離 | U20: Ⅱb | AF20: 0.08 | AQ20: =IF(P20="材質劣化",2,IF(P20="漏水",3,1)) -> 2
K21: 34 | L21: 覆工 | N21: 側壁（左側） | P21: 材質劣化 | R21: うき・はく離 | U21: Ⅱb | AF21: 0.04 | AQ21: =IF(P21="材質劣化",2,IF(P21="漏水",3,1)) -> 2
K22: 37 | L22: 覆工 | N22: 水平打ち継ぎ目（左側） | P22: 材質劣化 | R22: うき・はく離 | U22: Ⅱa | AF22: 0.05 | AQ22: =IF(P22="材質劣化",2,IF(P22="漏水",3,1)) -> 2
K23: 38 | L23: 覆工 | N23: 水平打ち継ぎ目（右側） | P23: 材質劣化 | R23: うき・はく離 | U23: Ⅱa | AF23: 0.15 | AQ23: =IF(P23="材質劣化",2,IF(P23="漏水",3,1)) -> 2
K24: 40 | L24: 覆工 | N24: 水平打ち継ぎ目（右側） | P24: 材質劣化 | R24: うき・はく離 | U24: Ⅱa | AF24: 0.03 | AQ24: =IF(P24="材質劣化",2,IF(P24="漏水",3,1)) -> 2
K25: 41 | L25: 覆工 | N25: 水平打ち継ぎ目（右側） | P25: 材質劣化 | R25: うき・はく離 | U25: Ⅱa | AF25: 0.03 | AQ25: =IF(P25="材質劣化",2,IF(P25="漏水",3,1)) -> 2
K26: 42 | L26: 覆工 | N26: 水平打ち継ぎ目（右側） | P26: 材質劣化 | R26: うき・はく離 | U26: Ⅱa | AF26: 0.15 | AQ26: =IF(P26="材質劣化",2,IF(P26="漏水",3,1)) -> 2
K27: 43 | L27: 覆工 | N27: 側壁（右側） | P27: 材質劣化 | R27: うき・はく離 | U27: Ⅱb | AF27: 0.08 | AQ27: =IF(P27="材質劣化",2,IF(P27="漏水",3,1)) -> 2
K28: 44 | L28: 覆工 | N28: 側壁（右側） | P28: 材質劣化 | R28: うき・はく離 | U28: Ⅱb | AF28: 0.07 | AQ28: =IF(P30="材質劣化",2,IF(P30="漏水",3,1)) -> 2
K29: 51 | L29: 覆工 | N29: 水平打ち継ぎ目（左側） | P29: 材質劣化 | R29: うき・はく離 | U29: Ⅱa | AF29: 0.15 | AQ29: =IF(P34="材質劣化",2,IF(P34="漏水",3,1)) -> 1
K30: 52 | L30: 覆工 | N30: アーチ（天端） | P30: 材質劣化 | R30: 圧ざ、ひび割れ | U30: － | AF30: 0.05 | AQ30: =IF(P30="材質劣化",2,IF(P30="漏水",3,1)) -> 2
K31: 53 | L31: 覆工 | N31: アーチ（天端） | P31: 材質劣化 | R31: うき・はく離 | U31: － | AE31: 0.01 | AQ31: =IF(P33="材質劣化",2,IF(P33="漏水",3,1)) -> 1
K32: 54 | L32: 路面 | N32: 側溝 | R32: その他 | U32: － | AK32: 5箇所 | AQ32: =IF(P37="材質劣化",2,IF(P37="漏水",3,1)) -> 1
K33: 23 | AQ33: =IF(P33="材質劣化",2,IF(P33="漏水",3,1)) -> 1
K34: 24 | AQ34: =IF(P36="材質劣化",2,IF(P36="漏水",3,1)) -> 1
K35: 集計 判定 診断 | L35: 変状の発生規模合計(㎡) | Y35: － | AC35: =SUM(AC11:AC34) -> 0 | AD35: =SUM(AD11:AD34) -> 0 | AE35: =SUM(AE11:AE34) -> 0.09 | AF35: =SUM(AF11:AF34) -> 1.19 | AG35: =SUM(AG11:AG34) -> 0 | AH35: =SUM(AH11:AH34) -> 0 | AI35: =SUM(AI11:AI34) -> 0 | AJ35: =SUM(AJ11:AJ34) -> 4.18 | AK35: 覆工スパン単位の 健全性の 診断の区分 | AM35: Ⅱ
L36: 対策区分の 判定結果 | O36: 対策区分毎の変状数注3 | Y36: Ⅳ | Z36: Ⅲ | AA36: Ⅱa | AB36: Ⅱb | AC36: Ⅳ | AD36: Ⅲ | AE36: Ⅱa | AF36: Ⅱb | AG36: Ⅳ | AH36: Ⅲ | AI36: Ⅱa | AJ36: Ⅱb
Y37: =IF(COUNTIF(Y11:Y34,"〇")>0,1,0) -> 0 | Z37: =IF(COUNTIF(Z11:Z34,"〇")>0,1,0) -> 0 | AA37: =IF(COUNTIF(AA11:AA34,"〇")>0,1,0) -> 0 | AB37: =IF(COUNTIF(AB11:AB34,"〇")>0,1,0) -> 0 | AC37: =COUNTA(AC11:AC34) -> 0 | AD37: =COUNTA(AD11:AD34) -> 0 | AE37: =COUNTA(AE11:AE34) -> 3 | AF37: =COUNTA(AF11:AF34) -> 17 | AG37: =COUNTA(AG11:AG34) -> 0 | AH37: =COUNTA(AH11:AH34) -> 0 | AI37: =COUNTA(AI11:AI34) -> 0 | AJ37: =COUNTA(AJ11:AJ34) -> 1 | AU37: =+Y37 -> 0
K39: 所見
K43: 注1：誤記入防止のため、当該変状区分以外のセルは灰色表示とすること。
K44: 注2：応急措置を実施した場合は、その詳細を備考に記載すること。
K45: 注3：外力は覆工スパン単位、材質劣化、漏水は変状単位とすること。
B46: （以下、印刷不要）
B47: ※1：本シートは作成洩れのないよう、変状が無くても全スパン分を作成すること．また変状展開図は、様式D-2-1、様式D-2-1'と同じものを覆工スパン単位で拡大し掲載すること。
B48: ※2：変状番号は、様式D-1-1で記入した番号と整合させること。
B49: ※3：対策区分毎の変状発生規模は、様式D-1-1に記載した面積を記入すること（ただし外力はスパン単位で評価するため変状の有無の欄には面積でなく○を記入し、備考欄に状況を記入）。
B50: ※4：本様式は覆工スパン毎に作成すること。
B51: ※5：変状数が多い場合は、適時、表の行を増やして覆工スパン毎に1枚のシートに収めること。また、1スパン１シートとし、スパンに合わせてシートを追加すること。
B52: ※6：対策区分毎の変状の発生範囲の規模とは，対策を行う際に参考となる変状の長さや面積であり，変状を包含する長さや面積とする。
B53: ※7：対策範囲を示す発生範囲の規模を面積で記入することが妥当ではない変状は、発生範囲の規模の欄に○を記入するとともに、備考に内容を記入すること。

Sheet 様式D-3_S010
AU1: 様式F用→ | AV1: 覆工スパン | AY1: 変 状 数 | BK1: 変 状 規 模
AV2: 番号 | AW2: 延長 （ｍ） | AX2: 健全性の診断の 区分 | AY2: 対策区分の判定 | BK2: 覆工スパン長（ｍ） | BO2: 変状の発生範囲の規模（㎡）
B3: ■定期点検記録様式 覆工スパン別変状詳細展開図 【様式D-3】 | AY3: 外力 | BC3: 材質劣化 | BG3: 漏水 | BK3: 外力 注2 | BO3: 材質劣化 | BS3: 漏水
B4: フリガナ | E4: ナカヤマトンネル | K4: 路線名 | N4: 主要地方道柳井周東線 | T4: 定期点検実施者 | Y4: 株式会社長大 | AG4: 定期点検年月日 | AK4: 45917 | AY4: Ⅳ | AZ4: Ⅲ | BA4: Ⅱa | BB4: Ⅱb | BC4: Ⅳ | BD4: Ⅲ | BE4: Ⅱa | BF4: Ⅱb | BG4: Ⅳ | BH4: Ⅲ | BI4: Ⅱa | BJ4: Ⅱb | BK4: Ⅳ | BL4: Ⅲ | BM4: Ⅱa | BN4: Ⅱb | BO4: Ⅳ | BP4: Ⅲ | BQ4: Ⅱa | BR4: Ⅱb | BS4: Ⅳ | BT4: Ⅲ | BU4: Ⅱa | BV4: Ⅱb
B5: 名 称 | E5: 中山トンネル | K5: 管理者名 | N5: 岩国土木建築事務所 | Y5: 鷲尾 寛 | AV5: =N7 -> S010 | AW5: =R7 -> 10.5 | AX5: =AM35 -> Ⅱ | AY5: =IF(Y37>0,Y37,"") | AZ5: =IF(Y37>0,"",IF(Z37>0,Z37,"")) | BA5: =IF(Y37+Z37>0,"",IF(AA37>0,AA37,"")) | BB5: =IF(Y37+Z37+AA37>0,"",IF(AB37>0,AB37,"")) | BC5: =AC37 -> 0 | BD5: =AD37 -> 0 | BE5: =AE37 -> 0 | BF5: =AF37 -> 9 | BG5: =AG37 -> 0 | BH5: =AH37 -> 0 | BI5: =AI37 -> 0 | BJ5: =AJ37 -> 0 | BK5: =IF(Y37>0,R7,"") | BL5: =IF(Y37>0,"",IF(Z37>0,R7,"")) | BM5: =IF(Y37+Z37>0,"",IF(AA37>0,R7,"")) | BN5: =IF(Y37+Z37+AA37>0,"",IF(AB37>0,R7,"")) | BO5: =AC35 -> 0 | BP5: =AD35 -> 0 | BQ5: =AE35 -> 0 | BR5: =AF35 -> 1.38 | BS5: =AG35 -> 0 | BT5: =AH35 -> 0 | BU5: =AI35 -> 0 | BV5: =AJ35 -> 0
B6: スパン別変状展開図 | K6: 【健全性判定集計表】
K7: スパン番号 | N7: S010 | P7: スパン長 | R7: 10.5 | U7: 前回定期点検時の判定 | W7: 応急措置前の判定 | Y7: 対策区分毎の 変状の有無 | AC7: 対策区分毎の変状の発生範囲の規模(㎡) | AK7: 備考注2
K8: 変状番号 | L8: 対象箇所 | N8: 部位区分 | P8: 変状区分 | R8: 変状種類
Y9: 外力注1 | AC9: 材質劣化注1 | AG9: 漏水注1
Y10: Ⅳ | Z10: Ⅲ | AA10: Ⅱa | AB10: Ⅱb | AC10: Ⅳ | AD10: Ⅲ | AE10: Ⅱa | AF10: Ⅱb | AG10: Ⅳ | AH10: Ⅲ | AI10: Ⅱa | AJ10: Ⅱb
K11: 11 | L11: 覆工 | N11: 横断目地（天端） | P11: 材質劣化 | R11: うき・はく離 | U11: Ⅱb | AF11: 0.13 | AQ11: =IF(P11="材質劣化",2,IF(P11="漏水",3,1)) -> 2 | AS11: =IF(Y11<>"",1,"")
K12: 18 | L12: 覆工 | N12: アーチ（右側） | P12: 材質劣化 | R12: うき・はく離 | U12: Ⅱb | AF12: 0.13 | AQ12: =IF(P12="材質劣化",2,IF(P12="漏水",3,1)) -> 2
K13: 20 | L13: 覆工 | N13: 水平打ち継ぎ目（左側） | P13: 材質劣化 | R13: うき・はく離 | U13: Ⅱa | AF13: 0.3 | AQ13: =IF(P13="材質劣化",2,IF(P13="漏水",3,1)) -> 2
K14: 21 | L14: 覆工 | N14: 水平打ち継ぎ目（左側） | P14: 材質劣化 | R14: うき・はく離 | U14: Ⅱa | AF14: 0.16 | AQ14: =IF(P14="材質劣化",2,IF(P14="漏水",3,1)) -> 2
K15: 24 | L15: 覆工 | N15: 側壁（左側） | P15: 材質劣化 | R15: うき・はく離 | U15: Ⅱa | AF15: 0.01 | AQ15: =IF(P15="材質劣化",2,IF(P15="漏水",3,1)) -> 2
K16: 27 | L16: 覆工 | N16: 水平打ち継ぎ目（右側） | P16: 材質劣化 | R16: うき・はく離 | U16: Ⅱa | AF16: 0.02 | AQ16: =IF(P16="材質劣化",2,IF(P16="漏水",3,1)) -> 2
K17: 29 | L17: 覆工 | N17: 水平打ち継ぎ目（右側） | P17: 材質劣化 | R17: うき・はく離 | U17: Ⅱa | AF17: 0.53 | AQ17: =IF(P17="材質劣化",2,IF(P17="漏水",3,1)) -> 2
K18: 31 | L18: 覆工 | N18: 水平打ち継ぎ目（右側） | P18: 材質劣化 | R18: うき・はく離 | U18: Ⅱa | AF18: 0.08 | AQ18: =IF(P18="材質劣化",2,IF(P18="漏水",3,1)) -> 2
K19: 36 | L19: 覆工 | N19: 側壁（右側） | P19: 材質劣化 | R19: うき・はく離 | U19: － | AF19: 0.02 | AQ19: =IF(P19="材質劣化",2,IF(P19="漏水",3,1)) -> 2
K20: 37 | L20: 路面 | N20: 側溝 | R20: その他 | U20: － | AK20: 1箇所 | AQ20: =IF(P20="材質劣化",2,IF(P20="漏水",3,1)) -> 1
K21: 11 | AQ21: =IF(P21="材質劣化",2,IF(P21="漏水",3,1)) -> 1
K22: 12 | AQ22: =IF(P22="材質劣化",2,IF(P22="漏水",3,1)) -> 1
K23: 13 | AQ23: =IF(P23="材質劣化",2,IF(P23="漏水",3,1)) -> 1
K24: 14 | AQ24: =IF(P24="材質劣化",2,IF(P24="漏水",3,1)) -> 1
K25: 15 | AQ25: =IF(P25="材質劣化",2,IF(P25="漏水",3,1)) -> 1
K26: 16 | AQ26: =IF(P26="材質劣化",2,IF(P26="漏水",3,1)) -> 1
K27: 17 | AQ27: =IF(P27="材質劣化",2,IF(P27="漏水",3,1)) -> 1
K28: 18 | AQ28: =IF(P30="材質劣化",2,IF(P30="漏水",3,1)) -> 1
K29: 19 | AQ29: =IF(P34="材質劣化",2,IF(P34="漏水",3,1)) -> 1
K30: 20 | AQ30: =IF(P30="材質劣化",2,IF(P30="漏水",3,1)) -> 1
K31: 21 | AQ31: =IF(P33="材質劣化",2,IF(P33="漏水",3,1)) -> 1
K32: 22 | AQ32: =IF(P37="材質劣化",2,IF(P37="漏水",3,1)) -> 1
K33: 23 | AQ33: =IF(P33="材質劣化",2,IF(P33="漏水",3,1)) -> 1
K34: 24 | AQ34: =IF(P36="材質劣化",2,IF(P36="漏水",3,1)) -> 1
K35: 集計 判定 診断 | L35: 変状の発生規模合計(㎡) | Y35: － | AC35: =SUM(AC11:AC34) -> 0 | AD35: =SUM(AD11:AD34) -> 0 | AE35: =SUM(AE11:AE34) -> 0 | AF35: =SUM(AF11:AF34) -> 1.38 | AG35: =SUM(AG11:AG34) -> 0 | AH35: =SUM(AH11:AH34) -> 0 | AI35: =SUM(AI11:AI34) -> 0 | AJ35: =SUM(AJ11:AJ34) -> 0 | AK35: 覆工スパン単位の 健全性の 診断の区分 | AM35: Ⅱ
L36: 対策区分の 判定結果 | O36: 対策区分毎の変状数注3 | Y36: Ⅳ | Z36: Ⅲ | AA36: Ⅱa | AB36: Ⅱb | AC36: Ⅳ | AD36: Ⅲ | AE36: Ⅱa | AF36: Ⅱb | AG36: Ⅳ | AH36: Ⅲ | AI36: Ⅱa | AJ36: Ⅱb
Y37: =IF(COUNTIF(Y11:Y34,"〇")>0,1,0) -> 0 | Z37: =IF(COUNTIF(Z11:Z34,"〇")>0,1,0) -> 0 | AA37: =IF(COUNTIF(AA11:AA34,"〇")>0,1,0) -> 0 | AB37: =IF(COUNTIF(AB11:AB34,"〇")>0,1,0) -> 0 | AC37: =COUNTA(AC11:AC34) -> 0 | AD37: =COUNTA(AD11:AD34) -> 0 | AE37: =COUNTA(AE11:AE34) -> 0 | AF37: =COUNTA(AF11:AF34) -> 9 | AG37: =COUNTA(AG11:AG34) -> 0 | AH37: =COUNTA(AH11:AH34) -> 0 | AI37: =COUNTA(AI11:AI34) -> 0 | AJ37: =COUNTA(AJ11:AJ34) -> 0 | AU37: =+Y37 -> 0
K39: 所見
K43: 注1：誤記入防止のため、当該変状区分以外のセルは灰色表示とすること。
K44: 注2：応急措置を実施した場合は、その詳細を備考に記載すること。
K45: 注3：外力は覆工スパン単位、材質劣化、漏水は変状単位とすること。
B46: （以下、印刷不要）
B47: ※1：本シートは作成洩れのないよう、変状が無くても全スパン分を作成すること．また変状展開図は、様式D-2-1、様式D-2-1'と同じものを覆工スパン単位で拡大し掲載すること。
B48: ※2：変状番号は、様式D-1-1で記入した番号と整合させること。
B49: ※3：対策区分毎の変状発生規模は、様式D-1-1に記載した面積を記入すること（ただし外力はスパン単位で評価するため変状の有無の欄には面積でなく○を記入し、備考欄に状況を記入）。
B50: ※4：本様式は覆工スパン毎に作成すること。
B51: ※5：変状数が多い場合は、適時、表の行を増やして覆工スパン毎に1枚のシートに収めること。また、1スパン１シートとし、スパンに合わせてシートを追加すること。
B52: ※6：対策区分毎の変状の発生範囲の規模とは，対策を行う際に参考となる変状の長さや面積であり，変状を包含する長さや面積とする。
B53: ※7：対策範囲を示す発生範囲の規模を面積で記入することが妥当ではない変状は、発生範囲の規模の欄に○を記入するとともに、備考に内容を記入すること。

Sheet 様式D-3_PE
AU1: 様式F用→ | AV1: 覆工スパン | AY1: 変 状 数 | BK1: 変 状 規 模
AV2: 番号 | AW2: 延長 （ｍ） | AX2: 健全性の診断の 区分 | AY2: 対策区分の判定 | BK2: 覆工スパン長（ｍ） | BO2: 変状の発生範囲の規模（㎡）
B3: ■定期点検記録様式 覆工スパン別変状詳細展開図 【様式D-3】 | AY3: 外力 | BC3: 材質劣化 | BG3: 漏水 | BK3: 外力 注2 | BO3: 材質劣化 | BS3: 漏水
B4: フリガナ | E4: ナカヤマトンネル | K4: 路線名 | N4: 主要地方道柳井周東線 | T4: 定期点検実施者 | Y4: 株式会社長大 | AG4: 定期点検年月日 | AK4: 45917 | AY4: Ⅳ | AZ4: Ⅲ | BA4: Ⅱa | BB4: Ⅱb | BC4: Ⅳ | BD4: Ⅲ | BE4: Ⅱa | BF4: Ⅱb | BG4: Ⅳ | BH4: Ⅲ | BI4: Ⅱa | BJ4: Ⅱb | BK4: Ⅳ | BL4: Ⅲ | BM4: Ⅱa | BN4: Ⅱb | BO4: Ⅳ | BP4: Ⅲ | BQ4: Ⅱa | BR4: Ⅱb | BS4: Ⅳ | BT4: Ⅲ | BU4: Ⅱa | BV4: Ⅱb
B5: 名 称 | E5: 中山トンネル | K5: 管理者名 | N5: 岩国土木建築事務所 | Y5: 鷲尾 寛 | AV5: =N7 -> PE | AW5: =R7 -> 10.8 | AX5: =AM35 -> Ⅱ | AY5: =IF(Y37>0,Y37,"") | AZ5: =IF(Y37>0,"",IF(Z37>0,Z37,"")) | BA5: =IF(Y37+Z37>0,"",IF(AA37>0,AA37,"")) | BB5: =IF(Y37+Z37+AA37>0,"",IF(AB37>0,AB37,"")) | BC5: =AC37 -> 0 | BD5: =AD37 -> 0 | BE5: =AE37 -> 1 | BF5: =AF37 -> 11 | BG5: =AG37 -> 0 | BH5: =AH37 -> 0 | BI5: =AI37 -> 0 | BJ5: =AJ37 -> 0 | BK5: =IF(Y37>0,R7,"") | BL5: =IF(Y37>0,"",IF(Z37>0,R7,"")) | BM5: =IF(Y37+Z37>0,"",IF(AA37>0,R7,"")) | BN5: =IF(Y37+Z37+AA37>0,"",IF(AB37>0,R7,"")) | BO5: =AC35 -> 0 | BP5: =AD35 -> 0 | BQ5: =AE35 -> 0.01 | BR5: =AF35 -> 1.73 | BS5: =AG35 -> 0 | BT5: =AH35 -> 0 | BU5: =AI35 -> 0 | BV5: =AJ35 -> 0
B6: スパン別変状展開図 | K6: 【健全性判定集計表】
K7: スパン番号 | N7: PE | P7: スパン長 | R7: 10.8 | U7: 前回定期点検時の判定 | W7: 応急措置前の判定 | Y7: 対策区分毎の 変状の有無 | AC7: 対策区分毎の変状の発生範囲の規模(㎡) | AK7: 備考注2
K8: 変状番号 | L8: 対象箇所 | N8: 部位区分 | P8: 変状区分 | R8: 変状種類
Y9: 外力注1 | AC9: 材質劣化注1 | AG9: 漏水注1
Y10: Ⅳ | Z10: Ⅲ | AA10: Ⅱa | AB10: Ⅱb | AC10: Ⅳ | AD10: Ⅲ | AE10: Ⅱa | AF10: Ⅱb | AG10: Ⅳ | AH10: Ⅲ | AI10: Ⅱa | AJ10: Ⅱb
K11: 22 | L11: 覆工 | N11: アーチ（天端） | P11: 材質劣化 | R11: うき・はく離 | U11: Ⅱb | AF11: 0.04 | AQ11: =IF(P11="材質劣化",2,IF(P11="漏水",3,1)) -> 2 | AS11: =IF(Y11<>"",1,"")
K12: 23 | L12: 覆工 | N12: アーチ（天端） | P12: 材質劣化 | R12: その他 | U12: Ⅱb | AQ12: =IF(P12="材質劣化",2,IF(P12="漏水",3,1)) -> 2
K13: 24 | L13: 覆工 | N13: アーチ（天端） | P13: 材質劣化 | R13: その他 | U13: Ⅲ | AQ13: =IF(P13="材質劣化",2,IF(P13="漏水",3,1)) -> 2
K14: 43 | L14: 覆工 | N14: アーチ（右側） | P14: 材質劣化 | R14: うき・はく離 | U14: Ⅱb | AF14: 0.01 | AQ14: =IF(P14="材質劣化",2,IF(P14="漏水",3,1)) -> 2
K15: 44 | L15: 覆工 | N15: 水平打ち継ぎ目（左側） | P15: 材質劣化 | R15: うき・はく離 | U15: Ⅱa | AF15: 0.33 | AQ15: =IF(P15="材質劣化",2,IF(P15="漏水",3,1)) -> 2
K16: 45 | L16: 覆工 | N16: 水平打ち継ぎ目（左側） | P16: 材質劣化 | R16: うき・はく離 | U16: Ⅱa | AF16: 0.02 | AQ16: =IF(P16="材質劣化",2,IF(P16="漏水",3,1)) -> 2
K17: 46 | L17: 覆工 | N17: 水平打ち継ぎ目（左側） | P17: 材質劣化 | R17: うき・はく離 | U17: Ⅱa | AF17: 0.05 | AQ17: =IF(P17="材質劣化",2,IF(P17="漏水",3,1)) -> 2
K18: 47 | L18: 覆工 | N18: 水平打ち継ぎ目（左側） | P18: 材質劣化 | R18: うき・はく離 | U18: Ⅱa | AF18: 0.02 | AQ18: =IF(P18="材質劣化",2,IF(P18="漏水",3,1)) -> 2
K19: 48 | L19: 覆工 | N19: 水平打ち継ぎ目（左側） | P19: 材質劣化 | R19: うき・はく離 | U19: Ⅱa | AF19: 0.11 | AQ19: =IF(P19="材質劣化",2,IF(P19="漏水",3,1)) -> 2
K20: 52 | L20: 覆工 | N20: 水平打ち継ぎ目（右側） | P20: 材質劣化 | R20: うき・はく離 | U20: Ⅱa | AF20: 1.08 | AQ20: =IF(P20="材質劣化",2,IF(P20="漏水",3,1)) -> 2
K21: 55 | L21: 覆工 | N21: 側壁（右側） | P21: 材質劣化 | R21: 補修・補強材の破損 | U21: Ⅱa | AF21: 0.01 | AQ21: =IF(P21="材質劣化",2,IF(P21="漏水",3,1)) -> 2
K22: 56 | L22: 覆工 | N22: 側壁（右側） | P22: 材質劣化 | R22: 補修・補強材の破損 | U22: Ⅱa | AF22: 0.04 | AQ22: =IF(P22="材質劣化",2,IF(P22="漏水",3,1)) -> 2
K23: 59 | L23: 路面 | N23: 歩道 | P23: 漏水 | R23: 滞水 | U23: Ⅰ | AK23: 1.80m×9.40m | AQ23: =IF(P23="材質劣化",2,IF(P23="漏水",3,1)) -> 3
K24: 65 | L24: 覆工 | N24: 側壁（左側） | P24: 材質劣化 | R24: 補修・補強材の破損 | U24: － | AF24: 0.02 | AQ24: =IF(P24="材質劣化",2,IF(P24="漏水",3,1)) -> 2
K25: 66 | L25: 覆工 | N25: アーチ（左側） | P25: 材質劣化 | R25: うき・はく離 | U25: － | AE25: 0.01 | AQ25: =IF(P25="材質劣化",2,IF(P25="漏水",3,1)) -> 2
K26: 16 | AQ26: =IF(P26="材質劣化",2,IF(P26="漏水",3,1)) -> 1
K27: 17 | AQ27: =IF(P27="材質劣化",2,IF(P27="漏水",3,1)) -> 1
K28: 18 | AQ28: =IF(P30="材質劣化",2,IF(P30="漏水",3,1)) -> 1
K29: 19 | AQ29: =IF(P34="材質劣化",2,IF(P34="漏水",3,1)) -> 1
K30: 20 | AQ30: =IF(P30="材質劣化",2,IF(P30="漏水",3,1)) -> 1
K31: 21 | AQ31: =IF(P33="材質劣化",2,IF(P33="漏水",3,1)) -> 1
K32: 22 | AQ32: =IF(P37="材質劣化",2,IF(P37="漏水",3,1)) -> 1
K33: 23 | AQ33: =IF(P33="材質劣化",2,IF(P33="漏水",3,1)) -> 1
K34: 24 | AQ34: =IF(P36="材質劣化",2,IF(P36="漏水",3,1)) -> 1
K35: 集計 判定 診断 | L35: 変状の発生規模合計(㎡) | Y35: － | AC35: =SUM(AC11:AC34) -> 0 | AD35: =SUM(AD11:AD34) -> 0 | AE35: =SUM(AE11:AE34) -> 0.01 | AF35: =SUM(AF11:AF34) -> 1.73 | AG35: =SUM(AG11:AG34) -> 0 | AH35: =SUM(AH11:AH34) -> 0 | AI35: =SUM(AI11:AI34) -> 0 | AJ35: =SUM(AJ11:AJ34) -> 0 | AK35: 覆工スパン単位の 健全性の 診断の区分 | AM35: Ⅱ
L36: 対策区分の 判定結果 | O36: 対策区分毎の変状数注3 | Y36: Ⅳ | Z36: Ⅲ | AA36: Ⅱa | AB36: Ⅱb | AC36: Ⅳ | AD36: Ⅲ | AE36: Ⅱa | AF36: Ⅱb | AG36: Ⅳ | AH36: Ⅲ | AI36: Ⅱa | AJ36: Ⅱb
Y37: =IF(COUNTIF(Y11:Y34,"〇")>0,1,0) -> 0 | Z37: =IF(COUNTIF(Z11:Z34,"〇")>0,1,0) -> 0 | AA37: =IF(COUNTIF(AA11:AA34,"〇")>0,1,0) -> 0 | AB37: =IF(COUNTIF(AB11:AB34,"〇")>0,1,0) -> 0 | AC37: =COUNTA(AC11:AC34) -> 0 | AD37: =COUNTA(AD11:AD34) -> 0 | AE37: =COUNTA(AE11:AE34) -> 1 | AF37: =COUNTA(AF11:AF34) -> 11 | AG37: =COUNTA(AG11:AG34) -> 0 | AH37: =COUNTA(AH11:AH34) -> 0 | AI37: =COUNTA(AI11:AI34) -> 0 | AJ37: =COUNTA(AJ11:AJ34) -> 0 | AU37: =+Y37 -> 0
K39: 所見
K43: 注1：誤記入防止のため、当該変状区分以外のセルは灰色表示とすること。
K44: 注2：応急措置を実施した場合は、その詳細を備考に記載すること。
K45: 注3：外力は覆工スパン単位、材質劣化、漏水は変状単位とすること。
B46: （以下、印刷不要）
B47: ※1：本シートは作成洩れのないよう、変状が無くても全スパン分を作成すること．また変状展開図は、様式D-2-1、様式D-2-1'と同じものを覆工スパン単位で拡大し掲載すること。
B48: ※2：変状番号は、様式D-1-1で記入した番号と整合させること。
B49: ※3：対策区分毎の変状発生規模は、様式D-1-1に記載した面積を記入すること（ただし外力はスパン単位で評価するため変状の有無の欄には面積でなく○を記入し、備考欄に状況を記入）。
B50: ※4：本様式は覆工スパン毎に作成すること。
B51: ※5：変状数が多い場合は、適時、表の行を増やして覆工スパン毎に1枚のシートに収めること。また、1スパン１シートとし、スパンに合わせてシートを追加すること。
B52: ※6：対策区分毎の変状の発生範囲の規模とは，対策を行う際に参考となる変状の長さや面積であり，変状を包含する長さや面積とする。
B53: ※7：対策範囲を示す発生範囲の規模を面積で記入することが妥当ではない変状は、発生範囲の規模の欄に○を記入するとともに、備考に内容を記入すること。

Sheet 様式E
B2: ■定期点検記録様式 近接目視による状態の把握が不可能な箇所 【様式E】
B3: フリガナ | F3: ナカヤマトンネル | U3: 路 線 名 | Z3: 主要地方道柳井周東線 | AI3: 定期点検実施者 | AO3: 株式会社長大 | AW3: 定期点検年月日 | BC3: 45917
B4: 名 称 | F4: 中山トンネル | U4: 管理者名 | Z4: 岩国土木建築事務所 | AO4: 鷲尾 寛
B5: 覆工スパン 番号 | H5: 対象箇所 | P5: 不可能な理由 | AN5: 対応策
D20: 注）近接目視又は打音、触診ができない箇所を記載する。現状の評価、日常の維持管理での注意点を記載する。
D21: ※ 数が多い場合は、適時、表の行を増やすこと。

Sheet 様式F 
B1: ■定期点検記録様式 覆工スパン毎の変状数・変状規模の集計 【様式F】
B2: フリガナ | F2: ナカヤマトンネル | L2: 路線名 | O2: 主要地方道柳井周東線 | T2: 定期点検実施者 | V2: 株式会社長大 鷲尾 寛 | Y2: 定期点検 年月日 | Z2: 45917
B3: 名 称 | F3: 中山トンネル | L3: 管理者名 | O3: 岩国土木建築事務所
B5: 【覆工スパン毎の変状数, 変状規模】
B6: 覆工スパン | E6: 変 状 数 | Q6: 変 状 規 模
B7: 番号 | C7: 延長 （ｍ） | D7: 健全性の診断の 区分 | E7: 対策区分の判定注1 | Q7: 覆工スパン長（ｍ） | U7: 変状の発生範囲の規模（㎡）
E8: 外力 | I8: 材質劣化 | M8: 漏水 | Q8: 外力 注2 | U8: 材質劣化 | Y8: 漏水
E9: Ⅳ | F9: Ⅲ | G9: Ⅱa | H9: Ⅱb | I9: Ⅳ | J9: Ⅲ | K9: Ⅱa | L9: Ⅱb | M9: Ⅳ | N9: Ⅲ | O9: Ⅱa | P9: Ⅱb | Q9: Ⅳ | R9: Ⅲ | S9: Ⅱa | T9: Ⅱb | U9: Ⅳ | V9: Ⅲ | W9: Ⅱa | X9: Ⅱb | Y9: Ⅳ | Z9: Ⅲ | AA9: Ⅱa | AB9: Ⅱb
B10: ='様式D-3_PS'!AV5 -> PS | C10: ='様式D-3_PS'!AW5 -> 8.7 | D10: ='様式D-3_PS'!AX5 -> Ⅱ | E10: ='様式D-3_PS'!AY5 | F10: ='様式D-3_PS'!AZ5 | G10: ='様式D-3_PS'!BA5 | H10: ='様式D-3_PS'!BB5 | I10: ='様式D-3_PS'!BC5 -> 0 | ... AB10: ='様式D-3_PS'!BV5 -> 0
B11: ='様式D-3_S001'!AV5 -> S001 | C11: ='様式D-3_S001'!AW5 -> 10.5 | D11: ='様式D-3_S001'!AX5 -> Ⅱ | E11: ='様式D-3_S001'!AY5 | F11: ='様式D-3_S001'!AZ5 | G11: ='様式D-3_S001'!BA5 | H11: ='様式D-3_S001'!BB5 | I11: ='様式D-3_S001'!BC5 -> 0 | ... AB11: ='様式D-3_S001'!BV5 -> 0
B12: ='様式D-3_S002'!AV5 -> S002 | C12: ='様式D-3_S002'!AW5 -> 10.5 | D12: ='様式D-3_S002'!AX5 -> Ⅱ | E12: ='様式D-3_S002'!AY5 | F12: ='様式D-3_S002'!AZ5 | G12: ='様式D-3_S002'!BA5 | H12: ='様式D-3_S002'!BB5 | I12: ='様式D-3_S002'!BC5 -> 0 | ... AB12: ='様式D-3_S002'!BV5 -> 0
B13: ='様式D-3_S003'!AV5 -> S003 | C13: ='様式D-3_S003'!AW5 -> 10.5 | D13: ='様式D-3_S003'!AX5 -> Ⅱ | E13: ='様式D-3_S003'!AY5 | F13: ='様式D-3_S003'!AZ5 | G13: ='様式D-3_S003'!BA5 | H13: ='様式D-3_S003'!BB5 | I13: ='様式D-3_S003'!BC5 -> 0 | ... AB13: ='様式D-3_S003'!BV5 -> 0
B14: ='様式D-3_S004'!AV5 -> S004 | C14: ='様式D-3_S004'!AW5 -> 10.5 | D14: ='様式D-3_S004'!AX5 -> Ⅱ | E14: ='様式D-3_S004'!AY5 | F14: ='様式D-3_S004'!AZ5 | G14: ='様式D-3_S004'!BA5 | H14: ='様式D-3_S004'!BB5 | I14: ='様式D-3_S004'!BC5 -> 0 | ... AB14: ='様式D-3_S004'!BV5 -> 13.56
B15: ='様式D-3_S005'!AV5 -> S005 | C15: ='様式D-3_S005'!AW5 -> 10.5 | D15: ='様式D-3_S005'!AX5 -> Ⅱ | E15: ='様式D-3_S005'!AY5 | F15: ='様式D-3_S005'!AZ5 | G15: ='様式D-3_S005'!BA5 | H15: ='様式D-3_S005'!BB5 | I15: ='様式D-3_S005'!BC5 -> 0 | ... AB15: ='様式D-3_S005'!BV5 -> 0
B16: ='様式D-3_S006'!AV5 -> S006 | C16: ='様式D-3_S006'!AW5 -> 10.5 | D16: ='様式D-3_S006'!AX5 -> Ⅱ | E16: ='様式D-3_S006'!AY5 | F16: ='様式D-3_S006'!AZ5 | G16: ='様式D-3_S006'!BA5 | H16: ='様式D-3_S006'!BB5 | I16: ='様式D-3_S006'!BC5 -> 0 | ... AB16: ='様式D-3_S006'!BV5 -> 6.83
B17: ='様式D-3_S007'!AV5 -> S007 | C17: ='様式D-3_S007'!AW5 -> 10.45 | D17: ='様式D-3_S007'!AX5 -> Ⅱ | E17: ='様式D-3_S007'!AY5 | F17: ='様式D-3_S007'!AZ5 | G17: ='様式D-3_S007'!BA5 | H17: ='様式D-3_S007'!BB5 | I17: ='様式D-3_S007'!BC5 -> 0 | ... AB17: ='様式D-3_S007'!BV5 -> 0
B18: ='様式D-3_S008'!AV5 -> S008 | C18: ='様式D-3_S008'!AW5 -> 10.5 | D18: ='様式D-3_S008'!AX5 -> Ⅱ | E18: ='様式D-3_S008'!AY5 | F18: ='様式D-3_S008'!AZ5 | G18: ='様式D-3_S008'!BA5 | H18: ='様式D-3_S008'!BB5 | I18: ='様式D-3_S008'!BC5 -> 0 | ... AB18: ='様式D-3_S008'!BV5 -> 0
B19: ='様式D-3_S009'!AV5 -> S009 | C19: ='様式D-3_S009'!AW5 -> 10.5 | D19: ='様式D-3_S009'!AX5 -> Ⅱ | E19: ='様式D-3_S009'!AY5 | F19: ='様式D-3_S009'!AZ5 | G19: ='様式D-3_S009'!BA5 | H19: ='様式D-3_S009'!BB5 | I19: ='様式D-3_S009'!BC5 -> 0 | ... AB19: ='様式D-3_S009'!BV5 -> 4.18
B20: ='様式D-3_S010'!AV5 -> S010 | C20: ='様式D-3_S010'!AW5 -> 10.5 | D20: ='様式D-3_S010'!AX5 -> Ⅱ | E20: ='様式D-3_S010'!AY5 | F20: ='様式D-3_S010'!AZ5 | G20: ='様式D-3_S010'!BA5 | H20: ='様式D-3_S010'!BB5 | I20: ='様式D-3_S010'!BC5 -> 0 | ... AB20: ='様式D-3_S010'!BV5 -> 0
B21: ='様式D-3_PE'!AV5 -> PE | C21: ='様式D-3_PE'!AW5 -> 10.8 | D21: ='様式D-3_PE'!AX5 -> Ⅱ | E21: ='様式D-3_PE'!AY5 | F21: ='様式D-3_PE'!AZ5 | G21: ='様式D-3_PE'!BA5 | H21: ='様式D-3_PE'!BB5 | I21: ='様式D-3_PE'!BC5 -> 0 | ... AB21: ='様式D-3_PE'!BV5 -> 0
B44: 計 | E44: =SUM(E10:E43) -> 0 | F44: =SUM(F10:F43) -> 0 | G44: =SUM(G10:G43) -> 0 | H44: =SUM(H10:H43) -> 0 | I44: =SUM(I10:I43) -> 0 | J44: =SUM(J10:J43) -> 0 | K44: =SUM(K10:K43) -> 14 | L44: =SUM(L10:L43) -> 129 | ... AB44: =SUM(AB10:AB43) -> 24.57
G45: =G44+H44 -> 0 | K45: =K44+L44 -> 143 | O45: =O44+P44 -> 4
B46: 注１：外力は覆工スパン単位で診断するため、覆工スパンの中で最も評価の厳しい対策区分の判定の区分欄にのみスパン数1を、材質劣化、漏水はそれぞれの対策区分に変状数を記入すること。
B47: 注２：外力は覆工スパン単位で診断するため、覆工スパンの中で最も評価の厳しい対策区分の判定の区分欄にのみスパン長を記入すること。
B48: ※１：本様式は様式D‐3の集計結果を掲載すること。
B49: ※２：覆工スパン数が多い場合は、適時、表の行を増やしてトンネル毎に1枚のシートに収めること。
B50: ※３：本様式の集計結果に基づいて、様式Bのトンネル本体工における変状区分毎の対策区分の箇所を記載する。

Sheet 様式G
B2: ■定期点検記録様式 健全性の診断の区分に関する所見【様式G】 | U2: 施設ID | X2: 34.03558,132.05172
B3: フリガナ | E3: ナカヤマトンネル | I3: 路線名 | L3: 主要地方道柳井周東線 | O3: 定期点検実施者 | R3: 株式会社長大 | U3: 定期点検年月日 | X3: 45917
B4: 名 称 | E4: 中山トンネル | I4: 管理者名 | L4: 岩国土木建築事務所 | R4: 鷲尾 寛
B5: 道路トンネルの健全性の診断の区分の所見
B6: 【概要】本トンネルの健全性の診断の区分は、予防保全の観点からⅡa判定とする。 1) 変状・異常の内容とそれが確認された部材・部位（客観的事実） ・点検で確認された変状は、縦横断方向のひび割れ（Ⅱb判定）、覆工（アーチ、横断目地、水平打ち継ぎ目、ひび割れ沿い）のうき（Ⅱa判定）・豆板（Ⅱa判定）、グラウト孔のうき（Ⅱa判定）、覆工（アーチ）の漏水（Ⅱb判定）、灯具の腐食・デリネータ―の破損（×判定）であった。 ・アーチ部に発生するひび割れのうち、進行性が認められないひび割れについては、Ⅱb判定とし、監視を行う。 ・うきについては、進行性が認められないことや利用者被害の可能性が低いことからⅡb判定とし、監視を行う。 ・PEの歩道部に見られる滞水については、今回の点検時に排水溝の植生による排水不良が清掃されていたため、Ⅰ判定とする。 ・坑内照明としてナトリウム灯が設置されているが、灯具の大半に腐食が見られる。 2) 変状等の原因（推定） ・ひび割れは経年による「乾燥収縮」によって発生したものと推定される。 ・ひび割れや横断目地沿いのうきは、コンクリートの伸縮に起因して新たなひび割れが派生し、うきに至ったものと推定される。 ・灯具は、経年による腐食に加えて、融雪剤の影響を受け腐食が促進されたものと推測する。 3) 施設の現状と次回定期点検まで及び将来における構造物の状態（推定） ・本トンネルは、中生代白亜紀（1億～7千万年前）の山陽帯に属する花崗岩が分布する。なお、トンネルの約1km南側には領家型の花崗岩が分布する。 ・現状として、道路トンネルの構造物としての安全性や安定性を損なう変状は見られない。 ・緊急性の高い変状は認められないが、重点監視（2年程度以内を目安に近接目視を行うこと）が必要なⅡa以上の変状が見られる。 ・ひび割れに沿ってうきが見られ、今後も、気温変動に伴うコンクリートの伸縮によって新たなうきが発生する可能性がある。 ・横断目地沿いに豆板が散見されるが、現状で骨材が抜け落ちる恐れはない。 ・灯具の大半に腐食が見られており、一部では蓋の脱落防止として応急処置（番線固定）がなされている。将来的に腐食の進行とともに、蓋の脱落が懸念される。 ・現状として地すべり、膨張性地山、有害水等の特定事象の作用を示唆する変状は見られていない。 4) 措置の必要性の判断に関わる事項 ・現状、構造安定性を損なう状況ではないため、構造安定性に対する措置は不要である。 ・うきに対して、はつり落しやFRPネット工および繊維シート接着工等によるはく落防止対策の実施が望ましいと判断する。 ・照明については、更新の必要性が高いものと判断する。 5) その他、次回定期点検へ引き継ぐ事項等 ・漏水の変状（PE歩道部の滞水）については、管理者へのヒアリングや季節に応じた観察を行い、判定に活用することが望ましい。

Sheet (参考)リスト
B4: 様式A～B
