Workbook
Name その他: '(参考)リスト'!$C$47
Name その他施設: '[1](参考)リスト'!#REF!
Name その他施設: '(参考)リスト'!$C$79:$C$83
Name 換気施設: '[1](参考)リスト'!#REF!
Name 換気施設: '(参考)リスト'!$C$56:$C$60
Name 坑門: '(参考)リスト'!$C$31:$C$32
Name 照明施設: '[1](参考)リスト'!#REF!
Name 照明施設: '(参考)リスト'!$C$52:$C$54
Name 対象箇所: [2]!テーブル1[対象箇所]
Name 天井板: '(参考)リスト'!$C$37:$C$39
Name 内装板: '(参考)リスト'!$C$34:$C$35
Name 非常用施設: '[1](参考)リスト'!#REF!
Name 非常用施設: '(参考)リスト'!$C$62:$C$77
Name 覆工: '(参考)リスト'!$C$16:$C$29
Name 路面: '(参考)リスト'!$C$41:$C$45

Sheet 点検様式作成フロー
A1: 点検様式作成フロ-
A3: 作成フロー図 | H3: 点検調書作成手順
H4: ①様式A-1～A-3（トンネル台帳）
H5: トンネル点検の実施にあたっては，現場点検作業に先行してトンネル情報を収集する。トンネル台帳（様式Ａ－1～様式Ａ－3）はトンネル完成後に作成され，維持管理の段階で引き継がれるが，関連資料等を確認したうえで，追加情報があれば必要に応じて追記することが望ましい。
H9: ②様式D-2-1、様式D-2-1´
H10: 現場点検作業を実施し，近接目視点検で確認した変状状況や補修履歴を忠実に変状展開図に転記する。
H12: ③様式D-1-1、様式D-1-2
H13: 変状展開図や撮影した写真等をもとに，対象トンネルの対策区分を決定し，対策区分がⅡ～Ⅳの変状および異常判定区分「×」を抽出し，写真台帳を作成する。
H16: ④様式B
H17: 写真台帳の作成と同時に，トンネルの構造を展開した位置図に変状写真位置を記録する。
H19: ⑤様式D-3
H20: 変状展開図ならびに写真台帳をもとに覆工スパンごとの変状展開図を作成し，変状発生状況をとりまとめる。
H22: ⑥様式E
H23: 近接目視または打音検査，触診ができていない箇所および近接目視によらない方法を講じた場所に対する調査結果を記録する。
... H33: すること。 ※各ファイルとも （参考）リスト のシートを付けて保存すること。

Sheet 変状面積算出方法
A1: 変状面積算出方法
A26: 注1）外力による変状：ひび割れや圧ざの場合は変状の寸法を記録する。
A27: 例）ひび割れ：長さ（L）×最大ひび割れ幅（t）を記録する。 変形，移動，沈下：数値的な記載が可能な場合のみ記載する。
A28: 注2）材料劣化による：打音異常
A29: 例）うき，はく離（閉合ひび割れ）：変状範囲を包括する寸法（L×W） うき，はく離（ひび割れ沿い）：打音異常箇所を包括する寸法（L×W） 鋼材腐食（鉄筋腐食）：一括した対策が適当と考えられる範囲を包括する寸法（L×W）
A30: 注3）漏水による変状：漏水発生範囲を包括し，垂れ下がりの可能性がある側壁下端まで含めた寸法を，L×Wで記録する。打継ぎ目地沿いの 漏水については目地を跨いだ50cm幅を横幅とする。

Sheet 記入の留意点
B2: トンネルDBでは、Excelに記載された文字や数値・配置された画像を自動的に読込みデータベースへ登録します。
B3: 記録様式へ記入の留意点を下記に示します。
B5: １．記録様式への記入
C6: ➤各セルに表示されるコメントに従って、様式A-1～様式Gのシートに、点検結果（テキスト入力、選択項目）を入力してください。
C7: ➤位置図(様式B)、変状写真(様式D-1-1)、異常写真(様式D-1-2)は記入した変状写真番号等に対応した画像を間違いないように貼り付けてください。
C8: ➤列や行の挿入削除は行わず、セルの位置がずれないようにしてください。データベースへ読み取り時にずれて取り込まれてしまいます。
B11: ２．画像ファイルの配置の注意点
C12: 登録に使用可能な画像ファイルの拡張子は「jpg」「jpeg」「png」の3種類のみです。
C13: 必ず、１か所に画像１枚のみを張り付けてください。エクセルの図形などのオブジェクトは使用しないでください。
C14: 張り付けた画像はエクセルのトリミング機能を使用しないでください。あらかじめ切り抜いた画像を利用してください。
C15: ※１ 画像の左上を必ずセルの内部に含め、はみ出ないようにしてください。
C16: ※２ 図の書式設定で「セルに合わせて移動やサイズを変更しない」のモードを使用しないでください。
C32: ※３ 「挿入」→「画像」→「セルの上に配置」してください。
B41: ３．シート名の連番について
C42: １ページに記載しきれない場合は、１シート内にページを増やすのではなくシート自体をコピーしシート名の末尾を連番にしてください。
C43: 対象様式
C44: 様式B
C45: 様式D-1-1
C46: 様式D-1-2
C47: 様式D-2-1
C48: 様式D-2-1´
C49: 様式D-3_S00 ※スパン名を記載
C50: 様式G
C52: 末尾の連番の形式例
C53: 様式B(1) 様式B(2) 様式B(3)
C54: 様式B_001 様式B_002 様式B_003
... C61: で示される要領を制限するものではありません。

Sheet 様式A-1
B2: ■トンネル台帳 トンネル諸元、非常用施設諸元 【様式A-1】 | S2: 施設ID | W2: 34.12836,132.17178
B3: フリガナ | D3: ナカヤマトンネル | H3: 路線名 | J3: 一般県道藤生停車場錦帯橋線 | P3: 管理者名 | R3: 山口県岩国土木建築事務所 | W3: 緊急輸送道路 | Z3: 指定なし
B4: 名 称 | D4: 中山トンネル | W4: 代替路の有無 | Z4: 無
B5: 所在地 | D5: 自 | E5: 岩国市平田 | H5: 作成者 | K5: 復建調査設計㈱・小笠原洋 | P5: 作成年月日 | R5: 45967 | U5: トンネル延長 | X5: L= | Z5: 508 | AB5: ｍ
D6: 至 | E6: 岩国市御庄 | U6: ﾄﾝﾈﾙの分類 | X6: 陸上トンネル（掘進工法）
B7: 起点 | C7: 緯度 | E7: 34.14516 | H7: 完成年月日 | K7: 2002年 | M7: 舗装 | O7: 種 別 | Q7: セメント系 | S7: トンネル非常用施設 | T7: 施設の内訳 | X7: 種別・方式 | Y7: 型式 | Z7: 個数 | AA7: 更新年度 | AE7: =INT(E7/10000) -> 0 | AF7: =INT(E7/100)-AE7*100 -> 0 | AG7: =E7-AE7*10000-AF7*100 -> 34.14516 | AH7: =ROUND(AE7+AF7/60+AG7/60/60,5) -> 0.00948 | AI7: =TEXT(AH7,"0.00000") -> 0.00948
C8: 経度 | E8: 132.1714 | H8: 供用年月日 | K8: 2005年 | O8: 厚 さ | Q8: 25cm | T8: 通報設備 | U8: 通話型通報設備 | Z8: 8 | AE8: =INT(E8/10000) -> 0 | AF8: =INT(E8/100)-AE8*100 -> 1 | AG8: =E8-AE8*10000-AF8*100 -> 32.1714 | AH8: =ROUND(AE8+AF8/60+AG8/60/60,5) -> 0.0256 | AI8: =TEXT(AH8,"0.00000") -> 0.02560
B9: 終点 | C9: 緯度 | E9: 34.147063 | H9: トンネル区分 | K9: B | O9: 面 積 | Q9: 3586 | U9: 操作型通報設備 | Z9: 11
C10: 経度 | E10: 132.16652 | H10: 内装種類 | K10: なし | O10: 更新年次 | U10: 自動通報設備
B11: 一般有料区分 | E11: 一般トンネル | H11: 天井板種類 | K11: なし | M11: 排水 | O11: 種 別 | Q11: U型側溝排水 | T11: 警報設備 | U11: 非常警報設備
B12: 土かぶり | E12: 100 | G12: m | H12: 坑門 | I12: 起点 | J12: 形式 | K12: 面壁型 | O12: 更新年次 | T12: 消火設備 | U12: 消 火 器
B13: 内空断面積 | E13: 61.8 | G13: m2 | J13: 延長 | K13: 0.8 | L13: m | M13: 施設 | P13: 種別・方式 | Q13: 個数 | R13: 更新年次 | U13: 消火栓設備
B14: 交 通 量 | G14: 台/日 | I14: 終点 | J14: 形式 | K14: 面壁型 | M14: 道路附属物等 | N14: 照明 | P14: ナトリウム灯 | Q14: 135 | T14: 避難誘導設備 | U14: 誘導表示設備 | Z14: 36
C15: 道 路 幅 | E15: 10.75 | G15: m | J15: 延長 | K15: 0.8 | L15: m | N15: 換気 | U15: 避難情報提供設備
B16: 幅 員 | C16: 車 道 幅 | E16: 3.25 | G16: m | H16: 竣工巻厚 | I16: アーチ | K16: 30 | L16: cm | N16: 標識
E17: 3.25 | G17: m | I17: 側 壁 | K17: 30 | L17: cm | N17: 警報表示板 | U17: 避難通路
C18: 歩道等幅 | E18: 2.5 | G18: m | K18: 30 | L18: cm | N18: 吸音板 | U18: 排煙設備
B19: 高さ | C19: 建築限界高 | E19: 4.7 | G19: m | I19: インバート | K19: 50 | L19: cm | T19: その他の設備 | U19: 給水栓設備
C20: 中央高 | E20: 6.6 | G20: m | H20: 半径 | I20: アーチ | K20: 5850 | L20: cm | U20: 無線通信補助設備
C21: 有効高 | E21: 4.7 | G21: m | I21: 側 壁 | K21: 11700 | L21: cm | U21: 水噴霧設備
C22: 縦断勾配 | I22: インバート | K22: 18400 | L22: cm | U22: 監視設備
B23: 線 形 | C23: 直線区間長 | E23: 182.9 | H23: 占用物件 | I23: 種 類 | K23: 寸 法 | M23: 管理者名 | Q23: 更新年次 | S23: 非常用施設 関連設備 | U23: 予備発電設備
C24: 曲線区間 | D24: 区間長 | F24: 325.1
D25: 起点側ｸﾛｿｲﾄﾞ
D26: 曲線半径 | F26: 500～900
D27: 終点側ｸﾛｿｲﾄﾞ | S27: その他 | U27: 非常駐車帯
B28: トンネル工法 | E28: 山岳トンネル工法（NATM） | U28: 方向転換所
C29: ※緯度・経度については、秒の小数第二位の単位まで記入すること。

Sheet 様式A-2
B3: ■トンネル台帳 トンネル情報一覧表 【様式A-2】
B4: フリガナ | E4: ='様式A-1'!$D$3 -> ナカヤマトンネル | J4: 路線名 | M4: ='様式A-1'!$J$3 -> 一般県道藤生停車場錦帯橋線 | S4: 作成者 | Y4: ='様式A-1'!$K$5 -> 復建調査設計㈱・小笠原洋 | AE4: 作成年月日 | AI4: ='様式A-1'!$R$5 -> 45967
B5: 名 称 | E5: ='様式A-1'!$D$4 -> 中山トンネル | J5: 管理者名 | M5: ='様式A-1'!$R$3 -> 山口県岩国土木建築事務所
B6: 覆工 ｽﾊﾟﾝ 番号 | C6: ｽﾊﾟﾝ長 | D6: 追加距離 | F6: トンネル本体工 | K6: 照明施設 | O6: 非常用施設 | AE6: 換気施設 | AK6: その他附属物等
O7: 通報設備 | R7: 警報設備 | S7: 消火設備 | U7: 避難誘導設備 | Y7: その他の設備 | AC7: 特記事項
D8: 起点側 | E8: 終点側 | F8: 特記事項 | I8: 内装板 | J8: 天井板 | K8: 基本照明 | L8: 入口出口照明 | M8: 特記事項 | O8: 通話型通報設備 | P8: 操作型通報設備 | Q8: 自動通報設備 | R8: 非常警報設備 | S8: 消 火 器 | T8: 消火栓設備 | U8: 誘導表示設備 | V8: 避難情報提供設備 | W8: 避難通路 | X8: 排煙設備 | Y8: 給水栓設備 | Z8: 無線通信補助設備 | AA8: 水噴霧設備 | AB8: 監視設備 | AE8: JF | AF8: VI計 | AG8: CO計 | AH8: 風向 風速計 | AI8: 特記事項
C9: (m) | D9: (m) | E9: (m)
B10: PS | E10: =C10+D10 -> 0 | F10: 坑門(面壁型)
B11: S1 | C11: 7.65 | D11: =E10 -> 0 | E11: =C11+D11 -> 7.65 | O11: ○ | P11: ○ | U11: ○
B12: S2 | C12: 10.4 | D12: =E11 -> 7.65 | E12: =C12+D12 -> 18.05 | K12: ○ | L12: ○
B13: S3 | C13: 10.35 | D13: =E12 -> 18.05 | E13: =C13+D13 -> 28.4 | K13: ○ | L13: ○
B14: S4 | C14: 10.45 | D14: =E13 -> 28.4 | E14: =C14+D14 -> 38.85 | L14: ○ | U14: ○
B15: S5 | C15: 10.5 | D15: =E14 -> 38.85 | E15: =C15+D15 -> 49.35 | K15: ○ | L15: ○
B16: S6 | C16: 10.6 | D16: =E15 -> 49.35 | E16: =C16+D16 -> 59.95 | L16: ○ | P16: ○ | U16: ○
B17: S7 | C17: 10.5 | D17: =E16 -> 59.95 | E17: =C17+D17 -> 70.45 | K17: ○ | L17: ○
B18: S8 | C18: 10.5 | D18: =E17 -> 70.45 | E18: =C18+D18 -> 80.95 | K18: ○ | L18: ○ | U18: ○
B19: S9 | C19: 10.5 | D19: =E18 -> 80.95 | E19: =C19+D19 -> 91.45 | L19: ○ | U19: ○
B20: S10 | C20: 10.5 | D20: =E19 -> 91.45 | E20: =C20+D20 -> 101.95 | K20: ○ | L20: ○
B21: S11 | C21: 10.45 | D21: =E20 -> 101.95 | E21: =C21+D21 -> 112.4 | L21: ○ | P21: ○ | U21: ○
B22: S12 | C22: 10.5 | D22: =E21 -> 112.4 | E22: =C22+D22 -> 122.9 | K22: ○ | L22: ○
B23: S13 | C23: 10.5 | D23: =E22 -> 122.9 | E23: =C23+D23 -> 133.4 | K23: ○ | L23: ○ | U23: ○
B24: S14 | C24: 10.5 | D24: =E23 -> 133.4 | E24: =C24+D24 -> 143.9 | L24: ○
B25: S15 | C25: 10.5 | D25: =E24 -> 143.9 | E25: =C25+D25 -> 154.4 | K25: ○ | L25: ○ | O25: ○ | P25: ○
B26: S16 | C26: 10.5 | D26: =E25 -> 154.4 | E26: =C26+D26 -> 164.9 | L26: ○ | U26: ○
B27: S17 | C27: 10.5 | D27: =E26 -> 164.9 | E27: =C27+D27 -> 175.4 | K27: ○ | L27: ○
B28: S18 | C28: 10.5 | D28: =E27 -> 175.4 | E28: =C28+D28 -> 185.9 | K28: ○ | U28: ○
B29: S19 | C29: 10.5 | D29: =E28 -> 185.9 | E29: =C29+D29 -> 196.4 | L29: ○
B30: S20 | C30: 10.45 | D30: =E29 -> 196.4 | E30: =C30+D30 -> 206.85 | K30: ○ | O30: ○ | P30: ○ | U30: ○
B31: S21 | C31: 10.5 | D31: =E30 -> 206.85 | E31: =C31+D31 -> 217.35 | L31: ○
B32: S22 | C32: 10.35 | D32: =E31 -> 217.35 | E32: =C32+D32 -> 227.7 | K32: ○
B33: S23 | C33: 10.5 | D33: =E32 -> 227.7 | E33: =C33+D33 -> 238.2 | K33: ○ | U33: ○
B34: S24 | C34: 10.4 | D34: =E33 -> 238.2 | E34: =C34+D34 -> 248.6
B35: S25 | C35: 10.4 | D35: =E34 -> 248.6 | E35: =C35+D35 -> 259 | K35: ○ | O35: ○ | P35: ○ | U35: ○
B36: S26 | C36: 10.5 | D36: =E35 -> 259 | E36: =C36+D36 -> 269.5
B37: S27 | C37: 10.4 | D37: =E36 -> 269.5 | E37: =C37+D37 -> 279.9 | K37: ○ | U37: ○
B38: S28 | C38: 10.5 | D38: =E37 -> 279.9 | E38: =C38+D38 -> 290.4 | K38: ○
B39: S29 | C39: 10.45 | D39: =E38 -> 290.4 | E39: =C39+D39 -> 300.85 | L39: ○
B40: S30 | C40: 10.4 | D40: =E39 -> 300.85 | E40: =C40+D40 -> 311.25 | K40: ○ | P40: ○ | U40: ○
B41: S31 | C41: 10.5 | D41: =E40 -> 311.25 | E41: =C41+D41 -> 321.75 | L41: ○
B42: S32 | C42: 10.45 | D42: =E41 -> 321.75 | E42: =C42+D42 -> 332.2 | K42: ○ | U42: ○
B43: S33 | C43: 10.45 | D43: =E42 -> 332.2 | E43: =C43+D43 -> 342.65 | K43: ○ | L43: ○
B44: S34 | C44: 10.45 | D44: =E43 -> 342.65 | E44: =C44+D44 -> 353.1 | L44: ○ | U44: ○
B45: S35 | C45: 10.55 | D45: =E44 -> 353.1 | E45: =C45+D45 -> 363.65 | K45: ○ | L45: ○ | O45: ○ | P45: ○
B46: S36 | C46: 10.45 | D46: =E45 -> 363.65 | E46: =C46+D46 -> 374.1 | L46: ○
B47: S37 | C47: 10.5 | D47: =E46 -> 374.1 | E47: =C47+D47 -> 384.6 | K47: ○ | L47: ○ | U47: ○
B48: S38 | C48: 10.55 | D48: =E47 -> 384.6 | E48: =C48+D48 -> 395.15 | K48: ○ | L48: ○
B49: S39 | C49: 10.5 | D49: =E48 -> 395.15 | E49: =C49+D49 -> 405.65 | L49: ○ | O49: ○ | P49: ○ | U49: ○
B50: S40 | C50: 10.55 | D50: =E49 -> 405.65 | E50: =C50+D50 -> 416.2 | K50: ○ | L50: ○
B51: S41 | C51: 10.55 | D51: =E50 -> 416.2 | E51: =C51+D51 -> 426.75 | L51: ○ | U51: ○
B52: S42 | C52: 10.6 | D52: =E51 -> 426.75 | E52: =C52+D52 -> 437.35 | K52: ○ | L52: ○ | U52: ○
B53: S43 | C53: 10.5 | D53: =E52 -> 437.35 | E53: =C53+D53 -> 447.85 | K53: ○ | L53: ○
B54: S44 | C54: 10.6 | D54: =E53 -> 447.85 | E54: =C54+D54 -> 458.45 | L54: ○ | P54: ○ | U54: ○
B55: S45 | C55: 10.5 | D55: =E54 -> 458.45 | E55: =C55+D55 -> 468.95 | K55: ○ | L55: ○
B56: S46 | C56: 10.6 | D56: =E55 -> 468.95 | E56: =C56+D56 -> 479.55 | L56: ○ | U56: ○
B57: S47 | C57: 10.45 | D57: =E56 -> 479.55 | E57: =C57+D57 -> 490 | K57: ○ | L57: ○
B58: S48 | C58: 10.5 | D58: =E57 -> 490 | E58: =C58+D58 -> 500.5 | K58: ○ | L58: ○ | U58: ○
B59: S49 | C59: 7.5 | D59: =E58 -> 500.5 | E59: =C59+D59 -> 508 | O59: ○ | P59: ○
B60: PE | D60: =E59 -> 508 | E60: =+C60+D60 -> 508 | F60: 坑門(面壁型)
B89: ※ 行が不足する場合は、適時、表の行を増やすこと。

Sheet 様式A-3
B3: ■トンネル台帳 トンネル記録（位置図、断面図、施工実績他）【様式A-3】
B4: フリガナ | E4: ='様式A-1'!$D$3 -> ナカヤマトンネル | J4: 路線名 | M4: ='様式A-1'!$J$3 -> 一般県道藤生停車場錦帯橋線 | S4: 作成者 | W4: ='様式A-1'!$K$5 -> 復建調査設計㈱・小笠原洋 | AC4: 作成年月日 | AF4: ='様式A-1'!$R$5 -> 45967
B5: 名 称 | E5: ='様式A-1'!$D$4 -> 中山トンネル | J5: 管理者名 | M5: ='様式A-1'!$R$3 -> 山口県岩国土木建築事務所
B6: 位置図・現況写真・標準断面図・地質縦断図・施工実績

Sheet 様式B (1)
B2: ■定期点検記録様式 トンネル変状・異常箇所写真位置図 【様式B】 | N2: 定期点検年月日 | P2: 45861 | S2: 施設ID | V2: =+'様式A-1'!$W$2 -> 34.12836,132.17178
B3: フリガナ | C3: =+'様式A-1'!$D$3 -> ナカヤマトンネル | G3: 路線名 | H3: =+'様式A-1'!$J$3 -> 一般県道藤生停車場錦帯橋線 | K3: 管理者名 | L3: =+'様式A-1'!$R$3 -> 山口県岩国土木建築事務所 | Q3: 定期点検実施者 | S3: 復建調査設計株式会社 | V3: 起点 | W3: 緯度 | X3: =+'様式A-1'!$E$7 -> 34.14516
B4: 名 称 | C4: =+'様式A-1'!$D$4 -> 中山トンネル | S4: 小笠原洋 | W4: 経度 | X4: =+'様式A-1'!$E$8 -> 132.1714
B5: 所在地 | C5: 自 | D5: =+'様式A-1'!$E$5 -> 岩国市平田 | G5: トンネル工法 | I5: 山岳トンネル工法（NATM） | L5: トンネル延長 | N5: L= | O5: =+'様式A-1'!$Z$5 -> 508 | P5: ｍ | Q5: 自専道 or 一般道 | R5: 一般道 | S5: 代替路の有無 | U5: 無 | V5: 終点 | W5: 緯度 | X5: =+'様式A-1'!$E$9 -> 34.147063
C6: 至 | D6: =+'様式A-1'!$E$6 -> 岩国市御庄 | G6: 建設年度 | I6: 2002年 | L6: 幅員 | N6: L= | O6: =+'様式A-1'!$E$15 -> 10.75 | P6: ｍ | S6: 緊急輸送道路 | U6: 指定なし | W6: 経度 | X6: =+'様式A-1'!$E$10 -> 132.16652
B7: トンネル毎 の健全性の 診断の区分 | D7: Ⅲ
G8: 変状・異常 箇所数合計 | I8: トンネル本体工 | J8: 材質劣化 | K8: Ⅱ | L8: 60 | N8: Ⅲ | O8: 1 | Q8: Ⅳ | R8: 0 | T8: 附属物等 の取付状態 | V8: ◯ （応急措置後) | X8: 11
J9: 漏水 | K9: Ⅱ | L9: 0 | N9: Ⅲ | O9: 0 | Q9: Ⅳ | R9: 0
V10: ✕ | X10: 1
J11: 外力 | K11: Ⅱ | L11: 0 | N11: Ⅲ | O11: 0 | Q11: Ⅳ | R11: 0
B12: トンネル変状・異常箇所写真位置図
J29: 注１：本位置図は、見下げた状態で記載すること。 注２：覆工スパン番号は横断目地毎(矢板工法の場合は上半アーチの 横断目地毎)に設定すること。 | Q29: 注３：写真番号に付する変状番号は、各覆工スパンの変状に対して新たに確認された場合 は順次追加していくこと。 注４：横断目地の変状は前の覆工スパン番号で計上すること。 注５：１枚に収まらない場合は、複数枚に分けて作成すること。
C30: ※1 トンネル本体工の変状数は、材質劣化、漏水に起因するものは変状単位で、外力に起因するものはスパン単位で計上すること。
C31: ※2 トンネル本体工の変状に対しては、措置の必要性（Ⅱ～Ⅳ）について表記すること。また、点検前に実施された措置によりⅠと判定された箇所についても記載すること。
C32: ※3 附属物等の取付状態の○欄については、応急措置前に判定区分×とした箇所のうち応急措置により○判定とした箇所の数を記入すること。
C33: ※4 附属物等の異常番号は、本体工と番号が重複しないよう101番以降とする等の配慮を行い、分かりやすく記録すること。

Sheet 様式B (2)
B2: ■定期点検記録様式 トンネル変状・異常箇所写真位置図 【様式B】 | N2: 定期点検年月日 | P2: =+'様式B (1)'!$P$2 -> 45861 | S2: 施設ID | V2: =+'様式A-1'!$W$2 -> 34.12836,132.17178
B3: フリガナ | C3: =+'様式A-1'!$D$3 -> ナカヤマトンネル | G3: 路線名 | H3: =+'様式A-1'!$J$3 -> 一般県道藤生停車場錦帯橋線 | K3: 管理者名 | L3: =+'様式A-1'!$R$3 -> 山口県岩国土木建築事務所 | Q3: 定期点検実施者 | S3: ='様式B (1)'!$S$3 -> 復建調査設計株式会社 | V3: 起点 | W3: 緯度 | X3: =+'様式A-1'!$E$7 -> 34.14516
B4: 名 称 | C4: =+'様式A-1'!$D$4 -> 中山トンネル | S4: ='様式B (1)'!$S$4 -> 小笠原洋 | W4: 経度 | X4: =+'様式A-1'!$E$8 -> 132.1714
B5: 所在地 | C5: 自 | D5: =+'様式A-1'!$E$5 -> 岩国市平田 | G5: トンネル工法 | I5: ='様式B (1)'!$I$5 -> 山岳トンネル工法（NATM） | L5: トンネル延長 | N5: L= | O5: =+'様式A-1'!$Z$5 -> 508 | P5: ｍ | Q5: 自専道 or 一般道 | R5: ='様式B (1)'!$R$5 -> 一般道 | S5: 代替路の有無 | U5: ='様式B (1)'!$U$5 -> 無 | V5: 終点 | W5: 緯度 | X5: =+'様式A-1'!$E$9 -> 34.147063
C6: 至 | D6: =+'様式A-1'!$E$6 -> 岩国市御庄 | G6: 建設年度 | I6: ='様式B (1)'!$I$6 -> 2002年 | L6: 幅員 | N6: L= | O6: =+'様式A-1'!$E$15 -> 10.75 | P6: ｍ | S6: 緊急輸送道路 | U6: ='様式B (1)'!$U$6 -> 指定なし | W6: 経度 | X6: =+'様式A-1'!$E$10 -> 132.16652
B7: トンネル毎 の健全性の 診断の区分 | D7: ='様式B (1)'!$D$7 -> Ⅲ
G8: 変状・異常 箇所数合計 | I8: トンネル本体工 | J8: 材質劣化 | K8: Ⅱ | L8: ='様式B (1)'!$L$8 -> 60 | N8: Ⅲ | O8: ='様式B (1)'!$O$8 -> 1 | Q8: Ⅳ | R8: ='様式B (1)'!$R$8 -> 0 | T8: 附属物等 の取付状態 | V8: ◯ （応急措置後) | X8: ='様式B (1)'!$X$8 -> 11
J9: 漏水 | K9: Ⅱ | L9: ='様式B (1)'!$L$9 -> 0 | N9: Ⅲ | O9: ='様式B (1)'!$O$9 -> 0 | Q9: Ⅳ | R9: ='様式B (1)'!$R$9 -> 0
V10: ✕ | X10: ='様式B (1)'!$X$10 -> 1
J11: 外力 | K11: Ⅱ | L11: ='様式B (1)'!$L$11 -> 0 | N11: Ⅲ | O11: ='様式B (1)'!$O$11 -> 0 | Q11: Ⅳ | R11: ='様式B (1)'!$R$11 -> 0
B12: トンネル変状・異常箇所写真位置図
J29: 注１：本位置図は、見下げた状態で記載すること。 注２：覆工スパン番号は横断目地毎(矢板工法の場合は上半アーチの 横断目地毎)に設定すること。 | Q29: 注３：写真番号に付する変状番号は、各覆工スパンの変状に対して新たに確認された場合 は順次追加していくこと。 注４：横断目地の変状は前の覆工スパン番号で計上すること。 注５：１枚に収まらない場合は、複数枚に分けて作成すること。
C30: ※1 トンネル本体工の変状数は、材質劣化、漏水に起因するものは変状単位で、外力に起因するものはスパン単位で計上すること。
C31: ※2 トンネル本体工の変状に対しては、措置の必要性（Ⅱ～Ⅳ）について表記すること。また、点検前に実施された措置によりⅠと判定された箇所についても記載すること。
C32: ※3 附属物等の取付状態の○欄については、応急措置前に判定区分×とした箇所のうち応急措置により○判定とした箇所の数を記入すること。
C33: ※4 附属物等の異常番号は、本体工と番号が重複しないよう101番以降とする等の配慮を行い、分かりやすく記録すること。

Sheet 様式B (3)
B2: ■定期点検記録様式 トンネル変状・異常箇所写真位置図 【様式B】 | N2: 定期点検年月日 | P2: =+'様式B (1)'!$P$2 -> 45861 | S2: 施設ID | V2: =+'様式A-1'!$W$2 -> 34.12836,132.17178
B3: フリガナ | C3: =+'様式A-1'!$D$3 -> ナカヤマトンネル | G3: 路線名 | H3: =+'様式A-1'!$J$3 -> 一般県道藤生停車場錦帯橋線 | K3: 管理者名 | L3: =+'様式A-1'!$R$3 -> 山口県岩国土木建築事務所 | Q3: 定期点検実施者 | S3: ='様式B (1)'!$S$3 -> 復建調査設計株式会社 | V3: 起点 | W3: 緯度 | X3: =+'様式A-1'!$E$7 -> 34.14516
B4: 名 称 | C4: =+'様式A-1'!$D$4 -> 中山トンネル | S4: ='様式B (1)'!$S$4 -> 小笠原洋 | W4: 経度 | X4: =+'様式A-1'!$E$8 -> 132.1714
B5: 所在地 | C5: 自 | D5: =+'様式A-1'!$E$5 -> 岩国市平田 | G5: トンネル工法 | I5: ='様式B (1)'!$I$5 -> 山岳トンネル工法（NATM） | L5: トンネル延長 | N5: L= | O5: =+'様式A-1'!$Z$5 -> 508 | P5: ｍ | Q5: 自専道 or 一般道 | R5: ='様式B (1)'!$R$5 -> 一般道 | S5: 代替路の有無 | U5: ='様式B (1)'!$U$5 -> 無 | V5: 終点 | W5: 緯度 | X5: =+'様式A-1'!$E$9 -> 34.147063
C6: 至 | D6: =+'様式A-1'!$E$6 -> 岩国市御庄 | G6: 建設年度 | I6: ='様式B (1)'!$I$6 -> 2002年 | L6: 幅員 | N6: L= | O6: =+'様式A-1'!$E$15 -> 10.75 | P6: ｍ | S6: 緊急輸送道路 | U6: ='様式B (1)'!$U$6 -> 指定なし | W6: 経度 | X6: =+'様式A-1'!$E$10 -> 132.16652
B7: トンネル毎 の健全性の 診断の区分 | D7: ='様式B (1)'!$D$7 -> Ⅲ
G8: 変状・異常 箇所数合計 | I8: トンネル本体工 | J8: 材質劣化 | K8: Ⅱ | L8: ='様式B (1)'!$L$8 -> 60 | N8: Ⅲ | O8: ='様式B (1)'!$O$8 -> 1 | Q8: Ⅳ | R8: ='様式B (1)'!$R$8 -> 0 | T8: 附属物等 の取付状態 | V8: ◯ （応急措置後) | X8: ='様式B (1)'!$X$8 -> 11
J9: 漏水 | K9: Ⅱ | L9: ='様式B (1)'!$L$9 -> 0 | N9: Ⅲ | O9: ='様式B (1)'!$O$9 -> 0 | Q9: Ⅳ | R9: ='様式B (1)'!$R$9 -> 0
V10: ✕ | X10: ='様式B (1)'!$X$10 -> 1
J11: 外力 | K11: Ⅱ | L11: ='様式B (1)'!$L$11 -> 0 | N11: Ⅲ | O11: ='様式B (1)'!$O$11 -> 0 | Q11: Ⅳ | R11: ='様式B (1)'!$R$11 -> 0
B12: トンネル変状・異常箇所写真位置図
J29: 注１：本位置図は、見下げた状態で記載すること。 注２：覆工スパン番号は横断目地毎(矢板工法の場合は上半アーチの 横断目地毎)に設定すること。 | Q29: 注３：写真番号に付する変状番号は、各覆工スパンの変状に対して新たに確認された場合 は順次追加していくこと。 注４：横断目地の変状は前の覆工スパン番号で計上すること。 注５：１枚に収まらない場合は、複数枚に分けて作成すること。
C30: ※1 トンネル本体工の変状数は、材質劣化、漏水に起因するものは変状単位で、外力に起因するものはスパン単位で計上すること。
C31: ※2 トンネル本体工の変状に対しては、措置の必要性（Ⅱ～Ⅳ）について表記すること。また、点検前に実施された措置によりⅠと判定された箇所についても記載すること。
C32: ※3 附属物等の取付状態の○欄については、応急措置前に判定区分×とした箇所のうち応急措置により○判定とした箇所の数を記入すること。
C33: ※4 附属物等の異常番号は、本体工と番号が重複しないよう101番以降とする等の配慮を行い、分かりやすく記録すること。

Sheet 様式B (4)
B2: ■定期点検記録様式 トンネル変状・異常箇所写真位置図 【様式B】 | N2: 定期点検年月日 | P2: =+'様式B (1)'!$P$2 -> 45861 | S2: 施設ID | V2: =+'様式A-1'!$W$2 -> 34.12836,132.17178
B3: フリガナ | C3: =+'様式A-1'!$D$3 -> ナカヤマトンネル | G3: 路線名 | H3: =+'様式A-1'!$J$3 -> 一般県道藤生停車場錦帯橋線 | K3: 管理者名 | L3: =+'様式A-1'!$R$3 -> 山口県岩国土木建築事務所 | Q3: 定期点検実施者 | S3: ='様式B (1)'!$S$3 -> 復建調査設計株式会社 | V3: 起点 | W3: 緯度 | X3: =+'様式A-1'!$E$7 -> 34.14516
B4: 名 称 | C4: =+'様式A-1'!$D$4 -> 中山トンネル | S4: ='様式B (1)'!$S$4 -> 小笠原洋 | W4: 経度 | X4: =+'様式A-1'!$E$8 -> 132.1714
B5: 所在地 | C5: 自 | D5: =+'様式A-1'!$E$5 -> 岩国市平田 | G5: トンネル工法 | I5: ='様式B (1)'!$I$5 -> 山岳トンネル工法（NATM） | L5: トンネル延長 | N5: L= | O5: =+'様式A-1'!$Z$5 -> 508 | P5: ｍ | Q5: 自専道 or 一般道 | R5: ='様式B (1)'!$R$5 -> 一般道 | S5: 代替路の有無 | U5: ='様式B (1)'!$U$5 -> 無 | V5: 終点 | W5: 緯度 | X5: =+'様式A-1'!$E$9 -> 34.147063
C6: 至 | D6: =+'様式A-1'!$E$6 -> 岩国市御庄 | G6: 建設年度 | I6: ='様式B (1)'!$I$6 -> 2002年 | L6: 幅員 | N6: L= | O6: =+'様式A-1'!$E$15 -> 10.75 | P6: ｍ | S6: 緊急輸送道路 | U6: ='様式B (1)'!$U$6 -> 指定なし | W6: 経度 | X6: =+'様式A-1'!$E$10 -> 132.16652
B7: トンネル毎 の健全性の 診断の区分 | D7: ='様式B (1)'!$D$7 -> Ⅲ
G8: 変状・異常 箇所数合計 | I8: トンネル本体工 | J8: 材質劣化 | K8: Ⅱ | L8: ='様式B (1)'!$L$8 -> 60 | N8: Ⅲ | O8: ='様式B (1)'!$O$8 -> 1 | Q8: Ⅳ | R8: ='様式B (1)'!$R$8 -> 0 | T8: 附属物等 の取付状態 | V8: ◯ （応急措置後) | X8: ='様式B (1)'!$X$8 -> 11
J9: 漏水 | K9: Ⅱ | L9: ='様式B (1)'!$L$9 -> 0 | N9: Ⅲ | O9: ='様式B (1)'!$O$9 -> 0 | Q9: Ⅳ | R9: ='様式B (1)'!$R$9 -> 0
V10: ✕ | X10: ='様式B (1)'!$X$10 -> 1
J11: 外力 | K11: Ⅱ | L11: ='様式B (1)'!$L$11 -> 0 | N11: Ⅲ | O11: ='様式B (1)'!$O$11 -> 0 | Q11: Ⅳ | R11: ='様式B (1)'!$R$11 -> 0
B12: トンネル変状・異常箇所写真位置図
J29: 注１：本位置図は、見下げた状態で記載すること。 注２：覆工スパン番号は横断目地毎(矢板工法の場合は上半アーチの 横断目地毎)に設定すること。 | Q29: 注３：写真番号に付する変状番号は、各覆工スパンの変状に対して新たに確認された場合 は順次追加していくこと。 注４：横断目地の変状は前の覆工スパン番号で計上すること。 注５：１枚に収まらない場合は、複数枚に分けて作成すること。
C30: ※1 トンネル本体工の変状数は、材質劣化、漏水に起因するものは変状単位で、外力に起因するものはスパン単位で計上すること。
C31: ※2 トンネル本体工の変状に対しては、措置の必要性（Ⅱ～Ⅳ）について表記すること。また、点検前に実施された措置によりⅠと判定された箇所についても記載すること。
C32: ※3 附属物等の取付状態の○欄については、応急措置前に判定区分×とした箇所のうち応急措置により○判定とした箇所の数を記入すること。
C33: ※4 附属物等の異常番号は、本体工と番号が重複しないよう101番以降とする等の配慮を行い、分かりやすく記録すること。

Sheet 様式B (5)
B2: ■定期点検記録様式 トンネル変状・異常箇所写真位置図 【様式B】 | N2: 定期点検年月日 | P2: =+'様式B (1)'!$P$2 -> 45861 | S2: 施設ID | V2: =+'様式A-1'!$W$2 -> 34.12836,132.17178
B3: フリガナ | C3: =+'様式A-1'!$D$3 -> ナカヤマトンネル | G3: 路線名 | H3: =+'様式A-1'!$J$3 -> 一般県道藤生停車場錦帯橋線 | K3: 管理者名 | L3: =+'様式A-1'!$R$3 -> 山口県岩国土木建築事務所 | Q3: 定期点検実施者 | S3: ='様式B (1)'!$S$3 -> 復建調査設計株式会社 | V3: 起点 | W3: 緯度 | X3: =+'様式A-1'!$E$7 -> 34.14516
B4: 名 称 | C4: =+'様式A-1'!$D$4 -> 中山トンネル | S4: ='様式B (1)'!$S$4 -> 小笠原洋 | W4: 経度 | X4: =+'様式A-1'!$E$8 -> 132.1714
B5: 所在地 | C5: 自 | D5: =+'様式A-1'!$E$5 -> 岩国市平田 | G5: トンネル工法 | I5: ='様式B (1)'!$I$5 -> 山岳トンネル工法（NATM） | L5: トンネル延長 | N5: L= | O5: =+'様式A-1'!$Z$5 -> 508 | P5: ｍ | Q5: 自専道 or 一般道 | R5: ='様式B (1)'!$R$5 -> 一般道 | S5: 代替路の有無 | U5: ='様式B (1)'!$U$5 -> 無 | V5: 終点 | W5: 緯度 | X5: =+'様式A-1'!$E$9 -> 34.147063
C6: 至 | D6: =+'様式A-1'!$E$6 -> 岩国市御庄 | G6: 建設年度 | I6: ='様式B (1)'!$I$6 -> 2002年 | L6: 幅員 | N6: L= | O6: =+'様式A-1'!$E$15 -> 10.75 | P6: ｍ | S6: 緊急輸送道路 | U6: ='様式B (1)'!$U$6 -> 指定なし | W6: 経度 | X6: =+'様式A-1'!$E$10 -> 132.16652
B7: トンネル毎 の健全性の 診断の区分 | D7: ='様式B (1)'!$D$7 -> Ⅲ
G8: 変状・異常 箇所数合計 | I8: トンネル本体工 | J8: 材質劣化 | K8: Ⅱ | L8: ='様式B (1)'!$L$8 -> 60 | N8: Ⅲ | O8: ='様式B (1)'!$O$8 -> 1 | Q8: Ⅳ | R8: ='様式B (1)'!$R$8 -> 0 | T8: 附属物等 の取付状態 | V8: ◯ （応急措置後) | X8: ='様式B (1)'!$X$8 -> 11
J9: 漏水 | K9: Ⅱ | L9: ='様式B (1)'!$L$9 -> 0 | N9: Ⅲ | O9: ='様式B (1)'!$O$9 -> 0 | Q9: Ⅳ | R9: ='様式B (1)'!$R$9 -> 0
V10: ✕ | X10: ='様式B (1)'!$X$10 -> 1
J11: 外力 | K11: Ⅱ | L11: ='様式B (1)'!$L$11 -> 0 | N11: Ⅲ | O11: ='様式B (1)'!$O$11 -> 0 | Q11: Ⅳ | R11: ='様式B (1)'!$R$11 -> 0
B12: トンネル変状・異常箇所写真位置図
J29: 注１：本位置図は、見下げた状態で記載すること。 注２：覆工スパン番号は横断目地毎(矢板工法の場合は上半アーチの 横断目地毎)に設定すること。 | Q29: 注３：写真番号に付する変状番号は、各覆工スパンの変状に対して新たに確認された場合 は順次追加していくこと。 注４：横断目地の変状は前の覆工スパン番号で計上すること。 注５：１枚に収まらない場合は、複数枚に分けて作成すること。
C30: ※1 トンネル本体工の変状数は、材質劣化、漏水に起因するものは変状単位で、外力に起因するものはスパン単位で計上すること。
C31: ※2 トンネル本体工の変状に対しては、措置の必要性（Ⅱ～Ⅳ）について表記すること。また、点検前に実施された措置によりⅠと判定された箇所についても記載すること。
C32: ※3 附属物等の取付状態の○欄については、応急措置前に判定区分×とした箇所のうち応急措置により○判定とした箇所の数を記入すること。
C33: ※4 附属物等の異常番号は、本体工と番号が重複しないよう101番以降とする等の配慮を行い、分かりやすく記録すること。

Sheet 様式B (6)
B2: ■定期点検記録様式 トンネル変状・異常箇所写真位置図 【様式B】 | N2: 定期点検年月日 | P2: =+'様式B (1)'!$P$2 -> 45861 | S2: 施設ID | V2: =+'様式A-1'!$W$2 -> 34.12836,132.17178
B3: フリガナ | C3: =+'様式A-1'!$D$3 -> ナカヤマトンネル | G3: 路線名 | H3: =+'様式A-1'!$J$3 -> 一般県道藤生停車場錦帯橋線 | K3: 管理者名 | L3: =+'様式A-1'!$R$3 -> 山口県岩国土木建築事務所 | Q3: 定期点検実施者 | S3: ='様式B (1)'!$S$3 -> 復建調査設計株式会社 | V3: 起点 | W3: 緯度 | X3: =+'様式A-1'!$E$7 -> 34.14516
B4: 名 称 | C4: =+'様式A-1'!$D$4 -> 中山トンネル | S4: ='様式B (1)'!$S$4 -> 小笠原洋 | W4: 経度 | X4: =+'様式A-1'!$E$8 -> 132.1714
B5: 所在地 | C5: 自 | D5: =+'様式A-1'!$E$5 -> 岩国市平田 | G5: トンネル工法 | I5: ='様式B (1)'!$I$5 -> 山岳トンネル工法（NATM） | L5: トンネル延長 | N5: L= | O5: =+'様式A-1'!$Z$5 -> 508 | P5: ｍ | Q5: 自専道 or 一般道 | R5: ='様式B (1)'!$R$5 -> 一般道 | S5: 代替路の有無 | U5: ='様式B (1)'!$U$5 -> 無 | V5: 終点 | W5: 緯度 | X5: =+'様式A-1'!$E$9 -> 34.147063
C6: 至 | D6: =+'様式A-1'!$E$6 -> 岩国市御庄 | G6: 建設年度 | I6: ='様式B (1)'!$I$6 -> 2002年 | L6: 幅員 | N6: L= | O6: =+'様式A-1'!$E$15 -> 10.75 | P6: ｍ | S6: 緊急輸送道路 | U6: ='様式B (1)'!$U$6 -> 指定なし | W6: 経度 | X6: =+'様式A-1'!$E$10 -> 132.16652
B7: トンネル毎 の健全性の 診断の区分 | D7: ='様式B (1)'!$D$7 -> Ⅲ
G8: 変状・異常 箇所数合計 | I8: トンネル本体工 | J8: 材質劣化 | K8: Ⅱ | L8: ='様式B (1)'!$L$8 -> 60 | N8: Ⅲ | O8: ='様式B (1)'!$O$8 -> 1 | Q8: Ⅳ | R8: ='様式B (1)'!$R$8 -> 0 | T8: 附属物等 の取付状態 | V8: ◯ （応急措置後) | X8: ='様式B (1)'!$X$8 -> 11
J9: 漏水 | K9: Ⅱ | L9: ='様式B (1)'!$L$9 -> 0 | N9: Ⅲ | O9: ='様式B (1)'!$O$9 -> 0 | Q9: Ⅳ | R9: ='様式B (1)'!$R$9 -> 0
V10: ✕ | X10: ='様式B (1)'!$X$10 -> 1
J11: 外力 | K11: Ⅱ | L11: ='様式B (1)'!$L$11 -> 0 | N11: Ⅲ | O11: ='様式B (1)'!$O$11 -> 0 | Q11: Ⅳ | R11: ='様式B (1)'!$R$11 -> 0
B12: トンネル変状・異常箇所写真位置図
J29: 注１：本位置図は、見下げた状態で記載すること。 注２：覆工スパン番号は横断目地毎(矢板工法の場合は上半アーチの 横断目地毎)に設定すること。 | Q29: 注３：写真番号に付する変状番号は、各覆工スパンの変状に対して新たに確認された場合 は順次追加していくこと。 注４：横断目地の変状は前の覆工スパン番号で計上すること。 注５：１枚に収まらない場合は、複数枚に分けて作成すること。
C30: ※1 トンネル本体工の変状数は、材質劣化、漏水に起因するものは変状単位で、外力に起因するものはスパン単位で計上すること。
C31: ※2 トンネル本体工の変状に対しては、措置の必要性（Ⅱ～Ⅳ）について表記すること。また、点検前に実施された措置によりⅠと判定された箇所についても記載すること。
C32: ※3 附属物等の取付状態の○欄については、応急措置前に判定区分×とした箇所のうち応急措置により○判定とした箇所の数を記入すること。
C33: ※4 附属物等の異常番号は、本体工と番号が重複しないよう101番以降とする等の配慮を行い、分かりやすく記録すること。

Sheet 様式B (7)
B2: ■定期点検記録様式 トンネル変状・異常箇所写真位置図 【様式B】 | N2: 定期点検年月日 | P2: =+'様式B (1)'!$P$2 -> 45861 | S2: 施設ID | V2: =+'様式A-1'!$W$2 -> 34.12836,132.17178
B3: フリガナ | C3: =+'様式A-1'!$D$3 -> ナカヤマトンネル | G3: 路線名 | H3: =+'様式A-1'!$J$3 -> 一般県道藤生停車場錦帯橋線 | K3: 管理者名 | L3: =+'様式A-1'!$R$3 -> 山口県岩国土木建築事務所 | Q3: 定期点検実施者 | S3: ='様式B (1)'!$S$3 -> 復建調査設計株式会社 | V3: 起点 | W3: 緯度 | X3: =+'様式A-1'!$E$7 -> 34.14516
B4: 名 称 | C4: =+'様式A-1'!$D$4 -> 中山トンネル | S4: ='様式B (1)'!$S$4 -> 小笠原洋 | W4: 経度 | X4: =+'様式A-1'!$E$8 -> 132.1714
B5: 所在地 | C5: 自 | D5: =+'様式A-1'!$E$5 -> 岩国市平田 | G5: トンネル工法 | I5: ='様式B (1)'!$I$5 -> 山岳トンネル工法（NATM） | L5: トンネル延長 | N5: L= | O5: =+'様式A-1'!$Z$5 -> 508 | P5: ｍ | Q5: 自専道 or 一般道 | R5: ='様式B (1)'!$R$5 -> 一般道 | S5: 代替路の有無 | U5: ='様式B (1)'!$U$5 -> 無 | V5: 終点 | W5: 緯度 | X5: =+'様式A-1'!$E$9 -> 34.147063
C6: 至 | D6: =+'様式A-1'!$E$6 -> 岩国市御庄 | G6: 建設年度 | I6: ='様式B (1)'!$I$6 -> 2002年 | L6: 幅員 | N6: L= | O6: =+'様式A-1'!$E$15 -> 10.75 | P6: ｍ | S6: 緊急輸送道路 | U6: ='様式B (1)'!$U$6 -> 指定なし | W6: 経度 | X6: =+'様式A-1'!$E$10 -> 132.16652
B7: トンネル毎 の健全性の 診断の区分 | D7: ='様式B (1)'!$D$7 -> Ⅲ
G8: 変状・異常 箇所数合計 | I8: トンネル本体工 | J8: 材質劣化 | K8: Ⅱ | L8: ='様式B (1)'!$L$8 -> 60 | N8: Ⅲ | O8: ='様式B (1)'!$O$8 -> 1 | Q8: Ⅳ | R8: ='様式B (1)'!$R$8 -> 0 | T8: 附属物等 の取付状態 | V8: ◯ （応急措置後) | X8: ='様式B (1)'!$X$8 -> 11
J9: 漏水 | K9: Ⅱ | L9: ='様式B (1)'!$L$9 -> 0 | N9: Ⅲ | O9: ='様式B (1)'!$O$9 -> 0 | Q9: Ⅳ | R9: ='様式B (1)'!$R$9 -> 0
V10: ✕ | X10: ='様式B (1)'!$X$10 -> 1
J11: 外力 | K11: Ⅱ | L11: ='様式B (1)'!$L$11 -> 0 | N11: Ⅲ | O11: ='様式B (1)'!$O$11 -> 0 | Q11: Ⅳ | R11: ='様式B (1)'!$R$11 -> 0
B12: トンネル変状・異常箇所写真位置図
J29: 注１：本位置図は、見下げた状態で記載すること。 注２：覆工スパン番号は横断目地毎(矢板工法の場合は上半アーチの 横断目地毎)に設定すること。 | Q29: 注３：写真番号に付する変状番号は、各覆工スパンの変状に対して新たに確認された場合 は順次追加していくこと。 注４：横断目地の変状は前の覆工スパン番号で計上すること。 注５：１枚に収まらない場合は、複数枚に分けて作成すること。
C30: ※1 トンネル本体工の変状数は、材質劣化、漏水に起因するものは変状単位で、外力に起因するものはスパン単位で計上すること。
C31: ※2 トンネル本体工の変状に対しては、措置の必要性（Ⅱ～Ⅳ）について表記すること。また、点検前に実施された措置によりⅠと判定された箇所についても記載すること。
C32: ※3 附属物等の取付状態の○欄については、応急措置前に判定区分×とした箇所のうち応急措置により○判定とした箇所の数を記入すること。
C33: ※4 附属物等の異常番号は、本体工と番号が重複しないよう101番以降とする等の配慮を行い、分かりやすく記録すること。

Sheet 様式B (8)
B2: ■定期点検記録様式 トンネル変状・異常箇所写真位置図 【様式B】 | N2: 定期点検年月日 | P2: =+'様式B (1)'!$P$2 -> 45861 | S2: 施設ID | V2: =+'様式A-1'!$W$2 -> 34.12836,132.17178
B3: フリガナ | C3: =+'様式A-1'!$D$3 -> ナカヤマトンネル | G3: 路線名 | H3: =+'様式A-1'!$J$3 -> 一般県道藤生停車場錦帯橋線 | K3: 管理者名 | L3: =+'様式A-1'!$R$3 -> 山口県岩国土木建築事務所 | Q3: 定期点検実施者 | S3: ='様式B (1)'!$S$3 -> 復建調査設計株式会社 | V3: 起点 | W3: 緯度 | X3: =+'様式A-1'!$E$7 -> 34.14516
B4: 名 称 | C4: =+'様式A-1'!$D$4 -> 中山トンネル | S4: ='様式B (1)'!$S$4 -> 小笠原洋 | W4: 経度 | X4: =+'様式A-1'!$E$8 -> 132.1714
B5: 所在地 | C5: 自 | D5: =+'様式A-1'!$E$5 -> 岩国市平田 | G5: トンネル工法 | I5: ='様式B (1)'!$I$5 -> 山岳トンネル工法（NATM） | L5: トンネル延長 | N5: L= | O5: =+'様式A-1'!$Z$5 -> 508 | P5: ｍ | Q5: 自専道 or 一般道 | R5: ='様式B (1)'!$R$5 -> 一般道 | S5: 代替路の有無 | U5: ='様式B (1)'!$U$5 -> 無 | V5: 終点 | W5: 緯度 | X5: =+'様式A-1'!$E$9 -> 34.147063
C6: 至 | D6: =+'様式A-1'!$E$6 -> 岩国市御庄 | G6: 建設年度 | I6: ='様式B (1)'!$I$6 -> 2002年 | L6: 幅員 | N6: L= | O6: =+'様式A-1'!$E$15 -> 10.75 | P6: ｍ | S6: 緊急輸送道路 | U6: ='様式B (1)'!$U$6 -> 指定なし | W6: 経度 | X6: =+'様式A-1'!$E$10 -> 132.16652
B7: トンネル毎 の健全性の 診断の区分 | D7: ='様式B (1)'!$D$7 -> Ⅲ
G8: 変状・異常 箇所数合計 | I8: トンネル本体工 | J8: 材質劣化 | K8: Ⅱ | L8: ='様式B (1)'!$L$8 -> 60 | N8: Ⅲ | O8: ='様式B (1)'!$O$8 -> 1 | Q8: Ⅳ | R8: ='様式B (1)'!$R$8 -> 0 | T8: 附属物等 の取付状態 | V8: ◯ （応急措置後) | X8: ='様式B (1)'!$X$8 -> 11
J9: 漏水 | K9: Ⅱ | L9: ='様式B (1)'!$L$9 -> 0 | N9: Ⅲ | O9: ='様式B (1)'!$O$9 -> 0 | Q9: Ⅳ | R9: ='様式B (1)'!$R$9 -> 0
V10: ✕ | X10: ='様式B (1)'!$X$10 -> 1
J11: 外力 | K11: Ⅱ | L11: ='様式B (1)'!$L$11 -> 0 | N11: Ⅲ | O11: ='様式B (1)'!$O$11 -> 0 | Q11: Ⅳ | R11: ='様式B (1)'!$R$11 -> 0
B12: トンネル変状・異常箇所写真位置図
J29: 注１：本位置図は、見下げた状態で記載すること。 注２：覆工スパン番号は横断目地毎(矢板工法の場合は上半アーチの 横断目地毎)に設定すること。 | Q29: 注３：写真番号に付する変状番号は、各覆工スパンの変状に対して新たに確認された場合 は順次追加していくこと。 注４：横断目地の変状は前の覆工スパン番号で計上すること。 注５：１枚に収まらない場合は、複数枚に分けて作成すること。
C30: ※1 トンネル本体工の変状数は、材質劣化、漏水に起因するものは変状単位で、外力に起因するものはスパン単位で計上すること。
C31: ※2 トンネル本体工の変状に対しては、措置の必要性（Ⅱ～Ⅳ）について表記すること。また、点検前に実施された措置によりⅠと判定された箇所についても記載すること。
C32: ※3 附属物等の取付状態の○欄については、応急措置前に判定区分×とした箇所のうち応急措置により○判定とした箇所の数を記入すること。
C33: ※4 附属物等の異常番号は、本体工と番号が重複しないよう101番以降とする等の配慮を行い、分かりやすく記録すること。

Sheet 様式C-1-1
B2: ■定期点検記録様式 全スパン定期点検結果総括表（トンネル本体工） 【様式C-1-1】
B3: フリガナ | F3: =+'様式A-1'!$D$3 -> ナカヤマトンネル | I3: 路線名 | K3: =+'様式A-1'!$J$3 -> 一般県道藤生停車場錦帯橋線 | O3: 定期点検実施者 | P3: =+'様式B (1)'!$S$3 -> 復建調査設計株式会社 | T3: 定期点検年月日 | X3: =+'様式B (1)'!$P$2 -> 45861
B4: 名 称 | F4: =+'様式A-1'!$D$4 -> 中山トンネル | I4: 管理者名 | K4: =+'様式A-1'!$R$3 -> 山口県岩国土木建築事務所 | P4: =+'様式B (1)'!$S$4 -> 小笠原洋
B5: 定期点検結果 | C5: 覆工 スパン 番号 | E5: 変状 番号 | F5: 距離 （m） | G5: 変状部位 | I5: 変 状 の 内 容 | O5: 前回定期点検時の状態 | P5: 今回定期点検結果 | T5: 措置履歴 | Y5: 対応方針 ・ 特記事項
G7: 対象箇所 | H7: 部位区分 | I7: 変状区分 | J7: 変状種類 | M7: 変状の発生範囲の規模 | N7: 前回定期点検時の変状の発生範囲及び規模 | O7: 対策区分 | P7: 対策区分 | R7: 調査の 要否 | S7: 措置の 要否 | T7: 実施 | U7: 措置の実施状況
P8: 応急措置前 | Q8: 応急措置後
C9: PS | E9: 1 | F9: 0 | G9: 坑門 | H9: 面壁・妻壁等 | I9: 材質劣化 | J9: うき・はく離 | M9: 0.6m×0.5m | N9: － | O9: － | Q9: Ⅱb | R9: 否 | S9: 否 | T9: 継続 | U9: 監視(日常巡視) | Y9: 閉合ひび割れ
C10: S1 | E10: 1 | F10: 7.65 | G10: 覆工 | H10: 横断目地（右側） | I10: 材質劣化 | J10: うき・はく離 | M10: 0.2m×0.1m | N10: 0.45m×0.1m | O10: Ⅲ | Q10: Ⅲ | R10: 要 | S10: 要対策 | T10: 未 | U10: はく落対策工
C11: S1 | E11: 2 | F11: 7.65 | G11: 覆工 | H11: 横断目地（右側） | I11: 材質劣化 | J11: うき・はく離 | M11: 0.78m×0.03m | N11: 0.78m×0.03m | O11: Ⅲ | Q11: Ⅱb | R11: 否 | S11: 否 | T11: 継続 | U11: 監視(日常巡視)
C12: S4 | E12: 1 | F12: 35 | G12: 覆工 | H12: アーチ（左側） | I12: 材質劣化 | J12: 鋼材腐食 | M12: 0.1m×0.15m | N12: － | O12: － | Q12: Ⅱb | R12: 否 | S12: 否 | T12: 継続 | U12: 監視(日常巡視)
C13: S5 | E13: 1 | F13: 44 | G13: 覆工 | H13: 側壁（左側） | I13: 材質劣化 | J13: 鋼材腐食 | M13: 0.05m×0.05m | N13: － | O13: － | Q13: Ⅱb | R13: 否 | S13: 否 | T13: 継続 | U13: 監視(日常巡視)
C14: S5 | E14: 2 | F14: 44.5 | G14: 覆工 | H14: アーチ（右側） | I14: 材質劣化 | J14: 鋼材腐食 | M14: 0.05m×0.2m | N14: － | O14: Ⅱb | Q14: Ⅱb | R14: 否 | S14: 否 | T14: 継続 | U14: 監視(日常巡視)
C15: S7 | E15: 1 | F15: 70.45 | G15: 覆工 | H15: アーチ（左側） | I15: 材質劣化 | J15: うき・はく離 | M15: 0.5m×0.15m | N15: － | O15: Ⅱb | Q15: Ⅱb | R15: 否 | S15: 否 | T15: 継続 | U15: 監視(日常巡視) | Y15: 閉合ひび割れ
C16: S8 | E16: 1 | F16: 80.95 | G16: 覆工 | H16: 側壁（左側） | I16: 材質劣化 | J16: うき・はく離 | M16: 2.1m×0.4m | N16: － | O16: Ⅱb | Q16: Ⅱb | R16: 否 | S16: 否 | T16: 継続 | U16: 監視(日常巡視) | Y16: 閉合ひび割れ
C17: S13 | E17: 1 | F17: 133.4 | G17: 覆工 | H17: アーチ（左側） | I17: 材質劣化 | J17: うき・はく離 | M17: 0.5m×0.15m | N17: － | O17: Ⅱb | Q17: Ⅱb | R17: 否 | S17: 否 | T17: 継続 | U17: 監視(日常巡視) | Y17: 閉合ひび割れ
C18: S17 | E18: 1 | F18: 165.5 | G18: 覆工 | H18: アーチ（右側） | I18: 材質劣化 | J18: 鋼材腐食 | M18: 0.1m×0.1m | N18: － | O18: Ⅱb | Q18: Ⅱb | R18: 否 | S18: 否 | T18: 継続 | U18: 監視(日常巡視)
C19: S19 | E19: 1 | F19: 196.4 | G19: 覆工 | H19: アーチ（右側） | I19: 材質劣化 | J19: うき・はく離 | M19: 0.85m×0.2m | N19: － | O19: Ⅱb | Q19: Ⅱb | R19: 否 | S19: 否 | T19: 継続 | U19: 監視(日常巡視) | Y19: 閉合ひび割れ
C20: S21 | E20: 1 | F20: 217.35 | G20: 覆工 | H20: アーチ（右側） | I20: 材質劣化 | J20: うき・はく離 | M20: 0.95m×0.2m | N20: － | O20: Ⅱb | Q20: Ⅱb | R20: 否 | S20: 否 | T20: 継続 | U20: 監視(日常巡視) | Y20: 閉合ひび割れ
C21: S23 | E21: 1 | F21: 228 | G21: 覆工 | H21: アーチ（右側） | I21: 材質劣化 | J21: その他 | M21: 0.6m×0.3m | N21: 0.65m×0.35m | O21: Ⅱb | Q21: Ⅱb | R21: 否 | S21: 否 | T21: 継続 | U21: 監視(日常巡視) | Y21: 豆板
C22: S25 | E22: 1 | F22: 248.6 | G22: 覆工 | H22: 横断目地（右側） | I22: 材質劣化 | J22: うき・はく離 | M22: 2.3m×0.3m | N22: 1.2m×0.3m | O22: Ⅲ | Q22: Ⅱb | R22: 否 | S22: 否 | T22: 継続 | U22: 監視(日常巡視)
C23: S26 | E23: 1 | F23: 269.5 | G23: 覆工 | H23: 横断目地（右側） | I23: 材質劣化 | J23: うき・はく離 | M23: 0.3m×0.05m | N23: 0.15m×0.05m | O23: Ⅱb | P23: Ⅲ | Q23: Ⅰ | R23: 否 | S23: 否 | T23: 済 | U23: 叩き落とし済
C24: S27 | E24: 1 | F24: 275 | G24: 覆工 | H24: アーチ（天端） | I24: 材質劣化 | J24: うき・はく離 | M24: 2.5m×1.75m | N24: － | O24: Ⅱb | Q24: Ⅱb | R24: 否 | S24: 否 | T24: 継続 | U24: 監視(日常巡視) | Y24: 閉合ひび割れ
C25: S28 | E25: 1 | F25: 290.4 | G25: 覆工 | H25: アーチ（左側） | I25: 材質劣化 | J25: うき・はく離 | M25: 1.8m×0.4m | N25: － | O25: Ⅱb | Q25: Ⅱb | R25: 否 | S25: 否 | T25: 継続 | U25: 監視(日常巡視) | Y25: 閉合ひび割れ
C26: S28 | E26: 2 | F26: 290.4 | G26: 覆工 | H26: アーチ（右側） | I26: 材質劣化 | J26: うき・はく離 | M26: 2.7m×0.35m | N26: － | O26: － | Q26: Ⅱb | R26: 否 | S26: 否 | T26: 継続 | U26: 監視(日常巡視) | Y26: 閉合ひび割れ
C27: S29 | E27: 1 | F27: 300.85 | G27: 覆工 | H27: アーチ（左側） | I27: 材質劣化 | J27: うき・はく離 | M27: 1.55m×0.45m | N27: － | O27: Ⅱb | Q27: Ⅱb | R27: 否 | S27: 否 | T27: 継続 | U27: 監視(日常巡視) | Y27: 閉合ひび割れ
C28: S29 | E28: 2 | F28: 298 | G28: 覆工 | H28: アーチ（天端） | I28: 材質劣化 | J28: うき・はく離 | M28: 0.85m×1.2m | N28: － | O28: Ⅱb | Q28: Ⅱb | R28: 否 | S28: 否 | T28: 継続 | U28: 監視(日常巡視) | Y28: 閉合ひび割れ
C29: S30 | E29: 1 | F29: 301.5 | G29: 覆工 | H29: アーチ（右側） | I29: 材質劣化 | J29: その他 | M29: 0.3m×0.45m | N29: 0.3m×0.45m | O29: Ⅱb | Q29: Ⅱb | R29: 否 | S29: 否 | T29: 継続 | U29: 監視(日常巡視) | Y29: 豆板
C30: S30 | E30: 2 | F30: 302 | G30: 覆工 | H30: アーチ（右側） | I30: 材質劣化 | J30: その他 | M30: 0.15m×0.25m | N30: － | O30: － | Q30: Ⅱb | R30: 否 | S30: 否 | T30: 継続 | U30: 監視(日常巡視) | Y30: 豆板
C31: S31 | E31: 1 | F31: 319 | G31: 覆工 | H31: 側壁（右側） | I31: 材質劣化 | J31: うき・はく離 | M31: 0.2m×0.4m | N31: 0.2m×0.4m | O31: Ⅱb | Q31: Ⅱb | R31: 否 | S31: 否 | T31: 継続 | U31: 監視(日常巡視)
C32: S32 | E32: 1 | F32: 329 | G32: 覆工 | H32: アーチ（天端） | I32: 材質劣化 | J32: うき・はく離 | M32: 2.4m×1.35m | N32: － | O32: Ⅱb | Q32: Ⅱb | R32: 否 | S32: 否 | T32: 継続 | U32: 監視(日常巡視) | Y32: 閉合ひび割れ
C33: S32 | E33: 2 | F33: 329 | G33: 覆工 | H33: アーチ（右側） | I33: 材質劣化 | J33: うき・はく離 | M33: 0.6m×0.3m | N33: － | O33: － | Q33: Ⅱb | R33: 否 | S33: 否 | T33: 継続 | U33: 監視(日常巡視) | Y33: 閉合ひび割れ
C34: S32 | E34: 3 | F34: 325.5 | G34: 覆工 | H34: 側壁（右側） | I34: 材質劣化 | J34: うき・はく離 | M34: 0.8m×1.5m | N34: 0.8m×1.5m | O34: Ⅱb | Q34: Ⅱb | R34: 否 | S34: 否 | T34: 継続 | U34: 監視(日常巡視)
C35: S33 | E35: 1 | F35: 340 | G35: 覆工 | H35: アーチ（右側） | I35: 材質劣化 | J35: うき・はく離 | M35: 0.15m×0.2m | N35: － | O35: － | Q35: Ⅱb | R35: 否 | S35: 否 | T35: 継続 | U35: 監視(日常巡視) | Y35: 閉合ひび割れ
C36: S34 | E36: 1 | F36: 350 | G36: 覆工 | H36: アーチ（天端） | I36: 材質劣化 | J36: うき・はく離 | M36: 1.15m×1.1m | N36: － | O36: Ⅱb | Q36: Ⅱb | R36: 否 | S36: 否 | T36: 継続 | U36: 監視(日常巡視) | Y36: 閉合ひび割れ
C37: S36 | E37: 1 | F37: 374.1 | G37: 覆工 | H37: 側壁（右側） | I37: 材質劣化 | J37: うき・はく離 | M37: 1.7m×0.2m | N37: － | O37: Ⅱb | Q37: Ⅱb | R37: 否 | S37: 否 | T37: 継続 | U37: 監視(日常巡視) | Y37: 閉合ひび割れ
C38: S38 | E38: 1 | F38: 392 | G38: 覆工 | H38: アーチ（天端） | I38: 材質劣化 | J38: うき・はく離 | M38: 1.2m×1.0m | N38: － | O38: Ⅱb | Q38: Ⅱb | R38: 否 | S38: 否 | T38: 継続 | U38: 監視(日常巡視) | Y38: 閉合ひび割れ
C39: S40 | E39: 1 | F39: 406 | G39: 覆工 | H39: アーチ（右側） | I39: 材質劣化 | J39: その他 | M39: 0.25m×0.75m | N39: 0.25m×0.75m | O39: Ⅱb | Q39: Ⅱb | R39: 否 | S39: 否 | T39: 継続 | U39: 監視(日常巡視) | Y39: 豆板
C40: S41 | E40: 1 | F40: 416.5 | G40: 覆工 | H40: 側壁（左側） | I40: 材質劣化 | J40: 鋼材腐食 | M40: 0.1m×0.15m | N40: － | O40: － | Q40: Ⅱb | R40: 否 | S40: 否 | T40: 継続 | U40: 監視(日常巡視)
C41: S41 | E41: 2 | F41: 421 | G41: 覆工 | H41: 側壁（左側） | I41: 材質劣化 | J41: 鋼材腐食 | M41: 0.05m×0.15m | N41: － | O41: － | P41: Ⅲ | Q41: Ⅱb | R41: 否 | S41: 否 | T41: 済 | U41: 叩き落とし済 | Y41: 背面に鋼材腐食あり
C42: S41 | E42: 3 | F42: 421.5 | G42: 覆工 | H42: 側壁（左側） | I42: 材質劣化 | J42: 鋼材腐食 | M42: 0.05m×0.25m | N42: － | O42: － | Q42: Ⅱb | R42: 否 | S42: 否 | T42: 継続 | U42: 監視(日常巡視)
C43: ※ 対策区分（応急措置後）のⅡb～Ⅳについて記入すること。また、点検前に実施された措置によりⅠと判定された変状も記入すること。
C44: ※ 応急措置を実施しないで判定した変状の対策区分は、対策区分の応急措置後の欄に記入すること。
C45: ※ 変状の除去が不完全で、緊急対応が必要な場合は対応方針欄に記入すること。
C46: ※ １区間の覆工に複数の変状がある場合は、変状箇所毎に記入すること。
C47: ※ 措置・監視点検を行った場合には、措置履歴、特記事項に記録を残すこと。（実施年度も記載）
C48: ※ 行が不足する場合は、適時、表の行を増やすこと。
B49: ■定期点検記録様式 全スパン定期点検結果総括表（トンネル本体工） 【様式C-1-1】
B50: フリガナ | F50: =+'様式A-1'!$D$3 -> ナカヤマトンネル | I50: 路線名 | K50: =+'様式A-1'!$J$3 -> 一般県道藤生停車場錦帯橋線 | O50: 定期点検実施者 | P50: =+'様式B (1)'!$S$3 -> 復建調査設計株式会社 | T50: 定期点検年月日 | X50: =+'様式B (1)'!$P$2 -> 45861
B51: 名 称 | F51: =+'様式A-1'!$D$4 -> 中山トンネル | I51: 管理者名 | K51: =+'様式A-1'!$R$3 -> 山口県岩国土木建築事務所 | P51: =+'様式B (1)'!$S$4 -> 小笠原洋
B52: 定期点検結果 | C52: 覆工 スパン 番号 | E52: 変状 番号 | F52: 距離 （m） | G52: 変状部位 | I52: 変 状 の 内 容 | O52: 前回定期点検時の状態 | P52: 今回定期点検結果 | T52: 措置履歴 | Y52: 対応方針 ・ 特記事項
G54: 対象箇所 | H54: 部位区分 | I54: 変状区分 | J54: 変状種類 | M54: 変状の発生範囲の規模 | N54: 前回定期点検時の変状の発生範囲及び規模 | O54: 対策区分 | P54: 対策区分 | R54: 調査の 要否 | S54: 措置の 要否 | T54: 実施 | U54: 措置の実施状況
P55: 応急措置前 | Q55: 応急措置後
C56: S41 | E56: 4 | F56: 426.5 | G56: 覆工 | H56: アーチ（左側） | I56: 材質劣化 | J56: 鋼材腐食 | M56: 0.05m×0.1m | N56: － | O56: － | P56: Ⅲ | Q56: Ⅱb | R56: 否 | S56: 否 | T56: 済 | U56: 叩き落とし済 | Y56: 背面に鋼材腐食あり
C57: S41 | E57: 5 | F57: 425 | G57: 覆工 | H57: アーチ（左側） | I57: 材質劣化 | J57: 鋼材腐食 | M57: 0.4m×0.05m | N57: － | O57: Ⅱb | Q57: Ⅱb | R57: 否 | S57: 否 | T57: 継続 | U57: 監視(日常巡視)
C58: S41 | E58: 6 | F58: 416.5 | G58: 覆工 | H58: アーチ（右側） | I58: 材質劣化 | J58: うき・はく離 | M58: 0.1m×0.6m | N58: － | O58: Ⅱb | Q58: Ⅱb | R58: 否 | S58: 否 | T58: 継続 | U58: 監視(日常巡視) | Y58: 閉合ひび割れ
C59: S41 | E59: 7 | F59: 421.5 | G59: 覆工 | H59: アーチ（右側） | I59: 材質劣化 | J59: 鋼材腐食 | M59: 0.05m×0.4m | N59: － | O59: Ⅱb | Q59: Ⅱb | R59: 否 | S59: 否 | T59: 継続 | U59: 監視(日常巡視)
C60: S41 | E60: 8 | F60: 422 | G60: 覆工 | H60: アーチ（右側） | I60: 材質劣化 | J60: 鋼材腐食 | M60: 0.1m×0.1m | N60: － | O60: － | Q60: Ⅱb | R60: 否 | S60: 否 | T60: 継続 | U60: 監視(日常巡視)
C61: S42 | E61: 1 | F61: 427 | G61: 覆工 | H61: アーチ（右側） | I61: 材質劣化 | J61: その他 | M61: 0.8m×0.3m | N61: 0.8m×0.3m | O61: Ⅱb | Q61: Ⅱb | R61: 否 | S61: 否 | T61: 継続 | U61: 監視(日常巡視) | Y61: 豆板
C62: S42 | E62: 2 | F62: 437.35 | G62: 覆工 | H62: 横断目地（右側） | I62: 材質劣化 | J62: 鋼材腐食 | M62: 0.1m×0.05m | N62: － | O62: － | Q62: Ⅱb | R62: 否 | S62: 否 | T62: 継続 | U62: 監視(日常巡視)
C63: S44 | E63: 1 | F63: 450.5 | G63: 覆工 | H63: 側壁（左側） | I63: 材質劣化 | J63: 鋼材腐食 | M63: 0.1m×0.1m | N63: － | O63: － | Q63: Ⅱb | R63: 否 | S63: 否 | T63: 継続 | U63: 監視(日常巡視)
C64: S44 | E64: 2 | F64: 453 | G64: 覆工 | H64: アーチ（左側） | I64: 材質劣化 | J64: 鋼材腐食 | M64: 0.5m×0.1m | N64: － | O64: Ⅱb | Q64: Ⅱb | R64: 否 | S64: 否 | T64: 継続 | U64: 監視(日常巡視)
C65: S44 | E65: 3 | F65: 458.45 | G65: 覆工 | H65: 横断目地（左側） | I65: 材質劣化 | J65: うき・はく離 | M65: 0.1m×0.05m | N65: － | O65: － | P65: Ⅲ | Q65: Ⅰ | R65: 否 | S65: 否 | T65: 済 | U65: 叩き落とし済
C66: S44 | E66: 4 | F66: 458.45 | G66: 覆工 | H66: 横断目地（右側） | I66: 材質劣化 | J66: 鋼材腐食 | M66: 0.3m×0.05m | N66: － | O66: － | P66: Ⅲ | Q66: Ⅱb | R66: 否 | S66: 否 | T66: 済 | U66: 叩き落とし済 | Y66: 背面に鋼材腐食あり
C67: S44 | E67: 5 | F67: 454 | G67: 覆工 | H67: 側壁（右側） | I67: 材質劣化 | J67: 鋼材腐食 | M67: 0.1m×0.05m | N67: － | O67: Ⅱb | Q67: Ⅱb | R67: 否 | S67: 否 | T67: 継続 | U67: 監視(日常巡視)
C68: S44 | E68: 6 | F68: 453.5 | G68: 覆工 | H68: 側壁（右側） | I68: 材質劣化 | J68: 鋼材腐食 | M68: 0.3m×0.05m | N68: － | O68: Ⅱb | Q68: Ⅱb | R68: 否 | S68: 否 | T68: 継続 | U68: 監視(日常巡視)
C69: S45 | E69: 1 | F69: 461 | G69: 覆工 | H69: アーチ（左側） | I69: 材質劣化 | J69: 鋼材腐食 | M69: 0.1m×0.35m | N69: － | O69: Ⅱb | Q69: Ⅱb | R69: 否 | S69: 否 | T69: 継続 | U69: 監視(日常巡視)
C70: S45 | E70: 2 | F70: 466.5 | G70: 覆工 | H70: アーチ（天端） | I70: 材質劣化 | J70: うき・はく離 | M70: 1.2m×0.75m | N70: － | O70: Ⅱb | Q70: Ⅱb | R70: 否 | S70: 否 | T70: 継続 | U70: 監視(日常巡視) | Y70: 閉合ひび割れ
C71: S45 | E71: 3 | F71: 466.5 | G71: 覆工 | H71: アーチ（右側） | I71: 材質劣化 | J71: 鋼材腐食 | M71: 0.05m×0.3m | N71: － | O71: Ⅱb | Q71: Ⅱb | R71: 否 | S71: 否 | T71: 継続 | U71: 監視(日常巡視)
C72: S45 | E72: 4 | F72: 459 | G72: 覆工 | H72: アーチ（右側） | I72: 材質劣化 | J72: 鋼材腐食 | M72: 0.15m×0.1m | N72: － | O72: － | P72: Ⅲ | Q72: Ⅱb | R72: 否 | S72: 否 | T72: 済 | U72: 叩き落とし済 | Y72: 背面に鋼材腐食あり
C73: S46 | E73: 1 | F73: 472.5 | G73: 覆工 | H73: アーチ（左側） | I73: 材質劣化 | J73: 鋼材腐食 | M73: 0.05m×0.05m | N73: － | O73: － | Q73: Ⅱb | R73: 否 | S73: 否 | T73: 継続 | U73: 監視(日常巡視)
C74: S46 | E74: 2 | F74: 479.55 | G74: 覆工 | H74: アーチ（左側） | I74: 材質劣化 | J74: うき・はく離 | M74: 0.15m×0.5m | N74: － | O74: － | Q74: Ⅱb | R74: 否 | S74: 否 | T74: 継続 | U74: 監視(日常巡視) | Y74: 閉合ひび割れ
C75: S46 | E75: 3 | F75: 479.55 | G75: 覆工 | H75: アーチ（左側） | I75: 材質劣化 | J75: うき・はく離 | M75: 2.25m×0.8m | N75: － | O75: Ⅱb | Q75: Ⅱb | R75: 否 | S75: 否 | T75: 継続 | U75: 監視(日常巡視) | Y75: 閉合ひび割れ
C76: S46 | E76: 4 | F76: 475.5 | G76: 覆工 | H76: アーチ（左側） | I76: 材質劣化 | J76: 鋼材腐食 | M76: 0.1m×0.6m | N76: － | O76: Ⅱb | Q76: Ⅱb | R76: 否 | S76: 否 | T76: 継続 | U76: 監視(日常巡視)
C77: S46 | E77: 5 | F77: 477.5 | G77: 覆工 | H77: アーチ（右側） | I77: 材質劣化 | J77: 鋼材腐食 | M77: 0.4m×0.05m | N77: － | O77: Ⅱb | Q77: Ⅱb | R77: 否 | S77: 否 | T77: 継続 | U77: 監視(日常巡視)
C78: S47 | E78: 1 | F78: 485 | G78: 覆工 | H78: アーチ（左側） | I78: 材質劣化 | J78: 鋼材腐食 | M78: 0.05m×0.2m | N78: － | O78: Ⅱb | Q78: Ⅱb | R78: 否 | S78: 否 | T78: 継続 | U78: 監視(日常巡視)
C79: S47 | E79: 2 | F79: 486.5 | G79: 覆工 | H79: アーチ（天端） | I79: 材質劣化 | J79: うき・はく離 | M79: 1.9m×1.75m | N79: － | O79: Ⅱb | Q79: Ⅱb | R79: 否 | S79: 否 | T79: 継続 | U79: 監視(日常巡視) | Y79: 閉合ひび割れ
C80: S47 | E80: 3 | F80: 482 | G80: 覆工 | H80: 側壁（右側） | I80: 材質劣化 | J80: 鋼材腐食 | M80: 0.1m×0.4m | N80: － | O80: － | Q80: Ⅱb | R80: 否 | S80: 否 | T80: 継続 | U80: 監視(日常巡視)
C81: S48 | E81: 1 | F81: 496.5 | G81: 覆工 | H81: アーチ（左側） | I81: 材質劣化 | J81: 鋼材腐食 | M81: 0.03m×0.03m | N81: － | O81: Ⅱb | Q81: Ⅱb | R81: 否 | S81: 否 | T81: 継続 | U81: 監視(日常巡視)
C82: S48 | E82: 2 | F82: 497 | G82: 覆工 | H82: アーチ（左側） | I82: 材質劣化 | J82: 鋼材腐食 | M82: 0.03m×0.03m | N82: － | O82: Ⅱb | Q82: Ⅱb | R82: 否 | S82: 否 | T82: 継続 | U82: 監視(日常巡視)
C83: S49 | E83: 1 | F83: 503.5 | G83: 覆工 | H83: 側壁（左側） | I83: 材質劣化 | J83: 鋼材腐食 | M83: 0.05m×0.15m | N83: － | O83: Ⅱb | Q83: Ⅱb | R83: 否 | S83: 否 | T83: 継続 | U83: 監視(日常巡視)
C84: PE | E84: 1 | F84: 508 | G84: 坑門 | H84: 面壁・妻壁等 | I84: 材質劣化 | J84: うき・はく離 | M84: 1.7m×1.4m | N84: － | O84: － | Q84: Ⅱb | R84: 否 | S84: 否 | T84: 継続 | U84: 監視(日常巡視) | Y84: 閉合ひび割れ
C90: ※ 対策区分（応急措置後）のⅡb～Ⅳについて記入すること。また、点検前に実施された措置によりⅠと判定された変状も記入すること。
C91: ※ 応急措置を実施しないで判定した変状の対策区分は、対策区分の応急措置後の欄に記入すること。
C92: ※ 変状の除去が不完全で、緊急対応が必要な場合は対応方針欄に記入すること。
C93: ※ １区間の覆工に複数の変状がある場合は、変状箇所毎に記入すること。
C94: ※ 措置・監視点検を行った場合には、措置履歴、特記事項に記録を残すこと。（実施年度も記載）
C95: ※ 行が不足する場合は、適時、表の行を増やすこと。

Sheet 様式C-1-2
B2: ■定期点検記録様式 定期点検結果総括表（トンネル内附属物等の取付状態） 【様式C-1-2】
B3: フリガナ | F3: =+'様式A-1'!$D$3 -> ナカヤマトンネル | J3: 路線名 | K3: =+'様式A-1'!$J$3 -> 一般県道藤生停車場錦帯橋線 | M3: 定期点検実施者 | O3: =+'様式B (1)'!$S$3 -> 復建調査設計株式会社 | S3: 定期点検年月日 | W3: =+'様式B (1)'!$P$2 -> 45861
B4: 名 称 | F4: =+'様式A-1'!$D$4 -> 中山トンネル | J4: 管理者名 | K4: =+'様式A-1'!$R$3 -> 山口県岩国土木建築事務所 | O4: =+'様式B (1)'!$S$4 -> 小笠原洋
B5: 定期点検結果 | C5: 覆工 スパン 番号 | E5: 異常 番号 | F5: 距離 （m） | G5: 異常部位 | J5: 異 常 の 内 容 | N5: 定期点検結果 | P5: 応急措置の 実施状況 | V5: 対応方針 ・ 特記事項
G6: 対象箇所 | I6: 部位区分 | J6: 異常種類 | L6: 異常の発生範囲の規模 | N6: 異常判定区分 | P6: 実施 | Q6: 応急措置の内容
N7: 応急措置前 | O7: 応急措置後
C8: S16 | E8: 1 | F8: 156.5 | G8: 非常用施設 | H8: その他 | I8: 附属物本体 | J8: 緩み、脱落 | L8: １箇所 | O8: ○ | P8: 済 | Q8: 再設置済
C9: S24 | E9: 1 | F9: 240 | G9: 非常用施設 | H9: その他 | I9: 附属物本体 | J9: 緩み、脱落 | L9: １箇所 | O9: × | P9: 未
C10: S25 | E10: 1 | F10: 249 | G10: 非常用施設 | H10: その他 | I10: 附属物本体 | J10: 緩み、脱落 | L10: １箇所 | O10: ○ | P10: 済 | Q10: 再設置済
C11: S25 | E11: 2 | F11: 258 | G11: 非常用施設 | H11: その他 | I11: 附属物本体 | J11: 緩み、脱落 | L11: １箇所 | O11: ○ | P11: 済 | Q11: 再設置済
C12: S26 | E12: 1 | F12: 264.5 | G12: 非常用施設 | H12: その他 | I12: 附属物本体 | J12: 緩み、脱落 | L12: １箇所 | O12: ○ | P12: 済 | Q12: 再設置済
C13: S27 | E13: 1 | F13: 271.5 | G13: 非常用施設 | H13: その他 | I13: 附属物本体 | J13: 緩み、脱落 | L13: １箇所 | O13: ○ | P13: 済 | Q13: 再設置済
C14: S28 | E14: 1 | F14: 280.5 | G14: 非常用施設 | H14: その他 | I14: 附属物本体 | J14: 緩み、脱落 | L14: ２箇所 | O14: ○ | P14: 済 | Q14: 再設置済
C15: S29 | E15: 1 | F15: 297 | G15: 非常用施設 | H15: その他 | I15: 附属物本体 | J15: 緩み、脱落 | L15: １箇所 | O15: ○ | P15: 済 | Q15: 再設置済
C16: S31 | E16: 1 | F16: 312 | G16: 非常用施設 | H16: その他 | I16: 附属物本体 | J16: 緩み、脱落 | L16: １箇所 | O16: ○ | P16: 済 | Q16: 再設置済
C17: S31 | E17: 2 | F17: 321.5 | G17: 非常用施設 | H17: その他 | I17: 附属物本体 | J17: 緩み、脱落 | L17: １箇所 | O17: ○ | P17: 済 | Q17: 再設置済
C18: S32 | E18: 1 | F18: 329.5 | G18: 非常用施設 | H18: その他 | I18: 附属物本体 | J18: 緩み、脱落 | L18: １箇所 | O18: ○ | P18: 済 | Q18: 再設置済
C19: S48 | E19: 1 | F19: 495 | G19: 非常用施設 | H19: その他 | I19: 附属物本体 | J19: 緩み、脱落 | L19: １箇所 | O19: ○ | P19: 済 | Q19: 撤去済
C42: ※ 異常判定区分×について記入すること。また、応急措置により○と判定された箇所も記入すること。
C43: ※ 応急措置を実施しないで判定した箇所の異常判定区分は、異常判定区分の応急措置後の欄に記入すること。
C44: ※ 異常の除去が不完全で、緊急対応が必要な場合は対応方針欄に記入すること。
C45: ※ １スパンの覆工に複数の異常がある場合は、異常箇所毎に記入すること。
C46: ※ 行が不足する場合は、適時、表の行を増やすこと。

Sheet 様式C-2
B2: ■定期点検記録様式 状態の把握の内容 【様式C-2】
B3: フリガナ | E3: =+'様式A-1'!$D$3 -> ナカヤマトンネル | H3: 路線名 | J3: =+'様式A-1'!$J$3 -> 一般県道藤生停車場錦帯橋線 | M3: 定期点検実施者 | Q3: =+'様式B (1)'!$S$3 -> 復建調査設計株式会社 | U3: 定期点検年月日 | X3: =+'様式B (1)'!$P$2 -> 45861
B4: 名 称 | E4: =+'様式A-1'!$D$4 -> 中山トンネル | H4: 管理者名 | J4: =+'様式A-1'!$R$3 -> 山口県岩国土木建築事務所 | Q4: =+'様式B (1)'!$S$4 -> 小笠原洋
B5: 状態の把握の内容 | C5: 覆工スパン 番号 | E5: 変状 番号 | F5: 状態の把握の内容
F6: 年月日 | H6: 内容 | O6: 結果 | Y6: 対策区分の 判定
B22: 注）状態の把握において、微破壊・非破壊検査や各種試験等を実施した場合について記載する。
B23: ※ 行が不足する場合は、適時、表の行を増やすこと。

Sheet 様式D-1-1 (1)
B2: ■定期点検記録様式 変状写真台帳【様式D-1-1】 | R2: 施設ID | T2: =+'様式A-1'!$W$2 -> 34.12836,132.17178
B3: フリガナ | E3: =+'様式A-1'!$D$3 -> ナカヤマトンネル | H3: 路 線 名 | J3: =+'様式A-1'!$J$3 -> 一般県道藤生停車場錦帯橋線 | M3: 定期点検実施者 | P3: =+'様式B (1)'!$S$3 -> 復建調査設計株式会社 | S3: 定期点検年月日 | U3: =+'様式B (1)'!$P$2 -> 45861
B4: 名 称 | E4: =+'様式A-1'!$D$4 -> 中山トンネル | H4: 管理者名 | J4: =+'様式A-1'!$R$3 -> 山口県岩国土木建築事務所 | P4: =+'様式B (1)'!$S$4 -> 小笠原洋
B5: 写真 番号 | C5: 覆工スパン 番号 | E5: PS | M5: 写真 番号 | N5: 覆工スパン 番号 | P5: S1
C6: 変状番号 | E6: 1 | N6: 変状番号 | P6: 1
B7: 変状 部位 | C7: 対象箇所 | E7: 坑門 | M7: 変状 部位 | N7: 対象箇所 | P7: 覆工
C8: 部位区分 | E8: 面壁・妻壁等 | N8: 部位区分 | P8: 横断目地（右側）
B9: 変状種類 | E9: うき・はく離 | M9: 変状種類 | P9: うき・はく離
B10: 対策 区分 | C10: 変状区分 | E10: 材質劣化 | M10: 対策 区分 | N10: 変状区分 | P10: 材質劣化
C11: 応急措置前 | N11: 応急措置前
C12: 応急措置後 | E12: Ⅱb | N12: 応急措置後 | P12: Ⅲ
B13: 変状の発生範囲及び規模 | E13: 0.6m×0.5m | H13: 前回変状の発生範囲及び規模 | J13: － | M13: 変状の発生範囲及び規模 | P13: 0.2m×0.1m | S13: 前回変状の発生範囲及び規模 | U13: 0.45m×0.1m
B14: 対策履歴 | E14: 監視(日常巡視) | H14: 実施状況（実施日） | M14: 対策履歴 | P14: はく落対策工 | S14: 実施状況（実施日）
B15: メモ | E15: 0.6m×0.5mの閉合してブロック化したひび割れ、打音異常なし | M15: メモ | P15: 0.2m×0.1mの横断方向目地周辺の打音異常部、進行が認められたため一部叩き落としを実施、閉合が懸念される （写真番号S1-4・前回Ⅲ判定）
B16: 写真 番号 | C16: 覆工スパン 番号 | E16: S1 | M16: 写真 番号 | N16: 覆工スパン 番号 | P16: S4
C17: 変状番号 | E17: 2 | N17: 変状番号 | P17: 1
B18: 変状 部位 | C18: 対象箇所 | E18: 覆工 | M18: 変状 部位 | N18: 対象箇所 | P18: 覆工
C19: 部位区分 | E19: 横断目地（右側） | N19: 部位区分 | P19: アーチ（左側）
B20: 変状種類 | E20: うき・はく離 | M20: 変状種類 | P20: 鋼材腐食
B21: 対策 区分 | C21: 変状区分 | E21: 材質劣化 | M21: 対策 区分 | N21: 変状区分 | P21: 材質劣化
C22: 応急措置前 | N22: 応急措置前
C23: 応急措置後 | E23: Ⅱb | N23: 応急措置後 | P23: Ⅱb
B24: 変状の発生範囲及び規模 | E24: 0.78m×0.03m | H24: 前回変状の発生範囲及び規模 | J24: 0.78m×0.03m | M24: 変状の発生範囲及び規模 | P24: 0.1m×0.15m | S24: 前回変状の発生範囲及び規模 | U24: －
B25: 対策履歴 | E25: 監視(日常巡視) | H25: 実施状況（実施日） | M25: 対策履歴 | P25: 監視(日常巡視) | S25: 実施状況（実施日）
B26: メモ | E26: 打音異常は確認できない、ひび割れも進行していない （写真番号S1-5・前回Ⅲ判定） | M26: メモ | P26: 0.1m×0.15mの鋼材腐食、鋼材の表面的な錆び、構造鉄筋の可能性は低い
C27: ※ 応急措置後の対策区分について添付すること。また、点検前に 実施された措置によりⅠと判定された箇所も添付すること。 | N27: ※ 変状の発生範囲の規模とは、対策を行う際に参考となる変状の長さや面積をいう。
N28: ※ 応急措置を実施しないで決定した変状の対策区分は、対策区分の応急措置後の欄に記入すること。
C29: ※ たたき落としを実施した場合は、実施後の写真を添付すること。 | N29: ※ 変状の発生範囲の規模は、面積・寸法を記載すること。(ひび割れ幅のみmmとし、その他をm表記とする)
C30: ※ 附属物の取付状態に関する異常写真は別途、任意の書式でとりまとめること。 | N30: ※ 構造用鋼材以外の異物に伴ううき・はく離については、メモ欄に異物の概要を記入すること。

Sheet 様式D-1-1 (2)
B2: ■定期点検記録様式 変状写真台帳【様式D-1-1】 | R2: 施設ID | T2: =+'様式A-1'!$W$2 -> 34.12836,132.17178
B3: フリガナ | E3: =+'様式A-1'!$D$3 -> ナカヤマトンネル | H3: 路 線 名 | J3: =+'様式A-1'!$J$3 -> 一般県道藤生停車場錦帯橋線 | M3: 定期点検実施者 | P3: =+'様式B (1)'!$S$3 -> 復建調査設計株式会社 | S3: 定期点検年月日 | U3: =+'様式B (1)'!$P$2 -> 45861
B4: 名 称 | E4: =+'様式A-1'!$D$4 -> 中山トンネル | H4: 管理者名 | J4: =+'様式A-1'!$R$3 -> 山口県岩国土木建築事務所 | P4: =+'様式B (1)'!$S$4 -> 小笠原洋
B5: 写真 番号 | C5: 覆工スパン 番号 | E5: S5 | M5: 写真 番号 | N5: 覆工スパン 番号 | P5: S5
C6: 変状番号 | E6: 1 | N6: 変状番号 | P6: 2
B7: 変状 部位 | C7: 対象箇所 | E7: 覆工 | M7: 変状 部位 | N7: 対象箇所 | P7: 覆工
C8: 部位区分 | E8: 側壁（左側） | N8: 部位区分 | P8: アーチ（右側）
B9: 変状種類 | E9: 鋼材腐食 | M9: 変状種類 | P9: 鋼材腐食
B10: 対策 区分 | C10: 変状区分 | E10: 材質劣化 | M10: 対策 区分 | N10: 変状区分 | P10: 材質劣化
C11: 応急措置前 | N11: 応急措置前
C12: 応急措置後 | E12: Ⅱb | N12: 応急措置後 | P12: Ⅱb
B13: 変状の発生範囲及び規模 | E13: 0.05m×0.05m | H13: 前回変状の発生範囲及び規模 | J13: － | M13: 変状の発生範囲及び規模 | P13: 0.05m×0.2m | S13: 前回変状の発生範囲及び規模 | U13: －
B14: 対策履歴 | E14: 監視(日常巡視) | H14: 実施状況（実施日） | M14: 対策履歴 | P14: 監視(日常巡視) | S14: 実施状況（実施日）
B15: メモ | E15: 0.05m×0.05mの鋼材腐食、鋼材の表面的な錆び、構造鉄筋の可能性は低い | M15: メモ | P15: 0.05m×0.2mの鋼材腐食、鋼材の表面的な錆び、構造鉄筋の可能性は低い （写真番号S5-2・前回Ⅱb判定）
B16: 写真 番号 | C16: 覆工スパン 番号 | E16: S7 | M16: 写真 番号 | N16: 覆工スパン 番号 | P16: S8
C17: 変状番号 | E17: 1 | N17: 変状番号 | P17: 1
B18: 変状 部位 | C18: 対象箇所 | E18: 覆工 | M18: 変状 部位 | N18: 対象箇所 | P18: 覆工
C19: 部位区分 | E19: アーチ（左側） | N19: 部位区分 | P19: 側壁（左側）
B20: 変状種類 | E20: うき・はく離 | M20: 変状種類 | P20: うき・はく離
B21: 対策 区分 | C21: 変状区分 | E21: 材質劣化 | M21: 対策 区分 | N21: 変状区分 | P21: 材質劣化
C22: 応急措置前 | N22: 応急措置前
C23: 応急措置後 | E23: Ⅱb | N23: 応急措置後 | P23: Ⅱb
B24: 変状の発生範囲及び規模 | E24: 0.5m×0.15m | H24: 前回変状の発生範囲及び規模 | J24: － | M24: 変状の発生範囲及び規模 | P24: 2.1m×0.4m | S24: 前回変状の発生範囲及び規模 | U24: －
B25: 対策履歴 | E25: 監視(日常巡視) | H25: 実施状況（実施日） | M25: 対策履歴 | P25: 監視(日常巡視) | S25: 実施状況（実施日）
B26: メモ | E26: 0.5m×0.15mの横断方向目地に閉合してブロック化したひび割れ、打音異常なし、進行は確認されない （写真番号S7-2・前回Ⅱb判定） | M26: メモ | P26: 2.1m×0.4mの横断方向目地に閉合してブロック化したひび割れ、打音異常なし、進行は確認されない （写真番号S8-2・前回Ⅱb判定）
C27: ※ 応急措置後の対策区分について添付すること。また、点検前に 実施された措置によりⅠと判定された箇所も添付すること。 | N27: ※ 変状の発生範囲の規模とは、対策を行う際に参考となる変状の長さや面積をいう。
N28: ※ 応急措置を実施しないで決定した変状の対策区分は、対策区分の応急措置後の欄に記入すること。
C29: ※ たたき落としを実施した場合は、実施後の写真を添付すること。 | N29: ※ 変状の発生範囲の規模は、面積・寸法を記載すること。(ひび割れ幅のみmmとし、その他をm表記とする)
C30: ※ 附属物の取付状態に関する異常写真は別途、任意の書式でとりまとめること。 | N30: ※ 構造用鋼材以外の異物に伴ううき・はく離については、メモ欄に異物の概要を記入すること。

Sheet 様式D-1-1 (3)
B2: ■定期点検記録様式 変状写真台帳【様式D-1-1】 | R2: 施設ID | T2: =+'様式A-1'!$W$2 -> 34.12836,132.17178
B3: フリガナ | E3: =+'様式A-1'!$D$3 -> ナカヤマトンネル | H3: 路 線 名 | J3: =+'様式A-1'!$J$3 -> 一般県道藤生停車場錦帯橋線 | M3: 定期点検実施者 | P3: =+'様式B (1)'!$S$3 -> 復建調査設計株式会社 | S3: 定期点検年月日 | U3: =+'様式B (1)'!$P$2 -> 45861
B4: 名 称 | E4: =+'様式A-1'!$D$4 -> 中山トンネル | H4: 管理者名 | J4: =+'様式A-1'!$R$3 -> 山口県岩国土木建築事務所 | P4: =+'様式B (1)'!$S$4 -> 小笠原洋
B5: 写真 番号 | C5: 覆工スパン 番号 | E5: S13 | M5: 写真 番号 | N5: 覆工スパン 番号 | P5: S17
C6: 変状番号 | E6: 1 | N6: 変状番号 | P6: 1
B7: 変状 部位 | C7: 対象箇所 | E7: 覆工 | M7: 変状 部位 | N7: 対象箇所 | P7: 覆工
C8: 部位区分 | E8: アーチ（左側） | N8: 部位区分 | P8: アーチ（右側）
B9: 変状種類 | E9: うき・はく離 | M9: 変状種類 | P9: 鋼材腐食
B10: 対策 区分 | C10: 変状区分 | E10: 材質劣化 | M10: 対策 区分 | N10: 変状区分 | P10: 材質劣化
C11: 応急措置前 | N11: 応急措置前
C12: 応急措置後 | E12: Ⅱb | N12: 応急措置後 | P12: Ⅱb
B13: 変状の発生範囲及び規模 | E13: 0.5m×0.15m | H13: 前回変状の発生範囲及び規模 | J13: － | M13: 変状の発生範囲及び規模 | P13: 0.1m×0.1m | S13: 前回変状の発生範囲及び規模 | U13: －
B14: 対策履歴 | E14: 監視(日常巡視) | H14: 実施状況（実施日） | M14: 対策履歴 | P14: 監視(日常巡視) | S14: 実施状況（実施日）
B15: メモ | E15: 0.5m×0.15mの横断方向目地に閉合してブロック化したひび割れ、打音異常なし、進行は確認されない （写真番号S13-3・前回Ⅱb判定） | M15: メモ | P15: 0.1m×0.1mの鋼材腐食、鋼材の表面的な錆び、構造鉄筋の可能性は低い （写真番号S17-1・前回Ⅱb判定）
B16: 写真 番号 | C16: 覆工スパン 番号 | E16: S19 | M16: 写真 番号 | N16: 覆工スパン 番号 | P16: S21
C17: 変状番号 | E17: 1 | N17: 変状番号 | P17: 1
B18: 変状 部位 | C18: 対象箇所 | E18: 覆工 | M18: 変状 部位 | N18: 対象箇所 | P18: 覆工
C19: 部位区分 | E19: アーチ（右側） | N19: 部位区分 | P19: アーチ（右側）
B20: 変状種類 | E20: うき・はく離 | M20: 変状種類 | P20: うき・はく離
B21: 対策 区分 | C21: 変状区分 | E21: 材質劣化 | M21: 対策 区分 | N21: 変状区分 | P21: 材質劣化
C22: 応急措置前 | N22: 応急措置前
C23: 応急措置後 | E23: Ⅱb | N23: 応急措置後 | P23: Ⅱb
B24: 変状の発生範囲及び規模 | E24: 0.85m×0.2m | H24: 前回変状の発生範囲及び規模 | J24: － | M24: 変状の発生範囲及び規模 | P24: 0.95m×0.2m | S24: 前回変状の発生範囲及び規模 | U24: －
B25: 対策履歴 | E25: 監視(日常巡視) | H25: 実施状況（実施日） | M25: 対策履歴 | P25: 監視(日常巡視) | S25: 実施状況（実施日）
B26: メモ | E26: 0.85m×0.2mの横断方向目地に閉合してブロック化したひび割れ、打音異常なし、進行は確認されない （写真番号S19-2・前回Ⅱb判定） | M26: メモ | P26: 0.95m×0.2mの横断方向目地に閉合してブロック化したひび割れ、打音異常なし、進行は確認されない （写真番号S21-2・前回Ⅱb判定）
C27: ※ 応急措置後の対策区分について添付すること。また、点検前に 実施された措置によりⅠと判定された箇所も添付すること。 | N27: ※ 変状の発生範囲の規模とは、対策を行う際に参考となる変状の長さや面積をいう。
N28: ※ 応急措置を実施しないで決定した変状の対策区分は、対策区分の応急措置後の欄に記入すること。
C29: ※ たたき落としを実施した場合は、実施後の写真を添付すること。 | N29: ※ 変状の発生範囲の規模は、面積・寸法を記載すること。(ひび割れ幅のみmmとし、その他をm表記とする)
C30: ※ 附属物の取付状態に関する異常写真は別途、任意の書式でとりまとめること。 | N30: ※ 構造用鋼材以外の異物に伴ううき・はく離については、メモ欄に異物の概要を記入すること。

Sheet 様式D-1-1 (4)
B2: ■定期点検記録様式 変状写真台帳【様式D-1-1】 | R2: 施設ID | T2: =+'様式A-1'!$W$2 -> 34.12836,132.17178
B3: フリガナ | E3: =+'様式A-1'!$D$3 -> ナカヤマトンネル | H3: 路 線 名 | J3: =+'様式A-1'!$J$3 -> 一般県道藤生停車場錦帯橋線 | M3: 定期点検実施者 | P3: =+'様式B (1)'!$S$3 -> 復建調査設計株式会社 | S3: 定期点検年月日 | U3: =+'様式B (1)'!$P$2 -> 45861
B4: 名 称 | E4: =+'様式A-1'!$D$4 -> 中山トンネル | H4: 管理者名 | J4: =+'様式A-1'!$R$3 -> 山口県岩国土木建築事務所 | P4: =+'様式B (1)'!$S$4 -> 小笠原洋
B5: 写真 番号 | C5: 覆工スパン 番号 | E5: S23 | M5: 写真 番号 | N5: 覆工スパン 番号 | P5: S25
C6: 変状番号 | E6: 1 | N6: 変状番号 | P6: 1
B7: 変状 部位 | C7: 対象箇所 | E7: 覆工 | M7: 変状 部位 | N7: 対象箇所 | P7: 覆工
C8: 部位区分 | E8: アーチ（右側） | N8: 部位区分 | P8: 横断目地（右側）
B9: 変状種類 | E9: その他 | M9: 変状種類 | P9: うき・はく離
B10: 対策 区分 | C10: 変状区分 | E10: 材質劣化 | M10: 対策 区分 | N10: 変状区分 | P10: 材質劣化
C11: 応急措置前 | N11: 応急措置前
C12: 応急措置後 | E12: Ⅱb | N12: 応急措置後 | P12: Ⅱb
B13: 変状の発生範囲及び規模 | E13: 0.6m×0.3m | H13: 前回変状の発生範囲及び規模 | J13: 0.65m×0.35m | M13: 変状の発生範囲及び規模 | P13: 2.3m×0.3m | S13: 前回変状の発生範囲及び規模 | U13: 1.2m×0.3m
B14: 対策履歴 | E14: 監視(日常巡視) | H14: 実施状況（実施日） | M14: 対策履歴 | P14: 監視(日常巡視) | S14: 実施状況（実施日）
B15: メモ | E15: 0.6m×0.3mの豆板（ジャンカ）、打音異常なし （写真番号S23-1・前回Ⅱb判定） | M15: メモ | P15: 2.3m×0.3mの横断方向目地周辺の打音異常部、打音異常範囲拡大はあるもののひび割れが無く閉合の懸念がない （写真番号S25-1・前回Ⅲ判定）
B16: 写真 番号 | C16: 覆工スパン 番号 | E16: S26 | M16: 写真 番号 | N16: 覆工スパン 番号 | P16: S27
C17: 変状番号 | E17: 1 | N17: 変状番号 | P17: 1
B18: 変状 部位 | C18: 対象箇所 | E18: 覆工 | M18: 変状 部位 | N18: 対象箇所 | P18: 覆工
C19: 部位区分 | E19: 横断目地（右側） | N19: 部位区分 | P19: アーチ（天端）
B20: 変状種類 | E20: うき・はく離 | M20: 変状種類 | P20: うき・はく離
B21: 対策 区分 | C21: 変状区分 | E21: 材質劣化 | M21: 対策 区分 | N21: 変状区分 | P21: 材質劣化
C22: 応急措置前 | E22: Ⅲ | N22: 応急措置前
C23: 応急措置後 | E23: Ⅰ | N23: 応急措置後 | P23: Ⅱb
B24: 変状の発生範囲及び規模 | E24: 0.3m×0.05m | H24: 前回変状の発生範囲及び規模 | J24: 0.15m×0.05m | M24: 変状の発生範囲及び規模 | P24: 2.5m×1.75m | S24: 前回変状の発生範囲及び規模 | U24: －
B25: 対策履歴 | E25: 叩き落とし | H25: 実施状況（実施日） | J25: 45953 | M25: 対策履歴 | P25: 監視(日常巡視) | S25: 実施状況（実施日）
B26: メモ | E26: 0.3m×0.05mのうきをハンマーで叩き落とした （写真番号S26-1・前回Ⅱb判定） | M26: メモ | P26: 2.5m×1.75mの閉合してブロック化したひび割れ、打音異常なし、進行は確認されない （写真番号S27-3・前回Ⅱb判定）
C27: ※ 応急措置後の対策区分について添付すること。また、点検前に 実施された措置によりⅠと判定された箇所も添付すること。 | N27: ※ 変状の発生範囲の規模とは、対策を行う際に参考となる変状の長さや面積をいう。
N28: ※ 応急措置を実施しないで決定した変状の対策区分は、対策区分の応急措置後の欄に記入すること。
C29: ※ たたき落としを実施した場合は、実施後の写真を添付すること。 | N29: ※ 変状の発生範囲の規模は、面積・寸法を記載すること。(ひび割れ幅のみmmとし、その他をm表記とする)
C30: ※ 附属物の取付状態に関する異常写真は別途、任意の書式でとりまとめること。 | N30: ※ 構造用鋼材以外の異物に伴ううき・はく離については、メモ欄に異物の概要を記入すること。

Sheet 様式D-1-1 (5)
B2: ■定期点検記録様式 変状写真台帳【様式D-1-1】 | R2: 施設ID | T2: =+'様式A-1'!$W$2 -> 34.12836,132.17178
B3: フリガナ | E3: =+'様式A-1'!$D$3 -> ナカヤマトンネル | H3: 路 線 名 | J3: =+'様式A-1'!$J$3 -> 一般県道藤生停車場錦帯橋線 | M3: 定期点検実施者 | P3: =+'様式B (1)'!$S$3 -> 復建調査設計株式会社 | S3: 定期点検年月日 | U3: =+'様式B (1)'!$P$2 -> 45861
B4: 名 称 | E4: =+'様式A-1'!$D$4 -> 中山トンネル | H4: 管理者名 | J4: =+'様式A-1'!$R$3 -> 山口県岩国土木建築事務所 | P4: =+'様式B (1)'!$S$4 -> 小笠原洋
B5: 写真 番号 | C5: 覆工スパン 番号 | E5: S28 | M5: 写真 番号 | N5: 覆工スパン 番号 | P5: S28
C6: 変状番号 | E6: 1 | N6: 変状番号 | P6: 2
B7: 変状 部位 | C7: 対象箇所 | E7: 覆工 | M7: 変状 部位 | N7: 対象箇所 | P7: 覆工
C8: 部位区分 | E8: アーチ（左側） | N8: 部位区分 | P8: アーチ（右側）
B9: 変状種類 | E9: うき・はく離 | M9: 変状種類 | P9: うき・はく離
B10: 対策 区分 | C10: 変状区分 | E10: 材質劣化 | M10: 対策 区分 | N10: 変状区分 | P10: 材質劣化
C11: 応急措置前 | N11: 応急措置前
C12: 応急措置後 | E12: Ⅱb | N12: 応急措置後 | P12: Ⅱb
B13: 変状の発生範囲及び規模 | E13: 1.8m×0.4m | H13: 前回変状の発生範囲及び規模 | J13: － | M13: 変状の発生範囲及び規模 | P13: 2.7m×0.35m | S13: 前回変状の発生範囲及び規模 | U13: －
B14: 対策履歴 | E14: 監視(日常巡視) | H14: 実施状況（実施日） | M14: 対策履歴 | P14: 監視(日常巡視) | S14: 実施状況（実施日）
B15: メモ | E15: 1.8m×0.4mの横断方向目地に閉合してブロック化したひび割れ、打音異常なし、進行は確認されない （写真番号S28-2・前回Ⅱb判定） | M15: メモ | P15: 2.7m×0.35mの横断方向目地に閉合してブロック化したひび割れ、打音異常なし
B16: 写真 番号 | C16: 覆工スパン 番号 | E16: S29 | M16: 写真 番号 | N16: 覆工スパン 番号 | P16: S29
C17: 変状番号 | E17: 1 | N17: 変状番号 | P17: 2
B18: 変状 部位 | C18: 対象箇所 | E18: 覆工 | M18: 変状 部位 | N18: 対象箇所 | P18: 覆工
C19: 部位区分 | E19: アーチ（左側） | N19: 部位区分 | P19: アーチ（天端）
B20: 変状種類 | E20: うき・はく離 | M20: 変状種類 | P20: うき・はく離
B21: 対策 区分 | C21: 変状区分 | E21: 材質劣化 | M21: 対策 区分 | N21: 変状区分 | P21: 材質劣化
C22: 応急措置前 | N22: 応急措置前
C23: 応急措置後 | E23: Ⅱb | N23: 応急措置後 | P23: Ⅱb
B24: 変状の発生範囲及び規模 | E24: 1.55m×0.45m | H24: 前回変状の発生範囲及び規模 | J24: － | M24: 変状の発生範囲及び規模 | P24: 0.85m×1.2m | S24: 前回変状の発生範囲及び規模 | U24: －
B25: 対策履歴 | E25: 監視(日常巡視) | H25: 実施状況（実施日） | M25: 対策履歴 | P25: 監視(日常巡視) | S25: 実施状況（実施日）
B26: メモ | E26: 1.55m×0.45mの横断方向目地に閉合してブロック化したひび割れ、打音異常なし、進行は確認されない （写真番号S29-2・前回Ⅱb判定） | M26: メモ | P26: 0.85m×1.2mの閉合してブロック化したひび割れ、打音異常なし、進行は確認されない （写真番号S29-1・前回Ⅱb判定）
C27: ※ 応急措置後の対策区分について添付すること。また、点検前に 実施された措置によりⅠと判定された箇所も添付すること。 | N27: ※ 変状の発生範囲の規模とは、対策を行う際に参考となる変状の長さや面積をいう。
N28: ※ 応急措置を実施しないで決定した変状の対策区分は、対策区分の応急措置後の欄に記入すること。
C29: ※ たたき落としを実施した場合は、実施後の写真を添付すること。 | N29: ※ 変状の発生範囲の規模は、面積・寸法を記載すること。(ひび割れ幅のみmmとし、その他をm表記とする)
C30: ※ 附属物の取付状態に関する異常写真は別途、任意の書式でとりまとめること。 | N30: ※ 構造用鋼材以外の異物に伴ううき・はく離については、メモ欄に異物の概要を記入すること。

Sheet 様式D-1-1 (6)
B2: ■定期点検記録様式 変状写真台帳【様式D-1-1】 | R2: 施設ID | T2: =+'様式A-1'!$W$2 -> 34.12836,132.17178
B3: フリガナ | E3: =+'様式A-1'!$D$3 -> ナカヤマトンネル | H3: 路 線 名 | J3: =+'様式A-1'!$J$3 -> 一般県道藤生停車場錦帯橋線 | M3: 定期点検実施者 | P3: =+'様式B (1)'!$S$3 -> 復建調査設計株式会社 | S3: 定期点検年月日 | U3: =+'様式B (1)'!$P$2 -> 45861
B4: 名 称 | E4: =+'様式A-1'!$D$4 -> 中山トンネル | H4: 管理者名 | J4: =+'様式A-1'!$R$3 -> 山口県岩国土木建築事務所 | P4: =+'様式B (1)'!$S$4 -> 小笠原洋
B5: 写真 番号 | C5: 覆工スパン 番号 | E5: S30 | M5: 写真 番号 | N5: 覆工スパン 番号 | P5: S30
C6: 変状番号 | E6: 1 | N6: 変状番号 | P6: 2
B7: 変状 部位 | C7: 対象箇所 | E7: 覆工 | M7: 変状 部位 | N7: 対象箇所 | P7: 覆工
C8: 部位区分 | E8: アーチ（右側） | N8: 部位区分 | P8: アーチ（右側）
B9: 変状種類 | E9: その他 | M9: 変状種類 | P9: その他
B10: 対策 区分 | C10: 変状区分 | E10: 材質劣化 | M10: 対策 区分 | N10: 変状区分 | P10: 材質劣化
C11: 応急措置前 | N11: 応急措置前
C12: 応急措置後 | E12: Ⅱb | N12: 応急措置後 | P12: Ⅱb
B13: 変状の発生範囲及び規模 | E13: 0.3m×0.45m | H13: 前回変状の発生範囲及び規模 | J13: 0.3m×0.45m | M13: 変状の発生範囲及び規模 | P13: 0.15m×0.25m | S13: 前回変状の発生範囲及び規模 | U13: －
B14: 対策履歴 | E14: 監視(日常巡視) | H14: 実施状況（実施日） | M14: 対策履歴 | P14: 監視(日常巡視) | S14: 実施状況（実施日）
B15: メモ | E15: 0.3m×0.45mの豆板（ジャンカ）、打音異常なし （写真番号S30-1・前回Ⅱb判定） | M15: メモ | P15: 0.15m×0.25mの豆板（ジャンカ）、打音異常なし
B16: 写真 番号 | C16: 覆工スパン 番号 | E16: S31 | M16: 写真 番号 | N16: 覆工スパン 番号 | P16: S32
C17: 変状番号 | E17: 1 | N17: 変状番号 | P17: 1
B18: 変状 部位 | C18: 対象箇所 | E18: 覆工 | M18: 変状 部位 | N18: 対象箇所 | P18: 覆工
C19: 部位区分 | E19: 側壁（右側） | N19: 部位区分 | P19: アーチ（天端）
B20: 変状種類 | E20: うき・はく離 | M20: 変状種類 | P20: うき・はく離
B21: 対策 区分 | C21: 変状区分 | E21: 材質劣化 | M21: 対策 区分 | N21: 変状区分 | P21: 材質劣化
C22: 応急措置前 | N22: 応急措置前
C23: 応急措置後 | E23: Ⅱb | N23: 応急措置後 | P23: Ⅱb
B24: 変状の発生範囲及び規模 | E24: 0.2m×0.4m | H24: 前回変状の発生範囲及び規模 | J24: 0.2m×0.4m | M24: 変状の発生範囲及び規模 | P24: 2.4m×1.35m | S24: 前回変状の発生範囲及び規模 | U24: －
B25: 対策履歴 | E25: 監視(日常巡視) | H25: 実施状況（実施日） | M25: 対策履歴 | P25: 監視(日常巡視) | S25: 実施状況（実施日）
B26: メモ | E26: 0.2m×0.4mの覆工の打音異常部、閉合が懸念されるひび割れなし、進行は確認されない （写真番号S31-2・前回Ⅱb判定） | M26: メモ | P26: 2.4m×1.35mの閉合してブロック化したひび割れ、打音異常なし、進行は確認されない （写真番号S32-2・前回Ⅱb判定）
C27: ※ 応急措置後の対策区分について添付すること。また、点検前に 実施された措置によりⅠと判定された箇所も添付すること。 | N27: ※ 変状の発生範囲の規模とは、対策を行う際に参考となる変状の長さや面積をいう。
N28: ※ 応急措置を実施しないで決定した変状の対策区分は、対策区分の応急措置後の欄に記入すること。
C29: ※ たたき落としを実施した場合は、実施後の写真を添付すること。 | N29: ※ 変状の発生範囲の規模は、面積・寸法を記載すること。(ひび割れ幅のみmmとし、その他をm表記とする)
C30: ※ 附属物の取付状態に関する異常写真は別途、任意の書式でとりまとめること。 | N30: ※ 構造用鋼材以外の異物に伴ううき・はく離については、メモ欄に異物の概要を記入すること。

Sheet 様式D-1-1 (7)
B2: ■定期点検記録様式 変状写真台帳【様式D-1-1】 | R2: 施設ID | T2: =+'様式A-1'!$W$2 -> 34.12836,132.17178
B3: フリガナ | E3: =+'様式A-1'!$D$3 -> ナカヤマトンネル | H3: 路 線 名 | J3: =+'様式A-1'!$J$3 -> 一般県道藤生停車場錦帯橋線 | M3: 定期点検実施者 | P3: =+'様式B (1)'!$S$3 -> 復建調査設計株式会社 | S3: 定期点検年月日 | U3: =+'様式B (1)'!$P$2 -> 45861
B4: 名 称 | E4: =+'様式A-1'!$D$4 -> 中山トンネル | H4: 管理者名 | J4: =+'様式A-1'!$R$3 -> 山口県岩国土木建築事務所 | P4: =+'様式B (1)'!$S$4 -> 小笠原洋
B5: 写真 番号 | C5: 覆工スパン 番号 | E5: S32 | M5: 写真 番号 | N5: 覆工スパン 番号 | P5: S32
C6: 変状番号 | E6: 2 | N6: 変状番号 | P6: 3
B7: 変状 部位 | C7: 対象箇所 | E7: 覆工 | M7: 変状 部位 | N7: 対象箇所 | P7: 覆工
C8: 部位区分 | E8: アーチ（右側） | N8: 部位区分 | P8: 側壁（右側）
B9: 変状種類 | E9: うき・はく離 | M9: 変状種類 | P9: うき・はく離
B10: 対策 区分 | C10: 変状区分 | E10: 材質劣化 | M10: 対策 区分 | N10: 変状区分 | P10: 材質劣化
C11: 応急措置前 | N11: 応急措置前
C12: 応急措置後 | E12: Ⅱb | N12: 応急措置後 | P12: Ⅱb
B13: 変状の発生範囲及び規模 | E13: 0.6m×0.3m | H13: 前回変状の発生範囲及び規模 | J13: － | M13: 変状の発生範囲及び規模 | P13: 0.8m×1.5m | S13: 前回変状の発生範囲及び規模 | U13: 0.8m×1.5m
B14: 対策履歴 | E14: 監視(日常巡視) | H14: 実施状況（実施日） | M14: 対策履歴 | P14: 監視(日常巡視) | S14: 実施状況（実施日）
B15: メモ | E15: 0.6m×0.3mの閉合してブロック化したひび割れ、打音異常なし | M15: メモ | P15: 0.8m×1.5mの覆工の打音異常部、閉合が懸念されるひび割れなし、進行は確認されない （写真番号S32-1・前回Ⅱb判定）
B16: 写真 番号 | C16: 覆工スパン 番号 | E16: S33 | M16: 写真 番号 | N16: 覆工スパン 番号 | P16: S34
C17: 変状番号 | E17: 1 | N17: 変状番号 | P17: 1
B18: 変状 部位 | C18: 対象箇所 | E18: 覆工 | M18: 変状 部位 | N18: 対象箇所 | P18: 覆工
C19: 部位区分 | E19: アーチ（右側） | N19: 部位区分 | P19: アーチ（天端）
B20: 変状種類 | E20: うき・はく離 | M20: 変状種類 | P20: うき・はく離
B21: 対策 区分 | C21: 変状区分 | E21: 材質劣化 | M21: 対策 区分 | N21: 変状区分 | P21: 材質劣化
C22: 応急措置前 | N22: 応急措置前
C23: 応急措置後 | E23: Ⅱb | N23: 応急措置後 | P23: Ⅱb
B24: 変状の発生範囲及び規模 | E24: 0.15m×0.2m | H24: 前回変状の発生範囲及び規模 | J24: － | M24: 変状の発生範囲及び規模 | P24: 1.15m×1.1m | S24: 前回変状の発生範囲及び規模 | U24: －
B25: 対策履歴 | E25: 監視(日常巡視) | H25: 実施状況（実施日） | M25: 対策履歴 | P25: 監視(日常巡視) | S25: 実施状況（実施日）
B26: メモ | E26: 0.15m×0.2mの閉合してブロック化したひび割れ、打音異常なし | M26: メモ | P26: 1.15m×1.1mの閉合してブロック化したひび割れ、打音異常なし、進行は確認されない （写真番号S34-1・前回Ⅱb判定）
C27: ※ 応急措置後の対策区分について添付すること。また、点検前に 実施された措置によりⅠと判定された箇所も添付すること。 | N27: ※ 変状の発生範囲の規模とは、対策を行う際に参考となる変状の長さや面積をいう。
N28: ※ 応急措置を実施しないで決定した変状の対策区分は、対策区分の応急措置後の欄に記入すること。
C29: ※ たたき落としを実施した場合は、実施後の写真を添付すること。 | N29: ※ 変状の発生範囲の規模は、面積・寸法を記載すること。(ひび割れ幅のみmmとし、その他をm表記とする)
C30: ※ 附属物の取付状態に関する異常写真は別途、任意の書式でとりまとめること。 | N30: ※ 構造用鋼材以外の異物に伴ううき・はく離については、メモ欄に異物の概要を記入すること。

Sheet 様式D-1-1 (8)
B2: ■定期点検記録様式 変状写真台帳【様式D-1-1】 | R2: 施設ID | T2: =+'様式A-1'!$W$2 -> 34.12836,132.17178
B3: フリガナ | E3: =+'様式A-1'!$D$3 -> ナカヤマトンネル | H3: 路 線 名 | J3: =+'様式A-1'!$J$3 -> 一般県道藤生停車場錦帯橋線 | M3: 定期点検実施者 | P3: =+'様式B (1)'!$S$3 -> 復建調査設計株式会社 | S3: 定期点検年月日 | U3: =+'様式B (1)'!$P$2 -> 45861
B4: 名 称 | E4: =+'様式A-1'!$D$4 -> 中山トンネル | H4: 管理者名 | J4: =+'様式A-1'!$R$3 -> 山口県岩国土木建築事務所 | P4: =+'様式B (1)'!$S$4 -> 小笠原洋
B5: 写真 番号 | C5: 覆工スパン 番号 | E5: S36 | M5: 写真 番号 | N5: 覆工スパン 番号 | P5: S38
C6: 変状番号 | E6: 1 | N6: 変状番号 | P6: 1
B7: 変状 部位 | C7: 対象箇所 | E7: 覆工 | M7: 変状 部位 | N7: 対象箇所 | P7: 覆工
C8: 部位区分 | E8: 側壁（右側） | N8: 部位区分 | P8: アーチ（天端）
B9: 変状種類 | E9: うき・はく離 | M9: 変状種類 | P9: うき・はく離
B10: 対策 区分 | C10: 変状区分 | E10: 材質劣化 | M10: 対策 区分 | N10: 変状区分 | P10: 材質劣化
C11: 応急措置前 | N11: 応急措置前
C12: 応急措置後 | E12: Ⅱb | N12: 応急措置後 | P12: Ⅱb
B13: 変状の発生範囲及び規模 | E13: 1.7m×0.2m | H13: 前回変状の発生範囲及び規模 | J13: － | M13: 変状の発生範囲及び規模 | P13: 1.2m×1.0m | S13: 前回変状の発生範囲及び規模 | U13: －
B14: 対策履歴 | E14: 監視(日常巡視) | H14: 実施状況（実施日） | M14: 対策履歴 | P14: 監視(日常巡視) | S14: 実施状況（実施日）
B15: メモ | E15: 1.7m×0.2mの横断方向目地に閉合してブロック化したひび割れ、打音異常なし、進行は確認されない （写真番号S36-2・前回Ⅱb判定） | M15: メモ | P15: 1.2m×1.0mの閉合してブロック化したひび割れ、打音異常なし、進行は確認されない （写真番号S38-2・前回Ⅱb判定）
B16: 写真 番号 | C16: 覆工スパン 番号 | E16: S40 | M16: 写真 番号 | N16: 覆工スパン 番号 | P16: S41
C17: 変状番号 | E17: 1 | N17: 変状番号 | P17: 1
B18: 変状 部位 | C18: 対象箇所 | E18: 覆工 | M18: 変状 部位 | N18: 対象箇所 | P18: 覆工
C19: 部位区分 | E19: アーチ（右側） | N19: 部位区分 | P19: 側壁（左側）
B20: 変状種類 | E20: その他 | M20: 変状種類 | P20: 鋼材腐食
B21: 対策 区分 | C21: 変状区分 | E21: 材質劣化 | M21: 対策 区分 | N21: 変状区分 | P21: 材質劣化
C22: 応急措置前 | N22: 応急措置前
C23: 応急措置後 | E23: Ⅱb | N23: 応急措置後 | P23: Ⅱb
B24: 変状の発生範囲及び規模 | E24: 0.25m×0.75m | H24: 前回変状の発生範囲及び規模 | J24: 0.25m×0.75m | M24: 変状の発生範囲及び規模 | P24: 0.1m×0.15m | S24: 前回変状の発生範囲及び規模 | U24: －
B25: 対策履歴 | E25: 監視(日常巡視) | H25: 実施状況（実施日） | M25: 対策履歴 | P25: 監視(日常巡視) | S25: 実施状況（実施日）
B26: メモ | E26: 0.25m×0.75mの豆板（ジャンカ）、打音異常なし （写真番号S40-1・前回Ⅱb判定） | M26: メモ | P26: 0.1m×0.15mの鋼材腐食、鋼材の表面的な錆び、構造鉄筋の可能性は低い
C27: ※ 応急措置後の対策区分について添付すること。また、点検前に 実施された措置によりⅠと判定された箇所も添付すること。 | N27: ※ 変状の発生範囲の規模とは、対策を行う際に参考となる変状の長さや面積をいう。
N28: ※ 応急措置を実施しないで決定した変状の対策区分は、対策区分の応急措置後の欄に記入すること。
C29: ※ たたき落としを実施した場合は、実施後の写真を添付すること。 | N29: ※ 変状の発生範囲の規模は、面積・寸法を記載すること。(ひび割れ幅のみmmとし、その他をm表記とする)
C30: ※ 附属物の取付状態に関する異常写真は別途、任意の書式でとりまとめること。 | N30: ※ 構造用鋼材以外の異物に伴ううき・はく離については、メモ欄に異物の概要を記入すること。

Sheet 様式D-1-1 (9)
B2: ■定期点検記録様式 変状写真台帳【様式D-1-1】 | R2: 施設ID | T2: =+'様式A-1'!$W$2 -> 34.12836,132.17178
B3: フリガナ | E3: =+'様式A-1'!$D$3 -> ナカヤマトンネル | H3: 路 線 名 | J3: =+'様式A-1'!$J$3 -> 一般県道藤生停車場錦帯橋線 | M3: 定期点検実施者 | P3: =+'様式B (1)'!$S$3 -> 復建調査設計株式会社 | S3: 定期点検年月日 | U3: =+'様式B (1)'!$P$2 -> 45861
B4: 名 称 | E4: =+'様式A-1'!$D$4 -> 中山トンネル | H4: 管理者名 | J4: =+'様式A-1'!$R$3 -> 山口県岩国土木建築事務所 | P4: =+'様式B (1)'!$S$4 -> 小笠原洋
B5: 写真 番号 | C5: 覆工スパン 番号 | E5: S41 | M5: 写真 番号 | N5: 覆工スパン 番号 | P5: S41
C6: 変状番号 | E6: 2 | N6: 変状番号 | P6: 3
B7: 変状 部位 | C7: 対象箇所 | E7: 覆工 | M7: 変状 部位 | N7: 対象箇所 | P7: 覆工
C8: 部位区分 | E8: 側壁（左側） | N8: 部位区分 | P8: 側壁（左側）
B9: 変状種類 | E9: 鋼材腐食 | M9: 変状種類 | P9: 鋼材腐食
B10: 対策 区分 | C10: 変状区分 | E10: 材質劣化 | M10: 対策 区分 | N10: 変状区分 | P10: 材質劣化
C11: 応急措置前 | E11: Ⅲ | N11: 応急措置前
C12: 応急措置後 | E12: Ⅱb | N12: 応急措置後 | P12: Ⅱb
B13: 変状の発生範囲及び規模 | E13: 0.05m×0.15m | H13: 前回変状の発生範囲及び規模 | J13: － | M13: 変状の発生範囲及び規模 | P13: 0.05m×0.25m | S13: 前回変状の発生範囲及び規模 | U13: －
B14: 対策履歴 | E14: 叩き落とし | H14: 実施状況（実施日） | J14: 45953 | M14: 対策履歴 | P14: 監視(日常巡視) | S14: 実施状況（実施日）
B15: メモ | E15: 0.05m×0.15mのうきをハンマーで叩き落とした、背面に鋼材腐食あり | M15: メモ | P15: 0.05m×0.25mの鋼材腐食、鋼材の表面的な錆び、構造鉄筋の可能性は低い
B16: 写真 番号 | C16: 覆工スパン 番号 | E16: S41 | M16: 写真 番号 | N16: 覆工スパン 番号 | P16: S41
C17: 変状番号 | E17: 4 | N17: 変状番号 | P17: 5
B18: 変状 部位 | C18: 対象箇所 | E18: 覆工 | M18: 変状 部位 | N18: 対象箇所 | P18: 覆工
C19: 部位区分 | E19: アーチ（左側） | N19: 部位区分 | P19: アーチ（左側）
B20: 変状種類 | E20: 鋼材腐食 | M20: 変状種類 | P20: 鋼材腐食
B21: 対策 区分 | C21: 変状区分 | E21: 材質劣化 | M21: 対策 区分 | N21: 変状区分 | P21: 材質劣化
C22: 応急措置前 | E22: Ⅲ | N22: 応急措置前
C23: 応急措置後 | E23: Ⅱb | N23: 応急措置後 | P23: Ⅱb
B24: 変状の発生範囲及び規模 | E24: 0.05m×0.1m | H24: 前回変状の発生範囲及び規模 | J24: － | M24: 変状の発生範囲及び規模 | P24: 0.4m×0.05m | S24: 前回変状の発生範囲及び規模 | U24: －
B25: 対策履歴 | E25: 叩き落とし | H25: 実施状況（実施日） | J25: 45953 | M25: 対策履歴 | P25: 監視(日常巡視) | S25: 実施状況（実施日）
B26: メモ | E26: 0.05m×0.1mのうきをハンマーで叩き落とした、背面に鋼材腐食あり | M26: メモ | P26: 0.4m×0.05mの鋼材腐食、鋼材の表面的な錆び、構造鉄筋の可能性は低い （写真番号S41-3・前回Ⅱb判定）
C27: ※ 応急措置後の対策区分について添付すること。また、点検前に 実施された措置によりⅠと判定された箇所も添付すること。 | N27: ※ 変状の発生範囲の規模とは、対策を行う際に参考となる変状の長さや面積をいう。
N28: ※ 応急措置を実施しないで決定した変状の対策区分は、対策区分の応急措置後の欄に記入すること。
C29: ※ たたき落としを実施した場合は、実施後の写真を添付すること。 | N29: ※ 変状の発生範囲の規模は、面積・寸法を記載すること。(ひび割れ幅のみmmとし、その他をm表記とする)
C30: ※ 附属物の取付状態に関する異常写真は別途、任意の書式でとりまとめること。 | N30: ※ 構造用鋼材以外の異物に伴ううき・はく離については、メモ欄に異物の概要を記入すること。

Sheet 様式D-1-1 (10)
B2: ■定期点検記録様式 変状写真台帳【様式D-1-1】 | R2: 施設ID | T2: =+'様式A-1'!$W$2 -> 34.12836,132.17178
B3: フリガナ | E3: =+'様式A-1'!$D$3 -> ナカヤマトンネル | H3: 路 線 名 | J3: =+'様式A-1'!$J$3 -> 一般県道藤生停車場錦帯橋線 | M3: 定期点検実施者 | P3: =+'様式B (1)'!$S$3 -> 復建調査設計株式会社 | S3: 定期点検年月日 | U3: =+'様式B (1)'!$P$2 -> 45861
B4: 名 称 | E4: =+'様式A-1'!$D$4 -> 中山トンネル | H4: 管理者名 | J4: =+'様式A-1'!$R$3 -> 山口県岩国土木建築事務所 | P4: =+'様式B (1)'!$S$4 -> 小笠原洋
B5: 写真 番号 | C5: 覆工スパン 番号 | E5: S41 | M5: 写真 番号 | N5: 覆工スパン 番号 | P5: S41
C6: 変状番号 | E6: 6 | N6: 変状番号 | P6: 7
B7: 変状 部位 | C7: 対象箇所 | E7: 覆工 | M7: 変状 部位 | N7: 対象箇所 | P7: 覆工
C8: 部位区分 | E8: アーチ（右側） | N8: 部位区分 | P8: アーチ（右側）
B9: 変状種類 | E9: うき・はく離 | M9: 変状種類 | P9: 鋼材腐食
B10: 対策 区分 | C10: 変状区分 | E10: 材質劣化 | M10: 対策 区分 | N10: 変状区分 | P10: 材質劣化
C11: 応急措置前 | N11: 応急措置前
C12: 応急措置後 | E12: Ⅱb | N12: 応急措置後 | P12: Ⅱb
B13: 変状の発生範囲及び規模 | E13: 0.1m×0.6m | H13: 前回変状の発生範囲及び規模 | J13: － | M13: 変状の発生範囲及び規模 | P13: 0.05m×0.4m | S13: 前回変状の発生範囲及び規模 | U13: －
B14: 対策履歴 | E14: 監視(日常巡視) | H14: 実施状況（実施日） | M14: 対策履歴 | P14: 監視(日常巡視) | S14: 実施状況（実施日）
B15: メモ | E15: 0.1m×0.6mの閉合してブロック化したひび割れ、打音異常なし、進行は確認されない （写真番号S41-1・前回Ⅱb判定） | M15: メモ | P15: 0.05m×0.4mの鋼材腐食、鋼材の表面的な錆び、構造鉄筋の可能性は低い （写真番号S41-2・前回Ⅱb判定）
B16: 写真 番号 | C16: 覆工スパン 番号 | E16: S41 | M16: 写真 番号 | N16: 覆工スパン 番号 | P16: S42
C17: 変状番号 | E17: 8 | N17: 変状番号 | P17: 1
B18: 変状 部位 | C18: 対象箇所 | E18: 覆工 | M18: 変状 部位 | N18: 対象箇所 | P18: 覆工
C19: 部位区分 | E19: アーチ（右側） | N19: 部位区分 | P19: アーチ（右側）
B20: 変状種類 | E20: 鋼材腐食 | M20: 変状種類 | P20: その他
B21: 対策 区分 | C21: 変状区分 | E21: 材質劣化 | M21: 対策 区分 | N21: 変状区分 | P21: 材質劣化
C22: 応急措置前 | N22: 応急措置前
C23: 応急措置後 | E23: Ⅱb | N23: 応急措置後 | P23: Ⅱb
B24: 変状の発生範囲及び規模 | E24: 0.1m×0.1m | H24: 前回変状の発生範囲及び規模 | J24: － | M24: 変状の発生範囲及び規模 | P24: 0.8m×0.3m | S24: 前回変状の発生範囲及び規模 | U24: 0.8m×0.3m
B25: 対策履歴 | E25: 監視(日常巡視) | H25: 実施状況（実施日） | M25: 対策履歴 | P25: 監視(日常巡視) | S25: 実施状況（実施日）
B26: メモ | E26: 0.1m×0.1mの鋼材腐食、鋼材の表面的な錆び、構造鉄筋の可能性は低い | M26: メモ | P26: 0.8m×0.3mの豆板（ジャンカ）、打音異常なし （写真番号S42-1・前回Ⅱb判定）
C27: ※ 応急措置後の対策区分について添付すること。また、点検前に 実施された措置によりⅠと判定された箇所も添付すること。 | N27: ※ 変状の発生範囲の規模とは、対策を行う際に参考となる変状の長さや面積をいう。
N28: ※ 応急措置を実施しないで決定した変状の対策区分は、対策区分の応急措置後の欄に記入すること。
C29: ※ たたき落としを実施した場合は、実施後の写真を添付すること。 | N29: ※ 変状の発生範囲の規模は、面積・寸法を記載すること。(ひび割れ幅のみmmとし、その他をm表記とする)
C30: ※ 附属物の取付状態に関する異常写真は別途、任意の書式でとりまとめること。 | N30: ※ 構造用鋼材以外の異物に伴ううき・はく離については、メモ欄に異物の概要を記入すること。

Sheet 様式D-1-1 (11)
B2: ■定期点検記録様式 変状写真台帳【様式D-1-1】 | R2: 施設ID | T2: =+'様式A-1'!$W$2 -> 34.12836,132.17178
B3: フリガナ | E3: =+'様式A-1'!$D$3 -> ナカヤマトンネル | H3: 路 線 名 | J3: =+'様式A-1'!$J$3 -> 一般県道藤生停車場錦帯橋線 | M3: 定期点検実施者 | P3: =+'様式B (1)'!$S$3 -> 復建調査設計株式会社 | S3: 定期点検年月日 | U3: =+'様式B (1)'!$P$2 -> 45861
B4: 名 称 | E4: =+'様式A-1'!$D$4 -> 中山トンネル | H4: 管理者名 | J4: =+'様式A-1'!$R$3 -> 山口県岩国土木建築事務所 | P4: =+'様式B (1)'!$S$4 -> 小笠原洋
B5: 写真 番号 | C5: 覆工スパン 番号 | E5: S42 | M5: 写真 番号 | N5: 覆工スパン 番号 | P5: S44
C6: 変状番号 | E6: 2 | N6: 変状番号 | P6: 1
B7: 変状 部位 | C7: 対象箇所 | E7: 覆工 | M7: 変状 部位 | N7: 対象箇所 | P7: 覆工
C8: 部位区分 | E8: 横断目地（右側） | N8: 部位区分 | P8: 側壁（左側）
B9: 変状種類 | E9: 鋼材腐食 | M9: 変状種類 | P9: 鋼材腐食
B10: 対策 区分 | C10: 変状区分 | E10: 材質劣化 | M10: 対策 区分 | N10: 変状区分 | P10: 材質劣化
C11: 応急措置前 | N11: 応急措置前
C12: 応急措置後 | E12: Ⅱb | N12: 応急措置後 | P12: Ⅱb
B13: 変状の発生範囲及び規模 | E13: 0.1m×0.05m | H13: 前回変状の発生範囲及び規模 | J13: － | M13: 変状の発生範囲及び規模 | P13: 0.1m×0.1m | S13: 前回変状の発生範囲及び規模 | U13: －
B14: 対策履歴 | E14: 監視(日常巡視) | H14: 実施状況（実施日） | M14: 対策履歴 | P14: 監視(日常巡視) | S14: 実施状況（実施日）
B15: メモ | E15: 0.1m×0.05mの鋼材腐食、鋼材の表面的な錆び、構造鉄筋の可能性は低い | M15: メモ | P15: 0.1m×0.1mの鋼材腐食、鋼材の表面的な錆び、構造鉄筋の可能性は低い
B16: 写真 番号 | C16: 覆工スパン 番号 | E16: S44 | M16: 写真 番号 | N16: 覆工スパン 番号 | P16: S44
C17: 変状番号 | E17: 2 | N17: 変状番号 | P17: 3
B18: 変状 部位 | C18: 対象箇所 | E18: 覆工 | M18: 変状 部位 | N18: 対象箇所 | P18: 覆工
C19: 部位区分 | E19: アーチ（左側） | N19: 部位区分 | P19: 横断目地（左側）
B20: 変状種類 | E20: 鋼材腐食 | M20: 変状種類 | P20: うき・はく離
B21: 対策 区分 | C21: 変状区分 | E21: 材質劣化 | M21: 対策 区分 | N21: 変状区分 | P21: 材質劣化
C22: 応急措置前 | N22: 応急措置前 | P22: Ⅲ
C23: 応急措置後 | E23: Ⅱb | N23: 応急措置後 | P23: Ⅰ
B24: 変状の発生範囲及び規模 | E24: 0.5m×0.1m | H24: 前回変状の発生範囲及び規模 | J24: － | M24: 変状の発生範囲及び規模 | P24: 0.1m×0.05m | S24: 前回変状の発生範囲及び規模 | U24: －
B25: 対策履歴 | E25: 監視(日常巡視) | H25: 実施状況（実施日） | M25: 対策履歴 | P25: 叩き落とし | S25: 実施状況（実施日） | U25: 45953
B26: メモ | E26: 0.5m×0.1mの鋼材腐食、鋼材の表面的な錆び、構造鉄筋の可能性は低い （写真番号S44-1・前回Ⅱb判定） | M26: メモ | P26: 0.1m×0.05mのうきをハンマーで叩き落とした
C27: ※ 応急措置後の対策区分について添付すること。また、点検前に 実施された措置によりⅠと判定された箇所も添付すること。 | N27: ※ 変状の発生範囲の規模とは、対策を行う際に参考となる変状の長さや面積をいう。
N28: ※ 応急措置を実施しないで決定した変状の対策区分は、対策区分の応急措置後の欄に記入すること。
C29: ※ たたき落としを実施した場合は、実施後の写真を添付すること。 | N29: ※ 変状の発生範囲の規模は、面積・寸法を記載すること。(ひび割れ幅のみmmとし、その他をm表記とする)
C30: ※ 附属物の取付状態に関する異常写真は別途、任意の書式でとりまとめること。 | N30: ※ 構造用鋼材以外の異物に伴ううき・はく離については、メモ欄に異物の概要を記入すること。

Sheet 様式D-1-1 (12)
B2: ■定期点検記録様式 変状写真台帳【様式D-1-1】 | R2: 施設ID | T2: =+'様式A-1'!$W$2 -> 34.12836,132.17178
B3: フリガナ | E3: =+'様式A-1'!$D$3 -> ナカヤマトンネル | H3: 路 線 名 | J3: =+'様式A-1'!$J$3 -> 一般県道藤生停車場錦帯橋線 | M3: 定期点検実施者 | P3: =+'様式B (1)'!$S$3 -> 復建調査設計株式会社 | S3: 定期点検年月日 | U3: =+'様式B (1)'!$P$2 -> 45861
B4: 名 称 | E4: =+'様式A-1'!$D$4 -> 中山トンネル | H4: 管理者名 | J4: =+'様式A-1'!$R$3 -> 山口県岩国土木建築事務所 | P4: =+'様式B (1)'!$S$4 -> 小笠原洋
B5: 写真 番号 | C5: 覆工スパン 番号 | E5: S44 | M5: 写真 番号 | N5: 覆工スパン 番号 | P5: S44
C6: 変状番号 | E6: 4 | N6: 変状番号 | P6: 5
B7: 変状 部位 | C7: 対象箇所 | E7: 覆工 | M7: 変状 部位 | N7: 対象箇所 | P7: 覆工
C8: 部位区分 | E8: 横断目地（右側） | N8: 部位区分 | P8: 側壁（右側）
B9: 変状種類 | E9: 鋼材腐食 | M9: 変状種類 | P9: 鋼材腐食
B10: 対策 区分 | C10: 変状区分 | E10: 材質劣化 | M10: 対策 区分 | N10: 変状区分 | P10: 材質劣化
C11: 応急措置前 | E11: Ⅲ | N11: 応急措置前
C12: 応急措置後 | E12: Ⅱb | N12: 応急措置後 | P12: Ⅱb
B13: 変状の発生範囲及び規模 | E13: 0.3m×0.05m | H13: 前回変状の発生範囲及び規模 | J13: － | M13: 変状の発生範囲及び規模 | P13: 0.1m×0.05m | S13: 前回変状の発生範囲及び規模 | U13: －
B14: 対策履歴 | E14: 叩き落とし | H14: 実施状況（実施日） | J14: 45953 | M14: 対策履歴 | P14: 監視(日常巡視) | S14: 実施状況（実施日）
B15: メモ | E15: 0.3m×0.05mのうきをハンマーで叩き落とした、背面に鋼材腐食あり | M15: メモ | P15: 0.1m×0.05mの鋼材腐食、鋼材の表面的な錆び、構造鉄筋の可能性は低い （写真番号S44-2・前回Ⅱb判定）
B16: 写真 番号 | C16: 覆工スパン 番号 | E16: S44 | M16: 写真 番号 | N16: 覆工スパン 番号 | P16: S45
C17: 変状番号 | E17: 6 | N17: 変状番号 | P17: 1
B18: 変状 部位 | C18: 対象箇所 | E18: 覆工 | M18: 変状 部位 | N18: 対象箇所 | P18: 覆工
C19: 部位区分 | E19: 側壁（右側） | N19: 部位区分 | P19: アーチ（左側）
B20: 変状種類 | E20: 鋼材腐食 | M20: 変状種類 | P20: 鋼材腐食
B21: 対策 区分 | C21: 変状区分 | E21: 材質劣化 | M21: 対策 区分 | N21: 変状区分 | P21: 材質劣化
C22: 応急措置前 | N22: 応急措置前
C23: 応急措置後 | E23: Ⅱb | N23: 応急措置後 | P23: Ⅱb
B24: 変状の発生範囲及び規模 | E24: 0.3m×0.05m | H24: 前回変状の発生範囲及び規模 | J24: － | M24: 変状の発生範囲及び規模 | P24: 0.1m×0.35m | S24: 前回変状の発生範囲及び規模 | U24: －
B25: 対策履歴 | E25: 監視(日常巡視) | H25: 実施状況（実施日） | M25: 対策履歴 | P25: 監視(日常巡視) | S25: 実施状況（実施日）
B26: メモ | E26: 0.3m×0.05mの鋼材腐食、鋼材の表面的な錆び、構造鉄筋の可能性は低い （写真番号S44-2・前回Ⅱb判定） | M26: メモ | P26: 0.1m×0.35mの鋼材腐食、鋼材の表面的な錆び、構造鉄筋の可能性は低い （写真番号S45-1・前回Ⅱb判定）
C27: ※ 応急措置後の対策区分について添付すること。また、点検前に 実施された措置によりⅠと判定された箇所も添付すること。 | N27: ※ 変状の発生範囲の規模とは、対策を行う際に参考となる変状の長さや面積をいう。
N28: ※ 応急措置を実施しないで決定した変状の対策区分は、対策区分の応急措置後の欄に記入すること。
C29: ※ たたき落としを実施した場合は、実施後の写真を添付すること。 | N29: ※ 変状の発生範囲の規模は、面積・寸法を記載すること。(ひび割れ幅のみmmとし、その他をm表記とする)
C30: ※ 附属物の取付状態に関する異常写真は別途、任意の書式でとりまとめること。 | N30: ※ 構造用鋼材以外の異物に伴ううき・はく離については、メモ欄に異物の概要を記入すること。

Sheet 様式D-1-1 (13)
B2: ■定期点検記録様式 変状写真台帳【様式D-1-1】 | R2: 施設ID | T2: =+'様式A-1'!$W$2 -> 34.12836,132.17178
B3: フリガナ | E3: =+'様式A-1'!$D$3 -> ナカヤマトンネル | H3: 路 線 名 | J3: =+'様式A-1'!$J$3 -> 一般県道藤生停車場錦帯橋線 | M3: 定期点検実施者 | P3: =+'様式B (1)'!$S$3 -> 復建調査設計株式会社 | S3: 定期点検年月日 | U3: =+'様式B (1)'!$P$2 -> 45861
B4: 名 称 | E4: =+'様式A-1'!$D$4 -> 中山トンネル | H4: 管理者名 | J4: =+'様式A-1'!$R$3 -> 山口県岩国土木建築事務所 | P4: =+'様式B (1)'!$S$4 -> 小笠原洋
B5: 写真 番号 | C5: 覆工スパン 番号 | E5: S45 | M5: 写真 番号 | N5: 覆工スパン 番号 | P5: S45
C6: 変状番号 | E6: 2 | N6: 変状番号 | P6: 3
B7: 変状 部位 | C7: 対象箇所 | E7: 覆工 | M7: 変状 部位 | N7: 対象箇所 | P7: 覆工
C8: 部位区分 | E8: アーチ（天端） | N8: 部位区分 | P8: アーチ（右側）
B9: 変状種類 | E9: うき・はく離 | M9: 変状種類 | P9: 鋼材腐食
B10: 対策 区分 | C10: 変状区分 | E10: 材質劣化 | M10: 対策 区分 | N10: 変状区分 | P10: 材質劣化
C11: 応急措置前 | N11: 応急措置前
C12: 応急措置後 | E12: Ⅱb | N12: 応急措置後 | P12: Ⅱb
B13: 変状の発生範囲及び規模 | E13: 1.2m×0.75m | H13: 前回変状の発生範囲及び規模 | J13: － | M13: 変状の発生範囲及び規模 | P13: 0.05m×0.3m | S13: 前回変状の発生範囲及び規模 | U13: －
B14: 対策履歴 | E14: 監視(日常巡視) | H14: 実施状況（実施日） | M14: 対策履歴 | P14: 監視(日常巡視) | S14: 実施状況（実施日）
B15: メモ | E15: 1.2m×0.75mの閉合してブロック化したひび割れ、打音異常なし、進行は確認されない （写真番号S45-3・前回Ⅱb判定） | M15: メモ | P15: 0.05m×0.3mの鋼材腐食、鋼材の表面的な錆び、構造鉄筋の可能性は低い （写真番号S45-2・前回Ⅱb判定）
B16: 写真 番号 | C16: 覆工スパン 番号 | E16: S45 | M16: 写真 番号 | N16: 覆工スパン 番号 | P16: S46
C17: 変状番号 | E17: 4 | N17: 変状番号 | P17: 1
B18: 変状 部位 | C18: 対象箇所 | E18: 覆工 | M18: 変状 部位 | N18: 対象箇所 | P18: 覆工
C19: 部位区分 | E19: アーチ（右側） | N19: 部位区分 | P19: アーチ（左側）
B20: 変状種類 | E20: 鋼材腐食 | M20: 変状種類 | P20: 鋼材腐食
B21: 対策 区分 | C21: 変状区分 | E21: 材質劣化 | M21: 対策 区分 | N21: 変状区分 | P21: 材質劣化
C22: 応急措置前 | E22: Ⅲ | N22: 応急措置前
C23: 応急措置後 | E23: Ⅱb | N23: 応急措置後 | P23: Ⅱb
B24: 変状の発生範囲及び規模 | E24: 0.15m×0.1m | H24: 前回変状の発生範囲及び規模 | J24: － | M24: 変状の発生範囲及び規模 | P24: 0.05m×0.05m | S24: 前回変状の発生範囲及び規模 | U24: －
B25: 対策履歴 | E25: 叩き落とし | H25: 実施状況（実施日） | J25: 45953 | M25: 対策履歴 | P25: 監視(日常巡視) | S25: 実施状況（実施日）
B26: メモ | E26: 0.15m×0.1mのうきをハンマーで叩き落とした、背面に鋼材腐食あり | M26: メモ | P26: 0.05m×0.05mの鋼材腐食、鋼材の表面的な錆び、構造鉄筋の可能性は低い
C27: ※ 応急措置後の対策区分について添付すること。また、点検前に 実施された措置によりⅠと判定された箇所も添付すること。 | N27: ※ 変状の発生範囲の規模とは、対策を行う際に参考となる変状の長さや面積をいう。
N28: ※ 応急措置を実施しないで決定した変状の対策区分は、対策区分の応急措置後の欄に記入すること。
C29: ※ たたき落としを実施した場合は、実施後の写真を添付すること。 | N29: ※ 変状の発生範囲の規模は、面積・寸法を記載すること。(ひび割れ幅のみmmとし、その他をm表記とする)
C30: ※ 附属物の取付状態に関する異常写真は別途、任意の書式でとりまとめること。 | N30: ※ 構造用鋼材以外の異物に伴ううき・はく離については、メモ欄に異物の概要を記入すること。

Sheet 様式D-1-1 (14)
B2: ■定期点検記録様式 変状写真台帳【様式D-1-1】 | R2: 施設ID | T2: =+'様式A-1'!$W$2 -> 34.12836,132.17178
B3: フリガナ | E3: =+'様式A-1'!$D$3 -> ナカヤマトンネル | H3: 路 線 名 | J3: =+'様式A-1'!$J$3 -> 一般県道藤生停車場錦帯橋線 | M3: 定期点検実施者 | P3: =+'様式B (1)'!$S$3 -> 復建調査設計株式会社 | S3: 定期点検年月日 | U3: =+'様式B (1)'!$P$2 -> 45861
B4: 名 称 | E4: =+'様式A-1'!$D$4 -> 中山トンネル | H4: 管理者名 | J4: =+'様式A-1'!$R$3 -> 山口県岩国土木建築事務所 | P4: =+'様式B (1)'!$S$4 -> 小笠原洋
B5: 写真 番号 | C5: 覆工スパン 番号 | E5: S46 | M5: 写真 番号 | N5: 覆工スパン 番号 | P5: S46
C6: 変状番号 | E6: 2 | N6: 変状番号 | P6: 3
B7: 変状 部位 | C7: 対象箇所 | E7: 覆工 | M7: 変状 部位 | N7: 対象箇所 | P7: 覆工
C8: 部位区分 | E8: アーチ（左側） | N8: 部位区分 | P8: アーチ（左側）
B9: 変状種類 | E9: うき・はく離 | M9: 変状種類 | P9: うき・はく離
B10: 対策 区分 | C10: 変状区分 | E10: 材質劣化 | M10: 対策 区分 | N10: 変状区分 | P10: 材質劣化
C11: 応急措置前 | N11: 応急措置前
C12: 応急措置後 | E12: Ⅱb | N12: 応急措置後 | P12: Ⅱb
B13: 変状の発生範囲及び規模 | E13: 0.15m×0.5m | H13: 前回変状の発生範囲及び規模 | J13: － | M13: 変状の発生範囲及び規模 | P13: 2.25m×0.8m | S13: 前回変状の発生範囲及び規模 | U13: －
B14: 対策履歴 | E14: 監視(日常巡視) | H14: 実施状況（実施日） | M14: 対策履歴 | P14: 監視(日常巡視) | S14: 実施状況（実施日）
B15: メモ | E15: 0.15m×0.5mの横断方向目地に閉合してブロック化したひび割れ、打音異常なし | M15: メモ | P15: 2.25m×0.8mの横断方向目地に閉合してブロック化したひび割れ、打音異常なし、進行は確認されない （写真番号S46-3・前回Ⅱb判定）
B16: 写真 番号 | C16: 覆工スパン 番号 | E16: S46 | M16: 写真 番号 | N16: 覆工スパン 番号 | P16: S46
C17: 変状番号 | E17: 4 | N17: 変状番号 | P17: 5
B18: 変状 部位 | C18: 対象箇所 | E18: 覆工 | M18: 変状 部位 | N18: 対象箇所 | P18: 覆工
C19: 部位区分 | E19: アーチ（左側） | N19: 部位区分 | P19: アーチ（右側）
B20: 変状種類 | E20: 鋼材腐食 | M20: 変状種類 | P20: 鋼材腐食
B21: 対策 区分 | C21: 変状区分 | E21: 材質劣化 | M21: 対策 区分 | N21: 変状区分 | P21: 材質劣化
C22: 応急措置前 | N22: 応急措置前
C23: 応急措置後 | E23: Ⅱb | N23: 応急措置後 | P23: Ⅱb
B24: 変状の発生範囲及び規模 | E24: 0.1m×0.6m | H24: 前回変状の発生範囲及び規模 | J24: － | M24: 変状の発生範囲及び規模 | P24: 0.4m×0.05m | S24: 前回変状の発生範囲及び規模 | U24: －
B25: 対策履歴 | E25: 監視(日常巡視) | H25: 実施状況（実施日） | M25: 対策履歴 | P25: 監視(日常巡視) | S25: 実施状況（実施日）
B26: メモ | E26: 0.1m×0.6mの鋼材腐食、鋼材の表面的な錆び、構造鉄筋の可能性は低い （写真番号S46-1・前回Ⅱb判定） | M26: メモ | P26: 0.4m×0.05mの鋼材腐食、鋼材の表面的な錆び、構造鉄筋の可能性は低い （写真番号S46-2・前回Ⅱb判定）
C27: ※ 応急措置後の対策区分について添付すること。また、点検前に 実施された措置によりⅠと判定された箇所も添付すること。 | N27: ※ 変状の発生範囲の規模とは、対策を行う際に参考となる変状の長さや面積をいう。
N28: ※ 応急措置を実施しないで決定した変状の対策区分は、対策区分の応急措置後の欄に記入すること。
C29: ※ たたき落としを実施した場合は、実施後の写真を添付すること。 | N29: ※ 変状の発生範囲の規模は、面積・寸法を記載すること。(ひび割れ幅のみmmとし、その他をm表記とする)
C30: ※ 附属物の取付状態に関する異常写真は別途、任意の書式でとりまとめること。 | N30: ※ 構造用鋼材以外の異物に伴ううき・はく離については、メモ欄に異物の概要を記入すること。

Sheet 様式D-1-1 (15)
B2: ■定期点検記録様式 変状写真台帳【様式D-1-1】 | R2: 施設ID | T2: =+'様式A-1'!$W$2 -> 34.12836,132.17178
B3: フリガナ | E3: =+'様式A-1'!$D$3 -> ナカヤマトンネル | H3: 路 線 名 | J3: =+'様式A-1'!$J$3 -> 一般県道藤生停車場錦帯橋線 | M3: 定期点検実施者 | P3: =+'様式B (1)'!$S$3 -> 復建調査設計株式会社 | S3: 定期点検年月日 | U3: =+'様式B (1)'!$P$2 -> 45861
B4: 名 称 | E4: =+'様式A-1'!$D$4 -> 中山トンネル | H4: 管理者名 | J4: =+'様式A-1'!$R$3 -> 山口県岩国土木建築事務所 | P4: =+'様式B (1)'!$S$4 -> 小笠原洋
B5: 写真 番号 | C5: 覆工スパン 番号 | E5: S47 | M5: 写真 番号 | N5: 覆工スパン 番号 | P5: S47
C6: 変状番号 | E6: 1 | N6: 変状番号 | P6: 2
B7: 変状 部位 | C7: 対象箇所 | E7: 覆工 | M7: 変状 部位 | N7: 対象箇所 | P7: 覆工
C8: 部位区分 | E8: アーチ（左側） | N8: 部位区分 | P8: アーチ（天端）
B9: 変状種類 | E9: 鋼材腐食 | M9: 変状種類 | P9: うき・はく離
B10: 対策 区分 | C10: 変状区分 | E10: 材質劣化 | M10: 対策 区分 | N10: 変状区分 | P10: 材質劣化
C11: 応急措置前 | N11: 応急措置前
C12: 応急措置後 | E12: Ⅱb | N12: 応急措置後 | P12: Ⅱb
B13: 変状の発生範囲及び規模 | E13: 0.05m×0.2m | H13: 前回変状の発生範囲及び規模 | J13: － | M13: 変状の発生範囲及び規模 | P13: 1.9m×1.75m | S13: 前回変状の発生範囲及び規模 | U13: －
B14: 対策履歴 | E14: 監視(日常巡視) | H14: 実施状況（実施日） | M14: 対策履歴 | P14: 監視(日常巡視) | S14: 実施状況（実施日）
B15: メモ | E15: 0.05m×0.2mの鋼材腐食、鋼材の表面的な錆び、構造鉄筋の可能性は低い （写真番号S47-1・前回Ⅱb判定） | M15: メモ | P15: 1.9m×1.75mの閉合してブロック化したひび割れ、打音異常なし、進行は確認されない （写真番号S47-2・前回Ⅱb判定）
B16: 写真 番号 | C16: 覆工スパン 番号 | E16: S47 | M16: 写真 番号 | N16: 覆工スパン 番号 | P16: S48
C17: 変状番号 | E17: 3 | N17: 変状番号 | P17: 1
B18: 変状 部位 | C18: 対象箇所 | E18: 覆工 | M18: 変状 部位 | N18: 対象箇所 | P18: 覆工
C19: 部位区分 | E19: 側壁（右側） | N19: 部位区分 | P19: アーチ（左側）
B20: 変状種類 | E20: 鋼材腐食 | M20: 変状種類 | P20: 鋼材腐食
B21: 対策 区分 | C21: 変状区分 | E21: 材質劣化 | M21: 対策 区分 | N21: 変状区分 | P21: 材質劣化
C22: 応急措置前 | N22: 応急措置前
C23: 応急措置後 | E23: Ⅱb | N23: 応急措置後 | P23: Ⅱb
B24: 変状の発生範囲及び規模 | E24: 0.1m×0.4m | H24: 前回変状の発生範囲及び規模 | J24: － | M24: 変状の発生範囲及び規模 | P24: 0.03m×0.03m | S24: 前回変状の発生範囲及び規模 | U24: －
B25: 対策履歴 | E25: 監視(日常巡視) | H25: 実施状況（実施日） | M25: 対策履歴 | P25: 監視(日常巡視) | S25: 実施状況（実施日）
B26: メモ | E26: 0.1m×0.4mの鋼材腐食、鋼材の表面的な錆び、構造鉄筋の可能性は低い | M26: メモ | P26: 0.03m×0.03mの鋼材腐食、鋼材の表面的な錆び、構造鉄筋の可能性は低い （写真番号S48-2・前回Ⅱb判定）
C27: ※ 応急措置後の対策区分について添付すること。また、点検前に 実施された措置によりⅠと判定された箇所も添付すること。 | N27: ※ 変状の発生範囲の規模とは、対策を行う際に参考となる変状の長さや面積をいう。
N28: ※ 応急措置を実施しないで決定した変状の対策区分は、対策区分の応急措置後の欄に記入すること。
C29: ※ たたき落としを実施した場合は、実施後の写真を添付すること。 | N29: ※ 変状の発生範囲の規模は、面積・寸法を記載すること。(ひび割れ幅のみmmとし、その他をm表記とする)
C30: ※ 附属物の取付状態に関する異常写真は別途、任意の書式でとりまとめること。 | N30: ※ 構造用鋼材以外の異物に伴ううき・はく離については、メモ欄に異物の概要を記入すること。

Sheet 様式D-1-1 (16)
B2: ■定期点検記録様式 変状写真台帳【様式D-1-1】 | R2: 施設ID | T2: =+'様式A-1'!$W$2 -> 34.12836,132.17178
B3: フリガナ | E3: =+'様式A-1'!$D$3 -> ナカヤマトンネル | H3: 路 線 名 | J3: =+'様式A-1'!$J$3 -> 一般県道藤生停車場錦帯橋線 | M3: 定期点検実施者 | P3: =+'様式B (1)'!$S$3 -> 復建調査設計株式会社 | S3: 定期点検年月日 | U3: =+'様式B (1)'!$P$2 -> 45861
B4: 名 称 | E4: =+'様式A-1'!$D$4 -> 中山トンネル | H4: 管理者名 | J4: =+'様式A-1'!$R$3 -> 山口県岩国土木建築事務所 | P4: =+'様式B (1)'!$S$4 -> 小笠原洋
B5: 写真 番号 | C5: 覆工スパン 番号 | E5: S48 | M5: 写真 番号 | N5: 覆工スパン 番号 | P5: S49
C6: 変状番号 | E6: 2 | N6: 変状番号 | P6: 1
B7: 変状 部位 | C7: 対象箇所 | E7: 覆工 | M7: 変状 部位 | N7: 対象箇所 | P7: 覆工
C8: 部位区分 | E8: アーチ（左側） | N8: 部位区分 | P8: 側壁（左側）
B9: 変状種類 | E9: 鋼材腐食 | M9: 変状種類 | P9: 鋼材腐食
B10: 対策 区分 | C10: 変状区分 | E10: 材質劣化 | M10: 対策 区分 | N10: 変状区分 | P10: 材質劣化
C11: 応急措置前 | N11: 応急措置前
C12: 応急措置後 | E12: Ⅱb | N12: 応急措置後 | P12: Ⅱb
B13: 変状の発生範囲及び規模 | E13: 0.03m×0.03m | H13: 前回変状の発生範囲及び規模 | J13: － | M13: 変状の発生範囲及び規模 | P13: 0.05m×0.15m | S13: 前回変状の発生範囲及び規模 | U13: －
B14: 対策履歴 | E14: 監視(日常巡視) | H14: 実施状況（実施日） | M14: 対策履歴 | P14: 監視(日常巡視) | S14: 実施状況（実施日）
B15: メモ | E15: 0.03m×0.03mの鋼材腐食、鋼材の表面的な錆び、構造鉄筋の可能性は低い （写真番号S48-2・前回Ⅱb判定） | M15: メモ | P15: 0.05m×0.15mの鋼材腐食、鋼材の表面的な錆び、構造鉄筋の可能性は低い （写真番号S49-1・前回Ⅱb判定）
B16: 写真 番号 | C16: 覆工スパン 番号 | E16: PE | M16: 写真 番号 | N16: 覆工スパン 番号
C17: 変状番号 | E17: 1 | N17: 変状番号
B18: 変状 部位 | C18: 対象箇所 | E18: 坑門 | M18: 変状 部位 | N18: 対象箇所
C19: 部位区分 | E19: 面壁・妻壁等 | N19: 部位区分
B20: 変状種類 | E20: うき・はく離 | M20: 変状種類
B21: 対策 区分 | C21: 変状区分 | E21: 材質劣化 | M21: 対策 区分 | N21: 変状区分
C22: 応急措置前 | N22: 応急措置前
C23: 応急措置後 | E23: Ⅱb | N23: 応急措置後
B24: 変状の発生範囲及び規模 | E24: 1.7m×1.4m | H24: 前回変状の発生範囲及び規模 | J24: － | M24: 変状の発生範囲及び規模 | S24: 前回変状の発生範囲及び規模
B25: 対策履歴 | E25: 監視(日常巡視) | H25: 実施状況（実施日） | M25: 対策履歴 | S25: 実施状況（実施日）
B26: メモ | E26: 1.7m×1.4mの閉合してブロック化したひび割れ、打音異常なし | M26: メモ
C27: ※ 応急措置後の対策区分について添付すること。また、点検前に 実施された措置によりⅠと判定された箇所も添付すること。 | N27: ※ 変状の発生範囲の規模とは、対策を行う際に参考となる変状の長さや面積をいう。
N28: ※ 応急措置を実施しないで決定した変状の対策区分は、対策区分の応急措置後の欄に記入すること。
C29: ※ たたき落としを実施した場合は、実施後の写真を添付すること。 | N29: ※ 変状の発生範囲の規模は、面積・寸法を記載すること。(ひび割れ幅のみmmとし、その他をm表記とする)
C30: ※ 附属物の取付状態に関する異常写真は別途、任意の書式でとりまとめること。 | N30: ※ 構造用鋼材以外の異物に伴ううき・はく離については、メモ欄に異物の概要を記入すること。

Sheet 様式D-1-2 (1)
B2: ■定期点検記録様式 異常写真台帳（トンネル内附属物等の取付状態） 【様式D-1-2】
B3: フリガナ | E3: =+'様式A-1'!$D$3 -> ナカヤマトンネル | I3: 路 線 名 | L3: =+'様式A-1'!$J$3 -> 一般県道藤生停車場錦帯橋線 | O3: 定期点検実施者 | R3: =+'様式B (1)'!$S$3 -> 復建調査設計株式会社 | U3: 定期点検年月日 | W3: =+'様式B (1)'!$P$2 -> 45861
B4: 名 称 | E4: =+'様式A-1'!$D$4 -> 中山トンネル | I4: 管理者名 | L4: =+'様式A-1'!$R$3 -> 山口県岩国土木建築事務所 | R4: =+'様式B (1)'!$S$4 -> 小笠原洋
B5: 覆工スパン番号 | E5: 附S16 | F5: 異常番号 | I5: 1 | J5: 覆工スパン番号 | M5: 附S24 | N5: 異常番号 | Q5: 1 | R5: 覆工スパン番号 | U5: 附S25 | V5: 異常番号 | Y5: 1
B6: 対象箇所 | D6: 非常用施設 | E6: その他 | J6: 対象箇所 | L6: 非常用施設 | M6: その他 | R6: 対象箇所 | T6: 非常用施設 | U6: その他
B7: 部位区分 | D7: 附属物本体 | F7: 異常の種類 | H7: 緩み、脱落 | J7: 部位区分 | L7: 附属物本体 | N7: 異常の種類 | P7: 緩み、脱落 | R7: 部位区分 | T7: 附属物本体 | V7: 異常の種類 | X7: 緩み、脱落
B8: 異常判定区分 | D8: ○ | E8: メモ | F8: 再設置済 | J8: 異常判定区分 | L8: × | M8: メモ | N8: デリネータの頭部の脱落 | R8: 異常判定区分 | T8: ○ | U8: メモ | V8: 再設置済
B22: 覆工スパン番号 | E22: 附S25 | F22: 異常番号 | I22: 2 | J22: 覆工スパン番号 | M22: 附S26 | N22: 異常番号 | Q22: 1 | R22: 覆工スパン番号 | U22: 附S27 | V22: 異常番号 | Y22: 1
B23: 対象箇所 | D23: 非常用施設 | E23: その他 | J23: 対象箇所 | L23: 非常用施設 | M23: その他 | R23: 対象箇所 | T23: 非常用施設 | U23: その他
B24: 部位区分 | D24: 附属物本体 | F24: 異常の種類 | H24: 緩み、脱落 | J24: 部位区分 | L24: 附属物本体 | N24: 異常の種類 | P24: 緩み、脱落 | R24: 部位区分 | T24: 附属物本体 | V24: 異常の種類 | X24: 緩み、脱落
B25: 異常判定区分 | D25: ○ | E25: メモ | F25: 再設置済 | J25: 異常判定区分 | L25: ○ | M25: メモ | N25: 再設置済 | R25: 異常判定区分 | T25: ○ | U25: メモ | V25: 再設置済
C39: ※ 異常判定区分×について記入すること。また、応急措置前に異常判定区分×とした箇所のうち応急措置により○と判定した箇所も記入すること。
C40: ※ 応急措置を実施した場合は、その実施状況が分かる写真を添付すること。
C41: ※ 変状数に準じてシートを追加すること。

Sheet 様式D-1-2 (2)
B2: ■定期点検記録様式 異常写真台帳（トンネル内附属物等の取付状態） 【様式D-1-2】
B3: フリガナ | E3: =+'様式A-1'!$D$3 -> ナカヤマトンネル | I3: 路 線 名 | L3: =+'様式A-1'!$J$3 -> 一般県道藤生停車場錦帯橋線 | O3: 定期点検実施者 | R3: =+'様式B (1)'!$S$3 -> 復建調査設計株式会社 | U3: 定期点検年月日 | W3: =+'様式B (1)'!$P$2 -> 45861
B4: 名 称 | E4: =+'様式A-1'!$D$4 -> 中山トンネル | I4: 管理者名 | L4: =+'様式A-1'!$R$3 -> 山口県岩国土木建築事務所 | R4: =+'様式B (1)'!$S$4 -> 小笠原洋
B5: 覆工スパン番号 | E5: 附S28 | F5: 異常番号 | I5: 1 | J5: 覆工スパン番号 | M5: 附S29 | N5: 異常番号 | Q5: 1 | R5: 覆工スパン番号 | U5: 附S31 | V5: 異常番号 | Y5: 1
B6: 対象箇所 | D6: 非常用施設 | E6: その他 | J6: 対象箇所 | L6: 非常用施設 | M6: その他 | R6: 対象箇所 | T6: 非常用施設 | U6: その他
B7: 部位区分 | D7: 附属物本体 | F7: 異常の種類 | H7: 緩み、脱落 | J7: 部位区分 | L7: 附属物本体 | N7: 異常の種類 | P7: 緩み、脱落 | R7: 部位区分 | T7: 附属物本体 | V7: 異常の種類 | X7: 緩み、脱落
B8: 異常判定区分 | D8: ○ | E8: メモ | F8: 再設置済 | J8: 異常判定区分 | L8: ○ | M8: メモ | N8: 再設置済 | R8: 異常判定区分 | T8: ○ | U8: メモ | V8: 再設置済
B22: 覆工スパン番号 | E22: 附S31 | F22: 異常番号 | I22: 2 | J22: 覆工スパン番号 | M22: 附S32 | N22: 異常番号 | Q22: 1 | R22: 覆工スパン番号 | U22: 附S48 | V22: 異常番号 | Y22: 1
B23: 対象箇所 | D23: 非常用施設 | E23: その他 | J23: 対象箇所 | L23: 非常用施設 | M23: その他 | R23: 対象箇所 | T23: 非常用施設 | U23: その他
B24: 部位区分 | D24: 附属物本体 | F24: 異常の種類 | H24: 緩み、脱落 | J24: 部位区分 | L24: 附属物本体 | N24: 異常の種類 | P24: 緩み、脱落 | R24: 部位区分 | T24: ボルト・ナット，アンカー類 | V24: 異常の種類 | X24: 緩み、脱落
B25: 異常判定区分 | D25: ○ | E25: メモ | F25: 再設置済 | J25: 異常判定区分 | L25: ○ | M25: メモ | N25: 再設置済 | R25: 異常判定区分 | T25: ○ | U25: メモ | V25: 撤去済
C39: ※ 異常判定区分×について記入すること。また、応急措置前に異常判定区分×とした箇所のうち応急措置により○と判定した箇所も記入すること。
C40: ※ 応急措置を実施した場合は、その実施状況が分かる写真を添付すること。
C41: ※ 変状数に準じてシートを追加すること。

Sheet 様式D-2-1 (1)
B3: ■定期点検記録様式 トンネル全体変状展開図 【様式D-2-1】
B4: フリガナ | E4: =+'様式A-1'!$D$3 -> ナカヤマトンネル | J4: 路線名 | M4: =+'様式A-1'!$J$3 -> 一般県道藤生停車場錦帯橋線 | S4: 定期点検実施者 | W4: =+'様式B (1)'!$S$3 -> 復建調査設計株式会社 | AC4: 定期点検年月日 | AF4: =+'様式B (1)'!$P$2 -> 45861
B5: 名 称 | E5: =+'様式A-1'!$D$4 -> 中山トンネル | J5: 管理者名 | M5: =+'様式A-1'!$R$3 -> 山口県岩国土木建築事務所 | W5: =+'様式B (1)'!$S$4 -> 小笠原洋
B6: トンネル変状展開図 | C6: トンネル全体変状展開図
V18: 注１：本展開図は、見下げた状態で記載すること。 注２：覆工スパン番号は横断目地毎（矢板工法の場合は上半アーチ の横断目地毎)に設定すること。 注３：横断目地の変状は前の覆工スパン番号で計上すること。 注４：１枚に収まらない場合は、複数枚に分けて作成すること。

Sheet 様式D-2-1 (2)
B3: ■定期点検記録様式 トンネル全体変状展開図 【様式D-2-1】
B4: フリガナ | E4: =+'様式A-1'!$D$3 -> ナカヤマトンネル | J4: 路線名 | M4: =+'様式A-1'!$J$3 -> 一般県道藤生停車場錦帯橋線 | S4: 定期点検実施者 | W4: =+'様式B (1)'!$S$3 -> 復建調査設計株式会社 | AC4: 定期点検年月日 | AF4: =+'様式B (1)'!$P$2 -> 45861
B5: 名 称 | E5: =+'様式A-1'!$D$4 -> 中山トンネル | J5: 管理者名 | M5: =+'様式A-1'!$R$3 -> 山口県岩国土木建築事務所 | W5: =+'様式B (1)'!$S$4 -> 小笠原洋
B6: トンネル変状展開図 | C6: トンネル全体変状展開図
V18: 注１：本展開図は、見下げた状態で記載すること。 注２：覆工スパン番号は横断目地毎（矢板工法の場合は上半アーチ の横断目地毎)に設定すること。 注３：横断目地の変状は前の覆工スパン番号で計上すること。 注４：１枚に収まらない場合は、複数枚に分けて作成すること。

Sheet 様式D-2-1 (3)
B3: ■定期点検記録様式 トンネル全体変状展開図 【様式D-2-1】
B4: フリガナ | E4: =+'様式A-1'!$D$3 -> ナカヤマトンネル | J4: 路線名 | M4: =+'様式A-1'!$J$3 -> 一般県道藤生停車場錦帯橋線 | S4: 定期点検実施者 | W4: =+'様式B (1)'!$S$3 -> 復建調査設計株式会社 | AC4: 定期点検年月日 | AF4: =+'様式B (1)'!$P$2 -> 45861
B5: 名 称 | E5: =+'様式A-1'!$D$4 -> 中山トンネル | J5: 管理者名 | M5: =+'様式A-1'!$R$3 -> 山口県岩国土木建築事務所 | W5: =+'様式B (1)'!$S$4 -> 小笠原洋
B6: トンネル変状展開図 | C6: トンネル全体変状展開図
V18: 注１：本展開図は、見下げた状態で記載すること。 注２：覆工スパン番号は横断目地毎（矢板工法の場合は上半アーチ の横断目地毎)に設定すること。 注３：横断目地の変状は前の覆工スパン番号で計上すること。 注４：１枚に収まらない場合は、複数枚に分けて作成すること。

Sheet 様式D-2-1 (4)
B3: ■定期点検記録様式 トンネル全体変状展開図 【様式D-2-1】
B4: フリガナ | E4: =+'様式A-1'!$D$3 -> ナカヤマトンネル | J4: 路線名 | M4: =+'様式A-1'!$J$3 -> 一般県道藤生停車場錦帯橋線 | S4: 定期点検実施者 | W4: =+'様式B (1)'!$S$3 -> 復建調査設計株式会社 | AC4: 定期点検年月日 | AF4: =+'様式B (1)'!$P$2 -> 45861
B5: 名 称 | E5: =+'様式A-1'!$D$4 -> 中山トンネル | J5: 管理者名 | M5: =+'様式A-1'!$R$3 -> 山口県岩国土木建築事務所 | W5: =+'様式B (1)'!$S$4 -> 小笠原洋
B6: トンネル変状展開図 | C6: トンネル全体変状展開図
V18: 注１：本展開図は、見下げた状態で記載すること。 注２：覆工スパン番号は横断目地毎（矢板工法の場合は上半アーチ の横断目地毎)に設定すること。 注３：横断目地の変状は前の覆工スパン番号で計上すること。 注４：１枚に収まらない場合は、複数枚に分けて作成すること。

Sheet 様式D-2-1 (5)
B3: ■定期点検記録様式 トンネル全体変状展開図 【様式D-2-1】
B4: フリガナ | E4: =+'様式A-1'!$D$3 -> ナカヤマトンネル | J4: 路線名 | M4: =+'様式A-1'!$J$3 -> 一般県道藤生停車場錦帯橋線 | S4: 定期点検実施者 | W4: =+'様式B (1)'!$S$3 -> 復建調査設計株式会社 | AC4: 定期点検年月日 | AF4: =+'様式B (1)'!$P$2 -> 45861
B5: 名 称 | E5: =+'様式A-1'!$D$4 -> 中山トンネル | J5: 管理者名 | M5: =+'様式A-1'!$R$3 -> 山口県岩国土木建築事務所 | W5: =+'様式B (1)'!$S$4 -> 小笠原洋
B6: トンネル変状展開図 | C6: トンネル全体変状展開図
V18: 注１：本展開図は、見下げた状態で記載すること。 注２：覆工スパン番号は横断目地毎（矢板工法の場合は上半アーチ の横断目地毎)に設定すること。 注３：横断目地の変状は前の覆工スパン番号で計上すること。 注４：１枚に収まらない場合は、複数枚に分けて作成すること。

Sheet 様式D-2-1 (6)
B3: ■定期点検記録様式 トンネル全体変状展開図 【様式D-2-1】
B4: フリガナ | E4: =+'様式A-1'!$D$3 -> ナカヤマトンネル | J4: 路線名 | M4: =+'様式A-1'!$J$3 -> 一般県道藤生停車場錦帯橋線 | S4: 定期点検実施者 | W4: =+'様式B (1)'!$S$3 -> 復建調査設計株式会社 | AC4: 定期点検年月日 | AF4: =+'様式B (1)'!$P$2 -> 45861
B5: 名 称 | E5: =+'様式A-1'!$D$4 -> 中山トンネル | J5: 管理者名 | M5: =+'様式A-1'!$R$3 -> 山口県岩国土木建築事務所 | W5: =+'様式B (1)'!$S$4 -> 小笠原洋
B6: トンネル変状展開図 | C6: トンネル全体変状展開図
V18: 注１：本展開図は、見下げた状態で記載すること。 注２：覆工スパン番号は横断目地毎（矢板工法の場合は上半アーチ の横断目地毎)に設定すること。 注３：横断目地の変状は前の覆工スパン番号で計上すること。 注４：１枚に収まらない場合は、複数枚に分けて作成すること。

Sheet 様式D-2-1 (7)
B3: ■定期点検記録様式 トンネル全体変状展開図 【様式D-2-1】
B4: フリガナ | E4: =+'様式A-1'!$D$3 -> ナカヤマトンネル | J4: 路線名 | M4: =+'様式A-1'!$J$3 -> 一般県道藤生停車場錦帯橋線 | S4: 定期点検実施者 | W4: =+'様式B (1)'!$S$3 -> 復建調査設計株式会社 | AC4: 定期点検年月日 | AF4: =+'様式B (1)'!$P$2 -> 45861
B5: 名 称 | E5: =+'様式A-1'!$D$4 -> 中山トンネル | J5: 管理者名 | M5: =+'様式A-1'!$R$3 -> 山口県岩国土木建築事務所 | W5: =+'様式B (1)'!$S$4 -> 小笠原洋
B6: トンネル変状展開図 | C6: トンネル全体変状展開図
V18: 注１：本展開図は、見下げた状態で記載すること。 注２：覆工スパン番号は横断目地毎（矢板工法の場合は上半アーチ の横断目地毎)に設定すること。 注３：横断目地の変状は前の覆工スパン番号で計上すること。 注４：１枚に収まらない場合は、複数枚に分けて作成すること。

Sheet 様式D-2-1 (8)
B3: ■定期点検記録様式 トンネル全体変状展開図 【様式D-2-1】
B4: フリガナ | E4: =+'様式A-1'!$D$3 -> ナカヤマトンネル | J4: 路線名 | M4: =+'様式A-1'!$J$3 -> 一般県道藤生停車場錦帯橋線 | S4: 定期点検実施者 | W4: =+'様式B (1)'!$S$3 -> 復建調査設計株式会社 | AC4: 定期点検年月日 | AF4: =+'様式B (1)'!$P$2 -> 45861
B5: 名 称 | E5: =+'様式A-1'!$D$4 -> 中山トンネル | J5: 管理者名 | M5: =+'様式A-1'!$R$3 -> 山口県岩国土木建築事務所 | W5: =+'様式B (1)'!$S$4 -> 小笠原洋
B6: トンネル変状展開図 | C6: トンネル全体変状展開図
V18: 注１：本展開図は、見下げた状態で記載すること。 注２：覆工スパン番号は横断目地毎（矢板工法の場合は上半アーチ の横断目地毎)に設定すること。 注３：横断目地の変状は前の覆工スパン番号で計上すること。 注４：１枚に収まらない場合は、複数枚に分けて作成すること。

Sheet 様式D-2-1´
B3: ■定期点検記録様式 トンネル全体変状展開図（機器の活用時） 【様式D-2-1’】
B4: フリガナ | E4: =+'様式A-1'!$D$3 -> ナカヤマトンネル | J4: 路線名 | M4: =+'様式A-1'!$J$3 -> 一般県道藤生停車場錦帯橋線 | S4: 定期点検実施者 | W4: =+'様式B (1)'!$S$3 -> 復建調査設計株式会社 | AC4: 定期点検年月日 | AF4: =+'様式B (1)'!$P$2 -> 45861
B5: 名 称 | E5: =+'様式A-1'!$D$4 -> 中山トンネル | J5: 管理者名 | M5: =+'様式A-1'!$R$3 -> 山口県岩国土木建築事務所 | W5: =+'様式B (1)'!$S$4 -> 小笠原洋
B6: トンネル変状展開図 | C6: トンネル全体変状展開図
V18: 注１：本展開図は、見下げた状態で記載すること。 注２：覆工スパン番号は横断目地毎（矢板工法の場合は上半アーチ の横断目地毎)に設定すること。 注３：横断目地の変状は前の覆工スパン番号で計上すること。 注４：１枚に収まらない場合は、複数枚に分けて作成すること。

Sheet 様式D-3_PS
AU1: 様式F用→ | AV1: 覆工スパン | AY1: 変 状 数 | BK1: 変 状 規 模
AV2: 番号 | AW2: 延長 （ｍ） | AX2: 健全性の診断の 区分 | AY2: 対策区分の判定 | BK2: 覆工スパン長（ｍ） | BO2: 変状の発生範囲の規模（㎡）
B3: ■定期点検記録様式 覆工スパン別変状詳細展開図 【様式D-3】 | AY3: 外力 | BC3: 材質劣化 | BG3: 漏水 | BK3: 外力 注2 | BO3: 材質劣化 | BS3: 漏水
B4: フリガナ | E4: ='様式A-1'!$D$3 -> ナカヤマトンネル | K4: 路線名 | N4: ='様式A-1'!$J$3 -> 一般県道藤生停車場錦帯橋線 | T4: 定期点検実施者 | Y4: =+'様式B (1)'!$S$3 -> 復建調査設計株式会社 | AG4: 定期点検年月日 | AK4: =+'様式B (1)'!$P$2 -> 45861 | AY4: Ⅳ | AZ4: Ⅲ | BA4: Ⅱa | BB4: Ⅱb | BC4: Ⅳ | BD4: Ⅲ | BE4: Ⅱa | BF4: Ⅱb | BG4: Ⅳ | BH4: Ⅲ | BI4: Ⅱa | BJ4: Ⅱb | BK4: Ⅳ | BL4: Ⅲ | BM4: Ⅱa | BN4: Ⅱb | BO4: Ⅳ | BP4: Ⅲ | BQ4: Ⅱa | BR4: Ⅱb | BS4: Ⅳ | BT4: Ⅲ | BU4: Ⅱa | BV4: Ⅱb
B5: 名 称 | E5: ='様式A-1'!$D$4 -> 中山トンネル | K5: 管理者名 | N5: ='様式A-1'!$R$3 -> 山口県岩国土木建築事務所 | Y5: =+'様式B (1)'!$S$4 -> 小笠原洋 | AV5: =N7 -> PS | AW5: =R7 -> 0 | AX5: =AM35 -> Ⅱ | AY5: =Y37 -> 0 | AZ5: =Z37 -> 0 | BA5: =AA37 -> 0 | BB5: =AB37 -> 0 | BC5: =AC37 -> 0 | BD5: =AD37 -> 0 | BE5: =AE37 -> 0 | BF5: =AF37 -> 1 | ... BJ5: =AJ37 -> 0 | BK5: =IF(Y37>0,R7,"") | BL5: =IF(Y37>0,"",IF(Z37>0,R7,"")) | BM5: =IF(Y37+Z37>0,"",IF(AA37>0,R7,"")) | BN5: =IF(Y37+Z37+AA37>0,"",IF(AB37>0,R7,"")) | BO5: =AC35 -> 0 | BP5: =AD35 -> 0 | BQ5: =AE35 -> 0 | BR5: =AF35 -> 0.3 | BS5: =AG35 -> 0 | BT5: =AH35 -> 0 | BU5: =AI35 -> 0 | BV5: =AJ35 -> 0
B6: スパン別変状展開図 | K6: 【健全性判定集計表】
K7: スパン番号 | N7: PS | P7: スパン長 | U7: 前回定期点検時の判定 | W7: 応急措置前の判定 | Y7: 対策区分毎の 変状の有無 | AC7: 対策区分毎の変状の発生範囲の規模(㎡) | AK7: 備考注2
K8: 変状番号 | L8: 対象箇所 | N8: 部位区分 | P8: 変状区分 | R8: 変状種類
Y9: 外力注1 | AC9: 材質劣化注1 | AG9: 漏水注1
Y10: Ⅳ | Z10: Ⅲ | AA10: Ⅱa | AB10: Ⅱb | AC10: Ⅳ | AD10: Ⅲ | AE10: Ⅱa | AF10: Ⅱb | AG10: Ⅳ | AH10: Ⅲ | AI10: Ⅱa | AJ10: Ⅱb
K11: 1 | L11: 坑門 | N11: 面壁・妻壁等 | P11: 材質劣化 | R11: うき・はく離 | U11: － | W11: Ⅱb | AF11: 0.3 | AK11: 閉合ひび割れ | AQ11: =IF(P11="材質劣化",2,IF(P11="漏水",3,1)) -> 2 | AS11: =IF(Y11<>"",1,"")
AQ12: =IF(P12="材質劣化",2,IF(P12="漏水",3,1)) -> 1
AQ13: =IF(P13="材質劣化",2,IF(P13="漏水",3,1)) -> 1
AQ14: =IF(P14="材質劣化",2,IF(P14="漏水",3,1)) -> 1
AQ15: =IF(P15="材質劣化",2,IF(P15="漏水",3,1)) -> 1
AQ16: =IF(P16="材質劣化",2,IF(P16="漏水",3,1)) -> 1
AQ17: =IF(P17="材質劣化",2,IF(P17="漏水",3,1)) -> 1
AQ18: =IF(P18="材質劣化",2,IF(P18="漏水",3,1)) -> 1
AQ19: =IF(P19="材質劣化",2,IF(P19="漏水",3,1)) -> 1
AQ20: =IF(P20="材質劣化",2,IF(P20="漏水",3,1)) -> 1
AQ21: =IF(P21="材質劣化",2,IF(P21="漏水",3,1)) -> 1
AQ22: =IF(P22="材質劣化",2,IF(P22="漏水",3,1)) -> 1
AQ23: =IF(P23="材質劣化",2,IF(P23="漏水",3,1)) -> 1
... AQ27: =IF(P27="材質劣化",2,IF(P27="漏水",3,1)) -> 1
AQ28: =IF(P30="材質劣化",2,IF(P30="漏水",3,1)) -> 1
AQ29: =IF(P34="材質劣化",2,IF(P34="漏水",3,1)) -> 1
AQ30: =IF(P30="材質劣化",2,IF(P30="漏水",3,1)) -> 1
AQ31: =IF(P33="材質劣化",2,IF(P33="漏水",3,1)) -> 1
AQ32: =IF(P37="材質劣化",2,IF(P37="漏水",3,1)) -> 1
AQ33: =IF(P33="材質劣化",2,IF(P33="漏水",3,1)) -> 1
AQ34: =IF(P36="材質劣化",2,IF(P36="漏水",3,1)) -> 1
K35: 集計 判定 診断 | L35: 変状の発生規模合計(㎡) | Y35: － | AC35: =SUM(AC11:AC34) -> 0 | AD35: =SUM(AD11:AD34) -> 0 | AE35: =SUM(AE11:AE34) -> 0 | AF35: =SUM(AF11:AF34) -> 0.3 | AG35: =SUM(AG11:AG34) -> 0 | AH35: =SUM(AH11:AH34) -> 0 | AI35: =SUM(AI11:AI34) -> 0 | AJ35: =SUM(AJ11:AJ34) -> 0 | AK35: 覆工スパン単位の 健全性の 診断の区分 | AM35: Ⅱ
L36: 対策区分の 判定結果 | O36: 対策区分毎の変状数注3 | Y36: Ⅳ | Z36: Ⅲ | AA36: Ⅱa | AB36: Ⅱb | AC36: Ⅳ | AD36: Ⅲ | AE36: Ⅱa | AF36: Ⅱb | AG36: Ⅳ | AH36: Ⅲ | AI36: Ⅱa | AJ36: Ⅱb
Y37: =IF(COUNTIF(Y11:Y34,"〇")>0,"1",0) -> 0 | Z37: =IF(COUNTIF(Z11:Z34,"〇")>0,"1",0) -> 0 | AA37: =IF(COUNTIF(AA11:AA34,"〇")>0,"1",0) -> 0 | AB37: =IF(COUNTIF(AB11:AB34,"〇")>0,"1",0) -> 0 | AC37: =COUNTA(AC11:AC34) -> 0 | AD37: =COUNTA(AD11:AD34) -> 0 | AE37: =COUNTA(AE11:AE34) -> 0 | AF37: =COUNTA(AF11:AF34) -> 1 | AG37: =COUNTA(AG11:AG34) -> 0 | AH37: =COUNTA(AH11:AH34) -> 0 | AI37: =COUNTA(AI11:AI34) -> 0 | AJ37: =COUNTA(AJ11:AJ34) -> 0
K39: 所見
K43: 注1：誤記入防止のため、当該変状区分以外のセルは灰色表示とすること。
K44: 注2：応急措置を実施した場合は、その詳細を備考に記載すること。
K45: 注3：外力は覆工スパン単位、材質劣化、漏水は変状単位とすること。
B46: （以下、印刷不要）
B47: ※1：本シートは作成洩れのないよう、変状が無くても全スパン分を作成すること．また変状展開図は、様式D-2-1、様式D-2-1'と同じものを覆工スパン単位で拡大し掲載すること。
B48: ※2：変状番号は、様式D-1-1で記入した番号と整合させること。
B49: ※3：対策区分毎の変状発生規模は、様式D-1-1に記載した面積を記入すること（ただし外力はスパン単位で評価するため変状の有無の欄には面積でなく○を記入し、備考欄に状況を記入）。
B50: ※4：本様式は覆工スパン毎に作成すること。
B51: ※5：変状数が多い場合は、適時、表の行を増やして覆工スパン毎に1枚のシートに収めること。また、1スパン１シートとし、スパンに合わせてシートを追加すること。
B52: ※6：対策区分毎の変状の発生範囲の規模とは，対策を行う際に参考となる変状の長さや面積であり，変状を包含する長さや面積とする。
B53: ※7：対策範囲を示す発生範囲の規模を面積で記入することが妥当ではない変状は、発生範囲の規模の欄に○を記入するとともに、備考に内容を記入すること。

Sheet 様式D-3_S001
AU1: 様式F用→ | AV1: 覆工スパン | AY1: 変 状 数 | BK1: 変 状 規 模
AV2: 番号 | AW2: 延長 （ｍ） | AX2: 健全性の診断の 区分 | AY2: 対策区分の判定 | BK2: 覆工スパン長（ｍ） | BO2: 変状の発生範囲の規模（㎡）
B3: ■定期点検記録様式 覆工スパン別変状詳細展開図 【様式D-3】 | AY3: 外力 | BC3: 材質劣化 | BG3: 漏水 | BK3: 外力 注2 | BO3: 材質劣化 | BS3: 漏水
B4: フリガナ | E4: ='様式A-1'!$D$3 -> ナカヤマトンネル | K4: 路線名 | N4: ='様式A-1'!$J$3 -> 一般県道藤生停車場錦帯橋線 | T4: 定期点検実施者 | Y4: =+'様式B (1)'!$S$3 -> 復建調査設計株式会社 | AG4: 定期点検年月日 | AK4: =+'様式B (1)'!$P$2 -> 45861 | AY4: Ⅳ | AZ4: Ⅲ | BA4: Ⅱa | BB4: Ⅱb | BC4: Ⅳ | BD4: Ⅲ | BE4: Ⅱa | BF4: Ⅱb | BG4: Ⅳ | BH4: Ⅲ | BI4: Ⅱa | BJ4: Ⅱb | BK4: Ⅳ | BL4: Ⅲ | BM4: Ⅱa | BN4: Ⅱb | BO4: Ⅳ | BP4: Ⅲ | BQ4: Ⅱa | BR4: Ⅱb | BS4: Ⅳ | BT4: Ⅲ | BU4: Ⅱa | BV4: Ⅱb
B5: 名 称 | E5: ='様式A-1'!$D$4 -> 中山トンネル | K5: 管理者名 | N5: ='様式A-1'!$R$3 -> 山口県岩国土木建築事務所 | Y5: =+'様式B (1)'!$S$4 -> 小笠原洋 | AV5: =N7 -> S001 | AW5: =R7 -> 7.65 | AX5: =AM35 -> Ⅲ | AY5: =Y37 -> 0 | AZ5: =Z37 -> 0 | BA5: =AA37 -> 0 | BB5: =AB37 -> 0 | BC5: =AC37 -> 0 | BD5: =AD37 -> 1 | BE5: =AE37 -> 0 | BF5: =AF37 -> 1 | ... BJ5: =AJ37 -> 0 | BK5: =IF(Y37>0,R7,"") | BL5: =IF(Y37>0,"",IF(Z37>0,R7,"")) | BM5: =IF(Y37+Z37>0,"",IF(AA37>0,R7,"")) | BN5: =IF(Y37+Z37+AA37>0,"",IF(AB37>0,R7,"")) | BO5: =AC35 -> 0 | BP5: =AD35 -> 0.02 | BQ5: =AE35 -> 0 | BR5: =AF35 -> 0.0234 | BS5: =AG35 -> 0 | BT5: =AH35 -> 0 | BU5: =AI35 -> 0 | BV5: =AJ35 -> 0
B6: スパン別変状展開図 | K6: 【健全性判定集計表】
K7: スパン番号 | N7: S001 | P7: スパン長 | R7: 7.65 | U7: 前回定期点検時の判定 | W7: 応急措置前の判定 | Y7: 対策区分毎の 変状の有無 | AC7: 対策区分毎の変状の発生範囲の規模(㎡) | AK7: 備考注2
K8: 変状番号 | L8: 対象箇所 | N8: 部位区分 | P8: 変状区分 | R8: 変状種類
Y9: 外力注1 | AC9: 材質劣化注1 | AG9: 漏水注1
Y10: Ⅳ | Z10: Ⅲ | AA10: Ⅱa | AB10: Ⅱb | AC10: Ⅳ | AD10: Ⅲ | AE10: Ⅱa | AF10: Ⅱb | AG10: Ⅳ | AH10: Ⅲ | AI10: Ⅱa | AJ10: Ⅱb
K11: 1 | L11: 覆工 | N11: 横断目地（右側） | P11: 材質劣化 | R11: うき・はく離 | U11: Ⅲ | W11: Ⅲ | AD11: 0.02 | AQ11: =IF(P11="材質劣化",2,IF(P11="漏水",3,1)) -> 2 | AS11: =IF(Y11<>"",1,"")
K12: 2 | L12: 覆工 | N12: 横断目地（右側） | P12: 材質劣化 | R12: うき・はく離 | U12: Ⅲ | W12: Ⅱb | AF12: 0.0234 | AQ12: =IF(P12="材質劣化",2,IF(P12="漏水",3,1)) -> 2
AQ13: =IF(P13="材質劣化",2,IF(P13="漏水",3,1)) -> 1
AQ14: =IF(P14="材質劣化",2,IF(P14="漏水",3,1)) -> 1
AQ15: =IF(P15="材質劣化",2,IF(P15="漏水",3,1)) -> 1
AQ16: =IF(P16="材質劣化",2,IF(P16="漏水",3,1)) -> 1
AQ17: =IF(P17="材質劣化",2,IF(P17="漏水",3,1)) -> 1
AQ18: =IF(P18="材質劣化",2,IF(P18="漏水",3,1)) -> 1
AQ19: =IF(P19="材質劣化",2,IF(P19="漏水",3,1)) -> 1
AQ20: =IF(P20="材質劣化",2,IF(P20="漏水",3,1)) -> 1
AQ21: =IF(P21="材質劣化",2,IF(P21="漏水",3,1)) -> 1
AQ22: =IF(P22="材質劣化",2,IF(P22="漏水",3,1)) -> 1
AQ23: =IF(P23="材質劣化",2,IF(P23="漏水",3,1)) -> 1
AQ24: =IF(P24="材質劣化",2,IF(P24="漏水",3,1)) -> 1
... AQ27: =IF(P27="材質劣化",2,IF(P27="漏水",3,1)) -> 1
AQ28: =IF(P30="材質劣化",2,IF(P30="漏水",3,1)) -> 1
AQ29: =IF(P34="材質劣化",2,IF(P34="漏水",3,1)) -> 1
AQ30: =IF(P30="材質劣化",2,IF(P30="漏水",3,1)) -> 1
AQ31: =IF(P33="材質劣化",2,IF(P33="漏水",3,1)) -> 1
AQ32: =IF(P37="材質劣化",2,IF(P37="漏水",3,1)) -> 1
AQ33: =IF(P33="材質劣化",2,IF(P33="漏水",3,1)) -> 1
AQ34: =IF(P36="材質劣化",2,IF(P36="漏水",3,1)) -> 1
K35: 集計 判定 診断 | L35: 変状の発生規模合計(㎡) | Y35: － | AC35: =SUM(AC11:AC34) -> 0 | AD35: =SUM(AD11:AD34) -> 0.02 | AE35: =SUM(AE11:AE34) -> 0 | AF35: =SUM(AF11:AF34) -> 0.0234 | AG35: =SUM(AG11:AG34) -> 0 | AH35: =SUM(AH11:AH34) -> 0 | AI35: =SUM(AI11:AI34) -> 0 | AJ35: =SUM(AJ11:AJ34) -> 0 | AK35: 覆工スパン単位の 健全性の 診断の区分 | AM35: Ⅲ
L36: 対策区分の 判定結果 | O36: 対策区分毎の変状数注3 | Y36: Ⅳ | Z36: Ⅲ | AA36: Ⅱa | AB36: Ⅱb | AC36: Ⅳ | AD36: Ⅲ | AE36: Ⅱa | AF36: Ⅱb | AG36: Ⅳ | AH36: Ⅲ | AI36: Ⅱa | AJ36: Ⅱb
Y37: =IF(COUNTIF(Y11:Y34,"〇")>0,"1",0) -> 0 | Z37: =IF(COUNTIF(Z11:Z34,"〇")>0,"1",0) -> 0 | AA37: =IF(COUNTIF(AA11:AA34,"〇")>0,"1",0) -> 0 | AB37: =IF(COUNTIF(AB11:AB34,"〇")>0,"1",0) -> 0 | AC37: =COUNTA(AC11:AC34) -> 0 | AD37: =COUNTA(AD11:AD34) -> 1 | AE37: =COUNTA(AE11:AE34) -> 0 | AF37: =COUNTA(AF11:AF34) -> 1 | AG37: =COUNTA(AG11:AG34) -> 0 | AH37: =COUNTA(AH11:AH34) -> 0 | AI37: =COUNTA(AI11:AI34) -> 0 | AJ37: =COUNTA(AJ11:AJ34) -> 0
K39: 所見
K43: 注1：誤記入防止のため、当該変状区分以外のセルは灰色表示とすること。
K44: 注2：応急措置を実施した場合は、その詳細を備考に記載すること。
K45: 注3：外力は覆工スパン単位、材質劣化、漏水は変状単位とすること。
B46: （以下、印刷不要）
B47: ※1：本シートは作成洩れのないよう、変状が無くても全スパン分を作成すること．また変状展開図は、様式D-2-1、様式D-2-1'と同じものを覆工スパン単位で拡大し掲載すること。
B48: ※2：変状番号は、様式D-1-1で記入した番号と整合させること。
B49: ※3：対策区分毎の変状発生規模は、様式D-1-1に記載した面積を記入すること（ただし外力はスパン単位で評価するため変状の有無の欄には面積でなく○を記入し、備考欄に状況を記入）。
B50: ※4：本様式は覆工スパン毎に作成すること。
B51: ※5：変状数が多い場合は、適時、表の行を増やして覆工スパン毎に1枚のシートに収めること。また、1スパン１シートとし、スパンに合わせてシートを追加すること。
B52: ※6：対策区分毎の変状の発生範囲の規模とは，対策を行う際に参考となる変状の長さや面積であり，変状を包含する長さや面積とする。
B53: ※7：対策範囲を示す発生範囲の規模を面積で記入することが妥当ではない変状は、発生範囲の規模の欄に○を記入するとともに、備考に内容を記入すること。

Sheet 様式D-3_S002
AU1: 様式F用→ | AV1: 覆工スパン | AY1: 変 状 数 | BK1: 変 状 規 模
AV2: 番号 | AW2: 延長 （ｍ） | AX2: 健全性の診断の 区分 | AY2: 対策区分の判定 | BK2: 覆工スパン長（ｍ） | BO2: 変状の発生範囲の規模（㎡）
B3: ■定期点検記録様式 覆工スパン別変状詳細展開図 【様式D-3】 | AY3: 外力 | BC3: 材質劣化 | BG3: 漏水 | BK3: 外力 注2 | BO3: 材質劣化 | BS3: 漏水
B4: フリガナ | E4: ='様式A-1'!$D$3 -> ナカヤマトンネル | K4: 路線名 | N4: ='様式A-1'!$J$3 -> 一般県道藤生停車場錦帯橋線 | T4: 定期点検実施者 | Y4: =+'様式B (1)'!$S$3 -> 復建調査設計株式会社 | AG4: 定期点検年月日 | AK4: =+'様式B (1)'!$P$2 -> 45861 | AY4: Ⅳ | AZ4: Ⅲ | BA4: Ⅱa | BB4: Ⅱb | BC4: Ⅳ | BD4: Ⅲ | BE4: Ⅱa | BF4: Ⅱb | BG4: Ⅳ | BH4: Ⅲ | BI4: Ⅱa | BJ4: Ⅱb | BK4: Ⅳ | BL4: Ⅲ | BM4: Ⅱa | BN4: Ⅱb | BO4: Ⅳ | BP4: Ⅲ | BQ4: Ⅱa | BR4: Ⅱb | BS4: Ⅳ | BT4: Ⅲ | BU4: Ⅱa | BV4: Ⅱb
B5: 名 称 | E5: ='様式A-1'!$D$4 -> 中山トンネル | K5: 管理者名 | N5: ='様式A-1'!$R$3 -> 山口県岩国土木建築事務所 | Y5: =+'様式B (1)'!$S$4 -> 小笠原洋 | AV5: =N7 -> S002 | AW5: =R7 -> 10.4 | AX5: =AM35 -> Ⅰ | AY5: =Y37 -> 0 | AZ5: =Z37 -> 0 | BA5: =AA37 -> 0 | BB5: =AB37 -> 0 | BC5: =AC37 -> 0 | BD5: =AD37 -> 0 | BE5: =AE37 -> 0 | BF5: =AF37 -> 0 | ... BJ5: =AJ37 -> 0 | BK5: =IF(Y37>0,R7,"") | BL5: =IF(Y37>0,"",IF(Z37>0,R7,"")) | BM5: =IF(Y37+Z37>0,"",IF(AA37>0,R7,"")) | BN5: =IF(Y37+Z37+AA37>0,"",IF(AB37>0,R7,"")) | BO5: =AC35 -> 0 | BP5: =AD35 -> 0 | BQ5: =AE35 -> 0 | BR5: =AF35 -> 0 | BS5: =AG35 -> 0 | BT5: =AH35 -> 0 | BU5: =AI35 -> 0 | BV5: =AJ35 -> 0
B6: スパン別変状展開図 | K6: 【健全性判定集計表】
K7: スパン番号 | N7: S002 | P7: スパン長 | R7: 10.4 | U7: 前回定期点検時の判定 | W7: 応急措置前の判定 | Y7: 対策区分毎の 変状の有無 | AC7: 対策区分毎の変状の発生範囲の規模(㎡) | AK7: 備考注2
K8: 変状番号 | L8: 対象箇所 | N8: 部位区分 | P8: 変状区分 | R8: 変状種類
Y9: 外力注1 | AC9: 材質劣化注1 | AG9: 漏水注1
Y10: Ⅳ | Z10: Ⅲ | AA10: Ⅱa | AB10: Ⅱb | AC10: Ⅳ | AD10: Ⅲ | AE10: Ⅱa | AF10: Ⅱb | AG10: Ⅳ | AH10: Ⅲ | AI10: Ⅱa | AJ10: Ⅱb
AQ11: =IF(P11="材質劣化",2,IF(P11="漏水",3,1)) -> 1 | AS11: =IF(Y11<>"",1,"")
AQ12: =IF(P12="材質劣化",2,IF(P12="漏水",3,1)) -> 1
AQ13: =IF(P13="材質劣化",2,IF(P13="漏水",3,1)) -> 1
AQ14: =IF(P14="材質劣化",2,IF(P14="漏水",3,1)) -> 1
AQ15: =IF(P15="材質劣化",2,IF(P15="漏水",3,1)) -> 1
AQ16: =IF(P16="材質劣化",2,IF(P16="漏水",3,1)) -> 1
AQ17: =IF(P17="材質劣化",2,IF(P17="漏水",3,1)) -> 1
AQ18: =IF(P18="材質劣化",2,IF(P18="漏水",3,1)) -> 1
AQ19: =IF(P19="材質劣化",2,IF(P19="漏水",3,1)) -> 1
AQ20: =IF(P20="材質劣化",2,IF(P20="漏水",3,1)) -> 1
AQ21: =IF(P21="材質劣化",2,IF(P21="漏水",3,1)) -> 1
AQ22: =IF(P22="材質劣化",2,IF(P22="漏水",3,1)) -> 1
AQ23: =IF(P23="材質劣化",2,IF(P23="漏水",3,1)) -> 1
... AQ27: =IF(P27="材質劣化",2,IF(P27="漏水",3,1)) -> 1
AQ28: =IF(P30="材質劣化",2,IF(P30="漏水",3,1)) -> 1
AQ29: =IF(P34="材質劣化",2,IF(P34="漏水",3,1)) -> 1
AQ30: =IF(P30="材質劣化",2,IF(P30="漏水",3,1)) -> 1
AQ31: =IF(P33="材質劣化",2,IF(P33="漏水",3,1)) -> 1
AQ32: =IF(P37="材質劣化",2,IF(P37="漏水",3,1)) -> 1
AQ33: =IF(P33="材質劣化",2,IF(P33="漏水",3,1)) -> 1
AQ34: =IF(P36="材質劣化",2,IF(P36="漏水",3,1)) -> 1
K35: 集計 判定 診断 | L35: 変状の発生規模合計(㎡) | Y35: － | AC35: =SUM(AC11:AC34) -> 0 | AD35: =SUM(AD11:AD34) -> 0 | AE35: =SUM(AE11:AE34) -> 0 | AF35: =SUM(AF11:AF34) -> 0 | AG35: =SUM(AG11:AG34) -> 0 | AH35: =SUM(AH11:AH34) -> 0 | AI35: =SUM(AI11:AI34) -> 0 | AJ35: =SUM(AJ11:AJ34) -> 0 | AK35: 覆工スパン単位の 健全性の 診断の区分 | AM35: Ⅰ
L36: 対策区分の 判定結果 | O36: 対策区分毎の変状数注3 | Y36: Ⅳ | Z36: Ⅲ | AA36: Ⅱa | AB36: Ⅱb | AC36: Ⅳ | AD36: Ⅲ | AE36: Ⅱa | AF36: Ⅱb | AG36: Ⅳ | AH36: Ⅲ | AI36: Ⅱa | AJ36: Ⅱb
Y37: =IF(COUNTIF(Y11:Y34,"〇")>0,"1",0) -> 0 | Z37: =IF(COUNTIF(Z11:Z34,"〇")>0,"1",0) -> 0 | AA37: =IF(COUNTIF(AA11:AA34,"〇")>0,"1",0) -> 0 | AB37: =IF(COUNTIF(AB11:AB34,"〇")>0,"1",0) -> 0 | AC37: =COUNTA(AC11:AC34) -> 0 | AD37: =COUNTA(AD11:AD34) -> 0 | AE37: =COUNTA(AE11:AE34) -> 0 | AF37: =COUNTA(AF11:AF34) -> 0 | AG37: =COUNTA(AG11:AG34) -> 0 | AH37: =COUNTA(AH11:AH34) -> 0 | AI37: =COUNTA(AI11:AI34) -> 0 | AJ37: =COUNTA(AJ11:AJ34) -> 0
K39: 所見
K43: 注1：誤記入防止のため、当該変状区分以外のセルは灰色表示とすること。
K44: 注2：応急措置を実施した場合は、その詳細を備考に記載すること。
K45: 注3：外力は覆工スパン単位、材質劣化、漏水は変状単位とすること。
B46: （以下、印刷不要）
B47: ※1：本シートは作成洩れのないよう、変状が無くても全スパン分を作成すること．また変状展開図は、様式D-2-1、様式D-2-1'と同じものを覆工スパン単位で拡大し掲載すること。
B48: ※2：変状番号は、様式D-1-1で記入した番号と整合させること。
B49: ※3：対策区分毎の変状発生規模は、様式D-1-1に記載した面積を記入すること（ただし外力はスパン単位で評価するため変状の有無の欄には面積でなく○を記入し、備考欄に状況を記入）。
B50: ※4：本様式は覆工スパン毎に作成すること。
B51: ※5：変状数が多い場合は、適時、表の行を増やして覆工スパン毎に1枚のシートに収めること。また、1スパン１シートとし、スパンに合わせてシートを追加すること。
B52: ※6：対策区分毎の変状の発生範囲の規模とは，対策を行う際に参考となる変状の長さや面積であり，変状を包含する長さや面積とする。
B53: ※7：対策範囲を示す発生範囲の規模を面積で記入することが妥当ではない変状は、発生範囲の規模の欄に○を記入するとともに、備考に内容を記入すること。

Sheet 様式D-3_S003
AU1: 様式F用→ | AV1: 覆工スパン | AY1: 変 状 数 | BK1: 変 状 規 模
AV2: 番号 | AW2: 延長 （ｍ） | AX2: 健全性の診断の 区分 | AY2: 対策区分の判定 | BK2: 覆工スパン長（ｍ） | BO2: 変状の発生範囲の規模（㎡）
B3: ■定期点検記録様式 覆工スパン別変状詳細展開図 【様式D-3】 | AY3: 外力 | BC3: 材質劣化 | BG3: 漏水 | BK3: 外力 注2 | BO3: 材質劣化 | BS3: 漏水
B4: フリガナ | E4: ='様式A-1'!$D$3 -> ナカヤマトンネル | K4: 路線名 | N4: ='様式A-1'!$J$3 -> 一般県道藤生停車場錦帯橋線 | T4: 定期点検実施者 | Y4: =+'様式B (1)'!$S$3 -> 復建調査設計株式会社 | AG4: 定期点検年月日 | AK4: =+'様式B (1)'!$P$2 -> 45861 | AY4: Ⅳ | AZ4: Ⅲ | BA4: Ⅱa | BB4: Ⅱb | BC4: Ⅳ | BD4: Ⅲ | BE4: Ⅱa | BF4: Ⅱb | BG4: Ⅳ | BH4: Ⅲ | BI4: Ⅱa | BJ4: Ⅱb | BK4: Ⅳ | BL4: Ⅲ | BM4: Ⅱa | BN4: Ⅱb | BO4: Ⅳ | BP4: Ⅲ | BQ4: Ⅱa | BR4: Ⅱb | BS4: Ⅳ | BT4: Ⅲ | BU4: Ⅱa | BV4: Ⅱb
B5: 名 称 | E5: ='様式A-1'!$D$4 -> 中山トンネル | K5: 管理者名 | N5: ='様式A-1'!$R$3 -> 山口県岩国土木建築事務所 | Y5: =+'様式B (1)'!$S$4 -> 小笠原洋 | AV5: =N7 -> S003 | AW5: =R7 -> 10.35 | AX5: =AM35 -> Ⅰ | AY5: =Y37 -> 0 | AZ5: =Z37 -> 0 | BA5: =AA37 -> 0 | BB5: =AB37 -> 0 | BC5: =AC37 -> 0 | BD5: =AD37 -> 0 | BE5: =AE37 -> 0 | BF5: =AF37 -> 0 | ... BJ5: =AJ37 -> 0 | BK5: =IF(Y37>0,R7,"") | BL5: =IF(Y37>0,"",IF(Z37>0,R7,"")) | BM5: =IF(Y37+Z37>0,"",IF(AA37>0,R7,"")) | BN5: =IF(Y37+Z37+AA37>0,"",IF(AB37>0,R7,"")) | BO5: =AC35 -> 0 | BP5: =AD35 -> 0 | BQ5: =AE35 -> 0 | BR5: =AF35 -> 0 | BS5: =AG35 -> 0 | BT5: =AH35 -> 0 | BU5: =AI35 -> 0 | BV5: =AJ35 -> 0
B6: スパン別変状展開図 | K6: 【健全性判定集計表】
K7: スパン番号 | N7: S003 | P7: スパン長 | R7: 10.35 | U7: 前回定期点検時の判定 | W7: 応急措置前の判定 | Y7: 対策区分毎の 変状の有無 | AC7: 対策区分毎の変状の発生範囲の規模(㎡) | AK7: 備考注2
K8: 変状番号 | L8: 対象箇所 | N8: 部位区分 | P8: 変状区分 | R8: 変状種類
Y9: 外力注1 | AC9: 材質劣化注1 | AG9: 漏水注1
Y10: Ⅳ | Z10: Ⅲ | AA10: Ⅱa | AB10: Ⅱb | AC10: Ⅳ | AD10: Ⅲ | AE10: Ⅱa | AF10: Ⅱb | AG10: Ⅳ | AH10: Ⅲ | AI10: Ⅱa | AJ10: Ⅱb
AQ11: =IF(P11="材質劣化",2,IF(P11="漏水",3,1)) -> 1 | AS11: =IF(Y11<>"",1,"")
AQ12: =IF(P12="材質劣化",2,IF(P12="漏水",3,1)) -> 1
AQ13: =IF(P13="材質劣化",2,IF(P13="漏水",3,1)) -> 1
AQ14: =IF(P14="材質劣化",2,IF(P14="漏水",3,1)) -> 1
AQ15: =IF(P15="材質劣化",2,IF(P15="漏水",3,1)) -> 1
AQ16: =IF(P16="材質劣化",2,IF(P16="漏水",3,1)) -> 1
AQ17: =IF(P17="材質劣化",2,IF(P17="漏水",3,1)) -> 1
AQ18: =IF(P18="材質劣化",2,IF(P18="漏水",3,1)) -> 1
AQ19: =IF(P19="材質劣化",2,IF(P19="漏水",3,1)) -> 1
AQ20: =IF(P20="材質劣化",2,IF(P20="漏水",3,1)) -> 1
AQ21: =IF(P21="材質劣化",2,IF(P21="漏水",3,1)) -> 1
AQ22: =IF(P22="材質劣化",2,IF(P22="漏水",3,1)) -> 1
AQ23: =IF(P23="材質劣化",2,IF(P23="漏水",3,1)) -> 1
... AQ27: =IF(P27="材質劣化",2,IF(P27="漏水",3,1)) -> 1
AQ28: =IF(P30="材質劣化",2,IF(P30="漏水",3,1)) -> 1
AQ29: =IF(P34="材質劣化",2,IF(P34="漏水",3,1)) -> 1
AQ30: =IF(P30="材質劣化",2,IF(P30="漏水",3,1)) -> 1
AQ31: =IF(P33="材質劣化",2,IF(P33="漏水",3,1)) -> 1
AQ32: =IF(P37="材質劣化",2,IF(P37="漏水",3,1)) -> 1
AQ33: =IF(P33="材質劣化",2,IF(P33="漏水",3,1)) -> 1
AQ34: =IF(P36="材質劣化",2,IF(P36="漏水",3,1)) -> 1
K35: 集計 判定 診断 | L35: 変状の発生規模合計(㎡) | Y35: － | AC35: =SUM(AC11:AC34) -> 0 | AD35: =SUM(AD11:AD34) -> 0 | AE35: =SUM(AE11:AE34) -> 0 | AF35: =SUM(AF11:AF34) -> 0 | AG35: =SUM(AG11:AG34) -> 0 | AH35: =SUM(AH11:AH34) -> 0 | AI35: =SUM(AI11:AI34) -> 0 | AJ35: =SUM(AJ11:AJ34) -> 0 | AK35: 覆工スパン単位の 健全性の 診断の区分 | AM35: Ⅰ
L36: 対策区分の 判定結果 | O36: 対策区分毎の変状数注3 | Y36: Ⅳ | Z36: Ⅲ | AA36: Ⅱa | AB36: Ⅱb | AC36: Ⅳ | AD36: Ⅲ | AE36: Ⅱa | AF36: Ⅱb | AG36: Ⅳ | AH36: Ⅲ | AI36: Ⅱa | AJ36: Ⅱb
Y37: =IF(COUNTIF(Y11:Y34,"〇")>0,"1",0) -> 0 | Z37: =IF(COUNTIF(Z11:Z34,"〇")>0,"1",0) -> 0 | AA37: =IF(COUNTIF(AA11:AA34,"〇")>0,"1",0) -> 0 | AB37: =IF(COUNTIF(AB11:AB34,"〇")>0,"1",0) -> 0 | AC37: =COUNTA(AC11:AC34) -> 0 | AD37: =COUNTA(AD11:AD34) -> 0 | AE37: =COUNTA(AE11:AE34) -> 0 | AF37: =COUNTA(AF11:AF34) -> 0 | AG37: =COUNTA(AG11:AG34) -> 0 | AH37: =COUNTA(AH11:AH34) -> 0 | AI37: =COUNTA(AI11:AI34) -> 0 | AJ37: =COUNTA(AJ11:AJ34) -> 0
K39: 所見
K43: 注1：誤記入防止のため、当該変状区分以外のセルは灰色表示とすること。
K44: 注2：応急措置を実施した場合は、その詳細を備考に記載すること。
K45: 注3：外力は覆工スパン単位、材質劣化、漏水は変状単位とすること。
B46: （以下、印刷不要）
B47: ※1：本シートは作成洩れのないよう、変状が無くても全スパン分を作成すること．また変状展開図は、様式D-2-1、様式D-2-1'と同じものを覆工スパン単位で拡大し掲載すること。
B48: ※2：変状番号は、様式D-1-1で記入した番号と整合させること。
B49: ※3：対策区分毎の変状発生規模は、様式D-1-1に記載した面積を記入すること（ただし外力はスパン単位で評価するため変状の有無の欄には面積でなく○を記入し、備考欄に状況を記入）。
B50: ※4：本様式は覆工スパン毎に作成すること。
B51: ※5：変状数が多い場合は、適時、表の行を増やして覆工スパン毎に1枚のシートに収めること。また、1スパン１シートとし、スパンに合わせてシートを追加すること。
B52: ※6：対策区分毎の変状の発生範囲の規模とは，対策を行う際に参考となる変状の長さや面積であり，変状を包含する長さや面積とする。
B53: ※7：対策範囲を示す発生範囲の規模を面積で記入することが妥当ではない変状は、発生範囲の規模の欄に○を記入するとともに、備考に内容を記入すること。

Sheet 様式D-3_S004
AU1: 様式F用→ | AV1: 覆工スパン | AY1: 変 状 数 | BK1: 変 状 規 模
AV2: 番号 | AW2: 延長 （ｍ） | AX2: 健全性の診断の 区分 | AY2: 対策区分の判定 | BK2: 覆工スパン長（ｍ） | BO2: 変状の発生範囲の規模（㎡）
B3: ■定期点検記録様式 覆工スパン別変状詳細展開図 【様式D-3】 | AY3: 外力 | BC3: 材質劣化 | BG3: 漏水 | BK3: 外力 注2 | BO3: 材質劣化 | BS3: 漏水
B4: フリガナ | E4: ='様式A-1'!$D$3 -> ナカヤマトンネル | K4: 路線名 | N4: ='様式A-1'!$J$3 -> 一般県道藤生停車場錦帯橋線 | T4: 定期点検実施者 | Y4: =+'様式B (1)'!$S$3 -> 復建調査設計株式会社 | AG4: 定期点検年月日 | AK4: =+'様式B (1)'!$P$2 -> 45861 | AY4: Ⅳ | AZ4: Ⅲ | BA4: Ⅱa | BB4: Ⅱb | BC4: Ⅳ | BD4: Ⅲ | BE4: Ⅱa | BF4: Ⅱb | BG4: Ⅳ | BH4: Ⅲ | BI4: Ⅱa | BJ4: Ⅱb | BK4: Ⅳ | BL4: Ⅲ | BM4: Ⅱa | BN4: Ⅱb | BO4: Ⅳ | BP4: Ⅲ | BQ4: Ⅱa | BR4: Ⅱb | BS4: Ⅳ | BT4: Ⅲ | BU4: Ⅱa | BV4: Ⅱb
B5: 名 称 | E5: ='様式A-1'!$D$4 -> 中山トンネル | K5: 管理者名 | N5: ='様式A-1'!$R$3 -> 山口県岩国土木建築事務所 | Y5: =+'様式B (1)'!$S$4 -> 小笠原洋 | AV5: =N7 -> S004 | AW5: =R7 -> 10.45 | AX5: =AM35 -> Ⅱ | AY5: =Y37 -> 0 | AZ5: =Z37 -> 0 | BA5: =AA37 -> 0 | BB5: =AB37 -> 0 | BC5: =AC37 -> 0 | BD5: =AD37 -> 0 | BE5: =AE37 -> 0 | BF5: =AF37 -> 1 | ... BJ5: =AJ37 -> 0 | BK5: =IF(Y37>0,R7,"") | BL5: =IF(Y37>0,"",IF(Z37>0,R7,"")) | BM5: =IF(Y37+Z37>0,"",IF(AA37>0,R7,"")) | BN5: =IF(Y37+Z37+AA37>0,"",IF(AB37>0,R7,"")) | BO5: =AC35 -> 0 | BP5: =AD35 -> 0 | BQ5: =AE35 -> 0 | BR5: =AF35 -> 0.015 | BS5: =AG35 -> 0 | BT5: =AH35 -> 0 | BU5: =AI35 -> 0 | BV5: =AJ35 -> 0
B6: スパン別変状展開図 | K6: 【健全性判定集計表】
K7: スパン番号 | N7: S004 | P7: スパン長 | R7: 10.45 | U7: 前回定期点検時の判定 | W7: 応急措置前の判定 | Y7: 対策区分毎の 変状の有無 | AC7: 対策区分毎の変状の発生範囲の規模(㎡) | AK7: 備考注2
K8: 変状番号 | L8: 対象箇所 | N8: 部位区分 | P8: 変状区分 | R8: 変状種類
Y9: 外力注1 | AC9: 材質劣化注1 | AG9: 漏水注1
Y10: Ⅳ | Z10: Ⅲ | AA10: Ⅱa | AB10: Ⅱb | AC10: Ⅳ | AD10: Ⅲ | AE10: Ⅱa | AF10: Ⅱb | AG10: Ⅳ | AH10: Ⅲ | AI10: Ⅱa | AJ10: Ⅱb
K11: 1 | L11: 覆工 | N11: アーチ（左側） | P11: 材質劣化 | R11: 鋼材腐食 | U11: － | W11: Ⅱb | AF11: 0.015 | AQ11: =IF(P11="材質劣化",2,IF(P11="漏水",3,1)) -> 2 | AS11: =IF(Y11<>"",1,"")
AQ12: =IF(P12="材質劣化",2,IF(P12="漏水",3,1)) -> 1
AQ13: =IF(P13="材質劣化",2,IF(P13="漏水",3,1)) -> 1
AQ14: =IF(P14="材質劣化",2,IF(P14="漏水",3,1)) -> 1
AQ15: =IF(P15="材質劣化",2,IF(P15="漏水",3,1)) -> 1
AQ16: =IF(P16="材質劣化",2,IF(P16="漏水",3,1)) -> 1
AQ17: =IF(P17="材質劣化",2,IF(P17="漏水",3,1)) -> 1
AQ18: =IF(P18="材質劣化",2,IF(P18="漏水",3,1)) -> 1
AQ19: =IF(P19="材質劣化",2,IF(P19="漏水",3,1)) -> 1
AQ20: =IF(P20="材質劣化",2,IF(P20="漏水",3,1)) -> 1
AQ21: =IF(P21="材質劣化",2,IF(P21="漏水",3,1)) -> 1
AQ22: =IF(P22="材質劣化",2,IF(P22="漏水",3,1)) -> 1
AQ23: =IF(P23="材質劣化",2,IF(P23="漏水",3,1)) -> 1
... AQ27: =IF(P27="材質劣化",2,IF(P27="漏水",3,1)) -> 1
AQ28: =IF(P30="材質劣化",2,IF(P30="漏水",3,1)) -> 1
AQ29: =IF(P34="材質劣化",2,IF(P34="漏水",3,1)) -> 1
AQ30: =IF(P30="材質劣化",2,IF(P30="漏水",3,1)) -> 1
AQ31: =IF(P33="材質劣化",2,IF(P33="漏水",3,1)) -> 1
AQ32: =IF(P37="材質劣化",2,IF(P37="漏水",3,1)) -> 1
AQ33: =IF(P33="材質劣化",2,IF(P33="漏水",3,1)) -> 1
AQ34: =IF(P36="材質劣化",2,IF(P36="漏水",3,1)) -> 1
K35: 集計 判定 診断 | L35: 変状の発生規模合計(㎡) | Y35: － | AC35: =SUM(AC11:AC34) -> 0 | AD35: =SUM(AD11:AD34) -> 0 | AE35: =SUM(AE11:AE34) -> 0 | AF35: =SUM(AF11:AF34) -> 0.015 | AG35: =SUM(AG11:AG34) -> 0 | AH35: =SUM(AH11:AH34) -> 0 | AI35: =SUM(AI11:AI34) -> 0 | AJ35: =SUM(AJ11:AJ34) -> 0 | AK35: 覆工スパン単位の 健全性の 診断の区分 | AM35: Ⅱ
L36: 対策区分の 判定結果 | O36: 対策区分毎の変状数注3 | Y36: Ⅳ | Z36: Ⅲ | AA36: Ⅱa | AB36: Ⅱb | AC36: Ⅳ | AD36: Ⅲ | AE36: Ⅱa | AF36: Ⅱb | AG36: Ⅳ | AH36: Ⅲ | AI36: Ⅱa | AJ36: Ⅱb
Y37: =IF(COUNTIF(Y11:Y34,"〇")>0,"1",0) -> 0 | Z37: =IF(COUNTIF(Z11:Z34,"〇")>0,"1",0) -> 0 | AA37: =IF(COUNTIF(AA11:AA34,"〇")>0,"1",0) -> 0 | AB37: =IF(COUNTIF(AB11:AB34,"〇")>0,"1",0) -> 0 | AC37: =COUNTA(AC11:AC34) -> 0 | AD37: =COUNTA(AD11:AD34) -> 0 | AE37: =COUNTA(AE11:AE34) -> 0 | AF37: =COUNTA(AF11:AF34) -> 1 | AG37: =COUNTA(AG11:AG34) -> 0 | AH37: =COUNTA(AH11:AH34) -> 0 | AI37: =COUNTA(AI11:AI34) -> 0 | AJ37: =COUNTA(AJ11:AJ34) -> 0
K39: 所見
K43: 注1：誤記入防止のため、当該変状区分以外のセルは灰色表示とすること。
K44: 注2：応急措置を実施した場合は、その詳細を備考に記載すること。
K45: 注3：外力は覆工スパン単位、材質劣化、漏水は変状単位とすること。
B46: （以下、印刷不要）
B47: ※1：本シートは作成洩れのないよう、変状が無くても全スパン分を作成すること．また変状展開図は、様式D-2-1、様式D-2-1'と同じものを覆工スパン単位で拡大し掲載すること。
B48: ※2：変状番号は、様式D-1-1で記入した番号と整合させること。
B49: ※3：対策区分毎の変状発生規模は、様式D-1-1に記載した面積を記入すること（ただし外力はスパン単位で評価するため変状の有無の欄には面積でなく○を記入し、備考欄に状況を記入）。
B50: ※4：本様式は覆工スパン毎に作成すること。
B51: ※5：変状数が多い場合は、適時、表の行を増やして覆工スパン毎に1枚のシートに収めること。また、1スパン１シートとし、スパンに合わせてシートを追加すること。
B52: ※6：対策区分毎の変状の発生範囲の規模とは，対策を行う際に参考となる変状の長さや面積であり，変状を包含する長さや面積とする。
B53: ※7：対策範囲を示す発生範囲の規模を面積で記入することが妥当ではない変状は、発生範囲の規模の欄に○を記入するとともに、備考に内容を記入すること。

Sheet 様式D-3_S005
AU1: 様式F用→ | AV1: 覆工スパン | AY1: 変 状 数 | BK1: 変 状 規 模
AV2: 番号 | AW2: 延長 （ｍ） | AX2: 健全性の診断の 区分 | AY2: 対策区分の判定 | BK2: 覆工スパン長（ｍ） | BO2: 変状の発生範囲の規模（㎡）
B3: ■定期点検記録様式 覆工スパン別変状詳細展開図 【様式D-3】 | AY3: 外力 | BC3: 材質劣化 | BG3: 漏水 | BK3: 外力 注2 | BO3: 材質劣化 | BS3: 漏水
B4: フリガナ | E4: ='様式A-1'!$D$3 -> ナカヤマトンネル | K4: 路線名 | N4: ='様式A-1'!$J$3 -> 一般県道藤生停車場錦帯橋線 | T4: 定期点検実施者 | Y4: =+'様式B (1)'!$S$3 -> 復建調査設計株式会社 | AG4: 定期点検年月日 | AK4: =+'様式B (1)'!$P$2 -> 45861 | AY4: Ⅳ | AZ4: Ⅲ | BA4: Ⅱa | BB4: Ⅱb | BC4: Ⅳ | BD4: Ⅲ | BE4: Ⅱa | BF4: Ⅱb | BG4: Ⅳ | BH4: Ⅲ | BI4: Ⅱa | BJ4: Ⅱb | BK4: Ⅳ | BL4: Ⅲ | BM4: Ⅱa | BN4: Ⅱb | BO4: Ⅳ | BP4: Ⅲ | BQ4: Ⅱa | BR4: Ⅱb | BS4: Ⅳ | BT4: Ⅲ | BU4: Ⅱa | BV4: Ⅱb
B5: 名 称 | E5: ='様式A-1'!$D$4 -> 中山トンネル | K5: 管理者名 | N5: ='様式A-1'!$R$3 -> 山口県岩国土木建築事務所 | Y5: =+'様式B (1)'!$S$4 -> 小笠原洋 | AV5: =N7 -> S005 | AW5: =R7 -> 10.5 | AX5: =AM35 -> Ⅱ | AY5: =Y37 -> 0 | AZ5: =Z37 -> 0 | BA5: =AA37 -> 0 | BB5: =AB37 -> 0 | BC5: =AC37 -> 0 | BD5: =AD37 -> 0 | BE5: =AE37 -> 0 | BF5: =AF37 -> 2 | ... BJ5: =AJ37 -> 0 | BK5: =IF(Y37>0,R7,"") | BL5: =IF(Y37>0,"",IF(Z37>0,R7,"")) | BM5: =IF(Y37+Z37>0,"",IF(AA37>0,R7,"")) | BN5: =IF(Y37+Z37+AA37>0,"",IF(AB37>0,R7,"")) | BO5: =AC35 -> 0 | BP5: =AD35 -> 0 | BQ5: =AE35 -> 0 | BR5: =AF35 -> 0.0125 | BS5: =AG35 -> 0 | BT5: =AH35 -> 0 | BU5: =AI35 -> 0 | BV5: =AJ35 -> 0
B6: スパン別変状展開図 | K6: 【健全性判定集計表】
K7: スパン番号 | N7: S005 | P7: スパン長 | R7: 10.5 | U7: 前回定期点検時の判定 | W7: 応急措置前の判定 | Y7: 対策区分毎の 変状の有無 | AC7: 対策区分毎の変状の発生範囲の規模(㎡) | AK7: 備考注2
K8: 変状番号 | L8: 対象箇所 | N8: 部位区分 | P8: 変状区分 | R8: 変状種類
Y9: 外力注1 | AC9: 材質劣化注1 | AG9: 漏水注1
Y10: Ⅳ | Z10: Ⅲ | AA10: Ⅱa | AB10: Ⅱb | AC10: Ⅳ | AD10: Ⅲ | AE10: Ⅱa | AF10: Ⅱb | AG10: Ⅳ | AH10: Ⅲ | AI10: Ⅱa | AJ10: Ⅱb
K11: 1 | L11: 覆工 | N11: 側壁（左側） | P11: 材質劣化 | R11: 鋼材腐食 | U11: － | W11: Ⅱb | AF11: 0.0025 | AQ11: =IF(P11="材質劣化",2,IF(P11="漏水",3,1)) -> 2 | AS11: =IF(Y11<>"",1,"")
K12: 2 | L12: 覆工 | N12: アーチ（右側） | P12: 材質劣化 | R12: 鋼材腐食 | U12: Ⅱb | W12: Ⅱb | AF12: 0.01 | AQ12: =IF(P12="材質劣化",2,IF(P12="漏水",3,1)) -> 2
AQ13: =IF(P13="材質劣化",2,IF(P13="漏水",3,1)) -> 1
AQ14: =IF(P14="材質劣化",2,IF(P14="漏水",3,1)) -> 1
AQ15: =IF(P15="材質劣化",2,IF(P15="漏水",3,1)) -> 1
AQ16: =IF(P16="材質劣化",2,IF(P16="漏水",3,1)) -> 1
AQ17: =IF(P17="材質劣化",2,IF(P17="漏水",3,1)) -> 1
AQ18: =IF(P18="材質劣化",2,IF(P18="漏水",3,1)) -> 1
AQ19: =IF(P19="材質劣化",2,IF(P19="漏水",3,1)) -> 1
AQ20: =IF(P20="材質劣化",2,IF(P20="漏水",3,1)) -> 1
AQ21: =IF(P21="材質劣化",2,IF(P21="漏水",3,1)) -> 1
AQ22: =IF(P22="材質劣化",2,IF(P22="漏水",3,1)) -> 1
AQ23: =IF(P23="材質劣化",2,IF(P23="漏水",3,1)) -> 1
AQ24: =IF(P24="材質劣化",2,IF(P24="漏水",3,1)) -> 1
... AQ27: =IF(P27="材質劣化",2,IF(P27="漏水",3,1)) -> 1
AQ28: =IF(P30="材質劣化",2,IF(P30="漏水",3,1)) -> 1
AQ29: =IF(P34="材質劣化",2,IF(P34="漏水",3,1)) -> 1
AQ30: =IF(P30="材質劣化",2,IF(P30="漏水",3,1)) -> 1
AQ31: =IF(P33="材質劣化",2,IF(P33="漏水",3,1)) -> 1
AQ32: =IF(P37="材質劣化",2,IF(P37="漏水",3,1)) -> 1
AQ33: =IF(P33="材質劣化",2,IF(P33="漏水",3,1)) -> 1
AQ34: =IF(P36="材質劣化",2,IF(P36="漏水",3,1)) -> 1
K35: 集計 判定 診断 | L35: 変状の発生規模合計(㎡) | Y35: － | AC35: =SUM(AC11:AC34) -> 0 | AD35: =SUM(AD11:AD34) -> 0 | AE35: =SUM(AE11:AE34) -> 0 | AF35: =SUM(AF11:AF34) -> 0.0125 | AG35: =SUM(AG11:AG34) -> 0 | AH35: =SUM(AH11:AH34) -> 0 | AI35: =SUM(AI11:AI34) -> 0 | AJ35: =SUM(AJ11:AJ34) -> 0 | AK35: 覆工スパン単位の 健全性の 診断の区分 | AM35: Ⅱ
L36: 対策区分の 判定結果 | O36: 対策区分毎の変状数注3 | Y36: Ⅳ | Z36: Ⅲ | AA36: Ⅱa | AB36: Ⅱb | AC36: Ⅳ | AD36: Ⅲ | AE36: Ⅱa | AF36: Ⅱb | AG36: Ⅳ | AH36: Ⅲ | AI36: Ⅱa | AJ36: Ⅱb
Y37: =IF(COUNTIF(Y11:Y34,"〇")>0,"1",0) -> 0 | Z37: =IF(COUNTIF(Z11:Z34,"〇")>0,"1",0) -> 0 | AA37: =IF(COUNTIF(AA11:AA34,"〇")>0,"1",0) -> 0 | AB37: =IF(COUNTIF(AB11:AB34,"〇")>0,"1",0) -> 0 | AC37: =COUNTA(AC11:AC34) -> 0 | AD37: =COUNTA(AD11:AD34) -> 0 | AE37: =COUNTA(AE11:AE34) -> 0 | AF37: =COUNTA(AF11:AF34) -> 2 | AG37: =COUNTA(AG11:AG34) -> 0 | AH37: =COUNTA(AH11:AH34) -> 0 | AI37: =COUNTA(AI11:AI34) -> 0 | AJ37: =COUNTA(AJ11:AJ34) -> 0
K39: 所見
K43: 注1：誤記入防止のため、当該変状区分以外のセルは灰色表示とすること。
K44: 注2：応急措置を実施した場合は、その詳細を備考に記載すること。
K45: 注3：外力は覆工スパン単位、材質劣化、漏水は変状単位とすること。
B46: （以下、印刷不要）
B47: ※1：本シートは作成洩れのないよう、変状が無くても全スパン分を作成すること．また変状展開図は、様式D-2-1、様式D-2-1'と同じものを覆工スパン単位で拡大し掲載すること。
B48: ※2：変状番号は、様式D-1-1で記入した番号と整合させること。
B49: ※3：対策区分毎の変状発生規模は、様式D-1-1に記載した面積を記入すること（ただし外力はスパン単位で評価するため変状の有無の欄には面積でなく○を記入し、備考欄に状況を記入）。
B50: ※4：本様式は覆工スパン毎に作成すること。
B51: ※5：変状数が多い場合は、適時、表の行を増やして覆工スパン毎に1枚のシートに収めること。また、1スパン１シートとし、スパンに合わせてシートを追加すること。
B52: ※6：対策区分毎の変状の発生範囲の規模とは，対策を行う際に参考となる変状の長さや面積であり，変状を包含する長さや面積とする。
B53: ※7：対策範囲を示す発生範囲の規模を面積で記入することが妥当ではない変状は、発生範囲の規模の欄に○を記入するとともに、備考に内容を記入すること。

Sheet 様式D-3_S006
AU1: 様式F用→ | AV1: 覆工スパン | AY1: 変 状 数 | BK1: 変 状 規 模
AV2: 番号 | AW2: 延長 （ｍ） | AX2: 健全性の診断の 区分 | AY2: 対策区分の判定 | BK2: 覆工スパン長（ｍ） | BO2: 変状の発生範囲の規模（㎡）
B3: ■定期点検記録様式 覆工スパン別変状詳細展開図 【様式D-3】 | AY3: 外力 | BC3: 材質劣化 | BG3: 漏水 | BK3: 外力 注2 | BO3: 材質劣化 | BS3: 漏水
B4: フリガナ | E4: ='様式A-1'!$D$3 -> ナカヤマトンネル | K4: 路線名 | N4: ='様式A-1'!$J$3 -> 一般県道藤生停車場錦帯橋線 | T4: 定期点検実施者 | Y4: =+'様式B (1)'!$S$3 -> 復建調査設計株式会社 | AG4: 定期点検年月日 | AK4: =+'様式B (1)'!$P$2 -> 45861 | AY4: Ⅳ | AZ4: Ⅲ | BA4: Ⅱa | BB4: Ⅱb | BC4: Ⅳ | BD4: Ⅲ | BE4: Ⅱa | BF4: Ⅱb | BG4: Ⅳ | BH4: Ⅲ | BI4: Ⅱa | BJ4: Ⅱb | BK4: Ⅳ | BL4: Ⅲ | BM4: Ⅱa | BN4: Ⅱb | BO4: Ⅳ | BP4: Ⅲ | BQ4: Ⅱa | BR4: Ⅱb | BS4: Ⅳ | BT4: Ⅲ | BU4: Ⅱa | BV4: Ⅱb
B5: 名 称 | E5: ='様式A-1'!$D$4 -> 中山トンネル | K5: 管理者名 | N5: ='様式A-1'!$R$3 -> 山口県岩国土木建築事務所 | Y5: =+'様式B (1)'!$S$4 -> 小笠原洋 | AV5: =N7 -> S006 | AW5: =R7 -> 10.6 | AX5: =AM35 -> Ⅰ | AY5: =Y37 -> 0 | AZ5: =Z37 -> 0 | BA5: =AA37 -> 0 | BB5: =AB37 -> 0 | BC5: =AC37 -> 0 | BD5: =AD37 -> 0 | BE5: =AE37 -> 0 | BF5: =AF37 -> 0 | ... BJ5: =AJ37 -> 0 | BK5: =IF(Y37>0,R7,"") | BL5: =IF(Y37>0,"",IF(Z37>0,R7,"")) | BM5: =IF(Y37+Z37>0,"",IF(AA37>0,R7,"")) | BN5: =IF(Y37+Z37+AA37>0,"",IF(AB37>0,R7,"")) | BO5: =AC35 -> 0 | BP5: =AD35 -> 0 | BQ5: =AE35 -> 0 | BR5: =AF35 -> 0 | BS5: =AG35 -> 0 | BT5: =AH35 -> 0 | BU5: =AI35 -> 0 | BV5: =AJ35 -> 0
B6: スパン別変状展開図 | K6: 【健全性判定集計表】
K7: スパン番号 | N7: S006 | P7: スパン長 | R7: 10.6 | U7: 前回定期点検時の判定 | W7: 応急措置前の判定 | Y7: 対策区分毎の 変状の有無 | AC7: 対策区分毎の変状の発生範囲の規模(㎡) | AK7: 備考注2
K8: 変状番号 | L8: 対象箇所 | N8: 部位区分 | P8: 変状区分 | R8: 変状種類
Y9: 外力注1 | AC9: 材質劣化注1 | AG9: 漏水注1
Y10: Ⅳ | Z10: Ⅲ | AA10: Ⅱa | AB10: Ⅱb | AC10: Ⅳ | AD10: Ⅲ | AE10: Ⅱa | AF10: Ⅱb | AG10: Ⅳ | AH10: Ⅲ | AI10: Ⅱa | AJ10: Ⅱb
AQ11: =IF(P11="材質劣化",2,IF(P11="漏水",3,1)) -> 1 | AS11: =IF(Y11<>"",1,"")
AQ12: =IF(P12="材質劣化",2,IF(P12="漏水",3,1)) -> 1
AQ13: =IF(P13="材質劣化",2,IF(P13="漏水",3,1)) -> 1
AQ14: =IF(P14="材質劣化",2,IF(P14="漏水",3,1)) -> 1
AQ15: =IF(P15="材質劣化",2,IF(P15="漏水",3,1)) -> 1
AQ16: =IF(P16="材質劣化",2,IF(P16="漏水",3,1)) -> 1
AQ17: =IF(P17="材質劣化",2,IF(P17="漏水",3,1)) -> 1
AQ18: =IF(P18="材質劣化",2,IF(P18="漏水",3,1)) -> 1
AQ19: =IF(P19="材質劣化",2,IF(P19="漏水",3,1)) -> 1
AQ20: =IF(P20="材質劣化",2,IF(P20="漏水",3,1)) -> 1
AQ21: =IF(P21="材質劣化",2,IF(P21="漏水",3,1)) -> 1
AQ22: =IF(P22="材質劣化",2,IF(P22="漏水",3,1)) -> 1
AQ23: =IF(P23="材質劣化",2,IF(P23="漏水",3,1)) -> 1
... AQ27: =IF(P27="材質劣化",2,IF(P27="漏水",3,1)) -> 1
AQ28: =IF(P30="材質劣化",2,IF(P30="漏水",3,1)) -> 1
AQ29: =IF(P34="材質劣化",2,IF(P34="漏水",3,1)) -> 1
AQ30: =IF(P30="材質劣化",2,IF(P30="漏水",3,1)) -> 1
AQ31: =IF(P33="材質劣化",2,IF(P33="漏水",3,1)) -> 1
AQ32: =IF(P37="材質劣化",2,IF(P37="漏水",3,1)) -> 1
AQ33: =IF(P33="材質劣化",2,IF(P33="漏水",3,1)) -> 1
AQ34: =IF(P36="材質劣化",2,IF(P36="漏水",3,1)) -> 1
K35: 集計 判定 診断 | L35: 変状の発生規模合計(㎡) | Y35: － | AC35: =SUM(AC11:AC34) -> 0 | AD35: =SUM(AD11:AD34) -> 0 | AE35: =SUM(AE11:AE34) -> 0 | AF35: =SUM(AF11:AF34) -> 0 | AG35: =SUM(AG11:AG34) -> 0 | AH35: =SUM(AH11:AH34) -> 0 | AI35: =SUM(AI11:AI34) -> 0 | AJ35: =SUM(AJ11:AJ34) -> 0 | AK35: 覆工スパン単位の 健全性の 診断の区分 | AM35: Ⅰ
L36: 対策区分の 判定結果 | O36: 対策区分毎の変状数注3 | Y36: Ⅳ | Z36: Ⅲ | AA36: Ⅱa | AB36: Ⅱb | AC36: Ⅳ | AD36: Ⅲ | AE36: Ⅱa | AF36: Ⅱb | AG36: Ⅳ | AH36: Ⅲ | AI36: Ⅱa | AJ36: Ⅱb
Y37: =IF(COUNTIF(Y11:Y34,"〇")>0,"1",0) -> 0 | Z37: =IF(COUNTIF(Z11:Z34,"〇")>0,"1",0) -> 0 | AA37: =IF(COUNTIF(AA11:AA34,"〇")>0,"1",0) -> 0 | AB37: =IF(COUNTIF(AB11:AB34,"〇")>0,"1",0) -> 0 | AC37: =COUNTA(AC11:AC34) -> 0 | AD37: =COUNTA(AD11:AD34) -> 0 | AE37: =COUNTA(AE11:AE34) -> 0 | AF37: =COUNTA(AF11:AF34) -> 0 | AG37: =COUNTA(AG11:AG34) -> 0 | AH37: =COUNTA(AH11:AH34) -> 0 | AI37: =COUNTA(AI11:AI34) -> 0 | AJ37: =COUNTA(AJ11:AJ34) -> 0
K39: 所見
K43: 注1：誤記入防止のため、当該変状区分以外のセルは灰色表示とすること。
K44: 注2：応急措置を実施した場合は、その詳細を備考に記載すること。
K45: 注3：外力は覆工スパン単位、材質劣化、漏水は変状単位とすること。
B46: （以下、印刷不要）
B47: ※1：本シートは作成洩れのないよう、変状が無くても全スパン分を作成すること．また変状展開図は、様式D-2-1、様式D-2-1'と同じものを覆工スパン単位で拡大し掲載すること。
B48: ※2：変状番号は、様式D-1-1で記入した番号と整合させること。
B49: ※3：対策区分毎の変状発生規模は、様式D-1-1に記載した面積を記入すること（ただし外力はスパン単位で評価するため変状の有無の欄には面積でなく○を記入し、備考欄に状況を記入）。
B50: ※4：本様式は覆工スパン毎に作成すること。
B51: ※5：変状数が多い場合は、適時、表の行を増やして覆工スパン毎に1枚のシートに収めること。また、1スパン１シートとし、スパンに合わせてシートを追加すること。
B52: ※6：対策区分毎の変状の発生範囲の規模とは，対策を行う際に参考となる変状の長さや面積であり，変状を包含する長さや面積とする。
B53: ※7：対策範囲を示す発生範囲の規模を面積で記入することが妥当ではない変状は、発生範囲の規模の欄に○を記入するとともに、備考に内容を記入すること。

Sheet 様式D-3_S007
AU1: 様式F用→ | AV1: 覆工スパン | AY1: 変 状 数 | BK1: 変 状 規 模
AV2: 番号 | AW2: 延長 （ｍ） | AX2: 健全性の診断の 区分 | AY2: 対策区分の判定 | BK2: 覆工スパン長（ｍ） | BO2: 変状の発生範囲の規模（㎡）
B3: ■定期点検記録様式 覆工スパン別変状詳細展開図 【様式D-3】 | AY3: 外力 | BC3: 材質劣化 | BG3: 漏水 | BK3: 外力 注2 | BO3: 材質劣化 | BS3: 漏水
B4: フリガナ | E4: ='様式A-1'!$D$3 -> ナカヤマトンネル | K4: 路線名 | N4: ='様式A-1'!$J$3 -> 一般県道藤生停車場錦帯橋線 | T4: 定期点検実施者 | Y4: =+'様式B (1)'!$S$3 -> 復建調査設計株式会社 | AG4: 定期点検年月日 | AK4: =+'様式B (1)'!$P$2 -> 45861 | AY4: Ⅳ | AZ4: Ⅲ | BA4: Ⅱa | BB4: Ⅱb | BC4: Ⅳ | BD4: Ⅲ | BE4: Ⅱa | BF4: Ⅱb | BG4: Ⅳ | BH4: Ⅲ | BI4: Ⅱa | BJ4: Ⅱb | BK4: Ⅳ | BL4: Ⅲ | BM4: Ⅱa | BN4: Ⅱb | BO4: Ⅳ | BP4: Ⅲ | BQ4: Ⅱa | BR4: Ⅱb | BS4: Ⅳ | BT4: Ⅲ | BU4: Ⅱa | BV4: Ⅱb
B5: 名 称 | E5: ='様式A-1'!$D$4 -> 中山トンネル | K5: 管理者名 | N5: ='様式A-1'!$R$3 -> 山口県岩国土木建築事務所 | Y5: =+'様式B (1)'!$S$4 -> 小笠原洋 | AV5: =N7 -> S007 | AW5: =R7 -> 10.5 | AX5: =AM35 -> Ⅱ | AY5: =Y37 -> 0 | AZ5: =Z37 -> 0 | BA5: =AA37 -> 0 | BB5: =AB37 -> 0 | BC5: =AC37 -> 0 | BD5: =AD37 -> 0 | BE5: =AE37 -> 0 | BF5: =AF37 -> 1 | ... BJ5: =AJ37 -> 0 | BK5: =IF(Y37>0,R7,"") | BL5: =IF(Y37>0,"",IF(Z37>0,R7,"")) | BM5: =IF(Y37+Z37>0,"",IF(AA37>0,R7,"")) | BN5: =IF(Y37+Z37+AA37>0,"",IF(AB37>0,R7,"")) | BO5: =AC35 -> 0 | BP5: =AD35 -> 0 | BQ5: =AE35 -> 0 | BR5: =AF35 -> 0.075 | BS5: =AG35 -> 0 | BT5: =AH35 -> 0 | BU5: =AI35 -> 0 | BV5: =AJ35 -> 0
B6: スパン別変状展開図 | K6: 【健全性判定集計表】
K7: スパン番号 | N7: S007 | P7: スパン長 | R7: 10.5 | U7: 前回定期点検時の判定 | W7: 応急措置前の判定 | Y7: 対策区分毎の 変状の有無 | AC7: 対策区分毎の変状の発生範囲の規模(㎡) | AK7: 備考注2
K8: 変状番号 | L8: 対象箇所 | N8: 部位区分 | P8: 変状区分 | R8: 変状種類
Y9: 外力注1 | AC9: 材質劣化注1 | AG9: 漏水注1
Y10: Ⅳ | Z10: Ⅲ | AA10: Ⅱa | AB10: Ⅱb | AC10: Ⅳ | AD10: Ⅲ | AE10: Ⅱa | AF10: Ⅱb | AG10: Ⅳ | AH10: Ⅲ | AI10: Ⅱa | AJ10: Ⅱb
K11: 1 | L11: 覆工 | N11: アーチ（左側） | P11: 材質劣化 | R11: うき・はく離 | U11: Ⅱb | W11: Ⅱb | AF11: 0.075 | AK11: 閉合ひび割れ | AQ11: =IF(P11="材質劣化",2,IF(P11="漏水",3,1)) -> 2 | AS11: =IF(Y11<>"",1,"")
AQ12: =IF(P12="材質劣化",2,IF(P12="漏水",3,1)) -> 1
AQ13: =IF(P13="材質劣化",2,IF(P13="漏水",3,1)) -> 1
AQ14: =IF(P14="材質劣化",2,IF(P14="漏水",3,1)) -> 1
AQ15: =IF(P15="材質劣化",2,IF(P15="漏水",3,1)) -> 1
AQ16: =IF(P16="材質劣化",2,IF(P16="漏水",3,1)) -> 1
AQ17: =IF(P17="材質劣化",2,IF(P17="漏水",3,1)) -> 1
AQ18: =IF(P18="材質劣化",2,IF(P18="漏水",3,1)) -> 1
AQ19: =IF(P19="材質劣化",2,IF(P19="漏水",3,1)) -> 1
AQ20: =IF(P20="材質劣化",2,IF(P20="漏水",3,1)) -> 1
AQ21: =IF(P21="材質劣化",2,IF(P21="漏水",3,1)) -> 1
AQ22: =IF(P22="材質劣化",2,IF(P22="漏水",3,1)) -> 1
AQ23: =IF(P23="材質劣化",2,IF(P23="漏水",3,1)) -> 1
... AQ27: =IF(P27="材質劣化",2,IF(P27="漏水",3,1)) -> 1
AQ28: =IF(P30="材質劣化",2,IF(P30="漏水",3,1)) -> 1
AQ29: =IF(P34="材質劣化",2,IF(P34="漏水",3,1)) -> 1
AQ30: =IF(P30="材質劣化",2,IF(P30="漏水",3,1)) -> 1
AQ31: =IF(P33="材質劣化",2,IF(P33="漏水",3,1)) -> 1
AQ32: =IF(P37="材質劣化",2,IF(P37="漏水",3,1)) -> 1
AQ33: =IF(P33="材質劣化",2,IF(P33="漏水",3,1)) -> 1
AQ34: =IF(P36="材質劣化",2,IF(P36="漏水",3,1)) -> 1
K35: 集計 判定 診断 | L35: 変状の発生規模合計(㎡) | Y35: － | AC35: =SUM(AC11:AC34) -> 0 | AD35: =SUM(AD11:AD34) -> 0 | AE35: =SUM(AE11:AE34) -> 0 | AF35: =SUM(AF11:AF34) -> 0.075 | AG35: =SUM(AG11:AG34) -> 0 | AH35: =SUM(AH11:AH34) -> 0 | AI35: =SUM(AI11:AI34) -> 0 | AJ35: =SUM(AJ11:AJ34) -> 0 | AK35: 覆工スパン単位の 健全性の 診断の区分 | AM35: Ⅱ
L36: 対策区分の 判定結果 | O36: 対策区分毎の変状数注3 | Y36: Ⅳ | Z36: Ⅲ | AA36: Ⅱa | AB36: Ⅱb | AC36: Ⅳ | AD36: Ⅲ | AE36: Ⅱa | AF36: Ⅱb | AG36: Ⅳ | AH36: Ⅲ | AI36: Ⅱa | AJ36: Ⅱb
Y37: =IF(COUNTIF(Y11:Y34,"〇")>0,"1",0) -> 0 | Z37: =IF(COUNTIF(Z11:Z34,"〇")>0,"1",0) -> 0 | AA37: =IF(COUNTIF(AA11:AA34,"〇")>0,"1",0) -> 0 | AB37: =IF(COUNTIF(AB11:AB34,"〇")>0,"1",0) -> 0 | AC37: =COUNTA(AC11:AC34) -> 0 | AD37: =COUNTA(AD11:AD34) -> 0 | AE37: =COUNTA(AE11:AE34) -> 0 | AF37: =COUNTA(AF11:AF34) -> 1 | AG37: =COUNTA(AG11:AG34) -> 0 | AH37: =COUNTA(AH11:AH34) -> 0 | AI37: =COUNTA(AI11:AI34) -> 0 | AJ37: =COUNTA(AJ11:AJ34) -> 0
K39: 所見
K43: 注1：誤記入防止のため、当該変状区分以外のセルは灰色表示とすること。
K44: 注2：応急措置を実施した場合は、その詳細を備考に記載すること。
K45: 注3：外力は覆工スパン単位、材質劣化、漏水は変状単位とすること。
B46: （以下、印刷不要）
B47: ※1：本シートは作成洩れのないよう、変状が無くても全スパン分を作成すること．また変状展開図は、様式D-2-1、様式D-2-1'と同じものを覆工スパン単位で拡大し掲載すること。
B48: ※2：変状番号は、様式D-1-1で記入した番号と整合させること。
B49: ※3：対策区分毎の変状発生規模は、様式D-1-1に記載した面積を記入すること（ただし外力はスパン単位で評価するため変状の有無の欄には面積でなく○を記入し、備考欄に状況を記入）。
B50: ※4：本様式は覆工スパン毎に作成すること。
B51: ※5：変状数が多い場合は、適時、表の行を増やして覆工スパン毎に1枚のシートに収めること。また、1スパン１シートとし、スパンに合わせてシートを追加すること。
B52: ※6：対策区分毎の変状の発生範囲の規模とは，対策を行う際に参考となる変状の長さや面積であり，変状を包含する長さや面積とする。
B53: ※7：対策範囲を示す発生範囲の規模を面積で記入することが妥当ではない変状は、発生範囲の規模の欄に○を記入するとともに、備考に内容を記入すること。

Sheet 様式D-3_S008
AU1: 様式F用→ | AV1: 覆工スパン | AY1: 変 状 数 | BK1: 変 状 規 模
AV2: 番号 | AW2: 延長 （ｍ） | AX2: 健全性の診断の 区分 | AY2: 対策区分の判定 | BK2: 覆工スパン長（ｍ） | BO2: 変状の発生範囲の規模（㎡）
B3: ■定期点検記録様式 覆工スパン別変状詳細展開図 【様式D-3】 | AY3: 外力 | BC3: 材質劣化 | BG3: 漏水 | BK3: 外力 注2 | BO3: 材質劣化 | BS3: 漏水
B4: フリガナ | E4: ='様式A-1'!$D$3 -> ナカヤマトンネル | K4: 路線名 | N4: ='様式A-1'!$J$3 -> 一般県道藤生停車場錦帯橋線 | T4: 定期点検実施者 | Y4: =+'様式B (1)'!$S$3 -> 復建調査設計株式会社 | AG4: 定期点検年月日 | AK4: =+'様式B (1)'!$P$2 -> 45861 | AY4: Ⅳ | AZ4: Ⅲ | BA4: Ⅱa | BB4: Ⅱb | BC4: Ⅳ | BD4: Ⅲ | BE4: Ⅱa | BF4: Ⅱb | BG4: Ⅳ | BH4: Ⅲ | BI4: Ⅱa | BJ4: Ⅱb | BK4: Ⅳ | BL4: Ⅲ | BM4: Ⅱa | BN4: Ⅱb | BO4: Ⅳ | BP4: Ⅲ | BQ4: Ⅱa | BR4: Ⅱb | BS4: Ⅳ | BT4: Ⅲ | BU4: Ⅱa | BV4: Ⅱb
B5: 名 称 | E5: ='様式A-1'!$D$4 -> 中山トンネル | K5: 管理者名 | N5: ='様式A-1'!$R$3 -> 山口県岩国土木建築事務所 | Y5: =+'様式B (1)'!$S$4 -> 小笠原洋 | AV5: =N7 -> S008 | AW5: =R7 -> 10.5 | AX5: =AM35 -> Ⅱ | AY5: =Y37 -> 0 | AZ5: =Z37 -> 0 | BA5: =AA37 -> 0 | BB5: =AB37 -> 0 | BC5: =AC37 -> 0 | BD5: =AD37 -> 0 | BE5: =AE37 -> 0 | BF5: =AF37 -> 1 | ... BJ5: =AJ37 -> 0 | BK5: =IF(Y37>0,R7,"") | BL5: =IF(Y37>0,"",IF(Z37>0,R7,"")) | BM5: =IF(Y37+Z37>0,"",IF(AA37>0,R7,"")) | BN5: =IF(Y37+Z37+AA37>0,"",IF(AB37>0,R7,"")) | BO5: =AC35 -> 0 | BP5: =AD35 -> 0 | BQ5: =AE35 -> 0 | BR5: =AF35 -> 0.84 | BS5: =AG35 -> 0 | BT5: =AH35 -> 0 | BU5: =AI35 -> 0 | BV5: =AJ35 -> 0
B6: スパン別変状展開図 | K6: 【健全性判定集計表】
K7: スパン番号 | N7: S008 | P7: スパン長 | R7: 10.5 | U7: 前回定期点検時の判定 | W7: 応急措置前の判定 | Y7: 対策区分毎の 変状の有無 | AC7: 対策区分毎の変状の発生範囲の規模(㎡) | AK7: 備考注2
K8: 変状番号 | L8: 対象箇所 | N8: 部位区分 | P8: 変状区分 | R8: 変状種類
Y9: 外力注1 | AC9: 材質劣化注1 | AG9: 漏水注1
Y10: Ⅳ | Z10: Ⅲ | AA10: Ⅱa | AB10: Ⅱb | AC10: Ⅳ | AD10: Ⅲ | AE10: Ⅱa | AF10: Ⅱb | AG10: Ⅳ | AH10: Ⅲ | AI10: Ⅱa | AJ10: Ⅱb
K11: 1 | L11: 覆工 | N11: 側壁（左側） | P11: 材質劣化 | R11: うき・はく離 | U11: Ⅱb | W11: Ⅱb | AF11: 0.84 | AK11: 閉合ひび割れ | AQ11: =IF(P11="材質劣化",2,IF(P11="漏水",3,1)) -> 2 | AS11: =IF(Y11<>"",1,"")
AQ12: =IF(P12="材質劣化",2,IF(P12="漏水",3,1)) -> 1
AQ13: =IF(P13="材質劣化",2,IF(P13="漏水",3,1)) -> 1
AQ14: =IF(P14="材質劣化",2,IF(P14="漏水",3,1)) -> 1
AQ15: =IF(P15="材質劣化",2,IF(P15="漏水",3,1)) -> 1
AQ16: =IF(P16="材質劣化",2,IF(P16="漏水",3,1)) -> 1
AQ17: =IF(P17="材質劣化",2,IF(P17="漏水",3,1)) -> 1
AQ18: =IF(P18="材質劣化",2,IF(P18="漏水",3,1)) -> 1
AQ19: =IF(P19="材質劣化",2,IF(P19="漏水",3,1)) -> 1
AQ20: =IF(P20="材質劣化",2,IF(P20="漏水",3,1)) -> 1
AQ21: =IF(P21="材質劣化",2,IF(P21="漏水",3,1)) -> 1
AQ22: =IF(P22="材質劣化",2,IF(P22="漏水",3,1)) -> 1
AQ23: =IF(P23="材質劣化",2,IF(P23="漏水",3,1)) -> 1
... AQ27: =IF(P27="材質劣化",2,IF(P27="漏水",3,1)) -> 1
AQ28: =IF(P30="材質劣化",2,IF(P30="漏水",3,1)) -> 1
AQ29: =IF(P34="材質劣化",2,IF(P34="漏水",3,1)) -> 1
AQ30: =IF(P30="材質劣化",2,IF(P30="漏水",3,1)) -> 1
AQ31: =IF(P33="材質劣化",2,IF(P33="漏水",3,1)) -> 1
AQ32: =IF(P37="材質劣化",2,IF(P37="漏水",3,1)) -> 1
AQ33: =IF(P33="材質劣化",2,IF(P33="漏水",3,1)) -> 1
AQ34: =IF(P36="材質劣化",2,IF(P36="漏水",3,1)) -> 1
K35: 集計 判定 診断 | L35: 変状の発生規模合計(㎡) | Y35: － | AC35: =SUM(AC11:AC34) -> 0 | AD35: =SUM(AD11:AD34) -> 0 | AE35: =SUM(AE11:AE34) -> 0 | AF35: =SUM(AF11:AF34) -> 0.84 | AG35: =SUM(AG11:AG34) -> 0 | AH35: =SUM(AH11:AH34) -> 0 | AI35: =SUM(AI11:AI34) -> 0 | AJ35: =SUM(AJ11:AJ34) -> 0 | AK35: 覆工スパン単位の 健全性の 診断の区分 | AM35: Ⅱ
L36: 対策区分の 判定結果 | O36: 対策区分毎の変状数注3 | Y36: Ⅳ | Z36: Ⅲ | AA36: Ⅱa | AB36: Ⅱb | AC36: Ⅳ | AD36: Ⅲ | AE36: Ⅱa | AF36: Ⅱb | AG36: Ⅳ | AH36: Ⅲ | AI36: Ⅱa | AJ36: Ⅱb
Y37: =IF(COUNTIF(Y11:Y34,"〇")>0,"1",0) -> 0 | Z37: =IF(COUNTIF(Z11:Z34,"〇")>0,"1",0) -> 0 | AA37: =IF(COUNTIF(AA11:AA34,"〇")>0,"1",0) -> 0 | AB37: =IF(COUNTIF(AB11:AB34,"〇")>0,"1",0) -> 0 | AC37: =COUNTA(AC11:AC34) -> 0 | AD37: =COUNTA(AD11:AD34) -> 0 | AE37: =COUNTA(AE11:AE34) -> 0 | AF37: =COUNTA(AF11:AF34) -> 1 | AG37: =COUNTA(AG11:AG34) -> 0 | AH37: =COUNTA(AH11:AH34) -> 0 | AI37: =COUNTA(AI11:AI34) -> 0 | AJ37: =COUNTA(AJ11:AJ34) -> 0
K39: 所見
K43: 注1：誤記入防止のため、当該変状区分以外のセルは灰色表示とすること。
K44: 注2：応急措置を実施した場合は、その詳細を備考に記載すること。
K45: 注3：外力は覆工スパン単位、材質劣化、漏水は変状単位とすること。
B46: （以下、印刷不要）
B47: ※1：本シートは作成洩れのないよう、変状が無くても全スパン分を作成すること．また変状展開図は、様式D-2-1、様式D-2-1'と同じものを覆工スパン単位で拡大し掲載すること。
B48: ※2：変状番号は、様式D-1-1で記入した番号と整合させること。
B49: ※3：対策区分毎の変状発生規模は、様式D-1-1に記載した面積を記入すること（ただし外力はスパン単位で評価するため変状の有無の欄には面積でなく○を記入し、備考欄に状況を記入）。
B50: ※4：本様式は覆工スパン毎に作成すること。
B51: ※5：変状数が多い場合は、適時、表の行を増やして覆工スパン毎に1枚のシートに収めること。また、1スパン１シートとし、スパンに合わせてシートを追加すること。
B52: ※6：対策区分毎の変状の発生範囲の規模とは，対策を行う際に参考となる変状の長さや面積であり，変状を包含する長さや面積とする。
B53: ※7：対策範囲を示す発生範囲の規模を面積で記入することが妥当ではない変状は、発生範囲の規模の欄に○を記入するとともに、備考に内容を記入すること。

Sheet 様式D-3_S009
AU1: 様式F用→ | AV1: 覆工スパン | AY1: 変 状 数 | BK1: 変 状 規 模
AV2: 番号 | AW2: 延長 （ｍ） | AX2: 健全性の診断の 区分 | AY2: 対策区分の判定 | BK2: 覆工スパン長（ｍ） | BO2: 変状の発生範囲の規模（㎡）
B3: ■定期点検記録様式 覆工スパン別変状詳細展開図 【様式D-3】 | AY3: 外力 | BC3: 材質劣化 | BG3: 漏水 | BK3: 外力 注2 | BO3: 材質劣化 | BS3: 漏水
B4: フリガナ | E4: ='様式A-1'!$D$3 -> ナカヤマトンネル | K4: 路線名 | N4: ='様式A-1'!$J$3 -> 一般県道藤生停車場錦帯橋線 | T4: 定期点検実施者 | Y4: =+'様式B (1)'!$S$3 -> 復建調査設計株式会社 | AG4: 定期点検年月日 | AK4: =+'様式B (1)'!$P$2 -> 45861 | AY4: Ⅳ | AZ4: Ⅲ | BA4: Ⅱa | BB4: Ⅱb | BC4: Ⅳ | BD4: Ⅲ | BE4: Ⅱa | BF4: Ⅱb | BG4: Ⅳ | BH4: Ⅲ | BI4: Ⅱa | BJ4: Ⅱb | BK4: Ⅳ | BL4: Ⅲ | BM4: Ⅱa | BN4: Ⅱb | BO4: Ⅳ | BP4: Ⅲ | BQ4: Ⅱa | BR4: Ⅱb | BS4: Ⅳ | BT4: Ⅲ | BU4: Ⅱa | BV4: Ⅱb
B5: 名 称 | E5: ='様式A-1'!$D$4 -> 中山トンネル | K5: 管理者名 | N5: ='様式A-1'!$R$3 -> 山口県岩国土木建築事務所 | Y5: =+'様式B (1)'!$S$4 -> 小笠原洋 | AV5: =N7 -> S009 | AW5: =R7 -> 10.5 | AX5: =AM35 -> Ⅰ | AY5: =Y37 -> 0 | AZ5: =Z37 -> 0 | BA5: =AA37 -> 0 | BB5: =AB37 -> 0 | BC5: =AC37 -> 0 | BD5: =AD37 -> 0 | BE5: =AE37 -> 0 | BF5: =AF37 -> 0 | ... BJ5: =AJ37 -> 0 | BK5: =IF(Y37>0,R7,"") | BL5: =IF(Y37>0,"",IF(Z37>0,R7,"")) | BM5: =IF(Y37+Z37>0,"",IF(AA37>0,R7,"")) | BN5: =IF(Y37+Z37+AA37>0,"",IF(AB37>0,R7,"")) | BO5: =AC35 -> 0 | BP5: =AD35 -> 0 | BQ5: =AE35 -> 0 | BR5: =AF35 -> 0 | BS5: =AG35 -> 0 | BT5: =AH35 -> 0 | BU5: =AI35 -> 0 | BV5: =AJ35 -> 0
B6: スパン別変状展開図 | K6: 【健全性判定集計表】
K7: スパン番号 | N7: S009 | P7: スパン長 | R7: 10.5 | U7: 前回定期点検時の判定 | W7: 応急措置前の判定 | Y7: 対策区分毎の 変状の有無 | AC7: 対策区分毎の変状の発生範囲の規模(㎡) | AK7: 備考注2
K8: 変状番号 | L8: 対象箇所 | N8: 部位区分 | P8: 変状区分 | R8: 変状種類
Y9: 外力注1 | AC9: 材質劣化注1 | AG9: 漏水注1
Y10: Ⅳ | Z10: Ⅲ | AA10: Ⅱa | AB10: Ⅱb | AC10: Ⅳ | AD10: Ⅲ | AE10: Ⅱa | AF10: Ⅱb | AG10: Ⅳ | AH10: Ⅲ | AI10: Ⅱa | AJ10: Ⅱb
AQ11: =IF(P11="材質劣化",2,IF(P11="漏水",3,1)) -> 1 | AS11: =IF(Y11<>"",1,"")
AQ12: =IF(P12="材質劣化",2,IF(P12="漏水",3,1)) -> 1
AQ13: =IF(P13="材質劣化",2,IF(P13="漏水",3,1)) -> 1
AQ14: =IF(P14="材質劣化",2,IF(P14="漏水",3,1)) -> 1
AQ15: =IF(P15="材質劣化",2,IF(P15="漏水",3,1)) -> 1
AQ16: =IF(P16="材質劣化",2,IF(P16="漏水",3,1)) -> 1
AQ17: =IF(P17="材質劣化",2,IF(P17="漏水",3,1)) -> 1
AQ18: =IF(P18="材質劣化",2,IF(P18="漏水",3,1)) -> 1
AQ19: =IF(P19="材質劣化",2,IF(P19="漏水",3,1)) -> 1
AQ20: =IF(P20="材質劣化",2,IF(P20="漏水",3,1)) -> 1
AQ21: =IF(P21="材質劣化",2,IF(P21="漏水",3,1)) -> 1
AQ22: =IF(P22="材質劣化",2,IF(P22="漏水",3,1)) -> 1
AQ23: =IF(P23="材質劣化",2,IF(P23="漏水",3,1)) -> 1
... AQ27: =IF(P27="材質劣化",2,IF(P27="漏水",3,1)) -> 1
AQ28: =IF(P30="材質劣化",2,IF(P30="漏水",3,1)) -> 1
AQ29: =IF(P34="材質劣化",2,IF(P34="漏水",3,1)) -> 1
AQ30: =IF(P30="材質劣化",2,IF(P30="漏水",3,1)) -> 1
AQ31: =IF(P33="材質劣化",2,IF(P33="漏水",3,1)) -> 1
AQ32: =IF(P37="材質劣化",2,IF(P37="漏水",3,1)) -> 1
AQ33: =IF(P33="材質劣化",2,IF(P33="漏水",3,1)) -> 1
AQ34: =IF(P36="材質劣化",2,IF(P36="漏水",3,1)) -> 1
K35: 集計 判定 診断 | L35: 変状の発生規模合計(㎡) | Y35: － | AC35: =SUM(AC11:AC34) -> 0 | AD35: =SUM(AD11:AD34) -> 0 | AE35: =SUM(AE11:AE34) -> 0 | AF35: =SUM(AF11:AF34) -> 0 | AG35: =SUM(AG11:AG34) -> 0 | AH35: =SUM(AH11:AH34) -> 0 | AI35: =SUM(AI11:AI34) -> 0 | AJ35: =SUM(AJ11:AJ34) -> 0 | AK35: 覆工スパン単位の 健全性の 診断の区分 | AM35: Ⅰ
L36: 対策区分の 判定結果 | O36: 対策区分毎の変状数注3 | Y36: Ⅳ | Z36: Ⅲ | AA36: Ⅱa | AB36: Ⅱb | AC36: Ⅳ | AD36: Ⅲ | AE36: Ⅱa | AF36: Ⅱb | AG36: Ⅳ | AH36: Ⅲ | AI36: Ⅱa | AJ36: Ⅱb
Y37: =IF(COUNTIF(Y11:Y34,"〇")>0,"1",0) -> 0 | Z37: =IF(COUNTIF(Z11:Z34,"〇")>0,"1",0) -> 0 | AA37: =IF(COUNTIF(AA11:AA34,"〇")>0,"1",0) -> 0 | AB37: =IF(COUNTIF(AB11:AB34,"〇")>0,"1",0) -> 0 | AC37: =COUNTA(AC11:AC34) -> 0 | AD37: =COUNTA(AD11:AD34) -> 0 | AE37: =COUNTA(AE11:AE34) -> 0 | AF37: =COUNTA(AF11:AF34) -> 0 | AG37: =COUNTA(AG11:AG34) -> 0 | AH37: =COUNTA(AH11:AH34) -> 0 | AI37: =COUNTA(AI11:AI34) -> 0 | AJ37: =COUNTA(AJ11:AJ34) -> 0
K39: 所見
K43: 注1：誤記入防止のため、当該変状区分以外のセルは灰色表示とすること。
K44: 注2：応急措置を実施した場合は、その詳細を備考に記載すること。
K45: 注3：外力は覆工スパン単位、材質劣化、漏水は変状単位とすること。
B46: （以下、印刷不要）
B47: ※1：本シートは作成洩れのないよう、変状が無くても全スパン分を作成すること．また変状展開図は、様式D-2-1、様式D-2-1'と同じものを覆工スパン単位で拡大し掲載すること。
B48: ※2：変状番号は、様式D-1-1で記入した番号と整合させること。
B49: ※3：対策区分毎の変状発生規模は、様式D-1-1に記載した面積を記入すること（ただし外力はスパン単位で評価するため変状の有無の欄には面積でなく○を記入し、備考欄に状況を記入）。
B50: ※4：本様式は覆工スパン毎に作成すること。
B51: ※5：変状数が多い場合は、適時、表の行を増やして覆工スパン毎に1枚のシートに収めること。また、1スパン１シートとし、スパンに合わせてシートを追加すること。
B52: ※6：対策区分毎の変状の発生範囲の規模とは，対策を行う際に参考となる変状の長さや面積であり，変状を包含する長さや面積とする。
B53: ※7：対策範囲を示す発生範囲の規模を面積で記入することが妥当ではない変状は、発生範囲の規模の欄に○を記入するとともに、備考に内容を記入すること。

Sheet 様式D-3_S010
AU1: 様式F用→ | AV1: 覆工スパン | AY1: 変 状 数 | BK1: 変 状 規 模
AV2: 番号 | AW2: 延長 （ｍ） | AX2: 健全性の診断の 区分 | AY2: 対策区分の判定 | BK2: 覆工スパン長（ｍ） | BO2: 変状の発生範囲の規模（㎡）
B3: ■定期点検記録様式 覆工スパン別変状詳細展開図 【様式D-3】 | AY3: 外力 | BC3: 材質劣化 | BG3: 漏水 | BK3: 外力 注2 | BO3: 材質劣化 | BS3: 漏水
B4: フリガナ | E4: ='様式A-1'!$D$3 -> ナカヤマトンネル | K4: 路線名 | N4: ='様式A-1'!$J$3 -> 一般県道藤生停車場錦帯橋線 | T4: 定期点検実施者 | Y4: =+'様式B (1)'!$S$3 -> 復建調査設計株式会社 | AG4: 定期点検年月日 | AK4: =+'様式B (1)'!$P$2 -> 45861 | AY4: Ⅳ | AZ4: Ⅲ | BA4: Ⅱa | BB4: Ⅱb | BC4: Ⅳ | BD4: Ⅲ | BE4: Ⅱa | BF4: Ⅱb | BG4: Ⅳ | BH4: Ⅲ | BI4: Ⅱa | BJ4: Ⅱb | BK4: Ⅳ | BL4: Ⅲ | BM4: Ⅱa | BN4: Ⅱb | BO4: Ⅳ | BP4: Ⅲ | BQ4: Ⅱa | BR4: Ⅱb | BS4: Ⅳ | BT4: Ⅲ | BU4: Ⅱa | BV4: Ⅱb
B5: 名 称 | E5: ='様式A-1'!$D$4 -> 中山トンネル | K5: 管理者名 | N5: ='様式A-1'!$R$3 -> 山口県岩国土木建築事務所 | Y5: =+'様式B (1)'!$S$4 -> 小笠原洋 | AV5: =N7 -> S010 | AW5: =R7 -> 10.5 | AX5: =AM35 -> Ⅰ | AY5: =Y37 -> 0 | AZ5: =Z37 -> 0 | BA5: =AA37 -> 0 | BB5: =AB37 -> 0 | BC5: =AC37 -> 0 | BD5: =AD37 -> 0 | BE5: =AE37 -> 0 | BF5: =AF37 -> 0 | ... BJ5: =AJ37 -> 0 | BK5: =IF(Y37>0,R7,"") | BL5: =IF(Y37>0,"",IF(Z37>0,R7,"")) | BM5: =IF(Y37+Z37>0,"",IF(AA37>0,R7,"")) | BN5: =IF(Y37+Z37+AA37>0,"",IF(AB37>0,R7,"")) | BO5: =AC35 -> 0 | BP5: =AD35 -> 0 | BQ5: =AE35 -> 0 | BR5: =AF35 -> 0 | BS5: =AG35 -> 0 | BT5: =AH35 -> 0 | BU5: =AI35 -> 0 | BV5: =AJ35 -> 0
B6: スパン別変状展開図 | K6: 【健全性判定集計表】
K7: スパン番号 | N7: S010 | P7: スパン長 | R7: 10.5 | U7: 前回定期点検時の判定 | W7: 応急措置前の判定 | Y7: 対策区分毎の 変状の有無 | AC7: 対策区分毎の変状の発生範囲の規模(㎡) | AK7: 備考注2
K8: 変状番号 | L8: 対象箇所 | N8: 部位区分 | P8: 変状区分 | R8: 変状種類
Y9: 外力注1 | AC9: 材質劣化注1 | AG9: 漏水注1
Y10: Ⅳ | Z10: Ⅲ | AA10: Ⅱa | AB10: Ⅱb | AC10: Ⅳ | AD10: Ⅲ | AE10: Ⅱa | AF10: Ⅱb | AG10: Ⅳ | AH10: Ⅲ | AI10: Ⅱa | AJ10: Ⅱb
AQ11: =IF(P11="材質劣化",2,IF(P11="漏水",3,1)) -> 1 | AS11: =IF(Y11<>"",1,"")
AQ12: =IF(P12="材質劣化",2,IF(P12="漏水",3,1)) -> 1
AQ13: =IF(P13="材質劣化",2,IF(P13="漏水",3,1)) -> 1
AQ14: =IF(P14="材質劣化",2,IF(P14="漏水",3,1)) -> 1
AQ15: =IF(P15="材質劣化",2,IF(P15="漏水",3,1)) -> 1
AQ16: =IF(P16="材質劣化",2,IF(P16="漏水",3,1)) -> 1
AQ17: =IF(P17="材質劣化",2,IF(P17="漏水",3,1)) -> 1
AQ18: =IF(P18="材質劣化",2,IF(P18="漏水",3,1)) -> 1
AQ19: =IF(P19="材質劣化",2,IF(P19="漏水",3,1)) -> 1
AQ20: =IF(P20="材質劣化",2,IF(P20="漏水",3,1)) -> 1
AQ21: =IF(P21="材質劣化",2,IF(P21="漏水",3,1)) -> 1
AQ22: =IF(P22="材質劣化",2,IF(P22="漏水",3,1)) -> 1
AQ23: =IF(P23="材質劣化",2,IF(P23="漏水",3,1)) -> 1
... AQ27: =IF(P27="材質劣化",2,IF(P27="漏水",3,1)) -> 1
AQ28: =IF(P30="材質劣化",2,IF(P30="漏水",3,1)) -> 1
AQ29: =IF(P34="材質劣化",2,IF(P34="漏水",3,1)) -> 1
AQ30: =IF(P30="材質劣化",2,IF(P30="漏水",3,1)) -> 1
AQ31: =IF(P33="材質劣化",2,IF(P33="漏水",3,1)) -> 1
AQ32: =IF(P37="材質劣化",2,IF(P37="漏水",3,1)) -> 1
AQ33: =IF(P33="材質劣化",2,IF(P33="漏水",3,1)) -> 1
AQ34: =IF(P36="材質劣化",2,IF(P36="漏水",3,1)) -> 1
K35: 集計 判定 診断 | L35: 変状の発生規模合計(㎡) | Y35: － | AC35: =SUM(AC11:AC34) -> 0 | AD35: =SUM(AD11:AD34) -> 0 | AE35: =SUM(AE11:AE34) -> 0 | AF35: =SUM(AF11:AF34) -> 0 | AG35: =SUM(AG11:AG34) -> 0 | AH35: =SUM(AH11:AH34) -> 0 | AI35: =SUM(AI11:AI34) -> 0 | AJ35: =SUM(AJ11:AJ34) -> 0 | AK35: 覆工スパン単位の 健全性の 診断の区分 | AM35: Ⅰ
L36: 対策区分の 判定結果 | O36: 対策区分毎の変状数注3 | Y36: Ⅳ | Z36: Ⅲ | AA36: Ⅱa | AB36: Ⅱb | AC36: Ⅳ | AD36: Ⅲ | AE36: Ⅱa | AF36: Ⅱb | AG36: Ⅳ | AH36: Ⅲ | AI36: Ⅱa | AJ36: Ⅱb
Y37: =IF(COUNTIF(Y11:Y34,"〇")>0,"1",0) -> 0 | Z37: =IF(COUNTIF(Z11:Z34,"〇")>0,"1",0) -> 0 | AA37: =IF(COUNTIF(AA11:AA34,"〇")>0,"1",0) -> 0 | AB37: =IF(COUNTIF(AB11:AB34,"〇")>0,"1",0) -> 0 | AC37: =COUNTA(AC11:AC34) -> 0 | AD37: =COUNTA(AD11:AD34) -> 0 | AE37: =COUNTA(AE11:AE34) -> 0 | AF37: =COUNTA(AF11:AF34) -> 0 | AG37: =COUNTA(AG11:AG34) -> 0 | AH37: =COUNTA(AH11:AH34) -> 0 | AI37: =COUNTA(AI11:AI34) -> 0 | AJ37: =COUNTA(AJ11:AJ34) -> 0
K39: 所見
K43: 注1：誤記入防止のため、当該変状区分以外のセルは灰色表示とすること。
K44: 注2：応急措置を実施した場合は、その詳細を備考に記載すること。
K45: 注3：外力は覆工スパン単位、材質劣化、漏水は変状単位とすること。
B46: （以下、印刷不要）
B47: ※1：本シートは作成洩れのないよう、変状が無くても全スパン分を作成すること．また変状展開図は、様式D-2-1、様式D-2-1'と同じものを覆工スパン単位で拡大し掲載すること。
B48: ※2：変状番号は、様式D-1-1で記入した番号と整合させること。
B49: ※3：対策区分毎の変状発生規模は、様式D-1-1に記載した面積を記入すること（ただし外力はスパン単位で評価するため変状の有無の欄には面積でなく○を記入し、備考欄に状況を記入）。
B50: ※4：本様式は覆工スパン毎に作成すること。
B51: ※5：変状数が多い場合は、適時、表の行を増やして覆工スパン毎に1枚のシートに収めること。また、1スパン１シートとし、スパンに合わせてシートを追加すること。
B52: ※6：対策区分毎の変状の発生範囲の規模とは，対策を行う際に参考となる変状の長さや面積であり，変状を包含する長さや面積とする。
B53: ※7：対策範囲を示す発生範囲の規模を面積で記入することが妥当ではない変状は、発生範囲の規模の欄に○を記入するとともに、備考に内容を記入すること。

Sheet 様式D-3_S011
AU1: 様式F用→ | AV1: 覆工スパン | AY1: 変 状 数 | BK1: 変 状 規 模
AV2: 番号 | AW2: 延長 （ｍ） | AX2: 健全性の診断の 区分 | AY2: 対策区分の判定 | BK2: 覆工スパン長（ｍ） | BO2: 変状の発生範囲の規模（㎡）
B3: ■定期点検記録様式 覆工スパン別変状詳細展開図 【様式D-3】 | AY3: 外力 | BC3: 材質劣化 | BG3: 漏水 | BK3: 外力 注2 | BO3: 材質劣化 | BS3: 漏水
B4: フリガナ | E4: ='様式A-1'!$D$3 -> ナカヤマトンネル | K4: 路線名 | N4: ='様式A-1'!$J$3 -> 一般県道藤生停車場錦帯橋線 | T4: 定期点検実施者 | Y4: =+'様式B (1)'!$S$3 -> 復建調査設計株式会社 | AG4: 定期点検年月日 | AK4: =+'様式B (1)'!$P$2 -> 45861 | AY4: Ⅳ | AZ4: Ⅲ | BA4: Ⅱa | BB4: Ⅱb | BC4: Ⅳ | BD4: Ⅲ | BE4: Ⅱa | BF4: Ⅱb | BG4: Ⅳ | BH4: Ⅲ | BI4: Ⅱa | BJ4: Ⅱb | BK4: Ⅳ | BL4: Ⅲ | BM4: Ⅱa | BN4: Ⅱb | BO4: Ⅳ | BP4: Ⅲ | BQ4: Ⅱa | BR4: Ⅱb | BS4: Ⅳ | BT4: Ⅲ | BU4: Ⅱa | BV4: Ⅱb
B5: 名 称 | E5: ='様式A-1'!$D$4 -> 中山トンネル | K5: 管理者名 | N5: ='様式A-1'!$R$3 -> 山口県岩国土木建築事務所 | Y5: =+'様式B (1)'!$S$4 -> 小笠原洋 | AV5: =N7 -> S011 | AW5: =R7 -> 10.45 | AX5: =AM35 -> Ⅰ | AY5: =Y37 -> 0 | AZ5: =Z37 -> 0 | BA5: =AA37 -> 0 | BB5: =AB37 -> 0 | BC5: =AC37 -> 0 | BD5: =AD37 -> 0 | BE5: =AE37 -> 0 | BF5: =AF37 -> 0 | ... BJ5: =AJ37 -> 0 | BK5: =IF(Y37>0,R7,"") | BL5: =IF(Y37>0,"",IF(Z37>0,R7,"")) | BM5: =IF(Y37+Z37>0,"",IF(AA37>0,R7,"")) | BN5: =IF(Y37+Z37+AA37>0,"",IF(AB37>0,R7,"")) | BO5: =AC35 -> 0 | BP5: =AD35 -> 0 | BQ5: =AE35 -> 0 | BR5: =AF35 -> 0 | BS5: =AG35 -> 0 | BT5: =AH35 -> 0 | BU5: =AI35 -> 0 | BV5: =AJ35 -> 0
B6: スパン別変状展開図 | K6: 【健全性判定集計表】
K7: スパン番号 | N7: S011 | P7: スパン長 | R7: 10.45 | U7: 前回定期点検時の判定 | W7: 応急措置前の判定 | Y7: 対策区分毎の 変状の有無 | AC7: 対策区分毎の変状の発生範囲の規模(㎡) | AK7: 備考注2
K8: 変状番号 | L8: 対象箇所 | N8: 部位区分 | P8: 変状区分 | R8: 変状種類
Y9: 外力注1 | AC9: 材質劣化注1 | AG9: 漏水注1
Y10: Ⅳ | Z10: Ⅲ | AA10: Ⅱa | AB10: Ⅱb | AC10: Ⅳ | AD10: Ⅲ | AE10: Ⅱa | AF10: Ⅱb | AG10: Ⅳ | AH10: Ⅲ | AI10: Ⅱa | AJ10: Ⅱb
AQ11: =IF(P11="材質劣化",2,IF(P11="漏水",3,1)) -> 1 | AS11: =IF(Y11<>"",1,"")
AQ12: =IF(P12="材質劣化",2,IF(P12="漏水",3,1)) -> 1
AQ13: =IF(P13="材質劣化",2,IF(P13="漏水",3,1)) -> 1
AQ14: =IF(P14="材質劣化",2,IF(P14="漏水",3,1)) -> 1
AQ15: =IF(P15="材質劣化",2,IF(P15="漏水",3,1)) -> 1
AQ16: =IF(P16="材質劣化",2,IF(P16="漏水",3,1)) -> 1
AQ17: =IF(P17="材質劣化",2,IF(P17="漏水",3,1)) -> 1
AQ18: =IF(P18="材質劣化",2,IF(P18="漏水",3,1)) -> 1
AQ19: =IF(P19="材質劣化",2,IF(P19="漏水",3,1)) -> 1
AQ20: =IF(P20="材質劣化",2,IF(P20="漏水",3,1)) -> 1
AQ21: =IF(P21="材質劣化",2,IF(P21="漏水",3,1)) -> 1
AQ22: =IF(P22="材質劣化",2,IF(P22="漏水",3,1)) -> 1
AQ23: =IF(P23="材質劣化",2,IF(P23="漏水",3,1)) -> 1
... AQ27: =IF(P27="材質劣化",2,IF(P27="漏水",3,1)) -> 1
AQ28: =IF(P30="材質劣化",2,IF(P30="漏水",3,1)) -> 1
AQ29: =IF(P34="材質劣化",2,IF(P34="漏水",3,1)) -> 1
AQ30: =IF(P30="材質劣化",2,IF(P30="漏水",3,1)) -> 1
AQ31: =IF(P33="材質劣化",2,IF(P33="漏水",3,1)) -> 1
AQ32: =IF(P37="材質劣化",2,IF(P37="漏水",3,1)) -> 1
AQ33: =IF(P33="材質劣化",2,IF(P33="漏水",3,1)) -> 1
AQ34: =IF(P36="材質劣化",2,IF(P36="漏水",3,1)) -> 1
K35: 集計 判定 診断 | L35: 変状の発生規模合計(㎡) | Y35: － | AC35: =SUM(AC11:AC34) -> 0 | AD35: =SUM(AD11:AD34) -> 0 | AE35: =SUM(AE11:AE34) -> 0 | AF35: =SUM(AF11:AF34) -> 0 | AG35: =SUM(AG11:AG34) -> 0 | AH35: =SUM(AH11:AH34) -> 0 | AI35: =SUM(AI11:AI34) -> 0 | AJ35: =SUM(AJ11:AJ34) -> 0 | AK35: 覆工スパン単位の 健全性の 診断の区分 | AM35: Ⅰ
L36: 対策区分の 判定結果 | O36: 対策区分毎の変状数注3 | Y36: Ⅳ | Z36: Ⅲ | AA36: Ⅱa | AB36: Ⅱb | AC36: Ⅳ | AD36: Ⅲ | AE36: Ⅱa | AF36: Ⅱb | AG36: Ⅳ | AH36: Ⅲ | AI36: Ⅱa | AJ36: Ⅱb
Y37: =IF(COUNTIF(Y11:Y34,"〇")>0,"1",0) -> 0 | Z37: =IF(COUNTIF(Z11:Z34,"〇")>0,"1",0) -> 0 | AA37: =IF(COUNTIF(AA11:AA34,"〇")>0,"1",0) -> 0 | AB37: =IF(COUNTIF(AB11:AB34,"〇")>0,"1",0) -> 0 | AC37: =COUNTA(AC11:AC34) -> 0 | AD37: =COUNTA(AD11:AD34) -> 0 | AE37: =COUNTA(AE11:AE34) -> 0 | AF37: =COUNTA(AF11:AF34) -> 0 | AG37: =COUNTA(AG11:AG34) -> 0 | AH37: =COUNTA(AH11:AH34) -> 0 | AI37: =COUNTA(AI11:AI34) -> 0 | AJ37: =COUNTA(AJ11:AJ34) -> 0
K39: 所見
K43: 注1：誤記入防止のため、当該変状区分以外のセルは灰色表示とすること。
K44: 注2：応急措置を実施した場合は、その詳細を備考に記載すること。
K45: 注3：外力は覆工スパン単位、材質劣化、漏水は変状単位とすること。
B46: （以下、印刷不要）
B47: ※1：本シートは作成洩れのないよう、変状が無くても全スパン分を作成すること．また変状展開図は、様式D-2-1、様式D-2-1'と同じものを覆工スパン単位で拡大し掲載すること。
B48: ※2：変状番号は、様式D-1-1で記入した番号と整合させること。
B49: ※3：対策区分毎の変状発生規模は、様式D-1-1に記載した面積を記入すること（ただし外力はスパン単位で評価するため変状の有無の欄には面積でなく○を記入し、備考欄に状況を記入）。
B50: ※4：本様式は覆工スパン毎に作成すること。
B51: ※5：変状数が多い場合は、適時、表の行を増やして覆工スパン毎に1枚のシートに収めること。また、1スパン１シートとし、スパンに合わせてシートを追加すること。
B52: ※6：対策区分毎の変状の発生範囲の規模とは，対策を行う際に参考となる変状の長さや面積であり，変状を包含する長さや面積とする。
B53: ※7：対策範囲を示す発生範囲の規模を面積で記入することが妥当ではない変状は、発生範囲の規模の欄に○を記入するとともに、備考に内容を記入すること。

Sheet 様式D-3_S012
AU1: 様式F用→ | AV1: 覆工スパン | AY1: 変 状 数 | BK1: 変 状 規 模
AV2: 番号 | AW2: 延長 （ｍ） | AX2: 健全性の診断の 区分 | AY2: 対策区分の判定 | BK2: 覆工スパン長（ｍ） | BO2: 変状の発生範囲の規模（㎡）
B3: ■定期点検記録様式 覆工スパン別変状詳細展開図 【様式D-3】 | AY3: 外力 | BC3: 材質劣化 | BG3: 漏水 | BK3: 外力 注2 | BO3: 材質劣化 | BS3: 漏水
B4: フリガナ | E4: ='様式A-1'!$D$3 -> ナカヤマトンネル | K4: 路線名 | N4: ='様式A-1'!$J$3 -> 一般県道藤生停車場錦帯橋線 | T4: 定期点検実施者 | Y4: =+'様式B (1)'!$S$3 -> 復建調査設計株式会社 | AG4: 定期点検年月日 | AK4: =+'様式B (1)'!$P$2 -> 45861 | AY4: Ⅳ | AZ4: Ⅲ | BA4: Ⅱa | BB4: Ⅱb | BC4: Ⅳ | BD4: Ⅲ | BE4: Ⅱa | BF4: Ⅱb | BG4: Ⅳ | BH4: Ⅲ | BI4: Ⅱa | BJ4: Ⅱb | BK4: Ⅳ | BL4: Ⅲ | BM4: Ⅱa | BN4: Ⅱb | BO4: Ⅳ | BP4: Ⅲ | BQ4: Ⅱa | BR4: Ⅱb | BS4: Ⅳ | BT4: Ⅲ | BU4: Ⅱa | BV4: Ⅱb
B5: 名 称 | E5: ='様式A-1'!$D$4 -> 中山トンネル | K5: 管理者名 | N5: ='様式A-1'!$R$3 -> 山口県岩国土木建築事務所 | Y5: =+'様式B (1)'!$S$4 -> 小笠原洋 | AV5: =N7 -> S012 | AW5: =R7 -> 10.5 | AX5: =AM35 -> Ⅰ | AY5: =Y37 -> 0 | AZ5: =Z37 -> 0 | BA5: =AA37 -> 0 | BB5: =AB37 -> 0 | BC5: =AC37 -> 0 | BD5: =AD37 -> 0 | BE5: =AE37 -> 0 | BF5: =AF37 -> 0 | ... BJ5: =AJ37 -> 0 | BK5: =IF(Y37>0,R7,"") | BL5: =IF(Y37>0,"",IF(Z37>0,R7,"")) | BM5: =IF(Y37+Z37>0,"",IF(AA37>0,R7,"")) | BN5: =IF(Y37+Z37+AA37>0,"",IF(AB37>0,R7,"")) | BO5: =AC35 -> 0 | BP5: =AD35 -> 0 | BQ5: =AE35 -> 0 | BR5: =AF35 -> 0 | BS5: =AG35 -> 0 | BT5: =AH35 -> 0 | BU5: =AI35 -> 0 | BV5: =AJ35 -> 0
B6: スパン別変状展開図 | K6: 【健全性判定集計表】
K7: スパン番号 | N7: S012 | P7: スパン長 | R7: 10.5 | U7: 前回定期点検時の判定 | W7: 応急措置前の判定 | Y7: 対策区分毎の 変状の有無 | AC7: 対策区分毎の変状の発生範囲の規模(㎡) | AK7: 備考注2
K8: 変状番号 | L8: 対象箇所 | N8: 部位区分 | P8: 変状区分 | R8: 変状種類
Y9: 外力注1 | AC9: 材質劣化注1 | AG9: 漏水注1
Y10: Ⅳ | Z10: Ⅲ | AA10: Ⅱa | AB10: Ⅱb | AC10: Ⅳ | AD10: Ⅲ | AE10: Ⅱa | AF10: Ⅱb | AG10: Ⅳ | AH10: Ⅲ | AI10: Ⅱa | AJ10: Ⅱb
AQ11: =IF(P11="材質劣化",2,IF(P11="漏水",3,1)) -> 1 | AS11: =IF(Y11<>"",1,"")
AQ12: =IF(P12="材質劣化",2,IF(P12="漏水",3,1)) -> 1
AQ13: =IF(P13="材質劣化",2,IF(P13="漏水",3,1)) -> 1
AQ14: =IF(P14="材質劣化",2,IF(P14="漏水",3,1)) -> 1
AQ15: =IF(P15="材質劣化",2,IF(P15="漏水",3,1)) -> 1
AQ16: =IF(P16="材質劣化",2,IF(P16="漏水",3,1)) -> 1
AQ17: =IF(P17="材質劣化",2,IF(P17="漏水",3,1)) -> 1
AQ18: =IF(P18="材質劣化",2,IF(P18="漏水",3,1)) -> 1
AQ19: =IF(P19="材質劣化",2,IF(P19="漏水",3,1)) -> 1
AQ20: =IF(P20="材質劣化",2,IF(P20="漏水",3,1)) -> 1
AQ21: =IF(P21="材質劣化",2,IF(P21="漏水",3,1)) -> 1
AQ22: =IF(P22="材質劣化",2,IF(P22="漏水",3,1)) -> 1
AQ23: =IF(P23="材質劣化",2,IF(P23="漏水",3,1)) -> 1
... AQ27: =IF(P27="材質劣化",2,IF(P27="漏水",3,1)) -> 1
AQ28: =IF(P30="材質劣化",2,IF(P30="漏水",3,1)) -> 1
AQ29: =IF(P34="材質劣化",2,IF(P34="漏水",3,1)) -> 1
AQ30: =IF(P30="材質劣化",2,IF(P30="漏水",3,1)) -> 1
AQ31: =IF(P33="材質劣化",2,IF(P33="漏水",3,1)) -> 1
AQ32: =IF(P37="材質劣化",2,IF(P37="漏水",3,1)) -> 1
AQ33: =IF(P33="材質劣化",2,IF(P33="漏水",3,1)) -> 1
AQ34: =IF(P36="材質劣化",2,IF(P36="漏水",3,1)) -> 1
K35: 集計 判定 診断 | L35: 変状の発生規模合計(㎡) | Y35: － | AC35: =SUM(AC11:AC34) -> 0 | AD35: =SUM(AD11:AD34) -> 0 | AE35: =SUM(AE11:AE34) -> 0 | AF35: =SUM(AF11:AF34) -> 0 | AG35: =SUM(AG11:AG34) -> 0 | AH35: =SUM(AH11:AH34) -> 0 | AI35: =SUM(AI11:AI34) -> 0 | AJ35: =SUM(AJ11:AJ34) -> 0 | AK35: 覆工スパン単位の 健全性の 診断の区分 | AM35: Ⅰ
L36: 対策区分の 判定結果 | O36: 対策区分毎の変状数注3 | Y36: Ⅳ | Z36: Ⅲ | AA36: Ⅱa | AB36: Ⅱb | AC36: Ⅳ | AD36: Ⅲ | AE36: Ⅱa | AF36: Ⅱb | AG36: Ⅳ | AH36: Ⅲ | AI36: Ⅱa | AJ36: Ⅱb
Y37: =IF(COUNTIF(Y11:Y34,"〇")>0,"1",0) -> 0 | Z37: =IF(COUNTIF(Z11:Z34,"〇")>0,"1",0) -> 0 | AA37: =IF(COUNTIF(AA11:AA34,"〇")>0,"1",0) -> 0 | AB37: =IF(COUNTIF(AB11:AB34,"〇")>0,"1",0) -> 0 | AC37: =COUNTA(AC11:AC34) -> 0 | AD37: =COUNTA(AD11:AD34) -> 0 | AE37: =COUNTA(AE11:AE34) -> 0 | AF37: =COUNTA(AF11:AF34) -> 0 | AG37: =COUNTA(AG11:AG34) -> 0 | AH37: =COUNTA(AH11:AH34) -> 0 | AI37: =COUNTA(AI11:AI34) -> 0 | AJ37: =COUNTA(AJ11:AJ34) -> 0
K39: 所見
K43: 注1：誤記入防止のため、当該変状区分以外のセルは灰色表示とすること。
K44: 注2：応急措置を実施した場合は、その詳細を備考に記載すること。
K45: 注3：外力は覆工スパン単位、材質劣化、漏水は変状単位とすること。
B46: （以下、印刷不要）
B47: ※1：本シートは作成洩れのないよう、変状が無くても全スパン分を作成すること．また変状展開図は、様式D-2-1、様式D-2-1'と同じものを覆工スパン単位で拡大し掲載すること。
B48: ※2：変状番号は、様式D-1-1で記入した番号と整合させること。
B49: ※3：対策区分毎の変状発生規模は、様式D-1-1に記載した面積を記入すること（ただし外力はスパン単位で評価するため変状の有無の欄には面積でなく○を記入し、備考欄に状況を記入）。
B50: ※4：本様式は覆工スパン毎に作成すること。
B51: ※5：変状数が多い場合は、適時、表の行を増やして覆工スパン毎に1枚のシートに収めること。また、1スパン１シートとし、スパンに合わせてシートを追加すること。
B52: ※6：対策区分毎の変状の発生範囲の規模とは，対策を行う際に参考となる変状の長さや面積であり，変状を包含する長さや面積とする。
B53: ※7：対策範囲を示す発生範囲の規模を面積で記入することが妥当ではない変状は、発生範囲の規模の欄に○を記入するとともに、備考に内容を記入すること。

Sheet 様式D-3_S013
AU1: 様式F用→ | AV1: 覆工スパン | AY1: 変 状 数 | BK1: 変 状 規 模
AV2: 番号 | AW2: 延長 （ｍ） | AX2: 健全性の診断の 区分 | AY2: 対策区分の判定 | BK2: 覆工スパン長（ｍ） | BO2: 変状の発生範囲の規模（㎡）
B3: ■定期点検記録様式 覆工スパン別変状詳細展開図 【様式D-3】 | AY3: 外力 | BC3: 材質劣化 | BG3: 漏水 | BK3: 外力 注2 | BO3: 材質劣化 | BS3: 漏水
B4: フリガナ | E4: ='様式A-1'!$D$3 -> ナカヤマトンネル | K4: 路線名 | N4: ='様式A-1'!$J$3 -> 一般県道藤生停車場錦帯橋線 | T4: 定期点検実施者 | Y4: =+'様式B (1)'!$S$3 -> 復建調査設計株式会社 | AG4: 定期点検年月日 | AK4: =+'様式B (1)'!$P$2 -> 45861 | AY4: Ⅳ | AZ4: Ⅲ | BA4: Ⅱa | BB4: Ⅱb | BC4: Ⅳ | BD4: Ⅲ | BE4: Ⅱa | BF4: Ⅱb | BG4: Ⅳ | BH4: Ⅲ | BI4: Ⅱa | BJ4: Ⅱb | BK4: Ⅳ | BL4: Ⅲ | BM4: Ⅱa | BN4: Ⅱb | BO4: Ⅳ | BP4: Ⅲ | BQ4: Ⅱa | BR4: Ⅱb | BS4: Ⅳ | BT4: Ⅲ | BU4: Ⅱa | BV4: Ⅱb
B5: 名 称 | E5: ='様式A-1'!$D$4 -> 中山トンネル | K5: 管理者名 | N5: ='様式A-1'!$R$3 -> 山口県岩国土木建築事務所 | Y5: =+'様式B (1)'!$S$4 -> 小笠原洋 | AV5: =N7 -> S013 | AW5: =R7 -> 10.5 | AX5: =AM35 -> Ⅱ | AY5: =Y37 -> 0 | AZ5: =Z37 -> 0 | BA5: =AA37 -> 0 | BB5: =AB37 -> 0 | BC5: =AC37 -> 0 | BD5: =AD37 -> 0 | BE5: =AE37 -> 0 | BF5: =AF37 -> 1 | ... BJ5: =AJ37 -> 0 | BK5: =IF(Y37>0,R7,"") | BL5: =IF(Y37>0,"",IF(Z37>0,R7,"")) | BM5: =IF(Y37+Z37>0,"",IF(AA37>0,R7,"")) | BN5: =IF(Y37+Z37+AA37>0,"",IF(AB37>0,R7,"")) | BO5: =AC35 -> 0 | BP5: =AD35 -> 0 | BQ5: =AE35 -> 0 | BR5: =AF35 -> 0.075 | BS5: =AG35 -> 0 | BT5: =AH35 -> 0 | BU5: =AI35 -> 0 | BV5: =AJ35 -> 0
B6: スパン別変状展開図 | K6: 【健全性判定集計表】
K7: スパン番号 | N7: S013 | P7: スパン長 | R7: 10.5 | U7: 前回定期点検時の判定 | W7: 応急措置前の判定 | Y7: 対策区分毎の 変状の有無 | AC7: 対策区分毎の変状の発生範囲の規模(㎡) | AK7: 備考注2
K8: 変状番号 | L8: 対象箇所 | N8: 部位区分 | P8: 変状区分 | R8: 変状種類
Y9: 外力注1 | AC9: 材質劣化注1 | AG9: 漏水注1
Y10: Ⅳ | Z10: Ⅲ | AA10: Ⅱa | AB10: Ⅱb | AC10: Ⅳ | AD10: Ⅲ | AE10: Ⅱa | AF10: Ⅱb | AG10: Ⅳ | AH10: Ⅲ | AI10: Ⅱa | AJ10: Ⅱb
K11: 1 | L11: 覆工 | N11: アーチ（左側） | P11: 材質劣化 | R11: うき・はく離 | U11: Ⅱb | W11: Ⅱb | AF11: 0.075 | AK11: 閉合ひび割れ | AQ11: =IF(P11="材質劣化",2,IF(P11="漏水",3,1)) -> 2 | AS11: =IF(Y11<>"",1,"")
AQ12: =IF(P12="材質劣化",2,IF(P12="漏水",3,1)) -> 1
AQ13: =IF(P13="材質劣化",2,IF(P13="漏水",3,1)) -> 1
AQ14: =IF(P14="材質劣化",2,IF(P14="漏水",3,1)) -> 1
AQ15: =IF(P15="材質劣化",2,IF(P15="漏水",3,1)) -> 1
AQ16: =IF(P16="材質劣化",2,IF(P16="漏水",3,1)) -> 1
AQ17: =IF(P17="材質劣化",2,IF(P17="漏水",3,1)) -> 1
AQ18: =IF(P18="材質劣化",2,IF(P18="漏水",3,1)) -> 1
AQ19: =IF(P19="材質劣化",2,IF(P19="漏水",3,1)) -> 1
AQ20: =IF(P20="材質劣化",2,IF(P20="漏水",3,1)) -> 1
AQ21: =IF(P21="材質劣化",2,IF(P21="漏水",3,1)) -> 1
AQ22: =IF(P22="材質劣化",2,IF(P22="漏水",3,1)) -> 1
AQ23: =IF(P23="材質劣化",2,IF(P23="漏水",3,1)) -> 1
... AQ27: =IF(P27="材質劣化",2,IF(P27="漏水",3,1)) -> 1
AQ28: =IF(P30="材質劣化",2,IF(P30="漏水",3,1)) -> 1
AQ29: =IF(P34="材質劣化",2,IF(P34="漏水",3,1)) -> 1
AQ30: =IF(P30="材質劣化",2,IF(P30="漏水",3,1)) -> 1
AQ31: =IF(P33="材質劣化",2,IF(P33="漏水",3,1)) -> 1
AQ32: =IF(P37="材質劣化",2,IF(P37="漏水",3,1)) -> 1
AQ33: =IF(P33="材質劣化",2,IF(P33="漏水",3,1)) -> 1
AQ34: =IF(P36="材質劣化",2,IF(P36="漏水",3,1)) -> 1
K35: 集計 判定 診断 | L35: 変状の発生規模合計(㎡) | Y35: － | AC35: =SUM(AC11:AC34) -> 0 | AD35: =SUM(AD11:AD34) -> 0 | AE35: =SUM(AE11:AE34) -> 0 | AF35: =SUM(AF11:AF34) -> 0.075 | AG35: =SUM(AG11:AG34) -> 0 | AH35: =SUM(AH11:AH34) -> 0 | AI35: =SUM(AI11:AI34) -> 0 | AJ35: =SUM(AJ11:AJ34) -> 0 | AK35: 覆工スパン単位の 健全性の 診断の区分 | AM35: Ⅱ
L36: 対策区分の 判定結果 | O36: 対策区分毎の変状数注3 | Y36: Ⅳ | Z36: Ⅲ | AA36: Ⅱa | AB36: Ⅱb | AC36: Ⅳ | AD36: Ⅲ | AE36: Ⅱa | AF36: Ⅱb | AG36: Ⅳ | AH36: Ⅲ | AI36: Ⅱa | AJ36: Ⅱb
Y37: =IF(COUNTIF(Y11:Y34,"〇")>0,"1",0) -> 0 | Z37: =IF(COUNTIF(Z11:Z34,"〇")>0,"1",0) -> 0 | AA37: =IF(COUNTIF(AA11:AA34,"〇")>0,"1",0) -> 0 | AB37: =IF(COUNTIF(AB11:AB34,"〇")>0,"1",0) -> 0 | AC37: =COUNTA(AC11:AC34) -> 0 | AD37: =COUNTA(AD11:AD34) -> 0 | AE37: =COUNTA(AE11:AE34) -> 0 | AF37: =COUNTA(AF11:AF34) -> 1 | AG37: =COUNTA(AG11:AG34) -> 0 | AH37: =COUNTA(AH11:AH34) -> 0 | AI37: =COUNTA(AI11:AI34) -> 0 | AJ37: =COUNTA(AJ11:AJ34) -> 0
K39: 所見
K43: 注1：誤記入防止のため、当該変状区分以外のセルは灰色表示とすること。
K44: 注2：応急措置を実施した場合は、その詳細を備考に記載すること。
K45: 注3：外力は覆工スパン単位、材質劣化、漏水は変状単位とすること。
B46: （以下、印刷不要）
B47: ※1：本シートは作成洩れのないよう、変状が無くても全スパン分を作成すること．また変状展開図は、様式D-2-1、様式D-2-1'と同じものを覆工スパン単位で拡大し掲載すること。
B48: ※2：変状番号は、様式D-1-1で記入した番号と整合させること。
B49: ※3：対策区分毎の変状発生規模は、様式D-1-1に記載した面積を記入すること（ただし外力はスパン単位で評価するため変状の有無の欄には面積でなく○を記入し、備考欄に状況を記入）。
B50: ※4：本様式は覆工スパン毎に作成すること。
B51: ※5：変状数が多い場合は、適時、表の行を増やして覆工スパン毎に1枚のシートに収めること。また、1スパン１シートとし、スパンに合わせてシートを追加すること。
B52: ※6：対策区分毎の変状の発生範囲の規模とは，対策を行う際に参考となる変状の長さや面積であり，変状を包含する長さや面積とする。
B53: ※7：対策範囲を示す発生範囲の規模を面積で記入することが妥当ではない変状は、発生範囲の規模の欄に○を記入するとともに、備考に内容を記入すること。

Sheet 様式D-3_S014
AU1: 様式F用→ | AV1: 覆工スパン | AY1: 変 状 数 | BK1: 変 状 規 模
AV2: 番号 | AW2: 延長 （ｍ） | AX2: 健全性の診断の 区分 | AY2: 対策区分の判定 | BK2: 覆工スパン長（ｍ） | BO2: 変状の発生範囲の規模（㎡）
B3: ■定期点検記録様式 覆工スパン別変状詳細展開図 【様式D-3】 | AY3: 外力 | BC3: 材質劣化 | BG3: 漏水 | BK3: 外力 注2 | BO3: 材質劣化 | BS3: 漏水
B4: フリガナ | E4: ='様式A-1'!$D$3 -> ナカヤマトンネル | K4: 路線名 | N4: ='様式A-1'!$J$3 -> 一般県道藤生停車場錦帯橋線 | T4: 定期点検実施者 | Y4: =+'様式B (1)'!$S$3 -> 復建調査設計株式会社 | AG4: 定期点検年月日 | AK4: =+'様式B (1)'!$P$2 -> 45861 | AY4: Ⅳ | AZ4: Ⅲ | BA4: Ⅱa | BB4: Ⅱb | BC4: Ⅳ | BD4: Ⅲ | BE4: Ⅱa | BF4: Ⅱb | BG4: Ⅳ | BH4: Ⅲ | BI4: Ⅱa | BJ4: Ⅱb | BK4: Ⅳ | BL4: Ⅲ | BM4: Ⅱa | BN4: Ⅱb | BO4: Ⅳ | BP4: Ⅲ | BQ4: Ⅱa | BR4: Ⅱb | BS4: Ⅳ | BT4: Ⅲ | BU4: Ⅱa | BV4: Ⅱb
B5: 名 称 | E5: ='様式A-1'!$D$4 -> 中山トンネル | K5: 管理者名 | N5: ='様式A-1'!$R$3 -> 山口県岩国土木建築事務所 | Y5: =+'様式B (1)'!$S$4 -> 小笠原洋 | AV5: =N7 -> S014 | AW5: =R7 -> 10.5 | AX5: =AM35 -> Ⅰ | AY5: =Y37 -> 0 | AZ5: =Z37 -> 0 | BA5: =AA37 -> 0 | BB5: =AB37 -> 0 | BC5: =AC37 -> 0 | BD5: =AD37 -> 0 | BE5: =AE37 -> 0 | BF5: =AF37 -> 0 | ... BJ5: =AJ37 -> 0 | BK5: =IF(Y37>0,R7,"") | BL5: =IF(Y37>0,"",IF(Z37>0,R7,"")) | BM5: =IF(Y37+Z37>0,"",IF(AA37>0,R7,"")) | BN5: =IF(Y37+Z37+AA37>0,"",IF(AB37>0,R7,"")) | BO5: =AC35 -> 0 | BP5: =AD35 -> 0 | BQ5: =AE35 -> 0 | BR5: =AF35 -> 0 | BS5: =AG35 -> 0 | BT5: =AH35 -> 0 | BU5: =AI35 -> 0 | BV5: =AJ35 -> 0
B6: スパン別変状展開図 | K6: 【健全性判定集計表】
K7: スパン番号 | N7: S014 | P7: スパン長 | R7: 10.5 | U7: 前回定期点検時の判定 | W7: 応急措置前の判定 | Y7: 対策区分毎の 変状の有無 | AC7: 対策区分毎の変状の発生範囲の規模(㎡) | AK7: 備考注2
K8: 変状番号 | L8: 対象箇所 | N8: 部位区分 | P8: 変状区分 | R8: 変状種類
Y9: 外力注1 | AC9: 材質劣化注1 | AG9: 漏水注1
Y10: Ⅳ | Z10: Ⅲ | AA10: Ⅱa | AB10: Ⅱb | AC10: Ⅳ | AD10: Ⅲ | AE10: Ⅱa | AF10: Ⅱb | AG10: Ⅳ | AH10: Ⅲ | AI10: Ⅱa | AJ10: Ⅱb
AQ11: =IF(P11="材質劣化",2,IF(P11="漏水",3,1)) -> 1 | AS11: =IF(Y11<>"",1,"")
AQ12: =IF(P12="材質劣化",2,IF(P12="漏水",3,1)) -> 1
AQ13: =IF(P13="材質劣化",2,IF(P13="漏水",3,1)) -> 1
AQ14: =IF(P14="材質劣化",2,IF(P14="漏水",3,1)) -> 1
AQ15: =IF(P15="材質劣化",2,IF(P15="漏水",3,1)) -> 1
AQ16: =IF(P16="材質劣化",2,IF(P16="漏水",3,1)) -> 1
AQ17: =IF(P17="材質劣化",2,IF(P17="漏水",3,1)) -> 1
AQ18: =IF(P18="材質劣化",2,IF(P18="漏水",3,1)) -> 1
AQ19: =IF(P19="材質劣化",2,IF(P19="漏水",3,1)) -> 1
AQ20: =IF(P20="材質劣化",2,IF(P20="漏水",3,1)) -> 1
AQ21: =IF(P21="材質劣化",2,IF(P21="漏水",3,1)) -> 1
AQ22: =IF(P22="材質劣化",2,IF(P22="漏水",3,1)) -> 1
AQ23: =IF(P23="材質劣化",2,IF(P23="漏水",3,1)) -> 1
... AQ27: =IF(P27="材質劣化",2,IF(P27="漏水",3,1)) -> 1
AQ28: =IF(P30="材質劣化",2,IF(P30="漏水",3,1)) -> 1
AQ29: =IF(P34="材質劣化",2,IF(P34="漏水",3,1)) -> 1
AQ30: =IF(P30="材質劣化",2,IF(P30="漏水",3,1)) -> 1
AQ31: =IF(P33="材質劣化",2,IF(P33="漏水",3,1)) -> 1
AQ32: =IF(P37="材質劣化",2,IF(P37="漏水",3,1)) -> 1
AQ33: =IF(P33="材質劣化",2,IF(P33="漏水",3,1)) -> 1
AQ34: =IF(P36="材質劣化",2,IF(P36="漏水",3,1)) -> 1
K35: 集計 判定 診断 | L35: 変状の発生規模合計(㎡) | Y35: － | AC35: =SUM(AC11:AC34) -> 0 | AD35: =SUM(AD11:AD34) -> 0 | AE35: =SUM(AE11:AE34) -> 0 | AF35: =SUM(AF11:AF34) -> 0 | AG35: =SUM(AG11:AG34) -> 0 | AH35: =SUM(AH11:AH34) -> 0 | AI35: =SUM(AI11:AI34) -> 0 | AJ35: =SUM(AJ11:AJ34) -> 0 | AK35: 覆工スパン単位の 健全性の 診断の区分 | AM35: Ⅰ
L36: 対策区分の 判定結果 | O36: 対策区分毎の変状数注3 | Y36: Ⅳ | Z36: Ⅲ | AA36: Ⅱa | AB36: Ⅱb | AC36: Ⅳ | AD36: Ⅲ | AE36: Ⅱa | AF36: Ⅱb | AG36: Ⅳ | AH36: Ⅲ | AI36: Ⅱa | AJ36: Ⅱb
Y37: =IF(COUNTIF(Y11:Y34,"〇")>0,"1",0) -> 0 | Z37: =IF(COUNTIF(Z11:Z34,"〇")>0,"1",0) -> 0 | AA37: =IF(COUNTIF(AA11:AA34,"〇")>0,"1",0) -> 0 | AB37: =IF(COUNTIF(AB11:AB34,"〇")>0,"1",0) -> 0 | AC37: =COUNTA(AC11:AC34) -> 0 | AD37: =COUNTA(AD11:AD34) -> 0 | AE37: =COUNTA(AE11:AE34) -> 0 | AF37: =COUNTA(AF11:AF34) -> 0 | AG37: =COUNTA(AG11:AG34) -> 0 | AH37: =COUNTA(AH11:AH34) -> 0 | AI37: =COUNTA(AI11:AI34) -> 0 | AJ37: =COUNTA(AJ11:AJ34) -> 0
K39: 所見
K43: 注1：誤記入防止のため、当該変状区分以外のセルは灰色表示とすること。
K44: 注2：応急措置を実施した場合は、その詳細を備考に記載すること。
K45: 注3：外力は覆工スパン単位、材質劣化、漏水は変状単位とすること。
B46: （以下、印刷不要）
B47: ※1：本シートは作成洩れのないよう、変状が無くても全スパン分を作成すること．また変状展開図は、様式D-2-1、様式D-2-1'と同じものを覆工スパン単位で拡大し掲載すること。
B48: ※2：変状番号は、様式D-1-1で記入した番号と整合させること。
B49: ※3：対策区分毎の変状発生規模は、様式D-1-1に記載した面積を記入すること（ただし外力はスパン単位で評価するため変状の有無の欄には面積でなく○を記入し、備考欄に状況を記入）。
B50: ※4：本様式は覆工スパン毎に作成すること。
B51: ※5：変状数が多い場合は、適時、表の行を増やして覆工スパン毎に1枚のシートに収めること。また、1スパン１シートとし、スパンに合わせてシートを追加すること。
B52: ※6：対策区分毎の変状の発生範囲の規模とは，対策を行う際に参考となる変状の長さや面積であり，変状を包含する長さや面積とする。
B53: ※7：対策範囲を示す発生範囲の規模を面積で記入することが妥当ではない変状は、発生範囲の規模の欄に○を記入するとともに、備考に内容を記入すること。

Sheet 様式D-3_S015
AU1: 様式F用→ | AV1: 覆工スパン | AY1: 変 状 数 | BK1: 変 状 規 模
AV2: 番号 | AW2: 延長 （ｍ） | AX2: 健全性の診断の 区分 | AY2: 対策区分の判定 | BK2: 覆工スパン長（ｍ） | BO2: 変状の発生範囲の規模（㎡）
B3: ■定期点検記録様式 覆工スパン別変状詳細展開図 【様式D-3】 | AY3: 外力 | BC3: 材質劣化 | BG3: 漏水 | BK3: 外力 注2 | BO3: 材質劣化 | BS3: 漏水
B4: フリガナ | E4: ='様式A-1'!$D$3 -> ナカヤマトンネル | K4: 路線名 | N4: ='様式A-1'!$J$3 -> 一般県道藤生停車場錦帯橋線 | T4: 定期点検実施者 | Y4: =+'様式B (1)'!$S$3 -> 復建調査設計株式会社 | AG4: 定期点検年月日 | AK4: =+'様式B (1)'!$P$2 -> 45861 | AY4: Ⅳ | AZ4: Ⅲ | BA4: Ⅱa | BB4: Ⅱb | BC4: Ⅳ | BD4: Ⅲ | BE4: Ⅱa | BF4: Ⅱb | BG4: Ⅳ | BH4: Ⅲ | BI4: Ⅱa | BJ4: Ⅱb | BK4: Ⅳ | BL4: Ⅲ | BM4: Ⅱa | BN4: Ⅱb | BO4: Ⅳ | BP4: Ⅲ | BQ4: Ⅱa | BR4: Ⅱb | BS4: Ⅳ | BT4: Ⅲ | BU4: Ⅱa | BV4: Ⅱb
B5: 名 称 | E5: ='様式A-1'!$D$4 -> 中山トンネル | K5: 管理者名 | N5: ='様式A-1'!$R$3 -> 山口県岩国土木建築事務所 | Y5: =+'様式B (1)'!$S$4 -> 小笠原洋 | AV5: =N7 -> S015 | AW5: =R7 -> 10.5 | AX5: =AM35 -> Ⅰ | AY5: =Y37 -> 0 | AZ5: =Z37 -> 0 | BA5: =AA37 -> 0 | BB5: =AB37 -> 0 | BC5: =AC37 -> 0 | BD5: =AD37 -> 0 | BE5: =AE37 -> 0 | BF5: =AF37 -> 0 | ... BJ5: =AJ37 -> 0 | BK5: =IF(Y37>0,R7,"") | BL5: =IF(Y37>0,"",IF(Z37>0,R7,"")) | BM5: =IF(Y37+Z37>0,"",IF(AA37>0,R7,"")) | BN5: =IF(Y37+Z37+AA37>0,"",IF(AB37>0,R7,"")) | BO5: =AC35 -> 0 | BP5: =AD35 -> 0 | BQ5: =AE35 -> 0 | BR5: =AF35 -> 0 | BS5: =AG35 -> 0 | BT5: =AH35 -> 0 | BU5: =AI35 -> 0 | BV5: =AJ35 -> 0
B6: スパン別変状展開図 | K6: 【健全性判定集計表】
K7: スパン番号 | N7: S015 | P7: スパン長 | R7: 10.5 | U7: 前回定期点検時の判定 | W7: 応急措置前の判定 | Y7: 対策区分毎の 変状の有無 | AC7: 対策区分毎の変状の発生範囲の規模(㎡) | AK7: 備考注2
K8: 変状番号 | L8: 対象箇所 | N8: 部位区分 | P8: 変状区分 | R8: 変状種類
Y9: 外力注1 | AC9: 材質劣化注1 | AG9: 漏水注1
Y10: Ⅳ | Z10: Ⅲ | AA10: Ⅱa | AB10: Ⅱb | AC10: Ⅳ | AD10: Ⅲ | AE10: Ⅱa | AF10: Ⅱb | AG10: Ⅳ | AH10: Ⅲ | AI10: Ⅱa | AJ10: Ⅱb
AQ11: =IF(P11="材質劣化",2,IF(P11="漏水",3,1)) -> 1 | AS11: =IF(Y11<>"",1,"")
AQ12: =IF(P12="材質劣化",2,IF(P12="漏水",3,1)) -> 1
AQ13: =IF(P13="材質劣化",2,IF(P13="漏水",3,1)) -> 1
AQ14: =IF(P14="材質劣化",2,IF(P14="漏水",3,1)) -> 1
AQ15: =IF(P15="材質劣化",2,IF(P15="漏水",3,1)) -> 1
AQ16: =IF(P16="材質劣化",2,IF(P16="漏水",3,1)) -> 1
AQ17: =IF(P17="材質劣化",2,IF(P17="漏水",3,1)) -> 1
AQ18: =IF(P18="材質劣化",2,IF(P18="漏水",3,1)) -> 1
AQ19: =IF(P19="材質劣化",2,IF(P19="漏水",3,1)) -> 1
AQ20: =IF(P20="材質劣化",2,IF(P20="漏水",3,1)) -> 1
AQ21: =IF(P21="材質劣化",2,IF(P21="漏水",3,1)) -> 1
AQ22: =IF(P22="材質劣化",2,IF(P22="漏水",3,1)) -> 1
AQ23: =IF(P23="材質劣化",2,IF(P23="漏水",3,1)) -> 1
... AQ27: =IF(P27="材質劣化",2,IF(P27="漏水",3,1)) -> 1
AQ28: =IF(P30="材質劣化",2,IF(P30="漏水",3,1)) -> 1
AQ29: =IF(P34="材質劣化",2,IF(P34="漏水",3,1)) -> 1
AQ30: =IF(P30="材質劣化",2,IF(P30="漏水",3,1)) -> 1
AQ31: =IF(P33="材質劣化",2,IF(P33="漏水",3,1)) -> 1
AQ32: =IF(P37="材質劣化",2,IF(P37="漏水",3,1)) -> 1
AQ33: =IF(P33="材質劣化",2,IF(P33="漏水",3,1)) -> 1
AQ34: =IF(P36="材質劣化",2,IF(P36="漏水",3,1)) -> 1
K35: 集計 判定 診断 | L35: 変状の発生規模合計(㎡) | Y35: － | AC35: =SUM(AC11:AC34) -> 0 | AD35: =SUM(AD11:AD34) -> 0 | AE35: =SUM(AE11:AE34) -> 0 | AF35: =SUM(AF11:AF34) -> 0 | AG35: =SUM(AG11:AG34) -> 0 | AH35: =SUM(AH11:AH34) -> 0 | AI35: =SUM(AI11:AI34) -> 0 | AJ35: =SUM(AJ11:AJ34) -> 0 | AK35: 覆工スパン単位の 健全性の 診断の区分 | AM35: Ⅰ
L36: 対策区分の 判定結果 | O36: 対策区分毎の変状数注3 | Y36: Ⅳ | Z36: Ⅲ | AA36: Ⅱa | AB36: Ⅱb | AC36: Ⅳ | AD36: Ⅲ | AE36: Ⅱa | AF36: Ⅱb | AG36: Ⅳ | AH36: Ⅲ | AI36: Ⅱa | AJ36: Ⅱb
Y37: =IF(COUNTIF(Y11:Y34,"〇")>0,"1",0) -> 0 | Z37: =IF(COUNTIF(Z11:Z34,"〇")>0,"1",0) -> 0 | AA37: =IF(COUNTIF(AA11:AA34,"〇")>0,"1",0) -> 0 | AB37: =IF(COUNTIF(AB11:AB34,"〇")>0,"1",0) -> 0 | AC37: =COUNTA(AC11:AC34) -> 0 | AD37: =COUNTA(AD11:AD34) -> 0 | AE37: =COUNTA(AE11:AE34) -> 0 | AF37: =COUNTA(AF11:AF34) -> 0 | AG37: =COUNTA(AG11:AG34) -> 0 | AH37: =COUNTA(AH11:AH34) -> 0 | AI37: =COUNTA(AI11:AI34) -> 0 | AJ37: =COUNTA(AJ11:AJ34) -> 0
K39: 所見
K43: 注1：誤記入防止のため、当該変状区分以外のセルは灰色表示とすること。
K44: 注2：応急措置を実施した場合は、その詳細を備考に記載すること。
K45: 注3：外力は覆工スパン単位、材質劣化、漏水は変状単位とすること。
B46: （以下、印刷不要）
B47: ※1：本シートは作成洩れのないよう、変状が無くても全スパン分を作成すること．また変状展開図は、様式D-2-1、様式D-2-1'と同じものを覆工スパン単位で拡大し掲載すること。
B48: ※2：変状番号は、様式D-1-1で記入した番号と整合させること。
B49: ※3：対策区分毎の変状発生規模は、様式D-1-1に記載した面積を記入すること（ただし外力はスパン単位で評価するため変状の有無の欄には面積でなく○を記入し、備考欄に状況を記入）。
B50: ※4：本様式は覆工スパン毎に作成すること。
B51: ※5：変状数が多い場合は、適時、表の行を増やして覆工スパン毎に1枚のシートに収めること。また、1スパン１シートとし、スパンに合わせてシートを追加すること。
B52: ※6：対策区分毎の変状の発生範囲の規模とは，対策を行う際に参考となる変状の長さや面積であり，変状を包含する長さや面積とする。
B53: ※7：対策範囲を示す発生範囲の規模を面積で記入することが妥当ではない変状は、発生範囲の規模の欄に○を記入するとともに、備考に内容を記入すること。

Sheet 様式D-3_S016
AU1: 様式F用→ | AV1: 覆工スパン | AY1: 変 状 数 | BK1: 変 状 規 模
AV2: 番号 | AW2: 延長 （ｍ） | AX2: 健全性の診断の 区分 | AY2: 対策区分の判定 | BK2: 覆工スパン長（ｍ） | BO2: 変状の発生範囲の規模（㎡）
B3: ■定期点検記録様式 覆工スパン別変状詳細展開図 【様式D-3】 | AY3: 外力 | BC3: 材質劣化 | BG3: 漏水 | BK3: 外力 注2 | BO3: 材質劣化 | BS3: 漏水
B4: フリガナ | E4: ='様式A-1'!$D$3 -> ナカヤマトンネル | K4: 路線名 | N4: ='様式A-1'!$J$3 -> 一般県道藤生停車場錦帯橋線 | T4: 定期点検実施者 | Y4: =+'様式B (1)'!$S$3 -> 復建調査設計株式会社 | AG4: 定期点検年月日 | AK4: =+'様式B (1)'!$P$2 -> 45861 | AY4: Ⅳ | AZ4: Ⅲ | BA4: Ⅱa | BB4: Ⅱb | BC4: Ⅳ | BD4: Ⅲ | BE4: Ⅱa | BF4: Ⅱb | BG4: Ⅳ | BH4: Ⅲ | BI4: Ⅱa | BJ4: Ⅱb | BK4: Ⅳ | BL4: Ⅲ | BM4: Ⅱa | BN4: Ⅱb | BO4: Ⅳ | BP4: Ⅲ | BQ4: Ⅱa | BR4: Ⅱb | BS4: Ⅳ | BT4: Ⅲ | BU4: Ⅱa | BV4: Ⅱb
B5: 名 称 | E5: ='様式A-1'!$D$4 -> 中山トンネル | K5: 管理者名 | N5: ='様式A-1'!$R$3 -> 山口県岩国土木建築事務所 | Y5: =+'様式B (1)'!$S$4 -> 小笠原洋 | AV5: =N7 -> S016 | AW5: =R7 -> 10.5 | AX5: =AM35 -> Ⅰ | AY5: =Y37 -> 0 | AZ5: =Z37 -> 0 | BA5: =AA37 -> 0 | BB5: =AB37 -> 0 | BC5: =AC37 -> 0 | BD5: =AD37 -> 0 | BE5: =AE37 -> 0 | BF5: =AF37 -> 0 | ... BJ5: =AJ37 -> 0 | BK5: =IF(Y37>0,R7,"") | BL5: =IF(Y37>0,"",IF(Z37>0,R7,"")) | BM5: =IF(Y37+Z37>0,"",IF(AA37>0,R7,"")) | BN5: =IF(Y37+Z37+AA37>0,"",IF(AB37>0,R7,"")) | BO5: =AC35 -> 0 | BP5: =AD35 -> 0 | BQ5: =AE35 -> 0 | BR5: =AF35 -> 0 | BS5: =AG35 -> 0 | BT5: =AH35 -> 0 | BU5: =AI35 -> 0 | BV5: =AJ35 -> 0
B6: スパン別変状展開図 | K6: 【健全性判定集計表】
K7: スパン番号 | N7: S016 | P7: スパン長 | R7: 10.5 | U7: 前回定期点検時の判定 | W7: 応急措置前の判定 | Y7: 対策区分毎の 変状の有無 | AC7: 対策区分毎の変状の発生範囲の規模(㎡) | AK7: 備考注2
K8: 変状番号 | L8: 対象箇所 | N8: 部位区分 | P8: 変状区分 | R8: 変状種類
Y9: 外力注1 | AC9: 材質劣化注1 | AG9: 漏水注1
Y10: Ⅳ | Z10: Ⅲ | AA10: Ⅱa | AB10: Ⅱb | AC10: Ⅳ | AD10: Ⅲ | AE10: Ⅱa | AF10: Ⅱb | AG10: Ⅳ | AH10: Ⅲ | AI10: Ⅱa | AJ10: Ⅱb
AQ11: =IF(P11="材質劣化",2,IF(P11="漏水",3,1)) -> 1 | AS11: =IF(Y11<>"",1,"")
AQ12: =IF(P12="材質劣化",2,IF(P12="漏水",3,1)) -> 1
AQ13: =IF(P13="材質劣化",2,IF(P13="漏水",3,1)) -> 1
AQ14: =IF(P14="材質劣化",2,IF(P14="漏水",3,1)) -> 1
AQ15: =IF(P15="材質劣化",2,IF(P15="漏水",3,1)) -> 1
AQ16: =IF(P16="材質劣化",2,IF(P16="漏水",3,1)) -> 1
AQ17: =IF(P17="材質劣化",2,IF(P17="漏水",3,1)) -> 1
AQ18: =IF(P18="材質劣化",2,IF(P18="漏水",3,1)) -> 1
AQ19: =IF(P19="材質劣化",2,IF(P19="漏水",3,1)) -> 1
AQ20: =IF(P20="材質劣化",2,IF(P20="漏水",3,1)) -> 1
AQ21: =IF(P21="材質劣化",2,IF(P21="漏水",3,1)) -> 1
AQ22: =IF(P22="材質劣化",2,IF(P22="漏水",3,1)) -> 1
AQ23: =IF(P23="材質劣化",2,IF(P23="漏水",3,1)) -> 1
... AQ27: =IF(P27="材質劣化",2,IF(P27="漏水",3,1)) -> 1
AQ28: =IF(P30="材質劣化",2,IF(P30="漏水",3,1)) -> 1
AQ29: =IF(P34="材質劣化",2,IF(P34="漏水",3,1)) -> 1
AQ30: =IF(P30="材質劣化",2,IF(P30="漏水",3,1)) -> 1
AQ31: =IF(P33="材質劣化",2,IF(P33="漏水",3,1)) -> 1
AQ32: =IF(P37="材質劣化",2,IF(P37="漏水",3,1)) -> 1
AQ33: =IF(P33="材質劣化",2,IF(P33="漏水",3,1)) -> 1
AQ34: =IF(P36="材質劣化",2,IF(P36="漏水",3,1)) -> 1
K35: 集計 判定 診断 | L35: 変状の発生規模合計(㎡) | Y35: － | AC35: =SUM(AC11:AC34) -> 0 | AD35: =SUM(AD11:AD34) -> 0 | AE35: =SUM(AE11:AE34) -> 0 | AF35: =SUM(AF11:AF34) -> 0 | AG35: =SUM(AG11:AG34) -> 0 | AH35: =SUM(AH11:AH34) -> 0 | AI35: =SUM(AI11:AI34) -> 0 | AJ35: =SUM(AJ11:AJ34) -> 0 | AK35: 覆工スパン単位の 健全性の 診断の区分 | AM35: Ⅰ
L36: 対策区分の 判定結果 | O36: 対策区分毎の変状数注3 | Y36: Ⅳ | Z36: Ⅲ | AA36: Ⅱa | AB36: Ⅱb | AC36: Ⅳ | AD36: Ⅲ | AE36: Ⅱa | AF36: Ⅱb | AG36: Ⅳ | AH36: Ⅲ | AI36: Ⅱa | AJ36: Ⅱb
Y37: =IF(COUNTIF(Y11:Y34,"〇")>0,"1",0) -> 0 | Z37: =IF(COUNTIF(Z11:Z34,"〇")>0,"1",0) -> 0 | AA37: =IF(COUNTIF(AA11:AA34,"〇")>0,"1",0) -> 0 | AB37: =IF(COUNTIF(AB11:AB34,"〇")>0,"1",0) -> 0 | AC37: =COUNTA(AC11:AC34) -> 0 | AD37: =COUNTA(AD11:AD34) -> 0 | AE37: =COUNTA(AE11:AE34) -> 0 | AF37: =COUNTA(AF11:AF34) -> 0 | AG37: =COUNTA(AG11:AG34) -> 0 | AH37: =COUNTA(AH11:AH34) -> 0 | AI37: =COUNTA(AI11:AI34) -> 0 | AJ37: =COUNTA(AJ11:AJ34) -> 0
K39: 所見
K43: 注1：誤記入防止のため、当該変状区分以外のセルは灰色表示とすること。
K44: 注2：応急措置を実施した場合は、その詳細を備考に記載すること。
K45: 注3：外力は覆工スパン単位、材質劣化、漏水は変状単位とすること。
B46: （以下、印刷不要）
B47: ※1：本シートは作成洩れのないよう、変状が無くても全スパン分を作成すること．また変状展開図は、様式D-2-1、様式D-2-1'と同じものを覆工スパン単位で拡大し掲載すること。
B48: ※2：変状番号は、様式D-1-1で記入した番号と整合させること。
B49: ※3：対策区分毎の変状発生規模は、様式D-1-1に記載した面積を記入すること（ただし外力はスパン単位で評価するため変状の有無の欄には面積でなく○を記入し、備考欄に状況を記入）。
B50: ※4：本様式は覆工スパン毎に作成すること。
B51: ※5：変状数が多い場合は、適時、表の行を増やして覆工スパン毎に1枚のシートに収めること。また、1スパン１シートとし、スパンに合わせてシートを追加すること。
B52: ※6：対策区分毎の変状の発生範囲の規模とは，対策を行う際に参考となる変状の長さや面積であり，変状を包含する長さや面積とする。
B53: ※7：対策範囲を示す発生範囲の規模を面積で記入することが妥当ではない変状は、発生範囲の規模の欄に○を記入するとともに、備考に内容を記入すること。

Sheet 様式D-3_S017
AU1: 様式F用→ | AV1: 覆工スパン | AY1: 変 状 数 | BK1: 変 状 規 模
AV2: 番号 | AW2: 延長 （ｍ） | AX2: 健全性の診断の 区分 | AY2: 対策区分の判定 | BK2: 覆工スパン長（ｍ） | BO2: 変状の発生範囲の規模（㎡）
B3: ■定期点検記録様式 覆工スパン別変状詳細展開図 【様式D-3】 | AY3: 外力 | BC3: 材質劣化 | BG3: 漏水 | BK3: 外力 注2 | BO3: 材質劣化 | BS3: 漏水
B4: フリガナ | E4: ='様式A-1'!$D$3 -> ナカヤマトンネル | K4: 路線名 | N4: ='様式A-1'!$J$3 -> 一般県道藤生停車場錦帯橋線 | T4: 定期点検実施者 | Y4: =+'様式B (1)'!$S$3 -> 復建調査設計株式会社 | AG4: 定期点検年月日 | AK4: =+'様式B (1)'!$P$2 -> 45861 | AY4: Ⅳ | AZ4: Ⅲ | BA4: Ⅱa | BB4: Ⅱb | BC4: Ⅳ | BD4: Ⅲ | BE4: Ⅱa | BF4: Ⅱb | BG4: Ⅳ | BH4: Ⅲ | BI4: Ⅱa | BJ4: Ⅱb | BK4: Ⅳ | BL4: Ⅲ | BM4: Ⅱa | BN4: Ⅱb | BO4: Ⅳ | BP4: Ⅲ | BQ4: Ⅱa | BR4: Ⅱb | BS4: Ⅳ | BT4: Ⅲ | BU4: Ⅱa | BV4: Ⅱb
B5: 名 称 | E5: ='様式A-1'!$D$4 -> 中山トンネル | K5: 管理者名 | N5: ='様式A-1'!$R$3 -> 山口県岩国土木建築事務所 | Y5: =+'様式B (1)'!$S$4 -> 小笠原洋 | AV5: =N7 -> S017 | AW5: =R7 -> 10.5 | AX5: =AM35 -> Ⅱ | AY5: =Y37 -> 0 | AZ5: =Z37 -> 0 | BA5: =AA37 -> 0 | BB5: =AB37 -> 0 | BC5: =AC37 -> 0 | BD5: =AD37 -> 0 | BE5: =AE37 -> 0 | BF5: =AF37 -> 1 | ... BJ5: =AJ37 -> 0 | BK5: =IF(Y37>0,R7,"") | BL5: =IF(Y37>0,"",IF(Z37>0,R7,"")) | BM5: =IF(Y37+Z37>0,"",IF(AA37>0,R7,"")) | BN5: =IF(Y37+Z37+AA37>0,"",IF(AB37>0,R7,"")) | BO5: =AC35 -> 0 | BP5: =AD35 -> 0 | BQ5: =AE35 -> 0 | BR5: =AF35 -> 0.01 | BS5: =AG35 -> 0 | BT5: =AH35 -> 0 | BU5: =AI35 -> 0 | BV5: =AJ35 -> 0
B6: スパン別変状展開図 | K6: 【健全性判定集計表】
K7: スパン番号 | N7: S017 | P7: スパン長 | R7: 10.5 | U7: 前回定期点検時の判定 | W7: 応急措置前の判定 | Y7: 対策区分毎の 変状の有無 | AC7: 対策区分毎の変状の発生範囲の規模(㎡) | AK7: 備考注2
K8: 変状番号 | L8: 対象箇所 | N8: 部位区分 | P8: 変状区分 | R8: 変状種類
Y9: 外力注1 | AC9: 材質劣化注1 | AG9: 漏水注1
Y10: Ⅳ | Z10: Ⅲ | AA10: Ⅱa | AB10: Ⅱb | AC10: Ⅳ | AD10: Ⅲ | AE10: Ⅱa | AF10: Ⅱb | AG10: Ⅳ | AH10: Ⅲ | AI10: Ⅱa | AJ10: Ⅱb
K11: 1 | L11: 覆工 | N11: アーチ（右側） | P11: 材質劣化 | R11: 鋼材腐食 | U11: Ⅱb | W11: Ⅱb | AF11: 0.01 | AQ11: =IF(P11="材質劣化",2,IF(P11="漏水",3,1)) -> 2 | AS11: =IF(Y11<>"",1,"")
AQ12: =IF(P12="材質劣化",2,IF(P12="漏水",3,1)) -> 1
AQ13: =IF(P13="材質劣化",2,IF(P13="漏水",3,1)) -> 1
AQ14: =IF(P14="材質劣化",2,IF(P14="漏水",3,1)) -> 1
AQ15: =IF(P15="材質劣化",2,IF(P15="漏水",3,1)) -> 1
AQ16: =IF(P16="材質劣化",2,IF(P16="漏水",3,1)) -> 1
AQ17: =IF(P17="材質劣化",2,IF(P17="漏水",3,1)) -> 1
AQ18: =IF(P18="材質劣化",2,IF(P18="漏水",3,1)) -> 1
AQ19: =IF(P19="材質劣化",2,IF(P19="漏水",3,1)) -> 1
AQ20: =IF(P20="材質劣化",2,IF(P20="漏水",3,1)) -> 1
AQ21: =IF(P21="材質劣化",2,IF(P21="漏水",3,1)) -> 1
AQ22: =IF(P22="材質劣化",2,IF(P22="漏水",3,1)) -> 1
AQ23: =IF(P23="材質劣化",2,IF(P23="漏水",3,1)) -> 1
... AQ27: =IF(P27="材質劣化",2,IF(P27="漏水",3,1)) -> 1
AQ28: =IF(P30="材質劣化",2,IF(P30="漏水",3,1)) -> 1
AQ29: =IF(P34="材質劣化",2,IF(P34="漏水",3,1)) -> 1
AQ30: =IF(P30="材質劣化",2,IF(P30="漏水",3,1)) -> 1
AQ31: =IF(P33="材質劣化",2,IF(P33="漏水",3,1)) -> 1
AQ32: =IF(P37="材質劣化",2,IF(P37="漏水",3,1)) -> 1
AQ33: =IF(P33="材質劣化",2,IF(P33="漏水",3,1)) -> 1
AQ34: =IF(P36="材質劣化",2,IF(P36="漏水",3,1)) -> 1
K35: 集計 判定 診断 | L35: 変状の発生規模合計(㎡) | Y35: － | AC35: =SUM(AC11:AC34) -> 0 | AD35: =SUM(AD11:AD34) -> 0 | AE35: =SUM(AE11:AE34) -> 0 | AF35: =SUM(AF11:AF34) -> 0.01 | AG35: =SUM(AG11:AG34) -> 0 | AH35: =SUM(AH11:AH34) -> 0 | AI35: =SUM(AI11:AI34) -> 0 | AJ35: =SUM(AJ11:AJ34) -> 0 | AK35: 覆工スパン単位の 健全性の 診断の区分 | AM35: Ⅱ
L36: 対策区分の 判定結果 | O36: 対策区分毎の変状数注3 | Y36: Ⅳ | Z36: Ⅲ | AA36: Ⅱa | AB36: Ⅱb | AC36: Ⅳ | AD36: Ⅲ | AE36: Ⅱa | AF36: Ⅱb | AG36: Ⅳ | AH36: Ⅲ | AI36: Ⅱa | AJ36: Ⅱb
Y37: =IF(COUNTIF(Y11:Y34,"〇")>0,"1",0) -> 0 | Z37: =IF(COUNTIF(Z11:Z34,"〇")>0,"1",0) -> 0 | AA37: =IF(COUNTIF(AA11:AA34,"〇")>0,"1",0) -> 0 | AB37: =IF(COUNTIF(AB11:AB34,"〇")>0,"1",0) -> 0 | AC37: =COUNTA(AC11:AC34) -> 0 | AD37: =COUNTA(AD11:AD34) -> 0 | AE37: =COUNTA(AE11:AE34) -> 0 | AF37: =COUNTA(AF11:AF34) -> 1 | AG37: =COUNTA(AG11:AG34) -> 0 | AH37: =COUNTA(AH11:AH34) -> 0 | AI37: =COUNTA(AI11:AI34) -> 0 | AJ37: =COUNTA(AJ11:AJ34) -> 0
K39: 所見
K43: 注1：誤記入防止のため、当該変状区分以外のセルは灰色表示とすること。
K44: 注2：応急措置を実施した場合は、その詳細を備考に記載すること。
K45: 注3：外力は覆工スパン単位、材質劣化、漏水は変状単位とすること。
B46: （以下、印刷不要）
B47: ※1：本シートは作成洩れのないよう、変状が無くても全スパン分を作成すること．また変状展開図は、様式D-2-1、様式D-2-1'と同じものを覆工スパン単位で拡大し掲載すること。
B48: ※2：変状番号は、様式D-1-1で記入した番号と整合させること。
B49: ※3：対策区分毎の変状発生規模は、様式D-1-1に記載した面積を記入すること（ただし外力はスパン単位で評価するため変状の有無の欄には面積でなく○を記入し、備考欄に状況を記入）。
B50: ※4：本様式は覆工スパン毎に作成すること。
B51: ※5：変状数が多い場合は、適時、表の行を増やして覆工スパン毎に1枚のシートに収めること。また、1スパン１シートとし、スパンに合わせてシートを追加すること。
B52: ※6：対策区分毎の変状の発生範囲の規模とは，対策を行う際に参考となる変状の長さや面積であり，変状を包含する長さや面積とする。
B53: ※7：対策範囲を示す発生範囲の規模を面積で記入することが妥当ではない変状は、発生範囲の規模の欄に○を記入するとともに、備考に内容を記入すること。

Sheet 様式D-3_S018
AU1: 様式F用→ | AV1: 覆工スパン | AY1: 変 状 数 | BK1: 変 状 規 模
AV2: 番号 | AW2: 延長 （ｍ） | AX2: 健全性の診断の 区分 | AY2: 対策区分の判定 | BK2: 覆工スパン長（ｍ） | BO2: 変状の発生範囲の規模（㎡）
B3: ■定期点検記録様式 覆工スパン別変状詳細展開図 【様式D-3】 | AY3: 外力 | BC3: 材質劣化 | BG3: 漏水 | BK3: 外力 注2 | BO3: 材質劣化 | BS3: 漏水
B4: フリガナ | E4: ='様式A-1'!$D$3 -> ナカヤマトンネル | K4: 路線名 | N4: ='様式A-1'!$J$3 -> 一般県道藤生停車場錦帯橋線 | T4: 定期点検実施者 | Y4: =+'様式B (1)'!$S$3 -> 復建調査設計株式会社 | AG4: 定期点検年月日 | AK4: =+'様式B (1)'!$P$2 -> 45861 | AY4: Ⅳ | AZ4: Ⅲ | BA4: Ⅱa | BB4: Ⅱb | BC4: Ⅳ | BD4: Ⅲ | BE4: Ⅱa | BF4: Ⅱb | BG4: Ⅳ | BH4: Ⅲ | BI4: Ⅱa | BJ4: Ⅱb | BK4: Ⅳ | BL4: Ⅲ | BM4: Ⅱa | BN4: Ⅱb | BO4: Ⅳ | BP4: Ⅲ | BQ4: Ⅱa | BR4: Ⅱb | BS4: Ⅳ | BT4: Ⅲ | BU4: Ⅱa | BV4: Ⅱb
B5: 名 称 | E5: ='様式A-1'!$D$4 -> 中山トンネル | K5: 管理者名 | N5: ='様式A-1'!$R$3 -> 山口県岩国土木建築事務所 | Y5: =+'様式B (1)'!$S$4 -> 小笠原洋 | AV5: =N7 -> S018 | AW5: =R7 -> 10.5 | AX5: =AM35 -> Ⅰ | AY5: =Y37 -> 0 | AZ5: =Z37 -> 0 | BA5: =AA37 -> 0 | BB5: =AB37 -> 0 | BC5: =AC37 -> 0 | BD5: =AD37 -> 0 | BE5: =AE37 -> 0 | BF5: =AF37 -> 0 | ... BJ5: =AJ37 -> 0 | BK5: =IF(Y37>0,R7,"") | BL5: =IF(Y37>0,"",IF(Z37>0,R7,"")) | BM5: =IF(Y37+Z37>0,"",IF(AA37>0,R7,"")) | BN5: =IF(Y37+Z37+AA37>0,"",IF(AB37>0,R7,"")) | BO5: =AC35 -> 0 | BP5: =AD35 -> 0 | BQ5: =AE35 -> 0 | BR5: =AF35 -> 0 | BS5: =AG35 -> 0 | BT5: =AH35 -> 0 | BU5: =AI35 -> 0 | BV5: =AJ35 -> 0
B6: スパン別変状展開図 | K6: 【健全性判定集計表】
K7: スパン番号 | N7: S018 | P7: スパン長 | R7: 10.5 | U7: 前回定期点検時の判定 | W7: 応急措置前の判定 | Y7: 対策区分毎の 変状の有無 | AC7: 対策区分毎の変状の発生範囲の規模(㎡) | AK7: 備考注2
K8: 変状番号 | L8: 対象箇所 | N8: 部位区分 | P8: 変状区分 | R8: 変状種類
Y9: 外力注1 | AC9: 材質劣化注1 | AG9: 漏水注1
Y10: Ⅳ | Z10: Ⅲ | AA10: Ⅱa | AB10: Ⅱb | AC10: Ⅳ | AD10: Ⅲ | AE10: Ⅱa | AF10: Ⅱb | AG10: Ⅳ | AH10: Ⅲ | AI10: Ⅱa | AJ10: Ⅱb
AQ11: =IF(P11="材質劣化",2,IF(P11="漏水",3,1)) -> 1 | AS11: =IF(Y11<>"",1,"")
AQ12: =IF(P12="材質劣化",2,IF(P12="漏水",3,1)) -> 1
AQ13: =IF(P13="材質劣化",2,IF(P13="漏水",3,1)) -> 1
AQ14: =IF(P14="材質劣化",2,IF(P14="漏水",3,1)) -> 1
AQ15: =IF(P15="材質劣化",2,IF(P15="漏水",3,1)) -> 1
AQ16: =IF(P16="材質劣化",2,IF(P16="漏水",3,1)) -> 1
AQ17: =IF(P17="材質劣化",2,IF(P17="漏水",3,1)) -> 1
AQ18: =IF(P18="材質劣化",2,IF(P18="漏水",3,1)) -> 1
AQ19: =IF(P19="材質劣化",2,IF(P19="漏水",3,1)) -> 1
AQ20: =IF(P20="材質劣化",2,IF(P20="漏水",3,1)) -> 1
AQ21: =IF(P21="材質劣化",2,IF(P21="漏水",3,1)) -> 1
AQ22: =IF(P22="材質劣化",2,IF(P22="漏水",3,1)) -> 1
AQ23: =IF(P23="材質劣化",2,IF(P23="漏水",3,1)) -> 1
... AQ27: =IF(P27="材質劣化",2,IF(P27="漏水",3,1)) -> 1
AQ28: =IF(P30="材質劣化",2,IF(P30="漏水",3,1)) -> 1
AQ29: =IF(P34="材質劣化",2,IF(P34="漏水",3,1)) -> 1
AQ30: =IF(P30="材質劣化",2,IF(P30="漏水",3,1)) -> 1
AQ31: =IF(P33="材質劣化",2,IF(P33="漏水",3,1)) -> 1
AQ32: =IF(P37="材質劣化",2,IF(P37="漏水",3,1)) -> 1
AQ33: =IF(P33="材質劣化",2,IF(P33="漏水",3,1)) -> 1
AQ34: =IF(P36="材質劣化",2,IF(P36="漏水",3,1)) -> 1
K35: 集計 判定 診断 | L35: 変状の発生規模合計(㎡) | Y35: － | AC35: =SUM(AC11:AC34) -> 0 | AD35: =SUM(AD11:AD34) -> 0 | AE35: =SUM(AE11:AE34) -> 0 | AF35: =SUM(AF11:AF34) -> 0 | AG35: =SUM(AG11:AG34) -> 0 | AH35: =SUM(AH11:AH34) -> 0 | AI35: =SUM(AI11:AI34) -> 0 | AJ35: =SUM(AJ11:AJ34) -> 0 | AK35: 覆工スパン単位の 健全性の 診断の区分 | AM35: Ⅰ
L36: 対策区分の 判定結果 | O36: 対策区分毎の変状数注3 | Y36: Ⅳ | Z36: Ⅲ | AA36: Ⅱa | AB36: Ⅱb | AC36: Ⅳ | AD36: Ⅲ | AE36: Ⅱa | AF36: Ⅱb | AG36: Ⅳ | AH36: Ⅲ | AI36: Ⅱa | AJ36: Ⅱb
Y37: =IF(COUNTIF(Y11:Y34,"〇")>0,"1",0) -> 0 | Z37: =IF(COUNTIF(Z11:Z34,"〇")>0,"1",0) -> 0 | AA37: =IF(COUNTIF(AA11:AA34,"〇")>0,"1",0) -> 0 | AB37: =IF(COUNTIF(AB11:AB34,"〇")>0,"1",0) -> 0 | AC37: =COUNTA(AC11:AC34) -> 0 | AD37: =COUNTA(AD11:AD34) -> 0 | AE37: =COUNTA(AE11:AE34) -> 0 | AF37: =COUNTA(AF11:AF34) -> 0 | AG37: =COUNTA(AG11:AG34) -> 0 | AH37: =COUNTA(AH11:AH34) -> 0 | AI37: =COUNTA(AI11:AI34) -> 0 | AJ37: =COUNTA(AJ11:AJ34) -> 0
K39: 所見
K43: 注1：誤記入防止のため、当該変状区分以外のセルは灰色表示とすること。
K44: 注2：応急措置を実施した場合は、その詳細を備考に記載すること。
K45: 注3：外力は覆工スパン単位、材質劣化、漏水は変状単位とすること。
B46: （以下、印刷不要）
B47: ※1：本シートは作成洩れのないよう、変状が無くても全スパン分を作成すること．また変状展開図は、様式D-2-1、様式D-2-1'と同じものを覆工スパン単位で拡大し掲載すること。
B48: ※2：変状番号は、様式D-1-1で記入した番号と整合させること。
B49: ※3：対策区分毎の変状発生規模は、様式D-1-1に記載した面積を記入すること（ただし外力はスパン単位で評価するため変状の有無の欄には面積でなく○を記入し、備考欄に状況を記入）。
B50: ※4：本様式は覆工スパン毎に作成すること。
B51: ※5：変状数が多い場合は、適時、表の行を増やして覆工スパン毎に1枚のシートに収めること。また、1スパン１シートとし、スパンに合わせてシートを追加すること。
B52: ※6：対策区分毎の変状の発生範囲の規模とは，対策を行う際に参考となる変状の長さや面積であり，変状を包含する長さや面積とする。
B53: ※7：対策範囲を示す発生範囲の規模を面積で記入することが妥当ではない変状は、発生範囲の規模の欄に○を記入するとともに、備考に内容を記入すること。

Sheet 様式D-3_S019
AU1: 様式F用→ | AV1: 覆工スパン | AY1: 変 状 数 | BK1: 変 状 規 模
AV2: 番号 | AW2: 延長 （ｍ） | AX2: 健全性の診断の 区分 | AY2: 対策区分の判定 | BK2: 覆工スパン長（ｍ） | BO2: 変状の発生範囲の規模（㎡）
B3: ■定期点検記録様式 覆工スパン別変状詳細展開図 【様式D-3】 | AY3: 外力 | BC3: 材質劣化 | BG3: 漏水 | BK3: 外力 注2 | BO3: 材質劣化 | BS3: 漏水
B4: フリガナ | E4: ='様式A-1'!$D$3 -> ナカヤマトンネル | K4: 路線名 | N4: ='様式A-1'!$J$3 -> 一般県道藤生停車場錦帯橋線 | T4: 定期点検実施者 | Y4: =+'様式B (1)'!$S$3 -> 復建調査設計株式会社 | AG4: 定期点検年月日 | AK4: =+'様式B (1)'!$P$2 -> 45861 | AY4: Ⅳ | AZ4: Ⅲ | BA4: Ⅱa | BB4: Ⅱb | BC4: Ⅳ | BD4: Ⅲ | BE4: Ⅱa | BF4: Ⅱb | BG4: Ⅳ | BH4: Ⅲ | BI4: Ⅱa | BJ4: Ⅱb | BK4: Ⅳ | BL4: Ⅲ | BM4: Ⅱa | BN4: Ⅱb | BO4: Ⅳ | BP4: Ⅲ | BQ4: Ⅱa | BR4: Ⅱb | BS4: Ⅳ | BT4: Ⅲ | BU4: Ⅱa | BV4: Ⅱb
B5: 名 称 | E5: ='様式A-1'!$D$4 -> 中山トンネル | K5: 管理者名 | N5: ='様式A-1'!$R$3 -> 山口県岩国土木建築事務所 | Y5: =+'様式B (1)'!$S$4 -> 小笠原洋 | AV5: =N7 -> S019 | AW5: =R7 -> 10.5 | AX5: =AM35 -> Ⅱ | AY5: =Y37 -> 0 | AZ5: =Z37 -> 0 | BA5: =AA37 -> 0 | BB5: =AB37 -> 0 | BC5: =AC37 -> 0 | BD5: =AD37 -> 0 | BE5: =AE37 -> 0 | BF5: =AF37 -> 1 | ... BJ5: =AJ37 -> 0 | BK5: =IF(Y37>0,R7,"") | BL5: =IF(Y37>0,"",IF(Z37>0,R7,"")) | BM5: =IF(Y37+Z37>0,"",IF(AA37>0,R7,"")) | BN5: =IF(Y37+Z37+AA37>0,"",IF(AB37>0,R7,"")) | BO5: =AC35 -> 0 | BP5: =AD35 -> 0 | BQ5: =AE35 -> 0 | BR5: =AF35 -> 0.17 | BS5: =AG35 -> 0 | BT5: =AH35 -> 0 | BU5: =AI35 -> 0 | BV5: =AJ35 -> 0
B6: スパン別変状展開図 | K6: 【健全性判定集計表】
K7: スパン番号 | N7: S019 | P7: スパン長 | R7: 10.5 | U7: 前回定期点検時の判定 | W7: 応急措置前の判定 | Y7: 対策区分毎の 変状の有無 | AC7: 対策区分毎の変状の発生範囲の規模(㎡) | AK7: 備考注2
K8: 変状番号 | L8: 対象箇所 | N8: 部位区分 | P8: 変状区分 | R8: 変状種類
Y9: 外力注1 | AC9: 材質劣化注1 | AG9: 漏水注1
Y10: Ⅳ | Z10: Ⅲ | AA10: Ⅱa | AB10: Ⅱb | AC10: Ⅳ | AD10: Ⅲ | AE10: Ⅱa | AF10: Ⅱb | AG10: Ⅳ | AH10: Ⅲ | AI10: Ⅱa | AJ10: Ⅱb
K11: 1 | L11: 覆工 | N11: アーチ（右側） | P11: 材質劣化 | R11: うき・はく離 | U11: Ⅱb | W11: Ⅱb | AF11: 0.17 | AK11: 閉合ひび割れ | AQ11: =IF(P11="材質劣化",2,IF(P11="漏水",3,1)) -> 2 | AS11: =IF(Y11<>"",1,"")
AQ12: =IF(P12="材質劣化",2,IF(P12="漏水",3,1)) -> 1
AQ13: =IF(P13="材質劣化",2,IF(P13="漏水",3,1)) -> 1
AQ14: =IF(P14="材質劣化",2,IF(P14="漏水",3,1)) -> 1
AQ15: =IF(P15="材質劣化",2,IF(P15="漏水",3,1)) -> 1
AQ16: =IF(P16="材質劣化",2,IF(P16="漏水",3,1)) -> 1
AQ17: =IF(P17="材質劣化",2,IF(P17="漏水",3,1)) -> 1
AQ18: =IF(P18="材質劣化",2,IF(P18="漏水",3,1)) -> 1
AQ19: =IF(P19="材質劣化",2,IF(P19="漏水",3,1)) -> 1
AQ20: =IF(P20="材質劣化",2,IF(P20="漏水",3,1)) -> 1
AQ21: =IF(P21="材質劣化",2,IF(P21="漏水",3,1)) -> 1
AQ22: =IF(P22="材質劣化",2,IF(P22="漏水",3,1)) -> 1
AQ23: =IF(P23="材質劣化",2,IF(P23="漏水",3,1)) -> 1
... AQ27: =IF(P27="材質劣化",2,IF(P27="漏水",3,1)) -> 1
AQ28: =IF(P30="材質劣化",2,IF(P30="漏水",3,1)) -> 1
AQ29: =IF(P34="材質劣化",2,IF(P34="漏水",3,1)) -> 1
AQ30: =IF(P30="材質劣化",2,IF(P30="漏水",3,1)) -> 1
AQ31: =IF(P33="材質劣化",2,IF(P33="漏水",3,1)) -> 1
AQ32: =IF(P37="材質劣化",2,IF(P37="漏水",3,1)) -> 1
AQ33: =IF(P33="材質劣化",2,IF(P33="漏水",3,1)) -> 1
AQ34: =IF(P36="材質劣化",2,IF(P36="漏水",3,1)) -> 1
K35: 集計 判定 診断 | L35: 変状の発生規模合計(㎡) | Y35: － | AC35: =SUM(AC11:AC34) -> 0 | AD35: =SUM(AD11:AD34) -> 0 | AE35: =SUM(AE11:AE34) -> 0 | AF35: =SUM(AF11:AF34) -> 0.17 | AG35: =SUM(AG11:AG34) -> 0 | AH35: =SUM(AH11:AH34) -> 0 | AI35: =SUM(AI11:AI34) -> 0 | AJ35: =SUM(AJ11:AJ34) -> 0 | AK35: 覆工スパン単位の 健全性の 診断の区分 | AM35: Ⅱ
L36: 対策区分の 判定結果 | O36: 対策区分毎の変状数注3 | Y36: Ⅳ | Z36: Ⅲ | AA36: Ⅱa | AB36: Ⅱb | AC36: Ⅳ | AD36: Ⅲ | AE36: Ⅱa | AF36: Ⅱb | AG36: Ⅳ | AH36: Ⅲ | AI36: Ⅱa | AJ36: Ⅱb
Y37: =IF(COUNTIF(Y11:Y34,"〇")>0,"1",0) -> 0 | Z37: =IF(COUNTIF(Z11:Z34,"〇")>0,"1",0) -> 0 | AA37: =IF(COUNTIF(AA11:AA34,"〇")>0,"1",0) -> 0 | AB37: =IF(COUNTIF(AB11:AB34,"〇")>0,"1",0) -> 0 | AC37: =COUNTA(AC11:AC34) -> 0 | AD37: =COUNTA(AD11:AD34) -> 0 | AE37: =COUNTA(AE11:AE34) -> 0 | AF37: =COUNTA(AF11:AF34) -> 1 | AG37: =COUNTA(AG11:AG34) -> 0 | AH37: =COUNTA(AH11:AH34) -> 0 | AI37: =COUNTA(AI11:AI34) -> 0 | AJ37: =COUNTA(AJ11:AJ34) -> 0
K39: 所見
K43: 注1：誤記入防止のため、当該変状区分以外のセルは灰色表示とすること。
K44: 注2：応急措置を実施した場合は、その詳細を備考に記載すること。
K45: 注3：外力は覆工スパン単位、材質劣化、漏水は変状単位とすること。
B46: （以下、印刷不要）
B47: ※1：本シートは作成洩れのないよう、変状が無くても全スパン分を作成すること．また変状展開図は、様式D-2-1、様式D-2-1'と同じものを覆工スパン単位で拡大し掲載すること。
B48: ※2：変状番号は、様式D-1-1で記入した番号と整合させること。
B49: ※3：対策区分毎の変状発生規模は、様式D-1-1に記載した面積を記入すること（ただし外力はスパン単位で評価するため変状の有無の欄には面積でなく○を記入し、備考欄に状況を記入）。
B50: ※4：本様式は覆工スパン毎に作成すること。
B51: ※5：変状数が多い場合は、適時、表の行を増やして覆工スパン毎に1枚のシートに収めること。また、1スパン１シートとし、スパンに合わせてシートを追加すること。
B52: ※6：対策区分毎の変状の発生範囲の規模とは，対策を行う際に参考となる変状の長さや面積であり，変状を包含する長さや面積とする。
B53: ※7：対策範囲を示す発生範囲の規模を面積で記入することが妥当ではない変状は、発生範囲の規模の欄に○を記入するとともに、備考に内容を記入すること。

Sheet 様式D-3_S020
AU1: 様式F用→ | AV1: 覆工スパン | AY1: 変 状 数 | BK1: 変 状 規 模
AV2: 番号 | AW2: 延長 （ｍ） | AX2: 健全性の診断の 区分 | AY2: 対策区分の判定 | BK2: 覆工スパン長（ｍ） | BO2: 変状の発生範囲の規模（㎡）
B3: ■定期点検記録様式 覆工スパン別変状詳細展開図 【様式D-3】 | AY3: 外力 | BC3: 材質劣化 | BG3: 漏水 | BK3: 外力 注2 | BO3: 材質劣化 | BS3: 漏水
B4: フリガナ | E4: ='様式A-1'!$D$3 -> ナカヤマトンネル | K4: 路線名 | N4: ='様式A-1'!$J$3 -> 一般県道藤生停車場錦帯橋線 | T4: 定期点検実施者 | Y4: =+'様式B (1)'!$S$3 -> 復建調査設計株式会社 | AG4: 定期点検年月日 | AK4: =+'様式B (1)'!$P$2 -> 45861 | AY4: Ⅳ | AZ4: Ⅲ | BA4: Ⅱa | BB4: Ⅱb | BC4: Ⅳ | BD4: Ⅲ | BE4: Ⅱa | BF4: Ⅱb | BG4: Ⅳ | BH4: Ⅲ | BI4: Ⅱa | BJ4: Ⅱb | BK4: Ⅳ | BL4: Ⅲ | BM4: Ⅱa | BN4: Ⅱb | BO4: Ⅳ | BP4: Ⅲ | BQ4: Ⅱa | BR4: Ⅱb | BS4: Ⅳ | BT4: Ⅲ | BU4: Ⅱa | BV4: Ⅱb
B5: 名 称 | E5: ='様式A-1'!$D$4 -> 中山トンネル | K5: 管理者名 | N5: ='様式A-1'!$R$3 -> 山口県岩国土木建築事務所 | Y5: =+'様式B (1)'!$S$4 -> 小笠原洋 | AV5: =N7 -> S020 | AW5: =R7 -> 10.45 | AX5: =AM35 -> Ⅰ | AY5: =Y37 -> 0 | AZ5: =Z37 -> 0 | BA5: =AA37 -> 0 | BB5: =AB37 -> 0 | BC5: =AC37 -> 0 | BD5: =AD37 -> 0 | BE5: =AE37 -> 0 | BF5: =AF37 -> 0 | ... BJ5: =AJ37 -> 0 | BK5: =IF(Y37>0,R7,"") | BL5: =IF(Y37>0,"",IF(Z37>0,R7,"")) | BM5: =IF(Y37+Z37>0,"",IF(AA37>0,R7,"")) | BN5: =IF(Y37+Z37+AA37>0,"",IF(AB37>0,R7,"")) | BO5: =AC35 -> 0 | BP5: =AD35 -> 0 | BQ5: =AE35 -> 0 | BR5: =AF35 -> 0 | BS5: =AG35 -> 0 | BT5: =AH35 -> 0 | BU5: =AI35 -> 0 | BV5: =AJ35 -> 0
B6: スパン別変状展開図 | K6: 【健全性判定集計表】
K7: スパン番号 | N7: S020 | P7: スパン長 | R7: 10.45 | U7: 前回定期点検時の判定 | W7: 応急措置前の判定 | Y7: 対策区分毎の 変状の有無 | AC7: 対策区分毎の変状の発生範囲の規模(㎡) | AK7: 備考注2
K8: 変状番号 | L8: 対象箇所 | N8: 部位区分 | P8: 変状区分 | R8: 変状種類
Y9: 外力注1 | AC9: 材質劣化注1 | AG9: 漏水注1
Y10: Ⅳ | Z10: Ⅲ | AA10: Ⅱa | AB10: Ⅱb | AC10: Ⅳ | AD10: Ⅲ | AE10: Ⅱa | AF10: Ⅱb | AG10: Ⅳ | AH10: Ⅲ | AI10: Ⅱa | AJ10: Ⅱb
AQ11: =IF(P11="材質劣化",2,IF(P11="漏水",3,1)) -> 1 | AS11: =IF(Y11<>"",1,"")
AQ12: =IF(P12="材質劣化",2,IF(P12="漏水",3,1)) -> 1
AQ13: =IF(P13="材質劣化",2,IF(P13="漏水",3,1)) -> 1
AQ14: =IF(P14="材質劣化",2,IF(P14="漏水",3,1)) -> 1
AQ15: =IF(P15="材質劣化",2,IF(P15="漏水",3,1)) -> 1
AQ16: =IF(P16="材質劣化",2,IF(P16="漏水",3,1)) -> 1
AQ17: =IF(P17="材質劣化",2,IF(P17="漏水",3,1)) -> 1
AQ18: =IF(P18="材質劣化",2,IF(P18="漏水",3,1)) -> 1
AQ19: =IF(P19="材質劣化",2,IF(P19="漏水",3,1)) -> 1
AQ20: =IF(P20="材質劣化",2,IF(P20="漏水",3,1)) -> 1
AQ21: =IF(P21="材質劣化",2,IF(P21="漏水",3,1)) -> 1
AQ22: =IF(P22="材質劣化",2,IF(P22="漏水",3,1)) -> 1
AQ23: =IF(P23="材質劣化",2,IF(P23="漏水",3,1)) -> 1
... AQ27: =IF(P27="材質劣化",2,IF(P27="漏水",3,1)) -> 1
AQ28: =IF(P30="材質劣化",2,IF(P30="漏水",3,1)) -> 1
AQ29: =IF(P34="材質劣化",2,IF(P34="漏水",3,1)) -> 1
AQ30: =IF(P30="材質劣化",2,IF(P30="漏水",3,1)) -> 1
AQ31: =IF(P33="材質劣化",2,IF(P33="漏水",3,1)) -> 1
AQ32: =IF(P37="材質劣化",2,IF(P37="漏水",3,1)) -> 1
AQ33: =IF(P33="材質劣化",2,IF(P33="漏水",3,1)) -> 1
AQ34: =IF(P36="材質劣化",2,IF(P36="漏水",3,1)) -> 1
K35: 集計 判定 診断 | L35: 変状の発生規模合計(㎡) | Y35: － | AC35: =SUM(AC11:AC34) -> 0 | AD35: =SUM(AD11:AD34) -> 0 | AE35: =SUM(AE11:AE34) -> 0 | AF35: =SUM(AF11:AF34) -> 0 | AG35: =SUM(AG11:AG34) -> 0 | AH35: =SUM(AH11:AH34) -> 0 | AI35: =SUM(AI11:AI34) -> 0 | AJ35: =SUM(AJ11:AJ34) -> 0 | AK35: 覆工スパン単位の 健全性の 診断の区分 | AM35: Ⅰ
L36: 対策区分の 判定結果 | O36: 対策区分毎の変状数注3 | Y36: Ⅳ | Z36: Ⅲ | AA36: Ⅱa | AB36: Ⅱb | AC36: Ⅳ | AD36: Ⅲ | AE36: Ⅱa | AF36: Ⅱb | AG36: Ⅳ | AH36: Ⅲ | AI36: Ⅱa | AJ36: Ⅱb
Y37: =IF(COUNTIF(Y11:Y34,"〇")>0,"1",0) -> 0 | Z37: =IF(COUNTIF(Z11:Z34,"〇")>0,"1",0) -> 0 | AA37: =IF(COUNTIF(AA11:AA34,"〇")>0,"1",0) -> 0 | AB37: =IF(COUNTIF(AB11:AB34,"〇")>0,"1",0) -> 0 | AC37: =COUNTA(AC11:AC34) -> 0 | AD37: =COUNTA(AD11:AD34) -> 0 | AE37: =COUNTA(AE11:AE34) -> 0 | AF37: =COUNTA(AF11:AF34) -> 0 | AG37: =COUNTA(AG11:AG34) -> 0 | AH37: =COUNTA(AH11:AH34) -> 0 | AI37: =COUNTA(AI11:AI34) -> 0 | AJ37: =COUNTA(AJ11:AJ34) -> 0
K39: 所見
K43: 注1：誤記入防止のため、当該変状区分以外のセルは灰色表示とすること。
K44: 注2：応急措置を実施した場合は、その詳細を備考に記載すること。
K45: 注3：外力は覆工スパン単位、材質劣化、漏水は変状単位とすること。
B46: （以下、印刷不要）
B47: ※1：本シートは作成洩れのないよう、変状が無くても全スパン分を作成すること．また変状展開図は、様式D-2-1、様式D-2-1'と同じものを覆工スパン単位で拡大し掲載すること。
B48: ※2：変状番号は、様式D-1-1で記入した番号と整合させること。
B49: ※3：対策区分毎の変状発生規模は、様式D-1-1に記載した面積を記入すること（ただし外力はスパン単位で評価するため変状の有無の欄には面積でなく○を記入し、備考欄に状況を記入）。
B50: ※4：本様式は覆工スパン毎に作成すること。
B51: ※5：変状数が多い場合は、適時、表の行を増やして覆工スパン毎に1枚のシートに収めること。また、1スパン１シートとし、スパンに合わせてシートを追加すること。
B52: ※6：対策区分毎の変状の発生範囲の規模とは，対策を行う際に参考となる変状の長さや面積であり，変状を包含する長さや面積とする。
B53: ※7：対策範囲を示す発生範囲の規模を面積で記入することが妥当ではない変状は、発生範囲の規模の欄に○を記入するとともに、備考に内容を記入すること。

Sheet 様式D-3_S021
AU1: 様式F用→ | AV1: 覆工スパン | AY1: 変 状 数 | BK1: 変 状 規 模
AV2: 番号 | AW2: 延長 （ｍ） | AX2: 健全性の診断の 区分 | AY2: 対策区分の判定 | BK2: 覆工スパン長（ｍ） | BO2: 変状の発生範囲の規模（㎡）
B3: ■定期点検記録様式 覆工スパン別変状詳細展開図 【様式D-3】 | AY3: 外力 | BC3: 材質劣化 | BG3: 漏水 | BK3: 外力 注2 | BO3: 材質劣化 | BS3: 漏水
B4: フリガナ | E4: ='様式A-1'!$D$3 -> ナカヤマトンネル | K4: 路線名 | N4: ='様式A-1'!$J$3 -> 一般県道藤生停車場錦帯橋線 | T4: 定期点検実施者 | Y4: =+'様式B (1)'!$S$3 -> 復建調査設計株式会社 | AG4: 定期点検年月日 | AK4: =+'様式B (1)'!$P$2 -> 45861 | AY4: Ⅳ | AZ4: Ⅲ | BA4: Ⅱa | BB4: Ⅱb | BC4: Ⅳ | BD4: Ⅲ | BE4: Ⅱa | BF4: Ⅱb | BG4: Ⅳ | BH4: Ⅲ | BI4: Ⅱa | BJ4: Ⅱb | BK4: Ⅳ | BL4: Ⅲ | BM4: Ⅱa | BN4: Ⅱb | BO4: Ⅳ | BP4: Ⅲ | BQ4: Ⅱa | BR4: Ⅱb | BS4: Ⅳ | BT4: Ⅲ | BU4: Ⅱa | BV4: Ⅱb
B5: 名 称 | E5: ='様式A-1'!$D$4 -> 中山トンネル | K5: 管理者名 | N5: ='様式A-1'!$R$3 -> 山口県岩国土木建築事務所 | Y5: =+'様式B (1)'!$S$4 -> 小笠原洋 | AV5: =N7 -> S021 | AW5: =R7 -> 10.5 | AX5: =AM35 -> Ⅱ | AY5: =Y37 -> 0 | AZ5: =Z37 -> 0 | BA5: =AA37 -> 0 | BB5: =AB37 -> 0 | BC5: =AC37 -> 0 | BD5: =AD37 -> 0 | BE5: =AE37 -> 0 | BF5: =AF37 -> 1 | ... BJ5: =AJ37 -> 0 | BK5: =IF(Y37>0,R7,"") | BL5: =IF(Y37>0,"",IF(Z37>0,R7,"")) | BM5: =IF(Y37+Z37>0,"",IF(AA37>0,R7,"")) | BN5: =IF(Y37+Z37+AA37>0,"",IF(AB37>0,R7,"")) | BO5: =AC35 -> 0 | BP5: =AD35 -> 0 | BQ5: =AE35 -> 0 | BR5: =AF35 -> 0.19 | BS5: =AG35 -> 0 | BT5: =AH35 -> 0 | BU5: =AI35 -> 0 | BV5: =AJ35 -> 0
B6: スパン別変状展開図 | K6: 【健全性判定集計表】
K7: スパン番号 | N7: S021 | P7: スパン長 | R7: 10.5 | U7: 前回定期点検時の判定 | W7: 応急措置前の判定 | Y7: 対策区分毎の 変状の有無 | AC7: 対策区分毎の変状の発生範囲の規模(㎡) | AK7: 備考注2
K8: 変状番号 | L8: 対象箇所 | N8: 部位区分 | P8: 変状区分 | R8: 変状種類
Y9: 外力注1 | AC9: 材質劣化注1 | AG9: 漏水注1
Y10: Ⅳ | Z10: Ⅲ | AA10: Ⅱa | AB10: Ⅱb | AC10: Ⅳ | AD10: Ⅲ | AE10: Ⅱa | AF10: Ⅱb | AG10: Ⅳ | AH10: Ⅲ | AI10: Ⅱa | AJ10: Ⅱb
K11: 1 | L11: 覆工 | N11: アーチ（右側） | P11: 材質劣化 | R11: うき・はく離 | U11: Ⅱb | W11: Ⅱb | AF11: 0.19 | AK11: 閉合ひび割れ | AQ11: =IF(P11="材質劣化",2,IF(P11="漏水",3,1)) -> 2 | AS11: =IF(Y11<>"",1,"")
AQ12: =IF(P12="材質劣化",2,IF(P12="漏水",3,1)) -> 1
AQ13: =IF(P13="材質劣化",2,IF(P13="漏水",3,1)) -> 1
AQ14: =IF(P14="材質劣化",2,IF(P14="漏水",3,1)) -> 1
AQ15: =IF(P15="材質劣化",2,IF(P15="漏水",3,1)) -> 1
AQ16: =IF(P16="材質劣化",2,IF(P16="漏水",3,1)) -> 1
AQ17: =IF(P17="材質劣化",2,IF(P17="漏水",3,1)) -> 1
AQ18: =IF(P18="材質劣化",2,IF(P18="漏水",3,1)) -> 1
AQ19: =IF(P19="材質劣化",2,IF(P19="漏水",3,1)) -> 1
AQ20: =IF(P20="材質劣化",2,IF(P20="漏水",3,1)) -> 1
AQ21: =IF(P21="材質劣化",2,IF(P21="漏水",3,1)) -> 1
AQ22: =IF(P22="材質劣化",2,IF(P22="漏水",3,1)) -> 1
AQ23: =IF(P23="材質劣化",2,IF(P23="漏水",3,1)) -> 1
... AQ27: =IF(P27="材質劣化",2,IF(P27="漏水",3,1)) -> 1
AQ28: =IF(P30="材質劣化",2,IF(P30="漏水",3,1)) -> 1
AQ29: =IF(P34="材質劣化",2,IF(P34="漏水",3,1)) -> 1
AQ30: =IF(P30="材質劣化",2,IF(P30="漏水",3,1)) -> 1
AQ31: =IF(P33="材質劣化",2,IF(P33="漏水",3,1)) -> 1
AQ32: =IF(P37="材質劣化",2,IF(P37="漏水",3,1)) -> 1
AQ33: =IF(P33="材質劣化",2,IF(P33="漏水",3,1)) -> 1
AQ34: =IF(P36="材質劣化",2,IF(P36="漏水",3,1)) -> 1
K35: 集計 判定 診断 | L35: 変状の発生規模合計(㎡) | Y35: － | AC35: =SUM(AC11:AC34) -> 0 | AD35: =SUM(AD11:AD34) -> 0 | AE35: =SUM(AE11:AE34) -> 0 | AF35: =SUM(AF11:AF34) -> 0.19 | AG35: =SUM(AG11:AG34) -> 0 | AH35: =SUM(AH11:AH34) -> 0 | AI35: =SUM(AI11:AI34) -> 0 | AJ35: =SUM(AJ11:AJ34) -> 0 | AK35: 覆工スパン単位の 健全性の 診断の区分 | AM35: Ⅱ
L36: 対策区分の 判定結果 | O36: 対策区分毎の変状数注3 | Y36: Ⅳ | Z36: Ⅲ | AA36: Ⅱa | AB36: Ⅱb | AC36: Ⅳ | AD36: Ⅲ | AE36: Ⅱa | AF36: Ⅱb | AG36: Ⅳ | AH36: Ⅲ | AI36: Ⅱa | AJ36: Ⅱb
Y37: =IF(COUNTIF(Y11:Y34,"〇")>0,"1",0) -> 0 | Z37: =IF(COUNTIF(Z11:Z34,"〇")>0,"1",0) -> 0 | AA37: =IF(COUNTIF(AA11:AA34,"〇")>0,"1",0) -> 0 | AB37: =IF(COUNTIF(AB11:AB34,"〇")>0,"1",0) -> 0 | AC37: =COUNTA(AC11:AC34) -> 0 | AD37: =COUNTA(AD11:AD34) -> 0 | AE37: =COUNTA(AE11:AE34) -> 0 | AF37: =COUNTA(AF11:AF34) -> 1 | AG37: =COUNTA(AG11:AG34) -> 0 | AH37: =COUNTA(AH11:AH34) -> 0 | AI37: =COUNTA(AI11:AI34) -> 0 | AJ37: =COUNTA(AJ11:AJ34) -> 0
K39: 所見
K43: 注1：誤記入防止のため、当該変状区分以外のセルは灰色表示とすること。
K44: 注2：応急措置を実施した場合は、その詳細を備考に記載すること。
K45: 注3：外力は覆工スパン単位、材質劣化、漏水は変状単位とすること。
B46: （以下、印刷不要）
B47: ※1：本シートは作成洩れのないよう、変状が無くても全スパン分を作成すること．また変状展開図は、様式D-2-1、様式D-2-1'と同じものを覆工スパン単位で拡大し掲載すること。
B48: ※2：変状番号は、様式D-1-1で記入した番号と整合させること。
B49: ※3：対策区分毎の変状発生規模は、様式D-1-1に記載した面積を記入すること（ただし外力はスパン単位で評価するため変状の有無の欄には面積でなく○を記入し、備考欄に状況を記入）。
B50: ※4：本様式は覆工スパン毎に作成すること。
B51: ※5：変状数が多い場合は、適時、表の行を増やして覆工スパン毎に1枚のシートに収めること。また、1スパン１シートとし、スパンに合わせてシートを追加すること。
B52: ※6：対策区分毎の変状の発生範囲の規模とは，対策を行う際に参考となる変状の長さや面積であり，変状を包含する長さや面積とする。
B53: ※7：対策範囲を示す発生範囲の規模を面積で記入することが妥当ではない変状は、発生範囲の規模の欄に○を記入するとともに、備考に内容を記入すること。

Sheet 様式D-3_S022
AU1: 様式F用→ | AV1: 覆工スパン | AY1: 変 状 数 | BK1: 変 状 規 模
AV2: 番号 | AW2: 延長 （ｍ） | AX2: 健全性の診断の 区分 | AY2: 対策区分の判定 | BK2: 覆工スパン長（ｍ） | BO2: 変状の発生範囲の規模（㎡）
B3: ■定期点検記録様式 覆工スパン別変状詳細展開図 【様式D-3】 | AY3: 外力 | BC3: 材質劣化 | BG3: 漏水 | BK3: 外力 注2 | BO3: 材質劣化 | BS3: 漏水
B4: フリガナ | E4: ='様式A-1'!$D$3 -> ナカヤマトンネル | K4: 路線名 | N4: ='様式A-1'!$J$3 -> 一般県道藤生停車場錦帯橋線 | T4: 定期点検実施者 | Y4: =+'様式B (1)'!$S$3 -> 復建調査設計株式会社 | AG4: 定期点検年月日 | AK4: =+'様式B (1)'!$P$2 -> 45861 | AY4: Ⅳ | AZ4: Ⅲ | BA4: Ⅱa | BB4: Ⅱb | BC4: Ⅳ | BD4: Ⅲ | BE4: Ⅱa | BF4: Ⅱb | BG4: Ⅳ | BH4: Ⅲ | BI4: Ⅱa | BJ4: Ⅱb | BK4: Ⅳ | BL4: Ⅲ | BM4: Ⅱa | BN4: Ⅱb | BO4: Ⅳ | BP4: Ⅲ | BQ4: Ⅱa | BR4: Ⅱb | BS4: Ⅳ | BT4: Ⅲ | BU4: Ⅱa | BV4: Ⅱb
B5: 名 称 | E5: ='様式A-1'!$D$4 -> 中山トンネル | K5: 管理者名 | N5: ='様式A-1'!$R$3 -> 山口県岩国土木建築事務所 | Y5: =+'様式B (1)'!$S$4 -> 小笠原洋 | AV5: =N7 -> S022 | AW5: =R7 -> 10.35 | AX5: =AM35 -> Ⅰ | AY5: =Y37 -> 0 | AZ5: =Z37 -> 0 | BA5: =AA37 -> 0 | BB5: =AB37 -> 0 | BC5: =AC37 -> 0 | BD5: =AD37 -> 0 | BE5: =AE37 -> 0 | BF5: =AF37 -> 0 | ... BJ5: =AJ37 -> 0 | BK5: =IF(Y37>0,R7,"") | BL5: =IF(Y37>0,"",IF(Z37>0,R7,"")) | BM5: =IF(Y37+Z37>0,"",IF(AA37>0,R7,"")) | BN5: =IF(Y37+Z37+AA37>0,"",IF(AB37>0,R7,"")) | BO5: =AC35 -> 0 | BP5: =AD35 -> 0 | BQ5: =AE35 -> 0 | BR5: =AF35 -> 0 | BS5: =AG35 -> 0 | BT5: =AH35 -> 0 | BU5: =AI35 -> 0 | BV5: =AJ35 -> 0
B6: スパン別変状展開図 | K6: 【健全性判定集計表】
K7: スパン番号 | N7: S022 | P7: スパン長 | R7: 10.35 | U7: 前回定期点検時の判定 | W7: 応急措置前の判定 | Y7: 対策区分毎の 変状の有無 | AC7: 対策区分毎の変状の発生範囲の規模(㎡) | AK7: 備考注2
K8: 変状番号 | L8: 対象箇所 | N8: 部位区分 | P8: 変状区分 | R8: 変状種類
Y9: 外力注1 | AC9: 材質劣化注1 | AG9: 漏水注1
Y10: Ⅳ | Z10: Ⅲ | AA10: Ⅱa | AB10: Ⅱb | AC10: Ⅳ | AD10: Ⅲ | AE10: Ⅱa | AF10: Ⅱb | AG10: Ⅳ | AH10: Ⅲ | AI10: Ⅱa | AJ10: Ⅱb
AQ11: =IF(P11="材質劣化",2,IF(P11="漏水",3,1)) -> 1 | AS11: =IF(Y11<>"",1,"")
AQ12: =IF(P12="材質劣化",2,IF(P12="漏水",3,1)) -> 1
AQ13: =IF(P13="材質劣化",2,IF(P13="漏水",3,1)) -> 1
AQ14: =IF(P14="材質劣化",2,IF(P14="漏水",3,1)) -> 1
AQ15: =IF(P15="材質劣化",2,IF(P15="漏水",3,1)) -> 1
AQ16: =IF(P16="材質劣化",2,IF(P16="漏水",3,1)) -> 1
AQ17: =IF(P17="材質劣化",2,IF(P17="漏水",3,1)) -> 1
AQ18: =IF(P18="材質劣化",2,IF(P18="漏水",3,1)) -> 1
AQ19: =IF(P19="材質劣化",2,IF(P19="漏水",3,1)) -> 1
AQ20: =IF(P20="材質劣化",2,IF(P20="漏水",3,1)) -> 1
AQ21: =IF(P21="材質劣化",2,IF(P21="漏水",3,1)) -> 1
AQ22: =IF(P22="材質劣化",2,IF(P22="漏水",3,1)) -> 1
AQ23: =IF(P23="材質劣化",2,IF(P23="漏水",3,1)) -> 1
... AQ27: =IF(P27="材質劣化",2,IF(P27="漏水",3,1)) -> 1
AQ28: =IF(P30="材質劣化",2,IF(P30="漏水",3,1)) -> 1
AQ29: =IF(P34="材質劣化",2,IF(P34="漏水",3,1)) -> 1
AQ30: =IF(P30="材質劣化",2,IF(P30="漏水",3,1)) -> 1
AQ31: =IF(P33="材質劣化",2,IF(P33="漏水",3,1)) -> 1
AQ32: =IF(P37="材質劣化",2,IF(P37="漏水",3,1)) -> 1
AQ33: =IF(P33="材質劣化",2,IF(P33="漏水",3,1)) -> 1
AQ34: =IF(P36="材質劣化",2,IF(P36="漏水",3,1)) -> 1
K35: 集計 判定 診断 | L35: 変状の発生規模合計(㎡) | Y35: － | AC35: =SUM(AC11:AC34) -> 0 | AD35: =SUM(AD11:AD34) -> 0 | AE35: =SUM(AE11:AE34) -> 0 | AF35: =SUM(AF11:AF34) -> 0 | AG35: =SUM(AG11:AG34) -> 0 | AH35: =SUM(AH11:AH34) -> 0 | AI35: =SUM(AI11:AI34) -> 0 | AJ35: =SUM(AJ11:AJ34) -> 0 | AK35: 覆工スパン単位の 健全性の 診断の区分 | AM35: Ⅰ
L36: 対策区分の 判定結果 | O36: 対策区分毎の変状数注3 | Y36: Ⅳ | Z36: Ⅲ | AA36: Ⅱa | AB36: Ⅱb | AC36: Ⅳ | AD36: Ⅲ | AE36: Ⅱa | AF36: Ⅱb | AG36: Ⅳ | AH36: Ⅲ | AI36: Ⅱa | AJ36: Ⅱb
Y37: =IF(COUNTIF(Y11:Y34,"〇")>0,"1",0) -> 0 | Z37: =IF(COUNTIF(Z11:Z34,"〇")>0,"1",0) -> 0 | AA37: =IF(COUNTIF(AA11:AA34,"〇")>0,"1",0) -> 0 | AB37: =IF(COUNTIF(AB11:AB34,"〇")>0,"1",0) -> 0 | AC37: =COUNTA(AC11:AC34) -> 0 | AD37: =COUNTA(AD11:AD34) -> 0 | AE37: =COUNTA(AE11:AE34) -> 0 | AF37: =COUNTA(AF11:AF34) -> 0 | AG37: =COUNTA(AG11:AG34) -> 0 | AH37: =COUNTA(AH11:AH34) -> 0 | AI37: =COUNTA(AI11:AI34) -> 0 | AJ37: =COUNTA(AJ11:AJ34) -> 0
K39: 所見
K43: 注1：誤記入防止のため、当該変状区分以外のセルは灰色表示とすること。
K44: 注2：応急措置を実施した場合は、その詳細を備考に記載すること。
K45: 注3：外力は覆工スパン単位、材質劣化、漏水は変状単位とすること。
B46: （以下、印刷不要）
B47: ※1：本シートは作成洩れのないよう、変状が無くても全スパン分を作成すること．また変状展開図は、様式D-2-1、様式D-2-1'と同じものを覆工スパン単位で拡大し掲載すること。
B48: ※2：変状番号は、様式D-1-1で記入した番号と整合させること。
B49: ※3：対策区分毎の変状発生規模は、様式D-1-1に記載した面積を記入すること（ただし外力はスパン単位で評価するため変状の有無の欄には面積でなく○を記入し、備考欄に状況を記入）。
B50: ※4：本様式は覆工スパン毎に作成すること。
B51: ※5：変状数が多い場合は、適時、表の行を増やして覆工スパン毎に1枚のシートに収めること。また、1スパン１シートとし、スパンに合わせてシートを追加すること。
B52: ※6：対策区分毎の変状の発生範囲の規模とは，対策を行う際に参考となる変状の長さや面積であり，変状を包含する長さや面積とする。
B53: ※7：対策範囲を示す発生範囲の規模を面積で記入することが妥当ではない変状は、発生範囲の規模の欄に○を記入するとともに、備考に内容を記入すること。

Sheet 様式D-3_S023
AU1: 様式F用→ | AV1: 覆工スパン | AY1: 変 状 数 | BK1: 変 状 規 模
AV2: 番号 | AW2: 延長 （ｍ） | AX2: 健全性の診断の 区分 | AY2: 対策区分の判定 | BK2: 覆工スパン長（ｍ） | BO2: 変状の発生範囲の規模（㎡）
B3: ■定期点検記録様式 覆工スパン別変状詳細展開図 【様式D-3】 | AY3: 外力 | BC3: 材質劣化 | BG3: 漏水 | BK3: 外力 注2 | BO3: 材質劣化 | BS3: 漏水
B4: フリガナ | E4: ='様式A-1'!$D$3 -> ナカヤマトンネル | K4: 路線名 | N4: ='様式A-1'!$J$3 -> 一般県道藤生停車場錦帯橋線 | T4: 定期点検実施者 | Y4: =+'様式B (1)'!$S$3 -> 復建調査設計株式会社 | AG4: 定期点検年月日 | AK4: =+'様式B (1)'!$P$2 -> 45861 | AY4: Ⅳ | AZ4: Ⅲ | BA4: Ⅱa | BB4: Ⅱb | BC4: Ⅳ | BD4: Ⅲ | BE4: Ⅱa | BF4: Ⅱb | BG4: Ⅳ | BH4: Ⅲ | BI4: Ⅱa | BJ4: Ⅱb | BK4: Ⅳ | BL4: Ⅲ | BM4: Ⅱa | BN4: Ⅱb | BO4: Ⅳ | BP4: Ⅲ | BQ4: Ⅱa | BR4: Ⅱb | BS4: Ⅳ | BT4: Ⅲ | BU4: Ⅱa | BV4: Ⅱb
B5: 名 称 | E5: ='様式A-1'!$D$4 -> 中山トンネル | K5: 管理者名 | N5: ='様式A-1'!$R$3 -> 山口県岩国土木建築事務所 | Y5: =+'様式B (1)'!$S$4 -> 小笠原洋 | AV5: =N7 -> S023 | AW5: =R7 -> 10.5 | AX5: =AM35 -> Ⅱ | AY5: =Y37 -> 0 | AZ5: =Z37 -> 0 | BA5: =AA37 -> 0 | BB5: =AB37 -> 0 | BC5: =AC37 -> 0 | BD5: =AD37 -> 0 | BE5: =AE37 -> 0 | BF5: =AF37 -> 1 | ... BJ5: =AJ37 -> 0 | BK5: =IF(Y37>0,R7,"") | BL5: =IF(Y37>0,"",IF(Z37>0,R7,"")) | BM5: =IF(Y37+Z37>0,"",IF(AA37>0,R7,"")) | BN5: =IF(Y37+Z37+AA37>0,"",IF(AB37>0,R7,"")) | BO5: =AC35 -> 0 | BP5: =AD35 -> 0 | BQ5: =AE35 -> 0 | BR5: =AF35 -> 0.18 | BS5: =AG35 -> 0 | BT5: =AH35 -> 0 | BU5: =AI35 -> 0 | BV5: =AJ35 -> 0
B6: スパン別変状展開図 | K6: 【健全性判定集計表】
K7: スパン番号 | N7: S023 | P7: スパン長 | R7: 10.5 | U7: 前回定期点検時の判定 | W7: 応急措置前の判定 | Y7: 対策区分毎の 変状の有無 | AC7: 対策区分毎の変状の発生範囲の規模(㎡) | AK7: 備考注2
K8: 変状番号 | L8: 対象箇所 | N8: 部位区分 | P8: 変状区分 | R8: 変状種類
Y9: 外力注1 | AC9: 材質劣化注1 | AG9: 漏水注1
Y10: Ⅳ | Z10: Ⅲ | AA10: Ⅱa | AB10: Ⅱb | AC10: Ⅳ | AD10: Ⅲ | AE10: Ⅱa | AF10: Ⅱb | AG10: Ⅳ | AH10: Ⅲ | AI10: Ⅱa | AJ10: Ⅱb
K11: 1 | L11: 覆工 | N11: アーチ（右側） | P11: 材質劣化 | R11: その他 | U11: Ⅱb | W11: Ⅱb | AF11: 0.18 | AK11: 豆板 | AQ11: =IF(P11="材質劣化",2,IF(P11="漏水",3,1)) -> 2 | AS11: =IF(Y11<>"",1,"")
AQ12: =IF(P12="材質劣化",2,IF(P12="漏水",3,1)) -> 1
AQ13: =IF(P13="材質劣化",2,IF(P13="漏水",3,1)) -> 1
AQ14: =IF(P14="材質劣化",2,IF(P14="漏水",3,1)) -> 1
AQ15: =IF(P15="材質劣化",2,IF(P15="漏水",3,1)) -> 1
AQ16: =IF(P16="材質劣化",2,IF(P16="漏水",3,1)) -> 1
AQ17: =IF(P17="材質劣化",2,IF(P17="漏水",3,1)) -> 1
AQ18: =IF(P18="材質劣化",2,IF(P18="漏水",3,1)) -> 1
AQ19: =IF(P19="材質劣化",2,IF(P19="漏水",3,1)) -> 1
AQ20: =IF(P20="材質劣化",2,IF(P20="漏水",3,1)) -> 1
AQ21: =IF(P21="材質劣化",2,IF(P21="漏水",3,1)) -> 1
AQ22: =IF(P22="材質劣化",2,IF(P22="漏水",3,1)) -> 1
AQ23: =IF(P23="材質劣化",2,IF(P23="漏水",3,1)) -> 1
... AQ27: =IF(P27="材質劣化",2,IF(P27="漏水",3,1)) -> 1
AQ28: =IF(P30="材質劣化",2,IF(P30="漏水",3,1)) -> 1
AQ29: =IF(P34="材質劣化",2,IF(P34="漏水",3,1)) -> 1
AQ30: =IF(P30="材質劣化",2,IF(P30="漏水",3,1)) -> 1
AQ31: =IF(P33="材質劣化",2,IF(P33="漏水",3,1)) -> 1
AQ32: =IF(P37="材質劣化",2,IF(P37="漏水",3,1)) -> 1
AQ33: =IF(P33="材質劣化",2,IF(P33="漏水",3,1)) -> 1
AQ34: =IF(P36="材質劣化",2,IF(P36="漏水",3,1)) -> 1
K35: 集計 判定 診断 | L35: 変状の発生規模合計(㎡) | Y35: － | AC35: =SUM(AC11:AC34) -> 0 | AD35: =SUM(AD11:AD34) -> 0 | AE35: =SUM(AE11:AE34) -> 0 | AF35: =SUM(AF11:AF34) -> 0.18 | AG35: =SUM(AG11:AG34) -> 0 | AH35: =SUM(AH11:AH34) -> 0 | AI35: =SUM(AI11:AI34) -> 0 | AJ35: =SUM(AJ11:AJ34) -> 0 | AK35: 覆工スパン単位の 健全性の 診断の区分 | AM35: Ⅱ
L36: 対策区分の 判定結果 | O36: 対策区分毎の変状数注3 | Y36: Ⅳ | Z36: Ⅲ | AA36: Ⅱa | AB36: Ⅱb | AC36: Ⅳ | AD36: Ⅲ | AE36: Ⅱa | AF36: Ⅱb | AG36: Ⅳ | AH36: Ⅲ | AI36: Ⅱa | AJ36: Ⅱb
Y37: =IF(COUNTIF(Y11:Y34,"〇")>0,"1",0) -> 0 | Z37: =IF(COUNTIF(Z11:Z34,"〇")>0,"1",0) -> 0 | AA37: =IF(COUNTIF(AA11:AA34,"〇")>0,"1",0) -> 0 | AB37: =IF(COUNTIF(AB11:AB34,"〇")>0,"1",0) -> 0 | AC37: =COUNTA(AC11:AC34) -> 0 | AD37: =COUNTA(AD11:AD34) -> 0 | AE37: =COUNTA(AE11:AE34) -> 0 | AF37: =COUNTA(AF11:AF34) -> 1 | AG37: =COUNTA(AG11:AG34) -> 0 | AH37: =COUNTA(AH11:AH34) -> 0 | AI37: =COUNTA(AI11:AI34) -> 0 | AJ37: =COUNTA(AJ11:AJ34) -> 0
K39: 所見
K43: 注1：誤記入防止のため、当該変状区分以外のセルは灰色表示とすること。
K44: 注2：応急措置を実施した場合は、その詳細を備考に記載すること。
K45: 注3：外力は覆工スパン単位、材質劣化、漏水は変状単位とすること。
B46: （以下、印刷不要）
B47: ※1：本シートは作成洩れのないよう、変状が無くても全スパン分を作成すること．また変状展開図は、様式D-2-1、様式D-2-1'と同じものを覆工スパン単位で拡大し掲載すること。
B48: ※2：変状番号は、様式D-1-1で記入した番号と整合させること。
B49: ※3：対策区分毎の変状発生規模は、様式D-1-1に記載した面積を記入すること（ただし外力はスパン単位で評価するため変状の有無の欄には面積でなく○を記入し、備考欄に状況を記入）。
B50: ※4：本様式は覆工スパン毎に作成すること。
B51: ※5：変状数が多い場合は、適時、表の行を増やして覆工スパン毎に1枚のシートに収めること。また、1スパン１シートとし、スパンに合わせてシートを追加すること。
B52: ※6：対策区分毎の変状の発生範囲の規模とは，対策を行う際に参考となる変状の長さや面積であり，変状を包含する長さや面積とする。
B53: ※7：対策範囲を示す発生範囲の規模を面積で記入することが妥当ではない変状は、発生範囲の規模の欄に○を記入するとともに、備考に内容を記入すること。

Sheet 様式D-3_S024
AU1: 様式F用→ | AV1: 覆工スパン | AY1: 変 状 数 | BK1: 変 状 規 模
AV2: 番号 | AW2: 延長 （ｍ） | AX2: 健全性の診断の 区分 | AY2: 対策区分の判定 | BK2: 覆工スパン長（ｍ） | BO2: 変状の発生範囲の規模（㎡）
B3: ■定期点検記録様式 覆工スパン別変状詳細展開図 【様式D-3】 | AY3: 外力 | BC3: 材質劣化 | BG3: 漏水 | BK3: 外力 注2 | BO3: 材質劣化 | BS3: 漏水
B4: フリガナ | E4: ='様式A-1'!$D$3 -> ナカヤマトンネル | K4: 路線名 | N4: ='様式A-1'!$J$3 -> 一般県道藤生停車場錦帯橋線 | T4: 定期点検実施者 | Y4: =+'様式B (1)'!$S$3 -> 復建調査設計株式会社 | AG4: 定期点検年月日 | AK4: =+'様式B (1)'!$P$2 -> 45861 | AY4: Ⅳ | AZ4: Ⅲ | BA4: Ⅱa | BB4: Ⅱb | BC4: Ⅳ | BD4: Ⅲ | BE4: Ⅱa | BF4: Ⅱb | BG4: Ⅳ | BH4: Ⅲ | BI4: Ⅱa | BJ4: Ⅱb | BK4: Ⅳ | BL4: Ⅲ | BM4: Ⅱa | BN4: Ⅱb | BO4: Ⅳ | BP4: Ⅲ | BQ4: Ⅱa | BR4: Ⅱb | BS4: Ⅳ | BT4: Ⅲ | BU4: Ⅱa | BV4: Ⅱb
B5: 名 称 | E5: ='様式A-1'!$D$4 -> 中山トンネル | K5: 管理者名 | N5: ='様式A-1'!$R$3 -> 山口県岩国土木建築事務所 | Y5: =+'様式B (1)'!$S$4 -> 小笠原洋 | AV5: =N7 -> S024 | AW5: =R7 -> 10.4 | AX5: =AM35 -> Ⅰ | AY5: =Y37 -> 0 | AZ5: =Z37 -> 0 | BA5: =AA37 -> 0 | BB5: =AB37 -> 0 | BC5: =AC37 -> 0 | BD5: =AD37 -> 0 | BE5: =AE37 -> 0 | BF5: =AF37 -> 0 | ... BJ5: =AJ37 -> 0 | BK5: =IF(Y37>0,R7,"") | BL5: =IF(Y37>0,"",IF(Z37>0,R7,"")) | BM5: =IF(Y37+Z37>0,"",IF(AA37>0,R7,"")) | BN5: =IF(Y37+Z37+AA37>0,"",IF(AB37>0,R7,"")) | BO5: =AC35 -> 0 | BP5: =AD35 -> 0 | BQ5: =AE35 -> 0 | BR5: =AF35 -> 0 | BS5: =AG35 -> 0 | BT5: =AH35 -> 0 | BU5: =AI35 -> 0 | BV5: =AJ35 -> 0
B6: スパン別変状展開図 | K6: 【健全性判定集計表】
K7: スパン番号 | N7: S024 | P7: スパン長 | R7: 10.4 | U7: 前回定期点検時の判定 | W7: 応急措置前の判定 | Y7: 対策区分毎の 変状の有無 | AC7: 対策区分毎の変状の発生範囲の規模(㎡) | AK7: 備考注2
K8: 変状番号 | L8: 対象箇所 | N8: 部位区分 | P8: 変状区分 | R8: 変状種類
Y9: 外力注1 | AC9: 材質劣化注1 | AG9: 漏水注1
Y10: Ⅳ | Z10: Ⅲ | AA10: Ⅱa | AB10: Ⅱb | AC10: Ⅳ | AD10: Ⅲ | AE10: Ⅱa | AF10: Ⅱb | AG10: Ⅳ | AH10: Ⅲ | AI10: Ⅱa | AJ10: Ⅱb
AQ11: =IF(P11="材質劣化",2,IF(P11="漏水",3,1)) -> 1 | AS11: =IF(Y11<>"",1,"")
AQ12: =IF(P12="材質劣化",2,IF(P12="漏水",3,1)) -> 1
AQ13: =IF(P13="材質劣化",2,IF(P13="漏水",3,1)) -> 1
AQ14: =IF(P14="材質劣化",2,IF(P14="漏水",3,1)) -> 1
AQ15: =IF(P15="材質劣化",2,IF(P15="漏水",3,1)) -> 1
AQ16: =IF(P16="材質劣化",2,IF(P16="漏水",3,1)) -> 1
AQ17: =IF(P17="材質劣化",2,IF(P17="漏水",3,1)) -> 1
AQ18: =IF(P18="材質劣化",2,IF(P18="漏水",3,1)) -> 1
AQ19: =IF(P19="材質劣化",2,IF(P19="漏水",3,1)) -> 1
AQ20: =IF(P20="材質劣化",2,IF(P20="漏水",3,1)) -> 1
AQ21: =IF(P21="材質劣化",2,IF(P21="漏水",3,1)) -> 1
AQ22: =IF(P22="材質劣化",2,IF(P22="漏水",3,1)) -> 1
AQ23: =IF(P23="材質劣化",2,IF(P23="漏水",3,1)) -> 1
... AQ27: =IF(P27="材質劣化",2,IF(P27="漏水",3,1)) -> 1
AQ28: =IF(P30="材質劣化",2,IF(P30="漏水",3,1)) -> 1
AQ29: =IF(P34="材質劣化",2,IF(P34="漏水",3,1)) -> 1
AQ30: =IF(P30="材質劣化",2,IF(P30="漏水",3,1)) -> 1
AQ31: =IF(P33="材質劣化",2,IF(P33="漏水",3,1)) -> 1
AQ32: =IF(P37="材質劣化",2,IF(P37="漏水",3,1)) -> 1
AQ33: =IF(P33="材質劣化",2,IF(P33="漏水",3,1)) -> 1
AQ34: =IF(P36="材質劣化",2,IF(P36="漏水",3,1)) -> 1
K35: 集計 判定 診断 | L35: 変状の発生規模合計(㎡) | Y35: － | AC35: =SUM(AC11:AC34) -> 0 | AD35: =SUM(AD11:AD34) -> 0 | AE35: =SUM(AE11:AE34) -> 0 | AF35: =SUM(AF11:AF34) -> 0 | AG35: =SUM(AG11:AG34) -> 0 | AH35: =SUM(AH11:AH34) -> 0 | AI35: =SUM(AI11:AI34) -> 0 | AJ35: =SUM(AJ11:AJ34) -> 0 | AK35: 覆工スパン単位の 健全性の 診断の区分 | AM35: Ⅰ
L36: 対策区分の 判定結果 | O36: 対策区分毎の変状数注3 | Y36: Ⅳ | Z36: Ⅲ | AA36: Ⅱa | AB36: Ⅱb | AC36: Ⅳ | AD36: Ⅲ | AE36: Ⅱa | AF36: Ⅱb | AG36: Ⅳ | AH36: Ⅲ | AI36: Ⅱa | AJ36: Ⅱb
Y37: =IF(COUNTIF(Y11:Y34,"〇")>0,"1",0) -> 0 | Z37: =IF(COUNTIF(Z11:Z34,"〇")>0,"1",0) -> 0 | AA37: =IF(COUNTIF(AA11:AA34,"〇")>0,"1",0) -> 0 | AB37: =IF(COUNTIF(AB11:AB34,"〇")>0,"1",0) -> 0 | AC37: =COUNTA(AC11:AC34) -> 0 | AD37: =COUNTA(AD11:AD34) -> 0 | AE37: =COUNTA(AE11:AE34) -> 0 | AF37: =COUNTA(AF11:AF34) -> 0 | AG37: =COUNTA(AG11:AG34) -> 0 | AH37: =COUNTA(AH11:AH34) -> 0 | AI37: =COUNTA(AI11:AI34) -> 0 | AJ37: =COUNTA(AJ11:AJ34) -> 0
K39: 所見
K43: 注1：誤記入防止のため、当該変状区分以外のセルは灰色表示とすること。
K44: 注2：応急措置を実施した場合は、その詳細を備考に記載すること。
K45: 注3：外力は覆工スパン単位、材質劣化、漏水は変状単位とすること。
B46: （以下、印刷不要）
B47: ※1：本シートは作成洩れのないよう、変状が無くても全スパン分を作成すること．また変状展開図は、様式D-2-1、様式D-2-1'と同じものを覆工スパン単位で拡大し掲載すること。
B48: ※2：変状番号は、様式D-1-1で記入した番号と整合させること。
B49: ※3：対策区分毎の変状発生規模は、様式D-1-1に記載した面積を記入すること（ただし外力はスパン単位で評価するため変状の有無の欄には面積でなく○を記入し、備考欄に状況を記入）。
B50: ※4：本様式は覆工スパン毎に作成すること。
B51: ※5：変状数が多い場合は、適時、表の行を増やして覆工スパン毎に1枚のシートに収めること。また、1スパン１シートとし、スパンに合わせてシートを追加すること。
B52: ※6：対策区分毎の変状の発生範囲の規模とは，対策を行う際に参考となる変状の長さや面積であり，変状を包含する長さや面積とする。
B53: ※7：対策範囲を示す発生範囲の規模を面積で記入することが妥当ではない変状は、発生範囲の規模の欄に○を記入するとともに、備考に内容を記入すること。

Sheet 様式D-3_S025
AU1: 様式F用→ | AV1: 覆工スパン | AY1: 変 状 数 | BK1: 変 状 規 模
AV2: 番号 | AW2: 延長 （ｍ） | AX2: 健全性の診断の 区分 | AY2: 対策区分の判定 | BK2: 覆工スパン長（ｍ） | BO2: 変状の発生範囲の規模（㎡）
B3: ■定期点検記録様式 覆工スパン別変状詳細展開図 【様式D-3】 | AY3: 外力 | BC3: 材質劣化 | BG3: 漏水 | BK3: 外力 注2 | BO3: 材質劣化 | BS3: 漏水
B4: フリガナ | E4: ='様式A-1'!$D$3 -> ナカヤマトンネル | K4: 路線名 | N4: ='様式A-1'!$J$3 -> 一般県道藤生停車場錦帯橋線 | T4: 定期点検実施者 | Y4: =+'様式B (1)'!$S$3 -> 復建調査設計株式会社 | AG4: 定期点検年月日 | AK4: =+'様式B (1)'!$P$2 -> 45861 | AY4: Ⅳ | AZ4: Ⅲ | BA4: Ⅱa | BB4: Ⅱb | BC4: Ⅳ | BD4: Ⅲ | BE4: Ⅱa | BF4: Ⅱb | BG4: Ⅳ | BH4: Ⅲ | BI4: Ⅱa | BJ4: Ⅱb | BK4: Ⅳ | BL4: Ⅲ | BM4: Ⅱa | BN4: Ⅱb | BO4: Ⅳ | BP4: Ⅲ | BQ4: Ⅱa | BR4: Ⅱb | BS4: Ⅳ | BT4: Ⅲ | BU4: Ⅱa | BV4: Ⅱb
B5: 名 称 | E5: ='様式A-1'!$D$4 -> 中山トンネル | K5: 管理者名 | N5: ='様式A-1'!$R$3 -> 山口県岩国土木建築事務所 | Y5: =+'様式B (1)'!$S$4 -> 小笠原洋 | AV5: =N7 -> S025 | AW5: =R7 -> 10.4 | AX5: =AM35 -> Ⅱ | AY5: =Y37 -> 0 | AZ5: =Z37 -> 0 | BA5: =AA37 -> 0 | BB5: =AB37 -> 0 | BC5: =AC37 -> 0 | BD5: =AD37 -> 0 | BE5: =AE37 -> 0 | BF5: =AF37 -> 1 | ... BJ5: =AJ37 -> 0 | BK5: =IF(Y37>0,R7,"") | BL5: =IF(Y37>0,"",IF(Z37>0,R7,"")) | BM5: =IF(Y37+Z37>0,"",IF(AA37>0,R7,"")) | BN5: =IF(Y37+Z37+AA37>0,"",IF(AB37>0,R7,"")) | BO5: =AC35 -> 0 | BP5: =AD35 -> 0 | BQ5: =AE35 -> 0 | BR5: =AF35 -> 0.69 | BS5: =AG35 -> 0 | BT5: =AH35 -> 0 | BU5: =AI35 -> 0 | BV5: =AJ35 -> 0
B6: スパン別変状展開図 | K6: 【健全性判定集計表】
K7: スパン番号 | N7: S025 | P7: スパン長 | R7: 10.4 | U7: 前回定期点検時の判定 | W7: 応急措置前の判定 | Y7: 対策区分毎の 変状の有無 | AC7: 対策区分毎の変状の発生範囲の規模(㎡) | AK7: 備考注2
K8: 変状番号 | L8: 対象箇所 | N8: 部位区分 | P8: 変状区分 | R8: 変状種類
Y9: 外力注1 | AC9: 材質劣化注1 | AG9: 漏水注1
Y10: Ⅳ | Z10: Ⅲ | AA10: Ⅱa | AB10: Ⅱb | AC10: Ⅳ | AD10: Ⅲ | AE10: Ⅱa | AF10: Ⅱb | AG10: Ⅳ | AH10: Ⅲ | AI10: Ⅱa | AJ10: Ⅱb
K11: 1 | L11: 覆工 | N11: 横断目地（右側） | P11: 材質劣化 | R11: うき・はく離 | U11: Ⅲ | W11: Ⅱb | AF11: 0.69 | AQ11: =IF(P11="材質劣化",2,IF(P11="漏水",3,1)) -> 2 | AS11: =IF(Y11<>"",1,"")
AQ12: =IF(P12="材質劣化",2,IF(P12="漏水",3,1)) -> 1
AQ13: =IF(P13="材質劣化",2,IF(P13="漏水",3,1)) -> 1
AQ14: =IF(P14="材質劣化",2,IF(P14="漏水",3,1)) -> 1
AQ15: =IF(P15="材質劣化",2,IF(P15="漏水",3,1)) -> 1
AQ16: =IF(P16="材質劣化",2,IF(P16="漏水",3,1)) -> 1
AQ17: =IF(P17="材質劣化",2,IF(P17="漏水",3,1)) -> 1
AQ18: =IF(P18="材質劣化",2,IF(P18="漏水",3,1)) -> 1
AQ19: =IF(P19="材質劣化",2,IF(P19="漏水",3,1)) -> 1
AQ20: =IF(P20="材質劣化",2,IF(P20="漏水",3,1)) -> 1
AQ21: =IF(P21="材質劣化",2,IF(P21="漏水",3,1)) -> 1
AQ22: =IF(P22="材質劣化",2,IF(P22="漏水",3,1)) -> 1
AQ23: =IF(P23="材質劣化",2,IF(P23="漏水",3,1)) -> 1
... AQ27: =IF(P27="材質劣化",2,IF(P27="漏水",3,1)) -> 1
AQ28: =IF(P30="材質劣化",2,IF(P30="漏水",3,1)) -> 1
AQ29: =IF(P34="材質劣化",2,IF(P34="漏水",3,1)) -> 1
AQ30: =IF(P30="材質劣化",2,IF(P30="漏水",3,1)) -> 1
AQ31: =IF(P33="材質劣化",2,IF(P33="漏水",3,1)) -> 1
AQ32: =IF(P37="材質劣化",2,IF(P37="漏水",3,1)) -> 1
AQ33: =IF(P33="材質劣化",2,IF(P33="漏水",3,1)) -> 1
AQ34: =IF(P36="材質劣化",2,IF(P36="漏水",3,1)) -> 1
K35: 集計 判定 診断 | L35: 変状の発生規模合計(㎡) | Y35: － | AC35: =SUM(AC11:AC34) -> 0 | AD35: =SUM(AD11:AD34) -> 0 | AE35: =SUM(AE11:AE34) -> 0 | AF35: =SUM(AF11:AF34) -> 0.69 | AG35: =SUM(AG11:AG34) -> 0 | AH35: =SUM(AH11:AH34) -> 0 | AI35: =SUM(AI11:AI34) -> 0 | AJ35: =SUM(AJ11:AJ34) -> 0 | AK35: 覆工スパン単位の 健全性の 診断の区分 | AM35: Ⅱ
L36: 対策区分の 判定結果 | O36: 対策区分毎の変状数注3 | Y36: Ⅳ | Z36: Ⅲ | AA36: Ⅱa | AB36: Ⅱb | AC36: Ⅳ | AD36: Ⅲ | AE36: Ⅱa | AF36: Ⅱb | AG36: Ⅳ | AH36: Ⅲ | AI36: Ⅱa | AJ36: Ⅱb
Y37: =IF(COUNTIF(Y11:Y34,"〇")>0,"1",0) -> 0 | Z37: =IF(COUNTIF(Z11:Z34,"〇")>0,"1",0) -> 0 | AA37: =IF(COUNTIF(AA11:AA34,"〇")>0,"1",0) -> 0 | AB37: =IF(COUNTIF(AB11:AB34,"〇")>0,"1",0) -> 0 | AC37: =COUNTA(AC11:AC34) -> 0 | AD37: =COUNTA(AD11:AD34) -> 0 | AE37: =COUNTA(AE11:AE34) -> 0 | AF37: =COUNTA(AF11:AF34) -> 1 | AG37: =COUNTA(AG11:AG34) -> 0 | AH37: =COUNTA(AH11:AH34) -> 0 | AI37: =COUNTA(AI11:AI34) -> 0 | AJ37: =COUNTA(AJ11:AJ34) -> 0
K39: 所見
K43: 注1：誤記入防止のため、当該変状区分以外のセルは灰色表示とすること。
K44: 注2：応急措置を実施した場合は、その詳細を備考に記載すること。
K45: 注3：外力は覆工スパン単位、材質劣化、漏水は変状単位とすること。
B46: （以下、印刷不要）
B47: ※1：本シートは作成洩れのないよう、変状が無くても全スパン分を作成すること．また変状展開図は、様式D-2-1、様式D-2-1'と同じものを覆工スパン単位で拡大し掲載すること。
B48: ※2：変状番号は、様式D-1-1で記入した番号と整合させること。
B49: ※3：対策区分毎の変状発生規模は、様式D-1-1に記載した面積を記入すること（ただし外力はスパン単位で評価するため変状の有無の欄には面積でなく○を記入し、備考欄に状況を記入）。
B50: ※4：本様式は覆工スパン毎に作成すること。
B51: ※5：変状数が多い場合は、適時、表の行を増やして覆工スパン毎に1枚のシートに収めること。また、1スパン１シートとし、スパンに合わせてシートを追加すること。
B52: ※6：対策区分毎の変状の発生範囲の規模とは，対策を行う際に参考となる変状の長さや面積であり，変状を包含する長さや面積とする。
B53: ※7：対策範囲を示す発生範囲の規模を面積で記入することが妥当ではない変状は、発生範囲の規模の欄に○を記入するとともに、備考に内容を記入すること。

Sheet 様式D-3_S026
AU1: 様式F用→ | AV1: 覆工スパン | AY1: 変 状 数 | BK1: 変 状 規 模
AV2: 番号 | AW2: 延長 （ｍ） | AX2: 健全性の診断の 区分 | AY2: 対策区分の判定 | BK2: 覆工スパン長（ｍ） | BO2: 変状の発生範囲の規模（㎡）
B3: ■定期点検記録様式 覆工スパン別変状詳細展開図 【様式D-3】 | AY3: 外力 | BC3: 材質劣化 | BG3: 漏水 | BK3: 外力 注2 | BO3: 材質劣化 | BS3: 漏水
B4: フリガナ | E4: ='様式A-1'!$D$3 -> ナカヤマトンネル | K4: 路線名 | N4: ='様式A-1'!$J$3 -> 一般県道藤生停車場錦帯橋線 | T4: 定期点検実施者 | Y4: =+'様式B (1)'!$S$3 -> 復建調査設計株式会社 | AG4: 定期点検年月日 | AK4: =+'様式B (1)'!$P$2 -> 45861 | AY4: Ⅳ | AZ4: Ⅲ | BA4: Ⅱa | BB4: Ⅱb | BC4: Ⅳ | BD4: Ⅲ | BE4: Ⅱa | BF4: Ⅱb | BG4: Ⅳ | BH4: Ⅲ | BI4: Ⅱa | BJ4: Ⅱb | BK4: Ⅳ | BL4: Ⅲ | BM4: Ⅱa | BN4: Ⅱb | BO4: Ⅳ | BP4: Ⅲ | BQ4: Ⅱa | BR4: Ⅱb | BS4: Ⅳ | BT4: Ⅲ | BU4: Ⅱa | BV4: Ⅱb
B5: 名 称 | E5: ='様式A-1'!$D$4 -> 中山トンネル | K5: 管理者名 | N5: ='様式A-1'!$R$3 -> 山口県岩国土木建築事務所 | Y5: =+'様式B (1)'!$S$4 -> 小笠原洋 | AV5: =N7 -> S026 | AW5: =R7 -> 10.5 | AX5: =AM35 -> Ⅰ | AY5: =Y37 -> 0 | AZ5: =Z37 -> 0 | BA5: =AA37 -> 0 | BB5: =AB37 -> 0 | BC5: =AC37 -> 0 | BD5: =AD37 -> 0 | BE5: =AE37 -> 0 | BF5: =AF37 -> 0 | ... BJ5: =AJ37 -> 0 | BK5: =IF(Y37>0,R7,"") | BL5: =IF(Y37>0,"",IF(Z37>0,R7,"")) | BM5: =IF(Y37+Z37>0,"",IF(AA37>0,R7,"")) | BN5: =IF(Y37+Z37+AA37>0,"",IF(AB37>0,R7,"")) | BO5: =AC35 -> 0 | BP5: =AD35 -> 0 | BQ5: =AE35 -> 0 | BR5: =AF35 -> 0 | BS5: =AG35 -> 0 | BT5: =AH35 -> 0 | BU5: =AI35 -> 0 | BV5: =AJ35 -> 0
B6: スパン別変状展開図 | K6: 【健全性判定集計表】
