Workbook
Name コード: [1]ﾘｽﾄ!$A$3:$A$8
Name その他: '(参考)リスト'!$C$45
Name その他施設: '(参考)リスト'!$C$76:$C$80
Name トンネル分類: [1]ﾘｽﾄ!$D$3:$D$10
Name 一般有料区分: [1]ﾘｽﾄ!$C$3:$C$4
Name 外力: '(参考)リスト'!$E$16:$E$23
Name 換気施設: '(参考)リスト'!$C$55:$C$59
Name 区分: [1]ﾘｽﾄ!$B$3:$B$8
Name 坑門: '(参考)リスト'!$C$16:$C$29
Name 材質劣化: '(参考)リスト'!$E$25:$E$30
Name 照明施設: '(参考)リスト'!$C$51:$C$53
Name 対象箇所: テーブル1[対象箇所]
Name 対象箇所: テーブル1[対象箇所]
Name 対象箇所: テーブル1[対象箇所]
Name 対象箇所: テーブル1[対象箇所]
Name 対象箇所: テーブル1[対象箇所]
Name 対象箇所: テーブル1[対象箇所]
Name 対象箇所: テーブル1[対象箇所]
Name 対象箇所: テーブル1[対象箇所]
Name 対象箇所: テーブル1[対象箇所]
Name 対象箇所: テーブル1[対象箇所]
Name 対象箇所: テーブル1[対象箇所]
Name 対象箇所: テーブル1[対象箇所]
Name 対象箇所: テーブル1[対象箇所]
Name 対象箇所: テーブル1[対象箇所]
Name 対象箇所: テーブル1[対象箇所]
Name 対象箇所: テーブル1[対象箇所]
Name 対象箇所: テーブル1[対象箇所]
Name 対象箇所: テーブル1[対象箇所]
Name 対象箇所: テーブル1[対象箇所]
Name 対象箇所: テーブル1[対象箇所]
Name 対象箇所: テーブル1[対象箇所]
Name 対象箇所: テーブル1[対象箇所]
Name 対象箇所: テーブル1[対象箇所]
Name 対象箇所: テーブル1[対象箇所]
Name 対象箇所: テーブル1[対象箇所]
Name 対象箇所: テーブル1[対象箇所]
Name 対象箇所: テーブル1[対象箇所]
Name 対象箇所: テーブル1[対象箇所]
Name 対象箇所: テーブル1[対象箇所]
Name 対象箇所: テーブル1[対象箇所]
Name 対象箇所: テーブル1[対象箇所]
Name 対象箇所: テーブル1[対象箇所]
Name 対象箇所: テーブル1[対象箇所]
Name 対象箇所: テーブル1[対象箇所]
Name 対象箇所: テーブル1[対象箇所]
Name 対象箇所: テーブル1[対象箇所]
Name 対象箇所: テーブル1[対象箇所]
Name 対象箇所: テーブル1[対象箇所]
Name 対象箇所: テーブル1[対象箇所]
Name 対象箇所: テーブル1[対象箇所]
Name 対象箇所: テーブル1[対象箇所]
Name 対象箇所: テーブル1[対象箇所]
Name 対象箇所: テーブル1[対象箇所]
Name 対象箇所: テーブル1[対象箇所]
Name 対象箇所: テーブル1[対象箇所]
Name 対象箇所: テーブル1[対象箇所]
Name 対象箇所: テーブル1[対象箇所]
Name 対象箇所: テーブル1[対象箇所]
Name 対象箇所: テーブル1[対象箇所]

Sheet 点検様式作成フロー
A1: 点検様式作成フロ-
A3: 作成フロー図 | H3: 点検調書作成手順
H4: ①様式A-1～A-3（トンネル台帳）
H5: トンネル点検の実施にあたっては，現場点検作業に先行してトンネル情報を収集する。トンネル台帳（様式Ａ－1～様式Ａ－3）はトンネル完成後に作成され，維持管理の段階で引き継がれるが，関連資料等を確認したうえで，追加情報があれば必要に応じて追記することが望ましい。
H9: ②様式D-2-1、様式D-2-1´
H10: 現場点検作業を実施し，近接目視点検で確認した変状状況や補修履歴を忠実に変状展開図に転記する
H12: ③様式D-1-1、様式D-1-2
H13: 変状展開図や撮影した写真等をもとに，対象トンネルの対策区分を判定し，対策区分の判定区分がⅡ～Ⅳの変状および異常判定区分「×」を抽出し，写真台帳を作成する
H16: ④様式B
H17: 写真台帳の作成と同時に，トンネルの構造を展開した位置図に変状写真位置を記録する
H19: ⑤様式D-3
H20: 変状展開図ならびに写真台帳をもとに覆工スパンごとの変状展開図を作成し，変状発生状況をとりまとめる
H22: ⑥様式E-1、様式E-2
H23: 様式Ｄ－1～様式Ｄ－3をもとに，健全性の診断結果を集計する
... H31: ファイルは以下の分割規則に従う。 ※各ファイルとも （参考）リスト のシートを付けて保存すること。 ・様式A-1～A-3は同一ファイルとする。 ・様式B、D-1-1、D-1-2、D-2-1（もしくはD-2-1'）、Eは別ファイルとする。 ・様式C-1-1,C-1-2、C-2は同一ファイルとする。 ・様式D-3、E、Fは同一ファイルとする。

Sheet 変状面積算出方法
A1: 変状面積算出方法
A26: 注1）外力による変状：ひび割れや圧ざの場合は変状の寸法を記録する。
A27: 例）ひび割れ：長さ（L）×最大ひび割れ幅（t）を記録する。 変形，移動，沈下：数値的な記載が可能な場合のみ記載する。
A28: 注2）材料劣化による：打音異常
A29: 例）うき，はく離（閉合ひび割れ）：変状範囲を包括する寸法（L×W） うき，はく離（ひび割れ沿い）：打音異常箇所を包括する寸法（L×W） 鋼材腐食（鉄筋腐食）：一括した対策が適当と考えられる範囲を包括する寸法（L×W）
A30: 注3）漏水による変状：漏水発生範囲を包括し，垂れ下がりの可能性がある側壁下端まで含めた寸法を，L×Wで記録する。打継ぎ目地沿いの 漏水については目地を跨いだ50cm幅を横幅とする。

Sheet 様式A-1
B2: ■トンネル台帳 トンネル諸元、非常用施設諸元 【様式A-1】 | S2: トンネルID | W2: 34.23342,131.34992
B3: フリガナ | D3: ナカヤマトンネル | H3: 路線名 | J3: 一般国道490号 小郡萩道路 | P3: 管理者名 | R3: 山口県宇部土木建築事務所 美祢支所 | W3: 緊急輸送道路 | Z3: 有
B4: 名 称 | D4: 中山トンネル | W4: 代替路の有無 | Z4: 有
B5: 所在地 | D5: 自 | E5: 美祢市美東町川上 | H5: 作成者 | K5: 基礎地盤コンサルタンツ株式会社 安田 啓吾 | P5: 作成年月日 | R5: 45181 | U5: トンネル延長 | X5: L= | Z5: 497 | AB5: ｍ
D6: 至 | E6: 美祢市美東町川上 | U6: ﾄﾝﾈﾙの分類 | X6: 陸上トンネル（掘進工法）
B7: 起点 | C7: 緯度 | E7: 341400.3 | H7: 完成年月日 | K7: 2003 | M7: 舗装 | O7: 種 別 | Q7: コンクリート系 | S7: トンネル非常用施設 | T7: 施設の内訳 | X7: 種別・方式 | Y7: 型式 | Z7: 個数 | AA7: 更新年度 | AE7: 34 | AF7: 14 | AG7: 0.3 | AH7: =ROUND(AE7+AF7/60+AG7/60/60,5) -> 34.23342 | AI7: =TEXT(AH7,"0.00000") -> 34.23342
C8: 経度 | E8: 1312059.7 | H8: 供用年月日 | K8: 40691 | O8: 厚 さ | Q8: 0.28m | T8: 通報設備 | U8: 通話型通報設備 | X8: - | Y8: - | Z8: 3 | AA8: - | AE8: 131 | AF8: 20 | AG8: 59.7 | AH8: =ROUND(AE8+AF8/60+AG8/60/60,5) -> 131.34992 | AI8: =TEXT(AH8,"0.00000") -> 131.34992
B9: 終点 | C9: 緯度 | E9: 341416.4 | H9: トンネル区分 | K9: B | O9: 面 積 | Q9: 4279.2 | U9: 操作型通報設備 | X9: - | Y9: - | Z9: 9 | AA9: -
C10: 経度 | E10: 1312058.8 | H10: 内装種類 | K10: 覆工（内装なし） | O10: 更新年次 | Q10: - | U10: 自動通報設備 | X10: - | Y10: - | Z10: - | AA10: -
B11: 一般有料区分 | E11: 一般（無料） | H11: 天井板種類 | K11: 覆工（内装なし） | M11: 排水 | O11: 種 別 | Q11: 円形+暗渠排水 | T11: 警報設備 | U11: 非常警報設備 | X11: - | Y11: - | Z11: - | AA11: -
B12: 土かぶり | E12: 117 | G12: m | H12: 坑門 | I12: 起点 | J12: 形式 | K12: 面壁型 | O12: 更新年次 | Q12: - | T12: 消火設備 | U12: 消 火 器 | X12: - | Y12: - | Z12: 18 | AA12: -
B13: 内空断面積 | E13: 66.7 | G13: ㎡ | J13: 延長 | K13: - | L13: m | M13: 施設 | P13: 種別・方式 | Q13: 個数 | R13: 更新年次 | U13: 消火栓設備 | X13: - | Y13: - | Z13: - | AA13: -
B14: 交 通 量 | E14: 5787 | G14: 台/日 | I14: 終点 | J14: 形式 | K14: 面壁型 | M14: 道路附属物等 | N14: 照明 | P14: ナトリウム灯 | Q14: 224 | R14: - | T14: 避難誘導設備 | U14: 誘導表示設備 | X14: - | Y14: - | Z14: 3 | AA14: -
C15: 道 路 幅 | E15: 11.6 | G15: m | J15: 延長 | K15: - | L15: m | N15: 換気 | P15: 自然換気 | Q15: - | R15: - | U15: 避難情報提供設備 | X15: - | Y15: - | Z15: - | AA15: -
B16: 幅 員 | C16: 車 道 幅 | E16: 3.5 | G16: m | H16: 竣工巻厚 | I16: アーチ | K16: 30 | L16: cm | N16: 標識 | P16: - | Q16: 3 | R16: - | X16: - | Y16: - | Z16: - | AA16: -
E17: 3.5 | G17: m | I17: 側 壁 | K17: 30 | L17: cm | N17: 警報表示板 | P17: - | Q17: - | R17: - | U17: 避難通路 | X17: - | Y17: - | Z17: - | AA17: -
C18: 歩道等幅 | E18: 2.4 | G18: m | K18: 30 | L18: cm | N18: 吸音板 | P18: - | Q18: - | R18: - | U18: 排煙設備 | X18: - | Y18: - | Z18: - | AA18: -
B19: 高さ | C19: 建築限界高 | E19: 4.5 | G19: m | I19: インバート | K19: 50 | L19: cm | T19: その他の設備 | U19: 給水栓設備 | X19: - | Y19: - | Z19: - | AA19: -
C20: 中央高 | E20: 6.45 | G20: m | H20: 半径 | I20: アーチ | K20: 580 | L20: cm | U20: 無線通信補助設備 | X20: - | Y20: - | Z20: 1 | AA20: -
C21: 有効高 | E21: 5.2 | G21: m | I21: 側 壁 | K21: 580 | L21: cm | U21: 水噴霧設備 | X21: - | Y21: - | Z21: - | AA21: -
C22: 縦断勾配 | E22: 2.8 | I22: インバート | K22: 1705 | L22: cm | U22: 監視設備 | X22: - | Y22: - | Z22: - | AA22: -
B23: 線 形 | C23: 直線区間長 | E23: 0 | H23: 占用物件 | I23: 種 類 | K23: 寸 法 | M23: 管理者名 | Q23: 更新年次 | S23: 非常用施設 関連設備 | U23: 予備発電設備 | X23: - | Y23: - | Z23: - | AA23: -
C24: 曲線区間 | D24: 区間長 | F24: 126.7
D25: 起点側ｸﾛｿｲﾄﾞ | F25: 400
D26: 曲線半径 | F26: -
D27: 終点側ｸﾛｿｲﾄﾞ | F27: - | S27: その他 | U27: 非常駐車帯 | X27: - | Y27: - | Z27: - | AA27: -
B28: トンネル工法 | E28: 山岳トンネル工法（NATM） | U28: 方向転換所 | X28: - | Y28: - | Z28: - | AA28: -
C29: ※緯度・経度については、秒の少数第二位の単位まで記入すること。（例；36度20分35.56秒の場合、362035.36と入力）

Sheet 様式A-2
B3: ■トンネル台帳 トンネル情報一覧表 【様式A-2】
B4: フリガナ | E4: ='様式A-1'!D3 -> ナカヤマトンネル | J4: 路線名 | M4: ='様式A-1'!J3 -> 一般国道490号 小郡萩道路 | S4: 作成者 | Y4: ='様式A-1'!K5 -> 基礎地盤コンサルタンツ株式会社 安田 啓吾 | AE4: 作成年月日 | AI4: ='様式A-1'!R5 -> 45181
B5: 名 称 | E5: ='様式A-1'!D4 -> 中山トンネル | J5: 管理者名 | M5: ='様式A-1'!R3 -> 山口県宇部土木建築事務所 美祢支所
B6: 覆工 ｽﾊﾟﾝ 番号 | C6: ｽﾊﾟﾝ長 | D6: 追加距離 | F6: トンネル本体工 | K6: 照明施設 | O6: 非常用施設 | AE6: 換気施設 | AK6: その他附属物等
O7: ='様式A-1'!T8 -> 通報設備 | R7: ='様式A-1'!T11 -> 警報設備 | S7: ='様式A-1'!T12 -> 消火設備 | U7: ='様式A-1'!T14 -> 避難誘導設備 | Y7: ='様式A-1'!T19 -> その他の設備 | AC7: 特記事項
D8: 起点側 | E8: 終点側 | F8: 特記事項 | I8: 内装板 | J8: 天井板 | K8: 基本照明 | L8: 入口出口照明 | M8: 特記事項 | O8: ='様式A-1'!U8 -> 通話型通報設備 | P8: ='様式A-1'!U9 -> 操作型通報設備 | Q8: ='様式A-1'!U10 -> 自動通報設備 | R8: ='様式A-1'!U11 -> 非常警報設備 | S8: ='様式A-1'!U12 -> 消 火 器 | T8: ='様式A-1'!U13 -> 消火栓設備 | U8: ='様式A-1'!U14 -> 誘導表示設備 | V8: ='様式A-1'!U15 -> 避難情報提供設備 | W8: ='様式A-1'!U17 -> 避難通路 | X8: ='様式A-1'!U18 -> 排煙設備 | Y8: ='様式A-1'!U19 -> 給水栓設備 | Z8: ='様式A-1'!U20 -> 無線通信補助設備 | AA8: ='様式A-1'!U21 -> 水噴霧設備 | AB8: ='様式A-1'!U22 -> 監視設備 | AE8: JF | AF8: VI計 | AG8: CO計 | AH8: 風向 風速計 | AI8: 特記事項
C9: (m) | D9: (m) | E9: (m)
B10: PS | C10: 0.15 | E10: =C10+D10 -> 0.15 | F10: 坑門（面壁型）
B11: S1 | C11: 9.35 | D11: =E10 -> 0.15 | E11: =C11+D11 -> 9.5 | K11: ○ | L11: ○
B12: S2 | C12: 10.5 | D12: =E11 -> 9.5 | E12: =C12+D12 -> 20 | K12: ○ | L12: ○
B13: S3 | C13: 10.5 | D13: =E12 -> 20 | E13: =C13+D13 -> 30.5 | L13: ○
B14: S4 | C14: 10.5 | D14: =E13 -> 30.5 | E14: =C14+D14 -> 41 | K14: ○ | L14: ○
B15: S5 | C15: 10.5 | D15: =E14 -> 41 | E15: =C15+D15 -> 51.5 | K15: ○ | L15: ○ | O15: ① | P15: ① | S15: ①
B16: S6 | C16: 10.5 | D16: =E15 -> 51.5 | E16: =C16+D16 -> 62 | K16: ○ | L16: ○
B17: S7 | C17: 10.5 | D17: =E16 -> 62 | E17: =C17+D17 -> 72.5 | L17: ○
B18: S8 | C18: 10.5 | D18: =E17 -> 72.5 | E18: =C18+D18 -> 83 | K18: ○ | L18: ○
B19: S9 | C19: 10.5 | D19: =E18 -> 83 | E19: =C19+D19 -> 93.5 | K19: ○ | L19: ○
B20: S10 | C20: 10.5 | D20: =E19 -> 93.5 | E20: =C20+D20 -> 104 | K20: ○ | L20: ○ | P20: ② | S20: ②
B21: S11 | C21: 10.5 | D21: =E20 -> 104 | E21: =C21+D21 -> 114.5 | L21: ○
B22: S12 | C22: 10.5 | D22: =E21 -> 114.5 | E22: =C22+D22 -> 125 | K22: ○ | L22: ○
B23: S13 | C23: 10.5 | D23: =E22 -> 125 | E23: =C23+D23 -> 135.5 | K23: ○ | L23: ○
B24: S14 | C24: 10.5 | D24: =E23 -> 135.5 | E24: =C24+D24 -> 146 | K24: ○ | L24: ○
B25: S15 | C25: 10.5 | D25: =E24 -> 146 | E25: =C25+D25 -> 156.5 | L25: ○ | P25: ③ | S25: ③ | U25: ○
B26: S16 | C26: 10.5 | D26: =E25 -> 156.5 | E26: =C26+D26 -> 167 | K26: ○ | L26: ○
B27: S17 | C27: 10.5 | D27: =E26 -> 167 | E27: =C27+D27 -> 177.5 | K27: ○
B28: S18 | C28: 10.5 | D28: =E27 -> 177.5 | E28: =C28+D28 -> 188 | K28: ○ | L28: ○
B29: S19 | C29: 10.5 | D29: =E28 -> 188 | E29: =C29+D29 -> 198.5 | L29: ○
B30: S20 | C30: 10.5 | D30: =E29 -> 198.5 | E30: =C30+D30 -> 209 | K30: ○ | L30: ○ | P30: ④ | S30: ④
B31: S21 | C31: 10.5 | D31: =E30 -> 209 | E31: =C31+D31 -> 219.5 | K31: ○
B32: S22 | C32: 10.5 | D32: =E31 -> 219.5 | E32: =C32+D32 -> 230 | K32: ○ | L32: ○
B33: S23 | C33: 10.5 | D33: =E32 -> 230 | E33: =C33+D33 -> 240.5 | L33: ○
B34: S24 | C34: 10.5 | D34: =E33 -> 240.5 | E34: =C34+D34 -> 251 | K34: ○ | O34: ② | P34: ⑤ | S34: ⑤ | U34: ○
B35: S25 | C35: 10.5 | D35: =E34 -> 251 | E35: =C35+D35 -> 261.5 | K35: ○
B36: S26 | C36: 10.5 | D36: =E35 -> 261.5 | E36: =C36+D36 -> 272 | K36: ○ | L36: ○
B37: S27 | C37: 10.5 | D37: =E36 -> 272 | E37: =C37+D37 -> 282.5 | L37: ○
B38: S28 | C38: 10.5 | D38: =E37 -> 282.5 | E38: =C38+D38 -> 293 | K38: ○ | L38: ○
B39: S29 | C39: 10.5 | D39: =E38 -> 293 | E39: =C39+D39 -> 303.5 | K39: ○ | P39: ⑥ | S39: ⑥
B40: S30 | C40: 10.5 | D40: =E39 -> 303.5 | E40: =C40+D40 -> 314 | K40: ○ | L40: ○
B41: S31 | C41: 10.5 | D41: =E40 -> 314 | E41: =C41+D41 -> 324.5 | L41: ○
B42: S32 | C42: 10.5 | D42: =E41 -> 324.5 | E42: =C42+D42 -> 335 | K42: ○ | L42: ○
...

Sheet 様式A-3
B3: ■トンネル台帳 トンネル記録（位置図、断面図、施工実績他）【様式A-3】
B4: フリガナ | E4: ='様式A-1'!D3 -> ナカヤマトンネル | J4: 路線名 | M4: ='様式A-1'!J3 -> 一般国道490号 小郡萩道路 | S4: 作成者 | W4: ='様式A-1'!K5 -> 基礎地盤コンサルタンツ株式会社 安田 啓吾 | AC4: 作成年月日 | AF4: ='様式A-1'!R5 -> 45181
B5: 名 称 | E5: ='様式A-1'!D4 -> 中山トンネル | J5: 管理者名 | M5: ='様式A-1'!R3 -> 山口県宇部土木建築事務所 美祢支所
B6: 位置図・現況写真・標準断面図・地質縦断図・施工実績
B20: ■トンネル台帳 トンネル記録（位置図、断面図、施工実績他）【様式A-3】
B21: フリガナ | E21: ='様式A-1'!D3 -> ナカヤマトンネル | J21: 路線名 | M21: ='様式A-1'!J3 -> 一般国道490号 小郡萩道路 | S21: 作成者 | W21: ='様式A-1'!K5 -> 基礎地盤コンサルタンツ株式会社 安田 啓吾 | AC21: 作成年月日 | AF21: ='様式A-1'!R5 -> 45181
B22: 名 称 | E22: ='様式A-1'!D4 -> 中山トンネル | J22: 管理者名 | M22: ='様式A-1'!R3 -> 山口県宇部土木建築事務所 美祢支所
B23: 位置図・現況写真・標準断面図・地質縦断図・施工実績
B37: ■トンネル台帳 トンネル記録（位置図、断面図、施工実績他）【様式A-3】
B38: フリガナ | E38: ='様式A-1'!D3 -> ナカヤマトンネル | J38: 路線名 | M38: ='様式A-1'!J3 -> 一般国道490号 小郡萩道路 | S38: 作成者 | W38: ='様式A-1'!K5 -> 基礎地盤コンサルタンツ株式会社 安田 啓吾 | AC38: 作成年月日 | AF38: ='様式A-1'!R5 -> 45181
B39: 名 称 | E39: ='様式A-1'!D4 -> 中山トンネル | J39: 管理者名 | M39: ='様式A-1'!R3 -> 山口県宇部土木建築事務所 美祢支所
B40: 位置図・現況写真・標準断面図・地質縦断図・施工実績
B54: ■トンネル台帳 トンネル記録（位置図、断面図、施工実績他）【様式A-3】
B55: フリガナ | E55: ='様式A-1'!D3 -> ナカヤマトンネル | J55: 路線名 | M55: ='様式A-1'!J3 -> 一般国道490号 小郡萩道路 | S55: 作成者 | W55: ='様式A-1'!K5 -> 基礎地盤コンサルタンツ株式会社 安田 啓吾 | AC55: 作成年月日 | AF55: 45181
B56: 名 称 | E56: ='様式A-1'!D4 -> 中山トンネル | J56: 管理者名 | M56: ='様式A-1'!R3 -> 山口県宇部土木建築事務所 美祢支所
B57: 位置図・現況写真・標準断面図・地質縦断図・施工実績

Sheet 様式B(トンネル様式1P001)
B2: ■定期点検記録様式 トンネル変状・異常箇所写真位置図 | T2: トンネルID | V2: 34.23342,131.34992 | AA2: Ⅰ | AB2: あり | AC2: 陸上トンネル 掘進工法
B3: フリガナ | D3: ='様式A-1'!D3 -> ナカヤマトンネル | H3: 路線名 | J3: ='様式A-1'!J3 -> 一般国道490号 小郡萩道路 | N3: 管理者名 | P3: ='様式A-1'!R3 -> 山口県宇部土木建築事務所 美祢支所 | T3: 緊急輸送道路 | V3: あり | AA3: Ⅱ | AB3: なし | AC3: 陸上トンネル 開削工法
B4: 名 称 | D4: ='様式A-1'!D4 -> 中山トンネル | T4: 代替路の有無 | V4: あり | AA4: Ⅲ | AC4: 陸上トンネル その他
B5: 所在地 | D5: 自 | E5: ='様式A-1'!E5 -> 美祢市美東町川上 | H5: 定期点検業者 | K5: 基礎地盤コンサルタンツ株式会社 | O5: 定期点検年月日 | Q5: 45160 | T5: トンネル延長 | V5: L= | W5: 497 | Y5: ｍ | AA5: Ⅳ | AC5: 水底トンネル 掘進工法
D6: 至 | E6: ='様式A-1'!E6 -> 美祢市美東町川上 | H6: 定期点検者名 | K6: 安田 啓吾 | T6: ﾄﾝﾈﾙの分類 | V6: 陸上トンネル 掘進工法 | AC6: 水底トンネル 沈埋工法
B7: 起点 | C7: 緯度 | D7: ='様式A-1'!E7 -> 341400.3 | F7: 変状・異常 箇所数合計 | H7: トンネル 本体工 | J7: 材質劣化 | L7: Ⅱ | M7: 12 | N7: Ⅲ | O7: 0 | P7: Ⅳ | Q7: 0 | R7: トンネル毎 の健全性 | T7: Ⅱ | V7: 附属物の 取付状態 | W7: ◯ （応急措置後） | Y7: 0 | AC7: 水底トンネル 開削工法
AC8: 水底トンネル その他
C10: 経度 | D10: ='様式A-1'!E8 -> 1312059.7
J11: 漏水 | L11: Ⅱ | M11: 1 | N11: Ⅲ | O11: 0 | P11: Ⅳ | Q11: 0
B13: 終点 | C13: 緯度 | D13: ='様式A-1'!E9 -> 341416.4 | W13: ✕ | Y13: 0
J15: 外力 | L15: Ⅱ | M15: 0 | N15: Ⅲ | O15: 0 | P15: Ⅳ | Q15: 0 | AC15: 0
C16: 経度 | D16: ='様式A-1'!E10 -> 1312058.8
B19: トンネル変状・異常箇所写真位置図
P26: 注１：本位置図は、見下げた状態で記載すること。 注２：覆工スパン番号は横断目地毎(矢板工法の場合は上半アーチ の横断目地毎)に設定すること。 注３：写真番号に付する変状番号は、各覆工スパンの変状に対して新た に確認された場合は順次追加していくこと。 注４：横断目地の変状は前の覆工スパン番号で計上すること。 注５：１枚に収まらない場合は、複数枚に分けて作成すること。
C28: ※1 トンネル本体工の変状数は、材質劣化、漏水に起因するものは変状単位で、外力に起因するものはスパン単位で計上すること。
C29: ※2 本体工の変状に対しては、健全性の判定区分Ⅱ～Ⅳについて添付すること。また、点検前に実施された措置によりⅠと判定された箇所も添付すること。
C30: ※3 附属物の取付状態の○欄については、応急措置前に判定区分×とした箇所のうち応急措置により○判定とした箇所の数を記入すること。
C31: ※4 附属物の異常番号は、本体工と番号が重複しないよう101番以降とする等の配慮を行い、分かりやすく記録すること。

Sheet 様式B(トンネル様式1P002)
B2: ■定期点検記録様式 トンネル変状・異常箇所写真位置図 | T2: トンネルID | V2: 34.23342,131.34992 | AA2: Ⅰ | AB2: あり | AC2: 陸上トンネル 掘進工法
B3: フリガナ | D3: ='様式A-1'!D3 -> ナカヤマトンネル | H3: 路線名 | J3: ='様式A-1'!J3 -> 一般国道490号 小郡萩道路 | N3: 管理者名 | P3: ='様式A-1'!R3 -> 山口県宇部土木建築事務所 美祢支所 | T3: 緊急輸送道路 | V3: あり | AA3: Ⅱ | AB3: なし | AC3: 陸上トンネル 開削工法
B4: 名 称 | D4: ='様式A-1'!D4 -> 中山トンネル | T4: 代替路の有無 | V4: あり | AA4: Ⅲ | AC4: 陸上トンネル その他
B5: 所在地 | D5: 自 | E5: ='様式A-1'!E5 -> 美祢市美東町川上 | H5: 定期点検業者 | K5: 基礎地盤コンサルタンツ株式会社 | O5: 定期点検年月日 | Q5: 45160 | T5: トンネル延長 | V5: L= | W5: 497 | Y5: ｍ | AA5: Ⅳ | AC5: 水底トンネル 掘進工法
D6: 至 | E6: ='様式A-1'!E6 -> 美祢市美東町川上 | H6: 定期点検者名 | K6: 安田 啓吾 | T6: ﾄﾝﾈﾙの分類 | V6: 陸上トンネル 掘進工法 | AC6: 水底トンネル 沈埋工法
B7: 起点 | C7: 緯度 | D7: ='様式A-1'!E7 -> 341400.3 | F7: 変状・異常 箇所数合計 | H7: トンネル 本体工 | J7: 材質劣化 | L7: Ⅱ | M7: 12 | N7: Ⅲ | O7: 0 | P7: Ⅳ | Q7: 0 | R7: トンネル毎 の健全性 | T7: Ⅱ | V7: 附属物の 取付状態 | W7: ◯ （応急措置後） | Y7: 0 | AC7: 水底トンネル 開削工法
AC8: 水底トンネル その他
C10: 経度 | D10: ='様式A-1'!E8 -> 1312059.7
J11: 漏水 | L11: Ⅱ | M11: 1 | N11: Ⅲ | O11: 0 | P11: Ⅳ | Q11: 0
B13: 終点 | C13: 緯度 | D13: ='様式A-1'!E9 -> 341416.4 | W13: ✕ | Y13: 0
J15: 外力 | L15: Ⅱ | M15: 0 | N15: Ⅲ | O15: 0 | P15: Ⅳ | Q15: 0 | AC15: 0
C16: 経度 | D16: ='様式A-1'!E10 -> 1312058.8
B19: トンネル変状・異常箇所写真位置図
P26: 注１：本位置図は、見下げた状態で記載すること。 注２：覆工スパン番号は横断目地毎(矢板工法の場合は上半アーチ の横断目地毎)に設定すること。 注３：写真番号に付する変状番号は、各覆工スパンの変状に対して新た に確認された場合は順次追加していくこと。 注４：横断目地の変状は前の覆工スパン番号で計上すること。 注５：１枚に収まらない場合は、複数枚に分けて作成すること。
C28: ※1 トンネル本体工の変状数は、材質劣化、漏水に起因するものは変状単位で、外力に起因するものはスパン単位で計上すること。
C29: ※2 本体工の変状に対しては、健全性の判定区分Ⅱ～Ⅳについて添付すること。また、点検前に実施された措置によりⅠと判定された箇所も添付すること。
C30: ※3 附属物の取付状態の○欄については、応急措置前に判定区分×とした箇所のうち応急措置により○判定とした箇所の数を記入すること。
C31: ※4 附属物の異常番号は、本体工と番号が重複しないよう101番以降とする等の配慮を行い、分かりやすく記録すること。

Sheet 様式B(トンネル様式1P003)
B2: ■定期点検記録様式 トンネル変状・異常箇所写真位置図 | T2: トンネルID | V2: 34.23342,131.34992 | AA2: Ⅰ | AB2: あり | AC2: 陸上トンネル 掘進工法
B3: フリガナ | D3: ='様式A-1'!D3 -> ナカヤマトンネル | H3: 路線名 | J3: ='様式A-1'!J3 -> 一般国道490号 小郡萩道路 | N3: 管理者名 | P3: ='様式A-1'!R3 -> 山口県宇部土木建築事務所 美祢支所 | T3: 緊急輸送道路 | V3: あり | AA3: Ⅱ | AB3: なし | AC3: 陸上トンネル 開削工法
B4: 名 称 | D4: ='様式A-1'!D4 -> 中山トンネル | T4: 代替路の有無 | V4: あり | AA4: Ⅲ | AC4: 陸上トンネル その他
B5: 所在地 | D5: 自 | E5: ='様式A-1'!E5 -> 美祢市美東町川上 | H5: 定期点検業者 | K5: 基礎地盤コンサルタンツ株式会社 | O5: 定期点検年月日 | Q5: 45160 | T5: トンネル延長 | V5: L= | W5: 497 | Y5: ｍ | AA5: Ⅳ | AC5: 水底トンネル 掘進工法
D6: 至 | E6: ='様式A-1'!E6 -> 美祢市美東町川上 | H6: 定期点検者名 | K6: 安田 啓吾 | T6: ﾄﾝﾈﾙの分類 | V6: 陸上トンネル 掘進工法 | AC6: 水底トンネル 沈埋工法
B7: 起点 | C7: 緯度 | D7: ='様式A-1'!E7 -> 341400.3 | F7: 変状・異常 箇所数合計 | H7: トンネル 本体工 | J7: 材質劣化 | L7: Ⅱ | M7: 12 | N7: Ⅲ | O7: 0 | P7: Ⅳ | Q7: 0 | R7: トンネル毎 の健全性 | T7: Ⅱ | V7: 附属物の 取付状態 | W7: ◯ （応急措置後） | Y7: 0 | AC7: 水底トンネル 開削工法
AC8: 水底トンネル その他
C10: 経度 | D10: ='様式A-1'!E8 -> 1312059.7
J11: 漏水 | L11: Ⅱ | M11: 1 | N11: Ⅲ | O11: 0 | P11: Ⅳ | Q11: 0
B13: 終点 | C13: 緯度 | D13: ='様式A-1'!E9 -> 341416.4 | W13: ✕ | Y13: 0
J15: 外力 | L15: Ⅱ | M15: 0 | N15: Ⅲ | O15: 0 | P15: Ⅳ | Q15: 0 | AC15: 0
C16: 経度 | D16: ='様式A-1'!E10 -> 1312058.8
B19: トンネル変状・異常箇所写真位置図
P26: 注１：本位置図は、見下げた状態で記載すること。 注２：覆工スパン番号は横断目地毎(矢板工法の場合は上半アーチ の横断目地毎)に設定すること。 注３：写真番号に付する変状番号は、各覆工スパンの変状に対して新た に確認された場合は順次追加していくこと。 注４：横断目地の変状は前の覆工スパン番号で計上すること。 注５：１枚に収まらない場合は、複数枚に分けて作成すること。
C28: ※1 トンネル本体工の変状数は、材質劣化、漏水に起因するものは変状単位で、外力に起因するものはスパン単位で計上すること。
C29: ※2 本体工の変状に対しては、健全性の判定区分Ⅱ～Ⅳについて添付すること。また、点検前に実施された措置によりⅠと判定された箇所も添付すること。
C30: ※3 附属物の取付状態の○欄については、応急措置前に判定区分×とした箇所のうち応急措置により○判定とした箇所の数を記入すること。
C31: ※4 附属物の異常番号は、本体工と番号が重複しないよう101番以降とする等の配慮を行い、分かりやすく記録すること。

Sheet 様式B(トンネル様式1P004)
B2: ■定期点検記録様式 トンネル変状・異常箇所写真位置図 | T2: トンネルID | V2: 34.23342,131.34992 | AA2: Ⅰ | AB2: あり | AC2: 陸上トンネル 掘進工法
B3: フリガナ | D3: ='様式A-1'!D3 -> ナカヤマトンネル | H3: 路線名 | J3: ='様式A-1'!J3 -> 一般国道490号 小郡萩道路 | N3: 管理者名 | P3: ='様式A-1'!R3 -> 山口県宇部土木建築事務所 美祢支所 | T3: 緊急輸送道路 | V3: あり | AA3: Ⅱ | AB3: なし | AC3: 陸上トンネル 開削工法
B4: 名 称 | D4: ='様式A-1'!D4 -> 中山トンネル | T4: 代替路の有無 | V4: あり | AA4: Ⅲ | AC4: 陸上トンネル その他
B5: 所在地 | D5: 自 | E5: ='様式A-1'!E5 -> 美祢市美東町川上 | H5: 定期点検業者 | K5: 基礎地盤コンサルタンツ株式会社 | O5: 定期点検年月日 | Q5: 45160 | T5: トンネル延長 | V5: L= | W5: 497 | Y5: ｍ | AA5: Ⅳ | AC5: 水底トンネル 掘進工法
D6: 至 | E6: ='様式A-1'!E6 -> 美祢市美東町川上 | H6: 定期点検者名 | K6: 安田 啓吾 | T6: ﾄﾝﾈﾙの分類 | V6: 陸上トンネル 掘進工法 | AC6: 水底トンネル 沈埋工法
B7: 起点 | C7: 緯度 | D7: ='様式A-1'!E7 -> 341400.3 | F7: 変状・異常 箇所数合計 | H7: トンネル 本体工 | J7: 材質劣化 | L7: Ⅱ | M7: 12 | N7: Ⅲ | O7: 0 | P7: Ⅳ | Q7: 0 | R7: トンネル毎 の健全性 | T7: Ⅱ | V7: 附属物の 取付状態 | W7: ◯ （応急措置後） | Y7: 0 | AC7: 水底トンネル 開削工法
AC8: 水底トンネル その他
C10: 経度 | D10: ='様式A-1'!E8 -> 1312059.7
J11: 漏水 | L11: Ⅱ | M11: 1 | N11: Ⅲ | O11: 0 | P11: Ⅳ | Q11: 0
B13: 終点 | C13: 緯度 | D13: ='様式A-1'!E9 -> 341416.4 | W13: ✕ | Y13: 0
J15: 外力 | L15: Ⅱ | M15: 0 | N15: Ⅲ | O15: 0 | P15: Ⅳ | Q15: 0 | AC15: 0
C16: 経度 | D16: ='様式A-1'!E10 -> 1312058.8
B19: トンネル変状・異常箇所写真位置図
P26: 注１：本位置図は、見下げた状態で記載すること。 注２：覆工スパン番号は横断目地毎(矢板工法の場合は上半アーチ の横断目地毎)に設定すること。 注３：写真番号に付する変状番号は、各覆工スパンの変状に対して新た に確認された場合は順次追加していくこと。 注４：横断目地の変状は前の覆工スパン番号で計上すること。 注５：１枚に収まらない場合は、複数枚に分けて作成すること。
C28: ※1 トンネル本体工の変状数は、材質劣化、漏水に起因するものは変状単位で、外力に起因するものはスパン単位で計上すること。
C29: ※2 本体工の変状に対しては、健全性の判定区分Ⅱ～Ⅳについて添付すること。また、点検前に実施された措置によりⅠと判定された箇所も添付すること。
C30: ※3 附属物の取付状態の○欄については、応急措置前に判定区分×とした箇所のうち応急措置により○判定とした箇所の数を記入すること。
C31: ※4 附属物の異常番号は、本体工と番号が重複しないよう101番以降とする等の配慮を行い、分かりやすく記録すること。

Sheet 様式B(トンネル様式1P005)
B2: ■定期点検記録様式 トンネル変状・異常箇所写真位置図 | T2: トンネルID | V2: 34.23342,131.34992 | AA2: Ⅰ | AB2: あり | AC2: 陸上トンネル 掘進工法
B3: フリガナ | D3: ='様式A-1'!D3 -> ナカヤマトンネル | H3: 路線名 | J3: ='様式A-1'!J3 -> 一般国道490号 小郡萩道路 | N3: 管理者名 | P3: ='様式A-1'!R3 -> 山口県宇部土木建築事務所 美祢支所 | T3: 緊急輸送道路 | V3: あり | AA3: Ⅱ | AB3: なし | AC3: 陸上トンネル 開削工法
B4: 名 称 | D4: ='様式A-1'!D4 -> 中山トンネル | T4: 代替路の有無 | V4: あり | AA4: Ⅲ | AC4: 陸上トンネル その他
B5: 所在地 | D5: 自 | E5: ='様式A-1'!E5 -> 美祢市美東町川上 | H5: 定期点検業者 | K5: 基礎地盤コンサルタンツ株式会社 | O5: 定期点検年月日 | Q5: 45160 | T5: トンネル延長 | V5: L= | W5: 497 | Y5: ｍ | AA5: Ⅳ | AC5: 水底トンネル 掘進工法
D6: 至 | E6: ='様式A-1'!E6 -> 美祢市美東町川上 | H6: 定期点検者名 | K6: 安田 啓吾 | T6: ﾄﾝﾈﾙの分類 | V6: 陸上トンネル 掘進工法 | AC6: 水底トンネル 沈埋工法
B7: 起点 | C7: 緯度 | D7: ='様式A-1'!E7 -> 341400.3 | F7: 変状・異常 箇所数合計 | H7: トンネル 本体工 | J7: 材質劣化 | L7: Ⅱ | M7: 12 | N7: Ⅲ | O7: 0 | P7: Ⅳ | Q7: 0 | R7: トンネル毎 の健全性 | T7: Ⅱ | V7: 附属物の 取付状態 | W7: ◯ （応急措置後） | Y7: 0 | AC7: 水底トンネル 開削工法
AC8: 水底トンネル その他
C10: 経度 | D10: ='様式A-1'!E8 -> 1312059.7
J11: 漏水 | L11: Ⅱ | M11: 1 | N11: Ⅲ | O11: 0 | P11: Ⅳ | Q11: 0
B13: 終点 | C13: 緯度 | D13: ='様式A-1'!E9 -> 341416.4 | W13: ✕ | Y13: 0
J15: 外力 | L15: Ⅱ | M15: 0 | N15: Ⅲ | O15: 0 | P15: Ⅳ | Q15: 0 | AC15: 0
C16: 経度 | D16: ='様式A-1'!E10 -> 1312058.8
B19: トンネル変状・異常箇所写真位置図
P26: 注１：本位置図は、見下げた状態で記載すること。 注２：覆工スパン番号は横断目地毎(矢板工法の場合は上半アーチ の横断目地毎)に設定すること。 注３：写真番号に付する変状番号は、各覆工スパンの変状に対して新た に確認された場合は順次追加していくこと。 注４：横断目地の変状は前の覆工スパン番号で計上すること。 注５：１枚に収まらない場合は、複数枚に分けて作成すること。
C28: ※1 トンネル本体工の変状数は、材質劣化、漏水に起因するものは変状単位で、外力に起因するものはスパン単位で計上すること。
C29: ※2 本体工の変状に対しては、健全性の判定区分Ⅱ～Ⅳについて添付すること。また、点検前に実施された措置によりⅠと判定された箇所も添付すること。
C30: ※3 附属物の取付状態の○欄については、応急措置前に判定区分×とした箇所のうち応急措置により○判定とした箇所の数を記入すること。
C31: ※4 附属物の異常番号は、本体工と番号が重複しないよう101番以降とする等の配慮を行い、分かりやすく記録すること。

Sheet 様式C-1-1
B2: ■定期点検記録様式 全スパン定期点検結果総括表（トンネル本体工） 【様式C-1-1】
B3: フリガナ | F3: ='様式A-1'!D3 -> ナカヤマトンネル | I3: 路線名 | K3: ='様式A-1'!J3 -> 一般国道490号 小郡萩道路 | O3: 定期点検業者 | Q3: ='様式B(トンネル様式1P001)'!K5 -> 基礎地盤コンサルタンツ株式会社 | U3: 定期点検年月日 | Y3: 45160
B4: 名 称 | F4: ='様式A-1'!D4 -> 中山トンネル | I4: 管理者名 | K4: ='様式A-1'!R3 -> 山口県宇部土木建築事務所 美祢支所 | O4: 定期点検者名 | Q4: ='様式B(トンネル様式1P001)'!K6 -> 安田 啓吾
B5: 定期点検結果 | C5: 覆工 スパン 番号 | E5: 変状 番号 | F5: 距離 （m） | G5: 変状部位 | I5: 変 状 の 内 容 | O5: 前回定期点検時の状態 | Q5: 今回定期点検結果 | U5: 措置履歴 | Z5: 対応方針 ・ 特記事項
G7: 対象箇所 | H7: 部位区分 | I7: 変状区分 | J7: 変状種類 | M7: 変状の発生範囲の規模 | N7: 前回定期点検時 との比較 | O7: 状態 | P7: 健全性 | Q7: 対策区分 | S7: 調査の 要否 | T7: 措置の 要否 | U7: 実施 | V7: 措置の実施状況
Q8: 応急措置前 | R8: 応急措置後
C9: S02 | E9: 1 | F9: 9.5 | G9: 覆工・坑門 | H9: 横断目地（左側） | I9: 材質劣化 | J9: その他 | M9: 0.05×0.3m | N9: 進行が認められない | O9: Ⅱb | P9: Ⅱ | Q9: Ⅱb | R9: － | S9: 否 | T9: 要監視 | U9: 継続 | V9: 監視(日常)
C10: S02 | E10: 2 | F10: 18 | G10: 覆工・坑門 | H10: アーチ（左側） | I10: 材質劣化 | J10: 鋼材腐食 | M10: 0.2×0.03m | N10: 進行が認められない | O10: Ⅱa | P10: Ⅱ | Q10: Ⅱb | R10: － | S10: 否 | T10: 要監視 | U10: 継続 | V10: 監視(日常) | Z10: 判定の見直し
C11: S08 | E11: 1 | F11: 81.8 | G11: 覆工・坑門 | H11: アーチ（左側） | I11: 材質劣化 | J11: ひび割れ | M11: 1.3×4.7m | N11: 進行が認められない | O11: Ⅱa | P11: Ⅱ | Q11: Ⅱa | R11: － | S11: 否 | T11: 要監視 | U11: 継続 | V11: 監視(重点)
C12: S16 | E12: 1 | F12: 158.9 | G12: 覆工・坑門 | H12: アーチ（天端） | I12: 材質劣化 | J12: 鋼材腐食 | M12: 0.05×0.05m | N12: 進行が認められない | O12: Ⅱa | P12: Ⅱ | Q12: Ⅱb | R12: － | S12: 否 | T12: 要監視 | U12: 継続 | V12: 監視(日常) | Z12: 判定の見直し
C13: S16 | E13: 2 | F13: 162 | G13: 覆工・坑門 | H13: アーチ（右側） | I13: 材質劣化 | J13: ひび割れ | M13: 0.8×0.3m | N13: 進行が認められない | O13: Ⅱb | P13: Ⅱ | Q13: Ⅱb | R13: － | S13: 否 | T13: 要監視 | U13: 継続 | V13: 監視(日常)
C14: S18 | E14: 1 | F14: 184.2 | G14: 覆工・坑門 | H14: アーチ（天端） | I14: 材質劣化 | J14: ひび割れ | M14: 0.5×0.2m | N14: 進行が認められない | O14: Ⅱb | P14: Ⅱ | Q14: Ⅱb | R14: － | S14: 否 | T14: 要監視 | U14: 継続 | V14: 監視(日常)
C15: S26 | E15: 1 | F15: 270.2 | G15: 覆工・坑門 | H15: アーチ（左側） | I15: 材質劣化 | J15: ひび割れ | M15: 0.4×0.15m | N15: 進行が認められない | O15: Ⅱb | P15: Ⅱ | Q15: Ⅱb | R15: － | S15: 否 | T15: 要監視 | U15: 継続 | V15: 監視(日常)
C16: S34 | E16: 1 | F16: 356 | G16: 覆工・坑門 | H16: 横断目地（右側） | I16: 材質劣化 | J16: その他 | M16: 0.05×0.2m | N16: 進行が認められない | O16: Ⅱb | P16: Ⅱ | Q16: Ⅱb | R16: － | S16: 否 | T16: 要監視 | U16: 継続 | V16: 監視(日常)
C17: S34 | E17: 2 | F17: 356 | G17: 覆工・坑門 | H17: 横断目地（右側） | I17: 材質劣化 | J17: その他 | M17: 0.05×0.2m | N17: 進行が認められない | O17: Ⅱb | P17: Ⅱ | Q17: Ⅱb | R17: － | S17: 否 | T17: 要監視 | U17: 継続 | V17: 監視(日常)
C18: S42 | E18: 1 | F18: 429.7 | G18: 覆工・坑門 | H18: アーチ（右側） | I18: 漏水 | J18: その他 | M18: 7.0×2.0m | N18: 進行が認められない | O18: Ⅱb | P18: Ⅱ | Q18: Ⅱb | R18: － | S18: 否 | T18: 要監視 | U18: 継続 | V18: 監視(日常)
C19: S45 | E19: 1 | F19: 470.7 | G19: 覆工・坑門 | H19: アーチ（左側） | I19: 材質劣化 | J19: ひび割れ | M19: 1.0×2.5m | N19: 進行が認められない | O19: Ⅱb | P19: Ⅱ | Q19: Ⅱb | R19: － | S19: 否 | T19: 要監視 | U19: 継続 | V19: 監視(日常)
C20: S47 | E20: 1 | F20: 492 | G20: 覆工・坑門 | H20: 横断目地（左側） | I20: 材質劣化 | J20: 鋼材腐食 | M20: 0.05×0.03m | N20: 進行が認められない | O20: Ⅱb | P20: Ⅱ | Q20: Ⅱb | R20: － | S20: 否 | T20: 要監視 | U20: 継続 | V20: 監視(日常)
C21: S47 | E21: 2 | F21: 492 | G21: 覆工・坑門 | H21: 横断目地（右側） | I21: 材質劣化 | J21: 鋼材腐食 | M21: 0.05×0.03m | N21: 進行が認められない | O21: Ⅱb | P21: Ⅱ | Q21: Ⅱb | R21: － | S21: 否 | T21: 要監視 | U21: 継続 | V21: 監視(日常)
C40: ※ 対策区分（応急措置後）の判定区分Ⅱ～Ⅳについて記入すること。また、点検前に実施された措置によりⅠと判定された変状も記入すること。
C41: ※ 応急措置を実施しないで判定した変状の対策区分は、対策区分の応急措置後の欄に記入すること。
C42: ※ 変状の除去が不完全で、緊急対応が必要な場合は対応方針欄に記入すること。
C43: ※ １区間の覆工に複数の変状がある場合は、変状箇所毎に記入すること。
C44: ※ 措置・監視点検を行った場合には、措置履歴、特記事項に記録を残すこと。（実施年度も記載）
C45: ※ 行が不足する場合は、適時、表の行を増やすこと。

Sheet 様式C-1-2
B2: ■定期点検記録様式 定期点検結果総括表（トンネル内附属物等の取付状態） 【様式C-1-2】
B3: フリガナ | F3: ='様式A-1'!D3 -> ナカヤマトンネル | J3: 路線名 | L3: ='様式A-1'!J3 -> 一般国道490号 小郡萩道路 | O3: 定期点検業者 | Q3: ='様式B(トンネル様式1P001)'!K5 -> 基礎地盤コンサルタンツ株式会社 | U3: 定期点検年月日 | Y3: 45160
B4: 名 称 | F4: ='様式A-1'!D4 -> 中山トンネル | J4: 管理者名 | L4: ='様式A-1'!R3 -> 山口県宇部土木建築事務所 美祢支所 | O4: 定期点検者名 | Q4: ='様式B(トンネル様式1P001)'!K6 -> 安田 啓吾
B5: 定期点検結果 | C5: 覆工 スパン 番号 | E5: 異常 番号 | F5: 距離 （m） | G5: 異常部位 | J5: 異 常 の 内 容 | P5: 定期点検結果 | R5: 応急措置の 実施状況 | X5: 対応方針 ・ 特記事項
G6: 対象箇所 | I6: 部位区分 | J6: 異常種類 | N6: 異常の発生範囲の規模 | P6: 異常判定区分 | R6: 実施 | S6: 応急措置の内容
P7: 応急措置前 | Q7: 応急措置後
C39: ※ 異常判定区分×について記入すること。また、応急措置により○と判定された箇所も記入すること。
C40: ※ 応急措置を実施しないで判定した箇所の異常判定区分は、異常判定区分の応急措置後の欄に記入すること。
C41: ※ 異常の除去が不完全で、緊急対応が必要な場合は対応方針欄に記入すること。
C42: ※ １スパンの覆工に複数の異常がある場合は、異常箇所毎に記入すること。
C43: ※ 行が不足する場合は、適時、表の行を増やすこと。

Sheet 様式C-2
B2: ■定期点検記録様式 状態の把握の内容 【様式C-2】
B3: フリガナ | E3: ='様式A-1'!D3 -> ナカヤマトンネル | H3: 路線名 | J3: ='様式A-1'!J3 -> 一般国道490号 小郡萩道路 | M3: 定期点検業者 | R3: ='様式B(トンネル様式1P001)'!K5 -> 基礎地盤コンサルタンツ株式会社 | U3: 定期点検年月日 | X3: 45160
B4: 名 称 | E4: ='様式A-1'!D4 -> 中山トンネル | H4: 管理者名 | J4: ='様式A-1'!R3 -> 山口県宇部土木建築事務所 美祢支所 | M4: 定期点検者名 | R4: ='様式B(トンネル様式1P001)'!K6 -> 安田 啓吾
B5: 状態の把握の内容 | C5: 覆工スパン 番号 | E5: 変状 番号 | F5: 状態の把握の内容
F6: 年月日 | H6: 内容 | O6: 結果 | W6: 対策区分の 判定 | Y6: 健全性
B22: 注）状態の把握において、微破壊・非破壊検査や各種試験等を実施した場合について記載する。
B23: ※ 行が不足する場合は、適時、表の行を増やすこと。

Sheet 様式D-1-1(トンネル様式2P001)
B2: ■定期点検記録様式 変状写真台帳 | Y2: Ⅰ
B3: フリガナ | D3: ='様式A-1'!D3 -> ナカヤマトンネル | H3: 路線名 | J3: ='様式A-1'!J3 -> 一般国道490号 小郡萩道路 | M3: 定期点検業者 | P3: ='様式B(トンネル様式1P001)'!K5 -> 基礎地盤コンサルタンツ株式会社 | S3: 定期点検年月日 | U3: ='様式B(トンネル様式1P001)'!Q5 -> 45160 | Y3: Ⅱ
B4: 名 称 | D4: ='様式A-1'!D4 -> 中山トンネル | H4: 管理者名 | J4: ='様式A-1'!R3 -> 山口県宇部土木建築事務所 美祢支所 | M4: 定期点検者名 | P4: ='様式B(トンネル様式1P001)'!K6 -> 安田 啓吾 | Y4: Ⅲ
B5: 写真 番号 | C5: 覆工 スパン 番号 | D5: S02 | F5: 2-1_DSCN0016 | M5: 写真 番号 | N5: 覆工 スパン 番号 | O5: S02 | Q5: 2-2_MIYA0011 | Y5: Ⅳ
C7: 変状 番号 | D7: 1 | N7: 変状 番号 | O7: 2
B9: 変状 部位 | C9: 対象 箇所 | D9: 覆工 | M9: 変状 部位 | N9: 対象 箇所 | O9: 覆工
C11: 部位 区分 | D11: 横断目地（左側） | N11: 部位 区分 | O11: アーチ（左側）
B13: 変状区分 | D13: 材質劣化 | M13: 変状区分 | O13: 材質劣化
B14: 変状種類 | D14: その他 | M14: 変状種類 | O14: 鋼材腐食
B15: 健全性 | C15: 応急措置前 | E15: - | M15: 健全性 | N15: 応急措置前 | P15: -
C16: 応急措置後 | E16: Ⅱ | N16: 応急措置後 | P16: Ⅱ
B17: 変状の発生範囲の規模 | E17: 0.05×0.3m | M17: 変状の発生範囲の規模 | P17: 0.2×0.03m
B18: 前回定期点検時の状態 | E18: 豆板(ジャンカ) 0.05×0.3m | M18: 前回定期点検時の状態 | P18: 鋼材腐食 0.2×0.03m
B19: 調査方針 | E19: - | M19: 調査方針 | P19: -
B20: 対策履歴 | E20: - | H20: 実施状況（実施日） | M20: 対策履歴 | P20: - | S20: 実施状況（実施日） | U20: -
B21: メモ | D21: アーチ部に豆板(ジャンカ)が見られる。Ⅱb | M21: メモ | O21: アーチ部に鋼材腐食が見られる。Ⅱb
B22: 写真 番号 | C22: 覆工 スパン 番号 | D22: S08 | F22: 8-1_DSCN0017 | M22: 写真 番号 | N22: 覆工 スパン 番号 | O22: S16 | Q22: 16-1_MIYA0018
C24: 変状 番号 | D24: 1 | N24: 変状 番号 | O24: 1
B26: 変状 部位 | C26: 対象 箇所 | D26: 覆工 | M26: 変状 部位 | N26: 対象 箇所 | O26: 覆工
C28: 部位 区分 | D28: アーチ（左側） | N28: 部位 区分 | O28: アーチ（天端）
B30: 変状区分 | D30: 材質劣化 | M30: 変状区分 | O30: 材質劣化
B31: 変状種類 | D31: ひび割れ | M31: 変状種類 | O31: 鋼材腐食
B32: 健全性 | C32: 応急措置前 | E32: - | M32: 健全性 | N32: 応急措置前 | P32: -
C33: 応急措置後 | E33: Ⅱ | N33: 応急措置後 | P33: Ⅱ
B34: 変状の発生範囲の規模 | E34: 1.3×4.7m | M34: 変状の発生範囲の規模 | P34: 0.05×0.05m
B35: 前回定期点検時の状態 | E35: うき 1.3×4.7m | M35: 前回定期点検時の状態 | P35: 鋼材腐食 0.05×0.05m
B36: 調査方針 | E36: - | M36: 調査方針 | P36: -
B37: 対策履歴 | E37: - | H37: 実施状況（実施日） | M37: 対策履歴 | P37: - | S37: 実施状況（実施日） | U37: -
B38: メモ | D38: アーチ部にブロック閉合ひび割れが見られる。（異音なし）。ブロック化の面積が大きい。（Ⅱa） | M38: メモ | O38: アーチ部に鋼材腐食が見られる。Ⅱb
C39: ※ 健全性（応急措置後）の判定区分Ⅱ～Ⅳについて添付すること。また、点検前に 実施された措置によりⅠと判定された箇所も添付すること。 | N39: ※ 変状の発生範囲の規模とは、対策を行う際に参考となる変状の長さや面積をいう。
N40: ※ 応急措置を実施しないで判定した変状の健全性は、健全性の応急措置後の欄に記入すること。
C41: ※ たたき落としを実施した場合は、実施後の写真を添付すること。 | N41: ※ 変状の発生範囲の規模は、面積・寸法を記載すること。
C42: ※ 附属物の取付状態に関する異常写真は別途、様式D-1-2でとりまとめること。 | N42: (ひび割れ幅のみmmとし、その他をm表記とする)
C43: ※ 変状数に準じてシートを追加すること。（１シートに１ページとすること。） | N43: ※ 構造用鋼材以外の異物に伴ううき・はく離については、メモ欄に異物の概要を記入すること。

Sheet 様式D-1-1(トンネル様式2P002)
B2: ■定期点検記録様式 変状写真台帳 | Y2: Ⅰ
B3: フリガナ | D3: ='様式A-1'!D3 -> ナカヤマトンネル | H3: 路線名 | J3: ='様式A-1'!J3 -> 一般国道490号 小郡萩道路 | M3: 定期点検業者 | P3: ='様式B(トンネル様式1P001)'!K5 -> 基礎地盤コンサルタンツ株式会社 | S3: 定期点検年月日 | U3: ='様式B(トンネル様式1P001)'!Q5 -> 45160 | Y3: Ⅱ
B4: 名 称 | D4: ='様式A-1'!D4 -> 中山トンネル | H4: 管理者名 | J4: ='様式A-1'!R3 -> 山口県宇部土木建築事務所 美祢支所 | M4: 定期点検者名 | P4: ='様式B(トンネル様式1P001)'!K6 -> 安田 啓吾 | Y4: Ⅲ
B5: 写真 番号 | C5: 覆工 スパン 番号 | D5: S16 | F5: 16-2_MIYA0059 | M5: 写真 番号 | N5: 覆工 スパン 番号 | O5: S18 | Q5: 18-1_MIYA0057 | Y5: Ⅳ
C7: 変状 番号 | D7: 2 | N7: 変状 番号 | O7: 1
B9: 変状 部位 | C9: 対象 箇所 | D9: 覆工 | M9: 変状 部位 | N9: 対象 箇所 | O9: 覆工
C11: 部位 区分 | D11: アーチ（右側） | N11: 部位 区分 | O11: アーチ（天端）
B13: 変状区分 | D13: 材質劣化 | M13: 変状区分 | O13: 材質劣化
B14: 変状種類 | D14: ひび割れ | M14: 変状種類 | O14: ひび割れ
B15: 健全性 | C15: 応急措置前 | E15: - | M15: 健全性 | N15: 応急措置前 | P15: -
C16: 応急措置後 | E16: Ⅱ | N16: 応急措置後 | P16: Ⅱ
B17: 変状の発生範囲の規模 | E17: 0.8×0.3m | M17: 変状の発生範囲の規模 | P17: 0.5×0.2m
B18: 前回定期点検時の状態 | E18: うき 0.8×0.3m | M18: 前回定期点検時の状態 | P18: うき 0.5×0.2m
B19: 調査方針 | E19: - | M19: 調査方針 | P19: -
B20: 対策履歴 | E20: - | H20: 実施状況（実施日） | M20: 対策履歴 | P20: - | S20: 実施状況（実施日） | U20: -
B21: メモ | D21: アーチ部にブロック閉合が懸念されるひび割れが見られる。（異音なし。）Ⅱb | M21: メモ | O21: アーチ部にブロック閉合ひび割れが見られる。（異音なし。）Ⅱb
B22: 写真 番号 | C22: 覆工 スパン 番号 | D22: S26 | F22: 26-1_MIYA0020 | M22: 写真 番号 | N22: 覆工 スパン 番号 | O22: S34 | Q22: 34-1_
C24: 変状 番号 | D24: 1 | N24: 変状 番号 | O24: 1
B26: 変状 部位 | C26: 対象 箇所 | D26: 覆工 | M26: 変状 部位 | N26: 対象 箇所 | O26: 覆工
C28: 部位 区分 | D28: アーチ（左側） | N28: 部位 区分 | O28: 横断目地（右側）
B30: 変状区分 | D30: 材質劣化 | M30: 変状区分 | O30: 材質劣化
B31: 変状種類 | D31: ひび割れ | M31: 変状種類 | O31: その他
B32: 健全性 | C32: 応急措置前 | E32: - | M32: 健全性 | N32: 応急措置前 | P32: -
C33: 応急措置後 | E33: Ⅱ | N33: 応急措置後 | P33: Ⅱ
B34: 変状の発生範囲の規模 | E34: 0.4×0.15m | M34: 変状の発生範囲の規模 | P34: 0.05×0.2m
B35: 前回定期点検時の状態 | E35: うき 0.4×0.15m | M35: 前回定期点検時の状態 | P35: 木片混入 0.05×0.2m
B36: 調査方針 | E36: - | M36: 調査方針 | P36: -
B37: 対策履歴 | E37: - | H37: 実施状況（実施日） | M37: 対策履歴 | P37: - | S37: 実施状況（実施日） | U37: -
B38: メモ | D38: アーチ部にブロック閉合が懸念されるひび割れが見られる。（異音なし。）Ⅱb | M38: メモ | O38: アーチ部に木片混入が見られる。Ⅱb
C39: ※ 健全性（応急措置後）の判定区分Ⅱ～Ⅳについて添付すること。また、点検前に 実施された措置によりⅠと判定された箇所も添付すること。 | N39: ※ 変状の発生範囲の規模とは、対策を行う際に参考となる変状の長さや面積をいう。
N40: ※ 応急措置を実施しないで判定した変状の健全性は、健全性の応急措置後の欄に記入すること。
C41: ※ たたき落としを実施した場合は、実施後の写真を添付すること。 | N41: ※ 変状の発生範囲の規模は、面積・寸法を記載すること。
C42: ※ 附属物の取付状態に関する異常写真は別途、様式D-1-2でとりまとめること。 | N42: (ひび割れ幅のみmmとし、その他をm表記とする)
C43: ※ 変状数に準じてシートを追加すること。（１シートに１ページとすること。） | N43: ※ 構造用鋼材以外の異物に伴ううき・はく離については、メモ欄に異物の概要を記入すること。

Sheet 様式D-1-1(トンネル様式2P003)
B2: ■定期点検記録様式 変状写真台帳 | Y2: Ⅰ
B3: フリガナ | D3: ='様式A-1'!D3 -> ナカヤマトンネル | H3: 路線名 | J3: ='様式A-1'!J3 -> 一般国道490号 小郡萩道路 | M3: 定期点検業者 | P3: ='様式B(トンネル様式1P001)'!K5 -> 基礎地盤コンサルタンツ株式会社 | S3: 定期点検年月日 | U3: ='様式B(トンネル様式1P001)'!Q5 -> 45160 | Y3: Ⅱ
B4: 名 称 | D4: ='様式A-1'!D4 -> 中山トンネル | H4: 管理者名 | J4: ='様式A-1'!R3 -> 山口県宇部土木建築事務所 美祢支所 | M4: 定期点検者名 | P4: ='様式B(トンネル様式1P001)'!K6 -> 安田 啓吾 | Y4: Ⅲ
B5: 写真 番号 | C5: 覆工 スパン 番号 | D5: S34 | F5: 34-2_DSCN0029 | M5: 写真 番号 | N5: 覆工 スパン 番号 | O5: S42 | Q5: 42-1_DSCN0028 | Y5: Ⅳ
C7: 変状 番号 | D7: 2 | N7: 変状 番号 | O7: 1
B9: 変状 部位 | C9: 対象 箇所 | D9: 覆工 | M9: 変状 部位 | N9: 対象 箇所 | O9: 覆工
C11: 部位 区分 | D11: 横断目地（右側） | N11: 部位 区分 | O11: アーチ（右側）
B13: 変状区分 | D13: 材質劣化 | M13: 変状区分 | O13: 漏水
B14: 変状種類 | D14: その他 | M14: 変状種類 | O14: その他
B15: 健全性 | C15: 応急措置前 | E15: - | M15: 健全性 | N15: 応急措置前 | P15: -
C16: 応急措置後 | E16: Ⅱ | N16: 応急措置後 | P16: Ⅱ
B17: 変状の発生範囲の規模 | E17: 0.05×0.2m | M17: 変状の発生範囲の規模 | P17: 7.0×2.0m
B18: 前回定期点検時の状態 | E18: 木片混入 0.05×0.2m | M18: 前回定期点検時の状態 | P18: 錆汁 7.0×2.0m
B19: 調査方針 | E19: - | M19: 調査方針 | P19: -
B20: 対策履歴 | E20: - | H20: 実施状況（実施日） | M20: 対策履歴 | P20: - | S20: 実施状況（実施日） | U20: -
B21: メモ | D21: アーチ部に木片混入が見られる。Ⅱb | M21: メモ | O21: アーチ部に粗骨材からの錆汁が多数見られる。Ⅱb
B22: 写真 番号 | C22: 覆工 スパン 番号 | D22: S45 | F22: 45-1_MIYA0024 | M22: 写真 番号 | N22: 覆工 スパン 番号 | O22: S47 | Q22: 47-1MIYA0027
C24: 変状 番号 | D24: 1 | N24: 変状 番号 | O24: 1
B26: 変状 部位 | C26: 対象 箇所 | D26: 覆工 | M26: 変状 部位 | N26: 対象 箇所 | O26: 覆工
C28: 部位 区分 | D28: アーチ（左側） | N28: 部位 区分 | O28: 横断目地（左側）
B30: 変状区分 | D30: 材質劣化 | M30: 変状区分 | O30: 材質劣化
B31: 変状種類 | D31: ひび割れ | M31: 変状種類 | O31: 鋼材腐食
B32: 健全性 | C32: 応急措置前 | E32: - | M32: 健全性 | N32: 応急措置前 | P32: -
C33: 応急措置後 | E33: Ⅱ | N33: 応急措置後 | P33: Ⅱ
B34: 変状の発生範囲の規模 | E34: 1.0×2.5m | M34: 変状の発生範囲の規模 | P34: 0.05×0.03m
B35: 前回定期点検時の状態 | E35: うき 1.0×2.5m | M35: 前回定期点検時の状態 | P35: 鋼材腐食 0.05×0.03m
B36: 調査方針 | E36: - | M36: 調査方針 | P36: -
B37: 対策履歴 | E37: - | H37: 実施状況（実施日） | M37: 対策履歴 | P37: - | S37: 実施状況（実施日） | U37: -
B38: メモ | D38: アーチ部にブロック閉合が懸念されるひび割れが見られる。（異音なし。）Ⅱb | M38: メモ | O38: アーチ部に鋼材腐食が見られる。Ⅱb
C39: ※ 健全性（応急措置後）の判定区分Ⅱ～Ⅳについて添付すること。また、点検前に 実施された措置によりⅠと判定された箇所も添付すること。 | N39: ※ 変状の発生範囲の規模とは、対策を行う際に参考となる変状の長さや面積をいう。
N40: ※ 応急措置を実施しないで判定した変状の健全性は、健全性の応急措置後の欄に記入すること。
C41: ※ たたき落としを実施した場合は、実施後の写真を添付すること。 | N41: ※ 変状の発生範囲の規模は、面積・寸法を記載すること。
C42: ※ 附属物の取付状態に関する異常写真は別途、様式D-1-2でとりまとめること。 | N42: (ひび割れ幅のみmmとし、その他をm表記とする)
C43: ※ 変状数に準じてシートを追加すること。（１シートに１ページとすること。） | N43: ※ 構造用鋼材以外の異物に伴ううき・はく離については、メモ欄に異物の概要を記入すること。

Sheet 様式D-1-1(トンネル様式2P004)
B2: ■定期点検記録様式 変状写真台帳 | Y2: Ⅰ
B3: フリガナ | D3: ='様式A-1'!D3 -> ナカヤマトンネル | H3: 路線名 | J3: ='様式A-1'!J3 -> 一般国道490号 小郡萩道路 | M3: 定期点検業者 | P3: ='様式B(トンネル様式1P001)'!K5 -> 基礎地盤コンサルタンツ株式会社 | S3: 定期点検年月日 | U3: ='様式B(トンネル様式1P001)'!Q5 -> 45160 | Y3: Ⅱ
B4: 名 称 | D4: ='様式A-1'!D4 -> 中山トンネル | H4: 管理者名 | J4: ='様式A-1'!R3 -> 山口県宇部土木建築事務所 美祢支所 | M4: 定期点検者名 | P4: ='様式B(トンネル様式1P001)'!K6 -> 安田 啓吾 | Y4: Ⅲ
B5: 写真 番号 | C5: 覆工 スパン 番号 | D5: S47 | F5: 47-2_MIYA0029 | M5: 写真 番号 | N5: 覆工 スパン 番号 | Y5: Ⅳ
C7: 変状 番号 | D7: 2 | N7: 変状 番号
B9: 変状 部位 | C9: 対象 箇所 | D9: 覆工 | M9: 変状 部位 | N9: 対象 箇所
C11: 部位 区分 | D11: 横断目地（右側） | N11: 部位 区分
B13: 変状区分 | D13: 材質劣化 | M13: 変状区分
B14: 変状種類 | D14: 鋼材腐食 | M14: 変状種類
B15: 健全性 | C15: 応急措置前 | E15: - | M15: 健全性 | N15: 応急措置前
C16: 応急措置後 | E16: Ⅱ | N16: 応急措置後
B17: 変状の発生範囲の規模 | E17: 0.05×0.03m | M17: 変状の発生範囲の規模
B18: 前回定期点検時の状態 | E18: 鋼材腐食 0.05×0.03m | M18: 前回定期点検時の状態
B19: 調査方針 | E19: - | M19: 調査方針
B20: 対策履歴 | E20: - | H20: 実施状況（実施日） | M20: 対策履歴 | S20: 実施状況（実施日）
B21: メモ | D21: アーチ部に鋼材腐食が見られる。Ⅱb | M21: メモ
B22: 写真 番号 | C22: 覆工 スパン 番号 | M22: 写真 番号 | N22: 覆工 スパン 番号
C24: 変状 番号 | N24: 変状 番号
B26: 変状 部位 | C26: 対象 箇所 | M26: 変状 部位 | N26: 対象 箇所
C28: 部位 区分 | N28: 部位 区分
B30: 変状区分 | M30: 変状区分
B31: 変状種類 | M31: 変状種類
B32: 健全性 | C32: 応急措置前 | M32: 健全性 | N32: 応急措置前
C33: 応急措置後 | N33: 応急措置後
B34: 変状の発生範囲の規模 | M34: 変状の発生範囲の規模
B35: 前回定期点検時の状態 | M35: 前回定期点検時の状態
B36: 調査方針 | M36: 調査方針
B37: 対策履歴 | H37: 実施状況（実施日） | M37: 対策履歴 | S37: 実施状況（実施日）
B38: メモ | M38: メモ
C39: ※ 健全性（応急措置後）の判定区分Ⅱ～Ⅳについて添付すること。また、点検前に 実施された措置によりⅠと判定された箇所も添付すること。 | N39: ※ 変状の発生範囲の規模とは、対策を行う際に参考となる変状の長さや面積をいう。
N40: ※ 応急措置を実施しないで判定した変状の健全性は、健全性の応急措置後の欄に記入すること。
C41: ※ たたき落としを実施した場合は、実施後の写真を添付すること。 | N41: ※ 変状の発生範囲の規模は、面積・寸法を記載すること。
C42: ※ 附属物の取付状態に関する異常写真は別途、様式D-1-2でとりまとめること。 | N42: (ひび割れ幅のみmmとし、その他をm表記とする)
C43: ※ 変状数に準じてシートを追加すること。（１シートに１ページとすること。） | N43: ※ 構造用鋼材以外の異物に伴ううき・はく離については、メモ欄に異物の概要を記入すること。

Sheet 様式D-1-2
B2: ■定期点検記録様式 異常写真台帳（トンネル内附属物等の取付状態） 【様式D-1-2】
B3: フリガナ | E3: ='様式A-1'!D3 -> ナカヤマトンネル | I3: 路 線 名 | L3: ='様式A-1'!J3 -> 一般国道490号 小郡萩道路 | O3: 定期点検業者 | R3: ='様式B(トンネル様式1P001)'!K5 -> 基礎地盤コンサルタンツ株式会社 | U3: 定期点検年月日 | W3: 45160
B4: 名 称 | E4: ='様式A-1'!D4 -> 中山トンネル | I4: 管理者名 | L4: ='様式A-1'!R3 -> 山口県宇部土木建築事務所 美祢支所 | O4: 定期点検者名 | R4: ='様式B(トンネル様式1P001)'!K6 -> 安田 啓吾
B5: 覆工スパン番号 | F5: 異常番号 | J5: 覆工スパン番号 | N5: 異常番号 | R5: 覆工スパン番号 | V5: 異常番号
B6: 対象箇所 | G6: 部位区分 | J6: 対象箇所 | O6: 部位区分 | R6: 対象箇所 | W6: 部位区分
B7: 異常の種類 | J7: 異常の種類 | R7: 異常の種類
B8: 異常判定区分 | E8: メモ | J8: 異常判定区分 | M8: メモ | R8: 異常判定区分 | U8: メモ
B22: 覆工スパン番号 | F22: 異常番号 | J22: 覆工スパン番号 | N22: 異常番号 | R22: 覆工スパン番号 | V22: 異常番号
B23: 対象箇所 | G23: 部位区分 | J23: 対象箇所 | O23: 部位区分 | R23: 対象箇所 | W23: 部位区分
B24: 異常の種類 | J24: 異常の種類 | R24: 異常の種類
B25: 異常判定区分 | E25: メモ | J25: 異常判定区分 | M25: メモ | R25: 異常判定区分 | U25: メモ
B39: 覆工スパン番号 | F39: 異常番号 | J39: 覆工スパン番号 | N39: 異常番号 | R39: 覆工スパン番号 | V39: 異常番号
B40: 対象箇所 | G40: 部位区分 | J40: 対象箇所 | O40: 部位区分 | R40: 対象箇所 | W40: 部位区分
B41: 異常の種類 | J41: 異常の種類 | R41: 異常の種類
B42: 異常判定区分 | E42: メモ | J42: 異常判定区分 | M42: メモ | R42: 異常判定区分 | U42: メモ
D56: ※ 異常判定区分×について記入すること。また、応急措置前に異常判定区分×とした箇所のうち応急措置により○と判定した箇所も記入すること。
D57: ※ 応急措置を実施した場合は、その実施状況が分かる写真を添付すること。
D58: ※ 画像データは100kb程度とする。 | L58: ※ 変状数に準じてシートを追加すること。（１シートに１ページとすること。）

Sheet 様式D-2-1
B3: ■定期点検記録様式 トンネル全体変状展開図 【様式D-2-1】
B4: フリガナ | E4: ='様式A-1'!D3 -> ナカヤマトンネル | J4: 路線名 | M4: ='様式A-1'!J3 -> 一般国道490号 小郡萩道路 | S4: 定期点検業者 | W4: ='様式B(トンネル様式1P001)'!K5 -> 基礎地盤コンサルタンツ株式会社 | AC4: 定期点検年月日 | AF4: 45160
B5: 名 称 | E5: ='様式A-1'!D4 -> 中山トンネル | J5: 管理者名 | M5: ='様式A-1'!R3 -> 山口県宇部土木建築事務所 美祢支所 | S5: 定期点検者名 | W5: ='様式B(トンネル様式1P001)'!K6 -> 安田 啓吾
B6: トンネル変状展開図 | C6: トンネル全体変状展開図
V18: 注１：本展開図は、見下げた状態で記載すること。 注２：覆工スパン番号は横断目地毎（矢板工法の場合は上半アーチ の横断目地毎)に設定すること。 注３：横断目地の変状は前の覆工スパン番号で計上すること。 注４：１枚に収まらない場合は、複数枚に分けて作成すること。
B20: トンネル変状展開図 | C20: トンネル全体変状展開図
V32: 注１：本展開図は、見下げた状態で記載すること。 注２：覆工スパン番号は横断目地毎（矢板工法の場合は上半アーチ の横断目地毎)に設定すること。 注３：横断目地の変状は前の覆工スパン番号で計上すること。 注４：１枚に収まらない場合は、複数枚に分けて作成すること。
B34: トンネル変状展開図 | C34: トンネル全体変状展開図
V46: 注１：本展開図は、見下げた状態で記載すること。 注２：覆工スパン番号は横断目地毎（矢板工法の場合は上半アーチ の横断目地毎)に設定すること。 注３：横断目地の変状は前の覆工スパン番号で計上すること。 注４：１枚に収まらない場合は、複数枚に分けて作成すること。
B48: トンネル変状展開図 | C48: トンネル全体変状展開図
V60: 注１：本展開図は、見下げた状態で記載すること。 注２：覆工スパン番号は横断目地毎（矢板工法の場合は上半アーチ の横断目地毎)に設定すること。 注３：横断目地の変状は前の覆工スパン番号で計上すること。 注４：１枚に収まらない場合は、複数枚に分けて作成すること。
B62: トンネル変状展開図 | C62: トンネル全体変状展開図
V74: 注１：本展開図は、見下げた状態で記載すること。 注２：覆工スパン番号は横断目地毎（矢板工法の場合は上半アーチ の横断目地毎)に設定すること。 注３：横断目地の変状は前の覆工スパン番号で計上すること。 注４：１枚に収まらない場合は、複数枚に分けて作成すること。
B76: トンネル変状展開図 | C76: トンネル全体変状展開図
V88: 注１：本展開図は、見下げた状態で記載すること。 注２：覆工スパン番号は横断目地毎（矢板工法の場合は上半アーチ の横断目地毎)に設定すること。 注３：横断目地の変状は前の覆工スパン番号で計上すること。 注４：１枚に収まらない場合は、複数枚に分けて作成すること。
B90: トンネル変状展開図 | C90: トンネル全体変状展開図
V102: 注１：本展開図は、見下げた状態で記載すること。 注２：覆工スパン番号は横断目地毎（矢板工法の場合は上半アーチ の横断目地毎)に設定すること。 注３：横断目地の変状は前の覆工スパン番号で計上すること。 注４：１枚に収まらない場合は、複数枚に分けて作成すること。

Sheet 様式D-2-1´
B3: ■定期点検記録様式 トンネル全体変状展開図（機器の活用時） 【様式D-2-1’】
B4: フリガナ | E4: ='様式A-1'!D3 -> ナカヤマトンネル | J4: 路線名 | M4: ='様式A-1'!J3 -> 一般国道490号 小郡萩道路 | S4: 定期点検業者 | W4: ='様式B(トンネル様式1P001)'!K5 -> 基礎地盤コンサルタンツ株式会社 | AC4: 定期点検年月日 | AF4: ='様式B(トンネル様式1P001)'!Q5 -> 45160
B5: 名 称 | E5: ='様式A-1'!D4 -> 中山トンネル | J5: 管理者名 | M5: ='様式A-1'!R3 -> 山口県宇部土木建築事務所 美祢支所 | S5: 定期点検者名 | W5: ='様式B(トンネル様式1P001)'!K6 -> 安田 啓吾
B6: トンネル変状展開図 | C6: トンネル全体変状展開図
S18: 注１：本展開図は、見下げた状態で記載すること。 注２：覆工スパン番号は横断目地毎（矢板工法の場合は上半アーチの横断目地毎)に 設定すること。 注３：横断目地の変状は前の覆工スパン番号で計上すること。 注４：１枚に収まらない場合は、複数枚に分けて作成すること。 注５：覆工写真の画像サイズは500kb程度とすること。

Sheet 様式D-3_PS
AU1: 様式E-1リンク用→ | AV1: 覆工ｽﾊﾟﾝ 番号 | AW1: ｽﾊﾟﾝ 長 (m) | AX1: 変状数集計 | BS1: 覆工スパン毎の 健全性の診断 | BW1: 変状規模集計
AX2: 対策区分毎の変状数 | BJ2: 健全性の判定区分毎の変状数 | BW2: 覆工スパン長(m) | CA2: 対策区分毎の変状の発生範囲の規模(㎡）
B3: ■定期点検記録様式 覆工スパン別変状詳細展開図 【様式D-3】 | AX3: 外力 | BB3: 材質劣化 | BF3: 漏水 | BJ3: 外力 | BM3: 材質劣化 | BP3: 漏水 | BS3: 外力 | BT3: 材質劣化 | BU3: 漏水 | BV3: 健全性 | BW3: 外力※１ | CA3: 材質劣化 | CE3: 漏水
B4: フリガナ | E4: ='様式A-1'!D3 -> ナカヤマトンネル | K4: 路線名 | N4: ='様式A-1'!J3 -> 一般国道490号 小郡萩道路 | T4: 定期点検業者 | Y4: ='様式B(トンネル様式1P001)'!K5 -> 基礎地盤コンサルタンツ株式会社 | AG4: 定期点検年月日 | AK4: 45160 | AX4: Ⅳ | AY4: Ⅲ | AZ4: Ⅱa | BA4: Ⅱb | BB4: Ⅳ | BC4: Ⅲ | BD4: Ⅱa | BE4: Ⅱb | BF4: Ⅳ | BG4: Ⅲ | BH4: Ⅱa | BI4: Ⅱb | BJ4: Ⅳ | BK4: Ⅲ | BL4: Ⅱ | BM4: Ⅳ | BN4: Ⅲ | BO4: Ⅱ | BP4: Ⅳ | BQ4: Ⅲ | BR4: Ⅱ | BW4: Ⅳ | BX4: Ⅲ | BY4: Ⅱa | BZ4: Ⅱb | CA4: Ⅳ | CB4: Ⅲ | CC4: Ⅱa | CD4: Ⅱb | CE4: Ⅳ | CF4: Ⅲ | CG4: Ⅱa | CH4: Ⅱb
B5: 名 称 | E5: ='様式A-1'!D4 -> 中山トンネル | K5: 管理者名 | N5: ='様式A-1'!R3 -> 山口県宇部土木建築事務所 美祢支所 | T5: 定期点検者名 | Y5: ='様式B(トンネル様式1P001)'!K6 -> 安田 啓吾 | AV5: =N7 -> PS | AW5: =R7 -> 0.15 | AX5: =+Y32 -> 0 | AY5: =+Z32 -> 0 | AZ5: =+AA32 -> 0 | BA5: =+AB32 -> 0 | BB5: =+AC32 -> 0 | BC5: =+AD32 -> 0 | BD5: =+AE32 -> 0 | BE5: =+AF32 -> 0 | ... BI5: =+AJ32 -> 0 | BJ5: =+Y35 | BK5: =+Z35 | BL5: =+AA35 | BM5: =+AC35 -> 0 | BN5: =+AD35 -> 0 | BO5: =+AE35 -> 0 | BP5: =+AG35 -> 0 | BQ5: =+AH35 -> 0 | BR5: =+AI35 -> 0 | BS5: =+Y36 -> Ⅰ | BT5: =+AC36 -> Ⅰ | BU5: =+AG36 -> Ⅰ | BV5: =+Y37 -> Ⅰ | BW5: =IF(Y32>0,$R$7,"") | BX5: =IF(Z32>0,"",IF(AA32>0,$R$7,"")) | BY5: =IF(Y32+Z32>0,"",IF(AA32>0,$R$7,"")) | BZ5: =IF(Y32+Z32+AA32>0,"",IF(AB32>0,$R$7,"")) | CA5: =+AC31 -> 0 | CB5: =+AD31 -> 0 | CC5: =+AE31 -> 0 | CD5: =+AF31 -> 0 | CE5: =+AG31 -> 0 | CF5: =+AH31 -> 0 | CG5: =+AI31 -> 0 | CH5: =+AJ31 -> 0
B6: スパン別変状展開図 | K6: 【健全性判定集計表】
K7: スパン番号 | N7: PS | P7: スパン長 | R7: 0.15 | U7: 前回定期点検時の健全性 | W7: 応急措置前の判定 | Y7: 対策区分毎の 変状の有無 | AC7: 対策区分毎の変状の発生範囲の規模(㎡) | AK7: 備考注2
K8: 変状番号 | L8: 対象箇所 | N8: 部位区分 | P8: 変状区分 | R8: 変状種類
Y9: 外力注1 | AC9: 材質劣化注1 | AG9: 漏水注1
Y10: Ⅳ | Z10: Ⅲ | AA10: Ⅱa | AB10: Ⅱb | AC10: Ⅳ | AD10: Ⅲ | AE10: Ⅱa | AF10: Ⅱb | AG10: Ⅳ | AH10: Ⅲ | AI10: Ⅱa | AJ10: Ⅱb
AQ11: =IF(P11="材質劣化",2,IF(P11="漏水",3,1)) -> 1
AQ12: =IF(P12="材質劣化",2,IF(P12="漏水",3,1)) -> 1
AQ13: =IF(P13="材質劣化",2,IF(P13="漏水",3,1)) -> 1
AQ14: =IF(P14="材質劣化",2,IF(P14="漏水",3,1)) -> 1
AQ15: =IF(P15="材質劣化",2,IF(P15="漏水",3,1)) -> 1
AQ16: =IF(P16="材質劣化",2,IF(P16="漏水",3,1)) -> 1
AQ17: =IF(P17="材質劣化",2,IF(P17="漏水",3,1)) -> 1
AQ18: =IF(P18="材質劣化",2,IF(P18="漏水",3,1)) -> 1
AQ19: =IF(P19="材質劣化",2,IF(P19="漏水",3,1)) -> 1
AQ20: =IF(P20="材質劣化",2,IF(P20="漏水",3,1)) -> 1
AQ21: =IF(P21="材質劣化",2,IF(P21="漏水",3,1)) -> 1
AQ22: =IF(P22="材質劣化",2,IF(P22="漏水",3,1)) -> 1
... AQ30: =IF(P30="材質劣化",2,IF(P30="漏水",3,1)) -> 1
K31: 集計 ・ 判定 ・ 診断 | L31: 変状の発生規模合計(㎡) | Y31: － | AC31: =SUM(AC11:AC30) -> 0 | AD31: =SUM(AD11:AD30) -> 0 | AE31: =SUM(AE11:AE30) -> 0 | AF31: =SUM(AF11:AF30) -> 0 | AG31: =SUM(AG11:AG30) -> 0 | AH31: =SUM(AH11:AH30) -> 0 | AI31: =SUM(AI11:AI30) -> 0 | AJ31: =SUM(AJ11:AJ30) -> 0 | AK31: 計
L32: 対策区分の 判定結果 | O32: 判定区分毎の変状数 | Y32: =COUNTIF(Y11:Y30,"○") -> 0 | Z32: =COUNTIF(Z11:Z30,"○") -> 0 | AA32: =COUNTIF(AA11:AA30,"○") -> 0 | AB32: =COUNTIF(AB11:AB30,"○") -> 0 | AC32: =COUNT(AC11:AC30) -> 0 | AD32: =COUNT(AD11:AD30) -> 0 | AE32: =COUNT(AE11:AE30) -> 0 | AF32: =COUNT(AF11:AF30) -> 0 | AG32: =COUNT(AG11:AG30) -> 0 | AH32: =COUNT(AH11:AH30) -> 0 | AI32: =COUNT(AI11:AI30) -> 0 | AJ32: =COUNT(AJ11:AJ30) -> 0
O33: 変状区分毎の判定区分注3 | Y33: =IF(Y32>0,"Ⅳ",IF(Z32>0,"Ⅲ",IF(AA32>0,"Ⅱa",IF(AB32>0,"Ⅱb","Ⅰ")))) -> Ⅰ | AC33: =IF(AC32>0,"Ⅳ",IF(AD32>0,"Ⅲ",IF(AE32>0,"Ⅱa",IF(AF32>0,"Ⅱb","Ⅰ")))) -> Ⅰ | AG33: =IF(AG32>0,"Ⅳ",IF(AH32>0,"Ⅲ",IF(AI32>0,"Ⅱa",IF(AJ32>0,"Ⅱb","Ⅰ")))) -> Ⅰ | AQ33: Ⅳ | AR33: Ⅲ | AS33: Ⅱ
L34: 健全性の 診断結果 | O34: 判定区分 | Y34: Ⅳ | Z34: Ⅲ | AA34: Ⅱ | AC34: Ⅳ | AD34: Ⅲ | AE34: Ⅱ | AG34: Ⅳ | AH34: Ⅲ | AI34: Ⅱ | AQ34: =+Y32+Z32 -> 0 | AS34: =+AA32+AB32 -> 0
O35: 判定区分毎の変状数注4 | Y35: =IF(Y32=0,"",1) | Z35: =IF(Z32=0,"",1) | AA35: =IF(AQ34=1,"",IF(AS34>0,1,"")) | AC35: =+AC32 -> 0 | AD35: =AD32 -> 0 | AE35: =AE32+AF32 -> 0 | AG35: =AG32 -> 0 | AH35: =AH32 -> 0 | AI35: =AI32+AJ32 -> 0 | AQ35: =+Y32+AC35+AG35 -> 0 | AR35: =+Z32+AD35+AH35 -> 0 | AS35: =+AS34+AE35+AI35 -> 0
O36: 変状区分毎の判定区分注4 | Y36: =IF(Y32>0,"Ⅳ",IF(Z32>0,"Ⅲ",IF(AA32>0,"Ⅱ",IF(AB32>0,"Ⅱ","Ⅰ")))) -> Ⅰ | AC36: =IF(AC32>0,"Ⅳ",IF(AD32>0,"Ⅲ",IF(AE32>0,"Ⅱ",IF(AF32>0,"Ⅱ","Ⅰ")))) -> Ⅰ | AG36: =IF(AG32>0,"Ⅳ",IF(AH32>0,"Ⅲ",IF(AI32>0,"Ⅱ",IF(AJ32>0,"Ⅱ","Ⅰ")))) -> Ⅰ | AQ36: =IF(AQ35>0,"Ⅳ",IF(AR35>0,"Ⅲ",IF(AS35>0,"Ⅱ","Ⅰ"))) -> Ⅰ
O37: 覆工スパン単位の判定区分注5 | Y37: =IF((Y32+AC32+AG32)>0,"Ⅳ",IF((Z32+AD32+AH32)>0,"Ⅲ",IF((AA32+AE32+AI32)>0,"Ⅱ",IF((AB32+AF32+AJ32)>0,"Ⅱ","Ⅰ")))) -> Ⅰ
K38: 特記事項
K40: 注1：誤記入防止のため、当該変状区分以外のセルは灰色表示とすること。
K41: 注2：応急対策を実施した場合は、その詳細を備考に記載すること。
K42: 注3：変状区分毎での最も評価の厳しい判定区分。
K43: 注4：変状区分毎での最も評価の厳しい判定区分．外力は覆工スパン単位、材質劣化、漏水は変状単位で行う。
K44: 注5：覆工スパンの中で最も評価の厳しい健全性を採用し、その覆工スパン毎の健全性とする。
B46: ※1：本シートは作成洩れのないよう、変状が無くても全スパン分を作成すること．また変状展開図は、様式D-2-1、様式D-2-1'と同じものを覆工スパン単位で拡大し掲載すること。
B47: ※2：変状番号は、様式D-1-1で記入した番号と整合させること。
B48: ※3：対策区分毎の変状発生規模は、様式D-1-1に記載した面積を記入すること（ただし外力はスパン単位で評価するため対象外とし、備考欄に状況を記入）。
B49: ※4：本様式は覆工スパン毎に作成すること。
...

Sheet 様式D-3_S01
AU1: 様式E-1リンク用→ | AV1: 覆工ｽﾊﾟﾝ 番号 | AW1: ｽﾊﾟﾝ 長 (m) | AX1: 変状数集計 | BS1: 覆工スパン毎の 健全性の診断 | BW1: 変状規模集計
AX2: 対策区分毎の変状数 | BJ2: 健全性の判定区分毎の変状数 | BW2: 覆工スパン長(m) | CA2: 対策区分毎の変状の発生範囲の規模(㎡）
B3: ■定期点検記録様式 覆工スパン別変状詳細展開図 【様式D-3】 | AX3: 外力 | BB3: 材質劣化 | BF3: 漏水 | BJ3: 外力 | BM3: 材質劣化 | BP3: 漏水 | BS3: 外力 | BT3: 材質劣化 | BU3: 漏水 | BV3: 健全性 | BW3: 外力※１ | CA3: 材質劣化 | CE3: 漏水
B4: フリガナ | E4: ='様式A-1'!D3 -> ナカヤマトンネル | K4: 路線名 | N4: ='様式A-1'!J3 -> 一般国道490号 小郡萩道路 | T4: 定期点検業者 | Y4: ='様式B(トンネル様式1P001)'!K5 -> 基礎地盤コンサルタンツ株式会社 | AG4: 定期点検年月日 | AK4: 45160 | AX4: Ⅳ | AY4: Ⅲ | AZ4: Ⅱa | BA4: Ⅱb | BB4: Ⅳ | BC4: Ⅲ | BD4: Ⅱa | BE4: Ⅱb | BF4: Ⅳ | BG4: Ⅲ | BH4: Ⅱa | BI4: Ⅱb | BJ4: Ⅳ | BK4: Ⅲ | BL4: Ⅱ | BM4: Ⅳ | BN4: Ⅲ | BO4: Ⅱ | BP4: Ⅳ | BQ4: Ⅲ | BR4: Ⅱ | BW4: Ⅳ | BX4: Ⅲ | BY4: Ⅱa | BZ4: Ⅱb | CA4: Ⅳ | CB4: Ⅲ | CC4: Ⅱa | CD4: Ⅱb | CE4: Ⅳ | CF4: Ⅲ | CG4: Ⅱa | CH4: Ⅱb
B5: 名 称 | E5: ='様式A-1'!D4 -> 中山トンネル | K5: 管理者名 | N5: ='様式A-1'!R3 -> 山口県宇部土木建築事務所 美祢支所 | T5: 定期点検者名 | Y5: ='様式B(トンネル様式1P001)'!K6 -> 安田 啓吾 | AV5: =N7 -> S01 | AW5: =R7 -> 9.35 | AX5: =+Y32 -> 0 | AY5: =+Z32 -> 0 | AZ5: =+AA32 -> 0 | BA5: =+AB32 -> 0 | BB5: =+AC32 -> 0 | BC5: =+AD32 -> 0 | BD5: =+AE32 -> 0 | BE5: =+AF32 -> 0 | ... BI5: =+AJ32 -> 0 | BJ5: =+Y35 | BK5: =+Z35 | BL5: =+AA35 | BM5: =+AC35 -> 0 | BN5: =+AD35 -> 0 | BO5: =+AE35 -> 0 | BP5: =+AG35 -> 0 | BQ5: =+AH35 -> 0 | BR5: =+AI35 -> 0 | BS5: =+Y36 -> Ⅰ | BT5: =+AC36 -> Ⅰ | BU5: =+AG36 -> Ⅰ | BV5: =+Y37 -> Ⅰ | BW5: =IF(Y32>0,$R$7,"") | BX5: =IF(Z32>0,"",IF(AA32>0,$R$7,"")) | BY5: =IF(Y32+Z32>0,"",IF(AA32>0,$R$7,"")) | BZ5: =IF(Y32+Z32+AA32>0,"",IF(AB32>0,$R$7,"")) | CA5: =+AC31 -> 0 | CB5: =+AD31 -> 0 | CC5: =+AE31 -> 0 | CD5: =+AF31 -> 0 | CE5: =+AG31 -> 0 | CF5: =+AH31 -> 0 | CG5: =+AI31 -> 0 | CH5: =+AJ31 -> 0
B6: スパン別変状展開図 | K6: 【健全性判定集計表】
K7: スパン番号 | N7: S01 | P7: スパン長 | R7: 9.35 | U7: 前回定期点検時の健全性 | W7: 応急措置前の判定 | Y7: 対策区分毎の 変状の有無 | AC7: 対策区分毎の変状の発生範囲の規模(㎡) | AK7: 備考注2
K8: 変状番号 | L8: 対象箇所 | N8: 部位区分 | P8: 変状区分 | R8: 変状種類
Y9: 外力注1 | AC9: 材質劣化注1 | AG9: 漏水注1
Y10: Ⅳ | Z10: Ⅲ | AA10: Ⅱa | AB10: Ⅱb | AC10: Ⅳ | AD10: Ⅲ | AE10: Ⅱa | AF10: Ⅱb | AG10: Ⅳ | AH10: Ⅲ | AI10: Ⅱa | AJ10: Ⅱb
AQ11: =IF(P11="材質劣化",2,IF(P11="漏水",3,1)) -> 1
AQ12: =IF(P12="材質劣化",2,IF(P12="漏水",3,1)) -> 1
AQ13: =IF(P13="材質劣化",2,IF(P13="漏水",3,1)) -> 1
AQ14: =IF(P14="材質劣化",2,IF(P14="漏水",3,1)) -> 1
AQ15: =IF(P15="材質劣化",2,IF(P15="漏水",3,1)) -> 1
AQ16: =IF(P16="材質劣化",2,IF(P16="漏水",3,1)) -> 1
AQ17: =IF(P17="材質劣化",2,IF(P17="漏水",3,1)) -> 1
AQ18: =IF(P18="材質劣化",2,IF(P18="漏水",3,1)) -> 1
AQ19: =IF(P19="材質劣化",2,IF(P19="漏水",3,1)) -> 1
AQ20: =IF(P20="材質劣化",2,IF(P20="漏水",3,1)) -> 1
AQ21: =IF(P21="材質劣化",2,IF(P21="漏水",3,1)) -> 1
AQ22: =IF(P22="材質劣化",2,IF(P22="漏水",3,1)) -> 1
... AQ30: =IF(P30="材質劣化",2,IF(P30="漏水",3,1)) -> 1
K31: 集計 ・ 判定 ・ 診断 | L31: 変状の発生規模合計(㎡) | Y31: － | AC31: =SUM(AC11:AC30) -> 0 | AD31: =SUM(AD11:AD30) -> 0 | AE31: =SUM(AE11:AE30) -> 0 | AF31: =SUM(AF11:AF30) -> 0 | AG31: =SUM(AG11:AG30) -> 0 | AH31: =SUM(AH11:AH30) -> 0 | AI31: =SUM(AI11:AI30) -> 0 | AJ31: =SUM(AJ11:AJ30) -> 0 | AK31: 計
L32: 対策区分の 判定結果 | O32: 判定区分毎の変状数 | Y32: =COUNTIF(Y11:Y30,"○") -> 0 | Z32: =COUNTIF(Z11:Z30,"○") -> 0 | AA32: =COUNTIF(AA11:AA30,"○") -> 0 | AB32: =COUNTIF(AB11:AB30,"○") -> 0 | AC32: =COUNT(AC11:AC30) -> 0 | AD32: =COUNT(AD11:AD30) -> 0 | AE32: =COUNT(AE11:AE30) -> 0 | AF32: =COUNT(AF11:AF30) -> 0 | AG32: =COUNT(AG11:AG30) -> 0 | AH32: =COUNT(AH11:AH30) -> 0 | AI32: =COUNT(AI11:AI30) -> 0 | AJ32: =COUNT(AJ11:AJ30) -> 0
O33: 変状区分毎の判定区分注3 | Y33: =IF(Y32>0,"Ⅳ",IF(Z32>0,"Ⅲ",IF(AA32>0,"Ⅱa",IF(AB32>0,"Ⅱb","Ⅰ")))) -> Ⅰ | AC33: =IF(AC32>0,"Ⅳ",IF(AD32>0,"Ⅲ",IF(AE32>0,"Ⅱa",IF(AF32>0,"Ⅱb","Ⅰ")))) -> Ⅰ | AG33: =IF(AG32>0,"Ⅳ",IF(AH32>0,"Ⅲ",IF(AI32>0,"Ⅱa",IF(AJ32>0,"Ⅱb","Ⅰ")))) -> Ⅰ | AQ33: Ⅳ | AR33: Ⅲ | AS33: Ⅱ
L34: 健全性の 診断結果 | O34: 判定区分 | Y34: Ⅳ | Z34: Ⅲ | AA34: Ⅱ | AC34: Ⅳ | AD34: Ⅲ | AE34: Ⅱ | AG34: Ⅳ | AH34: Ⅲ | AI34: Ⅱ | AQ34: =+Y32+Z32 -> 0 | AS34: =+AA32+AB32 -> 0
O35: 判定区分毎の変状数注4 | Y35: =IF(Y32=0,"",1) | Z35: =IF(Z32=0,"",1) | AA35: =IF(AQ34=1,"",IF(AS34>0,1,"")) | AC35: =+AC32 -> 0 | AD35: =AD32 -> 0 | AE35: =AE32+AF32 -> 0 | AG35: =AG32 -> 0 | AH35: =AH32 -> 0 | AI35: =AI32+AJ32 -> 0 | AQ35: =+Y32+AC35+AG35 -> 0 | AR35: =+Z32+AD35+AH35 -> 0 | AS35: =+AS34+AE35+AI35 -> 0
O36: 変状区分毎の判定区分注4 | Y36: =IF(Y32>0,"Ⅳ",IF(Z32>0,"Ⅲ",IF(AA32>0,"Ⅱ",IF(AB32>0,"Ⅱ","Ⅰ")))) -> Ⅰ | AC36: =IF(AC32>0,"Ⅳ",IF(AD32>0,"Ⅲ",IF(AE32>0,"Ⅱ",IF(AF32>0,"Ⅱ","Ⅰ")))) -> Ⅰ | AG36: =IF(AG32>0,"Ⅳ",IF(AH32>0,"Ⅲ",IF(AI32>0,"Ⅱ",IF(AJ32>0,"Ⅱ","Ⅰ")))) -> Ⅰ | AQ36: =IF(AQ35>0,"Ⅳ",IF(AR35>0,"Ⅲ",IF(AS35>0,"Ⅱ","Ⅰ"))) -> Ⅰ
O37: 覆工スパン単位の判定区分注5 | Y37: =IF((Y32+AC32+AG32)>0,"Ⅳ",IF((Z32+AD32+AH32)>0,"Ⅲ",IF((AA32+AE32+AI32)>0,"Ⅱ",IF((AB32+AF32+AJ32)>0,"Ⅱ","Ⅰ")))) -> Ⅰ
K38: 特記事項
K40: 注1：誤記入防止のため、当該変状区分以外のセルは灰色表示とすること。
K41: 注2：応急対策を実施した場合は、その詳細を備考に記載すること。
K42: 注3：変状区分毎での最も評価の厳しい判定区分。
K43: 注4：変状区分毎での最も評価の厳しい判定区分．外力は覆工スパン単位、材質劣化、漏水は変状単位で行う。
K44: 注5：覆工スパンの中で最も評価の厳しい健全性を採用し、その覆工スパン毎の健全性とする。
B46: ※1：本シートは作成洩れのないよう、変状が無くても全スパン分を作成すること．また変状展開図は、様式D-2-1、様式D-2-1'と同じものを覆工スパン単位で拡大し掲載すること。
B47: ※2：変状番号は、様式D-1-1で記入した番号と整合させること。
B48: ※3：対策区分毎の変状発生規模は、様式D-1-1に記載した面積を記入すること（ただし外力はスパン単位で評価するため対象外とし、備考欄に状況を記入）。
B49: ※4：本様式は覆工スパン毎に作成すること。
...

Sheet 様式D-3_S02
AU1: 様式E-1リンク用→ | AV1: 覆工ｽﾊﾟﾝ 番号 | AW1: ｽﾊﾟﾝ 長 (m) | AX1: 変状数集計 | BS1: 覆工スパン毎の 健全性の診断 | BW1: 変状規模集計
AX2: 対策区分毎の変状数 | BJ2: 健全性の判定区分毎の変状数 | BW2: 覆工スパン長(m) | CA2: 対策区分毎の変状の発生範囲の規模(㎡）
B3: ■定期点検記録様式 覆工スパン別変状詳細展開図 【様式D-3】 | AX3: 外力 | BB3: 材質劣化 | BF3: 漏水 | BJ3: 外力 | BM3: 材質劣化 | BP3: 漏水 | BS3: 外力 | BT3: 材質劣化 | BU3: 漏水 | BV3: 健全性 | BW3: 外力※１ | CA3: 材質劣化 | CE3: 漏水
B4: フリガナ | E4: ='様式A-1'!D3 -> ナカヤマトンネル | K4: 路線名 | N4: ='様式A-1'!J3 -> 一般国道490号 小郡萩道路 | T4: 定期点検業者 | Y4: ='様式B(トンネル様式1P001)'!K5 -> 基礎地盤コンサルタンツ株式会社 | AG4: 定期点検年月日 | AK4: 45160 | AX4: Ⅳ | AY4: Ⅲ | AZ4: Ⅱa | BA4: Ⅱb | BB4: Ⅳ | BC4: Ⅲ | BD4: Ⅱa | BE4: Ⅱb | BF4: Ⅳ | BG4: Ⅲ | BH4: Ⅱa | BI4: Ⅱb | BJ4: Ⅳ | BK4: Ⅲ | BL4: Ⅱ | BM4: Ⅳ | BN4: Ⅲ | BO4: Ⅱ | BP4: Ⅳ | BQ4: Ⅲ | BR4: Ⅱ | BW4: Ⅳ | BX4: Ⅲ | BY4: Ⅱa | BZ4: Ⅱb | CA4: Ⅳ | CB4: Ⅲ | CC4: Ⅱa | CD4: Ⅱb | CE4: Ⅳ | CF4: Ⅲ | CG4: Ⅱa | CH4: Ⅱb
B5: 名 称 | E5: ='様式A-1'!D4 -> 中山トンネル | K5: 管理者名 | N5: ='様式A-1'!R3 -> 山口県宇部土木建築事務所 美祢支所 | T5: 定期点検者名 | Y5: ='様式B(トンネル様式1P001)'!K6 -> 安田 啓吾 | AV5: =N7 -> S02 | AW5: =R7 -> 10.5 | AX5: =+Y32 -> 0 | AY5: =+Z32 -> 0 | AZ5: =+AA32 -> 0 | BA5: =+AB32 -> 0 | BB5: =+AC32 -> 0 | BC5: =+AD32 -> 0 | BD5: =+AE32 -> 0 | BE5: =+AF32 -> 2 | ... BI5: =+AJ32 -> 0 | BJ5: =+Y35 | BK5: =+Z35 | BL5: =+AA35 | BM5: =+AC35 -> 0 | BN5: =+AD35 -> 0 | BO5: =+AE35 -> 2 | BP5: =+AG35 -> 0 | BQ5: =+AH35 -> 0 | BR5: =+AI35 -> 0 | BS5: =+Y36 -> Ⅰ | BT5: =+AC36 -> Ⅱ | BU5: =+AG36 -> Ⅰ | BV5: =+Y37 -> Ⅱ | BW5: =IF(Y32>0,$R$7,"") | BX5: =IF(Z32>0,"",IF(AA32>0,$R$7,"")) | BY5: =IF(Y32+Z32>0,"",IF(AA32>0,$R$7,"")) | BZ5: =IF(Y32+Z32+AA32>0,"",IF(AB32>0,$R$7,"")) | CA5: =+AC31 -> 0 | CB5: =+AD31 -> 0 | CC5: =+AE31 -> 0 | CD5: =+AF31 -> 0.021 | CE5: =+AG31 -> 0 | CF5: =+AH31 -> 0 | CG5: =+AI31 -> 0 | CH5: =+AJ31 -> 0
B6: スパン別変状展開図 | K6: 【健全性判定集計表】
K7: スパン番号 | N7: S02 | P7: スパン長 | R7: 10.5 | U7: 前回定期点検時の健全性 | W7: 応急措置前の判定 | Y7: 対策区分毎の 変状の有無 | AC7: 対策区分毎の変状の発生範囲の規模(㎡) | AK7: 備考注2
K8: 変状番号 | L8: 対象箇所 | N8: 部位区分 | P8: 変状区分 | R8: 変状種類
Y9: 外力注1 | AC9: 材質劣化注1 | AG9: 漏水注1
Y10: Ⅳ | Z10: Ⅲ | AA10: Ⅱa | AB10: Ⅱb | AC10: Ⅳ | AD10: Ⅲ | AE10: Ⅱa | AF10: Ⅱb | AG10: Ⅳ | AH10: Ⅲ | AI10: Ⅱa | AJ10: Ⅱb
K11: 1 | L11: 覆工・坑門 | N11: 横断目地（左側） | P11: 材質劣化 | R11: その他 | U11: Ⅱ | W11: － | AF11: 0.015 | AQ11: =IF(P11="材質劣化",2,IF(P11="漏水",3,1)) -> 2
K12: 2 | L12: 覆工・坑門 | N12: アーチ（左側） | P12: 材質劣化 | R12: 鋼材腐食 | U12: Ⅱ | W12: － | AF12: 0.006 | AQ12: =IF(P12="材質劣化",2,IF(P12="漏水",3,1)) -> 2
AQ13: =IF(P13="材質劣化",2,IF(P13="漏水",3,1)) -> 1
AQ14: =IF(P14="材質劣化",2,IF(P14="漏水",3,1)) -> 1
AQ15: =IF(P15="材質劣化",2,IF(P15="漏水",3,1)) -> 1
AQ16: =IF(P16="材質劣化",2,IF(P16="漏水",3,1)) -> 1
AQ17: =IF(P17="材質劣化",2,IF(P17="漏水",3,1)) -> 1
AQ18: =IF(P18="材質劣化",2,IF(P18="漏水",3,1)) -> 1
AQ19: =IF(P19="材質劣化",2,IF(P19="漏水",3,1)) -> 1
AQ20: =IF(P20="材質劣化",2,IF(P20="漏水",3,1)) -> 1
AQ21: =IF(P21="材質劣化",2,IF(P21="漏水",3,1)) -> 1
AQ22: =IF(P22="材質劣化",2,IF(P22="漏水",3,1)) -> 1
AQ23: =IF(P23="材質劣化",2,IF(P23="漏水",3,1)) -> 1
AQ24: =IF(P24="材質劣化",2,IF(P24="漏水",3,1)) -> 1
... AQ30: =IF(P30="材質劣化",2,IF(P30="漏水",3,1)) -> 1
K31: 集計 ・ 判定 ・ 診断 | L31: 変状の発生規模合計(㎡) | Y31: － | AC31: =SUM(AC11:AC30) -> 0 | AD31: =SUM(AD11:AD30) -> 0 | AE31: =SUM(AE11:AE30) -> 0 | AF31: =SUM(AF11:AF30) -> 0.021 | AG31: =SUM(AG11:AG30) -> 0 | AH31: =SUM(AH11:AH30) -> 0 | AI31: =SUM(AI11:AI30) -> 0 | AJ31: =SUM(AJ11:AJ30) -> 0 | AK31: 計
L32: 対策区分の 判定結果 | O32: 判定区分毎の変状数 | Y32: =COUNTIF(Y11:Y30,"○") -> 0 | Z32: =COUNTIF(Z11:Z30,"○") -> 0 | AA32: =COUNTIF(AA11:AA30,"○") -> 0 | AB32: =COUNTIF(AB11:AB30,"○") -> 0 | AC32: =COUNT(AC11:AC30) -> 0 | AD32: =COUNT(AD11:AD30) -> 0 | AE32: =COUNT(AE11:AE30) -> 0 | AF32: =COUNT(AF11:AF30) -> 2 | AG32: =COUNT(AG11:AG30) -> 0 | AH32: =COUNT(AH11:AH30) -> 0 | AI32: =COUNT(AI11:AI30) -> 0 | AJ32: =COUNT(AJ11:AJ30) -> 0
O33: 変状区分毎の判定区分注3 | Y33: =IF(Y32>0,"Ⅳ",IF(Z32>0,"Ⅲ",IF(AA32>0,"Ⅱa",IF(AB32>0,"Ⅱb","Ⅰ")))) -> Ⅰ | AC33: =IF(AC32>0,"Ⅳ",IF(AD32>0,"Ⅲ",IF(AE32>0,"Ⅱa",IF(AF32>0,"Ⅱb","Ⅰ")))) -> Ⅱb | AG33: =IF(AG32>0,"Ⅳ",IF(AH32>0,"Ⅲ",IF(AI32>0,"Ⅱa",IF(AJ32>0,"Ⅱb","Ⅰ")))) -> Ⅰ | AQ33: Ⅳ | AR33: Ⅲ | AS33: Ⅱ
L34: 健全性の 診断結果 | O34: 判定区分 | Y34: Ⅳ | Z34: Ⅲ | AA34: Ⅱ | AC34: Ⅳ | AD34: Ⅲ | AE34: Ⅱ | AG34: Ⅳ | AH34: Ⅲ | AI34: Ⅱ | AQ34: =+Y32+Z32 -> 0 | AS34: =+AA32+AB32 -> 0
O35: 判定区分毎の変状数注4 | Y35: =IF(Y32=0,"",1) | Z35: =IF(Z32=0,"",1) | AA35: =IF(AQ34=1,"",IF(AS34>0,1,"")) | AC35: =+AC32 -> 0 | AD35: =AD32 -> 0 | AE35: =AE32+AF32 -> 2 | AG35: =AG32 -> 0 | AH35: =AH32 -> 0 | AI35: =AI32+AJ32 -> 0 | AQ35: =+Y32+AC35+AG35 -> 0 | AR35: =+Z32+AD35+AH35 -> 0 | AS35: =+AS34+AE35+AI35 -> 2
O36: 変状区分毎の判定区分注4 | Y36: =IF(Y32>0,"Ⅳ",IF(Z32>0,"Ⅲ",IF(AA32>0,"Ⅱ",IF(AB32>0,"Ⅱ","Ⅰ")))) -> Ⅰ | AC36: =IF(AC32>0,"Ⅳ",IF(AD32>0,"Ⅲ",IF(AE32>0,"Ⅱ",IF(AF32>0,"Ⅱ","Ⅰ")))) -> Ⅱ | AG36: =IF(AG32>0,"Ⅳ",IF(AH32>0,"Ⅲ",IF(AI32>0,"Ⅱ",IF(AJ32>0,"Ⅱ","Ⅰ")))) -> Ⅰ | AQ36: =IF(AQ35>0,"Ⅳ",IF(AR35>0,"Ⅲ",IF(AS35>0,"Ⅱ","Ⅰ"))) -> Ⅱ
O37: 覆工スパン単位の判定区分注5 | Y37: =IF((Y32+AC32+AG32)>0,"Ⅳ",IF((Z32+AD32+AH32)>0,"Ⅲ",IF((AA32+AE32+AI32)>0,"Ⅱ",IF((AB32+AF32+AJ32)>0,"Ⅱ","Ⅰ")))) -> Ⅱ
K38: 特記事項
K40: 注1：誤記入防止のため、当該変状区分以外のセルは灰色表示とすること。
K41: 注2：応急対策を実施した場合は、その詳細を備考に記載すること。
K42: 注3：変状区分毎での最も評価の厳しい判定区分。
K43: 注4：変状区分毎での最も評価の厳しい判定区分．外力は覆工スパン単位、材質劣化、漏水は変状単位で行う。
K44: 注5：覆工スパンの中で最も評価の厳しい健全性を採用し、その覆工スパン毎の健全性とする。
B46: ※1：本シートは作成洩れのないよう、変状が無くても全スパン分を作成すること．また変状展開図は、様式D-2-1、様式D-2-1'と同じものを覆工スパン単位で拡大し掲載すること。
B47: ※2：変状番号は、様式D-1-1で記入した番号と整合させること。
...

Sheet 様式D-3_S03
AU1: 様式E-1リンク用→ | AV1: 覆工ｽﾊﾟﾝ 番号 | AW1: ｽﾊﾟﾝ 長 (m) | AX1: 変状数集計 | BS1: 覆工スパン毎の 健全性の診断 | BW1: 変状規模集計
AX2: 対策区分毎の変状数 | BJ2: 健全性の判定区分毎の変状数 | BW2: 覆工スパン長(m) | CA2: 対策区分毎の変状の発生範囲の規模(㎡）
B3: ■定期点検記録様式 覆工スパン別変状詳細展開図 【様式D-3】 | AX3: 外力 | BB3: 材質劣化 | BF3: 漏水 | BJ3: 外力 | BM3: 材質劣化 | BP3: 漏水 | BS3: 外力 | BT3: 材質劣化 | BU3: 漏水 | BV3: 健全性 | BW3: 外力※１ | CA3: 材質劣化 | CE3: 漏水
B4: フリガナ | E4: ='様式A-1'!D3 -> ナカヤマトンネル | K4: 路線名 | N4: ='様式A-1'!J3 -> 一般国道490号 小郡萩道路 | T4: 定期点検業者 | Y4: ='様式B(トンネル様式1P001)'!K5 -> 基礎地盤コンサルタンツ株式会社 | AG4: 定期点検年月日 | AK4: 45160 | AX4: Ⅳ | AY4: Ⅲ | AZ4: Ⅱa | BA4: Ⅱb | BB4: Ⅳ | BC4: Ⅲ | BD4: Ⅱa | BE4: Ⅱb | BF4: Ⅳ | BG4: Ⅲ | BH4: Ⅱa | BI4: Ⅱb | BJ4: Ⅳ | BK4: Ⅲ | BL4: Ⅱ | BM4: Ⅳ | BN4: Ⅲ | BO4: Ⅱ | BP4: Ⅳ | BQ4: Ⅲ | BR4: Ⅱ | BW4: Ⅳ | BX4: Ⅲ | BY4: Ⅱa | BZ4: Ⅱb | CA4: Ⅳ | CB4: Ⅲ | CC4: Ⅱa | CD4: Ⅱb | CE4: Ⅳ | CF4: Ⅲ | CG4: Ⅱa | CH4: Ⅱb
B5: 名 称 | E5: ='様式A-1'!D4 -> 中山トンネル | K5: 管理者名 | N5: ='様式A-1'!R3 -> 山口県宇部土木建築事務所 美祢支所 | T5: 定期点検者名 | Y5: ='様式B(トンネル様式1P001)'!K6 -> 安田 啓吾 | AV5: =N7 -> S03 | AW5: =R7 -> 10.5 | AX5: =+Y32 -> 0 | AY5: =+Z32 -> 0 | AZ5: =+AA32 -> 0 | BA5: =+AB32 -> 0 | BB5: =+AC32 -> 0 | BC5: =+AD32 -> 0 | BD5: =+AE32 -> 0 | BE5: =+AF32 -> 0 | ... BI5: =+AJ32 -> 0 | BJ5: =+Y35 | BK5: =+Z35 | BL5: =+AA35 | BM5: =+AC35 -> 0 | BN5: =+AD35 -> 0 | BO5: =+AE35 -> 0 | BP5: =+AG35 -> 0 | BQ5: =+AH35 -> 0 | BR5: =+AI35 -> 0 | BS5: =+Y36 -> Ⅰ | BT5: =+AC36 -> Ⅰ | BU5: =+AG36 -> Ⅰ | BV5: =+Y37 -> Ⅰ | BW5: =IF(Y32>0,$R$7,"") | BX5: =IF(Z32>0,"",IF(AA32>0,$R$7,"")) | BY5: =IF(Y32+Z32>0,"",IF(AA32>0,$R$7,"")) | BZ5: =IF(Y32+Z32+AA32>0,"",IF(AB32>0,$R$7,"")) | CA5: =+AC31 -> 0 | CB5: =+AD31 -> 0 | CC5: =+AE31 -> 0 | CD5: =+AF31 -> 0 | CE5: =+AG31 -> 0 | CF5: =+AH31 -> 0 | CG5: =+AI31 -> 0 | CH5: =+AJ31 -> 0
B6: スパン別変状展開図 | K6: 【健全性判定集計表】
K7: スパン番号 | N7: S03 | P7: スパン長 | R7: 10.5 | U7: 前回定期点検時の健全性 | W7: 応急措置前の判定 | Y7: 対策区分毎の 変状の有無 | AC7: 対策区分毎の変状の発生範囲の規模(㎡) | AK7: 備考注2
K8: 変状番号 | L8: 対象箇所 | N8: 部位区分 | P8: 変状区分 | R8: 変状種類
Y9: 外力注1 | AC9: 材質劣化注1 | AG9: 漏水注1
Y10: Ⅳ | Z10: Ⅲ | AA10: Ⅱa | AB10: Ⅱb | AC10: Ⅳ | AD10: Ⅲ | AE10: Ⅱa | AF10: Ⅱb | AG10: Ⅳ | AH10: Ⅲ | AI10: Ⅱa | AJ10: Ⅱb
AQ11: =IF(P11="材質劣化",2,IF(P11="漏水",3,1)) -> 1
AQ12: =IF(P12="材質劣化",2,IF(P12="漏水",3,1)) -> 1
AQ13: =IF(P13="材質劣化",2,IF(P13="漏水",3,1)) -> 1
AQ14: =IF(P14="材質劣化",2,IF(P14="漏水",3,1)) -> 1
AQ15: =IF(P15="材質劣化",2,IF(P15="漏水",3,1)) -> 1
AQ16: =IF(P16="材質劣化",2,IF(P16="漏水",3,1)) -> 1
AQ17: =IF(P17="材質劣化",2,IF(P17="漏水",3,1)) -> 1
AQ18: =IF(P18="材質劣化",2,IF(P18="漏水",3,1)) -> 1
AQ19: =IF(P19="材質劣化",2,IF(P19="漏水",3,1)) -> 1
AQ20: =IF(P20="材質劣化",2,IF(P20="漏水",3,1)) -> 1
AQ21: =IF(P21="材質劣化",2,IF(P21="漏水",3,1)) -> 1
AQ22: =IF(P22="材質劣化",2,IF(P22="漏水",3,1)) -> 1
... AQ30: =IF(P30="材質劣化",2,IF(P30="漏水",3,1)) -> 1
K31: 集計 ・ 判定 ・ 診断 | L31: 変状の発生規模合計(㎡) | Y31: － | AC31: =SUM(AC11:AC30) -> 0 | AD31: =SUM(AD11:AD30) -> 0 | AE31: =SUM(AE11:AE30) -> 0 | AF31: =SUM(AF11:AF30) -> 0 | AG31: =SUM(AG11:AG30) -> 0 | AH31: =SUM(AH11:AH30) -> 0 | AI31: =SUM(AI11:AI30) -> 0 | AJ31: =SUM(AJ11:AJ30) -> 0 | AK31: 計
L32: 対策区分の 判定結果 | O32: 判定区分毎の変状数 | Y32: =COUNTIF(Y11:Y30,"○") -> 0 | Z32: =COUNTIF(Z11:Z30,"○") -> 0 | AA32: =COUNTIF(AA11:AA30,"○") -> 0 | AB32: =COUNTIF(AB11:AB30,"○") -> 0 | AC32: =COUNT(AC11:AC30) -> 0 | AD32: =COUNT(AD11:AD30) -> 0 | AE32: =COUNT(AE11:AE30) -> 0 | AF32: =COUNT(AF11:AF30) -> 0 | AG32: =COUNT(AG11:AG30) -> 0 | AH32: =COUNT(AH11:AH30) -> 0 | AI32: =COUNT(AI11:AI30) -> 0 | AJ32: =COUNT(AJ11:AJ30) -> 0
O33: 変状区分毎の判定区分注3 | Y33: =IF(Y32>0,"Ⅳ",IF(Z32>0,"Ⅲ",IF(AA32>0,"Ⅱa",IF(AB32>0,"Ⅱb","Ⅰ")))) -> Ⅰ | AC33: =IF(AC32>0,"Ⅳ",IF(AD32>0,"Ⅲ",IF(AE32>0,"Ⅱa",IF(AF32>0,"Ⅱb","Ⅰ")))) -> Ⅰ | AG33: =IF(AG32>0,"Ⅳ",IF(AH32>0,"Ⅲ",IF(AI32>0,"Ⅱa",IF(AJ32>0,"Ⅱb","Ⅰ")))) -> Ⅰ | AQ33: Ⅳ | AR33: Ⅲ | AS33: Ⅱ
L34: 健全性の 診断結果 | O34: 判定区分 | Y34: Ⅳ | Z34: Ⅲ | AA34: Ⅱ | AC34: Ⅳ | AD34: Ⅲ | AE34: Ⅱ | AG34: Ⅳ | AH34: Ⅲ | AI34: Ⅱ | AQ34: =+Y32+Z32 -> 0 | AS34: =+AA32+AB32 -> 0
O35: 判定区分毎の変状数注4 | Y35: =IF(Y32=0,"",1) | Z35: =IF(Z32=0,"",1) | AA35: =IF(AQ34=1,"",IF(AS34>0,1,"")) | AC35: =+AC32 -> 0 | AD35: =AD32 -> 0 | AE35: =AE32+AF32 -> 0 | AG35: =AG32 -> 0 | AH35: =AH32 -> 0 | AI35: =AI32+AJ32 -> 0 | AQ35: =+Y32+AC35+AG35 -> 0 | AR35: =+Z32+AD35+AH35 -> 0 | AS35: =+AS34+AE35+AI35 -> 0
O36: 変状区分毎の判定区分注4 | Y36: =IF(Y32>0,"Ⅳ",IF(Z32>0,"Ⅲ",IF(AA32>0,"Ⅱ",IF(AB32>0,"Ⅱ","Ⅰ")))) -> Ⅰ | AC36: =IF(AC32>0,"Ⅳ",IF(AD32>0,"Ⅲ",IF(AE32>0,"Ⅱ",IF(AF32>0,"Ⅱ","Ⅰ")))) -> Ⅰ | AG36: =IF(AG32>0,"Ⅳ",IF(AH32>0,"Ⅲ",IF(AI32>0,"Ⅱ",IF(AJ32>0,"Ⅱ","Ⅰ")))) -> Ⅰ | AQ36: =IF(AQ35>0,"Ⅳ",IF(AR35>0,"Ⅲ",IF(AS35>0,"Ⅱ","Ⅰ"))) -> Ⅰ
O37: 覆工スパン単位の判定区分注5 | Y37: =IF((Y32+AC32+AG32)>0,"Ⅳ",IF((Z32+AD32+AH32)>0,"Ⅲ",IF((AA32+AE32+AI32)>0,"Ⅱ",IF((AB32+AF32+AJ32)>0,"Ⅱ","Ⅰ")))) -> Ⅰ
K38: 特記事項
K40: 注1：誤記入防止のため、当該変状区分以外のセルは灰色表示とすること。
K41: 注2：応急対策を実施した場合は、その詳細を備考に記載すること。
K42: 注3：変状区分毎での最も評価の厳しい判定区分。
K43: 注4：変状区分毎での最も評価の厳しい判定区分．外力は覆工スパン単位、材質劣化、漏水は変状単位で行う。
K44: 注5：覆工スパンの中で最も評価の厳しい健全性を採用し、その覆工スパン毎の健全性とする。
B46: ※1：本シートは作成洩れのないよう、変状が無くても全スパン分を作成すること．また変状展開図は、様式D-2-1、様式D-2-1'と同じものを覆工スパン単位で拡大し掲載すること。
B47: ※2：変状番号は、様式D-1-1で記入した番号と整合させること。
B48: ※3：対策区分毎の変状発生規模は、様式D-1-1に記載した面積を記入すること（ただし外力はスパン単位で評価するため対象外とし、備考欄に状況を記入）。
B49: ※4：本様式は覆工スパン毎に作成すること。
...

Sheet 様式D-3_S04
AU1: 様式E-1リンク用→ | AV1: 覆工ｽﾊﾟﾝ 番号 | AW1: ｽﾊﾟﾝ 長 (m) | AX1: 変状数集計 | BS1: 覆工スパン毎の 健全性の診断 | BW1: 変状規模集計
AX2: 対策区分毎の変状数 | BJ2: 健全性の判定区分毎の変状数 | BW2: 覆工スパン長(m) | CA2: 対策区分毎の変状の発生範囲の規模(㎡）
B3: ■定期点検記録様式 覆工スパン別変状詳細展開図 【様式D-3】 | AX3: 外力 | BB3: 材質劣化 | BF3: 漏水 | BJ3: 外力 | BM3: 材質劣化 | BP3: 漏水 | BS3: 外力 | BT3: 材質劣化 | BU3: 漏水 | BV3: 健全性 | BW3: 外力※１ | CA3: 材質劣化 | CE3: 漏水
B4: フリガナ | E4: ='様式A-1'!D3 -> ナカヤマトンネル | K4: 路線名 | N4: ='様式A-1'!J3 -> 一般国道490号 小郡萩道路 | T4: 定期点検業者 | Y4: ='様式B(トンネル様式1P001)'!K5 -> 基礎地盤コンサルタンツ株式会社 | AG4: 定期点検年月日 | AK4: 45160 | AX4: Ⅳ | AY4: Ⅲ | AZ4: Ⅱa | BA4: Ⅱb | BB4: Ⅳ | BC4: Ⅲ | BD4: Ⅱa | BE4: Ⅱb | BF4: Ⅳ | BG4: Ⅲ | BH4: Ⅱa | BI4: Ⅱb | BJ4: Ⅳ | BK4: Ⅲ | BL4: Ⅱ | BM4: Ⅳ | BN4: Ⅲ | BO4: Ⅱ | BP4: Ⅳ | BQ4: Ⅲ | BR4: Ⅱ | BW4: Ⅳ | BX4: Ⅲ | BY4: Ⅱa | BZ4: Ⅱb | CA4: Ⅳ | CB4: Ⅲ | CC4: Ⅱa | CD4: Ⅱb | CE4: Ⅳ | CF4: Ⅲ | CG4: Ⅱa | CH4: Ⅱb
B5: 名 称 | E5: ='様式A-1'!D4 -> 中山トンネル | K5: 管理者名 | N5: ='様式A-1'!R3 -> 山口県宇部土木建築事務所 美祢支所 | T5: 定期点検者名 | Y5: ='様式B(トンネル様式1P001)'!K6 -> 安田 啓吾 | AV5: =N7 -> S04 | AW5: =R7 -> 10.5 | AX5: =+Y32 -> 0 | AY5: =+Z32 -> 0 | AZ5: =+AA32 -> 0 | BA5: =+AB32 -> 0 | BB5: =+AC32 -> 0 | BC5: =+AD32 -> 0 | BD5: =+AE32 -> 0 | BE5: =+AF32 -> 0 | ... BI5: =+AJ32 -> 0 | BJ5: =+Y35 | BK5: =+Z35 | BL5: =+AA35 | BM5: =+AC35 -> 0 | BN5: =+AD35 -> 0 | BO5: =+AE35 -> 0 | BP5: =+AG35 -> 0 | BQ5: =+AH35 -> 0 | BR5: =+AI35 -> 0 | BS5: =+Y36 -> Ⅰ | BT5: =+AC36 -> Ⅰ | BU5: =+AG36 -> Ⅰ | BV5: =+Y37 -> Ⅰ | BW5: =IF(Y32>0,$R$7,"") | BX5: =IF(Z32>0,"",IF(AA32>0,$R$7,"")) | BY5: =IF(Y32+Z32>0,"",IF(AA32>0,$R$7,"")) | BZ5: =IF(Y32+Z32+AA32>0,"",IF(AB32>0,$R$7,"")) | CA5: =+AC31 -> 0 | CB5: =+AD31 -> 0 | CC5: =+AE31 -> 0 | CD5: =+AF31 -> 0 | CE5: =+AG31 -> 0 | CF5: =+AH31 -> 0 | CG5: =+AI31 -> 0 | CH5: =+AJ31 -> 0
B6: スパン別変状展開図 | K6: 【健全性判定集計表】
K7: スパン番号 | N7: S04 | P7: スパン長 | R7: 10.5 | U7: 前回定期点検時の健全性 | W7: 応急措置前の判定 | Y7: 対策区分毎の 変状の有無 | AC7: 対策区分毎の変状の発生範囲の規模(㎡) | AK7: 備考注2
