Workbook

Sheet 様式１（２）
A1: 定期点検記録様式 （２）大型カルバート | K1: 様式１（２）
A3: 施設名・所在地・管理者名等 | J3: 施設ID | K3: 34.21972,131.31111 | M3: Ⅰ | N3: 有 | O3: 自専道 | P3: 一次
A4: 施設名 | D4: 路線名 | F4: 所在地 | I4: 起点側 | J4: 緯度 | K4: 34.21972 | M4: Ⅱ | N4: 無 | O4: 一般道 | P4: 二次
J5: 経度 | K5: 131.31111 | M5: Ⅲ | P5: 三次
A6: 秋吉カルバート | D6: 一般県道秋吉台公園線 | F6: 美祢市秋芳町秋吉 | M6: Ⅳ | P6: 市町村指定
A7: （フリガナ）ｱｷﾖｼｶﾙﾊﾞｰﾄ | P7: その他
A8: 管理者名 | D8: 定期点検実施年月日 | F8: 代替路の有無 | H8: 自専道or一般道 | I8: 緊急輸送道路 | K8: 占用物件（名称）
A9: 宇部土木建築事務所 美祢支所 | D9: 45989 | F9: 有 | H9: 一般道 | I9: その他 | K9: 市道鯨線
A12: 部材単位の診断（各部材毎に最も厳しい健全性の診断結果を記入） | E12: 定期点検者 | G12: サンヨーコンサルタント㈱ | I12: 定期点検責任者 | K12: 﨑村 浩亘
A13: 定期点検時に記録 | H13: 応急措置後に記録
A14: 部材名 | C14: 判定区分 （Ⅰ～Ⅳ） | D14: 変状の種類 （Ⅱ以上の場合に記載） | F14: 備考（写真番号，位置等が分かるように記載） | H14: 応急措置後の 判定区分 | I14: 応急措置内容 | K14: 応急措置及び判定 実施年月日
A15: カルバート本体 | C15: Ⅱ | D15: ひびわれ | F15: 写真4
A16: 継手 | C16: Ⅱ | D16: 漏水 | F16: 写真25
A17: ウイング | C17: Ⅱ | D17: ひびわれ | F17: 写真28
A18: その他 | C18: Ⅱ | D18: わだち掘れ | F18: 写真36
A20: 施設毎の健全性の診断（対策区分Ⅰ～Ⅳ）
A21: 定期点検時に記録
A22: （判定区分） | B22: （所見等）
A23: Ⅱ | B23: 頂版にひびわれが生じているため、予防保全の観点から補修を行うことが望ましい。 継手に漏水、目地材の欠損が生じているため、予防保全の観点から補修を行うことが望ましい。 ウイングにひびわれが生じているため、予防保全の観点から補修を行うことが望ましい。
A25: 全景写真（起点側，終点側を記載すること）
A26: 建設年次 | B26: 延長 | C26: 総幅員
A27: 1995 | B27: 30 | C27: 5.9
A28: 構造形式 | D28: 起点側 | J28: 終点側
A29: RCボックス
A41: ※建設年次が不明の場合は「不明」と記入する．

Sheet 様式２(1)
A1: 別紙２ | J1: 様式２（1）
A2: 状況写真（変状状況）
A3: ○区分がⅡ、Ⅲ又はⅣの場合には、直接関連する不具合の写真を記載のこと。
A4: ○写真は、不具合の程度が分かるように添付すること。
A5: カルバート本体（頂版01） 【 区分：Ⅱ】 | E5: 継手（遊間部0102） 【 区分：Ⅱ】
A22: ウイング（ウイング02） 【 区分：Ⅱ】 | E22: その他 (上部01) 【 区分：Ⅱ】

Sheet 様式２－２(1)
A1: 状況写真（損傷状況） | S1: 様式２－２（1）
A4: 施設名 （形式） | C4: =#REF! -> #REF! | G4: 路線名 | J4: =#REF! -> #REF! | N4: 定期点検者 | P4: =#REF! -> #REF! | T4: 点検年月日 | W4: =#REF! -> #REF!
C5: =#REF! -> #REF! | G5: 管理者名 | J5: =#REF! -> #REF!
A7: 写真番号 | D7: 1 | F7: 写真 | N7: 写真番号 | Q7: =D7+1 -> 2
A8: 部材名 | D8: カルバート本体 | N8: 部材名 | Q8: カルバート本体
D9: 頂版01 | Q9: 頂版01
A10: 変状の種類 | D10: ひびわれ | N10: 変状の種類 | Q10: ひびわれ
A11: 健全性 の診断 | C11: 定期 点検時 | D11: Ⅱ | N11: 健全性 の診断 | P11: 定期 点検時 | Q11: Ⅱ
C12: 応急措置後 | P12: 応急措置後
A13: 応急処置内容 | N13: 応急処置内容
A14: 所見 | D14: 頂版にひびわれ0.40mm×1800、0.30mm×500mmが生じている。 | N14: 所見 | Q14: 頂版にひびわれ0.30mm×6700mm、0.40mm×3600mm、0.40mm×4500mm、0.40mm×4900mmが生じている。
A15: 備考欄 | D15: 前回点検時の写真無し。 | N15: 備考欄 | Q15: 前回点検時の写真無し。
A17: 写真番号 | D17: =Q7+1 -> 3 | F17: 写真 | N17: 写真番号 | Q17: =D17+1 -> 4 | S17: 写真
A18: 部材名 | D18: カルバート本体 | N18: 部材名 | Q18: カルバート本体
D19: 頂版01 | Q19: 頂版01
A20: 変状の種類 | D20: ひびわれ | N20: 変状の種類 | Q20: ひびわれ
A21: 健全性 の診断 | C21: 定期 点検時 | D21: Ⅱ | N21: 健全性 の診断 | P21: 定期 点検時 | Q21: Ⅱ
C22: 応急措置後 | P22: 応急措置後
A23: 応急処置内容 | N23: 応急処置内容
A24: 所見 | D24: 頂版にひびわれ0.30mm×6700mm、0.40mm×3600mm、0.40mm×4500mm、0.40mm×4900mmが生じている。 | N24: 所見 | Q24: 頂版にひびわれ0.50mm×17500mmが生じている。
A25: 備考欄 | D25: 写真2の続き 前回点検時の写真無し。 | N25: 備考欄 | Q25: 前回点検時の写真無し。
A26: ○部材単位の健全性の診断（判定区分）が、Ⅱ、Ⅲ又はⅣの部材について記載する。なお、同一部材で、変状の種類が異なる損傷がある場合は、変状の種類毎に記載する。
A27: ○写真は、不具合の程度が分かるように添付すること。

Sheet 様式２－２(2)
A1: 状況写真（損傷状況） | T1: 様式２－２（2）
A4: 施設名 （形式） | C4: =#REF! -> #REF! | G4: 路線名 | J4: =#REF! -> #REF! | N4: 定期点検者 | P4: =#REF! -> #REF! | T4: 点検年月日 | W4: =#REF! -> #REF!
C5: =#REF! -> #REF! | G5: 管理者名 | J5: =#REF! -> #REF!
A7: 写真番号 | D7: ='様式２－２(1)'!Q17+1 -> 5 | F7: 写真 | N7: 写真番号 | Q7: =D7+1 -> 6
A8: 部材名 | D8: カルバート本体 | N8: 部材名 | Q8: カルバート本体
D9: 頂版01 | Q9: 頂版02
A10: 変状の種類 | D10: ひびわれ | N10: 変状の種類 | Q10: ひびわれ
A11: 健全性 の診断 | C11: 定期 点検時 | D11: Ⅱ | N11: 健全性 の診断 | P11: 定期 点検時 | Q11: Ⅱ
C12: 応急措置後 | P12: 応急措置後
A13: 応急処置内容 | N13: 応急処置内容
A14: 所見 | D14: 頂版にひびわれ0.40mm×13900mm、0.40mm×2700mm、0.30mm×2000mm、0.30mm×2900mm、0.30mm×3000mmが生じている。 | N14: 所見 | Q14: 頂版にひびわれ0.40mm×27500mmが生じている。
A15: 備考欄 | D15: 前回点検時の写真無し。 | N15: 備考欄 | Q15: 前回点検時の写真無し。
A17: 写真番号 | D17: =Q7+1 -> 7 | F17: 写真 | N17: 写真番号 | Q17: =D17+1 -> 8 | S17: 写真
A18: 部材名 | D18: カルバート本体 | N18: 部材名 | Q18: カルバート本体
D19: 頂版02 | Q19: 頂版02
A20: 変状の種類 | D20: ひびわれ | N20: 変状の種類 | Q20: ひびわれ
A21: 健全性 の診断 | C21: 定期 点検時 | D21: Ⅱ | N21: 健全性 の診断 | P21: 定期 点検時 | Q21: Ⅱ
C22: 応急措置後 | P22: 応急措置後
A23: 応急処置内容 | N23: 応急処置内容
A24: 所見 | D24: 頂版にひびわれ0.40mm×7500mmが生じている。 | N24: 所見 | Q24: 頂版にひびわれ0.40mm×17500mmが生じている。
A25: 備考欄 | D25: 前回点検時の写真無し。 | N25: 備考欄 | Q25: 前回点検時の写真無し。
A26: ○部材単位の健全性の診断（判定区分）が、Ⅱ、Ⅲ又はⅣの部材について記載する。なお、同一部材で、変状の種類が異なる損傷がある場合は、変状の種類毎に記載する。
A27: ○写真は、不具合の程度が分かるように添付すること。

Sheet 様式２－２(3)
A1: 状況写真（損傷状況） | S1: 様式２－２（3）
A4: 施設名 （形式） | C4: =#REF! -> #REF! | G4: 路線名 | J4: =#REF! -> #REF! | N4: 定期点検者 | P4: =#REF! -> #REF! | T4: 点検年月日 | W4: =#REF! -> #REF!
C5: =#REF! -> #REF! | G5: 管理者名 | J5: =#REF! -> #REF!
A7: 写真番号 | D7: ='様式２－２(2)'!Q17+1 -> 9 | F7: 写真 | N7: 写真番号 | Q7: =D7+1 -> 10
A8: 部材名 | D8: カルバート本体 | N8: 部材名 | Q8: カルバート本体
D9: 頂版02 | Q9: 頂版01
A10: 変状の種類 | D10: ひびわれ | N10: 変状の種類 | Q10: 漏水・遊離石灰
A11: 健全性 の診断 | C11: 定期 点検時 | D11: Ⅱ | N11: 健全性 の診断 | P11: 定期 点検時 | Q11: Ⅱ
C12: 応急措置後 | P12: 応急措置後
A13: 応急処置内容 | N13: 応急処置内容
A14: 所見 | D14: 頂版にひびわれ0.40mm×13500mmが生じている。 | N14: 所見 | Q14: 頂版に漏水・遊離石灰が生じている。
A15: 備考欄 | D15: 前回点検時の写真無し。 | N15: 備考欄 | Q15: 前回点検時の写真無し。
A17: 写真番号 | D17: =Q7+1 -> 11 | F17: 写真 | N17: 写真番号 | Q17: =D17+1 -> 12 | S17: 写真
A18: 部材名 | D18: カルバート本体 | N18: 部材名 | Q18: カルバート本体
D19: 頂版02 | Q19: 頂版01
A20: 変状の種類 | D20: 漏水・遊離石灰 | N20: 変状の種類 | Q20: ひびわれ
A21: 健全性 の診断 | C21: 定期 点検時 | D21: Ⅱ | N21: 健全性 の診断 | P21: 定期 点検時 | Q21: Ⅰ
C22: 応急措置後 | P22: 応急措置後
A23: 応急処置内容 | N23: 応急処置内容
A24: 所見 | D24: 頂版に漏水・遊離石灰が生じている。 | N24: 所見 | Q24: 頂版のひびわれについては、補修済みである。
A25: 備考欄 | D25: 前回点検時の写真無し。 | N25: 備考欄
A26: ○部材単位の健全性の診断（判定区分）が、Ⅱ、Ⅲ又はⅣの部材について記載する。なお、同一部材で、変状の種類が異なる損傷がある場合は、変状の種類毎に記載する。
A27: ○写真は、不具合の程度が分かるように添付すること。

Sheet 様式２－２(4)
A1: 状況写真（損傷状況） | O1: 様式２－２（4）
A4: 施設名 （形式） | C4: =#REF! -> #REF! | G4: 路線名 | J4: =#REF! -> #REF! | N4: 定期点検者 | P4: =#REF! -> #REF! | T4: 点検年月日 | W4: =#REF! -> #REF!
C5: =#REF! -> #REF! | G5: 管理者名 | J5: =#REF! -> #REF!
A7: 写真番号 | D7: ='様式２－２(3)'!Q17+1 -> 13 | F7: 写真 | N7: 写真番号 | Q7: =D7+1 -> 14
A8: 部材名 | D8: カルバート本体 | N8: 部材名 | Q8: カルバート本体
D9: 頂版02 | Q9: 頂版01
A10: 変状の種類 | D10: ひびわれ | N10: 変状の種類 | Q10: 剥離・鋼材露出
A11: 健全性 の診断 | C11: 定期 点検時 | D11: Ⅰ | N11: 健全性 の診断 | P11: 定期 点検時 | Q11: Ⅰ
C12: 応急措置後 | P12: 応急措置後
A13: 応急処置内容 | N13: 応急処置内容
A14: 所見 | D14: 頂版のひびわれについては、補修済みである。 | N14: 所見 | Q14: 頂版の剥離・鋼材露出については、補修済みである。
A15: 備考欄 | N15: 備考欄
A17: 写真番号 | D17: =Q7+1 -> 15 | F17: 写真 | N17: 写真番号 | Q17: =D17+1 -> 16 | S17: 写真
A18: 部材名 | D18: カルバート本体 | N18: 部材名 | Q18: カルバート本体
D19: 頂版01 | Q19: 側壁0101
A20: 変状の種類 | D20: 剥離・鋼材露出 | N20: 変状の種類 | Q20: 遊離石灰
A21: 健全性 の診断 | C21: 定期 点検時 | D21: Ⅰ | N21: 健全性 の診断 | P21: 定期 点検時 | Q21: Ⅱ
C22: 応急措置後 | P22: 応急措置後
A23: 応急処置内容 | N23: 応急処置内容
A24: 所見 | D24: 頂版の剥離・鋼材露出については、補修済みである。 | N24: 所見 | Q24: 側壁に遊離石灰が生じている。
A25: 備考欄 | N25: 備考欄 | Q25: 前回点検時からの損傷・劣化の進行は認められない。
A26: ○部材単位の健全性の診断（判定区分）が、Ⅱ、Ⅲ又はⅣの部材について記載する。なお、同一部材で、変状の種類が異なる損傷がある場合は、変状の種類毎に記載する。
A27: ○写真は、不具合の程度が分かるように添付すること。

Sheet 様式２－２(5)
A1: 状況写真（損傷状況） | R1: 様式２－２（5）
A4: 施設名 （形式） | C4: =#REF! -> #REF! | G4: 路線名 | J4: =#REF! -> #REF! | N4: 定期点検者 | P4: =#REF! -> #REF! | T4: 点検年月日 | W4: =#REF! -> #REF!
C5: =#REF! -> #REF! | G5: 管理者名 | J5: =#REF! -> #REF!
A7: 写真番号 | D7: ='様式２－２(4)'!Q17+1 -> 17 | F7: 写真 | N7: 写真番号 | Q7: =D7+1 -> 18
A8: 部材名 | D8: カルバート本体 | N8: 部材名 | Q8: カルバート本体
D9: 側壁0102 | Q9: 側壁0202
A10: 変状の種類 | D10: ひびわれ | N10: 変状の種類 | Q10: ひびわれ
A11: 健全性 の診断 | C11: 定期 点検時 | D11: Ⅰ | N11: 健全性 の診断 | P11: 定期 点検時 | Q11: Ⅰ
C12: 応急措置後 | P12: 応急措置後
A13: 応急処置内容 | N13: 応急処置内容
A14: 所見 | D14: 側壁のひびわれについては、補修済みである。 | N14: 所見 | Q14: 側壁のひびわれについては、補修済みである。
A15: 備考欄 | N15: 備考欄
A17: 写真番号 | D17: =Q7+1 -> 19 | F17: 写真 | N17: 写真番号 | Q17: =D17+1 -> 20 | S17: 写真
A18: 部材名 | D18: カルバート本体 | N18: 部材名 | Q18: カルバート本体
D19: 側壁0201 | Q19: 側壁0101
A20: 変状の種類 | D20: ひびわれ | N20: 変状の種類 | Q20: ひびわれ
A21: 健全性 の診断 | C21: 定期 点検時 | D21: Ⅰ | N21: 健全性 の診断 | P21: 定期 点検時 | Q21: Ⅰ
C22: 応急措置後 | P22: 応急措置後
A23: 応急処置内容 | N23: 応急処置内容
A24: 所見 | D24: 側壁のひびわれについては、補修済みである。 | N24: 所見 | Q24: 側壁のひびわれについては、補修済みである。
A25: 備考欄 | N25: 備考欄
A26: ○部材単位の健全性の診断（判定区分）が、Ⅱ、Ⅲ又はⅣの部材について記載する。なお、同一部材で、変状の種類が異なる損傷がある場合は、変状の種類毎に記載する。
A27: ○写真は、不具合の程度が分かるように添付すること。

Sheet 様式２－２(6)
A1: 状況写真（損傷状況） | R1: 様式２－２（6）
A4: 施設名 （形式） | C4: =#REF! -> #REF! | G4: 路線名 | J4: =#REF! -> #REF! | N4: 定期点検者 | P4: =#REF! -> #REF! | T4: 点検年月日 | W4: =#REF! -> #REF!
C5: =#REF! -> #REF! | G5: 管理者名 | J5: =#REF! -> #REF!
A7: 写真番号 | D7: ='様式２－２(5)'!Q17+1 -> 21 | F7: 写真 | N7: 写真番号 | Q7: =D7+1 -> 22
A8: 部材名 | D8: カルバート本体 | N8: 部材名 | Q8: カルバート本体
D9: 側壁0202 | Q9: 側壁0201
A10: 変状の種類 | D10: うき | N10: 変状の種類 | Q10: ひびわれ
A11: 健全性 の診断 | C11: 定期 点検時 | D11: Ⅰ | N11: 健全性 の診断 | P11: 定期 点検時 | Q11: Ⅰ
C12: 応急措置後 | P12: 応急措置後
A13: 応急処置内容 | N13: 応急処置内容
A14: 所見 | D14: 側壁のうきについては補修済みである。 | N14: 所見 | Q14: 側壁のひびわれについては、補修済みである。
A15: 備考欄 | N15: 備考欄
A17: 写真番号 | D17: =Q7+1 -> 23 | F17: 写真 | N17: 写真番号 | Q17: 24
A18: 部材名 | D18: カルバート本体 | N18: 部材名 | Q18: カルバート本体
D19: 側壁0202 | Q19: 底版01
A20: 変状の種類 | D20: ひびわれ | N20: 変状の種類 | Q20: ひびわれ
A21: 健全性 の診断 | C21: 定期 点検時 | D21: Ⅰ | N21: 健全性 の診断 | P21: 定期 点検時 | Q21: Ⅰ
C22: 応急措置後 | P22: 応急措置後
A23: 応急処置内容 | N23: 応急処置内容
A24: 所見 | D24: 側壁のひびわれについては、補修済みである。 | N24: 所見 | Q24: 底版にひびわれ0.50mm×1400mmが生じている。
A25: 備考欄 | N25: 備考欄 | Q25: 前回点検時からの損傷・劣化の進行は認められない。
A26: ○部材単位の健全性の診断（判定区分）が、Ⅱ、Ⅲ又はⅣの部材について記載する。なお、同一部材で、変状の種類が異なる損傷がある場合は、変状の種類毎に記載する。
A27: ○写真は、不具合の程度が分かるように添付すること。

Sheet 様式２－２(7)
A1: 状況写真（損傷状況） | N1: 様式２－２（7）
A4: 施設名 （形式） | C4: =#REF! -> #REF! | G4: 路線名 | J4: =#REF! -> #REF! | N4: 定期点検者 | P4: =#REF! -> #REF! | T4: 点検年月日 | W4: =#REF! -> #REF!
C5: =#REF! -> #REF! | G5: 管理者名 | J5: =#REF! -> #REF!
A7: 写真番号 | D7: 25 | F7: 写真 | N7: 写真番号 | Q7: 26 | S7: 写真
A8: 部材名 | D8: 継手 | N8: 部材名 | Q8: 継手
D9: 遊間部0102 | Q9: 遊間部0102
A10: 変状の種類 | D10: 継手の機能障害 (漏水) | N10: 変状の種類 | Q10: 継手の機能障害(欠損)
A11: 健全性 の診断 | C11: 定期 点検時 | D11: Ⅱ | N11: 健全性 の診断 | P11: 定期 点検時 | Q11: Ⅱ
C12: 応急措置後 | P12: 応急措置後 | AA12: 障害
A13: 応急処置内容 | N13: 応急処置内容
A14: 所見 | D14: 継手に漏水が生じている。 | N14: 所見 | Q14: 継手に目地材の欠損が生じている。
A15: 備考欄 | D15: 前回点検時からの損傷・劣化の進行は認められない。 | N15: 備考欄 | Q15: 前回点検時からの損傷・劣化の進行は認められない。
A17: 写真番号 | D17: 27 | N17: 写真番号 | Q17: 28 | S17: 写真
A18: 部材名 | D18: ウイング | N18: 部材名 | Q18: ウイング
D19: ウイング01 | Q19: ウイング02
A20: 変状の種類 | D20: ひびわれ | N20: 変状の種類 | Q20: ひびわれ
A21: 健全性 の診断 | C21: 定期 点検時 | D21: Ⅱ | N21: 健全性 の診断 | P21: 定期 点検時 | Q21: Ⅱ
C22: 応急措置後 | P22: 応急措置後
A23: 応急処置内容 | N23: 応急処置内容
A24: 所見 | D24: ウイングにひびわれ5.0mm×200mmが生じている。 | N24: 所見 | Q24: ウイングにひびわれ5.0mm×1100mmが生じている。
A25: 備考欄 | D25: 前回点検時からの損傷・劣化の進行は認められない。 | N25: 備考欄 | Q25: 前回点検時からの損傷・劣化の進行は認められるものの、軽微である。
A26: ○部材単位の健全性の診断（判定区分）が、Ⅱ、Ⅲ又はⅣの部材について記載する。なお、同一部材で、変状の種類が異なる損傷がある場合は、変状の種類毎に記載する。
A27: ○写真は、不具合の程度が分かるように添付すること。

Sheet 様式２－２(8)
A1: 状況写真（損傷状況） | P1: 様式２－２（8）
A4: 施設名 （形式） | C4: =#REF! -> #REF! | G4: 路線名 | J4: =#REF! -> #REF! | N4: 定期点検者 | P4: =#REF! -> #REF! | T4: 点検年月日 | W4: =#REF! -> #REF!
C5: =#REF! -> #REF! | G5: 管理者名 | J5: =#REF! -> #REF!
A7: 写真番号 | D7: 29 | F7: 写真 | N7: 写真番号 | Q7: 30 | S7: 写真
A8: 部材名 | D8: ウイング | N8: 部材名 | Q8: ウイング
D9: ウイング01 | Q9: ウイング02
A10: 変状の種類 | D10: ひびわれ | N10: 変状の種類 | Q10: ひびわれ
A11: 健全性 の診断 | C11: 定期 点検時 | D11: Ⅰ | N11: 健全性 の診断 | P11: 定期 点検時 | Q11: Ⅰ
C12: 応急措置後 | P12: 応急措置後
A13: 応急処置内容 | N13: 応急処置内容
A14: 所見 | D14: ウイングのひびわれについては、補修済みである。 | N14: 所見 | Q14: ウイングのひびわれについては、補修済みである。
A15: 備考欄 | N15: 備考欄
A17: 写真番号 | D17: 31 | N17: 写真番号 | Q17: 32 | S17: 写真
A18: 部材名 | D18: その他 | N18: 部材名 | Q18: 内空道路
D19: その他(水路壁) | Q19: 路上02
A20: 変状の種類 | D20: ひびわれ | N20: 変状の種類 | Q20: 路上施設の変状 (わだち掘れ)
A21: 健全性 の診断 | C21: 定期 点検時 | D21: Ⅰ | N21: 健全性 の診断 | P21: 定期 点検時 | Q21: Ⅱ
C22: 応急措置後 | P22: 応急措置後
A23: 応急処置内容 | N23: 応急処置内容
A24: 所見 | D24: 水路壁のひびわれについては、補修済みである。 | N24: 所見 | Q24: 舗装にわだち掘れが生じている。
A25: 備考欄 | N25: 備考欄 | Q25: 前回点検時からの損傷・劣化の進行は認められない。
A26: ○部材単位の健全性の診断（判定区分）が、Ⅱ、Ⅲ又はⅣの部材について記載する。なお、同一部材で、変状の種類が異なる損傷がある場合は、変状の種類毎に記載する。
A27: ○写真は、不具合の程度が分かるように添付すること。

Sheet 様式２－２(9)
A1: 状況写真（損傷状況） | O1: 様式２－２（9）
A4: 施設名 （形式） | C4: =#REF! -> #REF! | G4: 路線名 | J4: =#REF! -> #REF! | N4: 定期点検者 | P4: =#REF! -> #REF! | T4: 点検年月日 | W4: =#REF! -> #REF!
C5: =#REF! -> #REF! | G5: 管理者名 | J5: =#REF! -> #REF!
A7: 写真番号 | D7: 33 | F7: 写真 | N7: 写真番号 | Q7: =D7+1 -> 34 | S7: 写真
A8: 部材名 | D8: 内空道路 | N8: 部材名 | Q8: 内空道路
D9: 路上02 | Q9: 路上01
A10: 変状の種類 | D10: 路上施設の変状 (土砂堆積) | N10: 変状の種類 | Q10: 路上施設の変状(変形)
A11: 健全性 の診断 | C11: 定期 点検時 | D11: Ⅱ | N11: 健全性 の診断 | P11: 定期 点検時 | Q11: Ⅱ
C12: 応急措置後 | P12: 応急措置後
A13: 応急処置内容 | N13: 応急処置内容
A14: 所見 | D14: 舗装に土砂堆積が生じている。 | N14: 所見 | Q14: 防護柵に変形が生じている。
A15: 備考欄 | D15: 前回点検時からの損傷・劣化の進行は認められない。 | N15: 備考欄 | Q15: 前回点検時からの損傷・劣化の進行は認められない。
A17: 写真番号 | D17: 35 | F17: 写真 | N17: 写真番号 | Q17: =D17+1 -> 36
A18: 部材名 | D18: 上部道路(歩道) | N18: 部材名 | Q18: 上部道路
D19: 上部01 | Q19: 上部01
A20: 変状の種類 | D20: ひびわれ | N20: 変状の種類 | Q20: 路上施設の変状(わだち掘れ)
A21: 健全性 の診断 | C21: 定期 点検時 | D21: Ⅱ | N21: 健全性 の診断 | P21: 定期 点検時 | Q21: Ⅱ
C22: 応急措置後 | P22: 応急措置後
A23: 応急処置内容 | N23: 応急処置内容
A24: 所見 | D24: 舗装にひびわれ10mm×1200mmが生じている。 | N24: 所見 | Q24: 舗装にわだち掘れ30mmが生じている(遠景)。
A25: 備考欄 | D25: 前回点検時からの損傷・劣化の進行は認められない。 | N25: 備考欄 | Q25: 前回点検時からの損傷・劣化の進行は認められない。
A26: ○部材単位の健全性の診断（判定区分）が、Ⅱ、Ⅲ又はⅣの部材について記載する。なお、同一部材で、変状の種類が異なる損傷がある場合は、変状の種類毎に記載する。
A27: ○写真は、不具合の程度が分かるように添付すること。

Sheet 様式２－２(10)
A1: 状況写真（損傷状況） | T1: 様式２－２（10）
A4: 施設名 （形式） | C4: =#REF! -> #REF! | G4: 路線名 | J4: =#REF! -> #REF! | N4: 定期点検者 | P4: =#REF! -> #REF! | T4: 点検年月日 | W4: =#REF! -> #REF!
C5: =#REF! -> #REF! | G5: 管理者名 | J5: =#REF! -> #REF!
A7: 写真番号 | D7: 37 | F7: 写真 | N7: 写真番号 | Q7: =D7+1 -> 38 | S7: 写真
A8: 部材名 | D8: 上部道路 | N8: 部材名 | Q8: その他
D9: 上部01 | Q9: その他(法面)
A10: 変状の種類 | D10: 路上施設の変状(わだち掘れ) | N10: 変状の種類 | Q10: その他(植生)
A11: 健全性 の診断 | C11: 定期 点検時 | D11: Ⅱ | N11: 健全性 の診断 | P11: 定期 点検時 | Q11: Ⅱ
C12: 応急措置後 | P12: 応急措置後
A13: 応急処置内容 | N13: 応急処置内容
A14: 所見 | D14: 舗装にわだち掘れ30mmが生じている(近景)。 | N14: 所見 | Q14: 植生が生じている。
A15: 備考欄 | D15: 前回点検時からの損傷・劣化の進行は認められない。 | N15: 備考欄 | Q15: 前回点検時からの損傷・劣化の進行は認められない。
A17: 写真番号 | D17: 39 | F17: 写真 | N17: 写真番号
A18: 部材名 | D18: その他 | N18: 部材名
D19: その他(法面)
A20: 変状の種類 | D20: その他(植生) | N20: 変状の種類
A21: 健全性 の診断 | C21: 定期 点検時 | D21: Ⅱ | N21: 健全性 の診断 | P21: 定期 点検時
C22: 応急措置後 | P22: 応急措置後
A23: 応急処置内容 | N23: 応急処置内容
A24: 所見 | D24: 植生が生じている。 | N24: 所見
A25: 備考欄 | D25: 前回点検時の写真無し。 | N25: 備考欄
A26: ○部材単位の健全性の診断（判定区分）が、Ⅱ、Ⅲ又はⅣの部材について記載する。なお、同一部材で、変状の種類が異なる損傷がある場合は、変状の種類毎に記載する。
A27: ○写真は、不具合の程度が分かるように添付すること。

Sheet 様式３
A1: 概要図（損傷状況） | M1: 様式３（1）
A4: 大型カルバート名 | C4: =#REF! -> #REF! | E4: 路線種類 | F4: 一般県道 | H4: 定期点検者 | I4: =#REF! -> #REF! | K4: 管理者名 | L4: =#REF! -> #REF!
E5: 路線名 | F5: 秋吉台公園線 | H5: 定期点検責任者 | I5: 﨑村 浩亘 | K5: 点検年月日 | L5: =#REF! -> #REF!
A7: 概要図
A41: ○様式２（1）に写真を貼り付けた箇所については、全て概要図上に位置を落とすこと。
